{"text_format":"1","workbook":"xlsx","n_sheets":6,"sheets":["What is the SSD Generator","How to Use the SSD Generator","How are SSDs generated","Step 1) Select Data","Step 2) Calculate","Step 3) Fit Distribution"],"not_rendered":{"charts":1,"images":1,"macros":1,"external_links":0,"defined_names":17,"comments":0,"pivot_tables":0},"unopened":[],"bounds":{"document_bytes":16777216,"sheet_cells":100000,"rows_first":2000,"rows_last":500,"rows_between":2000,"halvings":0,"cell_chars":16384,"cell_head_chars":4096},"cells_cut":0,"cells_raw":0,"read":"whole","date_system":"1900"}

{"sheet":"What is the SSD Generator","index":0,"n_rows":33,"n_cols":2,"rows_kept":33,"cut":false,"hidden":false,"merged":[[28,1,28,20],[32,1,32,20],[30,1,30,20],[18,1,20,12],[4,1,4,20],[22,1,24,20],[16,1,16,12],[5,1,5,12],[7,1,10,12],[14,1,14,12]]}
[]
[]
[null,"Introduction:  What is the 'Species Sensitivity Distribution Generator'?"]
[]
[null,"The Species Sensitivity Distribution Generator is a tool to create custom Species Sensitivity Distributions (SSDs).  It fits a commonly applied distribution, the log-probit (i.e., linearized log-normal) to data for concentrations at which different species exhibit a standard response to a stressor.  Using this tool, you may place stressor concentration data from your site in context of concentration-response data you selected for inclusion in an SSD.  You may use your own data, data from the ECOTOX database or data from the CADDIS Metals SSD Library."]
[null,"What are species sensitivity distributions?"]
[]
[null,"Species sensitivity distributions (SSDs, example at right) model the variation in the sensitivity of different species to a stressor.  SSDs assist in the interpretation of site data for stressor identification and risk assessment by relating them to the proportion of species expected to be affected at prescribed concentrations.  SSDs are usually created using data from laboratory toxicity tests."]
[]
[]
[]
[]
[null,"Creation of an SSD involves three basic steps:"]
[]
[null,"1) Select data for the exposure intensities at which different species exhibit a standard response to the stressor."]
[null,"          "]
[null,"2) Calculate proportions by first ranking these data from lowest to highest, then converting ranks to proportions:  Proportion=(Rank-0.5)/Number of Species."]
[]
[null,"3) Fit a statistical or empirical distribution to Proportion (y axis) vs Stressor Intensity (x axis)"]
[]
[]
[null,"Key Concept"]
[null,"Standard Response:  An equivalent response such as the concentration at which half of the individuals exposed die (LC50) or the concentration at which reproduction is reduced by 20% (EC20)."]
[]
[]
[]
[null,"Citations    "]
[]
[null,"Neter, J., W. Wasserman and M.H. Kutner.  1990.  Applied Linear Statistical Models, 3rd ed.  Irwin, Boston, MA. 1184 pp."]
[]
[null,"Posthuma, L., G.W. Suter II, and TP Traas.  2002.  Species Sensitivity Distributions in Ecotoxicology.  Lewis Publishers, Boca Raton, FL. 587 pp."]
[]
[null,"U.S. Environmental Protection Agency (EPA). 2005. Methods/indicators for determining when metals are the cause of biological impairments of rivers and streams: species sensitivity distributions and chronic exposure-response relationships from laboratory data.  Cincinnati, Ohio, U.S. EPA, Office of Research and Development, National Center for Environmental Assessment. "]

{"sheet":"How to Use the SSD Generator","index":1,"n_rows":18,"n_cols":4,"rows_kept":18,"cut":false,"hidden":false,"merged":[[12,3,12,20],[6,3,6,20],[7,3,7,20],[8,3,8,20],[3,1,3,20],[13,3,13,20],[16,1,16,20],[17,1,17,20],[5,3,5,4],[9,3,9,20],[10,3,10,20],[11,3,11,20]]}
[]
[]
[null,"How to use the Species Sensitivity Distribution Generator"]
[null,"As with any analysis tool, it is important to consider the scientific and statistical assumptions and uncertainties associated with the generation and application of SSDs.  You are encouraged to review the CADDIS module on Analyzing Data, which includes advice on data selection strategies for generating SSDs and their appropriate application in stressor identification.  You are also encouraged to review the text Species Sensitivity Distributions in Ecotoxicology (Posthuma et al., 2002). "]
[]
[null,null,"Step","Instructions"]
[null,null,"1) Select Data","Paste or type data into the Step1) Select Data worksheet.  You may use your own data, data from the ECOTOX database or data from the CADDIS Metals SSD Library.  NOTE: Up to ~2000 data lines may be processed."]
[null,null,"à","There are four critical fields (columns) in this worksheet.  Data screening decisions are recorded in columns A and B.  The taxon names are recorded in column C and the exposure concentrations are recorded in column D.  Additional important information about your data, such as the response observed, the study design, important water chemistry conditions, organism life stage, taxon functional feeding group, and source of the data should be included with the dataset in the remaining columns."]
[null,null,"à","Screen for data lines that will not be included in the analysis and identify those data to be omitted from analysis in column A: Omit Data line?  You may type any character in this column to identify data to be omitted from the analysis.  Be sure and provide a justification for omitting these data lines in column B: Cause for omission.  Reasons for omission can include inappropriate species, exposure condition, life stage, chemical form etc.  "]
[null,null,"à","Once data are selected, create your SSD by clicking on the green GO button or striking [Ctrl] [D] to invoke the macro \"SortEditedData\".  This will sort the data by the data lines to be omitted (column A) and by taxa (column C), it then performs Step 2) Calculate and opens the print preview of the results from the Step 3) Fit Distribution worksheet."]
[null,null,"2) Calculate","Examine the calculations in the Step 2) Calculate worksheet (see \"How are SSDs generated?\" below).  The cells on this work sheet are write protected to prevent accidental revision of the equations.  "]
[null,null,"à","If you wish to edit the worksheet  to change how calculations are performed, in the Excel toolbar; select Tools > Protection > Unprotect Sheet, then type in the password 'unprotect'."]
[null,null,"3) Fit Distribution","Examine the output tables and fitted plot in the Step 3) Fit Distribution worksheet.  The plot and data tables my be reformatted and/or extracted into a report."]
[null,null,"à","Enter site-specific stressor levels data in the blue shaded cells of the 'Fit Distribution' worksheet to plot site data against the SSD.  "]
[]
[null,"Key Concepts:"]
[null,"Data Selection Strategies:  The utility of an SSD depends on the quality and relevance of the data used, which are usually secondary data taken from literature or a database.  Ideally an SSD is generated using data for the same type and level of effect under similar exposure conditions.  That is to say, you would not pool data for chronic sub lethal effects like reduction in reproduction or growth with LC50 data.  Depending on the objective of the analysis, the types of taxa selected for an SSD may span several taxonomic groups or fall within a single group (e.g., Arthropods, Salmonids).  It may be helpful to distinguish between early and late life stages of a species on an SSD as they will differ in sensitivity.  "]
[null,"Application in Stressor Identification: Stressor Identification can use SSDs to provide evidence that the concentrations at the impaired site are great enough to have caused the observed impairment. This method was applied in the report Methods/indicators for determining when metals are the cause of biological impairments of rivers and streams (EPA 2005).  Observation points on an SSD are traditionally labeled with the taxa names.  "]

{"sheet":"How are SSDs generated","index":2,"n_rows":37,"n_cols":20,"rows_kept":37,"cut":false,"hidden":false,"merged":[[10,17,11,17],[7,1,7,8],[10,13,11,13],[10,14,11,14],[10,15,11,15],[10,16,11,16],[9,12,9,13],[9,14,9,15],[31,14,31,17],[32,11,32,12],[20,13,21,14],[20,16,21,17],[23,15,23,16],[23,17,23,19],[6,0,6,11],[10,12,11,12],[3,1,4,20],[8,1,8,8],[34,11,38,20],[22,0,23,10],[12,0,14,9],[16,0,16,8],[18,13,19,14],[24,0,27,9]]}
[]
[]
[null,"Calculations behind an SSD"]
[null,"INPUT:  A list of taxa and stressor intensities at which a standard response is observed.   With chemicals, LC50 data are often used to reflect expected population decline."]
[]
["First:  Regress Log10Mean (X axis) * Probit (Y axis) to obtain central tendency"]
["1) Calculate the mean and log10 of the mean for each taxon (Obs).  A geometric mean may be more appropriate for highly skewed data, but this may give an outlier excessive weight if there are few data."]
[null,"The arithmetic mean is given by: (x1+x2+x3…xn)/n"]
[null,"The geometric mean is given by: (x1*x2*x3…xn)1/n"]
[null,null,null,null,null,null,null,null,null,null,null,null,"Step 1",null,"Step 2",null,"Step 3","Step 5"]
["2) Convert ranks to proportions: Proportion=(rank-0.5)/NumSpecies.",null,null,null,null,null,null,null,null,null,null,null,"Mean","Log10 Mean (Obs)","Rank","Proportion","Probit","Central Tendency (Pred)"]
[null,null,null,null,null,null,null,null,null,null,null,"Taxa"]
["3) Transform proportions to probit.  The probit is the inverse cumulative distribution function of the normal distribution with a mean of 5 and a standard deviation of 1.  A mean of 5 is chosen to ensure that all probit values are non-negative.",null,null,null,null,null,null,null,null,null,null,"Ictalurus punctatus",1.3227208951076177,0.1214682141782225,1,0.1,3.7184484344553996,0.1194352215912549]
[null,null,null,null,null,null,null,null,null,null,null,"Lepomis gibbosus",2.2000000000000002,0.34242268082220628,2,0.3,4.4755994872919587,0.30816359266492283]
[null,null,null,null,null,null,null,null,null,null,null,"Danio rerio",2.5,0.3979400086720376,3,0.5,5,0.43887628755296487]
[null,null,null,null,null,null,null,null,null,null,null,"Lepomis cyanellus",3.68,0.56584781867351763,4,0.7,5.5244005127080404,0.56958898244100675]
["4) Calculate the slope and intercept for Log10Mean (X axis) * Probit (Y axis).",null,null,null,null,null,null,null,null,null,null,"Lepomis macrochirus",5.8438991883223741,0.76670271541884061,5,0.9,6.2815515655445999,0.75831735351467477]
[]
["5) Calculate the log 10 central tendency (Pred) for the regression line:",null,null,null,null,null,null,null,null,null,null,null,null,"Step  4:",null,"Slope","Intercept"]
[null,"log 10 CentralTendency=(Probit-Intercept)/Slope",null,null,null,null,null,null,null,null,null,null,null,null,null,4.0118560263576581,3.2392915209551614]
[null,null,null,null,null,null,null,null,null,null,null,null,null,"Step 5 ex.   ",null,"(3.72 - 3.24) ","  =  0.1194"]
["Then:  Calculate Prediction Intervals (after Neter et al. 1990)",null,null,null,null,null,null,null,null,null,null,null,null,null,null,"      4.01"]
["6) Calculate the Mean Squared Error (MSE): For each taxon, subtract the observed log10 mean (Obs) from the log10central tendency (Pred), square, add these values and divide by n-2. In this case with 5 taxa, divide by 3."]
[null,null,null,null,null,null,null,null,null,null,null,null,"Step 6","Step 7","Step  9","Step  10",null,"Step  11"]
["7) Calculate the Corrected Sum of Squares (CSSQ): For each taxon, square each probit value then sum (this is the sum of squares).  Next, sum the probit values for all taxa, square that and divide by the number of taxa (this is the average sum squared).  Subtract the average sum squared from the total sum of squares to get the CSSQ.",null,null,null,null,null,null,null,null,null,null,"Taxa","(Obs-Pred)2","Probit2","Point Error","log10 Upper PI","log 10 Lower PI","Central Tendency","Upper PI","Lower PI"]
[null,null,null,null,null,null,null,null,null,null,null,"Ictalurus punctatus",4.133058858665202E-6,13.826858759703812,4.4779988826045777E-5,0.13291949241415518,0.10595095076835463,1.3165435253419908,1.3580616717989442,1.2762946559149515]
[null,null,null,null,null,null,null,null,null,null,null,"Lepomis gibbosus",1.1736851213685197E-3,20.030990770648042,4.3971191798938483E-5,0.32152553504047365,0.294801650289372,2.0331227156394931,2.0966480524522417,1.971522102631702]
[null,null,null,null,null,null,null,null,null,null,null,"Danio rerio",1.6757789286170519E-3,25,4.380853320681074E-5,0.4522134927270765,0.42553908237885324,2.7471115037480871,2.8327842082847883,2.6640298233639377]
[null,null,null,null,null,null,null,null,null,null,null,"Lepomis cyanellus",1.3996306335173383E-5,30.519001024808862,4.3971191798938483E-5,0.58295092481655753,0.55622704006545598,3.7118377341287925,3.8278148664686045,3.5993745374663804]
["8) Calculate the GrandMean - this is the average of all log10 exposure values.  ",null,null,null,null,null,null,null,null,null,null,"Lepomis macrochirus",7.0314294263835648E-5,39.457890070595816,4.4779988826045777E-5,0.77180162433757504,0.74483308269177451,5.7321474518396451,5.9129148422352715,5.5569064135566917]
[null,null,null,null,null,null,null,null,null,null,null,null,"MSE= S/n =5.88E-04","S =128.83"]
["9) Calculate the PointError:",null,null,"(MSE/(Slope2))*(1+(1/n)+((Pred-Grand Mean)2)",null,null,null,null,null,null,null,null,"   (Sprobit)2/n = 125.00  ",null,"Step 8: Grand Mean   SObs/n = 0.44"]
[null,null,null,null,null,null,"(CSSQ)",null,null,null,null,"CSSQ = ",null,"   3.83"]
["10) Calculate the prediction intervals (PI) using the critical t value (for n=5, tCrit= 2.02) "]
["logPI=logCentralTendency +/- tCrit*(SQRT(PointError)) ",null,null,null,null,null,null,null,null,null,null,"NOTE: The parameters obtained may be used to derive benchmark values.  In Step 3) Fit Distribution, the concentrations corresponding to probit values of 3.335-6.645 (0.05-0.95 proportion taxa affected) are calculated."]
[]
["11) Back convert from log value: 10value "]

{"sheet":"Step 1) Select Data","index":3,"n_rows":24,"n_cols":5,"rows_kept":24,"cut":false,"hidden":false,"merged":[[2,1,2,12],[3,1,4,12],[5,1,5,12],[6,1,6,12],[14,1,14,12],[7,1,7,12],[8,1,8,12],[9,1,9,12],[10,1,10,12],[11,1,11,12],[12,1,12,12]]}
[]
[null,"Step 1) Select Data"]
[null,"Paste or type in your data [below].  The four critical fields (columns) of this worksheet are described below.  Use the remaining columns to include additional important information about your data.  We recommend including the response observed, the study design, important water chemistry conditions, organism life stage, taxon functional feeding group, and source of the data."]
[null,"Column A: The \"Omit Data Line?\" field, is reserved for data screening.  If anything is typed in this column, the data line will not be included in the analysis."]
[]
[null,"Omit any undesired data lines.  If you would like to eliminate some data from the collection, indicate so in the \"Omit Data Line?\"  field, column A.  You may type anything to flag data lines to be omitted (\"X\", \"omit\", \"no\", etc).  Reasons for omitting data lines include:  "]
[null,"Column B: The \"Cause for Omission\" field, is for ensuring transparency in data screening.  If anything is typed in column A, this column should explain the reason for omitting the data line."]
[null,"If you pasted data from another source, it is likely that the top line has labels identifying the type of information in each column.  You would want to flag this data line for omission and type something like \"not data\" in the \"Cause for Omission\" field.  "]
[null,"SSDs should contain data for a standard response,  perhaps include only LC50 data.  You would want to  flag non-LC50 data lines for omission and type something like \"not LC50\" in Column B."]
[null,"SSDs should contain data for appropriate species, exposure condition, life stage, chemical form etc."]
[null,"Column C: The \"Taxa\" field, must contain the taxon names for the organisms in the dataset."]
[null,"Column D: The \"Exposure\" field, must contain the exposure intensity at which the effect was observed.  Check that exposure concentration units are consistent."]
[]
[]
[null,"Give your SSD a Title:  Type a descriptive title such as \"Cadmium LC50s for adult fish exposed at neutral pH in hard water\" for the SSD into the blue title box below.   "]
[]
[null,"Generate your Species Sensitivity Distribution: Once data are edited, NOW mouse click on the green GO button below (or strike [Ctrl] [D]) to make your SSD.  "]
[null,"This will:","1. Sort the data by whether or not data line is to be omitted (Column A); "]
[null,null,"2. Sort the taxa (Column C);  "]
[null,null,"3. Copy results from the \"Step 2) Calculate\" worksheet into the \"Step 3) Fit Distribution\" worksheet; and "]
[null,null,"4. Generate the SSD plot and summary data on the \"Step 3) Fit Distribution\" worksheet.  "]
[null,null,"You will be directed to a print preview of the \"Step 3) Fit Distribution\" worksheet"]
[null,"Title:"]
[null,"Column A                Omit Data Line?","Column B             Cause for Omission","Column C                      Taxa","Column D         Exposure:        check units!"]

{"sheet":"Step 2) Calculate","index":4,"n_rows":2004,"n_cols":18,"rows_kept":2004,"cut":false,"hidden":false,"merged":[]}
[]
[]
[null,"Step 2) Calculate"]
[null,{"$f":"'Step 1) Select Data'!B23","v":"Title:"},{"$f":"IF('Step 1) Select Data'!C23=\"\",\"\",'Step 1) Select Data'!C23)","v":""}]
[null,"Taxa","Obs/ Species","Exposure mg/L","Taxon Log Exposure Geometric Mean","Standard Deviation","TaxonMean","Proportion","Rank","Probit","Probit Predicted","Difference2","Counting Obs/ Species","Running product exposure mean","Means","N","Difference Squared","Running Sum of Difference Squared"]
[null,{"$f":"IF(AND('Step 1) Select Data'!B25=\"\",'Step 1) Select Data'!D25<>\"\"),'Step 1) Select Data'!D25,\"\")","v":""},{"$f":"IF(B6=\"\",\"\",IF(OR(M6>=M7,M7=\"\"),M6,\"\"))","v":""},{"$f":"IF(B6=\"\",\"\",'Step 1) Select Data'!E25)","v":""},{"$f":"IF(C6=\"\",\"\",LOG10(N6)*(1/C6))","v":""},{"$f":"IF(OR(M6=\"\",C6=1),\"\",IF(C6=\"\",\"\",SQRT(R6/(C6-1))))","v":""},{"$f":"IF(E6=\"\",\"\",10^E6)","v":""},{"$f":"IF(I6=\"\",\"\",(I6-0.5)/COUNT($E$6:$E$2004))","v":""},{"$f":"IF(E6=\"\",\"\",RANK(E6,$E$6:$E$2004,1))","v":""},{"$f":"IF(H6=\"\",\"\",NORMINV(H6,5,1))","v":""},{"$f":"IF(J6=\"\",\"\",'Step 3) Fit Distribution'!$F$3*E6+'Step 3) Fit Distribution'!$F$4)","v":""},{"$f":"IF(K6=\"\",\"\",(K6-J6)^2)","v":""},{"$f":"IF(B6=\"\",\"\",IF(B6<>B5,1,M5+1))","v":""},{"$f":"IF(B6=\"\",\"\",IF(B6<>B5,ROUND(D6,4),ROUND(D6,4)*N5))","v":""},{"$f":"IF(OR(M6=\"\",C6=1),\"\",IF(AND(M6<>\"\",C6=\"\",E6=\"\"),O7,E6))","v":""},{"$f":"IF(OR(M6=\"\",C6=1),\"\",IF(AND(M6<>\"\",C6=\"\",E6=\"\"),P7,C6))","v":""},{"$f":"IF(O6=\"\",\"\",ROUND(LOG(D6)-O6,4)^2)","v":""},{"$f":"IF(Q6=\"\",\"\",IF(O6=O5,Q6+R5,Q6))","v":""}]
[null,{"$f":"IF(AND('Step 1) Select Data'!B26=\"\",'Step 1) Select Data'!D26<>\"\"),'Step 1) Select Data'!D26,\"\")","v":""},{"$f":"IF(B7=\"\",\"\",IF(OR(M7>=M8,M8=\"\"),M7,\"\"))","v":""},{"$f":"IF(B7=\"\",\"\",'Step 1) Select Data'!E26)","v":""},{"$f":"IF(C7=\"\",\"\",LOG10(N7)*(1/C7))","v":""},{"$f":"IF(OR(M7=\"\",C7=1),\"\",IF(C7=\"\",\"\",SQRT(R7/(C7-1))))","v":""},{"$f":"IF(E7=\"\",\"\",10^E7)","v":""},{"$f":"IF(I7=\"\",\"\",(I7-0.5)/COUNT($E$6:$E$2004))","v":""},{"$f":"IF(E7=\"\",\"\",RANK(E7,$E$6:$E$2004,1))","v":""},{"$f":"IF(H7=\"\",\"\",NORMINV(H7,5,1))","v":""},{"$f":"IF(J7=\"\",\"\",'Step 3) Fit Distribution'!$F$3*E7+'Step 3) Fit Distribution'!$F$4)","v":""},{"$f":"IF(K7=\"\",\"\",(K7-J7)^2)","v":""},{"$f":"IF(B7=\"\",\"\",IF(B7<>B6,1,M6+1))","v":""},{"$f":"IF(B7=\"\",\"\",IF(B7<>B6,ROUND(D7,4),ROUND(D7,4)*N6))","v":""},{"$f":"IF(OR(M7=\"\",C7=1),\"\",IF(AND(M7<>\"\",C7=\"\",E7=\"\"),O8,E7))","v":""},{"$f":"IF(OR(M7=\"\",C7=1),\"\",IF(AND(M7<>\"\",C7=\"\",E7=\"\"),P8,C7))","v":""},"",{"$f":"IF(Q7=\"\",\"\",IF(O7=O6,Q7+R6,Q7))","v":""}]
[null,{"$f":"IF(AND('Step 1) Select Data'!B27=\"\",'Step 1) Select Data'!D27<>\"\"),'Step 1) Select Data'!D27,\"\")","v":""},{"$f":"IF(B8=\"\",\"\",IF(OR(M8>=M9,M9=\"\"),M8,\"\"))","v":""},{"$f":"IF(B8=\"\",\"\",'Step 1) Select Data'!E27)","v":""},{"$f":"IF(C8=\"\",\"\",LOG10(N8)*(1/C8))","v":""},"","",{"$f":"IF(I8=\"\",\"\",(I8-0.5)/COUNT($E$6:$E$2004))","v":""},"","",{"$f":"IF(J8=\"\",\"\",'Step 3) Fit Distribution'!$F$3*E8+'Step 3) Fit Distribution'!$F$4)","v":""},"","","","","","",""]
[null,{"$f":"IF(AND('Step 1) Select Data'!B28=\"\",'Step 1) Select Data'!D28<>\"\"),'Step 1) Select Data'!D28,\"\")","v":""},"",{"$f":"IF(B9=\"\",\"\",'Step 1) Select Data'!E28)","v":""},"","","","","","",{"$f":"IF(J9=\"\",\"\",'Step 3) Fit Distribution'!$F$3*E9+'Step 3) Fit Distribution'!$F$4)","v":""},"","","","","","",""]
[null,{"$f":"IF(AND('Step 1) Select Data'!B29=\"\",'Step 1) Select Data'!D29<>\"\"),'Step 1) Select Data'!D29,\"\")","v":""},"",{"$f":"IF(B10=\"\",\"\",'Step 1) Select Data'!E29)","v":""},"","","","","","",{"$f":"IF(J10=\"\",\"\",'Step 3) Fit Distribution'!$F$3*E10+'Step 3) Fit Distribution'!$F$4)","v":""},"","","","","","",""]
[null,{"$f":"IF(AND('Step 1) Select Data'!B30=\"\",'Step 1) Select Data'!D30<>\"\"),'Step 1) Select Data'!D30,\"\")","v":""},"",{"$f":"IF(B11=\"\",\"\",'Step 1) Select Data'!E30)","v":""},"","","","","","",{"$f":"IF(J11=\"\",\"\",'Step 3) Fit Distribution'!$F$3*E11+'Step 3) Fit Distribution'!$F$4)","v":""},"","","","","","",""]
[null,{"$f":"IF(AND('Step 1) Select Data'!B31=\"\",'Step 1) Select Data'!D31<>\"\"),'Step 1) Select Data'!D31,\"\")","v":""},"",{"$f":"IF(B12=\"\",\"\",'Step 1) Select Data'!E31)","v":""},"","","","","","",{"$f":"IF(J12=\"\",\"\",'Step 3) Fit Distribution'!$F$3*E12+'Step 3) Fit Distribution'!$F$4)","v":""},"","","","","","",""]
[null,{"$f":"IF(AND('Step 1) Select Data'!B32=\"\",'Step 1) Select Data'!D32<>\"\"),'Step 1) Select Data'!D32,\"\")","v":""},"",{"$f":"IF(B13=\"\",\"\",'Step 1) Select Data'!E32)","v":""},"","","","","","",{"$f":"IF(J13=\"\",\"\",'Step 3) Fit Distribution'!$F$3*E13+'Step 3) Fit Distribution'!$F$4)","v":""},"","","","","","",""]
[null,{"$f":"IF(AND('Step 1) Select Data'!B33=\"\",'Step 1) Select Data'!D33<>\"\"),'Step 1) Select Data'!D33,\"\")","v":""},"",{"$f":"IF(B14=\"\",\"\",'Step 1) Select Data'!E33)","v":""},"","","","","","",{"$f":"IF(J14=\"\",\"\",'Step 3) Fit Distribution'!$F$3*E14+'Step 3) Fit Distribution'!$F$4)","v":""},"","","","","","",""]
[null,{"$f":"IF(AND('Step 1) Select Data'!B34=\"\",'Step 1) Select Data'!D34<>\"\"),'Step 1) Select Data'!D34,\"\")","v":""},"",{"$f":"IF(B15=\"\",\"\",'Step 1) Select Data'!E34)","v":""},"","","","","","",{"$f":"IF(J15=\"\",\"\",'Step 3) Fit Distribution'!$F$3*E15+'Step 3) Fit Distribution'!$F$4)","v":""},"","","","","","",""]
[null,{"$f":"IF(AND('Step 1) Select Data'!B35=\"\",'Step 1) Select Data'!D35<>\"\"),'Step 1) Select Data'!D35,\"\")","v":""},"",{"$f":"IF(B16=\"\",\"\",'Step 1) Select Data'!E35)","v":""},"","","","","","",{"$f":"IF(J16=\"\",\"\",'Step 3) Fit Distribution'!$F$3*E16+'Step 3) Fit Distribution'!$F$4)","v":""},"","","","","","",""]
[null,{"$f":"IF(AND('Step 1) Select Data'!B36=\"\",'Step 1) Select Data'!D36<>\"\"),'Step 1) Select Data'!D36,\"\")","v":""},"",{"$f":"IF(B17=\"\",\"\",'Step 1) Select Data'!E36)","v":""},"","","","","","",{"$f":"IF(J17=\"\",\"\",'Step 3) Fit Distribution'!$F$3*E17+'Step 3) Fit Distribution'!$F$4)","v":""},"","","","","","",""]
[null,{"$f":"IF(AND('Step 1) Select Data'!B37=\"\",'Step 1) Select Data'!D37<>\"\"),'Step 1) Select Data'!D37,\"\")","v":""},"",{"$f":"IF(B18=\"\",\"\",'Step 1) Select Data'!E37)","v":""},"","","","","","",{"$f":"IF(J18=\"\",\"\",'Step 3) Fit Distribution'!$F$3*E18+'Step 3) Fit Distribution'!$F$4)","v":""},"","","","","","",""]
[null,{"$f":"IF(AND('Step 1) Select Data'!B38=\"\",'Step 1) Select Data'!D38<>\"\"),'Step 1) Select Data'!D38,\"\")","v":""},"",{"$f":"IF(B19=\"\",\"\",'Step 1) Select Data'!E38)","v":""},"","","","","","",{"$f":"IF(J19=\"\",\"\",'Step 3) Fit Distribution'!$F$3*E19+'Step 3) Fit Distribution'!$F$4)","v":""},"","","","","","",""]
[null,{"$f":"IF(AND('Step 1) Select Data'!B39=\"\",'Step 1) Select Data'!D39<>\"\"),'Step 1) Select Data'!D39,\"\")","v":""},"",{"$f":"IF(B20=\"\",\"\",'Step 1) Select Data'!E39)","v":""},"","","","","","",{"$f":"IF(J20=\"\",\"\",'Step 3) Fit Distribution'!$F$3*E20+'Step 3) Fit Distribution'!$F$4)","v":""},"","","","","",{"$f":"IF(O20=\"\",\"\",ROUND(LOG(D20)-O20,4)^2)","v":""},""]
[null,{"$f":"IF(AND('Step 1) Select Data'!B40=\"\",'Step 1) Select Data'!D40<>\"\"),'Step 1) Select Data'!D40,\"\")","v":""},"",{"$f":"IF(B21=\"\",\"\",'Step 1) Select Data'!E40)","v":""},"","","","","","",{"$f":"IF(J21=\"\",\"\",'Step 3) Fit Distribution'!$F$3*E21+'Step 3) Fit Distribution'!$F$4)","v":""},"","","","","","",""]
[null,{"$f":"IF(AND('Step 1) Select Data'!B41=\"\",'Step 1) Select Data'!D41<>\"\"),'Step 1) Select Data'!D41,\"\")","v":""},"",{"$f":"IF(B22=\"\",\"\",'Step 1) Select Data'!E41)","v":""},{"$f":"IF(C22=\"\",\"\",LOG10(N22)*(1/C22))","v":""},"","","","","",{"$f":"IF(J22=\"\",\"\",'Step 3) Fit Distribution'!$F$3*E22+'Step 3) Fit Distribution'!$F$4)","v":""},"","","","","","",""]
[null,{"$f":"IF(AND('Step 1) Select Data'!B42=\"\",'Step 1) Select Data'!D42<>\"\"),'Step 1) Select Data'!D42,\"\")","v":""},"",{"$f":"IF(B23=\"\",\"\",'Step 1) Select Data'!E42)","v":""},"","","","","","",{"$f":"IF(J23=\"\",\"\",'Step 3) Fit Distribution'!$F$3*E23+'Step 3) Fit Distribution'!$F$4)","v":""},"","","","","","",""]
[null,{"$f":"IF(AND('Step 1) Select Data'!B43=\"\",'Step 1) Select Data'!D43<>\"\"),'Step 1) Select Data'!D43,\"\")","v":""},"",{"$f":"IF(B24=\"\",\"\",'Step 1) Select Data'!E43)","v":""},{"$f":"IF(C24=\"\",\"\",LOG10(N24)*(1/C24))","v":""},{"$f":"IF(OR(M24=\"\",C24=1),\"\",IF(C24=\"\",\"\",SQRT(R24/(C24-1))))","v":""},{"$f":"IF(E24=\"\",\"\",10^E24)","v":""},"","","",{"$f":"IF(J24=\"\",\"\",'Step 3) Fit Distribution'!$F$3*E24+'Step 3) Fit Distribution'!$F$4)","v":""},"","",{"$f":"IF(B24=\"\",\"\",IF(B24<>B23,ROUND(D24,4),ROUND(D24,4)*N23))","v":""},"","","",{"$f":"IF(Q24=\"\",\"\",IF(O24=O23,Q24+R23,Q24))","v":""}]
[null,{"$f":"IF(AND('Step 1) Select Data'!B44=\"\",'Step 1) Select Data'!D44<>\"\"),'Step 1) Select Data'!D44,\"\")","v":""},"",{"$f":"IF(B25=\"\",\"\",'Step 1) Select Data'!E44)","v":""},"","","","","","",{"$f":"IF(J25=\"\",\"\",'Step 3) Fit Distribution'!$F$3*E25+'Step 3) Fit Distribution'!$F$4)","v":""},"","","","","","",""]
[null,{"$f":"IF(AND('Step 1) Select Data'!B45=\"\",'Step 1) Select Data'!D45<>\"\"),'Step 1) Select Data'!D45,\"\")","v":""},"",{"$f":"IF(B26=\"\",\"\",'Step 1) Select Data'!E45)","v":""},"","","","","","",{"$f":"IF(J26=\"\",\"\",'Step 3) Fit Distribution'!$F$3*E26+'Step 3) Fit Distribution'!$F$4)","v":""},"","","","","","",""]
[null,{"$f":"IF(AND('Step 1) Select Data'!B46=\"\",'Step 1) Select Data'!D46<>\"\"),'Step 1) Select Data'!D46,\"\")","v":""},"",{"$f":"IF(B27=\"\",\"\",'Step 1) Select Data'!E46)","v":""},"","","","","","",{"$f":"IF(J27=\"\",\"\",'Step 3) Fit Distribution'!$F$3*E27+'Step 3) Fit Distribution'!$F$4)","v":""},"","","","","","",""]
[null,{"$f":"IF(AND('Step 1) Select Data'!B47=\"\",'Step 1) Select Data'!D47<>\"\"),'Step 1) Select Data'!D47,\"\")","v":""},"",{"$f":"IF(B28=\"\",\"\",'Step 1) Select Data'!E47)","v":""},"","","","","","",{"$f":"IF(J28=\"\",\"\",'Step 3) Fit Distribution'!$F$3*E28+'Step 3) Fit Distribution'!$F$4)","v":""},"","","","","","",""]
[null,{"$f":"IF(AND('Step 1) Select Data'!B48=\"\",'Step 1) Select Data'!D48<>\"\"),'Step 1) Select Data'!D48,\"\")","v":""},"",{"$f":"IF(B29=\"\",\"\",'Step 1) Select Data'!E48)","v":""},"","","","","","",{"$f":"IF(J29=\"\",\"\",'Step 3) Fit Distribution'!$F$3*E29+'Step 3) Fit Distribution'!$F$4)","v":""},"","","","","","",""]
[null,{"$f":"IF(AND('Step 1) Select Data'!B49=\"\",'Step 1) Select Data'!D49<>\"\"),'Step 1) Select Data'!D49,\"\")","v":""},"",{"$f":"IF(B30=\"\",\"\",'Step 1) Select Data'!E49)","v":""},"","","","","","",{"$f":"IF(J30=\"\",\"\",'Step 3) Fit Distribution'!$F$3*E30+'Step 3) Fit Distribution'!$F$4)","v":""},"","","","","","",""]
[null,{"$f":"IF(AND('Step 1) Select Data'!B50=\"\",'Step 1) Select Data'!D50<>\"\"),'Step 1) Select Data'!D50,\"\")","v":""},"",{"$f":"IF(B31=\"\",\"\",'Step 1) Select Data'!E50)","v":""},"","","","","","",{"$f":"IF(J31=\"\",\"\",'Step 3) Fit Distribution'!$F$3*E31+'Step 3) Fit Distribution'!$F$4)","v":""},"","","","","","",""]
[null,{"$f":"IF(AND('Step 1) Select Data'!B51=\"\",'Step 1) Select Data'!D51<>\"\"),'Step 1) Select Data'!D51,\"\")","v":""},"",{"$f":"IF(B32=\"\",\"\",'Step 1) Select Data'!E51)","v":""},"","","","","","",{"$f":"IF(J32=\"\",\"\",'Step 3) Fit Distribution'!$F$3*E32+'Step 3) Fit Distribution'!$F$4)","v":""},"","","","","","",""]
[null,{"$f":"IF(AND('Step 1) Select Data'!B52=\"\",'Step 1) Select Data'!D52<>\"\"),'Step 1) Select Data'!D52,\"\")","v":""},"",{"$f":"IF(B33=\"\",\"\",'Step 1) Select Data'!E52)","v":""},"","","","","","",{"$f":"IF(J33=\"\",\"\",'Step 3) Fit Distribution'!$F$3*E33+'Step 3) Fit Distribution'!$F$4)","v":""},"","","","","","",""]
[null,{"$f":"IF(AND('Step 1) Select Data'!B53=\"\",'Step 1) Select Data'!D53<>\"\"),'Step 1) Select Data'!D53,\"\")","v":""},"",{"$f":"IF(B34=\"\",\"\",'Step 1) Select Data'!E53)","v":""},"","","","","","",{"$f":"IF(J34=\"\",\"\",'Step 3) Fit Distribution'!$F$3*E34+'Step 3) Fit Distribution'!$F$4)","v":""},"","","","","","",""]
[null,{"$f":"IF(AND('Step 1) Select Data'!B54=\"\",'Step 1) Select Data'!D54<>\"\"),'Step 1) Select Data'!D54,\"\")","v":""},"",{"$f":"IF(B35=\"\",\"\",'Step 1) Select Data'!E54)","v":""},"","","","","","",{"$f":"IF(J35=\"\",\"\",'Step 3) Fit Distribution'!$F$3*E35+'Step 3) Fit Distribution'!$F$4)","v":""},"","","","","","",""]
[null,{"$f":"IF(AND('Step 1) Select Data'!B55=\"\",'Step 1) Select Data'!D55<>\"\"),'Step 1) Select Data'!D55,\"\")","v":""},"",{"$f":"IF(B36=\"\",\"\",'Step 1) Select Data'!E55)","v":""},"","","","","","",{"$f":"IF(J36=\"\",\"\",'Step 3) Fit Distribution'!$F$3*E36+'Step 3) Fit Distribution'!$F$4)","v":""},"","","","","","",""]
[null,{"$f":"IF(AND('Step 1) Select Data'!B56=\"\",'Step 1) Select Data'!D56<>\"\"),'Step 1) Select Data'!D56,\"\")","v":""},"",{"$f":"IF(B37=\"\",\"\",'Step 1) Select Data'!E56)","v":""},"","","","","","",{"$f":"IF(J37=\"\",\"\",'Step 3) Fit Distribution'!$F$3*E37+'Step 3) Fit Distribution'!$F$4)","v":""},"","","","","","",""]
[null,{"$f":"IF(AND('Step 1) Select Data'!B57=\"\",'Step 1) Select Data'!D57<>\"\"),'Step 1) Select Data'!D57,\"\")","v":""},"",{"$f":"IF(B38=\"\",\"\",'Step 1) Select Data'!E57)","v":""},"","","","","","",{"$f":"IF(J38=\"\",\"\",'Step 3) Fit Distribution'!$F$3*E38+'Step 3) Fit Distribution'!$F$4)","v":""},"","","","","","",""]
[null,{"$f":"IF(AND('Step 1) Select Data'!B58=\"\",'Step 1) Select Data'!D58<>\"\"),'Step 1) Select Data'!D58,\"\")","v":""},"",{"$f":"IF(B39=\"\",\"\",'Step 1) Select Data'!E58)","v":""},"","","","","","",{"$f":"IF(J39=\"\",\"\",'Step 3) Fit Distribution'!$F$3*E39+'Step 3) Fit Distribution'!$F$4)","v":""},"","","","","","",""]
[null,{"$f":"IF(AND('Step 1) Select Data'!B59=\"\",'Step 1) Select Data'!D59<>\"\"),'Step 1) Select Data'!D59,\"\")","v":""},"",{"$f":"IF(B40=\"\",\"\",'Step 1) Select Data'!E59)","v":""},"","","","","","",{"$f":"IF(J40=\"\",\"\",'Step 3) Fit Distribution'!$F$3*E40+'Step 3) Fit Distribution'!$F$4)","v":""},"","","","","","",""]
[null,{"$f":"IF(AND('Step 1) Select Data'!B60=\"\",'Step 1) Select Data'!D60<>\"\"),'Step 1) Select Data'!D60,\"\")","v":""},"",{"$f":"IF(B41=\"\",\"\",'Step 1) Select Data'!E60)","v":""},"","","","","","",{"$f":"IF(J41=\"\",\"\",'Step 3) Fit Distribution'!$F$3*E41+'Step 3) Fit Distribution'!$F$4)","v":""},"","","","","","",""]
[null,{"$f":"IF(AND('Step 1) Select Data'!B61=\"\",'Step 1) Select Data'!D61<>\"\"),'Step 1) Select Data'!D61,\"\")","v":""},"",{"$f":"IF(B42=\"\",\"\",'Step 1) Select Data'!E61)","v":""},"","","","","","",{"$f":"IF(J42=\"\",\"\",'Step 3) Fit Distribution'!$F$3*E42+'Step 3) Fit Distribution'!$F$4)","v":""},"","","","","","",""]
[null,{"$f":"IF(AND('Step 1) Select Data'!B62=\"\",'Step 1) Select Data'!D62<>\"\"),'Step 1) Select Data'!D62,\"\")","v":""},"",{"$f":"IF(B43=\"\",\"\",'Step 1) Select Data'!E62)","v":""},"","","","","","",{"$f":"IF(J43=\"\",\"\",'Step 3) Fit Distribution'!$F$3*E43+'Step 3) Fit Distribution'!$F$4)","v":""},"","","","","","",""]
[null,{"$f":"IF(AND('Step 1) Select Data'!B63=\"\",'Step 1) Select Data'!D63<>\"\"),'Step 1) Select Data'!D63,\"\")","v":""},"",{"$f":"IF(B44=\"\",\"\",'Step 1) Select Data'!E63)","v":""},"","","","","","",{"$f":"IF(J44=\"\",\"\",'Step 3) Fit Distribution'!$F$3*E44+'Step 3) Fit Distribution'!$F$4)","v":""},"","","","","","",""]
[null,{"$f":"IF(AND('Step 1) Select Data'!B64=\"\",'Step 1) Select Data'!D64<>\"\"),'Step 1) Select Data'!D64,\"\")","v":""},"",{"$f":"IF(B45=\"\",\"\",'Step 1) Select Data'!E64)","v":""},"","","","","","",{"$f":"IF(J45=\"\",\"\",'Step 3) Fit Distribution'!$F$3*E45+'Step 3) Fit Distribution'!$F$4)","v":""},"","","","","","",""]
[null,{"$f":"IF(AND('Step 1) Select Data'!B65=\"\",'Step 1) Select Data'!D65<>\"\"),'Step 1) Select Data'!D65,\"\")","v":""},"",{"$f":"IF(B46=\"\",\"\",'Step 1) Select Data'!E65)","v":""},"","","","","","",{"$f":"IF(J46=\"\",\"\",'Step 3) Fit Distribution'!$F$3*E46+'Step 3) Fit Distribution'!$F$4)","v":""},"","","","","","",""]
[null,{"$f":"IF(AND('Step 1) Select Data'!B66=\"\",'Step 1) Select Data'!D66<>\"\"),'Step 1) Select Data'!D66,\"\")","v":""},"",{"$f":"IF(B47=\"\",\"\",'Step 1) Select Data'!E66)","v":""},"","","","","","",{"$f":"IF(J47=\"\",\"\",'Step 3) Fit Distribution'!$F$3*E47+'Step 3) Fit Distribution'!$F$4)","v":""},"","","","","","",""]
[null,{"$f":"IF(AND('Step 1) Select Data'!B67=\"\",'Step 1) Select Data'!D67<>\"\"),'Step 1) Select Data'!D67,\"\")","v":""},"",{"$f":"IF(B48=\"\",\"\",'Step 1) Select Data'!E67)","v":""},"","","","","","",{"$f":"IF(J48=\"\",\"\",'Step 3) Fit Distribution'!$F$3*E48+'Step 3) Fit Distribution'!$F$4)","v":""},"","","","","","",""]
[null,{"$f":"IF(AND('Step 1) Select Data'!B68=\"\",'Step 1) Select Data'!D68<>\"\"),'Step 1) Select Data'!D68,\"\")","v":""},"",{"$f":"IF(B49=\"\",\"\",'Step 1) Select Data'!E68)","v":""},"","","","","","",{"$f":"IF(J49=\"\",\"\",'Step 3) Fit Distribution'!$F$3*E49+'Step 3) Fit Distribution'!$F$4)","v":""},"","","","","","",""]
[null,{"$f":"IF(AND('Step 1) Select Data'!B69=\"\",'Step 1) Select Data'!D69<>\"\"),'Step 1) Select Data'!D69,\"\")","v":""},"",{"$f":"IF(B50=\"\",\"\",'Step 1) Select Data'!E69)","v":""},"","","","","","",{"$f":"IF(J50=\"\",\"\",'Step 3) Fit Distribution'!$F$3*E50+'Step 3) Fit Distribution'!$F$4)","v":""},"","","","","","",""]
[null,{"$f":"IF(AND('Step 1) Select Data'!B70=\"\",'Step 1) Select Data'!D70<>\"\"),'Step 1) Select Data'!D70,\"\")","v":""},"",{"$f":"IF(B51=\"\",\"\",'Step 1) Select Data'!E70)","v":""},"","","","","","",{"$f":"IF(J51=\"\",\"\",'Step 3) Fit Distribution'!$F$3*E51+'Step 3) Fit Distribution'!$F$4)","v":""},"","","","","","",""]
[null,{"$f":"IF(AND('Step 1) Select Data'!B71=\"\",'Step 1) Select Data'!D71<>\"\"),'Step 1) Select Data'!D71,\"\")","v":""},"",{"$f":"IF(B52=\"\",\"\",'Step 1) Select Data'!E71)","v":""},"","","","","","",{"$f":"IF(J52=\"\",\"\",'Step 3) Fit Distribution'!$F$3*E52+'Step 3) Fit Distribution'!$F$4)","v":""},"","","","","","",""]
[null,{"$f":"IF(AND('Step 1) Select Data'!B72=\"\",'Step 1) Select Data'!D72<>\"\"),'Step 1) Select Data'!D72,\"\")","v":""},"",{"$f":"IF(B53=\"\",\"\",'Step 1) Select Data'!E72)","v":""},"","","","","","",{"$f":"IF(J53=\"\",\"\",'Step 3) Fit Distribution'!$F$3*E53+'Step 3) Fit Distribution'!$F$4)","v":""},"","","","","","",""]
[null,{"$f":"IF(AND('Step 1) Select Data'!B73=\"\",'Step 1) Select Data'!D73<>\"\"),'Step 1) Select Data'!D73,\"\")","v":""},"",{"$f":"IF(B54=\"\",\"\",'Step 1) Select Data'!E73)","v":""},"","","","","","",{"$f":"IF(J54=\"\",\"\",'Step 3) Fit Distribution'!$F$3*E54+'Step 3) Fit Distribution'!$F$4)","v":""},"","","","","","",""]
[null,{"$f":"IF(AND('Step 1) Select Data'!B74=\"\",'Step 1) Select Data'!D74<>\"\"),'Step 1) Select Data'!D74,\"\")","v":""},"",{"$f":"IF(B55=\"\",\"\",'Step 1) Select Data'!E74)","v":""},"","","","","","",{"$f":"IF(J55=\"\",\"\",'Step 3) Fit Distribution'!$F$3*E55+'Step 3) Fit Distribution'!$F$4)","v":""},"","","","","","",""]
[null,{"$f":"IF(AND('Step 1) Select Data'!B75=\"\",'Step 1) Select Data'!D75<>\"\"),'Step 1) Select Data'!D75,\"\")","v":""},"",{"$f":"IF(B56=\"\",\"\",'Step 1) Select Data'!E75)","v":""},"","","","","","",{"$f":"IF(J56=\"\",\"\",'Step 3) Fit Distribution'!$F$3*E56+'Step 3) Fit Distribution'!$F$4)","v":""},"","","","","","",""]
[null,{"$f":"IF(AND('Step 1) Select Data'!B76=\"\",'Step 1) Select Data'!D76<>\"\"),'Step 1) Select Data'!D76,\"\")","v":""},"",{"$f":"IF(B57=\"\",\"\",'Step 1) Select Data'!E76)","v":""},"","","","","","",{"$f":"IF(J57=\"\",\"\",'Step 3) Fit Distribution'!$F$3*E57+'Step 3) Fit Distribution'!$F$4)","v":""},"","","","","","",""]
[null,{"$f":"IF(AND('Step 1) Select Data'!B77=\"\",'Step 1) Select Data'!D77<>\"\"),'Step 1) Select Data'!D77,\"\")","v":""},"",{"$f":"IF(B58=\"\",\"\",'Step 1) Select Data'!E77)","v":""},"","","","","","",{"$f":"IF(J58=\"\",\"\",'Step 3) Fit Distribution'!$F$3*E58+'Step 3) Fit Distribution'!$F$4)","v":""},"","","","","","",""]
[null,{"$f":"IF(AND('Step 1) Select Data'!B78=\"\",'Step 1) Select Data'!D78<>\"\"),'Step 1) Select Data'!D78,\"\")","v":""},"",{"$f":"IF(B59=\"\",\"\",'Step 1) Select Data'!E78)","v":""},"","","","","","",{"$f":"IF(J59=\"\",\"\",'Step 3) Fit Distribution'!$F$3*E59+'Step 3) Fit Distribution'!$F$4)","v":""},"","","","","","",""]
[null,{"$f":"IF(AND('Step 1) Select Data'!B79=\"\",'Step 1) Select Data'!D79<>\"\"),'Step 1) Select Data'!D79,\"\")","v":""},"",{"$f":"IF(B60=\"\",\"\",'Step 1) Select Data'!E79)","v":""},"","","","","","",{"$f":"IF(J60=\"\",\"\",'Step 3) Fit Distribution'!$F$3*E60+'Step 3) Fit Distribution'!$F$4)","v":""},"","","","","","",""]
[null,{"$f":"IF(AND('Step 1) Select Data'!B80=\"\",'Step 1) Select Data'!D80<>\"\"),'Step 1) Select Data'!D80,\"\")","v":""},"",{"$f":"IF(B61=\"\",\"\",'Step 1) Select Data'!E80)","v":""},"","","","","","",{"$f":"IF(J61=\"\",\"\",'Step 3) Fit Distribution'!$F$3*E61+'Step 3) Fit Distribution'!$F$4)","v":""},"","","","","","",""]
[null,{"$f":"IF(AND('Step 1) Select Data'!B81=\"\",'Step 1) Select Data'!D81<>\"\"),'Step 1) Select Data'!D81,\"\")","v":""},"",{"$f":"IF(B62=\"\",\"\",'Step 1) Select Data'!E81)","v":""},"","","","","","",{"$f":"IF(J62=\"\",\"\",'Step 3) Fit Distribution'!$F$3*E62+'Step 3) Fit Distribution'!$F$4)","v":""},"","","","","","",""]
[null,{"$f":"IF(AND('Step 1) Select Data'!B82=\"\",'Step 1) Select Data'!D82<>\"\"),'Step 1) Select Data'!D82,\"\")","v":""},"",{"$f":"IF(B63=\"\",\"\",'Step 1) Select Data'!E82)","v":""},"","","","","","",{"$f":"IF(J63=\"\",\"\",'Step 3) Fit Distribution'!$F$3*E63+'Step 3) Fit Distribution'!$F$4)","v":""},"","","","","","",""]
[null,{"$f":"IF(AND('Step 1) Select Data'!B83=\"\",'Step 1) Select Data'!D83<>\"\"),'Step 1) Select Data'!D83,\"\")","v":""},"",{"$f":"IF(B64=\"\",\"\",'Step 1) Select Data'!E83)","v":""},"","","","","","",{"$f":"IF(J64=\"\",\"\",'Step 3) Fit Distribution'!$F$3*E64+'Step 3) Fit Distribution'!$F$4)","v":""},"","","","","","",""]
[null,{"$f":"IF(AND('Step 1) Select Data'!B84=\"\",'Step 1) Select Data'!D84<>\"\"),'Step 1) Select Data'!D84,\"\")","v":""},"",{"$f":"IF(B65=\"\",\"\",'Step 1) Select Data'!E84)","v":""},"","","","","","",{"$f":"IF(J65=\"\",\"\",'Step 3) Fit Distribution'!$F$3*E65+'Step 3) Fit Distribution'!$F$4)","v":""},"","","","","","",""]
[null,{"$f":"IF(AND('Step 1) Select Data'!B85=\"\",'Step 1) Select Data'!D85<>\"\"),'Step 1) Select Data'!D85,\"\")","v":""},"",{"$f":"IF(B66=\"\",\"\",'Step 1) Select Data'!E85)","v":""},"","","","","","",{"$f":"IF(J66=\"\",\"\",'Step 3) Fit Distribution'!$F$3*E66+'Step 3) Fit Distribution'!$F$4)","v":""},"","","","","","",""]
[null,{"$f":"IF(AND('Step 1) Select Data'!B86=\"\",'Step 1) Select Data'!D86<>\"\"),'Step 1) Select Data'!D86,\"\")","v":""},"",{"$f":"IF(B67=\"\",\"\",'Step 1) Select Data'!E86)","v":""},"","","","","","",{"$f":"IF(J67=\"\",\"\",'Step 3) Fit Distribution'!$F$3*E67+'Step 3) Fit Distribution'!$F$4)","v":""},"","","","","","",""]
[null,{"$f":"IF(AND('Step 1) Select Data'!B87=\"\",'Step 1) Select Data'!D87<>\"\"),'Step 1) Select Data'!D87,\"\")","v":""},"",{"$f":"IF(B68=\"\",\"\",'Step 1) Select Data'!E87)","v":""},"","","","","","",{"$f":"IF(J68=\"\",\"\",'Step 3) Fit Distribution'!$F$3*E68+'Step 3) Fit Distribution'!$F$4)","v":""},"","","","","","",""]
[null,{"$f":"IF(AND('Step 1) Select Data'!B88=\"\",'Step 1) Select Data'!D88<>\"\"),'Step 1) Select Data'!D88,\"\")","v":""},"",{"$f":"IF(B69=\"\",\"\",'Step 1) Select Data'!E88)","v":""},"","","","","","",{"$f":"IF(J69=\"\",\"\",'Step 3) Fit Distribution'!$F$3*E69+'Step 3) Fit Distribution'!$F$4)","v":""},"","","","","","",""]
[null,{"$f":"IF(AND('Step 1) Select Data'!B89=\"\",'Step 1) Select Data'!D89<>\"\"),'Step 1) Select Data'!D89,\"\")","v":""},"",{"$f":"IF(B70=\"\",\"\",'Step 1) Select Data'!E89)","v":""},"","","","","","",{"$f":"IF(J70=\"\",\"\",'Step 3) Fit Distribution'!$F$3*E70+'Step 3) Fit Distribution'!$F$4)","v":""},"","","","","","",""]
[null,{"$f":"IF(AND('Step 1) Select Data'!B90=\"\",'Step 1) Select Data'!D90<>\"\"),'Step 1) Select Data'!D90,\"\")","v":""},{"$f":"IF(B71=\"\",\"\",IF(OR(M71>=M72,M72=\"\"),M71,\"\"))","v":""},{"$f":"IF(B71=\"\",\"\",'Step 1) Select Data'!E90)","v":""},{"$f":"IF(C71=\"\",\"\",LOG10(N71)*(1/C71))","v":""},{"$f":"IF(OR(M71=\"\",C71=1),\"\",IF(C71=\"\",\"\",SQRT(R71/(C71-1))))","v":""},{"$f":"IF(E71=\"\",\"\",10^E71)","v":""},{"$f":"IF(I71=\"\",\"\",(I71-0.5)/COUNT($E$6:$E$2004))","v":""},{"$f":"IF(E71=\"\",\"\",RANK(E71,$E$6:$E$2004,1))","v":""},{"$f":"IF(H71=\"\",\"\",NORMINV(H71,5,1))","v":""},{"$f":"IF(J71=\"\",\"\",'Step 3) Fit Distribution'!$F$3*E71+'Step 3) Fit Distribution'!$F$4)","v":""},{"$f":"IF(K71=\"\",\"\",(K71-J71)^2)","v":""},{"$f":"IF(B71=\"\",\"\",IF(B71<>B70,1,M70+1))","v":""},{"$f":"IF(B71=\"\",\"\",IF(B71<>B70,ROUND(D71,4),ROUND(D71,4)*N70))","v":""},{"$f":"IF(OR(M71=\"\",C71=1),\"\",IF(AND(M71<>\"\",C71=\"\",E71=\"\"),O72,E71))","v":""},{"$f":"IF(OR(M71=\"\",C71=1),\"\",IF(AND(M71<>\"\",C71=\"\",E71=\"\"),P72,C71))","v":""},"",{"$f":"IF(Q71=\"\",\"\",IF(O71=O70,Q71+R70,Q71))","v":""}]
[null,{"$f":"IF(AND('Step 1) Select Data'!B91=\"\",'Step 1) Select Data'!D91<>\"\"),'Step 1) Select Data'!D91,\"\")","v":""},"",{"$f":"IF(B72=\"\",\"\",'Step 1) Select Data'!E91)","v":""},"","","","","","",{"$f":"IF(J72=\"\",\"\",'Step 3) Fit Distribution'!$F$3*E72+'Step 3) Fit Distribution'!$F$4)","v":""},"","","","","","",""]
[null,{"$f":"IF(AND('Step 1) Select Data'!B92=\"\",'Step 1) Select Data'!D92<>\"\"),'Step 1) Select Data'!D92,\"\")","v":""},"",{"$f":"IF(B73=\"\",\"\",'Step 1) Select Data'!E92)","v":""},"","","","","","",{"$f":"IF(J73=\"\",\"\",'Step 3) Fit Distribution'!$F$3*E73+'Step 3) Fit Distribution'!$F$4)","v":""},"","","","","","",""]
[null,{"$f":"IF(AND('Step 1) Select Data'!B93=\"\",'Step 1) Select Data'!D93<>\"\"),'Step 1) Select Data'!D93,\"\")","v":""},"",{"$f":"IF(B74=\"\",\"\",'Step 1) Select Data'!E93)","v":""},"","","","","","",{"$f":"IF(J74=\"\",\"\",'Step 3) Fit Distribution'!$F$3*E74+'Step 3) Fit Distribution'!$F$4)","v":""},"","","","","","",""]
[null,{"$f":"IF(AND('Step 1) Select Data'!B94=\"\",'Step 1) Select Data'!D94<>\"\"),'Step 1) Select Data'!D94,\"\")","v":""},"",{"$f":"IF(B75=\"\",\"\",'Step 1) Select Data'!E94)","v":""},"","","","","","",{"$f":"IF(J75=\"\",\"\",'Step 3) Fit Distribution'!$F$3*E75+'Step 3) Fit Distribution'!$F$4)","v":""},"","","","","","",""]
[null,{"$f":"IF(AND('Step 1) Select Data'!B95=\"\",'Step 1) Select Data'!D95<>\"\"),'Step 1) Select Data'!D95,\"\")","v":""},"",{"$f":"IF(B76=\"\",\"\",'Step 1) Select Data'!E95)","v":""},"","","","","","",{"$f":"IF(J76=\"\",\"\",'Step 3) Fit Distribution'!$F$3*E76+'Step 3) Fit Distribution'!$F$4)","v":""},"","","","","","",""]
[null,{"$f":"IF(AND('Step 1) Select Data'!B96=\"\",'Step 1) Select Data'!D96<>\"\"),'Step 1) Select Data'!D96,\"\")","v":""},"",{"$f":"IF(B77=\"\",\"\",'Step 1) Select Data'!E96)","v":""},"","","","","","",{"$f":"IF(J77=\"\",\"\",'Step 3) Fit Distribution'!$F$3*E77+'Step 3) Fit Distribution'!$F$4)","v":""},"","","","","","",""]
[null,{"$f":"IF(AND('Step 1) Select Data'!B97=\"\",'Step 1) Select Data'!D97<>\"\"),'Step 1) Select Data'!D97,\"\")","v":""},"",{"$f":"IF(B78=\"\",\"\",'Step 1) Select Data'!E97)","v":""},"","","","","","",{"$f":"IF(J78=\"\",\"\",'Step 3) Fit Distribution'!$F$3*E78+'Step 3) Fit Distribution'!$F$4)","v":""},"","","","","","",""]
[null,{"$f":"IF(AND('Step 1) Select Data'!B98=\"\",'Step 1) Select Data'!D98<>\"\"),'Step 1) Select Data'!D98,\"\")","v":""},"",{"$f":"IF(B79=\"\",\"\",'Step 1) Select Data'!E98)","v":""},"","","","","","",{"$f":"IF(J79=\"\",\"\",'Step 3) Fit Distribution'!$F$3*E79+'Step 3) Fit Distribution'!$F$4)","v":""},"","","","","","",""]
[null,{"$f":"IF(AND('Step 1) Select Data'!B99=\"\",'Step 1) Select Data'!D99<>\"\"),'Step 1) Select Data'!D99,\"\")","v":""},"",{"$f":"IF(B80=\"\",\"\",'Step 1) Select Data'!E99)","v":""},"","","","","","",{"$f":"IF(J80=\"\",\"\",'Step 3) Fit Distribution'!$F$3*E80+'Step 3) Fit Distribution'!$F$4)","v":""},"","","","","","",""]
[null,{"$f":"IF(AND('Step 1) Select Data'!B100=\"\",'Step 1) Select Data'!D100<>\"\"),'Step 1) Select Data'!D100,\"\")","v":""},"",{"$f":"IF(B81=\"\",\"\",'Step 1) Select Data'!E100)","v":""},"","","","","","",{"$f":"IF(J81=\"\",\"\",'Step 3) Fit Distribution'!$F$3*E81+'Step 3) Fit Distribution'!$F$4)","v":""},"","","","","","",""]
[null,{"$f":"IF(AND('Step 1) Select Data'!B101=\"\",'Step 1) Select Data'!D101<>\"\"),'Step 1) Select Data'!D101,\"\")","v":""},"",{"$f":"IF(B82=\"\",\"\",'Step 1) Select Data'!E101)","v":""},"","","","","","",{"$f":"IF(J82=\"\",\"\",'Step 3) Fit Distribution'!$F$3*E82+'Step 3) Fit Distribution'!$F$4)","v":""},"","","","","","",""]
[null,{"$f":"IF(AND('Step 1) Select Data'!B102=\"\",'Step 1) Select Data'!D102<>\"\"),'Step 1) Select Data'!D102,\"\")","v":""},"",{"$f":"IF(B83=\"\",\"\",'Step 1) Select Data'!E102)","v":""},"","","","","","",{"$f":"IF(J83=\"\",\"\",'Step 3) Fit Distribution'!$F$3*E83+'Step 3) Fit Distribution'!$F$4)","v":""},"","","","","","",""]
[null,{"$f":"IF(AND('Step 1) Select Data'!B103=\"\",'Step 1) Select Data'!D103<>\"\"),'Step 1) Select Data'!D103,\"\")","v":""},"",{"$f":"IF(B84=\"\",\"\",'Step 1) Select Data'!E103)","v":""},"","","","","","",{"$f":"IF(J84=\"\",\"\",'Step 3) Fit Distribution'!$F$3*E84+'Step 3) Fit Distribution'!$F$4)","v":""},"","","","","",{"$f":"IF(O84=\"\",\"\",ROUND(LOG(D84)-O84,4)^2)","v":""},""]
[null,{"$f":"IF(AND('Step 1) Select Data'!B104=\"\",'Step 1) Select Data'!D104<>\"\"),'Step 1) Select Data'!D104,\"\")","v":""},"",{"$f":"IF(B85=\"\",\"\",'Step 1) Select Data'!E104)","v":""},"","","","","","",{"$f":"IF(J85=\"\",\"\",'Step 3) Fit Distribution'!$F$3*E85+'Step 3) Fit Distribution'!$F$4)","v":""},"","","","","","",""]
[null,{"$f":"IF(AND('Step 1) Select Data'!B105=\"\",'Step 1) Select Data'!D105<>\"\"),'Step 1) Select Data'!D105,\"\")","v":""},"",{"$f":"IF(B86=\"\",\"\",'Step 1) Select Data'!E105)","v":""},"","","","","","",{"$f":"IF(J86=\"\",\"\",'Step 3) Fit Distribution'!$F$3*E86+'Step 3) Fit Distribution'!$F$4)","v":""},"","","","","","",""]
[null,{"$f":"IF(AND('Step 1) Select Data'!B106=\"\",'Step 1) Select Data'!D106<>\"\"),'Step 1) Select Data'!D106,\"\")","v":""},"",{"$f":"IF(B87=\"\",\"\",'Step 1) Select Data'!E106)","v":""},"","","","","","",{"$f":"IF(J87=\"\",\"\",'Step 3) Fit Distribution'!$F$3*E87+'Step 3) Fit Distribution'!$F$4)","v":""},"","","","","","",""]
[null,{"$f":"IF(AND('Step 1) Select Data'!B107=\"\",'Step 1) Select Data'!D107<>\"\"),'Step 1) Select Data'!D107,\"\")","v":""},"",{"$f":"IF(B88=\"\",\"\",'Step 1) Select Data'!E107)","v":""},"","","","","","",{"$f":"IF(J88=\"\",\"\",'Step 3) Fit Distribution'!$F$3*E88+'Step 3) Fit Distribution'!$F$4)","v":""},"","","","","","",""]
[null,{"$f":"IF(AND('Step 1) Select Data'!B108=\"\",'Step 1) Select Data'!D108<>\"\"),'Step 1) Select Data'!D108,\"\")","v":""},"",{"$f":"IF(B89=\"\",\"\",'Step 1) Select Data'!E108)","v":""},"","","","","","",{"$f":"IF(J89=\"\",\"\",'Step 3) Fit Distribution'!$F$3*E89+'Step 3) Fit Distribution'!$F$4)","v":""},"","","","","","",""]
[null,{"$f":"IF(AND('Step 1) Select Data'!B109=\"\",'Step 1) Select Data'!D109<>\"\"),'Step 1) Select Data'!D109,\"\")","v":""},"",{"$f":"IF(B90=\"\",\"\",'Step 1) Select Data'!E109)","v":""},"","","","","","",{"$f":"IF(J90=\"\",\"\",'Step 3) Fit Distribution'!$F$3*E90+'Step 3) Fit Distribution'!$F$4)","v":""},"","","","","","",""]
[null,{"$f":"IF(AND('Step 1) Select Data'!B110=\"\",'Step 1) Select Data'!D110<>\"\"),'Step 1) Select Data'!D110,\"\")","v":""},"",{"$f":"IF(B91=\"\",\"\",'Step 1) Select Data'!E110)","v":""},"","","","","","",{"$f":"IF(J91=\"\",\"\",'Step 3) Fit Distribution'!$F$3*E91+'Step 3) Fit Distribution'!$F$4)","v":""},"","","","","","",""]
[null,{"$f":"IF(AND('Step 1) Select Data'!B111=\"\",'Step 1) Select Data'!D111<>\"\"),'Step 1) Select Data'!D111,\"\")","v":""},"",{"$f":"IF(B92=\"\",\"\",'Step 1) Select Data'!E111)","v":""},"","","","","","",{"$f":"IF(J92=\"\",\"\",'Step 3) Fit Distribution'!$F$3*E92+'Step 3) Fit Distribution'!$F$4)","v":""},"","","","","","",""]
[null,{"$f":"IF(AND('Step 1) Select Data'!B112=\"\",'Step 1) Select Data'!D112<>\"\"),'Step 1) Select Data'!D112,\"\")","v":""},"",{"$f":"IF(B93=\"\",\"\",'Step 1) Select Data'!E112)","v":""},"","","","","","",{"$f":"IF(J93=\"\",\"\",'Step 3) Fit Distribution'!$F$3*E93+'Step 3) Fit Distribution'!$F$4)","v":""},"","","","","","",""]
[null,{"$f":"IF(AND('Step 1) Select Data'!B113=\"\",'Step 1) Select Data'!D113<>\"\"),'Step 1) Select Data'!D113,\"\")","v":""},"",{"$f":"IF(B94=\"\",\"\",'Step 1) Select Data'!E113)","v":""},"","","","","","",{"$f":"IF(J94=\"\",\"\",'Step 3) Fit Distribution'!$F$3*E94+'Step 3) Fit Distribution'!$F$4)","v":""},"","","","","","",""]
[null,{"$f":"IF(AND('Step 1) Select Data'!B114=\"\",'Step 1) Select Data'!D114<>\"\"),'Step 1) Select Data'!D114,\"\")","v":""},"",{"$f":"IF(B95=\"\",\"\",'Step 1) Select Data'!E114)","v":""},"","","","","","",{"$f":"IF(J95=\"\",\"\",'Step 3) Fit Distribution'!$F$3*E95+'Step 3) Fit Distribution'!$F$4)","v":""},"","","","","","",""]
[null,{"$f":"IF(AND('Step 1) Select Data'!B115=\"\",'Step 1) Select Data'!D115<>\"\"),'Step 1) Select Data'!D115,\"\")","v":""},"",{"$f":"IF(B96=\"\",\"\",'Step 1) Select Data'!E115)","v":""},"","","","","","",{"$f":"IF(J96=\"\",\"\",'Step 3) Fit Distribution'!$F$3*E96+'Step 3) Fit Distribution'!$F$4)","v":""},"","","","","","",""]
[null,{"$f":"IF(AND('Step 1) Select Data'!B116=\"\",'Step 1) Select Data'!D116<>\"\"),'Step 1) Select Data'!D116,\"\")","v":""},"",{"$f":"IF(B97=\"\",\"\",'Step 1) Select Data'!E116)","v":""},"","","","","","",{"$f":"IF(J97=\"\",\"\",'Step 3) Fit Distribution'!$F$3*E97+'Step 3) Fit Distribution'!$F$4)","v":""},"","","","","","",""]
[null,{"$f":"IF(AND('Step 1) Select Data'!B117=\"\",'Step 1) Select Data'!D117<>\"\"),'Step 1) Select Data'!D117,\"\")","v":""},"",{"$f":"IF(B98=\"\",\"\",'Step 1) Select Data'!E117)","v":""},"","","","","","",{"$f":"IF(J98=\"\",\"\",'Step 3) Fit Distribution'!$F$3*E98+'Step 3) Fit Distribution'!$F$4)","v":""},"","","","","","",""]
[null,{"$f":"IF(AND('Step 1) Select Data'!B118=\"\",'Step 1) Select Data'!D118<>\"\"),'Step 1) Select Data'!D118,\"\")","v":""},"",{"$f":"IF(B99=\"\",\"\",'Step 1) Select Data'!E118)","v":""},"","","","","","",{"$f":"IF(J99=\"\",\"\",'Step 3) Fit Distribution'!$F$3*E99+'Step 3) Fit Distribution'!$F$4)","v":""},"","","","","","",""]
[null,{"$f":"IF(AND('Step 1) Select Data'!B119=\"\",'Step 1) Select Data'!D119<>\"\"),'Step 1) Select Data'!D119,\"\")","v":""},"",{"$f":"IF(B100=\"\",\"\",'Step 1) Select Data'!E119)","v":""},"","","","","","",{"$f":"IF(J100=\"\",\"\",'Step 3) Fit Distribution'!$F$3*E100+'Step 3) Fit Distribution'!$F$4)","v":""},"","","","","","",""]
[null,{"$f":"IF(AND('Step 1) Select Data'!B120=\"\",'Step 1) Select Data'!D120<>\"\"),'Step 1) Select Data'!D120,\"\")","v":""},"",{"$f":"IF(B101=\"\",\"\",'Step 1) Select Data'!E120)","v":""},"","","","","","",{"$f":"IF(J101=\"\",\"\",'Step 3) Fit Distribution'!$F$3*E101+'Step 3) Fit Distribution'!$F$4)","v":""},"","","","","","",""]
[null,{"$f":"IF(AND('Step 1) Select Data'!B121=\"\",'Step 1) Select Data'!D121<>\"\"),'Step 1) Select Data'!D121,\"\")","v":""},"",{"$f":"IF(B102=\"\",\"\",'Step 1) Select Data'!E121)","v":""},"","","","","","",{"$f":"IF(J102=\"\",\"\",'Step 3) Fit Distribution'!$F$3*E102+'Step 3) Fit Distribution'!$F$4)","v":""},"","","","","","",""]
[null,{"$f":"IF(AND('Step 1) Select Data'!B122=\"\",'Step 1) Select Data'!D122<>\"\"),'Step 1) Select Data'!D122,\"\")","v":""},"",{"$f":"IF(B103=\"\",\"\",'Step 1) Select Data'!E122)","v":""},"","","","","","",{"$f":"IF(J103=\"\",\"\",'Step 3) Fit Distribution'!$F$3*E103+'Step 3) Fit Distribution'!$F$4)","v":""},"","","","","","",""]
[null,{"$f":"IF(AND('Step 1) Select Data'!B123=\"\",'Step 1) Select Data'!D123<>\"\"),'Step 1) Select Data'!D123,\"\")","v":""},"",{"$f":"IF(B104=\"\",\"\",'Step 1) Select Data'!E123)","v":""},"","","","","","",{"$f":"IF(J104=\"\",\"\",'Step 3) Fit Distribution'!$F$3*E104+'Step 3) Fit Distribution'!$F$4)","v":""},"","","","","","",""]
[null,{"$f":"IF(AND('Step 1) Select Data'!B124=\"\",'Step 1) Select Data'!D124<>\"\"),'Step 1) Select Data'!D124,\"\")","v":""},"",{"$f":"IF(B105=\"\",\"\",'Step 1) Select Data'!E124)","v":""},"","","","","","",{"$f":"IF(J105=\"\",\"\",'Step 3) Fit Distribution'!$F$3*E105+'Step 3) Fit Distribution'!$F$4)","v":""},"","","","","","",""]
[null,{"$f":"IF(AND('Step 1) Select Data'!B125=\"\",'Step 1) Select Data'!D125<>\"\"),'Step 1) Select Data'!D125,\"\")","v":""},"",{"$f":"IF(B106=\"\",\"\",'Step 1) Select Data'!E125)","v":""},"","","","","","",{"$f":"IF(J106=\"\",\"\",'Step 3) Fit Distribution'!$F$3*E106+'Step 3) Fit Distribution'!$F$4)","v":""},"","","","","","",""]
[null,{"$f":"IF(AND('Step 1) Select Data'!B126=\"\",'Step 1) Select Data'!D126<>\"\"),'Step 1) Select Data'!D126,\"\")","v":""},"",{"$f":"IF(B107=\"\",\"\",'Step 1) Select Data'!E126)","v":""},"","","","","","",{"$f":"IF(J107=\"\",\"\",'Step 3) Fit Distribution'!$F$3*E107+'Step 3) Fit Distribution'!$F$4)","v":""},"","","","","","",""]
[null,{"$f":"IF(AND('Step 1) Select Data'!B127=\"\",'Step 1) Select Data'!D127<>\"\"),'Step 1) Select Data'!D127,\"\")","v":""},"",{"$f":"IF(B108=\"\",\"\",'Step 1) Select Data'!E127)","v":""},"","","","","","",{"$f":"IF(J108=\"\",\"\",'Step 3) Fit Distribution'!$F$3*E108+'Step 3) Fit Distribution'!$F$4)","v":""},"","","","","","",""]
[null,{"$f":"IF(AND('Step 1) Select Data'!B128=\"\",'Step 1) Select Data'!D128<>\"\"),'Step 1) Select Data'!D128,\"\")","v":""},"",{"$f":"IF(B109=\"\",\"\",'Step 1) Select Data'!E128)","v":""},"","","","","","",{"$f":"IF(J109=\"\",\"\",'Step 3) Fit Distribution'!$F$3*E109+'Step 3) Fit Distribution'!$F$4)","v":""},"","","","","","",""]
[null,{"$f":"IF(AND('Step 1) Select Data'!B129=\"\",'Step 1) Select Data'!D129<>\"\"),'Step 1) Select Data'!D129,\"\")","v":""},"",{"$f":"IF(B110=\"\",\"\",'Step 1) Select Data'!E129)","v":""},"","","","","","",{"$f":"IF(J110=\"\",\"\",'Step 3) Fit Distribution'!$F$3*E110+'Step 3) Fit Distribution'!$F$4)","v":""},"","","","","","",""]
[null,{"$f":"IF(AND('Step 1) Select Data'!B130=\"\",'Step 1) Select Data'!D130<>\"\"),'Step 1) Select Data'!D130,\"\")","v":""},"",{"$f":"IF(B111=\"\",\"\",'Step 1) Select Data'!E130)","v":""},"","","","","","",{"$f":"IF(J111=\"\",\"\",'Step 3) Fit Distribution'!$F$3*E111+'Step 3) Fit Distribution'!$F$4)","v":""},"","","","","","",""]
[null,{"$f":"IF(AND('Step 1) Select Data'!B131=\"\",'Step 1) Select Data'!D131<>\"\"),'Step 1) Select Data'!D131,\"\")","v":""},"",{"$f":"IF(B112=\"\",\"\",'Step 1) Select Data'!E131)","v":""},"","","","","","",{"$f":"IF(J112=\"\",\"\",'Step 3) Fit Distribution'!$F$3*E112+'Step 3) Fit Distribution'!$F$4)","v":""},"","","","","","",""]
[null,{"$f":"IF(AND('Step 1) Select Data'!B132=\"\",'Step 1) Select Data'!D132<>\"\"),'Step 1) Select Data'!D132,\"\")","v":""},"",{"$f":"IF(B113=\"\",\"\",'Step 1) Select Data'!E132)","v":""},"","","","","","",{"$f":"IF(J113=\"\",\"\",'Step 3) Fit Distribution'!$F$3*E113+'Step 3) Fit Distribution'!$F$4)","v":""},"","","","","","",""]
[null,{"$f":"IF(AND('Step 1) Select Data'!B133=\"\",'Step 1) Select Data'!D133<>\"\"),'Step 1) Select Data'!D133,\"\")","v":""},"",{"$f":"IF(B114=\"\",\"\",'Step 1) Select Data'!E133)","v":""},"","","","","","",{"$f":"IF(J114=\"\",\"\",'Step 3) Fit Distribution'!$F$3*E114+'Step 3) Fit Distribution'!$F$4)","v":""},"","","","","","",""]
[null,{"$f":"IF(AND('Step 1) Select Data'!B134=\"\",'Step 1) Select Data'!D134<>\"\"),'Step 1) Select Data'!D134,\"\")","v":""},"",{"$f":"IF(B115=\"\",\"\",'Step 1) Select Data'!E134)","v":""},"","","","","","",{"$f":"IF(J115=\"\",\"\",'Step 3) Fit Distribution'!$F$3*E115+'Step 3) Fit Distribution'!$F$4)","v":""},"","","","","","",""]
[null,{"$f":"IF(AND('Step 1) Select Data'!B135=\"\",'Step 1) Select Data'!D135<>\"\"),'Step 1) Select Data'!D135,\"\")","v":""},"",{"$f":"IF(B116=\"\",\"\",'Step 1) Select Data'!E135)","v":""},"","","","","","",{"$f":"IF(J116=\"\",\"\",'Step 3) Fit Distribution'!$F$3*E116+'Step 3) Fit Distribution'!$F$4)","v":""},"","","","","","",""]
[null,{"$f":"IF(AND('Step 1) Select Data'!B136=\"\",'Step 1) Select Data'!D136<>\"\"),'Step 1) Select Data'!D136,\"\")","v":""},"",{"$f":"IF(B117=\"\",\"\",'Step 1) Select Data'!E136)","v":""},"","","","","","",{"$f":"IF(J117=\"\",\"\",'Step 3) Fit Distribution'!$F$3*E117+'Step 3) Fit Distribution'!$F$4)","v":""},"","","","","","",""]
[null,{"$f":"IF(AND('Step 1) Select Data'!B137=\"\",'Step 1) Select Data'!D137<>\"\"),'Step 1) Select Data'!D137,\"\")","v":""},"",{"$f":"IF(B118=\"\",\"\",'Step 1) Select Data'!E137)","v":""},"","","","","","",{"$f":"IF(J118=\"\",\"\",'Step 3) Fit Distribution'!$F$3*E118+'Step 3) Fit Distribution'!$F$4)","v":""},"","","","","","",""]
[null,{"$f":"IF(AND('Step 1) Select Data'!B138=\"\",'Step 1) Select Data'!D138<>\"\"),'Step 1) Select Data'!D138,\"\")","v":""},"",{"$f":"IF(B119=\"\",\"\",'Step 1) Select Data'!E138)","v":""},"","","","","","",{"$f":"IF(J119=\"\",\"\",'Step 3) Fit Distribution'!$F$3*E119+'Step 3) Fit Distribution'!$F$4)","v":""},"","","","","","",""]
[null,{"$f":"IF(AND('Step 1) Select Data'!B139=\"\",'Step 1) Select Data'!D139<>\"\"),'Step 1) Select Data'!D139,\"\")","v":""},"",{"$f":"IF(B120=\"\",\"\",'Step 1) Select Data'!E139)","v":""},"","","","","","",{"$f":"IF(J120=\"\",\"\",'Step 3) Fit Distribution'!$F$3*E120+'Step 3) Fit Distribution'!$F$4)","v":""},"","","","","","",""]
[null,{"$f":"IF(AND('Step 1) Select Data'!B140=\"\",'Step 1) Select Data'!D140<>\"\"),'Step 1) Select Data'!D140,\"\")","v":""},"",{"$f":"IF(B121=\"\",\"\",'Step 1) Select Data'!E140)","v":""},"","","","","","",{"$f":"IF(J121=\"\",\"\",'Step 3) Fit Distribution'!$F$3*E121+'Step 3) Fit Distribution'!$F$4)","v":""},"","","","","","",""]
[null,{"$f":"IF(AND('Step 1) Select Data'!B141=\"\",'Step 1) Select Data'!D141<>\"\"),'Step 1) Select Data'!D141,\"\")","v":""},"",{"$f":"IF(B122=\"\",\"\",'Step 1) Select Data'!E141)","v":""},"","","","","","",{"$f":"IF(J122=\"\",\"\",'Step 3) Fit Distribution'!$F$3*E122+'Step 3) Fit Distribution'!$F$4)","v":""},"","","","","","",""]
[null,{"$f":"IF(AND('Step 1) Select Data'!B142=\"\",'Step 1) Select Data'!D142<>\"\"),'Step 1) Select Data'!D142,\"\")","v":""},"",{"$f":"IF(B123=\"\",\"\",'Step 1) Select Data'!E142)","v":""},"","","","","","",{"$f":"IF(J123=\"\",\"\",'Step 3) Fit Distribution'!$F$3*E123+'Step 3) Fit Distribution'!$F$4)","v":""},"","","","","","",""]
[null,{"$f":"IF(AND('Step 1) Select Data'!B143=\"\",'Step 1) Select Data'!D143<>\"\"),'Step 1) Select Data'!D143,\"\")","v":""},"",{"$f":"IF(B124=\"\",\"\",'Step 1) Select Data'!E143)","v":""},"","","","","","",{"$f":"IF(J124=\"\",\"\",'Step 3) Fit Distribution'!$F$3*E124+'Step 3) Fit Distribution'!$F$4)","v":""},"","","","","","",""]
[null,{"$f":"IF(AND('Step 1) Select Data'!B144=\"\",'Step 1) Select Data'!D144<>\"\"),'Step 1) Select Data'!D144,\"\")","v":""},"",{"$f":"IF(B125=\"\",\"\",'Step 1) Select Data'!E144)","v":""},"","","","","","",{"$f":"IF(J125=\"\",\"\",'Step 3) Fit Distribution'!$F$3*E125+'Step 3) Fit Distribution'!$F$4)","v":""},"","","","","","",""]
[null,{"$f":"IF(AND('Step 1) Select Data'!B145=\"\",'Step 1) Select Data'!D145<>\"\"),'Step 1) Select Data'!D145,\"\")","v":""},"",{"$f":"IF(B126=\"\",\"\",'Step 1) Select Data'!E145)","v":""},"","","","","","",{"$f":"IF(J126=\"\",\"\",'Step 3) Fit Distribution'!$F$3*E126+'Step 3) Fit Distribution'!$F$4)","v":""},"","","","","","",""]
[null,{"$f":"IF(AND('Step 1) Select Data'!B146=\"\",'Step 1) Select Data'!D146<>\"\"),'Step 1) Select Data'!D146,\"\")","v":""},"",{"$f":"IF(B127=\"\",\"\",'Step 1) Select Data'!E146)","v":""},"","","","","","",{"$f":"IF(J127=\"\",\"\",'Step 3) Fit Distribution'!$F$3*E127+'Step 3) Fit Distribution'!$F$4)","v":""},"","","","","","",""]
[null,{"$f":"IF(AND('Step 1) Select Data'!B147=\"\",'Step 1) Select Data'!D147<>\"\"),'Step 1) Select Data'!D147,\"\")","v":""},"",{"$f":"IF(B128=\"\",\"\",'Step 1) Select Data'!E147)","v":""},"","","","","","",{"$f":"IF(J128=\"\",\"\",'Step 3) Fit Distribution'!$F$3*E128+'Step 3) Fit Distribution'!$F$4)","v":""},"","","","","","",""]
[null,{"$f":"IF(AND('Step 1) Select Data'!B148=\"\",'Step 1) Select Data'!D148<>\"\"),'Step 1) Select Data'!D148,\"\")","v":""},"",{"$f":"IF(B129=\"\",\"\",'Step 1) Select Data'!E148)","v":""},"","","","","","",{"$f":"IF(J129=\"\",\"\",'Step 3) Fit Distribution'!$F$3*E129+'Step 3) Fit Distribution'!$F$4)","v":""},"","","","","","",""]
[null,{"$f":"IF(AND('Step 1) Select Data'!B149=\"\",'Step 1) Select Data'!D149<>\"\"),'Step 1) Select Data'!D149,\"\")","v":""},"",{"$f":"IF(B130=\"\",\"\",'Step 1) Select Data'!E149)","v":""},"","","","","","",{"$f":"IF(J130=\"\",\"\",'Step 3) Fit Distribution'!$F$3*E130+'Step 3) Fit Distribution'!$F$4)","v":""},"","","","","","",""]
[null,{"$f":"IF(AND('Step 1) Select Data'!B150=\"\",'Step 1) Select Data'!D150<>\"\"),'Step 1) Select Data'!D150,\"\")","v":""},"",{"$f":"IF(B131=\"\",\"\",'Step 1) Select Data'!E150)","v":""},"","","","","","",{"$f":"IF(J131=\"\",\"\",'Step 3) Fit Distribution'!$F$3*E131+'Step 3) Fit Distribution'!$F$4)","v":""},"","","","","","",""]
[null,{"$f":"IF(AND('Step 1) Select Data'!B151=\"\",'Step 1) Select Data'!D151<>\"\"),'Step 1) Select Data'!D151,\"\")","v":""},"",{"$f":"IF(B132=\"\",\"\",'Step 1) Select Data'!E151)","v":""},"","","","","","",{"$f":"IF(J132=\"\",\"\",'Step 3) Fit Distribution'!$F$3*E132+'Step 3) Fit Distribution'!$F$4)","v":""},"","","","","","",""]
[null,{"$f":"IF(AND('Step 1) Select Data'!B152=\"\",'Step 1) Select Data'!D152<>\"\"),'Step 1) Select Data'!D152,\"\")","v":""},"",{"$f":"IF(B133=\"\",\"\",'Step 1) Select Data'!E152)","v":""},"","","","","","",{"$f":"IF(J133=\"\",\"\",'Step 3) Fit Distribution'!$F$3*E133+'Step 3) Fit Distribution'!$F$4)","v":""},"","","","","","",""]
[null,{"$f":"IF(AND('Step 1) Select Data'!B153=\"\",'Step 1) Select Data'!D153<>\"\"),'Step 1) Select Data'!D153,\"\")","v":""},"",{"$f":"IF(B134=\"\",\"\",'Step 1) Select Data'!E153)","v":""},"","","","","","",{"$f":"IF(J134=\"\",\"\",'Step 3) Fit Distribution'!$F$3*E134+'Step 3) Fit Distribution'!$F$4)","v":""},"","","","","","",""]
[null,{"$f":"IF(AND('Step 1) Select Data'!B154=\"\",'Step 1) Select Data'!D154<>\"\"),'Step 1) Select Data'!D154,\"\")","v":""},{"$f":"IF(B135=\"\",\"\",IF(OR(M135>=M136,M136=\"\"),M135,\"\"))","v":""},{"$f":"IF(B135=\"\",\"\",'Step 1) Select Data'!E154)","v":""},{"$f":"IF(C135=\"\",\"\",LOG10(N135)*(1/C135))","v":""},{"$f":"IF(OR(M135=\"\",C135=1),\"\",IF(C135=\"\",\"\",SQRT(R135/(C135-1))))","v":""},{"$f":"IF(E135=\"\",\"\",10^E135)","v":""},{"$f":"IF(I135=\"\",\"\",(I135-0.5)/COUNT($E$6:$E$2004))","v":""},{"$f":"IF(E135=\"\",\"\",RANK(E135,$E$6:$E$2004,1))","v":""},{"$f":"IF(H135=\"\",\"\",NORMINV(H135,5,1))","v":""},{"$f":"IF(J135=\"\",\"\",'Step 3) Fit Distribution'!$F$3*E135+'Step 3) Fit Distribution'!$F$4)","v":""},{"$f":"IF(K135=\"\",\"\",(K135-J135)^2)","v":""},{"$f":"IF(B135=\"\",\"\",IF(B135<>B134,1,M134+1))","v":""},{"$f":"IF(B135=\"\",\"\",IF(B135<>B134,ROUND(D135,4),ROUND(D135,4)*N134))","v":""},{"$f":"IF(OR(M135=\"\",C135=1),\"\",IF(AND(M135<>\"\",C135=\"\",E135=\"\"),O136,E135))","v":""},{"$f":"IF(OR(M135=\"\",C135=1),\"\",IF(AND(M135<>\"\",C135=\"\",E135=\"\"),P136,C135))","v":""},"",{"$f":"IF(Q135=\"\",\"\",IF(O135=O134,Q135+R134,Q135))","v":""}]
[null,{"$f":"IF(AND('Step 1) Select Data'!B155=\"\",'Step 1) Select Data'!D155<>\"\"),'Step 1) Select Data'!D155,\"\")","v":""},"",{"$f":"IF(B136=\"\",\"\",'Step 1) Select Data'!E155)","v":""},"","","","","","",{"$f":"IF(J136=\"\",\"\",'Step 3) Fit Distribution'!$F$3*E136+'Step 3) Fit Distribution'!$F$4)","v":""},"","","","","","",""]
[null,{"$f":"IF(AND('Step 1) Select Data'!B156=\"\",'Step 1) Select Data'!D156<>\"\"),'Step 1) Select Data'!D156,\"\")","v":""},"",{"$f":"IF(B137=\"\",\"\",'Step 1) Select Data'!E156)","v":""},"","","","","","",{"$f":"IF(J137=\"\",\"\",'Step 3) Fit Distribution'!$F$3*E137+'Step 3) Fit Distribution'!$F$4)","v":""},"","","","","","",""]
[null,{"$f":"IF(AND('Step 1) Select Data'!B157=\"\",'Step 1) Select Data'!D157<>\"\"),'Step 1) Select Data'!D157,\"\")","v":""},"",{"$f":"IF(B138=\"\",\"\",'Step 1) Select Data'!E157)","v":""},"","","","","","",{"$f":"IF(J138=\"\",\"\",'Step 3) Fit Distribution'!$F$3*E138+'Step 3) Fit Distribution'!$F$4)","v":""},"","","","","","",""]
[null,{"$f":"IF(AND('Step 1) Select Data'!B158=\"\",'Step 1) Select Data'!D158<>\"\"),'Step 1) Select Data'!D158,\"\")","v":""},"",{"$f":"IF(B139=\"\",\"\",'Step 1) Select Data'!E158)","v":""},"","","","","","",{"$f":"IF(J139=\"\",\"\",'Step 3) Fit Distribution'!$F$3*E139+'Step 3) Fit Distribution'!$F$4)","v":""},"","","","","","",""]
[null,{"$f":"IF(AND('Step 1) Select Data'!B159=\"\",'Step 1) Select Data'!D159<>\"\"),'Step 1) Select Data'!D159,\"\")","v":""},"",{"$f":"IF(B140=\"\",\"\",'Step 1) Select Data'!E159)","v":""},"","","","","","",{"$f":"IF(J140=\"\",\"\",'Step 3) Fit Distribution'!$F$3*E140+'Step 3) Fit Distribution'!$F$4)","v":""},"","","","","","",""]
[null,{"$f":"IF(AND('Step 1) Select Data'!B160=\"\",'Step 1) Select Data'!D160<>\"\"),'Step 1) Select Data'!D160,\"\")","v":""},"",{"$f":"IF(B141=\"\",\"\",'Step 1) Select Data'!E160)","v":""},"","","","","","",{"$f":"IF(J141=\"\",\"\",'Step 3) Fit Distribution'!$F$3*E141+'Step 3) Fit Distribution'!$F$4)","v":""},"","","","","","",""]
[null,{"$f":"IF(AND('Step 1) Select Data'!B161=\"\",'Step 1) Select Data'!D161<>\"\"),'Step 1) Select Data'!D161,\"\")","v":""},"",{"$f":"IF(B142=\"\",\"\",'Step 1) Select Data'!E161)","v":""},"","","","","","",{"$f":"IF(J142=\"\",\"\",'Step 3) Fit Distribution'!$F$3*E142+'Step 3) Fit Distribution'!$F$4)","v":""},"","","","","","",""]
[null,{"$f":"IF(AND('Step 1) Select Data'!B162=\"\",'Step 1) Select Data'!D162<>\"\"),'Step 1) Select Data'!D162,\"\")","v":""},"",{"$f":"IF(B143=\"\",\"\",'Step 1) Select Data'!E162)","v":""},"","","","","","",{"$f":"IF(J143=\"\",\"\",'Step 3) Fit Distribution'!$F$3*E143+'Step 3) Fit Distribution'!$F$4)","v":""},"","","","","","",""]
[null,{"$f":"IF(AND('Step 1) Select Data'!B163=\"\",'Step 1) Select Data'!D163<>\"\"),'Step 1) Select Data'!D163,\"\")","v":""},"",{"$f":"IF(B144=\"\",\"\",'Step 1) Select Data'!E163)","v":""},"","","","","","",{"$f":"IF(J144=\"\",\"\",'Step 3) Fit Distribution'!$F$3*E144+'Step 3) Fit Distribution'!$F$4)","v":""},"","","","","","",""]
[null,{"$f":"IF(AND('Step 1) Select Data'!B164=\"\",'Step 1) Select Data'!D164<>\"\"),'Step 1) Select Data'!D164,\"\")","v":""},"",{"$f":"IF(B145=\"\",\"\",'Step 1) Select Data'!E164)","v":""},"","","","","","",{"$f":"IF(J145=\"\",\"\",'Step 3) Fit Distribution'!$F$3*E145+'Step 3) Fit Distribution'!$F$4)","v":""},"","","","","","",""]
[null,{"$f":"IF(AND('Step 1) Select Data'!B165=\"\",'Step 1) Select Data'!D165<>\"\"),'Step 1) Select Data'!D165,\"\")","v":""},"",{"$f":"IF(B146=\"\",\"\",'Step 1) Select Data'!E165)","v":""},"","","","","","",{"$f":"IF(J146=\"\",\"\",'Step 3) Fit Distribution'!$F$3*E146+'Step 3) Fit Distribution'!$F$4)","v":""},"","","","","","",""]
[null,{"$f":"IF(AND('Step 1) Select Data'!B166=\"\",'Step 1) Select Data'!D166<>\"\"),'Step 1) Select Data'!D166,\"\")","v":""},"",{"$f":"IF(B147=\"\",\"\",'Step 1) Select Data'!E166)","v":""},"","","","","","",{"$f":"IF(J147=\"\",\"\",'Step 3) Fit Distribution'!$F$3*E147+'Step 3) Fit Distribution'!$F$4)","v":""},"","","","","","",""]
[null,{"$f":"IF(AND('Step 1) Select Data'!B167=\"\",'Step 1) Select Data'!D167<>\"\"),'Step 1) Select Data'!D167,\"\")","v":""},"",{"$f":"IF(B148=\"\",\"\",'Step 1) Select Data'!E167)","v":""},"","","","","","",{"$f":"IF(J148=\"\",\"\",'Step 3) Fit Distribution'!$F$3*E148+'Step 3) Fit Distribution'!$F$4)","v":""},"","","","","",{"$f":"IF(O148=\"\",\"\",ROUND(LOG(D148)-O148,4)^2)","v":""},""]
[null,{"$f":"IF(AND('Step 1) Select Data'!B168=\"\",'Step 1) Select Data'!D168<>\"\"),'Step 1) Select Data'!D168,\"\")","v":""},"",{"$f":"IF(B149=\"\",\"\",'Step 1) Select Data'!E168)","v":""},"","","","","","",{"$f":"IF(J149=\"\",\"\",'Step 3) Fit Distribution'!$F$3*E149+'Step 3) Fit Distribution'!$F$4)","v":""},"","","","","","",""]
[null,{"$f":"IF(AND('Step 1) Select Data'!B169=\"\",'Step 1) Select Data'!D169<>\"\"),'Step 1) Select Data'!D169,\"\")","v":""},"",{"$f":"IF(B150=\"\",\"\",'Step 1) Select Data'!E169)","v":""},"","","","","","",{"$f":"IF(J150=\"\",\"\",'Step 3) Fit Distribution'!$F$3*E150+'Step 3) Fit Distribution'!$F$4)","v":""},"","","","","","",""]
[null,{"$f":"IF(AND('Step 1) Select Data'!B170=\"\",'Step 1) Select Data'!D170<>\"\"),'Step 1) Select Data'!D170,\"\")","v":""},"",{"$f":"IF(B151=\"\",\"\",'Step 1) Select Data'!E170)","v":""},"","","","","","",{"$f":"IF(J151=\"\",\"\",'Step 3) Fit Distribution'!$F$3*E151+'Step 3) Fit Distribution'!$F$4)","v":""},"","","","","","",""]
[null,{"$f":"IF(AND('Step 1) Select Data'!B171=\"\",'Step 1) Select Data'!D171<>\"\"),'Step 1) Select Data'!D171,\"\")","v":""},"",{"$f":"IF(B152=\"\",\"\",'Step 1) Select Data'!E171)","v":""},"","","","","","",{"$f":"IF(J152=\"\",\"\",'Step 3) Fit Distribution'!$F$3*E152+'Step 3) Fit Distribution'!$F$4)","v":""},"","","","","","",""]
[null,{"$f":"IF(AND('Step 1) Select Data'!B172=\"\",'Step 1) Select Data'!D172<>\"\"),'Step 1) Select Data'!D172,\"\")","v":""},"",{"$f":"IF(B153=\"\",\"\",'Step 1) Select Data'!E172)","v":""},"","","","","","",{"$f":"IF(J153=\"\",\"\",'Step 3) Fit Distribution'!$F$3*E153+'Step 3) Fit Distribution'!$F$4)","v":""},"","","","","","",""]
[null,{"$f":"IF(AND('Step 1) Select Data'!B173=\"\",'Step 1) Select Data'!D173<>\"\"),'Step 1) Select Data'!D173,\"\")","v":""},"",{"$f":"IF(B154=\"\",\"\",'Step 1) Select Data'!E173)","v":""},"","","","","","",{"$f":"IF(J154=\"\",\"\",'Step 3) Fit Distribution'!$F$3*E154+'Step 3) Fit Distribution'!$F$4)","v":""},"","","","","","",""]
[null,{"$f":"IF(AND('Step 1) Select Data'!B174=\"\",'Step 1) Select Data'!D174<>\"\"),'Step 1) Select Data'!D174,\"\")","v":""},"",{"$f":"IF(B155=\"\",\"\",'Step 1) Select Data'!E174)","v":""},"","","","","","",{"$f":"IF(J155=\"\",\"\",'Step 3) Fit Distribution'!$F$3*E155+'Step 3) Fit Distribution'!$F$4)","v":""},"","","","","","",""]
[null,{"$f":"IF(AND('Step 1) Select Data'!B175=\"\",'Step 1) Select Data'!D175<>\"\"),'Step 1) Select Data'!D175,\"\")","v":""},"",{"$f":"IF(B156=\"\",\"\",'Step 1) Select Data'!E175)","v":""},"","","","","","",{"$f":"IF(J156=\"\",\"\",'Step 3) Fit Distribution'!$F$3*E156+'Step 3) Fit Distribution'!$F$4)","v":""},"","","","","","",""]
[null,{"$f":"IF(AND('Step 1) Select Data'!B176=\"\",'Step 1) Select Data'!D176<>\"\"),'Step 1) Select Data'!D176,\"\")","v":""},"",{"$f":"IF(B157=\"\",\"\",'Step 1) Select Data'!E176)","v":""},"","","","","","",{"$f":"IF(J157=\"\",\"\",'Step 3) Fit Distribution'!$F$3*E157+'Step 3) Fit Distribution'!$F$4)","v":""},"","","","","","",""]
[null,{"$f":"IF(AND('Step 1) Select Data'!B177=\"\",'Step 1) Select Data'!D177<>\"\"),'Step 1) Select Data'!D177,\"\")","v":""},"",{"$f":"IF(B158=\"\",\"\",'Step 1) Select Data'!E177)","v":""},"","","","","","",{"$f":"IF(J158=\"\",\"\",'Step 3) Fit Distribution'!$F$3*E158+'Step 3) Fit Distribution'!$F$4)","v":""},"","","","","","",""]
[null,{"$f":"IF(AND('Step 1) Select Data'!B178=\"\",'Step 1) Select Data'!D178<>\"\"),'Step 1) Select Data'!D178,\"\")","v":""},"",{"$f":"IF(B159=\"\",\"\",'Step 1) Select Data'!E178)","v":""},"","","","","","",{"$f":"IF(J159=\"\",\"\",'Step 3) Fit Distribution'!$F$3*E159+'Step 3) Fit Distribution'!$F$4)","v":""},"","","","","","",""]
[null,{"$f":"IF(AND('Step 1) Select Data'!B179=\"\",'Step 1) Select Data'!D179<>\"\"),'Step 1) Select Data'!D179,\"\")","v":""},"",{"$f":"IF(B160=\"\",\"\",'Step 1) Select Data'!E179)","v":""},"","","","","","",{"$f":"IF(J160=\"\",\"\",'Step 3) Fit Distribution'!$F$3*E160+'Step 3) Fit Distribution'!$F$4)","v":""},"","","","","","",""]
[null,{"$f":"IF(AND('Step 1) Select Data'!B180=\"\",'Step 1) Select Data'!D180<>\"\"),'Step 1) Select Data'!D180,\"\")","v":""},"",{"$f":"IF(B161=\"\",\"\",'Step 1) Select Data'!E180)","v":""},"","","","","","",{"$f":"IF(J161=\"\",\"\",'Step 3) Fit Distribution'!$F$3*E161+'Step 3) Fit Distribution'!$F$4)","v":""},"","","","","","",""]
[null,{"$f":"IF(AND('Step 1) Select Data'!B181=\"\",'Step 1) Select Data'!D181<>\"\"),'Step 1) Select Data'!D181,\"\")","v":""},"",{"$f":"IF(B162=\"\",\"\",'Step 1) Select Data'!E181)","v":""},"","","","","","",{"$f":"IF(J162=\"\",\"\",'Step 3) Fit Distribution'!$F$3*E162+'Step 3) Fit Distribution'!$F$4)","v":""},"","","","","","",""]
[null,{"$f":"IF(AND('Step 1) Select Data'!B182=\"\",'Step 1) Select Data'!D182<>\"\"),'Step 1) Select Data'!D182,\"\")","v":""},"",{"$f":"IF(B163=\"\",\"\",'Step 1) Select Data'!E182)","v":""},"","","","","","",{"$f":"IF(J163=\"\",\"\",'Step 3) Fit Distribution'!$F$3*E163+'Step 3) Fit Distribution'!$F$4)","v":""},"","","","","","",""]
[null,{"$f":"IF(AND('Step 1) Select Data'!B183=\"\",'Step 1) Select Data'!D183<>\"\"),'Step 1) Select Data'!D183,\"\")","v":""},"",{"$f":"IF(B164=\"\",\"\",'Step 1) Select Data'!E183)","v":""},"","","","","","",{"$f":"IF(J164=\"\",\"\",'Step 3) Fit Distribution'!$F$3*E164+'Step 3) Fit Distribution'!$F$4)","v":""},"","","","","","",""]
[null,{"$f":"IF(AND('Step 1) Select Data'!B184=\"\",'Step 1) Select Data'!D184<>\"\"),'Step 1) Select Data'!D184,\"\")","v":""},"",{"$f":"IF(B165=\"\",\"\",'Step 1) Select Data'!E184)","v":""},"","","","","","",{"$f":"IF(J165=\"\",\"\",'Step 3) Fit Distribution'!$F$3*E165+'Step 3) Fit Distribution'!$F$4)","v":""},"","","","","","",""]
[null,{"$f":"IF(AND('Step 1) Select Data'!B185=\"\",'Step 1) Select Data'!D185<>\"\"),'Step 1) Select Data'!D185,\"\")","v":""},"",{"$f":"IF(B166=\"\",\"\",'Step 1) Select Data'!E185)","v":""},"","","","","","",{"$f":"IF(J166=\"\",\"\",'Step 3) Fit Distribution'!$F$3*E166+'Step 3) Fit Distribution'!$F$4)","v":""},"","","","","","",""]
[null,{"$f":"IF(AND('Step 1) Select Data'!B186=\"\",'Step 1) Select Data'!D186<>\"\"),'Step 1) Select Data'!D186,\"\")","v":""},"",{"$f":"IF(B167=\"\",\"\",'Step 1) Select Data'!E186)","v":""},"","","","","","",{"$f":"IF(J167=\"\",\"\",'Step 3) Fit Distribution'!$F$3*E167+'Step 3) Fit Distribution'!$F$4)","v":""},"","","","","","",""]
[null,{"$f":"IF(AND('Step 1) Select Data'!B187=\"\",'Step 1) Select Data'!D187<>\"\"),'Step 1) Select Data'!D187,\"\")","v":""},"",{"$f":"IF(B168=\"\",\"\",'Step 1) Select Data'!E187)","v":""},"","","","","","",{"$f":"IF(J168=\"\",\"\",'Step 3) Fit Distribution'!$F$3*E168+'Step 3) Fit Distribution'!$F$4)","v":""},"","","","","","",""]
[null,{"$f":"IF(AND('Step 1) Select Data'!B188=\"\",'Step 1) Select Data'!D188<>\"\"),'Step 1) Select Data'!D188,\"\")","v":""},"",{"$f":"IF(B169=\"\",\"\",'Step 1) Select Data'!E188)","v":""},"","","","","","",{"$f":"IF(J169=\"\",\"\",'Step 3) Fit Distribution'!$F$3*E169+'Step 3) Fit Distribution'!$F$4)","v":""},"","","","","","",""]
[null,{"$f":"IF(AND('Step 1) Select Data'!B189=\"\",'Step 1) Select Data'!D189<>\"\"),'Step 1) Select Data'!D189,\"\")","v":""},"",{"$f":"IF(B170=\"\",\"\",'Step 1) Select Data'!E189)","v":""},"","","","","","",{"$f":"IF(J170=\"\",\"\",'Step 3) Fit Distribution'!$F$3*E170+'Step 3) Fit Distribution'!$F$4)","v":""},"","","","","","",""]
[null,{"$f":"IF(AND('Step 1) Select Data'!B190=\"\",'Step 1) Select Data'!D190<>\"\"),'Step 1) Select Data'!D190,\"\")","v":""},"",{"$f":"IF(B171=\"\",\"\",'Step 1) Select Data'!E190)","v":""},"","","","","","",{"$f":"IF(J171=\"\",\"\",'Step 3) Fit Distribution'!$F$3*E171+'Step 3) Fit Distribution'!$F$4)","v":""},"","","","","","",""]
[null,{"$f":"IF(AND('Step 1) Select Data'!B191=\"\",'Step 1) Select Data'!D191<>\"\"),'Step 1) Select Data'!D191,\"\")","v":""},"",{"$f":"IF(B172=\"\",\"\",'Step 1) Select Data'!E191)","v":""},"","","","","","",{"$f":"IF(J172=\"\",\"\",'Step 3) Fit Distribution'!$F$3*E172+'Step 3) Fit Distribution'!$F$4)","v":""},"","","","","","",""]
[null,{"$f":"IF(AND('Step 1) Select Data'!B192=\"\",'Step 1) Select Data'!D192<>\"\"),'Step 1) Select Data'!D192,\"\")","v":""},"",{"$f":"IF(B173=\"\",\"\",'Step 1) Select Data'!E192)","v":""},"","","","","","",{"$f":"IF(J173=\"\",\"\",'Step 3) Fit Distribution'!$F$3*E173+'Step 3) Fit Distribution'!$F$4)","v":""},"","","","","","",""]
[null,{"$f":"IF(AND('Step 1) Select Data'!B193=\"\",'Step 1) Select Data'!D193<>\"\"),'Step 1) Select Data'!D193,\"\")","v":""},"",{"$f":"IF(B174=\"\",\"\",'Step 1) Select Data'!E193)","v":""},"","","","","","",{"$f":"IF(J174=\"\",\"\",'Step 3) Fit Distribution'!$F$3*E174+'Step 3) Fit Distribution'!$F$4)","v":""},"","","","","","",""]
[null,{"$f":"IF(AND('Step 1) Select Data'!B194=\"\",'Step 1) Select Data'!D194<>\"\"),'Step 1) Select Data'!D194,\"\")","v":""},"",{"$f":"IF(B175=\"\",\"\",'Step 1) Select Data'!E194)","v":""},"","","","","","",{"$f":"IF(J175=\"\",\"\",'Step 3) Fit Distribution'!$F$3*E175+'Step 3) Fit Distribution'!$F$4)","v":""},"","","","","","",""]
[null,{"$f":"IF(AND('Step 1) Select Data'!B195=\"\",'Step 1) Select Data'!D195<>\"\"),'Step 1) Select Data'!D195,\"\")","v":""},"",{"$f":"IF(B176=\"\",\"\",'Step 1) Select Data'!E195)","v":""},"","","","","","",{"$f":"IF(J176=\"\",\"\",'Step 3) Fit Distribution'!$F$3*E176+'Step 3) Fit Distribution'!$F$4)","v":""},"","","","","","",""]
[null,{"$f":"IF(AND('Step 1) Select Data'!B196=\"\",'Step 1) Select Data'!D196<>\"\"),'Step 1) Select Data'!D196,\"\")","v":""},"",{"$f":"IF(B177=\"\",\"\",'Step 1) Select Data'!E196)","v":""},"","","","","","",{"$f":"IF(J177=\"\",\"\",'Step 3) Fit Distribution'!$F$3*E177+'Step 3) Fit Distribution'!$F$4)","v":""},"","","","","","",""]
[null,{"$f":"IF(AND('Step 1) Select Data'!B197=\"\",'Step 1) Select Data'!D197<>\"\"),'Step 1) Select Data'!D197,\"\")","v":""},"",{"$f":"IF(B178=\"\",\"\",'Step 1) Select Data'!E197)","v":""},"","","","","","",{"$f":"IF(J178=\"\",\"\",'Step 3) Fit Distribution'!$F$3*E178+'Step 3) Fit Distribution'!$F$4)","v":""},"","","","","","",""]
[null,{"$f":"IF(AND('Step 1) Select Data'!B198=\"\",'Step 1) Select Data'!D198<>\"\"),'Step 1) Select Data'!D198,\"\")","v":""},"",{"$f":"IF(B179=\"\",\"\",'Step 1) Select Data'!E198)","v":""},"","","","","","",{"$f":"IF(J179=\"\",\"\",'Step 3) Fit Distribution'!$F$3*E179+'Step 3) Fit Distribution'!$F$4)","v":""},"","","","","","",""]
[null,{"$f":"IF(AND('Step 1) Select Data'!B199=\"\",'Step 1) Select Data'!D199<>\"\"),'Step 1) Select Data'!D199,\"\")","v":""},"",{"$f":"IF(B180=\"\",\"\",'Step 1) Select Data'!E199)","v":""},"","","","","","",{"$f":"IF(J180=\"\",\"\",'Step 3) Fit Distribution'!$F$3*E180+'Step 3) Fit Distribution'!$F$4)","v":""},"","","","","","",""]
[null,{"$f":"IF(AND('Step 1) Select Data'!B200=\"\",'Step 1) Select Data'!D200<>\"\"),'Step 1) Select Data'!D200,\"\")","v":""},"",{"$f":"IF(B181=\"\",\"\",'Step 1) Select Data'!E200)","v":""},"","","","","","",{"$f":"IF(J181=\"\",\"\",'Step 3) Fit Distribution'!$F$3*E181+'Step 3) Fit Distribution'!$F$4)","v":""},"","","","","","",""]
[null,{"$f":"IF(AND('Step 1) Select Data'!B201=\"\",'Step 1) Select Data'!D201<>\"\"),'Step 1) Select Data'!D201,\"\")","v":""},"",{"$f":"IF(B182=\"\",\"\",'Step 1) Select Data'!E201)","v":""},"","","","","","",{"$f":"IF(J182=\"\",\"\",'Step 3) Fit Distribution'!$F$3*E182+'Step 3) Fit Distribution'!$F$4)","v":""},"","","","","","",""]
[null,{"$f":"IF(AND('Step 1) Select Data'!B202=\"\",'Step 1) Select Data'!D202<>\"\"),'Step 1) Select Data'!D202,\"\")","v":""},"",{"$f":"IF(B183=\"\",\"\",'Step 1) Select Data'!E202)","v":""},"","","","","","",{"$f":"IF(J183=\"\",\"\",'Step 3) Fit Distribution'!$F$3*E183+'Step 3) Fit Distribution'!$F$4)","v":""},"","","","","","",""]
[null,{"$f":"IF(AND('Step 1) Select Data'!B203=\"\",'Step 1) Select Data'!D203<>\"\"),'Step 1) Select Data'!D203,\"\")","v":""},"",{"$f":"IF(B184=\"\",\"\",'Step 1) Select Data'!E203)","v":""},"","","","","","",{"$f":"IF(J184=\"\",\"\",'Step 3) Fit Distribution'!$F$3*E184+'Step 3) Fit Distribution'!$F$4)","v":""},"","","","","","",""]
[null,{"$f":"IF(AND('Step 1) Select Data'!B204=\"\",'Step 1) Select Data'!D204<>\"\"),'Step 1) Select Data'!D204,\"\")","v":""},"",{"$f":"IF(B185=\"\",\"\",'Step 1) Select Data'!E204)","v":""},"","","","","","",{"$f":"IF(J185=\"\",\"\",'Step 3) Fit Distribution'!$F$3*E185+'Step 3) Fit Distribution'!$F$4)","v":""},"","","","","","",""]
[null,{"$f":"IF(AND('Step 1) Select Data'!B205=\"\",'Step 1) Select Data'!D205<>\"\"),'Step 1) Select Data'!D205,\"\")","v":""},"",{"$f":"IF(B186=\"\",\"\",'Step 1) Select Data'!E205)","v":""},"","","","","","",{"$f":"IF(J186=\"\",\"\",'Step 3) Fit Distribution'!$F$3*E186+'Step 3) Fit Distribution'!$F$4)","v":""},"","","","","","",""]
[null,{"$f":"IF(AND('Step 1) Select Data'!B206=\"\",'Step 1) Select Data'!D206<>\"\"),'Step 1) Select Data'!D206,\"\")","v":""},"",{"$f":"IF(B187=\"\",\"\",'Step 1) Select Data'!E206)","v":""},"","","","","","",{"$f":"IF(J187=\"\",\"\",'Step 3) Fit Distribution'!$F$3*E187+'Step 3) Fit Distribution'!$F$4)","v":""},"","","","","","",""]
[null,{"$f":"IF(AND('Step 1) Select Data'!B207=\"\",'Step 1) Select Data'!D207<>\"\"),'Step 1) Select Data'!D207,\"\")","v":""},"",{"$f":"IF(B188=\"\",\"\",'Step 1) Select Data'!E207)","v":""},"","","","","","",{"$f":"IF(J188=\"\",\"\",'Step 3) Fit Distribution'!$F$3*E188+'Step 3) Fit Distribution'!$F$4)","v":""},"","","","","","",""]
[null,{"$f":"IF(AND('Step 1) Select Data'!B208=\"\",'Step 1) Select Data'!D208<>\"\"),'Step 1) Select Data'!D208,\"\")","v":""},"",{"$f":"IF(B189=\"\",\"\",'Step 1) Select Data'!E208)","v":""},"","","","","","",{"$f":"IF(J189=\"\",\"\",'Step 3) Fit Distribution'!$F$3*E189+'Step 3) Fit Distribution'!$F$4)","v":""},"","","","","","",""]
[null,{"$f":"IF(AND('Step 1) Select Data'!B209=\"\",'Step 1) Select Data'!D209<>\"\"),'Step 1) Select Data'!D209,\"\")","v":""},"",{"$f":"IF(B190=\"\",\"\",'Step 1) Select Data'!E209)","v":""},"","","","","","",{"$f":"IF(J190=\"\",\"\",'Step 3) Fit Distribution'!$F$3*E190+'Step 3) Fit Distribution'!$F$4)","v":""},"","","","","","",""]
[null,{"$f":"IF(AND('Step 1) Select Data'!B210=\"\",'Step 1) Select Data'!D210<>\"\"),'Step 1) Select Data'!D210,\"\")","v":""},"",{"$f":"IF(B191=\"\",\"\",'Step 1) Select Data'!E210)","v":""},"","","","","","",{"$f":"IF(J191=\"\",\"\",'Step 3) Fit Distribution'!$F$3*E191+'Step 3) Fit Distribution'!$F$4)","v":""},"","","","","","",""]
[null,{"$f":"IF(AND('Step 1) Select Data'!B211=\"\",'Step 1) Select Data'!D211<>\"\"),'Step 1) Select Data'!D211,\"\")","v":""},"",{"$f":"IF(B192=\"\",\"\",'Step 1) Select Data'!E211)","v":""},"","","","","","",{"$f":"IF(J192=\"\",\"\",'Step 3) Fit Distribution'!$F$3*E192+'Step 3) Fit Distribution'!$F$4)","v":""},"","","","","","",""]
[null,{"$f":"IF(AND('Step 1) Select Data'!B212=\"\",'Step 1) Select Data'!D212<>\"\"),'Step 1) Select Data'!D212,\"\")","v":""},"",{"$f":"IF(B193=\"\",\"\",'Step 1) Select Data'!E212)","v":""},"","","","","","",{"$f":"IF(J193=\"\",\"\",'Step 3) Fit Distribution'!$F$3*E193+'Step 3) Fit Distribution'!$F$4)","v":""},"","","","","","",""]
[null,{"$f":"IF(AND('Step 1) Select Data'!B213=\"\",'Step 1) Select Data'!D213<>\"\"),'Step 1) Select Data'!D213,\"\")","v":""},"",{"$f":"IF(B194=\"\",\"\",'Step 1) Select Data'!E213)","v":""},"","","","","","",{"$f":"IF(J194=\"\",\"\",'Step 3) Fit Distribution'!$F$3*E194+'Step 3) Fit Distribution'!$F$4)","v":""},"","","","","","",""]
[null,{"$f":"IF(AND('Step 1) Select Data'!B214=\"\",'Step 1) Select Data'!D214<>\"\"),'Step 1) Select Data'!D214,\"\")","v":""},"",{"$f":"IF(B195=\"\",\"\",'Step 1) Select Data'!E214)","v":""},"","","","","","",{"$f":"IF(J195=\"\",\"\",'Step 3) Fit Distribution'!$F$3*E195+'Step 3) Fit Distribution'!$F$4)","v":""},"","","","","","",""]
[null,{"$f":"IF(AND('Step 1) Select Data'!B215=\"\",'Step 1) Select Data'!D215<>\"\"),'Step 1) Select Data'!D215,\"\")","v":""},"",{"$f":"IF(B196=\"\",\"\",'Step 1) Select Data'!E215)","v":""},"","","","","","",{"$f":"IF(J196=\"\",\"\",'Step 3) Fit Distribution'!$F$3*E196+'Step 3) Fit Distribution'!$F$4)","v":""},"","","","","","",""]
[null,{"$f":"IF(AND('Step 1) Select Data'!B216=\"\",'Step 1) Select Data'!D216<>\"\"),'Step 1) Select Data'!D216,\"\")","v":""},"",{"$f":"IF(B197=\"\",\"\",'Step 1) Select Data'!E216)","v":""},"","","","","","",{"$f":"IF(J197=\"\",\"\",'Step 3) Fit Distribution'!$F$3*E197+'Step 3) Fit Distribution'!$F$4)","v":""},"","","","","","",""]
[null,{"$f":"IF(AND('Step 1) Select Data'!B217=\"\",'Step 1) Select Data'!D217<>\"\"),'Step 1) Select Data'!D217,\"\")","v":""},"",{"$f":"IF(B198=\"\",\"\",'Step 1) Select Data'!E217)","v":""},"","","","","","",{"$f":"IF(J198=\"\",\"\",'Step 3) Fit Distribution'!$F$3*E198+'Step 3) Fit Distribution'!$F$4)","v":""},"","","","","","",""]
[null,{"$f":"IF(AND('Step 1) Select Data'!B218=\"\",'Step 1) Select Data'!D218<>\"\"),'Step 1) Select Data'!D218,\"\")","v":""},{"$f":"IF(B199=\"\",\"\",IF(OR(M199>=M200,M200=\"\"),M199,\"\"))","v":""},{"$f":"IF(B199=\"\",\"\",'Step 1) Select Data'!E218)","v":""},{"$f":"IF(C199=\"\",\"\",LOG10(N199)*(1/C199))","v":""},{"$f":"IF(OR(M199=\"\",C199=1),\"\",IF(C199=\"\",\"\",SQRT(R199/(C199-1))))","v":""},{"$f":"IF(E199=\"\",\"\",10^E199)","v":""},{"$f":"IF(I199=\"\",\"\",(I199-0.5)/COUNT($E$6:$E$2004))","v":""},{"$f":"IF(E199=\"\",\"\",RANK(E199,$E$6:$E$2004,1))","v":""},{"$f":"IF(H199=\"\",\"\",NORMINV(H199,5,1))","v":""},{"$f":"IF(J199=\"\",\"\",'Step 3) Fit Distribution'!$F$3*E199+'Step 3) Fit Distribution'!$F$4)","v":""},{"$f":"IF(K199=\"\",\"\",(K199-J199)^2)","v":""},{"$f":"IF(B199=\"\",\"\",IF(B199<>B198,1,M198+1))","v":""},{"$f":"IF(B199=\"\",\"\",IF(B199<>B198,ROUND(D199,4),ROUND(D199,4)*N198))","v":""},{"$f":"IF(OR(M199=\"\",C199=1),\"\",IF(AND(M199<>\"\",C199=\"\",E199=\"\"),O200,E199))","v":""},{"$f":"IF(OR(M199=\"\",C199=1),\"\",IF(AND(M199<>\"\",C199=\"\",E199=\"\"),P200,C199))","v":""},"",{"$f":"IF(Q199=\"\",\"\",IF(O199=O198,Q199+R198,Q199))","v":""}]
[null,{"$f":"IF(AND('Step 1) Select Data'!B219=\"\",'Step 1) Select Data'!D219<>\"\"),'Step 1) Select Data'!D219,\"\")","v":""},"",{"$f":"IF(B200=\"\",\"\",'Step 1) Select Data'!E219)","v":""},"","","","","","",{"$f":"IF(J200=\"\",\"\",'Step 3) Fit Distribution'!$F$3*E200+'Step 3) Fit Distribution'!$F$4)","v":""},"","","","","","",""]
[null,{"$f":"IF(AND('Step 1) Select Data'!B220=\"\",'Step 1) Select Data'!D220<>\"\"),'Step 1) Select Data'!D220,\"\")","v":""},"",{"$f":"IF(B201=\"\",\"\",'Step 1) Select Data'!E220)","v":""},"","","","","","",{"$f":"IF(J201=\"\",\"\",'Step 3) Fit Distribution'!$F$3*E201+'Step 3) Fit Distribution'!$F$4)","v":""},"","","","","","",""]
[null,{"$f":"IF(AND('Step 1) Select Data'!B221=\"\",'Step 1) Select Data'!D221<>\"\"),'Step 1) Select Data'!D221,\"\")","v":""},"",{"$f":"IF(B202=\"\",\"\",'Step 1) Select Data'!E221)","v":""},"","","","","","",{"$f":"IF(J202=\"\",\"\",'Step 3) Fit Distribution'!$F$3*E202+'Step 3) Fit Distribution'!$F$4)","v":""},"","","","","","",""]
[null,{"$f":"IF(AND('Step 1) Select Data'!B222=\"\",'Step 1) Select Data'!D222<>\"\"),'Step 1) Select Data'!D222,\"\")","v":""},"",{"$f":"IF(B203=\"\",\"\",'Step 1) Select Data'!E222)","v":""},"","","","","","",{"$f":"IF(J203=\"\",\"\",'Step 3) Fit Distribution'!$F$3*E203+'Step 3) Fit Distribution'!$F$4)","v":""},"","","","","","",""]
[null,{"$f":"IF(AND('Step 1) Select Data'!B223=\"\",'Step 1) Select Data'!D223<>\"\"),'Step 1) Select Data'!D223,\"\")","v":""},"",{"$f":"IF(B204=\"\",\"\",'Step 1) Select Data'!E223)","v":""},"","","","","","",{"$f":"IF(J204=\"\",\"\",'Step 3) Fit Distribution'!$F$3*E204+'Step 3) Fit Distribution'!$F$4)","v":""},"","","","","","",""]
[null,{"$f":"IF(AND('Step 1) Select Data'!B224=\"\",'Step 1) Select Data'!D224<>\"\"),'Step 1) Select Data'!D224,\"\")","v":""},"",{"$f":"IF(B205=\"\",\"\",'Step 1) Select Data'!E224)","v":""},"","","","","","",{"$f":"IF(J205=\"\",\"\",'Step 3) Fit Distribution'!$F$3*E205+'Step 3) Fit Distribution'!$F$4)","v":""},"","","","","","",""]
[null,{"$f":"IF(AND('Step 1) Select Data'!B225=\"\",'Step 1) Select Data'!D225<>\"\"),'Step 1) Select Data'!D225,\"\")","v":""},"",{"$f":"IF(B206=\"\",\"\",'Step 1) Select Data'!E225)","v":""},"","","","","","",{"$f":"IF(J206=\"\",\"\",'Step 3) Fit Distribution'!$F$3*E206+'Step 3) Fit Distribution'!$F$4)","v":""},"","","","","","",""]
[null,{"$f":"IF(AND('Step 1) Select Data'!B226=\"\",'Step 1) Select Data'!D226<>\"\"),'Step 1) Select Data'!D226,\"\")","v":""},"",{"$f":"IF(B207=\"\",\"\",'Step 1) Select Data'!E226)","v":""},"","","","","","",{"$f":"IF(J207=\"\",\"\",'Step 3) Fit Distribution'!$F$3*E207+'Step 3) Fit Distribution'!$F$4)","v":""},"","","","","","",""]
[null,{"$f":"IF(AND('Step 1) Select Data'!B227=\"\",'Step 1) Select Data'!D227<>\"\"),'Step 1) Select Data'!D227,\"\")","v":""},"",{"$f":"IF(B208=\"\",\"\",'Step 1) Select Data'!E227)","v":""},"","","","","","",{"$f":"IF(J208=\"\",\"\",'Step 3) Fit Distribution'!$F$3*E208+'Step 3) Fit Distribution'!$F$4)","v":""},"","","","","","",""]
[null,{"$f":"IF(AND('Step 1) Select Data'!B228=\"\",'Step 1) Select Data'!D228<>\"\"),'Step 1) Select Data'!D228,\"\")","v":""},"",{"$f":"IF(B209=\"\",\"\",'Step 1) Select Data'!E228)","v":""},"","","","","","",{"$f":"IF(J209=\"\",\"\",'Step 3) Fit Distribution'!$F$3*E209+'Step 3) Fit Distribution'!$F$4)","v":""},"","","","","","",""]
[null,{"$f":"IF(AND('Step 1) Select Data'!B229=\"\",'Step 1) Select Data'!D229<>\"\"),'Step 1) Select Data'!D229,\"\")","v":""},"",{"$f":"IF(B210=\"\",\"\",'Step 1) Select Data'!E229)","v":""},"","","","","","",{"$f":"IF(J210=\"\",\"\",'Step 3) Fit Distribution'!$F$3*E210+'Step 3) Fit Distribution'!$F$4)","v":""},"","","","","","",""]
[null,{"$f":"IF(AND('Step 1) Select Data'!B230=\"\",'Step 1) Select Data'!D230<>\"\"),'Step 1) Select Data'!D230,\"\")","v":""},"",{"$f":"IF(B211=\"\",\"\",'Step 1) Select Data'!E230)","v":""},"","","","","","",{"$f":"IF(J211=\"\",\"\",'Step 3) Fit Distribution'!$F$3*E211+'Step 3) Fit Distribution'!$F$4)","v":""},"","","","","","",""]
[null,{"$f":"IF(AND('Step 1) Select Data'!B231=\"\",'Step 1) Select Data'!D231<>\"\"),'Step 1) Select Data'!D231,\"\")","v":""},"",{"$f":"IF(B212=\"\",\"\",'Step 1) Select Data'!E231)","v":""},"","","","","","",{"$f":"IF(J212=\"\",\"\",'Step 3) Fit Distribution'!$F$3*E212+'Step 3) Fit Distribution'!$F$4)","v":""},"","","","","",{"$f":"IF(O212=\"\",\"\",ROUND(LOG(D212)-O212,4)^2)","v":""},""]
[null,{"$f":"IF(AND('Step 1) Select Data'!B232=\"\",'Step 1) Select Data'!D232<>\"\"),'Step 1) Select Data'!D232,\"\")","v":""},"",{"$f":"IF(B213=\"\",\"\",'Step 1) Select Data'!E232)","v":""},"","","","","","",{"$f":"IF(J213=\"\",\"\",'Step 3) Fit Distribution'!$F$3*E213+'Step 3) Fit Distribution'!$F$4)","v":""},"","","","","","",""]
[null,{"$f":"IF(AND('Step 1) Select Data'!B233=\"\",'Step 1) Select Data'!D233<>\"\"),'Step 1) Select Data'!D233,\"\")","v":""},"",{"$f":"IF(B214=\"\",\"\",'Step 1) Select Data'!E233)","v":""},"","","","","","",{"$f":"IF(J214=\"\",\"\",'Step 3) Fit Distribution'!$F$3*E214+'Step 3) Fit Distribution'!$F$4)","v":""},"","","","","","",""]
[null,{"$f":"IF(AND('Step 1) Select Data'!B234=\"\",'Step 1) Select Data'!D234<>\"\"),'Step 1) Select Data'!D234,\"\")","v":""},"",{"$f":"IF(B215=\"\",\"\",'Step 1) Select Data'!E234)","v":""},"","","","","","",{"$f":"IF(J215=\"\",\"\",'Step 3) Fit Distribution'!$F$3*E215+'Step 3) Fit Distribution'!$F$4)","v":""},"","","","","","",""]
[null,{"$f":"IF(AND('Step 1) Select Data'!B235=\"\",'Step 1) Select Data'!D235<>\"\"),'Step 1) Select Data'!D235,\"\")","v":""},"",{"$f":"IF(B216=\"\",\"\",'Step 1) Select Data'!E235)","v":""},"","","","","","",{"$f":"IF(J216=\"\",\"\",'Step 3) Fit Distribution'!$F$3*E216+'Step 3) Fit Distribution'!$F$4)","v":""},"","","","","","",""]
[null,{"$f":"IF(AND('Step 1) Select Data'!B236=\"\",'Step 1) Select Data'!D236<>\"\"),'Step 1) Select Data'!D236,\"\")","v":""},"",{"$f":"IF(B217=\"\",\"\",'Step 1) Select Data'!E236)","v":""},"","","","","","",{"$f":"IF(J217=\"\",\"\",'Step 3) Fit Distribution'!$F$3*E217+'Step 3) Fit Distribution'!$F$4)","v":""},"","","","","","",""]
[null,{"$f":"IF(AND('Step 1) Select Data'!B237=\"\",'Step 1) Select Data'!D237<>\"\"),'Step 1) Select Data'!D237,\"\")","v":""},"",{"$f":"IF(B218=\"\",\"\",'Step 1) Select Data'!E237)","v":""},"","","","","","",{"$f":"IF(J218=\"\",\"\",'Step 3) Fit Distribution'!$F$3*E218+'Step 3) Fit Distribution'!$F$4)","v":""},"","","","","","",""]
[null,{"$f":"IF(AND('Step 1) Select Data'!B238=\"\",'Step 1) Select Data'!D238<>\"\"),'Step 1) Select Data'!D238,\"\")","v":""},"",{"$f":"IF(B219=\"\",\"\",'Step 1) Select Data'!E238)","v":""},"","","","","","",{"$f":"IF(J219=\"\",\"\",'Step 3) Fit Distribution'!$F$3*E219+'Step 3) Fit Distribution'!$F$4)","v":""},"","","","","","",""]
[null,{"$f":"IF(AND('Step 1) Select Data'!B239=\"\",'Step 1) Select Data'!D239<>\"\"),'Step 1) Select Data'!D239,\"\")","v":""},"",{"$f":"IF(B220=\"\",\"\",'Step 1) Select Data'!E239)","v":""},"","","","","","",{"$f":"IF(J220=\"\",\"\",'Step 3) Fit Distribution'!$F$3*E220+'Step 3) Fit Distribution'!$F$4)","v":""},"","","","","","",""]
[null,{"$f":"IF(AND('Step 1) Select Data'!B240=\"\",'Step 1) Select Data'!D240<>\"\"),'Step 1) Select Data'!D240,\"\")","v":""},"",{"$f":"IF(B221=\"\",\"\",'Step 1) Select Data'!E240)","v":""},"","","","","","",{"$f":"IF(J221=\"\",\"\",'Step 3) Fit Distribution'!$F$3*E221+'Step 3) Fit Distribution'!$F$4)","v":""},"","","","","","",""]
[null,{"$f":"IF(AND('Step 1) Select Data'!B241=\"\",'Step 1) Select Data'!D241<>\"\"),'Step 1) Select Data'!D241,\"\")","v":""},"",{"$f":"IF(B222=\"\",\"\",'Step 1) Select Data'!E241)","v":""},"","","","","","",{"$f":"IF(J222=\"\",\"\",'Step 3) Fit Distribution'!$F$3*E222+'Step 3) Fit Distribution'!$F$4)","v":""},"","","","","","",""]
[null,{"$f":"IF(AND('Step 1) Select Data'!B242=\"\",'Step 1) Select Data'!D242<>\"\"),'Step 1) Select Data'!D242,\"\")","v":""},"",{"$f":"IF(B223=\"\",\"\",'Step 1) Select Data'!E242)","v":""},"","","","","","",{"$f":"IF(J223=\"\",\"\",'Step 3) Fit Distribution'!$F$3*E223+'Step 3) Fit Distribution'!$F$4)","v":""},"","","","","","",""]
[null,{"$f":"IF(AND('Step 1) Select Data'!B243=\"\",'Step 1) Select Data'!D243<>\"\"),'Step 1) Select Data'!D243,\"\")","v":""},"",{"$f":"IF(B224=\"\",\"\",'Step 1) Select Data'!E243)","v":""},"","","","","","",{"$f":"IF(J224=\"\",\"\",'Step 3) Fit Distribution'!$F$3*E224+'Step 3) Fit Distribution'!$F$4)","v":""},"","","","","","",""]
[null,{"$f":"IF(AND('Step 1) Select Data'!B244=\"\",'Step 1) Select Data'!D244<>\"\"),'Step 1) Select Data'!D244,\"\")","v":""},"",{"$f":"IF(B225=\"\",\"\",'Step 1) Select Data'!E244)","v":""},"","","","","","",{"$f":"IF(J225=\"\",\"\",'Step 3) Fit Distribution'!$F$3*E225+'Step 3) Fit Distribution'!$F$4)","v":""},"","","","","","",""]
[null,{"$f":"IF(AND('Step 1) Select Data'!B245=\"\",'Step 1) Select Data'!D245<>\"\"),'Step 1) Select Data'!D245,\"\")","v":""},"",{"$f":"IF(B226=\"\",\"\",'Step 1) Select Data'!E245)","v":""},"","","","","","",{"$f":"IF(J226=\"\",\"\",'Step 3) Fit Distribution'!$F$3*E226+'Step 3) Fit Distribution'!$F$4)","v":""},"","","","","","",""]
[null,{"$f":"IF(AND('Step 1) Select Data'!B246=\"\",'Step 1) Select Data'!D246<>\"\"),'Step 1) Select Data'!D246,\"\")","v":""},"",{"$f":"IF(B227=\"\",\"\",'Step 1) Select Data'!E246)","v":""},"","","","","","",{"$f":"IF(J227=\"\",\"\",'Step 3) Fit Distribution'!$F$3*E227+'Step 3) Fit Distribution'!$F$4)","v":""},"","","","","","",""]
[null,{"$f":"IF(AND('Step 1) Select Data'!B247=\"\",'Step 1) Select Data'!D247<>\"\"),'Step 1) Select Data'!D247,\"\")","v":""},"",{"$f":"IF(B228=\"\",\"\",'Step 1) Select Data'!E247)","v":""},"","","","","","",{"$f":"IF(J228=\"\",\"\",'Step 3) Fit Distribution'!$F$3*E228+'Step 3) Fit Distribution'!$F$4)","v":""},"","","","","","",""]
[null,{"$f":"IF(AND('Step 1) Select Data'!B248=\"\",'Step 1) Select Data'!D248<>\"\"),'Step 1) Select Data'!D248,\"\")","v":""},"",{"$f":"IF(B229=\"\",\"\",'Step 1) Select Data'!E248)","v":""},"","","","","","",{"$f":"IF(J229=\"\",\"\",'Step 3) Fit Distribution'!$F$3*E229+'Step 3) Fit Distribution'!$F$4)","v":""},"","","","","","",""]
[null,{"$f":"IF(AND('Step 1) Select Data'!B249=\"\",'Step 1) Select Data'!D249<>\"\"),'Step 1) Select Data'!D249,\"\")","v":""},"",{"$f":"IF(B230=\"\",\"\",'Step 1) Select Data'!E249)","v":""},"","","","","","",{"$f":"IF(J230=\"\",\"\",'Step 3) Fit Distribution'!$F$3*E230+'Step 3) Fit Distribution'!$F$4)","v":""},"","","","","","",""]
[null,{"$f":"IF(AND('Step 1) Select Data'!B250=\"\",'Step 1) Select Data'!D250<>\"\"),'Step 1) Select Data'!D250,\"\")","v":""},"",{"$f":"IF(B231=\"\",\"\",'Step 1) Select Data'!E250)","v":""},"","","","","","",{"$f":"IF(J231=\"\",\"\",'Step 3) Fit Distribution'!$F$3*E231+'Step 3) Fit Distribution'!$F$4)","v":""},"","","","","","",""]
[null,{"$f":"IF(AND('Step 1) Select Data'!B251=\"\",'Step 1) Select Data'!D251<>\"\"),'Step 1) Select Data'!D251,\"\")","v":""},"",{"$f":"IF(B232=\"\",\"\",'Step 1) Select Data'!E251)","v":""},"","","","","","",{"$f":"IF(J232=\"\",\"\",'Step 3) Fit Distribution'!$F$3*E232+'Step 3) Fit Distribution'!$F$4)","v":""},"","","","","","",""]
[null,{"$f":"IF(AND('Step 1) Select Data'!B252=\"\",'Step 1) Select Data'!D252<>\"\"),'Step 1) Select Data'!D252,\"\")","v":""},"",{"$f":"IF(B233=\"\",\"\",'Step 1) Select Data'!E252)","v":""},"","","","","","",{"$f":"IF(J233=\"\",\"\",'Step 3) Fit Distribution'!$F$3*E233+'Step 3) Fit Distribution'!$F$4)","v":""},"","","","","","",""]
[null,{"$f":"IF(AND('Step 1) Select Data'!B253=\"\",'Step 1) Select Data'!D253<>\"\"),'Step 1) Select Data'!D253,\"\")","v":""},"",{"$f":"IF(B234=\"\",\"\",'Step 1) Select Data'!E253)","v":""},"","","","","","",{"$f":"IF(J234=\"\",\"\",'Step 3) Fit Distribution'!$F$3*E234+'Step 3) Fit Distribution'!$F$4)","v":""},"","","","","","",""]
[null,{"$f":"IF(AND('Step 1) Select Data'!B254=\"\",'Step 1) Select Data'!D254<>\"\"),'Step 1) Select Data'!D254,\"\")","v":""},"",{"$f":"IF(B235=\"\",\"\",'Step 1) Select Data'!E254)","v":""},"","","","","","",{"$f":"IF(J235=\"\",\"\",'Step 3) Fit Distribution'!$F$3*E235+'Step 3) Fit Distribution'!$F$4)","v":""},"","","","","","",""]
[null,{"$f":"IF(AND('Step 1) Select Data'!B255=\"\",'Step 1) Select Data'!D255<>\"\"),'Step 1) Select Data'!D255,\"\")","v":""},"",{"$f":"IF(B236=\"\",\"\",'Step 1) Select Data'!E255)","v":""},"","","","","","",{"$f":"IF(J236=\"\",\"\",'Step 3) Fit Distribution'!$F$3*E236+'Step 3) Fit Distribution'!$F$4)","v":""},"","","","","","",""]
[null,{"$f":"IF(AND('Step 1) Select Data'!B256=\"\",'Step 1) Select Data'!D256<>\"\"),'Step 1) Select Data'!D256,\"\")","v":""},"",{"$f":"IF(B237=\"\",\"\",'Step 1) Select Data'!E256)","v":""},"","","","","","",{"$f":"IF(J237=\"\",\"\",'Step 3) Fit Distribution'!$F$3*E237+'Step 3) Fit Distribution'!$F$4)","v":""},"","","","","","",""]
[null,{"$f":"IF(AND('Step 1) Select Data'!B257=\"\",'Step 1) Select Data'!D257<>\"\"),'Step 1) Select Data'!D257,\"\")","v":""},"",{"$f":"IF(B238=\"\",\"\",'Step 1) Select Data'!E257)","v":""},"","","","","","",{"$f":"IF(J238=\"\",\"\",'Step 3) Fit Distribution'!$F$3*E238+'Step 3) Fit Distribution'!$F$4)","v":""},"","","","","","",""]
[null,{"$f":"IF(AND('Step 1) Select Data'!B258=\"\",'Step 1) Select Data'!D258<>\"\"),'Step 1) Select Data'!D258,\"\")","v":""},"",{"$f":"IF(B239=\"\",\"\",'Step 1) Select Data'!E258)","v":""},"","","","","","",{"$f":"IF(J239=\"\",\"\",'Step 3) Fit Distribution'!$F$3*E239+'Step 3) Fit Distribution'!$F$4)","v":""},"","","","","","",""]
[null,{"$f":"IF(AND('Step 1) Select Data'!B259=\"\",'Step 1) Select Data'!D259<>\"\"),'Step 1) Select Data'!D259,\"\")","v":""},"",{"$f":"IF(B240=\"\",\"\",'Step 1) Select Data'!E259)","v":""},"","","","","","",{"$f":"IF(J240=\"\",\"\",'Step 3) Fit Distribution'!$F$3*E240+'Step 3) Fit Distribution'!$F$4)","v":""},"","","","","","",""]
[null,{"$f":"IF(AND('Step 1) Select Data'!B260=\"\",'Step 1) Select Data'!D260<>\"\"),'Step 1) Select Data'!D260,\"\")","v":""},"",{"$f":"IF(B241=\"\",\"\",'Step 1) Select Data'!E260)","v":""},"","","","","","",{"$f":"IF(J241=\"\",\"\",'Step 3) Fit Distribution'!$F$3*E241+'Step 3) Fit Distribution'!$F$4)","v":""},"","","","","","",""]
[null,{"$f":"IF(AND('Step 1) Select Data'!B261=\"\",'Step 1) Select Data'!D261<>\"\"),'Step 1) Select Data'!D261,\"\")","v":""},"",{"$f":"IF(B242=\"\",\"\",'Step 1) Select Data'!E261)","v":""},"","","","","","",{"$f":"IF(J242=\"\",\"\",'Step 3) Fit Distribution'!$F$3*E242+'Step 3) Fit Distribution'!$F$4)","v":""},"","","","","","",""]
[null,{"$f":"IF(AND('Step 1) Select Data'!B262=\"\",'Step 1) Select Data'!D262<>\"\"),'Step 1) Select Data'!D262,\"\")","v":""},"",{"$f":"IF(B243=\"\",\"\",'Step 1) Select Data'!E262)","v":""},"","","","","","",{"$f":"IF(J243=\"\",\"\",'Step 3) Fit Distribution'!$F$3*E243+'Step 3) Fit Distribution'!$F$4)","v":""},"","","","","","",""]
[null,{"$f":"IF(AND('Step 1) Select Data'!B263=\"\",'Step 1) Select Data'!D263<>\"\"),'Step 1) Select Data'!D263,\"\")","v":""},"",{"$f":"IF(B244=\"\",\"\",'Step 1) Select Data'!E263)","v":""},"","","","","","",{"$f":"IF(J244=\"\",\"\",'Step 3) Fit Distribution'!$F$3*E244+'Step 3) Fit Distribution'!$F$4)","v":""},"","","","","","",""]
[null,{"$f":"IF(AND('Step 1) Select Data'!B264=\"\",'Step 1) Select Data'!D264<>\"\"),'Step 1) Select Data'!D264,\"\")","v":""},"",{"$f":"IF(B245=\"\",\"\",'Step 1) Select Data'!E264)","v":""},"","","","","","",{"$f":"IF(J245=\"\",\"\",'Step 3) Fit Distribution'!$F$3*E245+'Step 3) Fit Distribution'!$F$4)","v":""},"","","","","","",""]
[null,{"$f":"IF(AND('Step 1) Select Data'!B265=\"\",'Step 1) Select Data'!D265<>\"\"),'Step 1) Select Data'!D265,\"\")","v":""},"",{"$f":"IF(B246=\"\",\"\",'Step 1) Select Data'!E265)","v":""},"","","","","","",{"$f":"IF(J246=\"\",\"\",'Step 3) Fit Distribution'!$F$3*E246+'Step 3) Fit Distribution'!$F$4)","v":""},"","","","","","",""]
[null,{"$f":"IF(AND('Step 1) Select Data'!B266=\"\",'Step 1) Select Data'!D266<>\"\"),'Step 1) Select Data'!D266,\"\")","v":""},"",{"$f":"IF(B247=\"\",\"\",'Step 1) Select Data'!E266)","v":""},"","","","","","",{"$f":"IF(J247=\"\",\"\",'Step 3) Fit Distribution'!$F$3*E247+'Step 3) Fit Distribution'!$F$4)","v":""},"","","","","","",""]
[null,{"$f":"IF(AND('Step 1) Select Data'!B267=\"\",'Step 1) Select Data'!D267<>\"\"),'Step 1) Select Data'!D267,\"\")","v":""},"",{"$f":"IF(B248=\"\",\"\",'Step 1) Select Data'!E267)","v":""},"","","","","","",{"$f":"IF(J248=\"\",\"\",'Step 3) Fit Distribution'!$F$3*E248+'Step 3) Fit Distribution'!$F$4)","v":""},"","","","","","",""]
[null,{"$f":"IF(AND('Step 1) Select Data'!B268=\"\",'Step 1) Select Data'!D268<>\"\"),'Step 1) Select Data'!D268,\"\")","v":""},"",{"$f":"IF(B249=\"\",\"\",'Step 1) Select Data'!E268)","v":""},"","","","","","",{"$f":"IF(J249=\"\",\"\",'Step 3) Fit Distribution'!$F$3*E249+'Step 3) Fit Distribution'!$F$4)","v":""},"","","","","","",""]
[null,{"$f":"IF(AND('Step 1) Select Data'!B269=\"\",'Step 1) Select Data'!D269<>\"\"),'Step 1) Select Data'!D269,\"\")","v":""},"",{"$f":"IF(B250=\"\",\"\",'Step 1) Select Data'!E269)","v":""},"","","","","","",{"$f":"IF(J250=\"\",\"\",'Step 3) Fit Distribution'!$F$3*E250+'Step 3) Fit Distribution'!$F$4)","v":""},"","","","","","",""]
[null,{"$f":"IF(AND('Step 1) Select Data'!B270=\"\",'Step 1) Select Data'!D270<>\"\"),'Step 1) Select Data'!D270,\"\")","v":""},"",{"$f":"IF(B251=\"\",\"\",'Step 1) Select Data'!E270)","v":""},"","","","","","",{"$f":"IF(J251=\"\",\"\",'Step 3) Fit Distribution'!$F$3*E251+'Step 3) Fit Distribution'!$F$4)","v":""},"","","","","","",""]
[null,{"$f":"IF(AND('Step 1) Select Data'!B271=\"\",'Step 1) Select Data'!D271<>\"\"),'Step 1) Select Data'!D271,\"\")","v":""},"",{"$f":"IF(B252=\"\",\"\",'Step 1) Select Data'!E271)","v":""},"","","","","","",{"$f":"IF(J252=\"\",\"\",'Step 3) Fit Distribution'!$F$3*E252+'Step 3) Fit Distribution'!$F$4)","v":""},"","","","","","",""]
[null,{"$f":"IF(AND('Step 1) Select Data'!B272=\"\",'Step 1) Select Data'!D272<>\"\"),'Step 1) Select Data'!D272,\"\")","v":""},"",{"$f":"IF(B253=\"\",\"\",'Step 1) Select Data'!E272)","v":""},"","","","","","",{"$f":"IF(J253=\"\",\"\",'Step 3) Fit Distribution'!$F$3*E253+'Step 3) Fit Distribution'!$F$4)","v":""},"","","","","","",""]
[null,{"$f":"IF(AND('Step 1) Select Data'!B273=\"\",'Step 1) Select Data'!D273<>\"\"),'Step 1) Select Data'!D273,\"\")","v":""},"",{"$f":"IF(B254=\"\",\"\",'Step 1) Select Data'!E273)","v":""},"","","","","","",{"$f":"IF(J254=\"\",\"\",'Step 3) Fit Distribution'!$F$3*E254+'Step 3) Fit Distribution'!$F$4)","v":""},"","","","","","",""]
[null,{"$f":"IF(AND('Step 1) Select Data'!B274=\"\",'Step 1) Select Data'!D274<>\"\"),'Step 1) Select Data'!D274,\"\")","v":""},"",{"$f":"IF(B255=\"\",\"\",'Step 1) Select Data'!E274)","v":""},"","","","","","",{"$f":"IF(J255=\"\",\"\",'Step 3) Fit Distribution'!$F$3*E255+'Step 3) Fit Distribution'!$F$4)","v":""},"","","","","","",""]
[null,{"$f":"IF(AND('Step 1) Select Data'!B275=\"\",'Step 1) Select Data'!D275<>\"\"),'Step 1) Select Data'!D275,\"\")","v":""},"",{"$f":"IF(B256=\"\",\"\",'Step 1) Select Data'!E275)","v":""},"","","","","","",{"$f":"IF(J256=\"\",\"\",'Step 3) Fit Distribution'!$F$3*E256+'Step 3) Fit Distribution'!$F$4)","v":""},"","","","","","",""]
[null,{"$f":"IF(AND('Step 1) Select Data'!B276=\"\",'Step 1) Select Data'!D276<>\"\"),'Step 1) Select Data'!D276,\"\")","v":""},"",{"$f":"IF(B257=\"\",\"\",'Step 1) Select Data'!E276)","v":""},"","","","","","",{"$f":"IF(J257=\"\",\"\",'Step 3) Fit Distribution'!$F$3*E257+'Step 3) Fit Distribution'!$F$4)","v":""},"","","","","","",""]
[null,{"$f":"IF(AND('Step 1) Select Data'!B277=\"\",'Step 1) Select Data'!D277<>\"\"),'Step 1) Select Data'!D277,\"\")","v":""},"",{"$f":"IF(B258=\"\",\"\",'Step 1) Select Data'!E277)","v":""},"","","","","","",{"$f":"IF(J258=\"\",\"\",'Step 3) Fit Distribution'!$F$3*E258+'Step 3) Fit Distribution'!$F$4)","v":""},"","","","","","",""]
[null,{"$f":"IF(AND('Step 1) Select Data'!B278=\"\",'Step 1) Select Data'!D278<>\"\"),'Step 1) Select Data'!D278,\"\")","v":""},"",{"$f":"IF(B259=\"\",\"\",'Step 1) Select Data'!E278)","v":""},"","","","","","",{"$f":"IF(J259=\"\",\"\",'Step 3) Fit Distribution'!$F$3*E259+'Step 3) Fit Distribution'!$F$4)","v":""},"","","","","","",""]
[null,{"$f":"IF(AND('Step 1) Select Data'!B279=\"\",'Step 1) Select Data'!D279<>\"\"),'Step 1) Select Data'!D279,\"\")","v":""},"",{"$f":"IF(B260=\"\",\"\",'Step 1) Select Data'!E279)","v":""},"","","","","","",{"$f":"IF(J260=\"\",\"\",'Step 3) Fit Distribution'!$F$3*E260+'Step 3) Fit Distribution'!$F$4)","v":""},"","","","","","",""]
[null,{"$f":"IF(AND('Step 1) Select Data'!B280=\"\",'Step 1) Select Data'!D280<>\"\"),'Step 1) Select Data'!D280,\"\")","v":""},"",{"$f":"IF(B261=\"\",\"\",'Step 1) Select Data'!E280)","v":""},"","","","","","",{"$f":"IF(J261=\"\",\"\",'Step 3) Fit Distribution'!$F$3*E261+'Step 3) Fit Distribution'!$F$4)","v":""},"","","","","","",""]
[null,{"$f":"IF(AND('Step 1) Select Data'!B281=\"\",'Step 1) Select Data'!D281<>\"\"),'Step 1) Select Data'!D281,\"\")","v":""},"",{"$f":"IF(B262=\"\",\"\",'Step 1) Select Data'!E281)","v":""},"","","","","","",{"$f":"IF(J262=\"\",\"\",'Step 3) Fit Distribution'!$F$3*E262+'Step 3) Fit Distribution'!$F$4)","v":""},"","","","","","",""]
[null,{"$f":"IF(AND('Step 1) Select Data'!B282=\"\",'Step 1) Select Data'!D282<>\"\"),'Step 1) Select Data'!D282,\"\")","v":""},{"$f":"IF(B263=\"\",\"\",IF(OR(M263>=M264,M264=\"\"),M263,\"\"))","v":""},{"$f":"IF(B263=\"\",\"\",'Step 1) Select Data'!E282)","v":""},{"$f":"IF(C263=\"\",\"\",LOG10(N263)*(1/C263))","v":""},{"$f":"IF(OR(M263=\"\",C263=1),\"\",IF(C263=\"\",\"\",SQRT(R263/(C263-1))))","v":""},{"$f":"IF(E263=\"\",\"\",10^E263)","v":""},{"$f":"IF(I263=\"\",\"\",(I263-0.5)/COUNT($E$6:$E$2004))","v":""},{"$f":"IF(E263=\"\",\"\",RANK(E263,$E$6:$E$2004,1))","v":""},{"$f":"IF(H263=\"\",\"\",NORMINV(H263,5,1))","v":""},{"$f":"IF(J263=\"\",\"\",'Step 3) Fit Distribution'!$F$3*E263+'Step 3) Fit Distribution'!$F$4)","v":""},{"$f":"IF(K263=\"\",\"\",(K263-J263)^2)","v":""},{"$f":"IF(B263=\"\",\"\",IF(B263<>B262,1,M262+1))","v":""},{"$f":"IF(B263=\"\",\"\",IF(B263<>B262,ROUND(D263,4),ROUND(D263,4)*N262))","v":""},{"$f":"IF(OR(M263=\"\",C263=1),\"\",IF(AND(M263<>\"\",C263=\"\",E263=\"\"),O264,E263))","v":""},{"$f":"IF(OR(M263=\"\",C263=1),\"\",IF(AND(M263<>\"\",C263=\"\",E263=\"\"),P264,C263))","v":""},"",{"$f":"IF(Q263=\"\",\"\",IF(O263=O262,Q263+R262,Q263))","v":""}]
[null,{"$f":"IF(AND('Step 1) Select Data'!B283=\"\",'Step 1) Select Data'!D283<>\"\"),'Step 1) Select Data'!D283,\"\")","v":""},"",{"$f":"IF(B264=\"\",\"\",'Step 1) Select Data'!E283)","v":""},"","","","","","",{"$f":"IF(J264=\"\",\"\",'Step 3) Fit Distribution'!$F$3*E264+'Step 3) Fit Distribution'!$F$4)","v":""},"","","","","","",""]
[null,{"$f":"IF(AND('Step 1) Select Data'!B284=\"\",'Step 1) Select Data'!D284<>\"\"),'Step 1) Select Data'!D284,\"\")","v":""},"",{"$f":"IF(B265=\"\",\"\",'Step 1) Select Data'!E284)","v":""},"","","","","","",{"$f":"IF(J265=\"\",\"\",'Step 3) Fit Distribution'!$F$3*E265+'Step 3) Fit Distribution'!$F$4)","v":""},"","","","","","",""]
[null,{"$f":"IF(AND('Step 1) Select Data'!B285=\"\",'Step 1) Select Data'!D285<>\"\"),'Step 1) Select Data'!D285,\"\")","v":""},"",{"$f":"IF(B266=\"\",\"\",'Step 1) Select Data'!E285)","v":""},"","","","","","",{"$f":"IF(J266=\"\",\"\",'Step 3) Fit Distribution'!$F$3*E266+'Step 3) Fit Distribution'!$F$4)","v":""},"","","","","","",""]
[null,{"$f":"IF(AND('Step 1) Select Data'!B286=\"\",'Step 1) Select Data'!D286<>\"\"),'Step 1) Select Data'!D286,\"\")","v":""},"",{"$f":"IF(B267=\"\",\"\",'Step 1) Select Data'!E286)","v":""},"","","","","","",{"$f":"IF(J267=\"\",\"\",'Step 3) Fit Distribution'!$F$3*E267+'Step 3) Fit Distribution'!$F$4)","v":""},"","","","","","",""]
[null,{"$f":"IF(AND('Step 1) Select Data'!B287=\"\",'Step 1) Select Data'!D287<>\"\"),'Step 1) Select Data'!D287,\"\")","v":""},"",{"$f":"IF(B268=\"\",\"\",'Step 1) Select Data'!E287)","v":""},"","","","","","",{"$f":"IF(J268=\"\",\"\",'Step 3) Fit Distribution'!$F$3*E268+'Step 3) Fit Distribution'!$F$4)","v":""},"","","","","","",""]
[null,{"$f":"IF(AND('Step 1) Select Data'!B288=\"\",'Step 1) Select Data'!D288<>\"\"),'Step 1) Select Data'!D288,\"\")","v":""},"",{"$f":"IF(B269=\"\",\"\",'Step 1) Select Data'!E288)","v":""},"","","","","","",{"$f":"IF(J269=\"\",\"\",'Step 3) Fit Distribution'!$F$3*E269+'Step 3) Fit Distribution'!$F$4)","v":""},"","","","","","",""]
[null,{"$f":"IF(AND('Step 1) Select Data'!B289=\"\",'Step 1) Select Data'!D289<>\"\"),'Step 1) Select Data'!D289,\"\")","v":""},"",{"$f":"IF(B270=\"\",\"\",'Step 1) Select Data'!E289)","v":""},"","","","","","",{"$f":"IF(J270=\"\",\"\",'Step 3) Fit Distribution'!$F$3*E270+'Step 3) Fit Distribution'!$F$4)","v":""},"","","","","","",""]
[null,{"$f":"IF(AND('Step 1) Select Data'!B290=\"\",'Step 1) Select Data'!D290<>\"\"),'Step 1) Select Data'!D290,\"\")","v":""},"",{"$f":"IF(B271=\"\",\"\",'Step 1) Select Data'!E290)","v":""},"","","","","","",{"$f":"IF(J271=\"\",\"\",'Step 3) Fit Distribution'!$F$3*E271+'Step 3) Fit Distribution'!$F$4)","v":""},"","","","","","",""]
[null,{"$f":"IF(AND('Step 1) Select Data'!B291=\"\",'Step 1) Select Data'!D291<>\"\"),'Step 1) Select Data'!D291,\"\")","v":""},"",{"$f":"IF(B272=\"\",\"\",'Step 1) Select Data'!E291)","v":""},"","","","","","",{"$f":"IF(J272=\"\",\"\",'Step 3) Fit Distribution'!$F$3*E272+'Step 3) Fit Distribution'!$F$4)","v":""},"","","","","","",""]
[null,{"$f":"IF(AND('Step 1) Select Data'!B292=\"\",'Step 1) Select Data'!D292<>\"\"),'Step 1) Select Data'!D292,\"\")","v":""},"",{"$f":"IF(B273=\"\",\"\",'Step 1) Select Data'!E292)","v":""},"","","","","","",{"$f":"IF(J273=\"\",\"\",'Step 3) Fit Distribution'!$F$3*E273+'Step 3) Fit Distribution'!$F$4)","v":""},"","","","","","",""]
[null,{"$f":"IF(AND('Step 1) Select Data'!B293=\"\",'Step 1) Select Data'!D293<>\"\"),'Step 1) Select Data'!D293,\"\")","v":""},"",{"$f":"IF(B274=\"\",\"\",'Step 1) Select Data'!E293)","v":""},"","","","","","",{"$f":"IF(J274=\"\",\"\",'Step 3) Fit Distribution'!$F$3*E274+'Step 3) Fit Distribution'!$F$4)","v":""},"","","","","","",""]
[null,{"$f":"IF(AND('Step 1) Select Data'!B294=\"\",'Step 1) Select Data'!D294<>\"\"),'Step 1) Select Data'!D294,\"\")","v":""},"",{"$f":"IF(B275=\"\",\"\",'Step 1) Select Data'!E294)","v":""},"","","","","","",{"$f":"IF(J275=\"\",\"\",'Step 3) Fit Distribution'!$F$3*E275+'Step 3) Fit Distribution'!$F$4)","v":""},"","","","","","",""]
[null,{"$f":"IF(AND('Step 1) Select Data'!B295=\"\",'Step 1) Select Data'!D295<>\"\"),'Step 1) Select Data'!D295,\"\")","v":""},"",{"$f":"IF(B276=\"\",\"\",'Step 1) Select Data'!E295)","v":""},"","","","","","",{"$f":"IF(J276=\"\",\"\",'Step 3) Fit Distribution'!$F$3*E276+'Step 3) Fit Distribution'!$F$4)","v":""},"","","","","",{"$f":"IF(O276=\"\",\"\",ROUND(LOG(D276)-O276,4)^2)","v":""},""]
[null,{"$f":"IF(AND('Step 1) Select Data'!B296=\"\",'Step 1) Select Data'!D296<>\"\"),'Step 1) Select Data'!D296,\"\")","v":""},"",{"$f":"IF(B277=\"\",\"\",'Step 1) Select Data'!E296)","v":""},"","","","","","",{"$f":"IF(J277=\"\",\"\",'Step 3) Fit Distribution'!$F$3*E277+'Step 3) Fit Distribution'!$F$4)","v":""},"","","","","","",""]
[null,{"$f":"IF(AND('Step 1) Select Data'!B297=\"\",'Step 1) Select Data'!D297<>\"\"),'Step 1) Select Data'!D297,\"\")","v":""},"",{"$f":"IF(B278=\"\",\"\",'Step 1) Select Data'!E297)","v":""},"","","","","","",{"$f":"IF(J278=\"\",\"\",'Step 3) Fit Distribution'!$F$3*E278+'Step 3) Fit Distribution'!$F$4)","v":""},"","","","","","",""]
[null,{"$f":"IF(AND('Step 1) Select Data'!B298=\"\",'Step 1) Select Data'!D298<>\"\"),'Step 1) Select Data'!D298,\"\")","v":""},"",{"$f":"IF(B279=\"\",\"\",'Step 1) Select Data'!E298)","v":""},"","","","","","",{"$f":"IF(J279=\"\",\"\",'Step 3) Fit Distribution'!$F$3*E279+'Step 3) Fit Distribution'!$F$4)","v":""},"","","","","","",""]
[null,{"$f":"IF(AND('Step 1) Select Data'!B299=\"\",'Step 1) Select Data'!D299<>\"\"),'Step 1) Select Data'!D299,\"\")","v":""},"",{"$f":"IF(B280=\"\",\"\",'Step 1) Select Data'!E299)","v":""},"","","","","","",{"$f":"IF(J280=\"\",\"\",'Step 3) Fit Distribution'!$F$3*E280+'Step 3) Fit Distribution'!$F$4)","v":""},"","","","","","",""]
[null,{"$f":"IF(AND('Step 1) Select Data'!B300=\"\",'Step 1) Select Data'!D300<>\"\"),'Step 1) Select Data'!D300,\"\")","v":""},"",{"$f":"IF(B281=\"\",\"\",'Step 1) Select Data'!E300)","v":""},"","","","","","",{"$f":"IF(J281=\"\",\"\",'Step 3) Fit Distribution'!$F$3*E281+'Step 3) Fit Distribution'!$F$4)","v":""},"","","","","","",""]
[null,{"$f":"IF(AND('Step 1) Select Data'!B301=\"\",'Step 1) Select Data'!D301<>\"\"),'Step 1) Select Data'!D301,\"\")","v":""},"",{"$f":"IF(B282=\"\",\"\",'Step 1) Select Data'!E301)","v":""},"","","","","","",{"$f":"IF(J282=\"\",\"\",'Step 3) Fit Distribution'!$F$3*E282+'Step 3) Fit Distribution'!$F$4)","v":""},"","","","","","",""]
[null,{"$f":"IF(AND('Step 1) Select Data'!B302=\"\",'Step 1) Select Data'!D302<>\"\"),'Step 1) Select Data'!D302,\"\")","v":""},"",{"$f":"IF(B283=\"\",\"\",'Step 1) Select Data'!E302)","v":""},"","","","","","",{"$f":"IF(J283=\"\",\"\",'Step 3) Fit Distribution'!$F$3*E283+'Step 3) Fit Distribution'!$F$4)","v":""},"","","","","","",""]
[null,{"$f":"IF(AND('Step 1) Select Data'!B303=\"\",'Step 1) Select Data'!D303<>\"\"),'Step 1) Select Data'!D303,\"\")","v":""},"",{"$f":"IF(B284=\"\",\"\",'Step 1) Select Data'!E303)","v":""},"","","","","","",{"$f":"IF(J284=\"\",\"\",'Step 3) Fit Distribution'!$F$3*E284+'Step 3) Fit Distribution'!$F$4)","v":""},"","","","","","",""]
[null,{"$f":"IF(AND('Step 1) Select Data'!B304=\"\",'Step 1) Select Data'!D304<>\"\"),'Step 1) Select Data'!D304,\"\")","v":""},"",{"$f":"IF(B285=\"\",\"\",'Step 1) Select Data'!E304)","v":""},"","","","","","",{"$f":"IF(J285=\"\",\"\",'Step 3) Fit Distribution'!$F$3*E285+'Step 3) Fit Distribution'!$F$4)","v":""},"","","","","","",""]
[null,{"$f":"IF(AND('Step 1) Select Data'!B305=\"\",'Step 1) Select Data'!D305<>\"\"),'Step 1) Select Data'!D305,\"\")","v":""},"",{"$f":"IF(B286=\"\",\"\",'Step 1) Select Data'!E305)","v":""},"","","","","","",{"$f":"IF(J286=\"\",\"\",'Step 3) Fit Distribution'!$F$3*E286+'Step 3) Fit Distribution'!$F$4)","v":""},"","","","","","",""]
[null,{"$f":"IF(AND('Step 1) Select Data'!B306=\"\",'Step 1) Select Data'!D306<>\"\"),'Step 1) Select Data'!D306,\"\")","v":""},"",{"$f":"IF(B287=\"\",\"\",'Step 1) Select Data'!E306)","v":""},"","","","","","",{"$f":"IF(J287=\"\",\"\",'Step 3) Fit Distribution'!$F$3*E287+'Step 3) Fit Distribution'!$F$4)","v":""},"","","","","","",""]
[null,{"$f":"IF(AND('Step 1) Select Data'!B307=\"\",'Step 1) Select Data'!D307<>\"\"),'Step 1) Select Data'!D307,\"\")","v":""},"",{"$f":"IF(B288=\"\",\"\",'Step 1) Select Data'!E307)","v":""},"","","","","","",{"$f":"IF(J288=\"\",\"\",'Step 3) Fit Distribution'!$F$3*E288+'Step 3) Fit Distribution'!$F$4)","v":""},"","","","","","",""]
[null,{"$f":"IF(AND('Step 1) Select Data'!B308=\"\",'Step 1) Select Data'!D308<>\"\"),'Step 1) Select Data'!D308,\"\")","v":""},"",{"$f":"IF(B289=\"\",\"\",'Step 1) Select Data'!E308)","v":""},"","","","","","",{"$f":"IF(J289=\"\",\"\",'Step 3) Fit Distribution'!$F$3*E289+'Step 3) Fit Distribution'!$F$4)","v":""},"","","","","","",""]
[null,{"$f":"IF(AND('Step 1) Select Data'!B309=\"\",'Step 1) Select Data'!D309<>\"\"),'Step 1) Select Data'!D309,\"\")","v":""},"",{"$f":"IF(B290=\"\",\"\",'Step 1) Select Data'!E309)","v":""},"","","","","","",{"$f":"IF(J290=\"\",\"\",'Step 3) Fit Distribution'!$F$3*E290+'Step 3) Fit Distribution'!$F$4)","v":""},"","","","","","",""]
[null,{"$f":"IF(AND('Step 1) Select Data'!B310=\"\",'Step 1) Select Data'!D310<>\"\"),'Step 1) Select Data'!D310,\"\")","v":""},"",{"$f":"IF(B291=\"\",\"\",'Step 1) Select Data'!E310)","v":""},"","","","","","",{"$f":"IF(J291=\"\",\"\",'Step 3) Fit Distribution'!$F$3*E291+'Step 3) Fit Distribution'!$F$4)","v":""},"","","","","","",""]
[null,{"$f":"IF(AND('Step 1) Select Data'!B311=\"\",'Step 1) Select Data'!D311<>\"\"),'Step 1) Select Data'!D311,\"\")","v":""},"",{"$f":"IF(B292=\"\",\"\",'Step 1) Select Data'!E311)","v":""},"","","","","","",{"$f":"IF(J292=\"\",\"\",'Step 3) Fit Distribution'!$F$3*E292+'Step 3) Fit Distribution'!$F$4)","v":""},"","","","","","",""]
[null,{"$f":"IF(AND('Step 1) Select Data'!B312=\"\",'Step 1) Select Data'!D312<>\"\"),'Step 1) Select Data'!D312,\"\")","v":""},"",{"$f":"IF(B293=\"\",\"\",'Step 1) Select Data'!E312)","v":""},"","","","","","",{"$f":"IF(J293=\"\",\"\",'Step 3) Fit Distribution'!$F$3*E293+'Step 3) Fit Distribution'!$F$4)","v":""},"","","","","","",""]
[null,{"$f":"IF(AND('Step 1) Select Data'!B313=\"\",'Step 1) Select Data'!D313<>\"\"),'Step 1) Select Data'!D313,\"\")","v":""},"",{"$f":"IF(B294=\"\",\"\",'Step 1) Select Data'!E313)","v":""},"","","","","","",{"$f":"IF(J294=\"\",\"\",'Step 3) Fit Distribution'!$F$3*E294+'Step 3) Fit Distribution'!$F$4)","v":""},"","","","","","",""]
[null,{"$f":"IF(AND('Step 1) Select Data'!B314=\"\",'Step 1) Select Data'!D314<>\"\"),'Step 1) Select Data'!D314,\"\")","v":""},"",{"$f":"IF(B295=\"\",\"\",'Step 1) Select Data'!E314)","v":""},"","","","","","",{"$f":"IF(J295=\"\",\"\",'Step 3) Fit Distribution'!$F$3*E295+'Step 3) Fit Distribution'!$F$4)","v":""},"","","","","","",""]
[null,{"$f":"IF(AND('Step 1) Select Data'!B315=\"\",'Step 1) Select Data'!D315<>\"\"),'Step 1) Select Data'!D315,\"\")","v":""},"",{"$f":"IF(B296=\"\",\"\",'Step 1) Select Data'!E315)","v":""},"","","","","","",{"$f":"IF(J296=\"\",\"\",'Step 3) Fit Distribution'!$F$3*E296+'Step 3) Fit Distribution'!$F$4)","v":""},"","","","","","",""]
[null,{"$f":"IF(AND('Step 1) Select Data'!B316=\"\",'Step 1) Select Data'!D316<>\"\"),'Step 1) Select Data'!D316,\"\")","v":""},"",{"$f":"IF(B297=\"\",\"\",'Step 1) Select Data'!E316)","v":""},"","","","","","",{"$f":"IF(J297=\"\",\"\",'Step 3) Fit Distribution'!$F$3*E297+'Step 3) Fit Distribution'!$F$4)","v":""},"","","","","","",""]
[null,{"$f":"IF(AND('Step 1) Select Data'!B317=\"\",'Step 1) Select Data'!D317<>\"\"),'Step 1) Select Data'!D317,\"\")","v":""},"",{"$f":"IF(B298=\"\",\"\",'Step 1) Select Data'!E317)","v":""},"","","","","","",{"$f":"IF(J298=\"\",\"\",'Step 3) Fit Distribution'!$F$3*E298+'Step 3) Fit Distribution'!$F$4)","v":""},"","","","","","",""]
[null,{"$f":"IF(AND('Step 1) Select Data'!B318=\"\",'Step 1) Select Data'!D318<>\"\"),'Step 1) Select Data'!D318,\"\")","v":""},"",{"$f":"IF(B299=\"\",\"\",'Step 1) Select Data'!E318)","v":""},"","","","","","",{"$f":"IF(J299=\"\",\"\",'Step 3) Fit Distribution'!$F$3*E299+'Step 3) Fit Distribution'!$F$4)","v":""},"","","","","","",""]
[null,{"$f":"IF(AND('Step 1) Select Data'!B319=\"\",'Step 1) Select Data'!D319<>\"\"),'Step 1) Select Data'!D319,\"\")","v":""},"",{"$f":"IF(B300=\"\",\"\",'Step 1) Select Data'!E319)","v":""},"","","","","","",{"$f":"IF(J300=\"\",\"\",'Step 3) Fit Distribution'!$F$3*E300+'Step 3) Fit Distribution'!$F$4)","v":""},"","","","","","",""]
[null,{"$f":"IF(AND('Step 1) Select Data'!B320=\"\",'Step 1) Select Data'!D320<>\"\"),'Step 1) Select Data'!D320,\"\")","v":""},"",{"$f":"IF(B301=\"\",\"\",'Step 1) Select Data'!E320)","v":""},"","","","","","",{"$f":"IF(J301=\"\",\"\",'Step 3) Fit Distribution'!$F$3*E301+'Step 3) Fit Distribution'!$F$4)","v":""},"","","","","","",""]
[null,{"$f":"IF(AND('Step 1) Select Data'!B321=\"\",'Step 1) Select Data'!D321<>\"\"),'Step 1) Select Data'!D321,\"\")","v":""},"",{"$f":"IF(B302=\"\",\"\",'Step 1) Select Data'!E321)","v":""},"","","","","","",{"$f":"IF(J302=\"\",\"\",'Step 3) Fit Distribution'!$F$3*E302+'Step 3) Fit Distribution'!$F$4)","v":""},"","","","","","",""]
[null,{"$f":"IF(AND('Step 1) Select Data'!B322=\"\",'Step 1) Select Data'!D322<>\"\"),'Step 1) Select Data'!D322,\"\")","v":""},"",{"$f":"IF(B303=\"\",\"\",'Step 1) Select Data'!E322)","v":""},"","","","","","",{"$f":"IF(J303=\"\",\"\",'Step 3) Fit Distribution'!$F$3*E303+'Step 3) Fit Distribution'!$F$4)","v":""},"","","","","","",""]
[null,{"$f":"IF(AND('Step 1) Select Data'!B323=\"\",'Step 1) Select Data'!D323<>\"\"),'Step 1) Select Data'!D323,\"\")","v":""},"",{"$f":"IF(B304=\"\",\"\",'Step 1) Select Data'!E323)","v":""},"","","","","","",{"$f":"IF(J304=\"\",\"\",'Step 3) Fit Distribution'!$F$3*E304+'Step 3) Fit Distribution'!$F$4)","v":""},"","","","","","",""]
[null,{"$f":"IF(AND('Step 1) Select Data'!B324=\"\",'Step 1) Select Data'!D324<>\"\"),'Step 1) Select Data'!D324,\"\")","v":""},"",{"$f":"IF(B305=\"\",\"\",'Step 1) Select Data'!E324)","v":""},"","","","","","",{"$f":"IF(J305=\"\",\"\",'Step 3) Fit Distribution'!$F$3*E305+'Step 3) Fit Distribution'!$F$4)","v":""},"","","","","","",""]
[null,{"$f":"IF(AND('Step 1) Select Data'!B325=\"\",'Step 1) Select Data'!D325<>\"\"),'Step 1) Select Data'!D325,\"\")","v":""},"",{"$f":"IF(B306=\"\",\"\",'Step 1) Select Data'!E325)","v":""},"","","","","","",{"$f":"IF(J306=\"\",\"\",'Step 3) Fit Distribution'!$F$3*E306+'Step 3) Fit Distribution'!$F$4)","v":""},"","","","","","",""]
[null,{"$f":"IF(AND('Step 1) Select Data'!B326=\"\",'Step 1) Select Data'!D326<>\"\"),'Step 1) Select Data'!D326,\"\")","v":""},"",{"$f":"IF(B307=\"\",\"\",'Step 1) Select Data'!E326)","v":""},"","","","","","",{"$f":"IF(J307=\"\",\"\",'Step 3) Fit Distribution'!$F$3*E307+'Step 3) Fit Distribution'!$F$4)","v":""},"","","","","","",""]
[null,{"$f":"IF(AND('Step 1) Select Data'!B327=\"\",'Step 1) Select Data'!D327<>\"\"),'Step 1) Select Data'!D327,\"\")","v":""},"",{"$f":"IF(B308=\"\",\"\",'Step 1) Select Data'!E327)","v":""},"","","","","","",{"$f":"IF(J308=\"\",\"\",'Step 3) Fit Distribution'!$F$3*E308+'Step 3) Fit Distribution'!$F$4)","v":""},"","","","","","",""]
[null,{"$f":"IF(AND('Step 1) Select Data'!B328=\"\",'Step 1) Select Data'!D328<>\"\"),'Step 1) Select Data'!D328,\"\")","v":""},"",{"$f":"IF(B309=\"\",\"\",'Step 1) Select Data'!E328)","v":""},"","","","","","",{"$f":"IF(J309=\"\",\"\",'Step 3) Fit Distribution'!$F$3*E309+'Step 3) Fit Distribution'!$F$4)","v":""},"","","","","","",""]
[null,{"$f":"IF(AND('Step 1) Select Data'!B329=\"\",'Step 1) Select Data'!D329<>\"\"),'Step 1) Select Data'!D329,\"\")","v":""},"",{"$f":"IF(B310=\"\",\"\",'Step 1) Select Data'!E329)","v":""},"","","","","","",{"$f":"IF(J310=\"\",\"\",'Step 3) Fit Distribution'!$F$3*E310+'Step 3) Fit Distribution'!$F$4)","v":""},"","","","","","",""]
[null,{"$f":"IF(AND('Step 1) Select Data'!B330=\"\",'Step 1) Select Data'!D330<>\"\"),'Step 1) Select Data'!D330,\"\")","v":""},"",{"$f":"IF(B311=\"\",\"\",'Step 1) Select Data'!E330)","v":""},"","","","","","",{"$f":"IF(J311=\"\",\"\",'Step 3) Fit Distribution'!$F$3*E311+'Step 3) Fit Distribution'!$F$4)","v":""},"","","","","","",""]
[null,{"$f":"IF(AND('Step 1) Select Data'!B331=\"\",'Step 1) Select Data'!D331<>\"\"),'Step 1) Select Data'!D331,\"\")","v":""},"",{"$f":"IF(B312=\"\",\"\",'Step 1) Select Data'!E331)","v":""},"","","","","","",{"$f":"IF(J312=\"\",\"\",'Step 3) Fit Distribution'!$F$3*E312+'Step 3) Fit Distribution'!$F$4)","v":""},"","","","","","",""]
[null,{"$f":"IF(AND('Step 1) Select Data'!B332=\"\",'Step 1) Select Data'!D332<>\"\"),'Step 1) Select Data'!D332,\"\")","v":""},"",{"$f":"IF(B313=\"\",\"\",'Step 1) Select Data'!E332)","v":""},"","","","","","",{"$f":"IF(J313=\"\",\"\",'Step 3) Fit Distribution'!$F$3*E313+'Step 3) Fit Distribution'!$F$4)","v":""},"","","","","","",""]
[null,{"$f":"IF(AND('Step 1) Select Data'!B333=\"\",'Step 1) Select Data'!D333<>\"\"),'Step 1) Select Data'!D333,\"\")","v":""},"",{"$f":"IF(B314=\"\",\"\",'Step 1) Select Data'!E333)","v":""},"","","","","","",{"$f":"IF(J314=\"\",\"\",'Step 3) Fit Distribution'!$F$3*E314+'Step 3) Fit Distribution'!$F$4)","v":""},"","","","","","",""]
[null,{"$f":"IF(AND('Step 1) Select Data'!B334=\"\",'Step 1) Select Data'!D334<>\"\"),'Step 1) Select Data'!D334,\"\")","v":""},"",{"$f":"IF(B315=\"\",\"\",'Step 1) Select Data'!E334)","v":""},"","","","","","",{"$f":"IF(J315=\"\",\"\",'Step 3) Fit Distribution'!$F$3*E315+'Step 3) Fit Distribution'!$F$4)","v":""},"","","","","","",""]
[null,{"$f":"IF(AND('Step 1) Select Data'!B335=\"\",'Step 1) Select Data'!D335<>\"\"),'Step 1) Select Data'!D335,\"\")","v":""},"",{"$f":"IF(B316=\"\",\"\",'Step 1) Select Data'!E335)","v":""},"","","","","","",{"$f":"IF(J316=\"\",\"\",'Step 3) Fit Distribution'!$F$3*E316+'Step 3) Fit Distribution'!$F$4)","v":""},"","","","","","",""]
[null,{"$f":"IF(AND('Step 1) Select Data'!B336=\"\",'Step 1) Select Data'!D336<>\"\"),'Step 1) Select Data'!D336,\"\")","v":""},"",{"$f":"IF(B317=\"\",\"\",'Step 1) Select Data'!E336)","v":""},"","","","","","",{"$f":"IF(J317=\"\",\"\",'Step 3) Fit Distribution'!$F$3*E317+'Step 3) Fit Distribution'!$F$4)","v":""},"","","","","","",""]
[null,{"$f":"IF(AND('Step 1) Select Data'!B337=\"\",'Step 1) Select Data'!D337<>\"\"),'Step 1) Select Data'!D337,\"\")","v":""},"",{"$f":"IF(B318=\"\",\"\",'Step 1) Select Data'!E337)","v":""},"","","","","","",{"$f":"IF(J318=\"\",\"\",'Step 3) Fit Distribution'!$F$3*E318+'Step 3) Fit Distribution'!$F$4)","v":""},"","","","","","",""]
[null,{"$f":"IF(AND('Step 1) Select Data'!B338=\"\",'Step 1) Select Data'!D338<>\"\"),'Step 1) Select Data'!D338,\"\")","v":""},"",{"$f":"IF(B319=\"\",\"\",'Step 1) Select Data'!E338)","v":""},"","","","","","",{"$f":"IF(J319=\"\",\"\",'Step 3) Fit Distribution'!$F$3*E319+'Step 3) Fit Distribution'!$F$4)","v":""},"","","","","","",""]
[null,{"$f":"IF(AND('Step 1) Select Data'!B339=\"\",'Step 1) Select Data'!D339<>\"\"),'Step 1) Select Data'!D339,\"\")","v":""},"",{"$f":"IF(B320=\"\",\"\",'Step 1) Select Data'!E339)","v":""},"","","","","","",{"$f":"IF(J320=\"\",\"\",'Step 3) Fit Distribution'!$F$3*E320+'Step 3) Fit Distribution'!$F$4)","v":""},"","","","","","",""]
[null,{"$f":"IF(AND('Step 1) Select Data'!B340=\"\",'Step 1) Select Data'!D340<>\"\"),'Step 1) Select Data'!D340,\"\")","v":""},"",{"$f":"IF(B321=\"\",\"\",'Step 1) Select Data'!E340)","v":""},"","","","","","",{"$f":"IF(J321=\"\",\"\",'Step 3) Fit Distribution'!$F$3*E321+'Step 3) Fit Distribution'!$F$4)","v":""},"","","","","","",""]
[null,{"$f":"IF(AND('Step 1) Select Data'!B341=\"\",'Step 1) Select Data'!D341<>\"\"),'Step 1) Select Data'!D341,\"\")","v":""},"",{"$f":"IF(B322=\"\",\"\",'Step 1) Select Data'!E341)","v":""},"","","","","","",{"$f":"IF(J322=\"\",\"\",'Step 3) Fit Distribution'!$F$3*E322+'Step 3) Fit Distribution'!$F$4)","v":""},"","","","","","",""]
[null,{"$f":"IF(AND('Step 1) Select Data'!B342=\"\",'Step 1) Select Data'!D342<>\"\"),'Step 1) Select Data'!D342,\"\")","v":""},"",{"$f":"IF(B323=\"\",\"\",'Step 1) Select Data'!E342)","v":""},"","","","","","",{"$f":"IF(J323=\"\",\"\",'Step 3) Fit Distribution'!$F$3*E323+'Step 3) Fit Distribution'!$F$4)","v":""},"","","","","","",""]
[null,{"$f":"IF(AND('Step 1) Select Data'!B343=\"\",'Step 1) Select Data'!D343<>\"\"),'Step 1) Select Data'!D343,\"\")","v":""},"",{"$f":"IF(B324=\"\",\"\",'Step 1) Select Data'!E343)","v":""},"","","","","","",{"$f":"IF(J324=\"\",\"\",'Step 3) Fit Distribution'!$F$3*E324+'Step 3) Fit Distribution'!$F$4)","v":""},"","","","","","",""]
[null,{"$f":"IF(AND('Step 1) Select Data'!B344=\"\",'Step 1) Select Data'!D344<>\"\"),'Step 1) Select Data'!D344,\"\")","v":""},"",{"$f":"IF(B325=\"\",\"\",'Step 1) Select Data'!E344)","v":""},"","","","","","",{"$f":"IF(J325=\"\",\"\",'Step 3) Fit Distribution'!$F$3*E325+'Step 3) Fit Distribution'!$F$4)","v":""},"","","","","","",""]
[null,{"$f":"IF(AND('Step 1) Select Data'!B345=\"\",'Step 1) Select Data'!D345<>\"\"),'Step 1) Select Data'!D345,\"\")","v":""},"",{"$f":"IF(B326=\"\",\"\",'Step 1) Select Data'!E345)","v":""},"","","","","","",{"$f":"IF(J326=\"\",\"\",'Step 3) Fit Distribution'!$F$3*E326+'Step 3) Fit Distribution'!$F$4)","v":""},"","","","","","",""]
[null,{"$f":"IF(AND('Step 1) Select Data'!B346=\"\",'Step 1) Select Data'!D346<>\"\"),'Step 1) Select Data'!D346,\"\")","v":""},{"$f":"IF(B327=\"\",\"\",IF(OR(M327>=M328,M328=\"\"),M327,\"\"))","v":""},{"$f":"IF(B327=\"\",\"\",'Step 1) Select Data'!E346)","v":""},{"$f":"IF(C327=\"\",\"\",LOG10(N327)*(1/C327))","v":""},{"$f":"IF(OR(M327=\"\",C327=1),\"\",IF(C327=\"\",\"\",SQRT(R327/(C327-1))))","v":""},{"$f":"IF(E327=\"\",\"\",10^E327)","v":""},{"$f":"IF(I327=\"\",\"\",(I327-0.5)/COUNT($E$6:$E$2004))","v":""},{"$f":"IF(E327=\"\",\"\",RANK(E327,$E$6:$E$2004,1))","v":""},{"$f":"IF(H327=\"\",\"\",NORMINV(H327,5,1))","v":""},{"$f":"IF(J327=\"\",\"\",'Step 3) Fit Distribution'!$F$3*E327+'Step 3) Fit Distribution'!$F$4)","v":""},{"$f":"IF(K327=\"\",\"\",(K327-J327)^2)","v":""},{"$f":"IF(B327=\"\",\"\",IF(B327<>B326,1,M326+1))","v":""},{"$f":"IF(B327=\"\",\"\",IF(B327<>B326,ROUND(D327,4),ROUND(D327,4)*N326))","v":""},{"$f":"IF(OR(M327=\"\",C327=1),\"\",IF(AND(M327<>\"\",C327=\"\",E327=\"\"),O328,E327))","v":""},{"$f":"IF(OR(M327=\"\",C327=1),\"\",IF(AND(M327<>\"\",C327=\"\",E327=\"\"),P328,C327))","v":""},"",{"$f":"IF(Q327=\"\",\"\",IF(O327=O326,Q327+R326,Q327))","v":""}]
[null,{"$f":"IF(AND('Step 1) Select Data'!B347=\"\",'Step 1) Select Data'!D347<>\"\"),'Step 1) Select Data'!D347,\"\")","v":""},"",{"$f":"IF(B328=\"\",\"\",'Step 1) Select Data'!E347)","v":""},"","","","","","",{"$f":"IF(J328=\"\",\"\",'Step 3) Fit Distribution'!$F$3*E328+'Step 3) Fit Distribution'!$F$4)","v":""},"","","","","","",""]
[null,{"$f":"IF(AND('Step 1) Select Data'!B348=\"\",'Step 1) Select Data'!D348<>\"\"),'Step 1) Select Data'!D348,\"\")","v":""},"",{"$f":"IF(B329=\"\",\"\",'Step 1) Select Data'!E348)","v":""},"","","","","","",{"$f":"IF(J329=\"\",\"\",'Step 3) Fit Distribution'!$F$3*E329+'Step 3) Fit Distribution'!$F$4)","v":""},"","","","","","",""]
[null,{"$f":"IF(AND('Step 1) Select Data'!B349=\"\",'Step 1) Select Data'!D349<>\"\"),'Step 1) Select Data'!D349,\"\")","v":""},"",{"$f":"IF(B330=\"\",\"\",'Step 1) Select Data'!E349)","v":""},"","","","","","",{"$f":"IF(J330=\"\",\"\",'Step 3) Fit Distribution'!$F$3*E330+'Step 3) Fit Distribution'!$F$4)","v":""},"","","","","","",""]
[null,{"$f":"IF(AND('Step 1) Select Data'!B350=\"\",'Step 1) Select Data'!D350<>\"\"),'Step 1) Select Data'!D350,\"\")","v":""},"",{"$f":"IF(B331=\"\",\"\",'Step 1) Select Data'!E350)","v":""},"","","","","","",{"$f":"IF(J331=\"\",\"\",'Step 3) Fit Distribution'!$F$3*E331+'Step 3) Fit Distribution'!$F$4)","v":""},"","","","","","",""]
[null,{"$f":"IF(AND('Step 1) Select Data'!B351=\"\",'Step 1) Select Data'!D351<>\"\"),'Step 1) Select Data'!D351,\"\")","v":""},"",{"$f":"IF(B332=\"\",\"\",'Step 1) Select Data'!E351)","v":""},"","","","","","",{"$f":"IF(J332=\"\",\"\",'Step 3) Fit Distribution'!$F$3*E332+'Step 3) Fit Distribution'!$F$4)","v":""},"","","","","","",""]
[null,{"$f":"IF(AND('Step 1) Select Data'!B352=\"\",'Step 1) Select Data'!D352<>\"\"),'Step 1) Select Data'!D352,\"\")","v":""},"",{"$f":"IF(B333=\"\",\"\",'Step 1) Select Data'!E352)","v":""},"","","","","","",{"$f":"IF(J333=\"\",\"\",'Step 3) Fit Distribution'!$F$3*E333+'Step 3) Fit Distribution'!$F$4)","v":""},"","","","","","",""]
[null,{"$f":"IF(AND('Step 1) Select Data'!B353=\"\",'Step 1) Select Data'!D353<>\"\"),'Step 1) Select Data'!D353,\"\")","v":""},"",{"$f":"IF(B334=\"\",\"\",'Step 1) Select Data'!E353)","v":""},"","","","","","",{"$f":"IF(J334=\"\",\"\",'Step 3) Fit Distribution'!$F$3*E334+'Step 3) Fit Distribution'!$F$4)","v":""},"","","","","","",""]
[null,{"$f":"IF(AND('Step 1) Select Data'!B354=\"\",'Step 1) Select Data'!D354<>\"\"),'Step 1) Select Data'!D354,\"\")","v":""},"",{"$f":"IF(B335=\"\",\"\",'Step 1) Select Data'!E354)","v":""},"","","","","","",{"$f":"IF(J335=\"\",\"\",'Step 3) Fit Distribution'!$F$3*E335+'Step 3) Fit Distribution'!$F$4)","v":""},"","","","","","",""]
[null,{"$f":"IF(AND('Step 1) Select Data'!B355=\"\",'Step 1) Select Data'!D355<>\"\"),'Step 1) Select Data'!D355,\"\")","v":""},"",{"$f":"IF(B336=\"\",\"\",'Step 1) Select Data'!E355)","v":""},"","","","","","",{"$f":"IF(J336=\"\",\"\",'Step 3) Fit Distribution'!$F$3*E336+'Step 3) Fit Distribution'!$F$4)","v":""},"","","","","","",""]
[null,{"$f":"IF(AND('Step 1) Select Data'!B356=\"\",'Step 1) Select Data'!D356<>\"\"),'Step 1) Select Data'!D356,\"\")","v":""},"",{"$f":"IF(B337=\"\",\"\",'Step 1) Select Data'!E356)","v":""},"","","","","","",{"$f":"IF(J337=\"\",\"\",'Step 3) Fit Distribution'!$F$3*E337+'Step 3) Fit Distribution'!$F$4)","v":""},"","","","","","",""]
[null,{"$f":"IF(AND('Step 1) Select Data'!B357=\"\",'Step 1) Select Data'!D357<>\"\"),'Step 1) Select Data'!D357,\"\")","v":""},"",{"$f":"IF(B338=\"\",\"\",'Step 1) Select Data'!E357)","v":""},"","","","","","",{"$f":"IF(J338=\"\",\"\",'Step 3) Fit Distribution'!$F$3*E338+'Step 3) Fit Distribution'!$F$4)","v":""},"","","","","","",""]
[null,{"$f":"IF(AND('Step 1) Select Data'!B358=\"\",'Step 1) Select Data'!D358<>\"\"),'Step 1) Select Data'!D358,\"\")","v":""},"",{"$f":"IF(B339=\"\",\"\",'Step 1) Select Data'!E358)","v":""},"","","","","","",{"$f":"IF(J339=\"\",\"\",'Step 3) Fit Distribution'!$F$3*E339+'Step 3) Fit Distribution'!$F$4)","v":""},"","","","","","",""]
[null,{"$f":"IF(AND('Step 1) Select Data'!B359=\"\",'Step 1) Select Data'!D359<>\"\"),'Step 1) Select Data'!D359,\"\")","v":""},"",{"$f":"IF(B340=\"\",\"\",'Step 1) Select Data'!E359)","v":""},"","","","","","",{"$f":"IF(J340=\"\",\"\",'Step 3) Fit Distribution'!$F$3*E340+'Step 3) Fit Distribution'!$F$4)","v":""},"","","","","",{"$f":"IF(O340=\"\",\"\",ROUND(LOG(D340)-O340,4)^2)","v":""},""]
[null,{"$f":"IF(AND('Step 1) Select Data'!B360=\"\",'Step 1) Select Data'!D360<>\"\"),'Step 1) Select Data'!D360,\"\")","v":""},"",{"$f":"IF(B341=\"\",\"\",'Step 1) Select Data'!E360)","v":""},"","","","","","",{"$f":"IF(J341=\"\",\"\",'Step 3) Fit Distribution'!$F$3*E341+'Step 3) Fit Distribution'!$F$4)","v":""},"","","","","","",""]
[null,{"$f":"IF(AND('Step 1) Select Data'!B361=\"\",'Step 1) Select Data'!D361<>\"\"),'Step 1) Select Data'!D361,\"\")","v":""},"",{"$f":"IF(B342=\"\",\"\",'Step 1) Select Data'!E361)","v":""},"","","","","","",{"$f":"IF(J342=\"\",\"\",'Step 3) Fit Distribution'!$F$3*E342+'Step 3) Fit Distribution'!$F$4)","v":""},"","","","","","",""]
[null,{"$f":"IF(AND('Step 1) Select Data'!B362=\"\",'Step 1) Select Data'!D362<>\"\"),'Step 1) Select Data'!D362,\"\")","v":""},"",{"$f":"IF(B343=\"\",\"\",'Step 1) Select Data'!E362)","v":""},"","","","","","",{"$f":"IF(J343=\"\",\"\",'Step 3) Fit Distribution'!$F$3*E343+'Step 3) Fit Distribution'!$F$4)","v":""},"","","","","","",""]
[null,{"$f":"IF(AND('Step 1) Select Data'!B363=\"\",'Step 1) Select Data'!D363<>\"\"),'Step 1) Select Data'!D363,\"\")","v":""},"",{"$f":"IF(B344=\"\",\"\",'Step 1) Select Data'!E363)","v":""},"","","","","","",{"$f":"IF(J344=\"\",\"\",'Step 3) Fit Distribution'!$F$3*E344+'Step 3) Fit Distribution'!$F$4)","v":""},"","","","","","",""]
[null,{"$f":"IF(AND('Step 1) Select Data'!B364=\"\",'Step 1) Select Data'!D364<>\"\"),'Step 1) Select Data'!D364,\"\")","v":""},"",{"$f":"IF(B345=\"\",\"\",'Step 1) Select Data'!E364)","v":""},"","","","","","",{"$f":"IF(J345=\"\",\"\",'Step 3) Fit Distribution'!$F$3*E345+'Step 3) Fit Distribution'!$F$4)","v":""},"","","","","","",""]
[null,{"$f":"IF(AND('Step 1) Select Data'!B365=\"\",'Step 1) Select Data'!D365<>\"\"),'Step 1) Select Data'!D365,\"\")","v":""},"",{"$f":"IF(B346=\"\",\"\",'Step 1) Select Data'!E365)","v":""},"","","","","","",{"$f":"IF(J346=\"\",\"\",'Step 3) Fit Distribution'!$F$3*E346+'Step 3) Fit Distribution'!$F$4)","v":""},"","","","","","",""]
[null,{"$f":"IF(AND('Step 1) Select Data'!B366=\"\",'Step 1) Select Data'!D366<>\"\"),'Step 1) Select Data'!D366,\"\")","v":""},"",{"$f":"IF(B347=\"\",\"\",'Step 1) Select Data'!E366)","v":""},"","","","","","",{"$f":"IF(J347=\"\",\"\",'Step 3) Fit Distribution'!$F$3*E347+'Step 3) Fit Distribution'!$F$4)","v":""},"","","","","","",""]
[null,{"$f":"IF(AND('Step 1) Select Data'!B367=\"\",'Step 1) Select Data'!D367<>\"\"),'Step 1) Select Data'!D367,\"\")","v":""},"",{"$f":"IF(B348=\"\",\"\",'Step 1) Select Data'!E367)","v":""},"","","","","","",{"$f":"IF(J348=\"\",\"\",'Step 3) Fit Distribution'!$F$3*E348+'Step 3) Fit Distribution'!$F$4)","v":""},"","","","","","",""]
[null,{"$f":"IF(AND('Step 1) Select Data'!B368=\"\",'Step 1) Select Data'!D368<>\"\"),'Step 1) Select Data'!D368,\"\")","v":""},"",{"$f":"IF(B349=\"\",\"\",'Step 1) Select Data'!E368)","v":""},"","","","","","",{"$f":"IF(J349=\"\",\"\",'Step 3) Fit Distribution'!$F$3*E349+'Step 3) Fit Distribution'!$F$4)","v":""},"","","","","","",""]
[null,{"$f":"IF(AND('Step 1) Select Data'!B369=\"\",'Step 1) Select Data'!D369<>\"\"),'Step 1) Select Data'!D369,\"\")","v":""},"",{"$f":"IF(B350=\"\",\"\",'Step 1) Select Data'!E369)","v":""},"","","","","","",{"$f":"IF(J350=\"\",\"\",'Step 3) Fit Distribution'!$F$3*E350+'Step 3) Fit Distribution'!$F$4)","v":""},"","","","","","",""]
[null,{"$f":"IF(AND('Step 1) Select Data'!B370=\"\",'Step 1) Select Data'!D370<>\"\"),'Step 1) Select Data'!D370,\"\")","v":""},"",{"$f":"IF(B351=\"\",\"\",'Step 1) Select Data'!E370)","v":""},"","","","","","",{"$f":"IF(J351=\"\",\"\",'Step 3) Fit Distribution'!$F$3*E351+'Step 3) Fit Distribution'!$F$4)","v":""},"","","","","","",""]
[null,{"$f":"IF(AND('Step 1) Select Data'!B371=\"\",'Step 1) Select Data'!D371<>\"\"),'Step 1) Select Data'!D371,\"\")","v":""},"",{"$f":"IF(B352=\"\",\"\",'Step 1) Select Data'!E371)","v":""},"","","","","","",{"$f":"IF(J352=\"\",\"\",'Step 3) Fit Distribution'!$F$3*E352+'Step 3) Fit Distribution'!$F$4)","v":""},"","","","","","",""]
[null,{"$f":"IF(AND('Step 1) Select Data'!B372=\"\",'Step 1) Select Data'!D372<>\"\"),'Step 1) Select Data'!D372,\"\")","v":""},"",{"$f":"IF(B353=\"\",\"\",'Step 1) Select Data'!E372)","v":""},"","","","","","",{"$f":"IF(J353=\"\",\"\",'Step 3) Fit Distribution'!$F$3*E353+'Step 3) Fit Distribution'!$F$4)","v":""},"","","","","","",""]
[null,{"$f":"IF(AND('Step 1) Select Data'!B373=\"\",'Step 1) Select Data'!D373<>\"\"),'Step 1) Select Data'!D373,\"\")","v":""},"",{"$f":"IF(B354=\"\",\"\",'Step 1) Select Data'!E373)","v":""},"","","","","","",{"$f":"IF(J354=\"\",\"\",'Step 3) Fit Distribution'!$F$3*E354+'Step 3) Fit Distribution'!$F$4)","v":""},"","","","","","",""]
[null,{"$f":"IF(AND('Step 1) Select Data'!B374=\"\",'Step 1) Select Data'!D374<>\"\"),'Step 1) Select Data'!D374,\"\")","v":""},"",{"$f":"IF(B355=\"\",\"\",'Step 1) Select Data'!E374)","v":""},"","","","","","",{"$f":"IF(J355=\"\",\"\",'Step 3) Fit Distribution'!$F$3*E355+'Step 3) Fit Distribution'!$F$4)","v":""},"","","","","","",""]
[null,{"$f":"IF(AND('Step 1) Select Data'!B375=\"\",'Step 1) Select Data'!D375<>\"\"),'Step 1) Select Data'!D375,\"\")","v":""},"",{"$f":"IF(B356=\"\",\"\",'Step 1) Select Data'!E375)","v":""},"","","","","","",{"$f":"IF(J356=\"\",\"\",'Step 3) Fit Distribution'!$F$3*E356+'Step 3) Fit Distribution'!$F$4)","v":""},"","","","","","",""]
[null,{"$f":"IF(AND('Step 1) Select Data'!B376=\"\",'Step 1) Select Data'!D376<>\"\"),'Step 1) Select Data'!D376,\"\")","v":""},"",{"$f":"IF(B357=\"\",\"\",'Step 1) Select Data'!E376)","v":""},"","","","","","",{"$f":"IF(J357=\"\",\"\",'Step 3) Fit Distribution'!$F$3*E357+'Step 3) Fit Distribution'!$F$4)","v":""},"","","","","","",""]
[null,{"$f":"IF(AND('Step 1) Select Data'!B377=\"\",'Step 1) Select Data'!D377<>\"\"),'Step 1) Select Data'!D377,\"\")","v":""},"",{"$f":"IF(B358=\"\",\"\",'Step 1) Select Data'!E377)","v":""},"","","","","","",{"$f":"IF(J358=\"\",\"\",'Step 3) Fit Distribution'!$F$3*E358+'Step 3) Fit Distribution'!$F$4)","v":""},"","","","","","",""]
[null,{"$f":"IF(AND('Step 1) Select Data'!B378=\"\",'Step 1) Select Data'!D378<>\"\"),'Step 1) Select Data'!D378,\"\")","v":""},"",{"$f":"IF(B359=\"\",\"\",'Step 1) Select Data'!E378)","v":""},"","","","","","",{"$f":"IF(J359=\"\",\"\",'Step 3) Fit Distribution'!$F$3*E359+'Step 3) Fit Distribution'!$F$4)","v":""},"","","","","","",""]
[null,{"$f":"IF(AND('Step 1) Select Data'!B379=\"\",'Step 1) Select Data'!D379<>\"\"),'Step 1) Select Data'!D379,\"\")","v":""},"",{"$f":"IF(B360=\"\",\"\",'Step 1) Select Data'!E379)","v":""},"","","","","","",{"$f":"IF(J360=\"\",\"\",'Step 3) Fit Distribution'!$F$3*E360+'Step 3) Fit Distribution'!$F$4)","v":""},"","","","","","",""]
[null,{"$f":"IF(AND('Step 1) Select Data'!B380=\"\",'Step 1) Select Data'!D380<>\"\"),'Step 1) Select Data'!D380,\"\")","v":""},"",{"$f":"IF(B361=\"\",\"\",'Step 1) Select Data'!E380)","v":""},"","","","","","",{"$f":"IF(J361=\"\",\"\",'Step 3) Fit Distribution'!$F$3*E361+'Step 3) Fit Distribution'!$F$4)","v":""},"","","","","","",""]
[null,{"$f":"IF(AND('Step 1) Select Data'!B381=\"\",'Step 1) Select Data'!D381<>\"\"),'Step 1) Select Data'!D381,\"\")","v":""},"",{"$f":"IF(B362=\"\",\"\",'Step 1) Select Data'!E381)","v":""},"","","","","","",{"$f":"IF(J362=\"\",\"\",'Step 3) Fit Distribution'!$F$3*E362+'Step 3) Fit Distribution'!$F$4)","v":""},"","","","","","",""]
[null,{"$f":"IF(AND('Step 1) Select Data'!B382=\"\",'Step 1) Select Data'!D382<>\"\"),'Step 1) Select Data'!D382,\"\")","v":""},"",{"$f":"IF(B363=\"\",\"\",'Step 1) Select Data'!E382)","v":""},"","","","","","",{"$f":"IF(J363=\"\",\"\",'Step 3) Fit Distribution'!$F$3*E363+'Step 3) Fit Distribution'!$F$4)","v":""},"","","","","","",""]
[null,{"$f":"IF(AND('Step 1) Select Data'!B383=\"\",'Step 1) Select Data'!D383<>\"\"),'Step 1) Select Data'!D383,\"\")","v":""},"",{"$f":"IF(B364=\"\",\"\",'Step 1) Select Data'!E383)","v":""},"","","","","","",{"$f":"IF(J364=\"\",\"\",'Step 3) Fit Distribution'!$F$3*E364+'Step 3) Fit Distribution'!$F$4)","v":""},"","","","","","",""]
[null,{"$f":"IF(AND('Step 1) Select Data'!B384=\"\",'Step 1) Select Data'!D384<>\"\"),'Step 1) Select Data'!D384,\"\")","v":""},"",{"$f":"IF(B365=\"\",\"\",'Step 1) Select Data'!E384)","v":""},"","","","","","",{"$f":"IF(J365=\"\",\"\",'Step 3) Fit Distribution'!$F$3*E365+'Step 3) Fit Distribution'!$F$4)","v":""},"","","","","","",""]
[null,{"$f":"IF(AND('Step 1) Select Data'!B385=\"\",'Step 1) Select Data'!D385<>\"\"),'Step 1) Select Data'!D385,\"\")","v":""},"",{"$f":"IF(B366=\"\",\"\",'Step 1) Select Data'!E385)","v":""},"","","","","","",{"$f":"IF(J366=\"\",\"\",'Step 3) Fit Distribution'!$F$3*E366+'Step 3) Fit Distribution'!$F$4)","v":""},"","","","","","",""]
[null,{"$f":"IF(AND('Step 1) Select Data'!B386=\"\",'Step 1) Select Data'!D386<>\"\"),'Step 1) Select Data'!D386,\"\")","v":""},"",{"$f":"IF(B367=\"\",\"\",'Step 1) Select Data'!E386)","v":""},"","","","","","",{"$f":"IF(J367=\"\",\"\",'Step 3) Fit Distribution'!$F$3*E367+'Step 3) Fit Distribution'!$F$4)","v":""},"","","","","","",""]
[null,{"$f":"IF(AND('Step 1) Select Data'!B387=\"\",'Step 1) Select Data'!D387<>\"\"),'Step 1) Select Data'!D387,\"\")","v":""},"",{"$f":"IF(B368=\"\",\"\",'Step 1) Select Data'!E387)","v":""},"","","","","","",{"$f":"IF(J368=\"\",\"\",'Step 3) Fit Distribution'!$F$3*E368+'Step 3) Fit Distribution'!$F$4)","v":""},"","","","","","",""]
[null,{"$f":"IF(AND('Step 1) Select Data'!B388=\"\",'Step 1) Select Data'!D388<>\"\"),'Step 1) Select Data'!D388,\"\")","v":""},"",{"$f":"IF(B369=\"\",\"\",'Step 1) Select Data'!E388)","v":""},"","","","","","",{"$f":"IF(J369=\"\",\"\",'Step 3) Fit Distribution'!$F$3*E369+'Step 3) Fit Distribution'!$F$4)","v":""},"","","","","","",""]
[null,{"$f":"IF(AND('Step 1) Select Data'!B389=\"\",'Step 1) Select Data'!D389<>\"\"),'Step 1) Select Data'!D389,\"\")","v":""},"",{"$f":"IF(B370=\"\",\"\",'Step 1) Select Data'!E389)","v":""},"","","","","","",{"$f":"IF(J370=\"\",\"\",'Step 3) Fit Distribution'!$F$3*E370+'Step 3) Fit Distribution'!$F$4)","v":""},"","","","","","",""]
[null,{"$f":"IF(AND('Step 1) Select Data'!B390=\"\",'Step 1) Select Data'!D390<>\"\"),'Step 1) Select Data'!D390,\"\")","v":""},"",{"$f":"IF(B371=\"\",\"\",'Step 1) Select Data'!E390)","v":""},"","","","","","",{"$f":"IF(J371=\"\",\"\",'Step 3) Fit Distribution'!$F$3*E371+'Step 3) Fit Distribution'!$F$4)","v":""},"","","","","","",""]
[null,{"$f":"IF(AND('Step 1) Select Data'!B391=\"\",'Step 1) Select Data'!D391<>\"\"),'Step 1) Select Data'!D391,\"\")","v":""},"",{"$f":"IF(B372=\"\",\"\",'Step 1) Select Data'!E391)","v":""},"","","","","","",{"$f":"IF(J372=\"\",\"\",'Step 3) Fit Distribution'!$F$3*E372+'Step 3) Fit Distribution'!$F$4)","v":""},"","","","","","",""]
[null,{"$f":"IF(AND('Step 1) Select Data'!B392=\"\",'Step 1) Select Data'!D392<>\"\"),'Step 1) Select Data'!D392,\"\")","v":""},"",{"$f":"IF(B373=\"\",\"\",'Step 1) Select Data'!E392)","v":""},"","","","","","",{"$f":"IF(J373=\"\",\"\",'Step 3) Fit Distribution'!$F$3*E373+'Step 3) Fit Distribution'!$F$4)","v":""},"","","","","","",""]
[null,{"$f":"IF(AND('Step 1) Select Data'!B393=\"\",'Step 1) Select Data'!D393<>\"\"),'Step 1) Select Data'!D393,\"\")","v":""},"",{"$f":"IF(B374=\"\",\"\",'Step 1) Select Data'!E393)","v":""},"","","","","","",{"$f":"IF(J374=\"\",\"\",'Step 3) Fit Distribution'!$F$3*E374+'Step 3) Fit Distribution'!$F$4)","v":""},"","","","","","",""]
[null,{"$f":"IF(AND('Step 1) Select Data'!B394=\"\",'Step 1) Select Data'!D394<>\"\"),'Step 1) Select Data'!D394,\"\")","v":""},"",{"$f":"IF(B375=\"\",\"\",'Step 1) Select Data'!E394)","v":""},"","","","","","",{"$f":"IF(J375=\"\",\"\",'Step 3) Fit Distribution'!$F$3*E375+'Step 3) Fit Distribution'!$F$4)","v":""},"","","","","","",""]
[null,{"$f":"IF(AND('Step 1) Select Data'!B395=\"\",'Step 1) Select Data'!D395<>\"\"),'Step 1) Select Data'!D395,\"\")","v":""},"",{"$f":"IF(B376=\"\",\"\",'Step 1) Select Data'!E395)","v":""},"","","","","","",{"$f":"IF(J376=\"\",\"\",'Step 3) Fit Distribution'!$F$3*E376+'Step 3) Fit Distribution'!$F$4)","v":""},"","","","","","",""]
[null,{"$f":"IF(AND('Step 1) Select Data'!B396=\"\",'Step 1) Select Data'!D396<>\"\"),'Step 1) Select Data'!D396,\"\")","v":""},"",{"$f":"IF(B377=\"\",\"\",'Step 1) Select Data'!E396)","v":""},"","","","","","",{"$f":"IF(J377=\"\",\"\",'Step 3) Fit Distribution'!$F$3*E377+'Step 3) Fit Distribution'!$F$4)","v":""},"","","","","","",""]
[null,{"$f":"IF(AND('Step 1) Select Data'!B397=\"\",'Step 1) Select Data'!D397<>\"\"),'Step 1) Select Data'!D397,\"\")","v":""},"",{"$f":"IF(B378=\"\",\"\",'Step 1) Select Data'!E397)","v":""},"","","","","","",{"$f":"IF(J378=\"\",\"\",'Step 3) Fit Distribution'!$F$3*E378+'Step 3) Fit Distribution'!$F$4)","v":""},"","","","","","",""]
[null,{"$f":"IF(AND('Step 1) Select Data'!B398=\"\",'Step 1) Select Data'!D398<>\"\"),'Step 1) Select Data'!D398,\"\")","v":""},"",{"$f":"IF(B379=\"\",\"\",'Step 1) Select Data'!E398)","v":""},"","","","","","",{"$f":"IF(J379=\"\",\"\",'Step 3) Fit Distribution'!$F$3*E379+'Step 3) Fit Distribution'!$F$4)","v":""},"","","","","","",""]
[null,{"$f":"IF(AND('Step 1) Select Data'!B399=\"\",'Step 1) Select Data'!D399<>\"\"),'Step 1) Select Data'!D399,\"\")","v":""},"",{"$f":"IF(B380=\"\",\"\",'Step 1) Select Data'!E399)","v":""},"","","","","","",{"$f":"IF(J380=\"\",\"\",'Step 3) Fit Distribution'!$F$3*E380+'Step 3) Fit Distribution'!$F$4)","v":""},"","","","","","",""]
[null,{"$f":"IF(AND('Step 1) Select Data'!B400=\"\",'Step 1) Select Data'!D400<>\"\"),'Step 1) Select Data'!D400,\"\")","v":""},"",{"$f":"IF(B381=\"\",\"\",'Step 1) Select Data'!E400)","v":""},"","","","","","",{"$f":"IF(J381=\"\",\"\",'Step 3) Fit Distribution'!$F$3*E381+'Step 3) Fit Distribution'!$F$4)","v":""},"","","","","","",""]
[null,{"$f":"IF(AND('Step 1) Select Data'!B401=\"\",'Step 1) Select Data'!D401<>\"\"),'Step 1) Select Data'!D401,\"\")","v":""},"",{"$f":"IF(B382=\"\",\"\",'Step 1) Select Data'!E401)","v":""},"","","","","","",{"$f":"IF(J382=\"\",\"\",'Step 3) Fit Distribution'!$F$3*E382+'Step 3) Fit Distribution'!$F$4)","v":""},"","","","","","",""]
[null,{"$f":"IF(AND('Step 1) Select Data'!B402=\"\",'Step 1) Select Data'!D402<>\"\"),'Step 1) Select Data'!D402,\"\")","v":""},"",{"$f":"IF(B383=\"\",\"\",'Step 1) Select Data'!E402)","v":""},"","","","","","",{"$f":"IF(J383=\"\",\"\",'Step 3) Fit Distribution'!$F$3*E383+'Step 3) Fit Distribution'!$F$4)","v":""},"","","","","","",""]
[null,{"$f":"IF(AND('Step 1) Select Data'!B403=\"\",'Step 1) Select Data'!D403<>\"\"),'Step 1) Select Data'!D403,\"\")","v":""},"",{"$f":"IF(B384=\"\",\"\",'Step 1) Select Data'!E403)","v":""},"","","","","","",{"$f":"IF(J384=\"\",\"\",'Step 3) Fit Distribution'!$F$3*E384+'Step 3) Fit Distribution'!$F$4)","v":""},"","","","","","",""]
[null,{"$f":"IF(AND('Step 1) Select Data'!B404=\"\",'Step 1) Select Data'!D404<>\"\"),'Step 1) Select Data'!D404,\"\")","v":""},"",{"$f":"IF(B385=\"\",\"\",'Step 1) Select Data'!E404)","v":""},"","","","","","",{"$f":"IF(J385=\"\",\"\",'Step 3) Fit Distribution'!$F$3*E385+'Step 3) Fit Distribution'!$F$4)","v":""},"","","","","","",""]
[null,{"$f":"IF(AND('Step 1) Select Data'!B405=\"\",'Step 1) Select Data'!D405<>\"\"),'Step 1) Select Data'!D405,\"\")","v":""},"",{"$f":"IF(B386=\"\",\"\",'Step 1) Select Data'!E405)","v":""},"","","","","","",{"$f":"IF(J386=\"\",\"\",'Step 3) Fit Distribution'!$F$3*E386+'Step 3) Fit Distribution'!$F$4)","v":""},"","","","","","",""]
[null,{"$f":"IF(AND('Step 1) Select Data'!B406=\"\",'Step 1) Select Data'!D406<>\"\"),'Step 1) Select Data'!D406,\"\")","v":""},"",{"$f":"IF(B387=\"\",\"\",'Step 1) Select Data'!E406)","v":""},"","","","","","",{"$f":"IF(J387=\"\",\"\",'Step 3) Fit Distribution'!$F$3*E387+'Step 3) Fit Distribution'!$F$4)","v":""},"","","","","","",""]
[null,{"$f":"IF(AND('Step 1) Select Data'!B407=\"\",'Step 1) Select Data'!D407<>\"\"),'Step 1) Select Data'!D407,\"\")","v":""},"",{"$f":"IF(B388=\"\",\"\",'Step 1) Select Data'!E407)","v":""},"","","","","","",{"$f":"IF(J388=\"\",\"\",'Step 3) Fit Distribution'!$F$3*E388+'Step 3) Fit Distribution'!$F$4)","v":""},"","","","","","",""]
[null,{"$f":"IF(AND('Step 1) Select Data'!B408=\"\",'Step 1) Select Data'!D408<>\"\"),'Step 1) Select Data'!D408,\"\")","v":""},"",{"$f":"IF(B389=\"\",\"\",'Step 1) Select Data'!E408)","v":""},"","","","","","",{"$f":"IF(J389=\"\",\"\",'Step 3) Fit Distribution'!$F$3*E389+'Step 3) Fit Distribution'!$F$4)","v":""},"","","","","","",""]
[null,{"$f":"IF(AND('Step 1) Select Data'!B409=\"\",'Step 1) Select Data'!D409<>\"\"),'Step 1) Select Data'!D409,\"\")","v":""},"",{"$f":"IF(B390=\"\",\"\",'Step 1) Select Data'!E409)","v":""},"","","","","","",{"$f":"IF(J390=\"\",\"\",'Step 3) Fit Distribution'!$F$3*E390+'Step 3) Fit Distribution'!$F$4)","v":""},"","","","","","",""]
[null,{"$f":"IF(AND('Step 1) Select Data'!B410=\"\",'Step 1) Select Data'!D410<>\"\"),'Step 1) Select Data'!D410,\"\")","v":""},{"$f":"IF(B391=\"\",\"\",IF(OR(M391>=M392,M392=\"\"),M391,\"\"))","v":""},{"$f":"IF(B391=\"\",\"\",'Step 1) Select Data'!E410)","v":""},{"$f":"IF(C391=\"\",\"\",LOG10(N391)*(1/C391))","v":""},{"$f":"IF(OR(M391=\"\",C391=1),\"\",IF(C391=\"\",\"\",SQRT(R391/(C391-1))))","v":""},{"$f":"IF(E391=\"\",\"\",10^E391)","v":""},{"$f":"IF(I391=\"\",\"\",(I391-0.5)/COUNT($E$6:$E$2004))","v":""},{"$f":"IF(E391=\"\",\"\",RANK(E391,$E$6:$E$2004,1))","v":""},{"$f":"IF(H391=\"\",\"\",NORMINV(H391,5,1))","v":""},{"$f":"IF(J391=\"\",\"\",'Step 3) Fit Distribution'!$F$3*E391+'Step 3) Fit Distribution'!$F$4)","v":""},{"$f":"IF(K391=\"\",\"\",(K391-J391)^2)","v":""},{"$f":"IF(B391=\"\",\"\",IF(B391<>B390,1,M390+1))","v":""},{"$f":"IF(B391=\"\",\"\",IF(B391<>B390,ROUND(D391,4),ROUND(D391,4)*N390))","v":""},{"$f":"IF(OR(M391=\"\",C391=1),\"\",IF(AND(M391<>\"\",C391=\"\",E391=\"\"),O392,E391))","v":""},{"$f":"IF(OR(M391=\"\",C391=1),\"\",IF(AND(M391<>\"\",C391=\"\",E391=\"\"),P392,C391))","v":""},"",{"$f":"IF(Q391=\"\",\"\",IF(O391=O390,Q391+R390,Q391))","v":""}]
[null,{"$f":"IF(AND('Step 1) Select Data'!B411=\"\",'Step 1) Select Data'!D411<>\"\"),'Step 1) Select Data'!D411,\"\")","v":""},"",{"$f":"IF(B392=\"\",\"\",'Step 1) Select Data'!E411)","v":""},"","","","","","",{"$f":"IF(J392=\"\",\"\",'Step 3) Fit Distribution'!$F$3*E392+'Step 3) Fit Distribution'!$F$4)","v":""},"","","","","","",""]
[null,{"$f":"IF(AND('Step 1) Select Data'!B412=\"\",'Step 1) Select Data'!D412<>\"\"),'Step 1) Select Data'!D412,\"\")","v":""},"",{"$f":"IF(B393=\"\",\"\",'Step 1) Select Data'!E412)","v":""},"","","","","","",{"$f":"IF(J393=\"\",\"\",'Step 3) Fit Distribution'!$F$3*E393+'Step 3) Fit Distribution'!$F$4)","v":""},"","","","","","",""]
[null,{"$f":"IF(AND('Step 1) Select Data'!B413=\"\",'Step 1) Select Data'!D413<>\"\"),'Step 1) Select Data'!D413,\"\")","v":""},"",{"$f":"IF(B394=\"\",\"\",'Step 1) Select Data'!E413)","v":""},"","","","","","",{"$f":"IF(J394=\"\",\"\",'Step 3) Fit Distribution'!$F$3*E394+'Step 3) Fit Distribution'!$F$4)","v":""},"","","","","","",""]
[null,{"$f":"IF(AND('Step 1) Select Data'!B414=\"\",'Step 1) Select Data'!D414<>\"\"),'Step 1) Select Data'!D414,\"\")","v":""},"",{"$f":"IF(B395=\"\",\"\",'Step 1) Select Data'!E414)","v":""},"","","","","","",{"$f":"IF(J395=\"\",\"\",'Step 3) Fit Distribution'!$F$3*E395+'Step 3) Fit Distribution'!$F$4)","v":""},"","","","","","",""]
[null,{"$f":"IF(AND('Step 1) Select Data'!B415=\"\",'Step 1) Select Data'!D415<>\"\"),'Step 1) Select Data'!D415,\"\")","v":""},"",{"$f":"IF(B396=\"\",\"\",'Step 1) Select Data'!E415)","v":""},"","","","","","",{"$f":"IF(J396=\"\",\"\",'Step 3) Fit Distribution'!$F$3*E396+'Step 3) Fit Distribution'!$F$4)","v":""},"","","","","","",""]
[null,{"$f":"IF(AND('Step 1) Select Data'!B416=\"\",'Step 1) Select Data'!D416<>\"\"),'Step 1) Select Data'!D416,\"\")","v":""},"",{"$f":"IF(B397=\"\",\"\",'Step 1) Select Data'!E416)","v":""},"","","","","","",{"$f":"IF(J397=\"\",\"\",'Step 3) Fit Distribution'!$F$3*E397+'Step 3) Fit Distribution'!$F$4)","v":""},"","","","","","",""]
[null,{"$f":"IF(AND('Step 1) Select Data'!B417=\"\",'Step 1) Select Data'!D417<>\"\"),'Step 1) Select Data'!D417,\"\")","v":""},"",{"$f":"IF(B398=\"\",\"\",'Step 1) Select Data'!E417)","v":""},"","","","","","",{"$f":"IF(J398=\"\",\"\",'Step 3) Fit Distribution'!$F$3*E398+'Step 3) Fit Distribution'!$F$4)","v":""},"","","","","","",""]
[null,{"$f":"IF(AND('Step 1) Select Data'!B418=\"\",'Step 1) Select Data'!D418<>\"\"),'Step 1) Select Data'!D418,\"\")","v":""},"",{"$f":"IF(B399=\"\",\"\",'Step 1) Select Data'!E418)","v":""},"","","","","","",{"$f":"IF(J399=\"\",\"\",'Step 3) Fit Distribution'!$F$3*E399+'Step 3) Fit Distribution'!$F$4)","v":""},"","","","","","",""]
[null,{"$f":"IF(AND('Step 1) Select Data'!B419=\"\",'Step 1) Select Data'!D419<>\"\"),'Step 1) Select Data'!D419,\"\")","v":""},"",{"$f":"IF(B400=\"\",\"\",'Step 1) Select Data'!E419)","v":""},"","","","","","",{"$f":"IF(J400=\"\",\"\",'Step 3) Fit Distribution'!$F$3*E400+'Step 3) Fit Distribution'!$F$4)","v":""},"","","","","","",""]
[null,{"$f":"IF(AND('Step 1) Select Data'!B420=\"\",'Step 1) Select Data'!D420<>\"\"),'Step 1) Select Data'!D420,\"\")","v":""},"",{"$f":"IF(B401=\"\",\"\",'Step 1) Select Data'!E420)","v":""},"","","","","","",{"$f":"IF(J401=\"\",\"\",'Step 3) Fit Distribution'!$F$3*E401+'Step 3) Fit Distribution'!$F$4)","v":""},"","","","","","",""]
[null,{"$f":"IF(AND('Step 1) Select Data'!B421=\"\",'Step 1) Select Data'!D421<>\"\"),'Step 1) Select Data'!D421,\"\")","v":""},"",{"$f":"IF(B402=\"\",\"\",'Step 1) Select Data'!E421)","v":""},"","","","","","",{"$f":"IF(J402=\"\",\"\",'Step 3) Fit Distribution'!$F$3*E402+'Step 3) Fit Distribution'!$F$4)","v":""},"","","","","","",""]
[null,{"$f":"IF(AND('Step 1) Select Data'!B422=\"\",'Step 1) Select Data'!D422<>\"\"),'Step 1) Select Data'!D422,\"\")","v":""},"",{"$f":"IF(B403=\"\",\"\",'Step 1) Select Data'!E422)","v":""},"","","","","","",{"$f":"IF(J403=\"\",\"\",'Step 3) Fit Distribution'!$F$3*E403+'Step 3) Fit Distribution'!$F$4)","v":""},"","","","","","",""]
[null,{"$f":"IF(AND('Step 1) Select Data'!B423=\"\",'Step 1) Select Data'!D423<>\"\"),'Step 1) Select Data'!D423,\"\")","v":""},"",{"$f":"IF(B404=\"\",\"\",'Step 1) Select Data'!E423)","v":""},"","","","","","",{"$f":"IF(J404=\"\",\"\",'Step 3) Fit Distribution'!$F$3*E404+'Step 3) Fit Distribution'!$F$4)","v":""},"","","","","",{"$f":"IF(O404=\"\",\"\",ROUND(LOG(D404)-O404,4)^2)","v":""},""]
[null,{"$f":"IF(AND('Step 1) Select Data'!B424=\"\",'Step 1) Select Data'!D424<>\"\"),'Step 1) Select Data'!D424,\"\")","v":""},"",{"$f":"IF(B405=\"\",\"\",'Step 1) Select Data'!E424)","v":""},"","","","","","",{"$f":"IF(J405=\"\",\"\",'Step 3) Fit Distribution'!$F$3*E405+'Step 3) Fit Distribution'!$F$4)","v":""},"","","","","","",""]
[null,{"$f":"IF(AND('Step 1) Select Data'!B425=\"\",'Step 1) Select Data'!D425<>\"\"),'Step 1) Select Data'!D425,\"\")","v":""},"",{"$f":"IF(B406=\"\",\"\",'Step 1) Select Data'!E425)","v":""},"","","","","","",{"$f":"IF(J406=\"\",\"\",'Step 3) Fit Distribution'!$F$3*E406+'Step 3) Fit Distribution'!$F$4)","v":""},"","","","","","",""]
[null,{"$f":"IF(AND('Step 1) Select Data'!B426=\"\",'Step 1) Select Data'!D426<>\"\"),'Step 1) Select Data'!D426,\"\")","v":""},"",{"$f":"IF(B407=\"\",\"\",'Step 1) Select Data'!E426)","v":""},"","","","","","",{"$f":"IF(J407=\"\",\"\",'Step 3) Fit Distribution'!$F$3*E407+'Step 3) Fit Distribution'!$F$4)","v":""},"","","","","","",""]
[null,{"$f":"IF(AND('Step 1) Select Data'!B427=\"\",'Step 1) Select Data'!D427<>\"\"),'Step 1) Select Data'!D427,\"\")","v":""},"",{"$f":"IF(B408=\"\",\"\",'Step 1) Select Data'!E427)","v":""},"","","","","","",{"$f":"IF(J408=\"\",\"\",'Step 3) Fit Distribution'!$F$3*E408+'Step 3) Fit Distribution'!$F$4)","v":""},"","","","","","",""]
[null,{"$f":"IF(AND('Step 1) Select Data'!B428=\"\",'Step 1) Select Data'!D428<>\"\"),'Step 1) Select Data'!D428,\"\")","v":""},"",{"$f":"IF(B409=\"\",\"\",'Step 1) Select Data'!E428)","v":""},"","","","","","",{"$f":"IF(J409=\"\",\"\",'Step 3) Fit Distribution'!$F$3*E409+'Step 3) Fit Distribution'!$F$4)","v":""},"","","","","","",""]
[null,{"$f":"IF(AND('Step 1) Select Data'!B429=\"\",'Step 1) Select Data'!D429<>\"\"),'Step 1) Select Data'!D429,\"\")","v":""},"",{"$f":"IF(B410=\"\",\"\",'Step 1) Select Data'!E429)","v":""},"","","","","","",{"$f":"IF(J410=\"\",\"\",'Step 3) Fit Distribution'!$F$3*E410+'Step 3) Fit Distribution'!$F$4)","v":""},"","","","","","",""]
[null,{"$f":"IF(AND('Step 1) Select Data'!B430=\"\",'Step 1) Select Data'!D430<>\"\"),'Step 1) Select Data'!D430,\"\")","v":""},"",{"$f":"IF(B411=\"\",\"\",'Step 1) Select Data'!E430)","v":""},"","","","","","",{"$f":"IF(J411=\"\",\"\",'Step 3) Fit Distribution'!$F$3*E411+'Step 3) Fit Distribution'!$F$4)","v":""},"","","","","","",""]
[null,{"$f":"IF(AND('Step 1) Select Data'!B431=\"\",'Step 1) Select Data'!D431<>\"\"),'Step 1) Select Data'!D431,\"\")","v":""},"",{"$f":"IF(B412=\"\",\"\",'Step 1) Select Data'!E431)","v":""},"","","","","","",{"$f":"IF(J412=\"\",\"\",'Step 3) Fit Distribution'!$F$3*E412+'Step 3) Fit Distribution'!$F$4)","v":""},"","","","","","",""]
[null,{"$f":"IF(AND('Step 1) Select Data'!B432=\"\",'Step 1) Select Data'!D432<>\"\"),'Step 1) Select Data'!D432,\"\")","v":""},"",{"$f":"IF(B413=\"\",\"\",'Step 1) Select Data'!E432)","v":""},"","","","","","",{"$f":"IF(J413=\"\",\"\",'Step 3) Fit Distribution'!$F$3*E413+'Step 3) Fit Distribution'!$F$4)","v":""},"","","","","","",""]
[null,{"$f":"IF(AND('Step 1) Select Data'!B433=\"\",'Step 1) Select Data'!D433<>\"\"),'Step 1) Select Data'!D433,\"\")","v":""},"",{"$f":"IF(B414=\"\",\"\",'Step 1) Select Data'!E433)","v":""},"","","","","","",{"$f":"IF(J414=\"\",\"\",'Step 3) Fit Distribution'!$F$3*E414+'Step 3) Fit Distribution'!$F$4)","v":""},"","","","","","",""]
[null,{"$f":"IF(AND('Step 1) Select Data'!B434=\"\",'Step 1) Select Data'!D434<>\"\"),'Step 1) Select Data'!D434,\"\")","v":""},"",{"$f":"IF(B415=\"\",\"\",'Step 1) Select Data'!E434)","v":""},"","","","","","",{"$f":"IF(J415=\"\",\"\",'Step 3) Fit Distribution'!$F$3*E415+'Step 3) Fit Distribution'!$F$4)","v":""},"","","","","","",""]
[null,{"$f":"IF(AND('Step 1) Select Data'!B435=\"\",'Step 1) Select Data'!D435<>\"\"),'Step 1) Select Data'!D435,\"\")","v":""},"",{"$f":"IF(B416=\"\",\"\",'Step 1) Select Data'!E435)","v":""},"","","","","","",{"$f":"IF(J416=\"\",\"\",'Step 3) Fit Distribution'!$F$3*E416+'Step 3) Fit Distribution'!$F$4)","v":""},"","","","","","",""]
[null,{"$f":"IF(AND('Step 1) Select Data'!B436=\"\",'Step 1) Select Data'!D436<>\"\"),'Step 1) Select Data'!D436,\"\")","v":""},"",{"$f":"IF(B417=\"\",\"\",'Step 1) Select Data'!E436)","v":""},"","","","","","",{"$f":"IF(J417=\"\",\"\",'Step 3) Fit Distribution'!$F$3*E417+'Step 3) Fit Distribution'!$F$4)","v":""},"","","","","","",""]
[null,{"$f":"IF(AND('Step 1) Select Data'!B437=\"\",'Step 1) Select Data'!D437<>\"\"),'Step 1) Select Data'!D437,\"\")","v":""},"",{"$f":"IF(B418=\"\",\"\",'Step 1) Select Data'!E437)","v":""},"","","","","","",{"$f":"IF(J418=\"\",\"\",'Step 3) Fit Distribution'!$F$3*E418+'Step 3) Fit Distribution'!$F$4)","v":""},"","","","","","",""]
[null,{"$f":"IF(AND('Step 1) Select Data'!B438=\"\",'Step 1) Select Data'!D438<>\"\"),'Step 1) Select Data'!D438,\"\")","v":""},"",{"$f":"IF(B419=\"\",\"\",'Step 1) Select Data'!E438)","v":""},"","","","","","",{"$f":"IF(J419=\"\",\"\",'Step 3) Fit Distribution'!$F$3*E419+'Step 3) Fit Distribution'!$F$4)","v":""},"","","","","","",""]
[null,{"$f":"IF(AND('Step 1) Select Data'!B439=\"\",'Step 1) Select Data'!D439<>\"\"),'Step 1) Select Data'!D439,\"\")","v":""},"",{"$f":"IF(B420=\"\",\"\",'Step 1) Select Data'!E439)","v":""},"","","","","","",{"$f":"IF(J420=\"\",\"\",'Step 3) Fit Distribution'!$F$3*E420+'Step 3) Fit Distribution'!$F$4)","v":""},"","","","","","",""]
[null,{"$f":"IF(AND('Step 1) Select Data'!B440=\"\",'Step 1) Select Data'!D440<>\"\"),'Step 1) Select Data'!D440,\"\")","v":""},"",{"$f":"IF(B421=\"\",\"\",'Step 1) Select Data'!E440)","v":""},"","","","","","",{"$f":"IF(J421=\"\",\"\",'Step 3) Fit Distribution'!$F$3*E421+'Step 3) Fit Distribution'!$F$4)","v":""},"","","","","","",""]
[null,{"$f":"IF(AND('Step 1) Select Data'!B441=\"\",'Step 1) Select Data'!D441<>\"\"),'Step 1) Select Data'!D441,\"\")","v":""},"",{"$f":"IF(B422=\"\",\"\",'Step 1) Select Data'!E441)","v":""},"","","","","","",{"$f":"IF(J422=\"\",\"\",'Step 3) Fit Distribution'!$F$3*E422+'Step 3) Fit Distribution'!$F$4)","v":""},"","","","","","",""]
[null,{"$f":"IF(AND('Step 1) Select Data'!B442=\"\",'Step 1) Select Data'!D442<>\"\"),'Step 1) Select Data'!D442,\"\")","v":""},"",{"$f":"IF(B423=\"\",\"\",'Step 1) Select Data'!E442)","v":""},"","","","","","",{"$f":"IF(J423=\"\",\"\",'Step 3) Fit Distribution'!$F$3*E423+'Step 3) Fit Distribution'!$F$4)","v":""},"","","","","","",""]
[null,{"$f":"IF(AND('Step 1) Select Data'!B443=\"\",'Step 1) Select Data'!D443<>\"\"),'Step 1) Select Data'!D443,\"\")","v":""},"",{"$f":"IF(B424=\"\",\"\",'Step 1) Select Data'!E443)","v":""},"","","","","","",{"$f":"IF(J424=\"\",\"\",'Step 3) Fit Distribution'!$F$3*E424+'Step 3) Fit Distribution'!$F$4)","v":""},"","","","","","",""]
[null,{"$f":"IF(AND('Step 1) Select Data'!B444=\"\",'Step 1) Select Data'!D444<>\"\"),'Step 1) Select Data'!D444,\"\")","v":""},"",{"$f":"IF(B425=\"\",\"\",'Step 1) Select Data'!E444)","v":""},"","","","","","",{"$f":"IF(J425=\"\",\"\",'Step 3) Fit Distribution'!$F$3*E425+'Step 3) Fit Distribution'!$F$4)","v":""},"","","","","","",""]
[null,{"$f":"IF(AND('Step 1) Select Data'!B445=\"\",'Step 1) Select Data'!D445<>\"\"),'Step 1) Select Data'!D445,\"\")","v":""},"",{"$f":"IF(B426=\"\",\"\",'Step 1) Select Data'!E445)","v":""},"","","","","","",{"$f":"IF(J426=\"\",\"\",'Step 3) Fit Distribution'!$F$3*E426+'Step 3) Fit Distribution'!$F$4)","v":""},"","","","","","",""]
[null,{"$f":"IF(AND('Step 1) Select Data'!B446=\"\",'Step 1) Select Data'!D446<>\"\"),'Step 1) Select Data'!D446,\"\")","v":""},"",{"$f":"IF(B427=\"\",\"\",'Step 1) Select Data'!E446)","v":""},"","","","","","",{"$f":"IF(J427=\"\",\"\",'Step 3) Fit Distribution'!$F$3*E427+'Step 3) Fit Distribution'!$F$4)","v":""},"","","","","","",""]
[null,{"$f":"IF(AND('Step 1) Select Data'!B447=\"\",'Step 1) Select Data'!D447<>\"\"),'Step 1) Select Data'!D447,\"\")","v":""},"",{"$f":"IF(B428=\"\",\"\",'Step 1) Select Data'!E447)","v":""},"","","","","","",{"$f":"IF(J428=\"\",\"\",'Step 3) Fit Distribution'!$F$3*E428+'Step 3) Fit Distribution'!$F$4)","v":""},"","","","","","",""]
[null,{"$f":"IF(AND('Step 1) Select Data'!B448=\"\",'Step 1) Select Data'!D448<>\"\"),'Step 1) Select Data'!D448,\"\")","v":""},"",{"$f":"IF(B429=\"\",\"\",'Step 1) Select Data'!E448)","v":""},"","","","","","",{"$f":"IF(J429=\"\",\"\",'Step 3) Fit Distribution'!$F$3*E429+'Step 3) Fit Distribution'!$F$4)","v":""},"","","","","","",""]
[null,{"$f":"IF(AND('Step 1) Select Data'!B449=\"\",'Step 1) Select Data'!D449<>\"\"),'Step 1) Select Data'!D449,\"\")","v":""},"",{"$f":"IF(B430=\"\",\"\",'Step 1) Select Data'!E449)","v":""},"","","","","","",{"$f":"IF(J430=\"\",\"\",'Step 3) Fit Distribution'!$F$3*E430+'Step 3) Fit Distribution'!$F$4)","v":""},"","","","","","",""]
[null,{"$f":"IF(AND('Step 1) Select Data'!B450=\"\",'Step 1) Select Data'!D450<>\"\"),'Step 1) Select Data'!D450,\"\")","v":""},"",{"$f":"IF(B431=\"\",\"\",'Step 1) Select Data'!E450)","v":""},"","","","","","",{"$f":"IF(J431=\"\",\"\",'Step 3) Fit Distribution'!$F$3*E431+'Step 3) Fit Distribution'!$F$4)","v":""},"","","","","","",""]
[null,{"$f":"IF(AND('Step 1) Select Data'!B451=\"\",'Step 1) Select Data'!D451<>\"\"),'Step 1) Select Data'!D451,\"\")","v":""},"",{"$f":"IF(B432=\"\",\"\",'Step 1) Select Data'!E451)","v":""},"","","","","","",{"$f":"IF(J432=\"\",\"\",'Step 3) Fit Distribution'!$F$3*E432+'Step 3) Fit Distribution'!$F$4)","v":""},"","","","","","",""]
[null,{"$f":"IF(AND('Step 1) Select Data'!B452=\"\",'Step 1) Select Data'!D452<>\"\"),'Step 1) Select Data'!D452,\"\")","v":""},"",{"$f":"IF(B433=\"\",\"\",'Step 1) Select Data'!E452)","v":""},"","","","","","",{"$f":"IF(J433=\"\",\"\",'Step 3) Fit Distribution'!$F$3*E433+'Step 3) Fit Distribution'!$F$4)","v":""},"","","","","","",""]
[null,{"$f":"IF(AND('Step 1) Select Data'!B453=\"\",'Step 1) Select Data'!D453<>\"\"),'Step 1) Select Data'!D453,\"\")","v":""},"",{"$f":"IF(B434=\"\",\"\",'Step 1) Select Data'!E453)","v":""},"","","","","","",{"$f":"IF(J434=\"\",\"\",'Step 3) Fit Distribution'!$F$3*E434+'Step 3) Fit Distribution'!$F$4)","v":""},"","","","","","",""]
[null,{"$f":"IF(AND('Step 1) Select Data'!B454=\"\",'Step 1) Select Data'!D454<>\"\"),'Step 1) Select Data'!D454,\"\")","v":""},"",{"$f":"IF(B435=\"\",\"\",'Step 1) Select Data'!E454)","v":""},"","","","","","",{"$f":"IF(J435=\"\",\"\",'Step 3) Fit Distribution'!$F$3*E435+'Step 3) Fit Distribution'!$F$4)","v":""},"","","","","","",""]
[null,{"$f":"IF(AND('Step 1) Select Data'!B455=\"\",'Step 1) Select Data'!D455<>\"\"),'Step 1) Select Data'!D455,\"\")","v":""},"",{"$f":"IF(B436=\"\",\"\",'Step 1) Select Data'!E455)","v":""},"","","","","","",{"$f":"IF(J436=\"\",\"\",'Step 3) Fit Distribution'!$F$3*E436+'Step 3) Fit Distribution'!$F$4)","v":""},"","","","","","",""]
[null,{"$f":"IF(AND('Step 1) Select Data'!B456=\"\",'Step 1) Select Data'!D456<>\"\"),'Step 1) Select Data'!D456,\"\")","v":""},"",{"$f":"IF(B437=\"\",\"\",'Step 1) Select Data'!E456)","v":""},"","","","","","",{"$f":"IF(J437=\"\",\"\",'Step 3) Fit Distribution'!$F$3*E437+'Step 3) Fit Distribution'!$F$4)","v":""},"","","","","","",""]
[null,{"$f":"IF(AND('Step 1) Select Data'!B457=\"\",'Step 1) Select Data'!D457<>\"\"),'Step 1) Select Data'!D457,\"\")","v":""},"",{"$f":"IF(B438=\"\",\"\",'Step 1) Select Data'!E457)","v":""},"","","","","","",{"$f":"IF(J438=\"\",\"\",'Step 3) Fit Distribution'!$F$3*E438+'Step 3) Fit Distribution'!$F$4)","v":""},"","","","","","",""]
[null,{"$f":"IF(AND('Step 1) Select Data'!B458=\"\",'Step 1) Select Data'!D458<>\"\"),'Step 1) Select Data'!D458,\"\")","v":""},"",{"$f":"IF(B439=\"\",\"\",'Step 1) Select Data'!E458)","v":""},"","","","","","",{"$f":"IF(J439=\"\",\"\",'Step 3) Fit Distribution'!$F$3*E439+'Step 3) Fit Distribution'!$F$4)","v":""},"","","","","","",""]
[null,{"$f":"IF(AND('Step 1) Select Data'!B459=\"\",'Step 1) Select Data'!D459<>\"\"),'Step 1) Select Data'!D459,\"\")","v":""},"",{"$f":"IF(B440=\"\",\"\",'Step 1) Select Data'!E459)","v":""},"","","","","","",{"$f":"IF(J440=\"\",\"\",'Step 3) Fit Distribution'!$F$3*E440+'Step 3) Fit Distribution'!$F$4)","v":""},"","","","","","",""]
[null,{"$f":"IF(AND('Step 1) Select Data'!B460=\"\",'Step 1) Select Data'!D460<>\"\"),'Step 1) Select Data'!D460,\"\")","v":""},"",{"$f":"IF(B441=\"\",\"\",'Step 1) Select Data'!E460)","v":""},"","","","","","",{"$f":"IF(J441=\"\",\"\",'Step 3) Fit Distribution'!$F$3*E441+'Step 3) Fit Distribution'!$F$4)","v":""},"","","","","","",""]
[null,{"$f":"IF(AND('Step 1) Select Data'!B461=\"\",'Step 1) Select Data'!D461<>\"\"),'Step 1) Select Data'!D461,\"\")","v":""},"",{"$f":"IF(B442=\"\",\"\",'Step 1) Select Data'!E461)","v":""},"","","","","","",{"$f":"IF(J442=\"\",\"\",'Step 3) Fit Distribution'!$F$3*E442+'Step 3) Fit Distribution'!$F$4)","v":""},"","","","","","",""]
[null,{"$f":"IF(AND('Step 1) Select Data'!B462=\"\",'Step 1) Select Data'!D462<>\"\"),'Step 1) Select Data'!D462,\"\")","v":""},"",{"$f":"IF(B443=\"\",\"\",'Step 1) Select Data'!E462)","v":""},"","","","","","",{"$f":"IF(J443=\"\",\"\",'Step 3) Fit Distribution'!$F$3*E443+'Step 3) Fit Distribution'!$F$4)","v":""},"","","","","","",""]
[null,{"$f":"IF(AND('Step 1) Select Data'!B463=\"\",'Step 1) Select Data'!D463<>\"\"),'Step 1) Select Data'!D463,\"\")","v":""},"",{"$f":"IF(B444=\"\",\"\",'Step 1) Select Data'!E463)","v":""},"","","","","","",{"$f":"IF(J444=\"\",\"\",'Step 3) Fit Distribution'!$F$3*E444+'Step 3) Fit Distribution'!$F$4)","v":""},"","","","","","",""]
[null,{"$f":"IF(AND('Step 1) Select Data'!B464=\"\",'Step 1) Select Data'!D464<>\"\"),'Step 1) Select Data'!D464,\"\")","v":""},"",{"$f":"IF(B445=\"\",\"\",'Step 1) Select Data'!E464)","v":""},"","","","","","",{"$f":"IF(J445=\"\",\"\",'Step 3) Fit Distribution'!$F$3*E445+'Step 3) Fit Distribution'!$F$4)","v":""},"","","","","","",""]
[null,{"$f":"IF(AND('Step 1) Select Data'!B465=\"\",'Step 1) Select Data'!D465<>\"\"),'Step 1) Select Data'!D465,\"\")","v":""},"",{"$f":"IF(B446=\"\",\"\",'Step 1) Select Data'!E465)","v":""},"","","","","","",{"$f":"IF(J446=\"\",\"\",'Step 3) Fit Distribution'!$F$3*E446+'Step 3) Fit Distribution'!$F$4)","v":""},"","","","","","",""]
[null,{"$f":"IF(AND('Step 1) Select Data'!B466=\"\",'Step 1) Select Data'!D466<>\"\"),'Step 1) Select Data'!D466,\"\")","v":""},"",{"$f":"IF(B447=\"\",\"\",'Step 1) Select Data'!E466)","v":""},"","","","","","",{"$f":"IF(J447=\"\",\"\",'Step 3) Fit Distribution'!$F$3*E447+'Step 3) Fit Distribution'!$F$4)","v":""},"","","","","","",""]
[null,{"$f":"IF(AND('Step 1) Select Data'!B467=\"\",'Step 1) Select Data'!D467<>\"\"),'Step 1) Select Data'!D467,\"\")","v":""},"",{"$f":"IF(B448=\"\",\"\",'Step 1) Select Data'!E467)","v":""},"","","","","","",{"$f":"IF(J448=\"\",\"\",'Step 3) Fit Distribution'!$F$3*E448+'Step 3) Fit Distribution'!$F$4)","v":""},"","","","","","",""]
[null,{"$f":"IF(AND('Step 1) Select Data'!B468=\"\",'Step 1) Select Data'!D468<>\"\"),'Step 1) Select Data'!D468,\"\")","v":""},"",{"$f":"IF(B449=\"\",\"\",'Step 1) Select Data'!E468)","v":""},"","","","","","",{"$f":"IF(J449=\"\",\"\",'Step 3) Fit Distribution'!$F$3*E449+'Step 3) Fit Distribution'!$F$4)","v":""},"","","","","","",""]
[null,{"$f":"IF(AND('Step 1) Select Data'!B469=\"\",'Step 1) Select Data'!D469<>\"\"),'Step 1) Select Data'!D469,\"\")","v":""},"",{"$f":"IF(B450=\"\",\"\",'Step 1) Select Data'!E469)","v":""},"","","","","","",{"$f":"IF(J450=\"\",\"\",'Step 3) Fit Distribution'!$F$3*E450+'Step 3) Fit Distribution'!$F$4)","v":""},"","","","","","",""]
[null,{"$f":"IF(AND('Step 1) Select Data'!B470=\"\",'Step 1) Select Data'!D470<>\"\"),'Step 1) Select Data'!D470,\"\")","v":""},"",{"$f":"IF(B451=\"\",\"\",'Step 1) Select Data'!E470)","v":""},"","","","","","",{"$f":"IF(J451=\"\",\"\",'Step 3) Fit Distribution'!$F$3*E451+'Step 3) Fit Distribution'!$F$4)","v":""},"","","","","","",""]
[null,{"$f":"IF(AND('Step 1) Select Data'!B471=\"\",'Step 1) Select Data'!D471<>\"\"),'Step 1) Select Data'!D471,\"\")","v":""},"",{"$f":"IF(B452=\"\",\"\",'Step 1) Select Data'!E471)","v":""},"","","","","","",{"$f":"IF(J452=\"\",\"\",'Step 3) Fit Distribution'!$F$3*E452+'Step 3) Fit Distribution'!$F$4)","v":""},"","","","","","",""]
[null,{"$f":"IF(AND('Step 1) Select Data'!B472=\"\",'Step 1) Select Data'!D472<>\"\"),'Step 1) Select Data'!D472,\"\")","v":""},"",{"$f":"IF(B453=\"\",\"\",'Step 1) Select Data'!E472)","v":""},"","","","","","",{"$f":"IF(J453=\"\",\"\",'Step 3) Fit Distribution'!$F$3*E453+'Step 3) Fit Distribution'!$F$4)","v":""},"","","","","","",""]
[null,{"$f":"IF(AND('Step 1) Select Data'!B473=\"\",'Step 1) Select Data'!D473<>\"\"),'Step 1) Select Data'!D473,\"\")","v":""},"",{"$f":"IF(B454=\"\",\"\",'Step 1) Select Data'!E473)","v":""},"","","","","","",{"$f":"IF(J454=\"\",\"\",'Step 3) Fit Distribution'!$F$3*E454+'Step 3) Fit Distribution'!$F$4)","v":""},"","","","","","",""]
[null,{"$f":"IF(AND('Step 1) Select Data'!B474=\"\",'Step 1) Select Data'!D474<>\"\"),'Step 1) Select Data'!D474,\"\")","v":""},{"$f":"IF(B455=\"\",\"\",IF(OR(M455>=M456,M456=\"\"),M455,\"\"))","v":""},{"$f":"IF(B455=\"\",\"\",'Step 1) Select Data'!E474)","v":""},{"$f":"IF(C455=\"\",\"\",LOG10(N455)*(1/C455))","v":""},{"$f":"IF(OR(M455=\"\",C455=1),\"\",IF(C455=\"\",\"\",SQRT(R455/(C455-1))))","v":""},{"$f":"IF(E455=\"\",\"\",10^E455)","v":""},{"$f":"IF(I455=\"\",\"\",(I455-0.5)/COUNT($E$6:$E$2004))","v":""},{"$f":"IF(E455=\"\",\"\",RANK(E455,$E$6:$E$2004,1))","v":""},{"$f":"IF(H455=\"\",\"\",NORMINV(H455,5,1))","v":""},{"$f":"IF(J455=\"\",\"\",'Step 3) Fit Distribution'!$F$3*E455+'Step 3) Fit Distribution'!$F$4)","v":""},{"$f":"IF(K455=\"\",\"\",(K455-J455)^2)","v":""},{"$f":"IF(B455=\"\",\"\",IF(B455<>B454,1,M454+1))","v":""},{"$f":"IF(B455=\"\",\"\",IF(B455<>B454,ROUND(D455,4),ROUND(D455,4)*N454))","v":""},{"$f":"IF(OR(M455=\"\",C455=1),\"\",IF(AND(M455<>\"\",C455=\"\",E455=\"\"),O456,E455))","v":""},{"$f":"IF(OR(M455=\"\",C455=1),\"\",IF(AND(M455<>\"\",C455=\"\",E455=\"\"),P456,C455))","v":""},"",{"$f":"IF(Q455=\"\",\"\",IF(O455=O454,Q455+R454,Q455))","v":""}]
[null,{"$f":"IF(AND('Step 1) Select Data'!B475=\"\",'Step 1) Select Data'!D475<>\"\"),'Step 1) Select Data'!D475,\"\")","v":""},"",{"$f":"IF(B456=\"\",\"\",'Step 1) Select Data'!E475)","v":""},"","","","","","",{"$f":"IF(J456=\"\",\"\",'Step 3) Fit Distribution'!$F$3*E456+'Step 3) Fit Distribution'!$F$4)","v":""},"","","","","","",""]
[null,{"$f":"IF(AND('Step 1) Select Data'!B476=\"\",'Step 1) Select Data'!D476<>\"\"),'Step 1) Select Data'!D476,\"\")","v":""},"",{"$f":"IF(B457=\"\",\"\",'Step 1) Select Data'!E476)","v":""},"","","","","","",{"$f":"IF(J457=\"\",\"\",'Step 3) Fit Distribution'!$F$3*E457+'Step 3) Fit Distribution'!$F$4)","v":""},"","","","","","",""]
[null,{"$f":"IF(AND('Step 1) Select Data'!B477=\"\",'Step 1) Select Data'!D477<>\"\"),'Step 1) Select Data'!D477,\"\")","v":""},"",{"$f":"IF(B458=\"\",\"\",'Step 1) Select Data'!E477)","v":""},"","","","","","",{"$f":"IF(J458=\"\",\"\",'Step 3) Fit Distribution'!$F$3*E458+'Step 3) Fit Distribution'!$F$4)","v":""},"","","","","","",""]
[null,{"$f":"IF(AND('Step 1) Select Data'!B478=\"\",'Step 1) Select Data'!D478<>\"\"),'Step 1) Select Data'!D478,\"\")","v":""},"",{"$f":"IF(B459=\"\",\"\",'Step 1) Select Data'!E478)","v":""},"","","","","","",{"$f":"IF(J459=\"\",\"\",'Step 3) Fit Distribution'!$F$3*E459+'Step 3) Fit Distribution'!$F$4)","v":""},"","","","","","",""]
[null,{"$f":"IF(AND('Step 1) Select Data'!B479=\"\",'Step 1) Select Data'!D479<>\"\"),'Step 1) Select Data'!D479,\"\")","v":""},"",{"$f":"IF(B460=\"\",\"\",'Step 1) Select Data'!E479)","v":""},"","","","","","",{"$f":"IF(J460=\"\",\"\",'Step 3) Fit Distribution'!$F$3*E460+'Step 3) Fit Distribution'!$F$4)","v":""},"","","","","","",""]
[null,{"$f":"IF(AND('Step 1) Select Data'!B480=\"\",'Step 1) Select Data'!D480<>\"\"),'Step 1) Select Data'!D480,\"\")","v":""},"",{"$f":"IF(B461=\"\",\"\",'Step 1) Select Data'!E480)","v":""},"","","","","","",{"$f":"IF(J461=\"\",\"\",'Step 3) Fit Distribution'!$F$3*E461+'Step 3) Fit Distribution'!$F$4)","v":""},"","","","","","",""]
[null,{"$f":"IF(AND('Step 1) Select Data'!B481=\"\",'Step 1) Select Data'!D481<>\"\"),'Step 1) Select Data'!D481,\"\")","v":""},"",{"$f":"IF(B462=\"\",\"\",'Step 1) Select Data'!E481)","v":""},"","","","","","",{"$f":"IF(J462=\"\",\"\",'Step 3) Fit Distribution'!$F$3*E462+'Step 3) Fit Distribution'!$F$4)","v":""},"","","","","","",""]
[null,{"$f":"IF(AND('Step 1) Select Data'!B482=\"\",'Step 1) Select Data'!D482<>\"\"),'Step 1) Select Data'!D482,\"\")","v":""},"",{"$f":"IF(B463=\"\",\"\",'Step 1) Select Data'!E482)","v":""},"","","","","","",{"$f":"IF(J463=\"\",\"\",'Step 3) Fit Distribution'!$F$3*E463+'Step 3) Fit Distribution'!$F$4)","v":""},"","","","","","",""]
[null,{"$f":"IF(AND('Step 1) Select Data'!B483=\"\",'Step 1) Select Data'!D483<>\"\"),'Step 1) Select Data'!D483,\"\")","v":""},"",{"$f":"IF(B464=\"\",\"\",'Step 1) Select Data'!E483)","v":""},"","","","","","",{"$f":"IF(J464=\"\",\"\",'Step 3) Fit Distribution'!$F$3*E464+'Step 3) Fit Distribution'!$F$4)","v":""},"","","","","","",""]
[null,{"$f":"IF(AND('Step 1) Select Data'!B484=\"\",'Step 1) Select Data'!D484<>\"\"),'Step 1) Select Data'!D484,\"\")","v":""},"",{"$f":"IF(B465=\"\",\"\",'Step 1) Select Data'!E484)","v":""},"","","","","","",{"$f":"IF(J465=\"\",\"\",'Step 3) Fit Distribution'!$F$3*E465+'Step 3) Fit Distribution'!$F$4)","v":""},"","","","","","",""]
[null,{"$f":"IF(AND('Step 1) Select Data'!B485=\"\",'Step 1) Select Data'!D485<>\"\"),'Step 1) Select Data'!D485,\"\")","v":""},"",{"$f":"IF(B466=\"\",\"\",'Step 1) Select Data'!E485)","v":""},"","","","","","",{"$f":"IF(J466=\"\",\"\",'Step 3) Fit Distribution'!$F$3*E466+'Step 3) Fit Distribution'!$F$4)","v":""},"","","","","","",""]
[null,{"$f":"IF(AND('Step 1) Select Data'!B486=\"\",'Step 1) Select Data'!D486<>\"\"),'Step 1) Select Data'!D486,\"\")","v":""},"",{"$f":"IF(B467=\"\",\"\",'Step 1) Select Data'!E486)","v":""},"","","","","","",{"$f":"IF(J467=\"\",\"\",'Step 3) Fit Distribution'!$F$3*E467+'Step 3) Fit Distribution'!$F$4)","v":""},"","","","","","",""]
[null,{"$f":"IF(AND('Step 1) Select Data'!B487=\"\",'Step 1) Select Data'!D487<>\"\"),'Step 1) Select Data'!D487,\"\")","v":""},"",{"$f":"IF(B468=\"\",\"\",'Step 1) Select Data'!E487)","v":""},"","","","","","",{"$f":"IF(J468=\"\",\"\",'Step 3) Fit Distribution'!$F$3*E468+'Step 3) Fit Distribution'!$F$4)","v":""},"","","","","",{"$f":"IF(O468=\"\",\"\",ROUND(LOG(D468)-O468,4)^2)","v":""},""]
[null,{"$f":"IF(AND('Step 1) Select Data'!B488=\"\",'Step 1) Select Data'!D488<>\"\"),'Step 1) Select Data'!D488,\"\")","v":""},"",{"$f":"IF(B469=\"\",\"\",'Step 1) Select Data'!E488)","v":""},"","","","","","",{"$f":"IF(J469=\"\",\"\",'Step 3) Fit Distribution'!$F$3*E469+'Step 3) Fit Distribution'!$F$4)","v":""},"","","","","","",""]
[null,{"$f":"IF(AND('Step 1) Select Data'!B489=\"\",'Step 1) Select Data'!D489<>\"\"),'Step 1) Select Data'!D489,\"\")","v":""},"",{"$f":"IF(B470=\"\",\"\",'Step 1) Select Data'!E489)","v":""},"","","","","","",{"$f":"IF(J470=\"\",\"\",'Step 3) Fit Distribution'!$F$3*E470+'Step 3) Fit Distribution'!$F$4)","v":""},"","","","","","",""]
[null,{"$f":"IF(AND('Step 1) Select Data'!B490=\"\",'Step 1) Select Data'!D490<>\"\"),'Step 1) Select Data'!D490,\"\")","v":""},"",{"$f":"IF(B471=\"\",\"\",'Step 1) Select Data'!E490)","v":""},"","","","","","",{"$f":"IF(J471=\"\",\"\",'Step 3) Fit Distribution'!$F$3*E471+'Step 3) Fit Distribution'!$F$4)","v":""},"","","","","","",""]
[null,{"$f":"IF(AND('Step 1) Select Data'!B491=\"\",'Step 1) Select Data'!D491<>\"\"),'Step 1) Select Data'!D491,\"\")","v":""},"",{"$f":"IF(B472=\"\",\"\",'Step 1) Select Data'!E491)","v":""},"","","","","","",{"$f":"IF(J472=\"\",\"\",'Step 3) Fit Distribution'!$F$3*E472+'Step 3) Fit Distribution'!$F$4)","v":""},"","","","","","",""]
[null,{"$f":"IF(AND('Step 1) Select Data'!B492=\"\",'Step 1) Select Data'!D492<>\"\"),'Step 1) Select Data'!D492,\"\")","v":""},"",{"$f":"IF(B473=\"\",\"\",'Step 1) Select Data'!E492)","v":""},"","","","","","",{"$f":"IF(J473=\"\",\"\",'Step 3) Fit Distribution'!$F$3*E473+'Step 3) Fit Distribution'!$F$4)","v":""},"","","","","","",""]
[null,{"$f":"IF(AND('Step 1) Select Data'!B493=\"\",'Step 1) Select Data'!D493<>\"\"),'Step 1) Select Data'!D493,\"\")","v":""},"",{"$f":"IF(B474=\"\",\"\",'Step 1) Select Data'!E493)","v":""},"","","","","","",{"$f":"IF(J474=\"\",\"\",'Step 3) Fit Distribution'!$F$3*E474+'Step 3) Fit Distribution'!$F$4)","v":""},"","","","","","",""]
[null,{"$f":"IF(AND('Step 1) Select Data'!B494=\"\",'Step 1) Select Data'!D494<>\"\"),'Step 1) Select Data'!D494,\"\")","v":""},"",{"$f":"IF(B475=\"\",\"\",'Step 1) Select Data'!E494)","v":""},"","","","","","",{"$f":"IF(J475=\"\",\"\",'Step 3) Fit Distribution'!$F$3*E475+'Step 3) Fit Distribution'!$F$4)","v":""},"","","","","","",""]
[null,{"$f":"IF(AND('Step 1) Select Data'!B495=\"\",'Step 1) Select Data'!D495<>\"\"),'Step 1) Select Data'!D495,\"\")","v":""},"",{"$f":"IF(B476=\"\",\"\",'Step 1) Select Data'!E495)","v":""},"","","","","","",{"$f":"IF(J476=\"\",\"\",'Step 3) Fit Distribution'!$F$3*E476+'Step 3) Fit Distribution'!$F$4)","v":""},"","","","","","",""]
[null,{"$f":"IF(AND('Step 1) Select Data'!B496=\"\",'Step 1) Select Data'!D496<>\"\"),'Step 1) Select Data'!D496,\"\")","v":""},"",{"$f":"IF(B477=\"\",\"\",'Step 1) Select Data'!E496)","v":""},"","","","","","",{"$f":"IF(J477=\"\",\"\",'Step 3) Fit Distribution'!$F$3*E477+'Step 3) Fit Distribution'!$F$4)","v":""},"","","","","","",""]
[null,{"$f":"IF(AND('Step 1) Select Data'!B497=\"\",'Step 1) Select Data'!D497<>\"\"),'Step 1) Select Data'!D497,\"\")","v":""},"",{"$f":"IF(B478=\"\",\"\",'Step 1) Select Data'!E497)","v":""},"","","","","","",{"$f":"IF(J478=\"\",\"\",'Step 3) Fit Distribution'!$F$3*E478+'Step 3) Fit Distribution'!$F$4)","v":""},"","","","","","",""]
[null,{"$f":"IF(AND('Step 1) Select Data'!B498=\"\",'Step 1) Select Data'!D498<>\"\"),'Step 1) Select Data'!D498,\"\")","v":""},"",{"$f":"IF(B479=\"\",\"\",'Step 1) Select Data'!E498)","v":""},"","","","","","",{"$f":"IF(J479=\"\",\"\",'Step 3) Fit Distribution'!$F$3*E479+'Step 3) Fit Distribution'!$F$4)","v":""},"","","","","","",""]
[null,{"$f":"IF(AND('Step 1) Select Data'!B499=\"\",'Step 1) Select Data'!D499<>\"\"),'Step 1) Select Data'!D499,\"\")","v":""},"",{"$f":"IF(B480=\"\",\"\",'Step 1) Select Data'!E499)","v":""},"","","","","","",{"$f":"IF(J480=\"\",\"\",'Step 3) Fit Distribution'!$F$3*E480+'Step 3) Fit Distribution'!$F$4)","v":""},"","","","","","",""]
[null,{"$f":"IF(AND('Step 1) Select Data'!B500=\"\",'Step 1) Select Data'!D500<>\"\"),'Step 1) Select Data'!D500,\"\")","v":""},"",{"$f":"IF(B481=\"\",\"\",'Step 1) Select Data'!E500)","v":""},"","","","","","",{"$f":"IF(J481=\"\",\"\",'Step 3) Fit Distribution'!$F$3*E481+'Step 3) Fit Distribution'!$F$4)","v":""},"","","","","","",""]
[null,{"$f":"IF(AND('Step 1) Select Data'!B501=\"\",'Step 1) Select Data'!D501<>\"\"),'Step 1) Select Data'!D501,\"\")","v":""},"",{"$f":"IF(B482=\"\",\"\",'Step 1) Select Data'!E501)","v":""},"","","","","","",{"$f":"IF(J482=\"\",\"\",'Step 3) Fit Distribution'!$F$3*E482+'Step 3) Fit Distribution'!$F$4)","v":""},"","","","","","",""]
[null,{"$f":"IF(AND('Step 1) Select Data'!B502=\"\",'Step 1) Select Data'!D502<>\"\"),'Step 1) Select Data'!D502,\"\")","v":""},"",{"$f":"IF(B483=\"\",\"\",'Step 1) Select Data'!E502)","v":""},"","","","","","",{"$f":"IF(J483=\"\",\"\",'Step 3) Fit Distribution'!$F$3*E483+'Step 3) Fit Distribution'!$F$4)","v":""},"","","","","","",""]
[null,{"$f":"IF(AND('Step 1) Select Data'!B503=\"\",'Step 1) Select Data'!D503<>\"\"),'Step 1) Select Data'!D503,\"\")","v":""},"",{"$f":"IF(B484=\"\",\"\",'Step 1) Select Data'!E503)","v":""},"","","","","","",{"$f":"IF(J484=\"\",\"\",'Step 3) Fit Distribution'!$F$3*E484+'Step 3) Fit Distribution'!$F$4)","v":""},"","","","","","",""]
[null,{"$f":"IF(AND('Step 1) Select Data'!B504=\"\",'Step 1) Select Data'!D504<>\"\"),'Step 1) Select Data'!D504,\"\")","v":""},"",{"$f":"IF(B485=\"\",\"\",'Step 1) Select Data'!E504)","v":""},"","","","","","",{"$f":"IF(J485=\"\",\"\",'Step 3) Fit Distribution'!$F$3*E485+'Step 3) Fit Distribution'!$F$4)","v":""},"","","","","","",""]
[null,{"$f":"IF(AND('Step 1) Select Data'!B505=\"\",'Step 1) Select Data'!D505<>\"\"),'Step 1) Select Data'!D505,\"\")","v":""},"",{"$f":"IF(B486=\"\",\"\",'Step 1) Select Data'!E505)","v":""},"","","","","","",{"$f":"IF(J486=\"\",\"\",'Step 3) Fit Distribution'!$F$3*E486+'Step 3) Fit Distribution'!$F$4)","v":""},"","","","","","",""]
[null,{"$f":"IF(AND('Step 1) Select Data'!B506=\"\",'Step 1) Select Data'!D506<>\"\"),'Step 1) Select Data'!D506,\"\")","v":""},"",{"$f":"IF(B487=\"\",\"\",'Step 1) Select Data'!E506)","v":""},"","","","","","",{"$f":"IF(J487=\"\",\"\",'Step 3) Fit Distribution'!$F$3*E487+'Step 3) Fit Distribution'!$F$4)","v":""},"","","","","","",""]
[null,{"$f":"IF(AND('Step 1) Select Data'!B507=\"\",'Step 1) Select Data'!D507<>\"\"),'Step 1) Select Data'!D507,\"\")","v":""},"",{"$f":"IF(B488=\"\",\"\",'Step 1) Select Data'!E507)","v":""},"","","","","","",{"$f":"IF(J488=\"\",\"\",'Step 3) Fit Distribution'!$F$3*E488+'Step 3) Fit Distribution'!$F$4)","v":""},"","","","","","",""]
[null,{"$f":"IF(AND('Step 1) Select Data'!B508=\"\",'Step 1) Select Data'!D508<>\"\"),'Step 1) Select Data'!D508,\"\")","v":""},"",{"$f":"IF(B489=\"\",\"\",'Step 1) Select Data'!E508)","v":""},"","","","","","",{"$f":"IF(J489=\"\",\"\",'Step 3) Fit Distribution'!$F$3*E489+'Step 3) Fit Distribution'!$F$4)","v":""},"","","","","","",""]
[null,{"$f":"IF(AND('Step 1) Select Data'!B509=\"\",'Step 1) Select Data'!D509<>\"\"),'Step 1) Select Data'!D509,\"\")","v":""},"",{"$f":"IF(B490=\"\",\"\",'Step 1) Select Data'!E509)","v":""},"","","","","","",{"$f":"IF(J490=\"\",\"\",'Step 3) Fit Distribution'!$F$3*E490+'Step 3) Fit Distribution'!$F$4)","v":""},"","","","","","",""]
[null,{"$f":"IF(AND('Step 1) Select Data'!B510=\"\",'Step 1) Select Data'!D510<>\"\"),'Step 1) Select Data'!D510,\"\")","v":""},"",{"$f":"IF(B491=\"\",\"\",'Step 1) Select Data'!E510)","v":""},"","","","","","",{"$f":"IF(J491=\"\",\"\",'Step 3) Fit Distribution'!$F$3*E491+'Step 3) Fit Distribution'!$F$4)","v":""},"","","","","","",""]
[null,{"$f":"IF(AND('Step 1) Select Data'!B511=\"\",'Step 1) Select Data'!D511<>\"\"),'Step 1) Select Data'!D511,\"\")","v":""},"",{"$f":"IF(B492=\"\",\"\",'Step 1) Select Data'!E511)","v":""},"","","","","","",{"$f":"IF(J492=\"\",\"\",'Step 3) Fit Distribution'!$F$3*E492+'Step 3) Fit Distribution'!$F$4)","v":""},"","","","","","",""]
[null,{"$f":"IF(AND('Step 1) Select Data'!B512=\"\",'Step 1) Select Data'!D512<>\"\"),'Step 1) Select Data'!D512,\"\")","v":""},"",{"$f":"IF(B493=\"\",\"\",'Step 1) Select Data'!E512)","v":""},"","","","","","",{"$f":"IF(J493=\"\",\"\",'Step 3) Fit Distribution'!$F$3*E493+'Step 3) Fit Distribution'!$F$4)","v":""},"","","","","","",""]
[null,{"$f":"IF(AND('Step 1) Select Data'!B513=\"\",'Step 1) Select Data'!D513<>\"\"),'Step 1) Select Data'!D513,\"\")","v":""},"",{"$f":"IF(B494=\"\",\"\",'Step 1) Select Data'!E513)","v":""},"","","","","","",{"$f":"IF(J494=\"\",\"\",'Step 3) Fit Distribution'!$F$3*E494+'Step 3) Fit Distribution'!$F$4)","v":""},"","","","","","",""]
[null,{"$f":"IF(AND('Step 1) Select Data'!B514=\"\",'Step 1) Select Data'!D514<>\"\"),'Step 1) Select Data'!D514,\"\")","v":""},"",{"$f":"IF(B495=\"\",\"\",'Step 1) Select Data'!E514)","v":""},"","","","","","",{"$f":"IF(J495=\"\",\"\",'Step 3) Fit Distribution'!$F$3*E495+'Step 3) Fit Distribution'!$F$4)","v":""},"","","","","","",""]
[null,{"$f":"IF(AND('Step 1) Select Data'!B515=\"\",'Step 1) Select Data'!D515<>\"\"),'Step 1) Select Data'!D515,\"\")","v":""},"",{"$f":"IF(B496=\"\",\"\",'Step 1) Select Data'!E515)","v":""},"","","","","","",{"$f":"IF(J496=\"\",\"\",'Step 3) Fit Distribution'!$F$3*E496+'Step 3) Fit Distribution'!$F$4)","v":""},"","","","","","",""]
[null,{"$f":"IF(AND('Step 1) Select Data'!B516=\"\",'Step 1) Select Data'!D516<>\"\"),'Step 1) Select Data'!D516,\"\")","v":""},"",{"$f":"IF(B497=\"\",\"\",'Step 1) Select Data'!E516)","v":""},"","","","","","",{"$f":"IF(J497=\"\",\"\",'Step 3) Fit Distribution'!$F$3*E497+'Step 3) Fit Distribution'!$F$4)","v":""},"","","","","","",""]
[null,{"$f":"IF(AND('Step 1) Select Data'!B517=\"\",'Step 1) Select Data'!D517<>\"\"),'Step 1) Select Data'!D517,\"\")","v":""},"",{"$f":"IF(B498=\"\",\"\",'Step 1) Select Data'!E517)","v":""},"","","","","","",{"$f":"IF(J498=\"\",\"\",'Step 3) Fit Distribution'!$F$3*E498+'Step 3) Fit Distribution'!$F$4)","v":""},"","","","","","",""]
[null,{"$f":"IF(AND('Step 1) Select Data'!B518=\"\",'Step 1) Select Data'!D518<>\"\"),'Step 1) Select Data'!D518,\"\")","v":""},"",{"$f":"IF(B499=\"\",\"\",'Step 1) Select Data'!E518)","v":""},"","","","","","",{"$f":"IF(J499=\"\",\"\",'Step 3) Fit Distribution'!$F$3*E499+'Step 3) Fit Distribution'!$F$4)","v":""},"","","","","","",""]
[null,{"$f":"IF(AND('Step 1) Select Data'!B519=\"\",'Step 1) Select Data'!D519<>\"\"),'Step 1) Select Data'!D519,\"\")","v":""},"",{"$f":"IF(B500=\"\",\"\",'Step 1) Select Data'!E519)","v":""},"","","","","","",{"$f":"IF(J500=\"\",\"\",'Step 3) Fit Distribution'!$F$3*E500+'Step 3) Fit Distribution'!$F$4)","v":""},"","","","","","",""]
[null,{"$f":"IF(AND('Step 1) Select Data'!B520=\"\",'Step 1) Select Data'!D520<>\"\"),'Step 1) Select Data'!D520,\"\")","v":""},"",{"$f":"IF(B501=\"\",\"\",'Step 1) Select Data'!E520)","v":""},"","","","","","",{"$f":"IF(J501=\"\",\"\",'Step 3) Fit Distribution'!$F$3*E501+'Step 3) Fit Distribution'!$F$4)","v":""},"","","","","","",""]
[null,{"$f":"IF(AND('Step 1) Select Data'!B521=\"\",'Step 1) Select Data'!D521<>\"\"),'Step 1) Select Data'!D521,\"\")","v":""},"",{"$f":"IF(B502=\"\",\"\",'Step 1) Select Data'!E521)","v":""},"","","","","","",{"$f":"IF(J502=\"\",\"\",'Step 3) Fit Distribution'!$F$3*E502+'Step 3) Fit Distribution'!$F$4)","v":""},"","","","","","",""]
[null,{"$f":"IF(AND('Step 1) Select Data'!B522=\"\",'Step 1) Select Data'!D522<>\"\"),'Step 1) Select Data'!D522,\"\")","v":""},"",{"$f":"IF(B503=\"\",\"\",'Step 1) Select Data'!E522)","v":""},"","","","","","",{"$f":"IF(J503=\"\",\"\",'Step 3) Fit Distribution'!$F$3*E503+'Step 3) Fit Distribution'!$F$4)","v":""},"","","","","","",""]
[null,{"$f":"IF(AND('Step 1) Select Data'!B523=\"\",'Step 1) Select Data'!D523<>\"\"),'Step 1) Select Data'!D523,\"\")","v":""},"",{"$f":"IF(B504=\"\",\"\",'Step 1) Select Data'!E523)","v":""},"","","","","","",{"$f":"IF(J504=\"\",\"\",'Step 3) Fit Distribution'!$F$3*E504+'Step 3) Fit Distribution'!$F$4)","v":""},"","","","","","",""]
[null,{"$f":"IF(AND('Step 1) Select Data'!B524=\"\",'Step 1) Select Data'!D524<>\"\"),'Step 1) Select Data'!D524,\"\")","v":""},"",{"$f":"IF(B505=\"\",\"\",'Step 1) Select Data'!E524)","v":""},"","","","","","",{"$f":"IF(J505=\"\",\"\",'Step 3) Fit Distribution'!$F$3*E505+'Step 3) Fit Distribution'!$F$4)","v":""},"","","","","","",""]
[null,{"$f":"IF(AND('Step 1) Select Data'!B525=\"\",'Step 1) Select Data'!D525<>\"\"),'Step 1) Select Data'!D525,\"\")","v":""},"",{"$f":"IF(B506=\"\",\"\",'Step 1) Select Data'!E525)","v":""},"","","","","","",{"$f":"IF(J506=\"\",\"\",'Step 3) Fit Distribution'!$F$3*E506+'Step 3) Fit Distribution'!$F$4)","v":""},"","","","","","",""]
[null,{"$f":"IF(AND('Step 1) Select Data'!B526=\"\",'Step 1) Select Data'!D526<>\"\"),'Step 1) Select Data'!D526,\"\")","v":""},"",{"$f":"IF(B507=\"\",\"\",'Step 1) Select Data'!E526)","v":""},"","","","","","",{"$f":"IF(J507=\"\",\"\",'Step 3) Fit Distribution'!$F$3*E507+'Step 3) Fit Distribution'!$F$4)","v":""},"","","","","","",""]
[null,{"$f":"IF(AND('Step 1) Select Data'!B527=\"\",'Step 1) Select Data'!D527<>\"\"),'Step 1) Select Data'!D527,\"\")","v":""},"",{"$f":"IF(B508=\"\",\"\",'Step 1) Select Data'!E527)","v":""},"","","","","","",{"$f":"IF(J508=\"\",\"\",'Step 3) Fit Distribution'!$F$3*E508+'Step 3) Fit Distribution'!$F$4)","v":""},"","","","","","",""]
[null,{"$f":"IF(AND('Step 1) Select Data'!B528=\"\",'Step 1) Select Data'!D528<>\"\"),'Step 1) Select Data'!D528,\"\")","v":""},"",{"$f":"IF(B509=\"\",\"\",'Step 1) Select Data'!E528)","v":""},"","","","","","",{"$f":"IF(J509=\"\",\"\",'Step 3) Fit Distribution'!$F$3*E509+'Step 3) Fit Distribution'!$F$4)","v":""},"","","","","","",""]
[null,{"$f":"IF(AND('Step 1) Select Data'!B529=\"\",'Step 1) Select Data'!D529<>\"\"),'Step 1) Select Data'!D529,\"\")","v":""},"",{"$f":"IF(B510=\"\",\"\",'Step 1) Select Data'!E529)","v":""},"","","","","","",{"$f":"IF(J510=\"\",\"\",'Step 3) Fit Distribution'!$F$3*E510+'Step 3) Fit Distribution'!$F$4)","v":""},"","","","","","",""]
[null,{"$f":"IF(AND('Step 1) Select Data'!B530=\"\",'Step 1) Select Data'!D530<>\"\"),'Step 1) Select Data'!D530,\"\")","v":""},"",{"$f":"IF(B511=\"\",\"\",'Step 1) Select Data'!E530)","v":""},"","","","","","",{"$f":"IF(J511=\"\",\"\",'Step 3) Fit Distribution'!$F$3*E511+'Step 3) Fit Distribution'!$F$4)","v":""},"","","","","","",""]
[null,{"$f":"IF(AND('Step 1) Select Data'!B531=\"\",'Step 1) Select Data'!D531<>\"\"),'Step 1) Select Data'!D531,\"\")","v":""},"",{"$f":"IF(B512=\"\",\"\",'Step 1) Select Data'!E531)","v":""},"","","","","","",{"$f":"IF(J512=\"\",\"\",'Step 3) Fit Distribution'!$F$3*E512+'Step 3) Fit Distribution'!$F$4)","v":""},"","","","","","",""]
[null,{"$f":"IF(AND('Step 1) Select Data'!B532=\"\",'Step 1) Select Data'!D532<>\"\"),'Step 1) Select Data'!D532,\"\")","v":""},"",{"$f":"IF(B513=\"\",\"\",'Step 1) Select Data'!E532)","v":""},"","","","","","",{"$f":"IF(J513=\"\",\"\",'Step 3) Fit Distribution'!$F$3*E513+'Step 3) Fit Distribution'!$F$4)","v":""},"","","","","","",""]
[null,{"$f":"IF(AND('Step 1) Select Data'!B533=\"\",'Step 1) Select Data'!D533<>\"\"),'Step 1) Select Data'!D533,\"\")","v":""},"",{"$f":"IF(B514=\"\",\"\",'Step 1) Select Data'!E533)","v":""},"","","","","","",{"$f":"IF(J514=\"\",\"\",'Step 3) Fit Distribution'!$F$3*E514+'Step 3) Fit Distribution'!$F$4)","v":""},"","","","","","",""]
[null,{"$f":"IF(AND('Step 1) Select Data'!B534=\"\",'Step 1) Select Data'!D534<>\"\"),'Step 1) Select Data'!D534,\"\")","v":""},"",{"$f":"IF(B515=\"\",\"\",'Step 1) Select Data'!E534)","v":""},"","","","","","",{"$f":"IF(J515=\"\",\"\",'Step 3) Fit Distribution'!$F$3*E515+'Step 3) Fit Distribution'!$F$4)","v":""},"","","","","","",""]
[null,{"$f":"IF(AND('Step 1) Select Data'!B535=\"\",'Step 1) Select Data'!D535<>\"\"),'Step 1) Select Data'!D535,\"\")","v":""},"",{"$f":"IF(B516=\"\",\"\",'Step 1) Select Data'!E535)","v":""},"","","","","","",{"$f":"IF(J516=\"\",\"\",'Step 3) Fit Distribution'!$F$3*E516+'Step 3) Fit Distribution'!$F$4)","v":""},"","","","","","",""]
[null,{"$f":"IF(AND('Step 1) Select Data'!B536=\"\",'Step 1) Select Data'!D536<>\"\"),'Step 1) Select Data'!D536,\"\")","v":""},"",{"$f":"IF(B517=\"\",\"\",'Step 1) Select Data'!E536)","v":""},"","","","","","",{"$f":"IF(J517=\"\",\"\",'Step 3) Fit Distribution'!$F$3*E517+'Step 3) Fit Distribution'!$F$4)","v":""},"","","","","","",""]
[null,{"$f":"IF(AND('Step 1) Select Data'!B537=\"\",'Step 1) Select Data'!D537<>\"\"),'Step 1) Select Data'!D537,\"\")","v":""},"",{"$f":"IF(B518=\"\",\"\",'Step 1) Select Data'!E537)","v":""},"","","","","","",{"$f":"IF(J518=\"\",\"\",'Step 3) Fit Distribution'!$F$3*E518+'Step 3) Fit Distribution'!$F$4)","v":""},"","","","","","",""]
[null,{"$f":"IF(AND('Step 1) Select Data'!B538=\"\",'Step 1) Select Data'!D538<>\"\"),'Step 1) Select Data'!D538,\"\")","v":""},{"$f":"IF(B519=\"\",\"\",IF(OR(M519>=M520,M520=\"\"),M519,\"\"))","v":""},{"$f":"IF(B519=\"\",\"\",'Step 1) Select Data'!E538)","v":""},{"$f":"IF(C519=\"\",\"\",LOG10(N519)*(1/C519))","v":""},{"$f":"IF(OR(M519=\"\",C519=1),\"\",IF(C519=\"\",\"\",SQRT(R519/(C519-1))))","v":""},{"$f":"IF(E519=\"\",\"\",10^E519)","v":""},{"$f":"IF(I519=\"\",\"\",(I519-0.5)/COUNT($E$6:$E$2004))","v":""},{"$f":"IF(E519=\"\",\"\",RANK(E519,$E$6:$E$2004,1))","v":""},{"$f":"IF(H519=\"\",\"\",NORMINV(H519,5,1))","v":""},{"$f":"IF(J519=\"\",\"\",'Step 3) Fit Distribution'!$F$3*E519+'Step 3) Fit Distribution'!$F$4)","v":""},{"$f":"IF(K519=\"\",\"\",(K519-J519)^2)","v":""},{"$f":"IF(B519=\"\",\"\",IF(B519<>B518,1,M518+1))","v":""},{"$f":"IF(B519=\"\",\"\",IF(B519<>B518,ROUND(D519,4),ROUND(D519,4)*N518))","v":""},{"$f":"IF(OR(M519=\"\",C519=1),\"\",IF(AND(M519<>\"\",C519=\"\",E519=\"\"),O520,E519))","v":""},{"$f":"IF(OR(M519=\"\",C519=1),\"\",IF(AND(M519<>\"\",C519=\"\",E519=\"\"),P520,C519))","v":""},"",{"$f":"IF(Q519=\"\",\"\",IF(O519=O518,Q519+R518,Q519))","v":""}]
[null,{"$f":"IF(AND('Step 1) Select Data'!B539=\"\",'Step 1) Select Data'!D539<>\"\"),'Step 1) Select Data'!D539,\"\")","v":""},"",{"$f":"IF(B520=\"\",\"\",'Step 1) Select Data'!E539)","v":""},"","","","","","",{"$f":"IF(J520=\"\",\"\",'Step 3) Fit Distribution'!$F$3*E520+'Step 3) Fit Distribution'!$F$4)","v":""},"","","","","","",""]
[null,{"$f":"IF(AND('Step 1) Select Data'!B540=\"\",'Step 1) Select Data'!D540<>\"\"),'Step 1) Select Data'!D540,\"\")","v":""},"",{"$f":"IF(B521=\"\",\"\",'Step 1) Select Data'!E540)","v":""},"","","","","","",{"$f":"IF(J521=\"\",\"\",'Step 3) Fit Distribution'!$F$3*E521+'Step 3) Fit Distribution'!$F$4)","v":""},"","","","","","",""]
[null,{"$f":"IF(AND('Step 1) Select Data'!B541=\"\",'Step 1) Select Data'!D541<>\"\"),'Step 1) Select Data'!D541,\"\")","v":""},"",{"$f":"IF(B522=\"\",\"\",'Step 1) Select Data'!E541)","v":""},"","","","","","",{"$f":"IF(J522=\"\",\"\",'Step 3) Fit Distribution'!$F$3*E522+'Step 3) Fit Distribution'!$F$4)","v":""},"","","","","","",""]
[null,{"$f":"IF(AND('Step 1) Select Data'!B542=\"\",'Step 1) Select Data'!D542<>\"\"),'Step 1) Select Data'!D542,\"\")","v":""},"",{"$f":"IF(B523=\"\",\"\",'Step 1) Select Data'!E542)","v":""},"","","","","","",{"$f":"IF(J523=\"\",\"\",'Step 3) Fit Distribution'!$F$3*E523+'Step 3) Fit Distribution'!$F$4)","v":""},"","","","","","",""]
[null,{"$f":"IF(AND('Step 1) Select Data'!B543=\"\",'Step 1) Select Data'!D543<>\"\"),'Step 1) Select Data'!D543,\"\")","v":""},"",{"$f":"IF(B524=\"\",\"\",'Step 1) Select Data'!E543)","v":""},"","","","","","",{"$f":"IF(J524=\"\",\"\",'Step 3) Fit Distribution'!$F$3*E524+'Step 3) Fit Distribution'!$F$4)","v":""},"","","","","","",""]
[null,{"$f":"IF(AND('Step 1) Select Data'!B544=\"\",'Step 1) Select Data'!D544<>\"\"),'Step 1) Select Data'!D544,\"\")","v":""},"",{"$f":"IF(B525=\"\",\"\",'Step 1) Select Data'!E544)","v":""},"","","","","","",{"$f":"IF(J525=\"\",\"\",'Step 3) Fit Distribution'!$F$3*E525+'Step 3) Fit Distribution'!$F$4)","v":""},"","","","","","",""]
[null,{"$f":"IF(AND('Step 1) Select Data'!B545=\"\",'Step 1) Select Data'!D545<>\"\"),'Step 1) Select Data'!D545,\"\")","v":""},"",{"$f":"IF(B526=\"\",\"\",'Step 1) Select Data'!E545)","v":""},"","","","","","",{"$f":"IF(J526=\"\",\"\",'Step 3) Fit Distribution'!$F$3*E526+'Step 3) Fit Distribution'!$F$4)","v":""},"","","","","","",""]
[null,{"$f":"IF(AND('Step 1) Select Data'!B546=\"\",'Step 1) Select Data'!D546<>\"\"),'Step 1) Select Data'!D546,\"\")","v":""},"",{"$f":"IF(B527=\"\",\"\",'Step 1) Select Data'!E546)","v":""},"","","","","","",{"$f":"IF(J527=\"\",\"\",'Step 3) Fit Distribution'!$F$3*E527+'Step 3) Fit Distribution'!$F$4)","v":""},"","","","","","",""]
[null,{"$f":"IF(AND('Step 1) Select Data'!B547=\"\",'Step 1) Select Data'!D547<>\"\"),'Step 1) Select Data'!D547,\"\")","v":""},"",{"$f":"IF(B528=\"\",\"\",'Step 1) Select Data'!E547)","v":""},"","","","","","",{"$f":"IF(J528=\"\",\"\",'Step 3) Fit Distribution'!$F$3*E528+'Step 3) Fit Distribution'!$F$4)","v":""},"","","","","","",""]
[null,{"$f":"IF(AND('Step 1) Select Data'!B548=\"\",'Step 1) Select Data'!D548<>\"\"),'Step 1) Select Data'!D548,\"\")","v":""},"",{"$f":"IF(B529=\"\",\"\",'Step 1) Select Data'!E548)","v":""},"","","","","","",{"$f":"IF(J529=\"\",\"\",'Step 3) Fit Distribution'!$F$3*E529+'Step 3) Fit Distribution'!$F$4)","v":""},"","","","","","",""]
[null,{"$f":"IF(AND('Step 1) Select Data'!B549=\"\",'Step 1) Select Data'!D549<>\"\"),'Step 1) Select Data'!D549,\"\")","v":""},"",{"$f":"IF(B530=\"\",\"\",'Step 1) Select Data'!E549)","v":""},"","","","","","",{"$f":"IF(J530=\"\",\"\",'Step 3) Fit Distribution'!$F$3*E530+'Step 3) Fit Distribution'!$F$4)","v":""},"","","","","","",""]
[null,{"$f":"IF(AND('Step 1) Select Data'!B550=\"\",'Step 1) Select Data'!D550<>\"\"),'Step 1) Select Data'!D550,\"\")","v":""},"",{"$f":"IF(B531=\"\",\"\",'Step 1) Select Data'!E550)","v":""},"","","","","","",{"$f":"IF(J531=\"\",\"\",'Step 3) Fit Distribution'!$F$3*E531+'Step 3) Fit Distribution'!$F$4)","v":""},"","","","","","",""]
[null,{"$f":"IF(AND('Step 1) Select Data'!B551=\"\",'Step 1) Select Data'!D551<>\"\"),'Step 1) Select Data'!D551,\"\")","v":""},"",{"$f":"IF(B532=\"\",\"\",'Step 1) Select Data'!E551)","v":""},"","","","","","",{"$f":"IF(J532=\"\",\"\",'Step 3) Fit Distribution'!$F$3*E532+'Step 3) Fit Distribution'!$F$4)","v":""},"","","","","",{"$f":"IF(O532=\"\",\"\",ROUND(LOG(D532)-O532,4)^2)","v":""},""]
[null,{"$f":"IF(AND('Step 1) Select Data'!B552=\"\",'Step 1) Select Data'!D552<>\"\"),'Step 1) Select Data'!D552,\"\")","v":""},"",{"$f":"IF(B533=\"\",\"\",'Step 1) Select Data'!E552)","v":""},"","","","","","",{"$f":"IF(J533=\"\",\"\",'Step 3) Fit Distribution'!$F$3*E533+'Step 3) Fit Distribution'!$F$4)","v":""},"","","","","","",""]
[null,{"$f":"IF(AND('Step 1) Select Data'!B553=\"\",'Step 1) Select Data'!D553<>\"\"),'Step 1) Select Data'!D553,\"\")","v":""},"",{"$f":"IF(B534=\"\",\"\",'Step 1) Select Data'!E553)","v":""},"","","","","","",{"$f":"IF(J534=\"\",\"\",'Step 3) Fit Distribution'!$F$3*E534+'Step 3) Fit Distribution'!$F$4)","v":""},"","","","","","",""]
[null,{"$f":"IF(AND('Step 1) Select Data'!B554=\"\",'Step 1) Select Data'!D554<>\"\"),'Step 1) Select Data'!D554,\"\")","v":""},"",{"$f":"IF(B535=\"\",\"\",'Step 1) Select Data'!E554)","v":""},"","","","","","",{"$f":"IF(J535=\"\",\"\",'Step 3) Fit Distribution'!$F$3*E535+'Step 3) Fit Distribution'!$F$4)","v":""},"","","","","","",""]
[null,{"$f":"IF(AND('Step 1) Select Data'!B555=\"\",'Step 1) Select Data'!D555<>\"\"),'Step 1) Select Data'!D555,\"\")","v":""},"",{"$f":"IF(B536=\"\",\"\",'Step 1) Select Data'!E555)","v":""},"","","","","","",{"$f":"IF(J536=\"\",\"\",'Step 3) Fit Distribution'!$F$3*E536+'Step 3) Fit Distribution'!$F$4)","v":""},"","","","","","",""]
[null,{"$f":"IF(AND('Step 1) Select Data'!B556=\"\",'Step 1) Select Data'!D556<>\"\"),'Step 1) Select Data'!D556,\"\")","v":""},"",{"$f":"IF(B537=\"\",\"\",'Step 1) Select Data'!E556)","v":""},"","","","","","",{"$f":"IF(J537=\"\",\"\",'Step 3) Fit Distribution'!$F$3*E537+'Step 3) Fit Distribution'!$F$4)","v":""},"","","","","","",""]
[null,{"$f":"IF(AND('Step 1) Select Data'!B557=\"\",'Step 1) Select Data'!D557<>\"\"),'Step 1) Select Data'!D557,\"\")","v":""},"",{"$f":"IF(B538=\"\",\"\",'Step 1) Select Data'!E557)","v":""},"","","","","","",{"$f":"IF(J538=\"\",\"\",'Step 3) Fit Distribution'!$F$3*E538+'Step 3) Fit Distribution'!$F$4)","v":""},"","","","","","",""]
[null,{"$f":"IF(AND('Step 1) Select Data'!B558=\"\",'Step 1) Select Data'!D558<>\"\"),'Step 1) Select Data'!D558,\"\")","v":""},"",{"$f":"IF(B539=\"\",\"\",'Step 1) Select Data'!E558)","v":""},"","","","","","",{"$f":"IF(J539=\"\",\"\",'Step 3) Fit Distribution'!$F$3*E539+'Step 3) Fit Distribution'!$F$4)","v":""},"","","","","","",""]
[null,{"$f":"IF(AND('Step 1) Select Data'!B559=\"\",'Step 1) Select Data'!D559<>\"\"),'Step 1) Select Data'!D559,\"\")","v":""},"",{"$f":"IF(B540=\"\",\"\",'Step 1) Select Data'!E559)","v":""},"","","","","","",{"$f":"IF(J540=\"\",\"\",'Step 3) Fit Distribution'!$F$3*E540+'Step 3) Fit Distribution'!$F$4)","v":""},"","","","","","",""]
[null,{"$f":"IF(AND('Step 1) Select Data'!B560=\"\",'Step 1) Select Data'!D560<>\"\"),'Step 1) Select Data'!D560,\"\")","v":""},"",{"$f":"IF(B541=\"\",\"\",'Step 1) Select Data'!E560)","v":""},"","","","","","",{"$f":"IF(J541=\"\",\"\",'Step 3) Fit Distribution'!$F$3*E541+'Step 3) Fit Distribution'!$F$4)","v":""},"","","","","","",""]
[null,{"$f":"IF(AND('Step 1) Select Data'!B561=\"\",'Step 1) Select Data'!D561<>\"\"),'Step 1) Select Data'!D561,\"\")","v":""},"",{"$f":"IF(B542=\"\",\"\",'Step 1) Select Data'!E561)","v":""},"","","","","","",{"$f":"IF(J542=\"\",\"\",'Step 3) Fit Distribution'!$F$3*E542+'Step 3) Fit Distribution'!$F$4)","v":""},"","","","","","",""]
[null,{"$f":"IF(AND('Step 1) Select Data'!B562=\"\",'Step 1) Select Data'!D562<>\"\"),'Step 1) Select Data'!D562,\"\")","v":""},"",{"$f":"IF(B543=\"\",\"\",'Step 1) Select Data'!E562)","v":""},"","","","","","",{"$f":"IF(J543=\"\",\"\",'Step 3) Fit Distribution'!$F$3*E543+'Step 3) Fit Distribution'!$F$4)","v":""},"","","","","","",""]
[null,{"$f":"IF(AND('Step 1) Select Data'!B563=\"\",'Step 1) Select Data'!D563<>\"\"),'Step 1) Select Data'!D563,\"\")","v":""},"",{"$f":"IF(B544=\"\",\"\",'Step 1) Select Data'!E563)","v":""},"","","","","","",{"$f":"IF(J544=\"\",\"\",'Step 3) Fit Distribution'!$F$3*E544+'Step 3) Fit Distribution'!$F$4)","v":""},"","","","","","",""]
[null,{"$f":"IF(AND('Step 1) Select Data'!B564=\"\",'Step 1) Select Data'!D564<>\"\"),'Step 1) Select Data'!D564,\"\")","v":""},"",{"$f":"IF(B545=\"\",\"\",'Step 1) Select Data'!E564)","v":""},"","","","","","",{"$f":"IF(J545=\"\",\"\",'Step 3) Fit Distribution'!$F$3*E545+'Step 3) Fit Distribution'!$F$4)","v":""},"","","","","","",""]
[null,{"$f":"IF(AND('Step 1) Select Data'!B565=\"\",'Step 1) Select Data'!D565<>\"\"),'Step 1) Select Data'!D565,\"\")","v":""},"",{"$f":"IF(B546=\"\",\"\",'Step 1) Select Data'!E565)","v":""},"","","","","","",{"$f":"IF(J546=\"\",\"\",'Step 3) Fit Distribution'!$F$3*E546+'Step 3) Fit Distribution'!$F$4)","v":""},"","","","","","",""]
[null,{"$f":"IF(AND('Step 1) Select Data'!B566=\"\",'Step 1) Select Data'!D566<>\"\"),'Step 1) Select Data'!D566,\"\")","v":""},"",{"$f":"IF(B547=\"\",\"\",'Step 1) Select Data'!E566)","v":""},"","","","","","",{"$f":"IF(J547=\"\",\"\",'Step 3) Fit Distribution'!$F$3*E547+'Step 3) Fit Distribution'!$F$4)","v":""},"","","","","","",""]
[null,{"$f":"IF(AND('Step 1) Select Data'!B567=\"\",'Step 1) Select Data'!D567<>\"\"),'Step 1) Select Data'!D567,\"\")","v":""},"",{"$f":"IF(B548=\"\",\"\",'Step 1) Select Data'!E567)","v":""},"","","","","","",{"$f":"IF(J548=\"\",\"\",'Step 3) Fit Distribution'!$F$3*E548+'Step 3) Fit Distribution'!$F$4)","v":""},"","","","","","",""]
[null,{"$f":"IF(AND('Step 1) Select Data'!B568=\"\",'Step 1) Select Data'!D568<>\"\"),'Step 1) Select Data'!D568,\"\")","v":""},"",{"$f":"IF(B549=\"\",\"\",'Step 1) Select Data'!E568)","v":""},"","","","","","",{"$f":"IF(J549=\"\",\"\",'Step 3) Fit Distribution'!$F$3*E549+'Step 3) Fit Distribution'!$F$4)","v":""},"","","","","","",""]
[null,{"$f":"IF(AND('Step 1) Select Data'!B569=\"\",'Step 1) Select Data'!D569<>\"\"),'Step 1) Select Data'!D569,\"\")","v":""},"",{"$f":"IF(B550=\"\",\"\",'Step 1) Select Data'!E569)","v":""},"","","","","","",{"$f":"IF(J550=\"\",\"\",'Step 3) Fit Distribution'!$F$3*E550+'Step 3) Fit Distribution'!$F$4)","v":""},"","","","","","",""]
[null,{"$f":"IF(AND('Step 1) Select Data'!B570=\"\",'Step 1) Select Data'!D570<>\"\"),'Step 1) Select Data'!D570,\"\")","v":""},"",{"$f":"IF(B551=\"\",\"\",'Step 1) Select Data'!E570)","v":""},"","","","","","",{"$f":"IF(J551=\"\",\"\",'Step 3) Fit Distribution'!$F$3*E551+'Step 3) Fit Distribution'!$F$4)","v":""},"","","","","","",""]
[null,{"$f":"IF(AND('Step 1) Select Data'!B571=\"\",'Step 1) Select Data'!D571<>\"\"),'Step 1) Select Data'!D571,\"\")","v":""},"",{"$f":"IF(B552=\"\",\"\",'Step 1) Select Data'!E571)","v":""},"","","","","","",{"$f":"IF(J552=\"\",\"\",'Step 3) Fit Distribution'!$F$3*E552+'Step 3) Fit Distribution'!$F$4)","v":""},"","","","","","",""]
[null,{"$f":"IF(AND('Step 1) Select Data'!B572=\"\",'Step 1) Select Data'!D572<>\"\"),'Step 1) Select Data'!D572,\"\")","v":""},"",{"$f":"IF(B553=\"\",\"\",'Step 1) Select Data'!E572)","v":""},"","","","","","",{"$f":"IF(J553=\"\",\"\",'Step 3) Fit Distribution'!$F$3*E553+'Step 3) Fit Distribution'!$F$4)","v":""},"","","","","","",""]
[null,{"$f":"IF(AND('Step 1) Select Data'!B573=\"\",'Step 1) Select Data'!D573<>\"\"),'Step 1) Select Data'!D573,\"\")","v":""},"",{"$f":"IF(B554=\"\",\"\",'Step 1) Select Data'!E573)","v":""},"","","","","","",{"$f":"IF(J554=\"\",\"\",'Step 3) Fit Distribution'!$F$3*E554+'Step 3) Fit Distribution'!$F$4)","v":""},"","","","","","",""]
[null,{"$f":"IF(AND('Step 1) Select Data'!B574=\"\",'Step 1) Select Data'!D574<>\"\"),'Step 1) Select Data'!D574,\"\")","v":""},"",{"$f":"IF(B555=\"\",\"\",'Step 1) Select Data'!E574)","v":""},"","","","","","",{"$f":"IF(J555=\"\",\"\",'Step 3) Fit Distribution'!$F$3*E555+'Step 3) Fit Distribution'!$F$4)","v":""},"","","","","","",""]
[null,{"$f":"IF(AND('Step 1) Select Data'!B575=\"\",'Step 1) Select Data'!D575<>\"\"),'Step 1) Select Data'!D575,\"\")","v":""},"",{"$f":"IF(B556=\"\",\"\",'Step 1) Select Data'!E575)","v":""},"","","","","","",{"$f":"IF(J556=\"\",\"\",'Step 3) Fit Distribution'!$F$3*E556+'Step 3) Fit Distribution'!$F$4)","v":""},"","","","","","",""]
[null,{"$f":"IF(AND('Step 1) Select Data'!B576=\"\",'Step 1) Select Data'!D576<>\"\"),'Step 1) Select Data'!D576,\"\")","v":""},"",{"$f":"IF(B557=\"\",\"\",'Step 1) Select Data'!E576)","v":""},"","","","","","",{"$f":"IF(J557=\"\",\"\",'Step 3) Fit Distribution'!$F$3*E557+'Step 3) Fit Distribution'!$F$4)","v":""},"","","","","","",""]
[null,{"$f":"IF(AND('Step 1) Select Data'!B577=\"\",'Step 1) Select Data'!D577<>\"\"),'Step 1) Select Data'!D577,\"\")","v":""},"",{"$f":"IF(B558=\"\",\"\",'Step 1) Select Data'!E577)","v":""},"","","","","","",{"$f":"IF(J558=\"\",\"\",'Step 3) Fit Distribution'!$F$3*E558+'Step 3) Fit Distribution'!$F$4)","v":""},"","","","","","",""]
[null,{"$f":"IF(AND('Step 1) Select Data'!B578=\"\",'Step 1) Select Data'!D578<>\"\"),'Step 1) Select Data'!D578,\"\")","v":""},"",{"$f":"IF(B559=\"\",\"\",'Step 1) Select Data'!E578)","v":""},"","","","","","",{"$f":"IF(J559=\"\",\"\",'Step 3) Fit Distribution'!$F$3*E559+'Step 3) Fit Distribution'!$F$4)","v":""},"","","","","","",""]
[null,{"$f":"IF(AND('Step 1) Select Data'!B579=\"\",'Step 1) Select Data'!D579<>\"\"),'Step 1) Select Data'!D579,\"\")","v":""},"",{"$f":"IF(B560=\"\",\"\",'Step 1) Select Data'!E579)","v":""},"","","","","","",{"$f":"IF(J560=\"\",\"\",'Step 3) Fit Distribution'!$F$3*E560+'Step 3) Fit Distribution'!$F$4)","v":""},"","","","","","",""]
[null,{"$f":"IF(AND('Step 1) Select Data'!B580=\"\",'Step 1) Select Data'!D580<>\"\"),'Step 1) Select Data'!D580,\"\")","v":""},"",{"$f":"IF(B561=\"\",\"\",'Step 1) Select Data'!E580)","v":""},"","","","","","",{"$f":"IF(J561=\"\",\"\",'Step 3) Fit Distribution'!$F$3*E561+'Step 3) Fit Distribution'!$F$4)","v":""},"","","","","","",""]
[null,{"$f":"IF(AND('Step 1) Select Data'!B581=\"\",'Step 1) Select Data'!D581<>\"\"),'Step 1) Select Data'!D581,\"\")","v":""},"",{"$f":"IF(B562=\"\",\"\",'Step 1) Select Data'!E581)","v":""},"","","","","","",{"$f":"IF(J562=\"\",\"\",'Step 3) Fit Distribution'!$F$3*E562+'Step 3) Fit Distribution'!$F$4)","v":""},"","","","","","",""]
[null,{"$f":"IF(AND('Step 1) Select Data'!B582=\"\",'Step 1) Select Data'!D582<>\"\"),'Step 1) Select Data'!D582,\"\")","v":""},"",{"$f":"IF(B563=\"\",\"\",'Step 1) Select Data'!E582)","v":""},"","","","","","",{"$f":"IF(J563=\"\",\"\",'Step 3) Fit Distribution'!$F$3*E563+'Step 3) Fit Distribution'!$F$4)","v":""},"","","","","","",""]
[null,{"$f":"IF(AND('Step 1) Select Data'!B583=\"\",'Step 1) Select Data'!D583<>\"\"),'Step 1) Select Data'!D583,\"\")","v":""},"",{"$f":"IF(B564=\"\",\"\",'Step 1) Select Data'!E583)","v":""},"","","","","","",{"$f":"IF(J564=\"\",\"\",'Step 3) Fit Distribution'!$F$3*E564+'Step 3) Fit Distribution'!$F$4)","v":""},"","","","","","",""]
[null,{"$f":"IF(AND('Step 1) Select Data'!B584=\"\",'Step 1) Select Data'!D584<>\"\"),'Step 1) Select Data'!D584,\"\")","v":""},"",{"$f":"IF(B565=\"\",\"\",'Step 1) Select Data'!E584)","v":""},"","","","","","",{"$f":"IF(J565=\"\",\"\",'Step 3) Fit Distribution'!$F$3*E565+'Step 3) Fit Distribution'!$F$4)","v":""},"","","","","","",""]
[null,{"$f":"IF(AND('Step 1) Select Data'!B585=\"\",'Step 1) Select Data'!D585<>\"\"),'Step 1) Select Data'!D585,\"\")","v":""},"",{"$f":"IF(B566=\"\",\"\",'Step 1) Select Data'!E585)","v":""},"","","","","","",{"$f":"IF(J566=\"\",\"\",'Step 3) Fit Distribution'!$F$3*E566+'Step 3) Fit Distribution'!$F$4)","v":""},"","","","","","",""]
[null,{"$f":"IF(AND('Step 1) Select Data'!B586=\"\",'Step 1) Select Data'!D586<>\"\"),'Step 1) Select Data'!D586,\"\")","v":""},"",{"$f":"IF(B567=\"\",\"\",'Step 1) Select Data'!E586)","v":""},"","","","","","",{"$f":"IF(J567=\"\",\"\",'Step 3) Fit Distribution'!$F$3*E567+'Step 3) Fit Distribution'!$F$4)","v":""},"","","","","","",""]
[null,{"$f":"IF(AND('Step 1) Select Data'!B587=\"\",'Step 1) Select Data'!D587<>\"\"),'Step 1) Select Data'!D587,\"\")","v":""},"",{"$f":"IF(B568=\"\",\"\",'Step 1) Select Data'!E587)","v":""},"","","","","","",{"$f":"IF(J568=\"\",\"\",'Step 3) Fit Distribution'!$F$3*E568+'Step 3) Fit Distribution'!$F$4)","v":""},"","","","","","",""]
[null,{"$f":"IF(AND('Step 1) Select Data'!B588=\"\",'Step 1) Select Data'!D588<>\"\"),'Step 1) Select Data'!D588,\"\")","v":""},"",{"$f":"IF(B569=\"\",\"\",'Step 1) Select Data'!E588)","v":""},"","","","","","",{"$f":"IF(J569=\"\",\"\",'Step 3) Fit Distribution'!$F$3*E569+'Step 3) Fit Distribution'!$F$4)","v":""},"","","","","","",""]
[null,{"$f":"IF(AND('Step 1) Select Data'!B589=\"\",'Step 1) Select Data'!D589<>\"\"),'Step 1) Select Data'!D589,\"\")","v":""},"",{"$f":"IF(B570=\"\",\"\",'Step 1) Select Data'!E589)","v":""},"","","","","","",{"$f":"IF(J570=\"\",\"\",'Step 3) Fit Distribution'!$F$3*E570+'Step 3) Fit Distribution'!$F$4)","v":""},"","","","","","",""]
[null,{"$f":"IF(AND('Step 1) Select Data'!B590=\"\",'Step 1) Select Data'!D590<>\"\"),'Step 1) Select Data'!D590,\"\")","v":""},"",{"$f":"IF(B571=\"\",\"\",'Step 1) Select Data'!E590)","v":""},"","","","","","",{"$f":"IF(J571=\"\",\"\",'Step 3) Fit Distribution'!$F$3*E571+'Step 3) Fit Distribution'!$F$4)","v":""},"","","","","","",""]
[null,{"$f":"IF(AND('Step 1) Select Data'!B591=\"\",'Step 1) Select Data'!D591<>\"\"),'Step 1) Select Data'!D591,\"\")","v":""},"",{"$f":"IF(B572=\"\",\"\",'Step 1) Select Data'!E591)","v":""},"","","","","","",{"$f":"IF(J572=\"\",\"\",'Step 3) Fit Distribution'!$F$3*E572+'Step 3) Fit Distribution'!$F$4)","v":""},"","","","","","",""]
[null,{"$f":"IF(AND('Step 1) Select Data'!B592=\"\",'Step 1) Select Data'!D592<>\"\"),'Step 1) Select Data'!D592,\"\")","v":""},"",{"$f":"IF(B573=\"\",\"\",'Step 1) Select Data'!E592)","v":""},"","","","","","",{"$f":"IF(J573=\"\",\"\",'Step 3) Fit Distribution'!$F$3*E573+'Step 3) Fit Distribution'!$F$4)","v":""},"","","","","","",""]
[null,{"$f":"IF(AND('Step 1) Select Data'!B593=\"\",'Step 1) Select Data'!D593<>\"\"),'Step 1) Select Data'!D593,\"\")","v":""},"",{"$f":"IF(B574=\"\",\"\",'Step 1) Select Data'!E593)","v":""},"","","","","","",{"$f":"IF(J574=\"\",\"\",'Step 3) Fit Distribution'!$F$3*E574+'Step 3) Fit Distribution'!$F$4)","v":""},"","","","","","",""]
[null,{"$f":"IF(AND('Step 1) Select Data'!B594=\"\",'Step 1) Select Data'!D594<>\"\"),'Step 1) Select Data'!D594,\"\")","v":""},"",{"$f":"IF(B575=\"\",\"\",'Step 1) Select Data'!E594)","v":""},"","","","","","",{"$f":"IF(J575=\"\",\"\",'Step 3) Fit Distribution'!$F$3*E575+'Step 3) Fit Distribution'!$F$4)","v":""},"","","","","","",""]
[null,{"$f":"IF(AND('Step 1) Select Data'!B595=\"\",'Step 1) Select Data'!D595<>\"\"),'Step 1) Select Data'!D595,\"\")","v":""},"",{"$f":"IF(B576=\"\",\"\",'Step 1) Select Data'!E595)","v":""},"","","","","","",{"$f":"IF(J576=\"\",\"\",'Step 3) Fit Distribution'!$F$3*E576+'Step 3) Fit Distribution'!$F$4)","v":""},"","","","","","",""]
[null,{"$f":"IF(AND('Step 1) Select Data'!B596=\"\",'Step 1) Select Data'!D596<>\"\"),'Step 1) Select Data'!D596,\"\")","v":""},"",{"$f":"IF(B577=\"\",\"\",'Step 1) Select Data'!E596)","v":""},"","","","","","",{"$f":"IF(J577=\"\",\"\",'Step 3) Fit Distribution'!$F$3*E577+'Step 3) Fit Distribution'!$F$4)","v":""},"","","","","","",""]
[null,{"$f":"IF(AND('Step 1) Select Data'!B597=\"\",'Step 1) Select Data'!D597<>\"\"),'Step 1) Select Data'!D597,\"\")","v":""},"",{"$f":"IF(B578=\"\",\"\",'Step 1) Select Data'!E597)","v":""},"","","","","","",{"$f":"IF(J578=\"\",\"\",'Step 3) Fit Distribution'!$F$3*E578+'Step 3) Fit Distribution'!$F$4)","v":""},"","","","","","",""]
[null,{"$f":"IF(AND('Step 1) Select Data'!B598=\"\",'Step 1) Select Data'!D598<>\"\"),'Step 1) Select Data'!D598,\"\")","v":""},"",{"$f":"IF(B579=\"\",\"\",'Step 1) Select Data'!E598)","v":""},"","","","","","",{"$f":"IF(J579=\"\",\"\",'Step 3) Fit Distribution'!$F$3*E579+'Step 3) Fit Distribution'!$F$4)","v":""},"","","","","","",""]
[null,{"$f":"IF(AND('Step 1) Select Data'!B599=\"\",'Step 1) Select Data'!D599<>\"\"),'Step 1) Select Data'!D599,\"\")","v":""},"",{"$f":"IF(B580=\"\",\"\",'Step 1) Select Data'!E599)","v":""},"","","","","","",{"$f":"IF(J580=\"\",\"\",'Step 3) Fit Distribution'!$F$3*E580+'Step 3) Fit Distribution'!$F$4)","v":""},"","","","","","",""]
[null,{"$f":"IF(AND('Step 1) Select Data'!B600=\"\",'Step 1) Select Data'!D600<>\"\"),'Step 1) Select Data'!D600,\"\")","v":""},"",{"$f":"IF(B581=\"\",\"\",'Step 1) Select Data'!E600)","v":""},"","","","","","",{"$f":"IF(J581=\"\",\"\",'Step 3) Fit Distribution'!$F$3*E581+'Step 3) Fit Distribution'!$F$4)","v":""},"","","","","","",""]
[null,{"$f":"IF(AND('Step 1) Select Data'!B601=\"\",'Step 1) Select Data'!D601<>\"\"),'Step 1) Select Data'!D601,\"\")","v":""},"",{"$f":"IF(B582=\"\",\"\",'Step 1) Select Data'!E601)","v":""},"","","","","","",{"$f":"IF(J582=\"\",\"\",'Step 3) Fit Distribution'!$F$3*E582+'Step 3) Fit Distribution'!$F$4)","v":""},"","","","","","",""]
[null,{"$f":"IF(AND('Step 1) Select Data'!B602=\"\",'Step 1) Select Data'!D602<>\"\"),'Step 1) Select Data'!D602,\"\")","v":""},{"$f":"IF(B583=\"\",\"\",IF(OR(M583>=M584,M584=\"\"),M583,\"\"))","v":""},{"$f":"IF(B583=\"\",\"\",'Step 1) Select Data'!E602)","v":""},{"$f":"IF(C583=\"\",\"\",LOG10(N583)*(1/C583))","v":""},{"$f":"IF(OR(M583=\"\",C583=1),\"\",IF(C583=\"\",\"\",SQRT(R583/(C583-1))))","v":""},{"$f":"IF(E583=\"\",\"\",10^E583)","v":""},{"$f":"IF(I583=\"\",\"\",(I583-0.5)/COUNT($E$6:$E$2004))","v":""},{"$f":"IF(E583=\"\",\"\",RANK(E583,$E$6:$E$2004,1))","v":""},{"$f":"IF(H583=\"\",\"\",NORMINV(H583,5,1))","v":""},{"$f":"IF(J583=\"\",\"\",'Step 3) Fit Distribution'!$F$3*E583+'Step 3) Fit Distribution'!$F$4)","v":""},{"$f":"IF(K583=\"\",\"\",(K583-J583)^2)","v":""},{"$f":"IF(B583=\"\",\"\",IF(B583<>B582,1,M582+1))","v":""},{"$f":"IF(B583=\"\",\"\",IF(B583<>B582,ROUND(D583,4),ROUND(D583,4)*N582))","v":""},{"$f":"IF(OR(M583=\"\",C583=1),\"\",IF(AND(M583<>\"\",C583=\"\",E583=\"\"),O584,E583))","v":""},{"$f":"IF(OR(M583=\"\",C583=1),\"\",IF(AND(M583<>\"\",C583=\"\",E583=\"\"),P584,C583))","v":""},"",{"$f":"IF(Q583=\"\",\"\",IF(O583=O582,Q583+R582,Q583))","v":""}]
[null,{"$f":"IF(AND('Step 1) Select Data'!B603=\"\",'Step 1) Select Data'!D603<>\"\"),'Step 1) Select Data'!D603,\"\")","v":""},"",{"$f":"IF(B584=\"\",\"\",'Step 1) Select Data'!E603)","v":""},"","","","","","",{"$f":"IF(J584=\"\",\"\",'Step 3) Fit Distribution'!$F$3*E584+'Step 3) Fit Distribution'!$F$4)","v":""},"","","","","","",""]
[null,{"$f":"IF(AND('Step 1) Select Data'!B604=\"\",'Step 1) Select Data'!D604<>\"\"),'Step 1) Select Data'!D604,\"\")","v":""},"",{"$f":"IF(B585=\"\",\"\",'Step 1) Select Data'!E604)","v":""},"","","","","","",{"$f":"IF(J585=\"\",\"\",'Step 3) Fit Distribution'!$F$3*E585+'Step 3) Fit Distribution'!$F$4)","v":""},"","","","","","",""]
[null,{"$f":"IF(AND('Step 1) Select Data'!B605=\"\",'Step 1) Select Data'!D605<>\"\"),'Step 1) Select Data'!D605,\"\")","v":""},"",{"$f":"IF(B586=\"\",\"\",'Step 1) Select Data'!E605)","v":""},"","","","","","",{"$f":"IF(J586=\"\",\"\",'Step 3) Fit Distribution'!$F$3*E586+'Step 3) Fit Distribution'!$F$4)","v":""},"","","","","","",""]
[null,{"$f":"IF(AND('Step 1) Select Data'!B606=\"\",'Step 1) Select Data'!D606<>\"\"),'Step 1) Select Data'!D606,\"\")","v":""},"",{"$f":"IF(B587=\"\",\"\",'Step 1) Select Data'!E606)","v":""},"","","","","","",{"$f":"IF(J587=\"\",\"\",'Step 3) Fit Distribution'!$F$3*E587+'Step 3) Fit Distribution'!$F$4)","v":""},"","","","","","",""]
[null,{"$f":"IF(AND('Step 1) Select Data'!B607=\"\",'Step 1) Select Data'!D607<>\"\"),'Step 1) Select Data'!D607,\"\")","v":""},"",{"$f":"IF(B588=\"\",\"\",'Step 1) Select Data'!E607)","v":""},"","","","","","",{"$f":"IF(J588=\"\",\"\",'Step 3) Fit Distribution'!$F$3*E588+'Step 3) Fit Distribution'!$F$4)","v":""},"","","","","","",""]
[null,{"$f":"IF(AND('Step 1) Select Data'!B608=\"\",'Step 1) Select Data'!D608<>\"\"),'Step 1) Select Data'!D608,\"\")","v":""},"",{"$f":"IF(B589=\"\",\"\",'Step 1) Select Data'!E608)","v":""},"","","","","","",{"$f":"IF(J589=\"\",\"\",'Step 3) Fit Distribution'!$F$3*E589+'Step 3) Fit Distribution'!$F$4)","v":""},"","","","","","",""]
[null,{"$f":"IF(AND('Step 1) Select Data'!B609=\"\",'Step 1) Select Data'!D609<>\"\"),'Step 1) Select Data'!D609,\"\")","v":""},"",{"$f":"IF(B590=\"\",\"\",'Step 1) Select Data'!E609)","v":""},"","","","","","",{"$f":"IF(J590=\"\",\"\",'Step 3) Fit Distribution'!$F$3*E590+'Step 3) Fit Distribution'!$F$4)","v":""},"","","","","","",""]
[null,{"$f":"IF(AND('Step 1) Select Data'!B610=\"\",'Step 1) Select Data'!D610<>\"\"),'Step 1) Select Data'!D610,\"\")","v":""},"",{"$f":"IF(B591=\"\",\"\",'Step 1) Select Data'!E610)","v":""},"","","","","","",{"$f":"IF(J591=\"\",\"\",'Step 3) Fit Distribution'!$F$3*E591+'Step 3) Fit Distribution'!$F$4)","v":""},"","","","","","",""]
[null,{"$f":"IF(AND('Step 1) Select Data'!B611=\"\",'Step 1) Select Data'!D611<>\"\"),'Step 1) Select Data'!D611,\"\")","v":""},"",{"$f":"IF(B592=\"\",\"\",'Step 1) Select Data'!E611)","v":""},"","","","","","",{"$f":"IF(J592=\"\",\"\",'Step 3) Fit Distribution'!$F$3*E592+'Step 3) Fit Distribution'!$F$4)","v":""},"","","","","","",""]
[null,{"$f":"IF(AND('Step 1) Select Data'!B612=\"\",'Step 1) Select Data'!D612<>\"\"),'Step 1) Select Data'!D612,\"\")","v":""},"",{"$f":"IF(B593=\"\",\"\",'Step 1) Select Data'!E612)","v":""},"","","","","","",{"$f":"IF(J593=\"\",\"\",'Step 3) Fit Distribution'!$F$3*E593+'Step 3) Fit Distribution'!$F$4)","v":""},"","","","","","",""]
[null,{"$f":"IF(AND('Step 1) Select Data'!B613=\"\",'Step 1) Select Data'!D613<>\"\"),'Step 1) Select Data'!D613,\"\")","v":""},"",{"$f":"IF(B594=\"\",\"\",'Step 1) Select Data'!E613)","v":""},"","","","","","",{"$f":"IF(J594=\"\",\"\",'Step 3) Fit Distribution'!$F$3*E594+'Step 3) Fit Distribution'!$F$4)","v":""},"","","","","","",""]
[null,{"$f":"IF(AND('Step 1) Select Data'!B614=\"\",'Step 1) Select Data'!D614<>\"\"),'Step 1) Select Data'!D614,\"\")","v":""},"",{"$f":"IF(B595=\"\",\"\",'Step 1) Select Data'!E614)","v":""},"","","","","","",{"$f":"IF(J595=\"\",\"\",'Step 3) Fit Distribution'!$F$3*E595+'Step 3) Fit Distribution'!$F$4)","v":""},"","","","","","",""]
[null,{"$f":"IF(AND('Step 1) Select Data'!B615=\"\",'Step 1) Select Data'!D615<>\"\"),'Step 1) Select Data'!D615,\"\")","v":""},"",{"$f":"IF(B596=\"\",\"\",'Step 1) Select Data'!E615)","v":""},"","","","","","",{"$f":"IF(J596=\"\",\"\",'Step 3) Fit Distribution'!$F$3*E596+'Step 3) Fit Distribution'!$F$4)","v":""},"","","","","",{"$f":"IF(O596=\"\",\"\",ROUND(LOG(D596)-O596,4)^2)","v":""},""]
[null,{"$f":"IF(AND('Step 1) Select Data'!B616=\"\",'Step 1) Select Data'!D616<>\"\"),'Step 1) Select Data'!D616,\"\")","v":""},"",{"$f":"IF(B597=\"\",\"\",'Step 1) Select Data'!E616)","v":""},"","","","","","",{"$f":"IF(J597=\"\",\"\",'Step 3) Fit Distribution'!$F$3*E597+'Step 3) Fit Distribution'!$F$4)","v":""},"","","","","","",""]
[null,{"$f":"IF(AND('Step 1) Select Data'!B617=\"\",'Step 1) Select Data'!D617<>\"\"),'Step 1) Select Data'!D617,\"\")","v":""},"",{"$f":"IF(B598=\"\",\"\",'Step 1) Select Data'!E617)","v":""},"","","","","","",{"$f":"IF(J598=\"\",\"\",'Step 3) Fit Distribution'!$F$3*E598+'Step 3) Fit Distribution'!$F$4)","v":""},"","","","","","",""]
[null,{"$f":"IF(AND('Step 1) Select Data'!B618=\"\",'Step 1) Select Data'!D618<>\"\"),'Step 1) Select Data'!D618,\"\")","v":""},"",{"$f":"IF(B599=\"\",\"\",'Step 1) Select Data'!E618)","v":""},"","","","","","",{"$f":"IF(J599=\"\",\"\",'Step 3) Fit Distribution'!$F$3*E599+'Step 3) Fit Distribution'!$F$4)","v":""},"","","","","","",""]
[null,{"$f":"IF(AND('Step 1) Select Data'!B619=\"\",'Step 1) Select Data'!D619<>\"\"),'Step 1) Select Data'!D619,\"\")","v":""},"",{"$f":"IF(B600=\"\",\"\",'Step 1) Select Data'!E619)","v":""},"","","","","","",{"$f":"IF(J600=\"\",\"\",'Step 3) Fit Distribution'!$F$3*E600+'Step 3) Fit Distribution'!$F$4)","v":""},"","","","","","",""]
[null,{"$f":"IF(AND('Step 1) Select Data'!B620=\"\",'Step 1) Select Data'!D620<>\"\"),'Step 1) Select Data'!D620,\"\")","v":""},"",{"$f":"IF(B601=\"\",\"\",'Step 1) Select Data'!E620)","v":""},"","","","","","",{"$f":"IF(J601=\"\",\"\",'Step 3) Fit Distribution'!$F$3*E601+'Step 3) Fit Distribution'!$F$4)","v":""},"","","","","","",""]
[null,{"$f":"IF(AND('Step 1) Select Data'!B621=\"\",'Step 1) Select Data'!D621<>\"\"),'Step 1) Select Data'!D621,\"\")","v":""},"",{"$f":"IF(B602=\"\",\"\",'Step 1) Select Data'!E621)","v":""},"","","","","","",{"$f":"IF(J602=\"\",\"\",'Step 3) Fit Distribution'!$F$3*E602+'Step 3) Fit Distribution'!$F$4)","v":""},"","","","","","",""]
[null,{"$f":"IF(AND('Step 1) Select Data'!B622=\"\",'Step 1) Select Data'!D622<>\"\"),'Step 1) Select Data'!D622,\"\")","v":""},"",{"$f":"IF(B603=\"\",\"\",'Step 1) Select Data'!E622)","v":""},"","","","","","",{"$f":"IF(J603=\"\",\"\",'Step 3) Fit Distribution'!$F$3*E603+'Step 3) Fit Distribution'!$F$4)","v":""},"","","","","","",""]
[null,{"$f":"IF(AND('Step 1) Select Data'!B623=\"\",'Step 1) Select Data'!D623<>\"\"),'Step 1) Select Data'!D623,\"\")","v":""},"",{"$f":"IF(B604=\"\",\"\",'Step 1) Select Data'!E623)","v":""},"","","","","","",{"$f":"IF(J604=\"\",\"\",'Step 3) Fit Distribution'!$F$3*E604+'Step 3) Fit Distribution'!$F$4)","v":""},"","","","","","",""]
[null,{"$f":"IF(AND('Step 1) Select Data'!B624=\"\",'Step 1) Select Data'!D624<>\"\"),'Step 1) Select Data'!D624,\"\")","v":""},"",{"$f":"IF(B605=\"\",\"\",'Step 1) Select Data'!E624)","v":""},"","","","","","",{"$f":"IF(J605=\"\",\"\",'Step 3) Fit Distribution'!$F$3*E605+'Step 3) Fit Distribution'!$F$4)","v":""},"","","","","","",""]
[null,{"$f":"IF(AND('Step 1) Select Data'!B625=\"\",'Step 1) Select Data'!D625<>\"\"),'Step 1) Select Data'!D625,\"\")","v":""},"",{"$f":"IF(B606=\"\",\"\",'Step 1) Select Data'!E625)","v":""},"","","","","","",{"$f":"IF(J606=\"\",\"\",'Step 3) Fit Distribution'!$F$3*E606+'Step 3) Fit Distribution'!$F$4)","v":""},"","","","","","",""]
[null,{"$f":"IF(AND('Step 1) Select Data'!B626=\"\",'Step 1) Select Data'!D626<>\"\"),'Step 1) Select Data'!D626,\"\")","v":""},"",{"$f":"IF(B607=\"\",\"\",'Step 1) Select Data'!E626)","v":""},"","","","","","",{"$f":"IF(J607=\"\",\"\",'Step 3) Fit Distribution'!$F$3*E607+'Step 3) Fit Distribution'!$F$4)","v":""},"","","","","","",""]
[null,{"$f":"IF(AND('Step 1) Select Data'!B627=\"\",'Step 1) Select Data'!D627<>\"\"),'Step 1) Select Data'!D627,\"\")","v":""},"",{"$f":"IF(B608=\"\",\"\",'Step 1) Select Data'!E627)","v":""},"","","","","","",{"$f":"IF(J608=\"\",\"\",'Step 3) Fit Distribution'!$F$3*E608+'Step 3) Fit Distribution'!$F$4)","v":""},"","","","","","",""]
[null,{"$f":"IF(AND('Step 1) Select Data'!B628=\"\",'Step 1) Select Data'!D628<>\"\"),'Step 1) Select Data'!D628,\"\")","v":""},"",{"$f":"IF(B609=\"\",\"\",'Step 1) Select Data'!E628)","v":""},"","","","","","",{"$f":"IF(J609=\"\",\"\",'Step 3) Fit Distribution'!$F$3*E609+'Step 3) Fit Distribution'!$F$4)","v":""},"","","","","","",""]
[null,{"$f":"IF(AND('Step 1) Select Data'!B629=\"\",'Step 1) Select Data'!D629<>\"\"),'Step 1) Select Data'!D629,\"\")","v":""},"",{"$f":"IF(B610=\"\",\"\",'Step 1) Select Data'!E629)","v":""},"","","","","","",{"$f":"IF(J610=\"\",\"\",'Step 3) Fit Distribution'!$F$3*E610+'Step 3) Fit Distribution'!$F$4)","v":""},"","","","","","",""]
[null,{"$f":"IF(AND('Step 1) Select Data'!B630=\"\",'Step 1) Select Data'!D630<>\"\"),'Step 1) Select Data'!D630,\"\")","v":""},"",{"$f":"IF(B611=\"\",\"\",'Step 1) Select Data'!E630)","v":""},"","","","","","",{"$f":"IF(J611=\"\",\"\",'Step 3) Fit Distribution'!$F$3*E611+'Step 3) Fit Distribution'!$F$4)","v":""},"","","","","","",""]
[null,{"$f":"IF(AND('Step 1) Select Data'!B631=\"\",'Step 1) Select Data'!D631<>\"\"),'Step 1) Select Data'!D631,\"\")","v":""},"",{"$f":"IF(B612=\"\",\"\",'Step 1) Select Data'!E631)","v":""},"","","","","","",{"$f":"IF(J612=\"\",\"\",'Step 3) Fit Distribution'!$F$3*E612+'Step 3) Fit Distribution'!$F$4)","v":""},"","","","","","",""]
[null,{"$f":"IF(AND('Step 1) Select Data'!B632=\"\",'Step 1) Select Data'!D632<>\"\"),'Step 1) Select Data'!D632,\"\")","v":""},"",{"$f":"IF(B613=\"\",\"\",'Step 1) Select Data'!E632)","v":""},"","","","","","",{"$f":"IF(J613=\"\",\"\",'Step 3) Fit Distribution'!$F$3*E613+'Step 3) Fit Distribution'!$F$4)","v":""},"","","","","","",""]
[null,{"$f":"IF(AND('Step 1) Select Data'!B633=\"\",'Step 1) Select Data'!D633<>\"\"),'Step 1) Select Data'!D633,\"\")","v":""},"",{"$f":"IF(B614=\"\",\"\",'Step 1) Select Data'!E633)","v":""},"","","","","","",{"$f":"IF(J614=\"\",\"\",'Step 3) Fit Distribution'!$F$3*E614+'Step 3) Fit Distribution'!$F$4)","v":""},"","","","","","",""]
[null,{"$f":"IF(AND('Step 1) Select Data'!B634=\"\",'Step 1) Select Data'!D634<>\"\"),'Step 1) Select Data'!D634,\"\")","v":""},"",{"$f":"IF(B615=\"\",\"\",'Step 1) Select Data'!E634)","v":""},"","","","","","",{"$f":"IF(J615=\"\",\"\",'Step 3) Fit Distribution'!$F$3*E615+'Step 3) Fit Distribution'!$F$4)","v":""},"","","","","","",""]
[null,{"$f":"IF(AND('Step 1) Select Data'!B635=\"\",'Step 1) Select Data'!D635<>\"\"),'Step 1) Select Data'!D635,\"\")","v":""},"",{"$f":"IF(B616=\"\",\"\",'Step 1) Select Data'!E635)","v":""},"","","","","","",{"$f":"IF(J616=\"\",\"\",'Step 3) Fit Distribution'!$F$3*E616+'Step 3) Fit Distribution'!$F$4)","v":""},"","","","","","",""]
[null,{"$f":"IF(AND('Step 1) Select Data'!B636=\"\",'Step 1) Select Data'!D636<>\"\"),'Step 1) Select Data'!D636,\"\")","v":""},"",{"$f":"IF(B617=\"\",\"\",'Step 1) Select Data'!E636)","v":""},"","","","","","",{"$f":"IF(J617=\"\",\"\",'Step 3) Fit Distribution'!$F$3*E617+'Step 3) Fit Distribution'!$F$4)","v":""},"","","","","","",""]
[null,{"$f":"IF(AND('Step 1) Select Data'!B637=\"\",'Step 1) Select Data'!D637<>\"\"),'Step 1) Select Data'!D637,\"\")","v":""},"",{"$f":"IF(B618=\"\",\"\",'Step 1) Select Data'!E637)","v":""},"","","","","","",{"$f":"IF(J618=\"\",\"\",'Step 3) Fit Distribution'!$F$3*E618+'Step 3) Fit Distribution'!$F$4)","v":""},"","","","","","",""]
[null,{"$f":"IF(AND('Step 1) Select Data'!B638=\"\",'Step 1) Select Data'!D638<>\"\"),'Step 1) Select Data'!D638,\"\")","v":""},"",{"$f":"IF(B619=\"\",\"\",'Step 1) Select Data'!E638)","v":""},"","","","","","",{"$f":"IF(J619=\"\",\"\",'Step 3) Fit Distribution'!$F$3*E619+'Step 3) Fit Distribution'!$F$4)","v":""},"","","","","","",""]
[null,{"$f":"IF(AND('Step 1) Select Data'!B639=\"\",'Step 1) Select Data'!D639<>\"\"),'Step 1) Select Data'!D639,\"\")","v":""},"",{"$f":"IF(B620=\"\",\"\",'Step 1) Select Data'!E639)","v":""},"","","","","","",{"$f":"IF(J620=\"\",\"\",'Step 3) Fit Distribution'!$F$3*E620+'Step 3) Fit Distribution'!$F$4)","v":""},"","","","","","",""]
[null,{"$f":"IF(AND('Step 1) Select Data'!B640=\"\",'Step 1) Select Data'!D640<>\"\"),'Step 1) Select Data'!D640,\"\")","v":""},"",{"$f":"IF(B621=\"\",\"\",'Step 1) Select Data'!E640)","v":""},"","","","","","",{"$f":"IF(J621=\"\",\"\",'Step 3) Fit Distribution'!$F$3*E621+'Step 3) Fit Distribution'!$F$4)","v":""},"","","","","","",""]
[null,{"$f":"IF(AND('Step 1) Select Data'!B641=\"\",'Step 1) Select Data'!D641<>\"\"),'Step 1) Select Data'!D641,\"\")","v":""},"",{"$f":"IF(B622=\"\",\"\",'Step 1) Select Data'!E641)","v":""},"","","","","","",{"$f":"IF(J622=\"\",\"\",'Step 3) Fit Distribution'!$F$3*E622+'Step 3) Fit Distribution'!$F$4)","v":""},"","","","","","",""]
[null,{"$f":"IF(AND('Step 1) Select Data'!B642=\"\",'Step 1) Select Data'!D642<>\"\"),'Step 1) Select Data'!D642,\"\")","v":""},"",{"$f":"IF(B623=\"\",\"\",'Step 1) Select Data'!E642)","v":""},"","","","","","",{"$f":"IF(J623=\"\",\"\",'Step 3) Fit Distribution'!$F$3*E623+'Step 3) Fit Distribution'!$F$4)","v":""},"","","","","","",""]
[null,{"$f":"IF(AND('Step 1) Select Data'!B643=\"\",'Step 1) Select Data'!D643<>\"\"),'Step 1) Select Data'!D643,\"\")","v":""},"",{"$f":"IF(B624=\"\",\"\",'Step 1) Select Data'!E643)","v":""},"","","","","","",{"$f":"IF(J624=\"\",\"\",'Step 3) Fit Distribution'!$F$3*E624+'Step 3) Fit Distribution'!$F$4)","v":""},"","","","","","",""]
[null,{"$f":"IF(AND('Step 1) Select Data'!B644=\"\",'Step 1) Select Data'!D644<>\"\"),'Step 1) Select Data'!D644,\"\")","v":""},"",{"$f":"IF(B625=\"\",\"\",'Step 1) Select Data'!E644)","v":""},"","","","","","",{"$f":"IF(J625=\"\",\"\",'Step 3) Fit Distribution'!$F$3*E625+'Step 3) Fit Distribution'!$F$4)","v":""},"","","","","","",""]
[null,{"$f":"IF(AND('Step 1) Select Data'!B645=\"\",'Step 1) Select Data'!D645<>\"\"),'Step 1) Select Data'!D645,\"\")","v":""},"",{"$f":"IF(B626=\"\",\"\",'Step 1) Select Data'!E645)","v":""},"","","","","","",{"$f":"IF(J626=\"\",\"\",'Step 3) Fit Distribution'!$F$3*E626+'Step 3) Fit Distribution'!$F$4)","v":""},"","","","","","",""]
[null,{"$f":"IF(AND('Step 1) Select Data'!B646=\"\",'Step 1) Select Data'!D646<>\"\"),'Step 1) Select Data'!D646,\"\")","v":""},"",{"$f":"IF(B627=\"\",\"\",'Step 1) Select Data'!E646)","v":""},"","","","","","",{"$f":"IF(J627=\"\",\"\",'Step 3) Fit Distribution'!$F$3*E627+'Step 3) Fit Distribution'!$F$4)","v":""},"","","","","","",""]
[null,{"$f":"IF(AND('Step 1) Select Data'!B647=\"\",'Step 1) Select Data'!D647<>\"\"),'Step 1) Select Data'!D647,\"\")","v":""},"",{"$f":"IF(B628=\"\",\"\",'Step 1) Select Data'!E647)","v":""},"","","","","","",{"$f":"IF(J628=\"\",\"\",'Step 3) Fit Distribution'!$F$3*E628+'Step 3) Fit Distribution'!$F$4)","v":""},"","","","","","",""]
[null,{"$f":"IF(AND('Step 1) Select Data'!B648=\"\",'Step 1) Select Data'!D648<>\"\"),'Step 1) Select Data'!D648,\"\")","v":""},"",{"$f":"IF(B629=\"\",\"\",'Step 1) Select Data'!E648)","v":""},"","","","","","",{"$f":"IF(J629=\"\",\"\",'Step 3) Fit Distribution'!$F$3*E629+'Step 3) Fit Distribution'!$F$4)","v":""},"","","","","","",""]
[null,{"$f":"IF(AND('Step 1) Select Data'!B649=\"\",'Step 1) Select Data'!D649<>\"\"),'Step 1) Select Data'!D649,\"\")","v":""},"",{"$f":"IF(B630=\"\",\"\",'Step 1) Select Data'!E649)","v":""},"","","","","","",{"$f":"IF(J630=\"\",\"\",'Step 3) Fit Distribution'!$F$3*E630+'Step 3) Fit Distribution'!$F$4)","v":""},"","","","","","",""]
[null,{"$f":"IF(AND('Step 1) Select Data'!B650=\"\",'Step 1) Select Data'!D650<>\"\"),'Step 1) Select Data'!D650,\"\")","v":""},"",{"$f":"IF(B631=\"\",\"\",'Step 1) Select Data'!E650)","v":""},"","","","","","",{"$f":"IF(J631=\"\",\"\",'Step 3) Fit Distribution'!$F$3*E631+'Step 3) Fit Distribution'!$F$4)","v":""},"","","","","","",""]
[null,{"$f":"IF(AND('Step 1) Select Data'!B651=\"\",'Step 1) Select Data'!D651<>\"\"),'Step 1) Select Data'!D651,\"\")","v":""},"",{"$f":"IF(B632=\"\",\"\",'Step 1) Select Data'!E651)","v":""},"","","","","","",{"$f":"IF(J632=\"\",\"\",'Step 3) Fit Distribution'!$F$3*E632+'Step 3) Fit Distribution'!$F$4)","v":""},"","","","","","",""]
[null,{"$f":"IF(AND('Step 1) Select Data'!B652=\"\",'Step 1) Select Data'!D652<>\"\"),'Step 1) Select Data'!D652,\"\")","v":""},"",{"$f":"IF(B633=\"\",\"\",'Step 1) Select Data'!E652)","v":""},"","","","","","",{"$f":"IF(J633=\"\",\"\",'Step 3) Fit Distribution'!$F$3*E633+'Step 3) Fit Distribution'!$F$4)","v":""},"","","","","","",""]
[null,{"$f":"IF(AND('Step 1) Select Data'!B653=\"\",'Step 1) Select Data'!D653<>\"\"),'Step 1) Select Data'!D653,\"\")","v":""},"",{"$f":"IF(B634=\"\",\"\",'Step 1) Select Data'!E653)","v":""},"","","","","","",{"$f":"IF(J634=\"\",\"\",'Step 3) Fit Distribution'!$F$3*E634+'Step 3) Fit Distribution'!$F$4)","v":""},"","","","","","",""]
[null,{"$f":"IF(AND('Step 1) Select Data'!B654=\"\",'Step 1) Select Data'!D654<>\"\"),'Step 1) Select Data'!D654,\"\")","v":""},"",{"$f":"IF(B635=\"\",\"\",'Step 1) Select Data'!E654)","v":""},"","","","","","",{"$f":"IF(J635=\"\",\"\",'Step 3) Fit Distribution'!$F$3*E635+'Step 3) Fit Distribution'!$F$4)","v":""},"","","","","","",""]
[null,{"$f":"IF(AND('Step 1) Select Data'!B655=\"\",'Step 1) Select Data'!D655<>\"\"),'Step 1) Select Data'!D655,\"\")","v":""},"",{"$f":"IF(B636=\"\",\"\",'Step 1) Select Data'!E655)","v":""},"","","","","","",{"$f":"IF(J636=\"\",\"\",'Step 3) Fit Distribution'!$F$3*E636+'Step 3) Fit Distribution'!$F$4)","v":""},"","","","","","",""]
[null,{"$f":"IF(AND('Step 1) Select Data'!B656=\"\",'Step 1) Select Data'!D656<>\"\"),'Step 1) Select Data'!D656,\"\")","v":""},"",{"$f":"IF(B637=\"\",\"\",'Step 1) Select Data'!E656)","v":""},"","","","","","",{"$f":"IF(J637=\"\",\"\",'Step 3) Fit Distribution'!$F$3*E637+'Step 3) Fit Distribution'!$F$4)","v":""},"","","","","","",""]
[null,{"$f":"IF(AND('Step 1) Select Data'!B657=\"\",'Step 1) Select Data'!D657<>\"\"),'Step 1) Select Data'!D657,\"\")","v":""},"",{"$f":"IF(B638=\"\",\"\",'Step 1) Select Data'!E657)","v":""},"","","","","","",{"$f":"IF(J638=\"\",\"\",'Step 3) Fit Distribution'!$F$3*E638+'Step 3) Fit Distribution'!$F$4)","v":""},"","","","","","",""]
[null,{"$f":"IF(AND('Step 1) Select Data'!B658=\"\",'Step 1) Select Data'!D658<>\"\"),'Step 1) Select Data'!D658,\"\")","v":""},"",{"$f":"IF(B639=\"\",\"\",'Step 1) Select Data'!E658)","v":""},"","","","","","",{"$f":"IF(J639=\"\",\"\",'Step 3) Fit Distribution'!$F$3*E639+'Step 3) Fit Distribution'!$F$4)","v":""},"","","","","","",""]
[null,{"$f":"IF(AND('Step 1) Select Data'!B659=\"\",'Step 1) Select Data'!D659<>\"\"),'Step 1) Select Data'!D659,\"\")","v":""},"",{"$f":"IF(B640=\"\",\"\",'Step 1) Select Data'!E659)","v":""},"","","","","","",{"$f":"IF(J640=\"\",\"\",'Step 3) Fit Distribution'!$F$3*E640+'Step 3) Fit Distribution'!$F$4)","v":""},"","","","","","",""]
[null,{"$f":"IF(AND('Step 1) Select Data'!B660=\"\",'Step 1) Select Data'!D660<>\"\"),'Step 1) Select Data'!D660,\"\")","v":""},"",{"$f":"IF(B641=\"\",\"\",'Step 1) Select Data'!E660)","v":""},"","","","","","",{"$f":"IF(J641=\"\",\"\",'Step 3) Fit Distribution'!$F$3*E641+'Step 3) Fit Distribution'!$F$4)","v":""},"","","","","","",""]
[null,{"$f":"IF(AND('Step 1) Select Data'!B661=\"\",'Step 1) Select Data'!D661<>\"\"),'Step 1) Select Data'!D661,\"\")","v":""},"",{"$f":"IF(B642=\"\",\"\",'Step 1) Select Data'!E661)","v":""},"","","","","","",{"$f":"IF(J642=\"\",\"\",'Step 3) Fit Distribution'!$F$3*E642+'Step 3) Fit Distribution'!$F$4)","v":""},"","","","","","",""]
[null,{"$f":"IF(AND('Step 1) Select Data'!B662=\"\",'Step 1) Select Data'!D662<>\"\"),'Step 1) Select Data'!D662,\"\")","v":""},"",{"$f":"IF(B643=\"\",\"\",'Step 1) Select Data'!E662)","v":""},"","","","","","",{"$f":"IF(J643=\"\",\"\",'Step 3) Fit Distribution'!$F$3*E643+'Step 3) Fit Distribution'!$F$4)","v":""},"","","","","","",""]
[null,{"$f":"IF(AND('Step 1) Select Data'!B663=\"\",'Step 1) Select Data'!D663<>\"\"),'Step 1) Select Data'!D663,\"\")","v":""},"",{"$f":"IF(B644=\"\",\"\",'Step 1) Select Data'!E663)","v":""},"","","","","","",{"$f":"IF(J644=\"\",\"\",'Step 3) Fit Distribution'!$F$3*E644+'Step 3) Fit Distribution'!$F$4)","v":""},"","","","","","",""]
[null,{"$f":"IF(AND('Step 1) Select Data'!B664=\"\",'Step 1) Select Data'!D664<>\"\"),'Step 1) Select Data'!D664,\"\")","v":""},"",{"$f":"IF(B645=\"\",\"\",'Step 1) Select Data'!E664)","v":""},"","","","","","",{"$f":"IF(J645=\"\",\"\",'Step 3) Fit Distribution'!$F$3*E645+'Step 3) Fit Distribution'!$F$4)","v":""},"","","","","","",""]
[null,{"$f":"IF(AND('Step 1) Select Data'!B665=\"\",'Step 1) Select Data'!D665<>\"\"),'Step 1) Select Data'!D665,\"\")","v":""},"",{"$f":"IF(B646=\"\",\"\",'Step 1) Select Data'!E665)","v":""},"","","","","","",{"$f":"IF(J646=\"\",\"\",'Step 3) Fit Distribution'!$F$3*E646+'Step 3) Fit Distribution'!$F$4)","v":""},"","","","","","",""]
[null,{"$f":"IF(AND('Step 1) Select Data'!B666=\"\",'Step 1) Select Data'!D666<>\"\"),'Step 1) Select Data'!D666,\"\")","v":""},{"$f":"IF(B647=\"\",\"\",IF(OR(M647>=M648,M648=\"\"),M647,\"\"))","v":""},{"$f":"IF(B647=\"\",\"\",'Step 1) Select Data'!E666)","v":""},{"$f":"IF(C647=\"\",\"\",LOG10(N647)*(1/C647))","v":""},{"$f":"IF(OR(M647=\"\",C647=1),\"\",IF(C647=\"\",\"\",SQRT(R647/(C647-1))))","v":""},{"$f":"IF(E647=\"\",\"\",10^E647)","v":""},{"$f":"IF(I647=\"\",\"\",(I647-0.5)/COUNT($E$6:$E$2004))","v":""},{"$f":"IF(E647=\"\",\"\",RANK(E647,$E$6:$E$2004,1))","v":""},{"$f":"IF(H647=\"\",\"\",NORMINV(H647,5,1))","v":""},{"$f":"IF(J647=\"\",\"\",'Step 3) Fit Distribution'!$F$3*E647+'Step 3) Fit Distribution'!$F$4)","v":""},{"$f":"IF(K647=\"\",\"\",(K647-J647)^2)","v":""},{"$f":"IF(B647=\"\",\"\",IF(B647<>B646,1,M646+1))","v":""},{"$f":"IF(B647=\"\",\"\",IF(B647<>B646,ROUND(D647,4),ROUND(D647,4)*N646))","v":""},{"$f":"IF(OR(M647=\"\",C647=1),\"\",IF(AND(M647<>\"\",C647=\"\",E647=\"\"),O648,E647))","v":""},{"$f":"IF(OR(M647=\"\",C647=1),\"\",IF(AND(M647<>\"\",C647=\"\",E647=\"\"),P648,C647))","v":""},"",{"$f":"IF(Q647=\"\",\"\",IF(O647=O646,Q647+R646,Q647))","v":""}]
[null,{"$f":"IF(AND('Step 1) Select Data'!B667=\"\",'Step 1) Select Data'!D667<>\"\"),'Step 1) Select Data'!D667,\"\")","v":""},"",{"$f":"IF(B648=\"\",\"\",'Step 1) Select Data'!E667)","v":""},"","","","","","",{"$f":"IF(J648=\"\",\"\",'Step 3) Fit Distribution'!$F$3*E648+'Step 3) Fit Distribution'!$F$4)","v":""},"","","","","","",""]
[null,{"$f":"IF(AND('Step 1) Select Data'!B668=\"\",'Step 1) Select Data'!D668<>\"\"),'Step 1) Select Data'!D668,\"\")","v":""},"",{"$f":"IF(B649=\"\",\"\",'Step 1) Select Data'!E668)","v":""},"","","","","","",{"$f":"IF(J649=\"\",\"\",'Step 3) Fit Distribution'!$F$3*E649+'Step 3) Fit Distribution'!$F$4)","v":""},"","","","","","",""]
[null,{"$f":"IF(AND('Step 1) Select Data'!B669=\"\",'Step 1) Select Data'!D669<>\"\"),'Step 1) Select Data'!D669,\"\")","v":""},"",{"$f":"IF(B650=\"\",\"\",'Step 1) Select Data'!E669)","v":""},"","","","","","",{"$f":"IF(J650=\"\",\"\",'Step 3) Fit Distribution'!$F$3*E650+'Step 3) Fit Distribution'!$F$4)","v":""},"","","","","","",""]
[null,{"$f":"IF(AND('Step 1) Select Data'!B670=\"\",'Step 1) Select Data'!D670<>\"\"),'Step 1) Select Data'!D670,\"\")","v":""},"",{"$f":"IF(B651=\"\",\"\",'Step 1) Select Data'!E670)","v":""},"","","","","","",{"$f":"IF(J651=\"\",\"\",'Step 3) Fit Distribution'!$F$3*E651+'Step 3) Fit Distribution'!$F$4)","v":""},"","","","","","",""]
[null,{"$f":"IF(AND('Step 1) Select Data'!B671=\"\",'Step 1) Select Data'!D671<>\"\"),'Step 1) Select Data'!D671,\"\")","v":""},"",{"$f":"IF(B652=\"\",\"\",'Step 1) Select Data'!E671)","v":""},"","","","","","",{"$f":"IF(J652=\"\",\"\",'Step 3) Fit Distribution'!$F$3*E652+'Step 3) Fit Distribution'!$F$4)","v":""},"","","","","","",""]
[null,{"$f":"IF(AND('Step 1) Select Data'!B672=\"\",'Step 1) Select Data'!D672<>\"\"),'Step 1) Select Data'!D672,\"\")","v":""},"",{"$f":"IF(B653=\"\",\"\",'Step 1) Select Data'!E672)","v":""},"","","","","","",{"$f":"IF(J653=\"\",\"\",'Step 3) Fit Distribution'!$F$3*E653+'Step 3) Fit Distribution'!$F$4)","v":""},"","","","","","",""]
[null,{"$f":"IF(AND('Step 1) Select Data'!B673=\"\",'Step 1) Select Data'!D673<>\"\"),'Step 1) Select Data'!D673,\"\")","v":""},"",{"$f":"IF(B654=\"\",\"\",'Step 1) Select Data'!E673)","v":""},"","","","","","",{"$f":"IF(J654=\"\",\"\",'Step 3) Fit Distribution'!$F$3*E654+'Step 3) Fit Distribution'!$F$4)","v":""},"","","","","","",""]
[null,{"$f":"IF(AND('Step 1) Select Data'!B674=\"\",'Step 1) Select Data'!D674<>\"\"),'Step 1) Select Data'!D674,\"\")","v":""},"",{"$f":"IF(B655=\"\",\"\",'Step 1) Select Data'!E674)","v":""},"","","","","","",{"$f":"IF(J655=\"\",\"\",'Step 3) Fit Distribution'!$F$3*E655+'Step 3) Fit Distribution'!$F$4)","v":""},"","","","","","",""]
[null,{"$f":"IF(AND('Step 1) Select Data'!B675=\"\",'Step 1) Select Data'!D675<>\"\"),'Step 1) Select Data'!D675,\"\")","v":""},"",{"$f":"IF(B656=\"\",\"\",'Step 1) Select Data'!E675)","v":""},"","","","","","",{"$f":"IF(J656=\"\",\"\",'Step 3) Fit Distribution'!$F$3*E656+'Step 3) Fit Distribution'!$F$4)","v":""},"","","","","","",""]
[null,{"$f":"IF(AND('Step 1) Select Data'!B676=\"\",'Step 1) Select Data'!D676<>\"\"),'Step 1) Select Data'!D676,\"\")","v":""},"",{"$f":"IF(B657=\"\",\"\",'Step 1) Select Data'!E676)","v":""},"","","","","","",{"$f":"IF(J657=\"\",\"\",'Step 3) Fit Distribution'!$F$3*E657+'Step 3) Fit Distribution'!$F$4)","v":""},"","","","","","",""]
[null,{"$f":"IF(AND('Step 1) Select Data'!B677=\"\",'Step 1) Select Data'!D677<>\"\"),'Step 1) Select Data'!D677,\"\")","v":""},"",{"$f":"IF(B658=\"\",\"\",'Step 1) Select Data'!E677)","v":""},"","","","","","",{"$f":"IF(J658=\"\",\"\",'Step 3) Fit Distribution'!$F$3*E658+'Step 3) Fit Distribution'!$F$4)","v":""},"","","","","","",""]
[null,{"$f":"IF(AND('Step 1) Select Data'!B678=\"\",'Step 1) Select Data'!D678<>\"\"),'Step 1) Select Data'!D678,\"\")","v":""},"",{"$f":"IF(B659=\"\",\"\",'Step 1) Select Data'!E678)","v":""},"","","","","","",{"$f":"IF(J659=\"\",\"\",'Step 3) Fit Distribution'!$F$3*E659+'Step 3) Fit Distribution'!$F$4)","v":""},"","","","","","",""]
[null,{"$f":"IF(AND('Step 1) Select Data'!B679=\"\",'Step 1) Select Data'!D679<>\"\"),'Step 1) Select Data'!D679,\"\")","v":""},"",{"$f":"IF(B660=\"\",\"\",'Step 1) Select Data'!E679)","v":""},"","","","","","",{"$f":"IF(J660=\"\",\"\",'Step 3) Fit Distribution'!$F$3*E660+'Step 3) Fit Distribution'!$F$4)","v":""},"","","","","",{"$f":"IF(O660=\"\",\"\",ROUND(LOG(D660)-O660,4)^2)","v":""},""]
[null,{"$f":"IF(AND('Step 1) Select Data'!B680=\"\",'Step 1) Select Data'!D680<>\"\"),'Step 1) Select Data'!D680,\"\")","v":""},"",{"$f":"IF(B661=\"\",\"\",'Step 1) Select Data'!E680)","v":""},"","","","","","",{"$f":"IF(J661=\"\",\"\",'Step 3) Fit Distribution'!$F$3*E661+'Step 3) Fit Distribution'!$F$4)","v":""},"","","","","","",""]
[null,{"$f":"IF(AND('Step 1) Select Data'!B681=\"\",'Step 1) Select Data'!D681<>\"\"),'Step 1) Select Data'!D681,\"\")","v":""},"",{"$f":"IF(B662=\"\",\"\",'Step 1) Select Data'!E681)","v":""},"","","","","","",{"$f":"IF(J662=\"\",\"\",'Step 3) Fit Distribution'!$F$3*E662+'Step 3) Fit Distribution'!$F$4)","v":""},"","","","","","",""]
[null,{"$f":"IF(AND('Step 1) Select Data'!B682=\"\",'Step 1) Select Data'!D682<>\"\"),'Step 1) Select Data'!D682,\"\")","v":""},"",{"$f":"IF(B663=\"\",\"\",'Step 1) Select Data'!E682)","v":""},"","","","","","",{"$f":"IF(J663=\"\",\"\",'Step 3) Fit Distribution'!$F$3*E663+'Step 3) Fit Distribution'!$F$4)","v":""},"","","","","","",""]
[null,{"$f":"IF(AND('Step 1) Select Data'!B683=\"\",'Step 1) Select Data'!D683<>\"\"),'Step 1) Select Data'!D683,\"\")","v":""},"",{"$f":"IF(B664=\"\",\"\",'Step 1) Select Data'!E683)","v":""},"","","","","","",{"$f":"IF(J664=\"\",\"\",'Step 3) Fit Distribution'!$F$3*E664+'Step 3) Fit Distribution'!$F$4)","v":""},"","","","","","",""]
[null,{"$f":"IF(AND('Step 1) Select Data'!B684=\"\",'Step 1) Select Data'!D684<>\"\"),'Step 1) Select Data'!D684,\"\")","v":""},"",{"$f":"IF(B665=\"\",\"\",'Step 1) Select Data'!E684)","v":""},"","","","","","",{"$f":"IF(J665=\"\",\"\",'Step 3) Fit Distribution'!$F$3*E665+'Step 3) Fit Distribution'!$F$4)","v":""},"","","","","","",""]
[null,{"$f":"IF(AND('Step 1) Select Data'!B685=\"\",'Step 1) Select Data'!D685<>\"\"),'Step 1) Select Data'!D685,\"\")","v":""},"",{"$f":"IF(B666=\"\",\"\",'Step 1) Select Data'!E685)","v":""},"","","","","","",{"$f":"IF(J666=\"\",\"\",'Step 3) Fit Distribution'!$F$3*E666+'Step 3) Fit Distribution'!$F$4)","v":""},"","","","","","",""]
[null,{"$f":"IF(AND('Step 1) Select Data'!B686=\"\",'Step 1) Select Data'!D686<>\"\"),'Step 1) Select Data'!D686,\"\")","v":""},"",{"$f":"IF(B667=\"\",\"\",'Step 1) Select Data'!E686)","v":""},"","","","","","",{"$f":"IF(J667=\"\",\"\",'Step 3) Fit Distribution'!$F$3*E667+'Step 3) Fit Distribution'!$F$4)","v":""},"","","","","","",""]
[null,{"$f":"IF(AND('Step 1) Select Data'!B687=\"\",'Step 1) Select Data'!D687<>\"\"),'Step 1) Select Data'!D687,\"\")","v":""},"",{"$f":"IF(B668=\"\",\"\",'Step 1) Select Data'!E687)","v":""},"","","","","","",{"$f":"IF(J668=\"\",\"\",'Step 3) Fit Distribution'!$F$3*E668+'Step 3) Fit Distribution'!$F$4)","v":""},"","","","","","",""]
[null,{"$f":"IF(AND('Step 1) Select Data'!B688=\"\",'Step 1) Select Data'!D688<>\"\"),'Step 1) Select Data'!D688,\"\")","v":""},"",{"$f":"IF(B669=\"\",\"\",'Step 1) Select Data'!E688)","v":""},"","","","","","",{"$f":"IF(J669=\"\",\"\",'Step 3) Fit Distribution'!$F$3*E669+'Step 3) Fit Distribution'!$F$4)","v":""},"","","","","","",""]
[null,{"$f":"IF(AND('Step 1) Select Data'!B689=\"\",'Step 1) Select Data'!D689<>\"\"),'Step 1) Select Data'!D689,\"\")","v":""},"",{"$f":"IF(B670=\"\",\"\",'Step 1) Select Data'!E689)","v":""},"","","","","","",{"$f":"IF(J670=\"\",\"\",'Step 3) Fit Distribution'!$F$3*E670+'Step 3) Fit Distribution'!$F$4)","v":""},"","","","","","",""]
[null,{"$f":"IF(AND('Step 1) Select Data'!B690=\"\",'Step 1) Select Data'!D690<>\"\"),'Step 1) Select Data'!D690,\"\")","v":""},"",{"$f":"IF(B671=\"\",\"\",'Step 1) Select Data'!E690)","v":""},"","","","","","",{"$f":"IF(J671=\"\",\"\",'Step 3) Fit Distribution'!$F$3*E671+'Step 3) Fit Distribution'!$F$4)","v":""},"","","","","","",""]
[null,{"$f":"IF(AND('Step 1) Select Data'!B691=\"\",'Step 1) Select Data'!D691<>\"\"),'Step 1) Select Data'!D691,\"\")","v":""},"",{"$f":"IF(B672=\"\",\"\",'Step 1) Select Data'!E691)","v":""},"","","","","","",{"$f":"IF(J672=\"\",\"\",'Step 3) Fit Distribution'!$F$3*E672+'Step 3) Fit Distribution'!$F$4)","v":""},"","","","","","",""]
[null,{"$f":"IF(AND('Step 1) Select Data'!B692=\"\",'Step 1) Select Data'!D692<>\"\"),'Step 1) Select Data'!D692,\"\")","v":""},"",{"$f":"IF(B673=\"\",\"\",'Step 1) Select Data'!E692)","v":""},"","","","","","",{"$f":"IF(J673=\"\",\"\",'Step 3) Fit Distribution'!$F$3*E673+'Step 3) Fit Distribution'!$F$4)","v":""},"","","","","","",""]
[null,{"$f":"IF(AND('Step 1) Select Data'!B693=\"\",'Step 1) Select Data'!D693<>\"\"),'Step 1) Select Data'!D693,\"\")","v":""},"",{"$f":"IF(B674=\"\",\"\",'Step 1) Select Data'!E693)","v":""},"","","","","","",{"$f":"IF(J674=\"\",\"\",'Step 3) Fit Distribution'!$F$3*E674+'Step 3) Fit Distribution'!$F$4)","v":""},"","","","","","",""]
[null,{"$f":"IF(AND('Step 1) Select Data'!B694=\"\",'Step 1) Select Data'!D694<>\"\"),'Step 1) Select Data'!D694,\"\")","v":""},"",{"$f":"IF(B675=\"\",\"\",'Step 1) Select Data'!E694)","v":""},"","","","","","",{"$f":"IF(J675=\"\",\"\",'Step 3) Fit Distribution'!$F$3*E675+'Step 3) Fit Distribution'!$F$4)","v":""},"","","","","","",""]
[null,{"$f":"IF(AND('Step 1) Select Data'!B695=\"\",'Step 1) Select Data'!D695<>\"\"),'Step 1) Select Data'!D695,\"\")","v":""},"",{"$f":"IF(B676=\"\",\"\",'Step 1) Select Data'!E695)","v":""},"","","","","","",{"$f":"IF(J676=\"\",\"\",'Step 3) Fit Distribution'!$F$3*E676+'Step 3) Fit Distribution'!$F$4)","v":""},"","","","","","",""]
[null,{"$f":"IF(AND('Step 1) Select Data'!B696=\"\",'Step 1) Select Data'!D696<>\"\"),'Step 1) Select Data'!D696,\"\")","v":""},"",{"$f":"IF(B677=\"\",\"\",'Step 1) Select Data'!E696)","v":""},"","","","","","",{"$f":"IF(J677=\"\",\"\",'Step 3) Fit Distribution'!$F$3*E677+'Step 3) Fit Distribution'!$F$4)","v":""},"","","","","","",""]
[null,{"$f":"IF(AND('Step 1) Select Data'!B697=\"\",'Step 1) Select Data'!D697<>\"\"),'Step 1) Select Data'!D697,\"\")","v":""},"",{"$f":"IF(B678=\"\",\"\",'Step 1) Select Data'!E697)","v":""},"","","","","","",{"$f":"IF(J678=\"\",\"\",'Step 3) Fit Distribution'!$F$3*E678+'Step 3) Fit Distribution'!$F$4)","v":""},"","","","","","",""]
[null,{"$f":"IF(AND('Step 1) Select Data'!B698=\"\",'Step 1) Select Data'!D698<>\"\"),'Step 1) Select Data'!D698,\"\")","v":""},"",{"$f":"IF(B679=\"\",\"\",'Step 1) Select Data'!E698)","v":""},"","","","","","",{"$f":"IF(J679=\"\",\"\",'Step 3) Fit Distribution'!$F$3*E679+'Step 3) Fit Distribution'!$F$4)","v":""},"","","","","","",""]
[null,{"$f":"IF(AND('Step 1) Select Data'!B699=\"\",'Step 1) Select Data'!D699<>\"\"),'Step 1) Select Data'!D699,\"\")","v":""},"",{"$f":"IF(B680=\"\",\"\",'Step 1) Select Data'!E699)","v":""},"","","","","","",{"$f":"IF(J680=\"\",\"\",'Step 3) Fit Distribution'!$F$3*E680+'Step 3) Fit Distribution'!$F$4)","v":""},"","","","","","",""]
[null,{"$f":"IF(AND('Step 1) Select Data'!B700=\"\",'Step 1) Select Data'!D700<>\"\"),'Step 1) Select Data'!D700,\"\")","v":""},"",{"$f":"IF(B681=\"\",\"\",'Step 1) Select Data'!E700)","v":""},"","","","","","",{"$f":"IF(J681=\"\",\"\",'Step 3) Fit Distribution'!$F$3*E681+'Step 3) Fit Distribution'!$F$4)","v":""},"","","","","","",""]
[null,{"$f":"IF(AND('Step 1) Select Data'!B701=\"\",'Step 1) Select Data'!D701<>\"\"),'Step 1) Select Data'!D701,\"\")","v":""},"",{"$f":"IF(B682=\"\",\"\",'Step 1) Select Data'!E701)","v":""},"","","","","","",{"$f":"IF(J682=\"\",\"\",'Step 3) Fit Distribution'!$F$3*E682+'Step 3) Fit Distribution'!$F$4)","v":""},"","","","","","",""]
[null,{"$f":"IF(AND('Step 1) Select Data'!B702=\"\",'Step 1) Select Data'!D702<>\"\"),'Step 1) Select Data'!D702,\"\")","v":""},"",{"$f":"IF(B683=\"\",\"\",'Step 1) Select Data'!E702)","v":""},"","","","","","",{"$f":"IF(J683=\"\",\"\",'Step 3) Fit Distribution'!$F$3*E683+'Step 3) Fit Distribution'!$F$4)","v":""},"","","","","","",""]
[null,{"$f":"IF(AND('Step 1) Select Data'!B703=\"\",'Step 1) Select Data'!D703<>\"\"),'Step 1) Select Data'!D703,\"\")","v":""},"",{"$f":"IF(B684=\"\",\"\",'Step 1) Select Data'!E703)","v":""},"","","","","","",{"$f":"IF(J684=\"\",\"\",'Step 3) Fit Distribution'!$F$3*E684+'Step 3) Fit Distribution'!$F$4)","v":""},"","","","","","",""]
[null,{"$f":"IF(AND('Step 1) Select Data'!B704=\"\",'Step 1) Select Data'!D704<>\"\"),'Step 1) Select Data'!D704,\"\")","v":""},"",{"$f":"IF(B685=\"\",\"\",'Step 1) Select Data'!E704)","v":""},"","","","","","",{"$f":"IF(J685=\"\",\"\",'Step 3) Fit Distribution'!$F$3*E685+'Step 3) Fit Distribution'!$F$4)","v":""},"","","","","","",""]
[null,{"$f":"IF(AND('Step 1) Select Data'!B705=\"\",'Step 1) Select Data'!D705<>\"\"),'Step 1) Select Data'!D705,\"\")","v":""},"",{"$f":"IF(B686=\"\",\"\",'Step 1) Select Data'!E705)","v":""},"","","","","","",{"$f":"IF(J686=\"\",\"\",'Step 3) Fit Distribution'!$F$3*E686+'Step 3) Fit Distribution'!$F$4)","v":""},"","","","","","",""]
[null,{"$f":"IF(AND('Step 1) Select Data'!B706=\"\",'Step 1) Select Data'!D706<>\"\"),'Step 1) Select Data'!D706,\"\")","v":""},"",{"$f":"IF(B687=\"\",\"\",'Step 1) Select Data'!E706)","v":""},"","","","","","",{"$f":"IF(J687=\"\",\"\",'Step 3) Fit Distribution'!$F$3*E687+'Step 3) Fit Distribution'!$F$4)","v":""},"","","","","","",""]
[null,{"$f":"IF(AND('Step 1) Select Data'!B707=\"\",'Step 1) Select Data'!D707<>\"\"),'Step 1) Select Data'!D707,\"\")","v":""},"",{"$f":"IF(B688=\"\",\"\",'Step 1) Select Data'!E707)","v":""},"","","","","","",{"$f":"IF(J688=\"\",\"\",'Step 3) Fit Distribution'!$F$3*E688+'Step 3) Fit Distribution'!$F$4)","v":""},"","","","","","",""]
[null,{"$f":"IF(AND('Step 1) Select Data'!B708=\"\",'Step 1) Select Data'!D708<>\"\"),'Step 1) Select Data'!D708,\"\")","v":""},"",{"$f":"IF(B689=\"\",\"\",'Step 1) Select Data'!E708)","v":""},"","","","","","",{"$f":"IF(J689=\"\",\"\",'Step 3) Fit Distribution'!$F$3*E689+'Step 3) Fit Distribution'!$F$4)","v":""},"","","","","","",""]
[null,{"$f":"IF(AND('Step 1) Select Data'!B709=\"\",'Step 1) Select Data'!D709<>\"\"),'Step 1) Select Data'!D709,\"\")","v":""},"",{"$f":"IF(B690=\"\",\"\",'Step 1) Select Data'!E709)","v":""},"","","","","","",{"$f":"IF(J690=\"\",\"\",'Step 3) Fit Distribution'!$F$3*E690+'Step 3) Fit Distribution'!$F$4)","v":""},"","","","","","",""]
[null,{"$f":"IF(AND('Step 1) Select Data'!B710=\"\",'Step 1) Select Data'!D710<>\"\"),'Step 1) Select Data'!D710,\"\")","v":""},"",{"$f":"IF(B691=\"\",\"\",'Step 1) Select Data'!E710)","v":""},"","","","","","",{"$f":"IF(J691=\"\",\"\",'Step 3) Fit Distribution'!$F$3*E691+'Step 3) Fit Distribution'!$F$4)","v":""},"","","","","","",""]
[null,{"$f":"IF(AND('Step 1) Select Data'!B711=\"\",'Step 1) Select Data'!D711<>\"\"),'Step 1) Select Data'!D711,\"\")","v":""},"",{"$f":"IF(B692=\"\",\"\",'Step 1) Select Data'!E711)","v":""},"","","","","","",{"$f":"IF(J692=\"\",\"\",'Step 3) Fit Distribution'!$F$3*E692+'Step 3) Fit Distribution'!$F$4)","v":""},"","","","","","",""]
[null,{"$f":"IF(AND('Step 1) Select Data'!B712=\"\",'Step 1) Select Data'!D712<>\"\"),'Step 1) Select Data'!D712,\"\")","v":""},"",{"$f":"IF(B693=\"\",\"\",'Step 1) Select Data'!E712)","v":""},"","","","","","",{"$f":"IF(J693=\"\",\"\",'Step 3) Fit Distribution'!$F$3*E693+'Step 3) Fit Distribution'!$F$4)","v":""},"","","","","","",""]
[null,{"$f":"IF(AND('Step 1) Select Data'!B713=\"\",'Step 1) Select Data'!D713<>\"\"),'Step 1) Select Data'!D713,\"\")","v":""},"",{"$f":"IF(B694=\"\",\"\",'Step 1) Select Data'!E713)","v":""},"","","","","","",{"$f":"IF(J694=\"\",\"\",'Step 3) Fit Distribution'!$F$3*E694+'Step 3) Fit Distribution'!$F$4)","v":""},"","","","","","",""]
[null,{"$f":"IF(AND('Step 1) Select Data'!B714=\"\",'Step 1) Select Data'!D714<>\"\"),'Step 1) Select Data'!D714,\"\")","v":""},"",{"$f":"IF(B695=\"\",\"\",'Step 1) Select Data'!E714)","v":""},"","","","","","",{"$f":"IF(J695=\"\",\"\",'Step 3) Fit Distribution'!$F$3*E695+'Step 3) Fit Distribution'!$F$4)","v":""},"","","","","","",""]
[null,{"$f":"IF(AND('Step 1) Select Data'!B715=\"\",'Step 1) Select Data'!D715<>\"\"),'Step 1) Select Data'!D715,\"\")","v":""},"",{"$f":"IF(B696=\"\",\"\",'Step 1) Select Data'!E715)","v":""},"","","","","","",{"$f":"IF(J696=\"\",\"\",'Step 3) Fit Distribution'!$F$3*E696+'Step 3) Fit Distribution'!$F$4)","v":""},"","","","","","",""]
[null,{"$f":"IF(AND('Step 1) Select Data'!B716=\"\",'Step 1) Select Data'!D716<>\"\"),'Step 1) Select Data'!D716,\"\")","v":""},"",{"$f":"IF(B697=\"\",\"\",'Step 1) Select Data'!E716)","v":""},"","","","","","",{"$f":"IF(J697=\"\",\"\",'Step 3) Fit Distribution'!$F$3*E697+'Step 3) Fit Distribution'!$F$4)","v":""},"","","","","","",""]
[null,{"$f":"IF(AND('Step 1) Select Data'!B717=\"\",'Step 1) Select Data'!D717<>\"\"),'Step 1) Select Data'!D717,\"\")","v":""},"",{"$f":"IF(B698=\"\",\"\",'Step 1) Select Data'!E717)","v":""},"","","","","","",{"$f":"IF(J698=\"\",\"\",'Step 3) Fit Distribution'!$F$3*E698+'Step 3) Fit Distribution'!$F$4)","v":""},"","","","","","",""]
[null,{"$f":"IF(AND('Step 1) Select Data'!B718=\"\",'Step 1) Select Data'!D718<>\"\"),'Step 1) Select Data'!D718,\"\")","v":""},"",{"$f":"IF(B699=\"\",\"\",'Step 1) Select Data'!E718)","v":""},"","","","","","",{"$f":"IF(J699=\"\",\"\",'Step 3) Fit Distribution'!$F$3*E699+'Step 3) Fit Distribution'!$F$4)","v":""},"","","","","","",""]
[null,{"$f":"IF(AND('Step 1) Select Data'!B719=\"\",'Step 1) Select Data'!D719<>\"\"),'Step 1) Select Data'!D719,\"\")","v":""},"",{"$f":"IF(B700=\"\",\"\",'Step 1) Select Data'!E719)","v":""},"","","","","","",{"$f":"IF(J700=\"\",\"\",'Step 3) Fit Distribution'!$F$3*E700+'Step 3) Fit Distribution'!$F$4)","v":""},"","","","","","",""]
[null,{"$f":"IF(AND('Step 1) Select Data'!B720=\"\",'Step 1) Select Data'!D720<>\"\"),'Step 1) Select Data'!D720,\"\")","v":""},"",{"$f":"IF(B701=\"\",\"\",'Step 1) Select Data'!E720)","v":""},"","","","","","",{"$f":"IF(J701=\"\",\"\",'Step 3) Fit Distribution'!$F$3*E701+'Step 3) Fit Distribution'!$F$4)","v":""},"","","","","","",""]
[null,{"$f":"IF(AND('Step 1) Select Data'!B721=\"\",'Step 1) Select Data'!D721<>\"\"),'Step 1) Select Data'!D721,\"\")","v":""},"",{"$f":"IF(B702=\"\",\"\",'Step 1) Select Data'!E721)","v":""},"","","","","","",{"$f":"IF(J702=\"\",\"\",'Step 3) Fit Distribution'!$F$3*E702+'Step 3) Fit Distribution'!$F$4)","v":""},"","","","","","",""]
[null,{"$f":"IF(AND('Step 1) Select Data'!B722=\"\",'Step 1) Select Data'!D722<>\"\"),'Step 1) Select Data'!D722,\"\")","v":""},"",{"$f":"IF(B703=\"\",\"\",'Step 1) Select Data'!E722)","v":""},"","","","","","",{"$f":"IF(J703=\"\",\"\",'Step 3) Fit Distribution'!$F$3*E703+'Step 3) Fit Distribution'!$F$4)","v":""},"","","","","","",""]
[null,{"$f":"IF(AND('Step 1) Select Data'!B723=\"\",'Step 1) Select Data'!D723<>\"\"),'Step 1) Select Data'!D723,\"\")","v":""},"",{"$f":"IF(B704=\"\",\"\",'Step 1) Select Data'!E723)","v":""},"","","","","","",{"$f":"IF(J704=\"\",\"\",'Step 3) Fit Distribution'!$F$3*E704+'Step 3) Fit Distribution'!$F$4)","v":""},"","","","","","",""]
[null,{"$f":"IF(AND('Step 1) Select Data'!B724=\"\",'Step 1) Select Data'!D724<>\"\"),'Step 1) Select Data'!D724,\"\")","v":""},"",{"$f":"IF(B705=\"\",\"\",'Step 1) Select Data'!E724)","v":""},"","","","","","",{"$f":"IF(J705=\"\",\"\",'Step 3) Fit Distribution'!$F$3*E705+'Step 3) Fit Distribution'!$F$4)","v":""},"","","","","","",""]
[null,{"$f":"IF(AND('Step 1) Select Data'!B725=\"\",'Step 1) Select Data'!D725<>\"\"),'Step 1) Select Data'!D725,\"\")","v":""},"",{"$f":"IF(B706=\"\",\"\",'Step 1) Select Data'!E725)","v":""},"","","","","","",{"$f":"IF(J706=\"\",\"\",'Step 3) Fit Distribution'!$F$3*E706+'Step 3) Fit Distribution'!$F$4)","v":""},"","","","","","",""]
[null,{"$f":"IF(AND('Step 1) Select Data'!B726=\"\",'Step 1) Select Data'!D726<>\"\"),'Step 1) Select Data'!D726,\"\")","v":""},"",{"$f":"IF(B707=\"\",\"\",'Step 1) Select Data'!E726)","v":""},"","","","","","",{"$f":"IF(J707=\"\",\"\",'Step 3) Fit Distribution'!$F$3*E707+'Step 3) Fit Distribution'!$F$4)","v":""},"","","","","","",""]
[null,{"$f":"IF(AND('Step 1) Select Data'!B727=\"\",'Step 1) Select Data'!D727<>\"\"),'Step 1) Select Data'!D727,\"\")","v":""},"",{"$f":"IF(B708=\"\",\"\",'Step 1) Select Data'!E727)","v":""},"","","","","","",{"$f":"IF(J708=\"\",\"\",'Step 3) Fit Distribution'!$F$3*E708+'Step 3) Fit Distribution'!$F$4)","v":""},"","","","","","",""]
[null,{"$f":"IF(AND('Step 1) Select Data'!B728=\"\",'Step 1) Select Data'!D728<>\"\"),'Step 1) Select Data'!D728,\"\")","v":""},"",{"$f":"IF(B709=\"\",\"\",'Step 1) Select Data'!E728)","v":""},"","","","","","",{"$f":"IF(J709=\"\",\"\",'Step 3) Fit Distribution'!$F$3*E709+'Step 3) Fit Distribution'!$F$4)","v":""},"","","","","","",""]
[null,{"$f":"IF(AND('Step 1) Select Data'!B729=\"\",'Step 1) Select Data'!D729<>\"\"),'Step 1) Select Data'!D729,\"\")","v":""},"",{"$f":"IF(B710=\"\",\"\",'Step 1) Select Data'!E729)","v":""},"","","","","","",{"$f":"IF(J710=\"\",\"\",'Step 3) Fit Distribution'!$F$3*E710+'Step 3) Fit Distribution'!$F$4)","v":""},"","","","","","",""]
[null,{"$f":"IF(AND('Step 1) Select Data'!B730=\"\",'Step 1) Select Data'!D730<>\"\"),'Step 1) Select Data'!D730,\"\")","v":""},{"$f":"IF(B711=\"\",\"\",IF(OR(M711>=M712,M712=\"\"),M711,\"\"))","v":""},{"$f":"IF(B711=\"\",\"\",'Step 1) Select Data'!E730)","v":""},{"$f":"IF(C711=\"\",\"\",LOG10(N711)*(1/C711))","v":""},{"$f":"IF(OR(M711=\"\",C711=1),\"\",IF(C711=\"\",\"\",SQRT(R711/(C711-1))))","v":""},{"$f":"IF(E711=\"\",\"\",10^E711)","v":""},{"$f":"IF(I711=\"\",\"\",(I711-0.5)/COUNT($E$6:$E$2004))","v":""},{"$f":"IF(E711=\"\",\"\",RANK(E711,$E$6:$E$2004,1))","v":""},{"$f":"IF(H711=\"\",\"\",NORMINV(H711,5,1))","v":""},{"$f":"IF(J711=\"\",\"\",'Step 3) Fit Distribution'!$F$3*E711+'Step 3) Fit Distribution'!$F$4)","v":""},{"$f":"IF(K711=\"\",\"\",(K711-J711)^2)","v":""},{"$f":"IF(B711=\"\",\"\",IF(B711<>B710,1,M710+1))","v":""},{"$f":"IF(B711=\"\",\"\",IF(B711<>B710,ROUND(D711,4),ROUND(D711,4)*N710))","v":""},{"$f":"IF(OR(M711=\"\",C711=1),\"\",IF(AND(M711<>\"\",C711=\"\",E711=\"\"),O712,E711))","v":""},{"$f":"IF(OR(M711=\"\",C711=1),\"\",IF(AND(M711<>\"\",C711=\"\",E711=\"\"),P712,C711))","v":""},"",{"$f":"IF(Q711=\"\",\"\",IF(O711=O710,Q711+R710,Q711))","v":""}]
[null,{"$f":"IF(AND('Step 1) Select Data'!B731=\"\",'Step 1) Select Data'!D731<>\"\"),'Step 1) Select Data'!D731,\"\")","v":""},"",{"$f":"IF(B712=\"\",\"\",'Step 1) Select Data'!E731)","v":""},"","","","","","",{"$f":"IF(J712=\"\",\"\",'Step 3) Fit Distribution'!$F$3*E712+'Step 3) Fit Distribution'!$F$4)","v":""},"","","","","","",""]
[null,{"$f":"IF(AND('Step 1) Select Data'!B732=\"\",'Step 1) Select Data'!D732<>\"\"),'Step 1) Select Data'!D732,\"\")","v":""},"",{"$f":"IF(B713=\"\",\"\",'Step 1) Select Data'!E732)","v":""},"","","","","","",{"$f":"IF(J713=\"\",\"\",'Step 3) Fit Distribution'!$F$3*E713+'Step 3) Fit Distribution'!$F$4)","v":""},"","","","","","",""]
[null,{"$f":"IF(AND('Step 1) Select Data'!B733=\"\",'Step 1) Select Data'!D733<>\"\"),'Step 1) Select Data'!D733,\"\")","v":""},"",{"$f":"IF(B714=\"\",\"\",'Step 1) Select Data'!E733)","v":""},"","","","","","",{"$f":"IF(J714=\"\",\"\",'Step 3) Fit Distribution'!$F$3*E714+'Step 3) Fit Distribution'!$F$4)","v":""},"","","","","","",""]
[null,{"$f":"IF(AND('Step 1) Select Data'!B734=\"\",'Step 1) Select Data'!D734<>\"\"),'Step 1) Select Data'!D734,\"\")","v":""},"",{"$f":"IF(B715=\"\",\"\",'Step 1) Select Data'!E734)","v":""},"","","","","","",{"$f":"IF(J715=\"\",\"\",'Step 3) Fit Distribution'!$F$3*E715+'Step 3) Fit Distribution'!$F$4)","v":""},"","","","","","",""]
[null,{"$f":"IF(AND('Step 1) Select Data'!B735=\"\",'Step 1) Select Data'!D735<>\"\"),'Step 1) Select Data'!D735,\"\")","v":""},"",{"$f":"IF(B716=\"\",\"\",'Step 1) Select Data'!E735)","v":""},"","","","","","",{"$f":"IF(J716=\"\",\"\",'Step 3) Fit Distribution'!$F$3*E716+'Step 3) Fit Distribution'!$F$4)","v":""},"","","","","","",""]
[null,{"$f":"IF(AND('Step 1) Select Data'!B736=\"\",'Step 1) Select Data'!D736<>\"\"),'Step 1) Select Data'!D736,\"\")","v":""},"",{"$f":"IF(B717=\"\",\"\",'Step 1) Select Data'!E736)","v":""},"","","","","","",{"$f":"IF(J717=\"\",\"\",'Step 3) Fit Distribution'!$F$3*E717+'Step 3) Fit Distribution'!$F$4)","v":""},"","","","","","",""]
[null,{"$f":"IF(AND('Step 1) Select Data'!B737=\"\",'Step 1) Select Data'!D737<>\"\"),'Step 1) Select Data'!D737,\"\")","v":""},"",{"$f":"IF(B718=\"\",\"\",'Step 1) Select Data'!E737)","v":""},"","","","","","",{"$f":"IF(J718=\"\",\"\",'Step 3) Fit Distribution'!$F$3*E718+'Step 3) Fit Distribution'!$F$4)","v":""},"","","","","","",""]
[null,{"$f":"IF(AND('Step 1) Select Data'!B738=\"\",'Step 1) Select Data'!D738<>\"\"),'Step 1) Select Data'!D738,\"\")","v":""},"",{"$f":"IF(B719=\"\",\"\",'Step 1) Select Data'!E738)","v":""},"","","","","","",{"$f":"IF(J719=\"\",\"\",'Step 3) Fit Distribution'!$F$3*E719+'Step 3) Fit Distribution'!$F$4)","v":""},"","","","","","",""]
[null,{"$f":"IF(AND('Step 1) Select Data'!B739=\"\",'Step 1) Select Data'!D739<>\"\"),'Step 1) Select Data'!D739,\"\")","v":""},"",{"$f":"IF(B720=\"\",\"\",'Step 1) Select Data'!E739)","v":""},"","","","","","",{"$f":"IF(J720=\"\",\"\",'Step 3) Fit Distribution'!$F$3*E720+'Step 3) Fit Distribution'!$F$4)","v":""},"","","","","","",""]
[null,{"$f":"IF(AND('Step 1) Select Data'!B740=\"\",'Step 1) Select Data'!D740<>\"\"),'Step 1) Select Data'!D740,\"\")","v":""},"",{"$f":"IF(B721=\"\",\"\",'Step 1) Select Data'!E740)","v":""},"","","","","","",{"$f":"IF(J721=\"\",\"\",'Step 3) Fit Distribution'!$F$3*E721+'Step 3) Fit Distribution'!$F$4)","v":""},"","","","","","",""]
[null,{"$f":"IF(AND('Step 1) Select Data'!B741=\"\",'Step 1) Select Data'!D741<>\"\"),'Step 1) Select Data'!D741,\"\")","v":""},"",{"$f":"IF(B722=\"\",\"\",'Step 1) Select Data'!E741)","v":""},"","","","","","",{"$f":"IF(J722=\"\",\"\",'Step 3) Fit Distribution'!$F$3*E722+'Step 3) Fit Distribution'!$F$4)","v":""},"","","","","","",""]
[null,{"$f":"IF(AND('Step 1) Select Data'!B742=\"\",'Step 1) Select Data'!D742<>\"\"),'Step 1) Select Data'!D742,\"\")","v":""},"",{"$f":"IF(B723=\"\",\"\",'Step 1) Select Data'!E742)","v":""},"","","","","","",{"$f":"IF(J723=\"\",\"\",'Step 3) Fit Distribution'!$F$3*E723+'Step 3) Fit Distribution'!$F$4)","v":""},"","","","","","",""]
[null,{"$f":"IF(AND('Step 1) Select Data'!B743=\"\",'Step 1) Select Data'!D743<>\"\"),'Step 1) Select Data'!D743,\"\")","v":""},"",{"$f":"IF(B724=\"\",\"\",'Step 1) Select Data'!E743)","v":""},"","","","","","",{"$f":"IF(J724=\"\",\"\",'Step 3) Fit Distribution'!$F$3*E724+'Step 3) Fit Distribution'!$F$4)","v":""},"","","","","",{"$f":"IF(O724=\"\",\"\",ROUND(LOG(D724)-O724,4)^2)","v":""},""]
[null,{"$f":"IF(AND('Step 1) Select Data'!B744=\"\",'Step 1) Select Data'!D744<>\"\"),'Step 1) Select Data'!D744,\"\")","v":""},"",{"$f":"IF(B725=\"\",\"\",'Step 1) Select Data'!E744)","v":""},"","","","","","",{"$f":"IF(J725=\"\",\"\",'Step 3) Fit Distribution'!$F$3*E725+'Step 3) Fit Distribution'!$F$4)","v":""},"","","","","","",""]
[null,{"$f":"IF(AND('Step 1) Select Data'!B745=\"\",'Step 1) Select Data'!D745<>\"\"),'Step 1) Select Data'!D745,\"\")","v":""},"",{"$f":"IF(B726=\"\",\"\",'Step 1) Select Data'!E745)","v":""},"","","","","","",{"$f":"IF(J726=\"\",\"\",'Step 3) Fit Distribution'!$F$3*E726+'Step 3) Fit Distribution'!$F$4)","v":""},"","","","","","",""]
[null,{"$f":"IF(AND('Step 1) Select Data'!B746=\"\",'Step 1) Select Data'!D746<>\"\"),'Step 1) Select Data'!D746,\"\")","v":""},"",{"$f":"IF(B727=\"\",\"\",'Step 1) Select Data'!E746)","v":""},"","","","","","",{"$f":"IF(J727=\"\",\"\",'Step 3) Fit Distribution'!$F$3*E727+'Step 3) Fit Distribution'!$F$4)","v":""},"","","","","","",""]
[null,{"$f":"IF(AND('Step 1) Select Data'!B747=\"\",'Step 1) Select Data'!D747<>\"\"),'Step 1) Select Data'!D747,\"\")","v":""},"",{"$f":"IF(B728=\"\",\"\",'Step 1) Select Data'!E747)","v":""},"","","","","","",{"$f":"IF(J728=\"\",\"\",'Step 3) Fit Distribution'!$F$3*E728+'Step 3) Fit Distribution'!$F$4)","v":""},"","","","","","",""]
[null,{"$f":"IF(AND('Step 1) Select Data'!B748=\"\",'Step 1) Select Data'!D748<>\"\"),'Step 1) Select Data'!D748,\"\")","v":""},"",{"$f":"IF(B729=\"\",\"\",'Step 1) Select Data'!E748)","v":""},"","","","","","",{"$f":"IF(J729=\"\",\"\",'Step 3) Fit Distribution'!$F$3*E729+'Step 3) Fit Distribution'!$F$4)","v":""},"","","","","","",""]
[null,{"$f":"IF(AND('Step 1) Select Data'!B749=\"\",'Step 1) Select Data'!D749<>\"\"),'Step 1) Select Data'!D749,\"\")","v":""},"",{"$f":"IF(B730=\"\",\"\",'Step 1) Select Data'!E749)","v":""},"","","","","","",{"$f":"IF(J730=\"\",\"\",'Step 3) Fit Distribution'!$F$3*E730+'Step 3) Fit Distribution'!$F$4)","v":""},"","","","","","",""]
[null,{"$f":"IF(AND('Step 1) Select Data'!B750=\"\",'Step 1) Select Data'!D750<>\"\"),'Step 1) Select Data'!D750,\"\")","v":""},"",{"$f":"IF(B731=\"\",\"\",'Step 1) Select Data'!E750)","v":""},"","","","","","",{"$f":"IF(J731=\"\",\"\",'Step 3) Fit Distribution'!$F$3*E731+'Step 3) Fit Distribution'!$F$4)","v":""},"","","","","","",""]
[null,{"$f":"IF(AND('Step 1) Select Data'!B751=\"\",'Step 1) Select Data'!D751<>\"\"),'Step 1) Select Data'!D751,\"\")","v":""},"",{"$f":"IF(B732=\"\",\"\",'Step 1) Select Data'!E751)","v":""},"","","","","","",{"$f":"IF(J732=\"\",\"\",'Step 3) Fit Distribution'!$F$3*E732+'Step 3) Fit Distribution'!$F$4)","v":""},"","","","","","",""]
[null,{"$f":"IF(AND('Step 1) Select Data'!B752=\"\",'Step 1) Select Data'!D752<>\"\"),'Step 1) Select Data'!D752,\"\")","v":""},"",{"$f":"IF(B733=\"\",\"\",'Step 1) Select Data'!E752)","v":""},"","","","","","",{"$f":"IF(J733=\"\",\"\",'Step 3) Fit Distribution'!$F$3*E733+'Step 3) Fit Distribution'!$F$4)","v":""},"","","","","","",""]
[null,{"$f":"IF(AND('Step 1) Select Data'!B753=\"\",'Step 1) Select Data'!D753<>\"\"),'Step 1) Select Data'!D753,\"\")","v":""},"",{"$f":"IF(B734=\"\",\"\",'Step 1) Select Data'!E753)","v":""},"","","","","","",{"$f":"IF(J734=\"\",\"\",'Step 3) Fit Distribution'!$F$3*E734+'Step 3) Fit Distribution'!$F$4)","v":""},"","","","","","",""]
[null,{"$f":"IF(AND('Step 1) Select Data'!B754=\"\",'Step 1) Select Data'!D754<>\"\"),'Step 1) Select Data'!D754,\"\")","v":""},"",{"$f":"IF(B735=\"\",\"\",'Step 1) Select Data'!E754)","v":""},"","","","","","",{"$f":"IF(J735=\"\",\"\",'Step 3) Fit Distribution'!$F$3*E735+'Step 3) Fit Distribution'!$F$4)","v":""},"","","","","","",""]
[null,{"$f":"IF(AND('Step 1) Select Data'!B755=\"\",'Step 1) Select Data'!D755<>\"\"),'Step 1) Select Data'!D755,\"\")","v":""},"",{"$f":"IF(B736=\"\",\"\",'Step 1) Select Data'!E755)","v":""},"","","","","","",{"$f":"IF(J736=\"\",\"\",'Step 3) Fit Distribution'!$F$3*E736+'Step 3) Fit Distribution'!$F$4)","v":""},"","","","","","",""]
[null,{"$f":"IF(AND('Step 1) Select Data'!B756=\"\",'Step 1) Select Data'!D756<>\"\"),'Step 1) Select Data'!D756,\"\")","v":""},"",{"$f":"IF(B737=\"\",\"\",'Step 1) Select Data'!E756)","v":""},"","","","","","",{"$f":"IF(J737=\"\",\"\",'Step 3) Fit Distribution'!$F$3*E737+'Step 3) Fit Distribution'!$F$4)","v":""},"","","","","","",""]
[null,{"$f":"IF(AND('Step 1) Select Data'!B757=\"\",'Step 1) Select Data'!D757<>\"\"),'Step 1) Select Data'!D757,\"\")","v":""},"",{"$f":"IF(B738=\"\",\"\",'Step 1) Select Data'!E757)","v":""},"","","","","","",{"$f":"IF(J738=\"\",\"\",'Step 3) Fit Distribution'!$F$3*E738+'Step 3) Fit Distribution'!$F$4)","v":""},"","","","","","",""]
[null,{"$f":"IF(AND('Step 1) Select Data'!B758=\"\",'Step 1) Select Data'!D758<>\"\"),'Step 1) Select Data'!D758,\"\")","v":""},"",{"$f":"IF(B739=\"\",\"\",'Step 1) Select Data'!E758)","v":""},"","","","","","",{"$f":"IF(J739=\"\",\"\",'Step 3) Fit Distribution'!$F$3*E739+'Step 3) Fit Distribution'!$F$4)","v":""},"","","","","","",""]
[null,{"$f":"IF(AND('Step 1) Select Data'!B759=\"\",'Step 1) Select Data'!D759<>\"\"),'Step 1) Select Data'!D759,\"\")","v":""},"",{"$f":"IF(B740=\"\",\"\",'Step 1) Select Data'!E759)","v":""},"","","","","","",{"$f":"IF(J740=\"\",\"\",'Step 3) Fit Distribution'!$F$3*E740+'Step 3) Fit Distribution'!$F$4)","v":""},"","","","","","",""]
[null,{"$f":"IF(AND('Step 1) Select Data'!B760=\"\",'Step 1) Select Data'!D760<>\"\"),'Step 1) Select Data'!D760,\"\")","v":""},"",{"$f":"IF(B741=\"\",\"\",'Step 1) Select Data'!E760)","v":""},"","","","","","",{"$f":"IF(J741=\"\",\"\",'Step 3) Fit Distribution'!$F$3*E741+'Step 3) Fit Distribution'!$F$4)","v":""},"","","","","","",""]
[null,{"$f":"IF(AND('Step 1) Select Data'!B761=\"\",'Step 1) Select Data'!D761<>\"\"),'Step 1) Select Data'!D761,\"\")","v":""},"",{"$f":"IF(B742=\"\",\"\",'Step 1) Select Data'!E761)","v":""},"","","","","","",{"$f":"IF(J742=\"\",\"\",'Step 3) Fit Distribution'!$F$3*E742+'Step 3) Fit Distribution'!$F$4)","v":""},"","","","","","",""]
[null,{"$f":"IF(AND('Step 1) Select Data'!B762=\"\",'Step 1) Select Data'!D762<>\"\"),'Step 1) Select Data'!D762,\"\")","v":""},"",{"$f":"IF(B743=\"\",\"\",'Step 1) Select Data'!E762)","v":""},"","","","","","",{"$f":"IF(J743=\"\",\"\",'Step 3) Fit Distribution'!$F$3*E743+'Step 3) Fit Distribution'!$F$4)","v":""},"","","","","","",""]
[null,{"$f":"IF(AND('Step 1) Select Data'!B763=\"\",'Step 1) Select Data'!D763<>\"\"),'Step 1) Select Data'!D763,\"\")","v":""},"",{"$f":"IF(B744=\"\",\"\",'Step 1) Select Data'!E763)","v":""},"","","","","","",{"$f":"IF(J744=\"\",\"\",'Step 3) Fit Distribution'!$F$3*E744+'Step 3) Fit Distribution'!$F$4)","v":""},"","","","","","",""]
[null,{"$f":"IF(AND('Step 1) Select Data'!B764=\"\",'Step 1) Select Data'!D764<>\"\"),'Step 1) Select Data'!D764,\"\")","v":""},"",{"$f":"IF(B745=\"\",\"\",'Step 1) Select Data'!E764)","v":""},"","","","","","",{"$f":"IF(J745=\"\",\"\",'Step 3) Fit Distribution'!$F$3*E745+'Step 3) Fit Distribution'!$F$4)","v":""},"","","","","","",""]
[null,{"$f":"IF(AND('Step 1) Select Data'!B765=\"\",'Step 1) Select Data'!D765<>\"\"),'Step 1) Select Data'!D765,\"\")","v":""},"",{"$f":"IF(B746=\"\",\"\",'Step 1) Select Data'!E765)","v":""},"","","","","","",{"$f":"IF(J746=\"\",\"\",'Step 3) Fit Distribution'!$F$3*E746+'Step 3) Fit Distribution'!$F$4)","v":""},"","","","","","",""]
[null,{"$f":"IF(AND('Step 1) Select Data'!B766=\"\",'Step 1) Select Data'!D766<>\"\"),'Step 1) Select Data'!D766,\"\")","v":""},"",{"$f":"IF(B747=\"\",\"\",'Step 1) Select Data'!E766)","v":""},"","","","","","",{"$f":"IF(J747=\"\",\"\",'Step 3) Fit Distribution'!$F$3*E747+'Step 3) Fit Distribution'!$F$4)","v":""},"","","","","","",""]
[null,{"$f":"IF(AND('Step 1) Select Data'!B767=\"\",'Step 1) Select Data'!D767<>\"\"),'Step 1) Select Data'!D767,\"\")","v":""},"",{"$f":"IF(B748=\"\",\"\",'Step 1) Select Data'!E767)","v":""},"","","","","","",{"$f":"IF(J748=\"\",\"\",'Step 3) Fit Distribution'!$F$3*E748+'Step 3) Fit Distribution'!$F$4)","v":""},"","","","","","",""]
[null,{"$f":"IF(AND('Step 1) Select Data'!B768=\"\",'Step 1) Select Data'!D768<>\"\"),'Step 1) Select Data'!D768,\"\")","v":""},"",{"$f":"IF(B749=\"\",\"\",'Step 1) Select Data'!E768)","v":""},"","","","","","",{"$f":"IF(J749=\"\",\"\",'Step 3) Fit Distribution'!$F$3*E749+'Step 3) Fit Distribution'!$F$4)","v":""},"","","","","","",""]
[null,{"$f":"IF(AND('Step 1) Select Data'!B769=\"\",'Step 1) Select Data'!D769<>\"\"),'Step 1) Select Data'!D769,\"\")","v":""},"",{"$f":"IF(B750=\"\",\"\",'Step 1) Select Data'!E769)","v":""},"","","","","","",{"$f":"IF(J750=\"\",\"\",'Step 3) Fit Distribution'!$F$3*E750+'Step 3) Fit Distribution'!$F$4)","v":""},"","","","","","",""]
[null,{"$f":"IF(AND('Step 1) Select Data'!B770=\"\",'Step 1) Select Data'!D770<>\"\"),'Step 1) Select Data'!D770,\"\")","v":""},"",{"$f":"IF(B751=\"\",\"\",'Step 1) Select Data'!E770)","v":""},"","","","","","",{"$f":"IF(J751=\"\",\"\",'Step 3) Fit Distribution'!$F$3*E751+'Step 3) Fit Distribution'!$F$4)","v":""},"","","","","","",""]
[null,{"$f":"IF(AND('Step 1) Select Data'!B771=\"\",'Step 1) Select Data'!D771<>\"\"),'Step 1) Select Data'!D771,\"\")","v":""},"",{"$f":"IF(B752=\"\",\"\",'Step 1) Select Data'!E771)","v":""},"","","","","","",{"$f":"IF(J752=\"\",\"\",'Step 3) Fit Distribution'!$F$3*E752+'Step 3) Fit Distribution'!$F$4)","v":""},"","","","","","",""]
[null,{"$f":"IF(AND('Step 1) Select Data'!B772=\"\",'Step 1) Select Data'!D772<>\"\"),'Step 1) Select Data'!D772,\"\")","v":""},"",{"$f":"IF(B753=\"\",\"\",'Step 1) Select Data'!E772)","v":""},"","","","","","",{"$f":"IF(J753=\"\",\"\",'Step 3) Fit Distribution'!$F$3*E753+'Step 3) Fit Distribution'!$F$4)","v":""},"","","","","","",""]
[null,{"$f":"IF(AND('Step 1) Select Data'!B773=\"\",'Step 1) Select Data'!D773<>\"\"),'Step 1) Select Data'!D773,\"\")","v":""},"",{"$f":"IF(B754=\"\",\"\",'Step 1) Select Data'!E773)","v":""},"","","","","","",{"$f":"IF(J754=\"\",\"\",'Step 3) Fit Distribution'!$F$3*E754+'Step 3) Fit Distribution'!$F$4)","v":""},"","","","","","",""]
[null,{"$f":"IF(AND('Step 1) Select Data'!B774=\"\",'Step 1) Select Data'!D774<>\"\"),'Step 1) Select Data'!D774,\"\")","v":""},"",{"$f":"IF(B755=\"\",\"\",'Step 1) Select Data'!E774)","v":""},"","","","","","",{"$f":"IF(J755=\"\",\"\",'Step 3) Fit Distribution'!$F$3*E755+'Step 3) Fit Distribution'!$F$4)","v":""},"","","","","","",""]
[null,{"$f":"IF(AND('Step 1) Select Data'!B775=\"\",'Step 1) Select Data'!D775<>\"\"),'Step 1) Select Data'!D775,\"\")","v":""},"",{"$f":"IF(B756=\"\",\"\",'Step 1) Select Data'!E775)","v":""},"","","","","","",{"$f":"IF(J756=\"\",\"\",'Step 3) Fit Distribution'!$F$3*E756+'Step 3) Fit Distribution'!$F$4)","v":""},"","","","","","",""]
[null,{"$f":"IF(AND('Step 1) Select Data'!B776=\"\",'Step 1) Select Data'!D776<>\"\"),'Step 1) Select Data'!D776,\"\")","v":""},"",{"$f":"IF(B757=\"\",\"\",'Step 1) Select Data'!E776)","v":""},"","","","","","",{"$f":"IF(J757=\"\",\"\",'Step 3) Fit Distribution'!$F$3*E757+'Step 3) Fit Distribution'!$F$4)","v":""},"","","","","","",""]
[null,{"$f":"IF(AND('Step 1) Select Data'!B777=\"\",'Step 1) Select Data'!D777<>\"\"),'Step 1) Select Data'!D777,\"\")","v":""},"",{"$f":"IF(B758=\"\",\"\",'Step 1) Select Data'!E777)","v":""},"","","","","","",{"$f":"IF(J758=\"\",\"\",'Step 3) Fit Distribution'!$F$3*E758+'Step 3) Fit Distribution'!$F$4)","v":""},"","","","","","",""]
[null,{"$f":"IF(AND('Step 1) Select Data'!B778=\"\",'Step 1) Select Data'!D778<>\"\"),'Step 1) Select Data'!D778,\"\")","v":""},"",{"$f":"IF(B759=\"\",\"\",'Step 1) Select Data'!E778)","v":""},"","","","","","",{"$f":"IF(J759=\"\",\"\",'Step 3) Fit Distribution'!$F$3*E759+'Step 3) Fit Distribution'!$F$4)","v":""},"","","","","","",""]
[null,{"$f":"IF(AND('Step 1) Select Data'!B779=\"\",'Step 1) Select Data'!D779<>\"\"),'Step 1) Select Data'!D779,\"\")","v":""},"",{"$f":"IF(B760=\"\",\"\",'Step 1) Select Data'!E779)","v":""},"","","","","","",{"$f":"IF(J760=\"\",\"\",'Step 3) Fit Distribution'!$F$3*E760+'Step 3) Fit Distribution'!$F$4)","v":""},"","","","","","",""]
[null,{"$f":"IF(AND('Step 1) Select Data'!B780=\"\",'Step 1) Select Data'!D780<>\"\"),'Step 1) Select Data'!D780,\"\")","v":""},"",{"$f":"IF(B761=\"\",\"\",'Step 1) Select Data'!E780)","v":""},"","","","","","",{"$f":"IF(J761=\"\",\"\",'Step 3) Fit Distribution'!$F$3*E761+'Step 3) Fit Distribution'!$F$4)","v":""},"","","","","","",""]
[null,{"$f":"IF(AND('Step 1) Select Data'!B781=\"\",'Step 1) Select Data'!D781<>\"\"),'Step 1) Select Data'!D781,\"\")","v":""},"",{"$f":"IF(B762=\"\",\"\",'Step 1) Select Data'!E781)","v":""},"","","","","","",{"$f":"IF(J762=\"\",\"\",'Step 3) Fit Distribution'!$F$3*E762+'Step 3) Fit Distribution'!$F$4)","v":""},"","","","","","",""]
[null,{"$f":"IF(AND('Step 1) Select Data'!B782=\"\",'Step 1) Select Data'!D782<>\"\"),'Step 1) Select Data'!D782,\"\")","v":""},"",{"$f":"IF(B763=\"\",\"\",'Step 1) Select Data'!E782)","v":""},"","","","","","",{"$f":"IF(J763=\"\",\"\",'Step 3) Fit Distribution'!$F$3*E763+'Step 3) Fit Distribution'!$F$4)","v":""},"","","","","","",""]
[null,{"$f":"IF(AND('Step 1) Select Data'!B783=\"\",'Step 1) Select Data'!D783<>\"\"),'Step 1) Select Data'!D783,\"\")","v":""},"",{"$f":"IF(B764=\"\",\"\",'Step 1) Select Data'!E783)","v":""},"","","","","","",{"$f":"IF(J764=\"\",\"\",'Step 3) Fit Distribution'!$F$3*E764+'Step 3) Fit Distribution'!$F$4)","v":""},"","","","","","",""]
[null,{"$f":"IF(AND('Step 1) Select Data'!B784=\"\",'Step 1) Select Data'!D784<>\"\"),'Step 1) Select Data'!D784,\"\")","v":""},"",{"$f":"IF(B765=\"\",\"\",'Step 1) Select Data'!E784)","v":""},"","","","","","",{"$f":"IF(J765=\"\",\"\",'Step 3) Fit Distribution'!$F$3*E765+'Step 3) Fit Distribution'!$F$4)","v":""},"","","","","","",""]
[null,{"$f":"IF(AND('Step 1) Select Data'!B785=\"\",'Step 1) Select Data'!D785<>\"\"),'Step 1) Select Data'!D785,\"\")","v":""},"",{"$f":"IF(B766=\"\",\"\",'Step 1) Select Data'!E785)","v":""},"","","","","","",{"$f":"IF(J766=\"\",\"\",'Step 3) Fit Distribution'!$F$3*E766+'Step 3) Fit Distribution'!$F$4)","v":""},"","","","","","",""]
[null,{"$f":"IF(AND('Step 1) Select Data'!B786=\"\",'Step 1) Select Data'!D786<>\"\"),'Step 1) Select Data'!D786,\"\")","v":""},"",{"$f":"IF(B767=\"\",\"\",'Step 1) Select Data'!E786)","v":""},"","","","","","",{"$f":"IF(J767=\"\",\"\",'Step 3) Fit Distribution'!$F$3*E767+'Step 3) Fit Distribution'!$F$4)","v":""},"","","","","","",""]
[null,{"$f":"IF(AND('Step 1) Select Data'!B787=\"\",'Step 1) Select Data'!D787<>\"\"),'Step 1) Select Data'!D787,\"\")","v":""},"",{"$f":"IF(B768=\"\",\"\",'Step 1) Select Data'!E787)","v":""},"","","","","","",{"$f":"IF(J768=\"\",\"\",'Step 3) Fit Distribution'!$F$3*E768+'Step 3) Fit Distribution'!$F$4)","v":""},"","","","","","",""]
[null,{"$f":"IF(AND('Step 1) Select Data'!B788=\"\",'Step 1) Select Data'!D788<>\"\"),'Step 1) Select Data'!D788,\"\")","v":""},"",{"$f":"IF(B769=\"\",\"\",'Step 1) Select Data'!E788)","v":""},"","","","","","",{"$f":"IF(J769=\"\",\"\",'Step 3) Fit Distribution'!$F$3*E769+'Step 3) Fit Distribution'!$F$4)","v":""},"","","","","","",""]
[null,{"$f":"IF(AND('Step 1) Select Data'!B789=\"\",'Step 1) Select Data'!D789<>\"\"),'Step 1) Select Data'!D789,\"\")","v":""},"",{"$f":"IF(B770=\"\",\"\",'Step 1) Select Data'!E789)","v":""},"","","","","","",{"$f":"IF(J770=\"\",\"\",'Step 3) Fit Distribution'!$F$3*E770+'Step 3) Fit Distribution'!$F$4)","v":""},"","","","","","",""]
[null,{"$f":"IF(AND('Step 1) Select Data'!B790=\"\",'Step 1) Select Data'!D790<>\"\"),'Step 1) Select Data'!D790,\"\")","v":""},"",{"$f":"IF(B771=\"\",\"\",'Step 1) Select Data'!E790)","v":""},"","","","","","",{"$f":"IF(J771=\"\",\"\",'Step 3) Fit Distribution'!$F$3*E771+'Step 3) Fit Distribution'!$F$4)","v":""},"","","","","","",""]
[null,{"$f":"IF(AND('Step 1) Select Data'!B791=\"\",'Step 1) Select Data'!D791<>\"\"),'Step 1) Select Data'!D791,\"\")","v":""},"",{"$f":"IF(B772=\"\",\"\",'Step 1) Select Data'!E791)","v":""},"","","","","","",{"$f":"IF(J772=\"\",\"\",'Step 3) Fit Distribution'!$F$3*E772+'Step 3) Fit Distribution'!$F$4)","v":""},"","","","","","",""]
[null,{"$f":"IF(AND('Step 1) Select Data'!B792=\"\",'Step 1) Select Data'!D792<>\"\"),'Step 1) Select Data'!D792,\"\")","v":""},"",{"$f":"IF(B773=\"\",\"\",'Step 1) Select Data'!E792)","v":""},"","","","","","",{"$f":"IF(J773=\"\",\"\",'Step 3) Fit Distribution'!$F$3*E773+'Step 3) Fit Distribution'!$F$4)","v":""},"","","","","","",""]
[null,{"$f":"IF(AND('Step 1) Select Data'!B793=\"\",'Step 1) Select Data'!D793<>\"\"),'Step 1) Select Data'!D793,\"\")","v":""},"",{"$f":"IF(B774=\"\",\"\",'Step 1) Select Data'!E793)","v":""},"","","","","","",{"$f":"IF(J774=\"\",\"\",'Step 3) Fit Distribution'!$F$3*E774+'Step 3) Fit Distribution'!$F$4)","v":""},"","","","","","",""]
[null,{"$f":"IF(AND('Step 1) Select Data'!B794=\"\",'Step 1) Select Data'!D794<>\"\"),'Step 1) Select Data'!D794,\"\")","v":""},{"$f":"IF(B775=\"\",\"\",IF(OR(M775>=M776,M776=\"\"),M775,\"\"))","v":""},{"$f":"IF(B775=\"\",\"\",'Step 1) Select Data'!E794)","v":""},{"$f":"IF(C775=\"\",\"\",LOG10(N775)*(1/C775))","v":""},{"$f":"IF(OR(M775=\"\",C775=1),\"\",IF(C775=\"\",\"\",SQRT(R775/(C775-1))))","v":""},{"$f":"IF(E775=\"\",\"\",10^E775)","v":""},{"$f":"IF(I775=\"\",\"\",(I775-0.5)/COUNT($E$6:$E$2004))","v":""},{"$f":"IF(E775=\"\",\"\",RANK(E775,$E$6:$E$2004,1))","v":""},{"$f":"IF(H775=\"\",\"\",NORMINV(H775,5,1))","v":""},{"$f":"IF(J775=\"\",\"\",'Step 3) Fit Distribution'!$F$3*E775+'Step 3) Fit Distribution'!$F$4)","v":""},{"$f":"IF(K775=\"\",\"\",(K775-J775)^2)","v":""},{"$f":"IF(B775=\"\",\"\",IF(B775<>B774,1,M774+1))","v":""},{"$f":"IF(B775=\"\",\"\",IF(B775<>B774,ROUND(D775,4),ROUND(D775,4)*N774))","v":""},{"$f":"IF(OR(M775=\"\",C775=1),\"\",IF(AND(M775<>\"\",C775=\"\",E775=\"\"),O776,E775))","v":""},{"$f":"IF(OR(M775=\"\",C775=1),\"\",IF(AND(M775<>\"\",C775=\"\",E775=\"\"),P776,C775))","v":""},"",{"$f":"IF(Q775=\"\",\"\",IF(O775=O774,Q775+R774,Q775))","v":""}]
[null,{"$f":"IF(AND('Step 1) Select Data'!B795=\"\",'Step 1) Select Data'!D795<>\"\"),'Step 1) Select Data'!D795,\"\")","v":""},"",{"$f":"IF(B776=\"\",\"\",'Step 1) Select Data'!E795)","v":""},"","","","","","",{"$f":"IF(J776=\"\",\"\",'Step 3) Fit Distribution'!$F$3*E776+'Step 3) Fit Distribution'!$F$4)","v":""},"","","","","","",""]
[null,{"$f":"IF(AND('Step 1) Select Data'!B796=\"\",'Step 1) Select Data'!D796<>\"\"),'Step 1) Select Data'!D796,\"\")","v":""},"",{"$f":"IF(B777=\"\",\"\",'Step 1) Select Data'!E796)","v":""},"","","","","","",{"$f":"IF(J777=\"\",\"\",'Step 3) Fit Distribution'!$F$3*E777+'Step 3) Fit Distribution'!$F$4)","v":""},"","","","","","",""]
[null,{"$f":"IF(AND('Step 1) Select Data'!B797=\"\",'Step 1) Select Data'!D797<>\"\"),'Step 1) Select Data'!D797,\"\")","v":""},"",{"$f":"IF(B778=\"\",\"\",'Step 1) Select Data'!E797)","v":""},"","","","","","",{"$f":"IF(J778=\"\",\"\",'Step 3) Fit Distribution'!$F$3*E778+'Step 3) Fit Distribution'!$F$4)","v":""},"","","","","","",""]
[null,{"$f":"IF(AND('Step 1) Select Data'!B798=\"\",'Step 1) Select Data'!D798<>\"\"),'Step 1) Select Data'!D798,\"\")","v":""},"",{"$f":"IF(B779=\"\",\"\",'Step 1) Select Data'!E798)","v":""},"","","","","","",{"$f":"IF(J779=\"\",\"\",'Step 3) Fit Distribution'!$F$3*E779+'Step 3) Fit Distribution'!$F$4)","v":""},"","","","","","",""]
[null,{"$f":"IF(AND('Step 1) Select Data'!B799=\"\",'Step 1) Select Data'!D799<>\"\"),'Step 1) Select Data'!D799,\"\")","v":""},"",{"$f":"IF(B780=\"\",\"\",'Step 1) Select Data'!E799)","v":""},"","","","","","",{"$f":"IF(J780=\"\",\"\",'Step 3) Fit Distribution'!$F$3*E780+'Step 3) Fit Distribution'!$F$4)","v":""},"","","","","","",""]
[null,{"$f":"IF(AND('Step 1) Select Data'!B800=\"\",'Step 1) Select Data'!D800<>\"\"),'Step 1) Select Data'!D800,\"\")","v":""},"",{"$f":"IF(B781=\"\",\"\",'Step 1) Select Data'!E800)","v":""},"","","","","","",{"$f":"IF(J781=\"\",\"\",'Step 3) Fit Distribution'!$F$3*E781+'Step 3) Fit Distribution'!$F$4)","v":""},"","","","","","",""]
[null,{"$f":"IF(AND('Step 1) Select Data'!B801=\"\",'Step 1) Select Data'!D801<>\"\"),'Step 1) Select Data'!D801,\"\")","v":""},"",{"$f":"IF(B782=\"\",\"\",'Step 1) Select Data'!E801)","v":""},"","","","","","",{"$f":"IF(J782=\"\",\"\",'Step 3) Fit Distribution'!$F$3*E782+'Step 3) Fit Distribution'!$F$4)","v":""},"","","","","","",""]
[null,{"$f":"IF(AND('Step 1) Select Data'!B802=\"\",'Step 1) Select Data'!D802<>\"\"),'Step 1) Select Data'!D802,\"\")","v":""},"",{"$f":"IF(B783=\"\",\"\",'Step 1) Select Data'!E802)","v":""},"","","","","","",{"$f":"IF(J783=\"\",\"\",'Step 3) Fit Distribution'!$F$3*E783+'Step 3) Fit Distribution'!$F$4)","v":""},"","","","","","",""]
[null,{"$f":"IF(AND('Step 1) Select Data'!B803=\"\",'Step 1) Select Data'!D803<>\"\"),'Step 1) Select Data'!D803,\"\")","v":""},"",{"$f":"IF(B784=\"\",\"\",'Step 1) Select Data'!E803)","v":""},"","","","","","",{"$f":"IF(J784=\"\",\"\",'Step 3) Fit Distribution'!$F$3*E784+'Step 3) Fit Distribution'!$F$4)","v":""},"","","","","","",""]
[null,{"$f":"IF(AND('Step 1) Select Data'!B804=\"\",'Step 1) Select Data'!D804<>\"\"),'Step 1) Select Data'!D804,\"\")","v":""},"",{"$f":"IF(B785=\"\",\"\",'Step 1) Select Data'!E804)","v":""},"","","","","","",{"$f":"IF(J785=\"\",\"\",'Step 3) Fit Distribution'!$F$3*E785+'Step 3) Fit Distribution'!$F$4)","v":""},"","","","","","",""]
[null,{"$f":"IF(AND('Step 1) Select Data'!B805=\"\",'Step 1) Select Data'!D805<>\"\"),'Step 1) Select Data'!D805,\"\")","v":""},"",{"$f":"IF(B786=\"\",\"\",'Step 1) Select Data'!E805)","v":""},"","","","","","",{"$f":"IF(J786=\"\",\"\",'Step 3) Fit Distribution'!$F$3*E786+'Step 3) Fit Distribution'!$F$4)","v":""},"","","","","","",""]
[null,{"$f":"IF(AND('Step 1) Select Data'!B806=\"\",'Step 1) Select Data'!D806<>\"\"),'Step 1) Select Data'!D806,\"\")","v":""},"",{"$f":"IF(B787=\"\",\"\",'Step 1) Select Data'!E806)","v":""},"","","","","","",{"$f":"IF(J787=\"\",\"\",'Step 3) Fit Distribution'!$F$3*E787+'Step 3) Fit Distribution'!$F$4)","v":""},"","","","","","",""]
[null,{"$f":"IF(AND('Step 1) Select Data'!B807=\"\",'Step 1) Select Data'!D807<>\"\"),'Step 1) Select Data'!D807,\"\")","v":""},"",{"$f":"IF(B788=\"\",\"\",'Step 1) Select Data'!E807)","v":""},"","","","","","",{"$f":"IF(J788=\"\",\"\",'Step 3) Fit Distribution'!$F$3*E788+'Step 3) Fit Distribution'!$F$4)","v":""},"","","","","",{"$f":"IF(O788=\"\",\"\",ROUND(LOG(D788)-O788,4)^2)","v":""},""]
[null,{"$f":"IF(AND('Step 1) Select Data'!B808=\"\",'Step 1) Select Data'!D808<>\"\"),'Step 1) Select Data'!D808,\"\")","v":""},"",{"$f":"IF(B789=\"\",\"\",'Step 1) Select Data'!E808)","v":""},"","","","","","",{"$f":"IF(J789=\"\",\"\",'Step 3) Fit Distribution'!$F$3*E789+'Step 3) Fit Distribution'!$F$4)","v":""},"","","","","","",""]
[null,{"$f":"IF(AND('Step 1) Select Data'!B809=\"\",'Step 1) Select Data'!D809<>\"\"),'Step 1) Select Data'!D809,\"\")","v":""},"",{"$f":"IF(B790=\"\",\"\",'Step 1) Select Data'!E809)","v":""},"","","","","","",{"$f":"IF(J790=\"\",\"\",'Step 3) Fit Distribution'!$F$3*E790+'Step 3) Fit Distribution'!$F$4)","v":""},"","","","","","",""]
[null,{"$f":"IF(AND('Step 1) Select Data'!B810=\"\",'Step 1) Select Data'!D810<>\"\"),'Step 1) Select Data'!D810,\"\")","v":""},"",{"$f":"IF(B791=\"\",\"\",'Step 1) Select Data'!E810)","v":""},"","","","","","",{"$f":"IF(J791=\"\",\"\",'Step 3) Fit Distribution'!$F$3*E791+'Step 3) Fit Distribution'!$F$4)","v":""},"","","","","","",""]
[null,{"$f":"IF(AND('Step 1) Select Data'!B811=\"\",'Step 1) Select Data'!D811<>\"\"),'Step 1) Select Data'!D811,\"\")","v":""},"",{"$f":"IF(B792=\"\",\"\",'Step 1) Select Data'!E811)","v":""},"","","","","","",{"$f":"IF(J792=\"\",\"\",'Step 3) Fit Distribution'!$F$3*E792+'Step 3) Fit Distribution'!$F$4)","v":""},"","","","","","",""]
[null,{"$f":"IF(AND('Step 1) Select Data'!B812=\"\",'Step 1) Select Data'!D812<>\"\"),'Step 1) Select Data'!D812,\"\")","v":""},"",{"$f":"IF(B793=\"\",\"\",'Step 1) Select Data'!E812)","v":""},"","","","","","",{"$f":"IF(J793=\"\",\"\",'Step 3) Fit Distribution'!$F$3*E793+'Step 3) Fit Distribution'!$F$4)","v":""},"","","","","","",""]
[null,{"$f":"IF(AND('Step 1) Select Data'!B813=\"\",'Step 1) Select Data'!D813<>\"\"),'Step 1) Select Data'!D813,\"\")","v":""},"",{"$f":"IF(B794=\"\",\"\",'Step 1) Select Data'!E813)","v":""},"","","","","","",{"$f":"IF(J794=\"\",\"\",'Step 3) Fit Distribution'!$F$3*E794+'Step 3) Fit Distribution'!$F$4)","v":""},"","","","","","",""]
[null,{"$f":"IF(AND('Step 1) Select Data'!B814=\"\",'Step 1) Select Data'!D814<>\"\"),'Step 1) Select Data'!D814,\"\")","v":""},"",{"$f":"IF(B795=\"\",\"\",'Step 1) Select Data'!E814)","v":""},"","","","","","",{"$f":"IF(J795=\"\",\"\",'Step 3) Fit Distribution'!$F$3*E795+'Step 3) Fit Distribution'!$F$4)","v":""},"","","","","","",""]
[null,{"$f":"IF(AND('Step 1) Select Data'!B815=\"\",'Step 1) Select Data'!D815<>\"\"),'Step 1) Select Data'!D815,\"\")","v":""},"",{"$f":"IF(B796=\"\",\"\",'Step 1) Select Data'!E815)","v":""},"","","","","","",{"$f":"IF(J796=\"\",\"\",'Step 3) Fit Distribution'!$F$3*E796+'Step 3) Fit Distribution'!$F$4)","v":""},"","","","","","",""]
[null,{"$f":"IF(AND('Step 1) Select Data'!B816=\"\",'Step 1) Select Data'!D816<>\"\"),'Step 1) Select Data'!D816,\"\")","v":""},"",{"$f":"IF(B797=\"\",\"\",'Step 1) Select Data'!E816)","v":""},"","","","","","",{"$f":"IF(J797=\"\",\"\",'Step 3) Fit Distribution'!$F$3*E797+'Step 3) Fit Distribution'!$F$4)","v":""},"","","","","","",""]
[null,{"$f":"IF(AND('Step 1) Select Data'!B817=\"\",'Step 1) Select Data'!D817<>\"\"),'Step 1) Select Data'!D817,\"\")","v":""},"",{"$f":"IF(B798=\"\",\"\",'Step 1) Select Data'!E817)","v":""},"","","","","","",{"$f":"IF(J798=\"\",\"\",'Step 3) Fit Distribution'!$F$3*E798+'Step 3) Fit Distribution'!$F$4)","v":""},"","","","","","",""]
[null,{"$f":"IF(AND('Step 1) Select Data'!B818=\"\",'Step 1) Select Data'!D818<>\"\"),'Step 1) Select Data'!D818,\"\")","v":""},"",{"$f":"IF(B799=\"\",\"\",'Step 1) Select Data'!E818)","v":""},"","","","","","",{"$f":"IF(J799=\"\",\"\",'Step 3) Fit Distribution'!$F$3*E799+'Step 3) Fit Distribution'!$F$4)","v":""},"","","","","","",""]
[null,{"$f":"IF(AND('Step 1) Select Data'!B819=\"\",'Step 1) Select Data'!D819<>\"\"),'Step 1) Select Data'!D819,\"\")","v":""},"",{"$f":"IF(B800=\"\",\"\",'Step 1) Select Data'!E819)","v":""},"","","","","","",{"$f":"IF(J800=\"\",\"\",'Step 3) Fit Distribution'!$F$3*E800+'Step 3) Fit Distribution'!$F$4)","v":""},"","","","","","",""]
[null,{"$f":"IF(AND('Step 1) Select Data'!B820=\"\",'Step 1) Select Data'!D820<>\"\"),'Step 1) Select Data'!D820,\"\")","v":""},"",{"$f":"IF(B801=\"\",\"\",'Step 1) Select Data'!E820)","v":""},"","","","","","",{"$f":"IF(J801=\"\",\"\",'Step 3) Fit Distribution'!$F$3*E801+'Step 3) Fit Distribution'!$F$4)","v":""},"","","","","","",""]
[null,{"$f":"IF(AND('Step 1) Select Data'!B821=\"\",'Step 1) Select Data'!D821<>\"\"),'Step 1) Select Data'!D821,\"\")","v":""},"",{"$f":"IF(B802=\"\",\"\",'Step 1) Select Data'!E821)","v":""},"","","","","","",{"$f":"IF(J802=\"\",\"\",'Step 3) Fit Distribution'!$F$3*E802+'Step 3) Fit Distribution'!$F$4)","v":""},"","","","","","",""]
[null,{"$f":"IF(AND('Step 1) Select Data'!B822=\"\",'Step 1) Select Data'!D822<>\"\"),'Step 1) Select Data'!D822,\"\")","v":""},"",{"$f":"IF(B803=\"\",\"\",'Step 1) Select Data'!E822)","v":""},"","","","","","",{"$f":"IF(J803=\"\",\"\",'Step 3) Fit Distribution'!$F$3*E803+'Step 3) Fit Distribution'!$F$4)","v":""},"","","","","","",""]
[null,{"$f":"IF(AND('Step 1) Select Data'!B823=\"\",'Step 1) Select Data'!D823<>\"\"),'Step 1) Select Data'!D823,\"\")","v":""},"",{"$f":"IF(B804=\"\",\"\",'Step 1) Select Data'!E823)","v":""},"","","","","","",{"$f":"IF(J804=\"\",\"\",'Step 3) Fit Distribution'!$F$3*E804+'Step 3) Fit Distribution'!$F$4)","v":""},"","","","","","",""]
[null,{"$f":"IF(AND('Step 1) Select Data'!B824=\"\",'Step 1) Select Data'!D824<>\"\"),'Step 1) Select Data'!D824,\"\")","v":""},"",{"$f":"IF(B805=\"\",\"\",'Step 1) Select Data'!E824)","v":""},"","","","","","",{"$f":"IF(J805=\"\",\"\",'Step 3) Fit Distribution'!$F$3*E805+'Step 3) Fit Distribution'!$F$4)","v":""},"","","","","","",""]
[null,{"$f":"IF(AND('Step 1) Select Data'!B825=\"\",'Step 1) Select Data'!D825<>\"\"),'Step 1) Select Data'!D825,\"\")","v":""},"",{"$f":"IF(B806=\"\",\"\",'Step 1) Select Data'!E825)","v":""},"","","","","","",{"$f":"IF(J806=\"\",\"\",'Step 3) Fit Distribution'!$F$3*E806+'Step 3) Fit Distribution'!$F$4)","v":""},"","","","","","",""]
[null,{"$f":"IF(AND('Step 1) Select Data'!B826=\"\",'Step 1) Select Data'!D826<>\"\"),'Step 1) Select Data'!D826,\"\")","v":""},"",{"$f":"IF(B807=\"\",\"\",'Step 1) Select Data'!E826)","v":""},"","","","","","",{"$f":"IF(J807=\"\",\"\",'Step 3) Fit Distribution'!$F$3*E807+'Step 3) Fit Distribution'!$F$4)","v":""},"","","","","","",""]
[null,{"$f":"IF(AND('Step 1) Select Data'!B827=\"\",'Step 1) Select Data'!D827<>\"\"),'Step 1) Select Data'!D827,\"\")","v":""},"",{"$f":"IF(B808=\"\",\"\",'Step 1) Select Data'!E827)","v":""},"","","","","","",{"$f":"IF(J808=\"\",\"\",'Step 3) Fit Distribution'!$F$3*E808+'Step 3) Fit Distribution'!$F$4)","v":""},"","","","","","",""]
[null,{"$f":"IF(AND('Step 1) Select Data'!B828=\"\",'Step 1) Select Data'!D828<>\"\"),'Step 1) Select Data'!D828,\"\")","v":""},"",{"$f":"IF(B809=\"\",\"\",'Step 1) Select Data'!E828)","v":""},"","","","","","",{"$f":"IF(J809=\"\",\"\",'Step 3) Fit Distribution'!$F$3*E809+'Step 3) Fit Distribution'!$F$4)","v":""},"","","","","","",""]
[null,{"$f":"IF(AND('Step 1) Select Data'!B829=\"\",'Step 1) Select Data'!D829<>\"\"),'Step 1) Select Data'!D829,\"\")","v":""},"",{"$f":"IF(B810=\"\",\"\",'Step 1) Select Data'!E829)","v":""},"","","","","","",{"$f":"IF(J810=\"\",\"\",'Step 3) Fit Distribution'!$F$3*E810+'Step 3) Fit Distribution'!$F$4)","v":""},"","","","","","",""]
[null,{"$f":"IF(AND('Step 1) Select Data'!B830=\"\",'Step 1) Select Data'!D830<>\"\"),'Step 1) Select Data'!D830,\"\")","v":""},"",{"$f":"IF(B811=\"\",\"\",'Step 1) Select Data'!E830)","v":""},"","","","","","",{"$f":"IF(J811=\"\",\"\",'Step 3) Fit Distribution'!$F$3*E811+'Step 3) Fit Distribution'!$F$4)","v":""},"","","","","","",""]
[null,{"$f":"IF(AND('Step 1) Select Data'!B831=\"\",'Step 1) Select Data'!D831<>\"\"),'Step 1) Select Data'!D831,\"\")","v":""},"",{"$f":"IF(B812=\"\",\"\",'Step 1) Select Data'!E831)","v":""},"","","","","","",{"$f":"IF(J812=\"\",\"\",'Step 3) Fit Distribution'!$F$3*E812+'Step 3) Fit Distribution'!$F$4)","v":""},"","","","","","",""]
[null,{"$f":"IF(AND('Step 1) Select Data'!B832=\"\",'Step 1) Select Data'!D832<>\"\"),'Step 1) Select Data'!D832,\"\")","v":""},"",{"$f":"IF(B813=\"\",\"\",'Step 1) Select Data'!E832)","v":""},"","","","","","",{"$f":"IF(J813=\"\",\"\",'Step 3) Fit Distribution'!$F$3*E813+'Step 3) Fit Distribution'!$F$4)","v":""},"","","","","","",""]
[null,{"$f":"IF(AND('Step 1) Select Data'!B833=\"\",'Step 1) Select Data'!D833<>\"\"),'Step 1) Select Data'!D833,\"\")","v":""},"",{"$f":"IF(B814=\"\",\"\",'Step 1) Select Data'!E833)","v":""},"","","","","","",{"$f":"IF(J814=\"\",\"\",'Step 3) Fit Distribution'!$F$3*E814+'Step 3) Fit Distribution'!$F$4)","v":""},"","","","","","",""]
[null,{"$f":"IF(AND('Step 1) Select Data'!B834=\"\",'Step 1) Select Data'!D834<>\"\"),'Step 1) Select Data'!D834,\"\")","v":""},"",{"$f":"IF(B815=\"\",\"\",'Step 1) Select Data'!E834)","v":""},"","","","","","",{"$f":"IF(J815=\"\",\"\",'Step 3) Fit Distribution'!$F$3*E815+'Step 3) Fit Distribution'!$F$4)","v":""},"","","","","","",""]
[null,{"$f":"IF(AND('Step 1) Select Data'!B835=\"\",'Step 1) Select Data'!D835<>\"\"),'Step 1) Select Data'!D835,\"\")","v":""},"",{"$f":"IF(B816=\"\",\"\",'Step 1) Select Data'!E835)","v":""},"","","","","","",{"$f":"IF(J816=\"\",\"\",'Step 3) Fit Distribution'!$F$3*E816+'Step 3) Fit Distribution'!$F$4)","v":""},"","","","","","",""]
[null,{"$f":"IF(AND('Step 1) Select Data'!B836=\"\",'Step 1) Select Data'!D836<>\"\"),'Step 1) Select Data'!D836,\"\")","v":""},"",{"$f":"IF(B817=\"\",\"\",'Step 1) Select Data'!E836)","v":""},"","","","","","",{"$f":"IF(J817=\"\",\"\",'Step 3) Fit Distribution'!$F$3*E817+'Step 3) Fit Distribution'!$F$4)","v":""},"","","","","","",""]
[null,{"$f":"IF(AND('Step 1) Select Data'!B837=\"\",'Step 1) Select Data'!D837<>\"\"),'Step 1) Select Data'!D837,\"\")","v":""},"",{"$f":"IF(B818=\"\",\"\",'Step 1) Select Data'!E837)","v":""},"","","","","","",{"$f":"IF(J818=\"\",\"\",'Step 3) Fit Distribution'!$F$3*E818+'Step 3) Fit Distribution'!$F$4)","v":""},"","","","","","",""]
[null,{"$f":"IF(AND('Step 1) Select Data'!B838=\"\",'Step 1) Select Data'!D838<>\"\"),'Step 1) Select Data'!D838,\"\")","v":""},"",{"$f":"IF(B819=\"\",\"\",'Step 1) Select Data'!E838)","v":""},"","","","","","",{"$f":"IF(J819=\"\",\"\",'Step 3) Fit Distribution'!$F$3*E819+'Step 3) Fit Distribution'!$F$4)","v":""},"","","","","","",""]
[null,{"$f":"IF(AND('Step 1) Select Data'!B839=\"\",'Step 1) Select Data'!D839<>\"\"),'Step 1) Select Data'!D839,\"\")","v":""},"",{"$f":"IF(B820=\"\",\"\",'Step 1) Select Data'!E839)","v":""},"","","","","","",{"$f":"IF(J820=\"\",\"\",'Step 3) Fit Distribution'!$F$3*E820+'Step 3) Fit Distribution'!$F$4)","v":""},"","","","","","",""]
[null,{"$f":"IF(AND('Step 1) Select Data'!B840=\"\",'Step 1) Select Data'!D840<>\"\"),'Step 1) Select Data'!D840,\"\")","v":""},"",{"$f":"IF(B821=\"\",\"\",'Step 1) Select Data'!E840)","v":""},"","","","","","",{"$f":"IF(J821=\"\",\"\",'Step 3) Fit Distribution'!$F$3*E821+'Step 3) Fit Distribution'!$F$4)","v":""},"","","","","","",""]
[null,{"$f":"IF(AND('Step 1) Select Data'!B841=\"\",'Step 1) Select Data'!D841<>\"\"),'Step 1) Select Data'!D841,\"\")","v":""},"",{"$f":"IF(B822=\"\",\"\",'Step 1) Select Data'!E841)","v":""},"","","","","","",{"$f":"IF(J822=\"\",\"\",'Step 3) Fit Distribution'!$F$3*E822+'Step 3) Fit Distribution'!$F$4)","v":""},"","","","","","",""]
[null,{"$f":"IF(AND('Step 1) Select Data'!B842=\"\",'Step 1) Select Data'!D842<>\"\"),'Step 1) Select Data'!D842,\"\")","v":""},"",{"$f":"IF(B823=\"\",\"\",'Step 1) Select Data'!E842)","v":""},"","","","","","",{"$f":"IF(J823=\"\",\"\",'Step 3) Fit Distribution'!$F$3*E823+'Step 3) Fit Distribution'!$F$4)","v":""},"","","","","","",""]
[null,{"$f":"IF(AND('Step 1) Select Data'!B843=\"\",'Step 1) Select Data'!D843<>\"\"),'Step 1) Select Data'!D843,\"\")","v":""},"",{"$f":"IF(B824=\"\",\"\",'Step 1) Select Data'!E843)","v":""},"","","","","","",{"$f":"IF(J824=\"\",\"\",'Step 3) Fit Distribution'!$F$3*E824+'Step 3) Fit Distribution'!$F$4)","v":""},"","","","","","",""]
[null,{"$f":"IF(AND('Step 1) Select Data'!B844=\"\",'Step 1) Select Data'!D844<>\"\"),'Step 1) Select Data'!D844,\"\")","v":""},"",{"$f":"IF(B825=\"\",\"\",'Step 1) Select Data'!E844)","v":""},"","","","","","",{"$f":"IF(J825=\"\",\"\",'Step 3) Fit Distribution'!$F$3*E825+'Step 3) Fit Distribution'!$F$4)","v":""},"","","","","","",""]
[null,{"$f":"IF(AND('Step 1) Select Data'!B845=\"\",'Step 1) Select Data'!D845<>\"\"),'Step 1) Select Data'!D845,\"\")","v":""},"",{"$f":"IF(B826=\"\",\"\",'Step 1) Select Data'!E845)","v":""},"","","","","","",{"$f":"IF(J826=\"\",\"\",'Step 3) Fit Distribution'!$F$3*E826+'Step 3) Fit Distribution'!$F$4)","v":""},"","","","","","",""]
[null,{"$f":"IF(AND('Step 1) Select Data'!B846=\"\",'Step 1) Select Data'!D846<>\"\"),'Step 1) Select Data'!D846,\"\")","v":""},"",{"$f":"IF(B827=\"\",\"\",'Step 1) Select Data'!E846)","v":""},"","","","","","",{"$f":"IF(J827=\"\",\"\",'Step 3) Fit Distribution'!$F$3*E827+'Step 3) Fit Distribution'!$F$4)","v":""},"","","","","","",""]
[null,{"$f":"IF(AND('Step 1) Select Data'!B847=\"\",'Step 1) Select Data'!D847<>\"\"),'Step 1) Select Data'!D847,\"\")","v":""},"",{"$f":"IF(B828=\"\",\"\",'Step 1) Select Data'!E847)","v":""},"","","","","","",{"$f":"IF(J828=\"\",\"\",'Step 3) Fit Distribution'!$F$3*E828+'Step 3) Fit Distribution'!$F$4)","v":""},"","","","","","",""]
[null,{"$f":"IF(AND('Step 1) Select Data'!B848=\"\",'Step 1) Select Data'!D848<>\"\"),'Step 1) Select Data'!D848,\"\")","v":""},"",{"$f":"IF(B829=\"\",\"\",'Step 1) Select Data'!E848)","v":""},"","","","","","",{"$f":"IF(J829=\"\",\"\",'Step 3) Fit Distribution'!$F$3*E829+'Step 3) Fit Distribution'!$F$4)","v":""},"","","","","","",""]
[null,{"$f":"IF(AND('Step 1) Select Data'!B849=\"\",'Step 1) Select Data'!D849<>\"\"),'Step 1) Select Data'!D849,\"\")","v":""},"",{"$f":"IF(B830=\"\",\"\",'Step 1) Select Data'!E849)","v":""},"","","","","","",{"$f":"IF(J830=\"\",\"\",'Step 3) Fit Distribution'!$F$3*E830+'Step 3) Fit Distribution'!$F$4)","v":""},"","","","","","",""]
[null,{"$f":"IF(AND('Step 1) Select Data'!B850=\"\",'Step 1) Select Data'!D850<>\"\"),'Step 1) Select Data'!D850,\"\")","v":""},"",{"$f":"IF(B831=\"\",\"\",'Step 1) Select Data'!E850)","v":""},"","","","","","",{"$f":"IF(J831=\"\",\"\",'Step 3) Fit Distribution'!$F$3*E831+'Step 3) Fit Distribution'!$F$4)","v":""},"","","","","","",""]
[null,{"$f":"IF(AND('Step 1) Select Data'!B851=\"\",'Step 1) Select Data'!D851<>\"\"),'Step 1) Select Data'!D851,\"\")","v":""},"",{"$f":"IF(B832=\"\",\"\",'Step 1) Select Data'!E851)","v":""},"","","","","","",{"$f":"IF(J832=\"\",\"\",'Step 3) Fit Distribution'!$F$3*E832+'Step 3) Fit Distribution'!$F$4)","v":""},"","","","","","",""]
[null,{"$f":"IF(AND('Step 1) Select Data'!B852=\"\",'Step 1) Select Data'!D852<>\"\"),'Step 1) Select Data'!D852,\"\")","v":""},"",{"$f":"IF(B833=\"\",\"\",'Step 1) Select Data'!E852)","v":""},"","","","","","",{"$f":"IF(J833=\"\",\"\",'Step 3) Fit Distribution'!$F$3*E833+'Step 3) Fit Distribution'!$F$4)","v":""},"","","","","","",""]
[null,{"$f":"IF(AND('Step 1) Select Data'!B853=\"\",'Step 1) Select Data'!D853<>\"\"),'Step 1) Select Data'!D853,\"\")","v":""},"",{"$f":"IF(B834=\"\",\"\",'Step 1) Select Data'!E853)","v":""},"","","","","","",{"$f":"IF(J834=\"\",\"\",'Step 3) Fit Distribution'!$F$3*E834+'Step 3) Fit Distribution'!$F$4)","v":""},"","","","","","",""]
[null,{"$f":"IF(AND('Step 1) Select Data'!B854=\"\",'Step 1) Select Data'!D854<>\"\"),'Step 1) Select Data'!D854,\"\")","v":""},"",{"$f":"IF(B835=\"\",\"\",'Step 1) Select Data'!E854)","v":""},"","","","","","",{"$f":"IF(J835=\"\",\"\",'Step 3) Fit Distribution'!$F$3*E835+'Step 3) Fit Distribution'!$F$4)","v":""},"","","","","","",""]
[null,{"$f":"IF(AND('Step 1) Select Data'!B855=\"\",'Step 1) Select Data'!D855<>\"\"),'Step 1) Select Data'!D855,\"\")","v":""},"",{"$f":"IF(B836=\"\",\"\",'Step 1) Select Data'!E855)","v":""},"","","","","","",{"$f":"IF(J836=\"\",\"\",'Step 3) Fit Distribution'!$F$3*E836+'Step 3) Fit Distribution'!$F$4)","v":""},"","","","","","",""]
[null,{"$f":"IF(AND('Step 1) Select Data'!B856=\"\",'Step 1) Select Data'!D856<>\"\"),'Step 1) Select Data'!D856,\"\")","v":""},"",{"$f":"IF(B837=\"\",\"\",'Step 1) Select Data'!E856)","v":""},"","","","","","",{"$f":"IF(J837=\"\",\"\",'Step 3) Fit Distribution'!$F$3*E837+'Step 3) Fit Distribution'!$F$4)","v":""},"","","","","","",""]
[null,{"$f":"IF(AND('Step 1) Select Data'!B857=\"\",'Step 1) Select Data'!D857<>\"\"),'Step 1) Select Data'!D857,\"\")","v":""},"",{"$f":"IF(B838=\"\",\"\",'Step 1) Select Data'!E857)","v":""},"","","","","","",{"$f":"IF(J838=\"\",\"\",'Step 3) Fit Distribution'!$F$3*E838+'Step 3) Fit Distribution'!$F$4)","v":""},"","","","","","",""]
[null,{"$f":"IF(AND('Step 1) Select Data'!B858=\"\",'Step 1) Select Data'!D858<>\"\"),'Step 1) Select Data'!D858,\"\")","v":""},{"$f":"IF(B839=\"\",\"\",IF(OR(M839>=M840,M840=\"\"),M839,\"\"))","v":""},{"$f":"IF(B839=\"\",\"\",'Step 1) Select Data'!E858)","v":""},{"$f":"IF(C839=\"\",\"\",LOG10(N839)*(1/C839))","v":""},{"$f":"IF(OR(M839=\"\",C839=1),\"\",IF(C839=\"\",\"\",SQRT(R839/(C839-1))))","v":""},{"$f":"IF(E839=\"\",\"\",10^E839)","v":""},{"$f":"IF(I839=\"\",\"\",(I839-0.5)/COUNT($E$6:$E$2004))","v":""},{"$f":"IF(E839=\"\",\"\",RANK(E839,$E$6:$E$2004,1))","v":""},{"$f":"IF(H839=\"\",\"\",NORMINV(H839,5,1))","v":""},{"$f":"IF(J839=\"\",\"\",'Step 3) Fit Distribution'!$F$3*E839+'Step 3) Fit Distribution'!$F$4)","v":""},{"$f":"IF(K839=\"\",\"\",(K839-J839)^2)","v":""},{"$f":"IF(B839=\"\",\"\",IF(B839<>B838,1,M838+1))","v":""},{"$f":"IF(B839=\"\",\"\",IF(B839<>B838,ROUND(D839,4),ROUND(D839,4)*N838))","v":""},{"$f":"IF(OR(M839=\"\",C839=1),\"\",IF(AND(M839<>\"\",C839=\"\",E839=\"\"),O840,E839))","v":""},{"$f":"IF(OR(M839=\"\",C839=1),\"\",IF(AND(M839<>\"\",C839=\"\",E839=\"\"),P840,C839))","v":""},"",{"$f":"IF(Q839=\"\",\"\",IF(O839=O838,Q839+R838,Q839))","v":""}]
[null,{"$f":"IF(AND('Step 1) Select Data'!B859=\"\",'Step 1) Select Data'!D859<>\"\"),'Step 1) Select Data'!D859,\"\")","v":""},"",{"$f":"IF(B840=\"\",\"\",'Step 1) Select Data'!E859)","v":""},"","","","","","",{"$f":"IF(J840=\"\",\"\",'Step 3) Fit Distribution'!$F$3*E840+'Step 3) Fit Distribution'!$F$4)","v":""},"","","","","","",""]
[null,{"$f":"IF(AND('Step 1) Select Data'!B860=\"\",'Step 1) Select Data'!D860<>\"\"),'Step 1) Select Data'!D860,\"\")","v":""},"",{"$f":"IF(B841=\"\",\"\",'Step 1) Select Data'!E860)","v":""},"","","","","","",{"$f":"IF(J841=\"\",\"\",'Step 3) Fit Distribution'!$F$3*E841+'Step 3) Fit Distribution'!$F$4)","v":""},"","","","","","",""]
[null,{"$f":"IF(AND('Step 1) Select Data'!B861=\"\",'Step 1) Select Data'!D861<>\"\"),'Step 1) Select Data'!D861,\"\")","v":""},"",{"$f":"IF(B842=\"\",\"\",'Step 1) Select Data'!E861)","v":""},"","","","","","",{"$f":"IF(J842=\"\",\"\",'Step 3) Fit Distribution'!$F$3*E842+'Step 3) Fit Distribution'!$F$4)","v":""},"","","","","","",""]
[null,{"$f":"IF(AND('Step 1) Select Data'!B862=\"\",'Step 1) Select Data'!D862<>\"\"),'Step 1) Select Data'!D862,\"\")","v":""},"",{"$f":"IF(B843=\"\",\"\",'Step 1) Select Data'!E862)","v":""},"","","","","","",{"$f":"IF(J843=\"\",\"\",'Step 3) Fit Distribution'!$F$3*E843+'Step 3) Fit Distribution'!$F$4)","v":""},"","","","","","",""]
[null,{"$f":"IF(AND('Step 1) Select Data'!B863=\"\",'Step 1) Select Data'!D863<>\"\"),'Step 1) Select Data'!D863,\"\")","v":""},"",{"$f":"IF(B844=\"\",\"\",'Step 1) Select Data'!E863)","v":""},"","","","","","",{"$f":"IF(J844=\"\",\"\",'Step 3) Fit Distribution'!$F$3*E844+'Step 3) Fit Distribution'!$F$4)","v":""},"","","","","","",""]
[null,{"$f":"IF(AND('Step 1) Select Data'!B864=\"\",'Step 1) Select Data'!D864<>\"\"),'Step 1) Select Data'!D864,\"\")","v":""},"",{"$f":"IF(B845=\"\",\"\",'Step 1) Select Data'!E864)","v":""},"","","","","","",{"$f":"IF(J845=\"\",\"\",'Step 3) Fit Distribution'!$F$3*E845+'Step 3) Fit Distribution'!$F$4)","v":""},"","","","","","",""]
[null,{"$f":"IF(AND('Step 1) Select Data'!B865=\"\",'Step 1) Select Data'!D865<>\"\"),'Step 1) Select Data'!D865,\"\")","v":""},"",{"$f":"IF(B846=\"\",\"\",'Step 1) Select Data'!E865)","v":""},"","","","","","",{"$f":"IF(J846=\"\",\"\",'Step 3) Fit Distribution'!$F$3*E846+'Step 3) Fit Distribution'!$F$4)","v":""},"","","","","","",""]
[null,{"$f":"IF(AND('Step 1) Select Data'!B866=\"\",'Step 1) Select Data'!D866<>\"\"),'Step 1) Select Data'!D866,\"\")","v":""},"",{"$f":"IF(B847=\"\",\"\",'Step 1) Select Data'!E866)","v":""},"","","","","","",{"$f":"IF(J847=\"\",\"\",'Step 3) Fit Distribution'!$F$3*E847+'Step 3) Fit Distribution'!$F$4)","v":""},"","","","","","",""]
[null,{"$f":"IF(AND('Step 1) Select Data'!B867=\"\",'Step 1) Select Data'!D867<>\"\"),'Step 1) Select Data'!D867,\"\")","v":""},"",{"$f":"IF(B848=\"\",\"\",'Step 1) Select Data'!E867)","v":""},"","","","","","",{"$f":"IF(J848=\"\",\"\",'Step 3) Fit Distribution'!$F$3*E848+'Step 3) Fit Distribution'!$F$4)","v":""},"","","","","","",""]
[null,{"$f":"IF(AND('Step 1) Select Data'!B868=\"\",'Step 1) Select Data'!D868<>\"\"),'Step 1) Select Data'!D868,\"\")","v":""},"",{"$f":"IF(B849=\"\",\"\",'Step 1) Select Data'!E868)","v":""},"","","","","","",{"$f":"IF(J849=\"\",\"\",'Step 3) Fit Distribution'!$F$3*E849+'Step 3) Fit Distribution'!$F$4)","v":""},"","","","","","",""]
[null,{"$f":"IF(AND('Step 1) Select Data'!B869=\"\",'Step 1) Select Data'!D869<>\"\"),'Step 1) Select Data'!D869,\"\")","v":""},"",{"$f":"IF(B850=\"\",\"\",'Step 1) Select Data'!E869)","v":""},"","","","","","",{"$f":"IF(J850=\"\",\"\",'Step 3) Fit Distribution'!$F$3*E850+'Step 3) Fit Distribution'!$F$4)","v":""},"","","","","","",""]
[null,{"$f":"IF(AND('Step 1) Select Data'!B870=\"\",'Step 1) Select Data'!D870<>\"\"),'Step 1) Select Data'!D870,\"\")","v":""},"",{"$f":"IF(B851=\"\",\"\",'Step 1) Select Data'!E870)","v":""},"","","","","","",{"$f":"IF(J851=\"\",\"\",'Step 3) Fit Distribution'!$F$3*E851+'Step 3) Fit Distribution'!$F$4)","v":""},"","","","","","",""]
[null,{"$f":"IF(AND('Step 1) Select Data'!B871=\"\",'Step 1) Select Data'!D871<>\"\"),'Step 1) Select Data'!D871,\"\")","v":""},"",{"$f":"IF(B852=\"\",\"\",'Step 1) Select Data'!E871)","v":""},"","","","","","",{"$f":"IF(J852=\"\",\"\",'Step 3) Fit Distribution'!$F$3*E852+'Step 3) Fit Distribution'!$F$4)","v":""},"","","","","",{"$f":"IF(O852=\"\",\"\",ROUND(LOG(D852)-O852,4)^2)","v":""},""]
[null,{"$f":"IF(AND('Step 1) Select Data'!B872=\"\",'Step 1) Select Data'!D872<>\"\"),'Step 1) Select Data'!D872,\"\")","v":""},"",{"$f":"IF(B853=\"\",\"\",'Step 1) Select Data'!E872)","v":""},"","","","","","",{"$f":"IF(J853=\"\",\"\",'Step 3) Fit Distribution'!$F$3*E853+'Step 3) Fit Distribution'!$F$4)","v":""},"","","","","","",""]
[null,{"$f":"IF(AND('Step 1) Select Data'!B873=\"\",'Step 1) Select Data'!D873<>\"\"),'Step 1) Select Data'!D873,\"\")","v":""},"",{"$f":"IF(B854=\"\",\"\",'Step 1) Select Data'!E873)","v":""},"","","","","","",{"$f":"IF(J854=\"\",\"\",'Step 3) Fit Distribution'!$F$3*E854+'Step 3) Fit Distribution'!$F$4)","v":""},"","","","","","",""]
[null,{"$f":"IF(AND('Step 1) Select Data'!B874=\"\",'Step 1) Select Data'!D874<>\"\"),'Step 1) Select Data'!D874,\"\")","v":""},"",{"$f":"IF(B855=\"\",\"\",'Step 1) Select Data'!E874)","v":""},"","","","","","",{"$f":"IF(J855=\"\",\"\",'Step 3) Fit Distribution'!$F$3*E855+'Step 3) Fit Distribution'!$F$4)","v":""},"","","","","","",""]
[null,{"$f":"IF(AND('Step 1) Select Data'!B875=\"\",'Step 1) Select Data'!D875<>\"\"),'Step 1) Select Data'!D875,\"\")","v":""},"",{"$f":"IF(B856=\"\",\"\",'Step 1) Select Data'!E875)","v":""},"","","","","","",{"$f":"IF(J856=\"\",\"\",'Step 3) Fit Distribution'!$F$3*E856+'Step 3) Fit Distribution'!$F$4)","v":""},"","","","","","",""]
[null,{"$f":"IF(AND('Step 1) Select Data'!B876=\"\",'Step 1) Select Data'!D876<>\"\"),'Step 1) Select Data'!D876,\"\")","v":""},"",{"$f":"IF(B857=\"\",\"\",'Step 1) Select Data'!E876)","v":""},"","","","","","",{"$f":"IF(J857=\"\",\"\",'Step 3) Fit Distribution'!$F$3*E857+'Step 3) Fit Distribution'!$F$4)","v":""},"","","","","","",""]
[null,{"$f":"IF(AND('Step 1) Select Data'!B877=\"\",'Step 1) Select Data'!D877<>\"\"),'Step 1) Select Data'!D877,\"\")","v":""},"",{"$f":"IF(B858=\"\",\"\",'Step 1) Select Data'!E877)","v":""},"","","","","","",{"$f":"IF(J858=\"\",\"\",'Step 3) Fit Distribution'!$F$3*E858+'Step 3) Fit Distribution'!$F$4)","v":""},"","","","","","",""]
[null,{"$f":"IF(AND('Step 1) Select Data'!B878=\"\",'Step 1) Select Data'!D878<>\"\"),'Step 1) Select Data'!D878,\"\")","v":""},"",{"$f":"IF(B859=\"\",\"\",'Step 1) Select Data'!E878)","v":""},"","","","","","",{"$f":"IF(J859=\"\",\"\",'Step 3) Fit Distribution'!$F$3*E859+'Step 3) Fit Distribution'!$F$4)","v":""},"","","","","","",""]
[null,{"$f":"IF(AND('Step 1) Select Data'!B879=\"\",'Step 1) Select Data'!D879<>\"\"),'Step 1) Select Data'!D879,\"\")","v":""},"",{"$f":"IF(B860=\"\",\"\",'Step 1) Select Data'!E879)","v":""},"","","","","","",{"$f":"IF(J860=\"\",\"\",'Step 3) Fit Distribution'!$F$3*E860+'Step 3) Fit Distribution'!$F$4)","v":""},"","","","","","",""]
[null,{"$f":"IF(AND('Step 1) Select Data'!B880=\"\",'Step 1) Select Data'!D880<>\"\"),'Step 1) Select Data'!D880,\"\")","v":""},"",{"$f":"IF(B861=\"\",\"\",'Step 1) Select Data'!E880)","v":""},"","","","","","",{"$f":"IF(J861=\"\",\"\",'Step 3) Fit Distribution'!$F$3*E861+'Step 3) Fit Distribution'!$F$4)","v":""},"","","","","","",""]
[null,{"$f":"IF(AND('Step 1) Select Data'!B881=\"\",'Step 1) Select Data'!D881<>\"\"),'Step 1) Select Data'!D881,\"\")","v":""},"",{"$f":"IF(B862=\"\",\"\",'Step 1) Select Data'!E881)","v":""},"","","","","","",{"$f":"IF(J862=\"\",\"\",'Step 3) Fit Distribution'!$F$3*E862+'Step 3) Fit Distribution'!$F$4)","v":""},"","","","","","",""]
[null,{"$f":"IF(AND('Step 1) Select Data'!B882=\"\",'Step 1) Select Data'!D882<>\"\"),'Step 1) Select Data'!D882,\"\")","v":""},"",{"$f":"IF(B863=\"\",\"\",'Step 1) Select Data'!E882)","v":""},"","","","","","",{"$f":"IF(J863=\"\",\"\",'Step 3) Fit Distribution'!$F$3*E863+'Step 3) Fit Distribution'!$F$4)","v":""},"","","","","","",""]
[null,{"$f":"IF(AND('Step 1) Select Data'!B883=\"\",'Step 1) Select Data'!D883<>\"\"),'Step 1) Select Data'!D883,\"\")","v":""},"",{"$f":"IF(B864=\"\",\"\",'Step 1) Select Data'!E883)","v":""},"","","","","","",{"$f":"IF(J864=\"\",\"\",'Step 3) Fit Distribution'!$F$3*E864+'Step 3) Fit Distribution'!$F$4)","v":""},"","","","","","",""]
[null,{"$f":"IF(AND('Step 1) Select Data'!B884=\"\",'Step 1) Select Data'!D884<>\"\"),'Step 1) Select Data'!D884,\"\")","v":""},"",{"$f":"IF(B865=\"\",\"\",'Step 1) Select Data'!E884)","v":""},"","","","","","",{"$f":"IF(J865=\"\",\"\",'Step 3) Fit Distribution'!$F$3*E865+'Step 3) Fit Distribution'!$F$4)","v":""},"","","","","","",""]
[null,{"$f":"IF(AND('Step 1) Select Data'!B885=\"\",'Step 1) Select Data'!D885<>\"\"),'Step 1) Select Data'!D885,\"\")","v":""},"",{"$f":"IF(B866=\"\",\"\",'Step 1) Select Data'!E885)","v":""},"","","","","","",{"$f":"IF(J866=\"\",\"\",'Step 3) Fit Distribution'!$F$3*E866+'Step 3) Fit Distribution'!$F$4)","v":""},"","","","","","",""]
[null,{"$f":"IF(AND('Step 1) Select Data'!B886=\"\",'Step 1) Select Data'!D886<>\"\"),'Step 1) Select Data'!D886,\"\")","v":""},"",{"$f":"IF(B867=\"\",\"\",'Step 1) Select Data'!E886)","v":""},"","","","","","",{"$f":"IF(J867=\"\",\"\",'Step 3) Fit Distribution'!$F$3*E867+'Step 3) Fit Distribution'!$F$4)","v":""},"","","","","","",""]
[null,{"$f":"IF(AND('Step 1) Select Data'!B887=\"\",'Step 1) Select Data'!D887<>\"\"),'Step 1) Select Data'!D887,\"\")","v":""},"",{"$f":"IF(B868=\"\",\"\",'Step 1) Select Data'!E887)","v":""},"","","","","","",{"$f":"IF(J868=\"\",\"\",'Step 3) Fit Distribution'!$F$3*E868+'Step 3) Fit Distribution'!$F$4)","v":""},"","","","","","",""]
[null,{"$f":"IF(AND('Step 1) Select Data'!B888=\"\",'Step 1) Select Data'!D888<>\"\"),'Step 1) Select Data'!D888,\"\")","v":""},"",{"$f":"IF(B869=\"\",\"\",'Step 1) Select Data'!E888)","v":""},"","","","","","",{"$f":"IF(J869=\"\",\"\",'Step 3) Fit Distribution'!$F$3*E869+'Step 3) Fit Distribution'!$F$4)","v":""},"","","","","","",""]
[null,{"$f":"IF(AND('Step 1) Select Data'!B889=\"\",'Step 1) Select Data'!D889<>\"\"),'Step 1) Select Data'!D889,\"\")","v":""},"",{"$f":"IF(B870=\"\",\"\",'Step 1) Select Data'!E889)","v":""},"","","","","","",{"$f":"IF(J870=\"\",\"\",'Step 3) Fit Distribution'!$F$3*E870+'Step 3) Fit Distribution'!$F$4)","v":""},"","","","","","",""]
[null,{"$f":"IF(AND('Step 1) Select Data'!B890=\"\",'Step 1) Select Data'!D890<>\"\"),'Step 1) Select Data'!D890,\"\")","v":""},"",{"$f":"IF(B871=\"\",\"\",'Step 1) Select Data'!E890)","v":""},"","","","","","",{"$f":"IF(J871=\"\",\"\",'Step 3) Fit Distribution'!$F$3*E871+'Step 3) Fit Distribution'!$F$4)","v":""},"","","","","","",""]
[null,{"$f":"IF(AND('Step 1) Select Data'!B891=\"\",'Step 1) Select Data'!D891<>\"\"),'Step 1) Select Data'!D891,\"\")","v":""},"",{"$f":"IF(B872=\"\",\"\",'Step 1) Select Data'!E891)","v":""},"","","","","","",{"$f":"IF(J872=\"\",\"\",'Step 3) Fit Distribution'!$F$3*E872+'Step 3) Fit Distribution'!$F$4)","v":""},"","","","","","",""]
[null,{"$f":"IF(AND('Step 1) Select Data'!B892=\"\",'Step 1) Select Data'!D892<>\"\"),'Step 1) Select Data'!D892,\"\")","v":""},"",{"$f":"IF(B873=\"\",\"\",'Step 1) Select Data'!E892)","v":""},"","","","","","",{"$f":"IF(J873=\"\",\"\",'Step 3) Fit Distribution'!$F$3*E873+'Step 3) Fit Distribution'!$F$4)","v":""},"","","","","","",""]
[null,{"$f":"IF(AND('Step 1) Select Data'!B893=\"\",'Step 1) Select Data'!D893<>\"\"),'Step 1) Select Data'!D893,\"\")","v":""},"",{"$f":"IF(B874=\"\",\"\",'Step 1) Select Data'!E893)","v":""},"","","","","","",{"$f":"IF(J874=\"\",\"\",'Step 3) Fit Distribution'!$F$3*E874+'Step 3) Fit Distribution'!$F$4)","v":""},"","","","","","",""]
[null,{"$f":"IF(AND('Step 1) Select Data'!B894=\"\",'Step 1) Select Data'!D894<>\"\"),'Step 1) Select Data'!D894,\"\")","v":""},"",{"$f":"IF(B875=\"\",\"\",'Step 1) Select Data'!E894)","v":""},"","","","","","",{"$f":"IF(J875=\"\",\"\",'Step 3) Fit Distribution'!$F$3*E875+'Step 3) Fit Distribution'!$F$4)","v":""},"","","","","","",""]
[null,{"$f":"IF(AND('Step 1) Select Data'!B895=\"\",'Step 1) Select Data'!D895<>\"\"),'Step 1) Select Data'!D895,\"\")","v":""},"",{"$f":"IF(B876=\"\",\"\",'Step 1) Select Data'!E895)","v":""},"","","","","","",{"$f":"IF(J876=\"\",\"\",'Step 3) Fit Distribution'!$F$3*E876+'Step 3) Fit Distribution'!$F$4)","v":""},"","","","","","",""]
[null,{"$f":"IF(AND('Step 1) Select Data'!B896=\"\",'Step 1) Select Data'!D896<>\"\"),'Step 1) Select Data'!D896,\"\")","v":""},"",{"$f":"IF(B877=\"\",\"\",'Step 1) Select Data'!E896)","v":""},"","","","","","",{"$f":"IF(J877=\"\",\"\",'Step 3) Fit Distribution'!$F$3*E877+'Step 3) Fit Distribution'!$F$4)","v":""},"","","","","","",""]
[null,{"$f":"IF(AND('Step 1) Select Data'!B897=\"\",'Step 1) Select Data'!D897<>\"\"),'Step 1) Select Data'!D897,\"\")","v":""},"",{"$f":"IF(B878=\"\",\"\",'Step 1) Select Data'!E897)","v":""},"","","","","","",{"$f":"IF(J878=\"\",\"\",'Step 3) Fit Distribution'!$F$3*E878+'Step 3) Fit Distribution'!$F$4)","v":""},"","","","","","",""]
[null,{"$f":"IF(AND('Step 1) Select Data'!B898=\"\",'Step 1) Select Data'!D898<>\"\"),'Step 1) Select Data'!D898,\"\")","v":""},"",{"$f":"IF(B879=\"\",\"\",'Step 1) Select Data'!E898)","v":""},"","","","","","",{"$f":"IF(J879=\"\",\"\",'Step 3) Fit Distribution'!$F$3*E879+'Step 3) Fit Distribution'!$F$4)","v":""},"","","","","","",""]
[null,{"$f":"IF(AND('Step 1) Select Data'!B899=\"\",'Step 1) Select Data'!D899<>\"\"),'Step 1) Select Data'!D899,\"\")","v":""},"",{"$f":"IF(B880=\"\",\"\",'Step 1) Select Data'!E899)","v":""},"","","","","","",{"$f":"IF(J880=\"\",\"\",'Step 3) Fit Distribution'!$F$3*E880+'Step 3) Fit Distribution'!$F$4)","v":""},"","","","","","",""]
[null,{"$f":"IF(AND('Step 1) Select Data'!B900=\"\",'Step 1) Select Data'!D900<>\"\"),'Step 1) Select Data'!D900,\"\")","v":""},"",{"$f":"IF(B881=\"\",\"\",'Step 1) Select Data'!E900)","v":""},"","","","","","",{"$f":"IF(J881=\"\",\"\",'Step 3) Fit Distribution'!$F$3*E881+'Step 3) Fit Distribution'!$F$4)","v":""},"","","","","","",""]
[null,{"$f":"IF(AND('Step 1) Select Data'!B901=\"\",'Step 1) Select Data'!D901<>\"\"),'Step 1) Select Data'!D901,\"\")","v":""},"",{"$f":"IF(B882=\"\",\"\",'Step 1) Select Data'!E901)","v":""},"","","","","","",{"$f":"IF(J882=\"\",\"\",'Step 3) Fit Distribution'!$F$3*E882+'Step 3) Fit Distribution'!$F$4)","v":""},"","","","","","",""]
[null,{"$f":"IF(AND('Step 1) Select Data'!B902=\"\",'Step 1) Select Data'!D902<>\"\"),'Step 1) Select Data'!D902,\"\")","v":""},"",{"$f":"IF(B883=\"\",\"\",'Step 1) Select Data'!E902)","v":""},"","","","","","",{"$f":"IF(J883=\"\",\"\",'Step 3) Fit Distribution'!$F$3*E883+'Step 3) Fit Distribution'!$F$4)","v":""},"","","","","","",""]
[null,{"$f":"IF(AND('Step 1) Select Data'!B903=\"\",'Step 1) Select Data'!D903<>\"\"),'Step 1) Select Data'!D903,\"\")","v":""},"",{"$f":"IF(B884=\"\",\"\",'Step 1) Select Data'!E903)","v":""},"","","","","","",{"$f":"IF(J884=\"\",\"\",'Step 3) Fit Distribution'!$F$3*E884+'Step 3) Fit Distribution'!$F$4)","v":""},"","","","","","",""]
[null,{"$f":"IF(AND('Step 1) Select Data'!B904=\"\",'Step 1) Select Data'!D904<>\"\"),'Step 1) Select Data'!D904,\"\")","v":""},"",{"$f":"IF(B885=\"\",\"\",'Step 1) Select Data'!E904)","v":""},"","","","","","",{"$f":"IF(J885=\"\",\"\",'Step 3) Fit Distribution'!$F$3*E885+'Step 3) Fit Distribution'!$F$4)","v":""},"","","","","","",""]
[null,{"$f":"IF(AND('Step 1) Select Data'!B905=\"\",'Step 1) Select Data'!D905<>\"\"),'Step 1) Select Data'!D905,\"\")","v":""},"",{"$f":"IF(B886=\"\",\"\",'Step 1) Select Data'!E905)","v":""},"","","","","","",{"$f":"IF(J886=\"\",\"\",'Step 3) Fit Distribution'!$F$3*E886+'Step 3) Fit Distribution'!$F$4)","v":""},"","","","","","",""]
[null,{"$f":"IF(AND('Step 1) Select Data'!B906=\"\",'Step 1) Select Data'!D906<>\"\"),'Step 1) Select Data'!D906,\"\")","v":""},"",{"$f":"IF(B887=\"\",\"\",'Step 1) Select Data'!E906)","v":""},"","","","","","",{"$f":"IF(J887=\"\",\"\",'Step 3) Fit Distribution'!$F$3*E887+'Step 3) Fit Distribution'!$F$4)","v":""},"","","","","","",""]
[null,{"$f":"IF(AND('Step 1) Select Data'!B907=\"\",'Step 1) Select Data'!D907<>\"\"),'Step 1) Select Data'!D907,\"\")","v":""},"",{"$f":"IF(B888=\"\",\"\",'Step 1) Select Data'!E907)","v":""},"","","","","","",{"$f":"IF(J888=\"\",\"\",'Step 3) Fit Distribution'!$F$3*E888+'Step 3) Fit Distribution'!$F$4)","v":""},"","","","","","",""]
[null,{"$f":"IF(AND('Step 1) Select Data'!B908=\"\",'Step 1) Select Data'!D908<>\"\"),'Step 1) Select Data'!D908,\"\")","v":""},"",{"$f":"IF(B889=\"\",\"\",'Step 1) Select Data'!E908)","v":""},"","","","","","",{"$f":"IF(J889=\"\",\"\",'Step 3) Fit Distribution'!$F$3*E889+'Step 3) Fit Distribution'!$F$4)","v":""},"","","","","","",""]
[null,{"$f":"IF(AND('Step 1) Select Data'!B909=\"\",'Step 1) Select Data'!D909<>\"\"),'Step 1) Select Data'!D909,\"\")","v":""},"",{"$f":"IF(B890=\"\",\"\",'Step 1) Select Data'!E909)","v":""},"","","","","","",{"$f":"IF(J890=\"\",\"\",'Step 3) Fit Distribution'!$F$3*E890+'Step 3) Fit Distribution'!$F$4)","v":""},"","","","","","",""]
[null,{"$f":"IF(AND('Step 1) Select Data'!B910=\"\",'Step 1) Select Data'!D910<>\"\"),'Step 1) Select Data'!D910,\"\")","v":""},"",{"$f":"IF(B891=\"\",\"\",'Step 1) Select Data'!E910)","v":""},"","","","","","",{"$f":"IF(J891=\"\",\"\",'Step 3) Fit Distribution'!$F$3*E891+'Step 3) Fit Distribution'!$F$4)","v":""},"","","","","","",""]
[null,{"$f":"IF(AND('Step 1) Select Data'!B911=\"\",'Step 1) Select Data'!D911<>\"\"),'Step 1) Select Data'!D911,\"\")","v":""},"",{"$f":"IF(B892=\"\",\"\",'Step 1) Select Data'!E911)","v":""},"","","","","","",{"$f":"IF(J892=\"\",\"\",'Step 3) Fit Distribution'!$F$3*E892+'Step 3) Fit Distribution'!$F$4)","v":""},"","","","","","",""]
[null,{"$f":"IF(AND('Step 1) Select Data'!B912=\"\",'Step 1) Select Data'!D912<>\"\"),'Step 1) Select Data'!D912,\"\")","v":""},"",{"$f":"IF(B893=\"\",\"\",'Step 1) Select Data'!E912)","v":""},"","","","","","",{"$f":"IF(J893=\"\",\"\",'Step 3) Fit Distribution'!$F$3*E893+'Step 3) Fit Distribution'!$F$4)","v":""},"","","","","","",""]
[null,{"$f":"IF(AND('Step 1) Select Data'!B913=\"\",'Step 1) Select Data'!D913<>\"\"),'Step 1) Select Data'!D913,\"\")","v":""},"",{"$f":"IF(B894=\"\",\"\",'Step 1) Select Data'!E913)","v":""},"","","","","","",{"$f":"IF(J894=\"\",\"\",'Step 3) Fit Distribution'!$F$3*E894+'Step 3) Fit Distribution'!$F$4)","v":""},"","","","","","",""]
[null,{"$f":"IF(AND('Step 1) Select Data'!B914=\"\",'Step 1) Select Data'!D914<>\"\"),'Step 1) Select Data'!D914,\"\")","v":""},"",{"$f":"IF(B895=\"\",\"\",'Step 1) Select Data'!E914)","v":""},"","","","","","",{"$f":"IF(J895=\"\",\"\",'Step 3) Fit Distribution'!$F$3*E895+'Step 3) Fit Distribution'!$F$4)","v":""},"","","","","","",""]
[null,{"$f":"IF(AND('Step 1) Select Data'!B915=\"\",'Step 1) Select Data'!D915<>\"\"),'Step 1) Select Data'!D915,\"\")","v":""},"",{"$f":"IF(B896=\"\",\"\",'Step 1) Select Data'!E915)","v":""},"","","","","","",{"$f":"IF(J896=\"\",\"\",'Step 3) Fit Distribution'!$F$3*E896+'Step 3) Fit Distribution'!$F$4)","v":""},"","","","","","",""]
[null,{"$f":"IF(AND('Step 1) Select Data'!B916=\"\",'Step 1) Select Data'!D916<>\"\"),'Step 1) Select Data'!D916,\"\")","v":""},"",{"$f":"IF(B897=\"\",\"\",'Step 1) Select Data'!E916)","v":""},"","","","","","",{"$f":"IF(J897=\"\",\"\",'Step 3) Fit Distribution'!$F$3*E897+'Step 3) Fit Distribution'!$F$4)","v":""},"","","","","","",""]
[null,{"$f":"IF(AND('Step 1) Select Data'!B917=\"\",'Step 1) Select Data'!D917<>\"\"),'Step 1) Select Data'!D917,\"\")","v":""},"",{"$f":"IF(B898=\"\",\"\",'Step 1) Select Data'!E917)","v":""},"","","","","","",{"$f":"IF(J898=\"\",\"\",'Step 3) Fit Distribution'!$F$3*E898+'Step 3) Fit Distribution'!$F$4)","v":""},"","","","","","",""]
[null,{"$f":"IF(AND('Step 1) Select Data'!B918=\"\",'Step 1) Select Data'!D918<>\"\"),'Step 1) Select Data'!D918,\"\")","v":""},"",{"$f":"IF(B899=\"\",\"\",'Step 1) Select Data'!E918)","v":""},"","","","","","",{"$f":"IF(J899=\"\",\"\",'Step 3) Fit Distribution'!$F$3*E899+'Step 3) Fit Distribution'!$F$4)","v":""},"","","","","","",""]
[null,{"$f":"IF(AND('Step 1) Select Data'!B919=\"\",'Step 1) Select Data'!D919<>\"\"),'Step 1) Select Data'!D919,\"\")","v":""},"",{"$f":"IF(B900=\"\",\"\",'Step 1) Select Data'!E919)","v":""},"","","","","","",{"$f":"IF(J900=\"\",\"\",'Step 3) Fit Distribution'!$F$3*E900+'Step 3) Fit Distribution'!$F$4)","v":""},"","","","","","",""]
[null,{"$f":"IF(AND('Step 1) Select Data'!B920=\"\",'Step 1) Select Data'!D920<>\"\"),'Step 1) Select Data'!D920,\"\")","v":""},"",{"$f":"IF(B901=\"\",\"\",'Step 1) Select Data'!E920)","v":""},"","","","","","",{"$f":"IF(J901=\"\",\"\",'Step 3) Fit Distribution'!$F$3*E901+'Step 3) Fit Distribution'!$F$4)","v":""},"","","","","","",""]
[null,{"$f":"IF(AND('Step 1) Select Data'!B921=\"\",'Step 1) Select Data'!D921<>\"\"),'Step 1) Select Data'!D921,\"\")","v":""},"",{"$f":"IF(B902=\"\",\"\",'Step 1) Select Data'!E921)","v":""},"","","","","","",{"$f":"IF(J902=\"\",\"\",'Step 3) Fit Distribution'!$F$3*E902+'Step 3) Fit Distribution'!$F$4)","v":""},"","","","","","",""]
[null,{"$f":"IF(AND('Step 1) Select Data'!B922=\"\",'Step 1) Select Data'!D922<>\"\"),'Step 1) Select Data'!D922,\"\")","v":""},{"$f":"IF(B903=\"\",\"\",IF(OR(M903>=M904,M904=\"\"),M903,\"\"))","v":""},{"$f":"IF(B903=\"\",\"\",'Step 1) Select Data'!E922)","v":""},{"$f":"IF(C903=\"\",\"\",LOG10(N903)*(1/C903))","v":""},{"$f":"IF(OR(M903=\"\",C903=1),\"\",IF(C903=\"\",\"\",SQRT(R903/(C903-1))))","v":""},{"$f":"IF(E903=\"\",\"\",10^E903)","v":""},{"$f":"IF(I903=\"\",\"\",(I903-0.5)/COUNT($E$6:$E$2004))","v":""},{"$f":"IF(E903=\"\",\"\",RANK(E903,$E$6:$E$2004,1))","v":""},{"$f":"IF(H903=\"\",\"\",NORMINV(H903,5,1))","v":""},{"$f":"IF(J903=\"\",\"\",'Step 3) Fit Distribution'!$F$3*E903+'Step 3) Fit Distribution'!$F$4)","v":""},{"$f":"IF(K903=\"\",\"\",(K903-J903)^2)","v":""},{"$f":"IF(B903=\"\",\"\",IF(B903<>B902,1,M902+1))","v":""},{"$f":"IF(B903=\"\",\"\",IF(B903<>B902,ROUND(D903,4),ROUND(D903,4)*N902))","v":""},{"$f":"IF(OR(M903=\"\",C903=1),\"\",IF(AND(M903<>\"\",C903=\"\",E903=\"\"),O904,E903))","v":""},{"$f":"IF(OR(M903=\"\",C903=1),\"\",IF(AND(M903<>\"\",C903=\"\",E903=\"\"),P904,C903))","v":""},"",{"$f":"IF(Q903=\"\",\"\",IF(O903=O902,Q903+R902,Q903))","v":""}]
[null,{"$f":"IF(AND('Step 1) Select Data'!B923=\"\",'Step 1) Select Data'!D923<>\"\"),'Step 1) Select Data'!D923,\"\")","v":""},"",{"$f":"IF(B904=\"\",\"\",'Step 1) Select Data'!E923)","v":""},"","","","","","",{"$f":"IF(J904=\"\",\"\",'Step 3) Fit Distribution'!$F$3*E904+'Step 3) Fit Distribution'!$F$4)","v":""},"","","","","","",""]
[null,{"$f":"IF(AND('Step 1) Select Data'!B924=\"\",'Step 1) Select Data'!D924<>\"\"),'Step 1) Select Data'!D924,\"\")","v":""},"",{"$f":"IF(B905=\"\",\"\",'Step 1) Select Data'!E924)","v":""},"","","","","","",{"$f":"IF(J905=\"\",\"\",'Step 3) Fit Distribution'!$F$3*E905+'Step 3) Fit Distribution'!$F$4)","v":""},"","","","","","",""]
[null,{"$f":"IF(AND('Step 1) Select Data'!B925=\"\",'Step 1) Select Data'!D925<>\"\"),'Step 1) Select Data'!D925,\"\")","v":""},"",{"$f":"IF(B906=\"\",\"\",'Step 1) Select Data'!E925)","v":""},"","","","","","",{"$f":"IF(J906=\"\",\"\",'Step 3) Fit Distribution'!$F$3*E906+'Step 3) Fit Distribution'!$F$4)","v":""},"","","","","","",""]
[null,{"$f":"IF(AND('Step 1) Select Data'!B926=\"\",'Step 1) Select Data'!D926<>\"\"),'Step 1) Select Data'!D926,\"\")","v":""},"",{"$f":"IF(B907=\"\",\"\",'Step 1) Select Data'!E926)","v":""},"","","","","","",{"$f":"IF(J907=\"\",\"\",'Step 3) Fit Distribution'!$F$3*E907+'Step 3) Fit Distribution'!$F$4)","v":""},"","","","","","",""]
[null,{"$f":"IF(AND('Step 1) Select Data'!B927=\"\",'Step 1) Select Data'!D927<>\"\"),'Step 1) Select Data'!D927,\"\")","v":""},"",{"$f":"IF(B908=\"\",\"\",'Step 1) Select Data'!E927)","v":""},"","","","","","",{"$f":"IF(J908=\"\",\"\",'Step 3) Fit Distribution'!$F$3*E908+'Step 3) Fit Distribution'!$F$4)","v":""},"","","","","","",""]
[null,{"$f":"IF(AND('Step 1) Select Data'!B928=\"\",'Step 1) Select Data'!D928<>\"\"),'Step 1) Select Data'!D928,\"\")","v":""},"",{"$f":"IF(B909=\"\",\"\",'Step 1) Select Data'!E928)","v":""},"","","","","","",{"$f":"IF(J909=\"\",\"\",'Step 3) Fit Distribution'!$F$3*E909+'Step 3) Fit Distribution'!$F$4)","v":""},"","","","","","",""]
[null,{"$f":"IF(AND('Step 1) Select Data'!B929=\"\",'Step 1) Select Data'!D929<>\"\"),'Step 1) Select Data'!D929,\"\")","v":""},"",{"$f":"IF(B910=\"\",\"\",'Step 1) Select Data'!E929)","v":""},"","","","","","",{"$f":"IF(J910=\"\",\"\",'Step 3) Fit Distribution'!$F$3*E910+'Step 3) Fit Distribution'!$F$4)","v":""},"","","","","","",""]
[null,{"$f":"IF(AND('Step 1) Select Data'!B930=\"\",'Step 1) Select Data'!D930<>\"\"),'Step 1) Select Data'!D930,\"\")","v":""},"",{"$f":"IF(B911=\"\",\"\",'Step 1) Select Data'!E930)","v":""},"","","","","","",{"$f":"IF(J911=\"\",\"\",'Step 3) Fit Distribution'!$F$3*E911+'Step 3) Fit Distribution'!$F$4)","v":""},"","","","","","",""]
[null,{"$f":"IF(AND('Step 1) Select Data'!B931=\"\",'Step 1) Select Data'!D931<>\"\"),'Step 1) Select Data'!D931,\"\")","v":""},"",{"$f":"IF(B912=\"\",\"\",'Step 1) Select Data'!E931)","v":""},"","","","","","",{"$f":"IF(J912=\"\",\"\",'Step 3) Fit Distribution'!$F$3*E912+'Step 3) Fit Distribution'!$F$4)","v":""},"","","","","","",""]
[null,{"$f":"IF(AND('Step 1) Select Data'!B932=\"\",'Step 1) Select Data'!D932<>\"\"),'Step 1) Select Data'!D932,\"\")","v":""},"",{"$f":"IF(B913=\"\",\"\",'Step 1) Select Data'!E932)","v":""},"","","","","","",{"$f":"IF(J913=\"\",\"\",'Step 3) Fit Distribution'!$F$3*E913+'Step 3) Fit Distribution'!$F$4)","v":""},"","","","","","",""]
[null,{"$f":"IF(AND('Step 1) Select Data'!B933=\"\",'Step 1) Select Data'!D933<>\"\"),'Step 1) Select Data'!D933,\"\")","v":""},"",{"$f":"IF(B914=\"\",\"\",'Step 1) Select Data'!E933)","v":""},"","","","","","",{"$f":"IF(J914=\"\",\"\",'Step 3) Fit Distribution'!$F$3*E914+'Step 3) Fit Distribution'!$F$4)","v":""},"","","","","","",""]
[null,{"$f":"IF(AND('Step 1) Select Data'!B934=\"\",'Step 1) Select Data'!D934<>\"\"),'Step 1) Select Data'!D934,\"\")","v":""},"",{"$f":"IF(B915=\"\",\"\",'Step 1) Select Data'!E934)","v":""},"","","","","","",{"$f":"IF(J915=\"\",\"\",'Step 3) Fit Distribution'!$F$3*E915+'Step 3) Fit Distribution'!$F$4)","v":""},"","","","","","",""]
[null,{"$f":"IF(AND('Step 1) Select Data'!B935=\"\",'Step 1) Select Data'!D935<>\"\"),'Step 1) Select Data'!D935,\"\")","v":""},"",{"$f":"IF(B916=\"\",\"\",'Step 1) Select Data'!E935)","v":""},"","","","","","",{"$f":"IF(J916=\"\",\"\",'Step 3) Fit Distribution'!$F$3*E916+'Step 3) Fit Distribution'!$F$4)","v":""},"","","","","",{"$f":"IF(O916=\"\",\"\",ROUND(LOG(D916)-O916,4)^2)","v":""},""]
[null,{"$f":"IF(AND('Step 1) Select Data'!B936=\"\",'Step 1) Select Data'!D936<>\"\"),'Step 1) Select Data'!D936,\"\")","v":""},"",{"$f":"IF(B917=\"\",\"\",'Step 1) Select Data'!E936)","v":""},"","","","","","",{"$f":"IF(J917=\"\",\"\",'Step 3) Fit Distribution'!$F$3*E917+'Step 3) Fit Distribution'!$F$4)","v":""},"","","","","","",""]
[null,{"$f":"IF(AND('Step 1) Select Data'!B937=\"\",'Step 1) Select Data'!D937<>\"\"),'Step 1) Select Data'!D937,\"\")","v":""},"",{"$f":"IF(B918=\"\",\"\",'Step 1) Select Data'!E937)","v":""},"","","","","","",{"$f":"IF(J918=\"\",\"\",'Step 3) Fit Distribution'!$F$3*E918+'Step 3) Fit Distribution'!$F$4)","v":""},"","","","","","",""]
[null,{"$f":"IF(AND('Step 1) Select Data'!B938=\"\",'Step 1) Select Data'!D938<>\"\"),'Step 1) Select Data'!D938,\"\")","v":""},"",{"$f":"IF(B919=\"\",\"\",'Step 1) Select Data'!E938)","v":""},"","","","","","",{"$f":"IF(J919=\"\",\"\",'Step 3) Fit Distribution'!$F$3*E919+'Step 3) Fit Distribution'!$F$4)","v":""},"","","","","","",""]
[null,{"$f":"IF(AND('Step 1) Select Data'!B939=\"\",'Step 1) Select Data'!D939<>\"\"),'Step 1) Select Data'!D939,\"\")","v":""},"",{"$f":"IF(B920=\"\",\"\",'Step 1) Select Data'!E939)","v":""},"","","","","","",{"$f":"IF(J920=\"\",\"\",'Step 3) Fit Distribution'!$F$3*E920+'Step 3) Fit Distribution'!$F$4)","v":""},"","","","","","",""]
[null,{"$f":"IF(AND('Step 1) Select Data'!B940=\"\",'Step 1) Select Data'!D940<>\"\"),'Step 1) Select Data'!D940,\"\")","v":""},"",{"$f":"IF(B921=\"\",\"\",'Step 1) Select Data'!E940)","v":""},"","","","","","",{"$f":"IF(J921=\"\",\"\",'Step 3) Fit Distribution'!$F$3*E921+'Step 3) Fit Distribution'!$F$4)","v":""},"","","","","","",""]
[null,{"$f":"IF(AND('Step 1) Select Data'!B941=\"\",'Step 1) Select Data'!D941<>\"\"),'Step 1) Select Data'!D941,\"\")","v":""},"",{"$f":"IF(B922=\"\",\"\",'Step 1) Select Data'!E941)","v":""},"","","","","","",{"$f":"IF(J922=\"\",\"\",'Step 3) Fit Distribution'!$F$3*E922+'Step 3) Fit Distribution'!$F$4)","v":""},"","","","","","",""]
[null,{"$f":"IF(AND('Step 1) Select Data'!B942=\"\",'Step 1) Select Data'!D942<>\"\"),'Step 1) Select Data'!D942,\"\")","v":""},"",{"$f":"IF(B923=\"\",\"\",'Step 1) Select Data'!E942)","v":""},"","","","","","",{"$f":"IF(J923=\"\",\"\",'Step 3) Fit Distribution'!$F$3*E923+'Step 3) Fit Distribution'!$F$4)","v":""},"","","","","","",""]
[null,{"$f":"IF(AND('Step 1) Select Data'!B943=\"\",'Step 1) Select Data'!D943<>\"\"),'Step 1) Select Data'!D943,\"\")","v":""},"",{"$f":"IF(B924=\"\",\"\",'Step 1) Select Data'!E943)","v":""},"","","","","","",{"$f":"IF(J924=\"\",\"\",'Step 3) Fit Distribution'!$F$3*E924+'Step 3) Fit Distribution'!$F$4)","v":""},"","","","","","",""]
[null,{"$f":"IF(AND('Step 1) Select Data'!B944=\"\",'Step 1) Select Data'!D944<>\"\"),'Step 1) Select Data'!D944,\"\")","v":""},"",{"$f":"IF(B925=\"\",\"\",'Step 1) Select Data'!E944)","v":""},"","","","","","",{"$f":"IF(J925=\"\",\"\",'Step 3) Fit Distribution'!$F$3*E925+'Step 3) Fit Distribution'!$F$4)","v":""},"","","","","","",""]
[null,{"$f":"IF(AND('Step 1) Select Data'!B945=\"\",'Step 1) Select Data'!D945<>\"\"),'Step 1) Select Data'!D945,\"\")","v":""},"",{"$f":"IF(B926=\"\",\"\",'Step 1) Select Data'!E945)","v":""},"","","","","","",{"$f":"IF(J926=\"\",\"\",'Step 3) Fit Distribution'!$F$3*E926+'Step 3) Fit Distribution'!$F$4)","v":""},"","","","","","",""]
[null,{"$f":"IF(AND('Step 1) Select Data'!B946=\"\",'Step 1) Select Data'!D946<>\"\"),'Step 1) Select Data'!D946,\"\")","v":""},"",{"$f":"IF(B927=\"\",\"\",'Step 1) Select Data'!E946)","v":""},"","","","","","",{"$f":"IF(J927=\"\",\"\",'Step 3) Fit Distribution'!$F$3*E927+'Step 3) Fit Distribution'!$F$4)","v":""},"","","","","","",""]
[null,{"$f":"IF(AND('Step 1) Select Data'!B947=\"\",'Step 1) Select Data'!D947<>\"\"),'Step 1) Select Data'!D947,\"\")","v":""},"",{"$f":"IF(B928=\"\",\"\",'Step 1) Select Data'!E947)","v":""},"","","","","","",{"$f":"IF(J928=\"\",\"\",'Step 3) Fit Distribution'!$F$3*E928+'Step 3) Fit Distribution'!$F$4)","v":""},"","","","","","",""]
[null,{"$f":"IF(AND('Step 1) Select Data'!B948=\"\",'Step 1) Select Data'!D948<>\"\"),'Step 1) Select Data'!D948,\"\")","v":""},"",{"$f":"IF(B929=\"\",\"\",'Step 1) Select Data'!E948)","v":""},"","","","","","",{"$f":"IF(J929=\"\",\"\",'Step 3) Fit Distribution'!$F$3*E929+'Step 3) Fit Distribution'!$F$4)","v":""},"","","","","","",""]
[null,{"$f":"IF(AND('Step 1) Select Data'!B949=\"\",'Step 1) Select Data'!D949<>\"\"),'Step 1) Select Data'!D949,\"\")","v":""},"",{"$f":"IF(B930=\"\",\"\",'Step 1) Select Data'!E949)","v":""},"","","","","","",{"$f":"IF(J930=\"\",\"\",'Step 3) Fit Distribution'!$F$3*E930+'Step 3) Fit Distribution'!$F$4)","v":""},"","","","","","",""]
[null,{"$f":"IF(AND('Step 1) Select Data'!B950=\"\",'Step 1) Select Data'!D950<>\"\"),'Step 1) Select Data'!D950,\"\")","v":""},"",{"$f":"IF(B931=\"\",\"\",'Step 1) Select Data'!E950)","v":""},"","","","","","",{"$f":"IF(J931=\"\",\"\",'Step 3) Fit Distribution'!$F$3*E931+'Step 3) Fit Distribution'!$F$4)","v":""},"","","","","","",""]
[null,{"$f":"IF(AND('Step 1) Select Data'!B951=\"\",'Step 1) Select Data'!D951<>\"\"),'Step 1) Select Data'!D951,\"\")","v":""},"",{"$f":"IF(B932=\"\",\"\",'Step 1) Select Data'!E951)","v":""},"","","","","","",{"$f":"IF(J932=\"\",\"\",'Step 3) Fit Distribution'!$F$3*E932+'Step 3) Fit Distribution'!$F$4)","v":""},"","","","","","",""]
[null,{"$f":"IF(AND('Step 1) Select Data'!B952=\"\",'Step 1) Select Data'!D952<>\"\"),'Step 1) Select Data'!D952,\"\")","v":""},"",{"$f":"IF(B933=\"\",\"\",'Step 1) Select Data'!E952)","v":""},"","","","","","",{"$f":"IF(J933=\"\",\"\",'Step 3) Fit Distribution'!$F$3*E933+'Step 3) Fit Distribution'!$F$4)","v":""},"","","","","","",""]
[null,{"$f":"IF(AND('Step 1) Select Data'!B953=\"\",'Step 1) Select Data'!D953<>\"\"),'Step 1) Select Data'!D953,\"\")","v":""},"",{"$f":"IF(B934=\"\",\"\",'Step 1) Select Data'!E953)","v":""},"","","","","","",{"$f":"IF(J934=\"\",\"\",'Step 3) Fit Distribution'!$F$3*E934+'Step 3) Fit Distribution'!$F$4)","v":""},"","","","","","",""]
[null,{"$f":"IF(AND('Step 1) Select Data'!B954=\"\",'Step 1) Select Data'!D954<>\"\"),'Step 1) Select Data'!D954,\"\")","v":""},"",{"$f":"IF(B935=\"\",\"\",'Step 1) Select Data'!E954)","v":""},"","","","","","",{"$f":"IF(J935=\"\",\"\",'Step 3) Fit Distribution'!$F$3*E935+'Step 3) Fit Distribution'!$F$4)","v":""},"","","","","","",""]
[null,{"$f":"IF(AND('Step 1) Select Data'!B955=\"\",'Step 1) Select Data'!D955<>\"\"),'Step 1) Select Data'!D955,\"\")","v":""},"",{"$f":"IF(B936=\"\",\"\",'Step 1) Select Data'!E955)","v":""},"","","","","","",{"$f":"IF(J936=\"\",\"\",'Step 3) Fit Distribution'!$F$3*E936+'Step 3) Fit Distribution'!$F$4)","v":""},"","","","","","",""]
[null,{"$f":"IF(AND('Step 1) Select Data'!B956=\"\",'Step 1) Select Data'!D956<>\"\"),'Step 1) Select Data'!D956,\"\")","v":""},"",{"$f":"IF(B937=\"\",\"\",'Step 1) Select Data'!E956)","v":""},"","","","","","",{"$f":"IF(J937=\"\",\"\",'Step 3) Fit Distribution'!$F$3*E937+'Step 3) Fit Distribution'!$F$4)","v":""},"","","","","","",""]
[null,{"$f":"IF(AND('Step 1) Select Data'!B957=\"\",'Step 1) Select Data'!D957<>\"\"),'Step 1) Select Data'!D957,\"\")","v":""},"",{"$f":"IF(B938=\"\",\"\",'Step 1) Select Data'!E957)","v":""},"","","","","","",{"$f":"IF(J938=\"\",\"\",'Step 3) Fit Distribution'!$F$3*E938+'Step 3) Fit Distribution'!$F$4)","v":""},"","","","","","",""]
[null,{"$f":"IF(AND('Step 1) Select Data'!B958=\"\",'Step 1) Select Data'!D958<>\"\"),'Step 1) Select Data'!D958,\"\")","v":""},"",{"$f":"IF(B939=\"\",\"\",'Step 1) Select Data'!E958)","v":""},"","","","","","",{"$f":"IF(J939=\"\",\"\",'Step 3) Fit Distribution'!$F$3*E939+'Step 3) Fit Distribution'!$F$4)","v":""},"","","","","","",""]
[null,{"$f":"IF(AND('Step 1) Select Data'!B959=\"\",'Step 1) Select Data'!D959<>\"\"),'Step 1) Select Data'!D959,\"\")","v":""},"",{"$f":"IF(B940=\"\",\"\",'Step 1) Select Data'!E959)","v":""},"","","","","","",{"$f":"IF(J940=\"\",\"\",'Step 3) Fit Distribution'!$F$3*E940+'Step 3) Fit Distribution'!$F$4)","v":""},"","","","","","",""]
[null,{"$f":"IF(AND('Step 1) Select Data'!B960=\"\",'Step 1) Select Data'!D960<>\"\"),'Step 1) Select Data'!D960,\"\")","v":""},"",{"$f":"IF(B941=\"\",\"\",'Step 1) Select Data'!E960)","v":""},"","","","","","",{"$f":"IF(J941=\"\",\"\",'Step 3) Fit Distribution'!$F$3*E941+'Step 3) Fit Distribution'!$F$4)","v":""},"","","","","","",""]
[null,{"$f":"IF(AND('Step 1) Select Data'!B961=\"\",'Step 1) Select Data'!D961<>\"\"),'Step 1) Select Data'!D961,\"\")","v":""},"",{"$f":"IF(B942=\"\",\"\",'Step 1) Select Data'!E961)","v":""},"","","","","","",{"$f":"IF(J942=\"\",\"\",'Step 3) Fit Distribution'!$F$3*E942+'Step 3) Fit Distribution'!$F$4)","v":""},"","","","","","",""]
[null,{"$f":"IF(AND('Step 1) Select Data'!B962=\"\",'Step 1) Select Data'!D962<>\"\"),'Step 1) Select Data'!D962,\"\")","v":""},"",{"$f":"IF(B943=\"\",\"\",'Step 1) Select Data'!E962)","v":""},"","","","","","",{"$f":"IF(J943=\"\",\"\",'Step 3) Fit Distribution'!$F$3*E943+'Step 3) Fit Distribution'!$F$4)","v":""},"","","","","","",""]
[null,{"$f":"IF(AND('Step 1) Select Data'!B963=\"\",'Step 1) Select Data'!D963<>\"\"),'Step 1) Select Data'!D963,\"\")","v":""},"",{"$f":"IF(B944=\"\",\"\",'Step 1) Select Data'!E963)","v":""},"","","","","","",{"$f":"IF(J944=\"\",\"\",'Step 3) Fit Distribution'!$F$3*E944+'Step 3) Fit Distribution'!$F$4)","v":""},"","","","","","",""]
[null,{"$f":"IF(AND('Step 1) Select Data'!B964=\"\",'Step 1) Select Data'!D964<>\"\"),'Step 1) Select Data'!D964,\"\")","v":""},"",{"$f":"IF(B945=\"\",\"\",'Step 1) Select Data'!E964)","v":""},"","","","","","",{"$f":"IF(J945=\"\",\"\",'Step 3) Fit Distribution'!$F$3*E945+'Step 3) Fit Distribution'!$F$4)","v":""},"","","","","","",""]
[null,{"$f":"IF(AND('Step 1) Select Data'!B965=\"\",'Step 1) Select Data'!D965<>\"\"),'Step 1) Select Data'!D965,\"\")","v":""},"",{"$f":"IF(B946=\"\",\"\",'Step 1) Select Data'!E965)","v":""},"","","","","","",{"$f":"IF(J946=\"\",\"\",'Step 3) Fit Distribution'!$F$3*E946+'Step 3) Fit Distribution'!$F$4)","v":""},"","","","","","",""]
[null,{"$f":"IF(AND('Step 1) Select Data'!B966=\"\",'Step 1) Select Data'!D966<>\"\"),'Step 1) Select Data'!D966,\"\")","v":""},"",{"$f":"IF(B947=\"\",\"\",'Step 1) Select Data'!E966)","v":""},"","","","","","",{"$f":"IF(J947=\"\",\"\",'Step 3) Fit Distribution'!$F$3*E947+'Step 3) Fit Distribution'!$F$4)","v":""},"","","","","","",""]
[null,{"$f":"IF(AND('Step 1) Select Data'!B967=\"\",'Step 1) Select Data'!D967<>\"\"),'Step 1) Select Data'!D967,\"\")","v":""},"",{"$f":"IF(B948=\"\",\"\",'Step 1) Select Data'!E967)","v":""},"","","","","","",{"$f":"IF(J948=\"\",\"\",'Step 3) Fit Distribution'!$F$3*E948+'Step 3) Fit Distribution'!$F$4)","v":""},"","","","","","",""]
[null,{"$f":"IF(AND('Step 1) Select Data'!B968=\"\",'Step 1) Select Data'!D968<>\"\"),'Step 1) Select Data'!D968,\"\")","v":""},"",{"$f":"IF(B949=\"\",\"\",'Step 1) Select Data'!E968)","v":""},"","","","","","",{"$f":"IF(J949=\"\",\"\",'Step 3) Fit Distribution'!$F$3*E949+'Step 3) Fit Distribution'!$F$4)","v":""},"","","","","","",""]
[null,{"$f":"IF(AND('Step 1) Select Data'!B969=\"\",'Step 1) Select Data'!D969<>\"\"),'Step 1) Select Data'!D969,\"\")","v":""},"",{"$f":"IF(B950=\"\",\"\",'Step 1) Select Data'!E969)","v":""},"","","","","","",{"$f":"IF(J950=\"\",\"\",'Step 3) Fit Distribution'!$F$3*E950+'Step 3) Fit Distribution'!$F$4)","v":""},"","","","","","",""]
[null,{"$f":"IF(AND('Step 1) Select Data'!B970=\"\",'Step 1) Select Data'!D970<>\"\"),'Step 1) Select Data'!D970,\"\")","v":""},"",{"$f":"IF(B951=\"\",\"\",'Step 1) Select Data'!E970)","v":""},"","","","","","",{"$f":"IF(J951=\"\",\"\",'Step 3) Fit Distribution'!$F$3*E951+'Step 3) Fit Distribution'!$F$4)","v":""},"","","","","","",""]
[null,{"$f":"IF(AND('Step 1) Select Data'!B971=\"\",'Step 1) Select Data'!D971<>\"\"),'Step 1) Select Data'!D971,\"\")","v":""},"",{"$f":"IF(B952=\"\",\"\",'Step 1) Select Data'!E971)","v":""},"","","","","","",{"$f":"IF(J952=\"\",\"\",'Step 3) Fit Distribution'!$F$3*E952+'Step 3) Fit Distribution'!$F$4)","v":""},"","","","","","",""]
[null,{"$f":"IF(AND('Step 1) Select Data'!B972=\"\",'Step 1) Select Data'!D972<>\"\"),'Step 1) Select Data'!D972,\"\")","v":""},"",{"$f":"IF(B953=\"\",\"\",'Step 1) Select Data'!E972)","v":""},"","","","","","",{"$f":"IF(J953=\"\",\"\",'Step 3) Fit Distribution'!$F$3*E953+'Step 3) Fit Distribution'!$F$4)","v":""},"","","","","","",""]
[null,{"$f":"IF(AND('Step 1) Select Data'!B973=\"\",'Step 1) Select Data'!D973<>\"\"),'Step 1) Select Data'!D973,\"\")","v":""},"",{"$f":"IF(B954=\"\",\"\",'Step 1) Select Data'!E973)","v":""},"","","","","","",{"$f":"IF(J954=\"\",\"\",'Step 3) Fit Distribution'!$F$3*E954+'Step 3) Fit Distribution'!$F$4)","v":""},"","","","","","",""]
[null,{"$f":"IF(AND('Step 1) Select Data'!B974=\"\",'Step 1) Select Data'!D974<>\"\"),'Step 1) Select Data'!D974,\"\")","v":""},"",{"$f":"IF(B955=\"\",\"\",'Step 1) Select Data'!E974)","v":""},"","","","","","",{"$f":"IF(J955=\"\",\"\",'Step 3) Fit Distribution'!$F$3*E955+'Step 3) Fit Distribution'!$F$4)","v":""},"","","","","","",""]
[null,{"$f":"IF(AND('Step 1) Select Data'!B975=\"\",'Step 1) Select Data'!D975<>\"\"),'Step 1) Select Data'!D975,\"\")","v":""},"",{"$f":"IF(B956=\"\",\"\",'Step 1) Select Data'!E975)","v":""},"","","","","","",{"$f":"IF(J956=\"\",\"\",'Step 3) Fit Distribution'!$F$3*E956+'Step 3) Fit Distribution'!$F$4)","v":""},"","","","","","",""]
[null,{"$f":"IF(AND('Step 1) Select Data'!B976=\"\",'Step 1) Select Data'!D976<>\"\"),'Step 1) Select Data'!D976,\"\")","v":""},"",{"$f":"IF(B957=\"\",\"\",'Step 1) Select Data'!E976)","v":""},"","","","","","",{"$f":"IF(J957=\"\",\"\",'Step 3) Fit Distribution'!$F$3*E957+'Step 3) Fit Distribution'!$F$4)","v":""},"","","","","","",""]
[null,{"$f":"IF(AND('Step 1) Select Data'!B977=\"\",'Step 1) Select Data'!D977<>\"\"),'Step 1) Select Data'!D977,\"\")","v":""},"",{"$f":"IF(B958=\"\",\"\",'Step 1) Select Data'!E977)","v":""},"","","","","","",{"$f":"IF(J958=\"\",\"\",'Step 3) Fit Distribution'!$F$3*E958+'Step 3) Fit Distribution'!$F$4)","v":""},"","","","","","",""]
[null,{"$f":"IF(AND('Step 1) Select Data'!B978=\"\",'Step 1) Select Data'!D978<>\"\"),'Step 1) Select Data'!D978,\"\")","v":""},"",{"$f":"IF(B959=\"\",\"\",'Step 1) Select Data'!E978)","v":""},"","","","","","",{"$f":"IF(J959=\"\",\"\",'Step 3) Fit Distribution'!$F$3*E959+'Step 3) Fit Distribution'!$F$4)","v":""},"","","","","","",""]
[null,{"$f":"IF(AND('Step 1) Select Data'!B979=\"\",'Step 1) Select Data'!D979<>\"\"),'Step 1) Select Data'!D979,\"\")","v":""},"",{"$f":"IF(B960=\"\",\"\",'Step 1) Select Data'!E979)","v":""},"","","","","","",{"$f":"IF(J960=\"\",\"\",'Step 3) Fit Distribution'!$F$3*E960+'Step 3) Fit Distribution'!$F$4)","v":""},"","","","","","",""]
[null,{"$f":"IF(AND('Step 1) Select Data'!B980=\"\",'Step 1) Select Data'!D980<>\"\"),'Step 1) Select Data'!D980,\"\")","v":""},"",{"$f":"IF(B961=\"\",\"\",'Step 1) Select Data'!E980)","v":""},"","","","","","",{"$f":"IF(J961=\"\",\"\",'Step 3) Fit Distribution'!$F$3*E961+'Step 3) Fit Distribution'!$F$4)","v":""},"","","","","","",""]
[null,{"$f":"IF(AND('Step 1) Select Data'!B981=\"\",'Step 1) Select Data'!D981<>\"\"),'Step 1) Select Data'!D981,\"\")","v":""},"",{"$f":"IF(B962=\"\",\"\",'Step 1) Select Data'!E981)","v":""},"","","","","","",{"$f":"IF(J962=\"\",\"\",'Step 3) Fit Distribution'!$F$3*E962+'Step 3) Fit Distribution'!$F$4)","v":""},"","","","","","",""]
[null,{"$f":"IF(AND('Step 1) Select Data'!B982=\"\",'Step 1) Select Data'!D982<>\"\"),'Step 1) Select Data'!D982,\"\")","v":""},"",{"$f":"IF(B963=\"\",\"\",'Step 1) Select Data'!E982)","v":""},"","","","","","",{"$f":"IF(J963=\"\",\"\",'Step 3) Fit Distribution'!$F$3*E963+'Step 3) Fit Distribution'!$F$4)","v":""},"","","","","","",""]
[null,{"$f":"IF(AND('Step 1) Select Data'!B983=\"\",'Step 1) Select Data'!D983<>\"\"),'Step 1) Select Data'!D983,\"\")","v":""},"",{"$f":"IF(B964=\"\",\"\",'Step 1) Select Data'!E983)","v":""},"","","","","","",{"$f":"IF(J964=\"\",\"\",'Step 3) Fit Distribution'!$F$3*E964+'Step 3) Fit Distribution'!$F$4)","v":""},"","","","","","",""]
[null,{"$f":"IF(AND('Step 1) Select Data'!B984=\"\",'Step 1) Select Data'!D984<>\"\"),'Step 1) Select Data'!D984,\"\")","v":""},"",{"$f":"IF(B965=\"\",\"\",'Step 1) Select Data'!E984)","v":""},"","","","","","",{"$f":"IF(J965=\"\",\"\",'Step 3) Fit Distribution'!$F$3*E965+'Step 3) Fit Distribution'!$F$4)","v":""},"","","","","","",""]
[null,{"$f":"IF(AND('Step 1) Select Data'!B985=\"\",'Step 1) Select Data'!D985<>\"\"),'Step 1) Select Data'!D985,\"\")","v":""},"",{"$f":"IF(B966=\"\",\"\",'Step 1) Select Data'!E985)","v":""},"","","","","","",{"$f":"IF(J966=\"\",\"\",'Step 3) Fit Distribution'!$F$3*E966+'Step 3) Fit Distribution'!$F$4)","v":""},"","","","","","",""]
[null,{"$f":"IF(AND('Step 1) Select Data'!B986=\"\",'Step 1) Select Data'!D986<>\"\"),'Step 1) Select Data'!D986,\"\")","v":""},{"$f":"IF(B967=\"\",\"\",IF(OR(M967>=M968,M968=\"\"),M967,\"\"))","v":""},{"$f":"IF(B967=\"\",\"\",'Step 1) Select Data'!E986)","v":""},{"$f":"IF(C967=\"\",\"\",LOG10(N967)*(1/C967))","v":""},{"$f":"IF(OR(M967=\"\",C967=1),\"\",IF(C967=\"\",\"\",SQRT(R967/(C967-1))))","v":""},{"$f":"IF(E967=\"\",\"\",10^E967)","v":""},{"$f":"IF(I967=\"\",\"\",(I967-0.5)/COUNT($E$6:$E$2004))","v":""},{"$f":"IF(E967=\"\",\"\",RANK(E967,$E$6:$E$2004,1))","v":""},{"$f":"IF(H967=\"\",\"\",NORMINV(H967,5,1))","v":""},{"$f":"IF(J967=\"\",\"\",'Step 3) Fit Distribution'!$F$3*E967+'Step 3) Fit Distribution'!$F$4)","v":""},{"$f":"IF(K967=\"\",\"\",(K967-J967)^2)","v":""},{"$f":"IF(B967=\"\",\"\",IF(B967<>B966,1,M966+1))","v":""},{"$f":"IF(B967=\"\",\"\",IF(B967<>B966,ROUND(D967,4),ROUND(D967,4)*N966))","v":""},{"$f":"IF(OR(M967=\"\",C967=1),\"\",IF(AND(M967<>\"\",C967=\"\",E967=\"\"),O968,E967))","v":""},{"$f":"IF(OR(M967=\"\",C967=1),\"\",IF(AND(M967<>\"\",C967=\"\",E967=\"\"),P968,C967))","v":""},"",{"$f":"IF(Q967=\"\",\"\",IF(O967=O966,Q967+R966,Q967))","v":""}]
[null,{"$f":"IF(AND('Step 1) Select Data'!B987=\"\",'Step 1) Select Data'!D987<>\"\"),'Step 1) Select Data'!D987,\"\")","v":""},"",{"$f":"IF(B968=\"\",\"\",'Step 1) Select Data'!E987)","v":""},"","","","","","",{"$f":"IF(J968=\"\",\"\",'Step 3) Fit Distribution'!$F$3*E968+'Step 3) Fit Distribution'!$F$4)","v":""},"","","","","","",""]
[null,{"$f":"IF(AND('Step 1) Select Data'!B988=\"\",'Step 1) Select Data'!D988<>\"\"),'Step 1) Select Data'!D988,\"\")","v":""},"",{"$f":"IF(B969=\"\",\"\",'Step 1) Select Data'!E988)","v":""},"","","","","","",{"$f":"IF(J969=\"\",\"\",'Step 3) Fit Distribution'!$F$3*E969+'Step 3) Fit Distribution'!$F$4)","v":""},"","","","","","",""]
[null,{"$f":"IF(AND('Step 1) Select Data'!B989=\"\",'Step 1) Select Data'!D989<>\"\"),'Step 1) Select Data'!D989,\"\")","v":""},"",{"$f":"IF(B970=\"\",\"\",'Step 1) Select Data'!E989)","v":""},"","","","","","",{"$f":"IF(J970=\"\",\"\",'Step 3) Fit Distribution'!$F$3*E970+'Step 3) Fit Distribution'!$F$4)","v":""},"","","","","","",""]
[null,{"$f":"IF(AND('Step 1) Select Data'!B990=\"\",'Step 1) Select Data'!D990<>\"\"),'Step 1) Select Data'!D990,\"\")","v":""},"",{"$f":"IF(B971=\"\",\"\",'Step 1) Select Data'!E990)","v":""},"","","","","","",{"$f":"IF(J971=\"\",\"\",'Step 3) Fit Distribution'!$F$3*E971+'Step 3) Fit Distribution'!$F$4)","v":""},"","","","","","",""]
[null,{"$f":"IF(AND('Step 1) Select Data'!B991=\"\",'Step 1) Select Data'!D991<>\"\"),'Step 1) Select Data'!D991,\"\")","v":""},"",{"$f":"IF(B972=\"\",\"\",'Step 1) Select Data'!E991)","v":""},"","","","","","",{"$f":"IF(J972=\"\",\"\",'Step 3) Fit Distribution'!$F$3*E972+'Step 3) Fit Distribution'!$F$4)","v":""},"","","","","","",""]
[null,{"$f":"IF(AND('Step 1) Select Data'!B992=\"\",'Step 1) Select Data'!D992<>\"\"),'Step 1) Select Data'!D992,\"\")","v":""},"",{"$f":"IF(B973=\"\",\"\",'Step 1) Select Data'!E992)","v":""},"","","","","","",{"$f":"IF(J973=\"\",\"\",'Step 3) Fit Distribution'!$F$3*E973+'Step 3) Fit Distribution'!$F$4)","v":""},"","","","","","",""]
[null,{"$f":"IF(AND('Step 1) Select Data'!B993=\"\",'Step 1) Select Data'!D993<>\"\"),'Step 1) Select Data'!D993,\"\")","v":""},"",{"$f":"IF(B974=\"\",\"\",'Step 1) Select Data'!E993)","v":""},"","","","","","",{"$f":"IF(J974=\"\",\"\",'Step 3) Fit Distribution'!$F$3*E974+'Step 3) Fit Distribution'!$F$4)","v":""},"","","","","","",""]
[null,{"$f":"IF(AND('Step 1) Select Data'!B994=\"\",'Step 1) Select Data'!D994<>\"\"),'Step 1) Select Data'!D994,\"\")","v":""},"",{"$f":"IF(B975=\"\",\"\",'Step 1) Select Data'!E994)","v":""},"","","","","","",{"$f":"IF(J975=\"\",\"\",'Step 3) Fit Distribution'!$F$3*E975+'Step 3) Fit Distribution'!$F$4)","v":""},"","","","","","",""]
[null,{"$f":"IF(AND('Step 1) Select Data'!B995=\"\",'Step 1) Select Data'!D995<>\"\"),'Step 1) Select Data'!D995,\"\")","v":""},"",{"$f":"IF(B976=\"\",\"\",'Step 1) Select Data'!E995)","v":""},"","","","","","",{"$f":"IF(J976=\"\",\"\",'Step 3) Fit Distribution'!$F$3*E976+'Step 3) Fit Distribution'!$F$4)","v":""},"","","","","","",""]
[null,{"$f":"IF(AND('Step 1) Select Data'!B996=\"\",'Step 1) Select Data'!D996<>\"\"),'Step 1) Select Data'!D996,\"\")","v":""},"",{"$f":"IF(B977=\"\",\"\",'Step 1) Select Data'!E996)","v":""},"","","","","","",{"$f":"IF(J977=\"\",\"\",'Step 3) Fit Distribution'!$F$3*E977+'Step 3) Fit Distribution'!$F$4)","v":""},"","","","","","",""]
[null,{"$f":"IF(AND('Step 1) Select Data'!B997=\"\",'Step 1) Select Data'!D997<>\"\"),'Step 1) Select Data'!D997,\"\")","v":""},"",{"$f":"IF(B978=\"\",\"\",'Step 1) Select Data'!E997)","v":""},"","","","","","",{"$f":"IF(J978=\"\",\"\",'Step 3) Fit Distribution'!$F$3*E978+'Step 3) Fit Distribution'!$F$4)","v":""},"","","","","","",""]
[null,{"$f":"IF(AND('Step 1) Select Data'!B998=\"\",'Step 1) Select Data'!D998<>\"\"),'Step 1) Select Data'!D998,\"\")","v":""},"",{"$f":"IF(B979=\"\",\"\",'Step 1) Select Data'!E998)","v":""},"","","","","","",{"$f":"IF(J979=\"\",\"\",'Step 3) Fit Distribution'!$F$3*E979+'Step 3) Fit Distribution'!$F$4)","v":""},"","","","","","",""]
[null,{"$f":"IF(AND('Step 1) Select Data'!B999=\"\",'Step 1) Select Data'!D999<>\"\"),'Step 1) Select Data'!D999,\"\")","v":""},"",{"$f":"IF(B980=\"\",\"\",'Step 1) Select Data'!E999)","v":""},"","","","","","",{"$f":"IF(J980=\"\",\"\",'Step 3) Fit Distribution'!$F$3*E980+'Step 3) Fit Distribution'!$F$4)","v":""},"","","","","",{"$f":"IF(O980=\"\",\"\",ROUND(LOG(D980)-O980,4)^2)","v":""},""]
[null,{"$f":"IF(AND('Step 1) Select Data'!B1000=\"\",'Step 1) Select Data'!D1000<>\"\"),'Step 1) Select Data'!D1000,\"\")","v":""},"",{"$f":"IF(B981=\"\",\"\",'Step 1) Select Data'!E1000)","v":""},"","","","","","",{"$f":"IF(J981=\"\",\"\",'Step 3) Fit Distribution'!$F$3*E981+'Step 3) Fit Distribution'!$F$4)","v":""},"","","","","","",""]
[null,{"$f":"IF(AND('Step 1) Select Data'!B1001=\"\",'Step 1) Select Data'!D1001<>\"\"),'Step 1) Select Data'!D1001,\"\")","v":""},"",{"$f":"IF(B982=\"\",\"\",'Step 1) Select Data'!E1001)","v":""},"","","","","","",{"$f":"IF(J982=\"\",\"\",'Step 3) Fit Distribution'!$F$3*E982+'Step 3) Fit Distribution'!$F$4)","v":""},"","","","","","",""]
[null,{"$f":"IF(AND('Step 1) Select Data'!B1002=\"\",'Step 1) Select Data'!D1002<>\"\"),'Step 1) Select Data'!D1002,\"\")","v":""},"",{"$f":"IF(B983=\"\",\"\",'Step 1) Select Data'!E1002)","v":""},"","","","","","",{"$f":"IF(J983=\"\",\"\",'Step 3) Fit Distribution'!$F$3*E983+'Step 3) Fit Distribution'!$F$4)","v":""},"","","","","","",""]
[null,{"$f":"IF(AND('Step 1) Select Data'!B1003=\"\",'Step 1) Select Data'!D1003<>\"\"),'Step 1) Select Data'!D1003,\"\")","v":""},"",{"$f":"IF(B984=\"\",\"\",'Step 1) Select Data'!E1003)","v":""},"","","","","","",{"$f":"IF(J984=\"\",\"\",'Step 3) Fit Distribution'!$F$3*E984+'Step 3) Fit Distribution'!$F$4)","v":""},"","","","","","",""]
[null,{"$f":"IF(AND('Step 1) Select Data'!B1004=\"\",'Step 1) Select Data'!D1004<>\"\"),'Step 1) Select Data'!D1004,\"\")","v":""},"",{"$f":"IF(B985=\"\",\"\",'Step 1) Select Data'!E1004)","v":""},"","","","","","",{"$f":"IF(J985=\"\",\"\",'Step 3) Fit Distribution'!$F$3*E985+'Step 3) Fit Distribution'!$F$4)","v":""},"","","","","","",""]
[null,{"$f":"IF(AND('Step 1) Select Data'!B1005=\"\",'Step 1) Select Data'!D1005<>\"\"),'Step 1) Select Data'!D1005,\"\")","v":""},"",{"$f":"IF(B986=\"\",\"\",'Step 1) Select Data'!E1005)","v":""},"","","","","","",{"$f":"IF(J986=\"\",\"\",'Step 3) Fit Distribution'!$F$3*E986+'Step 3) Fit Distribution'!$F$4)","v":""},"","","","","","",""]
[null,{"$f":"IF(AND('Step 1) Select Data'!B1006=\"\",'Step 1) Select Data'!D1006<>\"\"),'Step 1) Select Data'!D1006,\"\")","v":""},"",{"$f":"IF(B987=\"\",\"\",'Step 1) Select Data'!E1006)","v":""},"","","","","","",{"$f":"IF(J987=\"\",\"\",'Step 3) Fit Distribution'!$F$3*E987+'Step 3) Fit Distribution'!$F$4)","v":""},"","","","","","",""]
[null,{"$f":"IF(AND('Step 1) Select Data'!B1007=\"\",'Step 1) Select Data'!D1007<>\"\"),'Step 1) Select Data'!D1007,\"\")","v":""},"",{"$f":"IF(B988=\"\",\"\",'Step 1) Select Data'!E1007)","v":""},"","","","","","",{"$f":"IF(J988=\"\",\"\",'Step 3) Fit Distribution'!$F$3*E988+'Step 3) Fit Distribution'!$F$4)","v":""},"","","","","","",""]
[null,{"$f":"IF(AND('Step 1) Select Data'!B1008=\"\",'Step 1) Select Data'!D1008<>\"\"),'Step 1) Select Data'!D1008,\"\")","v":""},"",{"$f":"IF(B989=\"\",\"\",'Step 1) Select Data'!E1008)","v":""},"","","","","","",{"$f":"IF(J989=\"\",\"\",'Step 3) Fit Distribution'!$F$3*E989+'Step 3) Fit Distribution'!$F$4)","v":""},"","","","","","",""]
[null,{"$f":"IF(AND('Step 1) Select Data'!B1009=\"\",'Step 1) Select Data'!D1009<>\"\"),'Step 1) Select Data'!D1009,\"\")","v":""},"",{"$f":"IF(B990=\"\",\"\",'Step 1) Select Data'!E1009)","v":""},"","","","","","",{"$f":"IF(J990=\"\",\"\",'Step 3) Fit Distribution'!$F$3*E990+'Step 3) Fit Distribution'!$F$4)","v":""},"","","","","","",""]
[null,{"$f":"IF(AND('Step 1) Select Data'!B1010=\"\",'Step 1) Select Data'!D1010<>\"\"),'Step 1) Select Data'!D1010,\"\")","v":""},"",{"$f":"IF(B991=\"\",\"\",'Step 1) Select Data'!E1010)","v":""},"","","","","","",{"$f":"IF(J991=\"\",\"\",'Step 3) Fit Distribution'!$F$3*E991+'Step 3) Fit Distribution'!$F$4)","v":""},"","","","","","",""]
[null,{"$f":"IF(AND('Step 1) Select Data'!B1011=\"\",'Step 1) Select Data'!D1011<>\"\"),'Step 1) Select Data'!D1011,\"\")","v":""},"",{"$f":"IF(B992=\"\",\"\",'Step 1) Select Data'!E1011)","v":""},"","","","","","",{"$f":"IF(J992=\"\",\"\",'Step 3) Fit Distribution'!$F$3*E992+'Step 3) Fit Distribution'!$F$4)","v":""},"","","","","","",""]
[null,{"$f":"IF(AND('Step 1) Select Data'!B1012=\"\",'Step 1) Select Data'!D1012<>\"\"),'Step 1) Select Data'!D1012,\"\")","v":""},"",{"$f":"IF(B993=\"\",\"\",'Step 1) Select Data'!E1012)","v":""},"","","","","","",{"$f":"IF(J993=\"\",\"\",'Step 3) Fit Distribution'!$F$3*E993+'Step 3) Fit Distribution'!$F$4)","v":""},"","","","","","",""]
[null,{"$f":"IF(AND('Step 1) Select Data'!B1013=\"\",'Step 1) Select Data'!D1013<>\"\"),'Step 1) Select Data'!D1013,\"\")","v":""},"",{"$f":"IF(B994=\"\",\"\",'Step 1) Select Data'!E1013)","v":""},"","","","","","",{"$f":"IF(J994=\"\",\"\",'Step 3) Fit Distribution'!$F$3*E994+'Step 3) Fit Distribution'!$F$4)","v":""},"","","","","","",""]
[null,{"$f":"IF(AND('Step 1) Select Data'!B1014=\"\",'Step 1) Select Data'!D1014<>\"\"),'Step 1) Select Data'!D1014,\"\")","v":""},"",{"$f":"IF(B995=\"\",\"\",'Step 1) Select Data'!E1014)","v":""},"","","","","","",{"$f":"IF(J995=\"\",\"\",'Step 3) Fit Distribution'!$F$3*E995+'Step 3) Fit Distribution'!$F$4)","v":""},"","","","","","",""]
[null,{"$f":"IF(AND('Step 1) Select Data'!B1015=\"\",'Step 1) Select Data'!D1015<>\"\"),'Step 1) Select Data'!D1015,\"\")","v":""},"",{"$f":"IF(B996=\"\",\"\",'Step 1) Select Data'!E1015)","v":""},"","","","","","",{"$f":"IF(J996=\"\",\"\",'Step 3) Fit Distribution'!$F$3*E996+'Step 3) Fit Distribution'!$F$4)","v":""},"","","","","","",""]
[null,{"$f":"IF(AND('Step 1) Select Data'!B1016=\"\",'Step 1) Select Data'!D1016<>\"\"),'Step 1) Select Data'!D1016,\"\")","v":""},"",{"$f":"IF(B997=\"\",\"\",'Step 1) Select Data'!E1016)","v":""},"","","","","","",{"$f":"IF(J997=\"\",\"\",'Step 3) Fit Distribution'!$F$3*E997+'Step 3) Fit Distribution'!$F$4)","v":""},"","","","","","",""]
[null,{"$f":"IF(AND('Step 1) Select Data'!B1017=\"\",'Step 1) Select Data'!D1017<>\"\"),'Step 1) Select Data'!D1017,\"\")","v":""},"",{"$f":"IF(B998=\"\",\"\",'Step 1) Select Data'!E1017)","v":""},"","","","","","",{"$f":"IF(J998=\"\",\"\",'Step 3) Fit Distribution'!$F$3*E998+'Step 3) Fit Distribution'!$F$4)","v":""},"","","","","","",""]
[null,{"$f":"IF(AND('Step 1) Select Data'!B1018=\"\",'Step 1) Select Data'!D1018<>\"\"),'Step 1) Select Data'!D1018,\"\")","v":""},"",{"$f":"IF(B999=\"\",\"\",'Step 1) Select Data'!E1018)","v":""},"","","","","","",{"$f":"IF(J999=\"\",\"\",'Step 3) Fit Distribution'!$F$3*E999+'Step 3) Fit Distribution'!$F$4)","v":""},"","","","","","",""]
[null,{"$f":"IF(AND('Step 1) Select Data'!B1019=\"\",'Step 1) Select Data'!D1019<>\"\"),'Step 1) Select Data'!D1019,\"\")","v":""},"",{"$f":"IF(B1000=\"\",\"\",'Step 1) Select Data'!E1019)","v":""},"","","","","","",{"$f":"IF(J1000=\"\",\"\",'Step 3) Fit Distribution'!$F$3*E1000+'Step 3) Fit Distribution'!$F$4)","v":""},"","","","","","",""]
[null,{"$f":"IF(AND('Step 1) Select Data'!B1020=\"\",'Step 1) Select Data'!D1020<>\"\"),'Step 1) Select Data'!D1020,\"\")","v":""},"",{"$f":"IF(B1001=\"\",\"\",'Step 1) Select Data'!E1020)","v":""},"","","","","","",{"$f":"IF(J1001=\"\",\"\",'Step 3) Fit Distribution'!$F$3*E1001+'Step 3) Fit Distribution'!$F$4)","v":""},"","","","","","",""]
[null,{"$f":"IF(AND('Step 1) Select Data'!B1021=\"\",'Step 1) Select Data'!D1021<>\"\"),'Step 1) Select Data'!D1021,\"\")","v":""},"",{"$f":"IF(B1002=\"\",\"\",'Step 1) Select Data'!E1021)","v":""},"","","","","","",{"$f":"IF(J1002=\"\",\"\",'Step 3) Fit Distribution'!$F$3*E1002+'Step 3) Fit Distribution'!$F$4)","v":""},"","","","","","",""]
[null,{"$f":"IF(AND('Step 1) Select Data'!B1022=\"\",'Step 1) Select Data'!D1022<>\"\"),'Step 1) Select Data'!D1022,\"\")","v":""},"",{"$f":"IF(B1003=\"\",\"\",'Step 1) Select Data'!E1022)","v":""},"","","","","","",{"$f":"IF(J1003=\"\",\"\",'Step 3) Fit Distribution'!$F$3*E1003+'Step 3) Fit Distribution'!$F$4)","v":""},"","","","","","",""]
[null,{"$f":"IF(AND('Step 1) Select Data'!B1023=\"\",'Step 1) Select Data'!D1023<>\"\"),'Step 1) Select Data'!D1023,\"\")","v":""},"",{"$f":"IF(B1004=\"\",\"\",'Step 1) Select Data'!E1023)","v":""},"","","","","","",{"$f":"IF(J1004=\"\",\"\",'Step 3) Fit Distribution'!$F$3*E1004+'Step 3) Fit Distribution'!$F$4)","v":""},"","","","","","",""]
[null,{"$f":"IF(AND('Step 1) Select Data'!B1024=\"\",'Step 1) Select Data'!D1024<>\"\"),'Step 1) Select Data'!D1024,\"\")","v":""},"",{"$f":"IF(B1005=\"\",\"\",'Step 1) Select Data'!E1024)","v":""},"","","","","","",{"$f":"IF(J1005=\"\",\"\",'Step 3) Fit Distribution'!$F$3*E1005+'Step 3) Fit Distribution'!$F$4)","v":""},"","","","","","",""]
[null,{"$f":"IF(AND('Step 1) Select Data'!B1025=\"\",'Step 1) Select Data'!D1025<>\"\"),'Step 1) Select Data'!D1025,\"\")","v":""},"",{"$f":"IF(B1006=\"\",\"\",'Step 1) Select Data'!E1025)","v":""},"","","","","","",{"$f":"IF(J1006=\"\",\"\",'Step 3) Fit Distribution'!$F$3*E1006+'Step 3) Fit Distribution'!$F$4)","v":""},"","","","","","",""]
[null,{"$f":"IF(AND('Step 1) Select Data'!B1026=\"\",'Step 1) Select Data'!D1026<>\"\"),'Step 1) Select Data'!D1026,\"\")","v":""},"",{"$f":"IF(B1007=\"\",\"\",'Step 1) Select Data'!E1026)","v":""},"","","","","","",{"$f":"IF(J1007=\"\",\"\",'Step 3) Fit Distribution'!$F$3*E1007+'Step 3) Fit Distribution'!$F$4)","v":""},"","","","","","",""]
[null,{"$f":"IF(AND('Step 1) Select Data'!B1027=\"\",'Step 1) Select Data'!D1027<>\"\"),'Step 1) Select Data'!D1027,\"\")","v":""},"",{"$f":"IF(B1008=\"\",\"\",'Step 1) Select Data'!E1027)","v":""},"","","","","","",{"$f":"IF(J1008=\"\",\"\",'Step 3) Fit Distribution'!$F$3*E1008+'Step 3) Fit Distribution'!$F$4)","v":""},"","","","","","",""]
[null,{"$f":"IF(AND('Step 1) Select Data'!B1028=\"\",'Step 1) Select Data'!D1028<>\"\"),'Step 1) Select Data'!D1028,\"\")","v":""},"",{"$f":"IF(B1009=\"\",\"\",'Step 1) Select Data'!E1028)","v":""},"","","","","","",{"$f":"IF(J1009=\"\",\"\",'Step 3) Fit Distribution'!$F$3*E1009+'Step 3) Fit Distribution'!$F$4)","v":""},"","","","","","",""]
[null,{"$f":"IF(AND('Step 1) Select Data'!B1029=\"\",'Step 1) Select Data'!D1029<>\"\"),'Step 1) Select Data'!D1029,\"\")","v":""},"",{"$f":"IF(B1010=\"\",\"\",'Step 1) Select Data'!E1029)","v":""},"","","","","","",{"$f":"IF(J1010=\"\",\"\",'Step 3) Fit Distribution'!$F$3*E1010+'Step 3) Fit Distribution'!$F$4)","v":""},"","","","","","",""]
[null,{"$f":"IF(AND('Step 1) Select Data'!B1030=\"\",'Step 1) Select Data'!D1030<>\"\"),'Step 1) Select Data'!D1030,\"\")","v":""},"",{"$f":"IF(B1011=\"\",\"\",'Step 1) Select Data'!E1030)","v":""},"","","","","","",{"$f":"IF(J1011=\"\",\"\",'Step 3) Fit Distribution'!$F$3*E1011+'Step 3) Fit Distribution'!$F$4)","v":""},"","","","","","",""]
[null,{"$f":"IF(AND('Step 1) Select Data'!B1031=\"\",'Step 1) Select Data'!D1031<>\"\"),'Step 1) Select Data'!D1031,\"\")","v":""},"",{"$f":"IF(B1012=\"\",\"\",'Step 1) Select Data'!E1031)","v":""},"","","","","","",{"$f":"IF(J1012=\"\",\"\",'Step 3) Fit Distribution'!$F$3*E1012+'Step 3) Fit Distribution'!$F$4)","v":""},"","","","","","",""]
[null,{"$f":"IF(AND('Step 1) Select Data'!B1032=\"\",'Step 1) Select Data'!D1032<>\"\"),'Step 1) Select Data'!D1032,\"\")","v":""},"",{"$f":"IF(B1013=\"\",\"\",'Step 1) Select Data'!E1032)","v":""},"","","","","","",{"$f":"IF(J1013=\"\",\"\",'Step 3) Fit Distribution'!$F$3*E1013+'Step 3) Fit Distribution'!$F$4)","v":""},"","","","","","",""]
[null,{"$f":"IF(AND('Step 1) Select Data'!B1033=\"\",'Step 1) Select Data'!D1033<>\"\"),'Step 1) Select Data'!D1033,\"\")","v":""},"",{"$f":"IF(B1014=\"\",\"\",'Step 1) Select Data'!E1033)","v":""},"","","","","","",{"$f":"IF(J1014=\"\",\"\",'Step 3) Fit Distribution'!$F$3*E1014+'Step 3) Fit Distribution'!$F$4)","v":""},"","","","","","",""]
[null,{"$f":"IF(AND('Step 1) Select Data'!B1034=\"\",'Step 1) Select Data'!D1034<>\"\"),'Step 1) Select Data'!D1034,\"\")","v":""},"",{"$f":"IF(B1015=\"\",\"\",'Step 1) Select Data'!E1034)","v":""},"","","","","","",{"$f":"IF(J1015=\"\",\"\",'Step 3) Fit Distribution'!$F$3*E1015+'Step 3) Fit Distribution'!$F$4)","v":""},"","","","","","",""]
[null,{"$f":"IF(AND('Step 1) Select Data'!B1035=\"\",'Step 1) Select Data'!D1035<>\"\"),'Step 1) Select Data'!D1035,\"\")","v":""},"",{"$f":"IF(B1016=\"\",\"\",'Step 1) Select Data'!E1035)","v":""},"","","","","","",{"$f":"IF(J1016=\"\",\"\",'Step 3) Fit Distribution'!$F$3*E1016+'Step 3) Fit Distribution'!$F$4)","v":""},"","","","","","",""]
[null,{"$f":"IF(AND('Step 1) Select Data'!B1036=\"\",'Step 1) Select Data'!D1036<>\"\"),'Step 1) Select Data'!D1036,\"\")","v":""},"",{"$f":"IF(B1017=\"\",\"\",'Step 1) Select Data'!E1036)","v":""},"","","","","","",{"$f":"IF(J1017=\"\",\"\",'Step 3) Fit Distribution'!$F$3*E1017+'Step 3) Fit Distribution'!$F$4)","v":""},"","","","","","",""]
[null,{"$f":"IF(AND('Step 1) Select Data'!B1037=\"\",'Step 1) Select Data'!D1037<>\"\"),'Step 1) Select Data'!D1037,\"\")","v":""},"",{"$f":"IF(B1018=\"\",\"\",'Step 1) Select Data'!E1037)","v":""},"","","","","","",{"$f":"IF(J1018=\"\",\"\",'Step 3) Fit Distribution'!$F$3*E1018+'Step 3) Fit Distribution'!$F$4)","v":""},"","","","","","",""]
[null,{"$f":"IF(AND('Step 1) Select Data'!B1038=\"\",'Step 1) Select Data'!D1038<>\"\"),'Step 1) Select Data'!D1038,\"\")","v":""},"",{"$f":"IF(B1019=\"\",\"\",'Step 1) Select Data'!E1038)","v":""},"","","","","","",{"$f":"IF(J1019=\"\",\"\",'Step 3) Fit Distribution'!$F$3*E1019+'Step 3) Fit Distribution'!$F$4)","v":""},"","","","","","",""]
[null,{"$f":"IF(AND('Step 1) Select Data'!B1039=\"\",'Step 1) Select Data'!D1039<>\"\"),'Step 1) Select Data'!D1039,\"\")","v":""},"",{"$f":"IF(B1020=\"\",\"\",'Step 1) Select Data'!E1039)","v":""},"","","","","","",{"$f":"IF(J1020=\"\",\"\",'Step 3) Fit Distribution'!$F$3*E1020+'Step 3) Fit Distribution'!$F$4)","v":""},"","","","","","",""]
[null,{"$f":"IF(AND('Step 1) Select Data'!B1040=\"\",'Step 1) Select Data'!D1040<>\"\"),'Step 1) Select Data'!D1040,\"\")","v":""},"",{"$f":"IF(B1021=\"\",\"\",'Step 1) Select Data'!E1040)","v":""},"","","","","","",{"$f":"IF(J1021=\"\",\"\",'Step 3) Fit Distribution'!$F$3*E1021+'Step 3) Fit Distribution'!$F$4)","v":""},"","","","","","",""]
[null,{"$f":"IF(AND('Step 1) Select Data'!B1041=\"\",'Step 1) Select Data'!D1041<>\"\"),'Step 1) Select Data'!D1041,\"\")","v":""},"",{"$f":"IF(B1022=\"\",\"\",'Step 1) Select Data'!E1041)","v":""},"","","","","","",{"$f":"IF(J1022=\"\",\"\",'Step 3) Fit Distribution'!$F$3*E1022+'Step 3) Fit Distribution'!$F$4)","v":""},"","","","","","",""]
[null,{"$f":"IF(AND('Step 1) Select Data'!B1042=\"\",'Step 1) Select Data'!D1042<>\"\"),'Step 1) Select Data'!D1042,\"\")","v":""},"",{"$f":"IF(B1023=\"\",\"\",'Step 1) Select Data'!E1042)","v":""},"","","","","","",{"$f":"IF(J1023=\"\",\"\",'Step 3) Fit Distribution'!$F$3*E1023+'Step 3) Fit Distribution'!$F$4)","v":""},"","","","","","",""]
[null,{"$f":"IF(AND('Step 1) Select Data'!B1043=\"\",'Step 1) Select Data'!D1043<>\"\"),'Step 1) Select Data'!D1043,\"\")","v":""},"",{"$f":"IF(B1024=\"\",\"\",'Step 1) Select Data'!E1043)","v":""},"","","","","","",{"$f":"IF(J1024=\"\",\"\",'Step 3) Fit Distribution'!$F$3*E1024+'Step 3) Fit Distribution'!$F$4)","v":""},"","","","","","",""]
[null,{"$f":"IF(AND('Step 1) Select Data'!B1044=\"\",'Step 1) Select Data'!D1044<>\"\"),'Step 1) Select Data'!D1044,\"\")","v":""},"",{"$f":"IF(B1025=\"\",\"\",'Step 1) Select Data'!E1044)","v":""},"","","","","","",{"$f":"IF(J1025=\"\",\"\",'Step 3) Fit Distribution'!$F$3*E1025+'Step 3) Fit Distribution'!$F$4)","v":""},"","","","","","",""]
[null,{"$f":"IF(AND('Step 1) Select Data'!B1045=\"\",'Step 1) Select Data'!D1045<>\"\"),'Step 1) Select Data'!D1045,\"\")","v":""},"",{"$f":"IF(B1026=\"\",\"\",'Step 1) Select Data'!E1045)","v":""},"","","","","","",{"$f":"IF(J1026=\"\",\"\",'Step 3) Fit Distribution'!$F$3*E1026+'Step 3) Fit Distribution'!$F$4)","v":""},"","","","","","",""]
[null,{"$f":"IF(AND('Step 1) Select Data'!B1046=\"\",'Step 1) Select Data'!D1046<>\"\"),'Step 1) Select Data'!D1046,\"\")","v":""},"",{"$f":"IF(B1027=\"\",\"\",'Step 1) Select Data'!E1046)","v":""},"","","","","","",{"$f":"IF(J1027=\"\",\"\",'Step 3) Fit Distribution'!$F$3*E1027+'Step 3) Fit Distribution'!$F$4)","v":""},"","","","","","",""]
[null,{"$f":"IF(AND('Step 1) Select Data'!B1047=\"\",'Step 1) Select Data'!D1047<>\"\"),'Step 1) Select Data'!D1047,\"\")","v":""},"",{"$f":"IF(B1028=\"\",\"\",'Step 1) Select Data'!E1047)","v":""},"","","","","","",{"$f":"IF(J1028=\"\",\"\",'Step 3) Fit Distribution'!$F$3*E1028+'Step 3) Fit Distribution'!$F$4)","v":""},"","","","","","",""]
[null,{"$f":"IF(AND('Step 1) Select Data'!B1048=\"\",'Step 1) Select Data'!D1048<>\"\"),'Step 1) Select Data'!D1048,\"\")","v":""},"",{"$f":"IF(B1029=\"\",\"\",'Step 1) Select Data'!E1048)","v":""},"","","","","","",{"$f":"IF(J1029=\"\",\"\",'Step 3) Fit Distribution'!$F$3*E1029+'Step 3) Fit Distribution'!$F$4)","v":""},"","","","","","",""]
[null,{"$f":"IF(AND('Step 1) Select Data'!B1049=\"\",'Step 1) Select Data'!D1049<>\"\"),'Step 1) Select Data'!D1049,\"\")","v":""},"",{"$f":"IF(B1030=\"\",\"\",'Step 1) Select Data'!E1049)","v":""},"","","","","","",{"$f":"IF(J1030=\"\",\"\",'Step 3) Fit Distribution'!$F$3*E1030+'Step 3) Fit Distribution'!$F$4)","v":""},"","","","","","",""]
[null,{"$f":"IF(AND('Step 1) Select Data'!B1050=\"\",'Step 1) Select Data'!D1050<>\"\"),'Step 1) Select Data'!D1050,\"\")","v":""},{"$f":"IF(B1031=\"\",\"\",IF(OR(M1031>=M1032,M1032=\"\"),M1031,\"\"))","v":""},{"$f":"IF(B1031=\"\",\"\",'Step 1) Select Data'!E1050)","v":""},{"$f":"IF(C1031=\"\",\"\",LOG10(N1031)*(1/C1031))","v":""},{"$f":"IF(OR(M1031=\"\",C1031=1),\"\",IF(C1031=\"\",\"\",SQRT(R1031/(C1031-1))))","v":""},{"$f":"IF(E1031=\"\",\"\",10^E1031)","v":""},{"$f":"IF(I1031=\"\",\"\",(I1031-0.5)/COUNT($E$6:$E$2004))","v":""},{"$f":"IF(E1031=\"\",\"\",RANK(E1031,$E$6:$E$2004,1))","v":""},{"$f":"IF(H1031=\"\",\"\",NORMINV(H1031,5,1))","v":""},{"$f":"IF(J1031=\"\",\"\",'Step 3) Fit Distribution'!$F$3*E1031+'Step 3) Fit Distribution'!$F$4)","v":""},{"$f":"IF(K1031=\"\",\"\",(K1031-J1031)^2)","v":""},{"$f":"IF(B1031=\"\",\"\",IF(B1031<>B1030,1,M1030+1))","v":""},{"$f":"IF(B1031=\"\",\"\",IF(B1031<>B1030,ROUND(D1031,4),ROUND(D1031,4)*N1030))","v":""},{"$f":"IF(OR(M1031=\"\",C1031=1),\"\",IF(AND(M1031<>\"\",C1031=\"\",E1031=\"\"),O1032,E1031))","v":""},{"$f":"IF(OR(M1031=\"\",C1031=1),\"\",IF(AND(M1031<>\"\",C1031=\"\",E1031=\"\"),P1032,C1031))","v":""},"",{"$f":"IF(Q1031=\"\",\"\",IF(O1031=O1030,Q1031+R1030,Q1031))","v":""}]
[null,{"$f":"IF(AND('Step 1) Select Data'!B1051=\"\",'Step 1) Select Data'!D1051<>\"\"),'Step 1) Select Data'!D1051,\"\")","v":""},"",{"$f":"IF(B1032=\"\",\"\",'Step 1) Select Data'!E1051)","v":""},"","","","","","",{"$f":"IF(J1032=\"\",\"\",'Step 3) Fit Distribution'!$F$3*E1032+'Step 3) Fit Distribution'!$F$4)","v":""},"","","","","","",""]
[null,{"$f":"IF(AND('Step 1) Select Data'!B1052=\"\",'Step 1) Select Data'!D1052<>\"\"),'Step 1) Select Data'!D1052,\"\")","v":""},"",{"$f":"IF(B1033=\"\",\"\",'Step 1) Select Data'!E1052)","v":""},"","","","","","",{"$f":"IF(J1033=\"\",\"\",'Step 3) Fit Distribution'!$F$3*E1033+'Step 3) Fit Distribution'!$F$4)","v":""},"","","","","","",""]
[null,{"$f":"IF(AND('Step 1) Select Data'!B1053=\"\",'Step 1) Select Data'!D1053<>\"\"),'Step 1) Select Data'!D1053,\"\")","v":""},"",{"$f":"IF(B1034=\"\",\"\",'Step 1) Select Data'!E1053)","v":""},"","","","","","",{"$f":"IF(J1034=\"\",\"\",'Step 3) Fit Distribution'!$F$3*E1034+'Step 3) Fit Distribution'!$F$4)","v":""},"","","","","","",""]
[null,{"$f":"IF(AND('Step 1) Select Data'!B1054=\"\",'Step 1) Select Data'!D1054<>\"\"),'Step 1) Select Data'!D1054,\"\")","v":""},"",{"$f":"IF(B1035=\"\",\"\",'Step 1) Select Data'!E1054)","v":""},"","","","","","",{"$f":"IF(J1035=\"\",\"\",'Step 3) Fit Distribution'!$F$3*E1035+'Step 3) Fit Distribution'!$F$4)","v":""},"","","","","","",""]
[null,{"$f":"IF(AND('Step 1) Select Data'!B1055=\"\",'Step 1) Select Data'!D1055<>\"\"),'Step 1) Select Data'!D1055,\"\")","v":""},"",{"$f":"IF(B1036=\"\",\"\",'Step 1) Select Data'!E1055)","v":""},"","","","","","",{"$f":"IF(J1036=\"\",\"\",'Step 3) Fit Distribution'!$F$3*E1036+'Step 3) Fit Distribution'!$F$4)","v":""},"","","","","","",""]
[null,{"$f":"IF(AND('Step 1) Select Data'!B1056=\"\",'Step 1) Select Data'!D1056<>\"\"),'Step 1) Select Data'!D1056,\"\")","v":""},"",{"$f":"IF(B1037=\"\",\"\",'Step 1) Select Data'!E1056)","v":""},"","","","","","",{"$f":"IF(J1037=\"\",\"\",'Step 3) Fit Distribution'!$F$3*E1037+'Step 3) Fit Distribution'!$F$4)","v":""},"","","","","","",""]
[null,{"$f":"IF(AND('Step 1) Select Data'!B1057=\"\",'Step 1) Select Data'!D1057<>\"\"),'Step 1) Select Data'!D1057,\"\")","v":""},"",{"$f":"IF(B1038=\"\",\"\",'Step 1) Select Data'!E1057)","v":""},"","","","","","",{"$f":"IF(J1038=\"\",\"\",'Step 3) Fit Distribution'!$F$3*E1038+'Step 3) Fit Distribution'!$F$4)","v":""},"","","","","","",""]
[null,{"$f":"IF(AND('Step 1) Select Data'!B1058=\"\",'Step 1) Select Data'!D1058<>\"\"),'Step 1) Select Data'!D1058,\"\")","v":""},"",{"$f":"IF(B1039=\"\",\"\",'Step 1) Select Data'!E1058)","v":""},"","","","","","",{"$f":"IF(J1039=\"\",\"\",'Step 3) Fit Distribution'!$F$3*E1039+'Step 3) Fit Distribution'!$F$4)","v":""},"","","","","","",""]
[null,{"$f":"IF(AND('Step 1) Select Data'!B1059=\"\",'Step 1) Select Data'!D1059<>\"\"),'Step 1) Select Data'!D1059,\"\")","v":""},"",{"$f":"IF(B1040=\"\",\"\",'Step 1) Select Data'!E1059)","v":""},"","","","","","",{"$f":"IF(J1040=\"\",\"\",'Step 3) Fit Distribution'!$F$3*E1040+'Step 3) Fit Distribution'!$F$4)","v":""},"","","","","","",""]
[null,{"$f":"IF(AND('Step 1) Select Data'!B1060=\"\",'Step 1) Select Data'!D1060<>\"\"),'Step 1) Select Data'!D1060,\"\")","v":""},"",{"$f":"IF(B1041=\"\",\"\",'Step 1) Select Data'!E1060)","v":""},"","","","","","",{"$f":"IF(J1041=\"\",\"\",'Step 3) Fit Distribution'!$F$3*E1041+'Step 3) Fit Distribution'!$F$4)","v":""},"","","","","","",""]
[null,{"$f":"IF(AND('Step 1) Select Data'!B1061=\"\",'Step 1) Select Data'!D1061<>\"\"),'Step 1) Select Data'!D1061,\"\")","v":""},"",{"$f":"IF(B1042=\"\",\"\",'Step 1) Select Data'!E1061)","v":""},"","","","","","",{"$f":"IF(J1042=\"\",\"\",'Step 3) Fit Distribution'!$F$3*E1042+'Step 3) Fit Distribution'!$F$4)","v":""},"","","","","","",""]
[null,{"$f":"IF(AND('Step 1) Select Data'!B1062=\"\",'Step 1) Select Data'!D1062<>\"\"),'Step 1) Select Data'!D1062,\"\")","v":""},"",{"$f":"IF(B1043=\"\",\"\",'Step 1) Select Data'!E1062)","v":""},"","","","","","",{"$f":"IF(J1043=\"\",\"\",'Step 3) Fit Distribution'!$F$3*E1043+'Step 3) Fit Distribution'!$F$4)","v":""},"","","","","","",""]
[null,{"$f":"IF(AND('Step 1) Select Data'!B1063=\"\",'Step 1) Select Data'!D1063<>\"\"),'Step 1) Select Data'!D1063,\"\")","v":""},"",{"$f":"IF(B1044=\"\",\"\",'Step 1) Select Data'!E1063)","v":""},"","","","","","",{"$f":"IF(J1044=\"\",\"\",'Step 3) Fit Distribution'!$F$3*E1044+'Step 3) Fit Distribution'!$F$4)","v":""},"","","","","",{"$f":"IF(O1044=\"\",\"\",ROUND(LOG(D1044)-O1044,4)^2)","v":""},""]
[null,{"$f":"IF(AND('Step 1) Select Data'!B1064=\"\",'Step 1) Select Data'!D1064<>\"\"),'Step 1) Select Data'!D1064,\"\")","v":""},"",{"$f":"IF(B1045=\"\",\"\",'Step 1) Select Data'!E1064)","v":""},"","","","","","",{"$f":"IF(J1045=\"\",\"\",'Step 3) Fit Distribution'!$F$3*E1045+'Step 3) Fit Distribution'!$F$4)","v":""},"","","","","","",""]
[null,{"$f":"IF(AND('Step 1) Select Data'!B1065=\"\",'Step 1) Select Data'!D1065<>\"\"),'Step 1) Select Data'!D1065,\"\")","v":""},"",{"$f":"IF(B1046=\"\",\"\",'Step 1) Select Data'!E1065)","v":""},"","","","","","",{"$f":"IF(J1046=\"\",\"\",'Step 3) Fit Distribution'!$F$3*E1046+'Step 3) Fit Distribution'!$F$4)","v":""},"","","","","","",""]
[null,{"$f":"IF(AND('Step 1) Select Data'!B1066=\"\",'Step 1) Select Data'!D1066<>\"\"),'Step 1) Select Data'!D1066,\"\")","v":""},"",{"$f":"IF(B1047=\"\",\"\",'Step 1) Select Data'!E1066)","v":""},"","","","","","",{"$f":"IF(J1047=\"\",\"\",'Step 3) Fit Distribution'!$F$3*E1047+'Step 3) Fit Distribution'!$F$4)","v":""},"","","","","","",""]
[null,{"$f":"IF(AND('Step 1) Select Data'!B1067=\"\",'Step 1) Select Data'!D1067<>\"\"),'Step 1) Select Data'!D1067,\"\")","v":""},"",{"$f":"IF(B1048=\"\",\"\",'Step 1) Select Data'!E1067)","v":""},"","","","","","",{"$f":"IF(J1048=\"\",\"\",'Step 3) Fit Distribution'!$F$3*E1048+'Step 3) Fit Distribution'!$F$4)","v":""},"","","","","","",""]
[null,{"$f":"IF(AND('Step 1) Select Data'!B1068=\"\",'Step 1) Select Data'!D1068<>\"\"),'Step 1) Select Data'!D1068,\"\")","v":""},"",{"$f":"IF(B1049=\"\",\"\",'Step 1) Select Data'!E1068)","v":""},"","","","","","",{"$f":"IF(J1049=\"\",\"\",'Step 3) Fit Distribution'!$F$3*E1049+'Step 3) Fit Distribution'!$F$4)","v":""},"","","","","","",""]
[null,{"$f":"IF(AND('Step 1) Select Data'!B1069=\"\",'Step 1) Select Data'!D1069<>\"\"),'Step 1) Select Data'!D1069,\"\")","v":""},"",{"$f":"IF(B1050=\"\",\"\",'Step 1) Select Data'!E1069)","v":""},"","","","","","",{"$f":"IF(J1050=\"\",\"\",'Step 3) Fit Distribution'!$F$3*E1050+'Step 3) Fit Distribution'!$F$4)","v":""},"","","","","","",""]
[null,{"$f":"IF(AND('Step 1) Select Data'!B1070=\"\",'Step 1) Select Data'!D1070<>\"\"),'Step 1) Select Data'!D1070,\"\")","v":""},"",{"$f":"IF(B1051=\"\",\"\",'Step 1) Select Data'!E1070)","v":""},"","","","","","",{"$f":"IF(J1051=\"\",\"\",'Step 3) Fit Distribution'!$F$3*E1051+'Step 3) Fit Distribution'!$F$4)","v":""},"","","","","","",""]
[null,{"$f":"IF(AND('Step 1) Select Data'!B1071=\"\",'Step 1) Select Data'!D1071<>\"\"),'Step 1) Select Data'!D1071,\"\")","v":""},"",{"$f":"IF(B1052=\"\",\"\",'Step 1) Select Data'!E1071)","v":""},"","","","","","",{"$f":"IF(J1052=\"\",\"\",'Step 3) Fit Distribution'!$F$3*E1052+'Step 3) Fit Distribution'!$F$4)","v":""},"","","","","","",""]
[null,{"$f":"IF(AND('Step 1) Select Data'!B1072=\"\",'Step 1) Select Data'!D1072<>\"\"),'Step 1) Select Data'!D1072,\"\")","v":""},"",{"$f":"IF(B1053=\"\",\"\",'Step 1) Select Data'!E1072)","v":""},"","","","","","",{"$f":"IF(J1053=\"\",\"\",'Step 3) Fit Distribution'!$F$3*E1053+'Step 3) Fit Distribution'!$F$4)","v":""},"","","","","","",""]
[null,{"$f":"IF(AND('Step 1) Select Data'!B1073=\"\",'Step 1) Select Data'!D1073<>\"\"),'Step 1) Select Data'!D1073,\"\")","v":""},"",{"$f":"IF(B1054=\"\",\"\",'Step 1) Select Data'!E1073)","v":""},"","","","","","",{"$f":"IF(J1054=\"\",\"\",'Step 3) Fit Distribution'!$F$3*E1054+'Step 3) Fit Distribution'!$F$4)","v":""},"","","","","","",""]
[null,{"$f":"IF(AND('Step 1) Select Data'!B1074=\"\",'Step 1) Select Data'!D1074<>\"\"),'Step 1) Select Data'!D1074,\"\")","v":""},"",{"$f":"IF(B1055=\"\",\"\",'Step 1) Select Data'!E1074)","v":""},"","","","","","",{"$f":"IF(J1055=\"\",\"\",'Step 3) Fit Distribution'!$F$3*E1055+'Step 3) Fit Distribution'!$F$4)","v":""},"","","","","","",""]
[null,{"$f":"IF(AND('Step 1) Select Data'!B1075=\"\",'Step 1) Select Data'!D1075<>\"\"),'Step 1) Select Data'!D1075,\"\")","v":""},"",{"$f":"IF(B1056=\"\",\"\",'Step 1) Select Data'!E1075)","v":""},"","","","","","",{"$f":"IF(J1056=\"\",\"\",'Step 3) Fit Distribution'!$F$3*E1056+'Step 3) Fit Distribution'!$F$4)","v":""},"","","","","","",""]
[null,{"$f":"IF(AND('Step 1) Select Data'!B1076=\"\",'Step 1) Select Data'!D1076<>\"\"),'Step 1) Select Data'!D1076,\"\")","v":""},"",{"$f":"IF(B1057=\"\",\"\",'Step 1) Select Data'!E1076)","v":""},"","","","","","",{"$f":"IF(J1057=\"\",\"\",'Step 3) Fit Distribution'!$F$3*E1057+'Step 3) Fit Distribution'!$F$4)","v":""},"","","","","","",""]
[null,{"$f":"IF(AND('Step 1) Select Data'!B1077=\"\",'Step 1) Select Data'!D1077<>\"\"),'Step 1) Select Data'!D1077,\"\")","v":""},"",{"$f":"IF(B1058=\"\",\"\",'Step 1) Select Data'!E1077)","v":""},"","","","","","",{"$f":"IF(J1058=\"\",\"\",'Step 3) Fit Distribution'!$F$3*E1058+'Step 3) Fit Distribution'!$F$4)","v":""},"","","","","","",""]
[null,{"$f":"IF(AND('Step 1) Select Data'!B1078=\"\",'Step 1) Select Data'!D1078<>\"\"),'Step 1) Select Data'!D1078,\"\")","v":""},"",{"$f":"IF(B1059=\"\",\"\",'Step 1) Select Data'!E1078)","v":""},"","","","","","",{"$f":"IF(J1059=\"\",\"\",'Step 3) Fit Distribution'!$F$3*E1059+'Step 3) Fit Distribution'!$F$4)","v":""},"","","","","","",""]
[null,{"$f":"IF(AND('Step 1) Select Data'!B1079=\"\",'Step 1) Select Data'!D1079<>\"\"),'Step 1) Select Data'!D1079,\"\")","v":""},"",{"$f":"IF(B1060=\"\",\"\",'Step 1) Select Data'!E1079)","v":""},"","","","","","",{"$f":"IF(J1060=\"\",\"\",'Step 3) Fit Distribution'!$F$3*E1060+'Step 3) Fit Distribution'!$F$4)","v":""},"","","","","","",""]
[null,{"$f":"IF(AND('Step 1) Select Data'!B1080=\"\",'Step 1) Select Data'!D1080<>\"\"),'Step 1) Select Data'!D1080,\"\")","v":""},"",{"$f":"IF(B1061=\"\",\"\",'Step 1) Select Data'!E1080)","v":""},"","","","","","",{"$f":"IF(J1061=\"\",\"\",'Step 3) Fit Distribution'!$F$3*E1061+'Step 3) Fit Distribution'!$F$4)","v":""},"","","","","","",""]
[null,{"$f":"IF(AND('Step 1) Select Data'!B1081=\"\",'Step 1) Select Data'!D1081<>\"\"),'Step 1) Select Data'!D1081,\"\")","v":""},"",{"$f":"IF(B1062=\"\",\"\",'Step 1) Select Data'!E1081)","v":""},"","","","","","",{"$f":"IF(J1062=\"\",\"\",'Step 3) Fit Distribution'!$F$3*E1062+'Step 3) Fit Distribution'!$F$4)","v":""},"","","","","","",""]
[null,{"$f":"IF(AND('Step 1) Select Data'!B1082=\"\",'Step 1) Select Data'!D1082<>\"\"),'Step 1) Select Data'!D1082,\"\")","v":""},"",{"$f":"IF(B1063=\"\",\"\",'Step 1) Select Data'!E1082)","v":""},"","","","","","",{"$f":"IF(J1063=\"\",\"\",'Step 3) Fit Distribution'!$F$3*E1063+'Step 3) Fit Distribution'!$F$4)","v":""},"","","","","","",""]
[null,{"$f":"IF(AND('Step 1) Select Data'!B1083=\"\",'Step 1) Select Data'!D1083<>\"\"),'Step 1) Select Data'!D1083,\"\")","v":""},"",{"$f":"IF(B1064=\"\",\"\",'Step 1) Select Data'!E1083)","v":""},"","","","","","",{"$f":"IF(J1064=\"\",\"\",'Step 3) Fit Distribution'!$F$3*E1064+'Step 3) Fit Distribution'!$F$4)","v":""},"","","","","","",""]
[null,{"$f":"IF(AND('Step 1) Select Data'!B1084=\"\",'Step 1) Select Data'!D1084<>\"\"),'Step 1) Select Data'!D1084,\"\")","v":""},"",{"$f":"IF(B1065=\"\",\"\",'Step 1) Select Data'!E1084)","v":""},"","","","","","",{"$f":"IF(J1065=\"\",\"\",'Step 3) Fit Distribution'!$F$3*E1065+'Step 3) Fit Distribution'!$F$4)","v":""},"","","","","","",""]
[null,{"$f":"IF(AND('Step 1) Select Data'!B1085=\"\",'Step 1) Select Data'!D1085<>\"\"),'Step 1) Select Data'!D1085,\"\")","v":""},"",{"$f":"IF(B1066=\"\",\"\",'Step 1) Select Data'!E1085)","v":""},"","","","","","",{"$f":"IF(J1066=\"\",\"\",'Step 3) Fit Distribution'!$F$3*E1066+'Step 3) Fit Distribution'!$F$4)","v":""},"","","","","","",""]
[null,{"$f":"IF(AND('Step 1) Select Data'!B1086=\"\",'Step 1) Select Data'!D1086<>\"\"),'Step 1) Select Data'!D1086,\"\")","v":""},"",{"$f":"IF(B1067=\"\",\"\",'Step 1) Select Data'!E1086)","v":""},"","","","","","",{"$f":"IF(J1067=\"\",\"\",'Step 3) Fit Distribution'!$F$3*E1067+'Step 3) Fit Distribution'!$F$4)","v":""},"","","","","","",""]
[null,{"$f":"IF(AND('Step 1) Select Data'!B1087=\"\",'Step 1) Select Data'!D1087<>\"\"),'Step 1) Select Data'!D1087,\"\")","v":""},"",{"$f":"IF(B1068=\"\",\"\",'Step 1) Select Data'!E1087)","v":""},"","","","","","",{"$f":"IF(J1068=\"\",\"\",'Step 3) Fit Distribution'!$F$3*E1068+'Step 3) Fit Distribution'!$F$4)","v":""},"","","","","","",""]
[null,{"$f":"IF(AND('Step 1) Select Data'!B1088=\"\",'Step 1) Select Data'!D1088<>\"\"),'Step 1) Select Data'!D1088,\"\")","v":""},"",{"$f":"IF(B1069=\"\",\"\",'Step 1) Select Data'!E1088)","v":""},"","","","","","",{"$f":"IF(J1069=\"\",\"\",'Step 3) Fit Distribution'!$F$3*E1069+'Step 3) Fit Distribution'!$F$4)","v":""},"","","","","","",""]
[null,{"$f":"IF(AND('Step 1) Select Data'!B1089=\"\",'Step 1) Select Data'!D1089<>\"\"),'Step 1) Select Data'!D1089,\"\")","v":""},"",{"$f":"IF(B1070=\"\",\"\",'Step 1) Select Data'!E1089)","v":""},"","","","","","",{"$f":"IF(J1070=\"\",\"\",'Step 3) Fit Distribution'!$F$3*E1070+'Step 3) Fit Distribution'!$F$4)","v":""},"","","","","","",""]
[null,{"$f":"IF(AND('Step 1) Select Data'!B1090=\"\",'Step 1) Select Data'!D1090<>\"\"),'Step 1) Select Data'!D1090,\"\")","v":""},"",{"$f":"IF(B1071=\"\",\"\",'Step 1) Select Data'!E1090)","v":""},"","","","","","",{"$f":"IF(J1071=\"\",\"\",'Step 3) Fit Distribution'!$F$3*E1071+'Step 3) Fit Distribution'!$F$4)","v":""},"","","","","","",""]
[null,{"$f":"IF(AND('Step 1) Select Data'!B1091=\"\",'Step 1) Select Data'!D1091<>\"\"),'Step 1) Select Data'!D1091,\"\")","v":""},"",{"$f":"IF(B1072=\"\",\"\",'Step 1) Select Data'!E1091)","v":""},"","","","","","",{"$f":"IF(J1072=\"\",\"\",'Step 3) Fit Distribution'!$F$3*E1072+'Step 3) Fit Distribution'!$F$4)","v":""},"","","","","","",""]
[null,{"$f":"IF(AND('Step 1) Select Data'!B1092=\"\",'Step 1) Select Data'!D1092<>\"\"),'Step 1) Select Data'!D1092,\"\")","v":""},"",{"$f":"IF(B1073=\"\",\"\",'Step 1) Select Data'!E1092)","v":""},"","","","","","",{"$f":"IF(J1073=\"\",\"\",'Step 3) Fit Distribution'!$F$3*E1073+'Step 3) Fit Distribution'!$F$4)","v":""},"","","","","","",""]
[null,{"$f":"IF(AND('Step 1) Select Data'!B1093=\"\",'Step 1) Select Data'!D1093<>\"\"),'Step 1) Select Data'!D1093,\"\")","v":""},"",{"$f":"IF(B1074=\"\",\"\",'Step 1) Select Data'!E1093)","v":""},"","","","","","",{"$f":"IF(J1074=\"\",\"\",'Step 3) Fit Distribution'!$F$3*E1074+'Step 3) Fit Distribution'!$F$4)","v":""},"","","","","","",""]
[null,{"$f":"IF(AND('Step 1) Select Data'!B1094=\"\",'Step 1) Select Data'!D1094<>\"\"),'Step 1) Select Data'!D1094,\"\")","v":""},"",{"$f":"IF(B1075=\"\",\"\",'Step 1) Select Data'!E1094)","v":""},"","","","","","",{"$f":"IF(J1075=\"\",\"\",'Step 3) Fit Distribution'!$F$3*E1075+'Step 3) Fit Distribution'!$F$4)","v":""},"","","","","","",""]
[null,{"$f":"IF(AND('Step 1) Select Data'!B1095=\"\",'Step 1) Select Data'!D1095<>\"\"),'Step 1) Select Data'!D1095,\"\")","v":""},"",{"$f":"IF(B1076=\"\",\"\",'Step 1) Select Data'!E1095)","v":""},"","","","","","",{"$f":"IF(J1076=\"\",\"\",'Step 3) Fit Distribution'!$F$3*E1076+'Step 3) Fit Distribution'!$F$4)","v":""},"","","","","","",""]
[null,{"$f":"IF(AND('Step 1) Select Data'!B1096=\"\",'Step 1) Select Data'!D1096<>\"\"),'Step 1) Select Data'!D1096,\"\")","v":""},"",{"$f":"IF(B1077=\"\",\"\",'Step 1) Select Data'!E1096)","v":""},"","","","","","",{"$f":"IF(J1077=\"\",\"\",'Step 3) Fit Distribution'!$F$3*E1077+'Step 3) Fit Distribution'!$F$4)","v":""},"","","","","","",""]
[null,{"$f":"IF(AND('Step 1) Select Data'!B1097=\"\",'Step 1) Select Data'!D1097<>\"\"),'Step 1) Select Data'!D1097,\"\")","v":""},"",{"$f":"IF(B1078=\"\",\"\",'Step 1) Select Data'!E1097)","v":""},"","","","","","",{"$f":"IF(J1078=\"\",\"\",'Step 3) Fit Distribution'!$F$3*E1078+'Step 3) Fit Distribution'!$F$4)","v":""},"","","","","","",""]
[null,{"$f":"IF(AND('Step 1) Select Data'!B1098=\"\",'Step 1) Select Data'!D1098<>\"\"),'Step 1) Select Data'!D1098,\"\")","v":""},"",{"$f":"IF(B1079=\"\",\"\",'Step 1) Select Data'!E1098)","v":""},"","","","","","",{"$f":"IF(J1079=\"\",\"\",'Step 3) Fit Distribution'!$F$3*E1079+'Step 3) Fit Distribution'!$F$4)","v":""},"","","","","","",""]
[null,{"$f":"IF(AND('Step 1) Select Data'!B1099=\"\",'Step 1) Select Data'!D1099<>\"\"),'Step 1) Select Data'!D1099,\"\")","v":""},"",{"$f":"IF(B1080=\"\",\"\",'Step 1) Select Data'!E1099)","v":""},"","","","","","",{"$f":"IF(J1080=\"\",\"\",'Step 3) Fit Distribution'!$F$3*E1080+'Step 3) Fit Distribution'!$F$4)","v":""},"","","","","","",""]
[null,{"$f":"IF(AND('Step 1) Select Data'!B1100=\"\",'Step 1) Select Data'!D1100<>\"\"),'Step 1) Select Data'!D1100,\"\")","v":""},"",{"$f":"IF(B1081=\"\",\"\",'Step 1) Select Data'!E1100)","v":""},"","","","","","",{"$f":"IF(J1081=\"\",\"\",'Step 3) Fit Distribution'!$F$3*E1081+'Step 3) Fit Distribution'!$F$4)","v":""},"","","","","","",""]
[null,{"$f":"IF(AND('Step 1) Select Data'!B1101=\"\",'Step 1) Select Data'!D1101<>\"\"),'Step 1) Select Data'!D1101,\"\")","v":""},"",{"$f":"IF(B1082=\"\",\"\",'Step 1) Select Data'!E1101)","v":""},"","","","","","",{"$f":"IF(J1082=\"\",\"\",'Step 3) Fit Distribution'!$F$3*E1082+'Step 3) Fit Distribution'!$F$4)","v":""},"","","","","","",""]
[null,{"$f":"IF(AND('Step 1) Select Data'!B1102=\"\",'Step 1) Select Data'!D1102<>\"\"),'Step 1) Select Data'!D1102,\"\")","v":""},"",{"$f":"IF(B1083=\"\",\"\",'Step 1) Select Data'!E1102)","v":""},"","","","","","",{"$f":"IF(J1083=\"\",\"\",'Step 3) Fit Distribution'!$F$3*E1083+'Step 3) Fit Distribution'!$F$4)","v":""},"","","","","","",""]
[null,{"$f":"IF(AND('Step 1) Select Data'!B1103=\"\",'Step 1) Select Data'!D1103<>\"\"),'Step 1) Select Data'!D1103,\"\")","v":""},"",{"$f":"IF(B1084=\"\",\"\",'Step 1) Select Data'!E1103)","v":""},"","","","","","",{"$f":"IF(J1084=\"\",\"\",'Step 3) Fit Distribution'!$F$3*E1084+'Step 3) Fit Distribution'!$F$4)","v":""},"","","","","","",""]
[null,{"$f":"IF(AND('Step 1) Select Data'!B1104=\"\",'Step 1) Select Data'!D1104<>\"\"),'Step 1) Select Data'!D1104,\"\")","v":""},"",{"$f":"IF(B1085=\"\",\"\",'Step 1) Select Data'!E1104)","v":""},"","","","","","",{"$f":"IF(J1085=\"\",\"\",'Step 3) Fit Distribution'!$F$3*E1085+'Step 3) Fit Distribution'!$F$4)","v":""},"","","","","","",""]
[null,{"$f":"IF(AND('Step 1) Select Data'!B1105=\"\",'Step 1) Select Data'!D1105<>\"\"),'Step 1) Select Data'!D1105,\"\")","v":""},"",{"$f":"IF(B1086=\"\",\"\",'Step 1) Select Data'!E1105)","v":""},"","","","","","",{"$f":"IF(J1086=\"\",\"\",'Step 3) Fit Distribution'!$F$3*E1086+'Step 3) Fit Distribution'!$F$4)","v":""},"","","","","","",""]
[null,{"$f":"IF(AND('Step 1) Select Data'!B1106=\"\",'Step 1) Select Data'!D1106<>\"\"),'Step 1) Select Data'!D1106,\"\")","v":""},"",{"$f":"IF(B1087=\"\",\"\",'Step 1) Select Data'!E1106)","v":""},"","","","","","",{"$f":"IF(J1087=\"\",\"\",'Step 3) Fit Distribution'!$F$3*E1087+'Step 3) Fit Distribution'!$F$4)","v":""},"","","","","","",""]
[null,{"$f":"IF(AND('Step 1) Select Data'!B1107=\"\",'Step 1) Select Data'!D1107<>\"\"),'Step 1) Select Data'!D1107,\"\")","v":""},"",{"$f":"IF(B1088=\"\",\"\",'Step 1) Select Data'!E1107)","v":""},"","","","","","",{"$f":"IF(J1088=\"\",\"\",'Step 3) Fit Distribution'!$F$3*E1088+'Step 3) Fit Distribution'!$F$4)","v":""},"","","","","","",""]
[null,{"$f":"IF(AND('Step 1) Select Data'!B1108=\"\",'Step 1) Select Data'!D1108<>\"\"),'Step 1) Select Data'!D1108,\"\")","v":""},"",{"$f":"IF(B1089=\"\",\"\",'Step 1) Select Data'!E1108)","v":""},"","","","","","",{"$f":"IF(J1089=\"\",\"\",'Step 3) Fit Distribution'!$F$3*E1089+'Step 3) Fit Distribution'!$F$4)","v":""},"","","","","","",""]
[null,{"$f":"IF(AND('Step 1) Select Data'!B1109=\"\",'Step 1) Select Data'!D1109<>\"\"),'Step 1) Select Data'!D1109,\"\")","v":""},"",{"$f":"IF(B1090=\"\",\"\",'Step 1) Select Data'!E1109)","v":""},"","","","","","",{"$f":"IF(J1090=\"\",\"\",'Step 3) Fit Distribution'!$F$3*E1090+'Step 3) Fit Distribution'!$F$4)","v":""},"","","","","","",""]
[null,{"$f":"IF(AND('Step 1) Select Data'!B1110=\"\",'Step 1) Select Data'!D1110<>\"\"),'Step 1) Select Data'!D1110,\"\")","v":""},"",{"$f":"IF(B1091=\"\",\"\",'Step 1) Select Data'!E1110)","v":""},"","","","","","",{"$f":"IF(J1091=\"\",\"\",'Step 3) Fit Distribution'!$F$3*E1091+'Step 3) Fit Distribution'!$F$4)","v":""},"","","","","","",""]
[null,{"$f":"IF(AND('Step 1) Select Data'!B1111=\"\",'Step 1) Select Data'!D1111<>\"\"),'Step 1) Select Data'!D1111,\"\")","v":""},"",{"$f":"IF(B1092=\"\",\"\",'Step 1) Select Data'!E1111)","v":""},"","","","","","",{"$f":"IF(J1092=\"\",\"\",'Step 3) Fit Distribution'!$F$3*E1092+'Step 3) Fit Distribution'!$F$4)","v":""},"","","","","","",""]
[null,{"$f":"IF(AND('Step 1) Select Data'!B1112=\"\",'Step 1) Select Data'!D1112<>\"\"),'Step 1) Select Data'!D1112,\"\")","v":""},"",{"$f":"IF(B1093=\"\",\"\",'Step 1) Select Data'!E1112)","v":""},"","","","","","",{"$f":"IF(J1093=\"\",\"\",'Step 3) Fit Distribution'!$F$3*E1093+'Step 3) Fit Distribution'!$F$4)","v":""},"","","","","","",""]
[null,{"$f":"IF(AND('Step 1) Select Data'!B1113=\"\",'Step 1) Select Data'!D1113<>\"\"),'Step 1) Select Data'!D1113,\"\")","v":""},"",{"$f":"IF(B1094=\"\",\"\",'Step 1) Select Data'!E1113)","v":""},"","","","","","",{"$f":"IF(J1094=\"\",\"\",'Step 3) Fit Distribution'!$F$3*E1094+'Step 3) Fit Distribution'!$F$4)","v":""},"","","","","","",""]
[null,{"$f":"IF(AND('Step 1) Select Data'!B1114=\"\",'Step 1) Select Data'!D1114<>\"\"),'Step 1) Select Data'!D1114,\"\")","v":""},{"$f":"IF(B1095=\"\",\"\",IF(OR(M1095>=M1096,M1096=\"\"),M1095,\"\"))","v":""},{"$f":"IF(B1095=\"\",\"\",'Step 1) Select Data'!E1114)","v":""},{"$f":"IF(C1095=\"\",\"\",LOG10(N1095)*(1/C1095))","v":""},{"$f":"IF(OR(M1095=\"\",C1095=1),\"\",IF(C1095=\"\",\"\",SQRT(R1095/(C1095-1))))","v":""},{"$f":"IF(E1095=\"\",\"\",10^E1095)","v":""},{"$f":"IF(I1095=\"\",\"\",(I1095-0.5)/COUNT($E$6:$E$2004))","v":""},{"$f":"IF(E1095=\"\",\"\",RANK(E1095,$E$6:$E$2004,1))","v":""},{"$f":"IF(H1095=\"\",\"\",NORMINV(H1095,5,1))","v":""},{"$f":"IF(J1095=\"\",\"\",'Step 3) Fit Distribution'!$F$3*E1095+'Step 3) Fit Distribution'!$F$4)","v":""},{"$f":"IF(K1095=\"\",\"\",(K1095-J1095)^2)","v":""},{"$f":"IF(B1095=\"\",\"\",IF(B1095<>B1094,1,M1094+1))","v":""},{"$f":"IF(B1095=\"\",\"\",IF(B1095<>B1094,ROUND(D1095,4),ROUND(D1095,4)*N1094))","v":""},{"$f":"IF(OR(M1095=\"\",C1095=1),\"\",IF(AND(M1095<>\"\",C1095=\"\",E1095=\"\"),O1096,E1095))","v":""},{"$f":"IF(OR(M1095=\"\",C1095=1),\"\",IF(AND(M1095<>\"\",C1095=\"\",E1095=\"\"),P1096,C1095))","v":""},"",{"$f":"IF(Q1095=\"\",\"\",IF(O1095=O1094,Q1095+R1094,Q1095))","v":""}]
[null,{"$f":"IF(AND('Step 1) Select Data'!B1115=\"\",'Step 1) Select Data'!D1115<>\"\"),'Step 1) Select Data'!D1115,\"\")","v":""},"",{"$f":"IF(B1096=\"\",\"\",'Step 1) Select Data'!E1115)","v":""},"","","","","","",{"$f":"IF(J1096=\"\",\"\",'Step 3) Fit Distribution'!$F$3*E1096+'Step 3) Fit Distribution'!$F$4)","v":""},"","","","","","",""]
[null,{"$f":"IF(AND('Step 1) Select Data'!B1116=\"\",'Step 1) Select Data'!D1116<>\"\"),'Step 1) Select Data'!D1116,\"\")","v":""},"",{"$f":"IF(B1097=\"\",\"\",'Step 1) Select Data'!E1116)","v":""},"","","","","","",{"$f":"IF(J1097=\"\",\"\",'Step 3) Fit Distribution'!$F$3*E1097+'Step 3) Fit Distribution'!$F$4)","v":""},"","","","","","",""]
[null,{"$f":"IF(AND('Step 1) Select Data'!B1117=\"\",'Step 1) Select Data'!D1117<>\"\"),'Step 1) Select Data'!D1117,\"\")","v":""},"",{"$f":"IF(B1098=\"\",\"\",'Step 1) Select Data'!E1117)","v":""},"","","","","","",{"$f":"IF(J1098=\"\",\"\",'Step 3) Fit Distribution'!$F$3*E1098+'Step 3) Fit Distribution'!$F$4)","v":""},"","","","","","",""]
[null,{"$f":"IF(AND('Step 1) Select Data'!B1118=\"\",'Step 1) Select Data'!D1118<>\"\"),'Step 1) Select Data'!D1118,\"\")","v":""},"",{"$f":"IF(B1099=\"\",\"\",'Step 1) Select Data'!E1118)","v":""},"","","","","","",{"$f":"IF(J1099=\"\",\"\",'Step 3) Fit Distribution'!$F$3*E1099+'Step 3) Fit Distribution'!$F$4)","v":""},"","","","","","",""]
[null,{"$f":"IF(AND('Step 1) Select Data'!B1119=\"\",'Step 1) Select Data'!D1119<>\"\"),'Step 1) Select Data'!D1119,\"\")","v":""},"",{"$f":"IF(B1100=\"\",\"\",'Step 1) Select Data'!E1119)","v":""},"","","","","","",{"$f":"IF(J1100=\"\",\"\",'Step 3) Fit Distribution'!$F$3*E1100+'Step 3) Fit Distribution'!$F$4)","v":""},"","","","","","",""]
[null,{"$f":"IF(AND('Step 1) Select Data'!B1120=\"\",'Step 1) Select Data'!D1120<>\"\"),'Step 1) Select Data'!D1120,\"\")","v":""},"",{"$f":"IF(B1101=\"\",\"\",'Step 1) Select Data'!E1120)","v":""},"","","","","","",{"$f":"IF(J1101=\"\",\"\",'Step 3) Fit Distribution'!$F$3*E1101+'Step 3) Fit Distribution'!$F$4)","v":""},"","","","","","",""]
[null,{"$f":"IF(AND('Step 1) Select Data'!B1121=\"\",'Step 1) Select Data'!D1121<>\"\"),'Step 1) Select Data'!D1121,\"\")","v":""},"",{"$f":"IF(B1102=\"\",\"\",'Step 1) Select Data'!E1121)","v":""},"","","","","","",{"$f":"IF(J1102=\"\",\"\",'Step 3) Fit Distribution'!$F$3*E1102+'Step 3) Fit Distribution'!$F$4)","v":""},"","","","","","",""]
[null,{"$f":"IF(AND('Step 1) Select Data'!B1122=\"\",'Step 1) Select Data'!D1122<>\"\"),'Step 1) Select Data'!D1122,\"\")","v":""},"",{"$f":"IF(B1103=\"\",\"\",'Step 1) Select Data'!E1122)","v":""},"","","","","","",{"$f":"IF(J1103=\"\",\"\",'Step 3) Fit Distribution'!$F$3*E1103+'Step 3) Fit Distribution'!$F$4)","v":""},"","","","","","",""]
[null,{"$f":"IF(AND('Step 1) Select Data'!B1123=\"\",'Step 1) Select Data'!D1123<>\"\"),'Step 1) Select Data'!D1123,\"\")","v":""},"",{"$f":"IF(B1104=\"\",\"\",'Step 1) Select Data'!E1123)","v":""},"","","","","","",{"$f":"IF(J1104=\"\",\"\",'Step 3) Fit Distribution'!$F$3*E1104+'Step 3) Fit Distribution'!$F$4)","v":""},"","","","","","",""]
[null,{"$f":"IF(AND('Step 1) Select Data'!B1124=\"\",'Step 1) Select Data'!D1124<>\"\"),'Step 1) Select Data'!D1124,\"\")","v":""},"",{"$f":"IF(B1105=\"\",\"\",'Step 1) Select Data'!E1124)","v":""},"","","","","","",{"$f":"IF(J1105=\"\",\"\",'Step 3) Fit Distribution'!$F$3*E1105+'Step 3) Fit Distribution'!$F$4)","v":""},"","","","","","",""]
[null,{"$f":"IF(AND('Step 1) Select Data'!B1125=\"\",'Step 1) Select Data'!D1125<>\"\"),'Step 1) Select Data'!D1125,\"\")","v":""},"",{"$f":"IF(B1106=\"\",\"\",'Step 1) Select Data'!E1125)","v":""},"","","","","","",{"$f":"IF(J1106=\"\",\"\",'Step 3) Fit Distribution'!$F$3*E1106+'Step 3) Fit Distribution'!$F$4)","v":""},"","","","","","",""]
[null,{"$f":"IF(AND('Step 1) Select Data'!B1126=\"\",'Step 1) Select Data'!D1126<>\"\"),'Step 1) Select Data'!D1126,\"\")","v":""},"",{"$f":"IF(B1107=\"\",\"\",'Step 1) Select Data'!E1126)","v":""},"","","","","","",{"$f":"IF(J1107=\"\",\"\",'Step 3) Fit Distribution'!$F$3*E1107+'Step 3) Fit Distribution'!$F$4)","v":""},"","","","","","",""]
[null,{"$f":"IF(AND('Step 1) Select Data'!B1127=\"\",'Step 1) Select Data'!D1127<>\"\"),'Step 1) Select Data'!D1127,\"\")","v":""},"",{"$f":"IF(B1108=\"\",\"\",'Step 1) Select Data'!E1127)","v":""},"","","","","","",{"$f":"IF(J1108=\"\",\"\",'Step 3) Fit Distribution'!$F$3*E1108+'Step 3) Fit Distribution'!$F$4)","v":""},"","","","","",{"$f":"IF(O1108=\"\",\"\",ROUND(LOG(D1108)-O1108,4)^2)","v":""},""]
[null,{"$f":"IF(AND('Step 1) Select Data'!B1128=\"\",'Step 1) Select Data'!D1128<>\"\"),'Step 1) Select Data'!D1128,\"\")","v":""},"",{"$f":"IF(B1109=\"\",\"\",'Step 1) Select Data'!E1128)","v":""},"","","","","","",{"$f":"IF(J1109=\"\",\"\",'Step 3) Fit Distribution'!$F$3*E1109+'Step 3) Fit Distribution'!$F$4)","v":""},"","","","","","",""]
[null,{"$f":"IF(AND('Step 1) Select Data'!B1129=\"\",'Step 1) Select Data'!D1129<>\"\"),'Step 1) Select Data'!D1129,\"\")","v":""},"",{"$f":"IF(B1110=\"\",\"\",'Step 1) Select Data'!E1129)","v":""},"","","","","","",{"$f":"IF(J1110=\"\",\"\",'Step 3) Fit Distribution'!$F$3*E1110+'Step 3) Fit Distribution'!$F$4)","v":""},"","","","","","",""]
[null,{"$f":"IF(AND('Step 1) Select Data'!B1130=\"\",'Step 1) Select Data'!D1130<>\"\"),'Step 1) Select Data'!D1130,\"\")","v":""},"",{"$f":"IF(B1111=\"\",\"\",'Step 1) Select Data'!E1130)","v":""},"","","","","","",{"$f":"IF(J1111=\"\",\"\",'Step 3) Fit Distribution'!$F$3*E1111+'Step 3) Fit Distribution'!$F$4)","v":""},"","","","","","",""]
[null,{"$f":"IF(AND('Step 1) Select Data'!B1131=\"\",'Step 1) Select Data'!D1131<>\"\"),'Step 1) Select Data'!D1131,\"\")","v":""},"",{"$f":"IF(B1112=\"\",\"\",'Step 1) Select Data'!E1131)","v":""},"","","","","","",{"$f":"IF(J1112=\"\",\"\",'Step 3) Fit Distribution'!$F$3*E1112+'Step 3) Fit Distribution'!$F$4)","v":""},"","","","","","",""]
[null,{"$f":"IF(AND('Step 1) Select Data'!B1132=\"\",'Step 1) Select Data'!D1132<>\"\"),'Step 1) Select Data'!D1132,\"\")","v":""},"",{"$f":"IF(B1113=\"\",\"\",'Step 1) Select Data'!E1132)","v":""},"","","","","","",{"$f":"IF(J1113=\"\",\"\",'Step 3) Fit Distribution'!$F$3*E1113+'Step 3) Fit Distribution'!$F$4)","v":""},"","","","","","",""]
[null,{"$f":"IF(AND('Step 1) Select Data'!B1133=\"\",'Step 1) Select Data'!D1133<>\"\"),'Step 1) Select Data'!D1133,\"\")","v":""},"",{"$f":"IF(B1114=\"\",\"\",'Step 1) Select Data'!E1133)","v":""},"","","","","","",{"$f":"IF(J1114=\"\",\"\",'Step 3) Fit Distribution'!$F$3*E1114+'Step 3) Fit Distribution'!$F$4)","v":""},"","","","","","",""]
[null,{"$f":"IF(AND('Step 1) Select Data'!B1134=\"\",'Step 1) Select Data'!D1134<>\"\"),'Step 1) Select Data'!D1134,\"\")","v":""},"",{"$f":"IF(B1115=\"\",\"\",'Step 1) Select Data'!E1134)","v":""},"","","","","","",{"$f":"IF(J1115=\"\",\"\",'Step 3) Fit Distribution'!$F$3*E1115+'Step 3) Fit Distribution'!$F$4)","v":""},"","","","","","",""]
[null,{"$f":"IF(AND('Step 1) Select Data'!B1135=\"\",'Step 1) Select Data'!D1135<>\"\"),'Step 1) Select Data'!D1135,\"\")","v":""},"",{"$f":"IF(B1116=\"\",\"\",'Step 1) Select Data'!E1135)","v":""},"","","","","","",{"$f":"IF(J1116=\"\",\"\",'Step 3) Fit Distribution'!$F$3*E1116+'Step 3) Fit Distribution'!$F$4)","v":""},"","","","","","",""]
[null,{"$f":"IF(AND('Step 1) Select Data'!B1136=\"\",'Step 1) Select Data'!D1136<>\"\"),'Step 1) Select Data'!D1136,\"\")","v":""},"",{"$f":"IF(B1117=\"\",\"\",'Step 1) Select Data'!E1136)","v":""},"","","","","","",{"$f":"IF(J1117=\"\",\"\",'Step 3) Fit Distribution'!$F$3*E1117+'Step 3) Fit Distribution'!$F$4)","v":""},"","","","","","",""]
[null,{"$f":"IF(AND('Step 1) Select Data'!B1137=\"\",'Step 1) Select Data'!D1137<>\"\"),'Step 1) Select Data'!D1137,\"\")","v":""},"",{"$f":"IF(B1118=\"\",\"\",'Step 1) Select Data'!E1137)","v":""},"","","","","","",{"$f":"IF(J1118=\"\",\"\",'Step 3) Fit Distribution'!$F$3*E1118+'Step 3) Fit Distribution'!$F$4)","v":""},"","","","","","",""]
[null,{"$f":"IF(AND('Step 1) Select Data'!B1138=\"\",'Step 1) Select Data'!D1138<>\"\"),'Step 1) Select Data'!D1138,\"\")","v":""},"",{"$f":"IF(B1119=\"\",\"\",'Step 1) Select Data'!E1138)","v":""},"","","","","","",{"$f":"IF(J1119=\"\",\"\",'Step 3) Fit Distribution'!$F$3*E1119+'Step 3) Fit Distribution'!$F$4)","v":""},"","","","","","",""]
[null,{"$f":"IF(AND('Step 1) Select Data'!B1139=\"\",'Step 1) Select Data'!D1139<>\"\"),'Step 1) Select Data'!D1139,\"\")","v":""},"",{"$f":"IF(B1120=\"\",\"\",'Step 1) Select Data'!E1139)","v":""},"","","","","","",{"$f":"IF(J1120=\"\",\"\",'Step 3) Fit Distribution'!$F$3*E1120+'Step 3) Fit Distribution'!$F$4)","v":""},"","","","","","",""]
[null,{"$f":"IF(AND('Step 1) Select Data'!B1140=\"\",'Step 1) Select Data'!D1140<>\"\"),'Step 1) Select Data'!D1140,\"\")","v":""},"",{"$f":"IF(B1121=\"\",\"\",'Step 1) Select Data'!E1140)","v":""},"","","","","","",{"$f":"IF(J1121=\"\",\"\",'Step 3) Fit Distribution'!$F$3*E1121+'Step 3) Fit Distribution'!$F$4)","v":""},"","","","","","",""]
[null,{"$f":"IF(AND('Step 1) Select Data'!B1141=\"\",'Step 1) Select Data'!D1141<>\"\"),'Step 1) Select Data'!D1141,\"\")","v":""},"",{"$f":"IF(B1122=\"\",\"\",'Step 1) Select Data'!E1141)","v":""},"","","","","","",{"$f":"IF(J1122=\"\",\"\",'Step 3) Fit Distribution'!$F$3*E1122+'Step 3) Fit Distribution'!$F$4)","v":""},"","","","","","",""]
[null,{"$f":"IF(AND('Step 1) Select Data'!B1142=\"\",'Step 1) Select Data'!D1142<>\"\"),'Step 1) Select Data'!D1142,\"\")","v":""},"",{"$f":"IF(B1123=\"\",\"\",'Step 1) Select Data'!E1142)","v":""},"","","","","","",{"$f":"IF(J1123=\"\",\"\",'Step 3) Fit Distribution'!$F$3*E1123+'Step 3) Fit Distribution'!$F$4)","v":""},"","","","","","",""]
[null,{"$f":"IF(AND('Step 1) Select Data'!B1143=\"\",'Step 1) Select Data'!D1143<>\"\"),'Step 1) Select Data'!D1143,\"\")","v":""},"",{"$f":"IF(B1124=\"\",\"\",'Step 1) Select Data'!E1143)","v":""},"","","","","","",{"$f":"IF(J1124=\"\",\"\",'Step 3) Fit Distribution'!$F$3*E1124+'Step 3) Fit Distribution'!$F$4)","v":""},"","","","","","",""]
[null,{"$f":"IF(AND('Step 1) Select Data'!B1144=\"\",'Step 1) Select Data'!D1144<>\"\"),'Step 1) Select Data'!D1144,\"\")","v":""},"",{"$f":"IF(B1125=\"\",\"\",'Step 1) Select Data'!E1144)","v":""},"","","","","","",{"$f":"IF(J1125=\"\",\"\",'Step 3) Fit Distribution'!$F$3*E1125+'Step 3) Fit Distribution'!$F$4)","v":""},"","","","","","",""]
[null,{"$f":"IF(AND('Step 1) Select Data'!B1145=\"\",'Step 1) Select Data'!D1145<>\"\"),'Step 1) Select Data'!D1145,\"\")","v":""},"",{"$f":"IF(B1126=\"\",\"\",'Step 1) Select Data'!E1145)","v":""},"","","","","","",{"$f":"IF(J1126=\"\",\"\",'Step 3) Fit Distribution'!$F$3*E1126+'Step 3) Fit Distribution'!$F$4)","v":""},"","","","","","",""]
[null,{"$f":"IF(AND('Step 1) Select Data'!B1146=\"\",'Step 1) Select Data'!D1146<>\"\"),'Step 1) Select Data'!D1146,\"\")","v":""},"",{"$f":"IF(B1127=\"\",\"\",'Step 1) Select Data'!E1146)","v":""},"","","","","","",{"$f":"IF(J1127=\"\",\"\",'Step 3) Fit Distribution'!$F$3*E1127+'Step 3) Fit Distribution'!$F$4)","v":""},"","","","","","",""]
[null,{"$f":"IF(AND('Step 1) Select Data'!B1147=\"\",'Step 1) Select Data'!D1147<>\"\"),'Step 1) Select Data'!D1147,\"\")","v":""},"",{"$f":"IF(B1128=\"\",\"\",'Step 1) Select Data'!E1147)","v":""},"","","","","","",{"$f":"IF(J1128=\"\",\"\",'Step 3) Fit Distribution'!$F$3*E1128+'Step 3) Fit Distribution'!$F$4)","v":""},"","","","","","",""]
[null,{"$f":"IF(AND('Step 1) Select Data'!B1148=\"\",'Step 1) Select Data'!D1148<>\"\"),'Step 1) Select Data'!D1148,\"\")","v":""},"",{"$f":"IF(B1129=\"\",\"\",'Step 1) Select Data'!E1148)","v":""},"","","","","","",{"$f":"IF(J1129=\"\",\"\",'Step 3) Fit Distribution'!$F$3*E1129+'Step 3) Fit Distribution'!$F$4)","v":""},"","","","","","",""]
[null,{"$f":"IF(AND('Step 1) Select Data'!B1149=\"\",'Step 1) Select Data'!D1149<>\"\"),'Step 1) Select Data'!D1149,\"\")","v":""},"",{"$f":"IF(B1130=\"\",\"\",'Step 1) Select Data'!E1149)","v":""},"","","","","","",{"$f":"IF(J1130=\"\",\"\",'Step 3) Fit Distribution'!$F$3*E1130+'Step 3) Fit Distribution'!$F$4)","v":""},"","","","","","",""]
[null,{"$f":"IF(AND('Step 1) Select Data'!B1150=\"\",'Step 1) Select Data'!D1150<>\"\"),'Step 1) Select Data'!D1150,\"\")","v":""},"",{"$f":"IF(B1131=\"\",\"\",'Step 1) Select Data'!E1150)","v":""},"","","","","","",{"$f":"IF(J1131=\"\",\"\",'Step 3) Fit Distribution'!$F$3*E1131+'Step 3) Fit Distribution'!$F$4)","v":""},"","","","","","",""]
[null,{"$f":"IF(AND('Step 1) Select Data'!B1151=\"\",'Step 1) Select Data'!D1151<>\"\"),'Step 1) Select Data'!D1151,\"\")","v":""},"",{"$f":"IF(B1132=\"\",\"\",'Step 1) Select Data'!E1151)","v":""},"","","","","","",{"$f":"IF(J1132=\"\",\"\",'Step 3) Fit Distribution'!$F$3*E1132+'Step 3) Fit Distribution'!$F$4)","v":""},"","","","","","",""]
[null,{"$f":"IF(AND('Step 1) Select Data'!B1152=\"\",'Step 1) Select Data'!D1152<>\"\"),'Step 1) Select Data'!D1152,\"\")","v":""},"",{"$f":"IF(B1133=\"\",\"\",'Step 1) Select Data'!E1152)","v":""},"","","","","","",{"$f":"IF(J1133=\"\",\"\",'Step 3) Fit Distribution'!$F$3*E1133+'Step 3) Fit Distribution'!$F$4)","v":""},"","","","","","",""]
[null,{"$f":"IF(AND('Step 1) Select Data'!B1153=\"\",'Step 1) Select Data'!D1153<>\"\"),'Step 1) Select Data'!D1153,\"\")","v":""},"",{"$f":"IF(B1134=\"\",\"\",'Step 1) Select Data'!E1153)","v":""},"","","","","","",{"$f":"IF(J1134=\"\",\"\",'Step 3) Fit Distribution'!$F$3*E1134+'Step 3) Fit Distribution'!$F$4)","v":""},"","","","","","",""]
[null,{"$f":"IF(AND('Step 1) Select Data'!B1154=\"\",'Step 1) Select Data'!D1154<>\"\"),'Step 1) Select Data'!D1154,\"\")","v":""},"",{"$f":"IF(B1135=\"\",\"\",'Step 1) Select Data'!E1154)","v":""},"","","","","","",{"$f":"IF(J1135=\"\",\"\",'Step 3) Fit Distribution'!$F$3*E1135+'Step 3) Fit Distribution'!$F$4)","v":""},"","","","","","",""]
[null,{"$f":"IF(AND('Step 1) Select Data'!B1155=\"\",'Step 1) Select Data'!D1155<>\"\"),'Step 1) Select Data'!D1155,\"\")","v":""},"",{"$f":"IF(B1136=\"\",\"\",'Step 1) Select Data'!E1155)","v":""},"","","","","","",{"$f":"IF(J1136=\"\",\"\",'Step 3) Fit Distribution'!$F$3*E1136+'Step 3) Fit Distribution'!$F$4)","v":""},"","","","","","",""]
[null,{"$f":"IF(AND('Step 1) Select Data'!B1156=\"\",'Step 1) Select Data'!D1156<>\"\"),'Step 1) Select Data'!D1156,\"\")","v":""},"",{"$f":"IF(B1137=\"\",\"\",'Step 1) Select Data'!E1156)","v":""},"","","","","","",{"$f":"IF(J1137=\"\",\"\",'Step 3) Fit Distribution'!$F$3*E1137+'Step 3) Fit Distribution'!$F$4)","v":""},"","","","","","",""]
[null,{"$f":"IF(AND('Step 1) Select Data'!B1157=\"\",'Step 1) Select Data'!D1157<>\"\"),'Step 1) Select Data'!D1157,\"\")","v":""},"",{"$f":"IF(B1138=\"\",\"\",'Step 1) Select Data'!E1157)","v":""},"","","","","","",{"$f":"IF(J1138=\"\",\"\",'Step 3) Fit Distribution'!$F$3*E1138+'Step 3) Fit Distribution'!$F$4)","v":""},"","","","","","",""]
[null,{"$f":"IF(AND('Step 1) Select Data'!B1158=\"\",'Step 1) Select Data'!D1158<>\"\"),'Step 1) Select Data'!D1158,\"\")","v":""},"",{"$f":"IF(B1139=\"\",\"\",'Step 1) Select Data'!E1158)","v":""},"","","","","","",{"$f":"IF(J1139=\"\",\"\",'Step 3) Fit Distribution'!$F$3*E1139+'Step 3) Fit Distribution'!$F$4)","v":""},"","","","","","",""]
[null,{"$f":"IF(AND('Step 1) Select Data'!B1159=\"\",'Step 1) Select Data'!D1159<>\"\"),'Step 1) Select Data'!D1159,\"\")","v":""},"",{"$f":"IF(B1140=\"\",\"\",'Step 1) Select Data'!E1159)","v":""},"","","","","","",{"$f":"IF(J1140=\"\",\"\",'Step 3) Fit Distribution'!$F$3*E1140+'Step 3) Fit Distribution'!$F$4)","v":""},"","","","","","",""]
[null,{"$f":"IF(AND('Step 1) Select Data'!B1160=\"\",'Step 1) Select Data'!D1160<>\"\"),'Step 1) Select Data'!D1160,\"\")","v":""},"",{"$f":"IF(B1141=\"\",\"\",'Step 1) Select Data'!E1160)","v":""},"","","","","","",{"$f":"IF(J1141=\"\",\"\",'Step 3) Fit Distribution'!$F$3*E1141+'Step 3) Fit Distribution'!$F$4)","v":""},"","","","","","",""]
[null,{"$f":"IF(AND('Step 1) Select Data'!B1161=\"\",'Step 1) Select Data'!D1161<>\"\"),'Step 1) Select Data'!D1161,\"\")","v":""},"",{"$f":"IF(B1142=\"\",\"\",'Step 1) Select Data'!E1161)","v":""},"","","","","","",{"$f":"IF(J1142=\"\",\"\",'Step 3) Fit Distribution'!$F$3*E1142+'Step 3) Fit Distribution'!$F$4)","v":""},"","","","","","",""]
[null,{"$f":"IF(AND('Step 1) Select Data'!B1162=\"\",'Step 1) Select Data'!D1162<>\"\"),'Step 1) Select Data'!D1162,\"\")","v":""},"",{"$f":"IF(B1143=\"\",\"\",'Step 1) Select Data'!E1162)","v":""},"","","","","","",{"$f":"IF(J1143=\"\",\"\",'Step 3) Fit Distribution'!$F$3*E1143+'Step 3) Fit Distribution'!$F$4)","v":""},"","","","","","",""]
[null,{"$f":"IF(AND('Step 1) Select Data'!B1163=\"\",'Step 1) Select Data'!D1163<>\"\"),'Step 1) Select Data'!D1163,\"\")","v":""},"",{"$f":"IF(B1144=\"\",\"\",'Step 1) Select Data'!E1163)","v":""},"","","","","","",{"$f":"IF(J1144=\"\",\"\",'Step 3) Fit Distribution'!$F$3*E1144+'Step 3) Fit Distribution'!$F$4)","v":""},"","","","","","",""]
[null,{"$f":"IF(AND('Step 1) Select Data'!B1164=\"\",'Step 1) Select Data'!D1164<>\"\"),'Step 1) Select Data'!D1164,\"\")","v":""},"",{"$f":"IF(B1145=\"\",\"\",'Step 1) Select Data'!E1164)","v":""},"","","","","","",{"$f":"IF(J1145=\"\",\"\",'Step 3) Fit Distribution'!$F$3*E1145+'Step 3) Fit Distribution'!$F$4)","v":""},"","","","","","",""]
[null,{"$f":"IF(AND('Step 1) Select Data'!B1165=\"\",'Step 1) Select Data'!D1165<>\"\"),'Step 1) Select Data'!D1165,\"\")","v":""},"",{"$f":"IF(B1146=\"\",\"\",'Step 1) Select Data'!E1165)","v":""},"","","","","","",{"$f":"IF(J1146=\"\",\"\",'Step 3) Fit Distribution'!$F$3*E1146+'Step 3) Fit Distribution'!$F$4)","v":""},"","","","","","",""]
[null,{"$f":"IF(AND('Step 1) Select Data'!B1166=\"\",'Step 1) Select Data'!D1166<>\"\"),'Step 1) Select Data'!D1166,\"\")","v":""},"",{"$f":"IF(B1147=\"\",\"\",'Step 1) Select Data'!E1166)","v":""},"","","","","","",{"$f":"IF(J1147=\"\",\"\",'Step 3) Fit Distribution'!$F$3*E1147+'Step 3) Fit Distribution'!$F$4)","v":""},"","","","","","",""]
[null,{"$f":"IF(AND('Step 1) Select Data'!B1167=\"\",'Step 1) Select Data'!D1167<>\"\"),'Step 1) Select Data'!D1167,\"\")","v":""},"",{"$f":"IF(B1148=\"\",\"\",'Step 1) Select Data'!E1167)","v":""},"","","","","","",{"$f":"IF(J1148=\"\",\"\",'Step 3) Fit Distribution'!$F$3*E1148+'Step 3) Fit Distribution'!$F$4)","v":""},"","","","","","",""]
[null,{"$f":"IF(AND('Step 1) Select Data'!B1168=\"\",'Step 1) Select Data'!D1168<>\"\"),'Step 1) Select Data'!D1168,\"\")","v":""},"",{"$f":"IF(B1149=\"\",\"\",'Step 1) Select Data'!E1168)","v":""},"","","","","","",{"$f":"IF(J1149=\"\",\"\",'Step 3) Fit Distribution'!$F$3*E1149+'Step 3) Fit Distribution'!$F$4)","v":""},"","","","","","",""]
[null,{"$f":"IF(AND('Step 1) Select Data'!B1169=\"\",'Step 1) Select Data'!D1169<>\"\"),'Step 1) Select Data'!D1169,\"\")","v":""},"",{"$f":"IF(B1150=\"\",\"\",'Step 1) Select Data'!E1169)","v":""},"","","","","","",{"$f":"IF(J1150=\"\",\"\",'Step 3) Fit Distribution'!$F$3*E1150+'Step 3) Fit Distribution'!$F$4)","v":""},"","","","","","",""]
[null,{"$f":"IF(AND('Step 1) Select Data'!B1170=\"\",'Step 1) Select Data'!D1170<>\"\"),'Step 1) Select Data'!D1170,\"\")","v":""},"",{"$f":"IF(B1151=\"\",\"\",'Step 1) Select Data'!E1170)","v":""},"","","","","","",{"$f":"IF(J1151=\"\",\"\",'Step 3) Fit Distribution'!$F$3*E1151+'Step 3) Fit Distribution'!$F$4)","v":""},"","","","","","",""]
[null,{"$f":"IF(AND('Step 1) Select Data'!B1171=\"\",'Step 1) Select Data'!D1171<>\"\"),'Step 1) Select Data'!D1171,\"\")","v":""},"",{"$f":"IF(B1152=\"\",\"\",'Step 1) Select Data'!E1171)","v":""},"","","","","","",{"$f":"IF(J1152=\"\",\"\",'Step 3) Fit Distribution'!$F$3*E1152+'Step 3) Fit Distribution'!$F$4)","v":""},"","","","","","",""]
[null,{"$f":"IF(AND('Step 1) Select Data'!B1172=\"\",'Step 1) Select Data'!D1172<>\"\"),'Step 1) Select Data'!D1172,\"\")","v":""},"",{"$f":"IF(B1153=\"\",\"\",'Step 1) Select Data'!E1172)","v":""},"","","","","","",{"$f":"IF(J1153=\"\",\"\",'Step 3) Fit Distribution'!$F$3*E1153+'Step 3) Fit Distribution'!$F$4)","v":""},"","","","","","",""]
[null,{"$f":"IF(AND('Step 1) Select Data'!B1173=\"\",'Step 1) Select Data'!D1173<>\"\"),'Step 1) Select Data'!D1173,\"\")","v":""},"",{"$f":"IF(B1154=\"\",\"\",'Step 1) Select Data'!E1173)","v":""},"","","","","","",{"$f":"IF(J1154=\"\",\"\",'Step 3) Fit Distribution'!$F$3*E1154+'Step 3) Fit Distribution'!$F$4)","v":""},"","","","","","",""]
[null,{"$f":"IF(AND('Step 1) Select Data'!B1174=\"\",'Step 1) Select Data'!D1174<>\"\"),'Step 1) Select Data'!D1174,\"\")","v":""},"",{"$f":"IF(B1155=\"\",\"\",'Step 1) Select Data'!E1174)","v":""},"","","","","","",{"$f":"IF(J1155=\"\",\"\",'Step 3) Fit Distribution'!$F$3*E1155+'Step 3) Fit Distribution'!$F$4)","v":""},"","","","","","",""]
[null,{"$f":"IF(AND('Step 1) Select Data'!B1175=\"\",'Step 1) Select Data'!D1175<>\"\"),'Step 1) Select Data'!D1175,\"\")","v":""},"",{"$f":"IF(B1156=\"\",\"\",'Step 1) Select Data'!E1175)","v":""},"","","","","","",{"$f":"IF(J1156=\"\",\"\",'Step 3) Fit Distribution'!$F$3*E1156+'Step 3) Fit Distribution'!$F$4)","v":""},"","","","","","",""]
[null,{"$f":"IF(AND('Step 1) Select Data'!B1176=\"\",'Step 1) Select Data'!D1176<>\"\"),'Step 1) Select Data'!D1176,\"\")","v":""},"",{"$f":"IF(B1157=\"\",\"\",'Step 1) Select Data'!E1176)","v":""},"","","","","","",{"$f":"IF(J1157=\"\",\"\",'Step 3) Fit Distribution'!$F$3*E1157+'Step 3) Fit Distribution'!$F$4)","v":""},"","","","","","",""]
[null,{"$f":"IF(AND('Step 1) Select Data'!B1177=\"\",'Step 1) Select Data'!D1177<>\"\"),'Step 1) Select Data'!D1177,\"\")","v":""},"",{"$f":"IF(B1158=\"\",\"\",'Step 1) Select Data'!E1177)","v":""},"","","","","","",{"$f":"IF(J1158=\"\",\"\",'Step 3) Fit Distribution'!$F$3*E1158+'Step 3) Fit Distribution'!$F$4)","v":""},"","","","","","",""]
[null,{"$f":"IF(AND('Step 1) Select Data'!B1178=\"\",'Step 1) Select Data'!D1178<>\"\"),'Step 1) Select Data'!D1178,\"\")","v":""},{"$f":"IF(B1159=\"\",\"\",IF(OR(M1159>=M1160,M1160=\"\"),M1159,\"\"))","v":""},{"$f":"IF(B1159=\"\",\"\",'Step 1) Select Data'!E1178)","v":""},{"$f":"IF(C1159=\"\",\"\",LOG10(N1159)*(1/C1159))","v":""},{"$f":"IF(OR(M1159=\"\",C1159=1),\"\",IF(C1159=\"\",\"\",SQRT(R1159/(C1159-1))))","v":""},{"$f":"IF(E1159=\"\",\"\",10^E1159)","v":""},{"$f":"IF(I1159=\"\",\"\",(I1159-0.5)/COUNT($E$6:$E$2004))","v":""},{"$f":"IF(E1159=\"\",\"\",RANK(E1159,$E$6:$E$2004,1))","v":""},{"$f":"IF(H1159=\"\",\"\",NORMINV(H1159,5,1))","v":""},{"$f":"IF(J1159=\"\",\"\",'Step 3) Fit Distribution'!$F$3*E1159+'Step 3) Fit Distribution'!$F$4)","v":""},{"$f":"IF(K1159=\"\",\"\",(K1159-J1159)^2)","v":""},{"$f":"IF(B1159=\"\",\"\",IF(B1159<>B1158,1,M1158+1))","v":""},{"$f":"IF(B1159=\"\",\"\",IF(B1159<>B1158,ROUND(D1159,4),ROUND(D1159,4)*N1158))","v":""},{"$f":"IF(OR(M1159=\"\",C1159=1),\"\",IF(AND(M1159<>\"\",C1159=\"\",E1159=\"\"),O1160,E1159))","v":""},{"$f":"IF(OR(M1159=\"\",C1159=1),\"\",IF(AND(M1159<>\"\",C1159=\"\",E1159=\"\"),P1160,C1159))","v":""},"",{"$f":"IF(Q1159=\"\",\"\",IF(O1159=O1158,Q1159+R1158,Q1159))","v":""}]
[null,{"$f":"IF(AND('Step 1) Select Data'!B1179=\"\",'Step 1) Select Data'!D1179<>\"\"),'Step 1) Select Data'!D1179,\"\")","v":""},"",{"$f":"IF(B1160=\"\",\"\",'Step 1) Select Data'!E1179)","v":""},"","","","","","",{"$f":"IF(J1160=\"\",\"\",'Step 3) Fit Distribution'!$F$3*E1160+'Step 3) Fit Distribution'!$F$4)","v":""},"","","","","","",""]
[null,{"$f":"IF(AND('Step 1) Select Data'!B1180=\"\",'Step 1) Select Data'!D1180<>\"\"),'Step 1) Select Data'!D1180,\"\")","v":""},"",{"$f":"IF(B1161=\"\",\"\",'Step 1) Select Data'!E1180)","v":""},"","","","","","",{"$f":"IF(J1161=\"\",\"\",'Step 3) Fit Distribution'!$F$3*E1161+'Step 3) Fit Distribution'!$F$4)","v":""},"","","","","","",""]
[null,{"$f":"IF(AND('Step 1) Select Data'!B1181=\"\",'Step 1) Select Data'!D1181<>\"\"),'Step 1) Select Data'!D1181,\"\")","v":""},"",{"$f":"IF(B1162=\"\",\"\",'Step 1) Select Data'!E1181)","v":""},"","","","","","",{"$f":"IF(J1162=\"\",\"\",'Step 3) Fit Distribution'!$F$3*E1162+'Step 3) Fit Distribution'!$F$4)","v":""},"","","","","","",""]
[null,{"$f":"IF(AND('Step 1) Select Data'!B1182=\"\",'Step 1) Select Data'!D1182<>\"\"),'Step 1) Select Data'!D1182,\"\")","v":""},"",{"$f":"IF(B1163=\"\",\"\",'Step 1) Select Data'!E1182)","v":""},"","","","","","",{"$f":"IF(J1163=\"\",\"\",'Step 3) Fit Distribution'!$F$3*E1163+'Step 3) Fit Distribution'!$F$4)","v":""},"","","","","","",""]
[null,{"$f":"IF(AND('Step 1) Select Data'!B1183=\"\",'Step 1) Select Data'!D1183<>\"\"),'Step 1) Select Data'!D1183,\"\")","v":""},"",{"$f":"IF(B1164=\"\",\"\",'Step 1) Select Data'!E1183)","v":""},"","","","","","",{"$f":"IF(J1164=\"\",\"\",'Step 3) Fit Distribution'!$F$3*E1164+'Step 3) Fit Distribution'!$F$4)","v":""},"","","","","","",""]
[null,{"$f":"IF(AND('Step 1) Select Data'!B1184=\"\",'Step 1) Select Data'!D1184<>\"\"),'Step 1) Select Data'!D1184,\"\")","v":""},"",{"$f":"IF(B1165=\"\",\"\",'Step 1) Select Data'!E1184)","v":""},"","","","","","",{"$f":"IF(J1165=\"\",\"\",'Step 3) Fit Distribution'!$F$3*E1165+'Step 3) Fit Distribution'!$F$4)","v":""},"","","","","","",""]
[null,{"$f":"IF(AND('Step 1) Select Data'!B1185=\"\",'Step 1) Select Data'!D1185<>\"\"),'Step 1) Select Data'!D1185,\"\")","v":""},"",{"$f":"IF(B1166=\"\",\"\",'Step 1) Select Data'!E1185)","v":""},"","","","","","",{"$f":"IF(J1166=\"\",\"\",'Step 3) Fit Distribution'!$F$3*E1166+'Step 3) Fit Distribution'!$F$4)","v":""},"","","","","","",""]
[null,{"$f":"IF(AND('Step 1) Select Data'!B1186=\"\",'Step 1) Select Data'!D1186<>\"\"),'Step 1) Select Data'!D1186,\"\")","v":""},"",{"$f":"IF(B1167=\"\",\"\",'Step 1) Select Data'!E1186)","v":""},"","","","","","",{"$f":"IF(J1167=\"\",\"\",'Step 3) Fit Distribution'!$F$3*E1167+'Step 3) Fit Distribution'!$F$4)","v":""},"","","","","","",""]
[null,{"$f":"IF(AND('Step 1) Select Data'!B1187=\"\",'Step 1) Select Data'!D1187<>\"\"),'Step 1) Select Data'!D1187,\"\")","v":""},"",{"$f":"IF(B1168=\"\",\"\",'Step 1) Select Data'!E1187)","v":""},"","","","","","",{"$f":"IF(J1168=\"\",\"\",'Step 3) Fit Distribution'!$F$3*E1168+'Step 3) Fit Distribution'!$F$4)","v":""},"","","","","","",""]
[null,{"$f":"IF(AND('Step 1) Select Data'!B1188=\"\",'Step 1) Select Data'!D1188<>\"\"),'Step 1) Select Data'!D1188,\"\")","v":""},"",{"$f":"IF(B1169=\"\",\"\",'Step 1) Select Data'!E1188)","v":""},"","","","","","",{"$f":"IF(J1169=\"\",\"\",'Step 3) Fit Distribution'!$F$3*E1169+'Step 3) Fit Distribution'!$F$4)","v":""},"","","","","","",""]
[null,{"$f":"IF(AND('Step 1) Select Data'!B1189=\"\",'Step 1) Select Data'!D1189<>\"\"),'Step 1) Select Data'!D1189,\"\")","v":""},"",{"$f":"IF(B1170=\"\",\"\",'Step 1) Select Data'!E1189)","v":""},"","","","","","",{"$f":"IF(J1170=\"\",\"\",'Step 3) Fit Distribution'!$F$3*E1170+'Step 3) Fit Distribution'!$F$4)","v":""},"","","","","","",""]
[null,{"$f":"IF(AND('Step 1) Select Data'!B1190=\"\",'Step 1) Select Data'!D1190<>\"\"),'Step 1) Select Data'!D1190,\"\")","v":""},"",{"$f":"IF(B1171=\"\",\"\",'Step 1) Select Data'!E1190)","v":""},"","","","","","",{"$f":"IF(J1171=\"\",\"\",'Step 3) Fit Distribution'!$F$3*E1171+'Step 3) Fit Distribution'!$F$4)","v":""},"","","","","","",""]
[null,{"$f":"IF(AND('Step 1) Select Data'!B1191=\"\",'Step 1) Select Data'!D1191<>\"\"),'Step 1) Select Data'!D1191,\"\")","v":""},"",{"$f":"IF(B1172=\"\",\"\",'Step 1) Select Data'!E1191)","v":""},"","","","","","",{"$f":"IF(J1172=\"\",\"\",'Step 3) Fit Distribution'!$F$3*E1172+'Step 3) Fit Distribution'!$F$4)","v":""},"","","","","",{"$f":"IF(O1172=\"\",\"\",ROUND(LOG(D1172)-O1172,4)^2)","v":""},""]
[null,{"$f":"IF(AND('Step 1) Select Data'!B1192=\"\",'Step 1) Select Data'!D1192<>\"\"),'Step 1) Select Data'!D1192,\"\")","v":""},"",{"$f":"IF(B1173=\"\",\"\",'Step 1) Select Data'!E1192)","v":""},"","","","","","",{"$f":"IF(J1173=\"\",\"\",'Step 3) Fit Distribution'!$F$3*E1173+'Step 3) Fit Distribution'!$F$4)","v":""},"","","","","","",""]
[null,{"$f":"IF(AND('Step 1) Select Data'!B1193=\"\",'Step 1) Select Data'!D1193<>\"\"),'Step 1) Select Data'!D1193,\"\")","v":""},"",{"$f":"IF(B1174=\"\",\"\",'Step 1) Select Data'!E1193)","v":""},"","","","","","",{"$f":"IF(J1174=\"\",\"\",'Step 3) Fit Distribution'!$F$3*E1174+'Step 3) Fit Distribution'!$F$4)","v":""},"","","","","","",""]
[null,{"$f":"IF(AND('Step 1) Select Data'!B1194=\"\",'Step 1) Select Data'!D1194<>\"\"),'Step 1) Select Data'!D1194,\"\")","v":""},"",{"$f":"IF(B1175=\"\",\"\",'Step 1) Select Data'!E1194)","v":""},"","","","","","",{"$f":"IF(J1175=\"\",\"\",'Step 3) Fit Distribution'!$F$3*E1175+'Step 3) Fit Distribution'!$F$4)","v":""},"","","","","","",""]
[null,{"$f":"IF(AND('Step 1) Select Data'!B1195=\"\",'Step 1) Select Data'!D1195<>\"\"),'Step 1) Select Data'!D1195,\"\")","v":""},"",{"$f":"IF(B1176=\"\",\"\",'Step 1) Select Data'!E1195)","v":""},"","","","","","",{"$f":"IF(J1176=\"\",\"\",'Step 3) Fit Distribution'!$F$3*E1176+'Step 3) Fit Distribution'!$F$4)","v":""},"","","","","","",""]
[null,{"$f":"IF(AND('Step 1) Select Data'!B1196=\"\",'Step 1) Select Data'!D1196<>\"\"),'Step 1) Select Data'!D1196,\"\")","v":""},"",{"$f":"IF(B1177=\"\",\"\",'Step 1) Select Data'!E1196)","v":""},"","","","","","",{"$f":"IF(J1177=\"\",\"\",'Step 3) Fit Distribution'!$F$3*E1177+'Step 3) Fit Distribution'!$F$4)","v":""},"","","","","","",""]
[null,{"$f":"IF(AND('Step 1) Select Data'!B1197=\"\",'Step 1) Select Data'!D1197<>\"\"),'Step 1) Select Data'!D1197,\"\")","v":""},"",{"$f":"IF(B1178=\"\",\"\",'Step 1) Select Data'!E1197)","v":""},"","","","","","",{"$f":"IF(J1178=\"\",\"\",'Step 3) Fit Distribution'!$F$3*E1178+'Step 3) Fit Distribution'!$F$4)","v":""},"","","","","","",""]
[null,{"$f":"IF(AND('Step 1) Select Data'!B1198=\"\",'Step 1) Select Data'!D1198<>\"\"),'Step 1) Select Data'!D1198,\"\")","v":""},"",{"$f":"IF(B1179=\"\",\"\",'Step 1) Select Data'!E1198)","v":""},"","","","","","",{"$f":"IF(J1179=\"\",\"\",'Step 3) Fit Distribution'!$F$3*E1179+'Step 3) Fit Distribution'!$F$4)","v":""},"","","","","","",""]
[null,{"$f":"IF(AND('Step 1) Select Data'!B1199=\"\",'Step 1) Select Data'!D1199<>\"\"),'Step 1) Select Data'!D1199,\"\")","v":""},"",{"$f":"IF(B1180=\"\",\"\",'Step 1) Select Data'!E1199)","v":""},"","","","","","",{"$f":"IF(J1180=\"\",\"\",'Step 3) Fit Distribution'!$F$3*E1180+'Step 3) Fit Distribution'!$F$4)","v":""},"","","","","","",""]
[null,{"$f":"IF(AND('Step 1) Select Data'!B1200=\"\",'Step 1) Select Data'!D1200<>\"\"),'Step 1) Select Data'!D1200,\"\")","v":""},"",{"$f":"IF(B1181=\"\",\"\",'Step 1) Select Data'!E1200)","v":""},"","","","","","",{"$f":"IF(J1181=\"\",\"\",'Step 3) Fit Distribution'!$F$3*E1181+'Step 3) Fit Distribution'!$F$4)","v":""},"","","","","","",""]
[null,{"$f":"IF(AND('Step 1) Select Data'!B1201=\"\",'Step 1) Select Data'!D1201<>\"\"),'Step 1) Select Data'!D1201,\"\")","v":""},"",{"$f":"IF(B1182=\"\",\"\",'Step 1) Select Data'!E1201)","v":""},"","","","","","",{"$f":"IF(J1182=\"\",\"\",'Step 3) Fit Distribution'!$F$3*E1182+'Step 3) Fit Distribution'!$F$4)","v":""},"","","","","","",""]
[null,{"$f":"IF(AND('Step 1) Select Data'!B1202=\"\",'Step 1) Select Data'!D1202<>\"\"),'Step 1) Select Data'!D1202,\"\")","v":""},"",{"$f":"IF(B1183=\"\",\"\",'Step 1) Select Data'!E1202)","v":""},"","","","","","",{"$f":"IF(J1183=\"\",\"\",'Step 3) Fit Distribution'!$F$3*E1183+'Step 3) Fit Distribution'!$F$4)","v":""},"","","","","","",""]
[null,{"$f":"IF(AND('Step 1) Select Data'!B1203=\"\",'Step 1) Select Data'!D1203<>\"\"),'Step 1) Select Data'!D1203,\"\")","v":""},"",{"$f":"IF(B1184=\"\",\"\",'Step 1) Select Data'!E1203)","v":""},"","","","","","",{"$f":"IF(J1184=\"\",\"\",'Step 3) Fit Distribution'!$F$3*E1184+'Step 3) Fit Distribution'!$F$4)","v":""},"","","","","","",""]
[null,{"$f":"IF(AND('Step 1) Select Data'!B1204=\"\",'Step 1) Select Data'!D1204<>\"\"),'Step 1) Select Data'!D1204,\"\")","v":""},"",{"$f":"IF(B1185=\"\",\"\",'Step 1) Select Data'!E1204)","v":""},"","","","","","",{"$f":"IF(J1185=\"\",\"\",'Step 3) Fit Distribution'!$F$3*E1185+'Step 3) Fit Distribution'!$F$4)","v":""},"","","","","","",""]
[null,{"$f":"IF(AND('Step 1) Select Data'!B1205=\"\",'Step 1) Select Data'!D1205<>\"\"),'Step 1) Select Data'!D1205,\"\")","v":""},"",{"$f":"IF(B1186=\"\",\"\",'Step 1) Select Data'!E1205)","v":""},"","","","","","",{"$f":"IF(J1186=\"\",\"\",'Step 3) Fit Distribution'!$F$3*E1186+'Step 3) Fit Distribution'!$F$4)","v":""},"","","","","","",""]
[null,{"$f":"IF(AND('Step 1) Select Data'!B1206=\"\",'Step 1) Select Data'!D1206<>\"\"),'Step 1) Select Data'!D1206,\"\")","v":""},"",{"$f":"IF(B1187=\"\",\"\",'Step 1) Select Data'!E1206)","v":""},"","","","","","",{"$f":"IF(J1187=\"\",\"\",'Step 3) Fit Distribution'!$F$3*E1187+'Step 3) Fit Distribution'!$F$4)","v":""},"","","","","","",""]
[null,{"$f":"IF(AND('Step 1) Select Data'!B1207=\"\",'Step 1) Select Data'!D1207<>\"\"),'Step 1) Select Data'!D1207,\"\")","v":""},"",{"$f":"IF(B1188=\"\",\"\",'Step 1) Select Data'!E1207)","v":""},"","","","","","",{"$f":"IF(J1188=\"\",\"\",'Step 3) Fit Distribution'!$F$3*E1188+'Step 3) Fit Distribution'!$F$4)","v":""},"","","","","","",""]
[null,{"$f":"IF(AND('Step 1) Select Data'!B1208=\"\",'Step 1) Select Data'!D1208<>\"\"),'Step 1) Select Data'!D1208,\"\")","v":""},"",{"$f":"IF(B1189=\"\",\"\",'Step 1) Select Data'!E1208)","v":""},"","","","","","",{"$f":"IF(J1189=\"\",\"\",'Step 3) Fit Distribution'!$F$3*E1189+'Step 3) Fit Distribution'!$F$4)","v":""},"","","","","","",""]
[null,{"$f":"IF(AND('Step 1) Select Data'!B1209=\"\",'Step 1) Select Data'!D1209<>\"\"),'Step 1) Select Data'!D1209,\"\")","v":""},"",{"$f":"IF(B1190=\"\",\"\",'Step 1) Select Data'!E1209)","v":""},"","","","","","",{"$f":"IF(J1190=\"\",\"\",'Step 3) Fit Distribution'!$F$3*E1190+'Step 3) Fit Distribution'!$F$4)","v":""},"","","","","","",""]
[null,{"$f":"IF(AND('Step 1) Select Data'!B1210=\"\",'Step 1) Select Data'!D1210<>\"\"),'Step 1) Select Data'!D1210,\"\")","v":""},"",{"$f":"IF(B1191=\"\",\"\",'Step 1) Select Data'!E1210)","v":""},"","","","","","",{"$f":"IF(J1191=\"\",\"\",'Step 3) Fit Distribution'!$F$3*E1191+'Step 3) Fit Distribution'!$F$4)","v":""},"","","","","","",""]
[null,{"$f":"IF(AND('Step 1) Select Data'!B1211=\"\",'Step 1) Select Data'!D1211<>\"\"),'Step 1) Select Data'!D1211,\"\")","v":""},"",{"$f":"IF(B1192=\"\",\"\",'Step 1) Select Data'!E1211)","v":""},"","","","","","",{"$f":"IF(J1192=\"\",\"\",'Step 3) Fit Distribution'!$F$3*E1192+'Step 3) Fit Distribution'!$F$4)","v":""},"","","","","","",""]
[null,{"$f":"IF(AND('Step 1) Select Data'!B1212=\"\",'Step 1) Select Data'!D1212<>\"\"),'Step 1) Select Data'!D1212,\"\")","v":""},"",{"$f":"IF(B1193=\"\",\"\",'Step 1) Select Data'!E1212)","v":""},"","","","","","",{"$f":"IF(J1193=\"\",\"\",'Step 3) Fit Distribution'!$F$3*E1193+'Step 3) Fit Distribution'!$F$4)","v":""},"","","","","","",""]
[null,{"$f":"IF(AND('Step 1) Select Data'!B1213=\"\",'Step 1) Select Data'!D1213<>\"\"),'Step 1) Select Data'!D1213,\"\")","v":""},"",{"$f":"IF(B1194=\"\",\"\",'Step 1) Select Data'!E1213)","v":""},"","","","","","",{"$f":"IF(J1194=\"\",\"\",'Step 3) Fit Distribution'!$F$3*E1194+'Step 3) Fit Distribution'!$F$4)","v":""},"","","","","","",""]
[null,{"$f":"IF(AND('Step 1) Select Data'!B1214=\"\",'Step 1) Select Data'!D1214<>\"\"),'Step 1) Select Data'!D1214,\"\")","v":""},"",{"$f":"IF(B1195=\"\",\"\",'Step 1) Select Data'!E1214)","v":""},"","","","","","",{"$f":"IF(J1195=\"\",\"\",'Step 3) Fit Distribution'!$F$3*E1195+'Step 3) Fit Distribution'!$F$4)","v":""},"","","","","","",""]
[null,{"$f":"IF(AND('Step 1) Select Data'!B1215=\"\",'Step 1) Select Data'!D1215<>\"\"),'Step 1) Select Data'!D1215,\"\")","v":""},"",{"$f":"IF(B1196=\"\",\"\",'Step 1) Select Data'!E1215)","v":""},"","","","","","",{"$f":"IF(J1196=\"\",\"\",'Step 3) Fit Distribution'!$F$3*E1196+'Step 3) Fit Distribution'!$F$4)","v":""},"","","","","","",""]
[null,{"$f":"IF(AND('Step 1) Select Data'!B1216=\"\",'Step 1) Select Data'!D1216<>\"\"),'Step 1) Select Data'!D1216,\"\")","v":""},"",{"$f":"IF(B1197=\"\",\"\",'Step 1) Select Data'!E1216)","v":""},"","","","","","",{"$f":"IF(J1197=\"\",\"\",'Step 3) Fit Distribution'!$F$3*E1197+'Step 3) Fit Distribution'!$F$4)","v":""},"","","","","","",""]
[null,{"$f":"IF(AND('Step 1) Select Data'!B1217=\"\",'Step 1) Select Data'!D1217<>\"\"),'Step 1) Select Data'!D1217,\"\")","v":""},"",{"$f":"IF(B1198=\"\",\"\",'Step 1) Select Data'!E1217)","v":""},"","","","","","",{"$f":"IF(J1198=\"\",\"\",'Step 3) Fit Distribution'!$F$3*E1198+'Step 3) Fit Distribution'!$F$4)","v":""},"","","","","","",""]
[null,{"$f":"IF(AND('Step 1) Select Data'!B1218=\"\",'Step 1) Select Data'!D1218<>\"\"),'Step 1) Select Data'!D1218,\"\")","v":""},"",{"$f":"IF(B1199=\"\",\"\",'Step 1) Select Data'!E1218)","v":""},"","","","","","",{"$f":"IF(J1199=\"\",\"\",'Step 3) Fit Distribution'!$F$3*E1199+'Step 3) Fit Distribution'!$F$4)","v":""},"","","","","","",""]
[null,{"$f":"IF(AND('Step 1) Select Data'!B1219=\"\",'Step 1) Select Data'!D1219<>\"\"),'Step 1) Select Data'!D1219,\"\")","v":""},"",{"$f":"IF(B1200=\"\",\"\",'Step 1) Select Data'!E1219)","v":""},"","","","","","",{"$f":"IF(J1200=\"\",\"\",'Step 3) Fit Distribution'!$F$3*E1200+'Step 3) Fit Distribution'!$F$4)","v":""},"","","","","","",""]
[null,{"$f":"IF(AND('Step 1) Select Data'!B1220=\"\",'Step 1) Select Data'!D1220<>\"\"),'Step 1) Select Data'!D1220,\"\")","v":""},"",{"$f":"IF(B1201=\"\",\"\",'Step 1) Select Data'!E1220)","v":""},"","","","","","",{"$f":"IF(J1201=\"\",\"\",'Step 3) Fit Distribution'!$F$3*E1201+'Step 3) Fit Distribution'!$F$4)","v":""},"","","","","","",""]
[null,{"$f":"IF(AND('Step 1) Select Data'!B1221=\"\",'Step 1) Select Data'!D1221<>\"\"),'Step 1) Select Data'!D1221,\"\")","v":""},"",{"$f":"IF(B1202=\"\",\"\",'Step 1) Select Data'!E1221)","v":""},"","","","","","",{"$f":"IF(J1202=\"\",\"\",'Step 3) Fit Distribution'!$F$3*E1202+'Step 3) Fit Distribution'!$F$4)","v":""},"","","","","","",""]
[null,{"$f":"IF(AND('Step 1) Select Data'!B1222=\"\",'Step 1) Select Data'!D1222<>\"\"),'Step 1) Select Data'!D1222,\"\")","v":""},"",{"$f":"IF(B1203=\"\",\"\",'Step 1) Select Data'!E1222)","v":""},"","","","","","",{"$f":"IF(J1203=\"\",\"\",'Step 3) Fit Distribution'!$F$3*E1203+'Step 3) Fit Distribution'!$F$4)","v":""},"","","","","","",""]
[null,{"$f":"IF(AND('Step 1) Select Data'!B1223=\"\",'Step 1) Select Data'!D1223<>\"\"),'Step 1) Select Data'!D1223,\"\")","v":""},"",{"$f":"IF(B1204=\"\",\"\",'Step 1) Select Data'!E1223)","v":""},"","","","","","",{"$f":"IF(J1204=\"\",\"\",'Step 3) Fit Distribution'!$F$3*E1204+'Step 3) Fit Distribution'!$F$4)","v":""},"","","","","","",""]
[null,{"$f":"IF(AND('Step 1) Select Data'!B1224=\"\",'Step 1) Select Data'!D1224<>\"\"),'Step 1) Select Data'!D1224,\"\")","v":""},"",{"$f":"IF(B1205=\"\",\"\",'Step 1) Select Data'!E1224)","v":""},"","","","","","",{"$f":"IF(J1205=\"\",\"\",'Step 3) Fit Distribution'!$F$3*E1205+'Step 3) Fit Distribution'!$F$4)","v":""},"","","","","","",""]
[null,{"$f":"IF(AND('Step 1) Select Data'!B1225=\"\",'Step 1) Select Data'!D1225<>\"\"),'Step 1) Select Data'!D1225,\"\")","v":""},"",{"$f":"IF(B1206=\"\",\"\",'Step 1) Select Data'!E1225)","v":""},"","","","","","",{"$f":"IF(J1206=\"\",\"\",'Step 3) Fit Distribution'!$F$3*E1206+'Step 3) Fit Distribution'!$F$4)","v":""},"","","","","","",""]
[null,{"$f":"IF(AND('Step 1) Select Data'!B1226=\"\",'Step 1) Select Data'!D1226<>\"\"),'Step 1) Select Data'!D1226,\"\")","v":""},"",{"$f":"IF(B1207=\"\",\"\",'Step 1) Select Data'!E1226)","v":""},"","","","","","",{"$f":"IF(J1207=\"\",\"\",'Step 3) Fit Distribution'!$F$3*E1207+'Step 3) Fit Distribution'!$F$4)","v":""},"","","","","","",""]
[null,{"$f":"IF(AND('Step 1) Select Data'!B1227=\"\",'Step 1) Select Data'!D1227<>\"\"),'Step 1) Select Data'!D1227,\"\")","v":""},"",{"$f":"IF(B1208=\"\",\"\",'Step 1) Select Data'!E1227)","v":""},"","","","","","",{"$f":"IF(J1208=\"\",\"\",'Step 3) Fit Distribution'!$F$3*E1208+'Step 3) Fit Distribution'!$F$4)","v":""},"","","","","","",""]
[null,{"$f":"IF(AND('Step 1) Select Data'!B1228=\"\",'Step 1) Select Data'!D1228<>\"\"),'Step 1) Select Data'!D1228,\"\")","v":""},"",{"$f":"IF(B1209=\"\",\"\",'Step 1) Select Data'!E1228)","v":""},"","","","","","",{"$f":"IF(J1209=\"\",\"\",'Step 3) Fit Distribution'!$F$3*E1209+'Step 3) Fit Distribution'!$F$4)","v":""},"","","","","","",""]
[null,{"$f":"IF(AND('Step 1) Select Data'!B1229=\"\",'Step 1) Select Data'!D1229<>\"\"),'Step 1) Select Data'!D1229,\"\")","v":""},"",{"$f":"IF(B1210=\"\",\"\",'Step 1) Select Data'!E1229)","v":""},"","","","","","",{"$f":"IF(J1210=\"\",\"\",'Step 3) Fit Distribution'!$F$3*E1210+'Step 3) Fit Distribution'!$F$4)","v":""},"","","","","","",""]
[null,{"$f":"IF(AND('Step 1) Select Data'!B1230=\"\",'Step 1) Select Data'!D1230<>\"\"),'Step 1) Select Data'!D1230,\"\")","v":""},"",{"$f":"IF(B1211=\"\",\"\",'Step 1) Select Data'!E1230)","v":""},"","","","","","",{"$f":"IF(J1211=\"\",\"\",'Step 3) Fit Distribution'!$F$3*E1211+'Step 3) Fit Distribution'!$F$4)","v":""},"","","","","","",""]
[null,{"$f":"IF(AND('Step 1) Select Data'!B1231=\"\",'Step 1) Select Data'!D1231<>\"\"),'Step 1) Select Data'!D1231,\"\")","v":""},"",{"$f":"IF(B1212=\"\",\"\",'Step 1) Select Data'!E1231)","v":""},"","","","","","",{"$f":"IF(J1212=\"\",\"\",'Step 3) Fit Distribution'!$F$3*E1212+'Step 3) Fit Distribution'!$F$4)","v":""},"","","","","","",""]
[null,{"$f":"IF(AND('Step 1) Select Data'!B1232=\"\",'Step 1) Select Data'!D1232<>\"\"),'Step 1) Select Data'!D1232,\"\")","v":""},"",{"$f":"IF(B1213=\"\",\"\",'Step 1) Select Data'!E1232)","v":""},"","","","","","",{"$f":"IF(J1213=\"\",\"\",'Step 3) Fit Distribution'!$F$3*E1213+'Step 3) Fit Distribution'!$F$4)","v":""},"","","","","","",""]
[null,{"$f":"IF(AND('Step 1) Select Data'!B1233=\"\",'Step 1) Select Data'!D1233<>\"\"),'Step 1) Select Data'!D1233,\"\")","v":""},"",{"$f":"IF(B1214=\"\",\"\",'Step 1) Select Data'!E1233)","v":""},"","","","","","",{"$f":"IF(J1214=\"\",\"\",'Step 3) Fit Distribution'!$F$3*E1214+'Step 3) Fit Distribution'!$F$4)","v":""},"","","","","","",""]
[null,{"$f":"IF(AND('Step 1) Select Data'!B1234=\"\",'Step 1) Select Data'!D1234<>\"\"),'Step 1) Select Data'!D1234,\"\")","v":""},"",{"$f":"IF(B1215=\"\",\"\",'Step 1) Select Data'!E1234)","v":""},"","","","","","",{"$f":"IF(J1215=\"\",\"\",'Step 3) Fit Distribution'!$F$3*E1215+'Step 3) Fit Distribution'!$F$4)","v":""},"","","","","","",""]
[null,{"$f":"IF(AND('Step 1) Select Data'!B1235=\"\",'Step 1) Select Data'!D1235<>\"\"),'Step 1) Select Data'!D1235,\"\")","v":""},"",{"$f":"IF(B1216=\"\",\"\",'Step 1) Select Data'!E1235)","v":""},"","","","","","",{"$f":"IF(J1216=\"\",\"\",'Step 3) Fit Distribution'!$F$3*E1216+'Step 3) Fit Distribution'!$F$4)","v":""},"","","","","","",""]
[null,{"$f":"IF(AND('Step 1) Select Data'!B1236=\"\",'Step 1) Select Data'!D1236<>\"\"),'Step 1) Select Data'!D1236,\"\")","v":""},"",{"$f":"IF(B1217=\"\",\"\",'Step 1) Select Data'!E1236)","v":""},"","","","","","",{"$f":"IF(J1217=\"\",\"\",'Step 3) Fit Distribution'!$F$3*E1217+'Step 3) Fit Distribution'!$F$4)","v":""},"","","","","","",""]
[null,{"$f":"IF(AND('Step 1) Select Data'!B1237=\"\",'Step 1) Select Data'!D1237<>\"\"),'Step 1) Select Data'!D1237,\"\")","v":""},"",{"$f":"IF(B1218=\"\",\"\",'Step 1) Select Data'!E1237)","v":""},"","","","","","",{"$f":"IF(J1218=\"\",\"\",'Step 3) Fit Distribution'!$F$3*E1218+'Step 3) Fit Distribution'!$F$4)","v":""},"","","","","","",""]
[null,{"$f":"IF(AND('Step 1) Select Data'!B1238=\"\",'Step 1) Select Data'!D1238<>\"\"),'Step 1) Select Data'!D1238,\"\")","v":""},"",{"$f":"IF(B1219=\"\",\"\",'Step 1) Select Data'!E1238)","v":""},"","","","","","",{"$f":"IF(J1219=\"\",\"\",'Step 3) Fit Distribution'!$F$3*E1219+'Step 3) Fit Distribution'!$F$4)","v":""},"","","","","","",""]
[null,{"$f":"IF(AND('Step 1) Select Data'!B1239=\"\",'Step 1) Select Data'!D1239<>\"\"),'Step 1) Select Data'!D1239,\"\")","v":""},"",{"$f":"IF(B1220=\"\",\"\",'Step 1) Select Data'!E1239)","v":""},"","","","","","",{"$f":"IF(J1220=\"\",\"\",'Step 3) Fit Distribution'!$F$3*E1220+'Step 3) Fit Distribution'!$F$4)","v":""},"","","","","","",""]
[null,{"$f":"IF(AND('Step 1) Select Data'!B1240=\"\",'Step 1) Select Data'!D1240<>\"\"),'Step 1) Select Data'!D1240,\"\")","v":""},"",{"$f":"IF(B1221=\"\",\"\",'Step 1) Select Data'!E1240)","v":""},"","","","","","",{"$f":"IF(J1221=\"\",\"\",'Step 3) Fit Distribution'!$F$3*E1221+'Step 3) Fit Distribution'!$F$4)","v":""},"","","","","","",""]
[null,{"$f":"IF(AND('Step 1) Select Data'!B1241=\"\",'Step 1) Select Data'!D1241<>\"\"),'Step 1) Select Data'!D1241,\"\")","v":""},"",{"$f":"IF(B1222=\"\",\"\",'Step 1) Select Data'!E1241)","v":""},"","","","","","",{"$f":"IF(J1222=\"\",\"\",'Step 3) Fit Distribution'!$F$3*E1222+'Step 3) Fit Distribution'!$F$4)","v":""},"","","","","","",""]
[null,{"$f":"IF(AND('Step 1) Select Data'!B1242=\"\",'Step 1) Select Data'!D1242<>\"\"),'Step 1) Select Data'!D1242,\"\")","v":""},{"$f":"IF(B1223=\"\",\"\",IF(OR(M1223>=M1224,M1224=\"\"),M1223,\"\"))","v":""},{"$f":"IF(B1223=\"\",\"\",'Step 1) Select Data'!E1242)","v":""},{"$f":"IF(C1223=\"\",\"\",LOG10(N1223)*(1/C1223))","v":""},{"$f":"IF(OR(M1223=\"\",C1223=1),\"\",IF(C1223=\"\",\"\",SQRT(R1223/(C1223-1))))","v":""},{"$f":"IF(E1223=\"\",\"\",10^E1223)","v":""},{"$f":"IF(I1223=\"\",\"\",(I1223-0.5)/COUNT($E$6:$E$2004))","v":""},{"$f":"IF(E1223=\"\",\"\",RANK(E1223,$E$6:$E$2004,1))","v":""},{"$f":"IF(H1223=\"\",\"\",NORMINV(H1223,5,1))","v":""},{"$f":"IF(J1223=\"\",\"\",'Step 3) Fit Distribution'!$F$3*E1223+'Step 3) Fit Distribution'!$F$4)","v":""},{"$f":"IF(K1223=\"\",\"\",(K1223-J1223)^2)","v":""},{"$f":"IF(B1223=\"\",\"\",IF(B1223<>B1222,1,M1222+1))","v":""},{"$f":"IF(B1223=\"\",\"\",IF(B1223<>B1222,ROUND(D1223,4),ROUND(D1223,4)*N1222))","v":""},{"$f":"IF(OR(M1223=\"\",C1223=1),\"\",IF(AND(M1223<>\"\",C1223=\"\",E1223=\"\"),O1224,E1223))","v":""},{"$f":"IF(OR(M1223=\"\",C1223=1),\"\",IF(AND(M1223<>\"\",C1223=\"\",E1223=\"\"),P1224,C1223))","v":""},"",{"$f":"IF(Q1223=\"\",\"\",IF(O1223=O1222,Q1223+R1222,Q1223))","v":""}]
[null,{"$f":"IF(AND('Step 1) Select Data'!B1243=\"\",'Step 1) Select Data'!D1243<>\"\"),'Step 1) Select Data'!D1243,\"\")","v":""},"",{"$f":"IF(B1224=\"\",\"\",'Step 1) Select Data'!E1243)","v":""},"","","","","","",{"$f":"IF(J1224=\"\",\"\",'Step 3) Fit Distribution'!$F$3*E1224+'Step 3) Fit Distribution'!$F$4)","v":""},"","","","","","",""]
[null,{"$f":"IF(AND('Step 1) Select Data'!B1244=\"\",'Step 1) Select Data'!D1244<>\"\"),'Step 1) Select Data'!D1244,\"\")","v":""},"",{"$f":"IF(B1225=\"\",\"\",'Step 1) Select Data'!E1244)","v":""},"","","","","","",{"$f":"IF(J1225=\"\",\"\",'Step 3) Fit Distribution'!$F$3*E1225+'Step 3) Fit Distribution'!$F$4)","v":""},"","","","","","",""]
[null,{"$f":"IF(AND('Step 1) Select Data'!B1245=\"\",'Step 1) Select Data'!D1245<>\"\"),'Step 1) Select Data'!D1245,\"\")","v":""},"",{"$f":"IF(B1226=\"\",\"\",'Step 1) Select Data'!E1245)","v":""},"","","","","","",{"$f":"IF(J1226=\"\",\"\",'Step 3) Fit Distribution'!$F$3*E1226+'Step 3) Fit Distribution'!$F$4)","v":""},"","","","","","",""]
[null,{"$f":"IF(AND('Step 1) Select Data'!B1246=\"\",'Step 1) Select Data'!D1246<>\"\"),'Step 1) Select Data'!D1246,\"\")","v":""},"",{"$f":"IF(B1227=\"\",\"\",'Step 1) Select Data'!E1246)","v":""},"","","","","","",{"$f":"IF(J1227=\"\",\"\",'Step 3) Fit Distribution'!$F$3*E1227+'Step 3) Fit Distribution'!$F$4)","v":""},"","","","","","",""]
[null,{"$f":"IF(AND('Step 1) Select Data'!B1247=\"\",'Step 1) Select Data'!D1247<>\"\"),'Step 1) Select Data'!D1247,\"\")","v":""},"",{"$f":"IF(B1228=\"\",\"\",'Step 1) Select Data'!E1247)","v":""},"","","","","","",{"$f":"IF(J1228=\"\",\"\",'Step 3) Fit Distribution'!$F$3*E1228+'Step 3) Fit Distribution'!$F$4)","v":""},"","","","","","",""]
[null,{"$f":"IF(AND('Step 1) Select Data'!B1248=\"\",'Step 1) Select Data'!D1248<>\"\"),'Step 1) Select Data'!D1248,\"\")","v":""},"",{"$f":"IF(B1229=\"\",\"\",'Step 1) Select Data'!E1248)","v":""},"","","","","","",{"$f":"IF(J1229=\"\",\"\",'Step 3) Fit Distribution'!$F$3*E1229+'Step 3) Fit Distribution'!$F$4)","v":""},"","","","","","",""]
[null,{"$f":"IF(AND('Step 1) Select Data'!B1249=\"\",'Step 1) Select Data'!D1249<>\"\"),'Step 1) Select Data'!D1249,\"\")","v":""},"",{"$f":"IF(B1230=\"\",\"\",'Step 1) Select Data'!E1249)","v":""},"","","","","","",{"$f":"IF(J1230=\"\",\"\",'Step 3) Fit Distribution'!$F$3*E1230+'Step 3) Fit Distribution'!$F$4)","v":""},"","","","","","",""]
[null,{"$f":"IF(AND('Step 1) Select Data'!B1250=\"\",'Step 1) Select Data'!D1250<>\"\"),'Step 1) Select Data'!D1250,\"\")","v":""},"",{"$f":"IF(B1231=\"\",\"\",'Step 1) Select Data'!E1250)","v":""},"","","","","","",{"$f":"IF(J1231=\"\",\"\",'Step 3) Fit Distribution'!$F$3*E1231+'Step 3) Fit Distribution'!$F$4)","v":""},"","","","","","",""]
[null,{"$f":"IF(AND('Step 1) Select Data'!B1251=\"\",'Step 1) Select Data'!D1251<>\"\"),'Step 1) Select Data'!D1251,\"\")","v":""},"",{"$f":"IF(B1232=\"\",\"\",'Step 1) Select Data'!E1251)","v":""},"","","","","","",{"$f":"IF(J1232=\"\",\"\",'Step 3) Fit Distribution'!$F$3*E1232+'Step 3) Fit Distribution'!$F$4)","v":""},"","","","","","",""]
[null,{"$f":"IF(AND('Step 1) Select Data'!B1252=\"\",'Step 1) Select Data'!D1252<>\"\"),'Step 1) Select Data'!D1252,\"\")","v":""},"",{"$f":"IF(B1233=\"\",\"\",'Step 1) Select Data'!E1252)","v":""},"","","","","","",{"$f":"IF(J1233=\"\",\"\",'Step 3) Fit Distribution'!$F$3*E1233+'Step 3) Fit Distribution'!$F$4)","v":""},"","","","","","",""]
[null,{"$f":"IF(AND('Step 1) Select Data'!B1253=\"\",'Step 1) Select Data'!D1253<>\"\"),'Step 1) Select Data'!D1253,\"\")","v":""},"",{"$f":"IF(B1234=\"\",\"\",'Step 1) Select Data'!E1253)","v":""},"","","","","","",{"$f":"IF(J1234=\"\",\"\",'Step 3) Fit Distribution'!$F$3*E1234+'Step 3) Fit Distribution'!$F$4)","v":""},"","","","","","",""]
[null,{"$f":"IF(AND('Step 1) Select Data'!B1254=\"\",'Step 1) Select Data'!D1254<>\"\"),'Step 1) Select Data'!D1254,\"\")","v":""},"",{"$f":"IF(B1235=\"\",\"\",'Step 1) Select Data'!E1254)","v":""},"","","","","","",{"$f":"IF(J1235=\"\",\"\",'Step 3) Fit Distribution'!$F$3*E1235+'Step 3) Fit Distribution'!$F$4)","v":""},"","","","","","",""]
[null,{"$f":"IF(AND('Step 1) Select Data'!B1255=\"\",'Step 1) Select Data'!D1255<>\"\"),'Step 1) Select Data'!D1255,\"\")","v":""},"",{"$f":"IF(B1236=\"\",\"\",'Step 1) Select Data'!E1255)","v":""},"","","","","","",{"$f":"IF(J1236=\"\",\"\",'Step 3) Fit Distribution'!$F$3*E1236+'Step 3) Fit Distribution'!$F$4)","v":""},"","","","","",{"$f":"IF(O1236=\"\",\"\",ROUND(LOG(D1236)-O1236,4)^2)","v":""},""]
[null,{"$f":"IF(AND('Step 1) Select Data'!B1256=\"\",'Step 1) Select Data'!D1256<>\"\"),'Step 1) Select Data'!D1256,\"\")","v":""},"",{"$f":"IF(B1237=\"\",\"\",'Step 1) Select Data'!E1256)","v":""},"","","","","","",{"$f":"IF(J1237=\"\",\"\",'Step 3) Fit Distribution'!$F$3*E1237+'Step 3) Fit Distribution'!$F$4)","v":""},"","","","","","",""]
[null,{"$f":"IF(AND('Step 1) Select Data'!B1257=\"\",'Step 1) Select Data'!D1257<>\"\"),'Step 1) Select Data'!D1257,\"\")","v":""},"",{"$f":"IF(B1238=\"\",\"\",'Step 1) Select Data'!E1257)","v":""},"","","","","","",{"$f":"IF(J1238=\"\",\"\",'Step 3) Fit Distribution'!$F$3*E1238+'Step 3) Fit Distribution'!$F$4)","v":""},"","","","","","",""]
[null,{"$f":"IF(AND('Step 1) Select Data'!B1258=\"\",'Step 1) Select Data'!D1258<>\"\"),'Step 1) Select Data'!D1258,\"\")","v":""},"",{"$f":"IF(B1239=\"\",\"\",'Step 1) Select Data'!E1258)","v":""},"","","","","","",{"$f":"IF(J1239=\"\",\"\",'Step 3) Fit Distribution'!$F$3*E1239+'Step 3) Fit Distribution'!$F$4)","v":""},"","","","","","",""]
[null,{"$f":"IF(AND('Step 1) Select Data'!B1259=\"\",'Step 1) Select Data'!D1259<>\"\"),'Step 1) Select Data'!D1259,\"\")","v":""},"",{"$f":"IF(B1240=\"\",\"\",'Step 1) Select Data'!E1259)","v":""},"","","","","","",{"$f":"IF(J1240=\"\",\"\",'Step 3) Fit Distribution'!$F$3*E1240+'Step 3) Fit Distribution'!$F$4)","v":""},"","","","","","",""]
[null,{"$f":"IF(AND('Step 1) Select Data'!B1260=\"\",'Step 1) Select Data'!D1260<>\"\"),'Step 1) Select Data'!D1260,\"\")","v":""},"",{"$f":"IF(B1241=\"\",\"\",'Step 1) Select Data'!E1260)","v":""},"","","","","","",{"$f":"IF(J1241=\"\",\"\",'Step 3) Fit Distribution'!$F$3*E1241+'Step 3) Fit Distribution'!$F$4)","v":""},"","","","","","",""]
[null,{"$f":"IF(AND('Step 1) Select Data'!B1261=\"\",'Step 1) Select Data'!D1261<>\"\"),'Step 1) Select Data'!D1261,\"\")","v":""},"",{"$f":"IF(B1242=\"\",\"\",'Step 1) Select Data'!E1261)","v":""},"","","","","","",{"$f":"IF(J1242=\"\",\"\",'Step 3) Fit Distribution'!$F$3*E1242+'Step 3) Fit Distribution'!$F$4)","v":""},"","","","","","",""]
[null,{"$f":"IF(AND('Step 1) Select Data'!B1262=\"\",'Step 1) Select Data'!D1262<>\"\"),'Step 1) Select Data'!D1262,\"\")","v":""},"",{"$f":"IF(B1243=\"\",\"\",'Step 1) Select Data'!E1262)","v":""},"","","","","","",{"$f":"IF(J1243=\"\",\"\",'Step 3) Fit Distribution'!$F$3*E1243+'Step 3) Fit Distribution'!$F$4)","v":""},"","","","","","",""]
[null,{"$f":"IF(AND('Step 1) Select Data'!B1263=\"\",'Step 1) Select Data'!D1263<>\"\"),'Step 1) Select Data'!D1263,\"\")","v":""},"",{"$f":"IF(B1244=\"\",\"\",'Step 1) Select Data'!E1263)","v":""},"","","","","","",{"$f":"IF(J1244=\"\",\"\",'Step 3) Fit Distribution'!$F$3*E1244+'Step 3) Fit Distribution'!$F$4)","v":""},"","","","","","",""]
[null,{"$f":"IF(AND('Step 1) Select Data'!B1264=\"\",'Step 1) Select Data'!D1264<>\"\"),'Step 1) Select Data'!D1264,\"\")","v":""},"",{"$f":"IF(B1245=\"\",\"\",'Step 1) Select Data'!E1264)","v":""},"","","","","","",{"$f":"IF(J1245=\"\",\"\",'Step 3) Fit Distribution'!$F$3*E1245+'Step 3) Fit Distribution'!$F$4)","v":""},"","","","","","",""]
[null,{"$f":"IF(AND('Step 1) Select Data'!B1265=\"\",'Step 1) Select Data'!D1265<>\"\"),'Step 1) Select Data'!D1265,\"\")","v":""},"",{"$f":"IF(B1246=\"\",\"\",'Step 1) Select Data'!E1265)","v":""},"","","","","","",{"$f":"IF(J1246=\"\",\"\",'Step 3) Fit Distribution'!$F$3*E1246+'Step 3) Fit Distribution'!$F$4)","v":""},"","","","","","",""]
[null,{"$f":"IF(AND('Step 1) Select Data'!B1266=\"\",'Step 1) Select Data'!D1266<>\"\"),'Step 1) Select Data'!D1266,\"\")","v":""},"",{"$f":"IF(B1247=\"\",\"\",'Step 1) Select Data'!E1266)","v":""},"","","","","","",{"$f":"IF(J1247=\"\",\"\",'Step 3) Fit Distribution'!$F$3*E1247+'Step 3) Fit Distribution'!$F$4)","v":""},"","","","","","",""]
[null,{"$f":"IF(AND('Step 1) Select Data'!B1267=\"\",'Step 1) Select Data'!D1267<>\"\"),'Step 1) Select Data'!D1267,\"\")","v":""},"",{"$f":"IF(B1248=\"\",\"\",'Step 1) Select Data'!E1267)","v":""},"","","","","","",{"$f":"IF(J1248=\"\",\"\",'Step 3) Fit Distribution'!$F$3*E1248+'Step 3) Fit Distribution'!$F$4)","v":""},"","","","","","",""]
[null,{"$f":"IF(AND('Step 1) Select Data'!B1268=\"\",'Step 1) Select Data'!D1268<>\"\"),'Step 1) Select Data'!D1268,\"\")","v":""},"",{"$f":"IF(B1249=\"\",\"\",'Step 1) Select Data'!E1268)","v":""},"","","","","","",{"$f":"IF(J1249=\"\",\"\",'Step 3) Fit Distribution'!$F$3*E1249+'Step 3) Fit Distribution'!$F$4)","v":""},"","","","","","",""]
[null,{"$f":"IF(AND('Step 1) Select Data'!B1269=\"\",'Step 1) Select Data'!D1269<>\"\"),'Step 1) Select Data'!D1269,\"\")","v":""},"",{"$f":"IF(B1250=\"\",\"\",'Step 1) Select Data'!E1269)","v":""},"","","","","","",{"$f":"IF(J1250=\"\",\"\",'Step 3) Fit Distribution'!$F$3*E1250+'Step 3) Fit Distribution'!$F$4)","v":""},"","","","","","",""]
[null,{"$f":"IF(AND('Step 1) Select Data'!B1270=\"\",'Step 1) Select Data'!D1270<>\"\"),'Step 1) Select Data'!D1270,\"\")","v":""},"",{"$f":"IF(B1251=\"\",\"\",'Step 1) Select Data'!E1270)","v":""},"","","","","","",{"$f":"IF(J1251=\"\",\"\",'Step 3) Fit Distribution'!$F$3*E1251+'Step 3) Fit Distribution'!$F$4)","v":""},"","","","","","",""]
[null,{"$f":"IF(AND('Step 1) Select Data'!B1271=\"\",'Step 1) Select Data'!D1271<>\"\"),'Step 1) Select Data'!D1271,\"\")","v":""},"",{"$f":"IF(B1252=\"\",\"\",'Step 1) Select Data'!E1271)","v":""},"","","","","","",{"$f":"IF(J1252=\"\",\"\",'Step 3) Fit Distribution'!$F$3*E1252+'Step 3) Fit Distribution'!$F$4)","v":""},"","","","","","",""]
[null,{"$f":"IF(AND('Step 1) Select Data'!B1272=\"\",'Step 1) Select Data'!D1272<>\"\"),'Step 1) Select Data'!D1272,\"\")","v":""},"",{"$f":"IF(B1253=\"\",\"\",'Step 1) Select Data'!E1272)","v":""},"","","","","","",{"$f":"IF(J1253=\"\",\"\",'Step 3) Fit Distribution'!$F$3*E1253+'Step 3) Fit Distribution'!$F$4)","v":""},"","","","","","",""]
[null,{"$f":"IF(AND('Step 1) Select Data'!B1273=\"\",'Step 1) Select Data'!D1273<>\"\"),'Step 1) Select Data'!D1273,\"\")","v":""},"",{"$f":"IF(B1254=\"\",\"\",'Step 1) Select Data'!E1273)","v":""},"","","","","","",{"$f":"IF(J1254=\"\",\"\",'Step 3) Fit Distribution'!$F$3*E1254+'Step 3) Fit Distribution'!$F$4)","v":""},"","","","","","",""]
[null,{"$f":"IF(AND('Step 1) Select Data'!B1274=\"\",'Step 1) Select Data'!D1274<>\"\"),'Step 1) Select Data'!D1274,\"\")","v":""},"",{"$f":"IF(B1255=\"\",\"\",'Step 1) Select Data'!E1274)","v":""},"","","","","","",{"$f":"IF(J1255=\"\",\"\",'Step 3) Fit Distribution'!$F$3*E1255+'Step 3) Fit Distribution'!$F$4)","v":""},"","","","","","",""]
[null,{"$f":"IF(AND('Step 1) Select Data'!B1275=\"\",'Step 1) Select Data'!D1275<>\"\"),'Step 1) Select Data'!D1275,\"\")","v":""},"",{"$f":"IF(B1256=\"\",\"\",'Step 1) Select Data'!E1275)","v":""},"","","","","","",{"$f":"IF(J1256=\"\",\"\",'Step 3) Fit Distribution'!$F$3*E1256+'Step 3) Fit Distribution'!$F$4)","v":""},"","","","","","",""]
[null,{"$f":"IF(AND('Step 1) Select Data'!B1276=\"\",'Step 1) Select Data'!D1276<>\"\"),'Step 1) Select Data'!D1276,\"\")","v":""},"",{"$f":"IF(B1257=\"\",\"\",'Step 1) Select Data'!E1276)","v":""},"","","","","","",{"$f":"IF(J1257=\"\",\"\",'Step 3) Fit Distribution'!$F$3*E1257+'Step 3) Fit Distribution'!$F$4)","v":""},"","","","","","",""]
[null,{"$f":"IF(AND('Step 1) Select Data'!B1277=\"\",'Step 1) Select Data'!D1277<>\"\"),'Step 1) Select Data'!D1277,\"\")","v":""},"",{"$f":"IF(B1258=\"\",\"\",'Step 1) Select Data'!E1277)","v":""},"","","","","","",{"$f":"IF(J1258=\"\",\"\",'Step 3) Fit Distribution'!$F$3*E1258+'Step 3) Fit Distribution'!$F$4)","v":""},"","","","","","",""]
[null,{"$f":"IF(AND('Step 1) Select Data'!B1278=\"\",'Step 1) Select Data'!D1278<>\"\"),'Step 1) Select Data'!D1278,\"\")","v":""},"",{"$f":"IF(B1259=\"\",\"\",'Step 1) Select Data'!E1278)","v":""},"","","","","","",{"$f":"IF(J1259=\"\",\"\",'Step 3) Fit Distribution'!$F$3*E1259+'Step 3) Fit Distribution'!$F$4)","v":""},"","","","","","",""]
[null,{"$f":"IF(AND('Step 1) Select Data'!B1279=\"\",'Step 1) Select Data'!D1279<>\"\"),'Step 1) Select Data'!D1279,\"\")","v":""},"",{"$f":"IF(B1260=\"\",\"\",'Step 1) Select Data'!E1279)","v":""},"","","","","","",{"$f":"IF(J1260=\"\",\"\",'Step 3) Fit Distribution'!$F$3*E1260+'Step 3) Fit Distribution'!$F$4)","v":""},"","","","","","",""]
[null,{"$f":"IF(AND('Step 1) Select Data'!B1280=\"\",'Step 1) Select Data'!D1280<>\"\"),'Step 1) Select Data'!D1280,\"\")","v":""},"",{"$f":"IF(B1261=\"\",\"\",'Step 1) Select Data'!E1280)","v":""},"","","","","","",{"$f":"IF(J1261=\"\",\"\",'Step 3) Fit Distribution'!$F$3*E1261+'Step 3) Fit Distribution'!$F$4)","v":""},"","","","","","",""]
[null,{"$f":"IF(AND('Step 1) Select Data'!B1281=\"\",'Step 1) Select Data'!D1281<>\"\"),'Step 1) Select Data'!D1281,\"\")","v":""},"",{"$f":"IF(B1262=\"\",\"\",'Step 1) Select Data'!E1281)","v":""},"","","","","","",{"$f":"IF(J1262=\"\",\"\",'Step 3) Fit Distribution'!$F$3*E1262+'Step 3) Fit Distribution'!$F$4)","v":""},"","","","","","",""]
[null,{"$f":"IF(AND('Step 1) Select Data'!B1282=\"\",'Step 1) Select Data'!D1282<>\"\"),'Step 1) Select Data'!D1282,\"\")","v":""},"",{"$f":"IF(B1263=\"\",\"\",'Step 1) Select Data'!E1282)","v":""},"","","","","","",{"$f":"IF(J1263=\"\",\"\",'Step 3) Fit Distribution'!$F$3*E1263+'Step 3) Fit Distribution'!$F$4)","v":""},"","","","","","",""]
[null,{"$f":"IF(AND('Step 1) Select Data'!B1283=\"\",'Step 1) Select Data'!D1283<>\"\"),'Step 1) Select Data'!D1283,\"\")","v":""},"",{"$f":"IF(B1264=\"\",\"\",'Step 1) Select Data'!E1283)","v":""},"","","","","","",{"$f":"IF(J1264=\"\",\"\",'Step 3) Fit Distribution'!$F$3*E1264+'Step 3) Fit Distribution'!$F$4)","v":""},"","","","","","",""]
[null,{"$f":"IF(AND('Step 1) Select Data'!B1284=\"\",'Step 1) Select Data'!D1284<>\"\"),'Step 1) Select Data'!D1284,\"\")","v":""},"",{"$f":"IF(B1265=\"\",\"\",'Step 1) Select Data'!E1284)","v":""},"","","","","","",{"$f":"IF(J1265=\"\",\"\",'Step 3) Fit Distribution'!$F$3*E1265+'Step 3) Fit Distribution'!$F$4)","v":""},"","","","","","",""]
[null,{"$f":"IF(AND('Step 1) Select Data'!B1285=\"\",'Step 1) Select Data'!D1285<>\"\"),'Step 1) Select Data'!D1285,\"\")","v":""},"",{"$f":"IF(B1266=\"\",\"\",'Step 1) Select Data'!E1285)","v":""},"","","","","","",{"$f":"IF(J1266=\"\",\"\",'Step 3) Fit Distribution'!$F$3*E1266+'Step 3) Fit Distribution'!$F$4)","v":""},"","","","","","",""]
[null,{"$f":"IF(AND('Step 1) Select Data'!B1286=\"\",'Step 1) Select Data'!D1286<>\"\"),'Step 1) Select Data'!D1286,\"\")","v":""},"",{"$f":"IF(B1267=\"\",\"\",'Step 1) Select Data'!E1286)","v":""},"","","","","","",{"$f":"IF(J1267=\"\",\"\",'Step 3) Fit Distribution'!$F$3*E1267+'Step 3) Fit Distribution'!$F$4)","v":""},"","","","","","",""]
[null,{"$f":"IF(AND('Step 1) Select Data'!B1287=\"\",'Step 1) Select Data'!D1287<>\"\"),'Step 1) Select Data'!D1287,\"\")","v":""},"",{"$f":"IF(B1268=\"\",\"\",'Step 1) Select Data'!E1287)","v":""},"","","","","","",{"$f":"IF(J1268=\"\",\"\",'Step 3) Fit Distribution'!$F$3*E1268+'Step 3) Fit Distribution'!$F$4)","v":""},"","","","","","",""]
[null,{"$f":"IF(AND('Step 1) Select Data'!B1288=\"\",'Step 1) Select Data'!D1288<>\"\"),'Step 1) Select Data'!D1288,\"\")","v":""},"",{"$f":"IF(B1269=\"\",\"\",'Step 1) Select Data'!E1288)","v":""},"","","","","","",{"$f":"IF(J1269=\"\",\"\",'Step 3) Fit Distribution'!$F$3*E1269+'Step 3) Fit Distribution'!$F$4)","v":""},"","","","","","",""]
[null,{"$f":"IF(AND('Step 1) Select Data'!B1289=\"\",'Step 1) Select Data'!D1289<>\"\"),'Step 1) Select Data'!D1289,\"\")","v":""},"",{"$f":"IF(B1270=\"\",\"\",'Step 1) Select Data'!E1289)","v":""},"","","","","","",{"$f":"IF(J1270=\"\",\"\",'Step 3) Fit Distribution'!$F$3*E1270+'Step 3) Fit Distribution'!$F$4)","v":""},"","","","","","",""]
[null,{"$f":"IF(AND('Step 1) Select Data'!B1290=\"\",'Step 1) Select Data'!D1290<>\"\"),'Step 1) Select Data'!D1290,\"\")","v":""},"",{"$f":"IF(B1271=\"\",\"\",'Step 1) Select Data'!E1290)","v":""},"","","","","","",{"$f":"IF(J1271=\"\",\"\",'Step 3) Fit Distribution'!$F$3*E1271+'Step 3) Fit Distribution'!$F$4)","v":""},"","","","","","",""]
[null,{"$f":"IF(AND('Step 1) Select Data'!B1291=\"\",'Step 1) Select Data'!D1291<>\"\"),'Step 1) Select Data'!D1291,\"\")","v":""},"",{"$f":"IF(B1272=\"\",\"\",'Step 1) Select Data'!E1291)","v":""},"","","","","","",{"$f":"IF(J1272=\"\",\"\",'Step 3) Fit Distribution'!$F$3*E1272+'Step 3) Fit Distribution'!$F$4)","v":""},"","","","","","",""]
[null,{"$f":"IF(AND('Step 1) Select Data'!B1292=\"\",'Step 1) Select Data'!D1292<>\"\"),'Step 1) Select Data'!D1292,\"\")","v":""},"",{"$f":"IF(B1273=\"\",\"\",'Step 1) Select Data'!E1292)","v":""},"","","","","","",{"$f":"IF(J1273=\"\",\"\",'Step 3) Fit Distribution'!$F$3*E1273+'Step 3) Fit Distribution'!$F$4)","v":""},"","","","","","",""]
[null,{"$f":"IF(AND('Step 1) Select Data'!B1293=\"\",'Step 1) Select Data'!D1293<>\"\"),'Step 1) Select Data'!D1293,\"\")","v":""},"",{"$f":"IF(B1274=\"\",\"\",'Step 1) Select Data'!E1293)","v":""},"","","","","","",{"$f":"IF(J1274=\"\",\"\",'Step 3) Fit Distribution'!$F$3*E1274+'Step 3) Fit Distribution'!$F$4)","v":""},"","","","","","",""]
[null,{"$f":"IF(AND('Step 1) Select Data'!B1294=\"\",'Step 1) Select Data'!D1294<>\"\"),'Step 1) Select Data'!D1294,\"\")","v":""},"",{"$f":"IF(B1275=\"\",\"\",'Step 1) Select Data'!E1294)","v":""},"","","","","","",{"$f":"IF(J1275=\"\",\"\",'Step 3) Fit Distribution'!$F$3*E1275+'Step 3) Fit Distribution'!$F$4)","v":""},"","","","","","",""]
[null,{"$f":"IF(AND('Step 1) Select Data'!B1295=\"\",'Step 1) Select Data'!D1295<>\"\"),'Step 1) Select Data'!D1295,\"\")","v":""},"",{"$f":"IF(B1276=\"\",\"\",'Step 1) Select Data'!E1295)","v":""},"","","","","","",{"$f":"IF(J1276=\"\",\"\",'Step 3) Fit Distribution'!$F$3*E1276+'Step 3) Fit Distribution'!$F$4)","v":""},"","","","","","",""]
[null,{"$f":"IF(AND('Step 1) Select Data'!B1296=\"\",'Step 1) Select Data'!D1296<>\"\"),'Step 1) Select Data'!D1296,\"\")","v":""},"",{"$f":"IF(B1277=\"\",\"\",'Step 1) Select Data'!E1296)","v":""},"","","","","","",{"$f":"IF(J1277=\"\",\"\",'Step 3) Fit Distribution'!$F$3*E1277+'Step 3) Fit Distribution'!$F$4)","v":""},"","","","","","",""]
[null,{"$f":"IF(AND('Step 1) Select Data'!B1297=\"\",'Step 1) Select Data'!D1297<>\"\"),'Step 1) Select Data'!D1297,\"\")","v":""},"",{"$f":"IF(B1278=\"\",\"\",'Step 1) Select Data'!E1297)","v":""},"","","","","","",{"$f":"IF(J1278=\"\",\"\",'Step 3) Fit Distribution'!$F$3*E1278+'Step 3) Fit Distribution'!$F$4)","v":""},"","","","","","",""]
[null,{"$f":"IF(AND('Step 1) Select Data'!B1298=\"\",'Step 1) Select Data'!D1298<>\"\"),'Step 1) Select Data'!D1298,\"\")","v":""},"",{"$f":"IF(B1279=\"\",\"\",'Step 1) Select Data'!E1298)","v":""},"","","","","","",{"$f":"IF(J1279=\"\",\"\",'Step 3) Fit Distribution'!$F$3*E1279+'Step 3) Fit Distribution'!$F$4)","v":""},"","","","","","",""]
[null,{"$f":"IF(AND('Step 1) Select Data'!B1299=\"\",'Step 1) Select Data'!D1299<>\"\"),'Step 1) Select Data'!D1299,\"\")","v":""},"",{"$f":"IF(B1280=\"\",\"\",'Step 1) Select Data'!E1299)","v":""},"","","","","","",{"$f":"IF(J1280=\"\",\"\",'Step 3) Fit Distribution'!$F$3*E1280+'Step 3) Fit Distribution'!$F$4)","v":""},"","","","","","",""]
[null,{"$f":"IF(AND('Step 1) Select Data'!B1300=\"\",'Step 1) Select Data'!D1300<>\"\"),'Step 1) Select Data'!D1300,\"\")","v":""},"",{"$f":"IF(B1281=\"\",\"\",'Step 1) Select Data'!E1300)","v":""},"","","","","","",{"$f":"IF(J1281=\"\",\"\",'Step 3) Fit Distribution'!$F$3*E1281+'Step 3) Fit Distribution'!$F$4)","v":""},"","","","","","",""]
[null,{"$f":"IF(AND('Step 1) Select Data'!B1301=\"\",'Step 1) Select Data'!D1301<>\"\"),'Step 1) Select Data'!D1301,\"\")","v":""},"",{"$f":"IF(B1282=\"\",\"\",'Step 1) Select Data'!E1301)","v":""},"","","","","","",{"$f":"IF(J1282=\"\",\"\",'Step 3) Fit Distribution'!$F$3*E1282+'Step 3) Fit Distribution'!$F$4)","v":""},"","","","","","",""]
[null,{"$f":"IF(AND('Step 1) Select Data'!B1302=\"\",'Step 1) Select Data'!D1302<>\"\"),'Step 1) Select Data'!D1302,\"\")","v":""},"",{"$f":"IF(B1283=\"\",\"\",'Step 1) Select Data'!E1302)","v":""},"","","","","","",{"$f":"IF(J1283=\"\",\"\",'Step 3) Fit Distribution'!$F$3*E1283+'Step 3) Fit Distribution'!$F$4)","v":""},"","","","","","",""]
[null,{"$f":"IF(AND('Step 1) Select Data'!B1303=\"\",'Step 1) Select Data'!D1303<>\"\"),'Step 1) Select Data'!D1303,\"\")","v":""},"",{"$f":"IF(B1284=\"\",\"\",'Step 1) Select Data'!E1303)","v":""},"","","","","","",{"$f":"IF(J1284=\"\",\"\",'Step 3) Fit Distribution'!$F$3*E1284+'Step 3) Fit Distribution'!$F$4)","v":""},"","","","","","",""]
[null,{"$f":"IF(AND('Step 1) Select Data'!B1304=\"\",'Step 1) Select Data'!D1304<>\"\"),'Step 1) Select Data'!D1304,\"\")","v":""},"",{"$f":"IF(B1285=\"\",\"\",'Step 1) Select Data'!E1304)","v":""},"","","","","","",{"$f":"IF(J1285=\"\",\"\",'Step 3) Fit Distribution'!$F$3*E1285+'Step 3) Fit Distribution'!$F$4)","v":""},"","","","","","",""]
[null,{"$f":"IF(AND('Step 1) Select Data'!B1305=\"\",'Step 1) Select Data'!D1305<>\"\"),'Step 1) Select Data'!D1305,\"\")","v":""},"",{"$f":"IF(B1286=\"\",\"\",'Step 1) Select Data'!E1305)","v":""},"","","","","","",{"$f":"IF(J1286=\"\",\"\",'Step 3) Fit Distribution'!$F$3*E1286+'Step 3) Fit Distribution'!$F$4)","v":""},"","","","","","",""]
[null,{"$f":"IF(AND('Step 1) Select Data'!B1306=\"\",'Step 1) Select Data'!D1306<>\"\"),'Step 1) Select Data'!D1306,\"\")","v":""},{"$f":"IF(B1287=\"\",\"\",IF(OR(M1287>=M1288,M1288=\"\"),M1287,\"\"))","v":""},{"$f":"IF(B1287=\"\",\"\",'Step 1) Select Data'!E1306)","v":""},{"$f":"IF(C1287=\"\",\"\",LOG10(N1287)*(1/C1287))","v":""},{"$f":"IF(OR(M1287=\"\",C1287=1),\"\",IF(C1287=\"\",\"\",SQRT(R1287/(C1287-1))))","v":""},{"$f":"IF(E1287=\"\",\"\",10^E1287)","v":""},{"$f":"IF(I1287=\"\",\"\",(I1287-0.5)/COUNT($E$6:$E$2004))","v":""},{"$f":"IF(E1287=\"\",\"\",RANK(E1287,$E$6:$E$2004,1))","v":""},{"$f":"IF(H1287=\"\",\"\",NORMINV(H1287,5,1))","v":""},{"$f":"IF(J1287=\"\",\"\",'Step 3) Fit Distribution'!$F$3*E1287+'Step 3) Fit Distribution'!$F$4)","v":""},{"$f":"IF(K1287=\"\",\"\",(K1287-J1287)^2)","v":""},{"$f":"IF(B1287=\"\",\"\",IF(B1287<>B1286,1,M1286+1))","v":""},{"$f":"IF(B1287=\"\",\"\",IF(B1287<>B1286,ROUND(D1287,4),ROUND(D1287,4)*N1286))","v":""},{"$f":"IF(OR(M1287=\"\",C1287=1),\"\",IF(AND(M1287<>\"\",C1287=\"\",E1287=\"\"),O1288,E1287))","v":""},{"$f":"IF(OR(M1287=\"\",C1287=1),\"\",IF(AND(M1287<>\"\",C1287=\"\",E1287=\"\"),P1288,C1287))","v":""},"",{"$f":"IF(Q1287=\"\",\"\",IF(O1287=O1286,Q1287+R1286,Q1287))","v":""}]
[null,{"$f":"IF(AND('Step 1) Select Data'!B1307=\"\",'Step 1) Select Data'!D1307<>\"\"),'Step 1) Select Data'!D1307,\"\")","v":""},"",{"$f":"IF(B1288=\"\",\"\",'Step 1) Select Data'!E1307)","v":""},"","","","","","",{"$f":"IF(J1288=\"\",\"\",'Step 3) Fit Distribution'!$F$3*E1288+'Step 3) Fit Distribution'!$F$4)","v":""},"","","","","","",""]
[null,{"$f":"IF(AND('Step 1) Select Data'!B1308=\"\",'Step 1) Select Data'!D1308<>\"\"),'Step 1) Select Data'!D1308,\"\")","v":""},"",{"$f":"IF(B1289=\"\",\"\",'Step 1) Select Data'!E1308)","v":""},"","","","","","",{"$f":"IF(J1289=\"\",\"\",'Step 3) Fit Distribution'!$F$3*E1289+'Step 3) Fit Distribution'!$F$4)","v":""},"","","","","","",""]
[null,{"$f":"IF(AND('Step 1) Select Data'!B1309=\"\",'Step 1) Select Data'!D1309<>\"\"),'Step 1) Select Data'!D1309,\"\")","v":""},"",{"$f":"IF(B1290=\"\",\"\",'Step 1) Select Data'!E1309)","v":""},"","","","","","",{"$f":"IF(J1290=\"\",\"\",'Step 3) Fit Distribution'!$F$3*E1290+'Step 3) Fit Distribution'!$F$4)","v":""},"","","","","","",""]
[null,{"$f":"IF(AND('Step 1) Select Data'!B1310=\"\",'Step 1) Select Data'!D1310<>\"\"),'Step 1) Select Data'!D1310,\"\")","v":""},"",{"$f":"IF(B1291=\"\",\"\",'Step 1) Select Data'!E1310)","v":""},"","","","","","",{"$f":"IF(J1291=\"\",\"\",'Step 3) Fit Distribution'!$F$3*E1291+'Step 3) Fit Distribution'!$F$4)","v":""},"","","","","","",""]
[null,{"$f":"IF(AND('Step 1) Select Data'!B1311=\"\",'Step 1) Select Data'!D1311<>\"\"),'Step 1) Select Data'!D1311,\"\")","v":""},"",{"$f":"IF(B1292=\"\",\"\",'Step 1) Select Data'!E1311)","v":""},"","","","","","",{"$f":"IF(J1292=\"\",\"\",'Step 3) Fit Distribution'!$F$3*E1292+'Step 3) Fit Distribution'!$F$4)","v":""},"","","","","","",""]
[null,{"$f":"IF(AND('Step 1) Select Data'!B1312=\"\",'Step 1) Select Data'!D1312<>\"\"),'Step 1) Select Data'!D1312,\"\")","v":""},"",{"$f":"IF(B1293=\"\",\"\",'Step 1) Select Data'!E1312)","v":""},"","","","","","",{"$f":"IF(J1293=\"\",\"\",'Step 3) Fit Distribution'!$F$3*E1293+'Step 3) Fit Distribution'!$F$4)","v":""},"","","","","","",""]
[null,{"$f":"IF(AND('Step 1) Select Data'!B1313=\"\",'Step 1) Select Data'!D1313<>\"\"),'Step 1) Select Data'!D1313,\"\")","v":""},"",{"$f":"IF(B1294=\"\",\"\",'Step 1) Select Data'!E1313)","v":""},"","","","","","",{"$f":"IF(J1294=\"\",\"\",'Step 3) Fit Distribution'!$F$3*E1294+'Step 3) Fit Distribution'!$F$4)","v":""},"","","","","","",""]
[null,{"$f":"IF(AND('Step 1) Select Data'!B1314=\"\",'Step 1) Select Data'!D1314<>\"\"),'Step 1) Select Data'!D1314,\"\")","v":""},"",{"$f":"IF(B1295=\"\",\"\",'Step 1) Select Data'!E1314)","v":""},"","","","","","",{"$f":"IF(J1295=\"\",\"\",'Step 3) Fit Distribution'!$F$3*E1295+'Step 3) Fit Distribution'!$F$4)","v":""},"","","","","","",""]
[null,{"$f":"IF(AND('Step 1) Select Data'!B1315=\"\",'Step 1) Select Data'!D1315<>\"\"),'Step 1) Select Data'!D1315,\"\")","v":""},"",{"$f":"IF(B1296=\"\",\"\",'Step 1) Select Data'!E1315)","v":""},"","","","","","",{"$f":"IF(J1296=\"\",\"\",'Step 3) Fit Distribution'!$F$3*E1296+'Step 3) Fit Distribution'!$F$4)","v":""},"","","","","","",""]
[null,{"$f":"IF(AND('Step 1) Select Data'!B1316=\"\",'Step 1) Select Data'!D1316<>\"\"),'Step 1) Select Data'!D1316,\"\")","v":""},"",{"$f":"IF(B1297=\"\",\"\",'Step 1) Select Data'!E1316)","v":""},"","","","","","",{"$f":"IF(J1297=\"\",\"\",'Step 3) Fit Distribution'!$F$3*E1297+'Step 3) Fit Distribution'!$F$4)","v":""},"","","","","","",""]
[null,{"$f":"IF(AND('Step 1) Select Data'!B1317=\"\",'Step 1) Select Data'!D1317<>\"\"),'Step 1) Select Data'!D1317,\"\")","v":""},"",{"$f":"IF(B1298=\"\",\"\",'Step 1) Select Data'!E1317)","v":""},"","","","","","",{"$f":"IF(J1298=\"\",\"\",'Step 3) Fit Distribution'!$F$3*E1298+'Step 3) Fit Distribution'!$F$4)","v":""},"","","","","","",""]
[null,{"$f":"IF(AND('Step 1) Select Data'!B1318=\"\",'Step 1) Select Data'!D1318<>\"\"),'Step 1) Select Data'!D1318,\"\")","v":""},"",{"$f":"IF(B1299=\"\",\"\",'Step 1) Select Data'!E1318)","v":""},"","","","","","",{"$f":"IF(J1299=\"\",\"\",'Step 3) Fit Distribution'!$F$3*E1299+'Step 3) Fit Distribution'!$F$4)","v":""},"","","","","","",""]
[null,{"$f":"IF(AND('Step 1) Select Data'!B1319=\"\",'Step 1) Select Data'!D1319<>\"\"),'Step 1) Select Data'!D1319,\"\")","v":""},"",{"$f":"IF(B1300=\"\",\"\",'Step 1) Select Data'!E1319)","v":""},"","","","","","",{"$f":"IF(J1300=\"\",\"\",'Step 3) Fit Distribution'!$F$3*E1300+'Step 3) Fit Distribution'!$F$4)","v":""},"","","","","",{"$f":"IF(O1300=\"\",\"\",ROUND(LOG(D1300)-O1300,4)^2)","v":""},""]
[null,{"$f":"IF(AND('Step 1) Select Data'!B1320=\"\",'Step 1) Select Data'!D1320<>\"\"),'Step 1) Select Data'!D1320,\"\")","v":""},"",{"$f":"IF(B1301=\"\",\"\",'Step 1) Select Data'!E1320)","v":""},"","","","","","",{"$f":"IF(J1301=\"\",\"\",'Step 3) Fit Distribution'!$F$3*E1301+'Step 3) Fit Distribution'!$F$4)","v":""},"","","","","","",""]
[null,{"$f":"IF(AND('Step 1) Select Data'!B1321=\"\",'Step 1) Select Data'!D1321<>\"\"),'Step 1) Select Data'!D1321,\"\")","v":""},"",{"$f":"IF(B1302=\"\",\"\",'Step 1) Select Data'!E1321)","v":""},"","","","","","",{"$f":"IF(J1302=\"\",\"\",'Step 3) Fit Distribution'!$F$3*E1302+'Step 3) Fit Distribution'!$F$4)","v":""},"","","","","","",""]
[null,{"$f":"IF(AND('Step 1) Select Data'!B1322=\"\",'Step 1) Select Data'!D1322<>\"\"),'Step 1) Select Data'!D1322,\"\")","v":""},"",{"$f":"IF(B1303=\"\",\"\",'Step 1) Select Data'!E1322)","v":""},"","","","","","",{"$f":"IF(J1303=\"\",\"\",'Step 3) Fit Distribution'!$F$3*E1303+'Step 3) Fit Distribution'!$F$4)","v":""},"","","","","","",""]
[null,{"$f":"IF(AND('Step 1) Select Data'!B1323=\"\",'Step 1) Select Data'!D1323<>\"\"),'Step 1) Select Data'!D1323,\"\")","v":""},"",{"$f":"IF(B1304=\"\",\"\",'Step 1) Select Data'!E1323)","v":""},"","","","","","",{"$f":"IF(J1304=\"\",\"\",'Step 3) Fit Distribution'!$F$3*E1304+'Step 3) Fit Distribution'!$F$4)","v":""},"","","","","","",""]
[null,{"$f":"IF(AND('Step 1) Select Data'!B1324=\"\",'Step 1) Select Data'!D1324<>\"\"),'Step 1) Select Data'!D1324,\"\")","v":""},"",{"$f":"IF(B1305=\"\",\"\",'Step 1) Select Data'!E1324)","v":""},"","","","","","",{"$f":"IF(J1305=\"\",\"\",'Step 3) Fit Distribution'!$F$3*E1305+'Step 3) Fit Distribution'!$F$4)","v":""},"","","","","","",""]
[null,{"$f":"IF(AND('Step 1) Select Data'!B1325=\"\",'Step 1) Select Data'!D1325<>\"\"),'Step 1) Select Data'!D1325,\"\")","v":""},"",{"$f":"IF(B1306=\"\",\"\",'Step 1) Select Data'!E1325)","v":""},"","","","","","",{"$f":"IF(J1306=\"\",\"\",'Step 3) Fit Distribution'!$F$3*E1306+'Step 3) Fit Distribution'!$F$4)","v":""},"","","","","","",""]
[null,{"$f":"IF(AND('Step 1) Select Data'!B1326=\"\",'Step 1) Select Data'!D1326<>\"\"),'Step 1) Select Data'!D1326,\"\")","v":""},"",{"$f":"IF(B1307=\"\",\"\",'Step 1) Select Data'!E1326)","v":""},"","","","","","",{"$f":"IF(J1307=\"\",\"\",'Step 3) Fit Distribution'!$F$3*E1307+'Step 3) Fit Distribution'!$F$4)","v":""},"","","","","","",""]
[null,{"$f":"IF(AND('Step 1) Select Data'!B1327=\"\",'Step 1) Select Data'!D1327<>\"\"),'Step 1) Select Data'!D1327,\"\")","v":""},"",{"$f":"IF(B1308=\"\",\"\",'Step 1) Select Data'!E1327)","v":""},"","","","","","",{"$f":"IF(J1308=\"\",\"\",'Step 3) Fit Distribution'!$F$3*E1308+'Step 3) Fit Distribution'!$F$4)","v":""},"","","","","","",""]
[null,{"$f":"IF(AND('Step 1) Select Data'!B1328=\"\",'Step 1) Select Data'!D1328<>\"\"),'Step 1) Select Data'!D1328,\"\")","v":""},"",{"$f":"IF(B1309=\"\",\"\",'Step 1) Select Data'!E1328)","v":""},"","","","","","",{"$f":"IF(J1309=\"\",\"\",'Step 3) Fit Distribution'!$F$3*E1309+'Step 3) Fit Distribution'!$F$4)","v":""},"","","","","","",""]
[null,{"$f":"IF(AND('Step 1) Select Data'!B1329=\"\",'Step 1) Select Data'!D1329<>\"\"),'Step 1) Select Data'!D1329,\"\")","v":""},"",{"$f":"IF(B1310=\"\",\"\",'Step 1) Select Data'!E1329)","v":""},"","","","","","",{"$f":"IF(J1310=\"\",\"\",'Step 3) Fit Distribution'!$F$3*E1310+'Step 3) Fit Distribution'!$F$4)","v":""},"","","","","","",""]
[null,{"$f":"IF(AND('Step 1) Select Data'!B1330=\"\",'Step 1) Select Data'!D1330<>\"\"),'Step 1) Select Data'!D1330,\"\")","v":""},"",{"$f":"IF(B1311=\"\",\"\",'Step 1) Select Data'!E1330)","v":""},"","","","","","",{"$f":"IF(J1311=\"\",\"\",'Step 3) Fit Distribution'!$F$3*E1311+'Step 3) Fit Distribution'!$F$4)","v":""},"","","","","","",""]
[null,{"$f":"IF(AND('Step 1) Select Data'!B1331=\"\",'Step 1) Select Data'!D1331<>\"\"),'Step 1) Select Data'!D1331,\"\")","v":""},"",{"$f":"IF(B1312=\"\",\"\",'Step 1) Select Data'!E1331)","v":""},"","","","","","",{"$f":"IF(J1312=\"\",\"\",'Step 3) Fit Distribution'!$F$3*E1312+'Step 3) Fit Distribution'!$F$4)","v":""},"","","","","","",""]
[null,{"$f":"IF(AND('Step 1) Select Data'!B1332=\"\",'Step 1) Select Data'!D1332<>\"\"),'Step 1) Select Data'!D1332,\"\")","v":""},"",{"$f":"IF(B1313=\"\",\"\",'Step 1) Select Data'!E1332)","v":""},"","","","","","",{"$f":"IF(J1313=\"\",\"\",'Step 3) Fit Distribution'!$F$3*E1313+'Step 3) Fit Distribution'!$F$4)","v":""},"","","","","","",""]
[null,{"$f":"IF(AND('Step 1) Select Data'!B1333=\"\",'Step 1) Select Data'!D1333<>\"\"),'Step 1) Select Data'!D1333,\"\")","v":""},"",{"$f":"IF(B1314=\"\",\"\",'Step 1) Select Data'!E1333)","v":""},"","","","","","",{"$f":"IF(J1314=\"\",\"\",'Step 3) Fit Distribution'!$F$3*E1314+'Step 3) Fit Distribution'!$F$4)","v":""},"","","","","","",""]
[null,{"$f":"IF(AND('Step 1) Select Data'!B1334=\"\",'Step 1) Select Data'!D1334<>\"\"),'Step 1) Select Data'!D1334,\"\")","v":""},"",{"$f":"IF(B1315=\"\",\"\",'Step 1) Select Data'!E1334)","v":""},"","","","","","",{"$f":"IF(J1315=\"\",\"\",'Step 3) Fit Distribution'!$F$3*E1315+'Step 3) Fit Distribution'!$F$4)","v":""},"","","","","","",""]
[null,{"$f":"IF(AND('Step 1) Select Data'!B1335=\"\",'Step 1) Select Data'!D1335<>\"\"),'Step 1) Select Data'!D1335,\"\")","v":""},"",{"$f":"IF(B1316=\"\",\"\",'Step 1) Select Data'!E1335)","v":""},"","","","","","",{"$f":"IF(J1316=\"\",\"\",'Step 3) Fit Distribution'!$F$3*E1316+'Step 3) Fit Distribution'!$F$4)","v":""},"","","","","","",""]
[null,{"$f":"IF(AND('Step 1) Select Data'!B1336=\"\",'Step 1) Select Data'!D1336<>\"\"),'Step 1) Select Data'!D1336,\"\")","v":""},"",{"$f":"IF(B1317=\"\",\"\",'Step 1) Select Data'!E1336)","v":""},"","","","","","",{"$f":"IF(J1317=\"\",\"\",'Step 3) Fit Distribution'!$F$3*E1317+'Step 3) Fit Distribution'!$F$4)","v":""},"","","","","","",""]
[null,{"$f":"IF(AND('Step 1) Select Data'!B1337=\"\",'Step 1) Select Data'!D1337<>\"\"),'Step 1) Select Data'!D1337,\"\")","v":""},"",{"$f":"IF(B1318=\"\",\"\",'Step 1) Select Data'!E1337)","v":""},"","","","","","",{"$f":"IF(J1318=\"\",\"\",'Step 3) Fit Distribution'!$F$3*E1318+'Step 3) Fit Distribution'!$F$4)","v":""},"","","","","","",""]
[null,{"$f":"IF(AND('Step 1) Select Data'!B1338=\"\",'Step 1) Select Data'!D1338<>\"\"),'Step 1) Select Data'!D1338,\"\")","v":""},"",{"$f":"IF(B1319=\"\",\"\",'Step 1) Select Data'!E1338)","v":""},"","","","","","",{"$f":"IF(J1319=\"\",\"\",'Step 3) Fit Distribution'!$F$3*E1319+'Step 3) Fit Distribution'!$F$4)","v":""},"","","","","","",""]
[null,{"$f":"IF(AND('Step 1) Select Data'!B1339=\"\",'Step 1) Select Data'!D1339<>\"\"),'Step 1) Select Data'!D1339,\"\")","v":""},"",{"$f":"IF(B1320=\"\",\"\",'Step 1) Select Data'!E1339)","v":""},"","","","","","",{"$f":"IF(J1320=\"\",\"\",'Step 3) Fit Distribution'!$F$3*E1320+'Step 3) Fit Distribution'!$F$4)","v":""},"","","","","","",""]
[null,{"$f":"IF(AND('Step 1) Select Data'!B1340=\"\",'Step 1) Select Data'!D1340<>\"\"),'Step 1) Select Data'!D1340,\"\")","v":""},"",{"$f":"IF(B1321=\"\",\"\",'Step 1) Select Data'!E1340)","v":""},"","","","","","",{"$f":"IF(J1321=\"\",\"\",'Step 3) Fit Distribution'!$F$3*E1321+'Step 3) Fit Distribution'!$F$4)","v":""},"","","","","","",""]
[null,{"$f":"IF(AND('Step 1) Select Data'!B1341=\"\",'Step 1) Select Data'!D1341<>\"\"),'Step 1) Select Data'!D1341,\"\")","v":""},"",{"$f":"IF(B1322=\"\",\"\",'Step 1) Select Data'!E1341)","v":""},"","","","","","",{"$f":"IF(J1322=\"\",\"\",'Step 3) Fit Distribution'!$F$3*E1322+'Step 3) Fit Distribution'!$F$4)","v":""},"","","","","","",""]
[null,{"$f":"IF(AND('Step 1) Select Data'!B1342=\"\",'Step 1) Select Data'!D1342<>\"\"),'Step 1) Select Data'!D1342,\"\")","v":""},"",{"$f":"IF(B1323=\"\",\"\",'Step 1) Select Data'!E1342)","v":""},"","","","","","",{"$f":"IF(J1323=\"\",\"\",'Step 3) Fit Distribution'!$F$3*E1323+'Step 3) Fit Distribution'!$F$4)","v":""},"","","","","","",""]
[null,{"$f":"IF(AND('Step 1) Select Data'!B1343=\"\",'Step 1) Select Data'!D1343<>\"\"),'Step 1) Select Data'!D1343,\"\")","v":""},"",{"$f":"IF(B1324=\"\",\"\",'Step 1) Select Data'!E1343)","v":""},"","","","","","",{"$f":"IF(J1324=\"\",\"\",'Step 3) Fit Distribution'!$F$3*E1324+'Step 3) Fit Distribution'!$F$4)","v":""},"","","","","","",""]
[null,{"$f":"IF(AND('Step 1) Select Data'!B1344=\"\",'Step 1) Select Data'!D1344<>\"\"),'Step 1) Select Data'!D1344,\"\")","v":""},"",{"$f":"IF(B1325=\"\",\"\",'Step 1) Select Data'!E1344)","v":""},"","","","","","",{"$f":"IF(J1325=\"\",\"\",'Step 3) Fit Distribution'!$F$3*E1325+'Step 3) Fit Distribution'!$F$4)","v":""},"","","","","","",""]
[null,{"$f":"IF(AND('Step 1) Select Data'!B1345=\"\",'Step 1) Select Data'!D1345<>\"\"),'Step 1) Select Data'!D1345,\"\")","v":""},"",{"$f":"IF(B1326=\"\",\"\",'Step 1) Select Data'!E1345)","v":""},"","","","","","",{"$f":"IF(J1326=\"\",\"\",'Step 3) Fit Distribution'!$F$3*E1326+'Step 3) Fit Distribution'!$F$4)","v":""},"","","","","","",""]
[null,{"$f":"IF(AND('Step 1) Select Data'!B1346=\"\",'Step 1) Select Data'!D1346<>\"\"),'Step 1) Select Data'!D1346,\"\")","v":""},"",{"$f":"IF(B1327=\"\",\"\",'Step 1) Select Data'!E1346)","v":""},"","","","","","",{"$f":"IF(J1327=\"\",\"\",'Step 3) Fit Distribution'!$F$3*E1327+'Step 3) Fit Distribution'!$F$4)","v":""},"","","","","","",""]
[null,{"$f":"IF(AND('Step 1) Select Data'!B1347=\"\",'Step 1) Select Data'!D1347<>\"\"),'Step 1) Select Data'!D1347,\"\")","v":""},"",{"$f":"IF(B1328=\"\",\"\",'Step 1) Select Data'!E1347)","v":""},"","","","","","",{"$f":"IF(J1328=\"\",\"\",'Step 3) Fit Distribution'!$F$3*E1328+'Step 3) Fit Distribution'!$F$4)","v":""},"","","","","","",""]
[null,{"$f":"IF(AND('Step 1) Select Data'!B1348=\"\",'Step 1) Select Data'!D1348<>\"\"),'Step 1) Select Data'!D1348,\"\")","v":""},"",{"$f":"IF(B1329=\"\",\"\",'Step 1) Select Data'!E1348)","v":""},"","","","","","",{"$f":"IF(J1329=\"\",\"\",'Step 3) Fit Distribution'!$F$3*E1329+'Step 3) Fit Distribution'!$F$4)","v":""},"","","","","","",""]
[null,{"$f":"IF(AND('Step 1) Select Data'!B1349=\"\",'Step 1) Select Data'!D1349<>\"\"),'Step 1) Select Data'!D1349,\"\")","v":""},"",{"$f":"IF(B1330=\"\",\"\",'Step 1) Select Data'!E1349)","v":""},"","","","","","",{"$f":"IF(J1330=\"\",\"\",'Step 3) Fit Distribution'!$F$3*E1330+'Step 3) Fit Distribution'!$F$4)","v":""},"","","","","","",""]
[null,{"$f":"IF(AND('Step 1) Select Data'!B1350=\"\",'Step 1) Select Data'!D1350<>\"\"),'Step 1) Select Data'!D1350,\"\")","v":""},"",{"$f":"IF(B1331=\"\",\"\",'Step 1) Select Data'!E1350)","v":""},"","","","","","",{"$f":"IF(J1331=\"\",\"\",'Step 3) Fit Distribution'!$F$3*E1331+'Step 3) Fit Distribution'!$F$4)","v":""},"","","","","","",""]
[null,{"$f":"IF(AND('Step 1) Select Data'!B1351=\"\",'Step 1) Select Data'!D1351<>\"\"),'Step 1) Select Data'!D1351,\"\")","v":""},"",{"$f":"IF(B1332=\"\",\"\",'Step 1) Select Data'!E1351)","v":""},"","","","","","",{"$f":"IF(J1332=\"\",\"\",'Step 3) Fit Distribution'!$F$3*E1332+'Step 3) Fit Distribution'!$F$4)","v":""},"","","","","","",""]
[null,{"$f":"IF(AND('Step 1) Select Data'!B1352=\"\",'Step 1) Select Data'!D1352<>\"\"),'Step 1) Select Data'!D1352,\"\")","v":""},"",{"$f":"IF(B1333=\"\",\"\",'Step 1) Select Data'!E1352)","v":""},"","","","","","",{"$f":"IF(J1333=\"\",\"\",'Step 3) Fit Distribution'!$F$3*E1333+'Step 3) Fit Distribution'!$F$4)","v":""},"","","","","","",""]
[null,{"$f":"IF(AND('Step 1) Select Data'!B1353=\"\",'Step 1) Select Data'!D1353<>\"\"),'Step 1) Select Data'!D1353,\"\")","v":""},"",{"$f":"IF(B1334=\"\",\"\",'Step 1) Select Data'!E1353)","v":""},"","","","","","",{"$f":"IF(J1334=\"\",\"\",'Step 3) Fit Distribution'!$F$3*E1334+'Step 3) Fit Distribution'!$F$4)","v":""},"","","","","","",""]
[null,{"$f":"IF(AND('Step 1) Select Data'!B1354=\"\",'Step 1) Select Data'!D1354<>\"\"),'Step 1) Select Data'!D1354,\"\")","v":""},"",{"$f":"IF(B1335=\"\",\"\",'Step 1) Select Data'!E1354)","v":""},"","","","","","",{"$f":"IF(J1335=\"\",\"\",'Step 3) Fit Distribution'!$F$3*E1335+'Step 3) Fit Distribution'!$F$4)","v":""},"","","","","","",""]
[null,{"$f":"IF(AND('Step 1) Select Data'!B1355=\"\",'Step 1) Select Data'!D1355<>\"\"),'Step 1) Select Data'!D1355,\"\")","v":""},"",{"$f":"IF(B1336=\"\",\"\",'Step 1) Select Data'!E1355)","v":""},"","","","","","",{"$f":"IF(J1336=\"\",\"\",'Step 3) Fit Distribution'!$F$3*E1336+'Step 3) Fit Distribution'!$F$4)","v":""},"","","","","","",""]
[null,{"$f":"IF(AND('Step 1) Select Data'!B1356=\"\",'Step 1) Select Data'!D1356<>\"\"),'Step 1) Select Data'!D1356,\"\")","v":""},"",{"$f":"IF(B1337=\"\",\"\",'Step 1) Select Data'!E1356)","v":""},"","","","","","",{"$f":"IF(J1337=\"\",\"\",'Step 3) Fit Distribution'!$F$3*E1337+'Step 3) Fit Distribution'!$F$4)","v":""},"","","","","","",""]
[null,{"$f":"IF(AND('Step 1) Select Data'!B1357=\"\",'Step 1) Select Data'!D1357<>\"\"),'Step 1) Select Data'!D1357,\"\")","v":""},"",{"$f":"IF(B1338=\"\",\"\",'Step 1) Select Data'!E1357)","v":""},"","","","","","",{"$f":"IF(J1338=\"\",\"\",'Step 3) Fit Distribution'!$F$3*E1338+'Step 3) Fit Distribution'!$F$4)","v":""},"","","","","","",""]
[null,{"$f":"IF(AND('Step 1) Select Data'!B1358=\"\",'Step 1) Select Data'!D1358<>\"\"),'Step 1) Select Data'!D1358,\"\")","v":""},"",{"$f":"IF(B1339=\"\",\"\",'Step 1) Select Data'!E1358)","v":""},"","","","","","",{"$f":"IF(J1339=\"\",\"\",'Step 3) Fit Distribution'!$F$3*E1339+'Step 3) Fit Distribution'!$F$4)","v":""},"","","","","","",""]
[null,{"$f":"IF(AND('Step 1) Select Data'!B1359=\"\",'Step 1) Select Data'!D1359<>\"\"),'Step 1) Select Data'!D1359,\"\")","v":""},"",{"$f":"IF(B1340=\"\",\"\",'Step 1) Select Data'!E1359)","v":""},"","","","","","",{"$f":"IF(J1340=\"\",\"\",'Step 3) Fit Distribution'!$F$3*E1340+'Step 3) Fit Distribution'!$F$4)","v":""},"","","","","","",""]
[null,{"$f":"IF(AND('Step 1) Select Data'!B1360=\"\",'Step 1) Select Data'!D1360<>\"\"),'Step 1) Select Data'!D1360,\"\")","v":""},"",{"$f":"IF(B1341=\"\",\"\",'Step 1) Select Data'!E1360)","v":""},"","","","","","",{"$f":"IF(J1341=\"\",\"\",'Step 3) Fit Distribution'!$F$3*E1341+'Step 3) Fit Distribution'!$F$4)","v":""},"","","","","","",""]
[null,{"$f":"IF(AND('Step 1) Select Data'!B1361=\"\",'Step 1) Select Data'!D1361<>\"\"),'Step 1) Select Data'!D1361,\"\")","v":""},"",{"$f":"IF(B1342=\"\",\"\",'Step 1) Select Data'!E1361)","v":""},"","","","","","",{"$f":"IF(J1342=\"\",\"\",'Step 3) Fit Distribution'!$F$3*E1342+'Step 3) Fit Distribution'!$F$4)","v":""},"","","","","","",""]
[null,{"$f":"IF(AND('Step 1) Select Data'!B1362=\"\",'Step 1) Select Data'!D1362<>\"\"),'Step 1) Select Data'!D1362,\"\")","v":""},"",{"$f":"IF(B1343=\"\",\"\",'Step 1) Select Data'!E1362)","v":""},"","","","","","",{"$f":"IF(J1343=\"\",\"\",'Step 3) Fit Distribution'!$F$3*E1343+'Step 3) Fit Distribution'!$F$4)","v":""},"","","","","","",""]
[null,{"$f":"IF(AND('Step 1) Select Data'!B1363=\"\",'Step 1) Select Data'!D1363<>\"\"),'Step 1) Select Data'!D1363,\"\")","v":""},"",{"$f":"IF(B1344=\"\",\"\",'Step 1) Select Data'!E1363)","v":""},"","","","","","",{"$f":"IF(J1344=\"\",\"\",'Step 3) Fit Distribution'!$F$3*E1344+'Step 3) Fit Distribution'!$F$4)","v":""},"","","","","","",""]
[null,{"$f":"IF(AND('Step 1) Select Data'!B1364=\"\",'Step 1) Select Data'!D1364<>\"\"),'Step 1) Select Data'!D1364,\"\")","v":""},"",{"$f":"IF(B1345=\"\",\"\",'Step 1) Select Data'!E1364)","v":""},"","","","","","",{"$f":"IF(J1345=\"\",\"\",'Step 3) Fit Distribution'!$F$3*E1345+'Step 3) Fit Distribution'!$F$4)","v":""},"","","","","","",""]
[null,{"$f":"IF(AND('Step 1) Select Data'!B1365=\"\",'Step 1) Select Data'!D1365<>\"\"),'Step 1) Select Data'!D1365,\"\")","v":""},"",{"$f":"IF(B1346=\"\",\"\",'Step 1) Select Data'!E1365)","v":""},"","","","","","",{"$f":"IF(J1346=\"\",\"\",'Step 3) Fit Distribution'!$F$3*E1346+'Step 3) Fit Distribution'!$F$4)","v":""},"","","","","","",""]
[null,{"$f":"IF(AND('Step 1) Select Data'!B1366=\"\",'Step 1) Select Data'!D1366<>\"\"),'Step 1) Select Data'!D1366,\"\")","v":""},"",{"$f":"IF(B1347=\"\",\"\",'Step 1) Select Data'!E1366)","v":""},"","","","","","",{"$f":"IF(J1347=\"\",\"\",'Step 3) Fit Distribution'!$F$3*E1347+'Step 3) Fit Distribution'!$F$4)","v":""},"","","","","","",""]
[null,{"$f":"IF(AND('Step 1) Select Data'!B1367=\"\",'Step 1) Select Data'!D1367<>\"\"),'Step 1) Select Data'!D1367,\"\")","v":""},"",{"$f":"IF(B1348=\"\",\"\",'Step 1) Select Data'!E1367)","v":""},"","","","","","",{"$f":"IF(J1348=\"\",\"\",'Step 3) Fit Distribution'!$F$3*E1348+'Step 3) Fit Distribution'!$F$4)","v":""},"","","","","","",""]
[null,{"$f":"IF(AND('Step 1) Select Data'!B1368=\"\",'Step 1) Select Data'!D1368<>\"\"),'Step 1) Select Data'!D1368,\"\")","v":""},"",{"$f":"IF(B1349=\"\",\"\",'Step 1) Select Data'!E1368)","v":""},"","","","","","",{"$f":"IF(J1349=\"\",\"\",'Step 3) Fit Distribution'!$F$3*E1349+'Step 3) Fit Distribution'!$F$4)","v":""},"","","","","","",""]
[null,{"$f":"IF(AND('Step 1) Select Data'!B1369=\"\",'Step 1) Select Data'!D1369<>\"\"),'Step 1) Select Data'!D1369,\"\")","v":""},"",{"$f":"IF(B1350=\"\",\"\",'Step 1) Select Data'!E1369)","v":""},"","","","","","",{"$f":"IF(J1350=\"\",\"\",'Step 3) Fit Distribution'!$F$3*E1350+'Step 3) Fit Distribution'!$F$4)","v":""},"","","","","","",""]
[null,{"$f":"IF(AND('Step 1) Select Data'!B1370=\"\",'Step 1) Select Data'!D1370<>\"\"),'Step 1) Select Data'!D1370,\"\")","v":""},{"$f":"IF(B1351=\"\",\"\",IF(OR(M1351>=M1352,M1352=\"\"),M1351,\"\"))","v":""},{"$f":"IF(B1351=\"\",\"\",'Step 1) Select Data'!E1370)","v":""},{"$f":"IF(C1351=\"\",\"\",LOG10(N1351)*(1/C1351))","v":""},{"$f":"IF(OR(M1351=\"\",C1351=1),\"\",IF(C1351=\"\",\"\",SQRT(R1351/(C1351-1))))","v":""},{"$f":"IF(E1351=\"\",\"\",10^E1351)","v":""},{"$f":"IF(I1351=\"\",\"\",(I1351-0.5)/COUNT($E$6:$E$2004))","v":""},{"$f":"IF(E1351=\"\",\"\",RANK(E1351,$E$6:$E$2004,1))","v":""},{"$f":"IF(H1351=\"\",\"\",NORMINV(H1351,5,1))","v":""},{"$f":"IF(J1351=\"\",\"\",'Step 3) Fit Distribution'!$F$3*E1351+'Step 3) Fit Distribution'!$F$4)","v":""},{"$f":"IF(K1351=\"\",\"\",(K1351-J1351)^2)","v":""},{"$f":"IF(B1351=\"\",\"\",IF(B1351<>B1350,1,M1350+1))","v":""},{"$f":"IF(B1351=\"\",\"\",IF(B1351<>B1350,ROUND(D1351,4),ROUND(D1351,4)*N1350))","v":""},{"$f":"IF(OR(M1351=\"\",C1351=1),\"\",IF(AND(M1351<>\"\",C1351=\"\",E1351=\"\"),O1352,E1351))","v":""},{"$f":"IF(OR(M1351=\"\",C1351=1),\"\",IF(AND(M1351<>\"\",C1351=\"\",E1351=\"\"),P1352,C1351))","v":""},"",{"$f":"IF(Q1351=\"\",\"\",IF(O1351=O1350,Q1351+R1350,Q1351))","v":""}]
[null,{"$f":"IF(AND('Step 1) Select Data'!B1371=\"\",'Step 1) Select Data'!D1371<>\"\"),'Step 1) Select Data'!D1371,\"\")","v":""},"",{"$f":"IF(B1352=\"\",\"\",'Step 1) Select Data'!E1371)","v":""},"","","","","","",{"$f":"IF(J1352=\"\",\"\",'Step 3) Fit Distribution'!$F$3*E1352+'Step 3) Fit Distribution'!$F$4)","v":""},"","","","","","",""]
[null,{"$f":"IF(AND('Step 1) Select Data'!B1372=\"\",'Step 1) Select Data'!D1372<>\"\"),'Step 1) Select Data'!D1372,\"\")","v":""},"",{"$f":"IF(B1353=\"\",\"\",'Step 1) Select Data'!E1372)","v":""},"","","","","","",{"$f":"IF(J1353=\"\",\"\",'Step 3) Fit Distribution'!$F$3*E1353+'Step 3) Fit Distribution'!$F$4)","v":""},"","","","","","",""]
[null,{"$f":"IF(AND('Step 1) Select Data'!B1373=\"\",'Step 1) Select Data'!D1373<>\"\"),'Step 1) Select Data'!D1373,\"\")","v":""},"",{"$f":"IF(B1354=\"\",\"\",'Step 1) Select Data'!E1373)","v":""},"","","","","","",{"$f":"IF(J1354=\"\",\"\",'Step 3) Fit Distribution'!$F$3*E1354+'Step 3) Fit Distribution'!$F$4)","v":""},"","","","","","",""]
[null,{"$f":"IF(AND('Step 1) Select Data'!B1374=\"\",'Step 1) Select Data'!D1374<>\"\"),'Step 1) Select Data'!D1374,\"\")","v":""},"",{"$f":"IF(B1355=\"\",\"\",'Step 1) Select Data'!E1374)","v":""},"","","","","","",{"$f":"IF(J1355=\"\",\"\",'Step 3) Fit Distribution'!$F$3*E1355+'Step 3) Fit Distribution'!$F$4)","v":""},"","","","","","",""]
[null,{"$f":"IF(AND('Step 1) Select Data'!B1375=\"\",'Step 1) Select Data'!D1375<>\"\"),'Step 1) Select Data'!D1375,\"\")","v":""},"",{"$f":"IF(B1356=\"\",\"\",'Step 1) Select Data'!E1375)","v":""},"","","","","","",{"$f":"IF(J1356=\"\",\"\",'Step 3) Fit Distribution'!$F$3*E1356+'Step 3) Fit Distribution'!$F$4)","v":""},"","","","","","",""]
[null,{"$f":"IF(AND('Step 1) Select Data'!B1376=\"\",'Step 1) Select Data'!D1376<>\"\"),'Step 1) Select Data'!D1376,\"\")","v":""},"",{"$f":"IF(B1357=\"\",\"\",'Step 1) Select Data'!E1376)","v":""},"","","","","","",{"$f":"IF(J1357=\"\",\"\",'Step 3) Fit Distribution'!$F$3*E1357+'Step 3) Fit Distribution'!$F$4)","v":""},"","","","","","",""]
[null,{"$f":"IF(AND('Step 1) Select Data'!B1377=\"\",'Step 1) Select Data'!D1377<>\"\"),'Step 1) Select Data'!D1377,\"\")","v":""},"",{"$f":"IF(B1358=\"\",\"\",'Step 1) Select Data'!E1377)","v":""},"","","","","","",{"$f":"IF(J1358=\"\",\"\",'Step 3) Fit Distribution'!$F$3*E1358+'Step 3) Fit Distribution'!$F$4)","v":""},"","","","","","",""]
[null,{"$f":"IF(AND('Step 1) Select Data'!B1378=\"\",'Step 1) Select Data'!D1378<>\"\"),'Step 1) Select Data'!D1378,\"\")","v":""},"",{"$f":"IF(B1359=\"\",\"\",'Step 1) Select Data'!E1378)","v":""},"","","","","","",{"$f":"IF(J1359=\"\",\"\",'Step 3) Fit Distribution'!$F$3*E1359+'Step 3) Fit Distribution'!$F$4)","v":""},"","","","","","",""]
[null,{"$f":"IF(AND('Step 1) Select Data'!B1379=\"\",'Step 1) Select Data'!D1379<>\"\"),'Step 1) Select Data'!D1379,\"\")","v":""},"",{"$f":"IF(B1360=\"\",\"\",'Step 1) Select Data'!E1379)","v":""},"","","","","","",{"$f":"IF(J1360=\"\",\"\",'Step 3) Fit Distribution'!$F$3*E1360+'Step 3) Fit Distribution'!$F$4)","v":""},"","","","","","",""]
[null,{"$f":"IF(AND('Step 1) Select Data'!B1380=\"\",'Step 1) Select Data'!D1380<>\"\"),'Step 1) Select Data'!D1380,\"\")","v":""},"",{"$f":"IF(B1361=\"\",\"\",'Step 1) Select Data'!E1380)","v":""},"","","","","","",{"$f":"IF(J1361=\"\",\"\",'Step 3) Fit Distribution'!$F$3*E1361+'Step 3) Fit Distribution'!$F$4)","v":""},"","","","","","",""]
[null,{"$f":"IF(AND('Step 1) Select Data'!B1381=\"\",'Step 1) Select Data'!D1381<>\"\"),'Step 1) Select Data'!D1381,\"\")","v":""},"",{"$f":"IF(B1362=\"\",\"\",'Step 1) Select Data'!E1381)","v":""},"","","","","","",{"$f":"IF(J1362=\"\",\"\",'Step 3) Fit Distribution'!$F$3*E1362+'Step 3) Fit Distribution'!$F$4)","v":""},"","","","","","",""]
[null,{"$f":"IF(AND('Step 1) Select Data'!B1382=\"\",'Step 1) Select Data'!D1382<>\"\"),'Step 1) Select Data'!D1382,\"\")","v":""},"",{"$f":"IF(B1363=\"\",\"\",'Step 1) Select Data'!E1382)","v":""},"","","","","","",{"$f":"IF(J1363=\"\",\"\",'Step 3) Fit Distribution'!$F$3*E1363+'Step 3) Fit Distribution'!$F$4)","v":""},"","","","","","",""]
[null,{"$f":"IF(AND('Step 1) Select Data'!B1383=\"\",'Step 1) Select Data'!D1383<>\"\"),'Step 1) Select Data'!D1383,\"\")","v":""},"",{"$f":"IF(B1364=\"\",\"\",'Step 1) Select Data'!E1383)","v":""},"","","","","","",{"$f":"IF(J1364=\"\",\"\",'Step 3) Fit Distribution'!$F$3*E1364+'Step 3) Fit Distribution'!$F$4)","v":""},"","","","","",{"$f":"IF(O1364=\"\",\"\",ROUND(LOG(D1364)-O1364,4)^2)","v":""},""]
[null,{"$f":"IF(AND('Step 1) Select Data'!B1384=\"\",'Step 1) Select Data'!D1384<>\"\"),'Step 1) Select Data'!D1384,\"\")","v":""},"",{"$f":"IF(B1365=\"\",\"\",'Step 1) Select Data'!E1384)","v":""},"","","","","","",{"$f":"IF(J1365=\"\",\"\",'Step 3) Fit Distribution'!$F$3*E1365+'Step 3) Fit Distribution'!$F$4)","v":""},"","","","","","",""]
[null,{"$f":"IF(AND('Step 1) Select Data'!B1385=\"\",'Step 1) Select Data'!D1385<>\"\"),'Step 1) Select Data'!D1385,\"\")","v":""},"",{"$f":"IF(B1366=\"\",\"\",'Step 1) Select Data'!E1385)","v":""},"","","","","","",{"$f":"IF(J1366=\"\",\"\",'Step 3) Fit Distribution'!$F$3*E1366+'Step 3) Fit Distribution'!$F$4)","v":""},"","","","","","",""]
[null,{"$f":"IF(AND('Step 1) Select Data'!B1386=\"\",'Step 1) Select Data'!D1386<>\"\"),'Step 1) Select Data'!D1386,\"\")","v":""},"",{"$f":"IF(B1367=\"\",\"\",'Step 1) Select Data'!E1386)","v":""},"","","","","","",{"$f":"IF(J1367=\"\",\"\",'Step 3) Fit Distribution'!$F$3*E1367+'Step 3) Fit Distribution'!$F$4)","v":""},"","","","","","",""]
[null,{"$f":"IF(AND('Step 1) Select Data'!B1387=\"\",'Step 1) Select Data'!D1387<>\"\"),'Step 1) Select Data'!D1387,\"\")","v":""},"",{"$f":"IF(B1368=\"\",\"\",'Step 1) Select Data'!E1387)","v":""},"","","","","","",{"$f":"IF(J1368=\"\",\"\",'Step 3) Fit Distribution'!$F$3*E1368+'Step 3) Fit Distribution'!$F$4)","v":""},"","","","","","",""]
[null,{"$f":"IF(AND('Step 1) Select Data'!B1388=\"\",'Step 1) Select Data'!D1388<>\"\"),'Step 1) Select Data'!D1388,\"\")","v":""},"",{"$f":"IF(B1369=\"\",\"\",'Step 1) Select Data'!E1388)","v":""},"","","","","","",{"$f":"IF(J1369=\"\",\"\",'Step 3) Fit Distribution'!$F$3*E1369+'Step 3) Fit Distribution'!$F$4)","v":""},"","","","","","",""]
[null,{"$f":"IF(AND('Step 1) Select Data'!B1389=\"\",'Step 1) Select Data'!D1389<>\"\"),'Step 1) Select Data'!D1389,\"\")","v":""},"",{"$f":"IF(B1370=\"\",\"\",'Step 1) Select Data'!E1389)","v":""},"","","","","","",{"$f":"IF(J1370=\"\",\"\",'Step 3) Fit Distribution'!$F$3*E1370+'Step 3) Fit Distribution'!$F$4)","v":""},"","","","","","",""]
[null,{"$f":"IF(AND('Step 1) Select Data'!B1390=\"\",'Step 1) Select Data'!D1390<>\"\"),'Step 1) Select Data'!D1390,\"\")","v":""},"",{"$f":"IF(B1371=\"\",\"\",'Step 1) Select Data'!E1390)","v":""},"","","","","","",{"$f":"IF(J1371=\"\",\"\",'Step 3) Fit Distribution'!$F$3*E1371+'Step 3) Fit Distribution'!$F$4)","v":""},"","","","","","",""]
[null,{"$f":"IF(AND('Step 1) Select Data'!B1391=\"\",'Step 1) Select Data'!D1391<>\"\"),'Step 1) Select Data'!D1391,\"\")","v":""},"",{"$f":"IF(B1372=\"\",\"\",'Step 1) Select Data'!E1391)","v":""},"","","","","","",{"$f":"IF(J1372=\"\",\"\",'Step 3) Fit Distribution'!$F$3*E1372+'Step 3) Fit Distribution'!$F$4)","v":""},"","","","","","",""]
[null,{"$f":"IF(AND('Step 1) Select Data'!B1392=\"\",'Step 1) Select Data'!D1392<>\"\"),'Step 1) Select Data'!D1392,\"\")","v":""},"",{"$f":"IF(B1373=\"\",\"\",'Step 1) Select Data'!E1392)","v":""},"","","","","","",{"$f":"IF(J1373=\"\",\"\",'Step 3) Fit Distribution'!$F$3*E1373+'Step 3) Fit Distribution'!$F$4)","v":""},"","","","","","",""]
[null,{"$f":"IF(AND('Step 1) Select Data'!B1393=\"\",'Step 1) Select Data'!D1393<>\"\"),'Step 1) Select Data'!D1393,\"\")","v":""},"",{"$f":"IF(B1374=\"\",\"\",'Step 1) Select Data'!E1393)","v":""},"","","","","","",{"$f":"IF(J1374=\"\",\"\",'Step 3) Fit Distribution'!$F$3*E1374+'Step 3) Fit Distribution'!$F$4)","v":""},"","","","","","",""]
[null,{"$f":"IF(AND('Step 1) Select Data'!B1394=\"\",'Step 1) Select Data'!D1394<>\"\"),'Step 1) Select Data'!D1394,\"\")","v":""},"",{"$f":"IF(B1375=\"\",\"\",'Step 1) Select Data'!E1394)","v":""},"","","","","","",{"$f":"IF(J1375=\"\",\"\",'Step 3) Fit Distribution'!$F$3*E1375+'Step 3) Fit Distribution'!$F$4)","v":""},"","","","","","",""]
[null,{"$f":"IF(AND('Step 1) Select Data'!B1395=\"\",'Step 1) Select Data'!D1395<>\"\"),'Step 1) Select Data'!D1395,\"\")","v":""},"",{"$f":"IF(B1376=\"\",\"\",'Step 1) Select Data'!E1395)","v":""},"","","","","","",{"$f":"IF(J1376=\"\",\"\",'Step 3) Fit Distribution'!$F$3*E1376+'Step 3) Fit Distribution'!$F$4)","v":""},"","","","","","",""]
[null,{"$f":"IF(AND('Step 1) Select Data'!B1396=\"\",'Step 1) Select Data'!D1396<>\"\"),'Step 1) Select Data'!D1396,\"\")","v":""},"",{"$f":"IF(B1377=\"\",\"\",'Step 1) Select Data'!E1396)","v":""},"","","","","","",{"$f":"IF(J1377=\"\",\"\",'Step 3) Fit Distribution'!$F$3*E1377+'Step 3) Fit Distribution'!$F$4)","v":""},"","","","","","",""]
[null,{"$f":"IF(AND('Step 1) Select Data'!B1397=\"\",'Step 1) Select Data'!D1397<>\"\"),'Step 1) Select Data'!D1397,\"\")","v":""},"",{"$f":"IF(B1378=\"\",\"\",'Step 1) Select Data'!E1397)","v":""},"","","","","","",{"$f":"IF(J1378=\"\",\"\",'Step 3) Fit Distribution'!$F$3*E1378+'Step 3) Fit Distribution'!$F$4)","v":""},"","","","","","",""]
[null,{"$f":"IF(AND('Step 1) Select Data'!B1398=\"\",'Step 1) Select Data'!D1398<>\"\"),'Step 1) Select Data'!D1398,\"\")","v":""},"",{"$f":"IF(B1379=\"\",\"\",'Step 1) Select Data'!E1398)","v":""},"","","","","","",{"$f":"IF(J1379=\"\",\"\",'Step 3) Fit Distribution'!$F$3*E1379+'Step 3) Fit Distribution'!$F$4)","v":""},"","","","","","",""]
[null,{"$f":"IF(AND('Step 1) Select Data'!B1399=\"\",'Step 1) Select Data'!D1399<>\"\"),'Step 1) Select Data'!D1399,\"\")","v":""},"",{"$f":"IF(B1380=\"\",\"\",'Step 1) Select Data'!E1399)","v":""},"","","","","","",{"$f":"IF(J1380=\"\",\"\",'Step 3) Fit Distribution'!$F$3*E1380+'Step 3) Fit Distribution'!$F$4)","v":""},"","","","","","",""]
[null,{"$f":"IF(AND('Step 1) Select Data'!B1400=\"\",'Step 1) Select Data'!D1400<>\"\"),'Step 1) Select Data'!D1400,\"\")","v":""},"",{"$f":"IF(B1381=\"\",\"\",'Step 1) Select Data'!E1400)","v":""},"","","","","","",{"$f":"IF(J1381=\"\",\"\",'Step 3) Fit Distribution'!$F$3*E1381+'Step 3) Fit Distribution'!$F$4)","v":""},"","","","","","",""]
[null,{"$f":"IF(AND('Step 1) Select Data'!B1401=\"\",'Step 1) Select Data'!D1401<>\"\"),'Step 1) Select Data'!D1401,\"\")","v":""},"",{"$f":"IF(B1382=\"\",\"\",'Step 1) Select Data'!E1401)","v":""},"","","","","","",{"$f":"IF(J1382=\"\",\"\",'Step 3) Fit Distribution'!$F$3*E1382+'Step 3) Fit Distribution'!$F$4)","v":""},"","","","","","",""]
[null,{"$f":"IF(AND('Step 1) Select Data'!B1402=\"\",'Step 1) Select Data'!D1402<>\"\"),'Step 1) Select Data'!D1402,\"\")","v":""},"",{"$f":"IF(B1383=\"\",\"\",'Step 1) Select Data'!E1402)","v":""},"","","","","","",{"$f":"IF(J1383=\"\",\"\",'Step 3) Fit Distribution'!$F$3*E1383+'Step 3) Fit Distribution'!$F$4)","v":""},"","","","","","",""]
[null,{"$f":"IF(AND('Step 1) Select Data'!B1403=\"\",'Step 1) Select Data'!D1403<>\"\"),'Step 1) Select Data'!D1403,\"\")","v":""},"",{"$f":"IF(B1384=\"\",\"\",'Step 1) Select Data'!E1403)","v":""},"","","","","","",{"$f":"IF(J1384=\"\",\"\",'Step 3) Fit Distribution'!$F$3*E1384+'Step 3) Fit Distribution'!$F$4)","v":""},"","","","","","",""]
[null,{"$f":"IF(AND('Step 1) Select Data'!B1404=\"\",'Step 1) Select Data'!D1404<>\"\"),'Step 1) Select Data'!D1404,\"\")","v":""},"",{"$f":"IF(B1385=\"\",\"\",'Step 1) Select Data'!E1404)","v":""},"","","","","","",{"$f":"IF(J1385=\"\",\"\",'Step 3) Fit Distribution'!$F$3*E1385+'Step 3) Fit Distribution'!$F$4)","v":""},"","","","","","",""]
[null,{"$f":"IF(AND('Step 1) Select Data'!B1405=\"\",'Step 1) Select Data'!D1405<>\"\"),'Step 1) Select Data'!D1405,\"\")","v":""},"",{"$f":"IF(B1386=\"\",\"\",'Step 1) Select Data'!E1405)","v":""},"","","","","","",{"$f":"IF(J1386=\"\",\"\",'Step 3) Fit Distribution'!$F$3*E1386+'Step 3) Fit Distribution'!$F$4)","v":""},"","","","","","",""]
[null,{"$f":"IF(AND('Step 1) Select Data'!B1406=\"\",'Step 1) Select Data'!D1406<>\"\"),'Step 1) Select Data'!D1406,\"\")","v":""},"",{"$f":"IF(B1387=\"\",\"\",'Step 1) Select Data'!E1406)","v":""},"","","","","","",{"$f":"IF(J1387=\"\",\"\",'Step 3) Fit Distribution'!$F$3*E1387+'Step 3) Fit Distribution'!$F$4)","v":""},"","","","","","",""]
[null,{"$f":"IF(AND('Step 1) Select Data'!B1407=\"\",'Step 1) Select Data'!D1407<>\"\"),'Step 1) Select Data'!D1407,\"\")","v":""},"",{"$f":"IF(B1388=\"\",\"\",'Step 1) Select Data'!E1407)","v":""},"","","","","","",{"$f":"IF(J1388=\"\",\"\",'Step 3) Fit Distribution'!$F$3*E1388+'Step 3) Fit Distribution'!$F$4)","v":""},"","","","","","",""]
[null,{"$f":"IF(AND('Step 1) Select Data'!B1408=\"\",'Step 1) Select Data'!D1408<>\"\"),'Step 1) Select Data'!D1408,\"\")","v":""},"",{"$f":"IF(B1389=\"\",\"\",'Step 1) Select Data'!E1408)","v":""},"","","","","","",{"$f":"IF(J1389=\"\",\"\",'Step 3) Fit Distribution'!$F$3*E1389+'Step 3) Fit Distribution'!$F$4)","v":""},"","","","","","",""]
[null,{"$f":"IF(AND('Step 1) Select Data'!B1409=\"\",'Step 1) Select Data'!D1409<>\"\"),'Step 1) Select Data'!D1409,\"\")","v":""},"",{"$f":"IF(B1390=\"\",\"\",'Step 1) Select Data'!E1409)","v":""},"","","","","","",{"$f":"IF(J1390=\"\",\"\",'Step 3) Fit Distribution'!$F$3*E1390+'Step 3) Fit Distribution'!$F$4)","v":""},"","","","","","",""]
[null,{"$f":"IF(AND('Step 1) Select Data'!B1410=\"\",'Step 1) Select Data'!D1410<>\"\"),'Step 1) Select Data'!D1410,\"\")","v":""},"",{"$f":"IF(B1391=\"\",\"\",'Step 1) Select Data'!E1410)","v":""},"","","","","","",{"$f":"IF(J1391=\"\",\"\",'Step 3) Fit Distribution'!$F$3*E1391+'Step 3) Fit Distribution'!$F$4)","v":""},"","","","","","",""]
[null,{"$f":"IF(AND('Step 1) Select Data'!B1411=\"\",'Step 1) Select Data'!D1411<>\"\"),'Step 1) Select Data'!D1411,\"\")","v":""},"",{"$f":"IF(B1392=\"\",\"\",'Step 1) Select Data'!E1411)","v":""},"","","","","","",{"$f":"IF(J1392=\"\",\"\",'Step 3) Fit Distribution'!$F$3*E1392+'Step 3) Fit Distribution'!$F$4)","v":""},"","","","","","",""]
[null,{"$f":"IF(AND('Step 1) Select Data'!B1412=\"\",'Step 1) Select Data'!D1412<>\"\"),'Step 1) Select Data'!D1412,\"\")","v":""},"",{"$f":"IF(B1393=\"\",\"\",'Step 1) Select Data'!E1412)","v":""},"","","","","","",{"$f":"IF(J1393=\"\",\"\",'Step 3) Fit Distribution'!$F$3*E1393+'Step 3) Fit Distribution'!$F$4)","v":""},"","","","","","",""]
[null,{"$f":"IF(AND('Step 1) Select Data'!B1413=\"\",'Step 1) Select Data'!D1413<>\"\"),'Step 1) Select Data'!D1413,\"\")","v":""},"",{"$f":"IF(B1394=\"\",\"\",'Step 1) Select Data'!E1413)","v":""},"","","","","","",{"$f":"IF(J1394=\"\",\"\",'Step 3) Fit Distribution'!$F$3*E1394+'Step 3) Fit Distribution'!$F$4)","v":""},"","","","","","",""]
[null,{"$f":"IF(AND('Step 1) Select Data'!B1414=\"\",'Step 1) Select Data'!D1414<>\"\"),'Step 1) Select Data'!D1414,\"\")","v":""},"",{"$f":"IF(B1395=\"\",\"\",'Step 1) Select Data'!E1414)","v":""},"","","","","","",{"$f":"IF(J1395=\"\",\"\",'Step 3) Fit Distribution'!$F$3*E1395+'Step 3) Fit Distribution'!$F$4)","v":""},"","","","","","",""]
[null,{"$f":"IF(AND('Step 1) Select Data'!B1415=\"\",'Step 1) Select Data'!D1415<>\"\"),'Step 1) Select Data'!D1415,\"\")","v":""},"",{"$f":"IF(B1396=\"\",\"\",'Step 1) Select Data'!E1415)","v":""},"","","","","","",{"$f":"IF(J1396=\"\",\"\",'Step 3) Fit Distribution'!$F$3*E1396+'Step 3) Fit Distribution'!$F$4)","v":""},"","","","","","",""]
[null,{"$f":"IF(AND('Step 1) Select Data'!B1416=\"\",'Step 1) Select Data'!D1416<>\"\"),'Step 1) Select Data'!D1416,\"\")","v":""},"",{"$f":"IF(B1397=\"\",\"\",'Step 1) Select Data'!E1416)","v":""},"","","","","","",{"$f":"IF(J1397=\"\",\"\",'Step 3) Fit Distribution'!$F$3*E1397+'Step 3) Fit Distribution'!$F$4)","v":""},"","","","","","",""]
[null,{"$f":"IF(AND('Step 1) Select Data'!B1417=\"\",'Step 1) Select Data'!D1417<>\"\"),'Step 1) Select Data'!D1417,\"\")","v":""},"",{"$f":"IF(B1398=\"\",\"\",'Step 1) Select Data'!E1417)","v":""},"","","","","","",{"$f":"IF(J1398=\"\",\"\",'Step 3) Fit Distribution'!$F$3*E1398+'Step 3) Fit Distribution'!$F$4)","v":""},"","","","","","",""]
[null,{"$f":"IF(AND('Step 1) Select Data'!B1418=\"\",'Step 1) Select Data'!D1418<>\"\"),'Step 1) Select Data'!D1418,\"\")","v":""},"",{"$f":"IF(B1399=\"\",\"\",'Step 1) Select Data'!E1418)","v":""},"","","","","","",{"$f":"IF(J1399=\"\",\"\",'Step 3) Fit Distribution'!$F$3*E1399+'Step 3) Fit Distribution'!$F$4)","v":""},"","","","","","",""]
[null,{"$f":"IF(AND('Step 1) Select Data'!B1419=\"\",'Step 1) Select Data'!D1419<>\"\"),'Step 1) Select Data'!D1419,\"\")","v":""},"",{"$f":"IF(B1400=\"\",\"\",'Step 1) Select Data'!E1419)","v":""},"","","","","","",{"$f":"IF(J1400=\"\",\"\",'Step 3) Fit Distribution'!$F$3*E1400+'Step 3) Fit Distribution'!$F$4)","v":""},"","","","","","",""]
[null,{"$f":"IF(AND('Step 1) Select Data'!B1420=\"\",'Step 1) Select Data'!D1420<>\"\"),'Step 1) Select Data'!D1420,\"\")","v":""},"",{"$f":"IF(B1401=\"\",\"\",'Step 1) Select Data'!E1420)","v":""},"","","","","","",{"$f":"IF(J1401=\"\",\"\",'Step 3) Fit Distribution'!$F$3*E1401+'Step 3) Fit Distribution'!$F$4)","v":""},"","","","","","",""]
[null,{"$f":"IF(AND('Step 1) Select Data'!B1421=\"\",'Step 1) Select Data'!D1421<>\"\"),'Step 1) Select Data'!D1421,\"\")","v":""},"",{"$f":"IF(B1402=\"\",\"\",'Step 1) Select Data'!E1421)","v":""},"","","","","","",{"$f":"IF(J1402=\"\",\"\",'Step 3) Fit Distribution'!$F$3*E1402+'Step 3) Fit Distribution'!$F$4)","v":""},"","","","","","",""]
[null,{"$f":"IF(AND('Step 1) Select Data'!B1422=\"\",'Step 1) Select Data'!D1422<>\"\"),'Step 1) Select Data'!D1422,\"\")","v":""},"",{"$f":"IF(B1403=\"\",\"\",'Step 1) Select Data'!E1422)","v":""},"","","","","","",{"$f":"IF(J1403=\"\",\"\",'Step 3) Fit Distribution'!$F$3*E1403+'Step 3) Fit Distribution'!$F$4)","v":""},"","","","","","",""]
[null,{"$f":"IF(AND('Step 1) Select Data'!B1423=\"\",'Step 1) Select Data'!D1423<>\"\"),'Step 1) Select Data'!D1423,\"\")","v":""},"",{"$f":"IF(B1404=\"\",\"\",'Step 1) Select Data'!E1423)","v":""},"","","","","","",{"$f":"IF(J1404=\"\",\"\",'Step 3) Fit Distribution'!$F$3*E1404+'Step 3) Fit Distribution'!$F$4)","v":""},"","","","","","",""]
[null,{"$f":"IF(AND('Step 1) Select Data'!B1424=\"\",'Step 1) Select Data'!D1424<>\"\"),'Step 1) Select Data'!D1424,\"\")","v":""},"",{"$f":"IF(B1405=\"\",\"\",'Step 1) Select Data'!E1424)","v":""},"","","","","","",{"$f":"IF(J1405=\"\",\"\",'Step 3) Fit Distribution'!$F$3*E1405+'Step 3) Fit Distribution'!$F$4)","v":""},"","","","","","",""]
[null,{"$f":"IF(AND('Step 1) Select Data'!B1425=\"\",'Step 1) Select Data'!D1425<>\"\"),'Step 1) Select Data'!D1425,\"\")","v":""},"",{"$f":"IF(B1406=\"\",\"\",'Step 1) Select Data'!E1425)","v":""},"","","","","","",{"$f":"IF(J1406=\"\",\"\",'Step 3) Fit Distribution'!$F$3*E1406+'Step 3) Fit Distribution'!$F$4)","v":""},"","","","","","",""]
[null,{"$f":"IF(AND('Step 1) Select Data'!B1426=\"\",'Step 1) Select Data'!D1426<>\"\"),'Step 1) Select Data'!D1426,\"\")","v":""},"",{"$f":"IF(B1407=\"\",\"\",'Step 1) Select Data'!E1426)","v":""},"","","","","","",{"$f":"IF(J1407=\"\",\"\",'Step 3) Fit Distribution'!$F$3*E1407+'Step 3) Fit Distribution'!$F$4)","v":""},"","","","","","",""]
[null,{"$f":"IF(AND('Step 1) Select Data'!B1427=\"\",'Step 1) Select Data'!D1427<>\"\"),'Step 1) Select Data'!D1427,\"\")","v":""},"",{"$f":"IF(B1408=\"\",\"\",'Step 1) Select Data'!E1427)","v":""},"","","","","","",{"$f":"IF(J1408=\"\",\"\",'Step 3) Fit Distribution'!$F$3*E1408+'Step 3) Fit Distribution'!$F$4)","v":""},"","","","","","",""]
[null,{"$f":"IF(AND('Step 1) Select Data'!B1428=\"\",'Step 1) Select Data'!D1428<>\"\"),'Step 1) Select Data'!D1428,\"\")","v":""},"",{"$f":"IF(B1409=\"\",\"\",'Step 1) Select Data'!E1428)","v":""},"","","","","","",{"$f":"IF(J1409=\"\",\"\",'Step 3) Fit Distribution'!$F$3*E1409+'Step 3) Fit Distribution'!$F$4)","v":""},"","","","","","",""]
[null,{"$f":"IF(AND('Step 1) Select Data'!B1429=\"\",'Step 1) Select Data'!D1429<>\"\"),'Step 1) Select Data'!D1429,\"\")","v":""},"",{"$f":"IF(B1410=\"\",\"\",'Step 1) Select Data'!E1429)","v":""},"","","","","","",{"$f":"IF(J1410=\"\",\"\",'Step 3) Fit Distribution'!$F$3*E1410+'Step 3) Fit Distribution'!$F$4)","v":""},"","","","","","",""]
[null,{"$f":"IF(AND('Step 1) Select Data'!B1430=\"\",'Step 1) Select Data'!D1430<>\"\"),'Step 1) Select Data'!D1430,\"\")","v":""},"",{"$f":"IF(B1411=\"\",\"\",'Step 1) Select Data'!E1430)","v":""},"","","","","","",{"$f":"IF(J1411=\"\",\"\",'Step 3) Fit Distribution'!$F$3*E1411+'Step 3) Fit Distribution'!$F$4)","v":""},"","","","","","",""]
[null,{"$f":"IF(AND('Step 1) Select Data'!B1431=\"\",'Step 1) Select Data'!D1431<>\"\"),'Step 1) Select Data'!D1431,\"\")","v":""},"",{"$f":"IF(B1412=\"\",\"\",'Step 1) Select Data'!E1431)","v":""},"","","","","","",{"$f":"IF(J1412=\"\",\"\",'Step 3) Fit Distribution'!$F$3*E1412+'Step 3) Fit Distribution'!$F$4)","v":""},"","","","","","",""]
[null,{"$f":"IF(AND('Step 1) Select Data'!B1432=\"\",'Step 1) Select Data'!D1432<>\"\"),'Step 1) Select Data'!D1432,\"\")","v":""},"",{"$f":"IF(B1413=\"\",\"\",'Step 1) Select Data'!E1432)","v":""},"","","","","","",{"$f":"IF(J1413=\"\",\"\",'Step 3) Fit Distribution'!$F$3*E1413+'Step 3) Fit Distribution'!$F$4)","v":""},"","","","","","",""]
[null,{"$f":"IF(AND('Step 1) Select Data'!B1433=\"\",'Step 1) Select Data'!D1433<>\"\"),'Step 1) Select Data'!D1433,\"\")","v":""},"",{"$f":"IF(B1414=\"\",\"\",'Step 1) Select Data'!E1433)","v":""},"","","","","","",{"$f":"IF(J1414=\"\",\"\",'Step 3) Fit Distribution'!$F$3*E1414+'Step 3) Fit Distribution'!$F$4)","v":""},"","","","","","",""]
[null,{"$f":"IF(AND('Step 1) Select Data'!B1434=\"\",'Step 1) Select Data'!D1434<>\"\"),'Step 1) Select Data'!D1434,\"\")","v":""},{"$f":"IF(B1415=\"\",\"\",IF(OR(M1415>=M1416,M1416=\"\"),M1415,\"\"))","v":""},{"$f":"IF(B1415=\"\",\"\",'Step 1) Select Data'!E1434)","v":""},{"$f":"IF(C1415=\"\",\"\",LOG10(N1415)*(1/C1415))","v":""},{"$f":"IF(OR(M1415=\"\",C1415=1),\"\",IF(C1415=\"\",\"\",SQRT(R1415/(C1415-1))))","v":""},{"$f":"IF(E1415=\"\",\"\",10^E1415)","v":""},{"$f":"IF(I1415=\"\",\"\",(I1415-0.5)/COUNT($E$6:$E$2004))","v":""},{"$f":"IF(E1415=\"\",\"\",RANK(E1415,$E$6:$E$2004,1))","v":""},{"$f":"IF(H1415=\"\",\"\",NORMINV(H1415,5,1))","v":""},{"$f":"IF(J1415=\"\",\"\",'Step 3) Fit Distribution'!$F$3*E1415+'Step 3) Fit Distribution'!$F$4)","v":""},{"$f":"IF(K1415=\"\",\"\",(K1415-J1415)^2)","v":""},{"$f":"IF(B1415=\"\",\"\",IF(B1415<>B1414,1,M1414+1))","v":""},{"$f":"IF(B1415=\"\",\"\",IF(B1415<>B1414,ROUND(D1415,4),ROUND(D1415,4)*N1414))","v":""},{"$f":"IF(OR(M1415=\"\",C1415=1),\"\",IF(AND(M1415<>\"\",C1415=\"\",E1415=\"\"),O1416,E1415))","v":""},{"$f":"IF(OR(M1415=\"\",C1415=1),\"\",IF(AND(M1415<>\"\",C1415=\"\",E1415=\"\"),P1416,C1415))","v":""},"",{"$f":"IF(Q1415=\"\",\"\",IF(O1415=O1414,Q1415+R1414,Q1415))","v":""}]
[null,{"$f":"IF(AND('Step 1) Select Data'!B1435=\"\",'Step 1) Select Data'!D1435<>\"\"),'Step 1) Select Data'!D1435,\"\")","v":""},"",{"$f":"IF(B1416=\"\",\"\",'Step 1) Select Data'!E1435)","v":""},"","","","","","",{"$f":"IF(J1416=\"\",\"\",'Step 3) Fit Distribution'!$F$3*E1416+'Step 3) Fit Distribution'!$F$4)","v":""},"","","","","","",""]
[null,{"$f":"IF(AND('Step 1) Select Data'!B1436=\"\",'Step 1) Select Data'!D1436<>\"\"),'Step 1) Select Data'!D1436,\"\")","v":""},"",{"$f":"IF(B1417=\"\",\"\",'Step 1) Select Data'!E1436)","v":""},"","","","","","",{"$f":"IF(J1417=\"\",\"\",'Step 3) Fit Distribution'!$F$3*E1417+'Step 3) Fit Distribution'!$F$4)","v":""},"","","","","","",""]
[null,{"$f":"IF(AND('Step 1) Select Data'!B1437=\"\",'Step 1) Select Data'!D1437<>\"\"),'Step 1) Select Data'!D1437,\"\")","v":""},"",{"$f":"IF(B1418=\"\",\"\",'Step 1) Select Data'!E1437)","v":""},"","","","","","",{"$f":"IF(J1418=\"\",\"\",'Step 3) Fit Distribution'!$F$3*E1418+'Step 3) Fit Distribution'!$F$4)","v":""},"","","","","","",""]
[null,{"$f":"IF(AND('Step 1) Select Data'!B1438=\"\",'Step 1) Select Data'!D1438<>\"\"),'Step 1) Select Data'!D1438,\"\")","v":""},"",{"$f":"IF(B1419=\"\",\"\",'Step 1) Select Data'!E1438)","v":""},"","","","","","",{"$f":"IF(J1419=\"\",\"\",'Step 3) Fit Distribution'!$F$3*E1419+'Step 3) Fit Distribution'!$F$4)","v":""},"","","","","","",""]
[null,{"$f":"IF(AND('Step 1) Select Data'!B1439=\"\",'Step 1) Select Data'!D1439<>\"\"),'Step 1) Select Data'!D1439,\"\")","v":""},"",{"$f":"IF(B1420=\"\",\"\",'Step 1) Select Data'!E1439)","v":""},"","","","","","",{"$f":"IF(J1420=\"\",\"\",'Step 3) Fit Distribution'!$F$3*E1420+'Step 3) Fit Distribution'!$F$4)","v":""},"","","","","","",""]
[null,{"$f":"IF(AND('Step 1) Select Data'!B1440=\"\",'Step 1) Select Data'!D1440<>\"\"),'Step 1) Select Data'!D1440,\"\")","v":""},"",{"$f":"IF(B1421=\"\",\"\",'Step 1) Select Data'!E1440)","v":""},"","","","","","",{"$f":"IF(J1421=\"\",\"\",'Step 3) Fit Distribution'!$F$3*E1421+'Step 3) Fit Distribution'!$F$4)","v":""},"","","","","","",""]
[null,{"$f":"IF(AND('Step 1) Select Data'!B1441=\"\",'Step 1) Select Data'!D1441<>\"\"),'Step 1) Select Data'!D1441,\"\")","v":""},"",{"$f":"IF(B1422=\"\",\"\",'Step 1) Select Data'!E1441)","v":""},"","","","","","",{"$f":"IF(J1422=\"\",\"\",'Step 3) Fit Distribution'!$F$3*E1422+'Step 3) Fit Distribution'!$F$4)","v":""},"","","","","","",""]
[null,{"$f":"IF(AND('Step 1) Select Data'!B1442=\"\",'Step 1) Select Data'!D1442<>\"\"),'Step 1) Select Data'!D1442,\"\")","v":""},"",{"$f":"IF(B1423=\"\",\"\",'Step 1) Select Data'!E1442)","v":""},"","","","","","",{"$f":"IF(J1423=\"\",\"\",'Step 3) Fit Distribution'!$F$3*E1423+'Step 3) Fit Distribution'!$F$4)","v":""},"","","","","","",""]
[null,{"$f":"IF(AND('Step 1) Select Data'!B1443=\"\",'Step 1) Select Data'!D1443<>\"\"),'Step 1) Select Data'!D1443,\"\")","v":""},"",{"$f":"IF(B1424=\"\",\"\",'Step 1) Select Data'!E1443)","v":""},"","","","","","",{"$f":"IF(J1424=\"\",\"\",'Step 3) Fit Distribution'!$F$3*E1424+'Step 3) Fit Distribution'!$F$4)","v":""},"","","","","","",""]
[null,{"$f":"IF(AND('Step 1) Select Data'!B1444=\"\",'Step 1) Select Data'!D1444<>\"\"),'Step 1) Select Data'!D1444,\"\")","v":""},"",{"$f":"IF(B1425=\"\",\"\",'Step 1) Select Data'!E1444)","v":""},"","","","","","",{"$f":"IF(J1425=\"\",\"\",'Step 3) Fit Distribution'!$F$3*E1425+'Step 3) Fit Distribution'!$F$4)","v":""},"","","","","","",""]
[null,{"$f":"IF(AND('Step 1) Select Data'!B1445=\"\",'Step 1) Select Data'!D1445<>\"\"),'Step 1) Select Data'!D1445,\"\")","v":""},"",{"$f":"IF(B1426=\"\",\"\",'Step 1) Select Data'!E1445)","v":""},"","","","","","",{"$f":"IF(J1426=\"\",\"\",'Step 3) Fit Distribution'!$F$3*E1426+'Step 3) Fit Distribution'!$F$4)","v":""},"","","","","","",""]
[null,{"$f":"IF(AND('Step 1) Select Data'!B1446=\"\",'Step 1) Select Data'!D1446<>\"\"),'Step 1) Select Data'!D1446,\"\")","v":""},"",{"$f":"IF(B1427=\"\",\"\",'Step 1) Select Data'!E1446)","v":""},"","","","","","",{"$f":"IF(J1427=\"\",\"\",'Step 3) Fit Distribution'!$F$3*E1427+'Step 3) Fit Distribution'!$F$4)","v":""},"","","","","","",""]
[null,{"$f":"IF(AND('Step 1) Select Data'!B1447=\"\",'Step 1) Select Data'!D1447<>\"\"),'Step 1) Select Data'!D1447,\"\")","v":""},"",{"$f":"IF(B1428=\"\",\"\",'Step 1) Select Data'!E1447)","v":""},"","","","","","",{"$f":"IF(J1428=\"\",\"\",'Step 3) Fit Distribution'!$F$3*E1428+'Step 3) Fit Distribution'!$F$4)","v":""},"","","","","",{"$f":"IF(O1428=\"\",\"\",ROUND(LOG(D1428)-O1428,4)^2)","v":""},""]
[null,{"$f":"IF(AND('Step 1) Select Data'!B1448=\"\",'Step 1) Select Data'!D1448<>\"\"),'Step 1) Select Data'!D1448,\"\")","v":""},"",{"$f":"IF(B1429=\"\",\"\",'Step 1) Select Data'!E1448)","v":""},"","","","","","",{"$f":"IF(J1429=\"\",\"\",'Step 3) Fit Distribution'!$F$3*E1429+'Step 3) Fit Distribution'!$F$4)","v":""},"","","","","","",""]
[null,{"$f":"IF(AND('Step 1) Select Data'!B1449=\"\",'Step 1) Select Data'!D1449<>\"\"),'Step 1) Select Data'!D1449,\"\")","v":""},"",{"$f":"IF(B1430=\"\",\"\",'Step 1) Select Data'!E1449)","v":""},"","","","","","",{"$f":"IF(J1430=\"\",\"\",'Step 3) Fit Distribution'!$F$3*E1430+'Step 3) Fit Distribution'!$F$4)","v":""},"","","","","","",""]
[null,{"$f":"IF(AND('Step 1) Select Data'!B1450=\"\",'Step 1) Select Data'!D1450<>\"\"),'Step 1) Select Data'!D1450,\"\")","v":""},"",{"$f":"IF(B1431=\"\",\"\",'Step 1) Select Data'!E1450)","v":""},"","","","","","",{"$f":"IF(J1431=\"\",\"\",'Step 3) Fit Distribution'!$F$3*E1431+'Step 3) Fit Distribution'!$F$4)","v":""},"","","","","","",""]
[null,{"$f":"IF(AND('Step 1) Select Data'!B1451=\"\",'Step 1) Select Data'!D1451<>\"\"),'Step 1) Select Data'!D1451,\"\")","v":""},"",{"$f":"IF(B1432=\"\",\"\",'Step 1) Select Data'!E1451)","v":""},"","","","","","",{"$f":"IF(J1432=\"\",\"\",'Step 3) Fit Distribution'!$F$3*E1432+'Step 3) Fit Distribution'!$F$4)","v":""},"","","","","","",""]
[null,{"$f":"IF(AND('Step 1) Select Data'!B1452=\"\",'Step 1) Select Data'!D1452<>\"\"),'Step 1) Select Data'!D1452,\"\")","v":""},"",{"$f":"IF(B1433=\"\",\"\",'Step 1) Select Data'!E1452)","v":""},"","","","","","",{"$f":"IF(J1433=\"\",\"\",'Step 3) Fit Distribution'!$F$3*E1433+'Step 3) Fit Distribution'!$F$4)","v":""},"","","","","","",""]
[null,{"$f":"IF(AND('Step 1) Select Data'!B1453=\"\",'Step 1) Select Data'!D1453<>\"\"),'Step 1) Select Data'!D1453,\"\")","v":""},"",{"$f":"IF(B1434=\"\",\"\",'Step 1) Select Data'!E1453)","v":""},"","","","","","",{"$f":"IF(J1434=\"\",\"\",'Step 3) Fit Distribution'!$F$3*E1434+'Step 3) Fit Distribution'!$F$4)","v":""},"","","","","","",""]
[null,{"$f":"IF(AND('Step 1) Select Data'!B1454=\"\",'Step 1) Select Data'!D1454<>\"\"),'Step 1) Select Data'!D1454,\"\")","v":""},"",{"$f":"IF(B1435=\"\",\"\",'Step 1) Select Data'!E1454)","v":""},"","","","","","",{"$f":"IF(J1435=\"\",\"\",'Step 3) Fit Distribution'!$F$3*E1435+'Step 3) Fit Distribution'!$F$4)","v":""},"","","","","","",""]
[null,{"$f":"IF(AND('Step 1) Select Data'!B1455=\"\",'Step 1) Select Data'!D1455<>\"\"),'Step 1) Select Data'!D1455,\"\")","v":""},"",{"$f":"IF(B1436=\"\",\"\",'Step 1) Select Data'!E1455)","v":""},"","","","","","",{"$f":"IF(J1436=\"\",\"\",'Step 3) Fit Distribution'!$F$3*E1436+'Step 3) Fit Distribution'!$F$4)","v":""},"","","","","","",""]
[null,{"$f":"IF(AND('Step 1) Select Data'!B1456=\"\",'Step 1) Select Data'!D1456<>\"\"),'Step 1) Select Data'!D1456,\"\")","v":""},"",{"$f":"IF(B1437=\"\",\"\",'Step 1) Select Data'!E1456)","v":""},"","","","","","",{"$f":"IF(J1437=\"\",\"\",'Step 3) Fit Distribution'!$F$3*E1437+'Step 3) Fit Distribution'!$F$4)","v":""},"","","","","","",""]
[null,{"$f":"IF(AND('Step 1) Select Data'!B1457=\"\",'Step 1) Select Data'!D1457<>\"\"),'Step 1) Select Data'!D1457,\"\")","v":""},"",{"$f":"IF(B1438=\"\",\"\",'Step 1) Select Data'!E1457)","v":""},"","","","","","",{"$f":"IF(J1438=\"\",\"\",'Step 3) Fit Distribution'!$F$3*E1438+'Step 3) Fit Distribution'!$F$4)","v":""},"","","","","","",""]
[null,{"$f":"IF(AND('Step 1) Select Data'!B1458=\"\",'Step 1) Select Data'!D1458<>\"\"),'Step 1) Select Data'!D1458,\"\")","v":""},"",{"$f":"IF(B1439=\"\",\"\",'Step 1) Select Data'!E1458)","v":""},"","","","","","",{"$f":"IF(J1439=\"\",\"\",'Step 3) Fit Distribution'!$F$3*E1439+'Step 3) Fit Distribution'!$F$4)","v":""},"","","","","","",""]
[null,{"$f":"IF(AND('Step 1) Select Data'!B1459=\"\",'Step 1) Select Data'!D1459<>\"\"),'Step 1) Select Data'!D1459,\"\")","v":""},"",{"$f":"IF(B1440=\"\",\"\",'Step 1) Select Data'!E1459)","v":""},"","","","","","",{"$f":"IF(J1440=\"\",\"\",'Step 3) Fit Distribution'!$F$3*E1440+'Step 3) Fit Distribution'!$F$4)","v":""},"","","","","","",""]
[null,{"$f":"IF(AND('Step 1) Select Data'!B1460=\"\",'Step 1) Select Data'!D1460<>\"\"),'Step 1) Select Data'!D1460,\"\")","v":""},"",{"$f":"IF(B1441=\"\",\"\",'Step 1) Select Data'!E1460)","v":""},"","","","","","",{"$f":"IF(J1441=\"\",\"\",'Step 3) Fit Distribution'!$F$3*E1441+'Step 3) Fit Distribution'!$F$4)","v":""},"","","","","","",""]
[null,{"$f":"IF(AND('Step 1) Select Data'!B1461=\"\",'Step 1) Select Data'!D1461<>\"\"),'Step 1) Select Data'!D1461,\"\")","v":""},"",{"$f":"IF(B1442=\"\",\"\",'Step 1) Select Data'!E1461)","v":""},"","","","","","",{"$f":"IF(J1442=\"\",\"\",'Step 3) Fit Distribution'!$F$3*E1442+'Step 3) Fit Distribution'!$F$4)","v":""},"","","","","","",""]
[null,{"$f":"IF(AND('Step 1) Select Data'!B1462=\"\",'Step 1) Select Data'!D1462<>\"\"),'Step 1) Select Data'!D1462,\"\")","v":""},"",{"$f":"IF(B1443=\"\",\"\",'Step 1) Select Data'!E1462)","v":""},"","","","","","",{"$f":"IF(J1443=\"\",\"\",'Step 3) Fit Distribution'!$F$3*E1443+'Step 3) Fit Distribution'!$F$4)","v":""},"","","","","","",""]
[null,{"$f":"IF(AND('Step 1) Select Data'!B1463=\"\",'Step 1) Select Data'!D1463<>\"\"),'Step 1) Select Data'!D1463,\"\")","v":""},"",{"$f":"IF(B1444=\"\",\"\",'Step 1) Select Data'!E1463)","v":""},"","","","","","",{"$f":"IF(J1444=\"\",\"\",'Step 3) Fit Distribution'!$F$3*E1444+'Step 3) Fit Distribution'!$F$4)","v":""},"","","","","","",""]
[null,{"$f":"IF(AND('Step 1) Select Data'!B1464=\"\",'Step 1) Select Data'!D1464<>\"\"),'Step 1) Select Data'!D1464,\"\")","v":""},"",{"$f":"IF(B1445=\"\",\"\",'Step 1) Select Data'!E1464)","v":""},"","","","","","",{"$f":"IF(J1445=\"\",\"\",'Step 3) Fit Distribution'!$F$3*E1445+'Step 3) Fit Distribution'!$F$4)","v":""},"","","","","","",""]
[null,{"$f":"IF(AND('Step 1) Select Data'!B1465=\"\",'Step 1) Select Data'!D1465<>\"\"),'Step 1) Select Data'!D1465,\"\")","v":""},"",{"$f":"IF(B1446=\"\",\"\",'Step 1) Select Data'!E1465)","v":""},"","","","","","",{"$f":"IF(J1446=\"\",\"\",'Step 3) Fit Distribution'!$F$3*E1446+'Step 3) Fit Distribution'!$F$4)","v":""},"","","","","","",""]
[null,{"$f":"IF(AND('Step 1) Select Data'!B1466=\"\",'Step 1) Select Data'!D1466<>\"\"),'Step 1) Select Data'!D1466,\"\")","v":""},"",{"$f":"IF(B1447=\"\",\"\",'Step 1) Select Data'!E1466)","v":""},"","","","","","",{"$f":"IF(J1447=\"\",\"\",'Step 3) Fit Distribution'!$F$3*E1447+'Step 3) Fit Distribution'!$F$4)","v":""},"","","","","","",""]
[null,{"$f":"IF(AND('Step 1) Select Data'!B1467=\"\",'Step 1) Select Data'!D1467<>\"\"),'Step 1) Select Data'!D1467,\"\")","v":""},"",{"$f":"IF(B1448=\"\",\"\",'Step 1) Select Data'!E1467)","v":""},"","","","","","",{"$f":"IF(J1448=\"\",\"\",'Step 3) Fit Distribution'!$F$3*E1448+'Step 3) Fit Distribution'!$F$4)","v":""},"","","","","","",""]
[null,{"$f":"IF(AND('Step 1) Select Data'!B1468=\"\",'Step 1) Select Data'!D1468<>\"\"),'Step 1) Select Data'!D1468,\"\")","v":""},"",{"$f":"IF(B1449=\"\",\"\",'Step 1) Select Data'!E1468)","v":""},"","","","","","",{"$f":"IF(J1449=\"\",\"\",'Step 3) Fit Distribution'!$F$3*E1449+'Step 3) Fit Distribution'!$F$4)","v":""},"","","","","","",""]
[null,{"$f":"IF(AND('Step 1) Select Data'!B1469=\"\",'Step 1) Select Data'!D1469<>\"\"),'Step 1) Select Data'!D1469,\"\")","v":""},"",{"$f":"IF(B1450=\"\",\"\",'Step 1) Select Data'!E1469)","v":""},"","","","","","",{"$f":"IF(J1450=\"\",\"\",'Step 3) Fit Distribution'!$F$3*E1450+'Step 3) Fit Distribution'!$F$4)","v":""},"","","","","","",""]
[null,{"$f":"IF(AND('Step 1) Select Data'!B1470=\"\",'Step 1) Select Data'!D1470<>\"\"),'Step 1) Select Data'!D1470,\"\")","v":""},"",{"$f":"IF(B1451=\"\",\"\",'Step 1) Select Data'!E1470)","v":""},"","","","","","",{"$f":"IF(J1451=\"\",\"\",'Step 3) Fit Distribution'!$F$3*E1451+'Step 3) Fit Distribution'!$F$4)","v":""},"","","","","","",""]
[null,{"$f":"IF(AND('Step 1) Select Data'!B1471=\"\",'Step 1) Select Data'!D1471<>\"\"),'Step 1) Select Data'!D1471,\"\")","v":""},"",{"$f":"IF(B1452=\"\",\"\",'Step 1) Select Data'!E1471)","v":""},"","","","","","",{"$f":"IF(J1452=\"\",\"\",'Step 3) Fit Distribution'!$F$3*E1452+'Step 3) Fit Distribution'!$F$4)","v":""},"","","","","","",""]
[null,{"$f":"IF(AND('Step 1) Select Data'!B1472=\"\",'Step 1) Select Data'!D1472<>\"\"),'Step 1) Select Data'!D1472,\"\")","v":""},"",{"$f":"IF(B1453=\"\",\"\",'Step 1) Select Data'!E1472)","v":""},"","","","","","",{"$f":"IF(J1453=\"\",\"\",'Step 3) Fit Distribution'!$F$3*E1453+'Step 3) Fit Distribution'!$F$4)","v":""},"","","","","","",""]
[null,{"$f":"IF(AND('Step 1) Select Data'!B1473=\"\",'Step 1) Select Data'!D1473<>\"\"),'Step 1) Select Data'!D1473,\"\")","v":""},"",{"$f":"IF(B1454=\"\",\"\",'Step 1) Select Data'!E1473)","v":""},"","","","","","",{"$f":"IF(J1454=\"\",\"\",'Step 3) Fit Distribution'!$F$3*E1454+'Step 3) Fit Distribution'!$F$4)","v":""},"","","","","","",""]
[null,{"$f":"IF(AND('Step 1) Select Data'!B1474=\"\",'Step 1) Select Data'!D1474<>\"\"),'Step 1) Select Data'!D1474,\"\")","v":""},"",{"$f":"IF(B1455=\"\",\"\",'Step 1) Select Data'!E1474)","v":""},"","","","","","",{"$f":"IF(J1455=\"\",\"\",'Step 3) Fit Distribution'!$F$3*E1455+'Step 3) Fit Distribution'!$F$4)","v":""},"","","","","","",""]
[null,{"$f":"IF(AND('Step 1) Select Data'!B1475=\"\",'Step 1) Select Data'!D1475<>\"\"),'Step 1) Select Data'!D1475,\"\")","v":""},"",{"$f":"IF(B1456=\"\",\"\",'Step 1) Select Data'!E1475)","v":""},"","","","","","",{"$f":"IF(J1456=\"\",\"\",'Step 3) Fit Distribution'!$F$3*E1456+'Step 3) Fit Distribution'!$F$4)","v":""},"","","","","","",""]
[null,{"$f":"IF(AND('Step 1) Select Data'!B1476=\"\",'Step 1) Select Data'!D1476<>\"\"),'Step 1) Select Data'!D1476,\"\")","v":""},"",{"$f":"IF(B1457=\"\",\"\",'Step 1) Select Data'!E1476)","v":""},"","","","","","",{"$f":"IF(J1457=\"\",\"\",'Step 3) Fit Distribution'!$F$3*E1457+'Step 3) Fit Distribution'!$F$4)","v":""},"","","","","","",""]
[null,{"$f":"IF(AND('Step 1) Select Data'!B1477=\"\",'Step 1) Select Data'!D1477<>\"\"),'Step 1) Select Data'!D1477,\"\")","v":""},"",{"$f":"IF(B1458=\"\",\"\",'Step 1) Select Data'!E1477)","v":""},"","","","","","",{"$f":"IF(J1458=\"\",\"\",'Step 3) Fit Distribution'!$F$3*E1458+'Step 3) Fit Distribution'!$F$4)","v":""},"","","","","","",""]
[null,{"$f":"IF(AND('Step 1) Select Data'!B1478=\"\",'Step 1) Select Data'!D1478<>\"\"),'Step 1) Select Data'!D1478,\"\")","v":""},"",{"$f":"IF(B1459=\"\",\"\",'Step 1) Select Data'!E1478)","v":""},"","","","","","",{"$f":"IF(J1459=\"\",\"\",'Step 3) Fit Distribution'!$F$3*E1459+'Step 3) Fit Distribution'!$F$4)","v":""},"","","","","","",""]
[null,{"$f":"IF(AND('Step 1) Select Data'!B1479=\"\",'Step 1) Select Data'!D1479<>\"\"),'Step 1) Select Data'!D1479,\"\")","v":""},"",{"$f":"IF(B1460=\"\",\"\",'Step 1) Select Data'!E1479)","v":""},"","","","","","",{"$f":"IF(J1460=\"\",\"\",'Step 3) Fit Distribution'!$F$3*E1460+'Step 3) Fit Distribution'!$F$4)","v":""},"","","","","","",""]
[null,{"$f":"IF(AND('Step 1) Select Data'!B1480=\"\",'Step 1) Select Data'!D1480<>\"\"),'Step 1) Select Data'!D1480,\"\")","v":""},"",{"$f":"IF(B1461=\"\",\"\",'Step 1) Select Data'!E1480)","v":""},"","","","","","",{"$f":"IF(J1461=\"\",\"\",'Step 3) Fit Distribution'!$F$3*E1461+'Step 3) Fit Distribution'!$F$4)","v":""},"","","","","","",""]
[null,{"$f":"IF(AND('Step 1) Select Data'!B1481=\"\",'Step 1) Select Data'!D1481<>\"\"),'Step 1) Select Data'!D1481,\"\")","v":""},"",{"$f":"IF(B1462=\"\",\"\",'Step 1) Select Data'!E1481)","v":""},"","","","","","",{"$f":"IF(J1462=\"\",\"\",'Step 3) Fit Distribution'!$F$3*E1462+'Step 3) Fit Distribution'!$F$4)","v":""},"","","","","","",""]
[null,{"$f":"IF(AND('Step 1) Select Data'!B1482=\"\",'Step 1) Select Data'!D1482<>\"\"),'Step 1) Select Data'!D1482,\"\")","v":""},"",{"$f":"IF(B1463=\"\",\"\",'Step 1) Select Data'!E1482)","v":""},"","","","","","",{"$f":"IF(J1463=\"\",\"\",'Step 3) Fit Distribution'!$F$3*E1463+'Step 3) Fit Distribution'!$F$4)","v":""},"","","","","","",""]
[null,{"$f":"IF(AND('Step 1) Select Data'!B1483=\"\",'Step 1) Select Data'!D1483<>\"\"),'Step 1) Select Data'!D1483,\"\")","v":""},"",{"$f":"IF(B1464=\"\",\"\",'Step 1) Select Data'!E1483)","v":""},"","","","","","",{"$f":"IF(J1464=\"\",\"\",'Step 3) Fit Distribution'!$F$3*E1464+'Step 3) Fit Distribution'!$F$4)","v":""},"","","","","","",""]
[null,{"$f":"IF(AND('Step 1) Select Data'!B1484=\"\",'Step 1) Select Data'!D1484<>\"\"),'Step 1) Select Data'!D1484,\"\")","v":""},"",{"$f":"IF(B1465=\"\",\"\",'Step 1) Select Data'!E1484)","v":""},"","","","","","",{"$f":"IF(J1465=\"\",\"\",'Step 3) Fit Distribution'!$F$3*E1465+'Step 3) Fit Distribution'!$F$4)","v":""},"","","","","","",""]
[null,{"$f":"IF(AND('Step 1) Select Data'!B1485=\"\",'Step 1) Select Data'!D1485<>\"\"),'Step 1) Select Data'!D1485,\"\")","v":""},"",{"$f":"IF(B1466=\"\",\"\",'Step 1) Select Data'!E1485)","v":""},"","","","","","",{"$f":"IF(J1466=\"\",\"\",'Step 3) Fit Distribution'!$F$3*E1466+'Step 3) Fit Distribution'!$F$4)","v":""},"","","","","","",""]
[null,{"$f":"IF(AND('Step 1) Select Data'!B1486=\"\",'Step 1) Select Data'!D1486<>\"\"),'Step 1) Select Data'!D1486,\"\")","v":""},"",{"$f":"IF(B1467=\"\",\"\",'Step 1) Select Data'!E1486)","v":""},"","","","","","",{"$f":"IF(J1467=\"\",\"\",'Step 3) Fit Distribution'!$F$3*E1467+'Step 3) Fit Distribution'!$F$4)","v":""},"","","","","","",""]
[null,{"$f":"IF(AND('Step 1) Select Data'!B1487=\"\",'Step 1) Select Data'!D1487<>\"\"),'Step 1) Select Data'!D1487,\"\")","v":""},"",{"$f":"IF(B1468=\"\",\"\",'Step 1) Select Data'!E1487)","v":""},"","","","","","",{"$f":"IF(J1468=\"\",\"\",'Step 3) Fit Distribution'!$F$3*E1468+'Step 3) Fit Distribution'!$F$4)","v":""},"","","","","","",""]
[null,{"$f":"IF(AND('Step 1) Select Data'!B1488=\"\",'Step 1) Select Data'!D1488<>\"\"),'Step 1) Select Data'!D1488,\"\")","v":""},"",{"$f":"IF(B1469=\"\",\"\",'Step 1) Select Data'!E1488)","v":""},"","","","","","",{"$f":"IF(J1469=\"\",\"\",'Step 3) Fit Distribution'!$F$3*E1469+'Step 3) Fit Distribution'!$F$4)","v":""},"","","","","","",""]
[null,{"$f":"IF(AND('Step 1) Select Data'!B1489=\"\",'Step 1) Select Data'!D1489<>\"\"),'Step 1) Select Data'!D1489,\"\")","v":""},"",{"$f":"IF(B1470=\"\",\"\",'Step 1) Select Data'!E1489)","v":""},"","","","","","",{"$f":"IF(J1470=\"\",\"\",'Step 3) Fit Distribution'!$F$3*E1470+'Step 3) Fit Distribution'!$F$4)","v":""},"","","","","","",""]
[null,{"$f":"IF(AND('Step 1) Select Data'!B1490=\"\",'Step 1) Select Data'!D1490<>\"\"),'Step 1) Select Data'!D1490,\"\")","v":""},"",{"$f":"IF(B1471=\"\",\"\",'Step 1) Select Data'!E1490)","v":""},"","","","","","",{"$f":"IF(J1471=\"\",\"\",'Step 3) Fit Distribution'!$F$3*E1471+'Step 3) Fit Distribution'!$F$4)","v":""},"","","","","","",""]
[null,{"$f":"IF(AND('Step 1) Select Data'!B1491=\"\",'Step 1) Select Data'!D1491<>\"\"),'Step 1) Select Data'!D1491,\"\")","v":""},"",{"$f":"IF(B1472=\"\",\"\",'Step 1) Select Data'!E1491)","v":""},"","","","","","",{"$f":"IF(J1472=\"\",\"\",'Step 3) Fit Distribution'!$F$3*E1472+'Step 3) Fit Distribution'!$F$4)","v":""},"","","","","","",""]
[null,{"$f":"IF(AND('Step 1) Select Data'!B1492=\"\",'Step 1) Select Data'!D1492<>\"\"),'Step 1) Select Data'!D1492,\"\")","v":""},"",{"$f":"IF(B1473=\"\",\"\",'Step 1) Select Data'!E1492)","v":""},"","","","","","",{"$f":"IF(J1473=\"\",\"\",'Step 3) Fit Distribution'!$F$3*E1473+'Step 3) Fit Distribution'!$F$4)","v":""},"","","","","","",""]
[null,{"$f":"IF(AND('Step 1) Select Data'!B1493=\"\",'Step 1) Select Data'!D1493<>\"\"),'Step 1) Select Data'!D1493,\"\")","v":""},"",{"$f":"IF(B1474=\"\",\"\",'Step 1) Select Data'!E1493)","v":""},"","","","","","",{"$f":"IF(J1474=\"\",\"\",'Step 3) Fit Distribution'!$F$3*E1474+'Step 3) Fit Distribution'!$F$4)","v":""},"","","","","","",""]
[null,{"$f":"IF(AND('Step 1) Select Data'!B1494=\"\",'Step 1) Select Data'!D1494<>\"\"),'Step 1) Select Data'!D1494,\"\")","v":""},"",{"$f":"IF(B1475=\"\",\"\",'Step 1) Select Data'!E1494)","v":""},"","","","","","",{"$f":"IF(J1475=\"\",\"\",'Step 3) Fit Distribution'!$F$3*E1475+'Step 3) Fit Distribution'!$F$4)","v":""},"","","","","","",""]
[null,{"$f":"IF(AND('Step 1) Select Data'!B1495=\"\",'Step 1) Select Data'!D1495<>\"\"),'Step 1) Select Data'!D1495,\"\")","v":""},"",{"$f":"IF(B1476=\"\",\"\",'Step 1) Select Data'!E1495)","v":""},"","","","","","",{"$f":"IF(J1476=\"\",\"\",'Step 3) Fit Distribution'!$F$3*E1476+'Step 3) Fit Distribution'!$F$4)","v":""},"","","","","","",""]
[null,{"$f":"IF(AND('Step 1) Select Data'!B1496=\"\",'Step 1) Select Data'!D1496<>\"\"),'Step 1) Select Data'!D1496,\"\")","v":""},"",{"$f":"IF(B1477=\"\",\"\",'Step 1) Select Data'!E1496)","v":""},"","","","","","",{"$f":"IF(J1477=\"\",\"\",'Step 3) Fit Distribution'!$F$3*E1477+'Step 3) Fit Distribution'!$F$4)","v":""},"","","","","","",""]
[null,{"$f":"IF(AND('Step 1) Select Data'!B1497=\"\",'Step 1) Select Data'!D1497<>\"\"),'Step 1) Select Data'!D1497,\"\")","v":""},"",{"$f":"IF(B1478=\"\",\"\",'Step 1) Select Data'!E1497)","v":""},"","","","","","",{"$f":"IF(J1478=\"\",\"\",'Step 3) Fit Distribution'!$F$3*E1478+'Step 3) Fit Distribution'!$F$4)","v":""},"","","","","","",""]
[null,{"$f":"IF(AND('Step 1) Select Data'!B1498=\"\",'Step 1) Select Data'!D1498<>\"\"),'Step 1) Select Data'!D1498,\"\")","v":""},{"$f":"IF(B1479=\"\",\"\",IF(OR(M1479>=M1480,M1480=\"\"),M1479,\"\"))","v":""},{"$f":"IF(B1479=\"\",\"\",'Step 1) Select Data'!E1498)","v":""},{"$f":"IF(C1479=\"\",\"\",LOG10(N1479)*(1/C1479))","v":""},{"$f":"IF(OR(M1479=\"\",C1479=1),\"\",IF(C1479=\"\",\"\",SQRT(R1479/(C1479-1))))","v":""},{"$f":"IF(E1479=\"\",\"\",10^E1479)","v":""},{"$f":"IF(I1479=\"\",\"\",(I1479-0.5)/COUNT($E$6:$E$2004))","v":""},{"$f":"IF(E1479=\"\",\"\",RANK(E1479,$E$6:$E$2004,1))","v":""},{"$f":"IF(H1479=\"\",\"\",NORMINV(H1479,5,1))","v":""},{"$f":"IF(J1479=\"\",\"\",'Step 3) Fit Distribution'!$F$3*E1479+'Step 3) Fit Distribution'!$F$4)","v":""},{"$f":"IF(K1479=\"\",\"\",(K1479-J1479)^2)","v":""},{"$f":"IF(B1479=\"\",\"\",IF(B1479<>B1478,1,M1478+1))","v":""},{"$f":"IF(B1479=\"\",\"\",IF(B1479<>B1478,ROUND(D1479,4),ROUND(D1479,4)*N1478))","v":""},{"$f":"IF(OR(M1479=\"\",C1479=1),\"\",IF(AND(M1479<>\"\",C1479=\"\",E1479=\"\"),O1480,E1479))","v":""},{"$f":"IF(OR(M1479=\"\",C1479=1),\"\",IF(AND(M1479<>\"\",C1479=\"\",E1479=\"\"),P1480,C1479))","v":""},"",{"$f":"IF(Q1479=\"\",\"\",IF(O1479=O1478,Q1479+R1478,Q1479))","v":""}]
[null,{"$f":"IF(AND('Step 1) Select Data'!B1499=\"\",'Step 1) Select Data'!D1499<>\"\"),'Step 1) Select Data'!D1499,\"\")","v":""},"",{"$f":"IF(B1480=\"\",\"\",'Step 1) Select Data'!E1499)","v":""},"","","","","","",{"$f":"IF(J1480=\"\",\"\",'Step 3) Fit Distribution'!$F$3*E1480+'Step 3) Fit Distribution'!$F$4)","v":""},"","","","","","",""]
[null,{"$f":"IF(AND('Step 1) Select Data'!B1500=\"\",'Step 1) Select Data'!D1500<>\"\"),'Step 1) Select Data'!D1500,\"\")","v":""},"",{"$f":"IF(B1481=\"\",\"\",'Step 1) Select Data'!E1500)","v":""},"","","","","","",{"$f":"IF(J1481=\"\",\"\",'Step 3) Fit Distribution'!$F$3*E1481+'Step 3) Fit Distribution'!$F$4)","v":""},"","","","","","",""]
[null,{"$f":"IF(AND('Step 1) Select Data'!B1501=\"\",'Step 1) Select Data'!D1501<>\"\"),'Step 1) Select Data'!D1501,\"\")","v":""},"",{"$f":"IF(B1482=\"\",\"\",'Step 1) Select Data'!E1501)","v":""},"","","","","","",{"$f":"IF(J1482=\"\",\"\",'Step 3) Fit Distribution'!$F$3*E1482+'Step 3) Fit Distribution'!$F$4)","v":""},"","","","","","",""]
[null,{"$f":"IF(AND('Step 1) Select Data'!B1502=\"\",'Step 1) Select Data'!D1502<>\"\"),'Step 1) Select Data'!D1502,\"\")","v":""},"",{"$f":"IF(B1483=\"\",\"\",'Step 1) Select Data'!E1502)","v":""},"","","","","","",{"$f":"IF(J1483=\"\",\"\",'Step 3) Fit Distribution'!$F$3*E1483+'Step 3) Fit Distribution'!$F$4)","v":""},"","","","","","",""]
[null,{"$f":"IF(AND('Step 1) Select Data'!B1503=\"\",'Step 1) Select Data'!D1503<>\"\"),'Step 1) Select Data'!D1503,\"\")","v":""},"",{"$f":"IF(B1484=\"\",\"\",'Step 1) Select Data'!E1503)","v":""},"","","","","","",{"$f":"IF(J1484=\"\",\"\",'Step 3) Fit Distribution'!$F$3*E1484+'Step 3) Fit Distribution'!$F$4)","v":""},"","","","","","",""]
[null,{"$f":"IF(AND('Step 1) Select Data'!B1504=\"\",'Step 1) Select Data'!D1504<>\"\"),'Step 1) Select Data'!D1504,\"\")","v":""},"",{"$f":"IF(B1485=\"\",\"\",'Step 1) Select Data'!E1504)","v":""},"","","","","","",{"$f":"IF(J1485=\"\",\"\",'Step 3) Fit Distribution'!$F$3*E1485+'Step 3) Fit Distribution'!$F$4)","v":""},"","","","","","",""]
[null,{"$f":"IF(AND('Step 1) Select Data'!B1505=\"\",'Step 1) Select Data'!D1505<>\"\"),'Step 1) Select Data'!D1505,\"\")","v":""},"",{"$f":"IF(B1486=\"\",\"\",'Step 1) Select Data'!E1505)","v":""},"","","","","","",{"$f":"IF(J1486=\"\",\"\",'Step 3) Fit Distribution'!$F$3*E1486+'Step 3) Fit Distribution'!$F$4)","v":""},"","","","","","",""]
[null,{"$f":"IF(AND('Step 1) Select Data'!B1506=\"\",'Step 1) Select Data'!D1506<>\"\"),'Step 1) Select Data'!D1506,\"\")","v":""},"",{"$f":"IF(B1487=\"\",\"\",'Step 1) Select Data'!E1506)","v":""},"","","","","","",{"$f":"IF(J1487=\"\",\"\",'Step 3) Fit Distribution'!$F$3*E1487+'Step 3) Fit Distribution'!$F$4)","v":""},"","","","","","",""]
[null,{"$f":"IF(AND('Step 1) Select Data'!B1507=\"\",'Step 1) Select Data'!D1507<>\"\"),'Step 1) Select Data'!D1507,\"\")","v":""},"",{"$f":"IF(B1488=\"\",\"\",'Step 1) Select Data'!E1507)","v":""},"","","","","","",{"$f":"IF(J1488=\"\",\"\",'Step 3) Fit Distribution'!$F$3*E1488+'Step 3) Fit Distribution'!$F$4)","v":""},"","","","","","",""]
[null,{"$f":"IF(AND('Step 1) Select Data'!B1508=\"\",'Step 1) Select Data'!D1508<>\"\"),'Step 1) Select Data'!D1508,\"\")","v":""},"",{"$f":"IF(B1489=\"\",\"\",'Step 1) Select Data'!E1508)","v":""},"","","","","","",{"$f":"IF(J1489=\"\",\"\",'Step 3) Fit Distribution'!$F$3*E1489+'Step 3) Fit Distribution'!$F$4)","v":""},"","","","","","",""]
[null,{"$f":"IF(AND('Step 1) Select Data'!B1509=\"\",'Step 1) Select Data'!D1509<>\"\"),'Step 1) Select Data'!D1509,\"\")","v":""},"",{"$f":"IF(B1490=\"\",\"\",'Step 1) Select Data'!E1509)","v":""},"","","","","","",{"$f":"IF(J1490=\"\",\"\",'Step 3) Fit Distribution'!$F$3*E1490+'Step 3) Fit Distribution'!$F$4)","v":""},"","","","","","",""]
[null,{"$f":"IF(AND('Step 1) Select Data'!B1510=\"\",'Step 1) Select Data'!D1510<>\"\"),'Step 1) Select Data'!D1510,\"\")","v":""},"",{"$f":"IF(B1491=\"\",\"\",'Step 1) Select Data'!E1510)","v":""},"","","","","","",{"$f":"IF(J1491=\"\",\"\",'Step 3) Fit Distribution'!$F$3*E1491+'Step 3) Fit Distribution'!$F$4)","v":""},"","","","","","",""]
[null,{"$f":"IF(AND('Step 1) Select Data'!B1511=\"\",'Step 1) Select Data'!D1511<>\"\"),'Step 1) Select Data'!D1511,\"\")","v":""},"",{"$f":"IF(B1492=\"\",\"\",'Step 1) Select Data'!E1511)","v":""},"","","","","","",{"$f":"IF(J1492=\"\",\"\",'Step 3) Fit Distribution'!$F$3*E1492+'Step 3) Fit Distribution'!$F$4)","v":""},"","","","","",{"$f":"IF(O1492=\"\",\"\",ROUND(LOG(D1492)-O1492,4)^2)","v":""},""]
[null,{"$f":"IF(AND('Step 1) Select Data'!B1512=\"\",'Step 1) Select Data'!D1512<>\"\"),'Step 1) Select Data'!D1512,\"\")","v":""},"",{"$f":"IF(B1493=\"\",\"\",'Step 1) Select Data'!E1512)","v":""},"","","","","","",{"$f":"IF(J1493=\"\",\"\",'Step 3) Fit Distribution'!$F$3*E1493+'Step 3) Fit Distribution'!$F$4)","v":""},"","","","","","",""]
[null,{"$f":"IF(AND('Step 1) Select Data'!B1513=\"\",'Step 1) Select Data'!D1513<>\"\"),'Step 1) Select Data'!D1513,\"\")","v":""},"",{"$f":"IF(B1494=\"\",\"\",'Step 1) Select Data'!E1513)","v":""},"","","","","","",{"$f":"IF(J1494=\"\",\"\",'Step 3) Fit Distribution'!$F$3*E1494+'Step 3) Fit Distribution'!$F$4)","v":""},"","","","","","",""]
[null,{"$f":"IF(AND('Step 1) Select Data'!B1514=\"\",'Step 1) Select Data'!D1514<>\"\"),'Step 1) Select Data'!D1514,\"\")","v":""},"",{"$f":"IF(B1495=\"\",\"\",'Step 1) Select Data'!E1514)","v":""},"","","","","","",{"$f":"IF(J1495=\"\",\"\",'Step 3) Fit Distribution'!$F$3*E1495+'Step 3) Fit Distribution'!$F$4)","v":""},"","","","","","",""]
[null,{"$f":"IF(AND('Step 1) Select Data'!B1515=\"\",'Step 1) Select Data'!D1515<>\"\"),'Step 1) Select Data'!D1515,\"\")","v":""},"",{"$f":"IF(B1496=\"\",\"\",'Step 1) Select Data'!E1515)","v":""},"","","","","","",{"$f":"IF(J1496=\"\",\"\",'Step 3) Fit Distribution'!$F$3*E1496+'Step 3) Fit Distribution'!$F$4)","v":""},"","","","","","",""]
[null,{"$f":"IF(AND('Step 1) Select Data'!B1516=\"\",'Step 1) Select Data'!D1516<>\"\"),'Step 1) Select Data'!D1516,\"\")","v":""},"",{"$f":"IF(B1497=\"\",\"\",'Step 1) Select Data'!E1516)","v":""},"","","","","","",{"$f":"IF(J1497=\"\",\"\",'Step 3) Fit Distribution'!$F$3*E1497+'Step 3) Fit Distribution'!$F$4)","v":""},"","","","","","",""]
[null,{"$f":"IF(AND('Step 1) Select Data'!B1517=\"\",'Step 1) Select Data'!D1517<>\"\"),'Step 1) Select Data'!D1517,\"\")","v":""},"",{"$f":"IF(B1498=\"\",\"\",'Step 1) Select Data'!E1517)","v":""},"","","","","","",{"$f":"IF(J1498=\"\",\"\",'Step 3) Fit Distribution'!$F$3*E1498+'Step 3) Fit Distribution'!$F$4)","v":""},"","","","","","",""]
[null,{"$f":"IF(AND('Step 1) Select Data'!B1518=\"\",'Step 1) Select Data'!D1518<>\"\"),'Step 1) Select Data'!D1518,\"\")","v":""},"",{"$f":"IF(B1499=\"\",\"\",'Step 1) Select Data'!E1518)","v":""},"","","","","","",{"$f":"IF(J1499=\"\",\"\",'Step 3) Fit Distribution'!$F$3*E1499+'Step 3) Fit Distribution'!$F$4)","v":""},"","","","","","",""]
[null,{"$f":"IF(AND('Step 1) Select Data'!B1519=\"\",'Step 1) Select Data'!D1519<>\"\"),'Step 1) Select Data'!D1519,\"\")","v":""},"",{"$f":"IF(B1500=\"\",\"\",'Step 1) Select Data'!E1519)","v":""},"","","","","","",{"$f":"IF(J1500=\"\",\"\",'Step 3) Fit Distribution'!$F$3*E1500+'Step 3) Fit Distribution'!$F$4)","v":""},"","","","","","",""]
[null,{"$f":"IF(AND('Step 1) Select Data'!B1520=\"\",'Step 1) Select Data'!D1520<>\"\"),'Step 1) Select Data'!D1520,\"\")","v":""},"",{"$f":"IF(B1501=\"\",\"\",'Step 1) Select Data'!E1520)","v":""},"","","","","","",{"$f":"IF(J1501=\"\",\"\",'Step 3) Fit Distribution'!$F$3*E1501+'Step 3) Fit Distribution'!$F$4)","v":""},"","","","","","",""]
[null,{"$f":"IF(AND('Step 1) Select Data'!B1521=\"\",'Step 1) Select Data'!D1521<>\"\"),'Step 1) Select Data'!D1521,\"\")","v":""},"",{"$f":"IF(B1502=\"\",\"\",'Step 1) Select Data'!E1521)","v":""},"","","","","","",{"$f":"IF(J1502=\"\",\"\",'Step 3) Fit Distribution'!$F$3*E1502+'Step 3) Fit Distribution'!$F$4)","v":""},"","","","","","",""]
[null,{"$f":"IF(AND('Step 1) Select Data'!B1522=\"\",'Step 1) Select Data'!D1522<>\"\"),'Step 1) Select Data'!D1522,\"\")","v":""},"",{"$f":"IF(B1503=\"\",\"\",'Step 1) Select Data'!E1522)","v":""},"","","","","","",{"$f":"IF(J1503=\"\",\"\",'Step 3) Fit Distribution'!$F$3*E1503+'Step 3) Fit Distribution'!$F$4)","v":""},"","","","","","",""]
[null,{"$f":"IF(AND('Step 1) Select Data'!B1523=\"\",'Step 1) Select Data'!D1523<>\"\"),'Step 1) Select Data'!D1523,\"\")","v":""},"",{"$f":"IF(B1504=\"\",\"\",'Step 1) Select Data'!E1523)","v":""},"","","","","","",{"$f":"IF(J1504=\"\",\"\",'Step 3) Fit Distribution'!$F$3*E1504+'Step 3) Fit Distribution'!$F$4)","v":""},"","","","","","",""]
[null,{"$f":"IF(AND('Step 1) Select Data'!B1524=\"\",'Step 1) Select Data'!D1524<>\"\"),'Step 1) Select Data'!D1524,\"\")","v":""},"",{"$f":"IF(B1505=\"\",\"\",'Step 1) Select Data'!E1524)","v":""},"","","","","","",{"$f":"IF(J1505=\"\",\"\",'Step 3) Fit Distribution'!$F$3*E1505+'Step 3) Fit Distribution'!$F$4)","v":""},"","","","","","",""]
[null,{"$f":"IF(AND('Step 1) Select Data'!B1525=\"\",'Step 1) Select Data'!D1525<>\"\"),'Step 1) Select Data'!D1525,\"\")","v":""},"",{"$f":"IF(B1506=\"\",\"\",'Step 1) Select Data'!E1525)","v":""},"","","","","","",{"$f":"IF(J1506=\"\",\"\",'Step 3) Fit Distribution'!$F$3*E1506+'Step 3) Fit Distribution'!$F$4)","v":""},"","","","","","",""]
[null,{"$f":"IF(AND('Step 1) Select Data'!B1526=\"\",'Step 1) Select Data'!D1526<>\"\"),'Step 1) Select Data'!D1526,\"\")","v":""},"",{"$f":"IF(B1507=\"\",\"\",'Step 1) Select Data'!E1526)","v":""},"","","","","","",{"$f":"IF(J1507=\"\",\"\",'Step 3) Fit Distribution'!$F$3*E1507+'Step 3) Fit Distribution'!$F$4)","v":""},"","","","","","",""]
[null,{"$f":"IF(AND('Step 1) Select Data'!B1527=\"\",'Step 1) Select Data'!D1527<>\"\"),'Step 1) Select Data'!D1527,\"\")","v":""},"",{"$f":"IF(B1508=\"\",\"\",'Step 1) Select Data'!E1527)","v":""},"","","","","","",{"$f":"IF(J1508=\"\",\"\",'Step 3) Fit Distribution'!$F$3*E1508+'Step 3) Fit Distribution'!$F$4)","v":""},"","","","","","",""]
[null,{"$f":"IF(AND('Step 1) Select Data'!B1528=\"\",'Step 1) Select Data'!D1528<>\"\"),'Step 1) Select Data'!D1528,\"\")","v":""},"",{"$f":"IF(B1509=\"\",\"\",'Step 1) Select Data'!E1528)","v":""},"","","","","","",{"$f":"IF(J1509=\"\",\"\",'Step 3) Fit Distribution'!$F$3*E1509+'Step 3) Fit Distribution'!$F$4)","v":""},"","","","","","",""]
[null,{"$f":"IF(AND('Step 1) Select Data'!B1529=\"\",'Step 1) Select Data'!D1529<>\"\"),'Step 1) Select Data'!D1529,\"\")","v":""},"",{"$f":"IF(B1510=\"\",\"\",'Step 1) Select Data'!E1529)","v":""},"","","","","","",{"$f":"IF(J1510=\"\",\"\",'Step 3) Fit Distribution'!$F$3*E1510+'Step 3) Fit Distribution'!$F$4)","v":""},"","","","","","",""]
[null,{"$f":"IF(AND('Step 1) Select Data'!B1530=\"\",'Step 1) Select Data'!D1530<>\"\"),'Step 1) Select Data'!D1530,\"\")","v":""},"",{"$f":"IF(B1511=\"\",\"\",'Step 1) Select Data'!E1530)","v":""},"","","","","","",{"$f":"IF(J1511=\"\",\"\",'Step 3) Fit Distribution'!$F$3*E1511+'Step 3) Fit Distribution'!$F$4)","v":""},"","","","","","",""]
[null,{"$f":"IF(AND('Step 1) Select Data'!B1531=\"\",'Step 1) Select Data'!D1531<>\"\"),'Step 1) Select Data'!D1531,\"\")","v":""},"",{"$f":"IF(B1512=\"\",\"\",'Step 1) Select Data'!E1531)","v":""},"","","","","","",{"$f":"IF(J1512=\"\",\"\",'Step 3) Fit Distribution'!$F$3*E1512+'Step 3) Fit Distribution'!$F$4)","v":""},"","","","","","",""]
[null,{"$f":"IF(AND('Step 1) Select Data'!B1532=\"\",'Step 1) Select Data'!D1532<>\"\"),'Step 1) Select Data'!D1532,\"\")","v":""},"",{"$f":"IF(B1513=\"\",\"\",'Step 1) Select Data'!E1532)","v":""},"","","","","","",{"$f":"IF(J1513=\"\",\"\",'Step 3) Fit Distribution'!$F$3*E1513+'Step 3) Fit Distribution'!$F$4)","v":""},"","","","","","",""]
[null,{"$f":"IF(AND('Step 1) Select Data'!B1533=\"\",'Step 1) Select Data'!D1533<>\"\"),'Step 1) Select Data'!D1533,\"\")","v":""},"",{"$f":"IF(B1514=\"\",\"\",'Step 1) Select Data'!E1533)","v":""},"","","","","","",{"$f":"IF(J1514=\"\",\"\",'Step 3) Fit Distribution'!$F$3*E1514+'Step 3) Fit Distribution'!$F$4)","v":""},"","","","","","",""]
[null,{"$f":"IF(AND('Step 1) Select Data'!B1534=\"\",'Step 1) Select Data'!D1534<>\"\"),'Step 1) Select Data'!D1534,\"\")","v":""},"",{"$f":"IF(B1515=\"\",\"\",'Step 1) Select Data'!E1534)","v":""},"","","","","","",{"$f":"IF(J1515=\"\",\"\",'Step 3) Fit Distribution'!$F$3*E1515+'Step 3) Fit Distribution'!$F$4)","v":""},"","","","","","",""]
[null,{"$f":"IF(AND('Step 1) Select Data'!B1535=\"\",'Step 1) Select Data'!D1535<>\"\"),'Step 1) Select Data'!D1535,\"\")","v":""},"",{"$f":"IF(B1516=\"\",\"\",'Step 1) Select Data'!E1535)","v":""},"","","","","","",{"$f":"IF(J1516=\"\",\"\",'Step 3) Fit Distribution'!$F$3*E1516+'Step 3) Fit Distribution'!$F$4)","v":""},"","","","","","",""]
[null,{"$f":"IF(AND('Step 1) Select Data'!B1536=\"\",'Step 1) Select Data'!D1536<>\"\"),'Step 1) Select Data'!D1536,\"\")","v":""},"",{"$f":"IF(B1517=\"\",\"\",'Step 1) Select Data'!E1536)","v":""},"","","","","","",{"$f":"IF(J1517=\"\",\"\",'Step 3) Fit Distribution'!$F$3*E1517+'Step 3) Fit Distribution'!$F$4)","v":""},"","","","","","",""]
[null,{"$f":"IF(AND('Step 1) Select Data'!B1537=\"\",'Step 1) Select Data'!D1537<>\"\"),'Step 1) Select Data'!D1537,\"\")","v":""},"",{"$f":"IF(B1518=\"\",\"\",'Step 1) Select Data'!E1537)","v":""},"","","","","","",{"$f":"IF(J1518=\"\",\"\",'Step 3) Fit Distribution'!$F$3*E1518+'Step 3) Fit Distribution'!$F$4)","v":""},"","","","","","",""]
[null,{"$f":"IF(AND('Step 1) Select Data'!B1538=\"\",'Step 1) Select Data'!D1538<>\"\"),'Step 1) Select Data'!D1538,\"\")","v":""},"",{"$f":"IF(B1519=\"\",\"\",'Step 1) Select Data'!E1538)","v":""},"","","","","","",{"$f":"IF(J1519=\"\",\"\",'Step 3) Fit Distribution'!$F$3*E1519+'Step 3) Fit Distribution'!$F$4)","v":""},"","","","","","",""]
[null,{"$f":"IF(AND('Step 1) Select Data'!B1539=\"\",'Step 1) Select Data'!D1539<>\"\"),'Step 1) Select Data'!D1539,\"\")","v":""},"",{"$f":"IF(B1520=\"\",\"\",'Step 1) Select Data'!E1539)","v":""},"","","","","","",{"$f":"IF(J1520=\"\",\"\",'Step 3) Fit Distribution'!$F$3*E1520+'Step 3) Fit Distribution'!$F$4)","v":""},"","","","","","",""]
[null,{"$f":"IF(AND('Step 1) Select Data'!B1540=\"\",'Step 1) Select Data'!D1540<>\"\"),'Step 1) Select Data'!D1540,\"\")","v":""},"",{"$f":"IF(B1521=\"\",\"\",'Step 1) Select Data'!E1540)","v":""},"","","","","","",{"$f":"IF(J1521=\"\",\"\",'Step 3) Fit Distribution'!$F$3*E1521+'Step 3) Fit Distribution'!$F$4)","v":""},"","","","","","",""]
[null,{"$f":"IF(AND('Step 1) Select Data'!B1541=\"\",'Step 1) Select Data'!D1541<>\"\"),'Step 1) Select Data'!D1541,\"\")","v":""},"",{"$f":"IF(B1522=\"\",\"\",'Step 1) Select Data'!E1541)","v":""},"","","","","","",{"$f":"IF(J1522=\"\",\"\",'Step 3) Fit Distribution'!$F$3*E1522+'Step 3) Fit Distribution'!$F$4)","v":""},"","","","","","",""]
[null,{"$f":"IF(AND('Step 1) Select Data'!B1542=\"\",'Step 1) Select Data'!D1542<>\"\"),'Step 1) Select Data'!D1542,\"\")","v":""},"",{"$f":"IF(B1523=\"\",\"\",'Step 1) Select Data'!E1542)","v":""},"","","","","","",{"$f":"IF(J1523=\"\",\"\",'Step 3) Fit Distribution'!$F$3*E1523+'Step 3) Fit Distribution'!$F$4)","v":""},"","","","","","",""]
[null,{"$f":"IF(AND('Step 1) Select Data'!B1543=\"\",'Step 1) Select Data'!D1543<>\"\"),'Step 1) Select Data'!D1543,\"\")","v":""},"",{"$f":"IF(B1524=\"\",\"\",'Step 1) Select Data'!E1543)","v":""},"","","","","","",{"$f":"IF(J1524=\"\",\"\",'Step 3) Fit Distribution'!$F$3*E1524+'Step 3) Fit Distribution'!$F$4)","v":""},"","","","","","",""]
[null,{"$f":"IF(AND('Step 1) Select Data'!B1544=\"\",'Step 1) Select Data'!D1544<>\"\"),'Step 1) Select Data'!D1544,\"\")","v":""},"",{"$f":"IF(B1525=\"\",\"\",'Step 1) Select Data'!E1544)","v":""},"","","","","","",{"$f":"IF(J1525=\"\",\"\",'Step 3) Fit Distribution'!$F$3*E1525+'Step 3) Fit Distribution'!$F$4)","v":""},"","","","","","",""]
[null,{"$f":"IF(AND('Step 1) Select Data'!B1545=\"\",'Step 1) Select Data'!D1545<>\"\"),'Step 1) Select Data'!D1545,\"\")","v":""},"",{"$f":"IF(B1526=\"\",\"\",'Step 1) Select Data'!E1545)","v":""},"","","","","","",{"$f":"IF(J1526=\"\",\"\",'Step 3) Fit Distribution'!$F$3*E1526+'Step 3) Fit Distribution'!$F$4)","v":""},"","","","","","",""]
[null,{"$f":"IF(AND('Step 1) Select Data'!B1546=\"\",'Step 1) Select Data'!D1546<>\"\"),'Step 1) Select Data'!D1546,\"\")","v":""},"",{"$f":"IF(B1527=\"\",\"\",'Step 1) Select Data'!E1546)","v":""},"","","","","","",{"$f":"IF(J1527=\"\",\"\",'Step 3) Fit Distribution'!$F$3*E1527+'Step 3) Fit Distribution'!$F$4)","v":""},"","","","","","",""]
[null,{"$f":"IF(AND('Step 1) Select Data'!B1547=\"\",'Step 1) Select Data'!D1547<>\"\"),'Step 1) Select Data'!D1547,\"\")","v":""},"",{"$f":"IF(B1528=\"\",\"\",'Step 1) Select Data'!E1547)","v":""},"","","","","","",{"$f":"IF(J1528=\"\",\"\",'Step 3) Fit Distribution'!$F$3*E1528+'Step 3) Fit Distribution'!$F$4)","v":""},"","","","","","",""]
[null,{"$f":"IF(AND('Step 1) Select Data'!B1548=\"\",'Step 1) Select Data'!D1548<>\"\"),'Step 1) Select Data'!D1548,\"\")","v":""},"",{"$f":"IF(B1529=\"\",\"\",'Step 1) Select Data'!E1548)","v":""},"","","","","","",{"$f":"IF(J1529=\"\",\"\",'Step 3) Fit Distribution'!$F$3*E1529+'Step 3) Fit Distribution'!$F$4)","v":""},"","","","","","",""]
[null,{"$f":"IF(AND('Step 1) Select Data'!B1549=\"\",'Step 1) Select Data'!D1549<>\"\"),'Step 1) Select Data'!D1549,\"\")","v":""},"",{"$f":"IF(B1530=\"\",\"\",'Step 1) Select Data'!E1549)","v":""},"","","","","","",{"$f":"IF(J1530=\"\",\"\",'Step 3) Fit Distribution'!$F$3*E1530+'Step 3) Fit Distribution'!$F$4)","v":""},"","","","","","",""]
[null,{"$f":"IF(AND('Step 1) Select Data'!B1550=\"\",'Step 1) Select Data'!D1550<>\"\"),'Step 1) Select Data'!D1550,\"\")","v":""},"",{"$f":"IF(B1531=\"\",\"\",'Step 1) Select Data'!E1550)","v":""},"","","","","","",{"$f":"IF(J1531=\"\",\"\",'Step 3) Fit Distribution'!$F$3*E1531+'Step 3) Fit Distribution'!$F$4)","v":""},"","","","","","",""]
[null,{"$f":"IF(AND('Step 1) Select Data'!B1551=\"\",'Step 1) Select Data'!D1551<>\"\"),'Step 1) Select Data'!D1551,\"\")","v":""},"",{"$f":"IF(B1532=\"\",\"\",'Step 1) Select Data'!E1551)","v":""},"","","","","","",{"$f":"IF(J1532=\"\",\"\",'Step 3) Fit Distribution'!$F$3*E1532+'Step 3) Fit Distribution'!$F$4)","v":""},"","","","","","",""]
[null,{"$f":"IF(AND('Step 1) Select Data'!B1552=\"\",'Step 1) Select Data'!D1552<>\"\"),'Step 1) Select Data'!D1552,\"\")","v":""},"",{"$f":"IF(B1533=\"\",\"\",'Step 1) Select Data'!E1552)","v":""},"","","","","","",{"$f":"IF(J1533=\"\",\"\",'Step 3) Fit Distribution'!$F$3*E1533+'Step 3) Fit Distribution'!$F$4)","v":""},"","","","","","",""]
[null,{"$f":"IF(AND('Step 1) Select Data'!B1553=\"\",'Step 1) Select Data'!D1553<>\"\"),'Step 1) Select Data'!D1553,\"\")","v":""},"",{"$f":"IF(B1534=\"\",\"\",'Step 1) Select Data'!E1553)","v":""},"","","","","","",{"$f":"IF(J1534=\"\",\"\",'Step 3) Fit Distribution'!$F$3*E1534+'Step 3) Fit Distribution'!$F$4)","v":""},"","","","","","",""]
[null,{"$f":"IF(AND('Step 1) Select Data'!B1554=\"\",'Step 1) Select Data'!D1554<>\"\"),'Step 1) Select Data'!D1554,\"\")","v":""},"",{"$f":"IF(B1535=\"\",\"\",'Step 1) Select Data'!E1554)","v":""},"","","","","","",{"$f":"IF(J1535=\"\",\"\",'Step 3) Fit Distribution'!$F$3*E1535+'Step 3) Fit Distribution'!$F$4)","v":""},"","","","","","",""]
[null,{"$f":"IF(AND('Step 1) Select Data'!B1555=\"\",'Step 1) Select Data'!D1555<>\"\"),'Step 1) Select Data'!D1555,\"\")","v":""},"",{"$f":"IF(B1536=\"\",\"\",'Step 1) Select Data'!E1555)","v":""},"","","","","","",{"$f":"IF(J1536=\"\",\"\",'Step 3) Fit Distribution'!$F$3*E1536+'Step 3) Fit Distribution'!$F$4)","v":""},"","","","","","",""]
[null,{"$f":"IF(AND('Step 1) Select Data'!B1556=\"\",'Step 1) Select Data'!D1556<>\"\"),'Step 1) Select Data'!D1556,\"\")","v":""},"",{"$f":"IF(B1537=\"\",\"\",'Step 1) Select Data'!E1556)","v":""},"","","","","","",{"$f":"IF(J1537=\"\",\"\",'Step 3) Fit Distribution'!$F$3*E1537+'Step 3) Fit Distribution'!$F$4)","v":""},"","","","","","",""]
[null,{"$f":"IF(AND('Step 1) Select Data'!B1557=\"\",'Step 1) Select Data'!D1557<>\"\"),'Step 1) Select Data'!D1557,\"\")","v":""},"",{"$f":"IF(B1538=\"\",\"\",'Step 1) Select Data'!E1557)","v":""},"","","","","","",{"$f":"IF(J1538=\"\",\"\",'Step 3) Fit Distribution'!$F$3*E1538+'Step 3) Fit Distribution'!$F$4)","v":""},"","","","","","",""]
[null,{"$f":"IF(AND('Step 1) Select Data'!B1558=\"\",'Step 1) Select Data'!D1558<>\"\"),'Step 1) Select Data'!D1558,\"\")","v":""},"",{"$f":"IF(B1539=\"\",\"\",'Step 1) Select Data'!E1558)","v":""},"","","","","","",{"$f":"IF(J1539=\"\",\"\",'Step 3) Fit Distribution'!$F$3*E1539+'Step 3) Fit Distribution'!$F$4)","v":""},"","","","","","",""]
[null,{"$f":"IF(AND('Step 1) Select Data'!B1559=\"\",'Step 1) Select Data'!D1559<>\"\"),'Step 1) Select Data'!D1559,\"\")","v":""},"",{"$f":"IF(B1540=\"\",\"\",'Step 1) Select Data'!E1559)","v":""},"","","","","","",{"$f":"IF(J1540=\"\",\"\",'Step 3) Fit Distribution'!$F$3*E1540+'Step 3) Fit Distribution'!$F$4)","v":""},"","","","","","",""]
[null,{"$f":"IF(AND('Step 1) Select Data'!B1560=\"\",'Step 1) Select Data'!D1560<>\"\"),'Step 1) Select Data'!D1560,\"\")","v":""},"",{"$f":"IF(B1541=\"\",\"\",'Step 1) Select Data'!E1560)","v":""},"","","","","","",{"$f":"IF(J1541=\"\",\"\",'Step 3) Fit Distribution'!$F$3*E1541+'Step 3) Fit Distribution'!$F$4)","v":""},"","","","","","",""]
[null,{"$f":"IF(AND('Step 1) Select Data'!B1561=\"\",'Step 1) Select Data'!D1561<>\"\"),'Step 1) Select Data'!D1561,\"\")","v":""},"",{"$f":"IF(B1542=\"\",\"\",'Step 1) Select Data'!E1561)","v":""},"","","","","","",{"$f":"IF(J1542=\"\",\"\",'Step 3) Fit Distribution'!$F$3*E1542+'Step 3) Fit Distribution'!$F$4)","v":""},"","","","","","",""]
[null,{"$f":"IF(AND('Step 1) Select Data'!B1562=\"\",'Step 1) Select Data'!D1562<>\"\"),'Step 1) Select Data'!D1562,\"\")","v":""},{"$f":"IF(B1543=\"\",\"\",IF(OR(M1543>=M1544,M1544=\"\"),M1543,\"\"))","v":""},{"$f":"IF(B1543=\"\",\"\",'Step 1) Select Data'!E1562)","v":""},{"$f":"IF(C1543=\"\",\"\",LOG10(N1543)*(1/C1543))","v":""},{"$f":"IF(OR(M1543=\"\",C1543=1),\"\",IF(C1543=\"\",\"\",SQRT(R1543/(C1543-1))))","v":""},{"$f":"IF(E1543=\"\",\"\",10^E1543)","v":""},{"$f":"IF(I1543=\"\",\"\",(I1543-0.5)/COUNT($E$6:$E$2004))","v":""},{"$f":"IF(E1543=\"\",\"\",RANK(E1543,$E$6:$E$2004,1))","v":""},{"$f":"IF(H1543=\"\",\"\",NORMINV(H1543,5,1))","v":""},{"$f":"IF(J1543=\"\",\"\",'Step 3) Fit Distribution'!$F$3*E1543+'Step 3) Fit Distribution'!$F$4)","v":""},{"$f":"IF(K1543=\"\",\"\",(K1543-J1543)^2)","v":""},{"$f":"IF(B1543=\"\",\"\",IF(B1543<>B1542,1,M1542+1))","v":""},{"$f":"IF(B1543=\"\",\"\",IF(B1543<>B1542,ROUND(D1543,4),ROUND(D1543,4)*N1542))","v":""},{"$f":"IF(OR(M1543=\"\",C1543=1),\"\",IF(AND(M1543<>\"\",C1543=\"\",E1543=\"\"),O1544,E1543))","v":""},{"$f":"IF(OR(M1543=\"\",C1543=1),\"\",IF(AND(M1543<>\"\",C1543=\"\",E1543=\"\"),P1544,C1543))","v":""},"",{"$f":"IF(Q1543=\"\",\"\",IF(O1543=O1542,Q1543+R1542,Q1543))","v":""}]
[null,{"$f":"IF(AND('Step 1) Select Data'!B1563=\"\",'Step 1) Select Data'!D1563<>\"\"),'Step 1) Select Data'!D1563,\"\")","v":""},"",{"$f":"IF(B1544=\"\",\"\",'Step 1) Select Data'!E1563)","v":""},"","","","","","",{"$f":"IF(J1544=\"\",\"\",'Step 3) Fit Distribution'!$F$3*E1544+'Step 3) Fit Distribution'!$F$4)","v":""},"","","","","","",""]
[null,{"$f":"IF(AND('Step 1) Select Data'!B1564=\"\",'Step 1) Select Data'!D1564<>\"\"),'Step 1) Select Data'!D1564,\"\")","v":""},"",{"$f":"IF(B1545=\"\",\"\",'Step 1) Select Data'!E1564)","v":""},"","","","","","",{"$f":"IF(J1545=\"\",\"\",'Step 3) Fit Distribution'!$F$3*E1545+'Step 3) Fit Distribution'!$F$4)","v":""},"","","","","","",""]
[null,{"$f":"IF(AND('Step 1) Select Data'!B1565=\"\",'Step 1) Select Data'!D1565<>\"\"),'Step 1) Select Data'!D1565,\"\")","v":""},"",{"$f":"IF(B1546=\"\",\"\",'Step 1) Select Data'!E1565)","v":""},"","","","","","",{"$f":"IF(J1546=\"\",\"\",'Step 3) Fit Distribution'!$F$3*E1546+'Step 3) Fit Distribution'!$F$4)","v":""},"","","","","","",""]
[null,{"$f":"IF(AND('Step 1) Select Data'!B1566=\"\",'Step 1) Select Data'!D1566<>\"\"),'Step 1) Select Data'!D1566,\"\")","v":""},"",{"$f":"IF(B1547=\"\",\"\",'Step 1) Select Data'!E1566)","v":""},"","","","","","",{"$f":"IF(J1547=\"\",\"\",'Step 3) Fit Distribution'!$F$3*E1547+'Step 3) Fit Distribution'!$F$4)","v":""},"","","","","","",""]
[null,{"$f":"IF(AND('Step 1) Select Data'!B1567=\"\",'Step 1) Select Data'!D1567<>\"\"),'Step 1) Select Data'!D1567,\"\")","v":""},"",{"$f":"IF(B1548=\"\",\"\",'Step 1) Select Data'!E1567)","v":""},"","","","","","",{"$f":"IF(J1548=\"\",\"\",'Step 3) Fit Distribution'!$F$3*E1548+'Step 3) Fit Distribution'!$F$4)","v":""},"","","","","","",""]
[null,{"$f":"IF(AND('Step 1) Select Data'!B1568=\"\",'Step 1) Select Data'!D1568<>\"\"),'Step 1) Select Data'!D1568,\"\")","v":""},"",{"$f":"IF(B1549=\"\",\"\",'Step 1) Select Data'!E1568)","v":""},"","","","","","",{"$f":"IF(J1549=\"\",\"\",'Step 3) Fit Distribution'!$F$3*E1549+'Step 3) Fit Distribution'!$F$4)","v":""},"","","","","","",""]
[null,{"$f":"IF(AND('Step 1) Select Data'!B1569=\"\",'Step 1) Select Data'!D1569<>\"\"),'Step 1) Select Data'!D1569,\"\")","v":""},"",{"$f":"IF(B1550=\"\",\"\",'Step 1) Select Data'!E1569)","v":""},"","","","","","",{"$f":"IF(J1550=\"\",\"\",'Step 3) Fit Distribution'!$F$3*E1550+'Step 3) Fit Distribution'!$F$4)","v":""},"","","","","","",""]
[null,{"$f":"IF(AND('Step 1) Select Data'!B1570=\"\",'Step 1) Select Data'!D1570<>\"\"),'Step 1) Select Data'!D1570,\"\")","v":""},"",{"$f":"IF(B1551=\"\",\"\",'Step 1) Select Data'!E1570)","v":""},"","","","","","",{"$f":"IF(J1551=\"\",\"\",'Step 3) Fit Distribution'!$F$3*E1551+'Step 3) Fit Distribution'!$F$4)","v":""},"","","","","","",""]
[null,{"$f":"IF(AND('Step 1) Select Data'!B1571=\"\",'Step 1) Select Data'!D1571<>\"\"),'Step 1) Select Data'!D1571,\"\")","v":""},"",{"$f":"IF(B1552=\"\",\"\",'Step 1) Select Data'!E1571)","v":""},"","","","","","",{"$f":"IF(J1552=\"\",\"\",'Step 3) Fit Distribution'!$F$3*E1552+'Step 3) Fit Distribution'!$F$4)","v":""},"","","","","","",""]
[null,{"$f":"IF(AND('Step 1) Select Data'!B1572=\"\",'Step 1) Select Data'!D1572<>\"\"),'Step 1) Select Data'!D1572,\"\")","v":""},"",{"$f":"IF(B1553=\"\",\"\",'Step 1) Select Data'!E1572)","v":""},"","","","","","",{"$f":"IF(J1553=\"\",\"\",'Step 3) Fit Distribution'!$F$3*E1553+'Step 3) Fit Distribution'!$F$4)","v":""},"","","","","","",""]
[null,{"$f":"IF(AND('Step 1) Select Data'!B1573=\"\",'Step 1) Select Data'!D1573<>\"\"),'Step 1) Select Data'!D1573,\"\")","v":""},"",{"$f":"IF(B1554=\"\",\"\",'Step 1) Select Data'!E1573)","v":""},"","","","","","",{"$f":"IF(J1554=\"\",\"\",'Step 3) Fit Distribution'!$F$3*E1554+'Step 3) Fit Distribution'!$F$4)","v":""},"","","","","","",""]
[null,{"$f":"IF(AND('Step 1) Select Data'!B1574=\"\",'Step 1) Select Data'!D1574<>\"\"),'Step 1) Select Data'!D1574,\"\")","v":""},"",{"$f":"IF(B1555=\"\",\"\",'Step 1) Select Data'!E1574)","v":""},"","","","","","",{"$f":"IF(J1555=\"\",\"\",'Step 3) Fit Distribution'!$F$3*E1555+'Step 3) Fit Distribution'!$F$4)","v":""},"","","","","","",""]
[null,{"$f":"IF(AND('Step 1) Select Data'!B1575=\"\",'Step 1) Select Data'!D1575<>\"\"),'Step 1) Select Data'!D1575,\"\")","v":""},"",{"$f":"IF(B1556=\"\",\"\",'Step 1) Select Data'!E1575)","v":""},"","","","","","",{"$f":"IF(J1556=\"\",\"\",'Step 3) Fit Distribution'!$F$3*E1556+'Step 3) Fit Distribution'!$F$4)","v":""},"","","","","",{"$f":"IF(O1556=\"\",\"\",ROUND(LOG(D1556)-O1556,4)^2)","v":""},""]
[null,{"$f":"IF(AND('Step 1) Select Data'!B1576=\"\",'Step 1) Select Data'!D1576<>\"\"),'Step 1) Select Data'!D1576,\"\")","v":""},"",{"$f":"IF(B1557=\"\",\"\",'Step 1) Select Data'!E1576)","v":""},"","","","","","",{"$f":"IF(J1557=\"\",\"\",'Step 3) Fit Distribution'!$F$3*E1557+'Step 3) Fit Distribution'!$F$4)","v":""},"","","","","","",""]
[null,{"$f":"IF(AND('Step 1) Select Data'!B1577=\"\",'Step 1) Select Data'!D1577<>\"\"),'Step 1) Select Data'!D1577,\"\")","v":""},"",{"$f":"IF(B1558=\"\",\"\",'Step 1) Select Data'!E1577)","v":""},"","","","","","",{"$f":"IF(J1558=\"\",\"\",'Step 3) Fit Distribution'!$F$3*E1558+'Step 3) Fit Distribution'!$F$4)","v":""},"","","","","","",""]
[null,{"$f":"IF(AND('Step 1) Select Data'!B1578=\"\",'Step 1) Select Data'!D1578<>\"\"),'Step 1) Select Data'!D1578,\"\")","v":""},"",{"$f":"IF(B1559=\"\",\"\",'Step 1) Select Data'!E1578)","v":""},"","","","","","",{"$f":"IF(J1559=\"\",\"\",'Step 3) Fit Distribution'!$F$3*E1559+'Step 3) Fit Distribution'!$F$4)","v":""},"","","","","","",""]
[null,{"$f":"IF(AND('Step 1) Select Data'!B1579=\"\",'Step 1) Select Data'!D1579<>\"\"),'Step 1) Select Data'!D1579,\"\")","v":""},"",{"$f":"IF(B1560=\"\",\"\",'Step 1) Select Data'!E1579)","v":""},"","","","","","",{"$f":"IF(J1560=\"\",\"\",'Step 3) Fit Distribution'!$F$3*E1560+'Step 3) Fit Distribution'!$F$4)","v":""},"","","","","","",""]
[null,{"$f":"IF(AND('Step 1) Select Data'!B1580=\"\",'Step 1) Select Data'!D1580<>\"\"),'Step 1) Select Data'!D1580,\"\")","v":""},"",{"$f":"IF(B1561=\"\",\"\",'Step 1) Select Data'!E1580)","v":""},"","","","","","",{"$f":"IF(J1561=\"\",\"\",'Step 3) Fit Distribution'!$F$3*E1561+'Step 3) Fit Distribution'!$F$4)","v":""},"","","","","","",""]
[null,{"$f":"IF(AND('Step 1) Select Data'!B1581=\"\",'Step 1) Select Data'!D1581<>\"\"),'Step 1) Select Data'!D1581,\"\")","v":""},"",{"$f":"IF(B1562=\"\",\"\",'Step 1) Select Data'!E1581)","v":""},"","","","","","",{"$f":"IF(J1562=\"\",\"\",'Step 3) Fit Distribution'!$F$3*E1562+'Step 3) Fit Distribution'!$F$4)","v":""},"","","","","","",""]
[null,{"$f":"IF(AND('Step 1) Select Data'!B1582=\"\",'Step 1) Select Data'!D1582<>\"\"),'Step 1) Select Data'!D1582,\"\")","v":""},"",{"$f":"IF(B1563=\"\",\"\",'Step 1) Select Data'!E1582)","v":""},"","","","","","",{"$f":"IF(J1563=\"\",\"\",'Step 3) Fit Distribution'!$F$3*E1563+'Step 3) Fit Distribution'!$F$4)","v":""},"","","","","","",""]
[null,{"$f":"IF(AND('Step 1) Select Data'!B1583=\"\",'Step 1) Select Data'!D1583<>\"\"),'Step 1) Select Data'!D1583,\"\")","v":""},"",{"$f":"IF(B1564=\"\",\"\",'Step 1) Select Data'!E1583)","v":""},"","","","","","",{"$f":"IF(J1564=\"\",\"\",'Step 3) Fit Distribution'!$F$3*E1564+'Step 3) Fit Distribution'!$F$4)","v":""},"","","","","","",""]
[null,{"$f":"IF(AND('Step 1) Select Data'!B1584=\"\",'Step 1) Select Data'!D1584<>\"\"),'Step 1) Select Data'!D1584,\"\")","v":""},"",{"$f":"IF(B1565=\"\",\"\",'Step 1) Select Data'!E1584)","v":""},"","","","","","",{"$f":"IF(J1565=\"\",\"\",'Step 3) Fit Distribution'!$F$3*E1565+'Step 3) Fit Distribution'!$F$4)","v":""},"","","","","","",""]
[null,{"$f":"IF(AND('Step 1) Select Data'!B1585=\"\",'Step 1) Select Data'!D1585<>\"\"),'Step 1) Select Data'!D1585,\"\")","v":""},"",{"$f":"IF(B1566=\"\",\"\",'Step 1) Select Data'!E1585)","v":""},"","","","","","",{"$f":"IF(J1566=\"\",\"\",'Step 3) Fit Distribution'!$F$3*E1566+'Step 3) Fit Distribution'!$F$4)","v":""},"","","","","","",""]
[null,{"$f":"IF(AND('Step 1) Select Data'!B1586=\"\",'Step 1) Select Data'!D1586<>\"\"),'Step 1) Select Data'!D1586,\"\")","v":""},"",{"$f":"IF(B1567=\"\",\"\",'Step 1) Select Data'!E1586)","v":""},"","","","","","",{"$f":"IF(J1567=\"\",\"\",'Step 3) Fit Distribution'!$F$3*E1567+'Step 3) Fit Distribution'!$F$4)","v":""},"","","","","","",""]
[null,{"$f":"IF(AND('Step 1) Select Data'!B1587=\"\",'Step 1) Select Data'!D1587<>\"\"),'Step 1) Select Data'!D1587,\"\")","v":""},"",{"$f":"IF(B1568=\"\",\"\",'Step 1) Select Data'!E1587)","v":""},"","","","","","",{"$f":"IF(J1568=\"\",\"\",'Step 3) Fit Distribution'!$F$3*E1568+'Step 3) Fit Distribution'!$F$4)","v":""},"","","","","","",""]
[null,{"$f":"IF(AND('Step 1) Select Data'!B1588=\"\",'Step 1) Select Data'!D1588<>\"\"),'Step 1) Select Data'!D1588,\"\")","v":""},"",{"$f":"IF(B1569=\"\",\"\",'Step 1) Select Data'!E1588)","v":""},"","","","","","",{"$f":"IF(J1569=\"\",\"\",'Step 3) Fit Distribution'!$F$3*E1569+'Step 3) Fit Distribution'!$F$4)","v":""},"","","","","","",""]
[null,{"$f":"IF(AND('Step 1) Select Data'!B1589=\"\",'Step 1) Select Data'!D1589<>\"\"),'Step 1) Select Data'!D1589,\"\")","v":""},"",{"$f":"IF(B1570=\"\",\"\",'Step 1) Select Data'!E1589)","v":""},"","","","","","",{"$f":"IF(J1570=\"\",\"\",'Step 3) Fit Distribution'!$F$3*E1570+'Step 3) Fit Distribution'!$F$4)","v":""},"","","","","","",""]
[null,{"$f":"IF(AND('Step 1) Select Data'!B1590=\"\",'Step 1) Select Data'!D1590<>\"\"),'Step 1) Select Data'!D1590,\"\")","v":""},"",{"$f":"IF(B1571=\"\",\"\",'Step 1) Select Data'!E1590)","v":""},"","","","","","",{"$f":"IF(J1571=\"\",\"\",'Step 3) Fit Distribution'!$F$3*E1571+'Step 3) Fit Distribution'!$F$4)","v":""},"","","","","","",""]
[null,{"$f":"IF(AND('Step 1) Select Data'!B1591=\"\",'Step 1) Select Data'!D1591<>\"\"),'Step 1) Select Data'!D1591,\"\")","v":""},"",{"$f":"IF(B1572=\"\",\"\",'Step 1) Select Data'!E1591)","v":""},"","","","","","",{"$f":"IF(J1572=\"\",\"\",'Step 3) Fit Distribution'!$F$3*E1572+'Step 3) Fit Distribution'!$F$4)","v":""},"","","","","","",""]
[null,{"$f":"IF(AND('Step 1) Select Data'!B1592=\"\",'Step 1) Select Data'!D1592<>\"\"),'Step 1) Select Data'!D1592,\"\")","v":""},"",{"$f":"IF(B1573=\"\",\"\",'Step 1) Select Data'!E1592)","v":""},"","","","","","",{"$f":"IF(J1573=\"\",\"\",'Step 3) Fit Distribution'!$F$3*E1573+'Step 3) Fit Distribution'!$F$4)","v":""},"","","","","","",""]
[null,{"$f":"IF(AND('Step 1) Select Data'!B1593=\"\",'Step 1) Select Data'!D1593<>\"\"),'Step 1) Select Data'!D1593,\"\")","v":""},"",{"$f":"IF(B1574=\"\",\"\",'Step 1) Select Data'!E1593)","v":""},"","","","","","",{"$f":"IF(J1574=\"\",\"\",'Step 3) Fit Distribution'!$F$3*E1574+'Step 3) Fit Distribution'!$F$4)","v":""},"","","","","","",""]
[null,{"$f":"IF(AND('Step 1) Select Data'!B1594=\"\",'Step 1) Select Data'!D1594<>\"\"),'Step 1) Select Data'!D1594,\"\")","v":""},"",{"$f":"IF(B1575=\"\",\"\",'Step 1) Select Data'!E1594)","v":""},"","","","","","",{"$f":"IF(J1575=\"\",\"\",'Step 3) Fit Distribution'!$F$3*E1575+'Step 3) Fit Distribution'!$F$4)","v":""},"","","","","","",""]
[null,{"$f":"IF(AND('Step 1) Select Data'!B1595=\"\",'Step 1) Select Data'!D1595<>\"\"),'Step 1) Select Data'!D1595,\"\")","v":""},"",{"$f":"IF(B1576=\"\",\"\",'Step 1) Select Data'!E1595)","v":""},"","","","","","",{"$f":"IF(J1576=\"\",\"\",'Step 3) Fit Distribution'!$F$3*E1576+'Step 3) Fit Distribution'!$F$4)","v":""},"","","","","","",""]
[null,{"$f":"IF(AND('Step 1) Select Data'!B1596=\"\",'Step 1) Select Data'!D1596<>\"\"),'Step 1) Select Data'!D1596,\"\")","v":""},"",{"$f":"IF(B1577=\"\",\"\",'Step 1) Select Data'!E1596)","v":""},"","","","","","",{"$f":"IF(J1577=\"\",\"\",'Step 3) Fit Distribution'!$F$3*E1577+'Step 3) Fit Distribution'!$F$4)","v":""},"","","","","","",""]
[null,{"$f":"IF(AND('Step 1) Select Data'!B1597=\"\",'Step 1) Select Data'!D1597<>\"\"),'Step 1) Select Data'!D1597,\"\")","v":""},"",{"$f":"IF(B1578=\"\",\"\",'Step 1) Select Data'!E1597)","v":""},"","","","","","",{"$f":"IF(J1578=\"\",\"\",'Step 3) Fit Distribution'!$F$3*E1578+'Step 3) Fit Distribution'!$F$4)","v":""},"","","","","","",""]
[null,{"$f":"IF(AND('Step 1) Select Data'!B1598=\"\",'Step 1) Select Data'!D1598<>\"\"),'Step 1) Select Data'!D1598,\"\")","v":""},"",{"$f":"IF(B1579=\"\",\"\",'Step 1) Select Data'!E1598)","v":""},"","","","","","",{"$f":"IF(J1579=\"\",\"\",'Step 3) Fit Distribution'!$F$3*E1579+'Step 3) Fit Distribution'!$F$4)","v":""},"","","","","","",""]
[null,{"$f":"IF(AND('Step 1) Select Data'!B1599=\"\",'Step 1) Select Data'!D1599<>\"\"),'Step 1) Select Data'!D1599,\"\")","v":""},"",{"$f":"IF(B1580=\"\",\"\",'Step 1) Select Data'!E1599)","v":""},"","","","","","",{"$f":"IF(J1580=\"\",\"\",'Step 3) Fit Distribution'!$F$3*E1580+'Step 3) Fit Distribution'!$F$4)","v":""},"","","","","","",""]
[null,{"$f":"IF(AND('Step 1) Select Data'!B1600=\"\",'Step 1) Select Data'!D1600<>\"\"),'Step 1) Select Data'!D1600,\"\")","v":""},"",{"$f":"IF(B1581=\"\",\"\",'Step 1) Select Data'!E1600)","v":""},"","","","","","",{"$f":"IF(J1581=\"\",\"\",'Step 3) Fit Distribution'!$F$3*E1581+'Step 3) Fit Distribution'!$F$4)","v":""},"","","","","","",""]
[null,{"$f":"IF(AND('Step 1) Select Data'!B1601=\"\",'Step 1) Select Data'!D1601<>\"\"),'Step 1) Select Data'!D1601,\"\")","v":""},"",{"$f":"IF(B1582=\"\",\"\",'Step 1) Select Data'!E1601)","v":""},"","","","","","",{"$f":"IF(J1582=\"\",\"\",'Step 3) Fit Distribution'!$F$3*E1582+'Step 3) Fit Distribution'!$F$4)","v":""},"","","","","","",""]
[null,{"$f":"IF(AND('Step 1) Select Data'!B1602=\"\",'Step 1) Select Data'!D1602<>\"\"),'Step 1) Select Data'!D1602,\"\")","v":""},"",{"$f":"IF(B1583=\"\",\"\",'Step 1) Select Data'!E1602)","v":""},"","","","","","",{"$f":"IF(J1583=\"\",\"\",'Step 3) Fit Distribution'!$F$3*E1583+'Step 3) Fit Distribution'!$F$4)","v":""},"","","","","","",""]
[null,{"$f":"IF(AND('Step 1) Select Data'!B1603=\"\",'Step 1) Select Data'!D1603<>\"\"),'Step 1) Select Data'!D1603,\"\")","v":""},"",{"$f":"IF(B1584=\"\",\"\",'Step 1) Select Data'!E1603)","v":""},"","","","","","",{"$f":"IF(J1584=\"\",\"\",'Step 3) Fit Distribution'!$F$3*E1584+'Step 3) Fit Distribution'!$F$4)","v":""},"","","","","","",""]
[null,{"$f":"IF(AND('Step 1) Select Data'!B1604=\"\",'Step 1) Select Data'!D1604<>\"\"),'Step 1) Select Data'!D1604,\"\")","v":""},"",{"$f":"IF(B1585=\"\",\"\",'Step 1) Select Data'!E1604)","v":""},"","","","","","",{"$f":"IF(J1585=\"\",\"\",'Step 3) Fit Distribution'!$F$3*E1585+'Step 3) Fit Distribution'!$F$4)","v":""},"","","","","","",""]
[null,{"$f":"IF(AND('Step 1) Select Data'!B1605=\"\",'Step 1) Select Data'!D1605<>\"\"),'Step 1) Select Data'!D1605,\"\")","v":""},"",{"$f":"IF(B1586=\"\",\"\",'Step 1) Select Data'!E1605)","v":""},"","","","","","",{"$f":"IF(J1586=\"\",\"\",'Step 3) Fit Distribution'!$F$3*E1586+'Step 3) Fit Distribution'!$F$4)","v":""},"","","","","","",""]
[null,{"$f":"IF(AND('Step 1) Select Data'!B1606=\"\",'Step 1) Select Data'!D1606<>\"\"),'Step 1) Select Data'!D1606,\"\")","v":""},"",{"$f":"IF(B1587=\"\",\"\",'Step 1) Select Data'!E1606)","v":""},"","","","","","",{"$f":"IF(J1587=\"\",\"\",'Step 3) Fit Distribution'!$F$3*E1587+'Step 3) Fit Distribution'!$F$4)","v":""},"","","","","","",""]
[null,{"$f":"IF(AND('Step 1) Select Data'!B1607=\"\",'Step 1) Select Data'!D1607<>\"\"),'Step 1) Select Data'!D1607,\"\")","v":""},"",{"$f":"IF(B1588=\"\",\"\",'Step 1) Select Data'!E1607)","v":""},"","","","","","",{"$f":"IF(J1588=\"\",\"\",'Step 3) Fit Distribution'!$F$3*E1588+'Step 3) Fit Distribution'!$F$4)","v":""},"","","","","","",""]
[null,{"$f":"IF(AND('Step 1) Select Data'!B1608=\"\",'Step 1) Select Data'!D1608<>\"\"),'Step 1) Select Data'!D1608,\"\")","v":""},"",{"$f":"IF(B1589=\"\",\"\",'Step 1) Select Data'!E1608)","v":""},"","","","","","",{"$f":"IF(J1589=\"\",\"\",'Step 3) Fit Distribution'!$F$3*E1589+'Step 3) Fit Distribution'!$F$4)","v":""},"","","","","","",""]
[null,{"$f":"IF(AND('Step 1) Select Data'!B1609=\"\",'Step 1) Select Data'!D1609<>\"\"),'Step 1) Select Data'!D1609,\"\")","v":""},"",{"$f":"IF(B1590=\"\",\"\",'Step 1) Select Data'!E1609)","v":""},"","","","","","",{"$f":"IF(J1590=\"\",\"\",'Step 3) Fit Distribution'!$F$3*E1590+'Step 3) Fit Distribution'!$F$4)","v":""},"","","","","","",""]
[null,{"$f":"IF(AND('Step 1) Select Data'!B1610=\"\",'Step 1) Select Data'!D1610<>\"\"),'Step 1) Select Data'!D1610,\"\")","v":""},"",{"$f":"IF(B1591=\"\",\"\",'Step 1) Select Data'!E1610)","v":""},"","","","","","",{"$f":"IF(J1591=\"\",\"\",'Step 3) Fit Distribution'!$F$3*E1591+'Step 3) Fit Distribution'!$F$4)","v":""},"","","","","","",""]
[null,{"$f":"IF(AND('Step 1) Select Data'!B1611=\"\",'Step 1) Select Data'!D1611<>\"\"),'Step 1) Select Data'!D1611,\"\")","v":""},"",{"$f":"IF(B1592=\"\",\"\",'Step 1) Select Data'!E1611)","v":""},"","","","","","",{"$f":"IF(J1592=\"\",\"\",'Step 3) Fit Distribution'!$F$3*E1592+'Step 3) Fit Distribution'!$F$4)","v":""},"","","","","","",""]
[null,{"$f":"IF(AND('Step 1) Select Data'!B1612=\"\",'Step 1) Select Data'!D1612<>\"\"),'Step 1) Select Data'!D1612,\"\")","v":""},"",{"$f":"IF(B1593=\"\",\"\",'Step 1) Select Data'!E1612)","v":""},"","","","","","",{"$f":"IF(J1593=\"\",\"\",'Step 3) Fit Distribution'!$F$3*E1593+'Step 3) Fit Distribution'!$F$4)","v":""},"","","","","","",""]
[null,{"$f":"IF(AND('Step 1) Select Data'!B1613=\"\",'Step 1) Select Data'!D1613<>\"\"),'Step 1) Select Data'!D1613,\"\")","v":""},"",{"$f":"IF(B1594=\"\",\"\",'Step 1) Select Data'!E1613)","v":""},"","","","","","",{"$f":"IF(J1594=\"\",\"\",'Step 3) Fit Distribution'!$F$3*E1594+'Step 3) Fit Distribution'!$F$4)","v":""},"","","","","","",""]
[null,{"$f":"IF(AND('Step 1) Select Data'!B1614=\"\",'Step 1) Select Data'!D1614<>\"\"),'Step 1) Select Data'!D1614,\"\")","v":""},"",{"$f":"IF(B1595=\"\",\"\",'Step 1) Select Data'!E1614)","v":""},"","","","","","",{"$f":"IF(J1595=\"\",\"\",'Step 3) Fit Distribution'!$F$3*E1595+'Step 3) Fit Distribution'!$F$4)","v":""},"","","","","","",""]
[null,{"$f":"IF(AND('Step 1) Select Data'!B1615=\"\",'Step 1) Select Data'!D1615<>\"\"),'Step 1) Select Data'!D1615,\"\")","v":""},"",{"$f":"IF(B1596=\"\",\"\",'Step 1) Select Data'!E1615)","v":""},"","","","","","",{"$f":"IF(J1596=\"\",\"\",'Step 3) Fit Distribution'!$F$3*E1596+'Step 3) Fit Distribution'!$F$4)","v":""},"","","","","","",""]
[null,{"$f":"IF(AND('Step 1) Select Data'!B1616=\"\",'Step 1) Select Data'!D1616<>\"\"),'Step 1) Select Data'!D1616,\"\")","v":""},"",{"$f":"IF(B1597=\"\",\"\",'Step 1) Select Data'!E1616)","v":""},"","","","","","",{"$f":"IF(J1597=\"\",\"\",'Step 3) Fit Distribution'!$F$3*E1597+'Step 3) Fit Distribution'!$F$4)","v":""},"","","","","","",""]
[null,{"$f":"IF(AND('Step 1) Select Data'!B1617=\"\",'Step 1) Select Data'!D1617<>\"\"),'Step 1) Select Data'!D1617,\"\")","v":""},"",{"$f":"IF(B1598=\"\",\"\",'Step 1) Select Data'!E1617)","v":""},"","","","","","",{"$f":"IF(J1598=\"\",\"\",'Step 3) Fit Distribution'!$F$3*E1598+'Step 3) Fit Distribution'!$F$4)","v":""},"","","","","","",""]
[null,{"$f":"IF(AND('Step 1) Select Data'!B1618=\"\",'Step 1) Select Data'!D1618<>\"\"),'Step 1) Select Data'!D1618,\"\")","v":""},"",{"$f":"IF(B1599=\"\",\"\",'Step 1) Select Data'!E1618)","v":""},"","","","","","",{"$f":"IF(J1599=\"\",\"\",'Step 3) Fit Distribution'!$F$3*E1599+'Step 3) Fit Distribution'!$F$4)","v":""},"","","","","","",""]
[null,{"$f":"IF(AND('Step 1) Select Data'!B1619=\"\",'Step 1) Select Data'!D1619<>\"\"),'Step 1) Select Data'!D1619,\"\")","v":""},"",{"$f":"IF(B1600=\"\",\"\",'Step 1) Select Data'!E1619)","v":""},"","","","","","",{"$f":"IF(J1600=\"\",\"\",'Step 3) Fit Distribution'!$F$3*E1600+'Step 3) Fit Distribution'!$F$4)","v":""},"","","","","","",""]
[null,{"$f":"IF(AND('Step 1) Select Data'!B1620=\"\",'Step 1) Select Data'!D1620<>\"\"),'Step 1) Select Data'!D1620,\"\")","v":""},"",{"$f":"IF(B1601=\"\",\"\",'Step 1) Select Data'!E1620)","v":""},"","","","","","",{"$f":"IF(J1601=\"\",\"\",'Step 3) Fit Distribution'!$F$3*E1601+'Step 3) Fit Distribution'!$F$4)","v":""},"","","","","","",""]
[null,{"$f":"IF(AND('Step 1) Select Data'!B1621=\"\",'Step 1) Select Data'!D1621<>\"\"),'Step 1) Select Data'!D1621,\"\")","v":""},"",{"$f":"IF(B1602=\"\",\"\",'Step 1) Select Data'!E1621)","v":""},"","","","","","",{"$f":"IF(J1602=\"\",\"\",'Step 3) Fit Distribution'!$F$3*E1602+'Step 3) Fit Distribution'!$F$4)","v":""},"","","","","","",""]
[null,{"$f":"IF(AND('Step 1) Select Data'!B1622=\"\",'Step 1) Select Data'!D1622<>\"\"),'Step 1) Select Data'!D1622,\"\")","v":""},"",{"$f":"IF(B1603=\"\",\"\",'Step 1) Select Data'!E1622)","v":""},"","","","","","",{"$f":"IF(J1603=\"\",\"\",'Step 3) Fit Distribution'!$F$3*E1603+'Step 3) Fit Distribution'!$F$4)","v":""},"","","","","","",""]
[null,{"$f":"IF(AND('Step 1) Select Data'!B1623=\"\",'Step 1) Select Data'!D1623<>\"\"),'Step 1) Select Data'!D1623,\"\")","v":""},"",{"$f":"IF(B1604=\"\",\"\",'Step 1) Select Data'!E1623)","v":""},"","","","","","",{"$f":"IF(J1604=\"\",\"\",'Step 3) Fit Distribution'!$F$3*E1604+'Step 3) Fit Distribution'!$F$4)","v":""},"","","","","","",""]
[null,{"$f":"IF(AND('Step 1) Select Data'!B1624=\"\",'Step 1) Select Data'!D1624<>\"\"),'Step 1) Select Data'!D1624,\"\")","v":""},"",{"$f":"IF(B1605=\"\",\"\",'Step 1) Select Data'!E1624)","v":""},"","","","","","",{"$f":"IF(J1605=\"\",\"\",'Step 3) Fit Distribution'!$F$3*E1605+'Step 3) Fit Distribution'!$F$4)","v":""},"","","","","","",""]
[null,{"$f":"IF(AND('Step 1) Select Data'!B1625=\"\",'Step 1) Select Data'!D1625<>\"\"),'Step 1) Select Data'!D1625,\"\")","v":""},"",{"$f":"IF(B1606=\"\",\"\",'Step 1) Select Data'!E1625)","v":""},"","","","","","",{"$f":"IF(J1606=\"\",\"\",'Step 3) Fit Distribution'!$F$3*E1606+'Step 3) Fit Distribution'!$F$4)","v":""},"","","","","","",""]
[null,{"$f":"IF(AND('Step 1) Select Data'!B1626=\"\",'Step 1) Select Data'!D1626<>\"\"),'Step 1) Select Data'!D1626,\"\")","v":""},{"$f":"IF(B1607=\"\",\"\",IF(OR(M1607>=M1608,M1608=\"\"),M1607,\"\"))","v":""},{"$f":"IF(B1607=\"\",\"\",'Step 1) Select Data'!E1626)","v":""},{"$f":"IF(C1607=\"\",\"\",LOG10(N1607)*(1/C1607))","v":""},{"$f":"IF(OR(M1607=\"\",C1607=1),\"\",IF(C1607=\"\",\"\",SQRT(R1607/(C1607-1))))","v":""},{"$f":"IF(E1607=\"\",\"\",10^E1607)","v":""},{"$f":"IF(I1607=\"\",\"\",(I1607-0.5)/COUNT($E$6:$E$2004))","v":""},{"$f":"IF(E1607=\"\",\"\",RANK(E1607,$E$6:$E$2004,1))","v":""},{"$f":"IF(H1607=\"\",\"\",NORMINV(H1607,5,1))","v":""},{"$f":"IF(J1607=\"\",\"\",'Step 3) Fit Distribution'!$F$3*E1607+'Step 3) Fit Distribution'!$F$4)","v":""},{"$f":"IF(K1607=\"\",\"\",(K1607-J1607)^2)","v":""},{"$f":"IF(B1607=\"\",\"\",IF(B1607<>B1606,1,M1606+1))","v":""},{"$f":"IF(B1607=\"\",\"\",IF(B1607<>B1606,ROUND(D1607,4),ROUND(D1607,4)*N1606))","v":""},{"$f":"IF(OR(M1607=\"\",C1607=1),\"\",IF(AND(M1607<>\"\",C1607=\"\",E1607=\"\"),O1608,E1607))","v":""},{"$f":"IF(OR(M1607=\"\",C1607=1),\"\",IF(AND(M1607<>\"\",C1607=\"\",E1607=\"\"),P1608,C1607))","v":""},"",{"$f":"IF(Q1607=\"\",\"\",IF(O1607=O1606,Q1607+R1606,Q1607))","v":""}]
[null,{"$f":"IF(AND('Step 1) Select Data'!B1627=\"\",'Step 1) Select Data'!D1627<>\"\"),'Step 1) Select Data'!D1627,\"\")","v":""},"",{"$f":"IF(B1608=\"\",\"\",'Step 1) Select Data'!E1627)","v":""},"","","","","","",{"$f":"IF(J1608=\"\",\"\",'Step 3) Fit Distribution'!$F$3*E1608+'Step 3) Fit Distribution'!$F$4)","v":""},"","","","","","",""]
[null,{"$f":"IF(AND('Step 1) Select Data'!B1628=\"\",'Step 1) Select Data'!D1628<>\"\"),'Step 1) Select Data'!D1628,\"\")","v":""},"",{"$f":"IF(B1609=\"\",\"\",'Step 1) Select Data'!E1628)","v":""},"","","","","","",{"$f":"IF(J1609=\"\",\"\",'Step 3) Fit Distribution'!$F$3*E1609+'Step 3) Fit Distribution'!$F$4)","v":""},"","","","","","",""]
[null,{"$f":"IF(AND('Step 1) Select Data'!B1629=\"\",'Step 1) Select Data'!D1629<>\"\"),'Step 1) Select Data'!D1629,\"\")","v":""},"",{"$f":"IF(B1610=\"\",\"\",'Step 1) Select Data'!E1629)","v":""},"","","","","","",{"$f":"IF(J1610=\"\",\"\",'Step 3) Fit Distribution'!$F$3*E1610+'Step 3) Fit Distribution'!$F$4)","v":""},"","","","","","",""]
[null,{"$f":"IF(AND('Step 1) Select Data'!B1630=\"\",'Step 1) Select Data'!D1630<>\"\"),'Step 1) Select Data'!D1630,\"\")","v":""},"",{"$f":"IF(B1611=\"\",\"\",'Step 1) Select Data'!E1630)","v":""},"","","","","","",{"$f":"IF(J1611=\"\",\"\",'Step 3) Fit Distribution'!$F$3*E1611+'Step 3) Fit Distribution'!$F$4)","v":""},"","","","","","",""]
[null,{"$f":"IF(AND('Step 1) Select Data'!B1631=\"\",'Step 1) Select Data'!D1631<>\"\"),'Step 1) Select Data'!D1631,\"\")","v":""},"",{"$f":"IF(B1612=\"\",\"\",'Step 1) Select Data'!E1631)","v":""},"","","","","","",{"$f":"IF(J1612=\"\",\"\",'Step 3) Fit Distribution'!$F$3*E1612+'Step 3) Fit Distribution'!$F$4)","v":""},"","","","","","",""]
[null,{"$f":"IF(AND('Step 1) Select Data'!B1632=\"\",'Step 1) Select Data'!D1632<>\"\"),'Step 1) Select Data'!D1632,\"\")","v":""},"",{"$f":"IF(B1613=\"\",\"\",'Step 1) Select Data'!E1632)","v":""},"","","","","","",{"$f":"IF(J1613=\"\",\"\",'Step 3) Fit Distribution'!$F$3*E1613+'Step 3) Fit Distribution'!$F$4)","v":""},"","","","","","",""]
[null,{"$f":"IF(AND('Step 1) Select Data'!B1633=\"\",'Step 1) Select Data'!D1633<>\"\"),'Step 1) Select Data'!D1633,\"\")","v":""},"",{"$f":"IF(B1614=\"\",\"\",'Step 1) Select Data'!E1633)","v":""},"","","","","","",{"$f":"IF(J1614=\"\",\"\",'Step 3) Fit Distribution'!$F$3*E1614+'Step 3) Fit Distribution'!$F$4)","v":""},"","","","","","",""]
[null,{"$f":"IF(AND('Step 1) Select Data'!B1634=\"\",'Step 1) Select Data'!D1634<>\"\"),'Step 1) Select Data'!D1634,\"\")","v":""},"",{"$f":"IF(B1615=\"\",\"\",'Step 1) Select Data'!E1634)","v":""},"","","","","","",{"$f":"IF(J1615=\"\",\"\",'Step 3) Fit Distribution'!$F$3*E1615+'Step 3) Fit Distribution'!$F$4)","v":""},"","","","","","",""]
[null,{"$f":"IF(AND('Step 1) Select Data'!B1635=\"\",'Step 1) Select Data'!D1635<>\"\"),'Step 1) Select Data'!D1635,\"\")","v":""},"",{"$f":"IF(B1616=\"\",\"\",'Step 1) Select Data'!E1635)","v":""},"","","","","","",{"$f":"IF(J1616=\"\",\"\",'Step 3) Fit Distribution'!$F$3*E1616+'Step 3) Fit Distribution'!$F$4)","v":""},"","","","","","",""]
[null,{"$f":"IF(AND('Step 1) Select Data'!B1636=\"\",'Step 1) Select Data'!D1636<>\"\"),'Step 1) Select Data'!D1636,\"\")","v":""},"",{"$f":"IF(B1617=\"\",\"\",'Step 1) Select Data'!E1636)","v":""},"","","","","","",{"$f":"IF(J1617=\"\",\"\",'Step 3) Fit Distribution'!$F$3*E1617+'Step 3) Fit Distribution'!$F$4)","v":""},"","","","","","",""]
[null,{"$f":"IF(AND('Step 1) Select Data'!B1637=\"\",'Step 1) Select Data'!D1637<>\"\"),'Step 1) Select Data'!D1637,\"\")","v":""},"",{"$f":"IF(B1618=\"\",\"\",'Step 1) Select Data'!E1637)","v":""},"","","","","","",{"$f":"IF(J1618=\"\",\"\",'Step 3) Fit Distribution'!$F$3*E1618+'Step 3) Fit Distribution'!$F$4)","v":""},"","","","","","",""]
[null,{"$f":"IF(AND('Step 1) Select Data'!B1638=\"\",'Step 1) Select Data'!D1638<>\"\"),'Step 1) Select Data'!D1638,\"\")","v":""},"",{"$f":"IF(B1619=\"\",\"\",'Step 1) Select Data'!E1638)","v":""},"","","","","","",{"$f":"IF(J1619=\"\",\"\",'Step 3) Fit Distribution'!$F$3*E1619+'Step 3) Fit Distribution'!$F$4)","v":""},"","","","","","",""]
[null,{"$f":"IF(AND('Step 1) Select Data'!B1639=\"\",'Step 1) Select Data'!D1639<>\"\"),'Step 1) Select Data'!D1639,\"\")","v":""},"",{"$f":"IF(B1620=\"\",\"\",'Step 1) Select Data'!E1639)","v":""},"","","","","","",{"$f":"IF(J1620=\"\",\"\",'Step 3) Fit Distribution'!$F$3*E1620+'Step 3) Fit Distribution'!$F$4)","v":""},"","","","","",{"$f":"IF(O1620=\"\",\"\",ROUND(LOG(D1620)-O1620,4)^2)","v":""},""]
[null,{"$f":"IF(AND('Step 1) Select Data'!B1640=\"\",'Step 1) Select Data'!D1640<>\"\"),'Step 1) Select Data'!D1640,\"\")","v":""},"",{"$f":"IF(B1621=\"\",\"\",'Step 1) Select Data'!E1640)","v":""},"","","","","","",{"$f":"IF(J1621=\"\",\"\",'Step 3) Fit Distribution'!$F$3*E1621+'Step 3) Fit Distribution'!$F$4)","v":""},"","","","","","",""]
[null,{"$f":"IF(AND('Step 1) Select Data'!B1641=\"\",'Step 1) Select Data'!D1641<>\"\"),'Step 1) Select Data'!D1641,\"\")","v":""},"",{"$f":"IF(B1622=\"\",\"\",'Step 1) Select Data'!E1641)","v":""},"","","","","","",{"$f":"IF(J1622=\"\",\"\",'Step 3) Fit Distribution'!$F$3*E1622+'Step 3) Fit Distribution'!$F$4)","v":""},"","","","","","",""]
[null,{"$f":"IF(AND('Step 1) Select Data'!B1642=\"\",'Step 1) Select Data'!D1642<>\"\"),'Step 1) Select Data'!D1642,\"\")","v":""},"",{"$f":"IF(B1623=\"\",\"\",'Step 1) Select Data'!E1642)","v":""},"","","","","","",{"$f":"IF(J1623=\"\",\"\",'Step 3) Fit Distribution'!$F$3*E1623+'Step 3) Fit Distribution'!$F$4)","v":""},"","","","","","",""]
[null,{"$f":"IF(AND('Step 1) Select Data'!B1643=\"\",'Step 1) Select Data'!D1643<>\"\"),'Step 1) Select Data'!D1643,\"\")","v":""},"",{"$f":"IF(B1624=\"\",\"\",'Step 1) Select Data'!E1643)","v":""},"","","","","","",{"$f":"IF(J1624=\"\",\"\",'Step 3) Fit Distribution'!$F$3*E1624+'Step 3) Fit Distribution'!$F$4)","v":""},"","","","","","",""]
[null,{"$f":"IF(AND('Step 1) Select Data'!B1644=\"\",'Step 1) Select Data'!D1644<>\"\"),'Step 1) Select Data'!D1644,\"\")","v":""},"",{"$f":"IF(B1625=\"\",\"\",'Step 1) Select Data'!E1644)","v":""},"","","","","","",{"$f":"IF(J1625=\"\",\"\",'Step 3) Fit Distribution'!$F$3*E1625+'Step 3) Fit Distribution'!$F$4)","v":""},"","","","","","",""]
[null,{"$f":"IF(AND('Step 1) Select Data'!B1645=\"\",'Step 1) Select Data'!D1645<>\"\"),'Step 1) Select Data'!D1645,\"\")","v":""},"",{"$f":"IF(B1626=\"\",\"\",'Step 1) Select Data'!E1645)","v":""},"","","","","","",{"$f":"IF(J1626=\"\",\"\",'Step 3) Fit Distribution'!$F$3*E1626+'Step 3) Fit Distribution'!$F$4)","v":""},"","","","","","",""]
[null,{"$f":"IF(AND('Step 1) Select Data'!B1646=\"\",'Step 1) Select Data'!D1646<>\"\"),'Step 1) Select Data'!D1646,\"\")","v":""},"",{"$f":"IF(B1627=\"\",\"\",'Step 1) Select Data'!E1646)","v":""},"","","","","","",{"$f":"IF(J1627=\"\",\"\",'Step 3) Fit Distribution'!$F$3*E1627+'Step 3) Fit Distribution'!$F$4)","v":""},"","","","","","",""]
[null,{"$f":"IF(AND('Step 1) Select Data'!B1647=\"\",'Step 1) Select Data'!D1647<>\"\"),'Step 1) Select Data'!D1647,\"\")","v":""},"",{"$f":"IF(B1628=\"\",\"\",'Step 1) Select Data'!E1647)","v":""},"","","","","","",{"$f":"IF(J1628=\"\",\"\",'Step 3) Fit Distribution'!$F$3*E1628+'Step 3) Fit Distribution'!$F$4)","v":""},"","","","","","",""]
[null,{"$f":"IF(AND('Step 1) Select Data'!B1648=\"\",'Step 1) Select Data'!D1648<>\"\"),'Step 1) Select Data'!D1648,\"\")","v":""},"",{"$f":"IF(B1629=\"\",\"\",'Step 1) Select Data'!E1648)","v":""},"","","","","","",{"$f":"IF(J1629=\"\",\"\",'Step 3) Fit Distribution'!$F$3*E1629+'Step 3) Fit Distribution'!$F$4)","v":""},"","","","","","",""]
[null,{"$f":"IF(AND('Step 1) Select Data'!B1649=\"\",'Step 1) Select Data'!D1649<>\"\"),'Step 1) Select Data'!D1649,\"\")","v":""},"",{"$f":"IF(B1630=\"\",\"\",'Step 1) Select Data'!E1649)","v":""},"","","","","","",{"$f":"IF(J1630=\"\",\"\",'Step 3) Fit Distribution'!$F$3*E1630+'Step 3) Fit Distribution'!$F$4)","v":""},"","","","","","",""]
[null,{"$f":"IF(AND('Step 1) Select Data'!B1650=\"\",'Step 1) Select Data'!D1650<>\"\"),'Step 1) Select Data'!D1650,\"\")","v":""},"",{"$f":"IF(B1631=\"\",\"\",'Step 1) Select Data'!E1650)","v":""},"","","","","","",{"$f":"IF(J1631=\"\",\"\",'Step 3) Fit Distribution'!$F$3*E1631+'Step 3) Fit Distribution'!$F$4)","v":""},"","","","","","",""]
[null,{"$f":"IF(AND('Step 1) Select Data'!B1651=\"\",'Step 1) Select Data'!D1651<>\"\"),'Step 1) Select Data'!D1651,\"\")","v":""},"",{"$f":"IF(B1632=\"\",\"\",'Step 1) Select Data'!E1651)","v":""},"","","","","","",{"$f":"IF(J1632=\"\",\"\",'Step 3) Fit Distribution'!$F$3*E1632+'Step 3) Fit Distribution'!$F$4)","v":""},"","","","","","",""]
[null,{"$f":"IF(AND('Step 1) Select Data'!B1652=\"\",'Step 1) Select Data'!D1652<>\"\"),'Step 1) Select Data'!D1652,\"\")","v":""},"",{"$f":"IF(B1633=\"\",\"\",'Step 1) Select Data'!E1652)","v":""},"","","","","","",{"$f":"IF(J1633=\"\",\"\",'Step 3) Fit Distribution'!$F$3*E1633+'Step 3) Fit Distribution'!$F$4)","v":""},"","","","","","",""]
[null,{"$f":"IF(AND('Step 1) Select Data'!B1653=\"\",'Step 1) Select Data'!D1653<>\"\"),'Step 1) Select Data'!D1653,\"\")","v":""},"",{"$f":"IF(B1634=\"\",\"\",'Step 1) Select Data'!E1653)","v":""},"","","","","","",{"$f":"IF(J1634=\"\",\"\",'Step 3) Fit Distribution'!$F$3*E1634+'Step 3) Fit Distribution'!$F$4)","v":""},"","","","","","",""]
[null,{"$f":"IF(AND('Step 1) Select Data'!B1654=\"\",'Step 1) Select Data'!D1654<>\"\"),'Step 1) Select Data'!D1654,\"\")","v":""},"",{"$f":"IF(B1635=\"\",\"\",'Step 1) Select Data'!E1654)","v":""},"","","","","","",{"$f":"IF(J1635=\"\",\"\",'Step 3) Fit Distribution'!$F$3*E1635+'Step 3) Fit Distribution'!$F$4)","v":""},"","","","","","",""]
[null,{"$f":"IF(AND('Step 1) Select Data'!B1655=\"\",'Step 1) Select Data'!D1655<>\"\"),'Step 1) Select Data'!D1655,\"\")","v":""},"",{"$f":"IF(B1636=\"\",\"\",'Step 1) Select Data'!E1655)","v":""},"","","","","","",{"$f":"IF(J1636=\"\",\"\",'Step 3) Fit Distribution'!$F$3*E1636+'Step 3) Fit Distribution'!$F$4)","v":""},"","","","","","",""]
[null,{"$f":"IF(AND('Step 1) Select Data'!B1656=\"\",'Step 1) Select Data'!D1656<>\"\"),'Step 1) Select Data'!D1656,\"\")","v":""},"",{"$f":"IF(B1637=\"\",\"\",'Step 1) Select Data'!E1656)","v":""},"","","","","","",{"$f":"IF(J1637=\"\",\"\",'Step 3) Fit Distribution'!$F$3*E1637+'Step 3) Fit Distribution'!$F$4)","v":""},"","","","","","",""]
[null,{"$f":"IF(AND('Step 1) Select Data'!B1657=\"\",'Step 1) Select Data'!D1657<>\"\"),'Step 1) Select Data'!D1657,\"\")","v":""},"",{"$f":"IF(B1638=\"\",\"\",'Step 1) Select Data'!E1657)","v":""},"","","","","","",{"$f":"IF(J1638=\"\",\"\",'Step 3) Fit Distribution'!$F$3*E1638+'Step 3) Fit Distribution'!$F$4)","v":""},"","","","","","",""]
[null,{"$f":"IF(AND('Step 1) Select Data'!B1658=\"\",'Step 1) Select Data'!D1658<>\"\"),'Step 1) Select Data'!D1658,\"\")","v":""},"",{"$f":"IF(B1639=\"\",\"\",'Step 1) Select Data'!E1658)","v":""},"","","","","","",{"$f":"IF(J1639=\"\",\"\",'Step 3) Fit Distribution'!$F$3*E1639+'Step 3) Fit Distribution'!$F$4)","v":""},"","","","","","",""]
[null,{"$f":"IF(AND('Step 1) Select Data'!B1659=\"\",'Step 1) Select Data'!D1659<>\"\"),'Step 1) Select Data'!D1659,\"\")","v":""},"",{"$f":"IF(B1640=\"\",\"\",'Step 1) Select Data'!E1659)","v":""},"","","","","","",{"$f":"IF(J1640=\"\",\"\",'Step 3) Fit Distribution'!$F$3*E1640+'Step 3) Fit Distribution'!$F$4)","v":""},"","","","","","",""]
[null,{"$f":"IF(AND('Step 1) Select Data'!B1660=\"\",'Step 1) Select Data'!D1660<>\"\"),'Step 1) Select Data'!D1660,\"\")","v":""},"",{"$f":"IF(B1641=\"\",\"\",'Step 1) Select Data'!E1660)","v":""},"","","","","","",{"$f":"IF(J1641=\"\",\"\",'Step 3) Fit Distribution'!$F$3*E1641+'Step 3) Fit Distribution'!$F$4)","v":""},"","","","","","",""]
[null,{"$f":"IF(AND('Step 1) Select Data'!B1661=\"\",'Step 1) Select Data'!D1661<>\"\"),'Step 1) Select Data'!D1661,\"\")","v":""},"",{"$f":"IF(B1642=\"\",\"\",'Step 1) Select Data'!E1661)","v":""},"","","","","","",{"$f":"IF(J1642=\"\",\"\",'Step 3) Fit Distribution'!$F$3*E1642+'Step 3) Fit Distribution'!$F$4)","v":""},"","","","","","",""]
[null,{"$f":"IF(AND('Step 1) Select Data'!B1662=\"\",'Step 1) Select Data'!D1662<>\"\"),'Step 1) Select Data'!D1662,\"\")","v":""},"",{"$f":"IF(B1643=\"\",\"\",'Step 1) Select Data'!E1662)","v":""},"","","","","","",{"$f":"IF(J1643=\"\",\"\",'Step 3) Fit Distribution'!$F$3*E1643+'Step 3) Fit Distribution'!$F$4)","v":""},"","","","","","",""]
[null,{"$f":"IF(AND('Step 1) Select Data'!B1663=\"\",'Step 1) Select Data'!D1663<>\"\"),'Step 1) Select Data'!D1663,\"\")","v":""},"",{"$f":"IF(B1644=\"\",\"\",'Step 1) Select Data'!E1663)","v":""},"","","","","","",{"$f":"IF(J1644=\"\",\"\",'Step 3) Fit Distribution'!$F$3*E1644+'Step 3) Fit Distribution'!$F$4)","v":""},"","","","","","",""]
[null,{"$f":"IF(AND('Step 1) Select Data'!B1664=\"\",'Step 1) Select Data'!D1664<>\"\"),'Step 1) Select Data'!D1664,\"\")","v":""},"",{"$f":"IF(B1645=\"\",\"\",'Step 1) Select Data'!E1664)","v":""},"","","","","","",{"$f":"IF(J1645=\"\",\"\",'Step 3) Fit Distribution'!$F$3*E1645+'Step 3) Fit Distribution'!$F$4)","v":""},"","","","","","",""]
[null,{"$f":"IF(AND('Step 1) Select Data'!B1665=\"\",'Step 1) Select Data'!D1665<>\"\"),'Step 1) Select Data'!D1665,\"\")","v":""},"",{"$f":"IF(B1646=\"\",\"\",'Step 1) Select Data'!E1665)","v":""},"","","","","","",{"$f":"IF(J1646=\"\",\"\",'Step 3) Fit Distribution'!$F$3*E1646+'Step 3) Fit Distribution'!$F$4)","v":""},"","","","","","",""]
[null,{"$f":"IF(AND('Step 1) Select Data'!B1666=\"\",'Step 1) Select Data'!D1666<>\"\"),'Step 1) Select Data'!D1666,\"\")","v":""},"",{"$f":"IF(B1647=\"\",\"\",'Step 1) Select Data'!E1666)","v":""},"","","","","","",{"$f":"IF(J1647=\"\",\"\",'Step 3) Fit Distribution'!$F$3*E1647+'Step 3) Fit Distribution'!$F$4)","v":""},"","","","","","",""]
[null,{"$f":"IF(AND('Step 1) Select Data'!B1667=\"\",'Step 1) Select Data'!D1667<>\"\"),'Step 1) Select Data'!D1667,\"\")","v":""},"",{"$f":"IF(B1648=\"\",\"\",'Step 1) Select Data'!E1667)","v":""},"","","","","","",{"$f":"IF(J1648=\"\",\"\",'Step 3) Fit Distribution'!$F$3*E1648+'Step 3) Fit Distribution'!$F$4)","v":""},"","","","","","",""]
[null,{"$f":"IF(AND('Step 1) Select Data'!B1668=\"\",'Step 1) Select Data'!D1668<>\"\"),'Step 1) Select Data'!D1668,\"\")","v":""},"",{"$f":"IF(B1649=\"\",\"\",'Step 1) Select Data'!E1668)","v":""},"","","","","","",{"$f":"IF(J1649=\"\",\"\",'Step 3) Fit Distribution'!$F$3*E1649+'Step 3) Fit Distribution'!$F$4)","v":""},"","","","","","",""]
[null,{"$f":"IF(AND('Step 1) Select Data'!B1669=\"\",'Step 1) Select Data'!D1669<>\"\"),'Step 1) Select Data'!D1669,\"\")","v":""},"",{"$f":"IF(B1650=\"\",\"\",'Step 1) Select Data'!E1669)","v":""},"","","","","","",{"$f":"IF(J1650=\"\",\"\",'Step 3) Fit Distribution'!$F$3*E1650+'Step 3) Fit Distribution'!$F$4)","v":""},"","","","","","",""]
[null,{"$f":"IF(AND('Step 1) Select Data'!B1670=\"\",'Step 1) Select Data'!D1670<>\"\"),'Step 1) Select Data'!D1670,\"\")","v":""},"",{"$f":"IF(B1651=\"\",\"\",'Step 1) Select Data'!E1670)","v":""},"","","","","","",{"$f":"IF(J1651=\"\",\"\",'Step 3) Fit Distribution'!$F$3*E1651+'Step 3) Fit Distribution'!$F$4)","v":""},"","","","","","",""]
[null,{"$f":"IF(AND('Step 1) Select Data'!B1671=\"\",'Step 1) Select Data'!D1671<>\"\"),'Step 1) Select Data'!D1671,\"\")","v":""},"",{"$f":"IF(B1652=\"\",\"\",'Step 1) Select Data'!E1671)","v":""},"","","","","","",{"$f":"IF(J1652=\"\",\"\",'Step 3) Fit Distribution'!$F$3*E1652+'Step 3) Fit Distribution'!$F$4)","v":""},"","","","","","",""]
[null,{"$f":"IF(AND('Step 1) Select Data'!B1672=\"\",'Step 1) Select Data'!D1672<>\"\"),'Step 1) Select Data'!D1672,\"\")","v":""},"",{"$f":"IF(B1653=\"\",\"\",'Step 1) Select Data'!E1672)","v":""},"","","","","","",{"$f":"IF(J1653=\"\",\"\",'Step 3) Fit Distribution'!$F$3*E1653+'Step 3) Fit Distribution'!$F$4)","v":""},"","","","","","",""]
[null,{"$f":"IF(AND('Step 1) Select Data'!B1673=\"\",'Step 1) Select Data'!D1673<>\"\"),'Step 1) Select Data'!D1673,\"\")","v":""},"",{"$f":"IF(B1654=\"\",\"\",'Step 1) Select Data'!E1673)","v":""},"","","","","","",{"$f":"IF(J1654=\"\",\"\",'Step 3) Fit Distribution'!$F$3*E1654+'Step 3) Fit Distribution'!$F$4)","v":""},"","","","","","",""]
[null,{"$f":"IF(AND('Step 1) Select Data'!B1674=\"\",'Step 1) Select Data'!D1674<>\"\"),'Step 1) Select Data'!D1674,\"\")","v":""},"",{"$f":"IF(B1655=\"\",\"\",'Step 1) Select Data'!E1674)","v":""},"","","","","","",{"$f":"IF(J1655=\"\",\"\",'Step 3) Fit Distribution'!$F$3*E1655+'Step 3) Fit Distribution'!$F$4)","v":""},"","","","","","",""]
[null,{"$f":"IF(AND('Step 1) Select Data'!B1675=\"\",'Step 1) Select Data'!D1675<>\"\"),'Step 1) Select Data'!D1675,\"\")","v":""},"",{"$f":"IF(B1656=\"\",\"\",'Step 1) Select Data'!E1675)","v":""},"","","","","","",{"$f":"IF(J1656=\"\",\"\",'Step 3) Fit Distribution'!$F$3*E1656+'Step 3) Fit Distribution'!$F$4)","v":""},"","","","","","",""]
[null,{"$f":"IF(AND('Step 1) Select Data'!B1676=\"\",'Step 1) Select Data'!D1676<>\"\"),'Step 1) Select Data'!D1676,\"\")","v":""},"",{"$f":"IF(B1657=\"\",\"\",'Step 1) Select Data'!E1676)","v":""},"","","","","","",{"$f":"IF(J1657=\"\",\"\",'Step 3) Fit Distribution'!$F$3*E1657+'Step 3) Fit Distribution'!$F$4)","v":""},"","","","","","",""]
[null,{"$f":"IF(AND('Step 1) Select Data'!B1677=\"\",'Step 1) Select Data'!D1677<>\"\"),'Step 1) Select Data'!D1677,\"\")","v":""},"",{"$f":"IF(B1658=\"\",\"\",'Step 1) Select Data'!E1677)","v":""},"","","","","","",{"$f":"IF(J1658=\"\",\"\",'Step 3) Fit Distribution'!$F$3*E1658+'Step 3) Fit Distribution'!$F$4)","v":""},"","","","","","",""]
[null,{"$f":"IF(AND('Step 1) Select Data'!B1678=\"\",'Step 1) Select Data'!D1678<>\"\"),'Step 1) Select Data'!D1678,\"\")","v":""},"",{"$f":"IF(B1659=\"\",\"\",'Step 1) Select Data'!E1678)","v":""},"","","","","","",{"$f":"IF(J1659=\"\",\"\",'Step 3) Fit Distribution'!$F$3*E1659+'Step 3) Fit Distribution'!$F$4)","v":""},"","","","","","",""]
[null,{"$f":"IF(AND('Step 1) Select Data'!B1679=\"\",'Step 1) Select Data'!D1679<>\"\"),'Step 1) Select Data'!D1679,\"\")","v":""},"",{"$f":"IF(B1660=\"\",\"\",'Step 1) Select Data'!E1679)","v":""},"","","","","","",{"$f":"IF(J1660=\"\",\"\",'Step 3) Fit Distribution'!$F$3*E1660+'Step 3) Fit Distribution'!$F$4)","v":""},"","","","","","",""]
[null,{"$f":"IF(AND('Step 1) Select Data'!B1680=\"\",'Step 1) Select Data'!D1680<>\"\"),'Step 1) Select Data'!D1680,\"\")","v":""},"",{"$f":"IF(B1661=\"\",\"\",'Step 1) Select Data'!E1680)","v":""},"","","","","","",{"$f":"IF(J1661=\"\",\"\",'Step 3) Fit Distribution'!$F$3*E1661+'Step 3) Fit Distribution'!$F$4)","v":""},"","","","","","",""]
[null,{"$f":"IF(AND('Step 1) Select Data'!B1681=\"\",'Step 1) Select Data'!D1681<>\"\"),'Step 1) Select Data'!D1681,\"\")","v":""},"",{"$f":"IF(B1662=\"\",\"\",'Step 1) Select Data'!E1681)","v":""},"","","","","","",{"$f":"IF(J1662=\"\",\"\",'Step 3) Fit Distribution'!$F$3*E1662+'Step 3) Fit Distribution'!$F$4)","v":""},"","","","","","",""]
[null,{"$f":"IF(AND('Step 1) Select Data'!B1682=\"\",'Step 1) Select Data'!D1682<>\"\"),'Step 1) Select Data'!D1682,\"\")","v":""},"",{"$f":"IF(B1663=\"\",\"\",'Step 1) Select Data'!E1682)","v":""},"","","","","","",{"$f":"IF(J1663=\"\",\"\",'Step 3) Fit Distribution'!$F$3*E1663+'Step 3) Fit Distribution'!$F$4)","v":""},"","","","","","",""]
[null,{"$f":"IF(AND('Step 1) Select Data'!B1683=\"\",'Step 1) Select Data'!D1683<>\"\"),'Step 1) Select Data'!D1683,\"\")","v":""},"",{"$f":"IF(B1664=\"\",\"\",'Step 1) Select Data'!E1683)","v":""},"","","","","","",{"$f":"IF(J1664=\"\",\"\",'Step 3) Fit Distribution'!$F$3*E1664+'Step 3) Fit Distribution'!$F$4)","v":""},"","","","","","",""]
[null,{"$f":"IF(AND('Step 1) Select Data'!B1684=\"\",'Step 1) Select Data'!D1684<>\"\"),'Step 1) Select Data'!D1684,\"\")","v":""},"",{"$f":"IF(B1665=\"\",\"\",'Step 1) Select Data'!E1684)","v":""},"","","","","","",{"$f":"IF(J1665=\"\",\"\",'Step 3) Fit Distribution'!$F$3*E1665+'Step 3) Fit Distribution'!$F$4)","v":""},"","","","","","",""]
[null,{"$f":"IF(AND('Step 1) Select Data'!B1685=\"\",'Step 1) Select Data'!D1685<>\"\"),'Step 1) Select Data'!D1685,\"\")","v":""},"",{"$f":"IF(B1666=\"\",\"\",'Step 1) Select Data'!E1685)","v":""},"","","","","","",{"$f":"IF(J1666=\"\",\"\",'Step 3) Fit Distribution'!$F$3*E1666+'Step 3) Fit Distribution'!$F$4)","v":""},"","","","","","",""]
[null,{"$f":"IF(AND('Step 1) Select Data'!B1686=\"\",'Step 1) Select Data'!D1686<>\"\"),'Step 1) Select Data'!D1686,\"\")","v":""},"",{"$f":"IF(B1667=\"\",\"\",'Step 1) Select Data'!E1686)","v":""},"","","","","","",{"$f":"IF(J1667=\"\",\"\",'Step 3) Fit Distribution'!$F$3*E1667+'Step 3) Fit Distribution'!$F$4)","v":""},"","","","","","",""]
[null,{"$f":"IF(AND('Step 1) Select Data'!B1687=\"\",'Step 1) Select Data'!D1687<>\"\"),'Step 1) Select Data'!D1687,\"\")","v":""},"",{"$f":"IF(B1668=\"\",\"\",'Step 1) Select Data'!E1687)","v":""},"","","","","","",{"$f":"IF(J1668=\"\",\"\",'Step 3) Fit Distribution'!$F$3*E1668+'Step 3) Fit Distribution'!$F$4)","v":""},"","","","","","",""]
[null,{"$f":"IF(AND('Step 1) Select Data'!B1688=\"\",'Step 1) Select Data'!D1688<>\"\"),'Step 1) Select Data'!D1688,\"\")","v":""},"",{"$f":"IF(B1669=\"\",\"\",'Step 1) Select Data'!E1688)","v":""},"","","","","","",{"$f":"IF(J1669=\"\",\"\",'Step 3) Fit Distribution'!$F$3*E1669+'Step 3) Fit Distribution'!$F$4)","v":""},"","","","","","",""]
[null,{"$f":"IF(AND('Step 1) Select Data'!B1689=\"\",'Step 1) Select Data'!D1689<>\"\"),'Step 1) Select Data'!D1689,\"\")","v":""},"",{"$f":"IF(B1670=\"\",\"\",'Step 1) Select Data'!E1689)","v":""},"","","","","","",{"$f":"IF(J1670=\"\",\"\",'Step 3) Fit Distribution'!$F$3*E1670+'Step 3) Fit Distribution'!$F$4)","v":""},"","","","","","",""]
[null,{"$f":"IF(AND('Step 1) Select Data'!B1690=\"\",'Step 1) Select Data'!D1690<>\"\"),'Step 1) Select Data'!D1690,\"\")","v":""},{"$f":"IF(B1671=\"\",\"\",IF(OR(M1671>=M1672,M1672=\"\"),M1671,\"\"))","v":""},{"$f":"IF(B1671=\"\",\"\",'Step 1) Select Data'!E1690)","v":""},{"$f":"IF(C1671=\"\",\"\",LOG10(N1671)*(1/C1671))","v":""},{"$f":"IF(OR(M1671=\"\",C1671=1),\"\",IF(C1671=\"\",\"\",SQRT(R1671/(C1671-1))))","v":""},{"$f":"IF(E1671=\"\",\"\",10^E1671)","v":""},{"$f":"IF(I1671=\"\",\"\",(I1671-0.5)/COUNT($E$6:$E$2004))","v":""},{"$f":"IF(E1671=\"\",\"\",RANK(E1671,$E$6:$E$2004,1))","v":""},{"$f":"IF(H1671=\"\",\"\",NORMINV(H1671,5,1))","v":""},{"$f":"IF(J1671=\"\",\"\",'Step 3) Fit Distribution'!$F$3*E1671+'Step 3) Fit Distribution'!$F$4)","v":""},{"$f":"IF(K1671=\"\",\"\",(K1671-J1671)^2)","v":""},{"$f":"IF(B1671=\"\",\"\",IF(B1671<>B1670,1,M1670+1))","v":""},{"$f":"IF(B1671=\"\",\"\",IF(B1671<>B1670,ROUND(D1671,4),ROUND(D1671,4)*N1670))","v":""},{"$f":"IF(OR(M1671=\"\",C1671=1),\"\",IF(AND(M1671<>\"\",C1671=\"\",E1671=\"\"),O1672,E1671))","v":""},{"$f":"IF(OR(M1671=\"\",C1671=1),\"\",IF(AND(M1671<>\"\",C1671=\"\",E1671=\"\"),P1672,C1671))","v":""},"",{"$f":"IF(Q1671=\"\",\"\",IF(O1671=O1670,Q1671+R1670,Q1671))","v":""}]
[null,{"$f":"IF(AND('Step 1) Select Data'!B1691=\"\",'Step 1) Select Data'!D1691<>\"\"),'Step 1) Select Data'!D1691,\"\")","v":""},"",{"$f":"IF(B1672=\"\",\"\",'Step 1) Select Data'!E1691)","v":""},"","","","","","",{"$f":"IF(J1672=\"\",\"\",'Step 3) Fit Distribution'!$F$3*E1672+'Step 3) Fit Distribution'!$F$4)","v":""},"","","","","","",""]
[null,{"$f":"IF(AND('Step 1) Select Data'!B1692=\"\",'Step 1) Select Data'!D1692<>\"\"),'Step 1) Select Data'!D1692,\"\")","v":""},"",{"$f":"IF(B1673=\"\",\"\",'Step 1) Select Data'!E1692)","v":""},"","","","","","",{"$f":"IF(J1673=\"\",\"\",'Step 3) Fit Distribution'!$F$3*E1673+'Step 3) Fit Distribution'!$F$4)","v":""},"","","","","","",""]
[null,{"$f":"IF(AND('Step 1) Select Data'!B1693=\"\",'Step 1) Select Data'!D1693<>\"\"),'Step 1) Select Data'!D1693,\"\")","v":""},"",{"$f":"IF(B1674=\"\",\"\",'Step 1) Select Data'!E1693)","v":""},"","","","","","",{"$f":"IF(J1674=\"\",\"\",'Step 3) Fit Distribution'!$F$3*E1674+'Step 3) Fit Distribution'!$F$4)","v":""},"","","","","","",""]
[null,{"$f":"IF(AND('Step 1) Select Data'!B1694=\"\",'Step 1) Select Data'!D1694<>\"\"),'Step 1) Select Data'!D1694,\"\")","v":""},"",{"$f":"IF(B1675=\"\",\"\",'Step 1) Select Data'!E1694)","v":""},"","","","","","",{"$f":"IF(J1675=\"\",\"\",'Step 3) Fit Distribution'!$F$3*E1675+'Step 3) Fit Distribution'!$F$4)","v":""},"","","","","","",""]
[null,{"$f":"IF(AND('Step 1) Select Data'!B1695=\"\",'Step 1) Select Data'!D1695<>\"\"),'Step 1) Select Data'!D1695,\"\")","v":""},"",{"$f":"IF(B1676=\"\",\"\",'Step 1) Select Data'!E1695)","v":""},"","","","","","",{"$f":"IF(J1676=\"\",\"\",'Step 3) Fit Distribution'!$F$3*E1676+'Step 3) Fit Distribution'!$F$4)","v":""},"","","","","","",""]
[null,{"$f":"IF(AND('Step 1) Select Data'!B1696=\"\",'Step 1) Select Data'!D1696<>\"\"),'Step 1) Select Data'!D1696,\"\")","v":""},"",{"$f":"IF(B1677=\"\",\"\",'Step 1) Select Data'!E1696)","v":""},"","","","","","",{"$f":"IF(J1677=\"\",\"\",'Step 3) Fit Distribution'!$F$3*E1677+'Step 3) Fit Distribution'!$F$4)","v":""},"","","","","","",""]
[null,{"$f":"IF(AND('Step 1) Select Data'!B1697=\"\",'Step 1) Select Data'!D1697<>\"\"),'Step 1) Select Data'!D1697,\"\")","v":""},"",{"$f":"IF(B1678=\"\",\"\",'Step 1) Select Data'!E1697)","v":""},"","","","","","",{"$f":"IF(J1678=\"\",\"\",'Step 3) Fit Distribution'!$F$3*E1678+'Step 3) Fit Distribution'!$F$4)","v":""},"","","","","","",""]
[null,{"$f":"IF(AND('Step 1) Select Data'!B1698=\"\",'Step 1) Select Data'!D1698<>\"\"),'Step 1) Select Data'!D1698,\"\")","v":""},"",{"$f":"IF(B1679=\"\",\"\",'Step 1) Select Data'!E1698)","v":""},"","","","","","",{"$f":"IF(J1679=\"\",\"\",'Step 3) Fit Distribution'!$F$3*E1679+'Step 3) Fit Distribution'!$F$4)","v":""},"","","","","","",""]
[null,{"$f":"IF(AND('Step 1) Select Data'!B1699=\"\",'Step 1) Select Data'!D1699<>\"\"),'Step 1) Select Data'!D1699,\"\")","v":""},"",{"$f":"IF(B1680=\"\",\"\",'Step 1) Select Data'!E1699)","v":""},"","","","","","",{"$f":"IF(J1680=\"\",\"\",'Step 3) Fit Distribution'!$F$3*E1680+'Step 3) Fit Distribution'!$F$4)","v":""},"","","","","","",""]
[null,{"$f":"IF(AND('Step 1) Select Data'!B1700=\"\",'Step 1) Select Data'!D1700<>\"\"),'Step 1) Select Data'!D1700,\"\")","v":""},"",{"$f":"IF(B1681=\"\",\"\",'Step 1) Select Data'!E1700)","v":""},"","","","","","",{"$f":"IF(J1681=\"\",\"\",'Step 3) Fit Distribution'!$F$3*E1681+'Step 3) Fit Distribution'!$F$4)","v":""},"","","","","","",""]
[null,{"$f":"IF(AND('Step 1) Select Data'!B1701=\"\",'Step 1) Select Data'!D1701<>\"\"),'Step 1) Select Data'!D1701,\"\")","v":""},"",{"$f":"IF(B1682=\"\",\"\",'Step 1) Select Data'!E1701)","v":""},"","","","","","",{"$f":"IF(J1682=\"\",\"\",'Step 3) Fit Distribution'!$F$3*E1682+'Step 3) Fit Distribution'!$F$4)","v":""},"","","","","","",""]
[null,{"$f":"IF(AND('Step 1) Select Data'!B1702=\"\",'Step 1) Select Data'!D1702<>\"\"),'Step 1) Select Data'!D1702,\"\")","v":""},"",{"$f":"IF(B1683=\"\",\"\",'Step 1) Select Data'!E1702)","v":""},"","","","","","",{"$f":"IF(J1683=\"\",\"\",'Step 3) Fit Distribution'!$F$3*E1683+'Step 3) Fit Distribution'!$F$4)","v":""},"","","","","","",""]
[null,{"$f":"IF(AND('Step 1) Select Data'!B1703=\"\",'Step 1) Select Data'!D1703<>\"\"),'Step 1) Select Data'!D1703,\"\")","v":""},"",{"$f":"IF(B1684=\"\",\"\",'Step 1) Select Data'!E1703)","v":""},"","","","","","",{"$f":"IF(J1684=\"\",\"\",'Step 3) Fit Distribution'!$F$3*E1684+'Step 3) Fit Distribution'!$F$4)","v":""},"","","","","",{"$f":"IF(O1684=\"\",\"\",ROUND(LOG(D1684)-O1684,4)^2)","v":""},""]
[null,{"$f":"IF(AND('Step 1) Select Data'!B1704=\"\",'Step 1) Select Data'!D1704<>\"\"),'Step 1) Select Data'!D1704,\"\")","v":""},"",{"$f":"IF(B1685=\"\",\"\",'Step 1) Select Data'!E1704)","v":""},"","","","","","",{"$f":"IF(J1685=\"\",\"\",'Step 3) Fit Distribution'!$F$3*E1685+'Step 3) Fit Distribution'!$F$4)","v":""},"","","","","","",""]
[null,{"$f":"IF(AND('Step 1) Select Data'!B1705=\"\",'Step 1) Select Data'!D1705<>\"\"),'Step 1) Select Data'!D1705,\"\")","v":""},"",{"$f":"IF(B1686=\"\",\"\",'Step 1) Select Data'!E1705)","v":""},"","","","","","",{"$f":"IF(J1686=\"\",\"\",'Step 3) Fit Distribution'!$F$3*E1686+'Step 3) Fit Distribution'!$F$4)","v":""},"","","","","","",""]
[null,{"$f":"IF(AND('Step 1) Select Data'!B1706=\"\",'Step 1) Select Data'!D1706<>\"\"),'Step 1) Select Data'!D1706,\"\")","v":""},"",{"$f":"IF(B1687=\"\",\"\",'Step 1) Select Data'!E1706)","v":""},"","","","","","",{"$f":"IF(J1687=\"\",\"\",'Step 3) Fit Distribution'!$F$3*E1687+'Step 3) Fit Distribution'!$F$4)","v":""},"","","","","","",""]
[null,{"$f":"IF(AND('Step 1) Select Data'!B1707=\"\",'Step 1) Select Data'!D1707<>\"\"),'Step 1) Select Data'!D1707,\"\")","v":""},"",{"$f":"IF(B1688=\"\",\"\",'Step 1) Select Data'!E1707)","v":""},"","","","","","",{"$f":"IF(J1688=\"\",\"\",'Step 3) Fit Distribution'!$F$3*E1688+'Step 3) Fit Distribution'!$F$4)","v":""},"","","","","","",""]
[null,{"$f":"IF(AND('Step 1) Select Data'!B1708=\"\",'Step 1) Select Data'!D1708<>\"\"),'Step 1) Select Data'!D1708,\"\")","v":""},"",{"$f":"IF(B1689=\"\",\"\",'Step 1) Select Data'!E1708)","v":""},"","","","","","",{"$f":"IF(J1689=\"\",\"\",'Step 3) Fit Distribution'!$F$3*E1689+'Step 3) Fit Distribution'!$F$4)","v":""},"","","","","","",""]
[null,{"$f":"IF(AND('Step 1) Select Data'!B1709=\"\",'Step 1) Select Data'!D1709<>\"\"),'Step 1) Select Data'!D1709,\"\")","v":""},"",{"$f":"IF(B1690=\"\",\"\",'Step 1) Select Data'!E1709)","v":""},"","","","","","",{"$f":"IF(J1690=\"\",\"\",'Step 3) Fit Distribution'!$F$3*E1690+'Step 3) Fit Distribution'!$F$4)","v":""},"","","","","","",""]
[null,{"$f":"IF(AND('Step 1) Select Data'!B1710=\"\",'Step 1) Select Data'!D1710<>\"\"),'Step 1) Select Data'!D1710,\"\")","v":""},"",{"$f":"IF(B1691=\"\",\"\",'Step 1) Select Data'!E1710)","v":""},"","","","","","",{"$f":"IF(J1691=\"\",\"\",'Step 3) Fit Distribution'!$F$3*E1691+'Step 3) Fit Distribution'!$F$4)","v":""},"","","","","","",""]
[null,{"$f":"IF(AND('Step 1) Select Data'!B1711=\"\",'Step 1) Select Data'!D1711<>\"\"),'Step 1) Select Data'!D1711,\"\")","v":""},"",{"$f":"IF(B1692=\"\",\"\",'Step 1) Select Data'!E1711)","v":""},"","","","","","",{"$f":"IF(J1692=\"\",\"\",'Step 3) Fit Distribution'!$F$3*E1692+'Step 3) Fit Distribution'!$F$4)","v":""},"","","","","","",""]
[null,{"$f":"IF(AND('Step 1) Select Data'!B1712=\"\",'Step 1) Select Data'!D1712<>\"\"),'Step 1) Select Data'!D1712,\"\")","v":""},"",{"$f":"IF(B1693=\"\",\"\",'Step 1) Select Data'!E1712)","v":""},"","","","","","",{"$f":"IF(J1693=\"\",\"\",'Step 3) Fit Distribution'!$F$3*E1693+'Step 3) Fit Distribution'!$F$4)","v":""},"","","","","","",""]
[null,{"$f":"IF(AND('Step 1) Select Data'!B1713=\"\",'Step 1) Select Data'!D1713<>\"\"),'Step 1) Select Data'!D1713,\"\")","v":""},"",{"$f":"IF(B1694=\"\",\"\",'Step 1) Select Data'!E1713)","v":""},"","","","","","",{"$f":"IF(J1694=\"\",\"\",'Step 3) Fit Distribution'!$F$3*E1694+'Step 3) Fit Distribution'!$F$4)","v":""},"","","","","","",""]
[null,{"$f":"IF(AND('Step 1) Select Data'!B1714=\"\",'Step 1) Select Data'!D1714<>\"\"),'Step 1) Select Data'!D1714,\"\")","v":""},"",{"$f":"IF(B1695=\"\",\"\",'Step 1) Select Data'!E1714)","v":""},"","","","","","",{"$f":"IF(J1695=\"\",\"\",'Step 3) Fit Distribution'!$F$3*E1695+'Step 3) Fit Distribution'!$F$4)","v":""},"","","","","","",""]
[null,{"$f":"IF(AND('Step 1) Select Data'!B1715=\"\",'Step 1) Select Data'!D1715<>\"\"),'Step 1) Select Data'!D1715,\"\")","v":""},"",{"$f":"IF(B1696=\"\",\"\",'Step 1) Select Data'!E1715)","v":""},"","","","","","",{"$f":"IF(J1696=\"\",\"\",'Step 3) Fit Distribution'!$F$3*E1696+'Step 3) Fit Distribution'!$F$4)","v":""},"","","","","","",""]
[null,{"$f":"IF(AND('Step 1) Select Data'!B1716=\"\",'Step 1) Select Data'!D1716<>\"\"),'Step 1) Select Data'!D1716,\"\")","v":""},"",{"$f":"IF(B1697=\"\",\"\",'Step 1) Select Data'!E1716)","v":""},"","","","","","",{"$f":"IF(J1697=\"\",\"\",'Step 3) Fit Distribution'!$F$3*E1697+'Step 3) Fit Distribution'!$F$4)","v":""},"","","","","","",""]
[null,{"$f":"IF(AND('Step 1) Select Data'!B1717=\"\",'Step 1) Select Data'!D1717<>\"\"),'Step 1) Select Data'!D1717,\"\")","v":""},"",{"$f":"IF(B1698=\"\",\"\",'Step 1) Select Data'!E1717)","v":""},"","","","","","",{"$f":"IF(J1698=\"\",\"\",'Step 3) Fit Distribution'!$F$3*E1698+'Step 3) Fit Distribution'!$F$4)","v":""},"","","","","","",""]
[null,{"$f":"IF(AND('Step 1) Select Data'!B1718=\"\",'Step 1) Select Data'!D1718<>\"\"),'Step 1) Select Data'!D1718,\"\")","v":""},"",{"$f":"IF(B1699=\"\",\"\",'Step 1) Select Data'!E1718)","v":""},"","","","","","",{"$f":"IF(J1699=\"\",\"\",'Step 3) Fit Distribution'!$F$3*E1699+'Step 3) Fit Distribution'!$F$4)","v":""},"","","","","","",""]
[null,{"$f":"IF(AND('Step 1) Select Data'!B1719=\"\",'Step 1) Select Data'!D1719<>\"\"),'Step 1) Select Data'!D1719,\"\")","v":""},"",{"$f":"IF(B1700=\"\",\"\",'Step 1) Select Data'!E1719)","v":""},"","","","","","",{"$f":"IF(J1700=\"\",\"\",'Step 3) Fit Distribution'!$F$3*E1700+'Step 3) Fit Distribution'!$F$4)","v":""},"","","","","","",""]
[null,{"$f":"IF(AND('Step 1) Select Data'!B1720=\"\",'Step 1) Select Data'!D1720<>\"\"),'Step 1) Select Data'!D1720,\"\")","v":""},"",{"$f":"IF(B1701=\"\",\"\",'Step 1) Select Data'!E1720)","v":""},"","","","","","",{"$f":"IF(J1701=\"\",\"\",'Step 3) Fit Distribution'!$F$3*E1701+'Step 3) Fit Distribution'!$F$4)","v":""},"","","","","","",""]
[null,{"$f":"IF(AND('Step 1) Select Data'!B1721=\"\",'Step 1) Select Data'!D1721<>\"\"),'Step 1) Select Data'!D1721,\"\")","v":""},"",{"$f":"IF(B1702=\"\",\"\",'Step 1) Select Data'!E1721)","v":""},"","","","","","",{"$f":"IF(J1702=\"\",\"\",'Step 3) Fit Distribution'!$F$3*E1702+'Step 3) Fit Distribution'!$F$4)","v":""},"","","","","","",""]
[null,{"$f":"IF(AND('Step 1) Select Data'!B1722=\"\",'Step 1) Select Data'!D1722<>\"\"),'Step 1) Select Data'!D1722,\"\")","v":""},"",{"$f":"IF(B1703=\"\",\"\",'Step 1) Select Data'!E1722)","v":""},"","","","","","",{"$f":"IF(J1703=\"\",\"\",'Step 3) Fit Distribution'!$F$3*E1703+'Step 3) Fit Distribution'!$F$4)","v":""},"","","","","","",""]
[null,{"$f":"IF(AND('Step 1) Select Data'!B1723=\"\",'Step 1) Select Data'!D1723<>\"\"),'Step 1) Select Data'!D1723,\"\")","v":""},"",{"$f":"IF(B1704=\"\",\"\",'Step 1) Select Data'!E1723)","v":""},"","","","","","",{"$f":"IF(J1704=\"\",\"\",'Step 3) Fit Distribution'!$F$3*E1704+'Step 3) Fit Distribution'!$F$4)","v":""},"","","","","","",""]
[null,{"$f":"IF(AND('Step 1) Select Data'!B1724=\"\",'Step 1) Select Data'!D1724<>\"\"),'Step 1) Select Data'!D1724,\"\")","v":""},"",{"$f":"IF(B1705=\"\",\"\",'Step 1) Select Data'!E1724)","v":""},"","","","","","",{"$f":"IF(J1705=\"\",\"\",'Step 3) Fit Distribution'!$F$3*E1705+'Step 3) Fit Distribution'!$F$4)","v":""},"","","","","","",""]
[null,{"$f":"IF(AND('Step 1) Select Data'!B1725=\"\",'Step 1) Select Data'!D1725<>\"\"),'Step 1) Select Data'!D1725,\"\")","v":""},"",{"$f":"IF(B1706=\"\",\"\",'Step 1) Select Data'!E1725)","v":""},"","","","","","",{"$f":"IF(J1706=\"\",\"\",'Step 3) Fit Distribution'!$F$3*E1706+'Step 3) Fit Distribution'!$F$4)","v":""},"","","","","","",""]
[null,{"$f":"IF(AND('Step 1) Select Data'!B1726=\"\",'Step 1) Select Data'!D1726<>\"\"),'Step 1) Select Data'!D1726,\"\")","v":""},"",{"$f":"IF(B1707=\"\",\"\",'Step 1) Select Data'!E1726)","v":""},"","","","","","",{"$f":"IF(J1707=\"\",\"\",'Step 3) Fit Distribution'!$F$3*E1707+'Step 3) Fit Distribution'!$F$4)","v":""},"","","","","","",""]
[null,{"$f":"IF(AND('Step 1) Select Data'!B1727=\"\",'Step 1) Select Data'!D1727<>\"\"),'Step 1) Select Data'!D1727,\"\")","v":""},"",{"$f":"IF(B1708=\"\",\"\",'Step 1) Select Data'!E1727)","v":""},"","","","","","",{"$f":"IF(J1708=\"\",\"\",'Step 3) Fit Distribution'!$F$3*E1708+'Step 3) Fit Distribution'!$F$4)","v":""},"","","","","","",""]
[null,{"$f":"IF(AND('Step 1) Select Data'!B1728=\"\",'Step 1) Select Data'!D1728<>\"\"),'Step 1) Select Data'!D1728,\"\")","v":""},"",{"$f":"IF(B1709=\"\",\"\",'Step 1) Select Data'!E1728)","v":""},"","","","","","",{"$f":"IF(J1709=\"\",\"\",'Step 3) Fit Distribution'!$F$3*E1709+'Step 3) Fit Distribution'!$F$4)","v":""},"","","","","","",""]
[null,{"$f":"IF(AND('Step 1) Select Data'!B1729=\"\",'Step 1) Select Data'!D1729<>\"\"),'Step 1) Select Data'!D1729,\"\")","v":""},"",{"$f":"IF(B1710=\"\",\"\",'Step 1) Select Data'!E1729)","v":""},"","","","","","",{"$f":"IF(J1710=\"\",\"\",'Step 3) Fit Distribution'!$F$3*E1710+'Step 3) Fit Distribution'!$F$4)","v":""},"","","","","","",""]
[null,{"$f":"IF(AND('Step 1) Select Data'!B1730=\"\",'Step 1) Select Data'!D1730<>\"\"),'Step 1) Select Data'!D1730,\"\")","v":""},"",{"$f":"IF(B1711=\"\",\"\",'Step 1) Select Data'!E1730)","v":""},"","","","","","",{"$f":"IF(J1711=\"\",\"\",'Step 3) Fit Distribution'!$F$3*E1711+'Step 3) Fit Distribution'!$F$4)","v":""},"","","","","","",""]
[null,{"$f":"IF(AND('Step 1) Select Data'!B1731=\"\",'Step 1) Select Data'!D1731<>\"\"),'Step 1) Select Data'!D1731,\"\")","v":""},"",{"$f":"IF(B1712=\"\",\"\",'Step 1) Select Data'!E1731)","v":""},"","","","","","",{"$f":"IF(J1712=\"\",\"\",'Step 3) Fit Distribution'!$F$3*E1712+'Step 3) Fit Distribution'!$F$4)","v":""},"","","","","","",""]
[null,{"$f":"IF(AND('Step 1) Select Data'!B1732=\"\",'Step 1) Select Data'!D1732<>\"\"),'Step 1) Select Data'!D1732,\"\")","v":""},"",{"$f":"IF(B1713=\"\",\"\",'Step 1) Select Data'!E1732)","v":""},"","","","","","",{"$f":"IF(J1713=\"\",\"\",'Step 3) Fit Distribution'!$F$3*E1713+'Step 3) Fit Distribution'!$F$4)","v":""},"","","","","","",""]
[null,{"$f":"IF(AND('Step 1) Select Data'!B1733=\"\",'Step 1) Select Data'!D1733<>\"\"),'Step 1) Select Data'!D1733,\"\")","v":""},"",{"$f":"IF(B1714=\"\",\"\",'Step 1) Select Data'!E1733)","v":""},"","","","","","",{"$f":"IF(J1714=\"\",\"\",'Step 3) Fit Distribution'!$F$3*E1714+'Step 3) Fit Distribution'!$F$4)","v":""},"","","","","","",""]
[null,{"$f":"IF(AND('Step 1) Select Data'!B1734=\"\",'Step 1) Select Data'!D1734<>\"\"),'Step 1) Select Data'!D1734,\"\")","v":""},"",{"$f":"IF(B1715=\"\",\"\",'Step 1) Select Data'!E1734)","v":""},"","","","","","",{"$f":"IF(J1715=\"\",\"\",'Step 3) Fit Distribution'!$F$3*E1715+'Step 3) Fit Distribution'!$F$4)","v":""},"","","","","","",""]
[null,{"$f":"IF(AND('Step 1) Select Data'!B1735=\"\",'Step 1) Select Data'!D1735<>\"\"),'Step 1) Select Data'!D1735,\"\")","v":""},"",{"$f":"IF(B1716=\"\",\"\",'Step 1) Select Data'!E1735)","v":""},"","","","","","",{"$f":"IF(J1716=\"\",\"\",'Step 3) Fit Distribution'!$F$3*E1716+'Step 3) Fit Distribution'!$F$4)","v":""},"","","","","","",""]
[null,{"$f":"IF(AND('Step 1) Select Data'!B1736=\"\",'Step 1) Select Data'!D1736<>\"\"),'Step 1) Select Data'!D1736,\"\")","v":""},"",{"$f":"IF(B1717=\"\",\"\",'Step 1) Select Data'!E1736)","v":""},"","","","","","",{"$f":"IF(J1717=\"\",\"\",'Step 3) Fit Distribution'!$F$3*E1717+'Step 3) Fit Distribution'!$F$4)","v":""},"","","","","","",""]
[null,{"$f":"IF(AND('Step 1) Select Data'!B1737=\"\",'Step 1) Select Data'!D1737<>\"\"),'Step 1) Select Data'!D1737,\"\")","v":""},"",{"$f":"IF(B1718=\"\",\"\",'Step 1) Select Data'!E1737)","v":""},"","","","","","",{"$f":"IF(J1718=\"\",\"\",'Step 3) Fit Distribution'!$F$3*E1718+'Step 3) Fit Distribution'!$F$4)","v":""},"","","","","","",""]
[null,{"$f":"IF(AND('Step 1) Select Data'!B1738=\"\",'Step 1) Select Data'!D1738<>\"\"),'Step 1) Select Data'!D1738,\"\")","v":""},"",{"$f":"IF(B1719=\"\",\"\",'Step 1) Select Data'!E1738)","v":""},"","","","","","",{"$f":"IF(J1719=\"\",\"\",'Step 3) Fit Distribution'!$F$3*E1719+'Step 3) Fit Distribution'!$F$4)","v":""},"","","","","","",""]
[null,{"$f":"IF(AND('Step 1) Select Data'!B1739=\"\",'Step 1) Select Data'!D1739<>\"\"),'Step 1) Select Data'!D1739,\"\")","v":""},"",{"$f":"IF(B1720=\"\",\"\",'Step 1) Select Data'!E1739)","v":""},"","","","","","",{"$f":"IF(J1720=\"\",\"\",'Step 3) Fit Distribution'!$F$3*E1720+'Step 3) Fit Distribution'!$F$4)","v":""},"","","","","","",""]
[null,{"$f":"IF(AND('Step 1) Select Data'!B1740=\"\",'Step 1) Select Data'!D1740<>\"\"),'Step 1) Select Data'!D1740,\"\")","v":""},"",{"$f":"IF(B1721=\"\",\"\",'Step 1) Select Data'!E1740)","v":""},"","","","","","",{"$f":"IF(J1721=\"\",\"\",'Step 3) Fit Distribution'!$F$3*E1721+'Step 3) Fit Distribution'!$F$4)","v":""},"","","","","","",""]
[null,{"$f":"IF(AND('Step 1) Select Data'!B1741=\"\",'Step 1) Select Data'!D1741<>\"\"),'Step 1) Select Data'!D1741,\"\")","v":""},"",{"$f":"IF(B1722=\"\",\"\",'Step 1) Select Data'!E1741)","v":""},"","","","","","",{"$f":"IF(J1722=\"\",\"\",'Step 3) Fit Distribution'!$F$3*E1722+'Step 3) Fit Distribution'!$F$4)","v":""},"","","","","","",""]
[null,{"$f":"IF(AND('Step 1) Select Data'!B1742=\"\",'Step 1) Select Data'!D1742<>\"\"),'Step 1) Select Data'!D1742,\"\")","v":""},"",{"$f":"IF(B1723=\"\",\"\",'Step 1) Select Data'!E1742)","v":""},"","","","","","",{"$f":"IF(J1723=\"\",\"\",'Step 3) Fit Distribution'!$F$3*E1723+'Step 3) Fit Distribution'!$F$4)","v":""},"","","","","","",""]
[null,{"$f":"IF(AND('Step 1) Select Data'!B1743=\"\",'Step 1) Select Data'!D1743<>\"\"),'Step 1) Select Data'!D1743,\"\")","v":""},"",{"$f":"IF(B1724=\"\",\"\",'Step 1) Select Data'!E1743)","v":""},"","","","","","",{"$f":"IF(J1724=\"\",\"\",'Step 3) Fit Distribution'!$F$3*E1724+'Step 3) Fit Distribution'!$F$4)","v":""},"","","","","","",""]
[null,{"$f":"IF(AND('Step 1) Select Data'!B1744=\"\",'Step 1) Select Data'!D1744<>\"\"),'Step 1) Select Data'!D1744,\"\")","v":""},"",{"$f":"IF(B1725=\"\",\"\",'Step 1) Select Data'!E1744)","v":""},"","","","","","",{"$f":"IF(J1725=\"\",\"\",'Step 3) Fit Distribution'!$F$3*E1725+'Step 3) Fit Distribution'!$F$4)","v":""},"","","","","","",""]
[null,{"$f":"IF(AND('Step 1) Select Data'!B1745=\"\",'Step 1) Select Data'!D1745<>\"\"),'Step 1) Select Data'!D1745,\"\")","v":""},"",{"$f":"IF(B1726=\"\",\"\",'Step 1) Select Data'!E1745)","v":""},"","","","","","",{"$f":"IF(J1726=\"\",\"\",'Step 3) Fit Distribution'!$F$3*E1726+'Step 3) Fit Distribution'!$F$4)","v":""},"","","","","","",""]
[null,{"$f":"IF(AND('Step 1) Select Data'!B1746=\"\",'Step 1) Select Data'!D1746<>\"\"),'Step 1) Select Data'!D1746,\"\")","v":""},"",{"$f":"IF(B1727=\"\",\"\",'Step 1) Select Data'!E1746)","v":""},"","","","","","",{"$f":"IF(J1727=\"\",\"\",'Step 3) Fit Distribution'!$F$3*E1727+'Step 3) Fit Distribution'!$F$4)","v":""},"","","","","","",""]
[null,{"$f":"IF(AND('Step 1) Select Data'!B1747=\"\",'Step 1) Select Data'!D1747<>\"\"),'Step 1) Select Data'!D1747,\"\")","v":""},"",{"$f":"IF(B1728=\"\",\"\",'Step 1) Select Data'!E1747)","v":""},"","","","","","",{"$f":"IF(J1728=\"\",\"\",'Step 3) Fit Distribution'!$F$3*E1728+'Step 3) Fit Distribution'!$F$4)","v":""},"","","","","","",""]
[null,{"$f":"IF(AND('Step 1) Select Data'!B1748=\"\",'Step 1) Select Data'!D1748<>\"\"),'Step 1) Select Data'!D1748,\"\")","v":""},"",{"$f":"IF(B1729=\"\",\"\",'Step 1) Select Data'!E1748)","v":""},"","","","","","",{"$f":"IF(J1729=\"\",\"\",'Step 3) Fit Distribution'!$F$3*E1729+'Step 3) Fit Distribution'!$F$4)","v":""},"","","","","","",""]
[null,{"$f":"IF(AND('Step 1) Select Data'!B1749=\"\",'Step 1) Select Data'!D1749<>\"\"),'Step 1) Select Data'!D1749,\"\")","v":""},"",{"$f":"IF(B1730=\"\",\"\",'Step 1) Select Data'!E1749)","v":""},"","","","","","",{"$f":"IF(J1730=\"\",\"\",'Step 3) Fit Distribution'!$F$3*E1730+'Step 3) Fit Distribution'!$F$4)","v":""},"","","","","","",""]
[null,{"$f":"IF(AND('Step 1) Select Data'!B1750=\"\",'Step 1) Select Data'!D1750<>\"\"),'Step 1) Select Data'!D1750,\"\")","v":""},"",{"$f":"IF(B1731=\"\",\"\",'Step 1) Select Data'!E1750)","v":""},"","","","","","",{"$f":"IF(J1731=\"\",\"\",'Step 3) Fit Distribution'!$F$3*E1731+'Step 3) Fit Distribution'!$F$4)","v":""},"","","","","","",""]
[null,{"$f":"IF(AND('Step 1) Select Data'!B1751=\"\",'Step 1) Select Data'!D1751<>\"\"),'Step 1) Select Data'!D1751,\"\")","v":""},"",{"$f":"IF(B1732=\"\",\"\",'Step 1) Select Data'!E1751)","v":""},"","","","","","",{"$f":"IF(J1732=\"\",\"\",'Step 3) Fit Distribution'!$F$3*E1732+'Step 3) Fit Distribution'!$F$4)","v":""},"","","","","","",""]
[null,{"$f":"IF(AND('Step 1) Select Data'!B1752=\"\",'Step 1) Select Data'!D1752<>\"\"),'Step 1) Select Data'!D1752,\"\")","v":""},"",{"$f":"IF(B1733=\"\",\"\",'Step 1) Select Data'!E1752)","v":""},"","","","","","",{"$f":"IF(J1733=\"\",\"\",'Step 3) Fit Distribution'!$F$3*E1733+'Step 3) Fit Distribution'!$F$4)","v":""},"","","","","","",""]
[null,{"$f":"IF(AND('Step 1) Select Data'!B1753=\"\",'Step 1) Select Data'!D1753<>\"\"),'Step 1) Select Data'!D1753,\"\")","v":""},"",{"$f":"IF(B1734=\"\",\"\",'Step 1) Select Data'!E1753)","v":""},"","","","","","",{"$f":"IF(J1734=\"\",\"\",'Step 3) Fit Distribution'!$F$3*E1734+'Step 3) Fit Distribution'!$F$4)","v":""},"","","","","","",""]
[null,{"$f":"IF(AND('Step 1) Select Data'!B1754=\"\",'Step 1) Select Data'!D1754<>\"\"),'Step 1) Select Data'!D1754,\"\")","v":""},{"$f":"IF(B1735=\"\",\"\",IF(OR(M1735>=M1736,M1736=\"\"),M1735,\"\"))","v":""},{"$f":"IF(B1735=\"\",\"\",'Step 1) Select Data'!E1754)","v":""},{"$f":"IF(C1735=\"\",\"\",LOG10(N1735)*(1/C1735))","v":""},{"$f":"IF(OR(M1735=\"\",C1735=1),\"\",IF(C1735=\"\",\"\",SQRT(R1735/(C1735-1))))","v":""},{"$f":"IF(E1735=\"\",\"\",10^E1735)","v":""},{"$f":"IF(I1735=\"\",\"\",(I1735-0.5)/COUNT($E$6:$E$2004))","v":""},{"$f":"IF(E1735=\"\",\"\",RANK(E1735,$E$6:$E$2004,1))","v":""},{"$f":"IF(H1735=\"\",\"\",NORMINV(H1735,5,1))","v":""},{"$f":"IF(J1735=\"\",\"\",'Step 3) Fit Distribution'!$F$3*E1735+'Step 3) Fit Distribution'!$F$4)","v":""},{"$f":"IF(K1735=\"\",\"\",(K1735-J1735)^2)","v":""},{"$f":"IF(B1735=\"\",\"\",IF(B1735<>B1734,1,M1734+1))","v":""},{"$f":"IF(B1735=\"\",\"\",IF(B1735<>B1734,ROUND(D1735,4),ROUND(D1735,4)*N1734))","v":""},{"$f":"IF(OR(M1735=\"\",C1735=1),\"\",IF(AND(M1735<>\"\",C1735=\"\",E1735=\"\"),O1736,E1735))","v":""},{"$f":"IF(OR(M1735=\"\",C1735=1),\"\",IF(AND(M1735<>\"\",C1735=\"\",E1735=\"\"),P1736,C1735))","v":""},"",{"$f":"IF(Q1735=\"\",\"\",IF(O1735=O1734,Q1735+R1734,Q1735))","v":""}]
[null,{"$f":"IF(AND('Step 1) Select Data'!B1755=\"\",'Step 1) Select Data'!D1755<>\"\"),'Step 1) Select Data'!D1755,\"\")","v":""},"",{"$f":"IF(B1736=\"\",\"\",'Step 1) Select Data'!E1755)","v":""},"","","","","","",{"$f":"IF(J1736=\"\",\"\",'Step 3) Fit Distribution'!$F$3*E1736+'Step 3) Fit Distribution'!$F$4)","v":""},"","","","","","",""]
[null,{"$f":"IF(AND('Step 1) Select Data'!B1756=\"\",'Step 1) Select Data'!D1756<>\"\"),'Step 1) Select Data'!D1756,\"\")","v":""},"",{"$f":"IF(B1737=\"\",\"\",'Step 1) Select Data'!E1756)","v":""},"","","","","","",{"$f":"IF(J1737=\"\",\"\",'Step 3) Fit Distribution'!$F$3*E1737+'Step 3) Fit Distribution'!$F$4)","v":""},"","","","","","",""]
[null,{"$f":"IF(AND('Step 1) Select Data'!B1757=\"\",'Step 1) Select Data'!D1757<>\"\"),'Step 1) Select Data'!D1757,\"\")","v":""},"",{"$f":"IF(B1738=\"\",\"\",'Step 1) Select Data'!E1757)","v":""},"","","","","","",{"$f":"IF(J1738=\"\",\"\",'Step 3) Fit Distribution'!$F$3*E1738+'Step 3) Fit Distribution'!$F$4)","v":""},"","","","","","",""]
[null,{"$f":"IF(AND('Step 1) Select Data'!B1758=\"\",'Step 1) Select Data'!D1758<>\"\"),'Step 1) Select Data'!D1758,\"\")","v":""},"",{"$f":"IF(B1739=\"\",\"\",'Step 1) Select Data'!E1758)","v":""},"","","","","","",{"$f":"IF(J1739=\"\",\"\",'Step 3) Fit Distribution'!$F$3*E1739+'Step 3) Fit Distribution'!$F$4)","v":""},"","","","","","",""]
[null,{"$f":"IF(AND('Step 1) Select Data'!B1759=\"\",'Step 1) Select Data'!D1759<>\"\"),'Step 1) Select Data'!D1759,\"\")","v":""},"",{"$f":"IF(B1740=\"\",\"\",'Step 1) Select Data'!E1759)","v":""},"","","","","","",{"$f":"IF(J1740=\"\",\"\",'Step 3) Fit Distribution'!$F$3*E1740+'Step 3) Fit Distribution'!$F$4)","v":""},"","","","","","",""]
[null,{"$f":"IF(AND('Step 1) Select Data'!B1760=\"\",'Step 1) Select Data'!D1760<>\"\"),'Step 1) Select Data'!D1760,\"\")","v":""},"",{"$f":"IF(B1741=\"\",\"\",'Step 1) Select Data'!E1760)","v":""},"","","","","","",{"$f":"IF(J1741=\"\",\"\",'Step 3) Fit Distribution'!$F$3*E1741+'Step 3) Fit Distribution'!$F$4)","v":""},"","","","","","",""]
[null,{"$f":"IF(AND('Step 1) Select Data'!B1761=\"\",'Step 1) Select Data'!D1761<>\"\"),'Step 1) Select Data'!D1761,\"\")","v":""},"",{"$f":"IF(B1742=\"\",\"\",'Step 1) Select Data'!E1761)","v":""},"","","","","","",{"$f":"IF(J1742=\"\",\"\",'Step 3) Fit Distribution'!$F$3*E1742+'Step 3) Fit Distribution'!$F$4)","v":""},"","","","","","",""]
[null,{"$f":"IF(AND('Step 1) Select Data'!B1762=\"\",'Step 1) Select Data'!D1762<>\"\"),'Step 1) Select Data'!D1762,\"\")","v":""},"",{"$f":"IF(B1743=\"\",\"\",'Step 1) Select Data'!E1762)","v":""},"","","","","","",{"$f":"IF(J1743=\"\",\"\",'Step 3) Fit Distribution'!$F$3*E1743+'Step 3) Fit Distribution'!$F$4)","v":""},"","","","","","",""]
[null,{"$f":"IF(AND('Step 1) Select Data'!B1763=\"\",'Step 1) Select Data'!D1763<>\"\"),'Step 1) Select Data'!D1763,\"\")","v":""},"",{"$f":"IF(B1744=\"\",\"\",'Step 1) Select Data'!E1763)","v":""},"","","","","","",{"$f":"IF(J1744=\"\",\"\",'Step 3) Fit Distribution'!$F$3*E1744+'Step 3) Fit Distribution'!$F$4)","v":""},"","","","","","",""]
[null,{"$f":"IF(AND('Step 1) Select Data'!B1764=\"\",'Step 1) Select Data'!D1764<>\"\"),'Step 1) Select Data'!D1764,\"\")","v":""},"",{"$f":"IF(B1745=\"\",\"\",'Step 1) Select Data'!E1764)","v":""},"","","","","","",{"$f":"IF(J1745=\"\",\"\",'Step 3) Fit Distribution'!$F$3*E1745+'Step 3) Fit Distribution'!$F$4)","v":""},"","","","","","",""]
[null,{"$f":"IF(AND('Step 1) Select Data'!B1765=\"\",'Step 1) Select Data'!D1765<>\"\"),'Step 1) Select Data'!D1765,\"\")","v":""},"",{"$f":"IF(B1746=\"\",\"\",'Step 1) Select Data'!E1765)","v":""},"","","","","","",{"$f":"IF(J1746=\"\",\"\",'Step 3) Fit Distribution'!$F$3*E1746+'Step 3) Fit Distribution'!$F$4)","v":""},"","","","","","",""]
[null,{"$f":"IF(AND('Step 1) Select Data'!B1766=\"\",'Step 1) Select Data'!D1766<>\"\"),'Step 1) Select Data'!D1766,\"\")","v":""},"",{"$f":"IF(B1747=\"\",\"\",'Step 1) Select Data'!E1766)","v":""},"","","","","","",{"$f":"IF(J1747=\"\",\"\",'Step 3) Fit Distribution'!$F$3*E1747+'Step 3) Fit Distribution'!$F$4)","v":""},"","","","","","",""]
[null,{"$f":"IF(AND('Step 1) Select Data'!B1767=\"\",'Step 1) Select Data'!D1767<>\"\"),'Step 1) Select Data'!D1767,\"\")","v":""},"",{"$f":"IF(B1748=\"\",\"\",'Step 1) Select Data'!E1767)","v":""},"","","","","","",{"$f":"IF(J1748=\"\",\"\",'Step 3) Fit Distribution'!$F$3*E1748+'Step 3) Fit Distribution'!$F$4)","v":""},"","","","","",{"$f":"IF(O1748=\"\",\"\",ROUND(LOG(D1748)-O1748,4)^2)","v":""},""]
[null,{"$f":"IF(AND('Step 1) Select Data'!B1768=\"\",'Step 1) Select Data'!D1768<>\"\"),'Step 1) Select Data'!D1768,\"\")","v":""},"",{"$f":"IF(B1749=\"\",\"\",'Step 1) Select Data'!E1768)","v":""},"","","","","","",{"$f":"IF(J1749=\"\",\"\",'Step 3) Fit Distribution'!$F$3*E1749+'Step 3) Fit Distribution'!$F$4)","v":""},"","","","","","",""]
[null,{"$f":"IF(AND('Step 1) Select Data'!B1769=\"\",'Step 1) Select Data'!D1769<>\"\"),'Step 1) Select Data'!D1769,\"\")","v":""},"",{"$f":"IF(B1750=\"\",\"\",'Step 1) Select Data'!E1769)","v":""},"","","","","","",{"$f":"IF(J1750=\"\",\"\",'Step 3) Fit Distribution'!$F$3*E1750+'Step 3) Fit Distribution'!$F$4)","v":""},"","","","","","",""]
[null,{"$f":"IF(AND('Step 1) Select Data'!B1770=\"\",'Step 1) Select Data'!D1770<>\"\"),'Step 1) Select Data'!D1770,\"\")","v":""},"",{"$f":"IF(B1751=\"\",\"\",'Step 1) Select Data'!E1770)","v":""},"","","","","","",{"$f":"IF(J1751=\"\",\"\",'Step 3) Fit Distribution'!$F$3*E1751+'Step 3) Fit Distribution'!$F$4)","v":""},"","","","","","",""]
[null,{"$f":"IF(AND('Step 1) Select Data'!B1771=\"\",'Step 1) Select Data'!D1771<>\"\"),'Step 1) Select Data'!D1771,\"\")","v":""},"",{"$f":"IF(B1752=\"\",\"\",'Step 1) Select Data'!E1771)","v":""},"","","","","","",{"$f":"IF(J1752=\"\",\"\",'Step 3) Fit Distribution'!$F$3*E1752+'Step 3) Fit Distribution'!$F$4)","v":""},"","","","","","",""]
[null,{"$f":"IF(AND('Step 1) Select Data'!B1772=\"\",'Step 1) Select Data'!D1772<>\"\"),'Step 1) Select Data'!D1772,\"\")","v":""},"",{"$f":"IF(B1753=\"\",\"\",'Step 1) Select Data'!E1772)","v":""},"","","","","","",{"$f":"IF(J1753=\"\",\"\",'Step 3) Fit Distribution'!$F$3*E1753+'Step 3) Fit Distribution'!$F$4)","v":""},"","","","","","",""]
[null,{"$f":"IF(AND('Step 1) Select Data'!B1773=\"\",'Step 1) Select Data'!D1773<>\"\"),'Step 1) Select Data'!D1773,\"\")","v":""},"",{"$f":"IF(B1754=\"\",\"\",'Step 1) Select Data'!E1773)","v":""},"","","","","","",{"$f":"IF(J1754=\"\",\"\",'Step 3) Fit Distribution'!$F$3*E1754+'Step 3) Fit Distribution'!$F$4)","v":""},"","","","","","",""]
[null,{"$f":"IF(AND('Step 1) Select Data'!B1774=\"\",'Step 1) Select Data'!D1774<>\"\"),'Step 1) Select Data'!D1774,\"\")","v":""},"",{"$f":"IF(B1755=\"\",\"\",'Step 1) Select Data'!E1774)","v":""},"","","","","","",{"$f":"IF(J1755=\"\",\"\",'Step 3) Fit Distribution'!$F$3*E1755+'Step 3) Fit Distribution'!$F$4)","v":""},"","","","","","",""]
[null,{"$f":"IF(AND('Step 1) Select Data'!B1775=\"\",'Step 1) Select Data'!D1775<>\"\"),'Step 1) Select Data'!D1775,\"\")","v":""},"",{"$f":"IF(B1756=\"\",\"\",'Step 1) Select Data'!E1775)","v":""},"","","","","","",{"$f":"IF(J1756=\"\",\"\",'Step 3) Fit Distribution'!$F$3*E1756+'Step 3) Fit Distribution'!$F$4)","v":""},"","","","","","",""]
[null,{"$f":"IF(AND('Step 1) Select Data'!B1776=\"\",'Step 1) Select Data'!D1776<>\"\"),'Step 1) Select Data'!D1776,\"\")","v":""},"",{"$f":"IF(B1757=\"\",\"\",'Step 1) Select Data'!E1776)","v":""},"","","","","","",{"$f":"IF(J1757=\"\",\"\",'Step 3) Fit Distribution'!$F$3*E1757+'Step 3) Fit Distribution'!$F$4)","v":""},"","","","","","",""]
[null,{"$f":"IF(AND('Step 1) Select Data'!B1777=\"\",'Step 1) Select Data'!D1777<>\"\"),'Step 1) Select Data'!D1777,\"\")","v":""},"",{"$f":"IF(B1758=\"\",\"\",'Step 1) Select Data'!E1777)","v":""},"","","","","","",{"$f":"IF(J1758=\"\",\"\",'Step 3) Fit Distribution'!$F$3*E1758+'Step 3) Fit Distribution'!$F$4)","v":""},"","","","","","",""]
[null,{"$f":"IF(AND('Step 1) Select Data'!B1778=\"\",'Step 1) Select Data'!D1778<>\"\"),'Step 1) Select Data'!D1778,\"\")","v":""},"",{"$f":"IF(B1759=\"\",\"\",'Step 1) Select Data'!E1778)","v":""},"","","","","","",{"$f":"IF(J1759=\"\",\"\",'Step 3) Fit Distribution'!$F$3*E1759+'Step 3) Fit Distribution'!$F$4)","v":""},"","","","","","",""]
[null,{"$f":"IF(AND('Step 1) Select Data'!B1779=\"\",'Step 1) Select Data'!D1779<>\"\"),'Step 1) Select Data'!D1779,\"\")","v":""},"",{"$f":"IF(B1760=\"\",\"\",'Step 1) Select Data'!E1779)","v":""},"","","","","","",{"$f":"IF(J1760=\"\",\"\",'Step 3) Fit Distribution'!$F$3*E1760+'Step 3) Fit Distribution'!$F$4)","v":""},"","","","","","",""]
[null,{"$f":"IF(AND('Step 1) Select Data'!B1780=\"\",'Step 1) Select Data'!D1780<>\"\"),'Step 1) Select Data'!D1780,\"\")","v":""},"",{"$f":"IF(B1761=\"\",\"\",'Step 1) Select Data'!E1780)","v":""},"","","","","","",{"$f":"IF(J1761=\"\",\"\",'Step 3) Fit Distribution'!$F$3*E1761+'Step 3) Fit Distribution'!$F$4)","v":""},"","","","","","",""]
[null,{"$f":"IF(AND('Step 1) Select Data'!B1781=\"\",'Step 1) Select Data'!D1781<>\"\"),'Step 1) Select Data'!D1781,\"\")","v":""},"",{"$f":"IF(B1762=\"\",\"\",'Step 1) Select Data'!E1781)","v":""},"","","","","","",{"$f":"IF(J1762=\"\",\"\",'Step 3) Fit Distribution'!$F$3*E1762+'Step 3) Fit Distribution'!$F$4)","v":""},"","","","","","",""]
[null,{"$f":"IF(AND('Step 1) Select Data'!B1782=\"\",'Step 1) Select Data'!D1782<>\"\"),'Step 1) Select Data'!D1782,\"\")","v":""},"",{"$f":"IF(B1763=\"\",\"\",'Step 1) Select Data'!E1782)","v":""},"","","","","","",{"$f":"IF(J1763=\"\",\"\",'Step 3) Fit Distribution'!$F$3*E1763+'Step 3) Fit Distribution'!$F$4)","v":""},"","","","","","",""]
[null,{"$f":"IF(AND('Step 1) Select Data'!B1783=\"\",'Step 1) Select Data'!D1783<>\"\"),'Step 1) Select Data'!D1783,\"\")","v":""},"",{"$f":"IF(B1764=\"\",\"\",'Step 1) Select Data'!E1783)","v":""},"","","","","","",{"$f":"IF(J1764=\"\",\"\",'Step 3) Fit Distribution'!$F$3*E1764+'Step 3) Fit Distribution'!$F$4)","v":""},"","","","","","",""]
[null,{"$f":"IF(AND('Step 1) Select Data'!B1784=\"\",'Step 1) Select Data'!D1784<>\"\"),'Step 1) Select Data'!D1784,\"\")","v":""},"",{"$f":"IF(B1765=\"\",\"\",'Step 1) Select Data'!E1784)","v":""},"","","","","","",{"$f":"IF(J1765=\"\",\"\",'Step 3) Fit Distribution'!$F$3*E1765+'Step 3) Fit Distribution'!$F$4)","v":""},"","","","","","",""]
[null,{"$f":"IF(AND('Step 1) Select Data'!B1785=\"\",'Step 1) Select Data'!D1785<>\"\"),'Step 1) Select Data'!D1785,\"\")","v":""},"",{"$f":"IF(B1766=\"\",\"\",'Step 1) Select Data'!E1785)","v":""},"","","","","","",{"$f":"IF(J1766=\"\",\"\",'Step 3) Fit Distribution'!$F$3*E1766+'Step 3) Fit Distribution'!$F$4)","v":""},"","","","","","",""]
[null,{"$f":"IF(AND('Step 1) Select Data'!B1786=\"\",'Step 1) Select Data'!D1786<>\"\"),'Step 1) Select Data'!D1786,\"\")","v":""},"",{"$f":"IF(B1767=\"\",\"\",'Step 1) Select Data'!E1786)","v":""},"","","","","","",{"$f":"IF(J1767=\"\",\"\",'Step 3) Fit Distribution'!$F$3*E1767+'Step 3) Fit Distribution'!$F$4)","v":""},"","","","","","",""]
[null,{"$f":"IF(AND('Step 1) Select Data'!B1787=\"\",'Step 1) Select Data'!D1787<>\"\"),'Step 1) Select Data'!D1787,\"\")","v":""},"",{"$f":"IF(B1768=\"\",\"\",'Step 1) Select Data'!E1787)","v":""},"","","","","","",{"$f":"IF(J1768=\"\",\"\",'Step 3) Fit Distribution'!$F$3*E1768+'Step 3) Fit Distribution'!$F$4)","v":""},"","","","","","",""]
[null,{"$f":"IF(AND('Step 1) Select Data'!B1788=\"\",'Step 1) Select Data'!D1788<>\"\"),'Step 1) Select Data'!D1788,\"\")","v":""},"",{"$f":"IF(B1769=\"\",\"\",'Step 1) Select Data'!E1788)","v":""},"","","","","","",{"$f":"IF(J1769=\"\",\"\",'Step 3) Fit Distribution'!$F$3*E1769+'Step 3) Fit Distribution'!$F$4)","v":""},"","","","","","",""]
[null,{"$f":"IF(AND('Step 1) Select Data'!B1789=\"\",'Step 1) Select Data'!D1789<>\"\"),'Step 1) Select Data'!D1789,\"\")","v":""},"",{"$f":"IF(B1770=\"\",\"\",'Step 1) Select Data'!E1789)","v":""},"","","","","","",{"$f":"IF(J1770=\"\",\"\",'Step 3) Fit Distribution'!$F$3*E1770+'Step 3) Fit Distribution'!$F$4)","v":""},"","","","","","",""]
[null,{"$f":"IF(AND('Step 1) Select Data'!B1790=\"\",'Step 1) Select Data'!D1790<>\"\"),'Step 1) Select Data'!D1790,\"\")","v":""},"",{"$f":"IF(B1771=\"\",\"\",'Step 1) Select Data'!E1790)","v":""},"","","","","","",{"$f":"IF(J1771=\"\",\"\",'Step 3) Fit Distribution'!$F$3*E1771+'Step 3) Fit Distribution'!$F$4)","v":""},"","","","","","",""]
[null,{"$f":"IF(AND('Step 1) Select Data'!B1791=\"\",'Step 1) Select Data'!D1791<>\"\"),'Step 1) Select Data'!D1791,\"\")","v":""},"",{"$f":"IF(B1772=\"\",\"\",'Step 1) Select Data'!E1791)","v":""},"","","","","","",{"$f":"IF(J1772=\"\",\"\",'Step 3) Fit Distribution'!$F$3*E1772+'Step 3) Fit Distribution'!$F$4)","v":""},"","","","","","",""]
[null,{"$f":"IF(AND('Step 1) Select Data'!B1792=\"\",'Step 1) Select Data'!D1792<>\"\"),'Step 1) Select Data'!D1792,\"\")","v":""},"",{"$f":"IF(B1773=\"\",\"\",'Step 1) Select Data'!E1792)","v":""},"","","","","","",{"$f":"IF(J1773=\"\",\"\",'Step 3) Fit Distribution'!$F$3*E1773+'Step 3) Fit Distribution'!$F$4)","v":""},"","","","","","",""]
[null,{"$f":"IF(AND('Step 1) Select Data'!B1793=\"\",'Step 1) Select Data'!D1793<>\"\"),'Step 1) Select Data'!D1793,\"\")","v":""},"",{"$f":"IF(B1774=\"\",\"\",'Step 1) Select Data'!E1793)","v":""},"","","","","","",{"$f":"IF(J1774=\"\",\"\",'Step 3) Fit Distribution'!$F$3*E1774+'Step 3) Fit Distribution'!$F$4)","v":""},"","","","","","",""]
[null,{"$f":"IF(AND('Step 1) Select Data'!B1794=\"\",'Step 1) Select Data'!D1794<>\"\"),'Step 1) Select Data'!D1794,\"\")","v":""},"",{"$f":"IF(B1775=\"\",\"\",'Step 1) Select Data'!E1794)","v":""},"","","","","","",{"$f":"IF(J1775=\"\",\"\",'Step 3) Fit Distribution'!$F$3*E1775+'Step 3) Fit Distribution'!$F$4)","v":""},"","","","","","",""]
[null,{"$f":"IF(AND('Step 1) Select Data'!B1795=\"\",'Step 1) Select Data'!D1795<>\"\"),'Step 1) Select Data'!D1795,\"\")","v":""},"",{"$f":"IF(B1776=\"\",\"\",'Step 1) Select Data'!E1795)","v":""},"","","","","","",{"$f":"IF(J1776=\"\",\"\",'Step 3) Fit Distribution'!$F$3*E1776+'Step 3) Fit Distribution'!$F$4)","v":""},"","","","","","",""]
[null,{"$f":"IF(AND('Step 1) Select Data'!B1796=\"\",'Step 1) Select Data'!D1796<>\"\"),'Step 1) Select Data'!D1796,\"\")","v":""},"",{"$f":"IF(B1777=\"\",\"\",'Step 1) Select Data'!E1796)","v":""},"","","","","","",{"$f":"IF(J1777=\"\",\"\",'Step 3) Fit Distribution'!$F$3*E1777+'Step 3) Fit Distribution'!$F$4)","v":""},"","","","","","",""]
[null,{"$f":"IF(AND('Step 1) Select Data'!B1797=\"\",'Step 1) Select Data'!D1797<>\"\"),'Step 1) Select Data'!D1797,\"\")","v":""},"",{"$f":"IF(B1778=\"\",\"\",'Step 1) Select Data'!E1797)","v":""},"","","","","","",{"$f":"IF(J1778=\"\",\"\",'Step 3) Fit Distribution'!$F$3*E1778+'Step 3) Fit Distribution'!$F$4)","v":""},"","","","","","",""]
[null,{"$f":"IF(AND('Step 1) Select Data'!B1798=\"\",'Step 1) Select Data'!D1798<>\"\"),'Step 1) Select Data'!D1798,\"\")","v":""},"",{"$f":"IF(B1779=\"\",\"\",'Step 1) Select Data'!E1798)","v":""},"","","","","","",{"$f":"IF(J1779=\"\",\"\",'Step 3) Fit Distribution'!$F$3*E1779+'Step 3) Fit Distribution'!$F$4)","v":""},"","","","","","",""]
[null,{"$f":"IF(AND('Step 1) Select Data'!B1799=\"\",'Step 1) Select Data'!D1799<>\"\"),'Step 1) Select Data'!D1799,\"\")","v":""},"",{"$f":"IF(B1780=\"\",\"\",'Step 1) Select Data'!E1799)","v":""},"","","","","","",{"$f":"IF(J1780=\"\",\"\",'Step 3) Fit Distribution'!$F$3*E1780+'Step 3) Fit Distribution'!$F$4)","v":""},"","","","","","",""]
[null,{"$f":"IF(AND('Step 1) Select Data'!B1800=\"\",'Step 1) Select Data'!D1800<>\"\"),'Step 1) Select Data'!D1800,\"\")","v":""},"",{"$f":"IF(B1781=\"\",\"\",'Step 1) Select Data'!E1800)","v":""},"","","","","","",{"$f":"IF(J1781=\"\",\"\",'Step 3) Fit Distribution'!$F$3*E1781+'Step 3) Fit Distribution'!$F$4)","v":""},"","","","","","",""]
[null,{"$f":"IF(AND('Step 1) Select Data'!B1801=\"\",'Step 1) Select Data'!D1801<>\"\"),'Step 1) Select Data'!D1801,\"\")","v":""},"",{"$f":"IF(B1782=\"\",\"\",'Step 1) Select Data'!E1801)","v":""},"","","","","","",{"$f":"IF(J1782=\"\",\"\",'Step 3) Fit Distribution'!$F$3*E1782+'Step 3) Fit Distribution'!$F$4)","v":""},"","","","","","",""]
[null,{"$f":"IF(AND('Step 1) Select Data'!B1802=\"\",'Step 1) Select Data'!D1802<>\"\"),'Step 1) Select Data'!D1802,\"\")","v":""},"",{"$f":"IF(B1783=\"\",\"\",'Step 1) Select Data'!E1802)","v":""},"","","","","","",{"$f":"IF(J1783=\"\",\"\",'Step 3) Fit Distribution'!$F$3*E1783+'Step 3) Fit Distribution'!$F$4)","v":""},"","","","","","",""]
[null,{"$f":"IF(AND('Step 1) Select Data'!B1803=\"\",'Step 1) Select Data'!D1803<>\"\"),'Step 1) Select Data'!D1803,\"\")","v":""},"",{"$f":"IF(B1784=\"\",\"\",'Step 1) Select Data'!E1803)","v":""},"","","","","","",{"$f":"IF(J1784=\"\",\"\",'Step 3) Fit Distribution'!$F$3*E1784+'Step 3) Fit Distribution'!$F$4)","v":""},"","","","","","",""]
[null,{"$f":"IF(AND('Step 1) Select Data'!B1804=\"\",'Step 1) Select Data'!D1804<>\"\"),'Step 1) Select Data'!D1804,\"\")","v":""},"",{"$f":"IF(B1785=\"\",\"\",'Step 1) Select Data'!E1804)","v":""},"","","","","","",{"$f":"IF(J1785=\"\",\"\",'Step 3) Fit Distribution'!$F$3*E1785+'Step 3) Fit Distribution'!$F$4)","v":""},"","","","","","",""]
[null,{"$f":"IF(AND('Step 1) Select Data'!B1805=\"\",'Step 1) Select Data'!D1805<>\"\"),'Step 1) Select Data'!D1805,\"\")","v":""},"",{"$f":"IF(B1786=\"\",\"\",'Step 1) Select Data'!E1805)","v":""},"","","","","","",{"$f":"IF(J1786=\"\",\"\",'Step 3) Fit Distribution'!$F$3*E1786+'Step 3) Fit Distribution'!$F$4)","v":""},"","","","","","",""]
[null,{"$f":"IF(AND('Step 1) Select Data'!B1806=\"\",'Step 1) Select Data'!D1806<>\"\"),'Step 1) Select Data'!D1806,\"\")","v":""},"",{"$f":"IF(B1787=\"\",\"\",'Step 1) Select Data'!E1806)","v":""},"","","","","","",{"$f":"IF(J1787=\"\",\"\",'Step 3) Fit Distribution'!$F$3*E1787+'Step 3) Fit Distribution'!$F$4)","v":""},"","","","","","",""]
[null,{"$f":"IF(AND('Step 1) Select Data'!B1807=\"\",'Step 1) Select Data'!D1807<>\"\"),'Step 1) Select Data'!D1807,\"\")","v":""},"",{"$f":"IF(B1788=\"\",\"\",'Step 1) Select Data'!E1807)","v":""},"","","","","","",{"$f":"IF(J1788=\"\",\"\",'Step 3) Fit Distribution'!$F$3*E1788+'Step 3) Fit Distribution'!$F$4)","v":""},"","","","","","",""]
[null,{"$f":"IF(AND('Step 1) Select Data'!B1808=\"\",'Step 1) Select Data'!D1808<>\"\"),'Step 1) Select Data'!D1808,\"\")","v":""},"",{"$f":"IF(B1789=\"\",\"\",'Step 1) Select Data'!E1808)","v":""},"","","","","","",{"$f":"IF(J1789=\"\",\"\",'Step 3) Fit Distribution'!$F$3*E1789+'Step 3) Fit Distribution'!$F$4)","v":""},"","","","","","",""]
[null,{"$f":"IF(AND('Step 1) Select Data'!B1809=\"\",'Step 1) Select Data'!D1809<>\"\"),'Step 1) Select Data'!D1809,\"\")","v":""},"",{"$f":"IF(B1790=\"\",\"\",'Step 1) Select Data'!E1809)","v":""},"","","","","","",{"$f":"IF(J1790=\"\",\"\",'Step 3) Fit Distribution'!$F$3*E1790+'Step 3) Fit Distribution'!$F$4)","v":""},"","","","","","",""]
[null,{"$f":"IF(AND('Step 1) Select Data'!B1810=\"\",'Step 1) Select Data'!D1810<>\"\"),'Step 1) Select Data'!D1810,\"\")","v":""},"",{"$f":"IF(B1791=\"\",\"\",'Step 1) Select Data'!E1810)","v":""},"","","","","","",{"$f":"IF(J1791=\"\",\"\",'Step 3) Fit Distribution'!$F$3*E1791+'Step 3) Fit Distribution'!$F$4)","v":""},"","","","","","",""]
[null,{"$f":"IF(AND('Step 1) Select Data'!B1811=\"\",'Step 1) Select Data'!D1811<>\"\"),'Step 1) Select Data'!D1811,\"\")","v":""},"",{"$f":"IF(B1792=\"\",\"\",'Step 1) Select Data'!E1811)","v":""},"","","","","","",{"$f":"IF(J1792=\"\",\"\",'Step 3) Fit Distribution'!$F$3*E1792+'Step 3) Fit Distribution'!$F$4)","v":""},"","","","","","",""]
[null,{"$f":"IF(AND('Step 1) Select Data'!B1812=\"\",'Step 1) Select Data'!D1812<>\"\"),'Step 1) Select Data'!D1812,\"\")","v":""},"",{"$f":"IF(B1793=\"\",\"\",'Step 1) Select Data'!E1812)","v":""},"","","","","","",{"$f":"IF(J1793=\"\",\"\",'Step 3) Fit Distribution'!$F$3*E1793+'Step 3) Fit Distribution'!$F$4)","v":""},"","","","","","",""]
[null,{"$f":"IF(AND('Step 1) Select Data'!B1813=\"\",'Step 1) Select Data'!D1813<>\"\"),'Step 1) Select Data'!D1813,\"\")","v":""},"",{"$f":"IF(B1794=\"\",\"\",'Step 1) Select Data'!E1813)","v":""},"","","","","","",{"$f":"IF(J1794=\"\",\"\",'Step 3) Fit Distribution'!$F$3*E1794+'Step 3) Fit Distribution'!$F$4)","v":""},"","","","","","",""]
[null,{"$f":"IF(AND('Step 1) Select Data'!B1814=\"\",'Step 1) Select Data'!D1814<>\"\"),'Step 1) Select Data'!D1814,\"\")","v":""},"",{"$f":"IF(B1795=\"\",\"\",'Step 1) Select Data'!E1814)","v":""},"","","","","","",{"$f":"IF(J1795=\"\",\"\",'Step 3) Fit Distribution'!$F$3*E1795+'Step 3) Fit Distribution'!$F$4)","v":""},"","","","","","",""]
[null,{"$f":"IF(AND('Step 1) Select Data'!B1815=\"\",'Step 1) Select Data'!D1815<>\"\"),'Step 1) Select Data'!D1815,\"\")","v":""},"",{"$f":"IF(B1796=\"\",\"\",'Step 1) Select Data'!E1815)","v":""},"","","","","","",{"$f":"IF(J1796=\"\",\"\",'Step 3) Fit Distribution'!$F$3*E1796+'Step 3) Fit Distribution'!$F$4)","v":""},"","","","","","",""]
[null,{"$f":"IF(AND('Step 1) Select Data'!B1816=\"\",'Step 1) Select Data'!D1816<>\"\"),'Step 1) Select Data'!D1816,\"\")","v":""},"",{"$f":"IF(B1797=\"\",\"\",'Step 1) Select Data'!E1816)","v":""},"","","","","","",{"$f":"IF(J1797=\"\",\"\",'Step 3) Fit Distribution'!$F$3*E1797+'Step 3) Fit Distribution'!$F$4)","v":""},"","","","","","",""]
[null,{"$f":"IF(AND('Step 1) Select Data'!B1817=\"\",'Step 1) Select Data'!D1817<>\"\"),'Step 1) Select Data'!D1817,\"\")","v":""},"",{"$f":"IF(B1798=\"\",\"\",'Step 1) Select Data'!E1817)","v":""},"","","","","","",{"$f":"IF(J1798=\"\",\"\",'Step 3) Fit Distribution'!$F$3*E1798+'Step 3) Fit Distribution'!$F$4)","v":""},"","","","","","",""]
[null,{"$f":"IF(AND('Step 1) Select Data'!B1818=\"\",'Step 1) Select Data'!D1818<>\"\"),'Step 1) Select Data'!D1818,\"\")","v":""},{"$f":"IF(B1799=\"\",\"\",IF(OR(M1799>=M1800,M1800=\"\"),M1799,\"\"))","v":""},{"$f":"IF(B1799=\"\",\"\",'Step 1) Select Data'!E1818)","v":""},{"$f":"IF(C1799=\"\",\"\",LOG10(N1799)*(1/C1799))","v":""},{"$f":"IF(OR(M1799=\"\",C1799=1),\"\",IF(C1799=\"\",\"\",SQRT(R1799/(C1799-1))))","v":""},{"$f":"IF(E1799=\"\",\"\",10^E1799)","v":""},{"$f":"IF(I1799=\"\",\"\",(I1799-0.5)/COUNT($E$6:$E$2004))","v":""},{"$f":"IF(E1799=\"\",\"\",RANK(E1799,$E$6:$E$2004,1))","v":""},{"$f":"IF(H1799=\"\",\"\",NORMINV(H1799,5,1))","v":""},{"$f":"IF(J1799=\"\",\"\",'Step 3) Fit Distribution'!$F$3*E1799+'Step 3) Fit Distribution'!$F$4)","v":""},{"$f":"IF(K1799=\"\",\"\",(K1799-J1799)^2)","v":""},{"$f":"IF(B1799=\"\",\"\",IF(B1799<>B1798,1,M1798+1))","v":""},{"$f":"IF(B1799=\"\",\"\",IF(B1799<>B1798,ROUND(D1799,4),ROUND(D1799,4)*N1798))","v":""},{"$f":"IF(OR(M1799=\"\",C1799=1),\"\",IF(AND(M1799<>\"\",C1799=\"\",E1799=\"\"),O1800,E1799))","v":""},{"$f":"IF(OR(M1799=\"\",C1799=1),\"\",IF(AND(M1799<>\"\",C1799=\"\",E1799=\"\"),P1800,C1799))","v":""},"",{"$f":"IF(Q1799=\"\",\"\",IF(O1799=O1798,Q1799+R1798,Q1799))","v":""}]
[null,{"$f":"IF(AND('Step 1) Select Data'!B1819=\"\",'Step 1) Select Data'!D1819<>\"\"),'Step 1) Select Data'!D1819,\"\")","v":""},"",{"$f":"IF(B1800=\"\",\"\",'Step 1) Select Data'!E1819)","v":""},"","","","","","",{"$f":"IF(J1800=\"\",\"\",'Step 3) Fit Distribution'!$F$3*E1800+'Step 3) Fit Distribution'!$F$4)","v":""},"","","","","","",""]
[null,{"$f":"IF(AND('Step 1) Select Data'!B1820=\"\",'Step 1) Select Data'!D1820<>\"\"),'Step 1) Select Data'!D1820,\"\")","v":""},"",{"$f":"IF(B1801=\"\",\"\",'Step 1) Select Data'!E1820)","v":""},"","","","","","",{"$f":"IF(J1801=\"\",\"\",'Step 3) Fit Distribution'!$F$3*E1801+'Step 3) Fit Distribution'!$F$4)","v":""},"","","","","","",""]
[null,{"$f":"IF(AND('Step 1) Select Data'!B1821=\"\",'Step 1) Select Data'!D1821<>\"\"),'Step 1) Select Data'!D1821,\"\")","v":""},"",{"$f":"IF(B1802=\"\",\"\",'Step 1) Select Data'!E1821)","v":""},"","","","","","",{"$f":"IF(J1802=\"\",\"\",'Step 3) Fit Distribution'!$F$3*E1802+'Step 3) Fit Distribution'!$F$4)","v":""},"","","","","","",""]
[null,{"$f":"IF(AND('Step 1) Select Data'!B1822=\"\",'Step 1) Select Data'!D1822<>\"\"),'Step 1) Select Data'!D1822,\"\")","v":""},"",{"$f":"IF(B1803=\"\",\"\",'Step 1) Select Data'!E1822)","v":""},"","","","","","",{"$f":"IF(J1803=\"\",\"\",'Step 3) Fit Distribution'!$F$3*E1803+'Step 3) Fit Distribution'!$F$4)","v":""},"","","","","","",""]
[null,{"$f":"IF(AND('Step 1) Select Data'!B1823=\"\",'Step 1) Select Data'!D1823<>\"\"),'Step 1) Select Data'!D1823,\"\")","v":""},"",{"$f":"IF(B1804=\"\",\"\",'Step 1) Select Data'!E1823)","v":""},"","","","","","",{"$f":"IF(J1804=\"\",\"\",'Step 3) Fit Distribution'!$F$3*E1804+'Step 3) Fit Distribution'!$F$4)","v":""},"","","","","","",""]
[null,{"$f":"IF(AND('Step 1) Select Data'!B1824=\"\",'Step 1) Select Data'!D1824<>\"\"),'Step 1) Select Data'!D1824,\"\")","v":""},"",{"$f":"IF(B1805=\"\",\"\",'Step 1) Select Data'!E1824)","v":""},"","","","","","",{"$f":"IF(J1805=\"\",\"\",'Step 3) Fit Distribution'!$F$3*E1805+'Step 3) Fit Distribution'!$F$4)","v":""},"","","","","","",""]
[null,{"$f":"IF(AND('Step 1) Select Data'!B1825=\"\",'Step 1) Select Data'!D1825<>\"\"),'Step 1) Select Data'!D1825,\"\")","v":""},"",{"$f":"IF(B1806=\"\",\"\",'Step 1) Select Data'!E1825)","v":""},"","","","","","",{"$f":"IF(J1806=\"\",\"\",'Step 3) Fit Distribution'!$F$3*E1806+'Step 3) Fit Distribution'!$F$4)","v":""},"","","","","","",""]
[null,{"$f":"IF(AND('Step 1) Select Data'!B1826=\"\",'Step 1) Select Data'!D1826<>\"\"),'Step 1) Select Data'!D1826,\"\")","v":""},"",{"$f":"IF(B1807=\"\",\"\",'Step 1) Select Data'!E1826)","v":""},"","","","","","",{"$f":"IF(J1807=\"\",\"\",'Step 3) Fit Distribution'!$F$3*E1807+'Step 3) Fit Distribution'!$F$4)","v":""},"","","","","","",""]
[null,{"$f":"IF(AND('Step 1) Select Data'!B1827=\"\",'Step 1) Select Data'!D1827<>\"\"),'Step 1) Select Data'!D1827,\"\")","v":""},"",{"$f":"IF(B1808=\"\",\"\",'Step 1) Select Data'!E1827)","v":""},"","","","","","",{"$f":"IF(J1808=\"\",\"\",'Step 3) Fit Distribution'!$F$3*E1808+'Step 3) Fit Distribution'!$F$4)","v":""},"","","","","","",""]
[null,{"$f":"IF(AND('Step 1) Select Data'!B1828=\"\",'Step 1) Select Data'!D1828<>\"\"),'Step 1) Select Data'!D1828,\"\")","v":""},"",{"$f":"IF(B1809=\"\",\"\",'Step 1) Select Data'!E1828)","v":""},"","","","","","",{"$f":"IF(J1809=\"\",\"\",'Step 3) Fit Distribution'!$F$3*E1809+'Step 3) Fit Distribution'!$F$4)","v":""},"","","","","","",""]
[null,{"$f":"IF(AND('Step 1) Select Data'!B1829=\"\",'Step 1) Select Data'!D1829<>\"\"),'Step 1) Select Data'!D1829,\"\")","v":""},"",{"$f":"IF(B1810=\"\",\"\",'Step 1) Select Data'!E1829)","v":""},"","","","","","",{"$f":"IF(J1810=\"\",\"\",'Step 3) Fit Distribution'!$F$3*E1810+'Step 3) Fit Distribution'!$F$4)","v":""},"","","","","","",""]
[null,{"$f":"IF(AND('Step 1) Select Data'!B1830=\"\",'Step 1) Select Data'!D1830<>\"\"),'Step 1) Select Data'!D1830,\"\")","v":""},"",{"$f":"IF(B1811=\"\",\"\",'Step 1) Select Data'!E1830)","v":""},"","","","","","",{"$f":"IF(J1811=\"\",\"\",'Step 3) Fit Distribution'!$F$3*E1811+'Step 3) Fit Distribution'!$F$4)","v":""},"","","","","","",""]
[null,{"$f":"IF(AND('Step 1) Select Data'!B1831=\"\",'Step 1) Select Data'!D1831<>\"\"),'Step 1) Select Data'!D1831,\"\")","v":""},"",{"$f":"IF(B1812=\"\",\"\",'Step 1) Select Data'!E1831)","v":""},"","","","","","",{"$f":"IF(J1812=\"\",\"\",'Step 3) Fit Distribution'!$F$3*E1812+'Step 3) Fit Distribution'!$F$4)","v":""},"","","","","",{"$f":"IF(O1812=\"\",\"\",ROUND(LOG(D1812)-O1812,4)^2)","v":""},""]
[null,{"$f":"IF(AND('Step 1) Select Data'!B1832=\"\",'Step 1) Select Data'!D1832<>\"\"),'Step 1) Select Data'!D1832,\"\")","v":""},"",{"$f":"IF(B1813=\"\",\"\",'Step 1) Select Data'!E1832)","v":""},"","","","","","",{"$f":"IF(J1813=\"\",\"\",'Step 3) Fit Distribution'!$F$3*E1813+'Step 3) Fit Distribution'!$F$4)","v":""},"","","","","","",""]
[null,{"$f":"IF(AND('Step 1) Select Data'!B1833=\"\",'Step 1) Select Data'!D1833<>\"\"),'Step 1) Select Data'!D1833,\"\")","v":""},"",{"$f":"IF(B1814=\"\",\"\",'Step 1) Select Data'!E1833)","v":""},"","","","","","",{"$f":"IF(J1814=\"\",\"\",'Step 3) Fit Distribution'!$F$3*E1814+'Step 3) Fit Distribution'!$F$4)","v":""},"","","","","","",""]
[null,{"$f":"IF(AND('Step 1) Select Data'!B1834=\"\",'Step 1) Select Data'!D1834<>\"\"),'Step 1) Select Data'!D1834,\"\")","v":""},"",{"$f":"IF(B1815=\"\",\"\",'Step 1) Select Data'!E1834)","v":""},"","","","","","",{"$f":"IF(J1815=\"\",\"\",'Step 3) Fit Distribution'!$F$3*E1815+'Step 3) Fit Distribution'!$F$4)","v":""},"","","","","","",""]
[null,{"$f":"IF(AND('Step 1) Select Data'!B1835=\"\",'Step 1) Select Data'!D1835<>\"\"),'Step 1) Select Data'!D1835,\"\")","v":""},"",{"$f":"IF(B1816=\"\",\"\",'Step 1) Select Data'!E1835)","v":""},"","","","","","",{"$f":"IF(J1816=\"\",\"\",'Step 3) Fit Distribution'!$F$3*E1816+'Step 3) Fit Distribution'!$F$4)","v":""},"","","","","","",""]
[null,{"$f":"IF(AND('Step 1) Select Data'!B1836=\"\",'Step 1) Select Data'!D1836<>\"\"),'Step 1) Select Data'!D1836,\"\")","v":""},"",{"$f":"IF(B1817=\"\",\"\",'Step 1) Select Data'!E1836)","v":""},"","","","","","",{"$f":"IF(J1817=\"\",\"\",'Step 3) Fit Distribution'!$F$3*E1817+'Step 3) Fit Distribution'!$F$4)","v":""},"","","","","","",""]
[null,{"$f":"IF(AND('Step 1) Select Data'!B1837=\"\",'Step 1) Select Data'!D1837<>\"\"),'Step 1) Select Data'!D1837,\"\")","v":""},"",{"$f":"IF(B1818=\"\",\"\",'Step 1) Select Data'!E1837)","v":""},"","","","","","",{"$f":"IF(J1818=\"\",\"\",'Step 3) Fit Distribution'!$F$3*E1818+'Step 3) Fit Distribution'!$F$4)","v":""},"","","","","","",""]
[null,{"$f":"IF(AND('Step 1) Select Data'!B1838=\"\",'Step 1) Select Data'!D1838<>\"\"),'Step 1) Select Data'!D1838,\"\")","v":""},"",{"$f":"IF(B1819=\"\",\"\",'Step 1) Select Data'!E1838)","v":""},"","","","","","",{"$f":"IF(J1819=\"\",\"\",'Step 3) Fit Distribution'!$F$3*E1819+'Step 3) Fit Distribution'!$F$4)","v":""},"","","","","","",""]
[null,{"$f":"IF(AND('Step 1) Select Data'!B1839=\"\",'Step 1) Select Data'!D1839<>\"\"),'Step 1) Select Data'!D1839,\"\")","v":""},"",{"$f":"IF(B1820=\"\",\"\",'Step 1) Select Data'!E1839)","v":""},"","","","","","",{"$f":"IF(J1820=\"\",\"\",'Step 3) Fit Distribution'!$F$3*E1820+'Step 3) Fit Distribution'!$F$4)","v":""},"","","","","","",""]
[null,{"$f":"IF(AND('Step 1) Select Data'!B1840=\"\",'Step 1) Select Data'!D1840<>\"\"),'Step 1) Select Data'!D1840,\"\")","v":""},"",{"$f":"IF(B1821=\"\",\"\",'Step 1) Select Data'!E1840)","v":""},"","","","","","",{"$f":"IF(J1821=\"\",\"\",'Step 3) Fit Distribution'!$F$3*E1821+'Step 3) Fit Distribution'!$F$4)","v":""},"","","","","","",""]
[null,{"$f":"IF(AND('Step 1) Select Data'!B1841=\"\",'Step 1) Select Data'!D1841<>\"\"),'Step 1) Select Data'!D1841,\"\")","v":""},"",{"$f":"IF(B1822=\"\",\"\",'Step 1) Select Data'!E1841)","v":""},"","","","","","",{"$f":"IF(J1822=\"\",\"\",'Step 3) Fit Distribution'!$F$3*E1822+'Step 3) Fit Distribution'!$F$4)","v":""},"","","","","","",""]
[null,{"$f":"IF(AND('Step 1) Select Data'!B1842=\"\",'Step 1) Select Data'!D1842<>\"\"),'Step 1) Select Data'!D1842,\"\")","v":""},"",{"$f":"IF(B1823=\"\",\"\",'Step 1) Select Data'!E1842)","v":""},"","","","","","",{"$f":"IF(J1823=\"\",\"\",'Step 3) Fit Distribution'!$F$3*E1823+'Step 3) Fit Distribution'!$F$4)","v":""},"","","","","","",""]
[null,{"$f":"IF(AND('Step 1) Select Data'!B1843=\"\",'Step 1) Select Data'!D1843<>\"\"),'Step 1) Select Data'!D1843,\"\")","v":""},"",{"$f":"IF(B1824=\"\",\"\",'Step 1) Select Data'!E1843)","v":""},"","","","","","",{"$f":"IF(J1824=\"\",\"\",'Step 3) Fit Distribution'!$F$3*E1824+'Step 3) Fit Distribution'!$F$4)","v":""},"","","","","","",""]
[null,{"$f":"IF(AND('Step 1) Select Data'!B1844=\"\",'Step 1) Select Data'!D1844<>\"\"),'Step 1) Select Data'!D1844,\"\")","v":""},"",{"$f":"IF(B1825=\"\",\"\",'Step 1) Select Data'!E1844)","v":""},"","","","","","",{"$f":"IF(J1825=\"\",\"\",'Step 3) Fit Distribution'!$F$3*E1825+'Step 3) Fit Distribution'!$F$4)","v":""},"","","","","","",""]
[null,{"$f":"IF(AND('Step 1) Select Data'!B1845=\"\",'Step 1) Select Data'!D1845<>\"\"),'Step 1) Select Data'!D1845,\"\")","v":""},"",{"$f":"IF(B1826=\"\",\"\",'Step 1) Select Data'!E1845)","v":""},"","","","","","",{"$f":"IF(J1826=\"\",\"\",'Step 3) Fit Distribution'!$F$3*E1826+'Step 3) Fit Distribution'!$F$4)","v":""},"","","","","","",""]
[null,{"$f":"IF(AND('Step 1) Select Data'!B1846=\"\",'Step 1) Select Data'!D1846<>\"\"),'Step 1) Select Data'!D1846,\"\")","v":""},"",{"$f":"IF(B1827=\"\",\"\",'Step 1) Select Data'!E1846)","v":""},"","","","","","",{"$f":"IF(J1827=\"\",\"\",'Step 3) Fit Distribution'!$F$3*E1827+'Step 3) Fit Distribution'!$F$4)","v":""},"","","","","","",""]
[null,{"$f":"IF(AND('Step 1) Select Data'!B1847=\"\",'Step 1) Select Data'!D1847<>\"\"),'Step 1) Select Data'!D1847,\"\")","v":""},"",{"$f":"IF(B1828=\"\",\"\",'Step 1) Select Data'!E1847)","v":""},"","","","","","",{"$f":"IF(J1828=\"\",\"\",'Step 3) Fit Distribution'!$F$3*E1828+'Step 3) Fit Distribution'!$F$4)","v":""},"","","","","","",""]
[null,{"$f":"IF(AND('Step 1) Select Data'!B1848=\"\",'Step 1) Select Data'!D1848<>\"\"),'Step 1) Select Data'!D1848,\"\")","v":""},"",{"$f":"IF(B1829=\"\",\"\",'Step 1) Select Data'!E1848)","v":""},"","","","","","",{"$f":"IF(J1829=\"\",\"\",'Step 3) Fit Distribution'!$F$3*E1829+'Step 3) Fit Distribution'!$F$4)","v":""},"","","","","","",""]
[null,{"$f":"IF(AND('Step 1) Select Data'!B1849=\"\",'Step 1) Select Data'!D1849<>\"\"),'Step 1) Select Data'!D1849,\"\")","v":""},"",{"$f":"IF(B1830=\"\",\"\",'Step 1) Select Data'!E1849)","v":""},"","","","","","",{"$f":"IF(J1830=\"\",\"\",'Step 3) Fit Distribution'!$F$3*E1830+'Step 3) Fit Distribution'!$F$4)","v":""},"","","","","","",""]
[null,{"$f":"IF(AND('Step 1) Select Data'!B1850=\"\",'Step 1) Select Data'!D1850<>\"\"),'Step 1) Select Data'!D1850,\"\")","v":""},"",{"$f":"IF(B1831=\"\",\"\",'Step 1) Select Data'!E1850)","v":""},"","","","","","",{"$f":"IF(J1831=\"\",\"\",'Step 3) Fit Distribution'!$F$3*E1831+'Step 3) Fit Distribution'!$F$4)","v":""},"","","","","","",""]
[null,{"$f":"IF(AND('Step 1) Select Data'!B1851=\"\",'Step 1) Select Data'!D1851<>\"\"),'Step 1) Select Data'!D1851,\"\")","v":""},"",{"$f":"IF(B1832=\"\",\"\",'Step 1) Select Data'!E1851)","v":""},"","","","","","",{"$f":"IF(J1832=\"\",\"\",'Step 3) Fit Distribution'!$F$3*E1832+'Step 3) Fit Distribution'!$F$4)","v":""},"","","","","","",""]
[null,{"$f":"IF(AND('Step 1) Select Data'!B1852=\"\",'Step 1) Select Data'!D1852<>\"\"),'Step 1) Select Data'!D1852,\"\")","v":""},"",{"$f":"IF(B1833=\"\",\"\",'Step 1) Select Data'!E1852)","v":""},"","","","","","",{"$f":"IF(J1833=\"\",\"\",'Step 3) Fit Distribution'!$F$3*E1833+'Step 3) Fit Distribution'!$F$4)","v":""},"","","","","","",""]
[null,{"$f":"IF(AND('Step 1) Select Data'!B1853=\"\",'Step 1) Select Data'!D1853<>\"\"),'Step 1) Select Data'!D1853,\"\")","v":""},"",{"$f":"IF(B1834=\"\",\"\",'Step 1) Select Data'!E1853)","v":""},"","","","","","",{"$f":"IF(J1834=\"\",\"\",'Step 3) Fit Distribution'!$F$3*E1834+'Step 3) Fit Distribution'!$F$4)","v":""},"","","","","","",""]
[null,{"$f":"IF(AND('Step 1) Select Data'!B1854=\"\",'Step 1) Select Data'!D1854<>\"\"),'Step 1) Select Data'!D1854,\"\")","v":""},"",{"$f":"IF(B1835=\"\",\"\",'Step 1) Select Data'!E1854)","v":""},"","","","","","",{"$f":"IF(J1835=\"\",\"\",'Step 3) Fit Distribution'!$F$3*E1835+'Step 3) Fit Distribution'!$F$4)","v":""},"","","","","","",""]
[null,{"$f":"IF(AND('Step 1) Select Data'!B1855=\"\",'Step 1) Select Data'!D1855<>\"\"),'Step 1) Select Data'!D1855,\"\")","v":""},"",{"$f":"IF(B1836=\"\",\"\",'Step 1) Select Data'!E1855)","v":""},"","","","","","",{"$f":"IF(J1836=\"\",\"\",'Step 3) Fit Distribution'!$F$3*E1836+'Step 3) Fit Distribution'!$F$4)","v":""},"","","","","","",""]
[null,{"$f":"IF(AND('Step 1) Select Data'!B1856=\"\",'Step 1) Select Data'!D1856<>\"\"),'Step 1) Select Data'!D1856,\"\")","v":""},"",{"$f":"IF(B1837=\"\",\"\",'Step 1) Select Data'!E1856)","v":""},"","","","","","",{"$f":"IF(J1837=\"\",\"\",'Step 3) Fit Distribution'!$F$3*E1837+'Step 3) Fit Distribution'!$F$4)","v":""},"","","","","","",""]
[null,{"$f":"IF(AND('Step 1) Select Data'!B1857=\"\",'Step 1) Select Data'!D1857<>\"\"),'Step 1) Select Data'!D1857,\"\")","v":""},"",{"$f":"IF(B1838=\"\",\"\",'Step 1) Select Data'!E1857)","v":""},"","","","","","",{"$f":"IF(J1838=\"\",\"\",'Step 3) Fit Distribution'!$F$3*E1838+'Step 3) Fit Distribution'!$F$4)","v":""},"","","","","","",""]
[null,{"$f":"IF(AND('Step 1) Select Data'!B1858=\"\",'Step 1) Select Data'!D1858<>\"\"),'Step 1) Select Data'!D1858,\"\")","v":""},"",{"$f":"IF(B1839=\"\",\"\",'Step 1) Select Data'!E1858)","v":""},"","","","","","",{"$f":"IF(J1839=\"\",\"\",'Step 3) Fit Distribution'!$F$3*E1839+'Step 3) Fit Distribution'!$F$4)","v":""},"","","","","","",""]
[null,{"$f":"IF(AND('Step 1) Select Data'!B1859=\"\",'Step 1) Select Data'!D1859<>\"\"),'Step 1) Select Data'!D1859,\"\")","v":""},"",{"$f":"IF(B1840=\"\",\"\",'Step 1) Select Data'!E1859)","v":""},"","","","","","",{"$f":"IF(J1840=\"\",\"\",'Step 3) Fit Distribution'!$F$3*E1840+'Step 3) Fit Distribution'!$F$4)","v":""},"","","","","","",""]
[null,{"$f":"IF(AND('Step 1) Select Data'!B1860=\"\",'Step 1) Select Data'!D1860<>\"\"),'Step 1) Select Data'!D1860,\"\")","v":""},"",{"$f":"IF(B1841=\"\",\"\",'Step 1) Select Data'!E1860)","v":""},"","","","","","",{"$f":"IF(J1841=\"\",\"\",'Step 3) Fit Distribution'!$F$3*E1841+'Step 3) Fit Distribution'!$F$4)","v":""},"","","","","","",""]
[null,{"$f":"IF(AND('Step 1) Select Data'!B1861=\"\",'Step 1) Select Data'!D1861<>\"\"),'Step 1) Select Data'!D1861,\"\")","v":""},"",{"$f":"IF(B1842=\"\",\"\",'Step 1) Select Data'!E1861)","v":""},"","","","","","",{"$f":"IF(J1842=\"\",\"\",'Step 3) Fit Distribution'!$F$3*E1842+'Step 3) Fit Distribution'!$F$4)","v":""},"","","","","","",""]
[null,{"$f":"IF(AND('Step 1) Select Data'!B1862=\"\",'Step 1) Select Data'!D1862<>\"\"),'Step 1) Select Data'!D1862,\"\")","v":""},"",{"$f":"IF(B1843=\"\",\"\",'Step 1) Select Data'!E1862)","v":""},"","","","","","",{"$f":"IF(J1843=\"\",\"\",'Step 3) Fit Distribution'!$F$3*E1843+'Step 3) Fit Distribution'!$F$4)","v":""},"","","","","","",""]
[null,{"$f":"IF(AND('Step 1) Select Data'!B1863=\"\",'Step 1) Select Data'!D1863<>\"\"),'Step 1) Select Data'!D1863,\"\")","v":""},"",{"$f":"IF(B1844=\"\",\"\",'Step 1) Select Data'!E1863)","v":""},"","","","","","",{"$f":"IF(J1844=\"\",\"\",'Step 3) Fit Distribution'!$F$3*E1844+'Step 3) Fit Distribution'!$F$4)","v":""},"","","","","","",""]
[null,{"$f":"IF(AND('Step 1) Select Data'!B1864=\"\",'Step 1) Select Data'!D1864<>\"\"),'Step 1) Select Data'!D1864,\"\")","v":""},"",{"$f":"IF(B1845=\"\",\"\",'Step 1) Select Data'!E1864)","v":""},"","","","","","",{"$f":"IF(J1845=\"\",\"\",'Step 3) Fit Distribution'!$F$3*E1845+'Step 3) Fit Distribution'!$F$4)","v":""},"","","","","","",""]
[null,{"$f":"IF(AND('Step 1) Select Data'!B1865=\"\",'Step 1) Select Data'!D1865<>\"\"),'Step 1) Select Data'!D1865,\"\")","v":""},"",{"$f":"IF(B1846=\"\",\"\",'Step 1) Select Data'!E1865)","v":""},"","","","","","",{"$f":"IF(J1846=\"\",\"\",'Step 3) Fit Distribution'!$F$3*E1846+'Step 3) Fit Distribution'!$F$4)","v":""},"","","","","","",""]
[null,{"$f":"IF(AND('Step 1) Select Data'!B1866=\"\",'Step 1) Select Data'!D1866<>\"\"),'Step 1) Select Data'!D1866,\"\")","v":""},"",{"$f":"IF(B1847=\"\",\"\",'Step 1) Select Data'!E1866)","v":""},"","","","","","",{"$f":"IF(J1847=\"\",\"\",'Step 3) Fit Distribution'!$F$3*E1847+'Step 3) Fit Distribution'!$F$4)","v":""},"","","","","","",""]
[null,{"$f":"IF(AND('Step 1) Select Data'!B1867=\"\",'Step 1) Select Data'!D1867<>\"\"),'Step 1) Select Data'!D1867,\"\")","v":""},"",{"$f":"IF(B1848=\"\",\"\",'Step 1) Select Data'!E1867)","v":""},"","","","","","",{"$f":"IF(J1848=\"\",\"\",'Step 3) Fit Distribution'!$F$3*E1848+'Step 3) Fit Distribution'!$F$4)","v":""},"","","","","","",""]
[null,{"$f":"IF(AND('Step 1) Select Data'!B1868=\"\",'Step 1) Select Data'!D1868<>\"\"),'Step 1) Select Data'!D1868,\"\")","v":""},"",{"$f":"IF(B1849=\"\",\"\",'Step 1) Select Data'!E1868)","v":""},"","","","","","",{"$f":"IF(J1849=\"\",\"\",'Step 3) Fit Distribution'!$F$3*E1849+'Step 3) Fit Distribution'!$F$4)","v":""},"","","","","","",""]
[null,{"$f":"IF(AND('Step 1) Select Data'!B1869=\"\",'Step 1) Select Data'!D1869<>\"\"),'Step 1) Select Data'!D1869,\"\")","v":""},"",{"$f":"IF(B1850=\"\",\"\",'Step 1) Select Data'!E1869)","v":""},"","","","","","",{"$f":"IF(J1850=\"\",\"\",'Step 3) Fit Distribution'!$F$3*E1850+'Step 3) Fit Distribution'!$F$4)","v":""},"","","","","","",""]
[null,{"$f":"IF(AND('Step 1) Select Data'!B1870=\"\",'Step 1) Select Data'!D1870<>\"\"),'Step 1) Select Data'!D1870,\"\")","v":""},"",{"$f":"IF(B1851=\"\",\"\",'Step 1) Select Data'!E1870)","v":""},"","","","","","",{"$f":"IF(J1851=\"\",\"\",'Step 3) Fit Distribution'!$F$3*E1851+'Step 3) Fit Distribution'!$F$4)","v":""},"","","","","","",""]
[null,{"$f":"IF(AND('Step 1) Select Data'!B1871=\"\",'Step 1) Select Data'!D1871<>\"\"),'Step 1) Select Data'!D1871,\"\")","v":""},"",{"$f":"IF(B1852=\"\",\"\",'Step 1) Select Data'!E1871)","v":""},"","","","","","",{"$f":"IF(J1852=\"\",\"\",'Step 3) Fit Distribution'!$F$3*E1852+'Step 3) Fit Distribution'!$F$4)","v":""},"","","","","","",""]
[null,{"$f":"IF(AND('Step 1) Select Data'!B1872=\"\",'Step 1) Select Data'!D1872<>\"\"),'Step 1) Select Data'!D1872,\"\")","v":""},"",{"$f":"IF(B1853=\"\",\"\",'Step 1) Select Data'!E1872)","v":""},"","","","","","",{"$f":"IF(J1853=\"\",\"\",'Step 3) Fit Distribution'!$F$3*E1853+'Step 3) Fit Distribution'!$F$4)","v":""},"","","","","","",""]
[null,{"$f":"IF(AND('Step 1) Select Data'!B1873=\"\",'Step 1) Select Data'!D1873<>\"\"),'Step 1) Select Data'!D1873,\"\")","v":""},"",{"$f":"IF(B1854=\"\",\"\",'Step 1) Select Data'!E1873)","v":""},"","","","","","",{"$f":"IF(J1854=\"\",\"\",'Step 3) Fit Distribution'!$F$3*E1854+'Step 3) Fit Distribution'!$F$4)","v":""},"","","","","","",""]
[null,{"$f":"IF(AND('Step 1) Select Data'!B1874=\"\",'Step 1) Select Data'!D1874<>\"\"),'Step 1) Select Data'!D1874,\"\")","v":""},"",{"$f":"IF(B1855=\"\",\"\",'Step 1) Select Data'!E1874)","v":""},"","","","","","",{"$f":"IF(J1855=\"\",\"\",'Step 3) Fit Distribution'!$F$3*E1855+'Step 3) Fit Distribution'!$F$4)","v":""},"","","","","","",""]
[null,{"$f":"IF(AND('Step 1) Select Data'!B1875=\"\",'Step 1) Select Data'!D1875<>\"\"),'Step 1) Select Data'!D1875,\"\")","v":""},"",{"$f":"IF(B1856=\"\",\"\",'Step 1) Select Data'!E1875)","v":""},"","","","","","",{"$f":"IF(J1856=\"\",\"\",'Step 3) Fit Distribution'!$F$3*E1856+'Step 3) Fit Distribution'!$F$4)","v":""},"","","","","","",""]
[null,{"$f":"IF(AND('Step 1) Select Data'!B1876=\"\",'Step 1) Select Data'!D1876<>\"\"),'Step 1) Select Data'!D1876,\"\")","v":""},"",{"$f":"IF(B1857=\"\",\"\",'Step 1) Select Data'!E1876)","v":""},"","","","","","",{"$f":"IF(J1857=\"\",\"\",'Step 3) Fit Distribution'!$F$3*E1857+'Step 3) Fit Distribution'!$F$4)","v":""},"","","","","","",""]
[null,{"$f":"IF(AND('Step 1) Select Data'!B1877=\"\",'Step 1) Select Data'!D1877<>\"\"),'Step 1) Select Data'!D1877,\"\")","v":""},"",{"$f":"IF(B1858=\"\",\"\",'Step 1) Select Data'!E1877)","v":""},"","","","","","",{"$f":"IF(J1858=\"\",\"\",'Step 3) Fit Distribution'!$F$3*E1858+'Step 3) Fit Distribution'!$F$4)","v":""},"","","","","","",""]
[null,{"$f":"IF(AND('Step 1) Select Data'!B1878=\"\",'Step 1) Select Data'!D1878<>\"\"),'Step 1) Select Data'!D1878,\"\")","v":""},"",{"$f":"IF(B1859=\"\",\"\",'Step 1) Select Data'!E1878)","v":""},"","","","","","",{"$f":"IF(J1859=\"\",\"\",'Step 3) Fit Distribution'!$F$3*E1859+'Step 3) Fit Distribution'!$F$4)","v":""},"","","","","","",""]
[null,{"$f":"IF(AND('Step 1) Select Data'!B1879=\"\",'Step 1) Select Data'!D1879<>\"\"),'Step 1) Select Data'!D1879,\"\")","v":""},"",{"$f":"IF(B1860=\"\",\"\",'Step 1) Select Data'!E1879)","v":""},"","","","","","",{"$f":"IF(J1860=\"\",\"\",'Step 3) Fit Distribution'!$F$3*E1860+'Step 3) Fit Distribution'!$F$4)","v":""},"","","","","","",""]
[null,{"$f":"IF(AND('Step 1) Select Data'!B1880=\"\",'Step 1) Select Data'!D1880<>\"\"),'Step 1) Select Data'!D1880,\"\")","v":""},"",{"$f":"IF(B1861=\"\",\"\",'Step 1) Select Data'!E1880)","v":""},"","","","","","",{"$f":"IF(J1861=\"\",\"\",'Step 3) Fit Distribution'!$F$3*E1861+'Step 3) Fit Distribution'!$F$4)","v":""},"","","","","","",""]
[null,{"$f":"IF(AND('Step 1) Select Data'!B1881=\"\",'Step 1) Select Data'!D1881<>\"\"),'Step 1) Select Data'!D1881,\"\")","v":""},"",{"$f":"IF(B1862=\"\",\"\",'Step 1) Select Data'!E1881)","v":""},"","","","","","",{"$f":"IF(J1862=\"\",\"\",'Step 3) Fit Distribution'!$F$3*E1862+'Step 3) Fit Distribution'!$F$4)","v":""},"","","","","","",""]
[null,{"$f":"IF(AND('Step 1) Select Data'!B1882=\"\",'Step 1) Select Data'!D1882<>\"\"),'Step 1) Select Data'!D1882,\"\")","v":""},{"$f":"IF(B1863=\"\",\"\",IF(OR(M1863>=M1864,M1864=\"\"),M1863,\"\"))","v":""},{"$f":"IF(B1863=\"\",\"\",'Step 1) Select Data'!E1882)","v":""},{"$f":"IF(C1863=\"\",\"\",LOG10(N1863)*(1/C1863))","v":""},{"$f":"IF(OR(M1863=\"\",C1863=1),\"\",IF(C1863=\"\",\"\",SQRT(R1863/(C1863-1))))","v":""},{"$f":"IF(E1863=\"\",\"\",10^E1863)","v":""},{"$f":"IF(I1863=\"\",\"\",(I1863-0.5)/COUNT($E$6:$E$2004))","v":""},{"$f":"IF(E1863=\"\",\"\",RANK(E1863,$E$6:$E$2004,1))","v":""},{"$f":"IF(H1863=\"\",\"\",NORMINV(H1863,5,1))","v":""},{"$f":"IF(J1863=\"\",\"\",'Step 3) Fit Distribution'!$F$3*E1863+'Step 3) Fit Distribution'!$F$4)","v":""},{"$f":"IF(K1863=\"\",\"\",(K1863-J1863)^2)","v":""},{"$f":"IF(B1863=\"\",\"\",IF(B1863<>B1862,1,M1862+1))","v":""},{"$f":"IF(B1863=\"\",\"\",IF(B1863<>B1862,ROUND(D1863,4),ROUND(D1863,4)*N1862))","v":""},{"$f":"IF(OR(M1863=\"\",C1863=1),\"\",IF(AND(M1863<>\"\",C1863=\"\",E1863=\"\"),O1864,E1863))","v":""},{"$f":"IF(OR(M1863=\"\",C1863=1),\"\",IF(AND(M1863<>\"\",C1863=\"\",E1863=\"\"),P1864,C1863))","v":""},"",{"$f":"IF(Q1863=\"\",\"\",IF(O1863=O1862,Q1863+R1862,Q1863))","v":""}]
[null,{"$f":"IF(AND('Step 1) Select Data'!B1883=\"\",'Step 1) Select Data'!D1883<>\"\"),'Step 1) Select Data'!D1883,\"\")","v":""},"",{"$f":"IF(B1864=\"\",\"\",'Step 1) Select Data'!E1883)","v":""},"","","","","","",{"$f":"IF(J1864=\"\",\"\",'Step 3) Fit Distribution'!$F$3*E1864+'Step 3) Fit Distribution'!$F$4)","v":""},"","","","","","",""]
[null,{"$f":"IF(AND('Step 1) Select Data'!B1884=\"\",'Step 1) Select Data'!D1884<>\"\"),'Step 1) Select Data'!D1884,\"\")","v":""},"",{"$f":"IF(B1865=\"\",\"\",'Step 1) Select Data'!E1884)","v":""},"","","","","","",{"$f":"IF(J1865=\"\",\"\",'Step 3) Fit Distribution'!$F$3*E1865+'Step 3) Fit Distribution'!$F$4)","v":""},"","","","","","",""]
[null,{"$f":"IF(AND('Step 1) Select Data'!B1885=\"\",'Step 1) Select Data'!D1885<>\"\"),'Step 1) Select Data'!D1885,\"\")","v":""},"",{"$f":"IF(B1866=\"\",\"\",'Step 1) Select Data'!E1885)","v":""},"","","","","","",{"$f":"IF(J1866=\"\",\"\",'Step 3) Fit Distribution'!$F$3*E1866+'Step 3) Fit Distribution'!$F$4)","v":""},"","","","","","",""]
[null,{"$f":"IF(AND('Step 1) Select Data'!B1886=\"\",'Step 1) Select Data'!D1886<>\"\"),'Step 1) Select Data'!D1886,\"\")","v":""},"",{"$f":"IF(B1867=\"\",\"\",'Step 1) Select Data'!E1886)","v":""},"","","","","","",{"$f":"IF(J1867=\"\",\"\",'Step 3) Fit Distribution'!$F$3*E1867+'Step 3) Fit Distribution'!$F$4)","v":""},"","","","","","",""]
[null,{"$f":"IF(AND('Step 1) Select Data'!B1887=\"\",'Step 1) Select Data'!D1887<>\"\"),'Step 1) Select Data'!D1887,\"\")","v":""},"",{"$f":"IF(B1868=\"\",\"\",'Step 1) Select Data'!E1887)","v":""},"","","","","","",{"$f":"IF(J1868=\"\",\"\",'Step 3) Fit Distribution'!$F$3*E1868+'Step 3) Fit Distribution'!$F$4)","v":""},"","","","","","",""]
[null,{"$f":"IF(AND('Step 1) Select Data'!B1888=\"\",'Step 1) Select Data'!D1888<>\"\"),'Step 1) Select Data'!D1888,\"\")","v":""},"",{"$f":"IF(B1869=\"\",\"\",'Step 1) Select Data'!E1888)","v":""},"","","","","","",{"$f":"IF(J1869=\"\",\"\",'Step 3) Fit Distribution'!$F$3*E1869+'Step 3) Fit Distribution'!$F$4)","v":""},"","","","","","",""]
[null,{"$f":"IF(AND('Step 1) Select Data'!B1889=\"\",'Step 1) Select Data'!D1889<>\"\"),'Step 1) Select Data'!D1889,\"\")","v":""},"",{"$f":"IF(B1870=\"\",\"\",'Step 1) Select Data'!E1889)","v":""},"","","","","","",{"$f":"IF(J1870=\"\",\"\",'Step 3) Fit Distribution'!$F$3*E1870+'Step 3) Fit Distribution'!$F$4)","v":""},"","","","","","",""]
[null,{"$f":"IF(AND('Step 1) Select Data'!B1890=\"\",'Step 1) Select Data'!D1890<>\"\"),'Step 1) Select Data'!D1890,\"\")","v":""},"",{"$f":"IF(B1871=\"\",\"\",'Step 1) Select Data'!E1890)","v":""},"","","","","","",{"$f":"IF(J1871=\"\",\"\",'Step 3) Fit Distribution'!$F$3*E1871+'Step 3) Fit Distribution'!$F$4)","v":""},"","","","","","",""]
[null,{"$f":"IF(AND('Step 1) Select Data'!B1891=\"\",'Step 1) Select Data'!D1891<>\"\"),'Step 1) Select Data'!D1891,\"\")","v":""},"",{"$f":"IF(B1872=\"\",\"\",'Step 1) Select Data'!E1891)","v":""},"","","","","","",{"$f":"IF(J1872=\"\",\"\",'Step 3) Fit Distribution'!$F$3*E1872+'Step 3) Fit Distribution'!$F$4)","v":""},"","","","","","",""]
[null,{"$f":"IF(AND('Step 1) Select Data'!B1892=\"\",'Step 1) Select Data'!D1892<>\"\"),'Step 1) Select Data'!D1892,\"\")","v":""},"",{"$f":"IF(B1873=\"\",\"\",'Step 1) Select Data'!E1892)","v":""},"","","","","","",{"$f":"IF(J1873=\"\",\"\",'Step 3) Fit Distribution'!$F$3*E1873+'Step 3) Fit Distribution'!$F$4)","v":""},"","","","","","",""]
[null,{"$f":"IF(AND('Step 1) Select Data'!B1893=\"\",'Step 1) Select Data'!D1893<>\"\"),'Step 1) Select Data'!D1893,\"\")","v":""},"",{"$f":"IF(B1874=\"\",\"\",'Step 1) Select Data'!E1893)","v":""},"","","","","","",{"$f":"IF(J1874=\"\",\"\",'Step 3) Fit Distribution'!$F$3*E1874+'Step 3) Fit Distribution'!$F$4)","v":""},"","","","","","",""]
[null,{"$f":"IF(AND('Step 1) Select Data'!B1894=\"\",'Step 1) Select Data'!D1894<>\"\"),'Step 1) Select Data'!D1894,\"\")","v":""},"",{"$f":"IF(B1875=\"\",\"\",'Step 1) Select Data'!E1894)","v":""},"","","","","","",{"$f":"IF(J1875=\"\",\"\",'Step 3) Fit Distribution'!$F$3*E1875+'Step 3) Fit Distribution'!$F$4)","v":""},"","","","","","",""]
[null,{"$f":"IF(AND('Step 1) Select Data'!B1895=\"\",'Step 1) Select Data'!D1895<>\"\"),'Step 1) Select Data'!D1895,\"\")","v":""},"",{"$f":"IF(B1876=\"\",\"\",'Step 1) Select Data'!E1895)","v":""},"","","","","","",{"$f":"IF(J1876=\"\",\"\",'Step 3) Fit Distribution'!$F$3*E1876+'Step 3) Fit Distribution'!$F$4)","v":""},"","","","","",{"$f":"IF(O1876=\"\",\"\",ROUND(LOG(D1876)-O1876,4)^2)","v":""},""]
[null,{"$f":"IF(AND('Step 1) Select Data'!B1896=\"\",'Step 1) Select Data'!D1896<>\"\"),'Step 1) Select Data'!D1896,\"\")","v":""},"",{"$f":"IF(B1877=\"\",\"\",'Step 1) Select Data'!E1896)","v":""},"","","","","","",{"$f":"IF(J1877=\"\",\"\",'Step 3) Fit Distribution'!$F$3*E1877+'Step 3) Fit Distribution'!$F$4)","v":""},"","","","","","",""]
[null,{"$f":"IF(AND('Step 1) Select Data'!B1897=\"\",'Step 1) Select Data'!D1897<>\"\"),'Step 1) Select Data'!D1897,\"\")","v":""},"",{"$f":"IF(B1878=\"\",\"\",'Step 1) Select Data'!E1897)","v":""},"","","","","","",{"$f":"IF(J1878=\"\",\"\",'Step 3) Fit Distribution'!$F$3*E1878+'Step 3) Fit Distribution'!$F$4)","v":""},"","","","","","",""]
[null,{"$f":"IF(AND('Step 1) Select Data'!B1898=\"\",'Step 1) Select Data'!D1898<>\"\"),'Step 1) Select Data'!D1898,\"\")","v":""},"",{"$f":"IF(B1879=\"\",\"\",'Step 1) Select Data'!E1898)","v":""},"","","","","","",{"$f":"IF(J1879=\"\",\"\",'Step 3) Fit Distribution'!$F$3*E1879+'Step 3) Fit Distribution'!$F$4)","v":""},"","","","","","",""]
[null,{"$f":"IF(AND('Step 1) Select Data'!B1899=\"\",'Step 1) Select Data'!D1899<>\"\"),'Step 1) Select Data'!D1899,\"\")","v":""},"",{"$f":"IF(B1880=\"\",\"\",'Step 1) Select Data'!E1899)","v":""},"","","","","","",{"$f":"IF(J1880=\"\",\"\",'Step 3) Fit Distribution'!$F$3*E1880+'Step 3) Fit Distribution'!$F$4)","v":""},"","","","","","",""]
[null,{"$f":"IF(AND('Step 1) Select Data'!B1900=\"\",'Step 1) Select Data'!D1900<>\"\"),'Step 1) Select Data'!D1900,\"\")","v":""},"",{"$f":"IF(B1881=\"\",\"\",'Step 1) Select Data'!E1900)","v":""},"","","","","","",{"$f":"IF(J1881=\"\",\"\",'Step 3) Fit Distribution'!$F$3*E1881+'Step 3) Fit Distribution'!$F$4)","v":""},"","","","","","",""]
[null,{"$f":"IF(AND('Step 1) Select Data'!B1901=\"\",'Step 1) Select Data'!D1901<>\"\"),'Step 1) Select Data'!D1901,\"\")","v":""},"",{"$f":"IF(B1882=\"\",\"\",'Step 1) Select Data'!E1901)","v":""},"","","","","","",{"$f":"IF(J1882=\"\",\"\",'Step 3) Fit Distribution'!$F$3*E1882+'Step 3) Fit Distribution'!$F$4)","v":""},"","","","","","",""]
[null,{"$f":"IF(AND('Step 1) Select Data'!B1902=\"\",'Step 1) Select Data'!D1902<>\"\"),'Step 1) Select Data'!D1902,\"\")","v":""},"",{"$f":"IF(B1883=\"\",\"\",'Step 1) Select Data'!E1902)","v":""},"","","","","","",{"$f":"IF(J1883=\"\",\"\",'Step 3) Fit Distribution'!$F$3*E1883+'Step 3) Fit Distribution'!$F$4)","v":""},"","","","","","",""]
[null,{"$f":"IF(AND('Step 1) Select Data'!B1903=\"\",'Step 1) Select Data'!D1903<>\"\"),'Step 1) Select Data'!D1903,\"\")","v":""},"",{"$f":"IF(B1884=\"\",\"\",'Step 1) Select Data'!E1903)","v":""},"","","","","","",{"$f":"IF(J1884=\"\",\"\",'Step 3) Fit Distribution'!$F$3*E1884+'Step 3) Fit Distribution'!$F$4)","v":""},"","","","","","",""]
[null,{"$f":"IF(AND('Step 1) Select Data'!B1904=\"\",'Step 1) Select Data'!D1904<>\"\"),'Step 1) Select Data'!D1904,\"\")","v":""},"",{"$f":"IF(B1885=\"\",\"\",'Step 1) Select Data'!E1904)","v":""},"","","","","","",{"$f":"IF(J1885=\"\",\"\",'Step 3) Fit Distribution'!$F$3*E1885+'Step 3) Fit Distribution'!$F$4)","v":""},"","","","","","",""]
[null,{"$f":"IF(AND('Step 1) Select Data'!B1905=\"\",'Step 1) Select Data'!D1905<>\"\"),'Step 1) Select Data'!D1905,\"\")","v":""},"",{"$f":"IF(B1886=\"\",\"\",'Step 1) Select Data'!E1905)","v":""},"","","","","","",{"$f":"IF(J1886=\"\",\"\",'Step 3) Fit Distribution'!$F$3*E1886+'Step 3) Fit Distribution'!$F$4)","v":""},"","","","","","",""]
[null,{"$f":"IF(AND('Step 1) Select Data'!B1906=\"\",'Step 1) Select Data'!D1906<>\"\"),'Step 1) Select Data'!D1906,\"\")","v":""},"",{"$f":"IF(B1887=\"\",\"\",'Step 1) Select Data'!E1906)","v":""},"","","","","","",{"$f":"IF(J1887=\"\",\"\",'Step 3) Fit Distribution'!$F$3*E1887+'Step 3) Fit Distribution'!$F$4)","v":""},"","","","","","",""]
[null,{"$f":"IF(AND('Step 1) Select Data'!B1907=\"\",'Step 1) Select Data'!D1907<>\"\"),'Step 1) Select Data'!D1907,\"\")","v":""},"",{"$f":"IF(B1888=\"\",\"\",'Step 1) Select Data'!E1907)","v":""},"","","","","","",{"$f":"IF(J1888=\"\",\"\",'Step 3) Fit Distribution'!$F$3*E1888+'Step 3) Fit Distribution'!$F$4)","v":""},"","","","","","",""]
[null,{"$f":"IF(AND('Step 1) Select Data'!B1908=\"\",'Step 1) Select Data'!D1908<>\"\"),'Step 1) Select Data'!D1908,\"\")","v":""},"",{"$f":"IF(B1889=\"\",\"\",'Step 1) Select Data'!E1908)","v":""},"","","","","","",{"$f":"IF(J1889=\"\",\"\",'Step 3) Fit Distribution'!$F$3*E1889+'Step 3) Fit Distribution'!$F$4)","v":""},"","","","","","",""]
[null,{"$f":"IF(AND('Step 1) Select Data'!B1909=\"\",'Step 1) Select Data'!D1909<>\"\"),'Step 1) Select Data'!D1909,\"\")","v":""},"",{"$f":"IF(B1890=\"\",\"\",'Step 1) Select Data'!E1909)","v":""},"","","","","","",{"$f":"IF(J1890=\"\",\"\",'Step 3) Fit Distribution'!$F$3*E1890+'Step 3) Fit Distribution'!$F$4)","v":""},"","","","","","",""]
[null,{"$f":"IF(AND('Step 1) Select Data'!B1910=\"\",'Step 1) Select Data'!D1910<>\"\"),'Step 1) Select Data'!D1910,\"\")","v":""},"",{"$f":"IF(B1891=\"\",\"\",'Step 1) Select Data'!E1910)","v":""},"","","","","","",{"$f":"IF(J1891=\"\",\"\",'Step 3) Fit Distribution'!$F$3*E1891+'Step 3) Fit Distribution'!$F$4)","v":""},"","","","","","",""]
[null,{"$f":"IF(AND('Step 1) Select Data'!B1911=\"\",'Step 1) Select Data'!D1911<>\"\"),'Step 1) Select Data'!D1911,\"\")","v":""},"",{"$f":"IF(B1892=\"\",\"\",'Step 1) Select Data'!E1911)","v":""},"","","","","","",{"$f":"IF(J1892=\"\",\"\",'Step 3) Fit Distribution'!$F$3*E1892+'Step 3) Fit Distribution'!$F$4)","v":""},"","","","","","",""]
[null,{"$f":"IF(AND('Step 1) Select Data'!B1912=\"\",'Step 1) Select Data'!D1912<>\"\"),'Step 1) Select Data'!D1912,\"\")","v":""},"",{"$f":"IF(B1893=\"\",\"\",'Step 1) Select Data'!E1912)","v":""},"","","","","","",{"$f":"IF(J1893=\"\",\"\",'Step 3) Fit Distribution'!$F$3*E1893+'Step 3) Fit Distribution'!$F$4)","v":""},"","","","","","",""]
[null,{"$f":"IF(AND('Step 1) Select Data'!B1913=\"\",'Step 1) Select Data'!D1913<>\"\"),'Step 1) Select Data'!D1913,\"\")","v":""},"",{"$f":"IF(B1894=\"\",\"\",'Step 1) Select Data'!E1913)","v":""},"","","","","","",{"$f":"IF(J1894=\"\",\"\",'Step 3) Fit Distribution'!$F$3*E1894+'Step 3) Fit Distribution'!$F$4)","v":""},"","","","","","",""]
[null,{"$f":"IF(AND('Step 1) Select Data'!B1914=\"\",'Step 1) Select Data'!D1914<>\"\"),'Step 1) Select Data'!D1914,\"\")","v":""},"",{"$f":"IF(B1895=\"\",\"\",'Step 1) Select Data'!E1914)","v":""},"","","","","","",{"$f":"IF(J1895=\"\",\"\",'Step 3) Fit Distribution'!$F$3*E1895+'Step 3) Fit Distribution'!$F$4)","v":""},"","","","","","",""]
[null,{"$f":"IF(AND('Step 1) Select Data'!B1915=\"\",'Step 1) Select Data'!D1915<>\"\"),'Step 1) Select Data'!D1915,\"\")","v":""},"",{"$f":"IF(B1896=\"\",\"\",'Step 1) Select Data'!E1915)","v":""},"","","","","","",{"$f":"IF(J1896=\"\",\"\",'Step 3) Fit Distribution'!$F$3*E1896+'Step 3) Fit Distribution'!$F$4)","v":""},"","","","","","",""]
[null,{"$f":"IF(AND('Step 1) Select Data'!B1916=\"\",'Step 1) Select Data'!D1916<>\"\"),'Step 1) Select Data'!D1916,\"\")","v":""},"",{"$f":"IF(B1897=\"\",\"\",'Step 1) Select Data'!E1916)","v":""},"","","","","","",{"$f":"IF(J1897=\"\",\"\",'Step 3) Fit Distribution'!$F$3*E1897+'Step 3) Fit Distribution'!$F$4)","v":""},"","","","","","",""]
[null,{"$f":"IF(AND('Step 1) Select Data'!B1917=\"\",'Step 1) Select Data'!D1917<>\"\"),'Step 1) Select Data'!D1917,\"\")","v":""},"",{"$f":"IF(B1898=\"\",\"\",'Step 1) Select Data'!E1917)","v":""},"","","","","","",{"$f":"IF(J1898=\"\",\"\",'Step 3) Fit Distribution'!$F$3*E1898+'Step 3) Fit Distribution'!$F$4)","v":""},"","","","","","",""]
[null,{"$f":"IF(AND('Step 1) Select Data'!B1918=\"\",'Step 1) Select Data'!D1918<>\"\"),'Step 1) Select Data'!D1918,\"\")","v":""},"",{"$f":"IF(B1899=\"\",\"\",'Step 1) Select Data'!E1918)","v":""},"","","","","","",{"$f":"IF(J1899=\"\",\"\",'Step 3) Fit Distribution'!$F$3*E1899+'Step 3) Fit Distribution'!$F$4)","v":""},"","","","","","",""]
[null,{"$f":"IF(AND('Step 1) Select Data'!B1919=\"\",'Step 1) Select Data'!D1919<>\"\"),'Step 1) Select Data'!D1919,\"\")","v":""},"",{"$f":"IF(B1900=\"\",\"\",'Step 1) Select Data'!E1919)","v":""},"","","","","","",{"$f":"IF(J1900=\"\",\"\",'Step 3) Fit Distribution'!$F$3*E1900+'Step 3) Fit Distribution'!$F$4)","v":""},"","","","","","",""]
[null,{"$f":"IF(AND('Step 1) Select Data'!B1920=\"\",'Step 1) Select Data'!D1920<>\"\"),'Step 1) Select Data'!D1920,\"\")","v":""},"",{"$f":"IF(B1901=\"\",\"\",'Step 1) Select Data'!E1920)","v":""},"","","","","","",{"$f":"IF(J1901=\"\",\"\",'Step 3) Fit Distribution'!$F$3*E1901+'Step 3) Fit Distribution'!$F$4)","v":""},"","","","","","",""]
[null,{"$f":"IF(AND('Step 1) Select Data'!B1921=\"\",'Step 1) Select Data'!D1921<>\"\"),'Step 1) Select Data'!D1921,\"\")","v":""},"",{"$f":"IF(B1902=\"\",\"\",'Step 1) Select Data'!E1921)","v":""},"","","","","","",{"$f":"IF(J1902=\"\",\"\",'Step 3) Fit Distribution'!$F$3*E1902+'Step 3) Fit Distribution'!$F$4)","v":""},"","","","","","",""]
[null,{"$f":"IF(AND('Step 1) Select Data'!B1922=\"\",'Step 1) Select Data'!D1922<>\"\"),'Step 1) Select Data'!D1922,\"\")","v":""},"",{"$f":"IF(B1903=\"\",\"\",'Step 1) Select Data'!E1922)","v":""},"","","","","","",{"$f":"IF(J1903=\"\",\"\",'Step 3) Fit Distribution'!$F$3*E1903+'Step 3) Fit Distribution'!$F$4)","v":""},"","","","","","",""]
[null,{"$f":"IF(AND('Step 1) Select Data'!B1923=\"\",'Step 1) Select Data'!D1923<>\"\"),'Step 1) Select Data'!D1923,\"\")","v":""},"",{"$f":"IF(B1904=\"\",\"\",'Step 1) Select Data'!E1923)","v":""},"","","","","","",{"$f":"IF(J1904=\"\",\"\",'Step 3) Fit Distribution'!$F$3*E1904+'Step 3) Fit Distribution'!$F$4)","v":""},"","","","","","",""]
[null,{"$f":"IF(AND('Step 1) Select Data'!B1924=\"\",'Step 1) Select Data'!D1924<>\"\"),'Step 1) Select Data'!D1924,\"\")","v":""},"",{"$f":"IF(B1905=\"\",\"\",'Step 1) Select Data'!E1924)","v":""},"","","","","","",{"$f":"IF(J1905=\"\",\"\",'Step 3) Fit Distribution'!$F$3*E1905+'Step 3) Fit Distribution'!$F$4)","v":""},"","","","","","",""]
[null,{"$f":"IF(AND('Step 1) Select Data'!B1925=\"\",'Step 1) Select Data'!D1925<>\"\"),'Step 1) Select Data'!D1925,\"\")","v":""},"",{"$f":"IF(B1906=\"\",\"\",'Step 1) Select Data'!E1925)","v":""},"","","","","","",{"$f":"IF(J1906=\"\",\"\",'Step 3) Fit Distribution'!$F$3*E1906+'Step 3) Fit Distribution'!$F$4)","v":""},"","","","","","",""]
[null,{"$f":"IF(AND('Step 1) Select Data'!B1926=\"\",'Step 1) Select Data'!D1926<>\"\"),'Step 1) Select Data'!D1926,\"\")","v":""},"",{"$f":"IF(B1907=\"\",\"\",'Step 1) Select Data'!E1926)","v":""},"","","","","","",{"$f":"IF(J1907=\"\",\"\",'Step 3) Fit Distribution'!$F$3*E1907+'Step 3) Fit Distribution'!$F$4)","v":""},"","","","","","",""]
[null,{"$f":"IF(AND('Step 1) Select Data'!B1927=\"\",'Step 1) Select Data'!D1927<>\"\"),'Step 1) Select Data'!D1927,\"\")","v":""},"",{"$f":"IF(B1908=\"\",\"\",'Step 1) Select Data'!E1927)","v":""},"","","","","","",{"$f":"IF(J1908=\"\",\"\",'Step 3) Fit Distribution'!$F$3*E1908+'Step 3) Fit Distribution'!$F$4)","v":""},"","","","","","",""]
[null,{"$f":"IF(AND('Step 1) Select Data'!B1928=\"\",'Step 1) Select Data'!D1928<>\"\"),'Step 1) Select Data'!D1928,\"\")","v":""},"",{"$f":"IF(B1909=\"\",\"\",'Step 1) Select Data'!E1928)","v":""},"","","","","","",{"$f":"IF(J1909=\"\",\"\",'Step 3) Fit Distribution'!$F$3*E1909+'Step 3) Fit Distribution'!$F$4)","v":""},"","","","","","",""]
[null,{"$f":"IF(AND('Step 1) Select Data'!B1929=\"\",'Step 1) Select Data'!D1929<>\"\"),'Step 1) Select Data'!D1929,\"\")","v":""},"",{"$f":"IF(B1910=\"\",\"\",'Step 1) Select Data'!E1929)","v":""},"","","","","","",{"$f":"IF(J1910=\"\",\"\",'Step 3) Fit Distribution'!$F$3*E1910+'Step 3) Fit Distribution'!$F$4)","v":""},"","","","","","",""]
[null,{"$f":"IF(AND('Step 1) Select Data'!B1930=\"\",'Step 1) Select Data'!D1930<>\"\"),'Step 1) Select Data'!D1930,\"\")","v":""},"",{"$f":"IF(B1911=\"\",\"\",'Step 1) Select Data'!E1930)","v":""},"","","","","","",{"$f":"IF(J1911=\"\",\"\",'Step 3) Fit Distribution'!$F$3*E1911+'Step 3) Fit Distribution'!$F$4)","v":""},"","","","","","",""]
[null,{"$f":"IF(AND('Step 1) Select Data'!B1931=\"\",'Step 1) Select Data'!D1931<>\"\"),'Step 1) Select Data'!D1931,\"\")","v":""},"",{"$f":"IF(B1912=\"\",\"\",'Step 1) Select Data'!E1931)","v":""},"","","","","","",{"$f":"IF(J1912=\"\",\"\",'Step 3) Fit Distribution'!$F$3*E1912+'Step 3) Fit Distribution'!$F$4)","v":""},"","","","","","",""]
[null,{"$f":"IF(AND('Step 1) Select Data'!B1932=\"\",'Step 1) Select Data'!D1932<>\"\"),'Step 1) Select Data'!D1932,\"\")","v":""},"",{"$f":"IF(B1913=\"\",\"\",'Step 1) Select Data'!E1932)","v":""},"","","","","","",{"$f":"IF(J1913=\"\",\"\",'Step 3) Fit Distribution'!$F$3*E1913+'Step 3) Fit Distribution'!$F$4)","v":""},"","","","","","",""]
[null,{"$f":"IF(AND('Step 1) Select Data'!B1933=\"\",'Step 1) Select Data'!D1933<>\"\"),'Step 1) Select Data'!D1933,\"\")","v":""},"",{"$f":"IF(B1914=\"\",\"\",'Step 1) Select Data'!E1933)","v":""},"","","","","","",{"$f":"IF(J1914=\"\",\"\",'Step 3) Fit Distribution'!$F$3*E1914+'Step 3) Fit Distribution'!$F$4)","v":""},"","","","","","",""]
[null,{"$f":"IF(AND('Step 1) Select Data'!B1934=\"\",'Step 1) Select Data'!D1934<>\"\"),'Step 1) Select Data'!D1934,\"\")","v":""},"",{"$f":"IF(B1915=\"\",\"\",'Step 1) Select Data'!E1934)","v":""},"","","","","","",{"$f":"IF(J1915=\"\",\"\",'Step 3) Fit Distribution'!$F$3*E1915+'Step 3) Fit Distribution'!$F$4)","v":""},"","","","","","",""]
[null,{"$f":"IF(AND('Step 1) Select Data'!B1935=\"\",'Step 1) Select Data'!D1935<>\"\"),'Step 1) Select Data'!D1935,\"\")","v":""},"",{"$f":"IF(B1916=\"\",\"\",'Step 1) Select Data'!E1935)","v":""},"","","","","","",{"$f":"IF(J1916=\"\",\"\",'Step 3) Fit Distribution'!$F$3*E1916+'Step 3) Fit Distribution'!$F$4)","v":""},"","","","","","",""]
[null,{"$f":"IF(AND('Step 1) Select Data'!B1936=\"\",'Step 1) Select Data'!D1936<>\"\"),'Step 1) Select Data'!D1936,\"\")","v":""},"",{"$f":"IF(B1917=\"\",\"\",'Step 1) Select Data'!E1936)","v":""},"","","","","","",{"$f":"IF(J1917=\"\",\"\",'Step 3) Fit Distribution'!$F$3*E1917+'Step 3) Fit Distribution'!$F$4)","v":""},"","","","","","",""]
[null,{"$f":"IF(AND('Step 1) Select Data'!B1937=\"\",'Step 1) Select Data'!D1937<>\"\"),'Step 1) Select Data'!D1937,\"\")","v":""},"",{"$f":"IF(B1918=\"\",\"\",'Step 1) Select Data'!E1937)","v":""},"","","","","","",{"$f":"IF(J1918=\"\",\"\",'Step 3) Fit Distribution'!$F$3*E1918+'Step 3) Fit Distribution'!$F$4)","v":""},"","","","","","",""]
[null,{"$f":"IF(AND('Step 1) Select Data'!B1938=\"\",'Step 1) Select Data'!D1938<>\"\"),'Step 1) Select Data'!D1938,\"\")","v":""},"",{"$f":"IF(B1919=\"\",\"\",'Step 1) Select Data'!E1938)","v":""},"","","","","","",{"$f":"IF(J1919=\"\",\"\",'Step 3) Fit Distribution'!$F$3*E1919+'Step 3) Fit Distribution'!$F$4)","v":""},"","","","","","",""]
[null,{"$f":"IF(AND('Step 1) Select Data'!B1939=\"\",'Step 1) Select Data'!D1939<>\"\"),'Step 1) Select Data'!D1939,\"\")","v":""},"",{"$f":"IF(B1920=\"\",\"\",'Step 1) Select Data'!E1939)","v":""},"","","","","","",{"$f":"IF(J1920=\"\",\"\",'Step 3) Fit Distribution'!$F$3*E1920+'Step 3) Fit Distribution'!$F$4)","v":""},"","","","","","",""]
[null,{"$f":"IF(AND('Step 1) Select Data'!B1940=\"\",'Step 1) Select Data'!D1940<>\"\"),'Step 1) Select Data'!D1940,\"\")","v":""},"",{"$f":"IF(B1921=\"\",\"\",'Step 1) Select Data'!E1940)","v":""},"","","","","","",{"$f":"IF(J1921=\"\",\"\",'Step 3) Fit Distribution'!$F$3*E1921+'Step 3) Fit Distribution'!$F$4)","v":""},"","","","","","",""]
[null,{"$f":"IF(AND('Step 1) Select Data'!B1941=\"\",'Step 1) Select Data'!D1941<>\"\"),'Step 1) Select Data'!D1941,\"\")","v":""},"",{"$f":"IF(B1922=\"\",\"\",'Step 1) Select Data'!E1941)","v":""},"","","","","","",{"$f":"IF(J1922=\"\",\"\",'Step 3) Fit Distribution'!$F$3*E1922+'Step 3) Fit Distribution'!$F$4)","v":""},"","","","","","",""]
[null,{"$f":"IF(AND('Step 1) Select Data'!B1942=\"\",'Step 1) Select Data'!D1942<>\"\"),'Step 1) Select Data'!D1942,\"\")","v":""},"",{"$f":"IF(B1923=\"\",\"\",'Step 1) Select Data'!E1942)","v":""},"","","","","","",{"$f":"IF(J1923=\"\",\"\",'Step 3) Fit Distribution'!$F$3*E1923+'Step 3) Fit Distribution'!$F$4)","v":""},"","","","","","",""]
[null,{"$f":"IF(AND('Step 1) Select Data'!B1943=\"\",'Step 1) Select Data'!D1943<>\"\"),'Step 1) Select Data'!D1943,\"\")","v":""},"",{"$f":"IF(B1924=\"\",\"\",'Step 1) Select Data'!E1943)","v":""},"","","","","","",{"$f":"IF(J1924=\"\",\"\",'Step 3) Fit Distribution'!$F$3*E1924+'Step 3) Fit Distribution'!$F$4)","v":""},"","","","","","",""]
[null,{"$f":"IF(AND('Step 1) Select Data'!B1944=\"\",'Step 1) Select Data'!D1944<>\"\"),'Step 1) Select Data'!D1944,\"\")","v":""},"",{"$f":"IF(B1925=\"\",\"\",'Step 1) Select Data'!E1944)","v":""},"","","","","","",{"$f":"IF(J1925=\"\",\"\",'Step 3) Fit Distribution'!$F$3*E1925+'Step 3) Fit Distribution'!$F$4)","v":""},"","","","","","",""]
[null,{"$f":"IF(AND('Step 1) Select Data'!B1945=\"\",'Step 1) Select Data'!D1945<>\"\"),'Step 1) Select Data'!D1945,\"\")","v":""},"",{"$f":"IF(B1926=\"\",\"\",'Step 1) Select Data'!E1945)","v":""},"","","","","","",{"$f":"IF(J1926=\"\",\"\",'Step 3) Fit Distribution'!$F$3*E1926+'Step 3) Fit Distribution'!$F$4)","v":""},"","","","","","",""]
[null,{"$f":"IF(AND('Step 1) Select Data'!B1946=\"\",'Step 1) Select Data'!D1946<>\"\"),'Step 1) Select Data'!D1946,\"\")","v":""},{"$f":"IF(B1927=\"\",\"\",IF(OR(M1927>=M1928,M1928=\"\"),M1927,\"\"))","v":""},{"$f":"IF(B1927=\"\",\"\",'Step 1) Select Data'!E1946)","v":""},{"$f":"IF(C1927=\"\",\"\",LOG10(N1927)*(1/C1927))","v":""},{"$f":"IF(OR(M1927=\"\",C1927=1),\"\",IF(C1927=\"\",\"\",SQRT(R1927/(C1927-1))))","v":""},{"$f":"IF(E1927=\"\",\"\",10^E1927)","v":""},{"$f":"IF(I1927=\"\",\"\",(I1927-0.5)/COUNT($E$6:$E$2004))","v":""},{"$f":"IF(E1927=\"\",\"\",RANK(E1927,$E$6:$E$2004,1))","v":""},{"$f":"IF(H1927=\"\",\"\",NORMINV(H1927,5,1))","v":""},{"$f":"IF(J1927=\"\",\"\",'Step 3) Fit Distribution'!$F$3*E1927+'Step 3) Fit Distribution'!$F$4)","v":""},{"$f":"IF(K1927=\"\",\"\",(K1927-J1927)^2)","v":""},{"$f":"IF(B1927=\"\",\"\",IF(B1927<>B1926,1,M1926+1))","v":""},{"$f":"IF(B1927=\"\",\"\",IF(B1927<>B1926,ROUND(D1927,4),ROUND(D1927,4)*N1926))","v":""},{"$f":"IF(OR(M1927=\"\",C1927=1),\"\",IF(AND(M1927<>\"\",C1927=\"\",E1927=\"\"),O1928,E1927))","v":""},{"$f":"IF(OR(M1927=\"\",C1927=1),\"\",IF(AND(M1927<>\"\",C1927=\"\",E1927=\"\"),P1928,C1927))","v":""},"",{"$f":"IF(Q1927=\"\",\"\",IF(O1927=O1926,Q1927+R1926,Q1927))","v":""}]
[null,{"$f":"IF(AND('Step 1) Select Data'!B1947=\"\",'Step 1) Select Data'!D1947<>\"\"),'Step 1) Select Data'!D1947,\"\")","v":""},"",{"$f":"IF(B1928=\"\",\"\",'Step 1) Select Data'!E1947)","v":""},"","","","","","",{"$f":"IF(J1928=\"\",\"\",'Step 3) Fit Distribution'!$F$3*E1928+'Step 3) Fit Distribution'!$F$4)","v":""},"","","","","","",""]
[null,{"$f":"IF(AND('Step 1) Select Data'!B1948=\"\",'Step 1) Select Data'!D1948<>\"\"),'Step 1) Select Data'!D1948,\"\")","v":""},"",{"$f":"IF(B1929=\"\",\"\",'Step 1) Select Data'!E1948)","v":""},"","","","","","",{"$f":"IF(J1929=\"\",\"\",'Step 3) Fit Distribution'!$F$3*E1929+'Step 3) Fit Distribution'!$F$4)","v":""},"","","","","","",""]
[null,{"$f":"IF(AND('Step 1) Select Data'!B1949=\"\",'Step 1) Select Data'!D1949<>\"\"),'Step 1) Select Data'!D1949,\"\")","v":""},"",{"$f":"IF(B1930=\"\",\"\",'Step 1) Select Data'!E1949)","v":""},"","","","","","",{"$f":"IF(J1930=\"\",\"\",'Step 3) Fit Distribution'!$F$3*E1930+'Step 3) Fit Distribution'!$F$4)","v":""},"","","","","","",""]
[null,{"$f":"IF(AND('Step 1) Select Data'!B1950=\"\",'Step 1) Select Data'!D1950<>\"\"),'Step 1) Select Data'!D1950,\"\")","v":""},"",{"$f":"IF(B1931=\"\",\"\",'Step 1) Select Data'!E1950)","v":""},"","","","","","",{"$f":"IF(J1931=\"\",\"\",'Step 3) Fit Distribution'!$F$3*E1931+'Step 3) Fit Distribution'!$F$4)","v":""},"","","","","","",""]
[null,{"$f":"IF(AND('Step 1) Select Data'!B1951=\"\",'Step 1) Select Data'!D1951<>\"\"),'Step 1) Select Data'!D1951,\"\")","v":""},"",{"$f":"IF(B1932=\"\",\"\",'Step 1) Select Data'!E1951)","v":""},"","","","","","",{"$f":"IF(J1932=\"\",\"\",'Step 3) Fit Distribution'!$F$3*E1932+'Step 3) Fit Distribution'!$F$4)","v":""},"","","","","","",""]
[null,{"$f":"IF(AND('Step 1) Select Data'!B1952=\"\",'Step 1) Select Data'!D1952<>\"\"),'Step 1) Select Data'!D1952,\"\")","v":""},"",{"$f":"IF(B1933=\"\",\"\",'Step 1) Select Data'!E1952)","v":""},"","","","","","",{"$f":"IF(J1933=\"\",\"\",'Step 3) Fit Distribution'!$F$3*E1933+'Step 3) Fit Distribution'!$F$4)","v":""},"","","","","","",""]
[null,{"$f":"IF(AND('Step 1) Select Data'!B1953=\"\",'Step 1) Select Data'!D1953<>\"\"),'Step 1) Select Data'!D1953,\"\")","v":""},"",{"$f":"IF(B1934=\"\",\"\",'Step 1) Select Data'!E1953)","v":""},"","","","","","",{"$f":"IF(J1934=\"\",\"\",'Step 3) Fit Distribution'!$F$3*E1934+'Step 3) Fit Distribution'!$F$4)","v":""},"","","","","","",""]
[null,{"$f":"IF(AND('Step 1) Select Data'!B1954=\"\",'Step 1) Select Data'!D1954<>\"\"),'Step 1) Select Data'!D1954,\"\")","v":""},"",{"$f":"IF(B1935=\"\",\"\",'Step 1) Select Data'!E1954)","v":""},"","","","","","",{"$f":"IF(J1935=\"\",\"\",'Step 3) Fit Distribution'!$F$3*E1935+'Step 3) Fit Distribution'!$F$4)","v":""},"","","","","","",""]
[null,{"$f":"IF(AND('Step 1) Select Data'!B1955=\"\",'Step 1) Select Data'!D1955<>\"\"),'Step 1) Select Data'!D1955,\"\")","v":""},"",{"$f":"IF(B1936=\"\",\"\",'Step 1) Select Data'!E1955)","v":""},"","","","","","",{"$f":"IF(J1936=\"\",\"\",'Step 3) Fit Distribution'!$F$3*E1936+'Step 3) Fit Distribution'!$F$4)","v":""},"","","","","","",""]
[null,{"$f":"IF(AND('Step 1) Select Data'!B1956=\"\",'Step 1) Select Data'!D1956<>\"\"),'Step 1) Select Data'!D1956,\"\")","v":""},"",{"$f":"IF(B1937=\"\",\"\",'Step 1) Select Data'!E1956)","v":""},"","","","","","",{"$f":"IF(J1937=\"\",\"\",'Step 3) Fit Distribution'!$F$3*E1937+'Step 3) Fit Distribution'!$F$4)","v":""},"","","","","","",""]
[null,{"$f":"IF(AND('Step 1) Select Data'!B1957=\"\",'Step 1) Select Data'!D1957<>\"\"),'Step 1) Select Data'!D1957,\"\")","v":""},"",{"$f":"IF(B1938=\"\",\"\",'Step 1) Select Data'!E1957)","v":""},"","","","","","",{"$f":"IF(J1938=\"\",\"\",'Step 3) Fit Distribution'!$F$3*E1938+'Step 3) Fit Distribution'!$F$4)","v":""},"","","","","","",""]
[null,{"$f":"IF(AND('Step 1) Select Data'!B1958=\"\",'Step 1) Select Data'!D1958<>\"\"),'Step 1) Select Data'!D1958,\"\")","v":""},"",{"$f":"IF(B1939=\"\",\"\",'Step 1) Select Data'!E1958)","v":""},"","","","","","",{"$f":"IF(J1939=\"\",\"\",'Step 3) Fit Distribution'!$F$3*E1939+'Step 3) Fit Distribution'!$F$4)","v":""},"","","","","","",""]
[null,{"$f":"IF(AND('Step 1) Select Data'!B1959=\"\",'Step 1) Select Data'!D1959<>\"\"),'Step 1) Select Data'!D1959,\"\")","v":""},"",{"$f":"IF(B1940=\"\",\"\",'Step 1) Select Data'!E1959)","v":""},"","","","","","",{"$f":"IF(J1940=\"\",\"\",'Step 3) Fit Distribution'!$F$3*E1940+'Step 3) Fit Distribution'!$F$4)","v":""},"","","","","",{"$f":"IF(O1940=\"\",\"\",ROUND(LOG(D1940)-O1940,4)^2)","v":""},""]
[null,{"$f":"IF(AND('Step 1) Select Data'!B1960=\"\",'Step 1) Select Data'!D1960<>\"\"),'Step 1) Select Data'!D1960,\"\")","v":""},"",{"$f":"IF(B1941=\"\",\"\",'Step 1) Select Data'!E1960)","v":""},"","","","","","",{"$f":"IF(J1941=\"\",\"\",'Step 3) Fit Distribution'!$F$3*E1941+'Step 3) Fit Distribution'!$F$4)","v":""},"","","","","","",""]
[null,{"$f":"IF(AND('Step 1) Select Data'!B1961=\"\",'Step 1) Select Data'!D1961<>\"\"),'Step 1) Select Data'!D1961,\"\")","v":""},"",{"$f":"IF(B1942=\"\",\"\",'Step 1) Select Data'!E1961)","v":""},"","","","","","",{"$f":"IF(J1942=\"\",\"\",'Step 3) Fit Distribution'!$F$3*E1942+'Step 3) Fit Distribution'!$F$4)","v":""},"","","","","","",""]
[null,{"$f":"IF(AND('Step 1) Select Data'!B1962=\"\",'Step 1) Select Data'!D1962<>\"\"),'Step 1) Select Data'!D1962,\"\")","v":""},"",{"$f":"IF(B1943=\"\",\"\",'Step 1) Select Data'!E1962)","v":""},"","","","","","",{"$f":"IF(J1943=\"\",\"\",'Step 3) Fit Distribution'!$F$3*E1943+'Step 3) Fit Distribution'!$F$4)","v":""},"","","","","","",""]
[null,{"$f":"IF(AND('Step 1) Select Data'!B1963=\"\",'Step 1) Select Data'!D1963<>\"\"),'Step 1) Select Data'!D1963,\"\")","v":""},"",{"$f":"IF(B1944=\"\",\"\",'Step 1) Select Data'!E1963)","v":""},"","","","","","",{"$f":"IF(J1944=\"\",\"\",'Step 3) Fit Distribution'!$F$3*E1944+'Step 3) Fit Distribution'!$F$4)","v":""},"","","","","","",""]
[null,{"$f":"IF(AND('Step 1) Select Data'!B1964=\"\",'Step 1) Select Data'!D1964<>\"\"),'Step 1) Select Data'!D1964,\"\")","v":""},"",{"$f":"IF(B1945=\"\",\"\",'Step 1) Select Data'!E1964)","v":""},"","","","","","",{"$f":"IF(J1945=\"\",\"\",'Step 3) Fit Distribution'!$F$3*E1945+'Step 3) Fit Distribution'!$F$4)","v":""},"","","","","","",""]
[null,{"$f":"IF(AND('Step 1) Select Data'!B1965=\"\",'Step 1) Select Data'!D1965<>\"\"),'Step 1) Select Data'!D1965,\"\")","v":""},"",{"$f":"IF(B1946=\"\",\"\",'Step 1) Select Data'!E1965)","v":""},"","","","","","",{"$f":"IF(J1946=\"\",\"\",'Step 3) Fit Distribution'!$F$3*E1946+'Step 3) Fit Distribution'!$F$4)","v":""},"","","","","","",""]
[null,{"$f":"IF(AND('Step 1) Select Data'!B1966=\"\",'Step 1) Select Data'!D1966<>\"\"),'Step 1) Select Data'!D1966,\"\")","v":""},"",{"$f":"IF(B1947=\"\",\"\",'Step 1) Select Data'!E1966)","v":""},"","","","","","",{"$f":"IF(J1947=\"\",\"\",'Step 3) Fit Distribution'!$F$3*E1947+'Step 3) Fit Distribution'!$F$4)","v":""},"","","","","","",""]
[null,{"$f":"IF(AND('Step 1) Select Data'!B1967=\"\",'Step 1) Select Data'!D1967<>\"\"),'Step 1) Select Data'!D1967,\"\")","v":""},"",{"$f":"IF(B1948=\"\",\"\",'Step 1) Select Data'!E1967)","v":""},"","","","","","",{"$f":"IF(J1948=\"\",\"\",'Step 3) Fit Distribution'!$F$3*E1948+'Step 3) Fit Distribution'!$F$4)","v":""},"","","","","","",""]
[null,{"$f":"IF(AND('Step 1) Select Data'!B1968=\"\",'Step 1) Select Data'!D1968<>\"\"),'Step 1) Select Data'!D1968,\"\")","v":""},"",{"$f":"IF(B1949=\"\",\"\",'Step 1) Select Data'!E1968)","v":""},"","","","","","",{"$f":"IF(J1949=\"\",\"\",'Step 3) Fit Distribution'!$F$3*E1949+'Step 3) Fit Distribution'!$F$4)","v":""},"","","","","","",""]
[null,{"$f":"IF(AND('Step 1) Select Data'!B1969=\"\",'Step 1) Select Data'!D1969<>\"\"),'Step 1) Select Data'!D1969,\"\")","v":""},"",{"$f":"IF(B1950=\"\",\"\",'Step 1) Select Data'!E1969)","v":""},"","","","","","",{"$f":"IF(J1950=\"\",\"\",'Step 3) Fit Distribution'!$F$3*E1950+'Step 3) Fit Distribution'!$F$4)","v":""},"","","","","","",""]
[null,{"$f":"IF(AND('Step 1) Select Data'!B1970=\"\",'Step 1) Select Data'!D1970<>\"\"),'Step 1) Select Data'!D1970,\"\")","v":""},"",{"$f":"IF(B1951=\"\",\"\",'Step 1) Select Data'!E1970)","v":""},"","","","","","",{"$f":"IF(J1951=\"\",\"\",'Step 3) Fit Distribution'!$F$3*E1951+'Step 3) Fit Distribution'!$F$4)","v":""},"","","","","","",""]
[null,{"$f":"IF(AND('Step 1) Select Data'!B1971=\"\",'Step 1) Select Data'!D1971<>\"\"),'Step 1) Select Data'!D1971,\"\")","v":""},"",{"$f":"IF(B1952=\"\",\"\",'Step 1) Select Data'!E1971)","v":""},"","","","","","",{"$f":"IF(J1952=\"\",\"\",'Step 3) Fit Distribution'!$F$3*E1952+'Step 3) Fit Distribution'!$F$4)","v":""},"","","","","","",""]
[null,{"$f":"IF(AND('Step 1) Select Data'!B1972=\"\",'Step 1) Select Data'!D1972<>\"\"),'Step 1) Select Data'!D1972,\"\")","v":""},"",{"$f":"IF(B1953=\"\",\"\",'Step 1) Select Data'!E1972)","v":""},"","","","","","",{"$f":"IF(J1953=\"\",\"\",'Step 3) Fit Distribution'!$F$3*E1953+'Step 3) Fit Distribution'!$F$4)","v":""},"","","","","","",""]
[null,{"$f":"IF(AND('Step 1) Select Data'!B1973=\"\",'Step 1) Select Data'!D1973<>\"\"),'Step 1) Select Data'!D1973,\"\")","v":""},"",{"$f":"IF(B1954=\"\",\"\",'Step 1) Select Data'!E1973)","v":""},"","","","","","",{"$f":"IF(J1954=\"\",\"\",'Step 3) Fit Distribution'!$F$3*E1954+'Step 3) Fit Distribution'!$F$4)","v":""},"","","","","","",""]
[null,{"$f":"IF(AND('Step 1) Select Data'!B1974=\"\",'Step 1) Select Data'!D1974<>\"\"),'Step 1) Select Data'!D1974,\"\")","v":""},"",{"$f":"IF(B1955=\"\",\"\",'Step 1) Select Data'!E1974)","v":""},"","","","","","",{"$f":"IF(J1955=\"\",\"\",'Step 3) Fit Distribution'!$F$3*E1955+'Step 3) Fit Distribution'!$F$4)","v":""},"","","","","","",""]
[null,{"$f":"IF(AND('Step 1) Select Data'!B1975=\"\",'Step 1) Select Data'!D1975<>\"\"),'Step 1) Select Data'!D1975,\"\")","v":""},"",{"$f":"IF(B1956=\"\",\"\",'Step 1) Select Data'!E1975)","v":""},"","","","","","",{"$f":"IF(J1956=\"\",\"\",'Step 3) Fit Distribution'!$F$3*E1956+'Step 3) Fit Distribution'!$F$4)","v":""},"","","","","","",""]
[null,{"$f":"IF(AND('Step 1) Select Data'!B1976=\"\",'Step 1) Select Data'!D1976<>\"\"),'Step 1) Select Data'!D1976,\"\")","v":""},"",{"$f":"IF(B1957=\"\",\"\",'Step 1) Select Data'!E1976)","v":""},"","","","","","",{"$f":"IF(J1957=\"\",\"\",'Step 3) Fit Distribution'!$F$3*E1957+'Step 3) Fit Distribution'!$F$4)","v":""},"","","","","","",""]
[null,{"$f":"IF(AND('Step 1) Select Data'!B1977=\"\",'Step 1) Select Data'!D1977<>\"\"),'Step 1) Select Data'!D1977,\"\")","v":""},"",{"$f":"IF(B1958=\"\",\"\",'Step 1) Select Data'!E1977)","v":""},"","","","","","",{"$f":"IF(J1958=\"\",\"\",'Step 3) Fit Distribution'!$F$3*E1958+'Step 3) Fit Distribution'!$F$4)","v":""},"","","","","","",""]
[null,{"$f":"IF(AND('Step 1) Select Data'!B1978=\"\",'Step 1) Select Data'!D1978<>\"\"),'Step 1) Select Data'!D1978,\"\")","v":""},"",{"$f":"IF(B1959=\"\",\"\",'Step 1) Select Data'!E1978)","v":""},"","","","","","",{"$f":"IF(J1959=\"\",\"\",'Step 3) Fit Distribution'!$F$3*E1959+'Step 3) Fit Distribution'!$F$4)","v":""},"","","","","","",""]
[null,{"$f":"IF(AND('Step 1) Select Data'!B1979=\"\",'Step 1) Select Data'!D1979<>\"\"),'Step 1) Select Data'!D1979,\"\")","v":""},"",{"$f":"IF(B1960=\"\",\"\",'Step 1) Select Data'!E1979)","v":""},"","","","","","",{"$f":"IF(J1960=\"\",\"\",'Step 3) Fit Distribution'!$F$3*E1960+'Step 3) Fit Distribution'!$F$4)","v":""},"","","","","","",""]
[null,{"$f":"IF(AND('Step 1) Select Data'!B1980=\"\",'Step 1) Select Data'!D1980<>\"\"),'Step 1) Select Data'!D1980,\"\")","v":""},"",{"$f":"IF(B1961=\"\",\"\",'Step 1) Select Data'!E1980)","v":""},"","`","","","","",{"$f":"IF(J1961=\"\",\"\",'Step 3) Fit Distribution'!$F$3*E1961+'Step 3) Fit Distribution'!$F$4)","v":""},"","","","","","",""]
[null,{"$f":"IF(AND('Step 1) Select Data'!B1981=\"\",'Step 1) Select Data'!D1981<>\"\"),'Step 1) Select Data'!D1981,\"\")","v":""},"",{"$f":"IF(B1962=\"\",\"\",'Step 1) Select Data'!E1981)","v":""},"","","","","","",{"$f":"IF(J1962=\"\",\"\",'Step 3) Fit Distribution'!$F$3*E1962+'Step 3) Fit Distribution'!$F$4)","v":""},"","","","","","",""]
[null,{"$f":"IF(AND('Step 1) Select Data'!B1982=\"\",'Step 1) Select Data'!D1982<>\"\"),'Step 1) Select Data'!D1982,\"\")","v":""},"",{"$f":"IF(B1963=\"\",\"\",'Step 1) Select Data'!E1982)","v":""},"","","","","","",{"$f":"IF(J1963=\"\",\"\",'Step 3) Fit Distribution'!$F$3*E1963+'Step 3) Fit Distribution'!$F$4)","v":""},"","","","","","",""]
[null,{"$f":"IF(AND('Step 1) Select Data'!B1983=\"\",'Step 1) Select Data'!D1983<>\"\"),'Step 1) Select Data'!D1983,\"\")","v":""},"",{"$f":"IF(B1964=\"\",\"\",'Step 1) Select Data'!E1983)","v":""},"","","","","","",{"$f":"IF(J1964=\"\",\"\",'Step 3) Fit Distribution'!$F$3*E1964+'Step 3) Fit Distribution'!$F$4)","v":""},"","","","","","",""]
[null,{"$f":"IF(AND('Step 1) Select Data'!B1984=\"\",'Step 1) Select Data'!D1984<>\"\"),'Step 1) Select Data'!D1984,\"\")","v":""},"",{"$f":"IF(B1965=\"\",\"\",'Step 1) Select Data'!E1984)","v":""},"","","","","","",{"$f":"IF(J1965=\"\",\"\",'Step 3) Fit Distribution'!$F$3*E1965+'Step 3) Fit Distribution'!$F$4)","v":""},"","","","","","",""]
[null,{"$f":"IF(AND('Step 1) Select Data'!B1985=\"\",'Step 1) Select Data'!D1985<>\"\"),'Step 1) Select Data'!D1985,\"\")","v":""},"",{"$f":"IF(B1966=\"\",\"\",'Step 1) Select Data'!E1985)","v":""},"","","","","","",{"$f":"IF(J1966=\"\",\"\",'Step 3) Fit Distribution'!$F$3*E1966+'Step 3) Fit Distribution'!$F$4)","v":""},"","","","","","",""]
[null,{"$f":"IF(AND('Step 1) Select Data'!B1986=\"\",'Step 1) Select Data'!D1986<>\"\"),'Step 1) Select Data'!D1986,\"\")","v":""},"",{"$f":"IF(B1967=\"\",\"\",'Step 1) Select Data'!E1986)","v":""},"","","","","","",{"$f":"IF(J1967=\"\",\"\",'Step 3) Fit Distribution'!$F$3*E1967+'Step 3) Fit Distribution'!$F$4)","v":""},"","","","","","",""]
[null,{"$f":"IF(AND('Step 1) Select Data'!B1987=\"\",'Step 1) Select Data'!D1987<>\"\"),'Step 1) Select Data'!D1987,\"\")","v":""},"",{"$f":"IF(B1968=\"\",\"\",'Step 1) Select Data'!E1987)","v":""},"","","","","","",{"$f":"IF(J1968=\"\",\"\",'Step 3) Fit Distribution'!$F$3*E1968+'Step 3) Fit Distribution'!$F$4)","v":""},"","","","","","",""]
[null,{"$f":"IF(AND('Step 1) Select Data'!B1988=\"\",'Step 1) Select Data'!D1988<>\"\"),'Step 1) Select Data'!D1988,\"\")","v":""},"",{"$f":"IF(B1969=\"\",\"\",'Step 1) Select Data'!E1988)","v":""},"","","","","","",{"$f":"IF(J1969=\"\",\"\",'Step 3) Fit Distribution'!$F$3*E1969+'Step 3) Fit Distribution'!$F$4)","v":""},"","","","","","",""]
[null,{"$f":"IF(AND('Step 1) Select Data'!B1989=\"\",'Step 1) Select Data'!D1989<>\"\"),'Step 1) Select Data'!D1989,\"\")","v":""},"",{"$f":"IF(B1970=\"\",\"\",'Step 1) Select Data'!E1989)","v":""},"","","","","","",{"$f":"IF(J1970=\"\",\"\",'Step 3) Fit Distribution'!$F$3*E1970+'Step 3) Fit Distribution'!$F$4)","v":""},"","","","","","",""]
[null,{"$f":"IF(AND('Step 1) Select Data'!B1990=\"\",'Step 1) Select Data'!D1990<>\"\"),'Step 1) Select Data'!D1990,\"\")","v":""},"",{"$f":"IF(B1971=\"\",\"\",'Step 1) Select Data'!E1990)","v":""},"","","","","","",{"$f":"IF(J1971=\"\",\"\",'Step 3) Fit Distribution'!$F$3*E1971+'Step 3) Fit Distribution'!$F$4)","v":""},"","","","","","",""]
[null,{"$f":"IF(AND('Step 1) Select Data'!B1991=\"\",'Step 1) Select Data'!D1991<>\"\"),'Step 1) Select Data'!D1991,\"\")","v":""},"",{"$f":"IF(B1972=\"\",\"\",'Step 1) Select Data'!E1991)","v":""},"","","","","","",{"$f":"IF(J1972=\"\",\"\",'Step 3) Fit Distribution'!$F$3*E1972+'Step 3) Fit Distribution'!$F$4)","v":""},"","","","","","",""]
[null,{"$f":"IF(AND('Step 1) Select Data'!B1992=\"\",'Step 1) Select Data'!D1992<>\"\"),'Step 1) Select Data'!D1992,\"\")","v":""},"",{"$f":"IF(B1973=\"\",\"\",'Step 1) Select Data'!E1992)","v":""},"","","","","","",{"$f":"IF(J1973=\"\",\"\",'Step 3) Fit Distribution'!$F$3*E1973+'Step 3) Fit Distribution'!$F$4)","v":""},"","","","","","",""]
[null,{"$f":"IF(AND('Step 1) Select Data'!B1993=\"\",'Step 1) Select Data'!D1993<>\"\"),'Step 1) Select Data'!D1993,\"\")","v":""},"",{"$f":"IF(B1974=\"\",\"\",'Step 1) Select Data'!E1993)","v":""},"","","","","","",{"$f":"IF(J1974=\"\",\"\",'Step 3) Fit Distribution'!$F$3*E1974+'Step 3) Fit Distribution'!$F$4)","v":""},"","","","","","",""]
[null,{"$f":"IF(AND('Step 1) Select Data'!B1994=\"\",'Step 1) Select Data'!D1994<>\"\"),'Step 1) Select Data'!D1994,\"\")","v":""},"",{"$f":"IF(B1975=\"\",\"\",'Step 1) Select Data'!E1994)","v":""},"","","","","","",{"$f":"IF(J1975=\"\",\"\",'Step 3) Fit Distribution'!$F$3*E1975+'Step 3) Fit Distribution'!$F$4)","v":""},"","","","","","",""]
[null,{"$f":"IF(AND('Step 1) Select Data'!B1995=\"\",'Step 1) Select Data'!D1995<>\"\"),'Step 1) Select Data'!D1995,\"\")","v":""},"",{"$f":"IF(B1976=\"\",\"\",'Step 1) Select Data'!E1995)","v":""},"","","","","","",{"$f":"IF(J1976=\"\",\"\",'Step 3) Fit Distribution'!$F$3*E1976+'Step 3) Fit Distribution'!$F$4)","v":""},"","","","","","",""]
[null,{"$f":"IF(AND('Step 1) Select Data'!B1996=\"\",'Step 1) Select Data'!D1996<>\"\"),'Step 1) Select Data'!D1996,\"\")","v":""},"",{"$f":"IF(B1977=\"\",\"\",'Step 1) Select Data'!E1996)","v":""},"","","","","","",{"$f":"IF(J1977=\"\",\"\",'Step 3) Fit Distribution'!$F$3*E1977+'Step 3) Fit Distribution'!$F$4)","v":""},"","","","","","",""]
[null,{"$f":"IF(AND('Step 1) Select Data'!B1997=\"\",'Step 1) Select Data'!D1997<>\"\"),'Step 1) Select Data'!D1997,\"\")","v":""},"",{"$f":"IF(B1978=\"\",\"\",'Step 1) Select Data'!E1997)","v":""},"","","","","","",{"$f":"IF(J1978=\"\",\"\",'Step 3) Fit Distribution'!$F$3*E1978+'Step 3) Fit Distribution'!$F$4)","v":""},"","","","","","",""]
[null,{"$f":"IF(AND('Step 1) Select Data'!B1998=\"\",'Step 1) Select Data'!D1998<>\"\"),'Step 1) Select Data'!D1998,\"\")","v":""},"",{"$f":"IF(B1979=\"\",\"\",'Step 1) Select Data'!E1998)","v":""},"","","","","","",{"$f":"IF(J1979=\"\",\"\",'Step 3) Fit Distribution'!$F$3*E1979+'Step 3) Fit Distribution'!$F$4)","v":""},"","","","","","",""]
[null,{"$f":"IF(AND('Step 1) Select Data'!B1999=\"\",'Step 1) Select Data'!D1999<>\"\"),'Step 1) Select Data'!D1999,\"\")","v":""},"",{"$f":"IF(B1980=\"\",\"\",'Step 1) Select Data'!E1999)","v":""},"","","","","","",{"$f":"IF(J1980=\"\",\"\",'Step 3) Fit Distribution'!$F$3*E1980+'Step 3) Fit Distribution'!$F$4)","v":""},"","","","","","",""]
[null,{"$f":"IF(AND('Step 1) Select Data'!B2000=\"\",'Step 1) Select Data'!D2000<>\"\"),'Step 1) Select Data'!D2000,\"\")","v":""},"",{"$f":"IF(B1981=\"\",\"\",'Step 1) Select Data'!E2000)","v":""},"","","","","","",{"$f":"IF(J1981=\"\",\"\",'Step 3) Fit Distribution'!$F$3*E1981+'Step 3) Fit Distribution'!$F$4)","v":""},"","","","","","",""]
[null,{"$f":"IF(AND('Step 1) Select Data'!B2001=\"\",'Step 1) Select Data'!D2001<>\"\"),'Step 1) Select Data'!D2001,\"\")","v":""},"",{"$f":"IF(B1982=\"\",\"\",'Step 1) Select Data'!E2001)","v":""},"","","","","","",{"$f":"IF(J1982=\"\",\"\",'Step 3) Fit Distribution'!$F$3*E1982+'Step 3) Fit Distribution'!$F$4)","v":""},"","","","","","",""]
[null,{"$f":"IF(AND('Step 1) Select Data'!B2002=\"\",'Step 1) Select Data'!D2002<>\"\"),'Step 1) Select Data'!D2002,\"\")","v":""},"",{"$f":"IF(B1983=\"\",\"\",'Step 1) Select Data'!E2002)","v":""},"","","","","","",{"$f":"IF(J1983=\"\",\"\",'Step 3) Fit Distribution'!$F$3*E1983+'Step 3) Fit Distribution'!$F$4)","v":""},"","","","","","",""]
[null,{"$f":"IF(AND('Step 1) Select Data'!B2003=\"\",'Step 1) Select Data'!D2003<>\"\"),'Step 1) Select Data'!D2003,\"\")","v":""},"",{"$f":"IF(B1984=\"\",\"\",'Step 1) Select Data'!E2003)","v":""},"","","","","","",{"$f":"IF(J1984=\"\",\"\",'Step 3) Fit Distribution'!$F$3*E1984+'Step 3) Fit Distribution'!$F$4)","v":""},"","","","","","",""]
[null,{"$f":"IF(AND('Step 1) Select Data'!B2004=\"\",'Step 1) Select Data'!D2004<>\"\"),'Step 1) Select Data'!D2004,\"\")","v":""},"",{"$f":"IF(B1985=\"\",\"\",'Step 1) Select Data'!E2004)","v":""},"","","","","","",{"$f":"IF(J1985=\"\",\"\",'Step 3) Fit Distribution'!$F$3*E1985+'Step 3) Fit Distribution'!$F$4)","v":""},"","","","","","",""]
[null,{"$f":"IF(AND('Step 1) Select Data'!B2005=\"\",'Step 1) Select Data'!D2005<>\"\"),'Step 1) Select Data'!D2005,\"\")","v":""},"",{"$f":"IF(B1986=\"\",\"\",'Step 1) Select Data'!E2005)","v":""},"","","","","","",{"$f":"IF(J1986=\"\",\"\",'Step 3) Fit Distribution'!$F$3*E1986+'Step 3) Fit Distribution'!$F$4)","v":""},"","","","","","",""]
[null,{"$f":"IF(AND('Step 1) Select Data'!B2006=\"\",'Step 1) Select Data'!D2006<>\"\"),'Step 1) Select Data'!D2006,\"\")","v":""},"",{"$f":"IF(B1987=\"\",\"\",'Step 1) Select Data'!E2006)","v":""},"","","","","","",{"$f":"IF(J1987=\"\",\"\",'Step 3) Fit Distribution'!$F$3*E1987+'Step 3) Fit Distribution'!$F$4)","v":""},"","","","","","",""]
[null,{"$f":"IF(AND('Step 1) Select Data'!B2007=\"\",'Step 1) Select Data'!D2007<>\"\"),'Step 1) Select Data'!D2007,\"\")","v":""},"",{"$f":"IF(B1988=\"\",\"\",'Step 1) Select Data'!E2007)","v":""},"","","","","","",{"$f":"IF(J1988=\"\",\"\",'Step 3) Fit Distribution'!$F$3*E1988+'Step 3) Fit Distribution'!$F$4)","v":""},"","","","","","",""]
[null,{"$f":"IF(AND('Step 1) Select Data'!B2008=\"\",'Step 1) Select Data'!D2008<>\"\"),'Step 1) Select Data'!D2008,\"\")","v":""},"",{"$f":"IF(B1989=\"\",\"\",'Step 1) Select Data'!E2008)","v":""},"","","","","","",{"$f":"IF(J1989=\"\",\"\",'Step 3) Fit Distribution'!$F$3*E1989+'Step 3) Fit Distribution'!$F$4)","v":""},"","","","","","",""]
[null,{"$f":"IF(AND('Step 1) Select Data'!B2009=\"\",'Step 1) Select Data'!D2009<>\"\"),'Step 1) Select Data'!D2009,\"\")","v":""},"",{"$f":"IF(B1990=\"\",\"\",'Step 1) Select Data'!E2009)","v":""},"","","","","","",{"$f":"IF(J1990=\"\",\"\",'Step 3) Fit Distribution'!$F$3*E1990+'Step 3) Fit Distribution'!$F$4)","v":""},"","","","","","",""]
[null,{"$f":"IF(AND('Step 1) Select Data'!B2010=\"\",'Step 1) Select Data'!D2010<>\"\"),'Step 1) Select Data'!D2010,\"\")","v":""},{"$f":"IF(B1991=\"\",\"\",IF(OR(M1991>=M1992,M1992=\"\"),M1991,\"\"))","v":""},{"$f":"IF(B1991=\"\",\"\",'Step 1) Select Data'!E2010)","v":""},{"$f":"IF(C1991=\"\",\"\",LOG10(N1991)*(1/C1991))","v":""},{"$f":"IF(OR(M1991=\"\",C1991=1),\"\",IF(C1991=\"\",\"\",SQRT(R1991/(C1991-1))))","v":""},{"$f":"IF(E1991=\"\",\"\",10^E1991)","v":""},{"$f":"IF(I1991=\"\",\"\",(I1991-0.5)/COUNT($E$6:$E$2004))","v":""},{"$f":"IF(E1991=\"\",\"\",RANK(E1991,$E$6:$E$2004,1))","v":""},{"$f":"IF(H1991=\"\",\"\",NORMINV(H1991,5,1))","v":""},{"$f":"IF(J1991=\"\",\"\",'Step 3) Fit Distribution'!$F$3*E1991+'Step 3) Fit Distribution'!$F$4)","v":""},{"$f":"IF(K1991=\"\",\"\",(K1991-J1991)^2)","v":""},{"$f":"IF(B1991=\"\",\"\",IF(B1991<>B1990,1,M1990+1))","v":""},{"$f":"IF(B1991=\"\",\"\",IF(B1991<>B1990,ROUND(D1991,4),ROUND(D1991,4)*N1990))","v":""},{"$f":"IF(OR(M1991=\"\",C1991=1),\"\",IF(AND(M1991<>\"\",C1991=\"\",E1991=\"\"),O1992,E1991))","v":""},{"$f":"IF(OR(M1991=\"\",C1991=1),\"\",IF(AND(M1991<>\"\",C1991=\"\",E1991=\"\"),P1992,C1991))","v":""},"",{"$f":"IF(Q1991=\"\",\"\",IF(O1991=O1990,Q1991+R1990,Q1991))","v":""}]
[null,{"$f":"IF(AND('Step 1) Select Data'!B2011=\"\",'Step 1) Select Data'!D2011<>\"\"),'Step 1) Select Data'!D2011,\"\")","v":""},"",{"$f":"IF(B1992=\"\",\"\",'Step 1) Select Data'!E2011)","v":""},"","","","","","",{"$f":"IF(J1992=\"\",\"\",'Step 3) Fit Distribution'!$F$3*E1992+'Step 3) Fit Distribution'!$F$4)","v":""},"","","","","","",""]
[null,{"$f":"IF(AND('Step 1) Select Data'!B2012=\"\",'Step 1) Select Data'!D2012<>\"\"),'Step 1) Select Data'!D2012,\"\")","v":""},"",{"$f":"IF(B1993=\"\",\"\",'Step 1) Select Data'!E2012)","v":""},"","","","","","",{"$f":"IF(J1993=\"\",\"\",'Step 3) Fit Distribution'!$F$3*E1993+'Step 3) Fit Distribution'!$F$4)","v":""},"","","","","","",""]
[null,{"$f":"IF(AND('Step 1) Select Data'!B2013=\"\",'Step 1) Select Data'!D2013<>\"\"),'Step 1) Select Data'!D2013,\"\")","v":""},"",{"$f":"IF(B1994=\"\",\"\",'Step 1) Select Data'!E2013)","v":""},"","","","","","",{"$f":"IF(J1994=\"\",\"\",'Step 3) Fit Distribution'!$F$3*E1994+'Step 3) Fit Distribution'!$F$4)","v":""},"","","","","","",""]
[null,{"$f":"IF(AND('Step 1) Select Data'!B2014=\"\",'Step 1) Select Data'!D2014<>\"\"),'Step 1) Select Data'!D2014,\"\")","v":""},"",{"$f":"IF(B1995=\"\",\"\",'Step 1) Select Data'!E2014)","v":""},"","","","","","",{"$f":"IF(J1995=\"\",\"\",'Step 3) Fit Distribution'!$F$3*E1995+'Step 3) Fit Distribution'!$F$4)","v":""},"","","","","","",""]
[null,{"$f":"IF(AND('Step 1) Select Data'!B2015=\"\",'Step 1) Select Data'!D2015<>\"\"),'Step 1) Select Data'!D2015,\"\")","v":""},"",{"$f":"IF(B1996=\"\",\"\",'Step 1) Select Data'!E2015)","v":""},"","","","","","",{"$f":"IF(J1996=\"\",\"\",'Step 3) Fit Distribution'!$F$3*E1996+'Step 3) Fit Distribution'!$F$4)","v":""},"","","","","","",""]
[null,{"$f":"IF(AND('Step 1) Select Data'!B2016=\"\",'Step 1) Select Data'!D2016<>\"\"),'Step 1) Select Data'!D2016,\"\")","v":""},"",{"$f":"IF(B1997=\"\",\"\",'Step 1) Select Data'!E2016)","v":""},"","","","","","",{"$f":"IF(J1997=\"\",\"\",'Step 3) Fit Distribution'!$F$3*E1997+'Step 3) Fit Distribution'!$F$4)","v":""},"","","","","","",""]
[null,{"$f":"IF(AND('Step 1) Select Data'!B2017=\"\",'Step 1) Select Data'!D2017<>\"\"),'Step 1) Select Data'!D2017,\"\")","v":""},"",{"$f":"IF(B1998=\"\",\"\",'Step 1) Select Data'!E2017)","v":""},"","","","","","",{"$f":"IF(J1998=\"\",\"\",'Step 3) Fit Distribution'!$F$3*E1998+'Step 3) Fit Distribution'!$F$4)","v":""},"","","","","","",""]
[null,{"$f":"IF(AND('Step 1) Select Data'!B2018=\"\",'Step 1) Select Data'!D2018<>\"\"),'Step 1) Select Data'!D2018,\"\")","v":""},"",{"$f":"IF(B1999=\"\",\"\",'Step 1) Select Data'!E2018)","v":""},"","","","","","",{"$f":"IF(J1999=\"\",\"\",'Step 3) Fit Distribution'!$F$3*E1999+'Step 3) Fit Distribution'!$F$4)","v":""},"","","","","","",""]
[null,{"$f":"IF(AND('Step 1) Select Data'!B2019=\"\",'Step 1) Select Data'!D2019<>\"\"),'Step 1) Select Data'!D2019,\"\")","v":""},"",{"$f":"IF(B2000=\"\",\"\",'Step 1) Select Data'!E2019)","v":""},"","","","","","",{"$f":"IF(J2000=\"\",\"\",'Step 3) Fit Distribution'!$F$3*E2000+'Step 3) Fit Distribution'!$F$4)","v":""},"","","","","","",""]
[null,{"$f":"IF(AND('Step 1) Select Data'!B2020=\"\",'Step 1) Select Data'!D2020<>\"\"),'Step 1) Select Data'!D2020,\"\")","v":""},"",{"$f":"IF(B2001=\"\",\"\",'Step 1) Select Data'!E2020)","v":""},"","","","","","",{"$f":"IF(J2001=\"\",\"\",'Step 3) Fit Distribution'!$F$3*E2001+'Step 3) Fit Distribution'!$F$4)","v":""},"","","","","","",""]
[null,{"$f":"IF(AND('Step 1) Select Data'!B2021=\"\",'Step 1) Select Data'!D2021<>\"\"),'Step 1) Select Data'!D2021,\"\")","v":""},"",{"$f":"IF(B2002=\"\",\"\",'Step 1) Select Data'!E2021)","v":""},"","","","","","",{"$f":"IF(J2002=\"\",\"\",'Step 3) Fit Distribution'!$F$3*E2002+'Step 3) Fit Distribution'!$F$4)","v":""},"","","","","","",""]
[null,{"$f":"IF(AND('Step 1) Select Data'!B2022=\"\",'Step 1) Select Data'!D2022<>\"\"),'Step 1) Select Data'!D2022,\"\")","v":""},"",{"$f":"IF(B2003=\"\",\"\",'Step 1) Select Data'!E2022)","v":""},"","","","","","",{"$f":"IF(J2003=\"\",\"\",'Step 3) Fit Distribution'!$F$3*E2003+'Step 3) Fit Distribution'!$F$4)","v":""},"","","","","","",""]
[null,{"$f":"IF(AND('Step 1) Select Data'!B2023=\"\",'Step 1) Select Data'!D2023<>\"\"),'Step 1) Select Data'!D2023,\"\")","v":""},"",{"$f":"IF(B2004=\"\",\"\",'Step 1) Select Data'!E2023)","v":""},"","","","","","",{"$f":"IF(J2004=\"\",\"\",'Step 3) Fit Distribution'!$F$3*E2004+'Step 3) Fit Distribution'!$F$4)","v":""},"","","","","",{"$f":"IF(O2004=\"\",\"\",ROUND(LOG(D2004)-O2004,4)^2)","v":""},""]

{"sheet":"Step 3) Fit Distribution","index":5,"n_rows":2895,"n_cols":15,"rows_kept":2895,"cut":false,"hidden":false,"merged":[[1,1,1,2],[1,4,1,5]]}
[null,"Step 3) Fit Distribution",null,null,null,{"$f":"CONCATENATE('Step 2) Calculate'!B4,\" \",'Step 2) Calculate'!C4)","v":"Title: "},null,null,null,null,"Taxa","Mean Stressor Intensity","Standard Deviation","Proportion Taxa","Number of Observations"]
[null,"Site Observations",null,null,"PARAMETERS",null,null,null,null,null,{"$f":"IF(L2<>\"\",'Step 2) Calculate'!B6,\"Zzzzz - delete row\")","v":"Zzzzz - delete row"},{"$f":"IF('Step 2) Calculate'!E6<>\"\",'Step 2) Calculate'!G6,\"\")","v":""},{"$f":"IF(L2<>\"\",'Step 2) Calculate'!F6,\"\")","v":""},{"$f":"IF(L2<>\"\",'Step 2) Calculate'!H6,\"\")","v":""},{"$f":"IF(L2<>\"\",'Step 2) Calculate'!C6,\"\")","v":""}]
[null,"Label","Value",null,"Slope",{"$f":"SLOPE('Step 2) Calculate'!J6:J2004,'Step 2) Calculate'!E6:E2004)","v":{"$error":"#DIV/0!"}},null,null,null,null,{"$f":"IF(L3<>\"\",'Step 2) Calculate'!B7,\"Zzzzz - delete row\")","v":"Zzzzz - delete row"},{"$f":"IF('Step 2) Calculate'!E7<>\"\",'Step 2) Calculate'!G7,\"\")","v":""},{"$f":"IF(L3<>\"\",'Step 2) Calculate'!F7,\"\")","v":""},{"$f":"IF(L3<>\"\",'Step 2) Calculate'!H7,\"\")","v":""},{"$f":"IF(L3<>\"\",'Step 2) Calculate'!C7,\"\")","v":""}]
[null,null,null,null,"Intercept",{"$f":"INTERCEPT('Step 2) Calculate'!J6:J2004,'Step 2) Calculate'!E6:E2004)","v":{"$error":"#DIV/0!"}},null,null,null,null,{"$f":"IF(L4<>\"\",'Step 2) Calculate'!B8,\"Zzzzz - delete row\")","v":"Zzzzz - delete row"},{"$f":"IF('Step 2) Calculate'!E8<>\"\",'Step 2) Calculate'!G8,\"\")","v":""},{"$f":"IF(L4<>\"\",'Step 2) Calculate'!F8,\"\")","v":""},{"$f":"IF(L4<>\"\",'Step 2) Calculate'!H8,\"\")","v":""},{"$f":"IF(L4<>\"\",'Step 2) Calculate'!C8,\"\")","v":""}]
[null,null,null,null,"R2",{"$f":"RSQ('Step 2) Calculate'!J6:J2004,'Step 2) Calculate'!E6:E2004)","v":{"$error":"#DIV/0!"}},null,null,null,null,{"$f":"IF(L5<>\"\",'Step 2) Calculate'!B9,\"Zzzzz - delete row\")","v":"Zzzzz - delete row"},{"$f":"IF('Step 2) Calculate'!E9<>\"\",'Step 2) Calculate'!G9,\"\")","v":""},{"$f":"IF(L5<>\"\",'Step 2) Calculate'!F9,\"\")","v":""},{"$f":"IF(L5<>\"\",'Step 2) Calculate'!H9,\"\")","v":""},{"$f":"IF(L5<>\"\",'Step 2) Calculate'!C9,\"\")","v":""}]
[null,null,null,null,"GrandMean",{"$f":"AVERAGE('Step 2) Calculate'!E6:E2004)","v":{"$error":"#DIV/0!"}},null,null,null,null,{"$f":"IF(L6<>\"\",'Step 2) Calculate'!B10,\"Zzzzz - delete row\")","v":"Zzzzz - delete row"},{"$f":"IF('Step 2) Calculate'!E10<>\"\",'Step 2) Calculate'!G10,\"\")","v":""},{"$f":"IF(L6<>\"\",'Step 2) Calculate'!F10,\"\")","v":""},{"$f":"IF(L6<>\"\",'Step 2) Calculate'!H10,\"\")","v":""},{"$f":"IF(L6<>\"\",'Step 2) Calculate'!C10,\"\")","v":""}]
[null,null,null,null,"SumSQ",{"$f":"SUMSQ('Step 2) Calculate'!E6:E2004)","v":0},null,null,null,null,{"$f":"IF(L7<>\"\",'Step 2) Calculate'!B11,\"Zzzzz - delete row\")","v":"Zzzzz - delete row"},{"$f":"IF('Step 2) Calculate'!E11<>\"\",'Step 2) Calculate'!G11,\"\")","v":""},{"$f":"IF(L7<>\"\",'Step 2) Calculate'!F11,\"\")","v":""},{"$f":"IF(L7<>\"\",'Step 2) Calculate'!H11,\"\")","v":""},{"$f":"IF(L7<>\"\",'Step 2) Calculate'!C11,\"\")","v":""}]
[null,null,null,null,"CSSQ",{"$f":"F7-(SUM('Step 2) Calculate'!E6:E2004)^2)/COUNT('Step 2) Calculate'!E6:E2004)","v":{"$error":"#DIV/0!"}},null,null,null,null,{"$f":"IF(L8<>\"\",'Step 2) Calculate'!B12,\"Zzzzz - delete row\")","v":"Zzzzz - delete row"},{"$f":"IF('Step 2) Calculate'!E12<>\"\",'Step 2) Calculate'!G12,\"\")","v":""},{"$f":"IF(L8<>\"\",'Step 2) Calculate'!F12,\"\")","v":""},{"$f":"IF(L8<>\"\",'Step 2) Calculate'!H12,\"\")","v":""},{"$f":"IF(L8<>\"\",'Step 2) Calculate'!C12,\"\")","v":""}]
[null,null,null,null,"MSE",{"$f":"SUM('Step 2) Calculate'!L6:L2004)/(COUNT('Step 2) Calculate'!L6:L2004)-2)","v":0},null,null,null,null,{"$f":"IF(L9<>\"\",'Step 2) Calculate'!B13,\"Zzzzz - delete row\")","v":"Zzzzz - delete row"},{"$f":"IF('Step 2) Calculate'!E13<>\"\",'Step 2) Calculate'!G13,\"\")","v":""},{"$f":"IF(L9<>\"\",'Step 2) Calculate'!F13,\"\")","v":""},{"$f":"IF(L9<>\"\",'Step 2) Calculate'!H13,\"\")","v":""},{"$f":"IF(L9<>\"\",'Step 2) Calculate'!C13,\"\")","v":""}]
[null,null,null,null,"Tcrit",{"$f":"TINV(2*0.05,df)","v":{"$error":"#NUM!"}},null,null,null,null,{"$f":"IF(L10<>\"\",'Step 2) Calculate'!B14,\"Zzzzz - delete row\")","v":"Zzzzz - delete row"},{"$f":"IF('Step 2) Calculate'!E14<>\"\",'Step 2) Calculate'!G14,\"\")","v":""},{"$f":"IF(L10<>\"\",'Step 2) Calculate'!F14,\"\")","v":""},{"$f":"IF(L10<>\"\",'Step 2) Calculate'!H14,\"\")","v":""},{"$f":"IF(L10<>\"\",'Step 2) Calculate'!C14,\"\")","v":""}]
[null,null,null,null,"N",{"$f":"COUNT('Step 2) Calculate'!J6:J2004)","v":0},null,null,null,null,{"$f":"IF(L11<>\"\",'Step 2) Calculate'!B15,\"Zzzzz - delete row\")","v":"Zzzzz - delete row"},{"$f":"IF('Step 2) Calculate'!E15<>\"\",'Step 2) Calculate'!G15,\"\")","v":""},{"$f":"IF(L11<>\"\",'Step 2) Calculate'!F15,\"\")","v":""},{"$f":"IF(L11<>\"\",'Step 2) Calculate'!H15,\"\")","v":""},{"$f":"IF(L11<>\"\",'Step 2) Calculate'!C15,\"\")","v":""}]
[null,null,null,null,"df",{"$f":"F11-2","v":-2},null,null,null,null,{"$f":"IF(L12<>\"\",'Step 2) Calculate'!B16,\"Zzzzz - delete row\")","v":"Zzzzz - delete row"},{"$f":"IF('Step 2) Calculate'!E16<>\"\",'Step 2) Calculate'!G16,\"\")","v":""},{"$f":"IF(L12<>\"\",'Step 2) Calculate'!F16,\"\")","v":""},{"$f":"IF(L12<>\"\",'Step 2) Calculate'!H16,\"\")","v":""},{"$f":"IF(L12<>\"\",'Step 2) Calculate'!C16,\"\")","v":""}]
[null,null,null,null,null,null,null,null,null,null,{"$f":"IF(L13<>\"\",'Step 2) Calculate'!B17,\"Zzzzz - delete row\")","v":"Zzzzz - delete row"},{"$f":"IF('Step 2) Calculate'!E17<>\"\",'Step 2) Calculate'!G17,\"\")","v":""},{"$f":"IF(L13<>\"\",'Step 2) Calculate'!F17,\"\")","v":""},{"$f":"IF(L13<>\"\",'Step 2) Calculate'!H17,\"\")","v":""},{"$f":"IF(L13<>\"\",'Step 2) Calculate'!C17,\"\")","v":""}]
[null,"Proportion","Probit","Log Central Tendency","SSQ","Log         Upper PI","Log    Lower PI","Central Tendency","Upper PI","Lower PI",{"$f":"IF(L14<>\"\",'Step 2) Calculate'!B18,\"Zzzzz - delete row\")","v":"Zzzzz - delete row"},{"$f":"IF('Step 2) Calculate'!E18<>\"\",'Step 2) Calculate'!G18,\"\")","v":""},{"$f":"IF(L14<>\"\",'Step 2) Calculate'!F18,\"\")","v":""},{"$f":"IF(L14<>\"\",'Step 2) Calculate'!H18,\"\")","v":""},{"$f":"IF(L14<>\"\",'Step 2) Calculate'!C18,\"\")","v":""}]
[null,0.05,{"$f":"IF(B15=\"\",\"\",NORMINV(B15,5,1))","v":3.3551463730485276},{"$f":"(C15-Intercept)/Slope","v":{"$error":"#DIV/0!"}},{"$f":"MSE/(Slope^2)*(1+(1/NumSpp)+((D15-GrandMean)^2)/CSSQ)","v":{"$error":"#DIV/0!"}},{"$f":"D15+TCRIT*SQRT(E15)","v":{"$error":"#DIV/0!"}},{"$f":"D15-TCRIT*SQRT(E15)","v":{"$error":"#DIV/0!"}},{"$f":"10^D15","v":{"$error":"#DIV/0!"}},{"$f":"10^F15","v":{"$error":"#DIV/0!"}},{"$f":"10^G15","v":{"$error":"#DIV/0!"}},{"$f":"IF(L15<>\"\",'Step 2) Calculate'!B19,\"Zzzzz - delete row\")","v":"Zzzzz - delete row"},{"$f":"IF('Step 2) Calculate'!E19<>\"\",'Step 2) Calculate'!G19,\"\")","v":""},{"$f":"IF(L15<>\"\",'Step 2) Calculate'!F19,\"\")","v":""},{"$f":"IF(L15<>\"\",'Step 2) Calculate'!H19,\"\")","v":""},{"$f":"IF(L15<>\"\",'Step 2) Calculate'!C19,\"\")","v":""}]
[null,0.1,3.7184484344553992,{"$error":"#DIV/0!"},{"$error":"#DIV/0!"},{"$f":"D16+TCRIT*SQRT(E16)","v":{"$error":"#DIV/0!"}},{"$f":"D16-TCRIT*SQRT(E16)","v":{"$error":"#DIV/0!"}},{"$f":"10^D16","v":{"$error":"#DIV/0!"}},{"$f":"10^F16","v":{"$error":"#DIV/0!"}},{"$error":"#DIV/0!"},{"$f":"IF(L16<>\"\",'Step 2) Calculate'!B20,\"Zzzzz - delete row\")","v":"Zzzzz - delete row"},{"$f":"IF('Step 2) Calculate'!E20<>\"\",'Step 2) Calculate'!G20,\"\")","v":""},{"$f":"IF(L16<>\"\",'Step 2) Calculate'!F20,\"\")","v":""},{"$f":"IF(L16<>\"\",'Step 2) Calculate'!H20,\"\")","v":""},{"$f":"IF(L16<>\"\",'Step 2) Calculate'!C20,\"\")","v":""}]
[null,0.2,4.1583787664270853,{"$error":"#DIV/0!"},{"$error":"#DIV/0!"},{"$error":"#DIV/0!"},{"$error":"#DIV/0!"},{"$error":"#DIV/0!"},{"$error":"#DIV/0!"},{"$error":"#DIV/0!"},{"$f":"IF(L17<>\"\",'Step 2) Calculate'!B21,\"Zzzzz - delete row\")","v":"Zzzzz - delete row"},{"$f":"IF('Step 2) Calculate'!E21<>\"\",'Step 2) Calculate'!G21,\"\")","v":""},{"$f":"IF(L17<>\"\",'Step 2) Calculate'!F21,\"\")","v":""},{"$f":"IF(L17<>\"\",'Step 2) Calculate'!H21,\"\")","v":""},{"$f":"IF(L17<>\"\",'Step 2) Calculate'!C21,\"\")","v":""}]
[null,0.4,4.7466528968641999,{"$error":"#DIV/0!"},{"$error":"#DIV/0!"},{"$error":"#DIV/0!"},{"$error":"#DIV/0!"},{"$error":"#DIV/0!"},{"$error":"#DIV/0!"},{"$error":"#DIV/0!"},{"$f":"IF(L18<>\"\",'Step 2) Calculate'!B22,\"Zzzzz - delete row\")","v":"Zzzzz - delete row"},{"$f":"IF('Step 2) Calculate'!E22<>\"\",'Step 2) Calculate'!G22,\"\")","v":""},{"$f":"IF(L18<>\"\",'Step 2) Calculate'!F22,\"\")","v":""},{"$f":"IF(L18<>\"\",'Step 2) Calculate'!H22,\"\")","v":""},{"$f":"IF(L18<>\"\",'Step 2) Calculate'!C22,\"\")","v":""}]
[null,0.5,5,{"$error":"#DIV/0!"},{"$error":"#DIV/0!"},{"$error":"#DIV/0!"},{"$error":"#DIV/0!"},{"$error":"#DIV/0!"},{"$error":"#DIV/0!"},{"$error":"#DIV/0!"},{"$f":"IF(L19<>\"\",'Step 2) Calculate'!B23,\"Zzzzz - delete row\")","v":"Zzzzz - delete row"},{"$f":"IF('Step 2) Calculate'!E23<>\"\",'Step 2) Calculate'!G23,\"\")","v":""},{"$f":"IF(L19<>\"\",'Step 2) Calculate'!F23,\"\")","v":""},{"$f":"IF(L19<>\"\",'Step 2) Calculate'!H23,\"\")","v":""},{"$f":"IF(L19<>\"\",'Step 2) Calculate'!C23,\"\")","v":""}]
[null,0.7,5.5244005127080404,{"$error":"#DIV/0!"},{"$error":"#DIV/0!"},{"$error":"#DIV/0!"},{"$error":"#DIV/0!"},{"$error":"#DIV/0!"},{"$error":"#DIV/0!"},{"$error":"#DIV/0!"},{"$f":"IF(L20<>\"\",'Step 2) Calculate'!B24,\"Zzzzz - delete row\")","v":"Zzzzz - delete row"},{"$f":"IF('Step 2) Calculate'!E24<>\"\",'Step 2) Calculate'!G24,\"\")","v":""},{"$f":"IF(L20<>\"\",'Step 2) Calculate'!F24,\"\")","v":""},{"$f":"IF(L20<>\"\",'Step 2) Calculate'!H24,\"\")","v":""},{"$f":"IF(L20<>\"\",'Step 2) Calculate'!C24,\"\")","v":""}]
[null,0.8,5.8416212335729147,{"$error":"#DIV/0!"},{"$error":"#DIV/0!"},{"$error":"#DIV/0!"},{"$error":"#DIV/0!"},{"$error":"#DIV/0!"},{"$error":"#DIV/0!"},{"$error":"#DIV/0!"},{"$f":"IF(L21<>\"\",'Step 2) Calculate'!B25,\"Zzzzz - delete row\")","v":"Zzzzz - delete row"},{"$f":"IF('Step 2) Calculate'!E25<>\"\",'Step 2) Calculate'!G25,\"\")","v":""},{"$f":"IF(L21<>\"\",'Step 2) Calculate'!F25,\"\")","v":""},{"$f":"IF(L21<>\"\",'Step 2) Calculate'!H25,\"\")","v":""},{"$f":"IF(L21<>\"\",'Step 2) Calculate'!C25,\"\")","v":""}]
[null,0.9,6.2815515655446008,{"$error":"#DIV/0!"},{"$error":"#DIV/0!"},{"$f":"D22+TCRIT*SQRT(E22)","v":{"$error":"#DIV/0!"}},{"$f":"D22-TCRIT*SQRT(E22)","v":{"$error":"#DIV/0!"}},{"$f":"10^D22","v":{"$error":"#DIV/0!"}},{"$f":"10^F22","v":{"$error":"#DIV/0!"}},{"$error":"#DIV/0!"},{"$f":"IF(L22<>\"\",'Step 2) Calculate'!B26,\"Zzzzz - delete row\")","v":"Zzzzz - delete row"},{"$f":"IF('Step 2) Calculate'!E26<>\"\",'Step 2) Calculate'!G26,\"\")","v":""},{"$f":"IF(L22<>\"\",'Step 2) Calculate'!F26,\"\")","v":""},{"$f":"IF(L22<>\"\",'Step 2) Calculate'!H26,\"\")","v":""},{"$f":"IF(L22<>\"\",'Step 2) Calculate'!C26,\"\")","v":""}]
[null,0.95,6.6448536269514715,{"$error":"#DIV/0!"},{"$error":"#DIV/0!"},{"$error":"#DIV/0!"},{"$error":"#DIV/0!"},{"$error":"#DIV/0!"},{"$error":"#DIV/0!"},{"$error":"#DIV/0!"},{"$f":"IF(L23<>\"\",'Step 2) Calculate'!B27,\"Zzzzz - delete row\")","v":"Zzzzz - delete row"},{"$f":"IF('Step 2) Calculate'!E27<>\"\",'Step 2) Calculate'!G27,\"\")","v":""},{"$f":"IF(L23<>\"\",'Step 2) Calculate'!F27,\"\")","v":""},{"$f":"IF(L23<>\"\",'Step 2) Calculate'!H27,\"\")","v":""},{"$f":"IF(L23<>\"\",'Step 2) Calculate'!C27,\"\")","v":""}]
[null,null,null,null,null,null,null,null,null,null,{"$f":"IF(L24<>\"\",'Step 2) Calculate'!B28,\"Zzzzz - delete row\")","v":"Zzzzz - delete row"},{"$f":"IF('Step 2) Calculate'!E28<>\"\",'Step 2) Calculate'!G28,\"\")","v":""},{"$f":"IF(L24<>\"\",'Step 2) Calculate'!F28,\"\")","v":""},{"$f":"IF(L24<>\"\",'Step 2) Calculate'!H28,\"\")","v":""},{"$f":"IF(L24<>\"\",'Step 2) Calculate'!C28,\"\")","v":""}]
[null,null,null,null,null,null,null,null,null,null,{"$f":"IF(L25<>\"\",'Step 2) Calculate'!B29,\"Zzzzz - delete row\")","v":"Zzzzz - delete row"},{"$f":"IF('Step 2) Calculate'!E29<>\"\",'Step 2) Calculate'!G29,\"\")","v":""},{"$f":"IF(L25<>\"\",'Step 2) Calculate'!F29,\"\")","v":""},{"$f":"IF(L25<>\"\",'Step 2) Calculate'!H29,\"\")","v":""},{"$f":"IF(L25<>\"\",'Step 2) Calculate'!C29,\"\")","v":""}]
[null,null,null,null,null,null,null,null,null,null,{"$f":"IF(L26<>\"\",'Step 2) Calculate'!B30,\"Zzzzz - delete row\")","v":"Zzzzz - delete row"},{"$f":"IF('Step 2) Calculate'!E30<>\"\",'Step 2) Calculate'!G30,\"\")","v":""},{"$f":"IF(L26<>\"\",'Step 2) Calculate'!F30,\"\")","v":""},{"$f":"IF(L26<>\"\",'Step 2) Calculate'!H30,\"\")","v":""},{"$f":"IF(L26<>\"\",'Step 2) Calculate'!C30,\"\")","v":""}]
[null,null,null,null,null,null,null,null,null,null,{"$f":"IF(L27<>\"\",'Step 2) Calculate'!B31,\"Zzzzz - delete row\")","v":"Zzzzz - delete row"},{"$f":"IF('Step 2) Calculate'!E31<>\"\",'Step 2) Calculate'!G31,\"\")","v":""},{"$f":"IF(L27<>\"\",'Step 2) Calculate'!F31,\"\")","v":""},{"$f":"IF(L27<>\"\",'Step 2) Calculate'!H31,\"\")","v":""},{"$f":"IF(L27<>\"\",'Step 2) Calculate'!C31,\"\")","v":""}]
[null,null,null,null,null,null,null,null,null,null,{"$f":"IF(L28<>\"\",'Step 2) Calculate'!B32,\"Zzzzz - delete row\")","v":"Zzzzz - delete row"},{"$f":"IF('Step 2) Calculate'!E32<>\"\",'Step 2) Calculate'!G32,\"\")","v":""},{"$f":"IF(L28<>\"\",'Step 2) Calculate'!F32,\"\")","v":""},{"$f":"IF(L28<>\"\",'Step 2) Calculate'!H32,\"\")","v":""},{"$f":"IF(L28<>\"\",'Step 2) Calculate'!C32,\"\")","v":""}]
[null,null,null,null,null,null,null,null,null,null,{"$f":"IF(L29<>\"\",'Step 2) Calculate'!B33,\"Zzzzz - delete row\")","v":"Zzzzz - delete row"},{"$f":"IF('Step 2) Calculate'!E33<>\"\",'Step 2) Calculate'!G33,\"\")","v":""},{"$f":"IF(L29<>\"\",'Step 2) Calculate'!F33,\"\")","v":""},{"$f":"IF(L29<>\"\",'Step 2) Calculate'!H33,\"\")","v":""},{"$f":"IF(L29<>\"\",'Step 2) Calculate'!C33,\"\")","v":""}]
[null,null,null,null,null,null,null,null,null,null,{"$f":"IF(L30<>\"\",'Step 2) Calculate'!B34,\"Zzzzz - delete row\")","v":"Zzzzz - delete row"},{"$f":"IF('Step 2) Calculate'!E34<>\"\",'Step 2) Calculate'!G34,\"\")","v":""},{"$f":"IF(L30<>\"\",'Step 2) Calculate'!F34,\"\")","v":""},{"$f":"IF(L30<>\"\",'Step 2) Calculate'!H34,\"\")","v":""},{"$f":"IF(L30<>\"\",'Step 2) Calculate'!C34,\"\")","v":""}]
[null,null,null,null,null,null,null,null,null,null,{"$f":"IF(L31<>\"\",'Step 2) Calculate'!B35,\"Zzzzz - delete row\")","v":"Zzzzz - delete row"},{"$f":"IF('Step 2) Calculate'!E35<>\"\",'Step 2) Calculate'!G35,\"\")","v":""},{"$f":"IF(L31<>\"\",'Step 2) Calculate'!F35,\"\")","v":""},{"$f":"IF(L31<>\"\",'Step 2) Calculate'!H35,\"\")","v":""},{"$f":"IF(L31<>\"\",'Step 2) Calculate'!C35,\"\")","v":""}]
[null,null,null,null,null,null,null,null,null,null,{"$f":"IF(L32<>\"\",'Step 2) Calculate'!B36,\"Zzzzz - delete row\")","v":"Zzzzz - delete row"},{"$f":"IF('Step 2) Calculate'!E36<>\"\",'Step 2) Calculate'!G36,\"\")","v":""},{"$f":"IF(L32<>\"\",'Step 2) Calculate'!F36,\"\")","v":""},{"$f":"IF(L32<>\"\",'Step 2) Calculate'!H36,\"\")","v":""},{"$f":"IF(L32<>\"\",'Step 2) Calculate'!C36,\"\")","v":""}]
[null,null,null,null,null,null,null,null,null,null,{"$f":"IF(L33<>\"\",'Step 2) Calculate'!B37,\"Zzzzz - delete row\")","v":"Zzzzz - delete row"},{"$f":"IF('Step 2) Calculate'!E37<>\"\",'Step 2) Calculate'!G37,\"\")","v":""},{"$f":"IF(L33<>\"\",'Step 2) Calculate'!F37,\"\")","v":""},{"$f":"IF(L33<>\"\",'Step 2) Calculate'!H37,\"\")","v":""},{"$f":"IF(L33<>\"\",'Step 2) Calculate'!C37,\"\")","v":""}]
[null,null,null,null,null,null,null,null,null,null,{"$f":"IF(L34<>\"\",'Step 2) Calculate'!B38,\"Zzzzz - delete row\")","v":"Zzzzz - delete row"},{"$f":"IF('Step 2) Calculate'!E38<>\"\",'Step 2) Calculate'!G38,\"\")","v":""},{"$f":"IF(L34<>\"\",'Step 2) Calculate'!F38,\"\")","v":""},{"$f":"IF(L34<>\"\",'Step 2) Calculate'!H38,\"\")","v":""},{"$f":"IF(L34<>\"\",'Step 2) Calculate'!C38,\"\")","v":""}]
[null,null,null,null,null,null,null,null,null,null,{"$f":"IF(L35<>\"\",'Step 2) Calculate'!B39,\"Zzzzz - delete row\")","v":"Zzzzz - delete row"},{"$f":"IF('Step 2) Calculate'!E39<>\"\",'Step 2) Calculate'!G39,\"\")","v":""},{"$f":"IF(L35<>\"\",'Step 2) Calculate'!F39,\"\")","v":""},{"$f":"IF(L35<>\"\",'Step 2) Calculate'!H39,\"\")","v":""},{"$f":"IF(L35<>\"\",'Step 2) Calculate'!C39,\"\")","v":""}]
[null,null,null,null,null,null,null,null,null,null,{"$f":"IF(L36<>\"\",'Step 2) Calculate'!B40,\"Zzzzz - delete row\")","v":"Zzzzz - delete row"},{"$f":"IF('Step 2) Calculate'!E40<>\"\",'Step 2) Calculate'!G40,\"\")","v":""},{"$f":"IF(L36<>\"\",'Step 2) Calculate'!F40,\"\")","v":""},{"$f":"IF(L36<>\"\",'Step 2) Calculate'!H40,\"\")","v":""},{"$f":"IF(L36<>\"\",'Step 2) Calculate'!C40,\"\")","v":""}]
[null,null,null,null,null,null,null,null,null,null,{"$f":"IF(L37<>\"\",'Step 2) Calculate'!B41,\"Zzzzz - delete row\")","v":"Zzzzz - delete row"},{"$f":"IF('Step 2) Calculate'!E41<>\"\",'Step 2) Calculate'!G41,\"\")","v":""},{"$f":"IF(L37<>\"\",'Step 2) Calculate'!F41,\"\")","v":""},{"$f":"IF(L37<>\"\",'Step 2) Calculate'!H41,\"\")","v":""},{"$f":"IF(L37<>\"\",'Step 2) Calculate'!C41,\"\")","v":""}]
[null,null,null,null,null,null,null,null,null,null,{"$f":"IF(L38<>\"\",'Step 2) Calculate'!B42,\"Zzzzz - delete row\")","v":"Zzzzz - delete row"},{"$f":"IF('Step 2) Calculate'!E42<>\"\",'Step 2) Calculate'!G42,\"\")","v":""},{"$f":"IF(L38<>\"\",'Step 2) Calculate'!F42,\"\")","v":""},{"$f":"IF(L38<>\"\",'Step 2) Calculate'!H42,\"\")","v":""},{"$f":"IF(L38<>\"\",'Step 2) Calculate'!C42,\"\")","v":""}]
[null,null,null,null,null,null,null,null,null,null,{"$f":"IF(L39<>\"\",'Step 2) Calculate'!B43,\"Zzzzz - delete row\")","v":"Zzzzz - delete row"},{"$f":"IF('Step 2) Calculate'!E43<>\"\",'Step 2) Calculate'!G43,\"\")","v":""},{"$f":"IF(L39<>\"\",'Step 2) Calculate'!F43,\"\")","v":""},{"$f":"IF(L39<>\"\",'Step 2) Calculate'!H43,\"\")","v":""},{"$f":"IF(L39<>\"\",'Step 2) Calculate'!C43,\"\")","v":""}]
[null,null,null,null,null,null,null,null,null,null,{"$f":"IF(L40<>\"\",'Step 2) Calculate'!B44,\"Zzzzz - delete row\")","v":"Zzzzz - delete row"},{"$f":"IF('Step 2) Calculate'!E44<>\"\",'Step 2) Calculate'!G44,\"\")","v":""},{"$f":"IF(L40<>\"\",'Step 2) Calculate'!F44,\"\")","v":""},{"$f":"IF(L40<>\"\",'Step 2) Calculate'!H44,\"\")","v":""},{"$f":"IF(L40<>\"\",'Step 2) Calculate'!C44,\"\")","v":""}]
[null,null,null,null,null,null,null,null,null,null,{"$f":"IF(L41<>\"\",'Step 2) Calculate'!B45,\"Zzzzz - delete row\")","v":"Zzzzz - delete row"},{"$f":"IF('Step 2) Calculate'!E45<>\"\",'Step 2) Calculate'!G45,\"\")","v":""},{"$f":"IF(L41<>\"\",'Step 2) Calculate'!F45,\"\")","v":""},{"$f":"IF(L41<>\"\",'Step 2) Calculate'!H45,\"\")","v":""},{"$f":"IF(L41<>\"\",'Step 2) Calculate'!C45,\"\")","v":""}]
[null,null,null,null,null,null,null,null,null,null,{"$f":"IF(L42<>\"\",'Step 2) Calculate'!B46,\"Zzzzz - delete row\")","v":"Zzzzz - delete row"},{"$f":"IF('Step 2) Calculate'!E46<>\"\",'Step 2) Calculate'!G46,\"\")","v":""},{"$f":"IF(L42<>\"\",'Step 2) Calculate'!F46,\"\")","v":""},{"$f":"IF(L42<>\"\",'Step 2) Calculate'!H46,\"\")","v":""},{"$f":"IF(L42<>\"\",'Step 2) Calculate'!C46,\"\")","v":""}]
[null,null,null,null,null,null,null,null,null,null,{"$f":"IF(L43<>\"\",'Step 2) Calculate'!B47,\"Zzzzz - delete row\")","v":"Zzzzz - delete row"},{"$f":"IF('Step 2) Calculate'!E47<>\"\",'Step 2) Calculate'!G47,\"\")","v":""},{"$f":"IF(L43<>\"\",'Step 2) Calculate'!F47,\"\")","v":""},{"$f":"IF(L43<>\"\",'Step 2) Calculate'!H47,\"\")","v":""},{"$f":"IF(L43<>\"\",'Step 2) Calculate'!C47,\"\")","v":""}]
[null,null,null,null,null,null,null,null,null,null,{"$f":"IF(L44<>\"\",'Step 2) Calculate'!B48,\"Zzzzz - delete row\")","v":"Zzzzz - delete row"},{"$f":"IF('Step 2) Calculate'!E48<>\"\",'Step 2) Calculate'!G48,\"\")","v":""},{"$f":"IF(L44<>\"\",'Step 2) Calculate'!F48,\"\")","v":""},{"$f":"IF(L44<>\"\",'Step 2) Calculate'!H48,\"\")","v":""},{"$f":"IF(L44<>\"\",'Step 2) Calculate'!C48,\"\")","v":""}]
[null,null,null,null,null,null,null,null,null,null,{"$f":"IF(L45<>\"\",'Step 2) Calculate'!B49,\"Zzzzz - delete row\")","v":"Zzzzz - delete row"},{"$f":"IF('Step 2) Calculate'!E49<>\"\",'Step 2) Calculate'!G49,\"\")","v":""},{"$f":"IF(L45<>\"\",'Step 2) Calculate'!F49,\"\")","v":""},{"$f":"IF(L45<>\"\",'Step 2) Calculate'!H49,\"\")","v":""},{"$f":"IF(L45<>\"\",'Step 2) Calculate'!C49,\"\")","v":""}]
[null,null,null,null,null,null,null,null,null,null,{"$f":"IF(L46<>\"\",'Step 2) Calculate'!B50,\"Zzzzz - delete row\")","v":"Zzzzz - delete row"},{"$f":"IF('Step 2) Calculate'!E50<>\"\",'Step 2) Calculate'!G50,\"\")","v":""},{"$f":"IF(L46<>\"\",'Step 2) Calculate'!F50,\"\")","v":""},{"$f":"IF(L46<>\"\",'Step 2) Calculate'!H50,\"\")","v":""},{"$f":"IF(L46<>\"\",'Step 2) Calculate'!C50,\"\")","v":""}]
[null,null,null,null,null,null,null,null,null,null,{"$f":"IF(L47<>\"\",'Step 2) Calculate'!B51,\"Zzzzz - delete row\")","v":"Zzzzz - delete row"},{"$f":"IF('Step 2) Calculate'!E51<>\"\",'Step 2) Calculate'!G51,\"\")","v":""},{"$f":"IF(L47<>\"\",'Step 2) Calculate'!F51,\"\")","v":""},{"$f":"IF(L47<>\"\",'Step 2) Calculate'!H51,\"\")","v":""},{"$f":"IF(L47<>\"\",'Step 2) Calculate'!C51,\"\")","v":""}]
[null,null,null,null,null,null,null,null,null,null,{"$f":"IF(L48<>\"\",'Step 2) Calculate'!B52,\"Zzzzz - delete row\")","v":"Zzzzz - delete row"},{"$f":"IF('Step 2) Calculate'!E52<>\"\",'Step 2) Calculate'!G52,\"\")","v":""},{"$f":"IF(L48<>\"\",'Step 2) Calculate'!F52,\"\")","v":""},{"$f":"IF(L48<>\"\",'Step 2) Calculate'!H52,\"\")","v":""},{"$f":"IF(L48<>\"\",'Step 2) Calculate'!C52,\"\")","v":""}]
[null,null,null,null,null,null,null,null,null,null,{"$f":"IF(L49<>\"\",'Step 2) Calculate'!B53,\"Zzzzz - delete row\")","v":"Zzzzz - delete row"},{"$f":"IF('Step 2) Calculate'!E53<>\"\",'Step 2) Calculate'!G53,\"\")","v":""},{"$f":"IF(L49<>\"\",'Step 2) Calculate'!F53,\"\")","v":""},{"$f":"IF(L49<>\"\",'Step 2) Calculate'!H53,\"\")","v":""},{"$f":"IF(L49<>\"\",'Step 2) Calculate'!C53,\"\")","v":""}]
[null,null,null,null,null,null,null,null,null,null,{"$f":"IF(L50<>\"\",'Step 2) Calculate'!B54,\"Zzzzz - delete row\")","v":"Zzzzz - delete row"},{"$f":"IF('Step 2) Calculate'!E54<>\"\",'Step 2) Calculate'!G54,\"\")","v":""},{"$f":"IF(L50<>\"\",'Step 2) Calculate'!F54,\"\")","v":""},{"$f":"IF(L50<>\"\",'Step 2) Calculate'!H54,\"\")","v":""},{"$f":"IF(L50<>\"\",'Step 2) Calculate'!C54,\"\")","v":""}]
[null,null,null,null,null,null,null,null,null,null,{"$f":"IF(L51<>\"\",'Step 2) Calculate'!B55,\"Zzzzz - delete row\")","v":"Zzzzz - delete row"},{"$f":"IF('Step 2) Calculate'!E55<>\"\",'Step 2) Calculate'!G55,\"\")","v":""},{"$f":"IF(L51<>\"\",'Step 2) Calculate'!F55,\"\")","v":""},{"$f":"IF(L51<>\"\",'Step 2) Calculate'!H55,\"\")","v":""},{"$f":"IF(L51<>\"\",'Step 2) Calculate'!C55,\"\")","v":""}]
[null,null,null,null,null,null,null,null,null,null,{"$f":"IF(L52<>\"\",'Step 2) Calculate'!B56,\"Zzzzz - delete row\")","v":"Zzzzz - delete row"},{"$f":"IF('Step 2) Calculate'!E56<>\"\",'Step 2) Calculate'!G56,\"\")","v":""},{"$f":"IF(L52<>\"\",'Step 2) Calculate'!F56,\"\")","v":""},{"$f":"IF(L52<>\"\",'Step 2) Calculate'!H56,\"\")","v":""},{"$f":"IF(L52<>\"\",'Step 2) Calculate'!C56,\"\")","v":""}]
[null,null,null,null,null,null,null,null,null,null,{"$f":"IF(L53<>\"\",'Step 2) Calculate'!B57,\"Zzzzz - delete row\")","v":"Zzzzz - delete row"},{"$f":"IF('Step 2) Calculate'!E57<>\"\",'Step 2) Calculate'!G57,\"\")","v":""},{"$f":"IF(L53<>\"\",'Step 2) Calculate'!F57,\"\")","v":""},{"$f":"IF(L53<>\"\",'Step 2) Calculate'!H57,\"\")","v":""},{"$f":"IF(L53<>\"\",'Step 2) Calculate'!C57,\"\")","v":""}]
[null,null,null,null,null,null,null,null,null,null,{"$f":"IF(L54<>\"\",'Step 2) Calculate'!B58,\"Zzzzz - delete row\")","v":"Zzzzz - delete row"},{"$f":"IF('Step 2) Calculate'!E58<>\"\",'Step 2) Calculate'!G58,\"\")","v":""},{"$f":"IF(L54<>\"\",'Step 2) Calculate'!F58,\"\")","v":""},{"$f":"IF(L54<>\"\",'Step 2) Calculate'!H58,\"\")","v":""},{"$f":"IF(L54<>\"\",'Step 2) Calculate'!C58,\"\")","v":""}]
[null,"Taxa","Mean Stressor Intensity","Standard Deviation","Proportion Taxa","Number of Observations",null,null,null,null,{"$f":"IF(L55<>\"\",'Step 2) Calculate'!B59,\"Zzzzz - delete row\")","v":"Zzzzz - delete row"},{"$f":"IF('Step 2) Calculate'!E59<>\"\",'Step 2) Calculate'!G59,\"\")","v":""},{"$f":"IF(L55<>\"\",'Step 2) Calculate'!F59,\"\")","v":""},{"$f":"IF(L55<>\"\",'Step 2) Calculate'!H59,\"\")","v":""},{"$f":"IF(L55<>\"\",'Step 2) Calculate'!C59,\"\")","v":""}]
[null,null,null,null,null,null,null,null,null,null,{"$f":"IF(L56<>\"\",'Step 2) Calculate'!B60,\"Zzzzz - delete row\")","v":"Zzzzz - delete row"},{"$f":"IF('Step 2) Calculate'!E60<>\"\",'Step 2) Calculate'!G60,\"\")","v":""},{"$f":"IF(L56<>\"\",'Step 2) Calculate'!F60,\"\")","v":""},{"$f":"IF(L56<>\"\",'Step 2) Calculate'!H60,\"\")","v":""},{"$f":"IF(L56<>\"\",'Step 2) Calculate'!C60,\"\")","v":""}]
[null,null,null,null,null,null,null,null,null,null,{"$f":"IF(L57<>\"\",'Step 2) Calculate'!B61,\"Zzzzz - delete row\")","v":"Zzzzz - delete row"},{"$f":"IF('Step 2) Calculate'!E61<>\"\",'Step 2) Calculate'!G61,\"\")","v":""},{"$f":"IF(L57<>\"\",'Step 2) Calculate'!F61,\"\")","v":""},{"$f":"IF(L57<>\"\",'Step 2) Calculate'!H61,\"\")","v":""},{"$f":"IF(L57<>\"\",'Step 2) Calculate'!C61,\"\")","v":""}]
[null,null,null,null,null,null,null,null,null,null,{"$f":"IF(L58<>\"\",'Step 2) Calculate'!B62,\"Zzzzz - delete row\")","v":"Zzzzz - delete row"},{"$f":"IF('Step 2) Calculate'!E62<>\"\",'Step 2) Calculate'!G62,\"\")","v":""},{"$f":"IF(L58<>\"\",'Step 2) Calculate'!F62,\"\")","v":""},{"$f":"IF(L58<>\"\",'Step 2) Calculate'!H62,\"\")","v":""},{"$f":"IF(L58<>\"\",'Step 2) Calculate'!C62,\"\")","v":""}]
[null,null,null,null,null,null,null,null,null,null,{"$f":"IF(L59<>\"\",'Step 2) Calculate'!B63,\"Zzzzz - delete row\")","v":"Zzzzz - delete row"},{"$f":"IF('Step 2) Calculate'!E63<>\"\",'Step 2) Calculate'!G63,\"\")","v":""},{"$f":"IF(L59<>\"\",'Step 2) Calculate'!F63,\"\")","v":""},{"$f":"IF(L59<>\"\",'Step 2) Calculate'!H63,\"\")","v":""},{"$f":"IF(L59<>\"\",'Step 2) Calculate'!C63,\"\")","v":""}]
[null,null,null,null,null,null,null,null,null,null,{"$f":"IF(L60<>\"\",'Step 2) Calculate'!B64,\"Zzzzz - delete row\")","v":"Zzzzz - delete row"},{"$f":"IF('Step 2) Calculate'!E64<>\"\",'Step 2) Calculate'!G64,\"\")","v":""},{"$f":"IF(L60<>\"\",'Step 2) Calculate'!F64,\"\")","v":""},{"$f":"IF(L60<>\"\",'Step 2) Calculate'!H64,\"\")","v":""},{"$f":"IF(L60<>\"\",'Step 2) Calculate'!C64,\"\")","v":""}]
[null,null,null,null,null,null,null,null,null,null,{"$f":"IF(L61<>\"\",'Step 2) Calculate'!B65,\"Zzzzz - delete row\")","v":"Zzzzz - delete row"},{"$f":"IF('Step 2) Calculate'!E65<>\"\",'Step 2) Calculate'!G65,\"\")","v":""},{"$f":"IF(L61<>\"\",'Step 2) Calculate'!F65,\"\")","v":""},{"$f":"IF(L61<>\"\",'Step 2) Calculate'!H65,\"\")","v":""},{"$f":"IF(L61<>\"\",'Step 2) Calculate'!C65,\"\")","v":""}]
[null,null,null,null,null,null,null,null,null,null,{"$f":"IF(L62<>\"\",'Step 2) Calculate'!B66,\"Zzzzz - delete row\")","v":"Zzzzz - delete row"},{"$f":"IF('Step 2) Calculate'!E66<>\"\",'Step 2) Calculate'!G66,\"\")","v":""},{"$f":"IF(L62<>\"\",'Step 2) Calculate'!F66,\"\")","v":""},{"$f":"IF(L62<>\"\",'Step 2) Calculate'!H66,\"\")","v":""},{"$f":"IF(L62<>\"\",'Step 2) Calculate'!C66,\"\")","v":""}]
[null,null,null,null,null,null,null,null,null,null,{"$f":"IF(L63<>\"\",'Step 2) Calculate'!B67,\"Zzzzz - delete row\")","v":"Zzzzz - delete row"},{"$f":"IF('Step 2) Calculate'!E67<>\"\",'Step 2) Calculate'!G67,\"\")","v":""},{"$f":"IF(L63<>\"\",'Step 2) Calculate'!F67,\"\")","v":""},{"$f":"IF(L63<>\"\",'Step 2) Calculate'!H67,\"\")","v":""},{"$f":"IF(L63<>\"\",'Step 2) Calculate'!C67,\"\")","v":""}]
[null,null,null,null,null,null,null,null,null,null,{"$f":"IF(L64<>\"\",'Step 2) Calculate'!B68,\"Zzzzz - delete row\")","v":"Zzzzz - delete row"},{"$f":"IF('Step 2) Calculate'!E68<>\"\",'Step 2) Calculate'!G68,\"\")","v":""},{"$f":"IF(L64<>\"\",'Step 2) Calculate'!F68,\"\")","v":""},{"$f":"IF(L64<>\"\",'Step 2) Calculate'!H68,\"\")","v":""},{"$f":"IF(L64<>\"\",'Step 2) Calculate'!C68,\"\")","v":""}]
[null,null,null,null,null,null,null,null,null,null,{"$f":"IF(L65<>\"\",'Step 2) Calculate'!B69,\"Zzzzz - delete row\")","v":"Zzzzz - delete row"},{"$f":"IF('Step 2) Calculate'!E69<>\"\",'Step 2) Calculate'!G69,\"\")","v":""},{"$f":"IF(L65<>\"\",'Step 2) Calculate'!F69,\"\")","v":""},{"$f":"IF(L65<>\"\",'Step 2) Calculate'!H69,\"\")","v":""},{"$f":"IF(L65<>\"\",'Step 2) Calculate'!C69,\"\")","v":""}]
[null,null,null,null,null,null,null,null,null,null,{"$f":"IF(L66<>\"\",'Step 2) Calculate'!B70,\"Zzzzz - delete row\")","v":"Zzzzz - delete row"},{"$f":"IF('Step 2) Calculate'!E70<>\"\",'Step 2) Calculate'!G70,\"\")","v":""},{"$f":"IF(L66<>\"\",'Step 2) Calculate'!F70,\"\")","v":""},{"$f":"IF(L66<>\"\",'Step 2) Calculate'!H70,\"\")","v":""},{"$f":"IF(L66<>\"\",'Step 2) Calculate'!C70,\"\")","v":""}]
[null,null,null,null,null,null,null,null,null,null,{"$f":"IF(L67<>\"\",'Step 2) Calculate'!B71,\"Zzzzz - delete row\")","v":"Zzzzz - delete row"},{"$f":"IF('Step 2) Calculate'!E71<>\"\",'Step 2) Calculate'!G71,\"\")","v":""},{"$f":"IF(L67<>\"\",'Step 2) Calculate'!F71,\"\")","v":""},{"$f":"IF(L67<>\"\",'Step 2) Calculate'!H71,\"\")","v":""},{"$f":"IF(L67<>\"\",'Step 2) Calculate'!C71,\"\")","v":""}]
[null,null,null,null,null,null,null,null,null,null,{"$f":"IF(L68<>\"\",'Step 2) Calculate'!B72,\"Zzzzz - delete row\")","v":"Zzzzz - delete row"},{"$f":"IF('Step 2) Calculate'!E72<>\"\",'Step 2) Calculate'!G72,\"\")","v":""},{"$f":"IF(L68<>\"\",'Step 2) Calculate'!F72,\"\")","v":""},{"$f":"IF(L68<>\"\",'Step 2) Calculate'!H72,\"\")","v":""},{"$f":"IF(L68<>\"\",'Step 2) Calculate'!C72,\"\")","v":""}]
[null,null,null,null,null,null,null,null,null,null,{"$f":"IF(L69<>\"\",'Step 2) Calculate'!B73,\"Zzzzz - delete row\")","v":"Zzzzz - delete row"},{"$f":"IF('Step 2) Calculate'!E73<>\"\",'Step 2) Calculate'!G73,\"\")","v":""},{"$f":"IF(L69<>\"\",'Step 2) Calculate'!F73,\"\")","v":""},{"$f":"IF(L69<>\"\",'Step 2) Calculate'!H73,\"\")","v":""},{"$f":"IF(L69<>\"\",'Step 2) Calculate'!C73,\"\")","v":""}]
[null,null,null,null,null,null,null,null,null,null,{"$f":"IF(L70<>\"\",'Step 2) Calculate'!B74,\"Zzzzz - delete row\")","v":"Zzzzz - delete row"},{"$f":"IF('Step 2) Calculate'!E74<>\"\",'Step 2) Calculate'!G74,\"\")","v":""},{"$f":"IF(L70<>\"\",'Step 2) Calculate'!F74,\"\")","v":""},{"$f":"IF(L70<>\"\",'Step 2) Calculate'!H74,\"\")","v":""},{"$f":"IF(L70<>\"\",'Step 2) Calculate'!C74,\"\")","v":""}]
[null,null,null,null,null,null,null,null,null,null,{"$f":"IF(L71<>\"\",'Step 2) Calculate'!B75,\"Zzzzz - delete row\")","v":"Zzzzz - delete row"},{"$f":"IF('Step 2) Calculate'!E75<>\"\",'Step 2) Calculate'!G75,\"\")","v":""},{"$f":"IF(L71<>\"\",'Step 2) Calculate'!F75,\"\")","v":""},{"$f":"IF(L71<>\"\",'Step 2) Calculate'!H75,\"\")","v":""},{"$f":"IF(L71<>\"\",'Step 2) Calculate'!C75,\"\")","v":""}]
[null,null,null,null,null,null,null,null,null,null,{"$f":"IF(L72<>\"\",'Step 2) Calculate'!B76,\"Zzzzz - delete row\")","v":"Zzzzz - delete row"},{"$f":"IF('Step 2) Calculate'!E76<>\"\",'Step 2) Calculate'!G76,\"\")","v":""},{"$f":"IF(L72<>\"\",'Step 2) Calculate'!F76,\"\")","v":""},{"$f":"IF(L72<>\"\",'Step 2) Calculate'!H76,\"\")","v":""},{"$f":"IF(L72<>\"\",'Step 2) Calculate'!C76,\"\")","v":""}]
[null,null,null,null,null,null,null,null,null,null,{"$f":"IF(L73<>\"\",'Step 2) Calculate'!B77,\"Zzzzz - delete row\")","v":"Zzzzz - delete row"},{"$f":"IF('Step 2) Calculate'!E77<>\"\",'Step 2) Calculate'!G77,\"\")","v":""},{"$f":"IF(L73<>\"\",'Step 2) Calculate'!F77,\"\")","v":""},{"$f":"IF(L73<>\"\",'Step 2) Calculate'!H77,\"\")","v":""},{"$f":"IF(L73<>\"\",'Step 2) Calculate'!C77,\"\")","v":""}]
[null,null,null,null,null,null,null,null,null,null,{"$f":"IF(L74<>\"\",'Step 2) Calculate'!B78,\"Zzzzz - delete row\")","v":"Zzzzz - delete row"},{"$f":"IF('Step 2) Calculate'!E78<>\"\",'Step 2) Calculate'!G78,\"\")","v":""},{"$f":"IF(L74<>\"\",'Step 2) Calculate'!F78,\"\")","v":""},{"$f":"IF(L74<>\"\",'Step 2) Calculate'!H78,\"\")","v":""},{"$f":"IF(L74<>\"\",'Step 2) Calculate'!C78,\"\")","v":""}]
[null,null,null,null,null,null,null,null,null,null,{"$f":"IF(L75<>\"\",'Step 2) Calculate'!B79,\"Zzzzz - delete row\")","v":"Zzzzz - delete row"},{"$f":"IF('Step 2) Calculate'!E79<>\"\",'Step 2) Calculate'!G79,\"\")","v":""},{"$f":"IF(L75<>\"\",'Step 2) Calculate'!F79,\"\")","v":""},{"$f":"IF(L75<>\"\",'Step 2) Calculate'!H79,\"\")","v":""},{"$f":"IF(L75<>\"\",'Step 2) Calculate'!C79,\"\")","v":""}]
[null,null,null,null,null,null,null,null,null,null,{"$f":"IF(L76<>\"\",'Step 2) Calculate'!B80,\"Zzzzz - delete row\")","v":"Zzzzz - delete row"},{"$f":"IF('Step 2) Calculate'!E80<>\"\",'Step 2) Calculate'!G80,\"\")","v":""},{"$f":"IF(L76<>\"\",'Step 2) Calculate'!F80,\"\")","v":""},{"$f":"IF(L76<>\"\",'Step 2) Calculate'!H80,\"\")","v":""},{"$f":"IF(L76<>\"\",'Step 2) Calculate'!C80,\"\")","v":""}]
[null,null,null,null,null,null,null,null,null,null,{"$f":"IF(L77<>\"\",'Step 2) Calculate'!B81,\"Zzzzz - delete row\")","v":"Zzzzz - delete row"},{"$f":"IF('Step 2) Calculate'!E81<>\"\",'Step 2) Calculate'!G81,\"\")","v":""},{"$f":"IF(L77<>\"\",'Step 2) Calculate'!F81,\"\")","v":""},{"$f":"IF(L77<>\"\",'Step 2) Calculate'!H81,\"\")","v":""},{"$f":"IF(L77<>\"\",'Step 2) Calculate'!C81,\"\")","v":""}]
[null,null,null,null,null,null,null,null,null,null,{"$f":"IF(L78<>\"\",'Step 2) Calculate'!B82,\"Zzzzz - delete row\")","v":"Zzzzz - delete row"},{"$f":"IF('Step 2) Calculate'!E82<>\"\",'Step 2) Calculate'!G82,\"\")","v":""},{"$f":"IF(L78<>\"\",'Step 2) Calculate'!F82,\"\")","v":""},{"$f":"IF(L78<>\"\",'Step 2) Calculate'!H82,\"\")","v":""},{"$f":"IF(L78<>\"\",'Step 2) Calculate'!C82,\"\")","v":""}]
[null,null,null,null,null,null,null,null,null,null,{"$f":"IF(L79<>\"\",'Step 2) Calculate'!B83,\"Zzzzz - delete row\")","v":"Zzzzz - delete row"},{"$f":"IF('Step 2) Calculate'!E83<>\"\",'Step 2) Calculate'!G83,\"\")","v":""},{"$f":"IF(L79<>\"\",'Step 2) Calculate'!F83,\"\")","v":""},{"$f":"IF(L79<>\"\",'Step 2) Calculate'!H83,\"\")","v":""},{"$f":"IF(L79<>\"\",'Step 2) Calculate'!C83,\"\")","v":""}]
[null,null,null,null,null,null,null,null,null,null,{"$f":"IF(L80<>\"\",'Step 2) Calculate'!B84,\"Zzzzz - delete row\")","v":"Zzzzz - delete row"},{"$f":"IF('Step 2) Calculate'!E84<>\"\",'Step 2) Calculate'!G84,\"\")","v":""},{"$f":"IF(L80<>\"\",'Step 2) Calculate'!F84,\"\")","v":""},{"$f":"IF(L80<>\"\",'Step 2) Calculate'!H84,\"\")","v":""},{"$f":"IF(L80<>\"\",'Step 2) Calculate'!C84,\"\")","v":""}]
[null,null,null,null,null,null,null,null,null,null,{"$f":"IF(L81<>\"\",'Step 2) Calculate'!B85,\"Zzzzz - delete row\")","v":"Zzzzz - delete row"},{"$f":"IF('Step 2) Calculate'!E85<>\"\",'Step 2) Calculate'!G85,\"\")","v":""},{"$f":"IF(L81<>\"\",'Step 2) Calculate'!F85,\"\")","v":""},{"$f":"IF(L81<>\"\",'Step 2) Calculate'!H85,\"\")","v":""},{"$f":"IF(L81<>\"\",'Step 2) Calculate'!C85,\"\")","v":""}]
[null,null,null,null,null,null,null,null,null,null,{"$f":"IF(L82<>\"\",'Step 2) Calculate'!B86,\"Zzzzz - delete row\")","v":"Zzzzz - delete row"},{"$f":"IF('Step 2) Calculate'!E86<>\"\",'Step 2) Calculate'!G86,\"\")","v":""},{"$f":"IF(L82<>\"\",'Step 2) Calculate'!F86,\"\")","v":""},{"$f":"IF(L82<>\"\",'Step 2) Calculate'!H86,\"\")","v":""},{"$f":"IF(L82<>\"\",'Step 2) Calculate'!C86,\"\")","v":""}]
[null,null,null,null,null,null,null,null,null,null,{"$f":"IF(L83<>\"\",'Step 2) Calculate'!B87,\"Zzzzz - delete row\")","v":"Zzzzz - delete row"},{"$f":"IF('Step 2) Calculate'!E87<>\"\",'Step 2) Calculate'!G87,\"\")","v":""},{"$f":"IF(L83<>\"\",'Step 2) Calculate'!F87,\"\")","v":""},{"$f":"IF(L83<>\"\",'Step 2) Calculate'!H87,\"\")","v":""},{"$f":"IF(L83<>\"\",'Step 2) Calculate'!C87,\"\")","v":""}]
[null,null,null,null,null,null,null,null,null,null,{"$f":"IF(L84<>\"\",'Step 2) Calculate'!B88,\"Zzzzz - delete row\")","v":"Zzzzz - delete row"},{"$f":"IF('Step 2) Calculate'!E88<>\"\",'Step 2) Calculate'!G88,\"\")","v":""},{"$f":"IF(L84<>\"\",'Step 2) Calculate'!F88,\"\")","v":""},{"$f":"IF(L84<>\"\",'Step 2) Calculate'!H88,\"\")","v":""},{"$f":"IF(L84<>\"\",'Step 2) Calculate'!C88,\"\")","v":""}]
[null,null,null,null,null,null,null,null,null,null,{"$f":"IF(L85<>\"\",'Step 2) Calculate'!B89,\"Zzzzz - delete row\")","v":"Zzzzz - delete row"},{"$f":"IF('Step 2) Calculate'!E89<>\"\",'Step 2) Calculate'!G89,\"\")","v":""},{"$f":"IF(L85<>\"\",'Step 2) Calculate'!F89,\"\")","v":""},{"$f":"IF(L85<>\"\",'Step 2) Calculate'!H89,\"\")","v":""},{"$f":"IF(L85<>\"\",'Step 2) Calculate'!C89,\"\")","v":""}]
[null,null,null,null,null,null,null,null,null,null,{"$f":"IF(L86<>\"\",'Step 2) Calculate'!B90,\"Zzzzz - delete row\")","v":"Zzzzz - delete row"},{"$f":"IF('Step 2) Calculate'!E90<>\"\",'Step 2) Calculate'!G90,\"\")","v":""},{"$f":"IF(L86<>\"\",'Step 2) Calculate'!F90,\"\")","v":""},{"$f":"IF(L86<>\"\",'Step 2) Calculate'!H90,\"\")","v":""},{"$f":"IF(L86<>\"\",'Step 2) Calculate'!C90,\"\")","v":""}]
[null,null,null,null,null,null,null,null,null,null,{"$f":"IF(L87<>\"\",'Step 2) Calculate'!B91,\"Zzzzz - delete row\")","v":"Zzzzz - delete row"},{"$f":"IF('Step 2) Calculate'!E91<>\"\",'Step 2) Calculate'!G91,\"\")","v":""},{"$f":"IF(L87<>\"\",'Step 2) Calculate'!F91,\"\")","v":""},{"$f":"IF(L87<>\"\",'Step 2) Calculate'!H91,\"\")","v":""},{"$f":"IF(L87<>\"\",'Step 2) Calculate'!C91,\"\")","v":""}]
[null,null,null,null,null,null,null,null,null,null,{"$f":"IF(L88<>\"\",'Step 2) Calculate'!B92,\"Zzzzz - delete row\")","v":"Zzzzz - delete row"},{"$f":"IF('Step 2) Calculate'!E92<>\"\",'Step 2) Calculate'!G92,\"\")","v":""},{"$f":"IF(L88<>\"\",'Step 2) Calculate'!F92,\"\")","v":""},{"$f":"IF(L88<>\"\",'Step 2) Calculate'!H92,\"\")","v":""},{"$f":"IF(L88<>\"\",'Step 2) Calculate'!C92,\"\")","v":""}]
[null,null,null,null,null,null,null,null,null,null,{"$f":"IF(L89<>\"\",'Step 2) Calculate'!B93,\"Zzzzz - delete row\")","v":"Zzzzz - delete row"},{"$f":"IF('Step 2) Calculate'!E93<>\"\",'Step 2) Calculate'!G93,\"\")","v":""},{"$f":"IF(L89<>\"\",'Step 2) Calculate'!F93,\"\")","v":""},{"$f":"IF(L89<>\"\",'Step 2) Calculate'!H93,\"\")","v":""},{"$f":"IF(L89<>\"\",'Step 2) Calculate'!C93,\"\")","v":""}]
[null,null,null,null,null,null,null,null,null,null,{"$f":"IF(L90<>\"\",'Step 2) Calculate'!B94,\"Zzzzz - delete row\")","v":"Zzzzz - delete row"},{"$f":"IF('Step 2) Calculate'!E94<>\"\",'Step 2) Calculate'!G94,\"\")","v":""},{"$f":"IF(L90<>\"\",'Step 2) Calculate'!F94,\"\")","v":""},{"$f":"IF(L90<>\"\",'Step 2) Calculate'!H94,\"\")","v":""},{"$f":"IF(L90<>\"\",'Step 2) Calculate'!C94,\"\")","v":""}]
[null,null,null,null,null,null,null,null,null,null,{"$f":"IF(L91<>\"\",'Step 2) Calculate'!B95,\"Zzzzz - delete row\")","v":"Zzzzz - delete row"},{"$f":"IF('Step 2) Calculate'!E95<>\"\",'Step 2) Calculate'!G95,\"\")","v":""},{"$f":"IF(L91<>\"\",'Step 2) Calculate'!F95,\"\")","v":""},{"$f":"IF(L91<>\"\",'Step 2) Calculate'!H95,\"\")","v":""},{"$f":"IF(L91<>\"\",'Step 2) Calculate'!C95,\"\")","v":""}]
[null,null,null,null,null,null,null,null,null,null,{"$f":"IF(L92<>\"\",'Step 2) Calculate'!B96,\"Zzzzz - delete row\")","v":"Zzzzz - delete row"},{"$f":"IF('Step 2) Calculate'!E96<>\"\",'Step 2) Calculate'!G96,\"\")","v":""},{"$f":"IF(L92<>\"\",'Step 2) Calculate'!F96,\"\")","v":""},{"$f":"IF(L92<>\"\",'Step 2) Calculate'!H96,\"\")","v":""},{"$f":"IF(L92<>\"\",'Step 2) Calculate'!C96,\"\")","v":""}]
[null,null,null,null,null,null,null,null,null,null,{"$f":"IF(L93<>\"\",'Step 2) Calculate'!B97,\"Zzzzz - delete row\")","v":"Zzzzz - delete row"},{"$f":"IF('Step 2) Calculate'!E97<>\"\",'Step 2) Calculate'!G97,\"\")","v":""},{"$f":"IF(L93<>\"\",'Step 2) Calculate'!F97,\"\")","v":""},{"$f":"IF(L93<>\"\",'Step 2) Calculate'!H97,\"\")","v":""},{"$f":"IF(L93<>\"\",'Step 2) Calculate'!C97,\"\")","v":""}]
[null,null,null,null,null,null,null,null,null,null,{"$f":"IF(L94<>\"\",'Step 2) Calculate'!B98,\"Zzzzz - delete row\")","v":"Zzzzz - delete row"},{"$f":"IF('Step 2) Calculate'!E98<>\"\",'Step 2) Calculate'!G98,\"\")","v":""},{"$f":"IF(L94<>\"\",'Step 2) Calculate'!F98,\"\")","v":""},{"$f":"IF(L94<>\"\",'Step 2) Calculate'!H98,\"\")","v":""},{"$f":"IF(L94<>\"\",'Step 2) Calculate'!C98,\"\")","v":""}]
[null,null,null,null,null,null,null,null,null,null,{"$f":"IF(L95<>\"\",'Step 2) Calculate'!B99,\"Zzzzz - delete row\")","v":"Zzzzz - delete row"},{"$f":"IF('Step 2) Calculate'!E99<>\"\",'Step 2) Calculate'!G99,\"\")","v":""},{"$f":"IF(L95<>\"\",'Step 2) Calculate'!F99,\"\")","v":""},{"$f":"IF(L95<>\"\",'Step 2) Calculate'!H99,\"\")","v":""},{"$f":"IF(L95<>\"\",'Step 2) Calculate'!C99,\"\")","v":""}]
[null,null,null,null,null,null,null,null,null,null,{"$f":"IF(L96<>\"\",'Step 2) Calculate'!B100,\"Zzzzz - delete row\")","v":"Zzzzz - delete row"},{"$f":"IF('Step 2) Calculate'!E100<>\"\",'Step 2) Calculate'!G100,\"\")","v":""},{"$f":"IF(L96<>\"\",'Step 2) Calculate'!F100,\"\")","v":""},{"$f":"IF(L96<>\"\",'Step 2) Calculate'!H100,\"\")","v":""},{"$f":"IF(L96<>\"\",'Step 2) Calculate'!C100,\"\")","v":""}]
[null,null,null,null,null,null,null,null,null,null,{"$f":"IF(L97<>\"\",'Step 2) Calculate'!B101,\"Zzzzz - delete row\")","v":"Zzzzz - delete row"},{"$f":"IF('Step 2) Calculate'!E101<>\"\",'Step 2) Calculate'!G101,\"\")","v":""},{"$f":"IF(L97<>\"\",'Step 2) Calculate'!F101,\"\")","v":""},{"$f":"IF(L97<>\"\",'Step 2) Calculate'!H101,\"\")","v":""},{"$f":"IF(L97<>\"\",'Step 2) Calculate'!C101,\"\")","v":""}]
[null,null,null,null,null,null,null,null,null,null,{"$f":"IF(L98<>\"\",'Step 2) Calculate'!B102,\"Zzzzz - delete row\")","v":"Zzzzz - delete row"},{"$f":"IF('Step 2) Calculate'!E102<>\"\",'Step 2) Calculate'!G102,\"\")","v":""},{"$f":"IF(L98<>\"\",'Step 2) Calculate'!F102,\"\")","v":""},{"$f":"IF(L98<>\"\",'Step 2) Calculate'!H102,\"\")","v":""},{"$f":"IF(L98<>\"\",'Step 2) Calculate'!C102,\"\")","v":""}]
[null,null,null,null,null,null,null,null,null,null,{"$f":"IF(L99<>\"\",'Step 2) Calculate'!B103,\"Zzzzz - delete row\")","v":"Zzzzz - delete row"},{"$f":"IF('Step 2) Calculate'!E103<>\"\",'Step 2) Calculate'!G103,\"\")","v":""},{"$f":"IF(L99<>\"\",'Step 2) Calculate'!F103,\"\")","v":""},{"$f":"IF(L99<>\"\",'Step 2) Calculate'!H103,\"\")","v":""},{"$f":"IF(L99<>\"\",'Step 2) Calculate'!C103,\"\")","v":""}]
[null,null,null,null,null,null,null,null,null,null,{"$f":"IF(L100<>\"\",'Step 2) Calculate'!B104,\"Zzzzz - delete row\")","v":"Zzzzz - delete row"},{"$f":"IF('Step 2) Calculate'!E104<>\"\",'Step 2) Calculate'!G104,\"\")","v":""},{"$f":"IF(L100<>\"\",'Step 2) Calculate'!F104,\"\")","v":""},{"$f":"IF(L100<>\"\",'Step 2) Calculate'!H104,\"\")","v":""},{"$f":"IF(L100<>\"\",'Step 2) Calculate'!C104,\"\")","v":""}]
[null,null,null,null,null,null,null,null,null,null,{"$f":"IF(L101<>\"\",'Step 2) Calculate'!B105,\"Zzzzz - delete row\")","v":"Zzzzz - delete row"},{"$f":"IF('Step 2) Calculate'!E105<>\"\",'Step 2) Calculate'!G105,\"\")","v":""},{"$f":"IF(L101<>\"\",'Step 2) Calculate'!F105,\"\")","v":""},{"$f":"IF(L101<>\"\",'Step 2) Calculate'!H105,\"\")","v":""},{"$f":"IF(L101<>\"\",'Step 2) Calculate'!C105,\"\")","v":""}]
[null,null,null,null,null,null,null,null,null,null,{"$f":"IF(L102<>\"\",'Step 2) Calculate'!B106,\"Zzzzz - delete row\")","v":"Zzzzz - delete row"},{"$f":"IF('Step 2) Calculate'!E106<>\"\",'Step 2) Calculate'!G106,\"\")","v":""},{"$f":"IF(L102<>\"\",'Step 2) Calculate'!F106,\"\")","v":""},{"$f":"IF(L102<>\"\",'Step 2) Calculate'!H106,\"\")","v":""},{"$f":"IF(L102<>\"\",'Step 2) Calculate'!C106,\"\")","v":""}]
[null,null,null,null,null,null,null,null,null,null,{"$f":"IF(L103<>\"\",'Step 2) Calculate'!B107,\"Zzzzz - delete row\")","v":"Zzzzz - delete row"},{"$f":"IF('Step 2) Calculate'!E107<>\"\",'Step 2) Calculate'!G107,\"\")","v":""},{"$f":"IF(L103<>\"\",'Step 2) Calculate'!F107,\"\")","v":""},{"$f":"IF(L103<>\"\",'Step 2) Calculate'!H107,\"\")","v":""},{"$f":"IF(L103<>\"\",'Step 2) Calculate'!C107,\"\")","v":""}]
[null,null,null,null,null,null,null,null,null,null,{"$f":"IF(L104<>\"\",'Step 2) Calculate'!B108,\"Zzzzz - delete row\")","v":"Zzzzz - delete row"},{"$f":"IF('Step 2) Calculate'!E108<>\"\",'Step 2) Calculate'!G108,\"\")","v":""},{"$f":"IF(L104<>\"\",'Step 2) Calculate'!F108,\"\")","v":""},{"$f":"IF(L104<>\"\",'Step 2) Calculate'!H108,\"\")","v":""},{"$f":"IF(L104<>\"\",'Step 2) Calculate'!C108,\"\")","v":""}]
[null,null,null,null,null,null,null,null,null,null,{"$f":"IF(L105<>\"\",'Step 2) Calculate'!B109,\"Zzzzz - delete row\")","v":"Zzzzz - delete row"},{"$f":"IF('Step 2) Calculate'!E109<>\"\",'Step 2) Calculate'!G109,\"\")","v":""},{"$f":"IF(L105<>\"\",'Step 2) Calculate'!F109,\"\")","v":""},{"$f":"IF(L105<>\"\",'Step 2) Calculate'!H109,\"\")","v":""},{"$f":"IF(L105<>\"\",'Step 2) Calculate'!C109,\"\")","v":""}]
[null,null,null,null,null,null,null,null,null,null,{"$f":"IF(L106<>\"\",'Step 2) Calculate'!B110,\"Zzzzz - delete row\")","v":"Zzzzz - delete row"},{"$f":"IF('Step 2) Calculate'!E110<>\"\",'Step 2) Calculate'!G110,\"\")","v":""},{"$f":"IF(L106<>\"\",'Step 2) Calculate'!F110,\"\")","v":""},{"$f":"IF(L106<>\"\",'Step 2) Calculate'!H110,\"\")","v":""},{"$f":"IF(L106<>\"\",'Step 2) Calculate'!C110,\"\")","v":""}]
[null,null,null,null,null,null,null,null,null,null,{"$f":"IF(L107<>\"\",'Step 2) Calculate'!B111,\"Zzzzz - delete row\")","v":"Zzzzz - delete row"},{"$f":"IF('Step 2) Calculate'!E111<>\"\",'Step 2) Calculate'!G111,\"\")","v":""},{"$f":"IF(L107<>\"\",'Step 2) Calculate'!F111,\"\")","v":""},{"$f":"IF(L107<>\"\",'Step 2) Calculate'!H111,\"\")","v":""},{"$f":"IF(L107<>\"\",'Step 2) Calculate'!C111,\"\")","v":""}]
[null,null,null,null,null,null,null,null,null,null,{"$f":"IF(L108<>\"\",'Step 2) Calculate'!B112,\"Zzzzz - delete row\")","v":"Zzzzz - delete row"},{"$f":"IF('Step 2) Calculate'!E112<>\"\",'Step 2) Calculate'!G112,\"\")","v":""},{"$f":"IF(L108<>\"\",'Step 2) Calculate'!F112,\"\")","v":""},{"$f":"IF(L108<>\"\",'Step 2) Calculate'!H112,\"\")","v":""},{"$f":"IF(L108<>\"\",'Step 2) Calculate'!C112,\"\")","v":""}]
[null,null,null,null,null,null,null,null,null,null,{"$f":"IF(L109<>\"\",'Step 2) Calculate'!B113,\"Zzzzz - delete row\")","v":"Zzzzz - delete row"},{"$f":"IF('Step 2) Calculate'!E113<>\"\",'Step 2) Calculate'!G113,\"\")","v":""},{"$f":"IF(L109<>\"\",'Step 2) Calculate'!F113,\"\")","v":""},{"$f":"IF(L109<>\"\",'Step 2) Calculate'!H113,\"\")","v":""},{"$f":"IF(L109<>\"\",'Step 2) Calculate'!C113,\"\")","v":""}]
[null,null,null,null,null,null,null,null,null,null,{"$f":"IF(L110<>\"\",'Step 2) Calculate'!B114,\"Zzzzz - delete row\")","v":"Zzzzz - delete row"},{"$f":"IF('Step 2) Calculate'!E114<>\"\",'Step 2) Calculate'!G114,\"\")","v":""},{"$f":"IF(L110<>\"\",'Step 2) Calculate'!F114,\"\")","v":""},{"$f":"IF(L110<>\"\",'Step 2) Calculate'!H114,\"\")","v":""},{"$f":"IF(L110<>\"\",'Step 2) Calculate'!C114,\"\")","v":""}]
[null,null,null,null,null,null,null,null,null,null,{"$f":"IF(L111<>\"\",'Step 2) Calculate'!B115,\"Zzzzz - delete row\")","v":"Zzzzz - delete row"},{"$f":"IF('Step 2) Calculate'!E115<>\"\",'Step 2) Calculate'!G115,\"\")","v":""},{"$f":"IF(L111<>\"\",'Step 2) Calculate'!F115,\"\")","v":""},{"$f":"IF(L111<>\"\",'Step 2) Calculate'!H115,\"\")","v":""},{"$f":"IF(L111<>\"\",'Step 2) Calculate'!C115,\"\")","v":""}]
[null,null,null,null,null,null,null,null,null,null,{"$f":"IF(L112<>\"\",'Step 2) Calculate'!B116,\"Zzzzz - delete row\")","v":"Zzzzz - delete row"},{"$f":"IF('Step 2) Calculate'!E116<>\"\",'Step 2) Calculate'!G116,\"\")","v":""},{"$f":"IF(L112<>\"\",'Step 2) Calculate'!F116,\"\")","v":""},{"$f":"IF(L112<>\"\",'Step 2) Calculate'!H116,\"\")","v":""},{"$f":"IF(L112<>\"\",'Step 2) Calculate'!C116,\"\")","v":""}]
[null,null,null,null,null,null,null,null,null,null,{"$f":"IF(L113<>\"\",'Step 2) Calculate'!B117,\"Zzzzz - delete row\")","v":"Zzzzz - delete row"},{"$f":"IF('Step 2) Calculate'!E117<>\"\",'Step 2) Calculate'!G117,\"\")","v":""},{"$f":"IF(L113<>\"\",'Step 2) Calculate'!F117,\"\")","v":""},{"$f":"IF(L113<>\"\",'Step 2) Calculate'!H117,\"\")","v":""},{"$f":"IF(L113<>\"\",'Step 2) Calculate'!C117,\"\")","v":""}]
[null,null,null,null,null,null,null,null,null,null,{"$f":"IF(L114<>\"\",'Step 2) Calculate'!B118,\"Zzzzz - delete row\")","v":"Zzzzz - delete row"},{"$f":"IF('Step 2) Calculate'!E118<>\"\",'Step 2) Calculate'!G118,\"\")","v":""},{"$f":"IF(L114<>\"\",'Step 2) Calculate'!F118,\"\")","v":""},{"$f":"IF(L114<>\"\",'Step 2) Calculate'!H118,\"\")","v":""},{"$f":"IF(L114<>\"\",'Step 2) Calculate'!C118,\"\")","v":""}]
[null,null,null,null,null,null,null,null,null,null,{"$f":"IF(L115<>\"\",'Step 2) Calculate'!B119,\"Zzzzz - delete row\")","v":"Zzzzz - delete row"},{"$f":"IF('Step 2) Calculate'!E119<>\"\",'Step 2) Calculate'!G119,\"\")","v":""},{"$f":"IF(L115<>\"\",'Step 2) Calculate'!F119,\"\")","v":""},{"$f":"IF(L115<>\"\",'Step 2) Calculate'!H119,\"\")","v":""},{"$f":"IF(L115<>\"\",'Step 2) Calculate'!C119,\"\")","v":""}]
[null,null,null,null,null,null,null,null,null,null,{"$f":"IF(L116<>\"\",'Step 2) Calculate'!B120,\"Zzzzz - delete row\")","v":"Zzzzz - delete row"},{"$f":"IF('Step 2) Calculate'!E120<>\"\",'Step 2) Calculate'!G120,\"\")","v":""},{"$f":"IF(L116<>\"\",'Step 2) Calculate'!F120,\"\")","v":""},{"$f":"IF(L116<>\"\",'Step 2) Calculate'!H120,\"\")","v":""},{"$f":"IF(L116<>\"\",'Step 2) Calculate'!C120,\"\")","v":""}]
[null,null,null,null,null,null,null,null,null,null,{"$f":"IF(L117<>\"\",'Step 2) Calculate'!B121,\"Zzzzz - delete row\")","v":"Zzzzz - delete row"},{"$f":"IF('Step 2) Calculate'!E121<>\"\",'Step 2) Calculate'!G121,\"\")","v":""},{"$f":"IF(L117<>\"\",'Step 2) Calculate'!F121,\"\")","v":""},{"$f":"IF(L117<>\"\",'Step 2) Calculate'!H121,\"\")","v":""},{"$f":"IF(L117<>\"\",'Step 2) Calculate'!C121,\"\")","v":""}]
[null,null,null,null,null,null,null,null,null,null,{"$f":"IF(L118<>\"\",'Step 2) Calculate'!B122,\"Zzzzz - delete row\")","v":"Zzzzz - delete row"},{"$f":"IF('Step 2) Calculate'!E122<>\"\",'Step 2) Calculate'!G122,\"\")","v":""},{"$f":"IF(L118<>\"\",'Step 2) Calculate'!F122,\"\")","v":""},{"$f":"IF(L118<>\"\",'Step 2) Calculate'!H122,\"\")","v":""},{"$f":"IF(L118<>\"\",'Step 2) Calculate'!C122,\"\")","v":""}]
[null,null,null,null,null,null,null,null,null,null,{"$f":"IF(L119<>\"\",'Step 2) Calculate'!B123,\"Zzzzz - delete row\")","v":"Zzzzz - delete row"},{"$f":"IF('Step 2) Calculate'!E123<>\"\",'Step 2) Calculate'!G123,\"\")","v":""},{"$f":"IF(L119<>\"\",'Step 2) Calculate'!F123,\"\")","v":""},{"$f":"IF(L119<>\"\",'Step 2) Calculate'!H123,\"\")","v":""},{"$f":"IF(L119<>\"\",'Step 2) Calculate'!C123,\"\")","v":""}]
[null,null,null,null,null,null,null,null,null,null,{"$f":"IF(L120<>\"\",'Step 2) Calculate'!B124,\"Zzzzz - delete row\")","v":"Zzzzz - delete row"},{"$f":"IF('Step 2) Calculate'!E124<>\"\",'Step 2) Calculate'!G124,\"\")","v":""},{"$f":"IF(L120<>\"\",'Step 2) Calculate'!F124,\"\")","v":""},{"$f":"IF(L120<>\"\",'Step 2) Calculate'!H124,\"\")","v":""},{"$f":"IF(L120<>\"\",'Step 2) Calculate'!C124,\"\")","v":""}]
[null,null,null,null,null,null,null,null,null,null,{"$f":"IF(L121<>\"\",'Step 2) Calculate'!B125,\"Zzzzz - delete row\")","v":"Zzzzz - delete row"},{"$f":"IF('Step 2) Calculate'!E125<>\"\",'Step 2) Calculate'!G125,\"\")","v":""},{"$f":"IF(L121<>\"\",'Step 2) Calculate'!F125,\"\")","v":""},{"$f":"IF(L121<>\"\",'Step 2) Calculate'!H125,\"\")","v":""},{"$f":"IF(L121<>\"\",'Step 2) Calculate'!C125,\"\")","v":""}]
[null,null,null,null,null,null,null,null,null,null,{"$f":"IF(L122<>\"\",'Step 2) Calculate'!B126,\"Zzzzz - delete row\")","v":"Zzzzz - delete row"},{"$f":"IF('Step 2) Calculate'!E126<>\"\",'Step 2) Calculate'!G126,\"\")","v":""},{"$f":"IF(L122<>\"\",'Step 2) Calculate'!F126,\"\")","v":""},{"$f":"IF(L122<>\"\",'Step 2) Calculate'!H126,\"\")","v":""},{"$f":"IF(L122<>\"\",'Step 2) Calculate'!C126,\"\")","v":""}]
[null,null,null,null,null,null,null,null,null,null,{"$f":"IF(L123<>\"\",'Step 2) Calculate'!B127,\"Zzzzz - delete row\")","v":"Zzzzz - delete row"},{"$f":"IF('Step 2) Calculate'!E127<>\"\",'Step 2) Calculate'!G127,\"\")","v":""},{"$f":"IF(L123<>\"\",'Step 2) Calculate'!F127,\"\")","v":""},{"$f":"IF(L123<>\"\",'Step 2) Calculate'!H127,\"\")","v":""},{"$f":"IF(L123<>\"\",'Step 2) Calculate'!C127,\"\")","v":""}]
[null,null,null,null,null,null,null,null,null,null,{"$f":"IF(L124<>\"\",'Step 2) Calculate'!B128,\"Zzzzz - delete row\")","v":"Zzzzz - delete row"},{"$f":"IF('Step 2) Calculate'!E128<>\"\",'Step 2) Calculate'!G128,\"\")","v":""},{"$f":"IF(L124<>\"\",'Step 2) Calculate'!F128,\"\")","v":""},{"$f":"IF(L124<>\"\",'Step 2) Calculate'!H128,\"\")","v":""},{"$f":"IF(L124<>\"\",'Step 2) Calculate'!C128,\"\")","v":""}]
[null,null,null,null,null,null,null,null,null,null,{"$f":"IF(L125<>\"\",'Step 2) Calculate'!B129,\"Zzzzz - delete row\")","v":"Zzzzz - delete row"},{"$f":"IF('Step 2) Calculate'!E129<>\"\",'Step 2) Calculate'!G129,\"\")","v":""},{"$f":"IF(L125<>\"\",'Step 2) Calculate'!F129,\"\")","v":""},{"$f":"IF(L125<>\"\",'Step 2) Calculate'!H129,\"\")","v":""},{"$f":"IF(L125<>\"\",'Step 2) Calculate'!C129,\"\")","v":""}]
[null,null,null,null,null,null,null,null,null,null,{"$f":"IF(L126<>\"\",'Step 2) Calculate'!B130,\"Zzzzz - delete row\")","v":"Zzzzz - delete row"},{"$f":"IF('Step 2) Calculate'!E130<>\"\",'Step 2) Calculate'!G130,\"\")","v":""},{"$f":"IF(L126<>\"\",'Step 2) Calculate'!F130,\"\")","v":""},{"$f":"IF(L126<>\"\",'Step 2) Calculate'!H130,\"\")","v":""},{"$f":"IF(L126<>\"\",'Step 2) Calculate'!C130,\"\")","v":""}]
[null,null,null,null,null,null,null,null,null,null,{"$f":"IF(L127<>\"\",'Step 2) Calculate'!B131,\"Zzzzz - delete row\")","v":"Zzzzz - delete row"},{"$f":"IF('Step 2) Calculate'!E131<>\"\",'Step 2) Calculate'!G131,\"\")","v":""},{"$f":"IF(L127<>\"\",'Step 2) Calculate'!F131,\"\")","v":""},{"$f":"IF(L127<>\"\",'Step 2) Calculate'!H131,\"\")","v":""},{"$f":"IF(L127<>\"\",'Step 2) Calculate'!C131,\"\")","v":""}]
[null,null,null,null,null,null,null,null,null,null,{"$f":"IF(L128<>\"\",'Step 2) Calculate'!B132,\"Zzzzz - delete row\")","v":"Zzzzz - delete row"},{"$f":"IF('Step 2) Calculate'!E132<>\"\",'Step 2) Calculate'!G132,\"\")","v":""},{"$f":"IF(L128<>\"\",'Step 2) Calculate'!F132,\"\")","v":""},{"$f":"IF(L128<>\"\",'Step 2) Calculate'!H132,\"\")","v":""},{"$f":"IF(L128<>\"\",'Step 2) Calculate'!C132,\"\")","v":""}]
[null,null,null,null,null,null,null,null,null,null,{"$f":"IF(L129<>\"\",'Step 2) Calculate'!B133,\"Zzzzz - delete row\")","v":"Zzzzz - delete row"},{"$f":"IF('Step 2) Calculate'!E133<>\"\",'Step 2) Calculate'!G133,\"\")","v":""},{"$f":"IF(L129<>\"\",'Step 2) Calculate'!F133,\"\")","v":""},{"$f":"IF(L129<>\"\",'Step 2) Calculate'!H133,\"\")","v":""},{"$f":"IF(L129<>\"\",'Step 2) Calculate'!C133,\"\")","v":""}]
[null,null,null,null,null,null,null,null,null,null,{"$f":"IF(L130<>\"\",'Step 2) Calculate'!B134,\"Zzzzz - delete row\")","v":"Zzzzz - delete row"},{"$f":"IF('Step 2) Calculate'!E134<>\"\",'Step 2) Calculate'!G134,\"\")","v":""},{"$f":"IF(L130<>\"\",'Step 2) Calculate'!F134,\"\")","v":""},{"$f":"IF(L130<>\"\",'Step 2) Calculate'!H134,\"\")","v":""},{"$f":"IF(L130<>\"\",'Step 2) Calculate'!C134,\"\")","v":""}]
[null,null,null,null,null,null,null,null,null,null,{"$f":"IF(L131<>\"\",'Step 2) Calculate'!B135,\"Zzzzz - delete row\")","v":"Zzzzz - delete row"},{"$f":"IF('Step 2) Calculate'!E135<>\"\",'Step 2) Calculate'!G135,\"\")","v":""},{"$f":"IF(L131<>\"\",'Step 2) Calculate'!F135,\"\")","v":""},{"$f":"IF(L131<>\"\",'Step 2) Calculate'!H135,\"\")","v":""},{"$f":"IF(L131<>\"\",'Step 2) Calculate'!C135,\"\")","v":""}]
[null,null,null,null,null,null,null,null,null,null,{"$f":"IF(L132<>\"\",'Step 2) Calculate'!B136,\"Zzzzz - delete row\")","v":"Zzzzz - delete row"},{"$f":"IF('Step 2) Calculate'!E136<>\"\",'Step 2) Calculate'!G136,\"\")","v":""},{"$f":"IF(L132<>\"\",'Step 2) Calculate'!F136,\"\")","v":""},{"$f":"IF(L132<>\"\",'Step 2) Calculate'!H136,\"\")","v":""},{"$f":"IF(L132<>\"\",'Step 2) Calculate'!C136,\"\")","v":""}]
[null,null,null,null,null,null,null,null,null,null,{"$f":"IF(L133<>\"\",'Step 2) Calculate'!B137,\"Zzzzz - delete row\")","v":"Zzzzz - delete row"},{"$f":"IF('Step 2) Calculate'!E137<>\"\",'Step 2) Calculate'!G137,\"\")","v":""},{"$f":"IF(L133<>\"\",'Step 2) Calculate'!F137,\"\")","v":""},{"$f":"IF(L133<>\"\",'Step 2) Calculate'!H137,\"\")","v":""},{"$f":"IF(L133<>\"\",'Step 2) Calculate'!C137,\"\")","v":""}]
[null,null,null,null,null,null,null,null,null,null,{"$f":"IF(L134<>\"\",'Step 2) Calculate'!B138,\"Zzzzz - delete row\")","v":"Zzzzz - delete row"},{"$f":"IF('Step 2) Calculate'!E138<>\"\",'Step 2) Calculate'!G138,\"\")","v":""},{"$f":"IF(L134<>\"\",'Step 2) Calculate'!F138,\"\")","v":""},{"$f":"IF(L134<>\"\",'Step 2) Calculate'!H138,\"\")","v":""},{"$f":"IF(L134<>\"\",'Step 2) Calculate'!C138,\"\")","v":""}]
[null,null,null,null,null,null,null,null,null,null,{"$f":"IF(L135<>\"\",'Step 2) Calculate'!B139,\"Zzzzz - delete row\")","v":"Zzzzz - delete row"},{"$f":"IF('Step 2) Calculate'!E139<>\"\",'Step 2) Calculate'!G139,\"\")","v":""},{"$f":"IF(L135<>\"\",'Step 2) Calculate'!F139,\"\")","v":""},{"$f":"IF(L135<>\"\",'Step 2) Calculate'!H139,\"\")","v":""},{"$f":"IF(L135<>\"\",'Step 2) Calculate'!C139,\"\")","v":""}]
[null,null,null,null,null,null,null,null,null,null,{"$f":"IF(L136<>\"\",'Step 2) Calculate'!B140,\"Zzzzz - delete row\")","v":"Zzzzz - delete row"},{"$f":"IF('Step 2) Calculate'!E140<>\"\",'Step 2) Calculate'!G140,\"\")","v":""},{"$f":"IF(L136<>\"\",'Step 2) Calculate'!F140,\"\")","v":""},{"$f":"IF(L136<>\"\",'Step 2) Calculate'!H140,\"\")","v":""},{"$f":"IF(L136<>\"\",'Step 2) Calculate'!C140,\"\")","v":""}]
[null,null,null,null,null,null,null,null,null,null,{"$f":"IF(L137<>\"\",'Step 2) Calculate'!B141,\"Zzzzz - delete row\")","v":"Zzzzz - delete row"},{"$f":"IF('Step 2) Calculate'!E141<>\"\",'Step 2) Calculate'!G141,\"\")","v":""},{"$f":"IF(L137<>\"\",'Step 2) Calculate'!F141,\"\")","v":""},{"$f":"IF(L137<>\"\",'Step 2) Calculate'!H141,\"\")","v":""},{"$f":"IF(L137<>\"\",'Step 2) Calculate'!C141,\"\")","v":""}]
[null,null,null,null,null,null,null,null,null,null,{"$f":"IF(L138<>\"\",'Step 2) Calculate'!B142,\"Zzzzz - delete row\")","v":"Zzzzz - delete row"},{"$f":"IF('Step 2) Calculate'!E142<>\"\",'Step 2) Calculate'!G142,\"\")","v":""},{"$f":"IF(L138<>\"\",'Step 2) Calculate'!F142,\"\")","v":""},{"$f":"IF(L138<>\"\",'Step 2) Calculate'!H142,\"\")","v":""},{"$f":"IF(L138<>\"\",'Step 2) Calculate'!C142,\"\")","v":""}]
[null,null,null,null,null,null,null,null,null,null,{"$f":"IF(L139<>\"\",'Step 2) Calculate'!B143,\"Zzzzz - delete row\")","v":"Zzzzz - delete row"},{"$f":"IF('Step 2) Calculate'!E143<>\"\",'Step 2) Calculate'!G143,\"\")","v":""},{"$f":"IF(L139<>\"\",'Step 2) Calculate'!F143,\"\")","v":""},{"$f":"IF(L139<>\"\",'Step 2) Calculate'!H143,\"\")","v":""},{"$f":"IF(L139<>\"\",'Step 2) Calculate'!C143,\"\")","v":""}]
[null,null,null,null,null,null,null,null,null,null,{"$f":"IF(L140<>\"\",'Step 2) Calculate'!B144,\"Zzzzz - delete row\")","v":"Zzzzz - delete row"},{"$f":"IF('Step 2) Calculate'!E144<>\"\",'Step 2) Calculate'!G144,\"\")","v":""},{"$f":"IF(L140<>\"\",'Step 2) Calculate'!F144,\"\")","v":""},{"$f":"IF(L140<>\"\",'Step 2) Calculate'!H144,\"\")","v":""},{"$f":"IF(L140<>\"\",'Step 2) Calculate'!C144,\"\")","v":""}]
[null,null,null,null,null,null,null,null,null,null,{"$f":"IF(L141<>\"\",'Step 2) Calculate'!B145,\"Zzzzz - delete row\")","v":"Zzzzz - delete row"},{"$f":"IF('Step 2) Calculate'!E145<>\"\",'Step 2) Calculate'!G145,\"\")","v":""},{"$f":"IF(L141<>\"\",'Step 2) Calculate'!F145,\"\")","v":""},{"$f":"IF(L141<>\"\",'Step 2) Calculate'!H145,\"\")","v":""},{"$f":"IF(L141<>\"\",'Step 2) Calculate'!C145,\"\")","v":""}]
[null,null,null,null,null,null,null,null,null,null,{"$f":"IF(L142<>\"\",'Step 2) Calculate'!B146,\"Zzzzz - delete row\")","v":"Zzzzz - delete row"},{"$f":"IF('Step 2) Calculate'!E146<>\"\",'Step 2) Calculate'!G146,\"\")","v":""},{"$f":"IF(L142<>\"\",'Step 2) Calculate'!F146,\"\")","v":""},{"$f":"IF(L142<>\"\",'Step 2) Calculate'!H146,\"\")","v":""},{"$f":"IF(L142<>\"\",'Step 2) Calculate'!C146,\"\")","v":""}]
[null,null,null,null,null,null,null,null,null,null,{"$f":"IF(L143<>\"\",'Step 2) Calculate'!B147,\"Zzzzz - delete row\")","v":"Zzzzz - delete row"},{"$f":"IF('Step 2) Calculate'!E147<>\"\",'Step 2) Calculate'!G147,\"\")","v":""},{"$f":"IF(L143<>\"\",'Step 2) Calculate'!F147,\"\")","v":""},{"$f":"IF(L143<>\"\",'Step 2) Calculate'!H147,\"\")","v":""},{"$f":"IF(L143<>\"\",'Step 2) Calculate'!C147,\"\")","v":""}]
[null,null,null,null,null,null,null,null,null,null,{"$f":"IF(L144<>\"\",'Step 2) Calculate'!B148,\"Zzzzz - delete row\")","v":"Zzzzz - delete row"},{"$f":"IF('Step 2) Calculate'!E148<>\"\",'Step 2) Calculate'!G148,\"\")","v":""},{"$f":"IF(L144<>\"\",'Step 2) Calculate'!F148,\"\")","v":""},{"$f":"IF(L144<>\"\",'Step 2) Calculate'!H148,\"\")","v":""},{"$f":"IF(L144<>\"\",'Step 2) Calculate'!C148,\"\")","v":""}]
[null,null,null,null,null,null,null,null,null,null,{"$f":"IF(L145<>\"\",'Step 2) Calculate'!B149,\"Zzzzz - delete row\")","v":"Zzzzz - delete row"},{"$f":"IF('Step 2) Calculate'!E149<>\"\",'Step 2) Calculate'!G149,\"\")","v":""},{"$f":"IF(L145<>\"\",'Step 2) Calculate'!F149,\"\")","v":""},{"$f":"IF(L145<>\"\",'Step 2) Calculate'!H149,\"\")","v":""},{"$f":"IF(L145<>\"\",'Step 2) Calculate'!C149,\"\")","v":""}]
[null,null,null,null,null,null,null,null,null,null,{"$f":"IF(L146<>\"\",'Step 2) Calculate'!B150,\"Zzzzz - delete row\")","v":"Zzzzz - delete row"},{"$f":"IF('Step 2) Calculate'!E150<>\"\",'Step 2) Calculate'!G150,\"\")","v":""},{"$f":"IF(L146<>\"\",'Step 2) Calculate'!F150,\"\")","v":""},{"$f":"IF(L146<>\"\",'Step 2) Calculate'!H150,\"\")","v":""},{"$f":"IF(L146<>\"\",'Step 2) Calculate'!C150,\"\")","v":""}]
[null,null,null,null,null,null,null,null,null,null,{"$f":"IF(L147<>\"\",'Step 2) Calculate'!B151,\"Zzzzz - delete row\")","v":"Zzzzz - delete row"},{"$f":"IF('Step 2) Calculate'!E151<>\"\",'Step 2) Calculate'!G151,\"\")","v":""},{"$f":"IF(L147<>\"\",'Step 2) Calculate'!F151,\"\")","v":""},{"$f":"IF(L147<>\"\",'Step 2) Calculate'!H151,\"\")","v":""},{"$f":"IF(L147<>\"\",'Step 2) Calculate'!C151,\"\")","v":""}]
[null,null,null,null,null,null,null,null,null,null,{"$f":"IF(L148<>\"\",'Step 2) Calculate'!B152,\"Zzzzz - delete row\")","v":"Zzzzz - delete row"},{"$f":"IF('Step 2) Calculate'!E152<>\"\",'Step 2) Calculate'!G152,\"\")","v":""},{"$f":"IF(L148<>\"\",'Step 2) Calculate'!F152,\"\")","v":""},{"$f":"IF(L148<>\"\",'Step 2) Calculate'!H152,\"\")","v":""},{"$f":"IF(L148<>\"\",'Step 2) Calculate'!C152,\"\")","v":""}]
[null,null,null,null,null,null,null,null,null,null,{"$f":"IF(L149<>\"\",'Step 2) Calculate'!B153,\"Zzzzz - delete row\")","v":"Zzzzz - delete row"},{"$f":"IF('Step 2) Calculate'!E153<>\"\",'Step 2) Calculate'!G153,\"\")","v":""},{"$f":"IF(L149<>\"\",'Step 2) Calculate'!F153,\"\")","v":""},{"$f":"IF(L149<>\"\",'Step 2) Calculate'!H153,\"\")","v":""},{"$f":"IF(L149<>\"\",'Step 2) Calculate'!C153,\"\")","v":""}]
[null,null,null,null,null,null,null,null,null,null,{"$f":"IF(L150<>\"\",'Step 2) Calculate'!B154,\"Zzzzz - delete row\")","v":"Zzzzz - delete row"},{"$f":"IF('Step 2) Calculate'!E154<>\"\",'Step 2) Calculate'!G154,\"\")","v":""},{"$f":"IF(L150<>\"\",'Step 2) Calculate'!F154,\"\")","v":""},{"$f":"IF(L150<>\"\",'Step 2) Calculate'!H154,\"\")","v":""},{"$f":"IF(L150<>\"\",'Step 2) Calculate'!C154,\"\")","v":""}]
[null,null,null,null,null,null,null,null,null,null,{"$f":"IF(L151<>\"\",'Step 2) Calculate'!B155,\"Zzzzz - delete row\")","v":"Zzzzz - delete row"},{"$f":"IF('Step 2) Calculate'!E155<>\"\",'Step 2) Calculate'!G155,\"\")","v":""},{"$f":"IF(L151<>\"\",'Step 2) Calculate'!F155,\"\")","v":""},{"$f":"IF(L151<>\"\",'Step 2) Calculate'!H155,\"\")","v":""},{"$f":"IF(L151<>\"\",'Step 2) Calculate'!C155,\"\")","v":""}]
[null,null,null,null,null,null,null,null,null,null,{"$f":"IF(L152<>\"\",'Step 2) Calculate'!B156,\"Zzzzz - delete row\")","v":"Zzzzz - delete row"},{"$f":"IF('Step 2) Calculate'!E156<>\"\",'Step 2) Calculate'!G156,\"\")","v":""},{"$f":"IF(L152<>\"\",'Step 2) Calculate'!F156,\"\")","v":""},{"$f":"IF(L152<>\"\",'Step 2) Calculate'!H156,\"\")","v":""},{"$f":"IF(L152<>\"\",'Step 2) Calculate'!C156,\"\")","v":""}]
[null,null,null,null,null,null,null,null,null,null,{"$f":"IF(L153<>\"\",'Step 2) Calculate'!B157,\"Zzzzz - delete row\")","v":"Zzzzz - delete row"},{"$f":"IF('Step 2) Calculate'!E157<>\"\",'Step 2) Calculate'!G157,\"\")","v":""},{"$f":"IF(L153<>\"\",'Step 2) Calculate'!F157,\"\")","v":""},{"$f":"IF(L153<>\"\",'Step 2) Calculate'!H157,\"\")","v":""},{"$f":"IF(L153<>\"\",'Step 2) Calculate'!C157,\"\")","v":""}]
[null,null,null,null,null,null,null,null,null,null,{"$f":"IF(L154<>\"\",'Step 2) Calculate'!B158,\"Zzzzz - delete row\")","v":"Zzzzz - delete row"},{"$f":"IF('Step 2) Calculate'!E158<>\"\",'Step 2) Calculate'!G158,\"\")","v":""},{"$f":"IF(L154<>\"\",'Step 2) Calculate'!F158,\"\")","v":""},{"$f":"IF(L154<>\"\",'Step 2) Calculate'!H158,\"\")","v":""},{"$f":"IF(L154<>\"\",'Step 2) Calculate'!C158,\"\")","v":""}]
[null,null,null,null,null,null,null,null,null,null,{"$f":"IF(L155<>\"\",'Step 2) Calculate'!B159,\"Zzzzz - delete row\")","v":"Zzzzz - delete row"},{"$f":"IF('Step 2) Calculate'!E159<>\"\",'Step 2) Calculate'!G159,\"\")","v":""},{"$f":"IF(L155<>\"\",'Step 2) Calculate'!F159,\"\")","v":""},{"$f":"IF(L155<>\"\",'Step 2) Calculate'!H159,\"\")","v":""},{"$f":"IF(L155<>\"\",'Step 2) Calculate'!C159,\"\")","v":""}]
[null,null,null,null,null,null,null,null,null,null,{"$f":"IF(L156<>\"\",'Step 2) Calculate'!B160,\"Zzzzz - delete row\")","v":"Zzzzz - delete row"},{"$f":"IF('Step 2) Calculate'!E160<>\"\",'Step 2) Calculate'!G160,\"\")","v":""},{"$f":"IF(L156<>\"\",'Step 2) Calculate'!F160,\"\")","v":""},{"$f":"IF(L156<>\"\",'Step 2) Calculate'!H160,\"\")","v":""},{"$f":"IF(L156<>\"\",'Step 2) Calculate'!C160,\"\")","v":""}]
[null,null,null,null,null,null,null,null,null,null,{"$f":"IF(L157<>\"\",'Step 2) Calculate'!B161,\"Zzzzz - delete row\")","v":"Zzzzz - delete row"},{"$f":"IF('Step 2) Calculate'!E161<>\"\",'Step 2) Calculate'!G161,\"\")","v":""},{"$f":"IF(L157<>\"\",'Step 2) Calculate'!F161,\"\")","v":""},{"$f":"IF(L157<>\"\",'Step 2) Calculate'!H161,\"\")","v":""},{"$f":"IF(L157<>\"\",'Step 2) Calculate'!C161,\"\")","v":""}]
[null,null,null,null,null,null,null,null,null,null,{"$f":"IF(L158<>\"\",'Step 2) Calculate'!B162,\"Zzzzz - delete row\")","v":"Zzzzz - delete row"},{"$f":"IF('Step 2) Calculate'!E162<>\"\",'Step 2) Calculate'!G162,\"\")","v":""},{"$f":"IF(L158<>\"\",'Step 2) Calculate'!F162,\"\")","v":""},{"$f":"IF(L158<>\"\",'Step 2) Calculate'!H162,\"\")","v":""},{"$f":"IF(L158<>\"\",'Step 2) Calculate'!C162,\"\")","v":""}]
[null,null,null,null,null,null,null,null,null,null,{"$f":"IF(L159<>\"\",'Step 2) Calculate'!B163,\"Zzzzz - delete row\")","v":"Zzzzz - delete row"},{"$f":"IF('Step 2) Calculate'!E163<>\"\",'Step 2) Calculate'!G163,\"\")","v":""},{"$f":"IF(L159<>\"\",'Step 2) Calculate'!F163,\"\")","v":""},{"$f":"IF(L159<>\"\",'Step 2) Calculate'!H163,\"\")","v":""},{"$f":"IF(L159<>\"\",'Step 2) Calculate'!C163,\"\")","v":""}]
[null,null,null,null,null,null,null,null,null,null,{"$f":"IF(L160<>\"\",'Step 2) Calculate'!B164,\"Zzzzz - delete row\")","v":"Zzzzz - delete row"},{"$f":"IF('Step 2) Calculate'!E164<>\"\",'Step 2) Calculate'!G164,\"\")","v":""},{"$f":"IF(L160<>\"\",'Step 2) Calculate'!F164,\"\")","v":""},{"$f":"IF(L160<>\"\",'Step 2) Calculate'!H164,\"\")","v":""},{"$f":"IF(L160<>\"\",'Step 2) Calculate'!C164,\"\")","v":""}]
[null,null,null,null,null,null,null,null,null,null,{"$f":"IF(L161<>\"\",'Step 2) Calculate'!B165,\"Zzzzz - delete row\")","v":"Zzzzz - delete row"},{"$f":"IF('Step 2) Calculate'!E165<>\"\",'Step 2) Calculate'!G165,\"\")","v":""},{"$f":"IF(L161<>\"\",'Step 2) Calculate'!F165,\"\")","v":""},{"$f":"IF(L161<>\"\",'Step 2) Calculate'!H165,\"\")","v":""},{"$f":"IF(L161<>\"\",'Step 2) Calculate'!C165,\"\")","v":""}]
[null,null,null,null,null,null,null,null,null,null,{"$f":"IF(L162<>\"\",'Step 2) Calculate'!B166,\"Zzzzz - delete row\")","v":"Zzzzz - delete row"},{"$f":"IF('Step 2) Calculate'!E166<>\"\",'Step 2) Calculate'!G166,\"\")","v":""},{"$f":"IF(L162<>\"\",'Step 2) Calculate'!F166,\"\")","v":""},{"$f":"IF(L162<>\"\",'Step 2) Calculate'!H166,\"\")","v":""},{"$f":"IF(L162<>\"\",'Step 2) Calculate'!C166,\"\")","v":""}]
[null,null,null,null,null,null,null,null,null,null,{"$f":"IF(L163<>\"\",'Step 2) Calculate'!B167,\"Zzzzz - delete row\")","v":"Zzzzz - delete row"},{"$f":"IF('Step 2) Calculate'!E167<>\"\",'Step 2) Calculate'!G167,\"\")","v":""},{"$f":"IF(L163<>\"\",'Step 2) Calculate'!F167,\"\")","v":""},{"$f":"IF(L163<>\"\",'Step 2) Calculate'!H167,\"\")","v":""},{"$f":"IF(L163<>\"\",'Step 2) Calculate'!C167,\"\")","v":""}]
[null,null,null,null,null,null,null,null,null,null,{"$f":"IF(L164<>\"\",'Step 2) Calculate'!B168,\"Zzzzz - delete row\")","v":"Zzzzz - delete row"},{"$f":"IF('Step 2) Calculate'!E168<>\"\",'Step 2) Calculate'!G168,\"\")","v":""},{"$f":"IF(L164<>\"\",'Step 2) Calculate'!F168,\"\")","v":""},{"$f":"IF(L164<>\"\",'Step 2) Calculate'!H168,\"\")","v":""},{"$f":"IF(L164<>\"\",'Step 2) Calculate'!C168,\"\")","v":""}]
[null,null,null,null,null,null,null,null,null,null,{"$f":"IF(L165<>\"\",'Step 2) Calculate'!B169,\"Zzzzz - delete row\")","v":"Zzzzz - delete row"},{"$f":"IF('Step 2) Calculate'!E169<>\"\",'Step 2) Calculate'!G169,\"\")","v":""},{"$f":"IF(L165<>\"\",'Step 2) Calculate'!F169,\"\")","v":""},{"$f":"IF(L165<>\"\",'Step 2) Calculate'!H169,\"\")","v":""},{"$f":"IF(L165<>\"\",'Step 2) Calculate'!C169,\"\")","v":""}]
[null,null,null,null,null,null,null,null,null,null,{"$f":"IF(L166<>\"\",'Step 2) Calculate'!B170,\"Zzzzz - delete row\")","v":"Zzzzz - delete row"},{"$f":"IF('Step 2) Calculate'!E170<>\"\",'Step 2) Calculate'!G170,\"\")","v":""},{"$f":"IF(L166<>\"\",'Step 2) Calculate'!F170,\"\")","v":""},{"$f":"IF(L166<>\"\",'Step 2) Calculate'!H170,\"\")","v":""},{"$f":"IF(L166<>\"\",'Step 2) Calculate'!C170,\"\")","v":""}]
[null,null,null,null,null,null,null,null,null,null,{"$f":"IF(L167<>\"\",'Step 2) Calculate'!B171,\"Zzzzz - delete row\")","v":"Zzzzz - delete row"},{"$f":"IF('Step 2) Calculate'!E171<>\"\",'Step 2) Calculate'!G171,\"\")","v":""},{"$f":"IF(L167<>\"\",'Step 2) Calculate'!F171,\"\")","v":""},{"$f":"IF(L167<>\"\",'Step 2) Calculate'!H171,\"\")","v":""},{"$f":"IF(L167<>\"\",'Step 2) Calculate'!C171,\"\")","v":""}]
[null,null,null,null,null,null,null,null,null,null,{"$f":"IF(L168<>\"\",'Step 2) Calculate'!B172,\"Zzzzz - delete row\")","v":"Zzzzz - delete row"},{"$f":"IF('Step 2) Calculate'!E172<>\"\",'Step 2) Calculate'!G172,\"\")","v":""},{"$f":"IF(L168<>\"\",'Step 2) Calculate'!F172,\"\")","v":""},{"$f":"IF(L168<>\"\",'Step 2) Calculate'!H172,\"\")","v":""},{"$f":"IF(L168<>\"\",'Step 2) Calculate'!C172,\"\")","v":""}]
[null,null,null,null,null,null,null,null,null,null,{"$f":"IF(L169<>\"\",'Step 2) Calculate'!B173,\"Zzzzz - delete row\")","v":"Zzzzz - delete row"},{"$f":"IF('Step 2) Calculate'!E173<>\"\",'Step 2) Calculate'!G173,\"\")","v":""},{"$f":"IF(L169<>\"\",'Step 2) Calculate'!F173,\"\")","v":""},{"$f":"IF(L169<>\"\",'Step 2) Calculate'!H173,\"\")","v":""},{"$f":"IF(L169<>\"\",'Step 2) Calculate'!C173,\"\")","v":""}]
[null,null,null,null,null,null,null,null,null,null,{"$f":"IF(L170<>\"\",'Step 2) Calculate'!B174,\"Zzzzz - delete row\")","v":"Zzzzz - delete row"},{"$f":"IF('Step 2) Calculate'!E174<>\"\",'Step 2) Calculate'!G174,\"\")","v":""},{"$f":"IF(L170<>\"\",'Step 2) Calculate'!F174,\"\")","v":""},{"$f":"IF(L170<>\"\",'Step 2) Calculate'!H174,\"\")","v":""},{"$f":"IF(L170<>\"\",'Step 2) Calculate'!C174,\"\")","v":""}]
[null,null,null,null,null,null,null,null,null,null,{"$f":"IF(L171<>\"\",'Step 2) Calculate'!B175,\"Zzzzz - delete row\")","v":"Zzzzz - delete row"},{"$f":"IF('Step 2) Calculate'!E175<>\"\",'Step 2) Calculate'!G175,\"\")","v":""},{"$f":"IF(L171<>\"\",'Step 2) Calculate'!F175,\"\")","v":""},{"$f":"IF(L171<>\"\",'Step 2) Calculate'!H175,\"\")","v":""},{"$f":"IF(L171<>\"\",'Step 2) Calculate'!C175,\"\")","v":""}]
[null,null,null,null,null,null,null,null,null,null,{"$f":"IF(L172<>\"\",'Step 2) Calculate'!B176,\"Zzzzz - delete row\")","v":"Zzzzz - delete row"},{"$f":"IF('Step 2) Calculate'!E176<>\"\",'Step 2) Calculate'!G176,\"\")","v":""},{"$f":"IF(L172<>\"\",'Step 2) Calculate'!F176,\"\")","v":""},{"$f":"IF(L172<>\"\",'Step 2) Calculate'!H176,\"\")","v":""},{"$f":"IF(L172<>\"\",'Step 2) Calculate'!C176,\"\")","v":""}]
[null,null,null,null,null,null,null,null,null,null,{"$f":"IF(L173<>\"\",'Step 2) Calculate'!B177,\"Zzzzz - delete row\")","v":"Zzzzz - delete row"},{"$f":"IF('Step 2) Calculate'!E177<>\"\",'Step 2) Calculate'!G177,\"\")","v":""},{"$f":"IF(L173<>\"\",'Step 2) Calculate'!F177,\"\")","v":""},{"$f":"IF(L173<>\"\",'Step 2) Calculate'!H177,\"\")","v":""},{"$f":"IF(L173<>\"\",'Step 2) Calculate'!C177,\"\")","v":""}]
[null,null,null,null,null,null,null,null,null,null,{"$f":"IF(L174<>\"\",'Step 2) Calculate'!B178,\"Zzzzz - delete row\")","v":"Zzzzz - delete row"},{"$f":"IF('Step 2) Calculate'!E178<>\"\",'Step 2) Calculate'!G178,\"\")","v":""},{"$f":"IF(L174<>\"\",'Step 2) Calculate'!F178,\"\")","v":""},{"$f":"IF(L174<>\"\",'Step 2) Calculate'!H178,\"\")","v":""},{"$f":"IF(L174<>\"\",'Step 2) Calculate'!C178,\"\")","v":""}]
[null,null,null,null,null,null,null,null,null,null,{"$f":"IF(L175<>\"\",'Step 2) Calculate'!B179,\"Zzzzz - delete row\")","v":"Zzzzz - delete row"},{"$f":"IF('Step 2) Calculate'!E179<>\"\",'Step 2) Calculate'!G179,\"\")","v":""},{"$f":"IF(L175<>\"\",'Step 2) Calculate'!F179,\"\")","v":""},{"$f":"IF(L175<>\"\",'Step 2) Calculate'!H179,\"\")","v":""},{"$f":"IF(L175<>\"\",'Step 2) Calculate'!C179,\"\")","v":""}]
[null,null,null,null,null,null,null,null,null,null,{"$f":"IF(L176<>\"\",'Step 2) Calculate'!B180,\"Zzzzz - delete row\")","v":"Zzzzz - delete row"},{"$f":"IF('Step 2) Calculate'!E180<>\"\",'Step 2) Calculate'!G180,\"\")","v":""},{"$f":"IF(L176<>\"\",'Step 2) Calculate'!F180,\"\")","v":""},{"$f":"IF(L176<>\"\",'Step 2) Calculate'!H180,\"\")","v":""},{"$f":"IF(L176<>\"\",'Step 2) Calculate'!C180,\"\")","v":""}]
[null,null,null,null,null,null,null,null,null,null,{"$f":"IF(L177<>\"\",'Step 2) Calculate'!B181,\"Zzzzz - delete row\")","v":"Zzzzz - delete row"},{"$f":"IF('Step 2) Calculate'!E181<>\"\",'Step 2) Calculate'!G181,\"\")","v":""},{"$f":"IF(L177<>\"\",'Step 2) Calculate'!F181,\"\")","v":""},{"$f":"IF(L177<>\"\",'Step 2) Calculate'!H181,\"\")","v":""},{"$f":"IF(L177<>\"\",'Step 2) Calculate'!C181,\"\")","v":""}]
[null,null,null,null,null,null,null,null,null,null,{"$f":"IF(L178<>\"\",'Step 2) Calculate'!B182,\"Zzzzz - delete row\")","v":"Zzzzz - delete row"},{"$f":"IF('Step 2) Calculate'!E182<>\"\",'Step 2) Calculate'!G182,\"\")","v":""},{"$f":"IF(L178<>\"\",'Step 2) Calculate'!F182,\"\")","v":""},{"$f":"IF(L178<>\"\",'Step 2) Calculate'!H182,\"\")","v":""},{"$f":"IF(L178<>\"\",'Step 2) Calculate'!C182,\"\")","v":""}]
[null,null,null,null,null,null,null,null,null,null,{"$f":"IF(L179<>\"\",'Step 2) Calculate'!B183,\"Zzzzz - delete row\")","v":"Zzzzz - delete row"},{"$f":"IF('Step 2) Calculate'!E183<>\"\",'Step 2) Calculate'!G183,\"\")","v":""},{"$f":"IF(L179<>\"\",'Step 2) Calculate'!F183,\"\")","v":""},{"$f":"IF(L179<>\"\",'Step 2) Calculate'!H183,\"\")","v":""},{"$f":"IF(L179<>\"\",'Step 2) Calculate'!C183,\"\")","v":""}]
[null,null,null,null,null,null,null,null,null,null,{"$f":"IF(L180<>\"\",'Step 2) Calculate'!B184,\"Zzzzz - delete row\")","v":"Zzzzz - delete row"},{"$f":"IF('Step 2) Calculate'!E184<>\"\",'Step 2) Calculate'!G184,\"\")","v":""},{"$f":"IF(L180<>\"\",'Step 2) Calculate'!F184,\"\")","v":""},{"$f":"IF(L180<>\"\",'Step 2) Calculate'!H184,\"\")","v":""},{"$f":"IF(L180<>\"\",'Step 2) Calculate'!C184,\"\")","v":""}]
[null,null,null,null,null,null,null,null,null,null,{"$f":"IF(L181<>\"\",'Step 2) Calculate'!B185,\"Zzzzz - delete row\")","v":"Zzzzz - delete row"},{"$f":"IF('Step 2) Calculate'!E185<>\"\",'Step 2) Calculate'!G185,\"\")","v":""},{"$f":"IF(L181<>\"\",'Step 2) Calculate'!F185,\"\")","v":""},{"$f":"IF(L181<>\"\",'Step 2) Calculate'!H185,\"\")","v":""},{"$f":"IF(L181<>\"\",'Step 2) Calculate'!C185,\"\")","v":""}]
[null,null,null,null,null,null,null,null,null,null,{"$f":"IF(L182<>\"\",'Step 2) Calculate'!B186,\"Zzzzz - delete row\")","v":"Zzzzz - delete row"},{"$f":"IF('Step 2) Calculate'!E186<>\"\",'Step 2) Calculate'!G186,\"\")","v":""},{"$f":"IF(L182<>\"\",'Step 2) Calculate'!F186,\"\")","v":""},{"$f":"IF(L182<>\"\",'Step 2) Calculate'!H186,\"\")","v":""},{"$f":"IF(L182<>\"\",'Step 2) Calculate'!C186,\"\")","v":""}]
[null,null,null,null,null,null,null,null,null,null,{"$f":"IF(L183<>\"\",'Step 2) Calculate'!B187,\"Zzzzz - delete row\")","v":"Zzzzz - delete row"},{"$f":"IF('Step 2) Calculate'!E187<>\"\",'Step 2) Calculate'!G187,\"\")","v":""},{"$f":"IF(L183<>\"\",'Step 2) Calculate'!F187,\"\")","v":""},{"$f":"IF(L183<>\"\",'Step 2) Calculate'!H187,\"\")","v":""},{"$f":"IF(L183<>\"\",'Step 2) Calculate'!C187,\"\")","v":""}]
[null,null,null,null,null,null,null,null,null,null,{"$f":"IF(L184<>\"\",'Step 2) Calculate'!B188,\"Zzzzz - delete row\")","v":"Zzzzz - delete row"},{"$f":"IF('Step 2) Calculate'!E188<>\"\",'Step 2) Calculate'!G188,\"\")","v":""},{"$f":"IF(L184<>\"\",'Step 2) Calculate'!F188,\"\")","v":""},{"$f":"IF(L184<>\"\",'Step 2) Calculate'!H188,\"\")","v":""},{"$f":"IF(L184<>\"\",'Step 2) Calculate'!C188,\"\")","v":""}]
[null,null,null,null,null,null,null,null,null,null,{"$f":"IF(L185<>\"\",'Step 2) Calculate'!B189,\"Zzzzz - delete row\")","v":"Zzzzz - delete row"},{"$f":"IF('Step 2) Calculate'!E189<>\"\",'Step 2) Calculate'!G189,\"\")","v":""},{"$f":"IF(L185<>\"\",'Step 2) Calculate'!F189,\"\")","v":""},{"$f":"IF(L185<>\"\",'Step 2) Calculate'!H189,\"\")","v":""},{"$f":"IF(L185<>\"\",'Step 2) Calculate'!C189,\"\")","v":""}]
[null,null,null,null,null,null,null,null,null,null,{"$f":"IF(L186<>\"\",'Step 2) Calculate'!B190,\"Zzzzz - delete row\")","v":"Zzzzz - delete row"},{"$f":"IF('Step 2) Calculate'!E190<>\"\",'Step 2) Calculate'!G190,\"\")","v":""},{"$f":"IF(L186<>\"\",'Step 2) Calculate'!F190,\"\")","v":""},{"$f":"IF(L186<>\"\",'Step 2) Calculate'!H190,\"\")","v":""},{"$f":"IF(L186<>\"\",'Step 2) Calculate'!C190,\"\")","v":""}]
[null,null,null,null,null,null,null,null,null,null,{"$f":"IF(L187<>\"\",'Step 2) Calculate'!B191,\"Zzzzz - delete row\")","v":"Zzzzz - delete row"},{"$f":"IF('Step 2) Calculate'!E191<>\"\",'Step 2) Calculate'!G191,\"\")","v":""},{"$f":"IF(L187<>\"\",'Step 2) Calculate'!F191,\"\")","v":""},{"$f":"IF(L187<>\"\",'Step 2) Calculate'!H191,\"\")","v":""},{"$f":"IF(L187<>\"\",'Step 2) Calculate'!C191,\"\")","v":""}]
[null,null,null,null,null,null,null,null,null,null,{"$f":"IF(L188<>\"\",'Step 2) Calculate'!B192,\"Zzzzz - delete row\")","v":"Zzzzz - delete row"},{"$f":"IF('Step 2) Calculate'!E192<>\"\",'Step 2) Calculate'!G192,\"\")","v":""},{"$f":"IF(L188<>\"\",'Step 2) Calculate'!F192,\"\")","v":""},{"$f":"IF(L188<>\"\",'Step 2) Calculate'!H192,\"\")","v":""},{"$f":"IF(L188<>\"\",'Step 2) Calculate'!C192,\"\")","v":""}]
[null,null,null,null,null,null,null,null,null,null,{"$f":"IF(L189<>\"\",'Step 2) Calculate'!B193,\"Zzzzz - delete row\")","v":"Zzzzz - delete row"},{"$f":"IF('Step 2) Calculate'!E193<>\"\",'Step 2) Calculate'!G193,\"\")","v":""},{"$f":"IF(L189<>\"\",'Step 2) Calculate'!F193,\"\")","v":""},{"$f":"IF(L189<>\"\",'Step 2) Calculate'!H193,\"\")","v":""},{"$f":"IF(L189<>\"\",'Step 2) Calculate'!C193,\"\")","v":""}]
[null,null,null,null,null,null,null,null,null,null,{"$f":"IF(L190<>\"\",'Step 2) Calculate'!B194,\"Zzzzz - delete row\")","v":"Zzzzz - delete row"},{"$f":"IF('Step 2) Calculate'!E194<>\"\",'Step 2) Calculate'!G194,\"\")","v":""},{"$f":"IF(L190<>\"\",'Step 2) Calculate'!F194,\"\")","v":""},{"$f":"IF(L190<>\"\",'Step 2) Calculate'!H194,\"\")","v":""},{"$f":"IF(L190<>\"\",'Step 2) Calculate'!C194,\"\")","v":""}]
[null,null,null,null,null,null,null,null,null,null,{"$f":"IF(L191<>\"\",'Step 2) Calculate'!B195,\"Zzzzz - delete row\")","v":"Zzzzz - delete row"},{"$f":"IF('Step 2) Calculate'!E195<>\"\",'Step 2) Calculate'!G195,\"\")","v":""},{"$f":"IF(L191<>\"\",'Step 2) Calculate'!F195,\"\")","v":""},{"$f":"IF(L191<>\"\",'Step 2) Calculate'!H195,\"\")","v":""},{"$f":"IF(L191<>\"\",'Step 2) Calculate'!C195,\"\")","v":""}]
[null,null,null,null,null,null,null,null,null,null,{"$f":"IF(L192<>\"\",'Step 2) Calculate'!B196,\"Zzzzz - delete row\")","v":"Zzzzz - delete row"},{"$f":"IF('Step 2) Calculate'!E196<>\"\",'Step 2) Calculate'!G196,\"\")","v":""},{"$f":"IF(L192<>\"\",'Step 2) Calculate'!F196,\"\")","v":""},{"$f":"IF(L192<>\"\",'Step 2) Calculate'!H196,\"\")","v":""},{"$f":"IF(L192<>\"\",'Step 2) Calculate'!C196,\"\")","v":""}]
[null,null,null,null,null,null,null,null,null,null,{"$f":"IF(L193<>\"\",'Step 2) Calculate'!B197,\"Zzzzz - delete row\")","v":"Zzzzz - delete row"},{"$f":"IF('Step 2) Calculate'!E197<>\"\",'Step 2) Calculate'!G197,\"\")","v":""},{"$f":"IF(L193<>\"\",'Step 2) Calculate'!F197,\"\")","v":""},{"$f":"IF(L193<>\"\",'Step 2) Calculate'!H197,\"\")","v":""},{"$f":"IF(L193<>\"\",'Step 2) Calculate'!C197,\"\")","v":""}]
[null,null,null,null,null,null,null,null,null,null,{"$f":"IF(L194<>\"\",'Step 2) Calculate'!B198,\"Zzzzz - delete row\")","v":"Zzzzz - delete row"},{"$f":"IF('Step 2) Calculate'!E198<>\"\",'Step 2) Calculate'!G198,\"\")","v":""},{"$f":"IF(L194<>\"\",'Step 2) Calculate'!F198,\"\")","v":""},{"$f":"IF(L194<>\"\",'Step 2) Calculate'!H198,\"\")","v":""},{"$f":"IF(L194<>\"\",'Step 2) Calculate'!C198,\"\")","v":""}]
[null,null,null,null,null,null,null,null,null,null,{"$f":"IF(L195<>\"\",'Step 2) Calculate'!B199,\"Zzzzz - delete row\")","v":"Zzzzz - delete row"},{"$f":"IF('Step 2) Calculate'!E199<>\"\",'Step 2) Calculate'!G199,\"\")","v":""},{"$f":"IF(L195<>\"\",'Step 2) Calculate'!F199,\"\")","v":""},{"$f":"IF(L195<>\"\",'Step 2) Calculate'!H199,\"\")","v":""},{"$f":"IF(L195<>\"\",'Step 2) Calculate'!C199,\"\")","v":""}]
[null,null,null,null,null,null,null,null,null,null,{"$f":"IF(L196<>\"\",'Step 2) Calculate'!B200,\"Zzzzz - delete row\")","v":"Zzzzz - delete row"},{"$f":"IF('Step 2) Calculate'!E200<>\"\",'Step 2) Calculate'!G200,\"\")","v":""},{"$f":"IF(L196<>\"\",'Step 2) Calculate'!F200,\"\")","v":""},{"$f":"IF(L196<>\"\",'Step 2) Calculate'!H200,\"\")","v":""},{"$f":"IF(L196<>\"\",'Step 2) Calculate'!C200,\"\")","v":""}]
[null,null,null,null,null,null,null,null,null,null,{"$f":"IF(L197<>\"\",'Step 2) Calculate'!B201,\"Zzzzz - delete row\")","v":"Zzzzz - delete row"},{"$f":"IF('Step 2) Calculate'!E201<>\"\",'Step 2) Calculate'!G201,\"\")","v":""},{"$f":"IF(L197<>\"\",'Step 2) Calculate'!F201,\"\")","v":""},{"$f":"IF(L197<>\"\",'Step 2) Calculate'!H201,\"\")","v":""},{"$f":"IF(L197<>\"\",'Step 2) Calculate'!C201,\"\")","v":""}]
[null,null,null,null,null,null,null,null,null,null,{"$f":"IF(L198<>\"\",'Step 2) Calculate'!B202,\"Zzzzz - delete row\")","v":"Zzzzz - delete row"},{"$f":"IF('Step 2) Calculate'!E202<>\"\",'Step 2) Calculate'!G202,\"\")","v":""},{"$f":"IF(L198<>\"\",'Step 2) Calculate'!F202,\"\")","v":""},{"$f":"IF(L198<>\"\",'Step 2) Calculate'!H202,\"\")","v":""},{"$f":"IF(L198<>\"\",'Step 2) Calculate'!C202,\"\")","v":""}]
[null,null,null,null,null,null,null,null,null,null,{"$f":"IF(L199<>\"\",'Step 2) Calculate'!B203,\"Zzzzz - delete row\")","v":"Zzzzz - delete row"},{"$f":"IF('Step 2) Calculate'!E203<>\"\",'Step 2) Calculate'!G203,\"\")","v":""},{"$f":"IF(L199<>\"\",'Step 2) Calculate'!F203,\"\")","v":""},{"$f":"IF(L199<>\"\",'Step 2) Calculate'!H203,\"\")","v":""},{"$f":"IF(L199<>\"\",'Step 2) Calculate'!C203,\"\")","v":""}]
[null,null,null,null,null,null,null,null,null,null,{"$f":"IF(L200<>\"\",'Step 2) Calculate'!B204,\"Zzzzz - delete row\")","v":"Zzzzz - delete row"},{"$f":"IF('Step 2) Calculate'!E204<>\"\",'Step 2) Calculate'!G204,\"\")","v":""},{"$f":"IF(L200<>\"\",'Step 2) Calculate'!F204,\"\")","v":""},{"$f":"IF(L200<>\"\",'Step 2) Calculate'!H204,\"\")","v":""},{"$f":"IF(L200<>\"\",'Step 2) Calculate'!C204,\"\")","v":""}]
[null,null,null,null,null,null,null,null,null,null,{"$f":"IF(L201<>\"\",'Step 2) Calculate'!B205,\"Zzzzz - delete row\")","v":"Zzzzz - delete row"},{"$f":"IF('Step 2) Calculate'!E205<>\"\",'Step 2) Calculate'!G205,\"\")","v":""},{"$f":"IF(L201<>\"\",'Step 2) Calculate'!F205,\"\")","v":""},{"$f":"IF(L201<>\"\",'Step 2) Calculate'!H205,\"\")","v":""},{"$f":"IF(L201<>\"\",'Step 2) Calculate'!C205,\"\")","v":""}]
[null,null,null,null,null,null,null,null,null,null,{"$f":"IF(L202<>\"\",'Step 2) Calculate'!B206,\"Zzzzz - delete row\")","v":"Zzzzz - delete row"},{"$f":"IF('Step 2) Calculate'!E206<>\"\",'Step 2) Calculate'!G206,\"\")","v":""},{"$f":"IF(L202<>\"\",'Step 2) Calculate'!F206,\"\")","v":""},{"$f":"IF(L202<>\"\",'Step 2) Calculate'!H206,\"\")","v":""},{"$f":"IF(L202<>\"\",'Step 2) Calculate'!C206,\"\")","v":""}]
[null,null,null,null,null,null,null,null,null,null,{"$f":"IF(L203<>\"\",'Step 2) Calculate'!B207,\"Zzzzz - delete row\")","v":"Zzzzz - delete row"},{"$f":"IF('Step 2) Calculate'!E207<>\"\",'Step 2) Calculate'!G207,\"\")","v":""},{"$f":"IF(L203<>\"\",'Step 2) Calculate'!F207,\"\")","v":""},{"$f":"IF(L203<>\"\",'Step 2) Calculate'!H207,\"\")","v":""},{"$f":"IF(L203<>\"\",'Step 2) Calculate'!C207,\"\")","v":""}]
[null,null,null,null,null,null,null,null,null,null,{"$f":"IF(L204<>\"\",'Step 2) Calculate'!B208,\"Zzzzz - delete row\")","v":"Zzzzz - delete row"},{"$f":"IF('Step 2) Calculate'!E208<>\"\",'Step 2) Calculate'!G208,\"\")","v":""},{"$f":"IF(L204<>\"\",'Step 2) Calculate'!F208,\"\")","v":""},{"$f":"IF(L204<>\"\",'Step 2) Calculate'!H208,\"\")","v":""},{"$f":"IF(L204<>\"\",'Step 2) Calculate'!C208,\"\")","v":""}]
[null,null,null,null,null,null,null,null,null,null,{"$f":"IF(L205<>\"\",'Step 2) Calculate'!B209,\"Zzzzz - delete row\")","v":"Zzzzz - delete row"},{"$f":"IF('Step 2) Calculate'!E209<>\"\",'Step 2) Calculate'!G209,\"\")","v":""},{"$f":"IF(L205<>\"\",'Step 2) Calculate'!F209,\"\")","v":""},{"$f":"IF(L205<>\"\",'Step 2) Calculate'!H209,\"\")","v":""},{"$f":"IF(L205<>\"\",'Step 2) Calculate'!C209,\"\")","v":""}]
[null,null,null,null,null,null,null,null,null,null,{"$f":"IF(L206<>\"\",'Step 2) Calculate'!B210,\"Zzzzz - delete row\")","v":"Zzzzz - delete row"},{"$f":"IF('Step 2) Calculate'!E210<>\"\",'Step 2) Calculate'!G210,\"\")","v":""},{"$f":"IF(L206<>\"\",'Step 2) Calculate'!F210,\"\")","v":""},{"$f":"IF(L206<>\"\",'Step 2) Calculate'!H210,\"\")","v":""},{"$f":"IF(L206<>\"\",'Step 2) Calculate'!C210,\"\")","v":""}]
[null,null,null,null,null,null,null,null,null,null,{"$f":"IF(L207<>\"\",'Step 2) Calculate'!B211,\"Zzzzz - delete row\")","v":"Zzzzz - delete row"},{"$f":"IF('Step 2) Calculate'!E211<>\"\",'Step 2) Calculate'!G211,\"\")","v":""},{"$f":"IF(L207<>\"\",'Step 2) Calculate'!F211,\"\")","v":""},{"$f":"IF(L207<>\"\",'Step 2) Calculate'!H211,\"\")","v":""},{"$f":"IF(L207<>\"\",'Step 2) Calculate'!C211,\"\")","v":""}]
[null,null,null,null,null,null,null,null,null,null,{"$f":"IF(L208<>\"\",'Step 2) Calculate'!B212,\"Zzzzz - delete row\")","v":"Zzzzz - delete row"},{"$f":"IF('Step 2) Calculate'!E212<>\"\",'Step 2) Calculate'!G212,\"\")","v":""},{"$f":"IF(L208<>\"\",'Step 2) Calculate'!F212,\"\")","v":""},{"$f":"IF(L208<>\"\",'Step 2) Calculate'!H212,\"\")","v":""},{"$f":"IF(L208<>\"\",'Step 2) Calculate'!C212,\"\")","v":""}]
[null,null,null,null,null,null,null,null,null,null,{"$f":"IF(L209<>\"\",'Step 2) Calculate'!B213,\"Zzzzz - delete row\")","v":"Zzzzz - delete row"},{"$f":"IF('Step 2) Calculate'!E213<>\"\",'Step 2) Calculate'!G213,\"\")","v":""},{"$f":"IF(L209<>\"\",'Step 2) Calculate'!F213,\"\")","v":""},{"$f":"IF(L209<>\"\",'Step 2) Calculate'!H213,\"\")","v":""},{"$f":"IF(L209<>\"\",'Step 2) Calculate'!C213,\"\")","v":""}]
[null,null,null,null,null,null,null,null,null,null,{"$f":"IF(L210<>\"\",'Step 2) Calculate'!B214,\"Zzzzz - delete row\")","v":"Zzzzz - delete row"},{"$f":"IF('Step 2) Calculate'!E214<>\"\",'Step 2) Calculate'!G214,\"\")","v":""},{"$f":"IF(L210<>\"\",'Step 2) Calculate'!F214,\"\")","v":""},{"$f":"IF(L210<>\"\",'Step 2) Calculate'!H214,\"\")","v":""},{"$f":"IF(L210<>\"\",'Step 2) Calculate'!C214,\"\")","v":""}]
[null,null,null,null,null,null,null,null,null,null,{"$f":"IF(L211<>\"\",'Step 2) Calculate'!B215,\"Zzzzz - delete row\")","v":"Zzzzz - delete row"},{"$f":"IF('Step 2) Calculate'!E215<>\"\",'Step 2) Calculate'!G215,\"\")","v":""},{"$f":"IF(L211<>\"\",'Step 2) Calculate'!F215,\"\")","v":""},{"$f":"IF(L211<>\"\",'Step 2) Calculate'!H215,\"\")","v":""},{"$f":"IF(L211<>\"\",'Step 2) Calculate'!C215,\"\")","v":""}]
[null,null,null,null,null,null,null,null,null,null,{"$f":"IF(L212<>\"\",'Step 2) Calculate'!B216,\"Zzzzz - delete row\")","v":"Zzzzz - delete row"},{"$f":"IF('Step 2) Calculate'!E216<>\"\",'Step 2) Calculate'!G216,\"\")","v":""},{"$f":"IF(L212<>\"\",'Step 2) Calculate'!F216,\"\")","v":""},{"$f":"IF(L212<>\"\",'Step 2) Calculate'!H216,\"\")","v":""},{"$f":"IF(L212<>\"\",'Step 2) Calculate'!C216,\"\")","v":""}]
[null,null,null,null,null,null,null,null,null,null,{"$f":"IF(L213<>\"\",'Step 2) Calculate'!B217,\"Zzzzz - delete row\")","v":"Zzzzz - delete row"},{"$f":"IF('Step 2) Calculate'!E217<>\"\",'Step 2) Calculate'!G217,\"\")","v":""},{"$f":"IF(L213<>\"\",'Step 2) Calculate'!F217,\"\")","v":""},{"$f":"IF(L213<>\"\",'Step 2) Calculate'!H217,\"\")","v":""},{"$f":"IF(L213<>\"\",'Step 2) Calculate'!C217,\"\")","v":""}]
[null,null,null,null,null,null,null,null,null,null,{"$f":"IF(L214<>\"\",'Step 2) Calculate'!B218,\"Zzzzz - delete row\")","v":"Zzzzz - delete row"},{"$f":"IF('Step 2) Calculate'!E218<>\"\",'Step 2) Calculate'!G218,\"\")","v":""},{"$f":"IF(L214<>\"\",'Step 2) Calculate'!F218,\"\")","v":""},{"$f":"IF(L214<>\"\",'Step 2) Calculate'!H218,\"\")","v":""},{"$f":"IF(L214<>\"\",'Step 2) Calculate'!C218,\"\")","v":""}]
[null,null,null,null,null,null,null,null,null,null,{"$f":"IF(L215<>\"\",'Step 2) Calculate'!B219,\"Zzzzz - delete row\")","v":"Zzzzz - delete row"},{"$f":"IF('Step 2) Calculate'!E219<>\"\",'Step 2) Calculate'!G219,\"\")","v":""},{"$f":"IF(L215<>\"\",'Step 2) Calculate'!F219,\"\")","v":""},{"$f":"IF(L215<>\"\",'Step 2) Calculate'!H219,\"\")","v":""},{"$f":"IF(L215<>\"\",'Step 2) Calculate'!C219,\"\")","v":""}]
[null,null,null,null,null,null,null,null,null,null,{"$f":"IF(L216<>\"\",'Step 2) Calculate'!B220,\"Zzzzz - delete row\")","v":"Zzzzz - delete row"},{"$f":"IF('Step 2) Calculate'!E220<>\"\",'Step 2) Calculate'!G220,\"\")","v":""},{"$f":"IF(L216<>\"\",'Step 2) Calculate'!F220,\"\")","v":""},{"$f":"IF(L216<>\"\",'Step 2) Calculate'!H220,\"\")","v":""},{"$f":"IF(L216<>\"\",'Step 2) Calculate'!C220,\"\")","v":""}]
[null,null,null,null,null,null,null,null,null,null,{"$f":"IF(L217<>\"\",'Step 2) Calculate'!B221,\"Zzzzz - delete row\")","v":"Zzzzz - delete row"},{"$f":"IF('Step 2) Calculate'!E221<>\"\",'Step 2) Calculate'!G221,\"\")","v":""},{"$f":"IF(L217<>\"\",'Step 2) Calculate'!F221,\"\")","v":""},{"$f":"IF(L217<>\"\",'Step 2) Calculate'!H221,\"\")","v":""},{"$f":"IF(L217<>\"\",'Step 2) Calculate'!C221,\"\")","v":""}]
[null,null,null,null,null,null,null,null,null,null,{"$f":"IF(L218<>\"\",'Step 2) Calculate'!B222,\"Zzzzz - delete row\")","v":"Zzzzz - delete row"},{"$f":"IF('Step 2) Calculate'!E222<>\"\",'Step 2) Calculate'!G222,\"\")","v":""},{"$f":"IF(L218<>\"\",'Step 2) Calculate'!F222,\"\")","v":""},{"$f":"IF(L218<>\"\",'Step 2) Calculate'!H222,\"\")","v":""},{"$f":"IF(L218<>\"\",'Step 2) Calculate'!C222,\"\")","v":""}]
[null,null,null,null,null,null,null,null,null,null,{"$f":"IF(L219<>\"\",'Step 2) Calculate'!B223,\"Zzzzz - delete row\")","v":"Zzzzz - delete row"},{"$f":"IF('Step 2) Calculate'!E223<>\"\",'Step 2) Calculate'!G223,\"\")","v":""},{"$f":"IF(L219<>\"\",'Step 2) Calculate'!F223,\"\")","v":""},{"$f":"IF(L219<>\"\",'Step 2) Calculate'!H223,\"\")","v":""},{"$f":"IF(L219<>\"\",'Step 2) Calculate'!C223,\"\")","v":""}]
[null,null,null,null,null,null,null,null,null,null,{"$f":"IF(L220<>\"\",'Step 2) Calculate'!B224,\"Zzzzz - delete row\")","v":"Zzzzz - delete row"},{"$f":"IF('Step 2) Calculate'!E224<>\"\",'Step 2) Calculate'!G224,\"\")","v":""},{"$f":"IF(L220<>\"\",'Step 2) Calculate'!F224,\"\")","v":""},{"$f":"IF(L220<>\"\",'Step 2) Calculate'!H224,\"\")","v":""},{"$f":"IF(L220<>\"\",'Step 2) Calculate'!C224,\"\")","v":""}]
[null,null,null,null,null,null,null,null,null,null,{"$f":"IF(L221<>\"\",'Step 2) Calculate'!B225,\"Zzzzz - delete row\")","v":"Zzzzz - delete row"},{"$f":"IF('Step 2) Calculate'!E225<>\"\",'Step 2) Calculate'!G225,\"\")","v":""},{"$f":"IF(L221<>\"\",'Step 2) Calculate'!F225,\"\")","v":""},{"$f":"IF(L221<>\"\",'Step 2) Calculate'!H225,\"\")","v":""},{"$f":"IF(L221<>\"\",'Step 2) Calculate'!C225,\"\")","v":""}]
[null,null,null,null,null,null,null,null,null,null,{"$f":"IF(L222<>\"\",'Step 2) Calculate'!B226,\"Zzzzz - delete row\")","v":"Zzzzz - delete row"},{"$f":"IF('Step 2) Calculate'!E226<>\"\",'Step 2) Calculate'!G226,\"\")","v":""},{"$f":"IF(L222<>\"\",'Step 2) Calculate'!F226,\"\")","v":""},{"$f":"IF(L222<>\"\",'Step 2) Calculate'!H226,\"\")","v":""},{"$f":"IF(L222<>\"\",'Step 2) Calculate'!C226,\"\")","v":""}]
[null,null,null,null,null,null,null,null,null,null,{"$f":"IF(L223<>\"\",'Step 2) Calculate'!B227,\"Zzzzz - delete row\")","v":"Zzzzz - delete row"},{"$f":"IF('Step 2) Calculate'!E227<>\"\",'Step 2) Calculate'!G227,\"\")","v":""},{"$f":"IF(L223<>\"\",'Step 2) Calculate'!F227,\"\")","v":""},{"$f":"IF(L223<>\"\",'Step 2) Calculate'!H227,\"\")","v":""},{"$f":"IF(L223<>\"\",'Step 2) Calculate'!C227,\"\")","v":""}]
[null,null,null,null,null,null,null,null,null,null,{"$f":"IF(L224<>\"\",'Step 2) Calculate'!B228,\"Zzzzz - delete row\")","v":"Zzzzz - delete row"},{"$f":"IF('Step 2) Calculate'!E228<>\"\",'Step 2) Calculate'!G228,\"\")","v":""},{"$f":"IF(L224<>\"\",'Step 2) Calculate'!F228,\"\")","v":""},{"$f":"IF(L224<>\"\",'Step 2) Calculate'!H228,\"\")","v":""},{"$f":"IF(L224<>\"\",'Step 2) Calculate'!C228,\"\")","v":""}]
[null,null,null,null,null,null,null,null,null,null,{"$f":"IF(L225<>\"\",'Step 2) Calculate'!B229,\"Zzzzz - delete row\")","v":"Zzzzz - delete row"},{"$f":"IF('Step 2) Calculate'!E229<>\"\",'Step 2) Calculate'!G229,\"\")","v":""},{"$f":"IF(L225<>\"\",'Step 2) Calculate'!F229,\"\")","v":""},{"$f":"IF(L225<>\"\",'Step 2) Calculate'!H229,\"\")","v":""},{"$f":"IF(L225<>\"\",'Step 2) Calculate'!C229,\"\")","v":""}]
[null,null,null,null,null,null,null,null,null,null,{"$f":"IF(L226<>\"\",'Step 2) Calculate'!B230,\"Zzzzz - delete row\")","v":"Zzzzz - delete row"},{"$f":"IF('Step 2) Calculate'!E230<>\"\",'Step 2) Calculate'!G230,\"\")","v":""},{"$f":"IF(L226<>\"\",'Step 2) Calculate'!F230,\"\")","v":""},{"$f":"IF(L226<>\"\",'Step 2) Calculate'!H230,\"\")","v":""},{"$f":"IF(L226<>\"\",'Step 2) Calculate'!C230,\"\")","v":""}]
[null,null,null,null,null,null,null,null,null,null,{"$f":"IF(L227<>\"\",'Step 2) Calculate'!B231,\"Zzzzz - delete row\")","v":"Zzzzz - delete row"},{"$f":"IF('Step 2) Calculate'!E231<>\"\",'Step 2) Calculate'!G231,\"\")","v":""},{"$f":"IF(L227<>\"\",'Step 2) Calculate'!F231,\"\")","v":""},{"$f":"IF(L227<>\"\",'Step 2) Calculate'!H231,\"\")","v":""},{"$f":"IF(L227<>\"\",'Step 2) Calculate'!C231,\"\")","v":""}]
[null,null,null,null,null,null,null,null,null,null,{"$f":"IF(L228<>\"\",'Step 2) Calculate'!B232,\"Zzzzz - delete row\")","v":"Zzzzz - delete row"},{"$f":"IF('Step 2) Calculate'!E232<>\"\",'Step 2) Calculate'!G232,\"\")","v":""},{"$f":"IF(L228<>\"\",'Step 2) Calculate'!F232,\"\")","v":""},{"$f":"IF(L228<>\"\",'Step 2) Calculate'!H232,\"\")","v":""},{"$f":"IF(L228<>\"\",'Step 2) Calculate'!C232,\"\")","v":""}]
[null,null,null,null,null,null,null,null,null,null,{"$f":"IF(L229<>\"\",'Step 2) Calculate'!B233,\"Zzzzz - delete row\")","v":"Zzzzz - delete row"},{"$f":"IF('Step 2) Calculate'!E233<>\"\",'Step 2) Calculate'!G233,\"\")","v":""},{"$f":"IF(L229<>\"\",'Step 2) Calculate'!F233,\"\")","v":""},{"$f":"IF(L229<>\"\",'Step 2) Calculate'!H233,\"\")","v":""},{"$f":"IF(L229<>\"\",'Step 2) Calculate'!C233,\"\")","v":""}]
[null,null,null,null,null,null,null,null,null,null,{"$f":"IF(L230<>\"\",'Step 2) Calculate'!B234,\"Zzzzz - delete row\")","v":"Zzzzz - delete row"},{"$f":"IF('Step 2) Calculate'!E234<>\"\",'Step 2) Calculate'!G234,\"\")","v":""},{"$f":"IF(L230<>\"\",'Step 2) Calculate'!F234,\"\")","v":""},{"$f":"IF(L230<>\"\",'Step 2) Calculate'!H234,\"\")","v":""},{"$f":"IF(L230<>\"\",'Step 2) Calculate'!C234,\"\")","v":""}]
[null,null,null,null,null,null,null,null,null,null,{"$f":"IF(L231<>\"\",'Step 2) Calculate'!B235,\"Zzzzz - delete row\")","v":"Zzzzz - delete row"},{"$f":"IF('Step 2) Calculate'!E235<>\"\",'Step 2) Calculate'!G235,\"\")","v":""},{"$f":"IF(L231<>\"\",'Step 2) Calculate'!F235,\"\")","v":""},{"$f":"IF(L231<>\"\",'Step 2) Calculate'!H235,\"\")","v":""},{"$f":"IF(L231<>\"\",'Step 2) Calculate'!C235,\"\")","v":""}]
[null,null,null,null,null,null,null,null,null,null,{"$f":"IF(L232<>\"\",'Step 2) Calculate'!B236,\"Zzzzz - delete row\")","v":"Zzzzz - delete row"},{"$f":"IF('Step 2) Calculate'!E236<>\"\",'Step 2) Calculate'!G236,\"\")","v":""},{"$f":"IF(L232<>\"\",'Step 2) Calculate'!F236,\"\")","v":""},{"$f":"IF(L232<>\"\",'Step 2) Calculate'!H236,\"\")","v":""},{"$f":"IF(L232<>\"\",'Step 2) Calculate'!C236,\"\")","v":""}]
[null,null,null,null,null,null,null,null,null,null,{"$f":"IF(L233<>\"\",'Step 2) Calculate'!B237,\"Zzzzz - delete row\")","v":"Zzzzz - delete row"},{"$f":"IF('Step 2) Calculate'!E237<>\"\",'Step 2) Calculate'!G237,\"\")","v":""},{"$f":"IF(L233<>\"\",'Step 2) Calculate'!F237,\"\")","v":""},{"$f":"IF(L233<>\"\",'Step 2) Calculate'!H237,\"\")","v":""},{"$f":"IF(L233<>\"\",'Step 2) Calculate'!C237,\"\")","v":""}]
[null,null,null,null,null,null,null,null,null,null,{"$f":"IF(L234<>\"\",'Step 2) Calculate'!B238,\"Zzzzz - delete row\")","v":"Zzzzz - delete row"},{"$f":"IF('Step 2) Calculate'!E238<>\"\",'Step 2) Calculate'!G238,\"\")","v":""},{"$f":"IF(L234<>\"\",'Step 2) Calculate'!F238,\"\")","v":""},{"$f":"IF(L234<>\"\",'Step 2) Calculate'!H238,\"\")","v":""},{"$f":"IF(L234<>\"\",'Step 2) Calculate'!C238,\"\")","v":""}]
[null,null,null,null,null,null,null,null,null,null,{"$f":"IF(L235<>\"\",'Step 2) Calculate'!B239,\"Zzzzz - delete row\")","v":"Zzzzz - delete row"},{"$f":"IF('Step 2) Calculate'!E239<>\"\",'Step 2) Calculate'!G239,\"\")","v":""},{"$f":"IF(L235<>\"\",'Step 2) Calculate'!F239,\"\")","v":""},{"$f":"IF(L235<>\"\",'Step 2) Calculate'!H239,\"\")","v":""},{"$f":"IF(L235<>\"\",'Step 2) Calculate'!C239,\"\")","v":""}]
[null,null,null,null,null,null,null,null,null,null,{"$f":"IF(L236<>\"\",'Step 2) Calculate'!B240,\"Zzzzz - delete row\")","v":"Zzzzz - delete row"},{"$f":"IF('Step 2) Calculate'!E240<>\"\",'Step 2) Calculate'!G240,\"\")","v":""},{"$f":"IF(L236<>\"\",'Step 2) Calculate'!F240,\"\")","v":""},{"$f":"IF(L236<>\"\",'Step 2) Calculate'!H240,\"\")","v":""},{"$f":"IF(L236<>\"\",'Step 2) Calculate'!C240,\"\")","v":""}]
[null,null,null,null,null,null,null,null,null,null,{"$f":"IF(L237<>\"\",'Step 2) Calculate'!B241,\"Zzzzz - delete row\")","v":"Zzzzz - delete row"},{"$f":"IF('Step 2) Calculate'!E241<>\"\",'Step 2) Calculate'!G241,\"\")","v":""},{"$f":"IF(L237<>\"\",'Step 2) Calculate'!F241,\"\")","v":""},{"$f":"IF(L237<>\"\",'Step 2) Calculate'!H241,\"\")","v":""},{"$f":"IF(L237<>\"\",'Step 2) Calculate'!C241,\"\")","v":""}]
[null,null,null,null,null,null,null,null,null,null,{"$f":"IF(L238<>\"\",'Step 2) Calculate'!B242,\"Zzzzz - delete row\")","v":"Zzzzz - delete row"},{"$f":"IF('Step 2) Calculate'!E242<>\"\",'Step 2) Calculate'!G242,\"\")","v":""},{"$f":"IF(L238<>\"\",'Step 2) Calculate'!F242,\"\")","v":""},{"$f":"IF(L238<>\"\",'Step 2) Calculate'!H242,\"\")","v":""},{"$f":"IF(L238<>\"\",'Step 2) Calculate'!C242,\"\")","v":""}]
[null,null,null,null,null,null,null,null,null,null,{"$f":"IF(L239<>\"\",'Step 2) Calculate'!B243,\"Zzzzz - delete row\")","v":"Zzzzz - delete row"},{"$f":"IF('Step 2) Calculate'!E243<>\"\",'Step 2) Calculate'!G243,\"\")","v":""},{"$f":"IF(L239<>\"\",'Step 2) Calculate'!F243,\"\")","v":""},{"$f":"IF(L239<>\"\",'Step 2) Calculate'!H243,\"\")","v":""},{"$f":"IF(L239<>\"\",'Step 2) Calculate'!C243,\"\")","v":""}]
[null,null,null,null,null,null,null,null,null,null,{"$f":"IF(L240<>\"\",'Step 2) Calculate'!B244,\"Zzzzz - delete row\")","v":"Zzzzz - delete row"},{"$f":"IF('Step 2) Calculate'!E244<>\"\",'Step 2) Calculate'!G244,\"\")","v":""},{"$f":"IF(L240<>\"\",'Step 2) Calculate'!F244,\"\")","v":""},{"$f":"IF(L240<>\"\",'Step 2) Calculate'!H244,\"\")","v":""},{"$f":"IF(L240<>\"\",'Step 2) Calculate'!C244,\"\")","v":""}]
[null,null,null,null,null,null,null,null,null,null,{"$f":"IF(L241<>\"\",'Step 2) Calculate'!B245,\"Zzzzz - delete row\")","v":"Zzzzz - delete row"},{"$f":"IF('Step 2) Calculate'!E245<>\"\",'Step 2) Calculate'!G245,\"\")","v":""},{"$f":"IF(L241<>\"\",'Step 2) Calculate'!F245,\"\")","v":""},{"$f":"IF(L241<>\"\",'Step 2) Calculate'!H245,\"\")","v":""},{"$f":"IF(L241<>\"\",'Step 2) Calculate'!C245,\"\")","v":""}]
[null,null,null,null,null,null,null,null,null,null,{"$f":"IF(L242<>\"\",'Step 2) Calculate'!B246,\"Zzzzz - delete row\")","v":"Zzzzz - delete row"},{"$f":"IF('Step 2) Calculate'!E246<>\"\",'Step 2) Calculate'!G246,\"\")","v":""},{"$f":"IF(L242<>\"\",'Step 2) Calculate'!F246,\"\")","v":""},{"$f":"IF(L242<>\"\",'Step 2) Calculate'!H246,\"\")","v":""},{"$f":"IF(L242<>\"\",'Step 2) Calculate'!C246,\"\")","v":""}]
[null,null,null,null,null,null,null,null,null,null,{"$f":"IF(L243<>\"\",'Step 2) Calculate'!B247,\"Zzzzz - delete row\")","v":"Zzzzz - delete row"},{"$f":"IF('Step 2) Calculate'!E247<>\"\",'Step 2) Calculate'!G247,\"\")","v":""},{"$f":"IF(L243<>\"\",'Step 2) Calculate'!F247,\"\")","v":""},{"$f":"IF(L243<>\"\",'Step 2) Calculate'!H247,\"\")","v":""},{"$f":"IF(L243<>\"\",'Step 2) Calculate'!C247,\"\")","v":""}]
[null,null,null,null,null,null,null,null,null,null,{"$f":"IF(L244<>\"\",'Step 2) Calculate'!B248,\"Zzzzz - delete row\")","v":"Zzzzz - delete row"},{"$f":"IF('Step 2) Calculate'!E248<>\"\",'Step 2) Calculate'!G248,\"\")","v":""},{"$f":"IF(L244<>\"\",'Step 2) Calculate'!F248,\"\")","v":""},{"$f":"IF(L244<>\"\",'Step 2) Calculate'!H248,\"\")","v":""},{"$f":"IF(L244<>\"\",'Step 2) Calculate'!C248,\"\")","v":""}]
[null,null,null,null,null,null,null,null,null,null,{"$f":"IF(L245<>\"\",'Step 2) Calculate'!B249,\"Zzzzz - delete row\")","v":"Zzzzz - delete row"},{"$f":"IF('Step 2) Calculate'!E249<>\"\",'Step 2) Calculate'!G249,\"\")","v":""},{"$f":"IF(L245<>\"\",'Step 2) Calculate'!F249,\"\")","v":""},{"$f":"IF(L245<>\"\",'Step 2) Calculate'!H249,\"\")","v":""},{"$f":"IF(L245<>\"\",'Step 2) Calculate'!C249,\"\")","v":""}]
[null,null,null,null,null,null,null,null,null,null,{"$f":"IF(L246<>\"\",'Step 2) Calculate'!B250,\"Zzzzz - delete row\")","v":"Zzzzz - delete row"},{"$f":"IF('Step 2) Calculate'!E250<>\"\",'Step 2) Calculate'!G250,\"\")","v":""},{"$f":"IF(L246<>\"\",'Step 2) Calculate'!F250,\"\")","v":""},{"$f":"IF(L246<>\"\",'Step 2) Calculate'!H250,\"\")","v":""},{"$f":"IF(L246<>\"\",'Step 2) Calculate'!C250,\"\")","v":""}]
[null,null,null,null,null,null,null,null,null,null,{"$f":"IF(L247<>\"\",'Step 2) Calculate'!B251,\"Zzzzz - delete row\")","v":"Zzzzz - delete row"},{"$f":"IF('Step 2) Calculate'!E251<>\"\",'Step 2) Calculate'!G251,\"\")","v":""},{"$f":"IF(L247<>\"\",'Step 2) Calculate'!F251,\"\")","v":""},{"$f":"IF(L247<>\"\",'Step 2) Calculate'!H251,\"\")","v":""},{"$f":"IF(L247<>\"\",'Step 2) Calculate'!C251,\"\")","v":""}]
[null,null,null,null,null,null,null,null,null,null,{"$f":"IF(L248<>\"\",'Step 2) Calculate'!B252,\"Zzzzz - delete row\")","v":"Zzzzz - delete row"},{"$f":"IF('Step 2) Calculate'!E252<>\"\",'Step 2) Calculate'!G252,\"\")","v":""},{"$f":"IF(L248<>\"\",'Step 2) Calculate'!F252,\"\")","v":""},{"$f":"IF(L248<>\"\",'Step 2) Calculate'!H252,\"\")","v":""},{"$f":"IF(L248<>\"\",'Step 2) Calculate'!C252,\"\")","v":""}]
[null,null,null,null,null,null,null,null,null,null,{"$f":"IF(L249<>\"\",'Step 2) Calculate'!B253,\"Zzzzz - delete row\")","v":"Zzzzz - delete row"},{"$f":"IF('Step 2) Calculate'!E253<>\"\",'Step 2) Calculate'!G253,\"\")","v":""},{"$f":"IF(L249<>\"\",'Step 2) Calculate'!F253,\"\")","v":""},{"$f":"IF(L249<>\"\",'Step 2) Calculate'!H253,\"\")","v":""},{"$f":"IF(L249<>\"\",'Step 2) Calculate'!C253,\"\")","v":""}]
[null,null,null,null,null,null,null,null,null,null,{"$f":"IF(L250<>\"\",'Step 2) Calculate'!B254,\"Zzzzz - delete row\")","v":"Zzzzz - delete row"},{"$f":"IF('Step 2) Calculate'!E254<>\"\",'Step 2) Calculate'!G254,\"\")","v":""},{"$f":"IF(L250<>\"\",'Step 2) Calculate'!F254,\"\")","v":""},{"$f":"IF(L250<>\"\",'Step 2) Calculate'!H254,\"\")","v":""},{"$f":"IF(L250<>\"\",'Step 2) Calculate'!C254,\"\")","v":""}]
[null,null,null,null,null,null,null,null,null,null,{"$f":"IF(L251<>\"\",'Step 2) Calculate'!B255,\"Zzzzz - delete row\")","v":"Zzzzz - delete row"},{"$f":"IF('Step 2) Calculate'!E255<>\"\",'Step 2) Calculate'!G255,\"\")","v":""},{"$f":"IF(L251<>\"\",'Step 2) Calculate'!F255,\"\")","v":""},{"$f":"IF(L251<>\"\",'Step 2) Calculate'!H255,\"\")","v":""},{"$f":"IF(L251<>\"\",'Step 2) Calculate'!C255,\"\")","v":""}]
[null,null,null,null,null,null,null,null,null,null,{"$f":"IF(L252<>\"\",'Step 2) Calculate'!B256,\"Zzzzz - delete row\")","v":"Zzzzz - delete row"},{"$f":"IF('Step 2) Calculate'!E256<>\"\",'Step 2) Calculate'!G256,\"\")","v":""},{"$f":"IF(L252<>\"\",'Step 2) Calculate'!F256,\"\")","v":""},{"$f":"IF(L252<>\"\",'Step 2) Calculate'!H256,\"\")","v":""},{"$f":"IF(L252<>\"\",'Step 2) Calculate'!C256,\"\")","v":""}]
[null,null,null,null,null,null,null,null,null,null,{"$f":"IF(L253<>\"\",'Step 2) Calculate'!B257,\"Zzzzz - delete row\")","v":"Zzzzz - delete row"},{"$f":"IF('Step 2) Calculate'!E257<>\"\",'Step 2) Calculate'!G257,\"\")","v":""},{"$f":"IF(L253<>\"\",'Step 2) Calculate'!F257,\"\")","v":""},{"$f":"IF(L253<>\"\",'Step 2) Calculate'!H257,\"\")","v":""},{"$f":"IF(L253<>\"\",'Step 2) Calculate'!C257,\"\")","v":""}]
[null,null,null,null,null,null,null,null,null,null,{"$f":"IF(L254<>\"\",'Step 2) Calculate'!B258,\"Zzzzz - delete row\")","v":"Zzzzz - delete row"},{"$f":"IF('Step 2) Calculate'!E258<>\"\",'Step 2) Calculate'!G258,\"\")","v":""},{"$f":"IF(L254<>\"\",'Step 2) Calculate'!F258,\"\")","v":""},{"$f":"IF(L254<>\"\",'Step 2) Calculate'!H258,\"\")","v":""},{"$f":"IF(L254<>\"\",'Step 2) Calculate'!C258,\"\")","v":""}]
[null,null,null,null,null,null,null,null,null,null,{"$f":"IF(L255<>\"\",'Step 2) Calculate'!B259,\"Zzzzz - delete row\")","v":"Zzzzz - delete row"},{"$f":"IF('Step 2) Calculate'!E259<>\"\",'Step 2) Calculate'!G259,\"\")","v":""},{"$f":"IF(L255<>\"\",'Step 2) Calculate'!F259,\"\")","v":""},{"$f":"IF(L255<>\"\",'Step 2) Calculate'!H259,\"\")","v":""},{"$f":"IF(L255<>\"\",'Step 2) Calculate'!C259,\"\")","v":""}]
[null,null,null,null,null,null,null,null,null,null,{"$f":"IF(L256<>\"\",'Step 2) Calculate'!B260,\"Zzzzz - delete row\")","v":"Zzzzz - delete row"},{"$f":"IF('Step 2) Calculate'!E260<>\"\",'Step 2) Calculate'!G260,\"\")","v":""},{"$f":"IF(L256<>\"\",'Step 2) Calculate'!F260,\"\")","v":""},{"$f":"IF(L256<>\"\",'Step 2) Calculate'!H260,\"\")","v":""},{"$f":"IF(L256<>\"\",'Step 2) Calculate'!C260,\"\")","v":""}]
[null,null,null,null,null,null,null,null,null,null,{"$f":"IF(L257<>\"\",'Step 2) Calculate'!B261,\"Zzzzz - delete row\")","v":"Zzzzz - delete row"},{"$f":"IF('Step 2) Calculate'!E261<>\"\",'Step 2) Calculate'!G261,\"\")","v":""},{"$f":"IF(L257<>\"\",'Step 2) Calculate'!F261,\"\")","v":""},{"$f":"IF(L257<>\"\",'Step 2) Calculate'!H261,\"\")","v":""},{"$f":"IF(L257<>\"\",'Step 2) Calculate'!C261,\"\")","v":""}]
[null,null,null,null,null,null,null,null,null,null,{"$f":"IF(L258<>\"\",'Step 2) Calculate'!B262,\"Zzzzz - delete row\")","v":"Zzzzz - delete row"},{"$f":"IF('Step 2) Calculate'!E262<>\"\",'Step 2) Calculate'!G262,\"\")","v":""},{"$f":"IF(L258<>\"\",'Step 2) Calculate'!F262,\"\")","v":""},{"$f":"IF(L258<>\"\",'Step 2) Calculate'!H262,\"\")","v":""},{"$f":"IF(L258<>\"\",'Step 2) Calculate'!C262,\"\")","v":""}]
[null,null,null,null,null,null,null,null,null,null,{"$f":"IF(L259<>\"\",'Step 2) Calculate'!B263,\"Zzzzz - delete row\")","v":"Zzzzz - delete row"},{"$f":"IF('Step 2) Calculate'!E263<>\"\",'Step 2) Calculate'!G263,\"\")","v":""},{"$f":"IF(L259<>\"\",'Step 2) Calculate'!F263,\"\")","v":""},{"$f":"IF(L259<>\"\",'Step 2) Calculate'!H263,\"\")","v":""},{"$f":"IF(L259<>\"\",'Step 2) Calculate'!C263,\"\")","v":""}]
[null,null,null,null,null,null,null,null,null,null,{"$f":"IF(L260<>\"\",'Step 2) Calculate'!B264,\"Zzzzz - delete row\")","v":"Zzzzz - delete row"},{"$f":"IF('Step 2) Calculate'!E264<>\"\",'Step 2) Calculate'!G264,\"\")","v":""},{"$f":"IF(L260<>\"\",'Step 2) Calculate'!F264,\"\")","v":""},{"$f":"IF(L260<>\"\",'Step 2) Calculate'!H264,\"\")","v":""},{"$f":"IF(L260<>\"\",'Step 2) Calculate'!C264,\"\")","v":""}]
[null,null,null,null,null,null,null,null,null,null,{"$f":"IF(L261<>\"\",'Step 2) Calculate'!B265,\"Zzzzz - delete row\")","v":"Zzzzz - delete row"},{"$f":"IF('Step 2) Calculate'!E265<>\"\",'Step 2) Calculate'!G265,\"\")","v":""},{"$f":"IF(L261<>\"\",'Step 2) Calculate'!F265,\"\")","v":""},{"$f":"IF(L261<>\"\",'Step 2) Calculate'!H265,\"\")","v":""},{"$f":"IF(L261<>\"\",'Step 2) Calculate'!C265,\"\")","v":""}]
[null,null,null,null,null,null,null,null,null,null,{"$f":"IF(L262<>\"\",'Step 2) Calculate'!B266,\"Zzzzz - delete row\")","v":"Zzzzz - delete row"},{"$f":"IF('Step 2) Calculate'!E266<>\"\",'Step 2) Calculate'!G266,\"\")","v":""},{"$f":"IF(L262<>\"\",'Step 2) Calculate'!F266,\"\")","v":""},{"$f":"IF(L262<>\"\",'Step 2) Calculate'!H266,\"\")","v":""},{"$f":"IF(L262<>\"\",'Step 2) Calculate'!C266,\"\")","v":""}]
[null,null,null,null,null,null,null,null,null,null,{"$f":"IF(L263<>\"\",'Step 2) Calculate'!B267,\"Zzzzz - delete row\")","v":"Zzzzz - delete row"},{"$f":"IF('Step 2) Calculate'!E267<>\"\",'Step 2) Calculate'!G267,\"\")","v":""},{"$f":"IF(L263<>\"\",'Step 2) Calculate'!F267,\"\")","v":""},{"$f":"IF(L263<>\"\",'Step 2) Calculate'!H267,\"\")","v":""},{"$f":"IF(L263<>\"\",'Step 2) Calculate'!C267,\"\")","v":""}]
[null,null,null,null,null,null,null,null,null,null,{"$f":"IF(L264<>\"\",'Step 2) Calculate'!B268,\"Zzzzz - delete row\")","v":"Zzzzz - delete row"},{"$f":"IF('Step 2) Calculate'!E268<>\"\",'Step 2) Calculate'!G268,\"\")","v":""},{"$f":"IF(L264<>\"\",'Step 2) Calculate'!F268,\"\")","v":""},{"$f":"IF(L264<>\"\",'Step 2) Calculate'!H268,\"\")","v":""},{"$f":"IF(L264<>\"\",'Step 2) Calculate'!C268,\"\")","v":""}]
[null,null,null,null,null,null,null,null,null,null,{"$f":"IF(L265<>\"\",'Step 2) Calculate'!B269,\"Zzzzz - delete row\")","v":"Zzzzz - delete row"},{"$f":"IF('Step 2) Calculate'!E269<>\"\",'Step 2) Calculate'!G269,\"\")","v":""},{"$f":"IF(L265<>\"\",'Step 2) Calculate'!F269,\"\")","v":""},{"$f":"IF(L265<>\"\",'Step 2) Calculate'!H269,\"\")","v":""},{"$f":"IF(L265<>\"\",'Step 2) Calculate'!C269,\"\")","v":""}]
[null,null,null,null,null,null,null,null,null,null,{"$f":"IF(L266<>\"\",'Step 2) Calculate'!B270,\"Zzzzz - delete row\")","v":"Zzzzz - delete row"},{"$f":"IF('Step 2) Calculate'!E270<>\"\",'Step 2) Calculate'!G270,\"\")","v":""},{"$f":"IF(L266<>\"\",'Step 2) Calculate'!F270,\"\")","v":""},{"$f":"IF(L266<>\"\",'Step 2) Calculate'!H270,\"\")","v":""},{"$f":"IF(L266<>\"\",'Step 2) Calculate'!C270,\"\")","v":""}]
[null,null,null,null,null,null,null,null,null,null,{"$f":"IF(L267<>\"\",'Step 2) Calculate'!B271,\"Zzzzz - delete row\")","v":"Zzzzz - delete row"},{"$f":"IF('Step 2) Calculate'!E271<>\"\",'Step 2) Calculate'!G271,\"\")","v":""},{"$f":"IF(L267<>\"\",'Step 2) Calculate'!F271,\"\")","v":""},{"$f":"IF(L267<>\"\",'Step 2) Calculate'!H271,\"\")","v":""},{"$f":"IF(L267<>\"\",'Step 2) Calculate'!C271,\"\")","v":""}]
[null,null,null,null,null,null,null,null,null,null,{"$f":"IF(L268<>\"\",'Step 2) Calculate'!B272,\"Zzzzz - delete row\")","v":"Zzzzz - delete row"},{"$f":"IF('Step 2) Calculate'!E272<>\"\",'Step 2) Calculate'!G272,\"\")","v":""},{"$f":"IF(L268<>\"\",'Step 2) Calculate'!F272,\"\")","v":""},{"$f":"IF(L268<>\"\",'Step 2) Calculate'!H272,\"\")","v":""},{"$f":"IF(L268<>\"\",'Step 2) Calculate'!C272,\"\")","v":""}]
[null,null,null,null,null,null,null,null,null,null,{"$f":"IF(L269<>\"\",'Step 2) Calculate'!B273,\"Zzzzz - delete row\")","v":"Zzzzz - delete row"},{"$f":"IF('Step 2) Calculate'!E273<>\"\",'Step 2) Calculate'!G273,\"\")","v":""},{"$f":"IF(L269<>\"\",'Step 2) Calculate'!F273,\"\")","v":""},{"$f":"IF(L269<>\"\",'Step 2) Calculate'!H273,\"\")","v":""},{"$f":"IF(L269<>\"\",'Step 2) Calculate'!C273,\"\")","v":""}]
[null,null,null,null,null,null,null,null,null,null,{"$f":"IF(L270<>\"\",'Step 2) Calculate'!B274,\"Zzzzz - delete row\")","v":"Zzzzz - delete row"},{"$f":"IF('Step 2) Calculate'!E274<>\"\",'Step 2) Calculate'!G274,\"\")","v":""},{"$f":"IF(L270<>\"\",'Step 2) Calculate'!F274,\"\")","v":""},{"$f":"IF(L270<>\"\",'Step 2) Calculate'!H274,\"\")","v":""},{"$f":"IF(L270<>\"\",'Step 2) Calculate'!C274,\"\")","v":""}]
[null,null,null,null,null,null,null,null,null,null,{"$f":"IF(L271<>\"\",'Step 2) Calculate'!B275,\"Zzzzz - delete row\")","v":"Zzzzz - delete row"},{"$f":"IF('Step 2) Calculate'!E275<>\"\",'Step 2) Calculate'!G275,\"\")","v":""},{"$f":"IF(L271<>\"\",'Step 2) Calculate'!F275,\"\")","v":""},{"$f":"IF(L271<>\"\",'Step 2) Calculate'!H275,\"\")","v":""},{"$f":"IF(L271<>\"\",'Step 2) Calculate'!C275,\"\")","v":""}]
[null,null,null,null,null,null,null,null,null,null,{"$f":"IF(L272<>\"\",'Step 2) Calculate'!B276,\"Zzzzz - delete row\")","v":"Zzzzz - delete row"},{"$f":"IF('Step 2) Calculate'!E276<>\"\",'Step 2) Calculate'!G276,\"\")","v":""},{"$f":"IF(L272<>\"\",'Step 2) Calculate'!F276,\"\")","v":""},{"$f":"IF(L272<>\"\",'Step 2) Calculate'!H276,\"\")","v":""},{"$f":"IF(L272<>\"\",'Step 2) Calculate'!C276,\"\")","v":""}]
[null,null,null,null,null,null,null,null,null,null,{"$f":"IF(L273<>\"\",'Step 2) Calculate'!B277,\"Zzzzz - delete row\")","v":"Zzzzz - delete row"},{"$f":"IF('Step 2) Calculate'!E277<>\"\",'Step 2) Calculate'!G277,\"\")","v":""},{"$f":"IF(L273<>\"\",'Step 2) Calculate'!F277,\"\")","v":""},{"$f":"IF(L273<>\"\",'Step 2) Calculate'!H277,\"\")","v":""},{"$f":"IF(L273<>\"\",'Step 2) Calculate'!C277,\"\")","v":""}]
[null,null,null,null,null,null,null,null,null,null,{"$f":"IF(L274<>\"\",'Step 2) Calculate'!B278,\"Zzzzz - delete row\")","v":"Zzzzz - delete row"},{"$f":"IF('Step 2) Calculate'!E278<>\"\",'Step 2) Calculate'!G278,\"\")","v":""},{"$f":"IF(L274<>\"\",'Step 2) Calculate'!F278,\"\")","v":""},{"$f":"IF(L274<>\"\",'Step 2) Calculate'!H278,\"\")","v":""},{"$f":"IF(L274<>\"\",'Step 2) Calculate'!C278,\"\")","v":""}]
[null,null,null,null,null,null,null,null,null,null,{"$f":"IF(L275<>\"\",'Step 2) Calculate'!B279,\"Zzzzz - delete row\")","v":"Zzzzz - delete row"},{"$f":"IF('Step 2) Calculate'!E279<>\"\",'Step 2) Calculate'!G279,\"\")","v":""},{"$f":"IF(L275<>\"\",'Step 2) Calculate'!F279,\"\")","v":""},{"$f":"IF(L275<>\"\",'Step 2) Calculate'!H279,\"\")","v":""},{"$f":"IF(L275<>\"\",'Step 2) Calculate'!C279,\"\")","v":""}]
[null,null,null,null,null,null,null,null,null,null,{"$f":"IF(L276<>\"\",'Step 2) Calculate'!B280,\"Zzzzz - delete row\")","v":"Zzzzz - delete row"},{"$f":"IF('Step 2) Calculate'!E280<>\"\",'Step 2) Calculate'!G280,\"\")","v":""},{"$f":"IF(L276<>\"\",'Step 2) Calculate'!F280,\"\")","v":""},{"$f":"IF(L276<>\"\",'Step 2) Calculate'!H280,\"\")","v":""},{"$f":"IF(L276<>\"\",'Step 2) Calculate'!C280,\"\")","v":""}]
[null,null,null,null,null,null,null,null,null,null,{"$f":"IF(L277<>\"\",'Step 2) Calculate'!B281,\"Zzzzz - delete row\")","v":"Zzzzz - delete row"},{"$f":"IF('Step 2) Calculate'!E281<>\"\",'Step 2) Calculate'!G281,\"\")","v":""},{"$f":"IF(L277<>\"\",'Step 2) Calculate'!F281,\"\")","v":""},{"$f":"IF(L277<>\"\",'Step 2) Calculate'!H281,\"\")","v":""},{"$f":"IF(L277<>\"\",'Step 2) Calculate'!C281,\"\")","v":""}]
[null,null,null,null,null,null,null,null,null,null,{"$f":"IF(L278<>\"\",'Step 2) Calculate'!B282,\"Zzzzz - delete row\")","v":"Zzzzz - delete row"},{"$f":"IF('Step 2) Calculate'!E282<>\"\",'Step 2) Calculate'!G282,\"\")","v":""},{"$f":"IF(L278<>\"\",'Step 2) Calculate'!F282,\"\")","v":""},{"$f":"IF(L278<>\"\",'Step 2) Calculate'!H282,\"\")","v":""},{"$f":"IF(L278<>\"\",'Step 2) Calculate'!C282,\"\")","v":""}]
[null,null,null,null,null,null,null,null,null,null,{"$f":"IF(L279<>\"\",'Step 2) Calculate'!B283,\"Zzzzz - delete row\")","v":"Zzzzz - delete row"},{"$f":"IF('Step 2) Calculate'!E283<>\"\",'Step 2) Calculate'!G283,\"\")","v":""},{"$f":"IF(L279<>\"\",'Step 2) Calculate'!F283,\"\")","v":""},{"$f":"IF(L279<>\"\",'Step 2) Calculate'!H283,\"\")","v":""},{"$f":"IF(L279<>\"\",'Step 2) Calculate'!C283,\"\")","v":""}]
[null,null,null,null,null,null,null,null,null,null,{"$f":"IF(L280<>\"\",'Step 2) Calculate'!B284,\"Zzzzz - delete row\")","v":"Zzzzz - delete row"},{"$f":"IF('Step 2) Calculate'!E284<>\"\",'Step 2) Calculate'!G284,\"\")","v":""},{"$f":"IF(L280<>\"\",'Step 2) Calculate'!F284,\"\")","v":""},{"$f":"IF(L280<>\"\",'Step 2) Calculate'!H284,\"\")","v":""},{"$f":"IF(L280<>\"\",'Step 2) Calculate'!C284,\"\")","v":""}]
[null,null,null,null,null,null,null,null,null,null,{"$f":"IF(L281<>\"\",'Step 2) Calculate'!B285,\"Zzzzz - delete row\")","v":"Zzzzz - delete row"},{"$f":"IF('Step 2) Calculate'!E285<>\"\",'Step 2) Calculate'!G285,\"\")","v":""},{"$f":"IF(L281<>\"\",'Step 2) Calculate'!F285,\"\")","v":""},{"$f":"IF(L281<>\"\",'Step 2) Calculate'!H285,\"\")","v":""},{"$f":"IF(L281<>\"\",'Step 2) Calculate'!C285,\"\")","v":""}]
[null,null,null,null,null,null,null,null,null,null,{"$f":"IF(L282<>\"\",'Step 2) Calculate'!B286,\"Zzzzz - delete row\")","v":"Zzzzz - delete row"},{"$f":"IF('Step 2) Calculate'!E286<>\"\",'Step 2) Calculate'!G286,\"\")","v":""},{"$f":"IF(L282<>\"\",'Step 2) Calculate'!F286,\"\")","v":""},{"$f":"IF(L282<>\"\",'Step 2) Calculate'!H286,\"\")","v":""},{"$f":"IF(L282<>\"\",'Step 2) Calculate'!C286,\"\")","v":""}]
[null,null,null,null,null,null,null,null,null,null,{"$f":"IF(L283<>\"\",'Step 2) Calculate'!B287,\"Zzzzz - delete row\")","v":"Zzzzz - delete row"},{"$f":"IF('Step 2) Calculate'!E287<>\"\",'Step 2) Calculate'!G287,\"\")","v":""},{"$f":"IF(L283<>\"\",'Step 2) Calculate'!F287,\"\")","v":""},{"$f":"IF(L283<>\"\",'Step 2) Calculate'!H287,\"\")","v":""},{"$f":"IF(L283<>\"\",'Step 2) Calculate'!C287,\"\")","v":""}]
[null,null,null,null,null,null,null,null,null,null,{"$f":"IF(L284<>\"\",'Step 2) Calculate'!B288,\"Zzzzz - delete row\")","v":"Zzzzz - delete row"},{"$f":"IF('Step 2) Calculate'!E288<>\"\",'Step 2) Calculate'!G288,\"\")","v":""},{"$f":"IF(L284<>\"\",'Step 2) Calculate'!F288,\"\")","v":""},{"$f":"IF(L284<>\"\",'Step 2) Calculate'!H288,\"\")","v":""},{"$f":"IF(L284<>\"\",'Step 2) Calculate'!C288,\"\")","v":""}]
[null,null,null,null,null,null,null,null,null,null,{"$f":"IF(L285<>\"\",'Step 2) Calculate'!B289,\"Zzzzz - delete row\")","v":"Zzzzz - delete row"},{"$f":"IF('Step 2) Calculate'!E289<>\"\",'Step 2) Calculate'!G289,\"\")","v":""},{"$f":"IF(L285<>\"\",'Step 2) Calculate'!F289,\"\")","v":""},{"$f":"IF(L285<>\"\",'Step 2) Calculate'!H289,\"\")","v":""},{"$f":"IF(L285<>\"\",'Step 2) Calculate'!C289,\"\")","v":""}]
[null,null,null,null,null,null,null,null,null,null,{"$f":"IF(L286<>\"\",'Step 2) Calculate'!B290,\"Zzzzz - delete row\")","v":"Zzzzz - delete row"},{"$f":"IF('Step 2) Calculate'!E290<>\"\",'Step 2) Calculate'!G290,\"\")","v":""},{"$f":"IF(L286<>\"\",'Step 2) Calculate'!F290,\"\")","v":""},{"$f":"IF(L286<>\"\",'Step 2) Calculate'!H290,\"\")","v":""},{"$f":"IF(L286<>\"\",'Step 2) Calculate'!C290,\"\")","v":""}]
[null,null,null,null,null,null,null,null,null,null,{"$f":"IF(L287<>\"\",'Step 2) Calculate'!B291,\"Zzzzz - delete row\")","v":"Zzzzz - delete row"},{"$f":"IF('Step 2) Calculate'!E291<>\"\",'Step 2) Calculate'!G291,\"\")","v":""},{"$f":"IF(L287<>\"\",'Step 2) Calculate'!F291,\"\")","v":""},{"$f":"IF(L287<>\"\",'Step 2) Calculate'!H291,\"\")","v":""},{"$f":"IF(L287<>\"\",'Step 2) Calculate'!C291,\"\")","v":""}]
[null,null,null,null,null,null,null,null,null,null,{"$f":"IF(L288<>\"\",'Step 2) Calculate'!B292,\"Zzzzz - delete row\")","v":"Zzzzz - delete row"},{"$f":"IF('Step 2) Calculate'!E292<>\"\",'Step 2) Calculate'!G292,\"\")","v":""},{"$f":"IF(L288<>\"\",'Step 2) Calculate'!F292,\"\")","v":""},{"$f":"IF(L288<>\"\",'Step 2) Calculate'!H292,\"\")","v":""},{"$f":"IF(L288<>\"\",'Step 2) Calculate'!C292,\"\")","v":""}]
[null,null,null,null,null,null,null,null,null,null,{"$f":"IF(L289<>\"\",'Step 2) Calculate'!B293,\"Zzzzz - delete row\")","v":"Zzzzz - delete row"},{"$f":"IF('Step 2) Calculate'!E293<>\"\",'Step 2) Calculate'!G293,\"\")","v":""},{"$f":"IF(L289<>\"\",'Step 2) Calculate'!F293,\"\")","v":""},{"$f":"IF(L289<>\"\",'Step 2) Calculate'!H293,\"\")","v":""},{"$f":"IF(L289<>\"\",'Step 2) Calculate'!C293,\"\")","v":""}]
[null,null,null,null,null,null,null,null,null,null,{"$f":"IF(L290<>\"\",'Step 2) Calculate'!B294,\"Zzzzz - delete row\")","v":"Zzzzz - delete row"},{"$f":"IF('Step 2) Calculate'!E294<>\"\",'Step 2) Calculate'!G294,\"\")","v":""},{"$f":"IF(L290<>\"\",'Step 2) Calculate'!F294,\"\")","v":""},{"$f":"IF(L290<>\"\",'Step 2) Calculate'!H294,\"\")","v":""},{"$f":"IF(L290<>\"\",'Step 2) Calculate'!C294,\"\")","v":""}]
[null,null,null,null,null,null,null,null,null,null,{"$f":"IF(L291<>\"\",'Step 2) Calculate'!B295,\"Zzzzz - delete row\")","v":"Zzzzz - delete row"},{"$f":"IF('Step 2) Calculate'!E295<>\"\",'Step 2) Calculate'!G295,\"\")","v":""},{"$f":"IF(L291<>\"\",'Step 2) Calculate'!F295,\"\")","v":""},{"$f":"IF(L291<>\"\",'Step 2) Calculate'!H295,\"\")","v":""},{"$f":"IF(L291<>\"\",'Step 2) Calculate'!C295,\"\")","v":""}]
[null,null,null,null,null,null,null,null,null,null,{"$f":"IF(L292<>\"\",'Step 2) Calculate'!B296,\"Zzzzz - delete row\")","v":"Zzzzz - delete row"},{"$f":"IF('Step 2) Calculate'!E296<>\"\",'Step 2) Calculate'!G296,\"\")","v":""},{"$f":"IF(L292<>\"\",'Step 2) Calculate'!F296,\"\")","v":""},{"$f":"IF(L292<>\"\",'Step 2) Calculate'!H296,\"\")","v":""},{"$f":"IF(L292<>\"\",'Step 2) Calculate'!C296,\"\")","v":""}]
[null,null,null,null,null,null,null,null,null,null,{"$f":"IF(L293<>\"\",'Step 2) Calculate'!B297,\"Zzzzz - delete row\")","v":"Zzzzz - delete row"},{"$f":"IF('Step 2) Calculate'!E297<>\"\",'Step 2) Calculate'!G297,\"\")","v":""},{"$f":"IF(L293<>\"\",'Step 2) Calculate'!F297,\"\")","v":""},{"$f":"IF(L293<>\"\",'Step 2) Calculate'!H297,\"\")","v":""},{"$f":"IF(L293<>\"\",'Step 2) Calculate'!C297,\"\")","v":""}]
[null,null,null,null,null,null,null,null,null,null,{"$f":"IF(L294<>\"\",'Step 2) Calculate'!B298,\"Zzzzz - delete row\")","v":"Zzzzz - delete row"},{"$f":"IF('Step 2) Calculate'!E298<>\"\",'Step 2) Calculate'!G298,\"\")","v":""},{"$f":"IF(L294<>\"\",'Step 2) Calculate'!F298,\"\")","v":""},{"$f":"IF(L294<>\"\",'Step 2) Calculate'!H298,\"\")","v":""},{"$f":"IF(L294<>\"\",'Step 2) Calculate'!C298,\"\")","v":""}]
[null,null,null,null,null,null,null,null,null,null,{"$f":"IF(L295<>\"\",'Step 2) Calculate'!B299,\"Zzzzz - delete row\")","v":"Zzzzz - delete row"},{"$f":"IF('Step 2) Calculate'!E299<>\"\",'Step 2) Calculate'!G299,\"\")","v":""},{"$f":"IF(L295<>\"\",'Step 2) Calculate'!F299,\"\")","v":""},{"$f":"IF(L295<>\"\",'Step 2) Calculate'!H299,\"\")","v":""},{"$f":"IF(L295<>\"\",'Step 2) Calculate'!C299,\"\")","v":""}]
[null,null,null,null,null,null,null,null,null,null,{"$f":"IF(L296<>\"\",'Step 2) Calculate'!B300,\"Zzzzz - delete row\")","v":"Zzzzz - delete row"},{"$f":"IF('Step 2) Calculate'!E300<>\"\",'Step 2) Calculate'!G300,\"\")","v":""},{"$f":"IF(L296<>\"\",'Step 2) Calculate'!F300,\"\")","v":""},{"$f":"IF(L296<>\"\",'Step 2) Calculate'!H300,\"\")","v":""},{"$f":"IF(L296<>\"\",'Step 2) Calculate'!C300,\"\")","v":""}]
[null,null,null,null,null,null,null,null,null,null,{"$f":"IF(L297<>\"\",'Step 2) Calculate'!B301,\"Zzzzz - delete row\")","v":"Zzzzz - delete row"},{"$f":"IF('Step 2) Calculate'!E301<>\"\",'Step 2) Calculate'!G301,\"\")","v":""},{"$f":"IF(L297<>\"\",'Step 2) Calculate'!F301,\"\")","v":""},{"$f":"IF(L297<>\"\",'Step 2) Calculate'!H301,\"\")","v":""},{"$f":"IF(L297<>\"\",'Step 2) Calculate'!C301,\"\")","v":""}]
[null,null,null,null,null,null,null,null,null,null,{"$f":"IF(L298<>\"\",'Step 2) Calculate'!B302,\"Zzzzz - delete row\")","v":"Zzzzz - delete row"},{"$f":"IF('Step 2) Calculate'!E302<>\"\",'Step 2) Calculate'!G302,\"\")","v":""},{"$f":"IF(L298<>\"\",'Step 2) Calculate'!F302,\"\")","v":""},{"$f":"IF(L298<>\"\",'Step 2) Calculate'!H302,\"\")","v":""},{"$f":"IF(L298<>\"\",'Step 2) Calculate'!C302,\"\")","v":""}]
[null,null,null,null,null,null,null,null,null,null,{"$f":"IF(L299<>\"\",'Step 2) Calculate'!B303,\"Zzzzz - delete row\")","v":"Zzzzz - delete row"},{"$f":"IF('Step 2) Calculate'!E303<>\"\",'Step 2) Calculate'!G303,\"\")","v":""},{"$f":"IF(L299<>\"\",'Step 2) Calculate'!F303,\"\")","v":""},{"$f":"IF(L299<>\"\",'Step 2) Calculate'!H303,\"\")","v":""},{"$f":"IF(L299<>\"\",'Step 2) Calculate'!C303,\"\")","v":""}]
[null,null,null,null,null,null,null,null,null,null,{"$f":"IF(L300<>\"\",'Step 2) Calculate'!B304,\"Zzzzz - delete row\")","v":"Zzzzz - delete row"},{"$f":"IF('Step 2) Calculate'!E304<>\"\",'Step 2) Calculate'!G304,\"\")","v":""},{"$f":"IF(L300<>\"\",'Step 2) Calculate'!F304,\"\")","v":""},{"$f":"IF(L300<>\"\",'Step 2) Calculate'!H304,\"\")","v":""},{"$f":"IF(L300<>\"\",'Step 2) Calculate'!C304,\"\")","v":""}]
[null,null,null,null,null,null,null,null,null,null,{"$f":"IF(L301<>\"\",'Step 2) Calculate'!B305,\"Zzzzz - delete row\")","v":"Zzzzz - delete row"},{"$f":"IF('Step 2) Calculate'!E305<>\"\",'Step 2) Calculate'!G305,\"\")","v":""},{"$f":"IF(L301<>\"\",'Step 2) Calculate'!F305,\"\")","v":""},{"$f":"IF(L301<>\"\",'Step 2) Calculate'!H305,\"\")","v":""},{"$f":"IF(L301<>\"\",'Step 2) Calculate'!C305,\"\")","v":""}]
[null,null,null,null,null,null,null,null,null,null,{"$f":"IF(L302<>\"\",'Step 2) Calculate'!B306,\"Zzzzz - delete row\")","v":"Zzzzz - delete row"},{"$f":"IF('Step 2) Calculate'!E306<>\"\",'Step 2) Calculate'!G306,\"\")","v":""},{"$f":"IF(L302<>\"\",'Step 2) Calculate'!F306,\"\")","v":""},{"$f":"IF(L302<>\"\",'Step 2) Calculate'!H306,\"\")","v":""},{"$f":"IF(L302<>\"\",'Step 2) Calculate'!C306,\"\")","v":""}]
[null,null,null,null,null,null,null,null,null,null,{"$f":"IF(L303<>\"\",'Step 2) Calculate'!B307,\"Zzzzz - delete row\")","v":"Zzzzz - delete row"},{"$f":"IF('Step 2) Calculate'!E307<>\"\",'Step 2) Calculate'!G307,\"\")","v":""},{"$f":"IF(L303<>\"\",'Step 2) Calculate'!F307,\"\")","v":""},{"$f":"IF(L303<>\"\",'Step 2) Calculate'!H307,\"\")","v":""},{"$f":"IF(L303<>\"\",'Step 2) Calculate'!C307,\"\")","v":""}]
[null,null,null,null,null,null,null,null,null,null,{"$f":"IF(L304<>\"\",'Step 2) Calculate'!B308,\"Zzzzz - delete row\")","v":"Zzzzz - delete row"},{"$f":"IF('Step 2) Calculate'!E308<>\"\",'Step 2) Calculate'!G308,\"\")","v":""},{"$f":"IF(L304<>\"\",'Step 2) Calculate'!F308,\"\")","v":""},{"$f":"IF(L304<>\"\",'Step 2) Calculate'!H308,\"\")","v":""},{"$f":"IF(L304<>\"\",'Step 2) Calculate'!C308,\"\")","v":""}]
[null,null,null,null,null,null,null,null,null,null,{"$f":"IF(L305<>\"\",'Step 2) Calculate'!B309,\"Zzzzz - delete row\")","v":"Zzzzz - delete row"},{"$f":"IF('Step 2) Calculate'!E309<>\"\",'Step 2) Calculate'!G309,\"\")","v":""},{"$f":"IF(L305<>\"\",'Step 2) Calculate'!F309,\"\")","v":""},{"$f":"IF(L305<>\"\",'Step 2) Calculate'!H309,\"\")","v":""},{"$f":"IF(L305<>\"\",'Step 2) Calculate'!C309,\"\")","v":""}]
[null,null,null,null,null,null,null,null,null,null,{"$f":"IF(L306<>\"\",'Step 2) Calculate'!B310,\"Zzzzz - delete row\")","v":"Zzzzz - delete row"},{"$f":"IF('Step 2) Calculate'!E310<>\"\",'Step 2) Calculate'!G310,\"\")","v":""},{"$f":"IF(L306<>\"\",'Step 2) Calculate'!F310,\"\")","v":""},{"$f":"IF(L306<>\"\",'Step 2) Calculate'!H310,\"\")","v":""},{"$f":"IF(L306<>\"\",'Step 2) Calculate'!C310,\"\")","v":""}]
[null,null,null,null,null,null,null,null,null,null,{"$f":"IF(L307<>\"\",'Step 2) Calculate'!B311,\"Zzzzz - delete row\")","v":"Zzzzz - delete row"},{"$f":"IF('Step 2) Calculate'!E311<>\"\",'Step 2) Calculate'!G311,\"\")","v":""},{"$f":"IF(L307<>\"\",'Step 2) Calculate'!F311,\"\")","v":""},{"$f":"IF(L307<>\"\",'Step 2) Calculate'!H311,\"\")","v":""},{"$f":"IF(L307<>\"\",'Step 2) Calculate'!C311,\"\")","v":""}]
[null,null,null,null,null,null,null,null,null,null,{"$f":"IF(L308<>\"\",'Step 2) Calculate'!B312,\"Zzzzz - delete row\")","v":"Zzzzz - delete row"},{"$f":"IF('Step 2) Calculate'!E312<>\"\",'Step 2) Calculate'!G312,\"\")","v":""},{"$f":"IF(L308<>\"\",'Step 2) Calculate'!F312,\"\")","v":""},{"$f":"IF(L308<>\"\",'Step 2) Calculate'!H312,\"\")","v":""},{"$f":"IF(L308<>\"\",'Step 2) Calculate'!C312,\"\")","v":""}]
[null,null,null,null,null,null,null,null,null,null,{"$f":"IF(L309<>\"\",'Step 2) Calculate'!B313,\"Zzzzz - delete row\")","v":"Zzzzz - delete row"},{"$f":"IF('Step 2) Calculate'!E313<>\"\",'Step 2) Calculate'!G313,\"\")","v":""},{"$f":"IF(L309<>\"\",'Step 2) Calculate'!F313,\"\")","v":""},{"$f":"IF(L309<>\"\",'Step 2) Calculate'!H313,\"\")","v":""},{"$f":"IF(L309<>\"\",'Step 2) Calculate'!C313,\"\")","v":""}]
[null,null,null,null,null,null,null,null,null,null,{"$f":"IF(L310<>\"\",'Step 2) Calculate'!B314,\"Zzzzz - delete row\")","v":"Zzzzz - delete row"},{"$f":"IF('Step 2) Calculate'!E314<>\"\",'Step 2) Calculate'!G314,\"\")","v":""},{"$f":"IF(L310<>\"\",'Step 2) Calculate'!F314,\"\")","v":""},{"$f":"IF(L310<>\"\",'Step 2) Calculate'!H314,\"\")","v":""},{"$f":"IF(L310<>\"\",'Step 2) Calculate'!C314,\"\")","v":""}]
[null,null,null,null,null,null,null,null,null,null,{"$f":"IF(L311<>\"\",'Step 2) Calculate'!B315,\"Zzzzz - delete row\")","v":"Zzzzz - delete row"},{"$f":"IF('Step 2) Calculate'!E315<>\"\",'Step 2) Calculate'!G315,\"\")","v":""},{"$f":"IF(L311<>\"\",'Step 2) Calculate'!F315,\"\")","v":""},{"$f":"IF(L311<>\"\",'Step 2) Calculate'!H315,\"\")","v":""},{"$f":"IF(L311<>\"\",'Step 2) Calculate'!C315,\"\")","v":""}]
[null,null,null,null,null,null,null,null,null,null,{"$f":"IF(L312<>\"\",'Step 2) Calculate'!B316,\"Zzzzz - delete row\")","v":"Zzzzz - delete row"},{"$f":"IF('Step 2) Calculate'!E316<>\"\",'Step 2) Calculate'!G316,\"\")","v":""},{"$f":"IF(L312<>\"\",'Step 2) Calculate'!F316,\"\")","v":""},{"$f":"IF(L312<>\"\",'Step 2) Calculate'!H316,\"\")","v":""},{"$f":"IF(L312<>\"\",'Step 2) Calculate'!C316,\"\")","v":""}]
[null,null,null,null,null,null,null,null,null,null,{"$f":"IF(L313<>\"\",'Step 2) Calculate'!B317,\"Zzzzz - delete row\")","v":"Zzzzz - delete row"},{"$f":"IF('Step 2) Calculate'!E317<>\"\",'Step 2) Calculate'!G317,\"\")","v":""},{"$f":"IF(L313<>\"\",'Step 2) Calculate'!F317,\"\")","v":""},{"$f":"IF(L313<>\"\",'Step 2) Calculate'!H317,\"\")","v":""},{"$f":"IF(L313<>\"\",'Step 2) Calculate'!C317,\"\")","v":""}]
[null,null,null,null,null,null,null,null,null,null,{"$f":"IF(L314<>\"\",'Step 2) Calculate'!B318,\"Zzzzz - delete row\")","v":"Zzzzz - delete row"},{"$f":"IF('Step 2) Calculate'!E318<>\"\",'Step 2) Calculate'!G318,\"\")","v":""},{"$f":"IF(L314<>\"\",'Step 2) Calculate'!F318,\"\")","v":""},{"$f":"IF(L314<>\"\",'Step 2) Calculate'!H318,\"\")","v":""},{"$f":"IF(L314<>\"\",'Step 2) Calculate'!C318,\"\")","v":""}]
[null,null,null,null,null,null,null,null,null,null,{"$f":"IF(L315<>\"\",'Step 2) Calculate'!B319,\"Zzzzz - delete row\")","v":"Zzzzz - delete row"},{"$f":"IF('Step 2) Calculate'!E319<>\"\",'Step 2) Calculate'!G319,\"\")","v":""},{"$f":"IF(L315<>\"\",'Step 2) Calculate'!F319,\"\")","v":""},{"$f":"IF(L315<>\"\",'Step 2) Calculate'!H319,\"\")","v":""},{"$f":"IF(L315<>\"\",'Step 2) Calculate'!C319,\"\")","v":""}]
[null,null,null,null,null,null,null,null,null,null,{"$f":"IF(L316<>\"\",'Step 2) Calculate'!B320,\"Zzzzz - delete row\")","v":"Zzzzz - delete row"},{"$f":"IF('Step 2) Calculate'!E320<>\"\",'Step 2) Calculate'!G320,\"\")","v":""},{"$f":"IF(L316<>\"\",'Step 2) Calculate'!F320,\"\")","v":""},{"$f":"IF(L316<>\"\",'Step 2) Calculate'!H320,\"\")","v":""},{"$f":"IF(L316<>\"\",'Step 2) Calculate'!C320,\"\")","v":""}]
[null,null,null,null,null,null,null,null,null,null,{"$f":"IF(L317<>\"\",'Step 2) Calculate'!B321,\"Zzzzz - delete row\")","v":"Zzzzz - delete row"},{"$f":"IF('Step 2) Calculate'!E321<>\"\",'Step 2) Calculate'!G321,\"\")","v":""},{"$f":"IF(L317<>\"\",'Step 2) Calculate'!F321,\"\")","v":""},{"$f":"IF(L317<>\"\",'Step 2) Calculate'!H321,\"\")","v":""},{"$f":"IF(L317<>\"\",'Step 2) Calculate'!C321,\"\")","v":""}]
[null,null,null,null,null,null,null,null,null,null,{"$f":"IF(L318<>\"\",'Step 2) Calculate'!B322,\"Zzzzz - delete row\")","v":"Zzzzz - delete row"},{"$f":"IF('Step 2) Calculate'!E322<>\"\",'Step 2) Calculate'!G322,\"\")","v":""},{"$f":"IF(L318<>\"\",'Step 2) Calculate'!F322,\"\")","v":""},{"$f":"IF(L318<>\"\",'Step 2) Calculate'!H322,\"\")","v":""},{"$f":"IF(L318<>\"\",'Step 2) Calculate'!C322,\"\")","v":""}]
[null,null,null,null,null,null,null,null,null,null,{"$f":"IF(L319<>\"\",'Step 2) Calculate'!B323,\"Zzzzz - delete row\")","v":"Zzzzz - delete row"},{"$f":"IF('Step 2) Calculate'!E323<>\"\",'Step 2) Calculate'!G323,\"\")","v":""},{"$f":"IF(L319<>\"\",'Step 2) Calculate'!F323,\"\")","v":""},{"$f":"IF(L319<>\"\",'Step 2) Calculate'!H323,\"\")","v":""},{"$f":"IF(L319<>\"\",'Step 2) Calculate'!C323,\"\")","v":""}]
[null,null,null,null,null,null,null,null,null,null,{"$f":"IF(L320<>\"\",'Step 2) Calculate'!B324,\"Zzzzz - delete row\")","v":"Zzzzz - delete row"},{"$f":"IF('Step 2) Calculate'!E324<>\"\",'Step 2) Calculate'!G324,\"\")","v":""},{"$f":"IF(L320<>\"\",'Step 2) Calculate'!F324,\"\")","v":""},{"$f":"IF(L320<>\"\",'Step 2) Calculate'!H324,\"\")","v":""},{"$f":"IF(L320<>\"\",'Step 2) Calculate'!C324,\"\")","v":""}]
[null,null,null,null,null,null,null,null,null,null,{"$f":"IF(L321<>\"\",'Step 2) Calculate'!B325,\"Zzzzz - delete row\")","v":"Zzzzz - delete row"},{"$f":"IF('Step 2) Calculate'!E325<>\"\",'Step 2) Calculate'!G325,\"\")","v":""},{"$f":"IF(L321<>\"\",'Step 2) Calculate'!F325,\"\")","v":""},{"$f":"IF(L321<>\"\",'Step 2) Calculate'!H325,\"\")","v":""},{"$f":"IF(L321<>\"\",'Step 2) Calculate'!C325,\"\")","v":""}]
[null,null,null,null,null,null,null,null,null,null,{"$f":"IF(L322<>\"\",'Step 2) Calculate'!B326,\"Zzzzz - delete row\")","v":"Zzzzz - delete row"},{"$f":"IF('Step 2) Calculate'!E326<>\"\",'Step 2) Calculate'!G326,\"\")","v":""},{"$f":"IF(L322<>\"\",'Step 2) Calculate'!F326,\"\")","v":""},{"$f":"IF(L322<>\"\",'Step 2) Calculate'!H326,\"\")","v":""},{"$f":"IF(L322<>\"\",'Step 2) Calculate'!C326,\"\")","v":""}]
[null,null,null,null,null,null,null,null,null,null,{"$f":"IF(L323<>\"\",'Step 2) Calculate'!B327,\"Zzzzz - delete row\")","v":"Zzzzz - delete row"},{"$f":"IF('Step 2) Calculate'!E327<>\"\",'Step 2) Calculate'!G327,\"\")","v":""},{"$f":"IF(L323<>\"\",'Step 2) Calculate'!F327,\"\")","v":""},{"$f":"IF(L323<>\"\",'Step 2) Calculate'!H327,\"\")","v":""},{"$f":"IF(L323<>\"\",'Step 2) Calculate'!C327,\"\")","v":""}]
[null,null,null,null,null,null,null,null,null,null,{"$f":"IF(L324<>\"\",'Step 2) Calculate'!B328,\"Zzzzz - delete row\")","v":"Zzzzz - delete row"},{"$f":"IF('Step 2) Calculate'!E328<>\"\",'Step 2) Calculate'!G328,\"\")","v":""},{"$f":"IF(L324<>\"\",'Step 2) Calculate'!F328,\"\")","v":""},{"$f":"IF(L324<>\"\",'Step 2) Calculate'!H328,\"\")","v":""},{"$f":"IF(L324<>\"\",'Step 2) Calculate'!C328,\"\")","v":""}]
[null,null,null,null,null,null,null,null,null,null,{"$f":"IF(L325<>\"\",'Step 2) Calculate'!B329,\"Zzzzz - delete row\")","v":"Zzzzz - delete row"},{"$f":"IF('Step 2) Calculate'!E329<>\"\",'Step 2) Calculate'!G329,\"\")","v":""},{"$f":"IF(L325<>\"\",'Step 2) Calculate'!F329,\"\")","v":""},{"$f":"IF(L325<>\"\",'Step 2) Calculate'!H329,\"\")","v":""},{"$f":"IF(L325<>\"\",'Step 2) Calculate'!C329,\"\")","v":""}]
[null,null,null,null,null,null,null,null,null,null,{"$f":"IF(L326<>\"\",'Step 2) Calculate'!B330,\"Zzzzz - delete row\")","v":"Zzzzz - delete row"},{"$f":"IF('Step 2) Calculate'!E330<>\"\",'Step 2) Calculate'!G330,\"\")","v":""},{"$f":"IF(L326<>\"\",'Step 2) Calculate'!F330,\"\")","v":""},{"$f":"IF(L326<>\"\",'Step 2) Calculate'!H330,\"\")","v":""},{"$f":"IF(L326<>\"\",'Step 2) Calculate'!C330,\"\")","v":""}]
[null,null,null,null,null,null,null,null,null,null,{"$f":"IF(L327<>\"\",'Step 2) Calculate'!B331,\"Zzzzz - delete row\")","v":"Zzzzz - delete row"},{"$f":"IF('Step 2) Calculate'!E331<>\"\",'Step 2) Calculate'!G331,\"\")","v":""},{"$f":"IF(L327<>\"\",'Step 2) Calculate'!F331,\"\")","v":""},{"$f":"IF(L327<>\"\",'Step 2) Calculate'!H331,\"\")","v":""},{"$f":"IF(L327<>\"\",'Step 2) Calculate'!C331,\"\")","v":""}]
[null,null,null,null,null,null,null,null,null,null,{"$f":"IF(L328<>\"\",'Step 2) Calculate'!B332,\"Zzzzz - delete row\")","v":"Zzzzz - delete row"},{"$f":"IF('Step 2) Calculate'!E332<>\"\",'Step 2) Calculate'!G332,\"\")","v":""},{"$f":"IF(L328<>\"\",'Step 2) Calculate'!F332,\"\")","v":""},{"$f":"IF(L328<>\"\",'Step 2) Calculate'!H332,\"\")","v":""},{"$f":"IF(L328<>\"\",'Step 2) Calculate'!C332,\"\")","v":""}]
[null,null,null,null,null,null,null,null,null,null,{"$f":"IF(L329<>\"\",'Step 2) Calculate'!B333,\"Zzzzz - delete row\")","v":"Zzzzz - delete row"},{"$f":"IF('Step 2) Calculate'!E333<>\"\",'Step 2) Calculate'!G333,\"\")","v":""},{"$f":"IF(L329<>\"\",'Step 2) Calculate'!F333,\"\")","v":""},{"$f":"IF(L329<>\"\",'Step 2) Calculate'!H333,\"\")","v":""},{"$f":"IF(L329<>\"\",'Step 2) Calculate'!C333,\"\")","v":""}]
[null,null,null,null,null,null,null,null,null,null,{"$f":"IF(L330<>\"\",'Step 2) Calculate'!B334,\"Zzzzz - delete row\")","v":"Zzzzz - delete row"},{"$f":"IF('Step 2) Calculate'!E334<>\"\",'Step 2) Calculate'!G334,\"\")","v":""},{"$f":"IF(L330<>\"\",'Step 2) Calculate'!F334,\"\")","v":""},{"$f":"IF(L330<>\"\",'Step 2) Calculate'!H334,\"\")","v":""},{"$f":"IF(L330<>\"\",'Step 2) Calculate'!C334,\"\")","v":""}]
[null,null,null,null,null,null,null,null,null,null,{"$f":"IF(L331<>\"\",'Step 2) Calculate'!B335,\"Zzzzz - delete row\")","v":"Zzzzz - delete row"},{"$f":"IF('Step 2) Calculate'!E335<>\"\",'Step 2) Calculate'!G335,\"\")","v":""},{"$f":"IF(L331<>\"\",'Step 2) Calculate'!F335,\"\")","v":""},{"$f":"IF(L331<>\"\",'Step 2) Calculate'!H335,\"\")","v":""},{"$f":"IF(L331<>\"\",'Step 2) Calculate'!C335,\"\")","v":""}]
[null,null,null,null,null,null,null,null,null,null,{"$f":"IF(L332<>\"\",'Step 2) Calculate'!B336,\"Zzzzz - delete row\")","v":"Zzzzz - delete row"},{"$f":"IF('Step 2) Calculate'!E336<>\"\",'Step 2) Calculate'!G336,\"\")","v":""},{"$f":"IF(L332<>\"\",'Step 2) Calculate'!F336,\"\")","v":""},{"$f":"IF(L332<>\"\",'Step 2) Calculate'!H336,\"\")","v":""},{"$f":"IF(L332<>\"\",'Step 2) Calculate'!C336,\"\")","v":""}]
[null,null,null,null,null,null,null,null,null,null,{"$f":"IF(L333<>\"\",'Step 2) Calculate'!B337,\"Zzzzz - delete row\")","v":"Zzzzz - delete row"},{"$f":"IF('Step 2) Calculate'!E337<>\"\",'Step 2) Calculate'!G337,\"\")","v":""},{"$f":"IF(L333<>\"\",'Step 2) Calculate'!F337,\"\")","v":""},{"$f":"IF(L333<>\"\",'Step 2) Calculate'!H337,\"\")","v":""},{"$f":"IF(L333<>\"\",'Step 2) Calculate'!C337,\"\")","v":""}]
[null,null,null,null,null,null,null,null,null,null,{"$f":"IF(L334<>\"\",'Step 2) Calculate'!B338,\"Zzzzz - delete row\")","v":"Zzzzz - delete row"},{"$f":"IF('Step 2) Calculate'!E338<>\"\",'Step 2) Calculate'!G338,\"\")","v":""},{"$f":"IF(L334<>\"\",'Step 2) Calculate'!F338,\"\")","v":""},{"$f":"IF(L334<>\"\",'Step 2) Calculate'!H338,\"\")","v":""},{"$f":"IF(L334<>\"\",'Step 2) Calculate'!C338,\"\")","v":""}]
[null,null,null,null,null,null,null,null,null,null,{"$f":"IF(L335<>\"\",'Step 2) Calculate'!B339,\"Zzzzz - delete row\")","v":"Zzzzz - delete row"},{"$f":"IF('Step 2) Calculate'!E339<>\"\",'Step 2) Calculate'!G339,\"\")","v":""},{"$f":"IF(L335<>\"\",'Step 2) Calculate'!F339,\"\")","v":""},{"$f":"IF(L335<>\"\",'Step 2) Calculate'!H339,\"\")","v":""},{"$f":"IF(L335<>\"\",'Step 2) Calculate'!C339,\"\")","v":""}]
[null,null,null,null,null,null,null,null,null,null,{"$f":"IF(L336<>\"\",'Step 2) Calculate'!B340,\"Zzzzz - delete row\")","v":"Zzzzz - delete row"},{"$f":"IF('Step 2) Calculate'!E340<>\"\",'Step 2) Calculate'!G340,\"\")","v":""},{"$f":"IF(L336<>\"\",'Step 2) Calculate'!F340,\"\")","v":""},{"$f":"IF(L336<>\"\",'Step 2) Calculate'!H340,\"\")","v":""},{"$f":"IF(L336<>\"\",'Step 2) Calculate'!C340,\"\")","v":""}]
[null,null,null,null,null,null,null,null,null,null,{"$f":"IF(L337<>\"\",'Step 2) Calculate'!B341,\"Zzzzz - delete row\")","v":"Zzzzz - delete row"},{"$f":"IF('Step 2) Calculate'!E341<>\"\",'Step 2) Calculate'!G341,\"\")","v":""},{"$f":"IF(L337<>\"\",'Step 2) Calculate'!F341,\"\")","v":""},{"$f":"IF(L337<>\"\",'Step 2) Calculate'!H341,\"\")","v":""},{"$f":"IF(L337<>\"\",'Step 2) Calculate'!C341,\"\")","v":""}]
[null,null,null,null,null,null,null,null,null,null,{"$f":"IF(L338<>\"\",'Step 2) Calculate'!B342,\"Zzzzz - delete row\")","v":"Zzzzz - delete row"},{"$f":"IF('Step 2) Calculate'!E342<>\"\",'Step 2) Calculate'!G342,\"\")","v":""},{"$f":"IF(L338<>\"\",'Step 2) Calculate'!F342,\"\")","v":""},{"$f":"IF(L338<>\"\",'Step 2) Calculate'!H342,\"\")","v":""},{"$f":"IF(L338<>\"\",'Step 2) Calculate'!C342,\"\")","v":""}]
[null,null,null,null,null,null,null,null,null,null,{"$f":"IF(L339<>\"\",'Step 2) Calculate'!B343,\"Zzzzz - delete row\")","v":"Zzzzz - delete row"},{"$f":"IF('Step 2) Calculate'!E343<>\"\",'Step 2) Calculate'!G343,\"\")","v":""},{"$f":"IF(L339<>\"\",'Step 2) Calculate'!F343,\"\")","v":""},{"$f":"IF(L339<>\"\",'Step 2) Calculate'!H343,\"\")","v":""},{"$f":"IF(L339<>\"\",'Step 2) Calculate'!C343,\"\")","v":""}]
[null,null,null,null,null,null,null,null,null,null,{"$f":"IF(L340<>\"\",'Step 2) Calculate'!B344,\"Zzzzz - delete row\")","v":"Zzzzz - delete row"},{"$f":"IF('Step 2) Calculate'!E344<>\"\",'Step 2) Calculate'!G344,\"\")","v":""},{"$f":"IF(L340<>\"\",'Step 2) Calculate'!F344,\"\")","v":""},{"$f":"IF(L340<>\"\",'Step 2) Calculate'!H344,\"\")","v":""},{"$f":"IF(L340<>\"\",'Step 2) Calculate'!C344,\"\")","v":""}]
[null,null,null,null,null,null,null,null,null,null,{"$f":"IF(L341<>\"\",'Step 2) Calculate'!B345,\"Zzzzz - delete row\")","v":"Zzzzz - delete row"},{"$f":"IF('Step 2) Calculate'!E345<>\"\",'Step 2) Calculate'!G345,\"\")","v":""},{"$f":"IF(L341<>\"\",'Step 2) Calculate'!F345,\"\")","v":""},{"$f":"IF(L341<>\"\",'Step 2) Calculate'!H345,\"\")","v":""},{"$f":"IF(L341<>\"\",'Step 2) Calculate'!C345,\"\")","v":""}]
[null,null,null,null,null,null,null,null,null,null,{"$f":"IF(L342<>\"\",'Step 2) Calculate'!B346,\"Zzzzz - delete row\")","v":"Zzzzz - delete row"},{"$f":"IF('Step 2) Calculate'!E346<>\"\",'Step 2) Calculate'!G346,\"\")","v":""},{"$f":"IF(L342<>\"\",'Step 2) Calculate'!F346,\"\")","v":""},{"$f":"IF(L342<>\"\",'Step 2) Calculate'!H346,\"\")","v":""},{"$f":"IF(L342<>\"\",'Step 2) Calculate'!C346,\"\")","v":""}]
[null,null,null,null,null,null,null,null,null,null,{"$f":"IF(L343<>\"\",'Step 2) Calculate'!B347,\"Zzzzz - delete row\")","v":"Zzzzz - delete row"},{"$f":"IF('Step 2) Calculate'!E347<>\"\",'Step 2) Calculate'!G347,\"\")","v":""},{"$f":"IF(L343<>\"\",'Step 2) Calculate'!F347,\"\")","v":""},{"$f":"IF(L343<>\"\",'Step 2) Calculate'!H347,\"\")","v":""},{"$f":"IF(L343<>\"\",'Step 2) Calculate'!C347,\"\")","v":""}]
[null,null,null,null,null,null,null,null,null,null,{"$f":"IF(L344<>\"\",'Step 2) Calculate'!B348,\"Zzzzz - delete row\")","v":"Zzzzz - delete row"},{"$f":"IF('Step 2) Calculate'!E348<>\"\",'Step 2) Calculate'!G348,\"\")","v":""},{"$f":"IF(L344<>\"\",'Step 2) Calculate'!F348,\"\")","v":""},{"$f":"IF(L344<>\"\",'Step 2) Calculate'!H348,\"\")","v":""},{"$f":"IF(L344<>\"\",'Step 2) Calculate'!C348,\"\")","v":""}]
[null,null,null,null,null,null,null,null,null,null,{"$f":"IF(L345<>\"\",'Step 2) Calculate'!B349,\"Zzzzz - delete row\")","v":"Zzzzz - delete row"},{"$f":"IF('Step 2) Calculate'!E349<>\"\",'Step 2) Calculate'!G349,\"\")","v":""},{"$f":"IF(L345<>\"\",'Step 2) Calculate'!F349,\"\")","v":""},{"$f":"IF(L345<>\"\",'Step 2) Calculate'!H349,\"\")","v":""},{"$f":"IF(L345<>\"\",'Step 2) Calculate'!C349,\"\")","v":""}]
[null,null,null,null,null,null,null,null,null,null,{"$f":"IF(L346<>\"\",'Step 2) Calculate'!B350,\"Zzzzz - delete row\")","v":"Zzzzz - delete row"},{"$f":"IF('Step 2) Calculate'!E350<>\"\",'Step 2) Calculate'!G350,\"\")","v":""},{"$f":"IF(L346<>\"\",'Step 2) Calculate'!F350,\"\")","v":""},{"$f":"IF(L346<>\"\",'Step 2) Calculate'!H350,\"\")","v":""},{"$f":"IF(L346<>\"\",'Step 2) Calculate'!C350,\"\")","v":""}]
[null,null,null,null,null,null,null,null,null,null,{"$f":"IF(L347<>\"\",'Step 2) Calculate'!B351,\"Zzzzz - delete row\")","v":"Zzzzz - delete row"},{"$f":"IF('Step 2) Calculate'!E351<>\"\",'Step 2) Calculate'!G351,\"\")","v":""},{"$f":"IF(L347<>\"\",'Step 2) Calculate'!F351,\"\")","v":""},{"$f":"IF(L347<>\"\",'Step 2) Calculate'!H351,\"\")","v":""},{"$f":"IF(L347<>\"\",'Step 2) Calculate'!C351,\"\")","v":""}]
[null,null,null,null,null,null,null,null,null,null,{"$f":"IF(L348<>\"\",'Step 2) Calculate'!B352,\"Zzzzz - delete row\")","v":"Zzzzz - delete row"},{"$f":"IF('Step 2) Calculate'!E352<>\"\",'Step 2) Calculate'!G352,\"\")","v":""},{"$f":"IF(L348<>\"\",'Step 2) Calculate'!F352,\"\")","v":""},{"$f":"IF(L348<>\"\",'Step 2) Calculate'!H352,\"\")","v":""},{"$f":"IF(L348<>\"\",'Step 2) Calculate'!C352,\"\")","v":""}]
[null,null,null,null,null,null,null,null,null,null,{"$f":"IF(L349<>\"\",'Step 2) Calculate'!B353,\"Zzzzz - delete row\")","v":"Zzzzz - delete row"},{"$f":"IF('Step 2) Calculate'!E353<>\"\",'Step 2) Calculate'!G353,\"\")","v":""},{"$f":"IF(L349<>\"\",'Step 2) Calculate'!F353,\"\")","v":""},{"$f":"IF(L349<>\"\",'Step 2) Calculate'!H353,\"\")","v":""},{"$f":"IF(L349<>\"\",'Step 2) Calculate'!C353,\"\")","v":""}]
[null,null,null,null,null,null,null,null,null,null,{"$f":"IF(L350<>\"\",'Step 2) Calculate'!B354,\"Zzzzz - delete row\")","v":"Zzzzz - delete row"},{"$f":"IF('Step 2) Calculate'!E354<>\"\",'Step 2) Calculate'!G354,\"\")","v":""},{"$f":"IF(L350<>\"\",'Step 2) Calculate'!F354,\"\")","v":""},{"$f":"IF(L350<>\"\",'Step 2) Calculate'!H354,\"\")","v":""},{"$f":"IF(L350<>\"\",'Step 2) Calculate'!C354,\"\")","v":""}]
[null,null,null,null,null,null,null,null,null,null,{"$f":"IF(L351<>\"\",'Step 2) Calculate'!B355,\"Zzzzz - delete row\")","v":"Zzzzz - delete row"},{"$f":"IF('Step 2) Calculate'!E355<>\"\",'Step 2) Calculate'!G355,\"\")","v":""},{"$f":"IF(L351<>\"\",'Step 2) Calculate'!F355,\"\")","v":""},{"$f":"IF(L351<>\"\",'Step 2) Calculate'!H355,\"\")","v":""},{"$f":"IF(L351<>\"\",'Step 2) Calculate'!C355,\"\")","v":""}]
[null,null,null,null,null,null,null,null,null,null,{"$f":"IF(L352<>\"\",'Step 2) Calculate'!B356,\"Zzzzz - delete row\")","v":"Zzzzz - delete row"},{"$f":"IF('Step 2) Calculate'!E356<>\"\",'Step 2) Calculate'!G356,\"\")","v":""},{"$f":"IF(L352<>\"\",'Step 2) Calculate'!F356,\"\")","v":""},{"$f":"IF(L352<>\"\",'Step 2) Calculate'!H356,\"\")","v":""},{"$f":"IF(L352<>\"\",'Step 2) Calculate'!C356,\"\")","v":""}]
[null,null,null,null,null,null,null,null,null,null,{"$f":"IF(L353<>\"\",'Step 2) Calculate'!B357,\"Zzzzz - delete row\")","v":"Zzzzz - delete row"},{"$f":"IF('Step 2) Calculate'!E357<>\"\",'Step 2) Calculate'!G357,\"\")","v":""},{"$f":"IF(L353<>\"\",'Step 2) Calculate'!F357,\"\")","v":""},{"$f":"IF(L353<>\"\",'Step 2) Calculate'!H357,\"\")","v":""},{"$f":"IF(L353<>\"\",'Step 2) Calculate'!C357,\"\")","v":""}]
[null,null,null,null,null,null,null,null,null,null,{"$f":"IF(L354<>\"\",'Step 2) Calculate'!B358,\"Zzzzz - delete row\")","v":"Zzzzz - delete row"},{"$f":"IF('Step 2) Calculate'!E358<>\"\",'Step 2) Calculate'!G358,\"\")","v":""},{"$f":"IF(L354<>\"\",'Step 2) Calculate'!F358,\"\")","v":""},{"$f":"IF(L354<>\"\",'Step 2) Calculate'!H358,\"\")","v":""},{"$f":"IF(L354<>\"\",'Step 2) Calculate'!C358,\"\")","v":""}]
[null,null,null,null,null,null,null,null,null,null,{"$f":"IF(L355<>\"\",'Step 2) Calculate'!B359,\"Zzzzz - delete row\")","v":"Zzzzz - delete row"},{"$f":"IF('Step 2) Calculate'!E359<>\"\",'Step 2) Calculate'!G359,\"\")","v":""},{"$f":"IF(L355<>\"\",'Step 2) Calculate'!F359,\"\")","v":""},{"$f":"IF(L355<>\"\",'Step 2) Calculate'!H359,\"\")","v":""},{"$f":"IF(L355<>\"\",'Step 2) Calculate'!C359,\"\")","v":""}]
[null,null,null,null,null,null,null,null,null,null,{"$f":"IF(L356<>\"\",'Step 2) Calculate'!B360,\"Zzzzz - delete row\")","v":"Zzzzz - delete row"},{"$f":"IF('Step 2) Calculate'!E360<>\"\",'Step 2) Calculate'!G360,\"\")","v":""},{"$f":"IF(L356<>\"\",'Step 2) Calculate'!F360,\"\")","v":""},{"$f":"IF(L356<>\"\",'Step 2) Calculate'!H360,\"\")","v":""},{"$f":"IF(L356<>\"\",'Step 2) Calculate'!C360,\"\")","v":""}]
[null,null,null,null,null,null,null,null,null,null,{"$f":"IF(L357<>\"\",'Step 2) Calculate'!B361,\"Zzzzz - delete row\")","v":"Zzzzz - delete row"},{"$f":"IF('Step 2) Calculate'!E361<>\"\",'Step 2) Calculate'!G361,\"\")","v":""},{"$f":"IF(L357<>\"\",'Step 2) Calculate'!F361,\"\")","v":""},{"$f":"IF(L357<>\"\",'Step 2) Calculate'!H361,\"\")","v":""},{"$f":"IF(L357<>\"\",'Step 2) Calculate'!C361,\"\")","v":""}]
[null,null,null,null,null,null,null,null,null,null,{"$f":"IF(L358<>\"\",'Step 2) Calculate'!B362,\"Zzzzz - delete row\")","v":"Zzzzz - delete row"},{"$f":"IF('Step 2) Calculate'!E362<>\"\",'Step 2) Calculate'!G362,\"\")","v":""},{"$f":"IF(L358<>\"\",'Step 2) Calculate'!F362,\"\")","v":""},{"$f":"IF(L358<>\"\",'Step 2) Calculate'!H362,\"\")","v":""},{"$f":"IF(L358<>\"\",'Step 2) Calculate'!C362,\"\")","v":""}]
[null,null,null,null,null,null,null,null,null,null,{"$f":"IF(L359<>\"\",'Step 2) Calculate'!B363,\"Zzzzz - delete row\")","v":"Zzzzz - delete row"},{"$f":"IF('Step 2) Calculate'!E363<>\"\",'Step 2) Calculate'!G363,\"\")","v":""},{"$f":"IF(L359<>\"\",'Step 2) Calculate'!F363,\"\")","v":""},{"$f":"IF(L359<>\"\",'Step 2) Calculate'!H363,\"\")","v":""},{"$f":"IF(L359<>\"\",'Step 2) Calculate'!C363,\"\")","v":""}]
[null,null,null,null,null,null,null,null,null,null,{"$f":"IF(L360<>\"\",'Step 2) Calculate'!B364,\"Zzzzz - delete row\")","v":"Zzzzz - delete row"},{"$f":"IF('Step 2) Calculate'!E364<>\"\",'Step 2) Calculate'!G364,\"\")","v":""},{"$f":"IF(L360<>\"\",'Step 2) Calculate'!F364,\"\")","v":""},{"$f":"IF(L360<>\"\",'Step 2) Calculate'!H364,\"\")","v":""},{"$f":"IF(L360<>\"\",'Step 2) Calculate'!C364,\"\")","v":""}]
[null,null,null,null,null,null,null,null,null,null,{"$f":"IF(L361<>\"\",'Step 2) Calculate'!B365,\"Zzzzz - delete row\")","v":"Zzzzz - delete row"},{"$f":"IF('Step 2) Calculate'!E365<>\"\",'Step 2) Calculate'!G365,\"\")","v":""},{"$f":"IF(L361<>\"\",'Step 2) Calculate'!F365,\"\")","v":""},{"$f":"IF(L361<>\"\",'Step 2) Calculate'!H365,\"\")","v":""},{"$f":"IF(L361<>\"\",'Step 2) Calculate'!C365,\"\")","v":""}]
[null,null,null,null,null,null,null,null,null,null,{"$f":"IF(L362<>\"\",'Step 2) Calculate'!B366,\"Zzzzz - delete row\")","v":"Zzzzz - delete row"},{"$f":"IF('Step 2) Calculate'!E366<>\"\",'Step 2) Calculate'!G366,\"\")","v":""},{"$f":"IF(L362<>\"\",'Step 2) Calculate'!F366,\"\")","v":""},{"$f":"IF(L362<>\"\",'Step 2) Calculate'!H366,\"\")","v":""},{"$f":"IF(L362<>\"\",'Step 2) Calculate'!C366,\"\")","v":""}]
[null,null,null,null,null,null,null,null,null,null,{"$f":"IF(L363<>\"\",'Step 2) Calculate'!B367,\"Zzzzz - delete row\")","v":"Zzzzz - delete row"},{"$f":"IF('Step 2) Calculate'!E367<>\"\",'Step 2) Calculate'!G367,\"\")","v":""},{"$f":"IF(L363<>\"\",'Step 2) Calculate'!F367,\"\")","v":""},{"$f":"IF(L363<>\"\",'Step 2) Calculate'!H367,\"\")","v":""},{"$f":"IF(L363<>\"\",'Step 2) Calculate'!C367,\"\")","v":""}]
[null,null,null,null,null,null,null,null,null,null,{"$f":"IF(L364<>\"\",'Step 2) Calculate'!B368,\"Zzzzz - delete row\")","v":"Zzzzz - delete row"},{"$f":"IF('Step 2) Calculate'!E368<>\"\",'Step 2) Calculate'!G368,\"\")","v":""},{"$f":"IF(L364<>\"\",'Step 2) Calculate'!F368,\"\")","v":""},{"$f":"IF(L364<>\"\",'Step 2) Calculate'!H368,\"\")","v":""},{"$f":"IF(L364<>\"\",'Step 2) Calculate'!C368,\"\")","v":""}]
[null,null,null,null,null,null,null,null,null,null,{"$f":"IF(L365<>\"\",'Step 2) Calculate'!B369,\"Zzzzz - delete row\")","v":"Zzzzz - delete row"},{"$f":"IF('Step 2) Calculate'!E369<>\"\",'Step 2) Calculate'!G369,\"\")","v":""},{"$f":"IF(L365<>\"\",'Step 2) Calculate'!F369,\"\")","v":""},{"$f":"IF(L365<>\"\",'Step 2) Calculate'!H369,\"\")","v":""},{"$f":"IF(L365<>\"\",'Step 2) Calculate'!C369,\"\")","v":""}]
[null,null,null,null,null,null,null,null,null,null,{"$f":"IF(L366<>\"\",'Step 2) Calculate'!B370,\"Zzzzz - delete row\")","v":"Zzzzz - delete row"},{"$f":"IF('Step 2) Calculate'!E370<>\"\",'Step 2) Calculate'!G370,\"\")","v":""},{"$f":"IF(L366<>\"\",'Step 2) Calculate'!F370,\"\")","v":""},{"$f":"IF(L366<>\"\",'Step 2) Calculate'!H370,\"\")","v":""},{"$f":"IF(L366<>\"\",'Step 2) Calculate'!C370,\"\")","v":""}]
[null,null,null,null,null,null,null,null,null,null,{"$f":"IF(L367<>\"\",'Step 2) Calculate'!B371,\"Zzzzz - delete row\")","v":"Zzzzz - delete row"},{"$f":"IF('Step 2) Calculate'!E371<>\"\",'Step 2) Calculate'!G371,\"\")","v":""},{"$f":"IF(L367<>\"\",'Step 2) Calculate'!F371,\"\")","v":""},{"$f":"IF(L367<>\"\",'Step 2) Calculate'!H371,\"\")","v":""},{"$f":"IF(L367<>\"\",'Step 2) Calculate'!C371,\"\")","v":""}]
[null,null,null,null,null,null,null,null,null,null,{"$f":"IF(L368<>\"\",'Step 2) Calculate'!B372,\"Zzzzz - delete row\")","v":"Zzzzz - delete row"},{"$f":"IF('Step 2) Calculate'!E372<>\"\",'Step 2) Calculate'!G372,\"\")","v":""},{"$f":"IF(L368<>\"\",'Step 2) Calculate'!F372,\"\")","v":""},{"$f":"IF(L368<>\"\",'Step 2) Calculate'!H372,\"\")","v":""},{"$f":"IF(L368<>\"\",'Step 2) Calculate'!C372,\"\")","v":""}]
[null,null,null,null,null,null,null,null,null,null,{"$f":"IF(L369<>\"\",'Step 2) Calculate'!B373,\"Zzzzz - delete row\")","v":"Zzzzz - delete row"},{"$f":"IF('Step 2) Calculate'!E373<>\"\",'Step 2) Calculate'!G373,\"\")","v":""},{"$f":"IF(L369<>\"\",'Step 2) Calculate'!F373,\"\")","v":""},{"$f":"IF(L369<>\"\",'Step 2) Calculate'!H373,\"\")","v":""},{"$f":"IF(L369<>\"\",'Step 2) Calculate'!C373,\"\")","v":""}]
[null,null,null,null,null,null,null,null,null,null,{"$f":"IF(L370<>\"\",'Step 2) Calculate'!B374,\"Zzzzz - delete row\")","v":"Zzzzz - delete row"},{"$f":"IF('Step 2) Calculate'!E374<>\"\",'Step 2) Calculate'!G374,\"\")","v":""},{"$f":"IF(L370<>\"\",'Step 2) Calculate'!F374,\"\")","v":""},{"$f":"IF(L370<>\"\",'Step 2) Calculate'!H374,\"\")","v":""},{"$f":"IF(L370<>\"\",'Step 2) Calculate'!C374,\"\")","v":""}]
[null,null,null,null,null,null,null,null,null,null,{"$f":"IF(L371<>\"\",'Step 2) Calculate'!B375,\"Zzzzz - delete row\")","v":"Zzzzz - delete row"},{"$f":"IF('Step 2) Calculate'!E375<>\"\",'Step 2) Calculate'!G375,\"\")","v":""},{"$f":"IF(L371<>\"\",'Step 2) Calculate'!F375,\"\")","v":""},{"$f":"IF(L371<>\"\",'Step 2) Calculate'!H375,\"\")","v":""},{"$f":"IF(L371<>\"\",'Step 2) Calculate'!C375,\"\")","v":""}]
[null,null,null,null,null,null,null,null,null,null,{"$f":"IF(L372<>\"\",'Step 2) Calculate'!B376,\"Zzzzz - delete row\")","v":"Zzzzz - delete row"},{"$f":"IF('Step 2) Calculate'!E376<>\"\",'Step 2) Calculate'!G376,\"\")","v":""},{"$f":"IF(L372<>\"\",'Step 2) Calculate'!F376,\"\")","v":""},{"$f":"IF(L372<>\"\",'Step 2) Calculate'!H376,\"\")","v":""},{"$f":"IF(L372<>\"\",'Step 2) Calculate'!C376,\"\")","v":""}]
[null,null,null,null,null,null,null,null,null,null,{"$f":"IF(L373<>\"\",'Step 2) Calculate'!B377,\"Zzzzz - delete row\")","v":"Zzzzz - delete row"},{"$f":"IF('Step 2) Calculate'!E377<>\"\",'Step 2) Calculate'!G377,\"\")","v":""},{"$f":"IF(L373<>\"\",'Step 2) Calculate'!F377,\"\")","v":""},{"$f":"IF(L373<>\"\",'Step 2) Calculate'!H377,\"\")","v":""},{"$f":"IF(L373<>\"\",'Step 2) Calculate'!C377,\"\")","v":""}]
[null,null,null,null,null,null,null,null,null,null,{"$f":"IF(L374<>\"\",'Step 2) Calculate'!B378,\"Zzzzz - delete row\")","v":"Zzzzz - delete row"},{"$f":"IF('Step 2) Calculate'!E378<>\"\",'Step 2) Calculate'!G378,\"\")","v":""},{"$f":"IF(L374<>\"\",'Step 2) Calculate'!F378,\"\")","v":""},{"$f":"IF(L374<>\"\",'Step 2) Calculate'!H378,\"\")","v":""},{"$f":"IF(L374<>\"\",'Step 2) Calculate'!C378,\"\")","v":""}]
[null,null,null,null,null,null,null,null,null,null,{"$f":"IF(L375<>\"\",'Step 2) Calculate'!B379,\"Zzzzz - delete row\")","v":"Zzzzz - delete row"},{"$f":"IF('Step 2) Calculate'!E379<>\"\",'Step 2) Calculate'!G379,\"\")","v":""},{"$f":"IF(L375<>\"\",'Step 2) Calculate'!F379,\"\")","v":""},{"$f":"IF(L375<>\"\",'Step 2) Calculate'!H379,\"\")","v":""},{"$f":"IF(L375<>\"\",'Step 2) Calculate'!C379,\"\")","v":""}]
[null,null,null,null,null,null,null,null,null,null,{"$f":"IF(L376<>\"\",'Step 2) Calculate'!B380,\"Zzzzz - delete row\")","v":"Zzzzz - delete row"},{"$f":"IF('Step 2) Calculate'!E380<>\"\",'Step 2) Calculate'!G380,\"\")","v":""},{"$f":"IF(L376<>\"\",'Step 2) Calculate'!F380,\"\")","v":""},{"$f":"IF(L376<>\"\",'Step 2) Calculate'!H380,\"\")","v":""},{"$f":"IF(L376<>\"\",'Step 2) Calculate'!C380,\"\")","v":""}]
[null,null,null,null,null,null,null,null,null,null,{"$f":"IF(L377<>\"\",'Step 2) Calculate'!B381,\"Zzzzz - delete row\")","v":"Zzzzz - delete row"},{"$f":"IF('Step 2) Calculate'!E381<>\"\",'Step 2) Calculate'!G381,\"\")","v":""},{"$f":"IF(L377<>\"\",'Step 2) Calculate'!F381,\"\")","v":""},{"$f":"IF(L377<>\"\",'Step 2) Calculate'!H381,\"\")","v":""},{"$f":"IF(L377<>\"\",'Step 2) Calculate'!C381,\"\")","v":""}]
[null,null,null,null,null,null,null,null,null,null,{"$f":"IF(L378<>\"\",'Step 2) Calculate'!B382,\"Zzzzz - delete row\")","v":"Zzzzz - delete row"},{"$f":"IF('Step 2) Calculate'!E382<>\"\",'Step 2) Calculate'!G382,\"\")","v":""},{"$f":"IF(L378<>\"\",'Step 2) Calculate'!F382,\"\")","v":""},{"$f":"IF(L378<>\"\",'Step 2) Calculate'!H382,\"\")","v":""},{"$f":"IF(L378<>\"\",'Step 2) Calculate'!C382,\"\")","v":""}]
[null,null,null,null,null,null,null,null,null,null,{"$f":"IF(L379<>\"\",'Step 2) Calculate'!B383,\"Zzzzz - delete row\")","v":"Zzzzz - delete row"},{"$f":"IF('Step 2) Calculate'!E383<>\"\",'Step 2) Calculate'!G383,\"\")","v":""},{"$f":"IF(L379<>\"\",'Step 2) Calculate'!F383,\"\")","v":""},{"$f":"IF(L379<>\"\",'Step 2) Calculate'!H383,\"\")","v":""},{"$f":"IF(L379<>\"\",'Step 2) Calculate'!C383,\"\")","v":""}]
[null,null,null,null,null,null,null,null,null,null,{"$f":"IF(L380<>\"\",'Step 2) Calculate'!B384,\"Zzzzz - delete row\")","v":"Zzzzz - delete row"},{"$f":"IF('Step 2) Calculate'!E384<>\"\",'Step 2) Calculate'!G384,\"\")","v":""},{"$f":"IF(L380<>\"\",'Step 2) Calculate'!F384,\"\")","v":""},{"$f":"IF(L380<>\"\",'Step 2) Calculate'!H384,\"\")","v":""},{"$f":"IF(L380<>\"\",'Step 2) Calculate'!C384,\"\")","v":""}]
[null,null,null,null,null,null,null,null,null,null,{"$f":"IF(L381<>\"\",'Step 2) Calculate'!B385,\"Zzzzz - delete row\")","v":"Zzzzz - delete row"},{"$f":"IF('Step 2) Calculate'!E385<>\"\",'Step 2) Calculate'!G385,\"\")","v":""},{"$f":"IF(L381<>\"\",'Step 2) Calculate'!F385,\"\")","v":""},{"$f":"IF(L381<>\"\",'Step 2) Calculate'!H385,\"\")","v":""},{"$f":"IF(L381<>\"\",'Step 2) Calculate'!C385,\"\")","v":""}]
[null,null,null,null,null,null,null,null,null,null,{"$f":"IF(L382<>\"\",'Step 2) Calculate'!B386,\"Zzzzz - delete row\")","v":"Zzzzz - delete row"},{"$f":"IF('Step 2) Calculate'!E386<>\"\",'Step 2) Calculate'!G386,\"\")","v":""},{"$f":"IF(L382<>\"\",'Step 2) Calculate'!F386,\"\")","v":""},{"$f":"IF(L382<>\"\",'Step 2) Calculate'!H386,\"\")","v":""},{"$f":"IF(L382<>\"\",'Step 2) Calculate'!C386,\"\")","v":""}]
[null,null,null,null,null,null,null,null,null,null,{"$f":"IF(L383<>\"\",'Step 2) Calculate'!B387,\"Zzzzz - delete row\")","v":"Zzzzz - delete row"},{"$f":"IF('Step 2) Calculate'!E387<>\"\",'Step 2) Calculate'!G387,\"\")","v":""},{"$f":"IF(L383<>\"\",'Step 2) Calculate'!F387,\"\")","v":""},{"$f":"IF(L383<>\"\",'Step 2) Calculate'!H387,\"\")","v":""},{"$f":"IF(L383<>\"\",'Step 2) Calculate'!C387,\"\")","v":""}]
[null,null,null,null,null,null,null,null,null,null,{"$f":"IF(L384<>\"\",'Step 2) Calculate'!B388,\"Zzzzz - delete row\")","v":"Zzzzz - delete row"},{"$f":"IF('Step 2) Calculate'!E388<>\"\",'Step 2) Calculate'!G388,\"\")","v":""},{"$f":"IF(L384<>\"\",'Step 2) Calculate'!F388,\"\")","v":""},{"$f":"IF(L384<>\"\",'Step 2) Calculate'!H388,\"\")","v":""},{"$f":"IF(L384<>\"\",'Step 2) Calculate'!C388,\"\")","v":""}]
[null,null,null,null,null,null,null,null,null,null,{"$f":"IF(L385<>\"\",'Step 2) Calculate'!B389,\"Zzzzz - delete row\")","v":"Zzzzz - delete row"},{"$f":"IF('Step 2) Calculate'!E389<>\"\",'Step 2) Calculate'!G389,\"\")","v":""},{"$f":"IF(L385<>\"\",'Step 2) Calculate'!F389,\"\")","v":""},{"$f":"IF(L385<>\"\",'Step 2) Calculate'!H389,\"\")","v":""},{"$f":"IF(L385<>\"\",'Step 2) Calculate'!C389,\"\")","v":""}]
[null,null,null,null,null,null,null,null,null,null,{"$f":"IF(L386<>\"\",'Step 2) Calculate'!B390,\"Zzzzz - delete row\")","v":"Zzzzz - delete row"},{"$f":"IF('Step 2) Calculate'!E390<>\"\",'Step 2) Calculate'!G390,\"\")","v":""},{"$f":"IF(L386<>\"\",'Step 2) Calculate'!F390,\"\")","v":""},{"$f":"IF(L386<>\"\",'Step 2) Calculate'!H390,\"\")","v":""},{"$f":"IF(L386<>\"\",'Step 2) Calculate'!C390,\"\")","v":""}]
[null,null,null,null,null,null,null,null,null,null,{"$f":"IF(L387<>\"\",'Step 2) Calculate'!B391,\"Zzzzz - delete row\")","v":"Zzzzz - delete row"},{"$f":"IF('Step 2) Calculate'!E391<>\"\",'Step 2) Calculate'!G391,\"\")","v":""},{"$f":"IF(L387<>\"\",'Step 2) Calculate'!F391,\"\")","v":""},{"$f":"IF(L387<>\"\",'Step 2) Calculate'!H391,\"\")","v":""},{"$f":"IF(L387<>\"\",'Step 2) Calculate'!C391,\"\")","v":""}]
[null,null,null,null,null,null,null,null,null,null,{"$f":"IF(L388<>\"\",'Step 2) Calculate'!B392,\"Zzzzz - delete row\")","v":"Zzzzz - delete row"},{"$f":"IF('Step 2) Calculate'!E392<>\"\",'Step 2) Calculate'!G392,\"\")","v":""},{"$f":"IF(L388<>\"\",'Step 2) Calculate'!F392,\"\")","v":""},{"$f":"IF(L388<>\"\",'Step 2) Calculate'!H392,\"\")","v":""},{"$f":"IF(L388<>\"\",'Step 2) Calculate'!C392,\"\")","v":""}]
[null,null,null,null,null,null,null,null,null,null,{"$f":"IF(L389<>\"\",'Step 2) Calculate'!B393,\"Zzzzz - delete row\")","v":"Zzzzz - delete row"},{"$f":"IF('Step 2) Calculate'!E393<>\"\",'Step 2) Calculate'!G393,\"\")","v":""},{"$f":"IF(L389<>\"\",'Step 2) Calculate'!F393,\"\")","v":""},{"$f":"IF(L389<>\"\",'Step 2) Calculate'!H393,\"\")","v":""},{"$f":"IF(L389<>\"\",'Step 2) Calculate'!C393,\"\")","v":""}]
[null,null,null,null,null,null,null,null,null,null,{"$f":"IF(L390<>\"\",'Step 2) Calculate'!B394,\"Zzzzz - delete row\")","v":"Zzzzz - delete row"},{"$f":"IF('Step 2) Calculate'!E394<>\"\",'Step 2) Calculate'!G394,\"\")","v":""},{"$f":"IF(L390<>\"\",'Step 2) Calculate'!F394,\"\")","v":""},{"$f":"IF(L390<>\"\",'Step 2) Calculate'!H394,\"\")","v":""},{"$f":"IF(L390<>\"\",'Step 2) Calculate'!C394,\"\")","v":""}]
[null,null,null,null,null,null,null,null,null,null,{"$f":"IF(L391<>\"\",'Step 2) Calculate'!B395,\"Zzzzz - delete row\")","v":"Zzzzz - delete row"},{"$f":"IF('Step 2) Calculate'!E395<>\"\",'Step 2) Calculate'!G395,\"\")","v":""},{"$f":"IF(L391<>\"\",'Step 2) Calculate'!F395,\"\")","v":""},{"$f":"IF(L391<>\"\",'Step 2) Calculate'!H395,\"\")","v":""},{"$f":"IF(L391<>\"\",'Step 2) Calculate'!C395,\"\")","v":""}]
[null,null,null,null,null,null,null,null,null,null,{"$f":"IF(L392<>\"\",'Step 2) Calculate'!B396,\"Zzzzz - delete row\")","v":"Zzzzz - delete row"},{"$f":"IF('Step 2) Calculate'!E396<>\"\",'Step 2) Calculate'!G396,\"\")","v":""},{"$f":"IF(L392<>\"\",'Step 2) Calculate'!F396,\"\")","v":""},{"$f":"IF(L392<>\"\",'Step 2) Calculate'!H396,\"\")","v":""},{"$f":"IF(L392<>\"\",'Step 2) Calculate'!C396,\"\")","v":""}]
[null,null,null,null,null,null,null,null,null,null,{"$f":"IF(L393<>\"\",'Step 2) Calculate'!B397,\"Zzzzz - delete row\")","v":"Zzzzz - delete row"},{"$f":"IF('Step 2) Calculate'!E397<>\"\",'Step 2) Calculate'!G397,\"\")","v":""},{"$f":"IF(L393<>\"\",'Step 2) Calculate'!F397,\"\")","v":""},{"$f":"IF(L393<>\"\",'Step 2) Calculate'!H397,\"\")","v":""},{"$f":"IF(L393<>\"\",'Step 2) Calculate'!C397,\"\")","v":""}]
[null,null,null,null,null,null,null,null,null,null,{"$f":"IF(L394<>\"\",'Step 2) Calculate'!B398,\"Zzzzz - delete row\")","v":"Zzzzz - delete row"},{"$f":"IF('Step 2) Calculate'!E398<>\"\",'Step 2) Calculate'!G398,\"\")","v":""},{"$f":"IF(L394<>\"\",'Step 2) Calculate'!F398,\"\")","v":""},{"$f":"IF(L394<>\"\",'Step 2) Calculate'!H398,\"\")","v":""},{"$f":"IF(L394<>\"\",'Step 2) Calculate'!C398,\"\")","v":""}]
[null,null,null,null,null,null,null,null,null,null,{"$f":"IF(L395<>\"\",'Step 2) Calculate'!B399,\"Zzzzz - delete row\")","v":"Zzzzz - delete row"},{"$f":"IF('Step 2) Calculate'!E399<>\"\",'Step 2) Calculate'!G399,\"\")","v":""},{"$f":"IF(L395<>\"\",'Step 2) Calculate'!F399,\"\")","v":""},{"$f":"IF(L395<>\"\",'Step 2) Calculate'!H399,\"\")","v":""},{"$f":"IF(L395<>\"\",'Step 2) Calculate'!C399,\"\")","v":""}]
[null,null,null,null,null,null,null,null,null,null,{"$f":"IF(L396<>\"\",'Step 2) Calculate'!B400,\"Zzzzz - delete row\")","v":"Zzzzz - delete row"},{"$f":"IF('Step 2) Calculate'!E400<>\"\",'Step 2) Calculate'!G400,\"\")","v":""},{"$f":"IF(L396<>\"\",'Step 2) Calculate'!F400,\"\")","v":""},{"$f":"IF(L396<>\"\",'Step 2) Calculate'!H400,\"\")","v":""},{"$f":"IF(L396<>\"\",'Step 2) Calculate'!C400,\"\")","v":""}]
[null,null,null,null,null,null,null,null,null,null,{"$f":"IF(L397<>\"\",'Step 2) Calculate'!B401,\"Zzzzz - delete row\")","v":"Zzzzz - delete row"},{"$f":"IF('Step 2) Calculate'!E401<>\"\",'Step 2) Calculate'!G401,\"\")","v":""},{"$f":"IF(L397<>\"\",'Step 2) Calculate'!F401,\"\")","v":""},{"$f":"IF(L397<>\"\",'Step 2) Calculate'!H401,\"\")","v":""},{"$f":"IF(L397<>\"\",'Step 2) Calculate'!C401,\"\")","v":""}]
[null,null,null,null,null,null,null,null,null,null,{"$f":"IF(L398<>\"\",'Step 2) Calculate'!B402,\"Zzzzz - delete row\")","v":"Zzzzz - delete row"},{"$f":"IF('Step 2) Calculate'!E402<>\"\",'Step 2) Calculate'!G402,\"\")","v":""},{"$f":"IF(L398<>\"\",'Step 2) Calculate'!F402,\"\")","v":""},{"$f":"IF(L398<>\"\",'Step 2) Calculate'!H402,\"\")","v":""},{"$f":"IF(L398<>\"\",'Step 2) Calculate'!C402,\"\")","v":""}]
[null,null,null,null,null,null,null,null,null,null,{"$f":"IF(L399<>\"\",'Step 2) Calculate'!B403,\"Zzzzz - delete row\")","v":"Zzzzz - delete row"},{"$f":"IF('Step 2) Calculate'!E403<>\"\",'Step 2) Calculate'!G403,\"\")","v":""},{"$f":"IF(L399<>\"\",'Step 2) Calculate'!F403,\"\")","v":""},{"$f":"IF(L399<>\"\",'Step 2) Calculate'!H403,\"\")","v":""},{"$f":"IF(L399<>\"\",'Step 2) Calculate'!C403,\"\")","v":""}]
[null,null,null,null,null,null,null,null,null,null,{"$f":"IF(L400<>\"\",'Step 2) Calculate'!B404,\"Zzzzz - delete row\")","v":"Zzzzz - delete row"},{"$f":"IF('Step 2) Calculate'!E404<>\"\",'Step 2) Calculate'!G404,\"\")","v":""},{"$f":"IF(L400<>\"\",'Step 2) Calculate'!F404,\"\")","v":""},{"$f":"IF(L400<>\"\",'Step 2) Calculate'!H404,\"\")","v":""},{"$f":"IF(L400<>\"\",'Step 2) Calculate'!C404,\"\")","v":""}]
[null,null,null,null,null,null,null,null,null,null,{"$f":"IF(L401<>\"\",'Step 2) Calculate'!B405,\"Zzzzz - delete row\")","v":"Zzzzz - delete row"},{"$f":"IF('Step 2) Calculate'!E405<>\"\",'Step 2) Calculate'!G405,\"\")","v":""},{"$f":"IF(L401<>\"\",'Step 2) Calculate'!F405,\"\")","v":""},{"$f":"IF(L401<>\"\",'Step 2) Calculate'!H405,\"\")","v":""},{"$f":"IF(L401<>\"\",'Step 2) Calculate'!C405,\"\")","v":""}]
[null,null,null,null,null,null,null,null,null,null,{"$f":"IF(L402<>\"\",'Step 2) Calculate'!B406,\"Zzzzz - delete row\")","v":"Zzzzz - delete row"},{"$f":"IF('Step 2) Calculate'!E406<>\"\",'Step 2) Calculate'!G406,\"\")","v":""},{"$f":"IF(L402<>\"\",'Step 2) Calculate'!F406,\"\")","v":""},{"$f":"IF(L402<>\"\",'Step 2) Calculate'!H406,\"\")","v":""},{"$f":"IF(L402<>\"\",'Step 2) Calculate'!C406,\"\")","v":""}]
[null,null,null,null,null,null,null,null,null,null,{"$f":"IF(L403<>\"\",'Step 2) Calculate'!B407,\"Zzzzz - delete row\")","v":"Zzzzz - delete row"},{"$f":"IF('Step 2) Calculate'!E407<>\"\",'Step 2) Calculate'!G407,\"\")","v":""},{"$f":"IF(L403<>\"\",'Step 2) Calculate'!F407,\"\")","v":""},{"$f":"IF(L403<>\"\",'Step 2) Calculate'!H407,\"\")","v":""},{"$f":"IF(L403<>\"\",'Step 2) Calculate'!C407,\"\")","v":""}]
[null,null,null,null,null,null,null,null,null,null,{"$f":"IF(L404<>\"\",'Step 2) Calculate'!B408,\"Zzzzz - delete row\")","v":"Zzzzz - delete row"},{"$f":"IF('Step 2) Calculate'!E408<>\"\",'Step 2) Calculate'!G408,\"\")","v":""},{"$f":"IF(L404<>\"\",'Step 2) Calculate'!F408,\"\")","v":""},{"$f":"IF(L404<>\"\",'Step 2) Calculate'!H408,\"\")","v":""},{"$f":"IF(L404<>\"\",'Step 2) Calculate'!C408,\"\")","v":""}]
[null,null,null,null,null,null,null,null,null,null,{"$f":"IF(L405<>\"\",'Step 2) Calculate'!B409,\"Zzzzz - delete row\")","v":"Zzzzz - delete row"},{"$f":"IF('Step 2) Calculate'!E409<>\"\",'Step 2) Calculate'!G409,\"\")","v":""},{"$f":"IF(L405<>\"\",'Step 2) Calculate'!F409,\"\")","v":""},{"$f":"IF(L405<>\"\",'Step 2) Calculate'!H409,\"\")","v":""},{"$f":"IF(L405<>\"\",'Step 2) Calculate'!C409,\"\")","v":""}]
[null,null,null,null,null,null,null,null,null,null,{"$f":"IF(L406<>\"\",'Step 2) Calculate'!B410,\"Zzzzz - delete row\")","v":"Zzzzz - delete row"},{"$f":"IF('Step 2) Calculate'!E410<>\"\",'Step 2) Calculate'!G410,\"\")","v":""},{"$f":"IF(L406<>\"\",'Step 2) Calculate'!F410,\"\")","v":""},{"$f":"IF(L406<>\"\",'Step 2) Calculate'!H410,\"\")","v":""},{"$f":"IF(L406<>\"\",'Step 2) Calculate'!C410,\"\")","v":""}]
[null,null,null,null,null,null,null,null,null,null,{"$f":"IF(L407<>\"\",'Step 2) Calculate'!B411,\"Zzzzz - delete row\")","v":"Zzzzz - delete row"},{"$f":"IF('Step 2) Calculate'!E411<>\"\",'Step 2) Calculate'!G411,\"\")","v":""},{"$f":"IF(L407<>\"\",'Step 2) Calculate'!F411,\"\")","v":""},{"$f":"IF(L407<>\"\",'Step 2) Calculate'!H411,\"\")","v":""},{"$f":"IF(L407<>\"\",'Step 2) Calculate'!C411,\"\")","v":""}]
[null,null,null,null,null,null,null,null,null,null,{"$f":"IF(L408<>\"\",'Step 2) Calculate'!B412,\"Zzzzz - delete row\")","v":"Zzzzz - delete row"},{"$f":"IF('Step 2) Calculate'!E412<>\"\",'Step 2) Calculate'!G412,\"\")","v":""},{"$f":"IF(L408<>\"\",'Step 2) Calculate'!F412,\"\")","v":""},{"$f":"IF(L408<>\"\",'Step 2) Calculate'!H412,\"\")","v":""},{"$f":"IF(L408<>\"\",'Step 2) Calculate'!C412,\"\")","v":""}]
[null,null,null,null,null,null,null,null,null,null,{"$f":"IF(L409<>\"\",'Step 2) Calculate'!B413,\"Zzzzz - delete row\")","v":"Zzzzz - delete row"},{"$f":"IF('Step 2) Calculate'!E413<>\"\",'Step 2) Calculate'!G413,\"\")","v":""},{"$f":"IF(L409<>\"\",'Step 2) Calculate'!F413,\"\")","v":""},{"$f":"IF(L409<>\"\",'Step 2) Calculate'!H413,\"\")","v":""},{"$f":"IF(L409<>\"\",'Step 2) Calculate'!C413,\"\")","v":""}]
[null,null,null,null,null,null,null,null,null,null,{"$f":"IF(L410<>\"\",'Step 2) Calculate'!B414,\"Zzzzz - delete row\")","v":"Zzzzz - delete row"},{"$f":"IF('Step 2) Calculate'!E414<>\"\",'Step 2) Calculate'!G414,\"\")","v":""},{"$f":"IF(L410<>\"\",'Step 2) Calculate'!F414,\"\")","v":""},{"$f":"IF(L410<>\"\",'Step 2) Calculate'!H414,\"\")","v":""},{"$f":"IF(L410<>\"\",'Step 2) Calculate'!C414,\"\")","v":""}]
[null,null,null,null,null,null,null,null,null,null,{"$f":"IF(L411<>\"\",'Step 2) Calculate'!B415,\"Zzzzz - delete row\")","v":"Zzzzz - delete row"},{"$f":"IF('Step 2) Calculate'!E415<>\"\",'Step 2) Calculate'!G415,\"\")","v":""},{"$f":"IF(L411<>\"\",'Step 2) Calculate'!F415,\"\")","v":""},{"$f":"IF(L411<>\"\",'Step 2) Calculate'!H415,\"\")","v":""},{"$f":"IF(L411<>\"\",'Step 2) Calculate'!C415,\"\")","v":""}]
[null,null,null,null,null,null,null,null,null,null,{"$f":"IF(L412<>\"\",'Step 2) Calculate'!B416,\"Zzzzz - delete row\")","v":"Zzzzz - delete row"},{"$f":"IF('Step 2) Calculate'!E416<>\"\",'Step 2) Calculate'!G416,\"\")","v":""},{"$f":"IF(L412<>\"\",'Step 2) Calculate'!F416,\"\")","v":""},{"$f":"IF(L412<>\"\",'Step 2) Calculate'!H416,\"\")","v":""},{"$f":"IF(L412<>\"\",'Step 2) Calculate'!C416,\"\")","v":""}]
[null,null,null,null,null,null,null,null,null,null,{"$f":"IF(L413<>\"\",'Step 2) Calculate'!B417,\"Zzzzz - delete row\")","v":"Zzzzz - delete row"},{"$f":"IF('Step 2) Calculate'!E417<>\"\",'Step 2) Calculate'!G417,\"\")","v":""},{"$f":"IF(L413<>\"\",'Step 2) Calculate'!F417,\"\")","v":""},{"$f":"IF(L413<>\"\",'Step 2) Calculate'!H417,\"\")","v":""},{"$f":"IF(L413<>\"\",'Step 2) Calculate'!C417,\"\")","v":""}]
[null,null,null,null,null,null,null,null,null,null,{"$f":"IF(L414<>\"\",'Step 2) Calculate'!B418,\"Zzzzz - delete row\")","v":"Zzzzz - delete row"},{"$f":"IF('Step 2) Calculate'!E418<>\"\",'Step 2) Calculate'!G418,\"\")","v":""},{"$f":"IF(L414<>\"\",'Step 2) Calculate'!F418,\"\")","v":""},{"$f":"IF(L414<>\"\",'Step 2) Calculate'!H418,\"\")","v":""},{"$f":"IF(L414<>\"\",'Step 2) Calculate'!C418,\"\")","v":""}]
[null,null,null,null,null,null,null,null,null,null,{"$f":"IF(L415<>\"\",'Step 2) Calculate'!B419,\"Zzzzz - delete row\")","v":"Zzzzz - delete row"},{"$f":"IF('Step 2) Calculate'!E419<>\"\",'Step 2) Calculate'!G419,\"\")","v":""},{"$f":"IF(L415<>\"\",'Step 2) Calculate'!F419,\"\")","v":""},{"$f":"IF(L415<>\"\",'Step 2) Calculate'!H419,\"\")","v":""},{"$f":"IF(L415<>\"\",'Step 2) Calculate'!C419,\"\")","v":""}]
[null,null,null,null,null,null,null,null,null,null,{"$f":"IF(L416<>\"\",'Step 2) Calculate'!B420,\"Zzzzz - delete row\")","v":"Zzzzz - delete row"},{"$f":"IF('Step 2) Calculate'!E420<>\"\",'Step 2) Calculate'!G420,\"\")","v":""},{"$f":"IF(L416<>\"\",'Step 2) Calculate'!F420,\"\")","v":""},{"$f":"IF(L416<>\"\",'Step 2) Calculate'!H420,\"\")","v":""},{"$f":"IF(L416<>\"\",'Step 2) Calculate'!C420,\"\")","v":""}]
[null,null,null,null,null,null,null,null,null,null,{"$f":"IF(L417<>\"\",'Step 2) Calculate'!B421,\"Zzzzz - delete row\")","v":"Zzzzz - delete row"},{"$f":"IF('Step 2) Calculate'!E421<>\"\",'Step 2) Calculate'!G421,\"\")","v":""},{"$f":"IF(L417<>\"\",'Step 2) Calculate'!F421,\"\")","v":""},{"$f":"IF(L417<>\"\",'Step 2) Calculate'!H421,\"\")","v":""},{"$f":"IF(L417<>\"\",'Step 2) Calculate'!C421,\"\")","v":""}]
[null,null,null,null,null,null,null,null,null,null,{"$f":"IF(L418<>\"\",'Step 2) Calculate'!B422,\"Zzzzz - delete row\")","v":"Zzzzz - delete row"},{"$f":"IF('Step 2) Calculate'!E422<>\"\",'Step 2) Calculate'!G422,\"\")","v":""},{"$f":"IF(L418<>\"\",'Step 2) Calculate'!F422,\"\")","v":""},{"$f":"IF(L418<>\"\",'Step 2) Calculate'!H422,\"\")","v":""},{"$f":"IF(L418<>\"\",'Step 2) Calculate'!C422,\"\")","v":""}]
[null,null,null,null,null,null,null,null,null,null,{"$f":"IF(L419<>\"\",'Step 2) Calculate'!B423,\"Zzzzz - delete row\")","v":"Zzzzz - delete row"},{"$f":"IF('Step 2) Calculate'!E423<>\"\",'Step 2) Calculate'!G423,\"\")","v":""},{"$f":"IF(L419<>\"\",'Step 2) Calculate'!F423,\"\")","v":""},{"$f":"IF(L419<>\"\",'Step 2) Calculate'!H423,\"\")","v":""},{"$f":"IF(L419<>\"\",'Step 2) Calculate'!C423,\"\")","v":""}]
[null,null,null,null,null,null,null,null,null,null,{"$f":"IF(L420<>\"\",'Step 2) Calculate'!B424,\"Zzzzz - delete row\")","v":"Zzzzz - delete row"},{"$f":"IF('Step 2) Calculate'!E424<>\"\",'Step 2) Calculate'!G424,\"\")","v":""},{"$f":"IF(L420<>\"\",'Step 2) Calculate'!F424,\"\")","v":""},{"$f":"IF(L420<>\"\",'Step 2) Calculate'!H424,\"\")","v":""},{"$f":"IF(L420<>\"\",'Step 2) Calculate'!C424,\"\")","v":""}]
[null,null,null,null,null,null,null,null,null,null,{"$f":"IF(L421<>\"\",'Step 2) Calculate'!B425,\"Zzzzz - delete row\")","v":"Zzzzz - delete row"},{"$f":"IF('Step 2) Calculate'!E425<>\"\",'Step 2) Calculate'!G425,\"\")","v":""},{"$f":"IF(L421<>\"\",'Step 2) Calculate'!F425,\"\")","v":""},{"$f":"IF(L421<>\"\",'Step 2) Calculate'!H425,\"\")","v":""},{"$f":"IF(L421<>\"\",'Step 2) Calculate'!C425,\"\")","v":""}]
[null,null,null,null,null,null,null,null,null,null,{"$f":"IF(L422<>\"\",'Step 2) Calculate'!B426,\"Zzzzz - delete row\")","v":"Zzzzz - delete row"},{"$f":"IF('Step 2) Calculate'!E426<>\"\",'Step 2) Calculate'!G426,\"\")","v":""},{"$f":"IF(L422<>\"\",'Step 2) Calculate'!F426,\"\")","v":""},{"$f":"IF(L422<>\"\",'Step 2) Calculate'!H426,\"\")","v":""},{"$f":"IF(L422<>\"\",'Step 2) Calculate'!C426,\"\")","v":""}]
[null,null,null,null,null,null,null,null,null,null,{"$f":"IF(L423<>\"\",'Step 2) Calculate'!B427,\"Zzzzz - delete row\")","v":"Zzzzz - delete row"},{"$f":"IF('Step 2) Calculate'!E427<>\"\",'Step 2) Calculate'!G427,\"\")","v":""},{"$f":"IF(L423<>\"\",'Step 2) Calculate'!F427,\"\")","v":""},{"$f":"IF(L423<>\"\",'Step 2) Calculate'!H427,\"\")","v":""},{"$f":"IF(L423<>\"\",'Step 2) Calculate'!C427,\"\")","v":""}]
[null,null,null,null,null,null,null,null,null,null,{"$f":"IF(L424<>\"\",'Step 2) Calculate'!B428,\"Zzzzz - delete row\")","v":"Zzzzz - delete row"},{"$f":"IF('Step 2) Calculate'!E428<>\"\",'Step 2) Calculate'!G428,\"\")","v":""},{"$f":"IF(L424<>\"\",'Step 2) Calculate'!F428,\"\")","v":""},{"$f":"IF(L424<>\"\",'Step 2) Calculate'!H428,\"\")","v":""},{"$f":"IF(L424<>\"\",'Step 2) Calculate'!C428,\"\")","v":""}]
[null,null,null,null,null,null,null,null,null,null,{"$f":"IF(L425<>\"\",'Step 2) Calculate'!B429,\"Zzzzz - delete row\")","v":"Zzzzz - delete row"},{"$f":"IF('Step 2) Calculate'!E429<>\"\",'Step 2) Calculate'!G429,\"\")","v":""},{"$f":"IF(L425<>\"\",'Step 2) Calculate'!F429,\"\")","v":""},{"$f":"IF(L425<>\"\",'Step 2) Calculate'!H429,\"\")","v":""},{"$f":"IF(L425<>\"\",'Step 2) Calculate'!C429,\"\")","v":""}]
[null,null,null,null,null,null,null,null,null,null,{"$f":"IF(L426<>\"\",'Step 2) Calculate'!B430,\"Zzzzz - delete row\")","v":"Zzzzz - delete row"},{"$f":"IF('Step 2) Calculate'!E430<>\"\",'Step 2) Calculate'!G430,\"\")","v":""},{"$f":"IF(L426<>\"\",'Step 2) Calculate'!F430,\"\")","v":""},{"$f":"IF(L426<>\"\",'Step 2) Calculate'!H430,\"\")","v":""},{"$f":"IF(L426<>\"\",'Step 2) Calculate'!C430,\"\")","v":""}]
[null,null,null,null,null,null,null,null,null,null,{"$f":"IF(L427<>\"\",'Step 2) Calculate'!B431,\"Zzzzz - delete row\")","v":"Zzzzz - delete row"},{"$f":"IF('Step 2) Calculate'!E431<>\"\",'Step 2) Calculate'!G431,\"\")","v":""},{"$f":"IF(L427<>\"\",'Step 2) Calculate'!F431,\"\")","v":""},{"$f":"IF(L427<>\"\",'Step 2) Calculate'!H431,\"\")","v":""},{"$f":"IF(L427<>\"\",'Step 2) Calculate'!C431,\"\")","v":""}]
[null,null,null,null,null,null,null,null,null,null,{"$f":"IF(L428<>\"\",'Step 2) Calculate'!B432,\"Zzzzz - delete row\")","v":"Zzzzz - delete row"},{"$f":"IF('Step 2) Calculate'!E432<>\"\",'Step 2) Calculate'!G432,\"\")","v":""},{"$f":"IF(L428<>\"\",'Step 2) Calculate'!F432,\"\")","v":""},{"$f":"IF(L428<>\"\",'Step 2) Calculate'!H432,\"\")","v":""},{"$f":"IF(L428<>\"\",'Step 2) Calculate'!C432,\"\")","v":""}]
[null,null,null,null,null,null,null,null,null,null,{"$f":"IF(L429<>\"\",'Step 2) Calculate'!B433,\"Zzzzz - delete row\")","v":"Zzzzz - delete row"},{"$f":"IF('Step 2) Calculate'!E433<>\"\",'Step 2) Calculate'!G433,\"\")","v":""},{"$f":"IF(L429<>\"\",'Step 2) Calculate'!F433,\"\")","v":""},{"$f":"IF(L429<>\"\",'Step 2) Calculate'!H433,\"\")","v":""},{"$f":"IF(L429<>\"\",'Step 2) Calculate'!C433,\"\")","v":""}]
[null,null,null,null,null,null,null,null,null,null,{"$f":"IF(L430<>\"\",'Step 2) Calculate'!B434,\"Zzzzz - delete row\")","v":"Zzzzz - delete row"},{"$f":"IF('Step 2) Calculate'!E434<>\"\",'Step 2) Calculate'!G434,\"\")","v":""},{"$f":"IF(L430<>\"\",'Step 2) Calculate'!F434,\"\")","v":""},{"$f":"IF(L430<>\"\",'Step 2) Calculate'!H434,\"\")","v":""},{"$f":"IF(L430<>\"\",'Step 2) Calculate'!C434,\"\")","v":""}]
[null,null,null,null,null,null,null,null,null,null,{"$f":"IF(L431<>\"\",'Step 2) Calculate'!B435,\"Zzzzz - delete row\")","v":"Zzzzz - delete row"},{"$f":"IF('Step 2) Calculate'!E435<>\"\",'Step 2) Calculate'!G435,\"\")","v":""},{"$f":"IF(L431<>\"\",'Step 2) Calculate'!F435,\"\")","v":""},{"$f":"IF(L431<>\"\",'Step 2) Calculate'!H435,\"\")","v":""},{"$f":"IF(L431<>\"\",'Step 2) Calculate'!C435,\"\")","v":""}]
[null,null,null,null,null,null,null,null,null,null,{"$f":"IF(L432<>\"\",'Step 2) Calculate'!B436,\"Zzzzz - delete row\")","v":"Zzzzz - delete row"},{"$f":"IF('Step 2) Calculate'!E436<>\"\",'Step 2) Calculate'!G436,\"\")","v":""},{"$f":"IF(L432<>\"\",'Step 2) Calculate'!F436,\"\")","v":""},{"$f":"IF(L432<>\"\",'Step 2) Calculate'!H436,\"\")","v":""},{"$f":"IF(L432<>\"\",'Step 2) Calculate'!C436,\"\")","v":""}]
[null,null,null,null,null,null,null,null,null,null,{"$f":"IF(L433<>\"\",'Step 2) Calculate'!B437,\"Zzzzz - delete row\")","v":"Zzzzz - delete row"},{"$f":"IF('Step 2) Calculate'!E437<>\"\",'Step 2) Calculate'!G437,\"\")","v":""},{"$f":"IF(L433<>\"\",'Step 2) Calculate'!F437,\"\")","v":""},{"$f":"IF(L433<>\"\",'Step 2) Calculate'!H437,\"\")","v":""},{"$f":"IF(L433<>\"\",'Step 2) Calculate'!C437,\"\")","v":""}]
[null,null,null,null,null,null,null,null,null,null,{"$f":"IF(L434<>\"\",'Step 2) Calculate'!B438,\"Zzzzz - delete row\")","v":"Zzzzz - delete row"},{"$f":"IF('Step 2) Calculate'!E438<>\"\",'Step 2) Calculate'!G438,\"\")","v":""},{"$f":"IF(L434<>\"\",'Step 2) Calculate'!F438,\"\")","v":""},{"$f":"IF(L434<>\"\",'Step 2) Calculate'!H438,\"\")","v":""},{"$f":"IF(L434<>\"\",'Step 2) Calculate'!C438,\"\")","v":""}]
[null,null,null,null,null,null,null,null,null,null,{"$f":"IF(L435<>\"\",'Step 2) Calculate'!B439,\"Zzzzz - delete row\")","v":"Zzzzz - delete row"},{"$f":"IF('Step 2) Calculate'!E439<>\"\",'Step 2) Calculate'!G439,\"\")","v":""},{"$f":"IF(L435<>\"\",'Step 2) Calculate'!F439,\"\")","v":""},{"$f":"IF(L435<>\"\",'Step 2) Calculate'!H439,\"\")","v":""},{"$f":"IF(L435<>\"\",'Step 2) Calculate'!C439,\"\")","v":""}]
[null,null,null,null,null,null,null,null,null,null,{"$f":"IF(L436<>\"\",'Step 2) Calculate'!B440,\"Zzzzz - delete row\")","v":"Zzzzz - delete row"},{"$f":"IF('Step 2) Calculate'!E440<>\"\",'Step 2) Calculate'!G440,\"\")","v":""},{"$f":"IF(L436<>\"\",'Step 2) Calculate'!F440,\"\")","v":""},{"$f":"IF(L436<>\"\",'Step 2) Calculate'!H440,\"\")","v":""},{"$f":"IF(L436<>\"\",'Step 2) Calculate'!C440,\"\")","v":""}]
[null,null,null,null,null,null,null,null,null,null,{"$f":"IF(L437<>\"\",'Step 2) Calculate'!B441,\"Zzzzz - delete row\")","v":"Zzzzz - delete row"},{"$f":"IF('Step 2) Calculate'!E441<>\"\",'Step 2) Calculate'!G441,\"\")","v":""},{"$f":"IF(L437<>\"\",'Step 2) Calculate'!F441,\"\")","v":""},{"$f":"IF(L437<>\"\",'Step 2) Calculate'!H441,\"\")","v":""},{"$f":"IF(L437<>\"\",'Step 2) Calculate'!C441,\"\")","v":""}]
[null,null,null,null,null,null,null,null,null,null,{"$f":"IF(L438<>\"\",'Step 2) Calculate'!B442,\"Zzzzz - delete row\")","v":"Zzzzz - delete row"},{"$f":"IF('Step 2) Calculate'!E442<>\"\",'Step 2) Calculate'!G442,\"\")","v":""},{"$f":"IF(L438<>\"\",'Step 2) Calculate'!F442,\"\")","v":""},{"$f":"IF(L438<>\"\",'Step 2) Calculate'!H442,\"\")","v":""},{"$f":"IF(L438<>\"\",'Step 2) Calculate'!C442,\"\")","v":""}]
[null,null,null,null,null,null,null,null,null,null,{"$f":"IF(L439<>\"\",'Step 2) Calculate'!B443,\"Zzzzz - delete row\")","v":"Zzzzz - delete row"},{"$f":"IF('Step 2) Calculate'!E443<>\"\",'Step 2) Calculate'!G443,\"\")","v":""},{"$f":"IF(L439<>\"\",'Step 2) Calculate'!F443,\"\")","v":""},{"$f":"IF(L439<>\"\",'Step 2) Calculate'!H443,\"\")","v":""},{"$f":"IF(L439<>\"\",'Step 2) Calculate'!C443,\"\")","v":""}]
[null,null,null,null,null,null,null,null,null,null,{"$f":"IF(L440<>\"\",'Step 2) Calculate'!B444,\"Zzzzz - delete row\")","v":"Zzzzz - delete row"},{"$f":"IF('Step 2) Calculate'!E444<>\"\",'Step 2) Calculate'!G444,\"\")","v":""},{"$f":"IF(L440<>\"\",'Step 2) Calculate'!F444,\"\")","v":""},{"$f":"IF(L440<>\"\",'Step 2) Calculate'!H444,\"\")","v":""},{"$f":"IF(L440<>\"\",'Step 2) Calculate'!C444,\"\")","v":""}]
[null,null,null,null,null,null,null,null,null,null,{"$f":"IF(L441<>\"\",'Step 2) Calculate'!B445,\"Zzzzz - delete row\")","v":"Zzzzz - delete row"},{"$f":"IF('Step 2) Calculate'!E445<>\"\",'Step 2) Calculate'!G445,\"\")","v":""},{"$f":"IF(L441<>\"\",'Step 2) Calculate'!F445,\"\")","v":""},{"$f":"IF(L441<>\"\",'Step 2) Calculate'!H445,\"\")","v":""},{"$f":"IF(L441<>\"\",'Step 2) Calculate'!C445,\"\")","v":""}]
[null,null,null,null,null,null,null,null,null,null,{"$f":"IF(L442<>\"\",'Step 2) Calculate'!B446,\"Zzzzz - delete row\")","v":"Zzzzz - delete row"},{"$f":"IF('Step 2) Calculate'!E446<>\"\",'Step 2) Calculate'!G446,\"\")","v":""},{"$f":"IF(L442<>\"\",'Step 2) Calculate'!F446,\"\")","v":""},{"$f":"IF(L442<>\"\",'Step 2) Calculate'!H446,\"\")","v":""},{"$f":"IF(L442<>\"\",'Step 2) Calculate'!C446,\"\")","v":""}]
[null,null,null,null,null,null,null,null,null,null,{"$f":"IF(L443<>\"\",'Step 2) Calculate'!B447,\"Zzzzz - delete row\")","v":"Zzzzz - delete row"},{"$f":"IF('Step 2) Calculate'!E447<>\"\",'Step 2) Calculate'!G447,\"\")","v":""},{"$f":"IF(L443<>\"\",'Step 2) Calculate'!F447,\"\")","v":""},{"$f":"IF(L443<>\"\",'Step 2) Calculate'!H447,\"\")","v":""},{"$f":"IF(L443<>\"\",'Step 2) Calculate'!C447,\"\")","v":""}]
[null,null,null,null,null,null,null,null,null,null,{"$f":"IF(L444<>\"\",'Step 2) Calculate'!B448,\"Zzzzz - delete row\")","v":"Zzzzz - delete row"},{"$f":"IF('Step 2) Calculate'!E448<>\"\",'Step 2) Calculate'!G448,\"\")","v":""},{"$f":"IF(L444<>\"\",'Step 2) Calculate'!F448,\"\")","v":""},{"$f":"IF(L444<>\"\",'Step 2) Calculate'!H448,\"\")","v":""},{"$f":"IF(L444<>\"\",'Step 2) Calculate'!C448,\"\")","v":""}]
[null,null,null,null,null,null,null,null,null,null,{"$f":"IF(L445<>\"\",'Step 2) Calculate'!B449,\"Zzzzz - delete row\")","v":"Zzzzz - delete row"},{"$f":"IF('Step 2) Calculate'!E449<>\"\",'Step 2) Calculate'!G449,\"\")","v":""},{"$f":"IF(L445<>\"\",'Step 2) Calculate'!F449,\"\")","v":""},{"$f":"IF(L445<>\"\",'Step 2) Calculate'!H449,\"\")","v":""},{"$f":"IF(L445<>\"\",'Step 2) Calculate'!C449,\"\")","v":""}]
[null,null,null,null,null,null,null,null,null,null,{"$f":"IF(L446<>\"\",'Step 2) Calculate'!B450,\"Zzzzz - delete row\")","v":"Zzzzz - delete row"},{"$f":"IF('Step 2) Calculate'!E450<>\"\",'Step 2) Calculate'!G450,\"\")","v":""},{"$f":"IF(L446<>\"\",'Step 2) Calculate'!F450,\"\")","v":""},{"$f":"IF(L446<>\"\",'Step 2) Calculate'!H450,\"\")","v":""},{"$f":"IF(L446<>\"\",'Step 2) Calculate'!C450,\"\")","v":""}]
[null,null,null,null,null,null,null,null,null,null,{"$f":"IF(L447<>\"\",'Step 2) Calculate'!B451,\"Zzzzz - delete row\")","v":"Zzzzz - delete row"},{"$f":"IF('Step 2) Calculate'!E451<>\"\",'Step 2) Calculate'!G451,\"\")","v":""},{"$f":"IF(L447<>\"\",'Step 2) Calculate'!F451,\"\")","v":""},{"$f":"IF(L447<>\"\",'Step 2) Calculate'!H451,\"\")","v":""},{"$f":"IF(L447<>\"\",'Step 2) Calculate'!C451,\"\")","v":""}]
[null,null,null,null,null,null,null,null,null,null,{"$f":"IF(L448<>\"\",'Step 2) Calculate'!B452,\"Zzzzz - delete row\")","v":"Zzzzz - delete row"},{"$f":"IF('Step 2) Calculate'!E452<>\"\",'Step 2) Calculate'!G452,\"\")","v":""},{"$f":"IF(L448<>\"\",'Step 2) Calculate'!F452,\"\")","v":""},{"$f":"IF(L448<>\"\",'Step 2) Calculate'!H452,\"\")","v":""},{"$f":"IF(L448<>\"\",'Step 2) Calculate'!C452,\"\")","v":""}]
[null,null,null,null,null,null,null,null,null,null,{"$f":"IF(L449<>\"\",'Step 2) Calculate'!B453,\"Zzzzz - delete row\")","v":"Zzzzz - delete row"},{"$f":"IF('Step 2) Calculate'!E453<>\"\",'Step 2) Calculate'!G453,\"\")","v":""},{"$f":"IF(L449<>\"\",'Step 2) Calculate'!F453,\"\")","v":""},{"$f":"IF(L449<>\"\",'Step 2) Calculate'!H453,\"\")","v":""},{"$f":"IF(L449<>\"\",'Step 2) Calculate'!C453,\"\")","v":""}]
[null,null,null,null,null,null,null,null,null,null,{"$f":"IF(L450<>\"\",'Step 2) Calculate'!B454,\"Zzzzz - delete row\")","v":"Zzzzz - delete row"},{"$f":"IF('Step 2) Calculate'!E454<>\"\",'Step 2) Calculate'!G454,\"\")","v":""},{"$f":"IF(L450<>\"\",'Step 2) Calculate'!F454,\"\")","v":""},{"$f":"IF(L450<>\"\",'Step 2) Calculate'!H454,\"\")","v":""},{"$f":"IF(L450<>\"\",'Step 2) Calculate'!C454,\"\")","v":""}]
[null,null,null,null,null,null,null,null,null,null,{"$f":"IF(L451<>\"\",'Step 2) Calculate'!B455,\"Zzzzz - delete row\")","v":"Zzzzz - delete row"},{"$f":"IF('Step 2) Calculate'!E455<>\"\",'Step 2) Calculate'!G455,\"\")","v":""},{"$f":"IF(L451<>\"\",'Step 2) Calculate'!F455,\"\")","v":""},{"$f":"IF(L451<>\"\",'Step 2) Calculate'!H455,\"\")","v":""},{"$f":"IF(L451<>\"\",'Step 2) Calculate'!C455,\"\")","v":""}]
[null,null,null,null,null,null,null,null,null,null,{"$f":"IF(L452<>\"\",'Step 2) Calculate'!B456,\"Zzzzz - delete row\")","v":"Zzzzz - delete row"},{"$f":"IF('Step 2) Calculate'!E456<>\"\",'Step 2) Calculate'!G456,\"\")","v":""},{"$f":"IF(L452<>\"\",'Step 2) Calculate'!F456,\"\")","v":""},{"$f":"IF(L452<>\"\",'Step 2) Calculate'!H456,\"\")","v":""},{"$f":"IF(L452<>\"\",'Step 2) Calculate'!C456,\"\")","v":""}]
[null,null,null,null,null,null,null,null,null,null,{"$f":"IF(L453<>\"\",'Step 2) Calculate'!B457,\"Zzzzz - delete row\")","v":"Zzzzz - delete row"},{"$f":"IF('Step 2) Calculate'!E457<>\"\",'Step 2) Calculate'!G457,\"\")","v":""},{"$f":"IF(L453<>\"\",'Step 2) Calculate'!F457,\"\")","v":""},{"$f":"IF(L453<>\"\",'Step 2) Calculate'!H457,\"\")","v":""},{"$f":"IF(L453<>\"\",'Step 2) Calculate'!C457,\"\")","v":""}]
[null,null,null,null,null,null,null,null,null,null,{"$f":"IF(L454<>\"\",'Step 2) Calculate'!B458,\"Zzzzz - delete row\")","v":"Zzzzz - delete row"},{"$f":"IF('Step 2) Calculate'!E458<>\"\",'Step 2) Calculate'!G458,\"\")","v":""},{"$f":"IF(L454<>\"\",'Step 2) Calculate'!F458,\"\")","v":""},{"$f":"IF(L454<>\"\",'Step 2) Calculate'!H458,\"\")","v":""},{"$f":"IF(L454<>\"\",'Step 2) Calculate'!C458,\"\")","v":""}]
[null,null,null,null,null,null,null,null,null,null,{"$f":"IF(L455<>\"\",'Step 2) Calculate'!B459,\"Zzzzz - delete row\")","v":"Zzzzz - delete row"},{"$f":"IF('Step 2) Calculate'!E459<>\"\",'Step 2) Calculate'!G459,\"\")","v":""},{"$f":"IF(L455<>\"\",'Step 2) Calculate'!F459,\"\")","v":""},{"$f":"IF(L455<>\"\",'Step 2) Calculate'!H459,\"\")","v":""},{"$f":"IF(L455<>\"\",'Step 2) Calculate'!C459,\"\")","v":""}]
[null,null,null,null,null,null,null,null,null,null,{"$f":"IF(L456<>\"\",'Step 2) Calculate'!B460,\"Zzzzz - delete row\")","v":"Zzzzz - delete row"},{"$f":"IF('Step 2) Calculate'!E460<>\"\",'Step 2) Calculate'!G460,\"\")","v":""},{"$f":"IF(L456<>\"\",'Step 2) Calculate'!F460,\"\")","v":""},{"$f":"IF(L456<>\"\",'Step 2) Calculate'!H460,\"\")","v":""},{"$f":"IF(L456<>\"\",'Step 2) Calculate'!C460,\"\")","v":""}]
[null,null,null,null,null,null,null,null,null,null,{"$f":"IF(L457<>\"\",'Step 2) Calculate'!B461,\"Zzzzz - delete row\")","v":"Zzzzz - delete row"},{"$f":"IF('Step 2) Calculate'!E461<>\"\",'Step 2) Calculate'!G461,\"\")","v":""},{"$f":"IF(L457<>\"\",'Step 2) Calculate'!F461,\"\")","v":""},{"$f":"IF(L457<>\"\",'Step 2) Calculate'!H461,\"\")","v":""},{"$f":"IF(L457<>\"\",'Step 2) Calculate'!C461,\"\")","v":""}]
[null,null,null,null,null,null,null,null,null,null,{"$f":"IF(L458<>\"\",'Step 2) Calculate'!B462,\"Zzzzz - delete row\")","v":"Zzzzz - delete row"},{"$f":"IF('Step 2) Calculate'!E462<>\"\",'Step 2) Calculate'!G462,\"\")","v":""},{"$f":"IF(L458<>\"\",'Step 2) Calculate'!F462,\"\")","v":""},{"$f":"IF(L458<>\"\",'Step 2) Calculate'!H462,\"\")","v":""},{"$f":"IF(L458<>\"\",'Step 2) Calculate'!C462,\"\")","v":""}]
[null,null,null,null,null,null,null,null,null,null,{"$f":"IF(L459<>\"\",'Step 2) Calculate'!B463,\"Zzzzz - delete row\")","v":"Zzzzz - delete row"},{"$f":"IF('Step 2) Calculate'!E463<>\"\",'Step 2) Calculate'!G463,\"\")","v":""},{"$f":"IF(L459<>\"\",'Step 2) Calculate'!F463,\"\")","v":""},{"$f":"IF(L459<>\"\",'Step 2) Calculate'!H463,\"\")","v":""},{"$f":"IF(L459<>\"\",'Step 2) Calculate'!C463,\"\")","v":""}]
[null,null,null,null,null,null,null,null,null,null,{"$f":"IF(L460<>\"\",'Step 2) Calculate'!B464,\"Zzzzz - delete row\")","v":"Zzzzz - delete row"},{"$f":"IF('Step 2) Calculate'!E464<>\"\",'Step 2) Calculate'!G464,\"\")","v":""},{"$f":"IF(L460<>\"\",'Step 2) Calculate'!F464,\"\")","v":""},{"$f":"IF(L460<>\"\",'Step 2) Calculate'!H464,\"\")","v":""},{"$f":"IF(L460<>\"\",'Step 2) Calculate'!C464,\"\")","v":""}]
[null,null,null,null,null,null,null,null,null,null,{"$f":"IF(L461<>\"\",'Step 2) Calculate'!B465,\"Zzzzz - delete row\")","v":"Zzzzz - delete row"},{"$f":"IF('Step 2) Calculate'!E465<>\"\",'Step 2) Calculate'!G465,\"\")","v":""},{"$f":"IF(L461<>\"\",'Step 2) Calculate'!F465,\"\")","v":""},{"$f":"IF(L461<>\"\",'Step 2) Calculate'!H465,\"\")","v":""},{"$f":"IF(L461<>\"\",'Step 2) Calculate'!C465,\"\")","v":""}]
[null,null,null,null,null,null,null,null,null,null,{"$f":"IF(L462<>\"\",'Step 2) Calculate'!B466,\"Zzzzz - delete row\")","v":"Zzzzz - delete row"},{"$f":"IF('Step 2) Calculate'!E466<>\"\",'Step 2) Calculate'!G466,\"\")","v":""},{"$f":"IF(L462<>\"\",'Step 2) Calculate'!F466,\"\")","v":""},{"$f":"IF(L462<>\"\",'Step 2) Calculate'!H466,\"\")","v":""},{"$f":"IF(L462<>\"\",'Step 2) Calculate'!C466,\"\")","v":""}]
[null,null,null,null,null,null,null,null,null,null,{"$f":"IF(L463<>\"\",'Step 2) Calculate'!B467,\"Zzzzz - delete row\")","v":"Zzzzz - delete row"},{"$f":"IF('Step 2) Calculate'!E467<>\"\",'Step 2) Calculate'!G467,\"\")","v":""},{"$f":"IF(L463<>\"\",'Step 2) Calculate'!F467,\"\")","v":""},{"$f":"IF(L463<>\"\",'Step 2) Calculate'!H467,\"\")","v":""},{"$f":"IF(L463<>\"\",'Step 2) Calculate'!C467,\"\")","v":""}]
[null,null,null,null,null,null,null,null,null,null,{"$f":"IF(L464<>\"\",'Step 2) Calculate'!B468,\"Zzzzz - delete row\")","v":"Zzzzz - delete row"},{"$f":"IF('Step 2) Calculate'!E468<>\"\",'Step 2) Calculate'!G468,\"\")","v":""},{"$f":"IF(L464<>\"\",'Step 2) Calculate'!F468,\"\")","v":""},{"$f":"IF(L464<>\"\",'Step 2) Calculate'!H468,\"\")","v":""},{"$f":"IF(L464<>\"\",'Step 2) Calculate'!C468,\"\")","v":""}]
[null,null,null,null,null,null,null,null,null,null,{"$f":"IF(L465<>\"\",'Step 2) Calculate'!B469,\"Zzzzz - delete row\")","v":"Zzzzz - delete row"},{"$f":"IF('Step 2) Calculate'!E469<>\"\",'Step 2) Calculate'!G469,\"\")","v":""},{"$f":"IF(L465<>\"\",'Step 2) Calculate'!F469,\"\")","v":""},{"$f":"IF(L465<>\"\",'Step 2) Calculate'!H469,\"\")","v":""},{"$f":"IF(L465<>\"\",'Step 2) Calculate'!C469,\"\")","v":""}]
[null,null,null,null,null,null,null,null,null,null,{"$f":"IF(L466<>\"\",'Step 2) Calculate'!B470,\"Zzzzz - delete row\")","v":"Zzzzz - delete row"},{"$f":"IF('Step 2) Calculate'!E470<>\"\",'Step 2) Calculate'!G470,\"\")","v":""},{"$f":"IF(L466<>\"\",'Step 2) Calculate'!F470,\"\")","v":""},{"$f":"IF(L466<>\"\",'Step 2) Calculate'!H470,\"\")","v":""},{"$f":"IF(L466<>\"\",'Step 2) Calculate'!C470,\"\")","v":""}]
[null,null,null,null,null,null,null,null,null,null,{"$f":"IF(L467<>\"\",'Step 2) Calculate'!B471,\"Zzzzz - delete row\")","v":"Zzzzz - delete row"},{"$f":"IF('Step 2) Calculate'!E471<>\"\",'Step 2) Calculate'!G471,\"\")","v":""},{"$f":"IF(L467<>\"\",'Step 2) Calculate'!F471,\"\")","v":""},{"$f":"IF(L467<>\"\",'Step 2) Calculate'!H471,\"\")","v":""},{"$f":"IF(L467<>\"\",'Step 2) Calculate'!C471,\"\")","v":""}]
[null,null,null,null,null,null,null,null,null,null,{"$f":"IF(L468<>\"\",'Step 2) Calculate'!B472,\"Zzzzz - delete row\")","v":"Zzzzz - delete row"},{"$f":"IF('Step 2) Calculate'!E472<>\"\",'Step 2) Calculate'!G472,\"\")","v":""},{"$f":"IF(L468<>\"\",'Step 2) Calculate'!F472,\"\")","v":""},{"$f":"IF(L468<>\"\",'Step 2) Calculate'!H472,\"\")","v":""},{"$f":"IF(L468<>\"\",'Step 2) Calculate'!C472,\"\")","v":""}]
[null,null,null,null,null,null,null,null,null,null,{"$f":"IF(L469<>\"\",'Step 2) Calculate'!B473,\"Zzzzz - delete row\")","v":"Zzzzz - delete row"},{"$f":"IF('Step 2) Calculate'!E473<>\"\",'Step 2) Calculate'!G473,\"\")","v":""},{"$f":"IF(L469<>\"\",'Step 2) Calculate'!F473,\"\")","v":""},{"$f":"IF(L469<>\"\",'Step 2) Calculate'!H473,\"\")","v":""},{"$f":"IF(L469<>\"\",'Step 2) Calculate'!C473,\"\")","v":""}]
[null,null,null,null,null,null,null,null,null,null,{"$f":"IF(L470<>\"\",'Step 2) Calculate'!B474,\"Zzzzz - delete row\")","v":"Zzzzz - delete row"},{"$f":"IF('Step 2) Calculate'!E474<>\"\",'Step 2) Calculate'!G474,\"\")","v":""},{"$f":"IF(L470<>\"\",'Step 2) Calculate'!F474,\"\")","v":""},{"$f":"IF(L470<>\"\",'Step 2) Calculate'!H474,\"\")","v":""},{"$f":"IF(L470<>\"\",'Step 2) Calculate'!C474,\"\")","v":""}]
[null,null,null,null,null,null,null,null,null,null,{"$f":"IF(L471<>\"\",'Step 2) Calculate'!B475,\"Zzzzz - delete row\")","v":"Zzzzz - delete row"},{"$f":"IF('Step 2) Calculate'!E475<>\"\",'Step 2) Calculate'!G475,\"\")","v":""},{"$f":"IF(L471<>\"\",'Step 2) Calculate'!F475,\"\")","v":""},{"$f":"IF(L471<>\"\",'Step 2) Calculate'!H475,\"\")","v":""},{"$f":"IF(L471<>\"\",'Step 2) Calculate'!C475,\"\")","v":""}]
[null,null,null,null,null,null,null,null,null,null,{"$f":"IF(L472<>\"\",'Step 2) Calculate'!B476,\"Zzzzz - delete row\")","v":"Zzzzz - delete row"},{"$f":"IF('Step 2) Calculate'!E476<>\"\",'Step 2) Calculate'!G476,\"\")","v":""},{"$f":"IF(L472<>\"\",'Step 2) Calculate'!F476,\"\")","v":""},{"$f":"IF(L472<>\"\",'Step 2) Calculate'!H476,\"\")","v":""},{"$f":"IF(L472<>\"\",'Step 2) Calculate'!C476,\"\")","v":""}]
[null,null,null,null,null,null,null,null,null,null,{"$f":"IF(L473<>\"\",'Step 2) Calculate'!B477,\"Zzzzz - delete row\")","v":"Zzzzz - delete row"},{"$f":"IF('Step 2) Calculate'!E477<>\"\",'Step 2) Calculate'!G477,\"\")","v":""},{"$f":"IF(L473<>\"\",'Step 2) Calculate'!F477,\"\")","v":""},{"$f":"IF(L473<>\"\",'Step 2) Calculate'!H477,\"\")","v":""},{"$f":"IF(L473<>\"\",'Step 2) Calculate'!C477,\"\")","v":""}]
[null,null,null,null,null,null,null,null,null,null,{"$f":"IF(L474<>\"\",'Step 2) Calculate'!B478,\"Zzzzz - delete row\")","v":"Zzzzz - delete row"},{"$f":"IF('Step 2) Calculate'!E478<>\"\",'Step 2) Calculate'!G478,\"\")","v":""},{"$f":"IF(L474<>\"\",'Step 2) Calculate'!F478,\"\")","v":""},{"$f":"IF(L474<>\"\",'Step 2) Calculate'!H478,\"\")","v":""},{"$f":"IF(L474<>\"\",'Step 2) Calculate'!C478,\"\")","v":""}]
[null,null,null,null,null,null,null,null,null,null,{"$f":"IF(L475<>\"\",'Step 2) Calculate'!B479,\"Zzzzz - delete row\")","v":"Zzzzz - delete row"},{"$f":"IF('Step 2) Calculate'!E479<>\"\",'Step 2) Calculate'!G479,\"\")","v":""},{"$f":"IF(L475<>\"\",'Step 2) Calculate'!F479,\"\")","v":""},{"$f":"IF(L475<>\"\",'Step 2) Calculate'!H479,\"\")","v":""},{"$f":"IF(L475<>\"\",'Step 2) Calculate'!C479,\"\")","v":""}]
[null,null,null,null,null,null,null,null,null,null,{"$f":"IF(L476<>\"\",'Step 2) Calculate'!B480,\"Zzzzz - delete row\")","v":"Zzzzz - delete row"},{"$f":"IF('Step 2) Calculate'!E480<>\"\",'Step 2) Calculate'!G480,\"\")","v":""},{"$f":"IF(L476<>\"\",'Step 2) Calculate'!F480,\"\")","v":""},{"$f":"IF(L476<>\"\",'Step 2) Calculate'!H480,\"\")","v":""},{"$f":"IF(L476<>\"\",'Step 2) Calculate'!C480,\"\")","v":""}]
[null,null,null,null,null,null,null,null,null,null,{"$f":"IF(L477<>\"\",'Step 2) Calculate'!B481,\"Zzzzz - delete row\")","v":"Zzzzz - delete row"},{"$f":"IF('Step 2) Calculate'!E481<>\"\",'Step 2) Calculate'!G481,\"\")","v":""},{"$f":"IF(L477<>\"\",'Step 2) Calculate'!F481,\"\")","v":""},{"$f":"IF(L477<>\"\",'Step 2) Calculate'!H481,\"\")","v":""},{"$f":"IF(L477<>\"\",'Step 2) Calculate'!C481,\"\")","v":""}]
[null,null,null,null,null,null,null,null,null,null,{"$f":"IF(L478<>\"\",'Step 2) Calculate'!B482,\"Zzzzz - delete row\")","v":"Zzzzz - delete row"},{"$f":"IF('Step 2) Calculate'!E482<>\"\",'Step 2) Calculate'!G482,\"\")","v":""},{"$f":"IF(L478<>\"\",'Step 2) Calculate'!F482,\"\")","v":""},{"$f":"IF(L478<>\"\",'Step 2) Calculate'!H482,\"\")","v":""},{"$f":"IF(L478<>\"\",'Step 2) Calculate'!C482,\"\")","v":""}]
[null,null,null,null,null,null,null,null,null,null,{"$f":"IF(L479<>\"\",'Step 2) Calculate'!B483,\"Zzzzz - delete row\")","v":"Zzzzz - delete row"},{"$f":"IF('Step 2) Calculate'!E483<>\"\",'Step 2) Calculate'!G483,\"\")","v":""},{"$f":"IF(L479<>\"\",'Step 2) Calculate'!F483,\"\")","v":""},{"$f":"IF(L479<>\"\",'Step 2) Calculate'!H483,\"\")","v":""},{"$f":"IF(L479<>\"\",'Step 2) Calculate'!C483,\"\")","v":""}]
[null,null,null,null,null,null,null,null,null,null,{"$f":"IF(L480<>\"\",'Step 2) Calculate'!B484,\"Zzzzz - delete row\")","v":"Zzzzz - delete row"},{"$f":"IF('Step 2) Calculate'!E484<>\"\",'Step 2) Calculate'!G484,\"\")","v":""},{"$f":"IF(L480<>\"\",'Step 2) Calculate'!F484,\"\")","v":""},{"$f":"IF(L480<>\"\",'Step 2) Calculate'!H484,\"\")","v":""},{"$f":"IF(L480<>\"\",'Step 2) Calculate'!C484,\"\")","v":""}]
[null,null,null,null,null,null,null,null,null,null,{"$f":"IF(L481<>\"\",'Step 2) Calculate'!B485,\"Zzzzz - delete row\")","v":"Zzzzz - delete row"},{"$f":"IF('Step 2) Calculate'!E485<>\"\",'Step 2) Calculate'!G485,\"\")","v":""},{"$f":"IF(L481<>\"\",'Step 2) Calculate'!F485,\"\")","v":""},{"$f":"IF(L481<>\"\",'Step 2) Calculate'!H485,\"\")","v":""},{"$f":"IF(L481<>\"\",'Step 2) Calculate'!C485,\"\")","v":""}]
[null,null,null,null,null,null,null,null,null,null,{"$f":"IF(L482<>\"\",'Step 2) Calculate'!B486,\"Zzzzz - delete row\")","v":"Zzzzz - delete row"},{"$f":"IF('Step 2) Calculate'!E486<>\"\",'Step 2) Calculate'!G486,\"\")","v":""},{"$f":"IF(L482<>\"\",'Step 2) Calculate'!F486,\"\")","v":""},{"$f":"IF(L482<>\"\",'Step 2) Calculate'!H486,\"\")","v":""},{"$f":"IF(L482<>\"\",'Step 2) Calculate'!C486,\"\")","v":""}]
[null,null,null,null,null,null,null,null,null,null,{"$f":"IF(L483<>\"\",'Step 2) Calculate'!B487,\"Zzzzz - delete row\")","v":"Zzzzz - delete row"},{"$f":"IF('Step 2) Calculate'!E487<>\"\",'Step 2) Calculate'!G487,\"\")","v":""},{"$f":"IF(L483<>\"\",'Step 2) Calculate'!F487,\"\")","v":""},{"$f":"IF(L483<>\"\",'Step 2) Calculate'!H487,\"\")","v":""},{"$f":"IF(L483<>\"\",'Step 2) Calculate'!C487,\"\")","v":""}]
[null,null,null,null,null,null,null,null,null,null,{"$f":"IF(L484<>\"\",'Step 2) Calculate'!B488,\"Zzzzz - delete row\")","v":"Zzzzz - delete row"},{"$f":"IF('Step 2) Calculate'!E488<>\"\",'Step 2) Calculate'!G488,\"\")","v":""},{"$f":"IF(L484<>\"\",'Step 2) Calculate'!F488,\"\")","v":""},{"$f":"IF(L484<>\"\",'Step 2) Calculate'!H488,\"\")","v":""},{"$f":"IF(L484<>\"\",'Step 2) Calculate'!C488,\"\")","v":""}]
[null,null,null,null,null,null,null,null,null,null,{"$f":"IF(L485<>\"\",'Step 2) Calculate'!B489,\"Zzzzz - delete row\")","v":"Zzzzz - delete row"},{"$f":"IF('Step 2) Calculate'!E489<>\"\",'Step 2) Calculate'!G489,\"\")","v":""},{"$f":"IF(L485<>\"\",'Step 2) Calculate'!F489,\"\")","v":""},{"$f":"IF(L485<>\"\",'Step 2) Calculate'!H489,\"\")","v":""},{"$f":"IF(L485<>\"\",'Step 2) Calculate'!C489,\"\")","v":""}]
[null,null,null,null,null,null,null,null,null,null,{"$f":"IF(L486<>\"\",'Step 2) Calculate'!B490,\"Zzzzz - delete row\")","v":"Zzzzz - delete row"},{"$f":"IF('Step 2) Calculate'!E490<>\"\",'Step 2) Calculate'!G490,\"\")","v":""},{"$f":"IF(L486<>\"\",'Step 2) Calculate'!F490,\"\")","v":""},{"$f":"IF(L486<>\"\",'Step 2) Calculate'!H490,\"\")","v":""},{"$f":"IF(L486<>\"\",'Step 2) Calculate'!C490,\"\")","v":""}]
[null,null,null,null,null,null,null,null,null,null,{"$f":"IF(L487<>\"\",'Step 2) Calculate'!B491,\"Zzzzz - delete row\")","v":"Zzzzz - delete row"},{"$f":"IF('Step 2) Calculate'!E491<>\"\",'Step 2) Calculate'!G491,\"\")","v":""},{"$f":"IF(L487<>\"\",'Step 2) Calculate'!F491,\"\")","v":""},{"$f":"IF(L487<>\"\",'Step 2) Calculate'!H491,\"\")","v":""},{"$f":"IF(L487<>\"\",'Step 2) Calculate'!C491,\"\")","v":""}]
[null,null,null,null,null,null,null,null,null,null,{"$f":"IF(L488<>\"\",'Step 2) Calculate'!B492,\"Zzzzz - delete row\")","v":"Zzzzz - delete row"},{"$f":"IF('Step 2) Calculate'!E492<>\"\",'Step 2) Calculate'!G492,\"\")","v":""},{"$f":"IF(L488<>\"\",'Step 2) Calculate'!F492,\"\")","v":""},{"$f":"IF(L488<>\"\",'Step 2) Calculate'!H492,\"\")","v":""},{"$f":"IF(L488<>\"\",'Step 2) Calculate'!C492,\"\")","v":""}]
[null,null,null,null,null,null,null,null,null,null,{"$f":"IF(L489<>\"\",'Step 2) Calculate'!B493,\"Zzzzz - delete row\")","v":"Zzzzz - delete row"},{"$f":"IF('Step 2) Calculate'!E493<>\"\",'Step 2) Calculate'!G493,\"\")","v":""},{"$f":"IF(L489<>\"\",'Step 2) Calculate'!F493,\"\")","v":""},{"$f":"IF(L489<>\"\",'Step 2) Calculate'!H493,\"\")","v":""},{"$f":"IF(L489<>\"\",'Step 2) Calculate'!C493,\"\")","v":""}]
[null,null,null,null,null,null,null,null,null,null,{"$f":"IF(L490<>\"\",'Step 2) Calculate'!B494,\"Zzzzz - delete row\")","v":"Zzzzz - delete row"},{"$f":"IF('Step 2) Calculate'!E494<>\"\",'Step 2) Calculate'!G494,\"\")","v":""},{"$f":"IF(L490<>\"\",'Step 2) Calculate'!F494,\"\")","v":""},{"$f":"IF(L490<>\"\",'Step 2) Calculate'!H494,\"\")","v":""},{"$f":"IF(L490<>\"\",'Step 2) Calculate'!C494,\"\")","v":""}]
[null,null,null,null,null,null,null,null,null,null,{"$f":"IF(L491<>\"\",'Step 2) Calculate'!B495,\"Zzzzz - delete row\")","v":"Zzzzz - delete row"},{"$f":"IF('Step 2) Calculate'!E495<>\"\",'Step 2) Calculate'!G495,\"\")","v":""},{"$f":"IF(L491<>\"\",'Step 2) Calculate'!F495,\"\")","v":""},{"$f":"IF(L491<>\"\",'Step 2) Calculate'!H495,\"\")","v":""},{"$f":"IF(L491<>\"\",'Step 2) Calculate'!C495,\"\")","v":""}]
[null,null,null,null,null,null,null,null,null,null,{"$f":"IF(L492<>\"\",'Step 2) Calculate'!B496,\"Zzzzz - delete row\")","v":"Zzzzz - delete row"},{"$f":"IF('Step 2) Calculate'!E496<>\"\",'Step 2) Calculate'!G496,\"\")","v":""},{"$f":"IF(L492<>\"\",'Step 2) Calculate'!F496,\"\")","v":""},{"$f":"IF(L492<>\"\",'Step 2) Calculate'!H496,\"\")","v":""},{"$f":"IF(L492<>\"\",'Step 2) Calculate'!C496,\"\")","v":""}]
[null,null,null,null,null,null,null,null,null,null,{"$f":"IF(L493<>\"\",'Step 2) Calculate'!B497,\"Zzzzz - delete row\")","v":"Zzzzz - delete row"},{"$f":"IF('Step 2) Calculate'!E497<>\"\",'Step 2) Calculate'!G497,\"\")","v":""},{"$f":"IF(L493<>\"\",'Step 2) Calculate'!F497,\"\")","v":""},{"$f":"IF(L493<>\"\",'Step 2) Calculate'!H497,\"\")","v":""},{"$f":"IF(L493<>\"\",'Step 2) Calculate'!C497,\"\")","v":""}]
[null,null,null,null,null,null,null,null,null,null,{"$f":"IF(L494<>\"\",'Step 2) Calculate'!B498,\"Zzzzz - delete row\")","v":"Zzzzz - delete row"},{"$f":"IF('Step 2) Calculate'!E498<>\"\",'Step 2) Calculate'!G498,\"\")","v":""},{"$f":"IF(L494<>\"\",'Step 2) Calculate'!F498,\"\")","v":""},{"$f":"IF(L494<>\"\",'Step 2) Calculate'!H498,\"\")","v":""},{"$f":"IF(L494<>\"\",'Step 2) Calculate'!C498,\"\")","v":""}]
[null,null,null,null,null,null,null,null,null,null,{"$f":"IF(L495<>\"\",'Step 2) Calculate'!B499,\"Zzzzz - delete row\")","v":"Zzzzz - delete row"},{"$f":"IF('Step 2) Calculate'!E499<>\"\",'Step 2) Calculate'!G499,\"\")","v":""},{"$f":"IF(L495<>\"\",'Step 2) Calculate'!F499,\"\")","v":""},{"$f":"IF(L495<>\"\",'Step 2) Calculate'!H499,\"\")","v":""},{"$f":"IF(L495<>\"\",'Step 2) Calculate'!C499,\"\")","v":""}]
[null,null,null,null,null,null,null,null,null,null,{"$f":"IF(L496<>\"\",'Step 2) Calculate'!B500,\"Zzzzz - delete row\")","v":"Zzzzz - delete row"},{"$f":"IF('Step 2) Calculate'!E500<>\"\",'Step 2) Calculate'!G500,\"\")","v":""},{"$f":"IF(L496<>\"\",'Step 2) Calculate'!F500,\"\")","v":""},{"$f":"IF(L496<>\"\",'Step 2) Calculate'!H500,\"\")","v":""},{"$f":"IF(L496<>\"\",'Step 2) Calculate'!C500,\"\")","v":""}]
[null,null,null,null,null,null,null,null,null,null,{"$f":"IF(L497<>\"\",'Step 2) Calculate'!B501,\"Zzzzz - delete row\")","v":"Zzzzz - delete row"},{"$f":"IF('Step 2) Calculate'!E501<>\"\",'Step 2) Calculate'!G501,\"\")","v":""},{"$f":"IF(L497<>\"\",'Step 2) Calculate'!F501,\"\")","v":""},{"$f":"IF(L497<>\"\",'Step 2) Calculate'!H501,\"\")","v":""},{"$f":"IF(L497<>\"\",'Step 2) Calculate'!C501,\"\")","v":""}]
[null,null,null,null,null,null,null,null,null,null,{"$f":"IF(L498<>\"\",'Step 2) Calculate'!B502,\"Zzzzz - delete row\")","v":"Zzzzz - delete row"},{"$f":"IF('Step 2) Calculate'!E502<>\"\",'Step 2) Calculate'!G502,\"\")","v":""},{"$f":"IF(L498<>\"\",'Step 2) Calculate'!F502,\"\")","v":""},{"$f":"IF(L498<>\"\",'Step 2) Calculate'!H502,\"\")","v":""},{"$f":"IF(L498<>\"\",'Step 2) Calculate'!C502,\"\")","v":""}]
[null,null,null,null,null,null,null,null,null,null,{"$f":"IF(L499<>\"\",'Step 2) Calculate'!B503,\"Zzzzz - delete row\")","v":"Zzzzz - delete row"},{"$f":"IF('Step 2) Calculate'!E503<>\"\",'Step 2) Calculate'!G503,\"\")","v":""},{"$f":"IF(L499<>\"\",'Step 2) Calculate'!F503,\"\")","v":""},{"$f":"IF(L499<>\"\",'Step 2) Calculate'!H503,\"\")","v":""},{"$f":"IF(L499<>\"\",'Step 2) Calculate'!C503,\"\")","v":""}]
[null,null,null,null,null,null,null,null,null,null,{"$f":"IF(L500<>\"\",'Step 2) Calculate'!B504,\"Zzzzz - delete row\")","v":"Zzzzz - delete row"},{"$f":"IF('Step 2) Calculate'!E504<>\"\",'Step 2) Calculate'!G504,\"\")","v":""},{"$f":"IF(L500<>\"\",'Step 2) Calculate'!F504,\"\")","v":""},{"$f":"IF(L500<>\"\",'Step 2) Calculate'!H504,\"\")","v":""},{"$f":"IF(L500<>\"\",'Step 2) Calculate'!C504,\"\")","v":""}]
[null,null,null,null,null,null,null,null,null,null,{"$f":"IF(L501<>\"\",'Step 2) Calculate'!B505,\"Zzzzz - delete row\")","v":"Zzzzz - delete row"},{"$f":"IF('Step 2) Calculate'!E505<>\"\",'Step 2) Calculate'!G505,\"\")","v":""},{"$f":"IF(L501<>\"\",'Step 2) Calculate'!F505,\"\")","v":""},{"$f":"IF(L501<>\"\",'Step 2) Calculate'!H505,\"\")","v":""},{"$f":"IF(L501<>\"\",'Step 2) Calculate'!C505,\"\")","v":""}]
[null,null,null,null,null,null,null,null,null,null,{"$f":"IF(L502<>\"\",'Step 2) Calculate'!B506,\"Zzzzz - delete row\")","v":"Zzzzz - delete row"},{"$f":"IF('Step 2) Calculate'!E506<>\"\",'Step 2) Calculate'!G506,\"\")","v":""},{"$f":"IF(L502<>\"\",'Step 2) Calculate'!F506,\"\")","v":""},{"$f":"IF(L502<>\"\",'Step 2) Calculate'!H506,\"\")","v":""},{"$f":"IF(L502<>\"\",'Step 2) Calculate'!C506,\"\")","v":""}]
[null,null,null,null,null,null,null,null,null,null,{"$f":"IF(L503<>\"\",'Step 2) Calculate'!B507,\"Zzzzz - delete row\")","v":"Zzzzz - delete row"},{"$f":"IF('Step 2) Calculate'!E507<>\"\",'Step 2) Calculate'!G507,\"\")","v":""},{"$f":"IF(L503<>\"\",'Step 2) Calculate'!F507,\"\")","v":""},{"$f":"IF(L503<>\"\",'Step 2) Calculate'!H507,\"\")","v":""},{"$f":"IF(L503<>\"\",'Step 2) Calculate'!C507,\"\")","v":""}]
[null,null,null,null,null,null,null,null,null,null,{"$f":"IF(L504<>\"\",'Step 2) Calculate'!B508,\"Zzzzz - delete row\")","v":"Zzzzz - delete row"},{"$f":"IF('Step 2) Calculate'!E508<>\"\",'Step 2) Calculate'!G508,\"\")","v":""},{"$f":"IF(L504<>\"\",'Step 2) Calculate'!F508,\"\")","v":""},{"$f":"IF(L504<>\"\",'Step 2) Calculate'!H508,\"\")","v":""},{"$f":"IF(L504<>\"\",'Step 2) Calculate'!C508,\"\")","v":""}]
[null,null,null,null,null,null,null,null,null,null,{"$f":"IF(L505<>\"\",'Step 2) Calculate'!B509,\"Zzzzz - delete row\")","v":"Zzzzz - delete row"},{"$f":"IF('Step 2) Calculate'!E509<>\"\",'Step 2) Calculate'!G509,\"\")","v":""},{"$f":"IF(L505<>\"\",'Step 2) Calculate'!F509,\"\")","v":""},{"$f":"IF(L505<>\"\",'Step 2) Calculate'!H509,\"\")","v":""},{"$f":"IF(L505<>\"\",'Step 2) Calculate'!C509,\"\")","v":""}]
[null,null,null,null,null,null,null,null,null,null,{"$f":"IF(L506<>\"\",'Step 2) Calculate'!B510,\"Zzzzz - delete row\")","v":"Zzzzz - delete row"},{"$f":"IF('Step 2) Calculate'!E510<>\"\",'Step 2) Calculate'!G510,\"\")","v":""},{"$f":"IF(L506<>\"\",'Step 2) Calculate'!F510,\"\")","v":""},{"$f":"IF(L506<>\"\",'Step 2) Calculate'!H510,\"\")","v":""},{"$f":"IF(L506<>\"\",'Step 2) Calculate'!C510,\"\")","v":""}]
[null,null,null,null,null,null,null,null,null,null,{"$f":"IF(L507<>\"\",'Step 2) Calculate'!B511,\"Zzzzz - delete row\")","v":"Zzzzz - delete row"},{"$f":"IF('Step 2) Calculate'!E511<>\"\",'Step 2) Calculate'!G511,\"\")","v":""},{"$f":"IF(L507<>\"\",'Step 2) Calculate'!F511,\"\")","v":""},{"$f":"IF(L507<>\"\",'Step 2) Calculate'!H511,\"\")","v":""},{"$f":"IF(L507<>\"\",'Step 2) Calculate'!C511,\"\")","v":""}]
[null,null,null,null,null,null,null,null,null,null,{"$f":"IF(L508<>\"\",'Step 2) Calculate'!B512,\"Zzzzz - delete row\")","v":"Zzzzz - delete row"},{"$f":"IF('Step 2) Calculate'!E512<>\"\",'Step 2) Calculate'!G512,\"\")","v":""},{"$f":"IF(L508<>\"\",'Step 2) Calculate'!F512,\"\")","v":""},{"$f":"IF(L508<>\"\",'Step 2) Calculate'!H512,\"\")","v":""},{"$f":"IF(L508<>\"\",'Step 2) Calculate'!C512,\"\")","v":""}]
[null,null,null,null,null,null,null,null,null,null,{"$f":"IF(L509<>\"\",'Step 2) Calculate'!B513,\"Zzzzz - delete row\")","v":"Zzzzz - delete row"},{"$f":"IF('Step 2) Calculate'!E513<>\"\",'Step 2) Calculate'!G513,\"\")","v":""},{"$f":"IF(L509<>\"\",'Step 2) Calculate'!F513,\"\")","v":""},{"$f":"IF(L509<>\"\",'Step 2) Calculate'!H513,\"\")","v":""},{"$f":"IF(L509<>\"\",'Step 2) Calculate'!C513,\"\")","v":""}]
[null,null,null,null,null,null,null,null,null,null,{"$f":"IF(L510<>\"\",'Step 2) Calculate'!B514,\"Zzzzz - delete row\")","v":"Zzzzz - delete row"},{"$f":"IF('Step 2) Calculate'!E514<>\"\",'Step 2) Calculate'!G514,\"\")","v":""},{"$f":"IF(L510<>\"\",'Step 2) Calculate'!F514,\"\")","v":""},{"$f":"IF(L510<>\"\",'Step 2) Calculate'!H514,\"\")","v":""},{"$f":"IF(L510<>\"\",'Step 2) Calculate'!C514,\"\")","v":""}]
[null,null,null,null,null,null,null,null,null,null,{"$f":"IF(L511<>\"\",'Step 2) Calculate'!B515,\"Zzzzz - delete row\")","v":"Zzzzz - delete row"},{"$f":"IF('Step 2) Calculate'!E515<>\"\",'Step 2) Calculate'!G515,\"\")","v":""},{"$f":"IF(L511<>\"\",'Step 2) Calculate'!F515,\"\")","v":""},{"$f":"IF(L511<>\"\",'Step 2) Calculate'!H515,\"\")","v":""},{"$f":"IF(L511<>\"\",'Step 2) Calculate'!C515,\"\")","v":""}]
[null,null,null,null,null,null,null,null,null,null,{"$f":"IF(L512<>\"\",'Step 2) Calculate'!B516,\"Zzzzz - delete row\")","v":"Zzzzz - delete row"},{"$f":"IF('Step 2) Calculate'!E516<>\"\",'Step 2) Calculate'!G516,\"\")","v":""},{"$f":"IF(L512<>\"\",'Step 2) Calculate'!F516,\"\")","v":""},{"$f":"IF(L512<>\"\",'Step 2) Calculate'!H516,\"\")","v":""},{"$f":"IF(L512<>\"\",'Step 2) Calculate'!C516,\"\")","v":""}]
[null,null,null,null,null,null,null,null,null,null,{"$f":"IF(L513<>\"\",'Step 2) Calculate'!B517,\"Zzzzz - delete row\")","v":"Zzzzz - delete row"},{"$f":"IF('Step 2) Calculate'!E517<>\"\",'Step 2) Calculate'!G517,\"\")","v":""},{"$f":"IF(L513<>\"\",'Step 2) Calculate'!F517,\"\")","v":""},{"$f":"IF(L513<>\"\",'Step 2) Calculate'!H517,\"\")","v":""},{"$f":"IF(L513<>\"\",'Step 2) Calculate'!C517,\"\")","v":""}]
[null,null,null,null,null,null,null,null,null,null,{"$f":"IF(L514<>\"\",'Step 2) Calculate'!B518,\"Zzzzz - delete row\")","v":"Zzzzz - delete row"},{"$f":"IF('Step 2) Calculate'!E518<>\"\",'Step 2) Calculate'!G518,\"\")","v":""},{"$f":"IF(L514<>\"\",'Step 2) Calculate'!F518,\"\")","v":""},{"$f":"IF(L514<>\"\",'Step 2) Calculate'!H518,\"\")","v":""},{"$f":"IF(L514<>\"\",'Step 2) Calculate'!C518,\"\")","v":""}]
[null,null,null,null,null,null,null,null,null,null,{"$f":"IF(L515<>\"\",'Step 2) Calculate'!B519,\"Zzzzz - delete row\")","v":"Zzzzz - delete row"},{"$f":"IF('Step 2) Calculate'!E519<>\"\",'Step 2) Calculate'!G519,\"\")","v":""},{"$f":"IF(L515<>\"\",'Step 2) Calculate'!F519,\"\")","v":""},{"$f":"IF(L515<>\"\",'Step 2) Calculate'!H519,\"\")","v":""},{"$f":"IF(L515<>\"\",'Step 2) Calculate'!C519,\"\")","v":""}]
[null,null,null,null,null,null,null,null,null,null,{"$f":"IF(L516<>\"\",'Step 2) Calculate'!B520,\"Zzzzz - delete row\")","v":"Zzzzz - delete row"},{"$f":"IF('Step 2) Calculate'!E520<>\"\",'Step 2) Calculate'!G520,\"\")","v":""},{"$f":"IF(L516<>\"\",'Step 2) Calculate'!F520,\"\")","v":""},{"$f":"IF(L516<>\"\",'Step 2) Calculate'!H520,\"\")","v":""},{"$f":"IF(L516<>\"\",'Step 2) Calculate'!C520,\"\")","v":""}]
[null,null,null,null,null,null,null,null,null,null,{"$f":"IF(L517<>\"\",'Step 2) Calculate'!B521,\"Zzzzz - delete row\")","v":"Zzzzz - delete row"},{"$f":"IF('Step 2) Calculate'!E521<>\"\",'Step 2) Calculate'!G521,\"\")","v":""},{"$f":"IF(L517<>\"\",'Step 2) Calculate'!F521,\"\")","v":""},{"$f":"IF(L517<>\"\",'Step 2) Calculate'!H521,\"\")","v":""},{"$f":"IF(L517<>\"\",'Step 2) Calculate'!C521,\"\")","v":""}]
[null,null,null,null,null,null,null,null,null,null,{"$f":"IF(L518<>\"\",'Step 2) Calculate'!B522,\"Zzzzz - delete row\")","v":"Zzzzz - delete row"},{"$f":"IF('Step 2) Calculate'!E522<>\"\",'Step 2) Calculate'!G522,\"\")","v":""},{"$f":"IF(L518<>\"\",'Step 2) Calculate'!F522,\"\")","v":""},{"$f":"IF(L518<>\"\",'Step 2) Calculate'!H522,\"\")","v":""},{"$f":"IF(L518<>\"\",'Step 2) Calculate'!C522,\"\")","v":""}]
[null,null,null,null,null,null,null,null,null,null,{"$f":"IF(L519<>\"\",'Step 2) Calculate'!B523,\"Zzzzz - delete row\")","v":"Zzzzz - delete row"},{"$f":"IF('Step 2) Calculate'!E523<>\"\",'Step 2) Calculate'!G523,\"\")","v":""},{"$f":"IF(L519<>\"\",'Step 2) Calculate'!F523,\"\")","v":""},{"$f":"IF(L519<>\"\",'Step 2) Calculate'!H523,\"\")","v":""},{"$f":"IF(L519<>\"\",'Step 2) Calculate'!C523,\"\")","v":""}]
[null,null,null,null,null,null,null,null,null,null,{"$f":"IF(L520<>\"\",'Step 2) Calculate'!B524,\"Zzzzz - delete row\")","v":"Zzzzz - delete row"},{"$f":"IF('Step 2) Calculate'!E524<>\"\",'Step 2) Calculate'!G524,\"\")","v":""},{"$f":"IF(L520<>\"\",'Step 2) Calculate'!F524,\"\")","v":""},{"$f":"IF(L520<>\"\",'Step 2) Calculate'!H524,\"\")","v":""},{"$f":"IF(L520<>\"\",'Step 2) Calculate'!C524,\"\")","v":""}]
[null,null,null,null,null,null,null,null,null,null,{"$f":"IF(L521<>\"\",'Step 2) Calculate'!B525,\"Zzzzz - delete row\")","v":"Zzzzz - delete row"},{"$f":"IF('Step 2) Calculate'!E525<>\"\",'Step 2) Calculate'!G525,\"\")","v":""},{"$f":"IF(L521<>\"\",'Step 2) Calculate'!F525,\"\")","v":""},{"$f":"IF(L521<>\"\",'Step 2) Calculate'!H525,\"\")","v":""},{"$f":"IF(L521<>\"\",'Step 2) Calculate'!C525,\"\")","v":""}]
[null,null,null,null,null,null,null,null,null,null,{"$f":"IF(L522<>\"\",'Step 2) Calculate'!B526,\"Zzzzz - delete row\")","v":"Zzzzz - delete row"},{"$f":"IF('Step 2) Calculate'!E526<>\"\",'Step 2) Calculate'!G526,\"\")","v":""},{"$f":"IF(L522<>\"\",'Step 2) Calculate'!F526,\"\")","v":""},{"$f":"IF(L522<>\"\",'Step 2) Calculate'!H526,\"\")","v":""},{"$f":"IF(L522<>\"\",'Step 2) Calculate'!C526,\"\")","v":""}]
[null,null,null,null,null,null,null,null,null,null,{"$f":"IF(L523<>\"\",'Step 2) Calculate'!B527,\"Zzzzz - delete row\")","v":"Zzzzz - delete row"},{"$f":"IF('Step 2) Calculate'!E527<>\"\",'Step 2) Calculate'!G527,\"\")","v":""},{"$f":"IF(L523<>\"\",'Step 2) Calculate'!F527,\"\")","v":""},{"$f":"IF(L523<>\"\",'Step 2) Calculate'!H527,\"\")","v":""},{"$f":"IF(L523<>\"\",'Step 2) Calculate'!C527,\"\")","v":""}]
[null,null,null,null,null,null,null,null,null,null,{"$f":"IF(L524<>\"\",'Step 2) Calculate'!B528,\"Zzzzz - delete row\")","v":"Zzzzz - delete row"},{"$f":"IF('Step 2) Calculate'!E528<>\"\",'Step 2) Calculate'!G528,\"\")","v":""},{"$f":"IF(L524<>\"\",'Step 2) Calculate'!F528,\"\")","v":""},{"$f":"IF(L524<>\"\",'Step 2) Calculate'!H528,\"\")","v":""},{"$f":"IF(L524<>\"\",'Step 2) Calculate'!C528,\"\")","v":""}]
[null,null,null,null,null,null,null,null,null,null,{"$f":"IF(L525<>\"\",'Step 2) Calculate'!B529,\"Zzzzz - delete row\")","v":"Zzzzz - delete row"},{"$f":"IF('Step 2) Calculate'!E529<>\"\",'Step 2) Calculate'!G529,\"\")","v":""},{"$f":"IF(L525<>\"\",'Step 2) Calculate'!F529,\"\")","v":""},{"$f":"IF(L525<>\"\",'Step 2) Calculate'!H529,\"\")","v":""},{"$f":"IF(L525<>\"\",'Step 2) Calculate'!C529,\"\")","v":""}]
[null,null,null,null,null,null,null,null,null,null,{"$f":"IF(L526<>\"\",'Step 2) Calculate'!B530,\"Zzzzz - delete row\")","v":"Zzzzz - delete row"},{"$f":"IF('Step 2) Calculate'!E530<>\"\",'Step 2) Calculate'!G530,\"\")","v":""},{"$f":"IF(L526<>\"\",'Step 2) Calculate'!F530,\"\")","v":""},{"$f":"IF(L526<>\"\",'Step 2) Calculate'!H530,\"\")","v":""},{"$f":"IF(L526<>\"\",'Step 2) Calculate'!C530,\"\")","v":""}]
[null,null,null,null,null,null,null,null,null,null,{"$f":"IF(L527<>\"\",'Step 2) Calculate'!B531,\"Zzzzz - delete row\")","v":"Zzzzz - delete row"},{"$f":"IF('Step 2) Calculate'!E531<>\"\",'Step 2) Calculate'!G531,\"\")","v":""},{"$f":"IF(L527<>\"\",'Step 2) Calculate'!F531,\"\")","v":""},{"$f":"IF(L527<>\"\",'Step 2) Calculate'!H531,\"\")","v":""},{"$f":"IF(L527<>\"\",'Step 2) Calculate'!C531,\"\")","v":""}]
[null,null,null,null,null,null,null,null,null,null,{"$f":"IF(L528<>\"\",'Step 2) Calculate'!B532,\"Zzzzz - delete row\")","v":"Zzzzz - delete row"},{"$f":"IF('Step 2) Calculate'!E532<>\"\",'Step 2) Calculate'!G532,\"\")","v":""},{"$f":"IF(L528<>\"\",'Step 2) Calculate'!F532,\"\")","v":""},{"$f":"IF(L528<>\"\",'Step 2) Calculate'!H532,\"\")","v":""},{"$f":"IF(L528<>\"\",'Step 2) Calculate'!C532,\"\")","v":""}]
[null,null,null,null,null,null,null,null,null,null,{"$f":"IF(L529<>\"\",'Step 2) Calculate'!B533,\"Zzzzz - delete row\")","v":"Zzzzz - delete row"},{"$f":"IF('Step 2) Calculate'!E533<>\"\",'Step 2) Calculate'!G533,\"\")","v":""},{"$f":"IF(L529<>\"\",'Step 2) Calculate'!F533,\"\")","v":""},{"$f":"IF(L529<>\"\",'Step 2) Calculate'!H533,\"\")","v":""},{"$f":"IF(L529<>\"\",'Step 2) Calculate'!C533,\"\")","v":""}]
[null,null,null,null,null,null,null,null,null,null,{"$f":"IF(L530<>\"\",'Step 2) Calculate'!B534,\"Zzzzz - delete row\")","v":"Zzzzz - delete row"},{"$f":"IF('Step 2) Calculate'!E534<>\"\",'Step 2) Calculate'!G534,\"\")","v":""},{"$f":"IF(L530<>\"\",'Step 2) Calculate'!F534,\"\")","v":""},{"$f":"IF(L530<>\"\",'Step 2) Calculate'!H534,\"\")","v":""},{"$f":"IF(L530<>\"\",'Step 2) Calculate'!C534,\"\")","v":""}]
[null,null,null,null,null,null,null,null,null,null,{"$f":"IF(L531<>\"\",'Step 2) Calculate'!B535,\"Zzzzz - delete row\")","v":"Zzzzz - delete row"},{"$f":"IF('Step 2) Calculate'!E535<>\"\",'Step 2) Calculate'!G535,\"\")","v":""},{"$f":"IF(L531<>\"\",'Step 2) Calculate'!F535,\"\")","v":""},{"$f":"IF(L531<>\"\",'Step 2) Calculate'!H535,\"\")","v":""},{"$f":"IF(L531<>\"\",'Step 2) Calculate'!C535,\"\")","v":""}]
[null,null,null,null,null,null,null,null,null,null,{"$f":"IF(L532<>\"\",'Step 2) Calculate'!B536,\"Zzzzz - delete row\")","v":"Zzzzz - delete row"},{"$f":"IF('Step 2) Calculate'!E536<>\"\",'Step 2) Calculate'!G536,\"\")","v":""},{"$f":"IF(L532<>\"\",'Step 2) Calculate'!F536,\"\")","v":""},{"$f":"IF(L532<>\"\",'Step 2) Calculate'!H536,\"\")","v":""},{"$f":"IF(L532<>\"\",'Step 2) Calculate'!C536,\"\")","v":""}]
[null,null,null,null,null,null,null,null,null,null,{"$f":"IF(L533<>\"\",'Step 2) Calculate'!B537,\"Zzzzz - delete row\")","v":"Zzzzz - delete row"},{"$f":"IF('Step 2) Calculate'!E537<>\"\",'Step 2) Calculate'!G537,\"\")","v":""},{"$f":"IF(L533<>\"\",'Step 2) Calculate'!F537,\"\")","v":""},{"$f":"IF(L533<>\"\",'Step 2) Calculate'!H537,\"\")","v":""},{"$f":"IF(L533<>\"\",'Step 2) Calculate'!C537,\"\")","v":""}]
[null,null,null,null,null,null,null,null,null,null,{"$f":"IF(L534<>\"\",'Step 2) Calculate'!B538,\"Zzzzz - delete row\")","v":"Zzzzz - delete row"},{"$f":"IF('Step 2) Calculate'!E538<>\"\",'Step 2) Calculate'!G538,\"\")","v":""},{"$f":"IF(L534<>\"\",'Step 2) Calculate'!F538,\"\")","v":""},{"$f":"IF(L534<>\"\",'Step 2) Calculate'!H538,\"\")","v":""},{"$f":"IF(L534<>\"\",'Step 2) Calculate'!C538,\"\")","v":""}]
[null,null,null,null,null,null,null,null,null,null,{"$f":"IF(L535<>\"\",'Step 2) Calculate'!B539,\"Zzzzz - delete row\")","v":"Zzzzz - delete row"},{"$f":"IF('Step 2) Calculate'!E539<>\"\",'Step 2) Calculate'!G539,\"\")","v":""},{"$f":"IF(L535<>\"\",'Step 2) Calculate'!F539,\"\")","v":""},{"$f":"IF(L535<>\"\",'Step 2) Calculate'!H539,\"\")","v":""},{"$f":"IF(L535<>\"\",'Step 2) Calculate'!C539,\"\")","v":""}]
[null,null,null,null,null,null,null,null,null,null,{"$f":"IF(L536<>\"\",'Step 2) Calculate'!B540,\"Zzzzz - delete row\")","v":"Zzzzz - delete row"},{"$f":"IF('Step 2) Calculate'!E540<>\"\",'Step 2) Calculate'!G540,\"\")","v":""},{"$f":"IF(L536<>\"\",'Step 2) Calculate'!F540,\"\")","v":""},{"$f":"IF(L536<>\"\",'Step 2) Calculate'!H540,\"\")","v":""},{"$f":"IF(L536<>\"\",'Step 2) Calculate'!C540,\"\")","v":""}]
[null,null,null,null,null,null,null,null,null,null,{"$f":"IF(L537<>\"\",'Step 2) Calculate'!B541,\"Zzzzz - delete row\")","v":"Zzzzz - delete row"},{"$f":"IF('Step 2) Calculate'!E541<>\"\",'Step 2) Calculate'!G541,\"\")","v":""},{"$f":"IF(L537<>\"\",'Step 2) Calculate'!F541,\"\")","v":""},{"$f":"IF(L537<>\"\",'Step 2) Calculate'!H541,\"\")","v":""},{"$f":"IF(L537<>\"\",'Step 2) Calculate'!C541,\"\")","v":""}]
[null,null,null,null,null,null,null,null,null,null,{"$f":"IF(L538<>\"\",'Step 2) Calculate'!B542,\"Zzzzz - delete row\")","v":"Zzzzz - delete row"},{"$f":"IF('Step 2) Calculate'!E542<>\"\",'Step 2) Calculate'!G542,\"\")","v":""},{"$f":"IF(L538<>\"\",'Step 2) Calculate'!F542,\"\")","v":""},{"$f":"IF(L538<>\"\",'Step 2) Calculate'!H542,\"\")","v":""},{"$f":"IF(L538<>\"\",'Step 2) Calculate'!C542,\"\")","v":""}]
[null,null,null,null,null,null,null,null,null,null,{"$f":"IF(L539<>\"\",'Step 2) Calculate'!B543,\"Zzzzz - delete row\")","v":"Zzzzz - delete row"},{"$f":"IF('Step 2) Calculate'!E543<>\"\",'Step 2) Calculate'!G543,\"\")","v":""},{"$f":"IF(L539<>\"\",'Step 2) Calculate'!F543,\"\")","v":""},{"$f":"IF(L539<>\"\",'Step 2) Calculate'!H543,\"\")","v":""},{"$f":"IF(L539<>\"\",'Step 2) Calculate'!C543,\"\")","v":""}]
[null,null,null,null,null,null,null,null,null,null,{"$f":"IF(L540<>\"\",'Step 2) Calculate'!B544,\"Zzzzz - delete row\")","v":"Zzzzz - delete row"},{"$f":"IF('Step 2) Calculate'!E544<>\"\",'Step 2) Calculate'!G544,\"\")","v":""},{"$f":"IF(L540<>\"\",'Step 2) Calculate'!F544,\"\")","v":""},{"$f":"IF(L540<>\"\",'Step 2) Calculate'!H544,\"\")","v":""},{"$f":"IF(L540<>\"\",'Step 2) Calculate'!C544,\"\")","v":""}]
[null,null,null,null,null,null,null,null,null,null,{"$f":"IF(L541<>\"\",'Step 2) Calculate'!B545,\"Zzzzz - delete row\")","v":"Zzzzz - delete row"},{"$f":"IF('Step 2) Calculate'!E545<>\"\",'Step 2) Calculate'!G545,\"\")","v":""},{"$f":"IF(L541<>\"\",'Step 2) Calculate'!F545,\"\")","v":""},{"$f":"IF(L541<>\"\",'Step 2) Calculate'!H545,\"\")","v":""},{"$f":"IF(L541<>\"\",'Step 2) Calculate'!C545,\"\")","v":""}]
[null,null,null,null,null,null,null,null,null,null,{"$f":"IF(L542<>\"\",'Step 2) Calculate'!B546,\"Zzzzz - delete row\")","v":"Zzzzz - delete row"},{"$f":"IF('Step 2) Calculate'!E546<>\"\",'Step 2) Calculate'!G546,\"\")","v":""},{"$f":"IF(L542<>\"\",'Step 2) Calculate'!F546,\"\")","v":""},{"$f":"IF(L542<>\"\",'Step 2) Calculate'!H546,\"\")","v":""},{"$f":"IF(L542<>\"\",'Step 2) Calculate'!C546,\"\")","v":""}]
[null,null,null,null,null,null,null,null,null,null,{"$f":"IF(L543<>\"\",'Step 2) Calculate'!B547,\"Zzzzz - delete row\")","v":"Zzzzz - delete row"},{"$f":"IF('Step 2) Calculate'!E547<>\"\",'Step 2) Calculate'!G547,\"\")","v":""},{"$f":"IF(L543<>\"\",'Step 2) Calculate'!F547,\"\")","v":""},{"$f":"IF(L543<>\"\",'Step 2) Calculate'!H547,\"\")","v":""},{"$f":"IF(L543<>\"\",'Step 2) Calculate'!C547,\"\")","v":""}]
[null,null,null,null,null,null,null,null,null,null,{"$f":"IF(L544<>\"\",'Step 2) Calculate'!B548,\"Zzzzz - delete row\")","v":"Zzzzz - delete row"},{"$f":"IF('Step 2) Calculate'!E548<>\"\",'Step 2) Calculate'!G548,\"\")","v":""},{"$f":"IF(L544<>\"\",'Step 2) Calculate'!F548,\"\")","v":""},{"$f":"IF(L544<>\"\",'Step 2) Calculate'!H548,\"\")","v":""},{"$f":"IF(L544<>\"\",'Step 2) Calculate'!C548,\"\")","v":""}]
[null,null,null,null,null,null,null,null,null,null,{"$f":"IF(L545<>\"\",'Step 2) Calculate'!B549,\"Zzzzz - delete row\")","v":"Zzzzz - delete row"},{"$f":"IF('Step 2) Calculate'!E549<>\"\",'Step 2) Calculate'!G549,\"\")","v":""},{"$f":"IF(L545<>\"\",'Step 2) Calculate'!F549,\"\")","v":""},{"$f":"IF(L545<>\"\",'Step 2) Calculate'!H549,\"\")","v":""},{"$f":"IF(L545<>\"\",'Step 2) Calculate'!C549,\"\")","v":""}]
[null,null,null,null,null,null,null,null,null,null,{"$f":"IF(L546<>\"\",'Step 2) Calculate'!B550,\"Zzzzz - delete row\")","v":"Zzzzz - delete row"},{"$f":"IF('Step 2) Calculate'!E550<>\"\",'Step 2) Calculate'!G550,\"\")","v":""},{"$f":"IF(L546<>\"\",'Step 2) Calculate'!F550,\"\")","v":""},{"$f":"IF(L546<>\"\",'Step 2) Calculate'!H550,\"\")","v":""},{"$f":"IF(L546<>\"\",'Step 2) Calculate'!C550,\"\")","v":""}]
[null,null,null,null,null,null,null,null,null,null,{"$f":"IF(L547<>\"\",'Step 2) Calculate'!B551,\"Zzzzz - delete row\")","v":"Zzzzz - delete row"},{"$f":"IF('Step 2) Calculate'!E551<>\"\",'Step 2) Calculate'!G551,\"\")","v":""},{"$f":"IF(L547<>\"\",'Step 2) Calculate'!F551,\"\")","v":""},{"$f":"IF(L547<>\"\",'Step 2) Calculate'!H551,\"\")","v":""},{"$f":"IF(L547<>\"\",'Step 2) Calculate'!C551,\"\")","v":""}]
[null,null,null,null,null,null,null,null,null,null,{"$f":"IF(L548<>\"\",'Step 2) Calculate'!B552,\"Zzzzz - delete row\")","v":"Zzzzz - delete row"},{"$f":"IF('Step 2) Calculate'!E552<>\"\",'Step 2) Calculate'!G552,\"\")","v":""},{"$f":"IF(L548<>\"\",'Step 2) Calculate'!F552,\"\")","v":""},{"$f":"IF(L548<>\"\",'Step 2) Calculate'!H552,\"\")","v":""},{"$f":"IF(L548<>\"\",'Step 2) Calculate'!C552,\"\")","v":""}]
[null,null,null,null,null,null,null,null,null,null,{"$f":"IF(L549<>\"\",'Step 2) Calculate'!B553,\"Zzzzz - delete row\")","v":"Zzzzz - delete row"},{"$f":"IF('Step 2) Calculate'!E553<>\"\",'Step 2) Calculate'!G553,\"\")","v":""},{"$f":"IF(L549<>\"\",'Step 2) Calculate'!F553,\"\")","v":""},{"$f":"IF(L549<>\"\",'Step 2) Calculate'!H553,\"\")","v":""},{"$f":"IF(L549<>\"\",'Step 2) Calculate'!C553,\"\")","v":""}]
[null,null,null,null,null,null,null,null,null,null,{"$f":"IF(L550<>\"\",'Step 2) Calculate'!B554,\"Zzzzz - delete row\")","v":"Zzzzz - delete row"},{"$f":"IF('Step 2) Calculate'!E554<>\"\",'Step 2) Calculate'!G554,\"\")","v":""},{"$f":"IF(L550<>\"\",'Step 2) Calculate'!F554,\"\")","v":""},{"$f":"IF(L550<>\"\",'Step 2) Calculate'!H554,\"\")","v":""},{"$f":"IF(L550<>\"\",'Step 2) Calculate'!C554,\"\")","v":""}]
[null,null,null,null,null,null,null,null,null,null,{"$f":"IF(L551<>\"\",'Step 2) Calculate'!B555,\"Zzzzz - delete row\")","v":"Zzzzz - delete row"},{"$f":"IF('Step 2) Calculate'!E555<>\"\",'Step 2) Calculate'!G555,\"\")","v":""},{"$f":"IF(L551<>\"\",'Step 2) Calculate'!F555,\"\")","v":""},{"$f":"IF(L551<>\"\",'Step 2) Calculate'!H555,\"\")","v":""},{"$f":"IF(L551<>\"\",'Step 2) Calculate'!C555,\"\")","v":""}]
[null,null,null,null,null,null,null,null,null,null,{"$f":"IF(L552<>\"\",'Step 2) Calculate'!B556,\"Zzzzz - delete row\")","v":"Zzzzz - delete row"},{"$f":"IF('Step 2) Calculate'!E556<>\"\",'Step 2) Calculate'!G556,\"\")","v":""},{"$f":"IF(L552<>\"\",'Step 2) Calculate'!F556,\"\")","v":""},{"$f":"IF(L552<>\"\",'Step 2) Calculate'!H556,\"\")","v":""},{"$f":"IF(L552<>\"\",'Step 2) Calculate'!C556,\"\")","v":""}]
[null,null,null,null,null,null,null,null,null,null,{"$f":"IF(L553<>\"\",'Step 2) Calculate'!B557,\"Zzzzz - delete row\")","v":"Zzzzz - delete row"},{"$f":"IF('Step 2) Calculate'!E557<>\"\",'Step 2) Calculate'!G557,\"\")","v":""},{"$f":"IF(L553<>\"\",'Step 2) Calculate'!F557,\"\")","v":""},{"$f":"IF(L553<>\"\",'Step 2) Calculate'!H557,\"\")","v":""},{"$f":"IF(L553<>\"\",'Step 2) Calculate'!C557,\"\")","v":""}]
[null,null,null,null,null,null,null,null,null,null,{"$f":"IF(L554<>\"\",'Step 2) Calculate'!B558,\"Zzzzz - delete row\")","v":"Zzzzz - delete row"},{"$f":"IF('Step 2) Calculate'!E558<>\"\",'Step 2) Calculate'!G558,\"\")","v":""},{"$f":"IF(L554<>\"\",'Step 2) Calculate'!F558,\"\")","v":""},{"$f":"IF(L554<>\"\",'Step 2) Calculate'!H558,\"\")","v":""},{"$f":"IF(L554<>\"\",'Step 2) Calculate'!C558,\"\")","v":""}]
[null,null,null,null,null,null,null,null,null,null,{"$f":"IF(L555<>\"\",'Step 2) Calculate'!B559,\"Zzzzz - delete row\")","v":"Zzzzz - delete row"},{"$f":"IF('Step 2) Calculate'!E559<>\"\",'Step 2) Calculate'!G559,\"\")","v":""},{"$f":"IF(L555<>\"\",'Step 2) Calculate'!F559,\"\")","v":""},{"$f":"IF(L555<>\"\",'Step 2) Calculate'!H559,\"\")","v":""},{"$f":"IF(L555<>\"\",'Step 2) Calculate'!C559,\"\")","v":""}]
[null,null,null,null,null,null,null,null,null,null,{"$f":"IF(L556<>\"\",'Step 2) Calculate'!B560,\"Zzzzz - delete row\")","v":"Zzzzz - delete row"},{"$f":"IF('Step 2) Calculate'!E560<>\"\",'Step 2) Calculate'!G560,\"\")","v":""},{"$f":"IF(L556<>\"\",'Step 2) Calculate'!F560,\"\")","v":""},{"$f":"IF(L556<>\"\",'Step 2) Calculate'!H560,\"\")","v":""},{"$f":"IF(L556<>\"\",'Step 2) Calculate'!C560,\"\")","v":""}]
[null,null,null,null,null,null,null,null,null,null,{"$f":"IF(L557<>\"\",'Step 2) Calculate'!B561,\"Zzzzz - delete row\")","v":"Zzzzz - delete row"},{"$f":"IF('Step 2) Calculate'!E561<>\"\",'Step 2) Calculate'!G561,\"\")","v":""},{"$f":"IF(L557<>\"\",'Step 2) Calculate'!F561,\"\")","v":""},{"$f":"IF(L557<>\"\",'Step 2) Calculate'!H561,\"\")","v":""},{"$f":"IF(L557<>\"\",'Step 2) Calculate'!C561,\"\")","v":""}]
[null,null,null,null,null,null,null,null,null,null,{"$f":"IF(L558<>\"\",'Step 2) Calculate'!B562,\"Zzzzz - delete row\")","v":"Zzzzz - delete row"},{"$f":"IF('Step 2) Calculate'!E562<>\"\",'Step 2) Calculate'!G562,\"\")","v":""},{"$f":"IF(L558<>\"\",'Step 2) Calculate'!F562,\"\")","v":""},{"$f":"IF(L558<>\"\",'Step 2) Calculate'!H562,\"\")","v":""},{"$f":"IF(L558<>\"\",'Step 2) Calculate'!C562,\"\")","v":""}]
[null,null,null,null,null,null,null,null,null,null,{"$f":"IF(L559<>\"\",'Step 2) Calculate'!B563,\"Zzzzz - delete row\")","v":"Zzzzz - delete row"},{"$f":"IF('Step 2) Calculate'!E563<>\"\",'Step 2) Calculate'!G563,\"\")","v":""},{"$f":"IF(L559<>\"\",'Step 2) Calculate'!F563,\"\")","v":""},{"$f":"IF(L559<>\"\",'Step 2) Calculate'!H563,\"\")","v":""},{"$f":"IF(L559<>\"\",'Step 2) Calculate'!C563,\"\")","v":""}]
[null,null,null,null,null,null,null,null,null,null,{"$f":"IF(L560<>\"\",'Step 2) Calculate'!B564,\"Zzzzz - delete row\")","v":"Zzzzz - delete row"},{"$f":"IF('Step 2) Calculate'!E564<>\"\",'Step 2) Calculate'!G564,\"\")","v":""},{"$f":"IF(L560<>\"\",'Step 2) Calculate'!F564,\"\")","v":""},{"$f":"IF(L560<>\"\",'Step 2) Calculate'!H564,\"\")","v":""},{"$f":"IF(L560<>\"\",'Step 2) Calculate'!C564,\"\")","v":""}]
[null,null,null,null,null,null,null,null,null,null,{"$f":"IF(L561<>\"\",'Step 2) Calculate'!B565,\"Zzzzz - delete row\")","v":"Zzzzz - delete row"},{"$f":"IF('Step 2) Calculate'!E565<>\"\",'Step 2) Calculate'!G565,\"\")","v":""},{"$f":"IF(L561<>\"\",'Step 2) Calculate'!F565,\"\")","v":""},{"$f":"IF(L561<>\"\",'Step 2) Calculate'!H565,\"\")","v":""},{"$f":"IF(L561<>\"\",'Step 2) Calculate'!C565,\"\")","v":""}]
[null,null,null,null,null,null,null,null,null,null,{"$f":"IF(L562<>\"\",'Step 2) Calculate'!B566,\"Zzzzz - delete row\")","v":"Zzzzz - delete row"},{"$f":"IF('Step 2) Calculate'!E566<>\"\",'Step 2) Calculate'!G566,\"\")","v":""},{"$f":"IF(L562<>\"\",'Step 2) Calculate'!F566,\"\")","v":""},{"$f":"IF(L562<>\"\",'Step 2) Calculate'!H566,\"\")","v":""},{"$f":"IF(L562<>\"\",'Step 2) Calculate'!C566,\"\")","v":""}]
[null,null,null,null,null,null,null,null,null,null,{"$f":"IF(L563<>\"\",'Step 2) Calculate'!B567,\"Zzzzz - delete row\")","v":"Zzzzz - delete row"},{"$f":"IF('Step 2) Calculate'!E567<>\"\",'Step 2) Calculate'!G567,\"\")","v":""},{"$f":"IF(L563<>\"\",'Step 2) Calculate'!F567,\"\")","v":""},{"$f":"IF(L563<>\"\",'Step 2) Calculate'!H567,\"\")","v":""},{"$f":"IF(L563<>\"\",'Step 2) Calculate'!C567,\"\")","v":""}]
[null,null,null,null,null,null,null,null,null,null,{"$f":"IF(L564<>\"\",'Step 2) Calculate'!B568,\"Zzzzz - delete row\")","v":"Zzzzz - delete row"},{"$f":"IF('Step 2) Calculate'!E568<>\"\",'Step 2) Calculate'!G568,\"\")","v":""},{"$f":"IF(L564<>\"\",'Step 2) Calculate'!F568,\"\")","v":""},{"$f":"IF(L564<>\"\",'Step 2) Calculate'!H568,\"\")","v":""},{"$f":"IF(L564<>\"\",'Step 2) Calculate'!C568,\"\")","v":""}]
[null,null,null,null,null,null,null,null,null,null,{"$f":"IF(L565<>\"\",'Step 2) Calculate'!B569,\"Zzzzz - delete row\")","v":"Zzzzz - delete row"},{"$f":"IF('Step 2) Calculate'!E569<>\"\",'Step 2) Calculate'!G569,\"\")","v":""},{"$f":"IF(L565<>\"\",'Step 2) Calculate'!F569,\"\")","v":""},{"$f":"IF(L565<>\"\",'Step 2) Calculate'!H569,\"\")","v":""},{"$f":"IF(L565<>\"\",'Step 2) Calculate'!C569,\"\")","v":""}]
[null,null,null,null,null,null,null,null,null,null,{"$f":"IF(L566<>\"\",'Step 2) Calculate'!B570,\"Zzzzz - delete row\")","v":"Zzzzz - delete row"},{"$f":"IF('Step 2) Calculate'!E570<>\"\",'Step 2) Calculate'!G570,\"\")","v":""},{"$f":"IF(L566<>\"\",'Step 2) Calculate'!F570,\"\")","v":""},{"$f":"IF(L566<>\"\",'Step 2) Calculate'!H570,\"\")","v":""},{"$f":"IF(L566<>\"\",'Step 2) Calculate'!C570,\"\")","v":""}]
[null,null,null,null,null,null,null,null,null,null,{"$f":"IF(L567<>\"\",'Step 2) Calculate'!B571,\"Zzzzz - delete row\")","v":"Zzzzz - delete row"},{"$f":"IF('Step 2) Calculate'!E571<>\"\",'Step 2) Calculate'!G571,\"\")","v":""},{"$f":"IF(L567<>\"\",'Step 2) Calculate'!F571,\"\")","v":""},{"$f":"IF(L567<>\"\",'Step 2) Calculate'!H571,\"\")","v":""},{"$f":"IF(L567<>\"\",'Step 2) Calculate'!C571,\"\")","v":""}]
[null,null,null,null,null,null,null,null,null,null,{"$f":"IF(L568<>\"\",'Step 2) Calculate'!B572,\"Zzzzz - delete row\")","v":"Zzzzz - delete row"},{"$f":"IF('Step 2) Calculate'!E572<>\"\",'Step 2) Calculate'!G572,\"\")","v":""},{"$f":"IF(L568<>\"\",'Step 2) Calculate'!F572,\"\")","v":""},{"$f":"IF(L568<>\"\",'Step 2) Calculate'!H572,\"\")","v":""},{"$f":"IF(L568<>\"\",'Step 2) Calculate'!C572,\"\")","v":""}]
[null,null,null,null,null,null,null,null,null,null,{"$f":"IF(L569<>\"\",'Step 2) Calculate'!B573,\"Zzzzz - delete row\")","v":"Zzzzz - delete row"},{"$f":"IF('Step 2) Calculate'!E573<>\"\",'Step 2) Calculate'!G573,\"\")","v":""},{"$f":"IF(L569<>\"\",'Step 2) Calculate'!F573,\"\")","v":""},{"$f":"IF(L569<>\"\",'Step 2) Calculate'!H573,\"\")","v":""},{"$f":"IF(L569<>\"\",'Step 2) Calculate'!C573,\"\")","v":""}]
[null,null,null,null,null,null,null,null,null,null,{"$f":"IF(L570<>\"\",'Step 2) Calculate'!B574,\"Zzzzz - delete row\")","v":"Zzzzz - delete row"},{"$f":"IF('Step 2) Calculate'!E574<>\"\",'Step 2) Calculate'!G574,\"\")","v":""},{"$f":"IF(L570<>\"\",'Step 2) Calculate'!F574,\"\")","v":""},{"$f":"IF(L570<>\"\",'Step 2) Calculate'!H574,\"\")","v":""},{"$f":"IF(L570<>\"\",'Step 2) Calculate'!C574,\"\")","v":""}]
[null,null,null,null,null,null,null,null,null,null,{"$f":"IF(L571<>\"\",'Step 2) Calculate'!B575,\"Zzzzz - delete row\")","v":"Zzzzz - delete row"},{"$f":"IF('Step 2) Calculate'!E575<>\"\",'Step 2) Calculate'!G575,\"\")","v":""},{"$f":"IF(L571<>\"\",'Step 2) Calculate'!F575,\"\")","v":""},{"$f":"IF(L571<>\"\",'Step 2) Calculate'!H575,\"\")","v":""},{"$f":"IF(L571<>\"\",'Step 2) Calculate'!C575,\"\")","v":""}]
[null,null,null,null,null,null,null,null,null,null,{"$f":"IF(L572<>\"\",'Step 2) Calculate'!B576,\"Zzzzz - delete row\")","v":"Zzzzz - delete row"},{"$f":"IF('Step 2) Calculate'!E576<>\"\",'Step 2) Calculate'!G576,\"\")","v":""},{"$f":"IF(L572<>\"\",'Step 2) Calculate'!F576,\"\")","v":""},{"$f":"IF(L572<>\"\",'Step 2) Calculate'!H576,\"\")","v":""},{"$f":"IF(L572<>\"\",'Step 2) Calculate'!C576,\"\")","v":""}]
[null,null,null,null,null,null,null,null,null,null,{"$f":"IF(L573<>\"\",'Step 2) Calculate'!B577,\"Zzzzz - delete row\")","v":"Zzzzz - delete row"},{"$f":"IF('Step 2) Calculate'!E577<>\"\",'Step 2) Calculate'!G577,\"\")","v":""},{"$f":"IF(L573<>\"\",'Step 2) Calculate'!F577,\"\")","v":""},{"$f":"IF(L573<>\"\",'Step 2) Calculate'!H577,\"\")","v":""},{"$f":"IF(L573<>\"\",'Step 2) Calculate'!C577,\"\")","v":""}]
[null,null,null,null,null,null,null,null,null,null,{"$f":"IF(L574<>\"\",'Step 2) Calculate'!B578,\"Zzzzz - delete row\")","v":"Zzzzz - delete row"},{"$f":"IF('Step 2) Calculate'!E578<>\"\",'Step 2) Calculate'!G578,\"\")","v":""},{"$f":"IF(L574<>\"\",'Step 2) Calculate'!F578,\"\")","v":""},{"$f":"IF(L574<>\"\",'Step 2) Calculate'!H578,\"\")","v":""},{"$f":"IF(L574<>\"\",'Step 2) Calculate'!C578,\"\")","v":""}]
[null,null,null,null,null,null,null,null,null,null,{"$f":"IF(L575<>\"\",'Step 2) Calculate'!B579,\"Zzzzz - delete row\")","v":"Zzzzz - delete row"},{"$f":"IF('Step 2) Calculate'!E579<>\"\",'Step 2) Calculate'!G579,\"\")","v":""},{"$f":"IF(L575<>\"\",'Step 2) Calculate'!F579,\"\")","v":""},{"$f":"IF(L575<>\"\",'Step 2) Calculate'!H579,\"\")","v":""},{"$f":"IF(L575<>\"\",'Step 2) Calculate'!C579,\"\")","v":""}]
[null,null,null,null,null,null,null,null,null,null,{"$f":"IF(L576<>\"\",'Step 2) Calculate'!B580,\"Zzzzz - delete row\")","v":"Zzzzz - delete row"},{"$f":"IF('Step 2) Calculate'!E580<>\"\",'Step 2) Calculate'!G580,\"\")","v":""},{"$f":"IF(L576<>\"\",'Step 2) Calculate'!F580,\"\")","v":""},{"$f":"IF(L576<>\"\",'Step 2) Calculate'!H580,\"\")","v":""},{"$f":"IF(L576<>\"\",'Step 2) Calculate'!C580,\"\")","v":""}]
[null,null,null,null,null,null,null,null,null,null,{"$f":"IF(L577<>\"\",'Step 2) Calculate'!B581,\"Zzzzz - delete row\")","v":"Zzzzz - delete row"},{"$f":"IF('Step 2) Calculate'!E581<>\"\",'Step 2) Calculate'!G581,\"\")","v":""},{"$f":"IF(L577<>\"\",'Step 2) Calculate'!F581,\"\")","v":""},{"$f":"IF(L577<>\"\",'Step 2) Calculate'!H581,\"\")","v":""},{"$f":"IF(L577<>\"\",'Step 2) Calculate'!C581,\"\")","v":""}]
[null,null,null,null,null,null,null,null,null,null,{"$f":"IF(L578<>\"\",'Step 2) Calculate'!B582,\"Zzzzz - delete row\")","v":"Zzzzz - delete row"},{"$f":"IF('Step 2) Calculate'!E582<>\"\",'Step 2) Calculate'!G582,\"\")","v":""},{"$f":"IF(L578<>\"\",'Step 2) Calculate'!F582,\"\")","v":""},{"$f":"IF(L578<>\"\",'Step 2) Calculate'!H582,\"\")","v":""},{"$f":"IF(L578<>\"\",'Step 2) Calculate'!C582,\"\")","v":""}]
[null,null,null,null,null,null,null,null,null,null,{"$f":"IF(L579<>\"\",'Step 2) Calculate'!B583,\"Zzzzz - delete row\")","v":"Zzzzz - delete row"},{"$f":"IF('Step 2) Calculate'!E583<>\"\",'Step 2) Calculate'!G583,\"\")","v":""},{"$f":"IF(L579<>\"\",'Step 2) Calculate'!F583,\"\")","v":""},{"$f":"IF(L579<>\"\",'Step 2) Calculate'!H583,\"\")","v":""},{"$f":"IF(L579<>\"\",'Step 2) Calculate'!C583,\"\")","v":""}]
[null,null,null,null,null,null,null,null,null,null,{"$f":"IF(L580<>\"\",'Step 2) Calculate'!B584,\"Zzzzz - delete row\")","v":"Zzzzz - delete row"},{"$f":"IF('Step 2) Calculate'!E584<>\"\",'Step 2) Calculate'!G584,\"\")","v":""},{"$f":"IF(L580<>\"\",'Step 2) Calculate'!F584,\"\")","v":""},{"$f":"IF(L580<>\"\",'Step 2) Calculate'!H584,\"\")","v":""},{"$f":"IF(L580<>\"\",'Step 2) Calculate'!C584,\"\")","v":""}]
[null,null,null,null,null,null,null,null,null,null,{"$f":"IF(L581<>\"\",'Step 2) Calculate'!B585,\"Zzzzz - delete row\")","v":"Zzzzz - delete row"},{"$f":"IF('Step 2) Calculate'!E585<>\"\",'Step 2) Calculate'!G585,\"\")","v":""},{"$f":"IF(L581<>\"\",'Step 2) Calculate'!F585,\"\")","v":""},{"$f":"IF(L581<>\"\",'Step 2) Calculate'!H585,\"\")","v":""},{"$f":"IF(L581<>\"\",'Step 2) Calculate'!C585,\"\")","v":""}]
[null,null,null,null,null,null,null,null,null,null,{"$f":"IF(L582<>\"\",'Step 2) Calculate'!B586,\"Zzzzz - delete row\")","v":"Zzzzz - delete row"},{"$f":"IF('Step 2) Calculate'!E586<>\"\",'Step 2) Calculate'!G586,\"\")","v":""},{"$f":"IF(L582<>\"\",'Step 2) Calculate'!F586,\"\")","v":""},{"$f":"IF(L582<>\"\",'Step 2) Calculate'!H586,\"\")","v":""},{"$f":"IF(L582<>\"\",'Step 2) Calculate'!C586,\"\")","v":""}]
[null,null,null,null,null,null,null,null,null,null,{"$f":"IF(L583<>\"\",'Step 2) Calculate'!B587,\"Zzzzz - delete row\")","v":"Zzzzz - delete row"},{"$f":"IF('Step 2) Calculate'!E587<>\"\",'Step 2) Calculate'!G587,\"\")","v":""},{"$f":"IF(L583<>\"\",'Step 2) Calculate'!F587,\"\")","v":""},{"$f":"IF(L583<>\"\",'Step 2) Calculate'!H587,\"\")","v":""},{"$f":"IF(L583<>\"\",'Step 2) Calculate'!C587,\"\")","v":""}]
[null,null,null,null,null,null,null,null,null,null,{"$f":"IF(L584<>\"\",'Step 2) Calculate'!B588,\"Zzzzz - delete row\")","v":"Zzzzz - delete row"},{"$f":"IF('Step 2) Calculate'!E588<>\"\",'Step 2) Calculate'!G588,\"\")","v":""},{"$f":"IF(L584<>\"\",'Step 2) Calculate'!F588,\"\")","v":""},{"$f":"IF(L584<>\"\",'Step 2) Calculate'!H588,\"\")","v":""},{"$f":"IF(L584<>\"\",'Step 2) Calculate'!C588,\"\")","v":""}]
[null,null,null,null,null,null,null,null,null,null,{"$f":"IF(L585<>\"\",'Step 2) Calculate'!B589,\"Zzzzz - delete row\")","v":"Zzzzz - delete row"},{"$f":"IF('Step 2) Calculate'!E589<>\"\",'Step 2) Calculate'!G589,\"\")","v":""},{"$f":"IF(L585<>\"\",'Step 2) Calculate'!F589,\"\")","v":""},{"$f":"IF(L585<>\"\",'Step 2) Calculate'!H589,\"\")","v":""},{"$f":"IF(L585<>\"\",'Step 2) Calculate'!C589,\"\")","v":""}]
[null,null,null,null,null,null,null,null,null,null,{"$f":"IF(L586<>\"\",'Step 2) Calculate'!B590,\"Zzzzz - delete row\")","v":"Zzzzz - delete row"},{"$f":"IF('Step 2) Calculate'!E590<>\"\",'Step 2) Calculate'!G590,\"\")","v":""},{"$f":"IF(L586<>\"\",'Step 2) Calculate'!F590,\"\")","v":""},{"$f":"IF(L586<>\"\",'Step 2) Calculate'!H590,\"\")","v":""},{"$f":"IF(L586<>\"\",'Step 2) Calculate'!C590,\"\")","v":""}]
[null,null,null,null,null,null,null,null,null,null,{"$f":"IF(L587<>\"\",'Step 2) Calculate'!B591,\"Zzzzz - delete row\")","v":"Zzzzz - delete row"},{"$f":"IF('Step 2) Calculate'!E591<>\"\",'Step 2) Calculate'!G591,\"\")","v":""},{"$f":"IF(L587<>\"\",'Step 2) Calculate'!F591,\"\")","v":""},{"$f":"IF(L587<>\"\",'Step 2) Calculate'!H591,\"\")","v":""},{"$f":"IF(L587<>\"\",'Step 2) Calculate'!C591,\"\")","v":""}]
[null,null,null,null,null,null,null,null,null,null,{"$f":"IF(L588<>\"\",'Step 2) Calculate'!B592,\"Zzzzz - delete row\")","v":"Zzzzz - delete row"},{"$f":"IF('Step 2) Calculate'!E592<>\"\",'Step 2) Calculate'!G592,\"\")","v":""},{"$f":"IF(L588<>\"\",'Step 2) Calculate'!F592,\"\")","v":""},{"$f":"IF(L588<>\"\",'Step 2) Calculate'!H592,\"\")","v":""},{"$f":"IF(L588<>\"\",'Step 2) Calculate'!C592,\"\")","v":""}]
[null,null,null,null,null,null,null,null,null,null,{"$f":"IF(L589<>\"\",'Step 2) Calculate'!B593,\"Zzzzz - delete row\")","v":"Zzzzz - delete row"},{"$f":"IF('Step 2) Calculate'!E593<>\"\",'Step 2) Calculate'!G593,\"\")","v":""},{"$f":"IF(L589<>\"\",'Step 2) Calculate'!F593,\"\")","v":""},{"$f":"IF(L589<>\"\",'Step 2) Calculate'!H593,\"\")","v":""},{"$f":"IF(L589<>\"\",'Step 2) Calculate'!C593,\"\")","v":""}]
[null,null,null,null,null,null,null,null,null,null,{"$f":"IF(L590<>\"\",'Step 2) Calculate'!B594,\"Zzzzz - delete row\")","v":"Zzzzz - delete row"},{"$f":"IF('Step 2) Calculate'!E594<>\"\",'Step 2) Calculate'!G594,\"\")","v":""},{"$f":"IF(L590<>\"\",'Step 2) Calculate'!F594,\"\")","v":""},{"$f":"IF(L590<>\"\",'Step 2) Calculate'!H594,\"\")","v":""},{"$f":"IF(L590<>\"\",'Step 2) Calculate'!C594,\"\")","v":""}]
[null,null,null,null,null,null,null,null,null,null,{"$f":"IF(L591<>\"\",'Step 2) Calculate'!B595,\"Zzzzz - delete row\")","v":"Zzzzz - delete row"},{"$f":"IF('Step 2) Calculate'!E595<>\"\",'Step 2) Calculate'!G595,\"\")","v":""},{"$f":"IF(L591<>\"\",'Step 2) Calculate'!F595,\"\")","v":""},{"$f":"IF(L591<>\"\",'Step 2) Calculate'!H595,\"\")","v":""},{"$f":"IF(L591<>\"\",'Step 2) Calculate'!C595,\"\")","v":""}]
[null,null,null,null,null,null,null,null,null,null,{"$f":"IF(L592<>\"\",'Step 2) Calculate'!B596,\"Zzzzz - delete row\")","v":"Zzzzz - delete row"},{"$f":"IF('Step 2) Calculate'!E596<>\"\",'Step 2) Calculate'!G596,\"\")","v":""},{"$f":"IF(L592<>\"\",'Step 2) Calculate'!F596,\"\")","v":""},{"$f":"IF(L592<>\"\",'Step 2) Calculate'!H596,\"\")","v":""},{"$f":"IF(L592<>\"\",'Step 2) Calculate'!C596,\"\")","v":""}]
[null,null,null,null,null,null,null,null,null,null,{"$f":"IF(L593<>\"\",'Step 2) Calculate'!B597,\"Zzzzz - delete row\")","v":"Zzzzz - delete row"},{"$f":"IF('Step 2) Calculate'!E597<>\"\",'Step 2) Calculate'!G597,\"\")","v":""},{"$f":"IF(L593<>\"\",'Step 2) Calculate'!F597,\"\")","v":""},{"$f":"IF(L593<>\"\",'Step 2) Calculate'!H597,\"\")","v":""},{"$f":"IF(L593<>\"\",'Step 2) Calculate'!C597,\"\")","v":""}]
[null,null,null,null,null,null,null,null,null,null,{"$f":"IF(L594<>\"\",'Step 2) Calculate'!B598,\"Zzzzz - delete row\")","v":"Zzzzz - delete row"},{"$f":"IF('Step 2) Calculate'!E598<>\"\",'Step 2) Calculate'!G598,\"\")","v":""},{"$f":"IF(L594<>\"\",'Step 2) Calculate'!F598,\"\")","v":""},{"$f":"IF(L594<>\"\",'Step 2) Calculate'!H598,\"\")","v":""},{"$f":"IF(L594<>\"\",'Step 2) Calculate'!C598,\"\")","v":""}]
[null,null,null,null,null,null,null,null,null,null,{"$f":"IF(L595<>\"\",'Step 2) Calculate'!B599,\"Zzzzz - delete row\")","v":"Zzzzz - delete row"},{"$f":"IF('Step 2) Calculate'!E599<>\"\",'Step 2) Calculate'!G599,\"\")","v":""},{"$f":"IF(L595<>\"\",'Step 2) Calculate'!F599,\"\")","v":""},{"$f":"IF(L595<>\"\",'Step 2) Calculate'!H599,\"\")","v":""},{"$f":"IF(L595<>\"\",'Step 2) Calculate'!C599,\"\")","v":""}]
[null,null,null,null,null,null,null,null,null,null,{"$f":"IF(L596<>\"\",'Step 2) Calculate'!B600,\"Zzzzz - delete row\")","v":"Zzzzz - delete row"},{"$f":"IF('Step 2) Calculate'!E600<>\"\",'Step 2) Calculate'!G600,\"\")","v":""},{"$f":"IF(L596<>\"\",'Step 2) Calculate'!F600,\"\")","v":""},{"$f":"IF(L596<>\"\",'Step 2) Calculate'!H600,\"\")","v":""},{"$f":"IF(L596<>\"\",'Step 2) Calculate'!C600,\"\")","v":""}]
[null,null,null,null,null,null,null,null,null,null,{"$f":"IF(L597<>\"\",'Step 2) Calculate'!B601,\"Zzzzz - delete row\")","v":"Zzzzz - delete row"},{"$f":"IF('Step 2) Calculate'!E601<>\"\",'Step 2) Calculate'!G601,\"\")","v":""},{"$f":"IF(L597<>\"\",'Step 2) Calculate'!F601,\"\")","v":""},{"$f":"IF(L597<>\"\",'Step 2) Calculate'!H601,\"\")","v":""},{"$f":"IF(L597<>\"\",'Step 2) Calculate'!C601,\"\")","v":""}]
[null,null,null,null,null,null,null,null,null,null,{"$f":"IF(L598<>\"\",'Step 2) Calculate'!B602,\"Zzzzz - delete row\")","v":"Zzzzz - delete row"},{"$f":"IF('Step 2) Calculate'!E602<>\"\",'Step 2) Calculate'!G602,\"\")","v":""},{"$f":"IF(L598<>\"\",'Step 2) Calculate'!F602,\"\")","v":""},{"$f":"IF(L598<>\"\",'Step 2) Calculate'!H602,\"\")","v":""},{"$f":"IF(L598<>\"\",'Step 2) Calculate'!C602,\"\")","v":""}]
[null,null,null,null,null,null,null,null,null,null,{"$f":"IF(L599<>\"\",'Step 2) Calculate'!B603,\"Zzzzz - delete row\")","v":"Zzzzz - delete row"},{"$f":"IF('Step 2) Calculate'!E603<>\"\",'Step 2) Calculate'!G603,\"\")","v":""},{"$f":"IF(L599<>\"\",'Step 2) Calculate'!F603,\"\")","v":""},{"$f":"IF(L599<>\"\",'Step 2) Calculate'!H603,\"\")","v":""},{"$f":"IF(L599<>\"\",'Step 2) Calculate'!C603,\"\")","v":""}]
[null,null,null,null,null,null,null,null,null,null,{"$f":"IF(L600<>\"\",'Step 2) Calculate'!B604,\"Zzzzz - delete row\")","v":"Zzzzz - delete row"},{"$f":"IF('Step 2) Calculate'!E604<>\"\",'Step 2) Calculate'!G604,\"\")","v":""},{"$f":"IF(L600<>\"\",'Step 2) Calculate'!F604,\"\")","v":""},{"$f":"IF(L600<>\"\",'Step 2) Calculate'!H604,\"\")","v":""},{"$f":"IF(L600<>\"\",'Step 2) Calculate'!C604,\"\")","v":""}]
[null,null,null,null,null,null,null,null,null,null,{"$f":"IF(L601<>\"\",'Step 2) Calculate'!B605,\"Zzzzz - delete row\")","v":"Zzzzz - delete row"},{"$f":"IF('Step 2) Calculate'!E605<>\"\",'Step 2) Calculate'!G605,\"\")","v":""},{"$f":"IF(L601<>\"\",'Step 2) Calculate'!F605,\"\")","v":""},{"$f":"IF(L601<>\"\",'Step 2) Calculate'!H605,\"\")","v":""},{"$f":"IF(L601<>\"\",'Step 2) Calculate'!C605,\"\")","v":""}]
[null,null,null,null,null,null,null,null,null,null,{"$f":"IF(L602<>\"\",'Step 2) Calculate'!B606,\"Zzzzz - delete row\")","v":"Zzzzz - delete row"},{"$f":"IF('Step 2) Calculate'!E606<>\"\",'Step 2) Calculate'!G606,\"\")","v":""},{"$f":"IF(L602<>\"\",'Step 2) Calculate'!F606,\"\")","v":""},{"$f":"IF(L602<>\"\",'Step 2) Calculate'!H606,\"\")","v":""},{"$f":"IF(L602<>\"\",'Step 2) Calculate'!C606,\"\")","v":""}]
[null,null,null,null,null,null,null,null,null,null,{"$f":"IF(L603<>\"\",'Step 2) Calculate'!B607,\"Zzzzz - delete row\")","v":"Zzzzz - delete row"},{"$f":"IF('Step 2) Calculate'!E607<>\"\",'Step 2) Calculate'!G607,\"\")","v":""},{"$f":"IF(L603<>\"\",'Step 2) Calculate'!F607,\"\")","v":""},{"$f":"IF(L603<>\"\",'Step 2) Calculate'!H607,\"\")","v":""},{"$f":"IF(L603<>\"\",'Step 2) Calculate'!C607,\"\")","v":""}]
[null,null,null,null,null,null,null,null,null,null,{"$f":"IF(L604<>\"\",'Step 2) Calculate'!B608,\"Zzzzz - delete row\")","v":"Zzzzz - delete row"},{"$f":"IF('Step 2) Calculate'!E608<>\"\",'Step 2) Calculate'!G608,\"\")","v":""},{"$f":"IF(L604<>\"\",'Step 2) Calculate'!F608,\"\")","v":""},{"$f":"IF(L604<>\"\",'Step 2) Calculate'!H608,\"\")","v":""},{"$f":"IF(L604<>\"\",'Step 2) Calculate'!C608,\"\")","v":""}]
[null,null,null,null,null,null,null,null,null,null,{"$f":"IF(L605<>\"\",'Step 2) Calculate'!B609,\"Zzzzz - delete row\")","v":"Zzzzz - delete row"},{"$f":"IF('Step 2) Calculate'!E609<>\"\",'Step 2) Calculate'!G609,\"\")","v":""},{"$f":"IF(L605<>\"\",'Step 2) Calculate'!F609,\"\")","v":""},{"$f":"IF(L605<>\"\",'Step 2) Calculate'!H609,\"\")","v":""},{"$f":"IF(L605<>\"\",'Step 2) Calculate'!C609,\"\")","v":""}]
[null,null,null,null,null,null,null,null,null,null,{"$f":"IF(L606<>\"\",'Step 2) Calculate'!B610,\"Zzzzz - delete row\")","v":"Zzzzz - delete row"},{"$f":"IF('Step 2) Calculate'!E610<>\"\",'Step 2) Calculate'!G610,\"\")","v":""},{"$f":"IF(L606<>\"\",'Step 2) Calculate'!F610,\"\")","v":""},{"$f":"IF(L606<>\"\",'Step 2) Calculate'!H610,\"\")","v":""},{"$f":"IF(L606<>\"\",'Step 2) Calculate'!C610,\"\")","v":""}]
[null,null,null,null,null,null,null,null,null,null,{"$f":"IF(L607<>\"\",'Step 2) Calculate'!B611,\"Zzzzz - delete row\")","v":"Zzzzz - delete row"},{"$f":"IF('Step 2) Calculate'!E611<>\"\",'Step 2) Calculate'!G611,\"\")","v":""},{"$f":"IF(L607<>\"\",'Step 2) Calculate'!F611,\"\")","v":""},{"$f":"IF(L607<>\"\",'Step 2) Calculate'!H611,\"\")","v":""},{"$f":"IF(L607<>\"\",'Step 2) Calculate'!C611,\"\")","v":""}]
[null,null,null,null,null,null,null,null,null,null,{"$f":"IF(L608<>\"\",'Step 2) Calculate'!B612,\"Zzzzz - delete row\")","v":"Zzzzz - delete row"},{"$f":"IF('Step 2) Calculate'!E612<>\"\",'Step 2) Calculate'!G612,\"\")","v":""},{"$f":"IF(L608<>\"\",'Step 2) Calculate'!F612,\"\")","v":""},{"$f":"IF(L608<>\"\",'Step 2) Calculate'!H612,\"\")","v":""},{"$f":"IF(L608<>\"\",'Step 2) Calculate'!C612,\"\")","v":""}]
[null,null,null,null,null,null,null,null,null,null,{"$f":"IF(L609<>\"\",'Step 2) Calculate'!B613,\"Zzzzz - delete row\")","v":"Zzzzz - delete row"},{"$f":"IF('Step 2) Calculate'!E613<>\"\",'Step 2) Calculate'!G613,\"\")","v":""},{"$f":"IF(L609<>\"\",'Step 2) Calculate'!F613,\"\")","v":""},{"$f":"IF(L609<>\"\",'Step 2) Calculate'!H613,\"\")","v":""},{"$f":"IF(L609<>\"\",'Step 2) Calculate'!C613,\"\")","v":""}]
[null,null,null,null,null,null,null,null,null,null,{"$f":"IF(L610<>\"\",'Step 2) Calculate'!B614,\"Zzzzz - delete row\")","v":"Zzzzz - delete row"},{"$f":"IF('Step 2) Calculate'!E614<>\"\",'Step 2) Calculate'!G614,\"\")","v":""},{"$f":"IF(L610<>\"\",'Step 2) Calculate'!F614,\"\")","v":""},{"$f":"IF(L610<>\"\",'Step 2) Calculate'!H614,\"\")","v":""},{"$f":"IF(L610<>\"\",'Step 2) Calculate'!C614,\"\")","v":""}]
[null,null,null,null,null,null,null,null,null,null,{"$f":"IF(L611<>\"\",'Step 2) Calculate'!B615,\"Zzzzz - delete row\")","v":"Zzzzz - delete row"},{"$f":"IF('Step 2) Calculate'!E615<>\"\",'Step 2) Calculate'!G615,\"\")","v":""},{"$f":"IF(L611<>\"\",'Step 2) Calculate'!F615,\"\")","v":""},{"$f":"IF(L611<>\"\",'Step 2) Calculate'!H615,\"\")","v":""},{"$f":"IF(L611<>\"\",'Step 2) Calculate'!C615,\"\")","v":""}]
[null,null,null,null,null,null,null,null,null,null,{"$f":"IF(L612<>\"\",'Step 2) Calculate'!B616,\"Zzzzz - delete row\")","v":"Zzzzz - delete row"},{"$f":"IF('Step 2) Calculate'!E616<>\"\",'Step 2) Calculate'!G616,\"\")","v":""},{"$f":"IF(L612<>\"\",'Step 2) Calculate'!F616,\"\")","v":""},{"$f":"IF(L612<>\"\",'Step 2) Calculate'!H616,\"\")","v":""},{"$f":"IF(L612<>\"\",'Step 2) Calculate'!C616,\"\")","v":""}]
[null,null,null,null,null,null,null,null,null,null,{"$f":"IF(L613<>\"\",'Step 2) Calculate'!B617,\"Zzzzz - delete row\")","v":"Zzzzz - delete row"},{"$f":"IF('Step 2) Calculate'!E617<>\"\",'Step 2) Calculate'!G617,\"\")","v":""},{"$f":"IF(L613<>\"\",'Step 2) Calculate'!F617,\"\")","v":""},{"$f":"IF(L613<>\"\",'Step 2) Calculate'!H617,\"\")","v":""},{"$f":"IF(L613<>\"\",'Step 2) Calculate'!C617,\"\")","v":""}]
[null,null,null,null,null,null,null,null,null,null,{"$f":"IF(L614<>\"\",'Step 2) Calculate'!B618,\"Zzzzz - delete row\")","v":"Zzzzz - delete row"},{"$f":"IF('Step 2) Calculate'!E618<>\"\",'Step 2) Calculate'!G618,\"\")","v":""},{"$f":"IF(L614<>\"\",'Step 2) Calculate'!F618,\"\")","v":""},{"$f":"IF(L614<>\"\",'Step 2) Calculate'!H618,\"\")","v":""},{"$f":"IF(L614<>\"\",'Step 2) Calculate'!C618,\"\")","v":""}]
[null,null,null,null,null,null,null,null,null,null,{"$f":"IF(L615<>\"\",'Step 2) Calculate'!B619,\"Zzzzz - delete row\")","v":"Zzzzz - delete row"},{"$f":"IF('Step 2) Calculate'!E619<>\"\",'Step 2) Calculate'!G619,\"\")","v":""},{"$f":"IF(L615<>\"\",'Step 2) Calculate'!F619,\"\")","v":""},{"$f":"IF(L615<>\"\",'Step 2) Calculate'!H619,\"\")","v":""},{"$f":"IF(L615<>\"\",'Step 2) Calculate'!C619,\"\")","v":""}]
[null,null,null,null,null,null,null,null,null,null,{"$f":"IF(L616<>\"\",'Step 2) Calculate'!B620,\"Zzzzz - delete row\")","v":"Zzzzz - delete row"},{"$f":"IF('Step 2) Calculate'!E620<>\"\",'Step 2) Calculate'!G620,\"\")","v":""},{"$f":"IF(L616<>\"\",'Step 2) Calculate'!F620,\"\")","v":""},{"$f":"IF(L616<>\"\",'Step 2) Calculate'!H620,\"\")","v":""},{"$f":"IF(L616<>\"\",'Step 2) Calculate'!C620,\"\")","v":""}]
[null,null,null,null,null,null,null,null,null,null,{"$f":"IF(L617<>\"\",'Step 2) Calculate'!B621,\"Zzzzz - delete row\")","v":"Zzzzz - delete row"},{"$f":"IF('Step 2) Calculate'!E621<>\"\",'Step 2) Calculate'!G621,\"\")","v":""},{"$f":"IF(L617<>\"\",'Step 2) Calculate'!F621,\"\")","v":""},{"$f":"IF(L617<>\"\",'Step 2) Calculate'!H621,\"\")","v":""},{"$f":"IF(L617<>\"\",'Step 2) Calculate'!C621,\"\")","v":""}]
[null,null,null,null,null,null,null,null,null,null,{"$f":"IF(L618<>\"\",'Step 2) Calculate'!B622,\"Zzzzz - delete row\")","v":"Zzzzz - delete row"},{"$f":"IF('Step 2) Calculate'!E622<>\"\",'Step 2) Calculate'!G622,\"\")","v":""},{"$f":"IF(L618<>\"\",'Step 2) Calculate'!F622,\"\")","v":""},{"$f":"IF(L618<>\"\",'Step 2) Calculate'!H622,\"\")","v":""},{"$f":"IF(L618<>\"\",'Step 2) Calculate'!C622,\"\")","v":""}]
[null,null,null,null,null,null,null,null,null,null,{"$f":"IF(L619<>\"\",'Step 2) Calculate'!B623,\"Zzzzz - delete row\")","v":"Zzzzz - delete row"},{"$f":"IF('Step 2) Calculate'!E623<>\"\",'Step 2) Calculate'!G623,\"\")","v":""},{"$f":"IF(L619<>\"\",'Step 2) Calculate'!F623,\"\")","v":""},{"$f":"IF(L619<>\"\",'Step 2) Calculate'!H623,\"\")","v":""},{"$f":"IF(L619<>\"\",'Step 2) Calculate'!C623,\"\")","v":""}]
[null,null,null,null,null,null,null,null,null,null,{"$f":"IF(L620<>\"\",'Step 2) Calculate'!B624,\"Zzzzz - delete row\")","v":"Zzzzz - delete row"},{"$f":"IF('Step 2) Calculate'!E624<>\"\",'Step 2) Calculate'!G624,\"\")","v":""},{"$f":"IF(L620<>\"\",'Step 2) Calculate'!F624,\"\")","v":""},{"$f":"IF(L620<>\"\",'Step 2) Calculate'!H624,\"\")","v":""},{"$f":"IF(L620<>\"\",'Step 2) Calculate'!C624,\"\")","v":""}]
[null,null,null,null,null,null,null,null,null,null,{"$f":"IF(L621<>\"\",'Step 2) Calculate'!B625,\"Zzzzz - delete row\")","v":"Zzzzz - delete row"},{"$f":"IF('Step 2) Calculate'!E625<>\"\",'Step 2) Calculate'!G625,\"\")","v":""},{"$f":"IF(L621<>\"\",'Step 2) Calculate'!F625,\"\")","v":""},{"$f":"IF(L621<>\"\",'Step 2) Calculate'!H625,\"\")","v":""},{"$f":"IF(L621<>\"\",'Step 2) Calculate'!C625,\"\")","v":""}]
[null,null,null,null,null,null,null,null,null,null,{"$f":"IF(L622<>\"\",'Step 2) Calculate'!B626,\"Zzzzz - delete row\")","v":"Zzzzz - delete row"},{"$f":"IF('Step 2) Calculate'!E626<>\"\",'Step 2) Calculate'!G626,\"\")","v":""},{"$f":"IF(L622<>\"\",'Step 2) Calculate'!F626,\"\")","v":""},{"$f":"IF(L622<>\"\",'Step 2) Calculate'!H626,\"\")","v":""},{"$f":"IF(L622<>\"\",'Step 2) Calculate'!C626,\"\")","v":""}]
[null,null,null,null,null,null,null,null,null,null,{"$f":"IF(L623<>\"\",'Step 2) Calculate'!B627,\"Zzzzz - delete row\")","v":"Zzzzz - delete row"},{"$f":"IF('Step 2) Calculate'!E627<>\"\",'Step 2) Calculate'!G627,\"\")","v":""},{"$f":"IF(L623<>\"\",'Step 2) Calculate'!F627,\"\")","v":""},{"$f":"IF(L623<>\"\",'Step 2) Calculate'!H627,\"\")","v":""},{"$f":"IF(L623<>\"\",'Step 2) Calculate'!C627,\"\")","v":""}]
[null,null,null,null,null,null,null,null,null,null,{"$f":"IF(L624<>\"\",'Step 2) Calculate'!B628,\"Zzzzz - delete row\")","v":"Zzzzz - delete row"},{"$f":"IF('Step 2) Calculate'!E628<>\"\",'Step 2) Calculate'!G628,\"\")","v":""},{"$f":"IF(L624<>\"\",'Step 2) Calculate'!F628,\"\")","v":""},{"$f":"IF(L624<>\"\",'Step 2) Calculate'!H628,\"\")","v":""},{"$f":"IF(L624<>\"\",'Step 2) Calculate'!C628,\"\")","v":""}]
[null,null,null,null,null,null,null,null,null,null,{"$f":"IF(L625<>\"\",'Step 2) Calculate'!B629,\"Zzzzz - delete row\")","v":"Zzzzz - delete row"},{"$f":"IF('Step 2) Calculate'!E629<>\"\",'Step 2) Calculate'!G629,\"\")","v":""},{"$f":"IF(L625<>\"\",'Step 2) Calculate'!F629,\"\")","v":""},{"$f":"IF(L625<>\"\",'Step 2) Calculate'!H629,\"\")","v":""},{"$f":"IF(L625<>\"\",'Step 2) Calculate'!C629,\"\")","v":""}]
[null,null,null,null,null,null,null,null,null,null,{"$f":"IF(L626<>\"\",'Step 2) Calculate'!B630,\"Zzzzz - delete row\")","v":"Zzzzz - delete row"},{"$f":"IF('Step 2) Calculate'!E630<>\"\",'Step 2) Calculate'!G630,\"\")","v":""},{"$f":"IF(L626<>\"\",'Step 2) Calculate'!F630,\"\")","v":""},{"$f":"IF(L626<>\"\",'Step 2) Calculate'!H630,\"\")","v":""},{"$f":"IF(L626<>\"\",'Step 2) Calculate'!C630,\"\")","v":""}]
[null,null,null,null,null,null,null,null,null,null,{"$f":"IF(L627<>\"\",'Step 2) Calculate'!B631,\"Zzzzz - delete row\")","v":"Zzzzz - delete row"},{"$f":"IF('Step 2) Calculate'!E631<>\"\",'Step 2) Calculate'!G631,\"\")","v":""},{"$f":"IF(L627<>\"\",'Step 2) Calculate'!F631,\"\")","v":""},{"$f":"IF(L627<>\"\",'Step 2) Calculate'!H631,\"\")","v":""},{"$f":"IF(L627<>\"\",'Step 2) Calculate'!C631,\"\")","v":""}]
[null,null,null,null,null,null,null,null,null,null,{"$f":"IF(L628<>\"\",'Step 2) Calculate'!B632,\"Zzzzz - delete row\")","v":"Zzzzz - delete row"},{"$f":"IF('Step 2) Calculate'!E632<>\"\",'Step 2) Calculate'!G632,\"\")","v":""},{"$f":"IF(L628<>\"\",'Step 2) Calculate'!F632,\"\")","v":""},{"$f":"IF(L628<>\"\",'Step 2) Calculate'!H632,\"\")","v":""},{"$f":"IF(L628<>\"\",'Step 2) Calculate'!C632,\"\")","v":""}]
[null,null,null,null,null,null,null,null,null,null,{"$f":"IF(L629<>\"\",'Step 2) Calculate'!B633,\"Zzzzz - delete row\")","v":"Zzzzz - delete row"},{"$f":"IF('Step 2) Calculate'!E633<>\"\",'Step 2) Calculate'!G633,\"\")","v":""},{"$f":"IF(L629<>\"\",'Step 2) Calculate'!F633,\"\")","v":""},{"$f":"IF(L629<>\"\",'Step 2) Calculate'!H633,\"\")","v":""},{"$f":"IF(L629<>\"\",'Step 2) Calculate'!C633,\"\")","v":""}]
[null,null,null,null,null,null,null,null,null,null,{"$f":"IF(L630<>\"\",'Step 2) Calculate'!B634,\"Zzzzz - delete row\")","v":"Zzzzz - delete row"},{"$f":"IF('Step 2) Calculate'!E634<>\"\",'Step 2) Calculate'!G634,\"\")","v":""},{"$f":"IF(L630<>\"\",'Step 2) Calculate'!F634,\"\")","v":""},{"$f":"IF(L630<>\"\",'Step 2) Calculate'!H634,\"\")","v":""},{"$f":"IF(L630<>\"\",'Step 2) Calculate'!C634,\"\")","v":""}]
[null,null,null,null,null,null,null,null,null,null,{"$f":"IF(L631<>\"\",'Step 2) Calculate'!B635,\"Zzzzz - delete row\")","v":"Zzzzz - delete row"},{"$f":"IF('Step 2) Calculate'!E635<>\"\",'Step 2) Calculate'!G635,\"\")","v":""},{"$f":"IF(L631<>\"\",'Step 2) Calculate'!F635,\"\")","v":""},{"$f":"IF(L631<>\"\",'Step 2) Calculate'!H635,\"\")","v":""},{"$f":"IF(L631<>\"\",'Step 2) Calculate'!C635,\"\")","v":""}]
[null,null,null,null,null,null,null,null,null,null,{"$f":"IF(L632<>\"\",'Step 2) Calculate'!B636,\"Zzzzz - delete row\")","v":"Zzzzz - delete row"},{"$f":"IF('Step 2) Calculate'!E636<>\"\",'Step 2) Calculate'!G636,\"\")","v":""},{"$f":"IF(L632<>\"\",'Step 2) Calculate'!F636,\"\")","v":""},{"$f":"IF(L632<>\"\",'Step 2) Calculate'!H636,\"\")","v":""},{"$f":"IF(L632<>\"\",'Step 2) Calculate'!C636,\"\")","v":""}]
[null,null,null,null,null,null,null,null,null,null,{"$f":"IF(L633<>\"\",'Step 2) Calculate'!B637,\"Zzzzz - delete row\")","v":"Zzzzz - delete row"},{"$f":"IF('Step 2) Calculate'!E637<>\"\",'Step 2) Calculate'!G637,\"\")","v":""},{"$f":"IF(L633<>\"\",'Step 2) Calculate'!F637,\"\")","v":""},{"$f":"IF(L633<>\"\",'Step 2) Calculate'!H637,\"\")","v":""},{"$f":"IF(L633<>\"\",'Step 2) Calculate'!C637,\"\")","v":""}]
[null,null,null,null,null,null,null,null,null,null,{"$f":"IF(L634<>\"\",'Step 2) Calculate'!B638,\"Zzzzz - delete row\")","v":"Zzzzz - delete row"},{"$f":"IF('Step 2) Calculate'!E638<>\"\",'Step 2) Calculate'!G638,\"\")","v":""},{"$f":"IF(L634<>\"\",'Step 2) Calculate'!F638,\"\")","v":""},{"$f":"IF(L634<>\"\",'Step 2) Calculate'!H638,\"\")","v":""},{"$f":"IF(L634<>\"\",'Step 2) Calculate'!C638,\"\")","v":""}]
[null,null,null,null,null,null,null,null,null,null,{"$f":"IF(L635<>\"\",'Step 2) Calculate'!B639,\"Zzzzz - delete row\")","v":"Zzzzz - delete row"},{"$f":"IF('Step 2) Calculate'!E639<>\"\",'Step 2) Calculate'!G639,\"\")","v":""},{"$f":"IF(L635<>\"\",'Step 2) Calculate'!F639,\"\")","v":""},{"$f":"IF(L635<>\"\",'Step 2) Calculate'!H639,\"\")","v":""},{"$f":"IF(L635<>\"\",'Step 2) Calculate'!C639,\"\")","v":""}]
[null,null,null,null,null,null,null,null,null,null,{"$f":"IF(L636<>\"\",'Step 2) Calculate'!B640,\"Zzzzz - delete row\")","v":"Zzzzz - delete row"},{"$f":"IF('Step 2) Calculate'!E640<>\"\",'Step 2) Calculate'!G640,\"\")","v":""},{"$f":"IF(L636<>\"\",'Step 2) Calculate'!F640,\"\")","v":""},{"$f":"IF(L636<>\"\",'Step 2) Calculate'!H640,\"\")","v":""},{"$f":"IF(L636<>\"\",'Step 2) Calculate'!C640,\"\")","v":""}]
[null,null,null,null,null,null,null,null,null,null,{"$f":"IF(L637<>\"\",'Step 2) Calculate'!B641,\"Zzzzz - delete row\")","v":"Zzzzz - delete row"},{"$f":"IF('Step 2) Calculate'!E641<>\"\",'Step 2) Calculate'!G641,\"\")","v":""},{"$f":"IF(L637<>\"\",'Step 2) Calculate'!F641,\"\")","v":""},{"$f":"IF(L637<>\"\",'Step 2) Calculate'!H641,\"\")","v":""},{"$f":"IF(L637<>\"\",'Step 2) Calculate'!C641,\"\")","v":""}]
[null,null,null,null,null,null,null,null,null,null,{"$f":"IF(L638<>\"\",'Step 2) Calculate'!B642,\"Zzzzz - delete row\")","v":"Zzzzz - delete row"},{"$f":"IF('Step 2) Calculate'!E642<>\"\",'Step 2) Calculate'!G642,\"\")","v":""},{"$f":"IF(L638<>\"\",'Step 2) Calculate'!F642,\"\")","v":""},{"$f":"IF(L638<>\"\",'Step 2) Calculate'!H642,\"\")","v":""},{"$f":"IF(L638<>\"\",'Step 2) Calculate'!C642,\"\")","v":""}]
[null,null,null,null,null,null,null,null,null,null,{"$f":"IF(L639<>\"\",'Step 2) Calculate'!B643,\"Zzzzz - delete row\")","v":"Zzzzz - delete row"},{"$f":"IF('Step 2) Calculate'!E643<>\"\",'Step 2) Calculate'!G643,\"\")","v":""},{"$f":"IF(L639<>\"\",'Step 2) Calculate'!F643,\"\")","v":""},{"$f":"IF(L639<>\"\",'Step 2) Calculate'!H643,\"\")","v":""},{"$f":"IF(L639<>\"\",'Step 2) Calculate'!C643,\"\")","v":""}]
[null,null,null,null,null,null,null,null,null,null,{"$f":"IF(L640<>\"\",'Step 2) Calculate'!B644,\"Zzzzz - delete row\")","v":"Zzzzz - delete row"},{"$f":"IF('Step 2) Calculate'!E644<>\"\",'Step 2) Calculate'!G644,\"\")","v":""},{"$f":"IF(L640<>\"\",'Step 2) Calculate'!F644,\"\")","v":""},{"$f":"IF(L640<>\"\",'Step 2) Calculate'!H644,\"\")","v":""},{"$f":"IF(L640<>\"\",'Step 2) Calculate'!C644,\"\")","v":""}]
[null,null,null,null,null,null,null,null,null,null,{"$f":"IF(L641<>\"\",'Step 2) Calculate'!B645,\"Zzzzz - delete row\")","v":"Zzzzz - delete row"},{"$f":"IF('Step 2) Calculate'!E645<>\"\",'Step 2) Calculate'!G645,\"\")","v":""},{"$f":"IF(L641<>\"\",'Step 2) Calculate'!F645,\"\")","v":""},{"$f":"IF(L641<>\"\",'Step 2) Calculate'!H645,\"\")","v":""},{"$f":"IF(L641<>\"\",'Step 2) Calculate'!C645,\"\")","v":""}]
[null,null,null,null,null,null,null,null,null,null,{"$f":"IF(L642<>\"\",'Step 2) Calculate'!B646,\"Zzzzz - delete row\")","v":"Zzzzz - delete row"},{"$f":"IF('Step 2) Calculate'!E646<>\"\",'Step 2) Calculate'!G646,\"\")","v":""},{"$f":"IF(L642<>\"\",'Step 2) Calculate'!F646,\"\")","v":""},{"$f":"IF(L642<>\"\",'Step 2) Calculate'!H646,\"\")","v":""},{"$f":"IF(L642<>\"\",'Step 2) Calculate'!C646,\"\")","v":""}]
[null,null,null,null,null,null,null,null,null,null,{"$f":"IF(L643<>\"\",'Step 2) Calculate'!B647,\"Zzzzz - delete row\")","v":"Zzzzz - delete row"},{"$f":"IF('Step 2) Calculate'!E647<>\"\",'Step 2) Calculate'!G647,\"\")","v":""},{"$f":"IF(L643<>\"\",'Step 2) Calculate'!F647,\"\")","v":""},{"$f":"IF(L643<>\"\",'Step 2) Calculate'!H647,\"\")","v":""},{"$f":"IF(L643<>\"\",'Step 2) Calculate'!C647,\"\")","v":""}]
[null,null,null,null,null,null,null,null,null,null,{"$f":"IF(L644<>\"\",'Step 2) Calculate'!B648,\"Zzzzz - delete row\")","v":"Zzzzz - delete row"},{"$f":"IF('Step 2) Calculate'!E648<>\"\",'Step 2) Calculate'!G648,\"\")","v":""},{"$f":"IF(L644<>\"\",'Step 2) Calculate'!F648,\"\")","v":""},{"$f":"IF(L644<>\"\",'Step 2) Calculate'!H648,\"\")","v":""},{"$f":"IF(L644<>\"\",'Step 2) Calculate'!C648,\"\")","v":""}]
[null,null,null,null,null,null,null,null,null,null,{"$f":"IF(L645<>\"\",'Step 2) Calculate'!B649,\"Zzzzz - delete row\")","v":"Zzzzz - delete row"},{"$f":"IF('Step 2) Calculate'!E649<>\"\",'Step 2) Calculate'!G649,\"\")","v":""},{"$f":"IF(L645<>\"\",'Step 2) Calculate'!F649,\"\")","v":""},{"$f":"IF(L645<>\"\",'Step 2) Calculate'!H649,\"\")","v":""},{"$f":"IF(L645<>\"\",'Step 2) Calculate'!C649,\"\")","v":""}]
[null,null,null,null,null,null,null,null,null,null,{"$f":"IF(L646<>\"\",'Step 2) Calculate'!B650,\"Zzzzz - delete row\")","v":"Zzzzz - delete row"},{"$f":"IF('Step 2) Calculate'!E650<>\"\",'Step 2) Calculate'!G650,\"\")","v":""},{"$f":"IF(L646<>\"\",'Step 2) Calculate'!F650,\"\")","v":""},{"$f":"IF(L646<>\"\",'Step 2) Calculate'!H650,\"\")","v":""},{"$f":"IF(L646<>\"\",'Step 2) Calculate'!C650,\"\")","v":""}]
[null,null,null,null,null,null,null,null,null,null,{"$f":"IF(L647<>\"\",'Step 2) Calculate'!B651,\"Zzzzz - delete row\")","v":"Zzzzz - delete row"},{"$f":"IF('Step 2) Calculate'!E651<>\"\",'Step 2) Calculate'!G651,\"\")","v":""},{"$f":"IF(L647<>\"\",'Step 2) Calculate'!F651,\"\")","v":""},{"$f":"IF(L647<>\"\",'Step 2) Calculate'!H651,\"\")","v":""},{"$f":"IF(L647<>\"\",'Step 2) Calculate'!C651,\"\")","v":""}]
[null,null,null,null,null,null,null,null,null,null,{"$f":"IF(L648<>\"\",'Step 2) Calculate'!B652,\"Zzzzz - delete row\")","v":"Zzzzz - delete row"},{"$f":"IF('Step 2) Calculate'!E652<>\"\",'Step 2) Calculate'!G652,\"\")","v":""},{"$f":"IF(L648<>\"\",'Step 2) Calculate'!F652,\"\")","v":""},{"$f":"IF(L648<>\"\",'Step 2) Calculate'!H652,\"\")","v":""},{"$f":"IF(L648<>\"\",'Step 2) Calculate'!C652,\"\")","v":""}]
[null,null,null,null,null,null,null,null,null,null,{"$f":"IF(L649<>\"\",'Step 2) Calculate'!B653,\"Zzzzz - delete row\")","v":"Zzzzz - delete row"},{"$f":"IF('Step 2) Calculate'!E653<>\"\",'Step 2) Calculate'!G653,\"\")","v":""},{"$f":"IF(L649<>\"\",'Step 2) Calculate'!F653,\"\")","v":""},{"$f":"IF(L649<>\"\",'Step 2) Calculate'!H653,\"\")","v":""},{"$f":"IF(L649<>\"\",'Step 2) Calculate'!C653,\"\")","v":""}]
[null,null,null,null,null,null,null,null,null,null,{"$f":"IF(L650<>\"\",'Step 2) Calculate'!B654,\"Zzzzz - delete row\")","v":"Zzzzz - delete row"},{"$f":"IF('Step 2) Calculate'!E654<>\"\",'Step 2) Calculate'!G654,\"\")","v":""},{"$f":"IF(L650<>\"\",'Step 2) Calculate'!F654,\"\")","v":""},{"$f":"IF(L650<>\"\",'Step 2) Calculate'!H654,\"\")","v":""},{"$f":"IF(L650<>\"\",'Step 2) Calculate'!C654,\"\")","v":""}]
[null,null,null,null,null,null,null,null,null,null,{"$f":"IF(L651<>\"\",'Step 2) Calculate'!B655,\"Zzzzz - delete row\")","v":"Zzzzz - delete row"},{"$f":"IF('Step 2) Calculate'!E655<>\"\",'Step 2) Calculate'!G655,\"\")","v":""},{"$f":"IF(L651<>\"\",'Step 2) Calculate'!F655,\"\")","v":""},{"$f":"IF(L651<>\"\",'Step 2) Calculate'!H655,\"\")","v":""},{"$f":"IF(L651<>\"\",'Step 2) Calculate'!C655,\"\")","v":""}]
[null,null,null,null,null,null,null,null,null,null,{"$f":"IF(L652<>\"\",'Step 2) Calculate'!B656,\"Zzzzz - delete row\")","v":"Zzzzz - delete row"},{"$f":"IF('Step 2) Calculate'!E656<>\"\",'Step 2) Calculate'!G656,\"\")","v":""},{"$f":"IF(L652<>\"\",'Step 2) Calculate'!F656,\"\")","v":""},{"$f":"IF(L652<>\"\",'Step 2) Calculate'!H656,\"\")","v":""},{"$f":"IF(L652<>\"\",'Step 2) Calculate'!C656,\"\")","v":""}]
[null,null,null,null,null,null,null,null,null,null,{"$f":"IF(L653<>\"\",'Step 2) Calculate'!B657,\"Zzzzz - delete row\")","v":"Zzzzz - delete row"},{"$f":"IF('Step 2) Calculate'!E657<>\"\",'Step 2) Calculate'!G657,\"\")","v":""},{"$f":"IF(L653<>\"\",'Step 2) Calculate'!F657,\"\")","v":""},{"$f":"IF(L653<>\"\",'Step 2) Calculate'!H657,\"\")","v":""},{"$f":"IF(L653<>\"\",'Step 2) Calculate'!C657,\"\")","v":""}]
[null,null,null,null,null,null,null,null,null,null,{"$f":"IF(L654<>\"\",'Step 2) Calculate'!B658,\"Zzzzz - delete row\")","v":"Zzzzz - delete row"},{"$f":"IF('Step 2) Calculate'!E658<>\"\",'Step 2) Calculate'!G658,\"\")","v":""},{"$f":"IF(L654<>\"\",'Step 2) Calculate'!F658,\"\")","v":""},{"$f":"IF(L654<>\"\",'Step 2) Calculate'!H658,\"\")","v":""},{"$f":"IF(L654<>\"\",'Step 2) Calculate'!C658,\"\")","v":""}]
[null,null,null,null,null,null,null,null,null,null,{"$f":"IF(L655<>\"\",'Step 2) Calculate'!B659,\"Zzzzz - delete row\")","v":"Zzzzz - delete row"},{"$f":"IF('Step 2) Calculate'!E659<>\"\",'Step 2) Calculate'!G659,\"\")","v":""},{"$f":"IF(L655<>\"\",'Step 2) Calculate'!F659,\"\")","v":""},{"$f":"IF(L655<>\"\",'Step 2) Calculate'!H659,\"\")","v":""},{"$f":"IF(L655<>\"\",'Step 2) Calculate'!C659,\"\")","v":""}]
[null,null,null,null,null,null,null,null,null,null,{"$f":"IF(L656<>\"\",'Step 2) Calculate'!B660,\"Zzzzz - delete row\")","v":"Zzzzz - delete row"},{"$f":"IF('Step 2) Calculate'!E660<>\"\",'Step 2) Calculate'!G660,\"\")","v":""},{"$f":"IF(L656<>\"\",'Step 2) Calculate'!F660,\"\")","v":""},{"$f":"IF(L656<>\"\",'Step 2) Calculate'!H660,\"\")","v":""},{"$f":"IF(L656<>\"\",'Step 2) Calculate'!C660,\"\")","v":""}]
[null,null,null,null,null,null,null,null,null,null,{"$f":"IF(L657<>\"\",'Step 2) Calculate'!B661,\"Zzzzz - delete row\")","v":"Zzzzz - delete row"},{"$f":"IF('Step 2) Calculate'!E661<>\"\",'Step 2) Calculate'!G661,\"\")","v":""},{"$f":"IF(L657<>\"\",'Step 2) Calculate'!F661,\"\")","v":""},{"$f":"IF(L657<>\"\",'Step 2) Calculate'!H661,\"\")","v":""},{"$f":"IF(L657<>\"\",'Step 2) Calculate'!C661,\"\")","v":""}]
[null,null,null,null,null,null,null,null,null,null,{"$f":"IF(L658<>\"\",'Step 2) Calculate'!B662,\"Zzzzz - delete row\")","v":"Zzzzz - delete row"},{"$f":"IF('Step 2) Calculate'!E662<>\"\",'Step 2) Calculate'!G662,\"\")","v":""},{"$f":"IF(L658<>\"\",'Step 2) Calculate'!F662,\"\")","v":""},{"$f":"IF(L658<>\"\",'Step 2) Calculate'!H662,\"\")","v":""},{"$f":"IF(L658<>\"\",'Step 2) Calculate'!C662,\"\")","v":""}]
[null,null,null,null,null,null,null,null,null,null,{"$f":"IF(L659<>\"\",'Step 2) Calculate'!B663,\"Zzzzz - delete row\")","v":"Zzzzz - delete row"},{"$f":"IF('Step 2) Calculate'!E663<>\"\",'Step 2) Calculate'!G663,\"\")","v":""},{"$f":"IF(L659<>\"\",'Step 2) Calculate'!F663,\"\")","v":""},{"$f":"IF(L659<>\"\",'Step 2) Calculate'!H663,\"\")","v":""},{"$f":"IF(L659<>\"\",'Step 2) Calculate'!C663,\"\")","v":""}]
[null,null,null,null,null,null,null,null,null,null,{"$f":"IF(L660<>\"\",'Step 2) Calculate'!B664,\"Zzzzz - delete row\")","v":"Zzzzz - delete row"},{"$f":"IF('Step 2) Calculate'!E664<>\"\",'Step 2) Calculate'!G664,\"\")","v":""},{"$f":"IF(L660<>\"\",'Step 2) Calculate'!F664,\"\")","v":""},{"$f":"IF(L660<>\"\",'Step 2) Calculate'!H664,\"\")","v":""},{"$f":"IF(L660<>\"\",'Step 2) Calculate'!C664,\"\")","v":""}]
[null,null,null,null,null,null,null,null,null,null,{"$f":"IF(L661<>\"\",'Step 2) Calculate'!B665,\"Zzzzz - delete row\")","v":"Zzzzz - delete row"},{"$f":"IF('Step 2) Calculate'!E665<>\"\",'Step 2) Calculate'!G665,\"\")","v":""},{"$f":"IF(L661<>\"\",'Step 2) Calculate'!F665,\"\")","v":""},{"$f":"IF(L661<>\"\",'Step 2) Calculate'!H665,\"\")","v":""},{"$f":"IF(L661<>\"\",'Step 2) Calculate'!C665,\"\")","v":""}]
[null,null,null,null,null,null,null,null,null,null,{"$f":"IF(L662<>\"\",'Step 2) Calculate'!B666,\"Zzzzz - delete row\")","v":"Zzzzz - delete row"},{"$f":"IF('Step 2) Calculate'!E666<>\"\",'Step 2) Calculate'!G666,\"\")","v":""},{"$f":"IF(L662<>\"\",'Step 2) Calculate'!F666,\"\")","v":""},{"$f":"IF(L662<>\"\",'Step 2) Calculate'!H666,\"\")","v":""},{"$f":"IF(L662<>\"\",'Step 2) Calculate'!C666,\"\")","v":""}]
[null,null,null,null,null,null,null,null,null,null,{"$f":"IF(L663<>\"\",'Step 2) Calculate'!B667,\"Zzzzz - delete row\")","v":"Zzzzz - delete row"},{"$f":"IF('Step 2) Calculate'!E667<>\"\",'Step 2) Calculate'!G667,\"\")","v":""},{"$f":"IF(L663<>\"\",'Step 2) Calculate'!F667,\"\")","v":""},{"$f":"IF(L663<>\"\",'Step 2) Calculate'!H667,\"\")","v":""},{"$f":"IF(L663<>\"\",'Step 2) Calculate'!C667,\"\")","v":""}]
[null,null,null,null,null,null,null,null,null,null,{"$f":"IF(L664<>\"\",'Step 2) Calculate'!B668,\"Zzzzz - delete row\")","v":"Zzzzz - delete row"},{"$f":"IF('Step 2) Calculate'!E668<>\"\",'Step 2) Calculate'!G668,\"\")","v":""},{"$f":"IF(L664<>\"\",'Step 2) Calculate'!F668,\"\")","v":""},{"$f":"IF(L664<>\"\",'Step 2) Calculate'!H668,\"\")","v":""},{"$f":"IF(L664<>\"\",'Step 2) Calculate'!C668,\"\")","v":""}]
[null,null,null,null,null,null,null,null,null,null,{"$f":"IF(L665<>\"\",'Step 2) Calculate'!B669,\"Zzzzz - delete row\")","v":"Zzzzz - delete row"},{"$f":"IF('Step 2) Calculate'!E669<>\"\",'Step 2) Calculate'!G669,\"\")","v":""},{"$f":"IF(L665<>\"\",'Step 2) Calculate'!F669,\"\")","v":""},{"$f":"IF(L665<>\"\",'Step 2) Calculate'!H669,\"\")","v":""},{"$f":"IF(L665<>\"\",'Step 2) Calculate'!C669,\"\")","v":""}]
[null,null,null,null,null,null,null,null,null,null,{"$f":"IF(L666<>\"\",'Step 2) Calculate'!B670,\"Zzzzz - delete row\")","v":"Zzzzz - delete row"},{"$f":"IF('Step 2) Calculate'!E670<>\"\",'Step 2) Calculate'!G670,\"\")","v":""},{"$f":"IF(L666<>\"\",'Step 2) Calculate'!F670,\"\")","v":""},{"$f":"IF(L666<>\"\",'Step 2) Calculate'!H670,\"\")","v":""},{"$f":"IF(L666<>\"\",'Step 2) Calculate'!C670,\"\")","v":""}]
[null,null,null,null,null,null,null,null,null,null,{"$f":"IF(L667<>\"\",'Step 2) Calculate'!B671,\"Zzzzz - delete row\")","v":"Zzzzz - delete row"},{"$f":"IF('Step 2) Calculate'!E671<>\"\",'Step 2) Calculate'!G671,\"\")","v":""},{"$f":"IF(L667<>\"\",'Step 2) Calculate'!F671,\"\")","v":""},{"$f":"IF(L667<>\"\",'Step 2) Calculate'!H671,\"\")","v":""},{"$f":"IF(L667<>\"\",'Step 2) Calculate'!C671,\"\")","v":""}]
[null,null,null,null,null,null,null,null,null,null,{"$f":"IF(L668<>\"\",'Step 2) Calculate'!B672,\"Zzzzz - delete row\")","v":"Zzzzz - delete row"},{"$f":"IF('Step 2) Calculate'!E672<>\"\",'Step 2) Calculate'!G672,\"\")","v":""},{"$f":"IF(L668<>\"\",'Step 2) Calculate'!F672,\"\")","v":""},{"$f":"IF(L668<>\"\",'Step 2) Calculate'!H672,\"\")","v":""},{"$f":"IF(L668<>\"\",'Step 2) Calculate'!C672,\"\")","v":""}]
[null,null,null,null,null,null,null,null,null,null,{"$f":"IF(L669<>\"\",'Step 2) Calculate'!B673,\"Zzzzz - delete row\")","v":"Zzzzz - delete row"},{"$f":"IF('Step 2) Calculate'!E673<>\"\",'Step 2) Calculate'!G673,\"\")","v":""},{"$f":"IF(L669<>\"\",'Step 2) Calculate'!F673,\"\")","v":""},{"$f":"IF(L669<>\"\",'Step 2) Calculate'!H673,\"\")","v":""},{"$f":"IF(L669<>\"\",'Step 2) Calculate'!C673,\"\")","v":""}]
[null,null,null,null,null,null,null,null,null,null,{"$f":"IF(L670<>\"\",'Step 2) Calculate'!B674,\"Zzzzz - delete row\")","v":"Zzzzz - delete row"},{"$f":"IF('Step 2) Calculate'!E674<>\"\",'Step 2) Calculate'!G674,\"\")","v":""},{"$f":"IF(L670<>\"\",'Step 2) Calculate'!F674,\"\")","v":""},{"$f":"IF(L670<>\"\",'Step 2) Calculate'!H674,\"\")","v":""},{"$f":"IF(L670<>\"\",'Step 2) Calculate'!C674,\"\")","v":""}]
[null,null,null,null,null,null,null,null,null,null,{"$f":"IF(L671<>\"\",'Step 2) Calculate'!B675,\"Zzzzz - delete row\")","v":"Zzzzz - delete row"},{"$f":"IF('Step 2) Calculate'!E675<>\"\",'Step 2) Calculate'!G675,\"\")","v":""},{"$f":"IF(L671<>\"\",'Step 2) Calculate'!F675,\"\")","v":""},{"$f":"IF(L671<>\"\",'Step 2) Calculate'!H675,\"\")","v":""},{"$f":"IF(L671<>\"\",'Step 2) Calculate'!C675,\"\")","v":""}]
[null,null,null,null,null,null,null,null,null,null,{"$f":"IF(L672<>\"\",'Step 2) Calculate'!B676,\"Zzzzz - delete row\")","v":"Zzzzz - delete row"},{"$f":"IF('Step 2) Calculate'!E676<>\"\",'Step 2) Calculate'!G676,\"\")","v":""},{"$f":"IF(L672<>\"\",'Step 2) Calculate'!F676,\"\")","v":""},{"$f":"IF(L672<>\"\",'Step 2) Calculate'!H676,\"\")","v":""},{"$f":"IF(L672<>\"\",'Step 2) Calculate'!C676,\"\")","v":""}]
[null,null,null,null,null,null,null,null,null,null,{"$f":"IF(L673<>\"\",'Step 2) Calculate'!B677,\"Zzzzz - delete row\")","v":"Zzzzz - delete row"},{"$f":"IF('Step 2) Calculate'!E677<>\"\",'Step 2) Calculate'!G677,\"\")","v":""},{"$f":"IF(L673<>\"\",'Step 2) Calculate'!F677,\"\")","v":""},{"$f":"IF(L673<>\"\",'Step 2) Calculate'!H677,\"\")","v":""},{"$f":"IF(L673<>\"\",'Step 2) Calculate'!C677,\"\")","v":""}]
[null,null,null,null,null,null,null,null,null,null,{"$f":"IF(L674<>\"\",'Step 2) Calculate'!B678,\"Zzzzz - delete row\")","v":"Zzzzz - delete row"},{"$f":"IF('Step 2) Calculate'!E678<>\"\",'Step 2) Calculate'!G678,\"\")","v":""},{"$f":"IF(L674<>\"\",'Step 2) Calculate'!F678,\"\")","v":""},{"$f":"IF(L674<>\"\",'Step 2) Calculate'!H678,\"\")","v":""},{"$f":"IF(L674<>\"\",'Step 2) Calculate'!C678,\"\")","v":""}]
[null,null,null,null,null,null,null,null,null,null,{"$f":"IF(L675<>\"\",'Step 2) Calculate'!B679,\"Zzzzz - delete row\")","v":"Zzzzz - delete row"},{"$f":"IF('Step 2) Calculate'!E679<>\"\",'Step 2) Calculate'!G679,\"\")","v":""},{"$f":"IF(L675<>\"\",'Step 2) Calculate'!F679,\"\")","v":""},{"$f":"IF(L675<>\"\",'Step 2) Calculate'!H679,\"\")","v":""},{"$f":"IF(L675<>\"\",'Step 2) Calculate'!C679,\"\")","v":""}]
[null,null,null,null,null,null,null,null,null,null,{"$f":"IF(L676<>\"\",'Step 2) Calculate'!B680,\"Zzzzz - delete row\")","v":"Zzzzz - delete row"},{"$f":"IF('Step 2) Calculate'!E680<>\"\",'Step 2) Calculate'!G680,\"\")","v":""},{"$f":"IF(L676<>\"\",'Step 2) Calculate'!F680,\"\")","v":""},{"$f":"IF(L676<>\"\",'Step 2) Calculate'!H680,\"\")","v":""},{"$f":"IF(L676<>\"\",'Step 2) Calculate'!C680,\"\")","v":""}]
[null,null,null,null,null,null,null,null,null,null,{"$f":"IF(L677<>\"\",'Step 2) Calculate'!B681,\"Zzzzz - delete row\")","v":"Zzzzz - delete row"},{"$f":"IF('Step 2) Calculate'!E681<>\"\",'Step 2) Calculate'!G681,\"\")","v":""},{"$f":"IF(L677<>\"\",'Step 2) Calculate'!F681,\"\")","v":""},{"$f":"IF(L677<>\"\",'Step 2) Calculate'!H681,\"\")","v":""},{"$f":"IF(L677<>\"\",'Step 2) Calculate'!C681,\"\")","v":""}]
[null,null,null,null,null,null,null,null,null,null,{"$f":"IF(L678<>\"\",'Step 2) Calculate'!B682,\"Zzzzz - delete row\")","v":"Zzzzz - delete row"},{"$f":"IF('Step 2) Calculate'!E682<>\"\",'Step 2) Calculate'!G682,\"\")","v":""},{"$f":"IF(L678<>\"\",'Step 2) Calculate'!F682,\"\")","v":""},{"$f":"IF(L678<>\"\",'Step 2) Calculate'!H682,\"\")","v":""},{"$f":"IF(L678<>\"\",'Step 2) Calculate'!C682,\"\")","v":""}]
[null,null,null,null,null,null,null,null,null,null,{"$f":"IF(L679<>\"\",'Step 2) Calculate'!B683,\"Zzzzz - delete row\")","v":"Zzzzz - delete row"},{"$f":"IF('Step 2) Calculate'!E683<>\"\",'Step 2) Calculate'!G683,\"\")","v":""},{"$f":"IF(L679<>\"\",'Step 2) Calculate'!F683,\"\")","v":""},{"$f":"IF(L679<>\"\",'Step 2) Calculate'!H683,\"\")","v":""},{"$f":"IF(L679<>\"\",'Step 2) Calculate'!C683,\"\")","v":""}]
[null,null,null,null,null,null,null,null,null,null,{"$f":"IF(L680<>\"\",'Step 2) Calculate'!B684,\"Zzzzz - delete row\")","v":"Zzzzz - delete row"},{"$f":"IF('Step 2) Calculate'!E684<>\"\",'Step 2) Calculate'!G684,\"\")","v":""},{"$f":"IF(L680<>\"\",'Step 2) Calculate'!F684,\"\")","v":""},{"$f":"IF(L680<>\"\",'Step 2) Calculate'!H684,\"\")","v":""},{"$f":"IF(L680<>\"\",'Step 2) Calculate'!C684,\"\")","v":""}]
[null,null,null,null,null,null,null,null,null,null,{"$f":"IF(L681<>\"\",'Step 2) Calculate'!B685,\"Zzzzz - delete row\")","v":"Zzzzz - delete row"},{"$f":"IF('Step 2) Calculate'!E685<>\"\",'Step 2) Calculate'!G685,\"\")","v":""},{"$f":"IF(L681<>\"\",'Step 2) Calculate'!F685,\"\")","v":""},{"$f":"IF(L681<>\"\",'Step 2) Calculate'!H685,\"\")","v":""},{"$f":"IF(L681<>\"\",'Step 2) Calculate'!C685,\"\")","v":""}]
[null,null,null,null,null,null,null,null,null,null,{"$f":"IF(L682<>\"\",'Step 2) Calculate'!B686,\"Zzzzz - delete row\")","v":"Zzzzz - delete row"},{"$f":"IF('Step 2) Calculate'!E686<>\"\",'Step 2) Calculate'!G686,\"\")","v":""},{"$f":"IF(L682<>\"\",'Step 2) Calculate'!F686,\"\")","v":""},{"$f":"IF(L682<>\"\",'Step 2) Calculate'!H686,\"\")","v":""},{"$f":"IF(L682<>\"\",'Step 2) Calculate'!C686,\"\")","v":""}]
[null,null,null,null,null,null,null,null,null,null,{"$f":"IF(L683<>\"\",'Step 2) Calculate'!B687,\"Zzzzz - delete row\")","v":"Zzzzz - delete row"},{"$f":"IF('Step 2) Calculate'!E687<>\"\",'Step 2) Calculate'!G687,\"\")","v":""},{"$f":"IF(L683<>\"\",'Step 2) Calculate'!F687,\"\")","v":""},{"$f":"IF(L683<>\"\",'Step 2) Calculate'!H687,\"\")","v":""},{"$f":"IF(L683<>\"\",'Step 2) Calculate'!C687,\"\")","v":""}]
[null,null,null,null,null,null,null,null,null,null,{"$f":"IF(L684<>\"\",'Step 2) Calculate'!B688,\"Zzzzz - delete row\")","v":"Zzzzz - delete row"},{"$f":"IF('Step 2) Calculate'!E688<>\"\",'Step 2) Calculate'!G688,\"\")","v":""},{"$f":"IF(L684<>\"\",'Step 2) Calculate'!F688,\"\")","v":""},{"$f":"IF(L684<>\"\",'Step 2) Calculate'!H688,\"\")","v":""},{"$f":"IF(L684<>\"\",'Step 2) Calculate'!C688,\"\")","v":""}]
[null,null,null,null,null,null,null,null,null,null,{"$f":"IF(L685<>\"\",'Step 2) Calculate'!B689,\"Zzzzz - delete row\")","v":"Zzzzz - delete row"},{"$f":"IF('Step 2) Calculate'!E689<>\"\",'Step 2) Calculate'!G689,\"\")","v":""},{"$f":"IF(L685<>\"\",'Step 2) Calculate'!F689,\"\")","v":""},{"$f":"IF(L685<>\"\",'Step 2) Calculate'!H689,\"\")","v":""},{"$f":"IF(L685<>\"\",'Step 2) Calculate'!C689,\"\")","v":""}]
[null,null,null,null,null,null,null,null,null,null,{"$f":"IF(L686<>\"\",'Step 2) Calculate'!B690,\"Zzzzz - delete row\")","v":"Zzzzz - delete row"},{"$f":"IF('Step 2) Calculate'!E690<>\"\",'Step 2) Calculate'!G690,\"\")","v":""},{"$f":"IF(L686<>\"\",'Step 2) Calculate'!F690,\"\")","v":""},{"$f":"IF(L686<>\"\",'Step 2) Calculate'!H690,\"\")","v":""},{"$f":"IF(L686<>\"\",'Step 2) Calculate'!C690,\"\")","v":""}]
[null,null,null,null,null,null,null,null,null,null,{"$f":"IF(L687<>\"\",'Step 2) Calculate'!B691,\"Zzzzz - delete row\")","v":"Zzzzz - delete row"},{"$f":"IF('Step 2) Calculate'!E691<>\"\",'Step 2) Calculate'!G691,\"\")","v":""},{"$f":"IF(L687<>\"\",'Step 2) Calculate'!F691,\"\")","v":""},{"$f":"IF(L687<>\"\",'Step 2) Calculate'!H691,\"\")","v":""},{"$f":"IF(L687<>\"\",'Step 2) Calculate'!C691,\"\")","v":""}]
[null,null,null,null,null,null,null,null,null,null,{"$f":"IF(L688<>\"\",'Step 2) Calculate'!B692,\"Zzzzz - delete row\")","v":"Zzzzz - delete row"},{"$f":"IF('Step 2) Calculate'!E692<>\"\",'Step 2) Calculate'!G692,\"\")","v":""},{"$f":"IF(L688<>\"\",'Step 2) Calculate'!F692,\"\")","v":""},{"$f":"IF(L688<>\"\",'Step 2) Calculate'!H692,\"\")","v":""},{"$f":"IF(L688<>\"\",'Step 2) Calculate'!C692,\"\")","v":""}]
[null,null,null,null,null,null,null,null,null,null,{"$f":"IF(L689<>\"\",'Step 2) Calculate'!B693,\"Zzzzz - delete row\")","v":"Zzzzz - delete row"},{"$f":"IF('Step 2) Calculate'!E693<>\"\",'Step 2) Calculate'!G693,\"\")","v":""},{"$f":"IF(L689<>\"\",'Step 2) Calculate'!F693,\"\")","v":""},{"$f":"IF(L689<>\"\",'Step 2) Calculate'!H693,\"\")","v":""},{"$f":"IF(L689<>\"\",'Step 2) Calculate'!C693,\"\")","v":""}]
[null,null,null,null,null,null,null,null,null,null,{"$f":"IF(L690<>\"\",'Step 2) Calculate'!B694,\"Zzzzz - delete row\")","v":"Zzzzz - delete row"},{"$f":"IF('Step 2) Calculate'!E694<>\"\",'Step 2) Calculate'!G694,\"\")","v":""},{"$f":"IF(L690<>\"\",'Step 2) Calculate'!F694,\"\")","v":""},{"$f":"IF(L690<>\"\",'Step 2) Calculate'!H694,\"\")","v":""},{"$f":"IF(L690<>\"\",'Step 2) Calculate'!C694,\"\")","v":""}]
[null,null,null,null,null,null,null,null,null,null,{"$f":"IF(L691<>\"\",'Step 2) Calculate'!B695,\"Zzzzz - delete row\")","v":"Zzzzz - delete row"},{"$f":"IF('Step 2) Calculate'!E695<>\"\",'Step 2) Calculate'!G695,\"\")","v":""},{"$f":"IF(L691<>\"\",'Step 2) Calculate'!F695,\"\")","v":""},{"$f":"IF(L691<>\"\",'Step 2) Calculate'!H695,\"\")","v":""},{"$f":"IF(L691<>\"\",'Step 2) Calculate'!C695,\"\")","v":""}]
[null,null,null,null,null,null,null,null,null,null,{"$f":"IF(L692<>\"\",'Step 2) Calculate'!B696,\"Zzzzz - delete row\")","v":"Zzzzz - delete row"},{"$f":"IF('Step 2) Calculate'!E696<>\"\",'Step 2) Calculate'!G696,\"\")","v":""},{"$f":"IF(L692<>\"\",'Step 2) Calculate'!F696,\"\")","v":""},{"$f":"IF(L692<>\"\",'Step 2) Calculate'!H696,\"\")","v":""},{"$f":"IF(L692<>\"\",'Step 2) Calculate'!C696,\"\")","v":""}]
[null,null,null,null,null,null,null,null,null,null,{"$f":"IF(L693<>\"\",'Step 2) Calculate'!B697,\"Zzzzz - delete row\")","v":"Zzzzz - delete row"},{"$f":"IF('Step 2) Calculate'!E697<>\"\",'Step 2) Calculate'!G697,\"\")","v":""},{"$f":"IF(L693<>\"\",'Step 2) Calculate'!F697,\"\")","v":""},{"$f":"IF(L693<>\"\",'Step 2) Calculate'!H697,\"\")","v":""},{"$f":"IF(L693<>\"\",'Step 2) Calculate'!C697,\"\")","v":""}]
[null,null,null,null,null,null,null,null,null,null,{"$f":"IF(L694<>\"\",'Step 2) Calculate'!B698,\"Zzzzz - delete row\")","v":"Zzzzz - delete row"},{"$f":"IF('Step 2) Calculate'!E698<>\"\",'Step 2) Calculate'!G698,\"\")","v":""},{"$f":"IF(L694<>\"\",'Step 2) Calculate'!F698,\"\")","v":""},{"$f":"IF(L694<>\"\",'Step 2) Calculate'!H698,\"\")","v":""},{"$f":"IF(L694<>\"\",'Step 2) Calculate'!C698,\"\")","v":""}]
[null,null,null,null,null,null,null,null,null,null,{"$f":"IF(L695<>\"\",'Step 2) Calculate'!B699,\"Zzzzz - delete row\")","v":"Zzzzz - delete row"},{"$f":"IF('Step 2) Calculate'!E699<>\"\",'Step 2) Calculate'!G699,\"\")","v":""},{"$f":"IF(L695<>\"\",'Step 2) Calculate'!F699,\"\")","v":""},{"$f":"IF(L695<>\"\",'Step 2) Calculate'!H699,\"\")","v":""},{"$f":"IF(L695<>\"\",'Step 2) Calculate'!C699,\"\")","v":""}]
[null,null,null,null,null,null,null,null,null,null,{"$f":"IF(L696<>\"\",'Step 2) Calculate'!B700,\"Zzzzz - delete row\")","v":"Zzzzz - delete row"},{"$f":"IF('Step 2) Calculate'!E700<>\"\",'Step 2) Calculate'!G700,\"\")","v":""},{"$f":"IF(L696<>\"\",'Step 2) Calculate'!F700,\"\")","v":""},{"$f":"IF(L696<>\"\",'Step 2) Calculate'!H700,\"\")","v":""},{"$f":"IF(L696<>\"\",'Step 2) Calculate'!C700,\"\")","v":""}]
[null,null,null,null,null,null,null,null,null,null,{"$f":"IF(L697<>\"\",'Step 2) Calculate'!B701,\"Zzzzz - delete row\")","v":"Zzzzz - delete row"},{"$f":"IF('Step 2) Calculate'!E701<>\"\",'Step 2) Calculate'!G701,\"\")","v":""},{"$f":"IF(L697<>\"\",'Step 2) Calculate'!F701,\"\")","v":""},{"$f":"IF(L697<>\"\",'Step 2) Calculate'!H701,\"\")","v":""},{"$f":"IF(L697<>\"\",'Step 2) Calculate'!C701,\"\")","v":""}]
[null,null,null,null,null,null,null,null,null,null,{"$f":"IF(L698<>\"\",'Step 2) Calculate'!B702,\"Zzzzz - delete row\")","v":"Zzzzz - delete row"},{"$f":"IF('Step 2) Calculate'!E702<>\"\",'Step 2) Calculate'!G702,\"\")","v":""},{"$f":"IF(L698<>\"\",'Step 2) Calculate'!F702,\"\")","v":""},{"$f":"IF(L698<>\"\",'Step 2) Calculate'!H702,\"\")","v":""},{"$f":"IF(L698<>\"\",'Step 2) Calculate'!C702,\"\")","v":""}]
[null,null,null,null,null,null,null,null,null,null,{"$f":"IF(L699<>\"\",'Step 2) Calculate'!B703,\"Zzzzz - delete row\")","v":"Zzzzz - delete row"},{"$f":"IF('Step 2) Calculate'!E703<>\"\",'Step 2) Calculate'!G703,\"\")","v":""},{"$f":"IF(L699<>\"\",'Step 2) Calculate'!F703,\"\")","v":""},{"$f":"IF(L699<>\"\",'Step 2) Calculate'!H703,\"\")","v":""},{"$f":"IF(L699<>\"\",'Step 2) Calculate'!C703,\"\")","v":""}]
[null,null,null,null,null,null,null,null,null,null,{"$f":"IF(L700<>\"\",'Step 2) Calculate'!B704,\"Zzzzz - delete row\")","v":"Zzzzz - delete row"},{"$f":"IF('Step 2) Calculate'!E704<>\"\",'Step 2) Calculate'!G704,\"\")","v":""},{"$f":"IF(L700<>\"\",'Step 2) Calculate'!F704,\"\")","v":""},{"$f":"IF(L700<>\"\",'Step 2) Calculate'!H704,\"\")","v":""},{"$f":"IF(L700<>\"\",'Step 2) Calculate'!C704,\"\")","v":""}]
[null,null,null,null,null,null,null,null,null,null,{"$f":"IF(L701<>\"\",'Step 2) Calculate'!B705,\"Zzzzz - delete row\")","v":"Zzzzz - delete row"},{"$f":"IF('Step 2) Calculate'!E705<>\"\",'Step 2) Calculate'!G705,\"\")","v":""},{"$f":"IF(L701<>\"\",'Step 2) Calculate'!F705,\"\")","v":""},{"$f":"IF(L701<>\"\",'Step 2) Calculate'!H705,\"\")","v":""},{"$f":"IF(L701<>\"\",'Step 2) Calculate'!C705,\"\")","v":""}]
[null,null,null,null,null,null,null,null,null,null,{"$f":"IF(L702<>\"\",'Step 2) Calculate'!B706,\"Zzzzz - delete row\")","v":"Zzzzz - delete row"},{"$f":"IF('Step 2) Calculate'!E706<>\"\",'Step 2) Calculate'!G706,\"\")","v":""},{"$f":"IF(L702<>\"\",'Step 2) Calculate'!F706,\"\")","v":""},{"$f":"IF(L702<>\"\",'Step 2) Calculate'!H706,\"\")","v":""},{"$f":"IF(L702<>\"\",'Step 2) Calculate'!C706,\"\")","v":""}]
[null,null,null,null,null,null,null,null,null,null,{"$f":"IF(L703<>\"\",'Step 2) Calculate'!B707,\"Zzzzz - delete row\")","v":"Zzzzz - delete row"},{"$f":"IF('Step 2) Calculate'!E707<>\"\",'Step 2) Calculate'!G707,\"\")","v":""},{"$f":"IF(L703<>\"\",'Step 2) Calculate'!F707,\"\")","v":""},{"$f":"IF(L703<>\"\",'Step 2) Calculate'!H707,\"\")","v":""},{"$f":"IF(L703<>\"\",'Step 2) Calculate'!C707,\"\")","v":""}]
[null,null,null,null,null,null,null,null,null,null,{"$f":"IF(L704<>\"\",'Step 2) Calculate'!B708,\"Zzzzz - delete row\")","v":"Zzzzz - delete row"},{"$f":"IF('Step 2) Calculate'!E708<>\"\",'Step 2) Calculate'!G708,\"\")","v":""},{"$f":"IF(L704<>\"\",'Step 2) Calculate'!F708,\"\")","v":""},{"$f":"IF(L704<>\"\",'Step 2) Calculate'!H708,\"\")","v":""},{"$f":"IF(L704<>\"\",'Step 2) Calculate'!C708,\"\")","v":""}]
[null,null,null,null,null,null,null,null,null,null,{"$f":"IF(L705<>\"\",'Step 2) Calculate'!B709,\"Zzzzz - delete row\")","v":"Zzzzz - delete row"},{"$f":"IF('Step 2) Calculate'!E709<>\"\",'Step 2) Calculate'!G709,\"\")","v":""},{"$f":"IF(L705<>\"\",'Step 2) Calculate'!F709,\"\")","v":""},{"$f":"IF(L705<>\"\",'Step 2) Calculate'!H709,\"\")","v":""},{"$f":"IF(L705<>\"\",'Step 2) Calculate'!C709,\"\")","v":""}]
[null,null,null,null,null,null,null,null,null,null,{"$f":"IF(L706<>\"\",'Step 2) Calculate'!B710,\"Zzzzz - delete row\")","v":"Zzzzz - delete row"},{"$f":"IF('Step 2) Calculate'!E710<>\"\",'Step 2) Calculate'!G710,\"\")","v":""},{"$f":"IF(L706<>\"\",'Step 2) Calculate'!F710,\"\")","v":""},{"$f":"IF(L706<>\"\",'Step 2) Calculate'!H710,\"\")","v":""},{"$f":"IF(L706<>\"\",'Step 2) Calculate'!C710,\"\")","v":""}]
[null,null,null,null,null,null,null,null,null,null,{"$f":"IF(L707<>\"\",'Step 2) Calculate'!B711,\"Zzzzz - delete row\")","v":"Zzzzz - delete row"},{"$f":"IF('Step 2) Calculate'!E711<>\"\",'Step 2) Calculate'!G711,\"\")","v":""},{"$f":"IF(L707<>\"\",'Step 2) Calculate'!F711,\"\")","v":""},{"$f":"IF(L707<>\"\",'Step 2) Calculate'!H711,\"\")","v":""},{"$f":"IF(L707<>\"\",'Step 2) Calculate'!C711,\"\")","v":""}]
[null,null,null,null,null,null,null,null,null,null,{"$f":"IF(L708<>\"\",'Step 2) Calculate'!B712,\"Zzzzz - delete row\")","v":"Zzzzz - delete row"},{"$f":"IF('Step 2) Calculate'!E712<>\"\",'Step 2) Calculate'!G712,\"\")","v":""},{"$f":"IF(L708<>\"\",'Step 2) Calculate'!F712,\"\")","v":""},{"$f":"IF(L708<>\"\",'Step 2) Calculate'!H712,\"\")","v":""},{"$f":"IF(L708<>\"\",'Step 2) Calculate'!C712,\"\")","v":""}]
[null,null,null,null,null,null,null,null,null,null,{"$f":"IF(L709<>\"\",'Step 2) Calculate'!B713,\"Zzzzz - delete row\")","v":"Zzzzz - delete row"},{"$f":"IF('Step 2) Calculate'!E713<>\"\",'Step 2) Calculate'!G713,\"\")","v":""},{"$f":"IF(L709<>\"\",'Step 2) Calculate'!F713,\"\")","v":""},{"$f":"IF(L709<>\"\",'Step 2) Calculate'!H713,\"\")","v":""},{"$f":"IF(L709<>\"\",'Step 2) Calculate'!C713,\"\")","v":""}]
[null,null,null,null,null,null,null,null,null,null,{"$f":"IF(L710<>\"\",'Step 2) Calculate'!B714,\"Zzzzz - delete row\")","v":"Zzzzz - delete row"},{"$f":"IF('Step 2) Calculate'!E714<>\"\",'Step 2) Calculate'!G714,\"\")","v":""},{"$f":"IF(L710<>\"\",'Step 2) Calculate'!F714,\"\")","v":""},{"$f":"IF(L710<>\"\",'Step 2) Calculate'!H714,\"\")","v":""},{"$f":"IF(L710<>\"\",'Step 2) Calculate'!C714,\"\")","v":""}]
[null,null,null,null,null,null,null,null,null,null,{"$f":"IF(L711<>\"\",'Step 2) Calculate'!B715,\"Zzzzz - delete row\")","v":"Zzzzz - delete row"},{"$f":"IF('Step 2) Calculate'!E715<>\"\",'Step 2) Calculate'!G715,\"\")","v":""},{"$f":"IF(L711<>\"\",'Step 2) Calculate'!F715,\"\")","v":""},{"$f":"IF(L711<>\"\",'Step 2) Calculate'!H715,\"\")","v":""},{"$f":"IF(L711<>\"\",'Step 2) Calculate'!C715,\"\")","v":""}]
[null,null,null,null,null,null,null,null,null,null,{"$f":"IF(L712<>\"\",'Step 2) Calculate'!B716,\"Zzzzz - delete row\")","v":"Zzzzz - delete row"},{"$f":"IF('Step 2) Calculate'!E716<>\"\",'Step 2) Calculate'!G716,\"\")","v":""},{"$f":"IF(L712<>\"\",'Step 2) Calculate'!F716,\"\")","v":""},{"$f":"IF(L712<>\"\",'Step 2) Calculate'!H716,\"\")","v":""},{"$f":"IF(L712<>\"\",'Step 2) Calculate'!C716,\"\")","v":""}]
[null,null,null,null,null,null,null,null,null,null,{"$f":"IF(L713<>\"\",'Step 2) Calculate'!B717,\"Zzzzz - delete row\")","v":"Zzzzz - delete row"},{"$f":"IF('Step 2) Calculate'!E717<>\"\",'Step 2) Calculate'!G717,\"\")","v":""},{"$f":"IF(L713<>\"\",'Step 2) Calculate'!F717,\"\")","v":""},{"$f":"IF(L713<>\"\",'Step 2) Calculate'!H717,\"\")","v":""},{"$f":"IF(L713<>\"\",'Step 2) Calculate'!C717,\"\")","v":""}]
[null,null,null,null,null,null,null,null,null,null,{"$f":"IF(L714<>\"\",'Step 2) Calculate'!B718,\"Zzzzz - delete row\")","v":"Zzzzz - delete row"},{"$f":"IF('Step 2) Calculate'!E718<>\"\",'Step 2) Calculate'!G718,\"\")","v":""},{"$f":"IF(L714<>\"\",'Step 2) Calculate'!F718,\"\")","v":""},{"$f":"IF(L714<>\"\",'Step 2) Calculate'!H718,\"\")","v":""},{"$f":"IF(L714<>\"\",'Step 2) Calculate'!C718,\"\")","v":""}]
[null,null,null,null,null,null,null,null,null,null,{"$f":"IF(L715<>\"\",'Step 2) Calculate'!B719,\"Zzzzz - delete row\")","v":"Zzzzz - delete row"},{"$f":"IF('Step 2) Calculate'!E719<>\"\",'Step 2) Calculate'!G719,\"\")","v":""},{"$f":"IF(L715<>\"\",'Step 2) Calculate'!F719,\"\")","v":""},{"$f":"IF(L715<>\"\",'Step 2) Calculate'!H719,\"\")","v":""},{"$f":"IF(L715<>\"\",'Step 2) Calculate'!C719,\"\")","v":""}]
[null,null,null,null,null,null,null,null,null,null,{"$f":"IF(L716<>\"\",'Step 2) Calculate'!B720,\"Zzzzz - delete row\")","v":"Zzzzz - delete row"},{"$f":"IF('Step 2) Calculate'!E720<>\"\",'Step 2) Calculate'!G720,\"\")","v":""},{"$f":"IF(L716<>\"\",'Step 2) Calculate'!F720,\"\")","v":""},{"$f":"IF(L716<>\"\",'Step 2) Calculate'!H720,\"\")","v":""},{"$f":"IF(L716<>\"\",'Step 2) Calculate'!C720,\"\")","v":""}]
[null,null,null,null,null,null,null,null,null,null,{"$f":"IF(L717<>\"\",'Step 2) Calculate'!B721,\"Zzzzz - delete row\")","v":"Zzzzz - delete row"},{"$f":"IF('Step 2) Calculate'!E721<>\"\",'Step 2) Calculate'!G721,\"\")","v":""},{"$f":"IF(L717<>\"\",'Step 2) Calculate'!F721,\"\")","v":""},{"$f":"IF(L717<>\"\",'Step 2) Calculate'!H721,\"\")","v":""},{"$f":"IF(L717<>\"\",'Step 2) Calculate'!C721,\"\")","v":""}]
[null,null,null,null,null,null,null,null,null,null,{"$f":"IF(L718<>\"\",'Step 2) Calculate'!B722,\"Zzzzz - delete row\")","v":"Zzzzz - delete row"},{"$f":"IF('Step 2) Calculate'!E722<>\"\",'Step 2) Calculate'!G722,\"\")","v":""},{"$f":"IF(L718<>\"\",'Step 2) Calculate'!F722,\"\")","v":""},{"$f":"IF(L718<>\"\",'Step 2) Calculate'!H722,\"\")","v":""},{"$f":"IF(L718<>\"\",'Step 2) Calculate'!C722,\"\")","v":""}]
[null,null,null,null,null,null,null,null,null,null,{"$f":"IF(L719<>\"\",'Step 2) Calculate'!B723,\"Zzzzz - delete row\")","v":"Zzzzz - delete row"},{"$f":"IF('Step 2) Calculate'!E723<>\"\",'Step 2) Calculate'!G723,\"\")","v":""},{"$f":"IF(L719<>\"\",'Step 2) Calculate'!F723,\"\")","v":""},{"$f":"IF(L719<>\"\",'Step 2) Calculate'!H723,\"\")","v":""},{"$f":"IF(L719<>\"\",'Step 2) Calculate'!C723,\"\")","v":""}]
[null,null,null,null,null,null,null,null,null,null,{"$f":"IF(L720<>\"\",'Step 2) Calculate'!B724,\"Zzzzz - delete row\")","v":"Zzzzz - delete row"},{"$f":"IF('Step 2) Calculate'!E724<>\"\",'Step 2) Calculate'!G724,\"\")","v":""},{"$f":"IF(L720<>\"\",'Step 2) Calculate'!F724,\"\")","v":""},{"$f":"IF(L720<>\"\",'Step 2) Calculate'!H724,\"\")","v":""},{"$f":"IF(L720<>\"\",'Step 2) Calculate'!C724,\"\")","v":""}]
[null,null,null,null,null,null,null,null,null,null,{"$f":"IF(L721<>\"\",'Step 2) Calculate'!B725,\"Zzzzz - delete row\")","v":"Zzzzz - delete row"},{"$f":"IF('Step 2) Calculate'!E725<>\"\",'Step 2) Calculate'!G725,\"\")","v":""},{"$f":"IF(L721<>\"\",'Step 2) Calculate'!F725,\"\")","v":""},{"$f":"IF(L721<>\"\",'Step 2) Calculate'!H725,\"\")","v":""},{"$f":"IF(L721<>\"\",'Step 2) Calculate'!C725,\"\")","v":""}]
[null,null,null,null,null,null,null,null,null,null,{"$f":"IF(L722<>\"\",'Step 2) Calculate'!B726,\"Zzzzz - delete row\")","v":"Zzzzz - delete row"},{"$f":"IF('Step 2) Calculate'!E726<>\"\",'Step 2) Calculate'!G726,\"\")","v":""},{"$f":"IF(L722<>\"\",'Step 2) Calculate'!F726,\"\")","v":""},{"$f":"IF(L722<>\"\",'Step 2) Calculate'!H726,\"\")","v":""},{"$f":"IF(L722<>\"\",'Step 2) Calculate'!C726,\"\")","v":""}]
[null,null,null,null,null,null,null,null,null,null,{"$f":"IF(L723<>\"\",'Step 2) Calculate'!B727,\"Zzzzz - delete row\")","v":"Zzzzz - delete row"},{"$f":"IF('Step 2) Calculate'!E727<>\"\",'Step 2) Calculate'!G727,\"\")","v":""},{"$f":"IF(L723<>\"\",'Step 2) Calculate'!F727,\"\")","v":""},{"$f":"IF(L723<>\"\",'Step 2) Calculate'!H727,\"\")","v":""},{"$f":"IF(L723<>\"\",'Step 2) Calculate'!C727,\"\")","v":""}]
[null,null,null,null,null,null,null,null,null,null,{"$f":"IF(L724<>\"\",'Step 2) Calculate'!B728,\"Zzzzz - delete row\")","v":"Zzzzz - delete row"},{"$f":"IF('Step 2) Calculate'!E728<>\"\",'Step 2) Calculate'!G728,\"\")","v":""},{"$f":"IF(L724<>\"\",'Step 2) Calculate'!F728,\"\")","v":""},{"$f":"IF(L724<>\"\",'Step 2) Calculate'!H728,\"\")","v":""},{"$f":"IF(L724<>\"\",'Step 2) Calculate'!C728,\"\")","v":""}]
[null,null,null,null,null,null,null,null,null,null,{"$f":"IF(L725<>\"\",'Step 2) Calculate'!B729,\"Zzzzz - delete row\")","v":"Zzzzz - delete row"},{"$f":"IF('Step 2) Calculate'!E729<>\"\",'Step 2) Calculate'!G729,\"\")","v":""},{"$f":"IF(L725<>\"\",'Step 2) Calculate'!F729,\"\")","v":""},{"$f":"IF(L725<>\"\",'Step 2) Calculate'!H729,\"\")","v":""},{"$f":"IF(L725<>\"\",'Step 2) Calculate'!C729,\"\")","v":""}]
[null,null,null,null,null,null,null,null,null,null,{"$f":"IF(L726<>\"\",'Step 2) Calculate'!B730,\"Zzzzz - delete row\")","v":"Zzzzz - delete row"},{"$f":"IF('Step 2) Calculate'!E730<>\"\",'Step 2) Calculate'!G730,\"\")","v":""},{"$f":"IF(L726<>\"\",'Step 2) Calculate'!F730,\"\")","v":""},{"$f":"IF(L726<>\"\",'Step 2) Calculate'!H730,\"\")","v":""},{"$f":"IF(L726<>\"\",'Step 2) Calculate'!C730,\"\")","v":""}]
[null,null,null,null,null,null,null,null,null,null,{"$f":"IF(L727<>\"\",'Step 2) Calculate'!B731,\"Zzzzz - delete row\")","v":"Zzzzz - delete row"},{"$f":"IF('Step 2) Calculate'!E731<>\"\",'Step 2) Calculate'!G731,\"\")","v":""},{"$f":"IF(L727<>\"\",'Step 2) Calculate'!F731,\"\")","v":""},{"$f":"IF(L727<>\"\",'Step 2) Calculate'!H731,\"\")","v":""},{"$f":"IF(L727<>\"\",'Step 2) Calculate'!C731,\"\")","v":""}]
[null,null,null,null,null,null,null,null,null,null,{"$f":"IF(L728<>\"\",'Step 2) Calculate'!B732,\"Zzzzz - delete row\")","v":"Zzzzz - delete row"},{"$f":"IF('Step 2) Calculate'!E732<>\"\",'Step 2) Calculate'!G732,\"\")","v":""},{"$f":"IF(L728<>\"\",'Step 2) Calculate'!F732,\"\")","v":""},{"$f":"IF(L728<>\"\",'Step 2) Calculate'!H732,\"\")","v":""},{"$f":"IF(L728<>\"\",'Step 2) Calculate'!C732,\"\")","v":""}]
[null,null,null,null,null,null,null,null,null,null,{"$f":"IF(L729<>\"\",'Step 2) Calculate'!B733,\"Zzzzz - delete row\")","v":"Zzzzz - delete row"},{"$f":"IF('Step 2) Calculate'!E733<>\"\",'Step 2) Calculate'!G733,\"\")","v":""},{"$f":"IF(L729<>\"\",'Step 2) Calculate'!F733,\"\")","v":""},{"$f":"IF(L729<>\"\",'Step 2) Calculate'!H733,\"\")","v":""},{"$f":"IF(L729<>\"\",'Step 2) Calculate'!C733,\"\")","v":""}]
[null,null,null,null,null,null,null,null,null,null,{"$f":"IF(L730<>\"\",'Step 2) Calculate'!B734,\"Zzzzz - delete row\")","v":"Zzzzz - delete row"},{"$f":"IF('Step 2) Calculate'!E734<>\"\",'Step 2) Calculate'!G734,\"\")","v":""},{"$f":"IF(L730<>\"\",'Step 2) Calculate'!F734,\"\")","v":""},{"$f":"IF(L730<>\"\",'Step 2) Calculate'!H734,\"\")","v":""},{"$f":"IF(L730<>\"\",'Step 2) Calculate'!C734,\"\")","v":""}]
[null,null,null,null,null,null,null,null,null,null,{"$f":"IF(L731<>\"\",'Step 2) Calculate'!B735,\"Zzzzz - delete row\")","v":"Zzzzz - delete row"},{"$f":"IF('Step 2) Calculate'!E735<>\"\",'Step 2) Calculate'!G735,\"\")","v":""},{"$f":"IF(L731<>\"\",'Step 2) Calculate'!F735,\"\")","v":""},{"$f":"IF(L731<>\"\",'Step 2) Calculate'!H735,\"\")","v":""},{"$f":"IF(L731<>\"\",'Step 2) Calculate'!C735,\"\")","v":""}]
[null,null,null,null,null,null,null,null,null,null,{"$f":"IF(L732<>\"\",'Step 2) Calculate'!B736,\"Zzzzz - delete row\")","v":"Zzzzz - delete row"},{"$f":"IF('Step 2) Calculate'!E736<>\"\",'Step 2) Calculate'!G736,\"\")","v":""},{"$f":"IF(L732<>\"\",'Step 2) Calculate'!F736,\"\")","v":""},{"$f":"IF(L732<>\"\",'Step 2) Calculate'!H736,\"\")","v":""},{"$f":"IF(L732<>\"\",'Step 2) Calculate'!C736,\"\")","v":""}]
[null,null,null,null,null,null,null,null,null,null,{"$f":"IF(L733<>\"\",'Step 2) Calculate'!B737,\"Zzzzz - delete row\")","v":"Zzzzz - delete row"},{"$f":"IF('Step 2) Calculate'!E737<>\"\",'Step 2) Calculate'!G737,\"\")","v":""},{"$f":"IF(L733<>\"\",'Step 2) Calculate'!F737,\"\")","v":""},{"$f":"IF(L733<>\"\",'Step 2) Calculate'!H737,\"\")","v":""},{"$f":"IF(L733<>\"\",'Step 2) Calculate'!C737,\"\")","v":""}]
[null,null,null,null,null,null,null,null,null,null,{"$f":"IF(L734<>\"\",'Step 2) Calculate'!B738,\"Zzzzz - delete row\")","v":"Zzzzz - delete row"},{"$f":"IF('Step 2) Calculate'!E738<>\"\",'Step 2) Calculate'!G738,\"\")","v":""},{"$f":"IF(L734<>\"\",'Step 2) Calculate'!F738,\"\")","v":""},{"$f":"IF(L734<>\"\",'Step 2) Calculate'!H738,\"\")","v":""},{"$f":"IF(L734<>\"\",'Step 2) Calculate'!C738,\"\")","v":""}]
[null,null,null,null,null,null,null,null,null,null,{"$f":"IF(L735<>\"\",'Step 2) Calculate'!B739,\"Zzzzz - delete row\")","v":"Zzzzz - delete row"},{"$f":"IF('Step 2) Calculate'!E739<>\"\",'Step 2) Calculate'!G739,\"\")","v":""},{"$f":"IF(L735<>\"\",'Step 2) Calculate'!F739,\"\")","v":""},{"$f":"IF(L735<>\"\",'Step 2) Calculate'!H739,\"\")","v":""},{"$f":"IF(L735<>\"\",'Step 2) Calculate'!C739,\"\")","v":""}]
[null,null,null,null,null,null,null,null,null,null,{"$f":"IF(L736<>\"\",'Step 2) Calculate'!B740,\"Zzzzz - delete row\")","v":"Zzzzz - delete row"},{"$f":"IF('Step 2) Calculate'!E740<>\"\",'Step 2) Calculate'!G740,\"\")","v":""},{"$f":"IF(L736<>\"\",'Step 2) Calculate'!F740,\"\")","v":""},{"$f":"IF(L736<>\"\",'Step 2) Calculate'!H740,\"\")","v":""},{"$f":"IF(L736<>\"\",'Step 2) Calculate'!C740,\"\")","v":""}]
[null,null,null,null,null,null,null,null,null,null,{"$f":"IF(L737<>\"\",'Step 2) Calculate'!B741,\"Zzzzz - delete row\")","v":"Zzzzz - delete row"},{"$f":"IF('Step 2) Calculate'!E741<>\"\",'Step 2) Calculate'!G741,\"\")","v":""},{"$f":"IF(L737<>\"\",'Step 2) Calculate'!F741,\"\")","v":""},{"$f":"IF(L737<>\"\",'Step 2) Calculate'!H741,\"\")","v":""},{"$f":"IF(L737<>\"\",'Step 2) Calculate'!C741,\"\")","v":""}]
[null,null,null,null,null,null,null,null,null,null,{"$f":"IF(L738<>\"\",'Step 2) Calculate'!B742,\"Zzzzz - delete row\")","v":"Zzzzz - delete row"},{"$f":"IF('Step 2) Calculate'!E742<>\"\",'Step 2) Calculate'!G742,\"\")","v":""},{"$f":"IF(L738<>\"\",'Step 2) Calculate'!F742,\"\")","v":""},{"$f":"IF(L738<>\"\",'Step 2) Calculate'!H742,\"\")","v":""},{"$f":"IF(L738<>\"\",'Step 2) Calculate'!C742,\"\")","v":""}]
[null,null,null,null,null,null,null,null,null,null,{"$f":"IF(L739<>\"\",'Step 2) Calculate'!B743,\"Zzzzz - delete row\")","v":"Zzzzz - delete row"},{"$f":"IF('Step 2) Calculate'!E743<>\"\",'Step 2) Calculate'!G743,\"\")","v":""},{"$f":"IF(L739<>\"\",'Step 2) Calculate'!F743,\"\")","v":""},{"$f":"IF(L739<>\"\",'Step 2) Calculate'!H743,\"\")","v":""},{"$f":"IF(L739<>\"\",'Step 2) Calculate'!C743,\"\")","v":""}]
[null,null,null,null,null,null,null,null,null,null,{"$f":"IF(L740<>\"\",'Step 2) Calculate'!B744,\"Zzzzz - delete row\")","v":"Zzzzz - delete row"},{"$f":"IF('Step 2) Calculate'!E744<>\"\",'Step 2) Calculate'!G744,\"\")","v":""},{"$f":"IF(L740<>\"\",'Step 2) Calculate'!F744,\"\")","v":""},{"$f":"IF(L740<>\"\",'Step 2) Calculate'!H744,\"\")","v":""},{"$f":"IF(L740<>\"\",'Step 2) Calculate'!C744,\"\")","v":""}]
[null,null,null,null,null,null,null,null,null,null,{"$f":"IF(L741<>\"\",'Step 2) Calculate'!B745,\"Zzzzz - delete row\")","v":"Zzzzz - delete row"},{"$f":"IF('Step 2) Calculate'!E745<>\"\",'Step 2) Calculate'!G745,\"\")","v":""},{"$f":"IF(L741<>\"\",'Step 2) Calculate'!F745,\"\")","v":""},{"$f":"IF(L741<>\"\",'Step 2) Calculate'!H745,\"\")","v":""},{"$f":"IF(L741<>\"\",'Step 2) Calculate'!C745,\"\")","v":""}]
[null,null,null,null,null,null,null,null,null,null,{"$f":"IF(L742<>\"\",'Step 2) Calculate'!B746,\"Zzzzz - delete row\")","v":"Zzzzz - delete row"},{"$f":"IF('Step 2) Calculate'!E746<>\"\",'Step 2) Calculate'!G746,\"\")","v":""},{"$f":"IF(L742<>\"\",'Step 2) Calculate'!F746,\"\")","v":""},{"$f":"IF(L742<>\"\",'Step 2) Calculate'!H746,\"\")","v":""},{"$f":"IF(L742<>\"\",'Step 2) Calculate'!C746,\"\")","v":""}]
[null,null,null,null,null,null,null,null,null,null,{"$f":"IF(L743<>\"\",'Step 2) Calculate'!B747,\"Zzzzz - delete row\")","v":"Zzzzz - delete row"},{"$f":"IF('Step 2) Calculate'!E747<>\"\",'Step 2) Calculate'!G747,\"\")","v":""},{"$f":"IF(L743<>\"\",'Step 2) Calculate'!F747,\"\")","v":""},{"$f":"IF(L743<>\"\",'Step 2) Calculate'!H747,\"\")","v":""},{"$f":"IF(L743<>\"\",'Step 2) Calculate'!C747,\"\")","v":""}]
[null,null,null,null,null,null,null,null,null,null,{"$f":"IF(L744<>\"\",'Step 2) Calculate'!B748,\"Zzzzz - delete row\")","v":"Zzzzz - delete row"},{"$f":"IF('Step 2) Calculate'!E748<>\"\",'Step 2) Calculate'!G748,\"\")","v":""},{"$f":"IF(L744<>\"\",'Step 2) Calculate'!F748,\"\")","v":""},{"$f":"IF(L744<>\"\",'Step 2) Calculate'!H748,\"\")","v":""},{"$f":"IF(L744<>\"\",'Step 2) Calculate'!C748,\"\")","v":""}]
[null,null,null,null,null,null,null,null,null,null,{"$f":"IF(L745<>\"\",'Step 2) Calculate'!B749,\"Zzzzz - delete row\")","v":"Zzzzz - delete row"},{"$f":"IF('Step 2) Calculate'!E749<>\"\",'Step 2) Calculate'!G749,\"\")","v":""},{"$f":"IF(L745<>\"\",'Step 2) Calculate'!F749,\"\")","v":""},{"$f":"IF(L745<>\"\",'Step 2) Calculate'!H749,\"\")","v":""},{"$f":"IF(L745<>\"\",'Step 2) Calculate'!C749,\"\")","v":""}]
[null,null,null,null,null,null,null,null,null,null,{"$f":"IF(L746<>\"\",'Step 2) Calculate'!B750,\"Zzzzz - delete row\")","v":"Zzzzz - delete row"},{"$f":"IF('Step 2) Calculate'!E750<>\"\",'Step 2) Calculate'!G750,\"\")","v":""},{"$f":"IF(L746<>\"\",'Step 2) Calculate'!F750,\"\")","v":""},{"$f":"IF(L746<>\"\",'Step 2) Calculate'!H750,\"\")","v":""},{"$f":"IF(L746<>\"\",'Step 2) Calculate'!C750,\"\")","v":""}]
[null,null,null,null,null,null,null,null,null,null,{"$f":"IF(L747<>\"\",'Step 2) Calculate'!B751,\"Zzzzz - delete row\")","v":"Zzzzz - delete row"},{"$f":"IF('Step 2) Calculate'!E751<>\"\",'Step 2) Calculate'!G751,\"\")","v":""},{"$f":"IF(L747<>\"\",'Step 2) Calculate'!F751,\"\")","v":""},{"$f":"IF(L747<>\"\",'Step 2) Calculate'!H751,\"\")","v":""},{"$f":"IF(L747<>\"\",'Step 2) Calculate'!C751,\"\")","v":""}]
[null,null,null,null,null,null,null,null,null,null,{"$f":"IF(L748<>\"\",'Step 2) Calculate'!B752,\"Zzzzz - delete row\")","v":"Zzzzz - delete row"},{"$f":"IF('Step 2) Calculate'!E752<>\"\",'Step 2) Calculate'!G752,\"\")","v":""},{"$f":"IF(L748<>\"\",'Step 2) Calculate'!F752,\"\")","v":""},{"$f":"IF(L748<>\"\",'Step 2) Calculate'!H752,\"\")","v":""},{"$f":"IF(L748<>\"\",'Step 2) Calculate'!C752,\"\")","v":""}]
[null,null,null,null,null,null,null,null,null,null,{"$f":"IF(L749<>\"\",'Step 2) Calculate'!B753,\"Zzzzz - delete row\")","v":"Zzzzz - delete row"},{"$f":"IF('Step 2) Calculate'!E753<>\"\",'Step 2) Calculate'!G753,\"\")","v":""},{"$f":"IF(L749<>\"\",'Step 2) Calculate'!F753,\"\")","v":""},{"$f":"IF(L749<>\"\",'Step 2) Calculate'!H753,\"\")","v":""},{"$f":"IF(L749<>\"\",'Step 2) Calculate'!C753,\"\")","v":""}]
[null,null,null,null,null,null,null,null,null,null,{"$f":"IF(L750<>\"\",'Step 2) Calculate'!B754,\"Zzzzz - delete row\")","v":"Zzzzz - delete row"},{"$f":"IF('Step 2) Calculate'!E754<>\"\",'Step 2) Calculate'!G754,\"\")","v":""},{"$f":"IF(L750<>\"\",'Step 2) Calculate'!F754,\"\")","v":""},{"$f":"IF(L750<>\"\",'Step 2) Calculate'!H754,\"\")","v":""},{"$f":"IF(L750<>\"\",'Step 2) Calculate'!C754,\"\")","v":""}]
[null,null,null,null,null,null,null,null,null,null,{"$f":"IF(L751<>\"\",'Step 2) Calculate'!B755,\"Zzzzz - delete row\")","v":"Zzzzz - delete row"},{"$f":"IF('Step 2) Calculate'!E755<>\"\",'Step 2) Calculate'!G755,\"\")","v":""},{"$f":"IF(L751<>\"\",'Step 2) Calculate'!F755,\"\")","v":""},{"$f":"IF(L751<>\"\",'Step 2) Calculate'!H755,\"\")","v":""},{"$f":"IF(L751<>\"\",'Step 2) Calculate'!C755,\"\")","v":""}]
[null,null,null,null,null,null,null,null,null,null,{"$f":"IF(L752<>\"\",'Step 2) Calculate'!B756,\"Zzzzz - delete row\")","v":"Zzzzz - delete row"},{"$f":"IF('Step 2) Calculate'!E756<>\"\",'Step 2) Calculate'!G756,\"\")","v":""},{"$f":"IF(L752<>\"\",'Step 2) Calculate'!F756,\"\")","v":""},{"$f":"IF(L752<>\"\",'Step 2) Calculate'!H756,\"\")","v":""},{"$f":"IF(L752<>\"\",'Step 2) Calculate'!C756,\"\")","v":""}]
[null,null,null,null,null,null,null,null,null,null,{"$f":"IF(L753<>\"\",'Step 2) Calculate'!B757,\"Zzzzz - delete row\")","v":"Zzzzz - delete row"},{"$f":"IF('Step 2) Calculate'!E757<>\"\",'Step 2) Calculate'!G757,\"\")","v":""},{"$f":"IF(L753<>\"\",'Step 2) Calculate'!F757,\"\")","v":""},{"$f":"IF(L753<>\"\",'Step 2) Calculate'!H757,\"\")","v":""},{"$f":"IF(L753<>\"\",'Step 2) Calculate'!C757,\"\")","v":""}]
[null,null,null,null,null,null,null,null,null,null,{"$f":"IF(L754<>\"\",'Step 2) Calculate'!B758,\"Zzzzz - delete row\")","v":"Zzzzz - delete row"},{"$f":"IF('Step 2) Calculate'!E758<>\"\",'Step 2) Calculate'!G758,\"\")","v":""},{"$f":"IF(L754<>\"\",'Step 2) Calculate'!F758,\"\")","v":""},{"$f":"IF(L754<>\"\",'Step 2) Calculate'!H758,\"\")","v":""},{"$f":"IF(L754<>\"\",'Step 2) Calculate'!C758,\"\")","v":""}]
[null,null,null,null,null,null,null,null,null,null,{"$f":"IF(L755<>\"\",'Step 2) Calculate'!B759,\"Zzzzz - delete row\")","v":"Zzzzz - delete row"},{"$f":"IF('Step 2) Calculate'!E759<>\"\",'Step 2) Calculate'!G759,\"\")","v":""},{"$f":"IF(L755<>\"\",'Step 2) Calculate'!F759,\"\")","v":""},{"$f":"IF(L755<>\"\",'Step 2) Calculate'!H759,\"\")","v":""},{"$f":"IF(L755<>\"\",'Step 2) Calculate'!C759,\"\")","v":""}]
[null,null,null,null,null,null,null,null,null,null,{"$f":"IF(L756<>\"\",'Step 2) Calculate'!B760,\"Zzzzz - delete row\")","v":"Zzzzz - delete row"},{"$f":"IF('Step 2) Calculate'!E760<>\"\",'Step 2) Calculate'!G760,\"\")","v":""},{"$f":"IF(L756<>\"\",'Step 2) Calculate'!F760,\"\")","v":""},{"$f":"IF(L756<>\"\",'Step 2) Calculate'!H760,\"\")","v":""},{"$f":"IF(L756<>\"\",'Step 2) Calculate'!C760,\"\")","v":""}]
[null,null,null,null,null,null,null,null,null,null,{"$f":"IF(L757<>\"\",'Step 2) Calculate'!B761,\"Zzzzz - delete row\")","v":"Zzzzz - delete row"},{"$f":"IF('Step 2) Calculate'!E761<>\"\",'Step 2) Calculate'!G761,\"\")","v":""},{"$f":"IF(L757<>\"\",'Step 2) Calculate'!F761,\"\")","v":""},{"$f":"IF(L757<>\"\",'Step 2) Calculate'!H761,\"\")","v":""},{"$f":"IF(L757<>\"\",'Step 2) Calculate'!C761,\"\")","v":""}]
[null,null,null,null,null,null,null,null,null,null,{"$f":"IF(L758<>\"\",'Step 2) Calculate'!B762,\"Zzzzz - delete row\")","v":"Zzzzz - delete row"},{"$f":"IF('Step 2) Calculate'!E762<>\"\",'Step 2) Calculate'!G762,\"\")","v":""},{"$f":"IF(L758<>\"\",'Step 2) Calculate'!F762,\"\")","v":""},{"$f":"IF(L758<>\"\",'Step 2) Calculate'!H762,\"\")","v":""},{"$f":"IF(L758<>\"\",'Step 2) Calculate'!C762,\"\")","v":""}]
[null,null,null,null,null,null,null,null,null,null,{"$f":"IF(L759<>\"\",'Step 2) Calculate'!B763,\"Zzzzz - delete row\")","v":"Zzzzz - delete row"},{"$f":"IF('Step 2) Calculate'!E763<>\"\",'Step 2) Calculate'!G763,\"\")","v":""},{"$f":"IF(L759<>\"\",'Step 2) Calculate'!F763,\"\")","v":""},{"$f":"IF(L759<>\"\",'Step 2) Calculate'!H763,\"\")","v":""},{"$f":"IF(L759<>\"\",'Step 2) Calculate'!C763,\"\")","v":""}]
[null,null,null,null,null,null,null,null,null,null,{"$f":"IF(L760<>\"\",'Step 2) Calculate'!B764,\"Zzzzz - delete row\")","v":"Zzzzz - delete row"},{"$f":"IF('Step 2) Calculate'!E764<>\"\",'Step 2) Calculate'!G764,\"\")","v":""},{"$f":"IF(L760<>\"\",'Step 2) Calculate'!F764,\"\")","v":""},{"$f":"IF(L760<>\"\",'Step 2) Calculate'!H764,\"\")","v":""},{"$f":"IF(L760<>\"\",'Step 2) Calculate'!C764,\"\")","v":""}]
[null,null,null,null,null,null,null,null,null,null,{"$f":"IF(L761<>\"\",'Step 2) Calculate'!B765,\"Zzzzz - delete row\")","v":"Zzzzz - delete row"},{"$f":"IF('Step 2) Calculate'!E765<>\"\",'Step 2) Calculate'!G765,\"\")","v":""},{"$f":"IF(L761<>\"\",'Step 2) Calculate'!F765,\"\")","v":""},{"$f":"IF(L761<>\"\",'Step 2) Calculate'!H765,\"\")","v":""},{"$f":"IF(L761<>\"\",'Step 2) Calculate'!C765,\"\")","v":""}]
[null,null,null,null,null,null,null,null,null,null,{"$f":"IF(L762<>\"\",'Step 2) Calculate'!B766,\"Zzzzz - delete row\")","v":"Zzzzz - delete row"},{"$f":"IF('Step 2) Calculate'!E766<>\"\",'Step 2) Calculate'!G766,\"\")","v":""},{"$f":"IF(L762<>\"\",'Step 2) Calculate'!F766,\"\")","v":""},{"$f":"IF(L762<>\"\",'Step 2) Calculate'!H766,\"\")","v":""},{"$f":"IF(L762<>\"\",'Step 2) Calculate'!C766,\"\")","v":""}]
[null,null,null,null,null,null,null,null,null,null,{"$f":"IF(L763<>\"\",'Step 2) Calculate'!B767,\"Zzzzz - delete row\")","v":"Zzzzz - delete row"},{"$f":"IF('Step 2) Calculate'!E767<>\"\",'Step 2) Calculate'!G767,\"\")","v":""},{"$f":"IF(L763<>\"\",'Step 2) Calculate'!F767,\"\")","v":""},{"$f":"IF(L763<>\"\",'Step 2) Calculate'!H767,\"\")","v":""},{"$f":"IF(L763<>\"\",'Step 2) Calculate'!C767,\"\")","v":""}]
[null,null,null,null,null,null,null,null,null,null,{"$f":"IF(L764<>\"\",'Step 2) Calculate'!B768,\"Zzzzz - delete row\")","v":"Zzzzz - delete row"},{"$f":"IF('Step 2) Calculate'!E768<>\"\",'Step 2) Calculate'!G768,\"\")","v":""},{"$f":"IF(L764<>\"\",'Step 2) Calculate'!F768,\"\")","v":""},{"$f":"IF(L764<>\"\",'Step 2) Calculate'!H768,\"\")","v":""},{"$f":"IF(L764<>\"\",'Step 2) Calculate'!C768,\"\")","v":""}]
[null,null,null,null,null,null,null,null,null,null,{"$f":"IF(L765<>\"\",'Step 2) Calculate'!B769,\"Zzzzz - delete row\")","v":"Zzzzz - delete row"},{"$f":"IF('Step 2) Calculate'!E769<>\"\",'Step 2) Calculate'!G769,\"\")","v":""},{"$f":"IF(L765<>\"\",'Step 2) Calculate'!F769,\"\")","v":""},{"$f":"IF(L765<>\"\",'Step 2) Calculate'!H769,\"\")","v":""},{"$f":"IF(L765<>\"\",'Step 2) Calculate'!C769,\"\")","v":""}]
[null,null,null,null,null,null,null,null,null,null,{"$f":"IF(L766<>\"\",'Step 2) Calculate'!B770,\"Zzzzz - delete row\")","v":"Zzzzz - delete row"},{"$f":"IF('Step 2) Calculate'!E770<>\"\",'Step 2) Calculate'!G770,\"\")","v":""},{"$f":"IF(L766<>\"\",'Step 2) Calculate'!F770,\"\")","v":""},{"$f":"IF(L766<>\"\",'Step 2) Calculate'!H770,\"\")","v":""},{"$f":"IF(L766<>\"\",'Step 2) Calculate'!C770,\"\")","v":""}]
[null,null,null,null,null,null,null,null,null,null,{"$f":"IF(L767<>\"\",'Step 2) Calculate'!B771,\"Zzzzz - delete row\")","v":"Zzzzz - delete row"},{"$f":"IF('Step 2) Calculate'!E771<>\"\",'Step 2) Calculate'!G771,\"\")","v":""},{"$f":"IF(L767<>\"\",'Step 2) Calculate'!F771,\"\")","v":""},{"$f":"IF(L767<>\"\",'Step 2) Calculate'!H771,\"\")","v":""},{"$f":"IF(L767<>\"\",'Step 2) Calculate'!C771,\"\")","v":""}]
[null,null,null,null,null,null,null,null,null,null,{"$f":"IF(L768<>\"\",'Step 2) Calculate'!B772,\"Zzzzz - delete row\")","v":"Zzzzz - delete row"},{"$f":"IF('Step 2) Calculate'!E772<>\"\",'Step 2) Calculate'!G772,\"\")","v":""},{"$f":"IF(L768<>\"\",'Step 2) Calculate'!F772,\"\")","v":""},{"$f":"IF(L768<>\"\",'Step 2) Calculate'!H772,\"\")","v":""},{"$f":"IF(L768<>\"\",'Step 2) Calculate'!C772,\"\")","v":""}]
[null,null,null,null,null,null,null,null,null,null,{"$f":"IF(L769<>\"\",'Step 2) Calculate'!B773,\"Zzzzz - delete row\")","v":"Zzzzz - delete row"},{"$f":"IF('Step 2) Calculate'!E773<>\"\",'Step 2) Calculate'!G773,\"\")","v":""},{"$f":"IF(L769<>\"\",'Step 2) Calculate'!F773,\"\")","v":""},{"$f":"IF(L769<>\"\",'Step 2) Calculate'!H773,\"\")","v":""},{"$f":"IF(L769<>\"\",'Step 2) Calculate'!C773,\"\")","v":""}]
[null,null,null,null,null,null,null,null,null,null,{"$f":"IF(L770<>\"\",'Step 2) Calculate'!B774,\"Zzzzz - delete row\")","v":"Zzzzz - delete row"},{"$f":"IF('Step 2) Calculate'!E774<>\"\",'Step 2) Calculate'!G774,\"\")","v":""},{"$f":"IF(L770<>\"\",'Step 2) Calculate'!F774,\"\")","v":""},{"$f":"IF(L770<>\"\",'Step 2) Calculate'!H774,\"\")","v":""},{"$f":"IF(L770<>\"\",'Step 2) Calculate'!C774,\"\")","v":""}]
[null,null,null,null,null,null,null,null,null,null,{"$f":"IF(L771<>\"\",'Step 2) Calculate'!B775,\"Zzzzz - delete row\")","v":"Zzzzz - delete row"},{"$f":"IF('Step 2) Calculate'!E775<>\"\",'Step 2) Calculate'!G775,\"\")","v":""},{"$f":"IF(L771<>\"\",'Step 2) Calculate'!F775,\"\")","v":""},{"$f":"IF(L771<>\"\",'Step 2) Calculate'!H775,\"\")","v":""},{"$f":"IF(L771<>\"\",'Step 2) Calculate'!C775,\"\")","v":""}]
[null,null,null,null,null,null,null,null,null,null,{"$f":"IF(L772<>\"\",'Step 2) Calculate'!B776,\"Zzzzz - delete row\")","v":"Zzzzz - delete row"},{"$f":"IF('Step 2) Calculate'!E776<>\"\",'Step 2) Calculate'!G776,\"\")","v":""},{"$f":"IF(L772<>\"\",'Step 2) Calculate'!F776,\"\")","v":""},{"$f":"IF(L772<>\"\",'Step 2) Calculate'!H776,\"\")","v":""},{"$f":"IF(L772<>\"\",'Step 2) Calculate'!C776,\"\")","v":""}]
[null,null,null,null,null,null,null,null,null,null,{"$f":"IF(L773<>\"\",'Step 2) Calculate'!B777,\"Zzzzz - delete row\")","v":"Zzzzz - delete row"},{"$f":"IF('Step 2) Calculate'!E777<>\"\",'Step 2) Calculate'!G777,\"\")","v":""},{"$f":"IF(L773<>\"\",'Step 2) Calculate'!F777,\"\")","v":""},{"$f":"IF(L773<>\"\",'Step 2) Calculate'!H777,\"\")","v":""},{"$f":"IF(L773<>\"\",'Step 2) Calculate'!C777,\"\")","v":""}]
[null,null,null,null,null,null,null,null,null,null,{"$f":"IF(L774<>\"\",'Step 2) Calculate'!B778,\"Zzzzz - delete row\")","v":"Zzzzz - delete row"},{"$f":"IF('Step 2) Calculate'!E778<>\"\",'Step 2) Calculate'!G778,\"\")","v":""},{"$f":"IF(L774<>\"\",'Step 2) Calculate'!F778,\"\")","v":""},{"$f":"IF(L774<>\"\",'Step 2) Calculate'!H778,\"\")","v":""},{"$f":"IF(L774<>\"\",'Step 2) Calculate'!C778,\"\")","v":""}]
[null,null,null,null,null,null,null,null,null,null,{"$f":"IF(L775<>\"\",'Step 2) Calculate'!B779,\"Zzzzz - delete row\")","v":"Zzzzz - delete row"},{"$f":"IF('Step 2) Calculate'!E779<>\"\",'Step 2) Calculate'!G779,\"\")","v":""},{"$f":"IF(L775<>\"\",'Step 2) Calculate'!F779,\"\")","v":""},{"$f":"IF(L775<>\"\",'Step 2) Calculate'!H779,\"\")","v":""},{"$f":"IF(L775<>\"\",'Step 2) Calculate'!C779,\"\")","v":""}]
[null,null,null,null,null,null,null,null,null,null,{"$f":"IF(L776<>\"\",'Step 2) Calculate'!B780,\"Zzzzz - delete row\")","v":"Zzzzz - delete row"},{"$f":"IF('Step 2) Calculate'!E780<>\"\",'Step 2) Calculate'!G780,\"\")","v":""},{"$f":"IF(L776<>\"\",'Step 2) Calculate'!F780,\"\")","v":""},{"$f":"IF(L776<>\"\",'Step 2) Calculate'!H780,\"\")","v":""},{"$f":"IF(L776<>\"\",'Step 2) Calculate'!C780,\"\")","v":""}]
[null,null,null,null,null,null,null,null,null,null,{"$f":"IF(L777<>\"\",'Step 2) Calculate'!B781,\"Zzzzz - delete row\")","v":"Zzzzz - delete row"},{"$f":"IF('Step 2) Calculate'!E781<>\"\",'Step 2) Calculate'!G781,\"\")","v":""},{"$f":"IF(L777<>\"\",'Step 2) Calculate'!F781,\"\")","v":""},{"$f":"IF(L777<>\"\",'Step 2) Calculate'!H781,\"\")","v":""},{"$f":"IF(L777<>\"\",'Step 2) Calculate'!C781,\"\")","v":""}]
[null,null,null,null,null,null,null,null,null,null,{"$f":"IF(L778<>\"\",'Step 2) Calculate'!B782,\"Zzzzz - delete row\")","v":"Zzzzz - delete row"},{"$f":"IF('Step 2) Calculate'!E782<>\"\",'Step 2) Calculate'!G782,\"\")","v":""},{"$f":"IF(L778<>\"\",'Step 2) Calculate'!F782,\"\")","v":""},{"$f":"IF(L778<>\"\",'Step 2) Calculate'!H782,\"\")","v":""},{"$f":"IF(L778<>\"\",'Step 2) Calculate'!C782,\"\")","v":""}]
[null,null,null,null,null,null,null,null,null,null,{"$f":"IF(L779<>\"\",'Step 2) Calculate'!B783,\"Zzzzz - delete row\")","v":"Zzzzz - delete row"},{"$f":"IF('Step 2) Calculate'!E783<>\"\",'Step 2) Calculate'!G783,\"\")","v":""},{"$f":"IF(L779<>\"\",'Step 2) Calculate'!F783,\"\")","v":""},{"$f":"IF(L779<>\"\",'Step 2) Calculate'!H783,\"\")","v":""},{"$f":"IF(L779<>\"\",'Step 2) Calculate'!C783,\"\")","v":""}]
[null,null,null,null,null,null,null,null,null,null,{"$f":"IF(L780<>\"\",'Step 2) Calculate'!B784,\"Zzzzz - delete row\")","v":"Zzzzz - delete row"},{"$f":"IF('Step 2) Calculate'!E784<>\"\",'Step 2) Calculate'!G784,\"\")","v":""},{"$f":"IF(L780<>\"\",'Step 2) Calculate'!F784,\"\")","v":""},{"$f":"IF(L780<>\"\",'Step 2) Calculate'!H784,\"\")","v":""},{"$f":"IF(L780<>\"\",'Step 2) Calculate'!C784,\"\")","v":""}]
[null,null,null,null,null,null,null,null,null,null,{"$f":"IF(L781<>\"\",'Step 2) Calculate'!B785,\"Zzzzz - delete row\")","v":"Zzzzz - delete row"},{"$f":"IF('Step 2) Calculate'!E785<>\"\",'Step 2) Calculate'!G785,\"\")","v":""},{"$f":"IF(L781<>\"\",'Step 2) Calculate'!F785,\"\")","v":""},{"$f":"IF(L781<>\"\",'Step 2) Calculate'!H785,\"\")","v":""},{"$f":"IF(L781<>\"\",'Step 2) Calculate'!C785,\"\")","v":""}]
[null,null,null,null,null,null,null,null,null,null,{"$f":"IF(L782<>\"\",'Step 2) Calculate'!B786,\"Zzzzz - delete row\")","v":"Zzzzz - delete row"},{"$f":"IF('Step 2) Calculate'!E786<>\"\",'Step 2) Calculate'!G786,\"\")","v":""},{"$f":"IF(L782<>\"\",'Step 2) Calculate'!F786,\"\")","v":""},{"$f":"IF(L782<>\"\",'Step 2) Calculate'!H786,\"\")","v":""},{"$f":"IF(L782<>\"\",'Step 2) Calculate'!C786,\"\")","v":""}]
[null,null,null,null,null,null,null,null,null,null,{"$f":"IF(L783<>\"\",'Step 2) Calculate'!B787,\"Zzzzz - delete row\")","v":"Zzzzz - delete row"},{"$f":"IF('Step 2) Calculate'!E787<>\"\",'Step 2) Calculate'!G787,\"\")","v":""},{"$f":"IF(L783<>\"\",'Step 2) Calculate'!F787,\"\")","v":""},{"$f":"IF(L783<>\"\",'Step 2) Calculate'!H787,\"\")","v":""},{"$f":"IF(L783<>\"\",'Step 2) Calculate'!C787,\"\")","v":""}]
[null,null,null,null,null,null,null,null,null,null,{"$f":"IF(L784<>\"\",'Step 2) Calculate'!B788,\"Zzzzz - delete row\")","v":"Zzzzz - delete row"},{"$f":"IF('Step 2) Calculate'!E788<>\"\",'Step 2) Calculate'!G788,\"\")","v":""},{"$f":"IF(L784<>\"\",'Step 2) Calculate'!F788,\"\")","v":""},{"$f":"IF(L784<>\"\",'Step 2) Calculate'!H788,\"\")","v":""},{"$f":"IF(L784<>\"\",'Step 2) Calculate'!C788,\"\")","v":""}]
[null,null,null,null,null,null,null,null,null,null,{"$f":"IF(L785<>\"\",'Step 2) Calculate'!B789,\"Zzzzz - delete row\")","v":"Zzzzz - delete row"},{"$f":"IF('Step 2) Calculate'!E789<>\"\",'Step 2) Calculate'!G789,\"\")","v":""},{"$f":"IF(L785<>\"\",'Step 2) Calculate'!F789,\"\")","v":""},{"$f":"IF(L785<>\"\",'Step 2) Calculate'!H789,\"\")","v":""},{"$f":"IF(L785<>\"\",'Step 2) Calculate'!C789,\"\")","v":""}]
[null,null,null,null,null,null,null,null,null,null,{"$f":"IF(L786<>\"\",'Step 2) Calculate'!B790,\"Zzzzz - delete row\")","v":"Zzzzz - delete row"},{"$f":"IF('Step 2) Calculate'!E790<>\"\",'Step 2) Calculate'!G790,\"\")","v":""},{"$f":"IF(L786<>\"\",'Step 2) Calculate'!F790,\"\")","v":""},{"$f":"IF(L786<>\"\",'Step 2) Calculate'!H790,\"\")","v":""},{"$f":"IF(L786<>\"\",'Step 2) Calculate'!C790,\"\")","v":""}]
[null,null,null,null,null,null,null,null,null,null,{"$f":"IF(L787<>\"\",'Step 2) Calculate'!B791,\"Zzzzz - delete row\")","v":"Zzzzz - delete row"},{"$f":"IF('Step 2) Calculate'!E791<>\"\",'Step 2) Calculate'!G791,\"\")","v":""},{"$f":"IF(L787<>\"\",'Step 2) Calculate'!F791,\"\")","v":""},{"$f":"IF(L787<>\"\",'Step 2) Calculate'!H791,\"\")","v":""},{"$f":"IF(L787<>\"\",'Step 2) Calculate'!C791,\"\")","v":""}]
[null,null,null,null,null,null,null,null,null,null,{"$f":"IF(L788<>\"\",'Step 2) Calculate'!B792,\"Zzzzz - delete row\")","v":"Zzzzz - delete row"},{"$f":"IF('Step 2) Calculate'!E792<>\"\",'Step 2) Calculate'!G792,\"\")","v":""},{"$f":"IF(L788<>\"\",'Step 2) Calculate'!F792,\"\")","v":""},{"$f":"IF(L788<>\"\",'Step 2) Calculate'!H792,\"\")","v":""},{"$f":"IF(L788<>\"\",'Step 2) Calculate'!C792,\"\")","v":""}]
[null,null,null,null,null,null,null,null,null,null,{"$f":"IF(L789<>\"\",'Step 2) Calculate'!B793,\"Zzzzz - delete row\")","v":"Zzzzz - delete row"},{"$f":"IF('Step 2) Calculate'!E793<>\"\",'Step 2) Calculate'!G793,\"\")","v":""},{"$f":"IF(L789<>\"\",'Step 2) Calculate'!F793,\"\")","v":""},{"$f":"IF(L789<>\"\",'Step 2) Calculate'!H793,\"\")","v":""},{"$f":"IF(L789<>\"\",'Step 2) Calculate'!C793,\"\")","v":""}]
[null,null,null,null,null,null,null,null,null,null,{"$f":"IF(L790<>\"\",'Step 2) Calculate'!B794,\"Zzzzz - delete row\")","v":"Zzzzz - delete row"},{"$f":"IF('Step 2) Calculate'!E794<>\"\",'Step 2) Calculate'!G794,\"\")","v":""},{"$f":"IF(L790<>\"\",'Step 2) Calculate'!F794,\"\")","v":""},{"$f":"IF(L790<>\"\",'Step 2) Calculate'!H794,\"\")","v":""},{"$f":"IF(L790<>\"\",'Step 2) Calculate'!C794,\"\")","v":""}]
[null,null,null,null,null,null,null,null,null,null,{"$f":"IF(L791<>\"\",'Step 2) Calculate'!B795,\"Zzzzz - delete row\")","v":"Zzzzz - delete row"},{"$f":"IF('Step 2) Calculate'!E795<>\"\",'Step 2) Calculate'!G795,\"\")","v":""},{"$f":"IF(L791<>\"\",'Step 2) Calculate'!F795,\"\")","v":""},{"$f":"IF(L791<>\"\",'Step 2) Calculate'!H795,\"\")","v":""},{"$f":"IF(L791<>\"\",'Step 2) Calculate'!C795,\"\")","v":""}]
[null,null,null,null,null,null,null,null,null,null,{"$f":"IF(L792<>\"\",'Step 2) Calculate'!B796,\"Zzzzz - delete row\")","v":"Zzzzz - delete row"},{"$f":"IF('Step 2) Calculate'!E796<>\"\",'Step 2) Calculate'!G796,\"\")","v":""},{"$f":"IF(L792<>\"\",'Step 2) Calculate'!F796,\"\")","v":""},{"$f":"IF(L792<>\"\",'Step 2) Calculate'!H796,\"\")","v":""},{"$f":"IF(L792<>\"\",'Step 2) Calculate'!C796,\"\")","v":""}]
[null,null,null,null,null,null,null,null,null,null,{"$f":"IF(L793<>\"\",'Step 2) Calculate'!B797,\"Zzzzz - delete row\")","v":"Zzzzz - delete row"},{"$f":"IF('Step 2) Calculate'!E797<>\"\",'Step 2) Calculate'!G797,\"\")","v":""},{"$f":"IF(L793<>\"\",'Step 2) Calculate'!F797,\"\")","v":""},{"$f":"IF(L793<>\"\",'Step 2) Calculate'!H797,\"\")","v":""},{"$f":"IF(L793<>\"\",'Step 2) Calculate'!C797,\"\")","v":""}]
[null,null,null,null,null,null,null,null,null,null,{"$f":"IF(L794<>\"\",'Step 2) Calculate'!B798,\"Zzzzz - delete row\")","v":"Zzzzz - delete row"},{"$f":"IF('Step 2) Calculate'!E798<>\"\",'Step 2) Calculate'!G798,\"\")","v":""},{"$f":"IF(L794<>\"\",'Step 2) Calculate'!F798,\"\")","v":""},{"$f":"IF(L794<>\"\",'Step 2) Calculate'!H798,\"\")","v":""},{"$f":"IF(L794<>\"\",'Step 2) Calculate'!C798,\"\")","v":""}]
[null,null,null,null,null,null,null,null,null,null,{"$f":"IF(L795<>\"\",'Step 2) Calculate'!B799,\"Zzzzz - delete row\")","v":"Zzzzz - delete row"},{"$f":"IF('Step 2) Calculate'!E799<>\"\",'Step 2) Calculate'!G799,\"\")","v":""},{"$f":"IF(L795<>\"\",'Step 2) Calculate'!F799,\"\")","v":""},{"$f":"IF(L795<>\"\",'Step 2) Calculate'!H799,\"\")","v":""},{"$f":"IF(L795<>\"\",'Step 2) Calculate'!C799,\"\")","v":""}]
[null,null,null,null,null,null,null,null,null,null,{"$f":"IF(L796<>\"\",'Step 2) Calculate'!B800,\"Zzzzz - delete row\")","v":"Zzzzz - delete row"},{"$f":"IF('Step 2) Calculate'!E800<>\"\",'Step 2) Calculate'!G800,\"\")","v":""},{"$f":"IF(L796<>\"\",'Step 2) Calculate'!F800,\"\")","v":""},{"$f":"IF(L796<>\"\",'Step 2) Calculate'!H800,\"\")","v":""},{"$f":"IF(L796<>\"\",'Step 2) Calculate'!C800,\"\")","v":""}]
[null,null,null,null,null,null,null,null,null,null,{"$f":"IF(L797<>\"\",'Step 2) Calculate'!B801,\"Zzzzz - delete row\")","v":"Zzzzz - delete row"},{"$f":"IF('Step 2) Calculate'!E801<>\"\",'Step 2) Calculate'!G801,\"\")","v":""},{"$f":"IF(L797<>\"\",'Step 2) Calculate'!F801,\"\")","v":""},{"$f":"IF(L797<>\"\",'Step 2) Calculate'!H801,\"\")","v":""},{"$f":"IF(L797<>\"\",'Step 2) Calculate'!C801,\"\")","v":""}]
[null,null,null,null,null,null,null,null,null,null,{"$f":"IF(L798<>\"\",'Step 2) Calculate'!B802,\"Zzzzz - delete row\")","v":"Zzzzz - delete row"},{"$f":"IF('Step 2) Calculate'!E802<>\"\",'Step 2) Calculate'!G802,\"\")","v":""},{"$f":"IF(L798<>\"\",'Step 2) Calculate'!F802,\"\")","v":""},{"$f":"IF(L798<>\"\",'Step 2) Calculate'!H802,\"\")","v":""},{"$f":"IF(L798<>\"\",'Step 2) Calculate'!C802,\"\")","v":""}]
[null,null,null,null,null,null,null,null,null,null,{"$f":"IF(L799<>\"\",'Step 2) Calculate'!B803,\"Zzzzz - delete row\")","v":"Zzzzz - delete row"},{"$f":"IF('Step 2) Calculate'!E803<>\"\",'Step 2) Calculate'!G803,\"\")","v":""},{"$f":"IF(L799<>\"\",'Step 2) Calculate'!F803,\"\")","v":""},{"$f":"IF(L799<>\"\",'Step 2) Calculate'!H803,\"\")","v":""},{"$f":"IF(L799<>\"\",'Step 2) Calculate'!C803,\"\")","v":""}]
[null,null,null,null,null,null,null,null,null,null,{"$f":"IF(L800<>\"\",'Step 2) Calculate'!B804,\"Zzzzz - delete row\")","v":"Zzzzz - delete row"},{"$f":"IF('Step 2) Calculate'!E804<>\"\",'Step 2) Calculate'!G804,\"\")","v":""},{"$f":"IF(L800<>\"\",'Step 2) Calculate'!F804,\"\")","v":""},{"$f":"IF(L800<>\"\",'Step 2) Calculate'!H804,\"\")","v":""},{"$f":"IF(L800<>\"\",'Step 2) Calculate'!C804,\"\")","v":""}]
[null,null,null,null,null,null,null,null,null,null,{"$f":"IF(L801<>\"\",'Step 2) Calculate'!B805,\"Zzzzz - delete row\")","v":"Zzzzz - delete row"},{"$f":"IF('Step 2) Calculate'!E805<>\"\",'Step 2) Calculate'!G805,\"\")","v":""},{"$f":"IF(L801<>\"\",'Step 2) Calculate'!F805,\"\")","v":""},{"$f":"IF(L801<>\"\",'Step 2) Calculate'!H805,\"\")","v":""},{"$f":"IF(L801<>\"\",'Step 2) Calculate'!C805,\"\")","v":""}]
[null,null,null,null,null,null,null,null,null,null,{"$f":"IF(L802<>\"\",'Step 2) Calculate'!B806,\"Zzzzz - delete row\")","v":"Zzzzz - delete row"},{"$f":"IF('Step 2) Calculate'!E806<>\"\",'Step 2) Calculate'!G806,\"\")","v":""},{"$f":"IF(L802<>\"\",'Step 2) Calculate'!F806,\"\")","v":""},{"$f":"IF(L802<>\"\",'Step 2) Calculate'!H806,\"\")","v":""},{"$f":"IF(L802<>\"\",'Step 2) Calculate'!C806,\"\")","v":""}]
[null,null,null,null,null,null,null,null,null,null,{"$f":"IF(L803<>\"\",'Step 2) Calculate'!B807,\"Zzzzz - delete row\")","v":"Zzzzz - delete row"},{"$f":"IF('Step 2) Calculate'!E807<>\"\",'Step 2) Calculate'!G807,\"\")","v":""},{"$f":"IF(L803<>\"\",'Step 2) Calculate'!F807,\"\")","v":""},{"$f":"IF(L803<>\"\",'Step 2) Calculate'!H807,\"\")","v":""},{"$f":"IF(L803<>\"\",'Step 2) Calculate'!C807,\"\")","v":""}]
[null,null,null,null,null,null,null,null,null,null,{"$f":"IF(L804<>\"\",'Step 2) Calculate'!B808,\"Zzzzz - delete row\")","v":"Zzzzz - delete row"},{"$f":"IF('Step 2) Calculate'!E808<>\"\",'Step 2) Calculate'!G808,\"\")","v":""},{"$f":"IF(L804<>\"\",'Step 2) Calculate'!F808,\"\")","v":""},{"$f":"IF(L804<>\"\",'Step 2) Calculate'!H808,\"\")","v":""},{"$f":"IF(L804<>\"\",'Step 2) Calculate'!C808,\"\")","v":""}]
[null,null,null,null,null,null,null,null,null,null,{"$f":"IF(L805<>\"\",'Step 2) Calculate'!B809,\"Zzzzz - delete row\")","v":"Zzzzz - delete row"},{"$f":"IF('Step 2) Calculate'!E809<>\"\",'Step 2) Calculate'!G809,\"\")","v":""},{"$f":"IF(L805<>\"\",'Step 2) Calculate'!F809,\"\")","v":""},{"$f":"IF(L805<>\"\",'Step 2) Calculate'!H809,\"\")","v":""},{"$f":"IF(L805<>\"\",'Step 2) Calculate'!C809,\"\")","v":""}]
[null,null,null,null,null,null,null,null,null,null,{"$f":"IF(L806<>\"\",'Step 2) Calculate'!B810,\"Zzzzz - delete row\")","v":"Zzzzz - delete row"},{"$f":"IF('Step 2) Calculate'!E810<>\"\",'Step 2) Calculate'!G810,\"\")","v":""},{"$f":"IF(L806<>\"\",'Step 2) Calculate'!F810,\"\")","v":""},{"$f":"IF(L806<>\"\",'Step 2) Calculate'!H810,\"\")","v":""},{"$f":"IF(L806<>\"\",'Step 2) Calculate'!C810,\"\")","v":""}]
[null,null,null,null,null,null,null,null,null,null,{"$f":"IF(L807<>\"\",'Step 2) Calculate'!B811,\"Zzzzz - delete row\")","v":"Zzzzz - delete row"},{"$f":"IF('Step 2) Calculate'!E811<>\"\",'Step 2) Calculate'!G811,\"\")","v":""},{"$f":"IF(L807<>\"\",'Step 2) Calculate'!F811,\"\")","v":""},{"$f":"IF(L807<>\"\",'Step 2) Calculate'!H811,\"\")","v":""},{"$f":"IF(L807<>\"\",'Step 2) Calculate'!C811,\"\")","v":""}]
[null,null,null,null,null,null,null,null,null,null,{"$f":"IF(L808<>\"\",'Step 2) Calculate'!B812,\"Zzzzz - delete row\")","v":"Zzzzz - delete row"},{"$f":"IF('Step 2) Calculate'!E812<>\"\",'Step 2) Calculate'!G812,\"\")","v":""},{"$f":"IF(L808<>\"\",'Step 2) Calculate'!F812,\"\")","v":""},{"$f":"IF(L808<>\"\",'Step 2) Calculate'!H812,\"\")","v":""},{"$f":"IF(L808<>\"\",'Step 2) Calculate'!C812,\"\")","v":""}]
[null,null,null,null,null,null,null,null,null,null,{"$f":"IF(L809<>\"\",'Step 2) Calculate'!B813,\"Zzzzz - delete row\")","v":"Zzzzz - delete row"},{"$f":"IF('Step 2) Calculate'!E813<>\"\",'Step 2) Calculate'!G813,\"\")","v":""},{"$f":"IF(L809<>\"\",'Step 2) Calculate'!F813,\"\")","v":""},{"$f":"IF(L809<>\"\",'Step 2) Calculate'!H813,\"\")","v":""},{"$f":"IF(L809<>\"\",'Step 2) Calculate'!C813,\"\")","v":""}]
[null,null,null,null,null,null,null,null,null,null,{"$f":"IF(L810<>\"\",'Step 2) Calculate'!B814,\"Zzzzz - delete row\")","v":"Zzzzz - delete row"},{"$f":"IF('Step 2) Calculate'!E814<>\"\",'Step 2) Calculate'!G814,\"\")","v":""},{"$f":"IF(L810<>\"\",'Step 2) Calculate'!F814,\"\")","v":""},{"$f":"IF(L810<>\"\",'Step 2) Calculate'!H814,\"\")","v":""},{"$f":"IF(L810<>\"\",'Step 2) Calculate'!C814,\"\")","v":""}]
[null,null,null,null,null,null,null,null,null,null,{"$f":"IF(L811<>\"\",'Step 2) Calculate'!B815,\"Zzzzz - delete row\")","v":"Zzzzz - delete row"},{"$f":"IF('Step 2) Calculate'!E815<>\"\",'Step 2) Calculate'!G815,\"\")","v":""},{"$f":"IF(L811<>\"\",'Step 2) Calculate'!F815,\"\")","v":""},{"$f":"IF(L811<>\"\",'Step 2) Calculate'!H815,\"\")","v":""},{"$f":"IF(L811<>\"\",'Step 2) Calculate'!C815,\"\")","v":""}]
[null,null,null,null,null,null,null,null,null,null,{"$f":"IF(L812<>\"\",'Step 2) Calculate'!B816,\"Zzzzz - delete row\")","v":"Zzzzz - delete row"},{"$f":"IF('Step 2) Calculate'!E816<>\"\",'Step 2) Calculate'!G816,\"\")","v":""},{"$f":"IF(L812<>\"\",'Step 2) Calculate'!F816,\"\")","v":""},{"$f":"IF(L812<>\"\",'Step 2) Calculate'!H816,\"\")","v":""},{"$f":"IF(L812<>\"\",'Step 2) Calculate'!C816,\"\")","v":""}]
[null,null,null,null,null,null,null,null,null,null,{"$f":"IF(L813<>\"\",'Step 2) Calculate'!B817,\"Zzzzz - delete row\")","v":"Zzzzz - delete row"},{"$f":"IF('Step 2) Calculate'!E817<>\"\",'Step 2) Calculate'!G817,\"\")","v":""},{"$f":"IF(L813<>\"\",'Step 2) Calculate'!F817,\"\")","v":""},{"$f":"IF(L813<>\"\",'Step 2) Calculate'!H817,\"\")","v":""},{"$f":"IF(L813<>\"\",'Step 2) Calculate'!C817,\"\")","v":""}]
[null,null,null,null,null,null,null,null,null,null,{"$f":"IF(L814<>\"\",'Step 2) Calculate'!B818,\"Zzzzz - delete row\")","v":"Zzzzz - delete row"},{"$f":"IF('Step 2) Calculate'!E818<>\"\",'Step 2) Calculate'!G818,\"\")","v":""},{"$f":"IF(L814<>\"\",'Step 2) Calculate'!F818,\"\")","v":""},{"$f":"IF(L814<>\"\",'Step 2) Calculate'!H818,\"\")","v":""},{"$f":"IF(L814<>\"\",'Step 2) Calculate'!C818,\"\")","v":""}]
[null,null,null,null,null,null,null,null,null,null,{"$f":"IF(L815<>\"\",'Step 2) Calculate'!B819,\"Zzzzz - delete row\")","v":"Zzzzz - delete row"},{"$f":"IF('Step 2) Calculate'!E819<>\"\",'Step 2) Calculate'!G819,\"\")","v":""},{"$f":"IF(L815<>\"\",'Step 2) Calculate'!F819,\"\")","v":""},{"$f":"IF(L815<>\"\",'Step 2) Calculate'!H819,\"\")","v":""},{"$f":"IF(L815<>\"\",'Step 2) Calculate'!C819,\"\")","v":""}]
[null,null,null,null,null,null,null,null,null,null,{"$f":"IF(L816<>\"\",'Step 2) Calculate'!B820,\"Zzzzz - delete row\")","v":"Zzzzz - delete row"},{"$f":"IF('Step 2) Calculate'!E820<>\"\",'Step 2) Calculate'!G820,\"\")","v":""},{"$f":"IF(L816<>\"\",'Step 2) Calculate'!F820,\"\")","v":""},{"$f":"IF(L816<>\"\",'Step 2) Calculate'!H820,\"\")","v":""},{"$f":"IF(L816<>\"\",'Step 2) Calculate'!C820,\"\")","v":""}]
[null,null,null,null,null,null,null,null,null,null,{"$f":"IF(L817<>\"\",'Step 2) Calculate'!B821,\"Zzzzz - delete row\")","v":"Zzzzz - delete row"},{"$f":"IF('Step 2) Calculate'!E821<>\"\",'Step 2) Calculate'!G821,\"\")","v":""},{"$f":"IF(L817<>\"\",'Step 2) Calculate'!F821,\"\")","v":""},{"$f":"IF(L817<>\"\",'Step 2) Calculate'!H821,\"\")","v":""},{"$f":"IF(L817<>\"\",'Step 2) Calculate'!C821,\"\")","v":""}]
[null,null,null,null,null,null,null,null,null,null,{"$f":"IF(L818<>\"\",'Step 2) Calculate'!B822,\"Zzzzz - delete row\")","v":"Zzzzz - delete row"},{"$f":"IF('Step 2) Calculate'!E822<>\"\",'Step 2) Calculate'!G822,\"\")","v":""},{"$f":"IF(L818<>\"\",'Step 2) Calculate'!F822,\"\")","v":""},{"$f":"IF(L818<>\"\",'Step 2) Calculate'!H822,\"\")","v":""},{"$f":"IF(L818<>\"\",'Step 2) Calculate'!C822,\"\")","v":""}]
[null,null,null,null,null,null,null,null,null,null,{"$f":"IF(L819<>\"\",'Step 2) Calculate'!B823,\"Zzzzz - delete row\")","v":"Zzzzz - delete row"},{"$f":"IF('Step 2) Calculate'!E823<>\"\",'Step 2) Calculate'!G823,\"\")","v":""},{"$f":"IF(L819<>\"\",'Step 2) Calculate'!F823,\"\")","v":""},{"$f":"IF(L819<>\"\",'Step 2) Calculate'!H823,\"\")","v":""},{"$f":"IF(L819<>\"\",'Step 2) Calculate'!C823,\"\")","v":""}]
[null,null,null,null,null,null,null,null,null,null,{"$f":"IF(L820<>\"\",'Step 2) Calculate'!B824,\"Zzzzz - delete row\")","v":"Zzzzz - delete row"},{"$f":"IF('Step 2) Calculate'!E824<>\"\",'Step 2) Calculate'!G824,\"\")","v":""},{"$f":"IF(L820<>\"\",'Step 2) Calculate'!F824,\"\")","v":""},{"$f":"IF(L820<>\"\",'Step 2) Calculate'!H824,\"\")","v":""},{"$f":"IF(L820<>\"\",'Step 2) Calculate'!C824,\"\")","v":""}]
[null,null,null,null,null,null,null,null,null,null,{"$f":"IF(L821<>\"\",'Step 2) Calculate'!B825,\"Zzzzz - delete row\")","v":"Zzzzz - delete row"},{"$f":"IF('Step 2) Calculate'!E825<>\"\",'Step 2) Calculate'!G825,\"\")","v":""},{"$f":"IF(L821<>\"\",'Step 2) Calculate'!F825,\"\")","v":""},{"$f":"IF(L821<>\"\",'Step 2) Calculate'!H825,\"\")","v":""},{"$f":"IF(L821<>\"\",'Step 2) Calculate'!C825,\"\")","v":""}]
[null,null,null,null,null,null,null,null,null,null,{"$f":"IF(L822<>\"\",'Step 2) Calculate'!B826,\"Zzzzz - delete row\")","v":"Zzzzz - delete row"},{"$f":"IF('Step 2) Calculate'!E826<>\"\",'Step 2) Calculate'!G826,\"\")","v":""},{"$f":"IF(L822<>\"\",'Step 2) Calculate'!F826,\"\")","v":""},{"$f":"IF(L822<>\"\",'Step 2) Calculate'!H826,\"\")","v":""},{"$f":"IF(L822<>\"\",'Step 2) Calculate'!C826,\"\")","v":""}]
[null,null,null,null,null,null,null,null,null,null,{"$f":"IF(L823<>\"\",'Step 2) Calculate'!B827,\"Zzzzz - delete row\")","v":"Zzzzz - delete row"},{"$f":"IF('Step 2) Calculate'!E827<>\"\",'Step 2) Calculate'!G827,\"\")","v":""},{"$f":"IF(L823<>\"\",'Step 2) Calculate'!F827,\"\")","v":""},{"$f":"IF(L823<>\"\",'Step 2) Calculate'!H827,\"\")","v":""},{"$f":"IF(L823<>\"\",'Step 2) Calculate'!C827,\"\")","v":""}]
[null,null,null,null,null,null,null,null,null,null,{"$f":"IF(L824<>\"\",'Step 2) Calculate'!B828,\"Zzzzz - delete row\")","v":"Zzzzz - delete row"},{"$f":"IF('Step 2) Calculate'!E828<>\"\",'Step 2) Calculate'!G828,\"\")","v":""},{"$f":"IF(L824<>\"\",'Step 2) Calculate'!F828,\"\")","v":""},{"$f":"IF(L824<>\"\",'Step 2) Calculate'!H828,\"\")","v":""},{"$f":"IF(L824<>\"\",'Step 2) Calculate'!C828,\"\")","v":""}]
[null,null,null,null,null,null,null,null,null,null,{"$f":"IF(L825<>\"\",'Step 2) Calculate'!B829,\"Zzzzz - delete row\")","v":"Zzzzz - delete row"},{"$f":"IF('Step 2) Calculate'!E829<>\"\",'Step 2) Calculate'!G829,\"\")","v":""},{"$f":"IF(L825<>\"\",'Step 2) Calculate'!F829,\"\")","v":""},{"$f":"IF(L825<>\"\",'Step 2) Calculate'!H829,\"\")","v":""},{"$f":"IF(L825<>\"\",'Step 2) Calculate'!C829,\"\")","v":""}]
[null,null,null,null,null,null,null,null,null,null,{"$f":"IF(L826<>\"\",'Step 2) Calculate'!B830,\"Zzzzz - delete row\")","v":"Zzzzz - delete row"},{"$f":"IF('Step 2) Calculate'!E830<>\"\",'Step 2) Calculate'!G830,\"\")","v":""},{"$f":"IF(L826<>\"\",'Step 2) Calculate'!F830,\"\")","v":""},{"$f":"IF(L826<>\"\",'Step 2) Calculate'!H830,\"\")","v":""},{"$f":"IF(L826<>\"\",'Step 2) Calculate'!C830,\"\")","v":""}]
[null,null,null,null,null,null,null,null,null,null,{"$f":"IF(L827<>\"\",'Step 2) Calculate'!B831,\"Zzzzz - delete row\")","v":"Zzzzz - delete row"},{"$f":"IF('Step 2) Calculate'!E831<>\"\",'Step 2) Calculate'!G831,\"\")","v":""},{"$f":"IF(L827<>\"\",'Step 2) Calculate'!F831,\"\")","v":""},{"$f":"IF(L827<>\"\",'Step 2) Calculate'!H831,\"\")","v":""},{"$f":"IF(L827<>\"\",'Step 2) Calculate'!C831,\"\")","v":""}]
[null,null,null,null,null,null,null,null,null,null,{"$f":"IF(L828<>\"\",'Step 2) Calculate'!B832,\"Zzzzz - delete row\")","v":"Zzzzz - delete row"},{"$f":"IF('Step 2) Calculate'!E832<>\"\",'Step 2) Calculate'!G832,\"\")","v":""},{"$f":"IF(L828<>\"\",'Step 2) Calculate'!F832,\"\")","v":""},{"$f":"IF(L828<>\"\",'Step 2) Calculate'!H832,\"\")","v":""},{"$f":"IF(L828<>\"\",'Step 2) Calculate'!C832,\"\")","v":""}]
[null,null,null,null,null,null,null,null,null,null,{"$f":"IF(L829<>\"\",'Step 2) Calculate'!B833,\"Zzzzz - delete row\")","v":"Zzzzz - delete row"},{"$f":"IF('Step 2) Calculate'!E833<>\"\",'Step 2) Calculate'!G833,\"\")","v":""},{"$f":"IF(L829<>\"\",'Step 2) Calculate'!F833,\"\")","v":""},{"$f":"IF(L829<>\"\",'Step 2) Calculate'!H833,\"\")","v":""},{"$f":"IF(L829<>\"\",'Step 2) Calculate'!C833,\"\")","v":""}]
[null,null,null,null,null,null,null,null,null,null,{"$f":"IF(L830<>\"\",'Step 2) Calculate'!B834,\"Zzzzz - delete row\")","v":"Zzzzz - delete row"},{"$f":"IF('Step 2) Calculate'!E834<>\"\",'Step 2) Calculate'!G834,\"\")","v":""},{"$f":"IF(L830<>\"\",'Step 2) Calculate'!F834,\"\")","v":""},{"$f":"IF(L830<>\"\",'Step 2) Calculate'!H834,\"\")","v":""},{"$f":"IF(L830<>\"\",'Step 2) Calculate'!C834,\"\")","v":""}]
[null,null,null,null,null,null,null,null,null,null,{"$f":"IF(L831<>\"\",'Step 2) Calculate'!B835,\"Zzzzz - delete row\")","v":"Zzzzz - delete row"},{"$f":"IF('Step 2) Calculate'!E835<>\"\",'Step 2) Calculate'!G835,\"\")","v":""},{"$f":"IF(L831<>\"\",'Step 2) Calculate'!F835,\"\")","v":""},{"$f":"IF(L831<>\"\",'Step 2) Calculate'!H835,\"\")","v":""},{"$f":"IF(L831<>\"\",'Step 2) Calculate'!C835,\"\")","v":""}]
[null,null,null,null,null,null,null,null,null,null,{"$f":"IF(L832<>\"\",'Step 2) Calculate'!B836,\"Zzzzz - delete row\")","v":"Zzzzz - delete row"},{"$f":"IF('Step 2) Calculate'!E836<>\"\",'Step 2) Calculate'!G836,\"\")","v":""},{"$f":"IF(L832<>\"\",'Step 2) Calculate'!F836,\"\")","v":""},{"$f":"IF(L832<>\"\",'Step 2) Calculate'!H836,\"\")","v":""},{"$f":"IF(L832<>\"\",'Step 2) Calculate'!C836,\"\")","v":""}]
[null,null,null,null,null,null,null,null,null,null,{"$f":"IF(L833<>\"\",'Step 2) Calculate'!B837,\"Zzzzz - delete row\")","v":"Zzzzz - delete row"},{"$f":"IF('Step 2) Calculate'!E837<>\"\",'Step 2) Calculate'!G837,\"\")","v":""},{"$f":"IF(L833<>\"\",'Step 2) Calculate'!F837,\"\")","v":""},{"$f":"IF(L833<>\"\",'Step 2) Calculate'!H837,\"\")","v":""},{"$f":"IF(L833<>\"\",'Step 2) Calculate'!C837,\"\")","v":""}]
[null,null,null,null,null,null,null,null,null,null,{"$f":"IF(L834<>\"\",'Step 2) Calculate'!B838,\"Zzzzz - delete row\")","v":"Zzzzz - delete row"},{"$f":"IF('Step 2) Calculate'!E838<>\"\",'Step 2) Calculate'!G838,\"\")","v":""},{"$f":"IF(L834<>\"\",'Step 2) Calculate'!F838,\"\")","v":""},{"$f":"IF(L834<>\"\",'Step 2) Calculate'!H838,\"\")","v":""},{"$f":"IF(L834<>\"\",'Step 2) Calculate'!C838,\"\")","v":""}]
[null,null,null,null,null,null,null,null,null,null,{"$f":"IF(L835<>\"\",'Step 2) Calculate'!B839,\"Zzzzz - delete row\")","v":"Zzzzz - delete row"},{"$f":"IF('Step 2) Calculate'!E839<>\"\",'Step 2) Calculate'!G839,\"\")","v":""},{"$f":"IF(L835<>\"\",'Step 2) Calculate'!F839,\"\")","v":""},{"$f":"IF(L835<>\"\",'Step 2) Calculate'!H839,\"\")","v":""},{"$f":"IF(L835<>\"\",'Step 2) Calculate'!C839,\"\")","v":""}]
[null,null,null,null,null,null,null,null,null,null,{"$f":"IF(L836<>\"\",'Step 2) Calculate'!B840,\"Zzzzz - delete row\")","v":"Zzzzz - delete row"},{"$f":"IF('Step 2) Calculate'!E840<>\"\",'Step 2) Calculate'!G840,\"\")","v":""},{"$f":"IF(L836<>\"\",'Step 2) Calculate'!F840,\"\")","v":""},{"$f":"IF(L836<>\"\",'Step 2) Calculate'!H840,\"\")","v":""},{"$f":"IF(L836<>\"\",'Step 2) Calculate'!C840,\"\")","v":""}]
[null,null,null,null,null,null,null,null,null,null,{"$f":"IF(L837<>\"\",'Step 2) Calculate'!B841,\"Zzzzz - delete row\")","v":"Zzzzz - delete row"},{"$f":"IF('Step 2) Calculate'!E841<>\"\",'Step 2) Calculate'!G841,\"\")","v":""},{"$f":"IF(L837<>\"\",'Step 2) Calculate'!F841,\"\")","v":""},{"$f":"IF(L837<>\"\",'Step 2) Calculate'!H841,\"\")","v":""},{"$f":"IF(L837<>\"\",'Step 2) Calculate'!C841,\"\")","v":""}]
[null,null,null,null,null,null,null,null,null,null,{"$f":"IF(L838<>\"\",'Step 2) Calculate'!B842,\"Zzzzz - delete row\")","v":"Zzzzz - delete row"},{"$f":"IF('Step 2) Calculate'!E842<>\"\",'Step 2) Calculate'!G842,\"\")","v":""},{"$f":"IF(L838<>\"\",'Step 2) Calculate'!F842,\"\")","v":""},{"$f":"IF(L838<>\"\",'Step 2) Calculate'!H842,\"\")","v":""},{"$f":"IF(L838<>\"\",'Step 2) Calculate'!C842,\"\")","v":""}]
[null,null,null,null,null,null,null,null,null,null,{"$f":"IF(L839<>\"\",'Step 2) Calculate'!B843,\"Zzzzz - delete row\")","v":"Zzzzz - delete row"},{"$f":"IF('Step 2) Calculate'!E843<>\"\",'Step 2) Calculate'!G843,\"\")","v":""},{"$f":"IF(L839<>\"\",'Step 2) Calculate'!F843,\"\")","v":""},{"$f":"IF(L839<>\"\",'Step 2) Calculate'!H843,\"\")","v":""},{"$f":"IF(L839<>\"\",'Step 2) Calculate'!C843,\"\")","v":""}]
[null,null,null,null,null,null,null,null,null,null,{"$f":"IF(L840<>\"\",'Step 2) Calculate'!B844,\"Zzzzz - delete row\")","v":"Zzzzz - delete row"},{"$f":"IF('Step 2) Calculate'!E844<>\"\",'Step 2) Calculate'!G844,\"\")","v":""},{"$f":"IF(L840<>\"\",'Step 2) Calculate'!F844,\"\")","v":""},{"$f":"IF(L840<>\"\",'Step 2) Calculate'!H844,\"\")","v":""},{"$f":"IF(L840<>\"\",'Step 2) Calculate'!C844,\"\")","v":""}]
[null,null,null,null,null,null,null,null,null,null,{"$f":"IF(L841<>\"\",'Step 2) Calculate'!B845,\"Zzzzz - delete row\")","v":"Zzzzz - delete row"},{"$f":"IF('Step 2) Calculate'!E845<>\"\",'Step 2) Calculate'!G845,\"\")","v":""},{"$f":"IF(L841<>\"\",'Step 2) Calculate'!F845,\"\")","v":""},{"$f":"IF(L841<>\"\",'Step 2) Calculate'!H845,\"\")","v":""},{"$f":"IF(L841<>\"\",'Step 2) Calculate'!C845,\"\")","v":""}]
[null,null,null,null,null,null,null,null,null,null,{"$f":"IF(L842<>\"\",'Step 2) Calculate'!B846,\"Zzzzz - delete row\")","v":"Zzzzz - delete row"},{"$f":"IF('Step 2) Calculate'!E846<>\"\",'Step 2) Calculate'!G846,\"\")","v":""},{"$f":"IF(L842<>\"\",'Step 2) Calculate'!F846,\"\")","v":""},{"$f":"IF(L842<>\"\",'Step 2) Calculate'!H846,\"\")","v":""},{"$f":"IF(L842<>\"\",'Step 2) Calculate'!C846,\"\")","v":""}]
[null,null,null,null,null,null,null,null,null,null,{"$f":"IF(L843<>\"\",'Step 2) Calculate'!B847,\"Zzzzz - delete row\")","v":"Zzzzz - delete row"},{"$f":"IF('Step 2) Calculate'!E847<>\"\",'Step 2) Calculate'!G847,\"\")","v":""},{"$f":"IF(L843<>\"\",'Step 2) Calculate'!F847,\"\")","v":""},{"$f":"IF(L843<>\"\",'Step 2) Calculate'!H847,\"\")","v":""},{"$f":"IF(L843<>\"\",'Step 2) Calculate'!C847,\"\")","v":""}]
[null,null,null,null,null,null,null,null,null,null,{"$f":"IF(L844<>\"\",'Step 2) Calculate'!B848,\"Zzzzz - delete row\")","v":"Zzzzz - delete row"},{"$f":"IF('Step 2) Calculate'!E848<>\"\",'Step 2) Calculate'!G848,\"\")","v":""},{"$f":"IF(L844<>\"\",'Step 2) Calculate'!F848,\"\")","v":""},{"$f":"IF(L844<>\"\",'Step 2) Calculate'!H848,\"\")","v":""},{"$f":"IF(L844<>\"\",'Step 2) Calculate'!C848,\"\")","v":""}]
[null,null,null,null,null,null,null,null,null,null,{"$f":"IF(L845<>\"\",'Step 2) Calculate'!B849,\"Zzzzz - delete row\")","v":"Zzzzz - delete row"},{"$f":"IF('Step 2) Calculate'!E849<>\"\",'Step 2) Calculate'!G849,\"\")","v":""},{"$f":"IF(L845<>\"\",'Step 2) Calculate'!F849,\"\")","v":""},{"$f":"IF(L845<>\"\",'Step 2) Calculate'!H849,\"\")","v":""},{"$f":"IF(L845<>\"\",'Step 2) Calculate'!C849,\"\")","v":""}]
[null,null,null,null,null,null,null,null,null,null,{"$f":"IF(L846<>\"\",'Step 2) Calculate'!B850,\"Zzzzz - delete row\")","v":"Zzzzz - delete row"},{"$f":"IF('Step 2) Calculate'!E850<>\"\",'Step 2) Calculate'!G850,\"\")","v":""},{"$f":"IF(L846<>\"\",'Step 2) Calculate'!F850,\"\")","v":""},{"$f":"IF(L846<>\"\",'Step 2) Calculate'!H850,\"\")","v":""},{"$f":"IF(L846<>\"\",'Step 2) Calculate'!C850,\"\")","v":""}]
[null,null,null,null,null,null,null,null,null,null,{"$f":"IF(L847<>\"\",'Step 2) Calculate'!B851,\"Zzzzz - delete row\")","v":"Zzzzz - delete row"},{"$f":"IF('Step 2) Calculate'!E851<>\"\",'Step 2) Calculate'!G851,\"\")","v":""},{"$f":"IF(L847<>\"\",'Step 2) Calculate'!F851,\"\")","v":""},{"$f":"IF(L847<>\"\",'Step 2) Calculate'!H851,\"\")","v":""},{"$f":"IF(L847<>\"\",'Step 2) Calculate'!C851,\"\")","v":""}]
[null,null,null,null,null,null,null,null,null,null,{"$f":"IF(L848<>\"\",'Step 2) Calculate'!B852,\"Zzzzz - delete row\")","v":"Zzzzz - delete row"},{"$f":"IF('Step 2) Calculate'!E852<>\"\",'Step 2) Calculate'!G852,\"\")","v":""},{"$f":"IF(L848<>\"\",'Step 2) Calculate'!F852,\"\")","v":""},{"$f":"IF(L848<>\"\",'Step 2) Calculate'!H852,\"\")","v":""},{"$f":"IF(L848<>\"\",'Step 2) Calculate'!C852,\"\")","v":""}]
[null,null,null,null,null,null,null,null,null,null,{"$f":"IF(L849<>\"\",'Step 2) Calculate'!B853,\"Zzzzz - delete row\")","v":"Zzzzz - delete row"},{"$f":"IF('Step 2) Calculate'!E853<>\"\",'Step 2) Calculate'!G853,\"\")","v":""},{"$f":"IF(L849<>\"\",'Step 2) Calculate'!F853,\"\")","v":""},{"$f":"IF(L849<>\"\",'Step 2) Calculate'!H853,\"\")","v":""},{"$f":"IF(L849<>\"\",'Step 2) Calculate'!C853,\"\")","v":""}]
[null,null,null,null,null,null,null,null,null,null,{"$f":"IF(L850<>\"\",'Step 2) Calculate'!B854,\"Zzzzz - delete row\")","v":"Zzzzz - delete row"},{"$f":"IF('Step 2) Calculate'!E854<>\"\",'Step 2) Calculate'!G854,\"\")","v":""},{"$f":"IF(L850<>\"\",'Step 2) Calculate'!F854,\"\")","v":""},{"$f":"IF(L850<>\"\",'Step 2) Calculate'!H854,\"\")","v":""},{"$f":"IF(L850<>\"\",'Step 2) Calculate'!C854,\"\")","v":""}]
[null,null,null,null,null,null,null,null,null,null,{"$f":"IF(L851<>\"\",'Step 2) Calculate'!B855,\"Zzzzz - delete row\")","v":"Zzzzz - delete row"},{"$f":"IF('Step 2) Calculate'!E855<>\"\",'Step 2) Calculate'!G855,\"\")","v":""},{"$f":"IF(L851<>\"\",'Step 2) Calculate'!F855,\"\")","v":""},{"$f":"IF(L851<>\"\",'Step 2) Calculate'!H855,\"\")","v":""},{"$f":"IF(L851<>\"\",'Step 2) Calculate'!C855,\"\")","v":""}]
[null,null,null,null,null,null,null,null,null,null,{"$f":"IF(L852<>\"\",'Step 2) Calculate'!B856,\"Zzzzz - delete row\")","v":"Zzzzz - delete row"},{"$f":"IF('Step 2) Calculate'!E856<>\"\",'Step 2) Calculate'!G856,\"\")","v":""},{"$f":"IF(L852<>\"\",'Step 2) Calculate'!F856,\"\")","v":""},{"$f":"IF(L852<>\"\",'Step 2) Calculate'!H856,\"\")","v":""},{"$f":"IF(L852<>\"\",'Step 2) Calculate'!C856,\"\")","v":""}]
[null,null,null,null,null,null,null,null,null,null,{"$f":"IF(L853<>\"\",'Step 2) Calculate'!B857,\"Zzzzz - delete row\")","v":"Zzzzz - delete row"},{"$f":"IF('Step 2) Calculate'!E857<>\"\",'Step 2) Calculate'!G857,\"\")","v":""},{"$f":"IF(L853<>\"\",'Step 2) Calculate'!F857,\"\")","v":""},{"$f":"IF(L853<>\"\",'Step 2) Calculate'!H857,\"\")","v":""},{"$f":"IF(L853<>\"\",'Step 2) Calculate'!C857,\"\")","v":""}]
[null,null,null,null,null,null,null,null,null,null,{"$f":"IF(L854<>\"\",'Step 2) Calculate'!B858,\"Zzzzz - delete row\")","v":"Zzzzz - delete row"},{"$f":"IF('Step 2) Calculate'!E858<>\"\",'Step 2) Calculate'!G858,\"\")","v":""},{"$f":"IF(L854<>\"\",'Step 2) Calculate'!F858,\"\")","v":""},{"$f":"IF(L854<>\"\",'Step 2) Calculate'!H858,\"\")","v":""},{"$f":"IF(L854<>\"\",'Step 2) Calculate'!C858,\"\")","v":""}]
[null,null,null,null,null,null,null,null,null,null,{"$f":"IF(L855<>\"\",'Step 2) Calculate'!B859,\"Zzzzz - delete row\")","v":"Zzzzz - delete row"},{"$f":"IF('Step 2) Calculate'!E859<>\"\",'Step 2) Calculate'!G859,\"\")","v":""},{"$f":"IF(L855<>\"\",'Step 2) Calculate'!F859,\"\")","v":""},{"$f":"IF(L855<>\"\",'Step 2) Calculate'!H859,\"\")","v":""},{"$f":"IF(L855<>\"\",'Step 2) Calculate'!C859,\"\")","v":""}]
[null,null,null,null,null,null,null,null,null,null,{"$f":"IF(L856<>\"\",'Step 2) Calculate'!B860,\"Zzzzz - delete row\")","v":"Zzzzz - delete row"},{"$f":"IF('Step 2) Calculate'!E860<>\"\",'Step 2) Calculate'!G860,\"\")","v":""},{"$f":"IF(L856<>\"\",'Step 2) Calculate'!F860,\"\")","v":""},{"$f":"IF(L856<>\"\",'Step 2) Calculate'!H860,\"\")","v":""},{"$f":"IF(L856<>\"\",'Step 2) Calculate'!C860,\"\")","v":""}]
[null,null,null,null,null,null,null,null,null,null,{"$f":"IF(L857<>\"\",'Step 2) Calculate'!B861,\"Zzzzz - delete row\")","v":"Zzzzz - delete row"},{"$f":"IF('Step 2) Calculate'!E861<>\"\",'Step 2) Calculate'!G861,\"\")","v":""},{"$f":"IF(L857<>\"\",'Step 2) Calculate'!F861,\"\")","v":""},{"$f":"IF(L857<>\"\",'Step 2) Calculate'!H861,\"\")","v":""},{"$f":"IF(L857<>\"\",'Step 2) Calculate'!C861,\"\")","v":""}]
[null,null,null,null,null,null,null,null,null,null,{"$f":"IF(L858<>\"\",'Step 2) Calculate'!B862,\"Zzzzz - delete row\")","v":"Zzzzz - delete row"},{"$f":"IF('Step 2) Calculate'!E862<>\"\",'Step 2) Calculate'!G862,\"\")","v":""},{"$f":"IF(L858<>\"\",'Step 2) Calculate'!F862,\"\")","v":""},{"$f":"IF(L858<>\"\",'Step 2) Calculate'!H862,\"\")","v":""},{"$f":"IF(L858<>\"\",'Step 2) Calculate'!C862,\"\")","v":""}]
[null,null,null,null,null,null,null,null,null,null,{"$f":"IF(L859<>\"\",'Step 2) Calculate'!B863,\"Zzzzz - delete row\")","v":"Zzzzz - delete row"},{"$f":"IF('Step 2) Calculate'!E863<>\"\",'Step 2) Calculate'!G863,\"\")","v":""},{"$f":"IF(L859<>\"\",'Step 2) Calculate'!F863,\"\")","v":""},{"$f":"IF(L859<>\"\",'Step 2) Calculate'!H863,\"\")","v":""},{"$f":"IF(L859<>\"\",'Step 2) Calculate'!C863,\"\")","v":""}]
[null,null,null,null,null,null,null,null,null,null,{"$f":"IF(L860<>\"\",'Step 2) Calculate'!B864,\"Zzzzz - delete row\")","v":"Zzzzz - delete row"},{"$f":"IF('Step 2) Calculate'!E864<>\"\",'Step 2) Calculate'!G864,\"\")","v":""},{"$f":"IF(L860<>\"\",'Step 2) Calculate'!F864,\"\")","v":""},{"$f":"IF(L860<>\"\",'Step 2) Calculate'!H864,\"\")","v":""},{"$f":"IF(L860<>\"\",'Step 2) Calculate'!C864,\"\")","v":""}]
[null,null,null,null,null,null,null,null,null,null,{"$f":"IF(L861<>\"\",'Step 2) Calculate'!B865,\"Zzzzz - delete row\")","v":"Zzzzz - delete row"},{"$f":"IF('Step 2) Calculate'!E865<>\"\",'Step 2) Calculate'!G865,\"\")","v":""},{"$f":"IF(L861<>\"\",'Step 2) Calculate'!F865,\"\")","v":""},{"$f":"IF(L861<>\"\",'Step 2) Calculate'!H865,\"\")","v":""},{"$f":"IF(L861<>\"\",'Step 2) Calculate'!C865,\"\")","v":""}]
[null,null,null,null,null,null,null,null,null,null,{"$f":"IF(L862<>\"\",'Step 2) Calculate'!B866,\"Zzzzz - delete row\")","v":"Zzzzz - delete row"},{"$f":"IF('Step 2) Calculate'!E866<>\"\",'Step 2) Calculate'!G866,\"\")","v":""},{"$f":"IF(L862<>\"\",'Step 2) Calculate'!F866,\"\")","v":""},{"$f":"IF(L862<>\"\",'Step 2) Calculate'!H866,\"\")","v":""},{"$f":"IF(L862<>\"\",'Step 2) Calculate'!C866,\"\")","v":""}]
[null,null,null,null,null,null,null,null,null,null,{"$f":"IF(L863<>\"\",'Step 2) Calculate'!B867,\"Zzzzz - delete row\")","v":"Zzzzz - delete row"},{"$f":"IF('Step 2) Calculate'!E867<>\"\",'Step 2) Calculate'!G867,\"\")","v":""},{"$f":"IF(L863<>\"\",'Step 2) Calculate'!F867,\"\")","v":""},{"$f":"IF(L863<>\"\",'Step 2) Calculate'!H867,\"\")","v":""},{"$f":"IF(L863<>\"\",'Step 2) Calculate'!C867,\"\")","v":""}]
[null,null,null,null,null,null,null,null,null,null,{"$f":"IF(L864<>\"\",'Step 2) Calculate'!B868,\"Zzzzz - delete row\")","v":"Zzzzz - delete row"},{"$f":"IF('Step 2) Calculate'!E868<>\"\",'Step 2) Calculate'!G868,\"\")","v":""},{"$f":"IF(L864<>\"\",'Step 2) Calculate'!F868,\"\")","v":""},{"$f":"IF(L864<>\"\",'Step 2) Calculate'!H868,\"\")","v":""},{"$f":"IF(L864<>\"\",'Step 2) Calculate'!C868,\"\")","v":""}]
[null,null,null,null,null,null,null,null,null,null,{"$f":"IF(L865<>\"\",'Step 2) Calculate'!B869,\"Zzzzz - delete row\")","v":"Zzzzz - delete row"},{"$f":"IF('Step 2) Calculate'!E869<>\"\",'Step 2) Calculate'!G869,\"\")","v":""},{"$f":"IF(L865<>\"\",'Step 2) Calculate'!F869,\"\")","v":""},{"$f":"IF(L865<>\"\",'Step 2) Calculate'!H869,\"\")","v":""},{"$f":"IF(L865<>\"\",'Step 2) Calculate'!C869,\"\")","v":""}]
[null,null,null,null,null,null,null,null,null,null,{"$f":"IF(L866<>\"\",'Step 2) Calculate'!B870,\"Zzzzz - delete row\")","v":"Zzzzz - delete row"},{"$f":"IF('Step 2) Calculate'!E870<>\"\",'Step 2) Calculate'!G870,\"\")","v":""},{"$f":"IF(L866<>\"\",'Step 2) Calculate'!F870,\"\")","v":""},{"$f":"IF(L866<>\"\",'Step 2) Calculate'!H870,\"\")","v":""},{"$f":"IF(L866<>\"\",'Step 2) Calculate'!C870,\"\")","v":""}]
[null,null,null,null,null,null,null,null,null,null,{"$f":"IF(L867<>\"\",'Step 2) Calculate'!B871,\"Zzzzz - delete row\")","v":"Zzzzz - delete row"},{"$f":"IF('Step 2) Calculate'!E871<>\"\",'Step 2) Calculate'!G871,\"\")","v":""},{"$f":"IF(L867<>\"\",'Step 2) Calculate'!F871,\"\")","v":""},{"$f":"IF(L867<>\"\",'Step 2) Calculate'!H871,\"\")","v":""},{"$f":"IF(L867<>\"\",'Step 2) Calculate'!C871,\"\")","v":""}]
[null,null,null,null,null,null,null,null,null,null,{"$f":"IF(L868<>\"\",'Step 2) Calculate'!B872,\"Zzzzz - delete row\")","v":"Zzzzz - delete row"},{"$f":"IF('Step 2) Calculate'!E872<>\"\",'Step 2) Calculate'!G872,\"\")","v":""},{"$f":"IF(L868<>\"\",'Step 2) Calculate'!F872,\"\")","v":""},{"$f":"IF(L868<>\"\",'Step 2) Calculate'!H872,\"\")","v":""},{"$f":"IF(L868<>\"\",'Step 2) Calculate'!C872,\"\")","v":""}]
[null,null,null,null,null,null,null,null,null,null,{"$f":"IF(L869<>\"\",'Step 2) Calculate'!B873,\"Zzzzz - delete row\")","v":"Zzzzz - delete row"},{"$f":"IF('Step 2) Calculate'!E873<>\"\",'Step 2) Calculate'!G873,\"\")","v":""},{"$f":"IF(L869<>\"\",'Step 2) Calculate'!F873,\"\")","v":""},{"$f":"IF(L869<>\"\",'Step 2) Calculate'!H873,\"\")","v":""},{"$f":"IF(L869<>\"\",'Step 2) Calculate'!C873,\"\")","v":""}]
[null,null,null,null,null,null,null,null,null,null,{"$f":"IF(L870<>\"\",'Step 2) Calculate'!B874,\"Zzzzz - delete row\")","v":"Zzzzz - delete row"},{"$f":"IF('Step 2) Calculate'!E874<>\"\",'Step 2) Calculate'!G874,\"\")","v":""},{"$f":"IF(L870<>\"\",'Step 2) Calculate'!F874,\"\")","v":""},{"$f":"IF(L870<>\"\",'Step 2) Calculate'!H874,\"\")","v":""},{"$f":"IF(L870<>\"\",'Step 2) Calculate'!C874,\"\")","v":""}]
[null,null,null,null,null,null,null,null,null,null,{"$f":"IF(L871<>\"\",'Step 2) Calculate'!B875,\"Zzzzz - delete row\")","v":"Zzzzz - delete row"},{"$f":"IF('Step 2) Calculate'!E875<>\"\",'Step 2) Calculate'!G875,\"\")","v":""},{"$f":"IF(L871<>\"\",'Step 2) Calculate'!F875,\"\")","v":""},{"$f":"IF(L871<>\"\",'Step 2) Calculate'!H875,\"\")","v":""},{"$f":"IF(L871<>\"\",'Step 2) Calculate'!C875,\"\")","v":""}]
[null,null,null,null,null,null,null,null,null,null,{"$f":"IF(L872<>\"\",'Step 2) Calculate'!B876,\"Zzzzz - delete row\")","v":"Zzzzz - delete row"},{"$f":"IF('Step 2) Calculate'!E876<>\"\",'Step 2) Calculate'!G876,\"\")","v":""},{"$f":"IF(L872<>\"\",'Step 2) Calculate'!F876,\"\")","v":""},{"$f":"IF(L872<>\"\",'Step 2) Calculate'!H876,\"\")","v":""},{"$f":"IF(L872<>\"\",'Step 2) Calculate'!C876,\"\")","v":""}]
[null,null,null,null,null,null,null,null,null,null,{"$f":"IF(L873<>\"\",'Step 2) Calculate'!B877,\"Zzzzz - delete row\")","v":"Zzzzz - delete row"},{"$f":"IF('Step 2) Calculate'!E877<>\"\",'Step 2) Calculate'!G877,\"\")","v":""},{"$f":"IF(L873<>\"\",'Step 2) Calculate'!F877,\"\")","v":""},{"$f":"IF(L873<>\"\",'Step 2) Calculate'!H877,\"\")","v":""},{"$f":"IF(L873<>\"\",'Step 2) Calculate'!C877,\"\")","v":""}]
[null,null,null,null,null,null,null,null,null,null,{"$f":"IF(L874<>\"\",'Step 2) Calculate'!B878,\"Zzzzz - delete row\")","v":"Zzzzz - delete row"},{"$f":"IF('Step 2) Calculate'!E878<>\"\",'Step 2) Calculate'!G878,\"\")","v":""},{"$f":"IF(L874<>\"\",'Step 2) Calculate'!F878,\"\")","v":""},{"$f":"IF(L874<>\"\",'Step 2) Calculate'!H878,\"\")","v":""},{"$f":"IF(L874<>\"\",'Step 2) Calculate'!C878,\"\")","v":""}]
[null,null,null,null,null,null,null,null,null,null,{"$f":"IF(L875<>\"\",'Step 2) Calculate'!B879,\"Zzzzz - delete row\")","v":"Zzzzz - delete row"},{"$f":"IF('Step 2) Calculate'!E879<>\"\",'Step 2) Calculate'!G879,\"\")","v":""},{"$f":"IF(L875<>\"\",'Step 2) Calculate'!F879,\"\")","v":""},{"$f":"IF(L875<>\"\",'Step 2) Calculate'!H879,\"\")","v":""},{"$f":"IF(L875<>\"\",'Step 2) Calculate'!C879,\"\")","v":""}]
[null,null,null,null,null,null,null,null,null,null,{"$f":"IF(L876<>\"\",'Step 2) Calculate'!B880,\"Zzzzz - delete row\")","v":"Zzzzz - delete row"},{"$f":"IF('Step 2) Calculate'!E880<>\"\",'Step 2) Calculate'!G880,\"\")","v":""},{"$f":"IF(L876<>\"\",'Step 2) Calculate'!F880,\"\")","v":""},{"$f":"IF(L876<>\"\",'Step 2) Calculate'!H880,\"\")","v":""},{"$f":"IF(L876<>\"\",'Step 2) Calculate'!C880,\"\")","v":""}]
[null,null,null,null,null,null,null,null,null,null,{"$f":"IF(L877<>\"\",'Step 2) Calculate'!B881,\"Zzzzz - delete row\")","v":"Zzzzz - delete row"},{"$f":"IF('Step 2) Calculate'!E881<>\"\",'Step 2) Calculate'!G881,\"\")","v":""},{"$f":"IF(L877<>\"\",'Step 2) Calculate'!F881,\"\")","v":""},{"$f":"IF(L877<>\"\",'Step 2) Calculate'!H881,\"\")","v":""},{"$f":"IF(L877<>\"\",'Step 2) Calculate'!C881,\"\")","v":""}]
[null,null,null,null,null,null,null,null,null,null,{"$f":"IF(L878<>\"\",'Step 2) Calculate'!B882,\"Zzzzz - delete row\")","v":"Zzzzz - delete row"},{"$f":"IF('Step 2) Calculate'!E882<>\"\",'Step 2) Calculate'!G882,\"\")","v":""},{"$f":"IF(L878<>\"\",'Step 2) Calculate'!F882,\"\")","v":""},{"$f":"IF(L878<>\"\",'Step 2) Calculate'!H882,\"\")","v":""},{"$f":"IF(L878<>\"\",'Step 2) Calculate'!C882,\"\")","v":""}]
[null,null,null,null,null,null,null,null,null,null,{"$f":"IF(L879<>\"\",'Step 2) Calculate'!B883,\"Zzzzz - delete row\")","v":"Zzzzz - delete row"},{"$f":"IF('Step 2) Calculate'!E883<>\"\",'Step 2) Calculate'!G883,\"\")","v":""},{"$f":"IF(L879<>\"\",'Step 2) Calculate'!F883,\"\")","v":""},{"$f":"IF(L879<>\"\",'Step 2) Calculate'!H883,\"\")","v":""},{"$f":"IF(L879<>\"\",'Step 2) Calculate'!C883,\"\")","v":""}]
[null,null,null,null,null,null,null,null,null,null,{"$f":"IF(L880<>\"\",'Step 2) Calculate'!B884,\"Zzzzz - delete row\")","v":"Zzzzz - delete row"},{"$f":"IF('Step 2) Calculate'!E884<>\"\",'Step 2) Calculate'!G884,\"\")","v":""},{"$f":"IF(L880<>\"\",'Step 2) Calculate'!F884,\"\")","v":""},{"$f":"IF(L880<>\"\",'Step 2) Calculate'!H884,\"\")","v":""},{"$f":"IF(L880<>\"\",'Step 2) Calculate'!C884,\"\")","v":""}]
[null,null,null,null,null,null,null,null,null,null,{"$f":"IF(L881<>\"\",'Step 2) Calculate'!B885,\"Zzzzz - delete row\")","v":"Zzzzz - delete row"},{"$f":"IF('Step 2) Calculate'!E885<>\"\",'Step 2) Calculate'!G885,\"\")","v":""},{"$f":"IF(L881<>\"\",'Step 2) Calculate'!F885,\"\")","v":""},{"$f":"IF(L881<>\"\",'Step 2) Calculate'!H885,\"\")","v":""},{"$f":"IF(L881<>\"\",'Step 2) Calculate'!C885,\"\")","v":""}]
[null,null,null,null,null,null,null,null,null,null,{"$f":"IF(L882<>\"\",'Step 2) Calculate'!B886,\"Zzzzz - delete row\")","v":"Zzzzz - delete row"},{"$f":"IF('Step 2) Calculate'!E886<>\"\",'Step 2) Calculate'!G886,\"\")","v":""},{"$f":"IF(L882<>\"\",'Step 2) Calculate'!F886,\"\")","v":""},{"$f":"IF(L882<>\"\",'Step 2) Calculate'!H886,\"\")","v":""},{"$f":"IF(L882<>\"\",'Step 2) Calculate'!C886,\"\")","v":""}]
[null,null,null,null,null,null,null,null,null,null,{"$f":"IF(L883<>\"\",'Step 2) Calculate'!B887,\"Zzzzz - delete row\")","v":"Zzzzz - delete row"},{"$f":"IF('Step 2) Calculate'!E887<>\"\",'Step 2) Calculate'!G887,\"\")","v":""},{"$f":"IF(L883<>\"\",'Step 2) Calculate'!F887,\"\")","v":""},{"$f":"IF(L883<>\"\",'Step 2) Calculate'!H887,\"\")","v":""},{"$f":"IF(L883<>\"\",'Step 2) Calculate'!C887,\"\")","v":""}]
[null,null,null,null,null,null,null,null,null,null,{"$f":"IF(L884<>\"\",'Step 2) Calculate'!B888,\"Zzzzz - delete row\")","v":"Zzzzz - delete row"},{"$f":"IF('Step 2) Calculate'!E888<>\"\",'Step 2) Calculate'!G888,\"\")","v":""},{"$f":"IF(L884<>\"\",'Step 2) Calculate'!F888,\"\")","v":""},{"$f":"IF(L884<>\"\",'Step 2) Calculate'!H888,\"\")","v":""},{"$f":"IF(L884<>\"\",'Step 2) Calculate'!C888,\"\")","v":""}]
[null,null,null,null,null,null,null,null,null,null,{"$f":"IF(L885<>\"\",'Step 2) Calculate'!B889,\"Zzzzz - delete row\")","v":"Zzzzz - delete row"},{"$f":"IF('Step 2) Calculate'!E889<>\"\",'Step 2) Calculate'!G889,\"\")","v":""},{"$f":"IF(L885<>\"\",'Step 2) Calculate'!F889,\"\")","v":""},{"$f":"IF(L885<>\"\",'Step 2) Calculate'!H889,\"\")","v":""},{"$f":"IF(L885<>\"\",'Step 2) Calculate'!C889,\"\")","v":""}]
[null,null,null,null,null,null,null,null,null,null,{"$f":"IF(L886<>\"\",'Step 2) Calculate'!B890,\"Zzzzz - delete row\")","v":"Zzzzz - delete row"},{"$f":"IF('Step 2) Calculate'!E890<>\"\",'Step 2) Calculate'!G890,\"\")","v":""},{"$f":"IF(L886<>\"\",'Step 2) Calculate'!F890,\"\")","v":""},{"$f":"IF(L886<>\"\",'Step 2) Calculate'!H890,\"\")","v":""},{"$f":"IF(L886<>\"\",'Step 2) Calculate'!C890,\"\")","v":""}]
[null,null,null,null,null,null,null,null,null,null,{"$f":"IF(L887<>\"\",'Step 2) Calculate'!B891,\"Zzzzz - delete row\")","v":"Zzzzz - delete row"},{"$f":"IF('Step 2) Calculate'!E891<>\"\",'Step 2) Calculate'!G891,\"\")","v":""},{"$f":"IF(L887<>\"\",'Step 2) Calculate'!F891,\"\")","v":""},{"$f":"IF(L887<>\"\",'Step 2) Calculate'!H891,\"\")","v":""},{"$f":"IF(L887<>\"\",'Step 2) Calculate'!C891,\"\")","v":""}]
[null,null,null,null,null,null,null,null,null,null,{"$f":"IF(L888<>\"\",'Step 2) Calculate'!B892,\"Zzzzz - delete row\")","v":"Zzzzz - delete row"},{"$f":"IF('Step 2) Calculate'!E892<>\"\",'Step 2) Calculate'!G892,\"\")","v":""},{"$f":"IF(L888<>\"\",'Step 2) Calculate'!F892,\"\")","v":""},{"$f":"IF(L888<>\"\",'Step 2) Calculate'!H892,\"\")","v":""},{"$f":"IF(L888<>\"\",'Step 2) Calculate'!C892,\"\")","v":""}]
[null,null,null,null,null,null,null,null,null,null,{"$f":"IF(L889<>\"\",'Step 2) Calculate'!B893,\"Zzzzz - delete row\")","v":"Zzzzz - delete row"},{"$f":"IF('Step 2) Calculate'!E893<>\"\",'Step 2) Calculate'!G893,\"\")","v":""},{"$f":"IF(L889<>\"\",'Step 2) Calculate'!F893,\"\")","v":""},{"$f":"IF(L889<>\"\",'Step 2) Calculate'!H893,\"\")","v":""},{"$f":"IF(L889<>\"\",'Step 2) Calculate'!C893,\"\")","v":""}]
[null,null,null,null,null,null,null,null,null,null,{"$f":"IF(L890<>\"\",'Step 2) Calculate'!B894,\"Zzzzz - delete row\")","v":"Zzzzz - delete row"},{"$f":"IF('Step 2) Calculate'!E894<>\"\",'Step 2) Calculate'!G894,\"\")","v":""},{"$f":"IF(L890<>\"\",'Step 2) Calculate'!F894,\"\")","v":""},{"$f":"IF(L890<>\"\",'Step 2) Calculate'!H894,\"\")","v":""},{"$f":"IF(L890<>\"\",'Step 2) Calculate'!C894,\"\")","v":""}]
[null,null,null,null,null,null,null,null,null,null,{"$f":"IF(L891<>\"\",'Step 2) Calculate'!B895,\"Zzzzz - delete row\")","v":"Zzzzz - delete row"},{"$f":"IF('Step 2) Calculate'!E895<>\"\",'Step 2) Calculate'!G895,\"\")","v":""},{"$f":"IF(L891<>\"\",'Step 2) Calculate'!F895,\"\")","v":""},{"$f":"IF(L891<>\"\",'Step 2) Calculate'!H895,\"\")","v":""},{"$f":"IF(L891<>\"\",'Step 2) Calculate'!C895,\"\")","v":""}]
[null,null,null,null,null,null,null,null,null,null,{"$f":"IF(L892<>\"\",'Step 2) Calculate'!B896,\"Zzzzz - delete row\")","v":"Zzzzz - delete row"},{"$f":"IF('Step 2) Calculate'!E896<>\"\",'Step 2) Calculate'!G896,\"\")","v":""},{"$f":"IF(L892<>\"\",'Step 2) Calculate'!F896,\"\")","v":""},{"$f":"IF(L892<>\"\",'Step 2) Calculate'!H896,\"\")","v":""},{"$f":"IF(L892<>\"\",'Step 2) Calculate'!C896,\"\")","v":""}]
[null,null,null,null,null,null,null,null,null,null,{"$f":"IF(L893<>\"\",'Step 2) Calculate'!B897,\"Zzzzz - delete row\")","v":"Zzzzz - delete row"},{"$f":"IF('Step 2) Calculate'!E897<>\"\",'Step 2) Calculate'!G897,\"\")","v":""},{"$f":"IF(L893<>\"\",'Step 2) Calculate'!F897,\"\")","v":""},{"$f":"IF(L893<>\"\",'Step 2) Calculate'!H897,\"\")","v":""},{"$f":"IF(L893<>\"\",'Step 2) Calculate'!C897,\"\")","v":""}]
[null,null,null,null,null,null,null,null,null,null,{"$f":"IF(L894<>\"\",'Step 2) Calculate'!B898,\"Zzzzz - delete row\")","v":"Zzzzz - delete row"},{"$f":"IF('Step 2) Calculate'!E898<>\"\",'Step 2) Calculate'!G898,\"\")","v":""},{"$f":"IF(L894<>\"\",'Step 2) Calculate'!F898,\"\")","v":""},{"$f":"IF(L894<>\"\",'Step 2) Calculate'!H898,\"\")","v":""},{"$f":"IF(L894<>\"\",'Step 2) Calculate'!C898,\"\")","v":""}]
[null,null,null,null,null,null,null,null,null,null,{"$f":"IF(L895<>\"\",'Step 2) Calculate'!B899,\"Zzzzz - delete row\")","v":"Zzzzz - delete row"},{"$f":"IF('Step 2) Calculate'!E899<>\"\",'Step 2) Calculate'!G899,\"\")","v":""},{"$f":"IF(L895<>\"\",'Step 2) Calculate'!F899,\"\")","v":""},{"$f":"IF(L895<>\"\",'Step 2) Calculate'!H899,\"\")","v":""},{"$f":"IF(L895<>\"\",'Step 2) Calculate'!C899,\"\")","v":""}]
[null,null,null,null,null,null,null,null,null,null,{"$f":"IF(L896<>\"\",'Step 2) Calculate'!B900,\"Zzzzz - delete row\")","v":"Zzzzz - delete row"},{"$f":"IF('Step 2) Calculate'!E900<>\"\",'Step 2) Calculate'!G900,\"\")","v":""},{"$f":"IF(L896<>\"\",'Step 2) Calculate'!F900,\"\")","v":""},{"$f":"IF(L896<>\"\",'Step 2) Calculate'!H900,\"\")","v":""},{"$f":"IF(L896<>\"\",'Step 2) Calculate'!C900,\"\")","v":""}]
[null,null,null,null,null,null,null,null,null,null,{"$f":"IF(L897<>\"\",'Step 2) Calculate'!B901,\"Zzzzz - delete row\")","v":"Zzzzz - delete row"},{"$f":"IF('Step 2) Calculate'!E901<>\"\",'Step 2) Calculate'!G901,\"\")","v":""},{"$f":"IF(L897<>\"\",'Step 2) Calculate'!F901,\"\")","v":""},{"$f":"IF(L897<>\"\",'Step 2) Calculate'!H901,\"\")","v":""},{"$f":"IF(L897<>\"\",'Step 2) Calculate'!C901,\"\")","v":""}]
[null,null,null,null,null,null,null,null,null,null,{"$f":"IF(L898<>\"\",'Step 2) Calculate'!B902,\"Zzzzz - delete row\")","v":"Zzzzz - delete row"},{"$f":"IF('Step 2) Calculate'!E902<>\"\",'Step 2) Calculate'!G902,\"\")","v":""},{"$f":"IF(L898<>\"\",'Step 2) Calculate'!F902,\"\")","v":""},{"$f":"IF(L898<>\"\",'Step 2) Calculate'!H902,\"\")","v":""},{"$f":"IF(L898<>\"\",'Step 2) Calculate'!C902,\"\")","v":""}]
[null,null,null,null,null,null,null,null,null,null,{"$f":"IF(L899<>\"\",'Step 2) Calculate'!B903,\"Zzzzz - delete row\")","v":"Zzzzz - delete row"},{"$f":"IF('Step 2) Calculate'!E903<>\"\",'Step 2) Calculate'!G903,\"\")","v":""},{"$f":"IF(L899<>\"\",'Step 2) Calculate'!F903,\"\")","v":""},{"$f":"IF(L899<>\"\",'Step 2) Calculate'!H903,\"\")","v":""},{"$f":"IF(L899<>\"\",'Step 2) Calculate'!C903,\"\")","v":""}]
[null,null,null,null,null,null,null,null,null,null,{"$f":"IF(L900<>\"\",'Step 2) Calculate'!B904,\"Zzzzz - delete row\")","v":"Zzzzz - delete row"},{"$f":"IF('Step 2) Calculate'!E904<>\"\",'Step 2) Calculate'!G904,\"\")","v":""},{"$f":"IF(L900<>\"\",'Step 2) Calculate'!F904,\"\")","v":""},{"$f":"IF(L900<>\"\",'Step 2) Calculate'!H904,\"\")","v":""},{"$f":"IF(L900<>\"\",'Step 2) Calculate'!C904,\"\")","v":""}]
[null,null,null,null,null,null,null,null,null,null,{"$f":"IF(L901<>\"\",'Step 2) Calculate'!B905,\"Zzzzz - delete row\")","v":"Zzzzz - delete row"},{"$f":"IF('Step 2) Calculate'!E905<>\"\",'Step 2) Calculate'!G905,\"\")","v":""},{"$f":"IF(L901<>\"\",'Step 2) Calculate'!F905,\"\")","v":""},{"$f":"IF(L901<>\"\",'Step 2) Calculate'!H905,\"\")","v":""},{"$f":"IF(L901<>\"\",'Step 2) Calculate'!C905,\"\")","v":""}]
[null,null,null,null,null,null,null,null,null,null,{"$f":"IF(L902<>\"\",'Step 2) Calculate'!B906,\"Zzzzz - delete row\")","v":"Zzzzz - delete row"},{"$f":"IF('Step 2) Calculate'!E906<>\"\",'Step 2) Calculate'!G906,\"\")","v":""},{"$f":"IF(L902<>\"\",'Step 2) Calculate'!F906,\"\")","v":""},{"$f":"IF(L902<>\"\",'Step 2) Calculate'!H906,\"\")","v":""},{"$f":"IF(L902<>\"\",'Step 2) Calculate'!C906,\"\")","v":""}]
[null,null,null,null,null,null,null,null,null,null,{"$f":"IF(L903<>\"\",'Step 2) Calculate'!B907,\"Zzzzz - delete row\")","v":"Zzzzz - delete row"},{"$f":"IF('Step 2) Calculate'!E907<>\"\",'Step 2) Calculate'!G907,\"\")","v":""},{"$f":"IF(L903<>\"\",'Step 2) Calculate'!F907,\"\")","v":""},{"$f":"IF(L903<>\"\",'Step 2) Calculate'!H907,\"\")","v":""},{"$f":"IF(L903<>\"\",'Step 2) Calculate'!C907,\"\")","v":""}]
[null,null,null,null,null,null,null,null,null,null,{"$f":"IF(L904<>\"\",'Step 2) Calculate'!B908,\"Zzzzz - delete row\")","v":"Zzzzz - delete row"},{"$f":"IF('Step 2) Calculate'!E908<>\"\",'Step 2) Calculate'!G908,\"\")","v":""},{"$f":"IF(L904<>\"\",'Step 2) Calculate'!F908,\"\")","v":""},{"$f":"IF(L904<>\"\",'Step 2) Calculate'!H908,\"\")","v":""},{"$f":"IF(L904<>\"\",'Step 2) Calculate'!C908,\"\")","v":""}]
[null,null,null,null,null,null,null,null,null,null,{"$f":"IF(L905<>\"\",'Step 2) Calculate'!B909,\"Zzzzz - delete row\")","v":"Zzzzz - delete row"},{"$f":"IF('Step 2) Calculate'!E909<>\"\",'Step 2) Calculate'!G909,\"\")","v":""},{"$f":"IF(L905<>\"\",'Step 2) Calculate'!F909,\"\")","v":""},{"$f":"IF(L905<>\"\",'Step 2) Calculate'!H909,\"\")","v":""},{"$f":"IF(L905<>\"\",'Step 2) Calculate'!C909,\"\")","v":""}]
[null,null,null,null,null,null,null,null,null,null,{"$f":"IF(L906<>\"\",'Step 2) Calculate'!B910,\"Zzzzz - delete row\")","v":"Zzzzz - delete row"},{"$f":"IF('Step 2) Calculate'!E910<>\"\",'Step 2) Calculate'!G910,\"\")","v":""},{"$f":"IF(L906<>\"\",'Step 2) Calculate'!F910,\"\")","v":""},{"$f":"IF(L906<>\"\",'Step 2) Calculate'!H910,\"\")","v":""},{"$f":"IF(L906<>\"\",'Step 2) Calculate'!C910,\"\")","v":""}]
[null,null,null,null,null,null,null,null,null,null,{"$f":"IF(L907<>\"\",'Step 2) Calculate'!B911,\"Zzzzz - delete row\")","v":"Zzzzz - delete row"},{"$f":"IF('Step 2) Calculate'!E911<>\"\",'Step 2) Calculate'!G911,\"\")","v":""},{"$f":"IF(L907<>\"\",'Step 2) Calculate'!F911,\"\")","v":""},{"$f":"IF(L907<>\"\",'Step 2) Calculate'!H911,\"\")","v":""},{"$f":"IF(L907<>\"\",'Step 2) Calculate'!C911,\"\")","v":""}]
[null,null,null,null,null,null,null,null,null,null,{"$f":"IF(L908<>\"\",'Step 2) Calculate'!B912,\"Zzzzz - delete row\")","v":"Zzzzz - delete row"},{"$f":"IF('Step 2) Calculate'!E912<>\"\",'Step 2) Calculate'!G912,\"\")","v":""},{"$f":"IF(L908<>\"\",'Step 2) Calculate'!F912,\"\")","v":""},{"$f":"IF(L908<>\"\",'Step 2) Calculate'!H912,\"\")","v":""},{"$f":"IF(L908<>\"\",'Step 2) Calculate'!C912,\"\")","v":""}]
[null,null,null,null,null,null,null,null,null,null,{"$f":"IF(L909<>\"\",'Step 2) Calculate'!B913,\"Zzzzz - delete row\")","v":"Zzzzz - delete row"},{"$f":"IF('Step 2) Calculate'!E913<>\"\",'Step 2) Calculate'!G913,\"\")","v":""},{"$f":"IF(L909<>\"\",'Step 2) Calculate'!F913,\"\")","v":""},{"$f":"IF(L909<>\"\",'Step 2) Calculate'!H913,\"\")","v":""},{"$f":"IF(L909<>\"\",'Step 2) Calculate'!C913,\"\")","v":""}]
[null,null,null,null,null,null,null,null,null,null,{"$f":"IF(L910<>\"\",'Step 2) Calculate'!B914,\"Zzzzz - delete row\")","v":"Zzzzz - delete row"},{"$f":"IF('Step 2) Calculate'!E914<>\"\",'Step 2) Calculate'!G914,\"\")","v":""},{"$f":"IF(L910<>\"\",'Step 2) Calculate'!F914,\"\")","v":""},{"$f":"IF(L910<>\"\",'Step 2) Calculate'!H914,\"\")","v":""},{"$f":"IF(L910<>\"\",'Step 2) Calculate'!C914,\"\")","v":""}]
[null,null,null,null,null,null,null,null,null,null,{"$f":"IF(L911<>\"\",'Step 2) Calculate'!B915,\"Zzzzz - delete row\")","v":"Zzzzz - delete row"},{"$f":"IF('Step 2) Calculate'!E915<>\"\",'Step 2) Calculate'!G915,\"\")","v":""},{"$f":"IF(L911<>\"\",'Step 2) Calculate'!F915,\"\")","v":""},{"$f":"IF(L911<>\"\",'Step 2) Calculate'!H915,\"\")","v":""},{"$f":"IF(L911<>\"\",'Step 2) Calculate'!C915,\"\")","v":""}]
[null,null,null,null,null,null,null,null,null,null,{"$f":"IF(L912<>\"\",'Step 2) Calculate'!B916,\"Zzzzz - delete row\")","v":"Zzzzz - delete row"},{"$f":"IF('Step 2) Calculate'!E916<>\"\",'Step 2) Calculate'!G916,\"\")","v":""},{"$f":"IF(L912<>\"\",'Step 2) Calculate'!F916,\"\")","v":""},{"$f":"IF(L912<>\"\",'Step 2) Calculate'!H916,\"\")","v":""},{"$f":"IF(L912<>\"\",'Step 2) Calculate'!C916,\"\")","v":""}]
[null,null,null,null,null,null,null,null,null,null,{"$f":"IF(L913<>\"\",'Step 2) Calculate'!B917,\"Zzzzz - delete row\")","v":"Zzzzz - delete row"},{"$f":"IF('Step 2) Calculate'!E917<>\"\",'Step 2) Calculate'!G917,\"\")","v":""},{"$f":"IF(L913<>\"\",'Step 2) Calculate'!F917,\"\")","v":""},{"$f":"IF(L913<>\"\",'Step 2) Calculate'!H917,\"\")","v":""},{"$f":"IF(L913<>\"\",'Step 2) Calculate'!C917,\"\")","v":""}]
[null,null,null,null,null,null,null,null,null,null,{"$f":"IF(L914<>\"\",'Step 2) Calculate'!B918,\"Zzzzz - delete row\")","v":"Zzzzz - delete row"},{"$f":"IF('Step 2) Calculate'!E918<>\"\",'Step 2) Calculate'!G918,\"\")","v":""},{"$f":"IF(L914<>\"\",'Step 2) Calculate'!F918,\"\")","v":""},{"$f":"IF(L914<>\"\",'Step 2) Calculate'!H918,\"\")","v":""},{"$f":"IF(L914<>\"\",'Step 2) Calculate'!C918,\"\")","v":""}]
[null,null,null,null,null,null,null,null,null,null,{"$f":"IF(L915<>\"\",'Step 2) Calculate'!B919,\"Zzzzz - delete row\")","v":"Zzzzz - delete row"},{"$f":"IF('Step 2) Calculate'!E919<>\"\",'Step 2) Calculate'!G919,\"\")","v":""},{"$f":"IF(L915<>\"\",'Step 2) Calculate'!F919,\"\")","v":""},{"$f":"IF(L915<>\"\",'Step 2) Calculate'!H919,\"\")","v":""},{"$f":"IF(L915<>\"\",'Step 2) Calculate'!C919,\"\")","v":""}]
[null,null,null,null,null,null,null,null,null,null,{"$f":"IF(L916<>\"\",'Step 2) Calculate'!B920,\"Zzzzz - delete row\")","v":"Zzzzz - delete row"},{"$f":"IF('Step 2) Calculate'!E920<>\"\",'Step 2) Calculate'!G920,\"\")","v":""},{"$f":"IF(L916<>\"\",'Step 2) Calculate'!F920,\"\")","v":""},{"$f":"IF(L916<>\"\",'Step 2) Calculate'!H920,\"\")","v":""},{"$f":"IF(L916<>\"\",'Step 2) Calculate'!C920,\"\")","v":""}]
[null,null,null,null,null,null,null,null,null,null,{"$f":"IF(L917<>\"\",'Step 2) Calculate'!B921,\"Zzzzz - delete row\")","v":"Zzzzz - delete row"},{"$f":"IF('Step 2) Calculate'!E921<>\"\",'Step 2) Calculate'!G921,\"\")","v":""},{"$f":"IF(L917<>\"\",'Step 2) Calculate'!F921,\"\")","v":""},{"$f":"IF(L917<>\"\",'Step 2) Calculate'!H921,\"\")","v":""},{"$f":"IF(L917<>\"\",'Step 2) Calculate'!C921,\"\")","v":""}]
[null,null,null,null,null,null,null,null,null,null,{"$f":"IF(L918<>\"\",'Step 2) Calculate'!B922,\"Zzzzz - delete row\")","v":"Zzzzz - delete row"},{"$f":"IF('Step 2) Calculate'!E922<>\"\",'Step 2) Calculate'!G922,\"\")","v":""},{"$f":"IF(L918<>\"\",'Step 2) Calculate'!F922,\"\")","v":""},{"$f":"IF(L918<>\"\",'Step 2) Calculate'!H922,\"\")","v":""},{"$f":"IF(L918<>\"\",'Step 2) Calculate'!C922,\"\")","v":""}]
[null,null,null,null,null,null,null,null,null,null,{"$f":"IF(L919<>\"\",'Step 2) Calculate'!B923,\"Zzzzz - delete row\")","v":"Zzzzz - delete row"},{"$f":"IF('Step 2) Calculate'!E923<>\"\",'Step 2) Calculate'!G923,\"\")","v":""},{"$f":"IF(L919<>\"\",'Step 2) Calculate'!F923,\"\")","v":""},{"$f":"IF(L919<>\"\",'Step 2) Calculate'!H923,\"\")","v":""},{"$f":"IF(L919<>\"\",'Step 2) Calculate'!C923,\"\")","v":""}]
[null,null,null,null,null,null,null,null,null,null,{"$f":"IF(L920<>\"\",'Step 2) Calculate'!B924,\"Zzzzz - delete row\")","v":"Zzzzz - delete row"},{"$f":"IF('Step 2) Calculate'!E924<>\"\",'Step 2) Calculate'!G924,\"\")","v":""},{"$f":"IF(L920<>\"\",'Step 2) Calculate'!F924,\"\")","v":""},{"$f":"IF(L920<>\"\",'Step 2) Calculate'!H924,\"\")","v":""},{"$f":"IF(L920<>\"\",'Step 2) Calculate'!C924,\"\")","v":""}]
[null,null,null,null,null,null,null,null,null,null,{"$f":"IF(L921<>\"\",'Step 2) Calculate'!B925,\"Zzzzz - delete row\")","v":"Zzzzz - delete row"},{"$f":"IF('Step 2) Calculate'!E925<>\"\",'Step 2) Calculate'!G925,\"\")","v":""},{"$f":"IF(L921<>\"\",'Step 2) Calculate'!F925,\"\")","v":""},{"$f":"IF(L921<>\"\",'Step 2) Calculate'!H925,\"\")","v":""},{"$f":"IF(L921<>\"\",'Step 2) Calculate'!C925,\"\")","v":""}]
[null,null,null,null,null,null,null,null,null,null,{"$f":"IF(L922<>\"\",'Step 2) Calculate'!B926,\"Zzzzz - delete row\")","v":"Zzzzz - delete row"},{"$f":"IF('Step 2) Calculate'!E926<>\"\",'Step 2) Calculate'!G926,\"\")","v":""},{"$f":"IF(L922<>\"\",'Step 2) Calculate'!F926,\"\")","v":""},{"$f":"IF(L922<>\"\",'Step 2) Calculate'!H926,\"\")","v":""},{"$f":"IF(L922<>\"\",'Step 2) Calculate'!C926,\"\")","v":""}]
[null,null,null,null,null,null,null,null,null,null,{"$f":"IF(L923<>\"\",'Step 2) Calculate'!B927,\"Zzzzz - delete row\")","v":"Zzzzz - delete row"},{"$f":"IF('Step 2) Calculate'!E927<>\"\",'Step 2) Calculate'!G927,\"\")","v":""},{"$f":"IF(L923<>\"\",'Step 2) Calculate'!F927,\"\")","v":""},{"$f":"IF(L923<>\"\",'Step 2) Calculate'!H927,\"\")","v":""},{"$f":"IF(L923<>\"\",'Step 2) Calculate'!C927,\"\")","v":""}]
[null,null,null,null,null,null,null,null,null,null,{"$f":"IF(L924<>\"\",'Step 2) Calculate'!B928,\"Zzzzz - delete row\")","v":"Zzzzz - delete row"},{"$f":"IF('Step 2) Calculate'!E928<>\"\",'Step 2) Calculate'!G928,\"\")","v":""},{"$f":"IF(L924<>\"\",'Step 2) Calculate'!F928,\"\")","v":""},{"$f":"IF(L924<>\"\",'Step 2) Calculate'!H928,\"\")","v":""},{"$f":"IF(L924<>\"\",'Step 2) Calculate'!C928,\"\")","v":""}]
[null,null,null,null,null,null,null,null,null,null,{"$f":"IF(L925<>\"\",'Step 2) Calculate'!B929,\"Zzzzz - delete row\")","v":"Zzzzz - delete row"},{"$f":"IF('Step 2) Calculate'!E929<>\"\",'Step 2) Calculate'!G929,\"\")","v":""},{"$f":"IF(L925<>\"\",'Step 2) Calculate'!F929,\"\")","v":""},{"$f":"IF(L925<>\"\",'Step 2) Calculate'!H929,\"\")","v":""},{"$f":"IF(L925<>\"\",'Step 2) Calculate'!C929,\"\")","v":""}]
[null,null,null,null,null,null,null,null,null,null,{"$f":"IF(L926<>\"\",'Step 2) Calculate'!B930,\"Zzzzz - delete row\")","v":"Zzzzz - delete row"},{"$f":"IF('Step 2) Calculate'!E930<>\"\",'Step 2) Calculate'!G930,\"\")","v":""},{"$f":"IF(L926<>\"\",'Step 2) Calculate'!F930,\"\")","v":""},{"$f":"IF(L926<>\"\",'Step 2) Calculate'!H930,\"\")","v":""},{"$f":"IF(L926<>\"\",'Step 2) Calculate'!C930,\"\")","v":""}]
[null,null,null,null,null,null,null,null,null,null,{"$f":"IF(L927<>\"\",'Step 2) Calculate'!B931,\"Zzzzz - delete row\")","v":"Zzzzz - delete row"},{"$f":"IF('Step 2) Calculate'!E931<>\"\",'Step 2) Calculate'!G931,\"\")","v":""},{"$f":"IF(L927<>\"\",'Step 2) Calculate'!F931,\"\")","v":""},{"$f":"IF(L927<>\"\",'Step 2) Calculate'!H931,\"\")","v":""},{"$f":"IF(L927<>\"\",'Step 2) Calculate'!C931,\"\")","v":""}]
[null,null,null,null,null,null,null,null,null,null,{"$f":"IF(L928<>\"\",'Step 2) Calculate'!B932,\"Zzzzz - delete row\")","v":"Zzzzz - delete row"},{"$f":"IF('Step 2) Calculate'!E932<>\"\",'Step 2) Calculate'!G932,\"\")","v":""},{"$f":"IF(L928<>\"\",'Step 2) Calculate'!F932,\"\")","v":""},{"$f":"IF(L928<>\"\",'Step 2) Calculate'!H932,\"\")","v":""},{"$f":"IF(L928<>\"\",'Step 2) Calculate'!C932,\"\")","v":""}]
[null,null,null,null,null,null,null,null,null,null,{"$f":"IF(L929<>\"\",'Step 2) Calculate'!B933,\"Zzzzz - delete row\")","v":"Zzzzz - delete row"},{"$f":"IF('Step 2) Calculate'!E933<>\"\",'Step 2) Calculate'!G933,\"\")","v":""},{"$f":"IF(L929<>\"\",'Step 2) Calculate'!F933,\"\")","v":""},{"$f":"IF(L929<>\"\",'Step 2) Calculate'!H933,\"\")","v":""},{"$f":"IF(L929<>\"\",'Step 2) Calculate'!C933,\"\")","v":""}]
[null,null,null,null,null,null,null,null,null,null,{"$f":"IF(L930<>\"\",'Step 2) Calculate'!B934,\"Zzzzz - delete row\")","v":"Zzzzz - delete row"},{"$f":"IF('Step 2) Calculate'!E934<>\"\",'Step 2) Calculate'!G934,\"\")","v":""},{"$f":"IF(L930<>\"\",'Step 2) Calculate'!F934,\"\")","v":""},{"$f":"IF(L930<>\"\",'Step 2) Calculate'!H934,\"\")","v":""},{"$f":"IF(L930<>\"\",'Step 2) Calculate'!C934,\"\")","v":""}]
[null,null,null,null,null,null,null,null,null,null,{"$f":"IF(L931<>\"\",'Step 2) Calculate'!B935,\"Zzzzz - delete row\")","v":"Zzzzz - delete row"},{"$f":"IF('Step 2) Calculate'!E935<>\"\",'Step 2) Calculate'!G935,\"\")","v":""},{"$f":"IF(L931<>\"\",'Step 2) Calculate'!F935,\"\")","v":""},{"$f":"IF(L931<>\"\",'Step 2) Calculate'!H935,\"\")","v":""},{"$f":"IF(L931<>\"\",'Step 2) Calculate'!C935,\"\")","v":""}]
[null,null,null,null,null,null,null,null,null,null,{"$f":"IF(L932<>\"\",'Step 2) Calculate'!B936,\"Zzzzz - delete row\")","v":"Zzzzz - delete row"},{"$f":"IF('Step 2) Calculate'!E936<>\"\",'Step 2) Calculate'!G936,\"\")","v":""},{"$f":"IF(L932<>\"\",'Step 2) Calculate'!F936,\"\")","v":""},{"$f":"IF(L932<>\"\",'Step 2) Calculate'!H936,\"\")","v":""},{"$f":"IF(L932<>\"\",'Step 2) Calculate'!C936,\"\")","v":""}]
[null,null,null,null,null,null,null,null,null,null,{"$f":"IF(L933<>\"\",'Step 2) Calculate'!B937,\"Zzzzz - delete row\")","v":"Zzzzz - delete row"},{"$f":"IF('Step 2) Calculate'!E937<>\"\",'Step 2) Calculate'!G937,\"\")","v":""},{"$f":"IF(L933<>\"\",'Step 2) Calculate'!F937,\"\")","v":""},{"$f":"IF(L933<>\"\",'Step 2) Calculate'!H937,\"\")","v":""},{"$f":"IF(L933<>\"\",'Step 2) Calculate'!C937,\"\")","v":""}]
[null,null,null,null,null,null,null,null,null,null,{"$f":"IF(L934<>\"\",'Step 2) Calculate'!B938,\"Zzzzz - delete row\")","v":"Zzzzz - delete row"},{"$f":"IF('Step 2) Calculate'!E938<>\"\",'Step 2) Calculate'!G938,\"\")","v":""},{"$f":"IF(L934<>\"\",'Step 2) Calculate'!F938,\"\")","v":""},{"$f":"IF(L934<>\"\",'Step 2) Calculate'!H938,\"\")","v":""},{"$f":"IF(L934<>\"\",'Step 2) Calculate'!C938,\"\")","v":""}]
[null,null,null,null,null,null,null,null,null,null,{"$f":"IF(L935<>\"\",'Step 2) Calculate'!B939,\"Zzzzz - delete row\")","v":"Zzzzz - delete row"},{"$f":"IF('Step 2) Calculate'!E939<>\"\",'Step 2) Calculate'!G939,\"\")","v":""},{"$f":"IF(L935<>\"\",'Step 2) Calculate'!F939,\"\")","v":""},{"$f":"IF(L935<>\"\",'Step 2) Calculate'!H939,\"\")","v":""},{"$f":"IF(L935<>\"\",'Step 2) Calculate'!C939,\"\")","v":""}]
[null,null,null,null,null,null,null,null,null,null,{"$f":"IF(L936<>\"\",'Step 2) Calculate'!B940,\"Zzzzz - delete row\")","v":"Zzzzz - delete row"},{"$f":"IF('Step 2) Calculate'!E940<>\"\",'Step 2) Calculate'!G940,\"\")","v":""},{"$f":"IF(L936<>\"\",'Step 2) Calculate'!F940,\"\")","v":""},{"$f":"IF(L936<>\"\",'Step 2) Calculate'!H940,\"\")","v":""},{"$f":"IF(L936<>\"\",'Step 2) Calculate'!C940,\"\")","v":""}]
[null,null,null,null,null,null,null,null,null,null,{"$f":"IF(L937<>\"\",'Step 2) Calculate'!B941,\"Zzzzz - delete row\")","v":"Zzzzz - delete row"},{"$f":"IF('Step 2) Calculate'!E941<>\"\",'Step 2) Calculate'!G941,\"\")","v":""},{"$f":"IF(L937<>\"\",'Step 2) Calculate'!F941,\"\")","v":""},{"$f":"IF(L937<>\"\",'Step 2) Calculate'!H941,\"\")","v":""},{"$f":"IF(L937<>\"\",'Step 2) Calculate'!C941,\"\")","v":""}]
[null,null,null,null,null,null,null,null,null,null,{"$f":"IF(L938<>\"\",'Step 2) Calculate'!B942,\"Zzzzz - delete row\")","v":"Zzzzz - delete row"},{"$f":"IF('Step 2) Calculate'!E942<>\"\",'Step 2) Calculate'!G942,\"\")","v":""},{"$f":"IF(L938<>\"\",'Step 2) Calculate'!F942,\"\")","v":""},{"$f":"IF(L938<>\"\",'Step 2) Calculate'!H942,\"\")","v":""},{"$f":"IF(L938<>\"\",'Step 2) Calculate'!C942,\"\")","v":""}]
[null,null,null,null,null,null,null,null,null,null,{"$f":"IF(L939<>\"\",'Step 2) Calculate'!B943,\"Zzzzz - delete row\")","v":"Zzzzz - delete row"},{"$f":"IF('Step 2) Calculate'!E943<>\"\",'Step 2) Calculate'!G943,\"\")","v":""},{"$f":"IF(L939<>\"\",'Step 2) Calculate'!F943,\"\")","v":""},{"$f":"IF(L939<>\"\",'Step 2) Calculate'!H943,\"\")","v":""},{"$f":"IF(L939<>\"\",'Step 2) Calculate'!C943,\"\")","v":""}]
[null,null,null,null,null,null,null,null,null,null,{"$f":"IF(L940<>\"\",'Step 2) Calculate'!B944,\"Zzzzz - delete row\")","v":"Zzzzz - delete row"},{"$f":"IF('Step 2) Calculate'!E944<>\"\",'Step 2) Calculate'!G944,\"\")","v":""},{"$f":"IF(L940<>\"\",'Step 2) Calculate'!F944,\"\")","v":""},{"$f":"IF(L940<>\"\",'Step 2) Calculate'!H944,\"\")","v":""},{"$f":"IF(L940<>\"\",'Step 2) Calculate'!C944,\"\")","v":""}]
[null,null,null,null,null,null,null,null,null,null,{"$f":"IF(L941<>\"\",'Step 2) Calculate'!B945,\"Zzzzz - delete row\")","v":"Zzzzz - delete row"},{"$f":"IF('Step 2) Calculate'!E945<>\"\",'Step 2) Calculate'!G945,\"\")","v":""},{"$f":"IF(L941<>\"\",'Step 2) Calculate'!F945,\"\")","v":""},{"$f":"IF(L941<>\"\",'Step 2) Calculate'!H945,\"\")","v":""},{"$f":"IF(L941<>\"\",'Step 2) Calculate'!C945,\"\")","v":""}]
[null,null,null,null,null,null,null,null,null,null,{"$f":"IF(L942<>\"\",'Step 2) Calculate'!B946,\"Zzzzz - delete row\")","v":"Zzzzz - delete row"},{"$f":"IF('Step 2) Calculate'!E946<>\"\",'Step 2) Calculate'!G946,\"\")","v":""},{"$f":"IF(L942<>\"\",'Step 2) Calculate'!F946,\"\")","v":""},{"$f":"IF(L942<>\"\",'Step 2) Calculate'!H946,\"\")","v":""},{"$f":"IF(L942<>\"\",'Step 2) Calculate'!C946,\"\")","v":""}]
[null,null,null,null,null,null,null,null,null,null,{"$f":"IF(L943<>\"\",'Step 2) Calculate'!B947,\"Zzzzz - delete row\")","v":"Zzzzz - delete row"},{"$f":"IF('Step 2) Calculate'!E947<>\"\",'Step 2) Calculate'!G947,\"\")","v":""},{"$f":"IF(L943<>\"\",'Step 2) Calculate'!F947,\"\")","v":""},{"$f":"IF(L943<>\"\",'Step 2) Calculate'!H947,\"\")","v":""},{"$f":"IF(L943<>\"\",'Step 2) Calculate'!C947,\"\")","v":""}]
[null,null,null,null,null,null,null,null,null,null,{"$f":"IF(L944<>\"\",'Step 2) Calculate'!B948,\"Zzzzz - delete row\")","v":"Zzzzz - delete row"},{"$f":"IF('Step 2) Calculate'!E948<>\"\",'Step 2) Calculate'!G948,\"\")","v":""},{"$f":"IF(L944<>\"\",'Step 2) Calculate'!F948,\"\")","v":""},{"$f":"IF(L944<>\"\",'Step 2) Calculate'!H948,\"\")","v":""},{"$f":"IF(L944<>\"\",'Step 2) Calculate'!C948,\"\")","v":""}]
[null,null,null,null,null,null,null,null,null,null,{"$f":"IF(L945<>\"\",'Step 2) Calculate'!B949,\"Zzzzz - delete row\")","v":"Zzzzz - delete row"},{"$f":"IF('Step 2) Calculate'!E949<>\"\",'Step 2) Calculate'!G949,\"\")","v":""},{"$f":"IF(L945<>\"\",'Step 2) Calculate'!F949,\"\")","v":""},{"$f":"IF(L945<>\"\",'Step 2) Calculate'!H949,\"\")","v":""},{"$f":"IF(L945<>\"\",'Step 2) Calculate'!C949,\"\")","v":""}]
[null,null,null,null,null,null,null,null,null,null,{"$f":"IF(L946<>\"\",'Step 2) Calculate'!B950,\"Zzzzz - delete row\")","v":"Zzzzz - delete row"},{"$f":"IF('Step 2) Calculate'!E950<>\"\",'Step 2) Calculate'!G950,\"\")","v":""},{"$f":"IF(L946<>\"\",'Step 2) Calculate'!F950,\"\")","v":""},{"$f":"IF(L946<>\"\",'Step 2) Calculate'!H950,\"\")","v":""},{"$f":"IF(L946<>\"\",'Step 2) Calculate'!C950,\"\")","v":""}]
[null,null,null,null,null,null,null,null,null,null,{"$f":"IF(L947<>\"\",'Step 2) Calculate'!B951,\"Zzzzz - delete row\")","v":"Zzzzz - delete row"},{"$f":"IF('Step 2) Calculate'!E951<>\"\",'Step 2) Calculate'!G951,\"\")","v":""},{"$f":"IF(L947<>\"\",'Step 2) Calculate'!F951,\"\")","v":""},{"$f":"IF(L947<>\"\",'Step 2) Calculate'!H951,\"\")","v":""},{"$f":"IF(L947<>\"\",'Step 2) Calculate'!C951,\"\")","v":""}]
[null,null,null,null,null,null,null,null,null,null,{"$f":"IF(L948<>\"\",'Step 2) Calculate'!B952,\"Zzzzz - delete row\")","v":"Zzzzz - delete row"},{"$f":"IF('Step 2) Calculate'!E952<>\"\",'Step 2) Calculate'!G952,\"\")","v":""},{"$f":"IF(L948<>\"\",'Step 2) Calculate'!F952,\"\")","v":""},{"$f":"IF(L948<>\"\",'Step 2) Calculate'!H952,\"\")","v":""},{"$f":"IF(L948<>\"\",'Step 2) Calculate'!C952,\"\")","v":""}]
[null,null,null,null,null,null,null,null,null,null,{"$f":"IF(L949<>\"\",'Step 2) Calculate'!B953,\"Zzzzz - delete row\")","v":"Zzzzz - delete row"},{"$f":"IF('Step 2) Calculate'!E953<>\"\",'Step 2) Calculate'!G953,\"\")","v":""},{"$f":"IF(L949<>\"\",'Step 2) Calculate'!F953,\"\")","v":""},{"$f":"IF(L949<>\"\",'Step 2) Calculate'!H953,\"\")","v":""},{"$f":"IF(L949<>\"\",'Step 2) Calculate'!C953,\"\")","v":""}]
[null,null,null,null,null,null,null,null,null,null,{"$f":"IF(L950<>\"\",'Step 2) Calculate'!B954,\"Zzzzz - delete row\")","v":"Zzzzz - delete row"},{"$f":"IF('Step 2) Calculate'!E954<>\"\",'Step 2) Calculate'!G954,\"\")","v":""},{"$f":"IF(L950<>\"\",'Step 2) Calculate'!F954,\"\")","v":""},{"$f":"IF(L950<>\"\",'Step 2) Calculate'!H954,\"\")","v":""},{"$f":"IF(L950<>\"\",'Step 2) Calculate'!C954,\"\")","v":""}]
[null,null,null,null,null,null,null,null,null,null,{"$f":"IF(L951<>\"\",'Step 2) Calculate'!B955,\"Zzzzz - delete row\")","v":"Zzzzz - delete row"},{"$f":"IF('Step 2) Calculate'!E955<>\"\",'Step 2) Calculate'!G955,\"\")","v":""},{"$f":"IF(L951<>\"\",'Step 2) Calculate'!F955,\"\")","v":""},{"$f":"IF(L951<>\"\",'Step 2) Calculate'!H955,\"\")","v":""},{"$f":"IF(L951<>\"\",'Step 2) Calculate'!C955,\"\")","v":""}]
[null,null,null,null,null,null,null,null,null,null,{"$f":"IF(L952<>\"\",'Step 2) Calculate'!B956,\"Zzzzz - delete row\")","v":"Zzzzz - delete row"},{"$f":"IF('Step 2) Calculate'!E956<>\"\",'Step 2) Calculate'!G956,\"\")","v":""},{"$f":"IF(L952<>\"\",'Step 2) Calculate'!F956,\"\")","v":""},{"$f":"IF(L952<>\"\",'Step 2) Calculate'!H956,\"\")","v":""},{"$f":"IF(L952<>\"\",'Step 2) Calculate'!C956,\"\")","v":""}]
[null,null,null,null,null,null,null,null,null,null,{"$f":"IF(L953<>\"\",'Step 2) Calculate'!B957,\"Zzzzz - delete row\")","v":"Zzzzz - delete row"},{"$f":"IF('Step 2) Calculate'!E957<>\"\",'Step 2) Calculate'!G957,\"\")","v":""},{"$f":"IF(L953<>\"\",'Step 2) Calculate'!F957,\"\")","v":""},{"$f":"IF(L953<>\"\",'Step 2) Calculate'!H957,\"\")","v":""},{"$f":"IF(L953<>\"\",'Step 2) Calculate'!C957,\"\")","v":""}]
[null,null,null,null,null,null,null,null,null,null,{"$f":"IF(L954<>\"\",'Step 2) Calculate'!B958,\"Zzzzz - delete row\")","v":"Zzzzz - delete row"},{"$f":"IF('Step 2) Calculate'!E958<>\"\",'Step 2) Calculate'!G958,\"\")","v":""},{"$f":"IF(L954<>\"\",'Step 2) Calculate'!F958,\"\")","v":""},{"$f":"IF(L954<>\"\",'Step 2) Calculate'!H958,\"\")","v":""},{"$f":"IF(L954<>\"\",'Step 2) Calculate'!C958,\"\")","v":""}]
[null,null,null,null,null,null,null,null,null,null,{"$f":"IF(L955<>\"\",'Step 2) Calculate'!B959,\"Zzzzz - delete row\")","v":"Zzzzz - delete row"},{"$f":"IF('Step 2) Calculate'!E959<>\"\",'Step 2) Calculate'!G959,\"\")","v":""},{"$f":"IF(L955<>\"\",'Step 2) Calculate'!F959,\"\")","v":""},{"$f":"IF(L955<>\"\",'Step 2) Calculate'!H959,\"\")","v":""},{"$f":"IF(L955<>\"\",'Step 2) Calculate'!C959,\"\")","v":""}]
[null,null,null,null,null,null,null,null,null,null,{"$f":"IF(L956<>\"\",'Step 2) Calculate'!B960,\"Zzzzz - delete row\")","v":"Zzzzz - delete row"},{"$f":"IF('Step 2) Calculate'!E960<>\"\",'Step 2) Calculate'!G960,\"\")","v":""},{"$f":"IF(L956<>\"\",'Step 2) Calculate'!F960,\"\")","v":""},{"$f":"IF(L956<>\"\",'Step 2) Calculate'!H960,\"\")","v":""},{"$f":"IF(L956<>\"\",'Step 2) Calculate'!C960,\"\")","v":""}]
[null,null,null,null,null,null,null,null,null,null,{"$f":"IF(L957<>\"\",'Step 2) Calculate'!B961,\"Zzzzz - delete row\")","v":"Zzzzz - delete row"},{"$f":"IF('Step 2) Calculate'!E961<>\"\",'Step 2) Calculate'!G961,\"\")","v":""},{"$f":"IF(L957<>\"\",'Step 2) Calculate'!F961,\"\")","v":""},{"$f":"IF(L957<>\"\",'Step 2) Calculate'!H961,\"\")","v":""},{"$f":"IF(L957<>\"\",'Step 2) Calculate'!C961,\"\")","v":""}]
[null,null,null,null,null,null,null,null,null,null,{"$f":"IF(L958<>\"\",'Step 2) Calculate'!B962,\"Zzzzz - delete row\")","v":"Zzzzz - delete row"},{"$f":"IF('Step 2) Calculate'!E962<>\"\",'Step 2) Calculate'!G962,\"\")","v":""},{"$f":"IF(L958<>\"\",'Step 2) Calculate'!F962,\"\")","v":""},{"$f":"IF(L958<>\"\",'Step 2) Calculate'!H962,\"\")","v":""},{"$f":"IF(L958<>\"\",'Step 2) Calculate'!C962,\"\")","v":""}]
[null,null,null,null,null,null,null,null,null,null,{"$f":"IF(L959<>\"\",'Step 2) Calculate'!B963,\"Zzzzz - delete row\")","v":"Zzzzz - delete row"},{"$f":"IF('Step 2) Calculate'!E963<>\"\",'Step 2) Calculate'!G963,\"\")","v":""},{"$f":"IF(L959<>\"\",'Step 2) Calculate'!F963,\"\")","v":""},{"$f":"IF(L959<>\"\",'Step 2) Calculate'!H963,\"\")","v":""},{"$f":"IF(L959<>\"\",'Step 2) Calculate'!C963,\"\")","v":""}]
[null,null,null,null,null,null,null,null,null,null,{"$f":"IF(L960<>\"\",'Step 2) Calculate'!B964,\"Zzzzz - delete row\")","v":"Zzzzz - delete row"},{"$f":"IF('Step 2) Calculate'!E964<>\"\",'Step 2) Calculate'!G964,\"\")","v":""},{"$f":"IF(L960<>\"\",'Step 2) Calculate'!F964,\"\")","v":""},{"$f":"IF(L960<>\"\",'Step 2) Calculate'!H964,\"\")","v":""},{"$f":"IF(L960<>\"\",'Step 2) Calculate'!C964,\"\")","v":""}]
[null,null,null,null,null,null,null,null,null,null,{"$f":"IF(L961<>\"\",'Step 2) Calculate'!B965,\"Zzzzz - delete row\")","v":"Zzzzz - delete row"},{"$f":"IF('Step 2) Calculate'!E965<>\"\",'Step 2) Calculate'!G965,\"\")","v":""},{"$f":"IF(L961<>\"\",'Step 2) Calculate'!F965,\"\")","v":""},{"$f":"IF(L961<>\"\",'Step 2) Calculate'!H965,\"\")","v":""},{"$f":"IF(L961<>\"\",'Step 2) Calculate'!C965,\"\")","v":""}]
[null,null,null,null,null,null,null,null,null,null,{"$f":"IF(L962<>\"\",'Step 2) Calculate'!B966,\"Zzzzz - delete row\")","v":"Zzzzz - delete row"},{"$f":"IF('Step 2) Calculate'!E966<>\"\",'Step 2) Calculate'!G966,\"\")","v":""},{"$f":"IF(L962<>\"\",'Step 2) Calculate'!F966,\"\")","v":""},{"$f":"IF(L962<>\"\",'Step 2) Calculate'!H966,\"\")","v":""},{"$f":"IF(L962<>\"\",'Step 2) Calculate'!C966,\"\")","v":""}]
[null,null,null,null,null,null,null,null,null,null,{"$f":"IF(L963<>\"\",'Step 2) Calculate'!B967,\"Zzzzz - delete row\")","v":"Zzzzz - delete row"},{"$f":"IF('Step 2) Calculate'!E967<>\"\",'Step 2) Calculate'!G967,\"\")","v":""},{"$f":"IF(L963<>\"\",'Step 2) Calculate'!F967,\"\")","v":""},{"$f":"IF(L963<>\"\",'Step 2) Calculate'!H967,\"\")","v":""},{"$f":"IF(L963<>\"\",'Step 2) Calculate'!C967,\"\")","v":""}]
[null,null,null,null,null,null,null,null,null,null,{"$f":"IF(L964<>\"\",'Step 2) Calculate'!B968,\"Zzzzz - delete row\")","v":"Zzzzz - delete row"},{"$f":"IF('Step 2) Calculate'!E968<>\"\",'Step 2) Calculate'!G968,\"\")","v":""},{"$f":"IF(L964<>\"\",'Step 2) Calculate'!F968,\"\")","v":""},{"$f":"IF(L964<>\"\",'Step 2) Calculate'!H968,\"\")","v":""},{"$f":"IF(L964<>\"\",'Step 2) Calculate'!C968,\"\")","v":""}]
[null,null,null,null,null,null,null,null,null,null,{"$f":"IF(L965<>\"\",'Step 2) Calculate'!B969,\"Zzzzz - delete row\")","v":"Zzzzz - delete row"},{"$f":"IF('Step 2) Calculate'!E969<>\"\",'Step 2) Calculate'!G969,\"\")","v":""},{"$f":"IF(L965<>\"\",'Step 2) Calculate'!F969,\"\")","v":""},{"$f":"IF(L965<>\"\",'Step 2) Calculate'!H969,\"\")","v":""},{"$f":"IF(L965<>\"\",'Step 2) Calculate'!C969,\"\")","v":""}]
[null,null,null,null,null,null,null,null,null,null,{"$f":"IF(L966<>\"\",'Step 2) Calculate'!B970,\"Zzzzz - delete row\")","v":"Zzzzz - delete row"},{"$f":"IF('Step 2) Calculate'!E970<>\"\",'Step 2) Calculate'!G970,\"\")","v":""},{"$f":"IF(L966<>\"\",'Step 2) Calculate'!F970,\"\")","v":""},{"$f":"IF(L966<>\"\",'Step 2) Calculate'!H970,\"\")","v":""},{"$f":"IF(L966<>\"\",'Step 2) Calculate'!C970,\"\")","v":""}]
[null,null,null,null,null,null,null,null,null,null,{"$f":"IF(L967<>\"\",'Step 2) Calculate'!B971,\"Zzzzz - delete row\")","v":"Zzzzz - delete row"},{"$f":"IF('Step 2) Calculate'!E971<>\"\",'Step 2) Calculate'!G971,\"\")","v":""},{"$f":"IF(L967<>\"\",'Step 2) Calculate'!F971,\"\")","v":""},{"$f":"IF(L967<>\"\",'Step 2) Calculate'!H971,\"\")","v":""},{"$f":"IF(L967<>\"\",'Step 2) Calculate'!C971,\"\")","v":""}]
[null,null,null,null,null,null,null,null,null,null,{"$f":"IF(L968<>\"\",'Step 2) Calculate'!B972,\"Zzzzz - delete row\")","v":"Zzzzz - delete row"},{"$f":"IF('Step 2) Calculate'!E972<>\"\",'Step 2) Calculate'!G972,\"\")","v":""},{"$f":"IF(L968<>\"\",'Step 2) Calculate'!F972,\"\")","v":""},{"$f":"IF(L968<>\"\",'Step 2) Calculate'!H972,\"\")","v":""},{"$f":"IF(L968<>\"\",'Step 2) Calculate'!C972,\"\")","v":""}]
[null,null,null,null,null,null,null,null,null,null,{"$f":"IF(L969<>\"\",'Step 2) Calculate'!B973,\"Zzzzz - delete row\")","v":"Zzzzz - delete row"},{"$f":"IF('Step 2) Calculate'!E973<>\"\",'Step 2) Calculate'!G973,\"\")","v":""},{"$f":"IF(L969<>\"\",'Step 2) Calculate'!F973,\"\")","v":""},{"$f":"IF(L969<>\"\",'Step 2) Calculate'!H973,\"\")","v":""},{"$f":"IF(L969<>\"\",'Step 2) Calculate'!C973,\"\")","v":""}]
[null,null,null,null,null,null,null,null,null,null,{"$f":"IF(L970<>\"\",'Step 2) Calculate'!B974,\"Zzzzz - delete row\")","v":"Zzzzz - delete row"},{"$f":"IF('Step 2) Calculate'!E974<>\"\",'Step 2) Calculate'!G974,\"\")","v":""},{"$f":"IF(L970<>\"\",'Step 2) Calculate'!F974,\"\")","v":""},{"$f":"IF(L970<>\"\",'Step 2) Calculate'!H974,\"\")","v":""},{"$f":"IF(L970<>\"\",'Step 2) Calculate'!C974,\"\")","v":""}]
[null,null,null,null,null,null,null,null,null,null,{"$f":"IF(L971<>\"\",'Step 2) Calculate'!B975,\"Zzzzz - delete row\")","v":"Zzzzz - delete row"},{"$f":"IF('Step 2) Calculate'!E975<>\"\",'Step 2) Calculate'!G975,\"\")","v":""},{"$f":"IF(L971<>\"\",'Step 2) Calculate'!F975,\"\")","v":""},{"$f":"IF(L971<>\"\",'Step 2) Calculate'!H975,\"\")","v":""},{"$f":"IF(L971<>\"\",'Step 2) Calculate'!C975,\"\")","v":""}]
[null,null,null,null,null,null,null,null,null,null,{"$f":"IF(L972<>\"\",'Step 2) Calculate'!B976,\"Zzzzz - delete row\")","v":"Zzzzz - delete row"},{"$f":"IF('Step 2) Calculate'!E976<>\"\",'Step 2) Calculate'!G976,\"\")","v":""},{"$f":"IF(L972<>\"\",'Step 2) Calculate'!F976,\"\")","v":""},{"$f":"IF(L972<>\"\",'Step 2) Calculate'!H976,\"\")","v":""},{"$f":"IF(L972<>\"\",'Step 2) Calculate'!C976,\"\")","v":""}]
[null,null,null,null,null,null,null,null,null,null,{"$f":"IF(L973<>\"\",'Step 2) Calculate'!B977,\"Zzzzz - delete row\")","v":"Zzzzz - delete row"},{"$f":"IF('Step 2) Calculate'!E977<>\"\",'Step 2) Calculate'!G977,\"\")","v":""},{"$f":"IF(L973<>\"\",'Step 2) Calculate'!F977,\"\")","v":""},{"$f":"IF(L973<>\"\",'Step 2) Calculate'!H977,\"\")","v":""},{"$f":"IF(L973<>\"\",'Step 2) Calculate'!C977,\"\")","v":""}]
[null,null,null,null,null,null,null,null,null,null,{"$f":"IF(L974<>\"\",'Step 2) Calculate'!B978,\"Zzzzz - delete row\")","v":"Zzzzz - delete row"},{"$f":"IF('Step 2) Calculate'!E978<>\"\",'Step 2) Calculate'!G978,\"\")","v":""},{"$f":"IF(L974<>\"\",'Step 2) Calculate'!F978,\"\")","v":""},{"$f":"IF(L974<>\"\",'Step 2) Calculate'!H978,\"\")","v":""},{"$f":"IF(L974<>\"\",'Step 2) Calculate'!C978,\"\")","v":""}]
[null,null,null,null,null,null,null,null,null,null,{"$f":"IF(L975<>\"\",'Step 2) Calculate'!B979,\"Zzzzz - delete row\")","v":"Zzzzz - delete row"},{"$f":"IF('Step 2) Calculate'!E979<>\"\",'Step 2) Calculate'!G979,\"\")","v":""},{"$f":"IF(L975<>\"\",'Step 2) Calculate'!F979,\"\")","v":""},{"$f":"IF(L975<>\"\",'Step 2) Calculate'!H979,\"\")","v":""},{"$f":"IF(L975<>\"\",'Step 2) Calculate'!C979,\"\")","v":""}]
[null,null,null,null,null,null,null,null,null,null,{"$f":"IF(L976<>\"\",'Step 2) Calculate'!B980,\"Zzzzz - delete row\")","v":"Zzzzz - delete row"},{"$f":"IF('Step 2) Calculate'!E980<>\"\",'Step 2) Calculate'!G980,\"\")","v":""},{"$f":"IF(L976<>\"\",'Step 2) Calculate'!F980,\"\")","v":""},{"$f":"IF(L976<>\"\",'Step 2) Calculate'!H980,\"\")","v":""},{"$f":"IF(L976<>\"\",'Step 2) Calculate'!C980,\"\")","v":""}]
[null,null,null,null,null,null,null,null,null,null,{"$f":"IF(L977<>\"\",'Step 2) Calculate'!B981,\"Zzzzz - delete row\")","v":"Zzzzz - delete row"},{"$f":"IF('Step 2) Calculate'!E981<>\"\",'Step 2) Calculate'!G981,\"\")","v":""},{"$f":"IF(L977<>\"\",'Step 2) Calculate'!F981,\"\")","v":""},{"$f":"IF(L977<>\"\",'Step 2) Calculate'!H981,\"\")","v":""},{"$f":"IF(L977<>\"\",'Step 2) Calculate'!C981,\"\")","v":""}]
[null,null,null,null,null,null,null,null,null,null,{"$f":"IF(L978<>\"\",'Step 2) Calculate'!B982,\"Zzzzz - delete row\")","v":"Zzzzz - delete row"},{"$f":"IF('Step 2) Calculate'!E982<>\"\",'Step 2) Calculate'!G982,\"\")","v":""},{"$f":"IF(L978<>\"\",'Step 2) Calculate'!F982,\"\")","v":""},{"$f":"IF(L978<>\"\",'Step 2) Calculate'!H982,\"\")","v":""},{"$f":"IF(L978<>\"\",'Step 2) Calculate'!C982,\"\")","v":""}]
[null,null,null,null,null,null,null,null,null,null,{"$f":"IF(L979<>\"\",'Step 2) Calculate'!B983,\"Zzzzz - delete row\")","v":"Zzzzz - delete row"},{"$f":"IF('Step 2) Calculate'!E983<>\"\",'Step 2) Calculate'!G983,\"\")","v":""},{"$f":"IF(L979<>\"\",'Step 2) Calculate'!F983,\"\")","v":""},{"$f":"IF(L979<>\"\",'Step 2) Calculate'!H983,\"\")","v":""},{"$f":"IF(L979<>\"\",'Step 2) Calculate'!C983,\"\")","v":""}]
[null,null,null,null,null,null,null,null,null,null,{"$f":"IF(L980<>\"\",'Step 2) Calculate'!B984,\"Zzzzz - delete row\")","v":"Zzzzz - delete row"},{"$f":"IF('Step 2) Calculate'!E984<>\"\",'Step 2) Calculate'!G984,\"\")","v":""},{"$f":"IF(L980<>\"\",'Step 2) Calculate'!F984,\"\")","v":""},{"$f":"IF(L980<>\"\",'Step 2) Calculate'!H984,\"\")","v":""},{"$f":"IF(L980<>\"\",'Step 2) Calculate'!C984,\"\")","v":""}]
[null,null,null,null,null,null,null,null,null,null,{"$f":"IF(L981<>\"\",'Step 2) Calculate'!B985,\"Zzzzz - delete row\")","v":"Zzzzz - delete row"},{"$f":"IF('Step 2) Calculate'!E985<>\"\",'Step 2) Calculate'!G985,\"\")","v":""},{"$f":"IF(L981<>\"\",'Step 2) Calculate'!F985,\"\")","v":""},{"$f":"IF(L981<>\"\",'Step 2) Calculate'!H985,\"\")","v":""},{"$f":"IF(L981<>\"\",'Step 2) Calculate'!C985,\"\")","v":""}]
[null,null,null,null,null,null,null,null,null,null,{"$f":"IF(L982<>\"\",'Step 2) Calculate'!B986,\"Zzzzz - delete row\")","v":"Zzzzz - delete row"},{"$f":"IF('Step 2) Calculate'!E986<>\"\",'Step 2) Calculate'!G986,\"\")","v":""},{"$f":"IF(L982<>\"\",'Step 2) Calculate'!F986,\"\")","v":""},{"$f":"IF(L982<>\"\",'Step 2) Calculate'!H986,\"\")","v":""},{"$f":"IF(L982<>\"\",'Step 2) Calculate'!C986,\"\")","v":""}]
[null,null,null,null,null,null,null,null,null,null,{"$f":"IF(L983<>\"\",'Step 2) Calculate'!B987,\"Zzzzz - delete row\")","v":"Zzzzz - delete row"},{"$f":"IF('Step 2) Calculate'!E987<>\"\",'Step 2) Calculate'!G987,\"\")","v":""},{"$f":"IF(L983<>\"\",'Step 2) Calculate'!F987,\"\")","v":""},{"$f":"IF(L983<>\"\",'Step 2) Calculate'!H987,\"\")","v":""},{"$f":"IF(L983<>\"\",'Step 2) Calculate'!C987,\"\")","v":""}]
[null,null,null,null,null,null,null,null,null,null,{"$f":"IF(L984<>\"\",'Step 2) Calculate'!B988,\"Zzzzz - delete row\")","v":"Zzzzz - delete row"},{"$f":"IF('Step 2) Calculate'!E988<>\"\",'Step 2) Calculate'!G988,\"\")","v":""},{"$f":"IF(L984<>\"\",'Step 2) Calculate'!F988,\"\")","v":""},{"$f":"IF(L984<>\"\",'Step 2) Calculate'!H988,\"\")","v":""},{"$f":"IF(L984<>\"\",'Step 2) Calculate'!C988,\"\")","v":""}]
[null,null,null,null,null,null,null,null,null,null,{"$f":"IF(L985<>\"\",'Step 2) Calculate'!B989,\"Zzzzz - delete row\")","v":"Zzzzz - delete row"},{"$f":"IF('Step 2) Calculate'!E989<>\"\",'Step 2) Calculate'!G989,\"\")","v":""},{"$f":"IF(L985<>\"\",'Step 2) Calculate'!F989,\"\")","v":""},{"$f":"IF(L985<>\"\",'Step 2) Calculate'!H989,\"\")","v":""},{"$f":"IF(L985<>\"\",'Step 2) Calculate'!C989,\"\")","v":""}]
[null,null,null,null,null,null,null,null,null,null,{"$f":"IF(L986<>\"\",'Step 2) Calculate'!B990,\"Zzzzz - delete row\")","v":"Zzzzz - delete row"},{"$f":"IF('Step 2) Calculate'!E990<>\"\",'Step 2) Calculate'!G990,\"\")","v":""},{"$f":"IF(L986<>\"\",'Step 2) Calculate'!F990,\"\")","v":""},{"$f":"IF(L986<>\"\",'Step 2) Calculate'!H990,\"\")","v":""},{"$f":"IF(L986<>\"\",'Step 2) Calculate'!C990,\"\")","v":""}]
[null,null,null,null,null,null,null,null,null,null,{"$f":"IF(L987<>\"\",'Step 2) Calculate'!B991,\"Zzzzz - delete row\")","v":"Zzzzz - delete row"},{"$f":"IF('Step 2) Calculate'!E991<>\"\",'Step 2) Calculate'!G991,\"\")","v":""},{"$f":"IF(L987<>\"\",'Step 2) Calculate'!F991,\"\")","v":""},{"$f":"IF(L987<>\"\",'Step 2) Calculate'!H991,\"\")","v":""},{"$f":"IF(L987<>\"\",'Step 2) Calculate'!C991,\"\")","v":""}]
[null,null,null,null,null,null,null,null,null,null,{"$f":"IF(L988<>\"\",'Step 2) Calculate'!B992,\"Zzzzz - delete row\")","v":"Zzzzz - delete row"},{"$f":"IF('Step 2) Calculate'!E992<>\"\",'Step 2) Calculate'!G992,\"\")","v":""},{"$f":"IF(L988<>\"\",'Step 2) Calculate'!F992,\"\")","v":""},{"$f":"IF(L988<>\"\",'Step 2) Calculate'!H992,\"\")","v":""},{"$f":"IF(L988<>\"\",'Step 2) Calculate'!C992,\"\")","v":""}]
[null,null,null,null,null,null,null,null,null,null,{"$f":"IF(L989<>\"\",'Step 2) Calculate'!B993,\"Zzzzz - delete row\")","v":"Zzzzz - delete row"},{"$f":"IF('Step 2) Calculate'!E993<>\"\",'Step 2) Calculate'!G993,\"\")","v":""},{"$f":"IF(L989<>\"\",'Step 2) Calculate'!F993,\"\")","v":""},{"$f":"IF(L989<>\"\",'Step 2) Calculate'!H993,\"\")","v":""},{"$f":"IF(L989<>\"\",'Step 2) Calculate'!C993,\"\")","v":""}]
[null,null,null,null,null,null,null,null,null,null,{"$f":"IF(L990<>\"\",'Step 2) Calculate'!B994,\"Zzzzz - delete row\")","v":"Zzzzz - delete row"},{"$f":"IF('Step 2) Calculate'!E994<>\"\",'Step 2) Calculate'!G994,\"\")","v":""},{"$f":"IF(L990<>\"\",'Step 2) Calculate'!F994,\"\")","v":""},{"$f":"IF(L990<>\"\",'Step 2) Calculate'!H994,\"\")","v":""},{"$f":"IF(L990<>\"\",'Step 2) Calculate'!C994,\"\")","v":""}]
[null,null,null,null,null,null,null,null,null,null,{"$f":"IF(L991<>\"\",'Step 2) Calculate'!B995,\"Zzzzz - delete row\")","v":"Zzzzz - delete row"},{"$f":"IF('Step 2) Calculate'!E995<>\"\",'Step 2) Calculate'!G995,\"\")","v":""},{"$f":"IF(L991<>\"\",'Step 2) Calculate'!F995,\"\")","v":""},{"$f":"IF(L991<>\"\",'Step 2) Calculate'!H995,\"\")","v":""},{"$f":"IF(L991<>\"\",'Step 2) Calculate'!C995,\"\")","v":""}]
[null,null,null,null,null,null,null,null,null,null,{"$f":"IF(L992<>\"\",'Step 2) Calculate'!B996,\"Zzzzz - delete row\")","v":"Zzzzz - delete row"},{"$f":"IF('Step 2) Calculate'!E996<>\"\",'Step 2) Calculate'!G996,\"\")","v":""},{"$f":"IF(L992<>\"\",'Step 2) Calculate'!F996,\"\")","v":""},{"$f":"IF(L992<>\"\",'Step 2) Calculate'!H996,\"\")","v":""},{"$f":"IF(L992<>\"\",'Step 2) Calculate'!C996,\"\")","v":""}]
[null,null,null,null,null,null,null,null,null,null,{"$f":"IF(L993<>\"\",'Step 2) Calculate'!B997,\"Zzzzz - delete row\")","v":"Zzzzz - delete row"},{"$f":"IF('Step 2) Calculate'!E997<>\"\",'Step 2) Calculate'!G997,\"\")","v":""},{"$f":"IF(L993<>\"\",'Step 2) Calculate'!F997,\"\")","v":""},{"$f":"IF(L993<>\"\",'Step 2) Calculate'!H997,\"\")","v":""},{"$f":"IF(L993<>\"\",'Step 2) Calculate'!C997,\"\")","v":""}]
[null,null,null,null,null,null,null,null,null,null,{"$f":"IF(L994<>\"\",'Step 2) Calculate'!B998,\"Zzzzz - delete row\")","v":"Zzzzz - delete row"},{"$f":"IF('Step 2) Calculate'!E998<>\"\",'Step 2) Calculate'!G998,\"\")","v":""},{"$f":"IF(L994<>\"\",'Step 2) Calculate'!F998,\"\")","v":""},{"$f":"IF(L994<>\"\",'Step 2) Calculate'!H998,\"\")","v":""},{"$f":"IF(L994<>\"\",'Step 2) Calculate'!C998,\"\")","v":""}]
[null,null,null,null,null,null,null,null,null,null,{"$f":"IF(L995<>\"\",'Step 2) Calculate'!B999,\"Zzzzz - delete row\")","v":"Zzzzz - delete row"},{"$f":"IF('Step 2) Calculate'!E999<>\"\",'Step 2) Calculate'!G999,\"\")","v":""},{"$f":"IF(L995<>\"\",'Step 2) Calculate'!F999,\"\")","v":""},{"$f":"IF(L995<>\"\",'Step 2) Calculate'!H999,\"\")","v":""},{"$f":"IF(L995<>\"\",'Step 2) Calculate'!C999,\"\")","v":""}]
[null,null,null,null,null,null,null,null,null,null,{"$f":"IF(L996<>\"\",'Step 2) Calculate'!B1000,\"Zzzzz - delete row\")","v":"Zzzzz - delete row"},{"$f":"IF('Step 2) Calculate'!E1000<>\"\",'Step 2) Calculate'!G1000,\"\")","v":""},{"$f":"IF(L996<>\"\",'Step 2) Calculate'!F1000,\"\")","v":""},{"$f":"IF(L996<>\"\",'Step 2) Calculate'!H1000,\"\")","v":""},{"$f":"IF(L996<>\"\",'Step 2) Calculate'!C1000,\"\")","v":""}]
[null,null,null,null,null,null,null,null,null,null,{"$f":"IF(L997<>\"\",'Step 2) Calculate'!B1001,\"Zzzzz - delete row\")","v":"Zzzzz - delete row"},{"$f":"IF('Step 2) Calculate'!E1001<>\"\",'Step 2) Calculate'!G1001,\"\")","v":""},{"$f":"IF(L997<>\"\",'Step 2) Calculate'!F1001,\"\")","v":""},{"$f":"IF(L997<>\"\",'Step 2) Calculate'!H1001,\"\")","v":""},{"$f":"IF(L997<>\"\",'Step 2) Calculate'!C1001,\"\")","v":""}]
[null,null,null,null,null,null,null,null,null,null,{"$f":"IF(L998<>\"\",'Step 2) Calculate'!B1002,\"Zzzzz - delete row\")","v":"Zzzzz - delete row"},{"$f":"IF('Step 2) Calculate'!E1002<>\"\",'Step 2) Calculate'!G1002,\"\")","v":""},{"$f":"IF(L998<>\"\",'Step 2) Calculate'!F1002,\"\")","v":""},{"$f":"IF(L998<>\"\",'Step 2) Calculate'!H1002,\"\")","v":""},{"$f":"IF(L998<>\"\",'Step 2) Calculate'!C1002,\"\")","v":""}]
[null,null,null,null,null,null,null,null,null,null,{"$f":"IF(L999<>\"\",'Step 2) Calculate'!B1003,\"Zzzzz - delete row\")","v":"Zzzzz - delete row"},{"$f":"IF('Step 2) Calculate'!E1003<>\"\",'Step 2) Calculate'!G1003,\"\")","v":""},{"$f":"IF(L999<>\"\",'Step 2) Calculate'!F1003,\"\")","v":""},{"$f":"IF(L999<>\"\",'Step 2) Calculate'!H1003,\"\")","v":""},{"$f":"IF(L999<>\"\",'Step 2) Calculate'!C1003,\"\")","v":""}]
[null,null,null,null,null,null,null,null,null,null,{"$f":"IF(L1000<>\"\",'Step 2) Calculate'!B1004,\"Zzzzz - delete row\")","v":"Zzzzz - delete row"},{"$f":"IF('Step 2) Calculate'!E1004<>\"\",'Step 2) Calculate'!G1004,\"\")","v":""},{"$f":"IF(L1000<>\"\",'Step 2) Calculate'!F1004,\"\")","v":""},{"$f":"IF(L1000<>\"\",'Step 2) Calculate'!H1004,\"\")","v":""},{"$f":"IF(L1000<>\"\",'Step 2) Calculate'!C1004,\"\")","v":""}]
[null,null,null,null,null,null,null,null,null,null,{"$f":"IF(L1001<>\"\",'Step 2) Calculate'!B1005,\"Zzzzz - delete row\")","v":"Zzzzz - delete row"},{"$f":"IF('Step 2) Calculate'!E1005<>\"\",'Step 2) Calculate'!G1005,\"\")","v":""},{"$f":"IF(L1001<>\"\",'Step 2) Calculate'!F1005,\"\")","v":""},{"$f":"IF(L1001<>\"\",'Step 2) Calculate'!H1005,\"\")","v":""},{"$f":"IF(L1001<>\"\",'Step 2) Calculate'!C1005,\"\")","v":""}]
[null,null,null,null,null,null,null,null,null,null,{"$f":"IF(L1002<>\"\",'Step 2) Calculate'!B1006,\"Zzzzz - delete row\")","v":"Zzzzz - delete row"},{"$f":"IF('Step 2) Calculate'!E1006<>\"\",'Step 2) Calculate'!G1006,\"\")","v":""},{"$f":"IF(L1002<>\"\",'Step 2) Calculate'!F1006,\"\")","v":""},{"$f":"IF(L1002<>\"\",'Step 2) Calculate'!H1006,\"\")","v":""},{"$f":"IF(L1002<>\"\",'Step 2) Calculate'!C1006,\"\")","v":""}]
[null,null,null,null,null,null,null,null,null,null,{"$f":"IF(L1003<>\"\",'Step 2) Calculate'!B1007,\"Zzzzz - delete row\")","v":"Zzzzz - delete row"},{"$f":"IF('Step 2) Calculate'!E1007<>\"\",'Step 2) Calculate'!G1007,\"\")","v":""},{"$f":"IF(L1003<>\"\",'Step 2) Calculate'!F1007,\"\")","v":""},{"$f":"IF(L1003<>\"\",'Step 2) Calculate'!H1007,\"\")","v":""},{"$f":"IF(L1003<>\"\",'Step 2) Calculate'!C1007,\"\")","v":""}]
[null,null,null,null,null,null,null,null,null,null,{"$f":"IF(L1004<>\"\",'Step 2) Calculate'!B1008,\"Zzzzz - delete row\")","v":"Zzzzz - delete row"},{"$f":"IF('Step 2) Calculate'!E1008<>\"\",'Step 2) Calculate'!G1008,\"\")","v":""},{"$f":"IF(L1004<>\"\",'Step 2) Calculate'!F1008,\"\")","v":""},{"$f":"IF(L1004<>\"\",'Step 2) Calculate'!H1008,\"\")","v":""},{"$f":"IF(L1004<>\"\",'Step 2) Calculate'!C1008,\"\")","v":""}]
[null,null,null,null,null,null,null,null,null,null,{"$f":"IF(L1005<>\"\",'Step 2) Calculate'!B1009,\"Zzzzz - delete row\")","v":"Zzzzz - delete row"},{"$f":"IF('Step 2) Calculate'!E1009<>\"\",'Step 2) Calculate'!G1009,\"\")","v":""},{"$f":"IF(L1005<>\"\",'Step 2) Calculate'!F1009,\"\")","v":""},{"$f":"IF(L1005<>\"\",'Step 2) Calculate'!H1009,\"\")","v":""},{"$f":"IF(L1005<>\"\",'Step 2) Calculate'!C1009,\"\")","v":""}]
[null,null,null,null,null,null,null,null,null,null,{"$f":"IF(L1006<>\"\",'Step 2) Calculate'!B1010,\"Zzzzz - delete row\")","v":"Zzzzz - delete row"},{"$f":"IF('Step 2) Calculate'!E1010<>\"\",'Step 2) Calculate'!G1010,\"\")","v":""},{"$f":"IF(L1006<>\"\",'Step 2) Calculate'!F1010,\"\")","v":""},{"$f":"IF(L1006<>\"\",'Step 2) Calculate'!H1010,\"\")","v":""},{"$f":"IF(L1006<>\"\",'Step 2) Calculate'!C1010,\"\")","v":""}]
[null,null,null,null,null,null,null,null,null,null,{"$f":"IF(L1007<>\"\",'Step 2) Calculate'!B1011,\"Zzzzz - delete row\")","v":"Zzzzz - delete row"},{"$f":"IF('Step 2) Calculate'!E1011<>\"\",'Step 2) Calculate'!G1011,\"\")","v":""},{"$f":"IF(L1007<>\"\",'Step 2) Calculate'!F1011,\"\")","v":""},{"$f":"IF(L1007<>\"\",'Step 2) Calculate'!H1011,\"\")","v":""},{"$f":"IF(L1007<>\"\",'Step 2) Calculate'!C1011,\"\")","v":""}]
[null,null,null,null,null,null,null,null,null,null,{"$f":"IF(L1008<>\"\",'Step 2) Calculate'!B1012,\"Zzzzz - delete row\")","v":"Zzzzz - delete row"},{"$f":"IF('Step 2) Calculate'!E1012<>\"\",'Step 2) Calculate'!G1012,\"\")","v":""},{"$f":"IF(L1008<>\"\",'Step 2) Calculate'!F1012,\"\")","v":""},{"$f":"IF(L1008<>\"\",'Step 2) Calculate'!H1012,\"\")","v":""},{"$f":"IF(L1008<>\"\",'Step 2) Calculate'!C1012,\"\")","v":""}]
[null,null,null,null,null,null,null,null,null,null,{"$f":"IF(L1009<>\"\",'Step 2) Calculate'!B1013,\"Zzzzz - delete row\")","v":"Zzzzz - delete row"},{"$f":"IF('Step 2) Calculate'!E1013<>\"\",'Step 2) Calculate'!G1013,\"\")","v":""},{"$f":"IF(L1009<>\"\",'Step 2) Calculate'!F1013,\"\")","v":""},{"$f":"IF(L1009<>\"\",'Step 2) Calculate'!H1013,\"\")","v":""},{"$f":"IF(L1009<>\"\",'Step 2) Calculate'!C1013,\"\")","v":""}]
[null,null,null,null,null,null,null,null,null,null,{"$f":"IF(L1010<>\"\",'Step 2) Calculate'!B1014,\"Zzzzz - delete row\")","v":"Zzzzz - delete row"},{"$f":"IF('Step 2) Calculate'!E1014<>\"\",'Step 2) Calculate'!G1014,\"\")","v":""},{"$f":"IF(L1010<>\"\",'Step 2) Calculate'!F1014,\"\")","v":""},{"$f":"IF(L1010<>\"\",'Step 2) Calculate'!H1014,\"\")","v":""},{"$f":"IF(L1010<>\"\",'Step 2) Calculate'!C1014,\"\")","v":""}]
[null,null,null,null,null,null,null,null,null,null,{"$f":"IF(L1011<>\"\",'Step 2) Calculate'!B1015,\"Zzzzz - delete row\")","v":"Zzzzz - delete row"},{"$f":"IF('Step 2) Calculate'!E1015<>\"\",'Step 2) Calculate'!G1015,\"\")","v":""},{"$f":"IF(L1011<>\"\",'Step 2) Calculate'!F1015,\"\")","v":""},{"$f":"IF(L1011<>\"\",'Step 2) Calculate'!H1015,\"\")","v":""},{"$f":"IF(L1011<>\"\",'Step 2) Calculate'!C1015,\"\")","v":""}]
[null,null,null,null,null,null,null,null,null,null,{"$f":"IF(L1012<>\"\",'Step 2) Calculate'!B1016,\"Zzzzz - delete row\")","v":"Zzzzz - delete row"},{"$f":"IF('Step 2) Calculate'!E1016<>\"\",'Step 2) Calculate'!G1016,\"\")","v":""},{"$f":"IF(L1012<>\"\",'Step 2) Calculate'!F1016,\"\")","v":""},{"$f":"IF(L1012<>\"\",'Step 2) Calculate'!H1016,\"\")","v":""},{"$f":"IF(L1012<>\"\",'Step 2) Calculate'!C1016,\"\")","v":""}]
[null,null,null,null,null,null,null,null,null,null,{"$f":"IF(L1013<>\"\",'Step 2) Calculate'!B1017,\"Zzzzz - delete row\")","v":"Zzzzz - delete row"},{"$f":"IF('Step 2) Calculate'!E1017<>\"\",'Step 2) Calculate'!G1017,\"\")","v":""},{"$f":"IF(L1013<>\"\",'Step 2) Calculate'!F1017,\"\")","v":""},{"$f":"IF(L1013<>\"\",'Step 2) Calculate'!H1017,\"\")","v":""},{"$f":"IF(L1013<>\"\",'Step 2) Calculate'!C1017,\"\")","v":""}]
[null,null,null,null,null,null,null,null,null,null,{"$f":"IF(L1014<>\"\",'Step 2) Calculate'!B1018,\"Zzzzz - delete row\")","v":"Zzzzz - delete row"},{"$f":"IF('Step 2) Calculate'!E1018<>\"\",'Step 2) Calculate'!G1018,\"\")","v":""},{"$f":"IF(L1014<>\"\",'Step 2) Calculate'!F1018,\"\")","v":""},{"$f":"IF(L1014<>\"\",'Step 2) Calculate'!H1018,\"\")","v":""},{"$f":"IF(L1014<>\"\",'Step 2) Calculate'!C1018,\"\")","v":""}]
[null,null,null,null,null,null,null,null,null,null,{"$f":"IF(L1015<>\"\",'Step 2) Calculate'!B1019,\"Zzzzz - delete row\")","v":"Zzzzz - delete row"},{"$f":"IF('Step 2) Calculate'!E1019<>\"\",'Step 2) Calculate'!G1019,\"\")","v":""},{"$f":"IF(L1015<>\"\",'Step 2) Calculate'!F1019,\"\")","v":""},{"$f":"IF(L1015<>\"\",'Step 2) Calculate'!H1019,\"\")","v":""},{"$f":"IF(L1015<>\"\",'Step 2) Calculate'!C1019,\"\")","v":""}]
[null,null,null,null,null,null,null,null,null,null,{"$f":"IF(L1016<>\"\",'Step 2) Calculate'!B1020,\"Zzzzz - delete row\")","v":"Zzzzz - delete row"},{"$f":"IF('Step 2) Calculate'!E1020<>\"\",'Step 2) Calculate'!G1020,\"\")","v":""},{"$f":"IF(L1016<>\"\",'Step 2) Calculate'!F1020,\"\")","v":""},{"$f":"IF(L1016<>\"\",'Step 2) Calculate'!H1020,\"\")","v":""},{"$f":"IF(L1016<>\"\",'Step 2) Calculate'!C1020,\"\")","v":""}]
[null,null,null,null,null,null,null,null,null,null,{"$f":"IF(L1017<>\"\",'Step 2) Calculate'!B1021,\"Zzzzz - delete row\")","v":"Zzzzz - delete row"},{"$f":"IF('Step 2) Calculate'!E1021<>\"\",'Step 2) Calculate'!G1021,\"\")","v":""},{"$f":"IF(L1017<>\"\",'Step 2) Calculate'!F1021,\"\")","v":""},{"$f":"IF(L1017<>\"\",'Step 2) Calculate'!H1021,\"\")","v":""},{"$f":"IF(L1017<>\"\",'Step 2) Calculate'!C1021,\"\")","v":""}]
[null,null,null,null,null,null,null,null,null,null,{"$f":"IF(L1018<>\"\",'Step 2) Calculate'!B1022,\"Zzzzz - delete row\")","v":"Zzzzz - delete row"},{"$f":"IF('Step 2) Calculate'!E1022<>\"\",'Step 2) Calculate'!G1022,\"\")","v":""},{"$f":"IF(L1018<>\"\",'Step 2) Calculate'!F1022,\"\")","v":""},{"$f":"IF(L1018<>\"\",'Step 2) Calculate'!H1022,\"\")","v":""},{"$f":"IF(L1018<>\"\",'Step 2) Calculate'!C1022,\"\")","v":""}]
[null,null,null,null,null,null,null,null,null,null,{"$f":"IF(L1019<>\"\",'Step 2) Calculate'!B1023,\"Zzzzz - delete row\")","v":"Zzzzz - delete row"},{"$f":"IF('Step 2) Calculate'!E1023<>\"\",'Step 2) Calculate'!G1023,\"\")","v":""},{"$f":"IF(L1019<>\"\",'Step 2) Calculate'!F1023,\"\")","v":""},{"$f":"IF(L1019<>\"\",'Step 2) Calculate'!H1023,\"\")","v":""},{"$f":"IF(L1019<>\"\",'Step 2) Calculate'!C1023,\"\")","v":""}]
[null,null,null,null,null,null,null,null,null,null,{"$f":"IF(L1020<>\"\",'Step 2) Calculate'!B1024,\"Zzzzz - delete row\")","v":"Zzzzz - delete row"},{"$f":"IF('Step 2) Calculate'!E1024<>\"\",'Step 2) Calculate'!G1024,\"\")","v":""},{"$f":"IF(L1020<>\"\",'Step 2) Calculate'!F1024,\"\")","v":""},{"$f":"IF(L1020<>\"\",'Step 2) Calculate'!H1024,\"\")","v":""},{"$f":"IF(L1020<>\"\",'Step 2) Calculate'!C1024,\"\")","v":""}]
[null,null,null,null,null,null,null,null,null,null,{"$f":"IF(L1021<>\"\",'Step 2) Calculate'!B1025,\"Zzzzz - delete row\")","v":"Zzzzz - delete row"},{"$f":"IF('Step 2) Calculate'!E1025<>\"\",'Step 2) Calculate'!G1025,\"\")","v":""},{"$f":"IF(L1021<>\"\",'Step 2) Calculate'!F1025,\"\")","v":""},{"$f":"IF(L1021<>\"\",'Step 2) Calculate'!H1025,\"\")","v":""},{"$f":"IF(L1021<>\"\",'Step 2) Calculate'!C1025,\"\")","v":""}]
[null,null,null,null,null,null,null,null,null,null,{"$f":"IF(L1022<>\"\",'Step 2) Calculate'!B1026,\"Zzzzz - delete row\")","v":"Zzzzz - delete row"},{"$f":"IF('Step 2) Calculate'!E1026<>\"\",'Step 2) Calculate'!G1026,\"\")","v":""},{"$f":"IF(L1022<>\"\",'Step 2) Calculate'!F1026,\"\")","v":""},{"$f":"IF(L1022<>\"\",'Step 2) Calculate'!H1026,\"\")","v":""},{"$f":"IF(L1022<>\"\",'Step 2) Calculate'!C1026,\"\")","v":""}]
[null,null,null,null,null,null,null,null,null,null,{"$f":"IF(L1023<>\"\",'Step 2) Calculate'!B1027,\"Zzzzz - delete row\")","v":"Zzzzz - delete row"},{"$f":"IF('Step 2) Calculate'!E1027<>\"\",'Step 2) Calculate'!G1027,\"\")","v":""},{"$f":"IF(L1023<>\"\",'Step 2) Calculate'!F1027,\"\")","v":""},{"$f":"IF(L1023<>\"\",'Step 2) Calculate'!H1027,\"\")","v":""},{"$f":"IF(L1023<>\"\",'Step 2) Calculate'!C1027,\"\")","v":""}]
[null,null,null,null,null,null,null,null,null,null,{"$f":"IF(L1024<>\"\",'Step 2) Calculate'!B1028,\"Zzzzz - delete row\")","v":"Zzzzz - delete row"},{"$f":"IF('Step 2) Calculate'!E1028<>\"\",'Step 2) Calculate'!G1028,\"\")","v":""},{"$f":"IF(L1024<>\"\",'Step 2) Calculate'!F1028,\"\")","v":""},{"$f":"IF(L1024<>\"\",'Step 2) Calculate'!H1028,\"\")","v":""},{"$f":"IF(L1024<>\"\",'Step 2) Calculate'!C1028,\"\")","v":""}]
[null,null,null,null,null,null,null,null,null,null,{"$f":"IF(L1025<>\"\",'Step 2) Calculate'!B1029,\"Zzzzz - delete row\")","v":"Zzzzz - delete row"},{"$f":"IF('Step 2) Calculate'!E1029<>\"\",'Step 2) Calculate'!G1029,\"\")","v":""},{"$f":"IF(L1025<>\"\",'Step 2) Calculate'!F1029,\"\")","v":""},{"$f":"IF(L1025<>\"\",'Step 2) Calculate'!H1029,\"\")","v":""},{"$f":"IF(L1025<>\"\",'Step 2) Calculate'!C1029,\"\")","v":""}]
[null,null,null,null,null,null,null,null,null,null,{"$f":"IF(L1026<>\"\",'Step 2) Calculate'!B1030,\"Zzzzz - delete row\")","v":"Zzzzz - delete row"},{"$f":"IF('Step 2) Calculate'!E1030<>\"\",'Step 2) Calculate'!G1030,\"\")","v":""},{"$f":"IF(L1026<>\"\",'Step 2) Calculate'!F1030,\"\")","v":""},{"$f":"IF(L1026<>\"\",'Step 2) Calculate'!H1030,\"\")","v":""},{"$f":"IF(L1026<>\"\",'Step 2) Calculate'!C1030,\"\")","v":""}]
[null,null,null,null,null,null,null,null,null,null,{"$f":"IF(L1027<>\"\",'Step 2) Calculate'!B1031,\"Zzzzz - delete row\")","v":"Zzzzz - delete row"},{"$f":"IF('Step 2) Calculate'!E1031<>\"\",'Step 2) Calculate'!G1031,\"\")","v":""},{"$f":"IF(L1027<>\"\",'Step 2) Calculate'!F1031,\"\")","v":""},{"$f":"IF(L1027<>\"\",'Step 2) Calculate'!H1031,\"\")","v":""},{"$f":"IF(L1027<>\"\",'Step 2) Calculate'!C1031,\"\")","v":""}]
[null,null,null,null,null,null,null,null,null,null,{"$f":"IF(L1028<>\"\",'Step 2) Calculate'!B1032,\"Zzzzz - delete row\")","v":"Zzzzz - delete row"},{"$f":"IF('Step 2) Calculate'!E1032<>\"\",'Step 2) Calculate'!G1032,\"\")","v":""},{"$f":"IF(L1028<>\"\",'Step 2) Calculate'!F1032,\"\")","v":""},{"$f":"IF(L1028<>\"\",'Step 2) Calculate'!H1032,\"\")","v":""},{"$f":"IF(L1028<>\"\",'Step 2) Calculate'!C1032,\"\")","v":""}]
[null,null,null,null,null,null,null,null,null,null,{"$f":"IF(L1029<>\"\",'Step 2) Calculate'!B1033,\"Zzzzz - delete row\")","v":"Zzzzz - delete row"},{"$f":"IF('Step 2) Calculate'!E1033<>\"\",'Step 2) Calculate'!G1033,\"\")","v":""},{"$f":"IF(L1029<>\"\",'Step 2) Calculate'!F1033,\"\")","v":""},{"$f":"IF(L1029<>\"\",'Step 2) Calculate'!H1033,\"\")","v":""},{"$f":"IF(L1029<>\"\",'Step 2) Calculate'!C1033,\"\")","v":""}]
[null,null,null,null,null,null,null,null,null,null,{"$f":"IF(L1030<>\"\",'Step 2) Calculate'!B1034,\"Zzzzz - delete row\")","v":"Zzzzz - delete row"},{"$f":"IF('Step 2) Calculate'!E1034<>\"\",'Step 2) Calculate'!G1034,\"\")","v":""},{"$f":"IF(L1030<>\"\",'Step 2) Calculate'!F1034,\"\")","v":""},{"$f":"IF(L1030<>\"\",'Step 2) Calculate'!H1034,\"\")","v":""},{"$f":"IF(L1030<>\"\",'Step 2) Calculate'!C1034,\"\")","v":""}]
[null,null,null,null,null,null,null,null,null,null,{"$f":"IF(L1031<>\"\",'Step 2) Calculate'!B1035,\"Zzzzz - delete row\")","v":"Zzzzz - delete row"},{"$f":"IF('Step 2) Calculate'!E1035<>\"\",'Step 2) Calculate'!G1035,\"\")","v":""},{"$f":"IF(L1031<>\"\",'Step 2) Calculate'!F1035,\"\")","v":""},{"$f":"IF(L1031<>\"\",'Step 2) Calculate'!H1035,\"\")","v":""},{"$f":"IF(L1031<>\"\",'Step 2) Calculate'!C1035,\"\")","v":""}]
[null,null,null,null,null,null,null,null,null,null,{"$f":"IF(L1032<>\"\",'Step 2) Calculate'!B1036,\"Zzzzz - delete row\")","v":"Zzzzz - delete row"},{"$f":"IF('Step 2) Calculate'!E1036<>\"\",'Step 2) Calculate'!G1036,\"\")","v":""},{"$f":"IF(L1032<>\"\",'Step 2) Calculate'!F1036,\"\")","v":""},{"$f":"IF(L1032<>\"\",'Step 2) Calculate'!H1036,\"\")","v":""},{"$f":"IF(L1032<>\"\",'Step 2) Calculate'!C1036,\"\")","v":""}]
[null,null,null,null,null,null,null,null,null,null,{"$f":"IF(L1033<>\"\",'Step 2) Calculate'!B1037,\"Zzzzz - delete row\")","v":"Zzzzz - delete row"},{"$f":"IF('Step 2) Calculate'!E1037<>\"\",'Step 2) Calculate'!G1037,\"\")","v":""},{"$f":"IF(L1033<>\"\",'Step 2) Calculate'!F1037,\"\")","v":""},{"$f":"IF(L1033<>\"\",'Step 2) Calculate'!H1037,\"\")","v":""},{"$f":"IF(L1033<>\"\",'Step 2) Calculate'!C1037,\"\")","v":""}]
[null,null,null,null,null,null,null,null,null,null,{"$f":"IF(L1034<>\"\",'Step 2) Calculate'!B1038,\"Zzzzz - delete row\")","v":"Zzzzz - delete row"},{"$f":"IF('Step 2) Calculate'!E1038<>\"\",'Step 2) Calculate'!G1038,\"\")","v":""},{"$f":"IF(L1034<>\"\",'Step 2) Calculate'!F1038,\"\")","v":""},{"$f":"IF(L1034<>\"\",'Step 2) Calculate'!H1038,\"\")","v":""},{"$f":"IF(L1034<>\"\",'Step 2) Calculate'!C1038,\"\")","v":""}]
[null,null,null,null,null,null,null,null,null,null,{"$f":"IF(L1035<>\"\",'Step 2) Calculate'!B1039,\"Zzzzz - delete row\")","v":"Zzzzz - delete row"},{"$f":"IF('Step 2) Calculate'!E1039<>\"\",'Step 2) Calculate'!G1039,\"\")","v":""},{"$f":"IF(L1035<>\"\",'Step 2) Calculate'!F1039,\"\")","v":""},{"$f":"IF(L1035<>\"\",'Step 2) Calculate'!H1039,\"\")","v":""},{"$f":"IF(L1035<>\"\",'Step 2) Calculate'!C1039,\"\")","v":""}]
[null,null,null,null,null,null,null,null,null,null,{"$f":"IF(L1036<>\"\",'Step 2) Calculate'!B1040,\"Zzzzz - delete row\")","v":"Zzzzz - delete row"},{"$f":"IF('Step 2) Calculate'!E1040<>\"\",'Step 2) Calculate'!G1040,\"\")","v":""},{"$f":"IF(L1036<>\"\",'Step 2) Calculate'!F1040,\"\")","v":""},{"$f":"IF(L1036<>\"\",'Step 2) Calculate'!H1040,\"\")","v":""},{"$f":"IF(L1036<>\"\",'Step 2) Calculate'!C1040,\"\")","v":""}]
[null,null,null,null,null,null,null,null,null,null,{"$f":"IF(L1037<>\"\",'Step 2) Calculate'!B1041,\"Zzzzz - delete row\")","v":"Zzzzz - delete row"},{"$f":"IF('Step 2) Calculate'!E1041<>\"\",'Step 2) Calculate'!G1041,\"\")","v":""},{"$f":"IF(L1037<>\"\",'Step 2) Calculate'!F1041,\"\")","v":""},{"$f":"IF(L1037<>\"\",'Step 2) Calculate'!H1041,\"\")","v":""},{"$f":"IF(L1037<>\"\",'Step 2) Calculate'!C1041,\"\")","v":""}]
[null,null,null,null,null,null,null,null,null,null,{"$f":"IF(L1038<>\"\",'Step 2) Calculate'!B1042,\"Zzzzz - delete row\")","v":"Zzzzz - delete row"},{"$f":"IF('Step 2) Calculate'!E1042<>\"\",'Step 2) Calculate'!G1042,\"\")","v":""},{"$f":"IF(L1038<>\"\",'Step 2) Calculate'!F1042,\"\")","v":""},{"$f":"IF(L1038<>\"\",'Step 2) Calculate'!H1042,\"\")","v":""},{"$f":"IF(L1038<>\"\",'Step 2) Calculate'!C1042,\"\")","v":""}]
[null,null,null,null,null,null,null,null,null,null,{"$f":"IF(L1039<>\"\",'Step 2) Calculate'!B1043,\"Zzzzz - delete row\")","v":"Zzzzz - delete row"},{"$f":"IF('Step 2) Calculate'!E1043<>\"\",'Step 2) Calculate'!G1043,\"\")","v":""},{"$f":"IF(L1039<>\"\",'Step 2) Calculate'!F1043,\"\")","v":""},{"$f":"IF(L1039<>\"\",'Step 2) Calculate'!H1043,\"\")","v":""},{"$f":"IF(L1039<>\"\",'Step 2) Calculate'!C1043,\"\")","v":""}]
[null,null,null,null,null,null,null,null,null,null,{"$f":"IF(L1040<>\"\",'Step 2) Calculate'!B1044,\"Zzzzz - delete row\")","v":"Zzzzz - delete row"},{"$f":"IF('Step 2) Calculate'!E1044<>\"\",'Step 2) Calculate'!G1044,\"\")","v":""},{"$f":"IF(L1040<>\"\",'Step 2) Calculate'!F1044,\"\")","v":""},{"$f":"IF(L1040<>\"\",'Step 2) Calculate'!H1044,\"\")","v":""},{"$f":"IF(L1040<>\"\",'Step 2) Calculate'!C1044,\"\")","v":""}]
[null,null,null,null,null,null,null,null,null,null,{"$f":"IF(L1041<>\"\",'Step 2) Calculate'!B1045,\"Zzzzz - delete row\")","v":"Zzzzz - delete row"},{"$f":"IF('Step 2) Calculate'!E1045<>\"\",'Step 2) Calculate'!G1045,\"\")","v":""},{"$f":"IF(L1041<>\"\",'Step 2) Calculate'!F1045,\"\")","v":""},{"$f":"IF(L1041<>\"\",'Step 2) Calculate'!H1045,\"\")","v":""},{"$f":"IF(L1041<>\"\",'Step 2) Calculate'!C1045,\"\")","v":""}]
[null,null,null,null,null,null,null,null,null,null,{"$f":"IF(L1042<>\"\",'Step 2) Calculate'!B1046,\"Zzzzz - delete row\")","v":"Zzzzz - delete row"},{"$f":"IF('Step 2) Calculate'!E1046<>\"\",'Step 2) Calculate'!G1046,\"\")","v":""},{"$f":"IF(L1042<>\"\",'Step 2) Calculate'!F1046,\"\")","v":""},{"$f":"IF(L1042<>\"\",'Step 2) Calculate'!H1046,\"\")","v":""},{"$f":"IF(L1042<>\"\",'Step 2) Calculate'!C1046,\"\")","v":""}]
[null,null,null,null,null,null,null,null,null,null,{"$f":"IF(L1043<>\"\",'Step 2) Calculate'!B1047,\"Zzzzz - delete row\")","v":"Zzzzz - delete row"},{"$f":"IF('Step 2) Calculate'!E1047<>\"\",'Step 2) Calculate'!G1047,\"\")","v":""},{"$f":"IF(L1043<>\"\",'Step 2) Calculate'!F1047,\"\")","v":""},{"$f":"IF(L1043<>\"\",'Step 2) Calculate'!H1047,\"\")","v":""},{"$f":"IF(L1043<>\"\",'Step 2) Calculate'!C1047,\"\")","v":""}]
[null,null,null,null,null,null,null,null,null,null,{"$f":"IF(L1044<>\"\",'Step 2) Calculate'!B1048,\"Zzzzz - delete row\")","v":"Zzzzz - delete row"},{"$f":"IF('Step 2) Calculate'!E1048<>\"\",'Step 2) Calculate'!G1048,\"\")","v":""},{"$f":"IF(L1044<>\"\",'Step 2) Calculate'!F1048,\"\")","v":""},{"$f":"IF(L1044<>\"\",'Step 2) Calculate'!H1048,\"\")","v":""},{"$f":"IF(L1044<>\"\",'Step 2) Calculate'!C1048,\"\")","v":""}]
[null,null,null,null,null,null,null,null,null,null,{"$f":"IF(L1045<>\"\",'Step 2) Calculate'!B1049,\"Zzzzz - delete row\")","v":"Zzzzz - delete row"},{"$f":"IF('Step 2) Calculate'!E1049<>\"\",'Step 2) Calculate'!G1049,\"\")","v":""},{"$f":"IF(L1045<>\"\",'Step 2) Calculate'!F1049,\"\")","v":""},{"$f":"IF(L1045<>\"\",'Step 2) Calculate'!H1049,\"\")","v":""},{"$f":"IF(L1045<>\"\",'Step 2) Calculate'!C1049,\"\")","v":""}]
[null,null,null,null,null,null,null,null,null,null,{"$f":"IF(L1046<>\"\",'Step 2) Calculate'!B1050,\"Zzzzz - delete row\")","v":"Zzzzz - delete row"},{"$f":"IF('Step 2) Calculate'!E1050<>\"\",'Step 2) Calculate'!G1050,\"\")","v":""},{"$f":"IF(L1046<>\"\",'Step 2) Calculate'!F1050,\"\")","v":""},{"$f":"IF(L1046<>\"\",'Step 2) Calculate'!H1050,\"\")","v":""},{"$f":"IF(L1046<>\"\",'Step 2) Calculate'!C1050,\"\")","v":""}]
[null,null,null,null,null,null,null,null,null,null,{"$f":"IF(L1047<>\"\",'Step 2) Calculate'!B1051,\"Zzzzz - delete row\")","v":"Zzzzz - delete row"},{"$f":"IF('Step 2) Calculate'!E1051<>\"\",'Step 2) Calculate'!G1051,\"\")","v":""},{"$f":"IF(L1047<>\"\",'Step 2) Calculate'!F1051,\"\")","v":""},{"$f":"IF(L1047<>\"\",'Step 2) Calculate'!H1051,\"\")","v":""},{"$f":"IF(L1047<>\"\",'Step 2) Calculate'!C1051,\"\")","v":""}]
[null,null,null,null,null,null,null,null,null,null,{"$f":"IF(L1048<>\"\",'Step 2) Calculate'!B1052,\"Zzzzz - delete row\")","v":"Zzzzz - delete row"},{"$f":"IF('Step 2) Calculate'!E1052<>\"\",'Step 2) Calculate'!G1052,\"\")","v":""},{"$f":"IF(L1048<>\"\",'Step 2) Calculate'!F1052,\"\")","v":""},{"$f":"IF(L1048<>\"\",'Step 2) Calculate'!H1052,\"\")","v":""},{"$f":"IF(L1048<>\"\",'Step 2) Calculate'!C1052,\"\")","v":""}]
[null,null,null,null,null,null,null,null,null,null,{"$f":"IF(L1049<>\"\",'Step 2) Calculate'!B1053,\"Zzzzz - delete row\")","v":"Zzzzz - delete row"},{"$f":"IF('Step 2) Calculate'!E1053<>\"\",'Step 2) Calculate'!G1053,\"\")","v":""},{"$f":"IF(L1049<>\"\",'Step 2) Calculate'!F1053,\"\")","v":""},{"$f":"IF(L1049<>\"\",'Step 2) Calculate'!H1053,\"\")","v":""},{"$f":"IF(L1049<>\"\",'Step 2) Calculate'!C1053,\"\")","v":""}]
[null,null,null,null,null,null,null,null,null,null,{"$f":"IF(L1050<>\"\",'Step 2) Calculate'!B1054,\"Zzzzz - delete row\")","v":"Zzzzz - delete row"},{"$f":"IF('Step 2) Calculate'!E1054<>\"\",'Step 2) Calculate'!G1054,\"\")","v":""},{"$f":"IF(L1050<>\"\",'Step 2) Calculate'!F1054,\"\")","v":""},{"$f":"IF(L1050<>\"\",'Step 2) Calculate'!H1054,\"\")","v":""},{"$f":"IF(L1050<>\"\",'Step 2) Calculate'!C1054,\"\")","v":""}]
[null,null,null,null,null,null,null,null,null,null,{"$f":"IF(L1051<>\"\",'Step 2) Calculate'!B1055,\"Zzzzz - delete row\")","v":"Zzzzz - delete row"},{"$f":"IF('Step 2) Calculate'!E1055<>\"\",'Step 2) Calculate'!G1055,\"\")","v":""},{"$f":"IF(L1051<>\"\",'Step 2) Calculate'!F1055,\"\")","v":""},{"$f":"IF(L1051<>\"\",'Step 2) Calculate'!H1055,\"\")","v":""},{"$f":"IF(L1051<>\"\",'Step 2) Calculate'!C1055,\"\")","v":""}]
[null,null,null,null,null,null,null,null,null,null,{"$f":"IF(L1052<>\"\",'Step 2) Calculate'!B1056,\"Zzzzz - delete row\")","v":"Zzzzz - delete row"},{"$f":"IF('Step 2) Calculate'!E1056<>\"\",'Step 2) Calculate'!G1056,\"\")","v":""},{"$f":"IF(L1052<>\"\",'Step 2) Calculate'!F1056,\"\")","v":""},{"$f":"IF(L1052<>\"\",'Step 2) Calculate'!H1056,\"\")","v":""},{"$f":"IF(L1052<>\"\",'Step 2) Calculate'!C1056,\"\")","v":""}]
[null,null,null,null,null,null,null,null,null,null,{"$f":"IF(L1053<>\"\",'Step 2) Calculate'!B1057,\"Zzzzz - delete row\")","v":"Zzzzz - delete row"},{"$f":"IF('Step 2) Calculate'!E1057<>\"\",'Step 2) Calculate'!G1057,\"\")","v":""},{"$f":"IF(L1053<>\"\",'Step 2) Calculate'!F1057,\"\")","v":""},{"$f":"IF(L1053<>\"\",'Step 2) Calculate'!H1057,\"\")","v":""},{"$f":"IF(L1053<>\"\",'Step 2) Calculate'!C1057,\"\")","v":""}]
[null,null,null,null,null,null,null,null,null,null,{"$f":"IF(L1054<>\"\",'Step 2) Calculate'!B1058,\"Zzzzz - delete row\")","v":"Zzzzz - delete row"},{"$f":"IF('Step 2) Calculate'!E1058<>\"\",'Step 2) Calculate'!G1058,\"\")","v":""},{"$f":"IF(L1054<>\"\",'Step 2) Calculate'!F1058,\"\")","v":""},{"$f":"IF(L1054<>\"\",'Step 2) Calculate'!H1058,\"\")","v":""},{"$f":"IF(L1054<>\"\",'Step 2) Calculate'!C1058,\"\")","v":""}]
[null,null,null,null,null,null,null,null,null,null,{"$f":"IF(L1055<>\"\",'Step 2) Calculate'!B1059,\"Zzzzz - delete row\")","v":"Zzzzz - delete row"},{"$f":"IF('Step 2) Calculate'!E1059<>\"\",'Step 2) Calculate'!G1059,\"\")","v":""},{"$f":"IF(L1055<>\"\",'Step 2) Calculate'!F1059,\"\")","v":""},{"$f":"IF(L1055<>\"\",'Step 2) Calculate'!H1059,\"\")","v":""},{"$f":"IF(L1055<>\"\",'Step 2) Calculate'!C1059,\"\")","v":""}]
[null,null,null,null,null,null,null,null,null,null,{"$f":"IF(L1056<>\"\",'Step 2) Calculate'!B1060,\"Zzzzz - delete row\")","v":"Zzzzz - delete row"},{"$f":"IF('Step 2) Calculate'!E1060<>\"\",'Step 2) Calculate'!G1060,\"\")","v":""},{"$f":"IF(L1056<>\"\",'Step 2) Calculate'!F1060,\"\")","v":""},{"$f":"IF(L1056<>\"\",'Step 2) Calculate'!H1060,\"\")","v":""},{"$f":"IF(L1056<>\"\",'Step 2) Calculate'!C1060,\"\")","v":""}]
[null,null,null,null,null,null,null,null,null,null,{"$f":"IF(L1057<>\"\",'Step 2) Calculate'!B1061,\"Zzzzz - delete row\")","v":"Zzzzz - delete row"},{"$f":"IF('Step 2) Calculate'!E1061<>\"\",'Step 2) Calculate'!G1061,\"\")","v":""},{"$f":"IF(L1057<>\"\",'Step 2) Calculate'!F1061,\"\")","v":""},{"$f":"IF(L1057<>\"\",'Step 2) Calculate'!H1061,\"\")","v":""},{"$f":"IF(L1057<>\"\",'Step 2) Calculate'!C1061,\"\")","v":""}]
[null,null,null,null,null,null,null,null,null,null,{"$f":"IF(L1058<>\"\",'Step 2) Calculate'!B1062,\"Zzzzz - delete row\")","v":"Zzzzz - delete row"},{"$f":"IF('Step 2) Calculate'!E1062<>\"\",'Step 2) Calculate'!G1062,\"\")","v":""},{"$f":"IF(L1058<>\"\",'Step 2) Calculate'!F1062,\"\")","v":""},{"$f":"IF(L1058<>\"\",'Step 2) Calculate'!H1062,\"\")","v":""},{"$f":"IF(L1058<>\"\",'Step 2) Calculate'!C1062,\"\")","v":""}]
[null,null,null,null,null,null,null,null,null,null,{"$f":"IF(L1059<>\"\",'Step 2) Calculate'!B1063,\"Zzzzz - delete row\")","v":"Zzzzz - delete row"},{"$f":"IF('Step 2) Calculate'!E1063<>\"\",'Step 2) Calculate'!G1063,\"\")","v":""},{"$f":"IF(L1059<>\"\",'Step 2) Calculate'!F1063,\"\")","v":""},{"$f":"IF(L1059<>\"\",'Step 2) Calculate'!H1063,\"\")","v":""},{"$f":"IF(L1059<>\"\",'Step 2) Calculate'!C1063,\"\")","v":""}]
[null,null,null,null,null,null,null,null,null,null,{"$f":"IF(L1060<>\"\",'Step 2) Calculate'!B1064,\"Zzzzz - delete row\")","v":"Zzzzz - delete row"},{"$f":"IF('Step 2) Calculate'!E1064<>\"\",'Step 2) Calculate'!G1064,\"\")","v":""},{"$f":"IF(L1060<>\"\",'Step 2) Calculate'!F1064,\"\")","v":""},{"$f":"IF(L1060<>\"\",'Step 2) Calculate'!H1064,\"\")","v":""},{"$f":"IF(L1060<>\"\",'Step 2) Calculate'!C1064,\"\")","v":""}]
[null,null,null,null,null,null,null,null,null,null,{"$f":"IF(L1061<>\"\",'Step 2) Calculate'!B1065,\"Zzzzz - delete row\")","v":"Zzzzz - delete row"},{"$f":"IF('Step 2) Calculate'!E1065<>\"\",'Step 2) Calculate'!G1065,\"\")","v":""},{"$f":"IF(L1061<>\"\",'Step 2) Calculate'!F1065,\"\")","v":""},{"$f":"IF(L1061<>\"\",'Step 2) Calculate'!H1065,\"\")","v":""},{"$f":"IF(L1061<>\"\",'Step 2) Calculate'!C1065,\"\")","v":""}]
[null,null,null,null,null,null,null,null,null,null,{"$f":"IF(L1062<>\"\",'Step 2) Calculate'!B1066,\"Zzzzz - delete row\")","v":"Zzzzz - delete row"},{"$f":"IF('Step 2) Calculate'!E1066<>\"\",'Step 2) Calculate'!G1066,\"\")","v":""},{"$f":"IF(L1062<>\"\",'Step 2) Calculate'!F1066,\"\")","v":""},{"$f":"IF(L1062<>\"\",'Step 2) Calculate'!H1066,\"\")","v":""},{"$f":"IF(L1062<>\"\",'Step 2) Calculate'!C1066,\"\")","v":""}]
[null,null,null,null,null,null,null,null,null,null,{"$f":"IF(L1063<>\"\",'Step 2) Calculate'!B1067,\"Zzzzz - delete row\")","v":"Zzzzz - delete row"},{"$f":"IF('Step 2) Calculate'!E1067<>\"\",'Step 2) Calculate'!G1067,\"\")","v":""},{"$f":"IF(L1063<>\"\",'Step 2) Calculate'!F1067,\"\")","v":""},{"$f":"IF(L1063<>\"\",'Step 2) Calculate'!H1067,\"\")","v":""},{"$f":"IF(L1063<>\"\",'Step 2) Calculate'!C1067,\"\")","v":""}]
[null,null,null,null,null,null,null,null,null,null,{"$f":"IF(L1064<>\"\",'Step 2) Calculate'!B1068,\"Zzzzz - delete row\")","v":"Zzzzz - delete row"},{"$f":"IF('Step 2) Calculate'!E1068<>\"\",'Step 2) Calculate'!G1068,\"\")","v":""},{"$f":"IF(L1064<>\"\",'Step 2) Calculate'!F1068,\"\")","v":""},{"$f":"IF(L1064<>\"\",'Step 2) Calculate'!H1068,\"\")","v":""},{"$f":"IF(L1064<>\"\",'Step 2) Calculate'!C1068,\"\")","v":""}]
[null,null,null,null,null,null,null,null,null,null,{"$f":"IF(L1065<>\"\",'Step 2) Calculate'!B1069,\"Zzzzz - delete row\")","v":"Zzzzz - delete row"},{"$f":"IF('Step 2) Calculate'!E1069<>\"\",'Step 2) Calculate'!G1069,\"\")","v":""},{"$f":"IF(L1065<>\"\",'Step 2) Calculate'!F1069,\"\")","v":""},{"$f":"IF(L1065<>\"\",'Step 2) Calculate'!H1069,\"\")","v":""},{"$f":"IF(L1065<>\"\",'Step 2) Calculate'!C1069,\"\")","v":""}]
[null,null,null,null,null,null,null,null,null,null,{"$f":"IF(L1066<>\"\",'Step 2) Calculate'!B1070,\"Zzzzz - delete row\")","v":"Zzzzz - delete row"},{"$f":"IF('Step 2) Calculate'!E1070<>\"\",'Step 2) Calculate'!G1070,\"\")","v":""},{"$f":"IF(L1066<>\"\",'Step 2) Calculate'!F1070,\"\")","v":""},{"$f":"IF(L1066<>\"\",'Step 2) Calculate'!H1070,\"\")","v":""},{"$f":"IF(L1066<>\"\",'Step 2) Calculate'!C1070,\"\")","v":""}]
[null,null,null,null,null,null,null,null,null,null,{"$f":"IF(L1067<>\"\",'Step 2) Calculate'!B1071,\"Zzzzz - delete row\")","v":"Zzzzz - delete row"},{"$f":"IF('Step 2) Calculate'!E1071<>\"\",'Step 2) Calculate'!G1071,\"\")","v":""},{"$f":"IF(L1067<>\"\",'Step 2) Calculate'!F1071,\"\")","v":""},{"$f":"IF(L1067<>\"\",'Step 2) Calculate'!H1071,\"\")","v":""},{"$f":"IF(L1067<>\"\",'Step 2) Calculate'!C1071,\"\")","v":""}]
[null,null,null,null,null,null,null,null,null,null,{"$f":"IF(L1068<>\"\",'Step 2) Calculate'!B1072,\"Zzzzz - delete row\")","v":"Zzzzz - delete row"},{"$f":"IF('Step 2) Calculate'!E1072<>\"\",'Step 2) Calculate'!G1072,\"\")","v":""},{"$f":"IF(L1068<>\"\",'Step 2) Calculate'!F1072,\"\")","v":""},{"$f":"IF(L1068<>\"\",'Step 2) Calculate'!H1072,\"\")","v":""},{"$f":"IF(L1068<>\"\",'Step 2) Calculate'!C1072,\"\")","v":""}]
[null,null,null,null,null,null,null,null,null,null,{"$f":"IF(L1069<>\"\",'Step 2) Calculate'!B1073,\"Zzzzz - delete row\")","v":"Zzzzz - delete row"},{"$f":"IF('Step 2) Calculate'!E1073<>\"\",'Step 2) Calculate'!G1073,\"\")","v":""},{"$f":"IF(L1069<>\"\",'Step 2) Calculate'!F1073,\"\")","v":""},{"$f":"IF(L1069<>\"\",'Step 2) Calculate'!H1073,\"\")","v":""},{"$f":"IF(L1069<>\"\",'Step 2) Calculate'!C1073,\"\")","v":""}]
[null,null,null,null,null,null,null,null,null,null,{"$f":"IF(L1070<>\"\",'Step 2) Calculate'!B1074,\"Zzzzz - delete row\")","v":"Zzzzz - delete row"},{"$f":"IF('Step 2) Calculate'!E1074<>\"\",'Step 2) Calculate'!G1074,\"\")","v":""},{"$f":"IF(L1070<>\"\",'Step 2) Calculate'!F1074,\"\")","v":""},{"$f":"IF(L1070<>\"\",'Step 2) Calculate'!H1074,\"\")","v":""},{"$f":"IF(L1070<>\"\",'Step 2) Calculate'!C1074,\"\")","v":""}]
[null,null,null,null,null,null,null,null,null,null,{"$f":"IF(L1071<>\"\",'Step 2) Calculate'!B1075,\"Zzzzz - delete row\")","v":"Zzzzz - delete row"},{"$f":"IF('Step 2) Calculate'!E1075<>\"\",'Step 2) Calculate'!G1075,\"\")","v":""},{"$f":"IF(L1071<>\"\",'Step 2) Calculate'!F1075,\"\")","v":""},{"$f":"IF(L1071<>\"\",'Step 2) Calculate'!H1075,\"\")","v":""},{"$f":"IF(L1071<>\"\",'Step 2) Calculate'!C1075,\"\")","v":""}]
[null,null,null,null,null,null,null,null,null,null,{"$f":"IF(L1072<>\"\",'Step 2) Calculate'!B1076,\"Zzzzz - delete row\")","v":"Zzzzz - delete row"},{"$f":"IF('Step 2) Calculate'!E1076<>\"\",'Step 2) Calculate'!G1076,\"\")","v":""},{"$f":"IF(L1072<>\"\",'Step 2) Calculate'!F1076,\"\")","v":""},{"$f":"IF(L1072<>\"\",'Step 2) Calculate'!H1076,\"\")","v":""},{"$f":"IF(L1072<>\"\",'Step 2) Calculate'!C1076,\"\")","v":""}]
[null,null,null,null,null,null,null,null,null,null,{"$f":"IF(L1073<>\"\",'Step 2) Calculate'!B1077,\"Zzzzz - delete row\")","v":"Zzzzz - delete row"},{"$f":"IF('Step 2) Calculate'!E1077<>\"\",'Step 2) Calculate'!G1077,\"\")","v":""},{"$f":"IF(L1073<>\"\",'Step 2) Calculate'!F1077,\"\")","v":""},{"$f":"IF(L1073<>\"\",'Step 2) Calculate'!H1077,\"\")","v":""},{"$f":"IF(L1073<>\"\",'Step 2) Calculate'!C1077,\"\")","v":""}]
[null,null,null,null,null,null,null,null,null,null,{"$f":"IF(L1074<>\"\",'Step 2) Calculate'!B1078,\"Zzzzz - delete row\")","v":"Zzzzz - delete row"},{"$f":"IF('Step 2) Calculate'!E1078<>\"\",'Step 2) Calculate'!G1078,\"\")","v":""},{"$f":"IF(L1074<>\"\",'Step 2) Calculate'!F1078,\"\")","v":""},{"$f":"IF(L1074<>\"\",'Step 2) Calculate'!H1078,\"\")","v":""},{"$f":"IF(L1074<>\"\",'Step 2) Calculate'!C1078,\"\")","v":""}]
[null,null,null,null,null,null,null,null,null,null,{"$f":"IF(L1075<>\"\",'Step 2) Calculate'!B1079,\"Zzzzz - delete row\")","v":"Zzzzz - delete row"},{"$f":"IF('Step 2) Calculate'!E1079<>\"\",'Step 2) Calculate'!G1079,\"\")","v":""},{"$f":"IF(L1075<>\"\",'Step 2) Calculate'!F1079,\"\")","v":""},{"$f":"IF(L1075<>\"\",'Step 2) Calculate'!H1079,\"\")","v":""},{"$f":"IF(L1075<>\"\",'Step 2) Calculate'!C1079,\"\")","v":""}]
[null,null,null,null,null,null,null,null,null,null,{"$f":"IF(L1076<>\"\",'Step 2) Calculate'!B1080,\"Zzzzz - delete row\")","v":"Zzzzz - delete row"},{"$f":"IF('Step 2) Calculate'!E1080<>\"\",'Step 2) Calculate'!G1080,\"\")","v":""},{"$f":"IF(L1076<>\"\",'Step 2) Calculate'!F1080,\"\")","v":""},{"$f":"IF(L1076<>\"\",'Step 2) Calculate'!H1080,\"\")","v":""},{"$f":"IF(L1076<>\"\",'Step 2) Calculate'!C1080,\"\")","v":""}]
[null,null,null,null,null,null,null,null,null,null,{"$f":"IF(L1077<>\"\",'Step 2) Calculate'!B1081,\"Zzzzz - delete row\")","v":"Zzzzz - delete row"},{"$f":"IF('Step 2) Calculate'!E1081<>\"\",'Step 2) Calculate'!G1081,\"\")","v":""},{"$f":"IF(L1077<>\"\",'Step 2) Calculate'!F1081,\"\")","v":""},{"$f":"IF(L1077<>\"\",'Step 2) Calculate'!H1081,\"\")","v":""},{"$f":"IF(L1077<>\"\",'Step 2) Calculate'!C1081,\"\")","v":""}]
[null,null,null,null,null,null,null,null,null,null,{"$f":"IF(L1078<>\"\",'Step 2) Calculate'!B1082,\"Zzzzz - delete row\")","v":"Zzzzz - delete row"},{"$f":"IF('Step 2) Calculate'!E1082<>\"\",'Step 2) Calculate'!G1082,\"\")","v":""},{"$f":"IF(L1078<>\"\",'Step 2) Calculate'!F1082,\"\")","v":""},{"$f":"IF(L1078<>\"\",'Step 2) Calculate'!H1082,\"\")","v":""},{"$f":"IF(L1078<>\"\",'Step 2) Calculate'!C1082,\"\")","v":""}]
[null,null,null,null,null,null,null,null,null,null,{"$f":"IF(L1079<>\"\",'Step 2) Calculate'!B1083,\"Zzzzz - delete row\")","v":"Zzzzz - delete row"},{"$f":"IF('Step 2) Calculate'!E1083<>\"\",'Step 2) Calculate'!G1083,\"\")","v":""},{"$f":"IF(L1079<>\"\",'Step 2) Calculate'!F1083,\"\")","v":""},{"$f":"IF(L1079<>\"\",'Step 2) Calculate'!H1083,\"\")","v":""},{"$f":"IF(L1079<>\"\",'Step 2) Calculate'!C1083,\"\")","v":""}]
[null,null,null,null,null,null,null,null,null,null,{"$f":"IF(L1080<>\"\",'Step 2) Calculate'!B1084,\"Zzzzz - delete row\")","v":"Zzzzz - delete row"},{"$f":"IF('Step 2) Calculate'!E1084<>\"\",'Step 2) Calculate'!G1084,\"\")","v":""},{"$f":"IF(L1080<>\"\",'Step 2) Calculate'!F1084,\"\")","v":""},{"$f":"IF(L1080<>\"\",'Step 2) Calculate'!H1084,\"\")","v":""},{"$f":"IF(L1080<>\"\",'Step 2) Calculate'!C1084,\"\")","v":""}]
[null,null,null,null,null,null,null,null,null,null,{"$f":"IF(L1081<>\"\",'Step 2) Calculate'!B1085,\"Zzzzz - delete row\")","v":"Zzzzz - delete row"},{"$f":"IF('Step 2) Calculate'!E1085<>\"\",'Step 2) Calculate'!G1085,\"\")","v":""},{"$f":"IF(L1081<>\"\",'Step 2) Calculate'!F1085,\"\")","v":""},{"$f":"IF(L1081<>\"\",'Step 2) Calculate'!H1085,\"\")","v":""},{"$f":"IF(L1081<>\"\",'Step 2) Calculate'!C1085,\"\")","v":""}]
[null,null,null,null,null,null,null,null,null,null,{"$f":"IF(L1082<>\"\",'Step 2) Calculate'!B1086,\"Zzzzz - delete row\")","v":"Zzzzz - delete row"},{"$f":"IF('Step 2) Calculate'!E1086<>\"\",'Step 2) Calculate'!G1086,\"\")","v":""},{"$f":"IF(L1082<>\"\",'Step 2) Calculate'!F1086,\"\")","v":""},{"$f":"IF(L1082<>\"\",'Step 2) Calculate'!H1086,\"\")","v":""},{"$f":"IF(L1082<>\"\",'Step 2) Calculate'!C1086,\"\")","v":""}]
[null,null,null,null,null,null,null,null,null,null,{"$f":"IF(L1083<>\"\",'Step 2) Calculate'!B1087,\"Zzzzz - delete row\")","v":"Zzzzz - delete row"},{"$f":"IF('Step 2) Calculate'!E1087<>\"\",'Step 2) Calculate'!G1087,\"\")","v":""},{"$f":"IF(L1083<>\"\",'Step 2) Calculate'!F1087,\"\")","v":""},{"$f":"IF(L1083<>\"\",'Step 2) Calculate'!H1087,\"\")","v":""},{"$f":"IF(L1083<>\"\",'Step 2) Calculate'!C1087,\"\")","v":""}]
[null,null,null,null,null,null,null,null,null,null,{"$f":"IF(L1084<>\"\",'Step 2) Calculate'!B1088,\"Zzzzz - delete row\")","v":"Zzzzz - delete row"},{"$f":"IF('Step 2) Calculate'!E1088<>\"\",'Step 2) Calculate'!G1088,\"\")","v":""},{"$f":"IF(L1084<>\"\",'Step 2) Calculate'!F1088,\"\")","v":""},{"$f":"IF(L1084<>\"\",'Step 2) Calculate'!H1088,\"\")","v":""},{"$f":"IF(L1084<>\"\",'Step 2) Calculate'!C1088,\"\")","v":""}]
[null,null,null,null,null,null,null,null,null,null,{"$f":"IF(L1085<>\"\",'Step 2) Calculate'!B1089,\"Zzzzz - delete row\")","v":"Zzzzz - delete row"},{"$f":"IF('Step 2) Calculate'!E1089<>\"\",'Step 2) Calculate'!G1089,\"\")","v":""},{"$f":"IF(L1085<>\"\",'Step 2) Calculate'!F1089,\"\")","v":""},{"$f":"IF(L1085<>\"\",'Step 2) Calculate'!H1089,\"\")","v":""},{"$f":"IF(L1085<>\"\",'Step 2) Calculate'!C1089,\"\")","v":""}]
[null,null,null,null,null,null,null,null,null,null,{"$f":"IF(L1086<>\"\",'Step 2) Calculate'!B1090,\"Zzzzz - delete row\")","v":"Zzzzz - delete row"},{"$f":"IF('Step 2) Calculate'!E1090<>\"\",'Step 2) Calculate'!G1090,\"\")","v":""},{"$f":"IF(L1086<>\"\",'Step 2) Calculate'!F1090,\"\")","v":""},{"$f":"IF(L1086<>\"\",'Step 2) Calculate'!H1090,\"\")","v":""},{"$f":"IF(L1086<>\"\",'Step 2) Calculate'!C1090,\"\")","v":""}]
[null,null,null,null,null,null,null,null,null,null,{"$f":"IF(L1087<>\"\",'Step 2) Calculate'!B1091,\"Zzzzz - delete row\")","v":"Zzzzz - delete row"},{"$f":"IF('Step 2) Calculate'!E1091<>\"\",'Step 2) Calculate'!G1091,\"\")","v":""},{"$f":"IF(L1087<>\"\",'Step 2) Calculate'!F1091,\"\")","v":""},{"$f":"IF(L1087<>\"\",'Step 2) Calculate'!H1091,\"\")","v":""},{"$f":"IF(L1087<>\"\",'Step 2) Calculate'!C1091,\"\")","v":""}]
[null,null,null,null,null,null,null,null,null,null,{"$f":"IF(L1088<>\"\",'Step 2) Calculate'!B1092,\"Zzzzz - delete row\")","v":"Zzzzz - delete row"},{"$f":"IF('Step 2) Calculate'!E1092<>\"\",'Step 2) Calculate'!G1092,\"\")","v":""},{"$f":"IF(L1088<>\"\",'Step 2) Calculate'!F1092,\"\")","v":""},{"$f":"IF(L1088<>\"\",'Step 2) Calculate'!H1092,\"\")","v":""},{"$f":"IF(L1088<>\"\",'Step 2) Calculate'!C1092,\"\")","v":""}]
[null,null,null,null,null,null,null,null,null,null,{"$f":"IF(L1089<>\"\",'Step 2) Calculate'!B1093,\"Zzzzz - delete row\")","v":"Zzzzz - delete row"},{"$f":"IF('Step 2) Calculate'!E1093<>\"\",'Step 2) Calculate'!G1093,\"\")","v":""},{"$f":"IF(L1089<>\"\",'Step 2) Calculate'!F1093,\"\")","v":""},{"$f":"IF(L1089<>\"\",'Step 2) Calculate'!H1093,\"\")","v":""},{"$f":"IF(L1089<>\"\",'Step 2) Calculate'!C1093,\"\")","v":""}]
[null,null,null,null,null,null,null,null,null,null,{"$f":"IF(L1090<>\"\",'Step 2) Calculate'!B1094,\"Zzzzz - delete row\")","v":"Zzzzz - delete row"},{"$f":"IF('Step 2) Calculate'!E1094<>\"\",'Step 2) Calculate'!G1094,\"\")","v":""},{"$f":"IF(L1090<>\"\",'Step 2) Calculate'!F1094,\"\")","v":""},{"$f":"IF(L1090<>\"\",'Step 2) Calculate'!H1094,\"\")","v":""},{"$f":"IF(L1090<>\"\",'Step 2) Calculate'!C1094,\"\")","v":""}]
[null,null,null,null,null,null,null,null,null,null,{"$f":"IF(L1091<>\"\",'Step 2) Calculate'!B1095,\"Zzzzz - delete row\")","v":"Zzzzz - delete row"},{"$f":"IF('Step 2) Calculate'!E1095<>\"\",'Step 2) Calculate'!G1095,\"\")","v":""},{"$f":"IF(L1091<>\"\",'Step 2) Calculate'!F1095,\"\")","v":""},{"$f":"IF(L1091<>\"\",'Step 2) Calculate'!H1095,\"\")","v":""},{"$f":"IF(L1091<>\"\",'Step 2) Calculate'!C1095,\"\")","v":""}]
[null,null,null,null,null,null,null,null,null,null,{"$f":"IF(L1092<>\"\",'Step 2) Calculate'!B1096,\"Zzzzz - delete row\")","v":"Zzzzz - delete row"},{"$f":"IF('Step 2) Calculate'!E1096<>\"\",'Step 2) Calculate'!G1096,\"\")","v":""},{"$f":"IF(L1092<>\"\",'Step 2) Calculate'!F1096,\"\")","v":""},{"$f":"IF(L1092<>\"\",'Step 2) Calculate'!H1096,\"\")","v":""},{"$f":"IF(L1092<>\"\",'Step 2) Calculate'!C1096,\"\")","v":""}]
[null,null,null,null,null,null,null,null,null,null,{"$f":"IF(L1093<>\"\",'Step 2) Calculate'!B1097,\"Zzzzz - delete row\")","v":"Zzzzz - delete row"},{"$f":"IF('Step 2) Calculate'!E1097<>\"\",'Step 2) Calculate'!G1097,\"\")","v":""},{"$f":"IF(L1093<>\"\",'Step 2) Calculate'!F1097,\"\")","v":""},{"$f":"IF(L1093<>\"\",'Step 2) Calculate'!H1097,\"\")","v":""},{"$f":"IF(L1093<>\"\",'Step 2) Calculate'!C1097,\"\")","v":""}]
[null,null,null,null,null,null,null,null,null,null,{"$f":"IF(L1094<>\"\",'Step 2) Calculate'!B1098,\"Zzzzz - delete row\")","v":"Zzzzz - delete row"},{"$f":"IF('Step 2) Calculate'!E1098<>\"\",'Step 2) Calculate'!G1098,\"\")","v":""},{"$f":"IF(L1094<>\"\",'Step 2) Calculate'!F1098,\"\")","v":""},{"$f":"IF(L1094<>\"\",'Step 2) Calculate'!H1098,\"\")","v":""},{"$f":"IF(L1094<>\"\",'Step 2) Calculate'!C1098,\"\")","v":""}]
[null,null,null,null,null,null,null,null,null,null,{"$f":"IF(L1095<>\"\",'Step 2) Calculate'!B1099,\"Zzzzz - delete row\")","v":"Zzzzz - delete row"},{"$f":"IF('Step 2) Calculate'!E1099<>\"\",'Step 2) Calculate'!G1099,\"\")","v":""},{"$f":"IF(L1095<>\"\",'Step 2) Calculate'!F1099,\"\")","v":""},{"$f":"IF(L1095<>\"\",'Step 2) Calculate'!H1099,\"\")","v":""},{"$f":"IF(L1095<>\"\",'Step 2) Calculate'!C1099,\"\")","v":""}]
[null,null,null,null,null,null,null,null,null,null,{"$f":"IF(L1096<>\"\",'Step 2) Calculate'!B1100,\"Zzzzz - delete row\")","v":"Zzzzz - delete row"},{"$f":"IF('Step 2) Calculate'!E1100<>\"\",'Step 2) Calculate'!G1100,\"\")","v":""},{"$f":"IF(L1096<>\"\",'Step 2) Calculate'!F1100,\"\")","v":""},{"$f":"IF(L1096<>\"\",'Step 2) Calculate'!H1100,\"\")","v":""},{"$f":"IF(L1096<>\"\",'Step 2) Calculate'!C1100,\"\")","v":""}]
[null,null,null,null,null,null,null,null,null,null,{"$f":"IF(L1097<>\"\",'Step 2) Calculate'!B1101,\"Zzzzz - delete row\")","v":"Zzzzz - delete row"},{"$f":"IF('Step 2) Calculate'!E1101<>\"\",'Step 2) Calculate'!G1101,\"\")","v":""},{"$f":"IF(L1097<>\"\",'Step 2) Calculate'!F1101,\"\")","v":""},{"$f":"IF(L1097<>\"\",'Step 2) Calculate'!H1101,\"\")","v":""},{"$f":"IF(L1097<>\"\",'Step 2) Calculate'!C1101,\"\")","v":""}]
[null,null,null,null,null,null,null,null,null,null,{"$f":"IF(L1098<>\"\",'Step 2) Calculate'!B1102,\"Zzzzz - delete row\")","v":"Zzzzz - delete row"},{"$f":"IF('Step 2) Calculate'!E1102<>\"\",'Step 2) Calculate'!G1102,\"\")","v":""},{"$f":"IF(L1098<>\"\",'Step 2) Calculate'!F1102,\"\")","v":""},{"$f":"IF(L1098<>\"\",'Step 2) Calculate'!H1102,\"\")","v":""},{"$f":"IF(L1098<>\"\",'Step 2) Calculate'!C1102,\"\")","v":""}]
[null,null,null,null,null,null,null,null,null,null,{"$f":"IF(L1099<>\"\",'Step 2) Calculate'!B1103,\"Zzzzz - delete row\")","v":"Zzzzz - delete row"},{"$f":"IF('Step 2) Calculate'!E1103<>\"\",'Step 2) Calculate'!G1103,\"\")","v":""},{"$f":"IF(L1099<>\"\",'Step 2) Calculate'!F1103,\"\")","v":""},{"$f":"IF(L1099<>\"\",'Step 2) Calculate'!H1103,\"\")","v":""},{"$f":"IF(L1099<>\"\",'Step 2) Calculate'!C1103,\"\")","v":""}]
[null,null,null,null,null,null,null,null,null,null,{"$f":"IF(L1100<>\"\",'Step 2) Calculate'!B1104,\"Zzzzz - delete row\")","v":"Zzzzz - delete row"},{"$f":"IF('Step 2) Calculate'!E1104<>\"\",'Step 2) Calculate'!G1104,\"\")","v":""},{"$f":"IF(L1100<>\"\",'Step 2) Calculate'!F1104,\"\")","v":""},{"$f":"IF(L1100<>\"\",'Step 2) Calculate'!H1104,\"\")","v":""},{"$f":"IF(L1100<>\"\",'Step 2) Calculate'!C1104,\"\")","v":""}]
[null,null,null,null,null,null,null,null,null,null,{"$f":"IF(L1101<>\"\",'Step 2) Calculate'!B1105,\"Zzzzz - delete row\")","v":"Zzzzz - delete row"},{"$f":"IF('Step 2) Calculate'!E1105<>\"\",'Step 2) Calculate'!G1105,\"\")","v":""},{"$f":"IF(L1101<>\"\",'Step 2) Calculate'!F1105,\"\")","v":""},{"$f":"IF(L1101<>\"\",'Step 2) Calculate'!H1105,\"\")","v":""},{"$f":"IF(L1101<>\"\",'Step 2) Calculate'!C1105,\"\")","v":""}]
[null,null,null,null,null,null,null,null,null,null,{"$f":"IF(L1102<>\"\",'Step 2) Calculate'!B1106,\"Zzzzz - delete row\")","v":"Zzzzz - delete row"},{"$f":"IF('Step 2) Calculate'!E1106<>\"\",'Step 2) Calculate'!G1106,\"\")","v":""},{"$f":"IF(L1102<>\"\",'Step 2) Calculate'!F1106,\"\")","v":""},{"$f":"IF(L1102<>\"\",'Step 2) Calculate'!H1106,\"\")","v":""},{"$f":"IF(L1102<>\"\",'Step 2) Calculate'!C1106,\"\")","v":""}]
[null,null,null,null,null,null,null,null,null,null,{"$f":"IF(L1103<>\"\",'Step 2) Calculate'!B1107,\"Zzzzz - delete row\")","v":"Zzzzz - delete row"},{"$f":"IF('Step 2) Calculate'!E1107<>\"\",'Step 2) Calculate'!G1107,\"\")","v":""},{"$f":"IF(L1103<>\"\",'Step 2) Calculate'!F1107,\"\")","v":""},{"$f":"IF(L1103<>\"\",'Step 2) Calculate'!H1107,\"\")","v":""},{"$f":"IF(L1103<>\"\",'Step 2) Calculate'!C1107,\"\")","v":""}]
[null,null,null,null,null,null,null,null,null,null,{"$f":"IF(L1104<>\"\",'Step 2) Calculate'!B1108,\"Zzzzz - delete row\")","v":"Zzzzz - delete row"},{"$f":"IF('Step 2) Calculate'!E1108<>\"\",'Step 2) Calculate'!G1108,\"\")","v":""},{"$f":"IF(L1104<>\"\",'Step 2) Calculate'!F1108,\"\")","v":""},{"$f":"IF(L1104<>\"\",'Step 2) Calculate'!H1108,\"\")","v":""},{"$f":"IF(L1104<>\"\",'Step 2) Calculate'!C1108,\"\")","v":""}]
[null,null,null,null,null,null,null,null,null,null,{"$f":"IF(L1105<>\"\",'Step 2) Calculate'!B1109,\"Zzzzz - delete row\")","v":"Zzzzz - delete row"},{"$f":"IF('Step 2) Calculate'!E1109<>\"\",'Step 2) Calculate'!G1109,\"\")","v":""},{"$f":"IF(L1105<>\"\",'Step 2) Calculate'!F1109,\"\")","v":""},{"$f":"IF(L1105<>\"\",'Step 2) Calculate'!H1109,\"\")","v":""},{"$f":"IF(L1105<>\"\",'Step 2) Calculate'!C1109,\"\")","v":""}]
[null,null,null,null,null,null,null,null,null,null,{"$f":"IF(L1106<>\"\",'Step 2) Calculate'!B1110,\"Zzzzz - delete row\")","v":"Zzzzz - delete row"},{"$f":"IF('Step 2) Calculate'!E1110<>\"\",'Step 2) Calculate'!G1110,\"\")","v":""},{"$f":"IF(L1106<>\"\",'Step 2) Calculate'!F1110,\"\")","v":""},{"$f":"IF(L1106<>\"\",'Step 2) Calculate'!H1110,\"\")","v":""},{"$f":"IF(L1106<>\"\",'Step 2) Calculate'!C1110,\"\")","v":""}]
[null,null,null,null,null,null,null,null,null,null,{"$f":"IF(L1107<>\"\",'Step 2) Calculate'!B1111,\"Zzzzz - delete row\")","v":"Zzzzz - delete row"},{"$f":"IF('Step 2) Calculate'!E1111<>\"\",'Step 2) Calculate'!G1111,\"\")","v":""},{"$f":"IF(L1107<>\"\",'Step 2) Calculate'!F1111,\"\")","v":""},{"$f":"IF(L1107<>\"\",'Step 2) Calculate'!H1111,\"\")","v":""},{"$f":"IF(L1107<>\"\",'Step 2) Calculate'!C1111,\"\")","v":""}]
[null,null,null,null,null,null,null,null,null,null,{"$f":"IF(L1108<>\"\",'Step 2) Calculate'!B1112,\"Zzzzz - delete row\")","v":"Zzzzz - delete row"},{"$f":"IF('Step 2) Calculate'!E1112<>\"\",'Step 2) Calculate'!G1112,\"\")","v":""},{"$f":"IF(L1108<>\"\",'Step 2) Calculate'!F1112,\"\")","v":""},{"$f":"IF(L1108<>\"\",'Step 2) Calculate'!H1112,\"\")","v":""},{"$f":"IF(L1108<>\"\",'Step 2) Calculate'!C1112,\"\")","v":""}]
[null,null,null,null,null,null,null,null,null,null,{"$f":"IF(L1109<>\"\",'Step 2) Calculate'!B1113,\"Zzzzz - delete row\")","v":"Zzzzz - delete row"},{"$f":"IF('Step 2) Calculate'!E1113<>\"\",'Step 2) Calculate'!G1113,\"\")","v":""},{"$f":"IF(L1109<>\"\",'Step 2) Calculate'!F1113,\"\")","v":""},{"$f":"IF(L1109<>\"\",'Step 2) Calculate'!H1113,\"\")","v":""},{"$f":"IF(L1109<>\"\",'Step 2) Calculate'!C1113,\"\")","v":""}]
[null,null,null,null,null,null,null,null,null,null,{"$f":"IF(L1110<>\"\",'Step 2) Calculate'!B1114,\"Zzzzz - delete row\")","v":"Zzzzz - delete row"},{"$f":"IF('Step 2) Calculate'!E1114<>\"\",'Step 2) Calculate'!G1114,\"\")","v":""},{"$f":"IF(L1110<>\"\",'Step 2) Calculate'!F1114,\"\")","v":""},{"$f":"IF(L1110<>\"\",'Step 2) Calculate'!H1114,\"\")","v":""},{"$f":"IF(L1110<>\"\",'Step 2) Calculate'!C1114,\"\")","v":""}]
[null,null,null,null,null,null,null,null,null,null,{"$f":"IF(L1111<>\"\",'Step 2) Calculate'!B1115,\"Zzzzz - delete row\")","v":"Zzzzz - delete row"},{"$f":"IF('Step 2) Calculate'!E1115<>\"\",'Step 2) Calculate'!G1115,\"\")","v":""},{"$f":"IF(L1111<>\"\",'Step 2) Calculate'!F1115,\"\")","v":""},{"$f":"IF(L1111<>\"\",'Step 2) Calculate'!H1115,\"\")","v":""},{"$f":"IF(L1111<>\"\",'Step 2) Calculate'!C1115,\"\")","v":""}]
[null,null,null,null,null,null,null,null,null,null,{"$f":"IF(L1112<>\"\",'Step 2) Calculate'!B1116,\"Zzzzz - delete row\")","v":"Zzzzz - delete row"},{"$f":"IF('Step 2) Calculate'!E1116<>\"\",'Step 2) Calculate'!G1116,\"\")","v":""},{"$f":"IF(L1112<>\"\",'Step 2) Calculate'!F1116,\"\")","v":""},{"$f":"IF(L1112<>\"\",'Step 2) Calculate'!H1116,\"\")","v":""},{"$f":"IF(L1112<>\"\",'Step 2) Calculate'!C1116,\"\")","v":""}]
[null,null,null,null,null,null,null,null,null,null,{"$f":"IF(L1113<>\"\",'Step 2) Calculate'!B1117,\"Zzzzz - delete row\")","v":"Zzzzz - delete row"},{"$f":"IF('Step 2) Calculate'!E1117<>\"\",'Step 2) Calculate'!G1117,\"\")","v":""},{"$f":"IF(L1113<>\"\",'Step 2) Calculate'!F1117,\"\")","v":""},{"$f":"IF(L1113<>\"\",'Step 2) Calculate'!H1117,\"\")","v":""},{"$f":"IF(L1113<>\"\",'Step 2) Calculate'!C1117,\"\")","v":""}]
[null,null,null,null,null,null,null,null,null,null,{"$f":"IF(L1114<>\"\",'Step 2) Calculate'!B1118,\"Zzzzz - delete row\")","v":"Zzzzz - delete row"},{"$f":"IF('Step 2) Calculate'!E1118<>\"\",'Step 2) Calculate'!G1118,\"\")","v":""},{"$f":"IF(L1114<>\"\",'Step 2) Calculate'!F1118,\"\")","v":""},{"$f":"IF(L1114<>\"\",'Step 2) Calculate'!H1118,\"\")","v":""},{"$f":"IF(L1114<>\"\",'Step 2) Calculate'!C1118,\"\")","v":""}]
[null,null,null,null,null,null,null,null,null,null,{"$f":"IF(L1115<>\"\",'Step 2) Calculate'!B1119,\"Zzzzz - delete row\")","v":"Zzzzz - delete row"},{"$f":"IF('Step 2) Calculate'!E1119<>\"\",'Step 2) Calculate'!G1119,\"\")","v":""},{"$f":"IF(L1115<>\"\",'Step 2) Calculate'!F1119,\"\")","v":""},{"$f":"IF(L1115<>\"\",'Step 2) Calculate'!H1119,\"\")","v":""},{"$f":"IF(L1115<>\"\",'Step 2) Calculate'!C1119,\"\")","v":""}]
[null,null,null,null,null,null,null,null,null,null,{"$f":"IF(L1116<>\"\",'Step 2) Calculate'!B1120,\"Zzzzz - delete row\")","v":"Zzzzz - delete row"},{"$f":"IF('Step 2) Calculate'!E1120<>\"\",'Step 2) Calculate'!G1120,\"\")","v":""},{"$f":"IF(L1116<>\"\",'Step 2) Calculate'!F1120,\"\")","v":""},{"$f":"IF(L1116<>\"\",'Step 2) Calculate'!H1120,\"\")","v":""},{"$f":"IF(L1116<>\"\",'Step 2) Calculate'!C1120,\"\")","v":""}]
[null,null,null,null,null,null,null,null,null,null,{"$f":"IF(L1117<>\"\",'Step 2) Calculate'!B1121,\"Zzzzz - delete row\")","v":"Zzzzz - delete row"},{"$f":"IF('Step 2) Calculate'!E1121<>\"\",'Step 2) Calculate'!G1121,\"\")","v":""},{"$f":"IF(L1117<>\"\",'Step 2) Calculate'!F1121,\"\")","v":""},{"$f":"IF(L1117<>\"\",'Step 2) Calculate'!H1121,\"\")","v":""},{"$f":"IF(L1117<>\"\",'Step 2) Calculate'!C1121,\"\")","v":""}]
[null,null,null,null,null,null,null,null,null,null,{"$f":"IF(L1118<>\"\",'Step 2) Calculate'!B1122,\"Zzzzz - delete row\")","v":"Zzzzz - delete row"},{"$f":"IF('Step 2) Calculate'!E1122<>\"\",'Step 2) Calculate'!G1122,\"\")","v":""},{"$f":"IF(L1118<>\"\",'Step 2) Calculate'!F1122,\"\")","v":""},{"$f":"IF(L1118<>\"\",'Step 2) Calculate'!H1122,\"\")","v":""},{"$f":"IF(L1118<>\"\",'Step 2) Calculate'!C1122,\"\")","v":""}]
[null,null,null,null,null,null,null,null,null,null,{"$f":"IF(L1119<>\"\",'Step 2) Calculate'!B1123,\"Zzzzz - delete row\")","v":"Zzzzz - delete row"},{"$f":"IF('Step 2) Calculate'!E1123<>\"\",'Step 2) Calculate'!G1123,\"\")","v":""},{"$f":"IF(L1119<>\"\",'Step 2) Calculate'!F1123,\"\")","v":""},{"$f":"IF(L1119<>\"\",'Step 2) Calculate'!H1123,\"\")","v":""},{"$f":"IF(L1119<>\"\",'Step 2) Calculate'!C1123,\"\")","v":""}]
[null,null,null,null,null,null,null,null,null,null,{"$f":"IF(L1120<>\"\",'Step 2) Calculate'!B1124,\"Zzzzz - delete row\")","v":"Zzzzz - delete row"},{"$f":"IF('Step 2) Calculate'!E1124<>\"\",'Step 2) Calculate'!G1124,\"\")","v":""},{"$f":"IF(L1120<>\"\",'Step 2) Calculate'!F1124,\"\")","v":""},{"$f":"IF(L1120<>\"\",'Step 2) Calculate'!H1124,\"\")","v":""},{"$f":"IF(L1120<>\"\",'Step 2) Calculate'!C1124,\"\")","v":""}]
[null,null,null,null,null,null,null,null,null,null,{"$f":"IF(L1121<>\"\",'Step 2) Calculate'!B1125,\"Zzzzz - delete row\")","v":"Zzzzz - delete row"},{"$f":"IF('Step 2) Calculate'!E1125<>\"\",'Step 2) Calculate'!G1125,\"\")","v":""},{"$f":"IF(L1121<>\"\",'Step 2) Calculate'!F1125,\"\")","v":""},{"$f":"IF(L1121<>\"\",'Step 2) Calculate'!H1125,\"\")","v":""},{"$f":"IF(L1121<>\"\",'Step 2) Calculate'!C1125,\"\")","v":""}]
[null,null,null,null,null,null,null,null,null,null,{"$f":"IF(L1122<>\"\",'Step 2) Calculate'!B1126,\"Zzzzz - delete row\")","v":"Zzzzz - delete row"},{"$f":"IF('Step 2) Calculate'!E1126<>\"\",'Step 2) Calculate'!G1126,\"\")","v":""},{"$f":"IF(L1122<>\"\",'Step 2) Calculate'!F1126,\"\")","v":""},{"$f":"IF(L1122<>\"\",'Step 2) Calculate'!H1126,\"\")","v":""},{"$f":"IF(L1122<>\"\",'Step 2) Calculate'!C1126,\"\")","v":""}]
[null,null,null,null,null,null,null,null,null,null,{"$f":"IF(L1123<>\"\",'Step 2) Calculate'!B1127,\"Zzzzz - delete row\")","v":"Zzzzz - delete row"},{"$f":"IF('Step 2) Calculate'!E1127<>\"\",'Step 2) Calculate'!G1127,\"\")","v":""},{"$f":"IF(L1123<>\"\",'Step 2) Calculate'!F1127,\"\")","v":""},{"$f":"IF(L1123<>\"\",'Step 2) Calculate'!H1127,\"\")","v":""},{"$f":"IF(L1123<>\"\",'Step 2) Calculate'!C1127,\"\")","v":""}]
[null,null,null,null,null,null,null,null,null,null,{"$f":"IF(L1124<>\"\",'Step 2) Calculate'!B1128,\"Zzzzz - delete row\")","v":"Zzzzz - delete row"},{"$f":"IF('Step 2) Calculate'!E1128<>\"\",'Step 2) Calculate'!G1128,\"\")","v":""},{"$f":"IF(L1124<>\"\",'Step 2) Calculate'!F1128,\"\")","v":""},{"$f":"IF(L1124<>\"\",'Step 2) Calculate'!H1128,\"\")","v":""},{"$f":"IF(L1124<>\"\",'Step 2) Calculate'!C1128,\"\")","v":""}]
[null,null,null,null,null,null,null,null,null,null,{"$f":"IF(L1125<>\"\",'Step 2) Calculate'!B1129,\"Zzzzz - delete row\")","v":"Zzzzz - delete row"},{"$f":"IF('Step 2) Calculate'!E1129<>\"\",'Step 2) Calculate'!G1129,\"\")","v":""},{"$f":"IF(L1125<>\"\",'Step 2) Calculate'!F1129,\"\")","v":""},{"$f":"IF(L1125<>\"\",'Step 2) Calculate'!H1129,\"\")","v":""},{"$f":"IF(L1125<>\"\",'Step 2) Calculate'!C1129,\"\")","v":""}]
[null,null,null,null,null,null,null,null,null,null,{"$f":"IF(L1126<>\"\",'Step 2) Calculate'!B1130,\"Zzzzz - delete row\")","v":"Zzzzz - delete row"},{"$f":"IF('Step 2) Calculate'!E1130<>\"\",'Step 2) Calculate'!G1130,\"\")","v":""},{"$f":"IF(L1126<>\"\",'Step 2) Calculate'!F1130,\"\")","v":""},{"$f":"IF(L1126<>\"\",'Step 2) Calculate'!H1130,\"\")","v":""},{"$f":"IF(L1126<>\"\",'Step 2) Calculate'!C1130,\"\")","v":""}]
[null,null,null,null,null,null,null,null,null,null,{"$f":"IF(L1127<>\"\",'Step 2) Calculate'!B1131,\"Zzzzz - delete row\")","v":"Zzzzz - delete row"},{"$f":"IF('Step 2) Calculate'!E1131<>\"\",'Step 2) Calculate'!G1131,\"\")","v":""},{"$f":"IF(L1127<>\"\",'Step 2) Calculate'!F1131,\"\")","v":""},{"$f":"IF(L1127<>\"\",'Step 2) Calculate'!H1131,\"\")","v":""},{"$f":"IF(L1127<>\"\",'Step 2) Calculate'!C1131,\"\")","v":""}]
[null,null,null,null,null,null,null,null,null,null,{"$f":"IF(L1128<>\"\",'Step 2) Calculate'!B1132,\"Zzzzz - delete row\")","v":"Zzzzz - delete row"},{"$f":"IF('Step 2) Calculate'!E1132<>\"\",'Step 2) Calculate'!G1132,\"\")","v":""},{"$f":"IF(L1128<>\"\",'Step 2) Calculate'!F1132,\"\")","v":""},{"$f":"IF(L1128<>\"\",'Step 2) Calculate'!H1132,\"\")","v":""},{"$f":"IF(L1128<>\"\",'Step 2) Calculate'!C1132,\"\")","v":""}]
[null,null,null,null,null,null,null,null,null,null,{"$f":"IF(L1129<>\"\",'Step 2) Calculate'!B1133,\"Zzzzz - delete row\")","v":"Zzzzz - delete row"},{"$f":"IF('Step 2) Calculate'!E1133<>\"\",'Step 2) Calculate'!G1133,\"\")","v":""},{"$f":"IF(L1129<>\"\",'Step 2) Calculate'!F1133,\"\")","v":""},{"$f":"IF(L1129<>\"\",'Step 2) Calculate'!H1133,\"\")","v":""},{"$f":"IF(L1129<>\"\",'Step 2) Calculate'!C1133,\"\")","v":""}]
[null,null,null,null,null,null,null,null,null,null,{"$f":"IF(L1130<>\"\",'Step 2) Calculate'!B1134,\"Zzzzz - delete row\")","v":"Zzzzz - delete row"},{"$f":"IF('Step 2) Calculate'!E1134<>\"\",'Step 2) Calculate'!G1134,\"\")","v":""},{"$f":"IF(L1130<>\"\",'Step 2) Calculate'!F1134,\"\")","v":""},{"$f":"IF(L1130<>\"\",'Step 2) Calculate'!H1134,\"\")","v":""},{"$f":"IF(L1130<>\"\",'Step 2) Calculate'!C1134,\"\")","v":""}]
[null,null,null,null,null,null,null,null,null,null,{"$f":"IF(L1131<>\"\",'Step 2) Calculate'!B1135,\"Zzzzz - delete row\")","v":"Zzzzz - delete row"},{"$f":"IF('Step 2) Calculate'!E1135<>\"\",'Step 2) Calculate'!G1135,\"\")","v":""},{"$f":"IF(L1131<>\"\",'Step 2) Calculate'!F1135,\"\")","v":""},{"$f":"IF(L1131<>\"\",'Step 2) Calculate'!H1135,\"\")","v":""},{"$f":"IF(L1131<>\"\",'Step 2) Calculate'!C1135,\"\")","v":""}]
[null,null,null,null,null,null,null,null,null,null,{"$f":"IF(L1132<>\"\",'Step 2) Calculate'!B1136,\"Zzzzz - delete row\")","v":"Zzzzz - delete row"},{"$f":"IF('Step 2) Calculate'!E1136<>\"\",'Step 2) Calculate'!G1136,\"\")","v":""},{"$f":"IF(L1132<>\"\",'Step 2) Calculate'!F1136,\"\")","v":""},{"$f":"IF(L1132<>\"\",'Step 2) Calculate'!H1136,\"\")","v":""},{"$f":"IF(L1132<>\"\",'Step 2) Calculate'!C1136,\"\")","v":""}]
[null,null,null,null,null,null,null,null,null,null,{"$f":"IF(L1133<>\"\",'Step 2) Calculate'!B1137,\"Zzzzz - delete row\")","v":"Zzzzz - delete row"},{"$f":"IF('Step 2) Calculate'!E1137<>\"\",'Step 2) Calculate'!G1137,\"\")","v":""},{"$f":"IF(L1133<>\"\",'Step 2) Calculate'!F1137,\"\")","v":""},{"$f":"IF(L1133<>\"\",'Step 2) Calculate'!H1137,\"\")","v":""},{"$f":"IF(L1133<>\"\",'Step 2) Calculate'!C1137,\"\")","v":""}]
[null,null,null,null,null,null,null,null,null,null,{"$f":"IF(L1134<>\"\",'Step 2) Calculate'!B1138,\"Zzzzz - delete row\")","v":"Zzzzz - delete row"},{"$f":"IF('Step 2) Calculate'!E1138<>\"\",'Step 2) Calculate'!G1138,\"\")","v":""},{"$f":"IF(L1134<>\"\",'Step 2) Calculate'!F1138,\"\")","v":""},{"$f":"IF(L1134<>\"\",'Step 2) Calculate'!H1138,\"\")","v":""},{"$f":"IF(L1134<>\"\",'Step 2) Calculate'!C1138,\"\")","v":""}]
[null,null,null,null,null,null,null,null,null,null,{"$f":"IF(L1135<>\"\",'Step 2) Calculate'!B1139,\"Zzzzz - delete row\")","v":"Zzzzz - delete row"},{"$f":"IF('Step 2) Calculate'!E1139<>\"\",'Step 2) Calculate'!G1139,\"\")","v":""},{"$f":"IF(L1135<>\"\",'Step 2) Calculate'!F1139,\"\")","v":""},{"$f":"IF(L1135<>\"\",'Step 2) Calculate'!H1139,\"\")","v":""},{"$f":"IF(L1135<>\"\",'Step 2) Calculate'!C1139,\"\")","v":""}]
[null,null,null,null,null,null,null,null,null,null,{"$f":"IF(L1136<>\"\",'Step 2) Calculate'!B1140,\"Zzzzz - delete row\")","v":"Zzzzz - delete row"},{"$f":"IF('Step 2) Calculate'!E1140<>\"\",'Step 2) Calculate'!G1140,\"\")","v":""},{"$f":"IF(L1136<>\"\",'Step 2) Calculate'!F1140,\"\")","v":""},{"$f":"IF(L1136<>\"\",'Step 2) Calculate'!H1140,\"\")","v":""},{"$f":"IF(L1136<>\"\",'Step 2) Calculate'!C1140,\"\")","v":""}]
[null,null,null,null,null,null,null,null,null,null,{"$f":"IF(L1137<>\"\",'Step 2) Calculate'!B1141,\"Zzzzz - delete row\")","v":"Zzzzz - delete row"},{"$f":"IF('Step 2) Calculate'!E1141<>\"\",'Step 2) Calculate'!G1141,\"\")","v":""},{"$f":"IF(L1137<>\"\",'Step 2) Calculate'!F1141,\"\")","v":""},{"$f":"IF(L1137<>\"\",'Step 2) Calculate'!H1141,\"\")","v":""},{"$f":"IF(L1137<>\"\",'Step 2) Calculate'!C1141,\"\")","v":""}]
[null,null,null,null,null,null,null,null,null,null,{"$f":"IF(L1138<>\"\",'Step 2) Calculate'!B1142,\"Zzzzz - delete row\")","v":"Zzzzz - delete row"},{"$f":"IF('Step 2) Calculate'!E1142<>\"\",'Step 2) Calculate'!G1142,\"\")","v":""},{"$f":"IF(L1138<>\"\",'Step 2) Calculate'!F1142,\"\")","v":""},{"$f":"IF(L1138<>\"\",'Step 2) Calculate'!H1142,\"\")","v":""},{"$f":"IF(L1138<>\"\",'Step 2) Calculate'!C1142,\"\")","v":""}]
[null,null,null,null,null,null,null,null,null,null,{"$f":"IF(L1139<>\"\",'Step 2) Calculate'!B1143,\"Zzzzz - delete row\")","v":"Zzzzz - delete row"},{"$f":"IF('Step 2) Calculate'!E1143<>\"\",'Step 2) Calculate'!G1143,\"\")","v":""},{"$f":"IF(L1139<>\"\",'Step 2) Calculate'!F1143,\"\")","v":""},{"$f":"IF(L1139<>\"\",'Step 2) Calculate'!H1143,\"\")","v":""},{"$f":"IF(L1139<>\"\",'Step 2) Calculate'!C1143,\"\")","v":""}]
[null,null,null,null,null,null,null,null,null,null,{"$f":"IF(L1140<>\"\",'Step 2) Calculate'!B1144,\"Zzzzz - delete row\")","v":"Zzzzz - delete row"},{"$f":"IF('Step 2) Calculate'!E1144<>\"\",'Step 2) Calculate'!G1144,\"\")","v":""},{"$f":"IF(L1140<>\"\",'Step 2) Calculate'!F1144,\"\")","v":""},{"$f":"IF(L1140<>\"\",'Step 2) Calculate'!H1144,\"\")","v":""},{"$f":"IF(L1140<>\"\",'Step 2) Calculate'!C1144,\"\")","v":""}]
[null,null,null,null,null,null,null,null,null,null,{"$f":"IF(L1141<>\"\",'Step 2) Calculate'!B1145,\"Zzzzz - delete row\")","v":"Zzzzz - delete row"},{"$f":"IF('Step 2) Calculate'!E1145<>\"\",'Step 2) Calculate'!G1145,\"\")","v":""},{"$f":"IF(L1141<>\"\",'Step 2) Calculate'!F1145,\"\")","v":""},{"$f":"IF(L1141<>\"\",'Step 2) Calculate'!H1145,\"\")","v":""},{"$f":"IF(L1141<>\"\",'Step 2) Calculate'!C1145,\"\")","v":""}]
[null,null,null,null,null,null,null,null,null,null,{"$f":"IF(L1142<>\"\",'Step 2) Calculate'!B1146,\"Zzzzz - delete row\")","v":"Zzzzz - delete row"},{"$f":"IF('Step 2) Calculate'!E1146<>\"\",'Step 2) Calculate'!G1146,\"\")","v":""},{"$f":"IF(L1142<>\"\",'Step 2) Calculate'!F1146,\"\")","v":""},{"$f":"IF(L1142<>\"\",'Step 2) Calculate'!H1146,\"\")","v":""},{"$f":"IF(L1142<>\"\",'Step 2) Calculate'!C1146,\"\")","v":""}]
[null,null,null,null,null,null,null,null,null,null,{"$f":"IF(L1143<>\"\",'Step 2) Calculate'!B1147,\"Zzzzz - delete row\")","v":"Zzzzz - delete row"},{"$f":"IF('Step 2) Calculate'!E1147<>\"\",'Step 2) Calculate'!G1147,\"\")","v":""},{"$f":"IF(L1143<>\"\",'Step 2) Calculate'!F1147,\"\")","v":""},{"$f":"IF(L1143<>\"\",'Step 2) Calculate'!H1147,\"\")","v":""},{"$f":"IF(L1143<>\"\",'Step 2) Calculate'!C1147,\"\")","v":""}]
[null,null,null,null,null,null,null,null,null,null,{"$f":"IF(L1144<>\"\",'Step 2) Calculate'!B1148,\"Zzzzz - delete row\")","v":"Zzzzz - delete row"},{"$f":"IF('Step 2) Calculate'!E1148<>\"\",'Step 2) Calculate'!G1148,\"\")","v":""},{"$f":"IF(L1144<>\"\",'Step 2) Calculate'!F1148,\"\")","v":""},{"$f":"IF(L1144<>\"\",'Step 2) Calculate'!H1148,\"\")","v":""},{"$f":"IF(L1144<>\"\",'Step 2) Calculate'!C1148,\"\")","v":""}]
[null,null,null,null,null,null,null,null,null,null,{"$f":"IF(L1145<>\"\",'Step 2) Calculate'!B1149,\"Zzzzz - delete row\")","v":"Zzzzz - delete row"},{"$f":"IF('Step 2) Calculate'!E1149<>\"\",'Step 2) Calculate'!G1149,\"\")","v":""},{"$f":"IF(L1145<>\"\",'Step 2) Calculate'!F1149,\"\")","v":""},{"$f":"IF(L1145<>\"\",'Step 2) Calculate'!H1149,\"\")","v":""},{"$f":"IF(L1145<>\"\",'Step 2) Calculate'!C1149,\"\")","v":""}]
[null,null,null,null,null,null,null,null,null,null,{"$f":"IF(L1146<>\"\",'Step 2) Calculate'!B1150,\"Zzzzz - delete row\")","v":"Zzzzz - delete row"},{"$f":"IF('Step 2) Calculate'!E1150<>\"\",'Step 2) Calculate'!G1150,\"\")","v":""},{"$f":"IF(L1146<>\"\",'Step 2) Calculate'!F1150,\"\")","v":""},{"$f":"IF(L1146<>\"\",'Step 2) Calculate'!H1150,\"\")","v":""},{"$f":"IF(L1146<>\"\",'Step 2) Calculate'!C1150,\"\")","v":""}]
[null,null,null,null,null,null,null,null,null,null,{"$f":"IF(L1147<>\"\",'Step 2) Calculate'!B1151,\"Zzzzz - delete row\")","v":"Zzzzz - delete row"},{"$f":"IF('Step 2) Calculate'!E1151<>\"\",'Step 2) Calculate'!G1151,\"\")","v":""},{"$f":"IF(L1147<>\"\",'Step 2) Calculate'!F1151,\"\")","v":""},{"$f":"IF(L1147<>\"\",'Step 2) Calculate'!H1151,\"\")","v":""},{"$f":"IF(L1147<>\"\",'Step 2) Calculate'!C1151,\"\")","v":""}]
[null,null,null,null,null,null,null,null,null,null,{"$f":"IF(L1148<>\"\",'Step 2) Calculate'!B1152,\"Zzzzz - delete row\")","v":"Zzzzz - delete row"},{"$f":"IF('Step 2) Calculate'!E1152<>\"\",'Step 2) Calculate'!G1152,\"\")","v":""},{"$f":"IF(L1148<>\"\",'Step 2) Calculate'!F1152,\"\")","v":""},{"$f":"IF(L1148<>\"\",'Step 2) Calculate'!H1152,\"\")","v":""},{"$f":"IF(L1148<>\"\",'Step 2) Calculate'!C1152,\"\")","v":""}]
[null,null,null,null,null,null,null,null,null,null,{"$f":"IF(L1149<>\"\",'Step 2) Calculate'!B1153,\"Zzzzz - delete row\")","v":"Zzzzz - delete row"},{"$f":"IF('Step 2) Calculate'!E1153<>\"\",'Step 2) Calculate'!G1153,\"\")","v":""},{"$f":"IF(L1149<>\"\",'Step 2) Calculate'!F1153,\"\")","v":""},{"$f":"IF(L1149<>\"\",'Step 2) Calculate'!H1153,\"\")","v":""},{"$f":"IF(L1149<>\"\",'Step 2) Calculate'!C1153,\"\")","v":""}]
[null,null,null,null,null,null,null,null,null,null,{"$f":"IF(L1150<>\"\",'Step 2) Calculate'!B1154,\"Zzzzz - delete row\")","v":"Zzzzz - delete row"},{"$f":"IF('Step 2) Calculate'!E1154<>\"\",'Step 2) Calculate'!G1154,\"\")","v":""},{"$f":"IF(L1150<>\"\",'Step 2) Calculate'!F1154,\"\")","v":""},{"$f":"IF(L1150<>\"\",'Step 2) Calculate'!H1154,\"\")","v":""},{"$f":"IF(L1150<>\"\",'Step 2) Calculate'!C1154,\"\")","v":""}]
[null,null,null,null,null,null,null,null,null,null,{"$f":"IF(L1151<>\"\",'Step 2) Calculate'!B1155,\"Zzzzz - delete row\")","v":"Zzzzz - delete row"},{"$f":"IF('Step 2) Calculate'!E1155<>\"\",'Step 2) Calculate'!G1155,\"\")","v":""},{"$f":"IF(L1151<>\"\",'Step 2) Calculate'!F1155,\"\")","v":""},{"$f":"IF(L1151<>\"\",'Step 2) Calculate'!H1155,\"\")","v":""},{"$f":"IF(L1151<>\"\",'Step 2) Calculate'!C1155,\"\")","v":""}]
[null,null,null,null,null,null,null,null,null,null,{"$f":"IF(L1152<>\"\",'Step 2) Calculate'!B1156,\"Zzzzz - delete row\")","v":"Zzzzz - delete row"},{"$f":"IF('Step 2) Calculate'!E1156<>\"\",'Step 2) Calculate'!G1156,\"\")","v":""},{"$f":"IF(L1152<>\"\",'Step 2) Calculate'!F1156,\"\")","v":""},{"$f":"IF(L1152<>\"\",'Step 2) Calculate'!H1156,\"\")","v":""},{"$f":"IF(L1152<>\"\",'Step 2) Calculate'!C1156,\"\")","v":""}]
[null,null,null,null,null,null,null,null,null,null,{"$f":"IF(L1153<>\"\",'Step 2) Calculate'!B1157,\"Zzzzz - delete row\")","v":"Zzzzz - delete row"},{"$f":"IF('Step 2) Calculate'!E1157<>\"\",'Step 2) Calculate'!G1157,\"\")","v":""},{"$f":"IF(L1153<>\"\",'Step 2) Calculate'!F1157,\"\")","v":""},{"$f":"IF(L1153<>\"\",'Step 2) Calculate'!H1157,\"\")","v":""},{"$f":"IF(L1153<>\"\",'Step 2) Calculate'!C1157,\"\")","v":""}]
[null,null,null,null,null,null,null,null,null,null,{"$f":"IF(L1154<>\"\",'Step 2) Calculate'!B1158,\"Zzzzz - delete row\")","v":"Zzzzz - delete row"},{"$f":"IF('Step 2) Calculate'!E1158<>\"\",'Step 2) Calculate'!G1158,\"\")","v":""},{"$f":"IF(L1154<>\"\",'Step 2) Calculate'!F1158,\"\")","v":""},{"$f":"IF(L1154<>\"\",'Step 2) Calculate'!H1158,\"\")","v":""},{"$f":"IF(L1154<>\"\",'Step 2) Calculate'!C1158,\"\")","v":""}]
[null,null,null,null,null,null,null,null,null,null,{"$f":"IF(L1155<>\"\",'Step 2) Calculate'!B1159,\"Zzzzz - delete row\")","v":"Zzzzz - delete row"},{"$f":"IF('Step 2) Calculate'!E1159<>\"\",'Step 2) Calculate'!G1159,\"\")","v":""},{"$f":"IF(L1155<>\"\",'Step 2) Calculate'!F1159,\"\")","v":""},{"$f":"IF(L1155<>\"\",'Step 2) Calculate'!H1159,\"\")","v":""},{"$f":"IF(L1155<>\"\",'Step 2) Calculate'!C1159,\"\")","v":""}]
[null,null,null,null,null,null,null,null,null,null,{"$f":"IF(L1156<>\"\",'Step 2) Calculate'!B1160,\"Zzzzz - delete row\")","v":"Zzzzz - delete row"},{"$f":"IF('Step 2) Calculate'!E1160<>\"\",'Step 2) Calculate'!G1160,\"\")","v":""},{"$f":"IF(L1156<>\"\",'Step 2) Calculate'!F1160,\"\")","v":""},{"$f":"IF(L1156<>\"\",'Step 2) Calculate'!H1160,\"\")","v":""},{"$f":"IF(L1156<>\"\",'Step 2) Calculate'!C1160,\"\")","v":""}]
[null,null,null,null,null,null,null,null,null,null,{"$f":"IF(L1157<>\"\",'Step 2) Calculate'!B1161,\"Zzzzz - delete row\")","v":"Zzzzz - delete row"},{"$f":"IF('Step 2) Calculate'!E1161<>\"\",'Step 2) Calculate'!G1161,\"\")","v":""},{"$f":"IF(L1157<>\"\",'Step 2) Calculate'!F1161,\"\")","v":""},{"$f":"IF(L1157<>\"\",'Step 2) Calculate'!H1161,\"\")","v":""},{"$f":"IF(L1157<>\"\",'Step 2) Calculate'!C1161,\"\")","v":""}]
[null,null,null,null,null,null,null,null,null,null,{"$f":"IF(L1158<>\"\",'Step 2) Calculate'!B1162,\"Zzzzz - delete row\")","v":"Zzzzz - delete row"},{"$f":"IF('Step 2) Calculate'!E1162<>\"\",'Step 2) Calculate'!G1162,\"\")","v":""},{"$f":"IF(L1158<>\"\",'Step 2) Calculate'!F1162,\"\")","v":""},{"$f":"IF(L1158<>\"\",'Step 2) Calculate'!H1162,\"\")","v":""},{"$f":"IF(L1158<>\"\",'Step 2) Calculate'!C1162,\"\")","v":""}]
[null,null,null,null,null,null,null,null,null,null,{"$f":"IF(L1159<>\"\",'Step 2) Calculate'!B1163,\"Zzzzz - delete row\")","v":"Zzzzz - delete row"},{"$f":"IF('Step 2) Calculate'!E1163<>\"\",'Step 2) Calculate'!G1163,\"\")","v":""},{"$f":"IF(L1159<>\"\",'Step 2) Calculate'!F1163,\"\")","v":""},{"$f":"IF(L1159<>\"\",'Step 2) Calculate'!H1163,\"\")","v":""},{"$f":"IF(L1159<>\"\",'Step 2) Calculate'!C1163,\"\")","v":""}]
[null,null,null,null,null,null,null,null,null,null,{"$f":"IF(L1160<>\"\",'Step 2) Calculate'!B1164,\"Zzzzz - delete row\")","v":"Zzzzz - delete row"},{"$f":"IF('Step 2) Calculate'!E1164<>\"\",'Step 2) Calculate'!G1164,\"\")","v":""},{"$f":"IF(L1160<>\"\",'Step 2) Calculate'!F1164,\"\")","v":""},{"$f":"IF(L1160<>\"\",'Step 2) Calculate'!H1164,\"\")","v":""},{"$f":"IF(L1160<>\"\",'Step 2) Calculate'!C1164,\"\")","v":""}]
[null,null,null,null,null,null,null,null,null,null,{"$f":"IF(L1161<>\"\",'Step 2) Calculate'!B1165,\"Zzzzz - delete row\")","v":"Zzzzz - delete row"},{"$f":"IF('Step 2) Calculate'!E1165<>\"\",'Step 2) Calculate'!G1165,\"\")","v":""},{"$f":"IF(L1161<>\"\",'Step 2) Calculate'!F1165,\"\")","v":""},{"$f":"IF(L1161<>\"\",'Step 2) Calculate'!H1165,\"\")","v":""},{"$f":"IF(L1161<>\"\",'Step 2) Calculate'!C1165,\"\")","v":""}]
[null,null,null,null,null,null,null,null,null,null,{"$f":"IF(L1162<>\"\",'Step 2) Calculate'!B1166,\"Zzzzz - delete row\")","v":"Zzzzz - delete row"},{"$f":"IF('Step 2) Calculate'!E1166<>\"\",'Step 2) Calculate'!G1166,\"\")","v":""},{"$f":"IF(L1162<>\"\",'Step 2) Calculate'!F1166,\"\")","v":""},{"$f":"IF(L1162<>\"\",'Step 2) Calculate'!H1166,\"\")","v":""},{"$f":"IF(L1162<>\"\",'Step 2) Calculate'!C1166,\"\")","v":""}]
[null,null,null,null,null,null,null,null,null,null,{"$f":"IF(L1163<>\"\",'Step 2) Calculate'!B1167,\"Zzzzz - delete row\")","v":"Zzzzz - delete row"},{"$f":"IF('Step 2) Calculate'!E1167<>\"\",'Step 2) Calculate'!G1167,\"\")","v":""},{"$f":"IF(L1163<>\"\",'Step 2) Calculate'!F1167,\"\")","v":""},{"$f":"IF(L1163<>\"\",'Step 2) Calculate'!H1167,\"\")","v":""},{"$f":"IF(L1163<>\"\",'Step 2) Calculate'!C1167,\"\")","v":""}]
[null,null,null,null,null,null,null,null,null,null,{"$f":"IF(L1164<>\"\",'Step 2) Calculate'!B1168,\"Zzzzz - delete row\")","v":"Zzzzz - delete row"},{"$f":"IF('Step 2) Calculate'!E1168<>\"\",'Step 2) Calculate'!G1168,\"\")","v":""},{"$f":"IF(L1164<>\"\",'Step 2) Calculate'!F1168,\"\")","v":""},{"$f":"IF(L1164<>\"\",'Step 2) Calculate'!H1168,\"\")","v":""},{"$f":"IF(L1164<>\"\",'Step 2) Calculate'!C1168,\"\")","v":""}]
[null,null,null,null,null,null,null,null,null,null,{"$f":"IF(L1165<>\"\",'Step 2) Calculate'!B1169,\"Zzzzz - delete row\")","v":"Zzzzz - delete row"},{"$f":"IF('Step 2) Calculate'!E1169<>\"\",'Step 2) Calculate'!G1169,\"\")","v":""},{"$f":"IF(L1165<>\"\",'Step 2) Calculate'!F1169,\"\")","v":""},{"$f":"IF(L1165<>\"\",'Step 2) Calculate'!H1169,\"\")","v":""},{"$f":"IF(L1165<>\"\",'Step 2) Calculate'!C1169,\"\")","v":""}]
[null,null,null,null,null,null,null,null,null,null,{"$f":"IF(L1166<>\"\",'Step 2) Calculate'!B1170,\"Zzzzz - delete row\")","v":"Zzzzz - delete row"},{"$f":"IF('Step 2) Calculate'!E1170<>\"\",'Step 2) Calculate'!G1170,\"\")","v":""},{"$f":"IF(L1166<>\"\",'Step 2) Calculate'!F1170,\"\")","v":""},{"$f":"IF(L1166<>\"\",'Step 2) Calculate'!H1170,\"\")","v":""},{"$f":"IF(L1166<>\"\",'Step 2) Calculate'!C1170,\"\")","v":""}]
[null,null,null,null,null,null,null,null,null,null,{"$f":"IF(L1167<>\"\",'Step 2) Calculate'!B1171,\"Zzzzz - delete row\")","v":"Zzzzz - delete row"},{"$f":"IF('Step 2) Calculate'!E1171<>\"\",'Step 2) Calculate'!G1171,\"\")","v":""},{"$f":"IF(L1167<>\"\",'Step 2) Calculate'!F1171,\"\")","v":""},{"$f":"IF(L1167<>\"\",'Step 2) Calculate'!H1171,\"\")","v":""},{"$f":"IF(L1167<>\"\",'Step 2) Calculate'!C1171,\"\")","v":""}]
[null,null,null,null,null,null,null,null,null,null,{"$f":"IF(L1168<>\"\",'Step 2) Calculate'!B1172,\"Zzzzz - delete row\")","v":"Zzzzz - delete row"},{"$f":"IF('Step 2) Calculate'!E1172<>\"\",'Step 2) Calculate'!G1172,\"\")","v":""},{"$f":"IF(L1168<>\"\",'Step 2) Calculate'!F1172,\"\")","v":""},{"$f":"IF(L1168<>\"\",'Step 2) Calculate'!H1172,\"\")","v":""},{"$f":"IF(L1168<>\"\",'Step 2) Calculate'!C1172,\"\")","v":""}]
[null,null,null,null,null,null,null,null,null,null,{"$f":"IF(L1169<>\"\",'Step 2) Calculate'!B1173,\"Zzzzz - delete row\")","v":"Zzzzz - delete row"},{"$f":"IF('Step 2) Calculate'!E1173<>\"\",'Step 2) Calculate'!G1173,\"\")","v":""},{"$f":"IF(L1169<>\"\",'Step 2) Calculate'!F1173,\"\")","v":""},{"$f":"IF(L1169<>\"\",'Step 2) Calculate'!H1173,\"\")","v":""},{"$f":"IF(L1169<>\"\",'Step 2) Calculate'!C1173,\"\")","v":""}]
[null,null,null,null,null,null,null,null,null,null,{"$f":"IF(L1170<>\"\",'Step 2) Calculate'!B1174,\"Zzzzz - delete row\")","v":"Zzzzz - delete row"},{"$f":"IF('Step 2) Calculate'!E1174<>\"\",'Step 2) Calculate'!G1174,\"\")","v":""},{"$f":"IF(L1170<>\"\",'Step 2) Calculate'!F1174,\"\")","v":""},{"$f":"IF(L1170<>\"\",'Step 2) Calculate'!H1174,\"\")","v":""},{"$f":"IF(L1170<>\"\",'Step 2) Calculate'!C1174,\"\")","v":""}]
[null,null,null,null,null,null,null,null,null,null,{"$f":"IF(L1171<>\"\",'Step 2) Calculate'!B1175,\"Zzzzz - delete row\")","v":"Zzzzz - delete row"},{"$f":"IF('Step 2) Calculate'!E1175<>\"\",'Step 2) Calculate'!G1175,\"\")","v":""},{"$f":"IF(L1171<>\"\",'Step 2) Calculate'!F1175,\"\")","v":""},{"$f":"IF(L1171<>\"\",'Step 2) Calculate'!H1175,\"\")","v":""},{"$f":"IF(L1171<>\"\",'Step 2) Calculate'!C1175,\"\")","v":""}]
[null,null,null,null,null,null,null,null,null,null,{"$f":"IF(L1172<>\"\",'Step 2) Calculate'!B1176,\"Zzzzz - delete row\")","v":"Zzzzz - delete row"},{"$f":"IF('Step 2) Calculate'!E1176<>\"\",'Step 2) Calculate'!G1176,\"\")","v":""},{"$f":"IF(L1172<>\"\",'Step 2) Calculate'!F1176,\"\")","v":""},{"$f":"IF(L1172<>\"\",'Step 2) Calculate'!H1176,\"\")","v":""},{"$f":"IF(L1172<>\"\",'Step 2) Calculate'!C1176,\"\")","v":""}]
[null,null,null,null,null,null,null,null,null,null,{"$f":"IF(L1173<>\"\",'Step 2) Calculate'!B1177,\"Zzzzz - delete row\")","v":"Zzzzz - delete row"},{"$f":"IF('Step 2) Calculate'!E1177<>\"\",'Step 2) Calculate'!G1177,\"\")","v":""},{"$f":"IF(L1173<>\"\",'Step 2) Calculate'!F1177,\"\")","v":""},{"$f":"IF(L1173<>\"\",'Step 2) Calculate'!H1177,\"\")","v":""},{"$f":"IF(L1173<>\"\",'Step 2) Calculate'!C1177,\"\")","v":""}]
[null,null,null,null,null,null,null,null,null,null,{"$f":"IF(L1174<>\"\",'Step 2) Calculate'!B1178,\"Zzzzz - delete row\")","v":"Zzzzz - delete row"},{"$f":"IF('Step 2) Calculate'!E1178<>\"\",'Step 2) Calculate'!G1178,\"\")","v":""},{"$f":"IF(L1174<>\"\",'Step 2) Calculate'!F1178,\"\")","v":""},{"$f":"IF(L1174<>\"\",'Step 2) Calculate'!H1178,\"\")","v":""},{"$f":"IF(L1174<>\"\",'Step 2) Calculate'!C1178,\"\")","v":""}]
[null,null,null,null,null,null,null,null,null,null,{"$f":"IF(L1175<>\"\",'Step 2) Calculate'!B1179,\"Zzzzz - delete row\")","v":"Zzzzz - delete row"},{"$f":"IF('Step 2) Calculate'!E1179<>\"\",'Step 2) Calculate'!G1179,\"\")","v":""},{"$f":"IF(L1175<>\"\",'Step 2) Calculate'!F1179,\"\")","v":""},{"$f":"IF(L1175<>\"\",'Step 2) Calculate'!H1179,\"\")","v":""},{"$f":"IF(L1175<>\"\",'Step 2) Calculate'!C1179,\"\")","v":""}]
[null,null,null,null,null,null,null,null,null,null,{"$f":"IF(L1176<>\"\",'Step 2) Calculate'!B1180,\"Zzzzz - delete row\")","v":"Zzzzz - delete row"},{"$f":"IF('Step 2) Calculate'!E1180<>\"\",'Step 2) Calculate'!G1180,\"\")","v":""},{"$f":"IF(L1176<>\"\",'Step 2) Calculate'!F1180,\"\")","v":""},{"$f":"IF(L1176<>\"\",'Step 2) Calculate'!H1180,\"\")","v":""},{"$f":"IF(L1176<>\"\",'Step 2) Calculate'!C1180,\"\")","v":""}]
[null,null,null,null,null,null,null,null,null,null,{"$f":"IF(L1177<>\"\",'Step 2) Calculate'!B1181,\"Zzzzz - delete row\")","v":"Zzzzz - delete row"},{"$f":"IF('Step 2) Calculate'!E1181<>\"\",'Step 2) Calculate'!G1181,\"\")","v":""},{"$f":"IF(L1177<>\"\",'Step 2) Calculate'!F1181,\"\")","v":""},{"$f":"IF(L1177<>\"\",'Step 2) Calculate'!H1181,\"\")","v":""},{"$f":"IF(L1177<>\"\",'Step 2) Calculate'!C1181,\"\")","v":""}]
[null,null,null,null,null,null,null,null,null,null,{"$f":"IF(L1178<>\"\",'Step 2) Calculate'!B1182,\"Zzzzz - delete row\")","v":"Zzzzz - delete row"},{"$f":"IF('Step 2) Calculate'!E1182<>\"\",'Step 2) Calculate'!G1182,\"\")","v":""},{"$f":"IF(L1178<>\"\",'Step 2) Calculate'!F1182,\"\")","v":""},{"$f":"IF(L1178<>\"\",'Step 2) Calculate'!H1182,\"\")","v":""},{"$f":"IF(L1178<>\"\",'Step 2) Calculate'!C1182,\"\")","v":""}]
[null,null,null,null,null,null,null,null,null,null,{"$f":"IF(L1179<>\"\",'Step 2) Calculate'!B1183,\"Zzzzz - delete row\")","v":"Zzzzz - delete row"},{"$f":"IF('Step 2) Calculate'!E1183<>\"\",'Step 2) Calculate'!G1183,\"\")","v":""},{"$f":"IF(L1179<>\"\",'Step 2) Calculate'!F1183,\"\")","v":""},{"$f":"IF(L1179<>\"\",'Step 2) Calculate'!H1183,\"\")","v":""},{"$f":"IF(L1179<>\"\",'Step 2) Calculate'!C1183,\"\")","v":""}]
[null,null,null,null,null,null,null,null,null,null,{"$f":"IF(L1180<>\"\",'Step 2) Calculate'!B1184,\"Zzzzz - delete row\")","v":"Zzzzz - delete row"},{"$f":"IF('Step 2) Calculate'!E1184<>\"\",'Step 2) Calculate'!G1184,\"\")","v":""},{"$f":"IF(L1180<>\"\",'Step 2) Calculate'!F1184,\"\")","v":""},{"$f":"IF(L1180<>\"\",'Step 2) Calculate'!H1184,\"\")","v":""},{"$f":"IF(L1180<>\"\",'Step 2) Calculate'!C1184,\"\")","v":""}]
[null,null,null,null,null,null,null,null,null,null,{"$f":"IF(L1181<>\"\",'Step 2) Calculate'!B1185,\"Zzzzz - delete row\")","v":"Zzzzz - delete row"},{"$f":"IF('Step 2) Calculate'!E1185<>\"\",'Step 2) Calculate'!G1185,\"\")","v":""},{"$f":"IF(L1181<>\"\",'Step 2) Calculate'!F1185,\"\")","v":""},{"$f":"IF(L1181<>\"\",'Step 2) Calculate'!H1185,\"\")","v":""},{"$f":"IF(L1181<>\"\",'Step 2) Calculate'!C1185,\"\")","v":""}]
[null,null,null,null,null,null,null,null,null,null,{"$f":"IF(L1182<>\"\",'Step 2) Calculate'!B1186,\"Zzzzz - delete row\")","v":"Zzzzz - delete row"},{"$f":"IF('Step 2) Calculate'!E1186<>\"\",'Step 2) Calculate'!G1186,\"\")","v":""},{"$f":"IF(L1182<>\"\",'Step 2) Calculate'!F1186,\"\")","v":""},{"$f":"IF(L1182<>\"\",'Step 2) Calculate'!H1186,\"\")","v":""},{"$f":"IF(L1182<>\"\",'Step 2) Calculate'!C1186,\"\")","v":""}]
[null,null,null,null,null,null,null,null,null,null,{"$f":"IF(L1183<>\"\",'Step 2) Calculate'!B1187,\"Zzzzz - delete row\")","v":"Zzzzz - delete row"},{"$f":"IF('Step 2) Calculate'!E1187<>\"\",'Step 2) Calculate'!G1187,\"\")","v":""},{"$f":"IF(L1183<>\"\",'Step 2) Calculate'!F1187,\"\")","v":""},{"$f":"IF(L1183<>\"\",'Step 2) Calculate'!H1187,\"\")","v":""},{"$f":"IF(L1183<>\"\",'Step 2) Calculate'!C1187,\"\")","v":""}]
[null,null,null,null,null,null,null,null,null,null,{"$f":"IF(L1184<>\"\",'Step 2) Calculate'!B1188,\"Zzzzz - delete row\")","v":"Zzzzz - delete row"},{"$f":"IF('Step 2) Calculate'!E1188<>\"\",'Step 2) Calculate'!G1188,\"\")","v":""},{"$f":"IF(L1184<>\"\",'Step 2) Calculate'!F1188,\"\")","v":""},{"$f":"IF(L1184<>\"\",'Step 2) Calculate'!H1188,\"\")","v":""},{"$f":"IF(L1184<>\"\",'Step 2) Calculate'!C1188,\"\")","v":""}]
[null,null,null,null,null,null,null,null,null,null,{"$f":"IF(L1185<>\"\",'Step 2) Calculate'!B1189,\"Zzzzz - delete row\")","v":"Zzzzz - delete row"},{"$f":"IF('Step 2) Calculate'!E1189<>\"\",'Step 2) Calculate'!G1189,\"\")","v":""},{"$f":"IF(L1185<>\"\",'Step 2) Calculate'!F1189,\"\")","v":""},{"$f":"IF(L1185<>\"\",'Step 2) Calculate'!H1189,\"\")","v":""},{"$f":"IF(L1185<>\"\",'Step 2) Calculate'!C1189,\"\")","v":""}]
[null,null,null,null,null,null,null,null,null,null,{"$f":"IF(L1186<>\"\",'Step 2) Calculate'!B1190,\"Zzzzz - delete row\")","v":"Zzzzz - delete row"},{"$f":"IF('Step 2) Calculate'!E1190<>\"\",'Step 2) Calculate'!G1190,\"\")","v":""},{"$f":"IF(L1186<>\"\",'Step 2) Calculate'!F1190,\"\")","v":""},{"$f":"IF(L1186<>\"\",'Step 2) Calculate'!H1190,\"\")","v":""},{"$f":"IF(L1186<>\"\",'Step 2) Calculate'!C1190,\"\")","v":""}]
[null,null,null,null,null,null,null,null,null,null,{"$f":"IF(L1187<>\"\",'Step 2) Calculate'!B1191,\"Zzzzz - delete row\")","v":"Zzzzz - delete row"},{"$f":"IF('Step 2) Calculate'!E1191<>\"\",'Step 2) Calculate'!G1191,\"\")","v":""},{"$f":"IF(L1187<>\"\",'Step 2) Calculate'!F1191,\"\")","v":""},{"$f":"IF(L1187<>\"\",'Step 2) Calculate'!H1191,\"\")","v":""},{"$f":"IF(L1187<>\"\",'Step 2) Calculate'!C1191,\"\")","v":""}]
[null,null,null,null,null,null,null,null,null,null,{"$f":"IF(L1188<>\"\",'Step 2) Calculate'!B1192,\"Zzzzz - delete row\")","v":"Zzzzz - delete row"},{"$f":"IF('Step 2) Calculate'!E1192<>\"\",'Step 2) Calculate'!G1192,\"\")","v":""},{"$f":"IF(L1188<>\"\",'Step 2) Calculate'!F1192,\"\")","v":""},{"$f":"IF(L1188<>\"\",'Step 2) Calculate'!H1192,\"\")","v":""},{"$f":"IF(L1188<>\"\",'Step 2) Calculate'!C1192,\"\")","v":""}]
[null,null,null,null,null,null,null,null,null,null,{"$f":"IF(L1189<>\"\",'Step 2) Calculate'!B1193,\"Zzzzz - delete row\")","v":"Zzzzz - delete row"},{"$f":"IF('Step 2) Calculate'!E1193<>\"\",'Step 2) Calculate'!G1193,\"\")","v":""},{"$f":"IF(L1189<>\"\",'Step 2) Calculate'!F1193,\"\")","v":""},{"$f":"IF(L1189<>\"\",'Step 2) Calculate'!H1193,\"\")","v":""},{"$f":"IF(L1189<>\"\",'Step 2) Calculate'!C1193,\"\")","v":""}]
[null,null,null,null,null,null,null,null,null,null,{"$f":"IF(L1190<>\"\",'Step 2) Calculate'!B1194,\"Zzzzz - delete row\")","v":"Zzzzz - delete row"},{"$f":"IF('Step 2) Calculate'!E1194<>\"\",'Step 2) Calculate'!G1194,\"\")","v":""},{"$f":"IF(L1190<>\"\",'Step 2) Calculate'!F1194,\"\")","v":""},{"$f":"IF(L1190<>\"\",'Step 2) Calculate'!H1194,\"\")","v":""},{"$f":"IF(L1190<>\"\",'Step 2) Calculate'!C1194,\"\")","v":""}]
[null,null,null,null,null,null,null,null,null,null,{"$f":"IF(L1191<>\"\",'Step 2) Calculate'!B1195,\"Zzzzz - delete row\")","v":"Zzzzz - delete row"},{"$f":"IF('Step 2) Calculate'!E1195<>\"\",'Step 2) Calculate'!G1195,\"\")","v":""},{"$f":"IF(L1191<>\"\",'Step 2) Calculate'!F1195,\"\")","v":""},{"$f":"IF(L1191<>\"\",'Step 2) Calculate'!H1195,\"\")","v":""},{"$f":"IF(L1191<>\"\",'Step 2) Calculate'!C1195,\"\")","v":""}]
[null,null,null,null,null,null,null,null,null,null,{"$f":"IF(L1192<>\"\",'Step 2) Calculate'!B1196,\"Zzzzz - delete row\")","v":"Zzzzz - delete row"},{"$f":"IF('Step 2) Calculate'!E1196<>\"\",'Step 2) Calculate'!G1196,\"\")","v":""},{"$f":"IF(L1192<>\"\",'Step 2) Calculate'!F1196,\"\")","v":""},{"$f":"IF(L1192<>\"\",'Step 2) Calculate'!H1196,\"\")","v":""},{"$f":"IF(L1192<>\"\",'Step 2) Calculate'!C1196,\"\")","v":""}]
[null,null,null,null,null,null,null,null,null,null,{"$f":"IF(L1193<>\"\",'Step 2) Calculate'!B1197,\"Zzzzz - delete row\")","v":"Zzzzz - delete row"},{"$f":"IF('Step 2) Calculate'!E1197<>\"\",'Step 2) Calculate'!G1197,\"\")","v":""},{"$f":"IF(L1193<>\"\",'Step 2) Calculate'!F1197,\"\")","v":""},{"$f":"IF(L1193<>\"\",'Step 2) Calculate'!H1197,\"\")","v":""},{"$f":"IF(L1193<>\"\",'Step 2) Calculate'!C1197,\"\")","v":""}]
[null,null,null,null,null,null,null,null,null,null,{"$f":"IF(L1194<>\"\",'Step 2) Calculate'!B1198,\"Zzzzz - delete row\")","v":"Zzzzz - delete row"},{"$f":"IF('Step 2) Calculate'!E1198<>\"\",'Step 2) Calculate'!G1198,\"\")","v":""},{"$f":"IF(L1194<>\"\",'Step 2) Calculate'!F1198,\"\")","v":""},{"$f":"IF(L1194<>\"\",'Step 2) Calculate'!H1198,\"\")","v":""},{"$f":"IF(L1194<>\"\",'Step 2) Calculate'!C1198,\"\")","v":""}]
[null,null,null,null,null,null,null,null,null,null,{"$f":"IF(L1195<>\"\",'Step 2) Calculate'!B1199,\"Zzzzz - delete row\")","v":"Zzzzz - delete row"},{"$f":"IF('Step 2) Calculate'!E1199<>\"\",'Step 2) Calculate'!G1199,\"\")","v":""},{"$f":"IF(L1195<>\"\",'Step 2) Calculate'!F1199,\"\")","v":""},{"$f":"IF(L1195<>\"\",'Step 2) Calculate'!H1199,\"\")","v":""},{"$f":"IF(L1195<>\"\",'Step 2) Calculate'!C1199,\"\")","v":""}]
[null,null,null,null,null,null,null,null,null,null,{"$f":"IF(L1196<>\"\",'Step 2) Calculate'!B1200,\"Zzzzz - delete row\")","v":"Zzzzz - delete row"},{"$f":"IF('Step 2) Calculate'!E1200<>\"\",'Step 2) Calculate'!G1200,\"\")","v":""},{"$f":"IF(L1196<>\"\",'Step 2) Calculate'!F1200,\"\")","v":""},{"$f":"IF(L1196<>\"\",'Step 2) Calculate'!H1200,\"\")","v":""},{"$f":"IF(L1196<>\"\",'Step 2) Calculate'!C1200,\"\")","v":""}]
[null,null,null,null,null,null,null,null,null,null,{"$f":"IF(L1197<>\"\",'Step 2) Calculate'!B1201,\"Zzzzz - delete row\")","v":"Zzzzz - delete row"},{"$f":"IF('Step 2) Calculate'!E1201<>\"\",'Step 2) Calculate'!G1201,\"\")","v":""},{"$f":"IF(L1197<>\"\",'Step 2) Calculate'!F1201,\"\")","v":""},{"$f":"IF(L1197<>\"\",'Step 2) Calculate'!H1201,\"\")","v":""},{"$f":"IF(L1197<>\"\",'Step 2) Calculate'!C1201,\"\")","v":""}]
[null,null,null,null,null,null,null,null,null,null,{"$f":"IF(L1198<>\"\",'Step 2) Calculate'!B1202,\"Zzzzz - delete row\")","v":"Zzzzz - delete row"},{"$f":"IF('Step 2) Calculate'!E1202<>\"\",'Step 2) Calculate'!G1202,\"\")","v":""},{"$f":"IF(L1198<>\"\",'Step 2) Calculate'!F1202,\"\")","v":""},{"$f":"IF(L1198<>\"\",'Step 2) Calculate'!H1202,\"\")","v":""},{"$f":"IF(L1198<>\"\",'Step 2) Calculate'!C1202,\"\")","v":""}]
[null,null,null,null,null,null,null,null,null,null,{"$f":"IF(L1199<>\"\",'Step 2) Calculate'!B1203,\"Zzzzz - delete row\")","v":"Zzzzz - delete row"},{"$f":"IF('Step 2) Calculate'!E1203<>\"\",'Step 2) Calculate'!G1203,\"\")","v":""},{"$f":"IF(L1199<>\"\",'Step 2) Calculate'!F1203,\"\")","v":""},{"$f":"IF(L1199<>\"\",'Step 2) Calculate'!H1203,\"\")","v":""},{"$f":"IF(L1199<>\"\",'Step 2) Calculate'!C1203,\"\")","v":""}]
[null,null,null,null,null,null,null,null,null,null,{"$f":"IF(L1200<>\"\",'Step 2) Calculate'!B1204,\"Zzzzz - delete row\")","v":"Zzzzz - delete row"},{"$f":"IF('Step 2) Calculate'!E1204<>\"\",'Step 2) Calculate'!G1204,\"\")","v":""},{"$f":"IF(L1200<>\"\",'Step 2) Calculate'!F1204,\"\")","v":""},{"$f":"IF(L1200<>\"\",'Step 2) Calculate'!H1204,\"\")","v":""},{"$f":"IF(L1200<>\"\",'Step 2) Calculate'!C1204,\"\")","v":""}]
[null,null,null,null,null,null,null,null,null,null,{"$f":"IF(L1201<>\"\",'Step 2) Calculate'!B1205,\"Zzzzz - delete row\")","v":"Zzzzz - delete row"},{"$f":"IF('Step 2) Calculate'!E1205<>\"\",'Step 2) Calculate'!G1205,\"\")","v":""},{"$f":"IF(L1201<>\"\",'Step 2) Calculate'!F1205,\"\")","v":""},{"$f":"IF(L1201<>\"\",'Step 2) Calculate'!H1205,\"\")","v":""},{"$f":"IF(L1201<>\"\",'Step 2) Calculate'!C1205,\"\")","v":""}]
[null,null,null,null,null,null,null,null,null,null,{"$f":"IF(L1202<>\"\",'Step 2) Calculate'!B1206,\"Zzzzz - delete row\")","v":"Zzzzz - delete row"},{"$f":"IF('Step 2) Calculate'!E1206<>\"\",'Step 2) Calculate'!G1206,\"\")","v":""},{"$f":"IF(L1202<>\"\",'Step 2) Calculate'!F1206,\"\")","v":""},{"$f":"IF(L1202<>\"\",'Step 2) Calculate'!H1206,\"\")","v":""},{"$f":"IF(L1202<>\"\",'Step 2) Calculate'!C1206,\"\")","v":""}]
[null,null,null,null,null,null,null,null,null,null,{"$f":"IF(L1203<>\"\",'Step 2) Calculate'!B1207,\"Zzzzz - delete row\")","v":"Zzzzz - delete row"},{"$f":"IF('Step 2) Calculate'!E1207<>\"\",'Step 2) Calculate'!G1207,\"\")","v":""},{"$f":"IF(L1203<>\"\",'Step 2) Calculate'!F1207,\"\")","v":""},{"$f":"IF(L1203<>\"\",'Step 2) Calculate'!H1207,\"\")","v":""},{"$f":"IF(L1203<>\"\",'Step 2) Calculate'!C1207,\"\")","v":""}]
[null,null,null,null,null,null,null,null,null,null,{"$f":"IF(L1204<>\"\",'Step 2) Calculate'!B1208,\"Zzzzz - delete row\")","v":"Zzzzz - delete row"},{"$f":"IF('Step 2) Calculate'!E1208<>\"\",'Step 2) Calculate'!G1208,\"\")","v":""},{"$f":"IF(L1204<>\"\",'Step 2) Calculate'!F1208,\"\")","v":""},{"$f":"IF(L1204<>\"\",'Step 2) Calculate'!H1208,\"\")","v":""},{"$f":"IF(L1204<>\"\",'Step 2) Calculate'!C1208,\"\")","v":""}]
[null,null,null,null,null,null,null,null,null,null,{"$f":"IF(L1205<>\"\",'Step 2) Calculate'!B1209,\"Zzzzz - delete row\")","v":"Zzzzz - delete row"},{"$f":"IF('Step 2) Calculate'!E1209<>\"\",'Step 2) Calculate'!G1209,\"\")","v":""},{"$f":"IF(L1205<>\"\",'Step 2) Calculate'!F1209,\"\")","v":""},{"$f":"IF(L1205<>\"\",'Step 2) Calculate'!H1209,\"\")","v":""},{"$f":"IF(L1205<>\"\",'Step 2) Calculate'!C1209,\"\")","v":""}]
[null,null,null,null,null,null,null,null,null,null,{"$f":"IF(L1206<>\"\",'Step 2) Calculate'!B1210,\"Zzzzz - delete row\")","v":"Zzzzz - delete row"},{"$f":"IF('Step 2) Calculate'!E1210<>\"\",'Step 2) Calculate'!G1210,\"\")","v":""},{"$f":"IF(L1206<>\"\",'Step 2) Calculate'!F1210,\"\")","v":""},{"$f":"IF(L1206<>\"\",'Step 2) Calculate'!H1210,\"\")","v":""},{"$f":"IF(L1206<>\"\",'Step 2) Calculate'!C1210,\"\")","v":""}]
[null,null,null,null,null,null,null,null,null,null,{"$f":"IF(L1207<>\"\",'Step 2) Calculate'!B1211,\"Zzzzz - delete row\")","v":"Zzzzz - delete row"},{"$f":"IF('Step 2) Calculate'!E1211<>\"\",'Step 2) Calculate'!G1211,\"\")","v":""},{"$f":"IF(L1207<>\"\",'Step 2) Calculate'!F1211,\"\")","v":""},{"$f":"IF(L1207<>\"\",'Step 2) Calculate'!H1211,\"\")","v":""},{"$f":"IF(L1207<>\"\",'Step 2) Calculate'!C1211,\"\")","v":""}]
[null,null,null,null,null,null,null,null,null,null,{"$f":"IF(L1208<>\"\",'Step 2) Calculate'!B1212,\"Zzzzz - delete row\")","v":"Zzzzz - delete row"},{"$f":"IF('Step 2) Calculate'!E1212<>\"\",'Step 2) Calculate'!G1212,\"\")","v":""},{"$f":"IF(L1208<>\"\",'Step 2) Calculate'!F1212,\"\")","v":""},{"$f":"IF(L1208<>\"\",'Step 2) Calculate'!H1212,\"\")","v":""},{"$f":"IF(L1208<>\"\",'Step 2) Calculate'!C1212,\"\")","v":""}]
[null,null,null,null,null,null,null,null,null,null,{"$f":"IF(L1209<>\"\",'Step 2) Calculate'!B1213,\"Zzzzz - delete row\")","v":"Zzzzz - delete row"},{"$f":"IF('Step 2) Calculate'!E1213<>\"\",'Step 2) Calculate'!G1213,\"\")","v":""},{"$f":"IF(L1209<>\"\",'Step 2) Calculate'!F1213,\"\")","v":""},{"$f":"IF(L1209<>\"\",'Step 2) Calculate'!H1213,\"\")","v":""},{"$f":"IF(L1209<>\"\",'Step 2) Calculate'!C1213,\"\")","v":""}]
[null,null,null,null,null,null,null,null,null,null,{"$f":"IF(L1210<>\"\",'Step 2) Calculate'!B1214,\"Zzzzz - delete row\")","v":"Zzzzz - delete row"},{"$f":"IF('Step 2) Calculate'!E1214<>\"\",'Step 2) Calculate'!G1214,\"\")","v":""},{"$f":"IF(L1210<>\"\",'Step 2) Calculate'!F1214,\"\")","v":""},{"$f":"IF(L1210<>\"\",'Step 2) Calculate'!H1214,\"\")","v":""},{"$f":"IF(L1210<>\"\",'Step 2) Calculate'!C1214,\"\")","v":""}]
[null,null,null,null,null,null,null,null,null,null,{"$f":"IF(L1211<>\"\",'Step 2) Calculate'!B1215,\"Zzzzz - delete row\")","v":"Zzzzz - delete row"},{"$f":"IF('Step 2) Calculate'!E1215<>\"\",'Step 2) Calculate'!G1215,\"\")","v":""},{"$f":"IF(L1211<>\"\",'Step 2) Calculate'!F1215,\"\")","v":""},{"$f":"IF(L1211<>\"\",'Step 2) Calculate'!H1215,\"\")","v":""},{"$f":"IF(L1211<>\"\",'Step 2) Calculate'!C1215,\"\")","v":""}]
[null,null,null,null,null,null,null,null,null,null,{"$f":"IF(L1212<>\"\",'Step 2) Calculate'!B1216,\"Zzzzz - delete row\")","v":"Zzzzz - delete row"},{"$f":"IF('Step 2) Calculate'!E1216<>\"\",'Step 2) Calculate'!G1216,\"\")","v":""},{"$f":"IF(L1212<>\"\",'Step 2) Calculate'!F1216,\"\")","v":""},{"$f":"IF(L1212<>\"\",'Step 2) Calculate'!H1216,\"\")","v":""},{"$f":"IF(L1212<>\"\",'Step 2) Calculate'!C1216,\"\")","v":""}]
[null,null,null,null,null,null,null,null,null,null,{"$f":"IF(L1213<>\"\",'Step 2) Calculate'!B1217,\"Zzzzz - delete row\")","v":"Zzzzz - delete row"},{"$f":"IF('Step 2) Calculate'!E1217<>\"\",'Step 2) Calculate'!G1217,\"\")","v":""},{"$f":"IF(L1213<>\"\",'Step 2) Calculate'!F1217,\"\")","v":""},{"$f":"IF(L1213<>\"\",'Step 2) Calculate'!H1217,\"\")","v":""},{"$f":"IF(L1213<>\"\",'Step 2) Calculate'!C1217,\"\")","v":""}]
[null,null,null,null,null,null,null,null,null,null,{"$f":"IF(L1214<>\"\",'Step 2) Calculate'!B1218,\"Zzzzz - delete row\")","v":"Zzzzz - delete row"},{"$f":"IF('Step 2) Calculate'!E1218<>\"\",'Step 2) Calculate'!G1218,\"\")","v":""},{"$f":"IF(L1214<>\"\",'Step 2) Calculate'!F1218,\"\")","v":""},{"$f":"IF(L1214<>\"\",'Step 2) Calculate'!H1218,\"\")","v":""},{"$f":"IF(L1214<>\"\",'Step 2) Calculate'!C1218,\"\")","v":""}]
[null,null,null,null,null,null,null,null,null,null,{"$f":"IF(L1215<>\"\",'Step 2) Calculate'!B1219,\"Zzzzz - delete row\")","v":"Zzzzz - delete row"},{"$f":"IF('Step 2) Calculate'!E1219<>\"\",'Step 2) Calculate'!G1219,\"\")","v":""},{"$f":"IF(L1215<>\"\",'Step 2) Calculate'!F1219,\"\")","v":""},{"$f":"IF(L1215<>\"\",'Step 2) Calculate'!H1219,\"\")","v":""},{"$f":"IF(L1215<>\"\",'Step 2) Calculate'!C1219,\"\")","v":""}]
[null,null,null,null,null,null,null,null,null,null,{"$f":"IF(L1216<>\"\",'Step 2) Calculate'!B1220,\"Zzzzz - delete row\")","v":"Zzzzz - delete row"},{"$f":"IF('Step 2) Calculate'!E1220<>\"\",'Step 2) Calculate'!G1220,\"\")","v":""},{"$f":"IF(L1216<>\"\",'Step 2) Calculate'!F1220,\"\")","v":""},{"$f":"IF(L1216<>\"\",'Step 2) Calculate'!H1220,\"\")","v":""},{"$f":"IF(L1216<>\"\",'Step 2) Calculate'!C1220,\"\")","v":""}]
[null,null,null,null,null,null,null,null,null,null,{"$f":"IF(L1217<>\"\",'Step 2) Calculate'!B1221,\"Zzzzz - delete row\")","v":"Zzzzz - delete row"},{"$f":"IF('Step 2) Calculate'!E1221<>\"\",'Step 2) Calculate'!G1221,\"\")","v":""},{"$f":"IF(L1217<>\"\",'Step 2) Calculate'!F1221,\"\")","v":""},{"$f":"IF(L1217<>\"\",'Step 2) Calculate'!H1221,\"\")","v":""},{"$f":"IF(L1217<>\"\",'Step 2) Calculate'!C1221,\"\")","v":""}]
[null,null,null,null,null,null,null,null,null,null,{"$f":"IF(L1218<>\"\",'Step 2) Calculate'!B1222,\"Zzzzz - delete row\")","v":"Zzzzz - delete row"},{"$f":"IF('Step 2) Calculate'!E1222<>\"\",'Step 2) Calculate'!G1222,\"\")","v":""},{"$f":"IF(L1218<>\"\",'Step 2) Calculate'!F1222,\"\")","v":""},{"$f":"IF(L1218<>\"\",'Step 2) Calculate'!H1222,\"\")","v":""},{"$f":"IF(L1218<>\"\",'Step 2) Calculate'!C1222,\"\")","v":""}]
[null,null,null,null,null,null,null,null,null,null,{"$f":"IF(L1219<>\"\",'Step 2) Calculate'!B1223,\"Zzzzz - delete row\")","v":"Zzzzz - delete row"},{"$f":"IF('Step 2) Calculate'!E1223<>\"\",'Step 2) Calculate'!G1223,\"\")","v":""},{"$f":"IF(L1219<>\"\",'Step 2) Calculate'!F1223,\"\")","v":""},{"$f":"IF(L1219<>\"\",'Step 2) Calculate'!H1223,\"\")","v":""},{"$f":"IF(L1219<>\"\",'Step 2) Calculate'!C1223,\"\")","v":""}]
[null,null,null,null,null,null,null,null,null,null,{"$f":"IF(L1220<>\"\",'Step 2) Calculate'!B1224,\"Zzzzz - delete row\")","v":"Zzzzz - delete row"},{"$f":"IF('Step 2) Calculate'!E1224<>\"\",'Step 2) Calculate'!G1224,\"\")","v":""},{"$f":"IF(L1220<>\"\",'Step 2) Calculate'!F1224,\"\")","v":""},{"$f":"IF(L1220<>\"\",'Step 2) Calculate'!H1224,\"\")","v":""},{"$f":"IF(L1220<>\"\",'Step 2) Calculate'!C1224,\"\")","v":""}]
[null,null,null,null,null,null,null,null,null,null,{"$f":"IF(L1221<>\"\",'Step 2) Calculate'!B1225,\"Zzzzz - delete row\")","v":"Zzzzz - delete row"},{"$f":"IF('Step 2) Calculate'!E1225<>\"\",'Step 2) Calculate'!G1225,\"\")","v":""},{"$f":"IF(L1221<>\"\",'Step 2) Calculate'!F1225,\"\")","v":""},{"$f":"IF(L1221<>\"\",'Step 2) Calculate'!H1225,\"\")","v":""},{"$f":"IF(L1221<>\"\",'Step 2) Calculate'!C1225,\"\")","v":""}]
[null,null,null,null,null,null,null,null,null,null,{"$f":"IF(L1222<>\"\",'Step 2) Calculate'!B1226,\"Zzzzz - delete row\")","v":"Zzzzz - delete row"},{"$f":"IF('Step 2) Calculate'!E1226<>\"\",'Step 2) Calculate'!G1226,\"\")","v":""},{"$f":"IF(L1222<>\"\",'Step 2) Calculate'!F1226,\"\")","v":""},{"$f":"IF(L1222<>\"\",'Step 2) Calculate'!H1226,\"\")","v":""},{"$f":"IF(L1222<>\"\",'Step 2) Calculate'!C1226,\"\")","v":""}]
[null,null,null,null,null,null,null,null,null,null,{"$f":"IF(L1223<>\"\",'Step 2) Calculate'!B1227,\"Zzzzz - delete row\")","v":"Zzzzz - delete row"},{"$f":"IF('Step 2) Calculate'!E1227<>\"\",'Step 2) Calculate'!G1227,\"\")","v":""},{"$f":"IF(L1223<>\"\",'Step 2) Calculate'!F1227,\"\")","v":""},{"$f":"IF(L1223<>\"\",'Step 2) Calculate'!H1227,\"\")","v":""},{"$f":"IF(L1223<>\"\",'Step 2) Calculate'!C1227,\"\")","v":""}]
[null,null,null,null,null,null,null,null,null,null,{"$f":"IF(L1224<>\"\",'Step 2) Calculate'!B1228,\"Zzzzz - delete row\")","v":"Zzzzz - delete row"},{"$f":"IF('Step 2) Calculate'!E1228<>\"\",'Step 2) Calculate'!G1228,\"\")","v":""},{"$f":"IF(L1224<>\"\",'Step 2) Calculate'!F1228,\"\")","v":""},{"$f":"IF(L1224<>\"\",'Step 2) Calculate'!H1228,\"\")","v":""},{"$f":"IF(L1224<>\"\",'Step 2) Calculate'!C1228,\"\")","v":""}]
[null,null,null,null,null,null,null,null,null,null,{"$f":"IF(L1225<>\"\",'Step 2) Calculate'!B1229,\"Zzzzz - delete row\")","v":"Zzzzz - delete row"},{"$f":"IF('Step 2) Calculate'!E1229<>\"\",'Step 2) Calculate'!G1229,\"\")","v":""},{"$f":"IF(L1225<>\"\",'Step 2) Calculate'!F1229,\"\")","v":""},{"$f":"IF(L1225<>\"\",'Step 2) Calculate'!H1229,\"\")","v":""},{"$f":"IF(L1225<>\"\",'Step 2) Calculate'!C1229,\"\")","v":""}]
[null,null,null,null,null,null,null,null,null,null,{"$f":"IF(L1226<>\"\",'Step 2) Calculate'!B1230,\"Zzzzz - delete row\")","v":"Zzzzz - delete row"},{"$f":"IF('Step 2) Calculate'!E1230<>\"\",'Step 2) Calculate'!G1230,\"\")","v":""},{"$f":"IF(L1226<>\"\",'Step 2) Calculate'!F1230,\"\")","v":""},{"$f":"IF(L1226<>\"\",'Step 2) Calculate'!H1230,\"\")","v":""},{"$f":"IF(L1226<>\"\",'Step 2) Calculate'!C1230,\"\")","v":""}]
[null,null,null,null,null,null,null,null,null,null,{"$f":"IF(L1227<>\"\",'Step 2) Calculate'!B1231,\"Zzzzz - delete row\")","v":"Zzzzz - delete row"},{"$f":"IF('Step 2) Calculate'!E1231<>\"\",'Step 2) Calculate'!G1231,\"\")","v":""},{"$f":"IF(L1227<>\"\",'Step 2) Calculate'!F1231,\"\")","v":""},{"$f":"IF(L1227<>\"\",'Step 2) Calculate'!H1231,\"\")","v":""},{"$f":"IF(L1227<>\"\",'Step 2) Calculate'!C1231,\"\")","v":""}]
[null,null,null,null,null,null,null,null,null,null,{"$f":"IF(L1228<>\"\",'Step 2) Calculate'!B1232,\"Zzzzz - delete row\")","v":"Zzzzz - delete row"},{"$f":"IF('Step 2) Calculate'!E1232<>\"\",'Step 2) Calculate'!G1232,\"\")","v":""},{"$f":"IF(L1228<>\"\",'Step 2) Calculate'!F1232,\"\")","v":""},{"$f":"IF(L1228<>\"\",'Step 2) Calculate'!H1232,\"\")","v":""},{"$f":"IF(L1228<>\"\",'Step 2) Calculate'!C1232,\"\")","v":""}]
[null,null,null,null,null,null,null,null,null,null,{"$f":"IF(L1229<>\"\",'Step 2) Calculate'!B1233,\"Zzzzz - delete row\")","v":"Zzzzz - delete row"},{"$f":"IF('Step 2) Calculate'!E1233<>\"\",'Step 2) Calculate'!G1233,\"\")","v":""},{"$f":"IF(L1229<>\"\",'Step 2) Calculate'!F1233,\"\")","v":""},{"$f":"IF(L1229<>\"\",'Step 2) Calculate'!H1233,\"\")","v":""},{"$f":"IF(L1229<>\"\",'Step 2) Calculate'!C1233,\"\")","v":""}]
[null,null,null,null,null,null,null,null,null,null,{"$f":"IF(L1230<>\"\",'Step 2) Calculate'!B1234,\"Zzzzz - delete row\")","v":"Zzzzz - delete row"},{"$f":"IF('Step 2) Calculate'!E1234<>\"\",'Step 2) Calculate'!G1234,\"\")","v":""},{"$f":"IF(L1230<>\"\",'Step 2) Calculate'!F1234,\"\")","v":""},{"$f":"IF(L1230<>\"\",'Step 2) Calculate'!H1234,\"\")","v":""},{"$f":"IF(L1230<>\"\",'Step 2) Calculate'!C1234,\"\")","v":""}]
[null,null,null,null,null,null,null,null,null,null,{"$f":"IF(L1231<>\"\",'Step 2) Calculate'!B1235,\"Zzzzz - delete row\")","v":"Zzzzz - delete row"},{"$f":"IF('Step 2) Calculate'!E1235<>\"\",'Step 2) Calculate'!G1235,\"\")","v":""},{"$f":"IF(L1231<>\"\",'Step 2) Calculate'!F1235,\"\")","v":""},{"$f":"IF(L1231<>\"\",'Step 2) Calculate'!H1235,\"\")","v":""},{"$f":"IF(L1231<>\"\",'Step 2) Calculate'!C1235,\"\")","v":""}]
[null,null,null,null,null,null,null,null,null,null,{"$f":"IF(L1232<>\"\",'Step 2) Calculate'!B1236,\"Zzzzz - delete row\")","v":"Zzzzz - delete row"},{"$f":"IF('Step 2) Calculate'!E1236<>\"\",'Step 2) Calculate'!G1236,\"\")","v":""},{"$f":"IF(L1232<>\"\",'Step 2) Calculate'!F1236,\"\")","v":""},{"$f":"IF(L1232<>\"\",'Step 2) Calculate'!H1236,\"\")","v":""},{"$f":"IF(L1232<>\"\",'Step 2) Calculate'!C1236,\"\")","v":""}]
[null,null,null,null,null,null,null,null,null,null,{"$f":"IF(L1233<>\"\",'Step 2) Calculate'!B1237,\"Zzzzz - delete row\")","v":"Zzzzz - delete row"},{"$f":"IF('Step 2) Calculate'!E1237<>\"\",'Step 2) Calculate'!G1237,\"\")","v":""},{"$f":"IF(L1233<>\"\",'Step 2) Calculate'!F1237,\"\")","v":""},{"$f":"IF(L1233<>\"\",'Step 2) Calculate'!H1237,\"\")","v":""},{"$f":"IF(L1233<>\"\",'Step 2) Calculate'!C1237,\"\")","v":""}]
[null,null,null,null,null,null,null,null,null,null,{"$f":"IF(L1234<>\"\",'Step 2) Calculate'!B1238,\"Zzzzz - delete row\")","v":"Zzzzz - delete row"},{"$f":"IF('Step 2) Calculate'!E1238<>\"\",'Step 2) Calculate'!G1238,\"\")","v":""},{"$f":"IF(L1234<>\"\",'Step 2) Calculate'!F1238,\"\")","v":""},{"$f":"IF(L1234<>\"\",'Step 2) Calculate'!H1238,\"\")","v":""},{"$f":"IF(L1234<>\"\",'Step 2) Calculate'!C1238,\"\")","v":""}]
[null,null,null,null,null,null,null,null,null,null,{"$f":"IF(L1235<>\"\",'Step 2) Calculate'!B1239,\"Zzzzz - delete row\")","v":"Zzzzz - delete row"},{"$f":"IF('Step 2) Calculate'!E1239<>\"\",'Step 2) Calculate'!G1239,\"\")","v":""},{"$f":"IF(L1235<>\"\",'Step 2) Calculate'!F1239,\"\")","v":""},{"$f":"IF(L1235<>\"\",'Step 2) Calculate'!H1239,\"\")","v":""},{"$f":"IF(L1235<>\"\",'Step 2) Calculate'!C1239,\"\")","v":""}]
[null,null,null,null,null,null,null,null,null,null,{"$f":"IF(L1236<>\"\",'Step 2) Calculate'!B1240,\"Zzzzz - delete row\")","v":"Zzzzz - delete row"},{"$f":"IF('Step 2) Calculate'!E1240<>\"\",'Step 2) Calculate'!G1240,\"\")","v":""},{"$f":"IF(L1236<>\"\",'Step 2) Calculate'!F1240,\"\")","v":""},{"$f":"IF(L1236<>\"\",'Step 2) Calculate'!H1240,\"\")","v":""},{"$f":"IF(L1236<>\"\",'Step 2) Calculate'!C1240,\"\")","v":""}]
[null,null,null,null,null,null,null,null,null,null,{"$f":"IF(L1237<>\"\",'Step 2) Calculate'!B1241,\"Zzzzz - delete row\")","v":"Zzzzz - delete row"},{"$f":"IF('Step 2) Calculate'!E1241<>\"\",'Step 2) Calculate'!G1241,\"\")","v":""},{"$f":"IF(L1237<>\"\",'Step 2) Calculate'!F1241,\"\")","v":""},{"$f":"IF(L1237<>\"\",'Step 2) Calculate'!H1241,\"\")","v":""},{"$f":"IF(L1237<>\"\",'Step 2) Calculate'!C1241,\"\")","v":""}]
[null,null,null,null,null,null,null,null,null,null,{"$f":"IF(L1238<>\"\",'Step 2) Calculate'!B1242,\"Zzzzz - delete row\")","v":"Zzzzz - delete row"},{"$f":"IF('Step 2) Calculate'!E1242<>\"\",'Step 2) Calculate'!G1242,\"\")","v":""},{"$f":"IF(L1238<>\"\",'Step 2) Calculate'!F1242,\"\")","v":""},{"$f":"IF(L1238<>\"\",'Step 2) Calculate'!H1242,\"\")","v":""},{"$f":"IF(L1238<>\"\",'Step 2) Calculate'!C1242,\"\")","v":""}]
[null,null,null,null,null,null,null,null,null,null,{"$f":"IF(L1239<>\"\",'Step 2) Calculate'!B1243,\"Zzzzz - delete row\")","v":"Zzzzz - delete row"},{"$f":"IF('Step 2) Calculate'!E1243<>\"\",'Step 2) Calculate'!G1243,\"\")","v":""},{"$f":"IF(L1239<>\"\",'Step 2) Calculate'!F1243,\"\")","v":""},{"$f":"IF(L1239<>\"\",'Step 2) Calculate'!H1243,\"\")","v":""},{"$f":"IF(L1239<>\"\",'Step 2) Calculate'!C1243,\"\")","v":""}]
[null,null,null,null,null,null,null,null,null,null,{"$f":"IF(L1240<>\"\",'Step 2) Calculate'!B1244,\"Zzzzz - delete row\")","v":"Zzzzz - delete row"},{"$f":"IF('Step 2) Calculate'!E1244<>\"\",'Step 2) Calculate'!G1244,\"\")","v":""},{"$f":"IF(L1240<>\"\",'Step 2) Calculate'!F1244,\"\")","v":""},{"$f":"IF(L1240<>\"\",'Step 2) Calculate'!H1244,\"\")","v":""},{"$f":"IF(L1240<>\"\",'Step 2) Calculate'!C1244,\"\")","v":""}]
[null,null,null,null,null,null,null,null,null,null,{"$f":"IF(L1241<>\"\",'Step 2) Calculate'!B1245,\"Zzzzz - delete row\")","v":"Zzzzz - delete row"},{"$f":"IF('Step 2) Calculate'!E1245<>\"\",'Step 2) Calculate'!G1245,\"\")","v":""},{"$f":"IF(L1241<>\"\",'Step 2) Calculate'!F1245,\"\")","v":""},{"$f":"IF(L1241<>\"\",'Step 2) Calculate'!H1245,\"\")","v":""},{"$f":"IF(L1241<>\"\",'Step 2) Calculate'!C1245,\"\")","v":""}]
[null,null,null,null,null,null,null,null,null,null,{"$f":"IF(L1242<>\"\",'Step 2) Calculate'!B1246,\"Zzzzz - delete row\")","v":"Zzzzz - delete row"},{"$f":"IF('Step 2) Calculate'!E1246<>\"\",'Step 2) Calculate'!G1246,\"\")","v":""},{"$f":"IF(L1242<>\"\",'Step 2) Calculate'!F1246,\"\")","v":""},{"$f":"IF(L1242<>\"\",'Step 2) Calculate'!H1246,\"\")","v":""},{"$f":"IF(L1242<>\"\",'Step 2) Calculate'!C1246,\"\")","v":""}]
[null,null,null,null,null,null,null,null,null,null,{"$f":"IF(L1243<>\"\",'Step 2) Calculate'!B1247,\"Zzzzz - delete row\")","v":"Zzzzz - delete row"},{"$f":"IF('Step 2) Calculate'!E1247<>\"\",'Step 2) Calculate'!G1247,\"\")","v":""},{"$f":"IF(L1243<>\"\",'Step 2) Calculate'!F1247,\"\")","v":""},{"$f":"IF(L1243<>\"\",'Step 2) Calculate'!H1247,\"\")","v":""},{"$f":"IF(L1243<>\"\",'Step 2) Calculate'!C1247,\"\")","v":""}]
[null,null,null,null,null,null,null,null,null,null,{"$f":"IF(L1244<>\"\",'Step 2) Calculate'!B1248,\"Zzzzz - delete row\")","v":"Zzzzz - delete row"},{"$f":"IF('Step 2) Calculate'!E1248<>\"\",'Step 2) Calculate'!G1248,\"\")","v":""},{"$f":"IF(L1244<>\"\",'Step 2) Calculate'!F1248,\"\")","v":""},{"$f":"IF(L1244<>\"\",'Step 2) Calculate'!H1248,\"\")","v":""},{"$f":"IF(L1244<>\"\",'Step 2) Calculate'!C1248,\"\")","v":""}]
[null,null,null,null,null,null,null,null,null,null,{"$f":"IF(L1245<>\"\",'Step 2) Calculate'!B1249,\"Zzzzz - delete row\")","v":"Zzzzz - delete row"},{"$f":"IF('Step 2) Calculate'!E1249<>\"\",'Step 2) Calculate'!G1249,\"\")","v":""},{"$f":"IF(L1245<>\"\",'Step 2) Calculate'!F1249,\"\")","v":""},{"$f":"IF(L1245<>\"\",'Step 2) Calculate'!H1249,\"\")","v":""},{"$f":"IF(L1245<>\"\",'Step 2) Calculate'!C1249,\"\")","v":""}]
[null,null,null,null,null,null,null,null,null,null,{"$f":"IF(L1246<>\"\",'Step 2) Calculate'!B1250,\"Zzzzz - delete row\")","v":"Zzzzz - delete row"},{"$f":"IF('Step 2) Calculate'!E1250<>\"\",'Step 2) Calculate'!G1250,\"\")","v":""},{"$f":"IF(L1246<>\"\",'Step 2) Calculate'!F1250,\"\")","v":""},{"$f":"IF(L1246<>\"\",'Step 2) Calculate'!H1250,\"\")","v":""},{"$f":"IF(L1246<>\"\",'Step 2) Calculate'!C1250,\"\")","v":""}]
[null,null,null,null,null,null,null,null,null,null,{"$f":"IF(L1247<>\"\",'Step 2) Calculate'!B1251,\"Zzzzz - delete row\")","v":"Zzzzz - delete row"},{"$f":"IF('Step 2) Calculate'!E1251<>\"\",'Step 2) Calculate'!G1251,\"\")","v":""},{"$f":"IF(L1247<>\"\",'Step 2) Calculate'!F1251,\"\")","v":""},{"$f":"IF(L1247<>\"\",'Step 2) Calculate'!H1251,\"\")","v":""},{"$f":"IF(L1247<>\"\",'Step 2) Calculate'!C1251,\"\")","v":""}]
[null,null,null,null,null,null,null,null,null,null,{"$f":"IF(L1248<>\"\",'Step 2) Calculate'!B1252,\"Zzzzz - delete row\")","v":"Zzzzz - delete row"},{"$f":"IF('Step 2) Calculate'!E1252<>\"\",'Step 2) Calculate'!G1252,\"\")","v":""},{"$f":"IF(L1248<>\"\",'Step 2) Calculate'!F1252,\"\")","v":""},{"$f":"IF(L1248<>\"\",'Step 2) Calculate'!H1252,\"\")","v":""},{"$f":"IF(L1248<>\"\",'Step 2) Calculate'!C1252,\"\")","v":""}]
[null,null,null,null,null,null,null,null,null,null,{"$f":"IF(L1249<>\"\",'Step 2) Calculate'!B1253,\"Zzzzz - delete row\")","v":"Zzzzz - delete row"},{"$f":"IF('Step 2) Calculate'!E1253<>\"\",'Step 2) Calculate'!G1253,\"\")","v":""},{"$f":"IF(L1249<>\"\",'Step 2) Calculate'!F1253,\"\")","v":""},{"$f":"IF(L1249<>\"\",'Step 2) Calculate'!H1253,\"\")","v":""},{"$f":"IF(L1249<>\"\",'Step 2) Calculate'!C1253,\"\")","v":""}]
[null,null,null,null,null,null,null,null,null,null,{"$f":"IF(L1250<>\"\",'Step 2) Calculate'!B1254,\"Zzzzz - delete row\")","v":"Zzzzz - delete row"},{"$f":"IF('Step 2) Calculate'!E1254<>\"\",'Step 2) Calculate'!G1254,\"\")","v":""},{"$f":"IF(L1250<>\"\",'Step 2) Calculate'!F1254,\"\")","v":""},{"$f":"IF(L1250<>\"\",'Step 2) Calculate'!H1254,\"\")","v":""},{"$f":"IF(L1250<>\"\",'Step 2) Calculate'!C1254,\"\")","v":""}]
[null,null,null,null,null,null,null,null,null,null,{"$f":"IF(L1251<>\"\",'Step 2) Calculate'!B1255,\"Zzzzz - delete row\")","v":"Zzzzz - delete row"},{"$f":"IF('Step 2) Calculate'!E1255<>\"\",'Step 2) Calculate'!G1255,\"\")","v":""},{"$f":"IF(L1251<>\"\",'Step 2) Calculate'!F1255,\"\")","v":""},{"$f":"IF(L1251<>\"\",'Step 2) Calculate'!H1255,\"\")","v":""},{"$f":"IF(L1251<>\"\",'Step 2) Calculate'!C1255,\"\")","v":""}]
[null,null,null,null,null,null,null,null,null,null,{"$f":"IF(L1252<>\"\",'Step 2) Calculate'!B1256,\"Zzzzz - delete row\")","v":"Zzzzz - delete row"},{"$f":"IF('Step 2) Calculate'!E1256<>\"\",'Step 2) Calculate'!G1256,\"\")","v":""},{"$f":"IF(L1252<>\"\",'Step 2) Calculate'!F1256,\"\")","v":""},{"$f":"IF(L1252<>\"\",'Step 2) Calculate'!H1256,\"\")","v":""},{"$f":"IF(L1252<>\"\",'Step 2) Calculate'!C1256,\"\")","v":""}]
[null,null,null,null,null,null,null,null,null,null,{"$f":"IF(L1253<>\"\",'Step 2) Calculate'!B1257,\"Zzzzz - delete row\")","v":"Zzzzz - delete row"},{"$f":"IF('Step 2) Calculate'!E1257<>\"\",'Step 2) Calculate'!G1257,\"\")","v":""},{"$f":"IF(L1253<>\"\",'Step 2) Calculate'!F1257,\"\")","v":""},{"$f":"IF(L1253<>\"\",'Step 2) Calculate'!H1257,\"\")","v":""},{"$f":"IF(L1253<>\"\",'Step 2) Calculate'!C1257,\"\")","v":""}]
[null,null,null,null,null,null,null,null,null,null,{"$f":"IF(L1254<>\"\",'Step 2) Calculate'!B1258,\"Zzzzz - delete row\")","v":"Zzzzz - delete row"},{"$f":"IF('Step 2) Calculate'!E1258<>\"\",'Step 2) Calculate'!G1258,\"\")","v":""},{"$f":"IF(L1254<>\"\",'Step 2) Calculate'!F1258,\"\")","v":""},{"$f":"IF(L1254<>\"\",'Step 2) Calculate'!H1258,\"\")","v":""},{"$f":"IF(L1254<>\"\",'Step 2) Calculate'!C1258,\"\")","v":""}]
[null,null,null,null,null,null,null,null,null,null,{"$f":"IF(L1255<>\"\",'Step 2) Calculate'!B1259,\"Zzzzz - delete row\")","v":"Zzzzz - delete row"},{"$f":"IF('Step 2) Calculate'!E1259<>\"\",'Step 2) Calculate'!G1259,\"\")","v":""},{"$f":"IF(L1255<>\"\",'Step 2) Calculate'!F1259,\"\")","v":""},{"$f":"IF(L1255<>\"\",'Step 2) Calculate'!H1259,\"\")","v":""},{"$f":"IF(L1255<>\"\",'Step 2) Calculate'!C1259,\"\")","v":""}]
[null,null,null,null,null,null,null,null,null,null,{"$f":"IF(L1256<>\"\",'Step 2) Calculate'!B1260,\"Zzzzz - delete row\")","v":"Zzzzz - delete row"},{"$f":"IF('Step 2) Calculate'!E1260<>\"\",'Step 2) Calculate'!G1260,\"\")","v":""},{"$f":"IF(L1256<>\"\",'Step 2) Calculate'!F1260,\"\")","v":""},{"$f":"IF(L1256<>\"\",'Step 2) Calculate'!H1260,\"\")","v":""},{"$f":"IF(L1256<>\"\",'Step 2) Calculate'!C1260,\"\")","v":""}]
[null,null,null,null,null,null,null,null,null,null,{"$f":"IF(L1257<>\"\",'Step 2) Calculate'!B1261,\"Zzzzz - delete row\")","v":"Zzzzz - delete row"},{"$f":"IF('Step 2) Calculate'!E1261<>\"\",'Step 2) Calculate'!G1261,\"\")","v":""},{"$f":"IF(L1257<>\"\",'Step 2) Calculate'!F1261,\"\")","v":""},{"$f":"IF(L1257<>\"\",'Step 2) Calculate'!H1261,\"\")","v":""},{"$f":"IF(L1257<>\"\",'Step 2) Calculate'!C1261,\"\")","v":""}]
[null,null,null,null,null,null,null,null,null,null,{"$f":"IF(L1258<>\"\",'Step 2) Calculate'!B1262,\"Zzzzz - delete row\")","v":"Zzzzz - delete row"},{"$f":"IF('Step 2) Calculate'!E1262<>\"\",'Step 2) Calculate'!G1262,\"\")","v":""},{"$f":"IF(L1258<>\"\",'Step 2) Calculate'!F1262,\"\")","v":""},{"$f":"IF(L1258<>\"\",'Step 2) Calculate'!H1262,\"\")","v":""},{"$f":"IF(L1258<>\"\",'Step 2) Calculate'!C1262,\"\")","v":""}]
[null,null,null,null,null,null,null,null,null,null,{"$f":"IF(L1259<>\"\",'Step 2) Calculate'!B1263,\"Zzzzz - delete row\")","v":"Zzzzz - delete row"},{"$f":"IF('Step 2) Calculate'!E1263<>\"\",'Step 2) Calculate'!G1263,\"\")","v":""},{"$f":"IF(L1259<>\"\",'Step 2) Calculate'!F1263,\"\")","v":""},{"$f":"IF(L1259<>\"\",'Step 2) Calculate'!H1263,\"\")","v":""},{"$f":"IF(L1259<>\"\",'Step 2) Calculate'!C1263,\"\")","v":""}]
[null,null,null,null,null,null,null,null,null,null,{"$f":"IF(L1260<>\"\",'Step 2) Calculate'!B1264,\"Zzzzz - delete row\")","v":"Zzzzz - delete row"},{"$f":"IF('Step 2) Calculate'!E1264<>\"\",'Step 2) Calculate'!G1264,\"\")","v":""},{"$f":"IF(L1260<>\"\",'Step 2) Calculate'!F1264,\"\")","v":""},{"$f":"IF(L1260<>\"\",'Step 2) Calculate'!H1264,\"\")","v":""},{"$f":"IF(L1260<>\"\",'Step 2) Calculate'!C1264,\"\")","v":""}]
[null,null,null,null,null,null,null,null,null,null,{"$f":"IF(L1261<>\"\",'Step 2) Calculate'!B1265,\"Zzzzz - delete row\")","v":"Zzzzz - delete row"},{"$f":"IF('Step 2) Calculate'!E1265<>\"\",'Step 2) Calculate'!G1265,\"\")","v":""},{"$f":"IF(L1261<>\"\",'Step 2) Calculate'!F1265,\"\")","v":""},{"$f":"IF(L1261<>\"\",'Step 2) Calculate'!H1265,\"\")","v":""},{"$f":"IF(L1261<>\"\",'Step 2) Calculate'!C1265,\"\")","v":""}]
[null,null,null,null,null,null,null,null,null,null,{"$f":"IF(L1262<>\"\",'Step 2) Calculate'!B1266,\"Zzzzz - delete row\")","v":"Zzzzz - delete row"},{"$f":"IF('Step 2) Calculate'!E1266<>\"\",'Step 2) Calculate'!G1266,\"\")","v":""},{"$f":"IF(L1262<>\"\",'Step 2) Calculate'!F1266,\"\")","v":""},{"$f":"IF(L1262<>\"\",'Step 2) Calculate'!H1266,\"\")","v":""},{"$f":"IF(L1262<>\"\",'Step 2) Calculate'!C1266,\"\")","v":""}]
[null,null,null,null,null,null,null,null,null,null,{"$f":"IF(L1263<>\"\",'Step 2) Calculate'!B1267,\"Zzzzz - delete row\")","v":"Zzzzz - delete row"},{"$f":"IF('Step 2) Calculate'!E1267<>\"\",'Step 2) Calculate'!G1267,\"\")","v":""},{"$f":"IF(L1263<>\"\",'Step 2) Calculate'!F1267,\"\")","v":""},{"$f":"IF(L1263<>\"\",'Step 2) Calculate'!H1267,\"\")","v":""},{"$f":"IF(L1263<>\"\",'Step 2) Calculate'!C1267,\"\")","v":""}]
[null,null,null,null,null,null,null,null,null,null,{"$f":"IF(L1264<>\"\",'Step 2) Calculate'!B1268,\"Zzzzz - delete row\")","v":"Zzzzz - delete row"},{"$f":"IF('Step 2) Calculate'!E1268<>\"\",'Step 2) Calculate'!G1268,\"\")","v":""},{"$f":"IF(L1264<>\"\",'Step 2) Calculate'!F1268,\"\")","v":""},{"$f":"IF(L1264<>\"\",'Step 2) Calculate'!H1268,\"\")","v":""},{"$f":"IF(L1264<>\"\",'Step 2) Calculate'!C1268,\"\")","v":""}]
[null,null,null,null,null,null,null,null,null,null,{"$f":"IF(L1265<>\"\",'Step 2) Calculate'!B1269,\"Zzzzz - delete row\")","v":"Zzzzz - delete row"},{"$f":"IF('Step 2) Calculate'!E1269<>\"\",'Step 2) Calculate'!G1269,\"\")","v":""},{"$f":"IF(L1265<>\"\",'Step 2) Calculate'!F1269,\"\")","v":""},{"$f":"IF(L1265<>\"\",'Step 2) Calculate'!H1269,\"\")","v":""},{"$f":"IF(L1265<>\"\",'Step 2) Calculate'!C1269,\"\")","v":""}]
[null,null,null,null,null,null,null,null,null,null,{"$f":"IF(L1266<>\"\",'Step 2) Calculate'!B1270,\"Zzzzz - delete row\")","v":"Zzzzz - delete row"},{"$f":"IF('Step 2) Calculate'!E1270<>\"\",'Step 2) Calculate'!G1270,\"\")","v":""},{"$f":"IF(L1266<>\"\",'Step 2) Calculate'!F1270,\"\")","v":""},{"$f":"IF(L1266<>\"\",'Step 2) Calculate'!H1270,\"\")","v":""},{"$f":"IF(L1266<>\"\",'Step 2) Calculate'!C1270,\"\")","v":""}]
[null,null,null,null,null,null,null,null,null,null,{"$f":"IF(L1267<>\"\",'Step 2) Calculate'!B1271,\"Zzzzz - delete row\")","v":"Zzzzz - delete row"},{"$f":"IF('Step 2) Calculate'!E1271<>\"\",'Step 2) Calculate'!G1271,\"\")","v":""},{"$f":"IF(L1267<>\"\",'Step 2) Calculate'!F1271,\"\")","v":""},{"$f":"IF(L1267<>\"\",'Step 2) Calculate'!H1271,\"\")","v":""},{"$f":"IF(L1267<>\"\",'Step 2) Calculate'!C1271,\"\")","v":""}]
[null,null,null,null,null,null,null,null,null,null,{"$f":"IF(L1268<>\"\",'Step 2) Calculate'!B1272,\"Zzzzz - delete row\")","v":"Zzzzz - delete row"},{"$f":"IF('Step 2) Calculate'!E1272<>\"\",'Step 2) Calculate'!G1272,\"\")","v":""},{"$f":"IF(L1268<>\"\",'Step 2) Calculate'!F1272,\"\")","v":""},{"$f":"IF(L1268<>\"\",'Step 2) Calculate'!H1272,\"\")","v":""},{"$f":"IF(L1268<>\"\",'Step 2) Calculate'!C1272,\"\")","v":""}]
[null,null,null,null,null,null,null,null,null,null,{"$f":"IF(L1269<>\"\",'Step 2) Calculate'!B1273,\"Zzzzz - delete row\")","v":"Zzzzz - delete row"},{"$f":"IF('Step 2) Calculate'!E1273<>\"\",'Step 2) Calculate'!G1273,\"\")","v":""},{"$f":"IF(L1269<>\"\",'Step 2) Calculate'!F1273,\"\")","v":""},{"$f":"IF(L1269<>\"\",'Step 2) Calculate'!H1273,\"\")","v":""},{"$f":"IF(L1269<>\"\",'Step 2) Calculate'!C1273,\"\")","v":""}]
[null,null,null,null,null,null,null,null,null,null,{"$f":"IF(L1270<>\"\",'Step 2) Calculate'!B1274,\"Zzzzz - delete row\")","v":"Zzzzz - delete row"},{"$f":"IF('Step 2) Calculate'!E1274<>\"\",'Step 2) Calculate'!G1274,\"\")","v":""},{"$f":"IF(L1270<>\"\",'Step 2) Calculate'!F1274,\"\")","v":""},{"$f":"IF(L1270<>\"\",'Step 2) Calculate'!H1274,\"\")","v":""},{"$f":"IF(L1270<>\"\",'Step 2) Calculate'!C1274,\"\")","v":""}]
[null,null,null,null,null,null,null,null,null,null,{"$f":"IF(L1271<>\"\",'Step 2) Calculate'!B1275,\"Zzzzz - delete row\")","v":"Zzzzz - delete row"},{"$f":"IF('Step 2) Calculate'!E1275<>\"\",'Step 2) Calculate'!G1275,\"\")","v":""},{"$f":"IF(L1271<>\"\",'Step 2) Calculate'!F1275,\"\")","v":""},{"$f":"IF(L1271<>\"\",'Step 2) Calculate'!H1275,\"\")","v":""},{"$f":"IF(L1271<>\"\",'Step 2) Calculate'!C1275,\"\")","v":""}]
[null,null,null,null,null,null,null,null,null,null,{"$f":"IF(L1272<>\"\",'Step 2) Calculate'!B1276,\"Zzzzz - delete row\")","v":"Zzzzz - delete row"},{"$f":"IF('Step 2) Calculate'!E1276<>\"\",'Step 2) Calculate'!G1276,\"\")","v":""},{"$f":"IF(L1272<>\"\",'Step 2) Calculate'!F1276,\"\")","v":""},{"$f":"IF(L1272<>\"\",'Step 2) Calculate'!H1276,\"\")","v":""},{"$f":"IF(L1272<>\"\",'Step 2) Calculate'!C1276,\"\")","v":""}]
[null,null,null,null,null,null,null,null,null,null,{"$f":"IF(L1273<>\"\",'Step 2) Calculate'!B1277,\"Zzzzz - delete row\")","v":"Zzzzz - delete row"},{"$f":"IF('Step 2) Calculate'!E1277<>\"\",'Step 2) Calculate'!G1277,\"\")","v":""},{"$f":"IF(L1273<>\"\",'Step 2) Calculate'!F1277,\"\")","v":""},{"$f":"IF(L1273<>\"\",'Step 2) Calculate'!H1277,\"\")","v":""},{"$f":"IF(L1273<>\"\",'Step 2) Calculate'!C1277,\"\")","v":""}]
[null,null,null,null,null,null,null,null,null,null,{"$f":"IF(L1274<>\"\",'Step 2) Calculate'!B1278,\"Zzzzz - delete row\")","v":"Zzzzz - delete row"},{"$f":"IF('Step 2) Calculate'!E1278<>\"\",'Step 2) Calculate'!G1278,\"\")","v":""},{"$f":"IF(L1274<>\"\",'Step 2) Calculate'!F1278,\"\")","v":""},{"$f":"IF(L1274<>\"\",'Step 2) Calculate'!H1278,\"\")","v":""},{"$f":"IF(L1274<>\"\",'Step 2) Calculate'!C1278,\"\")","v":""}]
[null,null,null,null,null,null,null,null,null,null,{"$f":"IF(L1275<>\"\",'Step 2) Calculate'!B1279,\"Zzzzz - delete row\")","v":"Zzzzz - delete row"},{"$f":"IF('Step 2) Calculate'!E1279<>\"\",'Step 2) Calculate'!G1279,\"\")","v":""},{"$f":"IF(L1275<>\"\",'Step 2) Calculate'!F1279,\"\")","v":""},{"$f":"IF(L1275<>\"\",'Step 2) Calculate'!H1279,\"\")","v":""},{"$f":"IF(L1275<>\"\",'Step 2) Calculate'!C1279,\"\")","v":""}]
[null,null,null,null,null,null,null,null,null,null,{"$f":"IF(L1276<>\"\",'Step 2) Calculate'!B1280,\"Zzzzz - delete row\")","v":"Zzzzz - delete row"},{"$f":"IF('Step 2) Calculate'!E1280<>\"\",'Step 2) Calculate'!G1280,\"\")","v":""},{"$f":"IF(L1276<>\"\",'Step 2) Calculate'!F1280,\"\")","v":""},{"$f":"IF(L1276<>\"\",'Step 2) Calculate'!H1280,\"\")","v":""},{"$f":"IF(L1276<>\"\",'Step 2) Calculate'!C1280,\"\")","v":""}]
[null,null,null,null,null,null,null,null,null,null,{"$f":"IF(L1277<>\"\",'Step 2) Calculate'!B1281,\"Zzzzz - delete row\")","v":"Zzzzz - delete row"},{"$f":"IF('Step 2) Calculate'!E1281<>\"\",'Step 2) Calculate'!G1281,\"\")","v":""},{"$f":"IF(L1277<>\"\",'Step 2) Calculate'!F1281,\"\")","v":""},{"$f":"IF(L1277<>\"\",'Step 2) Calculate'!H1281,\"\")","v":""},{"$f":"IF(L1277<>\"\",'Step 2) Calculate'!C1281,\"\")","v":""}]
[null,null,null,null,null,null,null,null,null,null,{"$f":"IF(L1278<>\"\",'Step 2) Calculate'!B1282,\"Zzzzz - delete row\")","v":"Zzzzz - delete row"},{"$f":"IF('Step 2) Calculate'!E1282<>\"\",'Step 2) Calculate'!G1282,\"\")","v":""},{"$f":"IF(L1278<>\"\",'Step 2) Calculate'!F1282,\"\")","v":""},{"$f":"IF(L1278<>\"\",'Step 2) Calculate'!H1282,\"\")","v":""},{"$f":"IF(L1278<>\"\",'Step 2) Calculate'!C1282,\"\")","v":""}]
[null,null,null,null,null,null,null,null,null,null,{"$f":"IF(L1279<>\"\",'Step 2) Calculate'!B1283,\"Zzzzz - delete row\")","v":"Zzzzz - delete row"},{"$f":"IF('Step 2) Calculate'!E1283<>\"\",'Step 2) Calculate'!G1283,\"\")","v":""},{"$f":"IF(L1279<>\"\",'Step 2) Calculate'!F1283,\"\")","v":""},{"$f":"IF(L1279<>\"\",'Step 2) Calculate'!H1283,\"\")","v":""},{"$f":"IF(L1279<>\"\",'Step 2) Calculate'!C1283,\"\")","v":""}]
[null,null,null,null,null,null,null,null,null,null,{"$f":"IF(L1280<>\"\",'Step 2) Calculate'!B1284,\"Zzzzz - delete row\")","v":"Zzzzz - delete row"},{"$f":"IF('Step 2) Calculate'!E1284<>\"\",'Step 2) Calculate'!G1284,\"\")","v":""},{"$f":"IF(L1280<>\"\",'Step 2) Calculate'!F1284,\"\")","v":""},{"$f":"IF(L1280<>\"\",'Step 2) Calculate'!H1284,\"\")","v":""},{"$f":"IF(L1280<>\"\",'Step 2) Calculate'!C1284,\"\")","v":""}]
[null,null,null,null,null,null,null,null,null,null,{"$f":"IF(L1281<>\"\",'Step 2) Calculate'!B1285,\"Zzzzz - delete row\")","v":"Zzzzz - delete row"},{"$f":"IF('Step 2) Calculate'!E1285<>\"\",'Step 2) Calculate'!G1285,\"\")","v":""},{"$f":"IF(L1281<>\"\",'Step 2) Calculate'!F1285,\"\")","v":""},{"$f":"IF(L1281<>\"\",'Step 2) Calculate'!H1285,\"\")","v":""},{"$f":"IF(L1281<>\"\",'Step 2) Calculate'!C1285,\"\")","v":""}]
[null,null,null,null,null,null,null,null,null,null,{"$f":"IF(L1282<>\"\",'Step 2) Calculate'!B1286,\"Zzzzz - delete row\")","v":"Zzzzz - delete row"},{"$f":"IF('Step 2) Calculate'!E1286<>\"\",'Step 2) Calculate'!G1286,\"\")","v":""},{"$f":"IF(L1282<>\"\",'Step 2) Calculate'!F1286,\"\")","v":""},{"$f":"IF(L1282<>\"\",'Step 2) Calculate'!H1286,\"\")","v":""},{"$f":"IF(L1282<>\"\",'Step 2) Calculate'!C1286,\"\")","v":""}]
[null,null,null,null,null,null,null,null,null,null,{"$f":"IF(L1283<>\"\",'Step 2) Calculate'!B1287,\"Zzzzz - delete row\")","v":"Zzzzz - delete row"},{"$f":"IF('Step 2) Calculate'!E1287<>\"\",'Step 2) Calculate'!G1287,\"\")","v":""},{"$f":"IF(L1283<>\"\",'Step 2) Calculate'!F1287,\"\")","v":""},{"$f":"IF(L1283<>\"\",'Step 2) Calculate'!H1287,\"\")","v":""},{"$f":"IF(L1283<>\"\",'Step 2) Calculate'!C1287,\"\")","v":""}]
[null,null,null,null,null,null,null,null,null,null,{"$f":"IF(L1284<>\"\",'Step 2) Calculate'!B1288,\"Zzzzz - delete row\")","v":"Zzzzz - delete row"},{"$f":"IF('Step 2) Calculate'!E1288<>\"\",'Step 2) Calculate'!G1288,\"\")","v":""},{"$f":"IF(L1284<>\"\",'Step 2) Calculate'!F1288,\"\")","v":""},{"$f":"IF(L1284<>\"\",'Step 2) Calculate'!H1288,\"\")","v":""},{"$f":"IF(L1284<>\"\",'Step 2) Calculate'!C1288,\"\")","v":""}]
[null,null,null,null,null,null,null,null,null,null,{"$f":"IF(L1285<>\"\",'Step 2) Calculate'!B1289,\"Zzzzz - delete row\")","v":"Zzzzz - delete row"},{"$f":"IF('Step 2) Calculate'!E1289<>\"\",'Step 2) Calculate'!G1289,\"\")","v":""},{"$f":"IF(L1285<>\"\",'Step 2) Calculate'!F1289,\"\")","v":""},{"$f":"IF(L1285<>\"\",'Step 2) Calculate'!H1289,\"\")","v":""},{"$f":"IF(L1285<>\"\",'Step 2) Calculate'!C1289,\"\")","v":""}]
[null,null,null,null,null,null,null,null,null,null,{"$f":"IF(L1286<>\"\",'Step 2) Calculate'!B1290,\"Zzzzz - delete row\")","v":"Zzzzz - delete row"},{"$f":"IF('Step 2) Calculate'!E1290<>\"\",'Step 2) Calculate'!G1290,\"\")","v":""},{"$f":"IF(L1286<>\"\",'Step 2) Calculate'!F1290,\"\")","v":""},{"$f":"IF(L1286<>\"\",'Step 2) Calculate'!H1290,\"\")","v":""},{"$f":"IF(L1286<>\"\",'Step 2) Calculate'!C1290,\"\")","v":""}]
[null,null,null,null,null,null,null,null,null,null,{"$f":"IF(L1287<>\"\",'Step 2) Calculate'!B1291,\"Zzzzz - delete row\")","v":"Zzzzz - delete row"},{"$f":"IF('Step 2) Calculate'!E1291<>\"\",'Step 2) Calculate'!G1291,\"\")","v":""},{"$f":"IF(L1287<>\"\",'Step 2) Calculate'!F1291,\"\")","v":""},{"$f":"IF(L1287<>\"\",'Step 2) Calculate'!H1291,\"\")","v":""},{"$f":"IF(L1287<>\"\",'Step 2) Calculate'!C1291,\"\")","v":""}]
[null,null,null,null,null,null,null,null,null,null,{"$f":"IF(L1288<>\"\",'Step 2) Calculate'!B1292,\"Zzzzz - delete row\")","v":"Zzzzz - delete row"},{"$f":"IF('Step 2) Calculate'!E1292<>\"\",'Step 2) Calculate'!G1292,\"\")","v":""},{"$f":"IF(L1288<>\"\",'Step 2) Calculate'!F1292,\"\")","v":""},{"$f":"IF(L1288<>\"\",'Step 2) Calculate'!H1292,\"\")","v":""},{"$f":"IF(L1288<>\"\",'Step 2) Calculate'!C1292,\"\")","v":""}]
[null,null,null,null,null,null,null,null,null,null,{"$f":"IF(L1289<>\"\",'Step 2) Calculate'!B1293,\"Zzzzz - delete row\")","v":"Zzzzz - delete row"},{"$f":"IF('Step 2) Calculate'!E1293<>\"\",'Step 2) Calculate'!G1293,\"\")","v":""},{"$f":"IF(L1289<>\"\",'Step 2) Calculate'!F1293,\"\")","v":""},{"$f":"IF(L1289<>\"\",'Step 2) Calculate'!H1293,\"\")","v":""},{"$f":"IF(L1289<>\"\",'Step 2) Calculate'!C1293,\"\")","v":""}]
[null,null,null,null,null,null,null,null,null,null,{"$f":"IF(L1290<>\"\",'Step 2) Calculate'!B1294,\"Zzzzz - delete row\")","v":"Zzzzz - delete row"},{"$f":"IF('Step 2) Calculate'!E1294<>\"\",'Step 2) Calculate'!G1294,\"\")","v":""},{"$f":"IF(L1290<>\"\",'Step 2) Calculate'!F1294,\"\")","v":""},{"$f":"IF(L1290<>\"\",'Step 2) Calculate'!H1294,\"\")","v":""},{"$f":"IF(L1290<>\"\",'Step 2) Calculate'!C1294,\"\")","v":""}]
[null,null,null,null,null,null,null,null,null,null,{"$f":"IF(L1291<>\"\",'Step 2) Calculate'!B1295,\"Zzzzz - delete row\")","v":"Zzzzz - delete row"},{"$f":"IF('Step 2) Calculate'!E1295<>\"\",'Step 2) Calculate'!G1295,\"\")","v":""},{"$f":"IF(L1291<>\"\",'Step 2) Calculate'!F1295,\"\")","v":""},{"$f":"IF(L1291<>\"\",'Step 2) Calculate'!H1295,\"\")","v":""},{"$f":"IF(L1291<>\"\",'Step 2) Calculate'!C1295,\"\")","v":""}]
[null,null,null,null,null,null,null,null,null,null,{"$f":"IF(L1292<>\"\",'Step 2) Calculate'!B1296,\"Zzzzz - delete row\")","v":"Zzzzz - delete row"},{"$f":"IF('Step 2) Calculate'!E1296<>\"\",'Step 2) Calculate'!G1296,\"\")","v":""},{"$f":"IF(L1292<>\"\",'Step 2) Calculate'!F1296,\"\")","v":""},{"$f":"IF(L1292<>\"\",'Step 2) Calculate'!H1296,\"\")","v":""},{"$f":"IF(L1292<>\"\",'Step 2) Calculate'!C1296,\"\")","v":""}]
[null,null,null,null,null,null,null,null,null,null,{"$f":"IF(L1293<>\"\",'Step 2) Calculate'!B1297,\"Zzzzz - delete row\")","v":"Zzzzz - delete row"},{"$f":"IF('Step 2) Calculate'!E1297<>\"\",'Step 2) Calculate'!G1297,\"\")","v":""},{"$f":"IF(L1293<>\"\",'Step 2) Calculate'!F1297,\"\")","v":""},{"$f":"IF(L1293<>\"\",'Step 2) Calculate'!H1297,\"\")","v":""},{"$f":"IF(L1293<>\"\",'Step 2) Calculate'!C1297,\"\")","v":""}]
[null,null,null,null,null,null,null,null,null,null,{"$f":"IF(L1294<>\"\",'Step 2) Calculate'!B1298,\"Zzzzz - delete row\")","v":"Zzzzz - delete row"},{"$f":"IF('Step 2) Calculate'!E1298<>\"\",'Step 2) Calculate'!G1298,\"\")","v":""},{"$f":"IF(L1294<>\"\",'Step 2) Calculate'!F1298,\"\")","v":""},{"$f":"IF(L1294<>\"\",'Step 2) Calculate'!H1298,\"\")","v":""},{"$f":"IF(L1294<>\"\",'Step 2) Calculate'!C1298,\"\")","v":""}]
[null,null,null,null,null,null,null,null,null,null,{"$f":"IF(L1295<>\"\",'Step 2) Calculate'!B1299,\"Zzzzz - delete row\")","v":"Zzzzz - delete row"},{"$f":"IF('Step 2) Calculate'!E1299<>\"\",'Step 2) Calculate'!G1299,\"\")","v":""},{"$f":"IF(L1295<>\"\",'Step 2) Calculate'!F1299,\"\")","v":""},{"$f":"IF(L1295<>\"\",'Step 2) Calculate'!H1299,\"\")","v":""},{"$f":"IF(L1295<>\"\",'Step 2) Calculate'!C1299,\"\")","v":""}]
[null,null,null,null,null,null,null,null,null,null,{"$f":"IF(L1296<>\"\",'Step 2) Calculate'!B1300,\"Zzzzz - delete row\")","v":"Zzzzz - delete row"},{"$f":"IF('Step 2) Calculate'!E1300<>\"\",'Step 2) Calculate'!G1300,\"\")","v":""},{"$f":"IF(L1296<>\"\",'Step 2) Calculate'!F1300,\"\")","v":""},{"$f":"IF(L1296<>\"\",'Step 2) Calculate'!H1300,\"\")","v":""},{"$f":"IF(L1296<>\"\",'Step 2) Calculate'!C1300,\"\")","v":""}]
[null,null,null,null,null,null,null,null,null,null,{"$f":"IF(L1297<>\"\",'Step 2) Calculate'!B1301,\"Zzzzz - delete row\")","v":"Zzzzz - delete row"},{"$f":"IF('Step 2) Calculate'!E1301<>\"\",'Step 2) Calculate'!G1301,\"\")","v":""},{"$f":"IF(L1297<>\"\",'Step 2) Calculate'!F1301,\"\")","v":""},{"$f":"IF(L1297<>\"\",'Step 2) Calculate'!H1301,\"\")","v":""},{"$f":"IF(L1297<>\"\",'Step 2) Calculate'!C1301,\"\")","v":""}]
[null,null,null,null,null,null,null,null,null,null,{"$f":"IF(L1298<>\"\",'Step 2) Calculate'!B1302,\"Zzzzz - delete row\")","v":"Zzzzz - delete row"},{"$f":"IF('Step 2) Calculate'!E1302<>\"\",'Step 2) Calculate'!G1302,\"\")","v":""},{"$f":"IF(L1298<>\"\",'Step 2) Calculate'!F1302,\"\")","v":""},{"$f":"IF(L1298<>\"\",'Step 2) Calculate'!H1302,\"\")","v":""},{"$f":"IF(L1298<>\"\",'Step 2) Calculate'!C1302,\"\")","v":""}]
[null,null,null,null,null,null,null,null,null,null,{"$f":"IF(L1299<>\"\",'Step 2) Calculate'!B1303,\"Zzzzz - delete row\")","v":"Zzzzz - delete row"},{"$f":"IF('Step 2) Calculate'!E1303<>\"\",'Step 2) Calculate'!G1303,\"\")","v":""},{"$f":"IF(L1299<>\"\",'Step 2) Calculate'!F1303,\"\")","v":""},{"$f":"IF(L1299<>\"\",'Step 2) Calculate'!H1303,\"\")","v":""},{"$f":"IF(L1299<>\"\",'Step 2) Calculate'!C1303,\"\")","v":""}]
[null,null,null,null,null,null,null,null,null,null,{"$f":"IF(L1300<>\"\",'Step 2) Calculate'!B1304,\"Zzzzz - delete row\")","v":"Zzzzz - delete row"},{"$f":"IF('Step 2) Calculate'!E1304<>\"\",'Step 2) Calculate'!G1304,\"\")","v":""},{"$f":"IF(L1300<>\"\",'Step 2) Calculate'!F1304,\"\")","v":""},{"$f":"IF(L1300<>\"\",'Step 2) Calculate'!H1304,\"\")","v":""},{"$f":"IF(L1300<>\"\",'Step 2) Calculate'!C1304,\"\")","v":""}]
[null,null,null,null,null,null,null,null,null,null,{"$f":"IF(L1301<>\"\",'Step 2) Calculate'!B1305,\"Zzzzz - delete row\")","v":"Zzzzz - delete row"},{"$f":"IF('Step 2) Calculate'!E1305<>\"\",'Step 2) Calculate'!G1305,\"\")","v":""},{"$f":"IF(L1301<>\"\",'Step 2) Calculate'!F1305,\"\")","v":""},{"$f":"IF(L1301<>\"\",'Step 2) Calculate'!H1305,\"\")","v":""},{"$f":"IF(L1301<>\"\",'Step 2) Calculate'!C1305,\"\")","v":""}]
[null,null,null,null,null,null,null,null,null,null,{"$f":"IF(L1302<>\"\",'Step 2) Calculate'!B1306,\"Zzzzz - delete row\")","v":"Zzzzz - delete row"},{"$f":"IF('Step 2) Calculate'!E1306<>\"\",'Step 2) Calculate'!G1306,\"\")","v":""},{"$f":"IF(L1302<>\"\",'Step 2) Calculate'!F1306,\"\")","v":""},{"$f":"IF(L1302<>\"\",'Step 2) Calculate'!H1306,\"\")","v":""},{"$f":"IF(L1302<>\"\",'Step 2) Calculate'!C1306,\"\")","v":""}]
[null,null,null,null,null,null,null,null,null,null,{"$f":"IF(L1303<>\"\",'Step 2) Calculate'!B1307,\"Zzzzz - delete row\")","v":"Zzzzz - delete row"},{"$f":"IF('Step 2) Calculate'!E1307<>\"\",'Step 2) Calculate'!G1307,\"\")","v":""},{"$f":"IF(L1303<>\"\",'Step 2) Calculate'!F1307,\"\")","v":""},{"$f":"IF(L1303<>\"\",'Step 2) Calculate'!H1307,\"\")","v":""},{"$f":"IF(L1303<>\"\",'Step 2) Calculate'!C1307,\"\")","v":""}]
[null,null,null,null,null,null,null,null,null,null,{"$f":"IF(L1304<>\"\",'Step 2) Calculate'!B1308,\"Zzzzz - delete row\")","v":"Zzzzz - delete row"},{"$f":"IF('Step 2) Calculate'!E1308<>\"\",'Step 2) Calculate'!G1308,\"\")","v":""},{"$f":"IF(L1304<>\"\",'Step 2) Calculate'!F1308,\"\")","v":""},{"$f":"IF(L1304<>\"\",'Step 2) Calculate'!H1308,\"\")","v":""},{"$f":"IF(L1304<>\"\",'Step 2) Calculate'!C1308,\"\")","v":""}]
[null,null,null,null,null,null,null,null,null,null,{"$f":"IF(L1305<>\"\",'Step 2) Calculate'!B1309,\"Zzzzz - delete row\")","v":"Zzzzz - delete row"},{"$f":"IF('Step 2) Calculate'!E1309<>\"\",'Step 2) Calculate'!G1309,\"\")","v":""},{"$f":"IF(L1305<>\"\",'Step 2) Calculate'!F1309,\"\")","v":""},{"$f":"IF(L1305<>\"\",'Step 2) Calculate'!H1309,\"\")","v":""},{"$f":"IF(L1305<>\"\",'Step 2) Calculate'!C1309,\"\")","v":""}]
[null,null,null,null,null,null,null,null,null,null,{"$f":"IF(L1306<>\"\",'Step 2) Calculate'!B1310,\"Zzzzz - delete row\")","v":"Zzzzz - delete row"},{"$f":"IF('Step 2) Calculate'!E1310<>\"\",'Step 2) Calculate'!G1310,\"\")","v":""},{"$f":"IF(L1306<>\"\",'Step 2) Calculate'!F1310,\"\")","v":""},{"$f":"IF(L1306<>\"\",'Step 2) Calculate'!H1310,\"\")","v":""},{"$f":"IF(L1306<>\"\",'Step 2) Calculate'!C1310,\"\")","v":""}]
[null,null,null,null,null,null,null,null,null,null,{"$f":"IF(L1307<>\"\",'Step 2) Calculate'!B1311,\"Zzzzz - delete row\")","v":"Zzzzz - delete row"},{"$f":"IF('Step 2) Calculate'!E1311<>\"\",'Step 2) Calculate'!G1311,\"\")","v":""},{"$f":"IF(L1307<>\"\",'Step 2) Calculate'!F1311,\"\")","v":""},{"$f":"IF(L1307<>\"\",'Step 2) Calculate'!H1311,\"\")","v":""},{"$f":"IF(L1307<>\"\",'Step 2) Calculate'!C1311,\"\")","v":""}]
[null,null,null,null,null,null,null,null,null,null,{"$f":"IF(L1308<>\"\",'Step 2) Calculate'!B1312,\"Zzzzz - delete row\")","v":"Zzzzz - delete row"},{"$f":"IF('Step 2) Calculate'!E1312<>\"\",'Step 2) Calculate'!G1312,\"\")","v":""},{"$f":"IF(L1308<>\"\",'Step 2) Calculate'!F1312,\"\")","v":""},{"$f":"IF(L1308<>\"\",'Step 2) Calculate'!H1312,\"\")","v":""},{"$f":"IF(L1308<>\"\",'Step 2) Calculate'!C1312,\"\")","v":""}]
[null,null,null,null,null,null,null,null,null,null,{"$f":"IF(L1309<>\"\",'Step 2) Calculate'!B1313,\"Zzzzz - delete row\")","v":"Zzzzz - delete row"},{"$f":"IF('Step 2) Calculate'!E1313<>\"\",'Step 2) Calculate'!G1313,\"\")","v":""},{"$f":"IF(L1309<>\"\",'Step 2) Calculate'!F1313,\"\")","v":""},{"$f":"IF(L1309<>\"\",'Step 2) Calculate'!H1313,\"\")","v":""},{"$f":"IF(L1309<>\"\",'Step 2) Calculate'!C1313,\"\")","v":""}]
[null,null,null,null,null,null,null,null,null,null,{"$f":"IF(L1310<>\"\",'Step 2) Calculate'!B1314,\"Zzzzz - delete row\")","v":"Zzzzz - delete row"},{"$f":"IF('Step 2) Calculate'!E1314<>\"\",'Step 2) Calculate'!G1314,\"\")","v":""},{"$f":"IF(L1310<>\"\",'Step 2) Calculate'!F1314,\"\")","v":""},{"$f":"IF(L1310<>\"\",'Step 2) Calculate'!H1314,\"\")","v":""},{"$f":"IF(L1310<>\"\",'Step 2) Calculate'!C1314,\"\")","v":""}]
[null,null,null,null,null,null,null,null,null,null,{"$f":"IF(L1311<>\"\",'Step 2) Calculate'!B1315,\"Zzzzz - delete row\")","v":"Zzzzz - delete row"},{"$f":"IF('Step 2) Calculate'!E1315<>\"\",'Step 2) Calculate'!G1315,\"\")","v":""},{"$f":"IF(L1311<>\"\",'Step 2) Calculate'!F1315,\"\")","v":""},{"$f":"IF(L1311<>\"\",'Step 2) Calculate'!H1315,\"\")","v":""},{"$f":"IF(L1311<>\"\",'Step 2) Calculate'!C1315,\"\")","v":""}]
[null,null,null,null,null,null,null,null,null,null,{"$f":"IF(L1312<>\"\",'Step 2) Calculate'!B1316,\"Zzzzz - delete row\")","v":"Zzzzz - delete row"},{"$f":"IF('Step 2) Calculate'!E1316<>\"\",'Step 2) Calculate'!G1316,\"\")","v":""},{"$f":"IF(L1312<>\"\",'Step 2) Calculate'!F1316,\"\")","v":""},{"$f":"IF(L1312<>\"\",'Step 2) Calculate'!H1316,\"\")","v":""},{"$f":"IF(L1312<>\"\",'Step 2) Calculate'!C1316,\"\")","v":""}]
[null,null,null,null,null,null,null,null,null,null,{"$f":"IF(L1313<>\"\",'Step 2) Calculate'!B1317,\"Zzzzz - delete row\")","v":"Zzzzz - delete row"},{"$f":"IF('Step 2) Calculate'!E1317<>\"\",'Step 2) Calculate'!G1317,\"\")","v":""},{"$f":"IF(L1313<>\"\",'Step 2) Calculate'!F1317,\"\")","v":""},{"$f":"IF(L1313<>\"\",'Step 2) Calculate'!H1317,\"\")","v":""},{"$f":"IF(L1313<>\"\",'Step 2) Calculate'!C1317,\"\")","v":""}]
[null,null,null,null,null,null,null,null,null,null,{"$f":"IF(L1314<>\"\",'Step 2) Calculate'!B1318,\"Zzzzz - delete row\")","v":"Zzzzz - delete row"},{"$f":"IF('Step 2) Calculate'!E1318<>\"\",'Step 2) Calculate'!G1318,\"\")","v":""},{"$f":"IF(L1314<>\"\",'Step 2) Calculate'!F1318,\"\")","v":""},{"$f":"IF(L1314<>\"\",'Step 2) Calculate'!H1318,\"\")","v":""},{"$f":"IF(L1314<>\"\",'Step 2) Calculate'!C1318,\"\")","v":""}]
[null,null,null,null,null,null,null,null,null,null,{"$f":"IF(L1315<>\"\",'Step 2) Calculate'!B1319,\"Zzzzz - delete row\")","v":"Zzzzz - delete row"},{"$f":"IF('Step 2) Calculate'!E1319<>\"\",'Step 2) Calculate'!G1319,\"\")","v":""},{"$f":"IF(L1315<>\"\",'Step 2) Calculate'!F1319,\"\")","v":""},{"$f":"IF(L1315<>\"\",'Step 2) Calculate'!H1319,\"\")","v":""},{"$f":"IF(L1315<>\"\",'Step 2) Calculate'!C1319,\"\")","v":""}]
[null,null,null,null,null,null,null,null,null,null,{"$f":"IF(L1316<>\"\",'Step 2) Calculate'!B1320,\"Zzzzz - delete row\")","v":"Zzzzz - delete row"},{"$f":"IF('Step 2) Calculate'!E1320<>\"\",'Step 2) Calculate'!G1320,\"\")","v":""},{"$f":"IF(L1316<>\"\",'Step 2) Calculate'!F1320,\"\")","v":""},{"$f":"IF(L1316<>\"\",'Step 2) Calculate'!H1320,\"\")","v":""},{"$f":"IF(L1316<>\"\",'Step 2) Calculate'!C1320,\"\")","v":""}]
[null,null,null,null,null,null,null,null,null,null,{"$f":"IF(L1317<>\"\",'Step 2) Calculate'!B1321,\"Zzzzz - delete row\")","v":"Zzzzz - delete row"},{"$f":"IF('Step 2) Calculate'!E1321<>\"\",'Step 2) Calculate'!G1321,\"\")","v":""},{"$f":"IF(L1317<>\"\",'Step 2) Calculate'!F1321,\"\")","v":""},{"$f":"IF(L1317<>\"\",'Step 2) Calculate'!H1321,\"\")","v":""},{"$f":"IF(L1317<>\"\",'Step 2) Calculate'!C1321,\"\")","v":""}]
[null,null,null,null,null,null,null,null,null,null,{"$f":"IF(L1318<>\"\",'Step 2) Calculate'!B1322,\"Zzzzz - delete row\")","v":"Zzzzz - delete row"},{"$f":"IF('Step 2) Calculate'!E1322<>\"\",'Step 2) Calculate'!G1322,\"\")","v":""},{"$f":"IF(L1318<>\"\",'Step 2) Calculate'!F1322,\"\")","v":""},{"$f":"IF(L1318<>\"\",'Step 2) Calculate'!H1322,\"\")","v":""},{"$f":"IF(L1318<>\"\",'Step 2) Calculate'!C1322,\"\")","v":""}]
[null,null,null,null,null,null,null,null,null,null,{"$f":"IF(L1319<>\"\",'Step 2) Calculate'!B1323,\"Zzzzz - delete row\")","v":"Zzzzz - delete row"},{"$f":"IF('Step 2) Calculate'!E1323<>\"\",'Step 2) Calculate'!G1323,\"\")","v":""},{"$f":"IF(L1319<>\"\",'Step 2) Calculate'!F1323,\"\")","v":""},{"$f":"IF(L1319<>\"\",'Step 2) Calculate'!H1323,\"\")","v":""},{"$f":"IF(L1319<>\"\",'Step 2) Calculate'!C1323,\"\")","v":""}]
[null,null,null,null,null,null,null,null,null,null,{"$f":"IF(L1320<>\"\",'Step 2) Calculate'!B1324,\"Zzzzz - delete row\")","v":"Zzzzz - delete row"},{"$f":"IF('Step 2) Calculate'!E1324<>\"\",'Step 2) Calculate'!G1324,\"\")","v":""},{"$f":"IF(L1320<>\"\",'Step 2) Calculate'!F1324,\"\")","v":""},{"$f":"IF(L1320<>\"\",'Step 2) Calculate'!H1324,\"\")","v":""},{"$f":"IF(L1320<>\"\",'Step 2) Calculate'!C1324,\"\")","v":""}]
[null,null,null,null,null,null,null,null,null,null,{"$f":"IF(L1321<>\"\",'Step 2) Calculate'!B1325,\"Zzzzz - delete row\")","v":"Zzzzz - delete row"},{"$f":"IF('Step 2) Calculate'!E1325<>\"\",'Step 2) Calculate'!G1325,\"\")","v":""},{"$f":"IF(L1321<>\"\",'Step 2) Calculate'!F1325,\"\")","v":""},{"$f":"IF(L1321<>\"\",'Step 2) Calculate'!H1325,\"\")","v":""},{"$f":"IF(L1321<>\"\",'Step 2) Calculate'!C1325,\"\")","v":""}]
[null,null,null,null,null,null,null,null,null,null,{"$f":"IF(L1322<>\"\",'Step 2) Calculate'!B1326,\"Zzzzz - delete row\")","v":"Zzzzz - delete row"},{"$f":"IF('Step 2) Calculate'!E1326<>\"\",'Step 2) Calculate'!G1326,\"\")","v":""},{"$f":"IF(L1322<>\"\",'Step 2) Calculate'!F1326,\"\")","v":""},{"$f":"IF(L1322<>\"\",'Step 2) Calculate'!H1326,\"\")","v":""},{"$f":"IF(L1322<>\"\",'Step 2) Calculate'!C1326,\"\")","v":""}]
[null,null,null,null,null,null,null,null,null,null,{"$f":"IF(L1323<>\"\",'Step 2) Calculate'!B1327,\"Zzzzz - delete row\")","v":"Zzzzz - delete row"},{"$f":"IF('Step 2) Calculate'!E1327<>\"\",'Step 2) Calculate'!G1327,\"\")","v":""},{"$f":"IF(L1323<>\"\",'Step 2) Calculate'!F1327,\"\")","v":""},{"$f":"IF(L1323<>\"\",'Step 2) Calculate'!H1327,\"\")","v":""},{"$f":"IF(L1323<>\"\",'Step 2) Calculate'!C1327,\"\")","v":""}]
[null,null,null,null,null,null,null,null,null,null,{"$f":"IF(L1324<>\"\",'Step 2) Calculate'!B1328,\"Zzzzz - delete row\")","v":"Zzzzz - delete row"},{"$f":"IF('Step 2) Calculate'!E1328<>\"\",'Step 2) Calculate'!G1328,\"\")","v":""},{"$f":"IF(L1324<>\"\",'Step 2) Calculate'!F1328,\"\")","v":""},{"$f":"IF(L1324<>\"\",'Step 2) Calculate'!H1328,\"\")","v":""},{"$f":"IF(L1324<>\"\",'Step 2) Calculate'!C1328,\"\")","v":""}]
[null,null,null,null,null,null,null,null,null,null,{"$f":"IF(L1325<>\"\",'Step 2) Calculate'!B1329,\"Zzzzz - delete row\")","v":"Zzzzz - delete row"},{"$f":"IF('Step 2) Calculate'!E1329<>\"\",'Step 2) Calculate'!G1329,\"\")","v":""},{"$f":"IF(L1325<>\"\",'Step 2) Calculate'!F1329,\"\")","v":""},{"$f":"IF(L1325<>\"\",'Step 2) Calculate'!H1329,\"\")","v":""},{"$f":"IF(L1325<>\"\",'Step 2) Calculate'!C1329,\"\")","v":""}]
[null,null,null,null,null,null,null,null,null,null,{"$f":"IF(L1326<>\"\",'Step 2) Calculate'!B1330,\"Zzzzz - delete row\")","v":"Zzzzz - delete row"},{"$f":"IF('Step 2) Calculate'!E1330<>\"\",'Step 2) Calculate'!G1330,\"\")","v":""},{"$f":"IF(L1326<>\"\",'Step 2) Calculate'!F1330,\"\")","v":""},{"$f":"IF(L1326<>\"\",'Step 2) Calculate'!H1330,\"\")","v":""},{"$f":"IF(L1326<>\"\",'Step 2) Calculate'!C1330,\"\")","v":""}]
[null,null,null,null,null,null,null,null,null,null,{"$f":"IF(L1327<>\"\",'Step 2) Calculate'!B1331,\"Zzzzz - delete row\")","v":"Zzzzz - delete row"},{"$f":"IF('Step 2) Calculate'!E1331<>\"\",'Step 2) Calculate'!G1331,\"\")","v":""},{"$f":"IF(L1327<>\"\",'Step 2) Calculate'!F1331,\"\")","v":""},{"$f":"IF(L1327<>\"\",'Step 2) Calculate'!H1331,\"\")","v":""},{"$f":"IF(L1327<>\"\",'Step 2) Calculate'!C1331,\"\")","v":""}]
[null,null,null,null,null,null,null,null,null,null,{"$f":"IF(L1328<>\"\",'Step 2) Calculate'!B1332,\"Zzzzz - delete row\")","v":"Zzzzz - delete row"},{"$f":"IF('Step 2) Calculate'!E1332<>\"\",'Step 2) Calculate'!G1332,\"\")","v":""},{"$f":"IF(L1328<>\"\",'Step 2) Calculate'!F1332,\"\")","v":""},{"$f":"IF(L1328<>\"\",'Step 2) Calculate'!H1332,\"\")","v":""},{"$f":"IF(L1328<>\"\",'Step 2) Calculate'!C1332,\"\")","v":""}]
[null,null,null,null,null,null,null,null,null,null,{"$f":"IF(L1329<>\"\",'Step 2) Calculate'!B1333,\"Zzzzz - delete row\")","v":"Zzzzz - delete row"},{"$f":"IF('Step 2) Calculate'!E1333<>\"\",'Step 2) Calculate'!G1333,\"\")","v":""},{"$f":"IF(L1329<>\"\",'Step 2) Calculate'!F1333,\"\")","v":""},{"$f":"IF(L1329<>\"\",'Step 2) Calculate'!H1333,\"\")","v":""},{"$f":"IF(L1329<>\"\",'Step 2) Calculate'!C1333,\"\")","v":""}]
[null,null,null,null,null,null,null,null,null,null,{"$f":"IF(L1330<>\"\",'Step 2) Calculate'!B1334,\"Zzzzz - delete row\")","v":"Zzzzz - delete row"},{"$f":"IF('Step 2) Calculate'!E1334<>\"\",'Step 2) Calculate'!G1334,\"\")","v":""},{"$f":"IF(L1330<>\"\",'Step 2) Calculate'!F1334,\"\")","v":""},{"$f":"IF(L1330<>\"\",'Step 2) Calculate'!H1334,\"\")","v":""},{"$f":"IF(L1330<>\"\",'Step 2) Calculate'!C1334,\"\")","v":""}]
[null,null,null,null,null,null,null,null,null,null,{"$f":"IF(L1331<>\"\",'Step 2) Calculate'!B1335,\"Zzzzz - delete row\")","v":"Zzzzz - delete row"},{"$f":"IF('Step 2) Calculate'!E1335<>\"\",'Step 2) Calculate'!G1335,\"\")","v":""},{"$f":"IF(L1331<>\"\",'Step 2) Calculate'!F1335,\"\")","v":""},{"$f":"IF(L1331<>\"\",'Step 2) Calculate'!H1335,\"\")","v":""},{"$f":"IF(L1331<>\"\",'Step 2) Calculate'!C1335,\"\")","v":""}]
[null,null,null,null,null,null,null,null,null,null,{"$f":"IF(L1332<>\"\",'Step 2) Calculate'!B1336,\"Zzzzz - delete row\")","v":"Zzzzz - delete row"},{"$f":"IF('Step 2) Calculate'!E1336<>\"\",'Step 2) Calculate'!G1336,\"\")","v":""},{"$f":"IF(L1332<>\"\",'Step 2) Calculate'!F1336,\"\")","v":""},{"$f":"IF(L1332<>\"\",'Step 2) Calculate'!H1336,\"\")","v":""},{"$f":"IF(L1332<>\"\",'Step 2) Calculate'!C1336,\"\")","v":""}]
[null,null,null,null,null,null,null,null,null,null,{"$f":"IF(L1333<>\"\",'Step 2) Calculate'!B1337,\"Zzzzz - delete row\")","v":"Zzzzz - delete row"},{"$f":"IF('Step 2) Calculate'!E1337<>\"\",'Step 2) Calculate'!G1337,\"\")","v":""},{"$f":"IF(L1333<>\"\",'Step 2) Calculate'!F1337,\"\")","v":""},{"$f":"IF(L1333<>\"\",'Step 2) Calculate'!H1337,\"\")","v":""},{"$f":"IF(L1333<>\"\",'Step 2) Calculate'!C1337,\"\")","v":""}]
[null,null,null,null,null,null,null,null,null,null,{"$f":"IF(L1334<>\"\",'Step 2) Calculate'!B1338,\"Zzzzz - delete row\")","v":"Zzzzz - delete row"},{"$f":"IF('Step 2) Calculate'!E1338<>\"\",'Step 2) Calculate'!G1338,\"\")","v":""},{"$f":"IF(L1334<>\"\",'Step 2) Calculate'!F1338,\"\")","v":""},{"$f":"IF(L1334<>\"\",'Step 2) Calculate'!H1338,\"\")","v":""},{"$f":"IF(L1334<>\"\",'Step 2) Calculate'!C1338,\"\")","v":""}]
[null,null,null,null,null,null,null,null,null,null,{"$f":"IF(L1335<>\"\",'Step 2) Calculate'!B1339,\"Zzzzz - delete row\")","v":"Zzzzz - delete row"},{"$f":"IF('Step 2) Calculate'!E1339<>\"\",'Step 2) Calculate'!G1339,\"\")","v":""},{"$f":"IF(L1335<>\"\",'Step 2) Calculate'!F1339,\"\")","v":""},{"$f":"IF(L1335<>\"\",'Step 2) Calculate'!H1339,\"\")","v":""},{"$f":"IF(L1335<>\"\",'Step 2) Calculate'!C1339,\"\")","v":""}]
[null,null,null,null,null,null,null,null,null,null,{"$f":"IF(L1336<>\"\",'Step 2) Calculate'!B1340,\"Zzzzz - delete row\")","v":"Zzzzz - delete row"},{"$f":"IF('Step 2) Calculate'!E1340<>\"\",'Step 2) Calculate'!G1340,\"\")","v":""},{"$f":"IF(L1336<>\"\",'Step 2) Calculate'!F1340,\"\")","v":""},{"$f":"IF(L1336<>\"\",'Step 2) Calculate'!H1340,\"\")","v":""},{"$f":"IF(L1336<>\"\",'Step 2) Calculate'!C1340,\"\")","v":""}]
[null,null,null,null,null,null,null,null,null,null,{"$f":"IF(L1337<>\"\",'Step 2) Calculate'!B1341,\"Zzzzz - delete row\")","v":"Zzzzz - delete row"},{"$f":"IF('Step 2) Calculate'!E1341<>\"\",'Step 2) Calculate'!G1341,\"\")","v":""},{"$f":"IF(L1337<>\"\",'Step 2) Calculate'!F1341,\"\")","v":""},{"$f":"IF(L1337<>\"\",'Step 2) Calculate'!H1341,\"\")","v":""},{"$f":"IF(L1337<>\"\",'Step 2) Calculate'!C1341,\"\")","v":""}]
[null,null,null,null,null,null,null,null,null,null,{"$f":"IF(L1338<>\"\",'Step 2) Calculate'!B1342,\"Zzzzz - delete row\")","v":"Zzzzz - delete row"},{"$f":"IF('Step 2) Calculate'!E1342<>\"\",'Step 2) Calculate'!G1342,\"\")","v":""},{"$f":"IF(L1338<>\"\",'Step 2) Calculate'!F1342,\"\")","v":""},{"$f":"IF(L1338<>\"\",'Step 2) Calculate'!H1342,\"\")","v":""},{"$f":"IF(L1338<>\"\",'Step 2) Calculate'!C1342,\"\")","v":""}]
[null,null,null,null,null,null,null,null,null,null,{"$f":"IF(L1339<>\"\",'Step 2) Calculate'!B1343,\"Zzzzz - delete row\")","v":"Zzzzz - delete row"},{"$f":"IF('Step 2) Calculate'!E1343<>\"\",'Step 2) Calculate'!G1343,\"\")","v":""},{"$f":"IF(L1339<>\"\",'Step 2) Calculate'!F1343,\"\")","v":""},{"$f":"IF(L1339<>\"\",'Step 2) Calculate'!H1343,\"\")","v":""},{"$f":"IF(L1339<>\"\",'Step 2) Calculate'!C1343,\"\")","v":""}]
[null,null,null,null,null,null,null,null,null,null,{"$f":"IF(L1340<>\"\",'Step 2) Calculate'!B1344,\"Zzzzz - delete row\")","v":"Zzzzz - delete row"},{"$f":"IF('Step 2) Calculate'!E1344<>\"\",'Step 2) Calculate'!G1344,\"\")","v":""},{"$f":"IF(L1340<>\"\",'Step 2) Calculate'!F1344,\"\")","v":""},{"$f":"IF(L1340<>\"\",'Step 2) Calculate'!H1344,\"\")","v":""},{"$f":"IF(L1340<>\"\",'Step 2) Calculate'!C1344,\"\")","v":""}]
[null,null,null,null,null,null,null,null,null,null,{"$f":"IF(L1341<>\"\",'Step 2) Calculate'!B1345,\"Zzzzz - delete row\")","v":"Zzzzz - delete row"},{"$f":"IF('Step 2) Calculate'!E1345<>\"\",'Step 2) Calculate'!G1345,\"\")","v":""},{"$f":"IF(L1341<>\"\",'Step 2) Calculate'!F1345,\"\")","v":""},{"$f":"IF(L1341<>\"\",'Step 2) Calculate'!H1345,\"\")","v":""},{"$f":"IF(L1341<>\"\",'Step 2) Calculate'!C1345,\"\")","v":""}]
[null,null,null,null,null,null,null,null,null,null,{"$f":"IF(L1342<>\"\",'Step 2) Calculate'!B1346,\"Zzzzz - delete row\")","v":"Zzzzz - delete row"},{"$f":"IF('Step 2) Calculate'!E1346<>\"\",'Step 2) Calculate'!G1346,\"\")","v":""},{"$f":"IF(L1342<>\"\",'Step 2) Calculate'!F1346,\"\")","v":""},{"$f":"IF(L1342<>\"\",'Step 2) Calculate'!H1346,\"\")","v":""},{"$f":"IF(L1342<>\"\",'Step 2) Calculate'!C1346,\"\")","v":""}]
[null,null,null,null,null,null,null,null,null,null,{"$f":"IF(L1343<>\"\",'Step 2) Calculate'!B1347,\"Zzzzz - delete row\")","v":"Zzzzz - delete row"},{"$f":"IF('Step 2) Calculate'!E1347<>\"\",'Step 2) Calculate'!G1347,\"\")","v":""},{"$f":"IF(L1343<>\"\",'Step 2) Calculate'!F1347,\"\")","v":""},{"$f":"IF(L1343<>\"\",'Step 2) Calculate'!H1347,\"\")","v":""},{"$f":"IF(L1343<>\"\",'Step 2) Calculate'!C1347,\"\")","v":""}]
[null,null,null,null,null,null,null,null,null,null,{"$f":"IF(L1344<>\"\",'Step 2) Calculate'!B1348,\"Zzzzz - delete row\")","v":"Zzzzz - delete row"},{"$f":"IF('Step 2) Calculate'!E1348<>\"\",'Step 2) Calculate'!G1348,\"\")","v":""},{"$f":"IF(L1344<>\"\",'Step 2) Calculate'!F1348,\"\")","v":""},{"$f":"IF(L1344<>\"\",'Step 2) Calculate'!H1348,\"\")","v":""},{"$f":"IF(L1344<>\"\",'Step 2) Calculate'!C1348,\"\")","v":""}]
[null,null,null,null,null,null,null,null,null,null,{"$f":"IF(L1345<>\"\",'Step 2) Calculate'!B1349,\"Zzzzz - delete row\")","v":"Zzzzz - delete row"},{"$f":"IF('Step 2) Calculate'!E1349<>\"\",'Step 2) Calculate'!G1349,\"\")","v":""},{"$f":"IF(L1345<>\"\",'Step 2) Calculate'!F1349,\"\")","v":""},{"$f":"IF(L1345<>\"\",'Step 2) Calculate'!H1349,\"\")","v":""},{"$f":"IF(L1345<>\"\",'Step 2) Calculate'!C1349,\"\")","v":""}]
[null,null,null,null,null,null,null,null,null,null,{"$f":"IF(L1346<>\"\",'Step 2) Calculate'!B1350,\"Zzzzz - delete row\")","v":"Zzzzz - delete row"},{"$f":"IF('Step 2) Calculate'!E1350<>\"\",'Step 2) Calculate'!G1350,\"\")","v":""},{"$f":"IF(L1346<>\"\",'Step 2) Calculate'!F1350,\"\")","v":""},{"$f":"IF(L1346<>\"\",'Step 2) Calculate'!H1350,\"\")","v":""},{"$f":"IF(L1346<>\"\",'Step 2) Calculate'!C1350,\"\")","v":""}]
[null,null,null,null,null,null,null,null,null,null,{"$f":"IF(L1347<>\"\",'Step 2) Calculate'!B1351,\"Zzzzz - delete row\")","v":"Zzzzz - delete row"},{"$f":"IF('Step 2) Calculate'!E1351<>\"\",'Step 2) Calculate'!G1351,\"\")","v":""},{"$f":"IF(L1347<>\"\",'Step 2) Calculate'!F1351,\"\")","v":""},{"$f":"IF(L1347<>\"\",'Step 2) Calculate'!H1351,\"\")","v":""},{"$f":"IF(L1347<>\"\",'Step 2) Calculate'!C1351,\"\")","v":""}]
[null,null,null,null,null,null,null,null,null,null,{"$f":"IF(L1348<>\"\",'Step 2) Calculate'!B1352,\"Zzzzz - delete row\")","v":"Zzzzz - delete row"},{"$f":"IF('Step 2) Calculate'!E1352<>\"\",'Step 2) Calculate'!G1352,\"\")","v":""},{"$f":"IF(L1348<>\"\",'Step 2) Calculate'!F1352,\"\")","v":""},{"$f":"IF(L1348<>\"\",'Step 2) Calculate'!H1352,\"\")","v":""},{"$f":"IF(L1348<>\"\",'Step 2) Calculate'!C1352,\"\")","v":""}]
[null,null,null,null,null,null,null,null,null,null,{"$f":"IF(L1349<>\"\",'Step 2) Calculate'!B1353,\"Zzzzz - delete row\")","v":"Zzzzz - delete row"},{"$f":"IF('Step 2) Calculate'!E1353<>\"\",'Step 2) Calculate'!G1353,\"\")","v":""},{"$f":"IF(L1349<>\"\",'Step 2) Calculate'!F1353,\"\")","v":""},{"$f":"IF(L1349<>\"\",'Step 2) Calculate'!H1353,\"\")","v":""},{"$f":"IF(L1349<>\"\",'Step 2) Calculate'!C1353,\"\")","v":""}]
[null,null,null,null,null,null,null,null,null,null,{"$f":"IF(L1350<>\"\",'Step 2) Calculate'!B1354,\"Zzzzz - delete row\")","v":"Zzzzz - delete row"},{"$f":"IF('Step 2) Calculate'!E1354<>\"\",'Step 2) Calculate'!G1354,\"\")","v":""},{"$f":"IF(L1350<>\"\",'Step 2) Calculate'!F1354,\"\")","v":""},{"$f":"IF(L1350<>\"\",'Step 2) Calculate'!H1354,\"\")","v":""},{"$f":"IF(L1350<>\"\",'Step 2) Calculate'!C1354,\"\")","v":""}]
[null,null,null,null,null,null,null,null,null,null,{"$f":"IF(L1351<>\"\",'Step 2) Calculate'!B1355,\"Zzzzz - delete row\")","v":"Zzzzz - delete row"},{"$f":"IF('Step 2) Calculate'!E1355<>\"\",'Step 2) Calculate'!G1355,\"\")","v":""},{"$f":"IF(L1351<>\"\",'Step 2) Calculate'!F1355,\"\")","v":""},{"$f":"IF(L1351<>\"\",'Step 2) Calculate'!H1355,\"\")","v":""},{"$f":"IF(L1351<>\"\",'Step 2) Calculate'!C1355,\"\")","v":""}]
[null,null,null,null,null,null,null,null,null,null,{"$f":"IF(L1352<>\"\",'Step 2) Calculate'!B1356,\"Zzzzz - delete row\")","v":"Zzzzz - delete row"},{"$f":"IF('Step 2) Calculate'!E1356<>\"\",'Step 2) Calculate'!G1356,\"\")","v":""},{"$f":"IF(L1352<>\"\",'Step 2) Calculate'!F1356,\"\")","v":""},{"$f":"IF(L1352<>\"\",'Step 2) Calculate'!H1356,\"\")","v":""},{"$f":"IF(L1352<>\"\",'Step 2) Calculate'!C1356,\"\")","v":""}]
[null,null,null,null,null,null,null,null,null,null,{"$f":"IF(L1353<>\"\",'Step 2) Calculate'!B1357,\"Zzzzz - delete row\")","v":"Zzzzz - delete row"},{"$f":"IF('Step 2) Calculate'!E1357<>\"\",'Step 2) Calculate'!G1357,\"\")","v":""},{"$f":"IF(L1353<>\"\",'Step 2) Calculate'!F1357,\"\")","v":""},{"$f":"IF(L1353<>\"\",'Step 2) Calculate'!H1357,\"\")","v":""},{"$f":"IF(L1353<>\"\",'Step 2) Calculate'!C1357,\"\")","v":""}]
[null,null,null,null,null,null,null,null,null,null,{"$f":"IF(L1354<>\"\",'Step 2) Calculate'!B1358,\"Zzzzz - delete row\")","v":"Zzzzz - delete row"},{"$f":"IF('Step 2) Calculate'!E1358<>\"\",'Step 2) Calculate'!G1358,\"\")","v":""},{"$f":"IF(L1354<>\"\",'Step 2) Calculate'!F1358,\"\")","v":""},{"$f":"IF(L1354<>\"\",'Step 2) Calculate'!H1358,\"\")","v":""},{"$f":"IF(L1354<>\"\",'Step 2) Calculate'!C1358,\"\")","v":""}]
[null,null,null,null,null,null,null,null,null,null,{"$f":"IF(L1355<>\"\",'Step 2) Calculate'!B1359,\"Zzzzz - delete row\")","v":"Zzzzz - delete row"},{"$f":"IF('Step 2) Calculate'!E1359<>\"\",'Step 2) Calculate'!G1359,\"\")","v":""},{"$f":"IF(L1355<>\"\",'Step 2) Calculate'!F1359,\"\")","v":""},{"$f":"IF(L1355<>\"\",'Step 2) Calculate'!H1359,\"\")","v":""},{"$f":"IF(L1355<>\"\",'Step 2) Calculate'!C1359,\"\")","v":""}]
[null,null,null,null,null,null,null,null,null,null,{"$f":"IF(L1356<>\"\",'Step 2) Calculate'!B1360,\"Zzzzz - delete row\")","v":"Zzzzz - delete row"},{"$f":"IF('Step 2) Calculate'!E1360<>\"\",'Step 2) Calculate'!G1360,\"\")","v":""},{"$f":"IF(L1356<>\"\",'Step 2) Calculate'!F1360,\"\")","v":""},{"$f":"IF(L1356<>\"\",'Step 2) Calculate'!H1360,\"\")","v":""},{"$f":"IF(L1356<>\"\",'Step 2) Calculate'!C1360,\"\")","v":""}]
[null,null,null,null,null,null,null,null,null,null,{"$f":"IF(L1357<>\"\",'Step 2) Calculate'!B1361,\"Zzzzz - delete row\")","v":"Zzzzz - delete row"},{"$f":"IF('Step 2) Calculate'!E1361<>\"\",'Step 2) Calculate'!G1361,\"\")","v":""},{"$f":"IF(L1357<>\"\",'Step 2) Calculate'!F1361,\"\")","v":""},{"$f":"IF(L1357<>\"\",'Step 2) Calculate'!H1361,\"\")","v":""},{"$f":"IF(L1357<>\"\",'Step 2) Calculate'!C1361,\"\")","v":""}]
[null,null,null,null,null,null,null,null,null,null,{"$f":"IF(L1358<>\"\",'Step 2) Calculate'!B1362,\"Zzzzz - delete row\")","v":"Zzzzz - delete row"},{"$f":"IF('Step 2) Calculate'!E1362<>\"\",'Step 2) Calculate'!G1362,\"\")","v":""},{"$f":"IF(L1358<>\"\",'Step 2) Calculate'!F1362,\"\")","v":""},{"$f":"IF(L1358<>\"\",'Step 2) Calculate'!H1362,\"\")","v":""},{"$f":"IF(L1358<>\"\",'Step 2) Calculate'!C1362,\"\")","v":""}]
[null,null,null,null,null,null,null,null,null,null,{"$f":"IF(L1359<>\"\",'Step 2) Calculate'!B1363,\"Zzzzz - delete row\")","v":"Zzzzz - delete row"},{"$f":"IF('Step 2) Calculate'!E1363<>\"\",'Step 2) Calculate'!G1363,\"\")","v":""},{"$f":"IF(L1359<>\"\",'Step 2) Calculate'!F1363,\"\")","v":""},{"$f":"IF(L1359<>\"\",'Step 2) Calculate'!H1363,\"\")","v":""},{"$f":"IF(L1359<>\"\",'Step 2) Calculate'!C1363,\"\")","v":""}]
[null,null,null,null,null,null,null,null,null,null,{"$f":"IF(L1360<>\"\",'Step 2) Calculate'!B1364,\"Zzzzz - delete row\")","v":"Zzzzz - delete row"},{"$f":"IF('Step 2) Calculate'!E1364<>\"\",'Step 2) Calculate'!G1364,\"\")","v":""},{"$f":"IF(L1360<>\"\",'Step 2) Calculate'!F1364,\"\")","v":""},{"$f":"IF(L1360<>\"\",'Step 2) Calculate'!H1364,\"\")","v":""},{"$f":"IF(L1360<>\"\",'Step 2) Calculate'!C1364,\"\")","v":""}]
[null,null,null,null,null,null,null,null,null,null,{"$f":"IF(L1361<>\"\",'Step 2) Calculate'!B1365,\"Zzzzz - delete row\")","v":"Zzzzz - delete row"},{"$f":"IF('Step 2) Calculate'!E1365<>\"\",'Step 2) Calculate'!G1365,\"\")","v":""},{"$f":"IF(L1361<>\"\",'Step 2) Calculate'!F1365,\"\")","v":""},{"$f":"IF(L1361<>\"\",'Step 2) Calculate'!H1365,\"\")","v":""},{"$f":"IF(L1361<>\"\",'Step 2) Calculate'!C1365,\"\")","v":""}]
[null,null,null,null,null,null,null,null,null,null,{"$f":"IF(L1362<>\"\",'Step 2) Calculate'!B1366,\"Zzzzz - delete row\")","v":"Zzzzz - delete row"},{"$f":"IF('Step 2) Calculate'!E1366<>\"\",'Step 2) Calculate'!G1366,\"\")","v":""},{"$f":"IF(L1362<>\"\",'Step 2) Calculate'!F1366,\"\")","v":""},{"$f":"IF(L1362<>\"\",'Step 2) Calculate'!H1366,\"\")","v":""},{"$f":"IF(L1362<>\"\",'Step 2) Calculate'!C1366,\"\")","v":""}]
[null,null,null,null,null,null,null,null,null,null,{"$f":"IF(L1363<>\"\",'Step 2) Calculate'!B1367,\"Zzzzz - delete row\")","v":"Zzzzz - delete row"},{"$f":"IF('Step 2) Calculate'!E1367<>\"\",'Step 2) Calculate'!G1367,\"\")","v":""},{"$f":"IF(L1363<>\"\",'Step 2) Calculate'!F1367,\"\")","v":""},{"$f":"IF(L1363<>\"\",'Step 2) Calculate'!H1367,\"\")","v":""},{"$f":"IF(L1363<>\"\",'Step 2) Calculate'!C1367,\"\")","v":""}]
[null,null,null,null,null,null,null,null,null,null,{"$f":"IF(L1364<>\"\",'Step 2) Calculate'!B1368,\"Zzzzz - delete row\")","v":"Zzzzz - delete row"},{"$f":"IF('Step 2) Calculate'!E1368<>\"\",'Step 2) Calculate'!G1368,\"\")","v":""},{"$f":"IF(L1364<>\"\",'Step 2) Calculate'!F1368,\"\")","v":""},{"$f":"IF(L1364<>\"\",'Step 2) Calculate'!H1368,\"\")","v":""},{"$f":"IF(L1364<>\"\",'Step 2) Calculate'!C1368,\"\")","v":""}]
[null,null,null,null,null,null,null,null,null,null,{"$f":"IF(L1365<>\"\",'Step 2) Calculate'!B1369,\"Zzzzz - delete row\")","v":"Zzzzz - delete row"},{"$f":"IF('Step 2) Calculate'!E1369<>\"\",'Step 2) Calculate'!G1369,\"\")","v":""},{"$f":"IF(L1365<>\"\",'Step 2) Calculate'!F1369,\"\")","v":""},{"$f":"IF(L1365<>\"\",'Step 2) Calculate'!H1369,\"\")","v":""},{"$f":"IF(L1365<>\"\",'Step 2) Calculate'!C1369,\"\")","v":""}]
[null,null,null,null,null,null,null,null,null,null,{"$f":"IF(L1366<>\"\",'Step 2) Calculate'!B1370,\"Zzzzz - delete row\")","v":"Zzzzz - delete row"},{"$f":"IF('Step 2) Calculate'!E1370<>\"\",'Step 2) Calculate'!G1370,\"\")","v":""},{"$f":"IF(L1366<>\"\",'Step 2) Calculate'!F1370,\"\")","v":""},{"$f":"IF(L1366<>\"\",'Step 2) Calculate'!H1370,\"\")","v":""},{"$f":"IF(L1366<>\"\",'Step 2) Calculate'!C1370,\"\")","v":""}]
[null,null,null,null,null,null,null,null,null,null,{"$f":"IF(L1367<>\"\",'Step 2) Calculate'!B1371,\"Zzzzz - delete row\")","v":"Zzzzz - delete row"},{"$f":"IF('Step 2) Calculate'!E1371<>\"\",'Step 2) Calculate'!G1371,\"\")","v":""},{"$f":"IF(L1367<>\"\",'Step 2) Calculate'!F1371,\"\")","v":""},{"$f":"IF(L1367<>\"\",'Step 2) Calculate'!H1371,\"\")","v":""},{"$f":"IF(L1367<>\"\",'Step 2) Calculate'!C1371,\"\")","v":""}]
[null,null,null,null,null,null,null,null,null,null,{"$f":"IF(L1368<>\"\",'Step 2) Calculate'!B1372,\"Zzzzz - delete row\")","v":"Zzzzz - delete row"},{"$f":"IF('Step 2) Calculate'!E1372<>\"\",'Step 2) Calculate'!G1372,\"\")","v":""},{"$f":"IF(L1368<>\"\",'Step 2) Calculate'!F1372,\"\")","v":""},{"$f":"IF(L1368<>\"\",'Step 2) Calculate'!H1372,\"\")","v":""},{"$f":"IF(L1368<>\"\",'Step 2) Calculate'!C1372,\"\")","v":""}]
[null,null,null,null,null,null,null,null,null,null,{"$f":"IF(L1369<>\"\",'Step 2) Calculate'!B1373,\"Zzzzz - delete row\")","v":"Zzzzz - delete row"},{"$f":"IF('Step 2) Calculate'!E1373<>\"\",'Step 2) Calculate'!G1373,\"\")","v":""},{"$f":"IF(L1369<>\"\",'Step 2) Calculate'!F1373,\"\")","v":""},{"$f":"IF(L1369<>\"\",'Step 2) Calculate'!H1373,\"\")","v":""},{"$f":"IF(L1369<>\"\",'Step 2) Calculate'!C1373,\"\")","v":""}]
[null,null,null,null,null,null,null,null,null,null,{"$f":"IF(L1370<>\"\",'Step 2) Calculate'!B1374,\"Zzzzz - delete row\")","v":"Zzzzz - delete row"},{"$f":"IF('Step 2) Calculate'!E1374<>\"\",'Step 2) Calculate'!G1374,\"\")","v":""},{"$f":"IF(L1370<>\"\",'Step 2) Calculate'!F1374,\"\")","v":""},{"$f":"IF(L1370<>\"\",'Step 2) Calculate'!H1374,\"\")","v":""},{"$f":"IF(L1370<>\"\",'Step 2) Calculate'!C1374,\"\")","v":""}]
[null,null,null,null,null,null,null,null,null,null,{"$f":"IF(L1371<>\"\",'Step 2) Calculate'!B1375,\"Zzzzz - delete row\")","v":"Zzzzz - delete row"},{"$f":"IF('Step 2) Calculate'!E1375<>\"\",'Step 2) Calculate'!G1375,\"\")","v":""},{"$f":"IF(L1371<>\"\",'Step 2) Calculate'!F1375,\"\")","v":""},{"$f":"IF(L1371<>\"\",'Step 2) Calculate'!H1375,\"\")","v":""},{"$f":"IF(L1371<>\"\",'Step 2) Calculate'!C1375,\"\")","v":""}]
[null,null,null,null,null,null,null,null,null,null,{"$f":"IF(L1372<>\"\",'Step 2) Calculate'!B1376,\"Zzzzz - delete row\")","v":"Zzzzz - delete row"},{"$f":"IF('Step 2) Calculate'!E1376<>\"\",'Step 2) Calculate'!G1376,\"\")","v":""},{"$f":"IF(L1372<>\"\",'Step 2) Calculate'!F1376,\"\")","v":""},{"$f":"IF(L1372<>\"\",'Step 2) Calculate'!H1376,\"\")","v":""},{"$f":"IF(L1372<>\"\",'Step 2) Calculate'!C1376,\"\")","v":""}]
[null,null,null,null,null,null,null,null,null,null,{"$f":"IF(L1373<>\"\",'Step 2) Calculate'!B1377,\"Zzzzz - delete row\")","v":"Zzzzz - delete row"},{"$f":"IF('Step 2) Calculate'!E1377<>\"\",'Step 2) Calculate'!G1377,\"\")","v":""},{"$f":"IF(L1373<>\"\",'Step 2) Calculate'!F1377,\"\")","v":""},{"$f":"IF(L1373<>\"\",'Step 2) Calculate'!H1377,\"\")","v":""},{"$f":"IF(L1373<>\"\",'Step 2) Calculate'!C1377,\"\")","v":""}]
[null,null,null,null,null,null,null,null,null,null,{"$f":"IF(L1374<>\"\",'Step 2) Calculate'!B1378,\"Zzzzz - delete row\")","v":"Zzzzz - delete row"},{"$f":"IF('Step 2) Calculate'!E1378<>\"\",'Step 2) Calculate'!G1378,\"\")","v":""},{"$f":"IF(L1374<>\"\",'Step 2) Calculate'!F1378,\"\")","v":""},{"$f":"IF(L1374<>\"\",'Step 2) Calculate'!H1378,\"\")","v":""},{"$f":"IF(L1374<>\"\",'Step 2) Calculate'!C1378,\"\")","v":""}]
[null,null,null,null,null,null,null,null,null,null,{"$f":"IF(L1375<>\"\",'Step 2) Calculate'!B1379,\"Zzzzz - delete row\")","v":"Zzzzz - delete row"},{"$f":"IF('Step 2) Calculate'!E1379<>\"\",'Step 2) Calculate'!G1379,\"\")","v":""},{"$f":"IF(L1375<>\"\",'Step 2) Calculate'!F1379,\"\")","v":""},{"$f":"IF(L1375<>\"\",'Step 2) Calculate'!H1379,\"\")","v":""},{"$f":"IF(L1375<>\"\",'Step 2) Calculate'!C1379,\"\")","v":""}]
[null,null,null,null,null,null,null,null,null,null,{"$f":"IF(L1376<>\"\",'Step 2) Calculate'!B1380,\"Zzzzz - delete row\")","v":"Zzzzz - delete row"},{"$f":"IF('Step 2) Calculate'!E1380<>\"\",'Step 2) Calculate'!G1380,\"\")","v":""},{"$f":"IF(L1376<>\"\",'Step 2) Calculate'!F1380,\"\")","v":""},{"$f":"IF(L1376<>\"\",'Step 2) Calculate'!H1380,\"\")","v":""},{"$f":"IF(L1376<>\"\",'Step 2) Calculate'!C1380,\"\")","v":""}]
[null,null,null,null,null,null,null,null,null,null,{"$f":"IF(L1377<>\"\",'Step 2) Calculate'!B1381,\"Zzzzz - delete row\")","v":"Zzzzz - delete row"},{"$f":"IF('Step 2) Calculate'!E1381<>\"\",'Step 2) Calculate'!G1381,\"\")","v":""},{"$f":"IF(L1377<>\"\",'Step 2) Calculate'!F1381,\"\")","v":""},{"$f":"IF(L1377<>\"\",'Step 2) Calculate'!H1381,\"\")","v":""},{"$f":"IF(L1377<>\"\",'Step 2) Calculate'!C1381,\"\")","v":""}]
[null,null,null,null,null,null,null,null,null,null,{"$f":"IF(L1378<>\"\",'Step 2) Calculate'!B1382,\"Zzzzz - delete row\")","v":"Zzzzz - delete row"},{"$f":"IF('Step 2) Calculate'!E1382<>\"\",'Step 2) Calculate'!G1382,\"\")","v":""},{"$f":"IF(L1378<>\"\",'Step 2) Calculate'!F1382,\"\")","v":""},{"$f":"IF(L1378<>\"\",'Step 2) Calculate'!H1382,\"\")","v":""},{"$f":"IF(L1378<>\"\",'Step 2) Calculate'!C1382,\"\")","v":""}]
[null,null,null,null,null,null,null,null,null,null,{"$f":"IF(L1379<>\"\",'Step 2) Calculate'!B1383,\"Zzzzz - delete row\")","v":"Zzzzz - delete row"},{"$f":"IF('Step 2) Calculate'!E1383<>\"\",'Step 2) Calculate'!G1383,\"\")","v":""},{"$f":"IF(L1379<>\"\",'Step 2) Calculate'!F1383,\"\")","v":""},{"$f":"IF(L1379<>\"\",'Step 2) Calculate'!H1383,\"\")","v":""},{"$f":"IF(L1379<>\"\",'Step 2) Calculate'!C1383,\"\")","v":""}]
[null,null,null,null,null,null,null,null,null,null,{"$f":"IF(L1380<>\"\",'Step 2) Calculate'!B1384,\"Zzzzz - delete row\")","v":"Zzzzz - delete row"},{"$f":"IF('Step 2) Calculate'!E1384<>\"\",'Step 2) Calculate'!G1384,\"\")","v":""},{"$f":"IF(L1380<>\"\",'Step 2) Calculate'!F1384,\"\")","v":""},{"$f":"IF(L1380<>\"\",'Step 2) Calculate'!H1384,\"\")","v":""},{"$f":"IF(L1380<>\"\",'Step 2) Calculate'!C1384,\"\")","v":""}]
[null,null,null,null,null,null,null,null,null,null,{"$f":"IF(L1381<>\"\",'Step 2) Calculate'!B1385,\"Zzzzz - delete row\")","v":"Zzzzz - delete row"},{"$f":"IF('Step 2) Calculate'!E1385<>\"\",'Step 2) Calculate'!G1385,\"\")","v":""},{"$f":"IF(L1381<>\"\",'Step 2) Calculate'!F1385,\"\")","v":""},{"$f":"IF(L1381<>\"\",'Step 2) Calculate'!H1385,\"\")","v":""},{"$f":"IF(L1381<>\"\",'Step 2) Calculate'!C1385,\"\")","v":""}]
[null,null,null,null,null,null,null,null,null,null,{"$f":"IF(L1382<>\"\",'Step 2) Calculate'!B1386,\"Zzzzz - delete row\")","v":"Zzzzz - delete row"},{"$f":"IF('Step 2) Calculate'!E1386<>\"\",'Step 2) Calculate'!G1386,\"\")","v":""},{"$f":"IF(L1382<>\"\",'Step 2) Calculate'!F1386,\"\")","v":""},{"$f":"IF(L1382<>\"\",'Step 2) Calculate'!H1386,\"\")","v":""},{"$f":"IF(L1382<>\"\",'Step 2) Calculate'!C1386,\"\")","v":""}]
[null,null,null,null,null,null,null,null,null,null,{"$f":"IF(L1383<>\"\",'Step 2) Calculate'!B1387,\"Zzzzz - delete row\")","v":"Zzzzz - delete row"},{"$f":"IF('Step 2) Calculate'!E1387<>\"\",'Step 2) Calculate'!G1387,\"\")","v":""},{"$f":"IF(L1383<>\"\",'Step 2) Calculate'!F1387,\"\")","v":""},{"$f":"IF(L1383<>\"\",'Step 2) Calculate'!H1387,\"\")","v":""},{"$f":"IF(L1383<>\"\",'Step 2) Calculate'!C1387,\"\")","v":""}]
[null,null,null,null,null,null,null,null,null,null,{"$f":"IF(L1384<>\"\",'Step 2) Calculate'!B1388,\"Zzzzz - delete row\")","v":"Zzzzz - delete row"},{"$f":"IF('Step 2) Calculate'!E1388<>\"\",'Step 2) Calculate'!G1388,\"\")","v":""},{"$f":"IF(L1384<>\"\",'Step 2) Calculate'!F1388,\"\")","v":""},{"$f":"IF(L1384<>\"\",'Step 2) Calculate'!H1388,\"\")","v":""},{"$f":"IF(L1384<>\"\",'Step 2) Calculate'!C1388,\"\")","v":""}]
[null,null,null,null,null,null,null,null,null,null,{"$f":"IF(L1385<>\"\",'Step 2) Calculate'!B1389,\"Zzzzz - delete row\")","v":"Zzzzz - delete row"},{"$f":"IF('Step 2) Calculate'!E1389<>\"\",'Step 2) Calculate'!G1389,\"\")","v":""},{"$f":"IF(L1385<>\"\",'Step 2) Calculate'!F1389,\"\")","v":""},{"$f":"IF(L1385<>\"\",'Step 2) Calculate'!H1389,\"\")","v":""},{"$f":"IF(L1385<>\"\",'Step 2) Calculate'!C1389,\"\")","v":""}]
[null,null,null,null,null,null,null,null,null,null,{"$f":"IF(L1386<>\"\",'Step 2) Calculate'!B1390,\"Zzzzz - delete row\")","v":"Zzzzz - delete row"},{"$f":"IF('Step 2) Calculate'!E1390<>\"\",'Step 2) Calculate'!G1390,\"\")","v":""},{"$f":"IF(L1386<>\"\",'Step 2) Calculate'!F1390,\"\")","v":""},{"$f":"IF(L1386<>\"\",'Step 2) Calculate'!H1390,\"\")","v":""},{"$f":"IF(L1386<>\"\",'Step 2) Calculate'!C1390,\"\")","v":""}]
[null,null,null,null,null,null,null,null,null,null,{"$f":"IF(L1387<>\"\",'Step 2) Calculate'!B1391,\"Zzzzz - delete row\")","v":"Zzzzz - delete row"},{"$f":"IF('Step 2) Calculate'!E1391<>\"\",'Step 2) Calculate'!G1391,\"\")","v":""},{"$f":"IF(L1387<>\"\",'Step 2) Calculate'!F1391,\"\")","v":""},{"$f":"IF(L1387<>\"\",'Step 2) Calculate'!H1391,\"\")","v":""},{"$f":"IF(L1387<>\"\",'Step 2) Calculate'!C1391,\"\")","v":""}]
[null,null,null,null,null,null,null,null,null,null,{"$f":"IF(L1388<>\"\",'Step 2) Calculate'!B1392,\"Zzzzz - delete row\")","v":"Zzzzz - delete row"},{"$f":"IF('Step 2) Calculate'!E1392<>\"\",'Step 2) Calculate'!G1392,\"\")","v":""},{"$f":"IF(L1388<>\"\",'Step 2) Calculate'!F1392,\"\")","v":""},{"$f":"IF(L1388<>\"\",'Step 2) Calculate'!H1392,\"\")","v":""},{"$f":"IF(L1388<>\"\",'Step 2) Calculate'!C1392,\"\")","v":""}]
[null,null,null,null,null,null,null,null,null,null,{"$f":"IF(L1389<>\"\",'Step 2) Calculate'!B1393,\"Zzzzz - delete row\")","v":"Zzzzz - delete row"},{"$f":"IF('Step 2) Calculate'!E1393<>\"\",'Step 2) Calculate'!G1393,\"\")","v":""},{"$f":"IF(L1389<>\"\",'Step 2) Calculate'!F1393,\"\")","v":""},{"$f":"IF(L1389<>\"\",'Step 2) Calculate'!H1393,\"\")","v":""},{"$f":"IF(L1389<>\"\",'Step 2) Calculate'!C1393,\"\")","v":""}]
[null,null,null,null,null,null,null,null,null,null,{"$f":"IF(L1390<>\"\",'Step 2) Calculate'!B1394,\"Zzzzz - delete row\")","v":"Zzzzz - delete row"},{"$f":"IF('Step 2) Calculate'!E1394<>\"\",'Step 2) Calculate'!G1394,\"\")","v":""},{"$f":"IF(L1390<>\"\",'Step 2) Calculate'!F1394,\"\")","v":""},{"$f":"IF(L1390<>\"\",'Step 2) Calculate'!H1394,\"\")","v":""},{"$f":"IF(L1390<>\"\",'Step 2) Calculate'!C1394,\"\")","v":""}]
[null,null,null,null,null,null,null,null,null,null,{"$f":"IF(L1391<>\"\",'Step 2) Calculate'!B1395,\"Zzzzz - delete row\")","v":"Zzzzz - delete row"},{"$f":"IF('Step 2) Calculate'!E1395<>\"\",'Step 2) Calculate'!G1395,\"\")","v":""},{"$f":"IF(L1391<>\"\",'Step 2) Calculate'!F1395,\"\")","v":""},{"$f":"IF(L1391<>\"\",'Step 2) Calculate'!H1395,\"\")","v":""},{"$f":"IF(L1391<>\"\",'Step 2) Calculate'!C1395,\"\")","v":""}]
[null,null,null,null,null,null,null,null,null,null,{"$f":"IF(L1392<>\"\",'Step 2) Calculate'!B1396,\"Zzzzz - delete row\")","v":"Zzzzz - delete row"},{"$f":"IF('Step 2) Calculate'!E1396<>\"\",'Step 2) Calculate'!G1396,\"\")","v":""},{"$f":"IF(L1392<>\"\",'Step 2) Calculate'!F1396,\"\")","v":""},{"$f":"IF(L1392<>\"\",'Step 2) Calculate'!H1396,\"\")","v":""},{"$f":"IF(L1392<>\"\",'Step 2) Calculate'!C1396,\"\")","v":""}]
[null,null,null,null,null,null,null,null,null,null,{"$f":"IF(L1393<>\"\",'Step 2) Calculate'!B1397,\"Zzzzz - delete row\")","v":"Zzzzz - delete row"},{"$f":"IF('Step 2) Calculate'!E1397<>\"\",'Step 2) Calculate'!G1397,\"\")","v":""},{"$f":"IF(L1393<>\"\",'Step 2) Calculate'!F1397,\"\")","v":""},{"$f":"IF(L1393<>\"\",'Step 2) Calculate'!H1397,\"\")","v":""},{"$f":"IF(L1393<>\"\",'Step 2) Calculate'!C1397,\"\")","v":""}]
[null,null,null,null,null,null,null,null,null,null,{"$f":"IF(L1394<>\"\",'Step 2) Calculate'!B1398,\"Zzzzz - delete row\")","v":"Zzzzz - delete row"},{"$f":"IF('Step 2) Calculate'!E1398<>\"\",'Step 2) Calculate'!G1398,\"\")","v":""},{"$f":"IF(L1394<>\"\",'Step 2) Calculate'!F1398,\"\")","v":""},{"$f":"IF(L1394<>\"\",'Step 2) Calculate'!H1398,\"\")","v":""},{"$f":"IF(L1394<>\"\",'Step 2) Calculate'!C1398,\"\")","v":""}]
[null,null,null,null,null,null,null,null,null,null,{"$f":"IF(L1395<>\"\",'Step 2) Calculate'!B1399,\"Zzzzz - delete row\")","v":"Zzzzz - delete row"},{"$f":"IF('Step 2) Calculate'!E1399<>\"\",'Step 2) Calculate'!G1399,\"\")","v":""},{"$f":"IF(L1395<>\"\",'Step 2) Calculate'!F1399,\"\")","v":""},{"$f":"IF(L1395<>\"\",'Step 2) Calculate'!H1399,\"\")","v":""},{"$f":"IF(L1395<>\"\",'Step 2) Calculate'!C1399,\"\")","v":""}]
[null,null,null,null,null,null,null,null,null,null,{"$f":"IF(L1396<>\"\",'Step 2) Calculate'!B1400,\"Zzzzz - delete row\")","v":"Zzzzz - delete row"},{"$f":"IF('Step 2) Calculate'!E1400<>\"\",'Step 2) Calculate'!G1400,\"\")","v":""},{"$f":"IF(L1396<>\"\",'Step 2) Calculate'!F1400,\"\")","v":""},{"$f":"IF(L1396<>\"\",'Step 2) Calculate'!H1400,\"\")","v":""},{"$f":"IF(L1396<>\"\",'Step 2) Calculate'!C1400,\"\")","v":""}]
[null,null,null,null,null,null,null,null,null,null,{"$f":"IF(L1397<>\"\",'Step 2) Calculate'!B1401,\"Zzzzz - delete row\")","v":"Zzzzz - delete row"},{"$f":"IF('Step 2) Calculate'!E1401<>\"\",'Step 2) Calculate'!G1401,\"\")","v":""},{"$f":"IF(L1397<>\"\",'Step 2) Calculate'!F1401,\"\")","v":""},{"$f":"IF(L1397<>\"\",'Step 2) Calculate'!H1401,\"\")","v":""},{"$f":"IF(L1397<>\"\",'Step 2) Calculate'!C1401,\"\")","v":""}]
[null,null,null,null,null,null,null,null,null,null,{"$f":"IF(L1398<>\"\",'Step 2) Calculate'!B1402,\"Zzzzz - delete row\")","v":"Zzzzz - delete row"},{"$f":"IF('Step 2) Calculate'!E1402<>\"\",'Step 2) Calculate'!G1402,\"\")","v":""},{"$f":"IF(L1398<>\"\",'Step 2) Calculate'!F1402,\"\")","v":""},{"$f":"IF(L1398<>\"\",'Step 2) Calculate'!H1402,\"\")","v":""},{"$f":"IF(L1398<>\"\",'Step 2) Calculate'!C1402,\"\")","v":""}]
[null,null,null,null,null,null,null,null,null,null,{"$f":"IF(L1399<>\"\",'Step 2) Calculate'!B1403,\"Zzzzz - delete row\")","v":"Zzzzz - delete row"},{"$f":"IF('Step 2) Calculate'!E1403<>\"\",'Step 2) Calculate'!G1403,\"\")","v":""},{"$f":"IF(L1399<>\"\",'Step 2) Calculate'!F1403,\"\")","v":""},{"$f":"IF(L1399<>\"\",'Step 2) Calculate'!H1403,\"\")","v":""},{"$f":"IF(L1399<>\"\",'Step 2) Calculate'!C1403,\"\")","v":""}]
[null,null,null,null,null,null,null,null,null,null,{"$f":"IF(L1400<>\"\",'Step 2) Calculate'!B1404,\"Zzzzz - delete row\")","v":"Zzzzz - delete row"},{"$f":"IF('Step 2) Calculate'!E1404<>\"\",'Step 2) Calculate'!G1404,\"\")","v":""},{"$f":"IF(L1400<>\"\",'Step 2) Calculate'!F1404,\"\")","v":""},{"$f":"IF(L1400<>\"\",'Step 2) Calculate'!H1404,\"\")","v":""},{"$f":"IF(L1400<>\"\",'Step 2) Calculate'!C1404,\"\")","v":""}]
[null,null,null,null,null,null,null,null,null,null,{"$f":"IF(L1401<>\"\",'Step 2) Calculate'!B1405,\"Zzzzz - delete row\")","v":"Zzzzz - delete row"},{"$f":"IF('Step 2) Calculate'!E1405<>\"\",'Step 2) Calculate'!G1405,\"\")","v":""},{"$f":"IF(L1401<>\"\",'Step 2) Calculate'!F1405,\"\")","v":""},{"$f":"IF(L1401<>\"\",'Step 2) Calculate'!H1405,\"\")","v":""},{"$f":"IF(L1401<>\"\",'Step 2) Calculate'!C1405,\"\")","v":""}]
[null,null,null,null,null,null,null,null,null,null,{"$f":"IF(L1402<>\"\",'Step 2) Calculate'!B1406,\"Zzzzz - delete row\")","v":"Zzzzz - delete row"},{"$f":"IF('Step 2) Calculate'!E1406<>\"\",'Step 2) Calculate'!G1406,\"\")","v":""},{"$f":"IF(L1402<>\"\",'Step 2) Calculate'!F1406,\"\")","v":""},{"$f":"IF(L1402<>\"\",'Step 2) Calculate'!H1406,\"\")","v":""},{"$f":"IF(L1402<>\"\",'Step 2) Calculate'!C1406,\"\")","v":""}]
[null,null,null,null,null,null,null,null,null,null,{"$f":"IF(L1403<>\"\",'Step 2) Calculate'!B1407,\"Zzzzz - delete row\")","v":"Zzzzz - delete row"},{"$f":"IF('Step 2) Calculate'!E1407<>\"\",'Step 2) Calculate'!G1407,\"\")","v":""},{"$f":"IF(L1403<>\"\",'Step 2) Calculate'!F1407,\"\")","v":""},{"$f":"IF(L1403<>\"\",'Step 2) Calculate'!H1407,\"\")","v":""},{"$f":"IF(L1403<>\"\",'Step 2) Calculate'!C1407,\"\")","v":""}]
[null,null,null,null,null,null,null,null,null,null,{"$f":"IF(L1404<>\"\",'Step 2) Calculate'!B1408,\"Zzzzz - delete row\")","v":"Zzzzz - delete row"},{"$f":"IF('Step 2) Calculate'!E1408<>\"\",'Step 2) Calculate'!G1408,\"\")","v":""},{"$f":"IF(L1404<>\"\",'Step 2) Calculate'!F1408,\"\")","v":""},{"$f":"IF(L1404<>\"\",'Step 2) Calculate'!H1408,\"\")","v":""},{"$f":"IF(L1404<>\"\",'Step 2) Calculate'!C1408,\"\")","v":""}]
[null,null,null,null,null,null,null,null,null,null,{"$f":"IF(L1405<>\"\",'Step 2) Calculate'!B1409,\"Zzzzz - delete row\")","v":"Zzzzz - delete row"},{"$f":"IF('Step 2) Calculate'!E1409<>\"\",'Step 2) Calculate'!G1409,\"\")","v":""},{"$f":"IF(L1405<>\"\",'Step 2) Calculate'!F1409,\"\")","v":""},{"$f":"IF(L1405<>\"\",'Step 2) Calculate'!H1409,\"\")","v":""},{"$f":"IF(L1405<>\"\",'Step 2) Calculate'!C1409,\"\")","v":""}]
[null,null,null,null,null,null,null,null,null,null,{"$f":"IF(L1406<>\"\",'Step 2) Calculate'!B1410,\"Zzzzz - delete row\")","v":"Zzzzz - delete row"},{"$f":"IF('Step 2) Calculate'!E1410<>\"\",'Step 2) Calculate'!G1410,\"\")","v":""},{"$f":"IF(L1406<>\"\",'Step 2) Calculate'!F1410,\"\")","v":""},{"$f":"IF(L1406<>\"\",'Step 2) Calculate'!H1410,\"\")","v":""},{"$f":"IF(L1406<>\"\",'Step 2) Calculate'!C1410,\"\")","v":""}]
[null,null,null,null,null,null,null,null,null,null,{"$f":"IF(L1407<>\"\",'Step 2) Calculate'!B1411,\"Zzzzz - delete row\")","v":"Zzzzz - delete row"},{"$f":"IF('Step 2) Calculate'!E1411<>\"\",'Step 2) Calculate'!G1411,\"\")","v":""},{"$f":"IF(L1407<>\"\",'Step 2) Calculate'!F1411,\"\")","v":""},{"$f":"IF(L1407<>\"\",'Step 2) Calculate'!H1411,\"\")","v":""},{"$f":"IF(L1407<>\"\",'Step 2) Calculate'!C1411,\"\")","v":""}]
[null,null,null,null,null,null,null,null,null,null,{"$f":"IF(L1408<>\"\",'Step 2) Calculate'!B1412,\"Zzzzz - delete row\")","v":"Zzzzz - delete row"},{"$f":"IF('Step 2) Calculate'!E1412<>\"\",'Step 2) Calculate'!G1412,\"\")","v":""},{"$f":"IF(L1408<>\"\",'Step 2) Calculate'!F1412,\"\")","v":""},{"$f":"IF(L1408<>\"\",'Step 2) Calculate'!H1412,\"\")","v":""},{"$f":"IF(L1408<>\"\",'Step 2) Calculate'!C1412,\"\")","v":""}]
[null,null,null,null,null,null,null,null,null,null,{"$f":"IF(L1409<>\"\",'Step 2) Calculate'!B1413,\"Zzzzz - delete row\")","v":"Zzzzz - delete row"},{"$f":"IF('Step 2) Calculate'!E1413<>\"\",'Step 2) Calculate'!G1413,\"\")","v":""},{"$f":"IF(L1409<>\"\",'Step 2) Calculate'!F1413,\"\")","v":""},{"$f":"IF(L1409<>\"\",'Step 2) Calculate'!H1413,\"\")","v":""},{"$f":"IF(L1409<>\"\",'Step 2) Calculate'!C1413,\"\")","v":""}]
[null,null,null,null,null,null,null,null,null,null,{"$f":"IF(L1410<>\"\",'Step 2) Calculate'!B1414,\"Zzzzz - delete row\")","v":"Zzzzz - delete row"},{"$f":"IF('Step 2) Calculate'!E1414<>\"\",'Step 2) Calculate'!G1414,\"\")","v":""},{"$f":"IF(L1410<>\"\",'Step 2) Calculate'!F1414,\"\")","v":""},{"$f":"IF(L1410<>\"\",'Step 2) Calculate'!H1414,\"\")","v":""},{"$f":"IF(L1410<>\"\",'Step 2) Calculate'!C1414,\"\")","v":""}]
[null,null,null,null,null,null,null,null,null,null,{"$f":"IF(L1411<>\"\",'Step 2) Calculate'!B1415,\"Zzzzz - delete row\")","v":"Zzzzz - delete row"},{"$f":"IF('Step 2) Calculate'!E1415<>\"\",'Step 2) Calculate'!G1415,\"\")","v":""},{"$f":"IF(L1411<>\"\",'Step 2) Calculate'!F1415,\"\")","v":""},{"$f":"IF(L1411<>\"\",'Step 2) Calculate'!H1415,\"\")","v":""},{"$f":"IF(L1411<>\"\",'Step 2) Calculate'!C1415,\"\")","v":""}]
[null,null,null,null,null,null,null,null,null,null,{"$f":"IF(L1412<>\"\",'Step 2) Calculate'!B1416,\"Zzzzz - delete row\")","v":"Zzzzz - delete row"},{"$f":"IF('Step 2) Calculate'!E1416<>\"\",'Step 2) Calculate'!G1416,\"\")","v":""},{"$f":"IF(L1412<>\"\",'Step 2) Calculate'!F1416,\"\")","v":""},{"$f":"IF(L1412<>\"\",'Step 2) Calculate'!H1416,\"\")","v":""},{"$f":"IF(L1412<>\"\",'Step 2) Calculate'!C1416,\"\")","v":""}]
[null,null,null,null,null,null,null,null,null,null,{"$f":"IF(L1413<>\"\",'Step 2) Calculate'!B1417,\"Zzzzz - delete row\")","v":"Zzzzz - delete row"},{"$f":"IF('Step 2) Calculate'!E1417<>\"\",'Step 2) Calculate'!G1417,\"\")","v":""},{"$f":"IF(L1413<>\"\",'Step 2) Calculate'!F1417,\"\")","v":""},{"$f":"IF(L1413<>\"\",'Step 2) Calculate'!H1417,\"\")","v":""},{"$f":"IF(L1413<>\"\",'Step 2) Calculate'!C1417,\"\")","v":""}]
[null,null,null,null,null,null,null,null,null,null,{"$f":"IF(L1414<>\"\",'Step 2) Calculate'!B1418,\"Zzzzz - delete row\")","v":"Zzzzz - delete row"},{"$f":"IF('Step 2) Calculate'!E1418<>\"\",'Step 2) Calculate'!G1418,\"\")","v":""},{"$f":"IF(L1414<>\"\",'Step 2) Calculate'!F1418,\"\")","v":""},{"$f":"IF(L1414<>\"\",'Step 2) Calculate'!H1418,\"\")","v":""},{"$f":"IF(L1414<>\"\",'Step 2) Calculate'!C1418,\"\")","v":""}]
[null,null,null,null,null,null,null,null,null,null,{"$f":"IF(L1415<>\"\",'Step 2) Calculate'!B1419,\"Zzzzz - delete row\")","v":"Zzzzz - delete row"},{"$f":"IF('Step 2) Calculate'!E1419<>\"\",'Step 2) Calculate'!G1419,\"\")","v":""},{"$f":"IF(L1415<>\"\",'Step 2) Calculate'!F1419,\"\")","v":""},{"$f":"IF(L1415<>\"\",'Step 2) Calculate'!H1419,\"\")","v":""},{"$f":"IF(L1415<>\"\",'Step 2) Calculate'!C1419,\"\")","v":""}]
[null,null,null,null,null,null,null,null,null,null,{"$f":"IF(L1416<>\"\",'Step 2) Calculate'!B1420,\"Zzzzz - delete row\")","v":"Zzzzz - delete row"},{"$f":"IF('Step 2) Calculate'!E1420<>\"\",'Step 2) Calculate'!G1420,\"\")","v":""},{"$f":"IF(L1416<>\"\",'Step 2) Calculate'!F1420,\"\")","v":""},{"$f":"IF(L1416<>\"\",'Step 2) Calculate'!H1420,\"\")","v":""},{"$f":"IF(L1416<>\"\",'Step 2) Calculate'!C1420,\"\")","v":""}]
[null,null,null,null,null,null,null,null,null,null,{"$f":"IF(L1417<>\"\",'Step 2) Calculate'!B1421,\"Zzzzz - delete row\")","v":"Zzzzz - delete row"},{"$f":"IF('Step 2) Calculate'!E1421<>\"\",'Step 2) Calculate'!G1421,\"\")","v":""},{"$f":"IF(L1417<>\"\",'Step 2) Calculate'!F1421,\"\")","v":""},{"$f":"IF(L1417<>\"\",'Step 2) Calculate'!H1421,\"\")","v":""},{"$f":"IF(L1417<>\"\",'Step 2) Calculate'!C1421,\"\")","v":""}]
[null,null,null,null,null,null,null,null,null,null,{"$f":"IF(L1418<>\"\",'Step 2) Calculate'!B1422,\"Zzzzz - delete row\")","v":"Zzzzz - delete row"},{"$f":"IF('Step 2) Calculate'!E1422<>\"\",'Step 2) Calculate'!G1422,\"\")","v":""},{"$f":"IF(L1418<>\"\",'Step 2) Calculate'!F1422,\"\")","v":""},{"$f":"IF(L1418<>\"\",'Step 2) Calculate'!H1422,\"\")","v":""},{"$f":"IF(L1418<>\"\",'Step 2) Calculate'!C1422,\"\")","v":""}]
[null,null,null,null,null,null,null,null,null,null,{"$f":"IF(L1419<>\"\",'Step 2) Calculate'!B1423,\"Zzzzz - delete row\")","v":"Zzzzz - delete row"},{"$f":"IF('Step 2) Calculate'!E1423<>\"\",'Step 2) Calculate'!G1423,\"\")","v":""},{"$f":"IF(L1419<>\"\",'Step 2) Calculate'!F1423,\"\")","v":""},{"$f":"IF(L1419<>\"\",'Step 2) Calculate'!H1423,\"\")","v":""},{"$f":"IF(L1419<>\"\",'Step 2) Calculate'!C1423,\"\")","v":""}]
[null,null,null,null,null,null,null,null,null,null,{"$f":"IF(L1420<>\"\",'Step 2) Calculate'!B1424,\"Zzzzz - delete row\")","v":"Zzzzz - delete row"},{"$f":"IF('Step 2) Calculate'!E1424<>\"\",'Step 2) Calculate'!G1424,\"\")","v":""},{"$f":"IF(L1420<>\"\",'Step 2) Calculate'!F1424,\"\")","v":""},{"$f":"IF(L1420<>\"\",'Step 2) Calculate'!H1424,\"\")","v":""},{"$f":"IF(L1420<>\"\",'Step 2) Calculate'!C1424,\"\")","v":""}]
[null,null,null,null,null,null,null,null,null,null,{"$f":"IF(L1421<>\"\",'Step 2) Calculate'!B1425,\"Zzzzz - delete row\")","v":"Zzzzz - delete row"},{"$f":"IF('Step 2) Calculate'!E1425<>\"\",'Step 2) Calculate'!G1425,\"\")","v":""},{"$f":"IF(L1421<>\"\",'Step 2) Calculate'!F1425,\"\")","v":""},{"$f":"IF(L1421<>\"\",'Step 2) Calculate'!H1425,\"\")","v":""},{"$f":"IF(L1421<>\"\",'Step 2) Calculate'!C1425,\"\")","v":""}]
[null,null,null,null,null,null,null,null,null,null,{"$f":"IF(L1422<>\"\",'Step 2) Calculate'!B1426,\"Zzzzz - delete row\")","v":"Zzzzz - delete row"},{"$f":"IF('Step 2) Calculate'!E1426<>\"\",'Step 2) Calculate'!G1426,\"\")","v":""},{"$f":"IF(L1422<>\"\",'Step 2) Calculate'!F1426,\"\")","v":""},{"$f":"IF(L1422<>\"\",'Step 2) Calculate'!H1426,\"\")","v":""},{"$f":"IF(L1422<>\"\",'Step 2) Calculate'!C1426,\"\")","v":""}]
[null,null,null,null,null,null,null,null,null,null,{"$f":"IF(L1423<>\"\",'Step 2) Calculate'!B1427,\"Zzzzz - delete row\")","v":"Zzzzz - delete row"},{"$f":"IF('Step 2) Calculate'!E1427<>\"\",'Step 2) Calculate'!G1427,\"\")","v":""},{"$f":"IF(L1423<>\"\",'Step 2) Calculate'!F1427,\"\")","v":""},{"$f":"IF(L1423<>\"\",'Step 2) Calculate'!H1427,\"\")","v":""},{"$f":"IF(L1423<>\"\",'Step 2) Calculate'!C1427,\"\")","v":""}]
[null,null,null,null,null,null,null,null,null,null,{"$f":"IF(L1424<>\"\",'Step 2) Calculate'!B1428,\"Zzzzz - delete row\")","v":"Zzzzz - delete row"},{"$f":"IF('Step 2) Calculate'!E1428<>\"\",'Step 2) Calculate'!G1428,\"\")","v":""},{"$f":"IF(L1424<>\"\",'Step 2) Calculate'!F1428,\"\")","v":""},{"$f":"IF(L1424<>\"\",'Step 2) Calculate'!H1428,\"\")","v":""},{"$f":"IF(L1424<>\"\",'Step 2) Calculate'!C1428,\"\")","v":""}]
[null,null,null,null,null,null,null,null,null,null,{"$f":"IF(L1425<>\"\",'Step 2) Calculate'!B1429,\"Zzzzz - delete row\")","v":"Zzzzz - delete row"},{"$f":"IF('Step 2) Calculate'!E1429<>\"\",'Step 2) Calculate'!G1429,\"\")","v":""},{"$f":"IF(L1425<>\"\",'Step 2) Calculate'!F1429,\"\")","v":""},{"$f":"IF(L1425<>\"\",'Step 2) Calculate'!H1429,\"\")","v":""},{"$f":"IF(L1425<>\"\",'Step 2) Calculate'!C1429,\"\")","v":""}]
[null,null,null,null,null,null,null,null,null,null,{"$f":"IF(L1426<>\"\",'Step 2) Calculate'!B1430,\"Zzzzz - delete row\")","v":"Zzzzz - delete row"},{"$f":"IF('Step 2) Calculate'!E1430<>\"\",'Step 2) Calculate'!G1430,\"\")","v":""},{"$f":"IF(L1426<>\"\",'Step 2) Calculate'!F1430,\"\")","v":""},{"$f":"IF(L1426<>\"\",'Step 2) Calculate'!H1430,\"\")","v":""},{"$f":"IF(L1426<>\"\",'Step 2) Calculate'!C1430,\"\")","v":""}]
[null,null,null,null,null,null,null,null,null,null,{"$f":"IF(L1427<>\"\",'Step 2) Calculate'!B1431,\"Zzzzz - delete row\")","v":"Zzzzz - delete row"},{"$f":"IF('Step 2) Calculate'!E1431<>\"\",'Step 2) Calculate'!G1431,\"\")","v":""},{"$f":"IF(L1427<>\"\",'Step 2) Calculate'!F1431,\"\")","v":""},{"$f":"IF(L1427<>\"\",'Step 2) Calculate'!H1431,\"\")","v":""},{"$f":"IF(L1427<>\"\",'Step 2) Calculate'!C1431,\"\")","v":""}]
[null,null,null,null,null,null,null,null,null,null,{"$f":"IF(L1428<>\"\",'Step 2) Calculate'!B1432,\"Zzzzz - delete row\")","v":"Zzzzz - delete row"},{"$f":"IF('Step 2) Calculate'!E1432<>\"\",'Step 2) Calculate'!G1432,\"\")","v":""},{"$f":"IF(L1428<>\"\",'Step 2) Calculate'!F1432,\"\")","v":""},{"$f":"IF(L1428<>\"\",'Step 2) Calculate'!H1432,\"\")","v":""},{"$f":"IF(L1428<>\"\",'Step 2) Calculate'!C1432,\"\")","v":""}]
[null,null,null,null,null,null,null,null,null,null,{"$f":"IF(L1429<>\"\",'Step 2) Calculate'!B1433,\"Zzzzz - delete row\")","v":"Zzzzz - delete row"},{"$f":"IF('Step 2) Calculate'!E1433<>\"\",'Step 2) Calculate'!G1433,\"\")","v":""},{"$f":"IF(L1429<>\"\",'Step 2) Calculate'!F1433,\"\")","v":""},{"$f":"IF(L1429<>\"\",'Step 2) Calculate'!H1433,\"\")","v":""},{"$f":"IF(L1429<>\"\",'Step 2) Calculate'!C1433,\"\")","v":""}]
[null,null,null,null,null,null,null,null,null,null,{"$f":"IF(L1430<>\"\",'Step 2) Calculate'!B1434,\"Zzzzz - delete row\")","v":"Zzzzz - delete row"},{"$f":"IF('Step 2) Calculate'!E1434<>\"\",'Step 2) Calculate'!G1434,\"\")","v":""},{"$f":"IF(L1430<>\"\",'Step 2) Calculate'!F1434,\"\")","v":""},{"$f":"IF(L1430<>\"\",'Step 2) Calculate'!H1434,\"\")","v":""},{"$f":"IF(L1430<>\"\",'Step 2) Calculate'!C1434,\"\")","v":""}]
[null,null,null,null,null,null,null,null,null,null,{"$f":"IF(L1431<>\"\",'Step 2) Calculate'!B1435,\"Zzzzz - delete row\")","v":"Zzzzz - delete row"},{"$f":"IF('Step 2) Calculate'!E1435<>\"\",'Step 2) Calculate'!G1435,\"\")","v":""},{"$f":"IF(L1431<>\"\",'Step 2) Calculate'!F1435,\"\")","v":""},{"$f":"IF(L1431<>\"\",'Step 2) Calculate'!H1435,\"\")","v":""},{"$f":"IF(L1431<>\"\",'Step 2) Calculate'!C1435,\"\")","v":""}]
[null,null,null,null,null,null,null,null,null,null,{"$f":"IF(L1432<>\"\",'Step 2) Calculate'!B1436,\"Zzzzz - delete row\")","v":"Zzzzz - delete row"},{"$f":"IF('Step 2) Calculate'!E1436<>\"\",'Step 2) Calculate'!G1436,\"\")","v":""},{"$f":"IF(L1432<>\"\",'Step 2) Calculate'!F1436,\"\")","v":""},{"$f":"IF(L1432<>\"\",'Step 2) Calculate'!H1436,\"\")","v":""},{"$f":"IF(L1432<>\"\",'Step 2) Calculate'!C1436,\"\")","v":""}]
[null,null,null,null,null,null,null,null,null,null,{"$f":"IF(L1433<>\"\",'Step 2) Calculate'!B1437,\"Zzzzz - delete row\")","v":"Zzzzz - delete row"},{"$f":"IF('Step 2) Calculate'!E1437<>\"\",'Step 2) Calculate'!G1437,\"\")","v":""},{"$f":"IF(L1433<>\"\",'Step 2) Calculate'!F1437,\"\")","v":""},{"$f":"IF(L1433<>\"\",'Step 2) Calculate'!H1437,\"\")","v":""},{"$f":"IF(L1433<>\"\",'Step 2) Calculate'!C1437,\"\")","v":""}]
[null,null,null,null,null,null,null,null,null,null,{"$f":"IF(L1434<>\"\",'Step 2) Calculate'!B1438,\"Zzzzz - delete row\")","v":"Zzzzz - delete row"},{"$f":"IF('Step 2) Calculate'!E1438<>\"\",'Step 2) Calculate'!G1438,\"\")","v":""},{"$f":"IF(L1434<>\"\",'Step 2) Calculate'!F1438,\"\")","v":""},{"$f":"IF(L1434<>\"\",'Step 2) Calculate'!H1438,\"\")","v":""},{"$f":"IF(L1434<>\"\",'Step 2) Calculate'!C1438,\"\")","v":""}]
[null,null,null,null,null,null,null,null,null,null,{"$f":"IF(L1435<>\"\",'Step 2) Calculate'!B1439,\"Zzzzz - delete row\")","v":"Zzzzz - delete row"},{"$f":"IF('Step 2) Calculate'!E1439<>\"\",'Step 2) Calculate'!G1439,\"\")","v":""},{"$f":"IF(L1435<>\"\",'Step 2) Calculate'!F1439,\"\")","v":""},{"$f":"IF(L1435<>\"\",'Step 2) Calculate'!H1439,\"\")","v":""},{"$f":"IF(L1435<>\"\",'Step 2) Calculate'!C1439,\"\")","v":""}]
[null,null,null,null,null,null,null,null,null,null,{"$f":"IF(L1436<>\"\",'Step 2) Calculate'!B1440,\"Zzzzz - delete row\")","v":"Zzzzz - delete row"},{"$f":"IF('Step 2) Calculate'!E1440<>\"\",'Step 2) Calculate'!G1440,\"\")","v":""},{"$f":"IF(L1436<>\"\",'Step 2) Calculate'!F1440,\"\")","v":""},{"$f":"IF(L1436<>\"\",'Step 2) Calculate'!H1440,\"\")","v":""},{"$f":"IF(L1436<>\"\",'Step 2) Calculate'!C1440,\"\")","v":""}]
[null,null,null,null,null,null,null,null,null,null,{"$f":"IF(L1437<>\"\",'Step 2) Calculate'!B1441,\"Zzzzz - delete row\")","v":"Zzzzz - delete row"},{"$f":"IF('Step 2) Calculate'!E1441<>\"\",'Step 2) Calculate'!G1441,\"\")","v":""},{"$f":"IF(L1437<>\"\",'Step 2) Calculate'!F1441,\"\")","v":""},{"$f":"IF(L1437<>\"\",'Step 2) Calculate'!H1441,\"\")","v":""},{"$f":"IF(L1437<>\"\",'Step 2) Calculate'!C1441,\"\")","v":""}]
[null,null,null,null,null,null,null,null,null,null,{"$f":"IF(L1438<>\"\",'Step 2) Calculate'!B1442,\"Zzzzz - delete row\")","v":"Zzzzz - delete row"},{"$f":"IF('Step 2) Calculate'!E1442<>\"\",'Step 2) Calculate'!G1442,\"\")","v":""},{"$f":"IF(L1438<>\"\",'Step 2) Calculate'!F1442,\"\")","v":""},{"$f":"IF(L1438<>\"\",'Step 2) Calculate'!H1442,\"\")","v":""},{"$f":"IF(L1438<>\"\",'Step 2) Calculate'!C1442,\"\")","v":""}]
[null,null,null,null,null,null,null,null,null,null,{"$f":"IF(L1439<>\"\",'Step 2) Calculate'!B1443,\"Zzzzz - delete row\")","v":"Zzzzz - delete row"},{"$f":"IF('Step 2) Calculate'!E1443<>\"\",'Step 2) Calculate'!G1443,\"\")","v":""},{"$f":"IF(L1439<>\"\",'Step 2) Calculate'!F1443,\"\")","v":""},{"$f":"IF(L1439<>\"\",'Step 2) Calculate'!H1443,\"\")","v":""},{"$f":"IF(L1439<>\"\",'Step 2) Calculate'!C1443,\"\")","v":""}]
[null,null,null,null,null,null,null,null,null,null,{"$f":"IF(L1440<>\"\",'Step 2) Calculate'!B1444,\"Zzzzz - delete row\")","v":"Zzzzz - delete row"},{"$f":"IF('Step 2) Calculate'!E1444<>\"\",'Step 2) Calculate'!G1444,\"\")","v":""},{"$f":"IF(L1440<>\"\",'Step 2) Calculate'!F1444,\"\")","v":""},{"$f":"IF(L1440<>\"\",'Step 2) Calculate'!H1444,\"\")","v":""},{"$f":"IF(L1440<>\"\",'Step 2) Calculate'!C1444,\"\")","v":""}]
[null,null,null,null,null,null,null,null,null,null,{"$f":"IF(L1441<>\"\",'Step 2) Calculate'!B1445,\"Zzzzz - delete row\")","v":"Zzzzz - delete row"},{"$f":"IF('Step 2) Calculate'!E1445<>\"\",'Step 2) Calculate'!G1445,\"\")","v":""},{"$f":"IF(L1441<>\"\",'Step 2) Calculate'!F1445,\"\")","v":""},{"$f":"IF(L1441<>\"\",'Step 2) Calculate'!H1445,\"\")","v":""},{"$f":"IF(L1441<>\"\",'Step 2) Calculate'!C1445,\"\")","v":""}]
[null,null,null,null,null,null,null,null,null,null,{"$f":"IF(L1442<>\"\",'Step 2) Calculate'!B1446,\"Zzzzz - delete row\")","v":"Zzzzz - delete row"},{"$f":"IF('Step 2) Calculate'!E1446<>\"\",'Step 2) Calculate'!G1446,\"\")","v":""},{"$f":"IF(L1442<>\"\",'Step 2) Calculate'!F1446,\"\")","v":""},{"$f":"IF(L1442<>\"\",'Step 2) Calculate'!H1446,\"\")","v":""},{"$f":"IF(L1442<>\"\",'Step 2) Calculate'!C1446,\"\")","v":""}]
[null,null,null,null,null,null,null,null,null,null,{"$f":"IF(L1443<>\"\",'Step 2) Calculate'!B1447,\"Zzzzz - delete row\")","v":"Zzzzz - delete row"},{"$f":"IF('Step 2) Calculate'!E1447<>\"\",'Step 2) Calculate'!G1447,\"\")","v":""},{"$f":"IF(L1443<>\"\",'Step 2) Calculate'!F1447,\"\")","v":""},{"$f":"IF(L1443<>\"\",'Step 2) Calculate'!H1447,\"\")","v":""},{"$f":"IF(L1443<>\"\",'Step 2) Calculate'!C1447,\"\")","v":""}]
[null,null,null,null,null,null,null,null,null,null,{"$f":"IF(L1444<>\"\",'Step 2) Calculate'!B1448,\"Zzzzz - delete row\")","v":"Zzzzz - delete row"},{"$f":"IF('Step 2) Calculate'!E1448<>\"\",'Step 2) Calculate'!G1448,\"\")","v":""},{"$f":"IF(L1444<>\"\",'Step 2) Calculate'!F1448,\"\")","v":""},{"$f":"IF(L1444<>\"\",'Step 2) Calculate'!H1448,\"\")","v":""},{"$f":"IF(L1444<>\"\",'Step 2) Calculate'!C1448,\"\")","v":""}]
[null,null,null,null,null,null,null,null,null,null,{"$f":"IF(L1445<>\"\",'Step 2) Calculate'!B1449,\"Zzzzz - delete row\")","v":"Zzzzz - delete row"},{"$f":"IF('Step 2) Calculate'!E1449<>\"\",'Step 2) Calculate'!G1449,\"\")","v":""},{"$f":"IF(L1445<>\"\",'Step 2) Calculate'!F1449,\"\")","v":""},{"$f":"IF(L1445<>\"\",'Step 2) Calculate'!H1449,\"\")","v":""},{"$f":"IF(L1445<>\"\",'Step 2) Calculate'!C1449,\"\")","v":""}]
[null,null,null,null,null,null,null,null,null,null,{"$f":"IF(L1446<>\"\",'Step 2) Calculate'!B1450,\"Zzzzz - delete row\")","v":"Zzzzz - delete row"},{"$f":"IF('Step 2) Calculate'!E1450<>\"\",'Step 2) Calculate'!G1450,\"\")","v":""},{"$f":"IF(L1446<>\"\",'Step 2) Calculate'!F1450,\"\")","v":""},{"$f":"IF(L1446<>\"\",'Step 2) Calculate'!H1450,\"\")","v":""},{"$f":"IF(L1446<>\"\",'Step 2) Calculate'!C1450,\"\")","v":""}]
[null,null,null,null,null,null,null,null,null,null,{"$f":"IF(L1447<>\"\",'Step 2) Calculate'!B1451,\"Zzzzz - delete row\")","v":"Zzzzz - delete row"},{"$f":"IF('Step 2) Calculate'!E1451<>\"\",'Step 2) Calculate'!G1451,\"\")","v":""},{"$f":"IF(L1447<>\"\",'Step 2) Calculate'!F1451,\"\")","v":""},{"$f":"IF(L1447<>\"\",'Step 2) Calculate'!H1451,\"\")","v":""},{"$f":"IF(L1447<>\"\",'Step 2) Calculate'!C1451,\"\")","v":""}]
[null,null,null,null,null,null,null,null,null,null,{"$f":"IF(L1448<>\"\",'Step 2) Calculate'!B1452,\"Zzzzz - delete row\")","v":"Zzzzz - delete row"},{"$f":"IF('Step 2) Calculate'!E1452<>\"\",'Step 2) Calculate'!G1452,\"\")","v":""},{"$f":"IF(L1448<>\"\",'Step 2) Calculate'!F1452,\"\")","v":""},{"$f":"IF(L1448<>\"\",'Step 2) Calculate'!H1452,\"\")","v":""},{"$f":"IF(L1448<>\"\",'Step 2) Calculate'!C1452,\"\")","v":""}]
[null,null,null,null,null,null,null,null,null,null,{"$f":"IF(L1449<>\"\",'Step 2) Calculate'!B1453,\"Zzzzz - delete row\")","v":"Zzzzz - delete row"},{"$f":"IF('Step 2) Calculate'!E1453<>\"\",'Step 2) Calculate'!G1453,\"\")","v":""},{"$f":"IF(L1449<>\"\",'Step 2) Calculate'!F1453,\"\")","v":""},{"$f":"IF(L1449<>\"\",'Step 2) Calculate'!H1453,\"\")","v":""},{"$f":"IF(L1449<>\"\",'Step 2) Calculate'!C1453,\"\")","v":""}]
[null,null,null,null,null,null,null,null,null,null,{"$f":"IF(L1450<>\"\",'Step 2) Calculate'!B1454,\"Zzzzz - delete row\")","v":"Zzzzz - delete row"},{"$f":"IF('Step 2) Calculate'!E1454<>\"\",'Step 2) Calculate'!G1454,\"\")","v":""},{"$f":"IF(L1450<>\"\",'Step 2) Calculate'!F1454,\"\")","v":""},{"$f":"IF(L1450<>\"\",'Step 2) Calculate'!H1454,\"\")","v":""},{"$f":"IF(L1450<>\"\",'Step 2) Calculate'!C1454,\"\")","v":""}]
[null,null,null,null,null,null,null,null,null,null,{"$f":"IF(L1451<>\"\",'Step 2) Calculate'!B1455,\"Zzzzz - delete row\")","v":"Zzzzz - delete row"},{"$f":"IF('Step 2) Calculate'!E1455<>\"\",'Step 2) Calculate'!G1455,\"\")","v":""},{"$f":"IF(L1451<>\"\",'Step 2) Calculate'!F1455,\"\")","v":""},{"$f":"IF(L1451<>\"\",'Step 2) Calculate'!H1455,\"\")","v":""},{"$f":"IF(L1451<>\"\",'Step 2) Calculate'!C1455,\"\")","v":""}]
[null,null,null,null,null,null,null,null,null,null,{"$f":"IF(L1452<>\"\",'Step 2) Calculate'!B1456,\"Zzzzz - delete row\")","v":"Zzzzz - delete row"},{"$f":"IF('Step 2) Calculate'!E1456<>\"\",'Step 2) Calculate'!G1456,\"\")","v":""},{"$f":"IF(L1452<>\"\",'Step 2) Calculate'!F1456,\"\")","v":""},{"$f":"IF(L1452<>\"\",'Step 2) Calculate'!H1456,\"\")","v":""},{"$f":"IF(L1452<>\"\",'Step 2) Calculate'!C1456,\"\")","v":""}]
[null,null,null,null,null,null,null,null,null,null,{"$f":"IF(L1453<>\"\",'Step 2) Calculate'!B1457,\"Zzzzz - delete row\")","v":"Zzzzz - delete row"},{"$f":"IF('Step 2) Calculate'!E1457<>\"\",'Step 2) Calculate'!G1457,\"\")","v":""},{"$f":"IF(L1453<>\"\",'Step 2) Calculate'!F1457,\"\")","v":""},{"$f":"IF(L1453<>\"\",'Step 2) Calculate'!H1457,\"\")","v":""},{"$f":"IF(L1453<>\"\",'Step 2) Calculate'!C1457,\"\")","v":""}]
[null,null,null,null,null,null,null,null,null,null,{"$f":"IF(L1454<>\"\",'Step 2) Calculate'!B1458,\"Zzzzz - delete row\")","v":"Zzzzz - delete row"},{"$f":"IF('Step 2) Calculate'!E1458<>\"\",'Step 2) Calculate'!G1458,\"\")","v":""},{"$f":"IF(L1454<>\"\",'Step 2) Calculate'!F1458,\"\")","v":""},{"$f":"IF(L1454<>\"\",'Step 2) Calculate'!H1458,\"\")","v":""},{"$f":"IF(L1454<>\"\",'Step 2) Calculate'!C1458,\"\")","v":""}]
[null,null,null,null,null,null,null,null,null,null,{"$f":"IF(L1455<>\"\",'Step 2) Calculate'!B1459,\"Zzzzz - delete row\")","v":"Zzzzz - delete row"},{"$f":"IF('Step 2) Calculate'!E1459<>\"\",'Step 2) Calculate'!G1459,\"\")","v":""},{"$f":"IF(L1455<>\"\",'Step 2) Calculate'!F1459,\"\")","v":""},{"$f":"IF(L1455<>\"\",'Step 2) Calculate'!H1459,\"\")","v":""},{"$f":"IF(L1455<>\"\",'Step 2) Calculate'!C1459,\"\")","v":""}]
[null,null,null,null,null,null,null,null,null,null,{"$f":"IF(L1456<>\"\",'Step 2) Calculate'!B1460,\"Zzzzz - delete row\")","v":"Zzzzz - delete row"},{"$f":"IF('Step 2) Calculate'!E1460<>\"\",'Step 2) Calculate'!G1460,\"\")","v":""},{"$f":"IF(L1456<>\"\",'Step 2) Calculate'!F1460,\"\")","v":""},{"$f":"IF(L1456<>\"\",'Step 2) Calculate'!H1460,\"\")","v":""},{"$f":"IF(L1456<>\"\",'Step 2) Calculate'!C1460,\"\")","v":""}]
[null,null,null,null,null,null,null,null,null,null,{"$f":"IF(L1457<>\"\",'Step 2) Calculate'!B1461,\"Zzzzz - delete row\")","v":"Zzzzz - delete row"},{"$f":"IF('Step 2) Calculate'!E1461<>\"\",'Step 2) Calculate'!G1461,\"\")","v":""},{"$f":"IF(L1457<>\"\",'Step 2) Calculate'!F1461,\"\")","v":""},{"$f":"IF(L1457<>\"\",'Step 2) Calculate'!H1461,\"\")","v":""},{"$f":"IF(L1457<>\"\",'Step 2) Calculate'!C1461,\"\")","v":""}]
[null,null,null,null,null,null,null,null,null,null,{"$f":"IF(L1458<>\"\",'Step 2) Calculate'!B1462,\"Zzzzz - delete row\")","v":"Zzzzz - delete row"},{"$f":"IF('Step 2) Calculate'!E1462<>\"\",'Step 2) Calculate'!G1462,\"\")","v":""},{"$f":"IF(L1458<>\"\",'Step 2) Calculate'!F1462,\"\")","v":""},{"$f":"IF(L1458<>\"\",'Step 2) Calculate'!H1462,\"\")","v":""},{"$f":"IF(L1458<>\"\",'Step 2) Calculate'!C1462,\"\")","v":""}]
[null,null,null,null,null,null,null,null,null,null,{"$f":"IF(L1459<>\"\",'Step 2) Calculate'!B1463,\"Zzzzz - delete row\")","v":"Zzzzz - delete row"},{"$f":"IF('Step 2) Calculate'!E1463<>\"\",'Step 2) Calculate'!G1463,\"\")","v":""},{"$f":"IF(L1459<>\"\",'Step 2) Calculate'!F1463,\"\")","v":""},{"$f":"IF(L1459<>\"\",'Step 2) Calculate'!H1463,\"\")","v":""},{"$f":"IF(L1459<>\"\",'Step 2) Calculate'!C1463,\"\")","v":""}]
[null,null,null,null,null,null,null,null,null,null,{"$f":"IF(L1460<>\"\",'Step 2) Calculate'!B1464,\"Zzzzz - delete row\")","v":"Zzzzz - delete row"},{"$f":"IF('Step 2) Calculate'!E1464<>\"\",'Step 2) Calculate'!G1464,\"\")","v":""},{"$f":"IF(L1460<>\"\",'Step 2) Calculate'!F1464,\"\")","v":""},{"$f":"IF(L1460<>\"\",'Step 2) Calculate'!H1464,\"\")","v":""},{"$f":"IF(L1460<>\"\",'Step 2) Calculate'!C1464,\"\")","v":""}]
[null,null,null,null,null,null,null,null,null,null,{"$f":"IF(L1461<>\"\",'Step 2) Calculate'!B1465,\"Zzzzz - delete row\")","v":"Zzzzz - delete row"},{"$f":"IF('Step 2) Calculate'!E1465<>\"\",'Step 2) Calculate'!G1465,\"\")","v":""},{"$f":"IF(L1461<>\"\",'Step 2) Calculate'!F1465,\"\")","v":""},{"$f":"IF(L1461<>\"\",'Step 2) Calculate'!H1465,\"\")","v":""},{"$f":"IF(L1461<>\"\",'Step 2) Calculate'!C1465,\"\")","v":""}]
[null,null,null,null,null,null,null,null,null,null,{"$f":"IF(L1462<>\"\",'Step 2) Calculate'!B1466,\"Zzzzz - delete row\")","v":"Zzzzz - delete row"},{"$f":"IF('Step 2) Calculate'!E1466<>\"\",'Step 2) Calculate'!G1466,\"\")","v":""},{"$f":"IF(L1462<>\"\",'Step 2) Calculate'!F1466,\"\")","v":""},{"$f":"IF(L1462<>\"\",'Step 2) Calculate'!H1466,\"\")","v":""},{"$f":"IF(L1462<>\"\",'Step 2) Calculate'!C1466,\"\")","v":""}]
[null,null,null,null,null,null,null,null,null,null,{"$f":"IF(L1463<>\"\",'Step 2) Calculate'!B1467,\"Zzzzz - delete row\")","v":"Zzzzz - delete row"},{"$f":"IF('Step 2) Calculate'!E1467<>\"\",'Step 2) Calculate'!G1467,\"\")","v":""},{"$f":"IF(L1463<>\"\",'Step 2) Calculate'!F1467,\"\")","v":""},{"$f":"IF(L1463<>\"\",'Step 2) Calculate'!H1467,\"\")","v":""},{"$f":"IF(L1463<>\"\",'Step 2) Calculate'!C1467,\"\")","v":""}]
[null,null,null,null,null,null,null,null,null,null,{"$f":"IF(L1464<>\"\",'Step 2) Calculate'!B1468,\"Zzzzz - delete row\")","v":"Zzzzz - delete row"},{"$f":"IF('Step 2) Calculate'!E1468<>\"\",'Step 2) Calculate'!G1468,\"\")","v":""},{"$f":"IF(L1464<>\"\",'Step 2) Calculate'!F1468,\"\")","v":""},{"$f":"IF(L1464<>\"\",'Step 2) Calculate'!H1468,\"\")","v":""},{"$f":"IF(L1464<>\"\",'Step 2) Calculate'!C1468,\"\")","v":""}]
[null,null,null,null,null,null,null,null,null,null,{"$f":"IF(L1465<>\"\",'Step 2) Calculate'!B1469,\"Zzzzz - delete row\")","v":"Zzzzz - delete row"},{"$f":"IF('Step 2) Calculate'!E1469<>\"\",'Step 2) Calculate'!G1469,\"\")","v":""},{"$f":"IF(L1465<>\"\",'Step 2) Calculate'!F1469,\"\")","v":""},{"$f":"IF(L1465<>\"\",'Step 2) Calculate'!H1469,\"\")","v":""},{"$f":"IF(L1465<>\"\",'Step 2) Calculate'!C1469,\"\")","v":""}]
[null,null,null,null,null,null,null,null,null,null,{"$f":"IF(L1466<>\"\",'Step 2) Calculate'!B1470,\"Zzzzz - delete row\")","v":"Zzzzz - delete row"},{"$f":"IF('Step 2) Calculate'!E1470<>\"\",'Step 2) Calculate'!G1470,\"\")","v":""},{"$f":"IF(L1466<>\"\",'Step 2) Calculate'!F1470,\"\")","v":""},{"$f":"IF(L1466<>\"\",'Step 2) Calculate'!H1470,\"\")","v":""},{"$f":"IF(L1466<>\"\",'Step 2) Calculate'!C1470,\"\")","v":""}]
[null,null,null,null,null,null,null,null,null,null,{"$f":"IF(L1467<>\"\",'Step 2) Calculate'!B1471,\"Zzzzz - delete row\")","v":"Zzzzz - delete row"},{"$f":"IF('Step 2) Calculate'!E1471<>\"\",'Step 2) Calculate'!G1471,\"\")","v":""},{"$f":"IF(L1467<>\"\",'Step 2) Calculate'!F1471,\"\")","v":""},{"$f":"IF(L1467<>\"\",'Step 2) Calculate'!H1471,\"\")","v":""},{"$f":"IF(L1467<>\"\",'Step 2) Calculate'!C1471,\"\")","v":""}]
[null,null,null,null,null,null,null,null,null,null,{"$f":"IF(L1468<>\"\",'Step 2) Calculate'!B1472,\"Zzzzz - delete row\")","v":"Zzzzz - delete row"},{"$f":"IF('Step 2) Calculate'!E1472<>\"\",'Step 2) Calculate'!G1472,\"\")","v":""},{"$f":"IF(L1468<>\"\",'Step 2) Calculate'!F1472,\"\")","v":""},{"$f":"IF(L1468<>\"\",'Step 2) Calculate'!H1472,\"\")","v":""},{"$f":"IF(L1468<>\"\",'Step 2) Calculate'!C1472,\"\")","v":""}]
[null,null,null,null,null,null,null,null,null,null,{"$f":"IF(L1469<>\"\",'Step 2) Calculate'!B1473,\"Zzzzz - delete row\")","v":"Zzzzz - delete row"},{"$f":"IF('Step 2) Calculate'!E1473<>\"\",'Step 2) Calculate'!G1473,\"\")","v":""},{"$f":"IF(L1469<>\"\",'Step 2) Calculate'!F1473,\"\")","v":""},{"$f":"IF(L1469<>\"\",'Step 2) Calculate'!H1473,\"\")","v":""},{"$f":"IF(L1469<>\"\",'Step 2) Calculate'!C1473,\"\")","v":""}]
[null,null,null,null,null,null,null,null,null,null,{"$f":"IF(L1470<>\"\",'Step 2) Calculate'!B1474,\"Zzzzz - delete row\")","v":"Zzzzz - delete row"},{"$f":"IF('Step 2) Calculate'!E1474<>\"\",'Step 2) Calculate'!G1474,\"\")","v":""},{"$f":"IF(L1470<>\"\",'Step 2) Calculate'!F1474,\"\")","v":""},{"$f":"IF(L1470<>\"\",'Step 2) Calculate'!H1474,\"\")","v":""},{"$f":"IF(L1470<>\"\",'Step 2) Calculate'!C1474,\"\")","v":""}]
[null,null,null,null,null,null,null,null,null,null,{"$f":"IF(L1471<>\"\",'Step 2) Calculate'!B1475,\"Zzzzz - delete row\")","v":"Zzzzz - delete row"},{"$f":"IF('Step 2) Calculate'!E1475<>\"\",'Step 2) Calculate'!G1475,\"\")","v":""},{"$f":"IF(L1471<>\"\",'Step 2) Calculate'!F1475,\"\")","v":""},{"$f":"IF(L1471<>\"\",'Step 2) Calculate'!H1475,\"\")","v":""},{"$f":"IF(L1471<>\"\",'Step 2) Calculate'!C1475,\"\")","v":""}]
[null,null,null,null,null,null,null,null,null,null,{"$f":"IF(L1472<>\"\",'Step 2) Calculate'!B1476,\"Zzzzz - delete row\")","v":"Zzzzz - delete row"},{"$f":"IF('Step 2) Calculate'!E1476<>\"\",'Step 2) Calculate'!G1476,\"\")","v":""},{"$f":"IF(L1472<>\"\",'Step 2) Calculate'!F1476,\"\")","v":""},{"$f":"IF(L1472<>\"\",'Step 2) Calculate'!H1476,\"\")","v":""},{"$f":"IF(L1472<>\"\",'Step 2) Calculate'!C1476,\"\")","v":""}]
[null,null,null,null,null,null,null,null,null,null,{"$f":"IF(L1473<>\"\",'Step 2) Calculate'!B1477,\"Zzzzz - delete row\")","v":"Zzzzz - delete row"},{"$f":"IF('Step 2) Calculate'!E1477<>\"\",'Step 2) Calculate'!G1477,\"\")","v":""},{"$f":"IF(L1473<>\"\",'Step 2) Calculate'!F1477,\"\")","v":""},{"$f":"IF(L1473<>\"\",'Step 2) Calculate'!H1477,\"\")","v":""},{"$f":"IF(L1473<>\"\",'Step 2) Calculate'!C1477,\"\")","v":""}]
[null,null,null,null,null,null,null,null,null,null,{"$f":"IF(L1474<>\"\",'Step 2) Calculate'!B1478,\"Zzzzz - delete row\")","v":"Zzzzz - delete row"},{"$f":"IF('Step 2) Calculate'!E1478<>\"\",'Step 2) Calculate'!G1478,\"\")","v":""},{"$f":"IF(L1474<>\"\",'Step 2) Calculate'!F1478,\"\")","v":""},{"$f":"IF(L1474<>\"\",'Step 2) Calculate'!H1478,\"\")","v":""},{"$f":"IF(L1474<>\"\",'Step 2) Calculate'!C1478,\"\")","v":""}]
[null,null,null,null,null,null,null,null,null,null,{"$f":"IF(L1475<>\"\",'Step 2) Calculate'!B1479,\"Zzzzz - delete row\")","v":"Zzzzz - delete row"},{"$f":"IF('Step 2) Calculate'!E1479<>\"\",'Step 2) Calculate'!G1479,\"\")","v":""},{"$f":"IF(L1475<>\"\",'Step 2) Calculate'!F1479,\"\")","v":""},{"$f":"IF(L1475<>\"\",'Step 2) Calculate'!H1479,\"\")","v":""},{"$f":"IF(L1475<>\"\",'Step 2) Calculate'!C1479,\"\")","v":""}]
[null,null,null,null,null,null,null,null,null,null,{"$f":"IF(L1476<>\"\",'Step 2) Calculate'!B1480,\"Zzzzz - delete row\")","v":"Zzzzz - delete row"},{"$f":"IF('Step 2) Calculate'!E1480<>\"\",'Step 2) Calculate'!G1480,\"\")","v":""},{"$f":"IF(L1476<>\"\",'Step 2) Calculate'!F1480,\"\")","v":""},{"$f":"IF(L1476<>\"\",'Step 2) Calculate'!H1480,\"\")","v":""},{"$f":"IF(L1476<>\"\",'Step 2) Calculate'!C1480,\"\")","v":""}]
[null,null,null,null,null,null,null,null,null,null,{"$f":"IF(L1477<>\"\",'Step 2) Calculate'!B1481,\"Zzzzz - delete row\")","v":"Zzzzz - delete row"},{"$f":"IF('Step 2) Calculate'!E1481<>\"\",'Step 2) Calculate'!G1481,\"\")","v":""},{"$f":"IF(L1477<>\"\",'Step 2) Calculate'!F1481,\"\")","v":""},{"$f":"IF(L1477<>\"\",'Step 2) Calculate'!H1481,\"\")","v":""},{"$f":"IF(L1477<>\"\",'Step 2) Calculate'!C1481,\"\")","v":""}]
[null,null,null,null,null,null,null,null,null,null,{"$f":"IF(L1478<>\"\",'Step 2) Calculate'!B1482,\"Zzzzz - delete row\")","v":"Zzzzz - delete row"},{"$f":"IF('Step 2) Calculate'!E1482<>\"\",'Step 2) Calculate'!G1482,\"\")","v":""},{"$f":"IF(L1478<>\"\",'Step 2) Calculate'!F1482,\"\")","v":""},{"$f":"IF(L1478<>\"\",'Step 2) Calculate'!H1482,\"\")","v":""},{"$f":"IF(L1478<>\"\",'Step 2) Calculate'!C1482,\"\")","v":""}]
[null,null,null,null,null,null,null,null,null,null,{"$f":"IF(L1479<>\"\",'Step 2) Calculate'!B1483,\"Zzzzz - delete row\")","v":"Zzzzz - delete row"},{"$f":"IF('Step 2) Calculate'!E1483<>\"\",'Step 2) Calculate'!G1483,\"\")","v":""},{"$f":"IF(L1479<>\"\",'Step 2) Calculate'!F1483,\"\")","v":""},{"$f":"IF(L1479<>\"\",'Step 2) Calculate'!H1483,\"\")","v":""},{"$f":"IF(L1479<>\"\",'Step 2) Calculate'!C1483,\"\")","v":""}]
[null,null,null,null,null,null,null,null,null,null,{"$f":"IF(L1480<>\"\",'Step 2) Calculate'!B1484,\"Zzzzz - delete row\")","v":"Zzzzz - delete row"},{"$f":"IF('Step 2) Calculate'!E1484<>\"\",'Step 2) Calculate'!G1484,\"\")","v":""},{"$f":"IF(L1480<>\"\",'Step 2) Calculate'!F1484,\"\")","v":""},{"$f":"IF(L1480<>\"\",'Step 2) Calculate'!H1484,\"\")","v":""},{"$f":"IF(L1480<>\"\",'Step 2) Calculate'!C1484,\"\")","v":""}]
[null,null,null,null,null,null,null,null,null,null,{"$f":"IF(L1481<>\"\",'Step 2) Calculate'!B1485,\"Zzzzz - delete row\")","v":"Zzzzz - delete row"},{"$f":"IF('Step 2) Calculate'!E1485<>\"\",'Step 2) Calculate'!G1485,\"\")","v":""},{"$f":"IF(L1481<>\"\",'Step 2) Calculate'!F1485,\"\")","v":""},{"$f":"IF(L1481<>\"\",'Step 2) Calculate'!H1485,\"\")","v":""},{"$f":"IF(L1481<>\"\",'Step 2) Calculate'!C1485,\"\")","v":""}]
[null,null,null,null,null,null,null,null,null,null,{"$f":"IF(L1482<>\"\",'Step 2) Calculate'!B1486,\"Zzzzz - delete row\")","v":"Zzzzz - delete row"},{"$f":"IF('Step 2) Calculate'!E1486<>\"\",'Step 2) Calculate'!G1486,\"\")","v":""},{"$f":"IF(L1482<>\"\",'Step 2) Calculate'!F1486,\"\")","v":""},{"$f":"IF(L1482<>\"\",'Step 2) Calculate'!H1486,\"\")","v":""},{"$f":"IF(L1482<>\"\",'Step 2) Calculate'!C1486,\"\")","v":""}]
[null,null,null,null,null,null,null,null,null,null,{"$f":"IF(L1483<>\"\",'Step 2) Calculate'!B1487,\"Zzzzz - delete row\")","v":"Zzzzz - delete row"},{"$f":"IF('Step 2) Calculate'!E1487<>\"\",'Step 2) Calculate'!G1487,\"\")","v":""},{"$f":"IF(L1483<>\"\",'Step 2) Calculate'!F1487,\"\")","v":""},{"$f":"IF(L1483<>\"\",'Step 2) Calculate'!H1487,\"\")","v":""},{"$f":"IF(L1483<>\"\",'Step 2) Calculate'!C1487,\"\")","v":""}]
[null,null,null,null,null,null,null,null,null,null,{"$f":"IF(L1484<>\"\",'Step 2) Calculate'!B1488,\"Zzzzz - delete row\")","v":"Zzzzz - delete row"},{"$f":"IF('Step 2) Calculate'!E1488<>\"\",'Step 2) Calculate'!G1488,\"\")","v":""},{"$f":"IF(L1484<>\"\",'Step 2) Calculate'!F1488,\"\")","v":""},{"$f":"IF(L1484<>\"\",'Step 2) Calculate'!H1488,\"\")","v":""},{"$f":"IF(L1484<>\"\",'Step 2) Calculate'!C1488,\"\")","v":""}]
[null,null,null,null,null,null,null,null,null,null,{"$f":"IF(L1485<>\"\",'Step 2) Calculate'!B1489,\"Zzzzz - delete row\")","v":"Zzzzz - delete row"},{"$f":"IF('Step 2) Calculate'!E1489<>\"\",'Step 2) Calculate'!G1489,\"\")","v":""},{"$f":"IF(L1485<>\"\",'Step 2) Calculate'!F1489,\"\")","v":""},{"$f":"IF(L1485<>\"\",'Step 2) Calculate'!H1489,\"\")","v":""},{"$f":"IF(L1485<>\"\",'Step 2) Calculate'!C1489,\"\")","v":""}]
[null,null,null,null,null,null,null,null,null,null,{"$f":"IF(L1486<>\"\",'Step 2) Calculate'!B1490,\"Zzzzz - delete row\")","v":"Zzzzz - delete row"},{"$f":"IF('Step 2) Calculate'!E1490<>\"\",'Step 2) Calculate'!G1490,\"\")","v":""},{"$f":"IF(L1486<>\"\",'Step 2) Calculate'!F1490,\"\")","v":""},{"$f":"IF(L1486<>\"\",'Step 2) Calculate'!H1490,\"\")","v":""},{"$f":"IF(L1486<>\"\",'Step 2) Calculate'!C1490,\"\")","v":""}]
[null,null,null,null,null,null,null,null,null,null,{"$f":"IF(L1487<>\"\",'Step 2) Calculate'!B1491,\"Zzzzz - delete row\")","v":"Zzzzz - delete row"},{"$f":"IF('Step 2) Calculate'!E1491<>\"\",'Step 2) Calculate'!G1491,\"\")","v":""},{"$f":"IF(L1487<>\"\",'Step 2) Calculate'!F1491,\"\")","v":""},{"$f":"IF(L1487<>\"\",'Step 2) Calculate'!H1491,\"\")","v":""},{"$f":"IF(L1487<>\"\",'Step 2) Calculate'!C1491,\"\")","v":""}]
[null,null,null,null,null,null,null,null,null,null,{"$f":"IF(L1488<>\"\",'Step 2) Calculate'!B1492,\"Zzzzz - delete row\")","v":"Zzzzz - delete row"},{"$f":"IF('Step 2) Calculate'!E1492<>\"\",'Step 2) Calculate'!G1492,\"\")","v":""},{"$f":"IF(L1488<>\"\",'Step 2) Calculate'!F1492,\"\")","v":""},{"$f":"IF(L1488<>\"\",'Step 2) Calculate'!H1492,\"\")","v":""},{"$f":"IF(L1488<>\"\",'Step 2) Calculate'!C1492,\"\")","v":""}]
[null,null,null,null,null,null,null,null,null,null,{"$f":"IF(L1489<>\"\",'Step 2) Calculate'!B1493,\"Zzzzz - delete row\")","v":"Zzzzz - delete row"},{"$f":"IF('Step 2) Calculate'!E1493<>\"\",'Step 2) Calculate'!G1493,\"\")","v":""},{"$f":"IF(L1489<>\"\",'Step 2) Calculate'!F1493,\"\")","v":""},{"$f":"IF(L1489<>\"\",'Step 2) Calculate'!H1493,\"\")","v":""},{"$f":"IF(L1489<>\"\",'Step 2) Calculate'!C1493,\"\")","v":""}]
[null,null,null,null,null,null,null,null,null,null,{"$f":"IF(L1490<>\"\",'Step 2) Calculate'!B1494,\"Zzzzz - delete row\")","v":"Zzzzz - delete row"},{"$f":"IF('Step 2) Calculate'!E1494<>\"\",'Step 2) Calculate'!G1494,\"\")","v":""},{"$f":"IF(L1490<>\"\",'Step 2) Calculate'!F1494,\"\")","v":""},{"$f":"IF(L1490<>\"\",'Step 2) Calculate'!H1494,\"\")","v":""},{"$f":"IF(L1490<>\"\",'Step 2) Calculate'!C1494,\"\")","v":""}]
[null,null,null,null,null,null,null,null,null,null,{"$f":"IF(L1491<>\"\",'Step 2) Calculate'!B1495,\"Zzzzz - delete row\")","v":"Zzzzz - delete row"},{"$f":"IF('Step 2) Calculate'!E1495<>\"\",'Step 2) Calculate'!G1495,\"\")","v":""},{"$f":"IF(L1491<>\"\",'Step 2) Calculate'!F1495,\"\")","v":""},{"$f":"IF(L1491<>\"\",'Step 2) Calculate'!H1495,\"\")","v":""},{"$f":"IF(L1491<>\"\",'Step 2) Calculate'!C1495,\"\")","v":""}]
[null,null,null,null,null,null,null,null,null,null,{"$f":"IF(L1492<>\"\",'Step 2) Calculate'!B1496,\"Zzzzz - delete row\")","v":"Zzzzz - delete row"},{"$f":"IF('Step 2) Calculate'!E1496<>\"\",'Step 2) Calculate'!G1496,\"\")","v":""},{"$f":"IF(L1492<>\"\",'Step 2) Calculate'!F1496,\"\")","v":""},{"$f":"IF(L1492<>\"\",'Step 2) Calculate'!H1496,\"\")","v":""},{"$f":"IF(L1492<>\"\",'Step 2) Calculate'!C1496,\"\")","v":""}]
[null,null,null,null,null,null,null,null,null,null,{"$f":"IF(L1493<>\"\",'Step 2) Calculate'!B1497,\"Zzzzz - delete row\")","v":"Zzzzz - delete row"},{"$f":"IF('Step 2) Calculate'!E1497<>\"\",'Step 2) Calculate'!G1497,\"\")","v":""},{"$f":"IF(L1493<>\"\",'Step 2) Calculate'!F1497,\"\")","v":""},{"$f":"IF(L1493<>\"\",'Step 2) Calculate'!H1497,\"\")","v":""},{"$f":"IF(L1493<>\"\",'Step 2) Calculate'!C1497,\"\")","v":""}]
[null,null,null,null,null,null,null,null,null,null,{"$f":"IF(L1494<>\"\",'Step 2) Calculate'!B1498,\"Zzzzz - delete row\")","v":"Zzzzz - delete row"},{"$f":"IF('Step 2) Calculate'!E1498<>\"\",'Step 2) Calculate'!G1498,\"\")","v":""},{"$f":"IF(L1494<>\"\",'Step 2) Calculate'!F1498,\"\")","v":""},{"$f":"IF(L1494<>\"\",'Step 2) Calculate'!H1498,\"\")","v":""},{"$f":"IF(L1494<>\"\",'Step 2) Calculate'!C1498,\"\")","v":""}]
[null,null,null,null,null,null,null,null,null,null,{"$f":"IF(L1495<>\"\",'Step 2) Calculate'!B1499,\"Zzzzz - delete row\")","v":"Zzzzz - delete row"},{"$f":"IF('Step 2) Calculate'!E1499<>\"\",'Step 2) Calculate'!G1499,\"\")","v":""},{"$f":"IF(L1495<>\"\",'Step 2) Calculate'!F1499,\"\")","v":""},{"$f":"IF(L1495<>\"\",'Step 2) Calculate'!H1499,\"\")","v":""},{"$f":"IF(L1495<>\"\",'Step 2) Calculate'!C1499,\"\")","v":""}]
[null,null,null,null,null,null,null,null,null,null,{"$f":"IF(L1496<>\"\",'Step 2) Calculate'!B1500,\"Zzzzz - delete row\")","v":"Zzzzz - delete row"},{"$f":"IF('Step 2) Calculate'!E1500<>\"\",'Step 2) Calculate'!G1500,\"\")","v":""},{"$f":"IF(L1496<>\"\",'Step 2) Calculate'!F1500,\"\")","v":""},{"$f":"IF(L1496<>\"\",'Step 2) Calculate'!H1500,\"\")","v":""},{"$f":"IF(L1496<>\"\",'Step 2) Calculate'!C1500,\"\")","v":""}]
[null,null,null,null,null,null,null,null,null,null,{"$f":"IF(L1497<>\"\",'Step 2) Calculate'!B1501,\"Zzzzz - delete row\")","v":"Zzzzz - delete row"},{"$f":"IF('Step 2) Calculate'!E1501<>\"\",'Step 2) Calculate'!G1501,\"\")","v":""},{"$f":"IF(L1497<>\"\",'Step 2) Calculate'!F1501,\"\")","v":""},{"$f":"IF(L1497<>\"\",'Step 2) Calculate'!H1501,\"\")","v":""},{"$f":"IF(L1497<>\"\",'Step 2) Calculate'!C1501,\"\")","v":""}]
[null,null,null,null,null,null,null,null,null,null,{"$f":"IF(L1498<>\"\",'Step 2) Calculate'!B1502,\"Zzzzz - delete row\")","v":"Zzzzz - delete row"},{"$f":"IF('Step 2) Calculate'!E1502<>\"\",'Step 2) Calculate'!G1502,\"\")","v":""},{"$f":"IF(L1498<>\"\",'Step 2) Calculate'!F1502,\"\")","v":""},{"$f":"IF(L1498<>\"\",'Step 2) Calculate'!H1502,\"\")","v":""},{"$f":"IF(L1498<>\"\",'Step 2) Calculate'!C1502,\"\")","v":""}]
[null,null,null,null,null,null,null,null,null,null,{"$f":"IF(L1499<>\"\",'Step 2) Calculate'!B1503,\"Zzzzz - delete row\")","v":"Zzzzz - delete row"},{"$f":"IF('Step 2) Calculate'!E1503<>\"\",'Step 2) Calculate'!G1503,\"\")","v":""},{"$f":"IF(L1499<>\"\",'Step 2) Calculate'!F1503,\"\")","v":""},{"$f":"IF(L1499<>\"\",'Step 2) Calculate'!H1503,\"\")","v":""},{"$f":"IF(L1499<>\"\",'Step 2) Calculate'!C1503,\"\")","v":""}]
[null,null,null,null,null,null,null,null,null,null,{"$f":"IF(L1500<>\"\",'Step 2) Calculate'!B1504,\"Zzzzz - delete row\")","v":"Zzzzz - delete row"},{"$f":"IF('Step 2) Calculate'!E1504<>\"\",'Step 2) Calculate'!G1504,\"\")","v":""},{"$f":"IF(L1500<>\"\",'Step 2) Calculate'!F1504,\"\")","v":""},{"$f":"IF(L1500<>\"\",'Step 2) Calculate'!H1504,\"\")","v":""},{"$f":"IF(L1500<>\"\",'Step 2) Calculate'!C1504,\"\")","v":""}]
[null,null,null,null,null,null,null,null,null,null,{"$f":"IF(L1501<>\"\",'Step 2) Calculate'!B1505,\"Zzzzz - delete row\")","v":"Zzzzz - delete row"},{"$f":"IF('Step 2) Calculate'!E1505<>\"\",'Step 2) Calculate'!G1505,\"\")","v":""},{"$f":"IF(L1501<>\"\",'Step 2) Calculate'!F1505,\"\")","v":""},{"$f":"IF(L1501<>\"\",'Step 2) Calculate'!H1505,\"\")","v":""},{"$f":"IF(L1501<>\"\",'Step 2) Calculate'!C1505,\"\")","v":""}]
[null,null,null,null,null,null,null,null,null,null,{"$f":"IF(L1502<>\"\",'Step 2) Calculate'!B1506,\"Zzzzz - delete row\")","v":"Zzzzz - delete row"},{"$f":"IF('Step 2) Calculate'!E1506<>\"\",'Step 2) Calculate'!G1506,\"\")","v":""},{"$f":"IF(L1502<>\"\",'Step 2) Calculate'!F1506,\"\")","v":""},{"$f":"IF(L1502<>\"\",'Step 2) Calculate'!H1506,\"\")","v":""},{"$f":"IF(L1502<>\"\",'Step 2) Calculate'!C1506,\"\")","v":""}]
[null,null,null,null,null,null,null,null,null,null,{"$f":"IF(L1503<>\"\",'Step 2) Calculate'!B1507,\"Zzzzz - delete row\")","v":"Zzzzz - delete row"},{"$f":"IF('Step 2) Calculate'!E1507<>\"\",'Step 2) Calculate'!G1507,\"\")","v":""},{"$f":"IF(L1503<>\"\",'Step 2) Calculate'!F1507,\"\")","v":""},{"$f":"IF(L1503<>\"\",'Step 2) Calculate'!H1507,\"\")","v":""},{"$f":"IF(L1503<>\"\",'Step 2) Calculate'!C1507,\"\")","v":""}]
[null,null,null,null,null,null,null,null,null,null,{"$f":"IF(L1504<>\"\",'Step 2) Calculate'!B1508,\"Zzzzz - delete row\")","v":"Zzzzz - delete row"},{"$f":"IF('Step 2) Calculate'!E1508<>\"\",'Step 2) Calculate'!G1508,\"\")","v":""},{"$f":"IF(L1504<>\"\",'Step 2) Calculate'!F1508,\"\")","v":""},{"$f":"IF(L1504<>\"\",'Step 2) Calculate'!H1508,\"\")","v":""},{"$f":"IF(L1504<>\"\",'Step 2) Calculate'!C1508,\"\")","v":""}]
[null,null,null,null,null,null,null,null,null,null,{"$f":"IF(L1505<>\"\",'Step 2) Calculate'!B1509,\"Zzzzz - delete row\")","v":"Zzzzz - delete row"},{"$f":"IF('Step 2) Calculate'!E1509<>\"\",'Step 2) Calculate'!G1509,\"\")","v":""},{"$f":"IF(L1505<>\"\",'Step 2) Calculate'!F1509,\"\")","v":""},{"$f":"IF(L1505<>\"\",'Step 2) Calculate'!H1509,\"\")","v":""},{"$f":"IF(L1505<>\"\",'Step 2) Calculate'!C1509,\"\")","v":""}]
[null,null,null,null,null,null,null,null,null,null,{"$f":"IF(L1506<>\"\",'Step 2) Calculate'!B1510,\"Zzzzz - delete row\")","v":"Zzzzz - delete row"},{"$f":"IF('Step 2) Calculate'!E1510<>\"\",'Step 2) Calculate'!G1510,\"\")","v":""},{"$f":"IF(L1506<>\"\",'Step 2) Calculate'!F1510,\"\")","v":""},{"$f":"IF(L1506<>\"\",'Step 2) Calculate'!H1510,\"\")","v":""},{"$f":"IF(L1506<>\"\",'Step 2) Calculate'!C1510,\"\")","v":""}]
[null,null,null,null,null,null,null,null,null,null,{"$f":"IF(L1507<>\"\",'Step 2) Calculate'!B1511,\"Zzzzz - delete row\")","v":"Zzzzz - delete row"},{"$f":"IF('Step 2) Calculate'!E1511<>\"\",'Step 2) Calculate'!G1511,\"\")","v":""},{"$f":"IF(L1507<>\"\",'Step 2) Calculate'!F1511,\"\")","v":""},{"$f":"IF(L1507<>\"\",'Step 2) Calculate'!H1511,\"\")","v":""},{"$f":"IF(L1507<>\"\",'Step 2) Calculate'!C1511,\"\")","v":""}]
[null,null,null,null,null,null,null,null,null,null,{"$f":"IF(L1508<>\"\",'Step 2) Calculate'!B1512,\"Zzzzz - delete row\")","v":"Zzzzz - delete row"},{"$f":"IF('Step 2) Calculate'!E1512<>\"\",'Step 2) Calculate'!G1512,\"\")","v":""},{"$f":"IF(L1508<>\"\",'Step 2) Calculate'!F1512,\"\")","v":""},{"$f":"IF(L1508<>\"\",'Step 2) Calculate'!H1512,\"\")","v":""},{"$f":"IF(L1508<>\"\",'Step 2) Calculate'!C1512,\"\")","v":""}]
[null,null,null,null,null,null,null,null,null,null,{"$f":"IF(L1509<>\"\",'Step 2) Calculate'!B1513,\"Zzzzz - delete row\")","v":"Zzzzz - delete row"},{"$f":"IF('Step 2) Calculate'!E1513<>\"\",'Step 2) Calculate'!G1513,\"\")","v":""},{"$f":"IF(L1509<>\"\",'Step 2) Calculate'!F1513,\"\")","v":""},{"$f":"IF(L1509<>\"\",'Step 2) Calculate'!H1513,\"\")","v":""},{"$f":"IF(L1509<>\"\",'Step 2) Calculate'!C1513,\"\")","v":""}]
[null,null,null,null,null,null,null,null,null,null,{"$f":"IF(L1510<>\"\",'Step 2) Calculate'!B1514,\"Zzzzz - delete row\")","v":"Zzzzz - delete row"},{"$f":"IF('Step 2) Calculate'!E1514<>\"\",'Step 2) Calculate'!G1514,\"\")","v":""},{"$f":"IF(L1510<>\"\",'Step 2) Calculate'!F1514,\"\")","v":""},{"$f":"IF(L1510<>\"\",'Step 2) Calculate'!H1514,\"\")","v":""},{"$f":"IF(L1510<>\"\",'Step 2) Calculate'!C1514,\"\")","v":""}]
[null,null,null,null,null,null,null,null,null,null,{"$f":"IF(L1511<>\"\",'Step 2) Calculate'!B1515,\"Zzzzz - delete row\")","v":"Zzzzz - delete row"},{"$f":"IF('Step 2) Calculate'!E1515<>\"\",'Step 2) Calculate'!G1515,\"\")","v":""},{"$f":"IF(L1511<>\"\",'Step 2) Calculate'!F1515,\"\")","v":""},{"$f":"IF(L1511<>\"\",'Step 2) Calculate'!H1515,\"\")","v":""},{"$f":"IF(L1511<>\"\",'Step 2) Calculate'!C1515,\"\")","v":""}]
[null,null,null,null,null,null,null,null,null,null,{"$f":"IF(L1512<>\"\",'Step 2) Calculate'!B1516,\"Zzzzz - delete row\")","v":"Zzzzz - delete row"},{"$f":"IF('Step 2) Calculate'!E1516<>\"\",'Step 2) Calculate'!G1516,\"\")","v":""},{"$f":"IF(L1512<>\"\",'Step 2) Calculate'!F1516,\"\")","v":""},{"$f":"IF(L1512<>\"\",'Step 2) Calculate'!H1516,\"\")","v":""},{"$f":"IF(L1512<>\"\",'Step 2) Calculate'!C1516,\"\")","v":""}]
[null,null,null,null,null,null,null,null,null,null,{"$f":"IF(L1513<>\"\",'Step 2) Calculate'!B1517,\"Zzzzz - delete row\")","v":"Zzzzz - delete row"},{"$f":"IF('Step 2) Calculate'!E1517<>\"\",'Step 2) Calculate'!G1517,\"\")","v":""},{"$f":"IF(L1513<>\"\",'Step 2) Calculate'!F1517,\"\")","v":""},{"$f":"IF(L1513<>\"\",'Step 2) Calculate'!H1517,\"\")","v":""},{"$f":"IF(L1513<>\"\",'Step 2) Calculate'!C1517,\"\")","v":""}]
[null,null,null,null,null,null,null,null,null,null,{"$f":"IF(L1514<>\"\",'Step 2) Calculate'!B1518,\"Zzzzz - delete row\")","v":"Zzzzz - delete row"},{"$f":"IF('Step 2) Calculate'!E1518<>\"\",'Step 2) Calculate'!G1518,\"\")","v":""},{"$f":"IF(L1514<>\"\",'Step 2) Calculate'!F1518,\"\")","v":""},{"$f":"IF(L1514<>\"\",'Step 2) Calculate'!H1518,\"\")","v":""},{"$f":"IF(L1514<>\"\",'Step 2) Calculate'!C1518,\"\")","v":""}]
[null,null,null,null,null,null,null,null,null,null,{"$f":"IF(L1515<>\"\",'Step 2) Calculate'!B1519,\"Zzzzz - delete row\")","v":"Zzzzz - delete row"},{"$f":"IF('Step 2) Calculate'!E1519<>\"\",'Step 2) Calculate'!G1519,\"\")","v":""},{"$f":"IF(L1515<>\"\",'Step 2) Calculate'!F1519,\"\")","v":""},{"$f":"IF(L1515<>\"\",'Step 2) Calculate'!H1519,\"\")","v":""},{"$f":"IF(L1515<>\"\",'Step 2) Calculate'!C1519,\"\")","v":""}]
[null,null,null,null,null,null,null,null,null,null,{"$f":"IF(L1516<>\"\",'Step 2) Calculate'!B1520,\"Zzzzz - delete row\")","v":"Zzzzz - delete row"},{"$f":"IF('Step 2) Calculate'!E1520<>\"\",'Step 2) Calculate'!G1520,\"\")","v":""},{"$f":"IF(L1516<>\"\",'Step 2) Calculate'!F1520,\"\")","v":""},{"$f":"IF(L1516<>\"\",'Step 2) Calculate'!H1520,\"\")","v":""},{"$f":"IF(L1516<>\"\",'Step 2) Calculate'!C1520,\"\")","v":""}]
[null,null,null,null,null,null,null,null,null,null,{"$f":"IF(L1517<>\"\",'Step 2) Calculate'!B1521,\"Zzzzz - delete row\")","v":"Zzzzz - delete row"},{"$f":"IF('Step 2) Calculate'!E1521<>\"\",'Step 2) Calculate'!G1521,\"\")","v":""},{"$f":"IF(L1517<>\"\",'Step 2) Calculate'!F1521,\"\")","v":""},{"$f":"IF(L1517<>\"\",'Step 2) Calculate'!H1521,\"\")","v":""},{"$f":"IF(L1517<>\"\",'Step 2) Calculate'!C1521,\"\")","v":""}]
[null,null,null,null,null,null,null,null,null,null,{"$f":"IF(L1518<>\"\",'Step 2) Calculate'!B1522,\"Zzzzz - delete row\")","v":"Zzzzz - delete row"},{"$f":"IF('Step 2) Calculate'!E1522<>\"\",'Step 2) Calculate'!G1522,\"\")","v":""},{"$f":"IF(L1518<>\"\",'Step 2) Calculate'!F1522,\"\")","v":""},{"$f":"IF(L1518<>\"\",'Step 2) Calculate'!H1522,\"\")","v":""},{"$f":"IF(L1518<>\"\",'Step 2) Calculate'!C1522,\"\")","v":""}]
[null,null,null,null,null,null,null,null,null,null,{"$f":"IF(L1519<>\"\",'Step 2) Calculate'!B1523,\"Zzzzz - delete row\")","v":"Zzzzz - delete row"},{"$f":"IF('Step 2) Calculate'!E1523<>\"\",'Step 2) Calculate'!G1523,\"\")","v":""},{"$f":"IF(L1519<>\"\",'Step 2) Calculate'!F1523,\"\")","v":""},{"$f":"IF(L1519<>\"\",'Step 2) Calculate'!H1523,\"\")","v":""},{"$f":"IF(L1519<>\"\",'Step 2) Calculate'!C1523,\"\")","v":""}]
[null,null,null,null,null,null,null,null,null,null,{"$f":"IF(L1520<>\"\",'Step 2) Calculate'!B1524,\"Zzzzz - delete row\")","v":"Zzzzz - delete row"},{"$f":"IF('Step 2) Calculate'!E1524<>\"\",'Step 2) Calculate'!G1524,\"\")","v":""},{"$f":"IF(L1520<>\"\",'Step 2) Calculate'!F1524,\"\")","v":""},{"$f":"IF(L1520<>\"\",'Step 2) Calculate'!H1524,\"\")","v":""},{"$f":"IF(L1520<>\"\",'Step 2) Calculate'!C1524,\"\")","v":""}]
[null,null,null,null,null,null,null,null,null,null,{"$f":"IF(L1521<>\"\",'Step 2) Calculate'!B1525,\"Zzzzz - delete row\")","v":"Zzzzz - delete row"},{"$f":"IF('Step 2) Calculate'!E1525<>\"\",'Step 2) Calculate'!G1525,\"\")","v":""},{"$f":"IF(L1521<>\"\",'Step 2) Calculate'!F1525,\"\")","v":""},{"$f":"IF(L1521<>\"\",'Step 2) Calculate'!H1525,\"\")","v":""},{"$f":"IF(L1521<>\"\",'Step 2) Calculate'!C1525,\"\")","v":""}]
[null,null,null,null,null,null,null,null,null,null,{"$f":"IF(L1522<>\"\",'Step 2) Calculate'!B1526,\"Zzzzz - delete row\")","v":"Zzzzz - delete row"},{"$f":"IF('Step 2) Calculate'!E1526<>\"\",'Step 2) Calculate'!G1526,\"\")","v":""},{"$f":"IF(L1522<>\"\",'Step 2) Calculate'!F1526,\"\")","v":""},{"$f":"IF(L1522<>\"\",'Step 2) Calculate'!H1526,\"\")","v":""},{"$f":"IF(L1522<>\"\",'Step 2) Calculate'!C1526,\"\")","v":""}]
[null,null,null,null,null,null,null,null,null,null,{"$f":"IF(L1523<>\"\",'Step 2) Calculate'!B1527,\"Zzzzz - delete row\")","v":"Zzzzz - delete row"},{"$f":"IF('Step 2) Calculate'!E1527<>\"\",'Step 2) Calculate'!G1527,\"\")","v":""},{"$f":"IF(L1523<>\"\",'Step 2) Calculate'!F1527,\"\")","v":""},{"$f":"IF(L1523<>\"\",'Step 2) Calculate'!H1527,\"\")","v":""},{"$f":"IF(L1523<>\"\",'Step 2) Calculate'!C1527,\"\")","v":""}]
[null,null,null,null,null,null,null,null,null,null,{"$f":"IF(L1524<>\"\",'Step 2) Calculate'!B1528,\"Zzzzz - delete row\")","v":"Zzzzz - delete row"},{"$f":"IF('Step 2) Calculate'!E1528<>\"\",'Step 2) Calculate'!G1528,\"\")","v":""},{"$f":"IF(L1524<>\"\",'Step 2) Calculate'!F1528,\"\")","v":""},{"$f":"IF(L1524<>\"\",'Step 2) Calculate'!H1528,\"\")","v":""},{"$f":"IF(L1524<>\"\",'Step 2) Calculate'!C1528,\"\")","v":""}]
[null,null,null,null,null,null,null,null,null,null,{"$f":"IF(L1525<>\"\",'Step 2) Calculate'!B1529,\"Zzzzz - delete row\")","v":"Zzzzz - delete row"},{"$f":"IF('Step 2) Calculate'!E1529<>\"\",'Step 2) Calculate'!G1529,\"\")","v":""},{"$f":"IF(L1525<>\"\",'Step 2) Calculate'!F1529,\"\")","v":""},{"$f":"IF(L1525<>\"\",'Step 2) Calculate'!H1529,\"\")","v":""},{"$f":"IF(L1525<>\"\",'Step 2) Calculate'!C1529,\"\")","v":""}]
[null,null,null,null,null,null,null,null,null,null,{"$f":"IF(L1526<>\"\",'Step 2) Calculate'!B1530,\"Zzzzz - delete row\")","v":"Zzzzz - delete row"},{"$f":"IF('Step 2) Calculate'!E1530<>\"\",'Step 2) Calculate'!G1530,\"\")","v":""},{"$f":"IF(L1526<>\"\",'Step 2) Calculate'!F1530,\"\")","v":""},{"$f":"IF(L1526<>\"\",'Step 2) Calculate'!H1530,\"\")","v":""},{"$f":"IF(L1526<>\"\",'Step 2) Calculate'!C1530,\"\")","v":""}]
[null,null,null,null,null,null,null,null,null,null,{"$f":"IF(L1527<>\"\",'Step 2) Calculate'!B1531,\"Zzzzz - delete row\")","v":"Zzzzz - delete row"},{"$f":"IF('Step 2) Calculate'!E1531<>\"\",'Step 2) Calculate'!G1531,\"\")","v":""},{"$f":"IF(L1527<>\"\",'Step 2) Calculate'!F1531,\"\")","v":""},{"$f":"IF(L1527<>\"\",'Step 2) Calculate'!H1531,\"\")","v":""},{"$f":"IF(L1527<>\"\",'Step 2) Calculate'!C1531,\"\")","v":""}]
[null,null,null,null,null,null,null,null,null,null,{"$f":"IF(L1528<>\"\",'Step 2) Calculate'!B1532,\"Zzzzz - delete row\")","v":"Zzzzz - delete row"},{"$f":"IF('Step 2) Calculate'!E1532<>\"\",'Step 2) Calculate'!G1532,\"\")","v":""},{"$f":"IF(L1528<>\"\",'Step 2) Calculate'!F1532,\"\")","v":""},{"$f":"IF(L1528<>\"\",'Step 2) Calculate'!H1532,\"\")","v":""},{"$f":"IF(L1528<>\"\",'Step 2) Calculate'!C1532,\"\")","v":""}]
[null,null,null,null,null,null,null,null,null,null,{"$f":"IF(L1529<>\"\",'Step 2) Calculate'!B1533,\"Zzzzz - delete row\")","v":"Zzzzz - delete row"},{"$f":"IF('Step 2) Calculate'!E1533<>\"\",'Step 2) Calculate'!G1533,\"\")","v":""},{"$f":"IF(L1529<>\"\",'Step 2) Calculate'!F1533,\"\")","v":""},{"$f":"IF(L1529<>\"\",'Step 2) Calculate'!H1533,\"\")","v":""},{"$f":"IF(L1529<>\"\",'Step 2) Calculate'!C1533,\"\")","v":""}]
[null,null,null,null,null,null,null,null,null,null,{"$f":"IF(L1530<>\"\",'Step 2) Calculate'!B1534,\"Zzzzz - delete row\")","v":"Zzzzz - delete row"},{"$f":"IF('Step 2) Calculate'!E1534<>\"\",'Step 2) Calculate'!G1534,\"\")","v":""},{"$f":"IF(L1530<>\"\",'Step 2) Calculate'!F1534,\"\")","v":""},{"$f":"IF(L1530<>\"\",'Step 2) Calculate'!H1534,\"\")","v":""},{"$f":"IF(L1530<>\"\",'Step 2) Calculate'!C1534,\"\")","v":""}]
[null,null,null,null,null,null,null,null,null,null,{"$f":"IF(L1531<>\"\",'Step 2) Calculate'!B1535,\"Zzzzz - delete row\")","v":"Zzzzz - delete row"},{"$f":"IF('Step 2) Calculate'!E1535<>\"\",'Step 2) Calculate'!G1535,\"\")","v":""},{"$f":"IF(L1531<>\"\",'Step 2) Calculate'!F1535,\"\")","v":""},{"$f":"IF(L1531<>\"\",'Step 2) Calculate'!H1535,\"\")","v":""},{"$f":"IF(L1531<>\"\",'Step 2) Calculate'!C1535,\"\")","v":""}]
[null,null,null,null,null,null,null,null,null,null,{"$f":"IF(L1532<>\"\",'Step 2) Calculate'!B1536,\"Zzzzz - delete row\")","v":"Zzzzz - delete row"},{"$f":"IF('Step 2) Calculate'!E1536<>\"\",'Step 2) Calculate'!G1536,\"\")","v":""},{"$f":"IF(L1532<>\"\",'Step 2) Calculate'!F1536,\"\")","v":""},{"$f":"IF(L1532<>\"\",'Step 2) Calculate'!H1536,\"\")","v":""},{"$f":"IF(L1532<>\"\",'Step 2) Calculate'!C1536,\"\")","v":""}]
[null,null,null,null,null,null,null,null,null,null,{"$f":"IF(L1533<>\"\",'Step 2) Calculate'!B1537,\"Zzzzz - delete row\")","v":"Zzzzz - delete row"},{"$f":"IF('Step 2) Calculate'!E1537<>\"\",'Step 2) Calculate'!G1537,\"\")","v":""},{"$f":"IF(L1533<>\"\",'Step 2) Calculate'!F1537,\"\")","v":""},{"$f":"IF(L1533<>\"\",'Step 2) Calculate'!H1537,\"\")","v":""},{"$f":"IF(L1533<>\"\",'Step 2) Calculate'!C1537,\"\")","v":""}]
[null,null,null,null,null,null,null,null,null,null,{"$f":"IF(L1534<>\"\",'Step 2) Calculate'!B1538,\"Zzzzz - delete row\")","v":"Zzzzz - delete row"},{"$f":"IF('Step 2) Calculate'!E1538<>\"\",'Step 2) Calculate'!G1538,\"\")","v":""},{"$f":"IF(L1534<>\"\",'Step 2) Calculate'!F1538,\"\")","v":""},{"$f":"IF(L1534<>\"\",'Step 2) Calculate'!H1538,\"\")","v":""},{"$f":"IF(L1534<>\"\",'Step 2) Calculate'!C1538,\"\")","v":""}]
[null,null,null,null,null,null,null,null,null,null,{"$f":"IF(L1535<>\"\",'Step 2) Calculate'!B1539,\"Zzzzz - delete row\")","v":"Zzzzz - delete row"},{"$f":"IF('Step 2) Calculate'!E1539<>\"\",'Step 2) Calculate'!G1539,\"\")","v":""},{"$f":"IF(L1535<>\"\",'Step 2) Calculate'!F1539,\"\")","v":""},{"$f":"IF(L1535<>\"\",'Step 2) Calculate'!H1539,\"\")","v":""},{"$f":"IF(L1535<>\"\",'Step 2) Calculate'!C1539,\"\")","v":""}]
[null,null,null,null,null,null,null,null,null,null,{"$f":"IF(L1536<>\"\",'Step 2) Calculate'!B1540,\"Zzzzz - delete row\")","v":"Zzzzz - delete row"},{"$f":"IF('Step 2) Calculate'!E1540<>\"\",'Step 2) Calculate'!G1540,\"\")","v":""},{"$f":"IF(L1536<>\"\",'Step 2) Calculate'!F1540,\"\")","v":""},{"$f":"IF(L1536<>\"\",'Step 2) Calculate'!H1540,\"\")","v":""},{"$f":"IF(L1536<>\"\",'Step 2) Calculate'!C1540,\"\")","v":""}]
[null,null,null,null,null,null,null,null,null,null,{"$f":"IF(L1537<>\"\",'Step 2) Calculate'!B1541,\"Zzzzz - delete row\")","v":"Zzzzz - delete row"},{"$f":"IF('Step 2) Calculate'!E1541<>\"\",'Step 2) Calculate'!G1541,\"\")","v":""},{"$f":"IF(L1537<>\"\",'Step 2) Calculate'!F1541,\"\")","v":""},{"$f":"IF(L1537<>\"\",'Step 2) Calculate'!H1541,\"\")","v":""},{"$f":"IF(L1537<>\"\",'Step 2) Calculate'!C1541,\"\")","v":""}]
[null,null,null,null,null,null,null,null,null,null,{"$f":"IF(L1538<>\"\",'Step 2) Calculate'!B1542,\"Zzzzz - delete row\")","v":"Zzzzz - delete row"},{"$f":"IF('Step 2) Calculate'!E1542<>\"\",'Step 2) Calculate'!G1542,\"\")","v":""},{"$f":"IF(L1538<>\"\",'Step 2) Calculate'!F1542,\"\")","v":""},{"$f":"IF(L1538<>\"\",'Step 2) Calculate'!H1542,\"\")","v":""},{"$f":"IF(L1538<>\"\",'Step 2) Calculate'!C1542,\"\")","v":""}]
[null,null,null,null,null,null,null,null,null,null,{"$f":"IF(L1539<>\"\",'Step 2) Calculate'!B1543,\"Zzzzz - delete row\")","v":"Zzzzz - delete row"},{"$f":"IF('Step 2) Calculate'!E1543<>\"\",'Step 2) Calculate'!G1543,\"\")","v":""},{"$f":"IF(L1539<>\"\",'Step 2) Calculate'!F1543,\"\")","v":""},{"$f":"IF(L1539<>\"\",'Step 2) Calculate'!H1543,\"\")","v":""},{"$f":"IF(L1539<>\"\",'Step 2) Calculate'!C1543,\"\")","v":""}]
[null,null,null,null,null,null,null,null,null,null,{"$f":"IF(L1540<>\"\",'Step 2) Calculate'!B1544,\"Zzzzz - delete row\")","v":"Zzzzz - delete row"},{"$f":"IF('Step 2) Calculate'!E1544<>\"\",'Step 2) Calculate'!G1544,\"\")","v":""},{"$f":"IF(L1540<>\"\",'Step 2) Calculate'!F1544,\"\")","v":""},{"$f":"IF(L1540<>\"\",'Step 2) Calculate'!H1544,\"\")","v":""},{"$f":"IF(L1540<>\"\",'Step 2) Calculate'!C1544,\"\")","v":""}]
[null,null,null,null,null,null,null,null,null,null,{"$f":"IF(L1541<>\"\",'Step 2) Calculate'!B1545,\"Zzzzz - delete row\")","v":"Zzzzz - delete row"},{"$f":"IF('Step 2) Calculate'!E1545<>\"\",'Step 2) Calculate'!G1545,\"\")","v":""},{"$f":"IF(L1541<>\"\",'Step 2) Calculate'!F1545,\"\")","v":""},{"$f":"IF(L1541<>\"\",'Step 2) Calculate'!H1545,\"\")","v":""},{"$f":"IF(L1541<>\"\",'Step 2) Calculate'!C1545,\"\")","v":""}]
[null,null,null,null,null,null,null,null,null,null,{"$f":"IF(L1542<>\"\",'Step 2) Calculate'!B1546,\"Zzzzz - delete row\")","v":"Zzzzz - delete row"},{"$f":"IF('Step 2) Calculate'!E1546<>\"\",'Step 2) Calculate'!G1546,\"\")","v":""},{"$f":"IF(L1542<>\"\",'Step 2) Calculate'!F1546,\"\")","v":""},{"$f":"IF(L1542<>\"\",'Step 2) Calculate'!H1546,\"\")","v":""},{"$f":"IF(L1542<>\"\",'Step 2) Calculate'!C1546,\"\")","v":""}]
[null,null,null,null,null,null,null,null,null,null,{"$f":"IF(L1543<>\"\",'Step 2) Calculate'!B1547,\"Zzzzz - delete row\")","v":"Zzzzz - delete row"},{"$f":"IF('Step 2) Calculate'!E1547<>\"\",'Step 2) Calculate'!G1547,\"\")","v":""},{"$f":"IF(L1543<>\"\",'Step 2) Calculate'!F1547,\"\")","v":""},{"$f":"IF(L1543<>\"\",'Step 2) Calculate'!H1547,\"\")","v":""},{"$f":"IF(L1543<>\"\",'Step 2) Calculate'!C1547,\"\")","v":""}]
[null,null,null,null,null,null,null,null,null,null,{"$f":"IF(L1544<>\"\",'Step 2) Calculate'!B1548,\"Zzzzz - delete row\")","v":"Zzzzz - delete row"},{"$f":"IF('Step 2) Calculate'!E1548<>\"\",'Step 2) Calculate'!G1548,\"\")","v":""},{"$f":"IF(L1544<>\"\",'Step 2) Calculate'!F1548,\"\")","v":""},{"$f":"IF(L1544<>\"\",'Step 2) Calculate'!H1548,\"\")","v":""},{"$f":"IF(L1544<>\"\",'Step 2) Calculate'!C1548,\"\")","v":""}]
[null,null,null,null,null,null,null,null,null,null,{"$f":"IF(L1545<>\"\",'Step 2) Calculate'!B1549,\"Zzzzz - delete row\")","v":"Zzzzz - delete row"},{"$f":"IF('Step 2) Calculate'!E1549<>\"\",'Step 2) Calculate'!G1549,\"\")","v":""},{"$f":"IF(L1545<>\"\",'Step 2) Calculate'!F1549,\"\")","v":""},{"$f":"IF(L1545<>\"\",'Step 2) Calculate'!H1549,\"\")","v":""},{"$f":"IF(L1545<>\"\",'Step 2) Calculate'!C1549,\"\")","v":""}]
[null,null,null,null,null,null,null,null,null,null,{"$f":"IF(L1546<>\"\",'Step 2) Calculate'!B1550,\"Zzzzz - delete row\")","v":"Zzzzz - delete row"},{"$f":"IF('Step 2) Calculate'!E1550<>\"\",'Step 2) Calculate'!G1550,\"\")","v":""},{"$f":"IF(L1546<>\"\",'Step 2) Calculate'!F1550,\"\")","v":""},{"$f":"IF(L1546<>\"\",'Step 2) Calculate'!H1550,\"\")","v":""},{"$f":"IF(L1546<>\"\",'Step 2) Calculate'!C1550,\"\")","v":""}]
[null,null,null,null,null,null,null,null,null,null,{"$f":"IF(L1547<>\"\",'Step 2) Calculate'!B1551,\"Zzzzz - delete row\")","v":"Zzzzz - delete row"},{"$f":"IF('Step 2) Calculate'!E1551<>\"\",'Step 2) Calculate'!G1551,\"\")","v":""},{"$f":"IF(L1547<>\"\",'Step 2) Calculate'!F1551,\"\")","v":""},{"$f":"IF(L1547<>\"\",'Step 2) Calculate'!H1551,\"\")","v":""},{"$f":"IF(L1547<>\"\",'Step 2) Calculate'!C1551,\"\")","v":""}]
[null,null,null,null,null,null,null,null,null,null,{"$f":"IF(L1548<>\"\",'Step 2) Calculate'!B1552,\"Zzzzz - delete row\")","v":"Zzzzz - delete row"},{"$f":"IF('Step 2) Calculate'!E1552<>\"\",'Step 2) Calculate'!G1552,\"\")","v":""},{"$f":"IF(L1548<>\"\",'Step 2) Calculate'!F1552,\"\")","v":""},{"$f":"IF(L1548<>\"\",'Step 2) Calculate'!H1552,\"\")","v":""},{"$f":"IF(L1548<>\"\",'Step 2) Calculate'!C1552,\"\")","v":""}]
[null,null,null,null,null,null,null,null,null,null,{"$f":"IF(L1549<>\"\",'Step 2) Calculate'!B1553,\"Zzzzz - delete row\")","v":"Zzzzz - delete row"},{"$f":"IF('Step 2) Calculate'!E1553<>\"\",'Step 2) Calculate'!G1553,\"\")","v":""},{"$f":"IF(L1549<>\"\",'Step 2) Calculate'!F1553,\"\")","v":""},{"$f":"IF(L1549<>\"\",'Step 2) Calculate'!H1553,\"\")","v":""},{"$f":"IF(L1549<>\"\",'Step 2) Calculate'!C1553,\"\")","v":""}]
[null,null,null,null,null,null,null,null,null,null,{"$f":"IF(L1550<>\"\",'Step 2) Calculate'!B1554,\"Zzzzz - delete row\")","v":"Zzzzz - delete row"},{"$f":"IF('Step 2) Calculate'!E1554<>\"\",'Step 2) Calculate'!G1554,\"\")","v":""},{"$f":"IF(L1550<>\"\",'Step 2) Calculate'!F1554,\"\")","v":""},{"$f":"IF(L1550<>\"\",'Step 2) Calculate'!H1554,\"\")","v":""},{"$f":"IF(L1550<>\"\",'Step 2) Calculate'!C1554,\"\")","v":""}]
[null,null,null,null,null,null,null,null,null,null,{"$f":"IF(L1551<>\"\",'Step 2) Calculate'!B1555,\"Zzzzz - delete row\")","v":"Zzzzz - delete row"},{"$f":"IF('Step 2) Calculate'!E1555<>\"\",'Step 2) Calculate'!G1555,\"\")","v":""},{"$f":"IF(L1551<>\"\",'Step 2) Calculate'!F1555,\"\")","v":""},{"$f":"IF(L1551<>\"\",'Step 2) Calculate'!H1555,\"\")","v":""},{"$f":"IF(L1551<>\"\",'Step 2) Calculate'!C1555,\"\")","v":""}]
[null,null,null,null,null,null,null,null,null,null,{"$f":"IF(L1552<>\"\",'Step 2) Calculate'!B1556,\"Zzzzz - delete row\")","v":"Zzzzz - delete row"},{"$f":"IF('Step 2) Calculate'!E1556<>\"\",'Step 2) Calculate'!G1556,\"\")","v":""},{"$f":"IF(L1552<>\"\",'Step 2) Calculate'!F1556,\"\")","v":""},{"$f":"IF(L1552<>\"\",'Step 2) Calculate'!H1556,\"\")","v":""},{"$f":"IF(L1552<>\"\",'Step 2) Calculate'!C1556,\"\")","v":""}]
[null,null,null,null,null,null,null,null,null,null,{"$f":"IF(L1553<>\"\",'Step 2) Calculate'!B1557,\"Zzzzz - delete row\")","v":"Zzzzz - delete row"},{"$f":"IF('Step 2) Calculate'!E1557<>\"\",'Step 2) Calculate'!G1557,\"\")","v":""},{"$f":"IF(L1553<>\"\",'Step 2) Calculate'!F1557,\"\")","v":""},{"$f":"IF(L1553<>\"\",'Step 2) Calculate'!H1557,\"\")","v":""},{"$f":"IF(L1553<>\"\",'Step 2) Calculate'!C1557,\"\")","v":""}]
[null,null,null,null,null,null,null,null,null,null,{"$f":"IF(L1554<>\"\",'Step 2) Calculate'!B1558,\"Zzzzz - delete row\")","v":"Zzzzz - delete row"},{"$f":"IF('Step 2) Calculate'!E1558<>\"\",'Step 2) Calculate'!G1558,\"\")","v":""},{"$f":"IF(L1554<>\"\",'Step 2) Calculate'!F1558,\"\")","v":""},{"$f":"IF(L1554<>\"\",'Step 2) Calculate'!H1558,\"\")","v":""},{"$f":"IF(L1554<>\"\",'Step 2) Calculate'!C1558,\"\")","v":""}]
[null,null,null,null,null,null,null,null,null,null,{"$f":"IF(L1555<>\"\",'Step 2) Calculate'!B1559,\"Zzzzz - delete row\")","v":"Zzzzz - delete row"},{"$f":"IF('Step 2) Calculate'!E1559<>\"\",'Step 2) Calculate'!G1559,\"\")","v":""},{"$f":"IF(L1555<>\"\",'Step 2) Calculate'!F1559,\"\")","v":""},{"$f":"IF(L1555<>\"\",'Step 2) Calculate'!H1559,\"\")","v":""},{"$f":"IF(L1555<>\"\",'Step 2) Calculate'!C1559,\"\")","v":""}]
[null,null,null,null,null,null,null,null,null,null,{"$f":"IF(L1556<>\"\",'Step 2) Calculate'!B1560,\"Zzzzz - delete row\")","v":"Zzzzz - delete row"},{"$f":"IF('Step 2) Calculate'!E1560<>\"\",'Step 2) Calculate'!G1560,\"\")","v":""},{"$f":"IF(L1556<>\"\",'Step 2) Calculate'!F1560,\"\")","v":""},{"$f":"IF(L1556<>\"\",'Step 2) Calculate'!H1560,\"\")","v":""},{"$f":"IF(L1556<>\"\",'Step 2) Calculate'!C1560,\"\")","v":""}]
[null,null,null,null,null,null,null,null,null,null,{"$f":"IF(L1557<>\"\",'Step 2) Calculate'!B1561,\"Zzzzz - delete row\")","v":"Zzzzz - delete row"},{"$f":"IF('Step 2) Calculate'!E1561<>\"\",'Step 2) Calculate'!G1561,\"\")","v":""},{"$f":"IF(L1557<>\"\",'Step 2) Calculate'!F1561,\"\")","v":""},{"$f":"IF(L1557<>\"\",'Step 2) Calculate'!H1561,\"\")","v":""},{"$f":"IF(L1557<>\"\",'Step 2) Calculate'!C1561,\"\")","v":""}]
[null,null,null,null,null,null,null,null,null,null,{"$f":"IF(L1558<>\"\",'Step 2) Calculate'!B1562,\"Zzzzz - delete row\")","v":"Zzzzz - delete row"},{"$f":"IF('Step 2) Calculate'!E1562<>\"\",'Step 2) Calculate'!G1562,\"\")","v":""},{"$f":"IF(L1558<>\"\",'Step 2) Calculate'!F1562,\"\")","v":""},{"$f":"IF(L1558<>\"\",'Step 2) Calculate'!H1562,\"\")","v":""},{"$f":"IF(L1558<>\"\",'Step 2) Calculate'!C1562,\"\")","v":""}]
[null,null,null,null,null,null,null,null,null,null,{"$f":"IF(L1559<>\"\",'Step 2) Calculate'!B1563,\"Zzzzz - delete row\")","v":"Zzzzz - delete row"},{"$f":"IF('Step 2) Calculate'!E1563<>\"\",'Step 2) Calculate'!G1563,\"\")","v":""},{"$f":"IF(L1559<>\"\",'Step 2) Calculate'!F1563,\"\")","v":""},{"$f":"IF(L1559<>\"\",'Step 2) Calculate'!H1563,\"\")","v":""},{"$f":"IF(L1559<>\"\",'Step 2) Calculate'!C1563,\"\")","v":""}]
[null,null,null,null,null,null,null,null,null,null,{"$f":"IF(L1560<>\"\",'Step 2) Calculate'!B1564,\"Zzzzz - delete row\")","v":"Zzzzz - delete row"},{"$f":"IF('Step 2) Calculate'!E1564<>\"\",'Step 2) Calculate'!G1564,\"\")","v":""},{"$f":"IF(L1560<>\"\",'Step 2) Calculate'!F1564,\"\")","v":""},{"$f":"IF(L1560<>\"\",'Step 2) Calculate'!H1564,\"\")","v":""},{"$f":"IF(L1560<>\"\",'Step 2) Calculate'!C1564,\"\")","v":""}]
[null,null,null,null,null,null,null,null,null,null,{"$f":"IF(L1561<>\"\",'Step 2) Calculate'!B1565,\"Zzzzz - delete row\")","v":"Zzzzz - delete row"},{"$f":"IF('Step 2) Calculate'!E1565<>\"\",'Step 2) Calculate'!G1565,\"\")","v":""},{"$f":"IF(L1561<>\"\",'Step 2) Calculate'!F1565,\"\")","v":""},{"$f":"IF(L1561<>\"\",'Step 2) Calculate'!H1565,\"\")","v":""},{"$f":"IF(L1561<>\"\",'Step 2) Calculate'!C1565,\"\")","v":""}]
[null,null,null,null,null,null,null,null,null,null,{"$f":"IF(L1562<>\"\",'Step 2) Calculate'!B1566,\"Zzzzz - delete row\")","v":"Zzzzz - delete row"},{"$f":"IF('Step 2) Calculate'!E1566<>\"\",'Step 2) Calculate'!G1566,\"\")","v":""},{"$f":"IF(L1562<>\"\",'Step 2) Calculate'!F1566,\"\")","v":""},{"$f":"IF(L1562<>\"\",'Step 2) Calculate'!H1566,\"\")","v":""},{"$f":"IF(L1562<>\"\",'Step 2) Calculate'!C1566,\"\")","v":""}]
[null,null,null,null,null,null,null,null,null,null,{"$f":"IF(L1563<>\"\",'Step 2) Calculate'!B1567,\"Zzzzz - delete row\")","v":"Zzzzz - delete row"},{"$f":"IF('Step 2) Calculate'!E1567<>\"\",'Step 2) Calculate'!G1567,\"\")","v":""},{"$f":"IF(L1563<>\"\",'Step 2) Calculate'!F1567,\"\")","v":""},{"$f":"IF(L1563<>\"\",'Step 2) Calculate'!H1567,\"\")","v":""},{"$f":"IF(L1563<>\"\",'Step 2) Calculate'!C1567,\"\")","v":""}]
[null,null,null,null,null,null,null,null,null,null,{"$f":"IF(L1564<>\"\",'Step 2) Calculate'!B1568,\"Zzzzz - delete row\")","v":"Zzzzz - delete row"},{"$f":"IF('Step 2) Calculate'!E1568<>\"\",'Step 2) Calculate'!G1568,\"\")","v":""},{"$f":"IF(L1564<>\"\",'Step 2) Calculate'!F1568,\"\")","v":""},{"$f":"IF(L1564<>\"\",'Step 2) Calculate'!H1568,\"\")","v":""},{"$f":"IF(L1564<>\"\",'Step 2) Calculate'!C1568,\"\")","v":""}]
[null,null,null,null,null,null,null,null,null,null,{"$f":"IF(L1565<>\"\",'Step 2) Calculate'!B1569,\"Zzzzz - delete row\")","v":"Zzzzz - delete row"},{"$f":"IF('Step 2) Calculate'!E1569<>\"\",'Step 2) Calculate'!G1569,\"\")","v":""},{"$f":"IF(L1565<>\"\",'Step 2) Calculate'!F1569,\"\")","v":""},{"$f":"IF(L1565<>\"\",'Step 2) Calculate'!H1569,\"\")","v":""},{"$f":"IF(L1565<>\"\",'Step 2) Calculate'!C1569,\"\")","v":""}]
[null,null,null,null,null,null,null,null,null,null,{"$f":"IF(L1566<>\"\",'Step 2) Calculate'!B1570,\"Zzzzz - delete row\")","v":"Zzzzz - delete row"},{"$f":"IF('Step 2) Calculate'!E1570<>\"\",'Step 2) Calculate'!G1570,\"\")","v":""},{"$f":"IF(L1566<>\"\",'Step 2) Calculate'!F1570,\"\")","v":""},{"$f":"IF(L1566<>\"\",'Step 2) Calculate'!H1570,\"\")","v":""},{"$f":"IF(L1566<>\"\",'Step 2) Calculate'!C1570,\"\")","v":""}]
[null,null,null,null,null,null,null,null,null,null,{"$f":"IF(L1567<>\"\",'Step 2) Calculate'!B1571,\"Zzzzz - delete row\")","v":"Zzzzz - delete row"},{"$f":"IF('Step 2) Calculate'!E1571<>\"\",'Step 2) Calculate'!G1571,\"\")","v":""},{"$f":"IF(L1567<>\"\",'Step 2) Calculate'!F1571,\"\")","v":""},{"$f":"IF(L1567<>\"\",'Step 2) Calculate'!H1571,\"\")","v":""},{"$f":"IF(L1567<>\"\",'Step 2) Calculate'!C1571,\"\")","v":""}]
[null,null,null,null,null,null,null,null,null,null,{"$f":"IF(L1568<>\"\",'Step 2) Calculate'!B1572,\"Zzzzz - delete row\")","v":"Zzzzz - delete row"},{"$f":"IF('Step 2) Calculate'!E1572<>\"\",'Step 2) Calculate'!G1572,\"\")","v":""},{"$f":"IF(L1568<>\"\",'Step 2) Calculate'!F1572,\"\")","v":""},{"$f":"IF(L1568<>\"\",'Step 2) Calculate'!H1572,\"\")","v":""},{"$f":"IF(L1568<>\"\",'Step 2) Calculate'!C1572,\"\")","v":""}]
[null,null,null,null,null,null,null,null,null,null,{"$f":"IF(L1569<>\"\",'Step 2) Calculate'!B1573,\"Zzzzz - delete row\")","v":"Zzzzz - delete row"},{"$f":"IF('Step 2) Calculate'!E1573<>\"\",'Step 2) Calculate'!G1573,\"\")","v":""},{"$f":"IF(L1569<>\"\",'Step 2) Calculate'!F1573,\"\")","v":""},{"$f":"IF(L1569<>\"\",'Step 2) Calculate'!H1573,\"\")","v":""},{"$f":"IF(L1569<>\"\",'Step 2) Calculate'!C1573,\"\")","v":""}]
[null,null,null,null,null,null,null,null,null,null,{"$f":"IF(L1570<>\"\",'Step 2) Calculate'!B1574,\"Zzzzz - delete row\")","v":"Zzzzz - delete row"},{"$f":"IF('Step 2) Calculate'!E1574<>\"\",'Step 2) Calculate'!G1574,\"\")","v":""},{"$f":"IF(L1570<>\"\",'Step 2) Calculate'!F1574,\"\")","v":""},{"$f":"IF(L1570<>\"\",'Step 2) Calculate'!H1574,\"\")","v":""},{"$f":"IF(L1570<>\"\",'Step 2) Calculate'!C1574,\"\")","v":""}]
[null,null,null,null,null,null,null,null,null,null,{"$f":"IF(L1571<>\"\",'Step 2) Calculate'!B1575,\"Zzzzz - delete row\")","v":"Zzzzz - delete row"},{"$f":"IF('Step 2) Calculate'!E1575<>\"\",'Step 2) Calculate'!G1575,\"\")","v":""},{"$f":"IF(L1571<>\"\",'Step 2) Calculate'!F1575,\"\")","v":""},{"$f":"IF(L1571<>\"\",'Step 2) Calculate'!H1575,\"\")","v":""},{"$f":"IF(L1571<>\"\",'Step 2) Calculate'!C1575,\"\")","v":""}]
[null,null,null,null,null,null,null,null,null,null,{"$f":"IF(L1572<>\"\",'Step 2) Calculate'!B1576,\"Zzzzz - delete row\")","v":"Zzzzz - delete row"},{"$f":"IF('Step 2) Calculate'!E1576<>\"\",'Step 2) Calculate'!G1576,\"\")","v":""},{"$f":"IF(L1572<>\"\",'Step 2) Calculate'!F1576,\"\")","v":""},{"$f":"IF(L1572<>\"\",'Step 2) Calculate'!H1576,\"\")","v":""},{"$f":"IF(L1572<>\"\",'Step 2) Calculate'!C1576,\"\")","v":""}]
[null,null,null,null,null,null,null,null,null,null,{"$f":"IF(L1573<>\"\",'Step 2) Calculate'!B1577,\"Zzzzz - delete row\")","v":"Zzzzz - delete row"},{"$f":"IF('Step 2) Calculate'!E1577<>\"\",'Step 2) Calculate'!G1577,\"\")","v":""},{"$f":"IF(L1573<>\"\",'Step 2) Calculate'!F1577,\"\")","v":""},{"$f":"IF(L1573<>\"\",'Step 2) Calculate'!H1577,\"\")","v":""},{"$f":"IF(L1573<>\"\",'Step 2) Calculate'!C1577,\"\")","v":""}]
[null,null,null,null,null,null,null,null,null,null,{"$f":"IF(L1574<>\"\",'Step 2) Calculate'!B1578,\"Zzzzz - delete row\")","v":"Zzzzz - delete row"},{"$f":"IF('Step 2) Calculate'!E1578<>\"\",'Step 2) Calculate'!G1578,\"\")","v":""},{"$f":"IF(L1574<>\"\",'Step 2) Calculate'!F1578,\"\")","v":""},{"$f":"IF(L1574<>\"\",'Step 2) Calculate'!H1578,\"\")","v":""},{"$f":"IF(L1574<>\"\",'Step 2) Calculate'!C1578,\"\")","v":""}]
[null,null,null,null,null,null,null,null,null,null,{"$f":"IF(L1575<>\"\",'Step 2) Calculate'!B1579,\"Zzzzz - delete row\")","v":"Zzzzz - delete row"},{"$f":"IF('Step 2) Calculate'!E1579<>\"\",'Step 2) Calculate'!G1579,\"\")","v":""},{"$f":"IF(L1575<>\"\",'Step 2) Calculate'!F1579,\"\")","v":""},{"$f":"IF(L1575<>\"\",'Step 2) Calculate'!H1579,\"\")","v":""},{"$f":"IF(L1575<>\"\",'Step 2) Calculate'!C1579,\"\")","v":""}]
[null,null,null,null,null,null,null,null,null,null,{"$f":"IF(L1576<>\"\",'Step 2) Calculate'!B1580,\"Zzzzz - delete row\")","v":"Zzzzz - delete row"},{"$f":"IF('Step 2) Calculate'!E1580<>\"\",'Step 2) Calculate'!G1580,\"\")","v":""},{"$f":"IF(L1576<>\"\",'Step 2) Calculate'!F1580,\"\")","v":""},{"$f":"IF(L1576<>\"\",'Step 2) Calculate'!H1580,\"\")","v":""},{"$f":"IF(L1576<>\"\",'Step 2) Calculate'!C1580,\"\")","v":""}]
[null,null,null,null,null,null,null,null,null,null,{"$f":"IF(L1577<>\"\",'Step 2) Calculate'!B1581,\"Zzzzz - delete row\")","v":"Zzzzz - delete row"},{"$f":"IF('Step 2) Calculate'!E1581<>\"\",'Step 2) Calculate'!G1581,\"\")","v":""},{"$f":"IF(L1577<>\"\",'Step 2) Calculate'!F1581,\"\")","v":""},{"$f":"IF(L1577<>\"\",'Step 2) Calculate'!H1581,\"\")","v":""},{"$f":"IF(L1577<>\"\",'Step 2) Calculate'!C1581,\"\")","v":""}]
[null,null,null,null,null,null,null,null,null,null,{"$f":"IF(L1578<>\"\",'Step 2) Calculate'!B1582,\"Zzzzz - delete row\")","v":"Zzzzz - delete row"},{"$f":"IF('Step 2) Calculate'!E1582<>\"\",'Step 2) Calculate'!G1582,\"\")","v":""},{"$f":"IF(L1578<>\"\",'Step 2) Calculate'!F1582,\"\")","v":""},{"$f":"IF(L1578<>\"\",'Step 2) Calculate'!H1582,\"\")","v":""},{"$f":"IF(L1578<>\"\",'Step 2) Calculate'!C1582,\"\")","v":""}]
[null,null,null,null,null,null,null,null,null,null,{"$f":"IF(L1579<>\"\",'Step 2) Calculate'!B1583,\"Zzzzz - delete row\")","v":"Zzzzz - delete row"},{"$f":"IF('Step 2) Calculate'!E1583<>\"\",'Step 2) Calculate'!G1583,\"\")","v":""},{"$f":"IF(L1579<>\"\",'Step 2) Calculate'!F1583,\"\")","v":""},{"$f":"IF(L1579<>\"\",'Step 2) Calculate'!H1583,\"\")","v":""},{"$f":"IF(L1579<>\"\",'Step 2) Calculate'!C1583,\"\")","v":""}]
[null,null,null,null,null,null,null,null,null,null,{"$f":"IF(L1580<>\"\",'Step 2) Calculate'!B1584,\"Zzzzz - delete row\")","v":"Zzzzz - delete row"},{"$f":"IF('Step 2) Calculate'!E1584<>\"\",'Step 2) Calculate'!G1584,\"\")","v":""},{"$f":"IF(L1580<>\"\",'Step 2) Calculate'!F1584,\"\")","v":""},{"$f":"IF(L1580<>\"\",'Step 2) Calculate'!H1584,\"\")","v":""},{"$f":"IF(L1580<>\"\",'Step 2) Calculate'!C1584,\"\")","v":""}]
[null,null,null,null,null,null,null,null,null,null,{"$f":"IF(L1581<>\"\",'Step 2) Calculate'!B1585,\"Zzzzz - delete row\")","v":"Zzzzz - delete row"},{"$f":"IF('Step 2) Calculate'!E1585<>\"\",'Step 2) Calculate'!G1585,\"\")","v":""},{"$f":"IF(L1581<>\"\",'Step 2) Calculate'!F1585,\"\")","v":""},{"$f":"IF(L1581<>\"\",'Step 2) Calculate'!H1585,\"\")","v":""},{"$f":"IF(L1581<>\"\",'Step 2) Calculate'!C1585,\"\")","v":""}]
[null,null,null,null,null,null,null,null,null,null,{"$f":"IF(L1582<>\"\",'Step 2) Calculate'!B1586,\"Zzzzz - delete row\")","v":"Zzzzz - delete row"},{"$f":"IF('Step 2) Calculate'!E1586<>\"\",'Step 2) Calculate'!G1586,\"\")","v":""},{"$f":"IF(L1582<>\"\",'Step 2) Calculate'!F1586,\"\")","v":""},{"$f":"IF(L1582<>\"\",'Step 2) Calculate'!H1586,\"\")","v":""},{"$f":"IF(L1582<>\"\",'Step 2) Calculate'!C1586,\"\")","v":""}]
[null,null,null,null,null,null,null,null,null,null,{"$f":"IF(L1583<>\"\",'Step 2) Calculate'!B1587,\"Zzzzz - delete row\")","v":"Zzzzz - delete row"},{"$f":"IF('Step 2) Calculate'!E1587<>\"\",'Step 2) Calculate'!G1587,\"\")","v":""},{"$f":"IF(L1583<>\"\",'Step 2) Calculate'!F1587,\"\")","v":""},{"$f":"IF(L1583<>\"\",'Step 2) Calculate'!H1587,\"\")","v":""},{"$f":"IF(L1583<>\"\",'Step 2) Calculate'!C1587,\"\")","v":""}]
[null,null,null,null,null,null,null,null,null,null,{"$f":"IF(L1584<>\"\",'Step 2) Calculate'!B1588,\"Zzzzz - delete row\")","v":"Zzzzz - delete row"},{"$f":"IF('Step 2) Calculate'!E1588<>\"\",'Step 2) Calculate'!G1588,\"\")","v":""},{"$f":"IF(L1584<>\"\",'Step 2) Calculate'!F1588,\"\")","v":""},{"$f":"IF(L1584<>\"\",'Step 2) Calculate'!H1588,\"\")","v":""},{"$f":"IF(L1584<>\"\",'Step 2) Calculate'!C1588,\"\")","v":""}]
[null,null,null,null,null,null,null,null,null,null,{"$f":"IF(L1585<>\"\",'Step 2) Calculate'!B1589,\"Zzzzz - delete row\")","v":"Zzzzz - delete row"},{"$f":"IF('Step 2) Calculate'!E1589<>\"\",'Step 2) Calculate'!G1589,\"\")","v":""},{"$f":"IF(L1585<>\"\",'Step 2) Calculate'!F1589,\"\")","v":""},{"$f":"IF(L1585<>\"\",'Step 2) Calculate'!H1589,\"\")","v":""},{"$f":"IF(L1585<>\"\",'Step 2) Calculate'!C1589,\"\")","v":""}]
[null,null,null,null,null,null,null,null,null,null,{"$f":"IF(L1586<>\"\",'Step 2) Calculate'!B1590,\"Zzzzz - delete row\")","v":"Zzzzz - delete row"},{"$f":"IF('Step 2) Calculate'!E1590<>\"\",'Step 2) Calculate'!G1590,\"\")","v":""},{"$f":"IF(L1586<>\"\",'Step 2) Calculate'!F1590,\"\")","v":""},{"$f":"IF(L1586<>\"\",'Step 2) Calculate'!H1590,\"\")","v":""},{"$f":"IF(L1586<>\"\",'Step 2) Calculate'!C1590,\"\")","v":""}]
[null,null,null,null,null,null,null,null,null,null,{"$f":"IF(L1587<>\"\",'Step 2) Calculate'!B1591,\"Zzzzz - delete row\")","v":"Zzzzz - delete row"},{"$f":"IF('Step 2) Calculate'!E1591<>\"\",'Step 2) Calculate'!G1591,\"\")","v":""},{"$f":"IF(L1587<>\"\",'Step 2) Calculate'!F1591,\"\")","v":""},{"$f":"IF(L1587<>\"\",'Step 2) Calculate'!H1591,\"\")","v":""},{"$f":"IF(L1587<>\"\",'Step 2) Calculate'!C1591,\"\")","v":""}]
[null,null,null,null,null,null,null,null,null,null,{"$f":"IF(L1588<>\"\",'Step 2) Calculate'!B1592,\"Zzzzz - delete row\")","v":"Zzzzz - delete row"},{"$f":"IF('Step 2) Calculate'!E1592<>\"\",'Step 2) Calculate'!G1592,\"\")","v":""},{"$f":"IF(L1588<>\"\",'Step 2) Calculate'!F1592,\"\")","v":""},{"$f":"IF(L1588<>\"\",'Step 2) Calculate'!H1592,\"\")","v":""},{"$f":"IF(L1588<>\"\",'Step 2) Calculate'!C1592,\"\")","v":""}]
[null,null,null,null,null,null,null,null,null,null,{"$f":"IF(L1589<>\"\",'Step 2) Calculate'!B1593,\"Zzzzz - delete row\")","v":"Zzzzz - delete row"},{"$f":"IF('Step 2) Calculate'!E1593<>\"\",'Step 2) Calculate'!G1593,\"\")","v":""},{"$f":"IF(L1589<>\"\",'Step 2) Calculate'!F1593,\"\")","v":""},{"$f":"IF(L1589<>\"\",'Step 2) Calculate'!H1593,\"\")","v":""},{"$f":"IF(L1589<>\"\",'Step 2) Calculate'!C1593,\"\")","v":""}]
[null,null,null,null,null,null,null,null,null,null,{"$f":"IF(L1590<>\"\",'Step 2) Calculate'!B1594,\"Zzzzz - delete row\")","v":"Zzzzz - delete row"},{"$f":"IF('Step 2) Calculate'!E1594<>\"\",'Step 2) Calculate'!G1594,\"\")","v":""},{"$f":"IF(L1590<>\"\",'Step 2) Calculate'!F1594,\"\")","v":""},{"$f":"IF(L1590<>\"\",'Step 2) Calculate'!H1594,\"\")","v":""},{"$f":"IF(L1590<>\"\",'Step 2) Calculate'!C1594,\"\")","v":""}]
[null,null,null,null,null,null,null,null,null,null,{"$f":"IF(L1591<>\"\",'Step 2) Calculate'!B1595,\"Zzzzz - delete row\")","v":"Zzzzz - delete row"},{"$f":"IF('Step 2) Calculate'!E1595<>\"\",'Step 2) Calculate'!G1595,\"\")","v":""},{"$f":"IF(L1591<>\"\",'Step 2) Calculate'!F1595,\"\")","v":""},{"$f":"IF(L1591<>\"\",'Step 2) Calculate'!H1595,\"\")","v":""},{"$f":"IF(L1591<>\"\",'Step 2) Calculate'!C1595,\"\")","v":""}]
[null,null,null,null,null,null,null,null,null,null,{"$f":"IF(L1592<>\"\",'Step 2) Calculate'!B1596,\"Zzzzz - delete row\")","v":"Zzzzz - delete row"},{"$f":"IF('Step 2) Calculate'!E1596<>\"\",'Step 2) Calculate'!G1596,\"\")","v":""},{"$f":"IF(L1592<>\"\",'Step 2) Calculate'!F1596,\"\")","v":""},{"$f":"IF(L1592<>\"\",'Step 2) Calculate'!H1596,\"\")","v":""},{"$f":"IF(L1592<>\"\",'Step 2) Calculate'!C1596,\"\")","v":""}]
[null,null,null,null,null,null,null,null,null,null,{"$f":"IF(L1593<>\"\",'Step 2) Calculate'!B1597,\"Zzzzz - delete row\")","v":"Zzzzz - delete row"},{"$f":"IF('Step 2) Calculate'!E1597<>\"\",'Step 2) Calculate'!G1597,\"\")","v":""},{"$f":"IF(L1593<>\"\",'Step 2) Calculate'!F1597,\"\")","v":""},{"$f":"IF(L1593<>\"\",'Step 2) Calculate'!H1597,\"\")","v":""},{"$f":"IF(L1593<>\"\",'Step 2) Calculate'!C1597,\"\")","v":""}]
[null,null,null,null,null,null,null,null,null,null,{"$f":"IF(L1594<>\"\",'Step 2) Calculate'!B1598,\"Zzzzz - delete row\")","v":"Zzzzz - delete row"},{"$f":"IF('Step 2) Calculate'!E1598<>\"\",'Step 2) Calculate'!G1598,\"\")","v":""},{"$f":"IF(L1594<>\"\",'Step 2) Calculate'!F1598,\"\")","v":""},{"$f":"IF(L1594<>\"\",'Step 2) Calculate'!H1598,\"\")","v":""},{"$f":"IF(L1594<>\"\",'Step 2) Calculate'!C1598,\"\")","v":""}]
[null,null,null,null,null,null,null,null,null,null,{"$f":"IF(L1595<>\"\",'Step 2) Calculate'!B1599,\"Zzzzz - delete row\")","v":"Zzzzz - delete row"},{"$f":"IF('Step 2) Calculate'!E1599<>\"\",'Step 2) Calculate'!G1599,\"\")","v":""},{"$f":"IF(L1595<>\"\",'Step 2) Calculate'!F1599,\"\")","v":""},{"$f":"IF(L1595<>\"\",'Step 2) Calculate'!H1599,\"\")","v":""},{"$f":"IF(L1595<>\"\",'Step 2) Calculate'!C1599,\"\")","v":""}]
[null,null,null,null,null,null,null,null,null,null,{"$f":"IF(L1596<>\"\",'Step 2) Calculate'!B1600,\"Zzzzz - delete row\")","v":"Zzzzz - delete row"},{"$f":"IF('Step 2) Calculate'!E1600<>\"\",'Step 2) Calculate'!G1600,\"\")","v":""},{"$f":"IF(L1596<>\"\",'Step 2) Calculate'!F1600,\"\")","v":""},{"$f":"IF(L1596<>\"\",'Step 2) Calculate'!H1600,\"\")","v":""},{"$f":"IF(L1596<>\"\",'Step 2) Calculate'!C1600,\"\")","v":""}]
[null,null,null,null,null,null,null,null,null,null,{"$f":"IF(L1597<>\"\",'Step 2) Calculate'!B1601,\"Zzzzz - delete row\")","v":"Zzzzz - delete row"},{"$f":"IF('Step 2) Calculate'!E1601<>\"\",'Step 2) Calculate'!G1601,\"\")","v":""},{"$f":"IF(L1597<>\"\",'Step 2) Calculate'!F1601,\"\")","v":""},{"$f":"IF(L1597<>\"\",'Step 2) Calculate'!H1601,\"\")","v":""},{"$f":"IF(L1597<>\"\",'Step 2) Calculate'!C1601,\"\")","v":""}]
[null,null,null,null,null,null,null,null,null,null,{"$f":"IF(L1598<>\"\",'Step 2) Calculate'!B1602,\"Zzzzz - delete row\")","v":"Zzzzz - delete row"},{"$f":"IF('Step 2) Calculate'!E1602<>\"\",'Step 2) Calculate'!G1602,\"\")","v":""},{"$f":"IF(L1598<>\"\",'Step 2) Calculate'!F1602,\"\")","v":""},{"$f":"IF(L1598<>\"\",'Step 2) Calculate'!H1602,\"\")","v":""},{"$f":"IF(L1598<>\"\",'Step 2) Calculate'!C1602,\"\")","v":""}]
[null,null,null,null,null,null,null,null,null,null,{"$f":"IF(L1599<>\"\",'Step 2) Calculate'!B1603,\"Zzzzz - delete row\")","v":"Zzzzz - delete row"},{"$f":"IF('Step 2) Calculate'!E1603<>\"\",'Step 2) Calculate'!G1603,\"\")","v":""},{"$f":"IF(L1599<>\"\",'Step 2) Calculate'!F1603,\"\")","v":""},{"$f":"IF(L1599<>\"\",'Step 2) Calculate'!H1603,\"\")","v":""},{"$f":"IF(L1599<>\"\",'Step 2) Calculate'!C1603,\"\")","v":""}]
[null,null,null,null,null,null,null,null,null,null,{"$f":"IF(L1600<>\"\",'Step 2) Calculate'!B1604,\"Zzzzz - delete row\")","v":"Zzzzz - delete row"},{"$f":"IF('Step 2) Calculate'!E1604<>\"\",'Step 2) Calculate'!G1604,\"\")","v":""},{"$f":"IF(L1600<>\"\",'Step 2) Calculate'!F1604,\"\")","v":""},{"$f":"IF(L1600<>\"\",'Step 2) Calculate'!H1604,\"\")","v":""},{"$f":"IF(L1600<>\"\",'Step 2) Calculate'!C1604,\"\")","v":""}]
[null,null,null,null,null,null,null,null,null,null,{"$f":"IF(L1601<>\"\",'Step 2) Calculate'!B1605,\"Zzzzz - delete row\")","v":"Zzzzz - delete row"},{"$f":"IF('Step 2) Calculate'!E1605<>\"\",'Step 2) Calculate'!G1605,\"\")","v":""},{"$f":"IF(L1601<>\"\",'Step 2) Calculate'!F1605,\"\")","v":""},{"$f":"IF(L1601<>\"\",'Step 2) Calculate'!H1605,\"\")","v":""},{"$f":"IF(L1601<>\"\",'Step 2) Calculate'!C1605,\"\")","v":""}]
[null,null,null,null,null,null,null,null,null,null,{"$f":"IF(L1602<>\"\",'Step 2) Calculate'!B1606,\"Zzzzz - delete row\")","v":"Zzzzz - delete row"},{"$f":"IF('Step 2) Calculate'!E1606<>\"\",'Step 2) Calculate'!G1606,\"\")","v":""},{"$f":"IF(L1602<>\"\",'Step 2) Calculate'!F1606,\"\")","v":""},{"$f":"IF(L1602<>\"\",'Step 2) Calculate'!H1606,\"\")","v":""},{"$f":"IF(L1602<>\"\",'Step 2) Calculate'!C1606,\"\")","v":""}]
[null,null,null,null,null,null,null,null,null,null,{"$f":"IF(L1603<>\"\",'Step 2) Calculate'!B1607,\"Zzzzz - delete row\")","v":"Zzzzz - delete row"},{"$f":"IF('Step 2) Calculate'!E1607<>\"\",'Step 2) Calculate'!G1607,\"\")","v":""},{"$f":"IF(L1603<>\"\",'Step 2) Calculate'!F1607,\"\")","v":""},{"$f":"IF(L1603<>\"\",'Step 2) Calculate'!H1607,\"\")","v":""},{"$f":"IF(L1603<>\"\",'Step 2) Calculate'!C1607,\"\")","v":""}]
[null,null,null,null,null,null,null,null,null,null,{"$f":"IF(L1604<>\"\",'Step 2) Calculate'!B1608,\"Zzzzz - delete row\")","v":"Zzzzz - delete row"},{"$f":"IF('Step 2) Calculate'!E1608<>\"\",'Step 2) Calculate'!G1608,\"\")","v":""},{"$f":"IF(L1604<>\"\",'Step 2) Calculate'!F1608,\"\")","v":""},{"$f":"IF(L1604<>\"\",'Step 2) Calculate'!H1608,\"\")","v":""},{"$f":"IF(L1604<>\"\",'Step 2) Calculate'!C1608,\"\")","v":""}]
[null,null,null,null,null,null,null,null,null,null,{"$f":"IF(L1605<>\"\",'Step 2) Calculate'!B1609,\"Zzzzz - delete row\")","v":"Zzzzz - delete row"},{"$f":"IF('Step 2) Calculate'!E1609<>\"\",'Step 2) Calculate'!G1609,\"\")","v":""},{"$f":"IF(L1605<>\"\",'Step 2) Calculate'!F1609,\"\")","v":""},{"$f":"IF(L1605<>\"\",'Step 2) Calculate'!H1609,\"\")","v":""},{"$f":"IF(L1605<>\"\",'Step 2) Calculate'!C1609,\"\")","v":""}]
[null,null,null,null,null,null,null,null,null,null,{"$f":"IF(L1606<>\"\",'Step 2) Calculate'!B1610,\"Zzzzz - delete row\")","v":"Zzzzz - delete row"},{"$f":"IF('Step 2) Calculate'!E1610<>\"\",'Step 2) Calculate'!G1610,\"\")","v":""},{"$f":"IF(L1606<>\"\",'Step 2) Calculate'!F1610,\"\")","v":""},{"$f":"IF(L1606<>\"\",'Step 2) Calculate'!H1610,\"\")","v":""},{"$f":"IF(L1606<>\"\",'Step 2) Calculate'!C1610,\"\")","v":""}]
[null,null,null,null,null,null,null,null,null,null,{"$f":"IF(L1607<>\"\",'Step 2) Calculate'!B1611,\"Zzzzz - delete row\")","v":"Zzzzz - delete row"},{"$f":"IF('Step 2) Calculate'!E1611<>\"\",'Step 2) Calculate'!G1611,\"\")","v":""},{"$f":"IF(L1607<>\"\",'Step 2) Calculate'!F1611,\"\")","v":""},{"$f":"IF(L1607<>\"\",'Step 2) Calculate'!H1611,\"\")","v":""},{"$f":"IF(L1607<>\"\",'Step 2) Calculate'!C1611,\"\")","v":""}]
[null,null,null,null,null,null,null,null,null,null,{"$f":"IF(L1608<>\"\",'Step 2) Calculate'!B1612,\"Zzzzz - delete row\")","v":"Zzzzz - delete row"},{"$f":"IF('Step 2) Calculate'!E1612<>\"\",'Step 2) Calculate'!G1612,\"\")","v":""},{"$f":"IF(L1608<>\"\",'Step 2) Calculate'!F1612,\"\")","v":""},{"$f":"IF(L1608<>\"\",'Step 2) Calculate'!H1612,\"\")","v":""},{"$f":"IF(L1608<>\"\",'Step 2) Calculate'!C1612,\"\")","v":""}]
[null,null,null,null,null,null,null,null,null,null,{"$f":"IF(L1609<>\"\",'Step 2) Calculate'!B1613,\"Zzzzz - delete row\")","v":"Zzzzz - delete row"},{"$f":"IF('Step 2) Calculate'!E1613<>\"\",'Step 2) Calculate'!G1613,\"\")","v":""},{"$f":"IF(L1609<>\"\",'Step 2) Calculate'!F1613,\"\")","v":""},{"$f":"IF(L1609<>\"\",'Step 2) Calculate'!H1613,\"\")","v":""},{"$f":"IF(L1609<>\"\",'Step 2) Calculate'!C1613,\"\")","v":""}]
[null,null,null,null,null,null,null,null,null,null,{"$f":"IF(L1610<>\"\",'Step 2) Calculate'!B1614,\"Zzzzz - delete row\")","v":"Zzzzz - delete row"},{"$f":"IF('Step 2) Calculate'!E1614<>\"\",'Step 2) Calculate'!G1614,\"\")","v":""},{"$f":"IF(L1610<>\"\",'Step 2) Calculate'!F1614,\"\")","v":""},{"$f":"IF(L1610<>\"\",'Step 2) Calculate'!H1614,\"\")","v":""},{"$f":"IF(L1610<>\"\",'Step 2) Calculate'!C1614,\"\")","v":""}]
[null,null,null,null,null,null,null,null,null,null,{"$f":"IF(L1611<>\"\",'Step 2) Calculate'!B1615,\"Zzzzz - delete row\")","v":"Zzzzz - delete row"},{"$f":"IF('Step 2) Calculate'!E1615<>\"\",'Step 2) Calculate'!G1615,\"\")","v":""},{"$f":"IF(L1611<>\"\",'Step 2) Calculate'!F1615,\"\")","v":""},{"$f":"IF(L1611<>\"\",'Step 2) Calculate'!H1615,\"\")","v":""},{"$f":"IF(L1611<>\"\",'Step 2) Calculate'!C1615,\"\")","v":""}]
[null,null,null,null,null,null,null,null,null,null,{"$f":"IF(L1612<>\"\",'Step 2) Calculate'!B1616,\"Zzzzz - delete row\")","v":"Zzzzz - delete row"},{"$f":"IF('Step 2) Calculate'!E1616<>\"\",'Step 2) Calculate'!G1616,\"\")","v":""},{"$f":"IF(L1612<>\"\",'Step 2) Calculate'!F1616,\"\")","v":""},{"$f":"IF(L1612<>\"\",'Step 2) Calculate'!H1616,\"\")","v":""},{"$f":"IF(L1612<>\"\",'Step 2) Calculate'!C1616,\"\")","v":""}]
[null,null,null,null,null,null,null,null,null,null,{"$f":"IF(L1613<>\"\",'Step 2) Calculate'!B1617,\"Zzzzz - delete row\")","v":"Zzzzz - delete row"},{"$f":"IF('Step 2) Calculate'!E1617<>\"\",'Step 2) Calculate'!G1617,\"\")","v":""},{"$f":"IF(L1613<>\"\",'Step 2) Calculate'!F1617,\"\")","v":""},{"$f":"IF(L1613<>\"\",'Step 2) Calculate'!H1617,\"\")","v":""},{"$f":"IF(L1613<>\"\",'Step 2) Calculate'!C1617,\"\")","v":""}]
[null,null,null,null,null,null,null,null,null,null,{"$f":"IF(L1614<>\"\",'Step 2) Calculate'!B1618,\"Zzzzz - delete row\")","v":"Zzzzz - delete row"},{"$f":"IF('Step 2) Calculate'!E1618<>\"\",'Step 2) Calculate'!G1618,\"\")","v":""},{"$f":"IF(L1614<>\"\",'Step 2) Calculate'!F1618,\"\")","v":""},{"$f":"IF(L1614<>\"\",'Step 2) Calculate'!H1618,\"\")","v":""},{"$f":"IF(L1614<>\"\",'Step 2) Calculate'!C1618,\"\")","v":""}]
[null,null,null,null,null,null,null,null,null,null,{"$f":"IF(L1615<>\"\",'Step 2) Calculate'!B1619,\"Zzzzz - delete row\")","v":"Zzzzz - delete row"},{"$f":"IF('Step 2) Calculate'!E1619<>\"\",'Step 2) Calculate'!G1619,\"\")","v":""},{"$f":"IF(L1615<>\"\",'Step 2) Calculate'!F1619,\"\")","v":""},{"$f":"IF(L1615<>\"\",'Step 2) Calculate'!H1619,\"\")","v":""},{"$f":"IF(L1615<>\"\",'Step 2) Calculate'!C1619,\"\")","v":""}]
[null,null,null,null,null,null,null,null,null,null,{"$f":"IF(L1616<>\"\",'Step 2) Calculate'!B1620,\"Zzzzz - delete row\")","v":"Zzzzz - delete row"},{"$f":"IF('Step 2) Calculate'!E1620<>\"\",'Step 2) Calculate'!G1620,\"\")","v":""},{"$f":"IF(L1616<>\"\",'Step 2) Calculate'!F1620,\"\")","v":""},{"$f":"IF(L1616<>\"\",'Step 2) Calculate'!H1620,\"\")","v":""},{"$f":"IF(L1616<>\"\",'Step 2) Calculate'!C1620,\"\")","v":""}]
[null,null,null,null,null,null,null,null,null,null,{"$f":"IF(L1617<>\"\",'Step 2) Calculate'!B1621,\"Zzzzz - delete row\")","v":"Zzzzz - delete row"},{"$f":"IF('Step 2) Calculate'!E1621<>\"\",'Step 2) Calculate'!G1621,\"\")","v":""},{"$f":"IF(L1617<>\"\",'Step 2) Calculate'!F1621,\"\")","v":""},{"$f":"IF(L1617<>\"\",'Step 2) Calculate'!H1621,\"\")","v":""},{"$f":"IF(L1617<>\"\",'Step 2) Calculate'!C1621,\"\")","v":""}]
[null,null,null,null,null,null,null,null,null,null,{"$f":"IF(L1618<>\"\",'Step 2) Calculate'!B1622,\"Zzzzz - delete row\")","v":"Zzzzz - delete row"},{"$f":"IF('Step 2) Calculate'!E1622<>\"\",'Step 2) Calculate'!G1622,\"\")","v":""},{"$f":"IF(L1618<>\"\",'Step 2) Calculate'!F1622,\"\")","v":""},{"$f":"IF(L1618<>\"\",'Step 2) Calculate'!H1622,\"\")","v":""},{"$f":"IF(L1618<>\"\",'Step 2) Calculate'!C1622,\"\")","v":""}]
[null,null,null,null,null,null,null,null,null,null,{"$f":"IF(L1619<>\"\",'Step 2) Calculate'!B1623,\"Zzzzz - delete row\")","v":"Zzzzz - delete row"},{"$f":"IF('Step 2) Calculate'!E1623<>\"\",'Step 2) Calculate'!G1623,\"\")","v":""},{"$f":"IF(L1619<>\"\",'Step 2) Calculate'!F1623,\"\")","v":""},{"$f":"IF(L1619<>\"\",'Step 2) Calculate'!H1623,\"\")","v":""},{"$f":"IF(L1619<>\"\",'Step 2) Calculate'!C1623,\"\")","v":""}]
[null,null,null,null,null,null,null,null,null,null,{"$f":"IF(L1620<>\"\",'Step 2) Calculate'!B1624,\"Zzzzz - delete row\")","v":"Zzzzz - delete row"},{"$f":"IF('Step 2) Calculate'!E1624<>\"\",'Step 2) Calculate'!G1624,\"\")","v":""},{"$f":"IF(L1620<>\"\",'Step 2) Calculate'!F1624,\"\")","v":""},{"$f":"IF(L1620<>\"\",'Step 2) Calculate'!H1624,\"\")","v":""},{"$f":"IF(L1620<>\"\",'Step 2) Calculate'!C1624,\"\")","v":""}]
[null,null,null,null,null,null,null,null,null,null,{"$f":"IF(L1621<>\"\",'Step 2) Calculate'!B1625,\"Zzzzz - delete row\")","v":"Zzzzz - delete row"},{"$f":"IF('Step 2) Calculate'!E1625<>\"\",'Step 2) Calculate'!G1625,\"\")","v":""},{"$f":"IF(L1621<>\"\",'Step 2) Calculate'!F1625,\"\")","v":""},{"$f":"IF(L1621<>\"\",'Step 2) Calculate'!H1625,\"\")","v":""},{"$f":"IF(L1621<>\"\",'Step 2) Calculate'!C1625,\"\")","v":""}]
[null,null,null,null,null,null,null,null,null,null,{"$f":"IF(L1622<>\"\",'Step 2) Calculate'!B1626,\"Zzzzz - delete row\")","v":"Zzzzz - delete row"},{"$f":"IF('Step 2) Calculate'!E1626<>\"\",'Step 2) Calculate'!G1626,\"\")","v":""},{"$f":"IF(L1622<>\"\",'Step 2) Calculate'!F1626,\"\")","v":""},{"$f":"IF(L1622<>\"\",'Step 2) Calculate'!H1626,\"\")","v":""},{"$f":"IF(L1622<>\"\",'Step 2) Calculate'!C1626,\"\")","v":""}]
[null,null,null,null,null,null,null,null,null,null,{"$f":"IF(L1623<>\"\",'Step 2) Calculate'!B1627,\"Zzzzz - delete row\")","v":"Zzzzz - delete row"},{"$f":"IF('Step 2) Calculate'!E1627<>\"\",'Step 2) Calculate'!G1627,\"\")","v":""},{"$f":"IF(L1623<>\"\",'Step 2) Calculate'!F1627,\"\")","v":""},{"$f":"IF(L1623<>\"\",'Step 2) Calculate'!H1627,\"\")","v":""},{"$f":"IF(L1623<>\"\",'Step 2) Calculate'!C1627,\"\")","v":""}]
[null,null,null,null,null,null,null,null,null,null,{"$f":"IF(L1624<>\"\",'Step 2) Calculate'!B1628,\"Zzzzz - delete row\")","v":"Zzzzz - delete row"},{"$f":"IF('Step 2) Calculate'!E1628<>\"\",'Step 2) Calculate'!G1628,\"\")","v":""},{"$f":"IF(L1624<>\"\",'Step 2) Calculate'!F1628,\"\")","v":""},{"$f":"IF(L1624<>\"\",'Step 2) Calculate'!H1628,\"\")","v":""},{"$f":"IF(L1624<>\"\",'Step 2) Calculate'!C1628,\"\")","v":""}]
[null,null,null,null,null,null,null,null,null,null,{"$f":"IF(L1625<>\"\",'Step 2) Calculate'!B1629,\"Zzzzz - delete row\")","v":"Zzzzz - delete row"},{"$f":"IF('Step 2) Calculate'!E1629<>\"\",'Step 2) Calculate'!G1629,\"\")","v":""},{"$f":"IF(L1625<>\"\",'Step 2) Calculate'!F1629,\"\")","v":""},{"$f":"IF(L1625<>\"\",'Step 2) Calculate'!H1629,\"\")","v":""},{"$f":"IF(L1625<>\"\",'Step 2) Calculate'!C1629,\"\")","v":""}]
[null,null,null,null,null,null,null,null,null,null,{"$f":"IF(L1626<>\"\",'Step 2) Calculate'!B1630,\"Zzzzz - delete row\")","v":"Zzzzz - delete row"},{"$f":"IF('Step 2) Calculate'!E1630<>\"\",'Step 2) Calculate'!G1630,\"\")","v":""},{"$f":"IF(L1626<>\"\",'Step 2) Calculate'!F1630,\"\")","v":""},{"$f":"IF(L1626<>\"\",'Step 2) Calculate'!H1630,\"\")","v":""},{"$f":"IF(L1626<>\"\",'Step 2) Calculate'!C1630,\"\")","v":""}]
[null,null,null,null,null,null,null,null,null,null,{"$f":"IF(L1627<>\"\",'Step 2) Calculate'!B1631,\"Zzzzz - delete row\")","v":"Zzzzz - delete row"},{"$f":"IF('Step 2) Calculate'!E1631<>\"\",'Step 2) Calculate'!G1631,\"\")","v":""},{"$f":"IF(L1627<>\"\",'Step 2) Calculate'!F1631,\"\")","v":""},{"$f":"IF(L1627<>\"\",'Step 2) Calculate'!H1631,\"\")","v":""},{"$f":"IF(L1627<>\"\",'Step 2) Calculate'!C1631,\"\")","v":""}]
[null,null,null,null,null,null,null,null,null,null,{"$f":"IF(L1628<>\"\",'Step 2) Calculate'!B1632,\"Zzzzz - delete row\")","v":"Zzzzz - delete row"},{"$f":"IF('Step 2) Calculate'!E1632<>\"\",'Step 2) Calculate'!G1632,\"\")","v":""},{"$f":"IF(L1628<>\"\",'Step 2) Calculate'!F1632,\"\")","v":""},{"$f":"IF(L1628<>\"\",'Step 2) Calculate'!H1632,\"\")","v":""},{"$f":"IF(L1628<>\"\",'Step 2) Calculate'!C1632,\"\")","v":""}]
[null,null,null,null,null,null,null,null,null,null,{"$f":"IF(L1629<>\"\",'Step 2) Calculate'!B1633,\"Zzzzz - delete row\")","v":"Zzzzz - delete row"},{"$f":"IF('Step 2) Calculate'!E1633<>\"\",'Step 2) Calculate'!G1633,\"\")","v":""},{"$f":"IF(L1629<>\"\",'Step 2) Calculate'!F1633,\"\")","v":""},{"$f":"IF(L1629<>\"\",'Step 2) Calculate'!H1633,\"\")","v":""},{"$f":"IF(L1629<>\"\",'Step 2) Calculate'!C1633,\"\")","v":""}]
[null,null,null,null,null,null,null,null,null,null,{"$f":"IF(L1630<>\"\",'Step 2) Calculate'!B1634,\"Zzzzz - delete row\")","v":"Zzzzz - delete row"},{"$f":"IF('Step 2) Calculate'!E1634<>\"\",'Step 2) Calculate'!G1634,\"\")","v":""},{"$f":"IF(L1630<>\"\",'Step 2) Calculate'!F1634,\"\")","v":""},{"$f":"IF(L1630<>\"\",'Step 2) Calculate'!H1634,\"\")","v":""},{"$f":"IF(L1630<>\"\",'Step 2) Calculate'!C1634,\"\")","v":""}]
[null,null,null,null,null,null,null,null,null,null,{"$f":"IF(L1631<>\"\",'Step 2) Calculate'!B1635,\"Zzzzz - delete row\")","v":"Zzzzz - delete row"},{"$f":"IF('Step 2) Calculate'!E1635<>\"\",'Step 2) Calculate'!G1635,\"\")","v":""},{"$f":"IF(L1631<>\"\",'Step 2) Calculate'!F1635,\"\")","v":""},{"$f":"IF(L1631<>\"\",'Step 2) Calculate'!H1635,\"\")","v":""},{"$f":"IF(L1631<>\"\",'Step 2) Calculate'!C1635,\"\")","v":""}]
[null,null,null,null,null,null,null,null,null,null,{"$f":"IF(L1632<>\"\",'Step 2) Calculate'!B1636,\"Zzzzz - delete row\")","v":"Zzzzz - delete row"},{"$f":"IF('Step 2) Calculate'!E1636<>\"\",'Step 2) Calculate'!G1636,\"\")","v":""},{"$f":"IF(L1632<>\"\",'Step 2) Calculate'!F1636,\"\")","v":""},{"$f":"IF(L1632<>\"\",'Step 2) Calculate'!H1636,\"\")","v":""},{"$f":"IF(L1632<>\"\",'Step 2) Calculate'!C1636,\"\")","v":""}]
[null,null,null,null,null,null,null,null,null,null,{"$f":"IF(L1633<>\"\",'Step 2) Calculate'!B1637,\"Zzzzz - delete row\")","v":"Zzzzz - delete row"},{"$f":"IF('Step 2) Calculate'!E1637<>\"\",'Step 2) Calculate'!G1637,\"\")","v":""},{"$f":"IF(L1633<>\"\",'Step 2) Calculate'!F1637,\"\")","v":""},{"$f":"IF(L1633<>\"\",'Step 2) Calculate'!H1637,\"\")","v":""},{"$f":"IF(L1633<>\"\",'Step 2) Calculate'!C1637,\"\")","v":""}]
[null,null,null,null,null,null,null,null,null,null,{"$f":"IF(L1634<>\"\",'Step 2) Calculate'!B1638,\"Zzzzz - delete row\")","v":"Zzzzz - delete row"},{"$f":"IF('Step 2) Calculate'!E1638<>\"\",'Step 2) Calculate'!G1638,\"\")","v":""},{"$f":"IF(L1634<>\"\",'Step 2) Calculate'!F1638,\"\")","v":""},{"$f":"IF(L1634<>\"\",'Step 2) Calculate'!H1638,\"\")","v":""},{"$f":"IF(L1634<>\"\",'Step 2) Calculate'!C1638,\"\")","v":""}]
[null,null,null,null,null,null,null,null,null,null,{"$f":"IF(L1635<>\"\",'Step 2) Calculate'!B1639,\"Zzzzz - delete row\")","v":"Zzzzz - delete row"},{"$f":"IF('Step 2) Calculate'!E1639<>\"\",'Step 2) Calculate'!G1639,\"\")","v":""},{"$f":"IF(L1635<>\"\",'Step 2) Calculate'!F1639,\"\")","v":""},{"$f":"IF(L1635<>\"\",'Step 2) Calculate'!H1639,\"\")","v":""},{"$f":"IF(L1635<>\"\",'Step 2) Calculate'!C1639,\"\")","v":""}]
[null,null,null,null,null,null,null,null,null,null,{"$f":"IF(L1636<>\"\",'Step 2) Calculate'!B1640,\"Zzzzz - delete row\")","v":"Zzzzz - delete row"},{"$f":"IF('Step 2) Calculate'!E1640<>\"\",'Step 2) Calculate'!G1640,\"\")","v":""},{"$f":"IF(L1636<>\"\",'Step 2) Calculate'!F1640,\"\")","v":""},{"$f":"IF(L1636<>\"\",'Step 2) Calculate'!H1640,\"\")","v":""},{"$f":"IF(L1636<>\"\",'Step 2) Calculate'!C1640,\"\")","v":""}]
[null,null,null,null,null,null,null,null,null,null,{"$f":"IF(L1637<>\"\",'Step 2) Calculate'!B1641,\"Zzzzz - delete row\")","v":"Zzzzz - delete row"},{"$f":"IF('Step 2) Calculate'!E1641<>\"\",'Step 2) Calculate'!G1641,\"\")","v":""},{"$f":"IF(L1637<>\"\",'Step 2) Calculate'!F1641,\"\")","v":""},{"$f":"IF(L1637<>\"\",'Step 2) Calculate'!H1641,\"\")","v":""},{"$f":"IF(L1637<>\"\",'Step 2) Calculate'!C1641,\"\")","v":""}]
[null,null,null,null,null,null,null,null,null,null,{"$f":"IF(L1638<>\"\",'Step 2) Calculate'!B1642,\"Zzzzz - delete row\")","v":"Zzzzz - delete row"},{"$f":"IF('Step 2) Calculate'!E1642<>\"\",'Step 2) Calculate'!G1642,\"\")","v":""},{"$f":"IF(L1638<>\"\",'Step 2) Calculate'!F1642,\"\")","v":""},{"$f":"IF(L1638<>\"\",'Step 2) Calculate'!H1642,\"\")","v":""},{"$f":"IF(L1638<>\"\",'Step 2) Calculate'!C1642,\"\")","v":""}]
[null,null,null,null,null,null,null,null,null,null,{"$f":"IF(L1639<>\"\",'Step 2) Calculate'!B1643,\"Zzzzz - delete row\")","v":"Zzzzz - delete row"},{"$f":"IF('Step 2) Calculate'!E1643<>\"\",'Step 2) Calculate'!G1643,\"\")","v":""},{"$f":"IF(L1639<>\"\",'Step 2) Calculate'!F1643,\"\")","v":""},{"$f":"IF(L1639<>\"\",'Step 2) Calculate'!H1643,\"\")","v":""},{"$f":"IF(L1639<>\"\",'Step 2) Calculate'!C1643,\"\")","v":""}]
[null,null,null,null,null,null,null,null,null,null,{"$f":"IF(L1640<>\"\",'Step 2) Calculate'!B1644,\"Zzzzz - delete row\")","v":"Zzzzz - delete row"},{"$f":"IF('Step 2) Calculate'!E1644<>\"\",'Step 2) Calculate'!G1644,\"\")","v":""},{"$f":"IF(L1640<>\"\",'Step 2) Calculate'!F1644,\"\")","v":""},{"$f":"IF(L1640<>\"\",'Step 2) Calculate'!H1644,\"\")","v":""},{"$f":"IF(L1640<>\"\",'Step 2) Calculate'!C1644,\"\")","v":""}]
[null,null,null,null,null,null,null,null,null,null,{"$f":"IF(L1641<>\"\",'Step 2) Calculate'!B1645,\"Zzzzz - delete row\")","v":"Zzzzz - delete row"},{"$f":"IF('Step 2) Calculate'!E1645<>\"\",'Step 2) Calculate'!G1645,\"\")","v":""},{"$f":"IF(L1641<>\"\",'Step 2) Calculate'!F1645,\"\")","v":""},{"$f":"IF(L1641<>\"\",'Step 2) Calculate'!H1645,\"\")","v":""},{"$f":"IF(L1641<>\"\",'Step 2) Calculate'!C1645,\"\")","v":""}]
[null,null,null,null,null,null,null,null,null,null,{"$f":"IF(L1642<>\"\",'Step 2) Calculate'!B1646,\"Zzzzz - delete row\")","v":"Zzzzz - delete row"},{"$f":"IF('Step 2) Calculate'!E1646<>\"\",'Step 2) Calculate'!G1646,\"\")","v":""},{"$f":"IF(L1642<>\"\",'Step 2) Calculate'!F1646,\"\")","v":""},{"$f":"IF(L1642<>\"\",'Step 2) Calculate'!H1646,\"\")","v":""},{"$f":"IF(L1642<>\"\",'Step 2) Calculate'!C1646,\"\")","v":""}]
[null,null,null,null,null,null,null,null,null,null,{"$f":"IF(L1643<>\"\",'Step 2) Calculate'!B1647,\"Zzzzz - delete row\")","v":"Zzzzz - delete row"},{"$f":"IF('Step 2) Calculate'!E1647<>\"\",'Step 2) Calculate'!G1647,\"\")","v":""},{"$f":"IF(L1643<>\"\",'Step 2) Calculate'!F1647,\"\")","v":""},{"$f":"IF(L1643<>\"\",'Step 2) Calculate'!H1647,\"\")","v":""},{"$f":"IF(L1643<>\"\",'Step 2) Calculate'!C1647,\"\")","v":""}]
[null,null,null,null,null,null,null,null,null,null,{"$f":"IF(L1644<>\"\",'Step 2) Calculate'!B1648,\"Zzzzz - delete row\")","v":"Zzzzz - delete row"},{"$f":"IF('Step 2) Calculate'!E1648<>\"\",'Step 2) Calculate'!G1648,\"\")","v":""},{"$f":"IF(L1644<>\"\",'Step 2) Calculate'!F1648,\"\")","v":""},{"$f":"IF(L1644<>\"\",'Step 2) Calculate'!H1648,\"\")","v":""},{"$f":"IF(L1644<>\"\",'Step 2) Calculate'!C1648,\"\")","v":""}]
[null,null,null,null,null,null,null,null,null,null,{"$f":"IF(L1645<>\"\",'Step 2) Calculate'!B1649,\"Zzzzz - delete row\")","v":"Zzzzz - delete row"},{"$f":"IF('Step 2) Calculate'!E1649<>\"\",'Step 2) Calculate'!G1649,\"\")","v":""},{"$f":"IF(L1645<>\"\",'Step 2) Calculate'!F1649,\"\")","v":""},{"$f":"IF(L1645<>\"\",'Step 2) Calculate'!H1649,\"\")","v":""},{"$f":"IF(L1645<>\"\",'Step 2) Calculate'!C1649,\"\")","v":""}]
[null,null,null,null,null,null,null,null,null,null,{"$f":"IF(L1646<>\"\",'Step 2) Calculate'!B1650,\"Zzzzz - delete row\")","v":"Zzzzz - delete row"},{"$f":"IF('Step 2) Calculate'!E1650<>\"\",'Step 2) Calculate'!G1650,\"\")","v":""},{"$f":"IF(L1646<>\"\",'Step 2) Calculate'!F1650,\"\")","v":""},{"$f":"IF(L1646<>\"\",'Step 2) Calculate'!H1650,\"\")","v":""},{"$f":"IF(L1646<>\"\",'Step 2) Calculate'!C1650,\"\")","v":""}]
[null,null,null,null,null,null,null,null,null,null,{"$f":"IF(L1647<>\"\",'Step 2) Calculate'!B1651,\"Zzzzz - delete row\")","v":"Zzzzz - delete row"},{"$f":"IF('Step 2) Calculate'!E1651<>\"\",'Step 2) Calculate'!G1651,\"\")","v":""},{"$f":"IF(L1647<>\"\",'Step 2) Calculate'!F1651,\"\")","v":""},{"$f":"IF(L1647<>\"\",'Step 2) Calculate'!H1651,\"\")","v":""},{"$f":"IF(L1647<>\"\",'Step 2) Calculate'!C1651,\"\")","v":""}]
[null,null,null,null,null,null,null,null,null,null,{"$f":"IF(L1648<>\"\",'Step 2) Calculate'!B1652,\"Zzzzz - delete row\")","v":"Zzzzz - delete row"},{"$f":"IF('Step 2) Calculate'!E1652<>\"\",'Step 2) Calculate'!G1652,\"\")","v":""},{"$f":"IF(L1648<>\"\",'Step 2) Calculate'!F1652,\"\")","v":""},{"$f":"IF(L1648<>\"\",'Step 2) Calculate'!H1652,\"\")","v":""},{"$f":"IF(L1648<>\"\",'Step 2) Calculate'!C1652,\"\")","v":""}]
[null,null,null,null,null,null,null,null,null,null,{"$f":"IF(L1649<>\"\",'Step 2) Calculate'!B1653,\"Zzzzz - delete row\")","v":"Zzzzz - delete row"},{"$f":"IF('Step 2) Calculate'!E1653<>\"\",'Step 2) Calculate'!G1653,\"\")","v":""},{"$f":"IF(L1649<>\"\",'Step 2) Calculate'!F1653,\"\")","v":""},{"$f":"IF(L1649<>\"\",'Step 2) Calculate'!H1653,\"\")","v":""},{"$f":"IF(L1649<>\"\",'Step 2) Calculate'!C1653,\"\")","v":""}]
[null,null,null,null,null,null,null,null,null,null,{"$f":"IF(L1650<>\"\",'Step 2) Calculate'!B1654,\"Zzzzz - delete row\")","v":"Zzzzz - delete row"},{"$f":"IF('Step 2) Calculate'!E1654<>\"\",'Step 2) Calculate'!G1654,\"\")","v":""},{"$f":"IF(L1650<>\"\",'Step 2) Calculate'!F1654,\"\")","v":""},{"$f":"IF(L1650<>\"\",'Step 2) Calculate'!H1654,\"\")","v":""},{"$f":"IF(L1650<>\"\",'Step 2) Calculate'!C1654,\"\")","v":""}]
[null,null,null,null,null,null,null,null,null,null,{"$f":"IF(L1651<>\"\",'Step 2) Calculate'!B1655,\"Zzzzz - delete row\")","v":"Zzzzz - delete row"},{"$f":"IF('Step 2) Calculate'!E1655<>\"\",'Step 2) Calculate'!G1655,\"\")","v":""},{"$f":"IF(L1651<>\"\",'Step 2) Calculate'!F1655,\"\")","v":""},{"$f":"IF(L1651<>\"\",'Step 2) Calculate'!H1655,\"\")","v":""},{"$f":"IF(L1651<>\"\",'Step 2) Calculate'!C1655,\"\")","v":""}]
[null,null,null,null,null,null,null,null,null,null,{"$f":"IF(L1652<>\"\",'Step 2) Calculate'!B1656,\"Zzzzz - delete row\")","v":"Zzzzz - delete row"},{"$f":"IF('Step 2) Calculate'!E1656<>\"\",'Step 2) Calculate'!G1656,\"\")","v":""},{"$f":"IF(L1652<>\"\",'Step 2) Calculate'!F1656,\"\")","v":""},{"$f":"IF(L1652<>\"\",'Step 2) Calculate'!H1656,\"\")","v":""},{"$f":"IF(L1652<>\"\",'Step 2) Calculate'!C1656,\"\")","v":""}]
[null,null,null,null,null,null,null,null,null,null,{"$f":"IF(L1653<>\"\",'Step 2) Calculate'!B1657,\"Zzzzz - delete row\")","v":"Zzzzz - delete row"},{"$f":"IF('Step 2) Calculate'!E1657<>\"\",'Step 2) Calculate'!G1657,\"\")","v":""},{"$f":"IF(L1653<>\"\",'Step 2) Calculate'!F1657,\"\")","v":""},{"$f":"IF(L1653<>\"\",'Step 2) Calculate'!H1657,\"\")","v":""},{"$f":"IF(L1653<>\"\",'Step 2) Calculate'!C1657,\"\")","v":""}]
[null,null,null,null,null,null,null,null,null,null,{"$f":"IF(L1654<>\"\",'Step 2) Calculate'!B1658,\"Zzzzz - delete row\")","v":"Zzzzz - delete row"},{"$f":"IF('Step 2) Calculate'!E1658<>\"\",'Step 2) Calculate'!G1658,\"\")","v":""},{"$f":"IF(L1654<>\"\",'Step 2) Calculate'!F1658,\"\")","v":""},{"$f":"IF(L1654<>\"\",'Step 2) Calculate'!H1658,\"\")","v":""},{"$f":"IF(L1654<>\"\",'Step 2) Calculate'!C1658,\"\")","v":""}]
[null,null,null,null,null,null,null,null,null,null,{"$f":"IF(L1655<>\"\",'Step 2) Calculate'!B1659,\"Zzzzz - delete row\")","v":"Zzzzz - delete row"},{"$f":"IF('Step 2) Calculate'!E1659<>\"\",'Step 2) Calculate'!G1659,\"\")","v":""},{"$f":"IF(L1655<>\"\",'Step 2) Calculate'!F1659,\"\")","v":""},{"$f":"IF(L1655<>\"\",'Step 2) Calculate'!H1659,\"\")","v":""},{"$f":"IF(L1655<>\"\",'Step 2) Calculate'!C1659,\"\")","v":""}]
[null,null,null,null,null,null,null,null,null,null,{"$f":"IF(L1656<>\"\",'Step 2) Calculate'!B1660,\"Zzzzz - delete row\")","v":"Zzzzz - delete row"},{"$f":"IF('Step 2) Calculate'!E1660<>\"\",'Step 2) Calculate'!G1660,\"\")","v":""},{"$f":"IF(L1656<>\"\",'Step 2) Calculate'!F1660,\"\")","v":""},{"$f":"IF(L1656<>\"\",'Step 2) Calculate'!H1660,\"\")","v":""},{"$f":"IF(L1656<>\"\",'Step 2) Calculate'!C1660,\"\")","v":""}]
[null,null,null,null,null,null,null,null,null,null,{"$f":"IF(L1657<>\"\",'Step 2) Calculate'!B1661,\"Zzzzz - delete row\")","v":"Zzzzz - delete row"},{"$f":"IF('Step 2) Calculate'!E1661<>\"\",'Step 2) Calculate'!G1661,\"\")","v":""},{"$f":"IF(L1657<>\"\",'Step 2) Calculate'!F1661,\"\")","v":""},{"$f":"IF(L1657<>\"\",'Step 2) Calculate'!H1661,\"\")","v":""},{"$f":"IF(L1657<>\"\",'Step 2) Calculate'!C1661,\"\")","v":""}]
[null,null,null,null,null,null,null,null,null,null,{"$f":"IF(L1658<>\"\",'Step 2) Calculate'!B1662,\"Zzzzz - delete row\")","v":"Zzzzz - delete row"},{"$f":"IF('Step 2) Calculate'!E1662<>\"\",'Step 2) Calculate'!G1662,\"\")","v":""},{"$f":"IF(L1658<>\"\",'Step 2) Calculate'!F1662,\"\")","v":""},{"$f":"IF(L1658<>\"\",'Step 2) Calculate'!H1662,\"\")","v":""},{"$f":"IF(L1658<>\"\",'Step 2) Calculate'!C1662,\"\")","v":""}]
[null,null,null,null,null,null,null,null,null,null,{"$f":"IF(L1659<>\"\",'Step 2) Calculate'!B1663,\"Zzzzz - delete row\")","v":"Zzzzz - delete row"},{"$f":"IF('Step 2) Calculate'!E1663<>\"\",'Step 2) Calculate'!G1663,\"\")","v":""},{"$f":"IF(L1659<>\"\",'Step 2) Calculate'!F1663,\"\")","v":""},{"$f":"IF(L1659<>\"\",'Step 2) Calculate'!H1663,\"\")","v":""},{"$f":"IF(L1659<>\"\",'Step 2) Calculate'!C1663,\"\")","v":""}]
[null,null,null,null,null,null,null,null,null,null,{"$f":"IF(L1660<>\"\",'Step 2) Calculate'!B1664,\"Zzzzz - delete row\")","v":"Zzzzz - delete row"},{"$f":"IF('Step 2) Calculate'!E1664<>\"\",'Step 2) Calculate'!G1664,\"\")","v":""},{"$f":"IF(L1660<>\"\",'Step 2) Calculate'!F1664,\"\")","v":""},{"$f":"IF(L1660<>\"\",'Step 2) Calculate'!H1664,\"\")","v":""},{"$f":"IF(L1660<>\"\",'Step 2) Calculate'!C1664,\"\")","v":""}]
[null,null,null,null,null,null,null,null,null,null,{"$f":"IF(L1661<>\"\",'Step 2) Calculate'!B1665,\"Zzzzz - delete row\")","v":"Zzzzz - delete row"},{"$f":"IF('Step 2) Calculate'!E1665<>\"\",'Step 2) Calculate'!G1665,\"\")","v":""},{"$f":"IF(L1661<>\"\",'Step 2) Calculate'!F1665,\"\")","v":""},{"$f":"IF(L1661<>\"\",'Step 2) Calculate'!H1665,\"\")","v":""},{"$f":"IF(L1661<>\"\",'Step 2) Calculate'!C1665,\"\")","v":""}]
[null,null,null,null,null,null,null,null,null,null,{"$f":"IF(L1662<>\"\",'Step 2) Calculate'!B1666,\"Zzzzz - delete row\")","v":"Zzzzz - delete row"},{"$f":"IF('Step 2) Calculate'!E1666<>\"\",'Step 2) Calculate'!G1666,\"\")","v":""},{"$f":"IF(L1662<>\"\",'Step 2) Calculate'!F1666,\"\")","v":""},{"$f":"IF(L1662<>\"\",'Step 2) Calculate'!H1666,\"\")","v":""},{"$f":"IF(L1662<>\"\",'Step 2) Calculate'!C1666,\"\")","v":""}]
[null,null,null,null,null,null,null,null,null,null,{"$f":"IF(L1663<>\"\",'Step 2) Calculate'!B1667,\"Zzzzz - delete row\")","v":"Zzzzz - delete row"},{"$f":"IF('Step 2) Calculate'!E1667<>\"\",'Step 2) Calculate'!G1667,\"\")","v":""},{"$f":"IF(L1663<>\"\",'Step 2) Calculate'!F1667,\"\")","v":""},{"$f":"IF(L1663<>\"\",'Step 2) Calculate'!H1667,\"\")","v":""},{"$f":"IF(L1663<>\"\",'Step 2) Calculate'!C1667,\"\")","v":""}]
[null,null,null,null,null,null,null,null,null,null,{"$f":"IF(L1664<>\"\",'Step 2) Calculate'!B1668,\"Zzzzz - delete row\")","v":"Zzzzz - delete row"},{"$f":"IF('Step 2) Calculate'!E1668<>\"\",'Step 2) Calculate'!G1668,\"\")","v":""},{"$f":"IF(L1664<>\"\",'Step 2) Calculate'!F1668,\"\")","v":""},{"$f":"IF(L1664<>\"\",'Step 2) Calculate'!H1668,\"\")","v":""},{"$f":"IF(L1664<>\"\",'Step 2) Calculate'!C1668,\"\")","v":""}]
[null,null,null,null,null,null,null,null,null,null,{"$f":"IF(L1665<>\"\",'Step 2) Calculate'!B1669,\"Zzzzz - delete row\")","v":"Zzzzz - delete row"},{"$f":"IF('Step 2) Calculate'!E1669<>\"\",'Step 2) Calculate'!G1669,\"\")","v":""},{"$f":"IF(L1665<>\"\",'Step 2) Calculate'!F1669,\"\")","v":""},{"$f":"IF(L1665<>\"\",'Step 2) Calculate'!H1669,\"\")","v":""},{"$f":"IF(L1665<>\"\",'Step 2) Calculate'!C1669,\"\")","v":""}]
[null,null,null,null,null,null,null,null,null,null,{"$f":"IF(L1666<>\"\",'Step 2) Calculate'!B1670,\"Zzzzz - delete row\")","v":"Zzzzz - delete row"},{"$f":"IF('Step 2) Calculate'!E1670<>\"\",'Step 2) Calculate'!G1670,\"\")","v":""},{"$f":"IF(L1666<>\"\",'Step 2) Calculate'!F1670,\"\")","v":""},{"$f":"IF(L1666<>\"\",'Step 2) Calculate'!H1670,\"\")","v":""},{"$f":"IF(L1666<>\"\",'Step 2) Calculate'!C1670,\"\")","v":""}]
[null,null,null,null,null,null,null,null,null,null,{"$f":"IF(L1667<>\"\",'Step 2) Calculate'!B1671,\"Zzzzz - delete row\")","v":"Zzzzz - delete row"},{"$f":"IF('Step 2) Calculate'!E1671<>\"\",'Step 2) Calculate'!G1671,\"\")","v":""},{"$f":"IF(L1667<>\"\",'Step 2) Calculate'!F1671,\"\")","v":""},{"$f":"IF(L1667<>\"\",'Step 2) Calculate'!H1671,\"\")","v":""},{"$f":"IF(L1667<>\"\",'Step 2) Calculate'!C1671,\"\")","v":""}]
[null,null,null,null,null,null,null,null,null,null,{"$f":"IF(L1668<>\"\",'Step 2) Calculate'!B1672,\"Zzzzz - delete row\")","v":"Zzzzz - delete row"},{"$f":"IF('Step 2) Calculate'!E1672<>\"\",'Step 2) Calculate'!G1672,\"\")","v":""},{"$f":"IF(L1668<>\"\",'Step 2) Calculate'!F1672,\"\")","v":""},{"$f":"IF(L1668<>\"\",'Step 2) Calculate'!H1672,\"\")","v":""},{"$f":"IF(L1668<>\"\",'Step 2) Calculate'!C1672,\"\")","v":""}]
[null,null,null,null,null,null,null,null,null,null,{"$f":"IF(L1669<>\"\",'Step 2) Calculate'!B1673,\"Zzzzz - delete row\")","v":"Zzzzz - delete row"},{"$f":"IF('Step 2) Calculate'!E1673<>\"\",'Step 2) Calculate'!G1673,\"\")","v":""},{"$f":"IF(L1669<>\"\",'Step 2) Calculate'!F1673,\"\")","v":""},{"$f":"IF(L1669<>\"\",'Step 2) Calculate'!H1673,\"\")","v":""},{"$f":"IF(L1669<>\"\",'Step 2) Calculate'!C1673,\"\")","v":""}]
[null,null,null,null,null,null,null,null,null,null,{"$f":"IF(L1670<>\"\",'Step 2) Calculate'!B1674,\"Zzzzz - delete row\")","v":"Zzzzz - delete row"},{"$f":"IF('Step 2) Calculate'!E1674<>\"\",'Step 2) Calculate'!G1674,\"\")","v":""},{"$f":"IF(L1670<>\"\",'Step 2) Calculate'!F1674,\"\")","v":""},{"$f":"IF(L1670<>\"\",'Step 2) Calculate'!H1674,\"\")","v":""},{"$f":"IF(L1670<>\"\",'Step 2) Calculate'!C1674,\"\")","v":""}]
[null,null,null,null,null,null,null,null,null,null,{"$f":"IF(L1671<>\"\",'Step 2) Calculate'!B1675,\"Zzzzz - delete row\")","v":"Zzzzz - delete row"},{"$f":"IF('Step 2) Calculate'!E1675<>\"\",'Step 2) Calculate'!G1675,\"\")","v":""},{"$f":"IF(L1671<>\"\",'Step 2) Calculate'!F1675,\"\")","v":""},{"$f":"IF(L1671<>\"\",'Step 2) Calculate'!H1675,\"\")","v":""},{"$f":"IF(L1671<>\"\",'Step 2) Calculate'!C1675,\"\")","v":""}]
[null,null,null,null,null,null,null,null,null,null,{"$f":"IF(L1672<>\"\",'Step 2) Calculate'!B1676,\"Zzzzz - delete row\")","v":"Zzzzz - delete row"},{"$f":"IF('Step 2) Calculate'!E1676<>\"\",'Step 2) Calculate'!G1676,\"\")","v":""},{"$f":"IF(L1672<>\"\",'Step 2) Calculate'!F1676,\"\")","v":""},{"$f":"IF(L1672<>\"\",'Step 2) Calculate'!H1676,\"\")","v":""},{"$f":"IF(L1672<>\"\",'Step 2) Calculate'!C1676,\"\")","v":""}]
[null,null,null,null,null,null,null,null,null,null,{"$f":"IF(L1673<>\"\",'Step 2) Calculate'!B1677,\"Zzzzz - delete row\")","v":"Zzzzz - delete row"},{"$f":"IF('Step 2) Calculate'!E1677<>\"\",'Step 2) Calculate'!G1677,\"\")","v":""},{"$f":"IF(L1673<>\"\",'Step 2) Calculate'!F1677,\"\")","v":""},{"$f":"IF(L1673<>\"\",'Step 2) Calculate'!H1677,\"\")","v":""},{"$f":"IF(L1673<>\"\",'Step 2) Calculate'!C1677,\"\")","v":""}]
[null,null,null,null,null,null,null,null,null,null,{"$f":"IF(L1674<>\"\",'Step 2) Calculate'!B1678,\"Zzzzz - delete row\")","v":"Zzzzz - delete row"},{"$f":"IF('Step 2) Calculate'!E1678<>\"\",'Step 2) Calculate'!G1678,\"\")","v":""},{"$f":"IF(L1674<>\"\",'Step 2) Calculate'!F1678,\"\")","v":""},{"$f":"IF(L1674<>\"\",'Step 2) Calculate'!H1678,\"\")","v":""},{"$f":"IF(L1674<>\"\",'Step 2) Calculate'!C1678,\"\")","v":""}]
[null,null,null,null,null,null,null,null,null,null,{"$f":"IF(L1675<>\"\",'Step 2) Calculate'!B1679,\"Zzzzz - delete row\")","v":"Zzzzz - delete row"},{"$f":"IF('Step 2) Calculate'!E1679<>\"\",'Step 2) Calculate'!G1679,\"\")","v":""},{"$f":"IF(L1675<>\"\",'Step 2) Calculate'!F1679,\"\")","v":""},{"$f":"IF(L1675<>\"\",'Step 2) Calculate'!H1679,\"\")","v":""},{"$f":"IF(L1675<>\"\",'Step 2) Calculate'!C1679,\"\")","v":""}]
[null,null,null,null,null,null,null,null,null,null,{"$f":"IF(L1676<>\"\",'Step 2) Calculate'!B1680,\"Zzzzz - delete row\")","v":"Zzzzz - delete row"},{"$f":"IF('Step 2) Calculate'!E1680<>\"\",'Step 2) Calculate'!G1680,\"\")","v":""},{"$f":"IF(L1676<>\"\",'Step 2) Calculate'!F1680,\"\")","v":""},{"$f":"IF(L1676<>\"\",'Step 2) Calculate'!H1680,\"\")","v":""},{"$f":"IF(L1676<>\"\",'Step 2) Calculate'!C1680,\"\")","v":""}]
[null,null,null,null,null,null,null,null,null,null,{"$f":"IF(L1677<>\"\",'Step 2) Calculate'!B1681,\"Zzzzz - delete row\")","v":"Zzzzz - delete row"},{"$f":"IF('Step 2) Calculate'!E1681<>\"\",'Step 2) Calculate'!G1681,\"\")","v":""},{"$f":"IF(L1677<>\"\",'Step 2) Calculate'!F1681,\"\")","v":""},{"$f":"IF(L1677<>\"\",'Step 2) Calculate'!H1681,\"\")","v":""},{"$f":"IF(L1677<>\"\",'Step 2) Calculate'!C1681,\"\")","v":""}]
[null,null,null,null,null,null,null,null,null,null,{"$f":"IF(L1678<>\"\",'Step 2) Calculate'!B1682,\"Zzzzz - delete row\")","v":"Zzzzz - delete row"},{"$f":"IF('Step 2) Calculate'!E1682<>\"\",'Step 2) Calculate'!G1682,\"\")","v":""},{"$f":"IF(L1678<>\"\",'Step 2) Calculate'!F1682,\"\")","v":""},{"$f":"IF(L1678<>\"\",'Step 2) Calculate'!H1682,\"\")","v":""},{"$f":"IF(L1678<>\"\",'Step 2) Calculate'!C1682,\"\")","v":""}]
[null,null,null,null,null,null,null,null,null,null,{"$f":"IF(L1679<>\"\",'Step 2) Calculate'!B1683,\"Zzzzz - delete row\")","v":"Zzzzz - delete row"},{"$f":"IF('Step 2) Calculate'!E1683<>\"\",'Step 2) Calculate'!G1683,\"\")","v":""},{"$f":"IF(L1679<>\"\",'Step 2) Calculate'!F1683,\"\")","v":""},{"$f":"IF(L1679<>\"\",'Step 2) Calculate'!H1683,\"\")","v":""},{"$f":"IF(L1679<>\"\",'Step 2) Calculate'!C1683,\"\")","v":""}]
[null,null,null,null,null,null,null,null,null,null,{"$f":"IF(L1680<>\"\",'Step 2) Calculate'!B1684,\"Zzzzz - delete row\")","v":"Zzzzz - delete row"},{"$f":"IF('Step 2) Calculate'!E1684<>\"\",'Step 2) Calculate'!G1684,\"\")","v":""},{"$f":"IF(L1680<>\"\",'Step 2) Calculate'!F1684,\"\")","v":""},{"$f":"IF(L1680<>\"\",'Step 2) Calculate'!H1684,\"\")","v":""},{"$f":"IF(L1680<>\"\",'Step 2) Calculate'!C1684,\"\")","v":""}]
[null,null,null,null,null,null,null,null,null,null,{"$f":"IF(L1681<>\"\",'Step 2) Calculate'!B1685,\"Zzzzz - delete row\")","v":"Zzzzz - delete row"},{"$f":"IF('Step 2) Calculate'!E1685<>\"\",'Step 2) Calculate'!G1685,\"\")","v":""},{"$f":"IF(L1681<>\"\",'Step 2) Calculate'!F1685,\"\")","v":""},{"$f":"IF(L1681<>\"\",'Step 2) Calculate'!H1685,\"\")","v":""},{"$f":"IF(L1681<>\"\",'Step 2) Calculate'!C1685,\"\")","v":""}]
[null,null,null,null,null,null,null,null,null,null,{"$f":"IF(L1682<>\"\",'Step 2) Calculate'!B1686,\"Zzzzz - delete row\")","v":"Zzzzz - delete row"},{"$f":"IF('Step 2) Calculate'!E1686<>\"\",'Step 2) Calculate'!G1686,\"\")","v":""},{"$f":"IF(L1682<>\"\",'Step 2) Calculate'!F1686,\"\")","v":""},{"$f":"IF(L1682<>\"\",'Step 2) Calculate'!H1686,\"\")","v":""},{"$f":"IF(L1682<>\"\",'Step 2) Calculate'!C1686,\"\")","v":""}]
[null,null,null,null,null,null,null,null,null,null,{"$f":"IF(L1683<>\"\",'Step 2) Calculate'!B1687,\"Zzzzz - delete row\")","v":"Zzzzz - delete row"},{"$f":"IF('Step 2) Calculate'!E1687<>\"\",'Step 2) Calculate'!G1687,\"\")","v":""},{"$f":"IF(L1683<>\"\",'Step 2) Calculate'!F1687,\"\")","v":""},{"$f":"IF(L1683<>\"\",'Step 2) Calculate'!H1687,\"\")","v":""},{"$f":"IF(L1683<>\"\",'Step 2) Calculate'!C1687,\"\")","v":""}]
[null,null,null,null,null,null,null,null,null,null,{"$f":"IF(L1684<>\"\",'Step 2) Calculate'!B1688,\"Zzzzz - delete row\")","v":"Zzzzz - delete row"},{"$f":"IF('Step 2) Calculate'!E1688<>\"\",'Step 2) Calculate'!G1688,\"\")","v":""},{"$f":"IF(L1684<>\"\",'Step 2) Calculate'!F1688,\"\")","v":""},{"$f":"IF(L1684<>\"\",'Step 2) Calculate'!H1688,\"\")","v":""},{"$f":"IF(L1684<>\"\",'Step 2) Calculate'!C1688,\"\")","v":""}]
[null,null,null,null,null,null,null,null,null,null,{"$f":"IF(L1685<>\"\",'Step 2) Calculate'!B1689,\"Zzzzz - delete row\")","v":"Zzzzz - delete row"},{"$f":"IF('Step 2) Calculate'!E1689<>\"\",'Step 2) Calculate'!G1689,\"\")","v":""},{"$f":"IF(L1685<>\"\",'Step 2) Calculate'!F1689,\"\")","v":""},{"$f":"IF(L1685<>\"\",'Step 2) Calculate'!H1689,\"\")","v":""},{"$f":"IF(L1685<>\"\",'Step 2) Calculate'!C1689,\"\")","v":""}]
[null,null,null,null,null,null,null,null,null,null,{"$f":"IF(L1686<>\"\",'Step 2) Calculate'!B1690,\"Zzzzz - delete row\")","v":"Zzzzz - delete row"},{"$f":"IF('Step 2) Calculate'!E1690<>\"\",'Step 2) Calculate'!G1690,\"\")","v":""},{"$f":"IF(L1686<>\"\",'Step 2) Calculate'!F1690,\"\")","v":""},{"$f":"IF(L1686<>\"\",'Step 2) Calculate'!H1690,\"\")","v":""},{"$f":"IF(L1686<>\"\",'Step 2) Calculate'!C1690,\"\")","v":""}]
[null,null,null,null,null,null,null,null,null,null,{"$f":"IF(L1687<>\"\",'Step 2) Calculate'!B1691,\"Zzzzz - delete row\")","v":"Zzzzz - delete row"},{"$f":"IF('Step 2) Calculate'!E1691<>\"\",'Step 2) Calculate'!G1691,\"\")","v":""},{"$f":"IF(L1687<>\"\",'Step 2) Calculate'!F1691,\"\")","v":""},{"$f":"IF(L1687<>\"\",'Step 2) Calculate'!H1691,\"\")","v":""},{"$f":"IF(L1687<>\"\",'Step 2) Calculate'!C1691,\"\")","v":""}]
[null,null,null,null,null,null,null,null,null,null,{"$f":"IF(L1688<>\"\",'Step 2) Calculate'!B1692,\"Zzzzz - delete row\")","v":"Zzzzz - delete row"},{"$f":"IF('Step 2) Calculate'!E1692<>\"\",'Step 2) Calculate'!G1692,\"\")","v":""},{"$f":"IF(L1688<>\"\",'Step 2) Calculate'!F1692,\"\")","v":""},{"$f":"IF(L1688<>\"\",'Step 2) Calculate'!H1692,\"\")","v":""},{"$f":"IF(L1688<>\"\",'Step 2) Calculate'!C1692,\"\")","v":""}]
[null,null,null,null,null,null,null,null,null,null,{"$f":"IF(L1689<>\"\",'Step 2) Calculate'!B1693,\"Zzzzz - delete row\")","v":"Zzzzz - delete row"},{"$f":"IF('Step 2) Calculate'!E1693<>\"\",'Step 2) Calculate'!G1693,\"\")","v":""},{"$f":"IF(L1689<>\"\",'Step 2) Calculate'!F1693,\"\")","v":""},{"$f":"IF(L1689<>\"\",'Step 2) Calculate'!H1693,\"\")","v":""},{"$f":"IF(L1689<>\"\",'Step 2) Calculate'!C1693,\"\")","v":""}]
[null,null,null,null,null,null,null,null,null,null,{"$f":"IF(L1690<>\"\",'Step 2) Calculate'!B1694,\"Zzzzz - delete row\")","v":"Zzzzz - delete row"},{"$f":"IF('Step 2) Calculate'!E1694<>\"\",'Step 2) Calculate'!G1694,\"\")","v":""},{"$f":"IF(L1690<>\"\",'Step 2) Calculate'!F1694,\"\")","v":""},{"$f":"IF(L1690<>\"\",'Step 2) Calculate'!H1694,\"\")","v":""},{"$f":"IF(L1690<>\"\",'Step 2) Calculate'!C1694,\"\")","v":""}]
[null,null,null,null,null,null,null,null,null,null,{"$f":"IF(L1691<>\"\",'Step 2) Calculate'!B1695,\"Zzzzz - delete row\")","v":"Zzzzz - delete row"},{"$f":"IF('Step 2) Calculate'!E1695<>\"\",'Step 2) Calculate'!G1695,\"\")","v":""},{"$f":"IF(L1691<>\"\",'Step 2) Calculate'!F1695,\"\")","v":""},{"$f":"IF(L1691<>\"\",'Step 2) Calculate'!H1695,\"\")","v":""},{"$f":"IF(L1691<>\"\",'Step 2) Calculate'!C1695,\"\")","v":""}]
[null,null,null,null,null,null,null,null,null,null,{"$f":"IF(L1692<>\"\",'Step 2) Calculate'!B1696,\"Zzzzz - delete row\")","v":"Zzzzz - delete row"},{"$f":"IF('Step 2) Calculate'!E1696<>\"\",'Step 2) Calculate'!G1696,\"\")","v":""},{"$f":"IF(L1692<>\"\",'Step 2) Calculate'!F1696,\"\")","v":""},{"$f":"IF(L1692<>\"\",'Step 2) Calculate'!H1696,\"\")","v":""},{"$f":"IF(L1692<>\"\",'Step 2) Calculate'!C1696,\"\")","v":""}]
[null,null,null,null,null,null,null,null,null,null,{"$f":"IF(L1693<>\"\",'Step 2) Calculate'!B1697,\"Zzzzz - delete row\")","v":"Zzzzz - delete row"},{"$f":"IF('Step 2) Calculate'!E1697<>\"\",'Step 2) Calculate'!G1697,\"\")","v":""},{"$f":"IF(L1693<>\"\",'Step 2) Calculate'!F1697,\"\")","v":""},{"$f":"IF(L1693<>\"\",'Step 2) Calculate'!H1697,\"\")","v":""},{"$f":"IF(L1693<>\"\",'Step 2) Calculate'!C1697,\"\")","v":""}]
[null,null,null,null,null,null,null,null,null,null,{"$f":"IF(L1694<>\"\",'Step 2) Calculate'!B1698,\"Zzzzz - delete row\")","v":"Zzzzz - delete row"},{"$f":"IF('Step 2) Calculate'!E1698<>\"\",'Step 2) Calculate'!G1698,\"\")","v":""},{"$f":"IF(L1694<>\"\",'Step 2) Calculate'!F1698,\"\")","v":""},{"$f":"IF(L1694<>\"\",'Step 2) Calculate'!H1698,\"\")","v":""},{"$f":"IF(L1694<>\"\",'Step 2) Calculate'!C1698,\"\")","v":""}]
[null,null,null,null,null,null,null,null,null,null,{"$f":"IF(L1695<>\"\",'Step 2) Calculate'!B1699,\"Zzzzz - delete row\")","v":"Zzzzz - delete row"},{"$f":"IF('Step 2) Calculate'!E1699<>\"\",'Step 2) Calculate'!G1699,\"\")","v":""},{"$f":"IF(L1695<>\"\",'Step 2) Calculate'!F1699,\"\")","v":""},{"$f":"IF(L1695<>\"\",'Step 2) Calculate'!H1699,\"\")","v":""},{"$f":"IF(L1695<>\"\",'Step 2) Calculate'!C1699,\"\")","v":""}]
[null,null,null,null,null,null,null,null,null,null,{"$f":"IF(L1696<>\"\",'Step 2) Calculate'!B1700,\"Zzzzz - delete row\")","v":"Zzzzz - delete row"},{"$f":"IF('Step 2) Calculate'!E1700<>\"\",'Step 2) Calculate'!G1700,\"\")","v":""},{"$f":"IF(L1696<>\"\",'Step 2) Calculate'!F1700,\"\")","v":""},{"$f":"IF(L1696<>\"\",'Step 2) Calculate'!H1700,\"\")","v":""},{"$f":"IF(L1696<>\"\",'Step 2) Calculate'!C1700,\"\")","v":""}]
[null,null,null,null,null,null,null,null,null,null,{"$f":"IF(L1697<>\"\",'Step 2) Calculate'!B1701,\"Zzzzz - delete row\")","v":"Zzzzz - delete row"},{"$f":"IF('Step 2) Calculate'!E1701<>\"\",'Step 2) Calculate'!G1701,\"\")","v":""},{"$f":"IF(L1697<>\"\",'Step 2) Calculate'!F1701,\"\")","v":""},{"$f":"IF(L1697<>\"\",'Step 2) Calculate'!H1701,\"\")","v":""},{"$f":"IF(L1697<>\"\",'Step 2) Calculate'!C1701,\"\")","v":""}]
[null,null,null,null,null,null,null,null,null,null,{"$f":"IF(L1698<>\"\",'Step 2) Calculate'!B1702,\"Zzzzz - delete row\")","v":"Zzzzz - delete row"},{"$f":"IF('Step 2) Calculate'!E1702<>\"\",'Step 2) Calculate'!G1702,\"\")","v":""},{"$f":"IF(L1698<>\"\",'Step 2) Calculate'!F1702,\"\")","v":""},{"$f":"IF(L1698<>\"\",'Step 2) Calculate'!H1702,\"\")","v":""},{"$f":"IF(L1698<>\"\",'Step 2) Calculate'!C1702,\"\")","v":""}]
[null,null,null,null,null,null,null,null,null,null,{"$f":"IF(L1699<>\"\",'Step 2) Calculate'!B1703,\"Zzzzz - delete row\")","v":"Zzzzz - delete row"},{"$f":"IF('Step 2) Calculate'!E1703<>\"\",'Step 2) Calculate'!G1703,\"\")","v":""},{"$f":"IF(L1699<>\"\",'Step 2) Calculate'!F1703,\"\")","v":""},{"$f":"IF(L1699<>\"\",'Step 2) Calculate'!H1703,\"\")","v":""},{"$f":"IF(L1699<>\"\",'Step 2) Calculate'!C1703,\"\")","v":""}]
[null,null,null,null,null,null,null,null,null,null,{"$f":"IF(L1700<>\"\",'Step 2) Calculate'!B1704,\"Zzzzz - delete row\")","v":"Zzzzz - delete row"},{"$f":"IF('Step 2) Calculate'!E1704<>\"\",'Step 2) Calculate'!G1704,\"\")","v":""},{"$f":"IF(L1700<>\"\",'Step 2) Calculate'!F1704,\"\")","v":""},{"$f":"IF(L1700<>\"\",'Step 2) Calculate'!H1704,\"\")","v":""},{"$f":"IF(L1700<>\"\",'Step 2) Calculate'!C1704,\"\")","v":""}]
[null,null,null,null,null,null,null,null,null,null,{"$f":"IF(L1701<>\"\",'Step 2) Calculate'!B1705,\"Zzzzz - delete row\")","v":"Zzzzz - delete row"},{"$f":"IF('Step 2) Calculate'!E1705<>\"\",'Step 2) Calculate'!G1705,\"\")","v":""},{"$f":"IF(L1701<>\"\",'Step 2) Calculate'!F1705,\"\")","v":""},{"$f":"IF(L1701<>\"\",'Step 2) Calculate'!H1705,\"\")","v":""},{"$f":"IF(L1701<>\"\",'Step 2) Calculate'!C1705,\"\")","v":""}]
[null,null,null,null,null,null,null,null,null,null,{"$f":"IF(L1702<>\"\",'Step 2) Calculate'!B1706,\"Zzzzz - delete row\")","v":"Zzzzz - delete row"},{"$f":"IF('Step 2) Calculate'!E1706<>\"\",'Step 2) Calculate'!G1706,\"\")","v":""},{"$f":"IF(L1702<>\"\",'Step 2) Calculate'!F1706,\"\")","v":""},{"$f":"IF(L1702<>\"\",'Step 2) Calculate'!H1706,\"\")","v":""},{"$f":"IF(L1702<>\"\",'Step 2) Calculate'!C1706,\"\")","v":""}]
[null,null,null,null,null,null,null,null,null,null,{"$f":"IF(L1703<>\"\",'Step 2) Calculate'!B1707,\"Zzzzz - delete row\")","v":"Zzzzz - delete row"},{"$f":"IF('Step 2) Calculate'!E1707<>\"\",'Step 2) Calculate'!G1707,\"\")","v":""},{"$f":"IF(L1703<>\"\",'Step 2) Calculate'!F1707,\"\")","v":""},{"$f":"IF(L1703<>\"\",'Step 2) Calculate'!H1707,\"\")","v":""},{"$f":"IF(L1703<>\"\",'Step 2) Calculate'!C1707,\"\")","v":""}]
[null,null,null,null,null,null,null,null,null,null,{"$f":"IF(L1704<>\"\",'Step 2) Calculate'!B1708,\"Zzzzz - delete row\")","v":"Zzzzz - delete row"},{"$f":"IF('Step 2) Calculate'!E1708<>\"\",'Step 2) Calculate'!G1708,\"\")","v":""},{"$f":"IF(L1704<>\"\",'Step 2) Calculate'!F1708,\"\")","v":""},{"$f":"IF(L1704<>\"\",'Step 2) Calculate'!H1708,\"\")","v":""},{"$f":"IF(L1704<>\"\",'Step 2) Calculate'!C1708,\"\")","v":""}]
[null,null,null,null,null,null,null,null,null,null,{"$f":"IF(L1705<>\"\",'Step 2) Calculate'!B1709,\"Zzzzz - delete row\")","v":"Zzzzz - delete row"},{"$f":"IF('Step 2) Calculate'!E1709<>\"\",'Step 2) Calculate'!G1709,\"\")","v":""},{"$f":"IF(L1705<>\"\",'Step 2) Calculate'!F1709,\"\")","v":""},{"$f":"IF(L1705<>\"\",'Step 2) Calculate'!H1709,\"\")","v":""},{"$f":"IF(L1705<>\"\",'Step 2) Calculate'!C1709,\"\")","v":""}]
[null,null,null,null,null,null,null,null,null,null,{"$f":"IF(L1706<>\"\",'Step 2) Calculate'!B1710,\"Zzzzz - delete row\")","v":"Zzzzz - delete row"},{"$f":"IF('Step 2) Calculate'!E1710<>\"\",'Step 2) Calculate'!G1710,\"\")","v":""},{"$f":"IF(L1706<>\"\",'Step 2) Calculate'!F1710,\"\")","v":""},{"$f":"IF(L1706<>\"\",'Step 2) Calculate'!H1710,\"\")","v":""},{"$f":"IF(L1706<>\"\",'Step 2) Calculate'!C1710,\"\")","v":""}]
[null,null,null,null,null,null,null,null,null,null,{"$f":"IF(L1707<>\"\",'Step 2) Calculate'!B1711,\"Zzzzz - delete row\")","v":"Zzzzz - delete row"},{"$f":"IF('Step 2) Calculate'!E1711<>\"\",'Step 2) Calculate'!G1711,\"\")","v":""},{"$f":"IF(L1707<>\"\",'Step 2) Calculate'!F1711,\"\")","v":""},{"$f":"IF(L1707<>\"\",'Step 2) Calculate'!H1711,\"\")","v":""},{"$f":"IF(L1707<>\"\",'Step 2) Calculate'!C1711,\"\")","v":""}]
[null,null,null,null,null,null,null,null,null,null,{"$f":"IF(L1708<>\"\",'Step 2) Calculate'!B1712,\"Zzzzz - delete row\")","v":"Zzzzz - delete row"},{"$f":"IF('Step 2) Calculate'!E1712<>\"\",'Step 2) Calculate'!G1712,\"\")","v":""},{"$f":"IF(L1708<>\"\",'Step 2) Calculate'!F1712,\"\")","v":""},{"$f":"IF(L1708<>\"\",'Step 2) Calculate'!H1712,\"\")","v":""},{"$f":"IF(L1708<>\"\",'Step 2) Calculate'!C1712,\"\")","v":""}]
[null,null,null,null,null,null,null,null,null,null,{"$f":"IF(L1709<>\"\",'Step 2) Calculate'!B1713,\"Zzzzz - delete row\")","v":"Zzzzz - delete row"},{"$f":"IF('Step 2) Calculate'!E1713<>\"\",'Step 2) Calculate'!G1713,\"\")","v":""},{"$f":"IF(L1709<>\"\",'Step 2) Calculate'!F1713,\"\")","v":""},{"$f":"IF(L1709<>\"\",'Step 2) Calculate'!H1713,\"\")","v":""},{"$f":"IF(L1709<>\"\",'Step 2) Calculate'!C1713,\"\")","v":""}]
[null,null,null,null,null,null,null,null,null,null,{"$f":"IF(L1710<>\"\",'Step 2) Calculate'!B1714,\"Zzzzz - delete row\")","v":"Zzzzz - delete row"},{"$f":"IF('Step 2) Calculate'!E1714<>\"\",'Step 2) Calculate'!G1714,\"\")","v":""},{"$f":"IF(L1710<>\"\",'Step 2) Calculate'!F1714,\"\")","v":""},{"$f":"IF(L1710<>\"\",'Step 2) Calculate'!H1714,\"\")","v":""},{"$f":"IF(L1710<>\"\",'Step 2) Calculate'!C1714,\"\")","v":""}]
[null,null,null,null,null,null,null,null,null,null,{"$f":"IF(L1711<>\"\",'Step 2) Calculate'!B1715,\"Zzzzz - delete row\")","v":"Zzzzz - delete row"},{"$f":"IF('Step 2) Calculate'!E1715<>\"\",'Step 2) Calculate'!G1715,\"\")","v":""},{"$f":"IF(L1711<>\"\",'Step 2) Calculate'!F1715,\"\")","v":""},{"$f":"IF(L1711<>\"\",'Step 2) Calculate'!H1715,\"\")","v":""},{"$f":"IF(L1711<>\"\",'Step 2) Calculate'!C1715,\"\")","v":""}]
[null,null,null,null,null,null,null,null,null,null,{"$f":"IF(L1712<>\"\",'Step 2) Calculate'!B1716,\"Zzzzz - delete row\")","v":"Zzzzz - delete row"},{"$f":"IF('Step 2) Calculate'!E1716<>\"\",'Step 2) Calculate'!G1716,\"\")","v":""},{"$f":"IF(L1712<>\"\",'Step 2) Calculate'!F1716,\"\")","v":""},{"$f":"IF(L1712<>\"\",'Step 2) Calculate'!H1716,\"\")","v":""},{"$f":"IF(L1712<>\"\",'Step 2) Calculate'!C1716,\"\")","v":""}]
[null,null,null,null,null,null,null,null,null,null,{"$f":"IF(L1713<>\"\",'Step 2) Calculate'!B1717,\"Zzzzz - delete row\")","v":"Zzzzz - delete row"},{"$f":"IF('Step 2) Calculate'!E1717<>\"\",'Step 2) Calculate'!G1717,\"\")","v":""},{"$f":"IF(L1713<>\"\",'Step 2) Calculate'!F1717,\"\")","v":""},{"$f":"IF(L1713<>\"\",'Step 2) Calculate'!H1717,\"\")","v":""},{"$f":"IF(L1713<>\"\",'Step 2) Calculate'!C1717,\"\")","v":""}]
[null,null,null,null,null,null,null,null,null,null,{"$f":"IF(L1714<>\"\",'Step 2) Calculate'!B1718,\"Zzzzz - delete row\")","v":"Zzzzz - delete row"},{"$f":"IF('Step 2) Calculate'!E1718<>\"\",'Step 2) Calculate'!G1718,\"\")","v":""},{"$f":"IF(L1714<>\"\",'Step 2) Calculate'!F1718,\"\")","v":""},{"$f":"IF(L1714<>\"\",'Step 2) Calculate'!H1718,\"\")","v":""},{"$f":"IF(L1714<>\"\",'Step 2) Calculate'!C1718,\"\")","v":""}]
[null,null,null,null,null,null,null,null,null,null,{"$f":"IF(L1715<>\"\",'Step 2) Calculate'!B1719,\"Zzzzz - delete row\")","v":"Zzzzz - delete row"},{"$f":"IF('Step 2) Calculate'!E1719<>\"\",'Step 2) Calculate'!G1719,\"\")","v":""},{"$f":"IF(L1715<>\"\",'Step 2) Calculate'!F1719,\"\")","v":""},{"$f":"IF(L1715<>\"\",'Step 2) Calculate'!H1719,\"\")","v":""},{"$f":"IF(L1715<>\"\",'Step 2) Calculate'!C1719,\"\")","v":""}]
[null,null,null,null,null,null,null,null,null,null,{"$f":"IF(L1716<>\"\",'Step 2) Calculate'!B1720,\"Zzzzz - delete row\")","v":"Zzzzz - delete row"},{"$f":"IF('Step 2) Calculate'!E1720<>\"\",'Step 2) Calculate'!G1720,\"\")","v":""},{"$f":"IF(L1716<>\"\",'Step 2) Calculate'!F1720,\"\")","v":""},{"$f":"IF(L1716<>\"\",'Step 2) Calculate'!H1720,\"\")","v":""},{"$f":"IF(L1716<>\"\",'Step 2) Calculate'!C1720,\"\")","v":""}]
[null,null,null,null,null,null,null,null,null,null,{"$f":"IF(L1717<>\"\",'Step 2) Calculate'!B1721,\"Zzzzz - delete row\")","v":"Zzzzz - delete row"},{"$f":"IF('Step 2) Calculate'!E1721<>\"\",'Step 2) Calculate'!G1721,\"\")","v":""},{"$f":"IF(L1717<>\"\",'Step 2) Calculate'!F1721,\"\")","v":""},{"$f":"IF(L1717<>\"\",'Step 2) Calculate'!H1721,\"\")","v":""},{"$f":"IF(L1717<>\"\",'Step 2) Calculate'!C1721,\"\")","v":""}]
[null,null,null,null,null,null,null,null,null,null,{"$f":"IF(L1718<>\"\",'Step 2) Calculate'!B1722,\"Zzzzz - delete row\")","v":"Zzzzz - delete row"},{"$f":"IF('Step 2) Calculate'!E1722<>\"\",'Step 2) Calculate'!G1722,\"\")","v":""},{"$f":"IF(L1718<>\"\",'Step 2) Calculate'!F1722,\"\")","v":""},{"$f":"IF(L1718<>\"\",'Step 2) Calculate'!H1722,\"\")","v":""},{"$f":"IF(L1718<>\"\",'Step 2) Calculate'!C1722,\"\")","v":""}]
[null,null,null,null,null,null,null,null,null,null,{"$f":"IF(L1719<>\"\",'Step 2) Calculate'!B1723,\"Zzzzz - delete row\")","v":"Zzzzz - delete row"},{"$f":"IF('Step 2) Calculate'!E1723<>\"\",'Step 2) Calculate'!G1723,\"\")","v":""},{"$f":"IF(L1719<>\"\",'Step 2) Calculate'!F1723,\"\")","v":""},{"$f":"IF(L1719<>\"\",'Step 2) Calculate'!H1723,\"\")","v":""},{"$f":"IF(L1719<>\"\",'Step 2) Calculate'!C1723,\"\")","v":""}]
[null,null,null,null,null,null,null,null,null,null,{"$f":"IF(L1720<>\"\",'Step 2) Calculate'!B1724,\"Zzzzz - delete row\")","v":"Zzzzz - delete row"},{"$f":"IF('Step 2) Calculate'!E1724<>\"\",'Step 2) Calculate'!G1724,\"\")","v":""},{"$f":"IF(L1720<>\"\",'Step 2) Calculate'!F1724,\"\")","v":""},{"$f":"IF(L1720<>\"\",'Step 2) Calculate'!H1724,\"\")","v":""},{"$f":"IF(L1720<>\"\",'Step 2) Calculate'!C1724,\"\")","v":""}]
[null,null,null,null,null,null,null,null,null,null,{"$f":"IF(L1721<>\"\",'Step 2) Calculate'!B1725,\"Zzzzz - delete row\")","v":"Zzzzz - delete row"},{"$f":"IF('Step 2) Calculate'!E1725<>\"\",'Step 2) Calculate'!G1725,\"\")","v":""},{"$f":"IF(L1721<>\"\",'Step 2) Calculate'!F1725,\"\")","v":""},{"$f":"IF(L1721<>\"\",'Step 2) Calculate'!H1725,\"\")","v":""},{"$f":"IF(L1721<>\"\",'Step 2) Calculate'!C1725,\"\")","v":""}]
[null,null,null,null,null,null,null,null,null,null,{"$f":"IF(L1722<>\"\",'Step 2) Calculate'!B1726,\"Zzzzz - delete row\")","v":"Zzzzz - delete row"},{"$f":"IF('Step 2) Calculate'!E1726<>\"\",'Step 2) Calculate'!G1726,\"\")","v":""},{"$f":"IF(L1722<>\"\",'Step 2) Calculate'!F1726,\"\")","v":""},{"$f":"IF(L1722<>\"\",'Step 2) Calculate'!H1726,\"\")","v":""},{"$f":"IF(L1722<>\"\",'Step 2) Calculate'!C1726,\"\")","v":""}]
[null,null,null,null,null,null,null,null,null,null,{"$f":"IF(L1723<>\"\",'Step 2) Calculate'!B1727,\"Zzzzz - delete row\")","v":"Zzzzz - delete row"},{"$f":"IF('Step 2) Calculate'!E1727<>\"\",'Step 2) Calculate'!G1727,\"\")","v":""},{"$f":"IF(L1723<>\"\",'Step 2) Calculate'!F1727,\"\")","v":""},{"$f":"IF(L1723<>\"\",'Step 2) Calculate'!H1727,\"\")","v":""},{"$f":"IF(L1723<>\"\",'Step 2) Calculate'!C1727,\"\")","v":""}]
[null,null,null,null,null,null,null,null,null,null,{"$f":"IF(L1724<>\"\",'Step 2) Calculate'!B1728,\"Zzzzz - delete row\")","v":"Zzzzz - delete row"},{"$f":"IF('Step 2) Calculate'!E1728<>\"\",'Step 2) Calculate'!G1728,\"\")","v":""},{"$f":"IF(L1724<>\"\",'Step 2) Calculate'!F1728,\"\")","v":""},{"$f":"IF(L1724<>\"\",'Step 2) Calculate'!H1728,\"\")","v":""},{"$f":"IF(L1724<>\"\",'Step 2) Calculate'!C1728,\"\")","v":""}]
[null,null,null,null,null,null,null,null,null,null,{"$f":"IF(L1725<>\"\",'Step 2) Calculate'!B1729,\"Zzzzz - delete row\")","v":"Zzzzz - delete row"},{"$f":"IF('Step 2) Calculate'!E1729<>\"\",'Step 2) Calculate'!G1729,\"\")","v":""},{"$f":"IF(L1725<>\"\",'Step 2) Calculate'!F1729,\"\")","v":""},{"$f":"IF(L1725<>\"\",'Step 2) Calculate'!H1729,\"\")","v":""},{"$f":"IF(L1725<>\"\",'Step 2) Calculate'!C1729,\"\")","v":""}]
[null,null,null,null,null,null,null,null,null,null,{"$f":"IF(L1726<>\"\",'Step 2) Calculate'!B1730,\"Zzzzz - delete row\")","v":"Zzzzz - delete row"},{"$f":"IF('Step 2) Calculate'!E1730<>\"\",'Step 2) Calculate'!G1730,\"\")","v":""},{"$f":"IF(L1726<>\"\",'Step 2) Calculate'!F1730,\"\")","v":""},{"$f":"IF(L1726<>\"\",'Step 2) Calculate'!H1730,\"\")","v":""},{"$f":"IF(L1726<>\"\",'Step 2) Calculate'!C1730,\"\")","v":""}]
[null,null,null,null,null,null,null,null,null,null,{"$f":"IF(L1727<>\"\",'Step 2) Calculate'!B1731,\"Zzzzz - delete row\")","v":"Zzzzz - delete row"},{"$f":"IF('Step 2) Calculate'!E1731<>\"\",'Step 2) Calculate'!G1731,\"\")","v":""},{"$f":"IF(L1727<>\"\",'Step 2) Calculate'!F1731,\"\")","v":""},{"$f":"IF(L1727<>\"\",'Step 2) Calculate'!H1731,\"\")","v":""},{"$f":"IF(L1727<>\"\",'Step 2) Calculate'!C1731,\"\")","v":""}]
[null,null,null,null,null,null,null,null,null,null,{"$f":"IF(L1728<>\"\",'Step 2) Calculate'!B1732,\"Zzzzz - delete row\")","v":"Zzzzz - delete row"},{"$f":"IF('Step 2) Calculate'!E1732<>\"\",'Step 2) Calculate'!G1732,\"\")","v":""},{"$f":"IF(L1728<>\"\",'Step 2) Calculate'!F1732,\"\")","v":""},{"$f":"IF(L1728<>\"\",'Step 2) Calculate'!H1732,\"\")","v":""},{"$f":"IF(L1728<>\"\",'Step 2) Calculate'!C1732,\"\")","v":""}]
[null,null,null,null,null,null,null,null,null,null,{"$f":"IF(L1729<>\"\",'Step 2) Calculate'!B1733,\"Zzzzz - delete row\")","v":"Zzzzz - delete row"},{"$f":"IF('Step 2) Calculate'!E1733<>\"\",'Step 2) Calculate'!G1733,\"\")","v":""},{"$f":"IF(L1729<>\"\",'Step 2) Calculate'!F1733,\"\")","v":""},{"$f":"IF(L1729<>\"\",'Step 2) Calculate'!H1733,\"\")","v":""},{"$f":"IF(L1729<>\"\",'Step 2) Calculate'!C1733,\"\")","v":""}]
[null,null,null,null,null,null,null,null,null,null,{"$f":"IF(L1730<>\"\",'Step 2) Calculate'!B1734,\"Zzzzz - delete row\")","v":"Zzzzz - delete row"},{"$f":"IF('Step 2) Calculate'!E1734<>\"\",'Step 2) Calculate'!G1734,\"\")","v":""},{"$f":"IF(L1730<>\"\",'Step 2) Calculate'!F1734,\"\")","v":""},{"$f":"IF(L1730<>\"\",'Step 2) Calculate'!H1734,\"\")","v":""},{"$f":"IF(L1730<>\"\",'Step 2) Calculate'!C1734,\"\")","v":""}]
[null,null,null,null,null,null,null,null,null,null,{"$f":"IF(L1731<>\"\",'Step 2) Calculate'!B1735,\"Zzzzz - delete row\")","v":"Zzzzz - delete row"},{"$f":"IF('Step 2) Calculate'!E1735<>\"\",'Step 2) Calculate'!G1735,\"\")","v":""},{"$f":"IF(L1731<>\"\",'Step 2) Calculate'!F1735,\"\")","v":""},{"$f":"IF(L1731<>\"\",'Step 2) Calculate'!H1735,\"\")","v":""},{"$f":"IF(L1731<>\"\",'Step 2) Calculate'!C1735,\"\")","v":""}]
[null,null,null,null,null,null,null,null,null,null,{"$f":"IF(L1732<>\"\",'Step 2) Calculate'!B1736,\"Zzzzz - delete row\")","v":"Zzzzz - delete row"},{"$f":"IF('Step 2) Calculate'!E1736<>\"\",'Step 2) Calculate'!G1736,\"\")","v":""},{"$f":"IF(L1732<>\"\",'Step 2) Calculate'!F1736,\"\")","v":""},{"$f":"IF(L1732<>\"\",'Step 2) Calculate'!H1736,\"\")","v":""},{"$f":"IF(L1732<>\"\",'Step 2) Calculate'!C1736,\"\")","v":""}]
[null,null,null,null,null,null,null,null,null,null,{"$f":"IF(L1733<>\"\",'Step 2) Calculate'!B1737,\"Zzzzz - delete row\")","v":"Zzzzz - delete row"},{"$f":"IF('Step 2) Calculate'!E1737<>\"\",'Step 2) Calculate'!G1737,\"\")","v":""},{"$f":"IF(L1733<>\"\",'Step 2) Calculate'!F1737,\"\")","v":""},{"$f":"IF(L1733<>\"\",'Step 2) Calculate'!H1737,\"\")","v":""},{"$f":"IF(L1733<>\"\",'Step 2) Calculate'!C1737,\"\")","v":""}]
[null,null,null,null,null,null,null,null,null,null,{"$f":"IF(L1734<>\"\",'Step 2) Calculate'!B1738,\"Zzzzz - delete row\")","v":"Zzzzz - delete row"},{"$f":"IF('Step 2) Calculate'!E1738<>\"\",'Step 2) Calculate'!G1738,\"\")","v":""},{"$f":"IF(L1734<>\"\",'Step 2) Calculate'!F1738,\"\")","v":""},{"$f":"IF(L1734<>\"\",'Step 2) Calculate'!H1738,\"\")","v":""},{"$f":"IF(L1734<>\"\",'Step 2) Calculate'!C1738,\"\")","v":""}]
[null,null,null,null,null,null,null,null,null,null,{"$f":"IF(L1735<>\"\",'Step 2) Calculate'!B1739,\"Zzzzz - delete row\")","v":"Zzzzz - delete row"},{"$f":"IF('Step 2) Calculate'!E1739<>\"\",'Step 2) Calculate'!G1739,\"\")","v":""},{"$f":"IF(L1735<>\"\",'Step 2) Calculate'!F1739,\"\")","v":""},{"$f":"IF(L1735<>\"\",'Step 2) Calculate'!H1739,\"\")","v":""},{"$f":"IF(L1735<>\"\",'Step 2) Calculate'!C1739,\"\")","v":""}]
[null,null,null,null,null,null,null,null,null,null,{"$f":"IF(L1736<>\"\",'Step 2) Calculate'!B1740,\"Zzzzz - delete row\")","v":"Zzzzz - delete row"},{"$f":"IF('Step 2) Calculate'!E1740<>\"\",'Step 2) Calculate'!G1740,\"\")","v":""},{"$f":"IF(L1736<>\"\",'Step 2) Calculate'!F1740,\"\")","v":""},{"$f":"IF(L1736<>\"\",'Step 2) Calculate'!H1740,\"\")","v":""},{"$f":"IF(L1736<>\"\",'Step 2) Calculate'!C1740,\"\")","v":""}]
[null,null,null,null,null,null,null,null,null,null,{"$f":"IF(L1737<>\"\",'Step 2) Calculate'!B1741,\"Zzzzz - delete row\")","v":"Zzzzz - delete row"},{"$f":"IF('Step 2) Calculate'!E1741<>\"\",'Step 2) Calculate'!G1741,\"\")","v":""},{"$f":"IF(L1737<>\"\",'Step 2) Calculate'!F1741,\"\")","v":""},{"$f":"IF(L1737<>\"\",'Step 2) Calculate'!H1741,\"\")","v":""},{"$f":"IF(L1737<>\"\",'Step 2) Calculate'!C1741,\"\")","v":""}]
[null,null,null,null,null,null,null,null,null,null,{"$f":"IF(L1738<>\"\",'Step 2) Calculate'!B1742,\"Zzzzz - delete row\")","v":"Zzzzz - delete row"},{"$f":"IF('Step 2) Calculate'!E1742<>\"\",'Step 2) Calculate'!G1742,\"\")","v":""},{"$f":"IF(L1738<>\"\",'Step 2) Calculate'!F1742,\"\")","v":""},{"$f":"IF(L1738<>\"\",'Step 2) Calculate'!H1742,\"\")","v":""},{"$f":"IF(L1738<>\"\",'Step 2) Calculate'!C1742,\"\")","v":""}]
[null,null,null,null,null,null,null,null,null,null,{"$f":"IF(L1739<>\"\",'Step 2) Calculate'!B1743,\"Zzzzz - delete row\")","v":"Zzzzz - delete row"},{"$f":"IF('Step 2) Calculate'!E1743<>\"\",'Step 2) Calculate'!G1743,\"\")","v":""},{"$f":"IF(L1739<>\"\",'Step 2) Calculate'!F1743,\"\")","v":""},{"$f":"IF(L1739<>\"\",'Step 2) Calculate'!H1743,\"\")","v":""},{"$f":"IF(L1739<>\"\",'Step 2) Calculate'!C1743,\"\")","v":""}]
[null,null,null,null,null,null,null,null,null,null,{"$f":"IF(L1740<>\"\",'Step 2) Calculate'!B1744,\"Zzzzz - delete row\")","v":"Zzzzz - delete row"},{"$f":"IF('Step 2) Calculate'!E1744<>\"\",'Step 2) Calculate'!G1744,\"\")","v":""},{"$f":"IF(L1740<>\"\",'Step 2) Calculate'!F1744,\"\")","v":""},{"$f":"IF(L1740<>\"\",'Step 2) Calculate'!H1744,\"\")","v":""},{"$f":"IF(L1740<>\"\",'Step 2) Calculate'!C1744,\"\")","v":""}]
[null,null,null,null,null,null,null,null,null,null,{"$f":"IF(L1741<>\"\",'Step 2) Calculate'!B1745,\"Zzzzz - delete row\")","v":"Zzzzz - delete row"},{"$f":"IF('Step 2) Calculate'!E1745<>\"\",'Step 2) Calculate'!G1745,\"\")","v":""},{"$f":"IF(L1741<>\"\",'Step 2) Calculate'!F1745,\"\")","v":""},{"$f":"IF(L1741<>\"\",'Step 2) Calculate'!H1745,\"\")","v":""},{"$f":"IF(L1741<>\"\",'Step 2) Calculate'!C1745,\"\")","v":""}]
[null,null,null,null,null,null,null,null,null,null,{"$f":"IF(L1742<>\"\",'Step 2) Calculate'!B1746,\"Zzzzz - delete row\")","v":"Zzzzz - delete row"},{"$f":"IF('Step 2) Calculate'!E1746<>\"\",'Step 2) Calculate'!G1746,\"\")","v":""},{"$f":"IF(L1742<>\"\",'Step 2) Calculate'!F1746,\"\")","v":""},{"$f":"IF(L1742<>\"\",'Step 2) Calculate'!H1746,\"\")","v":""},{"$f":"IF(L1742<>\"\",'Step 2) Calculate'!C1746,\"\")","v":""}]
[null,null,null,null,null,null,null,null,null,null,{"$f":"IF(L1743<>\"\",'Step 2) Calculate'!B1747,\"Zzzzz - delete row\")","v":"Zzzzz - delete row"},{"$f":"IF('Step 2) Calculate'!E1747<>\"\",'Step 2) Calculate'!G1747,\"\")","v":""},{"$f":"IF(L1743<>\"\",'Step 2) Calculate'!F1747,\"\")","v":""},{"$f":"IF(L1743<>\"\",'Step 2) Calculate'!H1747,\"\")","v":""},{"$f":"IF(L1743<>\"\",'Step 2) Calculate'!C1747,\"\")","v":""}]
[null,null,null,null,null,null,null,null,null,null,{"$f":"IF(L1744<>\"\",'Step 2) Calculate'!B1748,\"Zzzzz - delete row\")","v":"Zzzzz - delete row"},{"$f":"IF('Step 2) Calculate'!E1748<>\"\",'Step 2) Calculate'!G1748,\"\")","v":""},{"$f":"IF(L1744<>\"\",'Step 2) Calculate'!F1748,\"\")","v":""},{"$f":"IF(L1744<>\"\",'Step 2) Calculate'!H1748,\"\")","v":""},{"$f":"IF(L1744<>\"\",'Step 2) Calculate'!C1748,\"\")","v":""}]
[null,null,null,null,null,null,null,null,null,null,{"$f":"IF(L1745<>\"\",'Step 2) Calculate'!B1749,\"Zzzzz - delete row\")","v":"Zzzzz - delete row"},{"$f":"IF('Step 2) Calculate'!E1749<>\"\",'Step 2) Calculate'!G1749,\"\")","v":""},{"$f":"IF(L1745<>\"\",'Step 2) Calculate'!F1749,\"\")","v":""},{"$f":"IF(L1745<>\"\",'Step 2) Calculate'!H1749,\"\")","v":""},{"$f":"IF(L1745<>\"\",'Step 2) Calculate'!C1749,\"\")","v":""}]
[null,null,null,null,null,null,null,null,null,null,{"$f":"IF(L1746<>\"\",'Step 2) Calculate'!B1750,\"Zzzzz - delete row\")","v":"Zzzzz - delete row"},{"$f":"IF('Step 2) Calculate'!E1750<>\"\",'Step 2) Calculate'!G1750,\"\")","v":""},{"$f":"IF(L1746<>\"\",'Step 2) Calculate'!F1750,\"\")","v":""},{"$f":"IF(L1746<>\"\",'Step 2) Calculate'!H1750,\"\")","v":""},{"$f":"IF(L1746<>\"\",'Step 2) Calculate'!C1750,\"\")","v":""}]
[null,null,null,null,null,null,null,null,null,null,{"$f":"IF(L1747<>\"\",'Step 2) Calculate'!B1751,\"Zzzzz - delete row\")","v":"Zzzzz - delete row"},{"$f":"IF('Step 2) Calculate'!E1751<>\"\",'Step 2) Calculate'!G1751,\"\")","v":""},{"$f":"IF(L1747<>\"\",'Step 2) Calculate'!F1751,\"\")","v":""},{"$f":"IF(L1747<>\"\",'Step 2) Calculate'!H1751,\"\")","v":""},{"$f":"IF(L1747<>\"\",'Step 2) Calculate'!C1751,\"\")","v":""}]
[null,null,null,null,null,null,null,null,null,null,{"$f":"IF(L1748<>\"\",'Step 2) Calculate'!B1752,\"Zzzzz - delete row\")","v":"Zzzzz - delete row"},{"$f":"IF('Step 2) Calculate'!E1752<>\"\",'Step 2) Calculate'!G1752,\"\")","v":""},{"$f":"IF(L1748<>\"\",'Step 2) Calculate'!F1752,\"\")","v":""},{"$f":"IF(L1748<>\"\",'Step 2) Calculate'!H1752,\"\")","v":""},{"$f":"IF(L1748<>\"\",'Step 2) Calculate'!C1752,\"\")","v":""}]
[null,null,null,null,null,null,null,null,null,null,{"$f":"IF(L1749<>\"\",'Step 2) Calculate'!B1753,\"Zzzzz - delete row\")","v":"Zzzzz - delete row"},{"$f":"IF('Step 2) Calculate'!E1753<>\"\",'Step 2) Calculate'!G1753,\"\")","v":""},{"$f":"IF(L1749<>\"\",'Step 2) Calculate'!F1753,\"\")","v":""},{"$f":"IF(L1749<>\"\",'Step 2) Calculate'!H1753,\"\")","v":""},{"$f":"IF(L1749<>\"\",'Step 2) Calculate'!C1753,\"\")","v":""}]
[null,null,null,null,null,null,null,null,null,null,{"$f":"IF(L1750<>\"\",'Step 2) Calculate'!B1754,\"Zzzzz - delete row\")","v":"Zzzzz - delete row"},{"$f":"IF('Step 2) Calculate'!E1754<>\"\",'Step 2) Calculate'!G1754,\"\")","v":""},{"$f":"IF(L1750<>\"\",'Step 2) Calculate'!F1754,\"\")","v":""},{"$f":"IF(L1750<>\"\",'Step 2) Calculate'!H1754,\"\")","v":""},{"$f":"IF(L1750<>\"\",'Step 2) Calculate'!C1754,\"\")","v":""}]
[null,null,null,null,null,null,null,null,null,null,{"$f":"IF(L1751<>\"\",'Step 2) Calculate'!B1755,\"Zzzzz - delete row\")","v":"Zzzzz - delete row"},{"$f":"IF('Step 2) Calculate'!E1755<>\"\",'Step 2) Calculate'!G1755,\"\")","v":""},{"$f":"IF(L1751<>\"\",'Step 2) Calculate'!F1755,\"\")","v":""},{"$f":"IF(L1751<>\"\",'Step 2) Calculate'!H1755,\"\")","v":""},{"$f":"IF(L1751<>\"\",'Step 2) Calculate'!C1755,\"\")","v":""}]
[null,null,null,null,null,null,null,null,null,null,{"$f":"IF(L1752<>\"\",'Step 2) Calculate'!B1756,\"Zzzzz - delete row\")","v":"Zzzzz - delete row"},{"$f":"IF('Step 2) Calculate'!E1756<>\"\",'Step 2) Calculate'!G1756,\"\")","v":""},{"$f":"IF(L1752<>\"\",'Step 2) Calculate'!F1756,\"\")","v":""},{"$f":"IF(L1752<>\"\",'Step 2) Calculate'!H1756,\"\")","v":""},{"$f":"IF(L1752<>\"\",'Step 2) Calculate'!C1756,\"\")","v":""}]
[null,null,null,null,null,null,null,null,null,null,{"$f":"IF(L1753<>\"\",'Step 2) Calculate'!B1757,\"Zzzzz - delete row\")","v":"Zzzzz - delete row"},{"$f":"IF('Step 2) Calculate'!E1757<>\"\",'Step 2) Calculate'!G1757,\"\")","v":""},{"$f":"IF(L1753<>\"\",'Step 2) Calculate'!F1757,\"\")","v":""},{"$f":"IF(L1753<>\"\",'Step 2) Calculate'!H1757,\"\")","v":""},{"$f":"IF(L1753<>\"\",'Step 2) Calculate'!C1757,\"\")","v":""}]
[null,null,null,null,null,null,null,null,null,null,{"$f":"IF(L1754<>\"\",'Step 2) Calculate'!B1758,\"Zzzzz - delete row\")","v":"Zzzzz - delete row"},{"$f":"IF('Step 2) Calculate'!E1758<>\"\",'Step 2) Calculate'!G1758,\"\")","v":""},{"$f":"IF(L1754<>\"\",'Step 2) Calculate'!F1758,\"\")","v":""},{"$f":"IF(L1754<>\"\",'Step 2) Calculate'!H1758,\"\")","v":""},{"$f":"IF(L1754<>\"\",'Step 2) Calculate'!C1758,\"\")","v":""}]
[null,null,null,null,null,null,null,null,null,null,{"$f":"IF(L1755<>\"\",'Step 2) Calculate'!B1759,\"Zzzzz - delete row\")","v":"Zzzzz - delete row"},{"$f":"IF('Step 2) Calculate'!E1759<>\"\",'Step 2) Calculate'!G1759,\"\")","v":""},{"$f":"IF(L1755<>\"\",'Step 2) Calculate'!F1759,\"\")","v":""},{"$f":"IF(L1755<>\"\",'Step 2) Calculate'!H1759,\"\")","v":""},{"$f":"IF(L1755<>\"\",'Step 2) Calculate'!C1759,\"\")","v":""}]
[null,null,null,null,null,null,null,null,null,null,{"$f":"IF(L1756<>\"\",'Step 2) Calculate'!B1760,\"Zzzzz - delete row\")","v":"Zzzzz - delete row"},{"$f":"IF('Step 2) Calculate'!E1760<>\"\",'Step 2) Calculate'!G1760,\"\")","v":""},{"$f":"IF(L1756<>\"\",'Step 2) Calculate'!F1760,\"\")","v":""},{"$f":"IF(L1756<>\"\",'Step 2) Calculate'!H1760,\"\")","v":""},{"$f":"IF(L1756<>\"\",'Step 2) Calculate'!C1760,\"\")","v":""}]
[null,null,null,null,null,null,null,null,null,null,{"$f":"IF(L1757<>\"\",'Step 2) Calculate'!B1761,\"Zzzzz - delete row\")","v":"Zzzzz - delete row"},{"$f":"IF('Step 2) Calculate'!E1761<>\"\",'Step 2) Calculate'!G1761,\"\")","v":""},{"$f":"IF(L1757<>\"\",'Step 2) Calculate'!F1761,\"\")","v":""},{"$f":"IF(L1757<>\"\",'Step 2) Calculate'!H1761,\"\")","v":""},{"$f":"IF(L1757<>\"\",'Step 2) Calculate'!C1761,\"\")","v":""}]
[null,null,null,null,null,null,null,null,null,null,{"$f":"IF(L1758<>\"\",'Step 2) Calculate'!B1762,\"Zzzzz - delete row\")","v":"Zzzzz - delete row"},{"$f":"IF('Step 2) Calculate'!E1762<>\"\",'Step 2) Calculate'!G1762,\"\")","v":""},{"$f":"IF(L1758<>\"\",'Step 2) Calculate'!F1762,\"\")","v":""},{"$f":"IF(L1758<>\"\",'Step 2) Calculate'!H1762,\"\")","v":""},{"$f":"IF(L1758<>\"\",'Step 2) Calculate'!C1762,\"\")","v":""}]
[null,null,null,null,null,null,null,null,null,null,{"$f":"IF(L1759<>\"\",'Step 2) Calculate'!B1763,\"Zzzzz - delete row\")","v":"Zzzzz - delete row"},{"$f":"IF('Step 2) Calculate'!E1763<>\"\",'Step 2) Calculate'!G1763,\"\")","v":""},{"$f":"IF(L1759<>\"\",'Step 2) Calculate'!F1763,\"\")","v":""},{"$f":"IF(L1759<>\"\",'Step 2) Calculate'!H1763,\"\")","v":""},{"$f":"IF(L1759<>\"\",'Step 2) Calculate'!C1763,\"\")","v":""}]
[null,null,null,null,null,null,null,null,null,null,{"$f":"IF(L1760<>\"\",'Step 2) Calculate'!B1764,\"Zzzzz - delete row\")","v":"Zzzzz - delete row"},{"$f":"IF('Step 2) Calculate'!E1764<>\"\",'Step 2) Calculate'!G1764,\"\")","v":""},{"$f":"IF(L1760<>\"\",'Step 2) Calculate'!F1764,\"\")","v":""},{"$f":"IF(L1760<>\"\",'Step 2) Calculate'!H1764,\"\")","v":""},{"$f":"IF(L1760<>\"\",'Step 2) Calculate'!C1764,\"\")","v":""}]
[null,null,null,null,null,null,null,null,null,null,{"$f":"IF(L1761<>\"\",'Step 2) Calculate'!B1765,\"Zzzzz - delete row\")","v":"Zzzzz - delete row"},{"$f":"IF('Step 2) Calculate'!E1765<>\"\",'Step 2) Calculate'!G1765,\"\")","v":""},{"$f":"IF(L1761<>\"\",'Step 2) Calculate'!F1765,\"\")","v":""},{"$f":"IF(L1761<>\"\",'Step 2) Calculate'!H1765,\"\")","v":""},{"$f":"IF(L1761<>\"\",'Step 2) Calculate'!C1765,\"\")","v":""}]
[null,null,null,null,null,null,null,null,null,null,{"$f":"IF(L1762<>\"\",'Step 2) Calculate'!B1766,\"Zzzzz - delete row\")","v":"Zzzzz - delete row"},{"$f":"IF('Step 2) Calculate'!E1766<>\"\",'Step 2) Calculate'!G1766,\"\")","v":""},{"$f":"IF(L1762<>\"\",'Step 2) Calculate'!F1766,\"\")","v":""},{"$f":"IF(L1762<>\"\",'Step 2) Calculate'!H1766,\"\")","v":""},{"$f":"IF(L1762<>\"\",'Step 2) Calculate'!C1766,\"\")","v":""}]
[null,null,null,null,null,null,null,null,null,null,{"$f":"IF(L1763<>\"\",'Step 2) Calculate'!B1767,\"Zzzzz - delete row\")","v":"Zzzzz - delete row"},{"$f":"IF('Step 2) Calculate'!E1767<>\"\",'Step 2) Calculate'!G1767,\"\")","v":""},{"$f":"IF(L1763<>\"\",'Step 2) Calculate'!F1767,\"\")","v":""},{"$f":"IF(L1763<>\"\",'Step 2) Calculate'!H1767,\"\")","v":""},{"$f":"IF(L1763<>\"\",'Step 2) Calculate'!C1767,\"\")","v":""}]
[null,null,null,null,null,null,null,null,null,null,{"$f":"IF(L1764<>\"\",'Step 2) Calculate'!B1768,\"Zzzzz - delete row\")","v":"Zzzzz - delete row"},{"$f":"IF('Step 2) Calculate'!E1768<>\"\",'Step 2) Calculate'!G1768,\"\")","v":""},{"$f":"IF(L1764<>\"\",'Step 2) Calculate'!F1768,\"\")","v":""},{"$f":"IF(L1764<>\"\",'Step 2) Calculate'!H1768,\"\")","v":""},{"$f":"IF(L1764<>\"\",'Step 2) Calculate'!C1768,\"\")","v":""}]
[null,null,null,null,null,null,null,null,null,null,{"$f":"IF(L1765<>\"\",'Step 2) Calculate'!B1769,\"Zzzzz - delete row\")","v":"Zzzzz - delete row"},{"$f":"IF('Step 2) Calculate'!E1769<>\"\",'Step 2) Calculate'!G1769,\"\")","v":""},{"$f":"IF(L1765<>\"\",'Step 2) Calculate'!F1769,\"\")","v":""},{"$f":"IF(L1765<>\"\",'Step 2) Calculate'!H1769,\"\")","v":""},{"$f":"IF(L1765<>\"\",'Step 2) Calculate'!C1769,\"\")","v":""}]
[null,null,null,null,null,null,null,null,null,null,{"$f":"IF(L1766<>\"\",'Step 2) Calculate'!B1770,\"Zzzzz - delete row\")","v":"Zzzzz - delete row"},{"$f":"IF('Step 2) Calculate'!E1770<>\"\",'Step 2) Calculate'!G1770,\"\")","v":""},{"$f":"IF(L1766<>\"\",'Step 2) Calculate'!F1770,\"\")","v":""},{"$f":"IF(L1766<>\"\",'Step 2) Calculate'!H1770,\"\")","v":""},{"$f":"IF(L1766<>\"\",'Step 2) Calculate'!C1770,\"\")","v":""}]
[null,null,null,null,null,null,null,null,null,null,{"$f":"IF(L1767<>\"\",'Step 2) Calculate'!B1771,\"Zzzzz - delete row\")","v":"Zzzzz - delete row"},{"$f":"IF('Step 2) Calculate'!E1771<>\"\",'Step 2) Calculate'!G1771,\"\")","v":""},{"$f":"IF(L1767<>\"\",'Step 2) Calculate'!F1771,\"\")","v":""},{"$f":"IF(L1767<>\"\",'Step 2) Calculate'!H1771,\"\")","v":""},{"$f":"IF(L1767<>\"\",'Step 2) Calculate'!C1771,\"\")","v":""}]
[null,null,null,null,null,null,null,null,null,null,{"$f":"IF(L1768<>\"\",'Step 2) Calculate'!B1772,\"Zzzzz - delete row\")","v":"Zzzzz - delete row"},{"$f":"IF('Step 2) Calculate'!E1772<>\"\",'Step 2) Calculate'!G1772,\"\")","v":""},{"$f":"IF(L1768<>\"\",'Step 2) Calculate'!F1772,\"\")","v":""},{"$f":"IF(L1768<>\"\",'Step 2) Calculate'!H1772,\"\")","v":""},{"$f":"IF(L1768<>\"\",'Step 2) Calculate'!C1772,\"\")","v":""}]
[null,null,null,null,null,null,null,null,null,null,{"$f":"IF(L1769<>\"\",'Step 2) Calculate'!B1773,\"Zzzzz - delete row\")","v":"Zzzzz - delete row"},{"$f":"IF('Step 2) Calculate'!E1773<>\"\",'Step 2) Calculate'!G1773,\"\")","v":""},{"$f":"IF(L1769<>\"\",'Step 2) Calculate'!F1773,\"\")","v":""},{"$f":"IF(L1769<>\"\",'Step 2) Calculate'!H1773,\"\")","v":""},{"$f":"IF(L1769<>\"\",'Step 2) Calculate'!C1773,\"\")","v":""}]
[null,null,null,null,null,null,null,null,null,null,{"$f":"IF(L1770<>\"\",'Step 2) Calculate'!B1774,\"Zzzzz - delete row\")","v":"Zzzzz - delete row"},{"$f":"IF('Step 2) Calculate'!E1774<>\"\",'Step 2) Calculate'!G1774,\"\")","v":""},{"$f":"IF(L1770<>\"\",'Step 2) Calculate'!F1774,\"\")","v":""},{"$f":"IF(L1770<>\"\",'Step 2) Calculate'!H1774,\"\")","v":""},{"$f":"IF(L1770<>\"\",'Step 2) Calculate'!C1774,\"\")","v":""}]
[null,null,null,null,null,null,null,null,null,null,{"$f":"IF(L1771<>\"\",'Step 2) Calculate'!B1775,\"Zzzzz - delete row\")","v":"Zzzzz - delete row"},{"$f":"IF('Step 2) Calculate'!E1775<>\"\",'Step 2) Calculate'!G1775,\"\")","v":""},{"$f":"IF(L1771<>\"\",'Step 2) Calculate'!F1775,\"\")","v":""},{"$f":"IF(L1771<>\"\",'Step 2) Calculate'!H1775,\"\")","v":""},{"$f":"IF(L1771<>\"\",'Step 2) Calculate'!C1775,\"\")","v":""}]
[null,null,null,null,null,null,null,null,null,null,{"$f":"IF(L1772<>\"\",'Step 2) Calculate'!B1776,\"Zzzzz - delete row\")","v":"Zzzzz - delete row"},{"$f":"IF('Step 2) Calculate'!E1776<>\"\",'Step 2) Calculate'!G1776,\"\")","v":""},{"$f":"IF(L1772<>\"\",'Step 2) Calculate'!F1776,\"\")","v":""},{"$f":"IF(L1772<>\"\",'Step 2) Calculate'!H1776,\"\")","v":""},{"$f":"IF(L1772<>\"\",'Step 2) Calculate'!C1776,\"\")","v":""}]
[null,null,null,null,null,null,null,null,null,null,{"$f":"IF(L1773<>\"\",'Step 2) Calculate'!B1777,\"Zzzzz - delete row\")","v":"Zzzzz - delete row"},{"$f":"IF('Step 2) Calculate'!E1777<>\"\",'Step 2) Calculate'!G1777,\"\")","v":""},{"$f":"IF(L1773<>\"\",'Step 2) Calculate'!F1777,\"\")","v":""},{"$f":"IF(L1773<>\"\",'Step 2) Calculate'!H1777,\"\")","v":""},{"$f":"IF(L1773<>\"\",'Step 2) Calculate'!C1777,\"\")","v":""}]
[null,null,null,null,null,null,null,null,null,null,{"$f":"IF(L1774<>\"\",'Step 2) Calculate'!B1778,\"Zzzzz - delete row\")","v":"Zzzzz - delete row"},{"$f":"IF('Step 2) Calculate'!E1778<>\"\",'Step 2) Calculate'!G1778,\"\")","v":""},{"$f":"IF(L1774<>\"\",'Step 2) Calculate'!F1778,\"\")","v":""},{"$f":"IF(L1774<>\"\",'Step 2) Calculate'!H1778,\"\")","v":""},{"$f":"IF(L1774<>\"\",'Step 2) Calculate'!C1778,\"\")","v":""}]
[null,null,null,null,null,null,null,null,null,null,{"$f":"IF(L1775<>\"\",'Step 2) Calculate'!B1779,\"Zzzzz - delete row\")","v":"Zzzzz - delete row"},{"$f":"IF('Step 2) Calculate'!E1779<>\"\",'Step 2) Calculate'!G1779,\"\")","v":""},{"$f":"IF(L1775<>\"\",'Step 2) Calculate'!F1779,\"\")","v":""},{"$f":"IF(L1775<>\"\",'Step 2) Calculate'!H1779,\"\")","v":""},{"$f":"IF(L1775<>\"\",'Step 2) Calculate'!C1779,\"\")","v":""}]
[null,null,null,null,null,null,null,null,null,null,{"$f":"IF(L1776<>\"\",'Step 2) Calculate'!B1780,\"Zzzzz - delete row\")","v":"Zzzzz - delete row"},{"$f":"IF('Step 2) Calculate'!E1780<>\"\",'Step 2) Calculate'!G1780,\"\")","v":""},{"$f":"IF(L1776<>\"\",'Step 2) Calculate'!F1780,\"\")","v":""},{"$f":"IF(L1776<>\"\",'Step 2) Calculate'!H1780,\"\")","v":""},{"$f":"IF(L1776<>\"\",'Step 2) Calculate'!C1780,\"\")","v":""}]
[null,null,null,null,null,null,null,null,null,null,{"$f":"IF(L1777<>\"\",'Step 2) Calculate'!B1781,\"Zzzzz - delete row\")","v":"Zzzzz - delete row"},{"$f":"IF('Step 2) Calculate'!E1781<>\"\",'Step 2) Calculate'!G1781,\"\")","v":""},{"$f":"IF(L1777<>\"\",'Step 2) Calculate'!F1781,\"\")","v":""},{"$f":"IF(L1777<>\"\",'Step 2) Calculate'!H1781,\"\")","v":""},{"$f":"IF(L1777<>\"\",'Step 2) Calculate'!C1781,\"\")","v":""}]
[null,null,null,null,null,null,null,null,null,null,{"$f":"IF(L1778<>\"\",'Step 2) Calculate'!B1782,\"Zzzzz - delete row\")","v":"Zzzzz - delete row"},{"$f":"IF('Step 2) Calculate'!E1782<>\"\",'Step 2) Calculate'!G1782,\"\")","v":""},{"$f":"IF(L1778<>\"\",'Step 2) Calculate'!F1782,\"\")","v":""},{"$f":"IF(L1778<>\"\",'Step 2) Calculate'!H1782,\"\")","v":""},{"$f":"IF(L1778<>\"\",'Step 2) Calculate'!C1782,\"\")","v":""}]
[null,null,null,null,null,null,null,null,null,null,{"$f":"IF(L1779<>\"\",'Step 2) Calculate'!B1783,\"Zzzzz - delete row\")","v":"Zzzzz - delete row"},{"$f":"IF('Step 2) Calculate'!E1783<>\"\",'Step 2) Calculate'!G1783,\"\")","v":""},{"$f":"IF(L1779<>\"\",'Step 2) Calculate'!F1783,\"\")","v":""},{"$f":"IF(L1779<>\"\",'Step 2) Calculate'!H1783,\"\")","v":""},{"$f":"IF(L1779<>\"\",'Step 2) Calculate'!C1783,\"\")","v":""}]
[null,null,null,null,null,null,null,null,null,null,{"$f":"IF(L1780<>\"\",'Step 2) Calculate'!B1784,\"Zzzzz - delete row\")","v":"Zzzzz - delete row"},{"$f":"IF('Step 2) Calculate'!E1784<>\"\",'Step 2) Calculate'!G1784,\"\")","v":""},{"$f":"IF(L1780<>\"\",'Step 2) Calculate'!F1784,\"\")","v":""},{"$f":"IF(L1780<>\"\",'Step 2) Calculate'!H1784,\"\")","v":""},{"$f":"IF(L1780<>\"\",'Step 2) Calculate'!C1784,\"\")","v":""}]
[null,null,null,null,null,null,null,null,null,null,{"$f":"IF(L1781<>\"\",'Step 2) Calculate'!B1785,\"Zzzzz - delete row\")","v":"Zzzzz - delete row"},{"$f":"IF('Step 2) Calculate'!E1785<>\"\",'Step 2) Calculate'!G1785,\"\")","v":""},{"$f":"IF(L1781<>\"\",'Step 2) Calculate'!F1785,\"\")","v":""},{"$f":"IF(L1781<>\"\",'Step 2) Calculate'!H1785,\"\")","v":""},{"$f":"IF(L1781<>\"\",'Step 2) Calculate'!C1785,\"\")","v":""}]
[null,null,null,null,null,null,null,null,null,null,{"$f":"IF(L1782<>\"\",'Step 2) Calculate'!B1786,\"Zzzzz - delete row\")","v":"Zzzzz - delete row"},{"$f":"IF('Step 2) Calculate'!E1786<>\"\",'Step 2) Calculate'!G1786,\"\")","v":""},{"$f":"IF(L1782<>\"\",'Step 2) Calculate'!F1786,\"\")","v":""},{"$f":"IF(L1782<>\"\",'Step 2) Calculate'!H1786,\"\")","v":""},{"$f":"IF(L1782<>\"\",'Step 2) Calculate'!C1786,\"\")","v":""}]
[null,null,null,null,null,null,null,null,null,null,{"$f":"IF(L1783<>\"\",'Step 2) Calculate'!B1787,\"Zzzzz - delete row\")","v":"Zzzzz - delete row"},{"$f":"IF('Step 2) Calculate'!E1787<>\"\",'Step 2) Calculate'!G1787,\"\")","v":""},{"$f":"IF(L1783<>\"\",'Step 2) Calculate'!F1787,\"\")","v":""},{"$f":"IF(L1783<>\"\",'Step 2) Calculate'!H1787,\"\")","v":""},{"$f":"IF(L1783<>\"\",'Step 2) Calculate'!C1787,\"\")","v":""}]
[null,null,null,null,null,null,null,null,null,null,{"$f":"IF(L1784<>\"\",'Step 2) Calculate'!B1788,\"Zzzzz - delete row\")","v":"Zzzzz - delete row"},{"$f":"IF('Step 2) Calculate'!E1788<>\"\",'Step 2) Calculate'!G1788,\"\")","v":""},{"$f":"IF(L1784<>\"\",'Step 2) Calculate'!F1788,\"\")","v":""},{"$f":"IF(L1784<>\"\",'Step 2) Calculate'!H1788,\"\")","v":""},{"$f":"IF(L1784<>\"\",'Step 2) Calculate'!C1788,\"\")","v":""}]
[null,null,null,null,null,null,null,null,null,null,{"$f":"IF(L1785<>\"\",'Step 2) Calculate'!B1789,\"Zzzzz - delete row\")","v":"Zzzzz - delete row"},{"$f":"IF('Step 2) Calculate'!E1789<>\"\",'Step 2) Calculate'!G1789,\"\")","v":""},{"$f":"IF(L1785<>\"\",'Step 2) Calculate'!F1789,\"\")","v":""},{"$f":"IF(L1785<>\"\",'Step 2) Calculate'!H1789,\"\")","v":""},{"$f":"IF(L1785<>\"\",'Step 2) Calculate'!C1789,\"\")","v":""}]
[null,null,null,null,null,null,null,null,null,null,{"$f":"IF(L1786<>\"\",'Step 2) Calculate'!B1790,\"Zzzzz - delete row\")","v":"Zzzzz - delete row"},{"$f":"IF('Step 2) Calculate'!E1790<>\"\",'Step 2) Calculate'!G1790,\"\")","v":""},{"$f":"IF(L1786<>\"\",'Step 2) Calculate'!F1790,\"\")","v":""},{"$f":"IF(L1786<>\"\",'Step 2) Calculate'!H1790,\"\")","v":""},{"$f":"IF(L1786<>\"\",'Step 2) Calculate'!C1790,\"\")","v":""}]
[null,null,null,null,null,null,null,null,null,null,{"$f":"IF(L1787<>\"\",'Step 2) Calculate'!B1791,\"Zzzzz - delete row\")","v":"Zzzzz - delete row"},{"$f":"IF('Step 2) Calculate'!E1791<>\"\",'Step 2) Calculate'!G1791,\"\")","v":""},{"$f":"IF(L1787<>\"\",'Step 2) Calculate'!F1791,\"\")","v":""},{"$f":"IF(L1787<>\"\",'Step 2) Calculate'!H1791,\"\")","v":""},{"$f":"IF(L1787<>\"\",'Step 2) Calculate'!C1791,\"\")","v":""}]
[null,null,null,null,null,null,null,null,null,null,{"$f":"IF(L1788<>\"\",'Step 2) Calculate'!B1792,\"Zzzzz - delete row\")","v":"Zzzzz - delete row"},{"$f":"IF('Step 2) Calculate'!E1792<>\"\",'Step 2) Calculate'!G1792,\"\")","v":""},{"$f":"IF(L1788<>\"\",'Step 2) Calculate'!F1792,\"\")","v":""},{"$f":"IF(L1788<>\"\",'Step 2) Calculate'!H1792,\"\")","v":""},{"$f":"IF(L1788<>\"\",'Step 2) Calculate'!C1792,\"\")","v":""}]
[null,null,null,null,null,null,null,null,null,null,{"$f":"IF(L1789<>\"\",'Step 2) Calculate'!B1793,\"Zzzzz - delete row\")","v":"Zzzzz - delete row"},{"$f":"IF('Step 2) Calculate'!E1793<>\"\",'Step 2) Calculate'!G1793,\"\")","v":""},{"$f":"IF(L1789<>\"\",'Step 2) Calculate'!F1793,\"\")","v":""},{"$f":"IF(L1789<>\"\",'Step 2) Calculate'!H1793,\"\")","v":""},{"$f":"IF(L1789<>\"\",'Step 2) Calculate'!C1793,\"\")","v":""}]
[null,null,null,null,null,null,null,null,null,null,{"$f":"IF(L1790<>\"\",'Step 2) Calculate'!B1794,\"Zzzzz - delete row\")","v":"Zzzzz - delete row"},{"$f":"IF('Step 2) Calculate'!E1794<>\"\",'Step 2) Calculate'!G1794,\"\")","v":""},{"$f":"IF(L1790<>\"\",'Step 2) Calculate'!F1794,\"\")","v":""},{"$f":"IF(L1790<>\"\",'Step 2) Calculate'!H1794,\"\")","v":""},{"$f":"IF(L1790<>\"\",'Step 2) Calculate'!C1794,\"\")","v":""}]
[null,null,null,null,null,null,null,null,null,null,{"$f":"IF(L1791<>\"\",'Step 2) Calculate'!B1795,\"Zzzzz - delete row\")","v":"Zzzzz - delete row"},{"$f":"IF('Step 2) Calculate'!E1795<>\"\",'Step 2) Calculate'!G1795,\"\")","v":""},{"$f":"IF(L1791<>\"\",'Step 2) Calculate'!F1795,\"\")","v":""},{"$f":"IF(L1791<>\"\",'Step 2) Calculate'!H1795,\"\")","v":""},{"$f":"IF(L1791<>\"\",'Step 2) Calculate'!C1795,\"\")","v":""}]
[null,null,null,null,null,null,null,null,null,null,{"$f":"IF(L1792<>\"\",'Step 2) Calculate'!B1796,\"Zzzzz - delete row\")","v":"Zzzzz - delete row"},{"$f":"IF('Step 2) Calculate'!E1796<>\"\",'Step 2) Calculate'!G1796,\"\")","v":""},{"$f":"IF(L1792<>\"\",'Step 2) Calculate'!F1796,\"\")","v":""},{"$f":"IF(L1792<>\"\",'Step 2) Calculate'!H1796,\"\")","v":""},{"$f":"IF(L1792<>\"\",'Step 2) Calculate'!C1796,\"\")","v":""}]
[null,null,null,null,null,null,null,null,null,null,{"$f":"IF(L1793<>\"\",'Step 2) Calculate'!B1797,\"Zzzzz - delete row\")","v":"Zzzzz - delete row"},{"$f":"IF('Step 2) Calculate'!E1797<>\"\",'Step 2) Calculate'!G1797,\"\")","v":""},{"$f":"IF(L1793<>\"\",'Step 2) Calculate'!F1797,\"\")","v":""},{"$f":"IF(L1793<>\"\",'Step 2) Calculate'!H1797,\"\")","v":""},{"$f":"IF(L1793<>\"\",'Step 2) Calculate'!C1797,\"\")","v":""}]
[null,null,null,null,null,null,null,null,null,null,{"$f":"IF(L1794<>\"\",'Step 2) Calculate'!B1798,\"Zzzzz - delete row\")","v":"Zzzzz - delete row"},{"$f":"IF('Step 2) Calculate'!E1798<>\"\",'Step 2) Calculate'!G1798,\"\")","v":""},{"$f":"IF(L1794<>\"\",'Step 2) Calculate'!F1798,\"\")","v":""},{"$f":"IF(L1794<>\"\",'Step 2) Calculate'!H1798,\"\")","v":""},{"$f":"IF(L1794<>\"\",'Step 2) Calculate'!C1798,\"\")","v":""}]
[null,null,null,null,null,null,null,null,null,null,{"$f":"IF(L1795<>\"\",'Step 2) Calculate'!B1799,\"Zzzzz - delete row\")","v":"Zzzzz - delete row"},{"$f":"IF('Step 2) Calculate'!E1799<>\"\",'Step 2) Calculate'!G1799,\"\")","v":""},{"$f":"IF(L1795<>\"\",'Step 2) Calculate'!F1799,\"\")","v":""},{"$f":"IF(L1795<>\"\",'Step 2) Calculate'!H1799,\"\")","v":""},{"$f":"IF(L1795<>\"\",'Step 2) Calculate'!C1799,\"\")","v":""}]
[null,null,null,null,null,null,null,null,null,null,{"$f":"IF(L1796<>\"\",'Step 2) Calculate'!B1800,\"Zzzzz - delete row\")","v":"Zzzzz - delete row"},{"$f":"IF('Step 2) Calculate'!E1800<>\"\",'Step 2) Calculate'!G1800,\"\")","v":""},{"$f":"IF(L1796<>\"\",'Step 2) Calculate'!F1800,\"\")","v":""},{"$f":"IF(L1796<>\"\",'Step 2) Calculate'!H1800,\"\")","v":""},{"$f":"IF(L1796<>\"\",'Step 2) Calculate'!C1800,\"\")","v":""}]
[null,null,null,null,null,null,null,null,null,null,{"$f":"IF(L1797<>\"\",'Step 2) Calculate'!B1801,\"Zzzzz - delete row\")","v":"Zzzzz - delete row"},{"$f":"IF('Step 2) Calculate'!E1801<>\"\",'Step 2) Calculate'!G1801,\"\")","v":""},{"$f":"IF(L1797<>\"\",'Step 2) Calculate'!F1801,\"\")","v":""},{"$f":"IF(L1797<>\"\",'Step 2) Calculate'!H1801,\"\")","v":""},{"$f":"IF(L1797<>\"\",'Step 2) Calculate'!C1801,\"\")","v":""}]
[null,null,null,null,null,null,null,null,null,null,{"$f":"IF(L1798<>\"\",'Step 2) Calculate'!B1802,\"Zzzzz - delete row\")","v":"Zzzzz - delete row"},{"$f":"IF('Step 2) Calculate'!E1802<>\"\",'Step 2) Calculate'!G1802,\"\")","v":""},{"$f":"IF(L1798<>\"\",'Step 2) Calculate'!F1802,\"\")","v":""},{"$f":"IF(L1798<>\"\",'Step 2) Calculate'!H1802,\"\")","v":""},{"$f":"IF(L1798<>\"\",'Step 2) Calculate'!C1802,\"\")","v":""}]
[null,null,null,null,null,null,null,null,null,null,{"$f":"IF(L1799<>\"\",'Step 2) Calculate'!B1803,\"Zzzzz - delete row\")","v":"Zzzzz - delete row"},{"$f":"IF('Step 2) Calculate'!E1803<>\"\",'Step 2) Calculate'!G1803,\"\")","v":""},{"$f":"IF(L1799<>\"\",'Step 2) Calculate'!F1803,\"\")","v":""},{"$f":"IF(L1799<>\"\",'Step 2) Calculate'!H1803,\"\")","v":""},{"$f":"IF(L1799<>\"\",'Step 2) Calculate'!C1803,\"\")","v":""}]
[null,null,null,null,null,null,null,null,null,null,{"$f":"IF(L1800<>\"\",'Step 2) Calculate'!B1804,\"Zzzzz - delete row\")","v":"Zzzzz - delete row"},{"$f":"IF('Step 2) Calculate'!E1804<>\"\",'Step 2) Calculate'!G1804,\"\")","v":""},{"$f":"IF(L1800<>\"\",'Step 2) Calculate'!F1804,\"\")","v":""},{"$f":"IF(L1800<>\"\",'Step 2) Calculate'!H1804,\"\")","v":""},{"$f":"IF(L1800<>\"\",'Step 2) Calculate'!C1804,\"\")","v":""}]
[null,null,null,null,null,null,null,null,null,null,{"$f":"IF(L1801<>\"\",'Step 2) Calculate'!B1805,\"Zzzzz - delete row\")","v":"Zzzzz - delete row"},{"$f":"IF('Step 2) Calculate'!E1805<>\"\",'Step 2) Calculate'!G1805,\"\")","v":""},{"$f":"IF(L1801<>\"\",'Step 2) Calculate'!F1805,\"\")","v":""},{"$f":"IF(L1801<>\"\",'Step 2) Calculate'!H1805,\"\")","v":""},{"$f":"IF(L1801<>\"\",'Step 2) Calculate'!C1805,\"\")","v":""}]
[null,null,null,null,null,null,null,null,null,null,{"$f":"IF(L1802<>\"\",'Step 2) Calculate'!B1806,\"Zzzzz - delete row\")","v":"Zzzzz - delete row"},{"$f":"IF('Step 2) Calculate'!E1806<>\"\",'Step 2) Calculate'!G1806,\"\")","v":""},{"$f":"IF(L1802<>\"\",'Step 2) Calculate'!F1806,\"\")","v":""},{"$f":"IF(L1802<>\"\",'Step 2) Calculate'!H1806,\"\")","v":""},{"$f":"IF(L1802<>\"\",'Step 2) Calculate'!C1806,\"\")","v":""}]
[null,null,null,null,null,null,null,null,null,null,{"$f":"IF(L1803<>\"\",'Step 2) Calculate'!B1807,\"Zzzzz - delete row\")","v":"Zzzzz - delete row"},{"$f":"IF('Step 2) Calculate'!E1807<>\"\",'Step 2) Calculate'!G1807,\"\")","v":""},{"$f":"IF(L1803<>\"\",'Step 2) Calculate'!F1807,\"\")","v":""},{"$f":"IF(L1803<>\"\",'Step 2) Calculate'!H1807,\"\")","v":""},{"$f":"IF(L1803<>\"\",'Step 2) Calculate'!C1807,\"\")","v":""}]
[null,null,null,null,null,null,null,null,null,null,{"$f":"IF(L1804<>\"\",'Step 2) Calculate'!B1808,\"Zzzzz - delete row\")","v":"Zzzzz - delete row"},{"$f":"IF('Step 2) Calculate'!E1808<>\"\",'Step 2) Calculate'!G1808,\"\")","v":""},{"$f":"IF(L1804<>\"\",'Step 2) Calculate'!F1808,\"\")","v":""},{"$f":"IF(L1804<>\"\",'Step 2) Calculate'!H1808,\"\")","v":""},{"$f":"IF(L1804<>\"\",'Step 2) Calculate'!C1808,\"\")","v":""}]
[null,null,null,null,null,null,null,null,null,null,{"$f":"IF(L1805<>\"\",'Step 2) Calculate'!B1809,\"Zzzzz - delete row\")","v":"Zzzzz - delete row"},{"$f":"IF('Step 2) Calculate'!E1809<>\"\",'Step 2) Calculate'!G1809,\"\")","v":""},{"$f":"IF(L1805<>\"\",'Step 2) Calculate'!F1809,\"\")","v":""},{"$f":"IF(L1805<>\"\",'Step 2) Calculate'!H1809,\"\")","v":""},{"$f":"IF(L1805<>\"\",'Step 2) Calculate'!C1809,\"\")","v":""}]
[null,null,null,null,null,null,null,null,null,null,{"$f":"IF(L1806<>\"\",'Step 2) Calculate'!B1810,\"Zzzzz - delete row\")","v":"Zzzzz - delete row"},{"$f":"IF('Step 2) Calculate'!E1810<>\"\",'Step 2) Calculate'!G1810,\"\")","v":""},{"$f":"IF(L1806<>\"\",'Step 2) Calculate'!F1810,\"\")","v":""},{"$f":"IF(L1806<>\"\",'Step 2) Calculate'!H1810,\"\")","v":""},{"$f":"IF(L1806<>\"\",'Step 2) Calculate'!C1810,\"\")","v":""}]
[null,null,null,null,null,null,null,null,null,null,{"$f":"IF(L1807<>\"\",'Step 2) Calculate'!B1811,\"Zzzzz - delete row\")","v":"Zzzzz - delete row"},{"$f":"IF('Step 2) Calculate'!E1811<>\"\",'Step 2) Calculate'!G1811,\"\")","v":""},{"$f":"IF(L1807<>\"\",'Step 2) Calculate'!F1811,\"\")","v":""},{"$f":"IF(L1807<>\"\",'Step 2) Calculate'!H1811,\"\")","v":""},{"$f":"IF(L1807<>\"\",'Step 2) Calculate'!C1811,\"\")","v":""}]
[null,null,null,null,null,null,null,null,null,null,{"$f":"IF(L1808<>\"\",'Step 2) Calculate'!B1812,\"Zzzzz - delete row\")","v":"Zzzzz - delete row"},{"$f":"IF('Step 2) Calculate'!E1812<>\"\",'Step 2) Calculate'!G1812,\"\")","v":""},{"$f":"IF(L1808<>\"\",'Step 2) Calculate'!F1812,\"\")","v":""},{"$f":"IF(L1808<>\"\",'Step 2) Calculate'!H1812,\"\")","v":""},{"$f":"IF(L1808<>\"\",'Step 2) Calculate'!C1812,\"\")","v":""}]
[null,null,null,null,null,null,null,null,null,null,{"$f":"IF(L1809<>\"\",'Step 2) Calculate'!B1813,\"Zzzzz - delete row\")","v":"Zzzzz - delete row"},{"$f":"IF('Step 2) Calculate'!E1813<>\"\",'Step 2) Calculate'!G1813,\"\")","v":""},{"$f":"IF(L1809<>\"\",'Step 2) Calculate'!F1813,\"\")","v":""},{"$f":"IF(L1809<>\"\",'Step 2) Calculate'!H1813,\"\")","v":""},{"$f":"IF(L1809<>\"\",'Step 2) Calculate'!C1813,\"\")","v":""}]
[null,null,null,null,null,null,null,null,null,null,{"$f":"IF(L1810<>\"\",'Step 2) Calculate'!B1814,\"Zzzzz - delete row\")","v":"Zzzzz - delete row"},{"$f":"IF('Step 2) Calculate'!E1814<>\"\",'Step 2) Calculate'!G1814,\"\")","v":""},{"$f":"IF(L1810<>\"\",'Step 2) Calculate'!F1814,\"\")","v":""},{"$f":"IF(L1810<>\"\",'Step 2) Calculate'!H1814,\"\")","v":""},{"$f":"IF(L1810<>\"\",'Step 2) Calculate'!C1814,\"\")","v":""}]
[null,null,null,null,null,null,null,null,null,null,{"$f":"IF(L1811<>\"\",'Step 2) Calculate'!B1815,\"Zzzzz - delete row\")","v":"Zzzzz - delete row"},{"$f":"IF('Step 2) Calculate'!E1815<>\"\",'Step 2) Calculate'!G1815,\"\")","v":""},{"$f":"IF(L1811<>\"\",'Step 2) Calculate'!F1815,\"\")","v":""},{"$f":"IF(L1811<>\"\",'Step 2) Calculate'!H1815,\"\")","v":""},{"$f":"IF(L1811<>\"\",'Step 2) Calculate'!C1815,\"\")","v":""}]
[null,null,null,null,null,null,null,null,null,null,{"$f":"IF(L1812<>\"\",'Step 2) Calculate'!B1816,\"Zzzzz - delete row\")","v":"Zzzzz - delete row"},{"$f":"IF('Step 2) Calculate'!E1816<>\"\",'Step 2) Calculate'!G1816,\"\")","v":""},{"$f":"IF(L1812<>\"\",'Step 2) Calculate'!F1816,\"\")","v":""},{"$f":"IF(L1812<>\"\",'Step 2) Calculate'!H1816,\"\")","v":""},{"$f":"IF(L1812<>\"\",'Step 2) Calculate'!C1816,\"\")","v":""}]
[null,null,null,null,null,null,null,null,null,null,{"$f":"IF(L1813<>\"\",'Step 2) Calculate'!B1817,\"Zzzzz - delete row\")","v":"Zzzzz - delete row"},{"$f":"IF('Step 2) Calculate'!E1817<>\"\",'Step 2) Calculate'!G1817,\"\")","v":""},{"$f":"IF(L1813<>\"\",'Step 2) Calculate'!F1817,\"\")","v":""},{"$f":"IF(L1813<>\"\",'Step 2) Calculate'!H1817,\"\")","v":""},{"$f":"IF(L1813<>\"\",'Step 2) Calculate'!C1817,\"\")","v":""}]
[null,null,null,null,null,null,null,null,null,null,{"$f":"IF(L1814<>\"\",'Step 2) Calculate'!B1818,\"Zzzzz - delete row\")","v":"Zzzzz - delete row"},{"$f":"IF('Step 2) Calculate'!E1818<>\"\",'Step 2) Calculate'!G1818,\"\")","v":""},{"$f":"IF(L1814<>\"\",'Step 2) Calculate'!F1818,\"\")","v":""},{"$f":"IF(L1814<>\"\",'Step 2) Calculate'!H1818,\"\")","v":""},{"$f":"IF(L1814<>\"\",'Step 2) Calculate'!C1818,\"\")","v":""}]
[null,null,null,null,null,null,null,null,null,null,{"$f":"IF(L1815<>\"\",'Step 2) Calculate'!B1819,\"Zzzzz - delete row\")","v":"Zzzzz - delete row"},{"$f":"IF('Step 2) Calculate'!E1819<>\"\",'Step 2) Calculate'!G1819,\"\")","v":""},{"$f":"IF(L1815<>\"\",'Step 2) Calculate'!F1819,\"\")","v":""},{"$f":"IF(L1815<>\"\",'Step 2) Calculate'!H1819,\"\")","v":""},{"$f":"IF(L1815<>\"\",'Step 2) Calculate'!C1819,\"\")","v":""}]
[null,null,null,null,null,null,null,null,null,null,{"$f":"IF(L1816<>\"\",'Step 2) Calculate'!B1820,\"Zzzzz - delete row\")","v":"Zzzzz - delete row"},{"$f":"IF('Step 2) Calculate'!E1820<>\"\",'Step 2) Calculate'!G1820,\"\")","v":""},{"$f":"IF(L1816<>\"\",'Step 2) Calculate'!F1820,\"\")","v":""},{"$f":"IF(L1816<>\"\",'Step 2) Calculate'!H1820,\"\")","v":""},{"$f":"IF(L1816<>\"\",'Step 2) Calculate'!C1820,\"\")","v":""}]
[null,null,null,null,null,null,null,null,null,null,{"$f":"IF(L1817<>\"\",'Step 2) Calculate'!B1821,\"Zzzzz - delete row\")","v":"Zzzzz - delete row"},{"$f":"IF('Step 2) Calculate'!E1821<>\"\",'Step 2) Calculate'!G1821,\"\")","v":""},{"$f":"IF(L1817<>\"\",'Step 2) Calculate'!F1821,\"\")","v":""},{"$f":"IF(L1817<>\"\",'Step 2) Calculate'!H1821,\"\")","v":""},{"$f":"IF(L1817<>\"\",'Step 2) Calculate'!C1821,\"\")","v":""}]
[null,null,null,null,null,null,null,null,null,null,{"$f":"IF(L1818<>\"\",'Step 2) Calculate'!B1822,\"Zzzzz - delete row\")","v":"Zzzzz - delete row"},{"$f":"IF('Step 2) Calculate'!E1822<>\"\",'Step 2) Calculate'!G1822,\"\")","v":""},{"$f":"IF(L1818<>\"\",'Step 2) Calculate'!F1822,\"\")","v":""},{"$f":"IF(L1818<>\"\",'Step 2) Calculate'!H1822,\"\")","v":""},{"$f":"IF(L1818<>\"\",'Step 2) Calculate'!C1822,\"\")","v":""}]
[null,null,null,null,null,null,null,null,null,null,{"$f":"IF(L1819<>\"\",'Step 2) Calculate'!B1823,\"Zzzzz - delete row\")","v":"Zzzzz - delete row"},{"$f":"IF('Step 2) Calculate'!E1823<>\"\",'Step 2) Calculate'!G1823,\"\")","v":""},{"$f":"IF(L1819<>\"\",'Step 2) Calculate'!F1823,\"\")","v":""},{"$f":"IF(L1819<>\"\",'Step 2) Calculate'!H1823,\"\")","v":""},{"$f":"IF(L1819<>\"\",'Step 2) Calculate'!C1823,\"\")","v":""}]
[null,null,null,null,null,null,null,null,null,null,{"$f":"IF(L1820<>\"\",'Step 2) Calculate'!B1824,\"Zzzzz - delete row\")","v":"Zzzzz - delete row"},{"$f":"IF('Step 2) Calculate'!E1824<>\"\",'Step 2) Calculate'!G1824,\"\")","v":""},{"$f":"IF(L1820<>\"\",'Step 2) Calculate'!F1824,\"\")","v":""},{"$f":"IF(L1820<>\"\",'Step 2) Calculate'!H1824,\"\")","v":""},{"$f":"IF(L1820<>\"\",'Step 2) Calculate'!C1824,\"\")","v":""}]
[null,null,null,null,null,null,null,null,null,null,{"$f":"IF(L1821<>\"\",'Step 2) Calculate'!B1825,\"Zzzzz - delete row\")","v":"Zzzzz - delete row"},{"$f":"IF('Step 2) Calculate'!E1825<>\"\",'Step 2) Calculate'!G1825,\"\")","v":""},{"$f":"IF(L1821<>\"\",'Step 2) Calculate'!F1825,\"\")","v":""},{"$f":"IF(L1821<>\"\",'Step 2) Calculate'!H1825,\"\")","v":""},{"$f":"IF(L1821<>\"\",'Step 2) Calculate'!C1825,\"\")","v":""}]
[null,null,null,null,null,null,null,null,null,null,{"$f":"IF(L1822<>\"\",'Step 2) Calculate'!B1826,\"Zzzzz - delete row\")","v":"Zzzzz - delete row"},{"$f":"IF('Step 2) Calculate'!E1826<>\"\",'Step 2) Calculate'!G1826,\"\")","v":""},{"$f":"IF(L1822<>\"\",'Step 2) Calculate'!F1826,\"\")","v":""},{"$f":"IF(L1822<>\"\",'Step 2) Calculate'!H1826,\"\")","v":""},{"$f":"IF(L1822<>\"\",'Step 2) Calculate'!C1826,\"\")","v":""}]
[null,null,null,null,null,null,null,null,null,null,{"$f":"IF(L1823<>\"\",'Step 2) Calculate'!B1827,\"Zzzzz - delete row\")","v":"Zzzzz - delete row"},{"$f":"IF('Step 2) Calculate'!E1827<>\"\",'Step 2) Calculate'!G1827,\"\")","v":""},{"$f":"IF(L1823<>\"\",'Step 2) Calculate'!F1827,\"\")","v":""},{"$f":"IF(L1823<>\"\",'Step 2) Calculate'!H1827,\"\")","v":""},{"$f":"IF(L1823<>\"\",'Step 2) Calculate'!C1827,\"\")","v":""}]
[null,null,null,null,null,null,null,null,null,null,{"$f":"IF(L1824<>\"\",'Step 2) Calculate'!B1828,\"Zzzzz - delete row\")","v":"Zzzzz - delete row"},{"$f":"IF('Step 2) Calculate'!E1828<>\"\",'Step 2) Calculate'!G1828,\"\")","v":""},{"$f":"IF(L1824<>\"\",'Step 2) Calculate'!F1828,\"\")","v":""},{"$f":"IF(L1824<>\"\",'Step 2) Calculate'!H1828,\"\")","v":""},{"$f":"IF(L1824<>\"\",'Step 2) Calculate'!C1828,\"\")","v":""}]
[null,null,null,null,null,null,null,null,null,null,{"$f":"IF(L1825<>\"\",'Step 2) Calculate'!B1829,\"Zzzzz - delete row\")","v":"Zzzzz - delete row"},{"$f":"IF('Step 2) Calculate'!E1829<>\"\",'Step 2) Calculate'!G1829,\"\")","v":""},{"$f":"IF(L1825<>\"\",'Step 2) Calculate'!F1829,\"\")","v":""},{"$f":"IF(L1825<>\"\",'Step 2) Calculate'!H1829,\"\")","v":""},{"$f":"IF(L1825<>\"\",'Step 2) Calculate'!C1829,\"\")","v":""}]
[null,null,null,null,null,null,null,null,null,null,{"$f":"IF(L1826<>\"\",'Step 2) Calculate'!B1830,\"Zzzzz - delete row\")","v":"Zzzzz - delete row"},{"$f":"IF('Step 2) Calculate'!E1830<>\"\",'Step 2) Calculate'!G1830,\"\")","v":""},{"$f":"IF(L1826<>\"\",'Step 2) Calculate'!F1830,\"\")","v":""},{"$f":"IF(L1826<>\"\",'Step 2) Calculate'!H1830,\"\")","v":""},{"$f":"IF(L1826<>\"\",'Step 2) Calculate'!C1830,\"\")","v":""}]
[null,null,null,null,null,null,null,null,null,null,{"$f":"IF(L1827<>\"\",'Step 2) Calculate'!B1831,\"Zzzzz - delete row\")","v":"Zzzzz - delete row"},{"$f":"IF('Step 2) Calculate'!E1831<>\"\",'Step 2) Calculate'!G1831,\"\")","v":""},{"$f":"IF(L1827<>\"\",'Step 2) Calculate'!F1831,\"\")","v":""},{"$f":"IF(L1827<>\"\",'Step 2) Calculate'!H1831,\"\")","v":""},{"$f":"IF(L1827<>\"\",'Step 2) Calculate'!C1831,\"\")","v":""}]
[null,null,null,null,null,null,null,null,null,null,{"$f":"IF(L1828<>\"\",'Step 2) Calculate'!B1832,\"Zzzzz - delete row\")","v":"Zzzzz - delete row"},{"$f":"IF('Step 2) Calculate'!E1832<>\"\",'Step 2) Calculate'!G1832,\"\")","v":""},{"$f":"IF(L1828<>\"\",'Step 2) Calculate'!F1832,\"\")","v":""},{"$f":"IF(L1828<>\"\",'Step 2) Calculate'!H1832,\"\")","v":""},{"$f":"IF(L1828<>\"\",'Step 2) Calculate'!C1832,\"\")","v":""}]
[null,null,null,null,null,null,null,null,null,null,{"$f":"IF(L1829<>\"\",'Step 2) Calculate'!B1833,\"Zzzzz - delete row\")","v":"Zzzzz - delete row"},{"$f":"IF('Step 2) Calculate'!E1833<>\"\",'Step 2) Calculate'!G1833,\"\")","v":""},{"$f":"IF(L1829<>\"\",'Step 2) Calculate'!F1833,\"\")","v":""},{"$f":"IF(L1829<>\"\",'Step 2) Calculate'!H1833,\"\")","v":""},{"$f":"IF(L1829<>\"\",'Step 2) Calculate'!C1833,\"\")","v":""}]
[null,null,null,null,null,null,null,null,null,null,{"$f":"IF(L1830<>\"\",'Step 2) Calculate'!B1834,\"Zzzzz - delete row\")","v":"Zzzzz - delete row"},{"$f":"IF('Step 2) Calculate'!E1834<>\"\",'Step 2) Calculate'!G1834,\"\")","v":""},{"$f":"IF(L1830<>\"\",'Step 2) Calculate'!F1834,\"\")","v":""},{"$f":"IF(L1830<>\"\",'Step 2) Calculate'!H1834,\"\")","v":""},{"$f":"IF(L1830<>\"\",'Step 2) Calculate'!C1834,\"\")","v":""}]
[null,null,null,null,null,null,null,null,null,null,{"$f":"IF(L1831<>\"\",'Step 2) Calculate'!B1835,\"Zzzzz - delete row\")","v":"Zzzzz - delete row"},{"$f":"IF('Step 2) Calculate'!E1835<>\"\",'Step 2) Calculate'!G1835,\"\")","v":""},{"$f":"IF(L1831<>\"\",'Step 2) Calculate'!F1835,\"\")","v":""},{"$f":"IF(L1831<>\"\",'Step 2) Calculate'!H1835,\"\")","v":""},{"$f":"IF(L1831<>\"\",'Step 2) Calculate'!C1835,\"\")","v":""}]
[null,null,null,null,null,null,null,null,null,null,{"$f":"IF(L1832<>\"\",'Step 2) Calculate'!B1836,\"Zzzzz - delete row\")","v":"Zzzzz - delete row"},{"$f":"IF('Step 2) Calculate'!E1836<>\"\",'Step 2) Calculate'!G1836,\"\")","v":""},{"$f":"IF(L1832<>\"\",'Step 2) Calculate'!F1836,\"\")","v":""},{"$f":"IF(L1832<>\"\",'Step 2) Calculate'!H1836,\"\")","v":""},{"$f":"IF(L1832<>\"\",'Step 2) Calculate'!C1836,\"\")","v":""}]
[null,null,null,null,null,null,null,null,null,null,{"$f":"IF(L1833<>\"\",'Step 2) Calculate'!B1837,\"Zzzzz - delete row\")","v":"Zzzzz - delete row"},{"$f":"IF('Step 2) Calculate'!E1837<>\"\",'Step 2) Calculate'!G1837,\"\")","v":""},{"$f":"IF(L1833<>\"\",'Step 2) Calculate'!F1837,\"\")","v":""},{"$f":"IF(L1833<>\"\",'Step 2) Calculate'!H1837,\"\")","v":""},{"$f":"IF(L1833<>\"\",'Step 2) Calculate'!C1837,\"\")","v":""}]
[null,null,null,null,null,null,null,null,null,null,{"$f":"IF(L1834<>\"\",'Step 2) Calculate'!B1838,\"Zzzzz - delete row\")","v":"Zzzzz - delete row"},{"$f":"IF('Step 2) Calculate'!E1838<>\"\",'Step 2) Calculate'!G1838,\"\")","v":""},{"$f":"IF(L1834<>\"\",'Step 2) Calculate'!F1838,\"\")","v":""},{"$f":"IF(L1834<>\"\",'Step 2) Calculate'!H1838,\"\")","v":""},{"$f":"IF(L1834<>\"\",'Step 2) Calculate'!C1838,\"\")","v":""}]
[null,null,null,null,null,null,null,null,null,null,{"$f":"IF(L1835<>\"\",'Step 2) Calculate'!B1839,\"Zzzzz - delete row\")","v":"Zzzzz - delete row"},{"$f":"IF('Step 2) Calculate'!E1839<>\"\",'Step 2) Calculate'!G1839,\"\")","v":""},{"$f":"IF(L1835<>\"\",'Step 2) Calculate'!F1839,\"\")","v":""},{"$f":"IF(L1835<>\"\",'Step 2) Calculate'!H1839,\"\")","v":""},{"$f":"IF(L1835<>\"\",'Step 2) Calculate'!C1839,\"\")","v":""}]
[null,null,null,null,null,null,null,null,null,null,{"$f":"IF(L1836<>\"\",'Step 2) Calculate'!B1840,\"Zzzzz - delete row\")","v":"Zzzzz - delete row"},{"$f":"IF('Step 2) Calculate'!E1840<>\"\",'Step 2) Calculate'!G1840,\"\")","v":""},{"$f":"IF(L1836<>\"\",'Step 2) Calculate'!F1840,\"\")","v":""},{"$f":"IF(L1836<>\"\",'Step 2) Calculate'!H1840,\"\")","v":""},{"$f":"IF(L1836<>\"\",'Step 2) Calculate'!C1840,\"\")","v":""}]
[null,null,null,null,null,null,null,null,null,null,{"$f":"IF(L1837<>\"\",'Step 2) Calculate'!B1841,\"Zzzzz - delete row\")","v":"Zzzzz - delete row"},{"$f":"IF('Step 2) Calculate'!E1841<>\"\",'Step 2) Calculate'!G1841,\"\")","v":""},{"$f":"IF(L1837<>\"\",'Step 2) Calculate'!F1841,\"\")","v":""},{"$f":"IF(L1837<>\"\",'Step 2) Calculate'!H1841,\"\")","v":""},{"$f":"IF(L1837<>\"\",'Step 2) Calculate'!C1841,\"\")","v":""}]
[null,null,null,null,null,null,null,null,null,null,{"$f":"IF(L1838<>\"\",'Step 2) Calculate'!B1842,\"Zzzzz - delete row\")","v":"Zzzzz - delete row"},{"$f":"IF('Step 2) Calculate'!E1842<>\"\",'Step 2) Calculate'!G1842,\"\")","v":""},{"$f":"IF(L1838<>\"\",'Step 2) Calculate'!F1842,\"\")","v":""},{"$f":"IF(L1838<>\"\",'Step 2) Calculate'!H1842,\"\")","v":""},{"$f":"IF(L1838<>\"\",'Step 2) Calculate'!C1842,\"\")","v":""}]
[null,null,null,null,null,null,null,null,null,null,{"$f":"IF(L1839<>\"\",'Step 2) Calculate'!B1843,\"Zzzzz - delete row\")","v":"Zzzzz - delete row"},{"$f":"IF('Step 2) Calculate'!E1843<>\"\",'Step 2) Calculate'!G1843,\"\")","v":""},{"$f":"IF(L1839<>\"\",'Step 2) Calculate'!F1843,\"\")","v":""},{"$f":"IF(L1839<>\"\",'Step 2) Calculate'!H1843,\"\")","v":""},{"$f":"IF(L1839<>\"\",'Step 2) Calculate'!C1843,\"\")","v":""}]
[null,null,null,null,null,null,null,null,null,null,{"$f":"IF(L1840<>\"\",'Step 2) Calculate'!B1844,\"Zzzzz - delete row\")","v":"Zzzzz - delete row"},{"$f":"IF('Step 2) Calculate'!E1844<>\"\",'Step 2) Calculate'!G1844,\"\")","v":""},{"$f":"IF(L1840<>\"\",'Step 2) Calculate'!F1844,\"\")","v":""},{"$f":"IF(L1840<>\"\",'Step 2) Calculate'!H1844,\"\")","v":""},{"$f":"IF(L1840<>\"\",'Step 2) Calculate'!C1844,\"\")","v":""}]
[null,null,null,null,null,null,null,null,null,null,{"$f":"IF(L1841<>\"\",'Step 2) Calculate'!B1845,\"Zzzzz - delete row\")","v":"Zzzzz - delete row"},{"$f":"IF('Step 2) Calculate'!E1845<>\"\",'Step 2) Calculate'!G1845,\"\")","v":""},{"$f":"IF(L1841<>\"\",'Step 2) Calculate'!F1845,\"\")","v":""},{"$f":"IF(L1841<>\"\",'Step 2) Calculate'!H1845,\"\")","v":""},{"$f":"IF(L1841<>\"\",'Step 2) Calculate'!C1845,\"\")","v":""}]
[null,null,null,null,null,null,null,null,null,null,{"$f":"IF(L1842<>\"\",'Step 2) Calculate'!B1846,\"Zzzzz - delete row\")","v":"Zzzzz - delete row"},{"$f":"IF('Step 2) Calculate'!E1846<>\"\",'Step 2) Calculate'!G1846,\"\")","v":""},{"$f":"IF(L1842<>\"\",'Step 2) Calculate'!F1846,\"\")","v":""},{"$f":"IF(L1842<>\"\",'Step 2) Calculate'!H1846,\"\")","v":""},{"$f":"IF(L1842<>\"\",'Step 2) Calculate'!C1846,\"\")","v":""}]
[null,null,null,null,null,null,null,null,null,null,{"$f":"IF(L1843<>\"\",'Step 2) Calculate'!B1847,\"Zzzzz - delete row\")","v":"Zzzzz - delete row"},{"$f":"IF('Step 2) Calculate'!E1847<>\"\",'Step 2) Calculate'!G1847,\"\")","v":""},{"$f":"IF(L1843<>\"\",'Step 2) Calculate'!F1847,\"\")","v":""},{"$f":"IF(L1843<>\"\",'Step 2) Calculate'!H1847,\"\")","v":""},{"$f":"IF(L1843<>\"\",'Step 2) Calculate'!C1847,\"\")","v":""}]
[null,null,null,null,null,null,null,null,null,null,{"$f":"IF(L1844<>\"\",'Step 2) Calculate'!B1848,\"Zzzzz - delete row\")","v":"Zzzzz - delete row"},{"$f":"IF('Step 2) Calculate'!E1848<>\"\",'Step 2) Calculate'!G1848,\"\")","v":""},{"$f":"IF(L1844<>\"\",'Step 2) Calculate'!F1848,\"\")","v":""},{"$f":"IF(L1844<>\"\",'Step 2) Calculate'!H1848,\"\")","v":""},{"$f":"IF(L1844<>\"\",'Step 2) Calculate'!C1848,\"\")","v":""}]
[null,null,null,null,null,null,null,null,null,null,{"$f":"IF(L1845<>\"\",'Step 2) Calculate'!B1849,\"Zzzzz - delete row\")","v":"Zzzzz - delete row"},{"$f":"IF('Step 2) Calculate'!E1849<>\"\",'Step 2) Calculate'!G1849,\"\")","v":""},{"$f":"IF(L1845<>\"\",'Step 2) Calculate'!F1849,\"\")","v":""},{"$f":"IF(L1845<>\"\",'Step 2) Calculate'!H1849,\"\")","v":""},{"$f":"IF(L1845<>\"\",'Step 2) Calculate'!C1849,\"\")","v":""}]
[null,null,null,null,null,null,null,null,null,null,{"$f":"IF(L1846<>\"\",'Step 2) Calculate'!B1850,\"Zzzzz - delete row\")","v":"Zzzzz - delete row"},{"$f":"IF('Step 2) Calculate'!E1850<>\"\",'Step 2) Calculate'!G1850,\"\")","v":""},{"$f":"IF(L1846<>\"\",'Step 2) Calculate'!F1850,\"\")","v":""},{"$f":"IF(L1846<>\"\",'Step 2) Calculate'!H1850,\"\")","v":""},{"$f":"IF(L1846<>\"\",'Step 2) Calculate'!C1850,\"\")","v":""}]
[null,null,null,null,null,null,null,null,null,null,{"$f":"IF(L1847<>\"\",'Step 2) Calculate'!B1851,\"Zzzzz - delete row\")","v":"Zzzzz - delete row"},{"$f":"IF('Step 2) Calculate'!E1851<>\"\",'Step 2) Calculate'!G1851,\"\")","v":""},{"$f":"IF(L1847<>\"\",'Step 2) Calculate'!F1851,\"\")","v":""},{"$f":"IF(L1847<>\"\",'Step 2) Calculate'!H1851,\"\")","v":""},{"$f":"IF(L1847<>\"\",'Step 2) Calculate'!C1851,\"\")","v":""}]
[null,null,null,null,null,null,null,null,null,null,{"$f":"IF(L1848<>\"\",'Step 2) Calculate'!B1852,\"Zzzzz - delete row\")","v":"Zzzzz - delete row"},{"$f":"IF('Step 2) Calculate'!E1852<>\"\",'Step 2) Calculate'!G1852,\"\")","v":""},{"$f":"IF(L1848<>\"\",'Step 2) Calculate'!F1852,\"\")","v":""},{"$f":"IF(L1848<>\"\",'Step 2) Calculate'!H1852,\"\")","v":""},{"$f":"IF(L1848<>\"\",'Step 2) Calculate'!C1852,\"\")","v":""}]
[null,null,null,null,null,null,null,null,null,null,{"$f":"IF(L1849<>\"\",'Step 2) Calculate'!B1853,\"Zzzzz - delete row\")","v":"Zzzzz - delete row"},{"$f":"IF('Step 2) Calculate'!E1853<>\"\",'Step 2) Calculate'!G1853,\"\")","v":""},{"$f":"IF(L1849<>\"\",'Step 2) Calculate'!F1853,\"\")","v":""},{"$f":"IF(L1849<>\"\",'Step 2) Calculate'!H1853,\"\")","v":""},{"$f":"IF(L1849<>\"\",'Step 2) Calculate'!C1853,\"\")","v":""}]
[null,null,null,null,null,null,null,null,null,null,{"$f":"IF(L1850<>\"\",'Step 2) Calculate'!B1854,\"Zzzzz - delete row\")","v":"Zzzzz - delete row"},{"$f":"IF('Step 2) Calculate'!E1854<>\"\",'Step 2) Calculate'!G1854,\"\")","v":""},{"$f":"IF(L1850<>\"\",'Step 2) Calculate'!F1854,\"\")","v":""},{"$f":"IF(L1850<>\"\",'Step 2) Calculate'!H1854,\"\")","v":""},{"$f":"IF(L1850<>\"\",'Step 2) Calculate'!C1854,\"\")","v":""}]
[null,null,null,null,null,null,null,null,null,null,{"$f":"IF(L1851<>\"\",'Step 2) Calculate'!B1855,\"Zzzzz - delete row\")","v":"Zzzzz - delete row"},{"$f":"IF('Step 2) Calculate'!E1855<>\"\",'Step 2) Calculate'!G1855,\"\")","v":""},{"$f":"IF(L1851<>\"\",'Step 2) Calculate'!F1855,\"\")","v":""},{"$f":"IF(L1851<>\"\",'Step 2) Calculate'!H1855,\"\")","v":""},{"$f":"IF(L1851<>\"\",'Step 2) Calculate'!C1855,\"\")","v":""}]
[null,null,null,null,null,null,null,null,null,null,{"$f":"IF(L1852<>\"\",'Step 2) Calculate'!B1856,\"Zzzzz - delete row\")","v":"Zzzzz - delete row"},{"$f":"IF('Step 2) Calculate'!E1856<>\"\",'Step 2) Calculate'!G1856,\"\")","v":""},{"$f":"IF(L1852<>\"\",'Step 2) Calculate'!F1856,\"\")","v":""},{"$f":"IF(L1852<>\"\",'Step 2) Calculate'!H1856,\"\")","v":""},{"$f":"IF(L1852<>\"\",'Step 2) Calculate'!C1856,\"\")","v":""}]
[null,null,null,null,null,null,null,null,null,null,{"$f":"IF(L1853<>\"\",'Step 2) Calculate'!B1857,\"Zzzzz - delete row\")","v":"Zzzzz - delete row"},{"$f":"IF('Step 2) Calculate'!E1857<>\"\",'Step 2) Calculate'!G1857,\"\")","v":""},{"$f":"IF(L1853<>\"\",'Step 2) Calculate'!F1857,\"\")","v":""},{"$f":"IF(L1853<>\"\",'Step 2) Calculate'!H1857,\"\")","v":""},{"$f":"IF(L1853<>\"\",'Step 2) Calculate'!C1857,\"\")","v":""}]
[null,null,null,null,null,null,null,null,null,null,{"$f":"IF(L1854<>\"\",'Step 2) Calculate'!B1858,\"Zzzzz - delete row\")","v":"Zzzzz - delete row"},{"$f":"IF('Step 2) Calculate'!E1858<>\"\",'Step 2) Calculate'!G1858,\"\")","v":""},{"$f":"IF(L1854<>\"\",'Step 2) Calculate'!F1858,\"\")","v":""},{"$f":"IF(L1854<>\"\",'Step 2) Calculate'!H1858,\"\")","v":""},{"$f":"IF(L1854<>\"\",'Step 2) Calculate'!C1858,\"\")","v":""}]
[null,null,null,null,null,null,null,null,null,null,{"$f":"IF(L1855<>\"\",'Step 2) Calculate'!B1859,\"Zzzzz - delete row\")","v":"Zzzzz - delete row"},{"$f":"IF('Step 2) Calculate'!E1859<>\"\",'Step 2) Calculate'!G1859,\"\")","v":""},{"$f":"IF(L1855<>\"\",'Step 2) Calculate'!F1859,\"\")","v":""},{"$f":"IF(L1855<>\"\",'Step 2) Calculate'!H1859,\"\")","v":""},{"$f":"IF(L1855<>\"\",'Step 2) Calculate'!C1859,\"\")","v":""}]
[null,null,null,null,null,null,null,null,null,null,{"$f":"IF(L1856<>\"\",'Step 2) Calculate'!B1860,\"Zzzzz - delete row\")","v":"Zzzzz - delete row"},{"$f":"IF('Step 2) Calculate'!E1860<>\"\",'Step 2) Calculate'!G1860,\"\")","v":""},{"$f":"IF(L1856<>\"\",'Step 2) Calculate'!F1860,\"\")","v":""},{"$f":"IF(L1856<>\"\",'Step 2) Calculate'!H1860,\"\")","v":""},{"$f":"IF(L1856<>\"\",'Step 2) Calculate'!C1860,\"\")","v":""}]
[null,null,null,null,null,null,null,null,null,null,{"$f":"IF(L1857<>\"\",'Step 2) Calculate'!B1861,\"Zzzzz - delete row\")","v":"Zzzzz - delete row"},{"$f":"IF('Step 2) Calculate'!E1861<>\"\",'Step 2) Calculate'!G1861,\"\")","v":""},{"$f":"IF(L1857<>\"\",'Step 2) Calculate'!F1861,\"\")","v":""},{"$f":"IF(L1857<>\"\",'Step 2) Calculate'!H1861,\"\")","v":""},{"$f":"IF(L1857<>\"\",'Step 2) Calculate'!C1861,\"\")","v":""}]
[null,null,null,null,null,null,null,null,null,null,{"$f":"IF(L1858<>\"\",'Step 2) Calculate'!B1862,\"Zzzzz - delete row\")","v":"Zzzzz - delete row"},{"$f":"IF('Step 2) Calculate'!E1862<>\"\",'Step 2) Calculate'!G1862,\"\")","v":""},{"$f":"IF(L1858<>\"\",'Step 2) Calculate'!F1862,\"\")","v":""},{"$f":"IF(L1858<>\"\",'Step 2) Calculate'!H1862,\"\")","v":""},{"$f":"IF(L1858<>\"\",'Step 2) Calculate'!C1862,\"\")","v":""}]
[null,null,null,null,null,null,null,null,null,null,{"$f":"IF(L1859<>\"\",'Step 2) Calculate'!B1863,\"Zzzzz - delete row\")","v":"Zzzzz - delete row"},{"$f":"IF('Step 2) Calculate'!E1863<>\"\",'Step 2) Calculate'!G1863,\"\")","v":""},{"$f":"IF(L1859<>\"\",'Step 2) Calculate'!F1863,\"\")","v":""},{"$f":"IF(L1859<>\"\",'Step 2) Calculate'!H1863,\"\")","v":""},{"$f":"IF(L1859<>\"\",'Step 2) Calculate'!C1863,\"\")","v":""}]
[null,null,null,null,null,null,null,null,null,null,{"$f":"IF(L1860<>\"\",'Step 2) Calculate'!B1864,\"Zzzzz - delete row\")","v":"Zzzzz - delete row"},{"$f":"IF('Step 2) Calculate'!E1864<>\"\",'Step 2) Calculate'!G1864,\"\")","v":""},{"$f":"IF(L1860<>\"\",'Step 2) Calculate'!F1864,\"\")","v":""},{"$f":"IF(L1860<>\"\",'Step 2) Calculate'!H1864,\"\")","v":""},{"$f":"IF(L1860<>\"\",'Step 2) Calculate'!C1864,\"\")","v":""}]
[null,null,null,null,null,null,null,null,null,null,{"$f":"IF(L1861<>\"\",'Step 2) Calculate'!B1865,\"Zzzzz - delete row\")","v":"Zzzzz - delete row"},{"$f":"IF('Step 2) Calculate'!E1865<>\"\",'Step 2) Calculate'!G1865,\"\")","v":""},{"$f":"IF(L1861<>\"\",'Step 2) Calculate'!F1865,\"\")","v":""},{"$f":"IF(L1861<>\"\",'Step 2) Calculate'!H1865,\"\")","v":""},{"$f":"IF(L1861<>\"\",'Step 2) Calculate'!C1865,\"\")","v":""}]
[null,null,null,null,null,null,null,null,null,null,{"$f":"IF(L1862<>\"\",'Step 2) Calculate'!B1866,\"Zzzzz - delete row\")","v":"Zzzzz - delete row"},{"$f":"IF('Step 2) Calculate'!E1866<>\"\",'Step 2) Calculate'!G1866,\"\")","v":""},{"$f":"IF(L1862<>\"\",'Step 2) Calculate'!F1866,\"\")","v":""},{"$f":"IF(L1862<>\"\",'Step 2) Calculate'!H1866,\"\")","v":""},{"$f":"IF(L1862<>\"\",'Step 2) Calculate'!C1866,\"\")","v":""}]
[null,null,null,null,null,null,null,null,null,null,{"$f":"IF(L1863<>\"\",'Step 2) Calculate'!B1867,\"Zzzzz - delete row\")","v":"Zzzzz - delete row"},{"$f":"IF('Step 2) Calculate'!E1867<>\"\",'Step 2) Calculate'!G1867,\"\")","v":""},{"$f":"IF(L1863<>\"\",'Step 2) Calculate'!F1867,\"\")","v":""},{"$f":"IF(L1863<>\"\",'Step 2) Calculate'!H1867,\"\")","v":""},{"$f":"IF(L1863<>\"\",'Step 2) Calculate'!C1867,\"\")","v":""}]
[null,null,null,null,null,null,null,null,null,null,{"$f":"IF(L1864<>\"\",'Step 2) Calculate'!B1868,\"Zzzzz - delete row\")","v":"Zzzzz - delete row"},{"$f":"IF('Step 2) Calculate'!E1868<>\"\",'Step 2) Calculate'!G1868,\"\")","v":""},{"$f":"IF(L1864<>\"\",'Step 2) Calculate'!F1868,\"\")","v":""},{"$f":"IF(L1864<>\"\",'Step 2) Calculate'!H1868,\"\")","v":""},{"$f":"IF(L1864<>\"\",'Step 2) Calculate'!C1868,\"\")","v":""}]
[null,null,null,null,null,null,null,null,null,null,{"$f":"IF(L1865<>\"\",'Step 2) Calculate'!B1869,\"Zzzzz - delete row\")","v":"Zzzzz - delete row"},{"$f":"IF('Step 2) Calculate'!E1869<>\"\",'Step 2) Calculate'!G1869,\"\")","v":""},{"$f":"IF(L1865<>\"\",'Step 2) Calculate'!F1869,\"\")","v":""},{"$f":"IF(L1865<>\"\",'Step 2) Calculate'!H1869,\"\")","v":""},{"$f":"IF(L1865<>\"\",'Step 2) Calculate'!C1869,\"\")","v":""}]
[null,null,null,null,null,null,null,null,null,null,{"$f":"IF(L1866<>\"\",'Step 2) Calculate'!B1870,\"Zzzzz - delete row\")","v":"Zzzzz - delete row"},{"$f":"IF('Step 2) Calculate'!E1870<>\"\",'Step 2) Calculate'!G1870,\"\")","v":""},{"$f":"IF(L1866<>\"\",'Step 2) Calculate'!F1870,\"\")","v":""},{"$f":"IF(L1866<>\"\",'Step 2) Calculate'!H1870,\"\")","v":""},{"$f":"IF(L1866<>\"\",'Step 2) Calculate'!C1870,\"\")","v":""}]
[null,null,null,null,null,null,null,null,null,null,{"$f":"IF(L1867<>\"\",'Step 2) Calculate'!B1871,\"Zzzzz - delete row\")","v":"Zzzzz - delete row"},{"$f":"IF('Step 2) Calculate'!E1871<>\"\",'Step 2) Calculate'!G1871,\"\")","v":""},{"$f":"IF(L1867<>\"\",'Step 2) Calculate'!F1871,\"\")","v":""},{"$f":"IF(L1867<>\"\",'Step 2) Calculate'!H1871,\"\")","v":""},{"$f":"IF(L1867<>\"\",'Step 2) Calculate'!C1871,\"\")","v":""}]
[null,null,null,null,null,null,null,null,null,null,{"$f":"IF(L1868<>\"\",'Step 2) Calculate'!B1872,\"Zzzzz - delete row\")","v":"Zzzzz - delete row"},{"$f":"IF('Step 2) Calculate'!E1872<>\"\",'Step 2) Calculate'!G1872,\"\")","v":""},{"$f":"IF(L1868<>\"\",'Step 2) Calculate'!F1872,\"\")","v":""},{"$f":"IF(L1868<>\"\",'Step 2) Calculate'!H1872,\"\")","v":""},{"$f":"IF(L1868<>\"\",'Step 2) Calculate'!C1872,\"\")","v":""}]
[null,null,null,null,null,null,null,null,null,null,{"$f":"IF(L1869<>\"\",'Step 2) Calculate'!B1873,\"Zzzzz - delete row\")","v":"Zzzzz - delete row"},{"$f":"IF('Step 2) Calculate'!E1873<>\"\",'Step 2) Calculate'!G1873,\"\")","v":""},{"$f":"IF(L1869<>\"\",'Step 2) Calculate'!F1873,\"\")","v":""},{"$f":"IF(L1869<>\"\",'Step 2) Calculate'!H1873,\"\")","v":""},{"$f":"IF(L1869<>\"\",'Step 2) Calculate'!C1873,\"\")","v":""}]
[null,null,null,null,null,null,null,null,null,null,{"$f":"IF(L1870<>\"\",'Step 2) Calculate'!B1874,\"Zzzzz - delete row\")","v":"Zzzzz - delete row"},{"$f":"IF('Step 2) Calculate'!E1874<>\"\",'Step 2) Calculate'!G1874,\"\")","v":""},{"$f":"IF(L1870<>\"\",'Step 2) Calculate'!F1874,\"\")","v":""},{"$f":"IF(L1870<>\"\",'Step 2) Calculate'!H1874,\"\")","v":""},{"$f":"IF(L1870<>\"\",'Step 2) Calculate'!C1874,\"\")","v":""}]
[null,null,null,null,null,null,null,null,null,null,{"$f":"IF(L1871<>\"\",'Step 2) Calculate'!B1875,\"Zzzzz - delete row\")","v":"Zzzzz - delete row"},{"$f":"IF('Step 2) Calculate'!E1875<>\"\",'Step 2) Calculate'!G1875,\"\")","v":""},{"$f":"IF(L1871<>\"\",'Step 2) Calculate'!F1875,\"\")","v":""},{"$f":"IF(L1871<>\"\",'Step 2) Calculate'!H1875,\"\")","v":""},{"$f":"IF(L1871<>\"\",'Step 2) Calculate'!C1875,\"\")","v":""}]
[null,null,null,null,null,null,null,null,null,null,{"$f":"IF(L1872<>\"\",'Step 2) Calculate'!B1876,\"Zzzzz - delete row\")","v":"Zzzzz - delete row"},{"$f":"IF('Step 2) Calculate'!E1876<>\"\",'Step 2) Calculate'!G1876,\"\")","v":""},{"$f":"IF(L1872<>\"\",'Step 2) Calculate'!F1876,\"\")","v":""},{"$f":"IF(L1872<>\"\",'Step 2) Calculate'!H1876,\"\")","v":""},{"$f":"IF(L1872<>\"\",'Step 2) Calculate'!C1876,\"\")","v":""}]
[null,null,null,null,null,null,null,null,null,null,{"$f":"IF(L1873<>\"\",'Step 2) Calculate'!B1877,\"Zzzzz - delete row\")","v":"Zzzzz - delete row"},{"$f":"IF('Step 2) Calculate'!E1877<>\"\",'Step 2) Calculate'!G1877,\"\")","v":""},{"$f":"IF(L1873<>\"\",'Step 2) Calculate'!F1877,\"\")","v":""},{"$f":"IF(L1873<>\"\",'Step 2) Calculate'!H1877,\"\")","v":""},{"$f":"IF(L1873<>\"\",'Step 2) Calculate'!C1877,\"\")","v":""}]
[null,null,null,null,null,null,null,null,null,null,{"$f":"IF(L1874<>\"\",'Step 2) Calculate'!B1878,\"Zzzzz - delete row\")","v":"Zzzzz - delete row"},{"$f":"IF('Step 2) Calculate'!E1878<>\"\",'Step 2) Calculate'!G1878,\"\")","v":""},{"$f":"IF(L1874<>\"\",'Step 2) Calculate'!F1878,\"\")","v":""},{"$f":"IF(L1874<>\"\",'Step 2) Calculate'!H1878,\"\")","v":""},{"$f":"IF(L1874<>\"\",'Step 2) Calculate'!C1878,\"\")","v":""}]
[null,null,null,null,null,null,null,null,null,null,{"$f":"IF(L1875<>\"\",'Step 2) Calculate'!B1879,\"Zzzzz - delete row\")","v":"Zzzzz - delete row"},{"$f":"IF('Step 2) Calculate'!E1879<>\"\",'Step 2) Calculate'!G1879,\"\")","v":""},{"$f":"IF(L1875<>\"\",'Step 2) Calculate'!F1879,\"\")","v":""},{"$f":"IF(L1875<>\"\",'Step 2) Calculate'!H1879,\"\")","v":""},{"$f":"IF(L1875<>\"\",'Step 2) Calculate'!C1879,\"\")","v":""}]
[null,null,null,null,null,null,null,null,null,null,{"$f":"IF(L1876<>\"\",'Step 2) Calculate'!B1880,\"Zzzzz - delete row\")","v":"Zzzzz - delete row"},{"$f":"IF('Step 2) Calculate'!E1880<>\"\",'Step 2) Calculate'!G1880,\"\")","v":""},{"$f":"IF(L1876<>\"\",'Step 2) Calculate'!F1880,\"\")","v":""},{"$f":"IF(L1876<>\"\",'Step 2) Calculate'!H1880,\"\")","v":""},{"$f":"IF(L1876<>\"\",'Step 2) Calculate'!C1880,\"\")","v":""}]
[null,null,null,null,null,null,null,null,null,null,{"$f":"IF(L1877<>\"\",'Step 2) Calculate'!B1881,\"Zzzzz - delete row\")","v":"Zzzzz - delete row"},{"$f":"IF('Step 2) Calculate'!E1881<>\"\",'Step 2) Calculate'!G1881,\"\")","v":""},{"$f":"IF(L1877<>\"\",'Step 2) Calculate'!F1881,\"\")","v":""},{"$f":"IF(L1877<>\"\",'Step 2) Calculate'!H1881,\"\")","v":""},{"$f":"IF(L1877<>\"\",'Step 2) Calculate'!C1881,\"\")","v":""}]
[null,null,null,null,null,null,null,null,null,null,{"$f":"IF(L1878<>\"\",'Step 2) Calculate'!B1882,\"Zzzzz - delete row\")","v":"Zzzzz - delete row"},{"$f":"IF('Step 2) Calculate'!E1882<>\"\",'Step 2) Calculate'!G1882,\"\")","v":""},{"$f":"IF(L1878<>\"\",'Step 2) Calculate'!F1882,\"\")","v":""},{"$f":"IF(L1878<>\"\",'Step 2) Calculate'!H1882,\"\")","v":""},{"$f":"IF(L1878<>\"\",'Step 2) Calculate'!C1882,\"\")","v":""}]
[null,null,null,null,null,null,null,null,null,null,{"$f":"IF(L1879<>\"\",'Step 2) Calculate'!B1883,\"Zzzzz - delete row\")","v":"Zzzzz - delete row"},{"$f":"IF('Step 2) Calculate'!E1883<>\"\",'Step 2) Calculate'!G1883,\"\")","v":""},{"$f":"IF(L1879<>\"\",'Step 2) Calculate'!F1883,\"\")","v":""},{"$f":"IF(L1879<>\"\",'Step 2) Calculate'!H1883,\"\")","v":""},{"$f":"IF(L1879<>\"\",'Step 2) Calculate'!C1883,\"\")","v":""}]
[null,null,null,null,null,null,null,null,null,null,{"$f":"IF(L1880<>\"\",'Step 2) Calculate'!B1884,\"Zzzzz - delete row\")","v":"Zzzzz - delete row"},{"$f":"IF('Step 2) Calculate'!E1884<>\"\",'Step 2) Calculate'!G1884,\"\")","v":""},{"$f":"IF(L1880<>\"\",'Step 2) Calculate'!F1884,\"\")","v":""},{"$f":"IF(L1880<>\"\",'Step 2) Calculate'!H1884,\"\")","v":""},{"$f":"IF(L1880<>\"\",'Step 2) Calculate'!C1884,\"\")","v":""}]
[null,null,null,null,null,null,null,null,null,null,{"$f":"IF(L1881<>\"\",'Step 2) Calculate'!B1885,\"Zzzzz - delete row\")","v":"Zzzzz - delete row"},{"$f":"IF('Step 2) Calculate'!E1885<>\"\",'Step 2) Calculate'!G1885,\"\")","v":""},{"$f":"IF(L1881<>\"\",'Step 2) Calculate'!F1885,\"\")","v":""},{"$f":"IF(L1881<>\"\",'Step 2) Calculate'!H1885,\"\")","v":""},{"$f":"IF(L1881<>\"\",'Step 2) Calculate'!C1885,\"\")","v":""}]
[null,null,null,null,null,null,null,null,null,null,{"$f":"IF(L1882<>\"\",'Step 2) Calculate'!B1886,\"Zzzzz - delete row\")","v":"Zzzzz - delete row"},{"$f":"IF('Step 2) Calculate'!E1886<>\"\",'Step 2) Calculate'!G1886,\"\")","v":""},{"$f":"IF(L1882<>\"\",'Step 2) Calculate'!F1886,\"\")","v":""},{"$f":"IF(L1882<>\"\",'Step 2) Calculate'!H1886,\"\")","v":""},{"$f":"IF(L1882<>\"\",'Step 2) Calculate'!C1886,\"\")","v":""}]
[null,null,null,null,null,null,null,null,null,null,{"$f":"IF(L1883<>\"\",'Step 2) Calculate'!B1887,\"Zzzzz - delete row\")","v":"Zzzzz - delete row"},{"$f":"IF('Step 2) Calculate'!E1887<>\"\",'Step 2) Calculate'!G1887,\"\")","v":""},{"$f":"IF(L1883<>\"\",'Step 2) Calculate'!F1887,\"\")","v":""},{"$f":"IF(L1883<>\"\",'Step 2) Calculate'!H1887,\"\")","v":""},{"$f":"IF(L1883<>\"\",'Step 2) Calculate'!C1887,\"\")","v":""}]
[null,null,null,null,null,null,null,null,null,null,{"$f":"IF(L1884<>\"\",'Step 2) Calculate'!B1888,\"Zzzzz - delete row\")","v":"Zzzzz - delete row"},{"$f":"IF('Step 2) Calculate'!E1888<>\"\",'Step 2) Calculate'!G1888,\"\")","v":""},{"$f":"IF(L1884<>\"\",'Step 2) Calculate'!F1888,\"\")","v":""},{"$f":"IF(L1884<>\"\",'Step 2) Calculate'!H1888,\"\")","v":""},{"$f":"IF(L1884<>\"\",'Step 2) Calculate'!C1888,\"\")","v":""}]
[null,null,null,null,null,null,null,null,null,null,{"$f":"IF(L1885<>\"\",'Step 2) Calculate'!B1889,\"Zzzzz - delete row\")","v":"Zzzzz - delete row"},{"$f":"IF('Step 2) Calculate'!E1889<>\"\",'Step 2) Calculate'!G1889,\"\")","v":""},{"$f":"IF(L1885<>\"\",'Step 2) Calculate'!F1889,\"\")","v":""},{"$f":"IF(L1885<>\"\",'Step 2) Calculate'!H1889,\"\")","v":""},{"$f":"IF(L1885<>\"\",'Step 2) Calculate'!C1889,\"\")","v":""}]
[null,null,null,null,null,null,null,null,null,null,{"$f":"IF(L1886<>\"\",'Step 2) Calculate'!B1890,\"Zzzzz - delete row\")","v":"Zzzzz - delete row"},{"$f":"IF('Step 2) Calculate'!E1890<>\"\",'Step 2) Calculate'!G1890,\"\")","v":""},{"$f":"IF(L1886<>\"\",'Step 2) Calculate'!F1890,\"\")","v":""},{"$f":"IF(L1886<>\"\",'Step 2) Calculate'!H1890,\"\")","v":""},{"$f":"IF(L1886<>\"\",'Step 2) Calculate'!C1890,\"\")","v":""}]
[null,null,null,null,null,null,null,null,null,null,{"$f":"IF(L1887<>\"\",'Step 2) Calculate'!B1891,\"Zzzzz - delete row\")","v":"Zzzzz - delete row"},{"$f":"IF('Step 2) Calculate'!E1891<>\"\",'Step 2) Calculate'!G1891,\"\")","v":""},{"$f":"IF(L1887<>\"\",'Step 2) Calculate'!F1891,\"\")","v":""},{"$f":"IF(L1887<>\"\",'Step 2) Calculate'!H1891,\"\")","v":""},{"$f":"IF(L1887<>\"\",'Step 2) Calculate'!C1891,\"\")","v":""}]
[null,null,null,null,null,null,null,null,null,null,{"$f":"IF(L1888<>\"\",'Step 2) Calculate'!B1892,\"Zzzzz - delete row\")","v":"Zzzzz - delete row"},{"$f":"IF('Step 2) Calculate'!E1892<>\"\",'Step 2) Calculate'!G1892,\"\")","v":""},{"$f":"IF(L1888<>\"\",'Step 2) Calculate'!F1892,\"\")","v":""},{"$f":"IF(L1888<>\"\",'Step 2) Calculate'!H1892,\"\")","v":""},{"$f":"IF(L1888<>\"\",'Step 2) Calculate'!C1892,\"\")","v":""}]
[null,null,null,null,null,null,null,null,null,null,{"$f":"IF(L1889<>\"\",'Step 2) Calculate'!B1893,\"Zzzzz - delete row\")","v":"Zzzzz - delete row"},{"$f":"IF('Step 2) Calculate'!E1893<>\"\",'Step 2) Calculate'!G1893,\"\")","v":""},{"$f":"IF(L1889<>\"\",'Step 2) Calculate'!F1893,\"\")","v":""},{"$f":"IF(L1889<>\"\",'Step 2) Calculate'!H1893,\"\")","v":""},{"$f":"IF(L1889<>\"\",'Step 2) Calculate'!C1893,\"\")","v":""}]
[null,null,null,null,null,null,null,null,null,null,{"$f":"IF(L1890<>\"\",'Step 2) Calculate'!B1894,\"Zzzzz - delete row\")","v":"Zzzzz - delete row"},{"$f":"IF('Step 2) Calculate'!E1894<>\"\",'Step 2) Calculate'!G1894,\"\")","v":""},{"$f":"IF(L1890<>\"\",'Step 2) Calculate'!F1894,\"\")","v":""},{"$f":"IF(L1890<>\"\",'Step 2) Calculate'!H1894,\"\")","v":""},{"$f":"IF(L1890<>\"\",'Step 2) Calculate'!C1894,\"\")","v":""}]
[null,null,null,null,null,null,null,null,null,null,{"$f":"IF(L1891<>\"\",'Step 2) Calculate'!B1895,\"Zzzzz - delete row\")","v":"Zzzzz - delete row"},{"$f":"IF('Step 2) Calculate'!E1895<>\"\",'Step 2) Calculate'!G1895,\"\")","v":""},{"$f":"IF(L1891<>\"\",'Step 2) Calculate'!F1895,\"\")","v":""},{"$f":"IF(L1891<>\"\",'Step 2) Calculate'!H1895,\"\")","v":""},{"$f":"IF(L1891<>\"\",'Step 2) Calculate'!C1895,\"\")","v":""}]
[null,null,null,null,null,null,null,null,null,null,{"$f":"IF(L1892<>\"\",'Step 2) Calculate'!B1896,\"Zzzzz - delete row\")","v":"Zzzzz - delete row"},{"$f":"IF('Step 2) Calculate'!E1896<>\"\",'Step 2) Calculate'!G1896,\"\")","v":""},{"$f":"IF(L1892<>\"\",'Step 2) Calculate'!F1896,\"\")","v":""},{"$f":"IF(L1892<>\"\",'Step 2) Calculate'!H1896,\"\")","v":""},{"$f":"IF(L1892<>\"\",'Step 2) Calculate'!C1896,\"\")","v":""}]
[null,null,null,null,null,null,null,null,null,null,{"$f":"IF(L1893<>\"\",'Step 2) Calculate'!B1897,\"Zzzzz - delete row\")","v":"Zzzzz - delete row"},{"$f":"IF('Step 2) Calculate'!E1897<>\"\",'Step 2) Calculate'!G1897,\"\")","v":""},{"$f":"IF(L1893<>\"\",'Step 2) Calculate'!F1897,\"\")","v":""},{"$f":"IF(L1893<>\"\",'Step 2) Calculate'!H1897,\"\")","v":""},{"$f":"IF(L1893<>\"\",'Step 2) Calculate'!C1897,\"\")","v":""}]
[null,null,null,null,null,null,null,null,null,null,{"$f":"IF(L1894<>\"\",'Step 2) Calculate'!B1898,\"Zzzzz - delete row\")","v":"Zzzzz - delete row"},{"$f":"IF('Step 2) Calculate'!E1898<>\"\",'Step 2) Calculate'!G1898,\"\")","v":""},{"$f":"IF(L1894<>\"\",'Step 2) Calculate'!F1898,\"\")","v":""},{"$f":"IF(L1894<>\"\",'Step 2) Calculate'!H1898,\"\")","v":""},{"$f":"IF(L1894<>\"\",'Step 2) Calculate'!C1898,\"\")","v":""}]
[null,null,null,null,null,null,null,null,null,null,{"$f":"IF(L1895<>\"\",'Step 2) Calculate'!B1899,\"Zzzzz - delete row\")","v":"Zzzzz - delete row"},{"$f":"IF('Step 2) Calculate'!E1899<>\"\",'Step 2) Calculate'!G1899,\"\")","v":""},{"$f":"IF(L1895<>\"\",'Step 2) Calculate'!F1899,\"\")","v":""},{"$f":"IF(L1895<>\"\",'Step 2) Calculate'!H1899,\"\")","v":""},{"$f":"IF(L1895<>\"\",'Step 2) Calculate'!C1899,\"\")","v":""}]
[null,null,null,null,null,null,null,null,null,null,{"$f":"IF(L1896<>\"\",'Step 2) Calculate'!B1900,\"Zzzzz - delete row\")","v":"Zzzzz - delete row"},{"$f":"IF('Step 2) Calculate'!E1900<>\"\",'Step 2) Calculate'!G1900,\"\")","v":""},{"$f":"IF(L1896<>\"\",'Step 2) Calculate'!F1900,\"\")","v":""},{"$f":"IF(L1896<>\"\",'Step 2) Calculate'!H1900,\"\")","v":""},{"$f":"IF(L1896<>\"\",'Step 2) Calculate'!C1900,\"\")","v":""}]
[null,null,null,null,null,null,null,null,null,null,{"$f":"IF(L1897<>\"\",'Step 2) Calculate'!B1901,\"Zzzzz - delete row\")","v":"Zzzzz - delete row"},{"$f":"IF('Step 2) Calculate'!E1901<>\"\",'Step 2) Calculate'!G1901,\"\")","v":""},{"$f":"IF(L1897<>\"\",'Step 2) Calculate'!F1901,\"\")","v":""},{"$f":"IF(L1897<>\"\",'Step 2) Calculate'!H1901,\"\")","v":""},{"$f":"IF(L1897<>\"\",'Step 2) Calculate'!C1901,\"\")","v":""}]
[null,null,null,null,null,null,null,null,null,null,{"$f":"IF(L1898<>\"\",'Step 2) Calculate'!B1902,\"Zzzzz - delete row\")","v":"Zzzzz - delete row"},{"$f":"IF('Step 2) Calculate'!E1902<>\"\",'Step 2) Calculate'!G1902,\"\")","v":""},{"$f":"IF(L1898<>\"\",'Step 2) Calculate'!F1902,\"\")","v":""},{"$f":"IF(L1898<>\"\",'Step 2) Calculate'!H1902,\"\")","v":""},{"$f":"IF(L1898<>\"\",'Step 2) Calculate'!C1902,\"\")","v":""}]
[null,null,null,null,null,null,null,null,null,null,{"$f":"IF(L1899<>\"\",'Step 2) Calculate'!B1903,\"Zzzzz - delete row\")","v":"Zzzzz - delete row"},{"$f":"IF('Step 2) Calculate'!E1903<>\"\",'Step 2) Calculate'!G1903,\"\")","v":""},{"$f":"IF(L1899<>\"\",'Step 2) Calculate'!F1903,\"\")","v":""},{"$f":"IF(L1899<>\"\",'Step 2) Calculate'!H1903,\"\")","v":""},{"$f":"IF(L1899<>\"\",'Step 2) Calculate'!C1903,\"\")","v":""}]
[null,null,null,null,null,null,null,null,null,null,{"$f":"IF(L1900<>\"\",'Step 2) Calculate'!B1904,\"Zzzzz - delete row\")","v":"Zzzzz - delete row"},{"$f":"IF('Step 2) Calculate'!E1904<>\"\",'Step 2) Calculate'!G1904,\"\")","v":""},{"$f":"IF(L1900<>\"\",'Step 2) Calculate'!F1904,\"\")","v":""},{"$f":"IF(L1900<>\"\",'Step 2) Calculate'!H1904,\"\")","v":""},{"$f":"IF(L1900<>\"\",'Step 2) Calculate'!C1904,\"\")","v":""}]
[null,null,null,null,null,null,null,null,null,null,{"$f":"IF(L1901<>\"\",'Step 2) Calculate'!B1905,\"Zzzzz - delete row\")","v":"Zzzzz - delete row"},{"$f":"IF('Step 2) Calculate'!E1905<>\"\",'Step 2) Calculate'!G1905,\"\")","v":""},{"$f":"IF(L1901<>\"\",'Step 2) Calculate'!F1905,\"\")","v":""},{"$f":"IF(L1901<>\"\",'Step 2) Calculate'!H1905,\"\")","v":""},{"$f":"IF(L1901<>\"\",'Step 2) Calculate'!C1905,\"\")","v":""}]
[null,null,null,null,null,null,null,null,null,null,{"$f":"IF(L1902<>\"\",'Step 2) Calculate'!B1906,\"Zzzzz - delete row\")","v":"Zzzzz - delete row"},{"$f":"IF('Step 2) Calculate'!E1906<>\"\",'Step 2) Calculate'!G1906,\"\")","v":""},{"$f":"IF(L1902<>\"\",'Step 2) Calculate'!F1906,\"\")","v":""},{"$f":"IF(L1902<>\"\",'Step 2) Calculate'!H1906,\"\")","v":""},{"$f":"IF(L1902<>\"\",'Step 2) Calculate'!C1906,\"\")","v":""}]
[null,null,null,null,null,null,null,null,null,null,{"$f":"IF(L1903<>\"\",'Step 2) Calculate'!B1907,\"Zzzzz - delete row\")","v":"Zzzzz - delete row"},{"$f":"IF('Step 2) Calculate'!E1907<>\"\",'Step 2) Calculate'!G1907,\"\")","v":""},{"$f":"IF(L1903<>\"\",'Step 2) Calculate'!F1907,\"\")","v":""},{"$f":"IF(L1903<>\"\",'Step 2) Calculate'!H1907,\"\")","v":""},{"$f":"IF(L1903<>\"\",'Step 2) Calculate'!C1907,\"\")","v":""}]
[null,null,null,null,null,null,null,null,null,null,{"$f":"IF(L1904<>\"\",'Step 2) Calculate'!B1908,\"Zzzzz - delete row\")","v":"Zzzzz - delete row"},{"$f":"IF('Step 2) Calculate'!E1908<>\"\",'Step 2) Calculate'!G1908,\"\")","v":""},{"$f":"IF(L1904<>\"\",'Step 2) Calculate'!F1908,\"\")","v":""},{"$f":"IF(L1904<>\"\",'Step 2) Calculate'!H1908,\"\")","v":""},{"$f":"IF(L1904<>\"\",'Step 2) Calculate'!C1908,\"\")","v":""}]
[null,null,null,null,null,null,null,null,null,null,{"$f":"IF(L1905<>\"\",'Step 2) Calculate'!B1909,\"Zzzzz - delete row\")","v":"Zzzzz - delete row"},{"$f":"IF('Step 2) Calculate'!E1909<>\"\",'Step 2) Calculate'!G1909,\"\")","v":""},{"$f":"IF(L1905<>\"\",'Step 2) Calculate'!F1909,\"\")","v":""},{"$f":"IF(L1905<>\"\",'Step 2) Calculate'!H1909,\"\")","v":""},{"$f":"IF(L1905<>\"\",'Step 2) Calculate'!C1909,\"\")","v":""}]
[null,null,null,null,null,null,null,null,null,null,{"$f":"IF(L1906<>\"\",'Step 2) Calculate'!B1910,\"Zzzzz - delete row\")","v":"Zzzzz - delete row"},{"$f":"IF('Step 2) Calculate'!E1910<>\"\",'Step 2) Calculate'!G1910,\"\")","v":""},{"$f":"IF(L1906<>\"\",'Step 2) Calculate'!F1910,\"\")","v":""},{"$f":"IF(L1906<>\"\",'Step 2) Calculate'!H1910,\"\")","v":""},{"$f":"IF(L1906<>\"\",'Step 2) Calculate'!C1910,\"\")","v":""}]
[null,null,null,null,null,null,null,null,null,null,{"$f":"IF(L1907<>\"\",'Step 2) Calculate'!B1911,\"Zzzzz - delete row\")","v":"Zzzzz - delete row"},{"$f":"IF('Step 2) Calculate'!E1911<>\"\",'Step 2) Calculate'!G1911,\"\")","v":""},{"$f":"IF(L1907<>\"\",'Step 2) Calculate'!F1911,\"\")","v":""},{"$f":"IF(L1907<>\"\",'Step 2) Calculate'!H1911,\"\")","v":""},{"$f":"IF(L1907<>\"\",'Step 2) Calculate'!C1911,\"\")","v":""}]
[null,null,null,null,null,null,null,null,null,null,{"$f":"IF(L1908<>\"\",'Step 2) Calculate'!B1912,\"Zzzzz - delete row\")","v":"Zzzzz - delete row"},{"$f":"IF('Step 2) Calculate'!E1912<>\"\",'Step 2) Calculate'!G1912,\"\")","v":""},{"$f":"IF(L1908<>\"\",'Step 2) Calculate'!F1912,\"\")","v":""},{"$f":"IF(L1908<>\"\",'Step 2) Calculate'!H1912,\"\")","v":""},{"$f":"IF(L1908<>\"\",'Step 2) Calculate'!C1912,\"\")","v":""}]
[null,null,null,null,null,null,null,null,null,null,{"$f":"IF(L1909<>\"\",'Step 2) Calculate'!B1913,\"Zzzzz - delete row\")","v":"Zzzzz - delete row"},{"$f":"IF('Step 2) Calculate'!E1913<>\"\",'Step 2) Calculate'!G1913,\"\")","v":""},{"$f":"IF(L1909<>\"\",'Step 2) Calculate'!F1913,\"\")","v":""},{"$f":"IF(L1909<>\"\",'Step 2) Calculate'!H1913,\"\")","v":""},{"$f":"IF(L1909<>\"\",'Step 2) Calculate'!C1913,\"\")","v":""}]
[null,null,null,null,null,null,null,null,null,null,{"$f":"IF(L1910<>\"\",'Step 2) Calculate'!B1914,\"Zzzzz - delete row\")","v":"Zzzzz - delete row"},{"$f":"IF('Step 2) Calculate'!E1914<>\"\",'Step 2) Calculate'!G1914,\"\")","v":""},{"$f":"IF(L1910<>\"\",'Step 2) Calculate'!F1914,\"\")","v":""},{"$f":"IF(L1910<>\"\",'Step 2) Calculate'!H1914,\"\")","v":""},{"$f":"IF(L1910<>\"\",'Step 2) Calculate'!C1914,\"\")","v":""}]
[null,null,null,null,null,null,null,null,null,null,{"$f":"IF(L1911<>\"\",'Step 2) Calculate'!B1915,\"Zzzzz - delete row\")","v":"Zzzzz - delete row"},{"$f":"IF('Step 2) Calculate'!E1915<>\"\",'Step 2) Calculate'!G1915,\"\")","v":""},{"$f":"IF(L1911<>\"\",'Step 2) Calculate'!F1915,\"\")","v":""},{"$f":"IF(L1911<>\"\",'Step 2) Calculate'!H1915,\"\")","v":""},{"$f":"IF(L1911<>\"\",'Step 2) Calculate'!C1915,\"\")","v":""}]
[null,null,null,null,null,null,null,null,null,null,{"$f":"IF(L1912<>\"\",'Step 2) Calculate'!B1916,\"Zzzzz - delete row\")","v":"Zzzzz - delete row"},{"$f":"IF('Step 2) Calculate'!E1916<>\"\",'Step 2) Calculate'!G1916,\"\")","v":""},{"$f":"IF(L1912<>\"\",'Step 2) Calculate'!F1916,\"\")","v":""},{"$f":"IF(L1912<>\"\",'Step 2) Calculate'!H1916,\"\")","v":""},{"$f":"IF(L1912<>\"\",'Step 2) Calculate'!C1916,\"\")","v":""}]
[null,null,null,null,null,null,null,null,null,null,{"$f":"IF(L1913<>\"\",'Step 2) Calculate'!B1917,\"Zzzzz - delete row\")","v":"Zzzzz - delete row"},{"$f":"IF('Step 2) Calculate'!E1917<>\"\",'Step 2) Calculate'!G1917,\"\")","v":""},{"$f":"IF(L1913<>\"\",'Step 2) Calculate'!F1917,\"\")","v":""},{"$f":"IF(L1913<>\"\",'Step 2) Calculate'!H1917,\"\")","v":""},{"$f":"IF(L1913<>\"\",'Step 2) Calculate'!C1917,\"\")","v":""}]
[null,null,null,null,null,null,null,null,null,null,{"$f":"IF(L1914<>\"\",'Step 2) Calculate'!B1918,\"Zzzzz - delete row\")","v":"Zzzzz - delete row"},{"$f":"IF('Step 2) Calculate'!E1918<>\"\",'Step 2) Calculate'!G1918,\"\")","v":""},{"$f":"IF(L1914<>\"\",'Step 2) Calculate'!F1918,\"\")","v":""},{"$f":"IF(L1914<>\"\",'Step 2) Calculate'!H1918,\"\")","v":""},{"$f":"IF(L1914<>\"\",'Step 2) Calculate'!C1918,\"\")","v":""}]
[null,null,null,null,null,null,null,null,null,null,{"$f":"IF(L1915<>\"\",'Step 2) Calculate'!B1919,\"Zzzzz - delete row\")","v":"Zzzzz - delete row"},{"$f":"IF('Step 2) Calculate'!E1919<>\"\",'Step 2) Calculate'!G1919,\"\")","v":""},{"$f":"IF(L1915<>\"\",'Step 2) Calculate'!F1919,\"\")","v":""},{"$f":"IF(L1915<>\"\",'Step 2) Calculate'!H1919,\"\")","v":""},{"$f":"IF(L1915<>\"\",'Step 2) Calculate'!C1919,\"\")","v":""}]
[null,null,null,null,null,null,null,null,null,null,{"$f":"IF(L1916<>\"\",'Step 2) Calculate'!B1920,\"Zzzzz - delete row\")","v":"Zzzzz - delete row"},{"$f":"IF('Step 2) Calculate'!E1920<>\"\",'Step 2) Calculate'!G1920,\"\")","v":""},{"$f":"IF(L1916<>\"\",'Step 2) Calculate'!F1920,\"\")","v":""},{"$f":"IF(L1916<>\"\",'Step 2) Calculate'!H1920,\"\")","v":""},{"$f":"IF(L1916<>\"\",'Step 2) Calculate'!C1920,\"\")","v":""}]
[null,null,null,null,null,null,null,null,null,null,{"$f":"IF(L1917<>\"\",'Step 2) Calculate'!B1921,\"Zzzzz - delete row\")","v":"Zzzzz - delete row"},{"$f":"IF('Step 2) Calculate'!E1921<>\"\",'Step 2) Calculate'!G1921,\"\")","v":""},{"$f":"IF(L1917<>\"\",'Step 2) Calculate'!F1921,\"\")","v":""},{"$f":"IF(L1917<>\"\",'Step 2) Calculate'!H1921,\"\")","v":""},{"$f":"IF(L1917<>\"\",'Step 2) Calculate'!C1921,\"\")","v":""}]
[null,null,null,null,null,null,null,null,null,null,{"$f":"IF(L1918<>\"\",'Step 2) Calculate'!B1922,\"Zzzzz - delete row\")","v":"Zzzzz - delete row"},{"$f":"IF('Step 2) Calculate'!E1922<>\"\",'Step 2) Calculate'!G1922,\"\")","v":""},{"$f":"IF(L1918<>\"\",'Step 2) Calculate'!F1922,\"\")","v":""},{"$f":"IF(L1918<>\"\",'Step 2) Calculate'!H1922,\"\")","v":""},{"$f":"IF(L1918<>\"\",'Step 2) Calculate'!C1922,\"\")","v":""}]
[null,null,null,null,null,null,null,null,null,null,{"$f":"IF(L1919<>\"\",'Step 2) Calculate'!B1923,\"Zzzzz - delete row\")","v":"Zzzzz - delete row"},{"$f":"IF('Step 2) Calculate'!E1923<>\"\",'Step 2) Calculate'!G1923,\"\")","v":""},{"$f":"IF(L1919<>\"\",'Step 2) Calculate'!F1923,\"\")","v":""},{"$f":"IF(L1919<>\"\",'Step 2) Calculate'!H1923,\"\")","v":""},{"$f":"IF(L1919<>\"\",'Step 2) Calculate'!C1923,\"\")","v":""}]
[null,null,null,null,null,null,null,null,null,null,{"$f":"IF(L1920<>\"\",'Step 2) Calculate'!B1924,\"Zzzzz - delete row\")","v":"Zzzzz - delete row"},{"$f":"IF('Step 2) Calculate'!E1924<>\"\",'Step 2) Calculate'!G1924,\"\")","v":""},{"$f":"IF(L1920<>\"\",'Step 2) Calculate'!F1924,\"\")","v":""},{"$f":"IF(L1920<>\"\",'Step 2) Calculate'!H1924,\"\")","v":""},{"$f":"IF(L1920<>\"\",'Step 2) Calculate'!C1924,\"\")","v":""}]
[null,null,null,null,null,null,null,null,null,null,{"$f":"IF(L1921<>\"\",'Step 2) Calculate'!B1925,\"Zzzzz - delete row\")","v":"Zzzzz - delete row"},{"$f":"IF('Step 2) Calculate'!E1925<>\"\",'Step 2) Calculate'!G1925,\"\")","v":""},{"$f":"IF(L1921<>\"\",'Step 2) Calculate'!F1925,\"\")","v":""},{"$f":"IF(L1921<>\"\",'Step 2) Calculate'!H1925,\"\")","v":""},{"$f":"IF(L1921<>\"\",'Step 2) Calculate'!C1925,\"\")","v":""}]
[null,null,null,null,null,null,null,null,null,null,{"$f":"IF(L1922<>\"\",'Step 2) Calculate'!B1926,\"Zzzzz - delete row\")","v":"Zzzzz - delete row"},{"$f":"IF('Step 2) Calculate'!E1926<>\"\",'Step 2) Calculate'!G1926,\"\")","v":""},{"$f":"IF(L1922<>\"\",'Step 2) Calculate'!F1926,\"\")","v":""},{"$f":"IF(L1922<>\"\",'Step 2) Calculate'!H1926,\"\")","v":""},{"$f":"IF(L1922<>\"\",'Step 2) Calculate'!C1926,\"\")","v":""}]
[null,null,null,null,null,null,null,null,null,null,{"$f":"IF(L1923<>\"\",'Step 2) Calculate'!B1927,\"Zzzzz - delete row\")","v":"Zzzzz - delete row"},{"$f":"IF('Step 2) Calculate'!E1927<>\"\",'Step 2) Calculate'!G1927,\"\")","v":""},{"$f":"IF(L1923<>\"\",'Step 2) Calculate'!F1927,\"\")","v":""},{"$f":"IF(L1923<>\"\",'Step 2) Calculate'!H1927,\"\")","v":""},{"$f":"IF(L1923<>\"\",'Step 2) Calculate'!C1927,\"\")","v":""}]
[null,null,null,null,null,null,null,null,null,null,{"$f":"IF(L1924<>\"\",'Step 2) Calculate'!B1928,\"Zzzzz - delete row\")","v":"Zzzzz - delete row"},{"$f":"IF('Step 2) Calculate'!E1928<>\"\",'Step 2) Calculate'!G1928,\"\")","v":""},{"$f":"IF(L1924<>\"\",'Step 2) Calculate'!F1928,\"\")","v":""},{"$f":"IF(L1924<>\"\",'Step 2) Calculate'!H1928,\"\")","v":""},{"$f":"IF(L1924<>\"\",'Step 2) Calculate'!C1928,\"\")","v":""}]
[null,null,null,null,null,null,null,null,null,null,{"$f":"IF(L1925<>\"\",'Step 2) Calculate'!B1929,\"Zzzzz - delete row\")","v":"Zzzzz - delete row"},{"$f":"IF('Step 2) Calculate'!E1929<>\"\",'Step 2) Calculate'!G1929,\"\")","v":""},{"$f":"IF(L1925<>\"\",'Step 2) Calculate'!F1929,\"\")","v":""},{"$f":"IF(L1925<>\"\",'Step 2) Calculate'!H1929,\"\")","v":""},{"$f":"IF(L1925<>\"\",'Step 2) Calculate'!C1929,\"\")","v":""}]
[null,null,null,null,null,null,null,null,null,null,{"$f":"IF(L1926<>\"\",'Step 2) Calculate'!B1930,\"Zzzzz - delete row\")","v":"Zzzzz - delete row"},{"$f":"IF('Step 2) Calculate'!E1930<>\"\",'Step 2) Calculate'!G1930,\"\")","v":""},{"$f":"IF(L1926<>\"\",'Step 2) Calculate'!F1930,\"\")","v":""},{"$f":"IF(L1926<>\"\",'Step 2) Calculate'!H1930,\"\")","v":""},{"$f":"IF(L1926<>\"\",'Step 2) Calculate'!C1930,\"\")","v":""}]
[null,null,null,null,null,null,null,null,null,null,{"$f":"IF(L1927<>\"\",'Step 2) Calculate'!B1931,\"Zzzzz - delete row\")","v":"Zzzzz - delete row"},{"$f":"IF('Step 2) Calculate'!E1931<>\"\",'Step 2) Calculate'!G1931,\"\")","v":""},{"$f":"IF(L1927<>\"\",'Step 2) Calculate'!F1931,\"\")","v":""},{"$f":"IF(L1927<>\"\",'Step 2) Calculate'!H1931,\"\")","v":""},{"$f":"IF(L1927<>\"\",'Step 2) Calculate'!C1931,\"\")","v":""}]
[null,null,null,null,null,null,null,null,null,null,{"$f":"IF(L1928<>\"\",'Step 2) Calculate'!B1932,\"Zzzzz - delete row\")","v":"Zzzzz - delete row"},{"$f":"IF('Step 2) Calculate'!E1932<>\"\",'Step 2) Calculate'!G1932,\"\")","v":""},{"$f":"IF(L1928<>\"\",'Step 2) Calculate'!F1932,\"\")","v":""},{"$f":"IF(L1928<>\"\",'Step 2) Calculate'!H1932,\"\")","v":""},{"$f":"IF(L1928<>\"\",'Step 2) Calculate'!C1932,\"\")","v":""}]
[null,null,null,null,null,null,null,null,null,null,{"$f":"IF(L1929<>\"\",'Step 2) Calculate'!B1933,\"Zzzzz - delete row\")","v":"Zzzzz - delete row"},{"$f":"IF('Step 2) Calculate'!E1933<>\"\",'Step 2) Calculate'!G1933,\"\")","v":""},{"$f":"IF(L1929<>\"\",'Step 2) Calculate'!F1933,\"\")","v":""},{"$f":"IF(L1929<>\"\",'Step 2) Calculate'!H1933,\"\")","v":""},{"$f":"IF(L1929<>\"\",'Step 2) Calculate'!C1933,\"\")","v":""}]
[null,null,null,null,null,null,null,null,null,null,{"$f":"IF(L1930<>\"\",'Step 2) Calculate'!B1934,\"Zzzzz - delete row\")","v":"Zzzzz - delete row"},{"$f":"IF('Step 2) Calculate'!E1934<>\"\",'Step 2) Calculate'!G1934,\"\")","v":""},{"$f":"IF(L1930<>\"\",'Step 2) Calculate'!F1934,\"\")","v":""},{"$f":"IF(L1930<>\"\",'Step 2) Calculate'!H1934,\"\")","v":""},{"$f":"IF(L1930<>\"\",'Step 2) Calculate'!C1934,\"\")","v":""}]
[null,null,null,null,null,null,null,null,null,null,{"$f":"IF(L1931<>\"\",'Step 2) Calculate'!B1935,\"Zzzzz - delete row\")","v":"Zzzzz - delete row"},{"$f":"IF('Step 2) Calculate'!E1935<>\"\",'Step 2) Calculate'!G1935,\"\")","v":""},{"$f":"IF(L1931<>\"\",'Step 2) Calculate'!F1935,\"\")","v":""},{"$f":"IF(L1931<>\"\",'Step 2) Calculate'!H1935,\"\")","v":""},{"$f":"IF(L1931<>\"\",'Step 2) Calculate'!C1935,\"\")","v":""}]
[null,null,null,null,null,null,null,null,null,null,{"$f":"IF(L1932<>\"\",'Step 2) Calculate'!B1936,\"Zzzzz - delete row\")","v":"Zzzzz - delete row"},{"$f":"IF('Step 2) Calculate'!E1936<>\"\",'Step 2) Calculate'!G1936,\"\")","v":""},{"$f":"IF(L1932<>\"\",'Step 2) Calculate'!F1936,\"\")","v":""},{"$f":"IF(L1932<>\"\",'Step 2) Calculate'!H1936,\"\")","v":""},{"$f":"IF(L1932<>\"\",'Step 2) Calculate'!C1936,\"\")","v":""}]
[null,null,null,null,null,null,null,null,null,null,{"$f":"IF(L1933<>\"\",'Step 2) Calculate'!B1937,\"Zzzzz - delete row\")","v":"Zzzzz - delete row"},{"$f":"IF('Step 2) Calculate'!E1937<>\"\",'Step 2) Calculate'!G1937,\"\")","v":""},{"$f":"IF(L1933<>\"\",'Step 2) Calculate'!F1937,\"\")","v":""},{"$f":"IF(L1933<>\"\",'Step 2) Calculate'!H1937,\"\")","v":""},{"$f":"IF(L1933<>\"\",'Step 2) Calculate'!C1937,\"\")","v":""}]
[null,null,null,null,null,null,null,null,null,null,{"$f":"IF(L1934<>\"\",'Step 2) Calculate'!B1938,\"Zzzzz - delete row\")","v":"Zzzzz - delete row"},{"$f":"IF('Step 2) Calculate'!E1938<>\"\",'Step 2) Calculate'!G1938,\"\")","v":""},{"$f":"IF(L1934<>\"\",'Step 2) Calculate'!F1938,\"\")","v":""},{"$f":"IF(L1934<>\"\",'Step 2) Calculate'!H1938,\"\")","v":""},{"$f":"IF(L1934<>\"\",'Step 2) Calculate'!C1938,\"\")","v":""}]
[null,null,null,null,null,null,null,null,null,null,{"$f":"IF(L1935<>\"\",'Step 2) Calculate'!B1939,\"Zzzzz - delete row\")","v":"Zzzzz - delete row"},{"$f":"IF('Step 2) Calculate'!E1939<>\"\",'Step 2) Calculate'!G1939,\"\")","v":""},{"$f":"IF(L1935<>\"\",'Step 2) Calculate'!F1939,\"\")","v":""},{"$f":"IF(L1935<>\"\",'Step 2) Calculate'!H1939,\"\")","v":""},{"$f":"IF(L1935<>\"\",'Step 2) Calculate'!C1939,\"\")","v":""}]
[null,null,null,null,null,null,null,null,null,null,{"$f":"IF(L1936<>\"\",'Step 2) Calculate'!B1940,\"Zzzzz - delete row\")","v":"Zzzzz - delete row"},{"$f":"IF('Step 2) Calculate'!E1940<>\"\",'Step 2) Calculate'!G1940,\"\")","v":""},{"$f":"IF(L1936<>\"\",'Step 2) Calculate'!F1940,\"\")","v":""},{"$f":"IF(L1936<>\"\",'Step 2) Calculate'!H1940,\"\")","v":""},{"$f":"IF(L1936<>\"\",'Step 2) Calculate'!C1940,\"\")","v":""}]
[null,null,null,null,null,null,null,null,null,null,{"$f":"IF(L1937<>\"\",'Step 2) Calculate'!B1941,\"Zzzzz - delete row\")","v":"Zzzzz - delete row"},{"$f":"IF('Step 2) Calculate'!E1941<>\"\",'Step 2) Calculate'!G1941,\"\")","v":""},{"$f":"IF(L1937<>\"\",'Step 2) Calculate'!F1941,\"\")","v":""},{"$f":"IF(L1937<>\"\",'Step 2) Calculate'!H1941,\"\")","v":""},{"$f":"IF(L1937<>\"\",'Step 2) Calculate'!C1941,\"\")","v":""}]
[null,null,null,null,null,null,null,null,null,null,{"$f":"IF(L1938<>\"\",'Step 2) Calculate'!B1942,\"Zzzzz - delete row\")","v":"Zzzzz - delete row"},{"$f":"IF('Step 2) Calculate'!E1942<>\"\",'Step 2) Calculate'!G1942,\"\")","v":""},{"$f":"IF(L1938<>\"\",'Step 2) Calculate'!F1942,\"\")","v":""},{"$f":"IF(L1938<>\"\",'Step 2) Calculate'!H1942,\"\")","v":""},{"$f":"IF(L1938<>\"\",'Step 2) Calculate'!C1942,\"\")","v":""}]
[null,null,null,null,null,null,null,null,null,null,{"$f":"IF(L1939<>\"\",'Step 2) Calculate'!B1943,\"Zzzzz - delete row\")","v":"Zzzzz - delete row"},{"$f":"IF('Step 2) Calculate'!E1943<>\"\",'Step 2) Calculate'!G1943,\"\")","v":""},{"$f":"IF(L1939<>\"\",'Step 2) Calculate'!F1943,\"\")","v":""},{"$f":"IF(L1939<>\"\",'Step 2) Calculate'!H1943,\"\")","v":""},{"$f":"IF(L1939<>\"\",'Step 2) Calculate'!C1943,\"\")","v":""}]
[null,null,null,null,null,null,null,null,null,null,{"$f":"IF(L1940<>\"\",'Step 2) Calculate'!B1944,\"Zzzzz - delete row\")","v":"Zzzzz - delete row"},{"$f":"IF('Step 2) Calculate'!E1944<>\"\",'Step 2) Calculate'!G1944,\"\")","v":""},{"$f":"IF(L1940<>\"\",'Step 2) Calculate'!F1944,\"\")","v":""},{"$f":"IF(L1940<>\"\",'Step 2) Calculate'!H1944,\"\")","v":""},{"$f":"IF(L1940<>\"\",'Step 2) Calculate'!C1944,\"\")","v":""}]
[null,null,null,null,null,null,null,null,null,null,{"$f":"IF(L1941<>\"\",'Step 2) Calculate'!B1945,\"Zzzzz - delete row\")","v":"Zzzzz - delete row"},{"$f":"IF('Step 2) Calculate'!E1945<>\"\",'Step 2) Calculate'!G1945,\"\")","v":""},{"$f":"IF(L1941<>\"\",'Step 2) Calculate'!F1945,\"\")","v":""},{"$f":"IF(L1941<>\"\",'Step 2) Calculate'!H1945,\"\")","v":""},{"$f":"IF(L1941<>\"\",'Step 2) Calculate'!C1945,\"\")","v":""}]
[null,null,null,null,null,null,null,null,null,null,{"$f":"IF(L1942<>\"\",'Step 2) Calculate'!B1946,\"Zzzzz - delete row\")","v":"Zzzzz - delete row"},{"$f":"IF('Step 2) Calculate'!E1946<>\"\",'Step 2) Calculate'!G1946,\"\")","v":""},{"$f":"IF(L1942<>\"\",'Step 2) Calculate'!F1946,\"\")","v":""},{"$f":"IF(L1942<>\"\",'Step 2) Calculate'!H1946,\"\")","v":""},{"$f":"IF(L1942<>\"\",'Step 2) Calculate'!C1946,\"\")","v":""}]
[null,null,null,null,null,null,null,null,null,null,{"$f":"IF(L1943<>\"\",'Step 2) Calculate'!B1947,\"Zzzzz - delete row\")","v":"Zzzzz - delete row"},{"$f":"IF('Step 2) Calculate'!E1947<>\"\",'Step 2) Calculate'!G1947,\"\")","v":""},{"$f":"IF(L1943<>\"\",'Step 2) Calculate'!F1947,\"\")","v":""},{"$f":"IF(L1943<>\"\",'Step 2) Calculate'!H1947,\"\")","v":""},{"$f":"IF(L1943<>\"\",'Step 2) Calculate'!C1947,\"\")","v":""}]
[null,null,null,null,null,null,null,null,null,null,{"$f":"IF(L1944<>\"\",'Step 2) Calculate'!B1948,\"Zzzzz - delete row\")","v":"Zzzzz - delete row"},{"$f":"IF('Step 2) Calculate'!E1948<>\"\",'Step 2) Calculate'!G1948,\"\")","v":""},{"$f":"IF(L1944<>\"\",'Step 2) Calculate'!F1948,\"\")","v":""},{"$f":"IF(L1944<>\"\",'Step 2) Calculate'!H1948,\"\")","v":""},{"$f":"IF(L1944<>\"\",'Step 2) Calculate'!C1948,\"\")","v":""}]
[null,null,null,null,null,null,null,null,null,null,{"$f":"IF(L1945<>\"\",'Step 2) Calculate'!B1949,\"Zzzzz - delete row\")","v":"Zzzzz - delete row"},{"$f":"IF('Step 2) Calculate'!E1949<>\"\",'Step 2) Calculate'!G1949,\"\")","v":""},{"$f":"IF(L1945<>\"\",'Step 2) Calculate'!F1949,\"\")","v":""},{"$f":"IF(L1945<>\"\",'Step 2) Calculate'!H1949,\"\")","v":""},{"$f":"IF(L1945<>\"\",'Step 2) Calculate'!C1949,\"\")","v":""}]
[null,null,null,null,null,null,null,null,null,null,{"$f":"IF(L1946<>\"\",'Step 2) Calculate'!B1950,\"Zzzzz - delete row\")","v":"Zzzzz - delete row"},{"$f":"IF('Step 2) Calculate'!E1950<>\"\",'Step 2) Calculate'!G1950,\"\")","v":""},{"$f":"IF(L1946<>\"\",'Step 2) Calculate'!F1950,\"\")","v":""},{"$f":"IF(L1946<>\"\",'Step 2) Calculate'!H1950,\"\")","v":""},{"$f":"IF(L1946<>\"\",'Step 2) Calculate'!C1950,\"\")","v":""}]
[null,null,null,null,null,null,null,null,null,null,{"$f":"IF(L1947<>\"\",'Step 2) Calculate'!B1951,\"Zzzzz - delete row\")","v":"Zzzzz - delete row"},{"$f":"IF('Step 2) Calculate'!E1951<>\"\",'Step 2) Calculate'!G1951,\"\")","v":""},{"$f":"IF(L1947<>\"\",'Step 2) Calculate'!F1951,\"\")","v":""},{"$f":"IF(L1947<>\"\",'Step 2) Calculate'!H1951,\"\")","v":""},{"$f":"IF(L1947<>\"\",'Step 2) Calculate'!C1951,\"\")","v":""}]
[null,null,null,null,null,null,null,null,null,null,{"$f":"IF(L1948<>\"\",'Step 2) Calculate'!B1952,\"Zzzzz - delete row\")","v":"Zzzzz - delete row"},{"$f":"IF('Step 2) Calculate'!E1952<>\"\",'Step 2) Calculate'!G1952,\"\")","v":""},{"$f":"IF(L1948<>\"\",'Step 2) Calculate'!F1952,\"\")","v":""},{"$f":"IF(L1948<>\"\",'Step 2) Calculate'!H1952,\"\")","v":""},{"$f":"IF(L1948<>\"\",'Step 2) Calculate'!C1952,\"\")","v":""}]
[null,null,null,null,null,null,null,null,null,null,{"$f":"IF(L1949<>\"\",'Step 2) Calculate'!B1953,\"Zzzzz - delete row\")","v":"Zzzzz - delete row"},{"$f":"IF('Step 2) Calculate'!E1953<>\"\",'Step 2) Calculate'!G1953,\"\")","v":""},{"$f":"IF(L1949<>\"\",'Step 2) Calculate'!F1953,\"\")","v":""},{"$f":"IF(L1949<>\"\",'Step 2) Calculate'!H1953,\"\")","v":""},{"$f":"IF(L1949<>\"\",'Step 2) Calculate'!C1953,\"\")","v":""}]
[null,null,null,null,null,null,null,null,null,null,{"$f":"IF(L1950<>\"\",'Step 2) Calculate'!B1954,\"Zzzzz - delete row\")","v":"Zzzzz - delete row"},{"$f":"IF('Step 2) Calculate'!E1954<>\"\",'Step 2) Calculate'!G1954,\"\")","v":""},{"$f":"IF(L1950<>\"\",'Step 2) Calculate'!F1954,\"\")","v":""},{"$f":"IF(L1950<>\"\",'Step 2) Calculate'!H1954,\"\")","v":""},{"$f":"IF(L1950<>\"\",'Step 2) Calculate'!C1954,\"\")","v":""}]
[null,null,null,null,null,null,null,null,null,null,{"$f":"IF(L1951<>\"\",'Step 2) Calculate'!B1955,\"Zzzzz - delete row\")","v":"Zzzzz - delete row"},{"$f":"IF('Step 2) Calculate'!E1955<>\"\",'Step 2) Calculate'!G1955,\"\")","v":""},{"$f":"IF(L1951<>\"\",'Step 2) Calculate'!F1955,\"\")","v":""},{"$f":"IF(L1951<>\"\",'Step 2) Calculate'!H1955,\"\")","v":""},{"$f":"IF(L1951<>\"\",'Step 2) Calculate'!C1955,\"\")","v":""}]
[null,null,null,null,null,null,null,null,null,null,{"$f":"IF(L1952<>\"\",'Step 2) Calculate'!B1956,\"Zzzzz - delete row\")","v":"Zzzzz - delete row"},{"$f":"IF('Step 2) Calculate'!E1956<>\"\",'Step 2) Calculate'!G1956,\"\")","v":""},{"$f":"IF(L1952<>\"\",'Step 2) Calculate'!F1956,\"\")","v":""},{"$f":"IF(L1952<>\"\",'Step 2) Calculate'!H1956,\"\")","v":""},{"$f":"IF(L1952<>\"\",'Step 2) Calculate'!C1956,\"\")","v":""}]
[null,null,null,null,null,null,null,null,null,null,{"$f":"IF(L1953<>\"\",'Step 2) Calculate'!B1957,\"Zzzzz - delete row\")","v":"Zzzzz - delete row"},{"$f":"IF('Step 2) Calculate'!E1957<>\"\",'Step 2) Calculate'!G1957,\"\")","v":""},{"$f":"IF(L1953<>\"\",'Step 2) Calculate'!F1957,\"\")","v":""},{"$f":"IF(L1953<>\"\",'Step 2) Calculate'!H1957,\"\")","v":""},{"$f":"IF(L1953<>\"\",'Step 2) Calculate'!C1957,\"\")","v":""}]
[null,null,null,null,null,null,null,null,null,null,{"$f":"IF(L1954<>\"\",'Step 2) Calculate'!B1958,\"Zzzzz - delete row\")","v":"Zzzzz - delete row"},{"$f":"IF('Step 2) Calculate'!E1958<>\"\",'Step 2) Calculate'!G1958,\"\")","v":""},{"$f":"IF(L1954<>\"\",'Step 2) Calculate'!F1958,\"\")","v":""},{"$f":"IF(L1954<>\"\",'Step 2) Calculate'!H1958,\"\")","v":""},{"$f":"IF(L1954<>\"\",'Step 2) Calculate'!C1958,\"\")","v":""}]
[null,null,null,null,null,null,null,null,null,null,{"$f":"IF(L1955<>\"\",'Step 2) Calculate'!B1959,\"Zzzzz - delete row\")","v":"Zzzzz - delete row"},{"$f":"IF('Step 2) Calculate'!E1959<>\"\",'Step 2) Calculate'!G1959,\"\")","v":""},{"$f":"IF(L1955<>\"\",'Step 2) Calculate'!F1959,\"\")","v":""},{"$f":"IF(L1955<>\"\",'Step 2) Calculate'!H1959,\"\")","v":""},{"$f":"IF(L1955<>\"\",'Step 2) Calculate'!C1959,\"\")","v":""}]
[null,null,null,null,null,null,null,null,null,null,{"$f":"IF(L1956<>\"\",'Step 2) Calculate'!B1960,\"Zzzzz - delete row\")","v":"Zzzzz - delete row"},{"$f":"IF('Step 2) Calculate'!E1960<>\"\",'Step 2) Calculate'!G1960,\"\")","v":""},{"$f":"IF(L1956<>\"\",'Step 2) Calculate'!F1960,\"\")","v":""},{"$f":"IF(L1956<>\"\",'Step 2) Calculate'!H1960,\"\")","v":""},{"$f":"IF(L1956<>\"\",'Step 2) Calculate'!C1960,\"\")","v":""}]
[null,null,null,null,null,null,null,null,null,null,{"$f":"IF(L1957<>\"\",'Step 2) Calculate'!B1961,\"Zzzzz - delete row\")","v":"Zzzzz - delete row"},{"$f":"IF('Step 2) Calculate'!E1961<>\"\",'Step 2) Calculate'!G1961,\"\")","v":""},{"$f":"IF(L1957<>\"\",'Step 2) Calculate'!F1961,\"\")","v":""},{"$f":"IF(L1957<>\"\",'Step 2) Calculate'!H1961,\"\")","v":""},{"$f":"IF(L1957<>\"\",'Step 2) Calculate'!C1961,\"\")","v":""}]
[null,null,null,null,null,null,null,null,null,null,{"$f":"IF(L1958<>\"\",'Step 2) Calculate'!B1962,\"Zzzzz - delete row\")","v":"Zzzzz - delete row"},{"$f":"IF('Step 2) Calculate'!E1962<>\"\",'Step 2) Calculate'!G1962,\"\")","v":""},{"$f":"IF(L1958<>\"\",'Step 2) Calculate'!F1962,\"\")","v":""},{"$f":"IF(L1958<>\"\",'Step 2) Calculate'!H1962,\"\")","v":""},{"$f":"IF(L1958<>\"\",'Step 2) Calculate'!C1962,\"\")","v":""}]
[null,null,null,null,null,null,null,null,null,null,{"$f":"IF(L1959<>\"\",'Step 2) Calculate'!B1963,\"Zzzzz - delete row\")","v":"Zzzzz - delete row"},{"$f":"IF('Step 2) Calculate'!E1963<>\"\",'Step 2) Calculate'!G1963,\"\")","v":""},{"$f":"IF(L1959<>\"\",'Step 2) Calculate'!F1963,\"\")","v":""},{"$f":"IF(L1959<>\"\",'Step 2) Calculate'!H1963,\"\")","v":""},{"$f":"IF(L1959<>\"\",'Step 2) Calculate'!C1963,\"\")","v":""}]
[null,null,null,null,null,null,null,null,null,null,{"$f":"IF(L1960<>\"\",'Step 2) Calculate'!B1964,\"Zzzzz - delete row\")","v":"Zzzzz - delete row"},{"$f":"IF('Step 2) Calculate'!E1964<>\"\",'Step 2) Calculate'!G1964,\"\")","v":""},{"$f":"IF(L1960<>\"\",'Step 2) Calculate'!F1964,\"\")","v":""},{"$f":"IF(L1960<>\"\",'Step 2) Calculate'!H1964,\"\")","v":""},{"$f":"IF(L1960<>\"\",'Step 2) Calculate'!C1964,\"\")","v":""}]
[null,null,null,null,null,null,null,null,null,null,{"$f":"IF(L1961<>\"\",'Step 2) Calculate'!B1965,\"Zzzzz - delete row\")","v":"Zzzzz - delete row"},{"$f":"IF('Step 2) Calculate'!E1965<>\"\",'Step 2) Calculate'!G1965,\"\")","v":""},{"$f":"IF(L1961<>\"\",'Step 2) Calculate'!F1965,\"\")","v":""},{"$f":"IF(L1961<>\"\",'Step 2) Calculate'!H1965,\"\")","v":""},{"$f":"IF(L1961<>\"\",'Step 2) Calculate'!C1965,\"\")","v":""}]
[null,null,null,null,null,null,null,null,null,null,{"$f":"IF(L1962<>\"\",'Step 2) Calculate'!B1966,\"Zzzzz - delete row\")","v":"Zzzzz - delete row"},{"$f":"IF('Step 2) Calculate'!E1966<>\"\",'Step 2) Calculate'!G1966,\"\")","v":""},{"$f":"IF(L1962<>\"\",'Step 2) Calculate'!F1966,\"\")","v":""},{"$f":"IF(L1962<>\"\",'Step 2) Calculate'!H1966,\"\")","v":""},{"$f":"IF(L1962<>\"\",'Step 2) Calculate'!C1966,\"\")","v":""}]
[null,null,null,null,null,null,null,null,null,null,{"$f":"IF(L1963<>\"\",'Step 2) Calculate'!B1967,\"Zzzzz - delete row\")","v":"Zzzzz - delete row"},{"$f":"IF('Step 2) Calculate'!E1967<>\"\",'Step 2) Calculate'!G1967,\"\")","v":""},{"$f":"IF(L1963<>\"\",'Step 2) Calculate'!F1967,\"\")","v":""},{"$f":"IF(L1963<>\"\",'Step 2) Calculate'!H1967,\"\")","v":""},{"$f":"IF(L1963<>\"\",'Step 2) Calculate'!C1967,\"\")","v":""}]
[null,null,null,null,null,null,null,null,null,null,{"$f":"IF(L1964<>\"\",'Step 2) Calculate'!B1968,\"Zzzzz - delete row\")","v":"Zzzzz - delete row"},{"$f":"IF('Step 2) Calculate'!E1968<>\"\",'Step 2) Calculate'!G1968,\"\")","v":""},{"$f":"IF(L1964<>\"\",'Step 2) Calculate'!F1968,\"\")","v":""},{"$f":"IF(L1964<>\"\",'Step 2) Calculate'!H1968,\"\")","v":""},{"$f":"IF(L1964<>\"\",'Step 2) Calculate'!C1968,\"\")","v":""}]
[null,null,null,null,null,null,null,null,null,null,{"$f":"IF(L1965<>\"\",'Step 2) Calculate'!B1969,\"Zzzzz - delete row\")","v":"Zzzzz - delete row"},{"$f":"IF('Step 2) Calculate'!E1969<>\"\",'Step 2) Calculate'!G1969,\"\")","v":""},{"$f":"IF(L1965<>\"\",'Step 2) Calculate'!F1969,\"\")","v":""},{"$f":"IF(L1965<>\"\",'Step 2) Calculate'!H1969,\"\")","v":""},{"$f":"IF(L1965<>\"\",'Step 2) Calculate'!C1969,\"\")","v":""}]
[null,null,null,null,null,null,null,null,null,null,{"$f":"IF(L1966<>\"\",'Step 2) Calculate'!B1970,\"Zzzzz - delete row\")","v":"Zzzzz - delete row"},{"$f":"IF('Step 2) Calculate'!E1970<>\"\",'Step 2) Calculate'!G1970,\"\")","v":""},{"$f":"IF(L1966<>\"\",'Step 2) Calculate'!F1970,\"\")","v":""},{"$f":"IF(L1966<>\"\",'Step 2) Calculate'!H1970,\"\")","v":""},{"$f":"IF(L1966<>\"\",'Step 2) Calculate'!C1970,\"\")","v":""}]
[null,null,null,null,null,null,null,null,null,null,{"$f":"IF(L1967<>\"\",'Step 2) Calculate'!B1971,\"Zzzzz - delete row\")","v":"Zzzzz - delete row"},{"$f":"IF('Step 2) Calculate'!E1971<>\"\",'Step 2) Calculate'!G1971,\"\")","v":""},{"$f":"IF(L1967<>\"\",'Step 2) Calculate'!F1971,\"\")","v":""},{"$f":"IF(L1967<>\"\",'Step 2) Calculate'!H1971,\"\")","v":""},{"$f":"IF(L1967<>\"\",'Step 2) Calculate'!C1971,\"\")","v":""}]
[null,null,null,null,null,null,null,null,null,null,{"$f":"IF(L1968<>\"\",'Step 2) Calculate'!B1972,\"Zzzzz - delete row\")","v":"Zzzzz - delete row"},{"$f":"IF('Step 2) Calculate'!E1972<>\"\",'Step 2) Calculate'!G1972,\"\")","v":""},{"$f":"IF(L1968<>\"\",'Step 2) Calculate'!F1972,\"\")","v":""},{"$f":"IF(L1968<>\"\",'Step 2) Calculate'!H1972,\"\")","v":""},{"$f":"IF(L1968<>\"\",'Step 2) Calculate'!C1972,\"\")","v":""}]
[null,null,null,null,null,null,null,null,null,null,{"$f":"IF(L1969<>\"\",'Step 2) Calculate'!B1973,\"Zzzzz - delete row\")","v":"Zzzzz - delete row"},{"$f":"IF('Step 2) Calculate'!E1973<>\"\",'Step 2) Calculate'!G1973,\"\")","v":""},{"$f":"IF(L1969<>\"\",'Step 2) Calculate'!F1973,\"\")","v":""},{"$f":"IF(L1969<>\"\",'Step 2) Calculate'!H1973,\"\")","v":""},{"$f":"IF(L1969<>\"\",'Step 2) Calculate'!C1973,\"\")","v":""}]
[null,null,null,null,null,null,null,null,null,null,{"$f":"IF(L1970<>\"\",'Step 2) Calculate'!B1974,\"Zzzzz - delete row\")","v":"Zzzzz - delete row"},{"$f":"IF('Step 2) Calculate'!E1974<>\"\",'Step 2) Calculate'!G1974,\"\")","v":""},{"$f":"IF(L1970<>\"\",'Step 2) Calculate'!F1974,\"\")","v":""},{"$f":"IF(L1970<>\"\",'Step 2) Calculate'!H1974,\"\")","v":""},{"$f":"IF(L1970<>\"\",'Step 2) Calculate'!C1974,\"\")","v":""}]
[null,null,null,null,null,null,null,null,null,null,{"$f":"IF(L1971<>\"\",'Step 2) Calculate'!B1975,\"Zzzzz - delete row\")","v":"Zzzzz - delete row"},{"$f":"IF('Step 2) Calculate'!E1975<>\"\",'Step 2) Calculate'!G1975,\"\")","v":""},{"$f":"IF(L1971<>\"\",'Step 2) Calculate'!F1975,\"\")","v":""},{"$f":"IF(L1971<>\"\",'Step 2) Calculate'!H1975,\"\")","v":""},{"$f":"IF(L1971<>\"\",'Step 2) Calculate'!C1975,\"\")","v":""}]
[null,null,null,null,null,null,null,null,null,null,{"$f":"IF(L1972<>\"\",'Step 2) Calculate'!B1976,\"Zzzzz - delete row\")","v":"Zzzzz - delete row"},{"$f":"IF('Step 2) Calculate'!E1976<>\"\",'Step 2) Calculate'!G1976,\"\")","v":""},{"$f":"IF(L1972<>\"\",'Step 2) Calculate'!F1976,\"\")","v":""},{"$f":"IF(L1972<>\"\",'Step 2) Calculate'!H1976,\"\")","v":""},{"$f":"IF(L1972<>\"\",'Step 2) Calculate'!C1976,\"\")","v":""}]
[null,null,null,null,null,null,null,null,null,null,{"$f":"IF(L1973<>\"\",'Step 2) Calculate'!B1977,\"Zzzzz - delete row\")","v":"Zzzzz - delete row"},{"$f":"IF('Step 2) Calculate'!E1977<>\"\",'Step 2) Calculate'!G1977,\"\")","v":""},{"$f":"IF(L1973<>\"\",'Step 2) Calculate'!F1977,\"\")","v":""},{"$f":"IF(L1973<>\"\",'Step 2) Calculate'!H1977,\"\")","v":""},{"$f":"IF(L1973<>\"\",'Step 2) Calculate'!C1977,\"\")","v":""}]
[null,null,null,null,null,null,null,null,null,null,{"$f":"IF(L1974<>\"\",'Step 2) Calculate'!B1978,\"Zzzzz - delete row\")","v":"Zzzzz - delete row"},{"$f":"IF('Step 2) Calculate'!E1978<>\"\",'Step 2) Calculate'!G1978,\"\")","v":""},{"$f":"IF(L1974<>\"\",'Step 2) Calculate'!F1978,\"\")","v":""},{"$f":"IF(L1974<>\"\",'Step 2) Calculate'!H1978,\"\")","v":""},{"$f":"IF(L1974<>\"\",'Step 2) Calculate'!C1978,\"\")","v":""}]
[null,null,null,null,null,null,null,null,null,null,{"$f":"IF(L1975<>\"\",'Step 2) Calculate'!B1979,\"Zzzzz - delete row\")","v":"Zzzzz - delete row"},{"$f":"IF('Step 2) Calculate'!E1979<>\"\",'Step 2) Calculate'!G1979,\"\")","v":""},{"$f":"IF(L1975<>\"\",'Step 2) Calculate'!F1979,\"\")","v":""},{"$f":"IF(L1975<>\"\",'Step 2) Calculate'!H1979,\"\")","v":""},{"$f":"IF(L1975<>\"\",'Step 2) Calculate'!C1979,\"\")","v":""}]
[null,null,null,null,null,null,null,null,null,null,{"$f":"IF(L1976<>\"\",'Step 2) Calculate'!B1980,\"Zzzzz - delete row\")","v":"Zzzzz - delete row"},{"$f":"IF('Step 2) Calculate'!E1980<>\"\",'Step 2) Calculate'!G1980,\"\")","v":""},{"$f":"IF(L1976<>\"\",'Step 2) Calculate'!F1980,\"\")","v":""},{"$f":"IF(L1976<>\"\",'Step 2) Calculate'!H1980,\"\")","v":""},{"$f":"IF(L1976<>\"\",'Step 2) Calculate'!C1980,\"\")","v":""}]
[null,null,null,null,null,null,null,null,null,null,{"$f":"IF(L1977<>\"\",'Step 2) Calculate'!B1981,\"Zzzzz - delete row\")","v":"Zzzzz - delete row"},{"$f":"IF('Step 2) Calculate'!E1981<>\"\",'Step 2) Calculate'!G1981,\"\")","v":""},{"$f":"IF(L1977<>\"\",'Step 2) Calculate'!F1981,\"\")","v":""},{"$f":"IF(L1977<>\"\",'Step 2) Calculate'!H1981,\"\")","v":""},{"$f":"IF(L1977<>\"\",'Step 2) Calculate'!C1981,\"\")","v":""}]
[null,null,null,null,null,null,null,null,null,null,{"$f":"IF(L1978<>\"\",'Step 2) Calculate'!B1982,\"Zzzzz - delete row\")","v":"Zzzzz - delete row"},{"$f":"IF('Step 2) Calculate'!E1982<>\"\",'Step 2) Calculate'!G1982,\"\")","v":""},{"$f":"IF(L1978<>\"\",'Step 2) Calculate'!F1982,\"\")","v":""},{"$f":"IF(L1978<>\"\",'Step 2) Calculate'!H1982,\"\")","v":""},{"$f":"IF(L1978<>\"\",'Step 2) Calculate'!C1982,\"\")","v":""}]
[null,null,null,null,null,null,null,null,null,null,{"$f":"IF(L1979<>\"\",'Step 2) Calculate'!B1983,\"Zzzzz - delete row\")","v":"Zzzzz - delete row"},{"$f":"IF('Step 2) Calculate'!E1983<>\"\",'Step 2) Calculate'!G1983,\"\")","v":""},{"$f":"IF(L1979<>\"\",'Step 2) Calculate'!F1983,\"\")","v":""},{"$f":"IF(L1979<>\"\",'Step 2) Calculate'!H1983,\"\")","v":""},{"$f":"IF(L1979<>\"\",'Step 2) Calculate'!C1983,\"\")","v":""}]
[null,null,null,null,null,null,null,null,null,null,{"$f":"IF(L1980<>\"\",'Step 2) Calculate'!B1984,\"Zzzzz - delete row\")","v":"Zzzzz - delete row"},{"$f":"IF('Step 2) Calculate'!E1984<>\"\",'Step 2) Calculate'!G1984,\"\")","v":""},{"$f":"IF(L1980<>\"\",'Step 2) Calculate'!F1984,\"\")","v":""},{"$f":"IF(L1980<>\"\",'Step 2) Calculate'!H1984,\"\")","v":""},{"$f":"IF(L1980<>\"\",'Step 2) Calculate'!C1984,\"\")","v":""}]
[null,null,null,null,null,null,null,null,null,null,{"$f":"IF(L1981<>\"\",'Step 2) Calculate'!B1985,\"Zzzzz - delete row\")","v":"Zzzzz - delete row"},{"$f":"IF('Step 2) Calculate'!E1985<>\"\",'Step 2) Calculate'!G1985,\"\")","v":""},{"$f":"IF(L1981<>\"\",'Step 2) Calculate'!F1985,\"\")","v":""},{"$f":"IF(L1981<>\"\",'Step 2) Calculate'!H1985,\"\")","v":""},{"$f":"IF(L1981<>\"\",'Step 2) Calculate'!C1985,\"\")","v":""}]
[null,null,null,null,null,null,null,null,null,null,{"$f":"IF(L1982<>\"\",'Step 2) Calculate'!B1986,\"Zzzzz - delete row\")","v":"Zzzzz - delete row"},{"$f":"IF('Step 2) Calculate'!E1986<>\"\",'Step 2) Calculate'!G1986,\"\")","v":""},{"$f":"IF(L1982<>\"\",'Step 2) Calculate'!F1986,\"\")","v":""},{"$f":"IF(L1982<>\"\",'Step 2) Calculate'!H1986,\"\")","v":""},{"$f":"IF(L1982<>\"\",'Step 2) Calculate'!C1986,\"\")","v":""}]
[null,null,null,null,null,null,null,null,null,null,{"$f":"IF(L1983<>\"\",'Step 2) Calculate'!B1987,\"Zzzzz - delete row\")","v":"Zzzzz - delete row"},{"$f":"IF('Step 2) Calculate'!E1987<>\"\",'Step 2) Calculate'!G1987,\"\")","v":""},{"$f":"IF(L1983<>\"\",'Step 2) Calculate'!F1987,\"\")","v":""},{"$f":"IF(L1983<>\"\",'Step 2) Calculate'!H1987,\"\")","v":""},{"$f":"IF(L1983<>\"\",'Step 2) Calculate'!C1987,\"\")","v":""}]
[null,null,null,null,null,null,null,null,null,null,{"$f":"IF(L1984<>\"\",'Step 2) Calculate'!B1988,\"Zzzzz - delete row\")","v":"Zzzzz - delete row"},{"$f":"IF('Step 2) Calculate'!E1988<>\"\",'Step 2) Calculate'!G1988,\"\")","v":""},{"$f":"IF(L1984<>\"\",'Step 2) Calculate'!F1988,\"\")","v":""},{"$f":"IF(L1984<>\"\",'Step 2) Calculate'!H1988,\"\")","v":""},{"$f":"IF(L1984<>\"\",'Step 2) Calculate'!C1988,\"\")","v":""}]
[null,null,null,null,null,null,null,null,null,null,{"$f":"IF(L1985<>\"\",'Step 2) Calculate'!B1989,\"Zzzzz - delete row\")","v":"Zzzzz - delete row"},{"$f":"IF('Step 2) Calculate'!E1989<>\"\",'Step 2) Calculate'!G1989,\"\")","v":""},{"$f":"IF(L1985<>\"\",'Step 2) Calculate'!F1989,\"\")","v":""},{"$f":"IF(L1985<>\"\",'Step 2) Calculate'!H1989,\"\")","v":""},{"$f":"IF(L1985<>\"\",'Step 2) Calculate'!C1989,\"\")","v":""}]
[null,null,null,null,null,null,null,null,null,null,{"$f":"IF(L1986<>\"\",'Step 2) Calculate'!B1990,\"Zzzzz - delete row\")","v":"Zzzzz - delete row"},{"$f":"IF('Step 2) Calculate'!E1990<>\"\",'Step 2) Calculate'!G1990,\"\")","v":""},{"$f":"IF(L1986<>\"\",'Step 2) Calculate'!F1990,\"\")","v":""},{"$f":"IF(L1986<>\"\",'Step 2) Calculate'!H1990,\"\")","v":""},{"$f":"IF(L1986<>\"\",'Step 2) Calculate'!C1990,\"\")","v":""}]
[null,null,null,null,null,null,null,null,null,null,{"$f":"IF(L1987<>\"\",'Step 2) Calculate'!B1991,\"Zzzzz - delete row\")","v":"Zzzzz - delete row"},{"$f":"IF('Step 2) Calculate'!E1991<>\"\",'Step 2) Calculate'!G1991,\"\")","v":""},{"$f":"IF(L1987<>\"\",'Step 2) Calculate'!F1991,\"\")","v":""},{"$f":"IF(L1987<>\"\",'Step 2) Calculate'!H1991,\"\")","v":""},{"$f":"IF(L1987<>\"\",'Step 2) Calculate'!C1991,\"\")","v":""}]
[null,null,null,null,null,null,null,null,null,null,{"$f":"IF(L1988<>\"\",'Step 2) Calculate'!B1992,\"Zzzzz - delete row\")","v":"Zzzzz - delete row"},{"$f":"IF('Step 2) Calculate'!E1992<>\"\",'Step 2) Calculate'!G1992,\"\")","v":""},{"$f":"IF(L1988<>\"\",'Step 2) Calculate'!F1992,\"\")","v":""},{"$f":"IF(L1988<>\"\",'Step 2) Calculate'!H1992,\"\")","v":""},{"$f":"IF(L1988<>\"\",'Step 2) Calculate'!C1992,\"\")","v":""}]
[null,null,null,null,null,null,null,null,null,null,{"$f":"IF(L1989<>\"\",'Step 2) Calculate'!B1993,\"Zzzzz - delete row\")","v":"Zzzzz - delete row"},{"$f":"IF('Step 2) Calculate'!E1993<>\"\",'Step 2) Calculate'!G1993,\"\")","v":""},{"$f":"IF(L1989<>\"\",'Step 2) Calculate'!F1993,\"\")","v":""},{"$f":"IF(L1989<>\"\",'Step 2) Calculate'!H1993,\"\")","v":""},{"$f":"IF(L1989<>\"\",'Step 2) Calculate'!C1993,\"\")","v":""}]
[null,null,null,null,null,null,null,null,null,null,{"$f":"IF(L1990<>\"\",'Step 2) Calculate'!B1994,\"Zzzzz - delete row\")","v":"Zzzzz - delete row"},{"$f":"IF('Step 2) Calculate'!E1994<>\"\",'Step 2) Calculate'!G1994,\"\")","v":""},{"$f":"IF(L1990<>\"\",'Step 2) Calculate'!F1994,\"\")","v":""},{"$f":"IF(L1990<>\"\",'Step 2) Calculate'!H1994,\"\")","v":""},{"$f":"IF(L1990<>\"\",'Step 2) Calculate'!C1994,\"\")","v":""}]
[null,null,null,null,null,null,null,null,null,null,{"$f":"IF(L1991<>\"\",'Step 2) Calculate'!B1995,\"Zzzzz - delete row\")","v":"Zzzzz - delete row"},{"$f":"IF('Step 2) Calculate'!E1995<>\"\",'Step 2) Calculate'!G1995,\"\")","v":""},{"$f":"IF(L1991<>\"\",'Step 2) Calculate'!F1995,\"\")","v":""},{"$f":"IF(L1991<>\"\",'Step 2) Calculate'!H1995,\"\")","v":""},{"$f":"IF(L1991<>\"\",'Step 2) Calculate'!C1995,\"\")","v":""}]
[null,null,null,null,null,null,null,null,null,null,{"$f":"IF(L1992<>\"\",'Step 2) Calculate'!B1996,\"Zzzzz - delete row\")","v":"Zzzzz - delete row"},{"$f":"IF('Step 2) Calculate'!E1996<>\"\",'Step 2) Calculate'!G1996,\"\")","v":""},{"$f":"IF(L1992<>\"\",'Step 2) Calculate'!F1996,\"\")","v":""},{"$f":"IF(L1992<>\"\",'Step 2) Calculate'!H1996,\"\")","v":""},{"$f":"IF(L1992<>\"\",'Step 2) Calculate'!C1996,\"\")","v":""}]
[null,null,null,null,null,null,null,null,null,null,{"$f":"IF(L1993<>\"\",'Step 2) Calculate'!B1997,\"Zzzzz - delete row\")","v":"Zzzzz - delete row"},{"$f":"IF('Step 2) Calculate'!E1997<>\"\",'Step 2) Calculate'!G1997,\"\")","v":""},{"$f":"IF(L1993<>\"\",'Step 2) Calculate'!F1997,\"\")","v":""},{"$f":"IF(L1993<>\"\",'Step 2) Calculate'!H1997,\"\")","v":""},{"$f":"IF(L1993<>\"\",'Step 2) Calculate'!C1997,\"\")","v":""}]
[null,null,null,null,null,null,null,null,null,null,{"$f":"IF(L1994<>\"\",'Step 2) Calculate'!B1998,\"Zzzzz - delete row\")","v":"Zzzzz - delete row"},{"$f":"IF('Step 2) Calculate'!E1998<>\"\",'Step 2) Calculate'!G1998,\"\")","v":""},{"$f":"IF(L1994<>\"\",'Step 2) Calculate'!F1998,\"\")","v":""},{"$f":"IF(L1994<>\"\",'Step 2) Calculate'!H1998,\"\")","v":""},{"$f":"IF(L1994<>\"\",'Step 2) Calculate'!C1998,\"\")","v":""}]
[null,null,null,null,null,null,null,null,null,null,{"$f":"IF(L1995<>\"\",'Step 2) Calculate'!B1999,\"Zzzzz - delete row\")","v":"Zzzzz - delete row"},{"$f":"IF('Step 2) Calculate'!E1999<>\"\",'Step 2) Calculate'!G1999,\"\")","v":""},{"$f":"IF(L1995<>\"\",'Step 2) Calculate'!F1999,\"\")","v":""},{"$f":"IF(L1995<>\"\",'Step 2) Calculate'!H1999,\"\")","v":""},{"$f":"IF(L1995<>\"\",'Step 2) Calculate'!C1999,\"\")","v":""}]
[null,null,null,null,null,null,null,null,null,null,{"$f":"IF(L1996<>\"\",'Step 2) Calculate'!B2000,\"Zzzzz - delete row\")","v":"Zzzzz - delete row"},{"$f":"IF('Step 2) Calculate'!E2000<>\"\",'Step 2) Calculate'!G2000,\"\")","v":""},{"$f":"IF(L1996<>\"\",'Step 2) Calculate'!F2000,\"\")","v":""},{"$f":"IF(L1996<>\"\",'Step 2) Calculate'!H2000,\"\")","v":""},{"$f":"IF(L1996<>\"\",'Step 2) Calculate'!C2000,\"\")","v":""}]
[null,null,null,null,null,null,null,null,null,null,{"$f":"IF(L1997<>\"\",'Step 2) Calculate'!B2001,\"Zzzzz - delete row\")","v":"Zzzzz - delete row"},{"$f":"IF('Step 2) Calculate'!E2001<>\"\",'Step 2) Calculate'!G2001,\"\")","v":""},{"$f":"IF(L1997<>\"\",'Step 2) Calculate'!F2001,\"\")","v":""},{"$f":"IF(L1997<>\"\",'Step 2) Calculate'!H2001,\"\")","v":""},{"$f":"IF(L1997<>\"\",'Step 2) Calculate'!C2001,\"\")","v":""}]
[null,null,null,null,null,null,null,null,null,null,{"$f":"IF(L1998<>\"\",'Step 2) Calculate'!B2002,\"Zzzzz - delete row\")","v":"Zzzzz - delete row"},{"$f":"IF('Step 2) Calculate'!E2002<>\"\",'Step 2) Calculate'!G2002,\"\")","v":""},{"$f":"IF(L1998<>\"\",'Step 2) Calculate'!F2002,\"\")","v":""},{"$f":"IF(L1998<>\"\",'Step 2) Calculate'!H2002,\"\")","v":""},{"$f":"IF(L1998<>\"\",'Step 2) Calculate'!C2002,\"\")","v":""}]
[null,null,null,null,null,null,null,null,null,null,{"$f":"IF(L1999<>\"\",'Step 2) Calculate'!B2003,\"Zzzzz - delete row\")","v":"Zzzzz - delete row"},{"$f":"IF('Step 2) Calculate'!E2003<>\"\",'Step 2) Calculate'!G2003,\"\")","v":""},{"$f":"IF(L1999<>\"\",'Step 2) Calculate'!F2003,\"\")","v":""},{"$f":"IF(L1999<>\"\",'Step 2) Calculate'!H2003,\"\")","v":""},{"$f":"IF(L1999<>\"\",'Step 2) Calculate'!C2003,\"\")","v":""}]
[null,null,null,null,null,null,null,null,null,null,{"$f":"IF(L2000<>\"\",'Step 2) Calculate'!B2004,\"Zzzzz - delete row\")","v":"Zzzzz - delete row"},{"$f":"IF('Step 2) Calculate'!E2004<>\"\",'Step 2) Calculate'!G2004,\"\")","v":""},{"$f":"IF(L2000<>\"\",'Step 2) Calculate'!F2004,\"\")","v":""},{"$f":"IF(L2000<>\"\",'Step 2) Calculate'!H2004,\"\")","v":""},{"$f":"IF(L2000<>\"\",'Step 2) Calculate'!C2004,\"\")","v":""}]
[null,null,null,null,null,null,null,null,null,null,{"$f":"IF(L2001<>\"\",'Step 2) Calculate'!B2005,\"Zzzzz - delete row\")","v":"Zzzzz - delete row"},{"$f":"IF('Step 2) Calculate'!E2005<>\"\",'Step 2) Calculate'!G2005,\"\")","v":""},{"$f":"IF(L2001<>\"\",'Step 2) Calculate'!F2005,\"\")","v":""},{"$f":"IF(L2001<>\"\",'Step 2) Calculate'!H2005,\"\")","v":""},{"$f":"IF(L2001<>\"\",'Step 2) Calculate'!C2005,\"\")","v":""}]
[null,null,null,null,null,null,null,null,null,null,{"$f":"IF(L2002<>\"\",'Step 2) Calculate'!B2006,\"Zzzzz - delete row\")","v":"Zzzzz - delete row"},{"$f":"IF('Step 2) Calculate'!E2006<>\"\",'Step 2) Calculate'!G2006,\"\")","v":""},{"$f":"IF(L2002<>\"\",'Step 2) Calculate'!F2006,\"\")","v":""},{"$f":"IF(L2002<>\"\",'Step 2) Calculate'!H2006,\"\")","v":""},{"$f":"IF(L2002<>\"\",'Step 2) Calculate'!C2006,\"\")","v":""}]
[null,null,null,null,null,null,null,null,null,null,{"$f":"IF(L2003<>\"\",'Step 2) Calculate'!B2007,\"Zzzzz - delete row\")","v":"Zzzzz - delete row"},{"$f":"IF('Step 2) Calculate'!E2007<>\"\",'Step 2) Calculate'!G2007,\"\")","v":""},{"$f":"IF(L2003<>\"\",'Step 2) Calculate'!F2007,\"\")","v":""},{"$f":"IF(L2003<>\"\",'Step 2) Calculate'!H2007,\"\")","v":""},{"$f":"IF(L2003<>\"\",'Step 2) Calculate'!C2007,\"\")","v":""}]
[null,null,null,null,null,null,null,null,null,null,{"$f":"IF(L2004<>\"\",'Step 2) Calculate'!B2008,\"Zzzzz - delete row\")","v":"Zzzzz - delete row"},{"$f":"IF('Step 2) Calculate'!E2008<>\"\",'Step 2) Calculate'!G2008,\"\")","v":""},{"$f":"IF(L2004<>\"\",'Step 2) Calculate'!F2008,\"\")","v":""},{"$f":"IF(L2004<>\"\",'Step 2) Calculate'!H2008,\"\")","v":""},{"$f":"IF(L2004<>\"\",'Step 2) Calculate'!C2008,\"\")","v":""}]
[null,null,null,null,null,null,null,null,null,null,{"$f":"IF(L2005<>\"\",'Step 2) Calculate'!B2009,\"Zzzzz - delete row\")","v":"Zzzzz - delete row"},{"$f":"IF('Step 2) Calculate'!E2009<>\"\",'Step 2) Calculate'!G2009,\"\")","v":""},{"$f":"IF(L2005<>\"\",'Step 2) Calculate'!F2009,\"\")","v":""},{"$f":"IF(L2005<>\"\",'Step 2) Calculate'!H2009,\"\")","v":""},{"$f":"IF(L2005<>\"\",'Step 2) Calculate'!C2009,\"\")","v":""}]
[null,null,null,null,null,null,null,null,null,null,{"$f":"IF(L2006<>\"\",'Step 2) Calculate'!B2010,\"Zzzzz - delete row\")","v":"Zzzzz - delete row"},{"$f":"IF('Step 2) Calculate'!E2010<>\"\",'Step 2) Calculate'!G2010,\"\")","v":""},{"$f":"IF(L2006<>\"\",'Step 2) Calculate'!F2010,\"\")","v":""},{"$f":"IF(L2006<>\"\",'Step 2) Calculate'!H2010,\"\")","v":""},{"$f":"IF(L2006<>\"\",'Step 2) Calculate'!C2010,\"\")","v":""}]
[null,null,null,null,null,null,null,null,null,null,{"$f":"IF(L2007<>\"\",'Step 2) Calculate'!B2011,\"Zzzzz - delete row\")","v":"Zzzzz - delete row"},{"$f":"IF('Step 2) Calculate'!E2011<>\"\",'Step 2) Calculate'!G2011,\"\")","v":""},{"$f":"IF(L2007<>\"\",'Step 2) Calculate'!F2011,\"\")","v":""},{"$f":"IF(L2007<>\"\",'Step 2) Calculate'!H2011,\"\")","v":""},{"$f":"IF(L2007<>\"\",'Step 2) Calculate'!C2011,\"\")","v":""}]
[null,null,null,null,null,null,null,null,null,null,{"$f":"IF(L2008<>\"\",'Step 2) Calculate'!B2012,\"Zzzzz - delete row\")","v":"Zzzzz - delete row"},{"$f":"IF('Step 2) Calculate'!E2012<>\"\",'Step 2) Calculate'!G2012,\"\")","v":""},{"$f":"IF(L2008<>\"\",'Step 2) Calculate'!F2012,\"\")","v":""},{"$f":"IF(L2008<>\"\",'Step 2) Calculate'!H2012,\"\")","v":""},{"$f":"IF(L2008<>\"\",'Step 2) Calculate'!C2012,\"\")","v":""}]
[null,null,null,null,null,null,null,null,null,null,{"$f":"IF(L2009<>\"\",'Step 2) Calculate'!B2013,\"Zzzzz - delete row\")","v":"Zzzzz - delete row"},{"$f":"IF('Step 2) Calculate'!E2013<>\"\",'Step 2) Calculate'!G2013,\"\")","v":""},{"$f":"IF(L2009<>\"\",'Step 2) Calculate'!F2013,\"\")","v":""},{"$f":"IF(L2009<>\"\",'Step 2) Calculate'!H2013,\"\")","v":""},{"$f":"IF(L2009<>\"\",'Step 2) Calculate'!C2013,\"\")","v":""}]
[null,null,null,null,null,null,null,null,null,null,{"$f":"IF(L2010<>\"\",'Step 2) Calculate'!B2014,\"Zzzzz - delete row\")","v":"Zzzzz - delete row"},{"$f":"IF('Step 2) Calculate'!E2014<>\"\",'Step 2) Calculate'!G2014,\"\")","v":""},{"$f":"IF(L2010<>\"\",'Step 2) Calculate'!F2014,\"\")","v":""},{"$f":"IF(L2010<>\"\",'Step 2) Calculate'!H2014,\"\")","v":""},{"$f":"IF(L2010<>\"\",'Step 2) Calculate'!C2014,\"\")","v":""}]
[null,null,null,null,null,null,null,null,null,null,{"$f":"IF(L2011<>\"\",'Step 2) Calculate'!B2015,\"Zzzzz - delete row\")","v":"Zzzzz - delete row"},{"$f":"IF('Step 2) Calculate'!E2015<>\"\",'Step 2) Calculate'!G2015,\"\")","v":""},{"$f":"IF(L2011<>\"\",'Step 2) Calculate'!F2015,\"\")","v":""},{"$f":"IF(L2011<>\"\",'Step 2) Calculate'!H2015,\"\")","v":""},{"$f":"IF(L2011<>\"\",'Step 2) Calculate'!C2015,\"\")","v":""}]
[null,null,null,null,null,null,null,null,null,null,{"$f":"IF(L2012<>\"\",'Step 2) Calculate'!B2016,\"Zzzzz - delete row\")","v":"Zzzzz - delete row"},{"$f":"IF('Step 2) Calculate'!E2016<>\"\",'Step 2) Calculate'!G2016,\"\")","v":""},{"$f":"IF(L2012<>\"\",'Step 2) Calculate'!F2016,\"\")","v":""},{"$f":"IF(L2012<>\"\",'Step 2) Calculate'!H2016,\"\")","v":""},{"$f":"IF(L2012<>\"\",'Step 2) Calculate'!C2016,\"\")","v":""}]
[null,null,null,null,null,null,null,null,null,null,{"$f":"IF(L2013<>\"\",'Step 2) Calculate'!B2017,\"Zzzzz - delete row\")","v":"Zzzzz - delete row"},{"$f":"IF('Step 2) Calculate'!E2017<>\"\",'Step 2) Calculate'!G2017,\"\")","v":""},{"$f":"IF(L2013<>\"\",'Step 2) Calculate'!F2017,\"\")","v":""},{"$f":"IF(L2013<>\"\",'Step 2) Calculate'!H2017,\"\")","v":""},{"$f":"IF(L2013<>\"\",'Step 2) Calculate'!C2017,\"\")","v":""}]
[null,null,null,null,null,null,null,null,null,null,{"$f":"IF(L2014<>\"\",'Step 2) Calculate'!B2018,\"Zzzzz - delete row\")","v":"Zzzzz - delete row"},{"$f":"IF('Step 2) Calculate'!E2018<>\"\",'Step 2) Calculate'!G2018,\"\")","v":""},{"$f":"IF(L2014<>\"\",'Step 2) Calculate'!F2018,\"\")","v":""},{"$f":"IF(L2014<>\"\",'Step 2) Calculate'!H2018,\"\")","v":""},{"$f":"IF(L2014<>\"\",'Step 2) Calculate'!C2018,\"\")","v":""}]
[null,null,null,null,null,null,null,null,null,null,{"$f":"IF(L2015<>\"\",'Step 2) Calculate'!B2019,\"Zzzzz - delete row\")","v":"Zzzzz - delete row"},{"$f":"IF('Step 2) Calculate'!E2019<>\"\",'Step 2) Calculate'!G2019,\"\")","v":""},{"$f":"IF(L2015<>\"\",'Step 2) Calculate'!F2019,\"\")","v":""},{"$f":"IF(L2015<>\"\",'Step 2) Calculate'!H2019,\"\")","v":""},{"$f":"IF(L2015<>\"\",'Step 2) Calculate'!C2019,\"\")","v":""}]
[null,null,null,null,null,null,null,null,null,null,{"$f":"IF(L2016<>\"\",'Step 2) Calculate'!B2020,\"Zzzzz - delete row\")","v":"Zzzzz - delete row"},{"$f":"IF('Step 2) Calculate'!E2020<>\"\",'Step 2) Calculate'!G2020,\"\")","v":""},{"$f":"IF(L2016<>\"\",'Step 2) Calculate'!F2020,\"\")","v":""},{"$f":"IF(L2016<>\"\",'Step 2) Calculate'!H2020,\"\")","v":""},{"$f":"IF(L2016<>\"\",'Step 2) Calculate'!C2020,\"\")","v":""}]
[null,null,null,null,null,null,null,null,null,null,{"$f":"IF(L2017<>\"\",'Step 2) Calculate'!B2021,\"Zzzzz - delete row\")","v":"Zzzzz - delete row"},{"$f":"IF('Step 2) Calculate'!E2021<>\"\",'Step 2) Calculate'!G2021,\"\")","v":""},{"$f":"IF(L2017<>\"\",'Step 2) Calculate'!F2021,\"\")","v":""},{"$f":"IF(L2017<>\"\",'Step 2) Calculate'!H2021,\"\")","v":""},{"$f":"IF(L2017<>\"\",'Step 2) Calculate'!C2021,\"\")","v":""}]
[null,null,null,null,null,null,null,null,null,null,{"$f":"IF(L2018<>\"\",'Step 2) Calculate'!B2022,\"Zzzzz - delete row\")","v":"Zzzzz - delete row"},{"$f":"IF('Step 2) Calculate'!E2022<>\"\",'Step 2) Calculate'!G2022,\"\")","v":""},{"$f":"IF(L2018<>\"\",'Step 2) Calculate'!F2022,\"\")","v":""},{"$f":"IF(L2018<>\"\",'Step 2) Calculate'!H2022,\"\")","v":""},{"$f":"IF(L2018<>\"\",'Step 2) Calculate'!C2022,\"\")","v":""}]
[null,null,null,null,null,null,null,null,null,null,{"$f":"IF(L2019<>\"\",'Step 2) Calculate'!B2023,\"Zzzzz - delete row\")","v":"Zzzzz - delete row"},{"$f":"IF('Step 2) Calculate'!E2023<>\"\",'Step 2) Calculate'!G2023,\"\")","v":""},{"$f":"IF(L2019<>\"\",'Step 2) Calculate'!F2023,\"\")","v":""},{"$f":"IF(L2019<>\"\",'Step 2) Calculate'!H2023,\"\")","v":""},{"$f":"IF(L2019<>\"\",'Step 2) Calculate'!C2023,\"\")","v":""}]
[null,null,null,null,null,null,null,null,null,null,{"$f":"IF(L2020<>\"\",'Step 2) Calculate'!B2024,\"Zzzzz - delete row\")","v":"Zzzzz - delete row"},{"$f":"IF('Step 2) Calculate'!E2024<>\"\",'Step 2) Calculate'!G2024,\"\")","v":""},{"$f":"IF(L2020<>\"\",'Step 2) Calculate'!F2024,\"\")","v":""},{"$f":"IF(L2020<>\"\",'Step 2) Calculate'!H2024,\"\")","v":""},{"$f":"IF(L2020<>\"\",'Step 2) Calculate'!C2024,\"\")","v":""}]
[null,null,null,null,null,null,null,null,null,null,{"$f":"IF(L2021<>\"\",'Step 2) Calculate'!B2025,\"Zzzzz - delete row\")","v":"Zzzzz - delete row"},{"$f":"IF('Step 2) Calculate'!E2025<>\"\",'Step 2) Calculate'!G2025,\"\")","v":""},{"$f":"IF(L2021<>\"\",'Step 2) Calculate'!F2025,\"\")","v":""},{"$f":"IF(L2021<>\"\",'Step 2) Calculate'!H2025,\"\")","v":""},{"$f":"IF(L2021<>\"\",'Step 2) Calculate'!C2025,\"\")","v":""}]
[null,null,null,null,null,null,null,null,null,null,{"$f":"IF(L2022<>\"\",'Step 2) Calculate'!B2026,\"Zzzzz - delete row\")","v":"Zzzzz - delete row"},{"$f":"IF('Step 2) Calculate'!E2026<>\"\",'Step 2) Calculate'!G2026,\"\")","v":""},{"$f":"IF(L2022<>\"\",'Step 2) Calculate'!F2026,\"\")","v":""},{"$f":"IF(L2022<>\"\",'Step 2) Calculate'!H2026,\"\")","v":""},{"$f":"IF(L2022<>\"\",'Step 2) Calculate'!C2026,\"\")","v":""}]
[null,null,null,null,null,null,null,null,null,null,{"$f":"IF(L2023<>\"\",'Step 2) Calculate'!B2027,\"Zzzzz - delete row\")","v":"Zzzzz - delete row"},{"$f":"IF('Step 2) Calculate'!E2027<>\"\",'Step 2) Calculate'!G2027,\"\")","v":""},{"$f":"IF(L2023<>\"\",'Step 2) Calculate'!F2027,\"\")","v":""},{"$f":"IF(L2023<>\"\",'Step 2) Calculate'!H2027,\"\")","v":""},{"$f":"IF(L2023<>\"\",'Step 2) Calculate'!C2027,\"\")","v":""}]
[null,null,null,null,null,null,null,null,null,null,{"$f":"IF(L2024<>\"\",'Step 2) Calculate'!B2028,\"Zzzzz - delete row\")","v":"Zzzzz - delete row"},{"$f":"IF('Step 2) Calculate'!E2028<>\"\",'Step 2) Calculate'!G2028,\"\")","v":""},{"$f":"IF(L2024<>\"\",'Step 2) Calculate'!F2028,\"\")","v":""},{"$f":"IF(L2024<>\"\",'Step 2) Calculate'!H2028,\"\")","v":""},{"$f":"IF(L2024<>\"\",'Step 2) Calculate'!C2028,\"\")","v":""}]
[null,null,null,null,null,null,null,null,null,null,{"$f":"IF(L2025<>\"\",'Step 2) Calculate'!B2029,\"Zzzzz - delete row\")","v":"Zzzzz - delete row"},{"$f":"IF('Step 2) Calculate'!E2029<>\"\",'Step 2) Calculate'!G2029,\"\")","v":""},{"$f":"IF(L2025<>\"\",'Step 2) Calculate'!F2029,\"\")","v":""},{"$f":"IF(L2025<>\"\",'Step 2) Calculate'!H2029,\"\")","v":""},{"$f":"IF(L2025<>\"\",'Step 2) Calculate'!C2029,\"\")","v":""}]
[null,null,null,null,null,null,null,null,null,null,{"$f":"IF(L2026<>\"\",'Step 2) Calculate'!B2030,\"Zzzzz - delete row\")","v":"Zzzzz - delete row"},{"$f":"IF('Step 2) Calculate'!E2030<>\"\",'Step 2) Calculate'!G2030,\"\")","v":""},{"$f":"IF(L2026<>\"\",'Step 2) Calculate'!F2030,\"\")","v":""},{"$f":"IF(L2026<>\"\",'Step 2) Calculate'!H2030,\"\")","v":""},{"$f":"IF(L2026<>\"\",'Step 2) Calculate'!C2030,\"\")","v":""}]
[null,null,null,null,null,null,null,null,null,null,{"$f":"IF(L2027<>\"\",'Step 2) Calculate'!B2031,\"Zzzzz - delete row\")","v":"Zzzzz - delete row"},{"$f":"IF('Step 2) Calculate'!E2031<>\"\",'Step 2) Calculate'!G2031,\"\")","v":""},{"$f":"IF(L2027<>\"\",'Step 2) Calculate'!F2031,\"\")","v":""},{"$f":"IF(L2027<>\"\",'Step 2) Calculate'!H2031,\"\")","v":""},{"$f":"IF(L2027<>\"\",'Step 2) Calculate'!C2031,\"\")","v":""}]
[null,null,null,null,null,null,null,null,null,null,{"$f":"IF(L2028<>\"\",'Step 2) Calculate'!B2032,\"Zzzzz - delete row\")","v":"Zzzzz - delete row"},{"$f":"IF('Step 2) Calculate'!E2032<>\"\",'Step 2) Calculate'!G2032,\"\")","v":""},{"$f":"IF(L2028<>\"\",'Step 2) Calculate'!F2032,\"\")","v":""},{"$f":"IF(L2028<>\"\",'Step 2) Calculate'!H2032,\"\")","v":""},{"$f":"IF(L2028<>\"\",'Step 2) Calculate'!C2032,\"\")","v":""}]
[null,null,null,null,null,null,null,null,null,null,{"$f":"IF(L2029<>\"\",'Step 2) Calculate'!B2033,\"Zzzzz - delete row\")","v":"Zzzzz - delete row"},{"$f":"IF('Step 2) Calculate'!E2033<>\"\",'Step 2) Calculate'!G2033,\"\")","v":""},{"$f":"IF(L2029<>\"\",'Step 2) Calculate'!F2033,\"\")","v":""},{"$f":"IF(L2029<>\"\",'Step 2) Calculate'!H2033,\"\")","v":""},{"$f":"IF(L2029<>\"\",'Step 2) Calculate'!C2033,\"\")","v":""}]
[null,null,null,null,null,null,null,null,null,null,{"$f":"IF(L2030<>\"\",'Step 2) Calculate'!B2034,\"Zzzzz - delete row\")","v":"Zzzzz - delete row"},{"$f":"IF('Step 2) Calculate'!E2034<>\"\",'Step 2) Calculate'!G2034,\"\")","v":""},{"$f":"IF(L2030<>\"\",'Step 2) Calculate'!F2034,\"\")","v":""},{"$f":"IF(L2030<>\"\",'Step 2) Calculate'!H2034,\"\")","v":""},{"$f":"IF(L2030<>\"\",'Step 2) Calculate'!C2034,\"\")","v":""}]
[null,null,null,null,null,null,null,null,null,null,{"$f":"IF(L2031<>\"\",'Step 2) Calculate'!B2035,\"Zzzzz - delete row\")","v":"Zzzzz - delete row"},{"$f":"IF('Step 2) Calculate'!E2035<>\"\",'Step 2) Calculate'!G2035,\"\")","v":""},{"$f":"IF(L2031<>\"\",'Step 2) Calculate'!F2035,\"\")","v":""},{"$f":"IF(L2031<>\"\",'Step 2) Calculate'!H2035,\"\")","v":""},{"$f":"IF(L2031<>\"\",'Step 2) Calculate'!C2035,\"\")","v":""}]
[null,null,null,null,null,null,null,null,null,null,{"$f":"IF(L2032<>\"\",'Step 2) Calculate'!B2036,\"Zzzzz - delete row\")","v":"Zzzzz - delete row"},{"$f":"IF('Step 2) Calculate'!E2036<>\"\",'Step 2) Calculate'!G2036,\"\")","v":""},{"$f":"IF(L2032<>\"\",'Step 2) Calculate'!F2036,\"\")","v":""},{"$f":"IF(L2032<>\"\",'Step 2) Calculate'!H2036,\"\")","v":""},{"$f":"IF(L2032<>\"\",'Step 2) Calculate'!C2036,\"\")","v":""}]
[null,null,null,null,null,null,null,null,null,null,{"$f":"IF(L2033<>\"\",'Step 2) Calculate'!B2037,\"Zzzzz - delete row\")","v":"Zzzzz - delete row"},{"$f":"IF('Step 2) Calculate'!E2037<>\"\",'Step 2) Calculate'!G2037,\"\")","v":""},{"$f":"IF(L2033<>\"\",'Step 2) Calculate'!F2037,\"\")","v":""},{"$f":"IF(L2033<>\"\",'Step 2) Calculate'!H2037,\"\")","v":""},{"$f":"IF(L2033<>\"\",'Step 2) Calculate'!C2037,\"\")","v":""}]
[null,null,null,null,null,null,null,null,null,null,{"$f":"IF(L2034<>\"\",'Step 2) Calculate'!B2038,\"Zzzzz - delete row\")","v":"Zzzzz - delete row"},{"$f":"IF('Step 2) Calculate'!E2038<>\"\",'Step 2) Calculate'!G2038,\"\")","v":""},{"$f":"IF(L2034<>\"\",'Step 2) Calculate'!F2038,\"\")","v":""},{"$f":"IF(L2034<>\"\",'Step 2) Calculate'!H2038,\"\")","v":""},{"$f":"IF(L2034<>\"\",'Step 2) Calculate'!C2038,\"\")","v":""}]
[null,null,null,null,null,null,null,null,null,null,{"$f":"IF(L2035<>\"\",'Step 2) Calculate'!B2039,\"Zzzzz - delete row\")","v":"Zzzzz - delete row"},{"$f":"IF('Step 2) Calculate'!E2039<>\"\",'Step 2) Calculate'!G2039,\"\")","v":""},{"$f":"IF(L2035<>\"\",'Step 2) Calculate'!F2039,\"\")","v":""},{"$f":"IF(L2035<>\"\",'Step 2) Calculate'!H2039,\"\")","v":""},{"$f":"IF(L2035<>\"\",'Step 2) Calculate'!C2039,\"\")","v":""}]
[null,null,null,null,null,null,null,null,null,null,{"$f":"IF(L2036<>\"\",'Step 2) Calculate'!B2040,\"Zzzzz - delete row\")","v":"Zzzzz - delete row"},{"$f":"IF('Step 2) Calculate'!E2040<>\"\",'Step 2) Calculate'!G2040,\"\")","v":""},{"$f":"IF(L2036<>\"\",'Step 2) Calculate'!F2040,\"\")","v":""},{"$f":"IF(L2036<>\"\",'Step 2) Calculate'!H2040,\"\")","v":""},{"$f":"IF(L2036<>\"\",'Step 2) Calculate'!C2040,\"\")","v":""}]
[null,null,null,null,null,null,null,null,null,null,{"$f":"IF(L2037<>\"\",'Step 2) Calculate'!B2041,\"Zzzzz - delete row\")","v":"Zzzzz - delete row"},{"$f":"IF('Step 2) Calculate'!E2041<>\"\",'Step 2) Calculate'!G2041,\"\")","v":""},{"$f":"IF(L2037<>\"\",'Step 2) Calculate'!F2041,\"\")","v":""},{"$f":"IF(L2037<>\"\",'Step 2) Calculate'!H2041,\"\")","v":""},{"$f":"IF(L2037<>\"\",'Step 2) Calculate'!C2041,\"\")","v":""}]
[null,null,null,null,null,null,null,null,null,null,{"$f":"IF(L2038<>\"\",'Step 2) Calculate'!B2042,\"Zzzzz - delete row\")","v":"Zzzzz - delete row"},{"$f":"IF('Step 2) Calculate'!E2042<>\"\",'Step 2) Calculate'!G2042,\"\")","v":""},{"$f":"IF(L2038<>\"\",'Step 2) Calculate'!F2042,\"\")","v":""},{"$f":"IF(L2038<>\"\",'Step 2) Calculate'!H2042,\"\")","v":""},{"$f":"IF(L2038<>\"\",'Step 2) Calculate'!C2042,\"\")","v":""}]
[null,null,null,null,null,null,null,null,null,null,{"$f":"IF(L2039<>\"\",'Step 2) Calculate'!B2043,\"Zzzzz - delete row\")","v":"Zzzzz - delete row"},{"$f":"IF('Step 2) Calculate'!E2043<>\"\",'Step 2) Calculate'!G2043,\"\")","v":""},{"$f":"IF(L2039<>\"\",'Step 2) Calculate'!F2043,\"\")","v":""},{"$f":"IF(L2039<>\"\",'Step 2) Calculate'!H2043,\"\")","v":""},{"$f":"IF(L2039<>\"\",'Step 2) Calculate'!C2043,\"\")","v":""}]
[null,null,null,null,null,null,null,null,null,null,{"$f":"IF(L2040<>\"\",'Step 2) Calculate'!B2044,\"Zzzzz - delete row\")","v":"Zzzzz - delete row"},{"$f":"IF('Step 2) Calculate'!E2044<>\"\",'Step 2) Calculate'!G2044,\"\")","v":""},{"$f":"IF(L2040<>\"\",'Step 2) Calculate'!F2044,\"\")","v":""},{"$f":"IF(L2040<>\"\",'Step 2) Calculate'!H2044,\"\")","v":""},{"$f":"IF(L2040<>\"\",'Step 2) Calculate'!C2044,\"\")","v":""}]
[null,null,null,null,null,null,null,null,null,null,{"$f":"IF(L2041<>\"\",'Step 2) Calculate'!B2045,\"Zzzzz - delete row\")","v":"Zzzzz - delete row"},{"$f":"IF('Step 2) Calculate'!E2045<>\"\",'Step 2) Calculate'!G2045,\"\")","v":""},{"$f":"IF(L2041<>\"\",'Step 2) Calculate'!F2045,\"\")","v":""},{"$f":"IF(L2041<>\"\",'Step 2) Calculate'!H2045,\"\")","v":""},{"$f":"IF(L2041<>\"\",'Step 2) Calculate'!C2045,\"\")","v":""}]
[null,null,null,null,null,null,null,null,null,null,{"$f":"IF(L2042<>\"\",'Step 2) Calculate'!B2046,\"Zzzzz - delete row\")","v":"Zzzzz - delete row"},{"$f":"IF('Step 2) Calculate'!E2046<>\"\",'Step 2) Calculate'!G2046,\"\")","v":""},{"$f":"IF(L2042<>\"\",'Step 2) Calculate'!F2046,\"\")","v":""},{"$f":"IF(L2042<>\"\",'Step 2) Calculate'!H2046,\"\")","v":""},{"$f":"IF(L2042<>\"\",'Step 2) Calculate'!C2046,\"\")","v":""}]
[null,null,null,null,null,null,null,null,null,null,{"$f":"IF(L2043<>\"\",'Step 2) Calculate'!B2047,\"Zzzzz - delete row\")","v":"Zzzzz - delete row"},{"$f":"IF('Step 2) Calculate'!E2047<>\"\",'Step 2) Calculate'!G2047,\"\")","v":""},{"$f":"IF(L2043<>\"\",'Step 2) Calculate'!F2047,\"\")","v":""},{"$f":"IF(L2043<>\"\",'Step 2) Calculate'!H2047,\"\")","v":""},{"$f":"IF(L2043<>\"\",'Step 2) Calculate'!C2047,\"\")","v":""}]
[null,null,null,null,null,null,null,null,null,null,{"$f":"IF(L2044<>\"\",'Step 2) Calculate'!B2048,\"Zzzzz - delete row\")","v":"Zzzzz - delete row"},{"$f":"IF('Step 2) Calculate'!E2048<>\"\",'Step 2) Calculate'!G2048,\"\")","v":""},{"$f":"IF(L2044<>\"\",'Step 2) Calculate'!F2048,\"\")","v":""},{"$f":"IF(L2044<>\"\",'Step 2) Calculate'!H2048,\"\")","v":""},{"$f":"IF(L2044<>\"\",'Step 2) Calculate'!C2048,\"\")","v":""}]
[null,null,null,null,null,null,null,null,null,null,{"$f":"IF(L2045<>\"\",'Step 2) Calculate'!B2049,\"Zzzzz - delete row\")","v":"Zzzzz - delete row"},{"$f":"IF('Step 2) Calculate'!E2049<>\"\",'Step 2) Calculate'!G2049,\"\")","v":""},{"$f":"IF(L2045<>\"\",'Step 2) Calculate'!F2049,\"\")","v":""},{"$f":"IF(L2045<>\"\",'Step 2) Calculate'!H2049,\"\")","v":""},{"$f":"IF(L2045<>\"\",'Step 2) Calculate'!C2049,\"\")","v":""}]
[null,null,null,null,null,null,null,null,null,null,{"$f":"IF(L2046<>\"\",'Step 2) Calculate'!B2050,\"Zzzzz - delete row\")","v":"Zzzzz - delete row"},{"$f":"IF('Step 2) Calculate'!E2050<>\"\",'Step 2) Calculate'!G2050,\"\")","v":""},{"$f":"IF(L2046<>\"\",'Step 2) Calculate'!F2050,\"\")","v":""},{"$f":"IF(L2046<>\"\",'Step 2) Calculate'!H2050,\"\")","v":""},{"$f":"IF(L2046<>\"\",'Step 2) Calculate'!C2050,\"\")","v":""}]
[null,null,null,null,null,null,null,null,null,null,{"$f":"IF(L2047<>\"\",'Step 2) Calculate'!B2051,\"Zzzzz - delete row\")","v":"Zzzzz - delete row"},{"$f":"IF('Step 2) Calculate'!E2051<>\"\",'Step 2) Calculate'!G2051,\"\")","v":""},{"$f":"IF(L2047<>\"\",'Step 2) Calculate'!F2051,\"\")","v":""},{"$f":"IF(L2047<>\"\",'Step 2) Calculate'!H2051,\"\")","v":""},{"$f":"IF(L2047<>\"\",'Step 2) Calculate'!C2051,\"\")","v":""}]
[null,null,null,null,null,null,null,null,null,null,{"$f":"IF(L2048<>\"\",'Step 2) Calculate'!B2052,\"Zzzzz - delete row\")","v":"Zzzzz - delete row"},{"$f":"IF('Step 2) Calculate'!E2052<>\"\",'Step 2) Calculate'!G2052,\"\")","v":""},{"$f":"IF(L2048<>\"\",'Step 2) Calculate'!F2052,\"\")","v":""},{"$f":"IF(L2048<>\"\",'Step 2) Calculate'!H2052,\"\")","v":""},{"$f":"IF(L2048<>\"\",'Step 2) Calculate'!C2052,\"\")","v":""}]
[null,null,null,null,null,null,null,null,null,null,{"$f":"IF(L2049<>\"\",'Step 2) Calculate'!B2053,\"Zzzzz - delete row\")","v":"Zzzzz - delete row"},{"$f":"IF('Step 2) Calculate'!E2053<>\"\",'Step 2) Calculate'!G2053,\"\")","v":""},{"$f":"IF(L2049<>\"\",'Step 2) Calculate'!F2053,\"\")","v":""},{"$f":"IF(L2049<>\"\",'Step 2) Calculate'!H2053,\"\")","v":""},{"$f":"IF(L2049<>\"\",'Step 2) Calculate'!C2053,\"\")","v":""}]
[null,null,null,null,null,null,null,null,null,null,{"$f":"IF(L2050<>\"\",'Step 2) Calculate'!B2054,\"Zzzzz - delete row\")","v":"Zzzzz - delete row"},{"$f":"IF('Step 2) Calculate'!E2054<>\"\",'Step 2) Calculate'!G2054,\"\")","v":""},{"$f":"IF(L2050<>\"\",'Step 2) Calculate'!F2054,\"\")","v":""},{"$f":"IF(L2050<>\"\",'Step 2) Calculate'!H2054,\"\")","v":""},{"$f":"IF(L2050<>\"\",'Step 2) Calculate'!C2054,\"\")","v":""}]
[null,null,null,null,null,null,null,null,null,null,{"$f":"IF(L2051<>\"\",'Step 2) Calculate'!B2055,\"Zzzzz - delete row\")","v":"Zzzzz - delete row"},{"$f":"IF('Step 2) Calculate'!E2055<>\"\",'Step 2) Calculate'!G2055,\"\")","v":""},{"$f":"IF(L2051<>\"\",'Step 2) Calculate'!F2055,\"\")","v":""},{"$f":"IF(L2051<>\"\",'Step 2) Calculate'!H2055,\"\")","v":""},{"$f":"IF(L2051<>\"\",'Step 2) Calculate'!C2055,\"\")","v":""}]
[null,null,null,null,null,null,null,null,null,null,{"$f":"IF(L2052<>\"\",'Step 2) Calculate'!B2056,\"Zzzzz - delete row\")","v":"Zzzzz - delete row"},{"$f":"IF('Step 2) Calculate'!E2056<>\"\",'Step 2) Calculate'!G2056,\"\")","v":""},{"$f":"IF(L2052<>\"\",'Step 2) Calculate'!F2056,\"\")","v":""},{"$f":"IF(L2052<>\"\",'Step 2) Calculate'!H2056,\"\")","v":""},{"$f":"IF(L2052<>\"\",'Step 2) Calculate'!C2056,\"\")","v":""}]
[null,null,null,null,null,null,null,null,null,null,{"$f":"IF(L2053<>\"\",'Step 2) Calculate'!B2057,\"Zzzzz - delete row\")","v":"Zzzzz - delete row"},{"$f":"IF('Step 2) Calculate'!E2057<>\"\",'Step 2) Calculate'!G2057,\"\")","v":""},{"$f":"IF(L2053<>\"\",'Step 2) Calculate'!F2057,\"\")","v":""},{"$f":"IF(L2053<>\"\",'Step 2) Calculate'!H2057,\"\")","v":""},{"$f":"IF(L2053<>\"\",'Step 2) Calculate'!C2057,\"\")","v":""}]
[null,null,null,null,null,null,null,null,null,null,{"$f":"IF(L2054<>\"\",'Step 2) Calculate'!B2058,\"Zzzzz - delete row\")","v":"Zzzzz - delete row"},{"$f":"IF('Step 2) Calculate'!E2058<>\"\",'Step 2) Calculate'!G2058,\"\")","v":""},{"$f":"IF(L2054<>\"\",'Step 2) Calculate'!F2058,\"\")","v":""},{"$f":"IF(L2054<>\"\",'Step 2) Calculate'!H2058,\"\")","v":""},{"$f":"IF(L2054<>\"\",'Step 2) Calculate'!C2058,\"\")","v":""}]
[null,null,null,null,null,null,null,null,null,null,{"$f":"IF(L2055<>\"\",'Step 2) Calculate'!B2059,\"Zzzzz - delete row\")","v":"Zzzzz - delete row"},{"$f":"IF('Step 2) Calculate'!E2059<>\"\",'Step 2) Calculate'!G2059,\"\")","v":""},{"$f":"IF(L2055<>\"\",'Step 2) Calculate'!F2059,\"\")","v":""},{"$f":"IF(L2055<>\"\",'Step 2) Calculate'!H2059,\"\")","v":""},{"$f":"IF(L2055<>\"\",'Step 2) Calculate'!C2059,\"\")","v":""}]
[null,null,null,null,null,null,null,null,null,null,{"$f":"IF(L2056<>\"\",'Step 2) Calculate'!B2060,\"Zzzzz - delete row\")","v":"Zzzzz - delete row"},{"$f":"IF('Step 2) Calculate'!E2060<>\"\",'Step 2) Calculate'!G2060,\"\")","v":""},{"$f":"IF(L2056<>\"\",'Step 2) Calculate'!F2060,\"\")","v":""},{"$f":"IF(L2056<>\"\",'Step 2) Calculate'!H2060,\"\")","v":""},{"$f":"IF(L2056<>\"\",'Step 2) Calculate'!C2060,\"\")","v":""}]
[null,null,null,null,null,null,null,null,null,null,{"$f":"IF(L2057<>\"\",'Step 2) Calculate'!B2061,\"Zzzzz - delete row\")","v":"Zzzzz - delete row"},{"$f":"IF('Step 2) Calculate'!E2061<>\"\",'Step 2) Calculate'!G2061,\"\")","v":""},{"$f":"IF(L2057<>\"\",'Step 2) Calculate'!F2061,\"\")","v":""},{"$f":"IF(L2057<>\"\",'Step 2) Calculate'!H2061,\"\")","v":""},{"$f":"IF(L2057<>\"\",'Step 2) Calculate'!C2061,\"\")","v":""}]
[null,null,null,null,null,null,null,null,null,null,{"$f":"IF(L2058<>\"\",'Step 2) Calculate'!B2062,\"Zzzzz - delete row\")","v":"Zzzzz - delete row"},{"$f":"IF('Step 2) Calculate'!E2062<>\"\",'Step 2) Calculate'!G2062,\"\")","v":""},{"$f":"IF(L2058<>\"\",'Step 2) Calculate'!F2062,\"\")","v":""},{"$f":"IF(L2058<>\"\",'Step 2) Calculate'!H2062,\"\")","v":""},{"$f":"IF(L2058<>\"\",'Step 2) Calculate'!C2062,\"\")","v":""}]
[null,null,null,null,null,null,null,null,null,null,{"$f":"IF(L2059<>\"\",'Step 2) Calculate'!B2063,\"Zzzzz - delete row\")","v":"Zzzzz - delete row"},{"$f":"IF('Step 2) Calculate'!E2063<>\"\",'Step 2) Calculate'!G2063,\"\")","v":""},{"$f":"IF(L2059<>\"\",'Step 2) Calculate'!F2063,\"\")","v":""},{"$f":"IF(L2059<>\"\",'Step 2) Calculate'!H2063,\"\")","v":""},{"$f":"IF(L2059<>\"\",'Step 2) Calculate'!C2063,\"\")","v":""}]
[null,null,null,null,null,null,null,null,null,null,{"$f":"IF(L2060<>\"\",'Step 2) Calculate'!B2064,\"Zzzzz - delete row\")","v":"Zzzzz - delete row"},{"$f":"IF('Step 2) Calculate'!E2064<>\"\",'Step 2) Calculate'!G2064,\"\")","v":""},{"$f":"IF(L2060<>\"\",'Step 2) Calculate'!F2064,\"\")","v":""},{"$f":"IF(L2060<>\"\",'Step 2) Calculate'!H2064,\"\")","v":""},{"$f":"IF(L2060<>\"\",'Step 2) Calculate'!C2064,\"\")","v":""}]
[null,null,null,null,null,null,null,null,null,null,{"$f":"IF(L2061<>\"\",'Step 2) Calculate'!B2065,\"Zzzzz - delete row\")","v":"Zzzzz - delete row"},{"$f":"IF('Step 2) Calculate'!E2065<>\"\",'Step 2) Calculate'!G2065,\"\")","v":""},{"$f":"IF(L2061<>\"\",'Step 2) Calculate'!F2065,\"\")","v":""},{"$f":"IF(L2061<>\"\",'Step 2) Calculate'!H2065,\"\")","v":""},{"$f":"IF(L2061<>\"\",'Step 2) Calculate'!C2065,\"\")","v":""}]
[null,null,null,null,null,null,null,null,null,null,{"$f":"IF(L2062<>\"\",'Step 2) Calculate'!B2066,\"Zzzzz - delete row\")","v":"Zzzzz - delete row"},{"$f":"IF('Step 2) Calculate'!E2066<>\"\",'Step 2) Calculate'!G2066,\"\")","v":""},{"$f":"IF(L2062<>\"\",'Step 2) Calculate'!F2066,\"\")","v":""},{"$f":"IF(L2062<>\"\",'Step 2) Calculate'!H2066,\"\")","v":""},{"$f":"IF(L2062<>\"\",'Step 2) Calculate'!C2066,\"\")","v":""}]
[null,null,null,null,null,null,null,null,null,null,{"$f":"IF(L2063<>\"\",'Step 2) Calculate'!B2067,\"Zzzzz - delete row\")","v":"Zzzzz - delete row"},{"$f":"IF('Step 2) Calculate'!E2067<>\"\",'Step 2) Calculate'!G2067,\"\")","v":""},{"$f":"IF(L2063<>\"\",'Step 2) Calculate'!F2067,\"\")","v":""},{"$f":"IF(L2063<>\"\",'Step 2) Calculate'!H2067,\"\")","v":""},{"$f":"IF(L2063<>\"\",'Step 2) Calculate'!C2067,\"\")","v":""}]
[null,null,null,null,null,null,null,null,null,null,{"$f":"IF(L2064<>\"\",'Step 2) Calculate'!B2068,\"Zzzzz - delete row\")","v":"Zzzzz - delete row"},{"$f":"IF('Step 2) Calculate'!E2068<>\"\",'Step 2) Calculate'!G2068,\"\")","v":""},{"$f":"IF(L2064<>\"\",'Step 2) Calculate'!F2068,\"\")","v":""},{"$f":"IF(L2064<>\"\",'Step 2) Calculate'!H2068,\"\")","v":""},{"$f":"IF(L2064<>\"\",'Step 2) Calculate'!C2068,\"\")","v":""}]
[null,null,null,null,null,null,null,null,null,null,{"$f":"IF(L2065<>\"\",'Step 2) Calculate'!B2069,\"Zzzzz - delete row\")","v":"Zzzzz - delete row"},{"$f":"IF('Step 2) Calculate'!E2069<>\"\",'Step 2) Calculate'!G2069,\"\")","v":""},{"$f":"IF(L2065<>\"\",'Step 2) Calculate'!F2069,\"\")","v":""},{"$f":"IF(L2065<>\"\",'Step 2) Calculate'!H2069,\"\")","v":""},{"$f":"IF(L2065<>\"\",'Step 2) Calculate'!C2069,\"\")","v":""}]
[null,null,null,null,null,null,null,null,null,null,{"$f":"IF(L2066<>\"\",'Step 2) Calculate'!B2070,\"Zzzzz - delete row\")","v":"Zzzzz - delete row"},{"$f":"IF('Step 2) Calculate'!E2070<>\"\",'Step 2) Calculate'!G2070,\"\")","v":""},{"$f":"IF(L2066<>\"\",'Step 2) Calculate'!F2070,\"\")","v":""},{"$f":"IF(L2066<>\"\",'Step 2) Calculate'!H2070,\"\")","v":""},{"$f":"IF(L2066<>\"\",'Step 2) Calculate'!C2070,\"\")","v":""}]
[null,null,null,null,null,null,null,null,null,null,{"$f":"IF(L2067<>\"\",'Step 2) Calculate'!B2071,\"Zzzzz - delete row\")","v":"Zzzzz - delete row"},{"$f":"IF('Step 2) Calculate'!E2071<>\"\",'Step 2) Calculate'!G2071,\"\")","v":""},{"$f":"IF(L2067<>\"\",'Step 2) Calculate'!F2071,\"\")","v":""},{"$f":"IF(L2067<>\"\",'Step 2) Calculate'!H2071,\"\")","v":""},{"$f":"IF(L2067<>\"\",'Step 2) Calculate'!C2071,\"\")","v":""}]
[null,null,null,null,null,null,null,null,null,null,{"$f":"IF(L2068<>\"\",'Step 2) Calculate'!B2072,\"Zzzzz - delete row\")","v":"Zzzzz - delete row"},{"$f":"IF('Step 2) Calculate'!E2072<>\"\",'Step 2) Calculate'!G2072,\"\")","v":""},{"$f":"IF(L2068<>\"\",'Step 2) Calculate'!F2072,\"\")","v":""},{"$f":"IF(L2068<>\"\",'Step 2) Calculate'!H2072,\"\")","v":""},{"$f":"IF(L2068<>\"\",'Step 2) Calculate'!C2072,\"\")","v":""}]
[null,null,null,null,null,null,null,null,null,null,{"$f":"IF(L2069<>\"\",'Step 2) Calculate'!B2073,\"Zzzzz - delete row\")","v":"Zzzzz - delete row"},{"$f":"IF('Step 2) Calculate'!E2073<>\"\",'Step 2) Calculate'!G2073,\"\")","v":""},{"$f":"IF(L2069<>\"\",'Step 2) Calculate'!F2073,\"\")","v":""},{"$f":"IF(L2069<>\"\",'Step 2) Calculate'!H2073,\"\")","v":""},{"$f":"IF(L2069<>\"\",'Step 2) Calculate'!C2073,\"\")","v":""}]
[null,null,null,null,null,null,null,null,null,null,{"$f":"IF(L2070<>\"\",'Step 2) Calculate'!B2074,\"Zzzzz - delete row\")","v":"Zzzzz - delete row"},{"$f":"IF('Step 2) Calculate'!E2074<>\"\",'Step 2) Calculate'!G2074,\"\")","v":""},{"$f":"IF(L2070<>\"\",'Step 2) Calculate'!F2074,\"\")","v":""},{"$f":"IF(L2070<>\"\",'Step 2) Calculate'!H2074,\"\")","v":""},{"$f":"IF(L2070<>\"\",'Step 2) Calculate'!C2074,\"\")","v":""}]
[null,null,null,null,null,null,null,null,null,null,{"$f":"IF(L2071<>\"\",'Step 2) Calculate'!B2075,\"Zzzzz - delete row\")","v":"Zzzzz - delete row"},{"$f":"IF('Step 2) Calculate'!E2075<>\"\",'Step 2) Calculate'!G2075,\"\")","v":""},{"$f":"IF(L2071<>\"\",'Step 2) Calculate'!F2075,\"\")","v":""},{"$f":"IF(L2071<>\"\",'Step 2) Calculate'!H2075,\"\")","v":""},{"$f":"IF(L2071<>\"\",'Step 2) Calculate'!C2075,\"\")","v":""}]
[null,null,null,null,null,null,null,null,null,null,{"$f":"IF(L2072<>\"\",'Step 2) Calculate'!B2076,\"Zzzzz - delete row\")","v":"Zzzzz - delete row"},{"$f":"IF('Step 2) Calculate'!E2076<>\"\",'Step 2) Calculate'!G2076,\"\")","v":""},{"$f":"IF(L2072<>\"\",'Step 2) Calculate'!F2076,\"\")","v":""},{"$f":"IF(L2072<>\"\",'Step 2) Calculate'!H2076,\"\")","v":""},{"$f":"IF(L2072<>\"\",'Step 2) Calculate'!C2076,\"\")","v":""}]
[null,null,null,null,null,null,null,null,null,null,{"$f":"IF(L2073<>\"\",'Step 2) Calculate'!B2077,\"Zzzzz - delete row\")","v":"Zzzzz - delete row"},{"$f":"IF('Step 2) Calculate'!E2077<>\"\",'Step 2) Calculate'!G2077,\"\")","v":""},{"$f":"IF(L2073<>\"\",'Step 2) Calculate'!F2077,\"\")","v":""},{"$f":"IF(L2073<>\"\",'Step 2) Calculate'!H2077,\"\")","v":""},{"$f":"IF(L2073<>\"\",'Step 2) Calculate'!C2077,\"\")","v":""}]
[null,null,null,null,null,null,null,null,null,null,{"$f":"IF(L2074<>\"\",'Step 2) Calculate'!B2078,\"Zzzzz - delete row\")","v":"Zzzzz - delete row"},{"$f":"IF('Step 2) Calculate'!E2078<>\"\",'Step 2) Calculate'!G2078,\"\")","v":""},{"$f":"IF(L2074<>\"\",'Step 2) Calculate'!F2078,\"\")","v":""},{"$f":"IF(L2074<>\"\",'Step 2) Calculate'!H2078,\"\")","v":""},{"$f":"IF(L2074<>\"\",'Step 2) Calculate'!C2078,\"\")","v":""}]
[null,null,null,null,null,null,null,null,null,null,{"$f":"IF(L2075<>\"\",'Step 2) Calculate'!B2079,\"Zzzzz - delete row\")","v":"Zzzzz - delete row"},{"$f":"IF('Step 2) Calculate'!E2079<>\"\",'Step 2) Calculate'!G2079,\"\")","v":""},{"$f":"IF(L2075<>\"\",'Step 2) Calculate'!F2079,\"\")","v":""},{"$f":"IF(L2075<>\"\",'Step 2) Calculate'!H2079,\"\")","v":""},{"$f":"IF(L2075<>\"\",'Step 2) Calculate'!C2079,\"\")","v":""}]
[null,null,null,null,null,null,null,null,null,null,{"$f":"IF(L2076<>\"\",'Step 2) Calculate'!B2080,\"Zzzzz - delete row\")","v":"Zzzzz - delete row"},{"$f":"IF('Step 2) Calculate'!E2080<>\"\",'Step 2) Calculate'!G2080,\"\")","v":""},{"$f":"IF(L2076<>\"\",'Step 2) Calculate'!F2080,\"\")","v":""},{"$f":"IF(L2076<>\"\",'Step 2) Calculate'!H2080,\"\")","v":""},{"$f":"IF(L2076<>\"\",'Step 2) Calculate'!C2080,\"\")","v":""}]
[null,null,null,null,null,null,null,null,null,null,{"$f":"IF(L2077<>\"\",'Step 2) Calculate'!B2081,\"Zzzzz - delete row\")","v":"Zzzzz - delete row"},{"$f":"IF('Step 2) Calculate'!E2081<>\"\",'Step 2) Calculate'!G2081,\"\")","v":""},{"$f":"IF(L2077<>\"\",'Step 2) Calculate'!F2081,\"\")","v":""},{"$f":"IF(L2077<>\"\",'Step 2) Calculate'!H2081,\"\")","v":""},{"$f":"IF(L2077<>\"\",'Step 2) Calculate'!C2081,\"\")","v":""}]
[null,null,null,null,null,null,null,null,null,null,{"$f":"IF(L2078<>\"\",'Step 2) Calculate'!B2082,\"Zzzzz - delete row\")","v":"Zzzzz - delete row"},{"$f":"IF('Step 2) Calculate'!E2082<>\"\",'Step 2) Calculate'!G2082,\"\")","v":""},{"$f":"IF(L2078<>\"\",'Step 2) Calculate'!F2082,\"\")","v":""},{"$f":"IF(L2078<>\"\",'Step 2) Calculate'!H2082,\"\")","v":""},{"$f":"IF(L2078<>\"\",'Step 2) Calculate'!C2082,\"\")","v":""}]
[null,null,null,null,null,null,null,null,null,null,{"$f":"IF(L2079<>\"\",'Step 2) Calculate'!B2083,\"Zzzzz - delete row\")","v":"Zzzzz - delete row"},{"$f":"IF('Step 2) Calculate'!E2083<>\"\",'Step 2) Calculate'!G2083,\"\")","v":""},{"$f":"IF(L2079<>\"\",'Step 2) Calculate'!F2083,\"\")","v":""},{"$f":"IF(L2079<>\"\",'Step 2) Calculate'!H2083,\"\")","v":""},{"$f":"IF(L2079<>\"\",'Step 2) Calculate'!C2083,\"\")","v":""}]
[null,null,null,null,null,null,null,null,null,null,{"$f":"IF(L2080<>\"\",'Step 2) Calculate'!B2084,\"Zzzzz - delete row\")","v":"Zzzzz - delete row"},{"$f":"IF('Step 2) Calculate'!E2084<>\"\",'Step 2) Calculate'!G2084,\"\")","v":""},{"$f":"IF(L2080<>\"\",'Step 2) Calculate'!F2084,\"\")","v":""},{"$f":"IF(L2080<>\"\",'Step 2) Calculate'!H2084,\"\")","v":""},{"$f":"IF(L2080<>\"\",'Step 2) Calculate'!C2084,\"\")","v":""}]
[null,null,null,null,null,null,null,null,null,null,{"$f":"IF(L2081<>\"\",'Step 2) Calculate'!B2085,\"Zzzzz - delete row\")","v":"Zzzzz - delete row"},{"$f":"IF('Step 2) Calculate'!E2085<>\"\",'Step 2) Calculate'!G2085,\"\")","v":""},{"$f":"IF(L2081<>\"\",'Step 2) Calculate'!F2085,\"\")","v":""},{"$f":"IF(L2081<>\"\",'Step 2) Calculate'!H2085,\"\")","v":""},{"$f":"IF(L2081<>\"\",'Step 2) Calculate'!C2085,\"\")","v":""}]
[null,null,null,null,null,null,null,null,null,null,{"$f":"IF(L2082<>\"\",'Step 2) Calculate'!B2086,\"Zzzzz - delete row\")","v":"Zzzzz - delete row"},{"$f":"IF('Step 2) Calculate'!E2086<>\"\",'Step 2) Calculate'!G2086,\"\")","v":""},{"$f":"IF(L2082<>\"\",'Step 2) Calculate'!F2086,\"\")","v":""},{"$f":"IF(L2082<>\"\",'Step 2) Calculate'!H2086,\"\")","v":""},{"$f":"IF(L2082<>\"\",'Step 2) Calculate'!C2086,\"\")","v":""}]
[null,null,null,null,null,null,null,null,null,null,{"$f":"IF(L2083<>\"\",'Step 2) Calculate'!B2087,\"Zzzzz - delete row\")","v":"Zzzzz - delete row"},{"$f":"IF('Step 2) Calculate'!E2087<>\"\",'Step 2) Calculate'!G2087,\"\")","v":""},{"$f":"IF(L2083<>\"\",'Step 2) Calculate'!F2087,\"\")","v":""},{"$f":"IF(L2083<>\"\",'Step 2) Calculate'!H2087,\"\")","v":""},{"$f":"IF(L2083<>\"\",'Step 2) Calculate'!C2087,\"\")","v":""}]
[null,null,null,null,null,null,null,null,null,null,{"$f":"IF(L2084<>\"\",'Step 2) Calculate'!B2088,\"Zzzzz - delete row\")","v":"Zzzzz - delete row"},{"$f":"IF('Step 2) Calculate'!E2088<>\"\",'Step 2) Calculate'!G2088,\"\")","v":""},{"$f":"IF(L2084<>\"\",'Step 2) Calculate'!F2088,\"\")","v":""},{"$f":"IF(L2084<>\"\",'Step 2) Calculate'!H2088,\"\")","v":""},{"$f":"IF(L2084<>\"\",'Step 2) Calculate'!C2088,\"\")","v":""}]
[null,null,null,null,null,null,null,null,null,null,{"$f":"IF(L2085<>\"\",'Step 2) Calculate'!B2089,\"Zzzzz - delete row\")","v":"Zzzzz - delete row"},{"$f":"IF('Step 2) Calculate'!E2089<>\"\",'Step 2) Calculate'!G2089,\"\")","v":""},{"$f":"IF(L2085<>\"\",'Step 2) Calculate'!F2089,\"\")","v":""},{"$f":"IF(L2085<>\"\",'Step 2) Calculate'!H2089,\"\")","v":""},{"$f":"IF(L2085<>\"\",'Step 2) Calculate'!C2089,\"\")","v":""}]
[null,null,null,null,null,null,null,null,null,null,{"$f":"IF(L2086<>\"\",'Step 2) Calculate'!B2090,\"Zzzzz - delete row\")","v":"Zzzzz - delete row"},{"$f":"IF('Step 2) Calculate'!E2090<>\"\",'Step 2) Calculate'!G2090,\"\")","v":""},{"$f":"IF(L2086<>\"\",'Step 2) Calculate'!F2090,\"\")","v":""},{"$f":"IF(L2086<>\"\",'Step 2) Calculate'!H2090,\"\")","v":""},{"$f":"IF(L2086<>\"\",'Step 2) Calculate'!C2090,\"\")","v":""}]
[null,null,null,null,null,null,null,null,null,null,{"$f":"IF(L2087<>\"\",'Step 2) Calculate'!B2091,\"Zzzzz - delete row\")","v":"Zzzzz - delete row"},{"$f":"IF('Step 2) Calculate'!E2091<>\"\",'Step 2) Calculate'!G2091,\"\")","v":""},{"$f":"IF(L2087<>\"\",'Step 2) Calculate'!F2091,\"\")","v":""},{"$f":"IF(L2087<>\"\",'Step 2) Calculate'!H2091,\"\")","v":""},{"$f":"IF(L2087<>\"\",'Step 2) Calculate'!C2091,\"\")","v":""}]
[null,null,null,null,null,null,null,null,null,null,{"$f":"IF(L2088<>\"\",'Step 2) Calculate'!B2092,\"Zzzzz - delete row\")","v":"Zzzzz - delete row"},{"$f":"IF('Step 2) Calculate'!E2092<>\"\",'Step 2) Calculate'!G2092,\"\")","v":""},{"$f":"IF(L2088<>\"\",'Step 2) Calculate'!F2092,\"\")","v":""},{"$f":"IF(L2088<>\"\",'Step 2) Calculate'!H2092,\"\")","v":""},{"$f":"IF(L2088<>\"\",'Step 2) Calculate'!C2092,\"\")","v":""}]
[null,null,null,null,null,null,null,null,null,null,{"$f":"IF(L2089<>\"\",'Step 2) Calculate'!B2093,\"Zzzzz - delete row\")","v":"Zzzzz - delete row"},{"$f":"IF('Step 2) Calculate'!E2093<>\"\",'Step 2) Calculate'!G2093,\"\")","v":""},{"$f":"IF(L2089<>\"\",'Step 2) Calculate'!F2093,\"\")","v":""},{"$f":"IF(L2089<>\"\",'Step 2) Calculate'!H2093,\"\")","v":""},{"$f":"IF(L2089<>\"\",'Step 2) Calculate'!C2093,\"\")","v":""}]
[null,null,null,null,null,null,null,null,null,null,{"$f":"IF(L2090<>\"\",'Step 2) Calculate'!B2094,\"Zzzzz - delete row\")","v":"Zzzzz - delete row"},{"$f":"IF('Step 2) Calculate'!E2094<>\"\",'Step 2) Calculate'!G2094,\"\")","v":""},{"$f":"IF(L2090<>\"\",'Step 2) Calculate'!F2094,\"\")","v":""},{"$f":"IF(L2090<>\"\",'Step 2) Calculate'!H2094,\"\")","v":""},{"$f":"IF(L2090<>\"\",'Step 2) Calculate'!C2094,\"\")","v":""}]
[null,null,null,null,null,null,null,null,null,null,{"$f":"IF(L2091<>\"\",'Step 2) Calculate'!B2095,\"Zzzzz - delete row\")","v":"Zzzzz - delete row"},{"$f":"IF('Step 2) Calculate'!E2095<>\"\",'Step 2) Calculate'!G2095,\"\")","v":""},{"$f":"IF(L2091<>\"\",'Step 2) Calculate'!F2095,\"\")","v":""},{"$f":"IF(L2091<>\"\",'Step 2) Calculate'!H2095,\"\")","v":""},{"$f":"IF(L2091<>\"\",'Step 2) Calculate'!C2095,\"\")","v":""}]
[null,null,null,null,null,null,null,null,null,null,{"$f":"IF(L2092<>\"\",'Step 2) Calculate'!B2096,\"Zzzzz - delete row\")","v":"Zzzzz - delete row"},{"$f":"IF('Step 2) Calculate'!E2096<>\"\",'Step 2) Calculate'!G2096,\"\")","v":""},{"$f":"IF(L2092<>\"\",'Step 2) Calculate'!F2096,\"\")","v":""},{"$f":"IF(L2092<>\"\",'Step 2) Calculate'!H2096,\"\")","v":""},{"$f":"IF(L2092<>\"\",'Step 2) Calculate'!C2096,\"\")","v":""}]
[null,null,null,null,null,null,null,null,null,null,{"$f":"IF(L2093<>\"\",'Step 2) Calculate'!B2097,\"Zzzzz - delete row\")","v":"Zzzzz - delete row"},{"$f":"IF('Step 2) Calculate'!E2097<>\"\",'Step 2) Calculate'!G2097,\"\")","v":""},{"$f":"IF(L2093<>\"\",'Step 2) Calculate'!F2097,\"\")","v":""},{"$f":"IF(L2093<>\"\",'Step 2) Calculate'!H2097,\"\")","v":""},{"$f":"IF(L2093<>\"\",'Step 2) Calculate'!C2097,\"\")","v":""}]
[null,null,null,null,null,null,null,null,null,null,{"$f":"IF(L2094<>\"\",'Step 2) Calculate'!B2098,\"Zzzzz - delete row\")","v":"Zzzzz - delete row"},{"$f":"IF('Step 2) Calculate'!E2098<>\"\",'Step 2) Calculate'!G2098,\"\")","v":""},{"$f":"IF(L2094<>\"\",'Step 2) Calculate'!F2098,\"\")","v":""},{"$f":"IF(L2094<>\"\",'Step 2) Calculate'!H2098,\"\")","v":""},{"$f":"IF(L2094<>\"\",'Step 2) Calculate'!C2098,\"\")","v":""}]
[null,null,null,null,null,null,null,null,null,null,{"$f":"IF(L2095<>\"\",'Step 2) Calculate'!B2099,\"Zzzzz - delete row\")","v":"Zzzzz - delete row"},{"$f":"IF('Step 2) Calculate'!E2099<>\"\",'Step 2) Calculate'!G2099,\"\")","v":""},{"$f":"IF(L2095<>\"\",'Step 2) Calculate'!F2099,\"\")","v":""},{"$f":"IF(L2095<>\"\",'Step 2) Calculate'!H2099,\"\")","v":""},{"$f":"IF(L2095<>\"\",'Step 2) Calculate'!C2099,\"\")","v":""}]
[null,null,null,null,null,null,null,null,null,null,{"$f":"IF(L2096<>\"\",'Step 2) Calculate'!B2100,\"Zzzzz - delete row\")","v":"Zzzzz - delete row"},{"$f":"IF('Step 2) Calculate'!E2100<>\"\",'Step 2) Calculate'!G2100,\"\")","v":""},{"$f":"IF(L2096<>\"\",'Step 2) Calculate'!F2100,\"\")","v":""},{"$f":"IF(L2096<>\"\",'Step 2) Calculate'!H2100,\"\")","v":""},{"$f":"IF(L2096<>\"\",'Step 2) Calculate'!C2100,\"\")","v":""}]
[null,null,null,null,null,null,null,null,null,null,{"$f":"IF(L2097<>\"\",'Step 2) Calculate'!B2101,\"Zzzzz - delete row\")","v":"Zzzzz - delete row"},{"$f":"IF('Step 2) Calculate'!E2101<>\"\",'Step 2) Calculate'!G2101,\"\")","v":""},{"$f":"IF(L2097<>\"\",'Step 2) Calculate'!F2101,\"\")","v":""},{"$f":"IF(L2097<>\"\",'Step 2) Calculate'!H2101,\"\")","v":""},{"$f":"IF(L2097<>\"\",'Step 2) Calculate'!C2101,\"\")","v":""}]
[null,null,null,null,null,null,null,null,null,null,{"$f":"IF(L2098<>\"\",'Step 2) Calculate'!B2102,\"Zzzzz - delete row\")","v":"Zzzzz - delete row"},{"$f":"IF('Step 2) Calculate'!E2102<>\"\",'Step 2) Calculate'!G2102,\"\")","v":""},{"$f":"IF(L2098<>\"\",'Step 2) Calculate'!F2102,\"\")","v":""},{"$f":"IF(L2098<>\"\",'Step 2) Calculate'!H2102,\"\")","v":""},{"$f":"IF(L2098<>\"\",'Step 2) Calculate'!C2102,\"\")","v":""}]
[null,null,null,null,null,null,null,null,null,null,{"$f":"IF(L2099<>\"\",'Step 2) Calculate'!B2103,\"Zzzzz - delete row\")","v":"Zzzzz - delete row"},{"$f":"IF('Step 2) Calculate'!E2103<>\"\",'Step 2) Calculate'!G2103,\"\")","v":""},{"$f":"IF(L2099<>\"\",'Step 2) Calculate'!F2103,\"\")","v":""},{"$f":"IF(L2099<>\"\",'Step 2) Calculate'!H2103,\"\")","v":""},{"$f":"IF(L2099<>\"\",'Step 2) Calculate'!C2103,\"\")","v":""}]
[null,null,null,null,null,null,null,null,null,null,{"$f":"IF(L2100<>\"\",'Step 2) Calculate'!B2104,\"Zzzzz - delete row\")","v":"Zzzzz - delete row"},{"$f":"IF('Step 2) Calculate'!E2104<>\"\",'Step 2) Calculate'!G2104,\"\")","v":""},{"$f":"IF(L2100<>\"\",'Step 2) Calculate'!F2104,\"\")","v":""},{"$f":"IF(L2100<>\"\",'Step 2) Calculate'!H2104,\"\")","v":""},{"$f":"IF(L2100<>\"\",'Step 2) Calculate'!C2104,\"\")","v":""}]
[null,null,null,null,null,null,null,null,null,null,{"$f":"IF(L2101<>\"\",'Step 2) Calculate'!B2105,\"Zzzzz - delete row\")","v":"Zzzzz - delete row"},{"$f":"IF('Step 2) Calculate'!E2105<>\"\",'Step 2) Calculate'!G2105,\"\")","v":""},{"$f":"IF(L2101<>\"\",'Step 2) Calculate'!F2105,\"\")","v":""},{"$f":"IF(L2101<>\"\",'Step 2) Calculate'!H2105,\"\")","v":""},{"$f":"IF(L2101<>\"\",'Step 2) Calculate'!C2105,\"\")","v":""}]
[null,null,null,null,null,null,null,null,null,null,{"$f":"IF(L2102<>\"\",'Step 2) Calculate'!B2106,\"Zzzzz - delete row\")","v":"Zzzzz - delete row"},{"$f":"IF('Step 2) Calculate'!E2106<>\"\",'Step 2) Calculate'!G2106,\"\")","v":""},{"$f":"IF(L2102<>\"\",'Step 2) Calculate'!F2106,\"\")","v":""},{"$f":"IF(L2102<>\"\",'Step 2) Calculate'!H2106,\"\")","v":""},{"$f":"IF(L2102<>\"\",'Step 2) Calculate'!C2106,\"\")","v":""}]
[null,null,null,null,null,null,null,null,null,null,{"$f":"IF(L2103<>\"\",'Step 2) Calculate'!B2107,\"Zzzzz - delete row\")","v":"Zzzzz - delete row"},{"$f":"IF('Step 2) Calculate'!E2107<>\"\",'Step 2) Calculate'!G2107,\"\")","v":""},{"$f":"IF(L2103<>\"\",'Step 2) Calculate'!F2107,\"\")","v":""},{"$f":"IF(L2103<>\"\",'Step 2) Calculate'!H2107,\"\")","v":""},{"$f":"IF(L2103<>\"\",'Step 2) Calculate'!C2107,\"\")","v":""}]
[null,null,null,null,null,null,null,null,null,null,{"$f":"IF(L2104<>\"\",'Step 2) Calculate'!B2108,\"Zzzzz - delete row\")","v":"Zzzzz - delete row"},{"$f":"IF('Step 2) Calculate'!E2108<>\"\",'Step 2) Calculate'!G2108,\"\")","v":""},{"$f":"IF(L2104<>\"\",'Step 2) Calculate'!F2108,\"\")","v":""},{"$f":"IF(L2104<>\"\",'Step 2) Calculate'!H2108,\"\")","v":""},{"$f":"IF(L2104<>\"\",'Step 2) Calculate'!C2108,\"\")","v":""}]
[null,null,null,null,null,null,null,null,null,null,{"$f":"IF(L2105<>\"\",'Step 2) Calculate'!B2109,\"Zzzzz - delete row\")","v":"Zzzzz - delete row"},{"$f":"IF('Step 2) Calculate'!E2109<>\"\",'Step 2) Calculate'!G2109,\"\")","v":""},{"$f":"IF(L2105<>\"\",'Step 2) Calculate'!F2109,\"\")","v":""},{"$f":"IF(L2105<>\"\",'Step 2) Calculate'!H2109,\"\")","v":""},{"$f":"IF(L2105<>\"\",'Step 2) Calculate'!C2109,\"\")","v":""}]
[null,null,null,null,null,null,null,null,null,null,{"$f":"IF(L2106<>\"\",'Step 2) Calculate'!B2110,\"Zzzzz - delete row\")","v":"Zzzzz - delete row"},{"$f":"IF('Step 2) Calculate'!E2110<>\"\",'Step 2) Calculate'!G2110,\"\")","v":""},{"$f":"IF(L2106<>\"\",'Step 2) Calculate'!F2110,\"\")","v":""},{"$f":"IF(L2106<>\"\",'Step 2) Calculate'!H2110,\"\")","v":""},{"$f":"IF(L2106<>\"\",'Step 2) Calculate'!C2110,\"\")","v":""}]
[null,null,null,null,null,null,null,null,null,null,{"$f":"IF(L2107<>\"\",'Step 2) Calculate'!B2111,\"Zzzzz - delete row\")","v":"Zzzzz - delete row"},{"$f":"IF('Step 2) Calculate'!E2111<>\"\",'Step 2) Calculate'!G2111,\"\")","v":""},{"$f":"IF(L2107<>\"\",'Step 2) Calculate'!F2111,\"\")","v":""},{"$f":"IF(L2107<>\"\",'Step 2) Calculate'!H2111,\"\")","v":""},{"$f":"IF(L2107<>\"\",'Step 2) Calculate'!C2111,\"\")","v":""}]
[null,null,null,null,null,null,null,null,null,null,{"$f":"IF(L2108<>\"\",'Step 2) Calculate'!B2112,\"Zzzzz - delete row\")","v":"Zzzzz - delete row"},{"$f":"IF('Step 2) Calculate'!E2112<>\"\",'Step 2) Calculate'!G2112,\"\")","v":""},{"$f":"IF(L2108<>\"\",'Step 2) Calculate'!F2112,\"\")","v":""},{"$f":"IF(L2108<>\"\",'Step 2) Calculate'!H2112,\"\")","v":""},{"$f":"IF(L2108<>\"\",'Step 2) Calculate'!C2112,\"\")","v":""}]
[null,null,null,null,null,null,null,null,null,null,{"$f":"IF(L2109<>\"\",'Step 2) Calculate'!B2113,\"Zzzzz - delete row\")","v":"Zzzzz - delete row"},{"$f":"IF('Step 2) Calculate'!E2113<>\"\",'Step 2) Calculate'!G2113,\"\")","v":""},{"$f":"IF(L2109<>\"\",'Step 2) Calculate'!F2113,\"\")","v":""},{"$f":"IF(L2109<>\"\",'Step 2) Calculate'!H2113,\"\")","v":""},{"$f":"IF(L2109<>\"\",'Step 2) Calculate'!C2113,\"\")","v":""}]
[null,null,null,null,null,null,null,null,null,null,{"$f":"IF(L2110<>\"\",'Step 2) Calculate'!B2114,\"Zzzzz - delete row\")","v":"Zzzzz - delete row"},{"$f":"IF('Step 2) Calculate'!E2114<>\"\",'Step 2) Calculate'!G2114,\"\")","v":""},{"$f":"IF(L2110<>\"\",'Step 2) Calculate'!F2114,\"\")","v":""},{"$f":"IF(L2110<>\"\",'Step 2) Calculate'!H2114,\"\")","v":""},{"$f":"IF(L2110<>\"\",'Step 2) Calculate'!C2114,\"\")","v":""}]
[null,null,null,null,null,null,null,null,null,null,{"$f":"IF(L2111<>\"\",'Step 2) Calculate'!B2115,\"Zzzzz - delete row\")","v":"Zzzzz - delete row"},{"$f":"IF('Step 2) Calculate'!E2115<>\"\",'Step 2) Calculate'!G2115,\"\")","v":""},{"$f":"IF(L2111<>\"\",'Step 2) Calculate'!F2115,\"\")","v":""},{"$f":"IF(L2111<>\"\",'Step 2) Calculate'!H2115,\"\")","v":""},{"$f":"IF(L2111<>\"\",'Step 2) Calculate'!C2115,\"\")","v":""}]
[null,null,null,null,null,null,null,null,null,null,{"$f":"IF(L2112<>\"\",'Step 2) Calculate'!B2116,\"Zzzzz - delete row\")","v":"Zzzzz - delete row"},{"$f":"IF('Step 2) Calculate'!E2116<>\"\",'Step 2) Calculate'!G2116,\"\")","v":""},{"$f":"IF(L2112<>\"\",'Step 2) Calculate'!F2116,\"\")","v":""},{"$f":"IF(L2112<>\"\",'Step 2) Calculate'!H2116,\"\")","v":""},{"$f":"IF(L2112<>\"\",'Step 2) Calculate'!C2116,\"\")","v":""}]
[null,null,null,null,null,null,null,null,null,null,{"$f":"IF(L2113<>\"\",'Step 2) Calculate'!B2117,\"Zzzzz - delete row\")","v":"Zzzzz - delete row"},{"$f":"IF('Step 2) Calculate'!E2117<>\"\",'Step 2) Calculate'!G2117,\"\")","v":""},{"$f":"IF(L2113<>\"\",'Step 2) Calculate'!F2117,\"\")","v":""},{"$f":"IF(L2113<>\"\",'Step 2) Calculate'!H2117,\"\")","v":""},{"$f":"IF(L2113<>\"\",'Step 2) Calculate'!C2117,\"\")","v":""}]
[null,null,null,null,null,null,null,null,null,null,{"$f":"IF(L2114<>\"\",'Step 2) Calculate'!B2118,\"Zzzzz - delete row\")","v":"Zzzzz - delete row"},{"$f":"IF('Step 2) Calculate'!E2118<>\"\",'Step 2) Calculate'!G2118,\"\")","v":""},{"$f":"IF(L2114<>\"\",'Step 2) Calculate'!F2118,\"\")","v":""},{"$f":"IF(L2114<>\"\",'Step 2) Calculate'!H2118,\"\")","v":""},{"$f":"IF(L2114<>\"\",'Step 2) Calculate'!C2118,\"\")","v":""}]
[null,null,null,null,null,null,null,null,null,null,{"$f":"IF(L2115<>\"\",'Step 2) Calculate'!B2119,\"Zzzzz - delete row\")","v":"Zzzzz - delete row"},{"$f":"IF('Step 2) Calculate'!E2119<>\"\",'Step 2) Calculate'!G2119,\"\")","v":""},{"$f":"IF(L2115<>\"\",'Step 2) Calculate'!F2119,\"\")","v":""},{"$f":"IF(L2115<>\"\",'Step 2) Calculate'!H2119,\"\")","v":""},{"$f":"IF(L2115<>\"\",'Step 2) Calculate'!C2119,\"\")","v":""}]
[null,null,null,null,null,null,null,null,null,null,{"$f":"IF(L2116<>\"\",'Step 2) Calculate'!B2120,\"Zzzzz - delete row\")","v":"Zzzzz - delete row"},{"$f":"IF('Step 2) Calculate'!E2120<>\"\",'Step 2) Calculate'!G2120,\"\")","v":""},{"$f":"IF(L2116<>\"\",'Step 2) Calculate'!F2120,\"\")","v":""},{"$f":"IF(L2116<>\"\",'Step 2) Calculate'!H2120,\"\")","v":""},{"$f":"IF(L2116<>\"\",'Step 2) Calculate'!C2120,\"\")","v":""}]
[null,null,null,null,null,null,null,null,null,null,{"$f":"IF(L2117<>\"\",'Step 2) Calculate'!B2121,\"Zzzzz - delete row\")","v":"Zzzzz - delete row"},{"$f":"IF('Step 2) Calculate'!E2121<>\"\",'Step 2) Calculate'!G2121,\"\")","v":""},{"$f":"IF(L2117<>\"\",'Step 2) Calculate'!F2121,\"\")","v":""},{"$f":"IF(L2117<>\"\",'Step 2) Calculate'!H2121,\"\")","v":""},{"$f":"IF(L2117<>\"\",'Step 2) Calculate'!C2121,\"\")","v":""}]
[null,null,null,null,null,null,null,null,null,null,{"$f":"IF(L2118<>\"\",'Step 2) Calculate'!B2122,\"Zzzzz - delete row\")","v":"Zzzzz - delete row"},{"$f":"IF('Step 2) Calculate'!E2122<>\"\",'Step 2) Calculate'!G2122,\"\")","v":""},{"$f":"IF(L2118<>\"\",'Step 2) Calculate'!F2122,\"\")","v":""},{"$f":"IF(L2118<>\"\",'Step 2) Calculate'!H2122,\"\")","v":""},{"$f":"IF(L2118<>\"\",'Step 2) Calculate'!C2122,\"\")","v":""}]
[null,null,null,null,null,null,null,null,null,null,{"$f":"IF(L2119<>\"\",'Step 2) Calculate'!B2123,\"Zzzzz - delete row\")","v":"Zzzzz - delete row"},{"$f":"IF('Step 2) Calculate'!E2123<>\"\",'Step 2) Calculate'!G2123,\"\")","v":""},{"$f":"IF(L2119<>\"\",'Step 2) Calculate'!F2123,\"\")","v":""},{"$f":"IF(L2119<>\"\",'Step 2) Calculate'!H2123,\"\")","v":""},{"$f":"IF(L2119<>\"\",'Step 2) Calculate'!C2123,\"\")","v":""}]
[null,null,null,null,null,null,null,null,null,null,{"$f":"IF(L2120<>\"\",'Step 2) Calculate'!B2124,\"Zzzzz - delete row\")","v":"Zzzzz - delete row"},{"$f":"IF('Step 2) Calculate'!E2124<>\"\",'Step 2) Calculate'!G2124,\"\")","v":""},{"$f":"IF(L2120<>\"\",'Step 2) Calculate'!F2124,\"\")","v":""},{"$f":"IF(L2120<>\"\",'Step 2) Calculate'!H2124,\"\")","v":""},{"$f":"IF(L2120<>\"\",'Step 2) Calculate'!C2124,\"\")","v":""}]
[null,null,null,null,null,null,null,null,null,null,{"$f":"IF(L2121<>\"\",'Step 2) Calculate'!B2125,\"Zzzzz - delete row\")","v":"Zzzzz - delete row"},{"$f":"IF('Step 2) Calculate'!E2125<>\"\",'Step 2) Calculate'!G2125,\"\")","v":""},{"$f":"IF(L2121<>\"\",'Step 2) Calculate'!F2125,\"\")","v":""},{"$f":"IF(L2121<>\"\",'Step 2) Calculate'!H2125,\"\")","v":""},{"$f":"IF(L2121<>\"\",'Step 2) Calculate'!C2125,\"\")","v":""}]
[null,null,null,null,null,null,null,null,null,null,{"$f":"IF(L2122<>\"\",'Step 2) Calculate'!B2126,\"Zzzzz - delete row\")","v":"Zzzzz - delete row"},{"$f":"IF('Step 2) Calculate'!E2126<>\"\",'Step 2) Calculate'!G2126,\"\")","v":""},{"$f":"IF(L2122<>\"\",'Step 2) Calculate'!F2126,\"\")","v":""},{"$f":"IF(L2122<>\"\",'Step 2) Calculate'!H2126,\"\")","v":""},{"$f":"IF(L2122<>\"\",'Step 2) Calculate'!C2126,\"\")","v":""}]
[null,null,null,null,null,null,null,null,null,null,{"$f":"IF(L2123<>\"\",'Step 2) Calculate'!B2127,\"Zzzzz - delete row\")","v":"Zzzzz - delete row"},{"$f":"IF('Step 2) Calculate'!E2127<>\"\",'Step 2) Calculate'!G2127,\"\")","v":""},{"$f":"IF(L2123<>\"\",'Step 2) Calculate'!F2127,\"\")","v":""},{"$f":"IF(L2123<>\"\",'Step 2) Calculate'!H2127,\"\")","v":""},{"$f":"IF(L2123<>\"\",'Step 2) Calculate'!C2127,\"\")","v":""}]
[null,null,null,null,null,null,null,null,null,null,{"$f":"IF(L2124<>\"\",'Step 2) Calculate'!B2128,\"Zzzzz - delete row\")","v":"Zzzzz - delete row"},{"$f":"IF('Step 2) Calculate'!E2128<>\"\",'Step 2) Calculate'!G2128,\"\")","v":""},{"$f":"IF(L2124<>\"\",'Step 2) Calculate'!F2128,\"\")","v":""},{"$f":"IF(L2124<>\"\",'Step 2) Calculate'!H2128,\"\")","v":""},{"$f":"IF(L2124<>\"\",'Step 2) Calculate'!C2128,\"\")","v":""}]
[null,null,null,null,null,null,null,null,null,null,{"$f":"IF(L2125<>\"\",'Step 2) Calculate'!B2129,\"Zzzzz - delete row\")","v":"Zzzzz - delete row"},{"$f":"IF('Step 2) Calculate'!E2129<>\"\",'Step 2) Calculate'!G2129,\"\")","v":""},{"$f":"IF(L2125<>\"\",'Step 2) Calculate'!F2129,\"\")","v":""},{"$f":"IF(L2125<>\"\",'Step 2) Calculate'!H2129,\"\")","v":""},{"$f":"IF(L2125<>\"\",'Step 2) Calculate'!C2129,\"\")","v":""}]
[null,null,null,null,null,null,null,null,null,null,{"$f":"IF(L2126<>\"\",'Step 2) Calculate'!B2130,\"Zzzzz - delete row\")","v":"Zzzzz - delete row"},{"$f":"IF('Step 2) Calculate'!E2130<>\"\",'Step 2) Calculate'!G2130,\"\")","v":""},{"$f":"IF(L2126<>\"\",'Step 2) Calculate'!F2130,\"\")","v":""},{"$f":"IF(L2126<>\"\",'Step 2) Calculate'!H2130,\"\")","v":""},{"$f":"IF(L2126<>\"\",'Step 2) Calculate'!C2130,\"\")","v":""}]
[null,null,null,null,null,null,null,null,null,null,{"$f":"IF(L2127<>\"\",'Step 2) Calculate'!B2131,\"Zzzzz - delete row\")","v":"Zzzzz - delete row"},{"$f":"IF('Step 2) Calculate'!E2131<>\"\",'Step 2) Calculate'!G2131,\"\")","v":""},{"$f":"IF(L2127<>\"\",'Step 2) Calculate'!F2131,\"\")","v":""},{"$f":"IF(L2127<>\"\",'Step 2) Calculate'!H2131,\"\")","v":""},{"$f":"IF(L2127<>\"\",'Step 2) Calculate'!C2131,\"\")","v":""}]
[null,null,null,null,null,null,null,null,null,null,{"$f":"IF(L2128<>\"\",'Step 2) Calculate'!B2132,\"Zzzzz - delete row\")","v":"Zzzzz - delete row"},{"$f":"IF('Step 2) Calculate'!E2132<>\"\",'Step 2) Calculate'!G2132,\"\")","v":""},{"$f":"IF(L2128<>\"\",'Step 2) Calculate'!F2132,\"\")","v":""},{"$f":"IF(L2128<>\"\",'Step 2) Calculate'!H2132,\"\")","v":""},{"$f":"IF(L2128<>\"\",'Step 2) Calculate'!C2132,\"\")","v":""}]
[null,null,null,null,null,null,null,null,null,null,{"$f":"IF(L2129<>\"\",'Step 2) Calculate'!B2133,\"Zzzzz - delete row\")","v":"Zzzzz - delete row"},{"$f":"IF('Step 2) Calculate'!E2133<>\"\",'Step 2) Calculate'!G2133,\"\")","v":""},{"$f":"IF(L2129<>\"\",'Step 2) Calculate'!F2133,\"\")","v":""},{"$f":"IF(L2129<>\"\",'Step 2) Calculate'!H2133,\"\")","v":""},{"$f":"IF(L2129<>\"\",'Step 2) Calculate'!C2133,\"\")","v":""}]
[null,null,null,null,null,null,null,null,null,null,{"$f":"IF(L2130<>\"\",'Step 2) Calculate'!B2134,\"Zzzzz - delete row\")","v":"Zzzzz - delete row"},{"$f":"IF('Step 2) Calculate'!E2134<>\"\",'Step 2) Calculate'!G2134,\"\")","v":""},{"$f":"IF(L2130<>\"\",'Step 2) Calculate'!F2134,\"\")","v":""},{"$f":"IF(L2130<>\"\",'Step 2) Calculate'!H2134,\"\")","v":""},{"$f":"IF(L2130<>\"\",'Step 2) Calculate'!C2134,\"\")","v":""}]
[null,null,null,null,null,null,null,null,null,null,{"$f":"IF(L2131<>\"\",'Step 2) Calculate'!B2135,\"Zzzzz - delete row\")","v":"Zzzzz - delete row"},{"$f":"IF('Step 2) Calculate'!E2135<>\"\",'Step 2) Calculate'!G2135,\"\")","v":""},{"$f":"IF(L2131<>\"\",'Step 2) Calculate'!F2135,\"\")","v":""},{"$f":"IF(L2131<>\"\",'Step 2) Calculate'!H2135,\"\")","v":""},{"$f":"IF(L2131<>\"\",'Step 2) Calculate'!C2135,\"\")","v":""}]
[null,null,null,null,null,null,null,null,null,null,{"$f":"IF(L2132<>\"\",'Step 2) Calculate'!B2136,\"Zzzzz - delete row\")","v":"Zzzzz - delete row"},{"$f":"IF('Step 2) Calculate'!E2136<>\"\",'Step 2) Calculate'!G2136,\"\")","v":""},{"$f":"IF(L2132<>\"\",'Step 2) Calculate'!F2136,\"\")","v":""},{"$f":"IF(L2132<>\"\",'Step 2) Calculate'!H2136,\"\")","v":""},{"$f":"IF(L2132<>\"\",'Step 2) Calculate'!C2136,\"\")","v":""}]
[null,null,null,null,null,null,null,null,null,null,{"$f":"IF(L2133<>\"\",'Step 2) Calculate'!B2137,\"Zzzzz - delete row\")","v":"Zzzzz - delete row"},{"$f":"IF('Step 2) Calculate'!E2137<>\"\",'Step 2) Calculate'!G2137,\"\")","v":""},{"$f":"IF(L2133<>\"\",'Step 2) Calculate'!F2137,\"\")","v":""},{"$f":"IF(L2133<>\"\",'Step 2) Calculate'!H2137,\"\")","v":""},{"$f":"IF(L2133<>\"\",'Step 2) Calculate'!C2137,\"\")","v":""}]
[null,null,null,null,null,null,null,null,null,null,{"$f":"IF(L2134<>\"\",'Step 2) Calculate'!B2138,\"Zzzzz - delete row\")","v":"Zzzzz - delete row"},{"$f":"IF('Step 2) Calculate'!E2138<>\"\",'Step 2) Calculate'!G2138,\"\")","v":""},{"$f":"IF(L2134<>\"\",'Step 2) Calculate'!F2138,\"\")","v":""},{"$f":"IF(L2134<>\"\",'Step 2) Calculate'!H2138,\"\")","v":""},{"$f":"IF(L2134<>\"\",'Step 2) Calculate'!C2138,\"\")","v":""}]
[null,null,null,null,null,null,null,null,null,null,{"$f":"IF(L2135<>\"\",'Step 2) Calculate'!B2139,\"Zzzzz - delete row\")","v":"Zzzzz - delete row"},{"$f":"IF('Step 2) Calculate'!E2139<>\"\",'Step 2) Calculate'!G2139,\"\")","v":""},{"$f":"IF(L2135<>\"\",'Step 2) Calculate'!F2139,\"\")","v":""},{"$f":"IF(L2135<>\"\",'Step 2) Calculate'!H2139,\"\")","v":""},{"$f":"IF(L2135<>\"\",'Step 2) Calculate'!C2139,\"\")","v":""}]
[null,null,null,null,null,null,null,null,null,null,{"$f":"IF(L2136<>\"\",'Step 2) Calculate'!B2140,\"Zzzzz - delete row\")","v":"Zzzzz - delete row"},{"$f":"IF('Step 2) Calculate'!E2140<>\"\",'Step 2) Calculate'!G2140,\"\")","v":""},{"$f":"IF(L2136<>\"\",'Step 2) Calculate'!F2140,\"\")","v":""},{"$f":"IF(L2136<>\"\",'Step 2) Calculate'!H2140,\"\")","v":""},{"$f":"IF(L2136<>\"\",'Step 2) Calculate'!C2140,\"\")","v":""}]
[null,null,null,null,null,null,null,null,null,null,{"$f":"IF(L2137<>\"\",'Step 2) Calculate'!B2141,\"Zzzzz - delete row\")","v":"Zzzzz - delete row"},{"$f":"IF('Step 2) Calculate'!E2141<>\"\",'Step 2) Calculate'!G2141,\"\")","v":""},{"$f":"IF(L2137<>\"\",'Step 2) Calculate'!F2141,\"\")","v":""},{"$f":"IF(L2137<>\"\",'Step 2) Calculate'!H2141,\"\")","v":""},{"$f":"IF(L2137<>\"\",'Step 2) Calculate'!C2141,\"\")","v":""}]
[null,null,null,null,null,null,null,null,null,null,{"$f":"IF(L2138<>\"\",'Step 2) Calculate'!B2142,\"Zzzzz - delete row\")","v":"Zzzzz - delete row"},{"$f":"IF('Step 2) Calculate'!E2142<>\"\",'Step 2) Calculate'!G2142,\"\")","v":""},{"$f":"IF(L2138<>\"\",'Step 2) Calculate'!F2142,\"\")","v":""},{"$f":"IF(L2138<>\"\",'Step 2) Calculate'!H2142,\"\")","v":""},{"$f":"IF(L2138<>\"\",'Step 2) Calculate'!C2142,\"\")","v":""}]
[null,null,null,null,null,null,null,null,null,null,{"$f":"IF(L2139<>\"\",'Step 2) Calculate'!B2143,\"Zzzzz - delete row\")","v":"Zzzzz - delete row"},{"$f":"IF('Step 2) Calculate'!E2143<>\"\",'Step 2) Calculate'!G2143,\"\")","v":""},{"$f":"IF(L2139<>\"\",'Step 2) Calculate'!F2143,\"\")","v":""},{"$f":"IF(L2139<>\"\",'Step 2) Calculate'!H2143,\"\")","v":""},{"$f":"IF(L2139<>\"\",'Step 2) Calculate'!C2143,\"\")","v":""}]
[null,null,null,null,null,null,null,null,null,null,{"$f":"IF(L2140<>\"\",'Step 2) Calculate'!B2144,\"Zzzzz - delete row\")","v":"Zzzzz - delete row"},{"$f":"IF('Step 2) Calculate'!E2144<>\"\",'Step 2) Calculate'!G2144,\"\")","v":""},{"$f":"IF(L2140<>\"\",'Step 2) Calculate'!F2144,\"\")","v":""},{"$f":"IF(L2140<>\"\",'Step 2) Calculate'!H2144,\"\")","v":""},{"$f":"IF(L2140<>\"\",'Step 2) Calculate'!C2144,\"\")","v":""}]
[null,null,null,null,null,null,null,null,null,null,{"$f":"IF(L2141<>\"\",'Step 2) Calculate'!B2145,\"Zzzzz - delete row\")","v":"Zzzzz - delete row"},{"$f":"IF('Step 2) Calculate'!E2145<>\"\",'Step 2) Calculate'!G2145,\"\")","v":""},{"$f":"IF(L2141<>\"\",'Step 2) Calculate'!F2145,\"\")","v":""},{"$f":"IF(L2141<>\"\",'Step 2) Calculate'!H2145,\"\")","v":""},{"$f":"IF(L2141<>\"\",'Step 2) Calculate'!C2145,\"\")","v":""}]
[null,null,null,null,null,null,null,null,null,null,{"$f":"IF(L2142<>\"\",'Step 2) Calculate'!B2146,\"Zzzzz - delete row\")","v":"Zzzzz - delete row"},{"$f":"IF('Step 2) Calculate'!E2146<>\"\",'Step 2) Calculate'!G2146,\"\")","v":""},{"$f":"IF(L2142<>\"\",'Step 2) Calculate'!F2146,\"\")","v":""},{"$f":"IF(L2142<>\"\",'Step 2) Calculate'!H2146,\"\")","v":""},{"$f":"IF(L2142<>\"\",'Step 2) Calculate'!C2146,\"\")","v":""}]
[null,null,null,null,null,null,null,null,null,null,{"$f":"IF(L2143<>\"\",'Step 2) Calculate'!B2147,\"Zzzzz - delete row\")","v":"Zzzzz - delete row"},{"$f":"IF('Step 2) Calculate'!E2147<>\"\",'Step 2) Calculate'!G2147,\"\")","v":""},{"$f":"IF(L2143<>\"\",'Step 2) Calculate'!F2147,\"\")","v":""},{"$f":"IF(L2143<>\"\",'Step 2) Calculate'!H2147,\"\")","v":""},{"$f":"IF(L2143<>\"\",'Step 2) Calculate'!C2147,\"\")","v":""}]
[null,null,null,null,null,null,null,null,null,null,{"$f":"IF(L2144<>\"\",'Step 2) Calculate'!B2148,\"Zzzzz - delete row\")","v":"Zzzzz - delete row"},{"$f":"IF('Step 2) Calculate'!E2148<>\"\",'Step 2) Calculate'!G2148,\"\")","v":""},{"$f":"IF(L2144<>\"\",'Step 2) Calculate'!F2148,\"\")","v":""},{"$f":"IF(L2144<>\"\",'Step 2) Calculate'!H2148,\"\")","v":""},{"$f":"IF(L2144<>\"\",'Step 2) Calculate'!C2148,\"\")","v":""}]
[null,null,null,null,null,null,null,null,null,null,{"$f":"IF(L2145<>\"\",'Step 2) Calculate'!B2149,\"Zzzzz - delete row\")","v":"Zzzzz - delete row"},{"$f":"IF('Step 2) Calculate'!E2149<>\"\",'Step 2) Calculate'!G2149,\"\")","v":""},{"$f":"IF(L2145<>\"\",'Step 2) Calculate'!F2149,\"\")","v":""},{"$f":"IF(L2145<>\"\",'Step 2) Calculate'!H2149,\"\")","v":""},{"$f":"IF(L2145<>\"\",'Step 2) Calculate'!C2149,\"\")","v":""}]
[null,null,null,null,null,null,null,null,null,null,{"$f":"IF(L2146<>\"\",'Step 2) Calculate'!B2150,\"Zzzzz - delete row\")","v":"Zzzzz - delete row"},{"$f":"IF('Step 2) Calculate'!E2150<>\"\",'Step 2) Calculate'!G2150,\"\")","v":""},{"$f":"IF(L2146<>\"\",'Step 2) Calculate'!F2150,\"\")","v":""},{"$f":"IF(L2146<>\"\",'Step 2) Calculate'!H2150,\"\")","v":""},{"$f":"IF(L2146<>\"\",'Step 2) Calculate'!C2150,\"\")","v":""}]
[null,null,null,null,null,null,null,null,null,null,{"$f":"IF(L2147<>\"\",'Step 2) Calculate'!B2151,\"Zzzzz - delete row\")","v":"Zzzzz - delete row"},{"$f":"IF('Step 2) Calculate'!E2151<>\"\",'Step 2) Calculate'!G2151,\"\")","v":""},{"$f":"IF(L2147<>\"\",'Step 2) Calculate'!F2151,\"\")","v":""},{"$f":"IF(L2147<>\"\",'Step 2) Calculate'!H2151,\"\")","v":""},{"$f":"IF(L2147<>\"\",'Step 2) Calculate'!C2151,\"\")","v":""}]
[null,null,null,null,null,null,null,null,null,null,{"$f":"IF(L2148<>\"\",'Step 2) Calculate'!B2152,\"Zzzzz - delete row\")","v":"Zzzzz - delete row"},{"$f":"IF('Step 2) Calculate'!E2152<>\"\",'Step 2) Calculate'!G2152,\"\")","v":""},{"$f":"IF(L2148<>\"\",'Step 2) Calculate'!F2152,\"\")","v":""},{"$f":"IF(L2148<>\"\",'Step 2) Calculate'!H2152,\"\")","v":""},{"$f":"IF(L2148<>\"\",'Step 2) Calculate'!C2152,\"\")","v":""}]
[null,null,null,null,null,null,null,null,null,null,{"$f":"IF(L2149<>\"\",'Step 2) Calculate'!B2153,\"Zzzzz - delete row\")","v":"Zzzzz - delete row"},{"$f":"IF('Step 2) Calculate'!E2153<>\"\",'Step 2) Calculate'!G2153,\"\")","v":""},{"$f":"IF(L2149<>\"\",'Step 2) Calculate'!F2153,\"\")","v":""},{"$f":"IF(L2149<>\"\",'Step 2) Calculate'!H2153,\"\")","v":""},{"$f":"IF(L2149<>\"\",'Step 2) Calculate'!C2153,\"\")","v":""}]
[null,null,null,null,null,null,null,null,null,null,{"$f":"IF(L2150<>\"\",'Step 2) Calculate'!B2154,\"Zzzzz - delete row\")","v":"Zzzzz - delete row"},{"$f":"IF('Step 2) Calculate'!E2154<>\"\",'Step 2) Calculate'!G2154,\"\")","v":""},{"$f":"IF(L2150<>\"\",'Step 2) Calculate'!F2154,\"\")","v":""},{"$f":"IF(L2150<>\"\",'Step 2) Calculate'!H2154,\"\")","v":""},{"$f":"IF(L2150<>\"\",'Step 2) Calculate'!C2154,\"\")","v":""}]
[null,null,null,null,null,null,null,null,null,null,{"$f":"IF(L2151<>\"\",'Step 2) Calculate'!B2155,\"Zzzzz - delete row\")","v":"Zzzzz - delete row"},{"$f":"IF('Step 2) Calculate'!E2155<>\"\",'Step 2) Calculate'!G2155,\"\")","v":""},{"$f":"IF(L2151<>\"\",'Step 2) Calculate'!F2155,\"\")","v":""},{"$f":"IF(L2151<>\"\",'Step 2) Calculate'!H2155,\"\")","v":""},{"$f":"IF(L2151<>\"\",'Step 2) Calculate'!C2155,\"\")","v":""}]
[null,null,null,null,null,null,null,null,null,null,{"$f":"IF(L2152<>\"\",'Step 2) Calculate'!B2156,\"Zzzzz - delete row\")","v":"Zzzzz - delete row"},{"$f":"IF('Step 2) Calculate'!E2156<>\"\",'Step 2) Calculate'!G2156,\"\")","v":""},{"$f":"IF(L2152<>\"\",'Step 2) Calculate'!F2156,\"\")","v":""},{"$f":"IF(L2152<>\"\",'Step 2) Calculate'!H2156,\"\")","v":""},{"$f":"IF(L2152<>\"\",'Step 2) Calculate'!C2156,\"\")","v":""}]
[null,null,null,null,null,null,null,null,null,null,{"$f":"IF(L2153<>\"\",'Step 2) Calculate'!B2157,\"Zzzzz - delete row\")","v":"Zzzzz - delete row"},{"$f":"IF('Step 2) Calculate'!E2157<>\"\",'Step 2) Calculate'!G2157,\"\")","v":""},{"$f":"IF(L2153<>\"\",'Step 2) Calculate'!F2157,\"\")","v":""},{"$f":"IF(L2153<>\"\",'Step 2) Calculate'!H2157,\"\")","v":""},{"$f":"IF(L2153<>\"\",'Step 2) Calculate'!C2157,\"\")","v":""}]
[null,null,null,null,null,null,null,null,null,null,{"$f":"IF(L2154<>\"\",'Step 2) Calculate'!B2158,\"Zzzzz - delete row\")","v":"Zzzzz - delete row"},{"$f":"IF('Step 2) Calculate'!E2158<>\"\",'Step 2) Calculate'!G2158,\"\")","v":""},{"$f":"IF(L2154<>\"\",'Step 2) Calculate'!F2158,\"\")","v":""},{"$f":"IF(L2154<>\"\",'Step 2) Calculate'!H2158,\"\")","v":""},{"$f":"IF(L2154<>\"\",'Step 2) Calculate'!C2158,\"\")","v":""}]
[null,null,null,null,null,null,null,null,null,null,{"$f":"IF(L2155<>\"\",'Step 2) Calculate'!B2159,\"Zzzzz - delete row\")","v":"Zzzzz - delete row"},{"$f":"IF('Step 2) Calculate'!E2159<>\"\",'Step 2) Calculate'!G2159,\"\")","v":""},{"$f":"IF(L2155<>\"\",'Step 2) Calculate'!F2159,\"\")","v":""},{"$f":"IF(L2155<>\"\",'Step 2) Calculate'!H2159,\"\")","v":""},{"$f":"IF(L2155<>\"\",'Step 2) Calculate'!C2159,\"\")","v":""}]
[null,null,null,null,null,null,null,null,null,null,{"$f":"IF(L2156<>\"\",'Step 2) Calculate'!B2160,\"Zzzzz - delete row\")","v":"Zzzzz - delete row"},{"$f":"IF('Step 2) Calculate'!E2160<>\"\",'Step 2) Calculate'!G2160,\"\")","v":""},{"$f":"IF(L2156<>\"\",'Step 2) Calculate'!F2160,\"\")","v":""},{"$f":"IF(L2156<>\"\",'Step 2) Calculate'!H2160,\"\")","v":""},{"$f":"IF(L2156<>\"\",'Step 2) Calculate'!C2160,\"\")","v":""}]
[null,null,null,null,null,null,null,null,null,null,{"$f":"IF(L2157<>\"\",'Step 2) Calculate'!B2161,\"Zzzzz - delete row\")","v":"Zzzzz - delete row"},{"$f":"IF('Step 2) Calculate'!E2161<>\"\",'Step 2) Calculate'!G2161,\"\")","v":""},{"$f":"IF(L2157<>\"\",'Step 2) Calculate'!F2161,\"\")","v":""},{"$f":"IF(L2157<>\"\",'Step 2) Calculate'!H2161,\"\")","v":""},{"$f":"IF(L2157<>\"\",'Step 2) Calculate'!C2161,\"\")","v":""}]
[null,null,null,null,null,null,null,null,null,null,{"$f":"IF(L2158<>\"\",'Step 2) Calculate'!B2162,\"Zzzzz - delete row\")","v":"Zzzzz - delete row"},{"$f":"IF('Step 2) Calculate'!E2162<>\"\",'Step 2) Calculate'!G2162,\"\")","v":""},{"$f":"IF(L2158<>\"\",'Step 2) Calculate'!F2162,\"\")","v":""},{"$f":"IF(L2158<>\"\",'Step 2) Calculate'!H2162,\"\")","v":""},{"$f":"IF(L2158<>\"\",'Step 2) Calculate'!C2162,\"\")","v":""}]
[null,null,null,null,null,null,null,null,null,null,{"$f":"IF(L2159<>\"\",'Step 2) Calculate'!B2163,\"Zzzzz - delete row\")","v":"Zzzzz - delete row"},{"$f":"IF('Step 2) Calculate'!E2163<>\"\",'Step 2) Calculate'!G2163,\"\")","v":""},{"$f":"IF(L2159<>\"\",'Step 2) Calculate'!F2163,\"\")","v":""},{"$f":"IF(L2159<>\"\",'Step 2) Calculate'!H2163,\"\")","v":""},{"$f":"IF(L2159<>\"\",'Step 2) Calculate'!C2163,\"\")","v":""}]
[null,null,null,null,null,null,null,null,null,null,{"$f":"IF(L2160<>\"\",'Step 2) Calculate'!B2164,\"Zzzzz - delete row\")","v":"Zzzzz - delete row"},{"$f":"IF('Step 2) Calculate'!E2164<>\"\",'Step 2) Calculate'!G2164,\"\")","v":""},{"$f":"IF(L2160<>\"\",'Step 2) Calculate'!F2164,\"\")","v":""},{"$f":"IF(L2160<>\"\",'Step 2) Calculate'!H2164,\"\")","v":""},{"$f":"IF(L2160<>\"\",'Step 2) Calculate'!C2164,\"\")","v":""}]
[null,null,null,null,null,null,null,null,null,null,{"$f":"IF(L2161<>\"\",'Step 2) Calculate'!B2165,\"Zzzzz - delete row\")","v":"Zzzzz - delete row"},{"$f":"IF('Step 2) Calculate'!E2165<>\"\",'Step 2) Calculate'!G2165,\"\")","v":""},{"$f":"IF(L2161<>\"\",'Step 2) Calculate'!F2165,\"\")","v":""},{"$f":"IF(L2161<>\"\",'Step 2) Calculate'!H2165,\"\")","v":""},{"$f":"IF(L2161<>\"\",'Step 2) Calculate'!C2165,\"\")","v":""}]
[null,null,null,null,null,null,null,null,null,null,{"$f":"IF(L2162<>\"\",'Step 2) Calculate'!B2166,\"Zzzzz - delete row\")","v":"Zzzzz - delete row"},{"$f":"IF('Step 2) Calculate'!E2166<>\"\",'Step 2) Calculate'!G2166,\"\")","v":""},{"$f":"IF(L2162<>\"\",'Step 2) Calculate'!F2166,\"\")","v":""},{"$f":"IF(L2162<>\"\",'Step 2) Calculate'!H2166,\"\")","v":""},{"$f":"IF(L2162<>\"\",'Step 2) Calculate'!C2166,\"\")","v":""}]
[null,null,null,null,null,null,null,null,null,null,{"$f":"IF(L2163<>\"\",'Step 2) Calculate'!B2167,\"Zzzzz - delete row\")","v":"Zzzzz - delete row"},{"$f":"IF('Step 2) Calculate'!E2167<>\"\",'Step 2) Calculate'!G2167,\"\")","v":""},{"$f":"IF(L2163<>\"\",'Step 2) Calculate'!F2167,\"\")","v":""},{"$f":"IF(L2163<>\"\",'Step 2) Calculate'!H2167,\"\")","v":""},{"$f":"IF(L2163<>\"\",'Step 2) Calculate'!C2167,\"\")","v":""}]
[null,null,null,null,null,null,null,null,null,null,{"$f":"IF(L2164<>\"\",'Step 2) Calculate'!B2168,\"Zzzzz - delete row\")","v":"Zzzzz - delete row"},{"$f":"IF('Step 2) Calculate'!E2168<>\"\",'Step 2) Calculate'!G2168,\"\")","v":""},{"$f":"IF(L2164<>\"\",'Step 2) Calculate'!F2168,\"\")","v":""},{"$f":"IF(L2164<>\"\",'Step 2) Calculate'!H2168,\"\")","v":""},{"$f":"IF(L2164<>\"\",'Step 2) Calculate'!C2168,\"\")","v":""}]
[null,null,null,null,null,null,null,null,null,null,{"$f":"IF(L2165<>\"\",'Step 2) Calculate'!B2169,\"Zzzzz - delete row\")","v":"Zzzzz - delete row"},{"$f":"IF('Step 2) Calculate'!E2169<>\"\",'Step 2) Calculate'!G2169,\"\")","v":""},{"$f":"IF(L2165<>\"\",'Step 2) Calculate'!F2169,\"\")","v":""},{"$f":"IF(L2165<>\"\",'Step 2) Calculate'!H2169,\"\")","v":""},{"$f":"IF(L2165<>\"\",'Step 2) Calculate'!C2169,\"\")","v":""}]
[null,null,null,null,null,null,null,null,null,null,{"$f":"IF(L2166<>\"\",'Step 2) Calculate'!B2170,\"Zzzzz - delete row\")","v":"Zzzzz - delete row"},{"$f":"IF('Step 2) Calculate'!E2170<>\"\",'Step 2) Calculate'!G2170,\"\")","v":""},{"$f":"IF(L2166<>\"\",'Step 2) Calculate'!F2170,\"\")","v":""},{"$f":"IF(L2166<>\"\",'Step 2) Calculate'!H2170,\"\")","v":""},{"$f":"IF(L2166<>\"\",'Step 2) Calculate'!C2170,\"\")","v":""}]
[null,null,null,null,null,null,null,null,null,null,{"$f":"IF(L2167<>\"\",'Step 2) Calculate'!B2171,\"Zzzzz - delete row\")","v":"Zzzzz - delete row"},{"$f":"IF('Step 2) Calculate'!E2171<>\"\",'Step 2) Calculate'!G2171,\"\")","v":""},{"$f":"IF(L2167<>\"\",'Step 2) Calculate'!F2171,\"\")","v":""},{"$f":"IF(L2167<>\"\",'Step 2) Calculate'!H2171,\"\")","v":""},{"$f":"IF(L2167<>\"\",'Step 2) Calculate'!C2171,\"\")","v":""}]
[null,null,null,null,null,null,null,null,null,null,{"$f":"IF(L2168<>\"\",'Step 2) Calculate'!B2172,\"Zzzzz - delete row\")","v":"Zzzzz - delete row"},{"$f":"IF('Step 2) Calculate'!E2172<>\"\",'Step 2) Calculate'!G2172,\"\")","v":""},{"$f":"IF(L2168<>\"\",'Step 2) Calculate'!F2172,\"\")","v":""},{"$f":"IF(L2168<>\"\",'Step 2) Calculate'!H2172,\"\")","v":""},{"$f":"IF(L2168<>\"\",'Step 2) Calculate'!C2172,\"\")","v":""}]
[null,null,null,null,null,null,null,null,null,null,{"$f":"IF(L2169<>\"\",'Step 2) Calculate'!B2173,\"Zzzzz - delete row\")","v":"Zzzzz - delete row"},{"$f":"IF('Step 2) Calculate'!E2173<>\"\",'Step 2) Calculate'!G2173,\"\")","v":""},{"$f":"IF(L2169<>\"\",'Step 2) Calculate'!F2173,\"\")","v":""},{"$f":"IF(L2169<>\"\",'Step 2) Calculate'!H2173,\"\")","v":""},{"$f":"IF(L2169<>\"\",'Step 2) Calculate'!C2173,\"\")","v":""}]
[null,null,null,null,null,null,null,null,null,null,{"$f":"IF(L2170<>\"\",'Step 2) Calculate'!B2174,\"Zzzzz - delete row\")","v":"Zzzzz - delete row"},{"$f":"IF('Step 2) Calculate'!E2174<>\"\",'Step 2) Calculate'!G2174,\"\")","v":""},{"$f":"IF(L2170<>\"\",'Step 2) Calculate'!F2174,\"\")","v":""},{"$f":"IF(L2170<>\"\",'Step 2) Calculate'!H2174,\"\")","v":""},{"$f":"IF(L2170<>\"\",'Step 2) Calculate'!C2174,\"\")","v":""}]
[null,null,null,null,null,null,null,null,null,null,{"$f":"IF(L2171<>\"\",'Step 2) Calculate'!B2175,\"Zzzzz - delete row\")","v":"Zzzzz - delete row"},{"$f":"IF('Step 2) Calculate'!E2175<>\"\",'Step 2) Calculate'!G2175,\"\")","v":""},{"$f":"IF(L2171<>\"\",'Step 2) Calculate'!F2175,\"\")","v":""},{"$f":"IF(L2171<>\"\",'Step 2) Calculate'!H2175,\"\")","v":""},{"$f":"IF(L2171<>\"\",'Step 2) Calculate'!C2175,\"\")","v":""}]
[null,null,null,null,null,null,null,null,null,null,{"$f":"IF(L2172<>\"\",'Step 2) Calculate'!B2176,\"Zzzzz - delete row\")","v":"Zzzzz - delete row"},{"$f":"IF('Step 2) Calculate'!E2176<>\"\",'Step 2) Calculate'!G2176,\"\")","v":""},{"$f":"IF(L2172<>\"\",'Step 2) Calculate'!F2176,\"\")","v":""},{"$f":"IF(L2172<>\"\",'Step 2) Calculate'!H2176,\"\")","v":""},{"$f":"IF(L2172<>\"\",'Step 2) Calculate'!C2176,\"\")","v":""}]
[null,null,null,null,null,null,null,null,null,null,{"$f":"IF(L2173<>\"\",'Step 2) Calculate'!B2177,\"Zzzzz - delete row\")","v":"Zzzzz - delete row"},{"$f":"IF('Step 2) Calculate'!E2177<>\"\",'Step 2) Calculate'!G2177,\"\")","v":""},{"$f":"IF(L2173<>\"\",'Step 2) Calculate'!F2177,\"\")","v":""},{"$f":"IF(L2173<>\"\",'Step 2) Calculate'!H2177,\"\")","v":""},{"$f":"IF(L2173<>\"\",'Step 2) Calculate'!C2177,\"\")","v":""}]
[null,null,null,null,null,null,null,null,null,null,{"$f":"IF(L2174<>\"\",'Step 2) Calculate'!B2178,\"Zzzzz - delete row\")","v":"Zzzzz - delete row"},{"$f":"IF('Step 2) Calculate'!E2178<>\"\",'Step 2) Calculate'!G2178,\"\")","v":""},{"$f":"IF(L2174<>\"\",'Step 2) Calculate'!F2178,\"\")","v":""},{"$f":"IF(L2174<>\"\",'Step 2) Calculate'!H2178,\"\")","v":""},{"$f":"IF(L2174<>\"\",'Step 2) Calculate'!C2178,\"\")","v":""}]
[null,null,null,null,null,null,null,null,null,null,{"$f":"IF(L2175<>\"\",'Step 2) Calculate'!B2179,\"Zzzzz - delete row\")","v":"Zzzzz - delete row"},{"$f":"IF('Step 2) Calculate'!E2179<>\"\",'Step 2) Calculate'!G2179,\"\")","v":""},{"$f":"IF(L2175<>\"\",'Step 2) Calculate'!F2179,\"\")","v":""},{"$f":"IF(L2175<>\"\",'Step 2) Calculate'!H2179,\"\")","v":""},{"$f":"IF(L2175<>\"\",'Step 2) Calculate'!C2179,\"\")","v":""}]
[null,null,null,null,null,null,null,null,null,null,{"$f":"IF(L2176<>\"\",'Step 2) Calculate'!B2180,\"Zzzzz - delete row\")","v":"Zzzzz - delete row"},{"$f":"IF('Step 2) Calculate'!E2180<>\"\",'Step 2) Calculate'!G2180,\"\")","v":""},{"$f":"IF(L2176<>\"\",'Step 2) Calculate'!F2180,\"\")","v":""},{"$f":"IF(L2176<>\"\",'Step 2) Calculate'!H2180,\"\")","v":""},{"$f":"IF(L2176<>\"\",'Step 2) Calculate'!C2180,\"\")","v":""}]
[null,null,null,null,null,null,null,null,null,null,{"$f":"IF(L2177<>\"\",'Step 2) Calculate'!B2181,\"Zzzzz - delete row\")","v":"Zzzzz - delete row"},{"$f":"IF('Step 2) Calculate'!E2181<>\"\",'Step 2) Calculate'!G2181,\"\")","v":""},{"$f":"IF(L2177<>\"\",'Step 2) Calculate'!F2181,\"\")","v":""},{"$f":"IF(L2177<>\"\",'Step 2) Calculate'!H2181,\"\")","v":""},{"$f":"IF(L2177<>\"\",'Step 2) Calculate'!C2181,\"\")","v":""}]
[null,null,null,null,null,null,null,null,null,null,{"$f":"IF(L2178<>\"\",'Step 2) Calculate'!B2182,\"Zzzzz - delete row\")","v":"Zzzzz - delete row"},{"$f":"IF('Step 2) Calculate'!E2182<>\"\",'Step 2) Calculate'!G2182,\"\")","v":""},{"$f":"IF(L2178<>\"\",'Step 2) Calculate'!F2182,\"\")","v":""},{"$f":"IF(L2178<>\"\",'Step 2) Calculate'!H2182,\"\")","v":""},{"$f":"IF(L2178<>\"\",'Step 2) Calculate'!C2182,\"\")","v":""}]
[null,null,null,null,null,null,null,null,null,null,{"$f":"IF(L2179<>\"\",'Step 2) Calculate'!B2183,\"Zzzzz - delete row\")","v":"Zzzzz - delete row"},{"$f":"IF('Step 2) Calculate'!E2183<>\"\",'Step 2) Calculate'!G2183,\"\")","v":""},{"$f":"IF(L2179<>\"\",'Step 2) Calculate'!F2183,\"\")","v":""},{"$f":"IF(L2179<>\"\",'Step 2) Calculate'!H2183,\"\")","v":""},{"$f":"IF(L2179<>\"\",'Step 2) Calculate'!C2183,\"\")","v":""}]
[null,null,null,null,null,null,null,null,null,null,{"$f":"IF(L2180<>\"\",'Step 2) Calculate'!B2184,\"Zzzzz - delete row\")","v":"Zzzzz - delete row"},{"$f":"IF('Step 2) Calculate'!E2184<>\"\",'Step 2) Calculate'!G2184,\"\")","v":""},{"$f":"IF(L2180<>\"\",'Step 2) Calculate'!F2184,\"\")","v":""},{"$f":"IF(L2180<>\"\",'Step 2) Calculate'!H2184,\"\")","v":""},{"$f":"IF(L2180<>\"\",'Step 2) Calculate'!C2184,\"\")","v":""}]
[null,null,null,null,null,null,null,null,null,null,{"$f":"IF(L2181<>\"\",'Step 2) Calculate'!B2185,\"Zzzzz - delete row\")","v":"Zzzzz - delete row"},{"$f":"IF('Step 2) Calculate'!E2185<>\"\",'Step 2) Calculate'!G2185,\"\")","v":""},{"$f":"IF(L2181<>\"\",'Step 2) Calculate'!F2185,\"\")","v":""},{"$f":"IF(L2181<>\"\",'Step 2) Calculate'!H2185,\"\")","v":""},{"$f":"IF(L2181<>\"\",'Step 2) Calculate'!C2185,\"\")","v":""}]
[null,null,null,null,null,null,null,null,null,null,{"$f":"IF(L2182<>\"\",'Step 2) Calculate'!B2186,\"Zzzzz - delete row\")","v":"Zzzzz - delete row"},{"$f":"IF('Step 2) Calculate'!E2186<>\"\",'Step 2) Calculate'!G2186,\"\")","v":""},{"$f":"IF(L2182<>\"\",'Step 2) Calculate'!F2186,\"\")","v":""},{"$f":"IF(L2182<>\"\",'Step 2) Calculate'!H2186,\"\")","v":""},{"$f":"IF(L2182<>\"\",'Step 2) Calculate'!C2186,\"\")","v":""}]
[null,null,null,null,null,null,null,null,null,null,{"$f":"IF(L2183<>\"\",'Step 2) Calculate'!B2187,\"Zzzzz - delete row\")","v":"Zzzzz - delete row"},{"$f":"IF('Step 2) Calculate'!E2187<>\"\",'Step 2) Calculate'!G2187,\"\")","v":""},{"$f":"IF(L2183<>\"\",'Step 2) Calculate'!F2187,\"\")","v":""},{"$f":"IF(L2183<>\"\",'Step 2) Calculate'!H2187,\"\")","v":""},{"$f":"IF(L2183<>\"\",'Step 2) Calculate'!C2187,\"\")","v":""}]
[null,null,null,null,null,null,null,null,null,null,{"$f":"IF(L2184<>\"\",'Step 2) Calculate'!B2188,\"Zzzzz - delete row\")","v":"Zzzzz - delete row"},{"$f":"IF('Step 2) Calculate'!E2188<>\"\",'Step 2) Calculate'!G2188,\"\")","v":""},{"$f":"IF(L2184<>\"\",'Step 2) Calculate'!F2188,\"\")","v":""},{"$f":"IF(L2184<>\"\",'Step 2) Calculate'!H2188,\"\")","v":""},{"$f":"IF(L2184<>\"\",'Step 2) Calculate'!C2188,\"\")","v":""}]
[null,null,null,null,null,null,null,null,null,null,{"$f":"IF(L2185<>\"\",'Step 2) Calculate'!B2189,\"Zzzzz - delete row\")","v":"Zzzzz - delete row"},{"$f":"IF('Step 2) Calculate'!E2189<>\"\",'Step 2) Calculate'!G2189,\"\")","v":""},{"$f":"IF(L2185<>\"\",'Step 2) Calculate'!F2189,\"\")","v":""},{"$f":"IF(L2185<>\"\",'Step 2) Calculate'!H2189,\"\")","v":""},{"$f":"IF(L2185<>\"\",'Step 2) Calculate'!C2189,\"\")","v":""}]
[null,null,null,null,null,null,null,null,null,null,{"$f":"IF(L2186<>\"\",'Step 2) Calculate'!B2190,\"Zzzzz - delete row\")","v":"Zzzzz - delete row"},{"$f":"IF('Step 2) Calculate'!E2190<>\"\",'Step 2) Calculate'!G2190,\"\")","v":""},{"$f":"IF(L2186<>\"\",'Step 2) Calculate'!F2190,\"\")","v":""},{"$f":"IF(L2186<>\"\",'Step 2) Calculate'!H2190,\"\")","v":""},{"$f":"IF(L2186<>\"\",'Step 2) Calculate'!C2190,\"\")","v":""}]
[null,null,null,null,null,null,null,null,null,null,{"$f":"IF(L2187<>\"\",'Step 2) Calculate'!B2191,\"Zzzzz - delete row\")","v":"Zzzzz - delete row"},{"$f":"IF('Step 2) Calculate'!E2191<>\"\",'Step 2) Calculate'!G2191,\"\")","v":""},{"$f":"IF(L2187<>\"\",'Step 2) Calculate'!F2191,\"\")","v":""},{"$f":"IF(L2187<>\"\",'Step 2) Calculate'!H2191,\"\")","v":""},{"$f":"IF(L2187<>\"\",'Step 2) Calculate'!C2191,\"\")","v":""}]
[null,null,null,null,null,null,null,null,null,null,{"$f":"IF(L2188<>\"\",'Step 2) Calculate'!B2192,\"Zzzzz - delete row\")","v":"Zzzzz - delete row"},{"$f":"IF('Step 2) Calculate'!E2192<>\"\",'Step 2) Calculate'!G2192,\"\")","v":""},{"$f":"IF(L2188<>\"\",'Step 2) Calculate'!F2192,\"\")","v":""},{"$f":"IF(L2188<>\"\",'Step 2) Calculate'!H2192,\"\")","v":""},{"$f":"IF(L2188<>\"\",'Step 2) Calculate'!C2192,\"\")","v":""}]
[null,null,null,null,null,null,null,null,null,null,{"$f":"IF(L2189<>\"\",'Step 2) Calculate'!B2193,\"Zzzzz - delete row\")","v":"Zzzzz - delete row"},{"$f":"IF('Step 2) Calculate'!E2193<>\"\",'Step 2) Calculate'!G2193,\"\")","v":""},{"$f":"IF(L2189<>\"\",'Step 2) Calculate'!F2193,\"\")","v":""},{"$f":"IF(L2189<>\"\",'Step 2) Calculate'!H2193,\"\")","v":""},{"$f":"IF(L2189<>\"\",'Step 2) Calculate'!C2193,\"\")","v":""}]
[null,null,null,null,null,null,null,null,null,null,{"$f":"IF(L2190<>\"\",'Step 2) Calculate'!B2194,\"Zzzzz - delete row\")","v":"Zzzzz - delete row"},{"$f":"IF('Step 2) Calculate'!E2194<>\"\",'Step 2) Calculate'!G2194,\"\")","v":""},{"$f":"IF(L2190<>\"\",'Step 2) Calculate'!F2194,\"\")","v":""},{"$f":"IF(L2190<>\"\",'Step 2) Calculate'!H2194,\"\")","v":""},{"$f":"IF(L2190<>\"\",'Step 2) Calculate'!C2194,\"\")","v":""}]
[null,null,null,null,null,null,null,null,null,null,{"$f":"IF(L2191<>\"\",'Step 2) Calculate'!B2195,\"Zzzzz - delete row\")","v":"Zzzzz - delete row"},{"$f":"IF('Step 2) Calculate'!E2195<>\"\",'Step 2) Calculate'!G2195,\"\")","v":""},{"$f":"IF(L2191<>\"\",'Step 2) Calculate'!F2195,\"\")","v":""},{"$f":"IF(L2191<>\"\",'Step 2) Calculate'!H2195,\"\")","v":""},{"$f":"IF(L2191<>\"\",'Step 2) Calculate'!C2195,\"\")","v":""}]
[null,null,null,null,null,null,null,null,null,null,{"$f":"IF(L2192<>\"\",'Step 2) Calculate'!B2196,\"Zzzzz - delete row\")","v":"Zzzzz - delete row"},{"$f":"IF('Step 2) Calculate'!E2196<>\"\",'Step 2) Calculate'!G2196,\"\")","v":""},{"$f":"IF(L2192<>\"\",'Step 2) Calculate'!F2196,\"\")","v":""},{"$f":"IF(L2192<>\"\",'Step 2) Calculate'!H2196,\"\")","v":""},{"$f":"IF(L2192<>\"\",'Step 2) Calculate'!C2196,\"\")","v":""}]
[null,null,null,null,null,null,null,null,null,null,{"$f":"IF(L2193<>\"\",'Step 2) Calculate'!B2197,\"Zzzzz - delete row\")","v":"Zzzzz - delete row"},{"$f":"IF('Step 2) Calculate'!E2197<>\"\",'Step 2) Calculate'!G2197,\"\")","v":""},{"$f":"IF(L2193<>\"\",'Step 2) Calculate'!F2197,\"\")","v":""},{"$f":"IF(L2193<>\"\",'Step 2) Calculate'!H2197,\"\")","v":""},{"$f":"IF(L2193<>\"\",'Step 2) Calculate'!C2197,\"\")","v":""}]
[null,null,null,null,null,null,null,null,null,null,{"$f":"IF(L2194<>\"\",'Step 2) Calculate'!B2198,\"Zzzzz - delete row\")","v":"Zzzzz - delete row"},{"$f":"IF('Step 2) Calculate'!E2198<>\"\",'Step 2) Calculate'!G2198,\"\")","v":""},{"$f":"IF(L2194<>\"\",'Step 2) Calculate'!F2198,\"\")","v":""},{"$f":"IF(L2194<>\"\",'Step 2) Calculate'!H2198,\"\")","v":""},{"$f":"IF(L2194<>\"\",'Step 2) Calculate'!C2198,\"\")","v":""}]
[null,null,null,null,null,null,null,null,null,null,{"$f":"IF(L2195<>\"\",'Step 2) Calculate'!B2199,\"Zzzzz - delete row\")","v":"Zzzzz - delete row"},{"$f":"IF('Step 2) Calculate'!E2199<>\"\",'Step 2) Calculate'!G2199,\"\")","v":""},{"$f":"IF(L2195<>\"\",'Step 2) Calculate'!F2199,\"\")","v":""},{"$f":"IF(L2195<>\"\",'Step 2) Calculate'!H2199,\"\")","v":""},{"$f":"IF(L2195<>\"\",'Step 2) Calculate'!C2199,\"\")","v":""}]
[null,null,null,null,null,null,null,null,null,null,{"$f":"IF(L2196<>\"\",'Step 2) Calculate'!B2200,\"Zzzzz - delete row\")","v":"Zzzzz - delete row"},{"$f":"IF('Step 2) Calculate'!E2200<>\"\",'Step 2) Calculate'!G2200,\"\")","v":""},{"$f":"IF(L2196<>\"\",'Step 2) Calculate'!F2200,\"\")","v":""},{"$f":"IF(L2196<>\"\",'Step 2) Calculate'!H2200,\"\")","v":""},{"$f":"IF(L2196<>\"\",'Step 2) Calculate'!C2200,\"\")","v":""}]
[null,null,null,null,null,null,null,null,null,null,{"$f":"IF(L2197<>\"\",'Step 2) Calculate'!B2201,\"Zzzzz - delete row\")","v":"Zzzzz - delete row"},{"$f":"IF('Step 2) Calculate'!E2201<>\"\",'Step 2) Calculate'!G2201,\"\")","v":""},{"$f":"IF(L2197<>\"\",'Step 2) Calculate'!F2201,\"\")","v":""},{"$f":"IF(L2197<>\"\",'Step 2) Calculate'!H2201,\"\")","v":""},{"$f":"IF(L2197<>\"\",'Step 2) Calculate'!C2201,\"\")","v":""}]
[null,null,null,null,null,null,null,null,null,null,{"$f":"IF(L2198<>\"\",'Step 2) Calculate'!B2202,\"Zzzzz - delete row\")","v":"Zzzzz - delete row"},{"$f":"IF('Step 2) Calculate'!E2202<>\"\",'Step 2) Calculate'!G2202,\"\")","v":""},{"$f":"IF(L2198<>\"\",'Step 2) Calculate'!F2202,\"\")","v":""},{"$f":"IF(L2198<>\"\",'Step 2) Calculate'!H2202,\"\")","v":""},{"$f":"IF(L2198<>\"\",'Step 2) Calculate'!C2202,\"\")","v":""}]
[null,null,null,null,null,null,null,null,null,null,{"$f":"IF(L2199<>\"\",'Step 2) Calculate'!B2203,\"Zzzzz - delete row\")","v":"Zzzzz - delete row"},{"$f":"IF('Step 2) Calculate'!E2203<>\"\",'Step 2) Calculate'!G2203,\"\")","v":""},{"$f":"IF(L2199<>\"\",'Step 2) Calculate'!F2203,\"\")","v":""},{"$f":"IF(L2199<>\"\",'Step 2) Calculate'!H2203,\"\")","v":""},{"$f":"IF(L2199<>\"\",'Step 2) Calculate'!C2203,\"\")","v":""}]
[null,null,null,null,null,null,null,null,null,null,{"$f":"IF(L2200<>\"\",'Step 2) Calculate'!B2204,\"Zzzzz - delete row\")","v":"Zzzzz - delete row"},{"$f":"IF('Step 2) Calculate'!E2204<>\"\",'Step 2) Calculate'!G2204,\"\")","v":""},{"$f":"IF(L2200<>\"\",'Step 2) Calculate'!F2204,\"\")","v":""},{"$f":"IF(L2200<>\"\",'Step 2) Calculate'!H2204,\"\")","v":""},{"$f":"IF(L2200<>\"\",'Step 2) Calculate'!C2204,\"\")","v":""}]
[null,null,null,null,null,null,null,null,null,null,{"$f":"IF(L2201<>\"\",'Step 2) Calculate'!B2205,\"Zzzzz - delete row\")","v":"Zzzzz - delete row"},{"$f":"IF('Step 2) Calculate'!E2205<>\"\",'Step 2) Calculate'!G2205,\"\")","v":""},{"$f":"IF(L2201<>\"\",'Step 2) Calculate'!F2205,\"\")","v":""},{"$f":"IF(L2201<>\"\",'Step 2) Calculate'!H2205,\"\")","v":""},{"$f":"IF(L2201<>\"\",'Step 2) Calculate'!C2205,\"\")","v":""}]
[null,null,null,null,null,null,null,null,null,null,{"$f":"IF(L2202<>\"\",'Step 2) Calculate'!B2206,\"Zzzzz - delete row\")","v":"Zzzzz - delete row"},{"$f":"IF('Step 2) Calculate'!E2206<>\"\",'Step 2) Calculate'!G2206,\"\")","v":""},{"$f":"IF(L2202<>\"\",'Step 2) Calculate'!F2206,\"\")","v":""},{"$f":"IF(L2202<>\"\",'Step 2) Calculate'!H2206,\"\")","v":""},{"$f":"IF(L2202<>\"\",'Step 2) Calculate'!C2206,\"\")","v":""}]
[null,null,null,null,null,null,null,null,null,null,{"$f":"IF(L2203<>\"\",'Step 2) Calculate'!B2207,\"Zzzzz - delete row\")","v":"Zzzzz - delete row"},{"$f":"IF('Step 2) Calculate'!E2207<>\"\",'Step 2) Calculate'!G2207,\"\")","v":""},{"$f":"IF(L2203<>\"\",'Step 2) Calculate'!F2207,\"\")","v":""},{"$f":"IF(L2203<>\"\",'Step 2) Calculate'!H2207,\"\")","v":""},{"$f":"IF(L2203<>\"\",'Step 2) Calculate'!C2207,\"\")","v":""}]
[null,null,null,null,null,null,null,null,null,null,{"$f":"IF(L2204<>\"\",'Step 2) Calculate'!B2208,\"Zzzzz - delete row\")","v":"Zzzzz - delete row"},{"$f":"IF('Step 2) Calculate'!E2208<>\"\",'Step 2) Calculate'!G2208,\"\")","v":""},{"$f":"IF(L2204<>\"\",'Step 2) Calculate'!F2208,\"\")","v":""},{"$f":"IF(L2204<>\"\",'Step 2) Calculate'!H2208,\"\")","v":""},{"$f":"IF(L2204<>\"\",'Step 2) Calculate'!C2208,\"\")","v":""}]
[null,null,null,null,null,null,null,null,null,null,{"$f":"IF(L2205<>\"\",'Step 2) Calculate'!B2209,\"Zzzzz - delete row\")","v":"Zzzzz - delete row"},{"$f":"IF('Step 2) Calculate'!E2209<>\"\",'Step 2) Calculate'!G2209,\"\")","v":""},{"$f":"IF(L2205<>\"\",'Step 2) Calculate'!F2209,\"\")","v":""},{"$f":"IF(L2205<>\"\",'Step 2) Calculate'!H2209,\"\")","v":""},{"$f":"IF(L2205<>\"\",'Step 2) Calculate'!C2209,\"\")","v":""}]
[null,null,null,null,null,null,null,null,null,null,{"$f":"IF(L2206<>\"\",'Step 2) Calculate'!B2210,\"Zzzzz - delete row\")","v":"Zzzzz - delete row"},{"$f":"IF('Step 2) Calculate'!E2210<>\"\",'Step 2) Calculate'!G2210,\"\")","v":""},{"$f":"IF(L2206<>\"\",'Step 2) Calculate'!F2210,\"\")","v":""},{"$f":"IF(L2206<>\"\",'Step 2) Calculate'!H2210,\"\")","v":""},{"$f":"IF(L2206<>\"\",'Step 2) Calculate'!C2210,\"\")","v":""}]
[null,null,null,null,null,null,null,null,null,null,{"$f":"IF(L2207<>\"\",'Step 2) Calculate'!B2211,\"Zzzzz - delete row\")","v":"Zzzzz - delete row"},{"$f":"IF('Step 2) Calculate'!E2211<>\"\",'Step 2) Calculate'!G2211,\"\")","v":""},{"$f":"IF(L2207<>\"\",'Step 2) Calculate'!F2211,\"\")","v":""},{"$f":"IF(L2207<>\"\",'Step 2) Calculate'!H2211,\"\")","v":""},{"$f":"IF(L2207<>\"\",'Step 2) Calculate'!C2211,\"\")","v":""}]
[null,null,null,null,null,null,null,null,null,null,{"$f":"IF(L2208<>\"\",'Step 2) Calculate'!B2212,\"Zzzzz - delete row\")","v":"Zzzzz - delete row"},{"$f":"IF('Step 2) Calculate'!E2212<>\"\",'Step 2) Calculate'!G2212,\"\")","v":""},{"$f":"IF(L2208<>\"\",'Step 2) Calculate'!F2212,\"\")","v":""},{"$f":"IF(L2208<>\"\",'Step 2) Calculate'!H2212,\"\")","v":""},{"$f":"IF(L2208<>\"\",'Step 2) Calculate'!C2212,\"\")","v":""}]
[null,null,null,null,null,null,null,null,null,null,{"$f":"IF(L2209<>\"\",'Step 2) Calculate'!B2213,\"Zzzzz - delete row\")","v":"Zzzzz - delete row"},{"$f":"IF('Step 2) Calculate'!E2213<>\"\",'Step 2) Calculate'!G2213,\"\")","v":""},{"$f":"IF(L2209<>\"\",'Step 2) Calculate'!F2213,\"\")","v":""},{"$f":"IF(L2209<>\"\",'Step 2) Calculate'!H2213,\"\")","v":""},{"$f":"IF(L2209<>\"\",'Step 2) Calculate'!C2213,\"\")","v":""}]
[null,null,null,null,null,null,null,null,null,null,{"$f":"IF(L2210<>\"\",'Step 2) Calculate'!B2214,\"Zzzzz - delete row\")","v":"Zzzzz - delete row"},{"$f":"IF('Step 2) Calculate'!E2214<>\"\",'Step 2) Calculate'!G2214,\"\")","v":""},{"$f":"IF(L2210<>\"\",'Step 2) Calculate'!F2214,\"\")","v":""},{"$f":"IF(L2210<>\"\",'Step 2) Calculate'!H2214,\"\")","v":""},{"$f":"IF(L2210<>\"\",'Step 2) Calculate'!C2214,\"\")","v":""}]
[null,null,null,null,null,null,null,null,null,null,{"$f":"IF(L2211<>\"\",'Step 2) Calculate'!B2215,\"Zzzzz - delete row\")","v":"Zzzzz - delete row"},{"$f":"IF('Step 2) Calculate'!E2215<>\"\",'Step 2) Calculate'!G2215,\"\")","v":""},{"$f":"IF(L2211<>\"\",'Step 2) Calculate'!F2215,\"\")","v":""},{"$f":"IF(L2211<>\"\",'Step 2) Calculate'!H2215,\"\")","v":""},{"$f":"IF(L2211<>\"\",'Step 2) Calculate'!C2215,\"\")","v":""}]
[null,null,null,null,null,null,null,null,null,null,{"$f":"IF(L2212<>\"\",'Step 2) Calculate'!B2216,\"Zzzzz - delete row\")","v":"Zzzzz - delete row"},{"$f":"IF('Step 2) Calculate'!E2216<>\"\",'Step 2) Calculate'!G2216,\"\")","v":""},{"$f":"IF(L2212<>\"\",'Step 2) Calculate'!F2216,\"\")","v":""},{"$f":"IF(L2212<>\"\",'Step 2) Calculate'!H2216,\"\")","v":""},{"$f":"IF(L2212<>\"\",'Step 2) Calculate'!C2216,\"\")","v":""}]
[null,null,null,null,null,null,null,null,null,null,{"$f":"IF(L2213<>\"\",'Step 2) Calculate'!B2217,\"Zzzzz - delete row\")","v":"Zzzzz - delete row"},{"$f":"IF('Step 2) Calculate'!E2217<>\"\",'Step 2) Calculate'!G2217,\"\")","v":""},{"$f":"IF(L2213<>\"\",'Step 2) Calculate'!F2217,\"\")","v":""},{"$f":"IF(L2213<>\"\",'Step 2) Calculate'!H2217,\"\")","v":""},{"$f":"IF(L2213<>\"\",'Step 2) Calculate'!C2217,\"\")","v":""}]
[null,null,null,null,null,null,null,null,null,null,{"$f":"IF(L2214<>\"\",'Step 2) Calculate'!B2218,\"Zzzzz - delete row\")","v":"Zzzzz - delete row"},{"$f":"IF('Step 2) Calculate'!E2218<>\"\",'Step 2) Calculate'!G2218,\"\")","v":""},{"$f":"IF(L2214<>\"\",'Step 2) Calculate'!F2218,\"\")","v":""},{"$f":"IF(L2214<>\"\",'Step 2) Calculate'!H2218,\"\")","v":""},{"$f":"IF(L2214<>\"\",'Step 2) Calculate'!C2218,\"\")","v":""}]
[null,null,null,null,null,null,null,null,null,null,{"$f":"IF(L2215<>\"\",'Step 2) Calculate'!B2219,\"Zzzzz - delete row\")","v":"Zzzzz - delete row"},{"$f":"IF('Step 2) Calculate'!E2219<>\"\",'Step 2) Calculate'!G2219,\"\")","v":""},{"$f":"IF(L2215<>\"\",'Step 2) Calculate'!F2219,\"\")","v":""},{"$f":"IF(L2215<>\"\",'Step 2) Calculate'!H2219,\"\")","v":""},{"$f":"IF(L2215<>\"\",'Step 2) Calculate'!C2219,\"\")","v":""}]
[null,null,null,null,null,null,null,null,null,null,{"$f":"IF(L2216<>\"\",'Step 2) Calculate'!B2220,\"Zzzzz - delete row\")","v":"Zzzzz - delete row"},{"$f":"IF('Step 2) Calculate'!E2220<>\"\",'Step 2) Calculate'!G2220,\"\")","v":""},{"$f":"IF(L2216<>\"\",'Step 2) Calculate'!F2220,\"\")","v":""},{"$f":"IF(L2216<>\"\",'Step 2) Calculate'!H2220,\"\")","v":""},{"$f":"IF(L2216<>\"\",'Step 2) Calculate'!C2220,\"\")","v":""}]
[null,null,null,null,null,null,null,null,null,null,{"$f":"IF(L2217<>\"\",'Step 2) Calculate'!B2221,\"Zzzzz - delete row\")","v":"Zzzzz - delete row"},{"$f":"IF('Step 2) Calculate'!E2221<>\"\",'Step 2) Calculate'!G2221,\"\")","v":""},{"$f":"IF(L2217<>\"\",'Step 2) Calculate'!F2221,\"\")","v":""},{"$f":"IF(L2217<>\"\",'Step 2) Calculate'!H2221,\"\")","v":""},{"$f":"IF(L2217<>\"\",'Step 2) Calculate'!C2221,\"\")","v":""}]
[null,null,null,null,null,null,null,null,null,null,{"$f":"IF(L2218<>\"\",'Step 2) Calculate'!B2222,\"Zzzzz - delete row\")","v":"Zzzzz - delete row"},{"$f":"IF('Step 2) Calculate'!E2222<>\"\",'Step 2) Calculate'!G2222,\"\")","v":""},{"$f":"IF(L2218<>\"\",'Step 2) Calculate'!F2222,\"\")","v":""},{"$f":"IF(L2218<>\"\",'Step 2) Calculate'!H2222,\"\")","v":""},{"$f":"IF(L2218<>\"\",'Step 2) Calculate'!C2222,\"\")","v":""}]
[null,null,null,null,null,null,null,null,null,null,{"$f":"IF(L2219<>\"\",'Step 2) Calculate'!B2223,\"Zzzzz - delete row\")","v":"Zzzzz - delete row"},{"$f":"IF('Step 2) Calculate'!E2223<>\"\",'Step 2) Calculate'!G2223,\"\")","v":""},{"$f":"IF(L2219<>\"\",'Step 2) Calculate'!F2223,\"\")","v":""},{"$f":"IF(L2219<>\"\",'Step 2) Calculate'!H2223,\"\")","v":""},{"$f":"IF(L2219<>\"\",'Step 2) Calculate'!C2223,\"\")","v":""}]
[null,null,null,null,null,null,null,null,null,null,{"$f":"IF(L2220<>\"\",'Step 2) Calculate'!B2224,\"Zzzzz - delete row\")","v":"Zzzzz - delete row"},{"$f":"IF('Step 2) Calculate'!E2224<>\"\",'Step 2) Calculate'!G2224,\"\")","v":""},{"$f":"IF(L2220<>\"\",'Step 2) Calculate'!F2224,\"\")","v":""},{"$f":"IF(L2220<>\"\",'Step 2) Calculate'!H2224,\"\")","v":""},{"$f":"IF(L2220<>\"\",'Step 2) Calculate'!C2224,\"\")","v":""}]
[null,null,null,null,null,null,null,null,null,null,{"$f":"IF(L2221<>\"\",'Step 2) Calculate'!B2225,\"Zzzzz - delete row\")","v":"Zzzzz - delete row"},{"$f":"IF('Step 2) Calculate'!E2225<>\"\",'Step 2) Calculate'!G2225,\"\")","v":""},{"$f":"IF(L2221<>\"\",'Step 2) Calculate'!F2225,\"\")","v":""},{"$f":"IF(L2221<>\"\",'Step 2) Calculate'!H2225,\"\")","v":""},{"$f":"IF(L2221<>\"\",'Step 2) Calculate'!C2225,\"\")","v":""}]
[null,null,null,null,null,null,null,null,null,null,{"$f":"IF(L2222<>\"\",'Step 2) Calculate'!B2226,\"Zzzzz - delete row\")","v":"Zzzzz - delete row"},{"$f":"IF('Step 2) Calculate'!E2226<>\"\",'Step 2) Calculate'!G2226,\"\")","v":""},{"$f":"IF(L2222<>\"\",'Step 2) Calculate'!F2226,\"\")","v":""},{"$f":"IF(L2222<>\"\",'Step 2) Calculate'!H2226,\"\")","v":""},{"$f":"IF(L2222<>\"\",'Step 2) Calculate'!C2226,\"\")","v":""}]
[null,null,null,null,null,null,null,null,null,null,{"$f":"IF(L2223<>\"\",'Step 2) Calculate'!B2227,\"Zzzzz - delete row\")","v":"Zzzzz - delete row"},{"$f":"IF('Step 2) Calculate'!E2227<>\"\",'Step 2) Calculate'!G2227,\"\")","v":""},{"$f":"IF(L2223<>\"\",'Step 2) Calculate'!F2227,\"\")","v":""},{"$f":"IF(L2223<>\"\",'Step 2) Calculate'!H2227,\"\")","v":""},{"$f":"IF(L2223<>\"\",'Step 2) Calculate'!C2227,\"\")","v":""}]
[null,null,null,null,null,null,null,null,null,null,{"$f":"IF(L2224<>\"\",'Step 2) Calculate'!B2228,\"Zzzzz - delete row\")","v":"Zzzzz - delete row"},{"$f":"IF('Step 2) Calculate'!E2228<>\"\",'Step 2) Calculate'!G2228,\"\")","v":""},{"$f":"IF(L2224<>\"\",'Step 2) Calculate'!F2228,\"\")","v":""},{"$f":"IF(L2224<>\"\",'Step 2) Calculate'!H2228,\"\")","v":""},{"$f":"IF(L2224<>\"\",'Step 2) Calculate'!C2228,\"\")","v":""}]
[null,null,null,null,null,null,null,null,null,null,{"$f":"IF(L2225<>\"\",'Step 2) Calculate'!B2229,\"Zzzzz - delete row\")","v":"Zzzzz - delete row"},{"$f":"IF('Step 2) Calculate'!E2229<>\"\",'Step 2) Calculate'!G2229,\"\")","v":""},{"$f":"IF(L2225<>\"\",'Step 2) Calculate'!F2229,\"\")","v":""},{"$f":"IF(L2225<>\"\",'Step 2) Calculate'!H2229,\"\")","v":""},{"$f":"IF(L2225<>\"\",'Step 2) Calculate'!C2229,\"\")","v":""}]
[null,null,null,null,null,null,null,null,null,null,{"$f":"IF(L2226<>\"\",'Step 2) Calculate'!B2230,\"Zzzzz - delete row\")","v":"Zzzzz - delete row"},{"$f":"IF('Step 2) Calculate'!E2230<>\"\",'Step 2) Calculate'!G2230,\"\")","v":""},{"$f":"IF(L2226<>\"\",'Step 2) Calculate'!F2230,\"\")","v":""},{"$f":"IF(L2226<>\"\",'Step 2) Calculate'!H2230,\"\")","v":""},{"$f":"IF(L2226<>\"\",'Step 2) Calculate'!C2230,\"\")","v":""}]
[null,null,null,null,null,null,null,null,null,null,{"$f":"IF(L2227<>\"\",'Step 2) Calculate'!B2231,\"Zzzzz - delete row\")","v":"Zzzzz - delete row"},{"$f":"IF('Step 2) Calculate'!E2231<>\"\",'Step 2) Calculate'!G2231,\"\")","v":""},{"$f":"IF(L2227<>\"\",'Step 2) Calculate'!F2231,\"\")","v":""},{"$f":"IF(L2227<>\"\",'Step 2) Calculate'!H2231,\"\")","v":""},{"$f":"IF(L2227<>\"\",'Step 2) Calculate'!C2231,\"\")","v":""}]
[null,null,null,null,null,null,null,null,null,null,{"$f":"IF(L2228<>\"\",'Step 2) Calculate'!B2232,\"Zzzzz - delete row\")","v":"Zzzzz - delete row"},{"$f":"IF('Step 2) Calculate'!E2232<>\"\",'Step 2) Calculate'!G2232,\"\")","v":""},{"$f":"IF(L2228<>\"\",'Step 2) Calculate'!F2232,\"\")","v":""},{"$f":"IF(L2228<>\"\",'Step 2) Calculate'!H2232,\"\")","v":""},{"$f":"IF(L2228<>\"\",'Step 2) Calculate'!C2232,\"\")","v":""}]
[null,null,null,null,null,null,null,null,null,null,{"$f":"IF(L2229<>\"\",'Step 2) Calculate'!B2233,\"Zzzzz - delete row\")","v":"Zzzzz - delete row"},{"$f":"IF('Step 2) Calculate'!E2233<>\"\",'Step 2) Calculate'!G2233,\"\")","v":""},{"$f":"IF(L2229<>\"\",'Step 2) Calculate'!F2233,\"\")","v":""},{"$f":"IF(L2229<>\"\",'Step 2) Calculate'!H2233,\"\")","v":""},{"$f":"IF(L2229<>\"\",'Step 2) Calculate'!C2233,\"\")","v":""}]
[null,null,null,null,null,null,null,null,null,null,{"$f":"IF(L2230<>\"\",'Step 2) Calculate'!B2234,\"Zzzzz - delete row\")","v":"Zzzzz - delete row"},{"$f":"IF('Step 2) Calculate'!E2234<>\"\",'Step 2) Calculate'!G2234,\"\")","v":""},{"$f":"IF(L2230<>\"\",'Step 2) Calculate'!F2234,\"\")","v":""},{"$f":"IF(L2230<>\"\",'Step 2) Calculate'!H2234,\"\")","v":""},{"$f":"IF(L2230<>\"\",'Step 2) Calculate'!C2234,\"\")","v":""}]
[null,null,null,null,null,null,null,null,null,null,{"$f":"IF(L2231<>\"\",'Step 2) Calculate'!B2235,\"Zzzzz - delete row\")","v":"Zzzzz - delete row"},{"$f":"IF('Step 2) Calculate'!E2235<>\"\",'Step 2) Calculate'!G2235,\"\")","v":""},{"$f":"IF(L2231<>\"\",'Step 2) Calculate'!F2235,\"\")","v":""},{"$f":"IF(L2231<>\"\",'Step 2) Calculate'!H2235,\"\")","v":""},{"$f":"IF(L2231<>\"\",'Step 2) Calculate'!C2235,\"\")","v":""}]
[null,null,null,null,null,null,null,null,null,null,{"$f":"IF(L2232<>\"\",'Step 2) Calculate'!B2236,\"Zzzzz - delete row\")","v":"Zzzzz - delete row"},{"$f":"IF('Step 2) Calculate'!E2236<>\"\",'Step 2) Calculate'!G2236,\"\")","v":""},{"$f":"IF(L2232<>\"\",'Step 2) Calculate'!F2236,\"\")","v":""},{"$f":"IF(L2232<>\"\",'Step 2) Calculate'!H2236,\"\")","v":""},{"$f":"IF(L2232<>\"\",'Step 2) Calculate'!C2236,\"\")","v":""}]
[null,null,null,null,null,null,null,null,null,null,{"$f":"IF(L2233<>\"\",'Step 2) Calculate'!B2237,\"Zzzzz - delete row\")","v":"Zzzzz - delete row"},{"$f":"IF('Step 2) Calculate'!E2237<>\"\",'Step 2) Calculate'!G2237,\"\")","v":""},{"$f":"IF(L2233<>\"\",'Step 2) Calculate'!F2237,\"\")","v":""},{"$f":"IF(L2233<>\"\",'Step 2) Calculate'!H2237,\"\")","v":""},{"$f":"IF(L2233<>\"\",'Step 2) Calculate'!C2237,\"\")","v":""}]
[null,null,null,null,null,null,null,null,null,null,{"$f":"IF(L2234<>\"\",'Step 2) Calculate'!B2238,\"Zzzzz - delete row\")","v":"Zzzzz - delete row"},{"$f":"IF('Step 2) Calculate'!E2238<>\"\",'Step 2) Calculate'!G2238,\"\")","v":""},{"$f":"IF(L2234<>\"\",'Step 2) Calculate'!F2238,\"\")","v":""},{"$f":"IF(L2234<>\"\",'Step 2) Calculate'!H2238,\"\")","v":""},{"$f":"IF(L2234<>\"\",'Step 2) Calculate'!C2238,\"\")","v":""}]
[null,null,null,null,null,null,null,null,null,null,{"$f":"IF(L2235<>\"\",'Step 2) Calculate'!B2239,\"Zzzzz - delete row\")","v":"Zzzzz - delete row"},{"$f":"IF('Step 2) Calculate'!E2239<>\"\",'Step 2) Calculate'!G2239,\"\")","v":""},{"$f":"IF(L2235<>\"\",'Step 2) Calculate'!F2239,\"\")","v":""},{"$f":"IF(L2235<>\"\",'Step 2) Calculate'!H2239,\"\")","v":""},{"$f":"IF(L2235<>\"\",'Step 2) Calculate'!C2239,\"\")","v":""}]
[null,null,null,null,null,null,null,null,null,null,{"$f":"IF(L2236<>\"\",'Step 2) Calculate'!B2240,\"Zzzzz - delete row\")","v":"Zzzzz - delete row"},{"$f":"IF('Step 2) Calculate'!E2240<>\"\",'Step 2) Calculate'!G2240,\"\")","v":""},{"$f":"IF(L2236<>\"\",'Step 2) Calculate'!F2240,\"\")","v":""},{"$f":"IF(L2236<>\"\",'Step 2) Calculate'!H2240,\"\")","v":""},{"$f":"IF(L2236<>\"\",'Step 2) Calculate'!C2240,\"\")","v":""}]
[null,null,null,null,null,null,null,null,null,null,{"$f":"IF(L2237<>\"\",'Step 2) Calculate'!B2241,\"Zzzzz - delete row\")","v":"Zzzzz - delete row"},{"$f":"IF('Step 2) Calculate'!E2241<>\"\",'Step 2) Calculate'!G2241,\"\")","v":""},{"$f":"IF(L2237<>\"\",'Step 2) Calculate'!F2241,\"\")","v":""},{"$f":"IF(L2237<>\"\",'Step 2) Calculate'!H2241,\"\")","v":""},{"$f":"IF(L2237<>\"\",'Step 2) Calculate'!C2241,\"\")","v":""}]
[null,null,null,null,null,null,null,null,null,null,{"$f":"IF(L2238<>\"\",'Step 2) Calculate'!B2242,\"Zzzzz - delete row\")","v":"Zzzzz - delete row"},{"$f":"IF('Step 2) Calculate'!E2242<>\"\",'Step 2) Calculate'!G2242,\"\")","v":""},{"$f":"IF(L2238<>\"\",'Step 2) Calculate'!F2242,\"\")","v":""},{"$f":"IF(L2238<>\"\",'Step 2) Calculate'!H2242,\"\")","v":""},{"$f":"IF(L2238<>\"\",'Step 2) Calculate'!C2242,\"\")","v":""}]
[null,null,null,null,null,null,null,null,null,null,{"$f":"IF(L2239<>\"\",'Step 2) Calculate'!B2243,\"Zzzzz - delete row\")","v":"Zzzzz - delete row"},{"$f":"IF('Step 2) Calculate'!E2243<>\"\",'Step 2) Calculate'!G2243,\"\")","v":""},{"$f":"IF(L2239<>\"\",'Step 2) Calculate'!F2243,\"\")","v":""},{"$f":"IF(L2239<>\"\",'Step 2) Calculate'!H2243,\"\")","v":""},{"$f":"IF(L2239<>\"\",'Step 2) Calculate'!C2243,\"\")","v":""}]
[null,null,null,null,null,null,null,null,null,null,{"$f":"IF(L2240<>\"\",'Step 2) Calculate'!B2244,\"Zzzzz - delete row\")","v":"Zzzzz - delete row"},{"$f":"IF('Step 2) Calculate'!E2244<>\"\",'Step 2) Calculate'!G2244,\"\")","v":""},{"$f":"IF(L2240<>\"\",'Step 2) Calculate'!F2244,\"\")","v":""},{"$f":"IF(L2240<>\"\",'Step 2) Calculate'!H2244,\"\")","v":""},{"$f":"IF(L2240<>\"\",'Step 2) Calculate'!C2244,\"\")","v":""}]
[null,null,null,null,null,null,null,null,null,null,{"$f":"IF(L2241<>\"\",'Step 2) Calculate'!B2245,\"Zzzzz - delete row\")","v":"Zzzzz - delete row"},{"$f":"IF('Step 2) Calculate'!E2245<>\"\",'Step 2) Calculate'!G2245,\"\")","v":""},{"$f":"IF(L2241<>\"\",'Step 2) Calculate'!F2245,\"\")","v":""},{"$f":"IF(L2241<>\"\",'Step 2) Calculate'!H2245,\"\")","v":""},{"$f":"IF(L2241<>\"\",'Step 2) Calculate'!C2245,\"\")","v":""}]
[null,null,null,null,null,null,null,null,null,null,{"$f":"IF(L2242<>\"\",'Step 2) Calculate'!B2246,\"Zzzzz - delete row\")","v":"Zzzzz - delete row"},{"$f":"IF('Step 2) Calculate'!E2246<>\"\",'Step 2) Calculate'!G2246,\"\")","v":""},{"$f":"IF(L2242<>\"\",'Step 2) Calculate'!F2246,\"\")","v":""},{"$f":"IF(L2242<>\"\",'Step 2) Calculate'!H2246,\"\")","v":""},{"$f":"IF(L2242<>\"\",'Step 2) Calculate'!C2246,\"\")","v":""}]
[null,null,null,null,null,null,null,null,null,null,{"$f":"IF(L2243<>\"\",'Step 2) Calculate'!B2247,\"Zzzzz - delete row\")","v":"Zzzzz - delete row"},{"$f":"IF('Step 2) Calculate'!E2247<>\"\",'Step 2) Calculate'!G2247,\"\")","v":""},{"$f":"IF(L2243<>\"\",'Step 2) Calculate'!F2247,\"\")","v":""},{"$f":"IF(L2243<>\"\",'Step 2) Calculate'!H2247,\"\")","v":""},{"$f":"IF(L2243<>\"\",'Step 2) Calculate'!C2247,\"\")","v":""}]
[null,null,null,null,null,null,null,null,null,null,{"$f":"IF(L2244<>\"\",'Step 2) Calculate'!B2248,\"Zzzzz - delete row\")","v":"Zzzzz - delete row"},{"$f":"IF('Step 2) Calculate'!E2248<>\"\",'Step 2) Calculate'!G2248,\"\")","v":""},{"$f":"IF(L2244<>\"\",'Step 2) Calculate'!F2248,\"\")","v":""},{"$f":"IF(L2244<>\"\",'Step 2) Calculate'!H2248,\"\")","v":""},{"$f":"IF(L2244<>\"\",'Step 2) Calculate'!C2248,\"\")","v":""}]
[null,null,null,null,null,null,null,null,null,null,{"$f":"IF(L2245<>\"\",'Step 2) Calculate'!B2249,\"Zzzzz - delete row\")","v":"Zzzzz - delete row"},{"$f":"IF('Step 2) Calculate'!E2249<>\"\",'Step 2) Calculate'!G2249,\"\")","v":""},{"$f":"IF(L2245<>\"\",'Step 2) Calculate'!F2249,\"\")","v":""},{"$f":"IF(L2245<>\"\",'Step 2) Calculate'!H2249,\"\")","v":""},{"$f":"IF(L2245<>\"\",'Step 2) Calculate'!C2249,\"\")","v":""}]
[null,null,null,null,null,null,null,null,null,null,{"$f":"IF(L2246<>\"\",'Step 2) Calculate'!B2250,\"Zzzzz - delete row\")","v":"Zzzzz - delete row"},{"$f":"IF('Step 2) Calculate'!E2250<>\"\",'Step 2) Calculate'!G2250,\"\")","v":""},{"$f":"IF(L2246<>\"\",'Step 2) Calculate'!F2250,\"\")","v":""},{"$f":"IF(L2246<>\"\",'Step 2) Calculate'!H2250,\"\")","v":""},{"$f":"IF(L2246<>\"\",'Step 2) Calculate'!C2250,\"\")","v":""}]
[null,null,null,null,null,null,null,null,null,null,{"$f":"IF(L2247<>\"\",'Step 2) Calculate'!B2251,\"Zzzzz - delete row\")","v":"Zzzzz - delete row"},{"$f":"IF('Step 2) Calculate'!E2251<>\"\",'Step 2) Calculate'!G2251,\"\")","v":""},{"$f":"IF(L2247<>\"\",'Step 2) Calculate'!F2251,\"\")","v":""},{"$f":"IF(L2247<>\"\",'Step 2) Calculate'!H2251,\"\")","v":""},{"$f":"IF(L2247<>\"\",'Step 2) Calculate'!C2251,\"\")","v":""}]
[null,null,null,null,null,null,null,null,null,null,{"$f":"IF(L2248<>\"\",'Step 2) Calculate'!B2252,\"Zzzzz - delete row\")","v":"Zzzzz - delete row"},{"$f":"IF('Step 2) Calculate'!E2252<>\"\",'Step 2) Calculate'!G2252,\"\")","v":""},{"$f":"IF(L2248<>\"\",'Step 2) Calculate'!F2252,\"\")","v":""},{"$f":"IF(L2248<>\"\",'Step 2) Calculate'!H2252,\"\")","v":""},{"$f":"IF(L2248<>\"\",'Step 2) Calculate'!C2252,\"\")","v":""}]
[null,null,null,null,null,null,null,null,null,null,{"$f":"IF(L2249<>\"\",'Step 2) Calculate'!B2253,\"Zzzzz - delete row\")","v":"Zzzzz - delete row"},{"$f":"IF('Step 2) Calculate'!E2253<>\"\",'Step 2) Calculate'!G2253,\"\")","v":""},{"$f":"IF(L2249<>\"\",'Step 2) Calculate'!F2253,\"\")","v":""},{"$f":"IF(L2249<>\"\",'Step 2) Calculate'!H2253,\"\")","v":""},{"$f":"IF(L2249<>\"\",'Step 2) Calculate'!C2253,\"\")","v":""}]
[null,null,null,null,null,null,null,null,null,null,{"$f":"IF(L2250<>\"\",'Step 2) Calculate'!B2254,\"Zzzzz - delete row\")","v":"Zzzzz - delete row"},{"$f":"IF('Step 2) Calculate'!E2254<>\"\",'Step 2) Calculate'!G2254,\"\")","v":""},{"$f":"IF(L2250<>\"\",'Step 2) Calculate'!F2254,\"\")","v":""},{"$f":"IF(L2250<>\"\",'Step 2) Calculate'!H2254,\"\")","v":""},{"$f":"IF(L2250<>\"\",'Step 2) Calculate'!C2254,\"\")","v":""}]
[null,null,null,null,null,null,null,null,null,null,{"$f":"IF(L2251<>\"\",'Step 2) Calculate'!B2255,\"Zzzzz - delete row\")","v":"Zzzzz - delete row"},{"$f":"IF('Step 2) Calculate'!E2255<>\"\",'Step 2) Calculate'!G2255,\"\")","v":""},{"$f":"IF(L2251<>\"\",'Step 2) Calculate'!F2255,\"\")","v":""},{"$f":"IF(L2251<>\"\",'Step 2) Calculate'!H2255,\"\")","v":""},{"$f":"IF(L2251<>\"\",'Step 2) Calculate'!C2255,\"\")","v":""}]
[null,null,null,null,null,null,null,null,null,null,{"$f":"IF(L2252<>\"\",'Step 2) Calculate'!B2256,\"Zzzzz - delete row\")","v":"Zzzzz - delete row"},{"$f":"IF('Step 2) Calculate'!E2256<>\"\",'Step 2) Calculate'!G2256,\"\")","v":""},{"$f":"IF(L2252<>\"\",'Step 2) Calculate'!F2256,\"\")","v":""},{"$f":"IF(L2252<>\"\",'Step 2) Calculate'!H2256,\"\")","v":""},{"$f":"IF(L2252<>\"\",'Step 2) Calculate'!C2256,\"\")","v":""}]
[null,null,null,null,null,null,null,null,null,null,{"$f":"IF(L2253<>\"\",'Step 2) Calculate'!B2257,\"Zzzzz - delete row\")","v":"Zzzzz - delete row"},{"$f":"IF('Step 2) Calculate'!E2257<>\"\",'Step 2) Calculate'!G2257,\"\")","v":""},{"$f":"IF(L2253<>\"\",'Step 2) Calculate'!F2257,\"\")","v":""},{"$f":"IF(L2253<>\"\",'Step 2) Calculate'!H2257,\"\")","v":""},{"$f":"IF(L2253<>\"\",'Step 2) Calculate'!C2257,\"\")","v":""}]
[null,null,null,null,null,null,null,null,null,null,{"$f":"IF(L2254<>\"\",'Step 2) Calculate'!B2258,\"Zzzzz - delete row\")","v":"Zzzzz - delete row"},{"$f":"IF('Step 2) Calculate'!E2258<>\"\",'Step 2) Calculate'!G2258,\"\")","v":""},{"$f":"IF(L2254<>\"\",'Step 2) Calculate'!F2258,\"\")","v":""},{"$f":"IF(L2254<>\"\",'Step 2) Calculate'!H2258,\"\")","v":""},{"$f":"IF(L2254<>\"\",'Step 2) Calculate'!C2258,\"\")","v":""}]
[null,null,null,null,null,null,null,null,null,null,{"$f":"IF(L2255<>\"\",'Step 2) Calculate'!B2259,\"Zzzzz - delete row\")","v":"Zzzzz - delete row"},{"$f":"IF('Step 2) Calculate'!E2259<>\"\",'Step 2) Calculate'!G2259,\"\")","v":""},{"$f":"IF(L2255<>\"\",'Step 2) Calculate'!F2259,\"\")","v":""},{"$f":"IF(L2255<>\"\",'Step 2) Calculate'!H2259,\"\")","v":""},{"$f":"IF(L2255<>\"\",'Step 2) Calculate'!C2259,\"\")","v":""}]
[null,null,null,null,null,null,null,null,null,null,{"$f":"IF(L2256<>\"\",'Step 2) Calculate'!B2260,\"Zzzzz - delete row\")","v":"Zzzzz - delete row"},{"$f":"IF('Step 2) Calculate'!E2260<>\"\",'Step 2) Calculate'!G2260,\"\")","v":""},{"$f":"IF(L2256<>\"\",'Step 2) Calculate'!F2260,\"\")","v":""},{"$f":"IF(L2256<>\"\",'Step 2) Calculate'!H2260,\"\")","v":""},{"$f":"IF(L2256<>\"\",'Step 2) Calculate'!C2260,\"\")","v":""}]
[null,null,null,null,null,null,null,null,null,null,{"$f":"IF(L2257<>\"\",'Step 2) Calculate'!B2261,\"Zzzzz - delete row\")","v":"Zzzzz - delete row"},{"$f":"IF('Step 2) Calculate'!E2261<>\"\",'Step 2) Calculate'!G2261,\"\")","v":""},{"$f":"IF(L2257<>\"\",'Step 2) Calculate'!F2261,\"\")","v":""},{"$f":"IF(L2257<>\"\",'Step 2) Calculate'!H2261,\"\")","v":""},{"$f":"IF(L2257<>\"\",'Step 2) Calculate'!C2261,\"\")","v":""}]
[null,null,null,null,null,null,null,null,null,null,{"$f":"IF(L2258<>\"\",'Step 2) Calculate'!B2262,\"Zzzzz - delete row\")","v":"Zzzzz - delete row"},{"$f":"IF('Step 2) Calculate'!E2262<>\"\",'Step 2) Calculate'!G2262,\"\")","v":""},{"$f":"IF(L2258<>\"\",'Step 2) Calculate'!F2262,\"\")","v":""},{"$f":"IF(L2258<>\"\",'Step 2) Calculate'!H2262,\"\")","v":""},{"$f":"IF(L2258<>\"\",'Step 2) Calculate'!C2262,\"\")","v":""}]
[null,null,null,null,null,null,null,null,null,null,{"$f":"IF(L2259<>\"\",'Step 2) Calculate'!B2263,\"Zzzzz - delete row\")","v":"Zzzzz - delete row"},{"$f":"IF('Step 2) Calculate'!E2263<>\"\",'Step 2) Calculate'!G2263,\"\")","v":""},{"$f":"IF(L2259<>\"\",'Step 2) Calculate'!F2263,\"\")","v":""},{"$f":"IF(L2259<>\"\",'Step 2) Calculate'!H2263,\"\")","v":""},{"$f":"IF(L2259<>\"\",'Step 2) Calculate'!C2263,\"\")","v":""}]
[null,null,null,null,null,null,null,null,null,null,{"$f":"IF(L2260<>\"\",'Step 2) Calculate'!B2264,\"Zzzzz - delete row\")","v":"Zzzzz - delete row"},{"$f":"IF('Step 2) Calculate'!E2264<>\"\",'Step 2) Calculate'!G2264,\"\")","v":""},{"$f":"IF(L2260<>\"\",'Step 2) Calculate'!F2264,\"\")","v":""},{"$f":"IF(L2260<>\"\",'Step 2) Calculate'!H2264,\"\")","v":""},{"$f":"IF(L2260<>\"\",'Step 2) Calculate'!C2264,\"\")","v":""}]
[null,null,null,null,null,null,null,null,null,null,{"$f":"IF(L2261<>\"\",'Step 2) Calculate'!B2265,\"Zzzzz - delete row\")","v":"Zzzzz - delete row"},{"$f":"IF('Step 2) Calculate'!E2265<>\"\",'Step 2) Calculate'!G2265,\"\")","v":""},{"$f":"IF(L2261<>\"\",'Step 2) Calculate'!F2265,\"\")","v":""},{"$f":"IF(L2261<>\"\",'Step 2) Calculate'!H2265,\"\")","v":""},{"$f":"IF(L2261<>\"\",'Step 2) Calculate'!C2265,\"\")","v":""}]
[null,null,null,null,null,null,null,null,null,null,{"$f":"IF(L2262<>\"\",'Step 2) Calculate'!B2266,\"Zzzzz - delete row\")","v":"Zzzzz - delete row"},{"$f":"IF('Step 2) Calculate'!E2266<>\"\",'Step 2) Calculate'!G2266,\"\")","v":""},{"$f":"IF(L2262<>\"\",'Step 2) Calculate'!F2266,\"\")","v":""},{"$f":"IF(L2262<>\"\",'Step 2) Calculate'!H2266,\"\")","v":""},{"$f":"IF(L2262<>\"\",'Step 2) Calculate'!C2266,\"\")","v":""}]
[null,null,null,null,null,null,null,null,null,null,{"$f":"IF(L2263<>\"\",'Step 2) Calculate'!B2267,\"Zzzzz - delete row\")","v":"Zzzzz - delete row"},{"$f":"IF('Step 2) Calculate'!E2267<>\"\",'Step 2) Calculate'!G2267,\"\")","v":""},{"$f":"IF(L2263<>\"\",'Step 2) Calculate'!F2267,\"\")","v":""},{"$f":"IF(L2263<>\"\",'Step 2) Calculate'!H2267,\"\")","v":""},{"$f":"IF(L2263<>\"\",'Step 2) Calculate'!C2267,\"\")","v":""}]
[null,null,null,null,null,null,null,null,null,null,{"$f":"IF(L2264<>\"\",'Step 2) Calculate'!B2268,\"Zzzzz - delete row\")","v":"Zzzzz - delete row"},{"$f":"IF('Step 2) Calculate'!E2268<>\"\",'Step 2) Calculate'!G2268,\"\")","v":""},{"$f":"IF(L2264<>\"\",'Step 2) Calculate'!F2268,\"\")","v":""},{"$f":"IF(L2264<>\"\",'Step 2) Calculate'!H2268,\"\")","v":""},{"$f":"IF(L2264<>\"\",'Step 2) Calculate'!C2268,\"\")","v":""}]
[null,null,null,null,null,null,null,null,null,null,{"$f":"IF(L2265<>\"\",'Step 2) Calculate'!B2269,\"Zzzzz - delete row\")","v":"Zzzzz - delete row"},{"$f":"IF('Step 2) Calculate'!E2269<>\"\",'Step 2) Calculate'!G2269,\"\")","v":""},{"$f":"IF(L2265<>\"\",'Step 2) Calculate'!F2269,\"\")","v":""},{"$f":"IF(L2265<>\"\",'Step 2) Calculate'!H2269,\"\")","v":""},{"$f":"IF(L2265<>\"\",'Step 2) Calculate'!C2269,\"\")","v":""}]
[null,null,null,null,null,null,null,null,null,null,{"$f":"IF(L2266<>\"\",'Step 2) Calculate'!B2270,\"Zzzzz - delete row\")","v":"Zzzzz - delete row"},{"$f":"IF('Step 2) Calculate'!E2270<>\"\",'Step 2) Calculate'!G2270,\"\")","v":""},{"$f":"IF(L2266<>\"\",'Step 2) Calculate'!F2270,\"\")","v":""},{"$f":"IF(L2266<>\"\",'Step 2) Calculate'!H2270,\"\")","v":""},{"$f":"IF(L2266<>\"\",'Step 2) Calculate'!C2270,\"\")","v":""}]
[null,null,null,null,null,null,null,null,null,null,{"$f":"IF(L2267<>\"\",'Step 2) Calculate'!B2271,\"Zzzzz - delete row\")","v":"Zzzzz - delete row"},{"$f":"IF('Step 2) Calculate'!E2271<>\"\",'Step 2) Calculate'!G2271,\"\")","v":""},{"$f":"IF(L2267<>\"\",'Step 2) Calculate'!F2271,\"\")","v":""},{"$f":"IF(L2267<>\"\",'Step 2) Calculate'!H2271,\"\")","v":""},{"$f":"IF(L2267<>\"\",'Step 2) Calculate'!C2271,\"\")","v":""}]
[null,null,null,null,null,null,null,null,null,null,{"$f":"IF(L2268<>\"\",'Step 2) Calculate'!B2272,\"Zzzzz - delete row\")","v":"Zzzzz - delete row"},{"$f":"IF('Step 2) Calculate'!E2272<>\"\",'Step 2) Calculate'!G2272,\"\")","v":""},{"$f":"IF(L2268<>\"\",'Step 2) Calculate'!F2272,\"\")","v":""},{"$f":"IF(L2268<>\"\",'Step 2) Calculate'!H2272,\"\")","v":""},{"$f":"IF(L2268<>\"\",'Step 2) Calculate'!C2272,\"\")","v":""}]
[null,null,null,null,null,null,null,null,null,null,{"$f":"IF(L2269<>\"\",'Step 2) Calculate'!B2273,\"Zzzzz - delete row\")","v":"Zzzzz - delete row"},{"$f":"IF('Step 2) Calculate'!E2273<>\"\",'Step 2) Calculate'!G2273,\"\")","v":""},{"$f":"IF(L2269<>\"\",'Step 2) Calculate'!F2273,\"\")","v":""},{"$f":"IF(L2269<>\"\",'Step 2) Calculate'!H2273,\"\")","v":""},{"$f":"IF(L2269<>\"\",'Step 2) Calculate'!C2273,\"\")","v":""}]
[null,null,null,null,null,null,null,null,null,null,{"$f":"IF(L2270<>\"\",'Step 2) Calculate'!B2274,\"Zzzzz - delete row\")","v":"Zzzzz - delete row"},{"$f":"IF('Step 2) Calculate'!E2274<>\"\",'Step 2) Calculate'!G2274,\"\")","v":""},{"$f":"IF(L2270<>\"\",'Step 2) Calculate'!F2274,\"\")","v":""},{"$f":"IF(L2270<>\"\",'Step 2) Calculate'!H2274,\"\")","v":""},{"$f":"IF(L2270<>\"\",'Step 2) Calculate'!C2274,\"\")","v":""}]
[null,null,null,null,null,null,null,null,null,null,{"$f":"IF(L2271<>\"\",'Step 2) Calculate'!B2275,\"Zzzzz - delete row\")","v":"Zzzzz - delete row"},{"$f":"IF('Step 2) Calculate'!E2275<>\"\",'Step 2) Calculate'!G2275,\"\")","v":""},{"$f":"IF(L2271<>\"\",'Step 2) Calculate'!F2275,\"\")","v":""},{"$f":"IF(L2271<>\"\",'Step 2) Calculate'!H2275,\"\")","v":""},{"$f":"IF(L2271<>\"\",'Step 2) Calculate'!C2275,\"\")","v":""}]
[null,null,null,null,null,null,null,null,null,null,{"$f":"IF(L2272<>\"\",'Step 2) Calculate'!B2276,\"Zzzzz - delete row\")","v":"Zzzzz - delete row"},{"$f":"IF('Step 2) Calculate'!E2276<>\"\",'Step 2) Calculate'!G2276,\"\")","v":""},{"$f":"IF(L2272<>\"\",'Step 2) Calculate'!F2276,\"\")","v":""},{"$f":"IF(L2272<>\"\",'Step 2) Calculate'!H2276,\"\")","v":""},{"$f":"IF(L2272<>\"\",'Step 2) Calculate'!C2276,\"\")","v":""}]
[null,null,null,null,null,null,null,null,null,null,{"$f":"IF(L2273<>\"\",'Step 2) Calculate'!B2277,\"Zzzzz - delete row\")","v":"Zzzzz - delete row"},{"$f":"IF('Step 2) Calculate'!E2277<>\"\",'Step 2) Calculate'!G2277,\"\")","v":""},{"$f":"IF(L2273<>\"\",'Step 2) Calculate'!F2277,\"\")","v":""},{"$f":"IF(L2273<>\"\",'Step 2) Calculate'!H2277,\"\")","v":""},{"$f":"IF(L2273<>\"\",'Step 2) Calculate'!C2277,\"\")","v":""}]
[null,null,null,null,null,null,null,null,null,null,{"$f":"IF(L2274<>\"\",'Step 2) Calculate'!B2278,\"Zzzzz - delete row\")","v":"Zzzzz - delete row"},{"$f":"IF('Step 2) Calculate'!E2278<>\"\",'Step 2) Calculate'!G2278,\"\")","v":""},{"$f":"IF(L2274<>\"\",'Step 2) Calculate'!F2278,\"\")","v":""},{"$f":"IF(L2274<>\"\",'Step 2) Calculate'!H2278,\"\")","v":""},{"$f":"IF(L2274<>\"\",'Step 2) Calculate'!C2278,\"\")","v":""}]
[null,null,null,null,null,null,null,null,null,null,{"$f":"IF(L2275<>\"\",'Step 2) Calculate'!B2279,\"Zzzzz - delete row\")","v":"Zzzzz - delete row"},{"$f":"IF('Step 2) Calculate'!E2279<>\"\",'Step 2) Calculate'!G2279,\"\")","v":""},{"$f":"IF(L2275<>\"\",'Step 2) Calculate'!F2279,\"\")","v":""},{"$f":"IF(L2275<>\"\",'Step 2) Calculate'!H2279,\"\")","v":""},{"$f":"IF(L2275<>\"\",'Step 2) Calculate'!C2279,\"\")","v":""}]
[null,null,null,null,null,null,null,null,null,null,{"$f":"IF(L2276<>\"\",'Step 2) Calculate'!B2280,\"Zzzzz - delete row\")","v":"Zzzzz - delete row"},{"$f":"IF('Step 2) Calculate'!E2280<>\"\",'Step 2) Calculate'!G2280,\"\")","v":""},{"$f":"IF(L2276<>\"\",'Step 2) Calculate'!F2280,\"\")","v":""},{"$f":"IF(L2276<>\"\",'Step 2) Calculate'!H2280,\"\")","v":""},{"$f":"IF(L2276<>\"\",'Step 2) Calculate'!C2280,\"\")","v":""}]
[null,null,null,null,null,null,null,null,null,null,{"$f":"IF(L2277<>\"\",'Step 2) Calculate'!B2281,\"Zzzzz - delete row\")","v":"Zzzzz - delete row"},{"$f":"IF('Step 2) Calculate'!E2281<>\"\",'Step 2) Calculate'!G2281,\"\")","v":""},{"$f":"IF(L2277<>\"\",'Step 2) Calculate'!F2281,\"\")","v":""},{"$f":"IF(L2277<>\"\",'Step 2) Calculate'!H2281,\"\")","v":""},{"$f":"IF(L2277<>\"\",'Step 2) Calculate'!C2281,\"\")","v":""}]
[null,null,null,null,null,null,null,null,null,null,{"$f":"IF(L2278<>\"\",'Step 2) Calculate'!B2282,\"Zzzzz - delete row\")","v":"Zzzzz - delete row"},{"$f":"IF('Step 2) Calculate'!E2282<>\"\",'Step 2) Calculate'!G2282,\"\")","v":""},{"$f":"IF(L2278<>\"\",'Step 2) Calculate'!F2282,\"\")","v":""},{"$f":"IF(L2278<>\"\",'Step 2) Calculate'!H2282,\"\")","v":""},{"$f":"IF(L2278<>\"\",'Step 2) Calculate'!C2282,\"\")","v":""}]
[null,null,null,null,null,null,null,null,null,null,{"$f":"IF(L2279<>\"\",'Step 2) Calculate'!B2283,\"Zzzzz - delete row\")","v":"Zzzzz - delete row"},{"$f":"IF('Step 2) Calculate'!E2283<>\"\",'Step 2) Calculate'!G2283,\"\")","v":""},{"$f":"IF(L2279<>\"\",'Step 2) Calculate'!F2283,\"\")","v":""},{"$f":"IF(L2279<>\"\",'Step 2) Calculate'!H2283,\"\")","v":""},{"$f":"IF(L2279<>\"\",'Step 2) Calculate'!C2283,\"\")","v":""}]
[null,null,null,null,null,null,null,null,null,null,{"$f":"IF(L2280<>\"\",'Step 2) Calculate'!B2284,\"Zzzzz - delete row\")","v":"Zzzzz - delete row"},{"$f":"IF('Step 2) Calculate'!E2284<>\"\",'Step 2) Calculate'!G2284,\"\")","v":""},{"$f":"IF(L2280<>\"\",'Step 2) Calculate'!F2284,\"\")","v":""},{"$f":"IF(L2280<>\"\",'Step 2) Calculate'!H2284,\"\")","v":""},{"$f":"IF(L2280<>\"\",'Step 2) Calculate'!C2284,\"\")","v":""}]
[null,null,null,null,null,null,null,null,null,null,{"$f":"IF(L2281<>\"\",'Step 2) Calculate'!B2285,\"Zzzzz - delete row\")","v":"Zzzzz - delete row"},{"$f":"IF('Step 2) Calculate'!E2285<>\"\",'Step 2) Calculate'!G2285,\"\")","v":""},{"$f":"IF(L2281<>\"\",'Step 2) Calculate'!F2285,\"\")","v":""},{"$f":"IF(L2281<>\"\",'Step 2) Calculate'!H2285,\"\")","v":""},{"$f":"IF(L2281<>\"\",'Step 2) Calculate'!C2285,\"\")","v":""}]
[null,null,null,null,null,null,null,null,null,null,{"$f":"IF(L2282<>\"\",'Step 2) Calculate'!B2286,\"Zzzzz - delete row\")","v":"Zzzzz - delete row"},{"$f":"IF('Step 2) Calculate'!E2286<>\"\",'Step 2) Calculate'!G2286,\"\")","v":""},{"$f":"IF(L2282<>\"\",'Step 2) Calculate'!F2286,\"\")","v":""},{"$f":"IF(L2282<>\"\",'Step 2) Calculate'!H2286,\"\")","v":""},{"$f":"IF(L2282<>\"\",'Step 2) Calculate'!C2286,\"\")","v":""}]
[null,null,null,null,null,null,null,null,null,null,{"$f":"IF(L2283<>\"\",'Step 2) Calculate'!B2287,\"Zzzzz - delete row\")","v":"Zzzzz - delete row"},{"$f":"IF('Step 2) Calculate'!E2287<>\"\",'Step 2) Calculate'!G2287,\"\")","v":""},{"$f":"IF(L2283<>\"\",'Step 2) Calculate'!F2287,\"\")","v":""},{"$f":"IF(L2283<>\"\",'Step 2) Calculate'!H2287,\"\")","v":""},{"$f":"IF(L2283<>\"\",'Step 2) Calculate'!C2287,\"\")","v":""}]
[null,null,null,null,null,null,null,null,null,null,{"$f":"IF(L2284<>\"\",'Step 2) Calculate'!B2288,\"Zzzzz - delete row\")","v":"Zzzzz - delete row"},{"$f":"IF('Step 2) Calculate'!E2288<>\"\",'Step 2) Calculate'!G2288,\"\")","v":""},{"$f":"IF(L2284<>\"\",'Step 2) Calculate'!F2288,\"\")","v":""},{"$f":"IF(L2284<>\"\",'Step 2) Calculate'!H2288,\"\")","v":""},{"$f":"IF(L2284<>\"\",'Step 2) Calculate'!C2288,\"\")","v":""}]
[null,null,null,null,null,null,null,null,null,null,{"$f":"IF(L2285<>\"\",'Step 2) Calculate'!B2289,\"Zzzzz - delete row\")","v":"Zzzzz - delete row"},{"$f":"IF('Step 2) Calculate'!E2289<>\"\",'Step 2) Calculate'!G2289,\"\")","v":""},{"$f":"IF(L2285<>\"\",'Step 2) Calculate'!F2289,\"\")","v":""},{"$f":"IF(L2285<>\"\",'Step 2) Calculate'!H2289,\"\")","v":""},{"$f":"IF(L2285<>\"\",'Step 2) Calculate'!C2289,\"\")","v":""}]
[null,null,null,null,null,null,null,null,null,null,{"$f":"IF(L2286<>\"\",'Step 2) Calculate'!B2290,\"Zzzzz - delete row\")","v":"Zzzzz - delete row"},{"$f":"IF('Step 2) Calculate'!E2290<>\"\",'Step 2) Calculate'!G2290,\"\")","v":""},{"$f":"IF(L2286<>\"\",'Step 2) Calculate'!F2290,\"\")","v":""},{"$f":"IF(L2286<>\"\",'Step 2) Calculate'!H2290,\"\")","v":""},{"$f":"IF(L2286<>\"\",'Step 2) Calculate'!C2290,\"\")","v":""}]
[null,null,null,null,null,null,null,null,null,null,{"$f":"IF(L2287<>\"\",'Step 2) Calculate'!B2291,\"Zzzzz - delete row\")","v":"Zzzzz - delete row"},{"$f":"IF('Step 2) Calculate'!E2291<>\"\",'Step 2) Calculate'!G2291,\"\")","v":""},{"$f":"IF(L2287<>\"\",'Step 2) Calculate'!F2291,\"\")","v":""},{"$f":"IF(L2287<>\"\",'Step 2) Calculate'!H2291,\"\")","v":""},{"$f":"IF(L2287<>\"\",'Step 2) Calculate'!C2291,\"\")","v":""}]
[null,null,null,null,null,null,null,null,null,null,{"$f":"IF(L2288<>\"\",'Step 2) Calculate'!B2292,\"Zzzzz - delete row\")","v":"Zzzzz - delete row"},{"$f":"IF('Step 2) Calculate'!E2292<>\"\",'Step 2) Calculate'!G2292,\"\")","v":""},{"$f":"IF(L2288<>\"\",'Step 2) Calculate'!F2292,\"\")","v":""},{"$f":"IF(L2288<>\"\",'Step 2) Calculate'!H2292,\"\")","v":""},{"$f":"IF(L2288<>\"\",'Step 2) Calculate'!C2292,\"\")","v":""}]
[null,null,null,null,null,null,null,null,null,null,{"$f":"IF(L2289<>\"\",'Step 2) Calculate'!B2293,\"Zzzzz - delete row\")","v":"Zzzzz - delete row"},{"$f":"IF('Step 2) Calculate'!E2293<>\"\",'Step 2) Calculate'!G2293,\"\")","v":""},{"$f":"IF(L2289<>\"\",'Step 2) Calculate'!F2293,\"\")","v":""},{"$f":"IF(L2289<>\"\",'Step 2) Calculate'!H2293,\"\")","v":""},{"$f":"IF(L2289<>\"\",'Step 2) Calculate'!C2293,\"\")","v":""}]
[null,null,null,null,null,null,null,null,null,null,{"$f":"IF(L2290<>\"\",'Step 2) Calculate'!B2294,\"Zzzzz - delete row\")","v":"Zzzzz - delete row"},{"$f":"IF('Step 2) Calculate'!E2294<>\"\",'Step 2) Calculate'!G2294,\"\")","v":""},{"$f":"IF(L2290<>\"\",'Step 2) Calculate'!F2294,\"\")","v":""},{"$f":"IF(L2290<>\"\",'Step 2) Calculate'!H2294,\"\")","v":""},{"$f":"IF(L2290<>\"\",'Step 2) Calculate'!C2294,\"\")","v":""}]
[null,null,null,null,null,null,null,null,null,null,{"$f":"IF(L2291<>\"\",'Step 2) Calculate'!B2295,\"Zzzzz - delete row\")","v":"Zzzzz - delete row"},{"$f":"IF('Step 2) Calculate'!E2295<>\"\",'Step 2) Calculate'!G2295,\"\")","v":""},{"$f":"IF(L2291<>\"\",'Step 2) Calculate'!F2295,\"\")","v":""},{"$f":"IF(L2291<>\"\",'Step 2) Calculate'!H2295,\"\")","v":""},{"$f":"IF(L2291<>\"\",'Step 2) Calculate'!C2295,\"\")","v":""}]
[null,null,null,null,null,null,null,null,null,null,{"$f":"IF(L2292<>\"\",'Step 2) Calculate'!B2296,\"Zzzzz - delete row\")","v":"Zzzzz - delete row"},{"$f":"IF('Step 2) Calculate'!E2296<>\"\",'Step 2) Calculate'!G2296,\"\")","v":""},{"$f":"IF(L2292<>\"\",'Step 2) Calculate'!F2296,\"\")","v":""},{"$f":"IF(L2292<>\"\",'Step 2) Calculate'!H2296,\"\")","v":""},{"$f":"IF(L2292<>\"\",'Step 2) Calculate'!C2296,\"\")","v":""}]
[null,null,null,null,null,null,null,null,null,null,{"$f":"IF(L2293<>\"\",'Step 2) Calculate'!B2297,\"Zzzzz - delete row\")","v":"Zzzzz - delete row"},{"$f":"IF('Step 2) Calculate'!E2297<>\"\",'Step 2) Calculate'!G2297,\"\")","v":""},{"$f":"IF(L2293<>\"\",'Step 2) Calculate'!F2297,\"\")","v":""},{"$f":"IF(L2293<>\"\",'Step 2) Calculate'!H2297,\"\")","v":""},{"$f":"IF(L2293<>\"\",'Step 2) Calculate'!C2297,\"\")","v":""}]
[null,null,null,null,null,null,null,null,null,null,{"$f":"IF(L2294<>\"\",'Step 2) Calculate'!B2298,\"Zzzzz - delete row\")","v":"Zzzzz - delete row"},{"$f":"IF('Step 2) Calculate'!E2298<>\"\",'Step 2) Calculate'!G2298,\"\")","v":""},{"$f":"IF(L2294<>\"\",'Step 2) Calculate'!F2298,\"\")","v":""},{"$f":"IF(L2294<>\"\",'Step 2) Calculate'!H2298,\"\")","v":""},{"$f":"IF(L2294<>\"\",'Step 2) Calculate'!C2298,\"\")","v":""}]
[null,null,null,null,null,null,null,null,null,null,{"$f":"IF(L2295<>\"\",'Step 2) Calculate'!B2299,\"Zzzzz - delete row\")","v":"Zzzzz - delete row"},{"$f":"IF('Step 2) Calculate'!E2299<>\"\",'Step 2) Calculate'!G2299,\"\")","v":""},{"$f":"IF(L2295<>\"\",'Step 2) Calculate'!F2299,\"\")","v":""},{"$f":"IF(L2295<>\"\",'Step 2) Calculate'!H2299,\"\")","v":""},{"$f":"IF(L2295<>\"\",'Step 2) Calculate'!C2299,\"\")","v":""}]
[null,null,null,null,null,null,null,null,null,null,{"$f":"IF(L2296<>\"\",'Step 2) Calculate'!B2300,\"Zzzzz - delete row\")","v":"Zzzzz - delete row"},{"$f":"IF('Step 2) Calculate'!E2300<>\"\",'Step 2) Calculate'!G2300,\"\")","v":""},{"$f":"IF(L2296<>\"\",'Step 2) Calculate'!F2300,\"\")","v":""},{"$f":"IF(L2296<>\"\",'Step 2) Calculate'!H2300,\"\")","v":""},{"$f":"IF(L2296<>\"\",'Step 2) Calculate'!C2300,\"\")","v":""}]
[null,null,null,null,null,null,null,null,null,null,{"$f":"IF(L2297<>\"\",'Step 2) Calculate'!B2301,\"Zzzzz - delete row\")","v":"Zzzzz - delete row"},{"$f":"IF('Step 2) Calculate'!E2301<>\"\",'Step 2) Calculate'!G2301,\"\")","v":""},{"$f":"IF(L2297<>\"\",'Step 2) Calculate'!F2301,\"\")","v":""},{"$f":"IF(L2297<>\"\",'Step 2) Calculate'!H2301,\"\")","v":""},{"$f":"IF(L2297<>\"\",'Step 2) Calculate'!C2301,\"\")","v":""}]
[null,null,null,null,null,null,null,null,null,null,{"$f":"IF(L2298<>\"\",'Step 2) Calculate'!B2302,\"Zzzzz - delete row\")","v":"Zzzzz - delete row"},{"$f":"IF('Step 2) Calculate'!E2302<>\"\",'Step 2) Calculate'!G2302,\"\")","v":""},{"$f":"IF(L2298<>\"\",'Step 2) Calculate'!F2302,\"\")","v":""},{"$f":"IF(L2298<>\"\",'Step 2) Calculate'!H2302,\"\")","v":""},{"$f":"IF(L2298<>\"\",'Step 2) Calculate'!C2302,\"\")","v":""}]
[null,null,null,null,null,null,null,null,null,null,{"$f":"IF(L2299<>\"\",'Step 2) Calculate'!B2303,\"Zzzzz - delete row\")","v":"Zzzzz - delete row"},{"$f":"IF('Step 2) Calculate'!E2303<>\"\",'Step 2) Calculate'!G2303,\"\")","v":""},{"$f":"IF(L2299<>\"\",'Step 2) Calculate'!F2303,\"\")","v":""},{"$f":"IF(L2299<>\"\",'Step 2) Calculate'!H2303,\"\")","v":""},{"$f":"IF(L2299<>\"\",'Step 2) Calculate'!C2303,\"\")","v":""}]
[null,null,null,null,null,null,null,null,null,null,{"$f":"IF(L2300<>\"\",'Step 2) Calculate'!B2304,\"Zzzzz - delete row\")","v":"Zzzzz - delete row"},{"$f":"IF('Step 2) Calculate'!E2304<>\"\",'Step 2) Calculate'!G2304,\"\")","v":""},{"$f":"IF(L2300<>\"\",'Step 2) Calculate'!F2304,\"\")","v":""},{"$f":"IF(L2300<>\"\",'Step 2) Calculate'!H2304,\"\")","v":""},{"$f":"IF(L2300<>\"\",'Step 2) Calculate'!C2304,\"\")","v":""}]
[null,null,null,null,null,null,null,null,null,null,{"$f":"IF(L2301<>\"\",'Step 2) Calculate'!B2305,\"Zzzzz - delete row\")","v":"Zzzzz - delete row"},{"$f":"IF('Step 2) Calculate'!E2305<>\"\",'Step 2) Calculate'!G2305,\"\")","v":""},{"$f":"IF(L2301<>\"\",'Step 2) Calculate'!F2305,\"\")","v":""},{"$f":"IF(L2301<>\"\",'Step 2) Calculate'!H2305,\"\")","v":""},{"$f":"IF(L2301<>\"\",'Step 2) Calculate'!C2305,\"\")","v":""}]
[null,null,null,null,null,null,null,null,null,null,{"$f":"IF(L2302<>\"\",'Step 2) Calculate'!B2306,\"Zzzzz - delete row\")","v":"Zzzzz - delete row"},{"$f":"IF('Step 2) Calculate'!E2306<>\"\",'Step 2) Calculate'!G2306,\"\")","v":""},{"$f":"IF(L2302<>\"\",'Step 2) Calculate'!F2306,\"\")","v":""},{"$f":"IF(L2302<>\"\",'Step 2) Calculate'!H2306,\"\")","v":""},{"$f":"IF(L2302<>\"\",'Step 2) Calculate'!C2306,\"\")","v":""}]
[null,null,null,null,null,null,null,null,null,null,{"$f":"IF(L2303<>\"\",'Step 2) Calculate'!B2307,\"Zzzzz - delete row\")","v":"Zzzzz - delete row"},{"$f":"IF('Step 2) Calculate'!E2307<>\"\",'Step 2) Calculate'!G2307,\"\")","v":""},{"$f":"IF(L2303<>\"\",'Step 2) Calculate'!F2307,\"\")","v":""},{"$f":"IF(L2303<>\"\",'Step 2) Calculate'!H2307,\"\")","v":""},{"$f":"IF(L2303<>\"\",'Step 2) Calculate'!C2307,\"\")","v":""}]
[null,null,null,null,null,null,null,null,null,null,{"$f":"IF(L2304<>\"\",'Step 2) Calculate'!B2308,\"Zzzzz - delete row\")","v":"Zzzzz - delete row"},{"$f":"IF('Step 2) Calculate'!E2308<>\"\",'Step 2) Calculate'!G2308,\"\")","v":""},{"$f":"IF(L2304<>\"\",'Step 2) Calculate'!F2308,\"\")","v":""},{"$f":"IF(L2304<>\"\",'Step 2) Calculate'!H2308,\"\")","v":""},{"$f":"IF(L2304<>\"\",'Step 2) Calculate'!C2308,\"\")","v":""}]
[null,null,null,null,null,null,null,null,null,null,{"$f":"IF(L2305<>\"\",'Step 2) Calculate'!B2309,\"Zzzzz - delete row\")","v":"Zzzzz - delete row"},{"$f":"IF('Step 2) Calculate'!E2309<>\"\",'Step 2) Calculate'!G2309,\"\")","v":""},{"$f":"IF(L2305<>\"\",'Step 2) Calculate'!F2309,\"\")","v":""},{"$f":"IF(L2305<>\"\",'Step 2) Calculate'!H2309,\"\")","v":""},{"$f":"IF(L2305<>\"\",'Step 2) Calculate'!C2309,\"\")","v":""}]
[null,null,null,null,null,null,null,null,null,null,{"$f":"IF(L2306<>\"\",'Step 2) Calculate'!B2310,\"Zzzzz - delete row\")","v":"Zzzzz - delete row"},{"$f":"IF('Step 2) Calculate'!E2310<>\"\",'Step 2) Calculate'!G2310,\"\")","v":""},{"$f":"IF(L2306<>\"\",'Step 2) Calculate'!F2310,\"\")","v":""},{"$f":"IF(L2306<>\"\",'Step 2) Calculate'!H2310,\"\")","v":""},{"$f":"IF(L2306<>\"\",'Step 2) Calculate'!C2310,\"\")","v":""}]
[null,null,null,null,null,null,null,null,null,null,{"$f":"IF(L2307<>\"\",'Step 2) Calculate'!B2311,\"Zzzzz - delete row\")","v":"Zzzzz - delete row"},{"$f":"IF('Step 2) Calculate'!E2311<>\"\",'Step 2) Calculate'!G2311,\"\")","v":""},{"$f":"IF(L2307<>\"\",'Step 2) Calculate'!F2311,\"\")","v":""},{"$f":"IF(L2307<>\"\",'Step 2) Calculate'!H2311,\"\")","v":""},{"$f":"IF(L2307<>\"\",'Step 2) Calculate'!C2311,\"\")","v":""}]
[null,null,null,null,null,null,null,null,null,null,{"$f":"IF(L2308<>\"\",'Step 2) Calculate'!B2312,\"Zzzzz - delete row\")","v":"Zzzzz - delete row"},{"$f":"IF('Step 2) Calculate'!E2312<>\"\",'Step 2) Calculate'!G2312,\"\")","v":""},{"$f":"IF(L2308<>\"\",'Step 2) Calculate'!F2312,\"\")","v":""},{"$f":"IF(L2308<>\"\",'Step 2) Calculate'!H2312,\"\")","v":""},{"$f":"IF(L2308<>\"\",'Step 2) Calculate'!C2312,\"\")","v":""}]
[null,null,null,null,null,null,null,null,null,null,{"$f":"IF(L2309<>\"\",'Step 2) Calculate'!B2313,\"Zzzzz - delete row\")","v":"Zzzzz - delete row"},{"$f":"IF('Step 2) Calculate'!E2313<>\"\",'Step 2) Calculate'!G2313,\"\")","v":""},{"$f":"IF(L2309<>\"\",'Step 2) Calculate'!F2313,\"\")","v":""},{"$f":"IF(L2309<>\"\",'Step 2) Calculate'!H2313,\"\")","v":""},{"$f":"IF(L2309<>\"\",'Step 2) Calculate'!C2313,\"\")","v":""}]
[null,null,null,null,null,null,null,null,null,null,{"$f":"IF(L2310<>\"\",'Step 2) Calculate'!B2314,\"Zzzzz - delete row\")","v":"Zzzzz - delete row"},{"$f":"IF('Step 2) Calculate'!E2314<>\"\",'Step 2) Calculate'!G2314,\"\")","v":""},{"$f":"IF(L2310<>\"\",'Step 2) Calculate'!F2314,\"\")","v":""},{"$f":"IF(L2310<>\"\",'Step 2) Calculate'!H2314,\"\")","v":""},{"$f":"IF(L2310<>\"\",'Step 2) Calculate'!C2314,\"\")","v":""}]
[null,null,null,null,null,null,null,null,null,null,{"$f":"IF(L2311<>\"\",'Step 2) Calculate'!B2315,\"Zzzzz - delete row\")","v":"Zzzzz - delete row"},{"$f":"IF('Step 2) Calculate'!E2315<>\"\",'Step 2) Calculate'!G2315,\"\")","v":""},{"$f":"IF(L2311<>\"\",'Step 2) Calculate'!F2315,\"\")","v":""},{"$f":"IF(L2311<>\"\",'Step 2) Calculate'!H2315,\"\")","v":""},{"$f":"IF(L2311<>\"\",'Step 2) Calculate'!C2315,\"\")","v":""}]
[null,null,null,null,null,null,null,null,null,null,{"$f":"IF(L2312<>\"\",'Step 2) Calculate'!B2316,\"Zzzzz - delete row\")","v":"Zzzzz - delete row"},{"$f":"IF('Step 2) Calculate'!E2316<>\"\",'Step 2) Calculate'!G2316,\"\")","v":""},{"$f":"IF(L2312<>\"\",'Step 2) Calculate'!F2316,\"\")","v":""},{"$f":"IF(L2312<>\"\",'Step 2) Calculate'!H2316,\"\")","v":""},{"$f":"IF(L2312<>\"\",'Step 2) Calculate'!C2316,\"\")","v":""}]
[null,null,null,null,null,null,null,null,null,null,{"$f":"IF(L2313<>\"\",'Step 2) Calculate'!B2317,\"Zzzzz - delete row\")","v":"Zzzzz - delete row"},{"$f":"IF('Step 2) Calculate'!E2317<>\"\",'Step 2) Calculate'!G2317,\"\")","v":""},{"$f":"IF(L2313<>\"\",'Step 2) Calculate'!F2317,\"\")","v":""},{"$f":"IF(L2313<>\"\",'Step 2) Calculate'!H2317,\"\")","v":""},{"$f":"IF(L2313<>\"\",'Step 2) Calculate'!C2317,\"\")","v":""}]
[null,null,null,null,null,null,null,null,null,null,{"$f":"IF(L2314<>\"\",'Step 2) Calculate'!B2318,\"Zzzzz - delete row\")","v":"Zzzzz - delete row"},{"$f":"IF('Step 2) Calculate'!E2318<>\"\",'Step 2) Calculate'!G2318,\"\")","v":""},{"$f":"IF(L2314<>\"\",'Step 2) Calculate'!F2318,\"\")","v":""},{"$f":"IF(L2314<>\"\",'Step 2) Calculate'!H2318,\"\")","v":""},{"$f":"IF(L2314<>\"\",'Step 2) Calculate'!C2318,\"\")","v":""}]
[null,null,null,null,null,null,null,null,null,null,{"$f":"IF(L2315<>\"\",'Step 2) Calculate'!B2319,\"Zzzzz - delete row\")","v":"Zzzzz - delete row"},{"$f":"IF('Step 2) Calculate'!E2319<>\"\",'Step 2) Calculate'!G2319,\"\")","v":""},{"$f":"IF(L2315<>\"\",'Step 2) Calculate'!F2319,\"\")","v":""},{"$f":"IF(L2315<>\"\",'Step 2) Calculate'!H2319,\"\")","v":""},{"$f":"IF(L2315<>\"\",'Step 2) Calculate'!C2319,\"\")","v":""}]
[null,null,null,null,null,null,null,null,null,null,{"$f":"IF(L2316<>\"\",'Step 2) Calculate'!B2320,\"Zzzzz - delete row\")","v":"Zzzzz - delete row"},{"$f":"IF('Step 2) Calculate'!E2320<>\"\",'Step 2) Calculate'!G2320,\"\")","v":""},{"$f":"IF(L2316<>\"\",'Step 2) Calculate'!F2320,\"\")","v":""},{"$f":"IF(L2316<>\"\",'Step 2) Calculate'!H2320,\"\")","v":""},{"$f":"IF(L2316<>\"\",'Step 2) Calculate'!C2320,\"\")","v":""}]
[null,null,null,null,null,null,null,null,null,null,{"$f":"IF(L2317<>\"\",'Step 2) Calculate'!B2321,\"Zzzzz - delete row\")","v":"Zzzzz - delete row"},{"$f":"IF('Step 2) Calculate'!E2321<>\"\",'Step 2) Calculate'!G2321,\"\")","v":""},{"$f":"IF(L2317<>\"\",'Step 2) Calculate'!F2321,\"\")","v":""},{"$f":"IF(L2317<>\"\",'Step 2) Calculate'!H2321,\"\")","v":""},{"$f":"IF(L2317<>\"\",'Step 2) Calculate'!C2321,\"\")","v":""}]
[null,null,null,null,null,null,null,null,null,null,{"$f":"IF(L2318<>\"\",'Step 2) Calculate'!B2322,\"Zzzzz - delete row\")","v":"Zzzzz - delete row"},{"$f":"IF('Step 2) Calculate'!E2322<>\"\",'Step 2) Calculate'!G2322,\"\")","v":""},{"$f":"IF(L2318<>\"\",'Step 2) Calculate'!F2322,\"\")","v":""},{"$f":"IF(L2318<>\"\",'Step 2) Calculate'!H2322,\"\")","v":""},{"$f":"IF(L2318<>\"\",'Step 2) Calculate'!C2322,\"\")","v":""}]
[null,null,null,null,null,null,null,null,null,null,{"$f":"IF(L2319<>\"\",'Step 2) Calculate'!B2323,\"Zzzzz - delete row\")","v":"Zzzzz - delete row"},{"$f":"IF('Step 2) Calculate'!E2323<>\"\",'Step 2) Calculate'!G2323,\"\")","v":""},{"$f":"IF(L2319<>\"\",'Step 2) Calculate'!F2323,\"\")","v":""},{"$f":"IF(L2319<>\"\",'Step 2) Calculate'!H2323,\"\")","v":""},{"$f":"IF(L2319<>\"\",'Step 2) Calculate'!C2323,\"\")","v":""}]
[null,null,null,null,null,null,null,null,null,null,{"$f":"IF(L2320<>\"\",'Step 2) Calculate'!B2324,\"Zzzzz - delete row\")","v":"Zzzzz - delete row"},{"$f":"IF('Step 2) Calculate'!E2324<>\"\",'Step 2) Calculate'!G2324,\"\")","v":""},{"$f":"IF(L2320<>\"\",'Step 2) Calculate'!F2324,\"\")","v":""},{"$f":"IF(L2320<>\"\",'Step 2) Calculate'!H2324,\"\")","v":""},{"$f":"IF(L2320<>\"\",'Step 2) Calculate'!C2324,\"\")","v":""}]
[null,null,null,null,null,null,null,null,null,null,{"$f":"IF(L2321<>\"\",'Step 2) Calculate'!B2325,\"Zzzzz - delete row\")","v":"Zzzzz - delete row"},{"$f":"IF('Step 2) Calculate'!E2325<>\"\",'Step 2) Calculate'!G2325,\"\")","v":""},{"$f":"IF(L2321<>\"\",'Step 2) Calculate'!F2325,\"\")","v":""},{"$f":"IF(L2321<>\"\",'Step 2) Calculate'!H2325,\"\")","v":""},{"$f":"IF(L2321<>\"\",'Step 2) Calculate'!C2325,\"\")","v":""}]
[null,null,null,null,null,null,null,null,null,null,{"$f":"IF(L2322<>\"\",'Step 2) Calculate'!B2326,\"Zzzzz - delete row\")","v":"Zzzzz - delete row"},{"$f":"IF('Step 2) Calculate'!E2326<>\"\",'Step 2) Calculate'!G2326,\"\")","v":""},{"$f":"IF(L2322<>\"\",'Step 2) Calculate'!F2326,\"\")","v":""},{"$f":"IF(L2322<>\"\",'Step 2) Calculate'!H2326,\"\")","v":""},{"$f":"IF(L2322<>\"\",'Step 2) Calculate'!C2326,\"\")","v":""}]
[null,null,null,null,null,null,null,null,null,null,{"$f":"IF(L2323<>\"\",'Step 2) Calculate'!B2327,\"Zzzzz - delete row\")","v":"Zzzzz - delete row"},{"$f":"IF('Step 2) Calculate'!E2327<>\"\",'Step 2) Calculate'!G2327,\"\")","v":""},{"$f":"IF(L2323<>\"\",'Step 2) Calculate'!F2327,\"\")","v":""},{"$f":"IF(L2323<>\"\",'Step 2) Calculate'!H2327,\"\")","v":""},{"$f":"IF(L2323<>\"\",'Step 2) Calculate'!C2327,\"\")","v":""}]
[null,null,null,null,null,null,null,null,null,null,{"$f":"IF(L2324<>\"\",'Step 2) Calculate'!B2328,\"Zzzzz - delete row\")","v":"Zzzzz - delete row"},{"$f":"IF('Step 2) Calculate'!E2328<>\"\",'Step 2) Calculate'!G2328,\"\")","v":""},{"$f":"IF(L2324<>\"\",'Step 2) Calculate'!F2328,\"\")","v":""},{"$f":"IF(L2324<>\"\",'Step 2) Calculate'!H2328,\"\")","v":""},{"$f":"IF(L2324<>\"\",'Step 2) Calculate'!C2328,\"\")","v":""}]
[null,null,null,null,null,null,null,null,null,null,{"$f":"IF(L2325<>\"\",'Step 2) Calculate'!B2329,\"Zzzzz - delete row\")","v":"Zzzzz - delete row"},{"$f":"IF('Step 2) Calculate'!E2329<>\"\",'Step 2) Calculate'!G2329,\"\")","v":""},{"$f":"IF(L2325<>\"\",'Step 2) Calculate'!F2329,\"\")","v":""},{"$f":"IF(L2325<>\"\",'Step 2) Calculate'!H2329,\"\")","v":""},{"$f":"IF(L2325<>\"\",'Step 2) Calculate'!C2329,\"\")","v":""}]
[null,null,null,null,null,null,null,null,null,null,{"$f":"IF(L2326<>\"\",'Step 2) Calculate'!B2330,\"Zzzzz - delete row\")","v":"Zzzzz - delete row"},{"$f":"IF('Step 2) Calculate'!E2330<>\"\",'Step 2) Calculate'!G2330,\"\")","v":""},{"$f":"IF(L2326<>\"\",'Step 2) Calculate'!F2330,\"\")","v":""},{"$f":"IF(L2326<>\"\",'Step 2) Calculate'!H2330,\"\")","v":""},{"$f":"IF(L2326<>\"\",'Step 2) Calculate'!C2330,\"\")","v":""}]
[null,null,null,null,null,null,null,null,null,null,{"$f":"IF(L2327<>\"\",'Step 2) Calculate'!B2331,\"Zzzzz - delete row\")","v":"Zzzzz - delete row"},{"$f":"IF('Step 2) Calculate'!E2331<>\"\",'Step 2) Calculate'!G2331,\"\")","v":""},{"$f":"IF(L2327<>\"\",'Step 2) Calculate'!F2331,\"\")","v":""},{"$f":"IF(L2327<>\"\",'Step 2) Calculate'!H2331,\"\")","v":""},{"$f":"IF(L2327<>\"\",'Step 2) Calculate'!C2331,\"\")","v":""}]
[null,null,null,null,null,null,null,null,null,null,{"$f":"IF(L2328<>\"\",'Step 2) Calculate'!B2332,\"Zzzzz - delete row\")","v":"Zzzzz - delete row"},{"$f":"IF('Step 2) Calculate'!E2332<>\"\",'Step 2) Calculate'!G2332,\"\")","v":""},{"$f":"IF(L2328<>\"\",'Step 2) Calculate'!F2332,\"\")","v":""},{"$f":"IF(L2328<>\"\",'Step 2) Calculate'!H2332,\"\")","v":""},{"$f":"IF(L2328<>\"\",'Step 2) Calculate'!C2332,\"\")","v":""}]
[null,null,null,null,null,null,null,null,null,null,{"$f":"IF(L2329<>\"\",'Step 2) Calculate'!B2333,\"Zzzzz - delete row\")","v":"Zzzzz - delete row"},{"$f":"IF('Step 2) Calculate'!E2333<>\"\",'Step 2) Calculate'!G2333,\"\")","v":""},{"$f":"IF(L2329<>\"\",'Step 2) Calculate'!F2333,\"\")","v":""},{"$f":"IF(L2329<>\"\",'Step 2) Calculate'!H2333,\"\")","v":""},{"$f":"IF(L2329<>\"\",'Step 2) Calculate'!C2333,\"\")","v":""}]
[null,null,null,null,null,null,null,null,null,null,{"$f":"IF(L2330<>\"\",'Step 2) Calculate'!B2334,\"Zzzzz - delete row\")","v":"Zzzzz - delete row"},{"$f":"IF('Step 2) Calculate'!E2334<>\"\",'Step 2) Calculate'!G2334,\"\")","v":""},{"$f":"IF(L2330<>\"\",'Step 2) Calculate'!F2334,\"\")","v":""},{"$f":"IF(L2330<>\"\",'Step 2) Calculate'!H2334,\"\")","v":""},{"$f":"IF(L2330<>\"\",'Step 2) Calculate'!C2334,\"\")","v":""}]
[null,null,null,null,null,null,null,null,null,null,{"$f":"IF(L2331<>\"\",'Step 2) Calculate'!B2335,\"Zzzzz - delete row\")","v":"Zzzzz - delete row"},{"$f":"IF('Step 2) Calculate'!E2335<>\"\",'Step 2) Calculate'!G2335,\"\")","v":""},{"$f":"IF(L2331<>\"\",'Step 2) Calculate'!F2335,\"\")","v":""},{"$f":"IF(L2331<>\"\",'Step 2) Calculate'!H2335,\"\")","v":""},{"$f":"IF(L2331<>\"\",'Step 2) Calculate'!C2335,\"\")","v":""}]
[null,null,null,null,null,null,null,null,null,null,{"$f":"IF(L2332<>\"\",'Step 2) Calculate'!B2336,\"Zzzzz - delete row\")","v":"Zzzzz - delete row"},{"$f":"IF('Step 2) Calculate'!E2336<>\"\",'Step 2) Calculate'!G2336,\"\")","v":""},{"$f":"IF(L2332<>\"\",'Step 2) Calculate'!F2336,\"\")","v":""},{"$f":"IF(L2332<>\"\",'Step 2) Calculate'!H2336,\"\")","v":""},{"$f":"IF(L2332<>\"\",'Step 2) Calculate'!C2336,\"\")","v":""}]
[null,null,null,null,null,null,null,null,null,null,{"$f":"IF(L2333<>\"\",'Step 2) Calculate'!B2337,\"Zzzzz - delete row\")","v":"Zzzzz - delete row"},{"$f":"IF('Step 2) Calculate'!E2337<>\"\",'Step 2) Calculate'!G2337,\"\")","v":""},{"$f":"IF(L2333<>\"\",'Step 2) Calculate'!F2337,\"\")","v":""},{"$f":"IF(L2333<>\"\",'Step 2) Calculate'!H2337,\"\")","v":""},{"$f":"IF(L2333<>\"\",'Step 2) Calculate'!C2337,\"\")","v":""}]
[null,null,null,null,null,null,null,null,null,null,{"$f":"IF(L2334<>\"\",'Step 2) Calculate'!B2338,\"Zzzzz - delete row\")","v":"Zzzzz - delete row"},{"$f":"IF('Step 2) Calculate'!E2338<>\"\",'Step 2) Calculate'!G2338,\"\")","v":""},{"$f":"IF(L2334<>\"\",'Step 2) Calculate'!F2338,\"\")","v":""},{"$f":"IF(L2334<>\"\",'Step 2) Calculate'!H2338,\"\")","v":""},{"$f":"IF(L2334<>\"\",'Step 2) Calculate'!C2338,\"\")","v":""}]
[null,null,null,null,null,null,null,null,null,null,{"$f":"IF(L2335<>\"\",'Step 2) Calculate'!B2339,\"Zzzzz - delete row\")","v":"Zzzzz - delete row"},{"$f":"IF('Step 2) Calculate'!E2339<>\"\",'Step 2) Calculate'!G2339,\"\")","v":""},{"$f":"IF(L2335<>\"\",'Step 2) Calculate'!F2339,\"\")","v":""},{"$f":"IF(L2335<>\"\",'Step 2) Calculate'!H2339,\"\")","v":""},{"$f":"IF(L2335<>\"\",'Step 2) Calculate'!C2339,\"\")","v":""}]
[null,null,null,null,null,null,null,null,null,null,{"$f":"IF(L2336<>\"\",'Step 2) Calculate'!B2340,\"Zzzzz - delete row\")","v":"Zzzzz - delete row"},{"$f":"IF('Step 2) Calculate'!E2340<>\"\",'Step 2) Calculate'!G2340,\"\")","v":""},{"$f":"IF(L2336<>\"\",'Step 2) Calculate'!F2340,\"\")","v":""},{"$f":"IF(L2336<>\"\",'Step 2) Calculate'!H2340,\"\")","v":""},{"$f":"IF(L2336<>\"\",'Step 2) Calculate'!C2340,\"\")","v":""}]
[null,null,null,null,null,null,null,null,null,null,{"$f":"IF(L2337<>\"\",'Step 2) Calculate'!B2341,\"Zzzzz - delete row\")","v":"Zzzzz - delete row"},{"$f":"IF('Step 2) Calculate'!E2341<>\"\",'Step 2) Calculate'!G2341,\"\")","v":""},{"$f":"IF(L2337<>\"\",'Step 2) Calculate'!F2341,\"\")","v":""},{"$f":"IF(L2337<>\"\",'Step 2) Calculate'!H2341,\"\")","v":""},{"$f":"IF(L2337<>\"\",'Step 2) Calculate'!C2341,\"\")","v":""}]
[null,null,null,null,null,null,null,null,null,null,{"$f":"IF(L2338<>\"\",'Step 2) Calculate'!B2342,\"Zzzzz - delete row\")","v":"Zzzzz - delete row"},{"$f":"IF('Step 2) Calculate'!E2342<>\"\",'Step 2) Calculate'!G2342,\"\")","v":""},{"$f":"IF(L2338<>\"\",'Step 2) Calculate'!F2342,\"\")","v":""},{"$f":"IF(L2338<>\"\",'Step 2) Calculate'!H2342,\"\")","v":""},{"$f":"IF(L2338<>\"\",'Step 2) Calculate'!C2342,\"\")","v":""}]
[null,null,null,null,null,null,null,null,null,null,{"$f":"IF(L2339<>\"\",'Step 2) Calculate'!B2343,\"Zzzzz - delete row\")","v":"Zzzzz - delete row"},{"$f":"IF('Step 2) Calculate'!E2343<>\"\",'Step 2) Calculate'!G2343,\"\")","v":""},{"$f":"IF(L2339<>\"\",'Step 2) Calculate'!F2343,\"\")","v":""},{"$f":"IF(L2339<>\"\",'Step 2) Calculate'!H2343,\"\")","v":""},{"$f":"IF(L2339<>\"\",'Step 2) Calculate'!C2343,\"\")","v":""}]
[null,null,null,null,null,null,null,null,null,null,{"$f":"IF(L2340<>\"\",'Step 2) Calculate'!B2344,\"Zzzzz - delete row\")","v":"Zzzzz - delete row"},{"$f":"IF('Step 2) Calculate'!E2344<>\"\",'Step 2) Calculate'!G2344,\"\")","v":""},{"$f":"IF(L2340<>\"\",'Step 2) Calculate'!F2344,\"\")","v":""},{"$f":"IF(L2340<>\"\",'Step 2) Calculate'!H2344,\"\")","v":""},{"$f":"IF(L2340<>\"\",'Step 2) Calculate'!C2344,\"\")","v":""}]
[null,null,null,null,null,null,null,null,null,null,{"$f":"IF(L2341<>\"\",'Step 2) Calculate'!B2345,\"Zzzzz - delete row\")","v":"Zzzzz - delete row"},{"$f":"IF('Step 2) Calculate'!E2345<>\"\",'Step 2) Calculate'!G2345,\"\")","v":""},{"$f":"IF(L2341<>\"\",'Step 2) Calculate'!F2345,\"\")","v":""},{"$f":"IF(L2341<>\"\",'Step 2) Calculate'!H2345,\"\")","v":""},{"$f":"IF(L2341<>\"\",'Step 2) Calculate'!C2345,\"\")","v":""}]
[null,null,null,null,null,null,null,null,null,null,{"$f":"IF(L2342<>\"\",'Step 2) Calculate'!B2346,\"Zzzzz - delete row\")","v":"Zzzzz - delete row"},{"$f":"IF('Step 2) Calculate'!E2346<>\"\",'Step 2) Calculate'!G2346,\"\")","v":""},{"$f":"IF(L2342<>\"\",'Step 2) Calculate'!F2346,\"\")","v":""},{"$f":"IF(L2342<>\"\",'Step 2) Calculate'!H2346,\"\")","v":""},{"$f":"IF(L2342<>\"\",'Step 2) Calculate'!C2346,\"\")","v":""}]
[null,null,null,null,null,null,null,null,null,null,{"$f":"IF(L2343<>\"\",'Step 2) Calculate'!B2347,\"Zzzzz - delete row\")","v":"Zzzzz - delete row"},{"$f":"IF('Step 2) Calculate'!E2347<>\"\",'Step 2) Calculate'!G2347,\"\")","v":""},{"$f":"IF(L2343<>\"\",'Step 2) Calculate'!F2347,\"\")","v":""},{"$f":"IF(L2343<>\"\",'Step 2) Calculate'!H2347,\"\")","v":""},{"$f":"IF(L2343<>\"\",'Step 2) Calculate'!C2347,\"\")","v":""}]
[null,null,null,null,null,null,null,null,null,null,{"$f":"IF(L2344<>\"\",'Step 2) Calculate'!B2348,\"Zzzzz - delete row\")","v":"Zzzzz - delete row"},{"$f":"IF('Step 2) Calculate'!E2348<>\"\",'Step 2) Calculate'!G2348,\"\")","v":""},{"$f":"IF(L2344<>\"\",'Step 2) Calculate'!F2348,\"\")","v":""},{"$f":"IF(L2344<>\"\",'Step 2) Calculate'!H2348,\"\")","v":""},{"$f":"IF(L2344<>\"\",'Step 2) Calculate'!C2348,\"\")","v":""}]
[null,null,null,null,null,null,null,null,null,null,{"$f":"IF(L2345<>\"\",'Step 2) Calculate'!B2349,\"Zzzzz - delete row\")","v":"Zzzzz - delete row"},{"$f":"IF('Step 2) Calculate'!E2349<>\"\",'Step 2) Calculate'!G2349,\"\")","v":""},{"$f":"IF(L2345<>\"\",'Step 2) Calculate'!F2349,\"\")","v":""},{"$f":"IF(L2345<>\"\",'Step 2) Calculate'!H2349,\"\")","v":""},{"$f":"IF(L2345<>\"\",'Step 2) Calculate'!C2349,\"\")","v":""}]
[null,null,null,null,null,null,null,null,null,null,{"$f":"IF(L2346<>\"\",'Step 2) Calculate'!B2350,\"Zzzzz - delete row\")","v":"Zzzzz - delete row"},{"$f":"IF('Step 2) Calculate'!E2350<>\"\",'Step 2) Calculate'!G2350,\"\")","v":""},{"$f":"IF(L2346<>\"\",'Step 2) Calculate'!F2350,\"\")","v":""},{"$f":"IF(L2346<>\"\",'Step 2) Calculate'!H2350,\"\")","v":""},{"$f":"IF(L2346<>\"\",'Step 2) Calculate'!C2350,\"\")","v":""}]
[null,null,null,null,null,null,null,null,null,null,{"$f":"IF(L2347<>\"\",'Step 2) Calculate'!B2351,\"Zzzzz - delete row\")","v":"Zzzzz - delete row"},{"$f":"IF('Step 2) Calculate'!E2351<>\"\",'Step 2) Calculate'!G2351,\"\")","v":""},{"$f":"IF(L2347<>\"\",'Step 2) Calculate'!F2351,\"\")","v":""},{"$f":"IF(L2347<>\"\",'Step 2) Calculate'!H2351,\"\")","v":""},{"$f":"IF(L2347<>\"\",'Step 2) Calculate'!C2351,\"\")","v":""}]
[null,null,null,null,null,null,null,null,null,null,{"$f":"IF(L2348<>\"\",'Step 2) Calculate'!B2352,\"Zzzzz - delete row\")","v":"Zzzzz - delete row"},{"$f":"IF('Step 2) Calculate'!E2352<>\"\",'Step 2) Calculate'!G2352,\"\")","v":""},{"$f":"IF(L2348<>\"\",'Step 2) Calculate'!F2352,\"\")","v":""},{"$f":"IF(L2348<>\"\",'Step 2) Calculate'!H2352,\"\")","v":""},{"$f":"IF(L2348<>\"\",'Step 2) Calculate'!C2352,\"\")","v":""}]
[null,null,null,null,null,null,null,null,null,null,{"$f":"IF(L2349<>\"\",'Step 2) Calculate'!B2353,\"Zzzzz - delete row\")","v":"Zzzzz - delete row"},{"$f":"IF('Step 2) Calculate'!E2353<>\"\",'Step 2) Calculate'!G2353,\"\")","v":""},{"$f":"IF(L2349<>\"\",'Step 2) Calculate'!F2353,\"\")","v":""},{"$f":"IF(L2349<>\"\",'Step 2) Calculate'!H2353,\"\")","v":""},{"$f":"IF(L2349<>\"\",'Step 2) Calculate'!C2353,\"\")","v":""}]
[null,null,null,null,null,null,null,null,null,null,{"$f":"IF(L2350<>\"\",'Step 2) Calculate'!B2354,\"Zzzzz - delete row\")","v":"Zzzzz - delete row"},{"$f":"IF('Step 2) Calculate'!E2354<>\"\",'Step 2) Calculate'!G2354,\"\")","v":""},{"$f":"IF(L2350<>\"\",'Step 2) Calculate'!F2354,\"\")","v":""},{"$f":"IF(L2350<>\"\",'Step 2) Calculate'!H2354,\"\")","v":""},{"$f":"IF(L2350<>\"\",'Step 2) Calculate'!C2354,\"\")","v":""}]
[null,null,null,null,null,null,null,null,null,null,{"$f":"IF(L2351<>\"\",'Step 2) Calculate'!B2355,\"Zzzzz - delete row\")","v":"Zzzzz - delete row"},{"$f":"IF('Step 2) Calculate'!E2355<>\"\",'Step 2) Calculate'!G2355,\"\")","v":""},{"$f":"IF(L2351<>\"\",'Step 2) Calculate'!F2355,\"\")","v":""},{"$f":"IF(L2351<>\"\",'Step 2) Calculate'!H2355,\"\")","v":""},{"$f":"IF(L2351<>\"\",'Step 2) Calculate'!C2355,\"\")","v":""}]
[null,null,null,null,null,null,null,null,null,null,{"$f":"IF(L2352<>\"\",'Step 2) Calculate'!B2356,\"Zzzzz - delete row\")","v":"Zzzzz - delete row"},{"$f":"IF('Step 2) Calculate'!E2356<>\"\",'Step 2) Calculate'!G2356,\"\")","v":""},{"$f":"IF(L2352<>\"\",'Step 2) Calculate'!F2356,\"\")","v":""},{"$f":"IF(L2352<>\"\",'Step 2) Calculate'!H2356,\"\")","v":""},{"$f":"IF(L2352<>\"\",'Step 2) Calculate'!C2356,\"\")","v":""}]
[null,null,null,null,null,null,null,null,null,null,{"$f":"IF(L2353<>\"\",'Step 2) Calculate'!B2357,\"Zzzzz - delete row\")","v":"Zzzzz - delete row"},{"$f":"IF('Step 2) Calculate'!E2357<>\"\",'Step 2) Calculate'!G2357,\"\")","v":""},{"$f":"IF(L2353<>\"\",'Step 2) Calculate'!F2357,\"\")","v":""},{"$f":"IF(L2353<>\"\",'Step 2) Calculate'!H2357,\"\")","v":""},{"$f":"IF(L2353<>\"\",'Step 2) Calculate'!C2357,\"\")","v":""}]
[null,null,null,null,null,null,null,null,null,null,{"$f":"IF(L2354<>\"\",'Step 2) Calculate'!B2358,\"Zzzzz - delete row\")","v":"Zzzzz - delete row"},{"$f":"IF('Step 2) Calculate'!E2358<>\"\",'Step 2) Calculate'!G2358,\"\")","v":""},{"$f":"IF(L2354<>\"\",'Step 2) Calculate'!F2358,\"\")","v":""},{"$f":"IF(L2354<>\"\",'Step 2) Calculate'!H2358,\"\")","v":""},{"$f":"IF(L2354<>\"\",'Step 2) Calculate'!C2358,\"\")","v":""}]
[null,null,null,null,null,null,null,null,null,null,{"$f":"IF(L2355<>\"\",'Step 2) Calculate'!B2359,\"Zzzzz - delete row\")","v":"Zzzzz - delete row"},{"$f":"IF('Step 2) Calculate'!E2359<>\"\",'Step 2) Calculate'!G2359,\"\")","v":""},{"$f":"IF(L2355<>\"\",'Step 2) Calculate'!F2359,\"\")","v":""},{"$f":"IF(L2355<>\"\",'Step 2) Calculate'!H2359,\"\")","v":""},{"$f":"IF(L2355<>\"\",'Step 2) Calculate'!C2359,\"\")","v":""}]
[null,null,null,null,null,null,null,null,null,null,{"$f":"IF(L2356<>\"\",'Step 2) Calculate'!B2360,\"Zzzzz - delete row\")","v":"Zzzzz - delete row"},{"$f":"IF('Step 2) Calculate'!E2360<>\"\",'Step 2) Calculate'!G2360,\"\")","v":""},{"$f":"IF(L2356<>\"\",'Step 2) Calculate'!F2360,\"\")","v":""},{"$f":"IF(L2356<>\"\",'Step 2) Calculate'!H2360,\"\")","v":""},{"$f":"IF(L2356<>\"\",'Step 2) Calculate'!C2360,\"\")","v":""}]
[null,null,null,null,null,null,null,null,null,null,{"$f":"IF(L2357<>\"\",'Step 2) Calculate'!B2361,\"Zzzzz - delete row\")","v":"Zzzzz - delete row"},{"$f":"IF('Step 2) Calculate'!E2361<>\"\",'Step 2) Calculate'!G2361,\"\")","v":""},{"$f":"IF(L2357<>\"\",'Step 2) Calculate'!F2361,\"\")","v":""},{"$f":"IF(L2357<>\"\",'Step 2) Calculate'!H2361,\"\")","v":""},{"$f":"IF(L2357<>\"\",'Step 2) Calculate'!C2361,\"\")","v":""}]
[null,null,null,null,null,null,null,null,null,null,{"$f":"IF(L2358<>\"\",'Step 2) Calculate'!B2362,\"Zzzzz - delete row\")","v":"Zzzzz - delete row"},{"$f":"IF('Step 2) Calculate'!E2362<>\"\",'Step 2) Calculate'!G2362,\"\")","v":""},{"$f":"IF(L2358<>\"\",'Step 2) Calculate'!F2362,\"\")","v":""},{"$f":"IF(L2358<>\"\",'Step 2) Calculate'!H2362,\"\")","v":""},{"$f":"IF(L2358<>\"\",'Step 2) Calculate'!C2362,\"\")","v":""}]
[null,null,null,null,null,null,null,null,null,null,{"$f":"IF(L2359<>\"\",'Step 2) Calculate'!B2363,\"Zzzzz - delete row\")","v":"Zzzzz - delete row"},{"$f":"IF('Step 2) Calculate'!E2363<>\"\",'Step 2) Calculate'!G2363,\"\")","v":""},{"$f":"IF(L2359<>\"\",'Step 2) Calculate'!F2363,\"\")","v":""},{"$f":"IF(L2359<>\"\",'Step 2) Calculate'!H2363,\"\")","v":""},{"$f":"IF(L2359<>\"\",'Step 2) Calculate'!C2363,\"\")","v":""}]
[null,null,null,null,null,null,null,null,null,null,{"$f":"IF(L2360<>\"\",'Step 2) Calculate'!B2364,\"Zzzzz - delete row\")","v":"Zzzzz - delete row"},{"$f":"IF('Step 2) Calculate'!E2364<>\"\",'Step 2) Calculate'!G2364,\"\")","v":""},{"$f":"IF(L2360<>\"\",'Step 2) Calculate'!F2364,\"\")","v":""},{"$f":"IF(L2360<>\"\",'Step 2) Calculate'!H2364,\"\")","v":""},{"$f":"IF(L2360<>\"\",'Step 2) Calculate'!C2364,\"\")","v":""}]
[null,null,null,null,null,null,null,null,null,null,{"$f":"IF(L2361<>\"\",'Step 2) Calculate'!B2365,\"Zzzzz - delete row\")","v":"Zzzzz - delete row"},{"$f":"IF('Step 2) Calculate'!E2365<>\"\",'Step 2) Calculate'!G2365,\"\")","v":""},{"$f":"IF(L2361<>\"\",'Step 2) Calculate'!F2365,\"\")","v":""},{"$f":"IF(L2361<>\"\",'Step 2) Calculate'!H2365,\"\")","v":""},{"$f":"IF(L2361<>\"\",'Step 2) Calculate'!C2365,\"\")","v":""}]
[null,null,null,null,null,null,null,null,null,null,{"$f":"IF(L2362<>\"\",'Step 2) Calculate'!B2366,\"Zzzzz - delete row\")","v":"Zzzzz - delete row"},{"$f":"IF('Step 2) Calculate'!E2366<>\"\",'Step 2) Calculate'!G2366,\"\")","v":""},{"$f":"IF(L2362<>\"\",'Step 2) Calculate'!F2366,\"\")","v":""},{"$f":"IF(L2362<>\"\",'Step 2) Calculate'!H2366,\"\")","v":""},{"$f":"IF(L2362<>\"\",'Step 2) Calculate'!C2366,\"\")","v":""}]
[null,null,null,null,null,null,null,null,null,null,{"$f":"IF(L2363<>\"\",'Step 2) Calculate'!B2367,\"Zzzzz - delete row\")","v":"Zzzzz - delete row"},{"$f":"IF('Step 2) Calculate'!E2367<>\"\",'Step 2) Calculate'!G2367,\"\")","v":""},{"$f":"IF(L2363<>\"\",'Step 2) Calculate'!F2367,\"\")","v":""},{"$f":"IF(L2363<>\"\",'Step 2) Calculate'!H2367,\"\")","v":""},{"$f":"IF(L2363<>\"\",'Step 2) Calculate'!C2367,\"\")","v":""}]
[null,null,null,null,null,null,null,null,null,null,{"$f":"IF(L2364<>\"\",'Step 2) Calculate'!B2368,\"Zzzzz - delete row\")","v":"Zzzzz - delete row"},{"$f":"IF('Step 2) Calculate'!E2368<>\"\",'Step 2) Calculate'!G2368,\"\")","v":""},{"$f":"IF(L2364<>\"\",'Step 2) Calculate'!F2368,\"\")","v":""},{"$f":"IF(L2364<>\"\",'Step 2) Calculate'!H2368,\"\")","v":""},{"$f":"IF(L2364<>\"\",'Step 2) Calculate'!C2368,\"\")","v":""}]
[null,null,null,null,null,null,null,null,null,null,{"$f":"IF(L2365<>\"\",'Step 2) Calculate'!B2369,\"Zzzzz - delete row\")","v":"Zzzzz - delete row"},{"$f":"IF('Step 2) Calculate'!E2369<>\"\",'Step 2) Calculate'!G2369,\"\")","v":""},{"$f":"IF(L2365<>\"\",'Step 2) Calculate'!F2369,\"\")","v":""},{"$f":"IF(L2365<>\"\",'Step 2) Calculate'!H2369,\"\")","v":""},{"$f":"IF(L2365<>\"\",'Step 2) Calculate'!C2369,\"\")","v":""}]
[null,null,null,null,null,null,null,null,null,null,{"$f":"IF(L2366<>\"\",'Step 2) Calculate'!B2370,\"Zzzzz - delete row\")","v":"Zzzzz - delete row"},{"$f":"IF('Step 2) Calculate'!E2370<>\"\",'Step 2) Calculate'!G2370,\"\")","v":""},{"$f":"IF(L2366<>\"\",'Step 2) Calculate'!F2370,\"\")","v":""},{"$f":"IF(L2366<>\"\",'Step 2) Calculate'!H2370,\"\")","v":""},{"$f":"IF(L2366<>\"\",'Step 2) Calculate'!C2370,\"\")","v":""}]
[null,null,null,null,null,null,null,null,null,null,{"$f":"IF(L2367<>\"\",'Step 2) Calculate'!B2371,\"Zzzzz - delete row\")","v":"Zzzzz - delete row"},{"$f":"IF('Step 2) Calculate'!E2371<>\"\",'Step 2) Calculate'!G2371,\"\")","v":""},{"$f":"IF(L2367<>\"\",'Step 2) Calculate'!F2371,\"\")","v":""},{"$f":"IF(L2367<>\"\",'Step 2) Calculate'!H2371,\"\")","v":""},{"$f":"IF(L2367<>\"\",'Step 2) Calculate'!C2371,\"\")","v":""}]
[null,null,null,null,null,null,null,null,null,null,{"$f":"IF(L2368<>\"\",'Step 2) Calculate'!B2372,\"Zzzzz - delete row\")","v":"Zzzzz - delete row"},{"$f":"IF('Step 2) Calculate'!E2372<>\"\",'Step 2) Calculate'!G2372,\"\")","v":""},{"$f":"IF(L2368<>\"\",'Step 2) Calculate'!F2372,\"\")","v":""},{"$f":"IF(L2368<>\"\",'Step 2) Calculate'!H2372,\"\")","v":""},{"$f":"IF(L2368<>\"\",'Step 2) Calculate'!C2372,\"\")","v":""}]
[null,null,null,null,null,null,null,null,null,null,{"$f":"IF(L2369<>\"\",'Step 2) Calculate'!B2373,\"Zzzzz - delete row\")","v":"Zzzzz - delete row"},{"$f":"IF('Step 2) Calculate'!E2373<>\"\",'Step 2) Calculate'!G2373,\"\")","v":""},{"$f":"IF(L2369<>\"\",'Step 2) Calculate'!F2373,\"\")","v":""},{"$f":"IF(L2369<>\"\",'Step 2) Calculate'!H2373,\"\")","v":""},{"$f":"IF(L2369<>\"\",'Step 2) Calculate'!C2373,\"\")","v":""}]
[null,null,null,null,null,null,null,null,null,null,{"$f":"IF(L2370<>\"\",'Step 2) Calculate'!B2374,\"Zzzzz - delete row\")","v":"Zzzzz - delete row"},{"$f":"IF('Step 2) Calculate'!E2374<>\"\",'Step 2) Calculate'!G2374,\"\")","v":""},{"$f":"IF(L2370<>\"\",'Step 2) Calculate'!F2374,\"\")","v":""},{"$f":"IF(L2370<>\"\",'Step 2) Calculate'!H2374,\"\")","v":""},{"$f":"IF(L2370<>\"\",'Step 2) Calculate'!C2374,\"\")","v":""}]
[null,null,null,null,null,null,null,null,null,null,{"$f":"IF(L2371<>\"\",'Step 2) Calculate'!B2375,\"Zzzzz - delete row\")","v":"Zzzzz - delete row"},{"$f":"IF('Step 2) Calculate'!E2375<>\"\",'Step 2) Calculate'!G2375,\"\")","v":""},{"$f":"IF(L2371<>\"\",'Step 2) Calculate'!F2375,\"\")","v":""},{"$f":"IF(L2371<>\"\",'Step 2) Calculate'!H2375,\"\")","v":""},{"$f":"IF(L2371<>\"\",'Step 2) Calculate'!C2375,\"\")","v":""}]
[null,null,null,null,null,null,null,null,null,null,{"$f":"IF(L2372<>\"\",'Step 2) Calculate'!B2376,\"Zzzzz - delete row\")","v":"Zzzzz - delete row"},{"$f":"IF('Step 2) Calculate'!E2376<>\"\",'Step 2) Calculate'!G2376,\"\")","v":""},{"$f":"IF(L2372<>\"\",'Step 2) Calculate'!F2376,\"\")","v":""},{"$f":"IF(L2372<>\"\",'Step 2) Calculate'!H2376,\"\")","v":""},{"$f":"IF(L2372<>\"\",'Step 2) Calculate'!C2376,\"\")","v":""}]
[null,null,null,null,null,null,null,null,null,null,{"$f":"IF(L2373<>\"\",'Step 2) Calculate'!B2377,\"Zzzzz - delete row\")","v":"Zzzzz - delete row"},{"$f":"IF('Step 2) Calculate'!E2377<>\"\",'Step 2) Calculate'!G2377,\"\")","v":""},{"$f":"IF(L2373<>\"\",'Step 2) Calculate'!F2377,\"\")","v":""},{"$f":"IF(L2373<>\"\",'Step 2) Calculate'!H2377,\"\")","v":""},{"$f":"IF(L2373<>\"\",'Step 2) Calculate'!C2377,\"\")","v":""}]
[null,null,null,null,null,null,null,null,null,null,{"$f":"IF(L2374<>\"\",'Step 2) Calculate'!B2378,\"Zzzzz - delete row\")","v":"Zzzzz - delete row"},{"$f":"IF('Step 2) Calculate'!E2378<>\"\",'Step 2) Calculate'!G2378,\"\")","v":""},{"$f":"IF(L2374<>\"\",'Step 2) Calculate'!F2378,\"\")","v":""},{"$f":"IF(L2374<>\"\",'Step 2) Calculate'!H2378,\"\")","v":""},{"$f":"IF(L2374<>\"\",'Step 2) Calculate'!C2378,\"\")","v":""}]
[null,null,null,null,null,null,null,null,null,null,{"$f":"IF(L2375<>\"\",'Step 2) Calculate'!B2379,\"Zzzzz - delete row\")","v":"Zzzzz - delete row"},{"$f":"IF('Step 2) Calculate'!E2379<>\"\",'Step 2) Calculate'!G2379,\"\")","v":""},{"$f":"IF(L2375<>\"\",'Step 2) Calculate'!F2379,\"\")","v":""},{"$f":"IF(L2375<>\"\",'Step 2) Calculate'!H2379,\"\")","v":""},{"$f":"IF(L2375<>\"\",'Step 2) Calculate'!C2379,\"\")","v":""}]
[null,null,null,null,null,null,null,null,null,null,{"$f":"IF(L2376<>\"\",'Step 2) Calculate'!B2380,\"Zzzzz - delete row\")","v":"Zzzzz - delete row"},{"$f":"IF('Step 2) Calculate'!E2380<>\"\",'Step 2) Calculate'!G2380,\"\")","v":""},{"$f":"IF(L2376<>\"\",'Step 2) Calculate'!F2380,\"\")","v":""},{"$f":"IF(L2376<>\"\",'Step 2) Calculate'!H2380,\"\")","v":""},{"$f":"IF(L2376<>\"\",'Step 2) Calculate'!C2380,\"\")","v":""}]
[null,null,null,null,null,null,null,null,null,null,{"$f":"IF(L2377<>\"\",'Step 2) Calculate'!B2381,\"Zzzzz - delete row\")","v":"Zzzzz - delete row"},{"$f":"IF('Step 2) Calculate'!E2381<>\"\",'Step 2) Calculate'!G2381,\"\")","v":""},{"$f":"IF(L2377<>\"\",'Step 2) Calculate'!F2381,\"\")","v":""},{"$f":"IF(L2377<>\"\",'Step 2) Calculate'!H2381,\"\")","v":""},{"$f":"IF(L2377<>\"\",'Step 2) Calculate'!C2381,\"\")","v":""}]
[null,null,null,null,null,null,null,null,null,null,{"$f":"IF(L2378<>\"\",'Step 2) Calculate'!B2382,\"Zzzzz - delete row\")","v":"Zzzzz - delete row"},{"$f":"IF('Step 2) Calculate'!E2382<>\"\",'Step 2) Calculate'!G2382,\"\")","v":""},{"$f":"IF(L2378<>\"\",'Step 2) Calculate'!F2382,\"\")","v":""},{"$f":"IF(L2378<>\"\",'Step 2) Calculate'!H2382,\"\")","v":""},{"$f":"IF(L2378<>\"\",'Step 2) Calculate'!C2382,\"\")","v":""}]
[null,null,null,null,null,null,null,null,null,null,{"$f":"IF(L2379<>\"\",'Step 2) Calculate'!B2383,\"Zzzzz - delete row\")","v":"Zzzzz - delete row"},{"$f":"IF('Step 2) Calculate'!E2383<>\"\",'Step 2) Calculate'!G2383,\"\")","v":""},{"$f":"IF(L2379<>\"\",'Step 2) Calculate'!F2383,\"\")","v":""},{"$f":"IF(L2379<>\"\",'Step 2) Calculate'!H2383,\"\")","v":""},{"$f":"IF(L2379<>\"\",'Step 2) Calculate'!C2383,\"\")","v":""}]
[null,null,null,null,null,null,null,null,null,null,{"$f":"IF(L2380<>\"\",'Step 2) Calculate'!B2384,\"Zzzzz - delete row\")","v":"Zzzzz - delete row"},{"$f":"IF('Step 2) Calculate'!E2384<>\"\",'Step 2) Calculate'!G2384,\"\")","v":""},{"$f":"IF(L2380<>\"\",'Step 2) Calculate'!F2384,\"\")","v":""},{"$f":"IF(L2380<>\"\",'Step 2) Calculate'!H2384,\"\")","v":""},{"$f":"IF(L2380<>\"\",'Step 2) Calculate'!C2384,\"\")","v":""}]
[null,null,null,null,null,null,null,null,null,null,{"$f":"IF(L2381<>\"\",'Step 2) Calculate'!B2385,\"Zzzzz - delete row\")","v":"Zzzzz - delete row"},{"$f":"IF('Step 2) Calculate'!E2385<>\"\",'Step 2) Calculate'!G2385,\"\")","v":""},{"$f":"IF(L2381<>\"\",'Step 2) Calculate'!F2385,\"\")","v":""},{"$f":"IF(L2381<>\"\",'Step 2) Calculate'!H2385,\"\")","v":""},{"$f":"IF(L2381<>\"\",'Step 2) Calculate'!C2385,\"\")","v":""}]
[null,null,null,null,null,null,null,null,null,null,{"$f":"IF(L2382<>\"\",'Step 2) Calculate'!B2386,\"Zzzzz - delete row\")","v":"Zzzzz - delete row"},{"$f":"IF('Step 2) Calculate'!E2386<>\"\",'Step 2) Calculate'!G2386,\"\")","v":""},{"$f":"IF(L2382<>\"\",'Step 2) Calculate'!F2386,\"\")","v":""},{"$f":"IF(L2382<>\"\",'Step 2) Calculate'!H2386,\"\")","v":""},{"$f":"IF(L2382<>\"\",'Step 2) Calculate'!C2386,\"\")","v":""}]
[null,null,null,null,null,null,null,null,null,null,{"$f":"IF(L2383<>\"\",'Step 2) Calculate'!B2387,\"Zzzzz - delete row\")","v":"Zzzzz - delete row"},{"$f":"IF('Step 2) Calculate'!E2387<>\"\",'Step 2) Calculate'!G2387,\"\")","v":""},{"$f":"IF(L2383<>\"\",'Step 2) Calculate'!F2387,\"\")","v":""},{"$f":"IF(L2383<>\"\",'Step 2) Calculate'!H2387,\"\")","v":""},{"$f":"IF(L2383<>\"\",'Step 2) Calculate'!C2387,\"\")","v":""}]
[null,null,null,null,null,null,null,null,null,null,{"$f":"IF(L2384<>\"\",'Step 2) Calculate'!B2388,\"Zzzzz - delete row\")","v":"Zzzzz - delete row"},{"$f":"IF('Step 2) Calculate'!E2388<>\"\",'Step 2) Calculate'!G2388,\"\")","v":""},{"$f":"IF(L2384<>\"\",'Step 2) Calculate'!F2388,\"\")","v":""},{"$f":"IF(L2384<>\"\",'Step 2) Calculate'!H2388,\"\")","v":""},{"$f":"IF(L2384<>\"\",'Step 2) Calculate'!C2388,\"\")","v":""}]
[null,null,null,null,null,null,null,null,null,null,{"$f":"IF(L2385<>\"\",'Step 2) Calculate'!B2389,\"Zzzzz - delete row\")","v":"Zzzzz - delete row"},{"$f":"IF('Step 2) Calculate'!E2389<>\"\",'Step 2) Calculate'!G2389,\"\")","v":""},{"$f":"IF(L2385<>\"\",'Step 2) Calculate'!F2389,\"\")","v":""},{"$f":"IF(L2385<>\"\",'Step 2) Calculate'!H2389,\"\")","v":""},{"$f":"IF(L2385<>\"\",'Step 2) Calculate'!C2389,\"\")","v":""}]
[null,null,null,null,null,null,null,null,null,null,{"$f":"IF(L2386<>\"\",'Step 2) Calculate'!B2390,\"Zzzzz - delete row\")","v":"Zzzzz - delete row"},{"$f":"IF('Step 2) Calculate'!E2390<>\"\",'Step 2) Calculate'!G2390,\"\")","v":""},{"$f":"IF(L2386<>\"\",'Step 2) Calculate'!F2390,\"\")","v":""},{"$f":"IF(L2386<>\"\",'Step 2) Calculate'!H2390,\"\")","v":""},{"$f":"IF(L2386<>\"\",'Step 2) Calculate'!C2390,\"\")","v":""}]
[null,null,null,null,null,null,null,null,null,null,{"$f":"IF(L2387<>\"\",'Step 2) Calculate'!B2391,\"Zzzzz - delete row\")","v":"Zzzzz - delete row"},{"$f":"IF('Step 2) Calculate'!E2391<>\"\",'Step 2) Calculate'!G2391,\"\")","v":""},{"$f":"IF(L2387<>\"\",'Step 2) Calculate'!F2391,\"\")","v":""},{"$f":"IF(L2387<>\"\",'Step 2) Calculate'!H2391,\"\")","v":""},{"$f":"IF(L2387<>\"\",'Step 2) Calculate'!C2391,\"\")","v":""}]
[null,null,null,null,null,null,null,null,null,null,{"$f":"IF(L2388<>\"\",'Step 2) Calculate'!B2392,\"Zzzzz - delete row\")","v":"Zzzzz - delete row"},{"$f":"IF('Step 2) Calculate'!E2392<>\"\",'Step 2) Calculate'!G2392,\"\")","v":""},{"$f":"IF(L2388<>\"\",'Step 2) Calculate'!F2392,\"\")","v":""},{"$f":"IF(L2388<>\"\",'Step 2) Calculate'!H2392,\"\")","v":""},{"$f":"IF(L2388<>\"\",'Step 2) Calculate'!C2392,\"\")","v":""}]
[null,null,null,null,null,null,null,null,null,null,{"$f":"IF(L2389<>\"\",'Step 2) Calculate'!B2393,\"Zzzzz - delete row\")","v":"Zzzzz - delete row"},{"$f":"IF('Step 2) Calculate'!E2393<>\"\",'Step 2) Calculate'!G2393,\"\")","v":""},{"$f":"IF(L2389<>\"\",'Step 2) Calculate'!F2393,\"\")","v":""},{"$f":"IF(L2389<>\"\",'Step 2) Calculate'!H2393,\"\")","v":""},{"$f":"IF(L2389<>\"\",'Step 2) Calculate'!C2393,\"\")","v":""}]
[null,null,null,null,null,null,null,null,null,null,{"$f":"IF(L2390<>\"\",'Step 2) Calculate'!B2394,\"Zzzzz - delete row\")","v":"Zzzzz - delete row"},{"$f":"IF('Step 2) Calculate'!E2394<>\"\",'Step 2) Calculate'!G2394,\"\")","v":""},{"$f":"IF(L2390<>\"\",'Step 2) Calculate'!F2394,\"\")","v":""},{"$f":"IF(L2390<>\"\",'Step 2) Calculate'!H2394,\"\")","v":""},{"$f":"IF(L2390<>\"\",'Step 2) Calculate'!C2394,\"\")","v":""}]
[null,null,null,null,null,null,null,null,null,null,{"$f":"IF(L2391<>\"\",'Step 2) Calculate'!B2395,\"Zzzzz - delete row\")","v":"Zzzzz - delete row"},{"$f":"IF('Step 2) Calculate'!E2395<>\"\",'Step 2) Calculate'!G2395,\"\")","v":""},{"$f":"IF(L2391<>\"\",'Step 2) Calculate'!F2395,\"\")","v":""},{"$f":"IF(L2391<>\"\",'Step 2) Calculate'!H2395,\"\")","v":""},{"$f":"IF(L2391<>\"\",'Step 2) Calculate'!C2395,\"\")","v":""}]
[null,null,null,null,null,null,null,null,null,null,{"$f":"IF(L2392<>\"\",'Step 2) Calculate'!B2396,\"Zzzzz - delete row\")","v":"Zzzzz - delete row"},{"$f":"IF('Step 2) Calculate'!E2396<>\"\",'Step 2) Calculate'!G2396,\"\")","v":""},{"$f":"IF(L2392<>\"\",'Step 2) Calculate'!F2396,\"\")","v":""},{"$f":"IF(L2392<>\"\",'Step 2) Calculate'!H2396,\"\")","v":""},{"$f":"IF(L2392<>\"\",'Step 2) Calculate'!C2396,\"\")","v":""}]
[null,null,null,null,null,null,null,null,null,null,{"$f":"IF(L2393<>\"\",'Step 2) Calculate'!B2397,\"Zzzzz - delete row\")","v":"Zzzzz - delete row"},{"$f":"IF('Step 2) Calculate'!E2397<>\"\",'Step 2) Calculate'!G2397,\"\")","v":""},{"$f":"IF(L2393<>\"\",'Step 2) Calculate'!F2397,\"\")","v":""},{"$f":"IF(L2393<>\"\",'Step 2) Calculate'!H2397,\"\")","v":""},{"$f":"IF(L2393<>\"\",'Step 2) Calculate'!C2397,\"\")","v":""}]
[null,null,null,null,null,null,null,null,null,null,{"$f":"IF(L2394<>\"\",'Step 2) Calculate'!B2398,\"Zzzzz - delete row\")","v":"Zzzzz - delete row"},{"$f":"IF('Step 2) Calculate'!E2398<>\"\",'Step 2) Calculate'!G2398,\"\")","v":""},{"$f":"IF(L2394<>\"\",'Step 2) Calculate'!F2398,\"\")","v":""},{"$f":"IF(L2394<>\"\",'Step 2) Calculate'!H2398,\"\")","v":""},{"$f":"IF(L2394<>\"\",'Step 2) Calculate'!C2398,\"\")","v":""}]
[null,null,null,null,null,null,null,null,null,null,{"$f":"IF(L2395<>\"\",'Step 2) Calculate'!B2399,\"Zzzzz - delete row\")","v":"Zzzzz - delete row"},{"$f":"IF('Step 2) Calculate'!E2399<>\"\",'Step 2) Calculate'!G2399,\"\")","v":""},{"$f":"IF(L2395<>\"\",'Step 2) Calculate'!F2399,\"\")","v":""},{"$f":"IF(L2395<>\"\",'Step 2) Calculate'!H2399,\"\")","v":""},{"$f":"IF(L2395<>\"\",'Step 2) Calculate'!C2399,\"\")","v":""}]
[null,null,null,null,null,null,null,null,null,null,{"$f":"IF(L2396<>\"\",'Step 2) Calculate'!B2400,\"Zzzzz - delete row\")","v":"Zzzzz - delete row"},{"$f":"IF('Step 2) Calculate'!E2400<>\"\",'Step 2) Calculate'!G2400,\"\")","v":""},{"$f":"IF(L2396<>\"\",'Step 2) Calculate'!F2400,\"\")","v":""},{"$f":"IF(L2396<>\"\",'Step 2) Calculate'!H2400,\"\")","v":""},{"$f":"IF(L2396<>\"\",'Step 2) Calculate'!C2400,\"\")","v":""}]
[null,null,null,null,null,null,null,null,null,null,{"$f":"IF(L2397<>\"\",'Step 2) Calculate'!B2401,\"Zzzzz - delete row\")","v":"Zzzzz - delete row"},{"$f":"IF('Step 2) Calculate'!E2401<>\"\",'Step 2) Calculate'!G2401,\"\")","v":""},{"$f":"IF(L2397<>\"\",'Step 2) Calculate'!F2401,\"\")","v":""},{"$f":"IF(L2397<>\"\",'Step 2) Calculate'!H2401,\"\")","v":""},{"$f":"IF(L2397<>\"\",'Step 2) Calculate'!C2401,\"\")","v":""}]
[null,null,null,null,null,null,null,null,null,null,{"$f":"IF(L2398<>\"\",'Step 2) Calculate'!B2402,\"Zzzzz - delete row\")","v":"Zzzzz - delete row"},{"$f":"IF('Step 2) Calculate'!E2402<>\"\",'Step 2) Calculate'!G2402,\"\")","v":""},{"$f":"IF(L2398<>\"\",'Step 2) Calculate'!F2402,\"\")","v":""},{"$f":"IF(L2398<>\"\",'Step 2) Calculate'!H2402,\"\")","v":""},{"$f":"IF(L2398<>\"\",'Step 2) Calculate'!C2402,\"\")","v":""}]
[null,null,null,null,null,null,null,null,null,null,{"$f":"IF(L2399<>\"\",'Step 2) Calculate'!B2403,\"Zzzzz - delete row\")","v":"Zzzzz - delete row"},{"$f":"IF('Step 2) Calculate'!E2403<>\"\",'Step 2) Calculate'!G2403,\"\")","v":""},{"$f":"IF(L2399<>\"\",'Step 2) Calculate'!F2403,\"\")","v":""},{"$f":"IF(L2399<>\"\",'Step 2) Calculate'!H2403,\"\")","v":""},{"$f":"IF(L2399<>\"\",'Step 2) Calculate'!C2403,\"\")","v":""}]
[null,null,null,null,null,null,null,null,null,null,{"$f":"IF(L2400<>\"\",'Step 2) Calculate'!B2404,\"Zzzzz - delete row\")","v":"Zzzzz - delete row"},{"$f":"IF('Step 2) Calculate'!E2404<>\"\",'Step 2) Calculate'!G2404,\"\")","v":""},{"$f":"IF(L2400<>\"\",'Step 2) Calculate'!F2404,\"\")","v":""},{"$f":"IF(L2400<>\"\",'Step 2) Calculate'!H2404,\"\")","v":""},{"$f":"IF(L2400<>\"\",'Step 2) Calculate'!C2404,\"\")","v":""}]
[null,null,null,null,null,null,null,null,null,null,{"$f":"IF(L2401<>\"\",'Step 2) Calculate'!B2405,\"Zzzzz - delete row\")","v":"Zzzzz - delete row"},{"$f":"IF('Step 2) Calculate'!E2405<>\"\",'Step 2) Calculate'!G2405,\"\")","v":""},{"$f":"IF(L2401<>\"\",'Step 2) Calculate'!F2405,\"\")","v":""},{"$f":"IF(L2401<>\"\",'Step 2) Calculate'!H2405,\"\")","v":""},{"$f":"IF(L2401<>\"\",'Step 2) Calculate'!C2405,\"\")","v":""}]
[null,null,null,null,null,null,null,null,null,null,{"$f":"IF(L2402<>\"\",'Step 2) Calculate'!B2406,\"Zzzzz - delete row\")","v":"Zzzzz - delete row"},{"$f":"IF('Step 2) Calculate'!E2406<>\"\",'Step 2) Calculate'!G2406,\"\")","v":""},{"$f":"IF(L2402<>\"\",'Step 2) Calculate'!F2406,\"\")","v":""},{"$f":"IF(L2402<>\"\",'Step 2) Calculate'!H2406,\"\")","v":""},{"$f":"IF(L2402<>\"\",'Step 2) Calculate'!C2406,\"\")","v":""}]
[null,null,null,null,null,null,null,null,null,null,{"$f":"IF(L2403<>\"\",'Step 2) Calculate'!B2407,\"Zzzzz - delete row\")","v":"Zzzzz - delete row"},{"$f":"IF('Step 2) Calculate'!E2407<>\"\",'Step 2) Calculate'!G2407,\"\")","v":""},{"$f":"IF(L2403<>\"\",'Step 2) Calculate'!F2407,\"\")","v":""},{"$f":"IF(L2403<>\"\",'Step 2) Calculate'!H2407,\"\")","v":""},{"$f":"IF(L2403<>\"\",'Step 2) Calculate'!C2407,\"\")","v":""}]
[null,null,null,null,null,null,null,null,null,null,{"$f":"IF(L2404<>\"\",'Step 2) Calculate'!B2408,\"Zzzzz - delete row\")","v":"Zzzzz - delete row"},{"$f":"IF('Step 2) Calculate'!E2408<>\"\",'Step 2) Calculate'!G2408,\"\")","v":""},{"$f":"IF(L2404<>\"\",'Step 2) Calculate'!F2408,\"\")","v":""},{"$f":"IF(L2404<>\"\",'Step 2) Calculate'!H2408,\"\")","v":""},{"$f":"IF(L2404<>\"\",'Step 2) Calculate'!C2408,\"\")","v":""}]
[null,null,null,null,null,null,null,null,null,null,{"$f":"IF(L2405<>\"\",'Step 2) Calculate'!B2409,\"Zzzzz - delete row\")","v":"Zzzzz - delete row"},{"$f":"IF('Step 2) Calculate'!E2409<>\"\",'Step 2) Calculate'!G2409,\"\")","v":""},{"$f":"IF(L2405<>\"\",'Step 2) Calculate'!F2409,\"\")","v":""},{"$f":"IF(L2405<>\"\",'Step 2) Calculate'!H2409,\"\")","v":""},{"$f":"IF(L2405<>\"\",'Step 2) Calculate'!C2409,\"\")","v":""}]
[null,null,null,null,null,null,null,null,null,null,{"$f":"IF(L2406<>\"\",'Step 2) Calculate'!B2410,\"Zzzzz - delete row\")","v":"Zzzzz - delete row"},{"$f":"IF('Step 2) Calculate'!E2410<>\"\",'Step 2) Calculate'!G2410,\"\")","v":""},{"$f":"IF(L2406<>\"\",'Step 2) Calculate'!F2410,\"\")","v":""},{"$f":"IF(L2406<>\"\",'Step 2) Calculate'!H2410,\"\")","v":""},{"$f":"IF(L2406<>\"\",'Step 2) Calculate'!C2410,\"\")","v":""}]
[null,null,null,null,null,null,null,null,null,null,{"$f":"IF(L2407<>\"\",'Step 2) Calculate'!B2411,\"Zzzzz - delete row\")","v":"Zzzzz - delete row"},{"$f":"IF('Step 2) Calculate'!E2411<>\"\",'Step 2) Calculate'!G2411,\"\")","v":""},{"$f":"IF(L2407<>\"\",'Step 2) Calculate'!F2411,\"\")","v":""},{"$f":"IF(L2407<>\"\",'Step 2) Calculate'!H2411,\"\")","v":""},{"$f":"IF(L2407<>\"\",'Step 2) Calculate'!C2411,\"\")","v":""}]
[null,null,null,null,null,null,null,null,null,null,{"$f":"IF(L2408<>\"\",'Step 2) Calculate'!B2412,\"Zzzzz - delete row\")","v":"Zzzzz - delete row"},{"$f":"IF('Step 2) Calculate'!E2412<>\"\",'Step 2) Calculate'!G2412,\"\")","v":""},{"$f":"IF(L2408<>\"\",'Step 2) Calculate'!F2412,\"\")","v":""},{"$f":"IF(L2408<>\"\",'Step 2) Calculate'!H2412,\"\")","v":""},{"$f":"IF(L2408<>\"\",'Step 2) Calculate'!C2412,\"\")","v":""}]
[null,null,null,null,null,null,null,null,null,null,{"$f":"IF(L2409<>\"\",'Step 2) Calculate'!B2413,\"Zzzzz - delete row\")","v":"Zzzzz - delete row"},{"$f":"IF('Step 2) Calculate'!E2413<>\"\",'Step 2) Calculate'!G2413,\"\")","v":""},{"$f":"IF(L2409<>\"\",'Step 2) Calculate'!F2413,\"\")","v":""},{"$f":"IF(L2409<>\"\",'Step 2) Calculate'!H2413,\"\")","v":""},{"$f":"IF(L2409<>\"\",'Step 2) Calculate'!C2413,\"\")","v":""}]
[null,null,null,null,null,null,null,null,null,null,{"$f":"IF(L2410<>\"\",'Step 2) Calculate'!B2414,\"Zzzzz - delete row\")","v":"Zzzzz - delete row"},{"$f":"IF('Step 2) Calculate'!E2414<>\"\",'Step 2) Calculate'!G2414,\"\")","v":""},{"$f":"IF(L2410<>\"\",'Step 2) Calculate'!F2414,\"\")","v":""},{"$f":"IF(L2410<>\"\",'Step 2) Calculate'!H2414,\"\")","v":""},{"$f":"IF(L2410<>\"\",'Step 2) Calculate'!C2414,\"\")","v":""}]
[null,null,null,null,null,null,null,null,null,null,{"$f":"IF(L2411<>\"\",'Step 2) Calculate'!B2415,\"Zzzzz - delete row\")","v":"Zzzzz - delete row"},{"$f":"IF('Step 2) Calculate'!E2415<>\"\",'Step 2) Calculate'!G2415,\"\")","v":""},{"$f":"IF(L2411<>\"\",'Step 2) Calculate'!F2415,\"\")","v":""},{"$f":"IF(L2411<>\"\",'Step 2) Calculate'!H2415,\"\")","v":""},{"$f":"IF(L2411<>\"\",'Step 2) Calculate'!C2415,\"\")","v":""}]
[null,null,null,null,null,null,null,null,null,null,{"$f":"IF(L2412<>\"\",'Step 2) Calculate'!B2416,\"Zzzzz - delete row\")","v":"Zzzzz - delete row"},{"$f":"IF('Step 2) Calculate'!E2416<>\"\",'Step 2) Calculate'!G2416,\"\")","v":""},{"$f":"IF(L2412<>\"\",'Step 2) Calculate'!F2416,\"\")","v":""},{"$f":"IF(L2412<>\"\",'Step 2) Calculate'!H2416,\"\")","v":""},{"$f":"IF(L2412<>\"\",'Step 2) Calculate'!C2416,\"\")","v":""}]
[null,null,null,null,null,null,null,null,null,null,{"$f":"IF(L2413<>\"\",'Step 2) Calculate'!B2417,\"Zzzzz - delete row\")","v":"Zzzzz - delete row"},{"$f":"IF('Step 2) Calculate'!E2417<>\"\",'Step 2) Calculate'!G2417,\"\")","v":""},{"$f":"IF(L2413<>\"\",'Step 2) Calculate'!F2417,\"\")","v":""},{"$f":"IF(L2413<>\"\",'Step 2) Calculate'!H2417,\"\")","v":""},{"$f":"IF(L2413<>\"\",'Step 2) Calculate'!C2417,\"\")","v":""}]
[null,null,null,null,null,null,null,null,null,null,{"$f":"IF(L2414<>\"\",'Step 2) Calculate'!B2418,\"Zzzzz - delete row\")","v":"Zzzzz - delete row"},{"$f":"IF('Step 2) Calculate'!E2418<>\"\",'Step 2) Calculate'!G2418,\"\")","v":""},{"$f":"IF(L2414<>\"\",'Step 2) Calculate'!F2418,\"\")","v":""},{"$f":"IF(L2414<>\"\",'Step 2) Calculate'!H2418,\"\")","v":""},{"$f":"IF(L2414<>\"\",'Step 2) Calculate'!C2418,\"\")","v":""}]
[null,null,null,null,null,null,null,null,null,null,{"$f":"IF(L2415<>\"\",'Step 2) Calculate'!B2419,\"Zzzzz - delete row\")","v":"Zzzzz - delete row"},{"$f":"IF('Step 2) Calculate'!E2419<>\"\",'Step 2) Calculate'!G2419,\"\")","v":""},{"$f":"IF(L2415<>\"\",'Step 2) Calculate'!F2419,\"\")","v":""},{"$f":"IF(L2415<>\"\",'Step 2) Calculate'!H2419,\"\")","v":""},{"$f":"IF(L2415<>\"\",'Step 2) Calculate'!C2419,\"\")","v":""}]
[null,null,null,null,null,null,null,null,null,null,{"$f":"IF(L2416<>\"\",'Step 2) Calculate'!B2420,\"Zzzzz - delete row\")","v":"Zzzzz - delete row"},{"$f":"IF('Step 2) Calculate'!E2420<>\"\",'Step 2) Calculate'!G2420,\"\")","v":""},{"$f":"IF(L2416<>\"\",'Step 2) Calculate'!F2420,\"\")","v":""},{"$f":"IF(L2416<>\"\",'Step 2) Calculate'!H2420,\"\")","v":""},{"$f":"IF(L2416<>\"\",'Step 2) Calculate'!C2420,\"\")","v":""}]
[null,null,null,null,null,null,null,null,null,null,{"$f":"IF(L2417<>\"\",'Step 2) Calculate'!B2421,\"Zzzzz - delete row\")","v":"Zzzzz - delete row"},{"$f":"IF('Step 2) Calculate'!E2421<>\"\",'Step 2) Calculate'!G2421,\"\")","v":""},{"$f":"IF(L2417<>\"\",'Step 2) Calculate'!F2421,\"\")","v":""},{"$f":"IF(L2417<>\"\",'Step 2) Calculate'!H2421,\"\")","v":""},{"$f":"IF(L2417<>\"\",'Step 2) Calculate'!C2421,\"\")","v":""}]
[null,null,null,null,null,null,null,null,null,null,{"$f":"IF(L2418<>\"\",'Step 2) Calculate'!B2422,\"Zzzzz - delete row\")","v":"Zzzzz - delete row"},{"$f":"IF('Step 2) Calculate'!E2422<>\"\",'Step 2) Calculate'!G2422,\"\")","v":""},{"$f":"IF(L2418<>\"\",'Step 2) Calculate'!F2422,\"\")","v":""},{"$f":"IF(L2418<>\"\",'Step 2) Calculate'!H2422,\"\")","v":""},{"$f":"IF(L2418<>\"\",'Step 2) Calculate'!C2422,\"\")","v":""}]
[null,null,null,null,null,null,null,null,null,null,{"$f":"IF(L2419<>\"\",'Step 2) Calculate'!B2423,\"Zzzzz - delete row\")","v":"Zzzzz - delete row"},{"$f":"IF('Step 2) Calculate'!E2423<>\"\",'Step 2) Calculate'!G2423,\"\")","v":""},{"$f":"IF(L2419<>\"\",'Step 2) Calculate'!F2423,\"\")","v":""},{"$f":"IF(L2419<>\"\",'Step 2) Calculate'!H2423,\"\")","v":""},{"$f":"IF(L2419<>\"\",'Step 2) Calculate'!C2423,\"\")","v":""}]
[null,null,null,null,null,null,null,null,null,null,{"$f":"IF(L2420<>\"\",'Step 2) Calculate'!B2424,\"Zzzzz - delete row\")","v":"Zzzzz - delete row"},{"$f":"IF('Step 2) Calculate'!E2424<>\"\",'Step 2) Calculate'!G2424,\"\")","v":""},{"$f":"IF(L2420<>\"\",'Step 2) Calculate'!F2424,\"\")","v":""},{"$f":"IF(L2420<>\"\",'Step 2) Calculate'!H2424,\"\")","v":""},{"$f":"IF(L2420<>\"\",'Step 2) Calculate'!C2424,\"\")","v":""}]
[null,null,null,null,null,null,null,null,null,null,{"$f":"IF(L2421<>\"\",'Step 2) Calculate'!B2425,\"Zzzzz - delete row\")","v":"Zzzzz - delete row"},{"$f":"IF('Step 2) Calculate'!E2425<>\"\",'Step 2) Calculate'!G2425,\"\")","v":""},{"$f":"IF(L2421<>\"\",'Step 2) Calculate'!F2425,\"\")","v":""},{"$f":"IF(L2421<>\"\",'Step 2) Calculate'!H2425,\"\")","v":""},{"$f":"IF(L2421<>\"\",'Step 2) Calculate'!C2425,\"\")","v":""}]
[null,null,null,null,null,null,null,null,null,null,{"$f":"IF(L2422<>\"\",'Step 2) Calculate'!B2426,\"Zzzzz - delete row\")","v":"Zzzzz - delete row"},{"$f":"IF('Step 2) Calculate'!E2426<>\"\",'Step 2) Calculate'!G2426,\"\")","v":""},{"$f":"IF(L2422<>\"\",'Step 2) Calculate'!F2426,\"\")","v":""},{"$f":"IF(L2422<>\"\",'Step 2) Calculate'!H2426,\"\")","v":""},{"$f":"IF(L2422<>\"\",'Step 2) Calculate'!C2426,\"\")","v":""}]
[null,null,null,null,null,null,null,null,null,null,{"$f":"IF(L2423<>\"\",'Step 2) Calculate'!B2427,\"Zzzzz - delete row\")","v":"Zzzzz - delete row"},{"$f":"IF('Step 2) Calculate'!E2427<>\"\",'Step 2) Calculate'!G2427,\"\")","v":""},{"$f":"IF(L2423<>\"\",'Step 2) Calculate'!F2427,\"\")","v":""},{"$f":"IF(L2423<>\"\",'Step 2) Calculate'!H2427,\"\")","v":""},{"$f":"IF(L2423<>\"\",'Step 2) Calculate'!C2427,\"\")","v":""}]
[null,null,null,null,null,null,null,null,null,null,{"$f":"IF(L2424<>\"\",'Step 2) Calculate'!B2428,\"Zzzzz - delete row\")","v":"Zzzzz - delete row"},{"$f":"IF('Step 2) Calculate'!E2428<>\"\",'Step 2) Calculate'!G2428,\"\")","v":""},{"$f":"IF(L2424<>\"\",'Step 2) Calculate'!F2428,\"\")","v":""},{"$f":"IF(L2424<>\"\",'Step 2) Calculate'!H2428,\"\")","v":""},{"$f":"IF(L2424<>\"\",'Step 2) Calculate'!C2428,\"\")","v":""}]
[null,null,null,null,null,null,null,null,null,null,{"$f":"IF(L2425<>\"\",'Step 2) Calculate'!B2429,\"Zzzzz - delete row\")","v":"Zzzzz - delete row"},{"$f":"IF('Step 2) Calculate'!E2429<>\"\",'Step 2) Calculate'!G2429,\"\")","v":""},{"$f":"IF(L2425<>\"\",'Step 2) Calculate'!F2429,\"\")","v":""},{"$f":"IF(L2425<>\"\",'Step 2) Calculate'!H2429,\"\")","v":""},{"$f":"IF(L2425<>\"\",'Step 2) Calculate'!C2429,\"\")","v":""}]
[null,null,null,null,null,null,null,null,null,null,{"$f":"IF(L2426<>\"\",'Step 2) Calculate'!B2430,\"Zzzzz - delete row\")","v":"Zzzzz - delete row"},{"$f":"IF('Step 2) Calculate'!E2430<>\"\",'Step 2) Calculate'!G2430,\"\")","v":""},{"$f":"IF(L2426<>\"\",'Step 2) Calculate'!F2430,\"\")","v":""},{"$f":"IF(L2426<>\"\",'Step 2) Calculate'!H2430,\"\")","v":""},{"$f":"IF(L2426<>\"\",'Step 2) Calculate'!C2430,\"\")","v":""}]
[null,null,null,null,null,null,null,null,null,null,{"$f":"IF(L2427<>\"\",'Step 2) Calculate'!B2431,\"Zzzzz - delete row\")","v":"Zzzzz - delete row"},{"$f":"IF('Step 2) Calculate'!E2431<>\"\",'Step 2) Calculate'!G2431,\"\")","v":""},{"$f":"IF(L2427<>\"\",'Step 2) Calculate'!F2431,\"\")","v":""},{"$f":"IF(L2427<>\"\",'Step 2) Calculate'!H2431,\"\")","v":""},{"$f":"IF(L2427<>\"\",'Step 2) Calculate'!C2431,\"\")","v":""}]
[null,null,null,null,null,null,null,null,null,null,{"$f":"IF(L2428<>\"\",'Step 2) Calculate'!B2432,\"Zzzzz - delete row\")","v":"Zzzzz - delete row"},{"$f":"IF('Step 2) Calculate'!E2432<>\"\",'Step 2) Calculate'!G2432,\"\")","v":""},{"$f":"IF(L2428<>\"\",'Step 2) Calculate'!F2432,\"\")","v":""},{"$f":"IF(L2428<>\"\",'Step 2) Calculate'!H2432,\"\")","v":""},{"$f":"IF(L2428<>\"\",'Step 2) Calculate'!C2432,\"\")","v":""}]
[null,null,null,null,null,null,null,null,null,null,{"$f":"IF(L2429<>\"\",'Step 2) Calculate'!B2433,\"Zzzzz - delete row\")","v":"Zzzzz - delete row"},{"$f":"IF('Step 2) Calculate'!E2433<>\"\",'Step 2) Calculate'!G2433,\"\")","v":""},{"$f":"IF(L2429<>\"\",'Step 2) Calculate'!F2433,\"\")","v":""},{"$f":"IF(L2429<>\"\",'Step 2) Calculate'!H2433,\"\")","v":""},{"$f":"IF(L2429<>\"\",'Step 2) Calculate'!C2433,\"\")","v":""}]
[null,null,null,null,null,null,null,null,null,null,{"$f":"IF(L2430<>\"\",'Step 2) Calculate'!B2434,\"Zzzzz - delete row\")","v":"Zzzzz - delete row"},{"$f":"IF('Step 2) Calculate'!E2434<>\"\",'Step 2) Calculate'!G2434,\"\")","v":""},{"$f":"IF(L2430<>\"\",'Step 2) Calculate'!F2434,\"\")","v":""},{"$f":"IF(L2430<>\"\",'Step 2) Calculate'!H2434,\"\")","v":""},{"$f":"IF(L2430<>\"\",'Step 2) Calculate'!C2434,\"\")","v":""}]
[null,null,null,null,null,null,null,null,null,null,{"$f":"IF(L2431<>\"\",'Step 2) Calculate'!B2435,\"Zzzzz - delete row\")","v":"Zzzzz - delete row"},{"$f":"IF('Step 2) Calculate'!E2435<>\"\",'Step 2) Calculate'!G2435,\"\")","v":""},{"$f":"IF(L2431<>\"\",'Step 2) Calculate'!F2435,\"\")","v":""},{"$f":"IF(L2431<>\"\",'Step 2) Calculate'!H2435,\"\")","v":""},{"$f":"IF(L2431<>\"\",'Step 2) Calculate'!C2435,\"\")","v":""}]
[null,null,null,null,null,null,null,null,null,null,{"$f":"IF(L2432<>\"\",'Step 2) Calculate'!B2436,\"Zzzzz - delete row\")","v":"Zzzzz - delete row"},{"$f":"IF('Step 2) Calculate'!E2436<>\"\",'Step 2) Calculate'!G2436,\"\")","v":""},{"$f":"IF(L2432<>\"\",'Step 2) Calculate'!F2436,\"\")","v":""},{"$f":"IF(L2432<>\"\",'Step 2) Calculate'!H2436,\"\")","v":""},{"$f":"IF(L2432<>\"\",'Step 2) Calculate'!C2436,\"\")","v":""}]
[null,null,null,null,null,null,null,null,null,null,{"$f":"IF(L2433<>\"\",'Step 2) Calculate'!B2437,\"Zzzzz - delete row\")","v":"Zzzzz - delete row"},{"$f":"IF('Step 2) Calculate'!E2437<>\"\",'Step 2) Calculate'!G2437,\"\")","v":""},{"$f":"IF(L2433<>\"\",'Step 2) Calculate'!F2437,\"\")","v":""},{"$f":"IF(L2433<>\"\",'Step 2) Calculate'!H2437,\"\")","v":""},{"$f":"IF(L2433<>\"\",'Step 2) Calculate'!C2437,\"\")","v":""}]
[null,null,null,null,null,null,null,null,null,null,{"$f":"IF(L2434<>\"\",'Step 2) Calculate'!B2438,\"Zzzzz - delete row\")","v":"Zzzzz - delete row"},{"$f":"IF('Step 2) Calculate'!E2438<>\"\",'Step 2) Calculate'!G2438,\"\")","v":""},{"$f":"IF(L2434<>\"\",'Step 2) Calculate'!F2438,\"\")","v":""},{"$f":"IF(L2434<>\"\",'Step 2) Calculate'!H2438,\"\")","v":""},{"$f":"IF(L2434<>\"\",'Step 2) Calculate'!C2438,\"\")","v":""}]
[null,null,null,null,null,null,null,null,null,null,{"$f":"IF(L2435<>\"\",'Step 2) Calculate'!B2439,\"Zzzzz - delete row\")","v":"Zzzzz - delete row"},{"$f":"IF('Step 2) Calculate'!E2439<>\"\",'Step 2) Calculate'!G2439,\"\")","v":""},{"$f":"IF(L2435<>\"\",'Step 2) Calculate'!F2439,\"\")","v":""},{"$f":"IF(L2435<>\"\",'Step 2) Calculate'!H2439,\"\")","v":""},{"$f":"IF(L2435<>\"\",'Step 2) Calculate'!C2439,\"\")","v":""}]
[null,null,null,null,null,null,null,null,null,null,{"$f":"IF(L2436<>\"\",'Step 2) Calculate'!B2440,\"Zzzzz - delete row\")","v":"Zzzzz - delete row"},{"$f":"IF('Step 2) Calculate'!E2440<>\"\",'Step 2) Calculate'!G2440,\"\")","v":""},{"$f":"IF(L2436<>\"\",'Step 2) Calculate'!F2440,\"\")","v":""},{"$f":"IF(L2436<>\"\",'Step 2) Calculate'!H2440,\"\")","v":""},{"$f":"IF(L2436<>\"\",'Step 2) Calculate'!C2440,\"\")","v":""}]
[null,null,null,null,null,null,null,null,null,null,{"$f":"IF(L2437<>\"\",'Step 2) Calculate'!B2441,\"Zzzzz - delete row\")","v":"Zzzzz - delete row"},{"$f":"IF('Step 2) Calculate'!E2441<>\"\",'Step 2) Calculate'!G2441,\"\")","v":""},{"$f":"IF(L2437<>\"\",'Step 2) Calculate'!F2441,\"\")","v":""},{"$f":"IF(L2437<>\"\",'Step 2) Calculate'!H2441,\"\")","v":""},{"$f":"IF(L2437<>\"\",'Step 2) Calculate'!C2441,\"\")","v":""}]
[null,null,null,null,null,null,null,null,null,null,{"$f":"IF(L2438<>\"\",'Step 2) Calculate'!B2442,\"Zzzzz - delete row\")","v":"Zzzzz - delete row"},{"$f":"IF('Step 2) Calculate'!E2442<>\"\",'Step 2) Calculate'!G2442,\"\")","v":""},{"$f":"IF(L2438<>\"\",'Step 2) Calculate'!F2442,\"\")","v":""},{"$f":"IF(L2438<>\"\",'Step 2) Calculate'!H2442,\"\")","v":""},{"$f":"IF(L2438<>\"\",'Step 2) Calculate'!C2442,\"\")","v":""}]
[null,null,null,null,null,null,null,null,null,null,{"$f":"IF(L2439<>\"\",'Step 2) Calculate'!B2443,\"Zzzzz - delete row\")","v":"Zzzzz - delete row"},{"$f":"IF('Step 2) Calculate'!E2443<>\"\",'Step 2) Calculate'!G2443,\"\")","v":""},{"$f":"IF(L2439<>\"\",'Step 2) Calculate'!F2443,\"\")","v":""},{"$f":"IF(L2439<>\"\",'Step 2) Calculate'!H2443,\"\")","v":""},{"$f":"IF(L2439<>\"\",'Step 2) Calculate'!C2443,\"\")","v":""}]
[null,null,null,null,null,null,null,null,null,null,{"$f":"IF(L2440<>\"\",'Step 2) Calculate'!B2444,\"Zzzzz - delete row\")","v":"Zzzzz - delete row"},{"$f":"IF('Step 2) Calculate'!E2444<>\"\",'Step 2) Calculate'!G2444,\"\")","v":""},{"$f":"IF(L2440<>\"\",'Step 2) Calculate'!F2444,\"\")","v":""},{"$f":"IF(L2440<>\"\",'Step 2) Calculate'!H2444,\"\")","v":""},{"$f":"IF(L2440<>\"\",'Step 2) Calculate'!C2444,\"\")","v":""}]
[null,null,null,null,null,null,null,null,null,null,{"$f":"IF(L2441<>\"\",'Step 2) Calculate'!B2445,\"Zzzzz - delete row\")","v":"Zzzzz - delete row"},{"$f":"IF('Step 2) Calculate'!E2445<>\"\",'Step 2) Calculate'!G2445,\"\")","v":""},{"$f":"IF(L2441<>\"\",'Step 2) Calculate'!F2445,\"\")","v":""},{"$f":"IF(L2441<>\"\",'Step 2) Calculate'!H2445,\"\")","v":""},{"$f":"IF(L2441<>\"\",'Step 2) Calculate'!C2445,\"\")","v":""}]
[null,null,null,null,null,null,null,null,null,null,{"$f":"IF(L2442<>\"\",'Step 2) Calculate'!B2446,\"Zzzzz - delete row\")","v":"Zzzzz - delete row"},{"$f":"IF('Step 2) Calculate'!E2446<>\"\",'Step 2) Calculate'!G2446,\"\")","v":""},{"$f":"IF(L2442<>\"\",'Step 2) Calculate'!F2446,\"\")","v":""},{"$f":"IF(L2442<>\"\",'Step 2) Calculate'!H2446,\"\")","v":""},{"$f":"IF(L2442<>\"\",'Step 2) Calculate'!C2446,\"\")","v":""}]
[null,null,null,null,null,null,null,null,null,null,{"$f":"IF(L2443<>\"\",'Step 2) Calculate'!B2447,\"Zzzzz - delete row\")","v":"Zzzzz - delete row"},{"$f":"IF('Step 2) Calculate'!E2447<>\"\",'Step 2) Calculate'!G2447,\"\")","v":""},{"$f":"IF(L2443<>\"\",'Step 2) Calculate'!F2447,\"\")","v":""},{"$f":"IF(L2443<>\"\",'Step 2) Calculate'!H2447,\"\")","v":""},{"$f":"IF(L2443<>\"\",'Step 2) Calculate'!C2447,\"\")","v":""}]
[null,null,null,null,null,null,null,null,null,null,{"$f":"IF(L2444<>\"\",'Step 2) Calculate'!B2448,\"Zzzzz - delete row\")","v":"Zzzzz - delete row"},{"$f":"IF('Step 2) Calculate'!E2448<>\"\",'Step 2) Calculate'!G2448,\"\")","v":""},{"$f":"IF(L2444<>\"\",'Step 2) Calculate'!F2448,\"\")","v":""},{"$f":"IF(L2444<>\"\",'Step 2) Calculate'!H2448,\"\")","v":""},{"$f":"IF(L2444<>\"\",'Step 2) Calculate'!C2448,\"\")","v":""}]
[null,null,null,null,null,null,null,null,null,null,{"$f":"IF(L2445<>\"\",'Step 2) Calculate'!B2449,\"Zzzzz - delete row\")","v":"Zzzzz - delete row"},{"$f":"IF('Step 2) Calculate'!E2449<>\"\",'Step 2) Calculate'!G2449,\"\")","v":""},{"$f":"IF(L2445<>\"\",'Step 2) Calculate'!F2449,\"\")","v":""},{"$f":"IF(L2445<>\"\",'Step 2) Calculate'!H2449,\"\")","v":""},{"$f":"IF(L2445<>\"\",'Step 2) Calculate'!C2449,\"\")","v":""}]
[null,null,null,null,null,null,null,null,null,null,{"$f":"IF(L2446<>\"\",'Step 2) Calculate'!B2450,\"Zzzzz - delete row\")","v":"Zzzzz - delete row"},{"$f":"IF('Step 2) Calculate'!E2450<>\"\",'Step 2) Calculate'!G2450,\"\")","v":""},{"$f":"IF(L2446<>\"\",'Step 2) Calculate'!F2450,\"\")","v":""},{"$f":"IF(L2446<>\"\",'Step 2) Calculate'!H2450,\"\")","v":""},{"$f":"IF(L2446<>\"\",'Step 2) Calculate'!C2450,\"\")","v":""}]
[null,null,null,null,null,null,null,null,null,null,{"$f":"IF(L2447<>\"\",'Step 2) Calculate'!B2451,\"Zzzzz - delete row\")","v":"Zzzzz - delete row"},{"$f":"IF('Step 2) Calculate'!E2451<>\"\",'Step 2) Calculate'!G2451,\"\")","v":""},{"$f":"IF(L2447<>\"\",'Step 2) Calculate'!F2451,\"\")","v":""},{"$f":"IF(L2447<>\"\",'Step 2) Calculate'!H2451,\"\")","v":""},{"$f":"IF(L2447<>\"\",'Step 2) Calculate'!C2451,\"\")","v":""}]
[null,null,null,null,null,null,null,null,null,null,{"$f":"IF(L2448<>\"\",'Step 2) Calculate'!B2452,\"Zzzzz - delete row\")","v":"Zzzzz - delete row"},{"$f":"IF('Step 2) Calculate'!E2452<>\"\",'Step 2) Calculate'!G2452,\"\")","v":""},{"$f":"IF(L2448<>\"\",'Step 2) Calculate'!F2452,\"\")","v":""},{"$f":"IF(L2448<>\"\",'Step 2) Calculate'!H2452,\"\")","v":""},{"$f":"IF(L2448<>\"\",'Step 2) Calculate'!C2452,\"\")","v":""}]
[null,null,null,null,null,null,null,null,null,null,{"$f":"IF(L2449<>\"\",'Step 2) Calculate'!B2453,\"Zzzzz - delete row\")","v":"Zzzzz - delete row"},{"$f":"IF('Step 2) Calculate'!E2453<>\"\",'Step 2) Calculate'!G2453,\"\")","v":""},{"$f":"IF(L2449<>\"\",'Step 2) Calculate'!F2453,\"\")","v":""},{"$f":"IF(L2449<>\"\",'Step 2) Calculate'!H2453,\"\")","v":""},{"$f":"IF(L2449<>\"\",'Step 2) Calculate'!C2453,\"\")","v":""}]
[null,null,null,null,null,null,null,null,null,null,{"$f":"IF(L2450<>\"\",'Step 2) Calculate'!B2454,\"Zzzzz - delete row\")","v":"Zzzzz - delete row"},{"$f":"IF('Step 2) Calculate'!E2454<>\"\",'Step 2) Calculate'!G2454,\"\")","v":""},{"$f":"IF(L2450<>\"\",'Step 2) Calculate'!F2454,\"\")","v":""},{"$f":"IF(L2450<>\"\",'Step 2) Calculate'!H2454,\"\")","v":""},{"$f":"IF(L2450<>\"\",'Step 2) Calculate'!C2454,\"\")","v":""}]
[null,null,null,null,null,null,null,null,null,null,{"$f":"IF(L2451<>\"\",'Step 2) Calculate'!B2455,\"Zzzzz - delete row\")","v":"Zzzzz - delete row"},{"$f":"IF('Step 2) Calculate'!E2455<>\"\",'Step 2) Calculate'!G2455,\"\")","v":""},{"$f":"IF(L2451<>\"\",'Step 2) Calculate'!F2455,\"\")","v":""},{"$f":"IF(L2451<>\"\",'Step 2) Calculate'!H2455,\"\")","v":""},{"$f":"IF(L2451<>\"\",'Step 2) Calculate'!C2455,\"\")","v":""}]
[null,null,null,null,null,null,null,null,null,null,{"$f":"IF(L2452<>\"\",'Step 2) Calculate'!B2456,\"Zzzzz - delete row\")","v":"Zzzzz - delete row"},{"$f":"IF('Step 2) Calculate'!E2456<>\"\",'Step 2) Calculate'!G2456,\"\")","v":""},{"$f":"IF(L2452<>\"\",'Step 2) Calculate'!F2456,\"\")","v":""},{"$f":"IF(L2452<>\"\",'Step 2) Calculate'!H2456,\"\")","v":""},{"$f":"IF(L2452<>\"\",'Step 2) Calculate'!C2456,\"\")","v":""}]
[null,null,null,null,null,null,null,null,null,null,{"$f":"IF(L2453<>\"\",'Step 2) Calculate'!B2457,\"Zzzzz - delete row\")","v":"Zzzzz - delete row"},{"$f":"IF('Step 2) Calculate'!E2457<>\"\",'Step 2) Calculate'!G2457,\"\")","v":""},{"$f":"IF(L2453<>\"\",'Step 2) Calculate'!F2457,\"\")","v":""},{"$f":"IF(L2453<>\"\",'Step 2) Calculate'!H2457,\"\")","v":""},{"$f":"IF(L2453<>\"\",'Step 2) Calculate'!C2457,\"\")","v":""}]
[null,null,null,null,null,null,null,null,null,null,{"$f":"IF(L2454<>\"\",'Step 2) Calculate'!B2458,\"Zzzzz - delete row\")","v":"Zzzzz - delete row"},{"$f":"IF('Step 2) Calculate'!E2458<>\"\",'Step 2) Calculate'!G2458,\"\")","v":""},{"$f":"IF(L2454<>\"\",'Step 2) Calculate'!F2458,\"\")","v":""},{"$f":"IF(L2454<>\"\",'Step 2) Calculate'!H2458,\"\")","v":""},{"$f":"IF(L2454<>\"\",'Step 2) Calculate'!C2458,\"\")","v":""}]
[null,null,null,null,null,null,null,null,null,null,{"$f":"IF(L2455<>\"\",'Step 2) Calculate'!B2459,\"Zzzzz - delete row\")","v":"Zzzzz - delete row"},{"$f":"IF('Step 2) Calculate'!E2459<>\"\",'Step 2) Calculate'!G2459,\"\")","v":""},{"$f":"IF(L2455<>\"\",'Step 2) Calculate'!F2459,\"\")","v":""},{"$f":"IF(L2455<>\"\",'Step 2) Calculate'!H2459,\"\")","v":""},{"$f":"IF(L2455<>\"\",'Step 2) Calculate'!C2459,\"\")","v":""}]
[null,null,null,null,null,null,null,null,null,null,{"$f":"IF(L2456<>\"\",'Step 2) Calculate'!B2460,\"Zzzzz - delete row\")","v":"Zzzzz - delete row"},{"$f":"IF('Step 2) Calculate'!E2460<>\"\",'Step 2) Calculate'!G2460,\"\")","v":""},{"$f":"IF(L2456<>\"\",'Step 2) Calculate'!F2460,\"\")","v":""},{"$f":"IF(L2456<>\"\",'Step 2) Calculate'!H2460,\"\")","v":""},{"$f":"IF(L2456<>\"\",'Step 2) Calculate'!C2460,\"\")","v":""}]
[null,null,null,null,null,null,null,null,null,null,{"$f":"IF(L2457<>\"\",'Step 2) Calculate'!B2461,\"Zzzzz - delete row\")","v":"Zzzzz - delete row"},{"$f":"IF('Step 2) Calculate'!E2461<>\"\",'Step 2) Calculate'!G2461,\"\")","v":""},{"$f":"IF(L2457<>\"\",'Step 2) Calculate'!F2461,\"\")","v":""},{"$f":"IF(L2457<>\"\",'Step 2) Calculate'!H2461,\"\")","v":""},{"$f":"IF(L2457<>\"\",'Step 2) Calculate'!C2461,\"\")","v":""}]
[null,null,null,null,null,null,null,null,null,null,{"$f":"IF(L2458<>\"\",'Step 2) Calculate'!B2462,\"Zzzzz - delete row\")","v":"Zzzzz - delete row"},{"$f":"IF('Step 2) Calculate'!E2462<>\"\",'Step 2) Calculate'!G2462,\"\")","v":""},{"$f":"IF(L2458<>\"\",'Step 2) Calculate'!F2462,\"\")","v":""},{"$f":"IF(L2458<>\"\",'Step 2) Calculate'!H2462,\"\")","v":""},{"$f":"IF(L2458<>\"\",'Step 2) Calculate'!C2462,\"\")","v":""}]
[null,null,null,null,null,null,null,null,null,null,{"$f":"IF(L2459<>\"\",'Step 2) Calculate'!B2463,\"Zzzzz - delete row\")","v":"Zzzzz - delete row"},{"$f":"IF('Step 2) Calculate'!E2463<>\"\",'Step 2) Calculate'!G2463,\"\")","v":""},{"$f":"IF(L2459<>\"\",'Step 2) Calculate'!F2463,\"\")","v":""},{"$f":"IF(L2459<>\"\",'Step 2) Calculate'!H2463,\"\")","v":""},{"$f":"IF(L2459<>\"\",'Step 2) Calculate'!C2463,\"\")","v":""}]
[null,null,null,null,null,null,null,null,null,null,{"$f":"IF(L2460<>\"\",'Step 2) Calculate'!B2464,\"Zzzzz - delete row\")","v":"Zzzzz - delete row"},{"$f":"IF('Step 2) Calculate'!E2464<>\"\",'Step 2) Calculate'!G2464,\"\")","v":""},{"$f":"IF(L2460<>\"\",'Step 2) Calculate'!F2464,\"\")","v":""},{"$f":"IF(L2460<>\"\",'Step 2) Calculate'!H2464,\"\")","v":""},{"$f":"IF(L2460<>\"\",'Step 2) Calculate'!C2464,\"\")","v":""}]
[null,null,null,null,null,null,null,null,null,null,{"$f":"IF(L2461<>\"\",'Step 2) Calculate'!B2465,\"Zzzzz - delete row\")","v":"Zzzzz - delete row"},{"$f":"IF('Step 2) Calculate'!E2465<>\"\",'Step 2) Calculate'!G2465,\"\")","v":""},{"$f":"IF(L2461<>\"\",'Step 2) Calculate'!F2465,\"\")","v":""},{"$f":"IF(L2461<>\"\",'Step 2) Calculate'!H2465,\"\")","v":""},{"$f":"IF(L2461<>\"\",'Step 2) Calculate'!C2465,\"\")","v":""}]
[null,null,null,null,null,null,null,null,null,null,{"$f":"IF(L2462<>\"\",'Step 2) Calculate'!B2466,\"Zzzzz - delete row\")","v":"Zzzzz - delete row"},{"$f":"IF('Step 2) Calculate'!E2466<>\"\",'Step 2) Calculate'!G2466,\"\")","v":""},{"$f":"IF(L2462<>\"\",'Step 2) Calculate'!F2466,\"\")","v":""},{"$f":"IF(L2462<>\"\",'Step 2) Calculate'!H2466,\"\")","v":""},{"$f":"IF(L2462<>\"\",'Step 2) Calculate'!C2466,\"\")","v":""}]
[null,null,null,null,null,null,null,null,null,null,{"$f":"IF(L2463<>\"\",'Step 2) Calculate'!B2467,\"Zzzzz - delete row\")","v":"Zzzzz - delete row"},{"$f":"IF('Step 2) Calculate'!E2467<>\"\",'Step 2) Calculate'!G2467,\"\")","v":""},{"$f":"IF(L2463<>\"\",'Step 2) Calculate'!F2467,\"\")","v":""},{"$f":"IF(L2463<>\"\",'Step 2) Calculate'!H2467,\"\")","v":""},{"$f":"IF(L2463<>\"\",'Step 2) Calculate'!C2467,\"\")","v":""}]
[null,null,null,null,null,null,null,null,null,null,{"$f":"IF(L2464<>\"\",'Step 2) Calculate'!B2468,\"Zzzzz - delete row\")","v":"Zzzzz - delete row"},{"$f":"IF('Step 2) Calculate'!E2468<>\"\",'Step 2) Calculate'!G2468,\"\")","v":""},{"$f":"IF(L2464<>\"\",'Step 2) Calculate'!F2468,\"\")","v":""},{"$f":"IF(L2464<>\"\",'Step 2) Calculate'!H2468,\"\")","v":""},{"$f":"IF(L2464<>\"\",'Step 2) Calculate'!C2468,\"\")","v":""}]
[null,null,null,null,null,null,null,null,null,null,{"$f":"IF(L2465<>\"\",'Step 2) Calculate'!B2469,\"Zzzzz - delete row\")","v":"Zzzzz - delete row"},{"$f":"IF('Step 2) Calculate'!E2469<>\"\",'Step 2) Calculate'!G2469,\"\")","v":""},{"$f":"IF(L2465<>\"\",'Step 2) Calculate'!F2469,\"\")","v":""},{"$f":"IF(L2465<>\"\",'Step 2) Calculate'!H2469,\"\")","v":""},{"$f":"IF(L2465<>\"\",'Step 2) Calculate'!C2469,\"\")","v":""}]
[null,null,null,null,null,null,null,null,null,null,{"$f":"IF(L2466<>\"\",'Step 2) Calculate'!B2470,\"Zzzzz - delete row\")","v":"Zzzzz - delete row"},{"$f":"IF('Step 2) Calculate'!E2470<>\"\",'Step 2) Calculate'!G2470,\"\")","v":""},{"$f":"IF(L2466<>\"\",'Step 2) Calculate'!F2470,\"\")","v":""},{"$f":"IF(L2466<>\"\",'Step 2) Calculate'!H2470,\"\")","v":""},{"$f":"IF(L2466<>\"\",'Step 2) Calculate'!C2470,\"\")","v":""}]
[null,null,null,null,null,null,null,null,null,null,{"$f":"IF(L2467<>\"\",'Step 2) Calculate'!B2471,\"Zzzzz - delete row\")","v":"Zzzzz - delete row"},{"$f":"IF('Step 2) Calculate'!E2471<>\"\",'Step 2) Calculate'!G2471,\"\")","v":""},{"$f":"IF(L2467<>\"\",'Step 2) Calculate'!F2471,\"\")","v":""},{"$f":"IF(L2467<>\"\",'Step 2) Calculate'!H2471,\"\")","v":""},{"$f":"IF(L2467<>\"\",'Step 2) Calculate'!C2471,\"\")","v":""}]
[null,null,null,null,null,null,null,null,null,null,{"$f":"IF(L2468<>\"\",'Step 2) Calculate'!B2472,\"Zzzzz - delete row\")","v":"Zzzzz - delete row"},{"$f":"IF('Step 2) Calculate'!E2472<>\"\",'Step 2) Calculate'!G2472,\"\")","v":""},{"$f":"IF(L2468<>\"\",'Step 2) Calculate'!F2472,\"\")","v":""},{"$f":"IF(L2468<>\"\",'Step 2) Calculate'!H2472,\"\")","v":""},{"$f":"IF(L2468<>\"\",'Step 2) Calculate'!C2472,\"\")","v":""}]
[null,null,null,null,null,null,null,null,null,null,{"$f":"IF(L2469<>\"\",'Step 2) Calculate'!B2473,\"Zzzzz - delete row\")","v":"Zzzzz - delete row"},{"$f":"IF('Step 2) Calculate'!E2473<>\"\",'Step 2) Calculate'!G2473,\"\")","v":""},{"$f":"IF(L2469<>\"\",'Step 2) Calculate'!F2473,\"\")","v":""},{"$f":"IF(L2469<>\"\",'Step 2) Calculate'!H2473,\"\")","v":""},{"$f":"IF(L2469<>\"\",'Step 2) Calculate'!C2473,\"\")","v":""}]
[null,null,null,null,null,null,null,null,null,null,{"$f":"IF(L2470<>\"\",'Step 2) Calculate'!B2474,\"Zzzzz - delete row\")","v":"Zzzzz - delete row"},{"$f":"IF('Step 2) Calculate'!E2474<>\"\",'Step 2) Calculate'!G2474,\"\")","v":""},{"$f":"IF(L2470<>\"\",'Step 2) Calculate'!F2474,\"\")","v":""},{"$f":"IF(L2470<>\"\",'Step 2) Calculate'!H2474,\"\")","v":""},{"$f":"IF(L2470<>\"\",'Step 2) Calculate'!C2474,\"\")","v":""}]
[null,null,null,null,null,null,null,null,null,null,{"$f":"IF(L2471<>\"\",'Step 2) Calculate'!B2475,\"Zzzzz - delete row\")","v":"Zzzzz - delete row"},{"$f":"IF('Step 2) Calculate'!E2475<>\"\",'Step 2) Calculate'!G2475,\"\")","v":""},{"$f":"IF(L2471<>\"\",'Step 2) Calculate'!F2475,\"\")","v":""},{"$f":"IF(L2471<>\"\",'Step 2) Calculate'!H2475,\"\")","v":""},{"$f":"IF(L2471<>\"\",'Step 2) Calculate'!C2475,\"\")","v":""}]
[null,null,null,null,null,null,null,null,null,null,{"$f":"IF(L2472<>\"\",'Step 2) Calculate'!B2476,\"Zzzzz - delete row\")","v":"Zzzzz - delete row"},{"$f":"IF('Step 2) Calculate'!E2476<>\"\",'Step 2) Calculate'!G2476,\"\")","v":""},{"$f":"IF(L2472<>\"\",'Step 2) Calculate'!F2476,\"\")","v":""},{"$f":"IF(L2472<>\"\",'Step 2) Calculate'!H2476,\"\")","v":""},{"$f":"IF(L2472<>\"\",'Step 2) Calculate'!C2476,\"\")","v":""}]
[null,null,null,null,null,null,null,null,null,null,{"$f":"IF(L2473<>\"\",'Step 2) Calculate'!B2477,\"Zzzzz - delete row\")","v":"Zzzzz - delete row"},{"$f":"IF('Step 2) Calculate'!E2477<>\"\",'Step 2) Calculate'!G2477,\"\")","v":""},{"$f":"IF(L2473<>\"\",'Step 2) Calculate'!F2477,\"\")","v":""},{"$f":"IF(L2473<>\"\",'Step 2) Calculate'!H2477,\"\")","v":""},{"$f":"IF(L2473<>\"\",'Step 2) Calculate'!C2477,\"\")","v":""}]
[null,null,null,null,null,null,null,null,null,null,{"$f":"IF(L2474<>\"\",'Step 2) Calculate'!B2478,\"Zzzzz - delete row\")","v":"Zzzzz - delete row"},{"$f":"IF('Step 2) Calculate'!E2478<>\"\",'Step 2) Calculate'!G2478,\"\")","v":""},{"$f":"IF(L2474<>\"\",'Step 2) Calculate'!F2478,\"\")","v":""},{"$f":"IF(L2474<>\"\",'Step 2) Calculate'!H2478,\"\")","v":""},{"$f":"IF(L2474<>\"\",'Step 2) Calculate'!C2478,\"\")","v":""}]
[null,null,null,null,null,null,null,null,null,null,{"$f":"IF(L2475<>\"\",'Step 2) Calculate'!B2479,\"Zzzzz - delete row\")","v":"Zzzzz - delete row"},{"$f":"IF('Step 2) Calculate'!E2479<>\"\",'Step 2) Calculate'!G2479,\"\")","v":""},{"$f":"IF(L2475<>\"\",'Step 2) Calculate'!F2479,\"\")","v":""},{"$f":"IF(L2475<>\"\",'Step 2) Calculate'!H2479,\"\")","v":""},{"$f":"IF(L2475<>\"\",'Step 2) Calculate'!C2479,\"\")","v":""}]
[null,null,null,null,null,null,null,null,null,null,{"$f":"IF(L2476<>\"\",'Step 2) Calculate'!B2480,\"Zzzzz - delete row\")","v":"Zzzzz - delete row"},{"$f":"IF('Step 2) Calculate'!E2480<>\"\",'Step 2) Calculate'!G2480,\"\")","v":""},{"$f":"IF(L2476<>\"\",'Step 2) Calculate'!F2480,\"\")","v":""},{"$f":"IF(L2476<>\"\",'Step 2) Calculate'!H2480,\"\")","v":""},{"$f":"IF(L2476<>\"\",'Step 2) Calculate'!C2480,\"\")","v":""}]
[null,null,null,null,null,null,null,null,null,null,{"$f":"IF(L2477<>\"\",'Step 2) Calculate'!B2481,\"Zzzzz - delete row\")","v":"Zzzzz - delete row"},{"$f":"IF('Step 2) Calculate'!E2481<>\"\",'Step 2) Calculate'!G2481,\"\")","v":""},{"$f":"IF(L2477<>\"\",'Step 2) Calculate'!F2481,\"\")","v":""},{"$f":"IF(L2477<>\"\",'Step 2) Calculate'!H2481,\"\")","v":""},{"$f":"IF(L2477<>\"\",'Step 2) Calculate'!C2481,\"\")","v":""}]
[null,null,null,null,null,null,null,null,null,null,{"$f":"IF(L2478<>\"\",'Step 2) Calculate'!B2482,\"Zzzzz - delete row\")","v":"Zzzzz - delete row"},{"$f":"IF('Step 2) Calculate'!E2482<>\"\",'Step 2) Calculate'!G2482,\"\")","v":""},{"$f":"IF(L2478<>\"\",'Step 2) Calculate'!F2482,\"\")","v":""},{"$f":"IF(L2478<>\"\",'Step 2) Calculate'!H2482,\"\")","v":""},{"$f":"IF(L2478<>\"\",'Step 2) Calculate'!C2482,\"\")","v":""}]
[null,null,null,null,null,null,null,null,null,null,{"$f":"IF(L2479<>\"\",'Step 2) Calculate'!B2483,\"Zzzzz - delete row\")","v":"Zzzzz - delete row"},{"$f":"IF('Step 2) Calculate'!E2483<>\"\",'Step 2) Calculate'!G2483,\"\")","v":""},{"$f":"IF(L2479<>\"\",'Step 2) Calculate'!F2483,\"\")","v":""},{"$f":"IF(L2479<>\"\",'Step 2) Calculate'!H2483,\"\")","v":""},{"$f":"IF(L2479<>\"\",'Step 2) Calculate'!C2483,\"\")","v":""}]
[null,null,null,null,null,null,null,null,null,null,{"$f":"IF(L2480<>\"\",'Step 2) Calculate'!B2484,\"Zzzzz - delete row\")","v":"Zzzzz - delete row"},{"$f":"IF('Step 2) Calculate'!E2484<>\"\",'Step 2) Calculate'!G2484,\"\")","v":""},{"$f":"IF(L2480<>\"\",'Step 2) Calculate'!F2484,\"\")","v":""},{"$f":"IF(L2480<>\"\",'Step 2) Calculate'!H2484,\"\")","v":""},{"$f":"IF(L2480<>\"\",'Step 2) Calculate'!C2484,\"\")","v":""}]
[null,null,null,null,null,null,null,null,null,null,{"$f":"IF(L2481<>\"\",'Step 2) Calculate'!B2485,\"Zzzzz - delete row\")","v":"Zzzzz - delete row"},{"$f":"IF('Step 2) Calculate'!E2485<>\"\",'Step 2) Calculate'!G2485,\"\")","v":""},{"$f":"IF(L2481<>\"\",'Step 2) Calculate'!F2485,\"\")","v":""},{"$f":"IF(L2481<>\"\",'Step 2) Calculate'!H2485,\"\")","v":""},{"$f":"IF(L2481<>\"\",'Step 2) Calculate'!C2485,\"\")","v":""}]
[null,null,null,null,null,null,null,null,null,null,{"$f":"IF(L2482<>\"\",'Step 2) Calculate'!B2486,\"Zzzzz - delete row\")","v":"Zzzzz - delete row"},{"$f":"IF('Step 2) Calculate'!E2486<>\"\",'Step 2) Calculate'!G2486,\"\")","v":""},{"$f":"IF(L2482<>\"\",'Step 2) Calculate'!F2486,\"\")","v":""},{"$f":"IF(L2482<>\"\",'Step 2) Calculate'!H2486,\"\")","v":""},{"$f":"IF(L2482<>\"\",'Step 2) Calculate'!C2486,\"\")","v":""}]
[null,null,null,null,null,null,null,null,null,null,{"$f":"IF(L2483<>\"\",'Step 2) Calculate'!B2487,\"Zzzzz - delete row\")","v":"Zzzzz - delete row"},{"$f":"IF('Step 2) Calculate'!E2487<>\"\",'Step 2) Calculate'!G2487,\"\")","v":""},{"$f":"IF(L2483<>\"\",'Step 2) Calculate'!F2487,\"\")","v":""},{"$f":"IF(L2483<>\"\",'Step 2) Calculate'!H2487,\"\")","v":""},{"$f":"IF(L2483<>\"\",'Step 2) Calculate'!C2487,\"\")","v":""}]
[null,null,null,null,null,null,null,null,null,null,{"$f":"IF(L2484<>\"\",'Step 2) Calculate'!B2488,\"Zzzzz - delete row\")","v":"Zzzzz - delete row"},{"$f":"IF('Step 2) Calculate'!E2488<>\"\",'Step 2) Calculate'!G2488,\"\")","v":""},{"$f":"IF(L2484<>\"\",'Step 2) Calculate'!F2488,\"\")","v":""},{"$f":"IF(L2484<>\"\",'Step 2) Calculate'!H2488,\"\")","v":""},{"$f":"IF(L2484<>\"\",'Step 2) Calculate'!C2488,\"\")","v":""}]
[null,null,null,null,null,null,null,null,null,null,{"$f":"IF(L2485<>\"\",'Step 2) Calculate'!B2489,\"Zzzzz - delete row\")","v":"Zzzzz - delete row"},{"$f":"IF('Step 2) Calculate'!E2489<>\"\",'Step 2) Calculate'!G2489,\"\")","v":""},{"$f":"IF(L2485<>\"\",'Step 2) Calculate'!F2489,\"\")","v":""},{"$f":"IF(L2485<>\"\",'Step 2) Calculate'!H2489,\"\")","v":""},{"$f":"IF(L2485<>\"\",'Step 2) Calculate'!C2489,\"\")","v":""}]
[null,null,null,null,null,null,null,null,null,null,{"$f":"IF(L2486<>\"\",'Step 2) Calculate'!B2490,\"Zzzzz - delete row\")","v":"Zzzzz - delete row"},{"$f":"IF('Step 2) Calculate'!E2490<>\"\",'Step 2) Calculate'!G2490,\"\")","v":""},{"$f":"IF(L2486<>\"\",'Step 2) Calculate'!F2490,\"\")","v":""},{"$f":"IF(L2486<>\"\",'Step 2) Calculate'!H2490,\"\")","v":""},{"$f":"IF(L2486<>\"\",'Step 2) Calculate'!C2490,\"\")","v":""}]
[null,null,null,null,null,null,null,null,null,null,{"$f":"IF(L2487<>\"\",'Step 2) Calculate'!B2491,\"Zzzzz - delete row\")","v":"Zzzzz - delete row"},{"$f":"IF('Step 2) Calculate'!E2491<>\"\",'Step 2) Calculate'!G2491,\"\")","v":""},{"$f":"IF(L2487<>\"\",'Step 2) Calculate'!F2491,\"\")","v":""},{"$f":"IF(L2487<>\"\",'Step 2) Calculate'!H2491,\"\")","v":""},{"$f":"IF(L2487<>\"\",'Step 2) Calculate'!C2491,\"\")","v":""}]
[null,null,null,null,null,null,null,null,null,null,{"$f":"IF(L2488<>\"\",'Step 2) Calculate'!B2492,\"Zzzzz - delete row\")","v":"Zzzzz - delete row"},{"$f":"IF('Step 2) Calculate'!E2492<>\"\",'Step 2) Calculate'!G2492,\"\")","v":""},{"$f":"IF(L2488<>\"\",'Step 2) Calculate'!F2492,\"\")","v":""},{"$f":"IF(L2488<>\"\",'Step 2) Calculate'!H2492,\"\")","v":""},{"$f":"IF(L2488<>\"\",'Step 2) Calculate'!C2492,\"\")","v":""}]
[null,null,null,null,null,null,null,null,null,null,{"$f":"IF(L2489<>\"\",'Step 2) Calculate'!B2493,\"Zzzzz - delete row\")","v":"Zzzzz - delete row"},{"$f":"IF('Step 2) Calculate'!E2493<>\"\",'Step 2) Calculate'!G2493,\"\")","v":""},{"$f":"IF(L2489<>\"\",'Step 2) Calculate'!F2493,\"\")","v":""},{"$f":"IF(L2489<>\"\",'Step 2) Calculate'!H2493,\"\")","v":""},{"$f":"IF(L2489<>\"\",'Step 2) Calculate'!C2493,\"\")","v":""}]
[null,null,null,null,null,null,null,null,null,null,{"$f":"IF(L2490<>\"\",'Step 2) Calculate'!B2494,\"Zzzzz - delete row\")","v":"Zzzzz - delete row"},{"$f":"IF('Step 2) Calculate'!E2494<>\"\",'Step 2) Calculate'!G2494,\"\")","v":""},{"$f":"IF(L2490<>\"\",'Step 2) Calculate'!F2494,\"\")","v":""},{"$f":"IF(L2490<>\"\",'Step 2) Calculate'!H2494,\"\")","v":""},{"$f":"IF(L2490<>\"\",'Step 2) Calculate'!C2494,\"\")","v":""}]
[null,null,null,null,null,null,null,null,null,null,{"$f":"IF(L2491<>\"\",'Step 2) Calculate'!B2495,\"Zzzzz - delete row\")","v":"Zzzzz - delete row"},{"$f":"IF('Step 2) Calculate'!E2495<>\"\",'Step 2) Calculate'!G2495,\"\")","v":""},{"$f":"IF(L2491<>\"\",'Step 2) Calculate'!F2495,\"\")","v":""},{"$f":"IF(L2491<>\"\",'Step 2) Calculate'!H2495,\"\")","v":""},{"$f":"IF(L2491<>\"\",'Step 2) Calculate'!C2495,\"\")","v":""}]
[null,null,null,null,null,null,null,null,null,null,{"$f":"IF(L2492<>\"\",'Step 2) Calculate'!B2496,\"Zzzzz - delete row\")","v":"Zzzzz - delete row"},{"$f":"IF('Step 2) Calculate'!E2496<>\"\",'Step 2) Calculate'!G2496,\"\")","v":""},{"$f":"IF(L2492<>\"\",'Step 2) Calculate'!F2496,\"\")","v":""},{"$f":"IF(L2492<>\"\",'Step 2) Calculate'!H2496,\"\")","v":""},{"$f":"IF(L2492<>\"\",'Step 2) Calculate'!C2496,\"\")","v":""}]
[null,null,null,null,null,null,null,null,null,null,{"$f":"IF(L2493<>\"\",'Step 2) Calculate'!B2497,\"Zzzzz - delete row\")","v":"Zzzzz - delete row"},{"$f":"IF('Step 2) Calculate'!E2497<>\"\",'Step 2) Calculate'!G2497,\"\")","v":""},{"$f":"IF(L2493<>\"\",'Step 2) Calculate'!F2497,\"\")","v":""},{"$f":"IF(L2493<>\"\",'Step 2) Calculate'!H2497,\"\")","v":""},{"$f":"IF(L2493<>\"\",'Step 2) Calculate'!C2497,\"\")","v":""}]
[null,null,null,null,null,null,null,null,null,null,{"$f":"IF(L2494<>\"\",'Step 2) Calculate'!B2498,\"Zzzzz - delete row\")","v":"Zzzzz - delete row"},{"$f":"IF('Step 2) Calculate'!E2498<>\"\",'Step 2) Calculate'!G2498,\"\")","v":""},{"$f":"IF(L2494<>\"\",'Step 2) Calculate'!F2498,\"\")","v":""},{"$f":"IF(L2494<>\"\",'Step 2) Calculate'!H2498,\"\")","v":""},{"$f":"IF(L2494<>\"\",'Step 2) Calculate'!C2498,\"\")","v":""}]
[null,null,null,null,null,null,null,null,null,null,{"$f":"IF(L2495<>\"\",'Step 2) Calculate'!B2499,\"Zzzzz - delete row\")","v":"Zzzzz - delete row"},{"$f":"IF('Step 2) Calculate'!E2499<>\"\",'Step 2) Calculate'!G2499,\"\")","v":""},{"$f":"IF(L2495<>\"\",'Step 2) Calculate'!F2499,\"\")","v":""},{"$f":"IF(L2495<>\"\",'Step 2) Calculate'!H2499,\"\")","v":""},{"$f":"IF(L2495<>\"\",'Step 2) Calculate'!C2499,\"\")","v":""}]
[null,null,null,null,null,null,null,null,null,null,{"$f":"IF(L2496<>\"\",'Step 2) Calculate'!B2500,\"Zzzzz - delete row\")","v":"Zzzzz - delete row"},{"$f":"IF('Step 2) Calculate'!E2500<>\"\",'Step 2) Calculate'!G2500,\"\")","v":""},{"$f":"IF(L2496<>\"\",'Step 2) Calculate'!F2500,\"\")","v":""},{"$f":"IF(L2496<>\"\",'Step 2) Calculate'!H2500,\"\")","v":""},{"$f":"IF(L2496<>\"\",'Step 2) Calculate'!C2500,\"\")","v":""}]
[null,null,null,null,null,null,null,null,null,null,{"$f":"IF(L2497<>\"\",'Step 2) Calculate'!B2501,\"Zzzzz - delete row\")","v":"Zzzzz - delete row"},{"$f":"IF('Step 2) Calculate'!E2501<>\"\",'Step 2) Calculate'!G2501,\"\")","v":""},{"$f":"IF(L2497<>\"\",'Step 2) Calculate'!F2501,\"\")","v":""},{"$f":"IF(L2497<>\"\",'Step 2) Calculate'!H2501,\"\")","v":""},{"$f":"IF(L2497<>\"\",'Step 2) Calculate'!C2501,\"\")","v":""}]
[null,null,null,null,null,null,null,null,null,null,{"$f":"IF(L2498<>\"\",'Step 2) Calculate'!B2502,\"Zzzzz - delete row\")","v":"Zzzzz - delete row"},{"$f":"IF('Step 2) Calculate'!E2502<>\"\",'Step 2) Calculate'!G2502,\"\")","v":""},{"$f":"IF(L2498<>\"\",'Step 2) Calculate'!F2502,\"\")","v":""},{"$f":"IF(L2498<>\"\",'Step 2) Calculate'!H2502,\"\")","v":""},{"$f":"IF(L2498<>\"\",'Step 2) Calculate'!C2502,\"\")","v":""}]
[null,null,null,null,null,null,null,null,null,null,{"$f":"IF(L2499<>\"\",'Step 2) Calculate'!B2503,\"Zzzzz - delete row\")","v":"Zzzzz - delete row"},{"$f":"IF('Step 2) Calculate'!E2503<>\"\",'Step 2) Calculate'!G2503,\"\")","v":""},{"$f":"IF(L2499<>\"\",'Step 2) Calculate'!F2503,\"\")","v":""},{"$f":"IF(L2499<>\"\",'Step 2) Calculate'!H2503,\"\")","v":""},{"$f":"IF(L2499<>\"\",'Step 2) Calculate'!C2503,\"\")","v":""}]
[null,null,null,null,null,null,null,null,null,null,{"$f":"IF(L2500<>\"\",'Step 2) Calculate'!B2504,\"Zzzzz - delete row\")","v":"Zzzzz - delete row"},{"$f":"IF('Step 2) Calculate'!E2504<>\"\",'Step 2) Calculate'!G2504,\"\")","v":""},{"$f":"IF(L2500<>\"\",'Step 2) Calculate'!F2504,\"\")","v":""},{"$f":"IF(L2500<>\"\",'Step 2) Calculate'!H2504,\"\")","v":""},{"$f":"IF(L2500<>\"\",'Step 2) Calculate'!C2504,\"\")","v":""}]
[null,null,null,null,null,null,null,null,null,null,{"$f":"IF(L2501<>\"\",'Step 2) Calculate'!B2505,\"Zzzzz - delete row\")","v":"Zzzzz - delete row"},{"$f":"IF('Step 2) Calculate'!E2505<>\"\",'Step 2) Calculate'!G2505,\"\")","v":""},{"$f":"IF(L2501<>\"\",'Step 2) Calculate'!F2505,\"\")","v":""},{"$f":"IF(L2501<>\"\",'Step 2) Calculate'!H2505,\"\")","v":""},{"$f":"IF(L2501<>\"\",'Step 2) Calculate'!C2505,\"\")","v":""}]
[null,null,null,null,null,null,null,null,null,null,{"$f":"IF(L2502<>\"\",'Step 2) Calculate'!B2506,\"Zzzzz - delete row\")","v":"Zzzzz - delete row"},{"$f":"IF('Step 2) Calculate'!E2506<>\"\",'Step 2) Calculate'!G2506,\"\")","v":""},{"$f":"IF(L2502<>\"\",'Step 2) Calculate'!F2506,\"\")","v":""},{"$f":"IF(L2502<>\"\",'Step 2) Calculate'!H2506,\"\")","v":""},{"$f":"IF(L2502<>\"\",'Step 2) Calculate'!C2506,\"\")","v":""}]
[null,null,null,null,null,null,null,null,null,null,{"$f":"IF(L2503<>\"\",'Step 2) Calculate'!B2507,\"Zzzzz - delete row\")","v":"Zzzzz - delete row"},{"$f":"IF('Step 2) Calculate'!E2507<>\"\",'Step 2) Calculate'!G2507,\"\")","v":""},{"$f":"IF(L2503<>\"\",'Step 2) Calculate'!F2507,\"\")","v":""},{"$f":"IF(L2503<>\"\",'Step 2) Calculate'!H2507,\"\")","v":""},{"$f":"IF(L2503<>\"\",'Step 2) Calculate'!C2507,\"\")","v":""}]
[null,null,null,null,null,null,null,null,null,null,{"$f":"IF(L2504<>\"\",'Step 2) Calculate'!B2508,\"Zzzzz - delete row\")","v":"Zzzzz - delete row"},{"$f":"IF('Step 2) Calculate'!E2508<>\"\",'Step 2) Calculate'!G2508,\"\")","v":""},{"$f":"IF(L2504<>\"\",'Step 2) Calculate'!F2508,\"\")","v":""},{"$f":"IF(L2504<>\"\",'Step 2) Calculate'!H2508,\"\")","v":""},{"$f":"IF(L2504<>\"\",'Step 2) Calculate'!C2508,\"\")","v":""}]
[null,null,null,null,null,null,null,null,null,null,{"$f":"IF(L2505<>\"\",'Step 2) Calculate'!B2509,\"Zzzzz - delete row\")","v":"Zzzzz - delete row"},{"$f":"IF('Step 2) Calculate'!E2509<>\"\",'Step 2) Calculate'!G2509,\"\")","v":""},{"$f":"IF(L2505<>\"\",'Step 2) Calculate'!F2509,\"\")","v":""},{"$f":"IF(L2505<>\"\",'Step 2) Calculate'!H2509,\"\")","v":""},{"$f":"IF(L2505<>\"\",'Step 2) Calculate'!C2509,\"\")","v":""}]
[null,null,null,null,null,null,null,null,null,null,{"$f":"IF(L2506<>\"\",'Step 2) Calculate'!B2510,\"Zzzzz - delete row\")","v":"Zzzzz - delete row"},{"$f":"IF('Step 2) Calculate'!E2510<>\"\",'Step 2) Calculate'!G2510,\"\")","v":""},{"$f":"IF(L2506<>\"\",'Step 2) Calculate'!F2510,\"\")","v":""},{"$f":"IF(L2506<>\"\",'Step 2) Calculate'!H2510,\"\")","v":""},{"$f":"IF(L2506<>\"\",'Step 2) Calculate'!C2510,\"\")","v":""}]
[null,null,null,null,null,null,null,null,null,null,{"$f":"IF(L2507<>\"\",'Step 2) Calculate'!B2511,\"Zzzzz - delete row\")","v":"Zzzzz - delete row"},{"$f":"IF('Step 2) Calculate'!E2511<>\"\",'Step 2) Calculate'!G2511,\"\")","v":""},{"$f":"IF(L2507<>\"\",'Step 2) Calculate'!F2511,\"\")","v":""},{"$f":"IF(L2507<>\"\",'Step 2) Calculate'!H2511,\"\")","v":""},{"$f":"IF(L2507<>\"\",'Step 2) Calculate'!C2511,\"\")","v":""}]
[null,null,null,null,null,null,null,null,null,null,{"$f":"IF(L2508<>\"\",'Step 2) Calculate'!B2512,\"Zzzzz - delete row\")","v":"Zzzzz - delete row"},{"$f":"IF('Step 2) Calculate'!E2512<>\"\",'Step 2) Calculate'!G2512,\"\")","v":""},{"$f":"IF(L2508<>\"\",'Step 2) Calculate'!F2512,\"\")","v":""},{"$f":"IF(L2508<>\"\",'Step 2) Calculate'!H2512,\"\")","v":""},{"$f":"IF(L2508<>\"\",'Step 2) Calculate'!C2512,\"\")","v":""}]
[null,null,null,null,null,null,null,null,null,null,{"$f":"IF(L2509<>\"\",'Step 2) Calculate'!B2513,\"Zzzzz - delete row\")","v":"Zzzzz - delete row"},{"$f":"IF('Step 2) Calculate'!E2513<>\"\",'Step 2) Calculate'!G2513,\"\")","v":""},{"$f":"IF(L2509<>\"\",'Step 2) Calculate'!F2513,\"\")","v":""},{"$f":"IF(L2509<>\"\",'Step 2) Calculate'!H2513,\"\")","v":""},{"$f":"IF(L2509<>\"\",'Step 2) Calculate'!C2513,\"\")","v":""}]
[null,null,null,null,null,null,null,null,null,null,{"$f":"IF(L2510<>\"\",'Step 2) Calculate'!B2514,\"Zzzzz - delete row\")","v":"Zzzzz - delete row"},{"$f":"IF('Step 2) Calculate'!E2514<>\"\",'Step 2) Calculate'!G2514,\"\")","v":""},{"$f":"IF(L2510<>\"\",'Step 2) Calculate'!F2514,\"\")","v":""},{"$f":"IF(L2510<>\"\",'Step 2) Calculate'!H2514,\"\")","v":""},{"$f":"IF(L2510<>\"\",'Step 2) Calculate'!C2514,\"\")","v":""}]
[null,null,null,null,null,null,null,null,null,null,{"$f":"IF(L2511<>\"\",'Step 2) Calculate'!B2515,\"Zzzzz - delete row\")","v":"Zzzzz - delete row"},{"$f":"IF('Step 2) Calculate'!E2515<>\"\",'Step 2) Calculate'!G2515,\"\")","v":""},{"$f":"IF(L2511<>\"\",'Step 2) Calculate'!F2515,\"\")","v":""},{"$f":"IF(L2511<>\"\",'Step 2) Calculate'!H2515,\"\")","v":""},{"$f":"IF(L2511<>\"\",'Step 2) Calculate'!C2515,\"\")","v":""}]
[null,null,null,null,null,null,null,null,null,null,{"$f":"IF(L2512<>\"\",'Step 2) Calculate'!B2516,\"Zzzzz - delete row\")","v":"Zzzzz - delete row"},{"$f":"IF('Step 2) Calculate'!E2516<>\"\",'Step 2) Calculate'!G2516,\"\")","v":""},{"$f":"IF(L2512<>\"\",'Step 2) Calculate'!F2516,\"\")","v":""},{"$f":"IF(L2512<>\"\",'Step 2) Calculate'!H2516,\"\")","v":""},{"$f":"IF(L2512<>\"\",'Step 2) Calculate'!C2516,\"\")","v":""}]
[null,null,null,null,null,null,null,null,null,null,{"$f":"IF(L2513<>\"\",'Step 2) Calculate'!B2517,\"Zzzzz - delete row\")","v":"Zzzzz - delete row"},{"$f":"IF('Step 2) Calculate'!E2517<>\"\",'Step 2) Calculate'!G2517,\"\")","v":""},{"$f":"IF(L2513<>\"\",'Step 2) Calculate'!F2517,\"\")","v":""},{"$f":"IF(L2513<>\"\",'Step 2) Calculate'!H2517,\"\")","v":""},{"$f":"IF(L2513<>\"\",'Step 2) Calculate'!C2517,\"\")","v":""}]
[null,null,null,null,null,null,null,null,null,null,{"$f":"IF(L2514<>\"\",'Step 2) Calculate'!B2518,\"Zzzzz - delete row\")","v":"Zzzzz - delete row"},{"$f":"IF('Step 2) Calculate'!E2518<>\"\",'Step 2) Calculate'!G2518,\"\")","v":""},{"$f":"IF(L2514<>\"\",'Step 2) Calculate'!F2518,\"\")","v":""},{"$f":"IF(L2514<>\"\",'Step 2) Calculate'!H2518,\"\")","v":""},{"$f":"IF(L2514<>\"\",'Step 2) Calculate'!C2518,\"\")","v":""}]
[null,null,null,null,null,null,null,null,null,null,{"$f":"IF(L2515<>\"\",'Step 2) Calculate'!B2519,\"Zzzzz - delete row\")","v":"Zzzzz - delete row"},{"$f":"IF('Step 2) Calculate'!E2519<>\"\",'Step 2) Calculate'!G2519,\"\")","v":""},{"$f":"IF(L2515<>\"\",'Step 2) Calculate'!F2519,\"\")","v":""},{"$f":"IF(L2515<>\"\",'Step 2) Calculate'!H2519,\"\")","v":""},{"$f":"IF(L2515<>\"\",'Step 2) Calculate'!C2519,\"\")","v":""}]
[null,null,null,null,null,null,null,null,null,null,{"$f":"IF(L2516<>\"\",'Step 2) Calculate'!B2520,\"Zzzzz - delete row\")","v":"Zzzzz - delete row"},{"$f":"IF('Step 2) Calculate'!E2520<>\"\",'Step 2) Calculate'!G2520,\"\")","v":""},{"$f":"IF(L2516<>\"\",'Step 2) Calculate'!F2520,\"\")","v":""},{"$f":"IF(L2516<>\"\",'Step 2) Calculate'!H2520,\"\")","v":""},{"$f":"IF(L2516<>\"\",'Step 2) Calculate'!C2520,\"\")","v":""}]
[null,null,null,null,null,null,null,null,null,null,{"$f":"IF(L2517<>\"\",'Step 2) Calculate'!B2521,\"Zzzzz - delete row\")","v":"Zzzzz - delete row"},{"$f":"IF('Step 2) Calculate'!E2521<>\"\",'Step 2) Calculate'!G2521,\"\")","v":""},{"$f":"IF(L2517<>\"\",'Step 2) Calculate'!F2521,\"\")","v":""},{"$f":"IF(L2517<>\"\",'Step 2) Calculate'!H2521,\"\")","v":""},{"$f":"IF(L2517<>\"\",'Step 2) Calculate'!C2521,\"\")","v":""}]
[null,null,null,null,null,null,null,null,null,null,{"$f":"IF(L2518<>\"\",'Step 2) Calculate'!B2522,\"Zzzzz - delete row\")","v":"Zzzzz - delete row"},{"$f":"IF('Step 2) Calculate'!E2522<>\"\",'Step 2) Calculate'!G2522,\"\")","v":""},{"$f":"IF(L2518<>\"\",'Step 2) Calculate'!F2522,\"\")","v":""},{"$f":"IF(L2518<>\"\",'Step 2) Calculate'!H2522,\"\")","v":""},{"$f":"IF(L2518<>\"\",'Step 2) Calculate'!C2522,\"\")","v":""}]
[null,null,null,null,null,null,null,null,null,null,{"$f":"IF(L2519<>\"\",'Step 2) Calculate'!B2523,\"Zzzzz - delete row\")","v":"Zzzzz - delete row"},{"$f":"IF('Step 2) Calculate'!E2523<>\"\",'Step 2) Calculate'!G2523,\"\")","v":""},{"$f":"IF(L2519<>\"\",'Step 2) Calculate'!F2523,\"\")","v":""},{"$f":"IF(L2519<>\"\",'Step 2) Calculate'!H2523,\"\")","v":""},{"$f":"IF(L2519<>\"\",'Step 2) Calculate'!C2523,\"\")","v":""}]
[null,null,null,null,null,null,null,null,null,null,{"$f":"IF(L2520<>\"\",'Step 2) Calculate'!B2524,\"Zzzzz - delete row\")","v":"Zzzzz - delete row"},{"$f":"IF('Step 2) Calculate'!E2524<>\"\",'Step 2) Calculate'!G2524,\"\")","v":""},{"$f":"IF(L2520<>\"\",'Step 2) Calculate'!F2524,\"\")","v":""},{"$f":"IF(L2520<>\"\",'Step 2) Calculate'!H2524,\"\")","v":""},{"$f":"IF(L2520<>\"\",'Step 2) Calculate'!C2524,\"\")","v":""}]
[null,null,null,null,null,null,null,null,null,null,{"$f":"IF(L2521<>\"\",'Step 2) Calculate'!B2525,\"Zzzzz - delete row\")","v":"Zzzzz - delete row"},{"$f":"IF('Step 2) Calculate'!E2525<>\"\",'Step 2) Calculate'!G2525,\"\")","v":""},{"$f":"IF(L2521<>\"\",'Step 2) Calculate'!F2525,\"\")","v":""},{"$f":"IF(L2521<>\"\",'Step 2) Calculate'!H2525,\"\")","v":""},{"$f":"IF(L2521<>\"\",'Step 2) Calculate'!C2525,\"\")","v":""}]
[null,null,null,null,null,null,null,null,null,null,{"$f":"IF(L2522<>\"\",'Step 2) Calculate'!B2526,\"Zzzzz - delete row\")","v":"Zzzzz - delete row"},{"$f":"IF('Step 2) Calculate'!E2526<>\"\",'Step 2) Calculate'!G2526,\"\")","v":""},{"$f":"IF(L2522<>\"\",'Step 2) Calculate'!F2526,\"\")","v":""},{"$f":"IF(L2522<>\"\",'Step 2) Calculate'!H2526,\"\")","v":""},{"$f":"IF(L2522<>\"\",'Step 2) Calculate'!C2526,\"\")","v":""}]
[null,null,null,null,null,null,null,null,null,null,{"$f":"IF(L2523<>\"\",'Step 2) Calculate'!B2527,\"Zzzzz - delete row\")","v":"Zzzzz - delete row"},{"$f":"IF('Step 2) Calculate'!E2527<>\"\",'Step 2) Calculate'!G2527,\"\")","v":""},{"$f":"IF(L2523<>\"\",'Step 2) Calculate'!F2527,\"\")","v":""},{"$f":"IF(L2523<>\"\",'Step 2) Calculate'!H2527,\"\")","v":""},{"$f":"IF(L2523<>\"\",'Step 2) Calculate'!C2527,\"\")","v":""}]
[null,null,null,null,null,null,null,null,null,null,{"$f":"IF(L2524<>\"\",'Step 2) Calculate'!B2528,\"Zzzzz - delete row\")","v":"Zzzzz - delete row"},{"$f":"IF('Step 2) Calculate'!E2528<>\"\",'Step 2) Calculate'!G2528,\"\")","v":""},{"$f":"IF(L2524<>\"\",'Step 2) Calculate'!F2528,\"\")","v":""},{"$f":"IF(L2524<>\"\",'Step 2) Calculate'!H2528,\"\")","v":""},{"$f":"IF(L2524<>\"\",'Step 2) Calculate'!C2528,\"\")","v":""}]
[null,null,null,null,null,null,null,null,null,null,{"$f":"IF(L2525<>\"\",'Step 2) Calculate'!B2529,\"Zzzzz - delete row\")","v":"Zzzzz - delete row"},{"$f":"IF('Step 2) Calculate'!E2529<>\"\",'Step 2) Calculate'!G2529,\"\")","v":""},{"$f":"IF(L2525<>\"\",'Step 2) Calculate'!F2529,\"\")","v":""},{"$f":"IF(L2525<>\"\",'Step 2) Calculate'!H2529,\"\")","v":""},{"$f":"IF(L2525<>\"\",'Step 2) Calculate'!C2529,\"\")","v":""}]
[null,null,null,null,null,null,null,null,null,null,{"$f":"IF(L2526<>\"\",'Step 2) Calculate'!B2530,\"Zzzzz - delete row\")","v":"Zzzzz - delete row"},{"$f":"IF('Step 2) Calculate'!E2530<>\"\",'Step 2) Calculate'!G2530,\"\")","v":""},{"$f":"IF(L2526<>\"\",'Step 2) Calculate'!F2530,\"\")","v":""},{"$f":"IF(L2526<>\"\",'Step 2) Calculate'!H2530,\"\")","v":""},{"$f":"IF(L2526<>\"\",'Step 2) Calculate'!C2530,\"\")","v":""}]
[null,null,null,null,null,null,null,null,null,null,{"$f":"IF(L2527<>\"\",'Step 2) Calculate'!B2531,\"Zzzzz - delete row\")","v":"Zzzzz - delete row"},{"$f":"IF('Step 2) Calculate'!E2531<>\"\",'Step 2) Calculate'!G2531,\"\")","v":""},{"$f":"IF(L2527<>\"\",'Step 2) Calculate'!F2531,\"\")","v":""},{"$f":"IF(L2527<>\"\",'Step 2) Calculate'!H2531,\"\")","v":""},{"$f":"IF(L2527<>\"\",'Step 2) Calculate'!C2531,\"\")","v":""}]
[null,null,null,null,null,null,null,null,null,null,{"$f":"IF(L2528<>\"\",'Step 2) Calculate'!B2532,\"Zzzzz - delete row\")","v":"Zzzzz - delete row"},{"$f":"IF('Step 2) Calculate'!E2532<>\"\",'Step 2) Calculate'!G2532,\"\")","v":""},{"$f":"IF(L2528<>\"\",'Step 2) Calculate'!F2532,\"\")","v":""},{"$f":"IF(L2528<>\"\",'Step 2) Calculate'!H2532,\"\")","v":""},{"$f":"IF(L2528<>\"\",'Step 2) Calculate'!C2532,\"\")","v":""}]
[null,null,null,null,null,null,null,null,null,null,{"$f":"IF(L2529<>\"\",'Step 2) Calculate'!B2533,\"Zzzzz - delete row\")","v":"Zzzzz - delete row"},{"$f":"IF('Step 2) Calculate'!E2533<>\"\",'Step 2) Calculate'!G2533,\"\")","v":""},{"$f":"IF(L2529<>\"\",'Step 2) Calculate'!F2533,\"\")","v":""},{"$f":"IF(L2529<>\"\",'Step 2) Calculate'!H2533,\"\")","v":""},{"$f":"IF(L2529<>\"\",'Step 2) Calculate'!C2533,\"\")","v":""}]
[null,null,null,null,null,null,null,null,null,null,{"$f":"IF(L2530<>\"\",'Step 2) Calculate'!B2534,\"Zzzzz - delete row\")","v":"Zzzzz - delete row"},{"$f":"IF('Step 2) Calculate'!E2534<>\"\",'Step 2) Calculate'!G2534,\"\")","v":""},{"$f":"IF(L2530<>\"\",'Step 2) Calculate'!F2534,\"\")","v":""},{"$f":"IF(L2530<>\"\",'Step 2) Calculate'!H2534,\"\")","v":""},{"$f":"IF(L2530<>\"\",'Step 2) Calculate'!C2534,\"\")","v":""}]
[null,null,null,null,null,null,null,null,null,null,{"$f":"IF(L2531<>\"\",'Step 2) Calculate'!B2535,\"Zzzzz - delete row\")","v":"Zzzzz - delete row"},{"$f":"IF('Step 2) Calculate'!E2535<>\"\",'Step 2) Calculate'!G2535,\"\")","v":""},{"$f":"IF(L2531<>\"\",'Step 2) Calculate'!F2535,\"\")","v":""},{"$f":"IF(L2531<>\"\",'Step 2) Calculate'!H2535,\"\")","v":""},{"$f":"IF(L2531<>\"\",'Step 2) Calculate'!C2535,\"\")","v":""}]
[null,null,null,null,null,null,null,null,null,null,{"$f":"IF(L2532<>\"\",'Step 2) Calculate'!B2536,\"Zzzzz - delete row\")","v":"Zzzzz - delete row"},{"$f":"IF('Step 2) Calculate'!E2536<>\"\",'Step 2) Calculate'!G2536,\"\")","v":""},{"$f":"IF(L2532<>\"\",'Step 2) Calculate'!F2536,\"\")","v":""},{"$f":"IF(L2532<>\"\",'Step 2) Calculate'!H2536,\"\")","v":""},{"$f":"IF(L2532<>\"\",'Step 2) Calculate'!C2536,\"\")","v":""}]
[null,null,null,null,null,null,null,null,null,null,{"$f":"IF(L2533<>\"\",'Step 2) Calculate'!B2537,\"Zzzzz - delete row\")","v":"Zzzzz - delete row"},{"$f":"IF('Step 2) Calculate'!E2537<>\"\",'Step 2) Calculate'!G2537,\"\")","v":""},{"$f":"IF(L2533<>\"\",'Step 2) Calculate'!F2537,\"\")","v":""},{"$f":"IF(L2533<>\"\",'Step 2) Calculate'!H2537,\"\")","v":""},{"$f":"IF(L2533<>\"\",'Step 2) Calculate'!C2537,\"\")","v":""}]
[null,null,null,null,null,null,null,null,null,null,{"$f":"IF(L2534<>\"\",'Step 2) Calculate'!B2538,\"Zzzzz - delete row\")","v":"Zzzzz - delete row"},{"$f":"IF('Step 2) Calculate'!E2538<>\"\",'Step 2) Calculate'!G2538,\"\")","v":""},{"$f":"IF(L2534<>\"\",'Step 2) Calculate'!F2538,\"\")","v":""},{"$f":"IF(L2534<>\"\",'Step 2) Calculate'!H2538,\"\")","v":""},{"$f":"IF(L2534<>\"\",'Step 2) Calculate'!C2538,\"\")","v":""}]
[null,null,null,null,null,null,null,null,null,null,{"$f":"IF(L2535<>\"\",'Step 2) Calculate'!B2539,\"Zzzzz - delete row\")","v":"Zzzzz - delete row"},{"$f":"IF('Step 2) Calculate'!E2539<>\"\",'Step 2) Calculate'!G2539,\"\")","v":""},{"$f":"IF(L2535<>\"\",'Step 2) Calculate'!F2539,\"\")","v":""},{"$f":"IF(L2535<>\"\",'Step 2) Calculate'!H2539,\"\")","v":""},{"$f":"IF(L2535<>\"\",'Step 2) Calculate'!C2539,\"\")","v":""}]
[null,null,null,null,null,null,null,null,null,null,{"$f":"IF(L2536<>\"\",'Step 2) Calculate'!B2540,\"Zzzzz - delete row\")","v":"Zzzzz - delete row"},{"$f":"IF('Step 2) Calculate'!E2540<>\"\",'Step 2) Calculate'!G2540,\"\")","v":""},{"$f":"IF(L2536<>\"\",'Step 2) Calculate'!F2540,\"\")","v":""},{"$f":"IF(L2536<>\"\",'Step 2) Calculate'!H2540,\"\")","v":""},{"$f":"IF(L2536<>\"\",'Step 2) Calculate'!C2540,\"\")","v":""}]
[null,null,null,null,null,null,null,null,null,null,{"$f":"IF(L2537<>\"\",'Step 2) Calculate'!B2541,\"Zzzzz - delete row\")","v":"Zzzzz - delete row"},{"$f":"IF('Step 2) Calculate'!E2541<>\"\",'Step 2) Calculate'!G2541,\"\")","v":""},{"$f":"IF(L2537<>\"\",'Step 2) Calculate'!F2541,\"\")","v":""},{"$f":"IF(L2537<>\"\",'Step 2) Calculate'!H2541,\"\")","v":""},{"$f":"IF(L2537<>\"\",'Step 2) Calculate'!C2541,\"\")","v":""}]
[null,null,null,null,null,null,null,null,null,null,{"$f":"IF(L2538<>\"\",'Step 2) Calculate'!B2542,\"Zzzzz - delete row\")","v":"Zzzzz - delete row"},{"$f":"IF('Step 2) Calculate'!E2542<>\"\",'Step 2) Calculate'!G2542,\"\")","v":""},{"$f":"IF(L2538<>\"\",'Step 2) Calculate'!F2542,\"\")","v":""},{"$f":"IF(L2538<>\"\",'Step 2) Calculate'!H2542,\"\")","v":""},{"$f":"IF(L2538<>\"\",'Step 2) Calculate'!C2542,\"\")","v":""}]
[null,null,null,null,null,null,null,null,null,null,{"$f":"IF(L2539<>\"\",'Step 2) Calculate'!B2543,\"Zzzzz - delete row\")","v":"Zzzzz - delete row"},{"$f":"IF('Step 2) Calculate'!E2543<>\"\",'Step 2) Calculate'!G2543,\"\")","v":""},{"$f":"IF(L2539<>\"\",'Step 2) Calculate'!F2543,\"\")","v":""},{"$f":"IF(L2539<>\"\",'Step 2) Calculate'!H2543,\"\")","v":""},{"$f":"IF(L2539<>\"\",'Step 2) Calculate'!C2543,\"\")","v":""}]
[null,null,null,null,null,null,null,null,null,null,{"$f":"IF(L2540<>\"\",'Step 2) Calculate'!B2544,\"Zzzzz - delete row\")","v":"Zzzzz - delete row"},{"$f":"IF('Step 2) Calculate'!E2544<>\"\",'Step 2) Calculate'!G2544,\"\")","v":""},{"$f":"IF(L2540<>\"\",'Step 2) Calculate'!F2544,\"\")","v":""},{"$f":"IF(L2540<>\"\",'Step 2) Calculate'!H2544,\"\")","v":""},{"$f":"IF(L2540<>\"\",'Step 2) Calculate'!C2544,\"\")","v":""}]
[null,null,null,null,null,null,null,null,null,null,{"$f":"IF(L2541<>\"\",'Step 2) Calculate'!B2545,\"Zzzzz - delete row\")","v":"Zzzzz - delete row"},{"$f":"IF('Step 2) Calculate'!E2545<>\"\",'Step 2) Calculate'!G2545,\"\")","v":""},{"$f":"IF(L2541<>\"\",'Step 2) Calculate'!F2545,\"\")","v":""},{"$f":"IF(L2541<>\"\",'Step 2) Calculate'!H2545,\"\")","v":""},{"$f":"IF(L2541<>\"\",'Step 2) Calculate'!C2545,\"\")","v":""}]
[null,null,null,null,null,null,null,null,null,null,{"$f":"IF(L2542<>\"\",'Step 2) Calculate'!B2546,\"Zzzzz - delete row\")","v":"Zzzzz - delete row"},{"$f":"IF('Step 2) Calculate'!E2546<>\"\",'Step 2) Calculate'!G2546,\"\")","v":""},{"$f":"IF(L2542<>\"\",'Step 2) Calculate'!F2546,\"\")","v":""},{"$f":"IF(L2542<>\"\",'Step 2) Calculate'!H2546,\"\")","v":""},{"$f":"IF(L2542<>\"\",'Step 2) Calculate'!C2546,\"\")","v":""}]
[null,null,null,null,null,null,null,null,null,null,{"$f":"IF(L2543<>\"\",'Step 2) Calculate'!B2547,\"Zzzzz - delete row\")","v":"Zzzzz - delete row"},{"$f":"IF('Step 2) Calculate'!E2547<>\"\",'Step 2) Calculate'!G2547,\"\")","v":""},{"$f":"IF(L2543<>\"\",'Step 2) Calculate'!F2547,\"\")","v":""},{"$f":"IF(L2543<>\"\",'Step 2) Calculate'!H2547,\"\")","v":""},{"$f":"IF(L2543<>\"\",'Step 2) Calculate'!C2547,\"\")","v":""}]
[null,null,null,null,null,null,null,null,null,null,{"$f":"IF(L2544<>\"\",'Step 2) Calculate'!B2548,\"Zzzzz - delete row\")","v":"Zzzzz - delete row"},{"$f":"IF('Step 2) Calculate'!E2548<>\"\",'Step 2) Calculate'!G2548,\"\")","v":""},{"$f":"IF(L2544<>\"\",'Step 2) Calculate'!F2548,\"\")","v":""},{"$f":"IF(L2544<>\"\",'Step 2) Calculate'!H2548,\"\")","v":""},{"$f":"IF(L2544<>\"\",'Step 2) Calculate'!C2548,\"\")","v":""}]
[null,null,null,null,null,null,null,null,null,null,{"$f":"IF(L2545<>\"\",'Step 2) Calculate'!B2549,\"Zzzzz - delete row\")","v":"Zzzzz - delete row"},{"$f":"IF('Step 2) Calculate'!E2549<>\"\",'Step 2) Calculate'!G2549,\"\")","v":""},{"$f":"IF(L2545<>\"\",'Step 2) Calculate'!F2549,\"\")","v":""},{"$f":"IF(L2545<>\"\",'Step 2) Calculate'!H2549,\"\")","v":""},{"$f":"IF(L2545<>\"\",'Step 2) Calculate'!C2549,\"\")","v":""}]
[null,null,null,null,null,null,null,null,null,null,{"$f":"IF(L2546<>\"\",'Step 2) Calculate'!B2550,\"Zzzzz - delete row\")","v":"Zzzzz - delete row"},{"$f":"IF('Step 2) Calculate'!E2550<>\"\",'Step 2) Calculate'!G2550,\"\")","v":""},{"$f":"IF(L2546<>\"\",'Step 2) Calculate'!F2550,\"\")","v":""},{"$f":"IF(L2546<>\"\",'Step 2) Calculate'!H2550,\"\")","v":""},{"$f":"IF(L2546<>\"\",'Step 2) Calculate'!C2550,\"\")","v":""}]
[null,null,null,null,null,null,null,null,null,null,{"$f":"IF(L2547<>\"\",'Step 2) Calculate'!B2551,\"Zzzzz - delete row\")","v":"Zzzzz - delete row"},{"$f":"IF('Step 2) Calculate'!E2551<>\"\",'Step 2) Calculate'!G2551,\"\")","v":""},{"$f":"IF(L2547<>\"\",'Step 2) Calculate'!F2551,\"\")","v":""},{"$f":"IF(L2547<>\"\",'Step 2) Calculate'!H2551,\"\")","v":""},{"$f":"IF(L2547<>\"\",'Step 2) Calculate'!C2551,\"\")","v":""}]
[null,null,null,null,null,null,null,null,null,null,{"$f":"IF(L2548<>\"\",'Step 2) Calculate'!B2552,\"Zzzzz - delete row\")","v":"Zzzzz - delete row"},{"$f":"IF('Step 2) Calculate'!E2552<>\"\",'Step 2) Calculate'!G2552,\"\")","v":""},{"$f":"IF(L2548<>\"\",'Step 2) Calculate'!F2552,\"\")","v":""},{"$f":"IF(L2548<>\"\",'Step 2) Calculate'!H2552,\"\")","v":""},{"$f":"IF(L2548<>\"\",'Step 2) Calculate'!C2552,\"\")","v":""}]
[null,null,null,null,null,null,null,null,null,null,{"$f":"IF(L2549<>\"\",'Step 2) Calculate'!B2553,\"Zzzzz - delete row\")","v":"Zzzzz - delete row"},{"$f":"IF('Step 2) Calculate'!E2553<>\"\",'Step 2) Calculate'!G2553,\"\")","v":""},{"$f":"IF(L2549<>\"\",'Step 2) Calculate'!F2553,\"\")","v":""},{"$f":"IF(L2549<>\"\",'Step 2) Calculate'!H2553,\"\")","v":""},{"$f":"IF(L2549<>\"\",'Step 2) Calculate'!C2553,\"\")","v":""}]
[null,null,null,null,null,null,null,null,null,null,{"$f":"IF(L2550<>\"\",'Step 2) Calculate'!B2554,\"Zzzzz - delete row\")","v":"Zzzzz - delete row"},{"$f":"IF('Step 2) Calculate'!E2554<>\"\",'Step 2) Calculate'!G2554,\"\")","v":""},{"$f":"IF(L2550<>\"\",'Step 2) Calculate'!F2554,\"\")","v":""},{"$f":"IF(L2550<>\"\",'Step 2) Calculate'!H2554,\"\")","v":""},{"$f":"IF(L2550<>\"\",'Step 2) Calculate'!C2554,\"\")","v":""}]
[null,null,null,null,null,null,null,null,null,null,{"$f":"IF(L2551<>\"\",'Step 2) Calculate'!B2555,\"Zzzzz - delete row\")","v":"Zzzzz - delete row"},{"$f":"IF('Step 2) Calculate'!E2555<>\"\",'Step 2) Calculate'!G2555,\"\")","v":""},{"$f":"IF(L2551<>\"\",'Step 2) Calculate'!F2555,\"\")","v":""},{"$f":"IF(L2551<>\"\",'Step 2) Calculate'!H2555,\"\")","v":""},{"$f":"IF(L2551<>\"\",'Step 2) Calculate'!C2555,\"\")","v":""}]
[null,null,null,null,null,null,null,null,null,null,{"$f":"IF(L2552<>\"\",'Step 2) Calculate'!B2556,\"Zzzzz - delete row\")","v":"Zzzzz - delete row"},{"$f":"IF('Step 2) Calculate'!E2556<>\"\",'Step 2) Calculate'!G2556,\"\")","v":""},{"$f":"IF(L2552<>\"\",'Step 2) Calculate'!F2556,\"\")","v":""},{"$f":"IF(L2552<>\"\",'Step 2) Calculate'!H2556,\"\")","v":""},{"$f":"IF(L2552<>\"\",'Step 2) Calculate'!C2556,\"\")","v":""}]
[null,null,null,null,null,null,null,null,null,null,{"$f":"IF(L2553<>\"\",'Step 2) Calculate'!B2557,\"Zzzzz - delete row\")","v":"Zzzzz - delete row"},{"$f":"IF('Step 2) Calculate'!E2557<>\"\",'Step 2) Calculate'!G2557,\"\")","v":""},{"$f":"IF(L2553<>\"\",'Step 2) Calculate'!F2557,\"\")","v":""},{"$f":"IF(L2553<>\"\",'Step 2) Calculate'!H2557,\"\")","v":""},{"$f":"IF(L2553<>\"\",'Step 2) Calculate'!C2557,\"\")","v":""}]
[null,null,null,null,null,null,null,null,null,null,{"$f":"IF(L2554<>\"\",'Step 2) Calculate'!B2558,\"Zzzzz - delete row\")","v":"Zzzzz - delete row"},{"$f":"IF('Step 2) Calculate'!E2558<>\"\",'Step 2) Calculate'!G2558,\"\")","v":""},{"$f":"IF(L2554<>\"\",'Step 2) Calculate'!F2558,\"\")","v":""},{"$f":"IF(L2554<>\"\",'Step 2) Calculate'!H2558,\"\")","v":""},{"$f":"IF(L2554<>\"\",'Step 2) Calculate'!C2558,\"\")","v":""}]
[null,null,null,null,null,null,null,null,null,null,{"$f":"IF(L2555<>\"\",'Step 2) Calculate'!B2559,\"Zzzzz - delete row\")","v":"Zzzzz - delete row"},{"$f":"IF('Step 2) Calculate'!E2559<>\"\",'Step 2) Calculate'!G2559,\"\")","v":""},{"$f":"IF(L2555<>\"\",'Step 2) Calculate'!F2559,\"\")","v":""},{"$f":"IF(L2555<>\"\",'Step 2) Calculate'!H2559,\"\")","v":""},{"$f":"IF(L2555<>\"\",'Step 2) Calculate'!C2559,\"\")","v":""}]
[null,null,null,null,null,null,null,null,null,null,{"$f":"IF(L2556<>\"\",'Step 2) Calculate'!B2560,\"Zzzzz - delete row\")","v":"Zzzzz - delete row"},{"$f":"IF('Step 2) Calculate'!E2560<>\"\",'Step 2) Calculate'!G2560,\"\")","v":""},{"$f":"IF(L2556<>\"\",'Step 2) Calculate'!F2560,\"\")","v":""},{"$f":"IF(L2556<>\"\",'Step 2) Calculate'!H2560,\"\")","v":""},{"$f":"IF(L2556<>\"\",'Step 2) Calculate'!C2560,\"\")","v":""}]
[null,null,null,null,null,null,null,null,null,null,{"$f":"IF(L2557<>\"\",'Step 2) Calculate'!B2561,\"Zzzzz - delete row\")","v":"Zzzzz - delete row"},{"$f":"IF('Step 2) Calculate'!E2561<>\"\",'Step 2) Calculate'!G2561,\"\")","v":""},{"$f":"IF(L2557<>\"\",'Step 2) Calculate'!F2561,\"\")","v":""},{"$f":"IF(L2557<>\"\",'Step 2) Calculate'!H2561,\"\")","v":""},{"$f":"IF(L2557<>\"\",'Step 2) Calculate'!C2561,\"\")","v":""}]
[null,null,null,null,null,null,null,null,null,null,{"$f":"IF(L2558<>\"\",'Step 2) Calculate'!B2562,\"Zzzzz - delete row\")","v":"Zzzzz - delete row"},{"$f":"IF('Step 2) Calculate'!E2562<>\"\",'Step 2) Calculate'!G2562,\"\")","v":""},{"$f":"IF(L2558<>\"\",'Step 2) Calculate'!F2562,\"\")","v":""},{"$f":"IF(L2558<>\"\",'Step 2) Calculate'!H2562,\"\")","v":""},{"$f":"IF(L2558<>\"\",'Step 2) Calculate'!C2562,\"\")","v":""}]
[null,null,null,null,null,null,null,null,null,null,{"$f":"IF(L2559<>\"\",'Step 2) Calculate'!B2563,\"Zzzzz - delete row\")","v":"Zzzzz - delete row"},{"$f":"IF('Step 2) Calculate'!E2563<>\"\",'Step 2) Calculate'!G2563,\"\")","v":""},{"$f":"IF(L2559<>\"\",'Step 2) Calculate'!F2563,\"\")","v":""},{"$f":"IF(L2559<>\"\",'Step 2) Calculate'!H2563,\"\")","v":""},{"$f":"IF(L2559<>\"\",'Step 2) Calculate'!C2563,\"\")","v":""}]
[null,null,null,null,null,null,null,null,null,null,{"$f":"IF(L2560<>\"\",'Step 2) Calculate'!B2564,\"Zzzzz - delete row\")","v":"Zzzzz - delete row"},{"$f":"IF('Step 2) Calculate'!E2564<>\"\",'Step 2) Calculate'!G2564,\"\")","v":""},{"$f":"IF(L2560<>\"\",'Step 2) Calculate'!F2564,\"\")","v":""},{"$f":"IF(L2560<>\"\",'Step 2) Calculate'!H2564,\"\")","v":""},{"$f":"IF(L2560<>\"\",'Step 2) Calculate'!C2564,\"\")","v":""}]
[null,null,null,null,null,null,null,null,null,null,{"$f":"IF(L2561<>\"\",'Step 2) Calculate'!B2565,\"Zzzzz - delete row\")","v":"Zzzzz - delete row"},{"$f":"IF('Step 2) Calculate'!E2565<>\"\",'Step 2) Calculate'!G2565,\"\")","v":""},{"$f":"IF(L2561<>\"\",'Step 2) Calculate'!F2565,\"\")","v":""},{"$f":"IF(L2561<>\"\",'Step 2) Calculate'!H2565,\"\")","v":""},{"$f":"IF(L2561<>\"\",'Step 2) Calculate'!C2565,\"\")","v":""}]
[null,null,null,null,null,null,null,null,null,null,{"$f":"IF(L2562<>\"\",'Step 2) Calculate'!B2566,\"Zzzzz - delete row\")","v":"Zzzzz - delete row"},{"$f":"IF('Step 2) Calculate'!E2566<>\"\",'Step 2) Calculate'!G2566,\"\")","v":""},{"$f":"IF(L2562<>\"\",'Step 2) Calculate'!F2566,\"\")","v":""},{"$f":"IF(L2562<>\"\",'Step 2) Calculate'!H2566,\"\")","v":""},{"$f":"IF(L2562<>\"\",'Step 2) Calculate'!C2566,\"\")","v":""}]
[null,null,null,null,null,null,null,null,null,null,{"$f":"IF(L2563<>\"\",'Step 2) Calculate'!B2567,\"Zzzzz - delete row\")","v":"Zzzzz - delete row"},{"$f":"IF('Step 2) Calculate'!E2567<>\"\",'Step 2) Calculate'!G2567,\"\")","v":""},{"$f":"IF(L2563<>\"\",'Step 2) Calculate'!F2567,\"\")","v":""},{"$f":"IF(L2563<>\"\",'Step 2) Calculate'!H2567,\"\")","v":""},{"$f":"IF(L2563<>\"\",'Step 2) Calculate'!C2567,\"\")","v":""}]
[null,null,null,null,null,null,null,null,null,null,{"$f":"IF(L2564<>\"\",'Step 2) Calculate'!B2568,\"Zzzzz - delete row\")","v":"Zzzzz - delete row"},{"$f":"IF('Step 2) Calculate'!E2568<>\"\",'Step 2) Calculate'!G2568,\"\")","v":""},{"$f":"IF(L2564<>\"\",'Step 2) Calculate'!F2568,\"\")","v":""},{"$f":"IF(L2564<>\"\",'Step 2) Calculate'!H2568,\"\")","v":""},{"$f":"IF(L2564<>\"\",'Step 2) Calculate'!C2568,\"\")","v":""}]
[null,null,null,null,null,null,null,null,null,null,{"$f":"IF(L2565<>\"\",'Step 2) Calculate'!B2569,\"Zzzzz - delete row\")","v":"Zzzzz - delete row"},{"$f":"IF('Step 2) Calculate'!E2569<>\"\",'Step 2) Calculate'!G2569,\"\")","v":""},{"$f":"IF(L2565<>\"\",'Step 2) Calculate'!F2569,\"\")","v":""},{"$f":"IF(L2565<>\"\",'Step 2) Calculate'!H2569,\"\")","v":""},{"$f":"IF(L2565<>\"\",'Step 2) Calculate'!C2569,\"\")","v":""}]
[null,null,null,null,null,null,null,null,null,null,{"$f":"IF(L2566<>\"\",'Step 2) Calculate'!B2570,\"Zzzzz - delete row\")","v":"Zzzzz - delete row"},{"$f":"IF('Step 2) Calculate'!E2570<>\"\",'Step 2) Calculate'!G2570,\"\")","v":""},{"$f":"IF(L2566<>\"\",'Step 2) Calculate'!F2570,\"\")","v":""},{"$f":"IF(L2566<>\"\",'Step 2) Calculate'!H2570,\"\")","v":""},{"$f":"IF(L2566<>\"\",'Step 2) Calculate'!C2570,\"\")","v":""}]
[null,null,null,null,null,null,null,null,null,null,{"$f":"IF(L2567<>\"\",'Step 2) Calculate'!B2571,\"Zzzzz - delete row\")","v":"Zzzzz - delete row"},{"$f":"IF('Step 2) Calculate'!E2571<>\"\",'Step 2) Calculate'!G2571,\"\")","v":""},{"$f":"IF(L2567<>\"\",'Step 2) Calculate'!F2571,\"\")","v":""},{"$f":"IF(L2567<>\"\",'Step 2) Calculate'!H2571,\"\")","v":""},{"$f":"IF(L2567<>\"\",'Step 2) Calculate'!C2571,\"\")","v":""}]
[null,null,null,null,null,null,null,null,null,null,{"$f":"IF(L2568<>\"\",'Step 2) Calculate'!B2572,\"Zzzzz - delete row\")","v":"Zzzzz - delete row"},{"$f":"IF('Step 2) Calculate'!E2572<>\"\",'Step 2) Calculate'!G2572,\"\")","v":""},{"$f":"IF(L2568<>\"\",'Step 2) Calculate'!F2572,\"\")","v":""},{"$f":"IF(L2568<>\"\",'Step 2) Calculate'!H2572,\"\")","v":""},{"$f":"IF(L2568<>\"\",'Step 2) Calculate'!C2572,\"\")","v":""}]
[null,null,null,null,null,null,null,null,null,null,{"$f":"IF(L2569<>\"\",'Step 2) Calculate'!B2573,\"Zzzzz - delete row\")","v":"Zzzzz - delete row"},{"$f":"IF('Step 2) Calculate'!E2573<>\"\",'Step 2) Calculate'!G2573,\"\")","v":""},{"$f":"IF(L2569<>\"\",'Step 2) Calculate'!F2573,\"\")","v":""},{"$f":"IF(L2569<>\"\",'Step 2) Calculate'!H2573,\"\")","v":""},{"$f":"IF(L2569<>\"\",'Step 2) Calculate'!C2573,\"\")","v":""}]
[null,null,null,null,null,null,null,null,null,null,{"$f":"IF(L2570<>\"\",'Step 2) Calculate'!B2574,\"Zzzzz - delete row\")","v":"Zzzzz - delete row"},{"$f":"IF('Step 2) Calculate'!E2574<>\"\",'Step 2) Calculate'!G2574,\"\")","v":""},{"$f":"IF(L2570<>\"\",'Step 2) Calculate'!F2574,\"\")","v":""},{"$f":"IF(L2570<>\"\",'Step 2) Calculate'!H2574,\"\")","v":""},{"$f":"IF(L2570<>\"\",'Step 2) Calculate'!C2574,\"\")","v":""}]
[null,null,null,null,null,null,null,null,null,null,{"$f":"IF(L2571<>\"\",'Step 2) Calculate'!B2575,\"Zzzzz - delete row\")","v":"Zzzzz - delete row"},{"$f":"IF('Step 2) Calculate'!E2575<>\"\",'Step 2) Calculate'!G2575,\"\")","v":""},{"$f":"IF(L2571<>\"\",'Step 2) Calculate'!F2575,\"\")","v":""},{"$f":"IF(L2571<>\"\",'Step 2) Calculate'!H2575,\"\")","v":""},{"$f":"IF(L2571<>\"\",'Step 2) Calculate'!C2575,\"\")","v":""}]
[null,null,null,null,null,null,null,null,null,null,{"$f":"IF(L2572<>\"\",'Step 2) Calculate'!B2576,\"Zzzzz - delete row\")","v":"Zzzzz - delete row"},{"$f":"IF('Step 2) Calculate'!E2576<>\"\",'Step 2) Calculate'!G2576,\"\")","v":""},{"$f":"IF(L2572<>\"\",'Step 2) Calculate'!F2576,\"\")","v":""},{"$f":"IF(L2572<>\"\",'Step 2) Calculate'!H2576,\"\")","v":""},{"$f":"IF(L2572<>\"\",'Step 2) Calculate'!C2576,\"\")","v":""}]
[null,null,null,null,null,null,null,null,null,null,{"$f":"IF(L2573<>\"\",'Step 2) Calculate'!B2577,\"Zzzzz - delete row\")","v":"Zzzzz - delete row"},{"$f":"IF('Step 2) Calculate'!E2577<>\"\",'Step 2) Calculate'!G2577,\"\")","v":""},{"$f":"IF(L2573<>\"\",'Step 2) Calculate'!F2577,\"\")","v":""},{"$f":"IF(L2573<>\"\",'Step 2) Calculate'!H2577,\"\")","v":""},{"$f":"IF(L2573<>\"\",'Step 2) Calculate'!C2577,\"\")","v":""}]
[null,null,null,null,null,null,null,null,null,null,{"$f":"IF(L2574<>\"\",'Step 2) Calculate'!B2578,\"Zzzzz - delete row\")","v":"Zzzzz - delete row"},{"$f":"IF('Step 2) Calculate'!E2578<>\"\",'Step 2) Calculate'!G2578,\"\")","v":""},{"$f":"IF(L2574<>\"\",'Step 2) Calculate'!F2578,\"\")","v":""},{"$f":"IF(L2574<>\"\",'Step 2) Calculate'!H2578,\"\")","v":""},{"$f":"IF(L2574<>\"\",'Step 2) Calculate'!C2578,\"\")","v":""}]
[null,null,null,null,null,null,null,null,null,null,{"$f":"IF(L2575<>\"\",'Step 2) Calculate'!B2579,\"Zzzzz - delete row\")","v":"Zzzzz - delete row"},{"$f":"IF('Step 2) Calculate'!E2579<>\"\",'Step 2) Calculate'!G2579,\"\")","v":""},{"$f":"IF(L2575<>\"\",'Step 2) Calculate'!F2579,\"\")","v":""},{"$f":"IF(L2575<>\"\",'Step 2) Calculate'!H2579,\"\")","v":""},{"$f":"IF(L2575<>\"\",'Step 2) Calculate'!C2579,\"\")","v":""}]
[null,null,null,null,null,null,null,null,null,null,{"$f":"IF(L2576<>\"\",'Step 2) Calculate'!B2580,\"Zzzzz - delete row\")","v":"Zzzzz - delete row"},{"$f":"IF('Step 2) Calculate'!E2580<>\"\",'Step 2) Calculate'!G2580,\"\")","v":""},{"$f":"IF(L2576<>\"\",'Step 2) Calculate'!F2580,\"\")","v":""},{"$f":"IF(L2576<>\"\",'Step 2) Calculate'!H2580,\"\")","v":""},{"$f":"IF(L2576<>\"\",'Step 2) Calculate'!C2580,\"\")","v":""}]
[null,null,null,null,null,null,null,null,null,null,{"$f":"IF(L2577<>\"\",'Step 2) Calculate'!B2581,\"Zzzzz - delete row\")","v":"Zzzzz - delete row"},{"$f":"IF('Step 2) Calculate'!E2581<>\"\",'Step 2) Calculate'!G2581,\"\")","v":""},{"$f":"IF(L2577<>\"\",'Step 2) Calculate'!F2581,\"\")","v":""},{"$f":"IF(L2577<>\"\",'Step 2) Calculate'!H2581,\"\")","v":""},{"$f":"IF(L2577<>\"\",'Step 2) Calculate'!C2581,\"\")","v":""}]
[null,null,null,null,null,null,null,null,null,null,{"$f":"IF(L2578<>\"\",'Step 2) Calculate'!B2582,\"Zzzzz - delete row\")","v":"Zzzzz - delete row"},{"$f":"IF('Step 2) Calculate'!E2582<>\"\",'Step 2) Calculate'!G2582,\"\")","v":""},{"$f":"IF(L2578<>\"\",'Step 2) Calculate'!F2582,\"\")","v":""},{"$f":"IF(L2578<>\"\",'Step 2) Calculate'!H2582,\"\")","v":""},{"$f":"IF(L2578<>\"\",'Step 2) Calculate'!C2582,\"\")","v":""}]
[null,null,null,null,null,null,null,null,null,null,{"$f":"IF(L2579<>\"\",'Step 2) Calculate'!B2583,\"Zzzzz - delete row\")","v":"Zzzzz - delete row"},{"$f":"IF('Step 2) Calculate'!E2583<>\"\",'Step 2) Calculate'!G2583,\"\")","v":""},{"$f":"IF(L2579<>\"\",'Step 2) Calculate'!F2583,\"\")","v":""},{"$f":"IF(L2579<>\"\",'Step 2) Calculate'!H2583,\"\")","v":""},{"$f":"IF(L2579<>\"\",'Step 2) Calculate'!C2583,\"\")","v":""}]
[null,null,null,null,null,null,null,null,null,null,{"$f":"IF(L2580<>\"\",'Step 2) Calculate'!B2584,\"Zzzzz - delete row\")","v":"Zzzzz - delete row"},{"$f":"IF('Step 2) Calculate'!E2584<>\"\",'Step 2) Calculate'!G2584,\"\")","v":""},{"$f":"IF(L2580<>\"\",'Step 2) Calculate'!F2584,\"\")","v":""},{"$f":"IF(L2580<>\"\",'Step 2) Calculate'!H2584,\"\")","v":""},{"$f":"IF(L2580<>\"\",'Step 2) Calculate'!C2584,\"\")","v":""}]
[null,null,null,null,null,null,null,null,null,null,{"$f":"IF(L2581<>\"\",'Step 2) Calculate'!B2585,\"Zzzzz - delete row\")","v":"Zzzzz - delete row"},{"$f":"IF('Step 2) Calculate'!E2585<>\"\",'Step 2) Calculate'!G2585,\"\")","v":""},{"$f":"IF(L2581<>\"\",'Step 2) Calculate'!F2585,\"\")","v":""},{"$f":"IF(L2581<>\"\",'Step 2) Calculate'!H2585,\"\")","v":""},{"$f":"IF(L2581<>\"\",'Step 2) Calculate'!C2585,\"\")","v":""}]
[null,null,null,null,null,null,null,null,null,null,{"$f":"IF(L2582<>\"\",'Step 2) Calculate'!B2586,\"Zzzzz - delete row\")","v":"Zzzzz - delete row"},{"$f":"IF('Step 2) Calculate'!E2586<>\"\",'Step 2) Calculate'!G2586,\"\")","v":""},{"$f":"IF(L2582<>\"\",'Step 2) Calculate'!F2586,\"\")","v":""},{"$f":"IF(L2582<>\"\",'Step 2) Calculate'!H2586,\"\")","v":""},{"$f":"IF(L2582<>\"\",'Step 2) Calculate'!C2586,\"\")","v":""}]
[null,null,null,null,null,null,null,null,null,null,{"$f":"IF(L2583<>\"\",'Step 2) Calculate'!B2587,\"Zzzzz - delete row\")","v":"Zzzzz - delete row"},{"$f":"IF('Step 2) Calculate'!E2587<>\"\",'Step 2) Calculate'!G2587,\"\")","v":""},{"$f":"IF(L2583<>\"\",'Step 2) Calculate'!F2587,\"\")","v":""},{"$f":"IF(L2583<>\"\",'Step 2) Calculate'!H2587,\"\")","v":""},{"$f":"IF(L2583<>\"\",'Step 2) Calculate'!C2587,\"\")","v":""}]
[null,null,null,null,null,null,null,null,null,null,{"$f":"IF(L2584<>\"\",'Step 2) Calculate'!B2588,\"Zzzzz - delete row\")","v":"Zzzzz - delete row"},{"$f":"IF('Step 2) Calculate'!E2588<>\"\",'Step 2) Calculate'!G2588,\"\")","v":""},{"$f":"IF(L2584<>\"\",'Step 2) Calculate'!F2588,\"\")","v":""},{"$f":"IF(L2584<>\"\",'Step 2) Calculate'!H2588,\"\")","v":""},{"$f":"IF(L2584<>\"\",'Step 2) Calculate'!C2588,\"\")","v":""}]
[null,null,null,null,null,null,null,null,null,null,{"$f":"IF(L2585<>\"\",'Step 2) Calculate'!B2589,\"Zzzzz - delete row\")","v":"Zzzzz - delete row"},{"$f":"IF('Step 2) Calculate'!E2589<>\"\",'Step 2) Calculate'!G2589,\"\")","v":""},{"$f":"IF(L2585<>\"\",'Step 2) Calculate'!F2589,\"\")","v":""},{"$f":"IF(L2585<>\"\",'Step 2) Calculate'!H2589,\"\")","v":""},{"$f":"IF(L2585<>\"\",'Step 2) Calculate'!C2589,\"\")","v":""}]
[null,null,null,null,null,null,null,null,null,null,{"$f":"IF(L2586<>\"\",'Step 2) Calculate'!B2590,\"Zzzzz - delete row\")","v":"Zzzzz - delete row"},{"$f":"IF('Step 2) Calculate'!E2590<>\"\",'Step 2) Calculate'!G2590,\"\")","v":""},{"$f":"IF(L2586<>\"\",'Step 2) Calculate'!F2590,\"\")","v":""},{"$f":"IF(L2586<>\"\",'Step 2) Calculate'!H2590,\"\")","v":""},{"$f":"IF(L2586<>\"\",'Step 2) Calculate'!C2590,\"\")","v":""}]
[null,null,null,null,null,null,null,null,null,null,{"$f":"IF(L2587<>\"\",'Step 2) Calculate'!B2591,\"Zzzzz - delete row\")","v":"Zzzzz - delete row"},{"$f":"IF('Step 2) Calculate'!E2591<>\"\",'Step 2) Calculate'!G2591,\"\")","v":""},{"$f":"IF(L2587<>\"\",'Step 2) Calculate'!F2591,\"\")","v":""},{"$f":"IF(L2587<>\"\",'Step 2) Calculate'!H2591,\"\")","v":""},{"$f":"IF(L2587<>\"\",'Step 2) Calculate'!C2591,\"\")","v":""}]
[null,null,null,null,null,null,null,null,null,null,{"$f":"IF(L2588<>\"\",'Step 2) Calculate'!B2592,\"Zzzzz - delete row\")","v":"Zzzzz - delete row"},{"$f":"IF('Step 2) Calculate'!E2592<>\"\",'Step 2) Calculate'!G2592,\"\")","v":""},{"$f":"IF(L2588<>\"\",'Step 2) Calculate'!F2592,\"\")","v":""},{"$f":"IF(L2588<>\"\",'Step 2) Calculate'!H2592,\"\")","v":""},{"$f":"IF(L2588<>\"\",'Step 2) Calculate'!C2592,\"\")","v":""}]
[null,null,null,null,null,null,null,null,null,null,{"$f":"IF(L2589<>\"\",'Step 2) Calculate'!B2593,\"Zzzzz - delete row\")","v":"Zzzzz - delete row"},{"$f":"IF('Step 2) Calculate'!E2593<>\"\",'Step 2) Calculate'!G2593,\"\")","v":""},{"$f":"IF(L2589<>\"\",'Step 2) Calculate'!F2593,\"\")","v":""},{"$f":"IF(L2589<>\"\",'Step 2) Calculate'!H2593,\"\")","v":""},{"$f":"IF(L2589<>\"\",'Step 2) Calculate'!C2593,\"\")","v":""}]
[null,null,null,null,null,null,null,null,null,null,{"$f":"IF(L2590<>\"\",'Step 2) Calculate'!B2594,\"Zzzzz - delete row\")","v":"Zzzzz - delete row"},{"$f":"IF('Step 2) Calculate'!E2594<>\"\",'Step 2) Calculate'!G2594,\"\")","v":""},{"$f":"IF(L2590<>\"\",'Step 2) Calculate'!F2594,\"\")","v":""},{"$f":"IF(L2590<>\"\",'Step 2) Calculate'!H2594,\"\")","v":""},{"$f":"IF(L2590<>\"\",'Step 2) Calculate'!C2594,\"\")","v":""}]
[null,null,null,null,null,null,null,null,null,null,{"$f":"IF(L2591<>\"\",'Step 2) Calculate'!B2595,\"Zzzzz - delete row\")","v":"Zzzzz - delete row"},{"$f":"IF('Step 2) Calculate'!E2595<>\"\",'Step 2) Calculate'!G2595,\"\")","v":""},{"$f":"IF(L2591<>\"\",'Step 2) Calculate'!F2595,\"\")","v":""},{"$f":"IF(L2591<>\"\",'Step 2) Calculate'!H2595,\"\")","v":""},{"$f":"IF(L2591<>\"\",'Step 2) Calculate'!C2595,\"\")","v":""}]
[null,null,null,null,null,null,null,null,null,null,{"$f":"IF(L2592<>\"\",'Step 2) Calculate'!B2596,\"Zzzzz - delete row\")","v":"Zzzzz - delete row"},{"$f":"IF('Step 2) Calculate'!E2596<>\"\",'Step 2) Calculate'!G2596,\"\")","v":""},{"$f":"IF(L2592<>\"\",'Step 2) Calculate'!F2596,\"\")","v":""},{"$f":"IF(L2592<>\"\",'Step 2) Calculate'!H2596,\"\")","v":""},{"$f":"IF(L2592<>\"\",'Step 2) Calculate'!C2596,\"\")","v":""}]
[null,null,null,null,null,null,null,null,null,null,{"$f":"IF(L2593<>\"\",'Step 2) Calculate'!B2597,\"Zzzzz - delete row\")","v":"Zzzzz - delete row"},{"$f":"IF('Step 2) Calculate'!E2597<>\"\",'Step 2) Calculate'!G2597,\"\")","v":""},{"$f":"IF(L2593<>\"\",'Step 2) Calculate'!F2597,\"\")","v":""},{"$f":"IF(L2593<>\"\",'Step 2) Calculate'!H2597,\"\")","v":""},{"$f":"IF(L2593<>\"\",'Step 2) Calculate'!C2597,\"\")","v":""}]
[null,null,null,null,null,null,null,null,null,null,{"$f":"IF(L2594<>\"\",'Step 2) Calculate'!B2598,\"Zzzzz - delete row\")","v":"Zzzzz - delete row"},{"$f":"IF('Step 2) Calculate'!E2598<>\"\",'Step 2) Calculate'!G2598,\"\")","v":""},{"$f":"IF(L2594<>\"\",'Step 2) Calculate'!F2598,\"\")","v":""},{"$f":"IF(L2594<>\"\",'Step 2) Calculate'!H2598,\"\")","v":""},{"$f":"IF(L2594<>\"\",'Step 2) Calculate'!C2598,\"\")","v":""}]
[null,null,null,null,null,null,null,null,null,null,{"$f":"IF(L2595<>\"\",'Step 2) Calculate'!B2599,\"Zzzzz - delete row\")","v":"Zzzzz - delete row"},{"$f":"IF('Step 2) Calculate'!E2599<>\"\",'Step 2) Calculate'!G2599,\"\")","v":""},{"$f":"IF(L2595<>\"\",'Step 2) Calculate'!F2599,\"\")","v":""},{"$f":"IF(L2595<>\"\",'Step 2) Calculate'!H2599,\"\")","v":""},{"$f":"IF(L2595<>\"\",'Step 2) Calculate'!C2599,\"\")","v":""}]
[null,null,null,null,null,null,null,null,null,null,{"$f":"IF(L2596<>\"\",'Step 2) Calculate'!B2600,\"Zzzzz - delete row\")","v":"Zzzzz - delete row"},{"$f":"IF('Step 2) Calculate'!E2600<>\"\",'Step 2) Calculate'!G2600,\"\")","v":""},{"$f":"IF(L2596<>\"\",'Step 2) Calculate'!F2600,\"\")","v":""},{"$f":"IF(L2596<>\"\",'Step 2) Calculate'!H2600,\"\")","v":""},{"$f":"IF(L2596<>\"\",'Step 2) Calculate'!C2600,\"\")","v":""}]
[null,null,null,null,null,null,null,null,null,null,{"$f":"IF(L2597<>\"\",'Step 2) Calculate'!B2601,\"Zzzzz - delete row\")","v":"Zzzzz - delete row"},{"$f":"IF('Step 2) Calculate'!E2601<>\"\",'Step 2) Calculate'!G2601,\"\")","v":""},{"$f":"IF(L2597<>\"\",'Step 2) Calculate'!F2601,\"\")","v":""},{"$f":"IF(L2597<>\"\",'Step 2) Calculate'!H2601,\"\")","v":""},{"$f":"IF(L2597<>\"\",'Step 2) Calculate'!C2601,\"\")","v":""}]
[null,null,null,null,null,null,null,null,null,null,{"$f":"IF(L2598<>\"\",'Step 2) Calculate'!B2602,\"Zzzzz - delete row\")","v":"Zzzzz - delete row"},{"$f":"IF('Step 2) Calculate'!E2602<>\"\",'Step 2) Calculate'!G2602,\"\")","v":""},{"$f":"IF(L2598<>\"\",'Step 2) Calculate'!F2602,\"\")","v":""},{"$f":"IF(L2598<>\"\",'Step 2) Calculate'!H2602,\"\")","v":""},{"$f":"IF(L2598<>\"\",'Step 2) Calculate'!C2602,\"\")","v":""}]
[null,null,null,null,null,null,null,null,null,null,{"$f":"IF(L2599<>\"\",'Step 2) Calculate'!B2603,\"Zzzzz - delete row\")","v":"Zzzzz - delete row"},{"$f":"IF('Step 2) Calculate'!E2603<>\"\",'Step 2) Calculate'!G2603,\"\")","v":""},{"$f":"IF(L2599<>\"\",'Step 2) Calculate'!F2603,\"\")","v":""},{"$f":"IF(L2599<>\"\",'Step 2) Calculate'!H2603,\"\")","v":""},{"$f":"IF(L2599<>\"\",'Step 2) Calculate'!C2603,\"\")","v":""}]
[null,null,null,null,null,null,null,null,null,null,{"$f":"IF(L2600<>\"\",'Step 2) Calculate'!B2604,\"Zzzzz - delete row\")","v":"Zzzzz - delete row"},{"$f":"IF('Step 2) Calculate'!E2604<>\"\",'Step 2) Calculate'!G2604,\"\")","v":""},{"$f":"IF(L2600<>\"\",'Step 2) Calculate'!F2604,\"\")","v":""},{"$f":"IF(L2600<>\"\",'Step 2) Calculate'!H2604,\"\")","v":""},{"$f":"IF(L2600<>\"\",'Step 2) Calculate'!C2604,\"\")","v":""}]
[null,null,null,null,null,null,null,null,null,null,{"$f":"IF(L2601<>\"\",'Step 2) Calculate'!B2605,\"Zzzzz - delete row\")","v":"Zzzzz - delete row"},{"$f":"IF('Step 2) Calculate'!E2605<>\"\",'Step 2) Calculate'!G2605,\"\")","v":""},{"$f":"IF(L2601<>\"\",'Step 2) Calculate'!F2605,\"\")","v":""},{"$f":"IF(L2601<>\"\",'Step 2) Calculate'!H2605,\"\")","v":""},{"$f":"IF(L2601<>\"\",'Step 2) Calculate'!C2605,\"\")","v":""}]
[null,null,null,null,null,null,null,null,null,null,{"$f":"IF(L2602<>\"\",'Step 2) Calculate'!B2606,\"Zzzzz - delete row\")","v":"Zzzzz - delete row"},{"$f":"IF('Step 2) Calculate'!E2606<>\"\",'Step 2) Calculate'!G2606,\"\")","v":""},{"$f":"IF(L2602<>\"\",'Step 2) Calculate'!F2606,\"\")","v":""},{"$f":"IF(L2602<>\"\",'Step 2) Calculate'!H2606,\"\")","v":""},{"$f":"IF(L2602<>\"\",'Step 2) Calculate'!C2606,\"\")","v":""}]
[null,null,null,null,null,null,null,null,null,null,{"$f":"IF(L2603<>\"\",'Step 2) Calculate'!B2607,\"Zzzzz - delete row\")","v":"Zzzzz - delete row"},{"$f":"IF('Step 2) Calculate'!E2607<>\"\",'Step 2) Calculate'!G2607,\"\")","v":""},{"$f":"IF(L2603<>\"\",'Step 2) Calculate'!F2607,\"\")","v":""},{"$f":"IF(L2603<>\"\",'Step 2) Calculate'!H2607,\"\")","v":""},{"$f":"IF(L2603<>\"\",'Step 2) Calculate'!C2607,\"\")","v":""}]
[null,null,null,null,null,null,null,null,null,null,{"$f":"IF(L2604<>\"\",'Step 2) Calculate'!B2608,\"Zzzzz - delete row\")","v":"Zzzzz - delete row"},{"$f":"IF('Step 2) Calculate'!E2608<>\"\",'Step 2) Calculate'!G2608,\"\")","v":""},{"$f":"IF(L2604<>\"\",'Step 2) Calculate'!F2608,\"\")","v":""},{"$f":"IF(L2604<>\"\",'Step 2) Calculate'!H2608,\"\")","v":""},{"$f":"IF(L2604<>\"\",'Step 2) Calculate'!C2608,\"\")","v":""}]
[null,null,null,null,null,null,null,null,null,null,{"$f":"IF(L2605<>\"\",'Step 2) Calculate'!B2609,\"Zzzzz - delete row\")","v":"Zzzzz - delete row"},{"$f":"IF('Step 2) Calculate'!E2609<>\"\",'Step 2) Calculate'!G2609,\"\")","v":""},{"$f":"IF(L2605<>\"\",'Step 2) Calculate'!F2609,\"\")","v":""},{"$f":"IF(L2605<>\"\",'Step 2) Calculate'!H2609,\"\")","v":""},{"$f":"IF(L2605<>\"\",'Step 2) Calculate'!C2609,\"\")","v":""}]
[null,null,null,null,null,null,null,null,null,null,{"$f":"IF(L2606<>\"\",'Step 2) Calculate'!B2610,\"Zzzzz - delete row\")","v":"Zzzzz - delete row"},{"$f":"IF('Step 2) Calculate'!E2610<>\"\",'Step 2) Calculate'!G2610,\"\")","v":""},{"$f":"IF(L2606<>\"\",'Step 2) Calculate'!F2610,\"\")","v":""},{"$f":"IF(L2606<>\"\",'Step 2) Calculate'!H2610,\"\")","v":""},{"$f":"IF(L2606<>\"\",'Step 2) Calculate'!C2610,\"\")","v":""}]
[null,null,null,null,null,null,null,null,null,null,{"$f":"IF(L2607<>\"\",'Step 2) Calculate'!B2611,\"Zzzzz - delete row\")","v":"Zzzzz - delete row"},{"$f":"IF('Step 2) Calculate'!E2611<>\"\",'Step 2) Calculate'!G2611,\"\")","v":""},{"$f":"IF(L2607<>\"\",'Step 2) Calculate'!F2611,\"\")","v":""},{"$f":"IF(L2607<>\"\",'Step 2) Calculate'!H2611,\"\")","v":""},{"$f":"IF(L2607<>\"\",'Step 2) Calculate'!C2611,\"\")","v":""}]
[null,null,null,null,null,null,null,null,null,null,{"$f":"IF(L2608<>\"\",'Step 2) Calculate'!B2612,\"Zzzzz - delete row\")","v":"Zzzzz - delete row"},{"$f":"IF('Step 2) Calculate'!E2612<>\"\",'Step 2) Calculate'!G2612,\"\")","v":""},{"$f":"IF(L2608<>\"\",'Step 2) Calculate'!F2612,\"\")","v":""},{"$f":"IF(L2608<>\"\",'Step 2) Calculate'!H2612,\"\")","v":""},{"$f":"IF(L2608<>\"\",'Step 2) Calculate'!C2612,\"\")","v":""}]
[null,null,null,null,null,null,null,null,null,null,{"$f":"IF(L2609<>\"\",'Step 2) Calculate'!B2613,\"Zzzzz - delete row\")","v":"Zzzzz - delete row"},{"$f":"IF('Step 2) Calculate'!E2613<>\"\",'Step 2) Calculate'!G2613,\"\")","v":""},{"$f":"IF(L2609<>\"\",'Step 2) Calculate'!F2613,\"\")","v":""},{"$f":"IF(L2609<>\"\",'Step 2) Calculate'!H2613,\"\")","v":""},{"$f":"IF(L2609<>\"\",'Step 2) Calculate'!C2613,\"\")","v":""}]
[null,null,null,null,null,null,null,null,null,null,{"$f":"IF(L2610<>\"\",'Step 2) Calculate'!B2614,\"Zzzzz - delete row\")","v":"Zzzzz - delete row"},{"$f":"IF('Step 2) Calculate'!E2614<>\"\",'Step 2) Calculate'!G2614,\"\")","v":""},{"$f":"IF(L2610<>\"\",'Step 2) Calculate'!F2614,\"\")","v":""},{"$f":"IF(L2610<>\"\",'Step 2) Calculate'!H2614,\"\")","v":""},{"$f":"IF(L2610<>\"\",'Step 2) Calculate'!C2614,\"\")","v":""}]
[null,null,null,null,null,null,null,null,null,null,{"$f":"IF(L2611<>\"\",'Step 2) Calculate'!B2615,\"Zzzzz - delete row\")","v":"Zzzzz - delete row"},{"$f":"IF('Step 2) Calculate'!E2615<>\"\",'Step 2) Calculate'!G2615,\"\")","v":""},{"$f":"IF(L2611<>\"\",'Step 2) Calculate'!F2615,\"\")","v":""},{"$f":"IF(L2611<>\"\",'Step 2) Calculate'!H2615,\"\")","v":""},{"$f":"IF(L2611<>\"\",'Step 2) Calculate'!C2615,\"\")","v":""}]
[null,null,null,null,null,null,null,null,null,null,{"$f":"IF(L2612<>\"\",'Step 2) Calculate'!B2616,\"Zzzzz - delete row\")","v":"Zzzzz - delete row"},{"$f":"IF('Step 2) Calculate'!E2616<>\"\",'Step 2) Calculate'!G2616,\"\")","v":""},{"$f":"IF(L2612<>\"\",'Step 2) Calculate'!F2616,\"\")","v":""},{"$f":"IF(L2612<>\"\",'Step 2) Calculate'!H2616,\"\")","v":""},{"$f":"IF(L2612<>\"\",'Step 2) Calculate'!C2616,\"\")","v":""}]
[null,null,null,null,null,null,null,null,null,null,{"$f":"IF(L2613<>\"\",'Step 2) Calculate'!B2617,\"Zzzzz - delete row\")","v":"Zzzzz - delete row"},{"$f":"IF('Step 2) Calculate'!E2617<>\"\",'Step 2) Calculate'!G2617,\"\")","v":""},{"$f":"IF(L2613<>\"\",'Step 2) Calculate'!F2617,\"\")","v":""},{"$f":"IF(L2613<>\"\",'Step 2) Calculate'!H2617,\"\")","v":""},{"$f":"IF(L2613<>\"\",'Step 2) Calculate'!C2617,\"\")","v":""}]
[null,null,null,null,null,null,null,null,null,null,{"$f":"IF(L2614<>\"\",'Step 2) Calculate'!B2618,\"Zzzzz - delete row\")","v":"Zzzzz - delete row"},{"$f":"IF('Step 2) Calculate'!E2618<>\"\",'Step 2) Calculate'!G2618,\"\")","v":""},{"$f":"IF(L2614<>\"\",'Step 2) Calculate'!F2618,\"\")","v":""},{"$f":"IF(L2614<>\"\",'Step 2) Calculate'!H2618,\"\")","v":""},{"$f":"IF(L2614<>\"\",'Step 2) Calculate'!C2618,\"\")","v":""}]
[null,null,null,null,null,null,null,null,null,null,{"$f":"IF(L2615<>\"\",'Step 2) Calculate'!B2619,\"Zzzzz - delete row\")","v":"Zzzzz - delete row"},{"$f":"IF('Step 2) Calculate'!E2619<>\"\",'Step 2) Calculate'!G2619,\"\")","v":""},{"$f":"IF(L2615<>\"\",'Step 2) Calculate'!F2619,\"\")","v":""},{"$f":"IF(L2615<>\"\",'Step 2) Calculate'!H2619,\"\")","v":""},{"$f":"IF(L2615<>\"\",'Step 2) Calculate'!C2619,\"\")","v":""}]
[null,null,null,null,null,null,null,null,null,null,{"$f":"IF(L2616<>\"\",'Step 2) Calculate'!B2620,\"Zzzzz - delete row\")","v":"Zzzzz - delete row"},{"$f":"IF('Step 2) Calculate'!E2620<>\"\",'Step 2) Calculate'!G2620,\"\")","v":""},{"$f":"IF(L2616<>\"\",'Step 2) Calculate'!F2620,\"\")","v":""},{"$f":"IF(L2616<>\"\",'Step 2) Calculate'!H2620,\"\")","v":""},{"$f":"IF(L2616<>\"\",'Step 2) Calculate'!C2620,\"\")","v":""}]
[null,null,null,null,null,null,null,null,null,null,{"$f":"IF(L2617<>\"\",'Step 2) Calculate'!B2621,\"Zzzzz - delete row\")","v":"Zzzzz - delete row"},{"$f":"IF('Step 2) Calculate'!E2621<>\"\",'Step 2) Calculate'!G2621,\"\")","v":""},{"$f":"IF(L2617<>\"\",'Step 2) Calculate'!F2621,\"\")","v":""},{"$f":"IF(L2617<>\"\",'Step 2) Calculate'!H2621,\"\")","v":""},{"$f":"IF(L2617<>\"\",'Step 2) Calculate'!C2621,\"\")","v":""}]
[null,null,null,null,null,null,null,null,null,null,{"$f":"IF(L2618<>\"\",'Step 2) Calculate'!B2622,\"Zzzzz - delete row\")","v":"Zzzzz - delete row"},{"$f":"IF('Step 2) Calculate'!E2622<>\"\",'Step 2) Calculate'!G2622,\"\")","v":""},{"$f":"IF(L2618<>\"\",'Step 2) Calculate'!F2622,\"\")","v":""},{"$f":"IF(L2618<>\"\",'Step 2) Calculate'!H2622,\"\")","v":""},{"$f":"IF(L2618<>\"\",'Step 2) Calculate'!C2622,\"\")","v":""}]
[null,null,null,null,null,null,null,null,null,null,{"$f":"IF(L2619<>\"\",'Step 2) Calculate'!B2623,\"Zzzzz - delete row\")","v":"Zzzzz - delete row"},{"$f":"IF('Step 2) Calculate'!E2623<>\"\",'Step 2) Calculate'!G2623,\"\")","v":""},{"$f":"IF(L2619<>\"\",'Step 2) Calculate'!F2623,\"\")","v":""},{"$f":"IF(L2619<>\"\",'Step 2) Calculate'!H2623,\"\")","v":""},{"$f":"IF(L2619<>\"\",'Step 2) Calculate'!C2623,\"\")","v":""}]
[null,null,null,null,null,null,null,null,null,null,{"$f":"IF(L2620<>\"\",'Step 2) Calculate'!B2624,\"Zzzzz - delete row\")","v":"Zzzzz - delete row"},{"$f":"IF('Step 2) Calculate'!E2624<>\"\",'Step 2) Calculate'!G2624,\"\")","v":""},{"$f":"IF(L2620<>\"\",'Step 2) Calculate'!F2624,\"\")","v":""},{"$f":"IF(L2620<>\"\",'Step 2) Calculate'!H2624,\"\")","v":""},{"$f":"IF(L2620<>\"\",'Step 2) Calculate'!C2624,\"\")","v":""}]
[null,null,null,null,null,null,null,null,null,null,{"$f":"IF(L2621<>\"\",'Step 2) Calculate'!B2625,\"Zzzzz - delete row\")","v":"Zzzzz - delete row"},{"$f":"IF('Step 2) Calculate'!E2625<>\"\",'Step 2) Calculate'!G2625,\"\")","v":""},{"$f":"IF(L2621<>\"\",'Step 2) Calculate'!F2625,\"\")","v":""},{"$f":"IF(L2621<>\"\",'Step 2) Calculate'!H2625,\"\")","v":""},{"$f":"IF(L2621<>\"\",'Step 2) Calculate'!C2625,\"\")","v":""}]
[null,null,null,null,null,null,null,null,null,null,{"$f":"IF(L2622<>\"\",'Step 2) Calculate'!B2626,\"Zzzzz - delete row\")","v":"Zzzzz - delete row"},{"$f":"IF('Step 2) Calculate'!E2626<>\"\",'Step 2) Calculate'!G2626,\"\")","v":""},{"$f":"IF(L2622<>\"\",'Step 2) Calculate'!F2626,\"\")","v":""},{"$f":"IF(L2622<>\"\",'Step 2) Calculate'!H2626,\"\")","v":""},{"$f":"IF(L2622<>\"\",'Step 2) Calculate'!C2626,\"\")","v":""}]
[null,null,null,null,null,null,null,null,null,null,{"$f":"IF(L2623<>\"\",'Step 2) Calculate'!B2627,\"Zzzzz - delete row\")","v":"Zzzzz - delete row"},{"$f":"IF('Step 2) Calculate'!E2627<>\"\",'Step 2) Calculate'!G2627,\"\")","v":""},{"$f":"IF(L2623<>\"\",'Step 2) Calculate'!F2627,\"\")","v":""},{"$f":"IF(L2623<>\"\",'Step 2) Calculate'!H2627,\"\")","v":""},{"$f":"IF(L2623<>\"\",'Step 2) Calculate'!C2627,\"\")","v":""}]
[null,null,null,null,null,null,null,null,null,null,{"$f":"IF(L2624<>\"\",'Step 2) Calculate'!B2628,\"Zzzzz - delete row\")","v":"Zzzzz - delete row"},{"$f":"IF('Step 2) Calculate'!E2628<>\"\",'Step 2) Calculate'!G2628,\"\")","v":""},{"$f":"IF(L2624<>\"\",'Step 2) Calculate'!F2628,\"\")","v":""},{"$f":"IF(L2624<>\"\",'Step 2) Calculate'!H2628,\"\")","v":""},{"$f":"IF(L2624<>\"\",'Step 2) Calculate'!C2628,\"\")","v":""}]
[null,null,null,null,null,null,null,null,null,null,{"$f":"IF(L2625<>\"\",'Step 2) Calculate'!B2629,\"Zzzzz - delete row\")","v":"Zzzzz - delete row"},{"$f":"IF('Step 2) Calculate'!E2629<>\"\",'Step 2) Calculate'!G2629,\"\")","v":""},{"$f":"IF(L2625<>\"\",'Step 2) Calculate'!F2629,\"\")","v":""},{"$f":"IF(L2625<>\"\",'Step 2) Calculate'!H2629,\"\")","v":""},{"$f":"IF(L2625<>\"\",'Step 2) Calculate'!C2629,\"\")","v":""}]
[null,null,null,null,null,null,null,null,null,null,{"$f":"IF(L2626<>\"\",'Step 2) Calculate'!B2630,\"Zzzzz - delete row\")","v":"Zzzzz - delete row"},{"$f":"IF('Step 2) Calculate'!E2630<>\"\",'Step 2) Calculate'!G2630,\"\")","v":""},{"$f":"IF(L2626<>\"\",'Step 2) Calculate'!F2630,\"\")","v":""},{"$f":"IF(L2626<>\"\",'Step 2) Calculate'!H2630,\"\")","v":""},{"$f":"IF(L2626<>\"\",'Step 2) Calculate'!C2630,\"\")","v":""}]
[null,null,null,null,null,null,null,null,null,null,{"$f":"IF(L2627<>\"\",'Step 2) Calculate'!B2631,\"Zzzzz - delete row\")","v":"Zzzzz - delete row"},{"$f":"IF('Step 2) Calculate'!E2631<>\"\",'Step 2) Calculate'!G2631,\"\")","v":""},{"$f":"IF(L2627<>\"\",'Step 2) Calculate'!F2631,\"\")","v":""},{"$f":"IF(L2627<>\"\",'Step 2) Calculate'!H2631,\"\")","v":""},{"$f":"IF(L2627<>\"\",'Step 2) Calculate'!C2631,\"\")","v":""}]
[null,null,null,null,null,null,null,null,null,null,{"$f":"IF(L2628<>\"\",'Step 2) Calculate'!B2632,\"Zzzzz - delete row\")","v":"Zzzzz - delete row"},{"$f":"IF('Step 2) Calculate'!E2632<>\"\",'Step 2) Calculate'!G2632,\"\")","v":""},{"$f":"IF(L2628<>\"\",'Step 2) Calculate'!F2632,\"\")","v":""},{"$f":"IF(L2628<>\"\",'Step 2) Calculate'!H2632,\"\")","v":""},{"$f":"IF(L2628<>\"\",'Step 2) Calculate'!C2632,\"\")","v":""}]
[null,null,null,null,null,null,null,null,null,null,{"$f":"IF(L2629<>\"\",'Step 2) Calculate'!B2633,\"Zzzzz - delete row\")","v":"Zzzzz - delete row"},{"$f":"IF('Step 2) Calculate'!E2633<>\"\",'Step 2) Calculate'!G2633,\"\")","v":""},{"$f":"IF(L2629<>\"\",'Step 2) Calculate'!F2633,\"\")","v":""},{"$f":"IF(L2629<>\"\",'Step 2) Calculate'!H2633,\"\")","v":""},{"$f":"IF(L2629<>\"\",'Step 2) Calculate'!C2633,\"\")","v":""}]
[null,null,null,null,null,null,null,null,null,null,{"$f":"IF(L2630<>\"\",'Step 2) Calculate'!B2634,\"Zzzzz - delete row\")","v":"Zzzzz - delete row"},{"$f":"IF('Step 2) Calculate'!E2634<>\"\",'Step 2) Calculate'!G2634,\"\")","v":""},{"$f":"IF(L2630<>\"\",'Step 2) Calculate'!F2634,\"\")","v":""},{"$f":"IF(L2630<>\"\",'Step 2) Calculate'!H2634,\"\")","v":""},{"$f":"IF(L2630<>\"\",'Step 2) Calculate'!C2634,\"\")","v":""}]
[null,null,null,null,null,null,null,null,null,null,{"$f":"IF(L2631<>\"\",'Step 2) Calculate'!B2635,\"Zzzzz - delete row\")","v":"Zzzzz - delete row"},{"$f":"IF('Step 2) Calculate'!E2635<>\"\",'Step 2) Calculate'!G2635,\"\")","v":""},{"$f":"IF(L2631<>\"\",'Step 2) Calculate'!F2635,\"\")","v":""},{"$f":"IF(L2631<>\"\",'Step 2) Calculate'!H2635,\"\")","v":""},{"$f":"IF(L2631<>\"\",'Step 2) Calculate'!C2635,\"\")","v":""}]
[null,null,null,null,null,null,null,null,null,null,{"$f":"IF(L2632<>\"\",'Step 2) Calculate'!B2636,\"Zzzzz - delete row\")","v":"Zzzzz - delete row"},{"$f":"IF('Step 2) Calculate'!E2636<>\"\",'Step 2) Calculate'!G2636,\"\")","v":""},{"$f":"IF(L2632<>\"\",'Step 2) Calculate'!F2636,\"\")","v":""},{"$f":"IF(L2632<>\"\",'Step 2) Calculate'!H2636,\"\")","v":""},{"$f":"IF(L2632<>\"\",'Step 2) Calculate'!C2636,\"\")","v":""}]
[null,null,null,null,null,null,null,null,null,null,{"$f":"IF(L2633<>\"\",'Step 2) Calculate'!B2637,\"Zzzzz - delete row\")","v":"Zzzzz - delete row"},{"$f":"IF('Step 2) Calculate'!E2637<>\"\",'Step 2) Calculate'!G2637,\"\")","v":""},{"$f":"IF(L2633<>\"\",'Step 2) Calculate'!F2637,\"\")","v":""},{"$f":"IF(L2633<>\"\",'Step 2) Calculate'!H2637,\"\")","v":""},{"$f":"IF(L2633<>\"\",'Step 2) Calculate'!C2637,\"\")","v":""}]
[null,null,null,null,null,null,null,null,null,null,{"$f":"IF(L2634<>\"\",'Step 2) Calculate'!B2638,\"Zzzzz - delete row\")","v":"Zzzzz - delete row"},{"$f":"IF('Step 2) Calculate'!E2638<>\"\",'Step 2) Calculate'!G2638,\"\")","v":""},{"$f":"IF(L2634<>\"\",'Step 2) Calculate'!F2638,\"\")","v":""},{"$f":"IF(L2634<>\"\",'Step 2) Calculate'!H2638,\"\")","v":""},{"$f":"IF(L2634<>\"\",'Step 2) Calculate'!C2638,\"\")","v":""}]
[null,null,null,null,null,null,null,null,null,null,{"$f":"IF(L2635<>\"\",'Step 2) Calculate'!B2639,\"Zzzzz - delete row\")","v":"Zzzzz - delete row"},{"$f":"IF('Step 2) Calculate'!E2639<>\"\",'Step 2) Calculate'!G2639,\"\")","v":""},{"$f":"IF(L2635<>\"\",'Step 2) Calculate'!F2639,\"\")","v":""},{"$f":"IF(L2635<>\"\",'Step 2) Calculate'!H2639,\"\")","v":""},{"$f":"IF(L2635<>\"\",'Step 2) Calculate'!C2639,\"\")","v":""}]
[null,null,null,null,null,null,null,null,null,null,{"$f":"IF(L2636<>\"\",'Step 2) Calculate'!B2640,\"Zzzzz - delete row\")","v":"Zzzzz - delete row"},{"$f":"IF('Step 2) Calculate'!E2640<>\"\",'Step 2) Calculate'!G2640,\"\")","v":""},{"$f":"IF(L2636<>\"\",'Step 2) Calculate'!F2640,\"\")","v":""},{"$f":"IF(L2636<>\"\",'Step 2) Calculate'!H2640,\"\")","v":""},{"$f":"IF(L2636<>\"\",'Step 2) Calculate'!C2640,\"\")","v":""}]
[null,null,null,null,null,null,null,null,null,null,{"$f":"IF(L2637<>\"\",'Step 2) Calculate'!B2641,\"Zzzzz - delete row\")","v":"Zzzzz - delete row"},{"$f":"IF('Step 2) Calculate'!E2641<>\"\",'Step 2) Calculate'!G2641,\"\")","v":""},{"$f":"IF(L2637<>\"\",'Step 2) Calculate'!F2641,\"\")","v":""},{"$f":"IF(L2637<>\"\",'Step 2) Calculate'!H2641,\"\")","v":""},{"$f":"IF(L2637<>\"\",'Step 2) Calculate'!C2641,\"\")","v":""}]
[null,null,null,null,null,null,null,null,null,null,{"$f":"IF(L2638<>\"\",'Step 2) Calculate'!B2642,\"Zzzzz - delete row\")","v":"Zzzzz - delete row"},{"$f":"IF('Step 2) Calculate'!E2642<>\"\",'Step 2) Calculate'!G2642,\"\")","v":""},{"$f":"IF(L2638<>\"\",'Step 2) Calculate'!F2642,\"\")","v":""},{"$f":"IF(L2638<>\"\",'Step 2) Calculate'!H2642,\"\")","v":""},{"$f":"IF(L2638<>\"\",'Step 2) Calculate'!C2642,\"\")","v":""}]
[null,null,null,null,null,null,null,null,null,null,{"$f":"IF(L2639<>\"\",'Step 2) Calculate'!B2643,\"Zzzzz - delete row\")","v":"Zzzzz - delete row"},{"$f":"IF('Step 2) Calculate'!E2643<>\"\",'Step 2) Calculate'!G2643,\"\")","v":""},{"$f":"IF(L2639<>\"\",'Step 2) Calculate'!F2643,\"\")","v":""},{"$f":"IF(L2639<>\"\",'Step 2) Calculate'!H2643,\"\")","v":""},{"$f":"IF(L2639<>\"\",'Step 2) Calculate'!C2643,\"\")","v":""}]
[null,null,null,null,null,null,null,null,null,null,{"$f":"IF(L2640<>\"\",'Step 2) Calculate'!B2644,\"Zzzzz - delete row\")","v":"Zzzzz - delete row"},{"$f":"IF('Step 2) Calculate'!E2644<>\"\",'Step 2) Calculate'!G2644,\"\")","v":""},{"$f":"IF(L2640<>\"\",'Step 2) Calculate'!F2644,\"\")","v":""},{"$f":"IF(L2640<>\"\",'Step 2) Calculate'!H2644,\"\")","v":""},{"$f":"IF(L2640<>\"\",'Step 2) Calculate'!C2644,\"\")","v":""}]
[null,null,null,null,null,null,null,null,null,null,{"$f":"IF(L2641<>\"\",'Step 2) Calculate'!B2645,\"Zzzzz - delete row\")","v":"Zzzzz - delete row"},{"$f":"IF('Step 2) Calculate'!E2645<>\"\",'Step 2) Calculate'!G2645,\"\")","v":""},{"$f":"IF(L2641<>\"\",'Step 2) Calculate'!F2645,\"\")","v":""},{"$f":"IF(L2641<>\"\",'Step 2) Calculate'!H2645,\"\")","v":""},{"$f":"IF(L2641<>\"\",'Step 2) Calculate'!C2645,\"\")","v":""}]
[null,null,null,null,null,null,null,null,null,null,{"$f":"IF(L2642<>\"\",'Step 2) Calculate'!B2646,\"Zzzzz - delete row\")","v":"Zzzzz - delete row"},{"$f":"IF('Step 2) Calculate'!E2646<>\"\",'Step 2) Calculate'!G2646,\"\")","v":""},{"$f":"IF(L2642<>\"\",'Step 2) Calculate'!F2646,\"\")","v":""},{"$f":"IF(L2642<>\"\",'Step 2) Calculate'!H2646,\"\")","v":""},{"$f":"IF(L2642<>\"\",'Step 2) Calculate'!C2646,\"\")","v":""}]
[null,null,null,null,null,null,null,null,null,null,{"$f":"IF(L2643<>\"\",'Step 2) Calculate'!B2647,\"Zzzzz - delete row\")","v":"Zzzzz - delete row"},{"$f":"IF('Step 2) Calculate'!E2647<>\"\",'Step 2) Calculate'!G2647,\"\")","v":""},{"$f":"IF(L2643<>\"\",'Step 2) Calculate'!F2647,\"\")","v":""},{"$f":"IF(L2643<>\"\",'Step 2) Calculate'!H2647,\"\")","v":""},{"$f":"IF(L2643<>\"\",'Step 2) Calculate'!C2647,\"\")","v":""}]
[null,null,null,null,null,null,null,null,null,null,{"$f":"IF(L2644<>\"\",'Step 2) Calculate'!B2648,\"Zzzzz - delete row\")","v":"Zzzzz - delete row"},{"$f":"IF('Step 2) Calculate'!E2648<>\"\",'Step 2) Calculate'!G2648,\"\")","v":""},{"$f":"IF(L2644<>\"\",'Step 2) Calculate'!F2648,\"\")","v":""},{"$f":"IF(L2644<>\"\",'Step 2) Calculate'!H2648,\"\")","v":""},{"$f":"IF(L2644<>\"\",'Step 2) Calculate'!C2648,\"\")","v":""}]
[null,null,null,null,null,null,null,null,null,null,{"$f":"IF(L2645<>\"\",'Step 2) Calculate'!B2649,\"Zzzzz - delete row\")","v":"Zzzzz - delete row"},{"$f":"IF('Step 2) Calculate'!E2649<>\"\",'Step 2) Calculate'!G2649,\"\")","v":""},{"$f":"IF(L2645<>\"\",'Step 2) Calculate'!F2649,\"\")","v":""},{"$f":"IF(L2645<>\"\",'Step 2) Calculate'!H2649,\"\")","v":""},{"$f":"IF(L2645<>\"\",'Step 2) Calculate'!C2649,\"\")","v":""}]
[null,null,null,null,null,null,null,null,null,null,{"$f":"IF(L2646<>\"\",'Step 2) Calculate'!B2650,\"Zzzzz - delete row\")","v":"Zzzzz - delete row"},{"$f":"IF('Step 2) Calculate'!E2650<>\"\",'Step 2) Calculate'!G2650,\"\")","v":""},{"$f":"IF(L2646<>\"\",'Step 2) Calculate'!F2650,\"\")","v":""},{"$f":"IF(L2646<>\"\",'Step 2) Calculate'!H2650,\"\")","v":""},{"$f":"IF(L2646<>\"\",'Step 2) Calculate'!C2650,\"\")","v":""}]
[null,null,null,null,null,null,null,null,null,null,{"$f":"IF(L2647<>\"\",'Step 2) Calculate'!B2651,\"Zzzzz - delete row\")","v":"Zzzzz - delete row"},{"$f":"IF('Step 2) Calculate'!E2651<>\"\",'Step 2) Calculate'!G2651,\"\")","v":""},{"$f":"IF(L2647<>\"\",'Step 2) Calculate'!F2651,\"\")","v":""},{"$f":"IF(L2647<>\"\",'Step 2) Calculate'!H2651,\"\")","v":""},{"$f":"IF(L2647<>\"\",'Step 2) Calculate'!C2651,\"\")","v":""}]
[null,null,null,null,null,null,null,null,null,null,{"$f":"IF(L2648<>\"\",'Step 2) Calculate'!B2652,\"Zzzzz - delete row\")","v":"Zzzzz - delete row"},{"$f":"IF('Step 2) Calculate'!E2652<>\"\",'Step 2) Calculate'!G2652,\"\")","v":""},{"$f":"IF(L2648<>\"\",'Step 2) Calculate'!F2652,\"\")","v":""},{"$f":"IF(L2648<>\"\",'Step 2) Calculate'!H2652,\"\")","v":""},{"$f":"IF(L2648<>\"\",'Step 2) Calculate'!C2652,\"\")","v":""}]
[null,null,null,null,null,null,null,null,null,null,{"$f":"IF(L2649<>\"\",'Step 2) Calculate'!B2653,\"Zzzzz - delete row\")","v":"Zzzzz - delete row"},{"$f":"IF('Step 2) Calculate'!E2653<>\"\",'Step 2) Calculate'!G2653,\"\")","v":""},{"$f":"IF(L2649<>\"\",'Step 2) Calculate'!F2653,\"\")","v":""},{"$f":"IF(L2649<>\"\",'Step 2) Calculate'!H2653,\"\")","v":""},{"$f":"IF(L2649<>\"\",'Step 2) Calculate'!C2653,\"\")","v":""}]
[null,null,null,null,null,null,null,null,null,null,{"$f":"IF(L2650<>\"\",'Step 2) Calculate'!B2654,\"Zzzzz - delete row\")","v":"Zzzzz - delete row"},{"$f":"IF('Step 2) Calculate'!E2654<>\"\",'Step 2) Calculate'!G2654,\"\")","v":""},{"$f":"IF(L2650<>\"\",'Step 2) Calculate'!F2654,\"\")","v":""},{"$f":"IF(L2650<>\"\",'Step 2) Calculate'!H2654,\"\")","v":""},{"$f":"IF(L2650<>\"\",'Step 2) Calculate'!C2654,\"\")","v":""}]
[null,null,null,null,null,null,null,null,null,null,{"$f":"IF(L2651<>\"\",'Step 2) Calculate'!B2655,\"Zzzzz - delete row\")","v":"Zzzzz - delete row"},{"$f":"IF('Step 2) Calculate'!E2655<>\"\",'Step 2) Calculate'!G2655,\"\")","v":""},{"$f":"IF(L2651<>\"\",'Step 2) Calculate'!F2655,\"\")","v":""},{"$f":"IF(L2651<>\"\",'Step 2) Calculate'!H2655,\"\")","v":""},{"$f":"IF(L2651<>\"\",'Step 2) Calculate'!C2655,\"\")","v":""}]
[null,null,null,null,null,null,null,null,null,null,{"$f":"IF(L2652<>\"\",'Step 2) Calculate'!B2656,\"Zzzzz - delete row\")","v":"Zzzzz - delete row"},{"$f":"IF('Step 2) Calculate'!E2656<>\"\",'Step 2) Calculate'!G2656,\"\")","v":""},{"$f":"IF(L2652<>\"\",'Step 2) Calculate'!F2656,\"\")","v":""},{"$f":"IF(L2652<>\"\",'Step 2) Calculate'!H2656,\"\")","v":""},{"$f":"IF(L2652<>\"\",'Step 2) Calculate'!C2656,\"\")","v":""}]
[null,null,null,null,null,null,null,null,null,null,{"$f":"IF(L2653<>\"\",'Step 2) Calculate'!B2657,\"Zzzzz - delete row\")","v":"Zzzzz - delete row"},{"$f":"IF('Step 2) Calculate'!E2657<>\"\",'Step 2) Calculate'!G2657,\"\")","v":""},{"$f":"IF(L2653<>\"\",'Step 2) Calculate'!F2657,\"\")","v":""},{"$f":"IF(L2653<>\"\",'Step 2) Calculate'!H2657,\"\")","v":""},{"$f":"IF(L2653<>\"\",'Step 2) Calculate'!C2657,\"\")","v":""}]
[null,null,null,null,null,null,null,null,null,null,{"$f":"IF(L2654<>\"\",'Step 2) Calculate'!B2658,\"Zzzzz - delete row\")","v":"Zzzzz - delete row"},{"$f":"IF('Step 2) Calculate'!E2658<>\"\",'Step 2) Calculate'!G2658,\"\")","v":""},{"$f":"IF(L2654<>\"\",'Step 2) Calculate'!F2658,\"\")","v":""},{"$f":"IF(L2654<>\"\",'Step 2) Calculate'!H2658,\"\")","v":""},{"$f":"IF(L2654<>\"\",'Step 2) Calculate'!C2658,\"\")","v":""}]
[null,null,null,null,null,null,null,null,null,null,{"$f":"IF(L2655<>\"\",'Step 2) Calculate'!B2659,\"Zzzzz - delete row\")","v":"Zzzzz - delete row"},{"$f":"IF('Step 2) Calculate'!E2659<>\"\",'Step 2) Calculate'!G2659,\"\")","v":""},{"$f":"IF(L2655<>\"\",'Step 2) Calculate'!F2659,\"\")","v":""},{"$f":"IF(L2655<>\"\",'Step 2) Calculate'!H2659,\"\")","v":""},{"$f":"IF(L2655<>\"\",'Step 2) Calculate'!C2659,\"\")","v":""}]
[null,null,null,null,null,null,null,null,null,null,{"$f":"IF(L2656<>\"\",'Step 2) Calculate'!B2660,\"Zzzzz - delete row\")","v":"Zzzzz - delete row"},{"$f":"IF('Step 2) Calculate'!E2660<>\"\",'Step 2) Calculate'!G2660,\"\")","v":""},{"$f":"IF(L2656<>\"\",'Step 2) Calculate'!F2660,\"\")","v":""},{"$f":"IF(L2656<>\"\",'Step 2) Calculate'!H2660,\"\")","v":""},{"$f":"IF(L2656<>\"\",'Step 2) Calculate'!C2660,\"\")","v":""}]
[null,null,null,null,null,null,null,null,null,null,{"$f":"IF(L2657<>\"\",'Step 2) Calculate'!B2661,\"Zzzzz - delete row\")","v":"Zzzzz - delete row"},{"$f":"IF('Step 2) Calculate'!E2661<>\"\",'Step 2) Calculate'!G2661,\"\")","v":""},{"$f":"IF(L2657<>\"\",'Step 2) Calculate'!F2661,\"\")","v":""},{"$f":"IF(L2657<>\"\",'Step 2) Calculate'!H2661,\"\")","v":""},{"$f":"IF(L2657<>\"\",'Step 2) Calculate'!C2661,\"\")","v":""}]
[null,null,null,null,null,null,null,null,null,null,{"$f":"IF(L2658<>\"\",'Step 2) Calculate'!B2662,\"Zzzzz - delete row\")","v":"Zzzzz - delete row"},{"$f":"IF('Step 2) Calculate'!E2662<>\"\",'Step 2) Calculate'!G2662,\"\")","v":""},{"$f":"IF(L2658<>\"\",'Step 2) Calculate'!F2662,\"\")","v":""},{"$f":"IF(L2658<>\"\",'Step 2) Calculate'!H2662,\"\")","v":""},{"$f":"IF(L2658<>\"\",'Step 2) Calculate'!C2662,\"\")","v":""}]
[null,null,null,null,null,null,null,null,null,null,{"$f":"IF(L2659<>\"\",'Step 2) Calculate'!B2663,\"Zzzzz - delete row\")","v":"Zzzzz - delete row"},{"$f":"IF('Step 2) Calculate'!E2663<>\"\",'Step 2) Calculate'!G2663,\"\")","v":""},{"$f":"IF(L2659<>\"\",'Step 2) Calculate'!F2663,\"\")","v":""},{"$f":"IF(L2659<>\"\",'Step 2) Calculate'!H2663,\"\")","v":""},{"$f":"IF(L2659<>\"\",'Step 2) Calculate'!C2663,\"\")","v":""}]
[null,null,null,null,null,null,null,null,null,null,{"$f":"IF(L2660<>\"\",'Step 2) Calculate'!B2664,\"Zzzzz - delete row\")","v":"Zzzzz - delete row"},{"$f":"IF('Step 2) Calculate'!E2664<>\"\",'Step 2) Calculate'!G2664,\"\")","v":""},{"$f":"IF(L2660<>\"\",'Step 2) Calculate'!F2664,\"\")","v":""},{"$f":"IF(L2660<>\"\",'Step 2) Calculate'!H2664,\"\")","v":""},{"$f":"IF(L2660<>\"\",'Step 2) Calculate'!C2664,\"\")","v":""}]
[null,null,null,null,null,null,null,null,null,null,{"$f":"IF(L2661<>\"\",'Step 2) Calculate'!B2665,\"Zzzzz - delete row\")","v":"Zzzzz - delete row"},{"$f":"IF('Step 2) Calculate'!E2665<>\"\",'Step 2) Calculate'!G2665,\"\")","v":""},{"$f":"IF(L2661<>\"\",'Step 2) Calculate'!F2665,\"\")","v":""},{"$f":"IF(L2661<>\"\",'Step 2) Calculate'!H2665,\"\")","v":""},{"$f":"IF(L2661<>\"\",'Step 2) Calculate'!C2665,\"\")","v":""}]
[null,null,null,null,null,null,null,null,null,null,{"$f":"IF(L2662<>\"\",'Step 2) Calculate'!B2666,\"Zzzzz - delete row\")","v":"Zzzzz - delete row"},{"$f":"IF('Step 2) Calculate'!E2666<>\"\",'Step 2) Calculate'!G2666,\"\")","v":""},{"$f":"IF(L2662<>\"\",'Step 2) Calculate'!F2666,\"\")","v":""},{"$f":"IF(L2662<>\"\",'Step 2) Calculate'!H2666,\"\")","v":""},{"$f":"IF(L2662<>\"\",'Step 2) Calculate'!C2666,\"\")","v":""}]
[null,null,null,null,null,null,null,null,null,null,{"$f":"IF(L2663<>\"\",'Step 2) Calculate'!B2667,\"Zzzzz - delete row\")","v":"Zzzzz - delete row"},{"$f":"IF('Step 2) Calculate'!E2667<>\"\",'Step 2) Calculate'!G2667,\"\")","v":""},{"$f":"IF(L2663<>\"\",'Step 2) Calculate'!F2667,\"\")","v":""},{"$f":"IF(L2663<>\"\",'Step 2) Calculate'!H2667,\"\")","v":""},{"$f":"IF(L2663<>\"\",'Step 2) Calculate'!C2667,\"\")","v":""}]
[null,null,null,null,null,null,null,null,null,null,{"$f":"IF(L2664<>\"\",'Step 2) Calculate'!B2668,\"Zzzzz - delete row\")","v":"Zzzzz - delete row"},{"$f":"IF('Step 2) Calculate'!E2668<>\"\",'Step 2) Calculate'!G2668,\"\")","v":""},{"$f":"IF(L2664<>\"\",'Step 2) Calculate'!F2668,\"\")","v":""},{"$f":"IF(L2664<>\"\",'Step 2) Calculate'!H2668,\"\")","v":""},{"$f":"IF(L2664<>\"\",'Step 2) Calculate'!C2668,\"\")","v":""}]
[null,null,null,null,null,null,null,null,null,null,{"$f":"IF(L2665<>\"\",'Step 2) Calculate'!B2669,\"Zzzzz - delete row\")","v":"Zzzzz - delete row"},{"$f":"IF('Step 2) Calculate'!E2669<>\"\",'Step 2) Calculate'!G2669,\"\")","v":""},{"$f":"IF(L2665<>\"\",'Step 2) Calculate'!F2669,\"\")","v":""},{"$f":"IF(L2665<>\"\",'Step 2) Calculate'!H2669,\"\")","v":""},{"$f":"IF(L2665<>\"\",'Step 2) Calculate'!C2669,\"\")","v":""}]
[null,null,null,null,null,null,null,null,null,null,{"$f":"IF(L2666<>\"\",'Step 2) Calculate'!B2670,\"Zzzzz - delete row\")","v":"Zzzzz - delete row"},{"$f":"IF('Step 2) Calculate'!E2670<>\"\",'Step 2) Calculate'!G2670,\"\")","v":""},{"$f":"IF(L2666<>\"\",'Step 2) Calculate'!F2670,\"\")","v":""},{"$f":"IF(L2666<>\"\",'Step 2) Calculate'!H2670,\"\")","v":""},{"$f":"IF(L2666<>\"\",'Step 2) Calculate'!C2670,\"\")","v":""}]
[null,null,null,null,null,null,null,null,null,null,{"$f":"IF(L2667<>\"\",'Step 2) Calculate'!B2671,\"Zzzzz - delete row\")","v":"Zzzzz - delete row"},{"$f":"IF('Step 2) Calculate'!E2671<>\"\",'Step 2) Calculate'!G2671,\"\")","v":""},{"$f":"IF(L2667<>\"\",'Step 2) Calculate'!F2671,\"\")","v":""},{"$f":"IF(L2667<>\"\",'Step 2) Calculate'!H2671,\"\")","v":""},{"$f":"IF(L2667<>\"\",'Step 2) Calculate'!C2671,\"\")","v":""}]
[null,null,null,null,null,null,null,null,null,null,{"$f":"IF(L2668<>\"\",'Step 2) Calculate'!B2672,\"Zzzzz - delete row\")","v":"Zzzzz - delete row"},{"$f":"IF('Step 2) Calculate'!E2672<>\"\",'Step 2) Calculate'!G2672,\"\")","v":""},{"$f":"IF(L2668<>\"\",'Step 2) Calculate'!F2672,\"\")","v":""},{"$f":"IF(L2668<>\"\",'Step 2) Calculate'!H2672,\"\")","v":""},{"$f":"IF(L2668<>\"\",'Step 2) Calculate'!C2672,\"\")","v":""}]
[null,null,null,null,null,null,null,null,null,null,{"$f":"IF(L2669<>\"\",'Step 2) Calculate'!B2673,\"Zzzzz - delete row\")","v":"Zzzzz - delete row"},{"$f":"IF('Step 2) Calculate'!E2673<>\"\",'Step 2) Calculate'!G2673,\"\")","v":""},{"$f":"IF(L2669<>\"\",'Step 2) Calculate'!F2673,\"\")","v":""},{"$f":"IF(L2669<>\"\",'Step 2) Calculate'!H2673,\"\")","v":""},{"$f":"IF(L2669<>\"\",'Step 2) Calculate'!C2673,\"\")","v":""}]
[null,null,null,null,null,null,null,null,null,null,{"$f":"IF(L2670<>\"\",'Step 2) Calculate'!B2674,\"Zzzzz - delete row\")","v":"Zzzzz - delete row"},{"$f":"IF('Step 2) Calculate'!E2674<>\"\",'Step 2) Calculate'!G2674,\"\")","v":""},{"$f":"IF(L2670<>\"\",'Step 2) Calculate'!F2674,\"\")","v":""},{"$f":"IF(L2670<>\"\",'Step 2) Calculate'!H2674,\"\")","v":""},{"$f":"IF(L2670<>\"\",'Step 2) Calculate'!C2674,\"\")","v":""}]
[null,null,null,null,null,null,null,null,null,null,{"$f":"IF(L2671<>\"\",'Step 2) Calculate'!B2675,\"Zzzzz - delete row\")","v":"Zzzzz - delete row"},{"$f":"IF('Step 2) Calculate'!E2675<>\"\",'Step 2) Calculate'!G2675,\"\")","v":""},{"$f":"IF(L2671<>\"\",'Step 2) Calculate'!F2675,\"\")","v":""},{"$f":"IF(L2671<>\"\",'Step 2) Calculate'!H2675,\"\")","v":""},{"$f":"IF(L2671<>\"\",'Step 2) Calculate'!C2675,\"\")","v":""}]
[null,null,null,null,null,null,null,null,null,null,{"$f":"IF(L2672<>\"\",'Step 2) Calculate'!B2676,\"Zzzzz - delete row\")","v":"Zzzzz - delete row"},{"$f":"IF('Step 2) Calculate'!E2676<>\"\",'Step 2) Calculate'!G2676,\"\")","v":""},{"$f":"IF(L2672<>\"\",'Step 2) Calculate'!F2676,\"\")","v":""},{"$f":"IF(L2672<>\"\",'Step 2) Calculate'!H2676,\"\")","v":""},{"$f":"IF(L2672<>\"\",'Step 2) Calculate'!C2676,\"\")","v":""}]
[null,null,null,null,null,null,null,null,null,null,{"$f":"IF(L2673<>\"\",'Step 2) Calculate'!B2677,\"Zzzzz - delete row\")","v":"Zzzzz - delete row"},{"$f":"IF('Step 2) Calculate'!E2677<>\"\",'Step 2) Calculate'!G2677,\"\")","v":""},{"$f":"IF(L2673<>\"\",'Step 2) Calculate'!F2677,\"\")","v":""},{"$f":"IF(L2673<>\"\",'Step 2) Calculate'!H2677,\"\")","v":""},{"$f":"IF(L2673<>\"\",'Step 2) Calculate'!C2677,\"\")","v":""}]
[null,null,null,null,null,null,null,null,null,null,{"$f":"IF(L2674<>\"\",'Step 2) Calculate'!B2678,\"Zzzzz - delete row\")","v":"Zzzzz - delete row"},{"$f":"IF('Step 2) Calculate'!E2678<>\"\",'Step 2) Calculate'!G2678,\"\")","v":""},{"$f":"IF(L2674<>\"\",'Step 2) Calculate'!F2678,\"\")","v":""},{"$f":"IF(L2674<>\"\",'Step 2) Calculate'!H2678,\"\")","v":""},{"$f":"IF(L2674<>\"\",'Step 2) Calculate'!C2678,\"\")","v":""}]
[null,null,null,null,null,null,null,null,null,null,{"$f":"IF(L2675<>\"\",'Step 2) Calculate'!B2679,\"Zzzzz - delete row\")","v":"Zzzzz - delete row"},{"$f":"IF('Step 2) Calculate'!E2679<>\"\",'Step 2) Calculate'!G2679,\"\")","v":""},{"$f":"IF(L2675<>\"\",'Step 2) Calculate'!F2679,\"\")","v":""},{"$f":"IF(L2675<>\"\",'Step 2) Calculate'!H2679,\"\")","v":""},{"$f":"IF(L2675<>\"\",'Step 2) Calculate'!C2679,\"\")","v":""}]
[null,null,null,null,null,null,null,null,null,null,{"$f":"IF(L2676<>\"\",'Step 2) Calculate'!B2680,\"Zzzzz - delete row\")","v":"Zzzzz - delete row"},{"$f":"IF('Step 2) Calculate'!E2680<>\"\",'Step 2) Calculate'!G2680,\"\")","v":""},{"$f":"IF(L2676<>\"\",'Step 2) Calculate'!F2680,\"\")","v":""},{"$f":"IF(L2676<>\"\",'Step 2) Calculate'!H2680,\"\")","v":""},{"$f":"IF(L2676<>\"\",'Step 2) Calculate'!C2680,\"\")","v":""}]
[null,null,null,null,null,null,null,null,null,null,{"$f":"IF(L2677<>\"\",'Step 2) Calculate'!B2681,\"Zzzzz - delete row\")","v":"Zzzzz - delete row"},{"$f":"IF('Step 2) Calculate'!E2681<>\"\",'Step 2) Calculate'!G2681,\"\")","v":""},{"$f":"IF(L2677<>\"\",'Step 2) Calculate'!F2681,\"\")","v":""},{"$f":"IF(L2677<>\"\",'Step 2) Calculate'!H2681,\"\")","v":""},{"$f":"IF(L2677<>\"\",'Step 2) Calculate'!C2681,\"\")","v":""}]
[null,null,null,null,null,null,null,null,null,null,{"$f":"IF(L2678<>\"\",'Step 2) Calculate'!B2682,\"Zzzzz - delete row\")","v":"Zzzzz - delete row"},{"$f":"IF('Step 2) Calculate'!E2682<>\"\",'Step 2) Calculate'!G2682,\"\")","v":""},{"$f":"IF(L2678<>\"\",'Step 2) Calculate'!F2682,\"\")","v":""},{"$f":"IF(L2678<>\"\",'Step 2) Calculate'!H2682,\"\")","v":""},{"$f":"IF(L2678<>\"\",'Step 2) Calculate'!C2682,\"\")","v":""}]
[null,null,null,null,null,null,null,null,null,null,{"$f":"IF(L2679<>\"\",'Step 2) Calculate'!B2683,\"Zzzzz - delete row\")","v":"Zzzzz - delete row"},{"$f":"IF('Step 2) Calculate'!E2683<>\"\",'Step 2) Calculate'!G2683,\"\")","v":""},{"$f":"IF(L2679<>\"\",'Step 2) Calculate'!F2683,\"\")","v":""},{"$f":"IF(L2679<>\"\",'Step 2) Calculate'!H2683,\"\")","v":""},{"$f":"IF(L2679<>\"\",'Step 2) Calculate'!C2683,\"\")","v":""}]
[null,null,null,null,null,null,null,null,null,null,{"$f":"IF(L2680<>\"\",'Step 2) Calculate'!B2684,\"Zzzzz - delete row\")","v":"Zzzzz - delete row"},{"$f":"IF('Step 2) Calculate'!E2684<>\"\",'Step 2) Calculate'!G2684,\"\")","v":""},{"$f":"IF(L2680<>\"\",'Step 2) Calculate'!F2684,\"\")","v":""},{"$f":"IF(L2680<>\"\",'Step 2) Calculate'!H2684,\"\")","v":""},{"$f":"IF(L2680<>\"\",'Step 2) Calculate'!C2684,\"\")","v":""}]
[null,null,null,null,null,null,null,null,null,null,{"$f":"IF(L2681<>\"\",'Step 2) Calculate'!B2685,\"Zzzzz - delete row\")","v":"Zzzzz - delete row"},{"$f":"IF('Step 2) Calculate'!E2685<>\"\",'Step 2) Calculate'!G2685,\"\")","v":""},{"$f":"IF(L2681<>\"\",'Step 2) Calculate'!F2685,\"\")","v":""},{"$f":"IF(L2681<>\"\",'Step 2) Calculate'!H2685,\"\")","v":""},{"$f":"IF(L2681<>\"\",'Step 2) Calculate'!C2685,\"\")","v":""}]
[null,null,null,null,null,null,null,null,null,null,{"$f":"IF(L2682<>\"\",'Step 2) Calculate'!B2686,\"Zzzzz - delete row\")","v":"Zzzzz - delete row"},{"$f":"IF('Step 2) Calculate'!E2686<>\"\",'Step 2) Calculate'!G2686,\"\")","v":""},{"$f":"IF(L2682<>\"\",'Step 2) Calculate'!F2686,\"\")","v":""},{"$f":"IF(L2682<>\"\",'Step 2) Calculate'!H2686,\"\")","v":""},{"$f":"IF(L2682<>\"\",'Step 2) Calculate'!C2686,\"\")","v":""}]
[null,null,null,null,null,null,null,null,null,null,{"$f":"IF(L2683<>\"\",'Step 2) Calculate'!B2687,\"Zzzzz - delete row\")","v":"Zzzzz - delete row"},{"$f":"IF('Step 2) Calculate'!E2687<>\"\",'Step 2) Calculate'!G2687,\"\")","v":""},{"$f":"IF(L2683<>\"\",'Step 2) Calculate'!F2687,\"\")","v":""},{"$f":"IF(L2683<>\"\",'Step 2) Calculate'!H2687,\"\")","v":""},{"$f":"IF(L2683<>\"\",'Step 2) Calculate'!C2687,\"\")","v":""}]
[null,null,null,null,null,null,null,null,null,null,{"$f":"IF(L2684<>\"\",'Step 2) Calculate'!B2688,\"Zzzzz - delete row\")","v":"Zzzzz - delete row"},{"$f":"IF('Step 2) Calculate'!E2688<>\"\",'Step 2) Calculate'!G2688,\"\")","v":""},{"$f":"IF(L2684<>\"\",'Step 2) Calculate'!F2688,\"\")","v":""},{"$f":"IF(L2684<>\"\",'Step 2) Calculate'!H2688,\"\")","v":""},{"$f":"IF(L2684<>\"\",'Step 2) Calculate'!C2688,\"\")","v":""}]
[null,null,null,null,null,null,null,null,null,null,{"$f":"IF(L2685<>\"\",'Step 2) Calculate'!B2689,\"Zzzzz - delete row\")","v":"Zzzzz - delete row"},{"$f":"IF('Step 2) Calculate'!E2689<>\"\",'Step 2) Calculate'!G2689,\"\")","v":""},{"$f":"IF(L2685<>\"\",'Step 2) Calculate'!F2689,\"\")","v":""},{"$f":"IF(L2685<>\"\",'Step 2) Calculate'!H2689,\"\")","v":""},{"$f":"IF(L2685<>\"\",'Step 2) Calculate'!C2689,\"\")","v":""}]
[null,null,null,null,null,null,null,null,null,null,{"$f":"IF(L2686<>\"\",'Step 2) Calculate'!B2690,\"Zzzzz - delete row\")","v":"Zzzzz - delete row"},{"$f":"IF('Step 2) Calculate'!E2690<>\"\",'Step 2) Calculate'!G2690,\"\")","v":""},{"$f":"IF(L2686<>\"\",'Step 2) Calculate'!F2690,\"\")","v":""},{"$f":"IF(L2686<>\"\",'Step 2) Calculate'!H2690,\"\")","v":""},{"$f":"IF(L2686<>\"\",'Step 2) Calculate'!C2690,\"\")","v":""}]
[null,null,null,null,null,null,null,null,null,null,{"$f":"IF(L2687<>\"\",'Step 2) Calculate'!B2691,\"Zzzzz - delete row\")","v":"Zzzzz - delete row"},{"$f":"IF('Step 2) Calculate'!E2691<>\"\",'Step 2) Calculate'!G2691,\"\")","v":""},{"$f":"IF(L2687<>\"\",'Step 2) Calculate'!F2691,\"\")","v":""},{"$f":"IF(L2687<>\"\",'Step 2) Calculate'!H2691,\"\")","v":""},{"$f":"IF(L2687<>\"\",'Step 2) Calculate'!C2691,\"\")","v":""}]
[null,null,null,null,null,null,null,null,null,null,{"$f":"IF(L2688<>\"\",'Step 2) Calculate'!B2692,\"Zzzzz - delete row\")","v":"Zzzzz - delete row"},{"$f":"IF('Step 2) Calculate'!E2692<>\"\",'Step 2) Calculate'!G2692,\"\")","v":""},{"$f":"IF(L2688<>\"\",'Step 2) Calculate'!F2692,\"\")","v":""},{"$f":"IF(L2688<>\"\",'Step 2) Calculate'!H2692,\"\")","v":""},{"$f":"IF(L2688<>\"\",'Step 2) Calculate'!C2692,\"\")","v":""}]
[null,null,null,null,null,null,null,null,null,null,{"$f":"IF(L2689<>\"\",'Step 2) Calculate'!B2693,\"Zzzzz - delete row\")","v":"Zzzzz - delete row"},{"$f":"IF('Step 2) Calculate'!E2693<>\"\",'Step 2) Calculate'!G2693,\"\")","v":""},{"$f":"IF(L2689<>\"\",'Step 2) Calculate'!F2693,\"\")","v":""},{"$f":"IF(L2689<>\"\",'Step 2) Calculate'!H2693,\"\")","v":""},{"$f":"IF(L2689<>\"\",'Step 2) Calculate'!C2693,\"\")","v":""}]
[null,null,null,null,null,null,null,null,null,null,{"$f":"IF(L2690<>\"\",'Step 2) Calculate'!B2694,\"Zzzzz - delete row\")","v":"Zzzzz - delete row"},{"$f":"IF('Step 2) Calculate'!E2694<>\"\",'Step 2) Calculate'!G2694,\"\")","v":""},{"$f":"IF(L2690<>\"\",'Step 2) Calculate'!F2694,\"\")","v":""},{"$f":"IF(L2690<>\"\",'Step 2) Calculate'!H2694,\"\")","v":""},{"$f":"IF(L2690<>\"\",'Step 2) Calculate'!C2694,\"\")","v":""}]
[null,null,null,null,null,null,null,null,null,null,{"$f":"IF(L2691<>\"\",'Step 2) Calculate'!B2695,\"Zzzzz - delete row\")","v":"Zzzzz - delete row"},{"$f":"IF('Step 2) Calculate'!E2695<>\"\",'Step 2) Calculate'!G2695,\"\")","v":""},{"$f":"IF(L2691<>\"\",'Step 2) Calculate'!F2695,\"\")","v":""},{"$f":"IF(L2691<>\"\",'Step 2) Calculate'!H2695,\"\")","v":""},{"$f":"IF(L2691<>\"\",'Step 2) Calculate'!C2695,\"\")","v":""}]
[null,null,null,null,null,null,null,null,null,null,{"$f":"IF(L2692<>\"\",'Step 2) Calculate'!B2696,\"Zzzzz - delete row\")","v":"Zzzzz - delete row"},{"$f":"IF('Step 2) Calculate'!E2696<>\"\",'Step 2) Calculate'!G2696,\"\")","v":""},{"$f":"IF(L2692<>\"\",'Step 2) Calculate'!F2696,\"\")","v":""},{"$f":"IF(L2692<>\"\",'Step 2) Calculate'!H2696,\"\")","v":""},{"$f":"IF(L2692<>\"\",'Step 2) Calculate'!C2696,\"\")","v":""}]
[null,null,null,null,null,null,null,null,null,null,{"$f":"IF(L2693<>\"\",'Step 2) Calculate'!B2697,\"Zzzzz - delete row\")","v":"Zzzzz - delete row"},{"$f":"IF('Step 2) Calculate'!E2697<>\"\",'Step 2) Calculate'!G2697,\"\")","v":""},{"$f":"IF(L2693<>\"\",'Step 2) Calculate'!F2697,\"\")","v":""},{"$f":"IF(L2693<>\"\",'Step 2) Calculate'!H2697,\"\")","v":""},{"$f":"IF(L2693<>\"\",'Step 2) Calculate'!C2697,\"\")","v":""}]
[null,null,null,null,null,null,null,null,null,null,{"$f":"IF(L2694<>\"\",'Step 2) Calculate'!B2698,\"Zzzzz - delete row\")","v":"Zzzzz - delete row"},{"$f":"IF('Step 2) Calculate'!E2698<>\"\",'Step 2) Calculate'!G2698,\"\")","v":""},{"$f":"IF(L2694<>\"\",'Step 2) Calculate'!F2698,\"\")","v":""},{"$f":"IF(L2694<>\"\",'Step 2) Calculate'!H2698,\"\")","v":""},{"$f":"IF(L2694<>\"\",'Step 2) Calculate'!C2698,\"\")","v":""}]
[null,null,null,null,null,null,null,null,null,null,{"$f":"IF(L2695<>\"\",'Step 2) Calculate'!B2699,\"Zzzzz - delete row\")","v":"Zzzzz - delete row"},{"$f":"IF('Step 2) Calculate'!E2699<>\"\",'Step 2) Calculate'!G2699,\"\")","v":""},{"$f":"IF(L2695<>\"\",'Step 2) Calculate'!F2699,\"\")","v":""},{"$f":"IF(L2695<>\"\",'Step 2) Calculate'!H2699,\"\")","v":""},{"$f":"IF(L2695<>\"\",'Step 2) Calculate'!C2699,\"\")","v":""}]
[null,null,null,null,null,null,null,null,null,null,{"$f":"IF(L2696<>\"\",'Step 2) Calculate'!B2700,\"Zzzzz - delete row\")","v":"Zzzzz - delete row"},{"$f":"IF('Step 2) Calculate'!E2700<>\"\",'Step 2) Calculate'!G2700,\"\")","v":""},{"$f":"IF(L2696<>\"\",'Step 2) Calculate'!F2700,\"\")","v":""},{"$f":"IF(L2696<>\"\",'Step 2) Calculate'!H2700,\"\")","v":""},{"$f":"IF(L2696<>\"\",'Step 2) Calculate'!C2700,\"\")","v":""}]
[null,null,null,null,null,null,null,null,null,null,{"$f":"IF(L2697<>\"\",'Step 2) Calculate'!B2701,\"Zzzzz - delete row\")","v":"Zzzzz - delete row"},{"$f":"IF('Step 2) Calculate'!E2701<>\"\",'Step 2) Calculate'!G2701,\"\")","v":""},{"$f":"IF(L2697<>\"\",'Step 2) Calculate'!F2701,\"\")","v":""},{"$f":"IF(L2697<>\"\",'Step 2) Calculate'!H2701,\"\")","v":""},{"$f":"IF(L2697<>\"\",'Step 2) Calculate'!C2701,\"\")","v":""}]
[null,null,null,null,null,null,null,null,null,null,{"$f":"IF(L2698<>\"\",'Step 2) Calculate'!B2702,\"Zzzzz - delete row\")","v":"Zzzzz - delete row"},{"$f":"IF('Step 2) Calculate'!E2702<>\"\",'Step 2) Calculate'!G2702,\"\")","v":""},{"$f":"IF(L2698<>\"\",'Step 2) Calculate'!F2702,\"\")","v":""},{"$f":"IF(L2698<>\"\",'Step 2) Calculate'!H2702,\"\")","v":""},{"$f":"IF(L2698<>\"\",'Step 2) Calculate'!C2702,\"\")","v":""}]
[null,null,null,null,null,null,null,null,null,null,{"$f":"IF(L2699<>\"\",'Step 2) Calculate'!B2703,\"Zzzzz - delete row\")","v":"Zzzzz - delete row"},{"$f":"IF('Step 2) Calculate'!E2703<>\"\",'Step 2) Calculate'!G2703,\"\")","v":""},{"$f":"IF(L2699<>\"\",'Step 2) Calculate'!F2703,\"\")","v":""},{"$f":"IF(L2699<>\"\",'Step 2) Calculate'!H2703,\"\")","v":""},{"$f":"IF(L2699<>\"\",'Step 2) Calculate'!C2703,\"\")","v":""}]
[null,null,null,null,null,null,null,null,null,null,{"$f":"IF(L2700<>\"\",'Step 2) Calculate'!B2704,\"Zzzzz - delete row\")","v":"Zzzzz - delete row"},{"$f":"IF('Step 2) Calculate'!E2704<>\"\",'Step 2) Calculate'!G2704,\"\")","v":""},{"$f":"IF(L2700<>\"\",'Step 2) Calculate'!F2704,\"\")","v":""},{"$f":"IF(L2700<>\"\",'Step 2) Calculate'!H2704,\"\")","v":""},{"$f":"IF(L2700<>\"\",'Step 2) Calculate'!C2704,\"\")","v":""}]
[null,null,null,null,null,null,null,null,null,null,{"$f":"IF(L2701<>\"\",'Step 2) Calculate'!B2705,\"Zzzzz - delete row\")","v":"Zzzzz - delete row"},{"$f":"IF('Step 2) Calculate'!E2705<>\"\",'Step 2) Calculate'!G2705,\"\")","v":""},{"$f":"IF(L2701<>\"\",'Step 2) Calculate'!F2705,\"\")","v":""},{"$f":"IF(L2701<>\"\",'Step 2) Calculate'!H2705,\"\")","v":""},{"$f":"IF(L2701<>\"\",'Step 2) Calculate'!C2705,\"\")","v":""}]
[null,null,null,null,null,null,null,null,null,null,{"$f":"IF(L2702<>\"\",'Step 2) Calculate'!B2706,\"Zzzzz - delete row\")","v":"Zzzzz - delete row"},{"$f":"IF('Step 2) Calculate'!E2706<>\"\",'Step 2) Calculate'!G2706,\"\")","v":""},{"$f":"IF(L2702<>\"\",'Step 2) Calculate'!F2706,\"\")","v":""},{"$f":"IF(L2702<>\"\",'Step 2) Calculate'!H2706,\"\")","v":""},{"$f":"IF(L2702<>\"\",'Step 2) Calculate'!C2706,\"\")","v":""}]
[null,null,null,null,null,null,null,null,null,null,{"$f":"IF(L2703<>\"\",'Step 2) Calculate'!B2707,\"Zzzzz - delete row\")","v":"Zzzzz - delete row"},{"$f":"IF('Step 2) Calculate'!E2707<>\"\",'Step 2) Calculate'!G2707,\"\")","v":""},{"$f":"IF(L2703<>\"\",'Step 2) Calculate'!F2707,\"\")","v":""},{"$f":"IF(L2703<>\"\",'Step 2) Calculate'!H2707,\"\")","v":""},{"$f":"IF(L2703<>\"\",'Step 2) Calculate'!C2707,\"\")","v":""}]
[null,null,null,null,null,null,null,null,null,null,{"$f":"IF(L2704<>\"\",'Step 2) Calculate'!B2708,\"Zzzzz - delete row\")","v":"Zzzzz - delete row"},{"$f":"IF('Step 2) Calculate'!E2708<>\"\",'Step 2) Calculate'!G2708,\"\")","v":""},{"$f":"IF(L2704<>\"\",'Step 2) Calculate'!F2708,\"\")","v":""},{"$f":"IF(L2704<>\"\",'Step 2) Calculate'!H2708,\"\")","v":""},{"$f":"IF(L2704<>\"\",'Step 2) Calculate'!C2708,\"\")","v":""}]
[null,null,null,null,null,null,null,null,null,null,{"$f":"IF(L2705<>\"\",'Step 2) Calculate'!B2709,\"Zzzzz - delete row\")","v":"Zzzzz - delete row"},{"$f":"IF('Step 2) Calculate'!E2709<>\"\",'Step 2) Calculate'!G2709,\"\")","v":""},{"$f":"IF(L2705<>\"\",'Step 2) Calculate'!F2709,\"\")","v":""},{"$f":"IF(L2705<>\"\",'Step 2) Calculate'!H2709,\"\")","v":""},{"$f":"IF(L2705<>\"\",'Step 2) Calculate'!C2709,\"\")","v":""}]
[null,null,null,null,null,null,null,null,null,null,{"$f":"IF(L2706<>\"\",'Step 2) Calculate'!B2710,\"Zzzzz - delete row\")","v":"Zzzzz - delete row"},{"$f":"IF('Step 2) Calculate'!E2710<>\"\",'Step 2) Calculate'!G2710,\"\")","v":""},{"$f":"IF(L2706<>\"\",'Step 2) Calculate'!F2710,\"\")","v":""},{"$f":"IF(L2706<>\"\",'Step 2) Calculate'!H2710,\"\")","v":""},{"$f":"IF(L2706<>\"\",'Step 2) Calculate'!C2710,\"\")","v":""}]
[null,null,null,null,null,null,null,null,null,null,{"$f":"IF(L2707<>\"\",'Step 2) Calculate'!B2711,\"Zzzzz - delete row\")","v":"Zzzzz - delete row"},{"$f":"IF('Step 2) Calculate'!E2711<>\"\",'Step 2) Calculate'!G2711,\"\")","v":""},{"$f":"IF(L2707<>\"\",'Step 2) Calculate'!F2711,\"\")","v":""},{"$f":"IF(L2707<>\"\",'Step 2) Calculate'!H2711,\"\")","v":""},{"$f":"IF(L2707<>\"\",'Step 2) Calculate'!C2711,\"\")","v":""}]
[null,null,null,null,null,null,null,null,null,null,{"$f":"IF(L2708<>\"\",'Step 2) Calculate'!B2712,\"Zzzzz - delete row\")","v":"Zzzzz - delete row"},{"$f":"IF('Step 2) Calculate'!E2712<>\"\",'Step 2) Calculate'!G2712,\"\")","v":""},{"$f":"IF(L2708<>\"\",'Step 2) Calculate'!F2712,\"\")","v":""},{"$f":"IF(L2708<>\"\",'Step 2) Calculate'!H2712,\"\")","v":""},{"$f":"IF(L2708<>\"\",'Step 2) Calculate'!C2712,\"\")","v":""}]
[null,null,null,null,null,null,null,null,null,null,{"$f":"IF(L2709<>\"\",'Step 2) Calculate'!B2713,\"Zzzzz - delete row\")","v":"Zzzzz - delete row"},{"$f":"IF('Step 2) Calculate'!E2713<>\"\",'Step 2) Calculate'!G2713,\"\")","v":""},{"$f":"IF(L2709<>\"\",'Step 2) Calculate'!F2713,\"\")","v":""},{"$f":"IF(L2709<>\"\",'Step 2) Calculate'!H2713,\"\")","v":""},{"$f":"IF(L2709<>\"\",'Step 2) Calculate'!C2713,\"\")","v":""}]
[null,null,null,null,null,null,null,null,null,null,{"$f":"IF(L2710<>\"\",'Step 2) Calculate'!B2714,\"Zzzzz - delete row\")","v":"Zzzzz - delete row"},{"$f":"IF('Step 2) Calculate'!E2714<>\"\",'Step 2) Calculate'!G2714,\"\")","v":""},{"$f":"IF(L2710<>\"\",'Step 2) Calculate'!F2714,\"\")","v":""},{"$f":"IF(L2710<>\"\",'Step 2) Calculate'!H2714,\"\")","v":""},{"$f":"IF(L2710<>\"\",'Step 2) Calculate'!C2714,\"\")","v":""}]
[null,null,null,null,null,null,null,null,null,null,{"$f":"IF(L2711<>\"\",'Step 2) Calculate'!B2715,\"Zzzzz - delete row\")","v":"Zzzzz - delete row"},{"$f":"IF('Step 2) Calculate'!E2715<>\"\",'Step 2) Calculate'!G2715,\"\")","v":""},{"$f":"IF(L2711<>\"\",'Step 2) Calculate'!F2715,\"\")","v":""},{"$f":"IF(L2711<>\"\",'Step 2) Calculate'!H2715,\"\")","v":""},{"$f":"IF(L2711<>\"\",'Step 2) Calculate'!C2715,\"\")","v":""}]
[null,null,null,null,null,null,null,null,null,null,{"$f":"IF(L2712<>\"\",'Step 2) Calculate'!B2716,\"Zzzzz - delete row\")","v":"Zzzzz - delete row"},{"$f":"IF('Step 2) Calculate'!E2716<>\"\",'Step 2) Calculate'!G2716,\"\")","v":""},{"$f":"IF(L2712<>\"\",'Step 2) Calculate'!F2716,\"\")","v":""},{"$f":"IF(L2712<>\"\",'Step 2) Calculate'!H2716,\"\")","v":""},{"$f":"IF(L2712<>\"\",'Step 2) Calculate'!C2716,\"\")","v":""}]
[null,null,null,null,null,null,null,null,null,null,{"$f":"IF(L2713<>\"\",'Step 2) Calculate'!B2717,\"Zzzzz - delete row\")","v":"Zzzzz - delete row"},{"$f":"IF('Step 2) Calculate'!E2717<>\"\",'Step 2) Calculate'!G2717,\"\")","v":""},{"$f":"IF(L2713<>\"\",'Step 2) Calculate'!F2717,\"\")","v":""},{"$f":"IF(L2713<>\"\",'Step 2) Calculate'!H2717,\"\")","v":""},{"$f":"IF(L2713<>\"\",'Step 2) Calculate'!C2717,\"\")","v":""}]
[null,null,null,null,null,null,null,null,null,null,{"$f":"IF(L2714<>\"\",'Step 2) Calculate'!B2718,\"Zzzzz - delete row\")","v":"Zzzzz - delete row"},{"$f":"IF('Step 2) Calculate'!E2718<>\"\",'Step 2) Calculate'!G2718,\"\")","v":""},{"$f":"IF(L2714<>\"\",'Step 2) Calculate'!F2718,\"\")","v":""},{"$f":"IF(L2714<>\"\",'Step 2) Calculate'!H2718,\"\")","v":""},{"$f":"IF(L2714<>\"\",'Step 2) Calculate'!C2718,\"\")","v":""}]
[null,null,null,null,null,null,null,null,null,null,{"$f":"IF(L2715<>\"\",'Step 2) Calculate'!B2719,\"Zzzzz - delete row\")","v":"Zzzzz - delete row"},{"$f":"IF('Step 2) Calculate'!E2719<>\"\",'Step 2) Calculate'!G2719,\"\")","v":""},{"$f":"IF(L2715<>\"\",'Step 2) Calculate'!F2719,\"\")","v":""},{"$f":"IF(L2715<>\"\",'Step 2) Calculate'!H2719,\"\")","v":""},{"$f":"IF(L2715<>\"\",'Step 2) Calculate'!C2719,\"\")","v":""}]
[null,null,null,null,null,null,null,null,null,null,{"$f":"IF(L2716<>\"\",'Step 2) Calculate'!B2720,\"Zzzzz - delete row\")","v":"Zzzzz - delete row"},{"$f":"IF('Step 2) Calculate'!E2720<>\"\",'Step 2) Calculate'!G2720,\"\")","v":""},{"$f":"IF(L2716<>\"\",'Step 2) Calculate'!F2720,\"\")","v":""},{"$f":"IF(L2716<>\"\",'Step 2) Calculate'!H2720,\"\")","v":""},{"$f":"IF(L2716<>\"\",'Step 2) Calculate'!C2720,\"\")","v":""}]
[null,null,null,null,null,null,null,null,null,null,{"$f":"IF(L2717<>\"\",'Step 2) Calculate'!B2721,\"Zzzzz - delete row\")","v":"Zzzzz - delete row"},{"$f":"IF('Step 2) Calculate'!E2721<>\"\",'Step 2) Calculate'!G2721,\"\")","v":""},{"$f":"IF(L2717<>\"\",'Step 2) Calculate'!F2721,\"\")","v":""},{"$f":"IF(L2717<>\"\",'Step 2) Calculate'!H2721,\"\")","v":""},{"$f":"IF(L2717<>\"\",'Step 2) Calculate'!C2721,\"\")","v":""}]
[null,null,null,null,null,null,null,null,null,null,{"$f":"IF(L2718<>\"\",'Step 2) Calculate'!B2722,\"Zzzzz - delete row\")","v":"Zzzzz - delete row"},{"$f":"IF('Step 2) Calculate'!E2722<>\"\",'Step 2) Calculate'!G2722,\"\")","v":""},{"$f":"IF(L2718<>\"\",'Step 2) Calculate'!F2722,\"\")","v":""},{"$f":"IF(L2718<>\"\",'Step 2) Calculate'!H2722,\"\")","v":""},{"$f":"IF(L2718<>\"\",'Step 2) Calculate'!C2722,\"\")","v":""}]
[null,null,null,null,null,null,null,null,null,null,{"$f":"IF(L2719<>\"\",'Step 2) Calculate'!B2723,\"Zzzzz - delete row\")","v":"Zzzzz - delete row"},{"$f":"IF('Step 2) Calculate'!E2723<>\"\",'Step 2) Calculate'!G2723,\"\")","v":""},{"$f":"IF(L2719<>\"\",'Step 2) Calculate'!F2723,\"\")","v":""},{"$f":"IF(L2719<>\"\",'Step 2) Calculate'!H2723,\"\")","v":""},{"$f":"IF(L2719<>\"\",'Step 2) Calculate'!C2723,\"\")","v":""}]
[null,null,null,null,null,null,null,null,null,null,{"$f":"IF(L2720<>\"\",'Step 2) Calculate'!B2724,\"Zzzzz - delete row\")","v":"Zzzzz - delete row"},{"$f":"IF('Step 2) Calculate'!E2724<>\"\",'Step 2) Calculate'!G2724,\"\")","v":""},{"$f":"IF(L2720<>\"\",'Step 2) Calculate'!F2724,\"\")","v":""},{"$f":"IF(L2720<>\"\",'Step 2) Calculate'!H2724,\"\")","v":""},{"$f":"IF(L2720<>\"\",'Step 2) Calculate'!C2724,\"\")","v":""}]
[null,null,null,null,null,null,null,null,null,null,{"$f":"IF(L2721<>\"\",'Step 2) Calculate'!B2725,\"Zzzzz - delete row\")","v":"Zzzzz - delete row"},{"$f":"IF('Step 2) Calculate'!E2725<>\"\",'Step 2) Calculate'!G2725,\"\")","v":""},{"$f":"IF(L2721<>\"\",'Step 2) Calculate'!F2725,\"\")","v":""},{"$f":"IF(L2721<>\"\",'Step 2) Calculate'!H2725,\"\")","v":""},{"$f":"IF(L2721<>\"\",'Step 2) Calculate'!C2725,\"\")","v":""}]
[null,null,null,null,null,null,null,null,null,null,{"$f":"IF(L2722<>\"\",'Step 2) Calculate'!B2726,\"Zzzzz - delete row\")","v":"Zzzzz - delete row"},{"$f":"IF('Step 2) Calculate'!E2726<>\"\",'Step 2) Calculate'!G2726,\"\")","v":""},{"$f":"IF(L2722<>\"\",'Step 2) Calculate'!F2726,\"\")","v":""},{"$f":"IF(L2722<>\"\",'Step 2) Calculate'!H2726,\"\")","v":""},{"$f":"IF(L2722<>\"\",'Step 2) Calculate'!C2726,\"\")","v":""}]
[null,null,null,null,null,null,null,null,null,null,{"$f":"IF(L2723<>\"\",'Step 2) Calculate'!B2727,\"Zzzzz - delete row\")","v":"Zzzzz - delete row"},{"$f":"IF('Step 2) Calculate'!E2727<>\"\",'Step 2) Calculate'!G2727,\"\")","v":""},{"$f":"IF(L2723<>\"\",'Step 2) Calculate'!F2727,\"\")","v":""},{"$f":"IF(L2723<>\"\",'Step 2) Calculate'!H2727,\"\")","v":""},{"$f":"IF(L2723<>\"\",'Step 2) Calculate'!C2727,\"\")","v":""}]
[null,null,null,null,null,null,null,null,null,null,{"$f":"IF(L2724<>\"\",'Step 2) Calculate'!B2728,\"Zzzzz - delete row\")","v":"Zzzzz - delete row"},{"$f":"IF('Step 2) Calculate'!E2728<>\"\",'Step 2) Calculate'!G2728,\"\")","v":""},{"$f":"IF(L2724<>\"\",'Step 2) Calculate'!F2728,\"\")","v":""},{"$f":"IF(L2724<>\"\",'Step 2) Calculate'!H2728,\"\")","v":""},{"$f":"IF(L2724<>\"\",'Step 2) Calculate'!C2728,\"\")","v":""}]
[null,null,null,null,null,null,null,null,null,null,{"$f":"IF(L2725<>\"\",'Step 2) Calculate'!B2729,\"Zzzzz - delete row\")","v":"Zzzzz - delete row"},{"$f":"IF('Step 2) Calculate'!E2729<>\"\",'Step 2) Calculate'!G2729,\"\")","v":""},{"$f":"IF(L2725<>\"\",'Step 2) Calculate'!F2729,\"\")","v":""},{"$f":"IF(L2725<>\"\",'Step 2) Calculate'!H2729,\"\")","v":""},{"$f":"IF(L2725<>\"\",'Step 2) Calculate'!C2729,\"\")","v":""}]
[null,null,null,null,null,null,null,null,null,null,{"$f":"IF(L2726<>\"\",'Step 2) Calculate'!B2730,\"Zzzzz - delete row\")","v":"Zzzzz - delete row"},{"$f":"IF('Step 2) Calculate'!E2730<>\"\",'Step 2) Calculate'!G2730,\"\")","v":""},{"$f":"IF(L2726<>\"\",'Step 2) Calculate'!F2730,\"\")","v":""},{"$f":"IF(L2726<>\"\",'Step 2) Calculate'!H2730,\"\")","v":""},{"$f":"IF(L2726<>\"\",'Step 2) Calculate'!C2730,\"\")","v":""}]
[null,null,null,null,null,null,null,null,null,null,{"$f":"IF(L2727<>\"\",'Step 2) Calculate'!B2731,\"Zzzzz - delete row\")","v":"Zzzzz - delete row"},{"$f":"IF('Step 2) Calculate'!E2731<>\"\",'Step 2) Calculate'!G2731,\"\")","v":""},{"$f":"IF(L2727<>\"\",'Step 2) Calculate'!F2731,\"\")","v":""},{"$f":"IF(L2727<>\"\",'Step 2) Calculate'!H2731,\"\")","v":""},{"$f":"IF(L2727<>\"\",'Step 2) Calculate'!C2731,\"\")","v":""}]
[null,null,null,null,null,null,null,null,null,null,{"$f":"IF(L2728<>\"\",'Step 2) Calculate'!B2732,\"Zzzzz - delete row\")","v":"Zzzzz - delete row"},{"$f":"IF('Step 2) Calculate'!E2732<>\"\",'Step 2) Calculate'!G2732,\"\")","v":""},{"$f":"IF(L2728<>\"\",'Step 2) Calculate'!F2732,\"\")","v":""},{"$f":"IF(L2728<>\"\",'Step 2) Calculate'!H2732,\"\")","v":""},{"$f":"IF(L2728<>\"\",'Step 2) Calculate'!C2732,\"\")","v":""}]
[null,null,null,null,null,null,null,null,null,null,{"$f":"IF(L2729<>\"\",'Step 2) Calculate'!B2733,\"Zzzzz - delete row\")","v":"Zzzzz - delete row"},{"$f":"IF('Step 2) Calculate'!E2733<>\"\",'Step 2) Calculate'!G2733,\"\")","v":""},{"$f":"IF(L2729<>\"\",'Step 2) Calculate'!F2733,\"\")","v":""},{"$f":"IF(L2729<>\"\",'Step 2) Calculate'!H2733,\"\")","v":""},{"$f":"IF(L2729<>\"\",'Step 2) Calculate'!C2733,\"\")","v":""}]
[null,null,null,null,null,null,null,null,null,null,{"$f":"IF(L2730<>\"\",'Step 2) Calculate'!B2734,\"Zzzzz - delete row\")","v":"Zzzzz - delete row"},{"$f":"IF('Step 2) Calculate'!E2734<>\"\",'Step 2) Calculate'!G2734,\"\")","v":""},{"$f":"IF(L2730<>\"\",'Step 2) Calculate'!F2734,\"\")","v":""},{"$f":"IF(L2730<>\"\",'Step 2) Calculate'!H2734,\"\")","v":""},{"$f":"IF(L2730<>\"\",'Step 2) Calculate'!C2734,\"\")","v":""}]
[null,null,null,null,null,null,null,null,null,null,{"$f":"IF(L2731<>\"\",'Step 2) Calculate'!B2735,\"Zzzzz - delete row\")","v":"Zzzzz - delete row"},{"$f":"IF('Step 2) Calculate'!E2735<>\"\",'Step 2) Calculate'!G2735,\"\")","v":""},{"$f":"IF(L2731<>\"\",'Step 2) Calculate'!F2735,\"\")","v":""},{"$f":"IF(L2731<>\"\",'Step 2) Calculate'!H2735,\"\")","v":""},{"$f":"IF(L2731<>\"\",'Step 2) Calculate'!C2735,\"\")","v":""}]
[null,null,null,null,null,null,null,null,null,null,{"$f":"IF(L2732<>\"\",'Step 2) Calculate'!B2736,\"Zzzzz - delete row\")","v":"Zzzzz - delete row"},{"$f":"IF('Step 2) Calculate'!E2736<>\"\",'Step 2) Calculate'!G2736,\"\")","v":""},{"$f":"IF(L2732<>\"\",'Step 2) Calculate'!F2736,\"\")","v":""},{"$f":"IF(L2732<>\"\",'Step 2) Calculate'!H2736,\"\")","v":""},{"$f":"IF(L2732<>\"\",'Step 2) Calculate'!C2736,\"\")","v":""}]
[null,null,null,null,null,null,null,null,null,null,{"$f":"IF(L2733<>\"\",'Step 2) Calculate'!B2737,\"Zzzzz - delete row\")","v":"Zzzzz - delete row"},{"$f":"IF('Step 2) Calculate'!E2737<>\"\",'Step 2) Calculate'!G2737,\"\")","v":""},{"$f":"IF(L2733<>\"\",'Step 2) Calculate'!F2737,\"\")","v":""},{"$f":"IF(L2733<>\"\",'Step 2) Calculate'!H2737,\"\")","v":""},{"$f":"IF(L2733<>\"\",'Step 2) Calculate'!C2737,\"\")","v":""}]
[null,null,null,null,null,null,null,null,null,null,{"$f":"IF(L2734<>\"\",'Step 2) Calculate'!B2738,\"Zzzzz - delete row\")","v":"Zzzzz - delete row"},{"$f":"IF('Step 2) Calculate'!E2738<>\"\",'Step 2) Calculate'!G2738,\"\")","v":""},{"$f":"IF(L2734<>\"\",'Step 2) Calculate'!F2738,\"\")","v":""},{"$f":"IF(L2734<>\"\",'Step 2) Calculate'!H2738,\"\")","v":""},{"$f":"IF(L2734<>\"\",'Step 2) Calculate'!C2738,\"\")","v":""}]
[null,null,null,null,null,null,null,null,null,null,{"$f":"IF(L2735<>\"\",'Step 2) Calculate'!B2739,\"Zzzzz - delete row\")","v":"Zzzzz - delete row"},{"$f":"IF('Step 2) Calculate'!E2739<>\"\",'Step 2) Calculate'!G2739,\"\")","v":""},{"$f":"IF(L2735<>\"\",'Step 2) Calculate'!F2739,\"\")","v":""},{"$f":"IF(L2735<>\"\",'Step 2) Calculate'!H2739,\"\")","v":""},{"$f":"IF(L2735<>\"\",'Step 2) Calculate'!C2739,\"\")","v":""}]
[null,null,null,null,null,null,null,null,null,null,{"$f":"IF(L2736<>\"\",'Step 2) Calculate'!B2740,\"Zzzzz - delete row\")","v":"Zzzzz - delete row"},{"$f":"IF('Step 2) Calculate'!E2740<>\"\",'Step 2) Calculate'!G2740,\"\")","v":""},{"$f":"IF(L2736<>\"\",'Step 2) Calculate'!F2740,\"\")","v":""},{"$f":"IF(L2736<>\"\",'Step 2) Calculate'!H2740,\"\")","v":""},{"$f":"IF(L2736<>\"\",'Step 2) Calculate'!C2740,\"\")","v":""}]
[null,null,null,null,null,null,null,null,null,null,{"$f":"IF(L2737<>\"\",'Step 2) Calculate'!B2741,\"Zzzzz - delete row\")","v":"Zzzzz - delete row"},{"$f":"IF('Step 2) Calculate'!E2741<>\"\",'Step 2) Calculate'!G2741,\"\")","v":""},{"$f":"IF(L2737<>\"\",'Step 2) Calculate'!F2741,\"\")","v":""},{"$f":"IF(L2737<>\"\",'Step 2) Calculate'!H2741,\"\")","v":""},{"$f":"IF(L2737<>\"\",'Step 2) Calculate'!C2741,\"\")","v":""}]
[null,null,null,null,null,null,null,null,null,null,{"$f":"IF(L2738<>\"\",'Step 2) Calculate'!B2742,\"Zzzzz - delete row\")","v":"Zzzzz - delete row"},{"$f":"IF('Step 2) Calculate'!E2742<>\"\",'Step 2) Calculate'!G2742,\"\")","v":""},{"$f":"IF(L2738<>\"\",'Step 2) Calculate'!F2742,\"\")","v":""},{"$f":"IF(L2738<>\"\",'Step 2) Calculate'!H2742,\"\")","v":""},{"$f":"IF(L2738<>\"\",'Step 2) Calculate'!C2742,\"\")","v":""}]
[null,null,null,null,null,null,null,null,null,null,{"$f":"IF(L2739<>\"\",'Step 2) Calculate'!B2743,\"Zzzzz - delete row\")","v":"Zzzzz - delete row"},{"$f":"IF('Step 2) Calculate'!E2743<>\"\",'Step 2) Calculate'!G2743,\"\")","v":""},{"$f":"IF(L2739<>\"\",'Step 2) Calculate'!F2743,\"\")","v":""},{"$f":"IF(L2739<>\"\",'Step 2) Calculate'!H2743,\"\")","v":""},{"$f":"IF(L2739<>\"\",'Step 2) Calculate'!C2743,\"\")","v":""}]
[null,null,null,null,null,null,null,null,null,null,{"$f":"IF(L2740<>\"\",'Step 2) Calculate'!B2744,\"Zzzzz - delete row\")","v":"Zzzzz - delete row"},{"$f":"IF('Step 2) Calculate'!E2744<>\"\",'Step 2) Calculate'!G2744,\"\")","v":""},{"$f":"IF(L2740<>\"\",'Step 2) Calculate'!F2744,\"\")","v":""},{"$f":"IF(L2740<>\"\",'Step 2) Calculate'!H2744,\"\")","v":""},{"$f":"IF(L2740<>\"\",'Step 2) Calculate'!C2744,\"\")","v":""}]
[null,null,null,null,null,null,null,null,null,null,{"$f":"IF(L2741<>\"\",'Step 2) Calculate'!B2745,\"Zzzzz - delete row\")","v":"Zzzzz - delete row"},{"$f":"IF('Step 2) Calculate'!E2745<>\"\",'Step 2) Calculate'!G2745,\"\")","v":""},{"$f":"IF(L2741<>\"\",'Step 2) Calculate'!F2745,\"\")","v":""},{"$f":"IF(L2741<>\"\",'Step 2) Calculate'!H2745,\"\")","v":""},{"$f":"IF(L2741<>\"\",'Step 2) Calculate'!C2745,\"\")","v":""}]
[null,null,null,null,null,null,null,null,null,null,{"$f":"IF(L2742<>\"\",'Step 2) Calculate'!B2746,\"Zzzzz - delete row\")","v":"Zzzzz - delete row"},{"$f":"IF('Step 2) Calculate'!E2746<>\"\",'Step 2) Calculate'!G2746,\"\")","v":""},{"$f":"IF(L2742<>\"\",'Step 2) Calculate'!F2746,\"\")","v":""},{"$f":"IF(L2742<>\"\",'Step 2) Calculate'!H2746,\"\")","v":""},{"$f":"IF(L2742<>\"\",'Step 2) Calculate'!C2746,\"\")","v":""}]
[null,null,null,null,null,null,null,null,null,null,{"$f":"IF(L2743<>\"\",'Step 2) Calculate'!B2747,\"Zzzzz - delete row\")","v":"Zzzzz - delete row"},{"$f":"IF('Step 2) Calculate'!E2747<>\"\",'Step 2) Calculate'!G2747,\"\")","v":""},{"$f":"IF(L2743<>\"\",'Step 2) Calculate'!F2747,\"\")","v":""},{"$f":"IF(L2743<>\"\",'Step 2) Calculate'!H2747,\"\")","v":""},{"$f":"IF(L2743<>\"\",'Step 2) Calculate'!C2747,\"\")","v":""}]
[null,null,null,null,null,null,null,null,null,null,{"$f":"IF(L2744<>\"\",'Step 2) Calculate'!B2748,\"Zzzzz - delete row\")","v":"Zzzzz - delete row"},{"$f":"IF('Step 2) Calculate'!E2748<>\"\",'Step 2) Calculate'!G2748,\"\")","v":""},{"$f":"IF(L2744<>\"\",'Step 2) Calculate'!F2748,\"\")","v":""},{"$f":"IF(L2744<>\"\",'Step 2) Calculate'!H2748,\"\")","v":""},{"$f":"IF(L2744<>\"\",'Step 2) Calculate'!C2748,\"\")","v":""}]
[null,null,null,null,null,null,null,null,null,null,{"$f":"IF(L2745<>\"\",'Step 2) Calculate'!B2749,\"Zzzzz - delete row\")","v":"Zzzzz - delete row"},{"$f":"IF('Step 2) Calculate'!E2749<>\"\",'Step 2) Calculate'!G2749,\"\")","v":""},{"$f":"IF(L2745<>\"\",'Step 2) Calculate'!F2749,\"\")","v":""},{"$f":"IF(L2745<>\"\",'Step 2) Calculate'!H2749,\"\")","v":""},{"$f":"IF(L2745<>\"\",'Step 2) Calculate'!C2749,\"\")","v":""}]
[null,null,null,null,null,null,null,null,null,null,{"$f":"IF(L2746<>\"\",'Step 2) Calculate'!B2750,\"Zzzzz - delete row\")","v":"Zzzzz - delete row"},{"$f":"IF('Step 2) Calculate'!E2750<>\"\",'Step 2) Calculate'!G2750,\"\")","v":""},{"$f":"IF(L2746<>\"\",'Step 2) Calculate'!F2750,\"\")","v":""},{"$f":"IF(L2746<>\"\",'Step 2) Calculate'!H2750,\"\")","v":""},{"$f":"IF(L2746<>\"\",'Step 2) Calculate'!C2750,\"\")","v":""}]
[null,null,null,null,null,null,null,null,null,null,{"$f":"IF(L2747<>\"\",'Step 2) Calculate'!B2751,\"Zzzzz - delete row\")","v":"Zzzzz - delete row"},{"$f":"IF('Step 2) Calculate'!E2751<>\"\",'Step 2) Calculate'!G2751,\"\")","v":""},{"$f":"IF(L2747<>\"\",'Step 2) Calculate'!F2751,\"\")","v":""},{"$f":"IF(L2747<>\"\",'Step 2) Calculate'!H2751,\"\")","v":""},{"$f":"IF(L2747<>\"\",'Step 2) Calculate'!C2751,\"\")","v":""}]
[null,null,null,null,null,null,null,null,null,null,{"$f":"IF(L2748<>\"\",'Step 2) Calculate'!B2752,\"Zzzzz - delete row\")","v":"Zzzzz - delete row"},{"$f":"IF('Step 2) Calculate'!E2752<>\"\",'Step 2) Calculate'!G2752,\"\")","v":""},{"$f":"IF(L2748<>\"\",'Step 2) Calculate'!F2752,\"\")","v":""},{"$f":"IF(L2748<>\"\",'Step 2) Calculate'!H2752,\"\")","v":""},{"$f":"IF(L2748<>\"\",'Step 2) Calculate'!C2752,\"\")","v":""}]
[null,null,null,null,null,null,null,null,null,null,{"$f":"IF(L2749<>\"\",'Step 2) Calculate'!B2753,\"Zzzzz - delete row\")","v":"Zzzzz - delete row"},{"$f":"IF('Step 2) Calculate'!E2753<>\"\",'Step 2) Calculate'!G2753,\"\")","v":""},{"$f":"IF(L2749<>\"\",'Step 2) Calculate'!F2753,\"\")","v":""},{"$f":"IF(L2749<>\"\",'Step 2) Calculate'!H2753,\"\")","v":""},{"$f":"IF(L2749<>\"\",'Step 2) Calculate'!C2753,\"\")","v":""}]
[null,null,null,null,null,null,null,null,null,null,{"$f":"IF(L2750<>\"\",'Step 2) Calculate'!B2754,\"Zzzzz - delete row\")","v":"Zzzzz - delete row"},{"$f":"IF('Step 2) Calculate'!E2754<>\"\",'Step 2) Calculate'!G2754,\"\")","v":""},{"$f":"IF(L2750<>\"\",'Step 2) Calculate'!F2754,\"\")","v":""},{"$f":"IF(L2750<>\"\",'Step 2) Calculate'!H2754,\"\")","v":""},{"$f":"IF(L2750<>\"\",'Step 2) Calculate'!C2754,\"\")","v":""}]
[null,null,null,null,null,null,null,null,null,null,{"$f":"IF(L2751<>\"\",'Step 2) Calculate'!B2755,\"Zzzzz - delete row\")","v":"Zzzzz - delete row"},{"$f":"IF('Step 2) Calculate'!E2755<>\"\",'Step 2) Calculate'!G2755,\"\")","v":""},{"$f":"IF(L2751<>\"\",'Step 2) Calculate'!F2755,\"\")","v":""},{"$f":"IF(L2751<>\"\",'Step 2) Calculate'!H2755,\"\")","v":""},{"$f":"IF(L2751<>\"\",'Step 2) Calculate'!C2755,\"\")","v":""}]
[null,null,null,null,null,null,null,null,null,null,{"$f":"IF(L2752<>\"\",'Step 2) Calculate'!B2756,\"Zzzzz - delete row\")","v":"Zzzzz - delete row"},{"$f":"IF('Step 2) Calculate'!E2756<>\"\",'Step 2) Calculate'!G2756,\"\")","v":""},{"$f":"IF(L2752<>\"\",'Step 2) Calculate'!F2756,\"\")","v":""},{"$f":"IF(L2752<>\"\",'Step 2) Calculate'!H2756,\"\")","v":""},{"$f":"IF(L2752<>\"\",'Step 2) Calculate'!C2756,\"\")","v":""}]
[null,null,null,null,null,null,null,null,null,null,{"$f":"IF(L2753<>\"\",'Step 2) Calculate'!B2757,\"Zzzzz - delete row\")","v":"Zzzzz - delete row"},{"$f":"IF('Step 2) Calculate'!E2757<>\"\",'Step 2) Calculate'!G2757,\"\")","v":""},{"$f":"IF(L2753<>\"\",'Step 2) Calculate'!F2757,\"\")","v":""},{"$f":"IF(L2753<>\"\",'Step 2) Calculate'!H2757,\"\")","v":""},{"$f":"IF(L2753<>\"\",'Step 2) Calculate'!C2757,\"\")","v":""}]
[null,null,null,null,null,null,null,null,null,null,{"$f":"IF(L2754<>\"\",'Step 2) Calculate'!B2758,\"Zzzzz - delete row\")","v":"Zzzzz - delete row"},{"$f":"IF('Step 2) Calculate'!E2758<>\"\",'Step 2) Calculate'!G2758,\"\")","v":""},{"$f":"IF(L2754<>\"\",'Step 2) Calculate'!F2758,\"\")","v":""},{"$f":"IF(L2754<>\"\",'Step 2) Calculate'!H2758,\"\")","v":""},{"$f":"IF(L2754<>\"\",'Step 2) Calculate'!C2758,\"\")","v":""}]
[null,null,null,null,null,null,null,null,null,null,{"$f":"IF(L2755<>\"\",'Step 2) Calculate'!B2759,\"Zzzzz - delete row\")","v":"Zzzzz - delete row"},{"$f":"IF('Step 2) Calculate'!E2759<>\"\",'Step 2) Calculate'!G2759,\"\")","v":""},{"$f":"IF(L2755<>\"\",'Step 2) Calculate'!F2759,\"\")","v":""},{"$f":"IF(L2755<>\"\",'Step 2) Calculate'!H2759,\"\")","v":""},{"$f":"IF(L2755<>\"\",'Step 2) Calculate'!C2759,\"\")","v":""}]
[null,null,null,null,null,null,null,null,null,null,{"$f":"IF(L2756<>\"\",'Step 2) Calculate'!B2760,\"Zzzzz - delete row\")","v":"Zzzzz - delete row"},{"$f":"IF('Step 2) Calculate'!E2760<>\"\",'Step 2) Calculate'!G2760,\"\")","v":""},{"$f":"IF(L2756<>\"\",'Step 2) Calculate'!F2760,\"\")","v":""},{"$f":"IF(L2756<>\"\",'Step 2) Calculate'!H2760,\"\")","v":""},{"$f":"IF(L2756<>\"\",'Step 2) Calculate'!C2760,\"\")","v":""}]
[null,null,null,null,null,null,null,null,null,null,{"$f":"IF(L2757<>\"\",'Step 2) Calculate'!B2761,\"Zzzzz - delete row\")","v":"Zzzzz - delete row"},{"$f":"IF('Step 2) Calculate'!E2761<>\"\",'Step 2) Calculate'!G2761,\"\")","v":""},{"$f":"IF(L2757<>\"\",'Step 2) Calculate'!F2761,\"\")","v":""},{"$f":"IF(L2757<>\"\",'Step 2) Calculate'!H2761,\"\")","v":""},{"$f":"IF(L2757<>\"\",'Step 2) Calculate'!C2761,\"\")","v":""}]
[null,null,null,null,null,null,null,null,null,null,{"$f":"IF(L2758<>\"\",'Step 2) Calculate'!B2762,\"Zzzzz - delete row\")","v":"Zzzzz - delete row"},{"$f":"IF('Step 2) Calculate'!E2762<>\"\",'Step 2) Calculate'!G2762,\"\")","v":""},{"$f":"IF(L2758<>\"\",'Step 2) Calculate'!F2762,\"\")","v":""},{"$f":"IF(L2758<>\"\",'Step 2) Calculate'!H2762,\"\")","v":""},{"$f":"IF(L2758<>\"\",'Step 2) Calculate'!C2762,\"\")","v":""}]
[null,null,null,null,null,null,null,null,null,null,{"$f":"IF(L2759<>\"\",'Step 2) Calculate'!B2763,\"Zzzzz - delete row\")","v":"Zzzzz - delete row"},{"$f":"IF('Step 2) Calculate'!E2763<>\"\",'Step 2) Calculate'!G2763,\"\")","v":""},{"$f":"IF(L2759<>\"\",'Step 2) Calculate'!F2763,\"\")","v":""},{"$f":"IF(L2759<>\"\",'Step 2) Calculate'!H2763,\"\")","v":""},{"$f":"IF(L2759<>\"\",'Step 2) Calculate'!C2763,\"\")","v":""}]
[null,null,null,null,null,null,null,null,null,null,{"$f":"IF(L2760<>\"\",'Step 2) Calculate'!B2764,\"Zzzzz - delete row\")","v":"Zzzzz - delete row"},{"$f":"IF('Step 2) Calculate'!E2764<>\"\",'Step 2) Calculate'!G2764,\"\")","v":""},{"$f":"IF(L2760<>\"\",'Step 2) Calculate'!F2764,\"\")","v":""},{"$f":"IF(L2760<>\"\",'Step 2) Calculate'!H2764,\"\")","v":""},{"$f":"IF(L2760<>\"\",'Step 2) Calculate'!C2764,\"\")","v":""}]
[null,null,null,null,null,null,null,null,null,null,{"$f":"IF(L2761<>\"\",'Step 2) Calculate'!B2765,\"Zzzzz - delete row\")","v":"Zzzzz - delete row"},{"$f":"IF('Step 2) Calculate'!E2765<>\"\",'Step 2) Calculate'!G2765,\"\")","v":""},{"$f":"IF(L2761<>\"\",'Step 2) Calculate'!F2765,\"\")","v":""},{"$f":"IF(L2761<>\"\",'Step 2) Calculate'!H2765,\"\")","v":""},{"$f":"IF(L2761<>\"\",'Step 2) Calculate'!C2765,\"\")","v":""}]
[null,null,null,null,null,null,null,null,null,null,{"$f":"IF(L2762<>\"\",'Step 2) Calculate'!B2766,\"Zzzzz - delete row\")","v":"Zzzzz - delete row"},{"$f":"IF('Step 2) Calculate'!E2766<>\"\",'Step 2) Calculate'!G2766,\"\")","v":""},{"$f":"IF(L2762<>\"\",'Step 2) Calculate'!F2766,\"\")","v":""},{"$f":"IF(L2762<>\"\",'Step 2) Calculate'!H2766,\"\")","v":""},{"$f":"IF(L2762<>\"\",'Step 2) Calculate'!C2766,\"\")","v":""}]
[null,null,null,null,null,null,null,null,null,null,{"$f":"IF(L2763<>\"\",'Step 2) Calculate'!B2767,\"Zzzzz - delete row\")","v":"Zzzzz - delete row"},{"$f":"IF('Step 2) Calculate'!E2767<>\"\",'Step 2) Calculate'!G2767,\"\")","v":""},{"$f":"IF(L2763<>\"\",'Step 2) Calculate'!F2767,\"\")","v":""},{"$f":"IF(L2763<>\"\",'Step 2) Calculate'!H2767,\"\")","v":""},{"$f":"IF(L2763<>\"\",'Step 2) Calculate'!C2767,\"\")","v":""}]
[null,null,null,null,null,null,null,null,null,null,{"$f":"IF(L2764<>\"\",'Step 2) Calculate'!B2768,\"Zzzzz - delete row\")","v":"Zzzzz - delete row"},{"$f":"IF('Step 2) Calculate'!E2768<>\"\",'Step 2) Calculate'!G2768,\"\")","v":""},{"$f":"IF(L2764<>\"\",'Step 2) Calculate'!F2768,\"\")","v":""},{"$f":"IF(L2764<>\"\",'Step 2) Calculate'!H2768,\"\")","v":""},{"$f":"IF(L2764<>\"\",'Step 2) Calculate'!C2768,\"\")","v":""}]
[null,null,null,null,null,null,null,null,null,null,{"$f":"IF(L2765<>\"\",'Step 2) Calculate'!B2769,\"Zzzzz - delete row\")","v":"Zzzzz - delete row"},{"$f":"IF('Step 2) Calculate'!E2769<>\"\",'Step 2) Calculate'!G2769,\"\")","v":""},{"$f":"IF(L2765<>\"\",'Step 2) Calculate'!F2769,\"\")","v":""},{"$f":"IF(L2765<>\"\",'Step 2) Calculate'!H2769,\"\")","v":""},{"$f":"IF(L2765<>\"\",'Step 2) Calculate'!C2769,\"\")","v":""}]
[null,null,null,null,null,null,null,null,null,null,{"$f":"IF(L2766<>\"\",'Step 2) Calculate'!B2770,\"Zzzzz - delete row\")","v":"Zzzzz - delete row"},{"$f":"IF('Step 2) Calculate'!E2770<>\"\",'Step 2) Calculate'!G2770,\"\")","v":""},{"$f":"IF(L2766<>\"\",'Step 2) Calculate'!F2770,\"\")","v":""},{"$f":"IF(L2766<>\"\",'Step 2) Calculate'!H2770,\"\")","v":""},{"$f":"IF(L2766<>\"\",'Step 2) Calculate'!C2770,\"\")","v":""}]
[null,null,null,null,null,null,null,null,null,null,{"$f":"IF(L2767<>\"\",'Step 2) Calculate'!B2771,\"Zzzzz - delete row\")","v":"Zzzzz - delete row"},{"$f":"IF('Step 2) Calculate'!E2771<>\"\",'Step 2) Calculate'!G2771,\"\")","v":""},{"$f":"IF(L2767<>\"\",'Step 2) Calculate'!F2771,\"\")","v":""},{"$f":"IF(L2767<>\"\",'Step 2) Calculate'!H2771,\"\")","v":""},{"$f":"IF(L2767<>\"\",'Step 2) Calculate'!C2771,\"\")","v":""}]
[null,null,null,null,null,null,null,null,null,null,{"$f":"IF(L2768<>\"\",'Step 2) Calculate'!B2772,\"Zzzzz - delete row\")","v":"Zzzzz - delete row"},{"$f":"IF('Step 2) Calculate'!E2772<>\"\",'Step 2) Calculate'!G2772,\"\")","v":""},{"$f":"IF(L2768<>\"\",'Step 2) Calculate'!F2772,\"\")","v":""},{"$f":"IF(L2768<>\"\",'Step 2) Calculate'!H2772,\"\")","v":""},{"$f":"IF(L2768<>\"\",'Step 2) Calculate'!C2772,\"\")","v":""}]
[null,null,null,null,null,null,null,null,null,null,{"$f":"IF(L2769<>\"\",'Step 2) Calculate'!B2773,\"Zzzzz - delete row\")","v":"Zzzzz - delete row"},{"$f":"IF('Step 2) Calculate'!E2773<>\"\",'Step 2) Calculate'!G2773,\"\")","v":""},{"$f":"IF(L2769<>\"\",'Step 2) Calculate'!F2773,\"\")","v":""},{"$f":"IF(L2769<>\"\",'Step 2) Calculate'!H2773,\"\")","v":""},{"$f":"IF(L2769<>\"\",'Step 2) Calculate'!C2773,\"\")","v":""}]
[null,null,null,null,null,null,null,null,null,null,{"$f":"IF(L2770<>\"\",'Step 2) Calculate'!B2774,\"Zzzzz - delete row\")","v":"Zzzzz - delete row"},{"$f":"IF('Step 2) Calculate'!E2774<>\"\",'Step 2) Calculate'!G2774,\"\")","v":""},{"$f":"IF(L2770<>\"\",'Step 2) Calculate'!F2774,\"\")","v":""},{"$f":"IF(L2770<>\"\",'Step 2) Calculate'!H2774,\"\")","v":""},{"$f":"IF(L2770<>\"\",'Step 2) Calculate'!C2774,\"\")","v":""}]
[null,null,null,null,null,null,null,null,null,null,{"$f":"IF(L2771<>\"\",'Step 2) Calculate'!B2775,\"Zzzzz - delete row\")","v":"Zzzzz - delete row"},{"$f":"IF('Step 2) Calculate'!E2775<>\"\",'Step 2) Calculate'!G2775,\"\")","v":""},{"$f":"IF(L2771<>\"\",'Step 2) Calculate'!F2775,\"\")","v":""},{"$f":"IF(L2771<>\"\",'Step 2) Calculate'!H2775,\"\")","v":""},{"$f":"IF(L2771<>\"\",'Step 2) Calculate'!C2775,\"\")","v":""}]
[null,null,null,null,null,null,null,null,null,null,{"$f":"IF(L2772<>\"\",'Step 2) Calculate'!B2776,\"Zzzzz - delete row\")","v":"Zzzzz - delete row"},{"$f":"IF('Step 2) Calculate'!E2776<>\"\",'Step 2) Calculate'!G2776,\"\")","v":""},{"$f":"IF(L2772<>\"\",'Step 2) Calculate'!F2776,\"\")","v":""},{"$f":"IF(L2772<>\"\",'Step 2) Calculate'!H2776,\"\")","v":""},{"$f":"IF(L2772<>\"\",'Step 2) Calculate'!C2776,\"\")","v":""}]
[null,null,null,null,null,null,null,null,null,null,{"$f":"IF(L2773<>\"\",'Step 2) Calculate'!B2777,\"Zzzzz - delete row\")","v":"Zzzzz - delete row"},{"$f":"IF('Step 2) Calculate'!E2777<>\"\",'Step 2) Calculate'!G2777,\"\")","v":""},{"$f":"IF(L2773<>\"\",'Step 2) Calculate'!F2777,\"\")","v":""},{"$f":"IF(L2773<>\"\",'Step 2) Calculate'!H2777,\"\")","v":""},{"$f":"IF(L2773<>\"\",'Step 2) Calculate'!C2777,\"\")","v":""}]
[null,null,null,null,null,null,null,null,null,null,{"$f":"IF(L2774<>\"\",'Step 2) Calculate'!B2778,\"Zzzzz - delete row\")","v":"Zzzzz - delete row"},{"$f":"IF('Step 2) Calculate'!E2778<>\"\",'Step 2) Calculate'!G2778,\"\")","v":""},{"$f":"IF(L2774<>\"\",'Step 2) Calculate'!F2778,\"\")","v":""},{"$f":"IF(L2774<>\"\",'Step 2) Calculate'!H2778,\"\")","v":""},{"$f":"IF(L2774<>\"\",'Step 2) Calculate'!C2778,\"\")","v":""}]
[null,null,null,null,null,null,null,null,null,null,{"$f":"IF(L2775<>\"\",'Step 2) Calculate'!B2779,\"Zzzzz - delete row\")","v":"Zzzzz - delete row"},{"$f":"IF('Step 2) Calculate'!E2779<>\"\",'Step 2) Calculate'!G2779,\"\")","v":""},{"$f":"IF(L2775<>\"\",'Step 2) Calculate'!F2779,\"\")","v":""},{"$f":"IF(L2775<>\"\",'Step 2) Calculate'!H2779,\"\")","v":""},{"$f":"IF(L2775<>\"\",'Step 2) Calculate'!C2779,\"\")","v":""}]
[null,null,null,null,null,null,null,null,null,null,{"$f":"IF(L2776<>\"\",'Step 2) Calculate'!B2780,\"Zzzzz - delete row\")","v":"Zzzzz - delete row"},{"$f":"IF('Step 2) Calculate'!E2780<>\"\",'Step 2) Calculate'!G2780,\"\")","v":""},{"$f":"IF(L2776<>\"\",'Step 2) Calculate'!F2780,\"\")","v":""},{"$f":"IF(L2776<>\"\",'Step 2) Calculate'!H2780,\"\")","v":""},{"$f":"IF(L2776<>\"\",'Step 2) Calculate'!C2780,\"\")","v":""}]
[null,null,null,null,null,null,null,null,null,null,{"$f":"IF(L2777<>\"\",'Step 2) Calculate'!B2781,\"Zzzzz - delete row\")","v":"Zzzzz - delete row"},{"$f":"IF('Step 2) Calculate'!E2781<>\"\",'Step 2) Calculate'!G2781,\"\")","v":""},{"$f":"IF(L2777<>\"\",'Step 2) Calculate'!F2781,\"\")","v":""},{"$f":"IF(L2777<>\"\",'Step 2) Calculate'!H2781,\"\")","v":""},{"$f":"IF(L2777<>\"\",'Step 2) Calculate'!C2781,\"\")","v":""}]
[null,null,null,null,null,null,null,null,null,null,{"$f":"IF(L2778<>\"\",'Step 2) Calculate'!B2782,\"Zzzzz - delete row\")","v":"Zzzzz - delete row"},{"$f":"IF('Step 2) Calculate'!E2782<>\"\",'Step 2) Calculate'!G2782,\"\")","v":""},{"$f":"IF(L2778<>\"\",'Step 2) Calculate'!F2782,\"\")","v":""},{"$f":"IF(L2778<>\"\",'Step 2) Calculate'!H2782,\"\")","v":""},{"$f":"IF(L2778<>\"\",'Step 2) Calculate'!C2782,\"\")","v":""}]
[null,null,null,null,null,null,null,null,null,null,{"$f":"IF(L2779<>\"\",'Step 2) Calculate'!B2783,\"Zzzzz - delete row\")","v":"Zzzzz - delete row"},{"$f":"IF('Step 2) Calculate'!E2783<>\"\",'Step 2) Calculate'!G2783,\"\")","v":""},{"$f":"IF(L2779<>\"\",'Step 2) Calculate'!F2783,\"\")","v":""},{"$f":"IF(L2779<>\"\",'Step 2) Calculate'!H2783,\"\")","v":""},{"$f":"IF(L2779<>\"\",'Step 2) Calculate'!C2783,\"\")","v":""}]
[null,null,null,null,null,null,null,null,null,null,{"$f":"IF(L2780<>\"\",'Step 2) Calculate'!B2784,\"Zzzzz - delete row\")","v":"Zzzzz - delete row"},{"$f":"IF('Step 2) Calculate'!E2784<>\"\",'Step 2) Calculate'!G2784,\"\")","v":""},{"$f":"IF(L2780<>\"\",'Step 2) Calculate'!F2784,\"\")","v":""},{"$f":"IF(L2780<>\"\",'Step 2) Calculate'!H2784,\"\")","v":""},{"$f":"IF(L2780<>\"\",'Step 2) Calculate'!C2784,\"\")","v":""}]
[null,null,null,null,null,null,null,null,null,null,{"$f":"IF(L2781<>\"\",'Step 2) Calculate'!B2785,\"Zzzzz - delete row\")","v":"Zzzzz - delete row"},{"$f":"IF('Step 2) Calculate'!E2785<>\"\",'Step 2) Calculate'!G2785,\"\")","v":""},{"$f":"IF(L2781<>\"\",'Step 2) Calculate'!F2785,\"\")","v":""},{"$f":"IF(L2781<>\"\",'Step 2) Calculate'!H2785,\"\")","v":""},{"$f":"IF(L2781<>\"\",'Step 2) Calculate'!C2785,\"\")","v":""}]
[null,null,null,null,null,null,null,null,null,null,{"$f":"IF(L2782<>\"\",'Step 2) Calculate'!B2786,\"Zzzzz - delete row\")","v":"Zzzzz - delete row"},{"$f":"IF('Step 2) Calculate'!E2786<>\"\",'Step 2) Calculate'!G2786,\"\")","v":""},{"$f":"IF(L2782<>\"\",'Step 2) Calculate'!F2786,\"\")","v":""},{"$f":"IF(L2782<>\"\",'Step 2) Calculate'!H2786,\"\")","v":""},{"$f":"IF(L2782<>\"\",'Step 2) Calculate'!C2786,\"\")","v":""}]
[null,null,null,null,null,null,null,null,null,null,{"$f":"IF(L2783<>\"\",'Step 2) Calculate'!B2787,\"Zzzzz - delete row\")","v":"Zzzzz - delete row"},{"$f":"IF('Step 2) Calculate'!E2787<>\"\",'Step 2) Calculate'!G2787,\"\")","v":""},{"$f":"IF(L2783<>\"\",'Step 2) Calculate'!F2787,\"\")","v":""},{"$f":"IF(L2783<>\"\",'Step 2) Calculate'!H2787,\"\")","v":""},{"$f":"IF(L2783<>\"\",'Step 2) Calculate'!C2787,\"\")","v":""}]
[null,null,null,null,null,null,null,null,null,null,{"$f":"IF(L2784<>\"\",'Step 2) Calculate'!B2788,\"Zzzzz - delete row\")","v":"Zzzzz - delete row"},{"$f":"IF('Step 2) Calculate'!E2788<>\"\",'Step 2) Calculate'!G2788,\"\")","v":""},{"$f":"IF(L2784<>\"\",'Step 2) Calculate'!F2788,\"\")","v":""},{"$f":"IF(L2784<>\"\",'Step 2) Calculate'!H2788,\"\")","v":""},{"$f":"IF(L2784<>\"\",'Step 2) Calculate'!C2788,\"\")","v":""}]
[null,null,null,null,null,null,null,null,null,null,{"$f":"IF(L2785<>\"\",'Step 2) Calculate'!B2789,\"Zzzzz - delete row\")","v":"Zzzzz - delete row"},{"$f":"IF('Step 2) Calculate'!E2789<>\"\",'Step 2) Calculate'!G2789,\"\")","v":""},{"$f":"IF(L2785<>\"\",'Step 2) Calculate'!F2789,\"\")","v":""},{"$f":"IF(L2785<>\"\",'Step 2) Calculate'!H2789,\"\")","v":""},{"$f":"IF(L2785<>\"\",'Step 2) Calculate'!C2789,\"\")","v":""}]
[null,null,null,null,null,null,null,null,null,null,{"$f":"IF(L2786<>\"\",'Step 2) Calculate'!B2790,\"Zzzzz - delete row\")","v":"Zzzzz - delete row"},{"$f":"IF('Step 2) Calculate'!E2790<>\"\",'Step 2) Calculate'!G2790,\"\")","v":""},{"$f":"IF(L2786<>\"\",'Step 2) Calculate'!F2790,\"\")","v":""},{"$f":"IF(L2786<>\"\",'Step 2) Calculate'!H2790,\"\")","v":""},{"$f":"IF(L2786<>\"\",'Step 2) Calculate'!C2790,\"\")","v":""}]
[null,null,null,null,null,null,null,null,null,null,{"$f":"IF(L2787<>\"\",'Step 2) Calculate'!B2791,\"Zzzzz - delete row\")","v":"Zzzzz - delete row"},{"$f":"IF('Step 2) Calculate'!E2791<>\"\",'Step 2) Calculate'!G2791,\"\")","v":""},{"$f":"IF(L2787<>\"\",'Step 2) Calculate'!F2791,\"\")","v":""},{"$f":"IF(L2787<>\"\",'Step 2) Calculate'!H2791,\"\")","v":""},{"$f":"IF(L2787<>\"\",'Step 2) Calculate'!C2791,\"\")","v":""}]
[null,null,null,null,null,null,null,null,null,null,{"$f":"IF(L2788<>\"\",'Step 2) Calculate'!B2792,\"Zzzzz - delete row\")","v":"Zzzzz - delete row"},{"$f":"IF('Step 2) Calculate'!E2792<>\"\",'Step 2) Calculate'!G2792,\"\")","v":""},{"$f":"IF(L2788<>\"\",'Step 2) Calculate'!F2792,\"\")","v":""},{"$f":"IF(L2788<>\"\",'Step 2) Calculate'!H2792,\"\")","v":""},{"$f":"IF(L2788<>\"\",'Step 2) Calculate'!C2792,\"\")","v":""}]
[null,null,null,null,null,null,null,null,null,null,{"$f":"IF(L2789<>\"\",'Step 2) Calculate'!B2793,\"Zzzzz - delete row\")","v":"Zzzzz - delete row"},{"$f":"IF('Step 2) Calculate'!E2793<>\"\",'Step 2) Calculate'!G2793,\"\")","v":""},{"$f":"IF(L2789<>\"\",'Step 2) Calculate'!F2793,\"\")","v":""},{"$f":"IF(L2789<>\"\",'Step 2) Calculate'!H2793,\"\")","v":""},{"$f":"IF(L2789<>\"\",'Step 2) Calculate'!C2793,\"\")","v":""}]
[null,null,null,null,null,null,null,null,null,null,{"$f":"IF(L2790<>\"\",'Step 2) Calculate'!B2794,\"Zzzzz - delete row\")","v":"Zzzzz - delete row"},{"$f":"IF('Step 2) Calculate'!E2794<>\"\",'Step 2) Calculate'!G2794,\"\")","v":""},{"$f":"IF(L2790<>\"\",'Step 2) Calculate'!F2794,\"\")","v":""},{"$f":"IF(L2790<>\"\",'Step 2) Calculate'!H2794,\"\")","v":""},{"$f":"IF(L2790<>\"\",'Step 2) Calculate'!C2794,\"\")","v":""}]
[null,null,null,null,null,null,null,null,null,null,{"$f":"IF(L2791<>\"\",'Step 2) Calculate'!B2795,\"Zzzzz - delete row\")","v":"Zzzzz - delete row"},{"$f":"IF('Step 2) Calculate'!E2795<>\"\",'Step 2) Calculate'!G2795,\"\")","v":""},{"$f":"IF(L2791<>\"\",'Step 2) Calculate'!F2795,\"\")","v":""},{"$f":"IF(L2791<>\"\",'Step 2) Calculate'!H2795,\"\")","v":""},{"$f":"IF(L2791<>\"\",'Step 2) Calculate'!C2795,\"\")","v":""}]
[null,null,null,null,null,null,null,null,null,null,{"$f":"IF(L2792<>\"\",'Step 2) Calculate'!B2796,\"Zzzzz - delete row\")","v":"Zzzzz - delete row"},{"$f":"IF('Step 2) Calculate'!E2796<>\"\",'Step 2) Calculate'!G2796,\"\")","v":""},{"$f":"IF(L2792<>\"\",'Step 2) Calculate'!F2796,\"\")","v":""},{"$f":"IF(L2792<>\"\",'Step 2) Calculate'!H2796,\"\")","v":""},{"$f":"IF(L2792<>\"\",'Step 2) Calculate'!C2796,\"\")","v":""}]
[null,null,null,null,null,null,null,null,null,null,{"$f":"IF(L2793<>\"\",'Step 2) Calculate'!B2797,\"Zzzzz - delete row\")","v":"Zzzzz - delete row"},{"$f":"IF('Step 2) Calculate'!E2797<>\"\",'Step 2) Calculate'!G2797,\"\")","v":""},{"$f":"IF(L2793<>\"\",'Step 2) Calculate'!F2797,\"\")","v":""},{"$f":"IF(L2793<>\"\",'Step 2) Calculate'!H2797,\"\")","v":""},{"$f":"IF(L2793<>\"\",'Step 2) Calculate'!C2797,\"\")","v":""}]
[null,null,null,null,null,null,null,null,null,null,{"$f":"IF(L2794<>\"\",'Step 2) Calculate'!B2798,\"Zzzzz - delete row\")","v":"Zzzzz - delete row"},{"$f":"IF('Step 2) Calculate'!E2798<>\"\",'Step 2) Calculate'!G2798,\"\")","v":""},{"$f":"IF(L2794<>\"\",'Step 2) Calculate'!F2798,\"\")","v":""},{"$f":"IF(L2794<>\"\",'Step 2) Calculate'!H2798,\"\")","v":""},{"$f":"IF(L2794<>\"\",'Step 2) Calculate'!C2798,\"\")","v":""}]
[null,null,null,null,null,null,null,null,null,null,{"$f":"IF(L2795<>\"\",'Step 2) Calculate'!B2799,\"Zzzzz - delete row\")","v":"Zzzzz - delete row"},{"$f":"IF('Step 2) Calculate'!E2799<>\"\",'Step 2) Calculate'!G2799,\"\")","v":""},{"$f":"IF(L2795<>\"\",'Step 2) Calculate'!F2799,\"\")","v":""},{"$f":"IF(L2795<>\"\",'Step 2) Calculate'!H2799,\"\")","v":""},{"$f":"IF(L2795<>\"\",'Step 2) Calculate'!C2799,\"\")","v":""}]
[null,null,null,null,null,null,null,null,null,null,{"$f":"IF(L2796<>\"\",'Step 2) Calculate'!B2800,\"Zzzzz - delete row\")","v":"Zzzzz - delete row"},{"$f":"IF('Step 2) Calculate'!E2800<>\"\",'Step 2) Calculate'!G2800,\"\")","v":""},{"$f":"IF(L2796<>\"\",'Step 2) Calculate'!F2800,\"\")","v":""},{"$f":"IF(L2796<>\"\",'Step 2) Calculate'!H2800,\"\")","v":""},{"$f":"IF(L2796<>\"\",'Step 2) Calculate'!C2800,\"\")","v":""}]
[null,null,null,null,null,null,null,null,null,null,{"$f":"IF(L2797<>\"\",'Step 2) Calculate'!B2801,\"Zzzzz - delete row\")","v":"Zzzzz - delete row"},{"$f":"IF('Step 2) Calculate'!E2801<>\"\",'Step 2) Calculate'!G2801,\"\")","v":""},{"$f":"IF(L2797<>\"\",'Step 2) Calculate'!F2801,\"\")","v":""},{"$f":"IF(L2797<>\"\",'Step 2) Calculate'!H2801,\"\")","v":""},{"$f":"IF(L2797<>\"\",'Step 2) Calculate'!C2801,\"\")","v":""}]
[null,null,null,null,null,null,null,null,null,null,{"$f":"IF(L2798<>\"\",'Step 2) Calculate'!B2802,\"Zzzzz - delete row\")","v":"Zzzzz - delete row"},{"$f":"IF('Step 2) Calculate'!E2802<>\"\",'Step 2) Calculate'!G2802,\"\")","v":""},{"$f":"IF(L2798<>\"\",'Step 2) Calculate'!F2802,\"\")","v":""},{"$f":"IF(L2798<>\"\",'Step 2) Calculate'!H2802,\"\")","v":""},{"$f":"IF(L2798<>\"\",'Step 2) Calculate'!C2802,\"\")","v":""}]
[null,null,null,null,null,null,null,null,null,null,{"$f":"IF(L2799<>\"\",'Step 2) Calculate'!B2803,\"Zzzzz - delete row\")","v":"Zzzzz - delete row"},{"$f":"IF('Step 2) Calculate'!E2803<>\"\",'Step 2) Calculate'!G2803,\"\")","v":""},{"$f":"IF(L2799<>\"\",'Step 2) Calculate'!F2803,\"\")","v":""},{"$f":"IF(L2799<>\"\",'Step 2) Calculate'!H2803,\"\")","v":""},{"$f":"IF(L2799<>\"\",'Step 2) Calculate'!C2803,\"\")","v":""}]
[null,null,null,null,null,null,null,null,null,null,{"$f":"IF(L2800<>\"\",'Step 2) Calculate'!B2804,\"Zzzzz - delete row\")","v":"Zzzzz - delete row"},{"$f":"IF('Step 2) Calculate'!E2804<>\"\",'Step 2) Calculate'!G2804,\"\")","v":""},{"$f":"IF(L2800<>\"\",'Step 2) Calculate'!F2804,\"\")","v":""},{"$f":"IF(L2800<>\"\",'Step 2) Calculate'!H2804,\"\")","v":""},{"$f":"IF(L2800<>\"\",'Step 2) Calculate'!C2804,\"\")","v":""}]
[null,null,null,null,null,null,null,null,null,null,{"$f":"IF(L2801<>\"\",'Step 2) Calculate'!B2805,\"Zzzzz - delete row\")","v":"Zzzzz - delete row"},{"$f":"IF('Step 2) Calculate'!E2805<>\"\",'Step 2) Calculate'!G2805,\"\")","v":""},{"$f":"IF(L2801<>\"\",'Step 2) Calculate'!F2805,\"\")","v":""},{"$f":"IF(L2801<>\"\",'Step 2) Calculate'!H2805,\"\")","v":""},{"$f":"IF(L2801<>\"\",'Step 2) Calculate'!C2805,\"\")","v":""}]
[null,null,null,null,null,null,null,null,null,null,{"$f":"IF(L2802<>\"\",'Step 2) Calculate'!B2806,\"Zzzzz - delete row\")","v":"Zzzzz - delete row"},{"$f":"IF('Step 2) Calculate'!E2806<>\"\",'Step 2) Calculate'!G2806,\"\")","v":""},{"$f":"IF(L2802<>\"\",'Step 2) Calculate'!F2806,\"\")","v":""},{"$f":"IF(L2802<>\"\",'Step 2) Calculate'!H2806,\"\")","v":""},{"$f":"IF(L2802<>\"\",'Step 2) Calculate'!C2806,\"\")","v":""}]
[null,null,null,null,null,null,null,null,null,null,{"$f":"IF(L2803<>\"\",'Step 2) Calculate'!B2807,\"Zzzzz - delete row\")","v":"Zzzzz - delete row"},{"$f":"IF('Step 2) Calculate'!E2807<>\"\",'Step 2) Calculate'!G2807,\"\")","v":""},{"$f":"IF(L2803<>\"\",'Step 2) Calculate'!F2807,\"\")","v":""},{"$f":"IF(L2803<>\"\",'Step 2) Calculate'!H2807,\"\")","v":""},{"$f":"IF(L2803<>\"\",'Step 2) Calculate'!C2807,\"\")","v":""}]
[null,null,null,null,null,null,null,null,null,null,{"$f":"IF(L2804<>\"\",'Step 2) Calculate'!B2808,\"Zzzzz - delete row\")","v":"Zzzzz - delete row"},{"$f":"IF('Step 2) Calculate'!E2808<>\"\",'Step 2) Calculate'!G2808,\"\")","v":""},{"$f":"IF(L2804<>\"\",'Step 2) Calculate'!F2808,\"\")","v":""},{"$f":"IF(L2804<>\"\",'Step 2) Calculate'!H2808,\"\")","v":""},{"$f":"IF(L2804<>\"\",'Step 2) Calculate'!C2808,\"\")","v":""}]
[null,null,null,null,null,null,null,null,null,null,{"$f":"IF(L2805<>\"\",'Step 2) Calculate'!B2809,\"Zzzzz - delete row\")","v":"Zzzzz - delete row"},{"$f":"IF('Step 2) Calculate'!E2809<>\"\",'Step 2) Calculate'!G2809,\"\")","v":""},{"$f":"IF(L2805<>\"\",'Step 2) Calculate'!F2809,\"\")","v":""},{"$f":"IF(L2805<>\"\",'Step 2) Calculate'!H2809,\"\")","v":""},{"$f":"IF(L2805<>\"\",'Step 2) Calculate'!C2809,\"\")","v":""}]
[null,null,null,null,null,null,null,null,null,null,{"$f":"IF(L2806<>\"\",'Step 2) Calculate'!B2810,\"Zzzzz - delete row\")","v":"Zzzzz - delete row"},{"$f":"IF('Step 2) Calculate'!E2810<>\"\",'Step 2) Calculate'!G2810,\"\")","v":""},{"$f":"IF(L2806<>\"\",'Step 2) Calculate'!F2810,\"\")","v":""},{"$f":"IF(L2806<>\"\",'Step 2) Calculate'!H2810,\"\")","v":""},{"$f":"IF(L2806<>\"\",'Step 2) Calculate'!C2810,\"\")","v":""}]
[null,null,null,null,null,null,null,null,null,null,{"$f":"IF(L2807<>\"\",'Step 2) Calculate'!B2811,\"Zzzzz - delete row\")","v":"Zzzzz - delete row"},{"$f":"IF('Step 2) Calculate'!E2811<>\"\",'Step 2) Calculate'!G2811,\"\")","v":""},{"$f":"IF(L2807<>\"\",'Step 2) Calculate'!F2811,\"\")","v":""},{"$f":"IF(L2807<>\"\",'Step 2) Calculate'!H2811,\"\")","v":""},{"$f":"IF(L2807<>\"\",'Step 2) Calculate'!C2811,\"\")","v":""}]
[null,null,null,null,null,null,null,null,null,null,{"$f":"IF(L2808<>\"\",'Step 2) Calculate'!B2812,\"Zzzzz - delete row\")","v":"Zzzzz - delete row"},{"$f":"IF('Step 2) Calculate'!E2812<>\"\",'Step 2) Calculate'!G2812,\"\")","v":""},{"$f":"IF(L2808<>\"\",'Step 2) Calculate'!F2812,\"\")","v":""},{"$f":"IF(L2808<>\"\",'Step 2) Calculate'!H2812,\"\")","v":""},{"$f":"IF(L2808<>\"\",'Step 2) Calculate'!C2812,\"\")","v":""}]
[null,null,null,null,null,null,null,null,null,null,{"$f":"IF(L2809<>\"\",'Step 2) Calculate'!B2813,\"Zzzzz - delete row\")","v":"Zzzzz - delete row"},{"$f":"IF('Step 2) Calculate'!E2813<>\"\",'Step 2) Calculate'!G2813,\"\")","v":""},{"$f":"IF(L2809<>\"\",'Step 2) Calculate'!F2813,\"\")","v":""},{"$f":"IF(L2809<>\"\",'Step 2) Calculate'!H2813,\"\")","v":""},{"$f":"IF(L2809<>\"\",'Step 2) Calculate'!C2813,\"\")","v":""}]
[null,null,null,null,null,null,null,null,null,null,{"$f":"IF(L2810<>\"\",'Step 2) Calculate'!B2814,\"Zzzzz - delete row\")","v":"Zzzzz - delete row"},{"$f":"IF('Step 2) Calculate'!E2814<>\"\",'Step 2) Calculate'!G2814,\"\")","v":""},{"$f":"IF(L2810<>\"\",'Step 2) Calculate'!F2814,\"\")","v":""},{"$f":"IF(L2810<>\"\",'Step 2) Calculate'!H2814,\"\")","v":""},{"$f":"IF(L2810<>\"\",'Step 2) Calculate'!C2814,\"\")","v":""}]
[null,null,null,null,null,null,null,null,null,null,{"$f":"IF(L2811<>\"\",'Step 2) Calculate'!B2815,\"Zzzzz - delete row\")","v":"Zzzzz - delete row"},{"$f":"IF('Step 2) Calculate'!E2815<>\"\",'Step 2) Calculate'!G2815,\"\")","v":""},{"$f":"IF(L2811<>\"\",'Step 2) Calculate'!F2815,\"\")","v":""},{"$f":"IF(L2811<>\"\",'Step 2) Calculate'!H2815,\"\")","v":""},{"$f":"IF(L2811<>\"\",'Step 2) Calculate'!C2815,\"\")","v":""}]
[null,null,null,null,null,null,null,null,null,null,{"$f":"IF(L2812<>\"\",'Step 2) Calculate'!B2816,\"Zzzzz - delete row\")","v":"Zzzzz - delete row"},{"$f":"IF('Step 2) Calculate'!E2816<>\"\",'Step 2) Calculate'!G2816,\"\")","v":""},{"$f":"IF(L2812<>\"\",'Step 2) Calculate'!F2816,\"\")","v":""},{"$f":"IF(L2812<>\"\",'Step 2) Calculate'!H2816,\"\")","v":""},{"$f":"IF(L2812<>\"\",'Step 2) Calculate'!C2816,\"\")","v":""}]
[null,null,null,null,null,null,null,null,null,null,{"$f":"IF(L2813<>\"\",'Step 2) Calculate'!B2817,\"Zzzzz - delete row\")","v":"Zzzzz - delete row"},{"$f":"IF('Step 2) Calculate'!E2817<>\"\",'Step 2) Calculate'!G2817,\"\")","v":""},{"$f":"IF(L2813<>\"\",'Step 2) Calculate'!F2817,\"\")","v":""},{"$f":"IF(L2813<>\"\",'Step 2) Calculate'!H2817,\"\")","v":""},{"$f":"IF(L2813<>\"\",'Step 2) Calculate'!C2817,\"\")","v":""}]
[null,null,null,null,null,null,null,null,null,null,{"$f":"IF(L2814<>\"\",'Step 2) Calculate'!B2818,\"Zzzzz - delete row\")","v":"Zzzzz - delete row"},{"$f":"IF('Step 2) Calculate'!E2818<>\"\",'Step 2) Calculate'!G2818,\"\")","v":""},{"$f":"IF(L2814<>\"\",'Step 2) Calculate'!F2818,\"\")","v":""},{"$f":"IF(L2814<>\"\",'Step 2) Calculate'!H2818,\"\")","v":""},{"$f":"IF(L2814<>\"\",'Step 2) Calculate'!C2818,\"\")","v":""}]
[null,null,null,null,null,null,null,null,null,null,{"$f":"IF(L2815<>\"\",'Step 2) Calculate'!B2819,\"Zzzzz - delete row\")","v":"Zzzzz - delete row"},{"$f":"IF('Step 2) Calculate'!E2819<>\"\",'Step 2) Calculate'!G2819,\"\")","v":""},{"$f":"IF(L2815<>\"\",'Step 2) Calculate'!F2819,\"\")","v":""},{"$f":"IF(L2815<>\"\",'Step 2) Calculate'!H2819,\"\")","v":""},{"$f":"IF(L2815<>\"\",'Step 2) Calculate'!C2819,\"\")","v":""}]
[null,null,null,null,null,null,null,null,null,null,{"$f":"IF(L2816<>\"\",'Step 2) Calculate'!B2820,\"Zzzzz - delete row\")","v":"Zzzzz - delete row"},{"$f":"IF('Step 2) Calculate'!E2820<>\"\",'Step 2) Calculate'!G2820,\"\")","v":""},{"$f":"IF(L2816<>\"\",'Step 2) Calculate'!F2820,\"\")","v":""},{"$f":"IF(L2816<>\"\",'Step 2) Calculate'!H2820,\"\")","v":""},{"$f":"IF(L2816<>\"\",'Step 2) Calculate'!C2820,\"\")","v":""}]
[null,null,null,null,null,null,null,null,null,null,{"$f":"IF(L2817<>\"\",'Step 2) Calculate'!B2821,\"Zzzzz - delete row\")","v":"Zzzzz - delete row"},{"$f":"IF('Step 2) Calculate'!E2821<>\"\",'Step 2) Calculate'!G2821,\"\")","v":""},{"$f":"IF(L2817<>\"\",'Step 2) Calculate'!F2821,\"\")","v":""},{"$f":"IF(L2817<>\"\",'Step 2) Calculate'!H2821,\"\")","v":""},{"$f":"IF(L2817<>\"\",'Step 2) Calculate'!C2821,\"\")","v":""}]
[null,null,null,null,null,null,null,null,null,null,{"$f":"IF(L2818<>\"\",'Step 2) Calculate'!B2822,\"Zzzzz - delete row\")","v":"Zzzzz - delete row"},{"$f":"IF('Step 2) Calculate'!E2822<>\"\",'Step 2) Calculate'!G2822,\"\")","v":""},{"$f":"IF(L2818<>\"\",'Step 2) Calculate'!F2822,\"\")","v":""},{"$f":"IF(L2818<>\"\",'Step 2) Calculate'!H2822,\"\")","v":""},{"$f":"IF(L2818<>\"\",'Step 2) Calculate'!C2822,\"\")","v":""}]
[null,null,null,null,null,null,null,null,null,null,{"$f":"IF(L2819<>\"\",'Step 2) Calculate'!B2823,\"Zzzzz - delete row\")","v":"Zzzzz - delete row"},{"$f":"IF('Step 2) Calculate'!E2823<>\"\",'Step 2) Calculate'!G2823,\"\")","v":""},{"$f":"IF(L2819<>\"\",'Step 2) Calculate'!F2823,\"\")","v":""},{"$f":"IF(L2819<>\"\",'Step 2) Calculate'!H2823,\"\")","v":""},{"$f":"IF(L2819<>\"\",'Step 2) Calculate'!C2823,\"\")","v":""}]
[null,null,null,null,null,null,null,null,null,null,{"$f":"IF(L2820<>\"\",'Step 2) Calculate'!B2824,\"Zzzzz - delete row\")","v":"Zzzzz - delete row"},{"$f":"IF('Step 2) Calculate'!E2824<>\"\",'Step 2) Calculate'!G2824,\"\")","v":""},{"$f":"IF(L2820<>\"\",'Step 2) Calculate'!F2824,\"\")","v":""},{"$f":"IF(L2820<>\"\",'Step 2) Calculate'!H2824,\"\")","v":""},{"$f":"IF(L2820<>\"\",'Step 2) Calculate'!C2824,\"\")","v":""}]
[null,null,null,null,null,null,null,null,null,null,{"$f":"IF(L2821<>\"\",'Step 2) Calculate'!B2825,\"Zzzzz - delete row\")","v":"Zzzzz - delete row"},{"$f":"IF('Step 2) Calculate'!E2825<>\"\",'Step 2) Calculate'!G2825,\"\")","v":""},{"$f":"IF(L2821<>\"\",'Step 2) Calculate'!F2825,\"\")","v":""},{"$f":"IF(L2821<>\"\",'Step 2) Calculate'!H2825,\"\")","v":""},{"$f":"IF(L2821<>\"\",'Step 2) Calculate'!C2825,\"\")","v":""}]
[null,null,null,null,null,null,null,null,null,null,{"$f":"IF(L2822<>\"\",'Step 2) Calculate'!B2826,\"Zzzzz - delete row\")","v":"Zzzzz - delete row"},{"$f":"IF('Step 2) Calculate'!E2826<>\"\",'Step 2) Calculate'!G2826,\"\")","v":""},{"$f":"IF(L2822<>\"\",'Step 2) Calculate'!F2826,\"\")","v":""},{"$f":"IF(L2822<>\"\",'Step 2) Calculate'!H2826,\"\")","v":""},{"$f":"IF(L2822<>\"\",'Step 2) Calculate'!C2826,\"\")","v":""}]
[null,null,null,null,null,null,null,null,null,null,{"$f":"IF(L2823<>\"\",'Step 2) Calculate'!B2827,\"Zzzzz - delete row\")","v":"Zzzzz - delete row"},{"$f":"IF('Step 2) Calculate'!E2827<>\"\",'Step 2) Calculate'!G2827,\"\")","v":""},{"$f":"IF(L2823<>\"\",'Step 2) Calculate'!F2827,\"\")","v":""},{"$f":"IF(L2823<>\"\",'Step 2) Calculate'!H2827,\"\")","v":""},{"$f":"IF(L2823<>\"\",'Step 2) Calculate'!C2827,\"\")","v":""}]
[null,null,null,null,null,null,null,null,null,null,{"$f":"IF(L2824<>\"\",'Step 2) Calculate'!B2828,\"Zzzzz - delete row\")","v":"Zzzzz - delete row"},{"$f":"IF('Step 2) Calculate'!E2828<>\"\",'Step 2) Calculate'!G2828,\"\")","v":""},{"$f":"IF(L2824<>\"\",'Step 2) Calculate'!F2828,\"\")","v":""},{"$f":"IF(L2824<>\"\",'Step 2) Calculate'!H2828,\"\")","v":""},{"$f":"IF(L2824<>\"\",'Step 2) Calculate'!C2828,\"\")","v":""}]
[null,null,null,null,null,null,null,null,null,null,{"$f":"IF(L2825<>\"\",'Step 2) Calculate'!B2829,\"Zzzzz - delete row\")","v":"Zzzzz - delete row"},{"$f":"IF('Step 2) Calculate'!E2829<>\"\",'Step 2) Calculate'!G2829,\"\")","v":""},{"$f":"IF(L2825<>\"\",'Step 2) Calculate'!F2829,\"\")","v":""},{"$f":"IF(L2825<>\"\",'Step 2) Calculate'!H2829,\"\")","v":""},{"$f":"IF(L2825<>\"\",'Step 2) Calculate'!C2829,\"\")","v":""}]
[null,null,null,null,null,null,null,null,null,null,{"$f":"IF(L2826<>\"\",'Step 2) Calculate'!B2830,\"Zzzzz - delete row\")","v":"Zzzzz - delete row"},{"$f":"IF('Step 2) Calculate'!E2830<>\"\",'Step 2) Calculate'!G2830,\"\")","v":""},{"$f":"IF(L2826<>\"\",'Step 2) Calculate'!F2830,\"\")","v":""},{"$f":"IF(L2826<>\"\",'Step 2) Calculate'!H2830,\"\")","v":""},{"$f":"IF(L2826<>\"\",'Step 2) Calculate'!C2830,\"\")","v":""}]
[null,null,null,null,null,null,null,null,null,null,{"$f":"IF(L2827<>\"\",'Step 2) Calculate'!B2831,\"Zzzzz - delete row\")","v":"Zzzzz - delete row"},{"$f":"IF('Step 2) Calculate'!E2831<>\"\",'Step 2) Calculate'!G2831,\"\")","v":""},{"$f":"IF(L2827<>\"\",'Step 2) Calculate'!F2831,\"\")","v":""},{"$f":"IF(L2827<>\"\",'Step 2) Calculate'!H2831,\"\")","v":""},{"$f":"IF(L2827<>\"\",'Step 2) Calculate'!C2831,\"\")","v":""}]
[null,null,null,null,null,null,null,null,null,null,{"$f":"IF(L2828<>\"\",'Step 2) Calculate'!B2832,\"Zzzzz - delete row\")","v":"Zzzzz - delete row"},{"$f":"IF('Step 2) Calculate'!E2832<>\"\",'Step 2) Calculate'!G2832,\"\")","v":""},{"$f":"IF(L2828<>\"\",'Step 2) Calculate'!F2832,\"\")","v":""},{"$f":"IF(L2828<>\"\",'Step 2) Calculate'!H2832,\"\")","v":""},{"$f":"IF(L2828<>\"\",'Step 2) Calculate'!C2832,\"\")","v":""}]
[null,null,null,null,null,null,null,null,null,null,{"$f":"IF(L2829<>\"\",'Step 2) Calculate'!B2833,\"Zzzzz - delete row\")","v":"Zzzzz - delete row"},{"$f":"IF('Step 2) Calculate'!E2833<>\"\",'Step 2) Calculate'!G2833,\"\")","v":""},{"$f":"IF(L2829<>\"\",'Step 2) Calculate'!F2833,\"\")","v":""},{"$f":"IF(L2829<>\"\",'Step 2) Calculate'!H2833,\"\")","v":""},{"$f":"IF(L2829<>\"\",'Step 2) Calculate'!C2833,\"\")","v":""}]
[null,null,null,null,null,null,null,null,null,null,{"$f":"IF(L2830<>\"\",'Step 2) Calculate'!B2834,\"Zzzzz - delete row\")","v":"Zzzzz - delete row"},{"$f":"IF('Step 2) Calculate'!E2834<>\"\",'Step 2) Calculate'!G2834,\"\")","v":""},{"$f":"IF(L2830<>\"\",'Step 2) Calculate'!F2834,\"\")","v":""},{"$f":"IF(L2830<>\"\",'Step 2) Calculate'!H2834,\"\")","v":""},{"$f":"IF(L2830<>\"\",'Step 2) Calculate'!C2834,\"\")","v":""}]
[null,null,null,null,null,null,null,null,null,null,{"$f":"IF(L2831<>\"\",'Step 2) Calculate'!B2835,\"Zzzzz - delete row\")","v":"Zzzzz - delete row"},{"$f":"IF('Step 2) Calculate'!E2835<>\"\",'Step 2) Calculate'!G2835,\"\")","v":""},{"$f":"IF(L2831<>\"\",'Step 2) Calculate'!F2835,\"\")","v":""},{"$f":"IF(L2831<>\"\",'Step 2) Calculate'!H2835,\"\")","v":""},{"$f":"IF(L2831<>\"\",'Step 2) Calculate'!C2835,\"\")","v":""}]
[null,null,null,null,null,null,null,null,null,null,{"$f":"IF(L2832<>\"\",'Step 2) Calculate'!B2836,\"Zzzzz - delete row\")","v":"Zzzzz - delete row"},{"$f":"IF('Step 2) Calculate'!E2836<>\"\",'Step 2) Calculate'!G2836,\"\")","v":""},{"$f":"IF(L2832<>\"\",'Step 2) Calculate'!F2836,\"\")","v":""},{"$f":"IF(L2832<>\"\",'Step 2) Calculate'!H2836,\"\")","v":""},{"$f":"IF(L2832<>\"\",'Step 2) Calculate'!C2836,\"\")","v":""}]
[null,null,null,null,null,null,null,null,null,null,{"$f":"IF(L2833<>\"\",'Step 2) Calculate'!B2837,\"Zzzzz - delete row\")","v":"Zzzzz - delete row"},{"$f":"IF('Step 2) Calculate'!E2837<>\"\",'Step 2) Calculate'!G2837,\"\")","v":""},{"$f":"IF(L2833<>\"\",'Step 2) Calculate'!F2837,\"\")","v":""},{"$f":"IF(L2833<>\"\",'Step 2) Calculate'!H2837,\"\")","v":""},{"$f":"IF(L2833<>\"\",'Step 2) Calculate'!C2837,\"\")","v":""}]
[null,null,null,null,null,null,null,null,null,null,{"$f":"IF(L2834<>\"\",'Step 2) Calculate'!B2838,\"Zzzzz - delete row\")","v":"Zzzzz - delete row"},{"$f":"IF('Step 2) Calculate'!E2838<>\"\",'Step 2) Calculate'!G2838,\"\")","v":""},{"$f":"IF(L2834<>\"\",'Step 2) Calculate'!F2838,\"\")","v":""},{"$f":"IF(L2834<>\"\",'Step 2) Calculate'!H2838,\"\")","v":""},{"$f":"IF(L2834<>\"\",'Step 2) Calculate'!C2838,\"\")","v":""}]
[null,null,null,null,null,null,null,null,null,null,{"$f":"IF(L2835<>\"\",'Step 2) Calculate'!B2839,\"Zzzzz - delete row\")","v":"Zzzzz - delete row"},{"$f":"IF('Step 2) Calculate'!E2839<>\"\",'Step 2) Calculate'!G2839,\"\")","v":""},{"$f":"IF(L2835<>\"\",'Step 2) Calculate'!F2839,\"\")","v":""},{"$f":"IF(L2835<>\"\",'Step 2) Calculate'!H2839,\"\")","v":""},{"$f":"IF(L2835<>\"\",'Step 2) Calculate'!C2839,\"\")","v":""}]
[null,null,null,null,null,null,null,null,null,null,{"$f":"IF(L2836<>\"\",'Step 2) Calculate'!B2840,\"Zzzzz - delete row\")","v":"Zzzzz - delete row"},{"$f":"IF('Step 2) Calculate'!E2840<>\"\",'Step 2) Calculate'!G2840,\"\")","v":""},{"$f":"IF(L2836<>\"\",'Step 2) Calculate'!F2840,\"\")","v":""},{"$f":"IF(L2836<>\"\",'Step 2) Calculate'!H2840,\"\")","v":""},{"$f":"IF(L2836<>\"\",'Step 2) Calculate'!C2840,\"\")","v":""}]
[null,null,null,null,null,null,null,null,null,null,{"$f":"IF(L2837<>\"\",'Step 2) Calculate'!B2841,\"Zzzzz - delete row\")","v":"Zzzzz - delete row"},{"$f":"IF('Step 2) Calculate'!E2841<>\"\",'Step 2) Calculate'!G2841,\"\")","v":""},{"$f":"IF(L2837<>\"\",'Step 2) Calculate'!F2841,\"\")","v":""},{"$f":"IF(L2837<>\"\",'Step 2) Calculate'!H2841,\"\")","v":""},{"$f":"IF(L2837<>\"\",'Step 2) Calculate'!C2841,\"\")","v":""}]
[null,null,null,null,null,null,null,null,null,null,{"$f":"IF(L2838<>\"\",'Step 2) Calculate'!B2842,\"Zzzzz - delete row\")","v":"Zzzzz - delete row"},{"$f":"IF('Step 2) Calculate'!E2842<>\"\",'Step 2) Calculate'!G2842,\"\")","v":""},{"$f":"IF(L2838<>\"\",'Step 2) Calculate'!F2842,\"\")","v":""},{"$f":"IF(L2838<>\"\",'Step 2) Calculate'!H2842,\"\")","v":""},{"$f":"IF(L2838<>\"\",'Step 2) Calculate'!C2842,\"\")","v":""}]
[null,null,null,null,null,null,null,null,null,null,{"$f":"IF(L2839<>\"\",'Step 2) Calculate'!B2843,\"Zzzzz - delete row\")","v":"Zzzzz - delete row"},{"$f":"IF('Step 2) Calculate'!E2843<>\"\",'Step 2) Calculate'!G2843,\"\")","v":""},{"$f":"IF(L2839<>\"\",'Step 2) Calculate'!F2843,\"\")","v":""},{"$f":"IF(L2839<>\"\",'Step 2) Calculate'!H2843,\"\")","v":""},{"$f":"IF(L2839<>\"\",'Step 2) Calculate'!C2843,\"\")","v":""}]
[null,null,null,null,null,null,null,null,null,null,{"$f":"IF(L2840<>\"\",'Step 2) Calculate'!B2844,\"Zzzzz - delete row\")","v":"Zzzzz - delete row"},{"$f":"IF('Step 2) Calculate'!E2844<>\"\",'Step 2) Calculate'!G2844,\"\")","v":""},{"$f":"IF(L2840<>\"\",'Step 2) Calculate'!F2844,\"\")","v":""},{"$f":"IF(L2840<>\"\",'Step 2) Calculate'!H2844,\"\")","v":""},{"$f":"IF(L2840<>\"\",'Step 2) Calculate'!C2844,\"\")","v":""}]
[null,null,null,null,null,null,null,null,null,null,{"$f":"IF(L2841<>\"\",'Step 2) Calculate'!B2845,\"Zzzzz - delete row\")","v":"Zzzzz - delete row"},{"$f":"IF('Step 2) Calculate'!E2845<>\"\",'Step 2) Calculate'!G2845,\"\")","v":""},{"$f":"IF(L2841<>\"\",'Step 2) Calculate'!F2845,\"\")","v":""},{"$f":"IF(L2841<>\"\",'Step 2) Calculate'!H2845,\"\")","v":""},{"$f":"IF(L2841<>\"\",'Step 2) Calculate'!C2845,\"\")","v":""}]
[null,null,null,null,null,null,null,null,null,null,{"$f":"IF(L2842<>\"\",'Step 2) Calculate'!B2846,\"Zzzzz - delete row\")","v":"Zzzzz - delete row"},{"$f":"IF('Step 2) Calculate'!E2846<>\"\",'Step 2) Calculate'!G2846,\"\")","v":""},{"$f":"IF(L2842<>\"\",'Step 2) Calculate'!F2846,\"\")","v":""},{"$f":"IF(L2842<>\"\",'Step 2) Calculate'!H2846,\"\")","v":""},{"$f":"IF(L2842<>\"\",'Step 2) Calculate'!C2846,\"\")","v":""}]
[null,null,null,null,null,null,null,null,null,null,{"$f":"IF(L2843<>\"\",'Step 2) Calculate'!B2847,\"Zzzzz - delete row\")","v":"Zzzzz - delete row"},{"$f":"IF('Step 2) Calculate'!E2847<>\"\",'Step 2) Calculate'!G2847,\"\")","v":""},{"$f":"IF(L2843<>\"\",'Step 2) Calculate'!F2847,\"\")","v":""},{"$f":"IF(L2843<>\"\",'Step 2) Calculate'!H2847,\"\")","v":""},{"$f":"IF(L2843<>\"\",'Step 2) Calculate'!C2847,\"\")","v":""}]
[null,null,null,null,null,null,null,null,null,null,{"$f":"IF(L2844<>\"\",'Step 2) Calculate'!B2848,\"Zzzzz - delete row\")","v":"Zzzzz - delete row"},{"$f":"IF('Step 2) Calculate'!E2848<>\"\",'Step 2) Calculate'!G2848,\"\")","v":""},{"$f":"IF(L2844<>\"\",'Step 2) Calculate'!F2848,\"\")","v":""},{"$f":"IF(L2844<>\"\",'Step 2) Calculate'!H2848,\"\")","v":""},{"$f":"IF(L2844<>\"\",'Step 2) Calculate'!C2848,\"\")","v":""}]
[null,null,null,null,null,null,null,null,null,null,{"$f":"IF(L2845<>\"\",'Step 2) Calculate'!B2849,\"Zzzzz - delete row\")","v":"Zzzzz - delete row"},{"$f":"IF('Step 2) Calculate'!E2849<>\"\",'Step 2) Calculate'!G2849,\"\")","v":""},{"$f":"IF(L2845<>\"\",'Step 2) Calculate'!F2849,\"\")","v":""},{"$f":"IF(L2845<>\"\",'Step 2) Calculate'!H2849,\"\")","v":""},{"$f":"IF(L2845<>\"\",'Step 2) Calculate'!C2849,\"\")","v":""}]
[null,null,null,null,null,null,null,null,null,null,{"$f":"IF(L2846<>\"\",'Step 2) Calculate'!B2850,\"Zzzzz - delete row\")","v":"Zzzzz - delete row"},{"$f":"IF('Step 2) Calculate'!E2850<>\"\",'Step 2) Calculate'!G2850,\"\")","v":""},{"$f":"IF(L2846<>\"\",'Step 2) Calculate'!F2850,\"\")","v":""},{"$f":"IF(L2846<>\"\",'Step 2) Calculate'!H2850,\"\")","v":""},{"$f":"IF(L2846<>\"\",'Step 2) Calculate'!C2850,\"\")","v":""}]
[null,null,null,null,null,null,null,null,null,null,{"$f":"IF(L2847<>\"\",'Step 2) Calculate'!B2851,\"Zzzzz - delete row\")","v":"Zzzzz - delete row"},{"$f":"IF('Step 2) Calculate'!E2851<>\"\",'Step 2) Calculate'!G2851,\"\")","v":""},{"$f":"IF(L2847<>\"\",'Step 2) Calculate'!F2851,\"\")","v":""},{"$f":"IF(L2847<>\"\",'Step 2) Calculate'!H2851,\"\")","v":""},{"$f":"IF(L2847<>\"\",'Step 2) Calculate'!C2851,\"\")","v":""}]
[null,null,null,null,null,null,null,null,null,null,{"$f":"IF(L2848<>\"\",'Step 2) Calculate'!B2852,\"Zzzzz - delete row\")","v":"Zzzzz - delete row"},{"$f":"IF('Step 2) Calculate'!E2852<>\"\",'Step 2) Calculate'!G2852,\"\")","v":""},{"$f":"IF(L2848<>\"\",'Step 2) Calculate'!F2852,\"\")","v":""},{"$f":"IF(L2848<>\"\",'Step 2) Calculate'!H2852,\"\")","v":""},{"$f":"IF(L2848<>\"\",'Step 2) Calculate'!C2852,\"\")","v":""}]
[null,null,null,null,null,null,null,null,null,null,{"$f":"IF(L2849<>\"\",'Step 2) Calculate'!B2853,\"Zzzzz - delete row\")","v":"Zzzzz - delete row"},{"$f":"IF('Step 2) Calculate'!E2853<>\"\",'Step 2) Calculate'!G2853,\"\")","v":""},{"$f":"IF(L2849<>\"\",'Step 2) Calculate'!F2853,\"\")","v":""},{"$f":"IF(L2849<>\"\",'Step 2) Calculate'!H2853,\"\")","v":""},{"$f":"IF(L2849<>\"\",'Step 2) Calculate'!C2853,\"\")","v":""}]
[null,null,null,null,null,null,null,null,null,null,{"$f":"IF(L2850<>\"\",'Step 2) Calculate'!B2854,\"Zzzzz - delete row\")","v":"Zzzzz - delete row"},{"$f":"IF('Step 2) Calculate'!E2854<>\"\",'Step 2) Calculate'!G2854,\"\")","v":""},{"$f":"IF(L2850<>\"\",'Step 2) Calculate'!F2854,\"\")","v":""},{"$f":"IF(L2850<>\"\",'Step 2) Calculate'!H2854,\"\")","v":""},{"$f":"IF(L2850<>\"\",'Step 2) Calculate'!C2854,\"\")","v":""}]
[null,null,null,null,null,null,null,null,null,null,{"$f":"IF(L2851<>\"\",'Step 2) Calculate'!B2855,\"Zzzzz - delete row\")","v":"Zzzzz - delete row"},{"$f":"IF('Step 2) Calculate'!E2855<>\"\",'Step 2) Calculate'!G2855,\"\")","v":""},{"$f":"IF(L2851<>\"\",'Step 2) Calculate'!F2855,\"\")","v":""},{"$f":"IF(L2851<>\"\",'Step 2) Calculate'!H2855,\"\")","v":""},{"$f":"IF(L2851<>\"\",'Step 2) Calculate'!C2855,\"\")","v":""}]
[null,null,null,null,null,null,null,null,null,null,{"$f":"IF(L2852<>\"\",'Step 2) Calculate'!B2856,\"Zzzzz - delete row\")","v":"Zzzzz - delete row"},{"$f":"IF('Step 2) Calculate'!E2856<>\"\",'Step 2) Calculate'!G2856,\"\")","v":""},{"$f":"IF(L2852<>\"\",'Step 2) Calculate'!F2856,\"\")","v":""},{"$f":"IF(L2852<>\"\",'Step 2) Calculate'!H2856,\"\")","v":""},{"$f":"IF(L2852<>\"\",'Step 2) Calculate'!C2856,\"\")","v":""}]
[null,null,null,null,null,null,null,null,null,null,{"$f":"IF(L2853<>\"\",'Step 2) Calculate'!B2857,\"Zzzzz - delete row\")","v":"Zzzzz - delete row"},{"$f":"IF('Step 2) Calculate'!E2857<>\"\",'Step 2) Calculate'!G2857,\"\")","v":""},{"$f":"IF(L2853<>\"\",'Step 2) Calculate'!F2857,\"\")","v":""},{"$f":"IF(L2853<>\"\",'Step 2) Calculate'!H2857,\"\")","v":""},{"$f":"IF(L2853<>\"\",'Step 2) Calculate'!C2857,\"\")","v":""}]
[null,null,null,null,null,null,null,null,null,null,{"$f":"IF(L2854<>\"\",'Step 2) Calculate'!B2858,\"Zzzzz - delete row\")","v":"Zzzzz - delete row"},{"$f":"IF('Step 2) Calculate'!E2858<>\"\",'Step 2) Calculate'!G2858,\"\")","v":""},{"$f":"IF(L2854<>\"\",'Step 2) Calculate'!F2858,\"\")","v":""},{"$f":"IF(L2854<>\"\",'Step 2) Calculate'!H2858,\"\")","v":""},{"$f":"IF(L2854<>\"\",'Step 2) Calculate'!C2858,\"\")","v":""}]
[null,null,null,null,null,null,null,null,null,null,{"$f":"IF(L2855<>\"\",'Step 2) Calculate'!B2859,\"Zzzzz - delete row\")","v":"Zzzzz - delete row"},{"$f":"IF('Step 2) Calculate'!E2859<>\"\",'Step 2) Calculate'!G2859,\"\")","v":""},{"$f":"IF(L2855<>\"\",'Step 2) Calculate'!F2859,\"\")","v":""},{"$f":"IF(L2855<>\"\",'Step 2) Calculate'!H2859,\"\")","v":""},{"$f":"IF(L2855<>\"\",'Step 2) Calculate'!C2859,\"\")","v":""}]
[null,null,null,null,null,null,null,null,null,null,{"$f":"IF(L2856<>\"\",'Step 2) Calculate'!B2860,\"Zzzzz - delete row\")","v":"Zzzzz - delete row"},{"$f":"IF('Step 2) Calculate'!E2860<>\"\",'Step 2) Calculate'!G2860,\"\")","v":""},{"$f":"IF(L2856<>\"\",'Step 2) Calculate'!F2860,\"\")","v":""},{"$f":"IF(L2856<>\"\",'Step 2) Calculate'!H2860,\"\")","v":""},{"$f":"IF(L2856<>\"\",'Step 2) Calculate'!C2860,\"\")","v":""}]
[null,null,null,null,null,null,null,null,null,null,{"$f":"IF(L2857<>\"\",'Step 2) Calculate'!B2861,\"Zzzzz - delete row\")","v":"Zzzzz - delete row"},{"$f":"IF('Step 2) Calculate'!E2861<>\"\",'Step 2) Calculate'!G2861,\"\")","v":""},{"$f":"IF(L2857<>\"\",'Step 2) Calculate'!F2861,\"\")","v":""},{"$f":"IF(L2857<>\"\",'Step 2) Calculate'!H2861,\"\")","v":""},{"$f":"IF(L2857<>\"\",'Step 2) Calculate'!C2861,\"\")","v":""}]
[null,null,null,null,null,null,null,null,null,null,{"$f":"IF(L2858<>\"\",'Step 2) Calculate'!B2862,\"Zzzzz - delete row\")","v":"Zzzzz - delete row"},{"$f":"IF('Step 2) Calculate'!E2862<>\"\",'Step 2) Calculate'!G2862,\"\")","v":""},{"$f":"IF(L2858<>\"\",'Step 2) Calculate'!F2862,\"\")","v":""},{"$f":"IF(L2858<>\"\",'Step 2) Calculate'!H2862,\"\")","v":""},{"$f":"IF(L2858<>\"\",'Step 2) Calculate'!C2862,\"\")","v":""}]
[null,null,null,null,null,null,null,null,null,null,{"$f":"IF(L2859<>\"\",'Step 2) Calculate'!B2863,\"Zzzzz - delete row\")","v":"Zzzzz - delete row"},{"$f":"IF('Step 2) Calculate'!E2863<>\"\",'Step 2) Calculate'!G2863,\"\")","v":""},{"$f":"IF(L2859<>\"\",'Step 2) Calculate'!F2863,\"\")","v":""},{"$f":"IF(L2859<>\"\",'Step 2) Calculate'!H2863,\"\")","v":""},{"$f":"IF(L2859<>\"\",'Step 2) Calculate'!C2863,\"\")","v":""}]
[null,null,null,null,null,null,null,null,null,null,{"$f":"IF(L2860<>\"\",'Step 2) Calculate'!B2864,\"Zzzzz - delete row\")","v":"Zzzzz - delete row"},{"$f":"IF('Step 2) Calculate'!E2864<>\"\",'Step 2) Calculate'!G2864,\"\")","v":""},{"$f":"IF(L2860<>\"\",'Step 2) Calculate'!F2864,\"\")","v":""},{"$f":"IF(L2860<>\"\",'Step 2) Calculate'!H2864,\"\")","v":""},{"$f":"IF(L2860<>\"\",'Step 2) Calculate'!C2864,\"\")","v":""}]
[null,null,null,null,null,null,null,null,null,null,{"$f":"IF(L2861<>\"\",'Step 2) Calculate'!B2865,\"Zzzzz - delete row\")","v":"Zzzzz - delete row"},{"$f":"IF('Step 2) Calculate'!E2865<>\"\",'Step 2) Calculate'!G2865,\"\")","v":""},{"$f":"IF(L2861<>\"\",'Step 2) Calculate'!F2865,\"\")","v":""},{"$f":"IF(L2861<>\"\",'Step 2) Calculate'!H2865,\"\")","v":""},{"$f":"IF(L2861<>\"\",'Step 2) Calculate'!C2865,\"\")","v":""}]
[null,null,null,null,null,null,null,null,null,null,{"$f":"IF(L2862<>\"\",'Step 2) Calculate'!B2866,\"Zzzzz - delete row\")","v":"Zzzzz - delete row"},{"$f":"IF('Step 2) Calculate'!E2866<>\"\",'Step 2) Calculate'!G2866,\"\")","v":""},{"$f":"IF(L2862<>\"\",'Step 2) Calculate'!F2866,\"\")","v":""},{"$f":"IF(L2862<>\"\",'Step 2) Calculate'!H2866,\"\")","v":""},{"$f":"IF(L2862<>\"\",'Step 2) Calculate'!C2866,\"\")","v":""}]
[null,null,null,null,null,null,null,null,null,null,{"$f":"IF(L2863<>\"\",'Step 2) Calculate'!B2867,\"Zzzzz - delete row\")","v":"Zzzzz - delete row"},{"$f":"IF('Step 2) Calculate'!E2867<>\"\",'Step 2) Calculate'!G2867,\"\")","v":""},{"$f":"IF(L2863<>\"\",'Step 2) Calculate'!F2867,\"\")","v":""},{"$f":"IF(L2863<>\"\",'Step 2) Calculate'!H2867,\"\")","v":""},{"$f":"IF(L2863<>\"\",'Step 2) Calculate'!C2867,\"\")","v":""}]
[null,null,null,null,null,null,null,null,null,null,{"$f":"IF(L2864<>\"\",'Step 2) Calculate'!B2868,\"Zzzzz - delete row\")","v":"Zzzzz - delete row"},{"$f":"IF('Step 2) Calculate'!E2868<>\"\",'Step 2) Calculate'!G2868,\"\")","v":""},{"$f":"IF(L2864<>\"\",'Step 2) Calculate'!F2868,\"\")","v":""},{"$f":"IF(L2864<>\"\",'Step 2) Calculate'!H2868,\"\")","v":""},{"$f":"IF(L2864<>\"\",'Step 2) Calculate'!C2868,\"\")","v":""}]
[null,null,null,null,null,null,null,null,null,null,{"$f":"IF(L2865<>\"\",'Step 2) Calculate'!B2869,\"Zzzzz - delete row\")","v":"Zzzzz - delete row"},{"$f":"IF('Step 2) Calculate'!E2869<>\"\",'Step 2) Calculate'!G2869,\"\")","v":""},{"$f":"IF(L2865<>\"\",'Step 2) Calculate'!F2869,\"\")","v":""},{"$f":"IF(L2865<>\"\",'Step 2) Calculate'!H2869,\"\")","v":""},{"$f":"IF(L2865<>\"\",'Step 2) Calculate'!C2869,\"\")","v":""}]
[null,null,null,null,null,null,null,null,null,null,{"$f":"IF(L2866<>\"\",'Step 2) Calculate'!B2870,\"Zzzzz - delete row\")","v":"Zzzzz - delete row"},{"$f":"IF('Step 2) Calculate'!E2870<>\"\",'Step 2) Calculate'!G2870,\"\")","v":""},{"$f":"IF(L2866<>\"\",'Step 2) Calculate'!F2870,\"\")","v":""},{"$f":"IF(L2866<>\"\",'Step 2) Calculate'!H2870,\"\")","v":""},{"$f":"IF(L2866<>\"\",'Step 2) Calculate'!C2870,\"\")","v":""}]
[null,null,null,null,null,null,null,null,null,null,{"$f":"IF(L2867<>\"\",'Step 2) Calculate'!B2871,\"Zzzzz - delete row\")","v":"Zzzzz - delete row"},{"$f":"IF('Step 2) Calculate'!E2871<>\"\",'Step 2) Calculate'!G2871,\"\")","v":""},{"$f":"IF(L2867<>\"\",'Step 2) Calculate'!F2871,\"\")","v":""},{"$f":"IF(L2867<>\"\",'Step 2) Calculate'!H2871,\"\")","v":""},{"$f":"IF(L2867<>\"\",'Step 2) Calculate'!C2871,\"\")","v":""}]
[null,null,null,null,null,null,null,null,null,null,{"$f":"IF(L2868<>\"\",'Step 2) Calculate'!B2872,\"Zzzzz - delete row\")","v":"Zzzzz - delete row"},{"$f":"IF('Step 2) Calculate'!E2872<>\"\",'Step 2) Calculate'!G2872,\"\")","v":""},{"$f":"IF(L2868<>\"\",'Step 2) Calculate'!F2872,\"\")","v":""},{"$f":"IF(L2868<>\"\",'Step 2) Calculate'!H2872,\"\")","v":""},{"$f":"IF(L2868<>\"\",'Step 2) Calculate'!C2872,\"\")","v":""}]
[null,null,null,null,null,null,null,null,null,null,{"$f":"IF(L2869<>\"\",'Step 2) Calculate'!B2873,\"Zzzzz - delete row\")","v":"Zzzzz - delete row"},{"$f":"IF('Step 2) Calculate'!E2873<>\"\",'Step 2) Calculate'!G2873,\"\")","v":""},{"$f":"IF(L2869<>\"\",'Step 2) Calculate'!F2873,\"\")","v":""},{"$f":"IF(L2869<>\"\",'Step 2) Calculate'!H2873,\"\")","v":""},{"$f":"IF(L2869<>\"\",'Step 2) Calculate'!C2873,\"\")","v":""}]
[null,null,null,null,null,null,null,null,null,null,{"$f":"IF(L2870<>\"\",'Step 2) Calculate'!B2874,\"Zzzzz - delete row\")","v":"Zzzzz - delete row"},{"$f":"IF('Step 2) Calculate'!E2874<>\"\",'Step 2) Calculate'!G2874,\"\")","v":""},{"$f":"IF(L2870<>\"\",'Step 2) Calculate'!F2874,\"\")","v":""},{"$f":"IF(L2870<>\"\",'Step 2) Calculate'!H2874,\"\")","v":""},{"$f":"IF(L2870<>\"\",'Step 2) Calculate'!C2874,\"\")","v":""}]
[null,null,null,null,null,null,null,null,null,null,{"$f":"IF(L2871<>\"\",'Step 2) Calculate'!B2875,\"Zzzzz - delete row\")","v":"Zzzzz - delete row"},{"$f":"IF('Step 2) Calculate'!E2875<>\"\",'Step 2) Calculate'!G2875,\"\")","v":""},{"$f":"IF(L2871<>\"\",'Step 2) Calculate'!F2875,\"\")","v":""},{"$f":"IF(L2871<>\"\",'Step 2) Calculate'!H2875,\"\")","v":""},{"$f":"IF(L2871<>\"\",'Step 2) Calculate'!C2875,\"\")","v":""}]
[null,null,null,null,null,null,null,null,null,null,{"$f":"IF(L2872<>\"\",'Step 2) Calculate'!B2876,\"Zzzzz - delete row\")","v":"Zzzzz - delete row"},{"$f":"IF('Step 2) Calculate'!E2876<>\"\",'Step 2) Calculate'!G2876,\"\")","v":""},{"$f":"IF(L2872<>\"\",'Step 2) Calculate'!F2876,\"\")","v":""},{"$f":"IF(L2872<>\"\",'Step 2) Calculate'!H2876,\"\")","v":""},{"$f":"IF(L2872<>\"\",'Step 2) Calculate'!C2876,\"\")","v":""}]
[null,null,null,null,null,null,null,null,null,null,{"$f":"IF(L2873<>\"\",'Step 2) Calculate'!B2877,\"Zzzzz - delete row\")","v":"Zzzzz - delete row"},{"$f":"IF('Step 2) Calculate'!E2877<>\"\",'Step 2) Calculate'!G2877,\"\")","v":""},{"$f":"IF(L2873<>\"\",'Step 2) Calculate'!F2877,\"\")","v":""},{"$f":"IF(L2873<>\"\",'Step 2) Calculate'!H2877,\"\")","v":""},{"$f":"IF(L2873<>\"\",'Step 2) Calculate'!C2877,\"\")","v":""}]
[null,null,null,null,null,null,null,null,null,null,{"$f":"IF(L2874<>\"\",'Step 2) Calculate'!B2878,\"Zzzzz - delete row\")","v":"Zzzzz - delete row"},{"$f":"IF('Step 2) Calculate'!E2878<>\"\",'Step 2) Calculate'!G2878,\"\")","v":""},{"$f":"IF(L2874<>\"\",'Step 2) Calculate'!F2878,\"\")","v":""},{"$f":"IF(L2874<>\"\",'Step 2) Calculate'!H2878,\"\")","v":""},{"$f":"IF(L2874<>\"\",'Step 2) Calculate'!C2878,\"\")","v":""}]
[null,null,null,null,null,null,null,null,null,null,{"$f":"IF(L2875<>\"\",'Step 2) Calculate'!B2879,\"Zzzzz - delete row\")","v":"Zzzzz - delete row"},{"$f":"IF('Step 2) Calculate'!E2879<>\"\",'Step 2) Calculate'!G2879,\"\")","v":""},{"$f":"IF(L2875<>\"\",'Step 2) Calculate'!F2879,\"\")","v":""},{"$f":"IF(L2875<>\"\",'Step 2) Calculate'!H2879,\"\")","v":""},{"$f":"IF(L2875<>\"\",'Step 2) Calculate'!C2879,\"\")","v":""}]
[null,null,null,null,null,null,null,null,null,null,{"$f":"IF(L2876<>\"\",'Step 2) Calculate'!B2880,\"Zzzzz - delete row\")","v":"Zzzzz - delete row"},{"$f":"IF('Step 2) Calculate'!E2880<>\"\",'Step 2) Calculate'!G2880,\"\")","v":""},{"$f":"IF(L2876<>\"\",'Step 2) Calculate'!F2880,\"\")","v":""},{"$f":"IF(L2876<>\"\",'Step 2) Calculate'!H2880,\"\")","v":""},{"$f":"IF(L2876<>\"\",'Step 2) Calculate'!C2880,\"\")","v":""}]
[null,null,null,null,null,null,null,null,null,null,{"$f":"IF(L2877<>\"\",'Step 2) Calculate'!B2881,\"Zzzzz - delete row\")","v":"Zzzzz - delete row"},{"$f":"IF('Step 2) Calculate'!E2881<>\"\",'Step 2) Calculate'!G2881,\"\")","v":""},{"$f":"IF(L2877<>\"\",'Step 2) Calculate'!F2881,\"\")","v":""},{"$f":"IF(L2877<>\"\",'Step 2) Calculate'!H2881,\"\")","v":""},{"$f":"IF(L2877<>\"\",'Step 2) Calculate'!C2881,\"\")","v":""}]
[null,null,null,null,null,null,null,null,null,null,{"$f":"IF(L2878<>\"\",'Step 2) Calculate'!B2882,\"Zzzzz - delete row\")","v":"Zzzzz - delete row"},{"$f":"IF('Step 2) Calculate'!E2882<>\"\",'Step 2) Calculate'!G2882,\"\")","v":""},{"$f":"IF(L2878<>\"\",'Step 2) Calculate'!F2882,\"\")","v":""},{"$f":"IF(L2878<>\"\",'Step 2) Calculate'!H2882,\"\")","v":""},{"$f":"IF(L2878<>\"\",'Step 2) Calculate'!C2882,\"\")","v":""}]
[null,null,null,null,null,null,null,null,null,null,{"$f":"IF(L2879<>\"\",'Step 2) Calculate'!B2883,\"Zzzzz - delete row\")","v":"Zzzzz - delete row"},{"$f":"IF('Step 2) Calculate'!E2883<>\"\",'Step 2) Calculate'!G2883,\"\")","v":""},{"$f":"IF(L2879<>\"\",'Step 2) Calculate'!F2883,\"\")","v":""},{"$f":"IF(L2879<>\"\",'Step 2) Calculate'!H2883,\"\")","v":""},{"$f":"IF(L2879<>\"\",'Step 2) Calculate'!C2883,\"\")","v":""}]
[null,null,null,null,null,null,null,null,null,null,{"$f":"IF(L2880<>\"\",'Step 2) Calculate'!B2884,\"Zzzzz - delete row\")","v":"Zzzzz - delete row"},{"$f":"IF('Step 2) Calculate'!E2884<>\"\",'Step 2) Calculate'!G2884,\"\")","v":""},{"$f":"IF(L2880<>\"\",'Step 2) Calculate'!F2884,\"\")","v":""},{"$f":"IF(L2880<>\"\",'Step 2) Calculate'!H2884,\"\")","v":""},{"$f":"IF(L2880<>\"\",'Step 2) Calculate'!C2884,\"\")","v":""}]
[null,null,null,null,null,null,null,null,null,null,{"$f":"IF(L2881<>\"\",'Step 2) Calculate'!B2885,\"Zzzzz - delete row\")","v":"Zzzzz - delete row"},{"$f":"IF('Step 2) Calculate'!E2885<>\"\",'Step 2) Calculate'!G2885,\"\")","v":""},{"$f":"IF(L2881<>\"\",'Step 2) Calculate'!F2885,\"\")","v":""},{"$f":"IF(L2881<>\"\",'Step 2) Calculate'!H2885,\"\")","v":""},{"$f":"IF(L2881<>\"\",'Step 2) Calculate'!C2885,\"\")","v":""}]
[null,null,null,null,null,null,null,null,null,null,{"$f":"IF(L2882<>\"\",'Step 2) Calculate'!B2886,\"Zzzzz - delete row\")","v":"Zzzzz - delete row"},{"$f":"IF('Step 2) Calculate'!E2886<>\"\",'Step 2) Calculate'!G2886,\"\")","v":""},{"$f":"IF(L2882<>\"\",'Step 2) Calculate'!F2886,\"\")","v":""},{"$f":"IF(L2882<>\"\",'Step 2) Calculate'!H2886,\"\")","v":""},{"$f":"IF(L2882<>\"\",'Step 2) Calculate'!C2886,\"\")","v":""}]
[null,null,null,null,null,null,null,null,null,null,{"$f":"IF(L2883<>\"\",'Step 2) Calculate'!B2887,\"Zzzzz - delete row\")","v":"Zzzzz - delete row"},{"$f":"IF('Step 2) Calculate'!E2887<>\"\",'Step 2) Calculate'!G2887,\"\")","v":""},{"$f":"IF(L2883<>\"\",'Step 2) Calculate'!F2887,\"\")","v":""},{"$f":"IF(L2883<>\"\",'Step 2) Calculate'!H2887,\"\")","v":""},{"$f":"IF(L2883<>\"\",'Step 2) Calculate'!C2887,\"\")","v":""}]
[null,null,null,null,null,null,null,null,null,null,{"$f":"IF(L2884<>\"\",'Step 2) Calculate'!B2888,\"Zzzzz - delete row\")","v":"Zzzzz - delete row"},{"$f":"IF('Step 2) Calculate'!E2888<>\"\",'Step 2) Calculate'!G2888,\"\")","v":""},{"$f":"IF(L2884<>\"\",'Step 2) Calculate'!F2888,\"\")","v":""},{"$f":"IF(L2884<>\"\",'Step 2) Calculate'!H2888,\"\")","v":""},{"$f":"IF(L2884<>\"\",'Step 2) Calculate'!C2888,\"\")","v":""}]
[null,null,null,null,null,null,null,null,null,null,{"$f":"IF(L2885<>\"\",'Step 2) Calculate'!B2889,\"Zzzzz - delete row\")","v":"Zzzzz - delete row"},{"$f":"IF('Step 2) Calculate'!E2889<>\"\",'Step 2) Calculate'!G2889,\"\")","v":""},{"$f":"IF(L2885<>\"\",'Step 2) Calculate'!F2889,\"\")","v":""},{"$f":"IF(L2885<>\"\",'Step 2) Calculate'!H2889,\"\")","v":""},{"$f":"IF(L2885<>\"\",'Step 2) Calculate'!C2889,\"\")","v":""}]
[null,null,null,null,null,null,null,null,null,null,{"$f":"IF(L2886<>\"\",'Step 2) Calculate'!B2890,\"Zzzzz - delete row\")","v":"Zzzzz - delete row"},{"$f":"IF('Step 2) Calculate'!E2890<>\"\",'Step 2) Calculate'!G2890,\"\")","v":""},{"$f":"IF(L2886<>\"\",'Step 2) Calculate'!F2890,\"\")","v":""},{"$f":"IF(L2886<>\"\",'Step 2) Calculate'!H2890,\"\")","v":""},{"$f":"IF(L2886<>\"\",'Step 2) Calculate'!C2890,\"\")","v":""}]
[null,null,null,null,null,null,null,null,null,null,{"$f":"IF(L2887<>\"\",'Step 2) Calculate'!B2891,\"Zzzzz - delete row\")","v":"Zzzzz - delete row"},{"$f":"IF('Step 2) Calculate'!E2891<>\"\",'Step 2) Calculate'!G2891,\"\")","v":""},{"$f":"IF(L2887<>\"\",'Step 2) Calculate'!F2891,\"\")","v":""},{"$f":"IF(L2887<>\"\",'Step 2) Calculate'!H2891,\"\")","v":""},{"$f":"IF(L2887<>\"\",'Step 2) Calculate'!C2891,\"\")","v":""}]
[null,null,null,null,null,null,null,null,null,null,{"$f":"IF(L2888<>\"\",'Step 2) Calculate'!B2892,\"Zzzzz - delete row\")","v":"Zzzzz - delete row"},{"$f":"IF('Step 2) Calculate'!E2892<>\"\",'Step 2) Calculate'!G2892,\"\")","v":""},{"$f":"IF(L2888<>\"\",'Step 2) Calculate'!F2892,\"\")","v":""},{"$f":"IF(L2888<>\"\",'Step 2) Calculate'!H2892,\"\")","v":""},{"$f":"IF(L2888<>\"\",'Step 2) Calculate'!C2892,\"\")","v":""}]
[null,null,null,null,null,null,null,null,null,null,{"$f":"IF(L2889<>\"\",'Step 2) Calculate'!B2893,\"Zzzzz - delete row\")","v":"Zzzzz - delete row"},{"$f":"IF('Step 2) Calculate'!E2893<>\"\",'Step 2) Calculate'!G2893,\"\")","v":""},{"$f":"IF(L2889<>\"\",'Step 2) Calculate'!F2893,\"\")","v":""},{"$f":"IF(L2889<>\"\",'Step 2) Calculate'!H2893,\"\")","v":""},{"$f":"IF(L2889<>\"\",'Step 2) Calculate'!C2893,\"\")","v":""}]
[null,null,null,null,null,null,null,null,null,null,{"$f":"IF(L2890<>\"\",'Step 2) Calculate'!B2894,\"Zzzzz - delete row\")","v":"Zzzzz - delete row"},{"$f":"IF('Step 2) Calculate'!E2894<>\"\",'Step 2) Calculate'!G2894,\"\")","v":""},{"$f":"IF(L2890<>\"\",'Step 2) Calculate'!F2894,\"\")","v":""},{"$f":"IF(L2890<>\"\",'Step 2) Calculate'!H2894,\"\")","v":""},{"$f":"IF(L2890<>\"\",'Step 2) Calculate'!C2894,\"\")","v":""}]
[null,null,null,null,null,null,null,null,null,null,{"$f":"IF(L2891<>\"\",'Step 2) Calculate'!B2895,\"Zzzzz - delete row\")","v":"Zzzzz - delete row"},{"$f":"IF('Step 2) Calculate'!E2895<>\"\",'Step 2) Calculate'!G2895,\"\")","v":""},{"$f":"IF(L2891<>\"\",'Step 2) Calculate'!F2895,\"\")","v":""},{"$f":"IF(L2891<>\"\",'Step 2) Calculate'!H2895,\"\")","v":""},{"$f":"IF(L2891<>\"\",'Step 2) Calculate'!C2895,\"\")","v":""}]
[null,null,null,null,null,null,null,null,null,null,{"$f":"IF(L2892<>\"\",'Step 2) Calculate'!B2896,\"Zzzzz - delete row\")","v":"Zzzzz - delete row"},{"$f":"IF('Step 2) Calculate'!E2896<>\"\",'Step 2) Calculate'!G2896,\"\")","v":""},{"$f":"IF(L2892<>\"\",'Step 2) Calculate'!F2896,\"\")","v":""},{"$f":"IF(L2892<>\"\",'Step 2) Calculate'!H2896,\"\")","v":""},{"$f":"IF(L2892<>\"\",'Step 2) Calculate'!C2896,\"\")","v":""}]
[null,null,null,null,null,null,null,null,null,null,{"$f":"IF(L2893<>\"\",'Step 2) Calculate'!B2897,\"Zzzzz - delete row\")","v":"Zzzzz - delete row"},{"$f":"IF('Step 2) Calculate'!E2897<>\"\",'Step 2) Calculate'!G2897,\"\")","v":""},{"$f":"IF(L2893<>\"\",'Step 2) Calculate'!F2897,\"\")","v":""},{"$f":"IF(L2893<>\"\",'Step 2) Calculate'!H2897,\"\")","v":""},{"$f":"IF(L2893<>\"\",'Step 2) Calculate'!C2897,\"\")","v":""}]
[null,null,null,null,null,null,null,null,null,null,{"$f":"IF(L2894<>\"\",'Step 2) Calculate'!B2898,\"Zzzzz - delete row\")","v":"Zzzzz - delete row"},{"$f":"IF('Step 2) Calculate'!E2898<>\"\",'Step 2) Calculate'!G2898,\"\")","v":""},{"$f":"IF(L2894<>\"\",'Step 2) Calculate'!F2898,\"\")","v":""},{"$f":"IF(L2894<>\"\",'Step 2) Calculate'!H2898,\"\")","v":""},{"$f":"IF(L2894<>\"\",'Step 2) Calculate'!C2898,\"\")","v":""}]
[null,null,null,null,null,null,null,null,null,null,{"$f":"IF(L2895<>\"\",'Step 2) Calculate'!B2899,\"Zzzzz - delete row\")","v":"Zzzzz - delete row"},{"$f":"IF('Step 2) Calculate'!E2899<>\"\",'Step 2) Calculate'!G2899,\"\")","v":""},{"$f":"IF(L2895<>\"\",'Step 2) Calculate'!F2899,\"\")","v":""},{"$f":"IF(L2895<>\"\",'Step 2) Calculate'!H2899,\"\")","v":""},{"$f":"IF(L2895<>\"\",'Step 2) Calculate'!C2899,\"\")","v":""}]