{"text_format":"1","workbook":"xlsx","n_sheets":10,"sheets":["INTRO","USER INPUTS","POLLUTANTS","INPUT REVIEW","METHANE","RESULTS","GRAPHS","INVENTORY","REPORT","DEFAULTS"],"not_rendered":{"charts":6,"images":23,"macros":1,"external_links":0,"defined_names":22,"comments":0,"pivot_tables":0},"unopened":[],"bounds":{"document_bytes":16777216,"sheet_cells":100000,"rows_first":2000,"rows_last":500,"rows_between":2000,"halvings":0,"cell_chars":16384,"cell_head_chars":4096},"cells_cut":0,"cells_raw":0,"read":"whole","date_system":"1900"}

{"sheet":"INTRO","index":0,"n_rows":44,"n_cols":10,"rows_kept":44,"cut":false,"hidden":false,"merged":[[41,1,42,3],[25,0,25,1],[16,2,19,3],[23,2,24,3],[38,1,40,3],[23,0,24,1],[36,1,37,3],[34,1,35,3],[20,2,22,3],[20,0,22,1],[4,5,12,9],[14,2,15,3],[7,2,7,3],[16,0,19,1],[11,0,12,1],[11,2,12,3],[15,5,27,9],[13,5,13,8],[7,0,7,1],[14,0,15,1],[8,0,10,1],[13,0,13,1],[8,2,10,3]]}
["INTRODUCTION"]
[]
["LandGEM - Landfill Gas Emissions Model, Version 3.03"]
["U.S. Environmental Protection Agency",null,null,null,null,"About LandGEM:"]
[null,null,null,null,null,"LandGEM is based on a first-order decomposition rate equation for quantifying emissions from the decomposition of landfilled waste in municipal solid waste (MSW) landfills. The software provides a relatively simple approach to estimating landfill gas emissions. Model defaults are based on empirical data from U.S. landfills. Field test data can also be used in place of model defaults when available. Further guidance on EPA test methods, Clean Air Act (CAA) regulations, and other guidance regarding landfill gas emissions and control technology requirements can be found at"]
["Model Design:"]
["Worksheet Name",null,"Function"]
["INTRO",null,"Contains an overview of the model and important notes about using LandGEM"]
["USER INPUTS",null,"Allows users to provide landfill characteristics, determine model parameters, select up to four gases/pollutants (total landfill gas, methane, carbon dioxide, NMOC, and 46 air pollutants), and enter waste acceptance rates"]
[]
[]
["POLLUTANTS",null,"Allows users to edit air pollutant concentrations and molecular weights for existing pollutants and add up to 10 new pollutants"]
[]
["INPUT REVIEW",null,"Allows users to review and print model inputs",null,null,"http://www.epa.gov/ttnatw01/landfill/landflpg.html",null,null,null,"."]
["METHANE",null,"Calculates methane emission estimates using the first-order decomposition rate equation"]
[null,null,null,null,null,"LandGEM is considered a screening tool — the better the input data, the better the estimates. Often, there are limitations with the available data regarding waste quantity and composition, variation in design and operating practices over time, and changes occurring over time that impact the emissions potential. Changes to landfill operation, such as operating under wet conditions through leachate recirculation or other liquid additions, will result in generating more gas at a faster rate. Defaults for estimating emissions for this type of operation are being developed to include in LandGEM along with defaults for convential landfills (no leachate or liquid additions) for developing emission inventories and determining CAA applicability. Refer to the Web site identified above for future updates. "]
["RESULTS",null,"Shows tabular emission estimates for up to four gases/pollutants (selected in the USER INPUTS worksheet) in megagrams per year, cubic meters per year, and user’s choice of a third unit of measure (average cubic feet per minute, cubic feet per year, or short tons per year)"]
[]
[]
[]
["GRAPHS",null,"Shows graphical emission estimates for up to four gases/pollutants (selected in the USER INPUTS worksheet) in megagrams per year, cubic meters per year, and user’s choice of a third unit of measure (selected in the RESULTS worksheet)"]
[]
[]
["INVENTORY",null,"Displays tabular emission estimates for all gases/pollutants for a single year specified by users"]
[]
["REPORT",null,"Allows users to review and print model inputs and outputs in a summary report"]
[]
["IMPORTANT NOTES!"]
["The following user inputs MUST be completed in the USER INPUTS worksheet:"]
[null,"- Landfill open year"]
[null,"- Landfill closure year or Waste design capacity"]
[null,"- Annual waste acceptance rates from open year to current year or closure year"]
[]
["Other Important Notes:"]
[null,"- LandGEM is based on the gas generated from anaerobic decomposition of landfilled waste which has a methane content between 40 and 60 percent."]
[]
[null,"- When using LandGEM to comply with the CAA, the methane content of the landfill gas must remain fixed at 50% by volume (the model default value)."]
[]
[null,"- Default pollutant concentrations used by LandGEM have already been corrected for air infiltration, as stated in AP-42. If a user-specified value for NMOC concentration is used based on site-specific data, then it must be corrected for air infiltration."]
[]
[]
[null,"- When comparing results from LandGEM with measurements of extracted gas collected at a site, the landfill owner/operator must adjust for air infiltration prior to any comparisons."]
[]
[null,"- One megagram is equivalent to one metric ton."]

{"sheet":"USER INPUTS","index":1,"n_rows":87,"n_cols":12,"rows_kept":87,"cut":false,"hidden":false,"merged":[[33,1,36,6],[3,9,4,9],[5,9,6,9],[0,4,0,7],[4,4,5,7],[14,6,14,7],[8,1,9,3]]}
["USER INPUTS",null,null,"Landfill Name or Identifier:"]
[]
[null,null,null,null,null,true,null,null,null,"4: ENTER WASTE ACCEPTANCE RATES"]
[null,"1: PROVIDE LANDFILL CHARACTERISTICS",null,null,null,null,null,null,null,"Input Units:","Mg/year"]
[null,"Landfill Open Year",null,null,{"$f":"IF(AND($D$7=TRUE,$D$6>0),\"Landfill Closure Year entered is not used by the model unless 'Have Model Calculate Closure Year?' option is No.\",IF(AND(ClosureCalcYes=TRUE,WasteCapacity<=0),\"Waste Design Capacity must be greater than zero for model to calculate closure year.\",IF(AND(ClosureCalcYes=FALSE,WasteCapacity>0),\"Waste Design Capacity entered is not used by the model unless 'Have Model Calculate Closure Year?' option is Yes.\",\"\")))","v":""}]
[null,"Landfill Closure Year",null,null,null,null,null,null,null,"Year","Input Units","Calculated Units"]
[null,"Have Model Calculate Closure Year?",null,false,null,null,null,null,null,null,{"$f":"CONCATENATE(\"(\",$K$4,\")\")","v":"(Mg/year)"},{"$f":"IF($K$7=\"(Mg/year)\",\"(short tons/year)\",\"(Mg/year)\")","v":"(short tons/year)"}]
[null,"Waste Design Capacity",null,null,"megagrams",null,null,null,null,{"$f":"IF(OpenYear>0,OpenYear,0)","v":0},null,{"$f":"IF(ISERROR(IF($K8>0,IF($K$7=\"(Mg/year)\",($K8*DEFAULTS!$B$55*DEFAULTS!$B$53/DEFAULTS!$B$54),($K8*DEFAULTS!$B$54/(DEFAULTS!$B$53*DEFAULTS!$B$55))),IF(SUM(K8:$K$87)=0,\"\",0))),0,IF($K8>0,IF($K$7=\"(Mg/year)\",($K8*DEFAULTS!$B$55*DEFAULTS!$B$53/DEFAULTS!$B$54),($K8*DEFAULTS!$B$54/(DEFAULTS!$B$53*DEFAULTS!$B$55))),IF(SUM(K8:$K$87)=0,\"\",0)))","v":""}]
[null,{"$f":"IF(AND(ClosureCalcYes=FALSE,(ClosureYear-OpenYear)>79,ClosureYear>0,OpenYear>0),\"Landfill Closure Year entered exceeds the 80-year waste acceptance limit. See Section 2.6 of the User's Manual.\",\"\")","v":""},null,null,null,null,null,null,null,{"$f":"IF(ISERROR(IF(J8=\"\",\"\",(J8+1))),0,IF(J8=\"\",\"\",(J8+1)))","v":1},null,{"$f":"IF(ISERROR(IF($K9>0,IF($K$7=\"(Mg/year)\",($K9*DEFAULTS!$B$55*DEFAULTS!$B$53/DEFAULTS!$B$54),($K9*DEFAULTS!$B$54/(DEFAULTS!$B$53*DEFAULTS!$B$55))),IF(SUM(K9:$K$87)=0,\"\",0))),0,IF($K9>0,IF($K$7=\"(Mg/year)\",($K9*DEFAULTS!$B$55*DEFAULTS!$B$53/DEFAULTS!$B$54),($K9*DEFAULTS!$B$54/(DEFAULTS!$B$53*DEFAULTS!$B$55))),IF(SUM(K9:$K$87)=0,\"\",0)))","v":""}]
[null,null,null,null,null,null,null,null,null,{"$f":"IF(J9=\"\",\"\",(J9+1))","v":2},null,{"$f":"IF(ISERROR(IF($K10>0,IF($K$7=\"(Mg/year)\",($K10*DEFAULTS!$B$55*DEFAULTS!$B$53/DEFAULTS!$B$54),($K10*DEFAULTS!$B$54/(DEFAULTS!$B$53*DEFAULTS!$B$55))),IF(SUM(K10:$K$87)=0,\"\",0))),0,IF($K10>0,IF($K$7=\"(Mg/year)\",($K10*DEFAULTS!$B$55*DEFAULTS!$B$53/DEFAULTS!$B$54),($K10*DEFAULTS!$B$54/(DEFAULTS!$B$53*DEFAULTS!$B$55))),IF(SUM(K10:$K$87)=0,\"\",0)))","v":""}]
[null,"2: DETERMINE MODEL PARAMETERS",null,null,null,null,null,null,null,3,null,{"$f":"IF(ISERROR(IF($K11>0,IF($K$7=\"(Mg/year)\",($K11*DEFAULTS!$B$55*DEFAULTS!$B$53/DEFAULTS!$B$54),($K11*DEFAULTS!$B$54/(DEFAULTS!$B$53*DEFAULTS!$B$55))),IF(SUM(K11:$K$87)=0,\"\",0))),0,IF($K11>0,IF($K$7=\"(Mg/year)\",($K11*DEFAULTS!$B$55*DEFAULTS!$B$53/DEFAULTS!$B$54),($K11*DEFAULTS!$B$54/(DEFAULTS!$B$53*DEFAULTS!$B$55))),IF(SUM(K11:$K$87)=0,\"\",0)))","v":""}]
[null,"Methane Generation Rate, k (year-1)",null,{"$f":"IF($F$13>0,\"User-specified k value should be based on site-specific data and determined\",\"\")","v":""},null,null,null,null,null,4,null,{"$f":"IF(ISERROR(IF($K12>0,IF($K$7=\"(Mg/year)\",($K12*DEFAULTS!$B$55*DEFAULTS!$B$53/DEFAULTS!$B$54),($K12*DEFAULTS!$B$54/(DEFAULTS!$B$53*DEFAULTS!$B$55))),IF(SUM(K12:$K$87)=0,\"\",0))),0,IF($K12>0,IF($K$7=\"(Mg/year)\",($K12*DEFAULTS!$B$55*DEFAULTS!$B$53/DEFAULTS!$B$54),($K12*DEFAULTS!$B$54/(DEFAULTS!$B$53*DEFAULTS!$B$55))),IF(SUM(K12:$K$87)=0,\"\",0)))","v":""}]
[null,0.05,null,null,{"$f":"IF(B13<0,\"User-specified value:\",\"\")","v":""},null,{"$f":"IF(AND($F$13>0,$B$13<0),\"by EPA Method 2E.\",\"\")","v":""},null,null,5,null,{"$f":"IF(ISERROR(IF($K13>0,IF($K$7=\"(Mg/year)\",($K13*DEFAULTS!$B$55*DEFAULTS!$B$53/DEFAULTS!$B$54),($K13*DEFAULTS!$B$54/(DEFAULTS!$B$53*DEFAULTS!$B$55))),IF(SUM(K13:$K$87)=0,\"\",0))),0,IF($K13>0,IF($K$7=\"(Mg/year)\",($K13*DEFAULTS!$B$55*DEFAULTS!$B$53/DEFAULTS!$B$54),($K13*DEFAULTS!$B$54/(DEFAULTS!$B$53*DEFAULTS!$B$55))),IF(SUM(K13:$K$87)=0,\"\",0)))","v":""}]
[null,"Potential Methane Generation Capacity, L0 (m3/Mg)",null,null,{"$f":"IF($F$15>0,\"User-specified Lo value should be based on site-specific\",\"\")","v":""},null,null,null,null,6,null,{"$f":"IF(ISERROR(IF($K14>0,IF($K$7=\"(Mg/year)\",($K14*DEFAULTS!$B$55*DEFAULTS!$B$53/DEFAULTS!$B$54),($K14*DEFAULTS!$B$54/(DEFAULTS!$B$53*DEFAULTS!$B$55))),IF(SUM(K14:$K$87)=0,\"\",0))),0,IF($K14>0,IF($K$7=\"(Mg/year)\",($K14*DEFAULTS!$B$55*DEFAULTS!$B$53/DEFAULTS!$B$54),($K14*DEFAULTS!$B$54/(DEFAULTS!$B$53*DEFAULTS!$B$55))),IF(SUM(K14:$K$87)=0,\"\",0)))","v":""}]
[null,170,null,null,{"$f":"IF(B15<0,\"User-specified value:\",\"\")","v":""},null,{"$f":"IF($F$15>0, \"data and determined by waste type and composition.\",\"\")","v":""},null,null,7,null,{"$f":"IF(ISERROR(IF($K15>0,IF($K$7=\"(Mg/year)\",($K15*DEFAULTS!$B$55*DEFAULTS!$B$53/DEFAULTS!$B$54),($K15*DEFAULTS!$B$54/(DEFAULTS!$B$53*DEFAULTS!$B$55))),IF(SUM(K15:$K$87)=0,\"\",0))),0,IF($K15>0,IF($K$7=\"(Mg/year)\",($K15*DEFAULTS!$B$55*DEFAULTS!$B$53/DEFAULTS!$B$54),($K15*DEFAULTS!$B$54/(DEFAULTS!$B$53*DEFAULTS!$B$55))),IF(SUM(K15:$K$87)=0,\"\",0)))","v":""}]
[null,"NMOC Concentration (ppmv as hexane)",null,null,null,null,null,null,null,8,null,{"$f":"IF(ISERROR(IF($K16>0,IF($K$7=\"(Mg/year)\",($K16*DEFAULTS!$B$55*DEFAULTS!$B$53/DEFAULTS!$B$54),($K16*DEFAULTS!$B$54/(DEFAULTS!$B$53*DEFAULTS!$B$55))),IF(SUM(K16:$K$87)=0,\"\",0))),0,IF($K16>0,IF($K$7=\"(Mg/year)\",($K16*DEFAULTS!$B$55*DEFAULTS!$B$53/DEFAULTS!$B$54),($K16*DEFAULTS!$B$54/(DEFAULTS!$B$53*DEFAULTS!$B$55))),IF(SUM(K16:$K$87)=0,\"\",0)))","v":""}]
[null,600,null,null,{"$f":"IF(B17<0,\"User-specified value:\",\"\")","v":""},null,null,null,null,9,null,{"$f":"IF(ISERROR(IF($K17>0,IF($K$7=\"(Mg/year)\",($K17*DEFAULTS!$B$55*DEFAULTS!$B$53/DEFAULTS!$B$54),($K17*DEFAULTS!$B$54/(DEFAULTS!$B$53*DEFAULTS!$B$55))),IF(SUM(K17:$K$87)=0,\"\",0))),0,IF($K17>0,IF($K$7=\"(Mg/year)\",($K17*DEFAULTS!$B$55*DEFAULTS!$B$53/DEFAULTS!$B$54),($K17*DEFAULTS!$B$54/(DEFAULTS!$B$53*DEFAULTS!$B$55))),IF(SUM(K17:$K$87)=0,\"\",0)))","v":""}]
[null,"Methane Content (% by volume)",null,{"$f":"IF(AND(F$19>0,OR($F$19<40,$F$19>60)),\"Methane Content should be 40-60% to ensure proper use of the model.\",\"\")","v":""},null,null,null,null,null,10,null,{"$f":"IF(ISERROR(IF($K18>0,IF($K$7=\"(Mg/year)\",($K18*DEFAULTS!$B$55*DEFAULTS!$B$53/DEFAULTS!$B$54),($K18*DEFAULTS!$B$54/(DEFAULTS!$B$53*DEFAULTS!$B$55))),IF(SUM(K18:$K$87)=0,\"\",0))),0,IF($K18>0,IF($K$7=\"(Mg/year)\",($K18*DEFAULTS!$B$55*DEFAULTS!$B$53/DEFAULTS!$B$54),($K18*DEFAULTS!$B$54/(DEFAULTS!$B$53*DEFAULTS!$B$55))),IF(SUM(K18:$K$87)=0,\"\",0)))","v":""}]
[null,50,null,null,{"$f":"IF(B19<0,\"User-specified value:\",\"\")","v":""},null,null,null,null,11,null,{"$f":"IF(ISERROR(IF($K19>0,IF($K$7=\"(Mg/year)\",($K19*DEFAULTS!$B$55*DEFAULTS!$B$53/DEFAULTS!$B$54),($K19*DEFAULTS!$B$54/(DEFAULTS!$B$53*DEFAULTS!$B$55))),IF(SUM(K19:$K$87)=0,\"\",0))),0,IF($K19>0,IF($K$7=\"(Mg/year)\",($K19*DEFAULTS!$B$55*DEFAULTS!$B$53/DEFAULTS!$B$54),($K19*DEFAULTS!$B$54/(DEFAULTS!$B$53*DEFAULTS!$B$55))),IF(SUM(K19:$K$87)=0,\"\",0)))","v":""}]
[null,null,null,null,null,null,null,null,null,12,null,{"$f":"IF(ISERROR(IF($K20>0,IF($K$7=\"(Mg/year)\",($K20*DEFAULTS!$B$55*DEFAULTS!$B$53/DEFAULTS!$B$54),($K20*DEFAULTS!$B$54/(DEFAULTS!$B$53*DEFAULTS!$B$55))),IF(SUM(K20:$K$87)=0,\"\",0))),0,IF($K20>0,IF($K$7=\"(Mg/year)\",($K20*DEFAULTS!$B$55*DEFAULTS!$B$53/DEFAULTS!$B$54),($K20*DEFAULTS!$B$54/(DEFAULTS!$B$53*DEFAULTS!$B$55))),IF(SUM(K20:$K$87)=0,\"\",0)))","v":""}]
[null,null,null,null,null,null,null,null,null,13,null,{"$f":"IF(ISERROR(IF($K21>0,IF($K$7=\"(Mg/year)\",($K21*DEFAULTS!$B$55*DEFAULTS!$B$53/DEFAULTS!$B$54),($K21*DEFAULTS!$B$54/(DEFAULTS!$B$53*DEFAULTS!$B$55))),IF(SUM(K21:$K$87)=0,\"\",0))),0,IF($K21>0,IF($K$7=\"(Mg/year)\",($K21*DEFAULTS!$B$55*DEFAULTS!$B$53/DEFAULTS!$B$54),($K21*DEFAULTS!$B$54/(DEFAULTS!$B$53*DEFAULTS!$B$55))),IF(SUM(K21:$K$87)=0,\"\",0)))","v":""}]
[null,"3: SELECT GASES/POLLUTANTS",null,null,null,null,null,null,null,14,null,{"$f":"IF(ISERROR(IF($K22>0,IF($K$7=\"(Mg/year)\",($K22*DEFAULTS!$B$55*DEFAULTS!$B$53/DEFAULTS!$B$54),($K22*DEFAULTS!$B$54/(DEFAULTS!$B$53*DEFAULTS!$B$55))),IF(SUM(K22:$K$87)=0,\"\",0))),0,IF($K22>0,IF($K$7=\"(Mg/year)\",($K22*DEFAULTS!$B$55*DEFAULTS!$B$53/DEFAULTS!$B$54),($K22*DEFAULTS!$B$54/(DEFAULTS!$B$53*DEFAULTS!$B$55))),IF(SUM(K22:$K$87)=0,\"\",0)))","v":""}]
[null,"Gas / Pollutant #1",null,{"$f":"IF(POLLUTANTS!H74=0,\"Default pollutant parameters are currently being used by model.\",\"User-specified pollutant parameters are currently being used by model.\")","v":"Default pollutant parameters are currently being used by model."},null,null,null,null,null,15,null,{"$f":"IF(ISERROR(IF($K23>0,IF($K$7=\"(Mg/year)\",($K23*DEFAULTS!$B$55*DEFAULTS!$B$53/DEFAULTS!$B$54),($K23*DEFAULTS!$B$54/(DEFAULTS!$B$53*DEFAULTS!$B$55))),IF(SUM(K23:$K$87)=0,\"\",0))),0,IF($K23>0,IF($K$7=\"(Mg/year)\",($K23*DEFAULTS!$B$55*DEFAULTS!$B$53/DEFAULTS!$B$54),($K23*DEFAULTS!$B$54/(DEFAULTS!$B$53*DEFAULTS!$B$55))),IF(SUM(K23:$K$87)=0,\"\",0)))","v":""}]
[null,"Total landfill gas",null,null,null,null,null,null,null,16,null,{"$f":"IF(ISERROR(IF($K24>0,IF($K$7=\"(Mg/year)\",($K24*DEFAULTS!$B$55*DEFAULTS!$B$53/DEFAULTS!$B$54),($K24*DEFAULTS!$B$54/(DEFAULTS!$B$53*DEFAULTS!$B$55))),IF(SUM(K24:$K$87)=0,\"\",0))),0,IF($K24>0,IF($K$7=\"(Mg/year)\",($K24*DEFAULTS!$B$55*DEFAULTS!$B$53/DEFAULTS!$B$54),($K24*DEFAULTS!$B$54/(DEFAULTS!$B$53*DEFAULTS!$B$55))),IF(SUM(K24:$K$87)=0,\"\",0)))","v":""}]
[null,"Gas / Pollutant #2",null,null,null,null,null,null,null,17,null,{"$f":"IF(ISERROR(IF($K25>0,IF($K$7=\"(Mg/year)\",($K25*DEFAULTS!$B$55*DEFAULTS!$B$53/DEFAULTS!$B$54),($K25*DEFAULTS!$B$54/(DEFAULTS!$B$53*DEFAULTS!$B$55))),IF(SUM(K25:$K$87)=0,\"\",0))),0,IF($K25>0,IF($K$7=\"(Mg/year)\",($K25*DEFAULTS!$B$55*DEFAULTS!$B$53/DEFAULTS!$B$54),($K25*DEFAULTS!$B$54/(DEFAULTS!$B$53*DEFAULTS!$B$55))),IF(SUM(K25:$K$87)=0,\"\",0)))","v":""}]
[null,"Methane",null,null,null,null,null,null,null,18,null,{"$f":"IF(ISERROR(IF($K26>0,IF($K$7=\"(Mg/year)\",($K26*DEFAULTS!$B$55*DEFAULTS!$B$53/DEFAULTS!$B$54),($K26*DEFAULTS!$B$54/(DEFAULTS!$B$53*DEFAULTS!$B$55))),IF(SUM(K26:$K$87)=0,\"\",0))),0,IF($K26>0,IF($K$7=\"(Mg/year)\",($K26*DEFAULTS!$B$55*DEFAULTS!$B$53/DEFAULTS!$B$54),($K26*DEFAULTS!$B$54/(DEFAULTS!$B$53*DEFAULTS!$B$55))),IF(SUM(K26:$K$87)=0,\"\",0)))","v":""}]
[null,"Gas / Pollutant #3",null,null,null,null,null,null,null,19,null,{"$f":"IF(ISERROR(IF($K27>0,IF($K$7=\"(Mg/year)\",($K27*DEFAULTS!$B$55*DEFAULTS!$B$53/DEFAULTS!$B$54),($K27*DEFAULTS!$B$54/(DEFAULTS!$B$53*DEFAULTS!$B$55))),IF(SUM(K27:$K$87)=0,\"\",0))),0,IF($K27>0,IF($K$7=\"(Mg/year)\",($K27*DEFAULTS!$B$55*DEFAULTS!$B$53/DEFAULTS!$B$54),($K27*DEFAULTS!$B$54/(DEFAULTS!$B$53*DEFAULTS!$B$55))),IF(SUM(K27:$K$87)=0,\"\",0)))","v":""}]
[null,"Carbon dioxide",null,null,null,null,null,null,null,20,null,{"$f":"IF(ISERROR(IF($K28>0,IF($K$7=\"(Mg/year)\",($K28*DEFAULTS!$B$55*DEFAULTS!$B$53/DEFAULTS!$B$54),($K28*DEFAULTS!$B$54/(DEFAULTS!$B$53*DEFAULTS!$B$55))),IF(SUM(K28:$K$87)=0,\"\",0))),0,IF($K28>0,IF($K$7=\"(Mg/year)\",($K28*DEFAULTS!$B$55*DEFAULTS!$B$53/DEFAULTS!$B$54),($K28*DEFAULTS!$B$54/(DEFAULTS!$B$53*DEFAULTS!$B$55))),IF(SUM(K28:$K$87)=0,\"\",0)))","v":""}]
[null,"Gas / Pollutant #4",null,null,null,null,null,null,null,21,null,{"$f":"IF(ISERROR(IF($K29>0,IF($K$7=\"(Mg/year)\",($K29*DEFAULTS!$B$55*DEFAULTS!$B$53/DEFAULTS!$B$54),($K29*DEFAULTS!$B$54/(DEFAULTS!$B$53*DEFAULTS!$B$55))),IF(SUM(K29:$K$87)=0,\"\",0))),0,IF($K29>0,IF($K$7=\"(Mg/year)\",($K29*DEFAULTS!$B$55*DEFAULTS!$B$53/DEFAULTS!$B$54),($K29*DEFAULTS!$B$54/(DEFAULTS!$B$53*DEFAULTS!$B$55))),IF(SUM(K29:$K$87)=0,\"\",0)))","v":""}]
[null,"NMOC",null,null,null,null,null,null,null,22,null,{"$f":"IF(ISERROR(IF($K30>0,IF($K$7=\"(Mg/year)\",($K30*DEFAULTS!$B$55*DEFAULTS!$B$53/DEFAULTS!$B$54),($K30*DEFAULTS!$B$54/(DEFAULTS!$B$53*DEFAULTS!$B$55))),IF(SUM(K30:$K$87)=0,\"\",0))),0,IF($K30>0,IF($K$7=\"(Mg/year)\",($K30*DEFAULTS!$B$55*DEFAULTS!$B$53/DEFAULTS!$B$54),($K30*DEFAULTS!$B$54/(DEFAULTS!$B$53*DEFAULTS!$B$55))),IF(SUM(K30:$K$87)=0,\"\",0)))","v":""}]
[null,null,null,null,null,null,null,null,null,23,null,{"$f":"IF(ISERROR(IF($K31>0,IF($K$7=\"(Mg/year)\",($K31*DEFAULTS!$B$55*DEFAULTS!$B$53/DEFAULTS!$B$54),($K31*DEFAULTS!$B$54/(DEFAULTS!$B$53*DEFAULTS!$B$55))),IF(SUM(K31:$K$87)=0,\"\",0))),0,IF($K31>0,IF($K$7=\"(Mg/year)\",($K31*DEFAULTS!$B$55*DEFAULTS!$B$53/DEFAULTS!$B$54),($K31*DEFAULTS!$B$54/(DEFAULTS!$B$53*DEFAULTS!$B$55))),IF(SUM(K31:$K$87)=0,\"\",0)))","v":""}]
[null,null,null,null,null,null,null,null,null,24,null,{"$f":"IF(ISERROR(IF($K32>0,IF($K$7=\"(Mg/year)\",($K32*DEFAULTS!$B$55*DEFAULTS!$B$53/DEFAULTS!$B$54),($K32*DEFAULTS!$B$54/(DEFAULTS!$B$53*DEFAULTS!$B$55))),IF(SUM(K32:$K$87)=0,\"\",0))),0,IF($K32>0,IF($K$7=\"(Mg/year)\",($K32*DEFAULTS!$B$55*DEFAULTS!$B$53/DEFAULTS!$B$54),($K32*DEFAULTS!$B$54/(DEFAULTS!$B$53*DEFAULTS!$B$55))),IF(SUM(K32:$K$87)=0,\"\",0)))","v":""}]
[null,"Description/Comments:",null,null,null,null,null,null,null,25,null,{"$f":"IF(ISERROR(IF($K33>0,IF($K$7=\"(Mg/year)\",($K33*DEFAULTS!$B$55*DEFAULTS!$B$53/DEFAULTS!$B$54),($K33*DEFAULTS!$B$54/(DEFAULTS!$B$53*DEFAULTS!$B$55))),IF(SUM(K33:$K$87)=0,\"\",0))),0,IF($K33>0,IF($K$7=\"(Mg/year)\",($K33*DEFAULTS!$B$55*DEFAULTS!$B$53/DEFAULTS!$B$54),($K33*DEFAULTS!$B$54/(DEFAULTS!$B$53*DEFAULTS!$B$55))),IF(SUM(K33:$K$87)=0,\"\",0)))","v":""}]
[null,null,null,null,null,null,null,null,null,26,null,{"$f":"IF(ISERROR(IF($K34>0,IF($K$7=\"(Mg/year)\",($K34*DEFAULTS!$B$55*DEFAULTS!$B$53/DEFAULTS!$B$54),($K34*DEFAULTS!$B$54/(DEFAULTS!$B$53*DEFAULTS!$B$55))),IF(SUM(K34:$K$87)=0,\"\",0))),0,IF($K34>0,IF($K$7=\"(Mg/year)\",($K34*DEFAULTS!$B$55*DEFAULTS!$B$53/DEFAULTS!$B$54),($K34*DEFAULTS!$B$54/(DEFAULTS!$B$53*DEFAULTS!$B$55))),IF(SUM(K34:$K$87)=0,\"\",0)))","v":""}]
[null,null,null,null,null,null,null,null,null,27,null,{"$f":"IF(ISERROR(IF($K35>0,IF($K$7=\"(Mg/year)\",($K35*DEFAULTS!$B$55*DEFAULTS!$B$53/DEFAULTS!$B$54),($K35*DEFAULTS!$B$54/(DEFAULTS!$B$53*DEFAULTS!$B$55))),IF(SUM(K35:$K$87)=0,\"\",0))),0,IF($K35>0,IF($K$7=\"(Mg/year)\",($K35*DEFAULTS!$B$55*DEFAULTS!$B$53/DEFAULTS!$B$54),($K35*DEFAULTS!$B$54/(DEFAULTS!$B$53*DEFAULTS!$B$55))),IF(SUM(K35:$K$87)=0,\"\",0)))","v":""}]
[null,null,null,null,null,null,null,null,null,28,null,{"$f":"IF(ISERROR(IF($K36>0,IF($K$7=\"(Mg/year)\",($K36*DEFAULTS!$B$55*DEFAULTS!$B$53/DEFAULTS!$B$54),($K36*DEFAULTS!$B$54/(DEFAULTS!$B$53*DEFAULTS!$B$55))),IF(SUM(K36:$K$87)=0,\"\",0))),0,IF($K36>0,IF($K$7=\"(Mg/year)\",($K36*DEFAULTS!$B$55*DEFAULTS!$B$53/DEFAULTS!$B$54),($K36*DEFAULTS!$B$54/(DEFAULTS!$B$53*DEFAULTS!$B$55))),IF(SUM(K36:$K$87)=0,\"\",0)))","v":""}]
[null,null,null,null,null,null,null,null,null,29,null,{"$f":"IF(ISERROR(IF($K37>0,IF($K$7=\"(Mg/year)\",($K37*DEFAULTS!$B$55*DEFAULTS!$B$53/DEFAULTS!$B$54),($K37*DEFAULTS!$B$54/(DEFAULTS!$B$53*DEFAULTS!$B$55))),IF(SUM(K37:$K$87)=0,\"\",0))),0,IF($K37>0,IF($K$7=\"(Mg/year)\",($K37*DEFAULTS!$B$55*DEFAULTS!$B$53/DEFAULTS!$B$54),($K37*DEFAULTS!$B$54/(DEFAULTS!$B$53*DEFAULTS!$B$55))),IF(SUM(K37:$K$87)=0,\"\",0)))","v":""}]
[null,null,null,null,null,null,null,null,null,30,null,{"$f":"IF(ISERROR(IF($K38>0,IF($K$7=\"(Mg/year)\",($K38*DEFAULTS!$B$55*DEFAULTS!$B$53/DEFAULTS!$B$54),($K38*DEFAULTS!$B$54/(DEFAULTS!$B$53*DEFAULTS!$B$55))),IF(SUM(K38:$K$87)=0,\"\",0))),0,IF($K38>0,IF($K$7=\"(Mg/year)\",($K38*DEFAULTS!$B$55*DEFAULTS!$B$53/DEFAULTS!$B$54),($K38*DEFAULTS!$B$54/(DEFAULTS!$B$53*DEFAULTS!$B$55))),IF(SUM(K38:$K$87)=0,\"\",0)))","v":""}]
[null,null,null,null,null,null,null,null,null,31,null,{"$f":"IF(ISERROR(IF($K39>0,IF($K$7=\"(Mg/year)\",($K39*DEFAULTS!$B$55*DEFAULTS!$B$53/DEFAULTS!$B$54),($K39*DEFAULTS!$B$54/(DEFAULTS!$B$53*DEFAULTS!$B$55))),IF(SUM(K39:$K$87)=0,\"\",0))),0,IF($K39>0,IF($K$7=\"(Mg/year)\",($K39*DEFAULTS!$B$55*DEFAULTS!$B$53/DEFAULTS!$B$54),($K39*DEFAULTS!$B$54/(DEFAULTS!$B$53*DEFAULTS!$B$55))),IF(SUM(K39:$K$87)=0,\"\",0)))","v":""}]
[null,null,null,null,null,null,null,null,null,32,null,{"$f":"IF(ISERROR(IF($K40>0,IF($K$7=\"(Mg/year)\",($K40*DEFAULTS!$B$55*DEFAULTS!$B$53/DEFAULTS!$B$54),($K40*DEFAULTS!$B$54/(DEFAULTS!$B$53*DEFAULTS!$B$55))),IF(SUM(K40:$K$87)=0,\"\",0))),0,IF($K40>0,IF($K$7=\"(Mg/year)\",($K40*DEFAULTS!$B$55*DEFAULTS!$B$53/DEFAULTS!$B$54),($K40*DEFAULTS!$B$54/(DEFAULTS!$B$53*DEFAULTS!$B$55))),IF(SUM(K40:$K$87)=0,\"\",0)))","v":""}]
[null,null,null,null,null,null,null,null,null,33,null,{"$f":"IF(ISERROR(IF($K41>0,IF($K$7=\"(Mg/year)\",($K41*DEFAULTS!$B$55*DEFAULTS!$B$53/DEFAULTS!$B$54),($K41*DEFAULTS!$B$54/(DEFAULTS!$B$53*DEFAULTS!$B$55))),IF(SUM(K41:$K$87)=0,\"\",0))),0,IF($K41>0,IF($K$7=\"(Mg/year)\",($K41*DEFAULTS!$B$55*DEFAULTS!$B$53/DEFAULTS!$B$54),($K41*DEFAULTS!$B$54/(DEFAULTS!$B$53*DEFAULTS!$B$55))),IF(SUM(K41:$K$87)=0,\"\",0)))","v":""}]
[null,null,null,null,null,null,null,null,null,34,null,{"$f":"IF(ISERROR(IF($K42>0,IF($K$7=\"(Mg/year)\",($K42*DEFAULTS!$B$55*DEFAULTS!$B$53/DEFAULTS!$B$54),($K42*DEFAULTS!$B$54/(DEFAULTS!$B$53*DEFAULTS!$B$55))),IF(SUM(K42:$K$87)=0,\"\",0))),0,IF($K42>0,IF($K$7=\"(Mg/year)\",($K42*DEFAULTS!$B$55*DEFAULTS!$B$53/DEFAULTS!$B$54),($K42*DEFAULTS!$B$54/(DEFAULTS!$B$53*DEFAULTS!$B$55))),IF(SUM(K42:$K$87)=0,\"\",0)))","v":""}]
[null,null,null,null,null,null,null,null,null,35,null,{"$f":"IF(ISERROR(IF($K43>0,IF($K$7=\"(Mg/year)\",($K43*DEFAULTS!$B$55*DEFAULTS!$B$53/DEFAULTS!$B$54),($K43*DEFAULTS!$B$54/(DEFAULTS!$B$53*DEFAULTS!$B$55))),IF(SUM(K43:$K$87)=0,\"\",0))),0,IF($K43>0,IF($K$7=\"(Mg/year)\",($K43*DEFAULTS!$B$55*DEFAULTS!$B$53/DEFAULTS!$B$54),($K43*DEFAULTS!$B$54/(DEFAULTS!$B$53*DEFAULTS!$B$55))),IF(SUM(K43:$K$87)=0,\"\",0)))","v":""}]
[null,null,null,null,null,null,null,null,null,36,null,{"$f":"IF(ISERROR(IF($K44>0,IF($K$7=\"(Mg/year)\",($K44*DEFAULTS!$B$55*DEFAULTS!$B$53/DEFAULTS!$B$54),($K44*DEFAULTS!$B$54/(DEFAULTS!$B$53*DEFAULTS!$B$55))),IF(SUM(K44:$K$87)=0,\"\",0))),0,IF($K44>0,IF($K$7=\"(Mg/year)\",($K44*DEFAULTS!$B$55*DEFAULTS!$B$53/DEFAULTS!$B$54),($K44*DEFAULTS!$B$54/(DEFAULTS!$B$53*DEFAULTS!$B$55))),IF(SUM(K44:$K$87)=0,\"\",0)))","v":""}]
[null,null,null,null,null,null,null,null,null,37,null,{"$f":"IF(ISERROR(IF($K45>0,IF($K$7=\"(Mg/year)\",($K45*DEFAULTS!$B$55*DEFAULTS!$B$53/DEFAULTS!$B$54),($K45*DEFAULTS!$B$54/(DEFAULTS!$B$53*DEFAULTS!$B$55))),IF(SUM(K45:$K$87)=0,\"\",0))),0,IF($K45>0,IF($K$7=\"(Mg/year)\",($K45*DEFAULTS!$B$55*DEFAULTS!$B$53/DEFAULTS!$B$54),($K45*DEFAULTS!$B$54/(DEFAULTS!$B$53*DEFAULTS!$B$55))),IF(SUM(K45:$K$87)=0,\"\",0)))","v":""}]
[null,null,null,null,null,null,null,null,null,38,null,{"$f":"IF(ISERROR(IF($K46>0,IF($K$7=\"(Mg/year)\",($K46*DEFAULTS!$B$55*DEFAULTS!$B$53/DEFAULTS!$B$54),($K46*DEFAULTS!$B$54/(DEFAULTS!$B$53*DEFAULTS!$B$55))),IF(SUM(K46:$K$87)=0,\"\",0))),0,IF($K46>0,IF($K$7=\"(Mg/year)\",($K46*DEFAULTS!$B$55*DEFAULTS!$B$53/DEFAULTS!$B$54),($K46*DEFAULTS!$B$54/(DEFAULTS!$B$53*DEFAULTS!$B$55))),IF(SUM(K46:$K$87)=0,\"\",0)))","v":""}]
[null,null,null,null,null,null,null,null,null,39,null,{"$f":"IF(ISERROR(IF($K47>0,IF($K$7=\"(Mg/year)\",($K47*DEFAULTS!$B$55*DEFAULTS!$B$53/DEFAULTS!$B$54),($K47*DEFAULTS!$B$54/(DEFAULTS!$B$53*DEFAULTS!$B$55))),IF(SUM(K47:$K$87)=0,\"\",0))),0,IF($K47>0,IF($K$7=\"(Mg/year)\",($K47*DEFAULTS!$B$55*DEFAULTS!$B$53/DEFAULTS!$B$54),($K47*DEFAULTS!$B$54/(DEFAULTS!$B$53*DEFAULTS!$B$55))),IF(SUM(K47:$K$87)=0,\"\",0)))","v":""}]
[null,null,null,null,null,null,null,null,null,{"$f":"IF(J47=\"\",\"\",(J47+1))","v":40},null,{"$f":"IF(ISERROR(IF($K48>0,IF($K$7=\"(Mg/year)\",($K48*DEFAULTS!$B$55*DEFAULTS!$B$53/DEFAULTS!$B$54),($K48*DEFAULTS!$B$54/(DEFAULTS!$B$53*DEFAULTS!$B$55))),IF(SUM(K48:$K$87)=0,\"\",0))),0,IF($K48>0,IF($K$7=\"(Mg/year)\",($K48*DEFAULTS!$B$55*DEFAULTS!$B$53/DEFAULTS!$B$54),($K48*DEFAULTS!$B$54/(DEFAULTS!$B$53*DEFAULTS!$B$55))),IF(SUM(K48:$K$87)=0,\"\",0)))","v":""}]
[null,null,null,null,null,null,null,null,null,41,null,{"$f":"IF(ISERROR(IF($K49>0,IF($K$7=\"(Mg/year)\",($K49*DEFAULTS!$B$55*DEFAULTS!$B$53/DEFAULTS!$B$54),($K49*DEFAULTS!$B$54/(DEFAULTS!$B$53*DEFAULTS!$B$55))),IF(SUM(K49:$K$87)=0,\"\",0))),0,IF($K49>0,IF($K$7=\"(Mg/year)\",($K49*DEFAULTS!$B$55*DEFAULTS!$B$53/DEFAULTS!$B$54),($K49*DEFAULTS!$B$54/(DEFAULTS!$B$53*DEFAULTS!$B$55))),IF(SUM(K49:$K$87)=0,\"\",0)))","v":""}]
[null,null,null,null,null,null,null,null,null,42,null,{"$f":"IF(ISERROR(IF($K50>0,IF($K$7=\"(Mg/year)\",($K50*DEFAULTS!$B$55*DEFAULTS!$B$53/DEFAULTS!$B$54),($K50*DEFAULTS!$B$54/(DEFAULTS!$B$53*DEFAULTS!$B$55))),IF(SUM(K50:$K$87)=0,\"\",0))),0,IF($K50>0,IF($K$7=\"(Mg/year)\",($K50*DEFAULTS!$B$55*DEFAULTS!$B$53/DEFAULTS!$B$54),($K50*DEFAULTS!$B$54/(DEFAULTS!$B$53*DEFAULTS!$B$55))),IF(SUM(K50:$K$87)=0,\"\",0)))","v":""}]
[null,null,null,null,null,null,null,null,null,43,null,{"$f":"IF(ISERROR(IF($K51>0,IF($K$7=\"(Mg/year)\",($K51*DEFAULTS!$B$55*DEFAULTS!$B$53/DEFAULTS!$B$54),($K51*DEFAULTS!$B$54/(DEFAULTS!$B$53*DEFAULTS!$B$55))),IF(SUM(K51:$K$87)=0,\"\",0))),0,IF($K51>0,IF($K$7=\"(Mg/year)\",($K51*DEFAULTS!$B$55*DEFAULTS!$B$53/DEFAULTS!$B$54),($K51*DEFAULTS!$B$54/(DEFAULTS!$B$53*DEFAULTS!$B$55))),IF(SUM(K51:$K$87)=0,\"\",0)))","v":""}]
[null,null,null,null,null,null,null,null,null,44,null,{"$f":"IF(ISERROR(IF($K52>0,IF($K$7=\"(Mg/year)\",($K52*DEFAULTS!$B$55*DEFAULTS!$B$53/DEFAULTS!$B$54),($K52*DEFAULTS!$B$54/(DEFAULTS!$B$53*DEFAULTS!$B$55))),IF(SUM(K52:$K$87)=0,\"\",0))),0,IF($K52>0,IF($K$7=\"(Mg/year)\",($K52*DEFAULTS!$B$55*DEFAULTS!$B$53/DEFAULTS!$B$54),($K52*DEFAULTS!$B$54/(DEFAULTS!$B$53*DEFAULTS!$B$55))),IF(SUM(K52:$K$87)=0,\"\",0)))","v":""}]
[null,null,null,null,null,null,null,null,null,45,null,{"$f":"IF(ISERROR(IF($K53>0,IF($K$7=\"(Mg/year)\",($K53*DEFAULTS!$B$55*DEFAULTS!$B$53/DEFAULTS!$B$54),($K53*DEFAULTS!$B$54/(DEFAULTS!$B$53*DEFAULTS!$B$55))),IF(SUM(K53:$K$87)=0,\"\",0))),0,IF($K53>0,IF($K$7=\"(Mg/year)\",($K53*DEFAULTS!$B$55*DEFAULTS!$B$53/DEFAULTS!$B$54),($K53*DEFAULTS!$B$54/(DEFAULTS!$B$53*DEFAULTS!$B$55))),IF(SUM(K53:$K$87)=0,\"\",0)))","v":""}]
[null,null,null,null,null,null,null,null,null,46,null,{"$f":"IF(ISERROR(IF($K54>0,IF($K$7=\"(Mg/year)\",($K54*DEFAULTS!$B$55*DEFAULTS!$B$53/DEFAULTS!$B$54),($K54*DEFAULTS!$B$54/(DEFAULTS!$B$53*DEFAULTS!$B$55))),IF(SUM(K54:$K$87)=0,\"\",0))),0,IF($K54>0,IF($K$7=\"(Mg/year)\",($K54*DEFAULTS!$B$55*DEFAULTS!$B$53/DEFAULTS!$B$54),($K54*DEFAULTS!$B$54/(DEFAULTS!$B$53*DEFAULTS!$B$55))),IF(SUM(K54:$K$87)=0,\"\",0)))","v":""}]
[null,null,null,null,null,null,null,null,null,47,null,{"$f":"IF(ISERROR(IF($K55>0,IF($K$7=\"(Mg/year)\",($K55*DEFAULTS!$B$55*DEFAULTS!$B$53/DEFAULTS!$B$54),($K55*DEFAULTS!$B$54/(DEFAULTS!$B$53*DEFAULTS!$B$55))),IF(SUM(K55:$K$87)=0,\"\",0))),0,IF($K55>0,IF($K$7=\"(Mg/year)\",($K55*DEFAULTS!$B$55*DEFAULTS!$B$53/DEFAULTS!$B$54),($K55*DEFAULTS!$B$54/(DEFAULTS!$B$53*DEFAULTS!$B$55))),IF(SUM(K55:$K$87)=0,\"\",0)))","v":""}]
[null,null,null,null,null,null,null,null,null,48,null,{"$f":"IF(ISERROR(IF($K56>0,IF($K$7=\"(Mg/year)\",($K56*DEFAULTS!$B$55*DEFAULTS!$B$53/DEFAULTS!$B$54),($K56*DEFAULTS!$B$54/(DEFAULTS!$B$53*DEFAULTS!$B$55))),IF(SUM(K56:$K$87)=0,\"\",0))),0,IF($K56>0,IF($K$7=\"(Mg/year)\",($K56*DEFAULTS!$B$55*DEFAULTS!$B$53/DEFAULTS!$B$54),($K56*DEFAULTS!$B$54/(DEFAULTS!$B$53*DEFAULTS!$B$55))),IF(SUM(K56:$K$87)=0,\"\",0)))","v":""}]
[null,null,null,null,null,null,null,null,null,49,null,{"$f":"IF(ISERROR(IF($K57>0,IF($K$7=\"(Mg/year)\",($K57*DEFAULTS!$B$55*DEFAULTS!$B$53/DEFAULTS!$B$54),($K57*DEFAULTS!$B$54/(DEFAULTS!$B$53*DEFAULTS!$B$55))),IF(SUM(K57:$K$87)=0,\"\",0))),0,IF($K57>0,IF($K$7=\"(Mg/year)\",($K57*DEFAULTS!$B$55*DEFAULTS!$B$53/DEFAULTS!$B$54),($K57*DEFAULTS!$B$54/(DEFAULTS!$B$53*DEFAULTS!$B$55))),IF(SUM(K57:$K$87)=0,\"\",0)))","v":""}]
[null,null,null,null,null,null,null,null,null,50,null,{"$f":"IF(ISERROR(IF($K58>0,IF($K$7=\"(Mg/year)\",($K58*DEFAULTS!$B$55*DEFAULTS!$B$53/DEFAULTS!$B$54),($K58*DEFAULTS!$B$54/(DEFAULTS!$B$53*DEFAULTS!$B$55))),IF(SUM(K58:$K$87)=0,\"\",0))),0,IF($K58>0,IF($K$7=\"(Mg/year)\",($K58*DEFAULTS!$B$55*DEFAULTS!$B$53/DEFAULTS!$B$54),($K58*DEFAULTS!$B$54/(DEFAULTS!$B$53*DEFAULTS!$B$55))),IF(SUM(K58:$K$87)=0,\"\",0)))","v":""}]
[null,null,null,null,null,null,null,null,null,51,null,{"$f":"IF(ISERROR(IF($K59>0,IF($K$7=\"(Mg/year)\",($K59*DEFAULTS!$B$55*DEFAULTS!$B$53/DEFAULTS!$B$54),($K59*DEFAULTS!$B$54/(DEFAULTS!$B$53*DEFAULTS!$B$55))),IF(SUM(K59:$K$87)=0,\"\",0))),0,IF($K59>0,IF($K$7=\"(Mg/year)\",($K59*DEFAULTS!$B$55*DEFAULTS!$B$53/DEFAULTS!$B$54),($K59*DEFAULTS!$B$54/(DEFAULTS!$B$53*DEFAULTS!$B$55))),IF(SUM(K59:$K$87)=0,\"\",0)))","v":""}]
[null,null,null,null,null,null,null,null,null,52,null,{"$f":"IF(ISERROR(IF($K60>0,IF($K$7=\"(Mg/year)\",($K60*DEFAULTS!$B$55*DEFAULTS!$B$53/DEFAULTS!$B$54),($K60*DEFAULTS!$B$54/(DEFAULTS!$B$53*DEFAULTS!$B$55))),IF(SUM(K60:$K$87)=0,\"\",0))),0,IF($K60>0,IF($K$7=\"(Mg/year)\",($K60*DEFAULTS!$B$55*DEFAULTS!$B$53/DEFAULTS!$B$54),($K60*DEFAULTS!$B$54/(DEFAULTS!$B$53*DEFAULTS!$B$55))),IF(SUM(K60:$K$87)=0,\"\",0)))","v":""}]
[null,null,null,null,null,null,null,null,null,53,null,{"$f":"IF(ISERROR(IF($K61>0,IF($K$7=\"(Mg/year)\",($K61*DEFAULTS!$B$55*DEFAULTS!$B$53/DEFAULTS!$B$54),($K61*DEFAULTS!$B$54/(DEFAULTS!$B$53*DEFAULTS!$B$55))),IF(SUM(K61:$K$87)=0,\"\",0))),0,IF($K61>0,IF($K$7=\"(Mg/year)\",($K61*DEFAULTS!$B$55*DEFAULTS!$B$53/DEFAULTS!$B$54),($K61*DEFAULTS!$B$54/(DEFAULTS!$B$53*DEFAULTS!$B$55))),IF(SUM(K61:$K$87)=0,\"\",0)))","v":""}]
[null,null,null,null,null,null,null,null,null,54,null,{"$f":"IF(ISERROR(IF($K62>0,IF($K$7=\"(Mg/year)\",($K62*DEFAULTS!$B$55*DEFAULTS!$B$53/DEFAULTS!$B$54),($K62*DEFAULTS!$B$54/(DEFAULTS!$B$53*DEFAULTS!$B$55))),IF(SUM(K62:$K$87)=0,\"\",0))),0,IF($K62>0,IF($K$7=\"(Mg/year)\",($K62*DEFAULTS!$B$55*DEFAULTS!$B$53/DEFAULTS!$B$54),($K62*DEFAULTS!$B$54/(DEFAULTS!$B$53*DEFAULTS!$B$55))),IF(SUM(K62:$K$87)=0,\"\",0)))","v":""}]
[null,null,null,null,null,null,null,null,null,55,null,{"$f":"IF(ISERROR(IF($K63>0,IF($K$7=\"(Mg/year)\",($K63*DEFAULTS!$B$55*DEFAULTS!$B$53/DEFAULTS!$B$54),($K63*DEFAULTS!$B$54/(DEFAULTS!$B$53*DEFAULTS!$B$55))),IF(SUM(K63:$K$87)=0,\"\",0))),0,IF($K63>0,IF($K$7=\"(Mg/year)\",($K63*DEFAULTS!$B$55*DEFAULTS!$B$53/DEFAULTS!$B$54),($K63*DEFAULTS!$B$54/(DEFAULTS!$B$53*DEFAULTS!$B$55))),IF(SUM(K63:$K$87)=0,\"\",0)))","v":""}]
[null,null,null,null,null,null,null,null,null,56,null,{"$f":"IF(ISERROR(IF($K64>0,IF($K$7=\"(Mg/year)\",($K64*DEFAULTS!$B$55*DEFAULTS!$B$53/DEFAULTS!$B$54),($K64*DEFAULTS!$B$54/(DEFAULTS!$B$53*DEFAULTS!$B$55))),IF(SUM(K64:$K$87)=0,\"\",0))),0,IF($K64>0,IF($K$7=\"(Mg/year)\",($K64*DEFAULTS!$B$55*DEFAULTS!$B$53/DEFAULTS!$B$54),($K64*DEFAULTS!$B$54/(DEFAULTS!$B$53*DEFAULTS!$B$55))),IF(SUM(K64:$K$87)=0,\"\",0)))","v":""}]
[null,null,null,null,null,null,null,null,null,57,null,{"$f":"IF(ISERROR(IF($K65>0,IF($K$7=\"(Mg/year)\",($K65*DEFAULTS!$B$55*DEFAULTS!$B$53/DEFAULTS!$B$54),($K65*DEFAULTS!$B$54/(DEFAULTS!$B$53*DEFAULTS!$B$55))),IF(SUM(K65:$K$87)=0,\"\",0))),0,IF($K65>0,IF($K$7=\"(Mg/year)\",($K65*DEFAULTS!$B$55*DEFAULTS!$B$53/DEFAULTS!$B$54),($K65*DEFAULTS!$B$54/(DEFAULTS!$B$53*DEFAULTS!$B$55))),IF(SUM(K65:$K$87)=0,\"\",0)))","v":""}]
[null,null,null,null,null,null,null,null,null,58,null,{"$f":"IF(ISERROR(IF($K66>0,IF($K$7=\"(Mg/year)\",($K66*DEFAULTS!$B$55*DEFAULTS!$B$53/DEFAULTS!$B$54),($K66*DEFAULTS!$B$54/(DEFAULTS!$B$53*DEFAULTS!$B$55))),IF(SUM(K66:$K$87)=0,\"\",0))),0,IF($K66>0,IF($K$7=\"(Mg/year)\",($K66*DEFAULTS!$B$55*DEFAULTS!$B$53/DEFAULTS!$B$54),($K66*DEFAULTS!$B$54/(DEFAULTS!$B$53*DEFAULTS!$B$55))),IF(SUM(K66:$K$87)=0,\"\",0)))","v":""}]
[null,null,null,null,null,null,null,null,null,59,null,{"$f":"IF(ISERROR(IF($K67>0,IF($K$7=\"(Mg/year)\",($K67*DEFAULTS!$B$55*DEFAULTS!$B$53/DEFAULTS!$B$54),($K67*DEFAULTS!$B$54/(DEFAULTS!$B$53*DEFAULTS!$B$55))),IF(SUM(K67:$K$87)=0,\"\",0))),0,IF($K67>0,IF($K$7=\"(Mg/year)\",($K67*DEFAULTS!$B$55*DEFAULTS!$B$53/DEFAULTS!$B$54),($K67*DEFAULTS!$B$54/(DEFAULTS!$B$53*DEFAULTS!$B$55))),IF(SUM(K67:$K$87)=0,\"\",0)))","v":""}]
[null,null,null,null,null,null,null,null,null,60,null,{"$f":"IF(ISERROR(IF($K68>0,IF($K$7=\"(Mg/year)\",($K68*DEFAULTS!$B$55*DEFAULTS!$B$53/DEFAULTS!$B$54),($K68*DEFAULTS!$B$54/(DEFAULTS!$B$53*DEFAULTS!$B$55))),IF(SUM(K68:$K$87)=0,\"\",0))),0,IF($K68>0,IF($K$7=\"(Mg/year)\",($K68*DEFAULTS!$B$55*DEFAULTS!$B$53/DEFAULTS!$B$54),($K68*DEFAULTS!$B$54/(DEFAULTS!$B$53*DEFAULTS!$B$55))),IF(SUM(K68:$K$87)=0,\"\",0)))","v":""}]
[null,null,null,null,null,null,null,null,null,61,null,{"$f":"IF(ISERROR(IF($K69>0,IF($K$7=\"(Mg/year)\",($K69*DEFAULTS!$B$55*DEFAULTS!$B$53/DEFAULTS!$B$54),($K69*DEFAULTS!$B$54/(DEFAULTS!$B$53*DEFAULTS!$B$55))),IF(SUM(K69:$K$87)=0,\"\",0))),0,IF($K69>0,IF($K$7=\"(Mg/year)\",($K69*DEFAULTS!$B$55*DEFAULTS!$B$53/DEFAULTS!$B$54),($K69*DEFAULTS!$B$54/(DEFAULTS!$B$53*DEFAULTS!$B$55))),IF(SUM(K69:$K$87)=0,\"\",0)))","v":""}]
[null,null,null,null,null,null,null,null,null,62,null,{"$f":"IF(ISERROR(IF($K70>0,IF($K$7=\"(Mg/year)\",($K70*DEFAULTS!$B$55*DEFAULTS!$B$53/DEFAULTS!$B$54),($K70*DEFAULTS!$B$54/(DEFAULTS!$B$53*DEFAULTS!$B$55))),IF(SUM(K70:$K$87)=0,\"\",0))),0,IF($K70>0,IF($K$7=\"(Mg/year)\",($K70*DEFAULTS!$B$55*DEFAULTS!$B$53/DEFAULTS!$B$54),($K70*DEFAULTS!$B$54/(DEFAULTS!$B$53*DEFAULTS!$B$55))),IF(SUM(K70:$K$87)=0,\"\",0)))","v":""}]
[null,null,null,null,null,null,null,null,null,63,null,{"$f":"IF(ISERROR(IF($K71>0,IF($K$7=\"(Mg/year)\",($K71*DEFAULTS!$B$55*DEFAULTS!$B$53/DEFAULTS!$B$54),($K71*DEFAULTS!$B$54/(DEFAULTS!$B$53*DEFAULTS!$B$55))),IF(SUM(K71:$K$87)=0,\"\",0))),0,IF($K71>0,IF($K$7=\"(Mg/year)\",($K71*DEFAULTS!$B$55*DEFAULTS!$B$53/DEFAULTS!$B$54),($K71*DEFAULTS!$B$54/(DEFAULTS!$B$53*DEFAULTS!$B$55))),IF(SUM(K71:$K$87)=0,\"\",0)))","v":""}]
[null,null,null,null,null,null,null,null,null,64,null,{"$f":"IF(ISERROR(IF($K72>0,IF($K$7=\"(Mg/year)\",($K72*DEFAULTS!$B$55*DEFAULTS!$B$53/DEFAULTS!$B$54),($K72*DEFAULTS!$B$54/(DEFAULTS!$B$53*DEFAULTS!$B$55))),IF(SUM(K72:$K$87)=0,\"\",0))),0,IF($K72>0,IF($K$7=\"(Mg/year)\",($K72*DEFAULTS!$B$55*DEFAULTS!$B$53/DEFAULTS!$B$54),($K72*DEFAULTS!$B$54/(DEFAULTS!$B$53*DEFAULTS!$B$55))),IF(SUM(K72:$K$87)=0,\"\",0)))","v":""}]
[null,null,null,null,null,null,null,null,null,65,null,{"$f":"IF(ISERROR(IF($K73>0,IF($K$7=\"(Mg/year)\",($K73*DEFAULTS!$B$55*DEFAULTS!$B$53/DEFAULTS!$B$54),($K73*DEFAULTS!$B$54/(DEFAULTS!$B$53*DEFAULTS!$B$55))),IF(SUM(K73:$K$87)=0,\"\",0))),0,IF($K73>0,IF($K$7=\"(Mg/year)\",($K73*DEFAULTS!$B$55*DEFAULTS!$B$53/DEFAULTS!$B$54),($K73*DEFAULTS!$B$54/(DEFAULTS!$B$53*DEFAULTS!$B$55))),IF(SUM(K73:$K$87)=0,\"\",0)))","v":""}]
[null,null,null,null,null,null,null,null,null,66,null,{"$f":"IF(ISERROR(IF($K74>0,IF($K$7=\"(Mg/year)\",($K74*DEFAULTS!$B$55*DEFAULTS!$B$53/DEFAULTS!$B$54),($K74*DEFAULTS!$B$54/(DEFAULTS!$B$53*DEFAULTS!$B$55))),IF(SUM(K74:$K$87)=0,\"\",0))),0,IF($K74>0,IF($K$7=\"(Mg/year)\",($K74*DEFAULTS!$B$55*DEFAULTS!$B$53/DEFAULTS!$B$54),($K74*DEFAULTS!$B$54/(DEFAULTS!$B$53*DEFAULTS!$B$55))),IF(SUM(K74:$K$87)=0,\"\",0)))","v":""}]
[null,null,null,null,null,null,null,null,null,67,null,{"$f":"IF(ISERROR(IF($K75>0,IF($K$7=\"(Mg/year)\",($K75*DEFAULTS!$B$55*DEFAULTS!$B$53/DEFAULTS!$B$54),($K75*DEFAULTS!$B$54/(DEFAULTS!$B$53*DEFAULTS!$B$55))),IF(SUM(K75:$K$87)=0,\"\",0))),0,IF($K75>0,IF($K$7=\"(Mg/year)\",($K75*DEFAULTS!$B$55*DEFAULTS!$B$53/DEFAULTS!$B$54),($K75*DEFAULTS!$B$54/(DEFAULTS!$B$53*DEFAULTS!$B$55))),IF(SUM(K75:$K$87)=0,\"\",0)))","v":""}]
[null,null,null,null,null,null,null,null,null,68,null,{"$f":"IF(ISERROR(IF($K76>0,IF($K$7=\"(Mg/year)\",($K76*DEFAULTS!$B$55*DEFAULTS!$B$53/DEFAULTS!$B$54),($K76*DEFAULTS!$B$54/(DEFAULTS!$B$53*DEFAULTS!$B$55))),IF(SUM(K76:$K$87)=0,\"\",0))),0,IF($K76>0,IF($K$7=\"(Mg/year)\",($K76*DEFAULTS!$B$55*DEFAULTS!$B$53/DEFAULTS!$B$54),($K76*DEFAULTS!$B$54/(DEFAULTS!$B$53*DEFAULTS!$B$55))),IF(SUM(K76:$K$87)=0,\"\",0)))","v":""}]
[null,null,null,null,null,null,null,null,null,69,null,{"$f":"IF(ISERROR(IF($K77>0,IF($K$7=\"(Mg/year)\",($K77*DEFAULTS!$B$55*DEFAULTS!$B$53/DEFAULTS!$B$54),($K77*DEFAULTS!$B$54/(DEFAULTS!$B$53*DEFAULTS!$B$55))),IF(SUM(K77:$K$87)=0,\"\",0))),0,IF($K77>0,IF($K$7=\"(Mg/year)\",($K77*DEFAULTS!$B$55*DEFAULTS!$B$53/DEFAULTS!$B$54),($K77*DEFAULTS!$B$54/(DEFAULTS!$B$53*DEFAULTS!$B$55))),IF(SUM(K77:$K$87)=0,\"\",0)))","v":""}]
[null,null,null,null,null,null,null,null,null,70,null,{"$f":"IF(ISERROR(IF($K78>0,IF($K$7=\"(Mg/year)\",($K78*DEFAULTS!$B$55*DEFAULTS!$B$53/DEFAULTS!$B$54),($K78*DEFAULTS!$B$54/(DEFAULTS!$B$53*DEFAULTS!$B$55))),IF(SUM(K78:$K$87)=0,\"\",0))),0,IF($K78>0,IF($K$7=\"(Mg/year)\",($K78*DEFAULTS!$B$55*DEFAULTS!$B$53/DEFAULTS!$B$54),($K78*DEFAULTS!$B$54/(DEFAULTS!$B$53*DEFAULTS!$B$55))),IF(SUM(K78:$K$87)=0,\"\",0)))","v":""}]
[null,null,null,null,null,null,null,null,null,71,null,{"$f":"IF(ISERROR(IF($K79>0,IF($K$7=\"(Mg/year)\",($K79*DEFAULTS!$B$55*DEFAULTS!$B$53/DEFAULTS!$B$54),($K79*DEFAULTS!$B$54/(DEFAULTS!$B$53*DEFAULTS!$B$55))),IF(SUM(K79:$K$87)=0,\"\",0))),0,IF($K79>0,IF($K$7=\"(Mg/year)\",($K79*DEFAULTS!$B$55*DEFAULTS!$B$53/DEFAULTS!$B$54),($K79*DEFAULTS!$B$54/(DEFAULTS!$B$53*DEFAULTS!$B$55))),IF(SUM(K79:$K$87)=0,\"\",0)))","v":""}]
[null,null,null,null,null,null,null,null,null,{"$f":"IF(J79=\"\",\"\",(J79+1))","v":72},null,{"$f":"IF(ISERROR(IF($K80>0,IF($K$7=\"(Mg/year)\",($K80*DEFAULTS!$B$55*DEFAULTS!$B$53/DEFAULTS!$B$54),($K80*DEFAULTS!$B$54/(DEFAULTS!$B$53*DEFAULTS!$B$55))),IF(SUM(K80:$K$87)=0,\"\",0))),0,IF($K80>0,IF($K$7=\"(Mg/year)\",($K80*DEFAULTS!$B$55*DEFAULTS!$B$53/DEFAULTS!$B$54),($K80*DEFAULTS!$B$54/(DEFAULTS!$B$53*DEFAULTS!$B$55))),IF(SUM(K80:$K$87)=0,\"\",0)))","v":""}]
[null,null,null,null,null,null,null,null,null,73,null,{"$f":"IF(ISERROR(IF($K81>0,IF($K$7=\"(Mg/year)\",($K81*DEFAULTS!$B$55*DEFAULTS!$B$53/DEFAULTS!$B$54),($K81*DEFAULTS!$B$54/(DEFAULTS!$B$53*DEFAULTS!$B$55))),IF(SUM(K81:$K$87)=0,\"\",0))),0,IF($K81>0,IF($K$7=\"(Mg/year)\",($K81*DEFAULTS!$B$55*DEFAULTS!$B$53/DEFAULTS!$B$54),($K81*DEFAULTS!$B$54/(DEFAULTS!$B$53*DEFAULTS!$B$55))),IF(SUM(K81:$K$87)=0,\"\",0)))","v":""}]
[null,null,null,null,null,null,null,null,null,74,null,{"$f":"IF(ISERROR(IF($K82>0,IF($K$7=\"(Mg/year)\",($K82*DEFAULTS!$B$55*DEFAULTS!$B$53/DEFAULTS!$B$54),($K82*DEFAULTS!$B$54/(DEFAULTS!$B$53*DEFAULTS!$B$55))),IF(SUM(K82:$K$87)=0,\"\",0))),0,IF($K82>0,IF($K$7=\"(Mg/year)\",($K82*DEFAULTS!$B$55*DEFAULTS!$B$53/DEFAULTS!$B$54),($K82*DEFAULTS!$B$54/(DEFAULTS!$B$53*DEFAULTS!$B$55))),IF(SUM(K82:$K$87)=0,\"\",0)))","v":""}]
[null,null,null,null,null,null,null,null,null,75,null,{"$f":"IF(ISERROR(IF($K83>0,IF($K$7=\"(Mg/year)\",($K83*DEFAULTS!$B$55*DEFAULTS!$B$53/DEFAULTS!$B$54),($K83*DEFAULTS!$B$54/(DEFAULTS!$B$53*DEFAULTS!$B$55))),IF(SUM(K83:$K$87)=0,\"\",0))),0,IF($K83>0,IF($K$7=\"(Mg/year)\",($K83*DEFAULTS!$B$55*DEFAULTS!$B$53/DEFAULTS!$B$54),($K83*DEFAULTS!$B$54/(DEFAULTS!$B$53*DEFAULTS!$B$55))),IF(SUM(K83:$K$87)=0,\"\",0)))","v":""}]
[null,null,null,null,null,null,null,null,null,76,null,{"$f":"IF(ISERROR(IF($K84>0,IF($K$7=\"(Mg/year)\",($K84*DEFAULTS!$B$55*DEFAULTS!$B$53/DEFAULTS!$B$54),($K84*DEFAULTS!$B$54/(DEFAULTS!$B$53*DEFAULTS!$B$55))),IF(SUM(K84:$K$87)=0,\"\",0))),0,IF($K84>0,IF($K$7=\"(Mg/year)\",($K84*DEFAULTS!$B$55*DEFAULTS!$B$53/DEFAULTS!$B$54),($K84*DEFAULTS!$B$54/(DEFAULTS!$B$53*DEFAULTS!$B$55))),IF(SUM(K84:$K$87)=0,\"\",0)))","v":""}]
[null,null,null,null,null,null,null,null,null,77,null,{"$f":"IF(ISERROR(IF($K85>0,IF($K$7=\"(Mg/year)\",($K85*DEFAULTS!$B$55*DEFAULTS!$B$53/DEFAULTS!$B$54),($K85*DEFAULTS!$B$54/(DEFAULTS!$B$53*DEFAULTS!$B$55))),IF(SUM(K85:$K$87)=0,\"\",0))),0,IF($K85>0,IF($K$7=\"(Mg/year)\",($K85*DEFAULTS!$B$55*DEFAULTS!$B$53/DEFAULTS!$B$54),($K85*DEFAULTS!$B$54/(DEFAULTS!$B$53*DEFAULTS!$B$55))),IF(SUM(K85:$K$87)=0,\"\",0)))","v":""}]
[null,null,null,null,null,null,null,null,null,78,null,{"$f":"IF(ISERROR(IF($K86>0,IF($K$7=\"(Mg/year)\",($K86*DEFAULTS!$B$55*DEFAULTS!$B$53/DEFAULTS!$B$54),($K86*DEFAULTS!$B$54/(DEFAULTS!$B$53*DEFAULTS!$B$55))),IF(SUM(K86:$K$87)=0,\"\",0))),0,IF($K86>0,IF($K$7=\"(Mg/year)\",($K86*DEFAULTS!$B$55*DEFAULTS!$B$53/DEFAULTS!$B$54),($K86*DEFAULTS!$B$54/(DEFAULTS!$B$53*DEFAULTS!$B$55))),IF(SUM(K86:$K$87)=0,\"\",0)))","v":""}]
[null,null,null,null,null,null,null,null,null,79,null,{"$f":"IF(ISERROR(IF($K87>0,IF($K$7=\"(Mg/year)\",($K87*DEFAULTS!$B$55*DEFAULTS!$B$53/DEFAULTS!$B$54),($K87*DEFAULTS!$B$54/(DEFAULTS!$B$53*DEFAULTS!$B$55))),IF(SUM(K87:$K$87)=0,\"\",0))),0,IF($K87>0,IF($K$7=\"(Mg/year)\",($K87*DEFAULTS!$B$55*DEFAULTS!$B$53/DEFAULTS!$B$54),($K87*DEFAULTS!$B$54/(DEFAULTS!$B$53*DEFAULTS!$B$55))),IF(SUM(K87:$K$87)=0,\"\",0)))","v":""}]

{"sheet":"POLLUTANTS","index":2,"n_rows":80,"n_cols":8,"rows_kept":80,"cut":false,"hidden":false,"merged":[[0,3,0,6],[7,6,8,6],[76,1,77,3],[13,0,72,0],[61,1,62,1],[61,3,62,3],[7,4,8,4],[7,5,8,5],[79,1,79,3],[61,2,62,2],[6,0,6,4],[9,5,12,6],[5,5,6,6],[9,0,12,0],[5,0,5,4],[7,1,8,1],[7,2,8,2],[7,3,8,3]]}
["POLLUTANTS",null,"Landfill Name or Identifier:",{"$f":"IF('USER INPUTS'!$E$1=0,\"\",'USER INPUTS'!$E$1)","v":""}]
[]
[]
[]
[]
["Default parameters will be used by model unless alternate parameters are entered.",null,null,null,null,"Enter User-specified Pollutant Parameters for Existing Pollutants:"]
["Gas / Pollutant Default Parameters:"]
[null,"Compound","Concentration\n(ppmv)","Molecular Weight","Notes","Concentration\n(ppmv)","Molecular Weight"]
[]
["Gases","Total landfill gas",null,{"$f":"DEFAULTS!$G$8","v":30.024999999999999}]
[null,"Methane",null,16.04]
[null,"Carbon dioxide",null,44.01]
[null,"NMOC",{"$f":"DEFAULTS!$F$11","v":600},86.18]
["Pollutants","1,1,1-Trichloroethane (methyl chloroform) - HAP",0.48,133.41,"A",null,null,{"$f":"IF(OR(F14<>\"\",G14<>\"\"),1,0)","v":0}]
[null,"1,1,2,2-Tetrachloroethane - HAP/VOC",1.1000000000000001,167.85,"A, B",null,null,{"$f":"IF(OR(F15<>\"\",G15<>\"\"),1,0)","v":0}]
[null,"1,1-Dichloroethane (ethylidene dichloride) - HAP/VOC",2.4,98.97,"A, B",null,null,0]
[null,"1,1-Dichloroethene (vinylidene chloride) - HAP/VOC",0.2,96.94,"A, B",null,null,0]
[null,"1,2-Dichloroethane (ethylene dichloride) - HAP/VOC",0.41,98.96,"A, B",null,null,0]
[null,"1,2-Dichloropropane (propylene dichloride) - HAP/VOC",0.18,112.99,"A, B",null,null,0]
[null,"2-Propanol (isopropyl alcohol) - VOC",50,60.11,"B",null,null,0]
[null,"Acetone",7,58.08,null,null,null,0]
[null,"Acrylonitrile - HAP/VOC",6.3,53.06,"A, B",null,null,0]
[null,"Benzene - No or Unknown Co-disposal - HAP/VOC",1.9,78.11,"A, B",null,null,0]
[null,"Benzene - Co-disposal - HAP/VOC",11,78.11,"A, B",null,null,0]
[null,"Bromodichloromethane - VOC",3.1,163.83000000000001,"B",null,null,0]
[null,"Butane - VOC",5,58.12,"B",null,null,0]
[null,"Carbon disulfide - HAP/VOC",0.57999999999999996,76.13,"A, B",null,null,0]
[null,"Carbon monoxide",140,28.01,null,null,null,0]
[null,"Carbon tetrachloride - HAP/VOC",4.0000000000000001E-3,153.84,"A, B",null,null,0]
[null,"Carbonyl sulfide - HAP/VOC",0.49,60.07,"A, B",null,null,0]
[null,"Chlorobenzene - HAP/VOC",0.25,112.56,"A, B",null,null,0]
[null,"Chlorodifluoromethane",1.3,86.47,null,null,null,0]
[null,"Chloroethane (ethyl chloride) - HAP/VOC",1.3,64.52,"A, B",null,null,0]
[null,"Chloroform - HAP/VOC",0.03,119.39,"A, B",null,null,0]
[null,"Chloromethane - VOC",1.2,50.49,"B",null,null,0]
[null,"Dichlorobenzene - (HAP for para isomer/VOC)",0.21,147,"B, C",null,null,0]
[null,"Dichlorodifluoromethane",16,120.91,null,null,null,0]
[null,"Dichlorofluoromethane - VOC",2.6,102.92,"B",null,null,0]
[null,"Dichloromethane (methylene chloride) - HAP",14,84.94,"A",null,null,0]
[null,"Dimethyl sulfide (methyl sulfide) - VOC",7.8,62.13,"B",null,null,0]
[null,"Ethane",890,30.07,null,null,null,0]
[null,"Ethanol - VOC",27,46.08,"B",null,null,0]
[null,"Ethyl mercaptan (ethanethiol) - VOC",2.2999999999999998,62.13,"B",null,null,0]
[null,"Ethylbenzene - HAP/VOC",4.5999999999999996,106.16,"A, B",null,null,0]
[null,"Ethylene dibromide - HAP/VOC",1E-3,187.88,"A, B",null,null,0]
[null,"Fluorotrichloromethane - VOC",0.76,137.38,"B",null,null,0]
[null,"Hexane - HAP/VOC",6.6,86.18,"A, B",null,null,0]
[null,"Hydrogen sulfide",36,34.08,null,null,null,0]
[null,"Mercury (total) - HAP",2.9E-4,200.61,"A",null,null,0]
[null,"Methyl ethyl ketone - HAP/VOC",7.1,72.11,"A, B",null,null,0]
[null,"Methyl isobutyl ketone - HAP/VOC",1.9,100.16,"A, B",null,null,0]
[null,"Methyl mercaptan - VOC",2.5,48.11,"B",null,null,0]
[null,"Pentane - VOC",3.3,72.150000000000006,"B",null,null,0]
[null,"Perchloroethylene (tetrachloroethylene) - HAP",3.7,165.83,"A",null,null,0]
[null,"Propane - VOC",11,44.09,"B",null,null,0]
[null,"t-1,2-Dichloroethene - VOC",2.8,96.94,"B",null,null,0]
[null,"Toluene - No or Unknown Co-disposal - HAP/VOC",39,92.13,"A, B",null,null,0]
[null,"Toluene - Co-disposal - HAP/VOC",170,92.13,"A, B",null,null,0]
[null,"Trichloroethylene (trichloroethene) - HAP/VOC",2.8,131.4,"A, B",null,null,0]
[null,"Vinyl chloride - HAP/VOC",7.3,62.5,"A, B",null,null,0]
[null,"Xylenes - HAP/VOC",12,106.16,"A, B",null,null,0]
[null,"Enter New Compound","Enter Concentration\n(ppmv)","Enter Molecular Weight",null,null,null,0]
[null,null,null,null,null,null,null,0]
[null,null,null,null,null,null,null,{"$f":"IF(OR(B64<>\"\",C64<>\"\",D64<>\"\"),1,0)","v":0}]
[null,null,null,null,null,null,null,{"$f":"IF(OR(B65<>\"\",C65<>\"\",D65<>\"\"),1,0)","v":0}]
[null,null,null,null,null,null,null,0]
[null,null,null,null,null,null,null,0]
[null,null,null,null,null,null,null,0]
[null,null,null,null,null,null,null,0]
[null,null,null,null,null,null,null,0]
[null,null,null,null,null,null,null,0]
[null,null,null,null,null,null,null,0]
[null,null,null,null,null,null,null,0]
[null,null,null,null,null,null,null,{"$f":"SUM(H14:H73)","v":0}]
[null,"A.  Hazardous air pollutants (HAP) listed in Title III of the 1990 Clean Air Act Amendments."]
[null,"B.  Considered volatile organic compounds (VOC), as defined by U.S. EPA in 40 CFR 51.100(s)."]
[null,"C.  Source tests did not indicate whether this compound was the para- or ortho- isomer.  The para- isomer is a Title III-listed HAP."]
[]
[]
[null,"Source:  Tables 2.4-1 and 2.4-2 of Compilation of Air Pollutant Emission Factors, AP-42, Volume 1: Stationary Point and Area Sources, 5th ed., Chapter 2.4 Municipal Solid Waste Landfills.  U.S. EPA, Office of Air Quality Planning and Standards.  Research Triangle Park, NC.  November 1998.  http://www.epa.gov/ttn/chief/ap42/ch02/final/c02s04.pdf"]

{"sheet":"INPUT REVIEW","index":3,"n_rows":84,"n_cols":13,"rows_kept":84,"cut":false,"hidden":false,"merged":[[22,1,26,8],[0,6,0,9],[3,6,6,9]]}
["INPUT REVIEW",null,null,null,null,"Landfill Name or Identifier:",{"$f":"IF('USER INPUTS'!$E$1=0,\"\",'USER INPUTS'!$E$1)","v":""}]
[]
[null,"LANDFILL CHARACTERISTICS",null,null,null,null,null,null,null,null,"WASTE ACCEPTANCE RATES"]
[null,"Landfill Open Year",null,null,null,{"$f":"IF(OpenYear>0,OpenYear,\"\")","v":""},{"$f":"IF(AND(F6>F5,ClosureCalcYes=TRUE),\"The 80-year waste acceptance limit of the model has been exceeded before the Waste Design Capacity was reached. The model will assume the 80th year of waste acceptance as the final year to estimate emissions. See Section 2.6 of the User's Manual.\",IF(AND(ClosureYear-OpenYear>79,ClosureCalcYes=FALSE),\"Landfill Closure Year entered exceeds the 80-year waste acceptance limit. See Section 2.6 of the User's Manual.\",\"\"))","v":""},null,null,null,"Year","(Mg/year)","(short tons/year)"]
[null,"Landfill Closure Year (with 80-year limit)",null,null,null,{"$f":"IF(ClosureCalcYes=TRUE,IF(METHANE!$D$15>0,METHANE!$D$15,\"\"),IF(ClosureYear>0,MIN(OpenYear+79,ClosureYear),\"\"))","v":""},null,null,null,null,{"$f":"METHANE!B23","v":0},{"$f":"IF(METHANE!E23>=0,METHANE!E23,\"\")","v":0},{"$f":"IF(METHANE!E23>=0,METHANE!E23*DEFAULTS!$B$55*DEFAULTS!$B$53/DEFAULTS!$B$54,\"\")","v":0}]
[null,"Actual Closure Year (without limit)",null,null,null,{"$f":"IF(ISERROR(IF(ClosureCalcYes=TRUE,METHANE!D16,ClosureYear)),\"\",IF(ClosureCalcYes=TRUE,IF(METHANE!D16>0,METHANE!D16,\"\"),IF(ClosureYear>0,ClosureYear,\"\")))","v":""},null,null,null,null,{"$f":"METHANE!B24","v":1},{"$f":"IF(METHANE!E24>=0,METHANE!E24,\"\")","v":0},{"$f":"IF(METHANE!E24>=0,METHANE!E24*DEFAULTS!$B$55*DEFAULTS!$B$53/DEFAULTS!$B$54,\"\")","v":0}]
[null,"Have Model Calculate Closure Year?",null,null,null,{"$f":"IF(ClosureCalcYes=TRUE,\"Yes\",\"No\")","v":"No"},null,null,null,null,{"$f":"METHANE!B25","v":2},{"$f":"IF(METHANE!E25>=0,METHANE!E25,\"\")","v":0},{"$f":"IF(METHANE!E25>=0,METHANE!E25*DEFAULTS!$B$55*DEFAULTS!$B$53/DEFAULTS!$B$54,\"\")","v":0}]
[null,"Waste Design Capacity",null,null,null,{"$f":"IF(WasteCapacity>0,WasteCapacity,\"\")","v":""},{"$f":"'USER INPUTS'!$E$8","v":"megagrams"},null,null,null,{"$f":"METHANE!B26","v":3},{"$f":"IF(METHANE!E26>=0,METHANE!E26,\"\")","v":0},{"$f":"IF(METHANE!E26>=0,METHANE!E26*DEFAULTS!$B$55*DEFAULTS!$B$53/DEFAULTS!$B$54,\"\")","v":0}]
[null,null,null,null,null,null,null,null,null,null,{"$f":"METHANE!B27","v":4},{"$f":"IF(METHANE!E27>=0,METHANE!E27,\"\")","v":0},{"$f":"IF(METHANE!E27>=0,METHANE!E27*DEFAULTS!$B$55*DEFAULTS!$B$53/DEFAULTS!$B$54,\"\")","v":0}]
[null,"MODEL PARAMETERS",null,null,null,null,null,null,null,null,{"$f":"METHANE!B28","v":5},{"$f":"IF(METHANE!E28>=0,METHANE!E28,\"\")","v":0},{"$f":"IF(METHANE!E28>=0,METHANE!E28*DEFAULTS!$B$55*DEFAULTS!$B$53/DEFAULTS!$B$54,\"\")","v":0}]
[null,"Methane Generation Rate, k",null,null,null,{"$f":"IF('USER INPUTS'!$B$13=-1,'USER INPUTS'!$F$13,'USER INPUTS'!$B$13)","v":0.05},"year-1",null,null,null,{"$f":"METHANE!B29","v":6},{"$f":"IF(METHANE!E29>=0,METHANE!E29,\"\")","v":0},{"$f":"IF(METHANE!E29>=0,METHANE!E29*DEFAULTS!$B$55*DEFAULTS!$B$53/DEFAULTS!$B$54,\"\")","v":0}]
[null,"Potential Methane Generation Capacity, L0",null,null,null,{"$f":"IF('USER INPUTS'!$B$15=-1,'USER INPUTS'!$F$15,'USER INPUTS'!$B$15)","v":170},"m3/Mg",null,null,null,{"$f":"METHANE!B30","v":7},{"$f":"IF(METHANE!E30>=0,METHANE!E30,\"\")","v":0},{"$f":"IF(METHANE!E30>=0,METHANE!E30*DEFAULTS!$B$55*DEFAULTS!$B$53/DEFAULTS!$B$54,\"\")","v":0}]
[null,"NMOC Concentration",null,null,null,{"$f":"IF('USER INPUTS'!$B$17=-1,'USER INPUTS'!$F$17,'USER INPUTS'!$B$17)","v":600},"ppmv as hexane",null,null,null,{"$f":"METHANE!B31","v":8},{"$f":"IF(METHANE!E31>=0,METHANE!E31,\"\")","v":0},{"$f":"IF(METHANE!E31>=0,METHANE!E31*DEFAULTS!$B$55*DEFAULTS!$B$53/DEFAULTS!$B$54,\"\")","v":0}]
[null,"Methane Content",null,null,null,{"$f":"IF('USER INPUTS'!$B$19=-1,'USER INPUTS'!$F$19,'USER INPUTS'!$B$19)","v":50},"% by volume",null,null,null,{"$f":"METHANE!B32","v":9},{"$f":"IF(METHANE!E32>=0,METHANE!E32,\"\")","v":0},{"$f":"IF(METHANE!E32>=0,METHANE!E32*DEFAULTS!$B$55*DEFAULTS!$B$53/DEFAULTS!$B$54,\"\")","v":0}]
[null,null,null,null,null,null,null,null,null,null,{"$f":"METHANE!B33","v":10},{"$f":"IF(METHANE!E33>=0,METHANE!E33,\"\")","v":0},{"$f":"IF(METHANE!E33>=0,METHANE!E33*DEFAULTS!$B$55*DEFAULTS!$B$53/DEFAULTS!$B$54,\"\")","v":0}]
[null,"GASES / POLLUTANTS SELECTED",null,null,null,null,null,null,null,null,{"$f":"METHANE!B34","v":11},{"$f":"IF(METHANE!E34>=0,METHANE!E34,\"\")","v":0},{"$f":"IF(METHANE!E34>=0,METHANE!E34*DEFAULTS!$B$55*DEFAULTS!$B$53/DEFAULTS!$B$54,\"\")","v":0}]
[null,"Gas / Pollutant #1:",null,{"$f":"'USER INPUTS'!$B$24","v":"Total landfill gas"},null,null,null,null,null,null,{"$f":"METHANE!B35","v":12},{"$f":"IF(METHANE!E35>=0,METHANE!E35,\"\")","v":0},{"$f":"IF(METHANE!E35>=0,METHANE!E35*DEFAULTS!$B$55*DEFAULTS!$B$53/DEFAULTS!$B$54,\"\")","v":0}]
[null,"Gas / Pollutant #2:",null,{"$f":"'USER INPUTS'!$B$26","v":"Methane"},null,null,null,null,null,null,{"$f":"METHANE!B36","v":13},{"$f":"IF(METHANE!E36>=0,METHANE!E36,\"\")","v":0},{"$f":"IF(METHANE!E36>=0,METHANE!E36*DEFAULTS!$B$55*DEFAULTS!$B$53/DEFAULTS!$B$54,\"\")","v":0}]
[null,"Gas / Pollutant #3:",null,{"$f":"'USER INPUTS'!$B$28","v":"Carbon dioxide"},null,null,null,null,null,null,{"$f":"METHANE!B37","v":14},{"$f":"IF(METHANE!E37>=0,METHANE!E37,\"\")","v":0},{"$f":"IF(METHANE!E37>=0,METHANE!E37*DEFAULTS!$B$55*DEFAULTS!$B$53/DEFAULTS!$B$54,\"\")","v":0}]
[null,"Gas / Pollutant #4:",null,{"$f":"'USER INPUTS'!$B$30","v":"NMOC"},null,null,null,null,null,null,{"$f":"METHANE!B38","v":15},{"$f":"IF(METHANE!E38>=0,METHANE!E38,\"\")","v":0},{"$f":"IF(METHANE!E38>=0,METHANE!E38*DEFAULTS!$B$55*DEFAULTS!$B$53/DEFAULTS!$B$54,\"\")","v":0}]
[null,null,null,null,null,null,null,null,null,null,{"$f":"METHANE!B39","v":16},{"$f":"IF(METHANE!E39>=0,METHANE!E39,\"\")","v":0},{"$f":"IF(METHANE!E39>=0,METHANE!E39*DEFAULTS!$B$55*DEFAULTS!$B$53/DEFAULTS!$B$54,\"\")","v":0}]
[null,"Description/Comments:",null,null,null,null,null,null,null,null,{"$f":"METHANE!B40","v":17},{"$f":"IF(METHANE!E40>=0,METHANE!E40,\"\")","v":0},{"$f":"IF(METHANE!E40>=0,METHANE!E40*DEFAULTS!$B$55*DEFAULTS!$B$53/DEFAULTS!$B$54,\"\")","v":0}]
[null,{"$f":"IF('USER INPUTS'!$B$34>0,LEFT('USER INPUTS'!$B$34,450),\"\")","v":""},null,null,null,null,null,null,null,null,{"$f":"METHANE!B41","v":18},{"$f":"IF(METHANE!E41>=0,METHANE!E41,\"\")","v":0},{"$f":"IF(METHANE!E41>=0,METHANE!E41*DEFAULTS!$B$55*DEFAULTS!$B$53/DEFAULTS!$B$54,\"\")","v":0}]
[null,null,null,null,null,null,null,null,null,null,{"$f":"METHANE!B42","v":19},{"$f":"IF(METHANE!E42>=0,METHANE!E42,\"\")","v":0},{"$f":"IF(METHANE!E42>=0,METHANE!E42*DEFAULTS!$B$55*DEFAULTS!$B$53/DEFAULTS!$B$54,\"\")","v":0}]
[null,null,null,null,null,null,null,null,null,null,{"$f":"METHANE!B43","v":20},{"$f":"IF(METHANE!E43>=0,METHANE!E43,\"\")","v":0},{"$f":"IF(METHANE!E43>=0,METHANE!E43*DEFAULTS!$B$55*DEFAULTS!$B$53/DEFAULTS!$B$54,\"\")","v":0}]
[null,null,null,null,null,null,null,null,null,null,{"$f":"METHANE!B44","v":21},{"$f":"IF(METHANE!E44>=0,METHANE!E44,\"\")","v":0},{"$f":"IF(METHANE!E44>=0,METHANE!E44*DEFAULTS!$B$55*DEFAULTS!$B$53/DEFAULTS!$B$54,\"\")","v":0}]
[null,null,null,null,null,null,null,null,null,null,{"$f":"METHANE!B45","v":22},{"$f":"IF(METHANE!E45>=0,METHANE!E45,\"\")","v":0},{"$f":"IF(METHANE!E45>=0,METHANE!E45*DEFAULTS!$B$55*DEFAULTS!$B$53/DEFAULTS!$B$54,\"\")","v":0}]
[null,null,null,null,null,null,null,null,null,null,{"$f":"METHANE!B46","v":23},{"$f":"IF(METHANE!E46>=0,METHANE!E46,\"\")","v":0},{"$f":"IF(METHANE!E46>=0,METHANE!E46*DEFAULTS!$B$55*DEFAULTS!$B$53/DEFAULTS!$B$54,\"\")","v":0}]
[null,null,null,null,null,null,null,null,null,null,{"$f":"METHANE!B47","v":24},{"$f":"IF(METHANE!E47>=0,METHANE!E47,\"\")","v":0},{"$f":"IF(METHANE!E47>=0,METHANE!E47*DEFAULTS!$B$55*DEFAULTS!$B$53/DEFAULTS!$B$54,\"\")","v":0}]
[null,null,null,null,null,null,null,null,null,null,{"$f":"METHANE!B48","v":25},{"$f":"IF(METHANE!E48>=0,METHANE!E48,\"\")","v":0},{"$f":"IF(METHANE!E48>=0,METHANE!E48*DEFAULTS!$B$55*DEFAULTS!$B$53/DEFAULTS!$B$54,\"\")","v":0}]
[null,null,null,null,null,null,null,null,null,null,{"$f":"METHANE!B49","v":26},{"$f":"IF(METHANE!E49>=0,METHANE!E49,\"\")","v":0},{"$f":"IF(METHANE!E49>=0,METHANE!E49*DEFAULTS!$B$55*DEFAULTS!$B$53/DEFAULTS!$B$54,\"\")","v":0}]
[null,null,null,null,null,null,null,null,null,null,{"$f":"METHANE!B50","v":27},{"$f":"IF(METHANE!E50>=0,METHANE!E50,\"\")","v":0},{"$f":"IF(METHANE!E50>=0,METHANE!E50*DEFAULTS!$B$55*DEFAULTS!$B$53/DEFAULTS!$B$54,\"\")","v":0}]
[null,null,null,null,null,null,null,null,null,null,{"$f":"METHANE!B51","v":28},{"$f":"IF(METHANE!E51>=0,METHANE!E51,\"\")","v":0},{"$f":"IF(METHANE!E51>=0,METHANE!E51*DEFAULTS!$B$55*DEFAULTS!$B$53/DEFAULTS!$B$54,\"\")","v":0}]
[null,null,null,null,null,null,null,null,null,null,{"$f":"METHANE!B52","v":29},{"$f":"IF(METHANE!E52>=0,METHANE!E52,\"\")","v":0},{"$f":"IF(METHANE!E52>=0,METHANE!E52*DEFAULTS!$B$55*DEFAULTS!$B$53/DEFAULTS!$B$54,\"\")","v":0}]
[null,null,null,null,null,null,null,null,null,null,{"$f":"METHANE!B53","v":30},{"$f":"IF(METHANE!E53>=0,METHANE!E53,\"\")","v":0},{"$f":"IF(METHANE!E53>=0,METHANE!E53*DEFAULTS!$B$55*DEFAULTS!$B$53/DEFAULTS!$B$54,\"\")","v":0}]
[null,null,null,null,null,null,null,null,null,null,{"$f":"METHANE!B54","v":31},{"$f":"IF(METHANE!E54>=0,METHANE!E54,\"\")","v":0},{"$f":"IF(METHANE!E54>=0,METHANE!E54*DEFAULTS!$B$55*DEFAULTS!$B$53/DEFAULTS!$B$54,\"\")","v":0}]
[null,null,null,null,null,null,null,null,null,null,{"$f":"METHANE!B55","v":32},{"$f":"IF(METHANE!E55>=0,METHANE!E55,\"\")","v":0},{"$f":"IF(METHANE!E55>=0,METHANE!E55*DEFAULTS!$B$55*DEFAULTS!$B$53/DEFAULTS!$B$54,\"\")","v":0}]
[null,null,null,null,null,null,null,null,null,null,{"$f":"METHANE!B56","v":33},{"$f":"IF(METHANE!E56>=0,METHANE!E56,\"\")","v":0},{"$f":"IF(METHANE!E56>=0,METHANE!E56*DEFAULTS!$B$55*DEFAULTS!$B$53/DEFAULTS!$B$54,\"\")","v":0}]
[null,null,null,null,null,null,null,null,null,null,{"$f":"METHANE!B57","v":34},{"$f":"IF(METHANE!E57>=0,METHANE!E57,\"\")","v":0},{"$f":"IF(METHANE!E57>=0,METHANE!E57*DEFAULTS!$B$55*DEFAULTS!$B$53/DEFAULTS!$B$54,\"\")","v":0}]
[null,null,null,null,null,null,null,null,null,null,{"$f":"METHANE!B58","v":35},{"$f":"IF(METHANE!E58>=0,METHANE!E58,\"\")","v":0},{"$f":"IF(METHANE!E58>=0,METHANE!E58*DEFAULTS!$B$55*DEFAULTS!$B$53/DEFAULTS!$B$54,\"\")","v":0}]
[null,null,null,null,null,null,null,null,null,null,{"$f":"METHANE!B59","v":36},{"$f":"IF(METHANE!E59>=0,METHANE!E59,\"\")","v":0},{"$f":"IF(METHANE!E59>=0,METHANE!E59*DEFAULTS!$B$55*DEFAULTS!$B$53/DEFAULTS!$B$54,\"\")","v":0}]
[null,null,null,null,null,null,null,null,null,null,{"$f":"METHANE!B60","v":37},{"$f":"IF(METHANE!E60>=0,METHANE!E60,\"\")","v":0},{"$f":"IF(METHANE!E60>=0,METHANE!E60*DEFAULTS!$B$55*DEFAULTS!$B$53/DEFAULTS!$B$54,\"\")","v":0}]
[null,null,null,null,null,null,null,null,null,null,{"$f":"METHANE!B61","v":38},{"$f":"IF(METHANE!E61>=0,METHANE!E61,\"\")","v":0},{"$f":"IF(METHANE!E61>=0,METHANE!E61*DEFAULTS!$B$55*DEFAULTS!$B$53/DEFAULTS!$B$54,\"\")","v":0}]
[null,null,null,null,null,null,null,null,null,null,{"$f":"METHANE!B62","v":39},{"$f":"IF(METHANE!E62>=0,METHANE!E62,\"\")","v":0},{"$f":"IF(METHANE!E62>=0,METHANE!E62*DEFAULTS!$B$55*DEFAULTS!$B$53/DEFAULTS!$B$54,\"\")","v":0}]
[null,null,null,null,null,null,null,null,null,null,{"$f":"METHANE!B63","v":40},{"$f":"IF(METHANE!E63>=0,METHANE!E63,\"\")","v":0},{"$f":"IF(METHANE!E63>=0,METHANE!E63*DEFAULTS!$B$55*DEFAULTS!$B$53/DEFAULTS!$B$54,\"\")","v":0}]
[null,null,null,null,null,null,null,null,null,null,{"$f":"METHANE!B64","v":41},{"$f":"IF(METHANE!E64>=0,METHANE!E64,\"\")","v":0},{"$f":"IF(METHANE!E64>=0,METHANE!E64*DEFAULTS!$B$55*DEFAULTS!$B$53/DEFAULTS!$B$54,\"\")","v":0}]
[null,null,null,null,null,null,null,null,null,null,{"$f":"METHANE!B65","v":42},{"$f":"IF(METHANE!E65>=0,METHANE!E65,\"\")","v":0},{"$f":"IF(METHANE!E65>=0,METHANE!E65*DEFAULTS!$B$55*DEFAULTS!$B$53/DEFAULTS!$B$54,\"\")","v":0}]
[null,null,null,null,null,null,null,null,null,null,{"$f":"METHANE!B66","v":43},{"$f":"IF(METHANE!E66>=0,METHANE!E66,\"\")","v":0},{"$f":"IF(METHANE!E66>=0,METHANE!E66*DEFAULTS!$B$55*DEFAULTS!$B$53/DEFAULTS!$B$54,\"\")","v":0}]
[null,null,null,null,null,null,null,null,null,null,{"$f":"METHANE!B67","v":44},{"$f":"IF(METHANE!E67>=0,METHANE!E67,\"\")","v":0},{"$f":"IF(METHANE!E67>=0,METHANE!E67*DEFAULTS!$B$55*DEFAULTS!$B$53/DEFAULTS!$B$54,\"\")","v":0}]
[null,null,null,null,null,null,null,null,null,null,{"$f":"METHANE!B68","v":45},{"$f":"IF(METHANE!E68>=0,METHANE!E68,\"\")","v":0},{"$f":"IF(METHANE!E68>=0,METHANE!E68*DEFAULTS!$B$55*DEFAULTS!$B$53/DEFAULTS!$B$54,\"\")","v":0}]
[null,null,null,null,null,null,null,null,null,null,{"$f":"METHANE!B69","v":46},{"$f":"IF(METHANE!E69>=0,METHANE!E69,\"\")","v":0},{"$f":"IF(METHANE!E69>=0,METHANE!E69*DEFAULTS!$B$55*DEFAULTS!$B$53/DEFAULTS!$B$54,\"\")","v":0}]
[null,null,null,null,null,null,null,null,null,null,{"$f":"METHANE!B70","v":47},{"$f":"IF(METHANE!E70>=0,METHANE!E70,\"\")","v":0},{"$f":"IF(METHANE!E70>=0,METHANE!E70*DEFAULTS!$B$55*DEFAULTS!$B$53/DEFAULTS!$B$54,\"\")","v":0}]
[null,null,null,null,null,null,null,null,null,null,{"$f":"METHANE!B71","v":48},{"$f":"IF(METHANE!E71>=0,METHANE!E71,\"\")","v":0},{"$f":"IF(METHANE!E71>=0,METHANE!E71*DEFAULTS!$B$55*DEFAULTS!$B$53/DEFAULTS!$B$54,\"\")","v":0}]
[null,null,null,null,null,null,null,null,null,null,{"$f":"METHANE!B72","v":49},{"$f":"IF(METHANE!E72>=0,METHANE!E72,\"\")","v":0},{"$f":"IF(METHANE!E72>=0,METHANE!E72*DEFAULTS!$B$55*DEFAULTS!$B$53/DEFAULTS!$B$54,\"\")","v":0}]
[null,null,null,null,null,null,null,null,null,null,{"$f":"METHANE!B73","v":50},{"$f":"IF(METHANE!E73>=0,METHANE!E73,\"\")","v":0},{"$f":"IF(METHANE!E73>=0,METHANE!E73*DEFAULTS!$B$55*DEFAULTS!$B$53/DEFAULTS!$B$54,\"\")","v":0}]
[null,null,null,null,null,null,null,null,null,null,{"$f":"METHANE!B74","v":51},{"$f":"IF(METHANE!E74>=0,METHANE!E74,\"\")","v":0},{"$f":"IF(METHANE!E74>=0,METHANE!E74*DEFAULTS!$B$55*DEFAULTS!$B$53/DEFAULTS!$B$54,\"\")","v":0}]
[null,null,null,null,null,null,null,null,null,null,{"$f":"METHANE!B75","v":52},{"$f":"IF(METHANE!E75>=0,METHANE!E75,\"\")","v":0},{"$f":"IF(METHANE!E75>=0,METHANE!E75*DEFAULTS!$B$55*DEFAULTS!$B$53/DEFAULTS!$B$54,\"\")","v":0}]
[null,null,null,null,null,null,null,null,null,null,{"$f":"METHANE!B76","v":53},{"$f":"IF(METHANE!E76>=0,METHANE!E76,\"\")","v":0},{"$f":"IF(METHANE!E76>=0,METHANE!E76*DEFAULTS!$B$55*DEFAULTS!$B$53/DEFAULTS!$B$54,\"\")","v":0}]
[null,null,null,null,null,null,null,null,null,null,{"$f":"METHANE!B77","v":54},{"$f":"IF(METHANE!E77>=0,METHANE!E77,\"\")","v":0},{"$f":"IF(METHANE!E77>=0,METHANE!E77*DEFAULTS!$B$55*DEFAULTS!$B$53/DEFAULTS!$B$54,\"\")","v":0}]
[null,null,null,null,null,null,null,null,null,null,{"$f":"METHANE!B78","v":55},{"$f":"IF(METHANE!E78>=0,METHANE!E78,\"\")","v":0},{"$f":"IF(METHANE!E78>=0,METHANE!E78*DEFAULTS!$B$55*DEFAULTS!$B$53/DEFAULTS!$B$54,\"\")","v":0}]
[null,null,null,null,null,null,null,null,null,null,{"$f":"METHANE!B79","v":56},{"$f":"IF(METHANE!E79>=0,METHANE!E79,\"\")","v":0},{"$f":"IF(METHANE!E79>=0,METHANE!E79*DEFAULTS!$B$55*DEFAULTS!$B$53/DEFAULTS!$B$54,\"\")","v":0}]
[null,null,null,null,null,null,null,null,null,null,{"$f":"METHANE!B80","v":57},{"$f":"IF(METHANE!E80>=0,METHANE!E80,\"\")","v":0},{"$f":"IF(METHANE!E80>=0,METHANE!E80*DEFAULTS!$B$55*DEFAULTS!$B$53/DEFAULTS!$B$54,\"\")","v":0}]
[null,null,null,null,null,null,null,null,null,null,{"$f":"METHANE!B81","v":58},{"$f":"IF(METHANE!E81>=0,METHANE!E81,\"\")","v":0},{"$f":"IF(METHANE!E81>=0,METHANE!E81*DEFAULTS!$B$55*DEFAULTS!$B$53/DEFAULTS!$B$54,\"\")","v":0}]
[null,null,null,null,null,null,null,null,null,null,{"$f":"METHANE!B82","v":59},{"$f":"IF(METHANE!E82>=0,METHANE!E82,\"\")","v":0},{"$f":"IF(METHANE!E82>=0,METHANE!E82*DEFAULTS!$B$55*DEFAULTS!$B$53/DEFAULTS!$B$54,\"\")","v":0}]
[null,null,null,null,null,null,null,null,null,null,{"$f":"METHANE!B83","v":60},{"$f":"IF(METHANE!E83>=0,METHANE!E83,\"\")","v":0},{"$f":"IF(METHANE!E83>=0,METHANE!E83*DEFAULTS!$B$55*DEFAULTS!$B$53/DEFAULTS!$B$54,\"\")","v":0}]
[null,null,null,null,null,null,null,null,null,null,{"$f":"METHANE!B84","v":61},{"$f":"IF(METHANE!E84>=0,METHANE!E84,\"\")","v":0},{"$f":"IF(METHANE!E84>=0,METHANE!E84*DEFAULTS!$B$55*DEFAULTS!$B$53/DEFAULTS!$B$54,\"\")","v":0}]
[null,null,null,null,null,null,null,null,null,null,{"$f":"METHANE!B85","v":62},{"$f":"IF(METHANE!E85>=0,METHANE!E85,\"\")","v":0},{"$f":"IF(METHANE!E85>=0,METHANE!E85*DEFAULTS!$B$55*DEFAULTS!$B$53/DEFAULTS!$B$54,\"\")","v":0}]
[null,null,null,null,null,null,null,null,null,null,{"$f":"METHANE!B86","v":63},{"$f":"IF(METHANE!E86>=0,METHANE!E86,\"\")","v":0},{"$f":"IF(METHANE!E86>=0,METHANE!E86*DEFAULTS!$B$55*DEFAULTS!$B$53/DEFAULTS!$B$54,\"\")","v":0}]
[null,null,null,null,null,null,null,null,null,null,{"$f":"METHANE!B87","v":64},{"$f":"IF(METHANE!E87>=0,METHANE!E87,\"\")","v":0},{"$f":"IF(METHANE!E87>=0,METHANE!E87*DEFAULTS!$B$55*DEFAULTS!$B$53/DEFAULTS!$B$54,\"\")","v":0}]
[null,null,null,null,null,null,null,null,null,null,{"$f":"METHANE!B88","v":65},{"$f":"IF(METHANE!E88>=0,METHANE!E88,\"\")","v":0},{"$f":"IF(METHANE!E88>=0,METHANE!E88*DEFAULTS!$B$55*DEFAULTS!$B$53/DEFAULTS!$B$54,\"\")","v":0}]
[null,null,null,null,null,null,null,null,null,null,{"$f":"METHANE!B89","v":66},{"$f":"IF(METHANE!E89>=0,METHANE!E89,\"\")","v":0},{"$f":"IF(METHANE!E89>=0,METHANE!E89*DEFAULTS!$B$55*DEFAULTS!$B$53/DEFAULTS!$B$54,\"\")","v":0}]
[null,null,null,null,null,null,null,null,null,null,{"$f":"METHANE!B90","v":67},{"$f":"IF(METHANE!E90>=0,METHANE!E90,\"\")","v":0},{"$f":"IF(METHANE!E90>=0,METHANE!E90*DEFAULTS!$B$55*DEFAULTS!$B$53/DEFAULTS!$B$54,\"\")","v":0}]
[null,null,null,null,null,null,null,null,null,null,{"$f":"METHANE!B91","v":68},{"$f":"IF(METHANE!E91>=0,METHANE!E91,\"\")","v":0},{"$f":"IF(METHANE!E91>=0,METHANE!E91*DEFAULTS!$B$55*DEFAULTS!$B$53/DEFAULTS!$B$54,\"\")","v":0}]
[null,null,null,null,null,null,null,null,null,null,{"$f":"METHANE!B92","v":69},{"$f":"IF(METHANE!E92>=0,METHANE!E92,\"\")","v":0},{"$f":"IF(METHANE!E92>=0,METHANE!E92*DEFAULTS!$B$55*DEFAULTS!$B$53/DEFAULTS!$B$54,\"\")","v":0}]
[null,null,null,null,null,null,null,null,null,null,{"$f":"METHANE!B93","v":70},{"$f":"IF(METHANE!E93>=0,METHANE!E93,\"\")","v":0},{"$f":"IF(METHANE!E93>=0,METHANE!E93*DEFAULTS!$B$55*DEFAULTS!$B$53/DEFAULTS!$B$54,\"\")","v":0}]
[null,null,null,null,null,null,null,null,null,null,{"$f":"METHANE!B94","v":71},{"$f":"IF(METHANE!E94>=0,METHANE!E94,\"\")","v":0},{"$f":"IF(METHANE!E94>=0,METHANE!E94*DEFAULTS!$B$55*DEFAULTS!$B$53/DEFAULTS!$B$54,\"\")","v":0}]
[null,null,null,null,null,null,null,null,null,null,{"$f":"METHANE!B95","v":72},{"$f":"IF(METHANE!E95>=0,METHANE!E95,\"\")","v":0},{"$f":"IF(METHANE!E95>=0,METHANE!E95*DEFAULTS!$B$55*DEFAULTS!$B$53/DEFAULTS!$B$54,\"\")","v":0}]
[null,null,null,null,null,null,null,null,null,null,{"$f":"METHANE!B96","v":73},{"$f":"IF(METHANE!E96>=0,METHANE!E96,\"\")","v":0},{"$f":"IF(METHANE!E96>=0,METHANE!E96*DEFAULTS!$B$55*DEFAULTS!$B$53/DEFAULTS!$B$54,\"\")","v":0}]
[null,null,null,null,null,null,null,null,null,null,{"$f":"METHANE!B97","v":74},{"$f":"IF(METHANE!E97>=0,METHANE!E97,\"\")","v":0},{"$f":"IF(METHANE!E97>=0,METHANE!E97*DEFAULTS!$B$55*DEFAULTS!$B$53/DEFAULTS!$B$54,\"\")","v":0}]
[null,null,null,null,null,null,null,null,null,null,{"$f":"METHANE!B98","v":75},{"$f":"IF(METHANE!E98>=0,METHANE!E98,\"\")","v":0},{"$f":"IF(METHANE!E98>=0,METHANE!E98*DEFAULTS!$B$55*DEFAULTS!$B$53/DEFAULTS!$B$54,\"\")","v":0}]
[null,null,null,null,null,null,null,null,null,null,{"$f":"METHANE!B99","v":76},{"$f":"IF(METHANE!E99>=0,METHANE!E99,\"\")","v":0},{"$f":"IF(METHANE!E99>=0,METHANE!E99*DEFAULTS!$B$55*DEFAULTS!$B$53/DEFAULTS!$B$54,\"\")","v":0}]
[null,null,null,null,null,null,null,null,null,null,{"$f":"METHANE!B100","v":77},{"$f":"IF(METHANE!E100>=0,METHANE!E100,\"\")","v":0},{"$f":"IF(METHANE!E100>=0,METHANE!E100*DEFAULTS!$B$55*DEFAULTS!$B$53/DEFAULTS!$B$54,\"\")","v":0}]
[null,null,null,null,null,null,null,null,null,null,{"$f":"METHANE!B101","v":78},{"$f":"IF(METHANE!E101>=0,METHANE!E101,\"\")","v":0},{"$f":"IF(METHANE!E101>=0,METHANE!E101*DEFAULTS!$B$55*DEFAULTS!$B$53/DEFAULTS!$B$54,\"\")","v":0}]
[null,null,null,null,null,null,null,null,null,null,{"$f":"METHANE!B102","v":79},{"$f":"IF(METHANE!E102>=0,METHANE!E102,\"\")","v":0},{"$f":"IF(METHANE!E102>=0,METHANE!E102*DEFAULTS!$B$55*DEFAULTS!$B$53/DEFAULTS!$B$54,\"\")","v":0}]

{"sheet":"METHANE","index":4,"n_rows":163,"n_cols":250,"rows_kept":163,"cut":false,"hidden":false,"merged":[[104,3,105,4],[0,5,0,9],[20,1,21,1],[21,8,22,8],[5,5,6,9],[13,5,16,9]]}
["METHANE",null,null,null,"Landfill Name or Identifier:",{"$f":"IF('USER INPUTS'!$E$1=0,\"\",'USER INPUTS'!$E$1)","v":""}]
[]
["First-Order Decomposition Rate Equation:"]
["Where,"]
["QCH4 = annual methane generation in the year of the calculation (m3/year)",null,null,null,null,"Mi = mass of waste accepted in the ith year (Mg) "]
["i = 1-year time increment",null,null,null,null,"tij = age of the jth section of waste mass Mi accepted in the ith year (decimal years, e.g., 3.2 years)"]
["n = (year of the calculation) - (initial year of waste acceptance)"]
["j = 0.1-year time increment"]
["k = methane generation rate (year-1)",null,null,null,null,"Model Parameters from User Inputs:"]
["L0 = potential methane generation capacity (m3/Mg)",null,null,null,null,"k =",{"$f":"IF('USER INPUTS'!$B$13=-1,'USER INPUTS'!$F$13,'USER INPUTS'!$B$13)","v":0.05},"year-1"]
[null,null,null,null,null,"L0 = ",{"$f":"IF('USER INPUTS'!$B$15=-1,'USER INPUTS'!$F$15,'USER INPUTS'!$B$15)","v":170},"m3/Mg"]
["When Model Calculates Closure Year…"]
[null,null,"Final Non-Zero Acceptance Entered =",{"$f":"IF(SUM(G23:G102)=0,0,SUM(G23:G102))","v":0},"megagrams in",{"$f":"IF(SUM(H23:H102)=0,\"\",SUM(H23:H102))","v":""}]
[null,null,"Waste Design Capacity =",{"$f":"IF(WasteCapacity>0,IF('USER INPUTS'!$E$8=\"Megagrams\",WasteCapacity,WasteCapacity*DEFAULTS!$B$54/(DEFAULTS!$B$53*DEFAULTS!$B$55)),\"\")","v":""},"megagrams",{"$f":"IF(AND(ClosureYear-OpenYear>79,ClosureCalcYes=FALSE),\"Landfill Closure Year entered exceeds the 80-year waste acceptance limit. See Section 2.6 of the User's Manual.\",IF(AND('INPUT REVIEW'!$F$6>'INPUT REVIEW'!$F$5,ClosureCalcYes=TRUE),\"The 80-year waste acceptance limit of the model has been exceeded before the Waste Design Capacity was reached. The model will assume the 80th year of waste acceptance as the final year to estimate emissions. See Section 2.6 of the User's Manual.\",\"\"))","v":""}]
[null,null,"Closure Year (with 80-year limit) =",{"$f":"IF(ISERROR(IF(AND(ClosureCalcYes=TRUE,OR(WasteCapacity=\"\",WasteCapacity=0)),0,IF(ClosureCalcYes=TRUE,MIN(ROUNDUP((($D$14-MAX(D24:D102))/$D$13)+$F$13,0),OpenYear+D17-1),IF(AND(ClosureCalcYes=FALSE,ClosureYear>0),MIN(ClosureYear,OpenYear+79),\"\")))),0,IF(AND(ClosureCalcYes=TRUE,OR(WasteCapacity=\"\",WasteCapacity=0)),\"\",IF(ClosureCalcYes=TRUE,MIN(ROUNDUP((($D$14-MAX(D24:D102))/$D$13)+$F$13,0),OpenYear+D17-1),IF(AND(ClosureCalcYes=FALSE,ClosureYear>0),MIN(ClosureYear,OpenYear+79),\"\"))))","v":""}]
[null,null,"Actual Closure Year (without limit) =",{"$f":"IF(ISERROR(IF(ClosureCalcYes=TRUE,ROUNDUP((($D$14-MAX(D24:D102))/$D$13)+$F$13,0),IF(AND(ClosureCalcYes=FALSE,ClosureYear>0),ClosureYear,\"\"))),\"\",IF(ClosureCalcYes=TRUE,ROUNDUP((($D$14-MAX(D24:D102))/$D$13)+$F$13,0),IF(AND(ClosureCalcYes=FALSE,ClosureYear>0),ClosureYear,\"\")))","v":""}]
[null,null,"Model Waste Acceptance Limit =",80,"years"]
[null,null,{"$f":"IF($D$16>$D$15,\"Waste-in-place at Start of Next Model Run =\",\"\")","v":""},{"$f":"IF($D$16>$D$15,$E$102+$F$102,\"\")","v":""},{"$f":"IF($D$16>$D$15,\"megagrams\",\"\")","v":""}]
[null,null,{"$f":"IF(AND(ClosureCalcYes=TRUE,$D$16>$D$15),\"Capacity Remaining at Start of Next Model Run =\",\"\")","v":""},{"$f":"IF(ISERROR(IF(AND(ClosureCalcYes=TRUE,$D$16>$D$15),$D$14-$D$18,\"\")),\"\",IF(AND(ClosureCalcYes=TRUE,$D$16>$D$15),$D$14-$D$18,\"\"))","v":""},{"$f":"IF(AND(ClosureCalcYes=TRUE,$D$16>$D$15),\"megagrams\",\"\")","v":""}]
[]
[null,"Year","User Waste Acceptance Inputs","User Waste-In-Place","Waste Acceptance","Waste-In-Place"]
[null,null,"(Mg/year)","(Mg)","(Mg/year)","(Mg)",null,null,"Year","Methane Emissions","WASTE ADDED IN YEAR 1",null,null,"WASTE ADDED IN YEAR 2",null,null,"WASTE ADDED IN YEAR 3",null,null,"WASTE ADDED IN YEAR 4",null,null,"WASTE ADDED IN YEAR 5",null,null,"WASTE ADDED IN YEAR 6",null,null,"WASTE ADDED IN YEAR 7",null,null,"WASTE ADDED IN YEAR 8",null,null,"WASTE ADDED IN YEAR 9",null,null,"WASTE ADDED IN YEAR 10",null,null,"WASTE ADDED IN YEAR 11",null,null,"WASTE ADDED IN YEAR 12",null,null,"WASTE ADDED IN YEAR 13",null,null,"WASTE ADDED IN YEAR 14",null,null,"WASTE ADDED IN YEAR 15",null,null,"WASTE ADDED IN YEAR 16",null,null,"WASTE ADDED IN YEAR 17",null,null,"WASTE ADDED IN YEAR 18",null,null,"WASTE ADDED IN YEAR 19",null,null,"WASTE ADDED IN YEAR 20",null,null,"WASTE ADDED IN YEAR 21",null,null,"WASTE ADDED IN YEAR 22",null,null,"WASTE ADDED IN YEAR 23",null,null,"WASTE ADDED IN YEAR 24",null,null,"WASTE ADDED IN YEAR 25",null,null,"WASTE ADDED IN YEAR 26",null,null,"WASTE ADDED IN YEAR 27",null,null,"WASTE ADDED IN YEAR 28",null,null,"WASTE ADDED IN YEAR 29",null,null,"WASTE ADDED IN YEAR 30",null,null,"WASTE ADDED IN YEAR 31",null,null,"WASTE ADDED IN YEAR 32",null,null,"WASTE ADDED IN YEAR 33",null,null,"WASTE ADDED IN YEAR 34",null,null,"WASTE ADDED IN YEAR 35",null,null,"WASTE ADDED IN YEAR 36",null,null,"WASTE ADDED IN YEAR 37",null,null,"WASTE ADDED IN YEAR 38",null,null,"WASTE ADDED IN YEAR 39",null,null,"WASTE ADDED IN YEAR 40",null,null,"WASTE ADDED IN YEAR 41",null,null,"WASTE ADDED IN YEAR 42",null,null,"WASTE ADDED IN YEAR 43",null,null,"WASTE ADDED IN YEAR 44",null,null,"WASTE ADDED IN YEAR 45",null,null,"WASTE ADDED IN YEAR 46",null,null,"WASTE ADDED IN YEAR 47",null,null,"WASTE ADDED IN YEAR 48",null,null,"WASTE ADDED IN YEAR 49",null,null,"WASTE ADDED IN YEAR 50",null,null,"WASTE ADDED IN YEAR 51",null,null,"WASTE ADDED IN YEAR 52",null,null,"WASTE ADDED IN YEAR 53",null,null,"WASTE ADDED IN YEAR 54",null,null,"WASTE ADDED IN YEAR 55",null,null,"WASTE ADDED IN YEAR 56",null,null,"WASTE ADDED IN YEAR 57",null,null,"WASTE ADDED IN YEAR 58",null,null,"WASTE ADDED IN YEAR 59",null,null,"WASTE ADDED IN YEAR 60",null,null,"WASTE ADDED IN YEAR 61",null,null,"WASTE ADDED IN YEAR 62",null,null,"WASTE ADDED IN YEAR 63",null,null,"WASTE ADDED IN YEAR 64",null,null,"WASTE ADDED IN YEAR 65",null,null,"WASTE ADDED IN YEAR 66",null,null,"WASTE ADDED IN YEAR 67",null,null,"WASTE ADDED IN YEAR 68",null,null,"WASTE ADDED IN YEAR 69",null,null,"WASTE ADDED IN YEAR 70",null,null,"WASTE ADDED IN YEAR 71",null,null,"WASTE ADDED IN YEAR 72",null,null,"WASTE ADDED IN YEAR 73",null,null,"WASTE ADDED IN YEAR 74",null,null,"WASTE ADDED IN YEAR 75",null,null,"WASTE ADDED IN YEAR 76",null,null,"WASTE ADDED IN YEAR 77",null,null,"WASTE ADDED IN YEAR 78",null,null,"WASTE ADDED IN YEAR 79",null,null,"WASTE ADDED IN YEAR 80"]
[null,{"$f":"'USER INPUTS'!J8","v":0},{"$f":"IF(OR(AND(ClosureCalcYes=TRUE,WasteCapacity=\"\"),AND(ClosureCalcYes=FALSE,ClosureYear=\"\")),0,IF('USER INPUTS'!K8>0,IF('USER INPUTS'!$K$4=\"Mg/year\",'USER INPUTS'!K8,'USER INPUTS'!L8),0))","v":0},0,{"$f":"IF(ClosureCalcYes=FALSE,IF(AND(B23<ClosureYear,C23=0,SUM(C23:$C$102)=0),$D$13,IF(B23<=ClosureYear,C23,0)),IF(B23=$D$16,($D$14-F23),IF(B23<$D$16,IF(SUM(C23:$C$102)=0,$D$13,C23),0)))","v":0},0,{"$f":"IF(SUM(C24:$C$101)=0,C23,0)","v":0},{"$f":"IF(G23>0,B23,0)","v":0},null,"(m3/year)","YEAR","WASTE","EMISSIONS","YEAR","WASTE","EMISSIONS","YEAR","WASTE","EMISSIONS","YEAR","WASTE","EMISSIONS","YEAR","WASTE","EMISSIONS","YEAR","WASTE","EMISSIONS","YEAR","WASTE","EMISSIONS","YEAR","WASTE","EMISSIONS","YEAR","WASTE","EMISSIONS","YEAR","WASTE","EMISSIONS","YEAR","WASTE","EMISSIONS","YEAR","WASTE","EMISSIONS","YEAR","WASTE","EMISSIONS","YEAR","WASTE","EMISSIONS","YEAR","WASTE","EMISSIONS","YEAR","WASTE","EMISSIONS","YEAR","WASTE","EMISSIONS","YEAR","WASTE","EMISSIONS","YEAR","WASTE","EMISSIONS","YEAR","WASTE","EMISSIONS","YEAR","WASTE","EMISSIONS","YEAR","WASTE","EMISSIONS","YEAR","WASTE","EMISSIONS","YEAR","WASTE","EMISSIONS","YEAR","WASTE","EMISSIONS","YEAR","WASTE","EMISSIONS","YEAR","WASTE","EMISSIONS","YEAR","WASTE","EMISSIONS","YEAR","WASTE","EMISSIONS","YEAR","WASTE","EMISSIONS","YEAR","WASTE","EMISSIONS","YEAR","WASTE","EMISSIONS","YEAR","WASTE","EMISSIONS","YEAR","WASTE","EMISSIONS","YEAR","WASTE","EMISSIONS","YEAR","WASTE","EMISSIONS","YEAR","WASTE","EMISSIONS","YEAR","WASTE","EMISSIONS","YEAR","WASTE","EMISSIONS","YEAR","WASTE","EMISSIONS","YEAR","WASTE","EMISSIONS","YEAR","WASTE","EMISSIONS","YEAR","WASTE","EMISSIONS","YEAR","WASTE","EMISSIONS","YEAR","WASTE","EMISSIONS","YEAR","WASTE","EMISSIONS","YEAR","WASTE","EMISSIONS","YEAR","WASTE","EMISSIONS","YEAR","WASTE","EMISSIONS","YEAR","WASTE","EMISSIONS","YEAR","WASTE","EMISSIONS","YEAR","WASTE","EMISSIONS","YEAR","WASTE","EMISSIONS","YEAR","WASTE","EMISSIONS","YEAR","WASTE","EMISSIONS","YEAR","WASTE","EMISSIONS","YEAR","WASTE","EMISSIONS","YEAR","WASTE","EMISSIONS","YEAR","WASTE","EMISSIONS","YEAR","WASTE","EMISSIONS","YEAR","WASTE","EMISSIONS","YEAR","WASTE","EMISSIONS","YEAR","WASTE","EMISSIONS","YEAR","WASTE","EMISSIONS","YEAR","WASTE","EMISSIONS","YEAR","WASTE","EMISSIONS","YEAR","WASTE","EMISSIONS","YEAR","WASTE","EMISSIONS","YEAR","WASTE","EMISSIONS","YEAR","WASTE","EMISSIONS","YEAR","WASTE","EMISSIONS","YEAR","WASTE","EMISSIONS","YEAR","WASTE","EMISSIONS","YEAR","WASTE","EMISSIONS","YEAR","WASTE","EMISSIONS","YEAR","WASTE","EMISSIONS","YEAR","WASTE","EMISSIONS","YEAR","WASTE","EMISSIONS","YEAR","WASTE","EMISSIONS","YEAR","WASTE","EMISSIONS"]
[null,{"$f":"'USER INPUTS'!J9","v":1},{"$f":"IF(OR(AND(ClosureCalcYes=TRUE,WasteCapacity=\"\"),AND(ClosureCalcYes=FALSE,ClosureYear=\"\")),0,IF('USER INPUTS'!K9>0,IF('USER INPUTS'!$K$4=\"Mg/year\",'USER INPUTS'!K9,'USER INPUTS'!L9),0))","v":0},{"$f":"$C$23","v":0},{"$f":"IF(ClosureCalcYes=FALSE,IF(AND(B24<ClosureYear,C24=0,SUM(C24:$C$102)=0),$D$13,IF(B24<=ClosureYear,C24,0)),IF(B24=$D$16,($D$14-F24),IF(B24<$D$16,IF(SUM(C24:$C$102)=0,$D$13,C24),0)))","v":0},{"$f":"$E$23","v":0},{"$f":"IF(SUM(C25:$C$101)=0,C24,0)","v":0},{"$f":"IF(G24>0,B24,0)","v":0},{"$f":"IF($B$24=\"\",\"\",$B$24)","v":1},{"$f":"(M24+P24+S24+V24+Y24+AB24+AE24+AH24+AK24+AN24+AQ24+AT24+AW24+AZ24+BC24+BF24+BI24+BL24+BO24+BR24+BU24+BX24+CA24+CD24+CG24+CJ24+CM24+CP24+CS24+CV24+CY24+DB24+DE24+DH24+DK24+DN24+DQ24+DT24+DW24+DZ24+EC24+EF24+EI24+EL24+EO24+ER24+EU24+EX24+FA24+FD24+FG24+FJ24+FM24+FP24+FS24+FV24+FY24+GB24+GE24+GH24+GK24+GN24+GQ24+GT24+GW24+GZ24+HC24+HF24+HI24+HL24+HO24+HR24+HU24+HX24+IA24+ID24+IG24+IJ24+IM24+IP24)","v":0},0,{"$f":"$E$23","v":0},{"$f":"SUM($G$10*$G$11*L24*(EXP(-($G$10*K24))),$G$10*$G$11*L24*(EXP(-($G$10*(K24+0.1)))),$G$10*$G$11*L24*(EXP(-($G$10*(K24+0.2)))),$G$10*$G$11*L24*(EXP(-($G$10*(K24+0.3)))),$G$10*$G$11*L24*(EXP(-($G$10*(K24+0.4)))),$G$10*$G$11*L24*(EXP(-($G$10*(K24+0.5)))),$G$10*$G$11*L24*(EXP(-($G$10*(K24+0.6)))),$G$10*$G$11*L24*(EXP(-($G$10*(K24+0.7)))),$G$10*$G$11*L24*(EXP(-($G$10*(K24+0.8)))),$G$10*$G$11*L24*(EXP(-($G$10*(K24+0.9)))))/10","v":0}]
[null,{"$f":"'USER INPUTS'!J10","v":2},{"$f":"IF(OR(AND(ClosureCalcYes=TRUE,WasteCapacity=\"\"),AND(ClosureCalcYes=FALSE,ClosureYear=\"\")),0,IF('USER INPUTS'!K10>0,IF('USER INPUTS'!$K$4=\"Mg/year\",'USER INPUTS'!K10,'USER INPUTS'!L10),0))","v":0},{"$f":"C24+D24","v":0},{"$f":"IF(ClosureCalcYes=FALSE,IF(AND(B25<ClosureYear,C25=0,SUM(C25:$C$102)=0),$D$13,IF(B25<=ClosureYear,C25,0)),IF(B25=$D$16,($D$14-F25),IF(B25<$D$16,IF(SUM(C25:$C$102)=0,$D$13,C25),0)))","v":0},{"$f":"E24+F24","v":0},{"$f":"IF(SUM(C26:$C$101)=0,C25,0)","v":0},0,{"$f":"IF(I24=\"\",\"\",(I24+1))","v":2},0,1,0,0,0,{"$f":"$E$24","v":0},{"$f":"SUM($G$10*$G$11*O25*(EXP(-($G$10*N25))),$G$10*$G$11*O25*(EXP(-($G$10*(N25+0.1)))),$G$10*$G$11*O25*(EXP(-($G$10*(N25+0.2)))),$G$10*$G$11*O25*(EXP(-($G$10*(N25+0.3)))),$G$10*$G$11*O25*(EXP(-($G$10*(N25+0.4)))),$G$10*$G$11*O25*(EXP(-($G$10*(N25+0.5)))),$G$10*$G$11*O25*(EXP(-($G$10*(N25+0.6)))),$G$10*$G$11*O25*(EXP(-($G$10*(N25+0.7)))),$G$10*$G$11*O25*(EXP(-($G$10*(N25+0.8)))),$G$10*$G$11*O25*(EXP(-($G$10*(N25+0.9)))))/10","v":0}]
[null,{"$f":"'USER INPUTS'!J11","v":3},{"$f":"IF(OR(AND(ClosureCalcYes=TRUE,WasteCapacity=\"\"),AND(ClosureCalcYes=FALSE,ClosureYear=\"\")),0,IF('USER INPUTS'!K11>0,IF('USER INPUTS'!$K$4=\"Mg/year\",'USER INPUTS'!K11,'USER INPUTS'!L11),0))","v":0},{"$f":"C25+D25","v":0},{"$f":"IF(ClosureCalcYes=FALSE,IF(AND(B26<ClosureYear,C26=0,SUM(C26:$C$102)=0),$D$13,IF(B26<=ClosureYear,C26,0)),IF(B26=$D$16,($D$14-F26),IF(B26<$D$16,IF(SUM(C26:$C$102)=0,$D$13,C26),0)))","v":0},{"$f":"E25+F25","v":0},{"$f":"IF(SUM(C27:$C$101)=0,C26,0)","v":0},0,{"$f":"IF(I25=\"\",\"\",(I25+1))","v":3},0,2,0,0,1,0,0,0,{"$f":"$E$25","v":0},{"$f":"SUM($G$10*$G$11*R26*(EXP(-($G$10*Q26))),$G$10*$G$11*R26*(EXP(-($G$10*(Q26+0.1)))),$G$10*$G$11*R26*(EXP(-($G$10*(Q26+0.2)))),$G$10*$G$11*R26*(EXP(-($G$10*(Q26+0.3)))),$G$10*$G$11*R26*(EXP(-($G$10*(Q26+0.4)))),$G$10*$G$11*R26*(EXP(-($G$10*(Q26+0.5)))),$G$10*$G$11*R26*(EXP(-($G$10*(Q26+0.6)))),$G$10*$G$11*R26*(EXP(-($G$10*(Q26+0.7)))),$G$10*$G$11*R26*(EXP(-($G$10*(Q26+0.8)))),$G$10*$G$11*R26*(EXP(-($G$10*(Q26+0.9)))))/10","v":0}]
[null,{"$f":"'USER INPUTS'!J12","v":4},{"$f":"IF(OR(AND(ClosureCalcYes=TRUE,WasteCapacity=\"\"),AND(ClosureCalcYes=FALSE,ClosureYear=\"\")),0,IF('USER INPUTS'!K12>0,IF('USER INPUTS'!$K$4=\"Mg/year\",'USER INPUTS'!K12,'USER INPUTS'!L12),0))","v":0},0,{"$f":"IF(ClosureCalcYes=FALSE,IF(AND(B27<ClosureYear,C27=0,SUM(C27:$C$102)=0),$D$13,IF(B27<=ClosureYear,C27,0)),IF(B27=$D$16,($D$14-F27),IF(B27<$D$16,IF(SUM(C27:$C$102)=0,$D$13,C27),0)))","v":0},0,{"$f":"IF(SUM(C28:$C$101)=0,C27,0)","v":0},0,4,0,3,0,0,2,0,0,1,0,0,0,{"$f":"$E$26","v":0},{"$f":"SUM($G$10*$G$11*U27*(EXP(-($G$10*T27))),$G$10*$G$11*U27*(EXP(-($G$10*(T27+0.1)))),$G$10*$G$11*U27*(EXP(-($G$10*(T27+0.2)))),$G$10*$G$11*U27*(EXP(-($G$10*(T27+0.3)))),$G$10*$G$11*U27*(EXP(-($G$10*(T27+0.4)))),$G$10*$G$11*U27*(EXP(-($G$10*(T27+0.5)))),$G$10*$G$11*U27*(EXP(-($G$10*(T27+0.6)))),$G$10*$G$11*U27*(EXP(-($G$10*(T27+0.7)))),$G$10*$G$11*U27*(EXP(-($G$10*(T27+0.8)))),$G$10*$G$11*U27*(EXP(-($G$10*(T27+0.9)))))/10","v":0}]
[null,{"$f":"'USER INPUTS'!J13","v":5},{"$f":"IF(OR(AND(ClosureCalcYes=TRUE,WasteCapacity=\"\"),AND(ClosureCalcYes=FALSE,ClosureYear=\"\")),0,IF('USER INPUTS'!K13>0,IF('USER INPUTS'!$K$4=\"Mg/year\",'USER INPUTS'!K13,'USER INPUTS'!L13),0))","v":0},0,{"$f":"IF(ClosureCalcYes=FALSE,IF(AND(B28<ClosureYear,C28=0,SUM(C28:$C$102)=0),$D$13,IF(B28<=ClosureYear,C28,0)),IF(B28=$D$16,($D$14-F28),IF(B28<$D$16,IF(SUM(C28:$C$102)=0,$D$13,C28),0)))","v":0},0,{"$f":"IF(SUM(C29:$C$101)=0,C28,0)","v":0},0,5,0,4,0,0,3,0,0,2,0,0,1,0,0,0,{"$f":"$E$27","v":0},{"$f":"SUM($G$10*$G$11*X28*(EXP(-($G$10*W28))),$G$10*$G$11*X28*(EXP(-($G$10*(W28+0.1)))),$G$10*$G$11*X28*(EXP(-($G$10*(W28+0.2)))),$G$10*$G$11*X28*(EXP(-($G$10*(W28+0.3)))),$G$10*$G$11*X28*(EXP(-($G$10*(W28+0.4)))),$G$10*$G$11*X28*(EXP(-($G$10*(W28+0.5)))),$G$10*$G$11*X28*(EXP(-($G$10*(W28+0.6)))),$G$10*$G$11*X28*(EXP(-($G$10*(W28+0.7)))),$G$10*$G$11*X28*(EXP(-($G$10*(W28+0.8)))),$G$10*$G$11*X28*(EXP(-($G$10*(W28+0.9)))))/10","v":0}]
[null,{"$f":"'USER INPUTS'!J14","v":6},{"$f":"IF(OR(AND(ClosureCalcYes=TRUE,WasteCapacity=\"\"),AND(ClosureCalcYes=FALSE,ClosureYear=\"\")),0,IF('USER INPUTS'!K14>0,IF('USER INPUTS'!$K$4=\"Mg/year\",'USER INPUTS'!K14,'USER INPUTS'!L14),0))","v":0},0,{"$f":"IF(ClosureCalcYes=FALSE,IF(AND(B29<ClosureYear,C29=0,SUM(C29:$C$102)=0),$D$13,IF(B29<=ClosureYear,C29,0)),IF(B29=$D$16,($D$14-F29),IF(B29<$D$16,IF(SUM(C29:$C$102)=0,$D$13,C29),0)))","v":0},0,{"$f":"IF(SUM(C30:$C$101)=0,C29,0)","v":0},0,6,0,5,0,0,4,0,0,3,0,0,2,0,0,1,0,0,0,{"$f":"$E$28","v":0},{"$f":"SUM($G$10*$G$11*AA29*(EXP(-($G$10*Z29))),$G$10*$G$11*AA29*(EXP(-($G$10*(Z29+0.1)))),$G$10*$G$11*AA29*(EXP(-($G$10*(Z29+0.2)))),$G$10*$G$11*AA29*(EXP(-($G$10*(Z29+0.3)))),$G$10*$G$11*AA29*(EXP(-($G$10*(Z29+0.4)))),$G$10*$G$11*AA29*(EXP(-($G$10*(Z29+0.5)))),$G$10*$G$11*AA29*(EXP(-($G$10*(Z29+0.6)))),$G$10*$G$11*AA29*(EXP(-($G$10*(Z29+0.7)))),$G$10*$G$11*AA29*(EXP(-($G$10*(Z29+0.8)))),$G$10*$G$11*AA29*(EXP(-($G$10*(Z29+0.9)))))/10","v":0}]
[null,{"$f":"'USER INPUTS'!J15","v":7},{"$f":"IF(OR(AND(ClosureCalcYes=TRUE,WasteCapacity=\"\"),AND(ClosureCalcYes=FALSE,ClosureYear=\"\")),0,IF('USER INPUTS'!K15>0,IF('USER INPUTS'!$K$4=\"Mg/year\",'USER INPUTS'!K15,'USER INPUTS'!L15),0))","v":0},0,{"$f":"IF(ClosureCalcYes=FALSE,IF(AND(B30<ClosureYear,C30=0,SUM(C30:$C$102)=0),$D$13,IF(B30<=ClosureYear,C30,0)),IF(B30=$D$16,($D$14-F30),IF(B30<$D$16,IF(SUM(C30:$C$102)=0,$D$13,C30),0)))","v":0},0,{"$f":"IF(SUM(C31:$C$101)=0,C30,0)","v":0},0,7,0,6,0,0,5,0,0,4,0,0,3,0,0,2,0,0,1,0,0,0,{"$f":"$E$29","v":0},{"$f":"SUM($G$10*$G$11*AD30*(EXP(-($G$10*AC30))),$G$10*$G$11*AD30*(EXP(-($G$10*(AC30+0.1)))),$G$10*$G$11*AD30*(EXP(-($G$10*(AC30+0.2)))),$G$10*$G$11*AD30*(EXP(-($G$10*(AC30+0.3)))),$G$10*$G$11*AD30*(EXP(-($G$10*(AC30+0.4)))),$G$10*$G$11*AD30*(EXP(-($G$10*(AC30+0.5)))),$G$10*$G$11*AD30*(EXP(-($G$10*(AC30+0.6)))),$G$10*$G$11*AD30*(EXP(-($G$10*(AC30+0.7)))),$G$10*$G$11*AD30*(EXP(-($G$10*(AC30+0.8)))),$G$10*$G$11*AD30*(EXP(-($G$10*(AC30+0.9)))))/10","v":0}]
[null,{"$f":"'USER INPUTS'!J16","v":8},{"$f":"IF(OR(AND(ClosureCalcYes=TRUE,WasteCapacity=\"\"),AND(ClosureCalcYes=FALSE,ClosureYear=\"\")),0,IF('USER INPUTS'!K16>0,IF('USER INPUTS'!$K$4=\"Mg/year\",'USER INPUTS'!K16,'USER INPUTS'!L16),0))","v":0},0,{"$f":"IF(ClosureCalcYes=FALSE,IF(AND(B31<ClosureYear,C31=0,SUM(C31:$C$102)=0),$D$13,IF(B31<=ClosureYear,C31,0)),IF(B31=$D$16,($D$14-F31),IF(B31<$D$16,IF(SUM(C31:$C$102)=0,$D$13,C31),0)))","v":0},0,{"$f":"IF(SUM(C32:$C$101)=0,C31,0)","v":0},0,8,0,7,0,0,6,0,0,5,0,0,4,0,0,3,0,0,2,0,0,1,0,0,0,{"$f":"$E$30","v":0},{"$f":"SUM($G$10*$G$11*AG31*(EXP(-($G$10*AF31))),$G$10*$G$11*AG31*(EXP(-($G$10*(AF31+0.1)))),$G$10*$G$11*AG31*(EXP(-($G$10*(AF31+0.2)))),$G$10*$G$11*AG31*(EXP(-($G$10*(AF31+0.3)))),$G$10*$G$11*AG31*(EXP(-($G$10*(AF31+0.4)))),$G$10*$G$11*AG31*(EXP(-($G$10*(AF31+0.5)))),$G$10*$G$11*AG31*(EXP(-($G$10*(AF31+0.6)))),$G$10*$G$11*AG31*(EXP(-($G$10*(AF31+0.7)))),$G$10*$G$11*AG31*(EXP(-($G$10*(AF31+0.8)))),$G$10*$G$11*AG31*(EXP(-($G$10*(AF31+0.9)))))/10","v":0}]
[null,{"$f":"'USER INPUTS'!J17","v":9},{"$f":"IF(OR(AND(ClosureCalcYes=TRUE,WasteCapacity=\"\"),AND(ClosureCalcYes=FALSE,ClosureYear=\"\")),0,IF('USER INPUTS'!K17>0,IF('USER INPUTS'!$K$4=\"Mg/year\",'USER INPUTS'!K17,'USER INPUTS'!L17),0))","v":0},0,{"$f":"IF(ClosureCalcYes=FALSE,IF(AND(B32<ClosureYear,C32=0,SUM(C32:$C$102)=0),$D$13,IF(B32<=ClosureYear,C32,0)),IF(B32=$D$16,($D$14-F32),IF(B32<$D$16,IF(SUM(C32:$C$102)=0,$D$13,C32),0)))","v":0},0,{"$f":"IF(SUM(C33:$C$101)=0,C32,0)","v":0},0,9,0,8,0,0,7,0,0,6,0,0,5,0,0,4,0,0,3,0,0,2,0,0,1,0,0,0,{"$f":"$E$31","v":0},{"$f":"SUM($G$10*$G$11*AJ32*(EXP(-($G$10*AI32))),$G$10*$G$11*AJ32*(EXP(-($G$10*(AI32+0.1)))),$G$10*$G$11*AJ32*(EXP(-($G$10*(AI32+0.2)))),$G$10*$G$11*AJ32*(EXP(-($G$10*(AI32+0.3)))),$G$10*$G$11*AJ32*(EXP(-($G$10*(AI32+0.4)))),$G$10*$G$11*AJ32*(EXP(-($G$10*(AI32+0.5)))),$G$10*$G$11*AJ32*(EXP(-($G$10*(AI32+0.6)))),$G$10*$G$11*AJ32*(EXP(-($G$10*(AI32+0.7)))),$G$10*$G$11*AJ32*(EXP(-($G$10*(AI32+0.8)))),$G$10*$G$11*AJ32*(EXP(-($G$10*(AI32+0.9)))))/10","v":0}]
[null,{"$f":"'USER INPUTS'!J18","v":10},{"$f":"IF(OR(AND(ClosureCalcYes=TRUE,WasteCapacity=\"\"),AND(ClosureCalcYes=FALSE,ClosureYear=\"\")),0,IF('USER INPUTS'!K18>0,IF('USER INPUTS'!$K$4=\"Mg/year\",'USER INPUTS'!K18,'USER INPUTS'!L18),0))","v":0},0,{"$f":"IF(ClosureCalcYes=FALSE,IF(AND(B33<ClosureYear,C33=0,SUM(C33:$C$102)=0),$D$13,IF(B33<=ClosureYear,C33,0)),IF(B33=$D$16,($D$14-F33),IF(B33<$D$16,IF(SUM(C33:$C$102)=0,$D$13,C33),0)))","v":0},0,{"$f":"IF(SUM(C34:$C$101)=0,C33,0)","v":0},0,10,0,9,0,0,8,0,0,7,0,0,6,0,0,5,0,0,4,0,0,3,0,0,2,0,0,1,0,0,0,{"$f":"$E$32","v":0},{"$f":"SUM($G$10*$G$11*AM33*(EXP(-($G$10*AL33))),$G$10*$G$11*AM33*(EXP(-($G$10*(AL33+0.1)))),$G$10*$G$11*AM33*(EXP(-($G$10*(AL33+0.2)))),$G$10*$G$11*AM33*(EXP(-($G$10*(AL33+0.3)))),$G$10*$G$11*AM33*(EXP(-($G$10*(AL33+0.4)))),$G$10*$G$11*AM33*(EXP(-($G$10*(AL33+0.5)))),$G$10*$G$11*AM33*(EXP(-($G$10*(AL33+0.6)))),$G$10*$G$11*AM33*(EXP(-($G$10*(AL33+0.7)))),$G$10*$G$11*AM33*(EXP(-($G$10*(AL33+0.8)))),$G$10*$G$11*AM33*(EXP(-($G$10*(AL33+0.9)))))/10","v":0}]
[null,{"$f":"'USER INPUTS'!J19","v":11},{"$f":"IF(OR(AND(ClosureCalcYes=TRUE,WasteCapacity=\"\"),AND(ClosureCalcYes=FALSE,ClosureYear=\"\")),0,IF('USER INPUTS'!K19>0,IF('USER INPUTS'!$K$4=\"Mg/year\",'USER INPUTS'!K19,'USER INPUTS'!L19),0))","v":0},0,{"$f":"IF(ClosureCalcYes=FALSE,IF(AND(B34<ClosureYear,C34=0,SUM(C34:$C$102)=0),$D$13,IF(B34<=ClosureYear,C34,0)),IF(B34=$D$16,($D$14-F34),IF(B34<$D$16,IF(SUM(C34:$C$102)=0,$D$13,C34),0)))","v":0},0,{"$f":"IF(SUM(C35:$C$101)=0,C34,0)","v":0},0,11,0,10,0,0,9,0,0,8,0,0,7,0,0,6,0,0,5,0,0,4,0,0,3,0,0,2,0,0,1,0,0,0,{"$f":"$E$33","v":0},{"$f":"SUM($G$10*$G$11*AP34*(EXP(-($G$10*AO34))),$G$10*$G$11*AP34*(EXP(-($G$10*(AO34+0.1)))),$G$10*$G$11*AP34*(EXP(-($G$10*(AO34+0.2)))),$G$10*$G$11*AP34*(EXP(-($G$10*(AO34+0.3)))),$G$10*$G$11*AP34*(EXP(-($G$10*(AO34+0.4)))),$G$10*$G$11*AP34*(EXP(-($G$10*(AO34+0.5)))),$G$10*$G$11*AP34*(EXP(-($G$10*(AO34+0.6)))),$G$10*$G$11*AP34*(EXP(-($G$10*(AO34+0.7)))),$G$10*$G$11*AP34*(EXP(-($G$10*(AO34+0.8)))),$G$10*$G$11*AP34*(EXP(-($G$10*(AO34+0.9)))))/10","v":0}]
[null,{"$f":"'USER INPUTS'!J20","v":12},{"$f":"IF(OR(AND(ClosureCalcYes=TRUE,WasteCapacity=\"\"),AND(ClosureCalcYes=FALSE,ClosureYear=\"\")),0,IF('USER INPUTS'!K20>0,IF('USER INPUTS'!$K$4=\"Mg/year\",'USER INPUTS'!K20,'USER INPUTS'!L20),0))","v":0},0,{"$f":"IF(ClosureCalcYes=FALSE,IF(AND(B35<ClosureYear,C35=0,SUM(C35:$C$102)=0),$D$13,IF(B35<=ClosureYear,C35,0)),IF(B35=$D$16,($D$14-F35),IF(B35<$D$16,IF(SUM(C35:$C$102)=0,$D$13,C35),0)))","v":0},0,{"$f":"IF(SUM(C36:$C$101)=0,C35,0)","v":0},0,12,0,11,0,0,10,0,0,9,0,0,8,0,0,7,0,0,6,0,0,5,0,0,4,0,0,3,0,0,2,0,0,1,0,0,0,{"$f":"$E$34","v":0},{"$f":"SUM($G$10*$G$11*AS35*(EXP(-($G$10*AR35))),$G$10*$G$11*AS35*(EXP(-($G$10*(AR35+0.1)))),$G$10*$G$11*AS35*(EXP(-($G$10*(AR35+0.2)))),$G$10*$G$11*AS35*(EXP(-($G$10*(AR35+0.3)))),$G$10*$G$11*AS35*(EXP(-($G$10*(AR35+0.4)))),$G$10*$G$11*AS35*(EXP(-($G$10*(AR35+0.5)))),$G$10*$G$11*AS35*(EXP(-($G$10*(AR35+0.6)))),$G$10*$G$11*AS35*(EXP(-($G$10*(AR35+0.7)))),$G$10*$G$11*AS35*(EXP(-($G$10*(AR35+0.8)))),$G$10*$G$11*AS35*(EXP(-($G$10*(AR35+0.9)))))/10","v":0}]
[null,{"$f":"'USER INPUTS'!J21","v":13},{"$f":"IF(OR(AND(ClosureCalcYes=TRUE,WasteCapacity=\"\"),AND(ClosureCalcYes=FALSE,ClosureYear=\"\")),0,IF('USER INPUTS'!K21>0,IF('USER INPUTS'!$K$4=\"Mg/year\",'USER INPUTS'!K21,'USER INPUTS'!L21),0))","v":0},0,{"$f":"IF(ClosureCalcYes=FALSE,IF(AND(B36<ClosureYear,C36=0,SUM(C36:$C$102)=0),$D$13,IF(B36<=ClosureYear,C36,0)),IF(B36=$D$16,($D$14-F36),IF(B36<$D$16,IF(SUM(C36:$C$102)=0,$D$13,C36),0)))","v":0},0,{"$f":"IF(SUM(C37:$C$101)=0,C36,0)","v":0},0,13,0,12,0,0,11,0,0,10,0,0,9,0,0,8,0,0,7,0,0,6,0,0,5,0,0,4,0,0,3,0,0,2,0,0,1,0,0,0,{"$f":"$E$35","v":0},{"$f":"SUM($G$10*$G$11*AV36*(EXP(-($G$10*AU36))),$G$10*$G$11*AV36*(EXP(-($G$10*(AU36+0.1)))),$G$10*$G$11*AV36*(EXP(-($G$10*(AU36+0.2)))),$G$10*$G$11*AV36*(EXP(-($G$10*(AU36+0.3)))),$G$10*$G$11*AV36*(EXP(-($G$10*(AU36+0.4)))),$G$10*$G$11*AV36*(EXP(-($G$10*(AU36+0.5)))),$G$10*$G$11*AV36*(EXP(-($G$10*(AU36+0.6)))),$G$10*$G$11*AV36*(EXP(-($G$10*(AU36+0.7)))),$G$10*$G$11*AV36*(EXP(-($G$10*(AU36+0.8)))),$G$10*$G$11*AV36*(EXP(-($G$10*(AU36+0.9)))))/10","v":0}]
[null,{"$f":"'USER INPUTS'!J22","v":14},{"$f":"IF(OR(AND(ClosureCalcYes=TRUE,WasteCapacity=\"\"),AND(ClosureCalcYes=FALSE,ClosureYear=\"\")),0,IF('USER INPUTS'!K22>0,IF('USER INPUTS'!$K$4=\"Mg/year\",'USER INPUTS'!K22,'USER INPUTS'!L22),0))","v":0},0,{"$f":"IF(ClosureCalcYes=FALSE,IF(AND(B37<ClosureYear,C37=0,SUM(C37:$C$102)=0),$D$13,IF(B37<=ClosureYear,C37,0)),IF(B37=$D$16,($D$14-F37),IF(B37<$D$16,IF(SUM(C37:$C$102)=0,$D$13,C37),0)))","v":0},0,{"$f":"IF(SUM(C38:$C$101)=0,C37,0)","v":0},0,14,0,13,0,0,12,0,0,11,0,0,10,0,0,9,0,0,8,0,0,7,0,0,6,0,0,5,0,0,4,0,0,3,0,0,2,0,0,1,0,0,0,{"$f":"$E$36","v":0},{"$f":"SUM($G$10*$G$11*AY37*(EXP(-($G$10*AX37))),$G$10*$G$11*AY37*(EXP(-($G$10*(AX37+0.1)))),$G$10*$G$11*AY37*(EXP(-($G$10*(AX37+0.2)))),$G$10*$G$11*AY37*(EXP(-($G$10*(AX37+0.3)))),$G$10*$G$11*AY37*(EXP(-($G$10*(AX37+0.4)))),$G$10*$G$11*AY37*(EXP(-($G$10*(AX37+0.5)))),$G$10*$G$11*AY37*(EXP(-($G$10*(AX37+0.6)))),$G$10*$G$11*AY37*(EXP(-($G$10*(AX37+0.7)))),$G$10*$G$11*AY37*(EXP(-($G$10*(AX37+0.8)))),$G$10*$G$11*AY37*(EXP(-($G$10*(AX37+0.9)))))/10","v":0}]
[null,{"$f":"'USER INPUTS'!J23","v":15},{"$f":"IF(OR(AND(ClosureCalcYes=TRUE,WasteCapacity=\"\"),AND(ClosureCalcYes=FALSE,ClosureYear=\"\")),0,IF('USER INPUTS'!K23>0,IF('USER INPUTS'!$K$4=\"Mg/year\",'USER INPUTS'!K23,'USER INPUTS'!L23),0))","v":0},0,{"$f":"IF(ClosureCalcYes=FALSE,IF(AND(B38<ClosureYear,C38=0,SUM(C38:$C$102)=0),$D$13,IF(B38<=ClosureYear,C38,0)),IF(B38=$D$16,($D$14-F38),IF(B38<$D$16,IF(SUM(C38:$C$102)=0,$D$13,C38),0)))","v":0},0,{"$f":"IF(SUM(C39:$C$101)=0,C38,0)","v":0},0,15,0,14,0,0,13,0,0,12,0,0,11,0,0,10,0,0,9,0,0,8,0,0,7,0,0,6,0,0,5,0,0,4,0,0,3,0,0,2,0,0,1,0,0,0,{"$f":"$E$37","v":0},{"$f":"SUM($G$10*$G$11*BB38*(EXP(-($G$10*BA38))),$G$10*$G$11*BB38*(EXP(-($G$10*(BA38+0.1)))),$G$10*$G$11*BB38*(EXP(-($G$10*(BA38+0.2)))),$G$10*$G$11*BB38*(EXP(-($G$10*(BA38+0.3)))),$G$10*$G$11*BB38*(EXP(-($G$10*(BA38+0.4)))),$G$10*$G$11*BB38*(EXP(-($G$10*(BA38+0.5)))),$G$10*$G$11*BB38*(EXP(-($G$10*(BA38+0.6)))),$G$10*$G$11*BB38*(EXP(-($G$10*(BA38+0.7)))),$G$10*$G$11*BB38*(EXP(-($G$10*(BA38+0.8)))),$G$10*$G$11*BB38*(EXP(-($G$10*(BA38+0.9)))))/10","v":0}]
[null,{"$f":"'USER INPUTS'!J24","v":16},{"$f":"IF(OR(AND(ClosureCalcYes=TRUE,WasteCapacity=\"\"),AND(ClosureCalcYes=FALSE,ClosureYear=\"\")),0,IF('USER INPUTS'!K24>0,IF('USER INPUTS'!$K$4=\"Mg/year\",'USER INPUTS'!K24,'USER INPUTS'!L24),0))","v":0},0,{"$f":"IF(ClosureCalcYes=FALSE,IF(AND(B39<ClosureYear,C39=0,SUM(C39:$C$102)=0),$D$13,IF(B39<=ClosureYear,C39,0)),IF(B39=$D$16,($D$14-F39),IF(B39<$D$16,IF(SUM(C39:$C$102)=0,$D$13,C39),0)))","v":0},0,{"$f":"IF(SUM(C40:$C$101)=0,C39,0)","v":0},0,16,0,15,0,0,14,0,0,13,0,0,12,0,0,11,0,0,10,0,0,9,0,0,8,0,0,7,0,0,6,0,0,5,0,0,4,0,0,3,0,0,2,0,0,1,0,0,0,{"$f":"$E$38","v":0},{"$f":"SUM($G$10*$G$11*BE39*(EXP(-($G$10*BD39))),$G$10*$G$11*BE39*(EXP(-($G$10*(BD39+0.1)))),$G$10*$G$11*BE39*(EXP(-($G$10*(BD39+0.2)))),$G$10*$G$11*BE39*(EXP(-($G$10*(BD39+0.3)))),$G$10*$G$11*BE39*(EXP(-($G$10*(BD39+0.4)))),$G$10*$G$11*BE39*(EXP(-($G$10*(BD39+0.5)))),$G$10*$G$11*BE39*(EXP(-($G$10*(BD39+0.6)))),$G$10*$G$11*BE39*(EXP(-($G$10*(BD39+0.7)))),$G$10*$G$11*BE39*(EXP(-($G$10*(BD39+0.8)))),$G$10*$G$11*BE39*(EXP(-($G$10*(BD39+0.9)))))/10","v":0}]
[null,{"$f":"'USER INPUTS'!J25","v":17},{"$f":"IF(OR(AND(ClosureCalcYes=TRUE,WasteCapacity=\"\"),AND(ClosureCalcYes=FALSE,ClosureYear=\"\")),0,IF('USER INPUTS'!K25>0,IF('USER INPUTS'!$K$4=\"Mg/year\",'USER INPUTS'!K25,'USER INPUTS'!L25),0))","v":0},0,{"$f":"IF(ClosureCalcYes=FALSE,IF(AND(B40<ClosureYear,C40=0,SUM(C40:$C$102)=0),$D$13,IF(B40<=ClosureYear,C40,0)),IF(B40=$D$16,($D$14-F40),IF(B40<$D$16,IF(SUM(C40:$C$102)=0,$D$13,C40),0)))","v":0},0,{"$f":"IF(SUM(C41:$C$101)=0,C40,0)","v":0},0,17,0,16,0,0,15,0,0,14,0,0,13,0,0,12,0,0,11,0,0,10,0,0,9,0,0,8,0,0,7,0,0,6,0,0,5,0,0,4,0,0,3,0,0,2,0,0,1,0,0,0,{"$f":"$E$39","v":0},{"$f":"SUM($G$10*$G$11*BH40*(EXP(-($G$10*BG40))),$G$10*$G$11*BH40*(EXP(-($G$10*(BG40+0.1)))),$G$10*$G$11*BH40*(EXP(-($G$10*(BG40+0.2)))),$G$10*$G$11*BH40*(EXP(-($G$10*(BG40+0.3)))),$G$10*$G$11*BH40*(EXP(-($G$10*(BG40+0.4)))),$G$10*$G$11*BH40*(EXP(-($G$10*(BG40+0.5)))),$G$10*$G$11*BH40*(EXP(-($G$10*(BG40+0.6)))),$G$10*$G$11*BH40*(EXP(-($G$10*(BG40+0.7)))),$G$10*$G$11*BH40*(EXP(-($G$10*(BG40+0.8)))),$G$10*$G$11*BH40*(EXP(-($G$10*(BG40+0.9)))))/10","v":0}]
[null,{"$f":"'USER INPUTS'!J26","v":18},{"$f":"IF(OR(AND(ClosureCalcYes=TRUE,WasteCapacity=\"\"),AND(ClosureCalcYes=FALSE,ClosureYear=\"\")),0,IF('USER INPUTS'!K26>0,IF('USER INPUTS'!$K$4=\"Mg/year\",'USER INPUTS'!K26,'USER INPUTS'!L26),0))","v":0},0,{"$f":"IF(ClosureCalcYes=FALSE,IF(AND(B41<ClosureYear,C41=0,SUM(C41:$C$102)=0),$D$13,IF(B41<=ClosureYear,C41,0)),IF(B41=$D$16,($D$14-F41),IF(B41<$D$16,IF(SUM(C41:$C$102)=0,$D$13,C41),0)))","v":0},0,{"$f":"IF(SUM(C42:$C$101)=0,C41,0)","v":0},0,18,0,17,0,0,16,0,0,15,0,0,14,0,0,13,0,0,12,0,0,11,0,0,10,0,0,9,0,0,8,0,0,7,0,0,6,0,0,5,0,0,4,0,0,3,0,0,2,0,0,1,0,0,0,{"$f":"$E$40","v":0},{"$f":"SUM($G$10*$G$11*BK41*(EXP(-($G$10*BJ41))),$G$10*$G$11*BK41*(EXP(-($G$10*(BJ41+0.1)))),$G$10*$G$11*BK41*(EXP(-($G$10*(BJ41+0.2)))),$G$10*$G$11*BK41*(EXP(-($G$10*(BJ41+0.3)))),$G$10*$G$11*BK41*(EXP(-($G$10*(BJ41+0.4)))),$G$10*$G$11*BK41*(EXP(-($G$10*(BJ41+0.5)))),$G$10*$G$11*BK41*(EXP(-($G$10*(BJ41+0.6)))),$G$10*$G$11*BK41*(EXP(-($G$10*(BJ41+0.7)))),$G$10*$G$11*BK41*(EXP(-($G$10*(BJ41+0.8)))),$G$10*$G$11*BK41*(EXP(-($G$10*(BJ41+0.9)))))/10","v":0}]
[null,{"$f":"'USER INPUTS'!J27","v":19},{"$f":"IF(OR(AND(ClosureCalcYes=TRUE,WasteCapacity=\"\"),AND(ClosureCalcYes=FALSE,ClosureYear=\"\")),0,IF('USER INPUTS'!K27>0,IF('USER INPUTS'!$K$4=\"Mg/year\",'USER INPUTS'!K27,'USER INPUTS'!L27),0))","v":0},0,{"$f":"IF(ClosureCalcYes=FALSE,IF(AND(B42<ClosureYear,C42=0,SUM(C42:$C$102)=0),$D$13,IF(B42<=ClosureYear,C42,0)),IF(B42=$D$16,($D$14-F42),IF(B42<$D$16,IF(SUM(C42:$C$102)=0,$D$13,C42),0)))","v":0},0,{"$f":"IF(SUM(C43:$C$101)=0,C42,0)","v":0},0,19,0,18,0,0,17,0,0,16,0,0,15,0,0,14,0,0,13,0,0,12,0,0,11,0,0,10,0,0,9,0,0,8,0,0,7,0,0,6,0,0,5,0,0,4,0,0,3,0,0,2,0,0,1,0,0,0,{"$f":"$E$41","v":0},{"$f":"SUM($G$10*$G$11*BN42*(EXP(-($G$10*BM42))),$G$10*$G$11*BN42*(EXP(-($G$10*(BM42+0.1)))),$G$10*$G$11*BN42*(EXP(-($G$10*(BM42+0.2)))),$G$10*$G$11*BN42*(EXP(-($G$10*(BM42+0.3)))),$G$10*$G$11*BN42*(EXP(-($G$10*(BM42+0.4)))),$G$10*$G$11*BN42*(EXP(-($G$10*(BM42+0.5)))),$G$10*$G$11*BN42*(EXP(-($G$10*(BM42+0.6)))),$G$10*$G$11*BN42*(EXP(-($G$10*(BM42+0.7)))),$G$10*$G$11*BN42*(EXP(-($G$10*(BM42+0.8)))),$G$10*$G$11*BN42*(EXP(-($G$10*(BM42+0.9)))))/10","v":0}]
[null,{"$f":"'USER INPUTS'!J28","v":20},{"$f":"IF(OR(AND(ClosureCalcYes=TRUE,WasteCapacity=\"\"),AND(ClosureCalcYes=FALSE,ClosureYear=\"\")),0,IF('USER INPUTS'!K28>0,IF('USER INPUTS'!$K$4=\"Mg/year\",'USER INPUTS'!K28,'USER INPUTS'!L28),0))","v":0},0,{"$f":"IF(ClosureCalcYes=FALSE,IF(AND(B43<ClosureYear,C43=0,SUM(C43:$C$102)=0),$D$13,IF(B43<=ClosureYear,C43,0)),IF(B43=$D$16,($D$14-F43),IF(B43<$D$16,IF(SUM(C43:$C$102)=0,$D$13,C43),0)))","v":0},0,{"$f":"IF(SUM(C44:$C$101)=0,C43,0)","v":0},0,20,0,19,0,0,18,0,0,17,0,0,16,0,0,15,0,0,14,0,0,13,0,0,12,0,0,11,0,0,10,0,0,9,0,0,8,0,0,7,0,0,6,0,0,5,0,0,4,0,0,3,0,0,2,0,0,1,0,0,0,{"$f":"$E$42","v":0},{"$f":"SUM($G$10*$G$11*BQ43*(EXP(-($G$10*BP43))),$G$10*$G$11*BQ43*(EXP(-($G$10*(BP43+0.1)))),$G$10*$G$11*BQ43*(EXP(-($G$10*(BP43+0.2)))),$G$10*$G$11*BQ43*(EXP(-($G$10*(BP43+0.3)))),$G$10*$G$11*BQ43*(EXP(-($G$10*(BP43+0.4)))),$G$10*$G$11*BQ43*(EXP(-($G$10*(BP43+0.5)))),$G$10*$G$11*BQ43*(EXP(-($G$10*(BP43+0.6)))),$G$10*$G$11*BQ43*(EXP(-($G$10*(BP43+0.7)))),$G$10*$G$11*BQ43*(EXP(-($G$10*(BP43+0.8)))),$G$10*$G$11*BQ43*(EXP(-($G$10*(BP43+0.9)))))/10","v":0}]
[null,{"$f":"'USER INPUTS'!J29","v":21},{"$f":"IF(OR(AND(ClosureCalcYes=TRUE,WasteCapacity=\"\"),AND(ClosureCalcYes=FALSE,ClosureYear=\"\")),0,IF('USER INPUTS'!K29>0,IF('USER INPUTS'!$K$4=\"Mg/year\",'USER INPUTS'!K29,'USER INPUTS'!L29),0))","v":0},0,{"$f":"IF(ClosureCalcYes=FALSE,IF(AND(B44<ClosureYear,C44=0,SUM(C44:$C$102)=0),$D$13,IF(B44<=ClosureYear,C44,0)),IF(B44=$D$16,($D$14-F44),IF(B44<$D$16,IF(SUM(C44:$C$102)=0,$D$13,C44),0)))","v":0},0,{"$f":"IF(SUM(C45:$C$101)=0,C44,0)","v":0},0,21,0,20,0,0,19,0,0,18,0,0,17,0,0,16,0,0,15,0,0,14,0,0,13,0,0,12,0,0,11,0,0,10,0,0,9,0,0,8,0,0,7,0,0,6,0,0,5,0,0,4,0,0,3,0,0,2,0,0,1,0,0,0,{"$f":"$E$43","v":0},{"$f":"SUM($G$10*$G$11*BT44*(EXP(-($G$10*BS44))),$G$10*$G$11*BT44*(EXP(-($G$10*(BS44+0.1)))),$G$10*$G$11*BT44*(EXP(-($G$10*(BS44+0.2)))),$G$10*$G$11*BT44*(EXP(-($G$10*(BS44+0.3)))),$G$10*$G$11*BT44*(EXP(-($G$10*(BS44+0.4)))),$G$10*$G$11*BT44*(EXP(-($G$10*(BS44+0.5)))),$G$10*$G$11*BT44*(EXP(-($G$10*(BS44+0.6)))),$G$10*$G$11*BT44*(EXP(-($G$10*(BS44+0.7)))),$G$10*$G$11*BT44*(EXP(-($G$10*(BS44+0.8)))),$G$10*$G$11*BT44*(EXP(-($G$10*(BS44+0.9)))))/10","v":0}]
[null,{"$f":"'USER INPUTS'!J30","v":22},{"$f":"IF(OR(AND(ClosureCalcYes=TRUE,WasteCapacity=\"\"),AND(ClosureCalcYes=FALSE,ClosureYear=\"\")),0,IF('USER INPUTS'!K30>0,IF('USER INPUTS'!$K$4=\"Mg/year\",'USER INPUTS'!K30,'USER INPUTS'!L30),0))","v":0},0,{"$f":"IF(ClosureCalcYes=FALSE,IF(AND(B45<ClosureYear,C45=0,SUM(C45:$C$102)=0),$D$13,IF(B45<=ClosureYear,C45,0)),IF(B45=$D$16,($D$14-F45),IF(B45<$D$16,IF(SUM(C45:$C$102)=0,$D$13,C45),0)))","v":0},0,{"$f":"IF(SUM(C46:$C$101)=0,C45,0)","v":0},0,22,0,21,0,0,20,0,0,19,0,0,18,0,0,17,0,0,16,0,0,15,0,0,14,0,0,13,0,0,12,0,0,11,0,0,10,0,0,9,0,0,8,0,0,7,0,0,6,0,0,5,0,0,4,0,0,3,0,0,2,0,0,1,0,0,0,{"$f":"$E$44","v":0},{"$f":"SUM($G$10*$G$11*BW45*(EXP(-($G$10*BV45))),$G$10*$G$11*BW45*(EXP(-($G$10*(BV45+0.1)))),$G$10*$G$11*BW45*(EXP(-($G$10*(BV45+0.2)))),$G$10*$G$11*BW45*(EXP(-($G$10*(BV45+0.3)))),$G$10*$G$11*BW45*(EXP(-($G$10*(BV45+0.4)))),$G$10*$G$11*BW45*(EXP(-($G$10*(BV45+0.5)))),$G$10*$G$11*BW45*(EXP(-($G$10*(BV45+0.6)))),$G$10*$G$11*BW45*(EXP(-($G$10*(BV45+0.7)))),$G$10*$G$11*BW45*(EXP(-($G$10*(BV45+0.8)))),$G$10*$G$11*BW45*(EXP(-($G$10*(BV45+0.9)))))/10","v":0}]
[null,{"$f":"'USER INPUTS'!J31","v":23},{"$f":"IF(OR(AND(ClosureCalcYes=TRUE,WasteCapacity=\"\"),AND(ClosureCalcYes=FALSE,ClosureYear=\"\")),0,IF('USER INPUTS'!K31>0,IF('USER INPUTS'!$K$4=\"Mg/year\",'USER INPUTS'!K31,'USER INPUTS'!L31),0))","v":0},0,{"$f":"IF(ClosureCalcYes=FALSE,IF(AND(B46<ClosureYear,C46=0,SUM(C46:$C$102)=0),$D$13,IF(B46<=ClosureYear,C46,0)),IF(B46=$D$16,($D$14-F46),IF(B46<$D$16,IF(SUM(C46:$C$102)=0,$D$13,C46),0)))","v":0},0,{"$f":"IF(SUM(C47:$C$101)=0,C46,0)","v":0},0,23,0,22,0,0,21,0,0,20,0,0,19,0,0,18,0,0,17,0,0,16,0,0,15,0,0,14,0,0,13,0,0,12,0,0,11,0,0,10,0,0,9,0,0,8,0,0,7,0,0,6,0,0,5,0,0,4,0,0,3,0,0,2,0,0,1,0,0,0,{"$f":"$E$45","v":0},{"$f":"SUM($G$10*$G$11*BZ46*(EXP(-($G$10*BY46))),$G$10*$G$11*BZ46*(EXP(-($G$10*(BY46+0.1)))),$G$10*$G$11*BZ46*(EXP(-($G$10*(BY46+0.2)))),$G$10*$G$11*BZ46*(EXP(-($G$10*(BY46+0.3)))),$G$10*$G$11*BZ46*(EXP(-($G$10*(BY46+0.4)))),$G$10*$G$11*BZ46*(EXP(-($G$10*(BY46+0.5)))),$G$10*$G$11*BZ46*(EXP(-($G$10*(BY46+0.6)))),$G$10*$G$11*BZ46*(EXP(-($G$10*(BY46+0.7)))),$G$10*$G$11*BZ46*(EXP(-($G$10*(BY46+0.8)))),$G$10*$G$11*BZ46*(EXP(-($G$10*(BY46+0.9)))))/10","v":0}]
[null,{"$f":"'USER INPUTS'!J32","v":24},{"$f":"IF(OR(AND(ClosureCalcYes=TRUE,WasteCapacity=\"\"),AND(ClosureCalcYes=FALSE,ClosureYear=\"\")),0,IF('USER INPUTS'!K32>0,IF('USER INPUTS'!$K$4=\"Mg/year\",'USER INPUTS'!K32,'USER INPUTS'!L32),0))","v":0},0,{"$f":"IF(ClosureCalcYes=FALSE,IF(AND(B47<ClosureYear,C47=0,SUM(C47:$C$102)=0),$D$13,IF(B47<=ClosureYear,C47,0)),IF(B47=$D$16,($D$14-F47),IF(B47<$D$16,IF(SUM(C47:$C$102)=0,$D$13,C47),0)))","v":0},0,{"$f":"IF(SUM(C48:$C$101)=0,C47,0)","v":0},0,24,0,23,0,0,22,0,0,21,0,0,20,0,0,19,0,0,18,0,0,17,0,0,16,0,0,15,0,0,14,0,0,13,0,0,12,0,0,11,0,0,10,0,0,9,0,0,8,0,0,7,0,0,6,0,0,5,0,0,4,0,0,3,0,0,2,0,0,1,0,0,0,{"$f":"$E$46","v":0},{"$f":"SUM($G$10*$G$11*CC47*(EXP(-($G$10*CB47))),$G$10*$G$11*CC47*(EXP(-($G$10*(CB47+0.1)))),$G$10*$G$11*CC47*(EXP(-($G$10*(CB47+0.2)))),$G$10*$G$11*CC47*(EXP(-($G$10*(CB47+0.3)))),$G$10*$G$11*CC47*(EXP(-($G$10*(CB47+0.4)))),$G$10*$G$11*CC47*(EXP(-($G$10*(CB47+0.5)))),$G$10*$G$11*CC47*(EXP(-($G$10*(CB47+0.6)))),$G$10*$G$11*CC47*(EXP(-($G$10*(CB47+0.7)))),$G$10*$G$11*CC47*(EXP(-($G$10*(CB47+0.8)))),$G$10*$G$11*CC47*(EXP(-($G$10*(CB47+0.9)))))/10","v":0}]
[null,{"$f":"'USER INPUTS'!J33","v":25},{"$f":"IF(OR(AND(ClosureCalcYes=TRUE,WasteCapacity=\"\"),AND(ClosureCalcYes=FALSE,ClosureYear=\"\")),0,IF('USER INPUTS'!K33>0,IF('USER INPUTS'!$K$4=\"Mg/year\",'USER INPUTS'!K33,'USER INPUTS'!L33),0))","v":0},0,{"$f":"IF(ClosureCalcYes=FALSE,IF(AND(B48<ClosureYear,C48=0,SUM(C48:$C$102)=0),$D$13,IF(B48<=ClosureYear,C48,0)),IF(B48=$D$16,($D$14-F48),IF(B48<$D$16,IF(SUM(C48:$C$102)=0,$D$13,C48),0)))","v":0},0,{"$f":"IF(SUM(C49:$C$101)=0,C48,0)","v":0},0,25,0,24,0,0,23,0,0,22,0,0,21,0,0,20,0,0,19,0,0,18,0,0,17,0,0,16,0,0,15,0,0,14,0,0,13,0,0,12,0,0,11,0,0,10,0,0,9,0,0,8,0,0,7,0,0,6,0,0,5,0,0,4,0,0,3,0,0,2,0,0,1,0,0,0,{"$f":"$E$47","v":0},{"$f":"SUM($G$10*$G$11*CF48*(EXP(-($G$10*CE48))),$G$10*$G$11*CF48*(EXP(-($G$10*(CE48+0.1)))),$G$10*$G$11*CF48*(EXP(-($G$10*(CE48+0.2)))),$G$10*$G$11*CF48*(EXP(-($G$10*(CE48+0.3)))),$G$10*$G$11*CF48*(EXP(-($G$10*(CE48+0.4)))),$G$10*$G$11*CF48*(EXP(-($G$10*(CE48+0.5)))),$G$10*$G$11*CF48*(EXP(-($G$10*(CE48+0.6)))),$G$10*$G$11*CF48*(EXP(-($G$10*(CE48+0.7)))),$G$10*$G$11*CF48*(EXP(-($G$10*(CE48+0.8)))),$G$10*$G$11*CF48*(EXP(-($G$10*(CE48+0.9)))))/10","v":0}]
[null,{"$f":"'USER INPUTS'!J34","v":26},{"$f":"IF(OR(AND(ClosureCalcYes=TRUE,WasteCapacity=\"\"),AND(ClosureCalcYes=FALSE,ClosureYear=\"\")),0,IF('USER INPUTS'!K34>0,IF('USER INPUTS'!$K$4=\"Mg/year\",'USER INPUTS'!K34,'USER INPUTS'!L34),0))","v":0},0,{"$f":"IF(ClosureCalcYes=FALSE,IF(AND(B49<ClosureYear,C49=0,SUM(C49:$C$102)=0),$D$13,IF(B49<=ClosureYear,C49,0)),IF(B49=$D$16,($D$14-F49),IF(B49<$D$16,IF(SUM(C49:$C$102)=0,$D$13,C49),0)))","v":0},0,{"$f":"IF(SUM(C50:$C$101)=0,C49,0)","v":0},0,26,0,25,0,0,24,0,0,23,0,0,22,0,0,21,0,0,20,0,0,19,0,0,18,0,0,17,0,0,16,0,0,15,0,0,14,0,0,13,0,0,12,0,0,11,0,0,10,0,0,9,0,0,8,0,0,7,0,0,6,0,0,5,0,0,4,0,0,3,0,0,2,0,0,1,0,0,0,{"$f":"$E$48","v":0},{"$f":"SUM($G$10*$G$11*CI49*(EXP(-($G$10*CH49))),$G$10*$G$11*CI49*(EXP(-($G$10*(CH49+0.1)))),$G$10*$G$11*CI49*(EXP(-($G$10*(CH49+0.2)))),$G$10*$G$11*CI49*(EXP(-($G$10*(CH49+0.3)))),$G$10*$G$11*CI49*(EXP(-($G$10*(CH49+0.4)))),$G$10*$G$11*CI49*(EXP(-($G$10*(CH49+0.5)))),$G$10*$G$11*CI49*(EXP(-($G$10*(CH49+0.6)))),$G$10*$G$11*CI49*(EXP(-($G$10*(CH49+0.7)))),$G$10*$G$11*CI49*(EXP(-($G$10*(CH49+0.8)))),$G$10*$G$11*CI49*(EXP(-($G$10*(CH49+0.9)))))/10","v":0}]
[null,{"$f":"'USER INPUTS'!J35","v":27},{"$f":"IF(OR(AND(ClosureCalcYes=TRUE,WasteCapacity=\"\"),AND(ClosureCalcYes=FALSE,ClosureYear=\"\")),0,IF('USER INPUTS'!K35>0,IF('USER INPUTS'!$K$4=\"Mg/year\",'USER INPUTS'!K35,'USER INPUTS'!L35),0))","v":0},0,{"$f":"IF(ClosureCalcYes=FALSE,IF(AND(B50<ClosureYear,C50=0,SUM(C50:$C$102)=0),$D$13,IF(B50<=ClosureYear,C50,0)),IF(B50=$D$16,($D$14-F50),IF(B50<$D$16,IF(SUM(C50:$C$102)=0,$D$13,C50),0)))","v":0},0,{"$f":"IF(SUM(C51:$C$101)=0,C50,0)","v":0},0,27,0,26,0,0,25,0,0,24,0,0,23,0,0,22,0,0,21,0,0,20,0,0,19,0,0,18,0,0,17,0,0,16,0,0,15,0,0,14,0,0,13,0,0,12,0,0,11,0,0,10,0,0,9,0,0,8,0,0,7,0,0,6,0,0,5,0,0,4,0,0,3,0,0,2,0,0,1,0,0,0,{"$f":"$E$49","v":0},{"$f":"SUM($G$10*$G$11*CL50*(EXP(-($G$10*CK50))),$G$10*$G$11*CL50*(EXP(-($G$10*(CK50+0.1)))),$G$10*$G$11*CL50*(EXP(-($G$10*(CK50+0.2)))),$G$10*$G$11*CL50*(EXP(-($G$10*(CK50+0.3)))),$G$10*$G$11*CL50*(EXP(-($G$10*(CK50+0.4)))),$G$10*$G$11*CL50*(EXP(-($G$10*(CK50+0.5)))),$G$10*$G$11*CL50*(EXP(-($G$10*(CK50+0.6)))),$G$10*$G$11*CL50*(EXP(-($G$10*(CK50+0.7)))),$G$10*$G$11*CL50*(EXP(-($G$10*(CK50+0.8)))),$G$10*$G$11*CL50*(EXP(-($G$10*(CK50+0.9)))))/10","v":0}]
[null,{"$f":"'USER INPUTS'!J36","v":28},{"$f":"IF(OR(AND(ClosureCalcYes=TRUE,WasteCapacity=\"\"),AND(ClosureCalcYes=FALSE,ClosureYear=\"\")),0,IF('USER INPUTS'!K36>0,IF('USER INPUTS'!$K$4=\"Mg/year\",'USER INPUTS'!K36,'USER INPUTS'!L36),0))","v":0},0,{"$f":"IF(ClosureCalcYes=FALSE,IF(AND(B51<ClosureYear,C51=0,SUM(C51:$C$102)=0),$D$13,IF(B51<=ClosureYear,C51,0)),IF(B51=$D$16,($D$14-F51),IF(B51<$D$16,IF(SUM(C51:$C$102)=0,$D$13,C51),0)))","v":0},0,{"$f":"IF(SUM(C52:$C$101)=0,C51,0)","v":0},0,28,0,27,0,0,26,0,0,25,0,0,24,0,0,23,0,0,22,0,0,21,0,0,20,0,0,19,0,0,18,0,0,17,0,0,16,0,0,15,0,0,14,0,0,13,0,0,12,0,0,11,0,0,10,0,0,9,0,0,8,0,0,7,0,0,6,0,0,5,0,0,4,0,0,3,0,0,2,0,0,1,0,0,0,{"$f":"$E$50","v":0},{"$f":"SUM($G$10*$G$11*CO51*(EXP(-($G$10*CN51))),$G$10*$G$11*CO51*(EXP(-($G$10*(CN51+0.1)))),$G$10*$G$11*CO51*(EXP(-($G$10*(CN51+0.2)))),$G$10*$G$11*CO51*(EXP(-($G$10*(CN51+0.3)))),$G$10*$G$11*CO51*(EXP(-($G$10*(CN51+0.4)))),$G$10*$G$11*CO51*(EXP(-($G$10*(CN51+0.5)))),$G$10*$G$11*CO51*(EXP(-($G$10*(CN51+0.6)))),$G$10*$G$11*CO51*(EXP(-($G$10*(CN51+0.7)))),$G$10*$G$11*CO51*(EXP(-($G$10*(CN51+0.8)))),$G$10*$G$11*CO51*(EXP(-($G$10*(CN51+0.9)))))/10","v":0}]
[null,{"$f":"'USER INPUTS'!J37","v":29},{"$f":"IF(OR(AND(ClosureCalcYes=TRUE,WasteCapacity=\"\"),AND(ClosureCalcYes=FALSE,ClosureYear=\"\")),0,IF('USER INPUTS'!K37>0,IF('USER INPUTS'!$K$4=\"Mg/year\",'USER INPUTS'!K37,'USER INPUTS'!L37),0))","v":0},0,{"$f":"IF(ClosureCalcYes=FALSE,IF(AND(B52<ClosureYear,C52=0,SUM(C52:$C$102)=0),$D$13,IF(B52<=ClosureYear,C52,0)),IF(B52=$D$16,($D$14-F52),IF(B52<$D$16,IF(SUM(C52:$C$102)=0,$D$13,C52),0)))","v":0},0,{"$f":"IF(SUM(C53:$C$101)=0,C52,0)","v":0},0,29,0,28,0,0,27,0,0,26,0,0,25,0,0,24,0,0,23,0,0,22,0,0,21,0,0,20,0,0,19,0,0,18,0,0,17,0,0,16,0,0,15,0,0,14,0,0,13,0,0,12,0,0,11,0,0,10,0,0,9,0,0,8,0,0,7,0,0,6,0,0,5,0,0,4,0,0,3,0,0,2,0,0,1,0,0,0,{"$f":"$E$51","v":0},{"$f":"SUM($G$10*$G$11*CR52*(EXP(-($G$10*CQ52))),$G$10*$G$11*CR52*(EXP(-($G$10*(CQ52+0.1)))),$G$10*$G$11*CR52*(EXP(-($G$10*(CQ52+0.2)))),$G$10*$G$11*CR52*(EXP(-($G$10*(CQ52+0.3)))),$G$10*$G$11*CR52*(EXP(-($G$10*(CQ52+0.4)))),$G$10*$G$11*CR52*(EXP(-($G$10*(CQ52+0.5)))),$G$10*$G$11*CR52*(EXP(-($G$10*(CQ52+0.6)))),$G$10*$G$11*CR52*(EXP(-($G$10*(CQ52+0.7)))),$G$10*$G$11*CR52*(EXP(-($G$10*(CQ52+0.8)))),$G$10*$G$11*CR52*(EXP(-($G$10*(CQ52+0.9)))))/10","v":0}]
[null,{"$f":"'USER INPUTS'!J38","v":30},{"$f":"IF(OR(AND(ClosureCalcYes=TRUE,WasteCapacity=\"\"),AND(ClosureCalcYes=FALSE,ClosureYear=\"\")),0,IF('USER INPUTS'!K38>0,IF('USER INPUTS'!$K$4=\"Mg/year\",'USER INPUTS'!K38,'USER INPUTS'!L38),0))","v":0},0,{"$f":"IF(ClosureCalcYes=FALSE,IF(AND(B53<ClosureYear,C53=0,SUM(C53:$C$102)=0),$D$13,IF(B53<=ClosureYear,C53,0)),IF(B53=$D$16,($D$14-F53),IF(B53<$D$16,IF(SUM(C53:$C$102)=0,$D$13,C53),0)))","v":0},0,{"$f":"IF(SUM(C54:$C$101)=0,C53,0)","v":0},0,30,0,29,0,0,28,0,0,27,0,0,26,0,0,25,0,0,24,0,0,23,0,0,22,0,0,21,0,0,20,0,0,19,0,0,18,0,0,17,0,0,16,0,0,15,0,0,14,0,0,13,0,0,12,0,0,11,0,0,10,0,0,9,0,0,8,0,0,7,0,0,6,0,0,5,0,0,4,0,0,3,0,0,2,0,0,1,0,0,0,{"$f":"$E$52","v":0},{"$f":"SUM($G$10*$G$11*CU53*(EXP(-($G$10*CT53))),$G$10*$G$11*CU53*(EXP(-($G$10*(CT53+0.1)))),$G$10*$G$11*CU53*(EXP(-($G$10*(CT53+0.2)))),$G$10*$G$11*CU53*(EXP(-($G$10*(CT53+0.3)))),$G$10*$G$11*CU53*(EXP(-($G$10*(CT53+0.4)))),$G$10*$G$11*CU53*(EXP(-($G$10*(CT53+0.5)))),$G$10*$G$11*CU53*(EXP(-($G$10*(CT53+0.6)))),$G$10*$G$11*CU53*(EXP(-($G$10*(CT53+0.7)))),$G$10*$G$11*CU53*(EXP(-($G$10*(CT53+0.8)))),$G$10*$G$11*CU53*(EXP(-($G$10*(CT53+0.9)))))/10","v":0}]
[null,{"$f":"'USER INPUTS'!J39","v":31},{"$f":"IF(OR(AND(ClosureCalcYes=TRUE,WasteCapacity=\"\"),AND(ClosureCalcYes=FALSE,ClosureYear=\"\")),0,IF('USER INPUTS'!K39>0,IF('USER INPUTS'!$K$4=\"Mg/year\",'USER INPUTS'!K39,'USER INPUTS'!L39),0))","v":0},0,{"$f":"IF(ClosureCalcYes=FALSE,IF(AND(B54<ClosureYear,C54=0,SUM(C54:$C$102)=0),$D$13,IF(B54<=ClosureYear,C54,0)),IF(B54=$D$16,($D$14-F54),IF(B54<$D$16,IF(SUM(C54:$C$102)=0,$D$13,C54),0)))","v":0},0,{"$f":"IF(SUM(C55:$C$101)=0,C54,0)","v":0},0,31,0,30,0,0,29,0,0,28,0,0,27,0,0,26,0,0,25,0,0,24,0,0,23,0,0,22,0,0,21,0,0,20,0,0,19,0,0,18,0,0,17,0,0,16,0,0,15,0,0,14,0,0,13,0,0,12,0,0,11,0,0,10,0,0,9,0,0,8,0,0,7,0,0,6,0,0,5,0,0,4,0,0,3,0,0,2,0,0,1,0,0,0,{"$f":"$E$53","v":0},{"$f":"SUM($G$10*$G$11*CX54*(EXP(-($G$10*CW54))),$G$10*$G$11*CX54*(EXP(-($G$10*(CW54+0.1)))),$G$10*$G$11*CX54*(EXP(-($G$10*(CW54+0.2)))),$G$10*$G$11*CX54*(EXP(-($G$10*(CW54+0.3)))),$G$10*$G$11*CX54*(EXP(-($G$10*(CW54+0.4)))),$G$10*$G$11*CX54*(EXP(-($G$10*(CW54+0.5)))),$G$10*$G$11*CX54*(EXP(-($G$10*(CW54+0.6)))),$G$10*$G$11*CX54*(EXP(-($G$10*(CW54+0.7)))),$G$10*$G$11*CX54*(EXP(-($G$10*(CW54+0.8)))),$G$10*$G$11*CX54*(EXP(-($G$10*(CW54+0.9)))))/10","v":0}]
[null,{"$f":"'USER INPUTS'!J40","v":32},{"$f":"IF(OR(AND(ClosureCalcYes=TRUE,WasteCapacity=\"\"),AND(ClosureCalcYes=FALSE,ClosureYear=\"\")),0,IF('USER INPUTS'!K40>0,IF('USER INPUTS'!$K$4=\"Mg/year\",'USER INPUTS'!K40,'USER INPUTS'!L40),0))","v":0},0,{"$f":"IF(ClosureCalcYes=FALSE,IF(AND(B55<ClosureYear,C55=0,SUM(C55:$C$102)=0),$D$13,IF(B55<=ClosureYear,C55,0)),IF(B55=$D$16,($D$14-F55),IF(B55<$D$16,IF(SUM(C55:$C$102)=0,$D$13,C55),0)))","v":0},0,{"$f":"IF(SUM(C56:$C$101)=0,C55,0)","v":0},0,32,0,31,0,0,30,0,0,29,0,0,28,0,0,27,0,0,26,0,0,25,0,0,24,0,0,23,0,0,22,0,0,21,0,0,20,0,0,19,0,0,18,0,0,17,0,0,16,0,0,15,0,0,14,0,0,13,0,0,12,0,0,11,0,0,10,0,0,9,0,0,8,0,0,7,0,0,6,0,0,5,0,0,4,0,0,3,0,0,2,0,0,1,0,0,0,{"$f":"$E$54","v":0},{"$f":"SUM($G$10*$G$11*DA55*(EXP(-($G$10*CZ55))),$G$10*$G$11*DA55*(EXP(-($G$10*(CZ55+0.1)))),$G$10*$G$11*DA55*(EXP(-($G$10*(CZ55+0.2)))),$G$10*$G$11*DA55*(EXP(-($G$10*(CZ55+0.3)))),$G$10*$G$11*DA55*(EXP(-($G$10*(CZ55+0.4)))),$G$10*$G$11*DA55*(EXP(-($G$10*(CZ55+0.5)))),$G$10*$G$11*DA55*(EXP(-($G$10*(CZ55+0.6)))),$G$10*$G$11*DA55*(EXP(-($G$10*(CZ55+0.7)))),$G$10*$G$11*DA55*(EXP(-($G$10*(CZ55+0.8)))),$G$10*$G$11*DA55*(EXP(-($G$10*(CZ55+0.9)))))/10","v":0}]
[null,{"$f":"'USER INPUTS'!J41","v":33},{"$f":"IF(OR(AND(ClosureCalcYes=TRUE,WasteCapacity=\"\"),AND(ClosureCalcYes=FALSE,ClosureYear=\"\")),0,IF('USER INPUTS'!K41>0,IF('USER INPUTS'!$K$4=\"Mg/year\",'USER INPUTS'!K41,'USER INPUTS'!L41),0))","v":0},0,{"$f":"IF(ClosureCalcYes=FALSE,IF(AND(B56<ClosureYear,C56=0,SUM(C56:$C$102)=0),$D$13,IF(B56<=ClosureYear,C56,0)),IF(B56=$D$16,($D$14-F56),IF(B56<$D$16,IF(SUM(C56:$C$102)=0,$D$13,C56),0)))","v":0},0,{"$f":"IF(SUM(C57:$C$101)=0,C56,0)","v":0},0,33,0,32,{"$f":"$E$23","v":0},{"$f":"SUM($G$10*$G$11*L56*(EXP(-($G$10*K56))),$G$10*$G$11*L56*(EXP(-($G$10*(K56+0.1)))),$G$10*$G$11*L56*(EXP(-($G$10*(K56+0.2)))),$G$10*$G$11*L56*(EXP(-($G$10*(K56+0.3)))),$G$10*$G$11*L56*(EXP(-($G$10*(K56+0.4)))),$G$10*$G$11*L56*(EXP(-($G$10*(K56+0.5)))),$G$10*$G$11*L56*(EXP(-($G$10*(K56+0.6)))),$G$10*$G$11*L56*(EXP(-($G$10*(K56+0.7)))),$G$10*$G$11*L56*(EXP(-($G$10*(K56+0.8)))),$G$10*$G$11*L56*(EXP(-($G$10*(K56+0.9)))))/10","v":0},31,0,0,30,0,0,29,0,0,28,0,0,27,0,0,26,0,0,25,0,0,24,0,0,23,0,0,22,0,0,21,0,0,20,0,0,19,0,0,18,0,0,17,0,0,16,0,0,15,0,0,14,0,0,13,0,0,12,0,0,11,0,0,10,0,0,9,0,0,8,0,0,7,0,0,6,0,0,5,0,0,4,0,0,3,0,0,2,0,0,1,0,0,0,{"$f":"$E$55","v":0},{"$f":"SUM($G$10*$G$11*DD56*(EXP(-($G$10*DC56))),$G$10*$G$11*DD56*(EXP(-($G$10*(DC56+0.1)))),$G$10*$G$11*DD56*(EXP(-($G$10*(DC56+0.2)))),$G$10*$G$11*DD56*(EXP(-($G$10*(DC56+0.3)))),$G$10*$G$11*DD56*(EXP(-($G$10*(DC56+0.4)))),$G$10*$G$11*DD56*(EXP(-($G$10*(DC56+0.5)))),$G$10*$G$11*DD56*(EXP(-($G$10*(DC56+0.6)))),$G$10*$G$11*DD56*(EXP(-($G$10*(DC56+0.7)))),$G$10*$G$11*DD56*(EXP(-($G$10*(DC56+0.8)))),$G$10*$G$11*DD56*(EXP(-($G$10*(DC56+0.9)))))/10","v":0}]
[null,{"$f":"'USER INPUTS'!J42","v":34},{"$f":"IF(OR(AND(ClosureCalcYes=TRUE,WasteCapacity=\"\"),AND(ClosureCalcYes=FALSE,ClosureYear=\"\")),0,IF('USER INPUTS'!K42>0,IF('USER INPUTS'!$K$4=\"Mg/year\",'USER INPUTS'!K42,'USER INPUTS'!L42),0))","v":0},0,{"$f":"IF(ClosureCalcYes=FALSE,IF(AND(B57<ClosureYear,C57=0,SUM(C57:$C$102)=0),$D$13,IF(B57<=ClosureYear,C57,0)),IF(B57=$D$16,($D$14-F57),IF(B57<$D$16,IF(SUM(C57:$C$102)=0,$D$13,C57),0)))","v":0},0,{"$f":"IF(SUM(C58:$C$101)=0,C57,0)","v":0},0,34,0,33,0,0,32,{"$f":"$E$24","v":0},{"$f":"SUM($G$10*$G$11*O57*(EXP(-($G$10*N57))),$G$10*$G$11*O57*(EXP(-($G$10*(N57+0.1)))),$G$10*$G$11*O57*(EXP(-($G$10*(N57+0.2)))),$G$10*$G$11*O57*(EXP(-($G$10*(N57+0.3)))),$G$10*$G$11*O57*(EXP(-($G$10*(N57+0.4)))),$G$10*$G$11*O57*(EXP(-($G$10*(N57+0.5)))),$G$10*$G$11*O57*(EXP(-($G$10*(N57+0.6)))),$G$10*$G$11*O57*(EXP(-($G$10*(N57+0.7)))),$G$10*$G$11*O57*(EXP(-($G$10*(N57+0.8)))),$G$10*$G$11*O57*(EXP(-($G$10*(N57+0.9)))))/10","v":0},31,0,0,30,0,0,29,0,0,28,0,0,27,0,0,26,0,0,25,0,0,24,0,0,23,0,0,22,0,0,21,0,0,20,0,0,19,0,0,18,0,0,17,0,0,16,0,0,15,0,0,14,0,0,13,0,0,12,0,0,11,0,0,10,0,0,9,0,0,8,0,0,7,0,0,6,0,0,5,0,0,4,0,0,3,0,0,2,0,0,1,0,0,0,{"$f":"$E$56","v":0},{"$f":"SUM($G$10*$G$11*DG57*(EXP(-($G$10*DF57))),$G$10*$G$11*DG57*(EXP(-($G$10*(DF57+0.1)))),$G$10*$G$11*DG57*(EXP(-($G$10*(DF57+0.2)))),$G$10*$G$11*DG57*(EXP(-($G$10*(DF57+0.3)))),$G$10*$G$11*DG57*(EXP(-($G$10*(DF57+0.4)))),$G$10*$G$11*DG57*(EXP(-($G$10*(DF57+0.5)))),$G$10*$G$11*DG57*(EXP(-($G$10*(DF57+0.6)))),$G$10*$G$11*DG57*(EXP(-($G$10*(DF57+0.7)))),$G$10*$G$11*DG57*(EXP(-($G$10*(DF57+0.8)))),$G$10*$G$11*DG57*(EXP(-($G$10*(DF57+0.9)))))/10","v":0}]
[null,{"$f":"'USER INPUTS'!J43","v":35},{"$f":"IF(OR(AND(ClosureCalcYes=TRUE,WasteCapacity=\"\"),AND(ClosureCalcYes=FALSE,ClosureYear=\"\")),0,IF('USER INPUTS'!K43>0,IF('USER INPUTS'!$K$4=\"Mg/year\",'USER INPUTS'!K43,'USER INPUTS'!L43),0))","v":0},0,{"$f":"IF(ClosureCalcYes=FALSE,IF(AND(B58<ClosureYear,C58=0,SUM(C58:$C$102)=0),$D$13,IF(B58<=ClosureYear,C58,0)),IF(B58=$D$16,($D$14-F58),IF(B58<$D$16,IF(SUM(C58:$C$102)=0,$D$13,C58),0)))","v":0},0,{"$f":"IF(SUM(C59:$C$101)=0,C58,0)","v":0},0,35,0,34,0,0,33,0,0,32,{"$f":"$E$25","v":0},{"$f":"SUM($G$10*$G$11*R58*(EXP(-($G$10*Q58))),$G$10*$G$11*R58*(EXP(-($G$10*(Q58+0.1)))),$G$10*$G$11*R58*(EXP(-($G$10*(Q58+0.2)))),$G$10*$G$11*R58*(EXP(-($G$10*(Q58+0.3)))),$G$10*$G$11*R58*(EXP(-($G$10*(Q58+0.4)))),$G$10*$G$11*R58*(EXP(-($G$10*(Q58+0.5)))),$G$10*$G$11*R58*(EXP(-($G$10*(Q58+0.6)))),$G$10*$G$11*R58*(EXP(-($G$10*(Q58+0.7)))),$G$10*$G$11*R58*(EXP(-($G$10*(Q58+0.8)))),$G$10*$G$11*R58*(EXP(-($G$10*(Q58+0.9)))))/10","v":0},31,0,0,30,0,0,29,0,0,28,0,0,27,0,0,26,0,0,25,0,0,24,0,0,23,0,0,22,0,0,21,0,0,20,0,0,19,0,0,18,0,0,17,0,0,16,0,0,15,0,0,14,0,0,13,0,0,12,0,0,11,0,0,10,0,0,9,0,0,8,0,0,7,0,0,6,0,0,5,0,0,4,0,0,3,0,0,2,0,0,1,0,0,0,{"$f":"$E$57","v":0},{"$f":"SUM($G$10*$G$11*DJ58*(EXP(-($G$10*DI58))),$G$10*$G$11*DJ58*(EXP(-($G$10*(DI58+0.1)))),$G$10*$G$11*DJ58*(EXP(-($G$10*(DI58+0.2)))),$G$10*$G$11*DJ58*(EXP(-($G$10*(DI58+0.3)))),$G$10*$G$11*DJ58*(EXP(-($G$10*(DI58+0.4)))),$G$10*$G$11*DJ58*(EXP(-($G$10*(DI58+0.5)))),$G$10*$G$11*DJ58*(EXP(-($G$10*(DI58+0.6)))),$G$10*$G$11*DJ58*(EXP(-($G$10*(DI58+0.7)))),$G$10*$G$11*DJ58*(EXP(-($G$10*(DI58+0.8)))),$G$10*$G$11*DJ58*(EXP(-($G$10*(DI58+0.9)))))/10","v":0}]
[null,{"$f":"'USER INPUTS'!J44","v":36},{"$f":"IF(OR(AND(ClosureCalcYes=TRUE,WasteCapacity=\"\"),AND(ClosureCalcYes=FALSE,ClosureYear=\"\")),0,IF('USER INPUTS'!K44>0,IF('USER INPUTS'!$K$4=\"Mg/year\",'USER INPUTS'!K44,'USER INPUTS'!L44),0))","v":0},0,{"$f":"IF(ClosureCalcYes=FALSE,IF(AND(B59<ClosureYear,C59=0,SUM(C59:$C$102)=0),$D$13,IF(B59<=ClosureYear,C59,0)),IF(B59=$D$16,($D$14-F59),IF(B59<$D$16,IF(SUM(C59:$C$102)=0,$D$13,C59),0)))","v":0},0,{"$f":"IF(SUM(C60:$C$101)=0,C59,0)","v":0},0,36,0,35,0,0,34,0,0,33,0,0,32,{"$f":"$E$26","v":0},{"$f":"SUM($G$10*$G$11*U59*(EXP(-($G$10*T59))),$G$10*$G$11*U59*(EXP(-($G$10*(T59+0.1)))),$G$10*$G$11*U59*(EXP(-($G$10*(T59+0.2)))),$G$10*$G$11*U59*(EXP(-($G$10*(T59+0.3)))),$G$10*$G$11*U59*(EXP(-($G$10*(T59+0.4)))),$G$10*$G$11*U59*(EXP(-($G$10*(T59+0.5)))),$G$10*$G$11*U59*(EXP(-($G$10*(T59+0.6)))),$G$10*$G$11*U59*(EXP(-($G$10*(T59+0.7)))),$G$10*$G$11*U59*(EXP(-($G$10*(T59+0.8)))),$G$10*$G$11*U59*(EXP(-($G$10*(T59+0.9)))))/10","v":0},31,0,0,30,0,0,29,0,0,28,0,0,27,0,0,26,0,0,25,0,0,24,0,0,23,0,0,22,0,0,21,0,0,20,0,0,19,0,0,18,0,0,17,0,0,16,0,0,15,0,0,14,0,0,13,0,0,12,0,0,11,0,0,10,0,0,9,0,0,8,0,0,7,0,0,6,0,0,5,0,0,4,0,0,3,0,0,2,0,0,1,0,0,0,{"$f":"$E$58","v":0},{"$f":"SUM($G$10*$G$11*DM59*(EXP(-($G$10*DL59))),$G$10*$G$11*DM59*(EXP(-($G$10*(DL59+0.1)))),$G$10*$G$11*DM59*(EXP(-($G$10*(DL59+0.2)))),$G$10*$G$11*DM59*(EXP(-($G$10*(DL59+0.3)))),$G$10*$G$11*DM59*(EXP(-($G$10*(DL59+0.4)))),$G$10*$G$11*DM59*(EXP(-($G$10*(DL59+0.5)))),$G$10*$G$11*DM59*(EXP(-($G$10*(DL59+0.6)))),$G$10*$G$11*DM59*(EXP(-($G$10*(DL59+0.7)))),$G$10*$G$11*DM59*(EXP(-($G$10*(DL59+0.8)))),$G$10*$G$11*DM59*(EXP(-($G$10*(DL59+0.9)))))/10","v":0}]
[null,{"$f":"'USER INPUTS'!J45","v":37},{"$f":"IF(OR(AND(ClosureCalcYes=TRUE,WasteCapacity=\"\"),AND(ClosureCalcYes=FALSE,ClosureYear=\"\")),0,IF('USER INPUTS'!K45>0,IF('USER INPUTS'!$K$4=\"Mg/year\",'USER INPUTS'!K45,'USER INPUTS'!L45),0))","v":0},0,{"$f":"IF(ClosureCalcYes=FALSE,IF(AND(B60<ClosureYear,C60=0,SUM(C60:$C$102)=0),$D$13,IF(B60<=ClosureYear,C60,0)),IF(B60=$D$16,($D$14-F60),IF(B60<$D$16,IF(SUM(C60:$C$102)=0,$D$13,C60),0)))","v":0},0,{"$f":"IF(SUM(C61:$C$101)=0,C60,0)","v":0},0,37,0,36,0,0,35,0,0,34,0,0,33,0,0,32,{"$f":"$E$27","v":0},{"$f":"SUM($G$10*$G$11*X60*(EXP(-($G$10*W60))),$G$10*$G$11*X60*(EXP(-($G$10*(W60+0.1)))),$G$10*$G$11*X60*(EXP(-($G$10*(W60+0.2)))),$G$10*$G$11*X60*(EXP(-($G$10*(W60+0.3)))),$G$10*$G$11*X60*(EXP(-($G$10*(W60+0.4)))),$G$10*$G$11*X60*(EXP(-($G$10*(W60+0.5)))),$G$10*$G$11*X60*(EXP(-($G$10*(W60+0.6)))),$G$10*$G$11*X60*(EXP(-($G$10*(W60+0.7)))),$G$10*$G$11*X60*(EXP(-($G$10*(W60+0.8)))),$G$10*$G$11*X60*(EXP(-($G$10*(W60+0.9)))))/10","v":0},31,0,0,30,0,0,29,0,0,28,0,0,27,0,0,26,0,0,25,0,0,24,0,0,23,0,0,22,0,0,21,0,0,20,0,0,19,0,0,18,0,0,17,0,0,16,0,0,15,0,0,14,0,0,13,0,0,12,0,0,11,0,0,10,0,0,9,0,0,8,0,0,7,0,0,6,0,0,5,0,0,4,0,0,3,0,0,2,0,0,1,0,0,0,{"$f":"$E$59","v":0},{"$f":"SUM($G$10*$G$11*DP60*(EXP(-($G$10*DO60))),$G$10*$G$11*DP60*(EXP(-($G$10*(DO60+0.1)))),$G$10*$G$11*DP60*(EXP(-($G$10*(DO60+0.2)))),$G$10*$G$11*DP60*(EXP(-($G$10*(DO60+0.3)))),$G$10*$G$11*DP60*(EXP(-($G$10*(DO60+0.4)))),$G$10*$G$11*DP60*(EXP(-($G$10*(DO60+0.5)))),$G$10*$G$11*DP60*(EXP(-($G$10*(DO60+0.6)))),$G$10*$G$11*DP60*(EXP(-($G$10*(DO60+0.7)))),$G$10*$G$11*DP60*(EXP(-($G$10*(DO60+0.8)))),$G$10*$G$11*DP60*(EXP(-($G$10*(DO60+0.9)))))/10","v":0}]
[null,{"$f":"'USER INPUTS'!J46","v":38},{"$f":"IF(OR(AND(ClosureCalcYes=TRUE,WasteCapacity=\"\"),AND(ClosureCalcYes=FALSE,ClosureYear=\"\")),0,IF('USER INPUTS'!K46>0,IF('USER INPUTS'!$K$4=\"Mg/year\",'USER INPUTS'!K46,'USER INPUTS'!L46),0))","v":0},0,{"$f":"IF(ClosureCalcYes=FALSE,IF(AND(B61<ClosureYear,C61=0,SUM(C61:$C$102)=0),$D$13,IF(B61<=ClosureYear,C61,0)),IF(B61=$D$16,($D$14-F61),IF(B61<$D$16,IF(SUM(C61:$C$102)=0,$D$13,C61),0)))","v":0},0,{"$f":"IF(SUM(C62:$C$101)=0,C61,0)","v":0},0,38,0,37,0,0,36,0,0,35,0,0,34,0,0,33,0,0,32,{"$f":"$E$28","v":0},{"$f":"SUM($G$10*$G$11*AA61*(EXP(-($G$10*Z61))),$G$10*$G$11*AA61*(EXP(-($G$10*(Z61+0.1)))),$G$10*$G$11*AA61*(EXP(-($G$10*(Z61+0.2)))),$G$10*$G$11*AA61*(EXP(-($G$10*(Z61+0.3)))),$G$10*$G$11*AA61*(EXP(-($G$10*(Z61+0.4)))),$G$10*$G$11*AA61*(EXP(-($G$10*(Z61+0.5)))),$G$10*$G$11*AA61*(EXP(-($G$10*(Z61+0.6)))),$G$10*$G$11*AA61*(EXP(-($G$10*(Z61+0.7)))),$G$10*$G$11*AA61*(EXP(-($G$10*(Z61+0.8)))),$G$10*$G$11*AA61*(EXP(-($G$10*(Z61+0.9)))))/10","v":0},31,0,0,30,0,0,29,0,0,28,0,0,27,0,0,26,0,0,25,0,0,24,0,0,23,0,0,22,0,0,21,0,0,20,0,0,19,0,0,18,0,0,17,0,0,16,0,0,15,0,0,14,0,0,13,0,0,12,0,0,11,0,0,10,0,0,9,0,0,8,0,0,7,0,0,6,0,0,5,0,0,4,0,0,3,0,0,2,0,0,1,0,0,0,{"$f":"$E$60","v":0},{"$f":"SUM($G$10*$G$11*DS61*(EXP(-($G$10*DR61))),$G$10*$G$11*DS61*(EXP(-($G$10*(DR61+0.1)))),$G$10*$G$11*DS61*(EXP(-($G$10*(DR61+0.2)))),$G$10*$G$11*DS61*(EXP(-($G$10*(DR61+0.3)))),$G$10*$G$11*DS61*(EXP(-($G$10*(DR61+0.4)))),$G$10*$G$11*DS61*(EXP(-($G$10*(DR61+0.5)))),$G$10*$G$11*DS61*(EXP(-($G$10*(DR61+0.6)))),$G$10*$G$11*DS61*(EXP(-($G$10*(DR61+0.7)))),$G$10*$G$11*DS61*(EXP(-($G$10*(DR61+0.8)))),$G$10*$G$11*DS61*(EXP(-($G$10*(DR61+0.9)))))/10","v":0}]
[null,{"$f":"'USER INPUTS'!J47","v":39},{"$f":"IF(OR(AND(ClosureCalcYes=TRUE,WasteCapacity=\"\"),AND(ClosureCalcYes=FALSE,ClosureYear=\"\")),0,IF('USER INPUTS'!K47>0,IF('USER INPUTS'!$K$4=\"Mg/year\",'USER INPUTS'!K47,'USER INPUTS'!L47),0))","v":0},0,{"$f":"IF(ClosureCalcYes=FALSE,IF(AND(B62<ClosureYear,C62=0,SUM(C62:$C$102)=0),$D$13,IF(B62<=ClosureYear,C62,0)),IF(B62=$D$16,($D$14-F62),IF(B62<$D$16,IF(SUM(C62:$C$102)=0,$D$13,C62),0)))","v":0},0,{"$f":"IF(SUM(C63:$C$101)=0,C62,0)","v":0},0,39,0,38,0,0,37,0,0,36,0,0,35,0,0,34,0,0,33,0,0,32,{"$f":"$E$29","v":0},{"$f":"SUM($G$10*$G$11*AD62*(EXP(-($G$10*AC62))),$G$10*$G$11*AD62*(EXP(-($G$10*(AC62+0.1)))),$G$10*$G$11*AD62*(EXP(-($G$10*(AC62+0.2)))),$G$10*$G$11*AD62*(EXP(-($G$10*(AC62+0.3)))),$G$10*$G$11*AD62*(EXP(-($G$10*(AC62+0.4)))),$G$10*$G$11*AD62*(EXP(-($G$10*(AC62+0.5)))),$G$10*$G$11*AD62*(EXP(-($G$10*(AC62+0.6)))),$G$10*$G$11*AD62*(EXP(-($G$10*(AC62+0.7)))),$G$10*$G$11*AD62*(EXP(-($G$10*(AC62+0.8)))),$G$10*$G$11*AD62*(EXP(-($G$10*(AC62+0.9)))))/10","v":0},31,0,0,30,0,0,29,0,0,28,0,0,27,0,0,26,0,0,25,0,0,24,0,0,23,0,0,22,0,0,21,0,0,20,0,0,19,0,0,18,0,0,17,0,0,16,0,0,15,0,0,14,0,0,13,0,0,12,0,0,11,0,0,10,0,0,9,0,0,8,0,0,7,0,0,6,0,0,5,0,0,4,0,0,3,0,0,2,0,0,1,0,0,0,{"$f":"$E$61","v":0},{"$f":"SUM($G$10*$G$11*DV62*(EXP(-($G$10*DU62))),$G$10*$G$11*DV62*(EXP(-($G$10*(DU62+0.1)))),$G$10*$G$11*DV62*(EXP(-($G$10*(DU62+0.2)))),$G$10*$G$11*DV62*(EXP(-($G$10*(DU62+0.3)))),$G$10*$G$11*DV62*(EXP(-($G$10*(DU62+0.4)))),$G$10*$G$11*DV62*(EXP(-($G$10*(DU62+0.5)))),$G$10*$G$11*DV62*(EXP(-($G$10*(DU62+0.6)))),$G$10*$G$11*DV62*(EXP(-($G$10*(DU62+0.7)))),$G$10*$G$11*DV62*(EXP(-($G$10*(DU62+0.8)))),$G$10*$G$11*DV62*(EXP(-($G$10*(DU62+0.9)))))/10","v":0}]
[null,{"$f":"'USER INPUTS'!J48","v":40},{"$f":"IF(OR(AND(ClosureCalcYes=TRUE,WasteCapacity=\"\"),AND(ClosureCalcYes=FALSE,ClosureYear=\"\")),0,IF('USER INPUTS'!K48>0,IF('USER INPUTS'!$K$4=\"Mg/year\",'USER INPUTS'!K48,'USER INPUTS'!L48),0))","v":0},{"$f":"C62+D62","v":0},{"$f":"IF(ClosureCalcYes=FALSE,IF(AND(B63<ClosureYear,C63=0,SUM(C63:$C$102)=0),$D$13,IF(B63<=ClosureYear,C63,0)),IF(B63=$D$16,($D$14-F63),IF(B63<$D$16,IF(SUM(C63:$C$102)=0,$D$13,C63),0)))","v":0},{"$f":"E62+F62","v":0},{"$f":"IF(SUM(C64:$C$101)=0,C63,0)","v":0},{"$f":"IF(G63>0,B63,0)","v":0},40,0,39,0,0,38,0,0,37,0,0,36,0,0,35,0,0,34,0,0,33,0,0,32,{"$f":"$E$30","v":0},{"$f":"SUM($G$10*$G$11*AG63*(EXP(-($G$10*AF63))),$G$10*$G$11*AG63*(EXP(-($G$10*(AF63+0.1)))),$G$10*$G$11*AG63*(EXP(-($G$10*(AF63+0.2)))),$G$10*$G$11*AG63*(EXP(-($G$10*(AF63+0.3)))),$G$10*$G$11*AG63*(EXP(-($G$10*(AF63+0.4)))),$G$10*$G$11*AG63*(EXP(-($G$10*(AF63+0.5)))),$G$10*$G$11*AG63*(EXP(-($G$10*(AF63+0.6)))),$G$10*$G$11*AG63*(EXP(-($G$10*(AF63+0.7)))),$G$10*$G$11*AG63*(EXP(-($G$10*(AF63+0.8)))),$G$10*$G$11*AG63*(EXP(-($G$10*(AF63+0.9)))))/10","v":0},31,0,0,30,0,0,29,0,0,28,0,0,27,0,0,26,0,0,25,0,0,24,0,0,23,0,0,22,0,0,21,0,0,20,0,0,19,0,0,18,0,0,17,0,0,16,0,0,15,0,0,14,0,0,13,0,0,12,0,0,11,0,0,10,0,0,9,0,0,8,0,0,7,0,0,6,0,0,5,0,0,4,0,0,3,0,0,2,0,0,1,0,0,0,{"$f":"$E$62","v":0},{"$f":"SUM($G$10*$G$11*DY63*(EXP(-($G$10*DX63))),$G$10*$G$11*DY63*(EXP(-($G$10*(DX63+0.1)))),$G$10*$G$11*DY63*(EXP(-($G$10*(DX63+0.2)))),$G$10*$G$11*DY63*(EXP(-($G$10*(DX63+0.3)))),$G$10*$G$11*DY63*(EXP(-($G$10*(DX63+0.4)))),$G$10*$G$11*DY63*(EXP(-($G$10*(DX63+0.5)))),$G$10*$G$11*DY63*(EXP(-($G$10*(DX63+0.6)))),$G$10*$G$11*DY63*(EXP(-($G$10*(DX63+0.7)))),$G$10*$G$11*DY63*(EXP(-($G$10*(DX63+0.8)))),$G$10*$G$11*DY63*(EXP(-($G$10*(DX63+0.9)))))/10","v":0}]
[null,{"$f":"'USER INPUTS'!J49","v":41},{"$f":"IF(OR(AND(ClosureCalcYes=TRUE,WasteCapacity=\"\"),AND(ClosureCalcYes=FALSE,ClosureYear=\"\")),0,IF('USER INPUTS'!K49>0,IF('USER INPUTS'!$K$4=\"Mg/year\",'USER INPUTS'!K49,'USER INPUTS'!L49),0))","v":0},0,{"$f":"IF(ClosureCalcYes=FALSE,IF(AND(B64<ClosureYear,C64=0,SUM(C64:$C$102)=0),$D$13,IF(B64<=ClosureYear,C64,0)),IF(B64=$D$16,($D$14-F64),IF(B64<$D$16,IF(SUM(C64:$C$102)=0,$D$13,C64),0)))","v":0},0,{"$f":"IF(SUM(C65:$C$101)=0,C64,0)","v":0},0,41,0,40,0,0,39,0,0,38,0,0,37,0,0,36,0,0,35,0,0,34,0,0,33,0,0,32,{"$f":"$E$31","v":0},{"$f":"SUM($G$10*$G$11*AJ64*(EXP(-($G$10*AI64))),$G$10*$G$11*AJ64*(EXP(-($G$10*(AI64+0.1)))),$G$10*$G$11*AJ64*(EXP(-($G$10*(AI64+0.2)))),$G$10*$G$11*AJ64*(EXP(-($G$10*(AI64+0.3)))),$G$10*$G$11*AJ64*(EXP(-($G$10*(AI64+0.4)))),$G$10*$G$11*AJ64*(EXP(-($G$10*(AI64+0.5)))),$G$10*$G$11*AJ64*(EXP(-($G$10*(AI64+0.6)))),$G$10*$G$11*AJ64*(EXP(-($G$10*(AI64+0.7)))),$G$10*$G$11*AJ64*(EXP(-($G$10*(AI64+0.8)))),$G$10*$G$11*AJ64*(EXP(-($G$10*(AI64+0.9)))))/10","v":0},31,0,0,30,0,0,29,0,0,28,0,0,27,0,0,26,0,0,25,0,0,24,0,0,23,0,0,22,0,0,21,0,0,20,0,0,19,0,0,18,0,0,17,0,0,16,0,0,15,0,0,14,0,0,13,0,0,12,0,0,11,0,0,10,0,0,9,0,0,8,0,0,7,0,0,6,0,0,5,0,0,4,0,0,3,0,0,2,0,0,1,0,0,0,{"$f":"$E$63","v":0},{"$f":"SUM($G$10*$G$11*EB64*(EXP(-($G$10*EA64))),$G$10*$G$11*EB64*(EXP(-($G$10*(EA64+0.1)))),$G$10*$G$11*EB64*(EXP(-($G$10*(EA64+0.2)))),$G$10*$G$11*EB64*(EXP(-($G$10*(EA64+0.3)))),$G$10*$G$11*EB64*(EXP(-($G$10*(EA64+0.4)))),$G$10*$G$11*EB64*(EXP(-($G$10*(EA64+0.5)))),$G$10*$G$11*EB64*(EXP(-($G$10*(EA64+0.6)))),$G$10*$G$11*EB64*(EXP(-($G$10*(EA64+0.7)))),$G$10*$G$11*EB64*(EXP(-($G$10*(EA64+0.8)))),$G$10*$G$11*EB64*(EXP(-($G$10*(EA64+0.9)))))/10","v":0}]
[null,{"$f":"'USER INPUTS'!J50","v":42},{"$f":"IF(OR(AND(ClosureCalcYes=TRUE,WasteCapacity=\"\"),AND(ClosureCalcYes=FALSE,ClosureYear=\"\")),0,IF('USER INPUTS'!K50>0,IF('USER INPUTS'!$K$4=\"Mg/year\",'USER INPUTS'!K50,'USER INPUTS'!L50),0))","v":0},0,{"$f":"IF(ClosureCalcYes=FALSE,IF(AND(B65<ClosureYear,C65=0,SUM(C65:$C$102)=0),$D$13,IF(B65<=ClosureYear,C65,0)),IF(B65=$D$16,($D$14-F65),IF(B65<$D$16,IF(SUM(C65:$C$102)=0,$D$13,C65),0)))","v":0},0,{"$f":"IF(SUM(C66:$C$101)=0,C65,0)","v":0},0,42,0,41,0,0,40,0,0,39,0,0,38,0,0,37,0,0,36,0,0,35,0,0,34,0,0,33,0,0,32,{"$f":"$E$32","v":0},{"$f":"SUM($G$10*$G$11*AM65*(EXP(-($G$10*AL65))),$G$10*$G$11*AM65*(EXP(-($G$10*(AL65+0.1)))),$G$10*$G$11*AM65*(EXP(-($G$10*(AL65+0.2)))),$G$10*$G$11*AM65*(EXP(-($G$10*(AL65+0.3)))),$G$10*$G$11*AM65*(EXP(-($G$10*(AL65+0.4)))),$G$10*$G$11*AM65*(EXP(-($G$10*(AL65+0.5)))),$G$10*$G$11*AM65*(EXP(-($G$10*(AL65+0.6)))),$G$10*$G$11*AM65*(EXP(-($G$10*(AL65+0.7)))),$G$10*$G$11*AM65*(EXP(-($G$10*(AL65+0.8)))),$G$10*$G$11*AM65*(EXP(-($G$10*(AL65+0.9)))))/10","v":0},31,0,0,30,0,0,29,0,0,28,0,0,27,0,0,26,0,0,25,0,0,24,0,0,23,0,0,22,0,0,21,0,0,20,0,0,19,0,0,18,0,0,17,0,0,16,0,0,15,0,0,14,0,0,13,0,0,12,0,0,11,0,0,10,0,0,9,0,0,8,0,0,7,0,0,6,0,0,5,0,0,4,0,0,3,0,0,2,0,0,1,{"$f":"$E$63","v":0},0,0,{"$f":"$E$64","v":0},{"$f":"SUM($G$10*$G$11*EE65*(EXP(-($G$10*ED65))),$G$10*$G$11*EE65*(EXP(-($G$10*(ED65+0.1)))),$G$10*$G$11*EE65*(EXP(-($G$10*(ED65+0.2)))),$G$10*$G$11*EE65*(EXP(-($G$10*(ED65+0.3)))),$G$10*$G$11*EE65*(EXP(-($G$10*(ED65+0.4)))),$G$10*$G$11*EE65*(EXP(-($G$10*(ED65+0.5)))),$G$10*$G$11*EE65*(EXP(-($G$10*(ED65+0.6)))),$G$10*$G$11*EE65*(EXP(-($G$10*(ED65+0.7)))),$G$10*$G$11*EE65*(EXP(-($G$10*(ED65+0.8)))),$G$10*$G$11*EE65*(EXP(-($G$10*(ED65+0.9)))))/10","v":0}]
[null,{"$f":"'USER INPUTS'!J51","v":43},{"$f":"IF(OR(AND(ClosureCalcYes=TRUE,WasteCapacity=\"\"),AND(ClosureCalcYes=FALSE,ClosureYear=\"\")),0,IF('USER INPUTS'!K51>0,IF('USER INPUTS'!$K$4=\"Mg/year\",'USER INPUTS'!K51,'USER INPUTS'!L51),0))","v":0},0,{"$f":"IF(ClosureCalcYes=FALSE,IF(AND(B66<ClosureYear,C66=0,SUM(C66:$C$102)=0),$D$13,IF(B66<=ClosureYear,C66,0)),IF(B66=$D$16,($D$14-F66),IF(B66<$D$16,IF(SUM(C66:$C$102)=0,$D$13,C66),0)))","v":0},0,{"$f":"IF(SUM(C67:$C$101)=0,C66,0)","v":0},0,43,0,42,0,0,41,0,0,40,0,0,39,0,0,38,0,0,37,0,0,36,0,0,35,0,0,34,0,0,33,0,0,32,{"$f":"$E$33","v":0},{"$f":"SUM($G$10*$G$11*AP66*(EXP(-($G$10*AO66))),$G$10*$G$11*AP66*(EXP(-($G$10*(AO66+0.1)))),$G$10*$G$11*AP66*(EXP(-($G$10*(AO66+0.2)))),$G$10*$G$11*AP66*(EXP(-($G$10*(AO66+0.3)))),$G$10*$G$11*AP66*(EXP(-($G$10*(AO66+0.4)))),$G$10*$G$11*AP66*(EXP(-($G$10*(AO66+0.5)))),$G$10*$G$11*AP66*(EXP(-($G$10*(AO66+0.6)))),$G$10*$G$11*AP66*(EXP(-($G$10*(AO66+0.7)))),$G$10*$G$11*AP66*(EXP(-($G$10*(AO66+0.8)))),$G$10*$G$11*AP66*(EXP(-($G$10*(AO66+0.9)))))/10","v":0},31,0,0,30,0,0,29,0,0,28,0,0,27,0,0,26,0,0,25,0,0,24,0,0,23,0,0,22,0,0,21,0,0,20,0,0,19,0,0,18,0,0,17,0,0,16,0,0,15,0,0,14,0,0,13,0,0,12,0,0,11,0,0,10,0,0,9,0,0,8,0,0,7,0,0,6,0,0,5,0,0,4,0,0,3,0,0,2,0,0,1,{"$f":"$E$64","v":0},0,0,{"$f":"$E$65","v":0},{"$f":"SUM($G$10*$G$11*EH66*(EXP(-($G$10*EG66))),$G$10*$G$11*EH66*(EXP(-($G$10*(EG66+0.1)))),$G$10*$G$11*EH66*(EXP(-($G$10*(EG66+0.2)))),$G$10*$G$11*EH66*(EXP(-($G$10*(EG66+0.3)))),$G$10*$G$11*EH66*(EXP(-($G$10*(EG66+0.4)))),$G$10*$G$11*EH66*(EXP(-($G$10*(EG66+0.5)))),$G$10*$G$11*EH66*(EXP(-($G$10*(EG66+0.6)))),$G$10*$G$11*EH66*(EXP(-($G$10*(EG66+0.7)))),$G$10*$G$11*EH66*(EXP(-($G$10*(EG66+0.8)))),$G$10*$G$11*EH66*(EXP(-($G$10*(EG66+0.9)))))/10","v":0}]
[null,{"$f":"'USER INPUTS'!J52","v":44},{"$f":"IF(OR(AND(ClosureCalcYes=TRUE,WasteCapacity=\"\"),AND(ClosureCalcYes=FALSE,ClosureYear=\"\")),0,IF('USER INPUTS'!K52>0,IF('USER INPUTS'!$K$4=\"Mg/year\",'USER INPUTS'!K52,'USER INPUTS'!L52),0))","v":0},0,{"$f":"IF(ClosureCalcYes=FALSE,IF(AND(B67<ClosureYear,C67=0,SUM(C67:$C$102)=0),$D$13,IF(B67<=ClosureYear,C67,0)),IF(B67=$D$16,($D$14-F67),IF(B67<$D$16,IF(SUM(C67:$C$102)=0,$D$13,C67),0)))","v":0},0,{"$f":"IF(SUM(C68:$C$101)=0,C67,0)","v":0},0,44,0,43,0,0,42,0,0,41,0,0,40,0,0,39,0,0,38,0,0,37,0,0,36,0,0,35,0,0,34,0,0,33,0,0,32,{"$f":"$E$34","v":0},{"$f":"SUM($G$10*$G$11*AS67*(EXP(-($G$10*AR67))),$G$10*$G$11*AS67*(EXP(-($G$10*(AR67+0.1)))),$G$10*$G$11*AS67*(EXP(-($G$10*(AR67+0.2)))),$G$10*$G$11*AS67*(EXP(-($G$10*(AR67+0.3)))),$G$10*$G$11*AS67*(EXP(-($G$10*(AR67+0.4)))),$G$10*$G$11*AS67*(EXP(-($G$10*(AR67+0.5)))),$G$10*$G$11*AS67*(EXP(-($G$10*(AR67+0.6)))),$G$10*$G$11*AS67*(EXP(-($G$10*(AR67+0.7)))),$G$10*$G$11*AS67*(EXP(-($G$10*(AR67+0.8)))),$G$10*$G$11*AS67*(EXP(-($G$10*(AR67+0.9)))))/10","v":0},31,0,0,30,0,0,29,0,0,28,0,0,27,0,0,26,0,0,25,0,0,24,0,0,23,0,0,22,0,0,21,0,0,20,0,0,19,0,0,18,0,0,17,0,0,16,0,0,15,0,0,14,0,0,13,0,0,12,0,0,11,0,0,10,0,0,9,0,0,8,0,0,7,0,0,6,0,0,5,0,0,4,0,0,3,0,0,2,0,0,1,{"$f":"$E$65","v":0},0,0,{"$f":"$E$66","v":0},{"$f":"SUM($G$10*$G$11*EK67*(EXP(-($G$10*EJ67))),$G$10*$G$11*EK67*(EXP(-($G$10*(EJ67+0.1)))),$G$10*$G$11*EK67*(EXP(-($G$10*(EJ67+0.2)))),$G$10*$G$11*EK67*(EXP(-($G$10*(EJ67+0.3)))),$G$10*$G$11*EK67*(EXP(-($G$10*(EJ67+0.4)))),$G$10*$G$11*EK67*(EXP(-($G$10*(EJ67+0.5)))),$G$10*$G$11*EK67*(EXP(-($G$10*(EJ67+0.6)))),$G$10*$G$11*EK67*(EXP(-($G$10*(EJ67+0.7)))),$G$10*$G$11*EK67*(EXP(-($G$10*(EJ67+0.8)))),$G$10*$G$11*EK67*(EXP(-($G$10*(EJ67+0.9)))))/10","v":0}]
[null,{"$f":"'USER INPUTS'!J53","v":45},{"$f":"IF(OR(AND(ClosureCalcYes=TRUE,WasteCapacity=\"\"),AND(ClosureCalcYes=FALSE,ClosureYear=\"\")),0,IF('USER INPUTS'!K53>0,IF('USER INPUTS'!$K$4=\"Mg/year\",'USER INPUTS'!K53,'USER INPUTS'!L53),0))","v":0},0,{"$f":"IF(ClosureCalcYes=FALSE,IF(AND(B68<ClosureYear,C68=0,SUM(C68:$C$102)=0),$D$13,IF(B68<=ClosureYear,C68,0)),IF(B68=$D$16,($D$14-F68),IF(B68<$D$16,IF(SUM(C68:$C$102)=0,$D$13,C68),0)))","v":0},0,{"$f":"IF(SUM(C69:$C$101)=0,C68,0)","v":0},0,45,0,44,0,0,43,0,0,42,0,0,41,0,0,40,0,0,39,0,0,38,0,0,37,0,0,36,0,0,35,0,0,34,0,0,33,0,0,32,{"$f":"$E$35","v":0},{"$f":"SUM($G$10*$G$11*AV68*(EXP(-($G$10*AU68))),$G$10*$G$11*AV68*(EXP(-($G$10*(AU68+0.1)))),$G$10*$G$11*AV68*(EXP(-($G$10*(AU68+0.2)))),$G$10*$G$11*AV68*(EXP(-($G$10*(AU68+0.3)))),$G$10*$G$11*AV68*(EXP(-($G$10*(AU68+0.4)))),$G$10*$G$11*AV68*(EXP(-($G$10*(AU68+0.5)))),$G$10*$G$11*AV68*(EXP(-($G$10*(AU68+0.6)))),$G$10*$G$11*AV68*(EXP(-($G$10*(AU68+0.7)))),$G$10*$G$11*AV68*(EXP(-($G$10*(AU68+0.8)))),$G$10*$G$11*AV68*(EXP(-($G$10*(AU68+0.9)))))/10","v":0},31,0,0,30,0,0,29,0,0,28,0,0,27,0,0,26,0,0,25,0,0,24,0,0,23,0,0,22,0,0,21,0,0,20,0,0,19,0,0,18,0,0,17,0,0,16,0,0,15,0,0,14,0,0,13,0,0,12,0,0,11,0,0,10,0,0,9,0,0,8,0,0,7,0,0,6,0,0,5,0,0,4,0,0,3,0,0,2,0,0,1,{"$f":"$E$66","v":0},0,0,{"$f":"$E$67","v":0},{"$f":"SUM($G$10*$G$11*EN68*(EXP(-($G$10*EM68))),$G$10*$G$11*EN68*(EXP(-($G$10*(EM68+0.1)))),$G$10*$G$11*EN68*(EXP(-($G$10*(EM68+0.2)))),$G$10*$G$11*EN68*(EXP(-($G$10*(EM68+0.3)))),$G$10*$G$11*EN68*(EXP(-($G$10*(EM68+0.4)))),$G$10*$G$11*EN68*(EXP(-($G$10*(EM68+0.5)))),$G$10*$G$11*EN68*(EXP(-($G$10*(EM68+0.6)))),$G$10*$G$11*EN68*(EXP(-($G$10*(EM68+0.7)))),$G$10*$G$11*EN68*(EXP(-($G$10*(EM68+0.8)))),$G$10*$G$11*EN68*(EXP(-($G$10*(EM68+0.9)))))/10","v":0}]
[null,{"$f":"'USER INPUTS'!J54","v":46},{"$f":"IF(OR(AND(ClosureCalcYes=TRUE,WasteCapacity=\"\"),AND(ClosureCalcYes=FALSE,ClosureYear=\"\")),0,IF('USER INPUTS'!K54>0,IF('USER INPUTS'!$K$4=\"Mg/year\",'USER INPUTS'!K54,'USER INPUTS'!L54),0))","v":0},0,{"$f":"IF(ClosureCalcYes=FALSE,IF(AND(B69<ClosureYear,C69=0,SUM(C69:$C$102)=0),$D$13,IF(B69<=ClosureYear,C69,0)),IF(B69=$D$16,($D$14-F69),IF(B69<$D$16,IF(SUM(C69:$C$102)=0,$D$13,C69),0)))","v":0},0,{"$f":"IF(SUM(C70:$C$101)=0,C69,0)","v":0},0,46,0,45,0,0,44,0,0,43,0,0,42,0,0,41,0,0,40,0,0,39,0,0,38,0,0,37,0,0,36,0,0,35,0,0,34,0,0,33,0,0,32,{"$f":"$E$36","v":0},{"$f":"SUM($G$10*$G$11*AY69*(EXP(-($G$10*AX69))),$G$10*$G$11*AY69*(EXP(-($G$10*(AX69+0.1)))),$G$10*$G$11*AY69*(EXP(-($G$10*(AX69+0.2)))),$G$10*$G$11*AY69*(EXP(-($G$10*(AX69+0.3)))),$G$10*$G$11*AY69*(EXP(-($G$10*(AX69+0.4)))),$G$10*$G$11*AY69*(EXP(-($G$10*(AX69+0.5)))),$G$10*$G$11*AY69*(EXP(-($G$10*(AX69+0.6)))),$G$10*$G$11*AY69*(EXP(-($G$10*(AX69+0.7)))),$G$10*$G$11*AY69*(EXP(-($G$10*(AX69+0.8)))),$G$10*$G$11*AY69*(EXP(-($G$10*(AX69+0.9)))))/10","v":0},31,0,0,30,0,0,29,0,0,28,0,0,27,0,0,26,0,0,25,0,0,24,0,0,23,0,0,22,0,0,21,0,0,20,0,0,19,0,0,18,0,0,17,0,0,16,0,0,15,0,0,14,0,0,13,0,0,12,0,0,11,0,0,10,0,0,9,0,0,8,0,0,7,0,0,6,0,0,5,0,0,4,0,0,3,0,0,2,0,0,1,{"$f":"$E$67","v":0},0,0,{"$f":"$E$68","v":0},{"$f":"SUM($G$10*$G$11*EQ69*(EXP(-($G$10*EP69))),$G$10*$G$11*EQ69*(EXP(-($G$10*(EP69+0.1)))),$G$10*$G$11*EQ69*(EXP(-($G$10*(EP69+0.2)))),$G$10*$G$11*EQ69*(EXP(-($G$10*(EP69+0.3)))),$G$10*$G$11*EQ69*(EXP(-($G$10*(EP69+0.4)))),$G$10*$G$11*EQ69*(EXP(-($G$10*(EP69+0.5)))),$G$10*$G$11*EQ69*(EXP(-($G$10*(EP69+0.6)))),$G$10*$G$11*EQ69*(EXP(-($G$10*(EP69+0.7)))),$G$10*$G$11*EQ69*(EXP(-($G$10*(EP69+0.8)))),$G$10*$G$11*EQ69*(EXP(-($G$10*(EP69+0.9)))))/10","v":0}]
[null,{"$f":"'USER INPUTS'!J55","v":47},{"$f":"IF(OR(AND(ClosureCalcYes=TRUE,WasteCapacity=\"\"),AND(ClosureCalcYes=FALSE,ClosureYear=\"\")),0,IF('USER INPUTS'!K55>0,IF('USER INPUTS'!$K$4=\"Mg/year\",'USER INPUTS'!K55,'USER INPUTS'!L55),0))","v":0},0,{"$f":"IF(ClosureCalcYes=FALSE,IF(AND(B70<ClosureYear,C70=0,SUM(C70:$C$102)=0),$D$13,IF(B70<=ClosureYear,C70,0)),IF(B70=$D$16,($D$14-F70),IF(B70<$D$16,IF(SUM(C70:$C$102)=0,$D$13,C70),0)))","v":0},0,{"$f":"IF(SUM(C71:$C$101)=0,C70,0)","v":0},0,47,0,46,0,0,45,0,0,44,0,0,43,0,0,42,0,0,41,0,0,40,0,0,39,0,0,38,0,0,37,0,0,36,0,0,35,0,0,34,0,0,33,0,0,32,{"$f":"$E$37","v":0},{"$f":"SUM($G$10*$G$11*BB70*(EXP(-($G$10*BA70))),$G$10*$G$11*BB70*(EXP(-($G$10*(BA70+0.1)))),$G$10*$G$11*BB70*(EXP(-($G$10*(BA70+0.2)))),$G$10*$G$11*BB70*(EXP(-($G$10*(BA70+0.3)))),$G$10*$G$11*BB70*(EXP(-($G$10*(BA70+0.4)))),$G$10*$G$11*BB70*(EXP(-($G$10*(BA70+0.5)))),$G$10*$G$11*BB70*(EXP(-($G$10*(BA70+0.6)))),$G$10*$G$11*BB70*(EXP(-($G$10*(BA70+0.7)))),$G$10*$G$11*BB70*(EXP(-($G$10*(BA70+0.8)))),$G$10*$G$11*BB70*(EXP(-($G$10*(BA70+0.9)))))/10","v":0},31,0,0,30,0,0,29,0,0,28,0,0,27,0,0,26,0,0,25,0,0,24,0,0,23,0,0,22,0,0,21,0,0,20,0,0,19,0,0,18,0,0,17,0,0,16,0,0,15,0,0,14,0,0,13,0,0,12,0,0,11,0,0,10,0,0,9,0,0,8,0,0,7,0,0,6,0,0,5,0,0,4,0,0,3,0,0,2,0,0,1,{"$f":"$E$68","v":0},0,0,{"$f":"$E$69","v":0},{"$f":"SUM($G$10*$G$11*ET70*(EXP(-($G$10*ES70))),$G$10*$G$11*ET70*(EXP(-($G$10*(ES70+0.1)))),$G$10*$G$11*ET70*(EXP(-($G$10*(ES70+0.2)))),$G$10*$G$11*ET70*(EXP(-($G$10*(ES70+0.3)))),$G$10*$G$11*ET70*(EXP(-($G$10*(ES70+0.4)))),$G$10*$G$11*ET70*(EXP(-($G$10*(ES70+0.5)))),$G$10*$G$11*ET70*(EXP(-($G$10*(ES70+0.6)))),$G$10*$G$11*ET70*(EXP(-($G$10*(ES70+0.7)))),$G$10*$G$11*ET70*(EXP(-($G$10*(ES70+0.8)))),$G$10*$G$11*ET70*(EXP(-($G$10*(ES70+0.9)))))/10","v":0}]
[null,{"$f":"'USER INPUTS'!J56","v":48},{"$f":"IF(OR(AND(ClosureCalcYes=TRUE,WasteCapacity=\"\"),AND(ClosureCalcYes=FALSE,ClosureYear=\"\")),0,IF('USER INPUTS'!K56>0,IF('USER INPUTS'!$K$4=\"Mg/year\",'USER INPUTS'!K56,'USER INPUTS'!L56),0))","v":0},0,{"$f":"IF(ClosureCalcYes=FALSE,IF(AND(B71<ClosureYear,C71=0,SUM(C71:$C$102)=0),$D$13,IF(B71<=ClosureYear,C71,0)),IF(B71=$D$16,($D$14-F71),IF(B71<$D$16,IF(SUM(C71:$C$102)=0,$D$13,C71),0)))","v":0},0,{"$f":"IF(SUM(C72:$C$101)=0,C71,0)","v":0},0,48,0,47,0,0,46,0,0,45,0,0,44,0,0,43,0,0,42,0,0,41,0,0,40,0,0,39,0,0,38,0,0,37,0,0,36,0,0,35,0,0,34,0,0,33,0,0,32,{"$f":"$E$38","v":0},{"$f":"SUM($G$10*$G$11*BE71*(EXP(-($G$10*BD71))),$G$10*$G$11*BE71*(EXP(-($G$10*(BD71+0.1)))),$G$10*$G$11*BE71*(EXP(-($G$10*(BD71+0.2)))),$G$10*$G$11*BE71*(EXP(-($G$10*(BD71+0.3)))),$G$10*$G$11*BE71*(EXP(-($G$10*(BD71+0.4)))),$G$10*$G$11*BE71*(EXP(-($G$10*(BD71+0.5)))),$G$10*$G$11*BE71*(EXP(-($G$10*(BD71+0.6)))),$G$10*$G$11*BE71*(EXP(-($G$10*(BD71+0.7)))),$G$10*$G$11*BE71*(EXP(-($G$10*(BD71+0.8)))),$G$10*$G$11*BE71*(EXP(-($G$10*(BD71+0.9)))))/10","v":0},31,0,0,30,0,0,29,0,0,28,0,0,27,0,0,26,0,0,25,0,0,24,0,0,23,0,0,22,0,0,21,0,0,20,0,0,19,0,0,18,0,0,17,0,0,16,0,0,15,0,0,14,0,0,13,0,0,12,0,0,11,0,0,10,0,0,9,0,0,8,0,0,7,0,0,6,0,0,5,0,0,4,0,0,3,0,0,2,0,0,1,0,0,0,{"$f":"$E$70","v":0},{"$f":"SUM($G$10*$G$11*EW71*(EXP(-($G$10*EV71))),$G$10*$G$11*EW71*(EXP(-($G$10*(EV71+0.1)))),$G$10*$G$11*EW71*(EXP(-($G$10*(EV71+0.2)))),$G$10*$G$11*EW71*(EXP(-($G$10*(EV71+0.3)))),$G$10*$G$11*EW71*(EXP(-($G$10*(EV71+0.4)))),$G$10*$G$11*EW71*(EXP(-($G$10*(EV71+0.5)))),$G$10*$G$11*EW71*(EXP(-($G$10*(EV71+0.6)))),$G$10*$G$11*EW71*(EXP(-($G$10*(EV71+0.7)))),$G$10*$G$11*EW71*(EXP(-($G$10*(EV71+0.8)))),$G$10*$G$11*EW71*(EXP(-($G$10*(EV71+0.9)))))/10","v":0}]
[null,{"$f":"'USER INPUTS'!J57","v":49},{"$f":"IF(OR(AND(ClosureCalcYes=TRUE,WasteCapacity=\"\"),AND(ClosureCalcYes=FALSE,ClosureYear=\"\")),0,IF('USER INPUTS'!K57>0,IF('USER INPUTS'!$K$4=\"Mg/year\",'USER INPUTS'!K57,'USER INPUTS'!L57),0))","v":0},0,{"$f":"IF(ClosureCalcYes=FALSE,IF(AND(B72<ClosureYear,C72=0,SUM(C72:$C$102)=0),$D$13,IF(B72<=ClosureYear,C72,0)),IF(B72=$D$16,($D$14-F72),IF(B72<$D$16,IF(SUM(C72:$C$102)=0,$D$13,C72),0)))","v":0},0,{"$f":"IF(SUM(C73:$C$101)=0,C72,0)","v":0},0,49,0,48,0,0,47,0,0,46,0,0,45,0,0,44,0,0,43,0,0,42,0,0,41,0,0,40,0,0,39,0,0,38,0,0,37,0,0,36,0,0,35,0,0,34,0,0,33,0,0,32,{"$f":"$E$39","v":0},{"$f":"SUM($G$10*$G$11*BH72*(EXP(-($G$10*BG72))),$G$10*$G$11*BH72*(EXP(-($G$10*(BG72+0.1)))),$G$10*$G$11*BH72*(EXP(-($G$10*(BG72+0.2)))),$G$10*$G$11*BH72*(EXP(-($G$10*(BG72+0.3)))),$G$10*$G$11*BH72*(EXP(-($G$10*(BG72+0.4)))),$G$10*$G$11*BH72*(EXP(-($G$10*(BG72+0.5)))),$G$10*$G$11*BH72*(EXP(-($G$10*(BG72+0.6)))),$G$10*$G$11*BH72*(EXP(-($G$10*(BG72+0.7)))),$G$10*$G$11*BH72*(EXP(-($G$10*(BG72+0.8)))),$G$10*$G$11*BH72*(EXP(-($G$10*(BG72+0.9)))))/10","v":0},31,0,0,30,0,0,29,0,0,28,0,0,27,0,0,26,0,0,25,0,0,24,0,0,23,0,0,22,0,0,21,0,0,20,0,0,19,0,0,18,0,0,17,0,0,16,0,0,15,0,0,14,0,0,13,0,0,12,0,0,11,0,0,10,0,0,9,0,0,8,0,0,7,0,0,6,0,0,5,0,0,4,0,0,3,0,0,2,0,0,1,0,0,0,{"$f":"$E$71","v":0},{"$f":"SUM($G$10*$G$11*EZ72*(EXP(-($G$10*EY72))),$G$10*$G$11*EZ72*(EXP(-($G$10*(EY72+0.1)))),$G$10*$G$11*EZ72*(EXP(-($G$10*(EY72+0.2)))),$G$10*$G$11*EZ72*(EXP(-($G$10*(EY72+0.3)))),$G$10*$G$11*EZ72*(EXP(-($G$10*(EY72+0.4)))),$G$10*$G$11*EZ72*(EXP(-($G$10*(EY72+0.5)))),$G$10*$G$11*EZ72*(EXP(-($G$10*(EY72+0.6)))),$G$10*$G$11*EZ72*(EXP(-($G$10*(EY72+0.7)))),$G$10*$G$11*EZ72*(EXP(-($G$10*(EY72+0.8)))),$G$10*$G$11*EZ72*(EXP(-($G$10*(EY72+0.9)))))/10","v":0}]
[null,{"$f":"'USER INPUTS'!J58","v":50},{"$f":"IF(OR(AND(ClosureCalcYes=TRUE,WasteCapacity=\"\"),AND(ClosureCalcYes=FALSE,ClosureYear=\"\")),0,IF('USER INPUTS'!K58>0,IF('USER INPUTS'!$K$4=\"Mg/year\",'USER INPUTS'!K58,'USER INPUTS'!L58),0))","v":0},0,{"$f":"IF(ClosureCalcYes=FALSE,IF(AND(B73<ClosureYear,C73=0,SUM(C73:$C$102)=0),$D$13,IF(B73<=ClosureYear,C73,0)),IF(B73=$D$16,($D$14-F73),IF(B73<$D$16,IF(SUM(C73:$C$102)=0,$D$13,C73),0)))","v":0},0,{"$f":"IF(SUM(C74:$C$101)=0,C73,0)","v":0},0,50,0,49,0,0,48,0,0,47,0,0,46,0,0,45,0,0,44,0,0,43,0,0,42,0,0,41,0,0,40,0,0,39,0,0,38,0,0,37,0,0,36,0,0,35,0,0,34,0,0,33,0,0,32,{"$f":"$E$40","v":0},{"$f":"SUM($G$10*$G$11*BK73*(EXP(-($G$10*BJ73))),$G$10*$G$11*BK73*(EXP(-($G$10*(BJ73+0.1)))),$G$10*$G$11*BK73*(EXP(-($G$10*(BJ73+0.2)))),$G$10*$G$11*BK73*(EXP(-($G$10*(BJ73+0.3)))),$G$10*$G$11*BK73*(EXP(-($G$10*(BJ73+0.4)))),$G$10*$G$11*BK73*(EXP(-($G$10*(BJ73+0.5)))),$G$10*$G$11*BK73*(EXP(-($G$10*(BJ73+0.6)))),$G$10*$G$11*BK73*(EXP(-($G$10*(BJ73+0.7)))),$G$10*$G$11*BK73*(EXP(-($G$10*(BJ73+0.8)))),$G$10*$G$11*BK73*(EXP(-($G$10*(BJ73+0.9)))))/10","v":0},31,0,0,30,0,0,29,0,0,28,0,0,27,0,0,26,0,0,25,0,0,24,0,0,23,0,0,22,0,0,21,0,0,20,0,0,19,0,0,18,0,0,17,0,0,16,0,0,15,0,0,14,0,0,13,0,0,12,0,0,11,0,0,10,0,0,9,0,0,8,0,0,7,0,0,6,0,0,5,0,0,4,0,0,3,0,0,2,0,0,1,{"$f":"$E$71","v":0},0,0,{"$f":"$E$72","v":0},{"$f":"SUM($G$10*$G$11*FC73*(EXP(-($G$10*FB73))),$G$10*$G$11*FC73*(EXP(-($G$10*(FB73+0.1)))),$G$10*$G$11*FC73*(EXP(-($G$10*(FB73+0.2)))),$G$10*$G$11*FC73*(EXP(-($G$10*(FB73+0.3)))),$G$10*$G$11*FC73*(EXP(-($G$10*(FB73+0.4)))),$G$10*$G$11*FC73*(EXP(-($G$10*(FB73+0.5)))),$G$10*$G$11*FC73*(EXP(-($G$10*(FB73+0.6)))),$G$10*$G$11*FC73*(EXP(-($G$10*(FB73+0.7)))),$G$10*$G$11*FC73*(EXP(-($G$10*(FB73+0.8)))),$G$10*$G$11*FC73*(EXP(-($G$10*(FB73+0.9)))))/10","v":0}]
[null,{"$f":"'USER INPUTS'!J59","v":51},{"$f":"IF(OR(AND(ClosureCalcYes=TRUE,WasteCapacity=\"\"),AND(ClosureCalcYes=FALSE,ClosureYear=\"\")),0,IF('USER INPUTS'!K59>0,IF('USER INPUTS'!$K$4=\"Mg/year\",'USER INPUTS'!K59,'USER INPUTS'!L59),0))","v":0},0,{"$f":"IF(ClosureCalcYes=FALSE,IF(AND(B74<ClosureYear,C74=0,SUM(C74:$C$102)=0),$D$13,IF(B74<=ClosureYear,C74,0)),IF(B74=$D$16,($D$14-F74),IF(B74<$D$16,IF(SUM(C74:$C$102)=0,$D$13,C74),0)))","v":0},0,{"$f":"IF(SUM(C75:$C$101)=0,C74,0)","v":0},0,51,0,50,0,0,49,0,0,48,0,0,47,0,0,46,0,0,45,0,0,44,0,0,43,0,0,42,0,0,41,0,0,40,0,0,39,0,0,38,0,0,37,0,0,36,0,0,35,0,0,34,0,0,33,0,0,32,{"$f":"$E$41","v":0},{"$f":"SUM($G$10*$G$11*BN74*(EXP(-($G$10*BM74))),$G$10*$G$11*BN74*(EXP(-($G$10*(BM74+0.1)))),$G$10*$G$11*BN74*(EXP(-($G$10*(BM74+0.2)))),$G$10*$G$11*BN74*(EXP(-($G$10*(BM74+0.3)))),$G$10*$G$11*BN74*(EXP(-($G$10*(BM74+0.4)))),$G$10*$G$11*BN74*(EXP(-($G$10*(BM74+0.5)))),$G$10*$G$11*BN74*(EXP(-($G$10*(BM74+0.6)))),$G$10*$G$11*BN74*(EXP(-($G$10*(BM74+0.7)))),$G$10*$G$11*BN74*(EXP(-($G$10*(BM74+0.8)))),$G$10*$G$11*BN74*(EXP(-($G$10*(BM74+0.9)))))/10","v":0},31,0,0,30,0,0,29,0,0,28,0,0,27,0,0,26,0,0,25,0,0,24,0,0,23,0,0,22,0,0,21,0,0,20,0,0,19,0,0,18,0,0,17,0,0,16,0,0,15,0,0,14,0,0,13,0,0,12,0,0,11,0,0,10,0,0,9,0,0,8,0,0,7,0,0,6,0,0,5,0,0,4,0,0,3,0,0,2,0,0,1,0,0,0,{"$f":"$E$73","v":0},{"$f":"SUM($G$10*$G$11*FF74*(EXP(-($G$10*FE74))),$G$10*$G$11*FF74*(EXP(-($G$10*(FE74+0.1)))),$G$10*$G$11*FF74*(EXP(-($G$10*(FE74+0.2)))),$G$10*$G$11*FF74*(EXP(-($G$10*(FE74+0.3)))),$G$10*$G$11*FF74*(EXP(-($G$10*(FE74+0.4)))),$G$10*$G$11*FF74*(EXP(-($G$10*(FE74+0.5)))),$G$10*$G$11*FF74*(EXP(-($G$10*(FE74+0.6)))),$G$10*$G$11*FF74*(EXP(-($G$10*(FE74+0.7)))),$G$10*$G$11*FF74*(EXP(-($G$10*(FE74+0.8)))),$G$10*$G$11*FF74*(EXP(-($G$10*(FE74+0.9)))))/10","v":0}]
[null,{"$f":"'USER INPUTS'!J60","v":52},{"$f":"IF(OR(AND(ClosureCalcYes=TRUE,WasteCapacity=\"\"),AND(ClosureCalcYes=FALSE,ClosureYear=\"\")),0,IF('USER INPUTS'!K60>0,IF('USER INPUTS'!$K$4=\"Mg/year\",'USER INPUTS'!K60,'USER INPUTS'!L60),0))","v":0},0,{"$f":"IF(ClosureCalcYes=FALSE,IF(AND(B75<ClosureYear,C75=0,SUM(C75:$C$102)=0),$D$13,IF(B75<=ClosureYear,C75,0)),IF(B75=$D$16,($D$14-F75),IF(B75<$D$16,IF(SUM(C75:$C$102)=0,$D$13,C75),0)))","v":0},0,{"$f":"IF(SUM(C76:$C$101)=0,C75,0)","v":0},0,52,0,51,0,0,50,0,0,49,0,0,48,0,0,47,0,0,46,0,0,45,0,0,44,0,0,43,0,0,42,0,0,41,0,0,40,0,0,39,0,0,38,0,0,37,0,0,36,0,0,35,0,0,34,0,0,33,0,0,32,{"$f":"$E$42","v":0},{"$f":"SUM($G$10*$G$11*BQ75*(EXP(-($G$10*BP75))),$G$10*$G$11*BQ75*(EXP(-($G$10*(BP75+0.1)))),$G$10*$G$11*BQ75*(EXP(-($G$10*(BP75+0.2)))),$G$10*$G$11*BQ75*(EXP(-($G$10*(BP75+0.3)))),$G$10*$G$11*BQ75*(EXP(-($G$10*(BP75+0.4)))),$G$10*$G$11*BQ75*(EXP(-($G$10*(BP75+0.5)))),$G$10*$G$11*BQ75*(EXP(-($G$10*(BP75+0.6)))),$G$10*$G$11*BQ75*(EXP(-($G$10*(BP75+0.7)))),$G$10*$G$11*BQ75*(EXP(-($G$10*(BP75+0.8)))),$G$10*$G$11*BQ75*(EXP(-($G$10*(BP75+0.9)))))/10","v":0},31,0,0,30,0,0,29,0,0,28,0,0,27,0,0,26,0,0,25,0,0,24,0,0,23,0,0,22,0,0,21,0,0,20,0,0,19,0,0,18,0,0,17,0,0,16,0,0,15,0,0,14,0,0,13,0,0,12,0,0,11,0,0,10,0,0,9,0,0,8,0,0,7,0,0,6,0,0,5,0,0,4,0,0,3,0,0,2,0,0,1,{"$f":"$E$73","v":0},0,0,{"$f":"$E$74","v":0},{"$f":"SUM($G$10*$G$11*FI75*(EXP(-($G$10*FH75))),$G$10*$G$11*FI75*(EXP(-($G$10*(FH75+0.1)))),$G$10*$G$11*FI75*(EXP(-($G$10*(FH75+0.2)))),$G$10*$G$11*FI75*(EXP(-($G$10*(FH75+0.3)))),$G$10*$G$11*FI75*(EXP(-($G$10*(FH75+0.4)))),$G$10*$G$11*FI75*(EXP(-($G$10*(FH75+0.5)))),$G$10*$G$11*FI75*(EXP(-($G$10*(FH75+0.6)))),$G$10*$G$11*FI75*(EXP(-($G$10*(FH75+0.7)))),$G$10*$G$11*FI75*(EXP(-($G$10*(FH75+0.8)))),$G$10*$G$11*FI75*(EXP(-($G$10*(FH75+0.9)))))/10","v":0}]
[null,{"$f":"'USER INPUTS'!J61","v":53},{"$f":"IF(OR(AND(ClosureCalcYes=TRUE,WasteCapacity=\"\"),AND(ClosureCalcYes=FALSE,ClosureYear=\"\")),0,IF('USER INPUTS'!K61>0,IF('USER INPUTS'!$K$4=\"Mg/year\",'USER INPUTS'!K61,'USER INPUTS'!L61),0))","v":0},0,{"$f":"IF(ClosureCalcYes=FALSE,IF(AND(B76<ClosureYear,C76=0,SUM(C76:$C$102)=0),$D$13,IF(B76<=ClosureYear,C76,0)),IF(B76=$D$16,($D$14-F76),IF(B76<$D$16,IF(SUM(C76:$C$102)=0,$D$13,C76),0)))","v":0},0,{"$f":"IF(SUM(C77:$C$101)=0,C76,0)","v":0},0,53,0,52,0,0,51,0,0,50,0,0,49,0,0,48,0,0,47,0,0,46,0,0,45,0,0,44,0,0,43,0,0,42,0,0,41,0,0,40,0,0,39,0,0,38,0,0,37,0,0,36,0,0,35,0,0,34,0,0,33,0,0,32,{"$f":"$E$43","v":0},{"$f":"SUM($G$10*$G$11*BT76*(EXP(-($G$10*BS76))),$G$10*$G$11*BT76*(EXP(-($G$10*(BS76+0.1)))),$G$10*$G$11*BT76*(EXP(-($G$10*(BS76+0.2)))),$G$10*$G$11*BT76*(EXP(-($G$10*(BS76+0.3)))),$G$10*$G$11*BT76*(EXP(-($G$10*(BS76+0.4)))),$G$10*$G$11*BT76*(EXP(-($G$10*(BS76+0.5)))),$G$10*$G$11*BT76*(EXP(-($G$10*(BS76+0.6)))),$G$10*$G$11*BT76*(EXP(-($G$10*(BS76+0.7)))),$G$10*$G$11*BT76*(EXP(-($G$10*(BS76+0.8)))),$G$10*$G$11*BT76*(EXP(-($G$10*(BS76+0.9)))))/10","v":0},31,0,0,30,0,0,29,0,0,28,0,0,27,0,0,26,0,0,25,0,0,24,0,0,23,0,0,22,0,0,21,0,0,20,0,0,19,0,0,18,0,0,17,0,0,16,0,0,15,0,0,14,0,0,13,0,0,12,0,0,11,0,0,10,0,0,9,0,0,8,0,0,7,0,0,6,0,0,5,0,0,4,0,0,3,0,0,2,0,0,1,0,0,0,{"$f":"$E$75","v":0},{"$f":"SUM($G$10*$G$11*FL76*(EXP(-($G$10*FK76))),$G$10*$G$11*FL76*(EXP(-($G$10*(FK76+0.1)))),$G$10*$G$11*FL76*(EXP(-($G$10*(FK76+0.2)))),$G$10*$G$11*FL76*(EXP(-($G$10*(FK76+0.3)))),$G$10*$G$11*FL76*(EXP(-($G$10*(FK76+0.4)))),$G$10*$G$11*FL76*(EXP(-($G$10*(FK76+0.5)))),$G$10*$G$11*FL76*(EXP(-($G$10*(FK76+0.6)))),$G$10*$G$11*FL76*(EXP(-($G$10*(FK76+0.7)))),$G$10*$G$11*FL76*(EXP(-($G$10*(FK76+0.8)))),$G$10*$G$11*FL76*(EXP(-($G$10*(FK76+0.9)))))/10","v":0}]
[null,{"$f":"'USER INPUTS'!J62","v":54},{"$f":"IF(OR(AND(ClosureCalcYes=TRUE,WasteCapacity=\"\"),AND(ClosureCalcYes=FALSE,ClosureYear=\"\")),0,IF('USER INPUTS'!K62>0,IF('USER INPUTS'!$K$4=\"Mg/year\",'USER INPUTS'!K62,'USER INPUTS'!L62),0))","v":0},0,{"$f":"IF(ClosureCalcYes=FALSE,IF(AND(B77<ClosureYear,C77=0,SUM(C77:$C$102)=0),$D$13,IF(B77<=ClosureYear,C77,0)),IF(B77=$D$16,($D$14-F77),IF(B77<$D$16,IF(SUM(C77:$C$102)=0,$D$13,C77),0)))","v":0},0,{"$f":"IF(SUM(C78:$C$101)=0,C77,0)","v":0},0,54,0,53,0,0,52,0,0,51,0,0,50,0,0,49,0,0,48,0,0,47,0,0,46,0,0,45,0,0,44,0,0,43,0,0,42,0,0,41,0,0,40,0,0,39,0,0,38,0,0,37,0,0,36,0,0,35,0,0,34,0,0,33,0,0,32,{"$f":"$E$44","v":0},{"$f":"SUM($G$10*$G$11*BW77*(EXP(-($G$10*BV77))),$G$10*$G$11*BW77*(EXP(-($G$10*(BV77+0.1)))),$G$10*$G$11*BW77*(EXP(-($G$10*(BV77+0.2)))),$G$10*$G$11*BW77*(EXP(-($G$10*(BV77+0.3)))),$G$10*$G$11*BW77*(EXP(-($G$10*(BV77+0.4)))),$G$10*$G$11*BW77*(EXP(-($G$10*(BV77+0.5)))),$G$10*$G$11*BW77*(EXP(-($G$10*(BV77+0.6)))),$G$10*$G$11*BW77*(EXP(-($G$10*(BV77+0.7)))),$G$10*$G$11*BW77*(EXP(-($G$10*(BV77+0.8)))),$G$10*$G$11*BW77*(EXP(-($G$10*(BV77+0.9)))))/10","v":0},31,0,0,30,0,0,29,0,0,28,0,0,27,0,0,26,0,0,25,0,0,24,0,0,23,0,0,22,0,0,21,0,0,20,0,0,19,0,0,18,0,0,17,0,0,16,0,0,15,0,0,14,0,0,13,0,0,12,0,0,11,0,0,10,0,0,9,0,0,8,0,0,7,0,0,6,0,0,5,0,0,4,0,0,3,0,0,2,0,0,1,{"$f":"$E$75","v":0},0,0,{"$f":"$E$76","v":0},{"$f":"SUM($G$10*$G$11*FO77*(EXP(-($G$10*FN77))),$G$10*$G$11*FO77*(EXP(-($G$10*(FN77+0.1)))),$G$10*$G$11*FO77*(EXP(-($G$10*(FN77+0.2)))),$G$10*$G$11*FO77*(EXP(-($G$10*(FN77+0.3)))),$G$10*$G$11*FO77*(EXP(-($G$10*(FN77+0.4)))),$G$10*$G$11*FO77*(EXP(-($G$10*(FN77+0.5)))),$G$10*$G$11*FO77*(EXP(-($G$10*(FN77+0.6)))),$G$10*$G$11*FO77*(EXP(-($G$10*(FN77+0.7)))),$G$10*$G$11*FO77*(EXP(-($G$10*(FN77+0.8)))),$G$10*$G$11*FO77*(EXP(-($G$10*(FN77+0.9)))))/10","v":0}]
[null,{"$f":"'USER INPUTS'!J63","v":55},{"$f":"IF(OR(AND(ClosureCalcYes=TRUE,WasteCapacity=\"\"),AND(ClosureCalcYes=FALSE,ClosureYear=\"\")),0,IF('USER INPUTS'!K63>0,IF('USER INPUTS'!$K$4=\"Mg/year\",'USER INPUTS'!K63,'USER INPUTS'!L63),0))","v":0},0,{"$f":"IF(ClosureCalcYes=FALSE,IF(AND(B78<ClosureYear,C78=0,SUM(C78:$C$102)=0),$D$13,IF(B78<=ClosureYear,C78,0)),IF(B78=$D$16,($D$14-F78),IF(B78<$D$16,IF(SUM(C78:$C$102)=0,$D$13,C78),0)))","v":0},0,{"$f":"IF(SUM(C79:$C$101)=0,C78,0)","v":0},0,55,0,54,0,0,53,0,0,52,0,0,51,0,0,50,0,0,49,0,0,48,0,0,47,0,0,46,0,0,45,0,0,44,0,0,43,0,0,42,0,0,41,0,0,40,0,0,39,0,0,38,0,0,37,0,0,36,0,0,35,0,0,34,0,0,33,0,0,32,{"$f":"$E$45","v":0},{"$f":"SUM($G$10*$G$11*BZ78*(EXP(-($G$10*BY78))),$G$10*$G$11*BZ78*(EXP(-($G$10*(BY78+0.1)))),$G$10*$G$11*BZ78*(EXP(-($G$10*(BY78+0.2)))),$G$10*$G$11*BZ78*(EXP(-($G$10*(BY78+0.3)))),$G$10*$G$11*BZ78*(EXP(-($G$10*(BY78+0.4)))),$G$10*$G$11*BZ78*(EXP(-($G$10*(BY78+0.5)))),$G$10*$G$11*BZ78*(EXP(-($G$10*(BY78+0.6)))),$G$10*$G$11*BZ78*(EXP(-($G$10*(BY78+0.7)))),$G$10*$G$11*BZ78*(EXP(-($G$10*(BY78+0.8)))),$G$10*$G$11*BZ78*(EXP(-($G$10*(BY78+0.9)))))/10","v":0},31,0,0,30,0,0,29,0,0,28,0,0,27,0,0,26,0,0,25,0,0,24,0,0,23,0,0,22,0,0,21,0,0,20,0,0,19,0,0,18,0,0,17,0,0,16,0,0,15,0,0,14,0,0,13,0,0,12,0,0,11,0,0,10,0,0,9,0,0,8,0,0,7,0,0,6,0,0,5,0,0,4,0,0,3,0,0,2,0,0,1,0,0,0,{"$f":"$E$77","v":0},{"$f":"SUM($G$10*$G$11*FR78*(EXP(-($G$10*FQ78))),$G$10*$G$11*FR78*(EXP(-($G$10*(FQ78+0.1)))),$G$10*$G$11*FR78*(EXP(-($G$10*(FQ78+0.2)))),$G$10*$G$11*FR78*(EXP(-($G$10*(FQ78+0.3)))),$G$10*$G$11*FR78*(EXP(-($G$10*(FQ78+0.4)))),$G$10*$G$11*FR78*(EXP(-($G$10*(FQ78+0.5)))),$G$10*$G$11*FR78*(EXP(-($G$10*(FQ78+0.6)))),$G$10*$G$11*FR78*(EXP(-($G$10*(FQ78+0.7)))),$G$10*$G$11*FR78*(EXP(-($G$10*(FQ78+0.8)))),$G$10*$G$11*FR78*(EXP(-($G$10*(FQ78+0.9)))))/10","v":0}]
[null,{"$f":"'USER INPUTS'!J64","v":56},{"$f":"IF(OR(AND(ClosureCalcYes=TRUE,WasteCapacity=\"\"),AND(ClosureCalcYes=FALSE,ClosureYear=\"\")),0,IF('USER INPUTS'!K64>0,IF('USER INPUTS'!$K$4=\"Mg/year\",'USER INPUTS'!K64,'USER INPUTS'!L64),0))","v":0},0,{"$f":"IF(ClosureCalcYes=FALSE,IF(AND(B79<ClosureYear,C79=0,SUM(C79:$C$102)=0),$D$13,IF(B79<=ClosureYear,C79,0)),IF(B79=$D$16,($D$14-F79),IF(B79<$D$16,IF(SUM(C79:$C$102)=0,$D$13,C79),0)))","v":0},0,{"$f":"IF(SUM(C80:$C$101)=0,C79,0)","v":0},0,56,0,55,0,0,54,0,0,53,0,0,52,0,0,51,0,0,50,0,0,49,0,0,48,0,0,47,0,0,46,0,0,45,0,0,44,0,0,43,0,0,42,0,0,41,0,0,40,0,0,39,0,0,38,0,0,37,0,0,36,0,0,35,0,0,34,0,0,33,0,0,32,{"$f":"$E$46","v":0},{"$f":"SUM($G$10*$G$11*CC79*(EXP(-($G$10*CB79))),$G$10*$G$11*CC79*(EXP(-($G$10*(CB79+0.1)))),$G$10*$G$11*CC79*(EXP(-($G$10*(CB79+0.2)))),$G$10*$G$11*CC79*(EXP(-($G$10*(CB79+0.3)))),$G$10*$G$11*CC79*(EXP(-($G$10*(CB79+0.4)))),$G$10*$G$11*CC79*(EXP(-($G$10*(CB79+0.5)))),$G$10*$G$11*CC79*(EXP(-($G$10*(CB79+0.6)))),$G$10*$G$11*CC79*(EXP(-($G$10*(CB79+0.7)))),$G$10*$G$11*CC79*(EXP(-($G$10*(CB79+0.8)))),$G$10*$G$11*CC79*(EXP(-($G$10*(CB79+0.9)))))/10","v":0},31,0,0,30,0,0,29,0,0,28,0,0,27,0,0,26,0,0,25,0,0,24,0,0,23,0,0,22,0,0,21,0,0,20,0,0,19,0,0,18,0,0,17,0,0,16,0,0,15,0,0,14,0,0,13,0,0,12,0,0,11,0,0,10,0,0,9,0,0,8,0,0,7,0,0,6,0,0,5,0,0,4,0,0,3,0,0,2,0,0,1,{"$f":"$E$77","v":0},0,0,{"$f":"$E$78","v":0},{"$f":"SUM($G$10*$G$11*FU79*(EXP(-($G$10*FT79))),$G$10*$G$11*FU79*(EXP(-($G$10*(FT79+0.1)))),$G$10*$G$11*FU79*(EXP(-($G$10*(FT79+0.2)))),$G$10*$G$11*FU79*(EXP(-($G$10*(FT79+0.3)))),$G$10*$G$11*FU79*(EXP(-($G$10*(FT79+0.4)))),$G$10*$G$11*FU79*(EXP(-($G$10*(FT79+0.5)))),$G$10*$G$11*FU79*(EXP(-($G$10*(FT79+0.6)))),$G$10*$G$11*FU79*(EXP(-($G$10*(FT79+0.7)))),$G$10*$G$11*FU79*(EXP(-($G$10*(FT79+0.8)))),$G$10*$G$11*FU79*(EXP(-($G$10*(FT79+0.9)))))/10","v":0}]
[null,{"$f":"'USER INPUTS'!J65","v":57},{"$f":"IF(OR(AND(ClosureCalcYes=TRUE,WasteCapacity=\"\"),AND(ClosureCalcYes=FALSE,ClosureYear=\"\")),0,IF('USER INPUTS'!K65>0,IF('USER INPUTS'!$K$4=\"Mg/year\",'USER INPUTS'!K65,'USER INPUTS'!L65),0))","v":0},0,{"$f":"IF(ClosureCalcYes=FALSE,IF(AND(B80<ClosureYear,C80=0,SUM(C80:$C$102)=0),$D$13,IF(B80<=ClosureYear,C80,0)),IF(B80=$D$16,($D$14-F80),IF(B80<$D$16,IF(SUM(C80:$C$102)=0,$D$13,C80),0)))","v":0},0,{"$f":"IF(SUM(C81:$C$101)=0,C80,0)","v":0},0,57,0,56,0,0,55,0,0,54,0,0,53,0,0,52,0,0,51,0,0,50,0,0,49,0,0,48,0,0,47,0,0,46,0,0,45,0,0,44,0,0,43,0,0,42,0,0,41,0,0,40,0,0,39,0,0,38,0,0,37,0,0,36,0,0,35,0,0,34,0,0,33,0,0,32,{"$f":"$E$47","v":0},{"$f":"SUM($G$10*$G$11*CF80*(EXP(-($G$10*CE80))),$G$10*$G$11*CF80*(EXP(-($G$10*(CE80+0.1)))),$G$10*$G$11*CF80*(EXP(-($G$10*(CE80+0.2)))),$G$10*$G$11*CF80*(EXP(-($G$10*(CE80+0.3)))),$G$10*$G$11*CF80*(EXP(-($G$10*(CE80+0.4)))),$G$10*$G$11*CF80*(EXP(-($G$10*(CE80+0.5)))),$G$10*$G$11*CF80*(EXP(-($G$10*(CE80+0.6)))),$G$10*$G$11*CF80*(EXP(-($G$10*(CE80+0.7)))),$G$10*$G$11*CF80*(EXP(-($G$10*(CE80+0.8)))),$G$10*$G$11*CF80*(EXP(-($G$10*(CE80+0.9)))))/10","v":0},31,0,0,30,0,0,29,0,0,28,0,0,27,0,0,26,0,0,25,0,0,24,0,0,23,0,0,22,0,0,21,0,0,20,0,0,19,0,0,18,0,0,17,0,0,16,0,0,15,0,0,14,0,0,13,0,0,12,0,0,11,0,0,10,0,0,9,0,0,8,0,0,7,0,0,6,0,0,5,0,0,4,0,0,3,0,0,2,0,0,1,0,0,0,{"$f":"$E$79","v":0},{"$f":"SUM($G$10*$G$11*FX80*(EXP(-($G$10*FW80))),$G$10*$G$11*FX80*(EXP(-($G$10*(FW80+0.1)))),$G$10*$G$11*FX80*(EXP(-($G$10*(FW80+0.2)))),$G$10*$G$11*FX80*(EXP(-($G$10*(FW80+0.3)))),$G$10*$G$11*FX80*(EXP(-($G$10*(FW80+0.4)))),$G$10*$G$11*FX80*(EXP(-($G$10*(FW80+0.5)))),$G$10*$G$11*FX80*(EXP(-($G$10*(FW80+0.6)))),$G$10*$G$11*FX80*(EXP(-($G$10*(FW80+0.7)))),$G$10*$G$11*FX80*(EXP(-($G$10*(FW80+0.8)))),$G$10*$G$11*FX80*(EXP(-($G$10*(FW80+0.9)))))/10","v":0}]
[null,{"$f":"'USER INPUTS'!J66","v":58},{"$f":"IF(OR(AND(ClosureCalcYes=TRUE,WasteCapacity=\"\"),AND(ClosureCalcYes=FALSE,ClosureYear=\"\")),0,IF('USER INPUTS'!K66>0,IF('USER INPUTS'!$K$4=\"Mg/year\",'USER INPUTS'!K66,'USER INPUTS'!L66),0))","v":0},0,{"$f":"IF(ClosureCalcYes=FALSE,IF(AND(B81<ClosureYear,C81=0,SUM(C81:$C$102)=0),$D$13,IF(B81<=ClosureYear,C81,0)),IF(B81=$D$16,($D$14-F81),IF(B81<$D$16,IF(SUM(C81:$C$102)=0,$D$13,C81),0)))","v":0},0,{"$f":"IF(SUM(C82:$C$101)=0,C81,0)","v":0},0,58,0,57,0,0,56,0,0,55,0,0,54,0,0,53,0,0,52,0,0,51,0,0,50,0,0,49,0,0,48,0,0,47,0,0,46,0,0,45,0,0,44,0,0,43,0,0,42,0,0,41,0,0,40,0,0,39,0,0,38,0,0,37,0,0,36,0,0,35,0,0,34,0,0,33,0,0,32,{"$f":"$E$48","v":0},{"$f":"SUM($G$10*$G$11*CI81*(EXP(-($G$10*CH81))),$G$10*$G$11*CI81*(EXP(-($G$10*(CH81+0.1)))),$G$10*$G$11*CI81*(EXP(-($G$10*(CH81+0.2)))),$G$10*$G$11*CI81*(EXP(-($G$10*(CH81+0.3)))),$G$10*$G$11*CI81*(EXP(-($G$10*(CH81+0.4)))),$G$10*$G$11*CI81*(EXP(-($G$10*(CH81+0.5)))),$G$10*$G$11*CI81*(EXP(-($G$10*(CH81+0.6)))),$G$10*$G$11*CI81*(EXP(-($G$10*(CH81+0.7)))),$G$10*$G$11*CI81*(EXP(-($G$10*(CH81+0.8)))),$G$10*$G$11*CI81*(EXP(-($G$10*(CH81+0.9)))))/10","v":0},31,0,0,30,0,0,29,0,0,28,0,0,27,0,0,26,0,0,25,0,0,24,0,0,23,0,0,22,0,0,21,0,0,20,0,0,19,0,0,18,0,0,17,0,0,16,0,0,15,0,0,14,0,0,13,0,0,12,0,0,11,0,0,10,0,0,9,0,0,8,0,0,7,0,0,6,0,0,5,0,0,4,0,0,3,0,0,2,0,0,1,0,0,0,{"$f":"$E$80","v":0},{"$f":"SUM($G$10*$G$11*GA81*(EXP(-($G$10*FZ81))),$G$10*$G$11*GA81*(EXP(-($G$10*(FZ81+0.1)))),$G$10*$G$11*GA81*(EXP(-($G$10*(FZ81+0.2)))),$G$10*$G$11*GA81*(EXP(-($G$10*(FZ81+0.3)))),$G$10*$G$11*GA81*(EXP(-($G$10*(FZ81+0.4)))),$G$10*$G$11*GA81*(EXP(-($G$10*(FZ81+0.5)))),$G$10*$G$11*GA81*(EXP(-($G$10*(FZ81+0.6)))),$G$10*$G$11*GA81*(EXP(-($G$10*(FZ81+0.7)))),$G$10*$G$11*GA81*(EXP(-($G$10*(FZ81+0.8)))),$G$10*$G$11*GA81*(EXP(-($G$10*(FZ81+0.9)))))/10","v":0}]
[null,{"$f":"'USER INPUTS'!J67","v":59},{"$f":"IF(OR(AND(ClosureCalcYes=TRUE,WasteCapacity=\"\"),AND(ClosureCalcYes=FALSE,ClosureYear=\"\")),0,IF('USER INPUTS'!K67>0,IF('USER INPUTS'!$K$4=\"Mg/year\",'USER INPUTS'!K67,'USER INPUTS'!L67),0))","v":0},0,{"$f":"IF(ClosureCalcYes=FALSE,IF(AND(B82<ClosureYear,C82=0,SUM(C82:$C$102)=0),$D$13,IF(B82<=ClosureYear,C82,0)),IF(B82=$D$16,($D$14-F82),IF(B82<$D$16,IF(SUM(C82:$C$102)=0,$D$13,C82),0)))","v":0},0,{"$f":"IF(SUM(C83:$C$101)=0,C82,0)","v":0},0,59,0,58,0,0,57,0,0,56,0,0,55,0,0,54,0,0,53,0,0,52,0,0,51,0,0,50,0,0,49,0,0,48,0,0,47,0,0,46,0,0,45,0,0,44,0,0,43,0,0,42,0,0,41,0,0,40,0,0,39,0,0,38,0,0,37,0,0,36,0,0,35,0,0,34,0,0,33,0,0,32,{"$f":"$E$49","v":0},{"$f":"SUM($G$10*$G$11*CL82*(EXP(-($G$10*CK82))),$G$10*$G$11*CL82*(EXP(-($G$10*(CK82+0.1)))),$G$10*$G$11*CL82*(EXP(-($G$10*(CK82+0.2)))),$G$10*$G$11*CL82*(EXP(-($G$10*(CK82+0.3)))),$G$10*$G$11*CL82*(EXP(-($G$10*(CK82+0.4)))),$G$10*$G$11*CL82*(EXP(-($G$10*(CK82+0.5)))),$G$10*$G$11*CL82*(EXP(-($G$10*(CK82+0.6)))),$G$10*$G$11*CL82*(EXP(-($G$10*(CK82+0.7)))),$G$10*$G$11*CL82*(EXP(-($G$10*(CK82+0.8)))),$G$10*$G$11*CL82*(EXP(-($G$10*(CK82+0.9)))))/10","v":0},31,0,0,30,0,0,29,0,0,28,0,0,27,0,0,26,0,0,25,0,0,24,0,0,23,0,0,22,0,0,21,0,0,20,0,0,19,0,0,18,0,0,17,0,0,16,0,0,15,0,0,14,0,0,13,0,0,12,0,0,11,0,0,10,0,0,9,0,0,8,0,0,7,0,0,6,0,0,5,0,0,4,0,0,3,0,0,2,0,0,1,{"$f":"$E$80","v":0},0,0,{"$f":"$E$81","v":0},{"$f":"SUM($G$10*$G$11*GD82*(EXP(-($G$10*GC82))),$G$10*$G$11*GD82*(EXP(-($G$10*(GC82+0.1)))),$G$10*$G$11*GD82*(EXP(-($G$10*(GC82+0.2)))),$G$10*$G$11*GD82*(EXP(-($G$10*(GC82+0.3)))),$G$10*$G$11*GD82*(EXP(-($G$10*(GC82+0.4)))),$G$10*$G$11*GD82*(EXP(-($G$10*(GC82+0.5)))),$G$10*$G$11*GD82*(EXP(-($G$10*(GC82+0.6)))),$G$10*$G$11*GD82*(EXP(-($G$10*(GC82+0.7)))),$G$10*$G$11*GD82*(EXP(-($G$10*(GC82+0.8)))),$G$10*$G$11*GD82*(EXP(-($G$10*(GC82+0.9)))))/10","v":0}]
[null,{"$f":"'USER INPUTS'!J68","v":60},{"$f":"IF(OR(AND(ClosureCalcYes=TRUE,WasteCapacity=\"\"),AND(ClosureCalcYes=FALSE,ClosureYear=\"\")),0,IF('USER INPUTS'!K68>0,IF('USER INPUTS'!$K$4=\"Mg/year\",'USER INPUTS'!K68,'USER INPUTS'!L68),0))","v":0},0,{"$f":"IF(ClosureCalcYes=FALSE,IF(AND(B83<ClosureYear,C83=0,SUM(C83:$C$102)=0),$D$13,IF(B83<=ClosureYear,C83,0)),IF(B83=$D$16,($D$14-F83),IF(B83<$D$16,IF(SUM(C83:$C$102)=0,$D$13,C83),0)))","v":0},0,{"$f":"IF(SUM(C84:$C$101)=0,C83,0)","v":0},0,60,0,59,0,0,58,0,0,57,0,0,56,0,0,55,0,0,54,0,0,53,0,0,52,0,0,51,0,0,50,0,0,49,0,0,48,0,0,47,0,0,46,0,0,45,0,0,44,0,0,43,0,0,42,0,0,41,0,0,40,0,0,39,0,0,38,0,0,37,0,0,36,0,0,35,0,0,34,0,0,33,0,0,32,{"$f":"$E$50","v":0},{"$f":"SUM($G$10*$G$11*CO83*(EXP(-($G$10*CN83))),$G$10*$G$11*CO83*(EXP(-($G$10*(CN83+0.1)))),$G$10*$G$11*CO83*(EXP(-($G$10*(CN83+0.2)))),$G$10*$G$11*CO83*(EXP(-($G$10*(CN83+0.3)))),$G$10*$G$11*CO83*(EXP(-($G$10*(CN83+0.4)))),$G$10*$G$11*CO83*(EXP(-($G$10*(CN83+0.5)))),$G$10*$G$11*CO83*(EXP(-($G$10*(CN83+0.6)))),$G$10*$G$11*CO83*(EXP(-($G$10*(CN83+0.7)))),$G$10*$G$11*CO83*(EXP(-($G$10*(CN83+0.8)))),$G$10*$G$11*CO83*(EXP(-($G$10*(CN83+0.9)))))/10","v":0},31,0,0,30,0,0,29,0,0,28,0,0,27,0,0,26,0,0,25,0,0,24,0,0,23,0,0,22,0,0,21,0,0,20,0,0,19,0,0,18,0,0,17,0,0,16,0,0,15,0,0,14,0,0,13,0,0,12,0,0,11,0,0,10,0,0,9,0,0,8,0,0,7,0,0,6,0,0,5,0,0,4,0,0,3,0,0,2,0,0,1,0,0,0,{"$f":"$E$82","v":0},{"$f":"SUM($G$10*$G$11*GG83*(EXP(-($G$10*GF83))),$G$10*$G$11*GG83*(EXP(-($G$10*(GF83+0.1)))),$G$10*$G$11*GG83*(EXP(-($G$10*(GF83+0.2)))),$G$10*$G$11*GG83*(EXP(-($G$10*(GF83+0.3)))),$G$10*$G$11*GG83*(EXP(-($G$10*(GF83+0.4)))),$G$10*$G$11*GG83*(EXP(-($G$10*(GF83+0.5)))),$G$10*$G$11*GG83*(EXP(-($G$10*(GF83+0.6)))),$G$10*$G$11*GG83*(EXP(-($G$10*(GF83+0.7)))),$G$10*$G$11*GG83*(EXP(-($G$10*(GF83+0.8)))),$G$10*$G$11*GG83*(EXP(-($G$10*(GF83+0.9)))))/10","v":0}]
[null,{"$f":"'USER INPUTS'!J69","v":61},{"$f":"IF(OR(AND(ClosureCalcYes=TRUE,WasteCapacity=\"\"),AND(ClosureCalcYes=FALSE,ClosureYear=\"\")),0,IF('USER INPUTS'!K69>0,IF('USER INPUTS'!$K$4=\"Mg/year\",'USER INPUTS'!K69,'USER INPUTS'!L69),0))","v":0},0,{"$f":"IF(ClosureCalcYes=FALSE,IF(AND(B84<ClosureYear,C84=0,SUM(C84:$C$102)=0),$D$13,IF(B84<=ClosureYear,C84,0)),IF(B84=$D$16,($D$14-F84),IF(B84<$D$16,IF(SUM(C84:$C$102)=0,$D$13,C84),0)))","v":0},0,{"$f":"IF(SUM(C85:$C$101)=0,C84,0)","v":0},0,61,0,60,0,0,59,0,0,58,0,0,57,0,0,56,0,0,55,0,0,54,0,0,53,0,0,52,0,0,51,0,0,50,0,0,49,0,0,48,0,0,47,0,0,46,0,0,45,0,0,44,0,0,43,0,0,42,0,0,41,0,0,40,0,0,39,0,0,38,0,0,37,0,0,36,0,0,35,0,0,34,0,0,33,0,0,32,{"$f":"$E$51","v":0},{"$f":"SUM($G$10*$G$11*CR84*(EXP(-($G$10*CQ84))),$G$10*$G$11*CR84*(EXP(-($G$10*(CQ84+0.1)))),$G$10*$G$11*CR84*(EXP(-($G$10*(CQ84+0.2)))),$G$10*$G$11*CR84*(EXP(-($G$10*(CQ84+0.3)))),$G$10*$G$11*CR84*(EXP(-($G$10*(CQ84+0.4)))),$G$10*$G$11*CR84*(EXP(-($G$10*(CQ84+0.5)))),$G$10*$G$11*CR84*(EXP(-($G$10*(CQ84+0.6)))),$G$10*$G$11*CR84*(EXP(-($G$10*(CQ84+0.7)))),$G$10*$G$11*CR84*(EXP(-($G$10*(CQ84+0.8)))),$G$10*$G$11*CR84*(EXP(-($G$10*(CQ84+0.9)))))/10","v":0},31,0,0,30,0,0,29,0,0,28,0,0,27,0,0,26,0,0,25,0,0,24,0,0,23,0,0,22,0,0,21,0,0,20,0,0,19,0,0,18,0,0,17,0,0,16,0,0,15,0,0,14,0,0,13,0,0,12,0,0,11,0,0,10,0,0,9,0,0,8,0,0,7,0,0,6,0,0,5,0,0,4,0,0,3,0,0,2,0,0,1,{"$f":"$E$82","v":0},0,0,{"$f":"$E$83","v":0},{"$f":"SUM($G$10*$G$11*GJ84*(EXP(-($G$10*GI84))),$G$10*$G$11*GJ84*(EXP(-($G$10*(GI84+0.1)))),$G$10*$G$11*GJ84*(EXP(-($G$10*(GI84+0.2)))),$G$10*$G$11*GJ84*(EXP(-($G$10*(GI84+0.3)))),$G$10*$G$11*GJ84*(EXP(-($G$10*(GI84+0.4)))),$G$10*$G$11*GJ84*(EXP(-($G$10*(GI84+0.5)))),$G$10*$G$11*GJ84*(EXP(-($G$10*(GI84+0.6)))),$G$10*$G$11*GJ84*(EXP(-($G$10*(GI84+0.7)))),$G$10*$G$11*GJ84*(EXP(-($G$10*(GI84+0.8)))),$G$10*$G$11*GJ84*(EXP(-($G$10*(GI84+0.9)))))/10","v":0}]
[null,{"$f":"'USER INPUTS'!J70","v":62},{"$f":"IF(OR(AND(ClosureCalcYes=TRUE,WasteCapacity=\"\"),AND(ClosureCalcYes=FALSE,ClosureYear=\"\")),0,IF('USER INPUTS'!K70>0,IF('USER INPUTS'!$K$4=\"Mg/year\",'USER INPUTS'!K70,'USER INPUTS'!L70),0))","v":0},0,{"$f":"IF(ClosureCalcYes=FALSE,IF(AND(B85<ClosureYear,C85=0,SUM(C85:$C$102)=0),$D$13,IF(B85<=ClosureYear,C85,0)),IF(B85=$D$16,($D$14-F85),IF(B85<$D$16,IF(SUM(C85:$C$102)=0,$D$13,C85),0)))","v":0},0,{"$f":"IF(SUM(C86:$C$101)=0,C85,0)","v":0},0,62,0,61,0,0,60,0,0,59,0,0,58,0,0,57,0,0,56,0,0,55,0,0,54,0,0,53,0,0,52,0,0,51,0,0,50,0,0,49,0,0,48,0,0,47,0,0,46,0,0,45,0,0,44,0,0,43,0,0,42,0,0,41,0,0,40,0,0,39,0,0,38,0,0,37,0,0,36,0,0,35,0,0,34,0,0,33,0,0,32,{"$f":"$E$52","v":0},{"$f":"SUM($G$10*$G$11*CU85*(EXP(-($G$10*CT85))),$G$10*$G$11*CU85*(EXP(-($G$10*(CT85+0.1)))),$G$10*$G$11*CU85*(EXP(-($G$10*(CT85+0.2)))),$G$10*$G$11*CU85*(EXP(-($G$10*(CT85+0.3)))),$G$10*$G$11*CU85*(EXP(-($G$10*(CT85+0.4)))),$G$10*$G$11*CU85*(EXP(-($G$10*(CT85+0.5)))),$G$10*$G$11*CU85*(EXP(-($G$10*(CT85+0.6)))),$G$10*$G$11*CU85*(EXP(-($G$10*(CT85+0.7)))),$G$10*$G$11*CU85*(EXP(-($G$10*(CT85+0.8)))),$G$10*$G$11*CU85*(EXP(-($G$10*(CT85+0.9)))))/10","v":0},31,0,0,30,0,0,29,0,0,28,0,0,27,0,0,26,0,0,25,0,0,24,0,0,23,0,0,22,0,0,21,0,0,20,0,0,19,0,0,18,0,0,17,0,0,16,0,0,15,0,0,14,0,0,13,0,0,12,0,0,11,0,0,10,0,0,9,0,0,8,0,0,7,0,0,6,0,0,5,0,0,4,0,0,3,0,0,2,0,0,1,0,0,0,{"$f":"$E$84","v":0},{"$f":"SUM($G$10*$G$11*GM85*(EXP(-($G$10*GL85))),$G$10*$G$11*GM85*(EXP(-($G$10*(GL85+0.1)))),$G$10*$G$11*GM85*(EXP(-($G$10*(GL85+0.2)))),$G$10*$G$11*GM85*(EXP(-($G$10*(GL85+0.3)))),$G$10*$G$11*GM85*(EXP(-($G$10*(GL85+0.4)))),$G$10*$G$11*GM85*(EXP(-($G$10*(GL85+0.5)))),$G$10*$G$11*GM85*(EXP(-($G$10*(GL85+0.6)))),$G$10*$G$11*GM85*(EXP(-($G$10*(GL85+0.7)))),$G$10*$G$11*GM85*(EXP(-($G$10*(GL85+0.8)))),$G$10*$G$11*GM85*(EXP(-($G$10*(GL85+0.9)))))/10","v":0}]
[null,{"$f":"'USER INPUTS'!J71","v":63},{"$f":"IF(OR(AND(ClosureCalcYes=TRUE,WasteCapacity=\"\"),AND(ClosureCalcYes=FALSE,ClosureYear=\"\")),0,IF('USER INPUTS'!K71>0,IF('USER INPUTS'!$K$4=\"Mg/year\",'USER INPUTS'!K71,'USER INPUTS'!L71),0))","v":0},0,{"$f":"IF(ClosureCalcYes=FALSE,IF(AND(B86<ClosureYear,C86=0,SUM(C86:$C$102)=0),$D$13,IF(B86<=ClosureYear,C86,0)),IF(B86=$D$16,($D$14-F86),IF(B86<$D$16,IF(SUM(C86:$C$102)=0,$D$13,C86),0)))","v":0},0,{"$f":"IF(SUM(C87:$C$101)=0,C86,0)","v":0},0,63,0,62,0,0,61,0,0,60,0,0,59,0,0,58,0,0,57,0,0,56,0,0,55,0,0,54,0,0,53,0,0,52,0,0,51,0,0,50,0,0,49,0,0,48,0,0,47,0,0,46,0,0,45,0,0,44,0,0,43,0,0,42,0,0,41,0,0,40,0,0,39,0,0,38,0,0,37,0,0,36,0,0,35,0,0,34,0,0,33,0,0,32,{"$f":"$E$53","v":0},{"$f":"SUM($G$10*$G$11*CX86*(EXP(-($G$10*CW86))),$G$10*$G$11*CX86*(EXP(-($G$10*(CW86+0.1)))),$G$10*$G$11*CX86*(EXP(-($G$10*(CW86+0.2)))),$G$10*$G$11*CX86*(EXP(-($G$10*(CW86+0.3)))),$G$10*$G$11*CX86*(EXP(-($G$10*(CW86+0.4)))),$G$10*$G$11*CX86*(EXP(-($G$10*(CW86+0.5)))),$G$10*$G$11*CX86*(EXP(-($G$10*(CW86+0.6)))),$G$10*$G$11*CX86*(EXP(-($G$10*(CW86+0.7)))),$G$10*$G$11*CX86*(EXP(-($G$10*(CW86+0.8)))),$G$10*$G$11*CX86*(EXP(-($G$10*(CW86+0.9)))))/10","v":0},31,0,0,30,0,0,29,0,0,28,0,0,27,0,0,26,0,0,25,0,0,24,0,0,23,0,0,22,0,0,21,0,0,20,0,0,19,0,0,18,0,0,17,0,0,16,0,0,15,0,0,14,0,0,13,0,0,12,0,0,11,0,0,10,0,0,9,0,0,8,0,0,7,0,0,6,0,0,5,0,0,4,0,0,3,0,0,2,0,0,1,{"$f":"$E$84","v":0},0,0,{"$f":"$E$85","v":0},{"$f":"SUM($G$10*$G$11*GP86*(EXP(-($G$10*GO86))),$G$10*$G$11*GP86*(EXP(-($G$10*(GO86+0.1)))),$G$10*$G$11*GP86*(EXP(-($G$10*(GO86+0.2)))),$G$10*$G$11*GP86*(EXP(-($G$10*(GO86+0.3)))),$G$10*$G$11*GP86*(EXP(-($G$10*(GO86+0.4)))),$G$10*$G$11*GP86*(EXP(-($G$10*(GO86+0.5)))),$G$10*$G$11*GP86*(EXP(-($G$10*(GO86+0.6)))),$G$10*$G$11*GP86*(EXP(-($G$10*(GO86+0.7)))),$G$10*$G$11*GP86*(EXP(-($G$10*(GO86+0.8)))),$G$10*$G$11*GP86*(EXP(-($G$10*(GO86+0.9)))))/10","v":0}]
[null,{"$f":"'USER INPUTS'!J72","v":64},{"$f":"IF(OR(AND(ClosureCalcYes=TRUE,WasteCapacity=\"\"),AND(ClosureCalcYes=FALSE,ClosureYear=\"\")),0,IF('USER INPUTS'!K72>0,IF('USER INPUTS'!$K$4=\"Mg/year\",'USER INPUTS'!K72,'USER INPUTS'!L72),0))","v":0},0,{"$f":"IF(ClosureCalcYes=FALSE,IF(AND(B87<ClosureYear,C87=0,SUM(C87:$C$102)=0),$D$13,IF(B87<=ClosureYear,C87,0)),IF(B87=$D$16,($D$14-F87),IF(B87<$D$16,IF(SUM(C87:$C$102)=0,$D$13,C87),0)))","v":0},0,{"$f":"IF(SUM(C88:$C$101)=0,C87,0)","v":0},0,64,0,63,0,0,62,0,0,61,0,0,60,0,0,59,0,0,58,0,0,57,0,0,56,0,0,55,0,0,54,0,0,53,0,0,52,0,0,51,0,0,50,0,0,49,0,0,48,0,0,47,0,0,46,0,0,45,0,0,44,0,0,43,0,0,42,0,0,41,0,0,40,0,0,39,0,0,38,0,0,37,0,0,36,0,0,35,0,0,34,0,0,33,0,0,32,{"$f":"$E$54","v":0},{"$f":"SUM($G$10*$G$11*DA87*(EXP(-($G$10*CZ87))),$G$10*$G$11*DA87*(EXP(-($G$10*(CZ87+0.1)))),$G$10*$G$11*DA87*(EXP(-($G$10*(CZ87+0.2)))),$G$10*$G$11*DA87*(EXP(-($G$10*(CZ87+0.3)))),$G$10*$G$11*DA87*(EXP(-($G$10*(CZ87+0.4)))),$G$10*$G$11*DA87*(EXP(-($G$10*(CZ87+0.5)))),$G$10*$G$11*DA87*(EXP(-($G$10*(CZ87+0.6)))),$G$10*$G$11*DA87*(EXP(-($G$10*(CZ87+0.7)))),$G$10*$G$11*DA87*(EXP(-($G$10*(CZ87+0.8)))),$G$10*$G$11*DA87*(EXP(-($G$10*(CZ87+0.9)))))/10","v":0},31,0,0,30,0,0,29,0,0,28,0,0,27,0,0,26,0,0,25,0,0,24,0,0,23,0,0,22,0,0,21,0,0,20,0,0,19,0,0,18,0,0,17,0,0,16,0,0,15,0,0,14,0,0,13,0,0,12,0,0,11,0,0,10,0,0,9,0,0,8,0,0,7,0,0,6,0,0,5,0,0,4,0,0,3,0,0,2,0,0,1,0,0,0,{"$f":"$E$86","v":0},{"$f":"SUM($G$10*$G$11*GS87*(EXP(-($G$10*GR87))),$G$10*$G$11*GS87*(EXP(-($G$10*(GR87+0.1)))),$G$10*$G$11*GS87*(EXP(-($G$10*(GR87+0.2)))),$G$10*$G$11*GS87*(EXP(-($G$10*(GR87+0.3)))),$G$10*$G$11*GS87*(EXP(-($G$10*(GR87+0.4)))),$G$10*$G$11*GS87*(EXP(-($G$10*(GR87+0.5)))),$G$10*$G$11*GS87*(EXP(-($G$10*(GR87+0.6)))),$G$10*$G$11*GS87*(EXP(-($G$10*(GR87+0.7)))),$G$10*$G$11*GS87*(EXP(-($G$10*(GR87+0.8)))),$G$10*$G$11*GS87*(EXP(-($G$10*(GR87+0.9)))))/10","v":0}]
[null,{"$f":"'USER INPUTS'!J73","v":65},{"$f":"IF(OR(AND(ClosureCalcYes=TRUE,WasteCapacity=\"\"),AND(ClosureCalcYes=FALSE,ClosureYear=\"\")),0,IF('USER INPUTS'!K73>0,IF('USER INPUTS'!$K$4=\"Mg/year\",'USER INPUTS'!K73,'USER INPUTS'!L73),0))","v":0},0,{"$f":"IF(ClosureCalcYes=FALSE,IF(AND(B88<ClosureYear,C88=0,SUM(C88:$C$102)=0),$D$13,IF(B88<=ClosureYear,C88,0)),IF(B88=$D$16,($D$14-F88),IF(B88<$D$16,IF(SUM(C88:$C$102)=0,$D$13,C88),0)))","v":0},0,{"$f":"IF(SUM(C89:$C$101)=0,C88,0)","v":0},0,65,{"$f":"(M88+P88+S88+V88+Y88+AB88+AE88+AH88+AK88+AN88+AQ88+AT88+AW88+AZ88+BC88+BF88+BI88+BL88+BO88+BR88+BU88+BX88+CA88+CD88+CG88+CJ88+CM88+CP88+CS88+CV88+CY88+DB88+DE88+DH88+DK88+DN88+DQ88+DT88+DW88+DZ88+EC88+EF88+EI88+EL88+EO88+ER88+EU88+EX88+FA88+FD88+FG88+FJ88+FM88+FP88+FS88+FV88+FY88+GB88+GE88+GH88+GK88+GN88+GQ88+GT88+GW88+GZ88+HC88+HF88+HI88+HL88+HO88+HR88+HU88+HX88+IA88+ID88+IG88+IJ88+IM88+IP88)","v":0},64,{"$f":"$E$23","v":0},{"$f":"SUM($G$10*$G$11*L88*(EXP(-($G$10*K88))),$G$10*$G$11*L88*(EXP(-($G$10*(K88+0.1)))),$G$10*$G$11*L88*(EXP(-($G$10*(K88+0.2)))),$G$10*$G$11*L88*(EXP(-($G$10*(K88+0.3)))),$G$10*$G$11*L88*(EXP(-($G$10*(K88+0.4)))),$G$10*$G$11*L88*(EXP(-($G$10*(K88+0.5)))),$G$10*$G$11*L88*(EXP(-($G$10*(K88+0.6)))),$G$10*$G$11*L88*(EXP(-($G$10*(K88+0.7)))),$G$10*$G$11*L88*(EXP(-($G$10*(K88+0.8)))),$G$10*$G$11*L88*(EXP(-($G$10*(K88+0.9)))))/10","v":0},63,0,0,62,0,0,61,0,0,60,0,0,59,0,0,58,0,0,57,0,0,56,0,0,55,0,0,54,0,0,53,0,0,52,0,0,51,0,0,50,0,0,49,0,0,48,0,0,47,0,0,46,0,0,45,0,0,44,0,0,43,0,0,42,0,0,41,0,0,40,0,0,39,0,0,38,0,0,37,0,0,36,0,0,35,0,0,34,0,0,33,0,0,32,{"$f":"$E$55","v":0},{"$f":"SUM($G$10*$G$11*DD88*(EXP(-($G$10*DC88))),$G$10*$G$11*DD88*(EXP(-($G$10*(DC88+0.1)))),$G$10*$G$11*DD88*(EXP(-($G$10*(DC88+0.2)))),$G$10*$G$11*DD88*(EXP(-($G$10*(DC88+0.3)))),$G$10*$G$11*DD88*(EXP(-($G$10*(DC88+0.4)))),$G$10*$G$11*DD88*(EXP(-($G$10*(DC88+0.5)))),$G$10*$G$11*DD88*(EXP(-($G$10*(DC88+0.6)))),$G$10*$G$11*DD88*(EXP(-($G$10*(DC88+0.7)))),$G$10*$G$11*DD88*(EXP(-($G$10*(DC88+0.8)))),$G$10*$G$11*DD88*(EXP(-($G$10*(DC88+0.9)))))/10","v":0},31,0,0,30,0,0,29,0,0,28,0,0,27,0,0,26,0,0,25,0,0,24,0,0,23,0,0,22,0,0,21,0,0,20,0,0,19,0,0,18,0,0,17,0,0,16,0,0,15,0,0,14,0,0,13,0,0,12,0,0,11,0,0,10,0,0,9,0,0,8,0,0,7,0,0,6,0,0,5,0,0,4,0,0,3,0,0,2,0,0,1,{"$f":"$E$86","v":0},0,0,{"$f":"$E$87","v":0},{"$f":"SUM($G$10*$G$11*GV88*(EXP(-($G$10*GU88))),$G$10*$G$11*GV88*(EXP(-($G$10*(GU88+0.1)))),$G$10*$G$11*GV88*(EXP(-($G$10*(GU88+0.2)))),$G$10*$G$11*GV88*(EXP(-($G$10*(GU88+0.3)))),$G$10*$G$11*GV88*(EXP(-($G$10*(GU88+0.4)))),$G$10*$G$11*GV88*(EXP(-($G$10*(GU88+0.5)))),$G$10*$G$11*GV88*(EXP(-($G$10*(GU88+0.6)))),$G$10*$G$11*GV88*(EXP(-($G$10*(GU88+0.7)))),$G$10*$G$11*GV88*(EXP(-($G$10*(GU88+0.8)))),$G$10*$G$11*GV88*(EXP(-($G$10*(GU88+0.9)))))/10","v":0}]
[null,{"$f":"'USER INPUTS'!J74","v":66},{"$f":"IF(OR(AND(ClosureCalcYes=TRUE,WasteCapacity=\"\"),AND(ClosureCalcYes=FALSE,ClosureYear=\"\")),0,IF('USER INPUTS'!K74>0,IF('USER INPUTS'!$K$4=\"Mg/year\",'USER INPUTS'!K74,'USER INPUTS'!L74),0))","v":0},0,{"$f":"IF(ClosureCalcYes=FALSE,IF(AND(B89<ClosureYear,C89=0,SUM(C89:$C$102)=0),$D$13,IF(B89<=ClosureYear,C89,0)),IF(B89=$D$16,($D$14-F89),IF(B89<$D$16,IF(SUM(C89:$C$102)=0,$D$13,C89),0)))","v":0},0,{"$f":"IF(SUM(C90:$C$101)=0,C89,0)","v":0},0,66,0,65,0,0,64,{"$f":"$E$24","v":0},{"$f":"SUM($G$10*$G$11*O89*(EXP(-($G$10*N89))),$G$10*$G$11*O89*(EXP(-($G$10*(N89+0.1)))),$G$10*$G$11*O89*(EXP(-($G$10*(N89+0.2)))),$G$10*$G$11*O89*(EXP(-($G$10*(N89+0.3)))),$G$10*$G$11*O89*(EXP(-($G$10*(N89+0.4)))),$G$10*$G$11*O89*(EXP(-($G$10*(N89+0.5)))),$G$10*$G$11*O89*(EXP(-($G$10*(N89+0.6)))),$G$10*$G$11*O89*(EXP(-($G$10*(N89+0.7)))),$G$10*$G$11*O89*(EXP(-($G$10*(N89+0.8)))),$G$10*$G$11*O89*(EXP(-($G$10*(N89+0.9)))))/10","v":0},63,0,0,62,0,0,61,0,0,60,0,0,59,0,0,58,0,0,57,0,0,56,0,0,55,0,0,54,0,0,53,0,0,52,0,0,51,0,0,50,0,0,49,0,0,48,0,0,47,0,0,46,0,0,45,0,0,44,0,0,43,0,0,42,0,0,41,0,0,40,0,0,39,0,0,38,0,0,37,0,0,36,0,0,35,0,0,34,0,0,33,0,0,32,{"$f":"$E$56","v":0},{"$f":"SUM($G$10*$G$11*DG89*(EXP(-($G$10*DF89))),$G$10*$G$11*DG89*(EXP(-($G$10*(DF89+0.1)))),$G$10*$G$11*DG89*(EXP(-($G$10*(DF89+0.2)))),$G$10*$G$11*DG89*(EXP(-($G$10*(DF89+0.3)))),$G$10*$G$11*DG89*(EXP(-($G$10*(DF89+0.4)))),$G$10*$G$11*DG89*(EXP(-($G$10*(DF89+0.5)))),$G$10*$G$11*DG89*(EXP(-($G$10*(DF89+0.6)))),$G$10*$G$11*DG89*(EXP(-($G$10*(DF89+0.7)))),$G$10*$G$11*DG89*(EXP(-($G$10*(DF89+0.8)))),$G$10*$G$11*DG89*(EXP(-($G$10*(DF89+0.9)))))/10","v":0},31,0,0,30,0,0,29,0,0,28,0,0,27,0,0,26,0,0,25,0,0,24,0,0,23,0,0,22,0,0,21,0,0,20,0,0,19,0,0,18,0,0,17,0,0,16,0,0,15,0,0,14,0,0,13,0,0,12,0,0,11,0,0,10,0,0,9,0,0,8,0,0,7,0,0,6,0,0,5,0,0,4,0,0,3,0,0,2,0,0,1,0,0,0,{"$f":"$E$88","v":0},{"$f":"SUM($G$10*$G$11*GY89*(EXP(-($G$10*GX89))),$G$10*$G$11*GY89*(EXP(-($G$10*(GX89+0.1)))),$G$10*$G$11*GY89*(EXP(-($G$10*(GX89+0.2)))),$G$10*$G$11*GY89*(EXP(-($G$10*(GX89+0.3)))),$G$10*$G$11*GY89*(EXP(-($G$10*(GX89+0.4)))),$G$10*$G$11*GY89*(EXP(-($G$10*(GX89+0.5)))),$G$10*$G$11*GY89*(EXP(-($G$10*(GX89+0.6)))),$G$10*$G$11*GY89*(EXP(-($G$10*(GX89+0.7)))),$G$10*$G$11*GY89*(EXP(-($G$10*(GX89+0.8)))),$G$10*$G$11*GY89*(EXP(-($G$10*(GX89+0.9)))))/10","v":0}]
[null,{"$f":"'USER INPUTS'!J75","v":67},{"$f":"IF(OR(AND(ClosureCalcYes=TRUE,WasteCapacity=\"\"),AND(ClosureCalcYes=FALSE,ClosureYear=\"\")),0,IF('USER INPUTS'!K75>0,IF('USER INPUTS'!$K$4=\"Mg/year\",'USER INPUTS'!K75,'USER INPUTS'!L75),0))","v":0},0,{"$f":"IF(ClosureCalcYes=FALSE,IF(AND(B90<ClosureYear,C90=0,SUM(C90:$C$102)=0),$D$13,IF(B90<=ClosureYear,C90,0)),IF(B90=$D$16,($D$14-F90),IF(B90<$D$16,IF(SUM(C90:$C$102)=0,$D$13,C90),0)))","v":0},0,{"$f":"IF(SUM(C91:$C$101)=0,C90,0)","v":0},0,{"$f":"IF(I89=\"\",\"\",(I89+1))","v":67},0,66,0,0,65,0,0,64,{"$f":"$E$25","v":0},{"$f":"SUM($G$10*$G$11*R90*(EXP(-($G$10*Q90))),$G$10*$G$11*R90*(EXP(-($G$10*(Q90+0.1)))),$G$10*$G$11*R90*(EXP(-($G$10*(Q90+0.2)))),$G$10*$G$11*R90*(EXP(-($G$10*(Q90+0.3)))),$G$10*$G$11*R90*(EXP(-($G$10*(Q90+0.4)))),$G$10*$G$11*R90*(EXP(-($G$10*(Q90+0.5)))),$G$10*$G$11*R90*(EXP(-($G$10*(Q90+0.6)))),$G$10*$G$11*R90*(EXP(-($G$10*(Q90+0.7)))),$G$10*$G$11*R90*(EXP(-($G$10*(Q90+0.8)))),$G$10*$G$11*R90*(EXP(-($G$10*(Q90+0.9)))))/10","v":0},63,0,0,62,0,0,61,0,0,60,0,0,59,0,0,58,0,0,57,0,0,56,0,0,55,0,0,54,0,0,53,0,0,52,0,0,51,0,0,50,0,0,49,0,0,48,0,0,47,0,0,46,0,0,45,0,0,44,0,0,43,0,0,42,0,0,41,0,0,40,0,0,39,0,0,38,0,0,37,0,0,36,0,0,35,0,0,34,0,0,33,0,0,32,{"$f":"$E$57","v":0},{"$f":"SUM($G$10*$G$11*DJ90*(EXP(-($G$10*DI90))),$G$10*$G$11*DJ90*(EXP(-($G$10*(DI90+0.1)))),$G$10*$G$11*DJ90*(EXP(-($G$10*(DI90+0.2)))),$G$10*$G$11*DJ90*(EXP(-($G$10*(DI90+0.3)))),$G$10*$G$11*DJ90*(EXP(-($G$10*(DI90+0.4)))),$G$10*$G$11*DJ90*(EXP(-($G$10*(DI90+0.5)))),$G$10*$G$11*DJ90*(EXP(-($G$10*(DI90+0.6)))),$G$10*$G$11*DJ90*(EXP(-($G$10*(DI90+0.7)))),$G$10*$G$11*DJ90*(EXP(-($G$10*(DI90+0.8)))),$G$10*$G$11*DJ90*(EXP(-($G$10*(DI90+0.9)))))/10","v":0},31,0,0,30,0,0,29,0,0,28,0,0,27,0,0,26,0,0,25,0,0,24,0,0,23,0,0,22,0,0,21,0,0,20,0,0,19,0,0,18,0,0,17,0,0,16,0,0,15,0,0,14,0,0,13,0,0,12,0,0,11,0,0,10,0,0,9,0,0,8,0,0,7,0,0,6,0,0,5,0,0,4,0,0,3,0,0,2,0,0,1,{"$f":"$E$88","v":0},0,0,{"$f":"$E$89","v":0},{"$f":"SUM($G$10*$G$11*HB90*(EXP(-($G$10*HA90))),$G$10*$G$11*HB90*(EXP(-($G$10*(HA90+0.1)))),$G$10*$G$11*HB90*(EXP(-($G$10*(HA90+0.2)))),$G$10*$G$11*HB90*(EXP(-($G$10*(HA90+0.3)))),$G$10*$G$11*HB90*(EXP(-($G$10*(HA90+0.4)))),$G$10*$G$11*HB90*(EXP(-($G$10*(HA90+0.5)))),$G$10*$G$11*HB90*(EXP(-($G$10*(HA90+0.6)))),$G$10*$G$11*HB90*(EXP(-($G$10*(HA90+0.7)))),$G$10*$G$11*HB90*(EXP(-($G$10*(HA90+0.8)))),$G$10*$G$11*HB90*(EXP(-($G$10*(HA90+0.9)))))/10","v":0}]
[null,{"$f":"'USER INPUTS'!J76","v":68},{"$f":"IF(OR(AND(ClosureCalcYes=TRUE,WasteCapacity=\"\"),AND(ClosureCalcYes=FALSE,ClosureYear=\"\")),0,IF('USER INPUTS'!K76>0,IF('USER INPUTS'!$K$4=\"Mg/year\",'USER INPUTS'!K76,'USER INPUTS'!L76),0))","v":0},0,{"$f":"IF(ClosureCalcYes=FALSE,IF(AND(B91<ClosureYear,C91=0,SUM(C91:$C$102)=0),$D$13,IF(B91<=ClosureYear,C91,0)),IF(B91=$D$16,($D$14-F91),IF(B91<$D$16,IF(SUM(C91:$C$102)=0,$D$13,C91),0)))","v":0},0,{"$f":"IF(SUM(C92:$C$101)=0,C91,0)","v":0},0,68,0,67,0,0,66,0,0,65,0,0,64,{"$f":"$E$26","v":0},{"$f":"SUM($G$10*$G$11*U91*(EXP(-($G$10*T91))),$G$10*$G$11*U91*(EXP(-($G$10*(T91+0.1)))),$G$10*$G$11*U91*(EXP(-($G$10*(T91+0.2)))),$G$10*$G$11*U91*(EXP(-($G$10*(T91+0.3)))),$G$10*$G$11*U91*(EXP(-($G$10*(T91+0.4)))),$G$10*$G$11*U91*(EXP(-($G$10*(T91+0.5)))),$G$10*$G$11*U91*(EXP(-($G$10*(T91+0.6)))),$G$10*$G$11*U91*(EXP(-($G$10*(T91+0.7)))),$G$10*$G$11*U91*(EXP(-($G$10*(T91+0.8)))),$G$10*$G$11*U91*(EXP(-($G$10*(T91+0.9)))))/10","v":0},63,0,0,62,0,0,61,0,0,60,0,0,59,0,0,58,0,0,57,0,0,56,0,0,55,0,0,54,0,0,53,0,0,52,0,0,51,0,0,50,0,0,49,0,0,48,0,0,47,0,0,46,0,0,45,0,0,44,0,0,43,0,0,42,0,0,41,0,0,40,0,0,39,0,0,38,0,0,37,0,0,36,0,0,35,0,0,34,0,0,33,0,0,32,{"$f":"$E$58","v":0},{"$f":"SUM($G$10*$G$11*DM91*(EXP(-($G$10*DL91))),$G$10*$G$11*DM91*(EXP(-($G$10*(DL91+0.1)))),$G$10*$G$11*DM91*(EXP(-($G$10*(DL91+0.2)))),$G$10*$G$11*DM91*(EXP(-($G$10*(DL91+0.3)))),$G$10*$G$11*DM91*(EXP(-($G$10*(DL91+0.4)))),$G$10*$G$11*DM91*(EXP(-($G$10*(DL91+0.5)))),$G$10*$G$11*DM91*(EXP(-($G$10*(DL91+0.6)))),$G$10*$G$11*DM91*(EXP(-($G$10*(DL91+0.7)))),$G$10*$G$11*DM91*(EXP(-($G$10*(DL91+0.8)))),$G$10*$G$11*DM91*(EXP(-($G$10*(DL91+0.9)))))/10","v":0},31,0,0,30,0,0,29,0,0,28,0,0,27,0,0,26,0,0,25,0,0,24,0,0,23,0,0,22,0,0,21,0,0,20,0,0,19,0,0,18,0,0,17,0,0,16,0,0,15,0,0,14,0,0,13,0,0,12,0,0,11,0,0,10,0,0,9,0,0,8,0,0,7,0,0,6,0,0,5,0,0,4,0,0,3,0,0,2,0,0,1,0,0,0,{"$f":"$E$90","v":0},{"$f":"SUM($G$10*$G$11*HE91*(EXP(-($G$10*HD91))),$G$10*$G$11*HE91*(EXP(-($G$10*(HD91+0.1)))),$G$10*$G$11*HE91*(EXP(-($G$10*(HD91+0.2)))),$G$10*$G$11*HE91*(EXP(-($G$10*(HD91+0.3)))),$G$10*$G$11*HE91*(EXP(-($G$10*(HD91+0.4)))),$G$10*$G$11*HE91*(EXP(-($G$10*(HD91+0.5)))),$G$10*$G$11*HE91*(EXP(-($G$10*(HD91+0.6)))),$G$10*$G$11*HE91*(EXP(-($G$10*(HD91+0.7)))),$G$10*$G$11*HE91*(EXP(-($G$10*(HD91+0.8)))),$G$10*$G$11*HE91*(EXP(-($G$10*(HD91+0.9)))))/10","v":0}]
[null,{"$f":"'USER INPUTS'!J77","v":69},{"$f":"IF(OR(AND(ClosureCalcYes=TRUE,WasteCapacity=\"\"),AND(ClosureCalcYes=FALSE,ClosureYear=\"\")),0,IF('USER INPUTS'!K77>0,IF('USER INPUTS'!$K$4=\"Mg/year\",'USER INPUTS'!K77,'USER INPUTS'!L77),0))","v":0},0,{"$f":"IF(ClosureCalcYes=FALSE,IF(AND(B92<ClosureYear,C92=0,SUM(C92:$C$102)=0),$D$13,IF(B92<=ClosureYear,C92,0)),IF(B92=$D$16,($D$14-F92),IF(B92<$D$16,IF(SUM(C92:$C$102)=0,$D$13,C92),0)))","v":0},0,{"$f":"IF(SUM(C93:$C$101)=0,C92,0)","v":0},0,69,0,68,0,0,67,0,0,66,0,0,65,0,0,64,{"$f":"$E$27","v":0},{"$f":"SUM($G$10*$G$11*X92*(EXP(-($G$10*W92))),$G$10*$G$11*X92*(EXP(-($G$10*(W92+0.1)))),$G$10*$G$11*X92*(EXP(-($G$10*(W92+0.2)))),$G$10*$G$11*X92*(EXP(-($G$10*(W92+0.3)))),$G$10*$G$11*X92*(EXP(-($G$10*(W92+0.4)))),$G$10*$G$11*X92*(EXP(-($G$10*(W92+0.5)))),$G$10*$G$11*X92*(EXP(-($G$10*(W92+0.6)))),$G$10*$G$11*X92*(EXP(-($G$10*(W92+0.7)))),$G$10*$G$11*X92*(EXP(-($G$10*(W92+0.8)))),$G$10*$G$11*X92*(EXP(-($G$10*(W92+0.9)))))/10","v":0},63,0,0,62,0,0,61,0,0,60,0,0,59,0,0,58,0,0,57,0,0,56,0,0,55,0,0,54,0,0,53,0,0,52,0,0,51,0,0,50,0,0,49,0,0,48,0,0,47,0,0,46,0,0,45,0,0,44,0,0,43,0,0,42,0,0,41,0,0,40,0,0,39,0,0,38,0,0,37,0,0,36,0,0,35,0,0,34,0,0,33,0,0,32,{"$f":"$E$59","v":0},{"$f":"SUM($G$10*$G$11*DP92*(EXP(-($G$10*DO92))),$G$10*$G$11*DP92*(EXP(-($G$10*(DO92+0.1)))),$G$10*$G$11*DP92*(EXP(-($G$10*(DO92+0.2)))),$G$10*$G$11*DP92*(EXP(-($G$10*(DO92+0.3)))),$G$10*$G$11*DP92*(EXP(-($G$10*(DO92+0.4)))),$G$10*$G$11*DP92*(EXP(-($G$10*(DO92+0.5)))),$G$10*$G$11*DP92*(EXP(-($G$10*(DO92+0.6)))),$G$10*$G$11*DP92*(EXP(-($G$10*(DO92+0.7)))),$G$10*$G$11*DP92*(EXP(-($G$10*(DO92+0.8)))),$G$10*$G$11*DP92*(EXP(-($G$10*(DO92+0.9)))))/10","v":0},31,0,0,30,0,0,29,0,0,28,0,0,27,0,0,26,0,0,25,0,0,24,0,0,23,0,0,22,0,0,21,0,0,20,0,0,19,0,0,18,0,0,17,0,0,16,0,0,15,0,0,14,0,0,13,0,0,12,0,0,11,0,0,10,0,0,9,0,0,8,0,0,7,0,0,6,0,0,5,0,0,4,0,0,3,0,0,2,0,0,1,{"$f":"$E$90","v":0},0,0,{"$f":"$E$91","v":0},{"$f":"SUM($G$10*$G$11*HH92*(EXP(-($G$10*HG92))),$G$10*$G$11*HH92*(EXP(-($G$10*(HG92+0.1)))),$G$10*$G$11*HH92*(EXP(-($G$10*(HG92+0.2)))),$G$10*$G$11*HH92*(EXP(-($G$10*(HG92+0.3)))),$G$10*$G$11*HH92*(EXP(-($G$10*(HG92+0.4)))),$G$10*$G$11*HH92*(EXP(-($G$10*(HG92+0.5)))),$G$10*$G$11*HH92*(EXP(-($G$10*(HG92+0.6)))),$G$10*$G$11*HH92*(EXP(-($G$10*(HG92+0.7)))),$G$10*$G$11*HH92*(EXP(-($G$10*(HG92+0.8)))),$G$10*$G$11*HH92*(EXP(-($G$10*(HG92+0.9)))))/10","v":0}]
[null,{"$f":"'USER INPUTS'!J78","v":70},{"$f":"IF(OR(AND(ClosureCalcYes=TRUE,WasteCapacity=\"\"),AND(ClosureCalcYes=FALSE,ClosureYear=\"\")),0,IF('USER INPUTS'!K78>0,IF('USER INPUTS'!$K$4=\"Mg/year\",'USER INPUTS'!K78,'USER INPUTS'!L78),0))","v":0},0,{"$f":"IF(ClosureCalcYes=FALSE,IF(AND(B93<ClosureYear,C93=0,SUM(C93:$C$102)=0),$D$13,IF(B93<=ClosureYear,C93,0)),IF(B93=$D$16,($D$14-F93),IF(B93<$D$16,IF(SUM(C93:$C$102)=0,$D$13,C93),0)))","v":0},0,{"$f":"IF(SUM(C94:$C$101)=0,C93,0)","v":0},0,70,0,69,0,0,68,0,0,67,0,0,66,0,0,65,0,0,64,{"$f":"$E$28","v":0},{"$f":"SUM($G$10*$G$11*AA93*(EXP(-($G$10*Z93))),$G$10*$G$11*AA93*(EXP(-($G$10*(Z93+0.1)))),$G$10*$G$11*AA93*(EXP(-($G$10*(Z93+0.2)))),$G$10*$G$11*AA93*(EXP(-($G$10*(Z93+0.3)))),$G$10*$G$11*AA93*(EXP(-($G$10*(Z93+0.4)))),$G$10*$G$11*AA93*(EXP(-($G$10*(Z93+0.5)))),$G$10*$G$11*AA93*(EXP(-($G$10*(Z93+0.6)))),$G$10*$G$11*AA93*(EXP(-($G$10*(Z93+0.7)))),$G$10*$G$11*AA93*(EXP(-($G$10*(Z93+0.8)))),$G$10*$G$11*AA93*(EXP(-($G$10*(Z93+0.9)))))/10","v":0},63,0,0,62,0,0,61,0,0,60,0,0,59,0,0,58,0,0,57,0,0,56,0,0,55,0,0,54,0,0,53,0,0,52,0,0,51,0,0,50,0,0,49,0,0,48,0,0,47,0,0,46,0,0,45,0,0,44,0,0,43,0,0,42,0,0,41,0,0,40,0,0,39,0,0,38,0,0,37,0,0,36,0,0,35,0,0,34,0,0,33,0,0,32,{"$f":"$E$60","v":0},{"$f":"SUM($G$10*$G$11*DS93*(EXP(-($G$10*DR93))),$G$10*$G$11*DS93*(EXP(-($G$10*(DR93+0.1)))),$G$10*$G$11*DS93*(EXP(-($G$10*(DR93+0.2)))),$G$10*$G$11*DS93*(EXP(-($G$10*(DR93+0.3)))),$G$10*$G$11*DS93*(EXP(-($G$10*(DR93+0.4)))),$G$10*$G$11*DS93*(EXP(-($G$10*(DR93+0.5)))),$G$10*$G$11*DS93*(EXP(-($G$10*(DR93+0.6)))),$G$10*$G$11*DS93*(EXP(-($G$10*(DR93+0.7)))),$G$10*$G$11*DS93*(EXP(-($G$10*(DR93+0.8)))),$G$10*$G$11*DS93*(EXP(-($G$10*(DR93+0.9)))))/10","v":0},31,0,0,30,0,0,29,0,0,28,0,0,27,0,0,26,0,0,25,0,0,24,0,0,23,0,0,22,0,0,21,0,0,20,0,0,19,0,0,18,0,0,17,0,0,16,0,0,15,0,0,14,0,0,13,0,0,12,0,0,11,0,0,10,0,0,9,0,0,8,0,0,7,0,0,6,0,0,5,0,0,4,0,0,3,0,0,2,0,0,1,0,0,0,{"$f":"$E$92","v":0},{"$f":"SUM($G$10*$G$11*HK93*(EXP(-($G$10*HJ93))),$G$10*$G$11*HK93*(EXP(-($G$10*(HJ93+0.1)))),$G$10*$G$11*HK93*(EXP(-($G$10*(HJ93+0.2)))),$G$10*$G$11*HK93*(EXP(-($G$10*(HJ93+0.3)))),$G$10*$G$11*HK93*(EXP(-($G$10*(HJ93+0.4)))),$G$10*$G$11*HK93*(EXP(-($G$10*(HJ93+0.5)))),$G$10*$G$11*HK93*(EXP(-($G$10*(HJ93+0.6)))),$G$10*$G$11*HK93*(EXP(-($G$10*(HJ93+0.7)))),$G$10*$G$11*HK93*(EXP(-($G$10*(HJ93+0.8)))),$G$10*$G$11*HK93*(EXP(-($G$10*(HJ93+0.9)))))/10","v":0}]
[null,{"$f":"'USER INPUTS'!J79","v":71},{"$f":"IF(OR(AND(ClosureCalcYes=TRUE,WasteCapacity=\"\"),AND(ClosureCalcYes=FALSE,ClosureYear=\"\")),0,IF('USER INPUTS'!K79>0,IF('USER INPUTS'!$K$4=\"Mg/year\",'USER INPUTS'!K79,'USER INPUTS'!L79),0))","v":0},0,{"$f":"IF(ClosureCalcYes=FALSE,IF(AND(B94<ClosureYear,C94=0,SUM(C94:$C$102)=0),$D$13,IF(B94<=ClosureYear,C94,0)),IF(B94=$D$16,($D$14-F94),IF(B94<$D$16,IF(SUM(C94:$C$102)=0,$D$13,C94),0)))","v":0},0,{"$f":"IF(SUM(C95:$C$101)=0,C94,0)","v":0},0,71,0,70,0,0,69,0,0,68,0,0,67,0,0,66,0,0,65,0,0,64,{"$f":"$E$29","v":0},{"$f":"SUM($G$10*$G$11*AD94*(EXP(-($G$10*AC94))),$G$10*$G$11*AD94*(EXP(-($G$10*(AC94+0.1)))),$G$10*$G$11*AD94*(EXP(-($G$10*(AC94+0.2)))),$G$10*$G$11*AD94*(EXP(-($G$10*(AC94+0.3)))),$G$10*$G$11*AD94*(EXP(-($G$10*(AC94+0.4)))),$G$10*$G$11*AD94*(EXP(-($G$10*(AC94+0.5)))),$G$10*$G$11*AD94*(EXP(-($G$10*(AC94+0.6)))),$G$10*$G$11*AD94*(EXP(-($G$10*(AC94+0.7)))),$G$10*$G$11*AD94*(EXP(-($G$10*(AC94+0.8)))),$G$10*$G$11*AD94*(EXP(-($G$10*(AC94+0.9)))))/10","v":0},63,0,0,62,0,0,61,0,0,60,0,0,59,0,0,58,0,0,57,0,0,56,0,0,55,0,0,54,0,0,53,0,0,52,0,0,51,0,0,50,0,0,49,0,0,48,0,0,47,0,0,46,0,0,45,0,0,44,0,0,43,0,0,42,0,0,41,0,0,40,0,0,39,0,0,38,0,0,37,0,0,36,0,0,35,0,0,34,0,0,33,0,0,32,{"$f":"$E$61","v":0},{"$f":"SUM($G$10*$G$11*DV94*(EXP(-($G$10*DU94))),$G$10*$G$11*DV94*(EXP(-($G$10*(DU94+0.1)))),$G$10*$G$11*DV94*(EXP(-($G$10*(DU94+0.2)))),$G$10*$G$11*DV94*(EXP(-($G$10*(DU94+0.3)))),$G$10*$G$11*DV94*(EXP(-($G$10*(DU94+0.4)))),$G$10*$G$11*DV94*(EXP(-($G$10*(DU94+0.5)))),$G$10*$G$11*DV94*(EXP(-($G$10*(DU94+0.6)))),$G$10*$G$11*DV94*(EXP(-($G$10*(DU94+0.7)))),$G$10*$G$11*DV94*(EXP(-($G$10*(DU94+0.8)))),$G$10*$G$11*DV94*(EXP(-($G$10*(DU94+0.9)))))/10","v":0},31,0,0,30,0,0,29,0,0,28,0,0,27,0,0,26,0,0,25,0,0,24,0,0,23,0,0,22,0,0,21,0,0,20,0,0,19,0,0,18,0,0,17,0,0,16,0,0,15,0,0,14,0,0,13,0,0,12,0,0,11,0,0,10,0,0,9,0,0,8,0,0,7,0,0,6,0,0,5,0,0,4,0,0,3,0,0,2,0,0,1,{"$f":"$E$92","v":0},0,0,{"$f":"$E$93","v":0},{"$f":"SUM($G$10*$G$11*HN94*(EXP(-($G$10*HM94))),$G$10*$G$11*HN94*(EXP(-($G$10*(HM94+0.1)))),$G$10*$G$11*HN94*(EXP(-($G$10*(HM94+0.2)))),$G$10*$G$11*HN94*(EXP(-($G$10*(HM94+0.3)))),$G$10*$G$11*HN94*(EXP(-($G$10*(HM94+0.4)))),$G$10*$G$11*HN94*(EXP(-($G$10*(HM94+0.5)))),$G$10*$G$11*HN94*(EXP(-($G$10*(HM94+0.6)))),$G$10*$G$11*HN94*(EXP(-($G$10*(HM94+0.7)))),$G$10*$G$11*HN94*(EXP(-($G$10*(HM94+0.8)))),$G$10*$G$11*HN94*(EXP(-($G$10*(HM94+0.9)))))/10","v":0}]
[null,{"$f":"'USER INPUTS'!J80","v":72},{"$f":"IF(OR(AND(ClosureCalcYes=TRUE,WasteCapacity=\"\"),AND(ClosureCalcYes=FALSE,ClosureYear=\"\")),0,IF('USER INPUTS'!K80>0,IF('USER INPUTS'!$K$4=\"Mg/year\",'USER INPUTS'!K80,'USER INPUTS'!L80),0))","v":0},0,{"$f":"IF(ClosureCalcYes=FALSE,IF(AND(B95<ClosureYear,C95=0,SUM(C95:$C$102)=0),$D$13,IF(B95<=ClosureYear,C95,0)),IF(B95=$D$16,($D$14-F95),IF(B95<$D$16,IF(SUM(C95:$C$102)=0,$D$13,C95),0)))","v":0},0,{"$f":"IF(SUM(C96:$C$101)=0,C95,0)","v":0},0,72,0,71,0,0,70,0,0,69,0,0,68,0,0,67,0,0,66,0,0,65,0,0,64,{"$f":"$E$30","v":0},{"$f":"SUM($G$10*$G$11*AG95*(EXP(-($G$10*AF95))),$G$10*$G$11*AG95*(EXP(-($G$10*(AF95+0.1)))),$G$10*$G$11*AG95*(EXP(-($G$10*(AF95+0.2)))),$G$10*$G$11*AG95*(EXP(-($G$10*(AF95+0.3)))),$G$10*$G$11*AG95*(EXP(-($G$10*(AF95+0.4)))),$G$10*$G$11*AG95*(EXP(-($G$10*(AF95+0.5)))),$G$10*$G$11*AG95*(EXP(-($G$10*(AF95+0.6)))),$G$10*$G$11*AG95*(EXP(-($G$10*(AF95+0.7)))),$G$10*$G$11*AG95*(EXP(-($G$10*(AF95+0.8)))),$G$10*$G$11*AG95*(EXP(-($G$10*(AF95+0.9)))))/10","v":0},63,0,0,62,0,0,61,0,0,60,0,0,59,0,0,58,0,0,57,0,0,56,0,0,55,0,0,54,0,0,53,0,0,52,0,0,51,0,0,50,0,0,49,0,0,48,0,0,47,0,0,46,0,0,45,0,0,44,0,0,43,0,0,42,0,0,41,0,0,40,0,0,39,0,0,38,0,0,37,0,0,36,0,0,35,0,0,34,0,0,33,0,0,32,{"$f":"$E$62","v":0},{"$f":"SUM($G$10*$G$11*DY95*(EXP(-($G$10*DX95))),$G$10*$G$11*DY95*(EXP(-($G$10*(DX95+0.1)))),$G$10*$G$11*DY95*(EXP(-($G$10*(DX95+0.2)))),$G$10*$G$11*DY95*(EXP(-($G$10*(DX95+0.3)))),$G$10*$G$11*DY95*(EXP(-($G$10*(DX95+0.4)))),$G$10*$G$11*DY95*(EXP(-($G$10*(DX95+0.5)))),$G$10*$G$11*DY95*(EXP(-($G$10*(DX95+0.6)))),$G$10*$G$11*DY95*(EXP(-($G$10*(DX95+0.7)))),$G$10*$G$11*DY95*(EXP(-($G$10*(DX95+0.8)))),$G$10*$G$11*DY95*(EXP(-($G$10*(DX95+0.9)))))/10","v":0},31,0,0,30,0,0,29,0,0,28,0,0,27,0,0,26,0,0,25,0,0,24,0,0,23,0,0,22,0,0,21,0,0,20,0,0,19,0,0,18,0,0,17,0,0,16,0,0,15,0,0,14,0,0,13,0,0,12,0,0,11,0,0,10,0,0,9,0,0,8,0,0,7,0,0,6,0,0,5,0,0,4,0,0,3,0,0,2,0,0,1,{"$f":"$E$93","v":0},0,0,{"$f":"$E$94","v":0},{"$f":"SUM($G$10*$G$11*HQ95*(EXP(-($G$10*HP95))),$G$10*$G$11*HQ95*(EXP(-($G$10*(HP95+0.1)))),$G$10*$G$11*HQ95*(EXP(-($G$10*(HP95+0.2)))),$G$10*$G$11*HQ95*(EXP(-($G$10*(HP95+0.3)))),$G$10*$G$11*HQ95*(EXP(-($G$10*(HP95+0.4)))),$G$10*$G$11*HQ95*(EXP(-($G$10*(HP95+0.5)))),$G$10*$G$11*HQ95*(EXP(-($G$10*(HP95+0.6)))),$G$10*$G$11*HQ95*(EXP(-($G$10*(HP95+0.7)))),$G$10*$G$11*HQ95*(EXP(-($G$10*(HP95+0.8)))),$G$10*$G$11*HQ95*(EXP(-($G$10*(HP95+0.9)))))/10","v":0}]
[null,{"$f":"'USER INPUTS'!J81","v":73},{"$f":"IF(OR(AND(ClosureCalcYes=TRUE,WasteCapacity=\"\"),AND(ClosureCalcYes=FALSE,ClosureYear=\"\")),0,IF('USER INPUTS'!K81>0,IF('USER INPUTS'!$K$4=\"Mg/year\",'USER INPUTS'!K81,'USER INPUTS'!L81),0))","v":0},0,{"$f":"IF(ClosureCalcYes=FALSE,IF(AND(B96<ClosureYear,C96=0,SUM(C96:$C$102)=0),$D$13,IF(B96<=ClosureYear,C96,0)),IF(B96=$D$16,($D$14-F96),IF(B96<$D$16,IF(SUM(C96:$C$102)=0,$D$13,C96),0)))","v":0},0,{"$f":"IF(SUM(C97:$C$101)=0,C96,0)","v":0},0,73,0,72,0,0,71,0,0,70,0,0,69,0,0,68,0,0,67,0,0,66,0,0,65,0,0,64,{"$f":"$E$31","v":0},{"$f":"SUM($G$10*$G$11*AJ96*(EXP(-($G$10*AI96))),$G$10*$G$11*AJ96*(EXP(-($G$10*(AI96+0.1)))),$G$10*$G$11*AJ96*(EXP(-($G$10*(AI96+0.2)))),$G$10*$G$11*AJ96*(EXP(-($G$10*(AI96+0.3)))),$G$10*$G$11*AJ96*(EXP(-($G$10*(AI96+0.4)))),$G$10*$G$11*AJ96*(EXP(-($G$10*(AI96+0.5)))),$G$10*$G$11*AJ96*(EXP(-($G$10*(AI96+0.6)))),$G$10*$G$11*AJ96*(EXP(-($G$10*(AI96+0.7)))),$G$10*$G$11*AJ96*(EXP(-($G$10*(AI96+0.8)))),$G$10*$G$11*AJ96*(EXP(-($G$10*(AI96+0.9)))))/10","v":0},63,0,0,62,0,0,61,0,0,60,0,0,59,0,0,58,0,0,57,0,0,56,0,0,55,0,0,54,0,0,53,0,0,52,0,0,51,0,0,50,0,0,49,0,0,48,0,0,47,0,0,46,0,0,45,0,0,44,0,0,43,0,0,42,0,0,41,0,0,40,0,0,39,0,0,38,0,0,37,0,0,36,0,0,35,0,0,34,0,0,33,0,0,32,0,{"$f":"SUM($G$10*$G$11*EB96*(EXP(-($G$10*EA96))),$G$10*$G$11*EB96*(EXP(-($G$10*(EA96+0.1)))),$G$10*$G$11*EB96*(EXP(-($G$10*(EA96+0.2)))),$G$10*$G$11*EB96*(EXP(-($G$10*(EA96+0.3)))),$G$10*$G$11*EB96*(EXP(-($G$10*(EA96+0.4)))),$G$10*$G$11*EB96*(EXP(-($G$10*(EA96+0.5)))),$G$10*$G$11*EB96*(EXP(-($G$10*(EA96+0.6)))),$G$10*$G$11*EB96*(EXP(-($G$10*(EA96+0.7)))),$G$10*$G$11*EB96*(EXP(-($G$10*(EA96+0.8)))),$G$10*$G$11*EB96*(EXP(-($G$10*(EA96+0.9)))))/10","v":0},31,0,0,30,0,0,29,0,0,28,0,0,27,0,0,26,0,0,25,0,0,24,0,0,23,0,0,22,0,0,21,0,0,20,0,0,19,0,0,18,0,0,17,0,0,16,0,0,15,0,0,14,0,0,13,0,0,12,0,0,11,0,0,10,0,0,9,0,0,8,0,0,7,0,0,6,0,0,5,0,0,4,0,0,3,0,0,2,0,0,1,0,0,0,{"$f":"$E$95","v":0},{"$f":"SUM($G$10*$G$11*HT96*(EXP(-($G$10*HS96))),$G$10*$G$11*HT96*(EXP(-($G$10*(HS96+0.1)))),$G$10*$G$11*HT96*(EXP(-($G$10*(HS96+0.2)))),$G$10*$G$11*HT96*(EXP(-($G$10*(HS96+0.3)))),$G$10*$G$11*HT96*(EXP(-($G$10*(HS96+0.4)))),$G$10*$G$11*HT96*(EXP(-($G$10*(HS96+0.5)))),$G$10*$G$11*HT96*(EXP(-($G$10*(HS96+0.6)))),$G$10*$G$11*HT96*(EXP(-($G$10*(HS96+0.7)))),$G$10*$G$11*HT96*(EXP(-($G$10*(HS96+0.8)))),$G$10*$G$11*HT96*(EXP(-($G$10*(HS96+0.9)))))/10","v":0}]
[null,{"$f":"'USER INPUTS'!J82","v":74},{"$f":"IF(OR(AND(ClosureCalcYes=TRUE,WasteCapacity=\"\"),AND(ClosureCalcYes=FALSE,ClosureYear=\"\")),0,IF('USER INPUTS'!K82>0,IF('USER INPUTS'!$K$4=\"Mg/year\",'USER INPUTS'!K82,'USER INPUTS'!L82),0))","v":0},0,{"$f":"IF(ClosureCalcYes=FALSE,IF(AND(B97<ClosureYear,C97=0,SUM(C97:$C$102)=0),$D$13,IF(B97<=ClosureYear,C97,0)),IF(B97=$D$16,($D$14-F97),IF(B97<$D$16,IF(SUM(C97:$C$102)=0,$D$13,C97),0)))","v":0},0,{"$f":"IF(SUM(C98:$C$101)=0,C97,0)","v":0},0,74,0,73,0,0,72,0,0,71,0,0,70,0,0,69,0,0,68,0,0,67,0,0,66,0,0,65,0,0,64,{"$f":"$E$32","v":0},{"$f":"SUM($G$10*$G$11*AM97*(EXP(-($G$10*AL97))),$G$10*$G$11*AM97*(EXP(-($G$10*(AL97+0.1)))),$G$10*$G$11*AM97*(EXP(-($G$10*(AL97+0.2)))),$G$10*$G$11*AM97*(EXP(-($G$10*(AL97+0.3)))),$G$10*$G$11*AM97*(EXP(-($G$10*(AL97+0.4)))),$G$10*$G$11*AM97*(EXP(-($G$10*(AL97+0.5)))),$G$10*$G$11*AM97*(EXP(-($G$10*(AL97+0.6)))),$G$10*$G$11*AM97*(EXP(-($G$10*(AL97+0.7)))),$G$10*$G$11*AM97*(EXP(-($G$10*(AL97+0.8)))),$G$10*$G$11*AM97*(EXP(-($G$10*(AL97+0.9)))))/10","v":0},63,0,0,62,0,0,61,0,0,60,0,0,59,0,0,58,0,0,57,0,0,56,0,0,55,0,0,54,0,0,53,0,0,52,0,0,51,0,0,50,0,0,49,0,0,48,0,0,47,0,0,46,0,0,45,0,0,44,0,0,43,0,0,42,0,0,41,0,0,40,0,0,39,0,0,38,0,0,37,0,0,36,0,0,35,0,0,34,0,0,33,0,0,32,0,{"$f":"SUM($G$10*$G$11*EE97*(EXP(-($G$10*ED97))),$G$10*$G$11*EE97*(EXP(-($G$10*(ED97+0.1)))),$G$10*$G$11*EE97*(EXP(-($G$10*(ED97+0.2)))),$G$10*$G$11*EE97*(EXP(-($G$10*(ED97+0.3)))),$G$10*$G$11*EE97*(EXP(-($G$10*(ED97+0.4)))),$G$10*$G$11*EE97*(EXP(-($G$10*(ED97+0.5)))),$G$10*$G$11*EE97*(EXP(-($G$10*(ED97+0.6)))),$G$10*$G$11*EE97*(EXP(-($G$10*(ED97+0.7)))),$G$10*$G$11*EE97*(EXP(-($G$10*(ED97+0.8)))),$G$10*$G$11*EE97*(EXP(-($G$10*(ED97+0.9)))))/10","v":0},31,0,0,30,0,0,29,0,0,28,0,0,27,0,0,26,0,0,25,0,0,24,0,0,23,0,0,22,0,0,21,0,0,20,0,0,19,0,0,18,0,0,17,0,0,16,0,0,15,0,0,14,0,0,13,0,0,12,0,0,11,0,0,10,0,0,9,0,0,8,0,0,7,0,0,6,0,0,5,0,0,4,0,0,3,0,0,2,0,0,1,{"$f":"$E$95","v":0},0,0,{"$f":"$E$96","v":0},{"$f":"SUM($G$10*$G$11*HW97*(EXP(-($G$10*HV97))),$G$10*$G$11*HW97*(EXP(-($G$10*(HV97+0.1)))),$G$10*$G$11*HW97*(EXP(-($G$10*(HV97+0.2)))),$G$10*$G$11*HW97*(EXP(-($G$10*(HV97+0.3)))),$G$10*$G$11*HW97*(EXP(-($G$10*(HV97+0.4)))),$G$10*$G$11*HW97*(EXP(-($G$10*(HV97+0.5)))),$G$10*$G$11*HW97*(EXP(-($G$10*(HV97+0.6)))),$G$10*$G$11*HW97*(EXP(-($G$10*(HV97+0.7)))),$G$10*$G$11*HW97*(EXP(-($G$10*(HV97+0.8)))),$G$10*$G$11*HW97*(EXP(-($G$10*(HV97+0.9)))))/10","v":0}]
[null,{"$f":"'USER INPUTS'!J83","v":75},{"$f":"IF(OR(AND(ClosureCalcYes=TRUE,WasteCapacity=\"\"),AND(ClosureCalcYes=FALSE,ClosureYear=\"\")),0,IF('USER INPUTS'!K83>0,IF('USER INPUTS'!$K$4=\"Mg/year\",'USER INPUTS'!K83,'USER INPUTS'!L83),0))","v":0},0,{"$f":"IF(ClosureCalcYes=FALSE,IF(AND(B98<ClosureYear,C98=0,SUM(C98:$C$102)=0),$D$13,IF(B98<=ClosureYear,C98,0)),IF(B98=$D$16,($D$14-F98),IF(B98<$D$16,IF(SUM(C98:$C$102)=0,$D$13,C98),0)))","v":0},0,{"$f":"IF(SUM(C99:$C$101)=0,C98,0)","v":0},0,75,0,74,0,0,73,0,0,72,0,0,71,0,0,70,0,0,69,0,0,68,0,0,67,0,0,66,0,0,65,0,0,64,{"$f":"$E$33","v":0},{"$f":"SUM($G$10*$G$11*AP98*(EXP(-($G$10*AO98))),$G$10*$G$11*AP98*(EXP(-($G$10*(AO98+0.1)))),$G$10*$G$11*AP98*(EXP(-($G$10*(AO98+0.2)))),$G$10*$G$11*AP98*(EXP(-($G$10*(AO98+0.3)))),$G$10*$G$11*AP98*(EXP(-($G$10*(AO98+0.4)))),$G$10*$G$11*AP98*(EXP(-($G$10*(AO98+0.5)))),$G$10*$G$11*AP98*(EXP(-($G$10*(AO98+0.6)))),$G$10*$G$11*AP98*(EXP(-($G$10*(AO98+0.7)))),$G$10*$G$11*AP98*(EXP(-($G$10*(AO98+0.8)))),$G$10*$G$11*AP98*(EXP(-($G$10*(AO98+0.9)))))/10","v":0},63,0,0,62,0,0,61,0,0,60,0,0,59,0,0,58,0,0,57,0,0,56,0,0,55,0,0,54,0,0,53,0,0,52,0,0,51,0,0,50,0,0,49,0,0,48,0,0,47,0,0,46,0,0,45,0,0,44,0,0,43,0,0,42,0,0,41,0,0,40,0,0,39,0,0,38,0,0,37,0,0,36,0,0,35,0,0,34,0,0,33,0,0,32,0,{"$f":"SUM($G$10*$G$11*EH98*(EXP(-($G$10*EG98))),$G$10*$G$11*EH98*(EXP(-($G$10*(EG98+0.1)))),$G$10*$G$11*EH98*(EXP(-($G$10*(EG98+0.2)))),$G$10*$G$11*EH98*(EXP(-($G$10*(EG98+0.3)))),$G$10*$G$11*EH98*(EXP(-($G$10*(EG98+0.4)))),$G$10*$G$11*EH98*(EXP(-($G$10*(EG98+0.5)))),$G$10*$G$11*EH98*(EXP(-($G$10*(EG98+0.6)))),$G$10*$G$11*EH98*(EXP(-($G$10*(EG98+0.7)))),$G$10*$G$11*EH98*(EXP(-($G$10*(EG98+0.8)))),$G$10*$G$11*EH98*(EXP(-($G$10*(EG98+0.9)))))/10","v":0},31,0,0,30,0,0,29,0,0,28,0,0,27,0,0,26,0,0,25,0,0,24,0,0,23,0,0,22,0,0,21,0,0,20,0,0,19,0,0,18,0,0,17,0,0,16,0,0,15,0,0,14,0,0,13,0,0,12,0,0,11,0,0,10,0,0,9,0,0,8,0,0,7,0,0,6,0,0,5,0,0,4,0,0,3,0,0,2,0,0,1,0,0,0,{"$f":"$E$97","v":0},{"$f":"SUM($G$10*$G$11*HZ98*(EXP(-($G$10*HY98))),$G$10*$G$11*HZ98*(EXP(-($G$10*(HY98+0.1)))),$G$10*$G$11*HZ98*(EXP(-($G$10*(HY98+0.2)))),$G$10*$G$11*HZ98*(EXP(-($G$10*(HY98+0.3)))),$G$10*$G$11*HZ98*(EXP(-($G$10*(HY98+0.4)))),$G$10*$G$11*HZ98*(EXP(-($G$10*(HY98+0.5)))),$G$10*$G$11*HZ98*(EXP(-($G$10*(HY98+0.6)))),$G$10*$G$11*HZ98*(EXP(-($G$10*(HY98+0.7)))),$G$10*$G$11*HZ98*(EXP(-($G$10*(HY98+0.8)))),$G$10*$G$11*HZ98*(EXP(-($G$10*(HY98+0.9)))))/10","v":0}]
[null,{"$f":"'USER INPUTS'!J84","v":76},{"$f":"IF(OR(AND(ClosureCalcYes=TRUE,WasteCapacity=\"\"),AND(ClosureCalcYes=FALSE,ClosureYear=\"\")),0,IF('USER INPUTS'!K84>0,IF('USER INPUTS'!$K$4=\"Mg/year\",'USER INPUTS'!K84,'USER INPUTS'!L84),0))","v":0},0,{"$f":"IF(ClosureCalcYes=FALSE,IF(AND(B99<ClosureYear,C99=0,SUM(C99:$C$102)=0),$D$13,IF(B99<=ClosureYear,C99,0)),IF(B99=$D$16,($D$14-F99),IF(B99<$D$16,IF(SUM(C99:$C$102)=0,$D$13,C99),0)))","v":0},0,{"$f":"IF(SUM(C100:$C$101)=0,C99,0)","v":0},0,76,{"$f":"(M99+P99+S99+V99+Y99+AB99+AE99+AH99+AK99+AN99+AQ99+AT99+AW99+AZ99+BC99+BF99+BI99+BL99+BO99+BR99+BU99+BX99+CA99+CD99+CG99+CJ99+CM99+CP99+CS99+CV99+CY99+DB99+DE99+DH99+DK99+DN99+DQ99+DT99+DW99+DZ99+EC99+EF99+EI99+EL99+EO99+ER99+EU99+EX99+FA99+FD99+FG99+FJ99+FM99+FP99+FS99+FV99+FY99+GB99+GE99+GH99+GK99+GN99+GQ99+GT99+GW99+GZ99+HC99+HF99+HI99+HL99+HO99+HR99+HU99+HX99+IA99+ID99+IG99+IJ99+IM99+IP99)","v":0},75,0,0,74,0,0,73,0,0,72,0,0,71,0,0,70,0,0,69,0,0,68,0,0,67,0,0,66,0,0,65,0,0,64,{"$f":"$E$34","v":0},{"$f":"SUM($G$10*$G$11*AS99*(EXP(-($G$10*AR99))),$G$10*$G$11*AS99*(EXP(-($G$10*(AR99+0.1)))),$G$10*$G$11*AS99*(EXP(-($G$10*(AR99+0.2)))),$G$10*$G$11*AS99*(EXP(-($G$10*(AR99+0.3)))),$G$10*$G$11*AS99*(EXP(-($G$10*(AR99+0.4)))),$G$10*$G$11*AS99*(EXP(-($G$10*(AR99+0.5)))),$G$10*$G$11*AS99*(EXP(-($G$10*(AR99+0.6)))),$G$10*$G$11*AS99*(EXP(-($G$10*(AR99+0.7)))),$G$10*$G$11*AS99*(EXP(-($G$10*(AR99+0.8)))),$G$10*$G$11*AS99*(EXP(-($G$10*(AR99+0.9)))))/10","v":0},63,0,0,62,0,0,61,0,0,60,0,0,59,0,0,58,0,0,57,0,0,56,0,0,55,0,0,54,0,0,53,0,0,52,0,0,51,0,0,50,0,0,49,0,0,48,0,0,47,0,0,46,0,0,45,0,0,44,0,0,43,0,0,42,0,0,41,0,0,40,0,0,39,0,0,38,0,0,37,0,0,36,0,0,35,0,0,34,0,0,33,0,0,32,0,{"$f":"SUM($G$10*$G$11*EK99*(EXP(-($G$10*EJ99))),$G$10*$G$11*EK99*(EXP(-($G$10*(EJ99+0.1)))),$G$10*$G$11*EK99*(EXP(-($G$10*(EJ99+0.2)))),$G$10*$G$11*EK99*(EXP(-($G$10*(EJ99+0.3)))),$G$10*$G$11*EK99*(EXP(-($G$10*(EJ99+0.4)))),$G$10*$G$11*EK99*(EXP(-($G$10*(EJ99+0.5)))),$G$10*$G$11*EK99*(EXP(-($G$10*(EJ99+0.6)))),$G$10*$G$11*EK99*(EXP(-($G$10*(EJ99+0.7)))),$G$10*$G$11*EK99*(EXP(-($G$10*(EJ99+0.8)))),$G$10*$G$11*EK99*(EXP(-($G$10*(EJ99+0.9)))))/10","v":0},31,0,0,30,0,0,29,0,0,28,0,0,27,0,0,26,0,0,25,0,0,24,0,0,23,0,0,22,0,0,21,0,0,20,0,0,19,0,0,18,0,0,17,0,0,16,0,0,15,0,0,14,0,0,13,0,0,12,0,0,11,0,0,10,0,0,9,0,0,8,0,0,7,0,0,6,0,0,5,0,0,4,0,0,3,0,0,2,0,0,1,{"$f":"$E$97","v":0},0,0,{"$f":"$E$98","v":0},{"$f":"SUM($G$10*$G$11*IC99*(EXP(-($G$10*IB99))),$G$10*$G$11*IC99*(EXP(-($G$10*(IB99+0.1)))),$G$10*$G$11*IC99*(EXP(-($G$10*(IB99+0.2)))),$G$10*$G$11*IC99*(EXP(-($G$10*(IB99+0.3)))),$G$10*$G$11*IC99*(EXP(-($G$10*(IB99+0.4)))),$G$10*$G$11*IC99*(EXP(-($G$10*(IB99+0.5)))),$G$10*$G$11*IC99*(EXP(-($G$10*(IB99+0.6)))),$G$10*$G$11*IC99*(EXP(-($G$10*(IB99+0.7)))),$G$10*$G$11*IC99*(EXP(-($G$10*(IB99+0.8)))),$G$10*$G$11*IC99*(EXP(-($G$10*(IB99+0.9)))))/10","v":0}]
[null,{"$f":"'USER INPUTS'!J85","v":77},{"$f":"IF(OR(AND(ClosureCalcYes=TRUE,WasteCapacity=\"\"),AND(ClosureCalcYes=FALSE,ClosureYear=\"\")),0,IF('USER INPUTS'!K85>0,IF('USER INPUTS'!$K$4=\"Mg/year\",'USER INPUTS'!K85,'USER INPUTS'!L85),0))","v":0},0,{"$f":"IF(ClosureCalcYes=FALSE,IF(AND(B100<ClosureYear,C100=0,SUM(C100:$C$102)=0),$D$13,IF(B100<=ClosureYear,C100,0)),IF(B100=$D$16,($D$14-F100),IF(B100<$D$16,IF(SUM(C100:$C$102)=0,$D$13,C100),0)))","v":0},0,{"$f":"IF(SUM(C101:$C$101)=0,C100,0)","v":0},0,77,0,76,0,0,{"$f":"IF(N99=\"\",\"\",(N99+1))","v":75},0,0,74,0,0,73,0,0,72,0,0,71,0,0,70,0,0,69,0,0,68,0,0,67,0,0,66,0,0,65,0,0,64,{"$f":"$E$35","v":0},{"$f":"SUM($G$10*$G$11*AV100*(EXP(-($G$10*AU100))),$G$10*$G$11*AV100*(EXP(-($G$10*(AU100+0.1)))),$G$10*$G$11*AV100*(EXP(-($G$10*(AU100+0.2)))),$G$10*$G$11*AV100*(EXP(-($G$10*(AU100+0.3)))),$G$10*$G$11*AV100*(EXP(-($G$10*(AU100+0.4)))),$G$10*$G$11*AV100*(EXP(-($G$10*(AU100+0.5)))),$G$10*$G$11*AV100*(EXP(-($G$10*(AU100+0.6)))),$G$10*$G$11*AV100*(EXP(-($G$10*(AU100+0.7)))),$G$10*$G$11*AV100*(EXP(-($G$10*(AU100+0.8)))),$G$10*$G$11*AV100*(EXP(-($G$10*(AU100+0.9)))))/10","v":0},63,0,0,62,0,0,61,0,0,60,0,0,59,0,0,58,0,0,57,0,0,56,0,0,55,0,0,54,0,0,53,0,0,52,0,0,51,0,0,50,0,0,49,0,0,48,0,0,47,0,0,46,0,0,45,0,0,44,0,0,43,0,0,42,0,0,41,0,0,40,0,0,39,0,0,38,0,0,37,0,0,36,0,0,35,0,0,34,0,0,33,0,0,32,0,{"$f":"SUM($G$10*$G$11*EN100*(EXP(-($G$10*EM100))),$G$10*$G$11*EN100*(EXP(-($G$10*(EM100+0.1)))),$G$10*$G$11*EN100*(EXP(-($G$10*(EM100+0.2)))),$G$10*$G$11*EN100*(EXP(-($G$10*(EM100+0.3)))),$G$10*$G$11*EN100*(EXP(-($G$10*(EM100+0.4)))),$G$10*$G$11*EN100*(EXP(-($G$10*(EM100+0.5)))),$G$10*$G$11*EN100*(EXP(-($G$10*(EM100+0.6)))),$G$10*$G$11*EN100*(EXP(-($G$10*(EM100+0.7)))),$G$10*$G$11*EN100*(EXP(-($G$10*(EM100+0.8)))),$G$10*$G$11*EN100*(EXP(-($G$10*(EM100+0.9)))))/10","v":0},31,0,0,30,0,0,29,0,0,28,0,0,27,0,0,26,0,0,25,0,0,24,0,0,23,0,0,22,0,0,21,0,0,20,0,0,19,0,0,18,0,0,17,0,0,16,0,0,15,0,0,14,0,0,13,0,0,12,0,0,11,0,0,10,0,0,9,0,0,8,0,0,7,0,0,6,0,0,5,0,0,4,0,0,3,0,0,2,0,0,1,{"$f":"$E$98","v":0},0,0,{"$f":"$E$99","v":0},{"$f":"SUM($G$10*$G$11*IF100*(EXP(-($G$10*IE100))),$G$10*$G$11*IF100*(EXP(-($G$10*(IE100+0.1)))),$G$10*$G$11*IF100*(EXP(-($G$10*(IE100+0.2)))),$G$10*$G$11*IF100*(EXP(-($G$10*(IE100+0.3)))),$G$10*$G$11*IF100*(EXP(-($G$10*(IE100+0.4)))),$G$10*$G$11*IF100*(EXP(-($G$10*(IE100+0.5)))),$G$10*$G$11*IF100*(EXP(-($G$10*(IE100+0.6)))),$G$10*$G$11*IF100*(EXP(-($G$10*(IE100+0.7)))),$G$10*$G$11*IF100*(EXP(-($G$10*(IE100+0.8)))),$G$10*$G$11*IF100*(EXP(-($G$10*(IE100+0.9)))))/10","v":0}]
[null,{"$f":"'USER INPUTS'!J86","v":78},{"$f":"IF(OR(AND(ClosureCalcYes=TRUE,WasteCapacity=\"\"),AND(ClosureCalcYes=FALSE,ClosureYear=\"\")),0,IF('USER INPUTS'!K86>0,IF('USER INPUTS'!$K$4=\"Mg/year\",'USER INPUTS'!K86,'USER INPUTS'!L86),0))","v":0},0,{"$f":"IF(ClosureCalcYes=FALSE,IF(AND(B101<ClosureYear,C101=0,SUM(C101:$C$102)=0),$D$13,IF(B101<=ClosureYear,C101,0)),IF(B101=$D$16,($D$14-F101),IF(B101<$D$16,IF(SUM(C101:$C$102)=0,$D$13,C101),0)))","v":0},0,{"$f":"IF(C102=0,C101,0)","v":0},0,78,0,77,0,0,76,0,0,{"$f":"IF(Q100=\"\",\"\",(Q100+1))","v":75},0,0,74,0,0,73,0,0,72,0,0,71,0,0,70,0,0,69,0,0,68,0,0,67,0,0,66,0,0,65,0,0,64,{"$f":"$E$36","v":0},{"$f":"SUM($G$10*$G$11*AY101*(EXP(-($G$10*AX101))),$G$10*$G$11*AY101*(EXP(-($G$10*(AX101+0.1)))),$G$10*$G$11*AY101*(EXP(-($G$10*(AX101+0.2)))),$G$10*$G$11*AY101*(EXP(-($G$10*(AX101+0.3)))),$G$10*$G$11*AY101*(EXP(-($G$10*(AX101+0.4)))),$G$10*$G$11*AY101*(EXP(-($G$10*(AX101+0.5)))),$G$10*$G$11*AY101*(EXP(-($G$10*(AX101+0.6)))),$G$10*$G$11*AY101*(EXP(-($G$10*(AX101+0.7)))),$G$10*$G$11*AY101*(EXP(-($G$10*(AX101+0.8)))),$G$10*$G$11*AY101*(EXP(-($G$10*(AX101+0.9)))))/10","v":0},63,0,0,62,0,0,61,0,0,60,0,0,59,0,0,58,0,0,57,0,0,56,0,0,55,0,0,54,0,0,53,0,0,52,0,0,51,0,0,50,0,0,49,0,0,48,0,0,47,0,0,46,0,0,45,0,0,44,0,0,43,0,0,42,0,0,41,0,0,40,0,0,39,0,0,38,0,0,37,0,0,36,0,0,35,0,0,34,0,0,33,0,0,32,0,{"$f":"SUM($G$10*$G$11*EQ101*(EXP(-($G$10*EP101))),$G$10*$G$11*EQ101*(EXP(-($G$10*(EP101+0.1)))),$G$10*$G$11*EQ101*(EXP(-($G$10*(EP101+0.2)))),$G$10*$G$11*EQ101*(EXP(-($G$10*(EP101+0.3)))),$G$10*$G$11*EQ101*(EXP(-($G$10*(EP101+0.4)))),$G$10*$G$11*EQ101*(EXP(-($G$10*(EP101+0.5)))),$G$10*$G$11*EQ101*(EXP(-($G$10*(EP101+0.6)))),$G$10*$G$11*EQ101*(EXP(-($G$10*(EP101+0.7)))),$G$10*$G$11*EQ101*(EXP(-($G$10*(EP101+0.8)))),$G$10*$G$11*EQ101*(EXP(-($G$10*(EP101+0.9)))))/10","v":0},31,0,0,30,0,0,29,0,0,28,0,0,27,0,0,26,0,0,25,0,0,24,0,0,23,0,0,22,0,0,21,0,0,20,0,0,19,0,0,18,0,0,17,0,0,16,0,0,15,0,0,14,0,0,13,0,0,12,0,0,11,0,0,10,0,0,9,0,0,8,0,0,7,0,0,6,0,0,5,0,0,4,0,0,3,0,0,2,0,0,1,{"$f":"$E$99","v":0},0,0,{"$f":"$E$100","v":0},{"$f":"SUM($G$10*$G$11*II101*(EXP(-($G$10*IH101))),$G$10*$G$11*II101*(EXP(-($G$10*(IH101+0.1)))),$G$10*$G$11*II101*(EXP(-($G$10*(IH101+0.2)))),$G$10*$G$11*II101*(EXP(-($G$10*(IH101+0.3)))),$G$10*$G$11*II101*(EXP(-($G$10*(IH101+0.4)))),$G$10*$G$11*II101*(EXP(-($G$10*(IH101+0.5)))),$G$10*$G$11*II101*(EXP(-($G$10*(IH101+0.6)))),$G$10*$G$11*II101*(EXP(-($G$10*(IH101+0.7)))),$G$10*$G$11*II101*(EXP(-($G$10*(IH101+0.8)))),$G$10*$G$11*II101*(EXP(-($G$10*(IH101+0.9)))))/10","v":0}]
[null,{"$f":"'USER INPUTS'!J87","v":79},{"$f":"IF(OR(AND(ClosureCalcYes=TRUE,WasteCapacity=\"\"),AND(ClosureCalcYes=FALSE,ClosureYear=\"\")),0,IF('USER INPUTS'!K87>0,IF('USER INPUTS'!$K$4=\"Mg/year\",'USER INPUTS'!K87,'USER INPUTS'!L87),0))","v":0},0,{"$f":"IF(ClosureCalcYes=FALSE,IF(AND(B102<ClosureYear,C102=0,SUM(C102:$C$102)=0),$D$13,IF(B102<=ClosureYear,C102,0)),IF(B102=$D$16,($D$14-F102),IF(B102<$D$16,IF(SUM(C102:$C$102)=0,$D$13,C102),0)))","v":0},0,{"$f":"IF(AND(C102=0,SUM(G23:G101)=0),0,C102)","v":0},0,79,0,78,0,0,77,0,0,76,0,0,{"$f":"IF(T101=\"\",\"\",(T101+1))","v":75},0,0,74,0,0,73,0,0,72,0,0,71,0,0,70,0,0,69,0,0,68,0,0,67,0,0,66,0,0,65,0,0,64,{"$f":"$E$37","v":0},{"$f":"SUM($G$10*$G$11*BB102*(EXP(-($G$10*BA102))),$G$10*$G$11*BB102*(EXP(-($G$10*(BA102+0.1)))),$G$10*$G$11*BB102*(EXP(-($G$10*(BA102+0.2)))),$G$10*$G$11*BB102*(EXP(-($G$10*(BA102+0.3)))),$G$10*$G$11*BB102*(EXP(-($G$10*(BA102+0.4)))),$G$10*$G$11*BB102*(EXP(-($G$10*(BA102+0.5)))),$G$10*$G$11*BB102*(EXP(-($G$10*(BA102+0.6)))),$G$10*$G$11*BB102*(EXP(-($G$10*(BA102+0.7)))),$G$10*$G$11*BB102*(EXP(-($G$10*(BA102+0.8)))),$G$10*$G$11*BB102*(EXP(-($G$10*(BA102+0.9)))))/10","v":0},63,0,0,62,0,0,61,0,0,60,0,0,59,0,0,58,0,0,57,0,0,56,0,0,55,0,0,54,0,0,53,0,0,52,0,0,51,0,0,50,0,0,49,0,0,48,0,0,47,0,0,46,0,0,45,0,0,44,0,0,43,0,0,42,0,0,41,0,0,40,0,0,39,0,0,38,0,0,37,0,0,36,0,0,35,0,0,34,0,0,33,0,0,32,0,{"$f":"SUM($G$10*$G$11*ET102*(EXP(-($G$10*ES102))),$G$10*$G$11*ET102*(EXP(-($G$10*(ES102+0.1)))),$G$10*$G$11*ET102*(EXP(-($G$10*(ES102+0.2)))),$G$10*$G$11*ET102*(EXP(-($G$10*(ES102+0.3)))),$G$10*$G$11*ET102*(EXP(-($G$10*(ES102+0.4)))),$G$10*$G$11*ET102*(EXP(-($G$10*(ES102+0.5)))),$G$10*$G$11*ET102*(EXP(-($G$10*(ES102+0.6)))),$G$10*$G$11*ET102*(EXP(-($G$10*(ES102+0.7)))),$G$10*$G$11*ET102*(EXP(-($G$10*(ES102+0.8)))),$G$10*$G$11*ET102*(EXP(-($G$10*(ES102+0.9)))))/10","v":0},31,0,0,30,0,0,29,0,0,28,0,0,27,0,0,26,0,0,25,0,0,24,0,0,23,0,0,22,0,0,21,0,0,20,0,0,19,0,0,18,0,0,17,0,0,16,0,0,15,0,0,14,0,0,13,0,0,12,0,0,11,0,0,10,0,0,9,0,0,8,0,0,7,0,0,6,0,0,5,0,0,4,0,0,3,0,0,2,0,0,1,0,0,0,{"$f":"$E$101","v":0},{"$f":"SUM($G$10*$G$11*IL102*(EXP(-($G$10*IK102))),$G$10*$G$11*IL102*(EXP(-($G$10*(IK102+0.1)))),$G$10*$G$11*IL102*(EXP(-($G$10*(IK102+0.2)))),$G$10*$G$11*IL102*(EXP(-($G$10*(IK102+0.3)))),$G$10*$G$11*IL102*(EXP(-($G$10*(IK102+0.4)))),$G$10*$G$11*IL102*(EXP(-($G$10*(IK102+0.5)))),$G$10*$G$11*IL102*(EXP(-($G$10*(IK102+0.6)))),$G$10*$G$11*IL102*(EXP(-($G$10*(IK102+0.7)))),$G$10*$G$11*IL102*(EXP(-($G$10*(IK102+0.8)))),$G$10*$G$11*IL102*(EXP(-($G$10*(IK102+0.9)))))/10","v":0}]
[null,null,null,null,null,null,null,null,80,0,79,0,0,78,0,0,77,0,0,76,0,0,{"$f":"IF(W102=\"\",\"\",(W102+1))","v":75},0,0,74,0,0,73,0,0,72,0,0,71,0,0,70,0,0,69,0,0,68,0,0,67,0,0,66,0,0,65,0,0,64,{"$f":"$E$38","v":0},{"$f":"SUM($G$10*$G$11*BE103*(EXP(-($G$10*BD103))),$G$10*$G$11*BE103*(EXP(-($G$10*(BD103+0.1)))),$G$10*$G$11*BE103*(EXP(-($G$10*(BD103+0.2)))),$G$10*$G$11*BE103*(EXP(-($G$10*(BD103+0.3)))),$G$10*$G$11*BE103*(EXP(-($G$10*(BD103+0.4)))),$G$10*$G$11*BE103*(EXP(-($G$10*(BD103+0.5)))),$G$10*$G$11*BE103*(EXP(-($G$10*(BD103+0.6)))),$G$10*$G$11*BE103*(EXP(-($G$10*(BD103+0.7)))),$G$10*$G$11*BE103*(EXP(-($G$10*(BD103+0.8)))),$G$10*$G$11*BE103*(EXP(-($G$10*(BD103+0.9)))))/10","v":0},63,0,0,62,0,0,61,0,0,60,0,0,59,0,0,58,0,0,57,0,0,56,0,0,55,0,0,54,0,0,53,0,0,52,0,0,51,0,0,50,0,0,49,0,0,48,0,0,47,0,0,46,0,0,45,0,0,44,0,0,43,0,0,42,0,0,41,0,0,40,0,0,39,0,0,38,0,0,37,0,0,36,0,0,35,0,0,34,0,0,33,0,0,32,0,{"$f":"SUM($G$10*$G$11*EW103*(EXP(-($G$10*EV103))),$G$10*$G$11*EW103*(EXP(-($G$10*(EV103+0.1)))),$G$10*$G$11*EW103*(EXP(-($G$10*(EV103+0.2)))),$G$10*$G$11*EW103*(EXP(-($G$10*(EV103+0.3)))),$G$10*$G$11*EW103*(EXP(-($G$10*(EV103+0.4)))),$G$10*$G$11*EW103*(EXP(-($G$10*(EV103+0.5)))),$G$10*$G$11*EW103*(EXP(-($G$10*(EV103+0.6)))),$G$10*$G$11*EW103*(EXP(-($G$10*(EV103+0.7)))),$G$10*$G$11*EW103*(EXP(-($G$10*(EV103+0.8)))),$G$10*$G$11*EW103*(EXP(-($G$10*(EV103+0.9)))))/10","v":0},31,0,0,30,0,0,29,0,0,28,0,0,27,0,0,26,0,0,25,0,0,24,0,0,23,0,0,22,0,0,21,0,0,20,0,0,19,0,0,18,0,0,17,0,0,16,0,0,15,0,0,14,0,0,13,0,0,12,0,0,11,0,0,10,0,0,9,0,0,8,0,0,7,0,0,6,0,0,5,0,0,4,0,0,3,0,0,2,0,0,1,{"$f":"$E$101","v":0},0,0,{"$f":"$E$102","v":0},{"$f":"SUM($G$10*$G$11*IO103*(EXP(-($G$10*IN103))),$G$10*$G$11*IO103*(EXP(-($G$10*(IN103+0.1)))),$G$10*$G$11*IO103*(EXP(-($G$10*(IN103+0.2)))),$G$10*$G$11*IO103*(EXP(-($G$10*(IN103+0.3)))),$G$10*$G$11*IO103*(EXP(-($G$10*(IN103+0.4)))),$G$10*$G$11*IO103*(EXP(-($G$10*(IN103+0.5)))),$G$10*$G$11*IO103*(EXP(-($G$10*(IN103+0.6)))),$G$10*$G$11*IO103*(EXP(-($G$10*(IN103+0.7)))),$G$10*$G$11*IO103*(EXP(-($G$10*(IN103+0.8)))),$G$10*$G$11*IO103*(EXP(-($G$10*(IN103+0.9)))))/10","v":0}]
[null,null,null,null,null,null,null,null,81,0,80,0,0,79,0,0,78,0,0,77,0,0,76,0,0,{"$f":"IF(Z103=\"\",\"\",(Z103+1))","v":75},0,0,74,0,0,73,0,0,72,0,0,71,0,0,70,0,0,69,0,0,68,0,0,67,0,0,66,0,0,65,0,0,64,{"$f":"$E$39","v":0},{"$f":"SUM($G$10*$G$11*BH104*(EXP(-($G$10*BG104))),$G$10*$G$11*BH104*(EXP(-($G$10*(BG104+0.1)))),$G$10*$G$11*BH104*(EXP(-($G$10*(BG104+0.2)))),$G$10*$G$11*BH104*(EXP(-($G$10*(BG104+0.3)))),$G$10*$G$11*BH104*(EXP(-($G$10*(BG104+0.4)))),$G$10*$G$11*BH104*(EXP(-($G$10*(BG104+0.5)))),$G$10*$G$11*BH104*(EXP(-($G$10*(BG104+0.6)))),$G$10*$G$11*BH104*(EXP(-($G$10*(BG104+0.7)))),$G$10*$G$11*BH104*(EXP(-($G$10*(BG104+0.8)))),$G$10*$G$11*BH104*(EXP(-($G$10*(BG104+0.9)))))/10","v":0},63,0,0,62,0,0,61,0,0,60,0,0,59,0,0,58,0,0,57,0,0,56,0,0,55,0,0,54,0,0,53,0,0,52,0,0,51,0,0,50,0,0,49,0,0,48,0,0,47,0,0,46,0,0,45,0,0,44,0,0,43,0,0,42,0,0,41,0,0,40,0,0,39,0,0,38,0,0,37,0,0,36,0,0,35,0,0,34,0,0,33,0,0,32,0,{"$f":"SUM($G$10*$G$11*EZ104*(EXP(-($G$10*EY104))),$G$10*$G$11*EZ104*(EXP(-($G$10*(EY104+0.1)))),$G$10*$G$11*EZ104*(EXP(-($G$10*(EY104+0.2)))),$G$10*$G$11*EZ104*(EXP(-($G$10*(EY104+0.3)))),$G$10*$G$11*EZ104*(EXP(-($G$10*(EY104+0.4)))),$G$10*$G$11*EZ104*(EXP(-($G$10*(EY104+0.5)))),$G$10*$G$11*EZ104*(EXP(-($G$10*(EY104+0.6)))),$G$10*$G$11*EZ104*(EXP(-($G$10*(EY104+0.7)))),$G$10*$G$11*EZ104*(EXP(-($G$10*(EY104+0.8)))),$G$10*$G$11*EZ104*(EXP(-($G$10*(EY104+0.9)))))/10","v":0},31,0,0,30,0,0,29,0,0,28,0,0,27,0,0,26,0,0,25,0,0,24,0,0,23,0,0,22,0,0,21,0,0,20,0,0,19,0,0,18,0,0,17,0,0,16,0,0,15,0,0,14,0,0,13,0,0,12,0,0,11,0,0,10,0,0,9,0,0,8,0,0,7,0,0,6,0,0,5,0,0,4,0,0,3,0,0,2,0,0,1,0,0]
[null,null,null,null,null,null,null,null,82,0,81,0,0,80,0,0,79,0,0,78,0,0,77,0,0,76,0,0,{"$f":"IF(AC104=\"\",\"\",(AC104+1))","v":75},0,0,74,0,0,73,0,0,72,0,0,71,0,0,70,0,0,69,0,0,68,0,0,67,0,0,66,0,0,65,0,0,64,{"$f":"$E$40","v":0},{"$f":"SUM($G$10*$G$11*BK105*(EXP(-($G$10*BJ105))),$G$10*$G$11*BK105*(EXP(-($G$10*(BJ105+0.1)))),$G$10*$G$11*BK105*(EXP(-($G$10*(BJ105+0.2)))),$G$10*$G$11*BK105*(EXP(-($G$10*(BJ105+0.3)))),$G$10*$G$11*BK105*(EXP(-($G$10*(BJ105+0.4)))),$G$10*$G$11*BK105*(EXP(-($G$10*(BJ105+0.5)))),$G$10*$G$11*BK105*(EXP(-($G$10*(BJ105+0.6)))),$G$10*$G$11*BK105*(EXP(-($G$10*(BJ105+0.7)))),$G$10*$G$11*BK105*(EXP(-($G$10*(BJ105+0.8)))),$G$10*$G$11*BK105*(EXP(-($G$10*(BJ105+0.9)))))/10","v":0},63,0,0,62,0,0,61,0,0,60,0,0,59,0,0,58,0,0,57,0,0,56,0,0,55,0,0,54,0,0,53,0,0,52,0,0,51,0,0,50,0,0,49,0,0,48,0,0,47,0,0,46,0,0,45,0,0,44,0,0,43,0,0,42,0,0,41,0,0,40,0,0,39,0,0,38,0,0,37,0,0,36,0,0,35,0,0,34,0,0,33,0,0,32,0,{"$f":"SUM($G$10*$G$11*FC105*(EXP(-($G$10*FB105))),$G$10*$G$11*FC105*(EXP(-($G$10*(FB105+0.1)))),$G$10*$G$11*FC105*(EXP(-($G$10*(FB105+0.2)))),$G$10*$G$11*FC105*(EXP(-($G$10*(FB105+0.3)))),$G$10*$G$11*FC105*(EXP(-($G$10*(FB105+0.4)))),$G$10*$G$11*FC105*(EXP(-($G$10*(FB105+0.5)))),$G$10*$G$11*FC105*(EXP(-($G$10*(FB105+0.6)))),$G$10*$G$11*FC105*(EXP(-($G$10*(FB105+0.7)))),$G$10*$G$11*FC105*(EXP(-($G$10*(FB105+0.8)))),$G$10*$G$11*FC105*(EXP(-($G$10*(FB105+0.9)))))/10","v":0},31,0,0,30,0,0,29,0,0,28,0,0,27,0,0,26,0,0,25,0,0,24,0,0,23,0,0,22,0,0,21,0,0,20,0,0,19,0,0,18,0,0,17,0,0,16,0,0,15,0,0,14,0,0,13,0,0,12,0,0,11,0,0,10,0,0,9,0,0,8,0,0,7,0,0,6,0,0,5,0,0,4,0,0,3,0,0,2,0,0]
[null,null,null,null,null,null,null,null,83,0,82,0,0,81,0,0,80,0,0,79,0,0,78,0,0,77,0,0,76,0,0,{"$f":"IF(AF105=\"\",\"\",(AF105+1))","v":75},0,0,74,0,0,73,0,0,72,0,0,71,0,0,70,0,0,69,0,0,68,0,0,67,0,0,66,0,0,65,0,0,64,{"$f":"$E$41","v":0},{"$f":"SUM($G$10*$G$11*BN106*(EXP(-($G$10*BM106))),$G$10*$G$11*BN106*(EXP(-($G$10*(BM106+0.1)))),$G$10*$G$11*BN106*(EXP(-($G$10*(BM106+0.2)))),$G$10*$G$11*BN106*(EXP(-($G$10*(BM106+0.3)))),$G$10*$G$11*BN106*(EXP(-($G$10*(BM106+0.4)))),$G$10*$G$11*BN106*(EXP(-($G$10*(BM106+0.5)))),$G$10*$G$11*BN106*(EXP(-($G$10*(BM106+0.6)))),$G$10*$G$11*BN106*(EXP(-($G$10*(BM106+0.7)))),$G$10*$G$11*BN106*(EXP(-($G$10*(BM106+0.8)))),$G$10*$G$11*BN106*(EXP(-($G$10*(BM106+0.9)))))/10","v":0},63,0,0,62,0,0,61,0,0,60,0,0,59,0,0,58,0,0,57,0,0,56,0,0,55,0,0,54,0,0,53,0,0,52,0,0,51,0,0,50,0,0,49,0,0,48,0,0,47,0,0,46,0,0,45,0,0,44,0,0,43,0,0,42,0,0,41,0,0,40,0,0,39,0,0,38,0,0,37,0,0,36,0,0,35,0,0,34,0,0,33,0,0,32,0,{"$f":"SUM($G$10*$G$11*FF106*(EXP(-($G$10*FE106))),$G$10*$G$11*FF106*(EXP(-($G$10*(FE106+0.1)))),$G$10*$G$11*FF106*(EXP(-($G$10*(FE106+0.2)))),$G$10*$G$11*FF106*(EXP(-($G$10*(FE106+0.3)))),$G$10*$G$11*FF106*(EXP(-($G$10*(FE106+0.4)))),$G$10*$G$11*FF106*(EXP(-($G$10*(FE106+0.5)))),$G$10*$G$11*FF106*(EXP(-($G$10*(FE106+0.6)))),$G$10*$G$11*FF106*(EXP(-($G$10*(FE106+0.7)))),$G$10*$G$11*FF106*(EXP(-($G$10*(FE106+0.8)))),$G$10*$G$11*FF106*(EXP(-($G$10*(FE106+0.9)))))/10","v":0},31,0,0,30,0,0,29,0,0,28,0,0,27,0,0,26,0,0,25,0,0,24,0,0,23,0,0,22,0,0,21,0,0,20,0,0,19,0,0,18,0,0,17,0,0,16,0,0,15,0,0,14,0,0,13,0,0,12,0,0,11,0,0,10,0,0,9,0,0,8,0,0,7,0,0,6,0,0,5,0,0,4,0,0,3,0,0]
[null,null,null,null,null,null,null,null,84,0,83,0,0,82,0,0,81,0,0,80,0,0,79,0,0,78,0,0,77,0,0,76,0,0,{"$f":"IF(AI106=\"\",\"\",(AI106+1))","v":75},0,0,74,0,0,73,0,0,72,0,0,71,0,0,70,0,0,69,0,0,68,0,0,67,0,0,66,0,0,65,0,0,64,{"$f":"$E$42","v":0},{"$f":"SUM($G$10*$G$11*BQ107*(EXP(-($G$10*BP107))),$G$10*$G$11*BQ107*(EXP(-($G$10*(BP107+0.1)))),$G$10*$G$11*BQ107*(EXP(-($G$10*(BP107+0.2)))),$G$10*$G$11*BQ107*(EXP(-($G$10*(BP107+0.3)))),$G$10*$G$11*BQ107*(EXP(-($G$10*(BP107+0.4)))),$G$10*$G$11*BQ107*(EXP(-($G$10*(BP107+0.5)))),$G$10*$G$11*BQ107*(EXP(-($G$10*(BP107+0.6)))),$G$10*$G$11*BQ107*(EXP(-($G$10*(BP107+0.7)))),$G$10*$G$11*BQ107*(EXP(-($G$10*(BP107+0.8)))),$G$10*$G$11*BQ107*(EXP(-($G$10*(BP107+0.9)))))/10","v":0},63,0,0,62,0,0,61,0,0,60,0,0,59,0,0,58,0,0,57,0,0,56,0,0,55,0,0,54,0,0,53,0,0,52,0,0,51,0,0,50,0,0,49,0,0,48,0,0,47,0,0,46,0,0,45,0,0,44,0,0,43,0,0,42,0,0,41,0,0,40,0,0,39,0,0,38,0,0,37,0,0,36,0,0,35,0,0,34,0,0,33,0,0,32,0,{"$f":"SUM($G$10*$G$11*FI107*(EXP(-($G$10*FH107))),$G$10*$G$11*FI107*(EXP(-($G$10*(FH107+0.1)))),$G$10*$G$11*FI107*(EXP(-($G$10*(FH107+0.2)))),$G$10*$G$11*FI107*(EXP(-($G$10*(FH107+0.3)))),$G$10*$G$11*FI107*(EXP(-($G$10*(FH107+0.4)))),$G$10*$G$11*FI107*(EXP(-($G$10*(FH107+0.5)))),$G$10*$G$11*FI107*(EXP(-($G$10*(FH107+0.6)))),$G$10*$G$11*FI107*(EXP(-($G$10*(FH107+0.7)))),$G$10*$G$11*FI107*(EXP(-($G$10*(FH107+0.8)))),$G$10*$G$11*FI107*(EXP(-($G$10*(FH107+0.9)))))/10","v":0},31,0,0,30,0,0,29,0,0,28,0,0,27,0,0,26,0,0,25,0,0,24,0,0,23,0,0,22,0,0,21,0,0,20,0,0,19,0,0,18,0,0,17,0,0,16,0,0,15,0,0,14,0,0,13,0,0,12,0,0,11,0,0,10,0,0,9,0,0,8,0,0,7,0,0,6,0,0,5,0,0,4,0,0]
[null,null,null,null,null,null,null,null,85,0,84,0,0,83,0,0,82,0,0,81,0,0,80,0,0,79,0,0,78,0,0,77,0,0,76,0,0,{"$f":"IF(AL107=\"\",\"\",(AL107+1))","v":75},0,0,74,0,0,73,0,0,72,0,0,71,0,0,70,0,0,69,0,0,68,0,0,67,0,0,66,0,0,65,0,0,64,{"$f":"$E$43","v":0},{"$f":"SUM($G$10*$G$11*BT108*(EXP(-($G$10*BS108))),$G$10*$G$11*BT108*(EXP(-($G$10*(BS108+0.1)))),$G$10*$G$11*BT108*(EXP(-($G$10*(BS108+0.2)))),$G$10*$G$11*BT108*(EXP(-($G$10*(BS108+0.3)))),$G$10*$G$11*BT108*(EXP(-($G$10*(BS108+0.4)))),$G$10*$G$11*BT108*(EXP(-($G$10*(BS108+0.5)))),$G$10*$G$11*BT108*(EXP(-($G$10*(BS108+0.6)))),$G$10*$G$11*BT108*(EXP(-($G$10*(BS108+0.7)))),$G$10*$G$11*BT108*(EXP(-($G$10*(BS108+0.8)))),$G$10*$G$11*BT108*(EXP(-($G$10*(BS108+0.9)))))/10","v":0},63,0,0,62,0,0,61,0,0,60,0,0,59,0,0,58,0,0,57,0,0,56,0,0,55,0,0,54,0,0,53,0,0,52,0,0,51,0,0,50,0,0,49,0,0,48,0,0,47,0,0,46,0,0,45,0,0,44,0,0,43,0,0,42,0,0,41,0,0,40,0,0,39,0,0,38,0,0,37,0,0,36,0,0,35,0,0,34,0,0,33,0,0,32,0,{"$f":"SUM($G$10*$G$11*FL108*(EXP(-($G$10*FK108))),$G$10*$G$11*FL108*(EXP(-($G$10*(FK108+0.1)))),$G$10*$G$11*FL108*(EXP(-($G$10*(FK108+0.2)))),$G$10*$G$11*FL108*(EXP(-($G$10*(FK108+0.3)))),$G$10*$G$11*FL108*(EXP(-($G$10*(FK108+0.4)))),$G$10*$G$11*FL108*(EXP(-($G$10*(FK108+0.5)))),$G$10*$G$11*FL108*(EXP(-($G$10*(FK108+0.6)))),$G$10*$G$11*FL108*(EXP(-($G$10*(FK108+0.7)))),$G$10*$G$11*FL108*(EXP(-($G$10*(FK108+0.8)))),$G$10*$G$11*FL108*(EXP(-($G$10*(FK108+0.9)))))/10","v":0},31,0,0,30,0,0,29,0,0,28,0,0,27,0,0,26,0,0,25,0,0,24,0,0,23,0,0,22,0,0,21,0,0,20,0,0,19,0,0,18,0,0,17,0,0,16,0,0,15,0,0,14,0,0,13,0,0,12,0,0,11,0,0,10,0,0,9,0,0,8,0,0,7,0,0,6,0,0,5,0,0]
[null,null,null,null,null,null,null,null,86,0,85,0,0,84,0,0,83,0,0,82,0,0,81,0,0,80,0,0,79,0,0,78,0,0,77,0,0,76,0,0,{"$f":"IF(AO108=\"\",\"\",(AO108+1))","v":75},0,0,74,0,0,73,0,0,72,0,0,71,0,0,70,0,0,69,0,0,68,0,0,67,0,0,66,0,0,65,0,0,64,{"$f":"$E$44","v":0},{"$f":"SUM($G$10*$G$11*BW109*(EXP(-($G$10*BV109))),$G$10*$G$11*BW109*(EXP(-($G$10*(BV109+0.1)))),$G$10*$G$11*BW109*(EXP(-($G$10*(BV109+0.2)))),$G$10*$G$11*BW109*(EXP(-($G$10*(BV109+0.3)))),$G$10*$G$11*BW109*(EXP(-($G$10*(BV109+0.4)))),$G$10*$G$11*BW109*(EXP(-($G$10*(BV109+0.5)))),$G$10*$G$11*BW109*(EXP(-($G$10*(BV109+0.6)))),$G$10*$G$11*BW109*(EXP(-($G$10*(BV109+0.7)))),$G$10*$G$11*BW109*(EXP(-($G$10*(BV109+0.8)))),$G$10*$G$11*BW109*(EXP(-($G$10*(BV109+0.9)))))/10","v":0},63,0,0,62,0,0,61,0,0,60,0,0,59,0,0,58,0,0,57,0,0,56,0,0,55,0,0,54,0,0,53,0,0,52,0,0,51,0,0,50,0,0,49,0,0,48,0,0,47,0,0,46,0,0,45,0,0,44,0,0,43,0,0,42,0,0,41,0,0,40,0,0,39,0,0,38,0,0,37,0,0,36,0,0,35,0,0,34,0,0,33,0,0,32,0,{"$f":"SUM($G$10*$G$11*FO109*(EXP(-($G$10*FN109))),$G$10*$G$11*FO109*(EXP(-($G$10*(FN109+0.1)))),$G$10*$G$11*FO109*(EXP(-($G$10*(FN109+0.2)))),$G$10*$G$11*FO109*(EXP(-($G$10*(FN109+0.3)))),$G$10*$G$11*FO109*(EXP(-($G$10*(FN109+0.4)))),$G$10*$G$11*FO109*(EXP(-($G$10*(FN109+0.5)))),$G$10*$G$11*FO109*(EXP(-($G$10*(FN109+0.6)))),$G$10*$G$11*FO109*(EXP(-($G$10*(FN109+0.7)))),$G$10*$G$11*FO109*(EXP(-($G$10*(FN109+0.8)))),$G$10*$G$11*FO109*(EXP(-($G$10*(FN109+0.9)))))/10","v":0},31,0,0,30,0,0,29,0,0,28,0,0,27,0,0,26,0,0,25,0,0,24,0,0,23,0,0,22,0,0,21,0,0,20,0,0,19,0,0,18,0,0,17,0,0,16,0,0,15,0,0,14,0,0,13,0,0,12,0,0,11,0,0,10,0,0,9,0,0,8,0,0,7,0,0,6,0,0]
[null,null,null,null,null,null,null,null,87,0,86,0,0,85,0,0,84,0,0,83,0,0,82,0,0,81,0,0,80,0,0,79,0,0,78,0,0,77,0,0,76,0,0,{"$f":"IF(AR109=\"\",\"\",(AR109+1))","v":75},0,0,74,0,0,73,0,0,72,0,0,71,0,0,70,0,0,69,0,0,68,0,0,67,0,0,66,0,0,65,0,0,64,{"$f":"$E$45","v":0},{"$f":"SUM($G$10*$G$11*BZ110*(EXP(-($G$10*BY110))),$G$10*$G$11*BZ110*(EXP(-($G$10*(BY110+0.1)))),$G$10*$G$11*BZ110*(EXP(-($G$10*(BY110+0.2)))),$G$10*$G$11*BZ110*(EXP(-($G$10*(BY110+0.3)))),$G$10*$G$11*BZ110*(EXP(-($G$10*(BY110+0.4)))),$G$10*$G$11*BZ110*(EXP(-($G$10*(BY110+0.5)))),$G$10*$G$11*BZ110*(EXP(-($G$10*(BY110+0.6)))),$G$10*$G$11*BZ110*(EXP(-($G$10*(BY110+0.7)))),$G$10*$G$11*BZ110*(EXP(-($G$10*(BY110+0.8)))),$G$10*$G$11*BZ110*(EXP(-($G$10*(BY110+0.9)))))/10","v":0},63,0,0,62,0,0,61,0,0,60,0,0,59,0,0,58,0,0,57,0,0,56,0,0,55,0,0,54,0,0,53,0,0,52,0,0,51,0,0,50,0,0,49,0,0,48,0,0,47,0,0,46,0,0,45,0,0,44,0,0,43,0,0,42,0,0,41,0,0,40,0,0,39,0,0,38,0,0,37,0,0,36,0,0,35,0,0,34,0,0,33,0,0,32,0,{"$f":"SUM($G$10*$G$11*FR110*(EXP(-($G$10*FQ110))),$G$10*$G$11*FR110*(EXP(-($G$10*(FQ110+0.1)))),$G$10*$G$11*FR110*(EXP(-($G$10*(FQ110+0.2)))),$G$10*$G$11*FR110*(EXP(-($G$10*(FQ110+0.3)))),$G$10*$G$11*FR110*(EXP(-($G$10*(FQ110+0.4)))),$G$10*$G$11*FR110*(EXP(-($G$10*(FQ110+0.5)))),$G$10*$G$11*FR110*(EXP(-($G$10*(FQ110+0.6)))),$G$10*$G$11*FR110*(EXP(-($G$10*(FQ110+0.7)))),$G$10*$G$11*FR110*(EXP(-($G$10*(FQ110+0.8)))),$G$10*$G$11*FR110*(EXP(-($G$10*(FQ110+0.9)))))/10","v":0},31,0,0,30,0,0,29,0,0,28,0,0,27,0,0,26,0,0,25,0,0,24,0,0,23,0,0,22,0,0,21,0,0,20,0,0,19,0,0,18,0,0,17,0,0,16,0,0,15,0,0,14,0,0,13,0,0,12,0,0,11,0,0,10,0,0,9,0,0,8,0,0,7,0,0]
[null,null,null,null,null,null,null,null,88,0,87,0,0,86,0,0,85,0,0,84,0,0,83,0,0,82,0,0,81,0,0,80,0,0,79,0,0,78,0,0,77,0,0,76,0,0,{"$f":"IF(AU110=\"\",\"\",(AU110+1))","v":75},0,0,74,0,0,73,0,0,72,0,0,71,0,0,70,0,0,69,0,0,68,0,0,67,0,0,66,0,0,65,0,0,64,{"$f":"$E$46","v":0},{"$f":"SUM($G$10*$G$11*CC111*(EXP(-($G$10*CB111))),$G$10*$G$11*CC111*(EXP(-($G$10*(CB111+0.1)))),$G$10*$G$11*CC111*(EXP(-($G$10*(CB111+0.2)))),$G$10*$G$11*CC111*(EXP(-($G$10*(CB111+0.3)))),$G$10*$G$11*CC111*(EXP(-($G$10*(CB111+0.4)))),$G$10*$G$11*CC111*(EXP(-($G$10*(CB111+0.5)))),$G$10*$G$11*CC111*(EXP(-($G$10*(CB111+0.6)))),$G$10*$G$11*CC111*(EXP(-($G$10*(CB111+0.7)))),$G$10*$G$11*CC111*(EXP(-($G$10*(CB111+0.8)))),$G$10*$G$11*CC111*(EXP(-($G$10*(CB111+0.9)))))/10","v":0},63,0,0,62,0,0,61,0,0,60,0,0,59,0,0,58,0,0,57,0,0,56,0,0,55,0,0,54,0,0,53,0,0,52,0,0,51,0,0,50,0,0,49,0,0,48,0,0,47,0,0,46,0,0,45,0,0,44,0,0,43,0,0,42,0,0,41,0,0,40,0,0,39,0,0,38,0,0,37,0,0,36,0,0,35,0,0,34,0,0,33,0,0,32,0,{"$f":"SUM($G$10*$G$11*FU111*(EXP(-($G$10*FT111))),$G$10*$G$11*FU111*(EXP(-($G$10*(FT111+0.1)))),$G$10*$G$11*FU111*(EXP(-($G$10*(FT111+0.2)))),$G$10*$G$11*FU111*(EXP(-($G$10*(FT111+0.3)))),$G$10*$G$11*FU111*(EXP(-($G$10*(FT111+0.4)))),$G$10*$G$11*FU111*(EXP(-($G$10*(FT111+0.5)))),$G$10*$G$11*FU111*(EXP(-($G$10*(FT111+0.6)))),$G$10*$G$11*FU111*(EXP(-($G$10*(FT111+0.7)))),$G$10*$G$11*FU111*(EXP(-($G$10*(FT111+0.8)))),$G$10*$G$11*FU111*(EXP(-($G$10*(FT111+0.9)))))/10","v":0},31,0,0,30,0,0,29,0,0,28,0,0,27,0,0,26,0,0,25,0,0,24,0,0,23,0,0,22,0,0,21,0,0,20,0,0,19,0,0,18,0,0,17,0,0,16,0,0,15,0,0,14,0,0,13,0,0,12,0,0,11,0,0,10,0,0,9,0,0,8,0,0]
[null,null,null,null,null,null,null,null,89,0,88,0,0,87,0,0,86,0,0,85,0,0,84,0,0,83,0,0,82,0,0,81,0,0,80,0,0,79,0,0,78,0,0,77,0,0,76,0,0,{"$f":"IF(AX111=\"\",\"\",(AX111+1))","v":75},0,0,74,0,0,73,0,0,72,0,0,71,0,0,70,0,0,69,0,0,68,0,0,67,0,0,66,0,0,65,0,0,64,{"$f":"$E$47","v":0},{"$f":"SUM($G$10*$G$11*CF112*(EXP(-($G$10*CE112))),$G$10*$G$11*CF112*(EXP(-($G$10*(CE112+0.1)))),$G$10*$G$11*CF112*(EXP(-($G$10*(CE112+0.2)))),$G$10*$G$11*CF112*(EXP(-($G$10*(CE112+0.3)))),$G$10*$G$11*CF112*(EXP(-($G$10*(CE112+0.4)))),$G$10*$G$11*CF112*(EXP(-($G$10*(CE112+0.5)))),$G$10*$G$11*CF112*(EXP(-($G$10*(CE112+0.6)))),$G$10*$G$11*CF112*(EXP(-($G$10*(CE112+0.7)))),$G$10*$G$11*CF112*(EXP(-($G$10*(CE112+0.8)))),$G$10*$G$11*CF112*(EXP(-($G$10*(CE112+0.9)))))/10","v":0},63,0,0,62,0,0,61,0,0,60,0,0,59,0,0,58,0,0,57,0,0,56,0,0,55,0,0,54,0,0,53,0,0,52,0,0,51,0,0,50,0,0,49,0,0,48,0,0,47,0,0,46,0,0,45,0,0,44,0,0,43,0,0,42,0,0,41,0,0,40,0,0,39,0,0,38,0,0,37,0,0,36,0,0,35,0,0,34,0,0,33,0,0,32,0,{"$f":"SUM($G$10*$G$11*FX112*(EXP(-($G$10*FW112))),$G$10*$G$11*FX112*(EXP(-($G$10*(FW112+0.1)))),$G$10*$G$11*FX112*(EXP(-($G$10*(FW112+0.2)))),$G$10*$G$11*FX112*(EXP(-($G$10*(FW112+0.3)))),$G$10*$G$11*FX112*(EXP(-($G$10*(FW112+0.4)))),$G$10*$G$11*FX112*(EXP(-($G$10*(FW112+0.5)))),$G$10*$G$11*FX112*(EXP(-($G$10*(FW112+0.6)))),$G$10*$G$11*FX112*(EXP(-($G$10*(FW112+0.7)))),$G$10*$G$11*FX112*(EXP(-($G$10*(FW112+0.8)))),$G$10*$G$11*FX112*(EXP(-($G$10*(FW112+0.9)))))/10","v":0},31,0,0,30,0,0,29,0,0,28,0,0,27,0,0,26,0,0,25,0,0,24,0,0,23,0,0,22,0,0,21,0,0,20,0,0,19,0,0,18,0,0,17,0,0,16,0,0,15,0,0,14,0,0,13,0,0,12,0,0,11,0,0,10,0,0,9,0,0]
[null,null,null,null,null,null,null,null,90,0,89,0,0,88,0,0,87,0,0,86,0,0,85,0,0,84,0,0,83,0,0,82,0,0,81,0,0,80,0,0,79,0,0,78,0,0,77,0,0,76,0,0,{"$f":"IF(BA112=\"\",\"\",(BA112+1))","v":75},0,0,74,0,0,73,0,0,72,0,0,71,0,0,70,0,0,69,0,0,68,0,0,67,0,0,66,0,0,65,0,0,64,{"$f":"$E$48","v":0},{"$f":"SUM($G$10*$G$11*CI113*(EXP(-($G$10*CH113))),$G$10*$G$11*CI113*(EXP(-($G$10*(CH113+0.1)))),$G$10*$G$11*CI113*(EXP(-($G$10*(CH113+0.2)))),$G$10*$G$11*CI113*(EXP(-($G$10*(CH113+0.3)))),$G$10*$G$11*CI113*(EXP(-($G$10*(CH113+0.4)))),$G$10*$G$11*CI113*(EXP(-($G$10*(CH113+0.5)))),$G$10*$G$11*CI113*(EXP(-($G$10*(CH113+0.6)))),$G$10*$G$11*CI113*(EXP(-($G$10*(CH113+0.7)))),$G$10*$G$11*CI113*(EXP(-($G$10*(CH113+0.8)))),$G$10*$G$11*CI113*(EXP(-($G$10*(CH113+0.9)))))/10","v":0},63,0,0,62,0,0,61,0,0,60,0,0,59,0,0,58,0,0,57,0,0,56,0,0,55,0,0,54,0,0,53,0,0,52,0,0,51,0,0,50,0,0,49,0,0,48,0,0,47,0,0,46,0,0,45,0,0,44,0,0,43,0,0,42,0,0,41,0,0,40,0,0,39,0,0,38,0,0,37,0,0,36,0,0,35,0,0,34,0,0,33,0,0,32,0,{"$f":"SUM($G$10*$G$11*GA113*(EXP(-($G$10*FZ113))),$G$10*$G$11*GA113*(EXP(-($G$10*(FZ113+0.1)))),$G$10*$G$11*GA113*(EXP(-($G$10*(FZ113+0.2)))),$G$10*$G$11*GA113*(EXP(-($G$10*(FZ113+0.3)))),$G$10*$G$11*GA113*(EXP(-($G$10*(FZ113+0.4)))),$G$10*$G$11*GA113*(EXP(-($G$10*(FZ113+0.5)))),$G$10*$G$11*GA113*(EXP(-($G$10*(FZ113+0.6)))),$G$10*$G$11*GA113*(EXP(-($G$10*(FZ113+0.7)))),$G$10*$G$11*GA113*(EXP(-($G$10*(FZ113+0.8)))),$G$10*$G$11*GA113*(EXP(-($G$10*(FZ113+0.9)))))/10","v":0},31,0,0,30,0,0,29,0,0,28,0,0,27,0,0,26,0,0,25,0,0,24,0,0,23,0,0,22,0,0,21,0,0,20,0,0,19,0,0,18,0,0,17,0,0,16,0,0,15,0,0,14,0,0,13,0,0,12,0,0,11,0,0,10,0,0]
[null,null,null,null,null,null,null,null,91,0,90,0,0,89,0,0,88,0,0,87,0,0,86,0,0,85,0,0,84,0,0,83,0,0,82,0,0,81,0,0,80,0,0,79,0,0,78,0,0,77,0,0,76,0,0,{"$f":"IF(BD113=\"\",\"\",(BD113+1))","v":75},0,0,74,0,0,73,0,0,72,0,0,71,0,0,70,0,0,69,0,0,68,0,0,67,0,0,66,0,0,65,0,0,64,{"$f":"$E$49","v":0},{"$f":"SUM($G$10*$G$11*CL114*(EXP(-($G$10*CK114))),$G$10*$G$11*CL114*(EXP(-($G$10*(CK114+0.1)))),$G$10*$G$11*CL114*(EXP(-($G$10*(CK114+0.2)))),$G$10*$G$11*CL114*(EXP(-($G$10*(CK114+0.3)))),$G$10*$G$11*CL114*(EXP(-($G$10*(CK114+0.4)))),$G$10*$G$11*CL114*(EXP(-($G$10*(CK114+0.5)))),$G$10*$G$11*CL114*(EXP(-($G$10*(CK114+0.6)))),$G$10*$G$11*CL114*(EXP(-($G$10*(CK114+0.7)))),$G$10*$G$11*CL114*(EXP(-($G$10*(CK114+0.8)))),$G$10*$G$11*CL114*(EXP(-($G$10*(CK114+0.9)))))/10","v":0},63,0,0,62,0,0,61,0,0,60,0,0,59,0,0,58,0,0,57,0,0,56,0,0,55,0,0,54,0,0,53,0,0,52,0,0,51,0,0,50,0,0,49,0,0,48,0,0,47,0,0,46,0,0,45,0,0,44,0,0,43,0,0,42,0,0,41,0,0,40,0,0,39,0,0,38,0,0,37,0,0,36,0,0,35,0,0,34,0,0,33,0,0,32,0,{"$f":"SUM($G$10*$G$11*GD114*(EXP(-($G$10*GC114))),$G$10*$G$11*GD114*(EXP(-($G$10*(GC114+0.1)))),$G$10*$G$11*GD114*(EXP(-($G$10*(GC114+0.2)))),$G$10*$G$11*GD114*(EXP(-($G$10*(GC114+0.3)))),$G$10*$G$11*GD114*(EXP(-($G$10*(GC114+0.4)))),$G$10*$G$11*GD114*(EXP(-($G$10*(GC114+0.5)))),$G$10*$G$11*GD114*(EXP(-($G$10*(GC114+0.6)))),$G$10*$G$11*GD114*(EXP(-($G$10*(GC114+0.7)))),$G$10*$G$11*GD114*(EXP(-($G$10*(GC114+0.8)))),$G$10*$G$11*GD114*(EXP(-($G$10*(GC114+0.9)))))/10","v":0},31,0,0,30,0,0,29,0,0,28,0,0,27,0,0,26,0,0,25,0,0,24,0,0,23,0,0,22,0,0,21,0,0,20,0,0,19,0,0,18,0,0,17,0,0,16,0,0,15,0,0,14,0,0,13,0,0,12,0,0,11,0,0]
[null,null,null,null,null,null,null,null,92,0,91,0,0,90,0,0,89,0,0,88,0,0,87,0,0,86,0,0,85,0,0,84,0,0,83,0,0,82,0,0,81,0,0,80,0,0,79,0,0,78,0,0,77,0,0,76,0,0,{"$f":"IF(BG114=\"\",\"\",(BG114+1))","v":75},0,0,74,0,0,73,0,0,72,0,0,71,0,0,70,0,0,69,0,0,68,0,0,67,0,0,66,0,0,65,0,0,64,{"$f":"$E$50","v":0},{"$f":"SUM($G$10*$G$11*CO115*(EXP(-($G$10*CN115))),$G$10*$G$11*CO115*(EXP(-($G$10*(CN115+0.1)))),$G$10*$G$11*CO115*(EXP(-($G$10*(CN115+0.2)))),$G$10*$G$11*CO115*(EXP(-($G$10*(CN115+0.3)))),$G$10*$G$11*CO115*(EXP(-($G$10*(CN115+0.4)))),$G$10*$G$11*CO115*(EXP(-($G$10*(CN115+0.5)))),$G$10*$G$11*CO115*(EXP(-($G$10*(CN115+0.6)))),$G$10*$G$11*CO115*(EXP(-($G$10*(CN115+0.7)))),$G$10*$G$11*CO115*(EXP(-($G$10*(CN115+0.8)))),$G$10*$G$11*CO115*(EXP(-($G$10*(CN115+0.9)))))/10","v":0},63,0,0,62,0,0,61,0,0,60,0,0,59,0,0,58,0,0,57,0,0,56,0,0,55,0,0,54,0,0,53,0,0,52,0,0,51,0,0,50,0,0,49,0,0,48,0,0,47,0,0,46,0,0,45,0,0,44,0,0,43,0,0,42,0,0,41,0,0,40,0,0,39,0,0,38,0,0,37,0,0,36,0,0,35,0,0,34,0,0,33,0,0,32,0,{"$f":"SUM($G$10*$G$11*GG115*(EXP(-($G$10*GF115))),$G$10*$G$11*GG115*(EXP(-($G$10*(GF115+0.1)))),$G$10*$G$11*GG115*(EXP(-($G$10*(GF115+0.2)))),$G$10*$G$11*GG115*(EXP(-($G$10*(GF115+0.3)))),$G$10*$G$11*GG115*(EXP(-($G$10*(GF115+0.4)))),$G$10*$G$11*GG115*(EXP(-($G$10*(GF115+0.5)))),$G$10*$G$11*GG115*(EXP(-($G$10*(GF115+0.6)))),$G$10*$G$11*GG115*(EXP(-($G$10*(GF115+0.7)))),$G$10*$G$11*GG115*(EXP(-($G$10*(GF115+0.8)))),$G$10*$G$11*GG115*(EXP(-($G$10*(GF115+0.9)))))/10","v":0},31,0,0,30,0,0,29,0,0,28,0,0,27,0,0,26,0,0,25,0,0,24,0,0,23,0,0,22,0,0,21,0,0,20,0,0,19,0,0,18,0,0,17,0,0,16,0,0,15,0,0,14,0,0,13,0,0,12,0,0]
[null,null,null,null,null,null,null,null,93,0,92,0,0,91,0,0,90,0,0,89,0,0,88,0,0,87,0,0,86,0,0,85,0,0,84,0,0,83,0,0,82,0,0,81,0,0,80,0,0,79,0,0,78,0,0,77,0,0,76,0,0,{"$f":"IF(BJ115=\"\",\"\",(BJ115+1))","v":75},0,0,74,0,0,73,0,0,72,0,0,71,0,0,70,0,0,69,0,0,68,0,0,67,0,0,66,0,0,65,0,0,64,{"$f":"$E$51","v":0},{"$f":"SUM($G$10*$G$11*CR116*(EXP(-($G$10*CQ116))),$G$10*$G$11*CR116*(EXP(-($G$10*(CQ116+0.1)))),$G$10*$G$11*CR116*(EXP(-($G$10*(CQ116+0.2)))),$G$10*$G$11*CR116*(EXP(-($G$10*(CQ116+0.3)))),$G$10*$G$11*CR116*(EXP(-($G$10*(CQ116+0.4)))),$G$10*$G$11*CR116*(EXP(-($G$10*(CQ116+0.5)))),$G$10*$G$11*CR116*(EXP(-($G$10*(CQ116+0.6)))),$G$10*$G$11*CR116*(EXP(-($G$10*(CQ116+0.7)))),$G$10*$G$11*CR116*(EXP(-($G$10*(CQ116+0.8)))),$G$10*$G$11*CR116*(EXP(-($G$10*(CQ116+0.9)))))/10","v":0},63,0,0,62,0,0,61,0,0,60,0,0,59,0,0,58,0,0,57,0,0,56,0,0,55,0,0,54,0,0,53,0,0,52,0,0,51,0,0,50,0,0,49,0,0,48,0,0,47,0,0,46,0,0,45,0,0,44,0,0,43,0,0,42,0,0,41,0,0,40,0,0,39,0,0,38,0,0,37,0,0,36,0,0,35,0,0,34,0,0,33,0,0,32,0,{"$f":"SUM($G$10*$G$11*GJ116*(EXP(-($G$10*GI116))),$G$10*$G$11*GJ116*(EXP(-($G$10*(GI116+0.1)))),$G$10*$G$11*GJ116*(EXP(-($G$10*(GI116+0.2)))),$G$10*$G$11*GJ116*(EXP(-($G$10*(GI116+0.3)))),$G$10*$G$11*GJ116*(EXP(-($G$10*(GI116+0.4)))),$G$10*$G$11*GJ116*(EXP(-($G$10*(GI116+0.5)))),$G$10*$G$11*GJ116*(EXP(-($G$10*(GI116+0.6)))),$G$10*$G$11*GJ116*(EXP(-($G$10*(GI116+0.7)))),$G$10*$G$11*GJ116*(EXP(-($G$10*(GI116+0.8)))),$G$10*$G$11*GJ116*(EXP(-($G$10*(GI116+0.9)))))/10","v":0},31,0,0,30,0,0,29,0,0,28,0,0,27,0,0,26,0,0,25,0,0,24,0,0,23,0,0,22,0,0,21,0,0,20,0,0,19,0,0,18,0,0,17,0,0,16,0,0,15,0,0,14,0,0,13,0,0]
[null,null,null,null,null,null,null,null,94,0,93,0,0,92,0,0,91,0,0,90,0,0,89,0,0,88,0,0,87,0,0,86,0,0,85,0,0,84,0,0,83,0,0,82,0,0,81,0,0,80,0,0,79,0,0,78,0,0,77,0,0,76,0,0,{"$f":"IF(BM116=\"\",\"\",(BM116+1))","v":75},0,0,74,0,0,73,0,0,72,0,0,71,0,0,70,0,0,69,0,0,68,0,0,67,0,0,66,0,0,65,0,0,64,{"$f":"$E$52","v":0},{"$f":"SUM($G$10*$G$11*CU117*(EXP(-($G$10*CT117))),$G$10*$G$11*CU117*(EXP(-($G$10*(CT117+0.1)))),$G$10*$G$11*CU117*(EXP(-($G$10*(CT117+0.2)))),$G$10*$G$11*CU117*(EXP(-($G$10*(CT117+0.3)))),$G$10*$G$11*CU117*(EXP(-($G$10*(CT117+0.4)))),$G$10*$G$11*CU117*(EXP(-($G$10*(CT117+0.5)))),$G$10*$G$11*CU117*(EXP(-($G$10*(CT117+0.6)))),$G$10*$G$11*CU117*(EXP(-($G$10*(CT117+0.7)))),$G$10*$G$11*CU117*(EXP(-($G$10*(CT117+0.8)))),$G$10*$G$11*CU117*(EXP(-($G$10*(CT117+0.9)))))/10","v":0},63,0,0,62,0,0,61,0,0,60,0,0,59,0,0,58,0,0,57,0,0,56,0,0,55,0,0,54,0,0,53,0,0,52,0,0,51,0,0,50,0,0,49,0,0,48,0,0,47,0,0,46,0,0,45,0,0,44,0,0,43,0,0,42,0,0,41,0,0,40,0,0,39,0,0,38,0,0,37,0,0,36,0,0,35,0,0,34,0,0,33,0,0,32,0,{"$f":"SUM($G$10*$G$11*GM117*(EXP(-($G$10*GL117))),$G$10*$G$11*GM117*(EXP(-($G$10*(GL117+0.1)))),$G$10*$G$11*GM117*(EXP(-($G$10*(GL117+0.2)))),$G$10*$G$11*GM117*(EXP(-($G$10*(GL117+0.3)))),$G$10*$G$11*GM117*(EXP(-($G$10*(GL117+0.4)))),$G$10*$G$11*GM117*(EXP(-($G$10*(GL117+0.5)))),$G$10*$G$11*GM117*(EXP(-($G$10*(GL117+0.6)))),$G$10*$G$11*GM117*(EXP(-($G$10*(GL117+0.7)))),$G$10*$G$11*GM117*(EXP(-($G$10*(GL117+0.8)))),$G$10*$G$11*GM117*(EXP(-($G$10*(GL117+0.9)))))/10","v":0},31,0,0,30,0,0,29,0,0,28,0,0,27,0,0,26,0,0,25,0,0,24,0,0,23,0,0,22,0,0,21,0,0,20,0,0,19,0,0,18,0,0,17,0,0,16,0,0,15,0,0,14,0,0]
[null,null,null,null,null,null,null,null,95,0,94,0,0,93,0,0,92,0,0,91,0,0,90,0,0,89,0,0,88,0,0,87,0,0,86,0,0,85,0,0,84,0,0,83,0,0,82,0,0,81,0,0,80,0,0,79,0,0,78,0,0,77,0,0,76,0,0,{"$f":"IF(BP117=\"\",\"\",(BP117+1))","v":75},0,0,74,0,0,73,0,0,72,0,0,71,0,0,70,0,0,69,0,0,68,0,0,67,0,0,66,0,0,65,0,0,64,{"$f":"$E$53","v":0},{"$f":"SUM($G$10*$G$11*CX118*(EXP(-($G$10*CW118))),$G$10*$G$11*CX118*(EXP(-($G$10*(CW118+0.1)))),$G$10*$G$11*CX118*(EXP(-($G$10*(CW118+0.2)))),$G$10*$G$11*CX118*(EXP(-($G$10*(CW118+0.3)))),$G$10*$G$11*CX118*(EXP(-($G$10*(CW118+0.4)))),$G$10*$G$11*CX118*(EXP(-($G$10*(CW118+0.5)))),$G$10*$G$11*CX118*(EXP(-($G$10*(CW118+0.6)))),$G$10*$G$11*CX118*(EXP(-($G$10*(CW118+0.7)))),$G$10*$G$11*CX118*(EXP(-($G$10*(CW118+0.8)))),$G$10*$G$11*CX118*(EXP(-($G$10*(CW118+0.9)))))/10","v":0},63,0,0,62,0,0,61,0,0,60,0,0,59,0,0,58,0,0,57,0,0,56,0,0,55,0,0,54,0,0,53,0,0,52,0,0,51,0,0,50,0,0,49,0,0,48,0,0,47,0,0,46,0,0,45,0,0,44,0,0,43,0,0,42,0,0,41,0,0,40,0,0,39,0,0,38,0,0,37,0,0,36,0,0,35,0,0,34,0,0,33,0,0,32,0,{"$f":"SUM($G$10*$G$11*GP118*(EXP(-($G$10*GO118))),$G$10*$G$11*GP118*(EXP(-($G$10*(GO118+0.1)))),$G$10*$G$11*GP118*(EXP(-($G$10*(GO118+0.2)))),$G$10*$G$11*GP118*(EXP(-($G$10*(GO118+0.3)))),$G$10*$G$11*GP118*(EXP(-($G$10*(GO118+0.4)))),$G$10*$G$11*GP118*(EXP(-($G$10*(GO118+0.5)))),$G$10*$G$11*GP118*(EXP(-($G$10*(GO118+0.6)))),$G$10*$G$11*GP118*(EXP(-($G$10*(GO118+0.7)))),$G$10*$G$11*GP118*(EXP(-($G$10*(GO118+0.8)))),$G$10*$G$11*GP118*(EXP(-($G$10*(GO118+0.9)))))/10","v":0},31,0,0,30,0,0,29,0,0,28,0,0,27,0,0,26,0,0,25,0,0,24,0,0,23,0,0,22,0,0,21,0,0,20,0,0,19,0,0,18,0,0,17,0,0,16,0,0,15,0,0]
[null,null,null,null,null,null,null,null,96,0,95,0,0,94,0,0,93,0,0,92,0,0,91,0,0,90,0,0,89,0,0,88,0,0,87,0,0,86,0,0,85,0,0,84,0,0,83,0,0,82,0,0,81,0,0,80,0,0,79,0,0,78,0,0,77,0,0,76,0,0,{"$f":"IF(BS118=\"\",\"\",(BS118+1))","v":75},0,0,74,0,0,73,0,0,72,0,0,71,0,0,70,0,0,69,0,0,68,0,0,67,0,0,66,0,0,65,0,0,64,0,{"$f":"SUM($G$10*$G$11*DA119*(EXP(-($G$10*CZ119))),$G$10*$G$11*DA119*(EXP(-($G$10*(CZ119+0.1)))),$G$10*$G$11*DA119*(EXP(-($G$10*(CZ119+0.2)))),$G$10*$G$11*DA119*(EXP(-($G$10*(CZ119+0.3)))),$G$10*$G$11*DA119*(EXP(-($G$10*(CZ119+0.4)))),$G$10*$G$11*DA119*(EXP(-($G$10*(CZ119+0.5)))),$G$10*$G$11*DA119*(EXP(-($G$10*(CZ119+0.6)))),$G$10*$G$11*DA119*(EXP(-($G$10*(CZ119+0.7)))),$G$10*$G$11*DA119*(EXP(-($G$10*(CZ119+0.8)))),$G$10*$G$11*DA119*(EXP(-($G$10*(CZ119+0.9)))))/10","v":0},63,0,0,62,0,0,61,0,0,60,0,0,59,0,0,58,0,0,57,0,0,56,0,0,55,0,0,54,0,0,53,0,0,52,0,0,51,0,0,50,0,0,49,0,0,48,0,0,47,0,0,46,0,0,45,0,0,44,0,0,43,0,0,42,0,0,41,0,0,40,0,0,39,0,0,38,0,0,37,0,0,36,0,0,35,0,0,34,0,0,33,0,0,32,0,{"$f":"SUM($G$10*$G$11*GS119*(EXP(-($G$10*GR119))),$G$10*$G$11*GS119*(EXP(-($G$10*(GR119+0.1)))),$G$10*$G$11*GS119*(EXP(-($G$10*(GR119+0.2)))),$G$10*$G$11*GS119*(EXP(-($G$10*(GR119+0.3)))),$G$10*$G$11*GS119*(EXP(-($G$10*(GR119+0.4)))),$G$10*$G$11*GS119*(EXP(-($G$10*(GR119+0.5)))),$G$10*$G$11*GS119*(EXP(-($G$10*(GR119+0.6)))),$G$10*$G$11*GS119*(EXP(-($G$10*(GR119+0.7)))),$G$10*$G$11*GS119*(EXP(-($G$10*(GR119+0.8)))),$G$10*$G$11*GS119*(EXP(-($G$10*(GR119+0.9)))))/10","v":0},31,0,0,30,0,0,29,0,0,28,0,0,27,0,0,26,0,0,25,0,0,24,0,0,23,0,0,22,0,0,21,0,0,20,0,0,19,0,0,18,0,0,17,0,0,16,0,0]
[null,null,null,null,null,null,null,null,97,0,96,0,{"$f":"SUM($G$10*$G$11*L120*(EXP(-($G$10*K120))),$G$10*$G$11*L120*(EXP(-($G$10*(K120+0.1)))),$G$10*$G$11*L120*(EXP(-($G$10*(K120+0.2)))),$G$10*$G$11*L120*(EXP(-($G$10*(K120+0.3)))),$G$10*$G$11*L120*(EXP(-($G$10*(K120+0.4)))),$G$10*$G$11*L120*(EXP(-($G$10*(K120+0.5)))),$G$10*$G$11*L120*(EXP(-($G$10*(K120+0.6)))),$G$10*$G$11*L120*(EXP(-($G$10*(K120+0.7)))),$G$10*$G$11*L120*(EXP(-($G$10*(K120+0.8)))),$G$10*$G$11*L120*(EXP(-($G$10*(K120+0.9)))))/10","v":0},95,0,0,94,0,0,93,0,0,92,0,0,91,0,0,90,0,0,89,0,0,88,0,0,87,0,0,86,0,0,85,0,0,84,0,0,83,0,0,82,0,0,81,0,0,80,0,0,79,0,0,78,0,0,77,0,0,{"$f":"IF(BS119=\"\",\"\",(BS119+1))","v":76},0,0,{"$f":"IF(BV119=\"\",\"\",(BV119+1))","v":75},0,0,74,0,0,73,0,0,72,0,0,71,0,0,70,0,0,69,0,0,68,0,0,67,0,0,66,0,0,65,0,0,64,0,{"$f":"SUM($G$10*$G$11*DD120*(EXP(-($G$10*DC120))),$G$10*$G$11*DD120*(EXP(-($G$10*(DC120+0.1)))),$G$10*$G$11*DD120*(EXP(-($G$10*(DC120+0.2)))),$G$10*$G$11*DD120*(EXP(-($G$10*(DC120+0.3)))),$G$10*$G$11*DD120*(EXP(-($G$10*(DC120+0.4)))),$G$10*$G$11*DD120*(EXP(-($G$10*(DC120+0.5)))),$G$10*$G$11*DD120*(EXP(-($G$10*(DC120+0.6)))),$G$10*$G$11*DD120*(EXP(-($G$10*(DC120+0.7)))),$G$10*$G$11*DD120*(EXP(-($G$10*(DC120+0.8)))),$G$10*$G$11*DD120*(EXP(-($G$10*(DC120+0.9)))))/10","v":0},63,0,0,62,0,0,61,0,0,60,0,0,59,0,0,58,0,0,57,0,0,56,0,0,55,0,0,54,0,0,53,0,0,52,0,0,51,0,0,50,0,0,49,0,0,48,0,0,47,0,0,46,0,0,45,0,0,44,0,0,43,0,0,42,0,0,41,0,0,40,0,0,39,0,0,38,0,0,37,0,0,36,0,0,35,0,0,34,0,0,33,0,0,32,0,{"$f":"SUM($G$10*$G$11*GV120*(EXP(-($G$10*GU120))),$G$10*$G$11*GV120*(EXP(-($G$10*(GU120+0.1)))),$G$10*$G$11*GV120*(EXP(-($G$10*(GU120+0.2)))),$G$10*$G$11*GV120*(EXP(-($G$10*(GU120+0.3)))),$G$10*$G$11*GV120*(EXP(-($G$10*(GU120+0.4)))),$G$10*$G$11*GV120*(EXP(-($G$10*(GU120+0.5)))),$G$10*$G$11*GV120*(EXP(-($G$10*(GU120+0.6)))),$G$10*$G$11*GV120*(EXP(-($G$10*(GU120+0.7)))),$G$10*$G$11*GV120*(EXP(-($G$10*(GU120+0.8)))),$G$10*$G$11*GV120*(EXP(-($G$10*(GU120+0.9)))))/10","v":0},31,0,0,30,0,0,29,0,0,28,0,0,27,0,0,26,0,0,25,0,0,24,0,0,23,0,0,22,0,0,21,0,0,20,0,0,19,0,0,18,0,0,17,0,0]
[null,null,null,null,null,null,null,null,98,0,97,0,0,96,0,{"$f":"SUM($G$10*$G$11*O121*(EXP(-($G$10*N121))),$G$10*$G$11*O121*(EXP(-($G$10*(N121+0.1)))),$G$10*$G$11*O121*(EXP(-($G$10*(N121+0.2)))),$G$10*$G$11*O121*(EXP(-($G$10*(N121+0.3)))),$G$10*$G$11*O121*(EXP(-($G$10*(N121+0.4)))),$G$10*$G$11*O121*(EXP(-($G$10*(N121+0.5)))),$G$10*$G$11*O121*(EXP(-($G$10*(N121+0.6)))),$G$10*$G$11*O121*(EXP(-($G$10*(N121+0.7)))),$G$10*$G$11*O121*(EXP(-($G$10*(N121+0.8)))),$G$10*$G$11*O121*(EXP(-($G$10*(N121+0.9)))))/10","v":0},95,0,0,94,0,0,93,0,0,92,0,0,91,0,0,90,0,0,89,0,0,88,0,0,87,0,0,86,0,0,85,0,0,84,0,0,83,0,0,82,0,0,81,0,0,80,0,0,79,0,0,78,0,0,{"$f":"IF(BS120=\"\",\"\",(BS120+1))","v":77},0,0,{"$f":"IF(BV120=\"\",\"\",(BV120+1))","v":76},0,0,{"$f":"IF(BY120=\"\",\"\",(BY120+1))","v":75},0,0,74,0,0,73,0,0,72,0,0,71,0,0,70,0,0,69,0,0,68,0,0,67,0,0,66,0,0,65,0,0,64,0,{"$f":"SUM($G$10*$G$11*DG121*(EXP(-($G$10*DF121))),$G$10*$G$11*DG121*(EXP(-($G$10*(DF121+0.1)))),$G$10*$G$11*DG121*(EXP(-($G$10*(DF121+0.2)))),$G$10*$G$11*DG121*(EXP(-($G$10*(DF121+0.3)))),$G$10*$G$11*DG121*(EXP(-($G$10*(DF121+0.4)))),$G$10*$G$11*DG121*(EXP(-($G$10*(DF121+0.5)))),$G$10*$G$11*DG121*(EXP(-($G$10*(DF121+0.6)))),$G$10*$G$11*DG121*(EXP(-($G$10*(DF121+0.7)))),$G$10*$G$11*DG121*(EXP(-($G$10*(DF121+0.8)))),$G$10*$G$11*DG121*(EXP(-($G$10*(DF121+0.9)))))/10","v":0},63,0,0,62,0,0,61,0,0,60,0,0,59,0,0,58,0,0,57,0,0,56,0,0,55,0,0,54,0,0,53,0,0,52,0,0,51,0,0,50,0,0,49,0,0,48,0,0,47,0,0,46,0,0,45,0,0,44,0,0,43,0,0,42,0,0,41,0,0,40,0,0,39,0,0,38,0,0,37,0,0,36,0,0,35,0,0,34,0,0,33,0,0,32,0,{"$f":"SUM($G$10*$G$11*GY121*(EXP(-($G$10*GX121))),$G$10*$G$11*GY121*(EXP(-($G$10*(GX121+0.1)))),$G$10*$G$11*GY121*(EXP(-($G$10*(GX121+0.2)))),$G$10*$G$11*GY121*(EXP(-($G$10*(GX121+0.3)))),$G$10*$G$11*GY121*(EXP(-($G$10*(GX121+0.4)))),$G$10*$G$11*GY121*(EXP(-($G$10*(GX121+0.5)))),$G$10*$G$11*GY121*(EXP(-($G$10*(GX121+0.6)))),$G$10*$G$11*GY121*(EXP(-($G$10*(GX121+0.7)))),$G$10*$G$11*GY121*(EXP(-($G$10*(GX121+0.8)))),$G$10*$G$11*GY121*(EXP(-($G$10*(GX121+0.9)))))/10","v":0},31,0,0,30,0,0,29,0,0,28,0,0,27,0,0,26,0,0,25,0,0,24,0,0,23,0,0,22,0,0,21,0,0,20,0,0,19,0,0,18,0,0]
[null,null,null,null,null,null,null,null,99,0,98,0,0,97,0,0,96,0,{"$f":"SUM($G$10*$G$11*R122*(EXP(-($G$10*Q122))),$G$10*$G$11*R122*(EXP(-($G$10*(Q122+0.1)))),$G$10*$G$11*R122*(EXP(-($G$10*(Q122+0.2)))),$G$10*$G$11*R122*(EXP(-($G$10*(Q122+0.3)))),$G$10*$G$11*R122*(EXP(-($G$10*(Q122+0.4)))),$G$10*$G$11*R122*(EXP(-($G$10*(Q122+0.5)))),$G$10*$G$11*R122*(EXP(-($G$10*(Q122+0.6)))),$G$10*$G$11*R122*(EXP(-($G$10*(Q122+0.7)))),$G$10*$G$11*R122*(EXP(-($G$10*(Q122+0.8)))),$G$10*$G$11*R122*(EXP(-($G$10*(Q122+0.9)))))/10","v":0},95,0,0,94,0,0,93,0,0,92,0,0,91,0,0,90,0,0,89,0,0,88,0,0,87,0,0,86,0,0,85,0,0,84,0,0,83,0,0,82,0,0,81,0,0,80,0,0,79,0,0,{"$f":"IF(BS121=\"\",\"\",(BS121+1))","v":78},0,0,{"$f":"IF(BV121=\"\",\"\",(BV121+1))","v":77},0,0,{"$f":"IF(BY121=\"\",\"\",(BY121+1))","v":76},0,0,{"$f":"IF(CB121=\"\",\"\",(CB121+1))","v":75},0,0,74,0,0,73,0,0,72,0,0,71,0,0,70,0,0,69,0,0,68,0,0,67,0,0,66,0,0,65,0,0,64,0,{"$f":"SUM($G$10*$G$11*DJ122*(EXP(-($G$10*DI122))),$G$10*$G$11*DJ122*(EXP(-($G$10*(DI122+0.1)))),$G$10*$G$11*DJ122*(EXP(-($G$10*(DI122+0.2)))),$G$10*$G$11*DJ122*(EXP(-($G$10*(DI122+0.3)))),$G$10*$G$11*DJ122*(EXP(-($G$10*(DI122+0.4)))),$G$10*$G$11*DJ122*(EXP(-($G$10*(DI122+0.5)))),$G$10*$G$11*DJ122*(EXP(-($G$10*(DI122+0.6)))),$G$10*$G$11*DJ122*(EXP(-($G$10*(DI122+0.7)))),$G$10*$G$11*DJ122*(EXP(-($G$10*(DI122+0.8)))),$G$10*$G$11*DJ122*(EXP(-($G$10*(DI122+0.9)))))/10","v":0},63,0,0,62,0,0,61,0,0,60,0,0,59,0,0,58,0,0,57,0,0,56,0,0,55,0,0,54,0,0,53,0,0,52,0,0,51,0,0,50,0,0,49,0,0,48,0,0,47,0,0,46,0,0,45,0,0,44,0,0,43,0,0,42,0,0,41,0,0,40,0,0,39,0,0,38,0,0,37,0,0,36,0,0,35,0,0,34,0,0,33,0,0,32,0,{"$f":"SUM($G$10*$G$11*HB122*(EXP(-($G$10*HA122))),$G$10*$G$11*HB122*(EXP(-($G$10*(HA122+0.1)))),$G$10*$G$11*HB122*(EXP(-($G$10*(HA122+0.2)))),$G$10*$G$11*HB122*(EXP(-($G$10*(HA122+0.3)))),$G$10*$G$11*HB122*(EXP(-($G$10*(HA122+0.4)))),$G$10*$G$11*HB122*(EXP(-($G$10*(HA122+0.5)))),$G$10*$G$11*HB122*(EXP(-($G$10*(HA122+0.6)))),$G$10*$G$11*HB122*(EXP(-($G$10*(HA122+0.7)))),$G$10*$G$11*HB122*(EXP(-($G$10*(HA122+0.8)))),$G$10*$G$11*HB122*(EXP(-($G$10*(HA122+0.9)))))/10","v":0},31,0,0,30,0,0,29,0,0,28,0,0,27,0,0,26,0,0,25,0,0,24,0,0,23,0,0,22,0,0,21,0,0,20,0,0,19,0,0]
[null,null,null,null,null,null,null,null,100,0,99,0,0,98,0,0,97,0,0,96,0,{"$f":"SUM($G$10*$G$11*U123*(EXP(-($G$10*T123))),$G$10*$G$11*U123*(EXP(-($G$10*(T123+0.1)))),$G$10*$G$11*U123*(EXP(-($G$10*(T123+0.2)))),$G$10*$G$11*U123*(EXP(-($G$10*(T123+0.3)))),$G$10*$G$11*U123*(EXP(-($G$10*(T123+0.4)))),$G$10*$G$11*U123*(EXP(-($G$10*(T123+0.5)))),$G$10*$G$11*U123*(EXP(-($G$10*(T123+0.6)))),$G$10*$G$11*U123*(EXP(-($G$10*(T123+0.7)))),$G$10*$G$11*U123*(EXP(-($G$10*(T123+0.8)))),$G$10*$G$11*U123*(EXP(-($G$10*(T123+0.9)))))/10","v":0},95,0,0,94,0,0,93,0,0,92,0,0,91,0,0,90,0,0,89,0,0,88,0,0,87,0,0,86,0,0,85,0,0,84,0,0,83,0,0,82,0,0,81,0,0,80,0,0,{"$f":"IF(BS122=\"\",\"\",(BS122+1))","v":79},0,0,{"$f":"IF(BV122=\"\",\"\",(BV122+1))","v":78},0,0,{"$f":"IF(BY122=\"\",\"\",(BY122+1))","v":77},0,0,{"$f":"IF(CB122=\"\",\"\",(CB122+1))","v":76},0,0,{"$f":"IF(CE122=\"\",\"\",(CE122+1))","v":75},0,0,74,0,0,73,0,0,72,0,0,71,0,0,70,0,0,69,0,0,68,0,0,67,0,0,66,0,0,65,0,0,64,0,{"$f":"SUM($G$10*$G$11*DM123*(EXP(-($G$10*DL123))),$G$10*$G$11*DM123*(EXP(-($G$10*(DL123+0.1)))),$G$10*$G$11*DM123*(EXP(-($G$10*(DL123+0.2)))),$G$10*$G$11*DM123*(EXP(-($G$10*(DL123+0.3)))),$G$10*$G$11*DM123*(EXP(-($G$10*(DL123+0.4)))),$G$10*$G$11*DM123*(EXP(-($G$10*(DL123+0.5)))),$G$10*$G$11*DM123*(EXP(-($G$10*(DL123+0.6)))),$G$10*$G$11*DM123*(EXP(-($G$10*(DL123+0.7)))),$G$10*$G$11*DM123*(EXP(-($G$10*(DL123+0.8)))),$G$10*$G$11*DM123*(EXP(-($G$10*(DL123+0.9)))))/10","v":0},63,0,0,62,0,0,61,0,0,60,0,0,59,0,0,58,0,0,57,0,0,56,0,0,55,0,0,54,0,0,53,0,0,52,0,0,51,0,0,50,0,0,49,0,0,48,0,0,47,0,0,46,0,0,45,0,0,44,0,0,43,0,0,42,0,0,41,0,0,40,0,0,39,0,0,38,0,0,37,0,0,36,0,0,35,0,0,34,0,0,33,0,0,32,0,{"$f":"SUM($G$10*$G$11*HE123*(EXP(-($G$10*HD123))),$G$10*$G$11*HE123*(EXP(-($G$10*(HD123+0.1)))),$G$10*$G$11*HE123*(EXP(-($G$10*(HD123+0.2)))),$G$10*$G$11*HE123*(EXP(-($G$10*(HD123+0.3)))),$G$10*$G$11*HE123*(EXP(-($G$10*(HD123+0.4)))),$G$10*$G$11*HE123*(EXP(-($G$10*(HD123+0.5)))),$G$10*$G$11*HE123*(EXP(-($G$10*(HD123+0.6)))),$G$10*$G$11*HE123*(EXP(-($G$10*(HD123+0.7)))),$G$10*$G$11*HE123*(EXP(-($G$10*(HD123+0.8)))),$G$10*$G$11*HE123*(EXP(-($G$10*(HD123+0.9)))))/10","v":0},31,0,0,30,0,0,29,0,0,28,0,0,27,0,0,26,0,0,25,0,0,24,0,0,23,0,0,22,0,0,21,0,0,20,0,0]
[null,null,null,null,null,null,null,null,{"$f":"IF(I123=\"\",\"\",(I123+1))","v":101},0,{"$f":"IF(K123=\"\",\"\",(K123+1))","v":100},0,0,{"$f":"IF(N123=\"\",\"\",(N123+1))","v":99},0,0,{"$f":"IF(Q123=\"\",\"\",(Q123+1))","v":98},0,0,{"$f":"IF(T123=\"\",\"\",(T123+1))","v":97},0,0,{"$f":"IF(W123=\"\",\"\",(W123+1))","v":96},0,{"$f":"SUM($G$10*$G$11*X124*(EXP(-($G$10*W124))),$G$10*$G$11*X124*(EXP(-($G$10*(W124+0.1)))),$G$10*$G$11*X124*(EXP(-($G$10*(W124+0.2)))),$G$10*$G$11*X124*(EXP(-($G$10*(W124+0.3)))),$G$10*$G$11*X124*(EXP(-($G$10*(W124+0.4)))),$G$10*$G$11*X124*(EXP(-($G$10*(W124+0.5)))),$G$10*$G$11*X124*(EXP(-($G$10*(W124+0.6)))),$G$10*$G$11*X124*(EXP(-($G$10*(W124+0.7)))),$G$10*$G$11*X124*(EXP(-($G$10*(W124+0.8)))),$G$10*$G$11*X124*(EXP(-($G$10*(W124+0.9)))))/10","v":0},{"$f":"IF(Z123=\"\",\"\",(Z123+1))","v":95},0,0,{"$f":"IF(AC123=\"\",\"\",(AC123+1))","v":94},0,0,{"$f":"IF(AF123=\"\",\"\",(AF123+1))","v":93},0,0,{"$f":"IF(AI123=\"\",\"\",(AI123+1))","v":92},0,0,{"$f":"IF(AL123=\"\",\"\",(AL123+1))","v":91},0,0,{"$f":"IF(AO123=\"\",\"\",(AO123+1))","v":90},0,0,{"$f":"IF(AR123=\"\",\"\",(AR123+1))","v":89},0,0,{"$f":"IF(AU123=\"\",\"\",(AU123+1))","v":88},0,0,{"$f":"IF(AX123=\"\",\"\",(AX123+1))","v":87},0,0,{"$f":"IF(BA123=\"\",\"\",(BA123+1))","v":86},0,0,{"$f":"IF(BD123=\"\",\"\",(BD123+1))","v":85},0,0,{"$f":"IF(BG123=\"\",\"\",(BG123+1))","v":84},0,0,{"$f":"IF(BJ123=\"\",\"\",(BJ123+1))","v":83},0,0,{"$f":"IF(BM123=\"\",\"\",(BM123+1))","v":82},0,0,{"$f":"IF(BP123=\"\",\"\",(BP123+1))","v":81},0,0,{"$f":"IF(BS123=\"\",\"\",(BS123+1))","v":80},0,0,{"$f":"IF(BV123=\"\",\"\",(BV123+1))","v":79},0,0,{"$f":"IF(BY123=\"\",\"\",(BY123+1))","v":78},0,0,{"$f":"IF(CB123=\"\",\"\",(CB123+1))","v":77},0,0,{"$f":"IF(CE123=\"\",\"\",(CE123+1))","v":76},0,0,75,0,0,74,0,0,73,0,0,72,0,0,71,0,0,70,0,0,69,0,0,68,0,0,67,0,0,66,0,0,65,0,0,64,0,{"$f":"SUM($G$10*$G$11*DP124*(EXP(-($G$10*DO124))),$G$10*$G$11*DP124*(EXP(-($G$10*(DO124+0.1)))),$G$10*$G$11*DP124*(EXP(-($G$10*(DO124+0.2)))),$G$10*$G$11*DP124*(EXP(-($G$10*(DO124+0.3)))),$G$10*$G$11*DP124*(EXP(-($G$10*(DO124+0.4)))),$G$10*$G$11*DP124*(EXP(-($G$10*(DO124+0.5)))),$G$10*$G$11*DP124*(EXP(-($G$10*(DO124+0.6)))),$G$10*$G$11*DP124*(EXP(-($G$10*(DO124+0.7)))),$G$10*$G$11*DP124*(EXP(-($G$10*(DO124+0.8)))),$G$10*$G$11*DP124*(EXP(-($G$10*(DO124+0.9)))))/10","v":0},63,0,0,62,0,0,61,0,0,60,0,0,59,0,0,58,0,0,57,0,0,56,0,0,55,0,0,54,0,0,53,0,0,52,0,0,51,0,0,50,0,0,49,0,0,48,0,0,47,0,0,46,0,0,45,0,0,44,0,0,43,0,0,42,0,0,41,0,0,40,0,0,39,0,0,38,0,0,37,0,0,36,0,0,35,0,0,34,0,0,33,0,0,32,0,{"$f":"SUM($G$10*$G$11*HH124*(EXP(-($G$10*HG124))),$G$10*$G$11*HH124*(EXP(-($G$10*(HG124+0.1)))),$G$10*$G$11*HH124*(EXP(-($G$10*(HG124+0.2)))),$G$10*$G$11*HH124*(EXP(-($G$10*(HG124+0.3)))),$G$10*$G$11*HH124*(EXP(-($G$10*(HG124+0.4)))),$G$10*$G$11*HH124*(EXP(-($G$10*(HG124+0.5)))),$G$10*$G$11*HH124*(EXP(-($G$10*(HG124+0.6)))),$G$10*$G$11*HH124*(EXP(-($G$10*(HG124+0.7)))),$G$10*$G$11*HH124*(EXP(-($G$10*(HG124+0.8)))),$G$10*$G$11*HH124*(EXP(-($G$10*(HG124+0.9)))))/10","v":0},31,0,0,30,0,0,29,0,0,28,0,0,27,0,0,26,0,0,25,0,0,24,0,0,23,0,0,22,0,0,21,0,0]
[null,null,null,null,null,null,null,null,102,0,101,0,0,100,0,0,99,0,0,98,0,0,97,0,0,96,0,{"$f":"SUM($G$10*$G$11*AA125*(EXP(-($G$10*Z125))),$G$10*$G$11*AA125*(EXP(-($G$10*(Z125+0.1)))),$G$10*$G$11*AA125*(EXP(-($G$10*(Z125+0.2)))),$G$10*$G$11*AA125*(EXP(-($G$10*(Z125+0.3)))),$G$10*$G$11*AA125*(EXP(-($G$10*(Z125+0.4)))),$G$10*$G$11*AA125*(EXP(-($G$10*(Z125+0.5)))),$G$10*$G$11*AA125*(EXP(-($G$10*(Z125+0.6)))),$G$10*$G$11*AA125*(EXP(-($G$10*(Z125+0.7)))),$G$10*$G$11*AA125*(EXP(-($G$10*(Z125+0.8)))),$G$10*$G$11*AA125*(EXP(-($G$10*(Z125+0.9)))))/10","v":0},95,0,0,94,0,0,93,0,0,92,0,0,91,0,0,90,0,0,89,0,0,88,0,0,87,0,0,86,0,0,85,0,0,84,0,0,83,0,0,82,0,0,81,0,0,80,0,0,79,0,0,78,0,0,77,0,0,76,0,0,75,0,0,74,0,0,73,0,0,72,0,0,71,0,0,70,0,0,69,0,0,68,0,0,67,0,0,66,0,0,65,0,0,64,0,{"$f":"SUM($G$10*$G$11*DS125*(EXP(-($G$10*DR125))),$G$10*$G$11*DS125*(EXP(-($G$10*(DR125+0.1)))),$G$10*$G$11*DS125*(EXP(-($G$10*(DR125+0.2)))),$G$10*$G$11*DS125*(EXP(-($G$10*(DR125+0.3)))),$G$10*$G$11*DS125*(EXP(-($G$10*(DR125+0.4)))),$G$10*$G$11*DS125*(EXP(-($G$10*(DR125+0.5)))),$G$10*$G$11*DS125*(EXP(-($G$10*(DR125+0.6)))),$G$10*$G$11*DS125*(EXP(-($G$10*(DR125+0.7)))),$G$10*$G$11*DS125*(EXP(-($G$10*(DR125+0.8)))),$G$10*$G$11*DS125*(EXP(-($G$10*(DR125+0.9)))))/10","v":0},63,0,0,62,0,0,61,0,0,60,0,0,59,0,0,58,0,0,57,0,0,56,0,0,55,0,0,54,0,0,53,0,0,52,0,0,51,0,0,50,0,0,49,0,0,48,0,0,47,0,0,46,0,0,45,0,0,44,0,0,43,0,0,42,0,0,41,0,0,40,0,0,39,0,0,38,0,0,37,0,0,36,0,0,35,0,0,34,0,0,33,0,0,32,0,{"$f":"SUM($G$10*$G$11*HK125*(EXP(-($G$10*HJ125))),$G$10*$G$11*HK125*(EXP(-($G$10*(HJ125+0.1)))),$G$10*$G$11*HK125*(EXP(-($G$10*(HJ125+0.2)))),$G$10*$G$11*HK125*(EXP(-($G$10*(HJ125+0.3)))),$G$10*$G$11*HK125*(EXP(-($G$10*(HJ125+0.4)))),$G$10*$G$11*HK125*(EXP(-($G$10*(HJ125+0.5)))),$G$10*$G$11*HK125*(EXP(-($G$10*(HJ125+0.6)))),$G$10*$G$11*HK125*(EXP(-($G$10*(HJ125+0.7)))),$G$10*$G$11*HK125*(EXP(-($G$10*(HJ125+0.8)))),$G$10*$G$11*HK125*(EXP(-($G$10*(HJ125+0.9)))))/10","v":0},31,0,0,30,0,0,29,0,0,28,0,0,27,0,0,26,0,0,25,0,0,24,0,0,23,0,0,22,0,0]
[null,null,null,null,null,null,null,null,103,0,102,0,0,101,0,0,100,0,0,99,0,0,98,0,0,97,0,0,96,0,{"$f":"SUM($G$10*$G$11*AD126*(EXP(-($G$10*AC126))),$G$10*$G$11*AD126*(EXP(-($G$10*(AC126+0.1)))),$G$10*$G$11*AD126*(EXP(-($G$10*(AC126+0.2)))),$G$10*$G$11*AD126*(EXP(-($G$10*(AC126+0.3)))),$G$10*$G$11*AD126*(EXP(-($G$10*(AC126+0.4)))),$G$10*$G$11*AD126*(EXP(-($G$10*(AC126+0.5)))),$G$10*$G$11*AD126*(EXP(-($G$10*(AC126+0.6)))),$G$10*$G$11*AD126*(EXP(-($G$10*(AC126+0.7)))),$G$10*$G$11*AD126*(EXP(-($G$10*(AC126+0.8)))),$G$10*$G$11*AD126*(EXP(-($G$10*(AC126+0.9)))))/10","v":0},95,0,0,94,0,0,93,0,0,92,0,0,91,0,0,90,0,0,89,0,0,88,0,0,87,0,0,86,0,0,85,0,0,84,0,0,83,0,0,82,0,0,81,0,0,80,0,0,79,0,0,78,0,0,77,0,0,76,0,0,75,0,0,74,0,0,73,0,0,72,0,0,71,0,0,70,0,0,69,0,0,68,0,0,67,0,0,66,0,0,65,0,0,64,0,{"$f":"SUM($G$10*$G$11*DV126*(EXP(-($G$10*DU126))),$G$10*$G$11*DV126*(EXP(-($G$10*(DU126+0.1)))),$G$10*$G$11*DV126*(EXP(-($G$10*(DU126+0.2)))),$G$10*$G$11*DV126*(EXP(-($G$10*(DU126+0.3)))),$G$10*$G$11*DV126*(EXP(-($G$10*(DU126+0.4)))),$G$10*$G$11*DV126*(EXP(-($G$10*(DU126+0.5)))),$G$10*$G$11*DV126*(EXP(-($G$10*(DU126+0.6)))),$G$10*$G$11*DV126*(EXP(-($G$10*(DU126+0.7)))),$G$10*$G$11*DV126*(EXP(-($G$10*(DU126+0.8)))),$G$10*$G$11*DV126*(EXP(-($G$10*(DU126+0.9)))))/10","v":0},63,0,0,62,0,0,61,0,0,60,0,0,59,0,0,58,0,0,57,0,0,56,0,0,55,0,0,54,0,0,53,0,0,52,0,0,51,0,0,50,0,0,49,0,0,48,0,0,47,0,0,46,0,0,45,0,0,44,0,0,43,0,0,42,0,0,41,0,0,40,0,0,39,0,0,38,0,0,37,0,0,36,0,0,35,0,0,34,0,0,33,0,0,32,0,{"$f":"SUM($G$10*$G$11*HN126*(EXP(-($G$10*HM126))),$G$10*$G$11*HN126*(EXP(-($G$10*(HM126+0.1)))),$G$10*$G$11*HN126*(EXP(-($G$10*(HM126+0.2)))),$G$10*$G$11*HN126*(EXP(-($G$10*(HM126+0.3)))),$G$10*$G$11*HN126*(EXP(-($G$10*(HM126+0.4)))),$G$10*$G$11*HN126*(EXP(-($G$10*(HM126+0.5)))),$G$10*$G$11*HN126*(EXP(-($G$10*(HM126+0.6)))),$G$10*$G$11*HN126*(EXP(-($G$10*(HM126+0.7)))),$G$10*$G$11*HN126*(EXP(-($G$10*(HM126+0.8)))),$G$10*$G$11*HN126*(EXP(-($G$10*(HM126+0.9)))))/10","v":0},31,0,0,30,0,0,29,0,0,28,0,0,27,0,0,26,0,0,25,0,0,24,0,0,23,0,0]
[null,null,null,null,null,null,null,null,104,0,103,0,0,102,0,0,101,0,0,100,0,0,99,0,0,98,0,0,97,0,0,96,0,{"$f":"SUM($G$10*$G$11*AG127*(EXP(-($G$10*AF127))),$G$10*$G$11*AG127*(EXP(-($G$10*(AF127+0.1)))),$G$10*$G$11*AG127*(EXP(-($G$10*(AF127+0.2)))),$G$10*$G$11*AG127*(EXP(-($G$10*(AF127+0.3)))),$G$10*$G$11*AG127*(EXP(-($G$10*(AF127+0.4)))),$G$10*$G$11*AG127*(EXP(-($G$10*(AF127+0.5)))),$G$10*$G$11*AG127*(EXP(-($G$10*(AF127+0.6)))),$G$10*$G$11*AG127*(EXP(-($G$10*(AF127+0.7)))),$G$10*$G$11*AG127*(EXP(-($G$10*(AF127+0.8)))),$G$10*$G$11*AG127*(EXP(-($G$10*(AF127+0.9)))))/10","v":0},95,0,0,94,0,0,93,0,0,92,0,0,91,0,0,90,0,0,89,0,0,88,0,0,87,0,0,86,0,0,85,0,0,84,0,0,83,0,0,82,0,0,81,0,0,80,0,0,79,0,0,78,0,0,77,0,0,76,0,0,75,0,0,74,0,0,73,0,0,72,0,0,71,0,0,70,0,0,69,0,0,68,0,0,67,0,0,66,0,0,65,0,0,64,0,{"$f":"SUM($G$10*$G$11*DY127*(EXP(-($G$10*DX127))),$G$10*$G$11*DY127*(EXP(-($G$10*(DX127+0.1)))),$G$10*$G$11*DY127*(EXP(-($G$10*(DX127+0.2)))),$G$10*$G$11*DY127*(EXP(-($G$10*(DX127+0.3)))),$G$10*$G$11*DY127*(EXP(-($G$10*(DX127+0.4)))),$G$10*$G$11*DY127*(EXP(-($G$10*(DX127+0.5)))),$G$10*$G$11*DY127*(EXP(-($G$10*(DX127+0.6)))),$G$10*$G$11*DY127*(EXP(-($G$10*(DX127+0.7)))),$G$10*$G$11*DY127*(EXP(-($G$10*(DX127+0.8)))),$G$10*$G$11*DY127*(EXP(-($G$10*(DX127+0.9)))))/10","v":0},63,0,0,62,0,0,61,0,0,60,0,0,59,0,0,58,0,0,57,0,0,56,0,0,55,0,0,54,0,0,53,0,0,52,0,0,51,0,0,50,0,0,49,0,0,48,0,0,47,0,0,46,0,0,45,0,0,44,0,0,43,0,0,42,0,0,41,0,0,40,0,0,39,0,0,38,0,0,37,0,0,36,0,0,35,0,0,34,0,0,33,0,0,32,0,{"$f":"SUM($G$10*$G$11*HQ127*(EXP(-($G$10*HP127))),$G$10*$G$11*HQ127*(EXP(-($G$10*(HP127+0.1)))),$G$10*$G$11*HQ127*(EXP(-($G$10*(HP127+0.2)))),$G$10*$G$11*HQ127*(EXP(-($G$10*(HP127+0.3)))),$G$10*$G$11*HQ127*(EXP(-($G$10*(HP127+0.4)))),$G$10*$G$11*HQ127*(EXP(-($G$10*(HP127+0.5)))),$G$10*$G$11*HQ127*(EXP(-($G$10*(HP127+0.6)))),$G$10*$G$11*HQ127*(EXP(-($G$10*(HP127+0.7)))),$G$10*$G$11*HQ127*(EXP(-($G$10*(HP127+0.8)))),$G$10*$G$11*HQ127*(EXP(-($G$10*(HP127+0.9)))))/10","v":0},31,0,0,30,0,0,29,0,0,28,0,0,27,0,0,26,0,0,25,0,0,24,0,0]
[null,null,null,null,null,null,null,null,105,0,104,0,0,103,0,0,102,0,0,101,0,0,100,0,0,99,0,0,98,0,0,97,0,0,96,0,{"$f":"SUM($G$10*$G$11*AJ128*(EXP(-($G$10*AI128))),$G$10*$G$11*AJ128*(EXP(-($G$10*(AI128+0.1)))),$G$10*$G$11*AJ128*(EXP(-($G$10*(AI128+0.2)))),$G$10*$G$11*AJ128*(EXP(-($G$10*(AI128+0.3)))),$G$10*$G$11*AJ128*(EXP(-($G$10*(AI128+0.4)))),$G$10*$G$11*AJ128*(EXP(-($G$10*(AI128+0.5)))),$G$10*$G$11*AJ128*(EXP(-($G$10*(AI128+0.6)))),$G$10*$G$11*AJ128*(EXP(-($G$10*(AI128+0.7)))),$G$10*$G$11*AJ128*(EXP(-($G$10*(AI128+0.8)))),$G$10*$G$11*AJ128*(EXP(-($G$10*(AI128+0.9)))))/10","v":0},95,0,0,94,0,0,93,0,0,92,0,0,91,0,0,90,0,0,89,0,0,88,0,0,87,0,0,86,0,0,85,0,0,84,0,0,83,0,0,82,0,0,81,0,0,80,0,0,79,0,0,78,0,0,77,0,0,76,0,0,75,0,0,74,0,0,73,0,0,72,0,0,71,0,0,70,0,0,69,0,0,68,0,0,67,0,0,66,0,0,65,0,0,64,0,{"$f":"SUM($G$10*$G$11*EB128*(EXP(-($G$10*EA128))),$G$10*$G$11*EB128*(EXP(-($G$10*(EA128+0.1)))),$G$10*$G$11*EB128*(EXP(-($G$10*(EA128+0.2)))),$G$10*$G$11*EB128*(EXP(-($G$10*(EA128+0.3)))),$G$10*$G$11*EB128*(EXP(-($G$10*(EA128+0.4)))),$G$10*$G$11*EB128*(EXP(-($G$10*(EA128+0.5)))),$G$10*$G$11*EB128*(EXP(-($G$10*(EA128+0.6)))),$G$10*$G$11*EB128*(EXP(-($G$10*(EA128+0.7)))),$G$10*$G$11*EB128*(EXP(-($G$10*(EA128+0.8)))),$G$10*$G$11*EB128*(EXP(-($G$10*(EA128+0.9)))))/10","v":0},63,0,0,62,0,0,61,0,0,60,0,0,59,0,0,58,0,0,57,0,0,56,0,0,55,0,0,54,0,0,53,0,0,52,0,0,51,0,0,50,0,0,49,0,0,48,0,0,47,0,0,46,0,0,45,0,0,44,0,0,43,0,0,42,0,0,41,0,0,40,0,0,39,0,0,38,0,0,37,0,0,36,0,0,35,0,0,34,0,0,33,0,0,32,0,{"$f":"SUM($G$10*$G$11*HT128*(EXP(-($G$10*HS128))),$G$10*$G$11*HT128*(EXP(-($G$10*(HS128+0.1)))),$G$10*$G$11*HT128*(EXP(-($G$10*(HS128+0.2)))),$G$10*$G$11*HT128*(EXP(-($G$10*(HS128+0.3)))),$G$10*$G$11*HT128*(EXP(-($G$10*(HS128+0.4)))),$G$10*$G$11*HT128*(EXP(-($G$10*(HS128+0.5)))),$G$10*$G$11*HT128*(EXP(-($G$10*(HS128+0.6)))),$G$10*$G$11*HT128*(EXP(-($G$10*(HS128+0.7)))),$G$10*$G$11*HT128*(EXP(-($G$10*(HS128+0.8)))),$G$10*$G$11*HT128*(EXP(-($G$10*(HS128+0.9)))))/10","v":0},31,0,0,30,0,0,29,0,0,28,0,0,27,0,0,26,0,0,25,0,0]
[null,null,null,null,null,null,null,null,106,0,105,0,0,104,0,0,103,0,0,102,0,0,101,0,0,100,0,0,99,0,0,98,0,0,97,0,0,96,0,{"$f":"SUM($G$10*$G$11*AM129*(EXP(-($G$10*AL129))),$G$10*$G$11*AM129*(EXP(-($G$10*(AL129+0.1)))),$G$10*$G$11*AM129*(EXP(-($G$10*(AL129+0.2)))),$G$10*$G$11*AM129*(EXP(-($G$10*(AL129+0.3)))),$G$10*$G$11*AM129*(EXP(-($G$10*(AL129+0.4)))),$G$10*$G$11*AM129*(EXP(-($G$10*(AL129+0.5)))),$G$10*$G$11*AM129*(EXP(-($G$10*(AL129+0.6)))),$G$10*$G$11*AM129*(EXP(-($G$10*(AL129+0.7)))),$G$10*$G$11*AM129*(EXP(-($G$10*(AL129+0.8)))),$G$10*$G$11*AM129*(EXP(-($G$10*(AL129+0.9)))))/10","v":0},95,0,0,94,0,0,93,0,0,92,0,0,91,0,0,90,0,0,89,0,0,88,0,0,87,0,0,86,0,0,85,0,0,84,0,0,83,0,0,82,0,0,81,0,0,80,0,0,79,0,0,78,0,0,77,0,0,76,0,0,75,0,0,74,0,0,73,0,0,72,0,0,71,0,0,70,0,0,69,0,0,68,0,0,67,0,0,66,0,0,65,{"$f":"$E$63","v":0},0,64,0,{"$f":"SUM($G$10*$G$11*EE129*(EXP(-($G$10*ED129))),$G$10*$G$11*EE129*(EXP(-($G$10*(ED129+0.1)))),$G$10*$G$11*EE129*(EXP(-($G$10*(ED129+0.2)))),$G$10*$G$11*EE129*(EXP(-($G$10*(ED129+0.3)))),$G$10*$G$11*EE129*(EXP(-($G$10*(ED129+0.4)))),$G$10*$G$11*EE129*(EXP(-($G$10*(ED129+0.5)))),$G$10*$G$11*EE129*(EXP(-($G$10*(ED129+0.6)))),$G$10*$G$11*EE129*(EXP(-($G$10*(ED129+0.7)))),$G$10*$G$11*EE129*(EXP(-($G$10*(ED129+0.8)))),$G$10*$G$11*EE129*(EXP(-($G$10*(ED129+0.9)))))/10","v":0},63,0,0,62,0,0,61,0,0,60,0,0,59,0,0,58,0,0,57,0,0,56,0,0,55,0,0,54,0,0,53,0,0,52,0,0,51,0,0,50,0,0,49,0,0,48,0,0,47,0,0,46,0,0,45,0,0,44,0,0,43,0,0,42,0,0,41,0,0,40,0,0,39,0,0,38,0,0,37,0,0,36,0,0,35,0,0,34,0,0,33,0,0,32,0,{"$f":"SUM($G$10*$G$11*HW129*(EXP(-($G$10*HV129))),$G$10*$G$11*HW129*(EXP(-($G$10*(HV129+0.1)))),$G$10*$G$11*HW129*(EXP(-($G$10*(HV129+0.2)))),$G$10*$G$11*HW129*(EXP(-($G$10*(HV129+0.3)))),$G$10*$G$11*HW129*(EXP(-($G$10*(HV129+0.4)))),$G$10*$G$11*HW129*(EXP(-($G$10*(HV129+0.5)))),$G$10*$G$11*HW129*(EXP(-($G$10*(HV129+0.6)))),$G$10*$G$11*HW129*(EXP(-($G$10*(HV129+0.7)))),$G$10*$G$11*HW129*(EXP(-($G$10*(HV129+0.8)))),$G$10*$G$11*HW129*(EXP(-($G$10*(HV129+0.9)))))/10","v":0},31,0,0,30,0,0,29,0,0,28,0,0,27,0,0,26,0,0]
[null,null,null,null,null,null,null,null,107,0,106,0,0,105,0,0,104,0,0,103,0,0,102,0,0,101,0,0,100,0,0,99,0,0,98,0,0,97,0,0,96,0,{"$f":"SUM($G$10*$G$11*AP130*(EXP(-($G$10*AO130))),$G$10*$G$11*AP130*(EXP(-($G$10*(AO130+0.1)))),$G$10*$G$11*AP130*(EXP(-($G$10*(AO130+0.2)))),$G$10*$G$11*AP130*(EXP(-($G$10*(AO130+0.3)))),$G$10*$G$11*AP130*(EXP(-($G$10*(AO130+0.4)))),$G$10*$G$11*AP130*(EXP(-($G$10*(AO130+0.5)))),$G$10*$G$11*AP130*(EXP(-($G$10*(AO130+0.6)))),$G$10*$G$11*AP130*(EXP(-($G$10*(AO130+0.7)))),$G$10*$G$11*AP130*(EXP(-($G$10*(AO130+0.8)))),$G$10*$G$11*AP130*(EXP(-($G$10*(AO130+0.9)))))/10","v":0},95,0,0,94,0,0,93,0,0,92,0,0,91,0,0,90,0,0,89,0,0,88,0,0,87,0,0,86,0,0,85,0,0,84,0,0,83,0,0,82,0,0,81,0,0,80,0,0,79,0,0,78,0,0,77,0,0,76,0,0,75,0,0,74,0,0,73,0,0,72,0,0,71,0,0,70,0,0,69,0,0,68,0,0,67,0,0,66,0,0,65,{"$f":"$E$64","v":0},0,64,0,{"$f":"SUM($G$10*$G$11*EH130*(EXP(-($G$10*EG130))),$G$10*$G$11*EH130*(EXP(-($G$10*(EG130+0.1)))),$G$10*$G$11*EH130*(EXP(-($G$10*(EG130+0.2)))),$G$10*$G$11*EH130*(EXP(-($G$10*(EG130+0.3)))),$G$10*$G$11*EH130*(EXP(-($G$10*(EG130+0.4)))),$G$10*$G$11*EH130*(EXP(-($G$10*(EG130+0.5)))),$G$10*$G$11*EH130*(EXP(-($G$10*(EG130+0.6)))),$G$10*$G$11*EH130*(EXP(-($G$10*(EG130+0.7)))),$G$10*$G$11*EH130*(EXP(-($G$10*(EG130+0.8)))),$G$10*$G$11*EH130*(EXP(-($G$10*(EG130+0.9)))))/10","v":0},63,0,0,62,0,0,61,0,0,60,0,0,59,0,0,58,0,0,57,0,0,56,0,0,55,0,0,54,0,0,53,0,0,52,0,0,51,0,0,50,0,0,49,0,0,48,0,0,47,0,0,46,0,0,45,0,0,44,0,0,43,0,0,42,0,0,41,0,0,40,0,0,39,0,0,38,0,0,37,0,0,36,0,0,35,0,0,34,0,0,33,0,0,32,0,{"$f":"SUM($G$10*$G$11*HZ130*(EXP(-($G$10*HY130))),$G$10*$G$11*HZ130*(EXP(-($G$10*(HY130+0.1)))),$G$10*$G$11*HZ130*(EXP(-($G$10*(HY130+0.2)))),$G$10*$G$11*HZ130*(EXP(-($G$10*(HY130+0.3)))),$G$10*$G$11*HZ130*(EXP(-($G$10*(HY130+0.4)))),$G$10*$G$11*HZ130*(EXP(-($G$10*(HY130+0.5)))),$G$10*$G$11*HZ130*(EXP(-($G$10*(HY130+0.6)))),$G$10*$G$11*HZ130*(EXP(-($G$10*(HY130+0.7)))),$G$10*$G$11*HZ130*(EXP(-($G$10*(HY130+0.8)))),$G$10*$G$11*HZ130*(EXP(-($G$10*(HY130+0.9)))))/10","v":0},31,0,0,30,0,0,29,0,0,28,0,0,27,0,0]
[null,null,null,null,null,null,null,null,108,0,107,0,0,106,0,0,105,0,0,104,0,0,103,0,0,102,0,0,101,0,0,100,0,0,99,0,0,98,0,0,97,0,0,96,0,{"$f":"SUM($G$10*$G$11*AS131*(EXP(-($G$10*AR131))),$G$10*$G$11*AS131*(EXP(-($G$10*(AR131+0.1)))),$G$10*$G$11*AS131*(EXP(-($G$10*(AR131+0.2)))),$G$10*$G$11*AS131*(EXP(-($G$10*(AR131+0.3)))),$G$10*$G$11*AS131*(EXP(-($G$10*(AR131+0.4)))),$G$10*$G$11*AS131*(EXP(-($G$10*(AR131+0.5)))),$G$10*$G$11*AS131*(EXP(-($G$10*(AR131+0.6)))),$G$10*$G$11*AS131*(EXP(-($G$10*(AR131+0.7)))),$G$10*$G$11*AS131*(EXP(-($G$10*(AR131+0.8)))),$G$10*$G$11*AS131*(EXP(-($G$10*(AR131+0.9)))))/10","v":0},95,0,0,94,0,0,93,0,0,92,0,0,91,0,0,90,0,0,89,0,0,88,0,0,87,0,0,86,0,0,85,0,0,84,0,0,83,0,0,82,0,0,81,0,0,80,0,0,79,0,0,78,0,0,77,0,0,76,0,0,75,0,0,74,0,0,73,0,0,72,0,0,71,0,0,70,0,0,69,0,0,68,0,0,67,0,0,66,0,0,65,{"$f":"$E$65","v":0},0,64,0,{"$f":"SUM($G$10*$G$11*EK131*(EXP(-($G$10*EJ131))),$G$10*$G$11*EK131*(EXP(-($G$10*(EJ131+0.1)))),$G$10*$G$11*EK131*(EXP(-($G$10*(EJ131+0.2)))),$G$10*$G$11*EK131*(EXP(-($G$10*(EJ131+0.3)))),$G$10*$G$11*EK131*(EXP(-($G$10*(EJ131+0.4)))),$G$10*$G$11*EK131*(EXP(-($G$10*(EJ131+0.5)))),$G$10*$G$11*EK131*(EXP(-($G$10*(EJ131+0.6)))),$G$10*$G$11*EK131*(EXP(-($G$10*(EJ131+0.7)))),$G$10*$G$11*EK131*(EXP(-($G$10*(EJ131+0.8)))),$G$10*$G$11*EK131*(EXP(-($G$10*(EJ131+0.9)))))/10","v":0},63,0,0,62,0,0,61,0,0,60,0,0,59,0,0,58,0,0,57,0,0,56,0,0,55,0,0,54,0,0,53,0,0,52,0,0,51,0,0,50,0,0,49,0,0,48,0,0,47,0,0,46,0,0,45,0,0,44,0,0,43,0,0,42,0,0,41,0,0,40,0,0,39,0,0,38,0,0,37,0,0,36,0,0,35,0,0,34,0,0,33,0,0,32,0,{"$f":"SUM($G$10*$G$11*IC131*(EXP(-($G$10*IB131))),$G$10*$G$11*IC131*(EXP(-($G$10*(IB131+0.1)))),$G$10*$G$11*IC131*(EXP(-($G$10*(IB131+0.2)))),$G$10*$G$11*IC131*(EXP(-($G$10*(IB131+0.3)))),$G$10*$G$11*IC131*(EXP(-($G$10*(IB131+0.4)))),$G$10*$G$11*IC131*(EXP(-($G$10*(IB131+0.5)))),$G$10*$G$11*IC131*(EXP(-($G$10*(IB131+0.6)))),$G$10*$G$11*IC131*(EXP(-($G$10*(IB131+0.7)))),$G$10*$G$11*IC131*(EXP(-($G$10*(IB131+0.8)))),$G$10*$G$11*IC131*(EXP(-($G$10*(IB131+0.9)))))/10","v":0},31,0,0,30,0,0,29,0,0,28,0,0]
[null,null,null,null,null,null,null,null,109,0,108,0,0,107,0,0,106,0,0,105,0,0,104,0,0,103,0,0,102,0,0,101,0,0,100,0,0,99,0,0,98,0,0,97,0,0,96,0,{"$f":"SUM($G$10*$G$11*AV132*(EXP(-($G$10*AU132))),$G$10*$G$11*AV132*(EXP(-($G$10*(AU132+0.1)))),$G$10*$G$11*AV132*(EXP(-($G$10*(AU132+0.2)))),$G$10*$G$11*AV132*(EXP(-($G$10*(AU132+0.3)))),$G$10*$G$11*AV132*(EXP(-($G$10*(AU132+0.4)))),$G$10*$G$11*AV132*(EXP(-($G$10*(AU132+0.5)))),$G$10*$G$11*AV132*(EXP(-($G$10*(AU132+0.6)))),$G$10*$G$11*AV132*(EXP(-($G$10*(AU132+0.7)))),$G$10*$G$11*AV132*(EXP(-($G$10*(AU132+0.8)))),$G$10*$G$11*AV132*(EXP(-($G$10*(AU132+0.9)))))/10","v":0},95,0,0,94,0,0,93,0,0,92,0,0,91,0,0,90,0,0,89,0,0,88,0,0,87,0,0,86,0,0,85,0,0,84,0,0,83,0,0,82,0,0,81,0,0,80,0,0,79,0,0,78,0,0,77,0,0,76,0,0,75,0,0,74,0,0,73,0,0,72,0,0,71,0,0,70,0,0,69,0,0,68,0,0,67,0,0,66,0,0,65,{"$f":"$E$66","v":0},0,64,0,{"$f":"SUM($G$10*$G$11*EN132*(EXP(-($G$10*EM132))),$G$10*$G$11*EN132*(EXP(-($G$10*(EM132+0.1)))),$G$10*$G$11*EN132*(EXP(-($G$10*(EM132+0.2)))),$G$10*$G$11*EN132*(EXP(-($G$10*(EM132+0.3)))),$G$10*$G$11*EN132*(EXP(-($G$10*(EM132+0.4)))),$G$10*$G$11*EN132*(EXP(-($G$10*(EM132+0.5)))),$G$10*$G$11*EN132*(EXP(-($G$10*(EM132+0.6)))),$G$10*$G$11*EN132*(EXP(-($G$10*(EM132+0.7)))),$G$10*$G$11*EN132*(EXP(-($G$10*(EM132+0.8)))),$G$10*$G$11*EN132*(EXP(-($G$10*(EM132+0.9)))))/10","v":0},63,0,0,62,0,0,61,0,0,60,0,0,59,0,0,58,0,0,57,0,0,56,0,0,55,0,0,54,0,0,53,0,0,52,0,0,51,0,0,50,0,0,49,0,0,48,0,0,47,0,0,46,0,0,45,0,0,44,0,0,43,0,0,42,0,0,41,0,0,40,0,0,39,0,0,38,0,0,37,0,0,36,0,0,35,0,0,34,0,0,33,0,0,32,0,{"$f":"SUM($G$10*$G$11*IF132*(EXP(-($G$10*IE132))),$G$10*$G$11*IF132*(EXP(-($G$10*(IE132+0.1)))),$G$10*$G$11*IF132*(EXP(-($G$10*(IE132+0.2)))),$G$10*$G$11*IF132*(EXP(-($G$10*(IE132+0.3)))),$G$10*$G$11*IF132*(EXP(-($G$10*(IE132+0.4)))),$G$10*$G$11*IF132*(EXP(-($G$10*(IE132+0.5)))),$G$10*$G$11*IF132*(EXP(-($G$10*(IE132+0.6)))),$G$10*$G$11*IF132*(EXP(-($G$10*(IE132+0.7)))),$G$10*$G$11*IF132*(EXP(-($G$10*(IE132+0.8)))),$G$10*$G$11*IF132*(EXP(-($G$10*(IE132+0.9)))))/10","v":0},31,0,0,30,0,0,29,0,0]
[null,null,null,null,null,null,null,null,110,0,109,0,0,108,0,0,107,0,0,106,0,0,105,0,0,104,0,0,103,0,0,102,0,0,101,0,0,100,0,0,99,0,0,98,0,0,97,0,0,96,0,{"$f":"SUM($G$10*$G$11*AY133*(EXP(-($G$10*AX133))),$G$10*$G$11*AY133*(EXP(-($G$10*(AX133+0.1)))),$G$10*$G$11*AY133*(EXP(-($G$10*(AX133+0.2)))),$G$10*$G$11*AY133*(EXP(-($G$10*(AX133+0.3)))),$G$10*$G$11*AY133*(EXP(-($G$10*(AX133+0.4)))),$G$10*$G$11*AY133*(EXP(-($G$10*(AX133+0.5)))),$G$10*$G$11*AY133*(EXP(-($G$10*(AX133+0.6)))),$G$10*$G$11*AY133*(EXP(-($G$10*(AX133+0.7)))),$G$10*$G$11*AY133*(EXP(-($G$10*(AX133+0.8)))),$G$10*$G$11*AY133*(EXP(-($G$10*(AX133+0.9)))))/10","v":0},95,0,0,94,0,0,93,0,0,92,0,0,91,0,0,90,0,0,89,0,0,88,0,0,87,0,0,86,0,0,85,0,0,84,0,0,83,0,0,82,0,0,81,0,0,80,0,0,79,0,0,78,0,0,77,0,0,76,0,0,75,0,0,74,0,0,73,0,0,72,0,0,71,0,0,70,0,0,69,0,0,68,0,0,67,0,0,66,0,0,65,{"$f":"$E$67","v":0},0,64,0,{"$f":"SUM($G$10*$G$11*EQ133*(EXP(-($G$10*EP133))),$G$10*$G$11*EQ133*(EXP(-($G$10*(EP133+0.1)))),$G$10*$G$11*EQ133*(EXP(-($G$10*(EP133+0.2)))),$G$10*$G$11*EQ133*(EXP(-($G$10*(EP133+0.3)))),$G$10*$G$11*EQ133*(EXP(-($G$10*(EP133+0.4)))),$G$10*$G$11*EQ133*(EXP(-($G$10*(EP133+0.5)))),$G$10*$G$11*EQ133*(EXP(-($G$10*(EP133+0.6)))),$G$10*$G$11*EQ133*(EXP(-($G$10*(EP133+0.7)))),$G$10*$G$11*EQ133*(EXP(-($G$10*(EP133+0.8)))),$G$10*$G$11*EQ133*(EXP(-($G$10*(EP133+0.9)))))/10","v":0},63,0,0,62,0,0,61,0,0,60,0,0,59,0,0,58,0,0,57,0,0,56,0,0,55,0,0,54,0,0,53,0,0,52,0,0,51,0,0,50,0,0,49,0,0,48,0,0,47,0,0,46,0,0,45,0,0,44,0,0,43,0,0,42,0,0,41,0,0,40,0,0,39,0,0,38,0,0,37,0,0,36,0,0,35,0,0,34,0,0,33,0,0,32,0,{"$f":"SUM($G$10*$G$11*II133*(EXP(-($G$10*IH133))),$G$10*$G$11*II133*(EXP(-($G$10*(IH133+0.1)))),$G$10*$G$11*II133*(EXP(-($G$10*(IH133+0.2)))),$G$10*$G$11*II133*(EXP(-($G$10*(IH133+0.3)))),$G$10*$G$11*II133*(EXP(-($G$10*(IH133+0.4)))),$G$10*$G$11*II133*(EXP(-($G$10*(IH133+0.5)))),$G$10*$G$11*II133*(EXP(-($G$10*(IH133+0.6)))),$G$10*$G$11*II133*(EXP(-($G$10*(IH133+0.7)))),$G$10*$G$11*II133*(EXP(-($G$10*(IH133+0.8)))),$G$10*$G$11*II133*(EXP(-($G$10*(IH133+0.9)))))/10","v":0},31,0,0,30,0,0]
[null,null,null,null,null,null,null,null,111,0,110,0,0,109,0,0,108,0,0,107,0,0,106,0,0,105,0,0,104,0,0,103,0,0,102,0,0,101,0,0,100,0,0,99,0,0,98,0,0,97,0,0,96,0,{"$f":"SUM($G$10*$G$11*BB134*(EXP(-($G$10*BA134))),$G$10*$G$11*BB134*(EXP(-($G$10*(BA134+0.1)))),$G$10*$G$11*BB134*(EXP(-($G$10*(BA134+0.2)))),$G$10*$G$11*BB134*(EXP(-($G$10*(BA134+0.3)))),$G$10*$G$11*BB134*(EXP(-($G$10*(BA134+0.4)))),$G$10*$G$11*BB134*(EXP(-($G$10*(BA134+0.5)))),$G$10*$G$11*BB134*(EXP(-($G$10*(BA134+0.6)))),$G$10*$G$11*BB134*(EXP(-($G$10*(BA134+0.7)))),$G$10*$G$11*BB134*(EXP(-($G$10*(BA134+0.8)))),$G$10*$G$11*BB134*(EXP(-($G$10*(BA134+0.9)))))/10","v":0},95,0,0,94,0,0,93,0,0,92,0,0,91,0,0,90,0,0,89,0,0,88,0,0,87,0,0,86,0,0,85,0,0,84,0,0,83,0,0,82,0,0,81,0,0,80,0,0,79,0,0,78,0,0,77,0,0,76,0,0,75,0,0,74,0,0,73,0,0,72,0,0,71,0,0,70,0,0,69,0,0,68,0,0,67,0,0,66,0,0,65,{"$f":"$E$68","v":0},0,64,{"$f":"$E$69","v":0},{"$f":"SUM($G$10*$G$11*ET134*(EXP(-($G$10*ES134))),$G$10*$G$11*ET134*(EXP(-($G$10*(ES134+0.1)))),$G$10*$G$11*ET134*(EXP(-($G$10*(ES134+0.2)))),$G$10*$G$11*ET134*(EXP(-($G$10*(ES134+0.3)))),$G$10*$G$11*ET134*(EXP(-($G$10*(ES134+0.4)))),$G$10*$G$11*ET134*(EXP(-($G$10*(ES134+0.5)))),$G$10*$G$11*ET134*(EXP(-($G$10*(ES134+0.6)))),$G$10*$G$11*ET134*(EXP(-($G$10*(ES134+0.7)))),$G$10*$G$11*ET134*(EXP(-($G$10*(ES134+0.8)))),$G$10*$G$11*ET134*(EXP(-($G$10*(ES134+0.9)))))/10","v":0},63,0,0,62,0,0,61,0,0,60,0,0,59,0,0,58,0,0,57,0,0,56,0,0,55,0,0,54,0,0,53,0,0,52,0,0,51,0,0,50,0,0,49,0,0,48,0,0,47,0,0,46,0,0,45,0,0,44,0,0,43,0,0,42,0,0,41,0,0,40,0,0,39,0,0,38,0,0,37,0,0,36,0,0,35,0,0,34,0,0,33,0,0,32,0,{"$f":"SUM($G$10*$G$11*IL134*(EXP(-($G$10*IK134))),$G$10*$G$11*IL134*(EXP(-($G$10*(IK134+0.1)))),$G$10*$G$11*IL134*(EXP(-($G$10*(IK134+0.2)))),$G$10*$G$11*IL134*(EXP(-($G$10*(IK134+0.3)))),$G$10*$G$11*IL134*(EXP(-($G$10*(IK134+0.4)))),$G$10*$G$11*IL134*(EXP(-($G$10*(IK134+0.5)))),$G$10*$G$11*IL134*(EXP(-($G$10*(IK134+0.6)))),$G$10*$G$11*IL134*(EXP(-($G$10*(IK134+0.7)))),$G$10*$G$11*IL134*(EXP(-($G$10*(IK134+0.8)))),$G$10*$G$11*IL134*(EXP(-($G$10*(IK134+0.9)))))/10","v":0},31,0,0]
[null,null,null,null,null,null,null,null,112,0,111,0,0,110,0,0,109,0,0,108,0,0,107,0,0,106,0,0,105,0,0,104,0,0,103,0,0,102,0,0,101,0,0,100,0,0,99,0,0,98,0,0,97,0,0,96,0,{"$f":"SUM($G$10*$G$11*BE135*(EXP(-($G$10*BD135))),$G$10*$G$11*BE135*(EXP(-($G$10*(BD135+0.1)))),$G$10*$G$11*BE135*(EXP(-($G$10*(BD135+0.2)))),$G$10*$G$11*BE135*(EXP(-($G$10*(BD135+0.3)))),$G$10*$G$11*BE135*(EXP(-($G$10*(BD135+0.4)))),$G$10*$G$11*BE135*(EXP(-($G$10*(BD135+0.5)))),$G$10*$G$11*BE135*(EXP(-($G$10*(BD135+0.6)))),$G$10*$G$11*BE135*(EXP(-($G$10*(BD135+0.7)))),$G$10*$G$11*BE135*(EXP(-($G$10*(BD135+0.8)))),$G$10*$G$11*BE135*(EXP(-($G$10*(BD135+0.9)))))/10","v":0},95,0,0,94,0,0,93,0,0,92,0,0,91,0,0,90,0,0,89,0,0,88,0,0,87,0,0,86,0,0,85,0,0,84,0,0,83,0,0,82,0,0,81,0,0,80,0,0,79,0,0,78,0,0,77,0,0,76,0,0,75,0,0,74,0,0,73,0,0,72,0,0,71,0,0,70,0,0,69,0,0,68,0,0,67,0,0,66,0,0,65,0,0,64,{"$f":"$E$70","v":0},{"$f":"SUM($G$10*$G$11*EW135*(EXP(-($G$10*EV135))),$G$10*$G$11*EW135*(EXP(-($G$10*(EV135+0.1)))),$G$10*$G$11*EW135*(EXP(-($G$10*(EV135+0.2)))),$G$10*$G$11*EW135*(EXP(-($G$10*(EV135+0.3)))),$G$10*$G$11*EW135*(EXP(-($G$10*(EV135+0.4)))),$G$10*$G$11*EW135*(EXP(-($G$10*(EV135+0.5)))),$G$10*$G$11*EW135*(EXP(-($G$10*(EV135+0.6)))),$G$10*$G$11*EW135*(EXP(-($G$10*(EV135+0.7)))),$G$10*$G$11*EW135*(EXP(-($G$10*(EV135+0.8)))),$G$10*$G$11*EW135*(EXP(-($G$10*(EV135+0.9)))))/10","v":0},63,0,0,62,0,0,61,0,0,60,0,0,59,0,0,58,0,0,57,0,0,56,0,0,55,0,0,54,0,0,53,0,0,52,0,0,51,0,0,50,0,0,49,0,0,48,0,0,47,0,0,46,0,0,45,0,0,44,0,0,43,0,0,42,0,0,41,0,0,40,0,0,39,0,0,38,0,0,37,0,0,36,0,0,35,0,0,34,0,0,33,0,0,32,0,{"$f":"SUM($G$10*$G$11*IO135*(EXP(-($G$10*IN135))),$G$10*$G$11*IO135*(EXP(-($G$10*(IN135+0.1)))),$G$10*$G$11*IO135*(EXP(-($G$10*(IN135+0.2)))),$G$10*$G$11*IO135*(EXP(-($G$10*(IN135+0.3)))),$G$10*$G$11*IO135*(EXP(-($G$10*(IN135+0.4)))),$G$10*$G$11*IO135*(EXP(-($G$10*(IN135+0.5)))),$G$10*$G$11*IO135*(EXP(-($G$10*(IN135+0.6)))),$G$10*$G$11*IO135*(EXP(-($G$10*(IN135+0.7)))),$G$10*$G$11*IO135*(EXP(-($G$10*(IN135+0.8)))),$G$10*$G$11*IO135*(EXP(-($G$10*(IN135+0.9)))))/10","v":0}]
[null,null,null,null,null,null,null,null,113,0,112,0,0,111,0,0,110,0,0,109,0,0,108,0,0,107,0,0,106,0,0,105,0,0,104,0,0,103,0,0,102,0,0,101,0,0,100,0,0,99,0,0,98,0,0,97,0,0,96,0,{"$f":"SUM($G$10*$G$11*BH136*(EXP(-($G$10*BG136))),$G$10*$G$11*BH136*(EXP(-($G$10*(BG136+0.1)))),$G$10*$G$11*BH136*(EXP(-($G$10*(BG136+0.2)))),$G$10*$G$11*BH136*(EXP(-($G$10*(BG136+0.3)))),$G$10*$G$11*BH136*(EXP(-($G$10*(BG136+0.4)))),$G$10*$G$11*BH136*(EXP(-($G$10*(BG136+0.5)))),$G$10*$G$11*BH136*(EXP(-($G$10*(BG136+0.6)))),$G$10*$G$11*BH136*(EXP(-($G$10*(BG136+0.7)))),$G$10*$G$11*BH136*(EXP(-($G$10*(BG136+0.8)))),$G$10*$G$11*BH136*(EXP(-($G$10*(BG136+0.9)))))/10","v":0},95,0,0,94,0,0,93,0,0,92,0,0,91,0,0,90,0,0,89,0,0,88,0,0,87,0,0,86,0,0,85,0,0,84,0,0,83,0,0,82,0,0,81,0,0,80,0,0,79,0,0,78,0,0,77,0,0,76,0,0,75,0,0,74,0,0,73,0,0,72,0,0,71,0,0,70,0,0,69,0,0,68,0,0,67,0,0,66,0,0,65,0,0,64,0,{"$f":"SUM($G$10*$G$11*EZ136*(EXP(-($G$10*EY136))),$G$10*$G$11*EZ136*(EXP(-($G$10*(EY136+0.1)))),$G$10*$G$11*EZ136*(EXP(-($G$10*(EY136+0.2)))),$G$10*$G$11*EZ136*(EXP(-($G$10*(EY136+0.3)))),$G$10*$G$11*EZ136*(EXP(-($G$10*(EY136+0.4)))),$G$10*$G$11*EZ136*(EXP(-($G$10*(EY136+0.5)))),$G$10*$G$11*EZ136*(EXP(-($G$10*(EY136+0.6)))),$G$10*$G$11*EZ136*(EXP(-($G$10*(EY136+0.7)))),$G$10*$G$11*EZ136*(EXP(-($G$10*(EY136+0.8)))),$G$10*$G$11*EZ136*(EXP(-($G$10*(EY136+0.9)))))/10","v":0},63,0,0,62,0,0,61,0,0,60,0,0,59,0,0,58,0,0,57,0,0,56,0,0,55,0,0,54,0,0,53,0,0,52,0,0,51,0,0,50,0,0,49,0,0,48,0,0,47,0,0,46,0,0,45,0,0,44,0,0,43,0,0,42,0,0,41,0,0,40,0,0,39,0,0,38,0,0,37,0,0,36,0,0,35,0,0,34,0,0,33,0,0]
[null,null,null,null,null,null,null,null,114,0,113,0,0,112,0,0,111,0,0,110,0,0,109,0,0,108,0,0,107,0,0,106,0,0,105,0,0,104,0,0,103,0,0,102,0,0,101,0,0,100,0,0,99,0,0,98,0,0,97,0,0,96,0,{"$f":"SUM($G$10*$G$11*BK137*(EXP(-($G$10*BJ137))),$G$10*$G$11*BK137*(EXP(-($G$10*(BJ137+0.1)))),$G$10*$G$11*BK137*(EXP(-($G$10*(BJ137+0.2)))),$G$10*$G$11*BK137*(EXP(-($G$10*(BJ137+0.3)))),$G$10*$G$11*BK137*(EXP(-($G$10*(BJ137+0.4)))),$G$10*$G$11*BK137*(EXP(-($G$10*(BJ137+0.5)))),$G$10*$G$11*BK137*(EXP(-($G$10*(BJ137+0.6)))),$G$10*$G$11*BK137*(EXP(-($G$10*(BJ137+0.7)))),$G$10*$G$11*BK137*(EXP(-($G$10*(BJ137+0.8)))),$G$10*$G$11*BK137*(EXP(-($G$10*(BJ137+0.9)))))/10","v":0},95,0,0,94,0,0,93,0,0,92,0,0,91,0,0,90,0,0,89,0,0,88,0,0,87,0,0,86,0,0,85,0,0,84,0,0,83,0,0,82,0,0,81,0,0,80,0,0,79,0,0,78,0,0,77,0,0,76,0,0,75,0,0,74,0,0,73,0,0,72,0,0,71,0,0,70,0,0,69,0,0,68,0,0,67,0,0,66,0,0,65,{"$f":"$E$71","v":0},0,64,{"$f":"$E$72","v":0},{"$f":"SUM($G$10*$G$11*FC137*(EXP(-($G$10*FB137))),$G$10*$G$11*FC137*(EXP(-($G$10*(FB137+0.1)))),$G$10*$G$11*FC137*(EXP(-($G$10*(FB137+0.2)))),$G$10*$G$11*FC137*(EXP(-($G$10*(FB137+0.3)))),$G$10*$G$11*FC137*(EXP(-($G$10*(FB137+0.4)))),$G$10*$G$11*FC137*(EXP(-($G$10*(FB137+0.5)))),$G$10*$G$11*FC137*(EXP(-($G$10*(FB137+0.6)))),$G$10*$G$11*FC137*(EXP(-($G$10*(FB137+0.7)))),$G$10*$G$11*FC137*(EXP(-($G$10*(FB137+0.8)))),$G$10*$G$11*FC137*(EXP(-($G$10*(FB137+0.9)))))/10","v":0},63,0,0,62,0,0,61,0,0,60,0,0,59,0,0,58,0,0,57,0,0,56,0,0,55,0,0,54,0,0,53,0,0,52,0,0,51,0,0,50,0,0,49,0,0,48,0,0,47,0,0,46,0,0,45,0,0,44,0,0,43,0,0,42,0,0,41,0,0,40,0,0,39,0,0,38,0,0,37,0,0,36,0,0,35,0,0,34,0,0]
[null,null,null,null,null,null,null,null,115,0,114,0,0,113,0,0,112,0,0,111,0,0,110,0,0,109,0,0,108,0,0,107,0,0,106,0,0,105,0,0,104,0,0,103,0,0,102,0,0,101,0,0,100,0,0,99,0,0,98,0,0,97,0,0,96,0,{"$f":"SUM($G$10*$G$11*BN138*(EXP(-($G$10*BM138))),$G$10*$G$11*BN138*(EXP(-($G$10*(BM138+0.1)))),$G$10*$G$11*BN138*(EXP(-($G$10*(BM138+0.2)))),$G$10*$G$11*BN138*(EXP(-($G$10*(BM138+0.3)))),$G$10*$G$11*BN138*(EXP(-($G$10*(BM138+0.4)))),$G$10*$G$11*BN138*(EXP(-($G$10*(BM138+0.5)))),$G$10*$G$11*BN138*(EXP(-($G$10*(BM138+0.6)))),$G$10*$G$11*BN138*(EXP(-($G$10*(BM138+0.7)))),$G$10*$G$11*BN138*(EXP(-($G$10*(BM138+0.8)))),$G$10*$G$11*BN138*(EXP(-($G$10*(BM138+0.9)))))/10","v":0},95,0,0,94,0,0,93,0,0,92,0,0,91,0,0,90,0,0,89,0,0,88,0,0,87,0,0,86,0,0,85,0,0,84,0,0,83,0,0,82,0,0,81,0,0,80,0,0,79,0,0,78,0,0,77,0,0,76,0,0,75,0,0,74,0,0,73,0,0,72,0,0,71,0,0,70,0,0,69,0,0,68,0,0,67,0,0,66,0,0,65,0,0,64,0,{"$f":"SUM($G$10*$G$11*FF138*(EXP(-($G$10*FE138))),$G$10*$G$11*FF138*(EXP(-($G$10*(FE138+0.1)))),$G$10*$G$11*FF138*(EXP(-($G$10*(FE138+0.2)))),$G$10*$G$11*FF138*(EXP(-($G$10*(FE138+0.3)))),$G$10*$G$11*FF138*(EXP(-($G$10*(FE138+0.4)))),$G$10*$G$11*FF138*(EXP(-($G$10*(FE138+0.5)))),$G$10*$G$11*FF138*(EXP(-($G$10*(FE138+0.6)))),$G$10*$G$11*FF138*(EXP(-($G$10*(FE138+0.7)))),$G$10*$G$11*FF138*(EXP(-($G$10*(FE138+0.8)))),$G$10*$G$11*FF138*(EXP(-($G$10*(FE138+0.9)))))/10","v":0},63,0,0,62,0,0,61,0,0,60,0,0,59,0,0,58,0,0,57,0,0,56,0,0,55,0,0,54,0,0,53,0,0,52,0,0,51,0,0,50,0,0,49,0,0,48,0,0,47,0,0,46,0,0,45,0,0,44,0,0,43,0,0,42,0,0,41,0,0,40,0,0,39,0,0,38,0,0,37,0,0,36,0,0,35,0,0]
[null,null,null,null,null,null,null,null,116,0,115,0,0,114,0,0,113,0,0,112,0,0,111,0,0,110,0,0,109,0,0,108,0,0,107,0,0,106,0,0,105,0,0,104,0,0,103,0,0,102,0,0,101,0,0,100,0,0,99,0,0,98,0,0,97,0,0,96,0,{"$f":"SUM($G$10*$G$11*BQ139*(EXP(-($G$10*BP139))),$G$10*$G$11*BQ139*(EXP(-($G$10*(BP139+0.1)))),$G$10*$G$11*BQ139*(EXP(-($G$10*(BP139+0.2)))),$G$10*$G$11*BQ139*(EXP(-($G$10*(BP139+0.3)))),$G$10*$G$11*BQ139*(EXP(-($G$10*(BP139+0.4)))),$G$10*$G$11*BQ139*(EXP(-($G$10*(BP139+0.5)))),$G$10*$G$11*BQ139*(EXP(-($G$10*(BP139+0.6)))),$G$10*$G$11*BQ139*(EXP(-($G$10*(BP139+0.7)))),$G$10*$G$11*BQ139*(EXP(-($G$10*(BP139+0.8)))),$G$10*$G$11*BQ139*(EXP(-($G$10*(BP139+0.9)))))/10","v":0},95,0,0,94,0,0,93,0,0,92,0,0,91,0,0,90,0,0,89,0,0,88,0,0,87,0,0,86,0,0,85,0,0,84,0,0,83,0,0,82,0,0,81,0,0,80,0,0,79,0,0,78,0,0,77,0,0,76,0,0,{"$f":"IF(EA138=\"\",\"\",(EA138+1))","v":75},0,0,74,0,0,73,0,0,72,0,0,71,0,0,70,0,0,69,0,0,68,0,0,67,0,0,66,0,0,65,{"$f":"$E$73","v":0},0,64,{"$f":"$E$74","v":0},{"$f":"SUM($G$10*$G$11*FI139*(EXP(-($G$10*FH139))),$G$10*$G$11*FI139*(EXP(-($G$10*(FH139+0.1)))),$G$10*$G$11*FI139*(EXP(-($G$10*(FH139+0.2)))),$G$10*$G$11*FI139*(EXP(-($G$10*(FH139+0.3)))),$G$10*$G$11*FI139*(EXP(-($G$10*(FH139+0.4)))),$G$10*$G$11*FI139*(EXP(-($G$10*(FH139+0.5)))),$G$10*$G$11*FI139*(EXP(-($G$10*(FH139+0.6)))),$G$10*$G$11*FI139*(EXP(-($G$10*(FH139+0.7)))),$G$10*$G$11*FI139*(EXP(-($G$10*(FH139+0.8)))),$G$10*$G$11*FI139*(EXP(-($G$10*(FH139+0.9)))))/10","v":0},63,0,0,62,0,0,61,0,0,60,0,0,59,0,0,58,0,0,57,0,0,56,0,0,55,0,0,54,0,0,53,0,0,52,0,0,51,0,0,50,0,0,49,0,0,48,0,0,47,0,0,46,0,0,45,0,0,44,0,0,43,0,0,42,0,0,41,0,0,40,0,0,39,0,0,38,0,0,37,0,0,36,0,0]
[null,null,null,null,null,null,null,null,117,0,116,0,0,115,0,0,114,0,0,113,0,0,112,0,0,111,0,0,110,0,0,109,0,0,108,0,0,107,0,0,106,0,0,105,0,0,104,0,0,103,0,0,102,0,0,101,0,0,100,0,0,99,0,0,98,0,0,97,0,0,96,0,{"$f":"SUM($G$10*$G$11*BT140*(EXP(-($G$10*BS140))),$G$10*$G$11*BT140*(EXP(-($G$10*(BS140+0.1)))),$G$10*$G$11*BT140*(EXP(-($G$10*(BS140+0.2)))),$G$10*$G$11*BT140*(EXP(-($G$10*(BS140+0.3)))),$G$10*$G$11*BT140*(EXP(-($G$10*(BS140+0.4)))),$G$10*$G$11*BT140*(EXP(-($G$10*(BS140+0.5)))),$G$10*$G$11*BT140*(EXP(-($G$10*(BS140+0.6)))),$G$10*$G$11*BT140*(EXP(-($G$10*(BS140+0.7)))),$G$10*$G$11*BT140*(EXP(-($G$10*(BS140+0.8)))),$G$10*$G$11*BT140*(EXP(-($G$10*(BS140+0.9)))))/10","v":0},95,0,0,94,0,0,93,0,0,92,0,0,91,0,0,90,0,0,89,0,0,88,0,0,87,0,0,86,0,0,85,0,0,84,0,0,83,0,0,82,0,0,81,0,0,80,0,0,79,0,0,78,0,0,77,0,0,76,0,0,{"$f":"IF(ED139=\"\",\"\",(ED139+1))","v":75},0,0,74,0,0,73,0,0,72,0,0,71,0,0,70,0,0,69,0,0,68,0,0,67,0,0,66,0,0,65,0,0,64,0,{"$f":"SUM($G$10*$G$11*FL140*(EXP(-($G$10*FK140))),$G$10*$G$11*FL140*(EXP(-($G$10*(FK140+0.1)))),$G$10*$G$11*FL140*(EXP(-($G$10*(FK140+0.2)))),$G$10*$G$11*FL140*(EXP(-($G$10*(FK140+0.3)))),$G$10*$G$11*FL140*(EXP(-($G$10*(FK140+0.4)))),$G$10*$G$11*FL140*(EXP(-($G$10*(FK140+0.5)))),$G$10*$G$11*FL140*(EXP(-($G$10*(FK140+0.6)))),$G$10*$G$11*FL140*(EXP(-($G$10*(FK140+0.7)))),$G$10*$G$11*FL140*(EXP(-($G$10*(FK140+0.8)))),$G$10*$G$11*FL140*(EXP(-($G$10*(FK140+0.9)))))/10","v":0},63,0,0,62,0,0,61,0,0,60,0,0,59,0,0,58,0,0,57,0,0,56,0,0,55,0,0,54,0,0,53,0,0,52,0,0,51,0,0,50,0,0,49,0,0,48,0,0,47,0,0,46,0,0,45,0,0,44,0,0,43,0,0,42,0,0,41,0,0,40,0,0,39,0,0,38,0,0,37,0,0]
[null,null,null,null,null,null,null,null,118,0,117,0,0,116,0,0,115,0,0,114,0,0,113,0,0,112,0,0,111,0,0,110,0,0,109,0,0,108,0,0,107,0,0,106,0,0,105,0,0,104,0,0,103,0,0,102,0,0,101,0,0,100,0,0,99,0,0,98,0,0,97,0,0,96,0,{"$f":"SUM($G$10*$G$11*BW141*(EXP(-($G$10*BV141))),$G$10*$G$11*BW141*(EXP(-($G$10*(BV141+0.1)))),$G$10*$G$11*BW141*(EXP(-($G$10*(BV141+0.2)))),$G$10*$G$11*BW141*(EXP(-($G$10*(BV141+0.3)))),$G$10*$G$11*BW141*(EXP(-($G$10*(BV141+0.4)))),$G$10*$G$11*BW141*(EXP(-($G$10*(BV141+0.5)))),$G$10*$G$11*BW141*(EXP(-($G$10*(BV141+0.6)))),$G$10*$G$11*BW141*(EXP(-($G$10*(BV141+0.7)))),$G$10*$G$11*BW141*(EXP(-($G$10*(BV141+0.8)))),$G$10*$G$11*BW141*(EXP(-($G$10*(BV141+0.9)))))/10","v":0},95,0,0,94,0,0,93,0,0,92,0,0,91,0,0,90,0,0,89,0,0,88,0,0,87,0,0,86,0,0,85,0,0,84,0,0,83,0,0,82,0,0,81,0,0,80,0,0,79,0,0,78,0,0,77,0,0,76,0,0,{"$f":"IF(EG140=\"\",\"\",(EG140+1))","v":75},0,0,74,0,0,73,0,0,72,0,0,71,0,0,70,0,0,69,0,0,68,0,0,67,0,0,66,0,0,65,{"$f":"$E$75","v":0},0,64,0,{"$f":"SUM($G$10*$G$11*FO141*(EXP(-($G$10*FN141))),$G$10*$G$11*FO141*(EXP(-($G$10*(FN141+0.1)))),$G$10*$G$11*FO141*(EXP(-($G$10*(FN141+0.2)))),$G$10*$G$11*FO141*(EXP(-($G$10*(FN141+0.3)))),$G$10*$G$11*FO141*(EXP(-($G$10*(FN141+0.4)))),$G$10*$G$11*FO141*(EXP(-($G$10*(FN141+0.5)))),$G$10*$G$11*FO141*(EXP(-($G$10*(FN141+0.6)))),$G$10*$G$11*FO141*(EXP(-($G$10*(FN141+0.7)))),$G$10*$G$11*FO141*(EXP(-($G$10*(FN141+0.8)))),$G$10*$G$11*FO141*(EXP(-($G$10*(FN141+0.9)))))/10","v":0},63,0,0,62,0,0,61,0,0,60,0,0,59,0,0,58,0,0,57,0,0,56,0,0,55,0,0,54,0,0,53,0,0,52,0,0,51,0,0,50,0,0,49,0,0,48,0,0,47,0,0,46,0,0,45,0,0,44,0,0,43,0,0,42,0,0,41,0,0,40,0,0,39,0,0,38,0,0]
[null,null,null,null,null,null,null,null,119,0,118,0,0,117,0,0,116,0,0,115,0,0,114,0,0,113,0,0,112,0,0,111,0,0,110,0,0,109,0,0,108,0,0,107,0,0,106,0,0,105,0,0,104,0,0,103,0,0,102,0,0,101,0,0,100,0,0,99,0,0,98,0,0,97,0,0,96,0,{"$f":"SUM($G$10*$G$11*BZ142*(EXP(-($G$10*BY142))),$G$10*$G$11*BZ142*(EXP(-($G$10*(BY142+0.1)))),$G$10*$G$11*BZ142*(EXP(-($G$10*(BY142+0.2)))),$G$10*$G$11*BZ142*(EXP(-($G$10*(BY142+0.3)))),$G$10*$G$11*BZ142*(EXP(-($G$10*(BY142+0.4)))),$G$10*$G$11*BZ142*(EXP(-($G$10*(BY142+0.5)))),$G$10*$G$11*BZ142*(EXP(-($G$10*(BY142+0.6)))),$G$10*$G$11*BZ142*(EXP(-($G$10*(BY142+0.7)))),$G$10*$G$11*BZ142*(EXP(-($G$10*(BY142+0.8)))),$G$10*$G$11*BZ142*(EXP(-($G$10*(BY142+0.9)))))/10","v":0},95,0,0,94,0,0,93,0,0,92,0,0,91,0,0,90,0,0,89,0,0,88,0,0,87,0,0,86,0,0,85,0,0,84,0,0,83,0,0,82,0,0,81,0,0,80,0,0,79,0,0,78,0,0,77,0,0,76,0,0,{"$f":"IF(EJ141=\"\",\"\",(EJ141+1))","v":75},0,0,74,0,0,73,0,0,72,0,0,71,0,0,70,0,0,69,0,0,68,0,0,67,0,0,66,0,0,65,{"$f":"$E$76","v":0},0,64,0,{"$f":"SUM($G$10*$G$11*FR142*(EXP(-($G$10*FQ142))),$G$10*$G$11*FR142*(EXP(-($G$10*(FQ142+0.1)))),$G$10*$G$11*FR142*(EXP(-($G$10*(FQ142+0.2)))),$G$10*$G$11*FR142*(EXP(-($G$10*(FQ142+0.3)))),$G$10*$G$11*FR142*(EXP(-($G$10*(FQ142+0.4)))),$G$10*$G$11*FR142*(EXP(-($G$10*(FQ142+0.5)))),$G$10*$G$11*FR142*(EXP(-($G$10*(FQ142+0.6)))),$G$10*$G$11*FR142*(EXP(-($G$10*(FQ142+0.7)))),$G$10*$G$11*FR142*(EXP(-($G$10*(FQ142+0.8)))),$G$10*$G$11*FR142*(EXP(-($G$10*(FQ142+0.9)))))/10","v":0},63,0,0,62,0,0,61,0,0,60,0,0,59,0,0,58,0,0,57,0,0,56,0,0,55,0,0,54,0,0,53,0,0,52,0,0,51,0,0,50,0,0,49,0,0,48,0,0,47,0,0,46,0,0,45,0,0,44,0,0,43,0,0,42,0,0,41,0,0,40,0,0,39,0,0]
[null,null,null,null,null,null,null,null,120,0,119,0,0,118,0,0,117,0,0,116,0,0,115,0,0,114,0,0,113,0,0,112,0,0,111,0,0,110,0,0,109,0,0,108,0,0,107,0,0,106,0,0,105,0,0,104,0,0,103,0,0,102,0,0,101,0,0,100,0,0,99,0,0,98,0,0,97,0,0,96,0,{"$f":"SUM($G$10*$G$11*CC143*(EXP(-($G$10*CB143))),$G$10*$G$11*CC143*(EXP(-($G$10*(CB143+0.1)))),$G$10*$G$11*CC143*(EXP(-($G$10*(CB143+0.2)))),$G$10*$G$11*CC143*(EXP(-($G$10*(CB143+0.3)))),$G$10*$G$11*CC143*(EXP(-($G$10*(CB143+0.4)))),$G$10*$G$11*CC143*(EXP(-($G$10*(CB143+0.5)))),$G$10*$G$11*CC143*(EXP(-($G$10*(CB143+0.6)))),$G$10*$G$11*CC143*(EXP(-($G$10*(CB143+0.7)))),$G$10*$G$11*CC143*(EXP(-($G$10*(CB143+0.8)))),$G$10*$G$11*CC143*(EXP(-($G$10*(CB143+0.9)))))/10","v":0},95,0,0,94,0,0,93,0,0,92,0,0,91,0,0,90,0,0,89,0,0,88,0,0,87,0,0,86,0,0,85,0,0,84,0,0,83,0,0,82,0,0,81,0,0,80,0,0,79,0,0,78,0,0,77,0,0,76,0,0,{"$f":"IF(EM142=\"\",\"\",(EM142+1))","v":75},0,0,74,0,0,73,0,0,72,0,0,71,0,0,70,0,0,69,0,0,68,0,0,67,0,0,66,0,0,65,{"$f":"$E$77","v":0},0,64,{"$f":"$E$78","v":0},{"$f":"SUM($G$10*$G$11*FU143*(EXP(-($G$10*FT143))),$G$10*$G$11*FU143*(EXP(-($G$10*(FT143+0.1)))),$G$10*$G$11*FU143*(EXP(-($G$10*(FT143+0.2)))),$G$10*$G$11*FU143*(EXP(-($G$10*(FT143+0.3)))),$G$10*$G$11*FU143*(EXP(-($G$10*(FT143+0.4)))),$G$10*$G$11*FU143*(EXP(-($G$10*(FT143+0.5)))),$G$10*$G$11*FU143*(EXP(-($G$10*(FT143+0.6)))),$G$10*$G$11*FU143*(EXP(-($G$10*(FT143+0.7)))),$G$10*$G$11*FU143*(EXP(-($G$10*(FT143+0.8)))),$G$10*$G$11*FU143*(EXP(-($G$10*(FT143+0.9)))))/10","v":0},63,0,0,62,0,0,61,0,0,60,0,0,59,0,0,58,0,0,57,0,0,56,0,0,55,0,0,54,0,0,53,0,0,52,0,0,51,0,0,50,0,0,49,0,0,48,0,0,47,0,0,46,0,0,45,0,0,44,0,0,43,0,0,42,0,0,41,0,0,40,0,0]
[null,null,null,null,null,null,null,null,121,0,120,0,0,119,0,0,118,0,0,117,0,0,116,0,0,115,0,0,114,0,0,113,0,0,112,0,0,111,0,0,110,0,0,109,0,0,108,0,0,107,0,0,106,0,0,105,0,0,104,0,0,103,0,0,102,0,0,101,0,0,100,0,0,99,0,0,98,0,0,97,0,0,96,0,{"$f":"SUM($G$10*$G$11*CF144*(EXP(-($G$10*CE144))),$G$10*$G$11*CF144*(EXP(-($G$10*(CE144+0.1)))),$G$10*$G$11*CF144*(EXP(-($G$10*(CE144+0.2)))),$G$10*$G$11*CF144*(EXP(-($G$10*(CE144+0.3)))),$G$10*$G$11*CF144*(EXP(-($G$10*(CE144+0.4)))),$G$10*$G$11*CF144*(EXP(-($G$10*(CE144+0.5)))),$G$10*$G$11*CF144*(EXP(-($G$10*(CE144+0.6)))),$G$10*$G$11*CF144*(EXP(-($G$10*(CE144+0.7)))),$G$10*$G$11*CF144*(EXP(-($G$10*(CE144+0.8)))),$G$10*$G$11*CF144*(EXP(-($G$10*(CE144+0.9)))))/10","v":0},95,0,0,94,0,0,93,0,0,92,0,0,91,0,0,90,0,0,89,0,0,88,0,0,87,0,0,86,0,0,85,0,0,84,0,0,83,0,0,82,0,0,81,0,0,80,0,0,79,0,0,78,0,0,77,0,0,76,0,0,{"$f":"IF(EP143=\"\",\"\",(EP143+1))","v":75},0,0,74,0,0,73,0,0,72,0,0,71,0,0,70,0,0,69,0,0,68,0,0,67,0,0,66,0,0,65,0,0,64,{"$f":"$E$79","v":0},{"$f":"SUM($G$10*$G$11*FX144*(EXP(-($G$10*FW144))),$G$10*$G$11*FX144*(EXP(-($G$10*(FW144+0.1)))),$G$10*$G$11*FX144*(EXP(-($G$10*(FW144+0.2)))),$G$10*$G$11*FX144*(EXP(-($G$10*(FW144+0.3)))),$G$10*$G$11*FX144*(EXP(-($G$10*(FW144+0.4)))),$G$10*$G$11*FX144*(EXP(-($G$10*(FW144+0.5)))),$G$10*$G$11*FX144*(EXP(-($G$10*(FW144+0.6)))),$G$10*$G$11*FX144*(EXP(-($G$10*(FW144+0.7)))),$G$10*$G$11*FX144*(EXP(-($G$10*(FW144+0.8)))),$G$10*$G$11*FX144*(EXP(-($G$10*(FW144+0.9)))))/10","v":0},63,0,0,62,0,0,61,0,0,60,0,0,59,0,0,58,0,0,57,0,0,56,0,0,55,0,0,54,0,0,53,0,0,52,0,0,51,0,0,50,0,0,49,0,0,48,0,0,47,0,0,46,0,0,45,0,0,44,0,0,43,0,0,42,0,0,41,0,0]
[null,null,null,null,null,null,null,null,122,0,121,0,0,120,0,0,119,0,0,118,0,0,117,0,0,116,0,0,115,0,0,114,0,0,113,0,0,112,0,0,111,0,0,110,0,0,109,0,0,108,0,0,107,0,0,106,0,0,105,0,0,104,0,0,103,0,0,102,0,0,101,0,0,100,0,0,99,0,0,98,0,0,97,0,0,96,0,{"$f":"SUM($G$10*$G$11*CI145*(EXP(-($G$10*CH145))),$G$10*$G$11*CI145*(EXP(-($G$10*(CH145+0.1)))),$G$10*$G$11*CI145*(EXP(-($G$10*(CH145+0.2)))),$G$10*$G$11*CI145*(EXP(-($G$10*(CH145+0.3)))),$G$10*$G$11*CI145*(EXP(-($G$10*(CH145+0.4)))),$G$10*$G$11*CI145*(EXP(-($G$10*(CH145+0.5)))),$G$10*$G$11*CI145*(EXP(-($G$10*(CH145+0.6)))),$G$10*$G$11*CI145*(EXP(-($G$10*(CH145+0.7)))),$G$10*$G$11*CI145*(EXP(-($G$10*(CH145+0.8)))),$G$10*$G$11*CI145*(EXP(-($G$10*(CH145+0.9)))))/10","v":0},95,0,0,94,0,0,93,0,0,92,0,0,91,0,0,90,0,0,89,0,0,88,0,0,87,0,0,86,0,0,85,0,0,84,0,0,83,0,0,82,0,0,81,0,0,80,0,0,79,0,0,78,0,0,77,0,0,76,0,0,{"$f":"IF(ES144=\"\",\"\",(ES144+1))","v":75},0,0,74,0,0,73,0,0,72,0,0,71,0,0,70,0,0,69,0,0,68,0,0,67,0,0,66,0,0,65,0,0,64,0,{"$f":"SUM($G$10*$G$11*GA145*(EXP(-($G$10*FZ145))),$G$10*$G$11*GA145*(EXP(-($G$10*(FZ145+0.1)))),$G$10*$G$11*GA145*(EXP(-($G$10*(FZ145+0.2)))),$G$10*$G$11*GA145*(EXP(-($G$10*(FZ145+0.3)))),$G$10*$G$11*GA145*(EXP(-($G$10*(FZ145+0.4)))),$G$10*$G$11*GA145*(EXP(-($G$10*(FZ145+0.5)))),$G$10*$G$11*GA145*(EXP(-($G$10*(FZ145+0.6)))),$G$10*$G$11*GA145*(EXP(-($G$10*(FZ145+0.7)))),$G$10*$G$11*GA145*(EXP(-($G$10*(FZ145+0.8)))),$G$10*$G$11*GA145*(EXP(-($G$10*(FZ145+0.9)))))/10","v":0},63,0,0,62,0,0,61,0,0,60,0,0,59,0,0,58,0,0,57,0,0,56,0,0,55,0,0,54,0,0,53,0,0,52,0,0,51,0,0,50,0,0,49,0,0,48,0,0,47,0,0,46,0,0,45,0,0,44,0,0,43,0,0,42,0,0]
[null,null,null,null,null,null,null,null,123,0,122,0,0,121,0,0,120,0,0,119,0,0,118,0,0,117,0,0,116,0,0,115,0,0,114,0,0,113,0,0,112,0,0,111,0,0,110,0,0,109,0,0,108,0,0,107,0,0,106,0,0,105,0,0,104,0,0,103,0,0,102,0,0,101,0,0,100,0,0,99,0,0,98,0,0,97,0,0,96,0,{"$f":"SUM($G$10*$G$11*CL146*(EXP(-($G$10*CK146))),$G$10*$G$11*CL146*(EXP(-($G$10*(CK146+0.1)))),$G$10*$G$11*CL146*(EXP(-($G$10*(CK146+0.2)))),$G$10*$G$11*CL146*(EXP(-($G$10*(CK146+0.3)))),$G$10*$G$11*CL146*(EXP(-($G$10*(CK146+0.4)))),$G$10*$G$11*CL146*(EXP(-($G$10*(CK146+0.5)))),$G$10*$G$11*CL146*(EXP(-($G$10*(CK146+0.6)))),$G$10*$G$11*CL146*(EXP(-($G$10*(CK146+0.7)))),$G$10*$G$11*CL146*(EXP(-($G$10*(CK146+0.8)))),$G$10*$G$11*CL146*(EXP(-($G$10*(CK146+0.9)))))/10","v":0},95,0,0,94,0,0,93,0,0,92,0,0,91,0,0,90,0,0,89,0,0,88,0,0,87,0,0,86,0,0,85,0,0,84,0,0,83,0,0,82,0,0,81,0,0,80,0,0,79,0,0,78,0,0,77,0,0,76,0,0,{"$f":"IF(EV145=\"\",\"\",(EV145+1))","v":75},0,0,74,0,0,73,0,0,72,0,0,71,0,0,70,0,0,69,0,0,68,0,0,67,0,0,66,0,0,65,{"$f":"$E$80","v":0},0,64,{"$f":"$E$81","v":0},{"$f":"SUM($G$10*$G$11*GD146*(EXP(-($G$10*GC146))),$G$10*$G$11*GD146*(EXP(-($G$10*(GC146+0.1)))),$G$10*$G$11*GD146*(EXP(-($G$10*(GC146+0.2)))),$G$10*$G$11*GD146*(EXP(-($G$10*(GC146+0.3)))),$G$10*$G$11*GD146*(EXP(-($G$10*(GC146+0.4)))),$G$10*$G$11*GD146*(EXP(-($G$10*(GC146+0.5)))),$G$10*$G$11*GD146*(EXP(-($G$10*(GC146+0.6)))),$G$10*$G$11*GD146*(EXP(-($G$10*(GC146+0.7)))),$G$10*$G$11*GD146*(EXP(-($G$10*(GC146+0.8)))),$G$10*$G$11*GD146*(EXP(-($G$10*(GC146+0.9)))))/10","v":0},63,0,0,62,0,0,61,0,0,60,0,0,59,0,0,58,0,0,57,0,0,56,0,0,55,0,0,54,0,0,53,0,0,52,0,0,51,0,0,50,0,0,49,0,0,48,0,0,47,0,0,46,0,0,45,0,0,44,0,0,43,0,0]
[null,null,null,null,null,null,null,null,124,0,123,0,0,122,0,0,121,0,0,120,0,0,119,0,0,118,0,0,117,0,0,116,0,0,115,0,0,114,0,0,113,0,0,112,0,0,111,0,0,110,0,0,109,0,0,108,0,0,107,0,0,106,0,0,105,0,0,104,0,0,103,0,0,102,0,0,101,0,0,100,0,0,99,0,0,98,0,0,97,0,0,96,0,{"$f":"SUM($G$10*$G$11*CO147*(EXP(-($G$10*CN147))),$G$10*$G$11*CO147*(EXP(-($G$10*(CN147+0.1)))),$G$10*$G$11*CO147*(EXP(-($G$10*(CN147+0.2)))),$G$10*$G$11*CO147*(EXP(-($G$10*(CN147+0.3)))),$G$10*$G$11*CO147*(EXP(-($G$10*(CN147+0.4)))),$G$10*$G$11*CO147*(EXP(-($G$10*(CN147+0.5)))),$G$10*$G$11*CO147*(EXP(-($G$10*(CN147+0.6)))),$G$10*$G$11*CO147*(EXP(-($G$10*(CN147+0.7)))),$G$10*$G$11*CO147*(EXP(-($G$10*(CN147+0.8)))),$G$10*$G$11*CO147*(EXP(-($G$10*(CN147+0.9)))))/10","v":0},95,0,0,94,0,0,93,0,0,92,0,0,91,0,0,90,0,0,89,0,0,88,0,0,87,0,0,86,0,0,85,0,0,84,0,0,83,0,0,82,0,0,81,0,0,80,0,0,79,0,0,78,0,0,77,0,0,76,0,0,{"$f":"IF(EY146=\"\",\"\",(EY146+1))","v":75},0,0,74,0,0,73,0,0,72,0,0,71,0,0,70,0,0,69,0,0,68,0,0,67,0,0,66,0,0,65,0,0,64,0,{"$f":"SUM($G$10*$G$11*GG147*(EXP(-($G$10*GF147))),$G$10*$G$11*GG147*(EXP(-($G$10*(GF147+0.1)))),$G$10*$G$11*GG147*(EXP(-($G$10*(GF147+0.2)))),$G$10*$G$11*GG147*(EXP(-($G$10*(GF147+0.3)))),$G$10*$G$11*GG147*(EXP(-($G$10*(GF147+0.4)))),$G$10*$G$11*GG147*(EXP(-($G$10*(GF147+0.5)))),$G$10*$G$11*GG147*(EXP(-($G$10*(GF147+0.6)))),$G$10*$G$11*GG147*(EXP(-($G$10*(GF147+0.7)))),$G$10*$G$11*GG147*(EXP(-($G$10*(GF147+0.8)))),$G$10*$G$11*GG147*(EXP(-($G$10*(GF147+0.9)))))/10","v":0},63,0,0,62,0,0,61,0,0,60,0,0,59,0,0,58,0,0,57,0,0,56,0,0,55,0,0,54,0,0,53,0,0,52,0,0,51,0,0,50,0,0,49,0,0,48,0,0,47,0,0,46,0,0,45,0,0,44,0,0]
[null,null,null,null,null,null,null,null,125,0,124,0,0,123,0,0,122,0,0,121,0,0,120,0,0,119,0,0,118,0,0,117,0,0,116,0,0,115,0,0,114,0,0,113,0,0,112,0,0,111,0,0,110,0,0,109,0,0,108,0,0,107,0,0,106,0,0,105,0,0,104,0,0,103,0,0,102,0,0,101,0,0,100,0,0,99,0,0,98,0,0,97,0,0,96,0,{"$f":"SUM($G$10*$G$11*CR148*(EXP(-($G$10*CQ148))),$G$10*$G$11*CR148*(EXP(-($G$10*(CQ148+0.1)))),$G$10*$G$11*CR148*(EXP(-($G$10*(CQ148+0.2)))),$G$10*$G$11*CR148*(EXP(-($G$10*(CQ148+0.3)))),$G$10*$G$11*CR148*(EXP(-($G$10*(CQ148+0.4)))),$G$10*$G$11*CR148*(EXP(-($G$10*(CQ148+0.5)))),$G$10*$G$11*CR148*(EXP(-($G$10*(CQ148+0.6)))),$G$10*$G$11*CR148*(EXP(-($G$10*(CQ148+0.7)))),$G$10*$G$11*CR148*(EXP(-($G$10*(CQ148+0.8)))),$G$10*$G$11*CR148*(EXP(-($G$10*(CQ148+0.9)))))/10","v":0},95,0,0,94,0,0,93,0,0,92,0,0,91,0,0,90,0,0,89,0,0,88,0,0,87,0,0,86,0,0,85,0,0,84,0,0,83,0,0,82,0,0,81,0,0,80,0,0,79,0,0,78,0,0,77,0,0,76,0,0,{"$f":"IF(FB147=\"\",\"\",(FB147+1))","v":75},0,0,74,0,0,73,0,0,72,0,0,71,0,0,70,0,0,69,0,0,68,0,0,67,0,0,66,0,0,65,{"$f":"$E$82","v":0},0,64,{"$f":"$E$83","v":0},{"$f":"SUM($G$10*$G$11*GJ148*(EXP(-($G$10*GI148))),$G$10*$G$11*GJ148*(EXP(-($G$10*(GI148+0.1)))),$G$10*$G$11*GJ148*(EXP(-($G$10*(GI148+0.2)))),$G$10*$G$11*GJ148*(EXP(-($G$10*(GI148+0.3)))),$G$10*$G$11*GJ148*(EXP(-($G$10*(GI148+0.4)))),$G$10*$G$11*GJ148*(EXP(-($G$10*(GI148+0.5)))),$G$10*$G$11*GJ148*(EXP(-($G$10*(GI148+0.6)))),$G$10*$G$11*GJ148*(EXP(-($G$10*(GI148+0.7)))),$G$10*$G$11*GJ148*(EXP(-($G$10*(GI148+0.8)))),$G$10*$G$11*GJ148*(EXP(-($G$10*(GI148+0.9)))))/10","v":0},63,0,0,62,0,0,61,0,0,60,0,0,59,0,0,58,0,0,57,0,0,56,0,0,55,0,0,54,0,0,53,0,0,52,0,0,51,0,0,50,0,0,49,0,0,48,0,0,47,0,0,46,0,0,45,0,0]
[null,null,null,null,null,null,null,null,126,0,125,0,0,124,0,0,123,0,0,122,0,0,121,0,0,120,0,0,119,0,0,118,0,0,117,0,0,116,0,0,115,0,0,114,0,0,113,0,0,112,0,0,111,0,0,110,0,0,109,0,0,108,0,0,107,0,0,106,0,0,105,0,0,104,0,0,103,0,0,102,0,0,101,0,0,100,0,0,99,0,0,98,0,0,97,0,0,96,0,{"$f":"SUM($G$10*$G$11*CU149*(EXP(-($G$10*CT149))),$G$10*$G$11*CU149*(EXP(-($G$10*(CT149+0.1)))),$G$10*$G$11*CU149*(EXP(-($G$10*(CT149+0.2)))),$G$10*$G$11*CU149*(EXP(-($G$10*(CT149+0.3)))),$G$10*$G$11*CU149*(EXP(-($G$10*(CT149+0.4)))),$G$10*$G$11*CU149*(EXP(-($G$10*(CT149+0.5)))),$G$10*$G$11*CU149*(EXP(-($G$10*(CT149+0.6)))),$G$10*$G$11*CU149*(EXP(-($G$10*(CT149+0.7)))),$G$10*$G$11*CU149*(EXP(-($G$10*(CT149+0.8)))),$G$10*$G$11*CU149*(EXP(-($G$10*(CT149+0.9)))))/10","v":0},95,0,0,94,0,0,93,0,0,92,0,0,91,0,0,90,0,0,89,0,0,88,0,0,87,0,0,86,0,0,85,0,0,84,0,0,83,0,0,82,0,0,81,0,0,80,0,0,79,0,0,78,0,0,77,0,0,76,0,0,{"$f":"IF(FE148=\"\",\"\",(FE148+1))","v":75},0,0,74,0,0,73,0,0,72,0,0,71,0,0,70,0,0,69,0,0,68,0,0,67,0,0,66,0,0,65,0,0,64,0,{"$f":"SUM($G$10*$G$11*GM149*(EXP(-($G$10*GL149))),$G$10*$G$11*GM149*(EXP(-($G$10*(GL149+0.1)))),$G$10*$G$11*GM149*(EXP(-($G$10*(GL149+0.2)))),$G$10*$G$11*GM149*(EXP(-($G$10*(GL149+0.3)))),$G$10*$G$11*GM149*(EXP(-($G$10*(GL149+0.4)))),$G$10*$G$11*GM149*(EXP(-($G$10*(GL149+0.5)))),$G$10*$G$11*GM149*(EXP(-($G$10*(GL149+0.6)))),$G$10*$G$11*GM149*(EXP(-($G$10*(GL149+0.7)))),$G$10*$G$11*GM149*(EXP(-($G$10*(GL149+0.8)))),$G$10*$G$11*GM149*(EXP(-($G$10*(GL149+0.9)))))/10","v":0},63,0,0,62,0,0,61,0,0,60,0,0,59,0,0,58,0,0,57,0,0,56,0,0,55,0,0,54,0,0,53,0,0,52,0,0,51,0,0,50,0,0,49,0,0,48,0,0,47,0,0,46,0,0]
[null,null,null,null,null,null,null,null,127,0,126,0,0,125,0,0,124,0,0,123,0,0,122,0,0,121,0,0,120,0,0,119,0,0,118,0,0,117,0,0,116,0,0,115,0,0,114,0,0,113,0,0,112,0,0,111,0,0,110,0,0,109,0,0,108,0,0,107,0,0,106,0,0,105,0,0,104,0,0,103,0,0,102,0,0,101,0,0,100,0,0,99,0,0,98,0,0,97,0,0,96,0,{"$f":"SUM($G$10*$G$11*CX150*(EXP(-($G$10*CW150))),$G$10*$G$11*CX150*(EXP(-($G$10*(CW150+0.1)))),$G$10*$G$11*CX150*(EXP(-($G$10*(CW150+0.2)))),$G$10*$G$11*CX150*(EXP(-($G$10*(CW150+0.3)))),$G$10*$G$11*CX150*(EXP(-($G$10*(CW150+0.4)))),$G$10*$G$11*CX150*(EXP(-($G$10*(CW150+0.5)))),$G$10*$G$11*CX150*(EXP(-($G$10*(CW150+0.6)))),$G$10*$G$11*CX150*(EXP(-($G$10*(CW150+0.7)))),$G$10*$G$11*CX150*(EXP(-($G$10*(CW150+0.8)))),$G$10*$G$11*CX150*(EXP(-($G$10*(CW150+0.9)))))/10","v":0},95,0,0,94,0,0,93,0,0,92,0,0,91,0,0,90,0,0,89,0,0,88,0,0,87,0,0,86,0,0,85,0,0,84,0,0,83,0,0,82,0,0,81,0,0,80,0,0,79,0,0,78,0,0,77,0,0,76,0,0,{"$f":"IF(FH149=\"\",\"\",(FH149+1))","v":75},0,0,74,0,0,73,0,0,72,0,0,71,0,0,70,0,0,69,0,0,68,0,0,67,0,0,66,0,0,65,{"$f":"$E$84","v":0},0,64,{"$f":"$E$85","v":0},{"$f":"SUM($G$10*$G$11*GP150*(EXP(-($G$10*GO150))),$G$10*$G$11*GP150*(EXP(-($G$10*(GO150+0.1)))),$G$10*$G$11*GP150*(EXP(-($G$10*(GO150+0.2)))),$G$10*$G$11*GP150*(EXP(-($G$10*(GO150+0.3)))),$G$10*$G$11*GP150*(EXP(-($G$10*(GO150+0.4)))),$G$10*$G$11*GP150*(EXP(-($G$10*(GO150+0.5)))),$G$10*$G$11*GP150*(EXP(-($G$10*(GO150+0.6)))),$G$10*$G$11*GP150*(EXP(-($G$10*(GO150+0.7)))),$G$10*$G$11*GP150*(EXP(-($G$10*(GO150+0.8)))),$G$10*$G$11*GP150*(EXP(-($G$10*(GO150+0.9)))))/10","v":0},63,0,0,62,0,0,61,0,0,60,0,0,59,0,0,58,0,0,57,0,0,56,0,0,55,0,0,54,0,0,53,0,0,52,0,0,51,0,0,50,0,0,49,0,0,48,0,0,47,0,0]
[null,null,null,null,null,null,null,null,128,0,127,0,0,126,0,0,125,0,0,124,0,0,123,0,0,122,0,0,121,0,0,120,0,0,119,0,0,118,0,0,117,0,0,116,0,0,115,0,0,114,0,0,113,0,0,112,0,0,111,0,0,110,0,0,109,0,0,108,0,0,107,0,0,106,0,0,105,0,0,104,0,0,103,0,0,102,0,0,101,0,0,100,0,0,99,0,0,98,0,0,97,0,0,96,{"$f":"$E$54","v":0},{"$f":"SUM($G$10*$G$11*DA151*(EXP(-($G$10*CZ151))),$G$10*$G$11*DA151*(EXP(-($G$10*(CZ151+0.1)))),$G$10*$G$11*DA151*(EXP(-($G$10*(CZ151+0.2)))),$G$10*$G$11*DA151*(EXP(-($G$10*(CZ151+0.3)))),$G$10*$G$11*DA151*(EXP(-($G$10*(CZ151+0.4)))),$G$10*$G$11*DA151*(EXP(-($G$10*(CZ151+0.5)))),$G$10*$G$11*DA151*(EXP(-($G$10*(CZ151+0.6)))),$G$10*$G$11*DA151*(EXP(-($G$10*(CZ151+0.7)))),$G$10*$G$11*DA151*(EXP(-($G$10*(CZ151+0.8)))),$G$10*$G$11*DA151*(EXP(-($G$10*(CZ151+0.9)))))/10","v":0},95,0,0,94,0,0,93,0,0,92,0,0,91,0,0,90,0,0,89,0,0,88,0,0,87,0,0,86,0,0,85,0,0,84,0,0,83,0,0,82,0,0,81,0,0,80,0,0,79,0,0,78,0,0,77,0,0,76,0,0,{"$f":"IF(FK150=\"\",\"\",(FK150+1))","v":75},0,0,74,0,0,73,0,0,72,0,0,71,0,0,70,0,0,69,0,0,68,0,0,67,0,0,66,0,0,65,0,0,64,0,{"$f":"SUM($G$10*$G$11*GS151*(EXP(-($G$10*GR151))),$G$10*$G$11*GS151*(EXP(-($G$10*(GR151+0.1)))),$G$10*$G$11*GS151*(EXP(-($G$10*(GR151+0.2)))),$G$10*$G$11*GS151*(EXP(-($G$10*(GR151+0.3)))),$G$10*$G$11*GS151*(EXP(-($G$10*(GR151+0.4)))),$G$10*$G$11*GS151*(EXP(-($G$10*(GR151+0.5)))),$G$10*$G$11*GS151*(EXP(-($G$10*(GR151+0.6)))),$G$10*$G$11*GS151*(EXP(-($G$10*(GR151+0.7)))),$G$10*$G$11*GS151*(EXP(-($G$10*(GR151+0.8)))),$G$10*$G$11*GS151*(EXP(-($G$10*(GR151+0.9)))))/10","v":0},63,0,0,62,0,0,61,0,0,60,0,0,59,0,0,58,0,0,57,0,0,56,0,0,55,0,0,54,0,0,53,0,0,52,0,0,51,0,0,50,0,0,49,0,0,48,0,0]
[null,null,null,null,null,null,null,null,129,0,128,{"$f":"$E$23","v":0},{"$f":"SUM($G$10*$G$11*L152*(EXP(-($G$10*K152))),$G$10*$G$11*L152*(EXP(-($G$10*(K152+0.1)))),$G$10*$G$11*L152*(EXP(-($G$10*(K152+0.2)))),$G$10*$G$11*L152*(EXP(-($G$10*(K152+0.3)))),$G$10*$G$11*L152*(EXP(-($G$10*(K152+0.4)))),$G$10*$G$11*L152*(EXP(-($G$10*(K152+0.5)))),$G$10*$G$11*L152*(EXP(-($G$10*(K152+0.6)))),$G$10*$G$11*L152*(EXP(-($G$10*(K152+0.7)))),$G$10*$G$11*L152*(EXP(-($G$10*(K152+0.8)))),$G$10*$G$11*L152*(EXP(-($G$10*(K152+0.9)))))/10","v":0},127,0,0,126,0,0,125,0,0,124,0,0,123,0,0,122,0,0,121,0,0,120,0,0,119,0,0,118,0,0,117,0,0,116,0,0,115,0,0,114,0,0,113,0,0,112,0,0,111,0,0,110,0,0,109,0,0,108,0,0,107,0,0,106,0,0,105,0,0,104,0,0,103,0,0,102,0,0,101,0,0,100,0,0,99,0,0,98,0,0,97,0,0,96,{"$f":"$E$55","v":0},{"$f":"SUM($G$10*$G$11*DD152*(EXP(-($G$10*DC152))),$G$10*$G$11*DD152*(EXP(-($G$10*(DC152+0.1)))),$G$10*$G$11*DD152*(EXP(-($G$10*(DC152+0.2)))),$G$10*$G$11*DD152*(EXP(-($G$10*(DC152+0.3)))),$G$10*$G$11*DD152*(EXP(-($G$10*(DC152+0.4)))),$G$10*$G$11*DD152*(EXP(-($G$10*(DC152+0.5)))),$G$10*$G$11*DD152*(EXP(-($G$10*(DC152+0.6)))),$G$10*$G$11*DD152*(EXP(-($G$10*(DC152+0.7)))),$G$10*$G$11*DD152*(EXP(-($G$10*(DC152+0.8)))),$G$10*$G$11*DD152*(EXP(-($G$10*(DC152+0.9)))))/10","v":0},95,0,0,94,0,0,93,0,0,92,0,0,91,0,0,90,0,0,89,0,0,88,0,0,87,0,0,86,0,0,85,0,0,84,0,0,83,0,0,82,0,0,81,0,0,80,0,0,79,0,0,78,0,0,77,0,0,76,0,0,{"$f":"IF(FN151=\"\",\"\",(FN151+1))","v":75},0,0,74,0,0,73,0,0,72,0,0,71,0,0,70,0,0,69,0,0,68,0,0,67,0,0,66,0,0,65,{"$f":"$E$86","v":0},0,64,{"$f":"$E$87","v":0},{"$f":"SUM($G$10*$G$11*GV152*(EXP(-($G$10*GU152))),$G$10*$G$11*GV152*(EXP(-($G$10*(GU152+0.1)))),$G$10*$G$11*GV152*(EXP(-($G$10*(GU152+0.2)))),$G$10*$G$11*GV152*(EXP(-($G$10*(GU152+0.3)))),$G$10*$G$11*GV152*(EXP(-($G$10*(GU152+0.4)))),$G$10*$G$11*GV152*(EXP(-($G$10*(GU152+0.5)))),$G$10*$G$11*GV152*(EXP(-($G$10*(GU152+0.6)))),$G$10*$G$11*GV152*(EXP(-($G$10*(GU152+0.7)))),$G$10*$G$11*GV152*(EXP(-($G$10*(GU152+0.8)))),$G$10*$G$11*GV152*(EXP(-($G$10*(GU152+0.9)))))/10","v":0},63,0,0,62,0,0,61,0,0,60,0,0,59,0,0,58,0,0,57,0,0,56,0,0,55,0,0,54,0,0,53,0,0,52,0,0,51,0,0,50,0,0,49,0,0]
[null,null,null,null,null,null,null,null,130,{"$f":"(M153+P153+S153+V153+Y153+AB153+AE153+AH153+AK153+AN153+AQ153+AT153+AW153+AZ153+BC153+BF153+BI153+BL153+BO153+BR153+BU153+BX153+CA153+CD153+CG153+CJ153+CM153+CP153+CS153+CV153+CY153+DB153+DE153+DH153+DK153+DN153+DQ153+DT153+DW153+DZ153+EC153+EF153+EI153+EL153+EO153+ER153+EU153+EX153+FA153+FD153+FG153+FJ153+FM153+FP153+FS153+FV153+FY153+GB153+GE153+GH153+GK153+GN153+GQ153+GT153+GW153+GZ153+HC153+HF153+HI153+HL153+HO153+HR153+HU153+HX153+IA153+ID153+IG153+IJ153+IM153+IP153)","v":0},129,0,0,128,{"$f":"$E$24","v":0},{"$f":"SUM($G$10*$G$11*O153*(EXP(-($G$10*N153))),$G$10*$G$11*O153*(EXP(-($G$10*(N153+0.1)))),$G$10*$G$11*O153*(EXP(-($G$10*(N153+0.2)))),$G$10*$G$11*O153*(EXP(-($G$10*(N153+0.3)))),$G$10*$G$11*O153*(EXP(-($G$10*(N153+0.4)))),$G$10*$G$11*O153*(EXP(-($G$10*(N153+0.5)))),$G$10*$G$11*O153*(EXP(-($G$10*(N153+0.6)))),$G$10*$G$11*O153*(EXP(-($G$10*(N153+0.7)))),$G$10*$G$11*O153*(EXP(-($G$10*(N153+0.8)))),$G$10*$G$11*O153*(EXP(-($G$10*(N153+0.9)))))/10","v":0},127,0,0,126,0,0,125,0,0,124,0,0,123,0,0,122,0,0,121,0,0,120,0,0,119,0,0,118,0,0,117,0,0,116,0,0,115,0,0,114,0,0,113,0,0,112,0,0,111,0,0,110,0,0,109,0,0,108,0,0,107,0,0,106,0,0,105,0,0,104,0,0,103,0,0,102,0,0,101,0,0,100,0,0,99,0,0,98,0,0,97,0,0,96,{"$f":"$E$56","v":0},{"$f":"SUM($G$10*$G$11*DG153*(EXP(-($G$10*DF153))),$G$10*$G$11*DG153*(EXP(-($G$10*(DF153+0.1)))),$G$10*$G$11*DG153*(EXP(-($G$10*(DF153+0.2)))),$G$10*$G$11*DG153*(EXP(-($G$10*(DF153+0.3)))),$G$10*$G$11*DG153*(EXP(-($G$10*(DF153+0.4)))),$G$10*$G$11*DG153*(EXP(-($G$10*(DF153+0.5)))),$G$10*$G$11*DG153*(EXP(-($G$10*(DF153+0.6)))),$G$10*$G$11*DG153*(EXP(-($G$10*(DF153+0.7)))),$G$10*$G$11*DG153*(EXP(-($G$10*(DF153+0.8)))),$G$10*$G$11*DG153*(EXP(-($G$10*(DF153+0.9)))))/10","v":0},95,0,0,94,0,0,93,0,0,92,0,0,91,0,0,90,0,0,89,0,0,88,0,0,87,0,0,86,0,0,85,0,0,84,0,0,83,0,0,82,0,0,81,0,0,80,0,0,79,0,0,78,0,0,77,0,0,76,0,0,{"$f":"IF(FQ152=\"\",\"\",(FQ152+1))","v":75},0,0,74,0,0,73,0,0,72,0,0,71,0,0,70,0,0,69,0,0,68,0,0,67,0,0,66,0,0,65,0,0,64,0,{"$f":"SUM($G$10*$G$11*GY153*(EXP(-($G$10*GX153))),$G$10*$G$11*GY153*(EXP(-($G$10*(GX153+0.1)))),$G$10*$G$11*GY153*(EXP(-($G$10*(GX153+0.2)))),$G$10*$G$11*GY153*(EXP(-($G$10*(GX153+0.3)))),$G$10*$G$11*GY153*(EXP(-($G$10*(GX153+0.4)))),$G$10*$G$11*GY153*(EXP(-($G$10*(GX153+0.5)))),$G$10*$G$11*GY153*(EXP(-($G$10*(GX153+0.6)))),$G$10*$G$11*GY153*(EXP(-($G$10*(GX153+0.7)))),$G$10*$G$11*GY153*(EXP(-($G$10*(GX153+0.8)))),$G$10*$G$11*GY153*(EXP(-($G$10*(GX153+0.9)))))/10","v":0},63,0,0,62,0,0,61,0,0,60,0,0,59,0,0,58,0,0,57,0,0,56,0,0,55,0,0,54,0,0,53,0,0,52,0,0,51,0,0,50,0,0]
[null,null,null,null,null,null,null,null,131,0,130,0,0,129,0,0,128,{"$f":"$E$25","v":0},{"$f":"SUM($G$10*$G$11*R154*(EXP(-($G$10*Q154))),$G$10*$G$11*R154*(EXP(-($G$10*(Q154+0.1)))),$G$10*$G$11*R154*(EXP(-($G$10*(Q154+0.2)))),$G$10*$G$11*R154*(EXP(-($G$10*(Q154+0.3)))),$G$10*$G$11*R154*(EXP(-($G$10*(Q154+0.4)))),$G$10*$G$11*R154*(EXP(-($G$10*(Q154+0.5)))),$G$10*$G$11*R154*(EXP(-($G$10*(Q154+0.6)))),$G$10*$G$11*R154*(EXP(-($G$10*(Q154+0.7)))),$G$10*$G$11*R154*(EXP(-($G$10*(Q154+0.8)))),$G$10*$G$11*R154*(EXP(-($G$10*(Q154+0.9)))))/10","v":0},127,0,0,126,0,0,125,0,0,124,0,0,123,0,0,122,0,0,121,0,0,120,0,0,119,0,0,118,0,0,117,0,0,116,0,0,115,0,0,114,0,0,113,0,0,112,0,0,111,0,0,110,0,0,109,0,0,108,0,0,107,0,0,106,0,0,105,0,0,104,0,0,103,0,0,102,0,0,101,0,0,100,0,0,99,0,0,98,0,0,97,0,0,96,{"$f":"$E$57","v":0},{"$f":"SUM($G$10*$G$11*DJ154*(EXP(-($G$10*DI154))),$G$10*$G$11*DJ154*(EXP(-($G$10*(DI154+0.1)))),$G$10*$G$11*DJ154*(EXP(-($G$10*(DI154+0.2)))),$G$10*$G$11*DJ154*(EXP(-($G$10*(DI154+0.3)))),$G$10*$G$11*DJ154*(EXP(-($G$10*(DI154+0.4)))),$G$10*$G$11*DJ154*(EXP(-($G$10*(DI154+0.5)))),$G$10*$G$11*DJ154*(EXP(-($G$10*(DI154+0.6)))),$G$10*$G$11*DJ154*(EXP(-($G$10*(DI154+0.7)))),$G$10*$G$11*DJ154*(EXP(-($G$10*(DI154+0.8)))),$G$10*$G$11*DJ154*(EXP(-($G$10*(DI154+0.9)))))/10","v":0},95,0,0,94,0,0,93,0,0,92,0,0,91,0,0,90,0,0,89,0,0,88,0,0,87,0,0,86,0,0,85,0,0,84,0,0,83,0,0,82,0,0,81,0,0,80,0,0,79,0,0,78,0,0,77,0,0,76,0,0,{"$f":"IF(FT153=\"\",\"\",(FT153+1))","v":75},0,0,74,0,0,73,0,0,72,0,0,71,0,0,70,0,0,69,0,0,68,0,0,67,0,0,66,0,0,65,{"$f":"$E$88","v":0},0,64,{"$f":"$E$89","v":0},{"$f":"SUM($G$10*$G$11*HB154*(EXP(-($G$10*HA154))),$G$10*$G$11*HB154*(EXP(-($G$10*(HA154+0.1)))),$G$10*$G$11*HB154*(EXP(-($G$10*(HA154+0.2)))),$G$10*$G$11*HB154*(EXP(-($G$10*(HA154+0.3)))),$G$10*$G$11*HB154*(EXP(-($G$10*(HA154+0.4)))),$G$10*$G$11*HB154*(EXP(-($G$10*(HA154+0.5)))),$G$10*$G$11*HB154*(EXP(-($G$10*(HA154+0.6)))),$G$10*$G$11*HB154*(EXP(-($G$10*(HA154+0.7)))),$G$10*$G$11*HB154*(EXP(-($G$10*(HA154+0.8)))),$G$10*$G$11*HB154*(EXP(-($G$10*(HA154+0.9)))))/10","v":0},63,0,0,62,0,0,61,0,0,60,0,0,59,0,0,58,0,0,57,0,0,56,0,0,55,0,0,54,0,0,53,0,0,52,0,0,51,0,0]
[null,null,null,null,null,null,null,null,132,0,131,0,0,130,0,0,129,0,0,128,{"$f":"$E$26","v":0},{"$f":"SUM($G$10*$G$11*U155*(EXP(-($G$10*T155))),$G$10*$G$11*U155*(EXP(-($G$10*(T155+0.1)))),$G$10*$G$11*U155*(EXP(-($G$10*(T155+0.2)))),$G$10*$G$11*U155*(EXP(-($G$10*(T155+0.3)))),$G$10*$G$11*U155*(EXP(-($G$10*(T155+0.4)))),$G$10*$G$11*U155*(EXP(-($G$10*(T155+0.5)))),$G$10*$G$11*U155*(EXP(-($G$10*(T155+0.6)))),$G$10*$G$11*U155*(EXP(-($G$10*(T155+0.7)))),$G$10*$G$11*U155*(EXP(-($G$10*(T155+0.8)))),$G$10*$G$11*U155*(EXP(-($G$10*(T155+0.9)))))/10","v":0},127,0,0,126,0,0,125,0,0,124,0,0,123,0,0,122,0,0,121,0,0,120,0,0,119,0,0,118,0,0,117,0,0,116,0,0,115,0,0,114,0,0,113,0,0,112,0,0,111,0,0,110,0,0,109,0,0,108,0,0,107,0,0,106,0,0,105,0,0,104,0,0,103,0,0,102,0,0,101,0,0,100,0,0,99,0,0,98,0,0,97,0,0,96,{"$f":"$E$58","v":0},{"$f":"SUM($G$10*$G$11*DM155*(EXP(-($G$10*DL155))),$G$10*$G$11*DM155*(EXP(-($G$10*(DL155+0.1)))),$G$10*$G$11*DM155*(EXP(-($G$10*(DL155+0.2)))),$G$10*$G$11*DM155*(EXP(-($G$10*(DL155+0.3)))),$G$10*$G$11*DM155*(EXP(-($G$10*(DL155+0.4)))),$G$10*$G$11*DM155*(EXP(-($G$10*(DL155+0.5)))),$G$10*$G$11*DM155*(EXP(-($G$10*(DL155+0.6)))),$G$10*$G$11*DM155*(EXP(-($G$10*(DL155+0.7)))),$G$10*$G$11*DM155*(EXP(-($G$10*(DL155+0.8)))),$G$10*$G$11*DM155*(EXP(-($G$10*(DL155+0.9)))))/10","v":0},95,0,0,94,0,0,93,0,0,92,0,0,91,0,0,90,0,0,89,0,0,88,0,0,87,0,0,86,0,0,85,0,0,84,0,0,83,0,0,82,0,0,81,0,0,80,0,0,79,0,0,78,0,0,77,0,0,76,0,0,{"$f":"IF(FW154=\"\",\"\",(FW154+1))","v":75},0,0,74,0,0,73,0,0,72,0,0,71,0,0,70,0,0,69,0,0,68,0,0,67,0,0,66,0,0,65,0,0,64,0,{"$f":"SUM($G$10*$G$11*HE155*(EXP(-($G$10*HD155))),$G$10*$G$11*HE155*(EXP(-($G$10*(HD155+0.1)))),$G$10*$G$11*HE155*(EXP(-($G$10*(HD155+0.2)))),$G$10*$G$11*HE155*(EXP(-($G$10*(HD155+0.3)))),$G$10*$G$11*HE155*(EXP(-($G$10*(HD155+0.4)))),$G$10*$G$11*HE155*(EXP(-($G$10*(HD155+0.5)))),$G$10*$G$11*HE155*(EXP(-($G$10*(HD155+0.6)))),$G$10*$G$11*HE155*(EXP(-($G$10*(HD155+0.7)))),$G$10*$G$11*HE155*(EXP(-($G$10*(HD155+0.8)))),$G$10*$G$11*HE155*(EXP(-($G$10*(HD155+0.9)))))/10","v":0},63,0,0,62,0,0,61,0,0,60,0,0,59,0,0,58,0,0,57,0,0,56,0,0,55,0,0,54,0,0,53,0,0,52,0,0]
[null,null,null,null,null,null,null,null,133,0,132,0,0,131,0,0,130,0,0,129,0,0,128,{"$f":"$E$27","v":0},{"$f":"SUM($G$10*$G$11*X156*(EXP(-($G$10*W156))),$G$10*$G$11*X156*(EXP(-($G$10*(W156+0.1)))),$G$10*$G$11*X156*(EXP(-($G$10*(W156+0.2)))),$G$10*$G$11*X156*(EXP(-($G$10*(W156+0.3)))),$G$10*$G$11*X156*(EXP(-($G$10*(W156+0.4)))),$G$10*$G$11*X156*(EXP(-($G$10*(W156+0.5)))),$G$10*$G$11*X156*(EXP(-($G$10*(W156+0.6)))),$G$10*$G$11*X156*(EXP(-($G$10*(W156+0.7)))),$G$10*$G$11*X156*(EXP(-($G$10*(W156+0.8)))),$G$10*$G$11*X156*(EXP(-($G$10*(W156+0.9)))))/10","v":0},127,0,0,126,0,0,125,0,0,124,0,0,123,0,0,122,0,0,121,0,0,120,0,0,119,0,0,118,0,0,117,0,0,116,0,0,115,0,0,114,0,0,113,0,0,112,0,0,111,0,0,110,0,0,109,0,0,108,0,0,107,0,0,106,0,0,105,0,0,104,0,0,103,0,0,102,0,0,101,0,0,100,0,0,99,0,0,98,0,0,97,0,0,96,{"$f":"$E$59","v":0},{"$f":"SUM($G$10*$G$11*DP156*(EXP(-($G$10*DO156))),$G$10*$G$11*DP156*(EXP(-($G$10*(DO156+0.1)))),$G$10*$G$11*DP156*(EXP(-($G$10*(DO156+0.2)))),$G$10*$G$11*DP156*(EXP(-($G$10*(DO156+0.3)))),$G$10*$G$11*DP156*(EXP(-($G$10*(DO156+0.4)))),$G$10*$G$11*DP156*(EXP(-($G$10*(DO156+0.5)))),$G$10*$G$11*DP156*(EXP(-($G$10*(DO156+0.6)))),$G$10*$G$11*DP156*(EXP(-($G$10*(DO156+0.7)))),$G$10*$G$11*DP156*(EXP(-($G$10*(DO156+0.8)))),$G$10*$G$11*DP156*(EXP(-($G$10*(DO156+0.9)))))/10","v":0},95,0,0,94,0,0,93,0,0,92,0,0,91,0,0,90,0,0,89,0,0,88,0,0,87,0,0,86,0,0,85,0,0,84,0,0,83,0,0,82,0,0,81,0,0,80,0,0,79,0,0,78,0,0,77,0,0,76,0,0,{"$f":"IF(FZ155=\"\",\"\",(FZ155+1))","v":75},0,0,74,0,0,73,0,0,72,0,0,71,0,0,70,0,0,69,0,0,68,0,0,67,0,0,66,0,0,65,{"$f":"$E$90","v":0},0,64,{"$f":"$E$91","v":0},{"$f":"SUM($G$10*$G$11*HH156*(EXP(-($G$10*HG156))),$G$10*$G$11*HH156*(EXP(-($G$10*(HG156+0.1)))),$G$10*$G$11*HH156*(EXP(-($G$10*(HG156+0.2)))),$G$10*$G$11*HH156*(EXP(-($G$10*(HG156+0.3)))),$G$10*$G$11*HH156*(EXP(-($G$10*(HG156+0.4)))),$G$10*$G$11*HH156*(EXP(-($G$10*(HG156+0.5)))),$G$10*$G$11*HH156*(EXP(-($G$10*(HG156+0.6)))),$G$10*$G$11*HH156*(EXP(-($G$10*(HG156+0.7)))),$G$10*$G$11*HH156*(EXP(-($G$10*(HG156+0.8)))),$G$10*$G$11*HH156*(EXP(-($G$10*(HG156+0.9)))))/10","v":0},63,0,0,62,0,0,61,0,0,60,0,0,59,0,0,58,0,0,57,0,0,56,0,0,55,0,0,54,0,0,53,0,0]
[null,null,null,null,null,null,null,null,134,0,133,0,0,132,0,0,131,0,0,130,0,0,129,0,0,128,{"$f":"$E$28","v":0},{"$f":"SUM($G$10*$G$11*AA157*(EXP(-($G$10*Z157))),$G$10*$G$11*AA157*(EXP(-($G$10*(Z157+0.1)))),$G$10*$G$11*AA157*(EXP(-($G$10*(Z157+0.2)))),$G$10*$G$11*AA157*(EXP(-($G$10*(Z157+0.3)))),$G$10*$G$11*AA157*(EXP(-($G$10*(Z157+0.4)))),$G$10*$G$11*AA157*(EXP(-($G$10*(Z157+0.5)))),$G$10*$G$11*AA157*(EXP(-($G$10*(Z157+0.6)))),$G$10*$G$11*AA157*(EXP(-($G$10*(Z157+0.7)))),$G$10*$G$11*AA157*(EXP(-($G$10*(Z157+0.8)))),$G$10*$G$11*AA157*(EXP(-($G$10*(Z157+0.9)))))/10","v":0},127,0,0,126,0,0,125,0,0,124,0,0,123,0,0,122,0,0,121,0,0,120,0,0,119,0,0,118,0,0,117,0,0,116,0,0,115,0,0,114,0,0,113,0,0,112,0,0,111,0,0,110,0,0,109,0,0,108,0,0,107,0,0,106,0,0,105,0,0,104,0,0,103,0,0,102,0,0,101,0,0,100,0,0,99,0,0,98,0,0,97,0,0,96,{"$f":"$E$60","v":0},{"$f":"SUM($G$10*$G$11*DS157*(EXP(-($G$10*DR157))),$G$10*$G$11*DS157*(EXP(-($G$10*(DR157+0.1)))),$G$10*$G$11*DS157*(EXP(-($G$10*(DR157+0.2)))),$G$10*$G$11*DS157*(EXP(-($G$10*(DR157+0.3)))),$G$10*$G$11*DS157*(EXP(-($G$10*(DR157+0.4)))),$G$10*$G$11*DS157*(EXP(-($G$10*(DR157+0.5)))),$G$10*$G$11*DS157*(EXP(-($G$10*(DR157+0.6)))),$G$10*$G$11*DS157*(EXP(-($G$10*(DR157+0.7)))),$G$10*$G$11*DS157*(EXP(-($G$10*(DR157+0.8)))),$G$10*$G$11*DS157*(EXP(-($G$10*(DR157+0.9)))))/10","v":0},95,0,0,94,0,0,93,0,0,92,0,0,91,0,0,90,0,0,89,0,0,88,0,0,87,0,0,86,0,0,85,0,0,84,0,0,83,0,0,82,0,0,81,0,0,80,0,0,79,0,0,78,0,0,77,0,0,76,0,0,{"$f":"IF(GC156=\"\",\"\",(GC156+1))","v":75},0,0,74,0,0,73,0,0,72,0,0,71,0,0,70,0,0,69,0,0,68,0,0,67,0,0,66,0,0,65,0,0,64,0,{"$f":"SUM($G$10*$G$11*HK157*(EXP(-($G$10*HJ157))),$G$10*$G$11*HK157*(EXP(-($G$10*(HJ157+0.1)))),$G$10*$G$11*HK157*(EXP(-($G$10*(HJ157+0.2)))),$G$10*$G$11*HK157*(EXP(-($G$10*(HJ157+0.3)))),$G$10*$G$11*HK157*(EXP(-($G$10*(HJ157+0.4)))),$G$10*$G$11*HK157*(EXP(-($G$10*(HJ157+0.5)))),$G$10*$G$11*HK157*(EXP(-($G$10*(HJ157+0.6)))),$G$10*$G$11*HK157*(EXP(-($G$10*(HJ157+0.7)))),$G$10*$G$11*HK157*(EXP(-($G$10*(HJ157+0.8)))),$G$10*$G$11*HK157*(EXP(-($G$10*(HJ157+0.9)))))/10","v":0},63,0,0,62,0,0,61,0,0,60,0,0,59,0,0,58,0,0,57,0,0,56,0,0,55,0,0,54,0,0]
[null,null,null,null,null,null,null,null,135,0,134,0,0,133,0,0,132,0,0,131,0,0,130,0,0,129,0,0,128,{"$f":"$E$29","v":0},{"$f":"SUM($G$10*$G$11*AD158*(EXP(-($G$10*AC158))),$G$10*$G$11*AD158*(EXP(-($G$10*(AC158+0.1)))),$G$10*$G$11*AD158*(EXP(-($G$10*(AC158+0.2)))),$G$10*$G$11*AD158*(EXP(-($G$10*(AC158+0.3)))),$G$10*$G$11*AD158*(EXP(-($G$10*(AC158+0.4)))),$G$10*$G$11*AD158*(EXP(-($G$10*(AC158+0.5)))),$G$10*$G$11*AD158*(EXP(-($G$10*(AC158+0.6)))),$G$10*$G$11*AD158*(EXP(-($G$10*(AC158+0.7)))),$G$10*$G$11*AD158*(EXP(-($G$10*(AC158+0.8)))),$G$10*$G$11*AD158*(EXP(-($G$10*(AC158+0.9)))))/10","v":0},127,0,0,126,0,0,125,0,0,124,0,0,123,0,0,122,0,0,121,0,0,120,0,0,119,0,0,118,0,0,117,0,0,116,0,0,115,0,0,114,0,0,113,0,0,112,0,0,111,0,0,110,0,0,109,0,0,108,0,0,107,0,0,106,0,0,105,0,0,104,0,0,103,0,0,102,0,0,101,0,0,100,0,0,99,0,0,98,0,0,97,0,0,96,{"$f":"$E$61","v":0},{"$f":"SUM($G$10*$G$11*DV158*(EXP(-($G$10*DU158))),$G$10*$G$11*DV158*(EXP(-($G$10*(DU158+0.1)))),$G$10*$G$11*DV158*(EXP(-($G$10*(DU158+0.2)))),$G$10*$G$11*DV158*(EXP(-($G$10*(DU158+0.3)))),$G$10*$G$11*DV158*(EXP(-($G$10*(DU158+0.4)))),$G$10*$G$11*DV158*(EXP(-($G$10*(DU158+0.5)))),$G$10*$G$11*DV158*(EXP(-($G$10*(DU158+0.6)))),$G$10*$G$11*DV158*(EXP(-($G$10*(DU158+0.7)))),$G$10*$G$11*DV158*(EXP(-($G$10*(DU158+0.8)))),$G$10*$G$11*DV158*(EXP(-($G$10*(DU158+0.9)))))/10","v":0},95,0,0,94,0,0,93,0,0,92,0,0,91,0,0,90,0,0,89,0,0,88,0,0,87,0,0,86,0,0,85,0,0,84,0,0,83,0,0,82,0,0,81,0,0,80,0,0,79,0,0,78,0,0,77,0,0,76,0,0,{"$f":"IF(GF157=\"\",\"\",(GF157+1))","v":75},0,0,74,0,0,73,0,0,72,0,0,71,0,0,70,0,0,69,0,0,68,0,0,67,0,0,66,0,0,65,{"$f":"$E$92","v":0},0,64,0,{"$f":"SUM($G$10*$G$11*HN158*(EXP(-($G$10*HM158))),$G$10*$G$11*HN158*(EXP(-($G$10*(HM158+0.1)))),$G$10*$G$11*HN158*(EXP(-($G$10*(HM158+0.2)))),$G$10*$G$11*HN158*(EXP(-($G$10*(HM158+0.3)))),$G$10*$G$11*HN158*(EXP(-($G$10*(HM158+0.4)))),$G$10*$G$11*HN158*(EXP(-($G$10*(HM158+0.5)))),$G$10*$G$11*HN158*(EXP(-($G$10*(HM158+0.6)))),$G$10*$G$11*HN158*(EXP(-($G$10*(HM158+0.7)))),$G$10*$G$11*HN158*(EXP(-($G$10*(HM158+0.8)))),$G$10*$G$11*HN158*(EXP(-($G$10*(HM158+0.9)))))/10","v":0},63,0,0,62,0,0,61,0,0,60,0,0,59,0,0,58,0,0,57,0,0,56,0,0,55,0,0]
[null,null,null,null,null,null,null,null,136,0,135,0,0,134,0,0,133,0,0,132,0,0,131,0,0,130,0,0,129,0,0,128,{"$f":"$E$30","v":0},{"$f":"SUM($G$10*$G$11*AG159*(EXP(-($G$10*AF159))),$G$10*$G$11*AG159*(EXP(-($G$10*(AF159+0.1)))),$G$10*$G$11*AG159*(EXP(-($G$10*(AF159+0.2)))),$G$10*$G$11*AG159*(EXP(-($G$10*(AF159+0.3)))),$G$10*$G$11*AG159*(EXP(-($G$10*(AF159+0.4)))),$G$10*$G$11*AG159*(EXP(-($G$10*(AF159+0.5)))),$G$10*$G$11*AG159*(EXP(-($G$10*(AF159+0.6)))),$G$10*$G$11*AG159*(EXP(-($G$10*(AF159+0.7)))),$G$10*$G$11*AG159*(EXP(-($G$10*(AF159+0.8)))),$G$10*$G$11*AG159*(EXP(-($G$10*(AF159+0.9)))))/10","v":0},127,0,0,126,0,0,125,0,0,124,0,0,123,0,0,122,0,0,121,0,0,120,0,0,119,0,0,118,0,0,117,0,0,116,0,0,115,0,0,114,0,0,113,0,0,112,0,0,111,0,0,110,0,0,109,0,0,108,0,0,107,0,0,106,0,0,105,0,0,104,0,0,103,0,0,102,0,0,101,0,0,100,0,0,99,0,0,98,0,0,97,0,0,96,{"$f":"$E$62","v":0},{"$f":"SUM($G$10*$G$11*DY159*(EXP(-($G$10*DX159))),$G$10*$G$11*DY159*(EXP(-($G$10*(DX159+0.1)))),$G$10*$G$11*DY159*(EXP(-($G$10*(DX159+0.2)))),$G$10*$G$11*DY159*(EXP(-($G$10*(DX159+0.3)))),$G$10*$G$11*DY159*(EXP(-($G$10*(DX159+0.4)))),$G$10*$G$11*DY159*(EXP(-($G$10*(DX159+0.5)))),$G$10*$G$11*DY159*(EXP(-($G$10*(DX159+0.6)))),$G$10*$G$11*DY159*(EXP(-($G$10*(DX159+0.7)))),$G$10*$G$11*DY159*(EXP(-($G$10*(DX159+0.8)))),$G$10*$G$11*DY159*(EXP(-($G$10*(DX159+0.9)))))/10","v":0},95,0,0,94,0,0,93,0,0,92,0,0,91,0,0,90,0,0,89,0,0,88,0,0,87,0,0,86,0,0,85,0,0,84,0,0,83,0,0,82,0,0,81,0,0,80,0,0,79,0,0,78,0,0,77,0,0,76,0,0,{"$f":"IF(GI158=\"\",\"\",(GI158+1))","v":75},0,0,74,0,0,73,0,0,72,0,0,71,0,0,70,0,0,69,0,0,68,0,0,67,0,0,66,0,0,65,{"$f":"$E$93","v":0},0,64,{"$f":"$E$94","v":0},{"$f":"SUM($G$10*$G$11*HQ159*(EXP(-($G$10*HP159))),$G$10*$G$11*HQ159*(EXP(-($G$10*(HP159+0.1)))),$G$10*$G$11*HQ159*(EXP(-($G$10*(HP159+0.2)))),$G$10*$G$11*HQ159*(EXP(-($G$10*(HP159+0.3)))),$G$10*$G$11*HQ159*(EXP(-($G$10*(HP159+0.4)))),$G$10*$G$11*HQ159*(EXP(-($G$10*(HP159+0.5)))),$G$10*$G$11*HQ159*(EXP(-($G$10*(HP159+0.6)))),$G$10*$G$11*HQ159*(EXP(-($G$10*(HP159+0.7)))),$G$10*$G$11*HQ159*(EXP(-($G$10*(HP159+0.8)))),$G$10*$G$11*HQ159*(EXP(-($G$10*(HP159+0.9)))))/10","v":0},63,0,0,62,0,0,61,0,0,60,0,0,59,0,0,58,0,0,57,0,0,56,0,0]
[null,null,null,null,null,null,null,null,137,0,136,0,0,135,0,0,134,0,0,133,0,0,132,0,0,131,0,0,130,0,0,129,{"$f":"$E$30","v":0},{"$f":"SUM($G$10*$G$11*AG160*(EXP(-($G$10*AF160))),$G$10*$G$11*AG160*(EXP(-($G$10*(AF160+0.1)))),$G$10*$G$11*AG160*(EXP(-($G$10*(AF160+0.2)))),$G$10*$G$11*AG160*(EXP(-($G$10*(AF160+0.3)))),$G$10*$G$11*AG160*(EXP(-($G$10*(AF160+0.4)))),$G$10*$G$11*AG160*(EXP(-($G$10*(AF160+0.5)))),$G$10*$G$11*AG160*(EXP(-($G$10*(AF160+0.6)))),$G$10*$G$11*AG160*(EXP(-($G$10*(AF160+0.7)))),$G$10*$G$11*AG160*(EXP(-($G$10*(AF160+0.8)))),$G$10*$G$11*AG160*(EXP(-($G$10*(AF160+0.9)))))/10","v":0},128,{"$f":"$E$31","v":0},{"$f":"SUM($G$10*$G$11*AJ160*(EXP(-($G$10*AI160))),$G$10*$G$11*AJ160*(EXP(-($G$10*(AI160+0.1)))),$G$10*$G$11*AJ160*(EXP(-($G$10*(AI160+0.2)))),$G$10*$G$11*AJ160*(EXP(-($G$10*(AI160+0.3)))),$G$10*$G$11*AJ160*(EXP(-($G$10*(AI160+0.4)))),$G$10*$G$11*AJ160*(EXP(-($G$10*(AI160+0.5)))),$G$10*$G$11*AJ160*(EXP(-($G$10*(AI160+0.6)))),$G$10*$G$11*AJ160*(EXP(-($G$10*(AI160+0.7)))),$G$10*$G$11*AJ160*(EXP(-($G$10*(AI160+0.8)))),$G$10*$G$11*AJ160*(EXP(-($G$10*(AI160+0.9)))))/10","v":0},127,0,0,126,0,0,125,0,0,124,0,0,123,0,0,122,0,0,121,0,0,120,0,0,119,0,0,118,0,0,117,0,0,116,0,0,115,0,0,114,0,0,113,0,0,112,0,0,111,0,0,110,0,0,109,0,0,108,0,0,107,0,0,106,0,0,105,0,0,104,0,0,103,0,0,102,0,0,101,0,0,100,0,0,99,0,0,98,0,0,97,{"$f":"$E$62","v":0},{"$f":"SUM($G$10*$G$11*DY160*(EXP(-($G$10*DX160))),$G$10*$G$11*DY160*(EXP(-($G$10*(DX160+0.1)))),$G$10*$G$11*DY160*(EXP(-($G$10*(DX160+0.2)))),$G$10*$G$11*DY160*(EXP(-($G$10*(DX160+0.3)))),$G$10*$G$11*DY160*(EXP(-($G$10*(DX160+0.4)))),$G$10*$G$11*DY160*(EXP(-($G$10*(DX160+0.5)))),$G$10*$G$11*DY160*(EXP(-($G$10*(DX160+0.6)))),$G$10*$G$11*DY160*(EXP(-($G$10*(DX160+0.7)))),$G$10*$G$11*DY160*(EXP(-($G$10*(DX160+0.8)))),$G$10*$G$11*DY160*(EXP(-($G$10*(DX160+0.9)))))/10","v":0},96,0,{"$f":"SUM($G$10*$G$11*EB160*(EXP(-($G$10*EA160))),$G$10*$G$11*EB160*(EXP(-($G$10*(EA160+0.1)))),$G$10*$G$11*EB160*(EXP(-($G$10*(EA160+0.2)))),$G$10*$G$11*EB160*(EXP(-($G$10*(EA160+0.3)))),$G$10*$G$11*EB160*(EXP(-($G$10*(EA160+0.4)))),$G$10*$G$11*EB160*(EXP(-($G$10*(EA160+0.5)))),$G$10*$G$11*EB160*(EXP(-($G$10*(EA160+0.6)))),$G$10*$G$11*EB160*(EXP(-($G$10*(EA160+0.7)))),$G$10*$G$11*EB160*(EXP(-($G$10*(EA160+0.8)))),$G$10*$G$11*EB160*(EXP(-($G$10*(EA160+0.9)))))/10","v":0},95,0,0,94,0,0,93,0,0,92,0,0,91,0,0,90,0,0,89,0,0,88,0,0,87,0,0,86,0,0,85,0,0,84,0,0,83,0,0,82,0,0,81,0,0,80,0,0,79,0,0,78,0,0,77,0,0,{"$f":"IF(GI159=\"\",\"\",(GI159+1))","v":76},0,0,{"$f":"IF(GL159=\"\",\"\",(GL159+1))","v":75},0,0,74,0,0,73,0,0,72,0,0,71,0,0,70,0,0,69,0,0,68,0,0,67,0,0,66,{"$f":"$E$93","v":0},0,65,{"$f":"$E$94","v":0},{"$f":"SUM($G$10*$G$11*HQ160*(EXP(-($G$10*HP160))),$G$10*$G$11*HQ160*(EXP(-($G$10*(HP160+0.1)))),$G$10*$G$11*HQ160*(EXP(-($G$10*(HP160+0.2)))),$G$10*$G$11*HQ160*(EXP(-($G$10*(HP160+0.3)))),$G$10*$G$11*HQ160*(EXP(-($G$10*(HP160+0.4)))),$G$10*$G$11*HQ160*(EXP(-($G$10*(HP160+0.5)))),$G$10*$G$11*HQ160*(EXP(-($G$10*(HP160+0.6)))),$G$10*$G$11*HQ160*(EXP(-($G$10*(HP160+0.7)))),$G$10*$G$11*HQ160*(EXP(-($G$10*(HP160+0.8)))),$G$10*$G$11*HQ160*(EXP(-($G$10*(HP160+0.9)))))/10","v":0},64,0,{"$f":"SUM($G$10*$G$11*HT160*(EXP(-($G$10*HS160))),$G$10*$G$11*HT160*(EXP(-($G$10*(HS160+0.1)))),$G$10*$G$11*HT160*(EXP(-($G$10*(HS160+0.2)))),$G$10*$G$11*HT160*(EXP(-($G$10*(HS160+0.3)))),$G$10*$G$11*HT160*(EXP(-($G$10*(HS160+0.4)))),$G$10*$G$11*HT160*(EXP(-($G$10*(HS160+0.5)))),$G$10*$G$11*HT160*(EXP(-($G$10*(HS160+0.6)))),$G$10*$G$11*HT160*(EXP(-($G$10*(HS160+0.7)))),$G$10*$G$11*HT160*(EXP(-($G$10*(HS160+0.8)))),$G$10*$G$11*HT160*(EXP(-($G$10*(HS160+0.9)))))/10","v":0},63,0,0,62,0,0,61,0,0,60,0,0,59,0,0,58,0,0,57,0,0]
[null,null,null,null,null,null,null,null,138,0,137,0,0,136,0,0,135,0,0,134,0,0,133,0,0,132,0,0,131,0,0,130,{"$f":"$E$30","v":0},{"$f":"SUM($G$10*$G$11*AG161*(EXP(-($G$10*AF161))),$G$10*$G$11*AG161*(EXP(-($G$10*(AF161+0.1)))),$G$10*$G$11*AG161*(EXP(-($G$10*(AF161+0.2)))),$G$10*$G$11*AG161*(EXP(-($G$10*(AF161+0.3)))),$G$10*$G$11*AG161*(EXP(-($G$10*(AF161+0.4)))),$G$10*$G$11*AG161*(EXP(-($G$10*(AF161+0.5)))),$G$10*$G$11*AG161*(EXP(-($G$10*(AF161+0.6)))),$G$10*$G$11*AG161*(EXP(-($G$10*(AF161+0.7)))),$G$10*$G$11*AG161*(EXP(-($G$10*(AF161+0.8)))),$G$10*$G$11*AG161*(EXP(-($G$10*(AF161+0.9)))))/10","v":0},129,{"$f":"$E$31","v":0},{"$f":"SUM($G$10*$G$11*AJ161*(EXP(-($G$10*AI161))),$G$10*$G$11*AJ161*(EXP(-($G$10*(AI161+0.1)))),$G$10*$G$11*AJ161*(EXP(-($G$10*(AI161+0.2)))),$G$10*$G$11*AJ161*(EXP(-($G$10*(AI161+0.3)))),$G$10*$G$11*AJ161*(EXP(-($G$10*(AI161+0.4)))),$G$10*$G$11*AJ161*(EXP(-($G$10*(AI161+0.5)))),$G$10*$G$11*AJ161*(EXP(-($G$10*(AI161+0.6)))),$G$10*$G$11*AJ161*(EXP(-($G$10*(AI161+0.7)))),$G$10*$G$11*AJ161*(EXP(-($G$10*(AI161+0.8)))),$G$10*$G$11*AJ161*(EXP(-($G$10*(AI161+0.9)))))/10","v":0},128,{"$f":"$E$32","v":0},{"$f":"SUM($G$10*$G$11*AM161*(EXP(-($G$10*AL161))),$G$10*$G$11*AM161*(EXP(-($G$10*(AL161+0.1)))),$G$10*$G$11*AM161*(EXP(-($G$10*(AL161+0.2)))),$G$10*$G$11*AM161*(EXP(-($G$10*(AL161+0.3)))),$G$10*$G$11*AM161*(EXP(-($G$10*(AL161+0.4)))),$G$10*$G$11*AM161*(EXP(-($G$10*(AL161+0.5)))),$G$10*$G$11*AM161*(EXP(-($G$10*(AL161+0.6)))),$G$10*$G$11*AM161*(EXP(-($G$10*(AL161+0.7)))),$G$10*$G$11*AM161*(EXP(-($G$10*(AL161+0.8)))),$G$10*$G$11*AM161*(EXP(-($G$10*(AL161+0.9)))))/10","v":0},127,0,0,126,0,0,125,0,0,124,0,0,123,0,0,122,0,0,121,0,0,120,0,0,119,0,0,118,0,0,117,0,0,116,0,0,115,0,0,114,0,0,113,0,0,112,0,0,111,0,0,110,0,0,109,0,0,108,0,0,107,0,0,106,0,0,105,0,0,104,0,0,103,0,0,102,0,0,101,0,0,100,0,0,99,0,0,98,{"$f":"$E$62","v":0},{"$f":"SUM($G$10*$G$11*DY161*(EXP(-($G$10*DX161))),$G$10*$G$11*DY161*(EXP(-($G$10*(DX161+0.1)))),$G$10*$G$11*DY161*(EXP(-($G$10*(DX161+0.2)))),$G$10*$G$11*DY161*(EXP(-($G$10*(DX161+0.3)))),$G$10*$G$11*DY161*(EXP(-($G$10*(DX161+0.4)))),$G$10*$G$11*DY161*(EXP(-($G$10*(DX161+0.5)))),$G$10*$G$11*DY161*(EXP(-($G$10*(DX161+0.6)))),$G$10*$G$11*DY161*(EXP(-($G$10*(DX161+0.7)))),$G$10*$G$11*DY161*(EXP(-($G$10*(DX161+0.8)))),$G$10*$G$11*DY161*(EXP(-($G$10*(DX161+0.9)))))/10","v":0},97,0,{"$f":"SUM($G$10*$G$11*EB161*(EXP(-($G$10*EA161))),$G$10*$G$11*EB161*(EXP(-($G$10*(EA161+0.1)))),$G$10*$G$11*EB161*(EXP(-($G$10*(EA161+0.2)))),$G$10*$G$11*EB161*(EXP(-($G$10*(EA161+0.3)))),$G$10*$G$11*EB161*(EXP(-($G$10*(EA161+0.4)))),$G$10*$G$11*EB161*(EXP(-($G$10*(EA161+0.5)))),$G$10*$G$11*EB161*(EXP(-($G$10*(EA161+0.6)))),$G$10*$G$11*EB161*(EXP(-($G$10*(EA161+0.7)))),$G$10*$G$11*EB161*(EXP(-($G$10*(EA161+0.8)))),$G$10*$G$11*EB161*(EXP(-($G$10*(EA161+0.9)))))/10","v":0},96,0,{"$f":"SUM($G$10*$G$11*EE161*(EXP(-($G$10*ED161))),$G$10*$G$11*EE161*(EXP(-($G$10*(ED161+0.1)))),$G$10*$G$11*EE161*(EXP(-($G$10*(ED161+0.2)))),$G$10*$G$11*EE161*(EXP(-($G$10*(ED161+0.3)))),$G$10*$G$11*EE161*(EXP(-($G$10*(ED161+0.4)))),$G$10*$G$11*EE161*(EXP(-($G$10*(ED161+0.5)))),$G$10*$G$11*EE161*(EXP(-($G$10*(ED161+0.6)))),$G$10*$G$11*EE161*(EXP(-($G$10*(ED161+0.7)))),$G$10*$G$11*EE161*(EXP(-($G$10*(ED161+0.8)))),$G$10*$G$11*EE161*(EXP(-($G$10*(ED161+0.9)))))/10","v":0},95,0,0,94,0,0,93,0,0,92,0,0,91,0,0,90,0,0,89,0,0,88,0,0,87,0,0,86,0,0,85,0,0,84,0,0,83,0,0,82,0,0,81,0,0,80,0,0,79,0,0,78,0,0,{"$f":"IF(GI160=\"\",\"\",(GI160+1))","v":77},0,0,{"$f":"IF(GL160=\"\",\"\",(GL160+1))","v":76},0,0,{"$f":"IF(GO160=\"\",\"\",(GO160+1))","v":75},0,0,74,0,0,73,0,0,72,0,0,71,0,0,70,0,0,69,0,0,68,0,0,67,{"$f":"$E$93","v":0},0,66,{"$f":"$E$94","v":0},{"$f":"SUM($G$10*$G$11*HQ161*(EXP(-($G$10*HP161))),$G$10*$G$11*HQ161*(EXP(-($G$10*(HP161+0.1)))),$G$10*$G$11*HQ161*(EXP(-($G$10*(HP161+0.2)))),$G$10*$G$11*HQ161*(EXP(-($G$10*(HP161+0.3)))),$G$10*$G$11*HQ161*(EXP(-($G$10*(HP161+0.4)))),$G$10*$G$11*HQ161*(EXP(-($G$10*(HP161+0.5)))),$G$10*$G$11*HQ161*(EXP(-($G$10*(HP161+0.6)))),$G$10*$G$11*HQ161*(EXP(-($G$10*(HP161+0.7)))),$G$10*$G$11*HQ161*(EXP(-($G$10*(HP161+0.8)))),$G$10*$G$11*HQ161*(EXP(-($G$10*(HP161+0.9)))))/10","v":0},65,{"$f":"$E$95","v":0},{"$f":"SUM($G$10*$G$11*HT161*(EXP(-($G$10*HS161))),$G$10*$G$11*HT161*(EXP(-($G$10*(HS161+0.1)))),$G$10*$G$11*HT161*(EXP(-($G$10*(HS161+0.2)))),$G$10*$G$11*HT161*(EXP(-($G$10*(HS161+0.3)))),$G$10*$G$11*HT161*(EXP(-($G$10*(HS161+0.4)))),$G$10*$G$11*HT161*(EXP(-($G$10*(HS161+0.5)))),$G$10*$G$11*HT161*(EXP(-($G$10*(HS161+0.6)))),$G$10*$G$11*HT161*(EXP(-($G$10*(HS161+0.7)))),$G$10*$G$11*HT161*(EXP(-($G$10*(HS161+0.8)))),$G$10*$G$11*HT161*(EXP(-($G$10*(HS161+0.9)))))/10","v":0},64,{"$f":"$E$96","v":0},{"$f":"SUM($G$10*$G$11*HW161*(EXP(-($G$10*HV161))),$G$10*$G$11*HW161*(EXP(-($G$10*(HV161+0.1)))),$G$10*$G$11*HW161*(EXP(-($G$10*(HV161+0.2)))),$G$10*$G$11*HW161*(EXP(-($G$10*(HV161+0.3)))),$G$10*$G$11*HW161*(EXP(-($G$10*(HV161+0.4)))),$G$10*$G$11*HW161*(EXP(-($G$10*(HV161+0.5)))),$G$10*$G$11*HW161*(EXP(-($G$10*(HV161+0.6)))),$G$10*$G$11*HW161*(EXP(-($G$10*(HV161+0.7)))),$G$10*$G$11*HW161*(EXP(-($G$10*(HV161+0.8)))),$G$10*$G$11*HW161*(EXP(-($G$10*(HV161+0.9)))))/10","v":0},63,0,0,62,0,0,61,0,0,60,0,0,59,0,0,58,0,0]
[null,null,null,null,null,null,null,null,139,0,138,0,0,137,0,0,136,0,0,135,0,0,134,0,0,133,0,0,132,0,0,131,{"$f":"$E$30","v":0},{"$f":"SUM($G$10*$G$11*AG162*(EXP(-($G$10*AF162))),$G$10*$G$11*AG162*(EXP(-($G$10*(AF162+0.1)))),$G$10*$G$11*AG162*(EXP(-($G$10*(AF162+0.2)))),$G$10*$G$11*AG162*(EXP(-($G$10*(AF162+0.3)))),$G$10*$G$11*AG162*(EXP(-($G$10*(AF162+0.4)))),$G$10*$G$11*AG162*(EXP(-($G$10*(AF162+0.5)))),$G$10*$G$11*AG162*(EXP(-($G$10*(AF162+0.6)))),$G$10*$G$11*AG162*(EXP(-($G$10*(AF162+0.7)))),$G$10*$G$11*AG162*(EXP(-($G$10*(AF162+0.8)))),$G$10*$G$11*AG162*(EXP(-($G$10*(AF162+0.9)))))/10","v":0},130,{"$f":"$E$31","v":0},{"$f":"SUM($G$10*$G$11*AJ162*(EXP(-($G$10*AI162))),$G$10*$G$11*AJ162*(EXP(-($G$10*(AI162+0.1)))),$G$10*$G$11*AJ162*(EXP(-($G$10*(AI162+0.2)))),$G$10*$G$11*AJ162*(EXP(-($G$10*(AI162+0.3)))),$G$10*$G$11*AJ162*(EXP(-($G$10*(AI162+0.4)))),$G$10*$G$11*AJ162*(EXP(-($G$10*(AI162+0.5)))),$G$10*$G$11*AJ162*(EXP(-($G$10*(AI162+0.6)))),$G$10*$G$11*AJ162*(EXP(-($G$10*(AI162+0.7)))),$G$10*$G$11*AJ162*(EXP(-($G$10*(AI162+0.8)))),$G$10*$G$11*AJ162*(EXP(-($G$10*(AI162+0.9)))))/10","v":0},129,{"$f":"$E$32","v":0},{"$f":"SUM($G$10*$G$11*AM162*(EXP(-($G$10*AL162))),$G$10*$G$11*AM162*(EXP(-($G$10*(AL162+0.1)))),$G$10*$G$11*AM162*(EXP(-($G$10*(AL162+0.2)))),$G$10*$G$11*AM162*(EXP(-($G$10*(AL162+0.3)))),$G$10*$G$11*AM162*(EXP(-($G$10*(AL162+0.4)))),$G$10*$G$11*AM162*(EXP(-($G$10*(AL162+0.5)))),$G$10*$G$11*AM162*(EXP(-($G$10*(AL162+0.6)))),$G$10*$G$11*AM162*(EXP(-($G$10*(AL162+0.7)))),$G$10*$G$11*AM162*(EXP(-($G$10*(AL162+0.8)))),$G$10*$G$11*AM162*(EXP(-($G$10*(AL162+0.9)))))/10","v":0},128,{"$f":"$E$33","v":0},{"$f":"SUM($G$10*$G$11*AP162*(EXP(-($G$10*AO162))),$G$10*$G$11*AP162*(EXP(-($G$10*(AO162+0.1)))),$G$10*$G$11*AP162*(EXP(-($G$10*(AO162+0.2)))),$G$10*$G$11*AP162*(EXP(-($G$10*(AO162+0.3)))),$G$10*$G$11*AP162*(EXP(-($G$10*(AO162+0.4)))),$G$10*$G$11*AP162*(EXP(-($G$10*(AO162+0.5)))),$G$10*$G$11*AP162*(EXP(-($G$10*(AO162+0.6)))),$G$10*$G$11*AP162*(EXP(-($G$10*(AO162+0.7)))),$G$10*$G$11*AP162*(EXP(-($G$10*(AO162+0.8)))),$G$10*$G$11*AP162*(EXP(-($G$10*(AO162+0.9)))))/10","v":0},127,0,0,126,0,0,125,0,0,124,0,0,123,0,0,122,0,0,121,0,0,120,0,0,119,0,0,118,0,0,117,0,0,116,0,0,115,0,0,114,0,0,113,0,0,112,0,0,111,0,0,110,0,0,109,0,0,108,0,0,107,0,0,106,0,0,105,0,0,104,0,0,103,0,0,102,0,0,101,0,0,100,0,0,99,{"$f":"$E$62","v":0},{"$f":"SUM($G$10*$G$11*DY162*(EXP(-($G$10*DX162))),$G$10*$G$11*DY162*(EXP(-($G$10*(DX162+0.1)))),$G$10*$G$11*DY162*(EXP(-($G$10*(DX162+0.2)))),$G$10*$G$11*DY162*(EXP(-($G$10*(DX162+0.3)))),$G$10*$G$11*DY162*(EXP(-($G$10*(DX162+0.4)))),$G$10*$G$11*DY162*(EXP(-($G$10*(DX162+0.5)))),$G$10*$G$11*DY162*(EXP(-($G$10*(DX162+0.6)))),$G$10*$G$11*DY162*(EXP(-($G$10*(DX162+0.7)))),$G$10*$G$11*DY162*(EXP(-($G$10*(DX162+0.8)))),$G$10*$G$11*DY162*(EXP(-($G$10*(DX162+0.9)))))/10","v":0},98,0,{"$f":"SUM($G$10*$G$11*EB162*(EXP(-($G$10*EA162))),$G$10*$G$11*EB162*(EXP(-($G$10*(EA162+0.1)))),$G$10*$G$11*EB162*(EXP(-($G$10*(EA162+0.2)))),$G$10*$G$11*EB162*(EXP(-($G$10*(EA162+0.3)))),$G$10*$G$11*EB162*(EXP(-($G$10*(EA162+0.4)))),$G$10*$G$11*EB162*(EXP(-($G$10*(EA162+0.5)))),$G$10*$G$11*EB162*(EXP(-($G$10*(EA162+0.6)))),$G$10*$G$11*EB162*(EXP(-($G$10*(EA162+0.7)))),$G$10*$G$11*EB162*(EXP(-($G$10*(EA162+0.8)))),$G$10*$G$11*EB162*(EXP(-($G$10*(EA162+0.9)))))/10","v":0},97,0,{"$f":"SUM($G$10*$G$11*EE162*(EXP(-($G$10*ED162))),$G$10*$G$11*EE162*(EXP(-($G$10*(ED162+0.1)))),$G$10*$G$11*EE162*(EXP(-($G$10*(ED162+0.2)))),$G$10*$G$11*EE162*(EXP(-($G$10*(ED162+0.3)))),$G$10*$G$11*EE162*(EXP(-($G$10*(ED162+0.4)))),$G$10*$G$11*EE162*(EXP(-($G$10*(ED162+0.5)))),$G$10*$G$11*EE162*(EXP(-($G$10*(ED162+0.6)))),$G$10*$G$11*EE162*(EXP(-($G$10*(ED162+0.7)))),$G$10*$G$11*EE162*(EXP(-($G$10*(ED162+0.8)))),$G$10*$G$11*EE162*(EXP(-($G$10*(ED162+0.9)))))/10","v":0},96,0,{"$f":"SUM($G$10*$G$11*EH162*(EXP(-($G$10*EG162))),$G$10*$G$11*EH162*(EXP(-($G$10*(EG162+0.1)))),$G$10*$G$11*EH162*(EXP(-($G$10*(EG162+0.2)))),$G$10*$G$11*EH162*(EXP(-($G$10*(EG162+0.3)))),$G$10*$G$11*EH162*(EXP(-($G$10*(EG162+0.4)))),$G$10*$G$11*EH162*(EXP(-($G$10*(EG162+0.5)))),$G$10*$G$11*EH162*(EXP(-($G$10*(EG162+0.6)))),$G$10*$G$11*EH162*(EXP(-($G$10*(EG162+0.7)))),$G$10*$G$11*EH162*(EXP(-($G$10*(EG162+0.8)))),$G$10*$G$11*EH162*(EXP(-($G$10*(EG162+0.9)))))/10","v":0},95,0,0,94,0,0,93,0,0,92,0,0,91,0,0,90,0,0,89,0,0,88,0,0,87,0,0,86,0,0,85,0,0,84,0,0,83,0,0,82,0,0,81,0,0,80,0,0,79,0,0,{"$f":"IF(GI161=\"\",\"\",(GI161+1))","v":78},0,0,{"$f":"IF(GL161=\"\",\"\",(GL161+1))","v":77},0,0,{"$f":"IF(GO161=\"\",\"\",(GO161+1))","v":76},0,0,{"$f":"IF(GR161=\"\",\"\",(GR161+1))","v":75},0,0,74,0,0,73,0,0,72,0,0,71,0,0,70,0,0,69,0,0,68,{"$f":"$E$93","v":0},0,67,{"$f":"$E$94","v":0},{"$f":"SUM($G$10*$G$11*HQ162*(EXP(-($G$10*HP162))),$G$10*$G$11*HQ162*(EXP(-($G$10*(HP162+0.1)))),$G$10*$G$11*HQ162*(EXP(-($G$10*(HP162+0.2)))),$G$10*$G$11*HQ162*(EXP(-($G$10*(HP162+0.3)))),$G$10*$G$11*HQ162*(EXP(-($G$10*(HP162+0.4)))),$G$10*$G$11*HQ162*(EXP(-($G$10*(HP162+0.5)))),$G$10*$G$11*HQ162*(EXP(-($G$10*(HP162+0.6)))),$G$10*$G$11*HQ162*(EXP(-($G$10*(HP162+0.7)))),$G$10*$G$11*HQ162*(EXP(-($G$10*(HP162+0.8)))),$G$10*$G$11*HQ162*(EXP(-($G$10*(HP162+0.9)))))/10","v":0},66,{"$f":"$E$95","v":0},{"$f":"SUM($G$10*$G$11*HT162*(EXP(-($G$10*HS162))),$G$10*$G$11*HT162*(EXP(-($G$10*(HS162+0.1)))),$G$10*$G$11*HT162*(EXP(-($G$10*(HS162+0.2)))),$G$10*$G$11*HT162*(EXP(-($G$10*(HS162+0.3)))),$G$10*$G$11*HT162*(EXP(-($G$10*(HS162+0.4)))),$G$10*$G$11*HT162*(EXP(-($G$10*(HS162+0.5)))),$G$10*$G$11*HT162*(EXP(-($G$10*(HS162+0.6)))),$G$10*$G$11*HT162*(EXP(-($G$10*(HS162+0.7)))),$G$10*$G$11*HT162*(EXP(-($G$10*(HS162+0.8)))),$G$10*$G$11*HT162*(EXP(-($G$10*(HS162+0.9)))))/10","v":0},65,{"$f":"$E$96","v":0},{"$f":"SUM($G$10*$G$11*HW162*(EXP(-($G$10*HV162))),$G$10*$G$11*HW162*(EXP(-($G$10*(HV162+0.1)))),$G$10*$G$11*HW162*(EXP(-($G$10*(HV162+0.2)))),$G$10*$G$11*HW162*(EXP(-($G$10*(HV162+0.3)))),$G$10*$G$11*HW162*(EXP(-($G$10*(HV162+0.4)))),$G$10*$G$11*HW162*(EXP(-($G$10*(HV162+0.5)))),$G$10*$G$11*HW162*(EXP(-($G$10*(HV162+0.6)))),$G$10*$G$11*HW162*(EXP(-($G$10*(HV162+0.7)))),$G$10*$G$11*HW162*(EXP(-($G$10*(HV162+0.8)))),$G$10*$G$11*HW162*(EXP(-($G$10*(HV162+0.9)))))/10","v":0},64,0,{"$f":"SUM($G$10*$G$11*HZ162*(EXP(-($G$10*HY162))),$G$10*$G$11*HZ162*(EXP(-($G$10*(HY162+0.1)))),$G$10*$G$11*HZ162*(EXP(-($G$10*(HY162+0.2)))),$G$10*$G$11*HZ162*(EXP(-($G$10*(HY162+0.3)))),$G$10*$G$11*HZ162*(EXP(-($G$10*(HY162+0.4)))),$G$10*$G$11*HZ162*(EXP(-($G$10*(HY162+0.5)))),$G$10*$G$11*HZ162*(EXP(-($G$10*(HY162+0.6)))),$G$10*$G$11*HZ162*(EXP(-($G$10*(HY162+0.7)))),$G$10*$G$11*HZ162*(EXP(-($G$10*(HY162+0.8)))),$G$10*$G$11*HZ162*(EXP(-($G$10*(HY162+0.9)))))/10","v":0},63,0,0,62,0,0,61,0,0,60,0,0,59,0,0]
[null,null,null,null,null,null,null,null,140,0,139,0,0,138,0,0,137,0,0,136,0,0,135,0,0,134,0,0,133,0,0,132,{"$f":"$E$30","v":0},{"$f":"SUM($G$10*$G$11*AG163*(EXP(-($G$10*AF163))),$G$10*$G$11*AG163*(EXP(-($G$10*(AF163+0.1)))),$G$10*$G$11*AG163*(EXP(-($G$10*(AF163+0.2)))),$G$10*$G$11*AG163*(EXP(-($G$10*(AF163+0.3)))),$G$10*$G$11*AG163*(EXP(-($G$10*(AF163+0.4)))),$G$10*$G$11*AG163*(EXP(-($G$10*(AF163+0.5)))),$G$10*$G$11*AG163*(EXP(-($G$10*(AF163+0.6)))),$G$10*$G$11*AG163*(EXP(-($G$10*(AF163+0.7)))),$G$10*$G$11*AG163*(EXP(-($G$10*(AF163+0.8)))),$G$10*$G$11*AG163*(EXP(-($G$10*(AF163+0.9)))))/10","v":0},131,{"$f":"$E$31","v":0},{"$f":"SUM($G$10*$G$11*AJ163*(EXP(-($G$10*AI163))),$G$10*$G$11*AJ163*(EXP(-($G$10*(AI163+0.1)))),$G$10*$G$11*AJ163*(EXP(-($G$10*(AI163+0.2)))),$G$10*$G$11*AJ163*(EXP(-($G$10*(AI163+0.3)))),$G$10*$G$11*AJ163*(EXP(-($G$10*(AI163+0.4)))),$G$10*$G$11*AJ163*(EXP(-($G$10*(AI163+0.5)))),$G$10*$G$11*AJ163*(EXP(-($G$10*(AI163+0.6)))),$G$10*$G$11*AJ163*(EXP(-($G$10*(AI163+0.7)))),$G$10*$G$11*AJ163*(EXP(-($G$10*(AI163+0.8)))),$G$10*$G$11*AJ163*(EXP(-($G$10*(AI163+0.9)))))/10","v":0},130,{"$f":"$E$32","v":0},{"$f":"SUM($G$10*$G$11*AM163*(EXP(-($G$10*AL163))),$G$10*$G$11*AM163*(EXP(-($G$10*(AL163+0.1)))),$G$10*$G$11*AM163*(EXP(-($G$10*(AL163+0.2)))),$G$10*$G$11*AM163*(EXP(-($G$10*(AL163+0.3)))),$G$10*$G$11*AM163*(EXP(-($G$10*(AL163+0.4)))),$G$10*$G$11*AM163*(EXP(-($G$10*(AL163+0.5)))),$G$10*$G$11*AM163*(EXP(-($G$10*(AL163+0.6)))),$G$10*$G$11*AM163*(EXP(-($G$10*(AL163+0.7)))),$G$10*$G$11*AM163*(EXP(-($G$10*(AL163+0.8)))),$G$10*$G$11*AM163*(EXP(-($G$10*(AL163+0.9)))))/10","v":0},129,{"$f":"$E$33","v":0},{"$f":"SUM($G$10*$G$11*AP163*(EXP(-($G$10*AO163))),$G$10*$G$11*AP163*(EXP(-($G$10*(AO163+0.1)))),$G$10*$G$11*AP163*(EXP(-($G$10*(AO163+0.2)))),$G$10*$G$11*AP163*(EXP(-($G$10*(AO163+0.3)))),$G$10*$G$11*AP163*(EXP(-($G$10*(AO163+0.4)))),$G$10*$G$11*AP163*(EXP(-($G$10*(AO163+0.5)))),$G$10*$G$11*AP163*(EXP(-($G$10*(AO163+0.6)))),$G$10*$G$11*AP163*(EXP(-($G$10*(AO163+0.7)))),$G$10*$G$11*AP163*(EXP(-($G$10*(AO163+0.8)))),$G$10*$G$11*AP163*(EXP(-($G$10*(AO163+0.9)))))/10","v":0},128,{"$f":"$E$34","v":0},{"$f":"SUM($G$10*$G$11*AS163*(EXP(-($G$10*AR163))),$G$10*$G$11*AS163*(EXP(-($G$10*(AR163+0.1)))),$G$10*$G$11*AS163*(EXP(-($G$10*(AR163+0.2)))),$G$10*$G$11*AS163*(EXP(-($G$10*(AR163+0.3)))),$G$10*$G$11*AS163*(EXP(-($G$10*(AR163+0.4)))),$G$10*$G$11*AS163*(EXP(-($G$10*(AR163+0.5)))),$G$10*$G$11*AS163*(EXP(-($G$10*(AR163+0.6)))),$G$10*$G$11*AS163*(EXP(-($G$10*(AR163+0.7)))),$G$10*$G$11*AS163*(EXP(-($G$10*(AR163+0.8)))),$G$10*$G$11*AS163*(EXP(-($G$10*(AR163+0.9)))))/10","v":0},127,0,0,126,0,0,125,0,0,124,0,0,123,0,0,122,0,0,121,0,0,120,0,0,119,0,0,118,0,0,117,0,0,116,0,0,115,0,0,114,0,0,113,0,0,112,0,0,111,0,0,110,0,0,109,0,0,108,0,0,107,0,0,106,0,0,105,0,0,104,0,0,103,0,0,102,0,0,101,0,0,100,{"$f":"$E$62","v":0},{"$f":"SUM($G$10*$G$11*DY163*(EXP(-($G$10*DX163))),$G$10*$G$11*DY163*(EXP(-($G$10*(DX163+0.1)))),$G$10*$G$11*DY163*(EXP(-($G$10*(DX163+0.2)))),$G$10*$G$11*DY163*(EXP(-($G$10*(DX163+0.3)))),$G$10*$G$11*DY163*(EXP(-($G$10*(DX163+0.4)))),$G$10*$G$11*DY163*(EXP(-($G$10*(DX163+0.5)))),$G$10*$G$11*DY163*(EXP(-($G$10*(DX163+0.6)))),$G$10*$G$11*DY163*(EXP(-($G$10*(DX163+0.7)))),$G$10*$G$11*DY163*(EXP(-($G$10*(DX163+0.8)))),$G$10*$G$11*DY163*(EXP(-($G$10*(DX163+0.9)))))/10","v":0},99,0,{"$f":"SUM($G$10*$G$11*EB163*(EXP(-($G$10*EA163))),$G$10*$G$11*EB163*(EXP(-($G$10*(EA163+0.1)))),$G$10*$G$11*EB163*(EXP(-($G$10*(EA163+0.2)))),$G$10*$G$11*EB163*(EXP(-($G$10*(EA163+0.3)))),$G$10*$G$11*EB163*(EXP(-($G$10*(EA163+0.4)))),$G$10*$G$11*EB163*(EXP(-($G$10*(EA163+0.5)))),$G$10*$G$11*EB163*(EXP(-($G$10*(EA163+0.6)))),$G$10*$G$11*EB163*(EXP(-($G$10*(EA163+0.7)))),$G$10*$G$11*EB163*(EXP(-($G$10*(EA163+0.8)))),$G$10*$G$11*EB163*(EXP(-($G$10*(EA163+0.9)))))/10","v":0},98,0,{"$f":"SUM($G$10*$G$11*EE163*(EXP(-($G$10*ED163))),$G$10*$G$11*EE163*(EXP(-($G$10*(ED163+0.1)))),$G$10*$G$11*EE163*(EXP(-($G$10*(ED163+0.2)))),$G$10*$G$11*EE163*(EXP(-($G$10*(ED163+0.3)))),$G$10*$G$11*EE163*(EXP(-($G$10*(ED163+0.4)))),$G$10*$G$11*EE163*(EXP(-($G$10*(ED163+0.5)))),$G$10*$G$11*EE163*(EXP(-($G$10*(ED163+0.6)))),$G$10*$G$11*EE163*(EXP(-($G$10*(ED163+0.7)))),$G$10*$G$11*EE163*(EXP(-($G$10*(ED163+0.8)))),$G$10*$G$11*EE163*(EXP(-($G$10*(ED163+0.9)))))/10","v":0},97,0,{"$f":"SUM($G$10*$G$11*EH163*(EXP(-($G$10*EG163))),$G$10*$G$11*EH163*(EXP(-($G$10*(EG163+0.1)))),$G$10*$G$11*EH163*(EXP(-($G$10*(EG163+0.2)))),$G$10*$G$11*EH163*(EXP(-($G$10*(EG163+0.3)))),$G$10*$G$11*EH163*(EXP(-($G$10*(EG163+0.4)))),$G$10*$G$11*EH163*(EXP(-($G$10*(EG163+0.5)))),$G$10*$G$11*EH163*(EXP(-($G$10*(EG163+0.6)))),$G$10*$G$11*EH163*(EXP(-($G$10*(EG163+0.7)))),$G$10*$G$11*EH163*(EXP(-($G$10*(EG163+0.8)))),$G$10*$G$11*EH163*(EXP(-($G$10*(EG163+0.9)))))/10","v":0},96,0,{"$f":"SUM($G$10*$G$11*EK163*(EXP(-($G$10*EJ163))),$G$10*$G$11*EK163*(EXP(-($G$10*(EJ163+0.1)))),$G$10*$G$11*EK163*(EXP(-($G$10*(EJ163+0.2)))),$G$10*$G$11*EK163*(EXP(-($G$10*(EJ163+0.3)))),$G$10*$G$11*EK163*(EXP(-($G$10*(EJ163+0.4)))),$G$10*$G$11*EK163*(EXP(-($G$10*(EJ163+0.5)))),$G$10*$G$11*EK163*(EXP(-($G$10*(EJ163+0.6)))),$G$10*$G$11*EK163*(EXP(-($G$10*(EJ163+0.7)))),$G$10*$G$11*EK163*(EXP(-($G$10*(EJ163+0.8)))),$G$10*$G$11*EK163*(EXP(-($G$10*(EJ163+0.9)))))/10","v":0},95,0,0,94,0,0,93,{"$f":"$E$69","v":0},0,92,{"$f":"$E$70","v":0},0,91,0,0,90,{"$f":"$E$72","v":0},0,89,0,0,88,{"$f":"$E$74","v":0},0,87,0,0,86,{"$f":"$E$76","v":0},0,85,0,0,84,{"$f":"$E$78","v":0},0,83,{"$f":"$E$79","v":0},0,82,0,0,81,{"$f":"$E$81","v":0},0,80,0,0,{"$f":"IF(GI162=\"\",\"\",(GI162+1))","v":79},{"$f":"$E$83","v":0},0,{"$f":"IF(GL162=\"\",\"\",(GL162+1))","v":78},0,0,{"$f":"IF(GO162=\"\",\"\",(GO162+1))","v":77},{"$f":"$E$85","v":0},0,{"$f":"IF(GR162=\"\",\"\",(GR162+1))","v":76},0,0,{"$f":"IF(GU162=\"\",\"\",(GU162+1))","v":75},{"$f":"$E$87","v":0},0,74,0,0,73,{"$f":"$E$89","v":0},0,72,0,0,71,{"$f":"$E$91","v":0},0,70,0,0,69,{"$f":"$E$93","v":0},0,68,{"$f":"$E$94","v":0},{"$f":"SUM($G$10*$G$11*HQ163*(EXP(-($G$10*HP163))),$G$10*$G$11*HQ163*(EXP(-($G$10*(HP163+0.1)))),$G$10*$G$11*HQ163*(EXP(-($G$10*(HP163+0.2)))),$G$10*$G$11*HQ163*(EXP(-($G$10*(HP163+0.3)))),$G$10*$G$11*HQ163*(EXP(-($G$10*(HP163+0.4)))),$G$10*$G$11*HQ163*(EXP(-($G$10*(HP163+0.5)))),$G$10*$G$11*HQ163*(EXP(-($G$10*(HP163+0.6)))),$G$10*$G$11*HQ163*(EXP(-($G$10*(HP163+0.7)))),$G$10*$G$11*HQ163*(EXP(-($G$10*(HP163+0.8)))),$G$10*$G$11*HQ163*(EXP(-($G$10*(HP163+0.9)))))/10","v":0},67,{"$f":"$E$95","v":0},{"$f":"SUM($G$10*$G$11*HT163*(EXP(-($G$10*HS163))),$G$10*$G$11*HT163*(EXP(-($G$10*(HS163+0.1)))),$G$10*$G$11*HT163*(EXP(-($G$10*(HS163+0.2)))),$G$10*$G$11*HT163*(EXP(-($G$10*(HS163+0.3)))),$G$10*$G$11*HT163*(EXP(-($G$10*(HS163+0.4)))),$G$10*$G$11*HT163*(EXP(-($G$10*(HS163+0.5)))),$G$10*$G$11*HT163*(EXP(-($G$10*(HS163+0.6)))),$G$10*$G$11*HT163*(EXP(-($G$10*(HS163+0.7)))),$G$10*$G$11*HT163*(EXP(-($G$10*(HS163+0.8)))),$G$10*$G$11*HT163*(EXP(-($G$10*(HS163+0.9)))))/10","v":0},66,{"$f":"$E$96","v":0},{"$f":"SUM($G$10*$G$11*HW163*(EXP(-($G$10*HV163))),$G$10*$G$11*HW163*(EXP(-($G$10*(HV163+0.1)))),$G$10*$G$11*HW163*(EXP(-($G$10*(HV163+0.2)))),$G$10*$G$11*HW163*(EXP(-($G$10*(HV163+0.3)))),$G$10*$G$11*HW163*(EXP(-($G$10*(HV163+0.4)))),$G$10*$G$11*HW163*(EXP(-($G$10*(HV163+0.5)))),$G$10*$G$11*HW163*(EXP(-($G$10*(HV163+0.6)))),$G$10*$G$11*HW163*(EXP(-($G$10*(HV163+0.7)))),$G$10*$G$11*HW163*(EXP(-($G$10*(HV163+0.8)))),$G$10*$G$11*HW163*(EXP(-($G$10*(HV163+0.9)))))/10","v":0},65,{"$f":"$E$97","v":0},{"$f":"SUM($G$10*$G$11*HZ163*(EXP(-($G$10*HY163))),$G$10*$G$11*HZ163*(EXP(-($G$10*(HY163+0.1)))),$G$10*$G$11*HZ163*(EXP(-($G$10*(HY163+0.2)))),$G$10*$G$11*HZ163*(EXP(-($G$10*(HY163+0.3)))),$G$10*$G$11*HZ163*(EXP(-($G$10*(HY163+0.4)))),$G$10*$G$11*HZ163*(EXP(-($G$10*(HY163+0.5)))),$G$10*$G$11*HZ163*(EXP(-($G$10*(HY163+0.6)))),$G$10*$G$11*HZ163*(EXP(-($G$10*(HY163+0.7)))),$G$10*$G$11*HZ163*(EXP(-($G$10*(HY163+0.8)))),$G$10*$G$11*HZ163*(EXP(-($G$10*(HY163+0.9)))))/10","v":0},64,0,{"$f":"SUM($G$10*$G$11*IC163*(EXP(-($G$10*IB163))),$G$10*$G$11*IC163*(EXP(-($G$10*(IB163+0.1)))),$G$10*$G$11*IC163*(EXP(-($G$10*(IB163+0.2)))),$G$10*$G$11*IC163*(EXP(-($G$10*(IB163+0.3)))),$G$10*$G$11*IC163*(EXP(-($G$10*(IB163+0.4)))),$G$10*$G$11*IC163*(EXP(-($G$10*(IB163+0.5)))),$G$10*$G$11*IC163*(EXP(-($G$10*(IB163+0.6)))),$G$10*$G$11*IC163*(EXP(-($G$10*(IB163+0.7)))),$G$10*$G$11*IC163*(EXP(-($G$10*(IB163+0.8)))),$G$10*$G$11*IC163*(EXP(-($G$10*(IB163+0.9)))))/10","v":0},63,0,0,62,{"$f":"$E$100","v":0},0,61,0,0,60,{"$f":"$E$102","v":0},0]

{"sheet":"RESULTS","index":5,"n_rows":149,"n_cols":17,"rows_kept":149,"cut":false,"hidden":false,"merged":[[6,14,6,16],[6,3,6,4],[6,1,6,2],[0,4,0,6],[2,5,3,7],[6,5,6,7],[6,8,6,10],[1,0,2,4],[6,11,6,13],[6,0,7,0]]}
["RESULTS",null,null,"Landfill Name or Identifier:",{"$f":"IF('USER INPUTS'!$E$1=0,\"\",'USER INPUTS'!$E$1)","v":""}]
[{"$f":"IF(AND(ClosureYear-OpenYear>79,ClosureCalcYes=FALSE),\"Landfill Closure Year entered exceeds the 80-year waste acceptance limit. See Section 2.6 of the User's Manual.\",IF(AND('INPUT REVIEW'!$F$6>'INPUT REVIEW'!$F$5,ClosureCalcYes=TRUE),\"The 80-year waste acceptance limit of the model has been exceeded before the Waste Design Capacity was reached. The model will assume the 80th year of waste acceptance as the final year to estimate emissions. See Section 2.6 of the User's Manual.\",\"\"))","v":""}]
[null,null,null,null,null,"Please choose a third unit of measure to represent all of the emission rates below."]
[null,null,"Closure Year (with 80-year limit) =",{"$f":"METHANE!D15","v":""}]
[null,null,"Methane =",{"$f":"IF('USER INPUTS'!$B$19=-1,'USER INPUTS'!$F$19,'USER INPUTS'!$B$19)","v":50},"% by volume",null,"User-specified Unit:","av ft^3/min"]
[]
["Year","Waste Accepted",null,"Waste-In-Place",null,{"$f":"'USER INPUTS'!$B$24","v":"Total landfill gas"},null,null,{"$f":"'USER INPUTS'!$B$26","v":"Methane"},null,null,{"$f":"'USER INPUTS'!$B$28","v":"Carbon dioxide"},null,null,{"$f":"'USER INPUTS'!$B$30","v":"NMOC"}]
[null,"(Mg/year)","(short tons/year)","(Mg)","(short tons)","(Mg/year)","(m3/year)",{"$f":"CONCATENATE(\"(\",$H$5,\")\")","v":"(av ft^3/min)"},"(Mg/year)","(m3/year)",{"$f":"CONCATENATE(\"(\",$H$5,\")\")","v":"(av ft^3/min)"},"(Mg/year)","(m3/year)",{"$f":"CONCATENATE(\"(\",$H$5,\")\")","v":"(av ft^3/min)"},"(Mg/year)","(m3/year)",{"$f":"CONCATENATE(\"(\",$H$5,\")\")","v":"(av ft^3/min)"}]
[{"$f":"METHANE!$B$23","v":0},{"$f":"IF(METHANE!E23>0,METHANE!E23,0)","v":0},{"$f":"IF(METHANE!E23>0,METHANE!E23*DEFAULTS!$B$55*DEFAULTS!$B$53/DEFAULTS!$B$54,0)","v":0},{"$f":"IF(METHANE!F23>0,METHANE!F23,0)","v":0},{"$f":"IF(METHANE!F23>0,METHANE!F23*DEFAULTS!$B$55*DEFAULTS!$B$53/DEFAULTS!$B$54,0)","v":0},0,0,0,0,0,0,0,0,0,0,0,0]
[{"$f":"METHANE!I24","v":1},{"$f":"IF(METHANE!E24>0,METHANE!E24,0)","v":0},{"$f":"IF(METHANE!E24>0,METHANE!E24*DEFAULTS!$B$55*DEFAULTS!$B$53/DEFAULTS!$B$54,0)","v":0},{"$f":"IF(METHANE!F24>0,METHANE!F24,0)","v":0},{"$f":"IF(METHANE!F24>0,METHANE!F24*DEFAULTS!$B$55*DEFAULTS!$B$53/DEFAULTS!$B$54,0)","v":0},{"$f":"IF(ISERROR(METHANE!$J24*DEFAULTS!$B$81*(IF('USER INPUTS'!$B$24=\"Total landfill gas\",(1/($D$5/100)),IF('USER INPUTS'!$B$24=\"Methane\",1,IF('USER INPUTS'!$B$24=\"Carbon dioxide\",((1/($D$5/100))-1),(VLOOKUP('USER INPUTS'!$B$24,DEFAULTS!$E$8:$F$69,2,FALSE))/10^6*(1/($D$5/100))))))),0,METHANE!$J24*DEFAULTS!$B$81*(IF('USER INPUTS'!$B$24=\"Total landfill gas\",(1/($D$5/100)),IF('USER INPUTS'!$B$24=\"Methane\",1,IF('USER INPUTS'!$B$24=\"Carbon dioxide\",((1/($D$5/100))-1),(VLOOKUP('USER INPUTS'!$B$24,DEFAULTS!$E$8:$F$69,2,FALSE))/10^6*(1/($D$5/100)))))))","v":0},{"$f":"IF(ISERROR(METHANE!$J24*(IF('USER INPUTS'!$B$24=\"Total landfill gas\",(1/($D$5/100)),IF('USER INPUTS'!$B$24=\"Methane\",1,IF('USER INPUTS'!$B$24=\"Carbon dioxide\",((1/($D$5/100))-1),(VLOOKUP('USER INPUTS'!$B$24,DEFAULTS!$E$8:$F$69,2,FALSE))/10^6*(1/($D$5/100))))))),0,METHANE!$J24*(IF('USER INPUTS'!$B$24=\"Total landfill gas\",(1/($D$5/100)),IF('USER INPUTS'!$B$24=\"Methane\",1,IF('USER INPUTS'!$B$24=\"Carbon dioxide\",((1/($D$5/100))-1),(VLOOKUP('USER INPUTS'!$B$24,DEFAULTS!$E$8:$F$69,2,FALSE))/10^6*(1/($D$5/100)))))))","v":0},{"$f":"IF(H$8=\"(short tons/year)\",(F10*DEFAULTS!$B$55*DEFAULTS!$B$53/DEFAULTS!$B$54),IF(H$8=\"(ft^3/year)\",(G10*DEFAULTS!$B$57),IF(H$8=\"(av ft^3/min)\",(G10*DEFAULTS!$B$57/DEFAULTS!$B$58),0)))","v":0},{"$f":"IF(ISERROR(METHANE!$J24*DEFAULTS!$B$82*(IF('USER INPUTS'!$B$26=\"Total landfill gas\",(1/($D$5/100)),IF('USER INPUTS'!$B$26=\"Methane\",1,IF('USER INPUTS'!$B$26=\"Carbon dioxide\",((1/($D$5/100))-1),(VLOOKUP('USER INPUTS'!$B$26,DEFAULTS!$E$8:$F$69,2,FALSE))/10^6*(1/($D$5/100))))))),0,METHANE!$J24*DEFAULTS!$B$82*(IF('USER INPUTS'!$B$26=\"Total landfill gas\",(1/($D$5/100)),IF('USER INPUTS'!$B$26=\"Methane\",1,IF('USER INPUTS'!$B$26=\"Carbon dioxide\",((1/($D$5/100))-1),(VLOOKUP('USER INPUTS'!$B$26,DEFAULTS!$E$8:$F$69,2,FALSE))/10^6*(1/($D$5/100)))))))","v":0},{"$f":"IF(ISERROR(METHANE!$J24*(IF('USER INPUTS'!$B$26=\"Total landfill gas\",(1/($D$5/100)),IF('USER INPUTS'!$B$26=\"Methane\",1,IF('USER INPUTS'!$B$26=\"Carbon dioxide\",((1/($D$5/100))-1),(VLOOKUP('USER INPUTS'!$B$26,DEFAULTS!$E$8:$F$69,2,FALSE))/10^6*(1/($D$5/100))))))),0,METHANE!$J24*(IF('USER INPUTS'!$B$26=\"Total landfill gas\",(1/($D$5/100)),IF('USER INPUTS'!$B$26=\"Methane\",1,IF('USER INPUTS'!$B$26=\"Carbon dioxide\",((1/($D$5/100))-1),(VLOOKUP('USER INPUTS'!$B$26,DEFAULTS!$E$8:$F$69,2,FALSE))/10^6*(1/($D$5/100)))))))","v":0},{"$f":"IF(K$8=\"(short tons/year)\",(I10*DEFAULTS!$B$55*DEFAULTS!$B$53/DEFAULTS!$B$54),IF(K$8=\"(ft^3/year)\",(J10*DEFAULTS!$B$57),IF(K$8=\"(av ft^3/min)\",(J10*DEFAULTS!$B$57/DEFAULTS!$B$58),0)))","v":0},{"$f":"IF(ISERROR(METHANE!$J24*DEFAULTS!$B$83*(IF('USER INPUTS'!$B$28=\"Total landfill gas\",(1/($D$5/100)),IF('USER INPUTS'!$B$28=\"Methane\",1,IF('USER INPUTS'!$B$28=\"Carbon dioxide\",((1/($D$5/100))-1),(VLOOKUP('USER INPUTS'!$B$28,DEFAULTS!$E$8:$F$69,2,FALSE))/10^6*(1/($D$5/100))))))),0,METHANE!$J24*DEFAULTS!$B$83*(IF('USER INPUTS'!$B$28=\"Total landfill gas\",(1/($D$5/100)),IF('USER INPUTS'!$B$28=\"Methane\",1,IF('USER INPUTS'!$B$28=\"Carbon dioxide\",((1/($D$5/100))-1),(VLOOKUP('USER INPUTS'!$B$28,DEFAULTS!$E$8:$F$69,2,FALSE))/10^6*(1/($D$5/100)))))))","v":0},{"$f":"IF(ISERROR(METHANE!$J24*(IF('USER INPUTS'!$B$28=\"Total landfill gas\",(1/($D$5/100)),IF('USER INPUTS'!$B$28=\"Methane\",1,IF('USER INPUTS'!$B$28=\"Carbon dioxide\",((1/($D$5/100))-1),(VLOOKUP('USER INPUTS'!$B$28,DEFAULTS!$E$8:$F$69,2,FALSE))/10^6*(1/($D$5/100))))))),0,METHANE!$J24*(IF('USER INPUTS'!$B$28=\"Total landfill gas\",(1/($D$5/100)),IF('USER INPUTS'!$B$28=\"Methane\",1,IF('USER INPUTS'!$B$28=\"Carbon dioxide\",((1/($D$5/100))-1),(VLOOKUP('USER INPUTS'!$B$28,DEFAULTS!$E$8:$F$69,2,FALSE))/10^6*(1/($D$5/100)))))))","v":0},{"$f":"IF(N$8=\"(short tons/year)\",(L10*DEFAULTS!$B$55*DEFAULTS!$B$53/DEFAULTS!$B$54),IF(N$8=\"(ft^3/year)\",(M10*DEFAULTS!$B$57),IF(N$8=\"(av ft^3/min)\",(M10*DEFAULTS!$B$57/DEFAULTS!$B$58),0)))","v":0},{"$f":"IF(ISERROR(METHANE!$J24*DEFAULTS!$B$84*(IF('USER INPUTS'!$B$30=\"Total landfill gas\",(1/($D$5/100)),IF('USER INPUTS'!$B$30=\"Methane\",1,IF('USER INPUTS'!$B$30=\"Carbon dioxide\",((1/($D$5/100))-1),(VLOOKUP('USER INPUTS'!$B$30,DEFAULTS!$E$8:$F$69,2,FALSE))/10^6*(1/($D$5/100))))))),0,METHANE!$J24*DEFAULTS!$B$84*(IF('USER INPUTS'!$B$30=\"Total landfill gas\",(1/($D$5/100)),IF('USER INPUTS'!$B$30=\"Methane\",1,IF('USER INPUTS'!$B$30=\"Carbon dioxide\",((1/($D$5/100))-1),(VLOOKUP('USER INPUTS'!$B$30,DEFAULTS!$E$8:$F$69,2,FALSE))/10^6*(1/($D$5/100)))))))","v":0},{"$f":"IF(ISERROR(METHANE!$J24*(IF('USER INPUTS'!$B$30=\"Total landfill gas\",(1/($D$5/100)),IF('USER INPUTS'!$B$30=\"Methane\",1,IF('USER INPUTS'!$B$30=\"Carbon dioxide\",((1/($D$5/100))-1),(VLOOKUP('USER INPUTS'!$B$30,DEFAULTS!$E$8:$F$69,2,FALSE))/10^6*(1/($D$5/100))))))),0,METHANE!$J24*(IF('USER INPUTS'!$B$30=\"Total landfill gas\",(1/($D$5/100)),IF('USER INPUTS'!$B$30=\"Methane\",1,IF('USER INPUTS'!$B$30=\"Carbon dioxide\",((1/($D$5/100))-1),(VLOOKUP('USER INPUTS'!$B$30,DEFAULTS!$E$8:$F$69,2,FALSE))/10^6*(1/($D$5/100)))))))","v":0},{"$f":"IF(Q$8=\"(short tons/year)\",(O10*DEFAULTS!$B$55*DEFAULTS!$B$53/DEFAULTS!$B$54),IF(Q$8=\"(ft^3/year)\",(P10*DEFAULTS!$B$57),IF(Q$8=\"(av ft^3/min)\",(P10*DEFAULTS!$B$57/DEFAULTS!$B$58),0)))","v":0}]
[{"$f":"METHANE!I25","v":2},{"$f":"IF(METHANE!E25>0,METHANE!E25,0)","v":0},{"$f":"IF(METHANE!E25>0,METHANE!E25*DEFAULTS!$B$55*DEFAULTS!$B$53/DEFAULTS!$B$54,0)","v":0},{"$f":"IF(METHANE!F25>0,METHANE!F25,0)","v":0},{"$f":"IF(METHANE!F25>0,METHANE!F25*DEFAULTS!$B$55*DEFAULTS!$B$53/DEFAULTS!$B$54,0)","v":0},{"$f":"IF(ISERROR(METHANE!$J25*DEFAULTS!$B$81*(IF('USER INPUTS'!$B$24=\"Total landfill gas\",(1/($D$5/100)),IF('USER INPUTS'!$B$24=\"Methane\",1,IF('USER INPUTS'!$B$24=\"Carbon dioxide\",((1/($D$5/100))-1),(VLOOKUP('USER INPUTS'!$B$24,DEFAULTS!$E$8:$F$69,2,FALSE))/10^6*(1/($D$5/100))))))),0,METHANE!$J25*DEFAULTS!$B$81*(IF('USER INPUTS'!$B$24=\"Total landfill gas\",(1/($D$5/100)),IF('USER INPUTS'!$B$24=\"Methane\",1,IF('USER INPUTS'!$B$24=\"Carbon dioxide\",((1/($D$5/100))-1),(VLOOKUP('USER INPUTS'!$B$24,DEFAULTS!$E$8:$F$69,2,FALSE))/10^6*(1/($D$5/100)))))))","v":0},{"$f":"IF(ISERROR(METHANE!$J25*(IF('USER INPUTS'!$B$24=\"Total landfill gas\",(1/($D$5/100)),IF('USER INPUTS'!$B$24=\"Methane\",1,IF('USER INPUTS'!$B$24=\"Carbon dioxide\",((1/($D$5/100))-1),(VLOOKUP('USER INPUTS'!$B$24,DEFAULTS!$E$8:$F$69,2,FALSE))/10^6*(1/($D$5/100))))))),0,METHANE!$J25*(IF('USER INPUTS'!$B$24=\"Total landfill gas\",(1/($D$5/100)),IF('USER INPUTS'!$B$24=\"Methane\",1,IF('USER INPUTS'!$B$24=\"Carbon dioxide\",((1/($D$5/100))-1),(VLOOKUP('USER INPUTS'!$B$24,DEFAULTS!$E$8:$F$69,2,FALSE))/10^6*(1/($D$5/100)))))))","v":0},{"$f":"IF(H$8=\"(short tons/year)\",(F11*DEFAULTS!$B$55*DEFAULTS!$B$53/DEFAULTS!$B$54),IF(H$8=\"(ft^3/year)\",(G11*DEFAULTS!$B$57),IF(H$8=\"(av ft^3/min)\",(G11*DEFAULTS!$B$57/DEFAULTS!$B$58),0)))","v":0},{"$f":"IF(ISERROR(METHANE!$J25*DEFAULTS!$B$82*(IF('USER INPUTS'!$B$26=\"Total landfill gas\",(1/($D$5/100)),IF('USER INPUTS'!$B$26=\"Methane\",1,IF('USER INPUTS'!$B$26=\"Carbon dioxide\",((1/($D$5/100))-1),(VLOOKUP('USER INPUTS'!$B$26,DEFAULTS!$E$8:$F$69,2,FALSE))/10^6*(1/($D$5/100))))))),0,METHANE!$J25*DEFAULTS!$B$82*(IF('USER INPUTS'!$B$26=\"Total landfill gas\",(1/($D$5/100)),IF('USER INPUTS'!$B$26=\"Methane\",1,IF('USER INPUTS'!$B$26=\"Carbon dioxide\",((1/($D$5/100))-1),(VLOOKUP('USER INPUTS'!$B$26,DEFAULTS!$E$8:$F$69,2,FALSE))/10^6*(1/($D$5/100)))))))","v":0},{"$f":"IF(ISERROR(METHANE!$J25*(IF('USER INPUTS'!$B$26=\"Total landfill gas\",(1/($D$5/100)),IF('USER INPUTS'!$B$26=\"Methane\",1,IF('USER INPUTS'!$B$26=\"Carbon dioxide\",((1/($D$5/100))-1),(VLOOKUP('USER INPUTS'!$B$26,DEFAULTS!$E$8:$F$69,2,FALSE))/10^6*(1/($D$5/100))))))),0,METHANE!$J25*(IF('USER INPUTS'!$B$26=\"Total landfill gas\",(1/($D$5/100)),IF('USER INPUTS'!$B$26=\"Methane\",1,IF('USER INPUTS'!$B$26=\"Carbon dioxide\",((1/($D$5/100))-1),(VLOOKUP('USER INPUTS'!$B$26,DEFAULTS!$E$8:$F$69,2,FALSE))/10^6*(1/($D$5/100)))))))","v":0},{"$f":"IF(K$8=\"(short tons/year)\",(I11*DEFAULTS!$B$55*DEFAULTS!$B$53/DEFAULTS!$B$54),IF(K$8=\"(ft^3/year)\",(J11*DEFAULTS!$B$57),IF(K$8=\"(av ft^3/min)\",(J11*DEFAULTS!$B$57/DEFAULTS!$B$58),0)))","v":0},{"$f":"IF(ISERROR(METHANE!$J25*DEFAULTS!$B$83*(IF('USER INPUTS'!$B$28=\"Total landfill gas\",(1/($D$5/100)),IF('USER INPUTS'!$B$28=\"Methane\",1,IF('USER INPUTS'!$B$28=\"Carbon dioxide\",((1/($D$5/100))-1),(VLOOKUP('USER INPUTS'!$B$28,DEFAULTS!$E$8:$F$69,2,FALSE))/10^6*(1/($D$5/100))))))),0,METHANE!$J25*DEFAULTS!$B$83*(IF('USER INPUTS'!$B$28=\"Total landfill gas\",(1/($D$5/100)),IF('USER INPUTS'!$B$28=\"Methane\",1,IF('USER INPUTS'!$B$28=\"Carbon dioxide\",((1/($D$5/100))-1),(VLOOKUP('USER INPUTS'!$B$28,DEFAULTS!$E$8:$F$69,2,FALSE))/10^6*(1/($D$5/100)))))))","v":0},{"$f":"IF(ISERROR(METHANE!$J25*(IF('USER INPUTS'!$B$28=\"Total landfill gas\",(1/($D$5/100)),IF('USER INPUTS'!$B$28=\"Methane\",1,IF('USER INPUTS'!$B$28=\"Carbon dioxide\",((1/($D$5/100))-1),(VLOOKUP('USER INPUTS'!$B$28,DEFAULTS!$E$8:$F$69,2,FALSE))/10^6*(1/($D$5/100))))))),0,METHANE!$J25*(IF('USER INPUTS'!$B$28=\"Total landfill gas\",(1/($D$5/100)),IF('USER INPUTS'!$B$28=\"Methane\",1,IF('USER INPUTS'!$B$28=\"Carbon dioxide\",((1/($D$5/100))-1),(VLOOKUP('USER INPUTS'!$B$28,DEFAULTS!$E$8:$F$69,2,FALSE))/10^6*(1/($D$5/100)))))))","v":0},{"$f":"IF(N$8=\"(short tons/year)\",(L11*DEFAULTS!$B$55*DEFAULTS!$B$53/DEFAULTS!$B$54),IF(N$8=\"(ft^3/year)\",(M11*DEFAULTS!$B$57),IF(N$8=\"(av ft^3/min)\",(M11*DEFAULTS!$B$57/DEFAULTS!$B$58),0)))","v":0},{"$f":"IF(ISERROR(METHANE!$J25*DEFAULTS!$B$84*(IF('USER INPUTS'!$B$30=\"Total landfill gas\",(1/($D$5/100)),IF('USER INPUTS'!$B$30=\"Methane\",1,IF('USER INPUTS'!$B$30=\"Carbon dioxide\",((1/($D$5/100))-1),(VLOOKUP('USER INPUTS'!$B$30,DEFAULTS!$E$8:$F$69,2,FALSE))/10^6*(1/($D$5/100))))))),0,METHANE!$J25*DEFAULTS!$B$84*(IF('USER INPUTS'!$B$30=\"Total landfill gas\",(1/($D$5/100)),IF('USER INPUTS'!$B$30=\"Methane\",1,IF('USER INPUTS'!$B$30=\"Carbon dioxide\",((1/($D$5/100))-1),(VLOOKUP('USER INPUTS'!$B$30,DEFAULTS!$E$8:$F$69,2,FALSE))/10^6*(1/($D$5/100)))))))","v":0},{"$f":"IF(ISERROR(METHANE!$J25*(IF('USER INPUTS'!$B$30=\"Total landfill gas\",(1/($D$5/100)),IF('USER INPUTS'!$B$30=\"Methane\",1,IF('USER INPUTS'!$B$30=\"Carbon dioxide\",((1/($D$5/100))-1),(VLOOKUP('USER INPUTS'!$B$30,DEFAULTS!$E$8:$F$69,2,FALSE))/10^6*(1/($D$5/100))))))),0,METHANE!$J25*(IF('USER INPUTS'!$B$30=\"Total landfill gas\",(1/($D$5/100)),IF('USER INPUTS'!$B$30=\"Methane\",1,IF('USER INPUTS'!$B$30=\"Carbon dioxide\",((1/($D$5/100))-1),(VLOOKUP('USER INPUTS'!$B$30,DEFAULTS!$E$8:$F$69,2,FALSE))/10^6*(1/($D$5/100)))))))","v":0},{"$f":"IF(Q$8=\"(short tons/year)\",(O11*DEFAULTS!$B$55*DEFAULTS!$B$53/DEFAULTS!$B$54),IF(Q$8=\"(ft^3/year)\",(P11*DEFAULTS!$B$57),IF(Q$8=\"(av ft^3/min)\",(P11*DEFAULTS!$B$57/DEFAULTS!$B$58),0)))","v":0}]
[{"$f":"METHANE!I26","v":3},{"$f":"IF(METHANE!E26>0,METHANE!E26,0)","v":0},{"$f":"IF(METHANE!E26>0,METHANE!E26*DEFAULTS!$B$55*DEFAULTS!$B$53/DEFAULTS!$B$54,0)","v":0},{"$f":"IF(METHANE!F26>0,METHANE!F26,0)","v":0},{"$f":"IF(METHANE!F26>0,METHANE!F26*DEFAULTS!$B$55*DEFAULTS!$B$53/DEFAULTS!$B$54,0)","v":0},{"$f":"IF(ISERROR(METHANE!$J26*DEFAULTS!$B$81*(IF('USER INPUTS'!$B$24=\"Total landfill gas\",(1/($D$5/100)),IF('USER INPUTS'!$B$24=\"Methane\",1,IF('USER INPUTS'!$B$24=\"Carbon dioxide\",((1/($D$5/100))-1),(VLOOKUP('USER INPUTS'!$B$24,DEFAULTS!$E$8:$F$69,2,FALSE))/10^6*(1/($D$5/100))))))),0,METHANE!$J26*DEFAULTS!$B$81*(IF('USER INPUTS'!$B$24=\"Total landfill gas\",(1/($D$5/100)),IF('USER INPUTS'!$B$24=\"Methane\",1,IF('USER INPUTS'!$B$24=\"Carbon dioxide\",((1/($D$5/100))-1),(VLOOKUP('USER INPUTS'!$B$24,DEFAULTS!$E$8:$F$69,2,FALSE))/10^6*(1/($D$5/100)))))))","v":0},{"$f":"IF(ISERROR(METHANE!$J26*(IF('USER INPUTS'!$B$24=\"Total landfill gas\",(1/($D$5/100)),IF('USER INPUTS'!$B$24=\"Methane\",1,IF('USER INPUTS'!$B$24=\"Carbon dioxide\",((1/($D$5/100))-1),(VLOOKUP('USER INPUTS'!$B$24,DEFAULTS!$E$8:$F$69,2,FALSE))/10^6*(1/($D$5/100))))))),0,METHANE!$J26*(IF('USER INPUTS'!$B$24=\"Total landfill gas\",(1/($D$5/100)),IF('USER INPUTS'!$B$24=\"Methane\",1,IF('USER INPUTS'!$B$24=\"Carbon dioxide\",((1/($D$5/100))-1),(VLOOKUP('USER INPUTS'!$B$24,DEFAULTS!$E$8:$F$69,2,FALSE))/10^6*(1/($D$5/100)))))))","v":0},{"$f":"IF(H$8=\"(short tons/year)\",(F12*DEFAULTS!$B$55*DEFAULTS!$B$53/DEFAULTS!$B$54),IF(H$8=\"(ft^3/year)\",(G12*DEFAULTS!$B$57),IF(H$8=\"(av ft^3/min)\",(G12*DEFAULTS!$B$57/DEFAULTS!$B$58),0)))","v":0},{"$f":"IF(ISERROR(METHANE!$J26*DEFAULTS!$B$82*(IF('USER INPUTS'!$B$26=\"Total landfill gas\",(1/($D$5/100)),IF('USER INPUTS'!$B$26=\"Methane\",1,IF('USER INPUTS'!$B$26=\"Carbon dioxide\",((1/($D$5/100))-1),(VLOOKUP('USER INPUTS'!$B$26,DEFAULTS!$E$8:$F$69,2,FALSE))/10^6*(1/($D$5/100))))))),0,METHANE!$J26*DEFAULTS!$B$82*(IF('USER INPUTS'!$B$26=\"Total landfill gas\",(1/($D$5/100)),IF('USER INPUTS'!$B$26=\"Methane\",1,IF('USER INPUTS'!$B$26=\"Carbon dioxide\",((1/($D$5/100))-1),(VLOOKUP('USER INPUTS'!$B$26,DEFAULTS!$E$8:$F$69,2,FALSE))/10^6*(1/($D$5/100)))))))","v":0},{"$f":"IF(ISERROR(METHANE!$J26*(IF('USER INPUTS'!$B$26=\"Total landfill gas\",(1/($D$5/100)),IF('USER INPUTS'!$B$26=\"Methane\",1,IF('USER INPUTS'!$B$26=\"Carbon dioxide\",((1/($D$5/100))-1),(VLOOKUP('USER INPUTS'!$B$26,DEFAULTS!$E$8:$F$69,2,FALSE))/10^6*(1/($D$5/100))))))),0,METHANE!$J26*(IF('USER INPUTS'!$B$26=\"Total landfill gas\",(1/($D$5/100)),IF('USER INPUTS'!$B$26=\"Methane\",1,IF('USER INPUTS'!$B$26=\"Carbon dioxide\",((1/($D$5/100))-1),(VLOOKUP('USER INPUTS'!$B$26,DEFAULTS!$E$8:$F$69,2,FALSE))/10^6*(1/($D$5/100)))))))","v":0},{"$f":"IF(K$8=\"(short tons/year)\",(I12*DEFAULTS!$B$55*DEFAULTS!$B$53/DEFAULTS!$B$54),IF(K$8=\"(ft^3/year)\",(J12*DEFAULTS!$B$57),IF(K$8=\"(av ft^3/min)\",(J12*DEFAULTS!$B$57/DEFAULTS!$B$58),0)))","v":0},{"$f":"IF(ISERROR(METHANE!$J26*DEFAULTS!$B$83*(IF('USER INPUTS'!$B$28=\"Total landfill gas\",(1/($D$5/100)),IF('USER INPUTS'!$B$28=\"Methane\",1,IF('USER INPUTS'!$B$28=\"Carbon dioxide\",((1/($D$5/100))-1),(VLOOKUP('USER INPUTS'!$B$28,DEFAULTS!$E$8:$F$69,2,FALSE))/10^6*(1/($D$5/100))))))),0,METHANE!$J26*DEFAULTS!$B$83*(IF('USER INPUTS'!$B$28=\"Total landfill gas\",(1/($D$5/100)),IF('USER INPUTS'!$B$28=\"Methane\",1,IF('USER INPUTS'!$B$28=\"Carbon dioxide\",((1/($D$5/100))-1),(VLOOKUP('USER INPUTS'!$B$28,DEFAULTS!$E$8:$F$69,2,FALSE))/10^6*(1/($D$5/100)))))))","v":0},{"$f":"IF(ISERROR(METHANE!$J26*(IF('USER INPUTS'!$B$28=\"Total landfill gas\",(1/($D$5/100)),IF('USER INPUTS'!$B$28=\"Methane\",1,IF('USER INPUTS'!$B$28=\"Carbon dioxide\",((1/($D$5/100))-1),(VLOOKUP('USER INPUTS'!$B$28,DEFAULTS!$E$8:$F$69,2,FALSE))/10^6*(1/($D$5/100))))))),0,METHANE!$J26*(IF('USER INPUTS'!$B$28=\"Total landfill gas\",(1/($D$5/100)),IF('USER INPUTS'!$B$28=\"Methane\",1,IF('USER INPUTS'!$B$28=\"Carbon dioxide\",((1/($D$5/100))-1),(VLOOKUP('USER INPUTS'!$B$28,DEFAULTS!$E$8:$F$69,2,FALSE))/10^6*(1/($D$5/100)))))))","v":0},{"$f":"IF(N$8=\"(short tons/year)\",(L12*DEFAULTS!$B$55*DEFAULTS!$B$53/DEFAULTS!$B$54),IF(N$8=\"(ft^3/year)\",(M12*DEFAULTS!$B$57),IF(N$8=\"(av ft^3/min)\",(M12*DEFAULTS!$B$57/DEFAULTS!$B$58),0)))","v":0},{"$f":"IF(ISERROR(METHANE!$J26*DEFAULTS!$B$84*(IF('USER INPUTS'!$B$30=\"Total landfill gas\",(1/($D$5/100)),IF('USER INPUTS'!$B$30=\"Methane\",1,IF('USER INPUTS'!$B$30=\"Carbon dioxide\",((1/($D$5/100))-1),(VLOOKUP('USER INPUTS'!$B$30,DEFAULTS!$E$8:$F$69,2,FALSE))/10^6*(1/($D$5/100))))))),0,METHANE!$J26*DEFAULTS!$B$84*(IF('USER INPUTS'!$B$30=\"Total landfill gas\",(1/($D$5/100)),IF('USER INPUTS'!$B$30=\"Methane\",1,IF('USER INPUTS'!$B$30=\"Carbon dioxide\",((1/($D$5/100))-1),(VLOOKUP('USER INPUTS'!$B$30,DEFAULTS!$E$8:$F$69,2,FALSE))/10^6*(1/($D$5/100)))))))","v":0},{"$f":"IF(ISERROR(METHANE!$J26*(IF('USER INPUTS'!$B$30=\"Total landfill gas\",(1/($D$5/100)),IF('USER INPUTS'!$B$30=\"Methane\",1,IF('USER INPUTS'!$B$30=\"Carbon dioxide\",((1/($D$5/100))-1),(VLOOKUP('USER INPUTS'!$B$30,DEFAULTS!$E$8:$F$69,2,FALSE))/10^6*(1/($D$5/100))))))),0,METHANE!$J26*(IF('USER INPUTS'!$B$30=\"Total landfill gas\",(1/($D$5/100)),IF('USER INPUTS'!$B$30=\"Methane\",1,IF('USER INPUTS'!$B$30=\"Carbon dioxide\",((1/($D$5/100))-1),(VLOOKUP('USER INPUTS'!$B$30,DEFAULTS!$E$8:$F$69,2,FALSE))/10^6*(1/($D$5/100)))))))","v":0},{"$f":"IF(Q$8=\"(short tons/year)\",(O12*DEFAULTS!$B$55*DEFAULTS!$B$53/DEFAULTS!$B$54),IF(Q$8=\"(ft^3/year)\",(P12*DEFAULTS!$B$57),IF(Q$8=\"(av ft^3/min)\",(P12*DEFAULTS!$B$57/DEFAULTS!$B$58),0)))","v":0}]
[{"$f":"METHANE!I27","v":4},{"$f":"IF(METHANE!E27>0,METHANE!E27,0)","v":0},{"$f":"IF(METHANE!E27>0,METHANE!E27*DEFAULTS!$B$55*DEFAULTS!$B$53/DEFAULTS!$B$54,0)","v":0},{"$f":"IF(METHANE!F27>0,METHANE!F27,0)","v":0},{"$f":"IF(METHANE!F27>0,METHANE!F27*DEFAULTS!$B$55*DEFAULTS!$B$53/DEFAULTS!$B$54,0)","v":0},{"$f":"IF(ISERROR(METHANE!$J27*DEFAULTS!$B$81*(IF('USER INPUTS'!$B$24=\"Total landfill gas\",(1/($D$5/100)),IF('USER INPUTS'!$B$24=\"Methane\",1,IF('USER INPUTS'!$B$24=\"Carbon dioxide\",((1/($D$5/100))-1),(VLOOKUP('USER INPUTS'!$B$24,DEFAULTS!$E$8:$F$69,2,FALSE))/10^6*(1/($D$5/100))))))),0,METHANE!$J27*DEFAULTS!$B$81*(IF('USER INPUTS'!$B$24=\"Total landfill gas\",(1/($D$5/100)),IF('USER INPUTS'!$B$24=\"Methane\",1,IF('USER INPUTS'!$B$24=\"Carbon dioxide\",((1/($D$5/100))-1),(VLOOKUP('USER INPUTS'!$B$24,DEFAULTS!$E$8:$F$69,2,FALSE))/10^6*(1/($D$5/100)))))))","v":0},{"$f":"IF(ISERROR(METHANE!$J27*(IF('USER INPUTS'!$B$24=\"Total landfill gas\",(1/($D$5/100)),IF('USER INPUTS'!$B$24=\"Methane\",1,IF('USER INPUTS'!$B$24=\"Carbon dioxide\",((1/($D$5/100))-1),(VLOOKUP('USER INPUTS'!$B$24,DEFAULTS!$E$8:$F$69,2,FALSE))/10^6*(1/($D$5/100))))))),0,METHANE!$J27*(IF('USER INPUTS'!$B$24=\"Total landfill gas\",(1/($D$5/100)),IF('USER INPUTS'!$B$24=\"Methane\",1,IF('USER INPUTS'!$B$24=\"Carbon dioxide\",((1/($D$5/100))-1),(VLOOKUP('USER INPUTS'!$B$24,DEFAULTS!$E$8:$F$69,2,FALSE))/10^6*(1/($D$5/100)))))))","v":0},{"$f":"IF(H$8=\"(short tons/year)\",(F13*DEFAULTS!$B$55*DEFAULTS!$B$53/DEFAULTS!$B$54),IF(H$8=\"(ft^3/year)\",(G13*DEFAULTS!$B$57),IF(H$8=\"(av ft^3/min)\",(G13*DEFAULTS!$B$57/DEFAULTS!$B$58),0)))","v":0},{"$f":"IF(ISERROR(METHANE!$J27*DEFAULTS!$B$82*(IF('USER INPUTS'!$B$26=\"Total landfill gas\",(1/($D$5/100)),IF('USER INPUTS'!$B$26=\"Methane\",1,IF('USER INPUTS'!$B$26=\"Carbon dioxide\",((1/($D$5/100))-1),(VLOOKUP('USER INPUTS'!$B$26,DEFAULTS!$E$8:$F$69,2,FALSE))/10^6*(1/($D$5/100))))))),0,METHANE!$J27*DEFAULTS!$B$82*(IF('USER INPUTS'!$B$26=\"Total landfill gas\",(1/($D$5/100)),IF('USER INPUTS'!$B$26=\"Methane\",1,IF('USER INPUTS'!$B$26=\"Carbon dioxide\",((1/($D$5/100))-1),(VLOOKUP('USER INPUTS'!$B$26,DEFAULTS!$E$8:$F$69,2,FALSE))/10^6*(1/($D$5/100)))))))","v":0},{"$f":"IF(ISERROR(METHANE!$J27*(IF('USER INPUTS'!$B$26=\"Total landfill gas\",(1/($D$5/100)),IF('USER INPUTS'!$B$26=\"Methane\",1,IF('USER INPUTS'!$B$26=\"Carbon dioxide\",((1/($D$5/100))-1),(VLOOKUP('USER INPUTS'!$B$26,DEFAULTS!$E$8:$F$69,2,FALSE))/10^6*(1/($D$5/100))))))),0,METHANE!$J27*(IF('USER INPUTS'!$B$26=\"Total landfill gas\",(1/($D$5/100)),IF('USER INPUTS'!$B$26=\"Methane\",1,IF('USER INPUTS'!$B$26=\"Carbon dioxide\",((1/($D$5/100))-1),(VLOOKUP('USER INPUTS'!$B$26,DEFAULTS!$E$8:$F$69,2,FALSE))/10^6*(1/($D$5/100)))))))","v":0},{"$f":"IF(K$8=\"(short tons/year)\",(I13*DEFAULTS!$B$55*DEFAULTS!$B$53/DEFAULTS!$B$54),IF(K$8=\"(ft^3/year)\",(J13*DEFAULTS!$B$57),IF(K$8=\"(av ft^3/min)\",(J13*DEFAULTS!$B$57/DEFAULTS!$B$58),0)))","v":0},{"$f":"IF(ISERROR(METHANE!$J27*DEFAULTS!$B$83*(IF('USER INPUTS'!$B$28=\"Total landfill gas\",(1/($D$5/100)),IF('USER INPUTS'!$B$28=\"Methane\",1,IF('USER INPUTS'!$B$28=\"Carbon dioxide\",((1/($D$5/100))-1),(VLOOKUP('USER INPUTS'!$B$28,DEFAULTS!$E$8:$F$69,2,FALSE))/10^6*(1/($D$5/100))))))),0,METHANE!$J27*DEFAULTS!$B$83*(IF('USER INPUTS'!$B$28=\"Total landfill gas\",(1/($D$5/100)),IF('USER INPUTS'!$B$28=\"Methane\",1,IF('USER INPUTS'!$B$28=\"Carbon dioxide\",((1/($D$5/100))-1),(VLOOKUP('USER INPUTS'!$B$28,DEFAULTS!$E$8:$F$69,2,FALSE))/10^6*(1/($D$5/100)))))))","v":0},{"$f":"IF(ISERROR(METHANE!$J27*(IF('USER INPUTS'!$B$28=\"Total landfill gas\",(1/($D$5/100)),IF('USER INPUTS'!$B$28=\"Methane\",1,IF('USER INPUTS'!$B$28=\"Carbon dioxide\",((1/($D$5/100))-1),(VLOOKUP('USER INPUTS'!$B$28,DEFAULTS!$E$8:$F$69,2,FALSE))/10^6*(1/($D$5/100))))))),0,METHANE!$J27*(IF('USER INPUTS'!$B$28=\"Total landfill gas\",(1/($D$5/100)),IF('USER INPUTS'!$B$28=\"Methane\",1,IF('USER INPUTS'!$B$28=\"Carbon dioxide\",((1/($D$5/100))-1),(VLOOKUP('USER INPUTS'!$B$28,DEFAULTS!$E$8:$F$69,2,FALSE))/10^6*(1/($D$5/100)))))))","v":0},{"$f":"IF(N$8=\"(short tons/year)\",(L13*DEFAULTS!$B$55*DEFAULTS!$B$53/DEFAULTS!$B$54),IF(N$8=\"(ft^3/year)\",(M13*DEFAULTS!$B$57),IF(N$8=\"(av ft^3/min)\",(M13*DEFAULTS!$B$57/DEFAULTS!$B$58),0)))","v":0},{"$f":"IF(ISERROR(METHANE!$J27*DEFAULTS!$B$84*(IF('USER INPUTS'!$B$30=\"Total landfill gas\",(1/($D$5/100)),IF('USER INPUTS'!$B$30=\"Methane\",1,IF('USER INPUTS'!$B$30=\"Carbon dioxide\",((1/($D$5/100))-1),(VLOOKUP('USER INPUTS'!$B$30,DEFAULTS!$E$8:$F$69,2,FALSE))/10^6*(1/($D$5/100))))))),0,METHANE!$J27*DEFAULTS!$B$84*(IF('USER INPUTS'!$B$30=\"Total landfill gas\",(1/($D$5/100)),IF('USER INPUTS'!$B$30=\"Methane\",1,IF('USER INPUTS'!$B$30=\"Carbon dioxide\",((1/($D$5/100))-1),(VLOOKUP('USER INPUTS'!$B$30,DEFAULTS!$E$8:$F$69,2,FALSE))/10^6*(1/($D$5/100)))))))","v":0},{"$f":"IF(ISERROR(METHANE!$J27*(IF('USER INPUTS'!$B$30=\"Total landfill gas\",(1/($D$5/100)),IF('USER INPUTS'!$B$30=\"Methane\",1,IF('USER INPUTS'!$B$30=\"Carbon dioxide\",((1/($D$5/100))-1),(VLOOKUP('USER INPUTS'!$B$30,DEFAULTS!$E$8:$F$69,2,FALSE))/10^6*(1/($D$5/100))))))),0,METHANE!$J27*(IF('USER INPUTS'!$B$30=\"Total landfill gas\",(1/($D$5/100)),IF('USER INPUTS'!$B$30=\"Methane\",1,IF('USER INPUTS'!$B$30=\"Carbon dioxide\",((1/($D$5/100))-1),(VLOOKUP('USER INPUTS'!$B$30,DEFAULTS!$E$8:$F$69,2,FALSE))/10^6*(1/($D$5/100)))))))","v":0},{"$f":"IF(Q$8=\"(short tons/year)\",(O13*DEFAULTS!$B$55*DEFAULTS!$B$53/DEFAULTS!$B$54),IF(Q$8=\"(ft^3/year)\",(P13*DEFAULTS!$B$57),IF(Q$8=\"(av ft^3/min)\",(P13*DEFAULTS!$B$57/DEFAULTS!$B$58),0)))","v":0}]
[{"$f":"METHANE!I28","v":5},{"$f":"IF(METHANE!E28>0,METHANE!E28,0)","v":0},{"$f":"IF(METHANE!E28>0,METHANE!E28*DEFAULTS!$B$55*DEFAULTS!$B$53/DEFAULTS!$B$54,0)","v":0},{"$f":"IF(METHANE!F28>0,METHANE!F28,0)","v":0},{"$f":"IF(METHANE!F28>0,METHANE!F28*DEFAULTS!$B$55*DEFAULTS!$B$53/DEFAULTS!$B$54,0)","v":0},{"$f":"IF(ISERROR(METHANE!$J28*DEFAULTS!$B$81*(IF('USER INPUTS'!$B$24=\"Total landfill gas\",(1/($D$5/100)),IF('USER INPUTS'!$B$24=\"Methane\",1,IF('USER INPUTS'!$B$24=\"Carbon dioxide\",((1/($D$5/100))-1),(VLOOKUP('USER INPUTS'!$B$24,DEFAULTS!$E$8:$F$69,2,FALSE))/10^6*(1/($D$5/100))))))),0,METHANE!$J28*DEFAULTS!$B$81*(IF('USER INPUTS'!$B$24=\"Total landfill gas\",(1/($D$5/100)),IF('USER INPUTS'!$B$24=\"Methane\",1,IF('USER INPUTS'!$B$24=\"Carbon dioxide\",((1/($D$5/100))-1),(VLOOKUP('USER INPUTS'!$B$24,DEFAULTS!$E$8:$F$69,2,FALSE))/10^6*(1/($D$5/100)))))))","v":0},{"$f":"IF(ISERROR(METHANE!$J28*(IF('USER INPUTS'!$B$24=\"Total landfill gas\",(1/($D$5/100)),IF('USER INPUTS'!$B$24=\"Methane\",1,IF('USER INPUTS'!$B$24=\"Carbon dioxide\",((1/($D$5/100))-1),(VLOOKUP('USER INPUTS'!$B$24,DEFAULTS!$E$8:$F$69,2,FALSE))/10^6*(1/($D$5/100))))))),0,METHANE!$J28*(IF('USER INPUTS'!$B$24=\"Total landfill gas\",(1/($D$5/100)),IF('USER INPUTS'!$B$24=\"Methane\",1,IF('USER INPUTS'!$B$24=\"Carbon dioxide\",((1/($D$5/100))-1),(VLOOKUP('USER INPUTS'!$B$24,DEFAULTS!$E$8:$F$69,2,FALSE))/10^6*(1/($D$5/100)))))))","v":0},{"$f":"IF(H$8=\"(short tons/year)\",(F14*DEFAULTS!$B$55*DEFAULTS!$B$53/DEFAULTS!$B$54),IF(H$8=\"(ft^3/year)\",(G14*DEFAULTS!$B$57),IF(H$8=\"(av ft^3/min)\",(G14*DEFAULTS!$B$57/DEFAULTS!$B$58),0)))","v":0},{"$f":"IF(ISERROR(METHANE!$J28*DEFAULTS!$B$82*(IF('USER INPUTS'!$B$26=\"Total landfill gas\",(1/($D$5/100)),IF('USER INPUTS'!$B$26=\"Methane\",1,IF('USER INPUTS'!$B$26=\"Carbon dioxide\",((1/($D$5/100))-1),(VLOOKUP('USER INPUTS'!$B$26,DEFAULTS!$E$8:$F$69,2,FALSE))/10^6*(1/($D$5/100))))))),0,METHANE!$J28*DEFAULTS!$B$82*(IF('USER INPUTS'!$B$26=\"Total landfill gas\",(1/($D$5/100)),IF('USER INPUTS'!$B$26=\"Methane\",1,IF('USER INPUTS'!$B$26=\"Carbon dioxide\",((1/($D$5/100))-1),(VLOOKUP('USER INPUTS'!$B$26,DEFAULTS!$E$8:$F$69,2,FALSE))/10^6*(1/($D$5/100)))))))","v":0},{"$f":"IF(ISERROR(METHANE!$J28*(IF('USER INPUTS'!$B$26=\"Total landfill gas\",(1/($D$5/100)),IF('USER INPUTS'!$B$26=\"Methane\",1,IF('USER INPUTS'!$B$26=\"Carbon dioxide\",((1/($D$5/100))-1),(VLOOKUP('USER INPUTS'!$B$26,DEFAULTS!$E$8:$F$69,2,FALSE))/10^6*(1/($D$5/100))))))),0,METHANE!$J28*(IF('USER INPUTS'!$B$26=\"Total landfill gas\",(1/($D$5/100)),IF('USER INPUTS'!$B$26=\"Methane\",1,IF('USER INPUTS'!$B$26=\"Carbon dioxide\",((1/($D$5/100))-1),(VLOOKUP('USER INPUTS'!$B$26,DEFAULTS!$E$8:$F$69,2,FALSE))/10^6*(1/($D$5/100)))))))","v":0},{"$f":"IF(K$8=\"(short tons/year)\",(I14*DEFAULTS!$B$55*DEFAULTS!$B$53/DEFAULTS!$B$54),IF(K$8=\"(ft^3/year)\",(J14*DEFAULTS!$B$57),IF(K$8=\"(av ft^3/min)\",(J14*DEFAULTS!$B$57/DEFAULTS!$B$58),0)))","v":0},{"$f":"IF(ISERROR(METHANE!$J28*DEFAULTS!$B$83*(IF('USER INPUTS'!$B$28=\"Total landfill gas\",(1/($D$5/100)),IF('USER INPUTS'!$B$28=\"Methane\",1,IF('USER INPUTS'!$B$28=\"Carbon dioxide\",((1/($D$5/100))-1),(VLOOKUP('USER INPUTS'!$B$28,DEFAULTS!$E$8:$F$69,2,FALSE))/10^6*(1/($D$5/100))))))),0,METHANE!$J28*DEFAULTS!$B$83*(IF('USER INPUTS'!$B$28=\"Total landfill gas\",(1/($D$5/100)),IF('USER INPUTS'!$B$28=\"Methane\",1,IF('USER INPUTS'!$B$28=\"Carbon dioxide\",((1/($D$5/100))-1),(VLOOKUP('USER INPUTS'!$B$28,DEFAULTS!$E$8:$F$69,2,FALSE))/10^6*(1/($D$5/100)))))))","v":0},{"$f":"IF(ISERROR(METHANE!$J28*(IF('USER INPUTS'!$B$28=\"Total landfill gas\",(1/($D$5/100)),IF('USER INPUTS'!$B$28=\"Methane\",1,IF('USER INPUTS'!$B$28=\"Carbon dioxide\",((1/($D$5/100))-1),(VLOOKUP('USER INPUTS'!$B$28,DEFAULTS!$E$8:$F$69,2,FALSE))/10^6*(1/($D$5/100))))))),0,METHANE!$J28*(IF('USER INPUTS'!$B$28=\"Total landfill gas\",(1/($D$5/100)),IF('USER INPUTS'!$B$28=\"Methane\",1,IF('USER INPUTS'!$B$28=\"Carbon dioxide\",((1/($D$5/100))-1),(VLOOKUP('USER INPUTS'!$B$28,DEFAULTS!$E$8:$F$69,2,FALSE))/10^6*(1/($D$5/100)))))))","v":0},{"$f":"IF(N$8=\"(short tons/year)\",(L14*DEFAULTS!$B$55*DEFAULTS!$B$53/DEFAULTS!$B$54),IF(N$8=\"(ft^3/year)\",(M14*DEFAULTS!$B$57),IF(N$8=\"(av ft^3/min)\",(M14*DEFAULTS!$B$57/DEFAULTS!$B$58),0)))","v":0},{"$f":"IF(ISERROR(METHANE!$J28*DEFAULTS!$B$84*(IF('USER INPUTS'!$B$30=\"Total landfill gas\",(1/($D$5/100)),IF('USER INPUTS'!$B$30=\"Methane\",1,IF('USER INPUTS'!$B$30=\"Carbon dioxide\",((1/($D$5/100))-1),(VLOOKUP('USER INPUTS'!$B$30,DEFAULTS!$E$8:$F$69,2,FALSE))/10^6*(1/($D$5/100))))))),0,METHANE!$J28*DEFAULTS!$B$84*(IF('USER INPUTS'!$B$30=\"Total landfill gas\",(1/($D$5/100)),IF('USER INPUTS'!$B$30=\"Methane\",1,IF('USER INPUTS'!$B$30=\"Carbon dioxide\",((1/($D$5/100))-1),(VLOOKUP('USER INPUTS'!$B$30,DEFAULTS!$E$8:$F$69,2,FALSE))/10^6*(1/($D$5/100)))))))","v":0},{"$f":"IF(ISERROR(METHANE!$J28*(IF('USER INPUTS'!$B$30=\"Total landfill gas\",(1/($D$5/100)),IF('USER INPUTS'!$B$30=\"Methane\",1,IF('USER INPUTS'!$B$30=\"Carbon dioxide\",((1/($D$5/100))-1),(VLOOKUP('USER INPUTS'!$B$30,DEFAULTS!$E$8:$F$69,2,FALSE))/10^6*(1/($D$5/100))))))),0,METHANE!$J28*(IF('USER INPUTS'!$B$30=\"Total landfill gas\",(1/($D$5/100)),IF('USER INPUTS'!$B$30=\"Methane\",1,IF('USER INPUTS'!$B$30=\"Carbon dioxide\",((1/($D$5/100))-1),(VLOOKUP('USER INPUTS'!$B$30,DEFAULTS!$E$8:$F$69,2,FALSE))/10^6*(1/($D$5/100)))))))","v":0},{"$f":"IF(Q$8=\"(short tons/year)\",(O14*DEFAULTS!$B$55*DEFAULTS!$B$53/DEFAULTS!$B$54),IF(Q$8=\"(ft^3/year)\",(P14*DEFAULTS!$B$57),IF(Q$8=\"(av ft^3/min)\",(P14*DEFAULTS!$B$57/DEFAULTS!$B$58),0)))","v":0}]
[{"$f":"METHANE!I29","v":6},{"$f":"IF(METHANE!E29>0,METHANE!E29,0)","v":0},{"$f":"IF(METHANE!E29>0,METHANE!E29*DEFAULTS!$B$55*DEFAULTS!$B$53/DEFAULTS!$B$54,0)","v":0},{"$f":"IF(METHANE!F29>0,METHANE!F29,0)","v":0},{"$f":"IF(METHANE!F29>0,METHANE!F29*DEFAULTS!$B$55*DEFAULTS!$B$53/DEFAULTS!$B$54,0)","v":0},{"$f":"IF(ISERROR(METHANE!$J29*DEFAULTS!$B$81*(IF('USER INPUTS'!$B$24=\"Total landfill gas\",(1/($D$5/100)),IF('USER INPUTS'!$B$24=\"Methane\",1,IF('USER INPUTS'!$B$24=\"Carbon dioxide\",((1/($D$5/100))-1),(VLOOKUP('USER INPUTS'!$B$24,DEFAULTS!$E$8:$F$69,2,FALSE))/10^6*(1/($D$5/100))))))),0,METHANE!$J29*DEFAULTS!$B$81*(IF('USER INPUTS'!$B$24=\"Total landfill gas\",(1/($D$5/100)),IF('USER INPUTS'!$B$24=\"Methane\",1,IF('USER INPUTS'!$B$24=\"Carbon dioxide\",((1/($D$5/100))-1),(VLOOKUP('USER INPUTS'!$B$24,DEFAULTS!$E$8:$F$69,2,FALSE))/10^6*(1/($D$5/100)))))))","v":0},{"$f":"IF(ISERROR(METHANE!$J29*(IF('USER INPUTS'!$B$24=\"Total landfill gas\",(1/($D$5/100)),IF('USER INPUTS'!$B$24=\"Methane\",1,IF('USER INPUTS'!$B$24=\"Carbon dioxide\",((1/($D$5/100))-1),(VLOOKUP('USER INPUTS'!$B$24,DEFAULTS!$E$8:$F$69,2,FALSE))/10^6*(1/($D$5/100))))))),0,METHANE!$J29*(IF('USER INPUTS'!$B$24=\"Total landfill gas\",(1/($D$5/100)),IF('USER INPUTS'!$B$24=\"Methane\",1,IF('USER INPUTS'!$B$24=\"Carbon dioxide\",((1/($D$5/100))-1),(VLOOKUP('USER INPUTS'!$B$24,DEFAULTS!$E$8:$F$69,2,FALSE))/10^6*(1/($D$5/100)))))))","v":0},{"$f":"IF(H$8=\"(short tons/year)\",(F15*DEFAULTS!$B$55*DEFAULTS!$B$53/DEFAULTS!$B$54),IF(H$8=\"(ft^3/year)\",(G15*DEFAULTS!$B$57),IF(H$8=\"(av ft^3/min)\",(G15*DEFAULTS!$B$57/DEFAULTS!$B$58),0)))","v":0},{"$f":"IF(ISERROR(METHANE!$J29*DEFAULTS!$B$82*(IF('USER INPUTS'!$B$26=\"Total landfill gas\",(1/($D$5/100)),IF('USER INPUTS'!$B$26=\"Methane\",1,IF('USER INPUTS'!$B$26=\"Carbon dioxide\",((1/($D$5/100))-1),(VLOOKUP('USER INPUTS'!$B$26,DEFAULTS!$E$8:$F$69,2,FALSE))/10^6*(1/($D$5/100))))))),0,METHANE!$J29*DEFAULTS!$B$82*(IF('USER INPUTS'!$B$26=\"Total landfill gas\",(1/($D$5/100)),IF('USER INPUTS'!$B$26=\"Methane\",1,IF('USER INPUTS'!$B$26=\"Carbon dioxide\",((1/($D$5/100))-1),(VLOOKUP('USER INPUTS'!$B$26,DEFAULTS!$E$8:$F$69,2,FALSE))/10^6*(1/($D$5/100)))))))","v":0},{"$f":"IF(ISERROR(METHANE!$J29*(IF('USER INPUTS'!$B$26=\"Total landfill gas\",(1/($D$5/100)),IF('USER INPUTS'!$B$26=\"Methane\",1,IF('USER INPUTS'!$B$26=\"Carbon dioxide\",((1/($D$5/100))-1),(VLOOKUP('USER INPUTS'!$B$26,DEFAULTS!$E$8:$F$69,2,FALSE))/10^6*(1/($D$5/100))))))),0,METHANE!$J29*(IF('USER INPUTS'!$B$26=\"Total landfill gas\",(1/($D$5/100)),IF('USER INPUTS'!$B$26=\"Methane\",1,IF('USER INPUTS'!$B$26=\"Carbon dioxide\",((1/($D$5/100))-1),(VLOOKUP('USER INPUTS'!$B$26,DEFAULTS!$E$8:$F$69,2,FALSE))/10^6*(1/($D$5/100)))))))","v":0},{"$f":"IF(K$8=\"(short tons/year)\",(I15*DEFAULTS!$B$55*DEFAULTS!$B$53/DEFAULTS!$B$54),IF(K$8=\"(ft^3/year)\",(J15*DEFAULTS!$B$57),IF(K$8=\"(av ft^3/min)\",(J15*DEFAULTS!$B$57/DEFAULTS!$B$58),0)))","v":0},{"$f":"IF(ISERROR(METHANE!$J29*DEFAULTS!$B$83*(IF('USER INPUTS'!$B$28=\"Total landfill gas\",(1/($D$5/100)),IF('USER INPUTS'!$B$28=\"Methane\",1,IF('USER INPUTS'!$B$28=\"Carbon dioxide\",((1/($D$5/100))-1),(VLOOKUP('USER INPUTS'!$B$28,DEFAULTS!$E$8:$F$69,2,FALSE))/10^6*(1/($D$5/100))))))),0,METHANE!$J29*DEFAULTS!$B$83*(IF('USER INPUTS'!$B$28=\"Total landfill gas\",(1/($D$5/100)),IF('USER INPUTS'!$B$28=\"Methane\",1,IF('USER INPUTS'!$B$28=\"Carbon dioxide\",((1/($D$5/100))-1),(VLOOKUP('USER INPUTS'!$B$28,DEFAULTS!$E$8:$F$69,2,FALSE))/10^6*(1/($D$5/100)))))))","v":0},{"$f":"IF(ISERROR(METHANE!$J29*(IF('USER INPUTS'!$B$28=\"Total landfill gas\",(1/($D$5/100)),IF('USER INPUTS'!$B$28=\"Methane\",1,IF('USER INPUTS'!$B$28=\"Carbon dioxide\",((1/($D$5/100))-1),(VLOOKUP('USER INPUTS'!$B$28,DEFAULTS!$E$8:$F$69,2,FALSE))/10^6*(1/($D$5/100))))))),0,METHANE!$J29*(IF('USER INPUTS'!$B$28=\"Total landfill gas\",(1/($D$5/100)),IF('USER INPUTS'!$B$28=\"Methane\",1,IF('USER INPUTS'!$B$28=\"Carbon dioxide\",((1/($D$5/100))-1),(VLOOKUP('USER INPUTS'!$B$28,DEFAULTS!$E$8:$F$69,2,FALSE))/10^6*(1/($D$5/100)))))))","v":0},{"$f":"IF(N$8=\"(short tons/year)\",(L15*DEFAULTS!$B$55*DEFAULTS!$B$53/DEFAULTS!$B$54),IF(N$8=\"(ft^3/year)\",(M15*DEFAULTS!$B$57),IF(N$8=\"(av ft^3/min)\",(M15*DEFAULTS!$B$57/DEFAULTS!$B$58),0)))","v":0},{"$f":"IF(ISERROR(METHANE!$J29*DEFAULTS!$B$84*(IF('USER INPUTS'!$B$30=\"Total landfill gas\",(1/($D$5/100)),IF('USER INPUTS'!$B$30=\"Methane\",1,IF('USER INPUTS'!$B$30=\"Carbon dioxide\",((1/($D$5/100))-1),(VLOOKUP('USER INPUTS'!$B$30,DEFAULTS!$E$8:$F$69,2,FALSE))/10^6*(1/($D$5/100))))))),0,METHANE!$J29*DEFAULTS!$B$84*(IF('USER INPUTS'!$B$30=\"Total landfill gas\",(1/($D$5/100)),IF('USER INPUTS'!$B$30=\"Methane\",1,IF('USER INPUTS'!$B$30=\"Carbon dioxide\",((1/($D$5/100))-1),(VLOOKUP('USER INPUTS'!$B$30,DEFAULTS!$E$8:$F$69,2,FALSE))/10^6*(1/($D$5/100)))))))","v":0},{"$f":"IF(ISERROR(METHANE!$J29*(IF('USER INPUTS'!$B$30=\"Total landfill gas\",(1/($D$5/100)),IF('USER INPUTS'!$B$30=\"Methane\",1,IF('USER INPUTS'!$B$30=\"Carbon dioxide\",((1/($D$5/100))-1),(VLOOKUP('USER INPUTS'!$B$30,DEFAULTS!$E$8:$F$69,2,FALSE))/10^6*(1/($D$5/100))))))),0,METHANE!$J29*(IF('USER INPUTS'!$B$30=\"Total landfill gas\",(1/($D$5/100)),IF('USER INPUTS'!$B$30=\"Methane\",1,IF('USER INPUTS'!$B$30=\"Carbon dioxide\",((1/($D$5/100))-1),(VLOOKUP('USER INPUTS'!$B$30,DEFAULTS!$E$8:$F$69,2,FALSE))/10^6*(1/($D$5/100)))))))","v":0},{"$f":"IF(Q$8=\"(short tons/year)\",(O15*DEFAULTS!$B$55*DEFAULTS!$B$53/DEFAULTS!$B$54),IF(Q$8=\"(ft^3/year)\",(P15*DEFAULTS!$B$57),IF(Q$8=\"(av ft^3/min)\",(P15*DEFAULTS!$B$57/DEFAULTS!$B$58),0)))","v":0}]
[{"$f":"METHANE!I30","v":7},{"$f":"IF(METHANE!E30>0,METHANE!E30,0)","v":0},{"$f":"IF(METHANE!E30>0,METHANE!E30*DEFAULTS!$B$55*DEFAULTS!$B$53/DEFAULTS!$B$54,0)","v":0},{"$f":"IF(METHANE!F30>0,METHANE!F30,0)","v":0},{"$f":"IF(METHANE!F30>0,METHANE!F30*DEFAULTS!$B$55*DEFAULTS!$B$53/DEFAULTS!$B$54,0)","v":0},{"$f":"IF(ISERROR(METHANE!$J30*DEFAULTS!$B$81*(IF('USER INPUTS'!$B$24=\"Total landfill gas\",(1/($D$5/100)),IF('USER INPUTS'!$B$24=\"Methane\",1,IF('USER INPUTS'!$B$24=\"Carbon dioxide\",((1/($D$5/100))-1),(VLOOKUP('USER INPUTS'!$B$24,DEFAULTS!$E$8:$F$69,2,FALSE))/10^6*(1/($D$5/100))))))),0,METHANE!$J30*DEFAULTS!$B$81*(IF('USER INPUTS'!$B$24=\"Total landfill gas\",(1/($D$5/100)),IF('USER INPUTS'!$B$24=\"Methane\",1,IF('USER INPUTS'!$B$24=\"Carbon dioxide\",((1/($D$5/100))-1),(VLOOKUP('USER INPUTS'!$B$24,DEFAULTS!$E$8:$F$69,2,FALSE))/10^6*(1/($D$5/100)))))))","v":0},{"$f":"IF(ISERROR(METHANE!$J30*(IF('USER INPUTS'!$B$24=\"Total landfill gas\",(1/($D$5/100)),IF('USER INPUTS'!$B$24=\"Methane\",1,IF('USER INPUTS'!$B$24=\"Carbon dioxide\",((1/($D$5/100))-1),(VLOOKUP('USER INPUTS'!$B$24,DEFAULTS!$E$8:$F$69,2,FALSE))/10^6*(1/($D$5/100))))))),0,METHANE!$J30*(IF('USER INPUTS'!$B$24=\"Total landfill gas\",(1/($D$5/100)),IF('USER INPUTS'!$B$24=\"Methane\",1,IF('USER INPUTS'!$B$24=\"Carbon dioxide\",((1/($D$5/100))-1),(VLOOKUP('USER INPUTS'!$B$24,DEFAULTS!$E$8:$F$69,2,FALSE))/10^6*(1/($D$5/100)))))))","v":0},{"$f":"IF(H$8=\"(short tons/year)\",(F16*DEFAULTS!$B$55*DEFAULTS!$B$53/DEFAULTS!$B$54),IF(H$8=\"(ft^3/year)\",(G16*DEFAULTS!$B$57),IF(H$8=\"(av ft^3/min)\",(G16*DEFAULTS!$B$57/DEFAULTS!$B$58),0)))","v":0},{"$f":"IF(ISERROR(METHANE!$J30*DEFAULTS!$B$82*(IF('USER INPUTS'!$B$26=\"Total landfill gas\",(1/($D$5/100)),IF('USER INPUTS'!$B$26=\"Methane\",1,IF('USER INPUTS'!$B$26=\"Carbon dioxide\",((1/($D$5/100))-1),(VLOOKUP('USER INPUTS'!$B$26,DEFAULTS!$E$8:$F$69,2,FALSE))/10^6*(1/($D$5/100))))))),0,METHANE!$J30*DEFAULTS!$B$82*(IF('USER INPUTS'!$B$26=\"Total landfill gas\",(1/($D$5/100)),IF('USER INPUTS'!$B$26=\"Methane\",1,IF('USER INPUTS'!$B$26=\"Carbon dioxide\",((1/($D$5/100))-1),(VLOOKUP('USER INPUTS'!$B$26,DEFAULTS!$E$8:$F$69,2,FALSE))/10^6*(1/($D$5/100)))))))","v":0},{"$f":"IF(ISERROR(METHANE!$J30*(IF('USER INPUTS'!$B$26=\"Total landfill gas\",(1/($D$5/100)),IF('USER INPUTS'!$B$26=\"Methane\",1,IF('USER INPUTS'!$B$26=\"Carbon dioxide\",((1/($D$5/100))-1),(VLOOKUP('USER INPUTS'!$B$26,DEFAULTS!$E$8:$F$69,2,FALSE))/10^6*(1/($D$5/100))))))),0,METHANE!$J30*(IF('USER INPUTS'!$B$26=\"Total landfill gas\",(1/($D$5/100)),IF('USER INPUTS'!$B$26=\"Methane\",1,IF('USER INPUTS'!$B$26=\"Carbon dioxide\",((1/($D$5/100))-1),(VLOOKUP('USER INPUTS'!$B$26,DEFAULTS!$E$8:$F$69,2,FALSE))/10^6*(1/($D$5/100)))))))","v":0},{"$f":"IF(K$8=\"(short tons/year)\",(I16*DEFAULTS!$B$55*DEFAULTS!$B$53/DEFAULTS!$B$54),IF(K$8=\"(ft^3/year)\",(J16*DEFAULTS!$B$57),IF(K$8=\"(av ft^3/min)\",(J16*DEFAULTS!$B$57/DEFAULTS!$B$58),0)))","v":0},{"$f":"IF(ISERROR(METHANE!$J30*DEFAULTS!$B$83*(IF('USER INPUTS'!$B$28=\"Total landfill gas\",(1/($D$5/100)),IF('USER INPUTS'!$B$28=\"Methane\",1,IF('USER INPUTS'!$B$28=\"Carbon dioxide\",((1/($D$5/100))-1),(VLOOKUP('USER INPUTS'!$B$28,DEFAULTS!$E$8:$F$69,2,FALSE))/10^6*(1/($D$5/100))))))),0,METHANE!$J30*DEFAULTS!$B$83*(IF('USER INPUTS'!$B$28=\"Total landfill gas\",(1/($D$5/100)),IF('USER INPUTS'!$B$28=\"Methane\",1,IF('USER INPUTS'!$B$28=\"Carbon dioxide\",((1/($D$5/100))-1),(VLOOKUP('USER INPUTS'!$B$28,DEFAULTS!$E$8:$F$69,2,FALSE))/10^6*(1/($D$5/100)))))))","v":0},{"$f":"IF(ISERROR(METHANE!$J30*(IF('USER INPUTS'!$B$28=\"Total landfill gas\",(1/($D$5/100)),IF('USER INPUTS'!$B$28=\"Methane\",1,IF('USER INPUTS'!$B$28=\"Carbon dioxide\",((1/($D$5/100))-1),(VLOOKUP('USER INPUTS'!$B$28,DEFAULTS!$E$8:$F$69,2,FALSE))/10^6*(1/($D$5/100))))))),0,METHANE!$J30*(IF('USER INPUTS'!$B$28=\"Total landfill gas\",(1/($D$5/100)),IF('USER INPUTS'!$B$28=\"Methane\",1,IF('USER INPUTS'!$B$28=\"Carbon dioxide\",((1/($D$5/100))-1),(VLOOKUP('USER INPUTS'!$B$28,DEFAULTS!$E$8:$F$69,2,FALSE))/10^6*(1/($D$5/100)))))))","v":0},{"$f":"IF(N$8=\"(short tons/year)\",(L16*DEFAULTS!$B$55*DEFAULTS!$B$53/DEFAULTS!$B$54),IF(N$8=\"(ft^3/year)\",(M16*DEFAULTS!$B$57),IF(N$8=\"(av ft^3/min)\",(M16*DEFAULTS!$B$57/DEFAULTS!$B$58),0)))","v":0},{"$f":"IF(ISERROR(METHANE!$J30*DEFAULTS!$B$84*(IF('USER INPUTS'!$B$30=\"Total landfill gas\",(1/($D$5/100)),IF('USER INPUTS'!$B$30=\"Methane\",1,IF('USER INPUTS'!$B$30=\"Carbon dioxide\",((1/($D$5/100))-1),(VLOOKUP('USER INPUTS'!$B$30,DEFAULTS!$E$8:$F$69,2,FALSE))/10^6*(1/($D$5/100))))))),0,METHANE!$J30*DEFAULTS!$B$84*(IF('USER INPUTS'!$B$30=\"Total landfill gas\",(1/($D$5/100)),IF('USER INPUTS'!$B$30=\"Methane\",1,IF('USER INPUTS'!$B$30=\"Carbon dioxide\",((1/($D$5/100))-1),(VLOOKUP('USER INPUTS'!$B$30,DEFAULTS!$E$8:$F$69,2,FALSE))/10^6*(1/($D$5/100)))))))","v":0},{"$f":"IF(ISERROR(METHANE!$J30*(IF('USER INPUTS'!$B$30=\"Total landfill gas\",(1/($D$5/100)),IF('USER INPUTS'!$B$30=\"Methane\",1,IF('USER INPUTS'!$B$30=\"Carbon dioxide\",((1/($D$5/100))-1),(VLOOKUP('USER INPUTS'!$B$30,DEFAULTS!$E$8:$F$69,2,FALSE))/10^6*(1/($D$5/100))))))),0,METHANE!$J30*(IF('USER INPUTS'!$B$30=\"Total landfill gas\",(1/($D$5/100)),IF('USER INPUTS'!$B$30=\"Methane\",1,IF('USER INPUTS'!$B$30=\"Carbon dioxide\",((1/($D$5/100))-1),(VLOOKUP('USER INPUTS'!$B$30,DEFAULTS!$E$8:$F$69,2,FALSE))/10^6*(1/($D$5/100)))))))","v":0},{"$f":"IF(Q$8=\"(short tons/year)\",(O16*DEFAULTS!$B$55*DEFAULTS!$B$53/DEFAULTS!$B$54),IF(Q$8=\"(ft^3/year)\",(P16*DEFAULTS!$B$57),IF(Q$8=\"(av ft^3/min)\",(P16*DEFAULTS!$B$57/DEFAULTS!$B$58),0)))","v":0}]
[{"$f":"METHANE!I31","v":8},{"$f":"IF(METHANE!E31>0,METHANE!E31,0)","v":0},{"$f":"IF(METHANE!E31>0,METHANE!E31*DEFAULTS!$B$55*DEFAULTS!$B$53/DEFAULTS!$B$54,0)","v":0},{"$f":"IF(METHANE!F31>0,METHANE!F31,0)","v":0},{"$f":"IF(METHANE!F31>0,METHANE!F31*DEFAULTS!$B$55*DEFAULTS!$B$53/DEFAULTS!$B$54,0)","v":0},{"$f":"IF(ISERROR(METHANE!$J31*DEFAULTS!$B$81*(IF('USER INPUTS'!$B$24=\"Total landfill gas\",(1/($D$5/100)),IF('USER INPUTS'!$B$24=\"Methane\",1,IF('USER INPUTS'!$B$24=\"Carbon dioxide\",((1/($D$5/100))-1),(VLOOKUP('USER INPUTS'!$B$24,DEFAULTS!$E$8:$F$69,2,FALSE))/10^6*(1/($D$5/100))))))),0,METHANE!$J31*DEFAULTS!$B$81*(IF('USER INPUTS'!$B$24=\"Total landfill gas\",(1/($D$5/100)),IF('USER INPUTS'!$B$24=\"Methane\",1,IF('USER INPUTS'!$B$24=\"Carbon dioxide\",((1/($D$5/100))-1),(VLOOKUP('USER INPUTS'!$B$24,DEFAULTS!$E$8:$F$69,2,FALSE))/10^6*(1/($D$5/100)))))))","v":0},{"$f":"IF(ISERROR(METHANE!$J31*(IF('USER INPUTS'!$B$24=\"Total landfill gas\",(1/($D$5/100)),IF('USER INPUTS'!$B$24=\"Methane\",1,IF('USER INPUTS'!$B$24=\"Carbon dioxide\",((1/($D$5/100))-1),(VLOOKUP('USER INPUTS'!$B$24,DEFAULTS!$E$8:$F$69,2,FALSE))/10^6*(1/($D$5/100))))))),0,METHANE!$J31*(IF('USER INPUTS'!$B$24=\"Total landfill gas\",(1/($D$5/100)),IF('USER INPUTS'!$B$24=\"Methane\",1,IF('USER INPUTS'!$B$24=\"Carbon dioxide\",((1/($D$5/100))-1),(VLOOKUP('USER INPUTS'!$B$24,DEFAULTS!$E$8:$F$69,2,FALSE))/10^6*(1/($D$5/100)))))))","v":0},{"$f":"IF(H$8=\"(short tons/year)\",(F17*DEFAULTS!$B$55*DEFAULTS!$B$53/DEFAULTS!$B$54),IF(H$8=\"(ft^3/year)\",(G17*DEFAULTS!$B$57),IF(H$8=\"(av ft^3/min)\",(G17*DEFAULTS!$B$57/DEFAULTS!$B$58),0)))","v":0},{"$f":"IF(ISERROR(METHANE!$J31*DEFAULTS!$B$82*(IF('USER INPUTS'!$B$26=\"Total landfill gas\",(1/($D$5/100)),IF('USER INPUTS'!$B$26=\"Methane\",1,IF('USER INPUTS'!$B$26=\"Carbon dioxide\",((1/($D$5/100))-1),(VLOOKUP('USER INPUTS'!$B$26,DEFAULTS!$E$8:$F$69,2,FALSE))/10^6*(1/($D$5/100))))))),0,METHANE!$J31*DEFAULTS!$B$82*(IF('USER INPUTS'!$B$26=\"Total landfill gas\",(1/($D$5/100)),IF('USER INPUTS'!$B$26=\"Methane\",1,IF('USER INPUTS'!$B$26=\"Carbon dioxide\",((1/($D$5/100))-1),(VLOOKUP('USER INPUTS'!$B$26,DEFAULTS!$E$8:$F$69,2,FALSE))/10^6*(1/($D$5/100)))))))","v":0},{"$f":"IF(ISERROR(METHANE!$J31*(IF('USER INPUTS'!$B$26=\"Total landfill gas\",(1/($D$5/100)),IF('USER INPUTS'!$B$26=\"Methane\",1,IF('USER INPUTS'!$B$26=\"Carbon dioxide\",((1/($D$5/100))-1),(VLOOKUP('USER INPUTS'!$B$26,DEFAULTS!$E$8:$F$69,2,FALSE))/10^6*(1/($D$5/100))))))),0,METHANE!$J31*(IF('USER INPUTS'!$B$26=\"Total landfill gas\",(1/($D$5/100)),IF('USER INPUTS'!$B$26=\"Methane\",1,IF('USER INPUTS'!$B$26=\"Carbon dioxide\",((1/($D$5/100))-1),(VLOOKUP('USER INPUTS'!$B$26,DEFAULTS!$E$8:$F$69,2,FALSE))/10^6*(1/($D$5/100)))))))","v":0},{"$f":"IF(K$8=\"(short tons/year)\",(I17*DEFAULTS!$B$55*DEFAULTS!$B$53/DEFAULTS!$B$54),IF(K$8=\"(ft^3/year)\",(J17*DEFAULTS!$B$57),IF(K$8=\"(av ft^3/min)\",(J17*DEFAULTS!$B$57/DEFAULTS!$B$58),0)))","v":0},{"$f":"IF(ISERROR(METHANE!$J31*DEFAULTS!$B$83*(IF('USER INPUTS'!$B$28=\"Total landfill gas\",(1/($D$5/100)),IF('USER INPUTS'!$B$28=\"Methane\",1,IF('USER INPUTS'!$B$28=\"Carbon dioxide\",((1/($D$5/100))-1),(VLOOKUP('USER INPUTS'!$B$28,DEFAULTS!$E$8:$F$69,2,FALSE))/10^6*(1/($D$5/100))))))),0,METHANE!$J31*DEFAULTS!$B$83*(IF('USER INPUTS'!$B$28=\"Total landfill gas\",(1/($D$5/100)),IF('USER INPUTS'!$B$28=\"Methane\",1,IF('USER INPUTS'!$B$28=\"Carbon dioxide\",((1/($D$5/100))-1),(VLOOKUP('USER INPUTS'!$B$28,DEFAULTS!$E$8:$F$69,2,FALSE))/10^6*(1/($D$5/100)))))))","v":0},{"$f":"IF(ISERROR(METHANE!$J31*(IF('USER INPUTS'!$B$28=\"Total landfill gas\",(1/($D$5/100)),IF('USER INPUTS'!$B$28=\"Methane\",1,IF('USER INPUTS'!$B$28=\"Carbon dioxide\",((1/($D$5/100))-1),(VLOOKUP('USER INPUTS'!$B$28,DEFAULTS!$E$8:$F$69,2,FALSE))/10^6*(1/($D$5/100))))))),0,METHANE!$J31*(IF('USER INPUTS'!$B$28=\"Total landfill gas\",(1/($D$5/100)),IF('USER INPUTS'!$B$28=\"Methane\",1,IF('USER INPUTS'!$B$28=\"Carbon dioxide\",((1/($D$5/100))-1),(VLOOKUP('USER INPUTS'!$B$28,DEFAULTS!$E$8:$F$69,2,FALSE))/10^6*(1/($D$5/100)))))))","v":0},{"$f":"IF(N$8=\"(short tons/year)\",(L17*DEFAULTS!$B$55*DEFAULTS!$B$53/DEFAULTS!$B$54),IF(N$8=\"(ft^3/year)\",(M17*DEFAULTS!$B$57),IF(N$8=\"(av ft^3/min)\",(M17*DEFAULTS!$B$57/DEFAULTS!$B$58),0)))","v":0},{"$f":"IF(ISERROR(METHANE!$J31*DEFAULTS!$B$84*(IF('USER INPUTS'!$B$30=\"Total landfill gas\",(1/($D$5/100)),IF('USER INPUTS'!$B$30=\"Methane\",1,IF('USER INPUTS'!$B$30=\"Carbon dioxide\",((1/($D$5/100))-1),(VLOOKUP('USER INPUTS'!$B$30,DEFAULTS!$E$8:$F$69,2,FALSE))/10^6*(1/($D$5/100))))))),0,METHANE!$J31*DEFAULTS!$B$84*(IF('USER INPUTS'!$B$30=\"Total landfill gas\",(1/($D$5/100)),IF('USER INPUTS'!$B$30=\"Methane\",1,IF('USER INPUTS'!$B$30=\"Carbon dioxide\",((1/($D$5/100))-1),(VLOOKUP('USER INPUTS'!$B$30,DEFAULTS!$E$8:$F$69,2,FALSE))/10^6*(1/($D$5/100)))))))","v":0},{"$f":"IF(ISERROR(METHANE!$J31*(IF('USER INPUTS'!$B$30=\"Total landfill gas\",(1/($D$5/100)),IF('USER INPUTS'!$B$30=\"Methane\",1,IF('USER INPUTS'!$B$30=\"Carbon dioxide\",((1/($D$5/100))-1),(VLOOKUP('USER INPUTS'!$B$30,DEFAULTS!$E$8:$F$69,2,FALSE))/10^6*(1/($D$5/100))))))),0,METHANE!$J31*(IF('USER INPUTS'!$B$30=\"Total landfill gas\",(1/($D$5/100)),IF('USER INPUTS'!$B$30=\"Methane\",1,IF('USER INPUTS'!$B$30=\"Carbon dioxide\",((1/($D$5/100))-1),(VLOOKUP('USER INPUTS'!$B$30,DEFAULTS!$E$8:$F$69,2,FALSE))/10^6*(1/($D$5/100)))))))","v":0},{"$f":"IF(Q$8=\"(short tons/year)\",(O17*DEFAULTS!$B$55*DEFAULTS!$B$53/DEFAULTS!$B$54),IF(Q$8=\"(ft^3/year)\",(P17*DEFAULTS!$B$57),IF(Q$8=\"(av ft^3/min)\",(P17*DEFAULTS!$B$57/DEFAULTS!$B$58),0)))","v":0}]
[{"$f":"METHANE!I32","v":9},{"$f":"IF(METHANE!E32>0,METHANE!E32,0)","v":0},{"$f":"IF(METHANE!E32>0,METHANE!E32*DEFAULTS!$B$55*DEFAULTS!$B$53/DEFAULTS!$B$54,0)","v":0},{"$f":"IF(METHANE!F32>0,METHANE!F32,0)","v":0},{"$f":"IF(METHANE!F32>0,METHANE!F32*DEFAULTS!$B$55*DEFAULTS!$B$53/DEFAULTS!$B$54,0)","v":0},{"$f":"IF(ISERROR(METHANE!$J32*DEFAULTS!$B$81*(IF('USER INPUTS'!$B$24=\"Total landfill gas\",(1/($D$5/100)),IF('USER INPUTS'!$B$24=\"Methane\",1,IF('USER INPUTS'!$B$24=\"Carbon dioxide\",((1/($D$5/100))-1),(VLOOKUP('USER INPUTS'!$B$24,DEFAULTS!$E$8:$F$69,2,FALSE))/10^6*(1/($D$5/100))))))),0,METHANE!$J32*DEFAULTS!$B$81*(IF('USER INPUTS'!$B$24=\"Total landfill gas\",(1/($D$5/100)),IF('USER INPUTS'!$B$24=\"Methane\",1,IF('USER INPUTS'!$B$24=\"Carbon dioxide\",((1/($D$5/100))-1),(VLOOKUP('USER INPUTS'!$B$24,DEFAULTS!$E$8:$F$69,2,FALSE))/10^6*(1/($D$5/100)))))))","v":0},{"$f":"IF(ISERROR(METHANE!$J32*(IF('USER INPUTS'!$B$24=\"Total landfill gas\",(1/($D$5/100)),IF('USER INPUTS'!$B$24=\"Methane\",1,IF('USER INPUTS'!$B$24=\"Carbon dioxide\",((1/($D$5/100))-1),(VLOOKUP('USER INPUTS'!$B$24,DEFAULTS!$E$8:$F$69,2,FALSE))/10^6*(1/($D$5/100))))))),0,METHANE!$J32*(IF('USER INPUTS'!$B$24=\"Total landfill gas\",(1/($D$5/100)),IF('USER INPUTS'!$B$24=\"Methane\",1,IF('USER INPUTS'!$B$24=\"Carbon dioxide\",((1/($D$5/100))-1),(VLOOKUP('USER INPUTS'!$B$24,DEFAULTS!$E$8:$F$69,2,FALSE))/10^6*(1/($D$5/100)))))))","v":0},{"$f":"IF(H$8=\"(short tons/year)\",(F18*DEFAULTS!$B$55*DEFAULTS!$B$53/DEFAULTS!$B$54),IF(H$8=\"(ft^3/year)\",(G18*DEFAULTS!$B$57),IF(H$8=\"(av ft^3/min)\",(G18*DEFAULTS!$B$57/DEFAULTS!$B$58),0)))","v":0},{"$f":"IF(ISERROR(METHANE!$J32*DEFAULTS!$B$82*(IF('USER INPUTS'!$B$26=\"Total landfill gas\",(1/($D$5/100)),IF('USER INPUTS'!$B$26=\"Methane\",1,IF('USER INPUTS'!$B$26=\"Carbon dioxide\",((1/($D$5/100))-1),(VLOOKUP('USER INPUTS'!$B$26,DEFAULTS!$E$8:$F$69,2,FALSE))/10^6*(1/($D$5/100))))))),0,METHANE!$J32*DEFAULTS!$B$82*(IF('USER INPUTS'!$B$26=\"Total landfill gas\",(1/($D$5/100)),IF('USER INPUTS'!$B$26=\"Methane\",1,IF('USER INPUTS'!$B$26=\"Carbon dioxide\",((1/($D$5/100))-1),(VLOOKUP('USER INPUTS'!$B$26,DEFAULTS!$E$8:$F$69,2,FALSE))/10^6*(1/($D$5/100)))))))","v":0},{"$f":"IF(ISERROR(METHANE!$J32*(IF('USER INPUTS'!$B$26=\"Total landfill gas\",(1/($D$5/100)),IF('USER INPUTS'!$B$26=\"Methane\",1,IF('USER INPUTS'!$B$26=\"Carbon dioxide\",((1/($D$5/100))-1),(VLOOKUP('USER INPUTS'!$B$26,DEFAULTS!$E$8:$F$69,2,FALSE))/10^6*(1/($D$5/100))))))),0,METHANE!$J32*(IF('USER INPUTS'!$B$26=\"Total landfill gas\",(1/($D$5/100)),IF('USER INPUTS'!$B$26=\"Methane\",1,IF('USER INPUTS'!$B$26=\"Carbon dioxide\",((1/($D$5/100))-1),(VLOOKUP('USER INPUTS'!$B$26,DEFAULTS!$E$8:$F$69,2,FALSE))/10^6*(1/($D$5/100)))))))","v":0},{"$f":"IF(K$8=\"(short tons/year)\",(I18*DEFAULTS!$B$55*DEFAULTS!$B$53/DEFAULTS!$B$54),IF(K$8=\"(ft^3/year)\",(J18*DEFAULTS!$B$57),IF(K$8=\"(av ft^3/min)\",(J18*DEFAULTS!$B$57/DEFAULTS!$B$58),0)))","v":0},{"$f":"IF(ISERROR(METHANE!$J32*DEFAULTS!$B$83*(IF('USER INPUTS'!$B$28=\"Total landfill gas\",(1/($D$5/100)),IF('USER INPUTS'!$B$28=\"Methane\",1,IF('USER INPUTS'!$B$28=\"Carbon dioxide\",((1/($D$5/100))-1),(VLOOKUP('USER INPUTS'!$B$28,DEFAULTS!$E$8:$F$69,2,FALSE))/10^6*(1/($D$5/100))))))),0,METHANE!$J32*DEFAULTS!$B$83*(IF('USER INPUTS'!$B$28=\"Total landfill gas\",(1/($D$5/100)),IF('USER INPUTS'!$B$28=\"Methane\",1,IF('USER INPUTS'!$B$28=\"Carbon dioxide\",((1/($D$5/100))-1),(VLOOKUP('USER INPUTS'!$B$28,DEFAULTS!$E$8:$F$69,2,FALSE))/10^6*(1/($D$5/100)))))))","v":0},{"$f":"IF(ISERROR(METHANE!$J32*(IF('USER INPUTS'!$B$28=\"Total landfill gas\",(1/($D$5/100)),IF('USER INPUTS'!$B$28=\"Methane\",1,IF('USER INPUTS'!$B$28=\"Carbon dioxide\",((1/($D$5/100))-1),(VLOOKUP('USER INPUTS'!$B$28,DEFAULTS!$E$8:$F$69,2,FALSE))/10^6*(1/($D$5/100))))))),0,METHANE!$J32*(IF('USER INPUTS'!$B$28=\"Total landfill gas\",(1/($D$5/100)),IF('USER INPUTS'!$B$28=\"Methane\",1,IF('USER INPUTS'!$B$28=\"Carbon dioxide\",((1/($D$5/100))-1),(VLOOKUP('USER INPUTS'!$B$28,DEFAULTS!$E$8:$F$69,2,FALSE))/10^6*(1/($D$5/100)))))))","v":0},{"$f":"IF(N$8=\"(short tons/year)\",(L18*DEFAULTS!$B$55*DEFAULTS!$B$53/DEFAULTS!$B$54),IF(N$8=\"(ft^3/year)\",(M18*DEFAULTS!$B$57),IF(N$8=\"(av ft^3/min)\",(M18*DEFAULTS!$B$57/DEFAULTS!$B$58),0)))","v":0},{"$f":"IF(ISERROR(METHANE!$J32*DEFAULTS!$B$84*(IF('USER INPUTS'!$B$30=\"Total landfill gas\",(1/($D$5/100)),IF('USER INPUTS'!$B$30=\"Methane\",1,IF('USER INPUTS'!$B$30=\"Carbon dioxide\",((1/($D$5/100))-1),(VLOOKUP('USER INPUTS'!$B$30,DEFAULTS!$E$8:$F$69,2,FALSE))/10^6*(1/($D$5/100))))))),0,METHANE!$J32*DEFAULTS!$B$84*(IF('USER INPUTS'!$B$30=\"Total landfill gas\",(1/($D$5/100)),IF('USER INPUTS'!$B$30=\"Methane\",1,IF('USER INPUTS'!$B$30=\"Carbon dioxide\",((1/($D$5/100))-1),(VLOOKUP('USER INPUTS'!$B$30,DEFAULTS!$E$8:$F$69,2,FALSE))/10^6*(1/($D$5/100)))))))","v":0},{"$f":"IF(ISERROR(METHANE!$J32*(IF('USER INPUTS'!$B$30=\"Total landfill gas\",(1/($D$5/100)),IF('USER INPUTS'!$B$30=\"Methane\",1,IF('USER INPUTS'!$B$30=\"Carbon dioxide\",((1/($D$5/100))-1),(VLOOKUP('USER INPUTS'!$B$30,DEFAULTS!$E$8:$F$69,2,FALSE))/10^6*(1/($D$5/100))))))),0,METHANE!$J32*(IF('USER INPUTS'!$B$30=\"Total landfill gas\",(1/($D$5/100)),IF('USER INPUTS'!$B$30=\"Methane\",1,IF('USER INPUTS'!$B$30=\"Carbon dioxide\",((1/($D$5/100))-1),(VLOOKUP('USER INPUTS'!$B$30,DEFAULTS!$E$8:$F$69,2,FALSE))/10^6*(1/($D$5/100)))))))","v":0},{"$f":"IF(Q$8=\"(short tons/year)\",(O18*DEFAULTS!$B$55*DEFAULTS!$B$53/DEFAULTS!$B$54),IF(Q$8=\"(ft^3/year)\",(P18*DEFAULTS!$B$57),IF(Q$8=\"(av ft^3/min)\",(P18*DEFAULTS!$B$57/DEFAULTS!$B$58),0)))","v":0}]
[{"$f":"METHANE!I33","v":10},{"$f":"IF(METHANE!E33>0,METHANE!E33,0)","v":0},{"$f":"IF(METHANE!E33>0,METHANE!E33*DEFAULTS!$B$55*DEFAULTS!$B$53/DEFAULTS!$B$54,0)","v":0},{"$f":"IF(METHANE!F33>0,METHANE!F33,0)","v":0},{"$f":"IF(METHANE!F33>0,METHANE!F33*DEFAULTS!$B$55*DEFAULTS!$B$53/DEFAULTS!$B$54,0)","v":0},{"$f":"IF(ISERROR(METHANE!$J33*DEFAULTS!$B$81*(IF('USER INPUTS'!$B$24=\"Total landfill gas\",(1/($D$5/100)),IF('USER INPUTS'!$B$24=\"Methane\",1,IF('USER INPUTS'!$B$24=\"Carbon dioxide\",((1/($D$5/100))-1),(VLOOKUP('USER INPUTS'!$B$24,DEFAULTS!$E$8:$F$69,2,FALSE))/10^6*(1/($D$5/100))))))),0,METHANE!$J33*DEFAULTS!$B$81*(IF('USER INPUTS'!$B$24=\"Total landfill gas\",(1/($D$5/100)),IF('USER INPUTS'!$B$24=\"Methane\",1,IF('USER INPUTS'!$B$24=\"Carbon dioxide\",((1/($D$5/100))-1),(VLOOKUP('USER INPUTS'!$B$24,DEFAULTS!$E$8:$F$69,2,FALSE))/10^6*(1/($D$5/100)))))))","v":0},{"$f":"IF(ISERROR(METHANE!$J33*(IF('USER INPUTS'!$B$24=\"Total landfill gas\",(1/($D$5/100)),IF('USER INPUTS'!$B$24=\"Methane\",1,IF('USER INPUTS'!$B$24=\"Carbon dioxide\",((1/($D$5/100))-1),(VLOOKUP('USER INPUTS'!$B$24,DEFAULTS!$E$8:$F$69,2,FALSE))/10^6*(1/($D$5/100))))))),0,METHANE!$J33*(IF('USER INPUTS'!$B$24=\"Total landfill gas\",(1/($D$5/100)),IF('USER INPUTS'!$B$24=\"Methane\",1,IF('USER INPUTS'!$B$24=\"Carbon dioxide\",((1/($D$5/100))-1),(VLOOKUP('USER INPUTS'!$B$24,DEFAULTS!$E$8:$F$69,2,FALSE))/10^6*(1/($D$5/100)))))))","v":0},{"$f":"IF(H$8=\"(short tons/year)\",(F19*DEFAULTS!$B$55*DEFAULTS!$B$53/DEFAULTS!$B$54),IF(H$8=\"(ft^3/year)\",(G19*DEFAULTS!$B$57),IF(H$8=\"(av ft^3/min)\",(G19*DEFAULTS!$B$57/DEFAULTS!$B$58),0)))","v":0},{"$f":"IF(ISERROR(METHANE!$J33*DEFAULTS!$B$82*(IF('USER INPUTS'!$B$26=\"Total landfill gas\",(1/($D$5/100)),IF('USER INPUTS'!$B$26=\"Methane\",1,IF('USER INPUTS'!$B$26=\"Carbon dioxide\",((1/($D$5/100))-1),(VLOOKUP('USER INPUTS'!$B$26,DEFAULTS!$E$8:$F$69,2,FALSE))/10^6*(1/($D$5/100))))))),0,METHANE!$J33*DEFAULTS!$B$82*(IF('USER INPUTS'!$B$26=\"Total landfill gas\",(1/($D$5/100)),IF('USER INPUTS'!$B$26=\"Methane\",1,IF('USER INPUTS'!$B$26=\"Carbon dioxide\",((1/($D$5/100))-1),(VLOOKUP('USER INPUTS'!$B$26,DEFAULTS!$E$8:$F$69,2,FALSE))/10^6*(1/($D$5/100)))))))","v":0},{"$f":"IF(ISERROR(METHANE!$J33*(IF('USER INPUTS'!$B$26=\"Total landfill gas\",(1/($D$5/100)),IF('USER INPUTS'!$B$26=\"Methane\",1,IF('USER INPUTS'!$B$26=\"Carbon dioxide\",((1/($D$5/100))-1),(VLOOKUP('USER INPUTS'!$B$26,DEFAULTS!$E$8:$F$69,2,FALSE))/10^6*(1/($D$5/100))))))),0,METHANE!$J33*(IF('USER INPUTS'!$B$26=\"Total landfill gas\",(1/($D$5/100)),IF('USER INPUTS'!$B$26=\"Methane\",1,IF('USER INPUTS'!$B$26=\"Carbon dioxide\",((1/($D$5/100))-1),(VLOOKUP('USER INPUTS'!$B$26,DEFAULTS!$E$8:$F$69,2,FALSE))/10^6*(1/($D$5/100)))))))","v":0},{"$f":"IF(K$8=\"(short tons/year)\",(I19*DEFAULTS!$B$55*DEFAULTS!$B$53/DEFAULTS!$B$54),IF(K$8=\"(ft^3/year)\",(J19*DEFAULTS!$B$57),IF(K$8=\"(av ft^3/min)\",(J19*DEFAULTS!$B$57/DEFAULTS!$B$58),0)))","v":0},{"$f":"IF(ISERROR(METHANE!$J33*DEFAULTS!$B$83*(IF('USER INPUTS'!$B$28=\"Total landfill gas\",(1/($D$5/100)),IF('USER INPUTS'!$B$28=\"Methane\",1,IF('USER INPUTS'!$B$28=\"Carbon dioxide\",((1/($D$5/100))-1),(VLOOKUP('USER INPUTS'!$B$28,DEFAULTS!$E$8:$F$69,2,FALSE))/10^6*(1/($D$5/100))))))),0,METHANE!$J33*DEFAULTS!$B$83*(IF('USER INPUTS'!$B$28=\"Total landfill gas\",(1/($D$5/100)),IF('USER INPUTS'!$B$28=\"Methane\",1,IF('USER INPUTS'!$B$28=\"Carbon dioxide\",((1/($D$5/100))-1),(VLOOKUP('USER INPUTS'!$B$28,DEFAULTS!$E$8:$F$69,2,FALSE))/10^6*(1/($D$5/100)))))))","v":0},{"$f":"IF(ISERROR(METHANE!$J33*(IF('USER INPUTS'!$B$28=\"Total landfill gas\",(1/($D$5/100)),IF('USER INPUTS'!$B$28=\"Methane\",1,IF('USER INPUTS'!$B$28=\"Carbon dioxide\",((1/($D$5/100))-1),(VLOOKUP('USER INPUTS'!$B$28,DEFAULTS!$E$8:$F$69,2,FALSE))/10^6*(1/($D$5/100))))))),0,METHANE!$J33*(IF('USER INPUTS'!$B$28=\"Total landfill gas\",(1/($D$5/100)),IF('USER INPUTS'!$B$28=\"Methane\",1,IF('USER INPUTS'!$B$28=\"Carbon dioxide\",((1/($D$5/100))-1),(VLOOKUP('USER INPUTS'!$B$28,DEFAULTS!$E$8:$F$69,2,FALSE))/10^6*(1/($D$5/100)))))))","v":0},{"$f":"IF(N$8=\"(short tons/year)\",(L19*DEFAULTS!$B$55*DEFAULTS!$B$53/DEFAULTS!$B$54),IF(N$8=\"(ft^3/year)\",(M19*DEFAULTS!$B$57),IF(N$8=\"(av ft^3/min)\",(M19*DEFAULTS!$B$57/DEFAULTS!$B$58),0)))","v":0},{"$f":"IF(ISERROR(METHANE!$J33*DEFAULTS!$B$84*(IF('USER INPUTS'!$B$30=\"Total landfill gas\",(1/($D$5/100)),IF('USER INPUTS'!$B$30=\"Methane\",1,IF('USER INPUTS'!$B$30=\"Carbon dioxide\",((1/($D$5/100))-1),(VLOOKUP('USER INPUTS'!$B$30,DEFAULTS!$E$8:$F$69,2,FALSE))/10^6*(1/($D$5/100))))))),0,METHANE!$J33*DEFAULTS!$B$84*(IF('USER INPUTS'!$B$30=\"Total landfill gas\",(1/($D$5/100)),IF('USER INPUTS'!$B$30=\"Methane\",1,IF('USER INPUTS'!$B$30=\"Carbon dioxide\",((1/($D$5/100))-1),(VLOOKUP('USER INPUTS'!$B$30,DEFAULTS!$E$8:$F$69,2,FALSE))/10^6*(1/($D$5/100)))))))","v":0},{"$f":"IF(ISERROR(METHANE!$J33*(IF('USER INPUTS'!$B$30=\"Total landfill gas\",(1/($D$5/100)),IF('USER INPUTS'!$B$30=\"Methane\",1,IF('USER INPUTS'!$B$30=\"Carbon dioxide\",((1/($D$5/100))-1),(VLOOKUP('USER INPUTS'!$B$30,DEFAULTS!$E$8:$F$69,2,FALSE))/10^6*(1/($D$5/100))))))),0,METHANE!$J33*(IF('USER INPUTS'!$B$30=\"Total landfill gas\",(1/($D$5/100)),IF('USER INPUTS'!$B$30=\"Methane\",1,IF('USER INPUTS'!$B$30=\"Carbon dioxide\",((1/($D$5/100))-1),(VLOOKUP('USER INPUTS'!$B$30,DEFAULTS!$E$8:$F$69,2,FALSE))/10^6*(1/($D$5/100)))))))","v":0},{"$f":"IF(Q$8=\"(short tons/year)\",(O19*DEFAULTS!$B$55*DEFAULTS!$B$53/DEFAULTS!$B$54),IF(Q$8=\"(ft^3/year)\",(P19*DEFAULTS!$B$57),IF(Q$8=\"(av ft^3/min)\",(P19*DEFAULTS!$B$57/DEFAULTS!$B$58),0)))","v":0}]
[{"$f":"METHANE!I34","v":11},{"$f":"IF(METHANE!E34>0,METHANE!E34,0)","v":0},{"$f":"IF(METHANE!E34>0,METHANE!E34*DEFAULTS!$B$55*DEFAULTS!$B$53/DEFAULTS!$B$54,0)","v":0},{"$f":"IF(METHANE!F34>0,METHANE!F34,0)","v":0},{"$f":"IF(METHANE!F34>0,METHANE!F34*DEFAULTS!$B$55*DEFAULTS!$B$53/DEFAULTS!$B$54,0)","v":0},{"$f":"IF(ISERROR(METHANE!$J34*DEFAULTS!$B$81*(IF('USER INPUTS'!$B$24=\"Total landfill gas\",(1/($D$5/100)),IF('USER INPUTS'!$B$24=\"Methane\",1,IF('USER INPUTS'!$B$24=\"Carbon dioxide\",((1/($D$5/100))-1),(VLOOKUP('USER INPUTS'!$B$24,DEFAULTS!$E$8:$F$69,2,FALSE))/10^6*(1/($D$5/100))))))),0,METHANE!$J34*DEFAULTS!$B$81*(IF('USER INPUTS'!$B$24=\"Total landfill gas\",(1/($D$5/100)),IF('USER INPUTS'!$B$24=\"Methane\",1,IF('USER INPUTS'!$B$24=\"Carbon dioxide\",((1/($D$5/100))-1),(VLOOKUP('USER INPUTS'!$B$24,DEFAULTS!$E$8:$F$69,2,FALSE))/10^6*(1/($D$5/100)))))))","v":0},{"$f":"IF(ISERROR(METHANE!$J34*(IF('USER INPUTS'!$B$24=\"Total landfill gas\",(1/($D$5/100)),IF('USER INPUTS'!$B$24=\"Methane\",1,IF('USER INPUTS'!$B$24=\"Carbon dioxide\",((1/($D$5/100))-1),(VLOOKUP('USER INPUTS'!$B$24,DEFAULTS!$E$8:$F$69,2,FALSE))/10^6*(1/($D$5/100))))))),0,METHANE!$J34*(IF('USER INPUTS'!$B$24=\"Total landfill gas\",(1/($D$5/100)),IF('USER INPUTS'!$B$24=\"Methane\",1,IF('USER INPUTS'!$B$24=\"Carbon dioxide\",((1/($D$5/100))-1),(VLOOKUP('USER INPUTS'!$B$24,DEFAULTS!$E$8:$F$69,2,FALSE))/10^6*(1/($D$5/100)))))))","v":0},{"$f":"IF(H$8=\"(short tons/year)\",(F20*DEFAULTS!$B$55*DEFAULTS!$B$53/DEFAULTS!$B$54),IF(H$8=\"(ft^3/year)\",(G20*DEFAULTS!$B$57),IF(H$8=\"(av ft^3/min)\",(G20*DEFAULTS!$B$57/DEFAULTS!$B$58),0)))","v":0},{"$f":"IF(ISERROR(METHANE!$J34*DEFAULTS!$B$82*(IF('USER INPUTS'!$B$26=\"Total landfill gas\",(1/($D$5/100)),IF('USER INPUTS'!$B$26=\"Methane\",1,IF('USER INPUTS'!$B$26=\"Carbon dioxide\",((1/($D$5/100))-1),(VLOOKUP('USER INPUTS'!$B$26,DEFAULTS!$E$8:$F$69,2,FALSE))/10^6*(1/($D$5/100))))))),0,METHANE!$J34*DEFAULTS!$B$82*(IF('USER INPUTS'!$B$26=\"Total landfill gas\",(1/($D$5/100)),IF('USER INPUTS'!$B$26=\"Methane\",1,IF('USER INPUTS'!$B$26=\"Carbon dioxide\",((1/($D$5/100))-1),(VLOOKUP('USER INPUTS'!$B$26,DEFAULTS!$E$8:$F$69,2,FALSE))/10^6*(1/($D$5/100)))))))","v":0},{"$f":"IF(ISERROR(METHANE!$J34*(IF('USER INPUTS'!$B$26=\"Total landfill gas\",(1/($D$5/100)),IF('USER INPUTS'!$B$26=\"Methane\",1,IF('USER INPUTS'!$B$26=\"Carbon dioxide\",((1/($D$5/100))-1),(VLOOKUP('USER INPUTS'!$B$26,DEFAULTS!$E$8:$F$69,2,FALSE))/10^6*(1/($D$5/100))))))),0,METHANE!$J34*(IF('USER INPUTS'!$B$26=\"Total landfill gas\",(1/($D$5/100)),IF('USER INPUTS'!$B$26=\"Methane\",1,IF('USER INPUTS'!$B$26=\"Carbon dioxide\",((1/($D$5/100))-1),(VLOOKUP('USER INPUTS'!$B$26,DEFAULTS!$E$8:$F$69,2,FALSE))/10^6*(1/($D$5/100)))))))","v":0},{"$f":"IF(K$8=\"(short tons/year)\",(I20*DEFAULTS!$B$55*DEFAULTS!$B$53/DEFAULTS!$B$54),IF(K$8=\"(ft^3/year)\",(J20*DEFAULTS!$B$57),IF(K$8=\"(av ft^3/min)\",(J20*DEFAULTS!$B$57/DEFAULTS!$B$58),0)))","v":0},{"$f":"IF(ISERROR(METHANE!$J34*DEFAULTS!$B$83*(IF('USER INPUTS'!$B$28=\"Total landfill gas\",(1/($D$5/100)),IF('USER INPUTS'!$B$28=\"Methane\",1,IF('USER INPUTS'!$B$28=\"Carbon dioxide\",((1/($D$5/100))-1),(VLOOKUP('USER INPUTS'!$B$28,DEFAULTS!$E$8:$F$69,2,FALSE))/10^6*(1/($D$5/100))))))),0,METHANE!$J34*DEFAULTS!$B$83*(IF('USER INPUTS'!$B$28=\"Total landfill gas\",(1/($D$5/100)),IF('USER INPUTS'!$B$28=\"Methane\",1,IF('USER INPUTS'!$B$28=\"Carbon dioxide\",((1/($D$5/100))-1),(VLOOKUP('USER INPUTS'!$B$28,DEFAULTS!$E$8:$F$69,2,FALSE))/10^6*(1/($D$5/100)))))))","v":0},{"$f":"IF(ISERROR(METHANE!$J34*(IF('USER INPUTS'!$B$28=\"Total landfill gas\",(1/($D$5/100)),IF('USER INPUTS'!$B$28=\"Methane\",1,IF('USER INPUTS'!$B$28=\"Carbon dioxide\",((1/($D$5/100))-1),(VLOOKUP('USER INPUTS'!$B$28,DEFAULTS!$E$8:$F$69,2,FALSE))/10^6*(1/($D$5/100))))))),0,METHANE!$J34*(IF('USER INPUTS'!$B$28=\"Total landfill gas\",(1/($D$5/100)),IF('USER INPUTS'!$B$28=\"Methane\",1,IF('USER INPUTS'!$B$28=\"Carbon dioxide\",((1/($D$5/100))-1),(VLOOKUP('USER INPUTS'!$B$28,DEFAULTS!$E$8:$F$69,2,FALSE))/10^6*(1/($D$5/100)))))))","v":0},{"$f":"IF(N$8=\"(short tons/year)\",(L20*DEFAULTS!$B$55*DEFAULTS!$B$53/DEFAULTS!$B$54),IF(N$8=\"(ft^3/year)\",(M20*DEFAULTS!$B$57),IF(N$8=\"(av ft^3/min)\",(M20*DEFAULTS!$B$57/DEFAULTS!$B$58),0)))","v":0},{"$f":"IF(ISERROR(METHANE!$J34*DEFAULTS!$B$84*(IF('USER INPUTS'!$B$30=\"Total landfill gas\",(1/($D$5/100)),IF('USER INPUTS'!$B$30=\"Methane\",1,IF('USER INPUTS'!$B$30=\"Carbon dioxide\",((1/($D$5/100))-1),(VLOOKUP('USER INPUTS'!$B$30,DEFAULTS!$E$8:$F$69,2,FALSE))/10^6*(1/($D$5/100))))))),0,METHANE!$J34*DEFAULTS!$B$84*(IF('USER INPUTS'!$B$30=\"Total landfill gas\",(1/($D$5/100)),IF('USER INPUTS'!$B$30=\"Methane\",1,IF('USER INPUTS'!$B$30=\"Carbon dioxide\",((1/($D$5/100))-1),(VLOOKUP('USER INPUTS'!$B$30,DEFAULTS!$E$8:$F$69,2,FALSE))/10^6*(1/($D$5/100)))))))","v":0},{"$f":"IF(ISERROR(METHANE!$J34*(IF('USER INPUTS'!$B$30=\"Total landfill gas\",(1/($D$5/100)),IF('USER INPUTS'!$B$30=\"Methane\",1,IF('USER INPUTS'!$B$30=\"Carbon dioxide\",((1/($D$5/100))-1),(VLOOKUP('USER INPUTS'!$B$30,DEFAULTS!$E$8:$F$69,2,FALSE))/10^6*(1/($D$5/100))))))),0,METHANE!$J34*(IF('USER INPUTS'!$B$30=\"Total landfill gas\",(1/($D$5/100)),IF('USER INPUTS'!$B$30=\"Methane\",1,IF('USER INPUTS'!$B$30=\"Carbon dioxide\",((1/($D$5/100))-1),(VLOOKUP('USER INPUTS'!$B$30,DEFAULTS!$E$8:$F$69,2,FALSE))/10^6*(1/($D$5/100)))))))","v":0},{"$f":"IF(Q$8=\"(short tons/year)\",(O20*DEFAULTS!$B$55*DEFAULTS!$B$53/DEFAULTS!$B$54),IF(Q$8=\"(ft^3/year)\",(P20*DEFAULTS!$B$57),IF(Q$8=\"(av ft^3/min)\",(P20*DEFAULTS!$B$57/DEFAULTS!$B$58),0)))","v":0}]
[{"$f":"METHANE!I35","v":12},{"$f":"IF(METHANE!E35>0,METHANE!E35,0)","v":0},{"$f":"IF(METHANE!E35>0,METHANE!E35*DEFAULTS!$B$55*DEFAULTS!$B$53/DEFAULTS!$B$54,0)","v":0},{"$f":"IF(METHANE!F35>0,METHANE!F35,0)","v":0},{"$f":"IF(METHANE!F35>0,METHANE!F35*DEFAULTS!$B$55*DEFAULTS!$B$53/DEFAULTS!$B$54,0)","v":0},{"$f":"IF(ISERROR(METHANE!$J35*DEFAULTS!$B$81*(IF('USER INPUTS'!$B$24=\"Total landfill gas\",(1/($D$5/100)),IF('USER INPUTS'!$B$24=\"Methane\",1,IF('USER INPUTS'!$B$24=\"Carbon dioxide\",((1/($D$5/100))-1),(VLOOKUP('USER INPUTS'!$B$24,DEFAULTS!$E$8:$F$69,2,FALSE))/10^6*(1/($D$5/100))))))),0,METHANE!$J35*DEFAULTS!$B$81*(IF('USER INPUTS'!$B$24=\"Total landfill gas\",(1/($D$5/100)),IF('USER INPUTS'!$B$24=\"Methane\",1,IF('USER INPUTS'!$B$24=\"Carbon dioxide\",((1/($D$5/100))-1),(VLOOKUP('USER INPUTS'!$B$24,DEFAULTS!$E$8:$F$69,2,FALSE))/10^6*(1/($D$5/100)))))))","v":0},{"$f":"IF(ISERROR(METHANE!$J35*(IF('USER INPUTS'!$B$24=\"Total landfill gas\",(1/($D$5/100)),IF('USER INPUTS'!$B$24=\"Methane\",1,IF('USER INPUTS'!$B$24=\"Carbon dioxide\",((1/($D$5/100))-1),(VLOOKUP('USER INPUTS'!$B$24,DEFAULTS!$E$8:$F$69,2,FALSE))/10^6*(1/($D$5/100))))))),0,METHANE!$J35*(IF('USER INPUTS'!$B$24=\"Total landfill gas\",(1/($D$5/100)),IF('USER INPUTS'!$B$24=\"Methane\",1,IF('USER INPUTS'!$B$24=\"Carbon dioxide\",((1/($D$5/100))-1),(VLOOKUP('USER INPUTS'!$B$24,DEFAULTS!$E$8:$F$69,2,FALSE))/10^6*(1/($D$5/100)))))))","v":0},{"$f":"IF(H$8=\"(short tons/year)\",(F21*DEFAULTS!$B$55*DEFAULTS!$B$53/DEFAULTS!$B$54),IF(H$8=\"(ft^3/year)\",(G21*DEFAULTS!$B$57),IF(H$8=\"(av ft^3/min)\",(G21*DEFAULTS!$B$57/DEFAULTS!$B$58),0)))","v":0},{"$f":"IF(ISERROR(METHANE!$J35*DEFAULTS!$B$82*(IF('USER INPUTS'!$B$26=\"Total landfill gas\",(1/($D$5/100)),IF('USER INPUTS'!$B$26=\"Methane\",1,IF('USER INPUTS'!$B$26=\"Carbon dioxide\",((1/($D$5/100))-1),(VLOOKUP('USER INPUTS'!$B$26,DEFAULTS!$E$8:$F$69,2,FALSE))/10^6*(1/($D$5/100))))))),0,METHANE!$J35*DEFAULTS!$B$82*(IF('USER INPUTS'!$B$26=\"Total landfill gas\",(1/($D$5/100)),IF('USER INPUTS'!$B$26=\"Methane\",1,IF('USER INPUTS'!$B$26=\"Carbon dioxide\",((1/($D$5/100))-1),(VLOOKUP('USER INPUTS'!$B$26,DEFAULTS!$E$8:$F$69,2,FALSE))/10^6*(1/($D$5/100)))))))","v":0},{"$f":"IF(ISERROR(METHANE!$J35*(IF('USER INPUTS'!$B$26=\"Total landfill gas\",(1/($D$5/100)),IF('USER INPUTS'!$B$26=\"Methane\",1,IF('USER INPUTS'!$B$26=\"Carbon dioxide\",((1/($D$5/100))-1),(VLOOKUP('USER INPUTS'!$B$26,DEFAULTS!$E$8:$F$69,2,FALSE))/10^6*(1/($D$5/100))))))),0,METHANE!$J35*(IF('USER INPUTS'!$B$26=\"Total landfill gas\",(1/($D$5/100)),IF('USER INPUTS'!$B$26=\"Methane\",1,IF('USER INPUTS'!$B$26=\"Carbon dioxide\",((1/($D$5/100))-1),(VLOOKUP('USER INPUTS'!$B$26,DEFAULTS!$E$8:$F$69,2,FALSE))/10^6*(1/($D$5/100)))))))","v":0},{"$f":"IF(K$8=\"(short tons/year)\",(I21*DEFAULTS!$B$55*DEFAULTS!$B$53/DEFAULTS!$B$54),IF(K$8=\"(ft^3/year)\",(J21*DEFAULTS!$B$57),IF(K$8=\"(av ft^3/min)\",(J21*DEFAULTS!$B$57/DEFAULTS!$B$58),0)))","v":0},{"$f":"IF(ISERROR(METHANE!$J35*DEFAULTS!$B$83*(IF('USER INPUTS'!$B$28=\"Total landfill gas\",(1/($D$5/100)),IF('USER INPUTS'!$B$28=\"Methane\",1,IF('USER INPUTS'!$B$28=\"Carbon dioxide\",((1/($D$5/100))-1),(VLOOKUP('USER INPUTS'!$B$28,DEFAULTS!$E$8:$F$69,2,FALSE))/10^6*(1/($D$5/100))))))),0,METHANE!$J35*DEFAULTS!$B$83*(IF('USER INPUTS'!$B$28=\"Total landfill gas\",(1/($D$5/100)),IF('USER INPUTS'!$B$28=\"Methane\",1,IF('USER INPUTS'!$B$28=\"Carbon dioxide\",((1/($D$5/100))-1),(VLOOKUP('USER INPUTS'!$B$28,DEFAULTS!$E$8:$F$69,2,FALSE))/10^6*(1/($D$5/100)))))))","v":0},{"$f":"IF(ISERROR(METHANE!$J35*(IF('USER INPUTS'!$B$28=\"Total landfill gas\",(1/($D$5/100)),IF('USER INPUTS'!$B$28=\"Methane\",1,IF('USER INPUTS'!$B$28=\"Carbon dioxide\",((1/($D$5/100))-1),(VLOOKUP('USER INPUTS'!$B$28,DEFAULTS!$E$8:$F$69,2,FALSE))/10^6*(1/($D$5/100))))))),0,METHANE!$J35*(IF('USER INPUTS'!$B$28=\"Total landfill gas\",(1/($D$5/100)),IF('USER INPUTS'!$B$28=\"Methane\",1,IF('USER INPUTS'!$B$28=\"Carbon dioxide\",((1/($D$5/100))-1),(VLOOKUP('USER INPUTS'!$B$28,DEFAULTS!$E$8:$F$69,2,FALSE))/10^6*(1/($D$5/100)))))))","v":0},{"$f":"IF(N$8=\"(short tons/year)\",(L21*DEFAULTS!$B$55*DEFAULTS!$B$53/DEFAULTS!$B$54),IF(N$8=\"(ft^3/year)\",(M21*DEFAULTS!$B$57),IF(N$8=\"(av ft^3/min)\",(M21*DEFAULTS!$B$57/DEFAULTS!$B$58),0)))","v":0},{"$f":"IF(ISERROR(METHANE!$J35*DEFAULTS!$B$84*(IF('USER INPUTS'!$B$30=\"Total landfill gas\",(1/($D$5/100)),IF('USER INPUTS'!$B$30=\"Methane\",1,IF('USER INPUTS'!$B$30=\"Carbon dioxide\",((1/($D$5/100))-1),(VLOOKUP('USER INPUTS'!$B$30,DEFAULTS!$E$8:$F$69,2,FALSE))/10^6*(1/($D$5/100))))))),0,METHANE!$J35*DEFAULTS!$B$84*(IF('USER INPUTS'!$B$30=\"Total landfill gas\",(1/($D$5/100)),IF('USER INPUTS'!$B$30=\"Methane\",1,IF('USER INPUTS'!$B$30=\"Carbon dioxide\",((1/($D$5/100))-1),(VLOOKUP('USER INPUTS'!$B$30,DEFAULTS!$E$8:$F$69,2,FALSE))/10^6*(1/($D$5/100)))))))","v":0},{"$f":"IF(ISERROR(METHANE!$J35*(IF('USER INPUTS'!$B$30=\"Total landfill gas\",(1/($D$5/100)),IF('USER INPUTS'!$B$30=\"Methane\",1,IF('USER INPUTS'!$B$30=\"Carbon dioxide\",((1/($D$5/100))-1),(VLOOKUP('USER INPUTS'!$B$30,DEFAULTS!$E$8:$F$69,2,FALSE))/10^6*(1/($D$5/100))))))),0,METHANE!$J35*(IF('USER INPUTS'!$B$30=\"Total landfill gas\",(1/($D$5/100)),IF('USER INPUTS'!$B$30=\"Methane\",1,IF('USER INPUTS'!$B$30=\"Carbon dioxide\",((1/($D$5/100))-1),(VLOOKUP('USER INPUTS'!$B$30,DEFAULTS!$E$8:$F$69,2,FALSE))/10^6*(1/($D$5/100)))))))","v":0},{"$f":"IF(Q$8=\"(short tons/year)\",(O21*DEFAULTS!$B$55*DEFAULTS!$B$53/DEFAULTS!$B$54),IF(Q$8=\"(ft^3/year)\",(P21*DEFAULTS!$B$57),IF(Q$8=\"(av ft^3/min)\",(P21*DEFAULTS!$B$57/DEFAULTS!$B$58),0)))","v":0}]
[{"$f":"METHANE!I36","v":13},{"$f":"IF(METHANE!E36>0,METHANE!E36,0)","v":0},{"$f":"IF(METHANE!E36>0,METHANE!E36*DEFAULTS!$B$55*DEFAULTS!$B$53/DEFAULTS!$B$54,0)","v":0},{"$f":"IF(METHANE!F36>0,METHANE!F36,0)","v":0},{"$f":"IF(METHANE!F36>0,METHANE!F36*DEFAULTS!$B$55*DEFAULTS!$B$53/DEFAULTS!$B$54,0)","v":0},{"$f":"IF(ISERROR(METHANE!$J36*DEFAULTS!$B$81*(IF('USER INPUTS'!$B$24=\"Total landfill gas\",(1/($D$5/100)),IF('USER INPUTS'!$B$24=\"Methane\",1,IF('USER INPUTS'!$B$24=\"Carbon dioxide\",((1/($D$5/100))-1),(VLOOKUP('USER INPUTS'!$B$24,DEFAULTS!$E$8:$F$69,2,FALSE))/10^6*(1/($D$5/100))))))),0,METHANE!$J36*DEFAULTS!$B$81*(IF('USER INPUTS'!$B$24=\"Total landfill gas\",(1/($D$5/100)),IF('USER INPUTS'!$B$24=\"Methane\",1,IF('USER INPUTS'!$B$24=\"Carbon dioxide\",((1/($D$5/100))-1),(VLOOKUP('USER INPUTS'!$B$24,DEFAULTS!$E$8:$F$69,2,FALSE))/10^6*(1/($D$5/100)))))))","v":0},{"$f":"IF(ISERROR(METHANE!$J36*(IF('USER INPUTS'!$B$24=\"Total landfill gas\",(1/($D$5/100)),IF('USER INPUTS'!$B$24=\"Methane\",1,IF('USER INPUTS'!$B$24=\"Carbon dioxide\",((1/($D$5/100))-1),(VLOOKUP('USER INPUTS'!$B$24,DEFAULTS!$E$8:$F$69,2,FALSE))/10^6*(1/($D$5/100))))))),0,METHANE!$J36*(IF('USER INPUTS'!$B$24=\"Total landfill gas\",(1/($D$5/100)),IF('USER INPUTS'!$B$24=\"Methane\",1,IF('USER INPUTS'!$B$24=\"Carbon dioxide\",((1/($D$5/100))-1),(VLOOKUP('USER INPUTS'!$B$24,DEFAULTS!$E$8:$F$69,2,FALSE))/10^6*(1/($D$5/100)))))))","v":0},{"$f":"IF(H$8=\"(short tons/year)\",(F22*DEFAULTS!$B$55*DEFAULTS!$B$53/DEFAULTS!$B$54),IF(H$8=\"(ft^3/year)\",(G22*DEFAULTS!$B$57),IF(H$8=\"(av ft^3/min)\",(G22*DEFAULTS!$B$57/DEFAULTS!$B$58),0)))","v":0},{"$f":"IF(ISERROR(METHANE!$J36*DEFAULTS!$B$82*(IF('USER INPUTS'!$B$26=\"Total landfill gas\",(1/($D$5/100)),IF('USER INPUTS'!$B$26=\"Methane\",1,IF('USER INPUTS'!$B$26=\"Carbon dioxide\",((1/($D$5/100))-1),(VLOOKUP('USER INPUTS'!$B$26,DEFAULTS!$E$8:$F$69,2,FALSE))/10^6*(1/($D$5/100))))))),0,METHANE!$J36*DEFAULTS!$B$82*(IF('USER INPUTS'!$B$26=\"Total landfill gas\",(1/($D$5/100)),IF('USER INPUTS'!$B$26=\"Methane\",1,IF('USER INPUTS'!$B$26=\"Carbon dioxide\",((1/($D$5/100))-1),(VLOOKUP('USER INPUTS'!$B$26,DEFAULTS!$E$8:$F$69,2,FALSE))/10^6*(1/($D$5/100)))))))","v":0},{"$f":"IF(ISERROR(METHANE!$J36*(IF('USER INPUTS'!$B$26=\"Total landfill gas\",(1/($D$5/100)),IF('USER INPUTS'!$B$26=\"Methane\",1,IF('USER INPUTS'!$B$26=\"Carbon dioxide\",((1/($D$5/100))-1),(VLOOKUP('USER INPUTS'!$B$26,DEFAULTS!$E$8:$F$69,2,FALSE))/10^6*(1/($D$5/100))))))),0,METHANE!$J36*(IF('USER INPUTS'!$B$26=\"Total landfill gas\",(1/($D$5/100)),IF('USER INPUTS'!$B$26=\"Methane\",1,IF('USER INPUTS'!$B$26=\"Carbon dioxide\",((1/($D$5/100))-1),(VLOOKUP('USER INPUTS'!$B$26,DEFAULTS!$E$8:$F$69,2,FALSE))/10^6*(1/($D$5/100)))))))","v":0},{"$f":"IF(K$8=\"(short tons/year)\",(I22*DEFAULTS!$B$55*DEFAULTS!$B$53/DEFAULTS!$B$54),IF(K$8=\"(ft^3/year)\",(J22*DEFAULTS!$B$57),IF(K$8=\"(av ft^3/min)\",(J22*DEFAULTS!$B$57/DEFAULTS!$B$58),0)))","v":0},{"$f":"IF(ISERROR(METHANE!$J36*DEFAULTS!$B$83*(IF('USER INPUTS'!$B$28=\"Total landfill gas\",(1/($D$5/100)),IF('USER INPUTS'!$B$28=\"Methane\",1,IF('USER INPUTS'!$B$28=\"Carbon dioxide\",((1/($D$5/100))-1),(VLOOKUP('USER INPUTS'!$B$28,DEFAULTS!$E$8:$F$69,2,FALSE))/10^6*(1/($D$5/100))))))),0,METHANE!$J36*DEFAULTS!$B$83*(IF('USER INPUTS'!$B$28=\"Total landfill gas\",(1/($D$5/100)),IF('USER INPUTS'!$B$28=\"Methane\",1,IF('USER INPUTS'!$B$28=\"Carbon dioxide\",((1/($D$5/100))-1),(VLOOKUP('USER INPUTS'!$B$28,DEFAULTS!$E$8:$F$69,2,FALSE))/10^6*(1/($D$5/100)))))))","v":0},{"$f":"IF(ISERROR(METHANE!$J36*(IF('USER INPUTS'!$B$28=\"Total landfill gas\",(1/($D$5/100)),IF('USER INPUTS'!$B$28=\"Methane\",1,IF('USER INPUTS'!$B$28=\"Carbon dioxide\",((1/($D$5/100))-1),(VLOOKUP('USER INPUTS'!$B$28,DEFAULTS!$E$8:$F$69,2,FALSE))/10^6*(1/($D$5/100))))))),0,METHANE!$J36*(IF('USER INPUTS'!$B$28=\"Total landfill gas\",(1/($D$5/100)),IF('USER INPUTS'!$B$28=\"Methane\",1,IF('USER INPUTS'!$B$28=\"Carbon dioxide\",((1/($D$5/100))-1),(VLOOKUP('USER INPUTS'!$B$28,DEFAULTS!$E$8:$F$69,2,FALSE))/10^6*(1/($D$5/100)))))))","v":0},{"$f":"IF(N$8=\"(short tons/year)\",(L22*DEFAULTS!$B$55*DEFAULTS!$B$53/DEFAULTS!$B$54),IF(N$8=\"(ft^3/year)\",(M22*DEFAULTS!$B$57),IF(N$8=\"(av ft^3/min)\",(M22*DEFAULTS!$B$57/DEFAULTS!$B$58),0)))","v":0},{"$f":"IF(ISERROR(METHANE!$J36*DEFAULTS!$B$84*(IF('USER INPUTS'!$B$30=\"Total landfill gas\",(1/($D$5/100)),IF('USER INPUTS'!$B$30=\"Methane\",1,IF('USER INPUTS'!$B$30=\"Carbon dioxide\",((1/($D$5/100))-1),(VLOOKUP('USER INPUTS'!$B$30,DEFAULTS!$E$8:$F$69,2,FALSE))/10^6*(1/($D$5/100))))))),0,METHANE!$J36*DEFAULTS!$B$84*(IF('USER INPUTS'!$B$30=\"Total landfill gas\",(1/($D$5/100)),IF('USER INPUTS'!$B$30=\"Methane\",1,IF('USER INPUTS'!$B$30=\"Carbon dioxide\",((1/($D$5/100))-1),(VLOOKUP('USER INPUTS'!$B$30,DEFAULTS!$E$8:$F$69,2,FALSE))/10^6*(1/($D$5/100)))))))","v":0},{"$f":"IF(ISERROR(METHANE!$J36*(IF('USER INPUTS'!$B$30=\"Total landfill gas\",(1/($D$5/100)),IF('USER INPUTS'!$B$30=\"Methane\",1,IF('USER INPUTS'!$B$30=\"Carbon dioxide\",((1/($D$5/100))-1),(VLOOKUP('USER INPUTS'!$B$30,DEFAULTS!$E$8:$F$69,2,FALSE))/10^6*(1/($D$5/100))))))),0,METHANE!$J36*(IF('USER INPUTS'!$B$30=\"Total landfill gas\",(1/($D$5/100)),IF('USER INPUTS'!$B$30=\"Methane\",1,IF('USER INPUTS'!$B$30=\"Carbon dioxide\",((1/($D$5/100))-1),(VLOOKUP('USER INPUTS'!$B$30,DEFAULTS!$E$8:$F$69,2,FALSE))/10^6*(1/($D$5/100)))))))","v":0},{"$f":"IF(Q$8=\"(short tons/year)\",(O22*DEFAULTS!$B$55*DEFAULTS!$B$53/DEFAULTS!$B$54),IF(Q$8=\"(ft^3/year)\",(P22*DEFAULTS!$B$57),IF(Q$8=\"(av ft^3/min)\",(P22*DEFAULTS!$B$57/DEFAULTS!$B$58),0)))","v":0}]
[{"$f":"METHANE!I37","v":14},{"$f":"IF(METHANE!E37>0,METHANE!E37,0)","v":0},{"$f":"IF(METHANE!E37>0,METHANE!E37*DEFAULTS!$B$55*DEFAULTS!$B$53/DEFAULTS!$B$54,0)","v":0},{"$f":"IF(METHANE!F37>0,METHANE!F37,0)","v":0},{"$f":"IF(METHANE!F37>0,METHANE!F37*DEFAULTS!$B$55*DEFAULTS!$B$53/DEFAULTS!$B$54,0)","v":0},{"$f":"IF(ISERROR(METHANE!$J37*DEFAULTS!$B$81*(IF('USER INPUTS'!$B$24=\"Total landfill gas\",(1/($D$5/100)),IF('USER INPUTS'!$B$24=\"Methane\",1,IF('USER INPUTS'!$B$24=\"Carbon dioxide\",((1/($D$5/100))-1),(VLOOKUP('USER INPUTS'!$B$24,DEFAULTS!$E$8:$F$69,2,FALSE))/10^6*(1/($D$5/100))))))),0,METHANE!$J37*DEFAULTS!$B$81*(IF('USER INPUTS'!$B$24=\"Total landfill gas\",(1/($D$5/100)),IF('USER INPUTS'!$B$24=\"Methane\",1,IF('USER INPUTS'!$B$24=\"Carbon dioxide\",((1/($D$5/100))-1),(VLOOKUP('USER INPUTS'!$B$24,DEFAULTS!$E$8:$F$69,2,FALSE))/10^6*(1/($D$5/100)))))))","v":0},{"$f":"IF(ISERROR(METHANE!$J37*(IF('USER INPUTS'!$B$24=\"Total landfill gas\",(1/($D$5/100)),IF('USER INPUTS'!$B$24=\"Methane\",1,IF('USER INPUTS'!$B$24=\"Carbon dioxide\",((1/($D$5/100))-1),(VLOOKUP('USER INPUTS'!$B$24,DEFAULTS!$E$8:$F$69,2,FALSE))/10^6*(1/($D$5/100))))))),0,METHANE!$J37*(IF('USER INPUTS'!$B$24=\"Total landfill gas\",(1/($D$5/100)),IF('USER INPUTS'!$B$24=\"Methane\",1,IF('USER INPUTS'!$B$24=\"Carbon dioxide\",((1/($D$5/100))-1),(VLOOKUP('USER INPUTS'!$B$24,DEFAULTS!$E$8:$F$69,2,FALSE))/10^6*(1/($D$5/100)))))))","v":0},{"$f":"IF(H$8=\"(short tons/year)\",(F23*DEFAULTS!$B$55*DEFAULTS!$B$53/DEFAULTS!$B$54),IF(H$8=\"(ft^3/year)\",(G23*DEFAULTS!$B$57),IF(H$8=\"(av ft^3/min)\",(G23*DEFAULTS!$B$57/DEFAULTS!$B$58),0)))","v":0},{"$f":"IF(ISERROR(METHANE!$J37*DEFAULTS!$B$82*(IF('USER INPUTS'!$B$26=\"Total landfill gas\",(1/($D$5/100)),IF('USER INPUTS'!$B$26=\"Methane\",1,IF('USER INPUTS'!$B$26=\"Carbon dioxide\",((1/($D$5/100))-1),(VLOOKUP('USER INPUTS'!$B$26,DEFAULTS!$E$8:$F$69,2,FALSE))/10^6*(1/($D$5/100))))))),0,METHANE!$J37*DEFAULTS!$B$82*(IF('USER INPUTS'!$B$26=\"Total landfill gas\",(1/($D$5/100)),IF('USER INPUTS'!$B$26=\"Methane\",1,IF('USER INPUTS'!$B$26=\"Carbon dioxide\",((1/($D$5/100))-1),(VLOOKUP('USER INPUTS'!$B$26,DEFAULTS!$E$8:$F$69,2,FALSE))/10^6*(1/($D$5/100)))))))","v":0},{"$f":"IF(ISERROR(METHANE!$J37*(IF('USER INPUTS'!$B$26=\"Total landfill gas\",(1/($D$5/100)),IF('USER INPUTS'!$B$26=\"Methane\",1,IF('USER INPUTS'!$B$26=\"Carbon dioxide\",((1/($D$5/100))-1),(VLOOKUP('USER INPUTS'!$B$26,DEFAULTS!$E$8:$F$69,2,FALSE))/10^6*(1/($D$5/100))))))),0,METHANE!$J37*(IF('USER INPUTS'!$B$26=\"Total landfill gas\",(1/($D$5/100)),IF('USER INPUTS'!$B$26=\"Methane\",1,IF('USER INPUTS'!$B$26=\"Carbon dioxide\",((1/($D$5/100))-1),(VLOOKUP('USER INPUTS'!$B$26,DEFAULTS!$E$8:$F$69,2,FALSE))/10^6*(1/($D$5/100)))))))","v":0},{"$f":"IF(K$8=\"(short tons/year)\",(I23*DEFAULTS!$B$55*DEFAULTS!$B$53/DEFAULTS!$B$54),IF(K$8=\"(ft^3/year)\",(J23*DEFAULTS!$B$57),IF(K$8=\"(av ft^3/min)\",(J23*DEFAULTS!$B$57/DEFAULTS!$B$58),0)))","v":0},{"$f":"IF(ISERROR(METHANE!$J37*DEFAULTS!$B$83*(IF('USER INPUTS'!$B$28=\"Total landfill gas\",(1/($D$5/100)),IF('USER INPUTS'!$B$28=\"Methane\",1,IF('USER INPUTS'!$B$28=\"Carbon dioxide\",((1/($D$5/100))-1),(VLOOKUP('USER INPUTS'!$B$28,DEFAULTS!$E$8:$F$69,2,FALSE))/10^6*(1/($D$5/100))))))),0,METHANE!$J37*DEFAULTS!$B$83*(IF('USER INPUTS'!$B$28=\"Total landfill gas\",(1/($D$5/100)),IF('USER INPUTS'!$B$28=\"Methane\",1,IF('USER INPUTS'!$B$28=\"Carbon dioxide\",((1/($D$5/100))-1),(VLOOKUP('USER INPUTS'!$B$28,DEFAULTS!$E$8:$F$69,2,FALSE))/10^6*(1/($D$5/100)))))))","v":0},{"$f":"IF(ISERROR(METHANE!$J37*(IF('USER INPUTS'!$B$28=\"Total landfill gas\",(1/($D$5/100)),IF('USER INPUTS'!$B$28=\"Methane\",1,IF('USER INPUTS'!$B$28=\"Carbon dioxide\",((1/($D$5/100))-1),(VLOOKUP('USER INPUTS'!$B$28,DEFAULTS!$E$8:$F$69,2,FALSE))/10^6*(1/($D$5/100))))))),0,METHANE!$J37*(IF('USER INPUTS'!$B$28=\"Total landfill gas\",(1/($D$5/100)),IF('USER INPUTS'!$B$28=\"Methane\",1,IF('USER INPUTS'!$B$28=\"Carbon dioxide\",((1/($D$5/100))-1),(VLOOKUP('USER INPUTS'!$B$28,DEFAULTS!$E$8:$F$69,2,FALSE))/10^6*(1/($D$5/100)))))))","v":0},{"$f":"IF(N$8=\"(short tons/year)\",(L23*DEFAULTS!$B$55*DEFAULTS!$B$53/DEFAULTS!$B$54),IF(N$8=\"(ft^3/year)\",(M23*DEFAULTS!$B$57),IF(N$8=\"(av ft^3/min)\",(M23*DEFAULTS!$B$57/DEFAULTS!$B$58),0)))","v":0},{"$f":"IF(ISERROR(METHANE!$J37*DEFAULTS!$B$84*(IF('USER INPUTS'!$B$30=\"Total landfill gas\",(1/($D$5/100)),IF('USER INPUTS'!$B$30=\"Methane\",1,IF('USER INPUTS'!$B$30=\"Carbon dioxide\",((1/($D$5/100))-1),(VLOOKUP('USER INPUTS'!$B$30,DEFAULTS!$E$8:$F$69,2,FALSE))/10^6*(1/($D$5/100))))))),0,METHANE!$J37*DEFAULTS!$B$84*(IF('USER INPUTS'!$B$30=\"Total landfill gas\",(1/($D$5/100)),IF('USER INPUTS'!$B$30=\"Methane\",1,IF('USER INPUTS'!$B$30=\"Carbon dioxide\",((1/($D$5/100))-1),(VLOOKUP('USER INPUTS'!$B$30,DEFAULTS!$E$8:$F$69,2,FALSE))/10^6*(1/($D$5/100)))))))","v":0},{"$f":"IF(ISERROR(METHANE!$J37*(IF('USER INPUTS'!$B$30=\"Total landfill gas\",(1/($D$5/100)),IF('USER INPUTS'!$B$30=\"Methane\",1,IF('USER INPUTS'!$B$30=\"Carbon dioxide\",((1/($D$5/100))-1),(VLOOKUP('USER INPUTS'!$B$30,DEFAULTS!$E$8:$F$69,2,FALSE))/10^6*(1/($D$5/100))))))),0,METHANE!$J37*(IF('USER INPUTS'!$B$30=\"Total landfill gas\",(1/($D$5/100)),IF('USER INPUTS'!$B$30=\"Methane\",1,IF('USER INPUTS'!$B$30=\"Carbon dioxide\",((1/($D$5/100))-1),(VLOOKUP('USER INPUTS'!$B$30,DEFAULTS!$E$8:$F$69,2,FALSE))/10^6*(1/($D$5/100)))))))","v":0},{"$f":"IF(Q$8=\"(short tons/year)\",(O23*DEFAULTS!$B$55*DEFAULTS!$B$53/DEFAULTS!$B$54),IF(Q$8=\"(ft^3/year)\",(P23*DEFAULTS!$B$57),IF(Q$8=\"(av ft^3/min)\",(P23*DEFAULTS!$B$57/DEFAULTS!$B$58),0)))","v":0}]
[{"$f":"METHANE!I38","v":15},{"$f":"IF(METHANE!E38>0,METHANE!E38,0)","v":0},{"$f":"IF(METHANE!E38>0,METHANE!E38*DEFAULTS!$B$55*DEFAULTS!$B$53/DEFAULTS!$B$54,0)","v":0},{"$f":"IF(METHANE!F38>0,METHANE!F38,0)","v":0},{"$f":"IF(METHANE!F38>0,METHANE!F38*DEFAULTS!$B$55*DEFAULTS!$B$53/DEFAULTS!$B$54,0)","v":0},{"$f":"IF(ISERROR(METHANE!$J38*DEFAULTS!$B$81*(IF('USER INPUTS'!$B$24=\"Total landfill gas\",(1/($D$5/100)),IF('USER INPUTS'!$B$24=\"Methane\",1,IF('USER INPUTS'!$B$24=\"Carbon dioxide\",((1/($D$5/100))-1),(VLOOKUP('USER INPUTS'!$B$24,DEFAULTS!$E$8:$F$69,2,FALSE))/10^6*(1/($D$5/100))))))),0,METHANE!$J38*DEFAULTS!$B$81*(IF('USER INPUTS'!$B$24=\"Total landfill gas\",(1/($D$5/100)),IF('USER INPUTS'!$B$24=\"Methane\",1,IF('USER INPUTS'!$B$24=\"Carbon dioxide\",((1/($D$5/100))-1),(VLOOKUP('USER INPUTS'!$B$24,DEFAULTS!$E$8:$F$69,2,FALSE))/10^6*(1/($D$5/100)))))))","v":0},{"$f":"IF(ISERROR(METHANE!$J38*(IF('USER INPUTS'!$B$24=\"Total landfill gas\",(1/($D$5/100)),IF('USER INPUTS'!$B$24=\"Methane\",1,IF('USER INPUTS'!$B$24=\"Carbon dioxide\",((1/($D$5/100))-1),(VLOOKUP('USER INPUTS'!$B$24,DEFAULTS!$E$8:$F$69,2,FALSE))/10^6*(1/($D$5/100))))))),0,METHANE!$J38*(IF('USER INPUTS'!$B$24=\"Total landfill gas\",(1/($D$5/100)),IF('USER INPUTS'!$B$24=\"Methane\",1,IF('USER INPUTS'!$B$24=\"Carbon dioxide\",((1/($D$5/100))-1),(VLOOKUP('USER INPUTS'!$B$24,DEFAULTS!$E$8:$F$69,2,FALSE))/10^6*(1/($D$5/100)))))))","v":0},{"$f":"IF(H$8=\"(short tons/year)\",(F24*DEFAULTS!$B$55*DEFAULTS!$B$53/DEFAULTS!$B$54),IF(H$8=\"(ft^3/year)\",(G24*DEFAULTS!$B$57),IF(H$8=\"(av ft^3/min)\",(G24*DEFAULTS!$B$57/DEFAULTS!$B$58),0)))","v":0},{"$f":"IF(ISERROR(METHANE!$J38*DEFAULTS!$B$82*(IF('USER INPUTS'!$B$26=\"Total landfill gas\",(1/($D$5/100)),IF('USER INPUTS'!$B$26=\"Methane\",1,IF('USER INPUTS'!$B$26=\"Carbon dioxide\",((1/($D$5/100))-1),(VLOOKUP('USER INPUTS'!$B$26,DEFAULTS!$E$8:$F$69,2,FALSE))/10^6*(1/($D$5/100))))))),0,METHANE!$J38*DEFAULTS!$B$82*(IF('USER INPUTS'!$B$26=\"Total landfill gas\",(1/($D$5/100)),IF('USER INPUTS'!$B$26=\"Methane\",1,IF('USER INPUTS'!$B$26=\"Carbon dioxide\",((1/($D$5/100))-1),(VLOOKUP('USER INPUTS'!$B$26,DEFAULTS!$E$8:$F$69,2,FALSE))/10^6*(1/($D$5/100)))))))","v":0},{"$f":"IF(ISERROR(METHANE!$J38*(IF('USER INPUTS'!$B$26=\"Total landfill gas\",(1/($D$5/100)),IF('USER INPUTS'!$B$26=\"Methane\",1,IF('USER INPUTS'!$B$26=\"Carbon dioxide\",((1/($D$5/100))-1),(VLOOKUP('USER INPUTS'!$B$26,DEFAULTS!$E$8:$F$69,2,FALSE))/10^6*(1/($D$5/100))))))),0,METHANE!$J38*(IF('USER INPUTS'!$B$26=\"Total landfill gas\",(1/($D$5/100)),IF('USER INPUTS'!$B$26=\"Methane\",1,IF('USER INPUTS'!$B$26=\"Carbon dioxide\",((1/($D$5/100))-1),(VLOOKUP('USER INPUTS'!$B$26,DEFAULTS!$E$8:$F$69,2,FALSE))/10^6*(1/($D$5/100)))))))","v":0},{"$f":"IF(K$8=\"(short tons/year)\",(I24*DEFAULTS!$B$55*DEFAULTS!$B$53/DEFAULTS!$B$54),IF(K$8=\"(ft^3/year)\",(J24*DEFAULTS!$B$57),IF(K$8=\"(av ft^3/min)\",(J24*DEFAULTS!$B$57/DEFAULTS!$B$58),0)))","v":0},{"$f":"IF(ISERROR(METHANE!$J38*DEFAULTS!$B$83*(IF('USER INPUTS'!$B$28=\"Total landfill gas\",(1/($D$5/100)),IF('USER INPUTS'!$B$28=\"Methane\",1,IF('USER INPUTS'!$B$28=\"Carbon dioxide\",((1/($D$5/100))-1),(VLOOKUP('USER INPUTS'!$B$28,DEFAULTS!$E$8:$F$69,2,FALSE))/10^6*(1/($D$5/100))))))),0,METHANE!$J38*DEFAULTS!$B$83*(IF('USER INPUTS'!$B$28=\"Total landfill gas\",(1/($D$5/100)),IF('USER INPUTS'!$B$28=\"Methane\",1,IF('USER INPUTS'!$B$28=\"Carbon dioxide\",((1/($D$5/100))-1),(VLOOKUP('USER INPUTS'!$B$28,DEFAULTS!$E$8:$F$69,2,FALSE))/10^6*(1/($D$5/100)))))))","v":0},{"$f":"IF(ISERROR(METHANE!$J38*(IF('USER INPUTS'!$B$28=\"Total landfill gas\",(1/($D$5/100)),IF('USER INPUTS'!$B$28=\"Methane\",1,IF('USER INPUTS'!$B$28=\"Carbon dioxide\",((1/($D$5/100))-1),(VLOOKUP('USER INPUTS'!$B$28,DEFAULTS!$E$8:$F$69,2,FALSE))/10^6*(1/($D$5/100))))))),0,METHANE!$J38*(IF('USER INPUTS'!$B$28=\"Total landfill gas\",(1/($D$5/100)),IF('USER INPUTS'!$B$28=\"Methane\",1,IF('USER INPUTS'!$B$28=\"Carbon dioxide\",((1/($D$5/100))-1),(VLOOKUP('USER INPUTS'!$B$28,DEFAULTS!$E$8:$F$69,2,FALSE))/10^6*(1/($D$5/100)))))))","v":0},{"$f":"IF(N$8=\"(short tons/year)\",(L24*DEFAULTS!$B$55*DEFAULTS!$B$53/DEFAULTS!$B$54),IF(N$8=\"(ft^3/year)\",(M24*DEFAULTS!$B$57),IF(N$8=\"(av ft^3/min)\",(M24*DEFAULTS!$B$57/DEFAULTS!$B$58),0)))","v":0},{"$f":"IF(ISERROR(METHANE!$J38*DEFAULTS!$B$84*(IF('USER INPUTS'!$B$30=\"Total landfill gas\",(1/($D$5/100)),IF('USER INPUTS'!$B$30=\"Methane\",1,IF('USER INPUTS'!$B$30=\"Carbon dioxide\",((1/($D$5/100))-1),(VLOOKUP('USER INPUTS'!$B$30,DEFAULTS!$E$8:$F$69,2,FALSE))/10^6*(1/($D$5/100))))))),0,METHANE!$J38*DEFAULTS!$B$84*(IF('USER INPUTS'!$B$30=\"Total landfill gas\",(1/($D$5/100)),IF('USER INPUTS'!$B$30=\"Methane\",1,IF('USER INPUTS'!$B$30=\"Carbon dioxide\",((1/($D$5/100))-1),(VLOOKUP('USER INPUTS'!$B$30,DEFAULTS!$E$8:$F$69,2,FALSE))/10^6*(1/($D$5/100)))))))","v":0},{"$f":"IF(ISERROR(METHANE!$J38*(IF('USER INPUTS'!$B$30=\"Total landfill gas\",(1/($D$5/100)),IF('USER INPUTS'!$B$30=\"Methane\",1,IF('USER INPUTS'!$B$30=\"Carbon dioxide\",((1/($D$5/100))-1),(VLOOKUP('USER INPUTS'!$B$30,DEFAULTS!$E$8:$F$69,2,FALSE))/10^6*(1/($D$5/100))))))),0,METHANE!$J38*(IF('USER INPUTS'!$B$30=\"Total landfill gas\",(1/($D$5/100)),IF('USER INPUTS'!$B$30=\"Methane\",1,IF('USER INPUTS'!$B$30=\"Carbon dioxide\",((1/($D$5/100))-1),(VLOOKUP('USER INPUTS'!$B$30,DEFAULTS!$E$8:$F$69,2,FALSE))/10^6*(1/($D$5/100)))))))","v":0},{"$f":"IF(Q$8=\"(short tons/year)\",(O24*DEFAULTS!$B$55*DEFAULTS!$B$53/DEFAULTS!$B$54),IF(Q$8=\"(ft^3/year)\",(P24*DEFAULTS!$B$57),IF(Q$8=\"(av ft^3/min)\",(P24*DEFAULTS!$B$57/DEFAULTS!$B$58),0)))","v":0}]
[{"$f":"METHANE!I39","v":16},{"$f":"IF(METHANE!E39>0,METHANE!E39,0)","v":0},{"$f":"IF(METHANE!E39>0,METHANE!E39*DEFAULTS!$B$55*DEFAULTS!$B$53/DEFAULTS!$B$54,0)","v":0},{"$f":"IF(METHANE!F39>0,METHANE!F39,0)","v":0},{"$f":"IF(METHANE!F39>0,METHANE!F39*DEFAULTS!$B$55*DEFAULTS!$B$53/DEFAULTS!$B$54,0)","v":0},{"$f":"IF(ISERROR(METHANE!$J39*DEFAULTS!$B$81*(IF('USER INPUTS'!$B$24=\"Total landfill gas\",(1/($D$5/100)),IF('USER INPUTS'!$B$24=\"Methane\",1,IF('USER INPUTS'!$B$24=\"Carbon dioxide\",((1/($D$5/100))-1),(VLOOKUP('USER INPUTS'!$B$24,DEFAULTS!$E$8:$F$69,2,FALSE))/10^6*(1/($D$5/100))))))),0,METHANE!$J39*DEFAULTS!$B$81*(IF('USER INPUTS'!$B$24=\"Total landfill gas\",(1/($D$5/100)),IF('USER INPUTS'!$B$24=\"Methane\",1,IF('USER INPUTS'!$B$24=\"Carbon dioxide\",((1/($D$5/100))-1),(VLOOKUP('USER INPUTS'!$B$24,DEFAULTS!$E$8:$F$69,2,FALSE))/10^6*(1/($D$5/100)))))))","v":0},{"$f":"IF(ISERROR(METHANE!$J39*(IF('USER INPUTS'!$B$24=\"Total landfill gas\",(1/($D$5/100)),IF('USER INPUTS'!$B$24=\"Methane\",1,IF('USER INPUTS'!$B$24=\"Carbon dioxide\",((1/($D$5/100))-1),(VLOOKUP('USER INPUTS'!$B$24,DEFAULTS!$E$8:$F$69,2,FALSE))/10^6*(1/($D$5/100))))))),0,METHANE!$J39*(IF('USER INPUTS'!$B$24=\"Total landfill gas\",(1/($D$5/100)),IF('USER INPUTS'!$B$24=\"Methane\",1,IF('USER INPUTS'!$B$24=\"Carbon dioxide\",((1/($D$5/100))-1),(VLOOKUP('USER INPUTS'!$B$24,DEFAULTS!$E$8:$F$69,2,FALSE))/10^6*(1/($D$5/100)))))))","v":0},{"$f":"IF(H$8=\"(short tons/year)\",(F25*DEFAULTS!$B$55*DEFAULTS!$B$53/DEFAULTS!$B$54),IF(H$8=\"(ft^3/year)\",(G25*DEFAULTS!$B$57),IF(H$8=\"(av ft^3/min)\",(G25*DEFAULTS!$B$57/DEFAULTS!$B$58),0)))","v":0},{"$f":"IF(ISERROR(METHANE!$J39*DEFAULTS!$B$82*(IF('USER INPUTS'!$B$26=\"Total landfill gas\",(1/($D$5/100)),IF('USER INPUTS'!$B$26=\"Methane\",1,IF('USER INPUTS'!$B$26=\"Carbon dioxide\",((1/($D$5/100))-1),(VLOOKUP('USER INPUTS'!$B$26,DEFAULTS!$E$8:$F$69,2,FALSE))/10^6*(1/($D$5/100))))))),0,METHANE!$J39*DEFAULTS!$B$82*(IF('USER INPUTS'!$B$26=\"Total landfill gas\",(1/($D$5/100)),IF('USER INPUTS'!$B$26=\"Methane\",1,IF('USER INPUTS'!$B$26=\"Carbon dioxide\",((1/($D$5/100))-1),(VLOOKUP('USER INPUTS'!$B$26,DEFAULTS!$E$8:$F$69,2,FALSE))/10^6*(1/($D$5/100)))))))","v":0},{"$f":"IF(ISERROR(METHANE!$J39*(IF('USER INPUTS'!$B$26=\"Total landfill gas\",(1/($D$5/100)),IF('USER INPUTS'!$B$26=\"Methane\",1,IF('USER INPUTS'!$B$26=\"Carbon dioxide\",((1/($D$5/100))-1),(VLOOKUP('USER INPUTS'!$B$26,DEFAULTS!$E$8:$F$69,2,FALSE))/10^6*(1/($D$5/100))))))),0,METHANE!$J39*(IF('USER INPUTS'!$B$26=\"Total landfill gas\",(1/($D$5/100)),IF('USER INPUTS'!$B$26=\"Methane\",1,IF('USER INPUTS'!$B$26=\"Carbon dioxide\",((1/($D$5/100))-1),(VLOOKUP('USER INPUTS'!$B$26,DEFAULTS!$E$8:$F$69,2,FALSE))/10^6*(1/($D$5/100)))))))","v":0},{"$f":"IF(K$8=\"(short tons/year)\",(I25*DEFAULTS!$B$55*DEFAULTS!$B$53/DEFAULTS!$B$54),IF(K$8=\"(ft^3/year)\",(J25*DEFAULTS!$B$57),IF(K$8=\"(av ft^3/min)\",(J25*DEFAULTS!$B$57/DEFAULTS!$B$58),0)))","v":0},{"$f":"IF(ISERROR(METHANE!$J39*DEFAULTS!$B$83*(IF('USER INPUTS'!$B$28=\"Total landfill gas\",(1/($D$5/100)),IF('USER INPUTS'!$B$28=\"Methane\",1,IF('USER INPUTS'!$B$28=\"Carbon dioxide\",((1/($D$5/100))-1),(VLOOKUP('USER INPUTS'!$B$28,DEFAULTS!$E$8:$F$69,2,FALSE))/10^6*(1/($D$5/100))))))),0,METHANE!$J39*DEFAULTS!$B$83*(IF('USER INPUTS'!$B$28=\"Total landfill gas\",(1/($D$5/100)),IF('USER INPUTS'!$B$28=\"Methane\",1,IF('USER INPUTS'!$B$28=\"Carbon dioxide\",((1/($D$5/100))-1),(VLOOKUP('USER INPUTS'!$B$28,DEFAULTS!$E$8:$F$69,2,FALSE))/10^6*(1/($D$5/100)))))))","v":0},{"$f":"IF(ISERROR(METHANE!$J39*(IF('USER INPUTS'!$B$28=\"Total landfill gas\",(1/($D$5/100)),IF('USER INPUTS'!$B$28=\"Methane\",1,IF('USER INPUTS'!$B$28=\"Carbon dioxide\",((1/($D$5/100))-1),(VLOOKUP('USER INPUTS'!$B$28,DEFAULTS!$E$8:$F$69,2,FALSE))/10^6*(1/($D$5/100))))))),0,METHANE!$J39*(IF('USER INPUTS'!$B$28=\"Total landfill gas\",(1/($D$5/100)),IF('USER INPUTS'!$B$28=\"Methane\",1,IF('USER INPUTS'!$B$28=\"Carbon dioxide\",((1/($D$5/100))-1),(VLOOKUP('USER INPUTS'!$B$28,DEFAULTS!$E$8:$F$69,2,FALSE))/10^6*(1/($D$5/100)))))))","v":0},{"$f":"IF(N$8=\"(short tons/year)\",(L25*DEFAULTS!$B$55*DEFAULTS!$B$53/DEFAULTS!$B$54),IF(N$8=\"(ft^3/year)\",(M25*DEFAULTS!$B$57),IF(N$8=\"(av ft^3/min)\",(M25*DEFAULTS!$B$57/DEFAULTS!$B$58),0)))","v":0},{"$f":"IF(ISERROR(METHANE!$J39*DEFAULTS!$B$84*(IF('USER INPUTS'!$B$30=\"Total landfill gas\",(1/($D$5/100)),IF('USER INPUTS'!$B$30=\"Methane\",1,IF('USER INPUTS'!$B$30=\"Carbon dioxide\",((1/($D$5/100))-1),(VLOOKUP('USER INPUTS'!$B$30,DEFAULTS!$E$8:$F$69,2,FALSE))/10^6*(1/($D$5/100))))))),0,METHANE!$J39*DEFAULTS!$B$84*(IF('USER INPUTS'!$B$30=\"Total landfill gas\",(1/($D$5/100)),IF('USER INPUTS'!$B$30=\"Methane\",1,IF('USER INPUTS'!$B$30=\"Carbon dioxide\",((1/($D$5/100))-1),(VLOOKUP('USER INPUTS'!$B$30,DEFAULTS!$E$8:$F$69,2,FALSE))/10^6*(1/($D$5/100)))))))","v":0},{"$f":"IF(ISERROR(METHANE!$J39*(IF('USER INPUTS'!$B$30=\"Total landfill gas\",(1/($D$5/100)),IF('USER INPUTS'!$B$30=\"Methane\",1,IF('USER INPUTS'!$B$30=\"Carbon dioxide\",((1/($D$5/100))-1),(VLOOKUP('USER INPUTS'!$B$30,DEFAULTS!$E$8:$F$69,2,FALSE))/10^6*(1/($D$5/100))))))),0,METHANE!$J39*(IF('USER INPUTS'!$B$30=\"Total landfill gas\",(1/($D$5/100)),IF('USER INPUTS'!$B$30=\"Methane\",1,IF('USER INPUTS'!$B$30=\"Carbon dioxide\",((1/($D$5/100))-1),(VLOOKUP('USER INPUTS'!$B$30,DEFAULTS!$E$8:$F$69,2,FALSE))/10^6*(1/($D$5/100)))))))","v":0},{"$f":"IF(Q$8=\"(short tons/year)\",(O25*DEFAULTS!$B$55*DEFAULTS!$B$53/DEFAULTS!$B$54),IF(Q$8=\"(ft^3/year)\",(P25*DEFAULTS!$B$57),IF(Q$8=\"(av ft^3/min)\",(P25*DEFAULTS!$B$57/DEFAULTS!$B$58),0)))","v":0}]
[{"$f":"METHANE!I40","v":17},{"$f":"IF(METHANE!E40>0,METHANE!E40,0)","v":0},{"$f":"IF(METHANE!E40>0,METHANE!E40*DEFAULTS!$B$55*DEFAULTS!$B$53/DEFAULTS!$B$54,0)","v":0},{"$f":"IF(METHANE!F40>0,METHANE!F40,0)","v":0},{"$f":"IF(METHANE!F40>0,METHANE!F40*DEFAULTS!$B$55*DEFAULTS!$B$53/DEFAULTS!$B$54,0)","v":0},{"$f":"IF(ISERROR(METHANE!$J40*DEFAULTS!$B$81*(IF('USER INPUTS'!$B$24=\"Total landfill gas\",(1/($D$5/100)),IF('USER INPUTS'!$B$24=\"Methane\",1,IF('USER INPUTS'!$B$24=\"Carbon dioxide\",((1/($D$5/100))-1),(VLOOKUP('USER INPUTS'!$B$24,DEFAULTS!$E$8:$F$69,2,FALSE))/10^6*(1/($D$5/100))))))),0,METHANE!$J40*DEFAULTS!$B$81*(IF('USER INPUTS'!$B$24=\"Total landfill gas\",(1/($D$5/100)),IF('USER INPUTS'!$B$24=\"Methane\",1,IF('USER INPUTS'!$B$24=\"Carbon dioxide\",((1/($D$5/100))-1),(VLOOKUP('USER INPUTS'!$B$24,DEFAULTS!$E$8:$F$69,2,FALSE))/10^6*(1/($D$5/100)))))))","v":0},{"$f":"IF(ISERROR(METHANE!$J40*(IF('USER INPUTS'!$B$24=\"Total landfill gas\",(1/($D$5/100)),IF('USER INPUTS'!$B$24=\"Methane\",1,IF('USER INPUTS'!$B$24=\"Carbon dioxide\",((1/($D$5/100))-1),(VLOOKUP('USER INPUTS'!$B$24,DEFAULTS!$E$8:$F$69,2,FALSE))/10^6*(1/($D$5/100))))))),0,METHANE!$J40*(IF('USER INPUTS'!$B$24=\"Total landfill gas\",(1/($D$5/100)),IF('USER INPUTS'!$B$24=\"Methane\",1,IF('USER INPUTS'!$B$24=\"Carbon dioxide\",((1/($D$5/100))-1),(VLOOKUP('USER INPUTS'!$B$24,DEFAULTS!$E$8:$F$69,2,FALSE))/10^6*(1/($D$5/100)))))))","v":0},{"$f":"IF(H$8=\"(short tons/year)\",(F26*DEFAULTS!$B$55*DEFAULTS!$B$53/DEFAULTS!$B$54),IF(H$8=\"(ft^3/year)\",(G26*DEFAULTS!$B$57),IF(H$8=\"(av ft^3/min)\",(G26*DEFAULTS!$B$57/DEFAULTS!$B$58),0)))","v":0},{"$f":"IF(ISERROR(METHANE!$J40*DEFAULTS!$B$82*(IF('USER INPUTS'!$B$26=\"Total landfill gas\",(1/($D$5/100)),IF('USER INPUTS'!$B$26=\"Methane\",1,IF('USER INPUTS'!$B$26=\"Carbon dioxide\",((1/($D$5/100))-1),(VLOOKUP('USER INPUTS'!$B$26,DEFAULTS!$E$8:$F$69,2,FALSE))/10^6*(1/($D$5/100))))))),0,METHANE!$J40*DEFAULTS!$B$82*(IF('USER INPUTS'!$B$26=\"Total landfill gas\",(1/($D$5/100)),IF('USER INPUTS'!$B$26=\"Methane\",1,IF('USER INPUTS'!$B$26=\"Carbon dioxide\",((1/($D$5/100))-1),(VLOOKUP('USER INPUTS'!$B$26,DEFAULTS!$E$8:$F$69,2,FALSE))/10^6*(1/($D$5/100)))))))","v":0},{"$f":"IF(ISERROR(METHANE!$J40*(IF('USER INPUTS'!$B$26=\"Total landfill gas\",(1/($D$5/100)),IF('USER INPUTS'!$B$26=\"Methane\",1,IF('USER INPUTS'!$B$26=\"Carbon dioxide\",((1/($D$5/100))-1),(VLOOKUP('USER INPUTS'!$B$26,DEFAULTS!$E$8:$F$69,2,FALSE))/10^6*(1/($D$5/100))))))),0,METHANE!$J40*(IF('USER INPUTS'!$B$26=\"Total landfill gas\",(1/($D$5/100)),IF('USER INPUTS'!$B$26=\"Methane\",1,IF('USER INPUTS'!$B$26=\"Carbon dioxide\",((1/($D$5/100))-1),(VLOOKUP('USER INPUTS'!$B$26,DEFAULTS!$E$8:$F$69,2,FALSE))/10^6*(1/($D$5/100)))))))","v":0},{"$f":"IF(K$8=\"(short tons/year)\",(I26*DEFAULTS!$B$55*DEFAULTS!$B$53/DEFAULTS!$B$54),IF(K$8=\"(ft^3/year)\",(J26*DEFAULTS!$B$57),IF(K$8=\"(av ft^3/min)\",(J26*DEFAULTS!$B$57/DEFAULTS!$B$58),0)))","v":0},{"$f":"IF(ISERROR(METHANE!$J40*DEFAULTS!$B$83*(IF('USER INPUTS'!$B$28=\"Total landfill gas\",(1/($D$5/100)),IF('USER INPUTS'!$B$28=\"Methane\",1,IF('USER INPUTS'!$B$28=\"Carbon dioxide\",((1/($D$5/100))-1),(VLOOKUP('USER INPUTS'!$B$28,DEFAULTS!$E$8:$F$69,2,FALSE))/10^6*(1/($D$5/100))))))),0,METHANE!$J40*DEFAULTS!$B$83*(IF('USER INPUTS'!$B$28=\"Total landfill gas\",(1/($D$5/100)),IF('USER INPUTS'!$B$28=\"Methane\",1,IF('USER INPUTS'!$B$28=\"Carbon dioxide\",((1/($D$5/100))-1),(VLOOKUP('USER INPUTS'!$B$28,DEFAULTS!$E$8:$F$69,2,FALSE))/10^6*(1/($D$5/100)))))))","v":0},{"$f":"IF(ISERROR(METHANE!$J40*(IF('USER INPUTS'!$B$28=\"Total landfill gas\",(1/($D$5/100)),IF('USER INPUTS'!$B$28=\"Methane\",1,IF('USER INPUTS'!$B$28=\"Carbon dioxide\",((1/($D$5/100))-1),(VLOOKUP('USER INPUTS'!$B$28,DEFAULTS!$E$8:$F$69,2,FALSE))/10^6*(1/($D$5/100))))))),0,METHANE!$J40*(IF('USER INPUTS'!$B$28=\"Total landfill gas\",(1/($D$5/100)),IF('USER INPUTS'!$B$28=\"Methane\",1,IF('USER INPUTS'!$B$28=\"Carbon dioxide\",((1/($D$5/100))-1),(VLOOKUP('USER INPUTS'!$B$28,DEFAULTS!$E$8:$F$69,2,FALSE))/10^6*(1/($D$5/100)))))))","v":0},{"$f":"IF(N$8=\"(short tons/year)\",(L26*DEFAULTS!$B$55*DEFAULTS!$B$53/DEFAULTS!$B$54),IF(N$8=\"(ft^3/year)\",(M26*DEFAULTS!$B$57),IF(N$8=\"(av ft^3/min)\",(M26*DEFAULTS!$B$57/DEFAULTS!$B$58),0)))","v":0},{"$f":"IF(ISERROR(METHANE!$J40*DEFAULTS!$B$84*(IF('USER INPUTS'!$B$30=\"Total landfill gas\",(1/($D$5/100)),IF('USER INPUTS'!$B$30=\"Methane\",1,IF('USER INPUTS'!$B$30=\"Carbon dioxide\",((1/($D$5/100))-1),(VLOOKUP('USER INPUTS'!$B$30,DEFAULTS!$E$8:$F$69,2,FALSE))/10^6*(1/($D$5/100))))))),0,METHANE!$J40*DEFAULTS!$B$84*(IF('USER INPUTS'!$B$30=\"Total landfill gas\",(1/($D$5/100)),IF('USER INPUTS'!$B$30=\"Methane\",1,IF('USER INPUTS'!$B$30=\"Carbon dioxide\",((1/($D$5/100))-1),(VLOOKUP('USER INPUTS'!$B$30,DEFAULTS!$E$8:$F$69,2,FALSE))/10^6*(1/($D$5/100)))))))","v":0},{"$f":"IF(ISERROR(METHANE!$J40*(IF('USER INPUTS'!$B$30=\"Total landfill gas\",(1/($D$5/100)),IF('USER INPUTS'!$B$30=\"Methane\",1,IF('USER INPUTS'!$B$30=\"Carbon dioxide\",((1/($D$5/100))-1),(VLOOKUP('USER INPUTS'!$B$30,DEFAULTS!$E$8:$F$69,2,FALSE))/10^6*(1/($D$5/100))))))),0,METHANE!$J40*(IF('USER INPUTS'!$B$30=\"Total landfill gas\",(1/($D$5/100)),IF('USER INPUTS'!$B$30=\"Methane\",1,IF('USER INPUTS'!$B$30=\"Carbon dioxide\",((1/($D$5/100))-1),(VLOOKUP('USER INPUTS'!$B$30,DEFAULTS!$E$8:$F$69,2,FALSE))/10^6*(1/($D$5/100)))))))","v":0},{"$f":"IF(Q$8=\"(short tons/year)\",(O26*DEFAULTS!$B$55*DEFAULTS!$B$53/DEFAULTS!$B$54),IF(Q$8=\"(ft^3/year)\",(P26*DEFAULTS!$B$57),IF(Q$8=\"(av ft^3/min)\",(P26*DEFAULTS!$B$57/DEFAULTS!$B$58),0)))","v":0}]
[{"$f":"METHANE!I41","v":18},{"$f":"IF(METHANE!E41>0,METHANE!E41,0)","v":0},{"$f":"IF(METHANE!E41>0,METHANE!E41*DEFAULTS!$B$55*DEFAULTS!$B$53/DEFAULTS!$B$54,0)","v":0},{"$f":"IF(METHANE!F41>0,METHANE!F41,0)","v":0},{"$f":"IF(METHANE!F41>0,METHANE!F41*DEFAULTS!$B$55*DEFAULTS!$B$53/DEFAULTS!$B$54,0)","v":0},{"$f":"IF(ISERROR(METHANE!$J41*DEFAULTS!$B$81*(IF('USER INPUTS'!$B$24=\"Total landfill gas\",(1/($D$5/100)),IF('USER INPUTS'!$B$24=\"Methane\",1,IF('USER INPUTS'!$B$24=\"Carbon dioxide\",((1/($D$5/100))-1),(VLOOKUP('USER INPUTS'!$B$24,DEFAULTS!$E$8:$F$69,2,FALSE))/10^6*(1/($D$5/100))))))),0,METHANE!$J41*DEFAULTS!$B$81*(IF('USER INPUTS'!$B$24=\"Total landfill gas\",(1/($D$5/100)),IF('USER INPUTS'!$B$24=\"Methane\",1,IF('USER INPUTS'!$B$24=\"Carbon dioxide\",((1/($D$5/100))-1),(VLOOKUP('USER INPUTS'!$B$24,DEFAULTS!$E$8:$F$69,2,FALSE))/10^6*(1/($D$5/100)))))))","v":0},{"$f":"IF(ISERROR(METHANE!$J41*(IF('USER INPUTS'!$B$24=\"Total landfill gas\",(1/($D$5/100)),IF('USER INPUTS'!$B$24=\"Methane\",1,IF('USER INPUTS'!$B$24=\"Carbon dioxide\",((1/($D$5/100))-1),(VLOOKUP('USER INPUTS'!$B$24,DEFAULTS!$E$8:$F$69,2,FALSE))/10^6*(1/($D$5/100))))))),0,METHANE!$J41*(IF('USER INPUTS'!$B$24=\"Total landfill gas\",(1/($D$5/100)),IF('USER INPUTS'!$B$24=\"Methane\",1,IF('USER INPUTS'!$B$24=\"Carbon dioxide\",((1/($D$5/100))-1),(VLOOKUP('USER INPUTS'!$B$24,DEFAULTS!$E$8:$F$69,2,FALSE))/10^6*(1/($D$5/100)))))))","v":0},{"$f":"IF(H$8=\"(short tons/year)\",(F27*DEFAULTS!$B$55*DEFAULTS!$B$53/DEFAULTS!$B$54),IF(H$8=\"(ft^3/year)\",(G27*DEFAULTS!$B$57),IF(H$8=\"(av ft^3/min)\",(G27*DEFAULTS!$B$57/DEFAULTS!$B$58),0)))","v":0},{"$f":"IF(ISERROR(METHANE!$J41*DEFAULTS!$B$82*(IF('USER INPUTS'!$B$26=\"Total landfill gas\",(1/($D$5/100)),IF('USER INPUTS'!$B$26=\"Methane\",1,IF('USER INPUTS'!$B$26=\"Carbon dioxide\",((1/($D$5/100))-1),(VLOOKUP('USER INPUTS'!$B$26,DEFAULTS!$E$8:$F$69,2,FALSE))/10^6*(1/($D$5/100))))))),0,METHANE!$J41*DEFAULTS!$B$82*(IF('USER INPUTS'!$B$26=\"Total landfill gas\",(1/($D$5/100)),IF('USER INPUTS'!$B$26=\"Methane\",1,IF('USER INPUTS'!$B$26=\"Carbon dioxide\",((1/($D$5/100))-1),(VLOOKUP('USER INPUTS'!$B$26,DEFAULTS!$E$8:$F$69,2,FALSE))/10^6*(1/($D$5/100)))))))","v":0},{"$f":"IF(ISERROR(METHANE!$J41*(IF('USER INPUTS'!$B$26=\"Total landfill gas\",(1/($D$5/100)),IF('USER INPUTS'!$B$26=\"Methane\",1,IF('USER INPUTS'!$B$26=\"Carbon dioxide\",((1/($D$5/100))-1),(VLOOKUP('USER INPUTS'!$B$26,DEFAULTS!$E$8:$F$69,2,FALSE))/10^6*(1/($D$5/100))))))),0,METHANE!$J41*(IF('USER INPUTS'!$B$26=\"Total landfill gas\",(1/($D$5/100)),IF('USER INPUTS'!$B$26=\"Methane\",1,IF('USER INPUTS'!$B$26=\"Carbon dioxide\",((1/($D$5/100))-1),(VLOOKUP('USER INPUTS'!$B$26,DEFAULTS!$E$8:$F$69,2,FALSE))/10^6*(1/($D$5/100)))))))","v":0},{"$f":"IF(K$8=\"(short tons/year)\",(I27*DEFAULTS!$B$55*DEFAULTS!$B$53/DEFAULTS!$B$54),IF(K$8=\"(ft^3/year)\",(J27*DEFAULTS!$B$57),IF(K$8=\"(av ft^3/min)\",(J27*DEFAULTS!$B$57/DEFAULTS!$B$58),0)))","v":0},{"$f":"IF(ISERROR(METHANE!$J41*DEFAULTS!$B$83*(IF('USER INPUTS'!$B$28=\"Total landfill gas\",(1/($D$5/100)),IF('USER INPUTS'!$B$28=\"Methane\",1,IF('USER INPUTS'!$B$28=\"Carbon dioxide\",((1/($D$5/100))-1),(VLOOKUP('USER INPUTS'!$B$28,DEFAULTS!$E$8:$F$69,2,FALSE))/10^6*(1/($D$5/100))))))),0,METHANE!$J41*DEFAULTS!$B$83*(IF('USER INPUTS'!$B$28=\"Total landfill gas\",(1/($D$5/100)),IF('USER INPUTS'!$B$28=\"Methane\",1,IF('USER INPUTS'!$B$28=\"Carbon dioxide\",((1/($D$5/100))-1),(VLOOKUP('USER INPUTS'!$B$28,DEFAULTS!$E$8:$F$69,2,FALSE))/10^6*(1/($D$5/100)))))))","v":0},{"$f":"IF(ISERROR(METHANE!$J41*(IF('USER INPUTS'!$B$28=\"Total landfill gas\",(1/($D$5/100)),IF('USER INPUTS'!$B$28=\"Methane\",1,IF('USER INPUTS'!$B$28=\"Carbon dioxide\",((1/($D$5/100))-1),(VLOOKUP('USER INPUTS'!$B$28,DEFAULTS!$E$8:$F$69,2,FALSE))/10^6*(1/($D$5/100))))))),0,METHANE!$J41*(IF('USER INPUTS'!$B$28=\"Total landfill gas\",(1/($D$5/100)),IF('USER INPUTS'!$B$28=\"Methane\",1,IF('USER INPUTS'!$B$28=\"Carbon dioxide\",((1/($D$5/100))-1),(VLOOKUP('USER INPUTS'!$B$28,DEFAULTS!$E$8:$F$69,2,FALSE))/10^6*(1/($D$5/100)))))))","v":0},{"$f":"IF(N$8=\"(short tons/year)\",(L27*DEFAULTS!$B$55*DEFAULTS!$B$53/DEFAULTS!$B$54),IF(N$8=\"(ft^3/year)\",(M27*DEFAULTS!$B$57),IF(N$8=\"(av ft^3/min)\",(M27*DEFAULTS!$B$57/DEFAULTS!$B$58),0)))","v":0},{"$f":"IF(ISERROR(METHANE!$J41*DEFAULTS!$B$84*(IF('USER INPUTS'!$B$30=\"Total landfill gas\",(1/($D$5/100)),IF('USER INPUTS'!$B$30=\"Methane\",1,IF('USER INPUTS'!$B$30=\"Carbon dioxide\",((1/($D$5/100))-1),(VLOOKUP('USER INPUTS'!$B$30,DEFAULTS!$E$8:$F$69,2,FALSE))/10^6*(1/($D$5/100))))))),0,METHANE!$J41*DEFAULTS!$B$84*(IF('USER INPUTS'!$B$30=\"Total landfill gas\",(1/($D$5/100)),IF('USER INPUTS'!$B$30=\"Methane\",1,IF('USER INPUTS'!$B$30=\"Carbon dioxide\",((1/($D$5/100))-1),(VLOOKUP('USER INPUTS'!$B$30,DEFAULTS!$E$8:$F$69,2,FALSE))/10^6*(1/($D$5/100)))))))","v":0},{"$f":"IF(ISERROR(METHANE!$J41*(IF('USER INPUTS'!$B$30=\"Total landfill gas\",(1/($D$5/100)),IF('USER INPUTS'!$B$30=\"Methane\",1,IF('USER INPUTS'!$B$30=\"Carbon dioxide\",((1/($D$5/100))-1),(VLOOKUP('USER INPUTS'!$B$30,DEFAULTS!$E$8:$F$69,2,FALSE))/10^6*(1/($D$5/100))))))),0,METHANE!$J41*(IF('USER INPUTS'!$B$30=\"Total landfill gas\",(1/($D$5/100)),IF('USER INPUTS'!$B$30=\"Methane\",1,IF('USER INPUTS'!$B$30=\"Carbon dioxide\",((1/($D$5/100))-1),(VLOOKUP('USER INPUTS'!$B$30,DEFAULTS!$E$8:$F$69,2,FALSE))/10^6*(1/($D$5/100)))))))","v":0},{"$f":"IF(Q$8=\"(short tons/year)\",(O27*DEFAULTS!$B$55*DEFAULTS!$B$53/DEFAULTS!$B$54),IF(Q$8=\"(ft^3/year)\",(P27*DEFAULTS!$B$57),IF(Q$8=\"(av ft^3/min)\",(P27*DEFAULTS!$B$57/DEFAULTS!$B$58),0)))","v":0}]
[{"$f":"METHANE!I42","v":19},{"$f":"IF(METHANE!E42>0,METHANE!E42,0)","v":0},{"$f":"IF(METHANE!E42>0,METHANE!E42*DEFAULTS!$B$55*DEFAULTS!$B$53/DEFAULTS!$B$54,0)","v":0},{"$f":"IF(METHANE!F42>0,METHANE!F42,0)","v":0},{"$f":"IF(METHANE!F42>0,METHANE!F42*DEFAULTS!$B$55*DEFAULTS!$B$53/DEFAULTS!$B$54,0)","v":0},{"$f":"IF(ISERROR(METHANE!$J42*DEFAULTS!$B$81*(IF('USER INPUTS'!$B$24=\"Total landfill gas\",(1/($D$5/100)),IF('USER INPUTS'!$B$24=\"Methane\",1,IF('USER INPUTS'!$B$24=\"Carbon dioxide\",((1/($D$5/100))-1),(VLOOKUP('USER INPUTS'!$B$24,DEFAULTS!$E$8:$F$69,2,FALSE))/10^6*(1/($D$5/100))))))),0,METHANE!$J42*DEFAULTS!$B$81*(IF('USER INPUTS'!$B$24=\"Total landfill gas\",(1/($D$5/100)),IF('USER INPUTS'!$B$24=\"Methane\",1,IF('USER INPUTS'!$B$24=\"Carbon dioxide\",((1/($D$5/100))-1),(VLOOKUP('USER INPUTS'!$B$24,DEFAULTS!$E$8:$F$69,2,FALSE))/10^6*(1/($D$5/100)))))))","v":0},{"$f":"IF(ISERROR(METHANE!$J42*(IF('USER INPUTS'!$B$24=\"Total landfill gas\",(1/($D$5/100)),IF('USER INPUTS'!$B$24=\"Methane\",1,IF('USER INPUTS'!$B$24=\"Carbon dioxide\",((1/($D$5/100))-1),(VLOOKUP('USER INPUTS'!$B$24,DEFAULTS!$E$8:$F$69,2,FALSE))/10^6*(1/($D$5/100))))))),0,METHANE!$J42*(IF('USER INPUTS'!$B$24=\"Total landfill gas\",(1/($D$5/100)),IF('USER INPUTS'!$B$24=\"Methane\",1,IF('USER INPUTS'!$B$24=\"Carbon dioxide\",((1/($D$5/100))-1),(VLOOKUP('USER INPUTS'!$B$24,DEFAULTS!$E$8:$F$69,2,FALSE))/10^6*(1/($D$5/100)))))))","v":0},{"$f":"IF(H$8=\"(short tons/year)\",(F28*DEFAULTS!$B$55*DEFAULTS!$B$53/DEFAULTS!$B$54),IF(H$8=\"(ft^3/year)\",(G28*DEFAULTS!$B$57),IF(H$8=\"(av ft^3/min)\",(G28*DEFAULTS!$B$57/DEFAULTS!$B$58),0)))","v":0},{"$f":"IF(ISERROR(METHANE!$J42*DEFAULTS!$B$82*(IF('USER INPUTS'!$B$26=\"Total landfill gas\",(1/($D$5/100)),IF('USER INPUTS'!$B$26=\"Methane\",1,IF('USER INPUTS'!$B$26=\"Carbon dioxide\",((1/($D$5/100))-1),(VLOOKUP('USER INPUTS'!$B$26,DEFAULTS!$E$8:$F$69,2,FALSE))/10^6*(1/($D$5/100))))))),0,METHANE!$J42*DEFAULTS!$B$82*(IF('USER INPUTS'!$B$26=\"Total landfill gas\",(1/($D$5/100)),IF('USER INPUTS'!$B$26=\"Methane\",1,IF('USER INPUTS'!$B$26=\"Carbon dioxide\",((1/($D$5/100))-1),(VLOOKUP('USER INPUTS'!$B$26,DEFAULTS!$E$8:$F$69,2,FALSE))/10^6*(1/($D$5/100)))))))","v":0},{"$f":"IF(ISERROR(METHANE!$J42*(IF('USER INPUTS'!$B$26=\"Total landfill gas\",(1/($D$5/100)),IF('USER INPUTS'!$B$26=\"Methane\",1,IF('USER INPUTS'!$B$26=\"Carbon dioxide\",((1/($D$5/100))-1),(VLOOKUP('USER INPUTS'!$B$26,DEFAULTS!$E$8:$F$69,2,FALSE))/10^6*(1/($D$5/100))))))),0,METHANE!$J42*(IF('USER INPUTS'!$B$26=\"Total landfill gas\",(1/($D$5/100)),IF('USER INPUTS'!$B$26=\"Methane\",1,IF('USER INPUTS'!$B$26=\"Carbon dioxide\",((1/($D$5/100))-1),(VLOOKUP('USER INPUTS'!$B$26,DEFAULTS!$E$8:$F$69,2,FALSE))/10^6*(1/($D$5/100)))))))","v":0},{"$f":"IF(K$8=\"(short tons/year)\",(I28*DEFAULTS!$B$55*DEFAULTS!$B$53/DEFAULTS!$B$54),IF(K$8=\"(ft^3/year)\",(J28*DEFAULTS!$B$57),IF(K$8=\"(av ft^3/min)\",(J28*DEFAULTS!$B$57/DEFAULTS!$B$58),0)))","v":0},{"$f":"IF(ISERROR(METHANE!$J42*DEFAULTS!$B$83*(IF('USER INPUTS'!$B$28=\"Total landfill gas\",(1/($D$5/100)),IF('USER INPUTS'!$B$28=\"Methane\",1,IF('USER INPUTS'!$B$28=\"Carbon dioxide\",((1/($D$5/100))-1),(VLOOKUP('USER INPUTS'!$B$28,DEFAULTS!$E$8:$F$69,2,FALSE))/10^6*(1/($D$5/100))))))),0,METHANE!$J42*DEFAULTS!$B$83*(IF('USER INPUTS'!$B$28=\"Total landfill gas\",(1/($D$5/100)),IF('USER INPUTS'!$B$28=\"Methane\",1,IF('USER INPUTS'!$B$28=\"Carbon dioxide\",((1/($D$5/100))-1),(VLOOKUP('USER INPUTS'!$B$28,DEFAULTS!$E$8:$F$69,2,FALSE))/10^6*(1/($D$5/100)))))))","v":0},{"$f":"IF(ISERROR(METHANE!$J42*(IF('USER INPUTS'!$B$28=\"Total landfill gas\",(1/($D$5/100)),IF('USER INPUTS'!$B$28=\"Methane\",1,IF('USER INPUTS'!$B$28=\"Carbon dioxide\",((1/($D$5/100))-1),(VLOOKUP('USER INPUTS'!$B$28,DEFAULTS!$E$8:$F$69,2,FALSE))/10^6*(1/($D$5/100))))))),0,METHANE!$J42*(IF('USER INPUTS'!$B$28=\"Total landfill gas\",(1/($D$5/100)),IF('USER INPUTS'!$B$28=\"Methane\",1,IF('USER INPUTS'!$B$28=\"Carbon dioxide\",((1/($D$5/100))-1),(VLOOKUP('USER INPUTS'!$B$28,DEFAULTS!$E$8:$F$69,2,FALSE))/10^6*(1/($D$5/100)))))))","v":0},{"$f":"IF(N$8=\"(short tons/year)\",(L28*DEFAULTS!$B$55*DEFAULTS!$B$53/DEFAULTS!$B$54),IF(N$8=\"(ft^3/year)\",(M28*DEFAULTS!$B$57),IF(N$8=\"(av ft^3/min)\",(M28*DEFAULTS!$B$57/DEFAULTS!$B$58),0)))","v":0},{"$f":"IF(ISERROR(METHANE!$J42*DEFAULTS!$B$84*(IF('USER INPUTS'!$B$30=\"Total landfill gas\",(1/($D$5/100)),IF('USER INPUTS'!$B$30=\"Methane\",1,IF('USER INPUTS'!$B$30=\"Carbon dioxide\",((1/($D$5/100))-1),(VLOOKUP('USER INPUTS'!$B$30,DEFAULTS!$E$8:$F$69,2,FALSE))/10^6*(1/($D$5/100))))))),0,METHANE!$J42*DEFAULTS!$B$84*(IF('USER INPUTS'!$B$30=\"Total landfill gas\",(1/($D$5/100)),IF('USER INPUTS'!$B$30=\"Methane\",1,IF('USER INPUTS'!$B$30=\"Carbon dioxide\",((1/($D$5/100))-1),(VLOOKUP('USER INPUTS'!$B$30,DEFAULTS!$E$8:$F$69,2,FALSE))/10^6*(1/($D$5/100)))))))","v":0},{"$f":"IF(ISERROR(METHANE!$J42*(IF('USER INPUTS'!$B$30=\"Total landfill gas\",(1/($D$5/100)),IF('USER INPUTS'!$B$30=\"Methane\",1,IF('USER INPUTS'!$B$30=\"Carbon dioxide\",((1/($D$5/100))-1),(VLOOKUP('USER INPUTS'!$B$30,DEFAULTS!$E$8:$F$69,2,FALSE))/10^6*(1/($D$5/100))))))),0,METHANE!$J42*(IF('USER INPUTS'!$B$30=\"Total landfill gas\",(1/($D$5/100)),IF('USER INPUTS'!$B$30=\"Methane\",1,IF('USER INPUTS'!$B$30=\"Carbon dioxide\",((1/($D$5/100))-1),(VLOOKUP('USER INPUTS'!$B$30,DEFAULTS!$E$8:$F$69,2,FALSE))/10^6*(1/($D$5/100)))))))","v":0},{"$f":"IF(Q$8=\"(short tons/year)\",(O28*DEFAULTS!$B$55*DEFAULTS!$B$53/DEFAULTS!$B$54),IF(Q$8=\"(ft^3/year)\",(P28*DEFAULTS!$B$57),IF(Q$8=\"(av ft^3/min)\",(P28*DEFAULTS!$B$57/DEFAULTS!$B$58),0)))","v":0}]
[{"$f":"METHANE!I43","v":20},{"$f":"IF(METHANE!E43>0,METHANE!E43,0)","v":0},{"$f":"IF(METHANE!E43>0,METHANE!E43*DEFAULTS!$B$55*DEFAULTS!$B$53/DEFAULTS!$B$54,0)","v":0},{"$f":"IF(METHANE!F43>0,METHANE!F43,0)","v":0},{"$f":"IF(METHANE!F43>0,METHANE!F43*DEFAULTS!$B$55*DEFAULTS!$B$53/DEFAULTS!$B$54,0)","v":0},{"$f":"IF(ISERROR(METHANE!$J43*DEFAULTS!$B$81*(IF('USER INPUTS'!$B$24=\"Total landfill gas\",(1/($D$5/100)),IF('USER INPUTS'!$B$24=\"Methane\",1,IF('USER INPUTS'!$B$24=\"Carbon dioxide\",((1/($D$5/100))-1),(VLOOKUP('USER INPUTS'!$B$24,DEFAULTS!$E$8:$F$69,2,FALSE))/10^6*(1/($D$5/100))))))),0,METHANE!$J43*DEFAULTS!$B$81*(IF('USER INPUTS'!$B$24=\"Total landfill gas\",(1/($D$5/100)),IF('USER INPUTS'!$B$24=\"Methane\",1,IF('USER INPUTS'!$B$24=\"Carbon dioxide\",((1/($D$5/100))-1),(VLOOKUP('USER INPUTS'!$B$24,DEFAULTS!$E$8:$F$69,2,FALSE))/10^6*(1/($D$5/100)))))))","v":0},{"$f":"IF(ISERROR(METHANE!$J43*(IF('USER INPUTS'!$B$24=\"Total landfill gas\",(1/($D$5/100)),IF('USER INPUTS'!$B$24=\"Methane\",1,IF('USER INPUTS'!$B$24=\"Carbon dioxide\",((1/($D$5/100))-1),(VLOOKUP('USER INPUTS'!$B$24,DEFAULTS!$E$8:$F$69,2,FALSE))/10^6*(1/($D$5/100))))))),0,METHANE!$J43*(IF('USER INPUTS'!$B$24=\"Total landfill gas\",(1/($D$5/100)),IF('USER INPUTS'!$B$24=\"Methane\",1,IF('USER INPUTS'!$B$24=\"Carbon dioxide\",((1/($D$5/100))-1),(VLOOKUP('USER INPUTS'!$B$24,DEFAULTS!$E$8:$F$69,2,FALSE))/10^6*(1/($D$5/100)))))))","v":0},{"$f":"IF(H$8=\"(short tons/year)\",(F29*DEFAULTS!$B$55*DEFAULTS!$B$53/DEFAULTS!$B$54),IF(H$8=\"(ft^3/year)\",(G29*DEFAULTS!$B$57),IF(H$8=\"(av ft^3/min)\",(G29*DEFAULTS!$B$57/DEFAULTS!$B$58),0)))","v":0},{"$f":"IF(ISERROR(METHANE!$J43*DEFAULTS!$B$82*(IF('USER INPUTS'!$B$26=\"Total landfill gas\",(1/($D$5/100)),IF('USER INPUTS'!$B$26=\"Methane\",1,IF('USER INPUTS'!$B$26=\"Carbon dioxide\",((1/($D$5/100))-1),(VLOOKUP('USER INPUTS'!$B$26,DEFAULTS!$E$8:$F$69,2,FALSE))/10^6*(1/($D$5/100))))))),0,METHANE!$J43*DEFAULTS!$B$82*(IF('USER INPUTS'!$B$26=\"Total landfill gas\",(1/($D$5/100)),IF('USER INPUTS'!$B$26=\"Methane\",1,IF('USER INPUTS'!$B$26=\"Carbon dioxide\",((1/($D$5/100))-1),(VLOOKUP('USER INPUTS'!$B$26,DEFAULTS!$E$8:$F$69,2,FALSE))/10^6*(1/($D$5/100)))))))","v":0},{"$f":"IF(ISERROR(METHANE!$J43*(IF('USER INPUTS'!$B$26=\"Total landfill gas\",(1/($D$5/100)),IF('USER INPUTS'!$B$26=\"Methane\",1,IF('USER INPUTS'!$B$26=\"Carbon dioxide\",((1/($D$5/100))-1),(VLOOKUP('USER INPUTS'!$B$26,DEFAULTS!$E$8:$F$69,2,FALSE))/10^6*(1/($D$5/100))))))),0,METHANE!$J43*(IF('USER INPUTS'!$B$26=\"Total landfill gas\",(1/($D$5/100)),IF('USER INPUTS'!$B$26=\"Methane\",1,IF('USER INPUTS'!$B$26=\"Carbon dioxide\",((1/($D$5/100))-1),(VLOOKUP('USER INPUTS'!$B$26,DEFAULTS!$E$8:$F$69,2,FALSE))/10^6*(1/($D$5/100)))))))","v":0},{"$f":"IF(K$8=\"(short tons/year)\",(I29*DEFAULTS!$B$55*DEFAULTS!$B$53/DEFAULTS!$B$54),IF(K$8=\"(ft^3/year)\",(J29*DEFAULTS!$B$57),IF(K$8=\"(av ft^3/min)\",(J29*DEFAULTS!$B$57/DEFAULTS!$B$58),0)))","v":0},{"$f":"IF(ISERROR(METHANE!$J43*DEFAULTS!$B$83*(IF('USER INPUTS'!$B$28=\"Total landfill gas\",(1/($D$5/100)),IF('USER INPUTS'!$B$28=\"Methane\",1,IF('USER INPUTS'!$B$28=\"Carbon dioxide\",((1/($D$5/100))-1),(VLOOKUP('USER INPUTS'!$B$28,DEFAULTS!$E$8:$F$69,2,FALSE))/10^6*(1/($D$5/100))))))),0,METHANE!$J43*DEFAULTS!$B$83*(IF('USER INPUTS'!$B$28=\"Total landfill gas\",(1/($D$5/100)),IF('USER INPUTS'!$B$28=\"Methane\",1,IF('USER INPUTS'!$B$28=\"Carbon dioxide\",((1/($D$5/100))-1),(VLOOKUP('USER INPUTS'!$B$28,DEFAULTS!$E$8:$F$69,2,FALSE))/10^6*(1/($D$5/100)))))))","v":0},{"$f":"IF(ISERROR(METHANE!$J43*(IF('USER INPUTS'!$B$28=\"Total landfill gas\",(1/($D$5/100)),IF('USER INPUTS'!$B$28=\"Methane\",1,IF('USER INPUTS'!$B$28=\"Carbon dioxide\",((1/($D$5/100))-1),(VLOOKUP('USER INPUTS'!$B$28,DEFAULTS!$E$8:$F$69,2,FALSE))/10^6*(1/($D$5/100))))))),0,METHANE!$J43*(IF('USER INPUTS'!$B$28=\"Total landfill gas\",(1/($D$5/100)),IF('USER INPUTS'!$B$28=\"Methane\",1,IF('USER INPUTS'!$B$28=\"Carbon dioxide\",((1/($D$5/100))-1),(VLOOKUP('USER INPUTS'!$B$28,DEFAULTS!$E$8:$F$69,2,FALSE))/10^6*(1/($D$5/100)))))))","v":0},{"$f":"IF(N$8=\"(short tons/year)\",(L29*DEFAULTS!$B$55*DEFAULTS!$B$53/DEFAULTS!$B$54),IF(N$8=\"(ft^3/year)\",(M29*DEFAULTS!$B$57),IF(N$8=\"(av ft^3/min)\",(M29*DEFAULTS!$B$57/DEFAULTS!$B$58),0)))","v":0},{"$f":"IF(ISERROR(METHANE!$J43*DEFAULTS!$B$84*(IF('USER INPUTS'!$B$30=\"Total landfill gas\",(1/($D$5/100)),IF('USER INPUTS'!$B$30=\"Methane\",1,IF('USER INPUTS'!$B$30=\"Carbon dioxide\",((1/($D$5/100))-1),(VLOOKUP('USER INPUTS'!$B$30,DEFAULTS!$E$8:$F$69,2,FALSE))/10^6*(1/($D$5/100))))))),0,METHANE!$J43*DEFAULTS!$B$84*(IF('USER INPUTS'!$B$30=\"Total landfill gas\",(1/($D$5/100)),IF('USER INPUTS'!$B$30=\"Methane\",1,IF('USER INPUTS'!$B$30=\"Carbon dioxide\",((1/($D$5/100))-1),(VLOOKUP('USER INPUTS'!$B$30,DEFAULTS!$E$8:$F$69,2,FALSE))/10^6*(1/($D$5/100)))))))","v":0},{"$f":"IF(ISERROR(METHANE!$J43*(IF('USER INPUTS'!$B$30=\"Total landfill gas\",(1/($D$5/100)),IF('USER INPUTS'!$B$30=\"Methane\",1,IF('USER INPUTS'!$B$30=\"Carbon dioxide\",((1/($D$5/100))-1),(VLOOKUP('USER INPUTS'!$B$30,DEFAULTS!$E$8:$F$69,2,FALSE))/10^6*(1/($D$5/100))))))),0,METHANE!$J43*(IF('USER INPUTS'!$B$30=\"Total landfill gas\",(1/($D$5/100)),IF('USER INPUTS'!$B$30=\"Methane\",1,IF('USER INPUTS'!$B$30=\"Carbon dioxide\",((1/($D$5/100))-1),(VLOOKUP('USER INPUTS'!$B$30,DEFAULTS!$E$8:$F$69,2,FALSE))/10^6*(1/($D$5/100)))))))","v":0},{"$f":"IF(Q$8=\"(short tons/year)\",(O29*DEFAULTS!$B$55*DEFAULTS!$B$53/DEFAULTS!$B$54),IF(Q$8=\"(ft^3/year)\",(P29*DEFAULTS!$B$57),IF(Q$8=\"(av ft^3/min)\",(P29*DEFAULTS!$B$57/DEFAULTS!$B$58),0)))","v":0}]
[{"$f":"METHANE!I44","v":21},{"$f":"IF(METHANE!E44>0,METHANE!E44,0)","v":0},{"$f":"IF(METHANE!E44>0,METHANE!E44*DEFAULTS!$B$55*DEFAULTS!$B$53/DEFAULTS!$B$54,0)","v":0},{"$f":"IF(METHANE!F44>0,METHANE!F44,0)","v":0},{"$f":"IF(METHANE!F44>0,METHANE!F44*DEFAULTS!$B$55*DEFAULTS!$B$53/DEFAULTS!$B$54,0)","v":0},{"$f":"IF(ISERROR(METHANE!$J44*DEFAULTS!$B$81*(IF('USER INPUTS'!$B$24=\"Total landfill gas\",(1/($D$5/100)),IF('USER INPUTS'!$B$24=\"Methane\",1,IF('USER INPUTS'!$B$24=\"Carbon dioxide\",((1/($D$5/100))-1),(VLOOKUP('USER INPUTS'!$B$24,DEFAULTS!$E$8:$F$69,2,FALSE))/10^6*(1/($D$5/100))))))),0,METHANE!$J44*DEFAULTS!$B$81*(IF('USER INPUTS'!$B$24=\"Total landfill gas\",(1/($D$5/100)),IF('USER INPUTS'!$B$24=\"Methane\",1,IF('USER INPUTS'!$B$24=\"Carbon dioxide\",((1/($D$5/100))-1),(VLOOKUP('USER INPUTS'!$B$24,DEFAULTS!$E$8:$F$69,2,FALSE))/10^6*(1/($D$5/100)))))))","v":0},{"$f":"IF(ISERROR(METHANE!$J44*(IF('USER INPUTS'!$B$24=\"Total landfill gas\",(1/($D$5/100)),IF('USER INPUTS'!$B$24=\"Methane\",1,IF('USER INPUTS'!$B$24=\"Carbon dioxide\",((1/($D$5/100))-1),(VLOOKUP('USER INPUTS'!$B$24,DEFAULTS!$E$8:$F$69,2,FALSE))/10^6*(1/($D$5/100))))))),0,METHANE!$J44*(IF('USER INPUTS'!$B$24=\"Total landfill gas\",(1/($D$5/100)),IF('USER INPUTS'!$B$24=\"Methane\",1,IF('USER INPUTS'!$B$24=\"Carbon dioxide\",((1/($D$5/100))-1),(VLOOKUP('USER INPUTS'!$B$24,DEFAULTS!$E$8:$F$69,2,FALSE))/10^6*(1/($D$5/100)))))))","v":0},{"$f":"IF(H$8=\"(short tons/year)\",(F30*DEFAULTS!$B$55*DEFAULTS!$B$53/DEFAULTS!$B$54),IF(H$8=\"(ft^3/year)\",(G30*DEFAULTS!$B$57),IF(H$8=\"(av ft^3/min)\",(G30*DEFAULTS!$B$57/DEFAULTS!$B$58),0)))","v":0},{"$f":"IF(ISERROR(METHANE!$J44*DEFAULTS!$B$82*(IF('USER INPUTS'!$B$26=\"Total landfill gas\",(1/($D$5/100)),IF('USER INPUTS'!$B$26=\"Methane\",1,IF('USER INPUTS'!$B$26=\"Carbon dioxide\",((1/($D$5/100))-1),(VLOOKUP('USER INPUTS'!$B$26,DEFAULTS!$E$8:$F$69,2,FALSE))/10^6*(1/($D$5/100))))))),0,METHANE!$J44*DEFAULTS!$B$82*(IF('USER INPUTS'!$B$26=\"Total landfill gas\",(1/($D$5/100)),IF('USER INPUTS'!$B$26=\"Methane\",1,IF('USER INPUTS'!$B$26=\"Carbon dioxide\",((1/($D$5/100))-1),(VLOOKUP('USER INPUTS'!$B$26,DEFAULTS!$E$8:$F$69,2,FALSE))/10^6*(1/($D$5/100)))))))","v":0},{"$f":"IF(ISERROR(METHANE!$J44*(IF('USER INPUTS'!$B$26=\"Total landfill gas\",(1/($D$5/100)),IF('USER INPUTS'!$B$26=\"Methane\",1,IF('USER INPUTS'!$B$26=\"Carbon dioxide\",((1/($D$5/100))-1),(VLOOKUP('USER INPUTS'!$B$26,DEFAULTS!$E$8:$F$69,2,FALSE))/10^6*(1/($D$5/100))))))),0,METHANE!$J44*(IF('USER INPUTS'!$B$26=\"Total landfill gas\",(1/($D$5/100)),IF('USER INPUTS'!$B$26=\"Methane\",1,IF('USER INPUTS'!$B$26=\"Carbon dioxide\",((1/($D$5/100))-1),(VLOOKUP('USER INPUTS'!$B$26,DEFAULTS!$E$8:$F$69,2,FALSE))/10^6*(1/($D$5/100)))))))","v":0},{"$f":"IF(K$8=\"(short tons/year)\",(I30*DEFAULTS!$B$55*DEFAULTS!$B$53/DEFAULTS!$B$54),IF(K$8=\"(ft^3/year)\",(J30*DEFAULTS!$B$57),IF(K$8=\"(av ft^3/min)\",(J30*DEFAULTS!$B$57/DEFAULTS!$B$58),0)))","v":0},{"$f":"IF(ISERROR(METHANE!$J44*DEFAULTS!$B$83*(IF('USER INPUTS'!$B$28=\"Total landfill gas\",(1/($D$5/100)),IF('USER INPUTS'!$B$28=\"Methane\",1,IF('USER INPUTS'!$B$28=\"Carbon dioxide\",((1/($D$5/100))-1),(VLOOKUP('USER INPUTS'!$B$28,DEFAULTS!$E$8:$F$69,2,FALSE))/10^6*(1/($D$5/100))))))),0,METHANE!$J44*DEFAULTS!$B$83*(IF('USER INPUTS'!$B$28=\"Total landfill gas\",(1/($D$5/100)),IF('USER INPUTS'!$B$28=\"Methane\",1,IF('USER INPUTS'!$B$28=\"Carbon dioxide\",((1/($D$5/100))-1),(VLOOKUP('USER INPUTS'!$B$28,DEFAULTS!$E$8:$F$69,2,FALSE))/10^6*(1/($D$5/100)))))))","v":0},{"$f":"IF(ISERROR(METHANE!$J44*(IF('USER INPUTS'!$B$28=\"Total landfill gas\",(1/($D$5/100)),IF('USER INPUTS'!$B$28=\"Methane\",1,IF('USER INPUTS'!$B$28=\"Carbon dioxide\",((1/($D$5/100))-1),(VLOOKUP('USER INPUTS'!$B$28,DEFAULTS!$E$8:$F$69,2,FALSE))/10^6*(1/($D$5/100))))))),0,METHANE!$J44*(IF('USER INPUTS'!$B$28=\"Total landfill gas\",(1/($D$5/100)),IF('USER INPUTS'!$B$28=\"Methane\",1,IF('USER INPUTS'!$B$28=\"Carbon dioxide\",((1/($D$5/100))-1),(VLOOKUP('USER INPUTS'!$B$28,DEFAULTS!$E$8:$F$69,2,FALSE))/10^6*(1/($D$5/100)))))))","v":0},{"$f":"IF(N$8=\"(short tons/year)\",(L30*DEFAULTS!$B$55*DEFAULTS!$B$53/DEFAULTS!$B$54),IF(N$8=\"(ft^3/year)\",(M30*DEFAULTS!$B$57),IF(N$8=\"(av ft^3/min)\",(M30*DEFAULTS!$B$57/DEFAULTS!$B$58),0)))","v":0},{"$f":"IF(ISERROR(METHANE!$J44*DEFAULTS!$B$84*(IF('USER INPUTS'!$B$30=\"Total landfill gas\",(1/($D$5/100)),IF('USER INPUTS'!$B$30=\"Methane\",1,IF('USER INPUTS'!$B$30=\"Carbon dioxide\",((1/($D$5/100))-1),(VLOOKUP('USER INPUTS'!$B$30,DEFAULTS!$E$8:$F$69,2,FALSE))/10^6*(1/($D$5/100))))))),0,METHANE!$J44*DEFAULTS!$B$84*(IF('USER INPUTS'!$B$30=\"Total landfill gas\",(1/($D$5/100)),IF('USER INPUTS'!$B$30=\"Methane\",1,IF('USER INPUTS'!$B$30=\"Carbon dioxide\",((1/($D$5/100))-1),(VLOOKUP('USER INPUTS'!$B$30,DEFAULTS!$E$8:$F$69,2,FALSE))/10^6*(1/($D$5/100)))))))","v":0},{"$f":"IF(ISERROR(METHANE!$J44*(IF('USER INPUTS'!$B$30=\"Total landfill gas\",(1/($D$5/100)),IF('USER INPUTS'!$B$30=\"Methane\",1,IF('USER INPUTS'!$B$30=\"Carbon dioxide\",((1/($D$5/100))-1),(VLOOKUP('USER INPUTS'!$B$30,DEFAULTS!$E$8:$F$69,2,FALSE))/10^6*(1/($D$5/100))))))),0,METHANE!$J44*(IF('USER INPUTS'!$B$30=\"Total landfill gas\",(1/($D$5/100)),IF('USER INPUTS'!$B$30=\"Methane\",1,IF('USER INPUTS'!$B$30=\"Carbon dioxide\",((1/($D$5/100))-1),(VLOOKUP('USER INPUTS'!$B$30,DEFAULTS!$E$8:$F$69,2,FALSE))/10^6*(1/($D$5/100)))))))","v":0},{"$f":"IF(Q$8=\"(short tons/year)\",(O30*DEFAULTS!$B$55*DEFAULTS!$B$53/DEFAULTS!$B$54),IF(Q$8=\"(ft^3/year)\",(P30*DEFAULTS!$B$57),IF(Q$8=\"(av ft^3/min)\",(P30*DEFAULTS!$B$57/DEFAULTS!$B$58),0)))","v":0}]
[{"$f":"METHANE!I45","v":22},{"$f":"IF(METHANE!E45>0,METHANE!E45,0)","v":0},{"$f":"IF(METHANE!E45>0,METHANE!E45*DEFAULTS!$B$55*DEFAULTS!$B$53/DEFAULTS!$B$54,0)","v":0},{"$f":"IF(METHANE!F45>0,METHANE!F45,0)","v":0},{"$f":"IF(METHANE!F45>0,METHANE!F45*DEFAULTS!$B$55*DEFAULTS!$B$53/DEFAULTS!$B$54,0)","v":0},{"$f":"IF(ISERROR(METHANE!$J45*DEFAULTS!$B$81*(IF('USER INPUTS'!$B$24=\"Total landfill gas\",(1/($D$5/100)),IF('USER INPUTS'!$B$24=\"Methane\",1,IF('USER INPUTS'!$B$24=\"Carbon dioxide\",((1/($D$5/100))-1),(VLOOKUP('USER INPUTS'!$B$24,DEFAULTS!$E$8:$F$69,2,FALSE))/10^6*(1/($D$5/100))))))),0,METHANE!$J45*DEFAULTS!$B$81*(IF('USER INPUTS'!$B$24=\"Total landfill gas\",(1/($D$5/100)),IF('USER INPUTS'!$B$24=\"Methane\",1,IF('USER INPUTS'!$B$24=\"Carbon dioxide\",((1/($D$5/100))-1),(VLOOKUP('USER INPUTS'!$B$24,DEFAULTS!$E$8:$F$69,2,FALSE))/10^6*(1/($D$5/100)))))))","v":0},{"$f":"IF(ISERROR(METHANE!$J45*(IF('USER INPUTS'!$B$24=\"Total landfill gas\",(1/($D$5/100)),IF('USER INPUTS'!$B$24=\"Methane\",1,IF('USER INPUTS'!$B$24=\"Carbon dioxide\",((1/($D$5/100))-1),(VLOOKUP('USER INPUTS'!$B$24,DEFAULTS!$E$8:$F$69,2,FALSE))/10^6*(1/($D$5/100))))))),0,METHANE!$J45*(IF('USER INPUTS'!$B$24=\"Total landfill gas\",(1/($D$5/100)),IF('USER INPUTS'!$B$24=\"Methane\",1,IF('USER INPUTS'!$B$24=\"Carbon dioxide\",((1/($D$5/100))-1),(VLOOKUP('USER INPUTS'!$B$24,DEFAULTS!$E$8:$F$69,2,FALSE))/10^6*(1/($D$5/100)))))))","v":0},{"$f":"IF(H$8=\"(short tons/year)\",(F31*DEFAULTS!$B$55*DEFAULTS!$B$53/DEFAULTS!$B$54),IF(H$8=\"(ft^3/year)\",(G31*DEFAULTS!$B$57),IF(H$8=\"(av ft^3/min)\",(G31*DEFAULTS!$B$57/DEFAULTS!$B$58),0)))","v":0},{"$f":"IF(ISERROR(METHANE!$J45*DEFAULTS!$B$82*(IF('USER INPUTS'!$B$26=\"Total landfill gas\",(1/($D$5/100)),IF('USER INPUTS'!$B$26=\"Methane\",1,IF('USER INPUTS'!$B$26=\"Carbon dioxide\",((1/($D$5/100))-1),(VLOOKUP('USER INPUTS'!$B$26,DEFAULTS!$E$8:$F$69,2,FALSE))/10^6*(1/($D$5/100))))))),0,METHANE!$J45*DEFAULTS!$B$82*(IF('USER INPUTS'!$B$26=\"Total landfill gas\",(1/($D$5/100)),IF('USER INPUTS'!$B$26=\"Methane\",1,IF('USER INPUTS'!$B$26=\"Carbon dioxide\",((1/($D$5/100))-1),(VLOOKUP('USER INPUTS'!$B$26,DEFAULTS!$E$8:$F$69,2,FALSE))/10^6*(1/($D$5/100)))))))","v":0},{"$f":"IF(ISERROR(METHANE!$J45*(IF('USER INPUTS'!$B$26=\"Total landfill gas\",(1/($D$5/100)),IF('USER INPUTS'!$B$26=\"Methane\",1,IF('USER INPUTS'!$B$26=\"Carbon dioxide\",((1/($D$5/100))-1),(VLOOKUP('USER INPUTS'!$B$26,DEFAULTS!$E$8:$F$69,2,FALSE))/10^6*(1/($D$5/100))))))),0,METHANE!$J45*(IF('USER INPUTS'!$B$26=\"Total landfill gas\",(1/($D$5/100)),IF('USER INPUTS'!$B$26=\"Methane\",1,IF('USER INPUTS'!$B$26=\"Carbon dioxide\",((1/($D$5/100))-1),(VLOOKUP('USER INPUTS'!$B$26,DEFAULTS!$E$8:$F$69,2,FALSE))/10^6*(1/($D$5/100)))))))","v":0},{"$f":"IF(K$8=\"(short tons/year)\",(I31*DEFAULTS!$B$55*DEFAULTS!$B$53/DEFAULTS!$B$54),IF(K$8=\"(ft^3/year)\",(J31*DEFAULTS!$B$57),IF(K$8=\"(av ft^3/min)\",(J31*DEFAULTS!$B$57/DEFAULTS!$B$58),0)))","v":0},{"$f":"IF(ISERROR(METHANE!$J45*DEFAULTS!$B$83*(IF('USER INPUTS'!$B$28=\"Total landfill gas\",(1/($D$5/100)),IF('USER INPUTS'!$B$28=\"Methane\",1,IF('USER INPUTS'!$B$28=\"Carbon dioxide\",((1/($D$5/100))-1),(VLOOKUP('USER INPUTS'!$B$28,DEFAULTS!$E$8:$F$69,2,FALSE))/10^6*(1/($D$5/100))))))),0,METHANE!$J45*DEFAULTS!$B$83*(IF('USER INPUTS'!$B$28=\"Total landfill gas\",(1/($D$5/100)),IF('USER INPUTS'!$B$28=\"Methane\",1,IF('USER INPUTS'!$B$28=\"Carbon dioxide\",((1/($D$5/100))-1),(VLOOKUP('USER INPUTS'!$B$28,DEFAULTS!$E$8:$F$69,2,FALSE))/10^6*(1/($D$5/100)))))))","v":0},{"$f":"IF(ISERROR(METHANE!$J45*(IF('USER INPUTS'!$B$28=\"Total landfill gas\",(1/($D$5/100)),IF('USER INPUTS'!$B$28=\"Methane\",1,IF('USER INPUTS'!$B$28=\"Carbon dioxide\",((1/($D$5/100))-1),(VLOOKUP('USER INPUTS'!$B$28,DEFAULTS!$E$8:$F$69,2,FALSE))/10^6*(1/($D$5/100))))))),0,METHANE!$J45*(IF('USER INPUTS'!$B$28=\"Total landfill gas\",(1/($D$5/100)),IF('USER INPUTS'!$B$28=\"Methane\",1,IF('USER INPUTS'!$B$28=\"Carbon dioxide\",((1/($D$5/100))-1),(VLOOKUP('USER INPUTS'!$B$28,DEFAULTS!$E$8:$F$69,2,FALSE))/10^6*(1/($D$5/100)))))))","v":0},{"$f":"IF(N$8=\"(short tons/year)\",(L31*DEFAULTS!$B$55*DEFAULTS!$B$53/DEFAULTS!$B$54),IF(N$8=\"(ft^3/year)\",(M31*DEFAULTS!$B$57),IF(N$8=\"(av ft^3/min)\",(M31*DEFAULTS!$B$57/DEFAULTS!$B$58),0)))","v":0},{"$f":"IF(ISERROR(METHANE!$J45*DEFAULTS!$B$84*(IF('USER INPUTS'!$B$30=\"Total landfill gas\",(1/($D$5/100)),IF('USER INPUTS'!$B$30=\"Methane\",1,IF('USER INPUTS'!$B$30=\"Carbon dioxide\",((1/($D$5/100))-1),(VLOOKUP('USER INPUTS'!$B$30,DEFAULTS!$E$8:$F$69,2,FALSE))/10^6*(1/($D$5/100))))))),0,METHANE!$J45*DEFAULTS!$B$84*(IF('USER INPUTS'!$B$30=\"Total landfill gas\",(1/($D$5/100)),IF('USER INPUTS'!$B$30=\"Methane\",1,IF('USER INPUTS'!$B$30=\"Carbon dioxide\",((1/($D$5/100))-1),(VLOOKUP('USER INPUTS'!$B$30,DEFAULTS!$E$8:$F$69,2,FALSE))/10^6*(1/($D$5/100)))))))","v":0},{"$f":"IF(ISERROR(METHANE!$J45*(IF('USER INPUTS'!$B$30=\"Total landfill gas\",(1/($D$5/100)),IF('USER INPUTS'!$B$30=\"Methane\",1,IF('USER INPUTS'!$B$30=\"Carbon dioxide\",((1/($D$5/100))-1),(VLOOKUP('USER INPUTS'!$B$30,DEFAULTS!$E$8:$F$69,2,FALSE))/10^6*(1/($D$5/100))))))),0,METHANE!$J45*(IF('USER INPUTS'!$B$30=\"Total landfill gas\",(1/($D$5/100)),IF('USER INPUTS'!$B$30=\"Methane\",1,IF('USER INPUTS'!$B$30=\"Carbon dioxide\",((1/($D$5/100))-1),(VLOOKUP('USER INPUTS'!$B$30,DEFAULTS!$E$8:$F$69,2,FALSE))/10^6*(1/($D$5/100)))))))","v":0},{"$f":"IF(Q$8=\"(short tons/year)\",(O31*DEFAULTS!$B$55*DEFAULTS!$B$53/DEFAULTS!$B$54),IF(Q$8=\"(ft^3/year)\",(P31*DEFAULTS!$B$57),IF(Q$8=\"(av ft^3/min)\",(P31*DEFAULTS!$B$57/DEFAULTS!$B$58),0)))","v":0}]
[{"$f":"METHANE!I46","v":23},{"$f":"IF(METHANE!E46>0,METHANE!E46,0)","v":0},{"$f":"IF(METHANE!E46>0,METHANE!E46*DEFAULTS!$B$55*DEFAULTS!$B$53/DEFAULTS!$B$54,0)","v":0},{"$f":"IF(METHANE!F46>0,METHANE!F46,0)","v":0},{"$f":"IF(METHANE!F46>0,METHANE!F46*DEFAULTS!$B$55*DEFAULTS!$B$53/DEFAULTS!$B$54,0)","v":0},{"$f":"IF(ISERROR(METHANE!$J46*DEFAULTS!$B$81*(IF('USER INPUTS'!$B$24=\"Total landfill gas\",(1/($D$5/100)),IF('USER INPUTS'!$B$24=\"Methane\",1,IF('USER INPUTS'!$B$24=\"Carbon dioxide\",((1/($D$5/100))-1),(VLOOKUP('USER INPUTS'!$B$24,DEFAULTS!$E$8:$F$69,2,FALSE))/10^6*(1/($D$5/100))))))),0,METHANE!$J46*DEFAULTS!$B$81*(IF('USER INPUTS'!$B$24=\"Total landfill gas\",(1/($D$5/100)),IF('USER INPUTS'!$B$24=\"Methane\",1,IF('USER INPUTS'!$B$24=\"Carbon dioxide\",((1/($D$5/100))-1),(VLOOKUP('USER INPUTS'!$B$24,DEFAULTS!$E$8:$F$69,2,FALSE))/10^6*(1/($D$5/100)))))))","v":0},{"$f":"IF(ISERROR(METHANE!$J46*(IF('USER INPUTS'!$B$24=\"Total landfill gas\",(1/($D$5/100)),IF('USER INPUTS'!$B$24=\"Methane\",1,IF('USER INPUTS'!$B$24=\"Carbon dioxide\",((1/($D$5/100))-1),(VLOOKUP('USER INPUTS'!$B$24,DEFAULTS!$E$8:$F$69,2,FALSE))/10^6*(1/($D$5/100))))))),0,METHANE!$J46*(IF('USER INPUTS'!$B$24=\"Total landfill gas\",(1/($D$5/100)),IF('USER INPUTS'!$B$24=\"Methane\",1,IF('USER INPUTS'!$B$24=\"Carbon dioxide\",((1/($D$5/100))-1),(VLOOKUP('USER INPUTS'!$B$24,DEFAULTS!$E$8:$F$69,2,FALSE))/10^6*(1/($D$5/100)))))))","v":0},{"$f":"IF(H$8=\"(short tons/year)\",(F32*DEFAULTS!$B$55*DEFAULTS!$B$53/DEFAULTS!$B$54),IF(H$8=\"(ft^3/year)\",(G32*DEFAULTS!$B$57),IF(H$8=\"(av ft^3/min)\",(G32*DEFAULTS!$B$57/DEFAULTS!$B$58),0)))","v":0},{"$f":"IF(ISERROR(METHANE!$J46*DEFAULTS!$B$82*(IF('USER INPUTS'!$B$26=\"Total landfill gas\",(1/($D$5/100)),IF('USER INPUTS'!$B$26=\"Methane\",1,IF('USER INPUTS'!$B$26=\"Carbon dioxide\",((1/($D$5/100))-1),(VLOOKUP('USER INPUTS'!$B$26,DEFAULTS!$E$8:$F$69,2,FALSE))/10^6*(1/($D$5/100))))))),0,METHANE!$J46*DEFAULTS!$B$82*(IF('USER INPUTS'!$B$26=\"Total landfill gas\",(1/($D$5/100)),IF('USER INPUTS'!$B$26=\"Methane\",1,IF('USER INPUTS'!$B$26=\"Carbon dioxide\",((1/($D$5/100))-1),(VLOOKUP('USER INPUTS'!$B$26,DEFAULTS!$E$8:$F$69,2,FALSE))/10^6*(1/($D$5/100)))))))","v":0},{"$f":"IF(ISERROR(METHANE!$J46*(IF('USER INPUTS'!$B$26=\"Total landfill gas\",(1/($D$5/100)),IF('USER INPUTS'!$B$26=\"Methane\",1,IF('USER INPUTS'!$B$26=\"Carbon dioxide\",((1/($D$5/100))-1),(VLOOKUP('USER INPUTS'!$B$26,DEFAULTS!$E$8:$F$69,2,FALSE))/10^6*(1/($D$5/100))))))),0,METHANE!$J46*(IF('USER INPUTS'!$B$26=\"Total landfill gas\",(1/($D$5/100)),IF('USER INPUTS'!$B$26=\"Methane\",1,IF('USER INPUTS'!$B$26=\"Carbon dioxide\",((1/($D$5/100))-1),(VLOOKUP('USER INPUTS'!$B$26,DEFAULTS!$E$8:$F$69,2,FALSE))/10^6*(1/($D$5/100)))))))","v":0},{"$f":"IF(K$8=\"(short tons/year)\",(I32*DEFAULTS!$B$55*DEFAULTS!$B$53/DEFAULTS!$B$54),IF(K$8=\"(ft^3/year)\",(J32*DEFAULTS!$B$57),IF(K$8=\"(av ft^3/min)\",(J32*DEFAULTS!$B$57/DEFAULTS!$B$58),0)))","v":0},{"$f":"IF(ISERROR(METHANE!$J46*DEFAULTS!$B$83*(IF('USER INPUTS'!$B$28=\"Total landfill gas\",(1/($D$5/100)),IF('USER INPUTS'!$B$28=\"Methane\",1,IF('USER INPUTS'!$B$28=\"Carbon dioxide\",((1/($D$5/100))-1),(VLOOKUP('USER INPUTS'!$B$28,DEFAULTS!$E$8:$F$69,2,FALSE))/10^6*(1/($D$5/100))))))),0,METHANE!$J46*DEFAULTS!$B$83*(IF('USER INPUTS'!$B$28=\"Total landfill gas\",(1/($D$5/100)),IF('USER INPUTS'!$B$28=\"Methane\",1,IF('USER INPUTS'!$B$28=\"Carbon dioxide\",((1/($D$5/100))-1),(VLOOKUP('USER INPUTS'!$B$28,DEFAULTS!$E$8:$F$69,2,FALSE))/10^6*(1/($D$5/100)))))))","v":0},{"$f":"IF(ISERROR(METHANE!$J46*(IF('USER INPUTS'!$B$28=\"Total landfill gas\",(1/($D$5/100)),IF('USER INPUTS'!$B$28=\"Methane\",1,IF('USER INPUTS'!$B$28=\"Carbon dioxide\",((1/($D$5/100))-1),(VLOOKUP('USER INPUTS'!$B$28,DEFAULTS!$E$8:$F$69,2,FALSE))/10^6*(1/($D$5/100))))))),0,METHANE!$J46*(IF('USER INPUTS'!$B$28=\"Total landfill gas\",(1/($D$5/100)),IF('USER INPUTS'!$B$28=\"Methane\",1,IF('USER INPUTS'!$B$28=\"Carbon dioxide\",((1/($D$5/100))-1),(VLOOKUP('USER INPUTS'!$B$28,DEFAULTS!$E$8:$F$69,2,FALSE))/10^6*(1/($D$5/100)))))))","v":0},{"$f":"IF(N$8=\"(short tons/year)\",(L32*DEFAULTS!$B$55*DEFAULTS!$B$53/DEFAULTS!$B$54),IF(N$8=\"(ft^3/year)\",(M32*DEFAULTS!$B$57),IF(N$8=\"(av ft^3/min)\",(M32*DEFAULTS!$B$57/DEFAULTS!$B$58),0)))","v":0},{"$f":"IF(ISERROR(METHANE!$J46*DEFAULTS!$B$84*(IF('USER INPUTS'!$B$30=\"Total landfill gas\",(1/($D$5/100)),IF('USER INPUTS'!$B$30=\"Methane\",1,IF('USER INPUTS'!$B$30=\"Carbon dioxide\",((1/($D$5/100))-1),(VLOOKUP('USER INPUTS'!$B$30,DEFAULTS!$E$8:$F$69,2,FALSE))/10^6*(1/($D$5/100))))))),0,METHANE!$J46*DEFAULTS!$B$84*(IF('USER INPUTS'!$B$30=\"Total landfill gas\",(1/($D$5/100)),IF('USER INPUTS'!$B$30=\"Methane\",1,IF('USER INPUTS'!$B$30=\"Carbon dioxide\",((1/($D$5/100))-1),(VLOOKUP('USER INPUTS'!$B$30,DEFAULTS!$E$8:$F$69,2,FALSE))/10^6*(1/($D$5/100)))))))","v":0},{"$f":"IF(ISERROR(METHANE!$J46*(IF('USER INPUTS'!$B$30=\"Total landfill gas\",(1/($D$5/100)),IF('USER INPUTS'!$B$30=\"Methane\",1,IF('USER INPUTS'!$B$30=\"Carbon dioxide\",((1/($D$5/100))-1),(VLOOKUP('USER INPUTS'!$B$30,DEFAULTS!$E$8:$F$69,2,FALSE))/10^6*(1/($D$5/100))))))),0,METHANE!$J46*(IF('USER INPUTS'!$B$30=\"Total landfill gas\",(1/($D$5/100)),IF('USER INPUTS'!$B$30=\"Methane\",1,IF('USER INPUTS'!$B$30=\"Carbon dioxide\",((1/($D$5/100))-1),(VLOOKUP('USER INPUTS'!$B$30,DEFAULTS!$E$8:$F$69,2,FALSE))/10^6*(1/($D$5/100)))))))","v":0},{"$f":"IF(Q$8=\"(short tons/year)\",(O32*DEFAULTS!$B$55*DEFAULTS!$B$53/DEFAULTS!$B$54),IF(Q$8=\"(ft^3/year)\",(P32*DEFAULTS!$B$57),IF(Q$8=\"(av ft^3/min)\",(P32*DEFAULTS!$B$57/DEFAULTS!$B$58),0)))","v":0}]
[{"$f":"METHANE!I47","v":24},{"$f":"IF(METHANE!E47>0,METHANE!E47,0)","v":0},{"$f":"IF(METHANE!E47>0,METHANE!E47*DEFAULTS!$B$55*DEFAULTS!$B$53/DEFAULTS!$B$54,0)","v":0},{"$f":"IF(METHANE!F47>0,METHANE!F47,0)","v":0},{"$f":"IF(METHANE!F47>0,METHANE!F47*DEFAULTS!$B$55*DEFAULTS!$B$53/DEFAULTS!$B$54,0)","v":0},{"$f":"IF(ISERROR(METHANE!$J47*DEFAULTS!$B$81*(IF('USER INPUTS'!$B$24=\"Total landfill gas\",(1/($D$5/100)),IF('USER INPUTS'!$B$24=\"Methane\",1,IF('USER INPUTS'!$B$24=\"Carbon dioxide\",((1/($D$5/100))-1),(VLOOKUP('USER INPUTS'!$B$24,DEFAULTS!$E$8:$F$69,2,FALSE))/10^6*(1/($D$5/100))))))),0,METHANE!$J47*DEFAULTS!$B$81*(IF('USER INPUTS'!$B$24=\"Total landfill gas\",(1/($D$5/100)),IF('USER INPUTS'!$B$24=\"Methane\",1,IF('USER INPUTS'!$B$24=\"Carbon dioxide\",((1/($D$5/100))-1),(VLOOKUP('USER INPUTS'!$B$24,DEFAULTS!$E$8:$F$69,2,FALSE))/10^6*(1/($D$5/100)))))))","v":0},{"$f":"IF(ISERROR(METHANE!$J47*(IF('USER INPUTS'!$B$24=\"Total landfill gas\",(1/($D$5/100)),IF('USER INPUTS'!$B$24=\"Methane\",1,IF('USER INPUTS'!$B$24=\"Carbon dioxide\",((1/($D$5/100))-1),(VLOOKUP('USER INPUTS'!$B$24,DEFAULTS!$E$8:$F$69,2,FALSE))/10^6*(1/($D$5/100))))))),0,METHANE!$J47*(IF('USER INPUTS'!$B$24=\"Total landfill gas\",(1/($D$5/100)),IF('USER INPUTS'!$B$24=\"Methane\",1,IF('USER INPUTS'!$B$24=\"Carbon dioxide\",((1/($D$5/100))-1),(VLOOKUP('USER INPUTS'!$B$24,DEFAULTS!$E$8:$F$69,2,FALSE))/10^6*(1/($D$5/100)))))))","v":0},{"$f":"IF(H$8=\"(short tons/year)\",(F33*DEFAULTS!$B$55*DEFAULTS!$B$53/DEFAULTS!$B$54),IF(H$8=\"(ft^3/year)\",(G33*DEFAULTS!$B$57),IF(H$8=\"(av ft^3/min)\",(G33*DEFAULTS!$B$57/DEFAULTS!$B$58),0)))","v":0},{"$f":"IF(ISERROR(METHANE!$J47*DEFAULTS!$B$82*(IF('USER INPUTS'!$B$26=\"Total landfill gas\",(1/($D$5/100)),IF('USER INPUTS'!$B$26=\"Methane\",1,IF('USER INPUTS'!$B$26=\"Carbon dioxide\",((1/($D$5/100))-1),(VLOOKUP('USER INPUTS'!$B$26,DEFAULTS!$E$8:$F$69,2,FALSE))/10^6*(1/($D$5/100))))))),0,METHANE!$J47*DEFAULTS!$B$82*(IF('USER INPUTS'!$B$26=\"Total landfill gas\",(1/($D$5/100)),IF('USER INPUTS'!$B$26=\"Methane\",1,IF('USER INPUTS'!$B$26=\"Carbon dioxide\",((1/($D$5/100))-1),(VLOOKUP('USER INPUTS'!$B$26,DEFAULTS!$E$8:$F$69,2,FALSE))/10^6*(1/($D$5/100)))))))","v":0},{"$f":"IF(ISERROR(METHANE!$J47*(IF('USER INPUTS'!$B$26=\"Total landfill gas\",(1/($D$5/100)),IF('USER INPUTS'!$B$26=\"Methane\",1,IF('USER INPUTS'!$B$26=\"Carbon dioxide\",((1/($D$5/100))-1),(VLOOKUP('USER INPUTS'!$B$26,DEFAULTS!$E$8:$F$69,2,FALSE))/10^6*(1/($D$5/100))))))),0,METHANE!$J47*(IF('USER INPUTS'!$B$26=\"Total landfill gas\",(1/($D$5/100)),IF('USER INPUTS'!$B$26=\"Methane\",1,IF('USER INPUTS'!$B$26=\"Carbon dioxide\",((1/($D$5/100))-1),(VLOOKUP('USER INPUTS'!$B$26,DEFAULTS!$E$8:$F$69,2,FALSE))/10^6*(1/($D$5/100)))))))","v":0},{"$f":"IF(K$8=\"(short tons/year)\",(I33*DEFAULTS!$B$55*DEFAULTS!$B$53/DEFAULTS!$B$54),IF(K$8=\"(ft^3/year)\",(J33*DEFAULTS!$B$57),IF(K$8=\"(av ft^3/min)\",(J33*DEFAULTS!$B$57/DEFAULTS!$B$58),0)))","v":0},{"$f":"IF(ISERROR(METHANE!$J47*DEFAULTS!$B$83*(IF('USER INPUTS'!$B$28=\"Total landfill gas\",(1/($D$5/100)),IF('USER INPUTS'!$B$28=\"Methane\",1,IF('USER INPUTS'!$B$28=\"Carbon dioxide\",((1/($D$5/100))-1),(VLOOKUP('USER INPUTS'!$B$28,DEFAULTS!$E$8:$F$69,2,FALSE))/10^6*(1/($D$5/100))))))),0,METHANE!$J47*DEFAULTS!$B$83*(IF('USER INPUTS'!$B$28=\"Total landfill gas\",(1/($D$5/100)),IF('USER INPUTS'!$B$28=\"Methane\",1,IF('USER INPUTS'!$B$28=\"Carbon dioxide\",((1/($D$5/100))-1),(VLOOKUP('USER INPUTS'!$B$28,DEFAULTS!$E$8:$F$69,2,FALSE))/10^6*(1/($D$5/100)))))))","v":0},{"$f":"IF(ISERROR(METHANE!$J47*(IF('USER INPUTS'!$B$28=\"Total landfill gas\",(1/($D$5/100)),IF('USER INPUTS'!$B$28=\"Methane\",1,IF('USER INPUTS'!$B$28=\"Carbon dioxide\",((1/($D$5/100))-1),(VLOOKUP('USER INPUTS'!$B$28,DEFAULTS!$E$8:$F$69,2,FALSE))/10^6*(1/($D$5/100))))))),0,METHANE!$J47*(IF('USER INPUTS'!$B$28=\"Total landfill gas\",(1/($D$5/100)),IF('USER INPUTS'!$B$28=\"Methane\",1,IF('USER INPUTS'!$B$28=\"Carbon dioxide\",((1/($D$5/100))-1),(VLOOKUP('USER INPUTS'!$B$28,DEFAULTS!$E$8:$F$69,2,FALSE))/10^6*(1/($D$5/100)))))))","v":0},{"$f":"IF(N$8=\"(short tons/year)\",(L33*DEFAULTS!$B$55*DEFAULTS!$B$53/DEFAULTS!$B$54),IF(N$8=\"(ft^3/year)\",(M33*DEFAULTS!$B$57),IF(N$8=\"(av ft^3/min)\",(M33*DEFAULTS!$B$57/DEFAULTS!$B$58),0)))","v":0},{"$f":"IF(ISERROR(METHANE!$J47*DEFAULTS!$B$84*(IF('USER INPUTS'!$B$30=\"Total landfill gas\",(1/($D$5/100)),IF('USER INPUTS'!$B$30=\"Methane\",1,IF('USER INPUTS'!$B$30=\"Carbon dioxide\",((1/($D$5/100))-1),(VLOOKUP('USER INPUTS'!$B$30,DEFAULTS!$E$8:$F$69,2,FALSE))/10^6*(1/($D$5/100))))))),0,METHANE!$J47*DEFAULTS!$B$84*(IF('USER INPUTS'!$B$30=\"Total landfill gas\",(1/($D$5/100)),IF('USER INPUTS'!$B$30=\"Methane\",1,IF('USER INPUTS'!$B$30=\"Carbon dioxide\",((1/($D$5/100))-1),(VLOOKUP('USER INPUTS'!$B$30,DEFAULTS!$E$8:$F$69,2,FALSE))/10^6*(1/($D$5/100)))))))","v":0},{"$f":"IF(ISERROR(METHANE!$J47*(IF('USER INPUTS'!$B$30=\"Total landfill gas\",(1/($D$5/100)),IF('USER INPUTS'!$B$30=\"Methane\",1,IF('USER INPUTS'!$B$30=\"Carbon dioxide\",((1/($D$5/100))-1),(VLOOKUP('USER INPUTS'!$B$30,DEFAULTS!$E$8:$F$69,2,FALSE))/10^6*(1/($D$5/100))))))),0,METHANE!$J47*(IF('USER INPUTS'!$B$30=\"Total landfill gas\",(1/($D$5/100)),IF('USER INPUTS'!$B$30=\"Methane\",1,IF('USER INPUTS'!$B$30=\"Carbon dioxide\",((1/($D$5/100))-1),(VLOOKUP('USER INPUTS'!$B$30,DEFAULTS!$E$8:$F$69,2,FALSE))/10^6*(1/($D$5/100)))))))","v":0},{"$f":"IF(Q$8=\"(short tons/year)\",(O33*DEFAULTS!$B$55*DEFAULTS!$B$53/DEFAULTS!$B$54),IF(Q$8=\"(ft^3/year)\",(P33*DEFAULTS!$B$57),IF(Q$8=\"(av ft^3/min)\",(P33*DEFAULTS!$B$57/DEFAULTS!$B$58),0)))","v":0}]
[{"$f":"METHANE!I48","v":25},{"$f":"IF(METHANE!E48>0,METHANE!E48,0)","v":0},{"$f":"IF(METHANE!E48>0,METHANE!E48*DEFAULTS!$B$55*DEFAULTS!$B$53/DEFAULTS!$B$54,0)","v":0},{"$f":"IF(METHANE!F48>0,METHANE!F48,0)","v":0},{"$f":"IF(METHANE!F48>0,METHANE!F48*DEFAULTS!$B$55*DEFAULTS!$B$53/DEFAULTS!$B$54,0)","v":0},{"$f":"IF(ISERROR(METHANE!$J48*DEFAULTS!$B$81*(IF('USER INPUTS'!$B$24=\"Total landfill gas\",(1/($D$5/100)),IF('USER INPUTS'!$B$24=\"Methane\",1,IF('USER INPUTS'!$B$24=\"Carbon dioxide\",((1/($D$5/100))-1),(VLOOKUP('USER INPUTS'!$B$24,DEFAULTS!$E$8:$F$69,2,FALSE))/10^6*(1/($D$5/100))))))),0,METHANE!$J48*DEFAULTS!$B$81*(IF('USER INPUTS'!$B$24=\"Total landfill gas\",(1/($D$5/100)),IF('USER INPUTS'!$B$24=\"Methane\",1,IF('USER INPUTS'!$B$24=\"Carbon dioxide\",((1/($D$5/100))-1),(VLOOKUP('USER INPUTS'!$B$24,DEFAULTS!$E$8:$F$69,2,FALSE))/10^6*(1/($D$5/100)))))))","v":0},{"$f":"IF(ISERROR(METHANE!$J48*(IF('USER INPUTS'!$B$24=\"Total landfill gas\",(1/($D$5/100)),IF('USER INPUTS'!$B$24=\"Methane\",1,IF('USER INPUTS'!$B$24=\"Carbon dioxide\",((1/($D$5/100))-1),(VLOOKUP('USER INPUTS'!$B$24,DEFAULTS!$E$8:$F$69,2,FALSE))/10^6*(1/($D$5/100))))))),0,METHANE!$J48*(IF('USER INPUTS'!$B$24=\"Total landfill gas\",(1/($D$5/100)),IF('USER INPUTS'!$B$24=\"Methane\",1,IF('USER INPUTS'!$B$24=\"Carbon dioxide\",((1/($D$5/100))-1),(VLOOKUP('USER INPUTS'!$B$24,DEFAULTS!$E$8:$F$69,2,FALSE))/10^6*(1/($D$5/100)))))))","v":0},{"$f":"IF(H$8=\"(short tons/year)\",(F34*DEFAULTS!$B$55*DEFAULTS!$B$53/DEFAULTS!$B$54),IF(H$8=\"(ft^3/year)\",(G34*DEFAULTS!$B$57),IF(H$8=\"(av ft^3/min)\",(G34*DEFAULTS!$B$57/DEFAULTS!$B$58),0)))","v":0},{"$f":"IF(ISERROR(METHANE!$J48*DEFAULTS!$B$82*(IF('USER INPUTS'!$B$26=\"Total landfill gas\",(1/($D$5/100)),IF('USER INPUTS'!$B$26=\"Methane\",1,IF('USER INPUTS'!$B$26=\"Carbon dioxide\",((1/($D$5/100))-1),(VLOOKUP('USER INPUTS'!$B$26,DEFAULTS!$E$8:$F$69,2,FALSE))/10^6*(1/($D$5/100))))))),0,METHANE!$J48*DEFAULTS!$B$82*(IF('USER INPUTS'!$B$26=\"Total landfill gas\",(1/($D$5/100)),IF('USER INPUTS'!$B$26=\"Methane\",1,IF('USER INPUTS'!$B$26=\"Carbon dioxide\",((1/($D$5/100))-1),(VLOOKUP('USER INPUTS'!$B$26,DEFAULTS!$E$8:$F$69,2,FALSE))/10^6*(1/($D$5/100)))))))","v":0},{"$f":"IF(ISERROR(METHANE!$J48*(IF('USER INPUTS'!$B$26=\"Total landfill gas\",(1/($D$5/100)),IF('USER INPUTS'!$B$26=\"Methane\",1,IF('USER INPUTS'!$B$26=\"Carbon dioxide\",((1/($D$5/100))-1),(VLOOKUP('USER INPUTS'!$B$26,DEFAULTS!$E$8:$F$69,2,FALSE))/10^6*(1/($D$5/100))))))),0,METHANE!$J48*(IF('USER INPUTS'!$B$26=\"Total landfill gas\",(1/($D$5/100)),IF('USER INPUTS'!$B$26=\"Methane\",1,IF('USER INPUTS'!$B$26=\"Carbon dioxide\",((1/($D$5/100))-1),(VLOOKUP('USER INPUTS'!$B$26,DEFAULTS!$E$8:$F$69,2,FALSE))/10^6*(1/($D$5/100)))))))","v":0},{"$f":"IF(K$8=\"(short tons/year)\",(I34*DEFAULTS!$B$55*DEFAULTS!$B$53/DEFAULTS!$B$54),IF(K$8=\"(ft^3/year)\",(J34*DEFAULTS!$B$57),IF(K$8=\"(av ft^3/min)\",(J34*DEFAULTS!$B$57/DEFAULTS!$B$58),0)))","v":0},{"$f":"IF(ISERROR(METHANE!$J48*DEFAULTS!$B$83*(IF('USER INPUTS'!$B$28=\"Total landfill gas\",(1/($D$5/100)),IF('USER INPUTS'!$B$28=\"Methane\",1,IF('USER INPUTS'!$B$28=\"Carbon dioxide\",((1/($D$5/100))-1),(VLOOKUP('USER INPUTS'!$B$28,DEFAULTS!$E$8:$F$69,2,FALSE))/10^6*(1/($D$5/100))))))),0,METHANE!$J48*DEFAULTS!$B$83*(IF('USER INPUTS'!$B$28=\"Total landfill gas\",(1/($D$5/100)),IF('USER INPUTS'!$B$28=\"Methane\",1,IF('USER INPUTS'!$B$28=\"Carbon dioxide\",((1/($D$5/100))-1),(VLOOKUP('USER INPUTS'!$B$28,DEFAULTS!$E$8:$F$69,2,FALSE))/10^6*(1/($D$5/100)))))))","v":0},{"$f":"IF(ISERROR(METHANE!$J48*(IF('USER INPUTS'!$B$28=\"Total landfill gas\",(1/($D$5/100)),IF('USER INPUTS'!$B$28=\"Methane\",1,IF('USER INPUTS'!$B$28=\"Carbon dioxide\",((1/($D$5/100))-1),(VLOOKUP('USER INPUTS'!$B$28,DEFAULTS!$E$8:$F$69,2,FALSE))/10^6*(1/($D$5/100))))))),0,METHANE!$J48*(IF('USER INPUTS'!$B$28=\"Total landfill gas\",(1/($D$5/100)),IF('USER INPUTS'!$B$28=\"Methane\",1,IF('USER INPUTS'!$B$28=\"Carbon dioxide\",((1/($D$5/100))-1),(VLOOKUP('USER INPUTS'!$B$28,DEFAULTS!$E$8:$F$69,2,FALSE))/10^6*(1/($D$5/100)))))))","v":0},{"$f":"IF(N$8=\"(short tons/year)\",(L34*DEFAULTS!$B$55*DEFAULTS!$B$53/DEFAULTS!$B$54),IF(N$8=\"(ft^3/year)\",(M34*DEFAULTS!$B$57),IF(N$8=\"(av ft^3/min)\",(M34*DEFAULTS!$B$57/DEFAULTS!$B$58),0)))","v":0},{"$f":"IF(ISERROR(METHANE!$J48*DEFAULTS!$B$84*(IF('USER INPUTS'!$B$30=\"Total landfill gas\",(1/($D$5/100)),IF('USER INPUTS'!$B$30=\"Methane\",1,IF('USER INPUTS'!$B$30=\"Carbon dioxide\",((1/($D$5/100))-1),(VLOOKUP('USER INPUTS'!$B$30,DEFAULTS!$E$8:$F$69,2,FALSE))/10^6*(1/($D$5/100))))))),0,METHANE!$J48*DEFAULTS!$B$84*(IF('USER INPUTS'!$B$30=\"Total landfill gas\",(1/($D$5/100)),IF('USER INPUTS'!$B$30=\"Methane\",1,IF('USER INPUTS'!$B$30=\"Carbon dioxide\",((1/($D$5/100))-1),(VLOOKUP('USER INPUTS'!$B$30,DEFAULTS!$E$8:$F$69,2,FALSE))/10^6*(1/($D$5/100)))))))","v":0},{"$f":"IF(ISERROR(METHANE!$J48*(IF('USER INPUTS'!$B$30=\"Total landfill gas\",(1/($D$5/100)),IF('USER INPUTS'!$B$30=\"Methane\",1,IF('USER INPUTS'!$B$30=\"Carbon dioxide\",((1/($D$5/100))-1),(VLOOKUP('USER INPUTS'!$B$30,DEFAULTS!$E$8:$F$69,2,FALSE))/10^6*(1/($D$5/100))))))),0,METHANE!$J48*(IF('USER INPUTS'!$B$30=\"Total landfill gas\",(1/($D$5/100)),IF('USER INPUTS'!$B$30=\"Methane\",1,IF('USER INPUTS'!$B$30=\"Carbon dioxide\",((1/($D$5/100))-1),(VLOOKUP('USER INPUTS'!$B$30,DEFAULTS!$E$8:$F$69,2,FALSE))/10^6*(1/($D$5/100)))))))","v":0},{"$f":"IF(Q$8=\"(short tons/year)\",(O34*DEFAULTS!$B$55*DEFAULTS!$B$53/DEFAULTS!$B$54),IF(Q$8=\"(ft^3/year)\",(P34*DEFAULTS!$B$57),IF(Q$8=\"(av ft^3/min)\",(P34*DEFAULTS!$B$57/DEFAULTS!$B$58),0)))","v":0}]
[{"$f":"METHANE!I49","v":26},{"$f":"IF(METHANE!E49>0,METHANE!E49,0)","v":0},{"$f":"IF(METHANE!E49>0,METHANE!E49*DEFAULTS!$B$55*DEFAULTS!$B$53/DEFAULTS!$B$54,0)","v":0},{"$f":"IF(METHANE!F49>0,METHANE!F49,0)","v":0},{"$f":"IF(METHANE!F49>0,METHANE!F49*DEFAULTS!$B$55*DEFAULTS!$B$53/DEFAULTS!$B$54,0)","v":0},{"$f":"IF(ISERROR(METHANE!$J49*DEFAULTS!$B$81*(IF('USER INPUTS'!$B$24=\"Total landfill gas\",(1/($D$5/100)),IF('USER INPUTS'!$B$24=\"Methane\",1,IF('USER INPUTS'!$B$24=\"Carbon dioxide\",((1/($D$5/100))-1),(VLOOKUP('USER INPUTS'!$B$24,DEFAULTS!$E$8:$F$69,2,FALSE))/10^6*(1/($D$5/100))))))),0,METHANE!$J49*DEFAULTS!$B$81*(IF('USER INPUTS'!$B$24=\"Total landfill gas\",(1/($D$5/100)),IF('USER INPUTS'!$B$24=\"Methane\",1,IF('USER INPUTS'!$B$24=\"Carbon dioxide\",((1/($D$5/100))-1),(VLOOKUP('USER INPUTS'!$B$24,DEFAULTS!$E$8:$F$69,2,FALSE))/10^6*(1/($D$5/100)))))))","v":0},{"$f":"IF(ISERROR(METHANE!$J49*(IF('USER INPUTS'!$B$24=\"Total landfill gas\",(1/($D$5/100)),IF('USER INPUTS'!$B$24=\"Methane\",1,IF('USER INPUTS'!$B$24=\"Carbon dioxide\",((1/($D$5/100))-1),(VLOOKUP('USER INPUTS'!$B$24,DEFAULTS!$E$8:$F$69,2,FALSE))/10^6*(1/($D$5/100))))))),0,METHANE!$J49*(IF('USER INPUTS'!$B$24=\"Total landfill gas\",(1/($D$5/100)),IF('USER INPUTS'!$B$24=\"Methane\",1,IF('USER INPUTS'!$B$24=\"Carbon dioxide\",((1/($D$5/100))-1),(VLOOKUP('USER INPUTS'!$B$24,DEFAULTS!$E$8:$F$69,2,FALSE))/10^6*(1/($D$5/100)))))))","v":0},{"$f":"IF(H$8=\"(short tons/year)\",(F35*DEFAULTS!$B$55*DEFAULTS!$B$53/DEFAULTS!$B$54),IF(H$8=\"(ft^3/year)\",(G35*DEFAULTS!$B$57),IF(H$8=\"(av ft^3/min)\",(G35*DEFAULTS!$B$57/DEFAULTS!$B$58),0)))","v":0},{"$f":"IF(ISERROR(METHANE!$J49*DEFAULTS!$B$82*(IF('USER INPUTS'!$B$26=\"Total landfill gas\",(1/($D$5/100)),IF('USER INPUTS'!$B$26=\"Methane\",1,IF('USER INPUTS'!$B$26=\"Carbon dioxide\",((1/($D$5/100))-1),(VLOOKUP('USER INPUTS'!$B$26,DEFAULTS!$E$8:$F$69,2,FALSE))/10^6*(1/($D$5/100))))))),0,METHANE!$J49*DEFAULTS!$B$82*(IF('USER INPUTS'!$B$26=\"Total landfill gas\",(1/($D$5/100)),IF('USER INPUTS'!$B$26=\"Methane\",1,IF('USER INPUTS'!$B$26=\"Carbon dioxide\",((1/($D$5/100))-1),(VLOOKUP('USER INPUTS'!$B$26,DEFAULTS!$E$8:$F$69,2,FALSE))/10^6*(1/($D$5/100)))))))","v":0},{"$f":"IF(ISERROR(METHANE!$J49*(IF('USER INPUTS'!$B$26=\"Total landfill gas\",(1/($D$5/100)),IF('USER INPUTS'!$B$26=\"Methane\",1,IF('USER INPUTS'!$B$26=\"Carbon dioxide\",((1/($D$5/100))-1),(VLOOKUP('USER INPUTS'!$B$26,DEFAULTS!$E$8:$F$69,2,FALSE))/10^6*(1/($D$5/100))))))),0,METHANE!$J49*(IF('USER INPUTS'!$B$26=\"Total landfill gas\",(1/($D$5/100)),IF('USER INPUTS'!$B$26=\"Methane\",1,IF('USER INPUTS'!$B$26=\"Carbon dioxide\",((1/($D$5/100))-1),(VLOOKUP('USER INPUTS'!$B$26,DEFAULTS!$E$8:$F$69,2,FALSE))/10^6*(1/($D$5/100)))))))","v":0},{"$f":"IF(K$8=\"(short tons/year)\",(I35*DEFAULTS!$B$55*DEFAULTS!$B$53/DEFAULTS!$B$54),IF(K$8=\"(ft^3/year)\",(J35*DEFAULTS!$B$57),IF(K$8=\"(av ft^3/min)\",(J35*DEFAULTS!$B$57/DEFAULTS!$B$58),0)))","v":0},{"$f":"IF(ISERROR(METHANE!$J49*DEFAULTS!$B$83*(IF('USER INPUTS'!$B$28=\"Total landfill gas\",(1/($D$5/100)),IF('USER INPUTS'!$B$28=\"Methane\",1,IF('USER INPUTS'!$B$28=\"Carbon dioxide\",((1/($D$5/100))-1),(VLOOKUP('USER INPUTS'!$B$28,DEFAULTS!$E$8:$F$69,2,FALSE))/10^6*(1/($D$5/100))))))),0,METHANE!$J49*DEFAULTS!$B$83*(IF('USER INPUTS'!$B$28=\"Total landfill gas\",(1/($D$5/100)),IF('USER INPUTS'!$B$28=\"Methane\",1,IF('USER INPUTS'!$B$28=\"Carbon dioxide\",((1/($D$5/100))-1),(VLOOKUP('USER INPUTS'!$B$28,DEFAULTS!$E$8:$F$69,2,FALSE))/10^6*(1/($D$5/100)))))))","v":0},{"$f":"IF(ISERROR(METHANE!$J49*(IF('USER INPUTS'!$B$28=\"Total landfill gas\",(1/($D$5/100)),IF('USER INPUTS'!$B$28=\"Methane\",1,IF('USER INPUTS'!$B$28=\"Carbon dioxide\",((1/($D$5/100))-1),(VLOOKUP('USER INPUTS'!$B$28,DEFAULTS!$E$8:$F$69,2,FALSE))/10^6*(1/($D$5/100))))))),0,METHANE!$J49*(IF('USER INPUTS'!$B$28=\"Total landfill gas\",(1/($D$5/100)),IF('USER INPUTS'!$B$28=\"Methane\",1,IF('USER INPUTS'!$B$28=\"Carbon dioxide\",((1/($D$5/100))-1),(VLOOKUP('USER INPUTS'!$B$28,DEFAULTS!$E$8:$F$69,2,FALSE))/10^6*(1/($D$5/100)))))))","v":0},{"$f":"IF(N$8=\"(short tons/year)\",(L35*DEFAULTS!$B$55*DEFAULTS!$B$53/DEFAULTS!$B$54),IF(N$8=\"(ft^3/year)\",(M35*DEFAULTS!$B$57),IF(N$8=\"(av ft^3/min)\",(M35*DEFAULTS!$B$57/DEFAULTS!$B$58),0)))","v":0},{"$f":"IF(ISERROR(METHANE!$J49*DEFAULTS!$B$84*(IF('USER INPUTS'!$B$30=\"Total landfill gas\",(1/($D$5/100)),IF('USER INPUTS'!$B$30=\"Methane\",1,IF('USER INPUTS'!$B$30=\"Carbon dioxide\",((1/($D$5/100))-1),(VLOOKUP('USER INPUTS'!$B$30,DEFAULTS!$E$8:$F$69,2,FALSE))/10^6*(1/($D$5/100))))))),0,METHANE!$J49*DEFAULTS!$B$84*(IF('USER INPUTS'!$B$30=\"Total landfill gas\",(1/($D$5/100)),IF('USER INPUTS'!$B$30=\"Methane\",1,IF('USER INPUTS'!$B$30=\"Carbon dioxide\",((1/($D$5/100))-1),(VLOOKUP('USER INPUTS'!$B$30,DEFAULTS!$E$8:$F$69,2,FALSE))/10^6*(1/($D$5/100)))))))","v":0},{"$f":"IF(ISERROR(METHANE!$J49*(IF('USER INPUTS'!$B$30=\"Total landfill gas\",(1/($D$5/100)),IF('USER INPUTS'!$B$30=\"Methane\",1,IF('USER INPUTS'!$B$30=\"Carbon dioxide\",((1/($D$5/100))-1),(VLOOKUP('USER INPUTS'!$B$30,DEFAULTS!$E$8:$F$69,2,FALSE))/10^6*(1/($D$5/100))))))),0,METHANE!$J49*(IF('USER INPUTS'!$B$30=\"Total landfill gas\",(1/($D$5/100)),IF('USER INPUTS'!$B$30=\"Methane\",1,IF('USER INPUTS'!$B$30=\"Carbon dioxide\",((1/($D$5/100))-1),(VLOOKUP('USER INPUTS'!$B$30,DEFAULTS!$E$8:$F$69,2,FALSE))/10^6*(1/($D$5/100)))))))","v":0},{"$f":"IF(Q$8=\"(short tons/year)\",(O35*DEFAULTS!$B$55*DEFAULTS!$B$53/DEFAULTS!$B$54),IF(Q$8=\"(ft^3/year)\",(P35*DEFAULTS!$B$57),IF(Q$8=\"(av ft^3/min)\",(P35*DEFAULTS!$B$57/DEFAULTS!$B$58),0)))","v":0}]
[{"$f":"METHANE!I50","v":27},{"$f":"IF(METHANE!E50>0,METHANE!E50,0)","v":0},{"$f":"IF(METHANE!E50>0,METHANE!E50*DEFAULTS!$B$55*DEFAULTS!$B$53/DEFAULTS!$B$54,0)","v":0},{"$f":"IF(METHANE!F50>0,METHANE!F50,0)","v":0},{"$f":"IF(METHANE!F50>0,METHANE!F50*DEFAULTS!$B$55*DEFAULTS!$B$53/DEFAULTS!$B$54,0)","v":0},{"$f":"IF(ISERROR(METHANE!$J50*DEFAULTS!$B$81*(IF('USER INPUTS'!$B$24=\"Total landfill gas\",(1/($D$5/100)),IF('USER INPUTS'!$B$24=\"Methane\",1,IF('USER INPUTS'!$B$24=\"Carbon dioxide\",((1/($D$5/100))-1),(VLOOKUP('USER INPUTS'!$B$24,DEFAULTS!$E$8:$F$69,2,FALSE))/10^6*(1/($D$5/100))))))),0,METHANE!$J50*DEFAULTS!$B$81*(IF('USER INPUTS'!$B$24=\"Total landfill gas\",(1/($D$5/100)),IF('USER INPUTS'!$B$24=\"Methane\",1,IF('USER INPUTS'!$B$24=\"Carbon dioxide\",((1/($D$5/100))-1),(VLOOKUP('USER INPUTS'!$B$24,DEFAULTS!$E$8:$F$69,2,FALSE))/10^6*(1/($D$5/100)))))))","v":0},{"$f":"IF(ISERROR(METHANE!$J50*(IF('USER INPUTS'!$B$24=\"Total landfill gas\",(1/($D$5/100)),IF('USER INPUTS'!$B$24=\"Methane\",1,IF('USER INPUTS'!$B$24=\"Carbon dioxide\",((1/($D$5/100))-1),(VLOOKUP('USER INPUTS'!$B$24,DEFAULTS!$E$8:$F$69,2,FALSE))/10^6*(1/($D$5/100))))))),0,METHANE!$J50*(IF('USER INPUTS'!$B$24=\"Total landfill gas\",(1/($D$5/100)),IF('USER INPUTS'!$B$24=\"Methane\",1,IF('USER INPUTS'!$B$24=\"Carbon dioxide\",((1/($D$5/100))-1),(VLOOKUP('USER INPUTS'!$B$24,DEFAULTS!$E$8:$F$69,2,FALSE))/10^6*(1/($D$5/100)))))))","v":0},{"$f":"IF(H$8=\"(short tons/year)\",(F36*DEFAULTS!$B$55*DEFAULTS!$B$53/DEFAULTS!$B$54),IF(H$8=\"(ft^3/year)\",(G36*DEFAULTS!$B$57),IF(H$8=\"(av ft^3/min)\",(G36*DEFAULTS!$B$57/DEFAULTS!$B$58),0)))","v":0},{"$f":"IF(ISERROR(METHANE!$J50*DEFAULTS!$B$82*(IF('USER INPUTS'!$B$26=\"Total landfill gas\",(1/($D$5/100)),IF('USER INPUTS'!$B$26=\"Methane\",1,IF('USER INPUTS'!$B$26=\"Carbon dioxide\",((1/($D$5/100))-1),(VLOOKUP('USER INPUTS'!$B$26,DEFAULTS!$E$8:$F$69,2,FALSE))/10^6*(1/($D$5/100))))))),0,METHANE!$J50*DEFAULTS!$B$82*(IF('USER INPUTS'!$B$26=\"Total landfill gas\",(1/($D$5/100)),IF('USER INPUTS'!$B$26=\"Methane\",1,IF('USER INPUTS'!$B$26=\"Carbon dioxide\",((1/($D$5/100))-1),(VLOOKUP('USER INPUTS'!$B$26,DEFAULTS!$E$8:$F$69,2,FALSE))/10^6*(1/($D$5/100)))))))","v":0},{"$f":"IF(ISERROR(METHANE!$J50*(IF('USER INPUTS'!$B$26=\"Total landfill gas\",(1/($D$5/100)),IF('USER INPUTS'!$B$26=\"Methane\",1,IF('USER INPUTS'!$B$26=\"Carbon dioxide\",((1/($D$5/100))-1),(VLOOKUP('USER INPUTS'!$B$26,DEFAULTS!$E$8:$F$69,2,FALSE))/10^6*(1/($D$5/100))))))),0,METHANE!$J50*(IF('USER INPUTS'!$B$26=\"Total landfill gas\",(1/($D$5/100)),IF('USER INPUTS'!$B$26=\"Methane\",1,IF('USER INPUTS'!$B$26=\"Carbon dioxide\",((1/($D$5/100))-1),(VLOOKUP('USER INPUTS'!$B$26,DEFAULTS!$E$8:$F$69,2,FALSE))/10^6*(1/($D$5/100)))))))","v":0},{"$f":"IF(K$8=\"(short tons/year)\",(I36*DEFAULTS!$B$55*DEFAULTS!$B$53/DEFAULTS!$B$54),IF(K$8=\"(ft^3/year)\",(J36*DEFAULTS!$B$57),IF(K$8=\"(av ft^3/min)\",(J36*DEFAULTS!$B$57/DEFAULTS!$B$58),0)))","v":0},{"$f":"IF(ISERROR(METHANE!$J50*DEFAULTS!$B$83*(IF('USER INPUTS'!$B$28=\"Total landfill gas\",(1/($D$5/100)),IF('USER INPUTS'!$B$28=\"Methane\",1,IF('USER INPUTS'!$B$28=\"Carbon dioxide\",((1/($D$5/100))-1),(VLOOKUP('USER INPUTS'!$B$28,DEFAULTS!$E$8:$F$69,2,FALSE))/10^6*(1/($D$5/100))))))),0,METHANE!$J50*DEFAULTS!$B$83*(IF('USER INPUTS'!$B$28=\"Total landfill gas\",(1/($D$5/100)),IF('USER INPUTS'!$B$28=\"Methane\",1,IF('USER INPUTS'!$B$28=\"Carbon dioxide\",((1/($D$5/100))-1),(VLOOKUP('USER INPUTS'!$B$28,DEFAULTS!$E$8:$F$69,2,FALSE))/10^6*(1/($D$5/100)))))))","v":0},{"$f":"IF(ISERROR(METHANE!$J50*(IF('USER INPUTS'!$B$28=\"Total landfill gas\",(1/($D$5/100)),IF('USER INPUTS'!$B$28=\"Methane\",1,IF('USER INPUTS'!$B$28=\"Carbon dioxide\",((1/($D$5/100))-1),(VLOOKUP('USER INPUTS'!$B$28,DEFAULTS!$E$8:$F$69,2,FALSE))/10^6*(1/($D$5/100))))))),0,METHANE!$J50*(IF('USER INPUTS'!$B$28=\"Total landfill gas\",(1/($D$5/100)),IF('USER INPUTS'!$B$28=\"Methane\",1,IF('USER INPUTS'!$B$28=\"Carbon dioxide\",((1/($D$5/100))-1),(VLOOKUP('USER INPUTS'!$B$28,DEFAULTS!$E$8:$F$69,2,FALSE))/10^6*(1/($D$5/100)))))))","v":0},{"$f":"IF(N$8=\"(short tons/year)\",(L36*DEFAULTS!$B$55*DEFAULTS!$B$53/DEFAULTS!$B$54),IF(N$8=\"(ft^3/year)\",(M36*DEFAULTS!$B$57),IF(N$8=\"(av ft^3/min)\",(M36*DEFAULTS!$B$57/DEFAULTS!$B$58),0)))","v":0},{"$f":"IF(ISERROR(METHANE!$J50*DEFAULTS!$B$84*(IF('USER INPUTS'!$B$30=\"Total landfill gas\",(1/($D$5/100)),IF('USER INPUTS'!$B$30=\"Methane\",1,IF('USER INPUTS'!$B$30=\"Carbon dioxide\",((1/($D$5/100))-1),(VLOOKUP('USER INPUTS'!$B$30,DEFAULTS!$E$8:$F$69,2,FALSE))/10^6*(1/($D$5/100))))))),0,METHANE!$J50*DEFAULTS!$B$84*(IF('USER INPUTS'!$B$30=\"Total landfill gas\",(1/($D$5/100)),IF('USER INPUTS'!$B$30=\"Methane\",1,IF('USER INPUTS'!$B$30=\"Carbon dioxide\",((1/($D$5/100))-1),(VLOOKUP('USER INPUTS'!$B$30,DEFAULTS!$E$8:$F$69,2,FALSE))/10^6*(1/($D$5/100)))))))","v":0},{"$f":"IF(ISERROR(METHANE!$J50*(IF('USER INPUTS'!$B$30=\"Total landfill gas\",(1/($D$5/100)),IF('USER INPUTS'!$B$30=\"Methane\",1,IF('USER INPUTS'!$B$30=\"Carbon dioxide\",((1/($D$5/100))-1),(VLOOKUP('USER INPUTS'!$B$30,DEFAULTS!$E$8:$F$69,2,FALSE))/10^6*(1/($D$5/100))))))),0,METHANE!$J50*(IF('USER INPUTS'!$B$30=\"Total landfill gas\",(1/($D$5/100)),IF('USER INPUTS'!$B$30=\"Methane\",1,IF('USER INPUTS'!$B$30=\"Carbon dioxide\",((1/($D$5/100))-1),(VLOOKUP('USER INPUTS'!$B$30,DEFAULTS!$E$8:$F$69,2,FALSE))/10^6*(1/($D$5/100)))))))","v":0},{"$f":"IF(Q$8=\"(short tons/year)\",(O36*DEFAULTS!$B$55*DEFAULTS!$B$53/DEFAULTS!$B$54),IF(Q$8=\"(ft^3/year)\",(P36*DEFAULTS!$B$57),IF(Q$8=\"(av ft^3/min)\",(P36*DEFAULTS!$B$57/DEFAULTS!$B$58),0)))","v":0}]
[{"$f":"METHANE!I51","v":28},{"$f":"IF(METHANE!E51>0,METHANE!E51,0)","v":0},{"$f":"IF(METHANE!E51>0,METHANE!E51*DEFAULTS!$B$55*DEFAULTS!$B$53/DEFAULTS!$B$54,0)","v":0},{"$f":"IF(METHANE!F51>0,METHANE!F51,0)","v":0},{"$f":"IF(METHANE!F51>0,METHANE!F51*DEFAULTS!$B$55*DEFAULTS!$B$53/DEFAULTS!$B$54,0)","v":0},{"$f":"IF(ISERROR(METHANE!$J51*DEFAULTS!$B$81*(IF('USER INPUTS'!$B$24=\"Total landfill gas\",(1/($D$5/100)),IF('USER INPUTS'!$B$24=\"Methane\",1,IF('USER INPUTS'!$B$24=\"Carbon dioxide\",((1/($D$5/100))-1),(VLOOKUP('USER INPUTS'!$B$24,DEFAULTS!$E$8:$F$69,2,FALSE))/10^6*(1/($D$5/100))))))),0,METHANE!$J51*DEFAULTS!$B$81*(IF('USER INPUTS'!$B$24=\"Total landfill gas\",(1/($D$5/100)),IF('USER INPUTS'!$B$24=\"Methane\",1,IF('USER INPUTS'!$B$24=\"Carbon dioxide\",((1/($D$5/100))-1),(VLOOKUP('USER INPUTS'!$B$24,DEFAULTS!$E$8:$F$69,2,FALSE))/10^6*(1/($D$5/100)))))))","v":0},{"$f":"IF(ISERROR(METHANE!$J51*(IF('USER INPUTS'!$B$24=\"Total landfill gas\",(1/($D$5/100)),IF('USER INPUTS'!$B$24=\"Methane\",1,IF('USER INPUTS'!$B$24=\"Carbon dioxide\",((1/($D$5/100))-1),(VLOOKUP('USER INPUTS'!$B$24,DEFAULTS!$E$8:$F$69,2,FALSE))/10^6*(1/($D$5/100))))))),0,METHANE!$J51*(IF('USER INPUTS'!$B$24=\"Total landfill gas\",(1/($D$5/100)),IF('USER INPUTS'!$B$24=\"Methane\",1,IF('USER INPUTS'!$B$24=\"Carbon dioxide\",((1/($D$5/100))-1),(VLOOKUP('USER INPUTS'!$B$24,DEFAULTS!$E$8:$F$69,2,FALSE))/10^6*(1/($D$5/100)))))))","v":0},{"$f":"IF(H$8=\"(short tons/year)\",(F37*DEFAULTS!$B$55*DEFAULTS!$B$53/DEFAULTS!$B$54),IF(H$8=\"(ft^3/year)\",(G37*DEFAULTS!$B$57),IF(H$8=\"(av ft^3/min)\",(G37*DEFAULTS!$B$57/DEFAULTS!$B$58),0)))","v":0},{"$f":"IF(ISERROR(METHANE!$J51*DEFAULTS!$B$82*(IF('USER INPUTS'!$B$26=\"Total landfill gas\",(1/($D$5/100)),IF('USER INPUTS'!$B$26=\"Methane\",1,IF('USER INPUTS'!$B$26=\"Carbon dioxide\",((1/($D$5/100))-1),(VLOOKUP('USER INPUTS'!$B$26,DEFAULTS!$E$8:$F$69,2,FALSE))/10^6*(1/($D$5/100))))))),0,METHANE!$J51*DEFAULTS!$B$82*(IF('USER INPUTS'!$B$26=\"Total landfill gas\",(1/($D$5/100)),IF('USER INPUTS'!$B$26=\"Methane\",1,IF('USER INPUTS'!$B$26=\"Carbon dioxide\",((1/($D$5/100))-1),(VLOOKUP('USER INPUTS'!$B$26,DEFAULTS!$E$8:$F$69,2,FALSE))/10^6*(1/($D$5/100)))))))","v":0},{"$f":"IF(ISERROR(METHANE!$J51*(IF('USER INPUTS'!$B$26=\"Total landfill gas\",(1/($D$5/100)),IF('USER INPUTS'!$B$26=\"Methane\",1,IF('USER INPUTS'!$B$26=\"Carbon dioxide\",((1/($D$5/100))-1),(VLOOKUP('USER INPUTS'!$B$26,DEFAULTS!$E$8:$F$69,2,FALSE))/10^6*(1/($D$5/100))))))),0,METHANE!$J51*(IF('USER INPUTS'!$B$26=\"Total landfill gas\",(1/($D$5/100)),IF('USER INPUTS'!$B$26=\"Methane\",1,IF('USER INPUTS'!$B$26=\"Carbon dioxide\",((1/($D$5/100))-1),(VLOOKUP('USER INPUTS'!$B$26,DEFAULTS!$E$8:$F$69,2,FALSE))/10^6*(1/($D$5/100)))))))","v":0},{"$f":"IF(K$8=\"(short tons/year)\",(I37*DEFAULTS!$B$55*DEFAULTS!$B$53/DEFAULTS!$B$54),IF(K$8=\"(ft^3/year)\",(J37*DEFAULTS!$B$57),IF(K$8=\"(av ft^3/min)\",(J37*DEFAULTS!$B$57/DEFAULTS!$B$58),0)))","v":0},{"$f":"IF(ISERROR(METHANE!$J51*DEFAULTS!$B$83*(IF('USER INPUTS'!$B$28=\"Total landfill gas\",(1/($D$5/100)),IF('USER INPUTS'!$B$28=\"Methane\",1,IF('USER INPUTS'!$B$28=\"Carbon dioxide\",((1/($D$5/100))-1),(VLOOKUP('USER INPUTS'!$B$28,DEFAULTS!$E$8:$F$69,2,FALSE))/10^6*(1/($D$5/100))))))),0,METHANE!$J51*DEFAULTS!$B$83*(IF('USER INPUTS'!$B$28=\"Total landfill gas\",(1/($D$5/100)),IF('USER INPUTS'!$B$28=\"Methane\",1,IF('USER INPUTS'!$B$28=\"Carbon dioxide\",((1/($D$5/100))-1),(VLOOKUP('USER INPUTS'!$B$28,DEFAULTS!$E$8:$F$69,2,FALSE))/10^6*(1/($D$5/100)))))))","v":0},{"$f":"IF(ISERROR(METHANE!$J51*(IF('USER INPUTS'!$B$28=\"Total landfill gas\",(1/($D$5/100)),IF('USER INPUTS'!$B$28=\"Methane\",1,IF('USER INPUTS'!$B$28=\"Carbon dioxide\",((1/($D$5/100))-1),(VLOOKUP('USER INPUTS'!$B$28,DEFAULTS!$E$8:$F$69,2,FALSE))/10^6*(1/($D$5/100))))))),0,METHANE!$J51*(IF('USER INPUTS'!$B$28=\"Total landfill gas\",(1/($D$5/100)),IF('USER INPUTS'!$B$28=\"Methane\",1,IF('USER INPUTS'!$B$28=\"Carbon dioxide\",((1/($D$5/100))-1),(VLOOKUP('USER INPUTS'!$B$28,DEFAULTS!$E$8:$F$69,2,FALSE))/10^6*(1/($D$5/100)))))))","v":0},{"$f":"IF(N$8=\"(short tons/year)\",(L37*DEFAULTS!$B$55*DEFAULTS!$B$53/DEFAULTS!$B$54),IF(N$8=\"(ft^3/year)\",(M37*DEFAULTS!$B$57),IF(N$8=\"(av ft^3/min)\",(M37*DEFAULTS!$B$57/DEFAULTS!$B$58),0)))","v":0},{"$f":"IF(ISERROR(METHANE!$J51*DEFAULTS!$B$84*(IF('USER INPUTS'!$B$30=\"Total landfill gas\",(1/($D$5/100)),IF('USER INPUTS'!$B$30=\"Methane\",1,IF('USER INPUTS'!$B$30=\"Carbon dioxide\",((1/($D$5/100))-1),(VLOOKUP('USER INPUTS'!$B$30,DEFAULTS!$E$8:$F$69,2,FALSE))/10^6*(1/($D$5/100))))))),0,METHANE!$J51*DEFAULTS!$B$84*(IF('USER INPUTS'!$B$30=\"Total landfill gas\",(1/($D$5/100)),IF('USER INPUTS'!$B$30=\"Methane\",1,IF('USER INPUTS'!$B$30=\"Carbon dioxide\",((1/($D$5/100))-1),(VLOOKUP('USER INPUTS'!$B$30,DEFAULTS!$E$8:$F$69,2,FALSE))/10^6*(1/($D$5/100)))))))","v":0},{"$f":"IF(ISERROR(METHANE!$J51*(IF('USER INPUTS'!$B$30=\"Total landfill gas\",(1/($D$5/100)),IF('USER INPUTS'!$B$30=\"Methane\",1,IF('USER INPUTS'!$B$30=\"Carbon dioxide\",((1/($D$5/100))-1),(VLOOKUP('USER INPUTS'!$B$30,DEFAULTS!$E$8:$F$69,2,FALSE))/10^6*(1/($D$5/100))))))),0,METHANE!$J51*(IF('USER INPUTS'!$B$30=\"Total landfill gas\",(1/($D$5/100)),IF('USER INPUTS'!$B$30=\"Methane\",1,IF('USER INPUTS'!$B$30=\"Carbon dioxide\",((1/($D$5/100))-1),(VLOOKUP('USER INPUTS'!$B$30,DEFAULTS!$E$8:$F$69,2,FALSE))/10^6*(1/($D$5/100)))))))","v":0},{"$f":"IF(Q$8=\"(short tons/year)\",(O37*DEFAULTS!$B$55*DEFAULTS!$B$53/DEFAULTS!$B$54),IF(Q$8=\"(ft^3/year)\",(P37*DEFAULTS!$B$57),IF(Q$8=\"(av ft^3/min)\",(P37*DEFAULTS!$B$57/DEFAULTS!$B$58),0)))","v":0}]
[{"$f":"METHANE!I52","v":29},{"$f":"IF(METHANE!E52>0,METHANE!E52,0)","v":0},{"$f":"IF(METHANE!E52>0,METHANE!E52*DEFAULTS!$B$55*DEFAULTS!$B$53/DEFAULTS!$B$54,0)","v":0},{"$f":"IF(METHANE!F52>0,METHANE!F52,0)","v":0},{"$f":"IF(METHANE!F52>0,METHANE!F52*DEFAULTS!$B$55*DEFAULTS!$B$53/DEFAULTS!$B$54,0)","v":0},{"$f":"IF(ISERROR(METHANE!$J52*DEFAULTS!$B$81*(IF('USER INPUTS'!$B$24=\"Total landfill gas\",(1/($D$5/100)),IF('USER INPUTS'!$B$24=\"Methane\",1,IF('USER INPUTS'!$B$24=\"Carbon dioxide\",((1/($D$5/100))-1),(VLOOKUP('USER INPUTS'!$B$24,DEFAULTS!$E$8:$F$69,2,FALSE))/10^6*(1/($D$5/100))))))),0,METHANE!$J52*DEFAULTS!$B$81*(IF('USER INPUTS'!$B$24=\"Total landfill gas\",(1/($D$5/100)),IF('USER INPUTS'!$B$24=\"Methane\",1,IF('USER INPUTS'!$B$24=\"Carbon dioxide\",((1/($D$5/100))-1),(VLOOKUP('USER INPUTS'!$B$24,DEFAULTS!$E$8:$F$69,2,FALSE))/10^6*(1/($D$5/100)))))))","v":0},{"$f":"IF(ISERROR(METHANE!$J52*(IF('USER INPUTS'!$B$24=\"Total landfill gas\",(1/($D$5/100)),IF('USER INPUTS'!$B$24=\"Methane\",1,IF('USER INPUTS'!$B$24=\"Carbon dioxide\",((1/($D$5/100))-1),(VLOOKUP('USER INPUTS'!$B$24,DEFAULTS!$E$8:$F$69,2,FALSE))/10^6*(1/($D$5/100))))))),0,METHANE!$J52*(IF('USER INPUTS'!$B$24=\"Total landfill gas\",(1/($D$5/100)),IF('USER INPUTS'!$B$24=\"Methane\",1,IF('USER INPUTS'!$B$24=\"Carbon dioxide\",((1/($D$5/100))-1),(VLOOKUP('USER INPUTS'!$B$24,DEFAULTS!$E$8:$F$69,2,FALSE))/10^6*(1/($D$5/100)))))))","v":0},{"$f":"IF(H$8=\"(short tons/year)\",(F38*DEFAULTS!$B$55*DEFAULTS!$B$53/DEFAULTS!$B$54),IF(H$8=\"(ft^3/year)\",(G38*DEFAULTS!$B$57),IF(H$8=\"(av ft^3/min)\",(G38*DEFAULTS!$B$57/DEFAULTS!$B$58),0)))","v":0},{"$f":"IF(ISERROR(METHANE!$J52*DEFAULTS!$B$82*(IF('USER INPUTS'!$B$26=\"Total landfill gas\",(1/($D$5/100)),IF('USER INPUTS'!$B$26=\"Methane\",1,IF('USER INPUTS'!$B$26=\"Carbon dioxide\",((1/($D$5/100))-1),(VLOOKUP('USER INPUTS'!$B$26,DEFAULTS!$E$8:$F$69,2,FALSE))/10^6*(1/($D$5/100))))))),0,METHANE!$J52*DEFAULTS!$B$82*(IF('USER INPUTS'!$B$26=\"Total landfill gas\",(1/($D$5/100)),IF('USER INPUTS'!$B$26=\"Methane\",1,IF('USER INPUTS'!$B$26=\"Carbon dioxide\",((1/($D$5/100))-1),(VLOOKUP('USER INPUTS'!$B$26,DEFAULTS!$E$8:$F$69,2,FALSE))/10^6*(1/($D$5/100)))))))","v":0},{"$f":"IF(ISERROR(METHANE!$J52*(IF('USER INPUTS'!$B$26=\"Total landfill gas\",(1/($D$5/100)),IF('USER INPUTS'!$B$26=\"Methane\",1,IF('USER INPUTS'!$B$26=\"Carbon dioxide\",((1/($D$5/100))-1),(VLOOKUP('USER INPUTS'!$B$26,DEFAULTS!$E$8:$F$69,2,FALSE))/10^6*(1/($D$5/100))))))),0,METHANE!$J52*(IF('USER INPUTS'!$B$26=\"Total landfill gas\",(1/($D$5/100)),IF('USER INPUTS'!$B$26=\"Methane\",1,IF('USER INPUTS'!$B$26=\"Carbon dioxide\",((1/($D$5/100))-1),(VLOOKUP('USER INPUTS'!$B$26,DEFAULTS!$E$8:$F$69,2,FALSE))/10^6*(1/($D$5/100)))))))","v":0},{"$f":"IF(K$8=\"(short tons/year)\",(I38*DEFAULTS!$B$55*DEFAULTS!$B$53/DEFAULTS!$B$54),IF(K$8=\"(ft^3/year)\",(J38*DEFAULTS!$B$57),IF(K$8=\"(av ft^3/min)\",(J38*DEFAULTS!$B$57/DEFAULTS!$B$58),0)))","v":0},{"$f":"IF(ISERROR(METHANE!$J52*DEFAULTS!$B$83*(IF('USER INPUTS'!$B$28=\"Total landfill gas\",(1/($D$5/100)),IF('USER INPUTS'!$B$28=\"Methane\",1,IF('USER INPUTS'!$B$28=\"Carbon dioxide\",((1/($D$5/100))-1),(VLOOKUP('USER INPUTS'!$B$28,DEFAULTS!$E$8:$F$69,2,FALSE))/10^6*(1/($D$5/100))))))),0,METHANE!$J52*DEFAULTS!$B$83*(IF('USER INPUTS'!$B$28=\"Total landfill gas\",(1/($D$5/100)),IF('USER INPUTS'!$B$28=\"Methane\",1,IF('USER INPUTS'!$B$28=\"Carbon dioxide\",((1/($D$5/100))-1),(VLOOKUP('USER INPUTS'!$B$28,DEFAULTS!$E$8:$F$69,2,FALSE))/10^6*(1/($D$5/100)))))))","v":0},{"$f":"IF(ISERROR(METHANE!$J52*(IF('USER INPUTS'!$B$28=\"Total landfill gas\",(1/($D$5/100)),IF('USER INPUTS'!$B$28=\"Methane\",1,IF('USER INPUTS'!$B$28=\"Carbon dioxide\",((1/($D$5/100))-1),(VLOOKUP('USER INPUTS'!$B$28,DEFAULTS!$E$8:$F$69,2,FALSE))/10^6*(1/($D$5/100))))))),0,METHANE!$J52*(IF('USER INPUTS'!$B$28=\"Total landfill gas\",(1/($D$5/100)),IF('USER INPUTS'!$B$28=\"Methane\",1,IF('USER INPUTS'!$B$28=\"Carbon dioxide\",((1/($D$5/100))-1),(VLOOKUP('USER INPUTS'!$B$28,DEFAULTS!$E$8:$F$69,2,FALSE))/10^6*(1/($D$5/100)))))))","v":0},{"$f":"IF(N$8=\"(short tons/year)\",(L38*DEFAULTS!$B$55*DEFAULTS!$B$53/DEFAULTS!$B$54),IF(N$8=\"(ft^3/year)\",(M38*DEFAULTS!$B$57),IF(N$8=\"(av ft^3/min)\",(M38*DEFAULTS!$B$57/DEFAULTS!$B$58),0)))","v":0},{"$f":"IF(ISERROR(METHANE!$J52*DEFAULTS!$B$84*(IF('USER INPUTS'!$B$30=\"Total landfill gas\",(1/($D$5/100)),IF('USER INPUTS'!$B$30=\"Methane\",1,IF('USER INPUTS'!$B$30=\"Carbon dioxide\",((1/($D$5/100))-1),(VLOOKUP('USER INPUTS'!$B$30,DEFAULTS!$E$8:$F$69,2,FALSE))/10^6*(1/($D$5/100))))))),0,METHANE!$J52*DEFAULTS!$B$84*(IF('USER INPUTS'!$B$30=\"Total landfill gas\",(1/($D$5/100)),IF('USER INPUTS'!$B$30=\"Methane\",1,IF('USER INPUTS'!$B$30=\"Carbon dioxide\",((1/($D$5/100))-1),(VLOOKUP('USER INPUTS'!$B$30,DEFAULTS!$E$8:$F$69,2,FALSE))/10^6*(1/($D$5/100)))))))","v":0},{"$f":"IF(ISERROR(METHANE!$J52*(IF('USER INPUTS'!$B$30=\"Total landfill gas\",(1/($D$5/100)),IF('USER INPUTS'!$B$30=\"Methane\",1,IF('USER INPUTS'!$B$30=\"Carbon dioxide\",((1/($D$5/100))-1),(VLOOKUP('USER INPUTS'!$B$30,DEFAULTS!$E$8:$F$69,2,FALSE))/10^6*(1/($D$5/100))))))),0,METHANE!$J52*(IF('USER INPUTS'!$B$30=\"Total landfill gas\",(1/($D$5/100)),IF('USER INPUTS'!$B$30=\"Methane\",1,IF('USER INPUTS'!$B$30=\"Carbon dioxide\",((1/($D$5/100))-1),(VLOOKUP('USER INPUTS'!$B$30,DEFAULTS!$E$8:$F$69,2,FALSE))/10^6*(1/($D$5/100)))))))","v":0},{"$f":"IF(Q$8=\"(short tons/year)\",(O38*DEFAULTS!$B$55*DEFAULTS!$B$53/DEFAULTS!$B$54),IF(Q$8=\"(ft^3/year)\",(P38*DEFAULTS!$B$57),IF(Q$8=\"(av ft^3/min)\",(P38*DEFAULTS!$B$57/DEFAULTS!$B$58),0)))","v":0}]
[{"$f":"METHANE!I53","v":30},{"$f":"IF(METHANE!E53>0,METHANE!E53,0)","v":0},{"$f":"IF(METHANE!E53>0,METHANE!E53*DEFAULTS!$B$55*DEFAULTS!$B$53/DEFAULTS!$B$54,0)","v":0},{"$f":"IF(METHANE!F53>0,METHANE!F53,0)","v":0},{"$f":"IF(METHANE!F53>0,METHANE!F53*DEFAULTS!$B$55*DEFAULTS!$B$53/DEFAULTS!$B$54,0)","v":0},{"$f":"IF(ISERROR(METHANE!$J53*DEFAULTS!$B$81*(IF('USER INPUTS'!$B$24=\"Total landfill gas\",(1/($D$5/100)),IF('USER INPUTS'!$B$24=\"Methane\",1,IF('USER INPUTS'!$B$24=\"Carbon dioxide\",((1/($D$5/100))-1),(VLOOKUP('USER INPUTS'!$B$24,DEFAULTS!$E$8:$F$69,2,FALSE))/10^6*(1/($D$5/100))))))),0,METHANE!$J53*DEFAULTS!$B$81*(IF('USER INPUTS'!$B$24=\"Total landfill gas\",(1/($D$5/100)),IF('USER INPUTS'!$B$24=\"Methane\",1,IF('USER INPUTS'!$B$24=\"Carbon dioxide\",((1/($D$5/100))-1),(VLOOKUP('USER INPUTS'!$B$24,DEFAULTS!$E$8:$F$69,2,FALSE))/10^6*(1/($D$5/100)))))))","v":0},{"$f":"IF(ISERROR(METHANE!$J53*(IF('USER INPUTS'!$B$24=\"Total landfill gas\",(1/($D$5/100)),IF('USER INPUTS'!$B$24=\"Methane\",1,IF('USER INPUTS'!$B$24=\"Carbon dioxide\",((1/($D$5/100))-1),(VLOOKUP('USER INPUTS'!$B$24,DEFAULTS!$E$8:$F$69,2,FALSE))/10^6*(1/($D$5/100))))))),0,METHANE!$J53*(IF('USER INPUTS'!$B$24=\"Total landfill gas\",(1/($D$5/100)),IF('USER INPUTS'!$B$24=\"Methane\",1,IF('USER INPUTS'!$B$24=\"Carbon dioxide\",((1/($D$5/100))-1),(VLOOKUP('USER INPUTS'!$B$24,DEFAULTS!$E$8:$F$69,2,FALSE))/10^6*(1/($D$5/100)))))))","v":0},{"$f":"IF(H$8=\"(short tons/year)\",(F39*DEFAULTS!$B$55*DEFAULTS!$B$53/DEFAULTS!$B$54),IF(H$8=\"(ft^3/year)\",(G39*DEFAULTS!$B$57),IF(H$8=\"(av ft^3/min)\",(G39*DEFAULTS!$B$57/DEFAULTS!$B$58),0)))","v":0},{"$f":"IF(ISERROR(METHANE!$J53*DEFAULTS!$B$82*(IF('USER INPUTS'!$B$26=\"Total landfill gas\",(1/($D$5/100)),IF('USER INPUTS'!$B$26=\"Methane\",1,IF('USER INPUTS'!$B$26=\"Carbon dioxide\",((1/($D$5/100))-1),(VLOOKUP('USER INPUTS'!$B$26,DEFAULTS!$E$8:$F$69,2,FALSE))/10^6*(1/($D$5/100))))))),0,METHANE!$J53*DEFAULTS!$B$82*(IF('USER INPUTS'!$B$26=\"Total landfill gas\",(1/($D$5/100)),IF('USER INPUTS'!$B$26=\"Methane\",1,IF('USER INPUTS'!$B$26=\"Carbon dioxide\",((1/($D$5/100))-1),(VLOOKUP('USER INPUTS'!$B$26,DEFAULTS!$E$8:$F$69,2,FALSE))/10^6*(1/($D$5/100)))))))","v":0},{"$f":"IF(ISERROR(METHANE!$J53*(IF('USER INPUTS'!$B$26=\"Total landfill gas\",(1/($D$5/100)),IF('USER INPUTS'!$B$26=\"Methane\",1,IF('USER INPUTS'!$B$26=\"Carbon dioxide\",((1/($D$5/100))-1),(VLOOKUP('USER INPUTS'!$B$26,DEFAULTS!$E$8:$F$69,2,FALSE))/10^6*(1/($D$5/100))))))),0,METHANE!$J53*(IF('USER INPUTS'!$B$26=\"Total landfill gas\",(1/($D$5/100)),IF('USER INPUTS'!$B$26=\"Methane\",1,IF('USER INPUTS'!$B$26=\"Carbon dioxide\",((1/($D$5/100))-1),(VLOOKUP('USER INPUTS'!$B$26,DEFAULTS!$E$8:$F$69,2,FALSE))/10^6*(1/($D$5/100)))))))","v":0},{"$f":"IF(K$8=\"(short tons/year)\",(I39*DEFAULTS!$B$55*DEFAULTS!$B$53/DEFAULTS!$B$54),IF(K$8=\"(ft^3/year)\",(J39*DEFAULTS!$B$57),IF(K$8=\"(av ft^3/min)\",(J39*DEFAULTS!$B$57/DEFAULTS!$B$58),0)))","v":0},{"$f":"IF(ISERROR(METHANE!$J53*DEFAULTS!$B$83*(IF('USER INPUTS'!$B$28=\"Total landfill gas\",(1/($D$5/100)),IF('USER INPUTS'!$B$28=\"Methane\",1,IF('USER INPUTS'!$B$28=\"Carbon dioxide\",((1/($D$5/100))-1),(VLOOKUP('USER INPUTS'!$B$28,DEFAULTS!$E$8:$F$69,2,FALSE))/10^6*(1/($D$5/100))))))),0,METHANE!$J53*DEFAULTS!$B$83*(IF('USER INPUTS'!$B$28=\"Total landfill gas\",(1/($D$5/100)),IF('USER INPUTS'!$B$28=\"Methane\",1,IF('USER INPUTS'!$B$28=\"Carbon dioxide\",((1/($D$5/100))-1),(VLOOKUP('USER INPUTS'!$B$28,DEFAULTS!$E$8:$F$69,2,FALSE))/10^6*(1/($D$5/100)))))))","v":0},{"$f":"IF(ISERROR(METHANE!$J53*(IF('USER INPUTS'!$B$28=\"Total landfill gas\",(1/($D$5/100)),IF('USER INPUTS'!$B$28=\"Methane\",1,IF('USER INPUTS'!$B$28=\"Carbon dioxide\",((1/($D$5/100))-1),(VLOOKUP('USER INPUTS'!$B$28,DEFAULTS!$E$8:$F$69,2,FALSE))/10^6*(1/($D$5/100))))))),0,METHANE!$J53*(IF('USER INPUTS'!$B$28=\"Total landfill gas\",(1/($D$5/100)),IF('USER INPUTS'!$B$28=\"Methane\",1,IF('USER INPUTS'!$B$28=\"Carbon dioxide\",((1/($D$5/100))-1),(VLOOKUP('USER INPUTS'!$B$28,DEFAULTS!$E$8:$F$69,2,FALSE))/10^6*(1/($D$5/100)))))))","v":0},{"$f":"IF(N$8=\"(short tons/year)\",(L39*DEFAULTS!$B$55*DEFAULTS!$B$53/DEFAULTS!$B$54),IF(N$8=\"(ft^3/year)\",(M39*DEFAULTS!$B$57),IF(N$8=\"(av ft^3/min)\",(M39*DEFAULTS!$B$57/DEFAULTS!$B$58),0)))","v":0},{"$f":"IF(ISERROR(METHANE!$J53*DEFAULTS!$B$84*(IF('USER INPUTS'!$B$30=\"Total landfill gas\",(1/($D$5/100)),IF('USER INPUTS'!$B$30=\"Methane\",1,IF('USER INPUTS'!$B$30=\"Carbon dioxide\",((1/($D$5/100))-1),(VLOOKUP('USER INPUTS'!$B$30,DEFAULTS!$E$8:$F$69,2,FALSE))/10^6*(1/($D$5/100))))))),0,METHANE!$J53*DEFAULTS!$B$84*(IF('USER INPUTS'!$B$30=\"Total landfill gas\",(1/($D$5/100)),IF('USER INPUTS'!$B$30=\"Methane\",1,IF('USER INPUTS'!$B$30=\"Carbon dioxide\",((1/($D$5/100))-1),(VLOOKUP('USER INPUTS'!$B$30,DEFAULTS!$E$8:$F$69,2,FALSE))/10^6*(1/($D$5/100)))))))","v":0},{"$f":"IF(ISERROR(METHANE!$J53*(IF('USER INPUTS'!$B$30=\"Total landfill gas\",(1/($D$5/100)),IF('USER INPUTS'!$B$30=\"Methane\",1,IF('USER INPUTS'!$B$30=\"Carbon dioxide\",((1/($D$5/100))-1),(VLOOKUP('USER INPUTS'!$B$30,DEFAULTS!$E$8:$F$69,2,FALSE))/10^6*(1/($D$5/100))))))),0,METHANE!$J53*(IF('USER INPUTS'!$B$30=\"Total landfill gas\",(1/($D$5/100)),IF('USER INPUTS'!$B$30=\"Methane\",1,IF('USER INPUTS'!$B$30=\"Carbon dioxide\",((1/($D$5/100))-1),(VLOOKUP('USER INPUTS'!$B$30,DEFAULTS!$E$8:$F$69,2,FALSE))/10^6*(1/($D$5/100)))))))","v":0},{"$f":"IF(Q$8=\"(short tons/year)\",(O39*DEFAULTS!$B$55*DEFAULTS!$B$53/DEFAULTS!$B$54),IF(Q$8=\"(ft^3/year)\",(P39*DEFAULTS!$B$57),IF(Q$8=\"(av ft^3/min)\",(P39*DEFAULTS!$B$57/DEFAULTS!$B$58),0)))","v":0}]
[{"$f":"METHANE!I54","v":31},{"$f":"IF(METHANE!E54>0,METHANE!E54,0)","v":0},{"$f":"IF(METHANE!E54>0,METHANE!E54*DEFAULTS!$B$55*DEFAULTS!$B$53/DEFAULTS!$B$54,0)","v":0},{"$f":"IF(METHANE!F54>0,METHANE!F54,0)","v":0},{"$f":"IF(METHANE!F54>0,METHANE!F54*DEFAULTS!$B$55*DEFAULTS!$B$53/DEFAULTS!$B$54,0)","v":0},{"$f":"IF(ISERROR(METHANE!$J54*DEFAULTS!$B$81*(IF('USER INPUTS'!$B$24=\"Total landfill gas\",(1/($D$5/100)),IF('USER INPUTS'!$B$24=\"Methane\",1,IF('USER INPUTS'!$B$24=\"Carbon dioxide\",((1/($D$5/100))-1),(VLOOKUP('USER INPUTS'!$B$24,DEFAULTS!$E$8:$F$69,2,FALSE))/10^6*(1/($D$5/100))))))),0,METHANE!$J54*DEFAULTS!$B$81*(IF('USER INPUTS'!$B$24=\"Total landfill gas\",(1/($D$5/100)),IF('USER INPUTS'!$B$24=\"Methane\",1,IF('USER INPUTS'!$B$24=\"Carbon dioxide\",((1/($D$5/100))-1),(VLOOKUP('USER INPUTS'!$B$24,DEFAULTS!$E$8:$F$69,2,FALSE))/10^6*(1/($D$5/100)))))))","v":0},{"$f":"IF(ISERROR(METHANE!$J54*(IF('USER INPUTS'!$B$24=\"Total landfill gas\",(1/($D$5/100)),IF('USER INPUTS'!$B$24=\"Methane\",1,IF('USER INPUTS'!$B$24=\"Carbon dioxide\",((1/($D$5/100))-1),(VLOOKUP('USER INPUTS'!$B$24,DEFAULTS!$E$8:$F$69,2,FALSE))/10^6*(1/($D$5/100))))))),0,METHANE!$J54*(IF('USER INPUTS'!$B$24=\"Total landfill gas\",(1/($D$5/100)),IF('USER INPUTS'!$B$24=\"Methane\",1,IF('USER INPUTS'!$B$24=\"Carbon dioxide\",((1/($D$5/100))-1),(VLOOKUP('USER INPUTS'!$B$24,DEFAULTS!$E$8:$F$69,2,FALSE))/10^6*(1/($D$5/100)))))))","v":0},{"$f":"IF(H$8=\"(short tons/year)\",(F40*DEFAULTS!$B$55*DEFAULTS!$B$53/DEFAULTS!$B$54),IF(H$8=\"(ft^3/year)\",(G40*DEFAULTS!$B$57),IF(H$8=\"(av ft^3/min)\",(G40*DEFAULTS!$B$57/DEFAULTS!$B$58),0)))","v":0},{"$f":"IF(ISERROR(METHANE!$J54*DEFAULTS!$B$82*(IF('USER INPUTS'!$B$26=\"Total landfill gas\",(1/($D$5/100)),IF('USER INPUTS'!$B$26=\"Methane\",1,IF('USER INPUTS'!$B$26=\"Carbon dioxide\",((1/($D$5/100))-1),(VLOOKUP('USER INPUTS'!$B$26,DEFAULTS!$E$8:$F$69,2,FALSE))/10^6*(1/($D$5/100))))))),0,METHANE!$J54*DEFAULTS!$B$82*(IF('USER INPUTS'!$B$26=\"Total landfill gas\",(1/($D$5/100)),IF('USER INPUTS'!$B$26=\"Methane\",1,IF('USER INPUTS'!$B$26=\"Carbon dioxide\",((1/($D$5/100))-1),(VLOOKUP('USER INPUTS'!$B$26,DEFAULTS!$E$8:$F$69,2,FALSE))/10^6*(1/($D$5/100)))))))","v":0},{"$f":"IF(ISERROR(METHANE!$J54*(IF('USER INPUTS'!$B$26=\"Total landfill gas\",(1/($D$5/100)),IF('USER INPUTS'!$B$26=\"Methane\",1,IF('USER INPUTS'!$B$26=\"Carbon dioxide\",((1/($D$5/100))-1),(VLOOKUP('USER INPUTS'!$B$26,DEFAULTS!$E$8:$F$69,2,FALSE))/10^6*(1/($D$5/100))))))),0,METHANE!$J54*(IF('USER INPUTS'!$B$26=\"Total landfill gas\",(1/($D$5/100)),IF('USER INPUTS'!$B$26=\"Methane\",1,IF('USER INPUTS'!$B$26=\"Carbon dioxide\",((1/($D$5/100))-1),(VLOOKUP('USER INPUTS'!$B$26,DEFAULTS!$E$8:$F$69,2,FALSE))/10^6*(1/($D$5/100)))))))","v":0},{"$f":"IF(K$8=\"(short tons/year)\",(I40*DEFAULTS!$B$55*DEFAULTS!$B$53/DEFAULTS!$B$54),IF(K$8=\"(ft^3/year)\",(J40*DEFAULTS!$B$57),IF(K$8=\"(av ft^3/min)\",(J40*DEFAULTS!$B$57/DEFAULTS!$B$58),0)))","v":0},{"$f":"IF(ISERROR(METHANE!$J54*DEFAULTS!$B$83*(IF('USER INPUTS'!$B$28=\"Total landfill gas\",(1/($D$5/100)),IF('USER INPUTS'!$B$28=\"Methane\",1,IF('USER INPUTS'!$B$28=\"Carbon dioxide\",((1/($D$5/100))-1),(VLOOKUP('USER INPUTS'!$B$28,DEFAULTS!$E$8:$F$69,2,FALSE))/10^6*(1/($D$5/100))))))),0,METHANE!$J54*DEFAULTS!$B$83*(IF('USER INPUTS'!$B$28=\"Total landfill gas\",(1/($D$5/100)),IF('USER INPUTS'!$B$28=\"Methane\",1,IF('USER INPUTS'!$B$28=\"Carbon dioxide\",((1/($D$5/100))-1),(VLOOKUP('USER INPUTS'!$B$28,DEFAULTS!$E$8:$F$69,2,FALSE))/10^6*(1/($D$5/100)))))))","v":0},{"$f":"IF(ISERROR(METHANE!$J54*(IF('USER INPUTS'!$B$28=\"Total landfill gas\",(1/($D$5/100)),IF('USER INPUTS'!$B$28=\"Methane\",1,IF('USER INPUTS'!$B$28=\"Carbon dioxide\",((1/($D$5/100))-1),(VLOOKUP('USER INPUTS'!$B$28,DEFAULTS!$E$8:$F$69,2,FALSE))/10^6*(1/($D$5/100))))))),0,METHANE!$J54*(IF('USER INPUTS'!$B$28=\"Total landfill gas\",(1/($D$5/100)),IF('USER INPUTS'!$B$28=\"Methane\",1,IF('USER INPUTS'!$B$28=\"Carbon dioxide\",((1/($D$5/100))-1),(VLOOKUP('USER INPUTS'!$B$28,DEFAULTS!$E$8:$F$69,2,FALSE))/10^6*(1/($D$5/100)))))))","v":0},{"$f":"IF(N$8=\"(short tons/year)\",(L40*DEFAULTS!$B$55*DEFAULTS!$B$53/DEFAULTS!$B$54),IF(N$8=\"(ft^3/year)\",(M40*DEFAULTS!$B$57),IF(N$8=\"(av ft^3/min)\",(M40*DEFAULTS!$B$57/DEFAULTS!$B$58),0)))","v":0},{"$f":"IF(ISERROR(METHANE!$J54*DEFAULTS!$B$84*(IF('USER INPUTS'!$B$30=\"Total landfill gas\",(1/($D$5/100)),IF('USER INPUTS'!$B$30=\"Methane\",1,IF('USER INPUTS'!$B$30=\"Carbon dioxide\",((1/($D$5/100))-1),(VLOOKUP('USER INPUTS'!$B$30,DEFAULTS!$E$8:$F$69,2,FALSE))/10^6*(1/($D$5/100))))))),0,METHANE!$J54*DEFAULTS!$B$84*(IF('USER INPUTS'!$B$30=\"Total landfill gas\",(1/($D$5/100)),IF('USER INPUTS'!$B$30=\"Methane\",1,IF('USER INPUTS'!$B$30=\"Carbon dioxide\",((1/($D$5/100))-1),(VLOOKUP('USER INPUTS'!$B$30,DEFAULTS!$E$8:$F$69,2,FALSE))/10^6*(1/($D$5/100)))))))","v":0},{"$f":"IF(ISERROR(METHANE!$J54*(IF('USER INPUTS'!$B$30=\"Total landfill gas\",(1/($D$5/100)),IF('USER INPUTS'!$B$30=\"Methane\",1,IF('USER INPUTS'!$B$30=\"Carbon dioxide\",((1/($D$5/100))-1),(VLOOKUP('USER INPUTS'!$B$30,DEFAULTS!$E$8:$F$69,2,FALSE))/10^6*(1/($D$5/100))))))),0,METHANE!$J54*(IF('USER INPUTS'!$B$30=\"Total landfill gas\",(1/($D$5/100)),IF('USER INPUTS'!$B$30=\"Methane\",1,IF('USER INPUTS'!$B$30=\"Carbon dioxide\",((1/($D$5/100))-1),(VLOOKUP('USER INPUTS'!$B$30,DEFAULTS!$E$8:$F$69,2,FALSE))/10^6*(1/($D$5/100)))))))","v":0},{"$f":"IF(Q$8=\"(short tons/year)\",(O40*DEFAULTS!$B$55*DEFAULTS!$B$53/DEFAULTS!$B$54),IF(Q$8=\"(ft^3/year)\",(P40*DEFAULTS!$B$57),IF(Q$8=\"(av ft^3/min)\",(P40*DEFAULTS!$B$57/DEFAULTS!$B$58),0)))","v":0}]
[{"$f":"METHANE!I55","v":32},{"$f":"IF(METHANE!E55>0,METHANE!E55,0)","v":0},{"$f":"IF(METHANE!E55>0,METHANE!E55*DEFAULTS!$B$55*DEFAULTS!$B$53/DEFAULTS!$B$54,0)","v":0},{"$f":"IF(METHANE!F55>0,METHANE!F55,0)","v":0},{"$f":"IF(METHANE!F55>0,METHANE!F55*DEFAULTS!$B$55*DEFAULTS!$B$53/DEFAULTS!$B$54,0)","v":0},{"$f":"IF(ISERROR(METHANE!$J55*DEFAULTS!$B$81*(IF('USER INPUTS'!$B$24=\"Total landfill gas\",(1/($D$5/100)),IF('USER INPUTS'!$B$24=\"Methane\",1,IF('USER INPUTS'!$B$24=\"Carbon dioxide\",((1/($D$5/100))-1),(VLOOKUP('USER INPUTS'!$B$24,DEFAULTS!$E$8:$F$69,2,FALSE))/10^6*(1/($D$5/100))))))),0,METHANE!$J55*DEFAULTS!$B$81*(IF('USER INPUTS'!$B$24=\"Total landfill gas\",(1/($D$5/100)),IF('USER INPUTS'!$B$24=\"Methane\",1,IF('USER INPUTS'!$B$24=\"Carbon dioxide\",((1/($D$5/100))-1),(VLOOKUP('USER INPUTS'!$B$24,DEFAULTS!$E$8:$F$69,2,FALSE))/10^6*(1/($D$5/100)))))))","v":0},{"$f":"IF(ISERROR(METHANE!$J55*(IF('USER INPUTS'!$B$24=\"Total landfill gas\",(1/($D$5/100)),IF('USER INPUTS'!$B$24=\"Methane\",1,IF('USER INPUTS'!$B$24=\"Carbon dioxide\",((1/($D$5/100))-1),(VLOOKUP('USER INPUTS'!$B$24,DEFAULTS!$E$8:$F$69,2,FALSE))/10^6*(1/($D$5/100))))))),0,METHANE!$J55*(IF('USER INPUTS'!$B$24=\"Total landfill gas\",(1/($D$5/100)),IF('USER INPUTS'!$B$24=\"Methane\",1,IF('USER INPUTS'!$B$24=\"Carbon dioxide\",((1/($D$5/100))-1),(VLOOKUP('USER INPUTS'!$B$24,DEFAULTS!$E$8:$F$69,2,FALSE))/10^6*(1/($D$5/100)))))))","v":0},{"$f":"IF(H$8=\"(short tons/year)\",(F41*DEFAULTS!$B$55*DEFAULTS!$B$53/DEFAULTS!$B$54),IF(H$8=\"(ft^3/year)\",(G41*DEFAULTS!$B$57),IF(H$8=\"(av ft^3/min)\",(G41*DEFAULTS!$B$57/DEFAULTS!$B$58),0)))","v":0},{"$f":"IF(ISERROR(METHANE!$J55*DEFAULTS!$B$82*(IF('USER INPUTS'!$B$26=\"Total landfill gas\",(1/($D$5/100)),IF('USER INPUTS'!$B$26=\"Methane\",1,IF('USER INPUTS'!$B$26=\"Carbon dioxide\",((1/($D$5/100))-1),(VLOOKUP('USER INPUTS'!$B$26,DEFAULTS!$E$8:$F$69,2,FALSE))/10^6*(1/($D$5/100))))))),0,METHANE!$J55*DEFAULTS!$B$82*(IF('USER INPUTS'!$B$26=\"Total landfill gas\",(1/($D$5/100)),IF('USER INPUTS'!$B$26=\"Methane\",1,IF('USER INPUTS'!$B$26=\"Carbon dioxide\",((1/($D$5/100))-1),(VLOOKUP('USER INPUTS'!$B$26,DEFAULTS!$E$8:$F$69,2,FALSE))/10^6*(1/($D$5/100)))))))","v":0},{"$f":"IF(ISERROR(METHANE!$J55*(IF('USER INPUTS'!$B$26=\"Total landfill gas\",(1/($D$5/100)),IF('USER INPUTS'!$B$26=\"Methane\",1,IF('USER INPUTS'!$B$26=\"Carbon dioxide\",((1/($D$5/100))-1),(VLOOKUP('USER INPUTS'!$B$26,DEFAULTS!$E$8:$F$69,2,FALSE))/10^6*(1/($D$5/100))))))),0,METHANE!$J55*(IF('USER INPUTS'!$B$26=\"Total landfill gas\",(1/($D$5/100)),IF('USER INPUTS'!$B$26=\"Methane\",1,IF('USER INPUTS'!$B$26=\"Carbon dioxide\",((1/($D$5/100))-1),(VLOOKUP('USER INPUTS'!$B$26,DEFAULTS!$E$8:$F$69,2,FALSE))/10^6*(1/($D$5/100)))))))","v":0},{"$f":"IF(K$8=\"(short tons/year)\",(I41*DEFAULTS!$B$55*DEFAULTS!$B$53/DEFAULTS!$B$54),IF(K$8=\"(ft^3/year)\",(J41*DEFAULTS!$B$57),IF(K$8=\"(av ft^3/min)\",(J41*DEFAULTS!$B$57/DEFAULTS!$B$58),0)))","v":0},{"$f":"IF(ISERROR(METHANE!$J55*DEFAULTS!$B$83*(IF('USER INPUTS'!$B$28=\"Total landfill gas\",(1/($D$5/100)),IF('USER INPUTS'!$B$28=\"Methane\",1,IF('USER INPUTS'!$B$28=\"Carbon dioxide\",((1/($D$5/100))-1),(VLOOKUP('USER INPUTS'!$B$28,DEFAULTS!$E$8:$F$69,2,FALSE))/10^6*(1/($D$5/100))))))),0,METHANE!$J55*DEFAULTS!$B$83*(IF('USER INPUTS'!$B$28=\"Total landfill gas\",(1/($D$5/100)),IF('USER INPUTS'!$B$28=\"Methane\",1,IF('USER INPUTS'!$B$28=\"Carbon dioxide\",((1/($D$5/100))-1),(VLOOKUP('USER INPUTS'!$B$28,DEFAULTS!$E$8:$F$69,2,FALSE))/10^6*(1/($D$5/100)))))))","v":0},{"$f":"IF(ISERROR(METHANE!$J55*(IF('USER INPUTS'!$B$28=\"Total landfill gas\",(1/($D$5/100)),IF('USER INPUTS'!$B$28=\"Methane\",1,IF('USER INPUTS'!$B$28=\"Carbon dioxide\",((1/($D$5/100))-1),(VLOOKUP('USER INPUTS'!$B$28,DEFAULTS!$E$8:$F$69,2,FALSE))/10^6*(1/($D$5/100))))))),0,METHANE!$J55*(IF('USER INPUTS'!$B$28=\"Total landfill gas\",(1/($D$5/100)),IF('USER INPUTS'!$B$28=\"Methane\",1,IF('USER INPUTS'!$B$28=\"Carbon dioxide\",((1/($D$5/100))-1),(VLOOKUP('USER INPUTS'!$B$28,DEFAULTS!$E$8:$F$69,2,FALSE))/10^6*(1/($D$5/100)))))))","v":0},{"$f":"IF(N$8=\"(short tons/year)\",(L41*DEFAULTS!$B$55*DEFAULTS!$B$53/DEFAULTS!$B$54),IF(N$8=\"(ft^3/year)\",(M41*DEFAULTS!$B$57),IF(N$8=\"(av ft^3/min)\",(M41*DEFAULTS!$B$57/DEFAULTS!$B$58),0)))","v":0},{"$f":"IF(ISERROR(METHANE!$J55*DEFAULTS!$B$84*(IF('USER INPUTS'!$B$30=\"Total landfill gas\",(1/($D$5/100)),IF('USER INPUTS'!$B$30=\"Methane\",1,IF('USER INPUTS'!$B$30=\"Carbon dioxide\",((1/($D$5/100))-1),(VLOOKUP('USER INPUTS'!$B$30,DEFAULTS!$E$8:$F$69,2,FALSE))/10^6*(1/($D$5/100))))))),0,METHANE!$J55*DEFAULTS!$B$84*(IF('USER INPUTS'!$B$30=\"Total landfill gas\",(1/($D$5/100)),IF('USER INPUTS'!$B$30=\"Methane\",1,IF('USER INPUTS'!$B$30=\"Carbon dioxide\",((1/($D$5/100))-1),(VLOOKUP('USER INPUTS'!$B$30,DEFAULTS!$E$8:$F$69,2,FALSE))/10^6*(1/($D$5/100)))))))","v":0},{"$f":"IF(ISERROR(METHANE!$J55*(IF('USER INPUTS'!$B$30=\"Total landfill gas\",(1/($D$5/100)),IF('USER INPUTS'!$B$30=\"Methane\",1,IF('USER INPUTS'!$B$30=\"Carbon dioxide\",((1/($D$5/100))-1),(VLOOKUP('USER INPUTS'!$B$30,DEFAULTS!$E$8:$F$69,2,FALSE))/10^6*(1/($D$5/100))))))),0,METHANE!$J55*(IF('USER INPUTS'!$B$30=\"Total landfill gas\",(1/($D$5/100)),IF('USER INPUTS'!$B$30=\"Methane\",1,IF('USER INPUTS'!$B$30=\"Carbon dioxide\",((1/($D$5/100))-1),(VLOOKUP('USER INPUTS'!$B$30,DEFAULTS!$E$8:$F$69,2,FALSE))/10^6*(1/($D$5/100)))))))","v":0},{"$f":"IF(Q$8=\"(short tons/year)\",(O41*DEFAULTS!$B$55*DEFAULTS!$B$53/DEFAULTS!$B$54),IF(Q$8=\"(ft^3/year)\",(P41*DEFAULTS!$B$57),IF(Q$8=\"(av ft^3/min)\",(P41*DEFAULTS!$B$57/DEFAULTS!$B$58),0)))","v":0}]
[{"$f":"METHANE!I56","v":33},{"$f":"IF(METHANE!E56>0,METHANE!E56,0)","v":0},{"$f":"IF(METHANE!E56>0,METHANE!E56*DEFAULTS!$B$55*DEFAULTS!$B$53/DEFAULTS!$B$54,0)","v":0},{"$f":"IF(METHANE!F56>0,METHANE!F56,0)","v":0},{"$f":"IF(METHANE!F56>0,METHANE!F56*DEFAULTS!$B$55*DEFAULTS!$B$53/DEFAULTS!$B$54,0)","v":0},{"$f":"IF(ISERROR(METHANE!$J56*DEFAULTS!$B$81*(IF('USER INPUTS'!$B$24=\"Total landfill gas\",(1/($D$5/100)),IF('USER INPUTS'!$B$24=\"Methane\",1,IF('USER INPUTS'!$B$24=\"Carbon dioxide\",((1/($D$5/100))-1),(VLOOKUP('USER INPUTS'!$B$24,DEFAULTS!$E$8:$F$69,2,FALSE))/10^6*(1/($D$5/100))))))),0,METHANE!$J56*DEFAULTS!$B$81*(IF('USER INPUTS'!$B$24=\"Total landfill gas\",(1/($D$5/100)),IF('USER INPUTS'!$B$24=\"Methane\",1,IF('USER INPUTS'!$B$24=\"Carbon dioxide\",((1/($D$5/100))-1),(VLOOKUP('USER INPUTS'!$B$24,DEFAULTS!$E$8:$F$69,2,FALSE))/10^6*(1/($D$5/100)))))))","v":0},{"$f":"IF(ISERROR(METHANE!$J56*(IF('USER INPUTS'!$B$24=\"Total landfill gas\",(1/($D$5/100)),IF('USER INPUTS'!$B$24=\"Methane\",1,IF('USER INPUTS'!$B$24=\"Carbon dioxide\",((1/($D$5/100))-1),(VLOOKUP('USER INPUTS'!$B$24,DEFAULTS!$E$8:$F$69,2,FALSE))/10^6*(1/($D$5/100))))))),0,METHANE!$J56*(IF('USER INPUTS'!$B$24=\"Total landfill gas\",(1/($D$5/100)),IF('USER INPUTS'!$B$24=\"Methane\",1,IF('USER INPUTS'!$B$24=\"Carbon dioxide\",((1/($D$5/100))-1),(VLOOKUP('USER INPUTS'!$B$24,DEFAULTS!$E$8:$F$69,2,FALSE))/10^6*(1/($D$5/100)))))))","v":0},{"$f":"IF(H$8=\"(short tons/year)\",(F42*DEFAULTS!$B$55*DEFAULTS!$B$53/DEFAULTS!$B$54),IF(H$8=\"(ft^3/year)\",(G42*DEFAULTS!$B$57),IF(H$8=\"(av ft^3/min)\",(G42*DEFAULTS!$B$57/DEFAULTS!$B$58),0)))","v":0},{"$f":"IF(ISERROR(METHANE!$J56*DEFAULTS!$B$82*(IF('USER INPUTS'!$B$26=\"Total landfill gas\",(1/($D$5/100)),IF('USER INPUTS'!$B$26=\"Methane\",1,IF('USER INPUTS'!$B$26=\"Carbon dioxide\",((1/($D$5/100))-1),(VLOOKUP('USER INPUTS'!$B$26,DEFAULTS!$E$8:$F$69,2,FALSE))/10^6*(1/($D$5/100))))))),0,METHANE!$J56*DEFAULTS!$B$82*(IF('USER INPUTS'!$B$26=\"Total landfill gas\",(1/($D$5/100)),IF('USER INPUTS'!$B$26=\"Methane\",1,IF('USER INPUTS'!$B$26=\"Carbon dioxide\",((1/($D$5/100))-1),(VLOOKUP('USER INPUTS'!$B$26,DEFAULTS!$E$8:$F$69,2,FALSE))/10^6*(1/($D$5/100)))))))","v":0},{"$f":"IF(ISERROR(METHANE!$J56*(IF('USER INPUTS'!$B$26=\"Total landfill gas\",(1/($D$5/100)),IF('USER INPUTS'!$B$26=\"Methane\",1,IF('USER INPUTS'!$B$26=\"Carbon dioxide\",((1/($D$5/100))-1),(VLOOKUP('USER INPUTS'!$B$26,DEFAULTS!$E$8:$F$69,2,FALSE))/10^6*(1/($D$5/100))))))),0,METHANE!$J56*(IF('USER INPUTS'!$B$26=\"Total landfill gas\",(1/($D$5/100)),IF('USER INPUTS'!$B$26=\"Methane\",1,IF('USER INPUTS'!$B$26=\"Carbon dioxide\",((1/($D$5/100))-1),(VLOOKUP('USER INPUTS'!$B$26,DEFAULTS!$E$8:$F$69,2,FALSE))/10^6*(1/($D$5/100)))))))","v":0},{"$f":"IF(K$8=\"(short tons/year)\",(I42*DEFAULTS!$B$55*DEFAULTS!$B$53/DEFAULTS!$B$54),IF(K$8=\"(ft^3/year)\",(J42*DEFAULTS!$B$57),IF(K$8=\"(av ft^3/min)\",(J42*DEFAULTS!$B$57/DEFAULTS!$B$58),0)))","v":0},{"$f":"IF(ISERROR(METHANE!$J56*DEFAULTS!$B$83*(IF('USER INPUTS'!$B$28=\"Total landfill gas\",(1/($D$5/100)),IF('USER INPUTS'!$B$28=\"Methane\",1,IF('USER INPUTS'!$B$28=\"Carbon dioxide\",((1/($D$5/100))-1),(VLOOKUP('USER INPUTS'!$B$28,DEFAULTS!$E$8:$F$69,2,FALSE))/10^6*(1/($D$5/100))))))),0,METHANE!$J56*DEFAULTS!$B$83*(IF('USER INPUTS'!$B$28=\"Total landfill gas\",(1/($D$5/100)),IF('USER INPUTS'!$B$28=\"Methane\",1,IF('USER INPUTS'!$B$28=\"Carbon dioxide\",((1/($D$5/100))-1),(VLOOKUP('USER INPUTS'!$B$28,DEFAULTS!$E$8:$F$69,2,FALSE))/10^6*(1/($D$5/100)))))))","v":0},{"$f":"IF(ISERROR(METHANE!$J56*(IF('USER INPUTS'!$B$28=\"Total landfill gas\",(1/($D$5/100)),IF('USER INPUTS'!$B$28=\"Methane\",1,IF('USER INPUTS'!$B$28=\"Carbon dioxide\",((1/($D$5/100))-1),(VLOOKUP('USER INPUTS'!$B$28,DEFAULTS!$E$8:$F$69,2,FALSE))/10^6*(1/($D$5/100))))))),0,METHANE!$J56*(IF('USER INPUTS'!$B$28=\"Total landfill gas\",(1/($D$5/100)),IF('USER INPUTS'!$B$28=\"Methane\",1,IF('USER INPUTS'!$B$28=\"Carbon dioxide\",((1/($D$5/100))-1),(VLOOKUP('USER INPUTS'!$B$28,DEFAULTS!$E$8:$F$69,2,FALSE))/10^6*(1/($D$5/100)))))))","v":0},{"$f":"IF(N$8=\"(short tons/year)\",(L42*DEFAULTS!$B$55*DEFAULTS!$B$53/DEFAULTS!$B$54),IF(N$8=\"(ft^3/year)\",(M42*DEFAULTS!$B$57),IF(N$8=\"(av ft^3/min)\",(M42*DEFAULTS!$B$57/DEFAULTS!$B$58),0)))","v":0},{"$f":"IF(ISERROR(METHANE!$J56*DEFAULTS!$B$84*(IF('USER INPUTS'!$B$30=\"Total landfill gas\",(1/($D$5/100)),IF('USER INPUTS'!$B$30=\"Methane\",1,IF('USER INPUTS'!$B$30=\"Carbon dioxide\",((1/($D$5/100))-1),(VLOOKUP('USER INPUTS'!$B$30,DEFAULTS!$E$8:$F$69,2,FALSE))/10^6*(1/($D$5/100))))))),0,METHANE!$J56*DEFAULTS!$B$84*(IF('USER INPUTS'!$B$30=\"Total landfill gas\",(1/($D$5/100)),IF('USER INPUTS'!$B$30=\"Methane\",1,IF('USER INPUTS'!$B$30=\"Carbon dioxide\",((1/($D$5/100))-1),(VLOOKUP('USER INPUTS'!$B$30,DEFAULTS!$E$8:$F$69,2,FALSE))/10^6*(1/($D$5/100)))))))","v":0},{"$f":"IF(ISERROR(METHANE!$J56*(IF('USER INPUTS'!$B$30=\"Total landfill gas\",(1/($D$5/100)),IF('USER INPUTS'!$B$30=\"Methane\",1,IF('USER INPUTS'!$B$30=\"Carbon dioxide\",((1/($D$5/100))-1),(VLOOKUP('USER INPUTS'!$B$30,DEFAULTS!$E$8:$F$69,2,FALSE))/10^6*(1/($D$5/100))))))),0,METHANE!$J56*(IF('USER INPUTS'!$B$30=\"Total landfill gas\",(1/($D$5/100)),IF('USER INPUTS'!$B$30=\"Methane\",1,IF('USER INPUTS'!$B$30=\"Carbon dioxide\",((1/($D$5/100))-1),(VLOOKUP('USER INPUTS'!$B$30,DEFAULTS!$E$8:$F$69,2,FALSE))/10^6*(1/($D$5/100)))))))","v":0},{"$f":"IF(Q$8=\"(short tons/year)\",(O42*DEFAULTS!$B$55*DEFAULTS!$B$53/DEFAULTS!$B$54),IF(Q$8=\"(ft^3/year)\",(P42*DEFAULTS!$B$57),IF(Q$8=\"(av ft^3/min)\",(P42*DEFAULTS!$B$57/DEFAULTS!$B$58),0)))","v":0}]
[{"$f":"METHANE!I57","v":34},{"$f":"IF(METHANE!E57>0,METHANE!E57,0)","v":0},{"$f":"IF(METHANE!E57>0,METHANE!E57*DEFAULTS!$B$55*DEFAULTS!$B$53/DEFAULTS!$B$54,0)","v":0},{"$f":"IF(METHANE!F57>0,METHANE!F57,0)","v":0},{"$f":"IF(METHANE!F57>0,METHANE!F57*DEFAULTS!$B$55*DEFAULTS!$B$53/DEFAULTS!$B$54,0)","v":0},{"$f":"IF(ISERROR(METHANE!$J57*DEFAULTS!$B$81*(IF('USER INPUTS'!$B$24=\"Total landfill gas\",(1/($D$5/100)),IF('USER INPUTS'!$B$24=\"Methane\",1,IF('USER INPUTS'!$B$24=\"Carbon dioxide\",((1/($D$5/100))-1),(VLOOKUP('USER INPUTS'!$B$24,DEFAULTS!$E$8:$F$69,2,FALSE))/10^6*(1/($D$5/100))))))),0,METHANE!$J57*DEFAULTS!$B$81*(IF('USER INPUTS'!$B$24=\"Total landfill gas\",(1/($D$5/100)),IF('USER INPUTS'!$B$24=\"Methane\",1,IF('USER INPUTS'!$B$24=\"Carbon dioxide\",((1/($D$5/100))-1),(VLOOKUP('USER INPUTS'!$B$24,DEFAULTS!$E$8:$F$69,2,FALSE))/10^6*(1/($D$5/100)))))))","v":0},{"$f":"IF(ISERROR(METHANE!$J57*(IF('USER INPUTS'!$B$24=\"Total landfill gas\",(1/($D$5/100)),IF('USER INPUTS'!$B$24=\"Methane\",1,IF('USER INPUTS'!$B$24=\"Carbon dioxide\",((1/($D$5/100))-1),(VLOOKUP('USER INPUTS'!$B$24,DEFAULTS!$E$8:$F$69,2,FALSE))/10^6*(1/($D$5/100))))))),0,METHANE!$J57*(IF('USER INPUTS'!$B$24=\"Total landfill gas\",(1/($D$5/100)),IF('USER INPUTS'!$B$24=\"Methane\",1,IF('USER INPUTS'!$B$24=\"Carbon dioxide\",((1/($D$5/100))-1),(VLOOKUP('USER INPUTS'!$B$24,DEFAULTS!$E$8:$F$69,2,FALSE))/10^6*(1/($D$5/100)))))))","v":0},{"$f":"IF(H$8=\"(short tons/year)\",(F43*DEFAULTS!$B$55*DEFAULTS!$B$53/DEFAULTS!$B$54),IF(H$8=\"(ft^3/year)\",(G43*DEFAULTS!$B$57),IF(H$8=\"(av ft^3/min)\",(G43*DEFAULTS!$B$57/DEFAULTS!$B$58),0)))","v":0},{"$f":"IF(ISERROR(METHANE!$J57*DEFAULTS!$B$82*(IF('USER INPUTS'!$B$26=\"Total landfill gas\",(1/($D$5/100)),IF('USER INPUTS'!$B$26=\"Methane\",1,IF('USER INPUTS'!$B$26=\"Carbon dioxide\",((1/($D$5/100))-1),(VLOOKUP('USER INPUTS'!$B$26,DEFAULTS!$E$8:$F$69,2,FALSE))/10^6*(1/($D$5/100))))))),0,METHANE!$J57*DEFAULTS!$B$82*(IF('USER INPUTS'!$B$26=\"Total landfill gas\",(1/($D$5/100)),IF('USER INPUTS'!$B$26=\"Methane\",1,IF('USER INPUTS'!$B$26=\"Carbon dioxide\",((1/($D$5/100))-1),(VLOOKUP('USER INPUTS'!$B$26,DEFAULTS!$E$8:$F$69,2,FALSE))/10^6*(1/($D$5/100)))))))","v":0},{"$f":"IF(ISERROR(METHANE!$J57*(IF('USER INPUTS'!$B$26=\"Total landfill gas\",(1/($D$5/100)),IF('USER INPUTS'!$B$26=\"Methane\",1,IF('USER INPUTS'!$B$26=\"Carbon dioxide\",((1/($D$5/100))-1),(VLOOKUP('USER INPUTS'!$B$26,DEFAULTS!$E$8:$F$69,2,FALSE))/10^6*(1/($D$5/100))))))),0,METHANE!$J57*(IF('USER INPUTS'!$B$26=\"Total landfill gas\",(1/($D$5/100)),IF('USER INPUTS'!$B$26=\"Methane\",1,IF('USER INPUTS'!$B$26=\"Carbon dioxide\",((1/($D$5/100))-1),(VLOOKUP('USER INPUTS'!$B$26,DEFAULTS!$E$8:$F$69,2,FALSE))/10^6*(1/($D$5/100)))))))","v":0},{"$f":"IF(K$8=\"(short tons/year)\",(I43*DEFAULTS!$B$55*DEFAULTS!$B$53/DEFAULTS!$B$54),IF(K$8=\"(ft^3/year)\",(J43*DEFAULTS!$B$57),IF(K$8=\"(av ft^3/min)\",(J43*DEFAULTS!$B$57/DEFAULTS!$B$58),0)))","v":0},{"$f":"IF(ISERROR(METHANE!$J57*DEFAULTS!$B$83*(IF('USER INPUTS'!$B$28=\"Total landfill gas\",(1/($D$5/100)),IF('USER INPUTS'!$B$28=\"Methane\",1,IF('USER INPUTS'!$B$28=\"Carbon dioxide\",((1/($D$5/100))-1),(VLOOKUP('USER INPUTS'!$B$28,DEFAULTS!$E$8:$F$69,2,FALSE))/10^6*(1/($D$5/100))))))),0,METHANE!$J57*DEFAULTS!$B$83*(IF('USER INPUTS'!$B$28=\"Total landfill gas\",(1/($D$5/100)),IF('USER INPUTS'!$B$28=\"Methane\",1,IF('USER INPUTS'!$B$28=\"Carbon dioxide\",((1/($D$5/100))-1),(VLOOKUP('USER INPUTS'!$B$28,DEFAULTS!$E$8:$F$69,2,FALSE))/10^6*(1/($D$5/100)))))))","v":0},{"$f":"IF(ISERROR(METHANE!$J57*(IF('USER INPUTS'!$B$28=\"Total landfill gas\",(1/($D$5/100)),IF('USER INPUTS'!$B$28=\"Methane\",1,IF('USER INPUTS'!$B$28=\"Carbon dioxide\",((1/($D$5/100))-1),(VLOOKUP('USER INPUTS'!$B$28,DEFAULTS!$E$8:$F$69,2,FALSE))/10^6*(1/($D$5/100))))))),0,METHANE!$J57*(IF('USER INPUTS'!$B$28=\"Total landfill gas\",(1/($D$5/100)),IF('USER INPUTS'!$B$28=\"Methane\",1,IF('USER INPUTS'!$B$28=\"Carbon dioxide\",((1/($D$5/100))-1),(VLOOKUP('USER INPUTS'!$B$28,DEFAULTS!$E$8:$F$69,2,FALSE))/10^6*(1/($D$5/100)))))))","v":0},{"$f":"IF(N$8=\"(short tons/year)\",(L43*DEFAULTS!$B$55*DEFAULTS!$B$53/DEFAULTS!$B$54),IF(N$8=\"(ft^3/year)\",(M43*DEFAULTS!$B$57),IF(N$8=\"(av ft^3/min)\",(M43*DEFAULTS!$B$57/DEFAULTS!$B$58),0)))","v":0},{"$f":"IF(ISERROR(METHANE!$J57*DEFAULTS!$B$84*(IF('USER INPUTS'!$B$30=\"Total landfill gas\",(1/($D$5/100)),IF('USER INPUTS'!$B$30=\"Methane\",1,IF('USER INPUTS'!$B$30=\"Carbon dioxide\",((1/($D$5/100))-1),(VLOOKUP('USER INPUTS'!$B$30,DEFAULTS!$E$8:$F$69,2,FALSE))/10^6*(1/($D$5/100))))))),0,METHANE!$J57*DEFAULTS!$B$84*(IF('USER INPUTS'!$B$30=\"Total landfill gas\",(1/($D$5/100)),IF('USER INPUTS'!$B$30=\"Methane\",1,IF('USER INPUTS'!$B$30=\"Carbon dioxide\",((1/($D$5/100))-1),(VLOOKUP('USER INPUTS'!$B$30,DEFAULTS!$E$8:$F$69,2,FALSE))/10^6*(1/($D$5/100)))))))","v":0},{"$f":"IF(ISERROR(METHANE!$J57*(IF('USER INPUTS'!$B$30=\"Total landfill gas\",(1/($D$5/100)),IF('USER INPUTS'!$B$30=\"Methane\",1,IF('USER INPUTS'!$B$30=\"Carbon dioxide\",((1/($D$5/100))-1),(VLOOKUP('USER INPUTS'!$B$30,DEFAULTS!$E$8:$F$69,2,FALSE))/10^6*(1/($D$5/100))))))),0,METHANE!$J57*(IF('USER INPUTS'!$B$30=\"Total landfill gas\",(1/($D$5/100)),IF('USER INPUTS'!$B$30=\"Methane\",1,IF('USER INPUTS'!$B$30=\"Carbon dioxide\",((1/($D$5/100))-1),(VLOOKUP('USER INPUTS'!$B$30,DEFAULTS!$E$8:$F$69,2,FALSE))/10^6*(1/($D$5/100)))))))","v":0},{"$f":"IF(Q$8=\"(short tons/year)\",(O43*DEFAULTS!$B$55*DEFAULTS!$B$53/DEFAULTS!$B$54),IF(Q$8=\"(ft^3/year)\",(P43*DEFAULTS!$B$57),IF(Q$8=\"(av ft^3/min)\",(P43*DEFAULTS!$B$57/DEFAULTS!$B$58),0)))","v":0}]
[{"$f":"METHANE!I58","v":35},{"$f":"IF(METHANE!E58>0,METHANE!E58,0)","v":0},{"$f":"IF(METHANE!E58>0,METHANE!E58*DEFAULTS!$B$55*DEFAULTS!$B$53/DEFAULTS!$B$54,0)","v":0},{"$f":"IF(METHANE!F58>0,METHANE!F58,0)","v":0},{"$f":"IF(METHANE!F58>0,METHANE!F58*DEFAULTS!$B$55*DEFAULTS!$B$53/DEFAULTS!$B$54,0)","v":0},{"$f":"IF(ISERROR(METHANE!$J58*DEFAULTS!$B$81*(IF('USER INPUTS'!$B$24=\"Total landfill gas\",(1/($D$5/100)),IF('USER INPUTS'!$B$24=\"Methane\",1,IF('USER INPUTS'!$B$24=\"Carbon dioxide\",((1/($D$5/100))-1),(VLOOKUP('USER INPUTS'!$B$24,DEFAULTS!$E$8:$F$69,2,FALSE))/10^6*(1/($D$5/100))))))),0,METHANE!$J58*DEFAULTS!$B$81*(IF('USER INPUTS'!$B$24=\"Total landfill gas\",(1/($D$5/100)),IF('USER INPUTS'!$B$24=\"Methane\",1,IF('USER INPUTS'!$B$24=\"Carbon dioxide\",((1/($D$5/100))-1),(VLOOKUP('USER INPUTS'!$B$24,DEFAULTS!$E$8:$F$69,2,FALSE))/10^6*(1/($D$5/100)))))))","v":0},{"$f":"IF(ISERROR(METHANE!$J58*(IF('USER INPUTS'!$B$24=\"Total landfill gas\",(1/($D$5/100)),IF('USER INPUTS'!$B$24=\"Methane\",1,IF('USER INPUTS'!$B$24=\"Carbon dioxide\",((1/($D$5/100))-1),(VLOOKUP('USER INPUTS'!$B$24,DEFAULTS!$E$8:$F$69,2,FALSE))/10^6*(1/($D$5/100))))))),0,METHANE!$J58*(IF('USER INPUTS'!$B$24=\"Total landfill gas\",(1/($D$5/100)),IF('USER INPUTS'!$B$24=\"Methane\",1,IF('USER INPUTS'!$B$24=\"Carbon dioxide\",((1/($D$5/100))-1),(VLOOKUP('USER INPUTS'!$B$24,DEFAULTS!$E$8:$F$69,2,FALSE))/10^6*(1/($D$5/100)))))))","v":0},{"$f":"IF(H$8=\"(short tons/year)\",(F44*DEFAULTS!$B$55*DEFAULTS!$B$53/DEFAULTS!$B$54),IF(H$8=\"(ft^3/year)\",(G44*DEFAULTS!$B$57),IF(H$8=\"(av ft^3/min)\",(G44*DEFAULTS!$B$57/DEFAULTS!$B$58),0)))","v":0},{"$f":"IF(ISERROR(METHANE!$J58*DEFAULTS!$B$82*(IF('USER INPUTS'!$B$26=\"Total landfill gas\",(1/($D$5/100)),IF('USER INPUTS'!$B$26=\"Methane\",1,IF('USER INPUTS'!$B$26=\"Carbon dioxide\",((1/($D$5/100))-1),(VLOOKUP('USER INPUTS'!$B$26,DEFAULTS!$E$8:$F$69,2,FALSE))/10^6*(1/($D$5/100))))))),0,METHANE!$J58*DEFAULTS!$B$82*(IF('USER INPUTS'!$B$26=\"Total landfill gas\",(1/($D$5/100)),IF('USER INPUTS'!$B$26=\"Methane\",1,IF('USER INPUTS'!$B$26=\"Carbon dioxide\",((1/($D$5/100))-1),(VLOOKUP('USER INPUTS'!$B$26,DEFAULTS!$E$8:$F$69,2,FALSE))/10^6*(1/($D$5/100)))))))","v":0},{"$f":"IF(ISERROR(METHANE!$J58*(IF('USER INPUTS'!$B$26=\"Total landfill gas\",(1/($D$5/100)),IF('USER INPUTS'!$B$26=\"Methane\",1,IF('USER INPUTS'!$B$26=\"Carbon dioxide\",((1/($D$5/100))-1),(VLOOKUP('USER INPUTS'!$B$26,DEFAULTS!$E$8:$F$69,2,FALSE))/10^6*(1/($D$5/100))))))),0,METHANE!$J58*(IF('USER INPUTS'!$B$26=\"Total landfill gas\",(1/($D$5/100)),IF('USER INPUTS'!$B$26=\"Methane\",1,IF('USER INPUTS'!$B$26=\"Carbon dioxide\",((1/($D$5/100))-1),(VLOOKUP('USER INPUTS'!$B$26,DEFAULTS!$E$8:$F$69,2,FALSE))/10^6*(1/($D$5/100)))))))","v":0},{"$f":"IF(K$8=\"(short tons/year)\",(I44*DEFAULTS!$B$55*DEFAULTS!$B$53/DEFAULTS!$B$54),IF(K$8=\"(ft^3/year)\",(J44*DEFAULTS!$B$57),IF(K$8=\"(av ft^3/min)\",(J44*DEFAULTS!$B$57/DEFAULTS!$B$58),0)))","v":0},{"$f":"IF(ISERROR(METHANE!$J58*DEFAULTS!$B$83*(IF('USER INPUTS'!$B$28=\"Total landfill gas\",(1/($D$5/100)),IF('USER INPUTS'!$B$28=\"Methane\",1,IF('USER INPUTS'!$B$28=\"Carbon dioxide\",((1/($D$5/100))-1),(VLOOKUP('USER INPUTS'!$B$28,DEFAULTS!$E$8:$F$69,2,FALSE))/10^6*(1/($D$5/100))))))),0,METHANE!$J58*DEFAULTS!$B$83*(IF('USER INPUTS'!$B$28=\"Total landfill gas\",(1/($D$5/100)),IF('USER INPUTS'!$B$28=\"Methane\",1,IF('USER INPUTS'!$B$28=\"Carbon dioxide\",((1/($D$5/100))-1),(VLOOKUP('USER INPUTS'!$B$28,DEFAULTS!$E$8:$F$69,2,FALSE))/10^6*(1/($D$5/100)))))))","v":0},{"$f":"IF(ISERROR(METHANE!$J58*(IF('USER INPUTS'!$B$28=\"Total landfill gas\",(1/($D$5/100)),IF('USER INPUTS'!$B$28=\"Methane\",1,IF('USER INPUTS'!$B$28=\"Carbon dioxide\",((1/($D$5/100))-1),(VLOOKUP('USER INPUTS'!$B$28,DEFAULTS!$E$8:$F$69,2,FALSE))/10^6*(1/($D$5/100))))))),0,METHANE!$J58*(IF('USER INPUTS'!$B$28=\"Total landfill gas\",(1/($D$5/100)),IF('USER INPUTS'!$B$28=\"Methane\",1,IF('USER INPUTS'!$B$28=\"Carbon dioxide\",((1/($D$5/100))-1),(VLOOKUP('USER INPUTS'!$B$28,DEFAULTS!$E$8:$F$69,2,FALSE))/10^6*(1/($D$5/100)))))))","v":0},{"$f":"IF(N$8=\"(short tons/year)\",(L44*DEFAULTS!$B$55*DEFAULTS!$B$53/DEFAULTS!$B$54),IF(N$8=\"(ft^3/year)\",(M44*DEFAULTS!$B$57),IF(N$8=\"(av ft^3/min)\",(M44*DEFAULTS!$B$57/DEFAULTS!$B$58),0)))","v":0},{"$f":"IF(ISERROR(METHANE!$J58*DEFAULTS!$B$84*(IF('USER INPUTS'!$B$30=\"Total landfill gas\",(1/($D$5/100)),IF('USER INPUTS'!$B$30=\"Methane\",1,IF('USER INPUTS'!$B$30=\"Carbon dioxide\",((1/($D$5/100))-1),(VLOOKUP('USER INPUTS'!$B$30,DEFAULTS!$E$8:$F$69,2,FALSE))/10^6*(1/($D$5/100))))))),0,METHANE!$J58*DEFAULTS!$B$84*(IF('USER INPUTS'!$B$30=\"Total landfill gas\",(1/($D$5/100)),IF('USER INPUTS'!$B$30=\"Methane\",1,IF('USER INPUTS'!$B$30=\"Carbon dioxide\",((1/($D$5/100))-1),(VLOOKUP('USER INPUTS'!$B$30,DEFAULTS!$E$8:$F$69,2,FALSE))/10^6*(1/($D$5/100)))))))","v":0},{"$f":"IF(ISERROR(METHANE!$J58*(IF('USER INPUTS'!$B$30=\"Total landfill gas\",(1/($D$5/100)),IF('USER INPUTS'!$B$30=\"Methane\",1,IF('USER INPUTS'!$B$30=\"Carbon dioxide\",((1/($D$5/100))-1),(VLOOKUP('USER INPUTS'!$B$30,DEFAULTS!$E$8:$F$69,2,FALSE))/10^6*(1/($D$5/100))))))),0,METHANE!$J58*(IF('USER INPUTS'!$B$30=\"Total landfill gas\",(1/($D$5/100)),IF('USER INPUTS'!$B$30=\"Methane\",1,IF('USER INPUTS'!$B$30=\"Carbon dioxide\",((1/($D$5/100))-1),(VLOOKUP('USER INPUTS'!$B$30,DEFAULTS!$E$8:$F$69,2,FALSE))/10^6*(1/($D$5/100)))))))","v":0},{"$f":"IF(Q$8=\"(short tons/year)\",(O44*DEFAULTS!$B$55*DEFAULTS!$B$53/DEFAULTS!$B$54),IF(Q$8=\"(ft^3/year)\",(P44*DEFAULTS!$B$57),IF(Q$8=\"(av ft^3/min)\",(P44*DEFAULTS!$B$57/DEFAULTS!$B$58),0)))","v":0}]
[{"$f":"METHANE!I59","v":36},{"$f":"IF(METHANE!E59>0,METHANE!E59,0)","v":0},{"$f":"IF(METHANE!E59>0,METHANE!E59*DEFAULTS!$B$55*DEFAULTS!$B$53/DEFAULTS!$B$54,0)","v":0},{"$f":"IF(METHANE!F59>0,METHANE!F59,0)","v":0},{"$f":"IF(METHANE!F59>0,METHANE!F59*DEFAULTS!$B$55*DEFAULTS!$B$53/DEFAULTS!$B$54,0)","v":0},{"$f":"IF(ISERROR(METHANE!$J59*DEFAULTS!$B$81*(IF('USER INPUTS'!$B$24=\"Total landfill gas\",(1/($D$5/100)),IF('USER INPUTS'!$B$24=\"Methane\",1,IF('USER INPUTS'!$B$24=\"Carbon dioxide\",((1/($D$5/100))-1),(VLOOKUP('USER INPUTS'!$B$24,DEFAULTS!$E$8:$F$69,2,FALSE))/10^6*(1/($D$5/100))))))),0,METHANE!$J59*DEFAULTS!$B$81*(IF('USER INPUTS'!$B$24=\"Total landfill gas\",(1/($D$5/100)),IF('USER INPUTS'!$B$24=\"Methane\",1,IF('USER INPUTS'!$B$24=\"Carbon dioxide\",((1/($D$5/100))-1),(VLOOKUP('USER INPUTS'!$B$24,DEFAULTS!$E$8:$F$69,2,FALSE))/10^6*(1/($D$5/100)))))))","v":0},{"$f":"IF(ISERROR(METHANE!$J59*(IF('USER INPUTS'!$B$24=\"Total landfill gas\",(1/($D$5/100)),IF('USER INPUTS'!$B$24=\"Methane\",1,IF('USER INPUTS'!$B$24=\"Carbon dioxide\",((1/($D$5/100))-1),(VLOOKUP('USER INPUTS'!$B$24,DEFAULTS!$E$8:$F$69,2,FALSE))/10^6*(1/($D$5/100))))))),0,METHANE!$J59*(IF('USER INPUTS'!$B$24=\"Total landfill gas\",(1/($D$5/100)),IF('USER INPUTS'!$B$24=\"Methane\",1,IF('USER INPUTS'!$B$24=\"Carbon dioxide\",((1/($D$5/100))-1),(VLOOKUP('USER INPUTS'!$B$24,DEFAULTS!$E$8:$F$69,2,FALSE))/10^6*(1/($D$5/100)))))))","v":0},{"$f":"IF(H$8=\"(short tons/year)\",(F45*DEFAULTS!$B$55*DEFAULTS!$B$53/DEFAULTS!$B$54),IF(H$8=\"(ft^3/year)\",(G45*DEFAULTS!$B$57),IF(H$8=\"(av ft^3/min)\",(G45*DEFAULTS!$B$57/DEFAULTS!$B$58),0)))","v":0},{"$f":"IF(ISERROR(METHANE!$J59*DEFAULTS!$B$82*(IF('USER INPUTS'!$B$26=\"Total landfill gas\",(1/($D$5/100)),IF('USER INPUTS'!$B$26=\"Methane\",1,IF('USER INPUTS'!$B$26=\"Carbon dioxide\",((1/($D$5/100))-1),(VLOOKUP('USER INPUTS'!$B$26,DEFAULTS!$E$8:$F$69,2,FALSE))/10^6*(1/($D$5/100))))))),0,METHANE!$J59*DEFAULTS!$B$82*(IF('USER INPUTS'!$B$26=\"Total landfill gas\",(1/($D$5/100)),IF('USER INPUTS'!$B$26=\"Methane\",1,IF('USER INPUTS'!$B$26=\"Carbon dioxide\",((1/($D$5/100))-1),(VLOOKUP('USER INPUTS'!$B$26,DEFAULTS!$E$8:$F$69,2,FALSE))/10^6*(1/($D$5/100)))))))","v":0},{"$f":"IF(ISERROR(METHANE!$J59*(IF('USER INPUTS'!$B$26=\"Total landfill gas\",(1/($D$5/100)),IF('USER INPUTS'!$B$26=\"Methane\",1,IF('USER INPUTS'!$B$26=\"Carbon dioxide\",((1/($D$5/100))-1),(VLOOKUP('USER INPUTS'!$B$26,DEFAULTS!$E$8:$F$69,2,FALSE))/10^6*(1/($D$5/100))))))),0,METHANE!$J59*(IF('USER INPUTS'!$B$26=\"Total landfill gas\",(1/($D$5/100)),IF('USER INPUTS'!$B$26=\"Methane\",1,IF('USER INPUTS'!$B$26=\"Carbon dioxide\",((1/($D$5/100))-1),(VLOOKUP('USER INPUTS'!$B$26,DEFAULTS!$E$8:$F$69,2,FALSE))/10^6*(1/($D$5/100)))))))","v":0},{"$f":"IF(K$8=\"(short tons/year)\",(I45*DEFAULTS!$B$55*DEFAULTS!$B$53/DEFAULTS!$B$54),IF(K$8=\"(ft^3/year)\",(J45*DEFAULTS!$B$57),IF(K$8=\"(av ft^3/min)\",(J45*DEFAULTS!$B$57/DEFAULTS!$B$58),0)))","v":0},{"$f":"IF(ISERROR(METHANE!$J59*DEFAULTS!$B$83*(IF('USER INPUTS'!$B$28=\"Total landfill gas\",(1/($D$5/100)),IF('USER INPUTS'!$B$28=\"Methane\",1,IF('USER INPUTS'!$B$28=\"Carbon dioxide\",((1/($D$5/100))-1),(VLOOKUP('USER INPUTS'!$B$28,DEFAULTS!$E$8:$F$69,2,FALSE))/10^6*(1/($D$5/100))))))),0,METHANE!$J59*DEFAULTS!$B$83*(IF('USER INPUTS'!$B$28=\"Total landfill gas\",(1/($D$5/100)),IF('USER INPUTS'!$B$28=\"Methane\",1,IF('USER INPUTS'!$B$28=\"Carbon dioxide\",((1/($D$5/100))-1),(VLOOKUP('USER INPUTS'!$B$28,DEFAULTS!$E$8:$F$69,2,FALSE))/10^6*(1/($D$5/100)))))))","v":0},{"$f":"IF(ISERROR(METHANE!$J59*(IF('USER INPUTS'!$B$28=\"Total landfill gas\",(1/($D$5/100)),IF('USER INPUTS'!$B$28=\"Methane\",1,IF('USER INPUTS'!$B$28=\"Carbon dioxide\",((1/($D$5/100))-1),(VLOOKUP('USER INPUTS'!$B$28,DEFAULTS!$E$8:$F$69,2,FALSE))/10^6*(1/($D$5/100))))))),0,METHANE!$J59*(IF('USER INPUTS'!$B$28=\"Total landfill gas\",(1/($D$5/100)),IF('USER INPUTS'!$B$28=\"Methane\",1,IF('USER INPUTS'!$B$28=\"Carbon dioxide\",((1/($D$5/100))-1),(VLOOKUP('USER INPUTS'!$B$28,DEFAULTS!$E$8:$F$69,2,FALSE))/10^6*(1/($D$5/100)))))))","v":0},{"$f":"IF(N$8=\"(short tons/year)\",(L45*DEFAULTS!$B$55*DEFAULTS!$B$53/DEFAULTS!$B$54),IF(N$8=\"(ft^3/year)\",(M45*DEFAULTS!$B$57),IF(N$8=\"(av ft^3/min)\",(M45*DEFAULTS!$B$57/DEFAULTS!$B$58),0)))","v":0},{"$f":"IF(ISERROR(METHANE!$J59*DEFAULTS!$B$84*(IF('USER INPUTS'!$B$30=\"Total landfill gas\",(1/($D$5/100)),IF('USER INPUTS'!$B$30=\"Methane\",1,IF('USER INPUTS'!$B$30=\"Carbon dioxide\",((1/($D$5/100))-1),(VLOOKUP('USER INPUTS'!$B$30,DEFAULTS!$E$8:$F$69,2,FALSE))/10^6*(1/($D$5/100))))))),0,METHANE!$J59*DEFAULTS!$B$84*(IF('USER INPUTS'!$B$30=\"Total landfill gas\",(1/($D$5/100)),IF('USER INPUTS'!$B$30=\"Methane\",1,IF('USER INPUTS'!$B$30=\"Carbon dioxide\",((1/($D$5/100))-1),(VLOOKUP('USER INPUTS'!$B$30,DEFAULTS!$E$8:$F$69,2,FALSE))/10^6*(1/($D$5/100)))))))","v":0},{"$f":"IF(ISERROR(METHANE!$J59*(IF('USER INPUTS'!$B$30=\"Total landfill gas\",(1/($D$5/100)),IF('USER INPUTS'!$B$30=\"Methane\",1,IF('USER INPUTS'!$B$30=\"Carbon dioxide\",((1/($D$5/100))-1),(VLOOKUP('USER INPUTS'!$B$30,DEFAULTS!$E$8:$F$69,2,FALSE))/10^6*(1/($D$5/100))))))),0,METHANE!$J59*(IF('USER INPUTS'!$B$30=\"Total landfill gas\",(1/($D$5/100)),IF('USER INPUTS'!$B$30=\"Methane\",1,IF('USER INPUTS'!$B$30=\"Carbon dioxide\",((1/($D$5/100))-1),(VLOOKUP('USER INPUTS'!$B$30,DEFAULTS!$E$8:$F$69,2,FALSE))/10^6*(1/($D$5/100)))))))","v":0},{"$f":"IF(Q$8=\"(short tons/year)\",(O45*DEFAULTS!$B$55*DEFAULTS!$B$53/DEFAULTS!$B$54),IF(Q$8=\"(ft^3/year)\",(P45*DEFAULTS!$B$57),IF(Q$8=\"(av ft^3/min)\",(P45*DEFAULTS!$B$57/DEFAULTS!$B$58),0)))","v":0}]
[{"$f":"METHANE!I60","v":37},{"$f":"IF(METHANE!E60>0,METHANE!E60,0)","v":0},{"$f":"IF(METHANE!E60>0,METHANE!E60*DEFAULTS!$B$55*DEFAULTS!$B$53/DEFAULTS!$B$54,0)","v":0},{"$f":"IF(METHANE!F60>0,METHANE!F60,0)","v":0},{"$f":"IF(METHANE!F60>0,METHANE!F60*DEFAULTS!$B$55*DEFAULTS!$B$53/DEFAULTS!$B$54,0)","v":0},{"$f":"IF(ISERROR(METHANE!$J60*DEFAULTS!$B$81*(IF('USER INPUTS'!$B$24=\"Total landfill gas\",(1/($D$5/100)),IF('USER INPUTS'!$B$24=\"Methane\",1,IF('USER INPUTS'!$B$24=\"Carbon dioxide\",((1/($D$5/100))-1),(VLOOKUP('USER INPUTS'!$B$24,DEFAULTS!$E$8:$F$69,2,FALSE))/10^6*(1/($D$5/100))))))),0,METHANE!$J60*DEFAULTS!$B$81*(IF('USER INPUTS'!$B$24=\"Total landfill gas\",(1/($D$5/100)),IF('USER INPUTS'!$B$24=\"Methane\",1,IF('USER INPUTS'!$B$24=\"Carbon dioxide\",((1/($D$5/100))-1),(VLOOKUP('USER INPUTS'!$B$24,DEFAULTS!$E$8:$F$69,2,FALSE))/10^6*(1/($D$5/100)))))))","v":0},{"$f":"IF(ISERROR(METHANE!$J60*(IF('USER INPUTS'!$B$24=\"Total landfill gas\",(1/($D$5/100)),IF('USER INPUTS'!$B$24=\"Methane\",1,IF('USER INPUTS'!$B$24=\"Carbon dioxide\",((1/($D$5/100))-1),(VLOOKUP('USER INPUTS'!$B$24,DEFAULTS!$E$8:$F$69,2,FALSE))/10^6*(1/($D$5/100))))))),0,METHANE!$J60*(IF('USER INPUTS'!$B$24=\"Total landfill gas\",(1/($D$5/100)),IF('USER INPUTS'!$B$24=\"Methane\",1,IF('USER INPUTS'!$B$24=\"Carbon dioxide\",((1/($D$5/100))-1),(VLOOKUP('USER INPUTS'!$B$24,DEFAULTS!$E$8:$F$69,2,FALSE))/10^6*(1/($D$5/100)))))))","v":0},{"$f":"IF(H$8=\"(short tons/year)\",(F46*DEFAULTS!$B$55*DEFAULTS!$B$53/DEFAULTS!$B$54),IF(H$8=\"(ft^3/year)\",(G46*DEFAULTS!$B$57),IF(H$8=\"(av ft^3/min)\",(G46*DEFAULTS!$B$57/DEFAULTS!$B$58),0)))","v":0},{"$f":"IF(ISERROR(METHANE!$J60*DEFAULTS!$B$82*(IF('USER INPUTS'!$B$26=\"Total landfill gas\",(1/($D$5/100)),IF('USER INPUTS'!$B$26=\"Methane\",1,IF('USER INPUTS'!$B$26=\"Carbon dioxide\",((1/($D$5/100))-1),(VLOOKUP('USER INPUTS'!$B$26,DEFAULTS!$E$8:$F$69,2,FALSE))/10^6*(1/($D$5/100))))))),0,METHANE!$J60*DEFAULTS!$B$82*(IF('USER INPUTS'!$B$26=\"Total landfill gas\",(1/($D$5/100)),IF('USER INPUTS'!$B$26=\"Methane\",1,IF('USER INPUTS'!$B$26=\"Carbon dioxide\",((1/($D$5/100))-1),(VLOOKUP('USER INPUTS'!$B$26,DEFAULTS!$E$8:$F$69,2,FALSE))/10^6*(1/($D$5/100)))))))","v":0},{"$f":"IF(ISERROR(METHANE!$J60*(IF('USER INPUTS'!$B$26=\"Total landfill gas\",(1/($D$5/100)),IF('USER INPUTS'!$B$26=\"Methane\",1,IF('USER INPUTS'!$B$26=\"Carbon dioxide\",((1/($D$5/100))-1),(VLOOKUP('USER INPUTS'!$B$26,DEFAULTS!$E$8:$F$69,2,FALSE))/10^6*(1/($D$5/100))))))),0,METHANE!$J60*(IF('USER INPUTS'!$B$26=\"Total landfill gas\",(1/($D$5/100)),IF('USER INPUTS'!$B$26=\"Methane\",1,IF('USER INPUTS'!$B$26=\"Carbon dioxide\",((1/($D$5/100))-1),(VLOOKUP('USER INPUTS'!$B$26,DEFAULTS!$E$8:$F$69,2,FALSE))/10^6*(1/($D$5/100)))))))","v":0},{"$f":"IF(K$8=\"(short tons/year)\",(I46*DEFAULTS!$B$55*DEFAULTS!$B$53/DEFAULTS!$B$54),IF(K$8=\"(ft^3/year)\",(J46*DEFAULTS!$B$57),IF(K$8=\"(av ft^3/min)\",(J46*DEFAULTS!$B$57/DEFAULTS!$B$58),0)))","v":0},{"$f":"IF(ISERROR(METHANE!$J60*DEFAULTS!$B$83*(IF('USER INPUTS'!$B$28=\"Total landfill gas\",(1/($D$5/100)),IF('USER INPUTS'!$B$28=\"Methane\",1,IF('USER INPUTS'!$B$28=\"Carbon dioxide\",((1/($D$5/100))-1),(VLOOKUP('USER INPUTS'!$B$28,DEFAULTS!$E$8:$F$69,2,FALSE))/10^6*(1/($D$5/100))))))),0,METHANE!$J60*DEFAULTS!$B$83*(IF('USER INPUTS'!$B$28=\"Total landfill gas\",(1/($D$5/100)),IF('USER INPUTS'!$B$28=\"Methane\",1,IF('USER INPUTS'!$B$28=\"Carbon dioxide\",((1/($D$5/100))-1),(VLOOKUP('USER INPUTS'!$B$28,DEFAULTS!$E$8:$F$69,2,FALSE))/10^6*(1/($D$5/100)))))))","v":0},{"$f":"IF(ISERROR(METHANE!$J60*(IF('USER INPUTS'!$B$28=\"Total landfill gas\",(1/($D$5/100)),IF('USER INPUTS'!$B$28=\"Methane\",1,IF('USER INPUTS'!$B$28=\"Carbon dioxide\",((1/($D$5/100))-1),(VLOOKUP('USER INPUTS'!$B$28,DEFAULTS!$E$8:$F$69,2,FALSE))/10^6*(1/($D$5/100))))))),0,METHANE!$J60*(IF('USER INPUTS'!$B$28=\"Total landfill gas\",(1/($D$5/100)),IF('USER INPUTS'!$B$28=\"Methane\",1,IF('USER INPUTS'!$B$28=\"Carbon dioxide\",((1/($D$5/100))-1),(VLOOKUP('USER INPUTS'!$B$28,DEFAULTS!$E$8:$F$69,2,FALSE))/10^6*(1/($D$5/100)))))))","v":0},{"$f":"IF(N$8=\"(short tons/year)\",(L46*DEFAULTS!$B$55*DEFAULTS!$B$53/DEFAULTS!$B$54),IF(N$8=\"(ft^3/year)\",(M46*DEFAULTS!$B$57),IF(N$8=\"(av ft^3/min)\",(M46*DEFAULTS!$B$57/DEFAULTS!$B$58),0)))","v":0},{"$f":"IF(ISERROR(METHANE!$J60*DEFAULTS!$B$84*(IF('USER INPUTS'!$B$30=\"Total landfill gas\",(1/($D$5/100)),IF('USER INPUTS'!$B$30=\"Methane\",1,IF('USER INPUTS'!$B$30=\"Carbon dioxide\",((1/($D$5/100))-1),(VLOOKUP('USER INPUTS'!$B$30,DEFAULTS!$E$8:$F$69,2,FALSE))/10^6*(1/($D$5/100))))))),0,METHANE!$J60*DEFAULTS!$B$84*(IF('USER INPUTS'!$B$30=\"Total landfill gas\",(1/($D$5/100)),IF('USER INPUTS'!$B$30=\"Methane\",1,IF('USER INPUTS'!$B$30=\"Carbon dioxide\",((1/($D$5/100))-1),(VLOOKUP('USER INPUTS'!$B$30,DEFAULTS!$E$8:$F$69,2,FALSE))/10^6*(1/($D$5/100)))))))","v":0},{"$f":"IF(ISERROR(METHANE!$J60*(IF('USER INPUTS'!$B$30=\"Total landfill gas\",(1/($D$5/100)),IF('USER INPUTS'!$B$30=\"Methane\",1,IF('USER INPUTS'!$B$30=\"Carbon dioxide\",((1/($D$5/100))-1),(VLOOKUP('USER INPUTS'!$B$30,DEFAULTS!$E$8:$F$69,2,FALSE))/10^6*(1/($D$5/100))))))),0,METHANE!$J60*(IF('USER INPUTS'!$B$30=\"Total landfill gas\",(1/($D$5/100)),IF('USER INPUTS'!$B$30=\"Methane\",1,IF('USER INPUTS'!$B$30=\"Carbon dioxide\",((1/($D$5/100))-1),(VLOOKUP('USER INPUTS'!$B$30,DEFAULTS!$E$8:$F$69,2,FALSE))/10^6*(1/($D$5/100)))))))","v":0},{"$f":"IF(Q$8=\"(short tons/year)\",(O46*DEFAULTS!$B$55*DEFAULTS!$B$53/DEFAULTS!$B$54),IF(Q$8=\"(ft^3/year)\",(P46*DEFAULTS!$B$57),IF(Q$8=\"(av ft^3/min)\",(P46*DEFAULTS!$B$57/DEFAULTS!$B$58),0)))","v":0}]
[{"$f":"METHANE!I61","v":38},{"$f":"IF(METHANE!E61>0,METHANE!E61,0)","v":0},{"$f":"IF(METHANE!E61>0,METHANE!E61*DEFAULTS!$B$55*DEFAULTS!$B$53/DEFAULTS!$B$54,0)","v":0},{"$f":"IF(METHANE!F61>0,METHANE!F61,0)","v":0},{"$f":"IF(METHANE!F61>0,METHANE!F61*DEFAULTS!$B$55*DEFAULTS!$B$53/DEFAULTS!$B$54,0)","v":0},{"$f":"IF(ISERROR(METHANE!$J61*DEFAULTS!$B$81*(IF('USER INPUTS'!$B$24=\"Total landfill gas\",(1/($D$5/100)),IF('USER INPUTS'!$B$24=\"Methane\",1,IF('USER INPUTS'!$B$24=\"Carbon dioxide\",((1/($D$5/100))-1),(VLOOKUP('USER INPUTS'!$B$24,DEFAULTS!$E$8:$F$69,2,FALSE))/10^6*(1/($D$5/100))))))),0,METHANE!$J61*DEFAULTS!$B$81*(IF('USER INPUTS'!$B$24=\"Total landfill gas\",(1/($D$5/100)),IF('USER INPUTS'!$B$24=\"Methane\",1,IF('USER INPUTS'!$B$24=\"Carbon dioxide\",((1/($D$5/100))-1),(VLOOKUP('USER INPUTS'!$B$24,DEFAULTS!$E$8:$F$69,2,FALSE))/10^6*(1/($D$5/100)))))))","v":0},{"$f":"IF(ISERROR(METHANE!$J61*(IF('USER INPUTS'!$B$24=\"Total landfill gas\",(1/($D$5/100)),IF('USER INPUTS'!$B$24=\"Methane\",1,IF('USER INPUTS'!$B$24=\"Carbon dioxide\",((1/($D$5/100))-1),(VLOOKUP('USER INPUTS'!$B$24,DEFAULTS!$E$8:$F$69,2,FALSE))/10^6*(1/($D$5/100))))))),0,METHANE!$J61*(IF('USER INPUTS'!$B$24=\"Total landfill gas\",(1/($D$5/100)),IF('USER INPUTS'!$B$24=\"Methane\",1,IF('USER INPUTS'!$B$24=\"Carbon dioxide\",((1/($D$5/100))-1),(VLOOKUP('USER INPUTS'!$B$24,DEFAULTS!$E$8:$F$69,2,FALSE))/10^6*(1/($D$5/100)))))))","v":0},{"$f":"IF(H$8=\"(short tons/year)\",(F47*DEFAULTS!$B$55*DEFAULTS!$B$53/DEFAULTS!$B$54),IF(H$8=\"(ft^3/year)\",(G47*DEFAULTS!$B$57),IF(H$8=\"(av ft^3/min)\",(G47*DEFAULTS!$B$57/DEFAULTS!$B$58),0)))","v":0},{"$f":"IF(ISERROR(METHANE!$J61*DEFAULTS!$B$82*(IF('USER INPUTS'!$B$26=\"Total landfill gas\",(1/($D$5/100)),IF('USER INPUTS'!$B$26=\"Methane\",1,IF('USER INPUTS'!$B$26=\"Carbon dioxide\",((1/($D$5/100))-1),(VLOOKUP('USER INPUTS'!$B$26,DEFAULTS!$E$8:$F$69,2,FALSE))/10^6*(1/($D$5/100))))))),0,METHANE!$J61*DEFAULTS!$B$82*(IF('USER INPUTS'!$B$26=\"Total landfill gas\",(1/($D$5/100)),IF('USER INPUTS'!$B$26=\"Methane\",1,IF('USER INPUTS'!$B$26=\"Carbon dioxide\",((1/($D$5/100))-1),(VLOOKUP('USER INPUTS'!$B$26,DEFAULTS!$E$8:$F$69,2,FALSE))/10^6*(1/($D$5/100)))))))","v":0},{"$f":"IF(ISERROR(METHANE!$J61*(IF('USER INPUTS'!$B$26=\"Total landfill gas\",(1/($D$5/100)),IF('USER INPUTS'!$B$26=\"Methane\",1,IF('USER INPUTS'!$B$26=\"Carbon dioxide\",((1/($D$5/100))-1),(VLOOKUP('USER INPUTS'!$B$26,DEFAULTS!$E$8:$F$69,2,FALSE))/10^6*(1/($D$5/100))))))),0,METHANE!$J61*(IF('USER INPUTS'!$B$26=\"Total landfill gas\",(1/($D$5/100)),IF('USER INPUTS'!$B$26=\"Methane\",1,IF('USER INPUTS'!$B$26=\"Carbon dioxide\",((1/($D$5/100))-1),(VLOOKUP('USER INPUTS'!$B$26,DEFAULTS!$E$8:$F$69,2,FALSE))/10^6*(1/($D$5/100)))))))","v":0},{"$f":"IF(K$8=\"(short tons/year)\",(I47*DEFAULTS!$B$55*DEFAULTS!$B$53/DEFAULTS!$B$54),IF(K$8=\"(ft^3/year)\",(J47*DEFAULTS!$B$57),IF(K$8=\"(av ft^3/min)\",(J47*DEFAULTS!$B$57/DEFAULTS!$B$58),0)))","v":0},{"$f":"IF(ISERROR(METHANE!$J61*DEFAULTS!$B$83*(IF('USER INPUTS'!$B$28=\"Total landfill gas\",(1/($D$5/100)),IF('USER INPUTS'!$B$28=\"Methane\",1,IF('USER INPUTS'!$B$28=\"Carbon dioxide\",((1/($D$5/100))-1),(VLOOKUP('USER INPUTS'!$B$28,DEFAULTS!$E$8:$F$69,2,FALSE))/10^6*(1/($D$5/100))))))),0,METHANE!$J61*DEFAULTS!$B$83*(IF('USER INPUTS'!$B$28=\"Total landfill gas\",(1/($D$5/100)),IF('USER INPUTS'!$B$28=\"Methane\",1,IF('USER INPUTS'!$B$28=\"Carbon dioxide\",((1/($D$5/100))-1),(VLOOKUP('USER INPUTS'!$B$28,DEFAULTS!$E$8:$F$69,2,FALSE))/10^6*(1/($D$5/100)))))))","v":0},{"$f":"IF(ISERROR(METHANE!$J61*(IF('USER INPUTS'!$B$28=\"Total landfill gas\",(1/($D$5/100)),IF('USER INPUTS'!$B$28=\"Methane\",1,IF('USER INPUTS'!$B$28=\"Carbon dioxide\",((1/($D$5/100))-1),(VLOOKUP('USER INPUTS'!$B$28,DEFAULTS!$E$8:$F$69,2,FALSE))/10^6*(1/($D$5/100))))))),0,METHANE!$J61*(IF('USER INPUTS'!$B$28=\"Total landfill gas\",(1/($D$5/100)),IF('USER INPUTS'!$B$28=\"Methane\",1,IF('USER INPUTS'!$B$28=\"Carbon dioxide\",((1/($D$5/100))-1),(VLOOKUP('USER INPUTS'!$B$28,DEFAULTS!$E$8:$F$69,2,FALSE))/10^6*(1/($D$5/100)))))))","v":0},{"$f":"IF(N$8=\"(short tons/year)\",(L47*DEFAULTS!$B$55*DEFAULTS!$B$53/DEFAULTS!$B$54),IF(N$8=\"(ft^3/year)\",(M47*DEFAULTS!$B$57),IF(N$8=\"(av ft^3/min)\",(M47*DEFAULTS!$B$57/DEFAULTS!$B$58),0)))","v":0},{"$f":"IF(ISERROR(METHANE!$J61*DEFAULTS!$B$84*(IF('USER INPUTS'!$B$30=\"Total landfill gas\",(1/($D$5/100)),IF('USER INPUTS'!$B$30=\"Methane\",1,IF('USER INPUTS'!$B$30=\"Carbon dioxide\",((1/($D$5/100))-1),(VLOOKUP('USER INPUTS'!$B$30,DEFAULTS!$E$8:$F$69,2,FALSE))/10^6*(1/($D$5/100))))))),0,METHANE!$J61*DEFAULTS!$B$84*(IF('USER INPUTS'!$B$30=\"Total landfill gas\",(1/($D$5/100)),IF('USER INPUTS'!$B$30=\"Methane\",1,IF('USER INPUTS'!$B$30=\"Carbon dioxide\",((1/($D$5/100))-1),(VLOOKUP('USER INPUTS'!$B$30,DEFAULTS!$E$8:$F$69,2,FALSE))/10^6*(1/($D$5/100)))))))","v":0},{"$f":"IF(ISERROR(METHANE!$J61*(IF('USER INPUTS'!$B$30=\"Total landfill gas\",(1/($D$5/100)),IF('USER INPUTS'!$B$30=\"Methane\",1,IF('USER INPUTS'!$B$30=\"Carbon dioxide\",((1/($D$5/100))-1),(VLOOKUP('USER INPUTS'!$B$30,DEFAULTS!$E$8:$F$69,2,FALSE))/10^6*(1/($D$5/100))))))),0,METHANE!$J61*(IF('USER INPUTS'!$B$30=\"Total landfill gas\",(1/($D$5/100)),IF('USER INPUTS'!$B$30=\"Methane\",1,IF('USER INPUTS'!$B$30=\"Carbon dioxide\",((1/($D$5/100))-1),(VLOOKUP('USER INPUTS'!$B$30,DEFAULTS!$E$8:$F$69,2,FALSE))/10^6*(1/($D$5/100)))))))","v":0},{"$f":"IF(Q$8=\"(short tons/year)\",(O47*DEFAULTS!$B$55*DEFAULTS!$B$53/DEFAULTS!$B$54),IF(Q$8=\"(ft^3/year)\",(P47*DEFAULTS!$B$57),IF(Q$8=\"(av ft^3/min)\",(P47*DEFAULTS!$B$57/DEFAULTS!$B$58),0)))","v":0}]
[{"$f":"METHANE!I62","v":39},{"$f":"IF(METHANE!E62>0,METHANE!E62,0)","v":0},{"$f":"IF(METHANE!E62>0,METHANE!E62*DEFAULTS!$B$55*DEFAULTS!$B$53/DEFAULTS!$B$54,0)","v":0},{"$f":"IF(METHANE!F62>0,METHANE!F62,0)","v":0},{"$f":"IF(METHANE!F62>0,METHANE!F62*DEFAULTS!$B$55*DEFAULTS!$B$53/DEFAULTS!$B$54,0)","v":0},{"$f":"IF(ISERROR(METHANE!$J62*DEFAULTS!$B$81*(IF('USER INPUTS'!$B$24=\"Total landfill gas\",(1/($D$5/100)),IF('USER INPUTS'!$B$24=\"Methane\",1,IF('USER INPUTS'!$B$24=\"Carbon dioxide\",((1/($D$5/100))-1),(VLOOKUP('USER INPUTS'!$B$24,DEFAULTS!$E$8:$F$69,2,FALSE))/10^6*(1/($D$5/100))))))),0,METHANE!$J62*DEFAULTS!$B$81*(IF('USER INPUTS'!$B$24=\"Total landfill gas\",(1/($D$5/100)),IF('USER INPUTS'!$B$24=\"Methane\",1,IF('USER INPUTS'!$B$24=\"Carbon dioxide\",((1/($D$5/100))-1),(VLOOKUP('USER INPUTS'!$B$24,DEFAULTS!$E$8:$F$69,2,FALSE))/10^6*(1/($D$5/100)))))))","v":0},{"$f":"IF(ISERROR(METHANE!$J62*(IF('USER INPUTS'!$B$24=\"Total landfill gas\",(1/($D$5/100)),IF('USER INPUTS'!$B$24=\"Methane\",1,IF('USER INPUTS'!$B$24=\"Carbon dioxide\",((1/($D$5/100))-1),(VLOOKUP('USER INPUTS'!$B$24,DEFAULTS!$E$8:$F$69,2,FALSE))/10^6*(1/($D$5/100))))))),0,METHANE!$J62*(IF('USER INPUTS'!$B$24=\"Total landfill gas\",(1/($D$5/100)),IF('USER INPUTS'!$B$24=\"Methane\",1,IF('USER INPUTS'!$B$24=\"Carbon dioxide\",((1/($D$5/100))-1),(VLOOKUP('USER INPUTS'!$B$24,DEFAULTS!$E$8:$F$69,2,FALSE))/10^6*(1/($D$5/100)))))))","v":0},{"$f":"IF(H$8=\"(short tons/year)\",(F48*DEFAULTS!$B$55*DEFAULTS!$B$53/DEFAULTS!$B$54),IF(H$8=\"(ft^3/year)\",(G48*DEFAULTS!$B$57),IF(H$8=\"(av ft^3/min)\",(G48*DEFAULTS!$B$57/DEFAULTS!$B$58),0)))","v":0},{"$f":"IF(ISERROR(METHANE!$J62*DEFAULTS!$B$82*(IF('USER INPUTS'!$B$26=\"Total landfill gas\",(1/($D$5/100)),IF('USER INPUTS'!$B$26=\"Methane\",1,IF('USER INPUTS'!$B$26=\"Carbon dioxide\",((1/($D$5/100))-1),(VLOOKUP('USER INPUTS'!$B$26,DEFAULTS!$E$8:$F$69,2,FALSE))/10^6*(1/($D$5/100))))))),0,METHANE!$J62*DEFAULTS!$B$82*(IF('USER INPUTS'!$B$26=\"Total landfill gas\",(1/($D$5/100)),IF('USER INPUTS'!$B$26=\"Methane\",1,IF('USER INPUTS'!$B$26=\"Carbon dioxide\",((1/($D$5/100))-1),(VLOOKUP('USER INPUTS'!$B$26,DEFAULTS!$E$8:$F$69,2,FALSE))/10^6*(1/($D$5/100)))))))","v":0},{"$f":"IF(ISERROR(METHANE!$J62*(IF('USER INPUTS'!$B$26=\"Total landfill gas\",(1/($D$5/100)),IF('USER INPUTS'!$B$26=\"Methane\",1,IF('USER INPUTS'!$B$26=\"Carbon dioxide\",((1/($D$5/100))-1),(VLOOKUP('USER INPUTS'!$B$26,DEFAULTS!$E$8:$F$69,2,FALSE))/10^6*(1/($D$5/100))))))),0,METHANE!$J62*(IF('USER INPUTS'!$B$26=\"Total landfill gas\",(1/($D$5/100)),IF('USER INPUTS'!$B$26=\"Methane\",1,IF('USER INPUTS'!$B$26=\"Carbon dioxide\",((1/($D$5/100))-1),(VLOOKUP('USER INPUTS'!$B$26,DEFAULTS!$E$8:$F$69,2,FALSE))/10^6*(1/($D$5/100)))))))","v":0},{"$f":"IF(K$8=\"(short tons/year)\",(I48*DEFAULTS!$B$55*DEFAULTS!$B$53/DEFAULTS!$B$54),IF(K$8=\"(ft^3/year)\",(J48*DEFAULTS!$B$57),IF(K$8=\"(av ft^3/min)\",(J48*DEFAULTS!$B$57/DEFAULTS!$B$58),0)))","v":0},{"$f":"IF(ISERROR(METHANE!$J62*DEFAULTS!$B$83*(IF('USER INPUTS'!$B$28=\"Total landfill gas\",(1/($D$5/100)),IF('USER INPUTS'!$B$28=\"Methane\",1,IF('USER INPUTS'!$B$28=\"Carbon dioxide\",((1/($D$5/100))-1),(VLOOKUP('USER INPUTS'!$B$28,DEFAULTS!$E$8:$F$69,2,FALSE))/10^6*(1/($D$5/100))))))),0,METHANE!$J62*DEFAULTS!$B$83*(IF('USER INPUTS'!$B$28=\"Total landfill gas\",(1/($D$5/100)),IF('USER INPUTS'!$B$28=\"Methane\",1,IF('USER INPUTS'!$B$28=\"Carbon dioxide\",((1/($D$5/100))-1),(VLOOKUP('USER INPUTS'!$B$28,DEFAULTS!$E$8:$F$69,2,FALSE))/10^6*(1/($D$5/100)))))))","v":0},{"$f":"IF(ISERROR(METHANE!$J62*(IF('USER INPUTS'!$B$28=\"Total landfill gas\",(1/($D$5/100)),IF('USER INPUTS'!$B$28=\"Methane\",1,IF('USER INPUTS'!$B$28=\"Carbon dioxide\",((1/($D$5/100))-1),(VLOOKUP('USER INPUTS'!$B$28,DEFAULTS!$E$8:$F$69,2,FALSE))/10^6*(1/($D$5/100))))))),0,METHANE!$J62*(IF('USER INPUTS'!$B$28=\"Total landfill gas\",(1/($D$5/100)),IF('USER INPUTS'!$B$28=\"Methane\",1,IF('USER INPUTS'!$B$28=\"Carbon dioxide\",((1/($D$5/100))-1),(VLOOKUP('USER INPUTS'!$B$28,DEFAULTS!$E$8:$F$69,2,FALSE))/10^6*(1/($D$5/100)))))))","v":0},{"$f":"IF(N$8=\"(short tons/year)\",(L48*DEFAULTS!$B$55*DEFAULTS!$B$53/DEFAULTS!$B$54),IF(N$8=\"(ft^3/year)\",(M48*DEFAULTS!$B$57),IF(N$8=\"(av ft^3/min)\",(M48*DEFAULTS!$B$57/DEFAULTS!$B$58),0)))","v":0},{"$f":"IF(ISERROR(METHANE!$J62*DEFAULTS!$B$84*(IF('USER INPUTS'!$B$30=\"Total landfill gas\",(1/($D$5/100)),IF('USER INPUTS'!$B$30=\"Methane\",1,IF('USER INPUTS'!$B$30=\"Carbon dioxide\",((1/($D$5/100))-1),(VLOOKUP('USER INPUTS'!$B$30,DEFAULTS!$E$8:$F$69,2,FALSE))/10^6*(1/($D$5/100))))))),0,METHANE!$J62*DEFAULTS!$B$84*(IF('USER INPUTS'!$B$30=\"Total landfill gas\",(1/($D$5/100)),IF('USER INPUTS'!$B$30=\"Methane\",1,IF('USER INPUTS'!$B$30=\"Carbon dioxide\",((1/($D$5/100))-1),(VLOOKUP('USER INPUTS'!$B$30,DEFAULTS!$E$8:$F$69,2,FALSE))/10^6*(1/($D$5/100)))))))","v":0},{"$f":"IF(ISERROR(METHANE!$J62*(IF('USER INPUTS'!$B$30=\"Total landfill gas\",(1/($D$5/100)),IF('USER INPUTS'!$B$30=\"Methane\",1,IF('USER INPUTS'!$B$30=\"Carbon dioxide\",((1/($D$5/100))-1),(VLOOKUP('USER INPUTS'!$B$30,DEFAULTS!$E$8:$F$69,2,FALSE))/10^6*(1/($D$5/100))))))),0,METHANE!$J62*(IF('USER INPUTS'!$B$30=\"Total landfill gas\",(1/($D$5/100)),IF('USER INPUTS'!$B$30=\"Methane\",1,IF('USER INPUTS'!$B$30=\"Carbon dioxide\",((1/($D$5/100))-1),(VLOOKUP('USER INPUTS'!$B$30,DEFAULTS!$E$8:$F$69,2,FALSE))/10^6*(1/($D$5/100)))))))","v":0},{"$f":"IF(Q$8=\"(short tons/year)\",(O48*DEFAULTS!$B$55*DEFAULTS!$B$53/DEFAULTS!$B$54),IF(Q$8=\"(ft^3/year)\",(P48*DEFAULTS!$B$57),IF(Q$8=\"(av ft^3/min)\",(P48*DEFAULTS!$B$57/DEFAULTS!$B$58),0)))","v":0}]
[{"$f":"METHANE!I63","v":40},{"$f":"IF(METHANE!E63>0,METHANE!E63,0)","v":0},{"$f":"IF(METHANE!E63>0,METHANE!E63*DEFAULTS!$B$55*DEFAULTS!$B$53/DEFAULTS!$B$54,0)","v":0},{"$f":"IF(METHANE!F63>0,METHANE!F63,0)","v":0},{"$f":"IF(METHANE!F63>0,METHANE!F63*DEFAULTS!$B$55*DEFAULTS!$B$53/DEFAULTS!$B$54,0)","v":0},{"$f":"IF(ISERROR(METHANE!$J63*DEFAULTS!$B$81*(IF('USER INPUTS'!$B$24=\"Total landfill gas\",(1/($D$5/100)),IF('USER INPUTS'!$B$24=\"Methane\",1,IF('USER INPUTS'!$B$24=\"Carbon dioxide\",((1/($D$5/100))-1),(VLOOKUP('USER INPUTS'!$B$24,DEFAULTS!$E$8:$F$69,2,FALSE))/10^6*(1/($D$5/100))))))),0,METHANE!$J63*DEFAULTS!$B$81*(IF('USER INPUTS'!$B$24=\"Total landfill gas\",(1/($D$5/100)),IF('USER INPUTS'!$B$24=\"Methane\",1,IF('USER INPUTS'!$B$24=\"Carbon dioxide\",((1/($D$5/100))-1),(VLOOKUP('USER INPUTS'!$B$24,DEFAULTS!$E$8:$F$69,2,FALSE))/10^6*(1/($D$5/100)))))))","v":0},{"$f":"IF(ISERROR(METHANE!$J63*(IF('USER INPUTS'!$B$24=\"Total landfill gas\",(1/($D$5/100)),IF('USER INPUTS'!$B$24=\"Methane\",1,IF('USER INPUTS'!$B$24=\"Carbon dioxide\",((1/($D$5/100))-1),(VLOOKUP('USER INPUTS'!$B$24,DEFAULTS!$E$8:$F$69,2,FALSE))/10^6*(1/($D$5/100))))))),0,METHANE!$J63*(IF('USER INPUTS'!$B$24=\"Total landfill gas\",(1/($D$5/100)),IF('USER INPUTS'!$B$24=\"Methane\",1,IF('USER INPUTS'!$B$24=\"Carbon dioxide\",((1/($D$5/100))-1),(VLOOKUP('USER INPUTS'!$B$24,DEFAULTS!$E$8:$F$69,2,FALSE))/10^6*(1/($D$5/100)))))))","v":0},{"$f":"IF(H$8=\"(short tons/year)\",(F49*DEFAULTS!$B$55*DEFAULTS!$B$53/DEFAULTS!$B$54),IF(H$8=\"(ft^3/year)\",(G49*DEFAULTS!$B$57),IF(H$8=\"(av ft^3/min)\",(G49*DEFAULTS!$B$57/DEFAULTS!$B$58),0)))","v":0},{"$f":"IF(ISERROR(METHANE!$J63*DEFAULTS!$B$82*(IF('USER INPUTS'!$B$26=\"Total landfill gas\",(1/($D$5/100)),IF('USER INPUTS'!$B$26=\"Methane\",1,IF('USER INPUTS'!$B$26=\"Carbon dioxide\",((1/($D$5/100))-1),(VLOOKUP('USER INPUTS'!$B$26,DEFAULTS!$E$8:$F$69,2,FALSE))/10^6*(1/($D$5/100))))))),0,METHANE!$J63*DEFAULTS!$B$82*(IF('USER INPUTS'!$B$26=\"Total landfill gas\",(1/($D$5/100)),IF('USER INPUTS'!$B$26=\"Methane\",1,IF('USER INPUTS'!$B$26=\"Carbon dioxide\",((1/($D$5/100))-1),(VLOOKUP('USER INPUTS'!$B$26,DEFAULTS!$E$8:$F$69,2,FALSE))/10^6*(1/($D$5/100)))))))","v":0},{"$f":"IF(ISERROR(METHANE!$J63*(IF('USER INPUTS'!$B$26=\"Total landfill gas\",(1/($D$5/100)),IF('USER INPUTS'!$B$26=\"Methane\",1,IF('USER INPUTS'!$B$26=\"Carbon dioxide\",((1/($D$5/100))-1),(VLOOKUP('USER INPUTS'!$B$26,DEFAULTS!$E$8:$F$69,2,FALSE))/10^6*(1/($D$5/100))))))),0,METHANE!$J63*(IF('USER INPUTS'!$B$26=\"Total landfill gas\",(1/($D$5/100)),IF('USER INPUTS'!$B$26=\"Methane\",1,IF('USER INPUTS'!$B$26=\"Carbon dioxide\",((1/($D$5/100))-1),(VLOOKUP('USER INPUTS'!$B$26,DEFAULTS!$E$8:$F$69,2,FALSE))/10^6*(1/($D$5/100)))))))","v":0},{"$f":"IF(K$8=\"(short tons/year)\",(I49*DEFAULTS!$B$55*DEFAULTS!$B$53/DEFAULTS!$B$54),IF(K$8=\"(ft^3/year)\",(J49*DEFAULTS!$B$57),IF(K$8=\"(av ft^3/min)\",(J49*DEFAULTS!$B$57/DEFAULTS!$B$58),0)))","v":0},{"$f":"IF(ISERROR(METHANE!$J63*DEFAULTS!$B$83*(IF('USER INPUTS'!$B$28=\"Total landfill gas\",(1/($D$5/100)),IF('USER INPUTS'!$B$28=\"Methane\",1,IF('USER INPUTS'!$B$28=\"Carbon dioxide\",((1/($D$5/100))-1),(VLOOKUP('USER INPUTS'!$B$28,DEFAULTS!$E$8:$F$69,2,FALSE))/10^6*(1/($D$5/100))))))),0,METHANE!$J63*DEFAULTS!$B$83*(IF('USER INPUTS'!$B$28=\"Total landfill gas\",(1/($D$5/100)),IF('USER INPUTS'!$B$28=\"Methane\",1,IF('USER INPUTS'!$B$28=\"Carbon dioxide\",((1/($D$5/100))-1),(VLOOKUP('USER INPUTS'!$B$28,DEFAULTS!$E$8:$F$69,2,FALSE))/10^6*(1/($D$5/100)))))))","v":0},{"$f":"IF(ISERROR(METHANE!$J63*(IF('USER INPUTS'!$B$28=\"Total landfill gas\",(1/($D$5/100)),IF('USER INPUTS'!$B$28=\"Methane\",1,IF('USER INPUTS'!$B$28=\"Carbon dioxide\",((1/($D$5/100))-1),(VLOOKUP('USER INPUTS'!$B$28,DEFAULTS!$E$8:$F$69,2,FALSE))/10^6*(1/($D$5/100))))))),0,METHANE!$J63*(IF('USER INPUTS'!$B$28=\"Total landfill gas\",(1/($D$5/100)),IF('USER INPUTS'!$B$28=\"Methane\",1,IF('USER INPUTS'!$B$28=\"Carbon dioxide\",((1/($D$5/100))-1),(VLOOKUP('USER INPUTS'!$B$28,DEFAULTS!$E$8:$F$69,2,FALSE))/10^6*(1/($D$5/100)))))))","v":0},{"$f":"IF(N$8=\"(short tons/year)\",(L49*DEFAULTS!$B$55*DEFAULTS!$B$53/DEFAULTS!$B$54),IF(N$8=\"(ft^3/year)\",(M49*DEFAULTS!$B$57),IF(N$8=\"(av ft^3/min)\",(M49*DEFAULTS!$B$57/DEFAULTS!$B$58),0)))","v":0},{"$f":"IF(ISERROR(METHANE!$J63*DEFAULTS!$B$84*(IF('USER INPUTS'!$B$30=\"Total landfill gas\",(1/($D$5/100)),IF('USER INPUTS'!$B$30=\"Methane\",1,IF('USER INPUTS'!$B$30=\"Carbon dioxide\",((1/($D$5/100))-1),(VLOOKUP('USER INPUTS'!$B$30,DEFAULTS!$E$8:$F$69,2,FALSE))/10^6*(1/($D$5/100))))))),0,METHANE!$J63*DEFAULTS!$B$84*(IF('USER INPUTS'!$B$30=\"Total landfill gas\",(1/($D$5/100)),IF('USER INPUTS'!$B$30=\"Methane\",1,IF('USER INPUTS'!$B$30=\"Carbon dioxide\",((1/($D$5/100))-1),(VLOOKUP('USER INPUTS'!$B$30,DEFAULTS!$E$8:$F$69,2,FALSE))/10^6*(1/($D$5/100)))))))","v":0},{"$f":"IF(ISERROR(METHANE!$J63*(IF('USER INPUTS'!$B$30=\"Total landfill gas\",(1/($D$5/100)),IF('USER INPUTS'!$B$30=\"Methane\",1,IF('USER INPUTS'!$B$30=\"Carbon dioxide\",((1/($D$5/100))-1),(VLOOKUP('USER INPUTS'!$B$30,DEFAULTS!$E$8:$F$69,2,FALSE))/10^6*(1/($D$5/100))))))),0,METHANE!$J63*(IF('USER INPUTS'!$B$30=\"Total landfill gas\",(1/($D$5/100)),IF('USER INPUTS'!$B$30=\"Methane\",1,IF('USER INPUTS'!$B$30=\"Carbon dioxide\",((1/($D$5/100))-1),(VLOOKUP('USER INPUTS'!$B$30,DEFAULTS!$E$8:$F$69,2,FALSE))/10^6*(1/($D$5/100)))))))","v":0},{"$f":"IF(Q$8=\"(short tons/year)\",(O49*DEFAULTS!$B$55*DEFAULTS!$B$53/DEFAULTS!$B$54),IF(Q$8=\"(ft^3/year)\",(P49*DEFAULTS!$B$57),IF(Q$8=\"(av ft^3/min)\",(P49*DEFAULTS!$B$57/DEFAULTS!$B$58),0)))","v":0}]
[{"$f":"METHANE!I64","v":41},{"$f":"IF(METHANE!E64>0,METHANE!E64,0)","v":0},{"$f":"IF(METHANE!E64>0,METHANE!E64*DEFAULTS!$B$55*DEFAULTS!$B$53/DEFAULTS!$B$54,0)","v":0},{"$f":"IF(METHANE!F64>0,METHANE!F64,0)","v":0},{"$f":"IF(METHANE!F64>0,METHANE!F64*DEFAULTS!$B$55*DEFAULTS!$B$53/DEFAULTS!$B$54,0)","v":0},{"$f":"IF(ISERROR(METHANE!$J64*DEFAULTS!$B$81*(IF('USER INPUTS'!$B$24=\"Total landfill gas\",(1/($D$5/100)),IF('USER INPUTS'!$B$24=\"Methane\",1,IF('USER INPUTS'!$B$24=\"Carbon dioxide\",((1/($D$5/100))-1),(VLOOKUP('USER INPUTS'!$B$24,DEFAULTS!$E$8:$F$69,2,FALSE))/10^6*(1/($D$5/100))))))),0,METHANE!$J64*DEFAULTS!$B$81*(IF('USER INPUTS'!$B$24=\"Total landfill gas\",(1/($D$5/100)),IF('USER INPUTS'!$B$24=\"Methane\",1,IF('USER INPUTS'!$B$24=\"Carbon dioxide\",((1/($D$5/100))-1),(VLOOKUP('USER INPUTS'!$B$24,DEFAULTS!$E$8:$F$69,2,FALSE))/10^6*(1/($D$5/100)))))))","v":0},{"$f":"IF(ISERROR(METHANE!$J64*(IF('USER INPUTS'!$B$24=\"Total landfill gas\",(1/($D$5/100)),IF('USER INPUTS'!$B$24=\"Methane\",1,IF('USER INPUTS'!$B$24=\"Carbon dioxide\",((1/($D$5/100))-1),(VLOOKUP('USER INPUTS'!$B$24,DEFAULTS!$E$8:$F$69,2,FALSE))/10^6*(1/($D$5/100))))))),0,METHANE!$J64*(IF('USER INPUTS'!$B$24=\"Total landfill gas\",(1/($D$5/100)),IF('USER INPUTS'!$B$24=\"Methane\",1,IF('USER INPUTS'!$B$24=\"Carbon dioxide\",((1/($D$5/100))-1),(VLOOKUP('USER INPUTS'!$B$24,DEFAULTS!$E$8:$F$69,2,FALSE))/10^6*(1/($D$5/100)))))))","v":0},{"$f":"IF(H$8=\"(short tons/year)\",(F50*DEFAULTS!$B$55*DEFAULTS!$B$53/DEFAULTS!$B$54),IF(H$8=\"(ft^3/year)\",(G50*DEFAULTS!$B$57),IF(H$8=\"(av ft^3/min)\",(G50*DEFAULTS!$B$57/DEFAULTS!$B$58),0)))","v":0},{"$f":"IF(ISERROR(METHANE!$J64*DEFAULTS!$B$82*(IF('USER INPUTS'!$B$26=\"Total landfill gas\",(1/($D$5/100)),IF('USER INPUTS'!$B$26=\"Methane\",1,IF('USER INPUTS'!$B$26=\"Carbon dioxide\",((1/($D$5/100))-1),(VLOOKUP('USER INPUTS'!$B$26,DEFAULTS!$E$8:$F$69,2,FALSE))/10^6*(1/($D$5/100))))))),0,METHANE!$J64*DEFAULTS!$B$82*(IF('USER INPUTS'!$B$26=\"Total landfill gas\",(1/($D$5/100)),IF('USER INPUTS'!$B$26=\"Methane\",1,IF('USER INPUTS'!$B$26=\"Carbon dioxide\",((1/($D$5/100))-1),(VLOOKUP('USER INPUTS'!$B$26,DEFAULTS!$E$8:$F$69,2,FALSE))/10^6*(1/($D$5/100)))))))","v":0},{"$f":"IF(ISERROR(METHANE!$J64*(IF('USER INPUTS'!$B$26=\"Total landfill gas\",(1/($D$5/100)),IF('USER INPUTS'!$B$26=\"Methane\",1,IF('USER INPUTS'!$B$26=\"Carbon dioxide\",((1/($D$5/100))-1),(VLOOKUP('USER INPUTS'!$B$26,DEFAULTS!$E$8:$F$69,2,FALSE))/10^6*(1/($D$5/100))))))),0,METHANE!$J64*(IF('USER INPUTS'!$B$26=\"Total landfill gas\",(1/($D$5/100)),IF('USER INPUTS'!$B$26=\"Methane\",1,IF('USER INPUTS'!$B$26=\"Carbon dioxide\",((1/($D$5/100))-1),(VLOOKUP('USER INPUTS'!$B$26,DEFAULTS!$E$8:$F$69,2,FALSE))/10^6*(1/($D$5/100)))))))","v":0},{"$f":"IF(K$8=\"(short tons/year)\",(I50*DEFAULTS!$B$55*DEFAULTS!$B$53/DEFAULTS!$B$54),IF(K$8=\"(ft^3/year)\",(J50*DEFAULTS!$B$57),IF(K$8=\"(av ft^3/min)\",(J50*DEFAULTS!$B$57/DEFAULTS!$B$58),0)))","v":0},{"$f":"IF(ISERROR(METHANE!$J64*DEFAULTS!$B$83*(IF('USER INPUTS'!$B$28=\"Total landfill gas\",(1/($D$5/100)),IF('USER INPUTS'!$B$28=\"Methane\",1,IF('USER INPUTS'!$B$28=\"Carbon dioxide\",((1/($D$5/100))-1),(VLOOKUP('USER INPUTS'!$B$28,DEFAULTS!$E$8:$F$69,2,FALSE))/10^6*(1/($D$5/100))))))),0,METHANE!$J64*DEFAULTS!$B$83*(IF('USER INPUTS'!$B$28=\"Total landfill gas\",(1/($D$5/100)),IF('USER INPUTS'!$B$28=\"Methane\",1,IF('USER INPUTS'!$B$28=\"Carbon dioxide\",((1/($D$5/100))-1),(VLOOKUP('USER INPUTS'!$B$28,DEFAULTS!$E$8:$F$69,2,FALSE))/10^6*(1/($D$5/100)))))))","v":0},{"$f":"IF(ISERROR(METHANE!$J64*(IF('USER INPUTS'!$B$28=\"Total landfill gas\",(1/($D$5/100)),IF('USER INPUTS'!$B$28=\"Methane\",1,IF('USER INPUTS'!$B$28=\"Carbon dioxide\",((1/($D$5/100))-1),(VLOOKUP('USER INPUTS'!$B$28,DEFAULTS!$E$8:$F$69,2,FALSE))/10^6*(1/($D$5/100))))))),0,METHANE!$J64*(IF('USER INPUTS'!$B$28=\"Total landfill gas\",(1/($D$5/100)),IF('USER INPUTS'!$B$28=\"Methane\",1,IF('USER INPUTS'!$B$28=\"Carbon dioxide\",((1/($D$5/100))-1),(VLOOKUP('USER INPUTS'!$B$28,DEFAULTS!$E$8:$F$69,2,FALSE))/10^6*(1/($D$5/100)))))))","v":0},{"$f":"IF(N$8=\"(short tons/year)\",(L50*DEFAULTS!$B$55*DEFAULTS!$B$53/DEFAULTS!$B$54),IF(N$8=\"(ft^3/year)\",(M50*DEFAULTS!$B$57),IF(N$8=\"(av ft^3/min)\",(M50*DEFAULTS!$B$57/DEFAULTS!$B$58),0)))","v":0},{"$f":"IF(ISERROR(METHANE!$J64*DEFAULTS!$B$84*(IF('USER INPUTS'!$B$30=\"Total landfill gas\",(1/($D$5/100)),IF('USER INPUTS'!$B$30=\"Methane\",1,IF('USER INPUTS'!$B$30=\"Carbon dioxide\",((1/($D$5/100))-1),(VLOOKUP('USER INPUTS'!$B$30,DEFAULTS!$E$8:$F$69,2,FALSE))/10^6*(1/($D$5/100))))))),0,METHANE!$J64*DEFAULTS!$B$84*(IF('USER INPUTS'!$B$30=\"Total landfill gas\",(1/($D$5/100)),IF('USER INPUTS'!$B$30=\"Methane\",1,IF('USER INPUTS'!$B$30=\"Carbon dioxide\",((1/($D$5/100))-1),(VLOOKUP('USER INPUTS'!$B$30,DEFAULTS!$E$8:$F$69,2,FALSE))/10^6*(1/($D$5/100)))))))","v":0},{"$f":"IF(ISERROR(METHANE!$J64*(IF('USER INPUTS'!$B$30=\"Total landfill gas\",(1/($D$5/100)),IF('USER INPUTS'!$B$30=\"Methane\",1,IF('USER INPUTS'!$B$30=\"Carbon dioxide\",((1/($D$5/100))-1),(VLOOKUP('USER INPUTS'!$B$30,DEFAULTS!$E$8:$F$69,2,FALSE))/10^6*(1/($D$5/100))))))),0,METHANE!$J64*(IF('USER INPUTS'!$B$30=\"Total landfill gas\",(1/($D$5/100)),IF('USER INPUTS'!$B$30=\"Methane\",1,IF('USER INPUTS'!$B$30=\"Carbon dioxide\",((1/($D$5/100))-1),(VLOOKUP('USER INPUTS'!$B$30,DEFAULTS!$E$8:$F$69,2,FALSE))/10^6*(1/($D$5/100)))))))","v":0},{"$f":"IF(Q$8=\"(short tons/year)\",(O50*DEFAULTS!$B$55*DEFAULTS!$B$53/DEFAULTS!$B$54),IF(Q$8=\"(ft^3/year)\",(P50*DEFAULTS!$B$57),IF(Q$8=\"(av ft^3/min)\",(P50*DEFAULTS!$B$57/DEFAULTS!$B$58),0)))","v":0}]
[{"$f":"METHANE!I65","v":42},{"$f":"IF(METHANE!E65>0,METHANE!E65,0)","v":0},{"$f":"IF(METHANE!E65>0,METHANE!E65*DEFAULTS!$B$55*DEFAULTS!$B$53/DEFAULTS!$B$54,0)","v":0},{"$f":"IF(METHANE!F65>0,METHANE!F65,0)","v":0},{"$f":"IF(METHANE!F65>0,METHANE!F65*DEFAULTS!$B$55*DEFAULTS!$B$53/DEFAULTS!$B$54,0)","v":0},{"$f":"IF(ISERROR(METHANE!$J65*DEFAULTS!$B$81*(IF('USER INPUTS'!$B$24=\"Total landfill gas\",(1/($D$5/100)),IF('USER INPUTS'!$B$24=\"Methane\",1,IF('USER INPUTS'!$B$24=\"Carbon dioxide\",((1/($D$5/100))-1),(VLOOKUP('USER INPUTS'!$B$24,DEFAULTS!$E$8:$F$69,2,FALSE))/10^6*(1/($D$5/100))))))),0,METHANE!$J65*DEFAULTS!$B$81*(IF('USER INPUTS'!$B$24=\"Total landfill gas\",(1/($D$5/100)),IF('USER INPUTS'!$B$24=\"Methane\",1,IF('USER INPUTS'!$B$24=\"Carbon dioxide\",((1/($D$5/100))-1),(VLOOKUP('USER INPUTS'!$B$24,DEFAULTS!$E$8:$F$69,2,FALSE))/10^6*(1/($D$5/100)))))))","v":0},{"$f":"IF(ISERROR(METHANE!$J65*(IF('USER INPUTS'!$B$24=\"Total landfill gas\",(1/($D$5/100)),IF('USER INPUTS'!$B$24=\"Methane\",1,IF('USER INPUTS'!$B$24=\"Carbon dioxide\",((1/($D$5/100))-1),(VLOOKUP('USER INPUTS'!$B$24,DEFAULTS!$E$8:$F$69,2,FALSE))/10^6*(1/($D$5/100))))))),0,METHANE!$J65*(IF('USER INPUTS'!$B$24=\"Total landfill gas\",(1/($D$5/100)),IF('USER INPUTS'!$B$24=\"Methane\",1,IF('USER INPUTS'!$B$24=\"Carbon dioxide\",((1/($D$5/100))-1),(VLOOKUP('USER INPUTS'!$B$24,DEFAULTS!$E$8:$F$69,2,FALSE))/10^6*(1/($D$5/100)))))))","v":0},{"$f":"IF(H$8=\"(short tons/year)\",(F51*DEFAULTS!$B$55*DEFAULTS!$B$53/DEFAULTS!$B$54),IF(H$8=\"(ft^3/year)\",(G51*DEFAULTS!$B$57),IF(H$8=\"(av ft^3/min)\",(G51*DEFAULTS!$B$57/DEFAULTS!$B$58),0)))","v":0},{"$f":"IF(ISERROR(METHANE!$J65*DEFAULTS!$B$82*(IF('USER INPUTS'!$B$26=\"Total landfill gas\",(1/($D$5/100)),IF('USER INPUTS'!$B$26=\"Methane\",1,IF('USER INPUTS'!$B$26=\"Carbon dioxide\",((1/($D$5/100))-1),(VLOOKUP('USER INPUTS'!$B$26,DEFAULTS!$E$8:$F$69,2,FALSE))/10^6*(1/($D$5/100))))))),0,METHANE!$J65*DEFAULTS!$B$82*(IF('USER INPUTS'!$B$26=\"Total landfill gas\",(1/($D$5/100)),IF('USER INPUTS'!$B$26=\"Methane\",1,IF('USER INPUTS'!$B$26=\"Carbon dioxide\",((1/($D$5/100))-1),(VLOOKUP('USER INPUTS'!$B$26,DEFAULTS!$E$8:$F$69,2,FALSE))/10^6*(1/($D$5/100)))))))","v":0},{"$f":"IF(ISERROR(METHANE!$J65*(IF('USER INPUTS'!$B$26=\"Total landfill gas\",(1/($D$5/100)),IF('USER INPUTS'!$B$26=\"Methane\",1,IF('USER INPUTS'!$B$26=\"Carbon dioxide\",((1/($D$5/100))-1),(VLOOKUP('USER INPUTS'!$B$26,DEFAULTS!$E$8:$F$69,2,FALSE))/10^6*(1/($D$5/100))))))),0,METHANE!$J65*(IF('USER INPUTS'!$B$26=\"Total landfill gas\",(1/($D$5/100)),IF('USER INPUTS'!$B$26=\"Methane\",1,IF('USER INPUTS'!$B$26=\"Carbon dioxide\",((1/($D$5/100))-1),(VLOOKUP('USER INPUTS'!$B$26,DEFAULTS!$E$8:$F$69,2,FALSE))/10^6*(1/($D$5/100)))))))","v":0},{"$f":"IF(K$8=\"(short tons/year)\",(I51*DEFAULTS!$B$55*DEFAULTS!$B$53/DEFAULTS!$B$54),IF(K$8=\"(ft^3/year)\",(J51*DEFAULTS!$B$57),IF(K$8=\"(av ft^3/min)\",(J51*DEFAULTS!$B$57/DEFAULTS!$B$58),0)))","v":0},{"$f":"IF(ISERROR(METHANE!$J65*DEFAULTS!$B$83*(IF('USER INPUTS'!$B$28=\"Total landfill gas\",(1/($D$5/100)),IF('USER INPUTS'!$B$28=\"Methane\",1,IF('USER INPUTS'!$B$28=\"Carbon dioxide\",((1/($D$5/100))-1),(VLOOKUP('USER INPUTS'!$B$28,DEFAULTS!$E$8:$F$69,2,FALSE))/10^6*(1/($D$5/100))))))),0,METHANE!$J65*DEFAULTS!$B$83*(IF('USER INPUTS'!$B$28=\"Total landfill gas\",(1/($D$5/100)),IF('USER INPUTS'!$B$28=\"Methane\",1,IF('USER INPUTS'!$B$28=\"Carbon dioxide\",((1/($D$5/100))-1),(VLOOKUP('USER INPUTS'!$B$28,DEFAULTS!$E$8:$F$69,2,FALSE))/10^6*(1/($D$5/100)))))))","v":0},{"$f":"IF(ISERROR(METHANE!$J65*(IF('USER INPUTS'!$B$28=\"Total landfill gas\",(1/($D$5/100)),IF('USER INPUTS'!$B$28=\"Methane\",1,IF('USER INPUTS'!$B$28=\"Carbon dioxide\",((1/($D$5/100))-1),(VLOOKUP('USER INPUTS'!$B$28,DEFAULTS!$E$8:$F$69,2,FALSE))/10^6*(1/($D$5/100))))))),0,METHANE!$J65*(IF('USER INPUTS'!$B$28=\"Total landfill gas\",(1/($D$5/100)),IF('USER INPUTS'!$B$28=\"Methane\",1,IF('USER INPUTS'!$B$28=\"Carbon dioxide\",((1/($D$5/100))-1),(VLOOKUP('USER INPUTS'!$B$28,DEFAULTS!$E$8:$F$69,2,FALSE))/10^6*(1/($D$5/100)))))))","v":0},{"$f":"IF(N$8=\"(short tons/year)\",(L51*DEFAULTS!$B$55*DEFAULTS!$B$53/DEFAULTS!$B$54),IF(N$8=\"(ft^3/year)\",(M51*DEFAULTS!$B$57),IF(N$8=\"(av ft^3/min)\",(M51*DEFAULTS!$B$57/DEFAULTS!$B$58),0)))","v":0},{"$f":"IF(ISERROR(METHANE!$J65*DEFAULTS!$B$84*(IF('USER INPUTS'!$B$30=\"Total landfill gas\",(1/($D$5/100)),IF('USER INPUTS'!$B$30=\"Methane\",1,IF('USER INPUTS'!$B$30=\"Carbon dioxide\",((1/($D$5/100))-1),(VLOOKUP('USER INPUTS'!$B$30,DEFAULTS!$E$8:$F$69,2,FALSE))/10^6*(1/($D$5/100))))))),0,METHANE!$J65*DEFAULTS!$B$84*(IF('USER INPUTS'!$B$30=\"Total landfill gas\",(1/($D$5/100)),IF('USER INPUTS'!$B$30=\"Methane\",1,IF('USER INPUTS'!$B$30=\"Carbon dioxide\",((1/($D$5/100))-1),(VLOOKUP('USER INPUTS'!$B$30,DEFAULTS!$E$8:$F$69,2,FALSE))/10^6*(1/($D$5/100)))))))","v":0},{"$f":"IF(ISERROR(METHANE!$J65*(IF('USER INPUTS'!$B$30=\"Total landfill gas\",(1/($D$5/100)),IF('USER INPUTS'!$B$30=\"Methane\",1,IF('USER INPUTS'!$B$30=\"Carbon dioxide\",((1/($D$5/100))-1),(VLOOKUP('USER INPUTS'!$B$30,DEFAULTS!$E$8:$F$69,2,FALSE))/10^6*(1/($D$5/100))))))),0,METHANE!$J65*(IF('USER INPUTS'!$B$30=\"Total landfill gas\",(1/($D$5/100)),IF('USER INPUTS'!$B$30=\"Methane\",1,IF('USER INPUTS'!$B$30=\"Carbon dioxide\",((1/($D$5/100))-1),(VLOOKUP('USER INPUTS'!$B$30,DEFAULTS!$E$8:$F$69,2,FALSE))/10^6*(1/($D$5/100)))))))","v":0},{"$f":"IF(Q$8=\"(short tons/year)\",(O51*DEFAULTS!$B$55*DEFAULTS!$B$53/DEFAULTS!$B$54),IF(Q$8=\"(ft^3/year)\",(P51*DEFAULTS!$B$57),IF(Q$8=\"(av ft^3/min)\",(P51*DEFAULTS!$B$57/DEFAULTS!$B$58),0)))","v":0}]
[{"$f":"METHANE!I66","v":43},{"$f":"IF(METHANE!E66>0,METHANE!E66,0)","v":0},{"$f":"IF(METHANE!E66>0,METHANE!E66*DEFAULTS!$B$55*DEFAULTS!$B$53/DEFAULTS!$B$54,0)","v":0},{"$f":"IF(METHANE!F66>0,METHANE!F66,0)","v":0},{"$f":"IF(METHANE!F66>0,METHANE!F66*DEFAULTS!$B$55*DEFAULTS!$B$53/DEFAULTS!$B$54,0)","v":0},{"$f":"IF(ISERROR(METHANE!$J66*DEFAULTS!$B$81*(IF('USER INPUTS'!$B$24=\"Total landfill gas\",(1/($D$5/100)),IF('USER INPUTS'!$B$24=\"Methane\",1,IF('USER INPUTS'!$B$24=\"Carbon dioxide\",((1/($D$5/100))-1),(VLOOKUP('USER INPUTS'!$B$24,DEFAULTS!$E$8:$F$69,2,FALSE))/10^6*(1/($D$5/100))))))),0,METHANE!$J66*DEFAULTS!$B$81*(IF('USER INPUTS'!$B$24=\"Total landfill gas\",(1/($D$5/100)),IF('USER INPUTS'!$B$24=\"Methane\",1,IF('USER INPUTS'!$B$24=\"Carbon dioxide\",((1/($D$5/100))-1),(VLOOKUP('USER INPUTS'!$B$24,DEFAULTS!$E$8:$F$69,2,FALSE))/10^6*(1/($D$5/100)))))))","v":0},{"$f":"IF(ISERROR(METHANE!$J66*(IF('USER INPUTS'!$B$24=\"Total landfill gas\",(1/($D$5/100)),IF('USER INPUTS'!$B$24=\"Methane\",1,IF('USER INPUTS'!$B$24=\"Carbon dioxide\",((1/($D$5/100))-1),(VLOOKUP('USER INPUTS'!$B$24,DEFAULTS!$E$8:$F$69,2,FALSE))/10^6*(1/($D$5/100))))))),0,METHANE!$J66*(IF('USER INPUTS'!$B$24=\"Total landfill gas\",(1/($D$5/100)),IF('USER INPUTS'!$B$24=\"Methane\",1,IF('USER INPUTS'!$B$24=\"Carbon dioxide\",((1/($D$5/100))-1),(VLOOKUP('USER INPUTS'!$B$24,DEFAULTS!$E$8:$F$69,2,FALSE))/10^6*(1/($D$5/100)))))))","v":0},{"$f":"IF(H$8=\"(short tons/year)\",(F52*DEFAULTS!$B$55*DEFAULTS!$B$53/DEFAULTS!$B$54),IF(H$8=\"(ft^3/year)\",(G52*DEFAULTS!$B$57),IF(H$8=\"(av ft^3/min)\",(G52*DEFAULTS!$B$57/DEFAULTS!$B$58),0)))","v":0},{"$f":"IF(ISERROR(METHANE!$J66*DEFAULTS!$B$82*(IF('USER INPUTS'!$B$26=\"Total landfill gas\",(1/($D$5/100)),IF('USER INPUTS'!$B$26=\"Methane\",1,IF('USER INPUTS'!$B$26=\"Carbon dioxide\",((1/($D$5/100))-1),(VLOOKUP('USER INPUTS'!$B$26,DEFAULTS!$E$8:$F$69,2,FALSE))/10^6*(1/($D$5/100))))))),0,METHANE!$J66*DEFAULTS!$B$82*(IF('USER INPUTS'!$B$26=\"Total landfill gas\",(1/($D$5/100)),IF('USER INPUTS'!$B$26=\"Methane\",1,IF('USER INPUTS'!$B$26=\"Carbon dioxide\",((1/($D$5/100))-1),(VLOOKUP('USER INPUTS'!$B$26,DEFAULTS!$E$8:$F$69,2,FALSE))/10^6*(1/($D$5/100)))))))","v":0},{"$f":"IF(ISERROR(METHANE!$J66*(IF('USER INPUTS'!$B$26=\"Total landfill gas\",(1/($D$5/100)),IF('USER INPUTS'!$B$26=\"Methane\",1,IF('USER INPUTS'!$B$26=\"Carbon dioxide\",((1/($D$5/100))-1),(VLOOKUP('USER INPUTS'!$B$26,DEFAULTS!$E$8:$F$69,2,FALSE))/10^6*(1/($D$5/100))))))),0,METHANE!$J66*(IF('USER INPUTS'!$B$26=\"Total landfill gas\",(1/($D$5/100)),IF('USER INPUTS'!$B$26=\"Methane\",1,IF('USER INPUTS'!$B$26=\"Carbon dioxide\",((1/($D$5/100))-1),(VLOOKUP('USER INPUTS'!$B$26,DEFAULTS!$E$8:$F$69,2,FALSE))/10^6*(1/($D$5/100)))))))","v":0},{"$f":"IF(K$8=\"(short tons/year)\",(I52*DEFAULTS!$B$55*DEFAULTS!$B$53/DEFAULTS!$B$54),IF(K$8=\"(ft^3/year)\",(J52*DEFAULTS!$B$57),IF(K$8=\"(av ft^3/min)\",(J52*DEFAULTS!$B$57/DEFAULTS!$B$58),0)))","v":0},{"$f":"IF(ISERROR(METHANE!$J66*DEFAULTS!$B$83*(IF('USER INPUTS'!$B$28=\"Total landfill gas\",(1/($D$5/100)),IF('USER INPUTS'!$B$28=\"Methane\",1,IF('USER INPUTS'!$B$28=\"Carbon dioxide\",((1/($D$5/100))-1),(VLOOKUP('USER INPUTS'!$B$28,DEFAULTS!$E$8:$F$69,2,FALSE))/10^6*(1/($D$5/100))))))),0,METHANE!$J66*DEFAULTS!$B$83*(IF('USER INPUTS'!$B$28=\"Total landfill gas\",(1/($D$5/100)),IF('USER INPUTS'!$B$28=\"Methane\",1,IF('USER INPUTS'!$B$28=\"Carbon dioxide\",((1/($D$5/100))-1),(VLOOKUP('USER INPUTS'!$B$28,DEFAULTS!$E$8:$F$69,2,FALSE))/10^6*(1/($D$5/100)))))))","v":0},{"$f":"IF(ISERROR(METHANE!$J66*(IF('USER INPUTS'!$B$28=\"Total landfill gas\",(1/($D$5/100)),IF('USER INPUTS'!$B$28=\"Methane\",1,IF('USER INPUTS'!$B$28=\"Carbon dioxide\",((1/($D$5/100))-1),(VLOOKUP('USER INPUTS'!$B$28,DEFAULTS!$E$8:$F$69,2,FALSE))/10^6*(1/($D$5/100))))))),0,METHANE!$J66*(IF('USER INPUTS'!$B$28=\"Total landfill gas\",(1/($D$5/100)),IF('USER INPUTS'!$B$28=\"Methane\",1,IF('USER INPUTS'!$B$28=\"Carbon dioxide\",((1/($D$5/100))-1),(VLOOKUP('USER INPUTS'!$B$28,DEFAULTS!$E$8:$F$69,2,FALSE))/10^6*(1/($D$5/100)))))))","v":0},{"$f":"IF(N$8=\"(short tons/year)\",(L52*DEFAULTS!$B$55*DEFAULTS!$B$53/DEFAULTS!$B$54),IF(N$8=\"(ft^3/year)\",(M52*DEFAULTS!$B$57),IF(N$8=\"(av ft^3/min)\",(M52*DEFAULTS!$B$57/DEFAULTS!$B$58),0)))","v":0},{"$f":"IF(ISERROR(METHANE!$J66*DEFAULTS!$B$84*(IF('USER INPUTS'!$B$30=\"Total landfill gas\",(1/($D$5/100)),IF('USER INPUTS'!$B$30=\"Methane\",1,IF('USER INPUTS'!$B$30=\"Carbon dioxide\",((1/($D$5/100))-1),(VLOOKUP('USER INPUTS'!$B$30,DEFAULTS!$E$8:$F$69,2,FALSE))/10^6*(1/($D$5/100))))))),0,METHANE!$J66*DEFAULTS!$B$84*(IF('USER INPUTS'!$B$30=\"Total landfill gas\",(1/($D$5/100)),IF('USER INPUTS'!$B$30=\"Methane\",1,IF('USER INPUTS'!$B$30=\"Carbon dioxide\",((1/($D$5/100))-1),(VLOOKUP('USER INPUTS'!$B$30,DEFAULTS!$E$8:$F$69,2,FALSE))/10^6*(1/($D$5/100)))))))","v":0},{"$f":"IF(ISERROR(METHANE!$J66*(IF('USER INPUTS'!$B$30=\"Total landfill gas\",(1/($D$5/100)),IF('USER INPUTS'!$B$30=\"Methane\",1,IF('USER INPUTS'!$B$30=\"Carbon dioxide\",((1/($D$5/100))-1),(VLOOKUP('USER INPUTS'!$B$30,DEFAULTS!$E$8:$F$69,2,FALSE))/10^6*(1/($D$5/100))))))),0,METHANE!$J66*(IF('USER INPUTS'!$B$30=\"Total landfill gas\",(1/($D$5/100)),IF('USER INPUTS'!$B$30=\"Methane\",1,IF('USER INPUTS'!$B$30=\"Carbon dioxide\",((1/($D$5/100))-1),(VLOOKUP('USER INPUTS'!$B$30,DEFAULTS!$E$8:$F$69,2,FALSE))/10^6*(1/($D$5/100)))))))","v":0},{"$f":"IF(Q$8=\"(short tons/year)\",(O52*DEFAULTS!$B$55*DEFAULTS!$B$53/DEFAULTS!$B$54),IF(Q$8=\"(ft^3/year)\",(P52*DEFAULTS!$B$57),IF(Q$8=\"(av ft^3/min)\",(P52*DEFAULTS!$B$57/DEFAULTS!$B$58),0)))","v":0}]
[{"$f":"METHANE!I67","v":44},{"$f":"IF(METHANE!E67>0,METHANE!E67,0)","v":0},{"$f":"IF(METHANE!E67>0,METHANE!E67*DEFAULTS!$B$55*DEFAULTS!$B$53/DEFAULTS!$B$54,0)","v":0},{"$f":"IF(METHANE!F67>0,METHANE!F67,0)","v":0},{"$f":"IF(METHANE!F67>0,METHANE!F67*DEFAULTS!$B$55*DEFAULTS!$B$53/DEFAULTS!$B$54,0)","v":0},{"$f":"IF(ISERROR(METHANE!$J67*DEFAULTS!$B$81*(IF('USER INPUTS'!$B$24=\"Total landfill gas\",(1/($D$5/100)),IF('USER INPUTS'!$B$24=\"Methane\",1,IF('USER INPUTS'!$B$24=\"Carbon dioxide\",((1/($D$5/100))-1),(VLOOKUP('USER INPUTS'!$B$24,DEFAULTS!$E$8:$F$69,2,FALSE))/10^6*(1/($D$5/100))))))),0,METHANE!$J67*DEFAULTS!$B$81*(IF('USER INPUTS'!$B$24=\"Total landfill gas\",(1/($D$5/100)),IF('USER INPUTS'!$B$24=\"Methane\",1,IF('USER INPUTS'!$B$24=\"Carbon dioxide\",((1/($D$5/100))-1),(VLOOKUP('USER INPUTS'!$B$24,DEFAULTS!$E$8:$F$69,2,FALSE))/10^6*(1/($D$5/100)))))))","v":0},{"$f":"IF(ISERROR(METHANE!$J67*(IF('USER INPUTS'!$B$24=\"Total landfill gas\",(1/($D$5/100)),IF('USER INPUTS'!$B$24=\"Methane\",1,IF('USER INPUTS'!$B$24=\"Carbon dioxide\",((1/($D$5/100))-1),(VLOOKUP('USER INPUTS'!$B$24,DEFAULTS!$E$8:$F$69,2,FALSE))/10^6*(1/($D$5/100))))))),0,METHANE!$J67*(IF('USER INPUTS'!$B$24=\"Total landfill gas\",(1/($D$5/100)),IF('USER INPUTS'!$B$24=\"Methane\",1,IF('USER INPUTS'!$B$24=\"Carbon dioxide\",((1/($D$5/100))-1),(VLOOKUP('USER INPUTS'!$B$24,DEFAULTS!$E$8:$F$69,2,FALSE))/10^6*(1/($D$5/100)))))))","v":0},{"$f":"IF(H$8=\"(short tons/year)\",(F53*DEFAULTS!$B$55*DEFAULTS!$B$53/DEFAULTS!$B$54),IF(H$8=\"(ft^3/year)\",(G53*DEFAULTS!$B$57),IF(H$8=\"(av ft^3/min)\",(G53*DEFAULTS!$B$57/DEFAULTS!$B$58),0)))","v":0},{"$f":"IF(ISERROR(METHANE!$J67*DEFAULTS!$B$82*(IF('USER INPUTS'!$B$26=\"Total landfill gas\",(1/($D$5/100)),IF('USER INPUTS'!$B$26=\"Methane\",1,IF('USER INPUTS'!$B$26=\"Carbon dioxide\",((1/($D$5/100))-1),(VLOOKUP('USER INPUTS'!$B$26,DEFAULTS!$E$8:$F$69,2,FALSE))/10^6*(1/($D$5/100))))))),0,METHANE!$J67*DEFAULTS!$B$82*(IF('USER INPUTS'!$B$26=\"Total landfill gas\",(1/($D$5/100)),IF('USER INPUTS'!$B$26=\"Methane\",1,IF('USER INPUTS'!$B$26=\"Carbon dioxide\",((1/($D$5/100))-1),(VLOOKUP('USER INPUTS'!$B$26,DEFAULTS!$E$8:$F$69,2,FALSE))/10^6*(1/($D$5/100)))))))","v":0},{"$f":"IF(ISERROR(METHANE!$J67*(IF('USER INPUTS'!$B$26=\"Total landfill gas\",(1/($D$5/100)),IF('USER INPUTS'!$B$26=\"Methane\",1,IF('USER INPUTS'!$B$26=\"Carbon dioxide\",((1/($D$5/100))-1),(VLOOKUP('USER INPUTS'!$B$26,DEFAULTS!$E$8:$F$69,2,FALSE))/10^6*(1/($D$5/100))))))),0,METHANE!$J67*(IF('USER INPUTS'!$B$26=\"Total landfill gas\",(1/($D$5/100)),IF('USER INPUTS'!$B$26=\"Methane\",1,IF('USER INPUTS'!$B$26=\"Carbon dioxide\",((1/($D$5/100))-1),(VLOOKUP('USER INPUTS'!$B$26,DEFAULTS!$E$8:$F$69,2,FALSE))/10^6*(1/($D$5/100)))))))","v":0},{"$f":"IF(K$8=\"(short tons/year)\",(I53*DEFAULTS!$B$55*DEFAULTS!$B$53/DEFAULTS!$B$54),IF(K$8=\"(ft^3/year)\",(J53*DEFAULTS!$B$57),IF(K$8=\"(av ft^3/min)\",(J53*DEFAULTS!$B$57/DEFAULTS!$B$58),0)))","v":0},{"$f":"IF(ISERROR(METHANE!$J67*DEFAULTS!$B$83*(IF('USER INPUTS'!$B$28=\"Total landfill gas\",(1/($D$5/100)),IF('USER INPUTS'!$B$28=\"Methane\",1,IF('USER INPUTS'!$B$28=\"Carbon dioxide\",((1/($D$5/100))-1),(VLOOKUP('USER INPUTS'!$B$28,DEFAULTS!$E$8:$F$69,2,FALSE))/10^6*(1/($D$5/100))))))),0,METHANE!$J67*DEFAULTS!$B$83*(IF('USER INPUTS'!$B$28=\"Total landfill gas\",(1/($D$5/100)),IF('USER INPUTS'!$B$28=\"Methane\",1,IF('USER INPUTS'!$B$28=\"Carbon dioxide\",((1/($D$5/100))-1),(VLOOKUP('USER INPUTS'!$B$28,DEFAULTS!$E$8:$F$69,2,FALSE))/10^6*(1/($D$5/100)))))))","v":0},{"$f":"IF(ISERROR(METHANE!$J67*(IF('USER INPUTS'!$B$28=\"Total landfill gas\",(1/($D$5/100)),IF('USER INPUTS'!$B$28=\"Methane\",1,IF('USER INPUTS'!$B$28=\"Carbon dioxide\",((1/($D$5/100))-1),(VLOOKUP('USER INPUTS'!$B$28,DEFAULTS!$E$8:$F$69,2,FALSE))/10^6*(1/($D$5/100))))))),0,METHANE!$J67*(IF('USER INPUTS'!$B$28=\"Total landfill gas\",(1/($D$5/100)),IF('USER INPUTS'!$B$28=\"Methane\",1,IF('USER INPUTS'!$B$28=\"Carbon dioxide\",((1/($D$5/100))-1),(VLOOKUP('USER INPUTS'!$B$28,DEFAULTS!$E$8:$F$69,2,FALSE))/10^6*(1/($D$5/100)))))))","v":0},{"$f":"IF(N$8=\"(short tons/year)\",(L53*DEFAULTS!$B$55*DEFAULTS!$B$53/DEFAULTS!$B$54),IF(N$8=\"(ft^3/year)\",(M53*DEFAULTS!$B$57),IF(N$8=\"(av ft^3/min)\",(M53*DEFAULTS!$B$57/DEFAULTS!$B$58),0)))","v":0},{"$f":"IF(ISERROR(METHANE!$J67*DEFAULTS!$B$84*(IF('USER INPUTS'!$B$30=\"Total landfill gas\",(1/($D$5/100)),IF('USER INPUTS'!$B$30=\"Methane\",1,IF('USER INPUTS'!$B$30=\"Carbon dioxide\",((1/($D$5/100))-1),(VLOOKUP('USER INPUTS'!$B$30,DEFAULTS!$E$8:$F$69,2,FALSE))/10^6*(1/($D$5/100))))))),0,METHANE!$J67*DEFAULTS!$B$84*(IF('USER INPUTS'!$B$30=\"Total landfill gas\",(1/($D$5/100)),IF('USER INPUTS'!$B$30=\"Methane\",1,IF('USER INPUTS'!$B$30=\"Carbon dioxide\",((1/($D$5/100))-1),(VLOOKUP('USER INPUTS'!$B$30,DEFAULTS!$E$8:$F$69,2,FALSE))/10^6*(1/($D$5/100)))))))","v":0},{"$f":"IF(ISERROR(METHANE!$J67*(IF('USER INPUTS'!$B$30=\"Total landfill gas\",(1/($D$5/100)),IF('USER INPUTS'!$B$30=\"Methane\",1,IF('USER INPUTS'!$B$30=\"Carbon dioxide\",((1/($D$5/100))-1),(VLOOKUP('USER INPUTS'!$B$30,DEFAULTS!$E$8:$F$69,2,FALSE))/10^6*(1/($D$5/100))))))),0,METHANE!$J67*(IF('USER INPUTS'!$B$30=\"Total landfill gas\",(1/($D$5/100)),IF('USER INPUTS'!$B$30=\"Methane\",1,IF('USER INPUTS'!$B$30=\"Carbon dioxide\",((1/($D$5/100))-1),(VLOOKUP('USER INPUTS'!$B$30,DEFAULTS!$E$8:$F$69,2,FALSE))/10^6*(1/($D$5/100)))))))","v":0},{"$f":"IF(Q$8=\"(short tons/year)\",(O53*DEFAULTS!$B$55*DEFAULTS!$B$53/DEFAULTS!$B$54),IF(Q$8=\"(ft^3/year)\",(P53*DEFAULTS!$B$57),IF(Q$8=\"(av ft^3/min)\",(P53*DEFAULTS!$B$57/DEFAULTS!$B$58),0)))","v":0}]
[{"$f":"METHANE!I68","v":45},{"$f":"IF(METHANE!E68>0,METHANE!E68,0)","v":0},{"$f":"IF(METHANE!E68>0,METHANE!E68*DEFAULTS!$B$55*DEFAULTS!$B$53/DEFAULTS!$B$54,0)","v":0},{"$f":"IF(METHANE!F68>0,METHANE!F68,0)","v":0},{"$f":"IF(METHANE!F68>0,METHANE!F68*DEFAULTS!$B$55*DEFAULTS!$B$53/DEFAULTS!$B$54,0)","v":0},{"$f":"IF(ISERROR(METHANE!$J68*DEFAULTS!$B$81*(IF('USER INPUTS'!$B$24=\"Total landfill gas\",(1/($D$5/100)),IF('USER INPUTS'!$B$24=\"Methane\",1,IF('USER INPUTS'!$B$24=\"Carbon dioxide\",((1/($D$5/100))-1),(VLOOKUP('USER INPUTS'!$B$24,DEFAULTS!$E$8:$F$69,2,FALSE))/10^6*(1/($D$5/100))))))),0,METHANE!$J68*DEFAULTS!$B$81*(IF('USER INPUTS'!$B$24=\"Total landfill gas\",(1/($D$5/100)),IF('USER INPUTS'!$B$24=\"Methane\",1,IF('USER INPUTS'!$B$24=\"Carbon dioxide\",((1/($D$5/100))-1),(VLOOKUP('USER INPUTS'!$B$24,DEFAULTS!$E$8:$F$69,2,FALSE))/10^6*(1/($D$5/100)))))))","v":0},{"$f":"IF(ISERROR(METHANE!$J68*(IF('USER INPUTS'!$B$24=\"Total landfill gas\",(1/($D$5/100)),IF('USER INPUTS'!$B$24=\"Methane\",1,IF('USER INPUTS'!$B$24=\"Carbon dioxide\",((1/($D$5/100))-1),(VLOOKUP('USER INPUTS'!$B$24,DEFAULTS!$E$8:$F$69,2,FALSE))/10^6*(1/($D$5/100))))))),0,METHANE!$J68*(IF('USER INPUTS'!$B$24=\"Total landfill gas\",(1/($D$5/100)),IF('USER INPUTS'!$B$24=\"Methane\",1,IF('USER INPUTS'!$B$24=\"Carbon dioxide\",((1/($D$5/100))-1),(VLOOKUP('USER INPUTS'!$B$24,DEFAULTS!$E$8:$F$69,2,FALSE))/10^6*(1/($D$5/100)))))))","v":0},{"$f":"IF(H$8=\"(short tons/year)\",(F54*DEFAULTS!$B$55*DEFAULTS!$B$53/DEFAULTS!$B$54),IF(H$8=\"(ft^3/year)\",(G54*DEFAULTS!$B$57),IF(H$8=\"(av ft^3/min)\",(G54*DEFAULTS!$B$57/DEFAULTS!$B$58),0)))","v":0},{"$f":"IF(ISERROR(METHANE!$J68*DEFAULTS!$B$82*(IF('USER INPUTS'!$B$26=\"Total landfill gas\",(1/($D$5/100)),IF('USER INPUTS'!$B$26=\"Methane\",1,IF('USER INPUTS'!$B$26=\"Carbon dioxide\",((1/($D$5/100))-1),(VLOOKUP('USER INPUTS'!$B$26,DEFAULTS!$E$8:$F$69,2,FALSE))/10^6*(1/($D$5/100))))))),0,METHANE!$J68*DEFAULTS!$B$82*(IF('USER INPUTS'!$B$26=\"Total landfill gas\",(1/($D$5/100)),IF('USER INPUTS'!$B$26=\"Methane\",1,IF('USER INPUTS'!$B$26=\"Carbon dioxide\",((1/($D$5/100))-1),(VLOOKUP('USER INPUTS'!$B$26,DEFAULTS!$E$8:$F$69,2,FALSE))/10^6*(1/($D$5/100)))))))","v":0},{"$f":"IF(ISERROR(METHANE!$J68*(IF('USER INPUTS'!$B$26=\"Total landfill gas\",(1/($D$5/100)),IF('USER INPUTS'!$B$26=\"Methane\",1,IF('USER INPUTS'!$B$26=\"Carbon dioxide\",((1/($D$5/100))-1),(VLOOKUP('USER INPUTS'!$B$26,DEFAULTS!$E$8:$F$69,2,FALSE))/10^6*(1/($D$5/100))))))),0,METHANE!$J68*(IF('USER INPUTS'!$B$26=\"Total landfill gas\",(1/($D$5/100)),IF('USER INPUTS'!$B$26=\"Methane\",1,IF('USER INPUTS'!$B$26=\"Carbon dioxide\",((1/($D$5/100))-1),(VLOOKUP('USER INPUTS'!$B$26,DEFAULTS!$E$8:$F$69,2,FALSE))/10^6*(1/($D$5/100)))))))","v":0},{"$f":"IF(K$8=\"(short tons/year)\",(I54*DEFAULTS!$B$55*DEFAULTS!$B$53/DEFAULTS!$B$54),IF(K$8=\"(ft^3/year)\",(J54*DEFAULTS!$B$57),IF(K$8=\"(av ft^3/min)\",(J54*DEFAULTS!$B$57/DEFAULTS!$B$58),0)))","v":0},{"$f":"IF(ISERROR(METHANE!$J68*DEFAULTS!$B$83*(IF('USER INPUTS'!$B$28=\"Total landfill gas\",(1/($D$5/100)),IF('USER INPUTS'!$B$28=\"Methane\",1,IF('USER INPUTS'!$B$28=\"Carbon dioxide\",((1/($D$5/100))-1),(VLOOKUP('USER INPUTS'!$B$28,DEFAULTS!$E$8:$F$69,2,FALSE))/10^6*(1/($D$5/100))))))),0,METHANE!$J68*DEFAULTS!$B$83*(IF('USER INPUTS'!$B$28=\"Total landfill gas\",(1/($D$5/100)),IF('USER INPUTS'!$B$28=\"Methane\",1,IF('USER INPUTS'!$B$28=\"Carbon dioxide\",((1/($D$5/100))-1),(VLOOKUP('USER INPUTS'!$B$28,DEFAULTS!$E$8:$F$69,2,FALSE))/10^6*(1/($D$5/100)))))))","v":0},{"$f":"IF(ISERROR(METHANE!$J68*(IF('USER INPUTS'!$B$28=\"Total landfill gas\",(1/($D$5/100)),IF('USER INPUTS'!$B$28=\"Methane\",1,IF('USER INPUTS'!$B$28=\"Carbon dioxide\",((1/($D$5/100))-1),(VLOOKUP('USER INPUTS'!$B$28,DEFAULTS!$E$8:$F$69,2,FALSE))/10^6*(1/($D$5/100))))))),0,METHANE!$J68*(IF('USER INPUTS'!$B$28=\"Total landfill gas\",(1/($D$5/100)),IF('USER INPUTS'!$B$28=\"Methane\",1,IF('USER INPUTS'!$B$28=\"Carbon dioxide\",((1/($D$5/100))-1),(VLOOKUP('USER INPUTS'!$B$28,DEFAULTS!$E$8:$F$69,2,FALSE))/10^6*(1/($D$5/100)))))))","v":0},{"$f":"IF(N$8=\"(short tons/year)\",(L54*DEFAULTS!$B$55*DEFAULTS!$B$53/DEFAULTS!$B$54),IF(N$8=\"(ft^3/year)\",(M54*DEFAULTS!$B$57),IF(N$8=\"(av ft^3/min)\",(M54*DEFAULTS!$B$57/DEFAULTS!$B$58),0)))","v":0},{"$f":"IF(ISERROR(METHANE!$J68*DEFAULTS!$B$84*(IF('USER INPUTS'!$B$30=\"Total landfill gas\",(1/($D$5/100)),IF('USER INPUTS'!$B$30=\"Methane\",1,IF('USER INPUTS'!$B$30=\"Carbon dioxide\",((1/($D$5/100))-1),(VLOOKUP('USER INPUTS'!$B$30,DEFAULTS!$E$8:$F$69,2,FALSE))/10^6*(1/($D$5/100))))))),0,METHANE!$J68*DEFAULTS!$B$84*(IF('USER INPUTS'!$B$30=\"Total landfill gas\",(1/($D$5/100)),IF('USER INPUTS'!$B$30=\"Methane\",1,IF('USER INPUTS'!$B$30=\"Carbon dioxide\",((1/($D$5/100))-1),(VLOOKUP('USER INPUTS'!$B$30,DEFAULTS!$E$8:$F$69,2,FALSE))/10^6*(1/($D$5/100)))))))","v":0},{"$f":"IF(ISERROR(METHANE!$J68*(IF('USER INPUTS'!$B$30=\"Total landfill gas\",(1/($D$5/100)),IF('USER INPUTS'!$B$30=\"Methane\",1,IF('USER INPUTS'!$B$30=\"Carbon dioxide\",((1/($D$5/100))-1),(VLOOKUP('USER INPUTS'!$B$30,DEFAULTS!$E$8:$F$69,2,FALSE))/10^6*(1/($D$5/100))))))),0,METHANE!$J68*(IF('USER INPUTS'!$B$30=\"Total landfill gas\",(1/($D$5/100)),IF('USER INPUTS'!$B$30=\"Methane\",1,IF('USER INPUTS'!$B$30=\"Carbon dioxide\",((1/($D$5/100))-1),(VLOOKUP('USER INPUTS'!$B$30,DEFAULTS!$E$8:$F$69,2,FALSE))/10^6*(1/($D$5/100)))))))","v":0},{"$f":"IF(Q$8=\"(short tons/year)\",(O54*DEFAULTS!$B$55*DEFAULTS!$B$53/DEFAULTS!$B$54),IF(Q$8=\"(ft^3/year)\",(P54*DEFAULTS!$B$57),IF(Q$8=\"(av ft^3/min)\",(P54*DEFAULTS!$B$57/DEFAULTS!$B$58),0)))","v":0}]
[{"$f":"METHANE!I69","v":46},{"$f":"IF(METHANE!E69>0,METHANE!E69,0)","v":0},{"$f":"IF(METHANE!E69>0,METHANE!E69*DEFAULTS!$B$55*DEFAULTS!$B$53/DEFAULTS!$B$54,0)","v":0},{"$f":"IF(METHANE!F69>0,METHANE!F69,0)","v":0},{"$f":"IF(METHANE!F69>0,METHANE!F69*DEFAULTS!$B$55*DEFAULTS!$B$53/DEFAULTS!$B$54,0)","v":0},{"$f":"IF(ISERROR(METHANE!$J69*DEFAULTS!$B$81*(IF('USER INPUTS'!$B$24=\"Total landfill gas\",(1/($D$5/100)),IF('USER INPUTS'!$B$24=\"Methane\",1,IF('USER INPUTS'!$B$24=\"Carbon dioxide\",((1/($D$5/100))-1),(VLOOKUP('USER INPUTS'!$B$24,DEFAULTS!$E$8:$F$69,2,FALSE))/10^6*(1/($D$5/100))))))),0,METHANE!$J69*DEFAULTS!$B$81*(IF('USER INPUTS'!$B$24=\"Total landfill gas\",(1/($D$5/100)),IF('USER INPUTS'!$B$24=\"Methane\",1,IF('USER INPUTS'!$B$24=\"Carbon dioxide\",((1/($D$5/100))-1),(VLOOKUP('USER INPUTS'!$B$24,DEFAULTS!$E$8:$F$69,2,FALSE))/10^6*(1/($D$5/100)))))))","v":0},{"$f":"IF(ISERROR(METHANE!$J69*(IF('USER INPUTS'!$B$24=\"Total landfill gas\",(1/($D$5/100)),IF('USER INPUTS'!$B$24=\"Methane\",1,IF('USER INPUTS'!$B$24=\"Carbon dioxide\",((1/($D$5/100))-1),(VLOOKUP('USER INPUTS'!$B$24,DEFAULTS!$E$8:$F$69,2,FALSE))/10^6*(1/($D$5/100))))))),0,METHANE!$J69*(IF('USER INPUTS'!$B$24=\"Total landfill gas\",(1/($D$5/100)),IF('USER INPUTS'!$B$24=\"Methane\",1,IF('USER INPUTS'!$B$24=\"Carbon dioxide\",((1/($D$5/100))-1),(VLOOKUP('USER INPUTS'!$B$24,DEFAULTS!$E$8:$F$69,2,FALSE))/10^6*(1/($D$5/100)))))))","v":0},{"$f":"IF(H$8=\"(short tons/year)\",(F55*DEFAULTS!$B$55*DEFAULTS!$B$53/DEFAULTS!$B$54),IF(H$8=\"(ft^3/year)\",(G55*DEFAULTS!$B$57),IF(H$8=\"(av ft^3/min)\",(G55*DEFAULTS!$B$57/DEFAULTS!$B$58),0)))","v":0},{"$f":"IF(ISERROR(METHANE!$J69*DEFAULTS!$B$82*(IF('USER INPUTS'!$B$26=\"Total landfill gas\",(1/($D$5/100)),IF('USER INPUTS'!$B$26=\"Methane\",1,IF('USER INPUTS'!$B$26=\"Carbon dioxide\",((1/($D$5/100))-1),(VLOOKUP('USER INPUTS'!$B$26,DEFAULTS!$E$8:$F$69,2,FALSE))/10^6*(1/($D$5/100))))))),0,METHANE!$J69*DEFAULTS!$B$82*(IF('USER INPUTS'!$B$26=\"Total landfill gas\",(1/($D$5/100)),IF('USER INPUTS'!$B$26=\"Methane\",1,IF('USER INPUTS'!$B$26=\"Carbon dioxide\",((1/($D$5/100))-1),(VLOOKUP('USER INPUTS'!$B$26,DEFAULTS!$E$8:$F$69,2,FALSE))/10^6*(1/($D$5/100)))))))","v":0},{"$f":"IF(ISERROR(METHANE!$J69*(IF('USER INPUTS'!$B$26=\"Total landfill gas\",(1/($D$5/100)),IF('USER INPUTS'!$B$26=\"Methane\",1,IF('USER INPUTS'!$B$26=\"Carbon dioxide\",((1/($D$5/100))-1),(VLOOKUP('USER INPUTS'!$B$26,DEFAULTS!$E$8:$F$69,2,FALSE))/10^6*(1/($D$5/100))))))),0,METHANE!$J69*(IF('USER INPUTS'!$B$26=\"Total landfill gas\",(1/($D$5/100)),IF('USER INPUTS'!$B$26=\"Methane\",1,IF('USER INPUTS'!$B$26=\"Carbon dioxide\",((1/($D$5/100))-1),(VLOOKUP('USER INPUTS'!$B$26,DEFAULTS!$E$8:$F$69,2,FALSE))/10^6*(1/($D$5/100)))))))","v":0},{"$f":"IF(K$8=\"(short tons/year)\",(I55*DEFAULTS!$B$55*DEFAULTS!$B$53/DEFAULTS!$B$54),IF(K$8=\"(ft^3/year)\",(J55*DEFAULTS!$B$57),IF(K$8=\"(av ft^3/min)\",(J55*DEFAULTS!$B$57/DEFAULTS!$B$58),0)))","v":0},{"$f":"IF(ISERROR(METHANE!$J69*DEFAULTS!$B$83*(IF('USER INPUTS'!$B$28=\"Total landfill gas\",(1/($D$5/100)),IF('USER INPUTS'!$B$28=\"Methane\",1,IF('USER INPUTS'!$B$28=\"Carbon dioxide\",((1/($D$5/100))-1),(VLOOKUP('USER INPUTS'!$B$28,DEFAULTS!$E$8:$F$69,2,FALSE))/10^6*(1/($D$5/100))))))),0,METHANE!$J69*DEFAULTS!$B$83*(IF('USER INPUTS'!$B$28=\"Total landfill gas\",(1/($D$5/100)),IF('USER INPUTS'!$B$28=\"Methane\",1,IF('USER INPUTS'!$B$28=\"Carbon dioxide\",((1/($D$5/100))-1),(VLOOKUP('USER INPUTS'!$B$28,DEFAULTS!$E$8:$F$69,2,FALSE))/10^6*(1/($D$5/100)))))))","v":0},{"$f":"IF(ISERROR(METHANE!$J69*(IF('USER INPUTS'!$B$28=\"Total landfill gas\",(1/($D$5/100)),IF('USER INPUTS'!$B$28=\"Methane\",1,IF('USER INPUTS'!$B$28=\"Carbon dioxide\",((1/($D$5/100))-1),(VLOOKUP('USER INPUTS'!$B$28,DEFAULTS!$E$8:$F$69,2,FALSE))/10^6*(1/($D$5/100))))))),0,METHANE!$J69*(IF('USER INPUTS'!$B$28=\"Total landfill gas\",(1/($D$5/100)),IF('USER INPUTS'!$B$28=\"Methane\",1,IF('USER INPUTS'!$B$28=\"Carbon dioxide\",((1/($D$5/100))-1),(VLOOKUP('USER INPUTS'!$B$28,DEFAULTS!$E$8:$F$69,2,FALSE))/10^6*(1/($D$5/100)))))))","v":0},{"$f":"IF(N$8=\"(short tons/year)\",(L55*DEFAULTS!$B$55*DEFAULTS!$B$53/DEFAULTS!$B$54),IF(N$8=\"(ft^3/year)\",(M55*DEFAULTS!$B$57),IF(N$8=\"(av ft^3/min)\",(M55*DEFAULTS!$B$57/DEFAULTS!$B$58),0)))","v":0},{"$f":"IF(ISERROR(METHANE!$J69*DEFAULTS!$B$84*(IF('USER INPUTS'!$B$30=\"Total landfill gas\",(1/($D$5/100)),IF('USER INPUTS'!$B$30=\"Methane\",1,IF('USER INPUTS'!$B$30=\"Carbon dioxide\",((1/($D$5/100))-1),(VLOOKUP('USER INPUTS'!$B$30,DEFAULTS!$E$8:$F$69,2,FALSE))/10^6*(1/($D$5/100))))))),0,METHANE!$J69*DEFAULTS!$B$84*(IF('USER INPUTS'!$B$30=\"Total landfill gas\",(1/($D$5/100)),IF('USER INPUTS'!$B$30=\"Methane\",1,IF('USER INPUTS'!$B$30=\"Carbon dioxide\",((1/($D$5/100))-1),(VLOOKUP('USER INPUTS'!$B$30,DEFAULTS!$E$8:$F$69,2,FALSE))/10^6*(1/($D$5/100)))))))","v":0},{"$f":"IF(ISERROR(METHANE!$J69*(IF('USER INPUTS'!$B$30=\"Total landfill gas\",(1/($D$5/100)),IF('USER INPUTS'!$B$30=\"Methane\",1,IF('USER INPUTS'!$B$30=\"Carbon dioxide\",((1/($D$5/100))-1),(VLOOKUP('USER INPUTS'!$B$30,DEFAULTS!$E$8:$F$69,2,FALSE))/10^6*(1/($D$5/100))))))),0,METHANE!$J69*(IF('USER INPUTS'!$B$30=\"Total landfill gas\",(1/($D$5/100)),IF('USER INPUTS'!$B$30=\"Methane\",1,IF('USER INPUTS'!$B$30=\"Carbon dioxide\",((1/($D$5/100))-1),(VLOOKUP('USER INPUTS'!$B$30,DEFAULTS!$E$8:$F$69,2,FALSE))/10^6*(1/($D$5/100)))))))","v":0},{"$f":"IF(Q$8=\"(short tons/year)\",(O55*DEFAULTS!$B$55*DEFAULTS!$B$53/DEFAULTS!$B$54),IF(Q$8=\"(ft^3/year)\",(P55*DEFAULTS!$B$57),IF(Q$8=\"(av ft^3/min)\",(P55*DEFAULTS!$B$57/DEFAULTS!$B$58),0)))","v":0}]
[{"$f":"METHANE!I70","v":47},{"$f":"IF(METHANE!E70>0,METHANE!E70,0)","v":0},{"$f":"IF(METHANE!E70>0,METHANE!E70*DEFAULTS!$B$55*DEFAULTS!$B$53/DEFAULTS!$B$54,0)","v":0},{"$f":"IF(METHANE!F70>0,METHANE!F70,0)","v":0},{"$f":"IF(METHANE!F70>0,METHANE!F70*DEFAULTS!$B$55*DEFAULTS!$B$53/DEFAULTS!$B$54,0)","v":0},{"$f":"IF(ISERROR(METHANE!$J70*DEFAULTS!$B$81*(IF('USER INPUTS'!$B$24=\"Total landfill gas\",(1/($D$5/100)),IF('USER INPUTS'!$B$24=\"Methane\",1,IF('USER INPUTS'!$B$24=\"Carbon dioxide\",((1/($D$5/100))-1),(VLOOKUP('USER INPUTS'!$B$24,DEFAULTS!$E$8:$F$69,2,FALSE))/10^6*(1/($D$5/100))))))),0,METHANE!$J70*DEFAULTS!$B$81*(IF('USER INPUTS'!$B$24=\"Total landfill gas\",(1/($D$5/100)),IF('USER INPUTS'!$B$24=\"Methane\",1,IF('USER INPUTS'!$B$24=\"Carbon dioxide\",((1/($D$5/100))-1),(VLOOKUP('USER INPUTS'!$B$24,DEFAULTS!$E$8:$F$69,2,FALSE))/10^6*(1/($D$5/100)))))))","v":0},{"$f":"IF(ISERROR(METHANE!$J70*(IF('USER INPUTS'!$B$24=\"Total landfill gas\",(1/($D$5/100)),IF('USER INPUTS'!$B$24=\"Methane\",1,IF('USER INPUTS'!$B$24=\"Carbon dioxide\",((1/($D$5/100))-1),(VLOOKUP('USER INPUTS'!$B$24,DEFAULTS!$E$8:$F$69,2,FALSE))/10^6*(1/($D$5/100))))))),0,METHANE!$J70*(IF('USER INPUTS'!$B$24=\"Total landfill gas\",(1/($D$5/100)),IF('USER INPUTS'!$B$24=\"Methane\",1,IF('USER INPUTS'!$B$24=\"Carbon dioxide\",((1/($D$5/100))-1),(VLOOKUP('USER INPUTS'!$B$24,DEFAULTS!$E$8:$F$69,2,FALSE))/10^6*(1/($D$5/100)))))))","v":0},{"$f":"IF(H$8=\"(short tons/year)\",(F56*DEFAULTS!$B$55*DEFAULTS!$B$53/DEFAULTS!$B$54),IF(H$8=\"(ft^3/year)\",(G56*DEFAULTS!$B$57),IF(H$8=\"(av ft^3/min)\",(G56*DEFAULTS!$B$57/DEFAULTS!$B$58),0)))","v":0},{"$f":"IF(ISERROR(METHANE!$J70*DEFAULTS!$B$82*(IF('USER INPUTS'!$B$26=\"Total landfill gas\",(1/($D$5/100)),IF('USER INPUTS'!$B$26=\"Methane\",1,IF('USER INPUTS'!$B$26=\"Carbon dioxide\",((1/($D$5/100))-1),(VLOOKUP('USER INPUTS'!$B$26,DEFAULTS!$E$8:$F$69,2,FALSE))/10^6*(1/($D$5/100))))))),0,METHANE!$J70*DEFAULTS!$B$82*(IF('USER INPUTS'!$B$26=\"Total landfill gas\",(1/($D$5/100)),IF('USER INPUTS'!$B$26=\"Methane\",1,IF('USER INPUTS'!$B$26=\"Carbon dioxide\",((1/($D$5/100))-1),(VLOOKUP('USER INPUTS'!$B$26,DEFAULTS!$E$8:$F$69,2,FALSE))/10^6*(1/($D$5/100)))))))","v":0},{"$f":"IF(ISERROR(METHANE!$J70*(IF('USER INPUTS'!$B$26=\"Total landfill gas\",(1/($D$5/100)),IF('USER INPUTS'!$B$26=\"Methane\",1,IF('USER INPUTS'!$B$26=\"Carbon dioxide\",((1/($D$5/100))-1),(VLOOKUP('USER INPUTS'!$B$26,DEFAULTS!$E$8:$F$69,2,FALSE))/10^6*(1/($D$5/100))))))),0,METHANE!$J70*(IF('USER INPUTS'!$B$26=\"Total landfill gas\",(1/($D$5/100)),IF('USER INPUTS'!$B$26=\"Methane\",1,IF('USER INPUTS'!$B$26=\"Carbon dioxide\",((1/($D$5/100))-1),(VLOOKUP('USER INPUTS'!$B$26,DEFAULTS!$E$8:$F$69,2,FALSE))/10^6*(1/($D$5/100)))))))","v":0},{"$f":"IF(K$8=\"(short tons/year)\",(I56*DEFAULTS!$B$55*DEFAULTS!$B$53/DEFAULTS!$B$54),IF(K$8=\"(ft^3/year)\",(J56*DEFAULTS!$B$57),IF(K$8=\"(av ft^3/min)\",(J56*DEFAULTS!$B$57/DEFAULTS!$B$58),0)))","v":0},{"$f":"IF(ISERROR(METHANE!$J70*DEFAULTS!$B$83*(IF('USER INPUTS'!$B$28=\"Total landfill gas\",(1/($D$5/100)),IF('USER INPUTS'!$B$28=\"Methane\",1,IF('USER INPUTS'!$B$28=\"Carbon dioxide\",((1/($D$5/100))-1),(VLOOKUP('USER INPUTS'!$B$28,DEFAULTS!$E$8:$F$69,2,FALSE))/10^6*(1/($D$5/100))))))),0,METHANE!$J70*DEFAULTS!$B$83*(IF('USER INPUTS'!$B$28=\"Total landfill gas\",(1/($D$5/100)),IF('USER INPUTS'!$B$28=\"Methane\",1,IF('USER INPUTS'!$B$28=\"Carbon dioxide\",((1/($D$5/100))-1),(VLOOKUP('USER INPUTS'!$B$28,DEFAULTS!$E$8:$F$69,2,FALSE))/10^6*(1/($D$5/100)))))))","v":0},{"$f":"IF(ISERROR(METHANE!$J70*(IF('USER INPUTS'!$B$28=\"Total landfill gas\",(1/($D$5/100)),IF('USER INPUTS'!$B$28=\"Methane\",1,IF('USER INPUTS'!$B$28=\"Carbon dioxide\",((1/($D$5/100))-1),(VLOOKUP('USER INPUTS'!$B$28,DEFAULTS!$E$8:$F$69,2,FALSE))/10^6*(1/($D$5/100))))))),0,METHANE!$J70*(IF('USER INPUTS'!$B$28=\"Total landfill gas\",(1/($D$5/100)),IF('USER INPUTS'!$B$28=\"Methane\",1,IF('USER INPUTS'!$B$28=\"Carbon dioxide\",((1/($D$5/100))-1),(VLOOKUP('USER INPUTS'!$B$28,DEFAULTS!$E$8:$F$69,2,FALSE))/10^6*(1/($D$5/100)))))))","v":0},{"$f":"IF(N$8=\"(short tons/year)\",(L56*DEFAULTS!$B$55*DEFAULTS!$B$53/DEFAULTS!$B$54),IF(N$8=\"(ft^3/year)\",(M56*DEFAULTS!$B$57),IF(N$8=\"(av ft^3/min)\",(M56*DEFAULTS!$B$57/DEFAULTS!$B$58),0)))","v":0},{"$f":"IF(ISERROR(METHANE!$J70*DEFAULTS!$B$84*(IF('USER INPUTS'!$B$30=\"Total landfill gas\",(1/($D$5/100)),IF('USER INPUTS'!$B$30=\"Methane\",1,IF('USER INPUTS'!$B$30=\"Carbon dioxide\",((1/($D$5/100))-1),(VLOOKUP('USER INPUTS'!$B$30,DEFAULTS!$E$8:$F$69,2,FALSE))/10^6*(1/($D$5/100))))))),0,METHANE!$J70*DEFAULTS!$B$84*(IF('USER INPUTS'!$B$30=\"Total landfill gas\",(1/($D$5/100)),IF('USER INPUTS'!$B$30=\"Methane\",1,IF('USER INPUTS'!$B$30=\"Carbon dioxide\",((1/($D$5/100))-1),(VLOOKUP('USER INPUTS'!$B$30,DEFAULTS!$E$8:$F$69,2,FALSE))/10^6*(1/($D$5/100)))))))","v":0},{"$f":"IF(ISERROR(METHANE!$J70*(IF('USER INPUTS'!$B$30=\"Total landfill gas\",(1/($D$5/100)),IF('USER INPUTS'!$B$30=\"Methane\",1,IF('USER INPUTS'!$B$30=\"Carbon dioxide\",((1/($D$5/100))-1),(VLOOKUP('USER INPUTS'!$B$30,DEFAULTS!$E$8:$F$69,2,FALSE))/10^6*(1/($D$5/100))))))),0,METHANE!$J70*(IF('USER INPUTS'!$B$30=\"Total landfill gas\",(1/($D$5/100)),IF('USER INPUTS'!$B$30=\"Methane\",1,IF('USER INPUTS'!$B$30=\"Carbon dioxide\",((1/($D$5/100))-1),(VLOOKUP('USER INPUTS'!$B$30,DEFAULTS!$E$8:$F$69,2,FALSE))/10^6*(1/($D$5/100)))))))","v":0},{"$f":"IF(Q$8=\"(short tons/year)\",(O56*DEFAULTS!$B$55*DEFAULTS!$B$53/DEFAULTS!$B$54),IF(Q$8=\"(ft^3/year)\",(P56*DEFAULTS!$B$57),IF(Q$8=\"(av ft^3/min)\",(P56*DEFAULTS!$B$57/DEFAULTS!$B$58),0)))","v":0}]
[{"$f":"METHANE!I71","v":48},{"$f":"IF(METHANE!E71>0,METHANE!E71,0)","v":0},{"$f":"IF(METHANE!E71>0,METHANE!E71*DEFAULTS!$B$55*DEFAULTS!$B$53/DEFAULTS!$B$54,0)","v":0},{"$f":"IF(METHANE!F71>0,METHANE!F71,0)","v":0},{"$f":"IF(METHANE!F71>0,METHANE!F71*DEFAULTS!$B$55*DEFAULTS!$B$53/DEFAULTS!$B$54,0)","v":0},{"$f":"IF(ISERROR(METHANE!$J71*DEFAULTS!$B$81*(IF('USER INPUTS'!$B$24=\"Total landfill gas\",(1/($D$5/100)),IF('USER INPUTS'!$B$24=\"Methane\",1,IF('USER INPUTS'!$B$24=\"Carbon dioxide\",((1/($D$5/100))-1),(VLOOKUP('USER INPUTS'!$B$24,DEFAULTS!$E$8:$F$69,2,FALSE))/10^6*(1/($D$5/100))))))),0,METHANE!$J71*DEFAULTS!$B$81*(IF('USER INPUTS'!$B$24=\"Total landfill gas\",(1/($D$5/100)),IF('USER INPUTS'!$B$24=\"Methane\",1,IF('USER INPUTS'!$B$24=\"Carbon dioxide\",((1/($D$5/100))-1),(VLOOKUP('USER INPUTS'!$B$24,DEFAULTS!$E$8:$F$69,2,FALSE))/10^6*(1/($D$5/100)))))))","v":0},{"$f":"IF(ISERROR(METHANE!$J71*(IF('USER INPUTS'!$B$24=\"Total landfill gas\",(1/($D$5/100)),IF('USER INPUTS'!$B$24=\"Methane\",1,IF('USER INPUTS'!$B$24=\"Carbon dioxide\",((1/($D$5/100))-1),(VLOOKUP('USER INPUTS'!$B$24,DEFAULTS!$E$8:$F$69,2,FALSE))/10^6*(1/($D$5/100))))))),0,METHANE!$J71*(IF('USER INPUTS'!$B$24=\"Total landfill gas\",(1/($D$5/100)),IF('USER INPUTS'!$B$24=\"Methane\",1,IF('USER INPUTS'!$B$24=\"Carbon dioxide\",((1/($D$5/100))-1),(VLOOKUP('USER INPUTS'!$B$24,DEFAULTS!$E$8:$F$69,2,FALSE))/10^6*(1/($D$5/100)))))))","v":0},{"$f":"IF(H$8=\"(short tons/year)\",(F57*DEFAULTS!$B$55*DEFAULTS!$B$53/DEFAULTS!$B$54),IF(H$8=\"(ft^3/year)\",(G57*DEFAULTS!$B$57),IF(H$8=\"(av ft^3/min)\",(G57*DEFAULTS!$B$57/DEFAULTS!$B$58),0)))","v":0},{"$f":"IF(ISERROR(METHANE!$J71*DEFAULTS!$B$82*(IF('USER INPUTS'!$B$26=\"Total landfill gas\",(1/($D$5/100)),IF('USER INPUTS'!$B$26=\"Methane\",1,IF('USER INPUTS'!$B$26=\"Carbon dioxide\",((1/($D$5/100))-1),(VLOOKUP('USER INPUTS'!$B$26,DEFAULTS!$E$8:$F$69,2,FALSE))/10^6*(1/($D$5/100))))))),0,METHANE!$J71*DEFAULTS!$B$82*(IF('USER INPUTS'!$B$26=\"Total landfill gas\",(1/($D$5/100)),IF('USER INPUTS'!$B$26=\"Methane\",1,IF('USER INPUTS'!$B$26=\"Carbon dioxide\",((1/($D$5/100))-1),(VLOOKUP('USER INPUTS'!$B$26,DEFAULTS!$E$8:$F$69,2,FALSE))/10^6*(1/($D$5/100)))))))","v":0},{"$f":"IF(ISERROR(METHANE!$J71*(IF('USER INPUTS'!$B$26=\"Total landfill gas\",(1/($D$5/100)),IF('USER INPUTS'!$B$26=\"Methane\",1,IF('USER INPUTS'!$B$26=\"Carbon dioxide\",((1/($D$5/100))-1),(VLOOKUP('USER INPUTS'!$B$26,DEFAULTS!$E$8:$F$69,2,FALSE))/10^6*(1/($D$5/100))))))),0,METHANE!$J71*(IF('USER INPUTS'!$B$26=\"Total landfill gas\",(1/($D$5/100)),IF('USER INPUTS'!$B$26=\"Methane\",1,IF('USER INPUTS'!$B$26=\"Carbon dioxide\",((1/($D$5/100))-1),(VLOOKUP('USER INPUTS'!$B$26,DEFAULTS!$E$8:$F$69,2,FALSE))/10^6*(1/($D$5/100)))))))","v":0},{"$f":"IF(K$8=\"(short tons/year)\",(I57*DEFAULTS!$B$55*DEFAULTS!$B$53/DEFAULTS!$B$54),IF(K$8=\"(ft^3/year)\",(J57*DEFAULTS!$B$57),IF(K$8=\"(av ft^3/min)\",(J57*DEFAULTS!$B$57/DEFAULTS!$B$58),0)))","v":0},{"$f":"IF(ISERROR(METHANE!$J71*DEFAULTS!$B$83*(IF('USER INPUTS'!$B$28=\"Total landfill gas\",(1/($D$5/100)),IF('USER INPUTS'!$B$28=\"Methane\",1,IF('USER INPUTS'!$B$28=\"Carbon dioxide\",((1/($D$5/100))-1),(VLOOKUP('USER INPUTS'!$B$28,DEFAULTS!$E$8:$F$69,2,FALSE))/10^6*(1/($D$5/100))))))),0,METHANE!$J71*DEFAULTS!$B$83*(IF('USER INPUTS'!$B$28=\"Total landfill gas\",(1/($D$5/100)),IF('USER INPUTS'!$B$28=\"Methane\",1,IF('USER INPUTS'!$B$28=\"Carbon dioxide\",((1/($D$5/100))-1),(VLOOKUP('USER INPUTS'!$B$28,DEFAULTS!$E$8:$F$69,2,FALSE))/10^6*(1/($D$5/100)))))))","v":0},{"$f":"IF(ISERROR(METHANE!$J71*(IF('USER INPUTS'!$B$28=\"Total landfill gas\",(1/($D$5/100)),IF('USER INPUTS'!$B$28=\"Methane\",1,IF('USER INPUTS'!$B$28=\"Carbon dioxide\",((1/($D$5/100))-1),(VLOOKUP('USER INPUTS'!$B$28,DEFAULTS!$E$8:$F$69,2,FALSE))/10^6*(1/($D$5/100))))))),0,METHANE!$J71*(IF('USER INPUTS'!$B$28=\"Total landfill gas\",(1/($D$5/100)),IF('USER INPUTS'!$B$28=\"Methane\",1,IF('USER INPUTS'!$B$28=\"Carbon dioxide\",((1/($D$5/100))-1),(VLOOKUP('USER INPUTS'!$B$28,DEFAULTS!$E$8:$F$69,2,FALSE))/10^6*(1/($D$5/100)))))))","v":0},{"$f":"IF(N$8=\"(short tons/year)\",(L57*DEFAULTS!$B$55*DEFAULTS!$B$53/DEFAULTS!$B$54),IF(N$8=\"(ft^3/year)\",(M57*DEFAULTS!$B$57),IF(N$8=\"(av ft^3/min)\",(M57*DEFAULTS!$B$57/DEFAULTS!$B$58),0)))","v":0},{"$f":"IF(ISERROR(METHANE!$J71*DEFAULTS!$B$84*(IF('USER INPUTS'!$B$30=\"Total landfill gas\",(1/($D$5/100)),IF('USER INPUTS'!$B$30=\"Methane\",1,IF('USER INPUTS'!$B$30=\"Carbon dioxide\",((1/($D$5/100))-1),(VLOOKUP('USER INPUTS'!$B$30,DEFAULTS!$E$8:$F$69,2,FALSE))/10^6*(1/($D$5/100))))))),0,METHANE!$J71*DEFAULTS!$B$84*(IF('USER INPUTS'!$B$30=\"Total landfill gas\",(1/($D$5/100)),IF('USER INPUTS'!$B$30=\"Methane\",1,IF('USER INPUTS'!$B$30=\"Carbon dioxide\",((1/($D$5/100))-1),(VLOOKUP('USER INPUTS'!$B$30,DEFAULTS!$E$8:$F$69,2,FALSE))/10^6*(1/($D$5/100)))))))","v":0},{"$f":"IF(ISERROR(METHANE!$J71*(IF('USER INPUTS'!$B$30=\"Total landfill gas\",(1/($D$5/100)),IF('USER INPUTS'!$B$30=\"Methane\",1,IF('USER INPUTS'!$B$30=\"Carbon dioxide\",((1/($D$5/100))-1),(VLOOKUP('USER INPUTS'!$B$30,DEFAULTS!$E$8:$F$69,2,FALSE))/10^6*(1/($D$5/100))))))),0,METHANE!$J71*(IF('USER INPUTS'!$B$30=\"Total landfill gas\",(1/($D$5/100)),IF('USER INPUTS'!$B$30=\"Methane\",1,IF('USER INPUTS'!$B$30=\"Carbon dioxide\",((1/($D$5/100))-1),(VLOOKUP('USER INPUTS'!$B$30,DEFAULTS!$E$8:$F$69,2,FALSE))/10^6*(1/($D$5/100)))))))","v":0},{"$f":"IF(Q$8=\"(short tons/year)\",(O57*DEFAULTS!$B$55*DEFAULTS!$B$53/DEFAULTS!$B$54),IF(Q$8=\"(ft^3/year)\",(P57*DEFAULTS!$B$57),IF(Q$8=\"(av ft^3/min)\",(P57*DEFAULTS!$B$57/DEFAULTS!$B$58),0)))","v":0}]
[{"$f":"METHANE!I72","v":49},{"$f":"IF(METHANE!E72>0,METHANE!E72,0)","v":0},{"$f":"IF(METHANE!E72>0,METHANE!E72*DEFAULTS!$B$55*DEFAULTS!$B$53/DEFAULTS!$B$54,0)","v":0},{"$f":"IF(METHANE!F72>0,METHANE!F72,0)","v":0},{"$f":"IF(METHANE!F72>0,METHANE!F72*DEFAULTS!$B$55*DEFAULTS!$B$53/DEFAULTS!$B$54,0)","v":0},{"$f":"IF(ISERROR(METHANE!$J72*DEFAULTS!$B$81*(IF('USER INPUTS'!$B$24=\"Total landfill gas\",(1/($D$5/100)),IF('USER INPUTS'!$B$24=\"Methane\",1,IF('USER INPUTS'!$B$24=\"Carbon dioxide\",((1/($D$5/100))-1),(VLOOKUP('USER INPUTS'!$B$24,DEFAULTS!$E$8:$F$69,2,FALSE))/10^6*(1/($D$5/100))))))),0,METHANE!$J72*DEFAULTS!$B$81*(IF('USER INPUTS'!$B$24=\"Total landfill gas\",(1/($D$5/100)),IF('USER INPUTS'!$B$24=\"Methane\",1,IF('USER INPUTS'!$B$24=\"Carbon dioxide\",((1/($D$5/100))-1),(VLOOKUP('USER INPUTS'!$B$24,DEFAULTS!$E$8:$F$69,2,FALSE))/10^6*(1/($D$5/100)))))))","v":0},{"$f":"IF(ISERROR(METHANE!$J72*(IF('USER INPUTS'!$B$24=\"Total landfill gas\",(1/($D$5/100)),IF('USER INPUTS'!$B$24=\"Methane\",1,IF('USER INPUTS'!$B$24=\"Carbon dioxide\",((1/($D$5/100))-1),(VLOOKUP('USER INPUTS'!$B$24,DEFAULTS!$E$8:$F$69,2,FALSE))/10^6*(1/($D$5/100))))))),0,METHANE!$J72*(IF('USER INPUTS'!$B$24=\"Total landfill gas\",(1/($D$5/100)),IF('USER INPUTS'!$B$24=\"Methane\",1,IF('USER INPUTS'!$B$24=\"Carbon dioxide\",((1/($D$5/100))-1),(VLOOKUP('USER INPUTS'!$B$24,DEFAULTS!$E$8:$F$69,2,FALSE))/10^6*(1/($D$5/100)))))))","v":0},{"$f":"IF(H$8=\"(short tons/year)\",(F58*DEFAULTS!$B$55*DEFAULTS!$B$53/DEFAULTS!$B$54),IF(H$8=\"(ft^3/year)\",(G58*DEFAULTS!$B$57),IF(H$8=\"(av ft^3/min)\",(G58*DEFAULTS!$B$57/DEFAULTS!$B$58),0)))","v":0},{"$f":"IF(ISERROR(METHANE!$J72*DEFAULTS!$B$82*(IF('USER INPUTS'!$B$26=\"Total landfill gas\",(1/($D$5/100)),IF('USER INPUTS'!$B$26=\"Methane\",1,IF('USER INPUTS'!$B$26=\"Carbon dioxide\",((1/($D$5/100))-1),(VLOOKUP('USER INPUTS'!$B$26,DEFAULTS!$E$8:$F$69,2,FALSE))/10^6*(1/($D$5/100))))))),0,METHANE!$J72*DEFAULTS!$B$82*(IF('USER INPUTS'!$B$26=\"Total landfill gas\",(1/($D$5/100)),IF('USER INPUTS'!$B$26=\"Methane\",1,IF('USER INPUTS'!$B$26=\"Carbon dioxide\",((1/($D$5/100))-1),(VLOOKUP('USER INPUTS'!$B$26,DEFAULTS!$E$8:$F$69,2,FALSE))/10^6*(1/($D$5/100)))))))","v":0},{"$f":"IF(ISERROR(METHANE!$J72*(IF('USER INPUTS'!$B$26=\"Total landfill gas\",(1/($D$5/100)),IF('USER INPUTS'!$B$26=\"Methane\",1,IF('USER INPUTS'!$B$26=\"Carbon dioxide\",((1/($D$5/100))-1),(VLOOKUP('USER INPUTS'!$B$26,DEFAULTS!$E$8:$F$69,2,FALSE))/10^6*(1/($D$5/100))))))),0,METHANE!$J72*(IF('USER INPUTS'!$B$26=\"Total landfill gas\",(1/($D$5/100)),IF('USER INPUTS'!$B$26=\"Methane\",1,IF('USER INPUTS'!$B$26=\"Carbon dioxide\",((1/($D$5/100))-1),(VLOOKUP('USER INPUTS'!$B$26,DEFAULTS!$E$8:$F$69,2,FALSE))/10^6*(1/($D$5/100)))))))","v":0},{"$f":"IF(K$8=\"(short tons/year)\",(I58*DEFAULTS!$B$55*DEFAULTS!$B$53/DEFAULTS!$B$54),IF(K$8=\"(ft^3/year)\",(J58*DEFAULTS!$B$57),IF(K$8=\"(av ft^3/min)\",(J58*DEFAULTS!$B$57/DEFAULTS!$B$58),0)))","v":0},{"$f":"IF(ISERROR(METHANE!$J72*DEFAULTS!$B$83*(IF('USER INPUTS'!$B$28=\"Total landfill gas\",(1/($D$5/100)),IF('USER INPUTS'!$B$28=\"Methane\",1,IF('USER INPUTS'!$B$28=\"Carbon dioxide\",((1/($D$5/100))-1),(VLOOKUP('USER INPUTS'!$B$28,DEFAULTS!$E$8:$F$69,2,FALSE))/10^6*(1/($D$5/100))))))),0,METHANE!$J72*DEFAULTS!$B$83*(IF('USER INPUTS'!$B$28=\"Total landfill gas\",(1/($D$5/100)),IF('USER INPUTS'!$B$28=\"Methane\",1,IF('USER INPUTS'!$B$28=\"Carbon dioxide\",((1/($D$5/100))-1),(VLOOKUP('USER INPUTS'!$B$28,DEFAULTS!$E$8:$F$69,2,FALSE))/10^6*(1/($D$5/100)))))))","v":0},{"$f":"IF(ISERROR(METHANE!$J72*(IF('USER INPUTS'!$B$28=\"Total landfill gas\",(1/($D$5/100)),IF('USER INPUTS'!$B$28=\"Methane\",1,IF('USER INPUTS'!$B$28=\"Carbon dioxide\",((1/($D$5/100))-1),(VLOOKUP('USER INPUTS'!$B$28,DEFAULTS!$E$8:$F$69,2,FALSE))/10^6*(1/($D$5/100))))))),0,METHANE!$J72*(IF('USER INPUTS'!$B$28=\"Total landfill gas\",(1/($D$5/100)),IF('USER INPUTS'!$B$28=\"Methane\",1,IF('USER INPUTS'!$B$28=\"Carbon dioxide\",((1/($D$5/100))-1),(VLOOKUP('USER INPUTS'!$B$28,DEFAULTS!$E$8:$F$69,2,FALSE))/10^6*(1/($D$5/100)))))))","v":0},{"$f":"IF(N$8=\"(short tons/year)\",(L58*DEFAULTS!$B$55*DEFAULTS!$B$53/DEFAULTS!$B$54),IF(N$8=\"(ft^3/year)\",(M58*DEFAULTS!$B$57),IF(N$8=\"(av ft^3/min)\",(M58*DEFAULTS!$B$57/DEFAULTS!$B$58),0)))","v":0},{"$f":"IF(ISERROR(METHANE!$J72*DEFAULTS!$B$84*(IF('USER INPUTS'!$B$30=\"Total landfill gas\",(1/($D$5/100)),IF('USER INPUTS'!$B$30=\"Methane\",1,IF('USER INPUTS'!$B$30=\"Carbon dioxide\",((1/($D$5/100))-1),(VLOOKUP('USER INPUTS'!$B$30,DEFAULTS!$E$8:$F$69,2,FALSE))/10^6*(1/($D$5/100))))))),0,METHANE!$J72*DEFAULTS!$B$84*(IF('USER INPUTS'!$B$30=\"Total landfill gas\",(1/($D$5/100)),IF('USER INPUTS'!$B$30=\"Methane\",1,IF('USER INPUTS'!$B$30=\"Carbon dioxide\",((1/($D$5/100))-1),(VLOOKUP('USER INPUTS'!$B$30,DEFAULTS!$E$8:$F$69,2,FALSE))/10^6*(1/($D$5/100)))))))","v":0},{"$f":"IF(ISERROR(METHANE!$J72*(IF('USER INPUTS'!$B$30=\"Total landfill gas\",(1/($D$5/100)),IF('USER INPUTS'!$B$30=\"Methane\",1,IF('USER INPUTS'!$B$30=\"Carbon dioxide\",((1/($D$5/100))-1),(VLOOKUP('USER INPUTS'!$B$30,DEFAULTS!$E$8:$F$69,2,FALSE))/10^6*(1/($D$5/100))))))),0,METHANE!$J72*(IF('USER INPUTS'!$B$30=\"Total landfill gas\",(1/($D$5/100)),IF('USER INPUTS'!$B$30=\"Methane\",1,IF('USER INPUTS'!$B$30=\"Carbon dioxide\",((1/($D$5/100))-1),(VLOOKUP('USER INPUTS'!$B$30,DEFAULTS!$E$8:$F$69,2,FALSE))/10^6*(1/($D$5/100)))))))","v":0},{"$f":"IF(Q$8=\"(short tons/year)\",(O58*DEFAULTS!$B$55*DEFAULTS!$B$53/DEFAULTS!$B$54),IF(Q$8=\"(ft^3/year)\",(P58*DEFAULTS!$B$57),IF(Q$8=\"(av ft^3/min)\",(P58*DEFAULTS!$B$57/DEFAULTS!$B$58),0)))","v":0}]
[{"$f":"METHANE!I73","v":50},{"$f":"IF(METHANE!E73>0,METHANE!E73,0)","v":0},{"$f":"IF(METHANE!E73>0,METHANE!E73*DEFAULTS!$B$55*DEFAULTS!$B$53/DEFAULTS!$B$54,0)","v":0},{"$f":"IF(METHANE!F73>0,METHANE!F73,0)","v":0},{"$f":"IF(METHANE!F73>0,METHANE!F73*DEFAULTS!$B$55*DEFAULTS!$B$53/DEFAULTS!$B$54,0)","v":0},{"$f":"IF(ISERROR(METHANE!$J73*DEFAULTS!$B$81*(IF('USER INPUTS'!$B$24=\"Total landfill gas\",(1/($D$5/100)),IF('USER INPUTS'!$B$24=\"Methane\",1,IF('USER INPUTS'!$B$24=\"Carbon dioxide\",((1/($D$5/100))-1),(VLOOKUP('USER INPUTS'!$B$24,DEFAULTS!$E$8:$F$69,2,FALSE))/10^6*(1/($D$5/100))))))),0,METHANE!$J73*DEFAULTS!$B$81*(IF('USER INPUTS'!$B$24=\"Total landfill gas\",(1/($D$5/100)),IF('USER INPUTS'!$B$24=\"Methane\",1,IF('USER INPUTS'!$B$24=\"Carbon dioxide\",((1/($D$5/100))-1),(VLOOKUP('USER INPUTS'!$B$24,DEFAULTS!$E$8:$F$69,2,FALSE))/10^6*(1/($D$5/100)))))))","v":0},{"$f":"IF(ISERROR(METHANE!$J73*(IF('USER INPUTS'!$B$24=\"Total landfill gas\",(1/($D$5/100)),IF('USER INPUTS'!$B$24=\"Methane\",1,IF('USER INPUTS'!$B$24=\"Carbon dioxide\",((1/($D$5/100))-1),(VLOOKUP('USER INPUTS'!$B$24,DEFAULTS!$E$8:$F$69,2,FALSE))/10^6*(1/($D$5/100))))))),0,METHANE!$J73*(IF('USER INPUTS'!$B$24=\"Total landfill gas\",(1/($D$5/100)),IF('USER INPUTS'!$B$24=\"Methane\",1,IF('USER INPUTS'!$B$24=\"Carbon dioxide\",((1/($D$5/100))-1),(VLOOKUP('USER INPUTS'!$B$24,DEFAULTS!$E$8:$F$69,2,FALSE))/10^6*(1/($D$5/100)))))))","v":0},{"$f":"IF(H$8=\"(short tons/year)\",(F59*DEFAULTS!$B$55*DEFAULTS!$B$53/DEFAULTS!$B$54),IF(H$8=\"(ft^3/year)\",(G59*DEFAULTS!$B$57),IF(H$8=\"(av ft^3/min)\",(G59*DEFAULTS!$B$57/DEFAULTS!$B$58),0)))","v":0},{"$f":"IF(ISERROR(METHANE!$J73*DEFAULTS!$B$82*(IF('USER INPUTS'!$B$26=\"Total landfill gas\",(1/($D$5/100)),IF('USER INPUTS'!$B$26=\"Methane\",1,IF('USER INPUTS'!$B$26=\"Carbon dioxide\",((1/($D$5/100))-1),(VLOOKUP('USER INPUTS'!$B$26,DEFAULTS!$E$8:$F$69,2,FALSE))/10^6*(1/($D$5/100))))))),0,METHANE!$J73*DEFAULTS!$B$82*(IF('USER INPUTS'!$B$26=\"Total landfill gas\",(1/($D$5/100)),IF('USER INPUTS'!$B$26=\"Methane\",1,IF('USER INPUTS'!$B$26=\"Carbon dioxide\",((1/($D$5/100))-1),(VLOOKUP('USER INPUTS'!$B$26,DEFAULTS!$E$8:$F$69,2,FALSE))/10^6*(1/($D$5/100)))))))","v":0},{"$f":"IF(ISERROR(METHANE!$J73*(IF('USER INPUTS'!$B$26=\"Total landfill gas\",(1/($D$5/100)),IF('USER INPUTS'!$B$26=\"Methane\",1,IF('USER INPUTS'!$B$26=\"Carbon dioxide\",((1/($D$5/100))-1),(VLOOKUP('USER INPUTS'!$B$26,DEFAULTS!$E$8:$F$69,2,FALSE))/10^6*(1/($D$5/100))))))),0,METHANE!$J73*(IF('USER INPUTS'!$B$26=\"Total landfill gas\",(1/($D$5/100)),IF('USER INPUTS'!$B$26=\"Methane\",1,IF('USER INPUTS'!$B$26=\"Carbon dioxide\",((1/($D$5/100))-1),(VLOOKUP('USER INPUTS'!$B$26,DEFAULTS!$E$8:$F$69,2,FALSE))/10^6*(1/($D$5/100)))))))","v":0},{"$f":"IF(K$8=\"(short tons/year)\",(I59*DEFAULTS!$B$55*DEFAULTS!$B$53/DEFAULTS!$B$54),IF(K$8=\"(ft^3/year)\",(J59*DEFAULTS!$B$57),IF(K$8=\"(av ft^3/min)\",(J59*DEFAULTS!$B$57/DEFAULTS!$B$58),0)))","v":0},{"$f":"IF(ISERROR(METHANE!$J73*DEFAULTS!$B$83*(IF('USER INPUTS'!$B$28=\"Total landfill gas\",(1/($D$5/100)),IF('USER INPUTS'!$B$28=\"Methane\",1,IF('USER INPUTS'!$B$28=\"Carbon dioxide\",((1/($D$5/100))-1),(VLOOKUP('USER INPUTS'!$B$28,DEFAULTS!$E$8:$F$69,2,FALSE))/10^6*(1/($D$5/100))))))),0,METHANE!$J73*DEFAULTS!$B$83*(IF('USER INPUTS'!$B$28=\"Total landfill gas\",(1/($D$5/100)),IF('USER INPUTS'!$B$28=\"Methane\",1,IF('USER INPUTS'!$B$28=\"Carbon dioxide\",((1/($D$5/100))-1),(VLOOKUP('USER INPUTS'!$B$28,DEFAULTS!$E$8:$F$69,2,FALSE))/10^6*(1/($D$5/100)))))))","v":0},{"$f":"IF(ISERROR(METHANE!$J73*(IF('USER INPUTS'!$B$28=\"Total landfill gas\",(1/($D$5/100)),IF('USER INPUTS'!$B$28=\"Methane\",1,IF('USER INPUTS'!$B$28=\"Carbon dioxide\",((1/($D$5/100))-1),(VLOOKUP('USER INPUTS'!$B$28,DEFAULTS!$E$8:$F$69,2,FALSE))/10^6*(1/($D$5/100))))))),0,METHANE!$J73*(IF('USER INPUTS'!$B$28=\"Total landfill gas\",(1/($D$5/100)),IF('USER INPUTS'!$B$28=\"Methane\",1,IF('USER INPUTS'!$B$28=\"Carbon dioxide\",((1/($D$5/100))-1),(VLOOKUP('USER INPUTS'!$B$28,DEFAULTS!$E$8:$F$69,2,FALSE))/10^6*(1/($D$5/100)))))))","v":0},{"$f":"IF(N$8=\"(short tons/year)\",(L59*DEFAULTS!$B$55*DEFAULTS!$B$53/DEFAULTS!$B$54),IF(N$8=\"(ft^3/year)\",(M59*DEFAULTS!$B$57),IF(N$8=\"(av ft^3/min)\",(M59*DEFAULTS!$B$57/DEFAULTS!$B$58),0)))","v":0},{"$f":"IF(ISERROR(METHANE!$J73*DEFAULTS!$B$84*(IF('USER INPUTS'!$B$30=\"Total landfill gas\",(1/($D$5/100)),IF('USER INPUTS'!$B$30=\"Methane\",1,IF('USER INPUTS'!$B$30=\"Carbon dioxide\",((1/($D$5/100))-1),(VLOOKUP('USER INPUTS'!$B$30,DEFAULTS!$E$8:$F$69,2,FALSE))/10^6*(1/($D$5/100))))))),0,METHANE!$J73*DEFAULTS!$B$84*(IF('USER INPUTS'!$B$30=\"Total landfill gas\",(1/($D$5/100)),IF('USER INPUTS'!$B$30=\"Methane\",1,IF('USER INPUTS'!$B$30=\"Carbon dioxide\",((1/($D$5/100))-1),(VLOOKUP('USER INPUTS'!$B$30,DEFAULTS!$E$8:$F$69,2,FALSE))/10^6*(1/($D$5/100)))))))","v":0},{"$f":"IF(ISERROR(METHANE!$J73*(IF('USER INPUTS'!$B$30=\"Total landfill gas\",(1/($D$5/100)),IF('USER INPUTS'!$B$30=\"Methane\",1,IF('USER INPUTS'!$B$30=\"Carbon dioxide\",((1/($D$5/100))-1),(VLOOKUP('USER INPUTS'!$B$30,DEFAULTS!$E$8:$F$69,2,FALSE))/10^6*(1/($D$5/100))))))),0,METHANE!$J73*(IF('USER INPUTS'!$B$30=\"Total landfill gas\",(1/($D$5/100)),IF('USER INPUTS'!$B$30=\"Methane\",1,IF('USER INPUTS'!$B$30=\"Carbon dioxide\",((1/($D$5/100))-1),(VLOOKUP('USER INPUTS'!$B$30,DEFAULTS!$E$8:$F$69,2,FALSE))/10^6*(1/($D$5/100)))))))","v":0},{"$f":"IF(Q$8=\"(short tons/year)\",(O59*DEFAULTS!$B$55*DEFAULTS!$B$53/DEFAULTS!$B$54),IF(Q$8=\"(ft^3/year)\",(P59*DEFAULTS!$B$57),IF(Q$8=\"(av ft^3/min)\",(P59*DEFAULTS!$B$57/DEFAULTS!$B$58),0)))","v":0}]
[{"$f":"METHANE!I74","v":51},{"$f":"IF(METHANE!E74>0,METHANE!E74,0)","v":0},{"$f":"IF(METHANE!E74>0,METHANE!E74*DEFAULTS!$B$55*DEFAULTS!$B$53/DEFAULTS!$B$54,0)","v":0},{"$f":"IF(METHANE!F74>0,METHANE!F74,0)","v":0},{"$f":"IF(METHANE!F74>0,METHANE!F74*DEFAULTS!$B$55*DEFAULTS!$B$53/DEFAULTS!$B$54,0)","v":0},{"$f":"IF(ISERROR(METHANE!$J74*DEFAULTS!$B$81*(IF('USER INPUTS'!$B$24=\"Total landfill gas\",(1/($D$5/100)),IF('USER INPUTS'!$B$24=\"Methane\",1,IF('USER INPUTS'!$B$24=\"Carbon dioxide\",((1/($D$5/100))-1),(VLOOKUP('USER INPUTS'!$B$24,DEFAULTS!$E$8:$F$69,2,FALSE))/10^6*(1/($D$5/100))))))),0,METHANE!$J74*DEFAULTS!$B$81*(IF('USER INPUTS'!$B$24=\"Total landfill gas\",(1/($D$5/100)),IF('USER INPUTS'!$B$24=\"Methane\",1,IF('USER INPUTS'!$B$24=\"Carbon dioxide\",((1/($D$5/100))-1),(VLOOKUP('USER INPUTS'!$B$24,DEFAULTS!$E$8:$F$69,2,FALSE))/10^6*(1/($D$5/100)))))))","v":0},{"$f":"IF(ISERROR(METHANE!$J74*(IF('USER INPUTS'!$B$24=\"Total landfill gas\",(1/($D$5/100)),IF('USER INPUTS'!$B$24=\"Methane\",1,IF('USER INPUTS'!$B$24=\"Carbon dioxide\",((1/($D$5/100))-1),(VLOOKUP('USER INPUTS'!$B$24,DEFAULTS!$E$8:$F$69,2,FALSE))/10^6*(1/($D$5/100))))))),0,METHANE!$J74*(IF('USER INPUTS'!$B$24=\"Total landfill gas\",(1/($D$5/100)),IF('USER INPUTS'!$B$24=\"Methane\",1,IF('USER INPUTS'!$B$24=\"Carbon dioxide\",((1/($D$5/100))-1),(VLOOKUP('USER INPUTS'!$B$24,DEFAULTS!$E$8:$F$69,2,FALSE))/10^6*(1/($D$5/100)))))))","v":0},{"$f":"IF(H$8=\"(short tons/year)\",(F60*DEFAULTS!$B$55*DEFAULTS!$B$53/DEFAULTS!$B$54),IF(H$8=\"(ft^3/year)\",(G60*DEFAULTS!$B$57),IF(H$8=\"(av ft^3/min)\",(G60*DEFAULTS!$B$57/DEFAULTS!$B$58),0)))","v":0},{"$f":"IF(ISERROR(METHANE!$J74*DEFAULTS!$B$82*(IF('USER INPUTS'!$B$26=\"Total landfill gas\",(1/($D$5/100)),IF('USER INPUTS'!$B$26=\"Methane\",1,IF('USER INPUTS'!$B$26=\"Carbon dioxide\",((1/($D$5/100))-1),(VLOOKUP('USER INPUTS'!$B$26,DEFAULTS!$E$8:$F$69,2,FALSE))/10^6*(1/($D$5/100))))))),0,METHANE!$J74*DEFAULTS!$B$82*(IF('USER INPUTS'!$B$26=\"Total landfill gas\",(1/($D$5/100)),IF('USER INPUTS'!$B$26=\"Methane\",1,IF('USER INPUTS'!$B$26=\"Carbon dioxide\",((1/($D$5/100))-1),(VLOOKUP('USER INPUTS'!$B$26,DEFAULTS!$E$8:$F$69,2,FALSE))/10^6*(1/($D$5/100)))))))","v":0},{"$f":"IF(ISERROR(METHANE!$J74*(IF('USER INPUTS'!$B$26=\"Total landfill gas\",(1/($D$5/100)),IF('USER INPUTS'!$B$26=\"Methane\",1,IF('USER INPUTS'!$B$26=\"Carbon dioxide\",((1/($D$5/100))-1),(VLOOKUP('USER INPUTS'!$B$26,DEFAULTS!$E$8:$F$69,2,FALSE))/10^6*(1/($D$5/100))))))),0,METHANE!$J74*(IF('USER INPUTS'!$B$26=\"Total landfill gas\",(1/($D$5/100)),IF('USER INPUTS'!$B$26=\"Methane\",1,IF('USER INPUTS'!$B$26=\"Carbon dioxide\",((1/($D$5/100))-1),(VLOOKUP('USER INPUTS'!$B$26,DEFAULTS!$E$8:$F$69,2,FALSE))/10^6*(1/($D$5/100)))))))","v":0},{"$f":"IF(K$8=\"(short tons/year)\",(I60*DEFAULTS!$B$55*DEFAULTS!$B$53/DEFAULTS!$B$54),IF(K$8=\"(ft^3/year)\",(J60*DEFAULTS!$B$57),IF(K$8=\"(av ft^3/min)\",(J60*DEFAULTS!$B$57/DEFAULTS!$B$58),0)))","v":0},{"$f":"IF(ISERROR(METHANE!$J74*DEFAULTS!$B$83*(IF('USER INPUTS'!$B$28=\"Total landfill gas\",(1/($D$5/100)),IF('USER INPUTS'!$B$28=\"Methane\",1,IF('USER INPUTS'!$B$28=\"Carbon dioxide\",((1/($D$5/100))-1),(VLOOKUP('USER INPUTS'!$B$28,DEFAULTS!$E$8:$F$69,2,FALSE))/10^6*(1/($D$5/100))))))),0,METHANE!$J74*DEFAULTS!$B$83*(IF('USER INPUTS'!$B$28=\"Total landfill gas\",(1/($D$5/100)),IF('USER INPUTS'!$B$28=\"Methane\",1,IF('USER INPUTS'!$B$28=\"Carbon dioxide\",((1/($D$5/100))-1),(VLOOKUP('USER INPUTS'!$B$28,DEFAULTS!$E$8:$F$69,2,FALSE))/10^6*(1/($D$5/100)))))))","v":0},{"$f":"IF(ISERROR(METHANE!$J74*(IF('USER INPUTS'!$B$28=\"Total landfill gas\",(1/($D$5/100)),IF('USER INPUTS'!$B$28=\"Methane\",1,IF('USER INPUTS'!$B$28=\"Carbon dioxide\",((1/($D$5/100))-1),(VLOOKUP('USER INPUTS'!$B$28,DEFAULTS!$E$8:$F$69,2,FALSE))/10^6*(1/($D$5/100))))))),0,METHANE!$J74*(IF('USER INPUTS'!$B$28=\"Total landfill gas\",(1/($D$5/100)),IF('USER INPUTS'!$B$28=\"Methane\",1,IF('USER INPUTS'!$B$28=\"Carbon dioxide\",((1/($D$5/100))-1),(VLOOKUP('USER INPUTS'!$B$28,DEFAULTS!$E$8:$F$69,2,FALSE))/10^6*(1/($D$5/100)))))))","v":0},{"$f":"IF(N$8=\"(short tons/year)\",(L60*DEFAULTS!$B$55*DEFAULTS!$B$53/DEFAULTS!$B$54),IF(N$8=\"(ft^3/year)\",(M60*DEFAULTS!$B$57),IF(N$8=\"(av ft^3/min)\",(M60*DEFAULTS!$B$57/DEFAULTS!$B$58),0)))","v":0},{"$f":"IF(ISERROR(METHANE!$J74*DEFAULTS!$B$84*(IF('USER INPUTS'!$B$30=\"Total landfill gas\",(1/($D$5/100)),IF('USER INPUTS'!$B$30=\"Methane\",1,IF('USER INPUTS'!$B$30=\"Carbon dioxide\",((1/($D$5/100))-1),(VLOOKUP('USER INPUTS'!$B$30,DEFAULTS!$E$8:$F$69,2,FALSE))/10^6*(1/($D$5/100))))))),0,METHANE!$J74*DEFAULTS!$B$84*(IF('USER INPUTS'!$B$30=\"Total landfill gas\",(1/($D$5/100)),IF('USER INPUTS'!$B$30=\"Methane\",1,IF('USER INPUTS'!$B$30=\"Carbon dioxide\",((1/($D$5/100))-1),(VLOOKUP('USER INPUTS'!$B$30,DEFAULTS!$E$8:$F$69,2,FALSE))/10^6*(1/($D$5/100)))))))","v":0},{"$f":"IF(ISERROR(METHANE!$J74*(IF('USER INPUTS'!$B$30=\"Total landfill gas\",(1/($D$5/100)),IF('USER INPUTS'!$B$30=\"Methane\",1,IF('USER INPUTS'!$B$30=\"Carbon dioxide\",((1/($D$5/100))-1),(VLOOKUP('USER INPUTS'!$B$30,DEFAULTS!$E$8:$F$69,2,FALSE))/10^6*(1/($D$5/100))))))),0,METHANE!$J74*(IF('USER INPUTS'!$B$30=\"Total landfill gas\",(1/($D$5/100)),IF('USER INPUTS'!$B$30=\"Methane\",1,IF('USER INPUTS'!$B$30=\"Carbon dioxide\",((1/($D$5/100))-1),(VLOOKUP('USER INPUTS'!$B$30,DEFAULTS!$E$8:$F$69,2,FALSE))/10^6*(1/($D$5/100)))))))","v":0},{"$f":"IF(Q$8=\"(short tons/year)\",(O60*DEFAULTS!$B$55*DEFAULTS!$B$53/DEFAULTS!$B$54),IF(Q$8=\"(ft^3/year)\",(P60*DEFAULTS!$B$57),IF(Q$8=\"(av ft^3/min)\",(P60*DEFAULTS!$B$57/DEFAULTS!$B$58),0)))","v":0}]
[{"$f":"METHANE!I75","v":52},{"$f":"IF(METHANE!E75>0,METHANE!E75,0)","v":0},{"$f":"IF(METHANE!E75>0,METHANE!E75*DEFAULTS!$B$55*DEFAULTS!$B$53/DEFAULTS!$B$54,0)","v":0},{"$f":"IF(METHANE!F75>0,METHANE!F75,0)","v":0},{"$f":"IF(METHANE!F75>0,METHANE!F75*DEFAULTS!$B$55*DEFAULTS!$B$53/DEFAULTS!$B$54,0)","v":0},{"$f":"IF(ISERROR(METHANE!$J75*DEFAULTS!$B$81*(IF('USER INPUTS'!$B$24=\"Total landfill gas\",(1/($D$5/100)),IF('USER INPUTS'!$B$24=\"Methane\",1,IF('USER INPUTS'!$B$24=\"Carbon dioxide\",((1/($D$5/100))-1),(VLOOKUP('USER INPUTS'!$B$24,DEFAULTS!$E$8:$F$69,2,FALSE))/10^6*(1/($D$5/100))))))),0,METHANE!$J75*DEFAULTS!$B$81*(IF('USER INPUTS'!$B$24=\"Total landfill gas\",(1/($D$5/100)),IF('USER INPUTS'!$B$24=\"Methane\",1,IF('USER INPUTS'!$B$24=\"Carbon dioxide\",((1/($D$5/100))-1),(VLOOKUP('USER INPUTS'!$B$24,DEFAULTS!$E$8:$F$69,2,FALSE))/10^6*(1/($D$5/100)))))))","v":0},{"$f":"IF(ISERROR(METHANE!$J75*(IF('USER INPUTS'!$B$24=\"Total landfill gas\",(1/($D$5/100)),IF('USER INPUTS'!$B$24=\"Methane\",1,IF('USER INPUTS'!$B$24=\"Carbon dioxide\",((1/($D$5/100))-1),(VLOOKUP('USER INPUTS'!$B$24,DEFAULTS!$E$8:$F$69,2,FALSE))/10^6*(1/($D$5/100))))))),0,METHANE!$J75*(IF('USER INPUTS'!$B$24=\"Total landfill gas\",(1/($D$5/100)),IF('USER INPUTS'!$B$24=\"Methane\",1,IF('USER INPUTS'!$B$24=\"Carbon dioxide\",((1/($D$5/100))-1),(VLOOKUP('USER INPUTS'!$B$24,DEFAULTS!$E$8:$F$69,2,FALSE))/10^6*(1/($D$5/100)))))))","v":0},{"$f":"IF(H$8=\"(short tons/year)\",(F61*DEFAULTS!$B$55*DEFAULTS!$B$53/DEFAULTS!$B$54),IF(H$8=\"(ft^3/year)\",(G61*DEFAULTS!$B$57),IF(H$8=\"(av ft^3/min)\",(G61*DEFAULTS!$B$57/DEFAULTS!$B$58),0)))","v":0},{"$f":"IF(ISERROR(METHANE!$J75*DEFAULTS!$B$82*(IF('USER INPUTS'!$B$26=\"Total landfill gas\",(1/($D$5/100)),IF('USER INPUTS'!$B$26=\"Methane\",1,IF('USER INPUTS'!$B$26=\"Carbon dioxide\",((1/($D$5/100))-1),(VLOOKUP('USER INPUTS'!$B$26,DEFAULTS!$E$8:$F$69,2,FALSE))/10^6*(1/($D$5/100))))))),0,METHANE!$J75*DEFAULTS!$B$82*(IF('USER INPUTS'!$B$26=\"Total landfill gas\",(1/($D$5/100)),IF('USER INPUTS'!$B$26=\"Methane\",1,IF('USER INPUTS'!$B$26=\"Carbon dioxide\",((1/($D$5/100))-1),(VLOOKUP('USER INPUTS'!$B$26,DEFAULTS!$E$8:$F$69,2,FALSE))/10^6*(1/($D$5/100)))))))","v":0},{"$f":"IF(ISERROR(METHANE!$J75*(IF('USER INPUTS'!$B$26=\"Total landfill gas\",(1/($D$5/100)),IF('USER INPUTS'!$B$26=\"Methane\",1,IF('USER INPUTS'!$B$26=\"Carbon dioxide\",((1/($D$5/100))-1),(VLOOKUP('USER INPUTS'!$B$26,DEFAULTS!$E$8:$F$69,2,FALSE))/10^6*(1/($D$5/100))))))),0,METHANE!$J75*(IF('USER INPUTS'!$B$26=\"Total landfill gas\",(1/($D$5/100)),IF('USER INPUTS'!$B$26=\"Methane\",1,IF('USER INPUTS'!$B$26=\"Carbon dioxide\",((1/($D$5/100))-1),(VLOOKUP('USER INPUTS'!$B$26,DEFAULTS!$E$8:$F$69,2,FALSE))/10^6*(1/($D$5/100)))))))","v":0},{"$f":"IF(K$8=\"(short tons/year)\",(I61*DEFAULTS!$B$55*DEFAULTS!$B$53/DEFAULTS!$B$54),IF(K$8=\"(ft^3/year)\",(J61*DEFAULTS!$B$57),IF(K$8=\"(av ft^3/min)\",(J61*DEFAULTS!$B$57/DEFAULTS!$B$58),0)))","v":0},{"$f":"IF(ISERROR(METHANE!$J75*DEFAULTS!$B$83*(IF('USER INPUTS'!$B$28=\"Total landfill gas\",(1/($D$5/100)),IF('USER INPUTS'!$B$28=\"Methane\",1,IF('USER INPUTS'!$B$28=\"Carbon dioxide\",((1/($D$5/100))-1),(VLOOKUP('USER INPUTS'!$B$28,DEFAULTS!$E$8:$F$69,2,FALSE))/10^6*(1/($D$5/100))))))),0,METHANE!$J75*DEFAULTS!$B$83*(IF('USER INPUTS'!$B$28=\"Total landfill gas\",(1/($D$5/100)),IF('USER INPUTS'!$B$28=\"Methane\",1,IF('USER INPUTS'!$B$28=\"Carbon dioxide\",((1/($D$5/100))-1),(VLOOKUP('USER INPUTS'!$B$28,DEFAULTS!$E$8:$F$69,2,FALSE))/10^6*(1/($D$5/100)))))))","v":0},{"$f":"IF(ISERROR(METHANE!$J75*(IF('USER INPUTS'!$B$28=\"Total landfill gas\",(1/($D$5/100)),IF('USER INPUTS'!$B$28=\"Methane\",1,IF('USER INPUTS'!$B$28=\"Carbon dioxide\",((1/($D$5/100))-1),(VLOOKUP('USER INPUTS'!$B$28,DEFAULTS!$E$8:$F$69,2,FALSE))/10^6*(1/($D$5/100))))))),0,METHANE!$J75*(IF('USER INPUTS'!$B$28=\"Total landfill gas\",(1/($D$5/100)),IF('USER INPUTS'!$B$28=\"Methane\",1,IF('USER INPUTS'!$B$28=\"Carbon dioxide\",((1/($D$5/100))-1),(VLOOKUP('USER INPUTS'!$B$28,DEFAULTS!$E$8:$F$69,2,FALSE))/10^6*(1/($D$5/100)))))))","v":0},{"$f":"IF(N$8=\"(short tons/year)\",(L61*DEFAULTS!$B$55*DEFAULTS!$B$53/DEFAULTS!$B$54),IF(N$8=\"(ft^3/year)\",(M61*DEFAULTS!$B$57),IF(N$8=\"(av ft^3/min)\",(M61*DEFAULTS!$B$57/DEFAULTS!$B$58),0)))","v":0},{"$f":"IF(ISERROR(METHANE!$J75*DEFAULTS!$B$84*(IF('USER INPUTS'!$B$30=\"Total landfill gas\",(1/($D$5/100)),IF('USER INPUTS'!$B$30=\"Methane\",1,IF('USER INPUTS'!$B$30=\"Carbon dioxide\",((1/($D$5/100))-1),(VLOOKUP('USER INPUTS'!$B$30,DEFAULTS!$E$8:$F$69,2,FALSE))/10^6*(1/($D$5/100))))))),0,METHANE!$J75*DEFAULTS!$B$84*(IF('USER INPUTS'!$B$30=\"Total landfill gas\",(1/($D$5/100)),IF('USER INPUTS'!$B$30=\"Methane\",1,IF('USER INPUTS'!$B$30=\"Carbon dioxide\",((1/($D$5/100))-1),(VLOOKUP('USER INPUTS'!$B$30,DEFAULTS!$E$8:$F$69,2,FALSE))/10^6*(1/($D$5/100)))))))","v":0},{"$f":"IF(ISERROR(METHANE!$J75*(IF('USER INPUTS'!$B$30=\"Total landfill gas\",(1/($D$5/100)),IF('USER INPUTS'!$B$30=\"Methane\",1,IF('USER INPUTS'!$B$30=\"Carbon dioxide\",((1/($D$5/100))-1),(VLOOKUP('USER INPUTS'!$B$30,DEFAULTS!$E$8:$F$69,2,FALSE))/10^6*(1/($D$5/100))))))),0,METHANE!$J75*(IF('USER INPUTS'!$B$30=\"Total landfill gas\",(1/($D$5/100)),IF('USER INPUTS'!$B$30=\"Methane\",1,IF('USER INPUTS'!$B$30=\"Carbon dioxide\",((1/($D$5/100))-1),(VLOOKUP('USER INPUTS'!$B$30,DEFAULTS!$E$8:$F$69,2,FALSE))/10^6*(1/($D$5/100)))))))","v":0},{"$f":"IF(Q$8=\"(short tons/year)\",(O61*DEFAULTS!$B$55*DEFAULTS!$B$53/DEFAULTS!$B$54),IF(Q$8=\"(ft^3/year)\",(P61*DEFAULTS!$B$57),IF(Q$8=\"(av ft^3/min)\",(P61*DEFAULTS!$B$57/DEFAULTS!$B$58),0)))","v":0}]
[{"$f":"METHANE!I76","v":53},{"$f":"IF(METHANE!E76>0,METHANE!E76,0)","v":0},{"$f":"IF(METHANE!E76>0,METHANE!E76*DEFAULTS!$B$55*DEFAULTS!$B$53/DEFAULTS!$B$54,0)","v":0},{"$f":"IF(METHANE!F76>0,METHANE!F76,0)","v":0},{"$f":"IF(METHANE!F76>0,METHANE!F76*DEFAULTS!$B$55*DEFAULTS!$B$53/DEFAULTS!$B$54,0)","v":0},{"$f":"IF(ISERROR(METHANE!$J76*DEFAULTS!$B$81*(IF('USER INPUTS'!$B$24=\"Total landfill gas\",(1/($D$5/100)),IF('USER INPUTS'!$B$24=\"Methane\",1,IF('USER INPUTS'!$B$24=\"Carbon dioxide\",((1/($D$5/100))-1),(VLOOKUP('USER INPUTS'!$B$24,DEFAULTS!$E$8:$F$69,2,FALSE))/10^6*(1/($D$5/100))))))),0,METHANE!$J76*DEFAULTS!$B$81*(IF('USER INPUTS'!$B$24=\"Total landfill gas\",(1/($D$5/100)),IF('USER INPUTS'!$B$24=\"Methane\",1,IF('USER INPUTS'!$B$24=\"Carbon dioxide\",((1/($D$5/100))-1),(VLOOKUP('USER INPUTS'!$B$24,DEFAULTS!$E$8:$F$69,2,FALSE))/10^6*(1/($D$5/100)))))))","v":0},{"$f":"IF(ISERROR(METHANE!$J76*(IF('USER INPUTS'!$B$24=\"Total landfill gas\",(1/($D$5/100)),IF('USER INPUTS'!$B$24=\"Methane\",1,IF('USER INPUTS'!$B$24=\"Carbon dioxide\",((1/($D$5/100))-1),(VLOOKUP('USER INPUTS'!$B$24,DEFAULTS!$E$8:$F$69,2,FALSE))/10^6*(1/($D$5/100))))))),0,METHANE!$J76*(IF('USER INPUTS'!$B$24=\"Total landfill gas\",(1/($D$5/100)),IF('USER INPUTS'!$B$24=\"Methane\",1,IF('USER INPUTS'!$B$24=\"Carbon dioxide\",((1/($D$5/100))-1),(VLOOKUP('USER INPUTS'!$B$24,DEFAULTS!$E$8:$F$69,2,FALSE))/10^6*(1/($D$5/100)))))))","v":0},{"$f":"IF(H$8=\"(short tons/year)\",(F62*DEFAULTS!$B$55*DEFAULTS!$B$53/DEFAULTS!$B$54),IF(H$8=\"(ft^3/year)\",(G62*DEFAULTS!$B$57),IF(H$8=\"(av ft^3/min)\",(G62*DEFAULTS!$B$57/DEFAULTS!$B$58),0)))","v":0},{"$f":"IF(ISERROR(METHANE!$J76*DEFAULTS!$B$82*(IF('USER INPUTS'!$B$26=\"Total landfill gas\",(1/($D$5/100)),IF('USER INPUTS'!$B$26=\"Methane\",1,IF('USER INPUTS'!$B$26=\"Carbon dioxide\",((1/($D$5/100))-1),(VLOOKUP('USER INPUTS'!$B$26,DEFAULTS!$E$8:$F$69,2,FALSE))/10^6*(1/($D$5/100))))))),0,METHANE!$J76*DEFAULTS!$B$82*(IF('USER INPUTS'!$B$26=\"Total landfill gas\",(1/($D$5/100)),IF('USER INPUTS'!$B$26=\"Methane\",1,IF('USER INPUTS'!$B$26=\"Carbon dioxide\",((1/($D$5/100))-1),(VLOOKUP('USER INPUTS'!$B$26,DEFAULTS!$E$8:$F$69,2,FALSE))/10^6*(1/($D$5/100)))))))","v":0},{"$f":"IF(ISERROR(METHANE!$J76*(IF('USER INPUTS'!$B$26=\"Total landfill gas\",(1/($D$5/100)),IF('USER INPUTS'!$B$26=\"Methane\",1,IF('USER INPUTS'!$B$26=\"Carbon dioxide\",((1/($D$5/100))-1),(VLOOKUP('USER INPUTS'!$B$26,DEFAULTS!$E$8:$F$69,2,FALSE))/10^6*(1/($D$5/100))))))),0,METHANE!$J76*(IF('USER INPUTS'!$B$26=\"Total landfill gas\",(1/($D$5/100)),IF('USER INPUTS'!$B$26=\"Methane\",1,IF('USER INPUTS'!$B$26=\"Carbon dioxide\",((1/($D$5/100))-1),(VLOOKUP('USER INPUTS'!$B$26,DEFAULTS!$E$8:$F$69,2,FALSE))/10^6*(1/($D$5/100)))))))","v":0},{"$f":"IF(K$8=\"(short tons/year)\",(I62*DEFAULTS!$B$55*DEFAULTS!$B$53/DEFAULTS!$B$54),IF(K$8=\"(ft^3/year)\",(J62*DEFAULTS!$B$57),IF(K$8=\"(av ft^3/min)\",(J62*DEFAULTS!$B$57/DEFAULTS!$B$58),0)))","v":0},{"$f":"IF(ISERROR(METHANE!$J76*DEFAULTS!$B$83*(IF('USER INPUTS'!$B$28=\"Total landfill gas\",(1/($D$5/100)),IF('USER INPUTS'!$B$28=\"Methane\",1,IF('USER INPUTS'!$B$28=\"Carbon dioxide\",((1/($D$5/100))-1),(VLOOKUP('USER INPUTS'!$B$28,DEFAULTS!$E$8:$F$69,2,FALSE))/10^6*(1/($D$5/100))))))),0,METHANE!$J76*DEFAULTS!$B$83*(IF('USER INPUTS'!$B$28=\"Total landfill gas\",(1/($D$5/100)),IF('USER INPUTS'!$B$28=\"Methane\",1,IF('USER INPUTS'!$B$28=\"Carbon dioxide\",((1/($D$5/100))-1),(VLOOKUP('USER INPUTS'!$B$28,DEFAULTS!$E$8:$F$69,2,FALSE))/10^6*(1/($D$5/100)))))))","v":0},{"$f":"IF(ISERROR(METHANE!$J76*(IF('USER INPUTS'!$B$28=\"Total landfill gas\",(1/($D$5/100)),IF('USER INPUTS'!$B$28=\"Methane\",1,IF('USER INPUTS'!$B$28=\"Carbon dioxide\",((1/($D$5/100))-1),(VLOOKUP('USER INPUTS'!$B$28,DEFAULTS!$E$8:$F$69,2,FALSE))/10^6*(1/($D$5/100))))))),0,METHANE!$J76*(IF('USER INPUTS'!$B$28=\"Total landfill gas\",(1/($D$5/100)),IF('USER INPUTS'!$B$28=\"Methane\",1,IF('USER INPUTS'!$B$28=\"Carbon dioxide\",((1/($D$5/100))-1),(VLOOKUP('USER INPUTS'!$B$28,DEFAULTS!$E$8:$F$69,2,FALSE))/10^6*(1/($D$5/100)))))))","v":0},{"$f":"IF(N$8=\"(short tons/year)\",(L62*DEFAULTS!$B$55*DEFAULTS!$B$53/DEFAULTS!$B$54),IF(N$8=\"(ft^3/year)\",(M62*DEFAULTS!$B$57),IF(N$8=\"(av ft^3/min)\",(M62*DEFAULTS!$B$57/DEFAULTS!$B$58),0)))","v":0},{"$f":"IF(ISERROR(METHANE!$J76*DEFAULTS!$B$84*(IF('USER INPUTS'!$B$30=\"Total landfill gas\",(1/($D$5/100)),IF('USER INPUTS'!$B$30=\"Methane\",1,IF('USER INPUTS'!$B$30=\"Carbon dioxide\",((1/($D$5/100))-1),(VLOOKUP('USER INPUTS'!$B$30,DEFAULTS!$E$8:$F$69,2,FALSE))/10^6*(1/($D$5/100))))))),0,METHANE!$J76*DEFAULTS!$B$84*(IF('USER INPUTS'!$B$30=\"Total landfill gas\",(1/($D$5/100)),IF('USER INPUTS'!$B$30=\"Methane\",1,IF('USER INPUTS'!$B$30=\"Carbon dioxide\",((1/($D$5/100))-1),(VLOOKUP('USER INPUTS'!$B$30,DEFAULTS!$E$8:$F$69,2,FALSE))/10^6*(1/($D$5/100)))))))","v":0},{"$f":"IF(ISERROR(METHANE!$J76*(IF('USER INPUTS'!$B$30=\"Total landfill gas\",(1/($D$5/100)),IF('USER INPUTS'!$B$30=\"Methane\",1,IF('USER INPUTS'!$B$30=\"Carbon dioxide\",((1/($D$5/100))-1),(VLOOKUP('USER INPUTS'!$B$30,DEFAULTS!$E$8:$F$69,2,FALSE))/10^6*(1/($D$5/100))))))),0,METHANE!$J76*(IF('USER INPUTS'!$B$30=\"Total landfill gas\",(1/($D$5/100)),IF('USER INPUTS'!$B$30=\"Methane\",1,IF('USER INPUTS'!$B$30=\"Carbon dioxide\",((1/($D$5/100))-1),(VLOOKUP('USER INPUTS'!$B$30,DEFAULTS!$E$8:$F$69,2,FALSE))/10^6*(1/($D$5/100)))))))","v":0},{"$f":"IF(Q$8=\"(short tons/year)\",(O62*DEFAULTS!$B$55*DEFAULTS!$B$53/DEFAULTS!$B$54),IF(Q$8=\"(ft^3/year)\",(P62*DEFAULTS!$B$57),IF(Q$8=\"(av ft^3/min)\",(P62*DEFAULTS!$B$57/DEFAULTS!$B$58),0)))","v":0}]
[{"$f":"METHANE!I77","v":54},{"$f":"IF(METHANE!E77>0,METHANE!E77,0)","v":0},{"$f":"IF(METHANE!E77>0,METHANE!E77*DEFAULTS!$B$55*DEFAULTS!$B$53/DEFAULTS!$B$54,0)","v":0},{"$f":"IF(METHANE!F77>0,METHANE!F77,0)","v":0},{"$f":"IF(METHANE!F77>0,METHANE!F77*DEFAULTS!$B$55*DEFAULTS!$B$53/DEFAULTS!$B$54,0)","v":0},{"$f":"IF(ISERROR(METHANE!$J77*DEFAULTS!$B$81*(IF('USER INPUTS'!$B$24=\"Total landfill gas\",(1/($D$5/100)),IF('USER INPUTS'!$B$24=\"Methane\",1,IF('USER INPUTS'!$B$24=\"Carbon dioxide\",((1/($D$5/100))-1),(VLOOKUP('USER INPUTS'!$B$24,DEFAULTS!$E$8:$F$69,2,FALSE))/10^6*(1/($D$5/100))))))),0,METHANE!$J77*DEFAULTS!$B$81*(IF('USER INPUTS'!$B$24=\"Total landfill gas\",(1/($D$5/100)),IF('USER INPUTS'!$B$24=\"Methane\",1,IF('USER INPUTS'!$B$24=\"Carbon dioxide\",((1/($D$5/100))-1),(VLOOKUP('USER INPUTS'!$B$24,DEFAULTS!$E$8:$F$69,2,FALSE))/10^6*(1/($D$5/100)))))))","v":0},{"$f":"IF(ISERROR(METHANE!$J77*(IF('USER INPUTS'!$B$24=\"Total landfill gas\",(1/($D$5/100)),IF('USER INPUTS'!$B$24=\"Methane\",1,IF('USER INPUTS'!$B$24=\"Carbon dioxide\",((1/($D$5/100))-1),(VLOOKUP('USER INPUTS'!$B$24,DEFAULTS!$E$8:$F$69,2,FALSE))/10^6*(1/($D$5/100))))))),0,METHANE!$J77*(IF('USER INPUTS'!$B$24=\"Total landfill gas\",(1/($D$5/100)),IF('USER INPUTS'!$B$24=\"Methane\",1,IF('USER INPUTS'!$B$24=\"Carbon dioxide\",((1/($D$5/100))-1),(VLOOKUP('USER INPUTS'!$B$24,DEFAULTS!$E$8:$F$69,2,FALSE))/10^6*(1/($D$5/100)))))))","v":0},{"$f":"IF(H$8=\"(short tons/year)\",(F63*DEFAULTS!$B$55*DEFAULTS!$B$53/DEFAULTS!$B$54),IF(H$8=\"(ft^3/year)\",(G63*DEFAULTS!$B$57),IF(H$8=\"(av ft^3/min)\",(G63*DEFAULTS!$B$57/DEFAULTS!$B$58),0)))","v":0},{"$f":"IF(ISERROR(METHANE!$J77*DEFAULTS!$B$82*(IF('USER INPUTS'!$B$26=\"Total landfill gas\",(1/($D$5/100)),IF('USER INPUTS'!$B$26=\"Methane\",1,IF('USER INPUTS'!$B$26=\"Carbon dioxide\",((1/($D$5/100))-1),(VLOOKUP('USER INPUTS'!$B$26,DEFAULTS!$E$8:$F$69,2,FALSE))/10^6*(1/($D$5/100))))))),0,METHANE!$J77*DEFAULTS!$B$82*(IF('USER INPUTS'!$B$26=\"Total landfill gas\",(1/($D$5/100)),IF('USER INPUTS'!$B$26=\"Methane\",1,IF('USER INPUTS'!$B$26=\"Carbon dioxide\",((1/($D$5/100))-1),(VLOOKUP('USER INPUTS'!$B$26,DEFAULTS!$E$8:$F$69,2,FALSE))/10^6*(1/($D$5/100)))))))","v":0},{"$f":"IF(ISERROR(METHANE!$J77*(IF('USER INPUTS'!$B$26=\"Total landfill gas\",(1/($D$5/100)),IF('USER INPUTS'!$B$26=\"Methane\",1,IF('USER INPUTS'!$B$26=\"Carbon dioxide\",((1/($D$5/100))-1),(VLOOKUP('USER INPUTS'!$B$26,DEFAULTS!$E$8:$F$69,2,FALSE))/10^6*(1/($D$5/100))))))),0,METHANE!$J77*(IF('USER INPUTS'!$B$26=\"Total landfill gas\",(1/($D$5/100)),IF('USER INPUTS'!$B$26=\"Methane\",1,IF('USER INPUTS'!$B$26=\"Carbon dioxide\",((1/($D$5/100))-1),(VLOOKUP('USER INPUTS'!$B$26,DEFAULTS!$E$8:$F$69,2,FALSE))/10^6*(1/($D$5/100)))))))","v":0},{"$f":"IF(K$8=\"(short tons/year)\",(I63*DEFAULTS!$B$55*DEFAULTS!$B$53/DEFAULTS!$B$54),IF(K$8=\"(ft^3/year)\",(J63*DEFAULTS!$B$57),IF(K$8=\"(av ft^3/min)\",(J63*DEFAULTS!$B$57/DEFAULTS!$B$58),0)))","v":0},{"$f":"IF(ISERROR(METHANE!$J77*DEFAULTS!$B$83*(IF('USER INPUTS'!$B$28=\"Total landfill gas\",(1/($D$5/100)),IF('USER INPUTS'!$B$28=\"Methane\",1,IF('USER INPUTS'!$B$28=\"Carbon dioxide\",((1/($D$5/100))-1),(VLOOKUP('USER INPUTS'!$B$28,DEFAULTS!$E$8:$F$69,2,FALSE))/10^6*(1/($D$5/100))))))),0,METHANE!$J77*DEFAULTS!$B$83*(IF('USER INPUTS'!$B$28=\"Total landfill gas\",(1/($D$5/100)),IF('USER INPUTS'!$B$28=\"Methane\",1,IF('USER INPUTS'!$B$28=\"Carbon dioxide\",((1/($D$5/100))-1),(VLOOKUP('USER INPUTS'!$B$28,DEFAULTS!$E$8:$F$69,2,FALSE))/10^6*(1/($D$5/100)))))))","v":0},{"$f":"IF(ISERROR(METHANE!$J77*(IF('USER INPUTS'!$B$28=\"Total landfill gas\",(1/($D$5/100)),IF('USER INPUTS'!$B$28=\"Methane\",1,IF('USER INPUTS'!$B$28=\"Carbon dioxide\",((1/($D$5/100))-1),(VLOOKUP('USER INPUTS'!$B$28,DEFAULTS!$E$8:$F$69,2,FALSE))/10^6*(1/($D$5/100))))))),0,METHANE!$J77*(IF('USER INPUTS'!$B$28=\"Total landfill gas\",(1/($D$5/100)),IF('USER INPUTS'!$B$28=\"Methane\",1,IF('USER INPUTS'!$B$28=\"Carbon dioxide\",((1/($D$5/100))-1),(VLOOKUP('USER INPUTS'!$B$28,DEFAULTS!$E$8:$F$69,2,FALSE))/10^6*(1/($D$5/100)))))))","v":0},{"$f":"IF(N$8=\"(short tons/year)\",(L63*DEFAULTS!$B$55*DEFAULTS!$B$53/DEFAULTS!$B$54),IF(N$8=\"(ft^3/year)\",(M63*DEFAULTS!$B$57),IF(N$8=\"(av ft^3/min)\",(M63*DEFAULTS!$B$57/DEFAULTS!$B$58),0)))","v":0},{"$f":"IF(ISERROR(METHANE!$J77*DEFAULTS!$B$84*(IF('USER INPUTS'!$B$30=\"Total landfill gas\",(1/($D$5/100)),IF('USER INPUTS'!$B$30=\"Methane\",1,IF('USER INPUTS'!$B$30=\"Carbon dioxide\",((1/($D$5/100))-1),(VLOOKUP('USER INPUTS'!$B$30,DEFAULTS!$E$8:$F$69,2,FALSE))/10^6*(1/($D$5/100))))))),0,METHANE!$J77*DEFAULTS!$B$84*(IF('USER INPUTS'!$B$30=\"Total landfill gas\",(1/($D$5/100)),IF('USER INPUTS'!$B$30=\"Methane\",1,IF('USER INPUTS'!$B$30=\"Carbon dioxide\",((1/($D$5/100))-1),(VLOOKUP('USER INPUTS'!$B$30,DEFAULTS!$E$8:$F$69,2,FALSE))/10^6*(1/($D$5/100)))))))","v":0},{"$f":"IF(ISERROR(METHANE!$J77*(IF('USER INPUTS'!$B$30=\"Total landfill gas\",(1/($D$5/100)),IF('USER INPUTS'!$B$30=\"Methane\",1,IF('USER INPUTS'!$B$30=\"Carbon dioxide\",((1/($D$5/100))-1),(VLOOKUP('USER INPUTS'!$B$30,DEFAULTS!$E$8:$F$69,2,FALSE))/10^6*(1/($D$5/100))))))),0,METHANE!$J77*(IF('USER INPUTS'!$B$30=\"Total landfill gas\",(1/($D$5/100)),IF('USER INPUTS'!$B$30=\"Methane\",1,IF('USER INPUTS'!$B$30=\"Carbon dioxide\",((1/($D$5/100))-1),(VLOOKUP('USER INPUTS'!$B$30,DEFAULTS!$E$8:$F$69,2,FALSE))/10^6*(1/($D$5/100)))))))","v":0},{"$f":"IF(Q$8=\"(short tons/year)\",(O63*DEFAULTS!$B$55*DEFAULTS!$B$53/DEFAULTS!$B$54),IF(Q$8=\"(ft^3/year)\",(P63*DEFAULTS!$B$57),IF(Q$8=\"(av ft^3/min)\",(P63*DEFAULTS!$B$57/DEFAULTS!$B$58),0)))","v":0}]
[{"$f":"METHANE!I78","v":55},{"$f":"IF(METHANE!E78>0,METHANE!E78,0)","v":0},{"$f":"IF(METHANE!E78>0,METHANE!E78*DEFAULTS!$B$55*DEFAULTS!$B$53/DEFAULTS!$B$54,0)","v":0},{"$f":"IF(METHANE!F78>0,METHANE!F78,0)","v":0},{"$f":"IF(METHANE!F78>0,METHANE!F78*DEFAULTS!$B$55*DEFAULTS!$B$53/DEFAULTS!$B$54,0)","v":0},{"$f":"IF(ISERROR(METHANE!$J78*DEFAULTS!$B$81*(IF('USER INPUTS'!$B$24=\"Total landfill gas\",(1/($D$5/100)),IF('USER INPUTS'!$B$24=\"Methane\",1,IF('USER INPUTS'!$B$24=\"Carbon dioxide\",((1/($D$5/100))-1),(VLOOKUP('USER INPUTS'!$B$24,DEFAULTS!$E$8:$F$69,2,FALSE))/10^6*(1/($D$5/100))))))),0,METHANE!$J78*DEFAULTS!$B$81*(IF('USER INPUTS'!$B$24=\"Total landfill gas\",(1/($D$5/100)),IF('USER INPUTS'!$B$24=\"Methane\",1,IF('USER INPUTS'!$B$24=\"Carbon dioxide\",((1/($D$5/100))-1),(VLOOKUP('USER INPUTS'!$B$24,DEFAULTS!$E$8:$F$69,2,FALSE))/10^6*(1/($D$5/100)))))))","v":0},{"$f":"IF(ISERROR(METHANE!$J78*(IF('USER INPUTS'!$B$24=\"Total landfill gas\",(1/($D$5/100)),IF('USER INPUTS'!$B$24=\"Methane\",1,IF('USER INPUTS'!$B$24=\"Carbon dioxide\",((1/($D$5/100))-1),(VLOOKUP('USER INPUTS'!$B$24,DEFAULTS!$E$8:$F$69,2,FALSE))/10^6*(1/($D$5/100))))))),0,METHANE!$J78*(IF('USER INPUTS'!$B$24=\"Total landfill gas\",(1/($D$5/100)),IF('USER INPUTS'!$B$24=\"Methane\",1,IF('USER INPUTS'!$B$24=\"Carbon dioxide\",((1/($D$5/100))-1),(VLOOKUP('USER INPUTS'!$B$24,DEFAULTS!$E$8:$F$69,2,FALSE))/10^6*(1/($D$5/100)))))))","v":0},{"$f":"IF(H$8=\"(short tons/year)\",(F64*DEFAULTS!$B$55*DEFAULTS!$B$53/DEFAULTS!$B$54),IF(H$8=\"(ft^3/year)\",(G64*DEFAULTS!$B$57),IF(H$8=\"(av ft^3/min)\",(G64*DEFAULTS!$B$57/DEFAULTS!$B$58),0)))","v":0},{"$f":"IF(ISERROR(METHANE!$J78*DEFAULTS!$B$82*(IF('USER INPUTS'!$B$26=\"Total landfill gas\",(1/($D$5/100)),IF('USER INPUTS'!$B$26=\"Methane\",1,IF('USER INPUTS'!$B$26=\"Carbon dioxide\",((1/($D$5/100))-1),(VLOOKUP('USER INPUTS'!$B$26,DEFAULTS!$E$8:$F$69,2,FALSE))/10^6*(1/($D$5/100))))))),0,METHANE!$J78*DEFAULTS!$B$82*(IF('USER INPUTS'!$B$26=\"Total landfill gas\",(1/($D$5/100)),IF('USER INPUTS'!$B$26=\"Methane\",1,IF('USER INPUTS'!$B$26=\"Carbon dioxide\",((1/($D$5/100))-1),(VLOOKUP('USER INPUTS'!$B$26,DEFAULTS!$E$8:$F$69,2,FALSE))/10^6*(1/($D$5/100)))))))","v":0},{"$f":"IF(ISERROR(METHANE!$J78*(IF('USER INPUTS'!$B$26=\"Total landfill gas\",(1/($D$5/100)),IF('USER INPUTS'!$B$26=\"Methane\",1,IF('USER INPUTS'!$B$26=\"Carbon dioxide\",((1/($D$5/100))-1),(VLOOKUP('USER INPUTS'!$B$26,DEFAULTS!$E$8:$F$69,2,FALSE))/10^6*(1/($D$5/100))))))),0,METHANE!$J78*(IF('USER INPUTS'!$B$26=\"Total landfill gas\",(1/($D$5/100)),IF('USER INPUTS'!$B$26=\"Methane\",1,IF('USER INPUTS'!$B$26=\"Carbon dioxide\",((1/($D$5/100))-1),(VLOOKUP('USER INPUTS'!$B$26,DEFAULTS!$E$8:$F$69,2,FALSE))/10^6*(1/($D$5/100)))))))","v":0},{"$f":"IF(K$8=\"(short tons/year)\",(I64*DEFAULTS!$B$55*DEFAULTS!$B$53/DEFAULTS!$B$54),IF(K$8=\"(ft^3/year)\",(J64*DEFAULTS!$B$57),IF(K$8=\"(av ft^3/min)\",(J64*DEFAULTS!$B$57/DEFAULTS!$B$58),0)))","v":0},{"$f":"IF(ISERROR(METHANE!$J78*DEFAULTS!$B$83*(IF('USER INPUTS'!$B$28=\"Total landfill gas\",(1/($D$5/100)),IF('USER INPUTS'!$B$28=\"Methane\",1,IF('USER INPUTS'!$B$28=\"Carbon dioxide\",((1/($D$5/100))-1),(VLOOKUP('USER INPUTS'!$B$28,DEFAULTS!$E$8:$F$69,2,FALSE))/10^6*(1/($D$5/100))))))),0,METHANE!$J78*DEFAULTS!$B$83*(IF('USER INPUTS'!$B$28=\"Total landfill gas\",(1/($D$5/100)),IF('USER INPUTS'!$B$28=\"Methane\",1,IF('USER INPUTS'!$B$28=\"Carbon dioxide\",((1/($D$5/100))-1),(VLOOKUP('USER INPUTS'!$B$28,DEFAULTS!$E$8:$F$69,2,FALSE))/10^6*(1/($D$5/100)))))))","v":0},{"$f":"IF(ISERROR(METHANE!$J78*(IF('USER INPUTS'!$B$28=\"Total landfill gas\",(1/($D$5/100)),IF('USER INPUTS'!$B$28=\"Methane\",1,IF('USER INPUTS'!$B$28=\"Carbon dioxide\",((1/($D$5/100))-1),(VLOOKUP('USER INPUTS'!$B$28,DEFAULTS!$E$8:$F$69,2,FALSE))/10^6*(1/($D$5/100))))))),0,METHANE!$J78*(IF('USER INPUTS'!$B$28=\"Total landfill gas\",(1/($D$5/100)),IF('USER INPUTS'!$B$28=\"Methane\",1,IF('USER INPUTS'!$B$28=\"Carbon dioxide\",((1/($D$5/100))-1),(VLOOKUP('USER INPUTS'!$B$28,DEFAULTS!$E$8:$F$69,2,FALSE))/10^6*(1/($D$5/100)))))))","v":0},{"$f":"IF(N$8=\"(short tons/year)\",(L64*DEFAULTS!$B$55*DEFAULTS!$B$53/DEFAULTS!$B$54),IF(N$8=\"(ft^3/year)\",(M64*DEFAULTS!$B$57),IF(N$8=\"(av ft^3/min)\",(M64*DEFAULTS!$B$57/DEFAULTS!$B$58),0)))","v":0},{"$f":"IF(ISERROR(METHANE!$J78*DEFAULTS!$B$84*(IF('USER INPUTS'!$B$30=\"Total landfill gas\",(1/($D$5/100)),IF('USER INPUTS'!$B$30=\"Methane\",1,IF('USER INPUTS'!$B$30=\"Carbon dioxide\",((1/($D$5/100))-1),(VLOOKUP('USER INPUTS'!$B$30,DEFAULTS!$E$8:$F$69,2,FALSE))/10^6*(1/($D$5/100))))))),0,METHANE!$J78*DEFAULTS!$B$84*(IF('USER INPUTS'!$B$30=\"Total landfill gas\",(1/($D$5/100)),IF('USER INPUTS'!$B$30=\"Methane\",1,IF('USER INPUTS'!$B$30=\"Carbon dioxide\",((1/($D$5/100))-1),(VLOOKUP('USER INPUTS'!$B$30,DEFAULTS!$E$8:$F$69,2,FALSE))/10^6*(1/($D$5/100)))))))","v":0},{"$f":"IF(ISERROR(METHANE!$J78*(IF('USER INPUTS'!$B$30=\"Total landfill gas\",(1/($D$5/100)),IF('USER INPUTS'!$B$30=\"Methane\",1,IF('USER INPUTS'!$B$30=\"Carbon dioxide\",((1/($D$5/100))-1),(VLOOKUP('USER INPUTS'!$B$30,DEFAULTS!$E$8:$F$69,2,FALSE))/10^6*(1/($D$5/100))))))),0,METHANE!$J78*(IF('USER INPUTS'!$B$30=\"Total landfill gas\",(1/($D$5/100)),IF('USER INPUTS'!$B$30=\"Methane\",1,IF('USER INPUTS'!$B$30=\"Carbon dioxide\",((1/($D$5/100))-1),(VLOOKUP('USER INPUTS'!$B$30,DEFAULTS!$E$8:$F$69,2,FALSE))/10^6*(1/($D$5/100)))))))","v":0},{"$f":"IF(Q$8=\"(short tons/year)\",(O64*DEFAULTS!$B$55*DEFAULTS!$B$53/DEFAULTS!$B$54),IF(Q$8=\"(ft^3/year)\",(P64*DEFAULTS!$B$57),IF(Q$8=\"(av ft^3/min)\",(P64*DEFAULTS!$B$57/DEFAULTS!$B$58),0)))","v":0}]
[{"$f":"METHANE!I79","v":56},{"$f":"IF(METHANE!E79>0,METHANE!E79,0)","v":0},{"$f":"IF(METHANE!E79>0,METHANE!E79*DEFAULTS!$B$55*DEFAULTS!$B$53/DEFAULTS!$B$54,0)","v":0},{"$f":"IF(METHANE!F79>0,METHANE!F79,0)","v":0},{"$f":"IF(METHANE!F79>0,METHANE!F79*DEFAULTS!$B$55*DEFAULTS!$B$53/DEFAULTS!$B$54,0)","v":0},{"$f":"IF(ISERROR(METHANE!$J79*DEFAULTS!$B$81*(IF('USER INPUTS'!$B$24=\"Total landfill gas\",(1/($D$5/100)),IF('USER INPUTS'!$B$24=\"Methane\",1,IF('USER INPUTS'!$B$24=\"Carbon dioxide\",((1/($D$5/100))-1),(VLOOKUP('USER INPUTS'!$B$24,DEFAULTS!$E$8:$F$69,2,FALSE))/10^6*(1/($D$5/100))))))),0,METHANE!$J79*DEFAULTS!$B$81*(IF('USER INPUTS'!$B$24=\"Total landfill gas\",(1/($D$5/100)),IF('USER INPUTS'!$B$24=\"Methane\",1,IF('USER INPUTS'!$B$24=\"Carbon dioxide\",((1/($D$5/100))-1),(VLOOKUP('USER INPUTS'!$B$24,DEFAULTS!$E$8:$F$69,2,FALSE))/10^6*(1/($D$5/100)))))))","v":0},{"$f":"IF(ISERROR(METHANE!$J79*(IF('USER INPUTS'!$B$24=\"Total landfill gas\",(1/($D$5/100)),IF('USER INPUTS'!$B$24=\"Methane\",1,IF('USER INPUTS'!$B$24=\"Carbon dioxide\",((1/($D$5/100))-1),(VLOOKUP('USER INPUTS'!$B$24,DEFAULTS!$E$8:$F$69,2,FALSE))/10^6*(1/($D$5/100))))))),0,METHANE!$J79*(IF('USER INPUTS'!$B$24=\"Total landfill gas\",(1/($D$5/100)),IF('USER INPUTS'!$B$24=\"Methane\",1,IF('USER INPUTS'!$B$24=\"Carbon dioxide\",((1/($D$5/100))-1),(VLOOKUP('USER INPUTS'!$B$24,DEFAULTS!$E$8:$F$69,2,FALSE))/10^6*(1/($D$5/100)))))))","v":0},{"$f":"IF(H$8=\"(short tons/year)\",(F65*DEFAULTS!$B$55*DEFAULTS!$B$53/DEFAULTS!$B$54),IF(H$8=\"(ft^3/year)\",(G65*DEFAULTS!$B$57),IF(H$8=\"(av ft^3/min)\",(G65*DEFAULTS!$B$57/DEFAULTS!$B$58),0)))","v":0},{"$f":"IF(ISERROR(METHANE!$J79*DEFAULTS!$B$82*(IF('USER INPUTS'!$B$26=\"Total landfill gas\",(1/($D$5/100)),IF('USER INPUTS'!$B$26=\"Methane\",1,IF('USER INPUTS'!$B$26=\"Carbon dioxide\",((1/($D$5/100))-1),(VLOOKUP('USER INPUTS'!$B$26,DEFAULTS!$E$8:$F$69,2,FALSE))/10^6*(1/($D$5/100))))))),0,METHANE!$J79*DEFAULTS!$B$82*(IF('USER INPUTS'!$B$26=\"Total landfill gas\",(1/($D$5/100)),IF('USER INPUTS'!$B$26=\"Methane\",1,IF('USER INPUTS'!$B$26=\"Carbon dioxide\",((1/($D$5/100))-1),(VLOOKUP('USER INPUTS'!$B$26,DEFAULTS!$E$8:$F$69,2,FALSE))/10^6*(1/($D$5/100)))))))","v":0},{"$f":"IF(ISERROR(METHANE!$J79*(IF('USER INPUTS'!$B$26=\"Total landfill gas\",(1/($D$5/100)),IF('USER INPUTS'!$B$26=\"Methane\",1,IF('USER INPUTS'!$B$26=\"Carbon dioxide\",((1/($D$5/100))-1),(VLOOKUP('USER INPUTS'!$B$26,DEFAULTS!$E$8:$F$69,2,FALSE))/10^6*(1/($D$5/100))))))),0,METHANE!$J79*(IF('USER INPUTS'!$B$26=\"Total landfill gas\",(1/($D$5/100)),IF('USER INPUTS'!$B$26=\"Methane\",1,IF('USER INPUTS'!$B$26=\"Carbon dioxide\",((1/($D$5/100))-1),(VLOOKUP('USER INPUTS'!$B$26,DEFAULTS!$E$8:$F$69,2,FALSE))/10^6*(1/($D$5/100)))))))","v":0},{"$f":"IF(K$8=\"(short tons/year)\",(I65*DEFAULTS!$B$55*DEFAULTS!$B$53/DEFAULTS!$B$54),IF(K$8=\"(ft^3/year)\",(J65*DEFAULTS!$B$57),IF(K$8=\"(av ft^3/min)\",(J65*DEFAULTS!$B$57/DEFAULTS!$B$58),0)))","v":0},{"$f":"IF(ISERROR(METHANE!$J79*DEFAULTS!$B$83*(IF('USER INPUTS'!$B$28=\"Total landfill gas\",(1/($D$5/100)),IF('USER INPUTS'!$B$28=\"Methane\",1,IF('USER INPUTS'!$B$28=\"Carbon dioxide\",((1/($D$5/100))-1),(VLOOKUP('USER INPUTS'!$B$28,DEFAULTS!$E$8:$F$69,2,FALSE))/10^6*(1/($D$5/100))))))),0,METHANE!$J79*DEFAULTS!$B$83*(IF('USER INPUTS'!$B$28=\"Total landfill gas\",(1/($D$5/100)),IF('USER INPUTS'!$B$28=\"Methane\",1,IF('USER INPUTS'!$B$28=\"Carbon dioxide\",((1/($D$5/100))-1),(VLOOKUP('USER INPUTS'!$B$28,DEFAULTS!$E$8:$F$69,2,FALSE))/10^6*(1/($D$5/100)))))))","v":0},{"$f":"IF(ISERROR(METHANE!$J79*(IF('USER INPUTS'!$B$28=\"Total landfill gas\",(1/($D$5/100)),IF('USER INPUTS'!$B$28=\"Methane\",1,IF('USER INPUTS'!$B$28=\"Carbon dioxide\",((1/($D$5/100))-1),(VLOOKUP('USER INPUTS'!$B$28,DEFAULTS!$E$8:$F$69,2,FALSE))/10^6*(1/($D$5/100))))))),0,METHANE!$J79*(IF('USER INPUTS'!$B$28=\"Total landfill gas\",(1/($D$5/100)),IF('USER INPUTS'!$B$28=\"Methane\",1,IF('USER INPUTS'!$B$28=\"Carbon dioxide\",((1/($D$5/100))-1),(VLOOKUP('USER INPUTS'!$B$28,DEFAULTS!$E$8:$F$69,2,FALSE))/10^6*(1/($D$5/100)))))))","v":0},{"$f":"IF(N$8=\"(short tons/year)\",(L65*DEFAULTS!$B$55*DEFAULTS!$B$53/DEFAULTS!$B$54),IF(N$8=\"(ft^3/year)\",(M65*DEFAULTS!$B$57),IF(N$8=\"(av ft^3/min)\",(M65*DEFAULTS!$B$57/DEFAULTS!$B$58),0)))","v":0},{"$f":"IF(ISERROR(METHANE!$J79*DEFAULTS!$B$84*(IF('USER INPUTS'!$B$30=\"Total landfill gas\",(1/($D$5/100)),IF('USER INPUTS'!$B$30=\"Methane\",1,IF('USER INPUTS'!$B$30=\"Carbon dioxide\",((1/($D$5/100))-1),(VLOOKUP('USER INPUTS'!$B$30,DEFAULTS!$E$8:$F$69,2,FALSE))/10^6*(1/($D$5/100))))))),0,METHANE!$J79*DEFAULTS!$B$84*(IF('USER INPUTS'!$B$30=\"Total landfill gas\",(1/($D$5/100)),IF('USER INPUTS'!$B$30=\"Methane\",1,IF('USER INPUTS'!$B$30=\"Carbon dioxide\",((1/($D$5/100))-1),(VLOOKUP('USER INPUTS'!$B$30,DEFAULTS!$E$8:$F$69,2,FALSE))/10^6*(1/($D$5/100)))))))","v":0},{"$f":"IF(ISERROR(METHANE!$J79*(IF('USER INPUTS'!$B$30=\"Total landfill gas\",(1/($D$5/100)),IF('USER INPUTS'!$B$30=\"Methane\",1,IF('USER INPUTS'!$B$30=\"Carbon dioxide\",((1/($D$5/100))-1),(VLOOKUP('USER INPUTS'!$B$30,DEFAULTS!$E$8:$F$69,2,FALSE))/10^6*(1/($D$5/100))))))),0,METHANE!$J79*(IF('USER INPUTS'!$B$30=\"Total landfill gas\",(1/($D$5/100)),IF('USER INPUTS'!$B$30=\"Methane\",1,IF('USER INPUTS'!$B$30=\"Carbon dioxide\",((1/($D$5/100))-1),(VLOOKUP('USER INPUTS'!$B$30,DEFAULTS!$E$8:$F$69,2,FALSE))/10^6*(1/($D$5/100)))))))","v":0},{"$f":"IF(Q$8=\"(short tons/year)\",(O65*DEFAULTS!$B$55*DEFAULTS!$B$53/DEFAULTS!$B$54),IF(Q$8=\"(ft^3/year)\",(P65*DEFAULTS!$B$57),IF(Q$8=\"(av ft^3/min)\",(P65*DEFAULTS!$B$57/DEFAULTS!$B$58),0)))","v":0}]
[{"$f":"METHANE!I80","v":57},{"$f":"IF(METHANE!E80>0,METHANE!E80,0)","v":0},{"$f":"IF(METHANE!E80>0,METHANE!E80*DEFAULTS!$B$55*DEFAULTS!$B$53/DEFAULTS!$B$54,0)","v":0},{"$f":"IF(METHANE!F80>0,METHANE!F80,0)","v":0},{"$f":"IF(METHANE!F80>0,METHANE!F80*DEFAULTS!$B$55*DEFAULTS!$B$53/DEFAULTS!$B$54,0)","v":0},{"$f":"IF(ISERROR(METHANE!$J80*DEFAULTS!$B$81*(IF('USER INPUTS'!$B$24=\"Total landfill gas\",(1/($D$5/100)),IF('USER INPUTS'!$B$24=\"Methane\",1,IF('USER INPUTS'!$B$24=\"Carbon dioxide\",((1/($D$5/100))-1),(VLOOKUP('USER INPUTS'!$B$24,DEFAULTS!$E$8:$F$69,2,FALSE))/10^6*(1/($D$5/100))))))),0,METHANE!$J80*DEFAULTS!$B$81*(IF('USER INPUTS'!$B$24=\"Total landfill gas\",(1/($D$5/100)),IF('USER INPUTS'!$B$24=\"Methane\",1,IF('USER INPUTS'!$B$24=\"Carbon dioxide\",((1/($D$5/100))-1),(VLOOKUP('USER INPUTS'!$B$24,DEFAULTS!$E$8:$F$69,2,FALSE))/10^6*(1/($D$5/100)))))))","v":0},{"$f":"IF(ISERROR(METHANE!$J80*(IF('USER INPUTS'!$B$24=\"Total landfill gas\",(1/($D$5/100)),IF('USER INPUTS'!$B$24=\"Methane\",1,IF('USER INPUTS'!$B$24=\"Carbon dioxide\",((1/($D$5/100))-1),(VLOOKUP('USER INPUTS'!$B$24,DEFAULTS!$E$8:$F$69,2,FALSE))/10^6*(1/($D$5/100))))))),0,METHANE!$J80*(IF('USER INPUTS'!$B$24=\"Total landfill gas\",(1/($D$5/100)),IF('USER INPUTS'!$B$24=\"Methane\",1,IF('USER INPUTS'!$B$24=\"Carbon dioxide\",((1/($D$5/100))-1),(VLOOKUP('USER INPUTS'!$B$24,DEFAULTS!$E$8:$F$69,2,FALSE))/10^6*(1/($D$5/100)))))))","v":0},{"$f":"IF(H$8=\"(short tons/year)\",(F66*DEFAULTS!$B$55*DEFAULTS!$B$53/DEFAULTS!$B$54),IF(H$8=\"(ft^3/year)\",(G66*DEFAULTS!$B$57),IF(H$8=\"(av ft^3/min)\",(G66*DEFAULTS!$B$57/DEFAULTS!$B$58),0)))","v":0},{"$f":"IF(ISERROR(METHANE!$J80*DEFAULTS!$B$82*(IF('USER INPUTS'!$B$26=\"Total landfill gas\",(1/($D$5/100)),IF('USER INPUTS'!$B$26=\"Methane\",1,IF('USER INPUTS'!$B$26=\"Carbon dioxide\",((1/($D$5/100))-1),(VLOOKUP('USER INPUTS'!$B$26,DEFAULTS!$E$8:$F$69,2,FALSE))/10^6*(1/($D$5/100))))))),0,METHANE!$J80*DEFAULTS!$B$82*(IF('USER INPUTS'!$B$26=\"Total landfill gas\",(1/($D$5/100)),IF('USER INPUTS'!$B$26=\"Methane\",1,IF('USER INPUTS'!$B$26=\"Carbon dioxide\",((1/($D$5/100))-1),(VLOOKUP('USER INPUTS'!$B$26,DEFAULTS!$E$8:$F$69,2,FALSE))/10^6*(1/($D$5/100)))))))","v":0},{"$f":"IF(ISERROR(METHANE!$J80*(IF('USER INPUTS'!$B$26=\"Total landfill gas\",(1/($D$5/100)),IF('USER INPUTS'!$B$26=\"Methane\",1,IF('USER INPUTS'!$B$26=\"Carbon dioxide\",((1/($D$5/100))-1),(VLOOKUP('USER INPUTS'!$B$26,DEFAULTS!$E$8:$F$69,2,FALSE))/10^6*(1/($D$5/100))))))),0,METHANE!$J80*(IF('USER INPUTS'!$B$26=\"Total landfill gas\",(1/($D$5/100)),IF('USER INPUTS'!$B$26=\"Methane\",1,IF('USER INPUTS'!$B$26=\"Carbon dioxide\",((1/($D$5/100))-1),(VLOOKUP('USER INPUTS'!$B$26,DEFAULTS!$E$8:$F$69,2,FALSE))/10^6*(1/($D$5/100)))))))","v":0},{"$f":"IF(K$8=\"(short tons/year)\",(I66*DEFAULTS!$B$55*DEFAULTS!$B$53/DEFAULTS!$B$54),IF(K$8=\"(ft^3/year)\",(J66*DEFAULTS!$B$57),IF(K$8=\"(av ft^3/min)\",(J66*DEFAULTS!$B$57/DEFAULTS!$B$58),0)))","v":0},{"$f":"IF(ISERROR(METHANE!$J80*DEFAULTS!$B$83*(IF('USER INPUTS'!$B$28=\"Total landfill gas\",(1/($D$5/100)),IF('USER INPUTS'!$B$28=\"Methane\",1,IF('USER INPUTS'!$B$28=\"Carbon dioxide\",((1/($D$5/100))-1),(VLOOKUP('USER INPUTS'!$B$28,DEFAULTS!$E$8:$F$69,2,FALSE))/10^6*(1/($D$5/100))))))),0,METHANE!$J80*DEFAULTS!$B$83*(IF('USER INPUTS'!$B$28=\"Total landfill gas\",(1/($D$5/100)),IF('USER INPUTS'!$B$28=\"Methane\",1,IF('USER INPUTS'!$B$28=\"Carbon dioxide\",((1/($D$5/100))-1),(VLOOKUP('USER INPUTS'!$B$28,DEFAULTS!$E$8:$F$69,2,FALSE))/10^6*(1/($D$5/100)))))))","v":0},{"$f":"IF(ISERROR(METHANE!$J80*(IF('USER INPUTS'!$B$28=\"Total landfill gas\",(1/($D$5/100)),IF('USER INPUTS'!$B$28=\"Methane\",1,IF('USER INPUTS'!$B$28=\"Carbon dioxide\",((1/($D$5/100))-1),(VLOOKUP('USER INPUTS'!$B$28,DEFAULTS!$E$8:$F$69,2,FALSE))/10^6*(1/($D$5/100))))))),0,METHANE!$J80*(IF('USER INPUTS'!$B$28=\"Total landfill gas\",(1/($D$5/100)),IF('USER INPUTS'!$B$28=\"Methane\",1,IF('USER INPUTS'!$B$28=\"Carbon dioxide\",((1/($D$5/100))-1),(VLOOKUP('USER INPUTS'!$B$28,DEFAULTS!$E$8:$F$69,2,FALSE))/10^6*(1/($D$5/100)))))))","v":0},{"$f":"IF(N$8=\"(short tons/year)\",(L66*DEFAULTS!$B$55*DEFAULTS!$B$53/DEFAULTS!$B$54),IF(N$8=\"(ft^3/year)\",(M66*DEFAULTS!$B$57),IF(N$8=\"(av ft^3/min)\",(M66*DEFAULTS!$B$57/DEFAULTS!$B$58),0)))","v":0},{"$f":"IF(ISERROR(METHANE!$J80*DEFAULTS!$B$84*(IF('USER INPUTS'!$B$30=\"Total landfill gas\",(1/($D$5/100)),IF('USER INPUTS'!$B$30=\"Methane\",1,IF('USER INPUTS'!$B$30=\"Carbon dioxide\",((1/($D$5/100))-1),(VLOOKUP('USER INPUTS'!$B$30,DEFAULTS!$E$8:$F$69,2,FALSE))/10^6*(1/($D$5/100))))))),0,METHANE!$J80*DEFAULTS!$B$84*(IF('USER INPUTS'!$B$30=\"Total landfill gas\",(1/($D$5/100)),IF('USER INPUTS'!$B$30=\"Methane\",1,IF('USER INPUTS'!$B$30=\"Carbon dioxide\",((1/($D$5/100))-1),(VLOOKUP('USER INPUTS'!$B$30,DEFAULTS!$E$8:$F$69,2,FALSE))/10^6*(1/($D$5/100)))))))","v":0},{"$f":"IF(ISERROR(METHANE!$J80*(IF('USER INPUTS'!$B$30=\"Total landfill gas\",(1/($D$5/100)),IF('USER INPUTS'!$B$30=\"Methane\",1,IF('USER INPUTS'!$B$30=\"Carbon dioxide\",((1/($D$5/100))-1),(VLOOKUP('USER INPUTS'!$B$30,DEFAULTS!$E$8:$F$69,2,FALSE))/10^6*(1/($D$5/100))))))),0,METHANE!$J80*(IF('USER INPUTS'!$B$30=\"Total landfill gas\",(1/($D$5/100)),IF('USER INPUTS'!$B$30=\"Methane\",1,IF('USER INPUTS'!$B$30=\"Carbon dioxide\",((1/($D$5/100))-1),(VLOOKUP('USER INPUTS'!$B$30,DEFAULTS!$E$8:$F$69,2,FALSE))/10^6*(1/($D$5/100)))))))","v":0},{"$f":"IF(Q$8=\"(short tons/year)\",(O66*DEFAULTS!$B$55*DEFAULTS!$B$53/DEFAULTS!$B$54),IF(Q$8=\"(ft^3/year)\",(P66*DEFAULTS!$B$57),IF(Q$8=\"(av ft^3/min)\",(P66*DEFAULTS!$B$57/DEFAULTS!$B$58),0)))","v":0}]
[{"$f":"METHANE!I81","v":58},{"$f":"IF(METHANE!E81>0,METHANE!E81,0)","v":0},{"$f":"IF(METHANE!E81>0,METHANE!E81*DEFAULTS!$B$55*DEFAULTS!$B$53/DEFAULTS!$B$54,0)","v":0},{"$f":"IF(METHANE!F81>0,METHANE!F81,0)","v":0},{"$f":"IF(METHANE!F81>0,METHANE!F81*DEFAULTS!$B$55*DEFAULTS!$B$53/DEFAULTS!$B$54,0)","v":0},{"$f":"IF(ISERROR(METHANE!$J81*DEFAULTS!$B$81*(IF('USER INPUTS'!$B$24=\"Total landfill gas\",(1/($D$5/100)),IF('USER INPUTS'!$B$24=\"Methane\",1,IF('USER INPUTS'!$B$24=\"Carbon dioxide\",((1/($D$5/100))-1),(VLOOKUP('USER INPUTS'!$B$24,DEFAULTS!$E$8:$F$69,2,FALSE))/10^6*(1/($D$5/100))))))),0,METHANE!$J81*DEFAULTS!$B$81*(IF('USER INPUTS'!$B$24=\"Total landfill gas\",(1/($D$5/100)),IF('USER INPUTS'!$B$24=\"Methane\",1,IF('USER INPUTS'!$B$24=\"Carbon dioxide\",((1/($D$5/100))-1),(VLOOKUP('USER INPUTS'!$B$24,DEFAULTS!$E$8:$F$69,2,FALSE))/10^6*(1/($D$5/100)))))))","v":0},{"$f":"IF(ISERROR(METHANE!$J81*(IF('USER INPUTS'!$B$24=\"Total landfill gas\",(1/($D$5/100)),IF('USER INPUTS'!$B$24=\"Methane\",1,IF('USER INPUTS'!$B$24=\"Carbon dioxide\",((1/($D$5/100))-1),(VLOOKUP('USER INPUTS'!$B$24,DEFAULTS!$E$8:$F$69,2,FALSE))/10^6*(1/($D$5/100))))))),0,METHANE!$J81*(IF('USER INPUTS'!$B$24=\"Total landfill gas\",(1/($D$5/100)),IF('USER INPUTS'!$B$24=\"Methane\",1,IF('USER INPUTS'!$B$24=\"Carbon dioxide\",((1/($D$5/100))-1),(VLOOKUP('USER INPUTS'!$B$24,DEFAULTS!$E$8:$F$69,2,FALSE))/10^6*(1/($D$5/100)))))))","v":0},{"$f":"IF(H$8=\"(short tons/year)\",(F67*DEFAULTS!$B$55*DEFAULTS!$B$53/DEFAULTS!$B$54),IF(H$8=\"(ft^3/year)\",(G67*DEFAULTS!$B$57),IF(H$8=\"(av ft^3/min)\",(G67*DEFAULTS!$B$57/DEFAULTS!$B$58),0)))","v":0},{"$f":"IF(ISERROR(METHANE!$J81*DEFAULTS!$B$82*(IF('USER INPUTS'!$B$26=\"Total landfill gas\",(1/($D$5/100)),IF('USER INPUTS'!$B$26=\"Methane\",1,IF('USER INPUTS'!$B$26=\"Carbon dioxide\",((1/($D$5/100))-1),(VLOOKUP('USER INPUTS'!$B$26,DEFAULTS!$E$8:$F$69,2,FALSE))/10^6*(1/($D$5/100))))))),0,METHANE!$J81*DEFAULTS!$B$82*(IF('USER INPUTS'!$B$26=\"Total landfill gas\",(1/($D$5/100)),IF('USER INPUTS'!$B$26=\"Methane\",1,IF('USER INPUTS'!$B$26=\"Carbon dioxide\",((1/($D$5/100))-1),(VLOOKUP('USER INPUTS'!$B$26,DEFAULTS!$E$8:$F$69,2,FALSE))/10^6*(1/($D$5/100)))))))","v":0},{"$f":"IF(ISERROR(METHANE!$J81*(IF('USER INPUTS'!$B$26=\"Total landfill gas\",(1/($D$5/100)),IF('USER INPUTS'!$B$26=\"Methane\",1,IF('USER INPUTS'!$B$26=\"Carbon dioxide\",((1/($D$5/100))-1),(VLOOKUP('USER INPUTS'!$B$26,DEFAULTS!$E$8:$F$69,2,FALSE))/10^6*(1/($D$5/100))))))),0,METHANE!$J81*(IF('USER INPUTS'!$B$26=\"Total landfill gas\",(1/($D$5/100)),IF('USER INPUTS'!$B$26=\"Methane\",1,IF('USER INPUTS'!$B$26=\"Carbon dioxide\",((1/($D$5/100))-1),(VLOOKUP('USER INPUTS'!$B$26,DEFAULTS!$E$8:$F$69,2,FALSE))/10^6*(1/($D$5/100)))))))","v":0},{"$f":"IF(K$8=\"(short tons/year)\",(I67*DEFAULTS!$B$55*DEFAULTS!$B$53/DEFAULTS!$B$54),IF(K$8=\"(ft^3/year)\",(J67*DEFAULTS!$B$57),IF(K$8=\"(av ft^3/min)\",(J67*DEFAULTS!$B$57/DEFAULTS!$B$58),0)))","v":0},{"$f":"IF(ISERROR(METHANE!$J81*DEFAULTS!$B$83*(IF('USER INPUTS'!$B$28=\"Total landfill gas\",(1/($D$5/100)),IF('USER INPUTS'!$B$28=\"Methane\",1,IF('USER INPUTS'!$B$28=\"Carbon dioxide\",((1/($D$5/100))-1),(VLOOKUP('USER INPUTS'!$B$28,DEFAULTS!$E$8:$F$69,2,FALSE))/10^6*(1/($D$5/100))))))),0,METHANE!$J81*DEFAULTS!$B$83*(IF('USER INPUTS'!$B$28=\"Total landfill gas\",(1/($D$5/100)),IF('USER INPUTS'!$B$28=\"Methane\",1,IF('USER INPUTS'!$B$28=\"Carbon dioxide\",((1/($D$5/100))-1),(VLOOKUP('USER INPUTS'!$B$28,DEFAULTS!$E$8:$F$69,2,FALSE))/10^6*(1/($D$5/100)))))))","v":0},{"$f":"IF(ISERROR(METHANE!$J81*(IF('USER INPUTS'!$B$28=\"Total landfill gas\",(1/($D$5/100)),IF('USER INPUTS'!$B$28=\"Methane\",1,IF('USER INPUTS'!$B$28=\"Carbon dioxide\",((1/($D$5/100))-1),(VLOOKUP('USER INPUTS'!$B$28,DEFAULTS!$E$8:$F$69,2,FALSE))/10^6*(1/($D$5/100))))))),0,METHANE!$J81*(IF('USER INPUTS'!$B$28=\"Total landfill gas\",(1/($D$5/100)),IF('USER INPUTS'!$B$28=\"Methane\",1,IF('USER INPUTS'!$B$28=\"Carbon dioxide\",((1/($D$5/100))-1),(VLOOKUP('USER INPUTS'!$B$28,DEFAULTS!$E$8:$F$69,2,FALSE))/10^6*(1/($D$5/100)))))))","v":0},{"$f":"IF(N$8=\"(short tons/year)\",(L67*DEFAULTS!$B$55*DEFAULTS!$B$53/DEFAULTS!$B$54),IF(N$8=\"(ft^3/year)\",(M67*DEFAULTS!$B$57),IF(N$8=\"(av ft^3/min)\",(M67*DEFAULTS!$B$57/DEFAULTS!$B$58),0)))","v":0},{"$f":"IF(ISERROR(METHANE!$J81*DEFAULTS!$B$84*(IF('USER INPUTS'!$B$30=\"Total landfill gas\",(1/($D$5/100)),IF('USER INPUTS'!$B$30=\"Methane\",1,IF('USER INPUTS'!$B$30=\"Carbon dioxide\",((1/($D$5/100))-1),(VLOOKUP('USER INPUTS'!$B$30,DEFAULTS!$E$8:$F$69,2,FALSE))/10^6*(1/($D$5/100))))))),0,METHANE!$J81*DEFAULTS!$B$84*(IF('USER INPUTS'!$B$30=\"Total landfill gas\",(1/($D$5/100)),IF('USER INPUTS'!$B$30=\"Methane\",1,IF('USER INPUTS'!$B$30=\"Carbon dioxide\",((1/($D$5/100))-1),(VLOOKUP('USER INPUTS'!$B$30,DEFAULTS!$E$8:$F$69,2,FALSE))/10^6*(1/($D$5/100)))))))","v":0},{"$f":"IF(ISERROR(METHANE!$J81*(IF('USER INPUTS'!$B$30=\"Total landfill gas\",(1/($D$5/100)),IF('USER INPUTS'!$B$30=\"Methane\",1,IF('USER INPUTS'!$B$30=\"Carbon dioxide\",((1/($D$5/100))-1),(VLOOKUP('USER INPUTS'!$B$30,DEFAULTS!$E$8:$F$69,2,FALSE))/10^6*(1/($D$5/100))))))),0,METHANE!$J81*(IF('USER INPUTS'!$B$30=\"Total landfill gas\",(1/($D$5/100)),IF('USER INPUTS'!$B$30=\"Methane\",1,IF('USER INPUTS'!$B$30=\"Carbon dioxide\",((1/($D$5/100))-1),(VLOOKUP('USER INPUTS'!$B$30,DEFAULTS!$E$8:$F$69,2,FALSE))/10^6*(1/($D$5/100)))))))","v":0},{"$f":"IF(Q$8=\"(short tons/year)\",(O67*DEFAULTS!$B$55*DEFAULTS!$B$53/DEFAULTS!$B$54),IF(Q$8=\"(ft^3/year)\",(P67*DEFAULTS!$B$57),IF(Q$8=\"(av ft^3/min)\",(P67*DEFAULTS!$B$57/DEFAULTS!$B$58),0)))","v":0}]
[{"$f":"METHANE!I82","v":59},{"$f":"IF(METHANE!E82>0,METHANE!E82,0)","v":0},{"$f":"IF(METHANE!E82>0,METHANE!E82*DEFAULTS!$B$55*DEFAULTS!$B$53/DEFAULTS!$B$54,0)","v":0},{"$f":"IF(METHANE!F82>0,METHANE!F82,0)","v":0},{"$f":"IF(METHANE!F82>0,METHANE!F82*DEFAULTS!$B$55*DEFAULTS!$B$53/DEFAULTS!$B$54,0)","v":0},{"$f":"IF(ISERROR(METHANE!$J82*DEFAULTS!$B$81*(IF('USER INPUTS'!$B$24=\"Total landfill gas\",(1/($D$5/100)),IF('USER INPUTS'!$B$24=\"Methane\",1,IF('USER INPUTS'!$B$24=\"Carbon dioxide\",((1/($D$5/100))-1),(VLOOKUP('USER INPUTS'!$B$24,DEFAULTS!$E$8:$F$69,2,FALSE))/10^6*(1/($D$5/100))))))),0,METHANE!$J82*DEFAULTS!$B$81*(IF('USER INPUTS'!$B$24=\"Total landfill gas\",(1/($D$5/100)),IF('USER INPUTS'!$B$24=\"Methane\",1,IF('USER INPUTS'!$B$24=\"Carbon dioxide\",((1/($D$5/100))-1),(VLOOKUP('USER INPUTS'!$B$24,DEFAULTS!$E$8:$F$69,2,FALSE))/10^6*(1/($D$5/100)))))))","v":0},{"$f":"IF(ISERROR(METHANE!$J82*(IF('USER INPUTS'!$B$24=\"Total landfill gas\",(1/($D$5/100)),IF('USER INPUTS'!$B$24=\"Methane\",1,IF('USER INPUTS'!$B$24=\"Carbon dioxide\",((1/($D$5/100))-1),(VLOOKUP('USER INPUTS'!$B$24,DEFAULTS!$E$8:$F$69,2,FALSE))/10^6*(1/($D$5/100))))))),0,METHANE!$J82*(IF('USER INPUTS'!$B$24=\"Total landfill gas\",(1/($D$5/100)),IF('USER INPUTS'!$B$24=\"Methane\",1,IF('USER INPUTS'!$B$24=\"Carbon dioxide\",((1/($D$5/100))-1),(VLOOKUP('USER INPUTS'!$B$24,DEFAULTS!$E$8:$F$69,2,FALSE))/10^6*(1/($D$5/100)))))))","v":0},{"$f":"IF(H$8=\"(short tons/year)\",(F68*DEFAULTS!$B$55*DEFAULTS!$B$53/DEFAULTS!$B$54),IF(H$8=\"(ft^3/year)\",(G68*DEFAULTS!$B$57),IF(H$8=\"(av ft^3/min)\",(G68*DEFAULTS!$B$57/DEFAULTS!$B$58),0)))","v":0},{"$f":"IF(ISERROR(METHANE!$J82*DEFAULTS!$B$82*(IF('USER INPUTS'!$B$26=\"Total landfill gas\",(1/($D$5/100)),IF('USER INPUTS'!$B$26=\"Methane\",1,IF('USER INPUTS'!$B$26=\"Carbon dioxide\",((1/($D$5/100))-1),(VLOOKUP('USER INPUTS'!$B$26,DEFAULTS!$E$8:$F$69,2,FALSE))/10^6*(1/($D$5/100))))))),0,METHANE!$J82*DEFAULTS!$B$82*(IF('USER INPUTS'!$B$26=\"Total landfill gas\",(1/($D$5/100)),IF('USER INPUTS'!$B$26=\"Methane\",1,IF('USER INPUTS'!$B$26=\"Carbon dioxide\",((1/($D$5/100))-1),(VLOOKUP('USER INPUTS'!$B$26,DEFAULTS!$E$8:$F$69,2,FALSE))/10^6*(1/($D$5/100)))))))","v":0},{"$f":"IF(ISERROR(METHANE!$J82*(IF('USER INPUTS'!$B$26=\"Total landfill gas\",(1/($D$5/100)),IF('USER INPUTS'!$B$26=\"Methane\",1,IF('USER INPUTS'!$B$26=\"Carbon dioxide\",((1/($D$5/100))-1),(VLOOKUP('USER INPUTS'!$B$26,DEFAULTS!$E$8:$F$69,2,FALSE))/10^6*(1/($D$5/100))))))),0,METHANE!$J82*(IF('USER INPUTS'!$B$26=\"Total landfill gas\",(1/($D$5/100)),IF('USER INPUTS'!$B$26=\"Methane\",1,IF('USER INPUTS'!$B$26=\"Carbon dioxide\",((1/($D$5/100))-1),(VLOOKUP('USER INPUTS'!$B$26,DEFAULTS!$E$8:$F$69,2,FALSE))/10^6*(1/($D$5/100)))))))","v":0},{"$f":"IF(K$8=\"(short tons/year)\",(I68*DEFAULTS!$B$55*DEFAULTS!$B$53/DEFAULTS!$B$54),IF(K$8=\"(ft^3/year)\",(J68*DEFAULTS!$B$57),IF(K$8=\"(av ft^3/min)\",(J68*DEFAULTS!$B$57/DEFAULTS!$B$58),0)))","v":0},{"$f":"IF(ISERROR(METHANE!$J82*DEFAULTS!$B$83*(IF('USER INPUTS'!$B$28=\"Total landfill gas\",(1/($D$5/100)),IF('USER INPUTS'!$B$28=\"Methane\",1,IF('USER INPUTS'!$B$28=\"Carbon dioxide\",((1/($D$5/100))-1),(VLOOKUP('USER INPUTS'!$B$28,DEFAULTS!$E$8:$F$69,2,FALSE))/10^6*(1/($D$5/100))))))),0,METHANE!$J82*DEFAULTS!$B$83*(IF('USER INPUTS'!$B$28=\"Total landfill gas\",(1/($D$5/100)),IF('USER INPUTS'!$B$28=\"Methane\",1,IF('USER INPUTS'!$B$28=\"Carbon dioxide\",((1/($D$5/100))-1),(VLOOKUP('USER INPUTS'!$B$28,DEFAULTS!$E$8:$F$69,2,FALSE))/10^6*(1/($D$5/100)))))))","v":0},{"$f":"IF(ISERROR(METHANE!$J82*(IF('USER INPUTS'!$B$28=\"Total landfill gas\",(1/($D$5/100)),IF('USER INPUTS'!$B$28=\"Methane\",1,IF('USER INPUTS'!$B$28=\"Carbon dioxide\",((1/($D$5/100))-1),(VLOOKUP('USER INPUTS'!$B$28,DEFAULTS!$E$8:$F$69,2,FALSE))/10^6*(1/($D$5/100))))))),0,METHANE!$J82*(IF('USER INPUTS'!$B$28=\"Total landfill gas\",(1/($D$5/100)),IF('USER INPUTS'!$B$28=\"Methane\",1,IF('USER INPUTS'!$B$28=\"Carbon dioxide\",((1/($D$5/100))-1),(VLOOKUP('USER INPUTS'!$B$28,DEFAULTS!$E$8:$F$69,2,FALSE))/10^6*(1/($D$5/100)))))))","v":0},{"$f":"IF(N$8=\"(short tons/year)\",(L68*DEFAULTS!$B$55*DEFAULTS!$B$53/DEFAULTS!$B$54),IF(N$8=\"(ft^3/year)\",(M68*DEFAULTS!$B$57),IF(N$8=\"(av ft^3/min)\",(M68*DEFAULTS!$B$57/DEFAULTS!$B$58),0)))","v":0},{"$f":"IF(ISERROR(METHANE!$J82*DEFAULTS!$B$84*(IF('USER INPUTS'!$B$30=\"Total landfill gas\",(1/($D$5/100)),IF('USER INPUTS'!$B$30=\"Methane\",1,IF('USER INPUTS'!$B$30=\"Carbon dioxide\",((1/($D$5/100))-1),(VLOOKUP('USER INPUTS'!$B$30,DEFAULTS!$E$8:$F$69,2,FALSE))/10^6*(1/($D$5/100))))))),0,METHANE!$J82*DEFAULTS!$B$84*(IF('USER INPUTS'!$B$30=\"Total landfill gas\",(1/($D$5/100)),IF('USER INPUTS'!$B$30=\"Methane\",1,IF('USER INPUTS'!$B$30=\"Carbon dioxide\",((1/($D$5/100))-1),(VLOOKUP('USER INPUTS'!$B$30,DEFAULTS!$E$8:$F$69,2,FALSE))/10^6*(1/($D$5/100)))))))","v":0},{"$f":"IF(ISERROR(METHANE!$J82*(IF('USER INPUTS'!$B$30=\"Total landfill gas\",(1/($D$5/100)),IF('USER INPUTS'!$B$30=\"Methane\",1,IF('USER INPUTS'!$B$30=\"Carbon dioxide\",((1/($D$5/100))-1),(VLOOKUP('USER INPUTS'!$B$30,DEFAULTS!$E$8:$F$69,2,FALSE))/10^6*(1/($D$5/100))))))),0,METHANE!$J82*(IF('USER INPUTS'!$B$30=\"Total landfill gas\",(1/($D$5/100)),IF('USER INPUTS'!$B$30=\"Methane\",1,IF('USER INPUTS'!$B$30=\"Carbon dioxide\",((1/($D$5/100))-1),(VLOOKUP('USER INPUTS'!$B$30,DEFAULTS!$E$8:$F$69,2,FALSE))/10^6*(1/($D$5/100)))))))","v":0},{"$f":"IF(Q$8=\"(short tons/year)\",(O68*DEFAULTS!$B$55*DEFAULTS!$B$53/DEFAULTS!$B$54),IF(Q$8=\"(ft^3/year)\",(P68*DEFAULTS!$B$57),IF(Q$8=\"(av ft^3/min)\",(P68*DEFAULTS!$B$57/DEFAULTS!$B$58),0)))","v":0}]
[{"$f":"METHANE!I83","v":60},{"$f":"IF(METHANE!E83>0,METHANE!E83,0)","v":0},{"$f":"IF(METHANE!E83>0,METHANE!E83*DEFAULTS!$B$55*DEFAULTS!$B$53/DEFAULTS!$B$54,0)","v":0},{"$f":"IF(METHANE!F83>0,METHANE!F83,0)","v":0},{"$f":"IF(METHANE!F83>0,METHANE!F83*DEFAULTS!$B$55*DEFAULTS!$B$53/DEFAULTS!$B$54,0)","v":0},{"$f":"IF(ISERROR(METHANE!$J83*DEFAULTS!$B$81*(IF('USER INPUTS'!$B$24=\"Total landfill gas\",(1/($D$5/100)),IF('USER INPUTS'!$B$24=\"Methane\",1,IF('USER INPUTS'!$B$24=\"Carbon dioxide\",((1/($D$5/100))-1),(VLOOKUP('USER INPUTS'!$B$24,DEFAULTS!$E$8:$F$69,2,FALSE))/10^6*(1/($D$5/100))))))),0,METHANE!$J83*DEFAULTS!$B$81*(IF('USER INPUTS'!$B$24=\"Total landfill gas\",(1/($D$5/100)),IF('USER INPUTS'!$B$24=\"Methane\",1,IF('USER INPUTS'!$B$24=\"Carbon dioxide\",((1/($D$5/100))-1),(VLOOKUP('USER INPUTS'!$B$24,DEFAULTS!$E$8:$F$69,2,FALSE))/10^6*(1/($D$5/100)))))))","v":0},{"$f":"IF(ISERROR(METHANE!$J83*(IF('USER INPUTS'!$B$24=\"Total landfill gas\",(1/($D$5/100)),IF('USER INPUTS'!$B$24=\"Methane\",1,IF('USER INPUTS'!$B$24=\"Carbon dioxide\",((1/($D$5/100))-1),(VLOOKUP('USER INPUTS'!$B$24,DEFAULTS!$E$8:$F$69,2,FALSE))/10^6*(1/($D$5/100))))))),0,METHANE!$J83*(IF('USER INPUTS'!$B$24=\"Total landfill gas\",(1/($D$5/100)),IF('USER INPUTS'!$B$24=\"Methane\",1,IF('USER INPUTS'!$B$24=\"Carbon dioxide\",((1/($D$5/100))-1),(VLOOKUP('USER INPUTS'!$B$24,DEFAULTS!$E$8:$F$69,2,FALSE))/10^6*(1/($D$5/100)))))))","v":0},{"$f":"IF(H$8=\"(short tons/year)\",(F69*DEFAULTS!$B$55*DEFAULTS!$B$53/DEFAULTS!$B$54),IF(H$8=\"(ft^3/year)\",(G69*DEFAULTS!$B$57),IF(H$8=\"(av ft^3/min)\",(G69*DEFAULTS!$B$57/DEFAULTS!$B$58),0)))","v":0},{"$f":"IF(ISERROR(METHANE!$J83*DEFAULTS!$B$82*(IF('USER INPUTS'!$B$26=\"Total landfill gas\",(1/($D$5/100)),IF('USER INPUTS'!$B$26=\"Methane\",1,IF('USER INPUTS'!$B$26=\"Carbon dioxide\",((1/($D$5/100))-1),(VLOOKUP('USER INPUTS'!$B$26,DEFAULTS!$E$8:$F$69,2,FALSE))/10^6*(1/($D$5/100))))))),0,METHANE!$J83*DEFAULTS!$B$82*(IF('USER INPUTS'!$B$26=\"Total landfill gas\",(1/($D$5/100)),IF('USER INPUTS'!$B$26=\"Methane\",1,IF('USER INPUTS'!$B$26=\"Carbon dioxide\",((1/($D$5/100))-1),(VLOOKUP('USER INPUTS'!$B$26,DEFAULTS!$E$8:$F$69,2,FALSE))/10^6*(1/($D$5/100)))))))","v":0},{"$f":"IF(ISERROR(METHANE!$J83*(IF('USER INPUTS'!$B$26=\"Total landfill gas\",(1/($D$5/100)),IF('USER INPUTS'!$B$26=\"Methane\",1,IF('USER INPUTS'!$B$26=\"Carbon dioxide\",((1/($D$5/100))-1),(VLOOKUP('USER INPUTS'!$B$26,DEFAULTS!$E$8:$F$69,2,FALSE))/10^6*(1/($D$5/100))))))),0,METHANE!$J83*(IF('USER INPUTS'!$B$26=\"Total landfill gas\",(1/($D$5/100)),IF('USER INPUTS'!$B$26=\"Methane\",1,IF('USER INPUTS'!$B$26=\"Carbon dioxide\",((1/($D$5/100))-1),(VLOOKUP('USER INPUTS'!$B$26,DEFAULTS!$E$8:$F$69,2,FALSE))/10^6*(1/($D$5/100)))))))","v":0},{"$f":"IF(K$8=\"(short tons/year)\",(I69*DEFAULTS!$B$55*DEFAULTS!$B$53/DEFAULTS!$B$54),IF(K$8=\"(ft^3/year)\",(J69*DEFAULTS!$B$57),IF(K$8=\"(av ft^3/min)\",(J69*DEFAULTS!$B$57/DEFAULTS!$B$58),0)))","v":0},{"$f":"IF(ISERROR(METHANE!$J83*DEFAULTS!$B$83*(IF('USER INPUTS'!$B$28=\"Total landfill gas\",(1/($D$5/100)),IF('USER INPUTS'!$B$28=\"Methane\",1,IF('USER INPUTS'!$B$28=\"Carbon dioxide\",((1/($D$5/100))-1),(VLOOKUP('USER INPUTS'!$B$28,DEFAULTS!$E$8:$F$69,2,FALSE))/10^6*(1/($D$5/100))))))),0,METHANE!$J83*DEFAULTS!$B$83*(IF('USER INPUTS'!$B$28=\"Total landfill gas\",(1/($D$5/100)),IF('USER INPUTS'!$B$28=\"Methane\",1,IF('USER INPUTS'!$B$28=\"Carbon dioxide\",((1/($D$5/100))-1),(VLOOKUP('USER INPUTS'!$B$28,DEFAULTS!$E$8:$F$69,2,FALSE))/10^6*(1/($D$5/100)))))))","v":0},{"$f":"IF(ISERROR(METHANE!$J83*(IF('USER INPUTS'!$B$28=\"Total landfill gas\",(1/($D$5/100)),IF('USER INPUTS'!$B$28=\"Methane\",1,IF('USER INPUTS'!$B$28=\"Carbon dioxide\",((1/($D$5/100))-1),(VLOOKUP('USER INPUTS'!$B$28,DEFAULTS!$E$8:$F$69,2,FALSE))/10^6*(1/($D$5/100))))))),0,METHANE!$J83*(IF('USER INPUTS'!$B$28=\"Total landfill gas\",(1/($D$5/100)),IF('USER INPUTS'!$B$28=\"Methane\",1,IF('USER INPUTS'!$B$28=\"Carbon dioxide\",((1/($D$5/100))-1),(VLOOKUP('USER INPUTS'!$B$28,DEFAULTS!$E$8:$F$69,2,FALSE))/10^6*(1/($D$5/100)))))))","v":0},{"$f":"IF(N$8=\"(short tons/year)\",(L69*DEFAULTS!$B$55*DEFAULTS!$B$53/DEFAULTS!$B$54),IF(N$8=\"(ft^3/year)\",(M69*DEFAULTS!$B$57),IF(N$8=\"(av ft^3/min)\",(M69*DEFAULTS!$B$57/DEFAULTS!$B$58),0)))","v":0},{"$f":"IF(ISERROR(METHANE!$J83*DEFAULTS!$B$84*(IF('USER INPUTS'!$B$30=\"Total landfill gas\",(1/($D$5/100)),IF('USER INPUTS'!$B$30=\"Methane\",1,IF('USER INPUTS'!$B$30=\"Carbon dioxide\",((1/($D$5/100))-1),(VLOOKUP('USER INPUTS'!$B$30,DEFAULTS!$E$8:$F$69,2,FALSE))/10^6*(1/($D$5/100))))))),0,METHANE!$J83*DEFAULTS!$B$84*(IF('USER INPUTS'!$B$30=\"Total landfill gas\",(1/($D$5/100)),IF('USER INPUTS'!$B$30=\"Methane\",1,IF('USER INPUTS'!$B$30=\"Carbon dioxide\",((1/($D$5/100))-1),(VLOOKUP('USER INPUTS'!$B$30,DEFAULTS!$E$8:$F$69,2,FALSE))/10^6*(1/($D$5/100)))))))","v":0},{"$f":"IF(ISERROR(METHANE!$J83*(IF('USER INPUTS'!$B$30=\"Total landfill gas\",(1/($D$5/100)),IF('USER INPUTS'!$B$30=\"Methane\",1,IF('USER INPUTS'!$B$30=\"Carbon dioxide\",((1/($D$5/100))-1),(VLOOKUP('USER INPUTS'!$B$30,DEFAULTS!$E$8:$F$69,2,FALSE))/10^6*(1/($D$5/100))))))),0,METHANE!$J83*(IF('USER INPUTS'!$B$30=\"Total landfill gas\",(1/($D$5/100)),IF('USER INPUTS'!$B$30=\"Methane\",1,IF('USER INPUTS'!$B$30=\"Carbon dioxide\",((1/($D$5/100))-1),(VLOOKUP('USER INPUTS'!$B$30,DEFAULTS!$E$8:$F$69,2,FALSE))/10^6*(1/($D$5/100)))))))","v":0},{"$f":"IF(Q$8=\"(short tons/year)\",(O69*DEFAULTS!$B$55*DEFAULTS!$B$53/DEFAULTS!$B$54),IF(Q$8=\"(ft^3/year)\",(P69*DEFAULTS!$B$57),IF(Q$8=\"(av ft^3/min)\",(P69*DEFAULTS!$B$57/DEFAULTS!$B$58),0)))","v":0}]
[{"$f":"METHANE!I84","v":61},{"$f":"IF(METHANE!E84>0,METHANE!E84,0)","v":0},{"$f":"IF(METHANE!E84>0,METHANE!E84*DEFAULTS!$B$55*DEFAULTS!$B$53/DEFAULTS!$B$54,0)","v":0},{"$f":"IF(METHANE!F84>0,METHANE!F84,0)","v":0},{"$f":"IF(METHANE!F84>0,METHANE!F84*DEFAULTS!$B$55*DEFAULTS!$B$53/DEFAULTS!$B$54,0)","v":0},{"$f":"IF(ISERROR(METHANE!$J84*DEFAULTS!$B$81*(IF('USER INPUTS'!$B$24=\"Total landfill gas\",(1/($D$5/100)),IF('USER INPUTS'!$B$24=\"Methane\",1,IF('USER INPUTS'!$B$24=\"Carbon dioxide\",((1/($D$5/100))-1),(VLOOKUP('USER INPUTS'!$B$24,DEFAULTS!$E$8:$F$69,2,FALSE))/10^6*(1/($D$5/100))))))),0,METHANE!$J84*DEFAULTS!$B$81*(IF('USER INPUTS'!$B$24=\"Total landfill gas\",(1/($D$5/100)),IF('USER INPUTS'!$B$24=\"Methane\",1,IF('USER INPUTS'!$B$24=\"Carbon dioxide\",((1/($D$5/100))-1),(VLOOKUP('USER INPUTS'!$B$24,DEFAULTS!$E$8:$F$69,2,FALSE))/10^6*(1/($D$5/100)))))))","v":0},{"$f":"IF(ISERROR(METHANE!$J84*(IF('USER INPUTS'!$B$24=\"Total landfill gas\",(1/($D$5/100)),IF('USER INPUTS'!$B$24=\"Methane\",1,IF('USER INPUTS'!$B$24=\"Carbon dioxide\",((1/($D$5/100))-1),(VLOOKUP('USER INPUTS'!$B$24,DEFAULTS!$E$8:$F$69,2,FALSE))/10^6*(1/($D$5/100))))))),0,METHANE!$J84*(IF('USER INPUTS'!$B$24=\"Total landfill gas\",(1/($D$5/100)),IF('USER INPUTS'!$B$24=\"Methane\",1,IF('USER INPUTS'!$B$24=\"Carbon dioxide\",((1/($D$5/100))-1),(VLOOKUP('USER INPUTS'!$B$24,DEFAULTS!$E$8:$F$69,2,FALSE))/10^6*(1/($D$5/100)))))))","v":0},{"$f":"IF(H$8=\"(short tons/year)\",(F70*DEFAULTS!$B$55*DEFAULTS!$B$53/DEFAULTS!$B$54),IF(H$8=\"(ft^3/year)\",(G70*DEFAULTS!$B$57),IF(H$8=\"(av ft^3/min)\",(G70*DEFAULTS!$B$57/DEFAULTS!$B$58),0)))","v":0},{"$f":"IF(ISERROR(METHANE!$J84*DEFAULTS!$B$82*(IF('USER INPUTS'!$B$26=\"Total landfill gas\",(1/($D$5/100)),IF('USER INPUTS'!$B$26=\"Methane\",1,IF('USER INPUTS'!$B$26=\"Carbon dioxide\",((1/($D$5/100))-1),(VLOOKUP('USER INPUTS'!$B$26,DEFAULTS!$E$8:$F$69,2,FALSE))/10^6*(1/($D$5/100))))))),0,METHANE!$J84*DEFAULTS!$B$82*(IF('USER INPUTS'!$B$26=\"Total landfill gas\",(1/($D$5/100)),IF('USER INPUTS'!$B$26=\"Methane\",1,IF('USER INPUTS'!$B$26=\"Carbon dioxide\",((1/($D$5/100))-1),(VLOOKUP('USER INPUTS'!$B$26,DEFAULTS!$E$8:$F$69,2,FALSE))/10^6*(1/($D$5/100)))))))","v":0},{"$f":"IF(ISERROR(METHANE!$J84*(IF('USER INPUTS'!$B$26=\"Total landfill gas\",(1/($D$5/100)),IF('USER INPUTS'!$B$26=\"Methane\",1,IF('USER INPUTS'!$B$26=\"Carbon dioxide\",((1/($D$5/100))-1),(VLOOKUP('USER INPUTS'!$B$26,DEFAULTS!$E$8:$F$69,2,FALSE))/10^6*(1/($D$5/100))))))),0,METHANE!$J84*(IF('USER INPUTS'!$B$26=\"Total landfill gas\",(1/($D$5/100)),IF('USER INPUTS'!$B$26=\"Methane\",1,IF('USER INPUTS'!$B$26=\"Carbon dioxide\",((1/($D$5/100))-1),(VLOOKUP('USER INPUTS'!$B$26,DEFAULTS!$E$8:$F$69,2,FALSE))/10^6*(1/($D$5/100)))))))","v":0},{"$f":"IF(K$8=\"(short tons/year)\",(I70*DEFAULTS!$B$55*DEFAULTS!$B$53/DEFAULTS!$B$54),IF(K$8=\"(ft^3/year)\",(J70*DEFAULTS!$B$57),IF(K$8=\"(av ft^3/min)\",(J70*DEFAULTS!$B$57/DEFAULTS!$B$58),0)))","v":0},{"$f":"IF(ISERROR(METHANE!$J84*DEFAULTS!$B$83*(IF('USER INPUTS'!$B$28=\"Total landfill gas\",(1/($D$5/100)),IF('USER INPUTS'!$B$28=\"Methane\",1,IF('USER INPUTS'!$B$28=\"Carbon dioxide\",((1/($D$5/100))-1),(VLOOKUP('USER INPUTS'!$B$28,DEFAULTS!$E$8:$F$69,2,FALSE))/10^6*(1/($D$5/100))))))),0,METHANE!$J84*DEFAULTS!$B$83*(IF('USER INPUTS'!$B$28=\"Total landfill gas\",(1/($D$5/100)),IF('USER INPUTS'!$B$28=\"Methane\",1,IF('USER INPUTS'!$B$28=\"Carbon dioxide\",((1/($D$5/100))-1),(VLOOKUP('USER INPUTS'!$B$28,DEFAULTS!$E$8:$F$69,2,FALSE))/10^6*(1/($D$5/100)))))))","v":0},{"$f":"IF(ISERROR(METHANE!$J84*(IF('USER INPUTS'!$B$28=\"Total landfill gas\",(1/($D$5/100)),IF('USER INPUTS'!$B$28=\"Methane\",1,IF('USER INPUTS'!$B$28=\"Carbon dioxide\",((1/($D$5/100))-1),(VLOOKUP('USER INPUTS'!$B$28,DEFAULTS!$E$8:$F$69,2,FALSE))/10^6*(1/($D$5/100))))))),0,METHANE!$J84*(IF('USER INPUTS'!$B$28=\"Total landfill gas\",(1/($D$5/100)),IF('USER INPUTS'!$B$28=\"Methane\",1,IF('USER INPUTS'!$B$28=\"Carbon dioxide\",((1/($D$5/100))-1),(VLOOKUP('USER INPUTS'!$B$28,DEFAULTS!$E$8:$F$69,2,FALSE))/10^6*(1/($D$5/100)))))))","v":0},{"$f":"IF(N$8=\"(short tons/year)\",(L70*DEFAULTS!$B$55*DEFAULTS!$B$53/DEFAULTS!$B$54),IF(N$8=\"(ft^3/year)\",(M70*DEFAULTS!$B$57),IF(N$8=\"(av ft^3/min)\",(M70*DEFAULTS!$B$57/DEFAULTS!$B$58),0)))","v":0},{"$f":"IF(ISERROR(METHANE!$J84*DEFAULTS!$B$84*(IF('USER INPUTS'!$B$30=\"Total landfill gas\",(1/($D$5/100)),IF('USER INPUTS'!$B$30=\"Methane\",1,IF('USER INPUTS'!$B$30=\"Carbon dioxide\",((1/($D$5/100))-1),(VLOOKUP('USER INPUTS'!$B$30,DEFAULTS!$E$8:$F$69,2,FALSE))/10^6*(1/($D$5/100))))))),0,METHANE!$J84*DEFAULTS!$B$84*(IF('USER INPUTS'!$B$30=\"Total landfill gas\",(1/($D$5/100)),IF('USER INPUTS'!$B$30=\"Methane\",1,IF('USER INPUTS'!$B$30=\"Carbon dioxide\",((1/($D$5/100))-1),(VLOOKUP('USER INPUTS'!$B$30,DEFAULTS!$E$8:$F$69,2,FALSE))/10^6*(1/($D$5/100)))))))","v":0},{"$f":"IF(ISERROR(METHANE!$J84*(IF('USER INPUTS'!$B$30=\"Total landfill gas\",(1/($D$5/100)),IF('USER INPUTS'!$B$30=\"Methane\",1,IF('USER INPUTS'!$B$30=\"Carbon dioxide\",((1/($D$5/100))-1),(VLOOKUP('USER INPUTS'!$B$30,DEFAULTS!$E$8:$F$69,2,FALSE))/10^6*(1/($D$5/100))))))),0,METHANE!$J84*(IF('USER INPUTS'!$B$30=\"Total landfill gas\",(1/($D$5/100)),IF('USER INPUTS'!$B$30=\"Methane\",1,IF('USER INPUTS'!$B$30=\"Carbon dioxide\",((1/($D$5/100))-1),(VLOOKUP('USER INPUTS'!$B$30,DEFAULTS!$E$8:$F$69,2,FALSE))/10^6*(1/($D$5/100)))))))","v":0},{"$f":"IF(Q$8=\"(short tons/year)\",(O70*DEFAULTS!$B$55*DEFAULTS!$B$53/DEFAULTS!$B$54),IF(Q$8=\"(ft^3/year)\",(P70*DEFAULTS!$B$57),IF(Q$8=\"(av ft^3/min)\",(P70*DEFAULTS!$B$57/DEFAULTS!$B$58),0)))","v":0}]
[{"$f":"METHANE!I85","v":62},{"$f":"IF(METHANE!E85>0,METHANE!E85,0)","v":0},{"$f":"IF(METHANE!E85>0,METHANE!E85*DEFAULTS!$B$55*DEFAULTS!$B$53/DEFAULTS!$B$54,0)","v":0},{"$f":"IF(METHANE!F85>0,METHANE!F85,0)","v":0},{"$f":"IF(METHANE!F85>0,METHANE!F85*DEFAULTS!$B$55*DEFAULTS!$B$53/DEFAULTS!$B$54,0)","v":0},{"$f":"IF(ISERROR(METHANE!$J85*DEFAULTS!$B$81*(IF('USER INPUTS'!$B$24=\"Total landfill gas\",(1/($D$5/100)),IF('USER INPUTS'!$B$24=\"Methane\",1,IF('USER INPUTS'!$B$24=\"Carbon dioxide\",((1/($D$5/100))-1),(VLOOKUP('USER INPUTS'!$B$24,DEFAULTS!$E$8:$F$69,2,FALSE))/10^6*(1/($D$5/100))))))),0,METHANE!$J85*DEFAULTS!$B$81*(IF('USER INPUTS'!$B$24=\"Total landfill gas\",(1/($D$5/100)),IF('USER INPUTS'!$B$24=\"Methane\",1,IF('USER INPUTS'!$B$24=\"Carbon dioxide\",((1/($D$5/100))-1),(VLOOKUP('USER INPUTS'!$B$24,DEFAULTS!$E$8:$F$69,2,FALSE))/10^6*(1/($D$5/100)))))))","v":0},{"$f":"IF(ISERROR(METHANE!$J85*(IF('USER INPUTS'!$B$24=\"Total landfill gas\",(1/($D$5/100)),IF('USER INPUTS'!$B$24=\"Methane\",1,IF('USER INPUTS'!$B$24=\"Carbon dioxide\",((1/($D$5/100))-1),(VLOOKUP('USER INPUTS'!$B$24,DEFAULTS!$E$8:$F$69,2,FALSE))/10^6*(1/($D$5/100))))))),0,METHANE!$J85*(IF('USER INPUTS'!$B$24=\"Total landfill gas\",(1/($D$5/100)),IF('USER INPUTS'!$B$24=\"Methane\",1,IF('USER INPUTS'!$B$24=\"Carbon dioxide\",((1/($D$5/100))-1),(VLOOKUP('USER INPUTS'!$B$24,DEFAULTS!$E$8:$F$69,2,FALSE))/10^6*(1/($D$5/100)))))))","v":0},{"$f":"IF(H$8=\"(short tons/year)\",(F71*DEFAULTS!$B$55*DEFAULTS!$B$53/DEFAULTS!$B$54),IF(H$8=\"(ft^3/year)\",(G71*DEFAULTS!$B$57),IF(H$8=\"(av ft^3/min)\",(G71*DEFAULTS!$B$57/DEFAULTS!$B$58),0)))","v":0},{"$f":"IF(ISERROR(METHANE!$J85*DEFAULTS!$B$82*(IF('USER INPUTS'!$B$26=\"Total landfill gas\",(1/($D$5/100)),IF('USER INPUTS'!$B$26=\"Methane\",1,IF('USER INPUTS'!$B$26=\"Carbon dioxide\",((1/($D$5/100))-1),(VLOOKUP('USER INPUTS'!$B$26,DEFAULTS!$E$8:$F$69,2,FALSE))/10^6*(1/($D$5/100))))))),0,METHANE!$J85*DEFAULTS!$B$82*(IF('USER INPUTS'!$B$26=\"Total landfill gas\",(1/($D$5/100)),IF('USER INPUTS'!$B$26=\"Methane\",1,IF('USER INPUTS'!$B$26=\"Carbon dioxide\",((1/($D$5/100))-1),(VLOOKUP('USER INPUTS'!$B$26,DEFAULTS!$E$8:$F$69,2,FALSE))/10^6*(1/($D$5/100)))))))","v":0},{"$f":"IF(ISERROR(METHANE!$J85*(IF('USER INPUTS'!$B$26=\"Total landfill gas\",(1/($D$5/100)),IF('USER INPUTS'!$B$26=\"Methane\",1,IF('USER INPUTS'!$B$26=\"Carbon dioxide\",((1/($D$5/100))-1),(VLOOKUP('USER INPUTS'!$B$26,DEFAULTS!$E$8:$F$69,2,FALSE))/10^6*(1/($D$5/100))))))),0,METHANE!$J85*(IF('USER INPUTS'!$B$26=\"Total landfill gas\",(1/($D$5/100)),IF('USER INPUTS'!$B$26=\"Methane\",1,IF('USER INPUTS'!$B$26=\"Carbon dioxide\",((1/($D$5/100))-1),(VLOOKUP('USER INPUTS'!$B$26,DEFAULTS!$E$8:$F$69,2,FALSE))/10^6*(1/($D$5/100)))))))","v":0},{"$f":"IF(K$8=\"(short tons/year)\",(I71*DEFAULTS!$B$55*DEFAULTS!$B$53/DEFAULTS!$B$54),IF(K$8=\"(ft^3/year)\",(J71*DEFAULTS!$B$57),IF(K$8=\"(av ft^3/min)\",(J71*DEFAULTS!$B$57/DEFAULTS!$B$58),0)))","v":0},{"$f":"IF(ISERROR(METHANE!$J85*DEFAULTS!$B$83*(IF('USER INPUTS'!$B$28=\"Total landfill gas\",(1/($D$5/100)),IF('USER INPUTS'!$B$28=\"Methane\",1,IF('USER INPUTS'!$B$28=\"Carbon dioxide\",((1/($D$5/100))-1),(VLOOKUP('USER INPUTS'!$B$28,DEFAULTS!$E$8:$F$69,2,FALSE))/10^6*(1/($D$5/100))))))),0,METHANE!$J85*DEFAULTS!$B$83*(IF('USER INPUTS'!$B$28=\"Total landfill gas\",(1/($D$5/100)),IF('USER INPUTS'!$B$28=\"Methane\",1,IF('USER INPUTS'!$B$28=\"Carbon dioxide\",((1/($D$5/100))-1),(VLOOKUP('USER INPUTS'!$B$28,DEFAULTS!$E$8:$F$69,2,FALSE))/10^6*(1/($D$5/100)))))))","v":0},{"$f":"IF(ISERROR(METHANE!$J85*(IF('USER INPUTS'!$B$28=\"Total landfill gas\",(1/($D$5/100)),IF('USER INPUTS'!$B$28=\"Methane\",1,IF('USER INPUTS'!$B$28=\"Carbon dioxide\",((1/($D$5/100))-1),(VLOOKUP('USER INPUTS'!$B$28,DEFAULTS!$E$8:$F$69,2,FALSE))/10^6*(1/($D$5/100))))))),0,METHANE!$J85*(IF('USER INPUTS'!$B$28=\"Total landfill gas\",(1/($D$5/100)),IF('USER INPUTS'!$B$28=\"Methane\",1,IF('USER INPUTS'!$B$28=\"Carbon dioxide\",((1/($D$5/100))-1),(VLOOKUP('USER INPUTS'!$B$28,DEFAULTS!$E$8:$F$69,2,FALSE))/10^6*(1/($D$5/100)))))))","v":0},{"$f":"IF(N$8=\"(short tons/year)\",(L71*DEFAULTS!$B$55*DEFAULTS!$B$53/DEFAULTS!$B$54),IF(N$8=\"(ft^3/year)\",(M71*DEFAULTS!$B$57),IF(N$8=\"(av ft^3/min)\",(M71*DEFAULTS!$B$57/DEFAULTS!$B$58),0)))","v":0},{"$f":"IF(ISERROR(METHANE!$J85*DEFAULTS!$B$84*(IF('USER INPUTS'!$B$30=\"Total landfill gas\",(1/($D$5/100)),IF('USER INPUTS'!$B$30=\"Methane\",1,IF('USER INPUTS'!$B$30=\"Carbon dioxide\",((1/($D$5/100))-1),(VLOOKUP('USER INPUTS'!$B$30,DEFAULTS!$E$8:$F$69,2,FALSE))/10^6*(1/($D$5/100))))))),0,METHANE!$J85*DEFAULTS!$B$84*(IF('USER INPUTS'!$B$30=\"Total landfill gas\",(1/($D$5/100)),IF('USER INPUTS'!$B$30=\"Methane\",1,IF('USER INPUTS'!$B$30=\"Carbon dioxide\",((1/($D$5/100))-1),(VLOOKUP('USER INPUTS'!$B$30,DEFAULTS!$E$8:$F$69,2,FALSE))/10^6*(1/($D$5/100)))))))","v":0},{"$f":"IF(ISERROR(METHANE!$J85*(IF('USER INPUTS'!$B$30=\"Total landfill gas\",(1/($D$5/100)),IF('USER INPUTS'!$B$30=\"Methane\",1,IF('USER INPUTS'!$B$30=\"Carbon dioxide\",((1/($D$5/100))-1),(VLOOKUP('USER INPUTS'!$B$30,DEFAULTS!$E$8:$F$69,2,FALSE))/10^6*(1/($D$5/100))))))),0,METHANE!$J85*(IF('USER INPUTS'!$B$30=\"Total landfill gas\",(1/($D$5/100)),IF('USER INPUTS'!$B$30=\"Methane\",1,IF('USER INPUTS'!$B$30=\"Carbon dioxide\",((1/($D$5/100))-1),(VLOOKUP('USER INPUTS'!$B$30,DEFAULTS!$E$8:$F$69,2,FALSE))/10^6*(1/($D$5/100)))))))","v":0},{"$f":"IF(Q$8=\"(short tons/year)\",(O71*DEFAULTS!$B$55*DEFAULTS!$B$53/DEFAULTS!$B$54),IF(Q$8=\"(ft^3/year)\",(P71*DEFAULTS!$B$57),IF(Q$8=\"(av ft^3/min)\",(P71*DEFAULTS!$B$57/DEFAULTS!$B$58),0)))","v":0}]
[{"$f":"METHANE!I86","v":63},{"$f":"IF(METHANE!E86>0,METHANE!E86,0)","v":0},{"$f":"IF(METHANE!E86>0,METHANE!E86*DEFAULTS!$B$55*DEFAULTS!$B$53/DEFAULTS!$B$54,0)","v":0},{"$f":"IF(METHANE!F86>0,METHANE!F86,0)","v":0},{"$f":"IF(METHANE!F86>0,METHANE!F86*DEFAULTS!$B$55*DEFAULTS!$B$53/DEFAULTS!$B$54,0)","v":0},{"$f":"IF(ISERROR(METHANE!$J86*DEFAULTS!$B$81*(IF('USER INPUTS'!$B$24=\"Total landfill gas\",(1/($D$5/100)),IF('USER INPUTS'!$B$24=\"Methane\",1,IF('USER INPUTS'!$B$24=\"Carbon dioxide\",((1/($D$5/100))-1),(VLOOKUP('USER INPUTS'!$B$24,DEFAULTS!$E$8:$F$69,2,FALSE))/10^6*(1/($D$5/100))))))),0,METHANE!$J86*DEFAULTS!$B$81*(IF('USER INPUTS'!$B$24=\"Total landfill gas\",(1/($D$5/100)),IF('USER INPUTS'!$B$24=\"Methane\",1,IF('USER INPUTS'!$B$24=\"Carbon dioxide\",((1/($D$5/100))-1),(VLOOKUP('USER INPUTS'!$B$24,DEFAULTS!$E$8:$F$69,2,FALSE))/10^6*(1/($D$5/100)))))))","v":0},{"$f":"IF(ISERROR(METHANE!$J86*(IF('USER INPUTS'!$B$24=\"Total landfill gas\",(1/($D$5/100)),IF('USER INPUTS'!$B$24=\"Methane\",1,IF('USER INPUTS'!$B$24=\"Carbon dioxide\",((1/($D$5/100))-1),(VLOOKUP('USER INPUTS'!$B$24,DEFAULTS!$E$8:$F$69,2,FALSE))/10^6*(1/($D$5/100))))))),0,METHANE!$J86*(IF('USER INPUTS'!$B$24=\"Total landfill gas\",(1/($D$5/100)),IF('USER INPUTS'!$B$24=\"Methane\",1,IF('USER INPUTS'!$B$24=\"Carbon dioxide\",((1/($D$5/100))-1),(VLOOKUP('USER INPUTS'!$B$24,DEFAULTS!$E$8:$F$69,2,FALSE))/10^6*(1/($D$5/100)))))))","v":0},{"$f":"IF(H$8=\"(short tons/year)\",(F72*DEFAULTS!$B$55*DEFAULTS!$B$53/DEFAULTS!$B$54),IF(H$8=\"(ft^3/year)\",(G72*DEFAULTS!$B$57),IF(H$8=\"(av ft^3/min)\",(G72*DEFAULTS!$B$57/DEFAULTS!$B$58),0)))","v":0},{"$f":"IF(ISERROR(METHANE!$J86*DEFAULTS!$B$82*(IF('USER INPUTS'!$B$26=\"Total landfill gas\",(1/($D$5/100)),IF('USER INPUTS'!$B$26=\"Methane\",1,IF('USER INPUTS'!$B$26=\"Carbon dioxide\",((1/($D$5/100))-1),(VLOOKUP('USER INPUTS'!$B$26,DEFAULTS!$E$8:$F$69,2,FALSE))/10^6*(1/($D$5/100))))))),0,METHANE!$J86*DEFAULTS!$B$82*(IF('USER INPUTS'!$B$26=\"Total landfill gas\",(1/($D$5/100)),IF('USER INPUTS'!$B$26=\"Methane\",1,IF('USER INPUTS'!$B$26=\"Carbon dioxide\",((1/($D$5/100))-1),(VLOOKUP('USER INPUTS'!$B$26,DEFAULTS!$E$8:$F$69,2,FALSE))/10^6*(1/($D$5/100)))))))","v":0},{"$f":"IF(ISERROR(METHANE!$J86*(IF('USER INPUTS'!$B$26=\"Total landfill gas\",(1/($D$5/100)),IF('USER INPUTS'!$B$26=\"Methane\",1,IF('USER INPUTS'!$B$26=\"Carbon dioxide\",((1/($D$5/100))-1),(VLOOKUP('USER INPUTS'!$B$26,DEFAULTS!$E$8:$F$69,2,FALSE))/10^6*(1/($D$5/100))))))),0,METHANE!$J86*(IF('USER INPUTS'!$B$26=\"Total landfill gas\",(1/($D$5/100)),IF('USER INPUTS'!$B$26=\"Methane\",1,IF('USER INPUTS'!$B$26=\"Carbon dioxide\",((1/($D$5/100))-1),(VLOOKUP('USER INPUTS'!$B$26,DEFAULTS!$E$8:$F$69,2,FALSE))/10^6*(1/($D$5/100)))))))","v":0},{"$f":"IF(K$8=\"(short tons/year)\",(I72*DEFAULTS!$B$55*DEFAULTS!$B$53/DEFAULTS!$B$54),IF(K$8=\"(ft^3/year)\",(J72*DEFAULTS!$B$57),IF(K$8=\"(av ft^3/min)\",(J72*DEFAULTS!$B$57/DEFAULTS!$B$58),0)))","v":0},{"$f":"IF(ISERROR(METHANE!$J86*DEFAULTS!$B$83*(IF('USER INPUTS'!$B$28=\"Total landfill gas\",(1/($D$5/100)),IF('USER INPUTS'!$B$28=\"Methane\",1,IF('USER INPUTS'!$B$28=\"Carbon dioxide\",((1/($D$5/100))-1),(VLOOKUP('USER INPUTS'!$B$28,DEFAULTS!$E$8:$F$69,2,FALSE))/10^6*(1/($D$5/100))))))),0,METHANE!$J86*DEFAULTS!$B$83*(IF('USER INPUTS'!$B$28=\"Total landfill gas\",(1/($D$5/100)),IF('USER INPUTS'!$B$28=\"Methane\",1,IF('USER INPUTS'!$B$28=\"Carbon dioxide\",((1/($D$5/100))-1),(VLOOKUP('USER INPUTS'!$B$28,DEFAULTS!$E$8:$F$69,2,FALSE))/10^6*(1/($D$5/100)))))))","v":0},{"$f":"IF(ISERROR(METHANE!$J86*(IF('USER INPUTS'!$B$28=\"Total landfill gas\",(1/($D$5/100)),IF('USER INPUTS'!$B$28=\"Methane\",1,IF('USER INPUTS'!$B$28=\"Carbon dioxide\",((1/($D$5/100))-1),(VLOOKUP('USER INPUTS'!$B$28,DEFAULTS!$E$8:$F$69,2,FALSE))/10^6*(1/($D$5/100))))))),0,METHANE!$J86*(IF('USER INPUTS'!$B$28=\"Total landfill gas\",(1/($D$5/100)),IF('USER INPUTS'!$B$28=\"Methane\",1,IF('USER INPUTS'!$B$28=\"Carbon dioxide\",((1/($D$5/100))-1),(VLOOKUP('USER INPUTS'!$B$28,DEFAULTS!$E$8:$F$69,2,FALSE))/10^6*(1/($D$5/100)))))))","v":0},{"$f":"IF(N$8=\"(short tons/year)\",(L72*DEFAULTS!$B$55*DEFAULTS!$B$53/DEFAULTS!$B$54),IF(N$8=\"(ft^3/year)\",(M72*DEFAULTS!$B$57),IF(N$8=\"(av ft^3/min)\",(M72*DEFAULTS!$B$57/DEFAULTS!$B$58),0)))","v":0},{"$f":"IF(ISERROR(METHANE!$J86*DEFAULTS!$B$84*(IF('USER INPUTS'!$B$30=\"Total landfill gas\",(1/($D$5/100)),IF('USER INPUTS'!$B$30=\"Methane\",1,IF('USER INPUTS'!$B$30=\"Carbon dioxide\",((1/($D$5/100))-1),(VLOOKUP('USER INPUTS'!$B$30,DEFAULTS!$E$8:$F$69,2,FALSE))/10^6*(1/($D$5/100))))))),0,METHANE!$J86*DEFAULTS!$B$84*(IF('USER INPUTS'!$B$30=\"Total landfill gas\",(1/($D$5/100)),IF('USER INPUTS'!$B$30=\"Methane\",1,IF('USER INPUTS'!$B$30=\"Carbon dioxide\",((1/($D$5/100))-1),(VLOOKUP('USER INPUTS'!$B$30,DEFAULTS!$E$8:$F$69,2,FALSE))/10^6*(1/($D$5/100)))))))","v":0},{"$f":"IF(ISERROR(METHANE!$J86*(IF('USER INPUTS'!$B$30=\"Total landfill gas\",(1/($D$5/100)),IF('USER INPUTS'!$B$30=\"Methane\",1,IF('USER INPUTS'!$B$30=\"Carbon dioxide\",((1/($D$5/100))-1),(VLOOKUP('USER INPUTS'!$B$30,DEFAULTS!$E$8:$F$69,2,FALSE))/10^6*(1/($D$5/100))))))),0,METHANE!$J86*(IF('USER INPUTS'!$B$30=\"Total landfill gas\",(1/($D$5/100)),IF('USER INPUTS'!$B$30=\"Methane\",1,IF('USER INPUTS'!$B$30=\"Carbon dioxide\",((1/($D$5/100))-1),(VLOOKUP('USER INPUTS'!$B$30,DEFAULTS!$E$8:$F$69,2,FALSE))/10^6*(1/($D$5/100)))))))","v":0},{"$f":"IF(Q$8=\"(short tons/year)\",(O72*DEFAULTS!$B$55*DEFAULTS!$B$53/DEFAULTS!$B$54),IF(Q$8=\"(ft^3/year)\",(P72*DEFAULTS!$B$57),IF(Q$8=\"(av ft^3/min)\",(P72*DEFAULTS!$B$57/DEFAULTS!$B$58),0)))","v":0}]
[{"$f":"METHANE!I87","v":64},{"$f":"IF(METHANE!E87>0,METHANE!E87,0)","v":0},{"$f":"IF(METHANE!E87>0,METHANE!E87*DEFAULTS!$B$55*DEFAULTS!$B$53/DEFAULTS!$B$54,0)","v":0},{"$f":"IF(METHANE!F87>0,METHANE!F87,0)","v":0},{"$f":"IF(METHANE!F87>0,METHANE!F87*DEFAULTS!$B$55*DEFAULTS!$B$53/DEFAULTS!$B$54,0)","v":0},{"$f":"IF(ISERROR(METHANE!$J87*DEFAULTS!$B$81*(IF('USER INPUTS'!$B$24=\"Total landfill gas\",(1/($D$5/100)),IF('USER INPUTS'!$B$24=\"Methane\",1,IF('USER INPUTS'!$B$24=\"Carbon dioxide\",((1/($D$5/100))-1),(VLOOKUP('USER INPUTS'!$B$24,DEFAULTS!$E$8:$F$69,2,FALSE))/10^6*(1/($D$5/100))))))),0,METHANE!$J87*DEFAULTS!$B$81*(IF('USER INPUTS'!$B$24=\"Total landfill gas\",(1/($D$5/100)),IF('USER INPUTS'!$B$24=\"Methane\",1,IF('USER INPUTS'!$B$24=\"Carbon dioxide\",((1/($D$5/100))-1),(VLOOKUP('USER INPUTS'!$B$24,DEFAULTS!$E$8:$F$69,2,FALSE))/10^6*(1/($D$5/100)))))))","v":0},{"$f":"IF(ISERROR(METHANE!$J87*(IF('USER INPUTS'!$B$24=\"Total landfill gas\",(1/($D$5/100)),IF('USER INPUTS'!$B$24=\"Methane\",1,IF('USER INPUTS'!$B$24=\"Carbon dioxide\",((1/($D$5/100))-1),(VLOOKUP('USER INPUTS'!$B$24,DEFAULTS!$E$8:$F$69,2,FALSE))/10^6*(1/($D$5/100))))))),0,METHANE!$J87*(IF('USER INPUTS'!$B$24=\"Total landfill gas\",(1/($D$5/100)),IF('USER INPUTS'!$B$24=\"Methane\",1,IF('USER INPUTS'!$B$24=\"Carbon dioxide\",((1/($D$5/100))-1),(VLOOKUP('USER INPUTS'!$B$24,DEFAULTS!$E$8:$F$69,2,FALSE))/10^6*(1/($D$5/100)))))))","v":0},{"$f":"IF(H$8=\"(short tons/year)\",(F73*DEFAULTS!$B$55*DEFAULTS!$B$53/DEFAULTS!$B$54),IF(H$8=\"(ft^3/year)\",(G73*DEFAULTS!$B$57),IF(H$8=\"(av ft^3/min)\",(G73*DEFAULTS!$B$57/DEFAULTS!$B$58),0)))","v":0},{"$f":"IF(ISERROR(METHANE!$J87*DEFAULTS!$B$82*(IF('USER INPUTS'!$B$26=\"Total landfill gas\",(1/($D$5/100)),IF('USER INPUTS'!$B$26=\"Methane\",1,IF('USER INPUTS'!$B$26=\"Carbon dioxide\",((1/($D$5/100))-1),(VLOOKUP('USER INPUTS'!$B$26,DEFAULTS!$E$8:$F$69,2,FALSE))/10^6*(1/($D$5/100))))))),0,METHANE!$J87*DEFAULTS!$B$82*(IF('USER INPUTS'!$B$26=\"Total landfill gas\",(1/($D$5/100)),IF('USER INPUTS'!$B$26=\"Methane\",1,IF('USER INPUTS'!$B$26=\"Carbon dioxide\",((1/($D$5/100))-1),(VLOOKUP('USER INPUTS'!$B$26,DEFAULTS!$E$8:$F$69,2,FALSE))/10^6*(1/($D$5/100)))))))","v":0},{"$f":"IF(ISERROR(METHANE!$J87*(IF('USER INPUTS'!$B$26=\"Total landfill gas\",(1/($D$5/100)),IF('USER INPUTS'!$B$26=\"Methane\",1,IF('USER INPUTS'!$B$26=\"Carbon dioxide\",((1/($D$5/100))-1),(VLOOKUP('USER INPUTS'!$B$26,DEFAULTS!$E$8:$F$69,2,FALSE))/10^6*(1/($D$5/100))))))),0,METHANE!$J87*(IF('USER INPUTS'!$B$26=\"Total landfill gas\",(1/($D$5/100)),IF('USER INPUTS'!$B$26=\"Methane\",1,IF('USER INPUTS'!$B$26=\"Carbon dioxide\",((1/($D$5/100))-1),(VLOOKUP('USER INPUTS'!$B$26,DEFAULTS!$E$8:$F$69,2,FALSE))/10^6*(1/($D$5/100)))))))","v":0},{"$f":"IF(K$8=\"(short tons/year)\",(I73*DEFAULTS!$B$55*DEFAULTS!$B$53/DEFAULTS!$B$54),IF(K$8=\"(ft^3/year)\",(J73*DEFAULTS!$B$57),IF(K$8=\"(av ft^3/min)\",(J73*DEFAULTS!$B$57/DEFAULTS!$B$58),0)))","v":0},{"$f":"IF(ISERROR(METHANE!$J87*DEFAULTS!$B$83*(IF('USER INPUTS'!$B$28=\"Total landfill gas\",(1/($D$5/100)),IF('USER INPUTS'!$B$28=\"Methane\",1,IF('USER INPUTS'!$B$28=\"Carbon dioxide\",((1/($D$5/100))-1),(VLOOKUP('USER INPUTS'!$B$28,DEFAULTS!$E$8:$F$69,2,FALSE))/10^6*(1/($D$5/100))))))),0,METHANE!$J87*DEFAULTS!$B$83*(IF('USER INPUTS'!$B$28=\"Total landfill gas\",(1/($D$5/100)),IF('USER INPUTS'!$B$28=\"Methane\",1,IF('USER INPUTS'!$B$28=\"Carbon dioxide\",((1/($D$5/100))-1),(VLOOKUP('USER INPUTS'!$B$28,DEFAULTS!$E$8:$F$69,2,FALSE))/10^6*(1/($D$5/100)))))))","v":0},{"$f":"IF(ISERROR(METHANE!$J87*(IF('USER INPUTS'!$B$28=\"Total landfill gas\",(1/($D$5/100)),IF('USER INPUTS'!$B$28=\"Methane\",1,IF('USER INPUTS'!$B$28=\"Carbon dioxide\",((1/($D$5/100))-1),(VLOOKUP('USER INPUTS'!$B$28,DEFAULTS!$E$8:$F$69,2,FALSE))/10^6*(1/($D$5/100))))))),0,METHANE!$J87*(IF('USER INPUTS'!$B$28=\"Total landfill gas\",(1/($D$5/100)),IF('USER INPUTS'!$B$28=\"Methane\",1,IF('USER INPUTS'!$B$28=\"Carbon dioxide\",((1/($D$5/100))-1),(VLOOKUP('USER INPUTS'!$B$28,DEFAULTS!$E$8:$F$69,2,FALSE))/10^6*(1/($D$5/100)))))))","v":0},{"$f":"IF(N$8=\"(short tons/year)\",(L73*DEFAULTS!$B$55*DEFAULTS!$B$53/DEFAULTS!$B$54),IF(N$8=\"(ft^3/year)\",(M73*DEFAULTS!$B$57),IF(N$8=\"(av ft^3/min)\",(M73*DEFAULTS!$B$57/DEFAULTS!$B$58),0)))","v":0},{"$f":"IF(ISERROR(METHANE!$J87*DEFAULTS!$B$84*(IF('USER INPUTS'!$B$30=\"Total landfill gas\",(1/($D$5/100)),IF('USER INPUTS'!$B$30=\"Methane\",1,IF('USER INPUTS'!$B$30=\"Carbon dioxide\",((1/($D$5/100))-1),(VLOOKUP('USER INPUTS'!$B$30,DEFAULTS!$E$8:$F$69,2,FALSE))/10^6*(1/($D$5/100))))))),0,METHANE!$J87*DEFAULTS!$B$84*(IF('USER INPUTS'!$B$30=\"Total landfill gas\",(1/($D$5/100)),IF('USER INPUTS'!$B$30=\"Methane\",1,IF('USER INPUTS'!$B$30=\"Carbon dioxide\",((1/($D$5/100))-1),(VLOOKUP('USER INPUTS'!$B$30,DEFAULTS!$E$8:$F$69,2,FALSE))/10^6*(1/($D$5/100)))))))","v":0},{"$f":"IF(ISERROR(METHANE!$J87*(IF('USER INPUTS'!$B$30=\"Total landfill gas\",(1/($D$5/100)),IF('USER INPUTS'!$B$30=\"Methane\",1,IF('USER INPUTS'!$B$30=\"Carbon dioxide\",((1/($D$5/100))-1),(VLOOKUP('USER INPUTS'!$B$30,DEFAULTS!$E$8:$F$69,2,FALSE))/10^6*(1/($D$5/100))))))),0,METHANE!$J87*(IF('USER INPUTS'!$B$30=\"Total landfill gas\",(1/($D$5/100)),IF('USER INPUTS'!$B$30=\"Methane\",1,IF('USER INPUTS'!$B$30=\"Carbon dioxide\",((1/($D$5/100))-1),(VLOOKUP('USER INPUTS'!$B$30,DEFAULTS!$E$8:$F$69,2,FALSE))/10^6*(1/($D$5/100)))))))","v":0},{"$f":"IF(Q$8=\"(short tons/year)\",(O73*DEFAULTS!$B$55*DEFAULTS!$B$53/DEFAULTS!$B$54),IF(Q$8=\"(ft^3/year)\",(P73*DEFAULTS!$B$57),IF(Q$8=\"(av ft^3/min)\",(P73*DEFAULTS!$B$57/DEFAULTS!$B$58),0)))","v":0}]
[{"$f":"METHANE!I88","v":65},{"$f":"IF(METHANE!E88>0,METHANE!E88,0)","v":0},{"$f":"IF(METHANE!E88>0,METHANE!E88*DEFAULTS!$B$55*DEFAULTS!$B$53/DEFAULTS!$B$54,0)","v":0},{"$f":"IF(METHANE!F88>0,METHANE!F88,0)","v":0},{"$f":"IF(METHANE!F88>0,METHANE!F88*DEFAULTS!$B$55*DEFAULTS!$B$53/DEFAULTS!$B$54,0)","v":0},{"$f":"IF(ISERROR(METHANE!$J88*DEFAULTS!$B$81*(IF('USER INPUTS'!$B$24=\"Total landfill gas\",(1/($D$5/100)),IF('USER INPUTS'!$B$24=\"Methane\",1,IF('USER INPUTS'!$B$24=\"Carbon dioxide\",((1/($D$5/100))-1),(VLOOKUP('USER INPUTS'!$B$24,DEFAULTS!$E$8:$F$69,2,FALSE))/10^6*(1/($D$5/100))))))),0,METHANE!$J88*DEFAULTS!$B$81*(IF('USER INPUTS'!$B$24=\"Total landfill gas\",(1/($D$5/100)),IF('USER INPUTS'!$B$24=\"Methane\",1,IF('USER INPUTS'!$B$24=\"Carbon dioxide\",((1/($D$5/100))-1),(VLOOKUP('USER INPUTS'!$B$24,DEFAULTS!$E$8:$F$69,2,FALSE))/10^6*(1/($D$5/100)))))))","v":0},{"$f":"IF(ISERROR(METHANE!$J88*(IF('USER INPUTS'!$B$24=\"Total landfill gas\",(1/($D$5/100)),IF('USER INPUTS'!$B$24=\"Methane\",1,IF('USER INPUTS'!$B$24=\"Carbon dioxide\",((1/($D$5/100))-1),(VLOOKUP('USER INPUTS'!$B$24,DEFAULTS!$E$8:$F$69,2,FALSE))/10^6*(1/($D$5/100))))))),0,METHANE!$J88*(IF('USER INPUTS'!$B$24=\"Total landfill gas\",(1/($D$5/100)),IF('USER INPUTS'!$B$24=\"Methane\",1,IF('USER INPUTS'!$B$24=\"Carbon dioxide\",((1/($D$5/100))-1),(VLOOKUP('USER INPUTS'!$B$24,DEFAULTS!$E$8:$F$69,2,FALSE))/10^6*(1/($D$5/100)))))))","v":0},{"$f":"IF(H$8=\"(short tons/year)\",(F74*DEFAULTS!$B$55*DEFAULTS!$B$53/DEFAULTS!$B$54),IF(H$8=\"(ft^3/year)\",(G74*DEFAULTS!$B$57),IF(H$8=\"(av ft^3/min)\",(G74*DEFAULTS!$B$57/DEFAULTS!$B$58),0)))","v":0},{"$f":"IF(ISERROR(METHANE!$J88*DEFAULTS!$B$82*(IF('USER INPUTS'!$B$26=\"Total landfill gas\",(1/($D$5/100)),IF('USER INPUTS'!$B$26=\"Methane\",1,IF('USER INPUTS'!$B$26=\"Carbon dioxide\",((1/($D$5/100))-1),(VLOOKUP('USER INPUTS'!$B$26,DEFAULTS!$E$8:$F$69,2,FALSE))/10^6*(1/($D$5/100))))))),0,METHANE!$J88*DEFAULTS!$B$82*(IF('USER INPUTS'!$B$26=\"Total landfill gas\",(1/($D$5/100)),IF('USER INPUTS'!$B$26=\"Methane\",1,IF('USER INPUTS'!$B$26=\"Carbon dioxide\",((1/($D$5/100))-1),(VLOOKUP('USER INPUTS'!$B$26,DEFAULTS!$E$8:$F$69,2,FALSE))/10^6*(1/($D$5/100)))))))","v":0},{"$f":"IF(ISERROR(METHANE!$J88*(IF('USER INPUTS'!$B$26=\"Total landfill gas\",(1/($D$5/100)),IF('USER INPUTS'!$B$26=\"Methane\",1,IF('USER INPUTS'!$B$26=\"Carbon dioxide\",((1/($D$5/100))-1),(VLOOKUP('USER INPUTS'!$B$26,DEFAULTS!$E$8:$F$69,2,FALSE))/10^6*(1/($D$5/100))))))),0,METHANE!$J88*(IF('USER INPUTS'!$B$26=\"Total landfill gas\",(1/($D$5/100)),IF('USER INPUTS'!$B$26=\"Methane\",1,IF('USER INPUTS'!$B$26=\"Carbon dioxide\",((1/($D$5/100))-1),(VLOOKUP('USER INPUTS'!$B$26,DEFAULTS!$E$8:$F$69,2,FALSE))/10^6*(1/($D$5/100)))))))","v":0},{"$f":"IF(K$8=\"(short tons/year)\",(I74*DEFAULTS!$B$55*DEFAULTS!$B$53/DEFAULTS!$B$54),IF(K$8=\"(ft^3/year)\",(J74*DEFAULTS!$B$57),IF(K$8=\"(av ft^3/min)\",(J74*DEFAULTS!$B$57/DEFAULTS!$B$58),0)))","v":0},{"$f":"IF(ISERROR(METHANE!$J88*DEFAULTS!$B$83*(IF('USER INPUTS'!$B$28=\"Total landfill gas\",(1/($D$5/100)),IF('USER INPUTS'!$B$28=\"Methane\",1,IF('USER INPUTS'!$B$28=\"Carbon dioxide\",((1/($D$5/100))-1),(VLOOKUP('USER INPUTS'!$B$28,DEFAULTS!$E$8:$F$69,2,FALSE))/10^6*(1/($D$5/100))))))),0,METHANE!$J88*DEFAULTS!$B$83*(IF('USER INPUTS'!$B$28=\"Total landfill gas\",(1/($D$5/100)),IF('USER INPUTS'!$B$28=\"Methane\",1,IF('USER INPUTS'!$B$28=\"Carbon dioxide\",((1/($D$5/100))-1),(VLOOKUP('USER INPUTS'!$B$28,DEFAULTS!$E$8:$F$69,2,FALSE))/10^6*(1/($D$5/100)))))))","v":0},{"$f":"IF(ISERROR(METHANE!$J88*(IF('USER INPUTS'!$B$28=\"Total landfill gas\",(1/($D$5/100)),IF('USER INPUTS'!$B$28=\"Methane\",1,IF('USER INPUTS'!$B$28=\"Carbon dioxide\",((1/($D$5/100))-1),(VLOOKUP('USER INPUTS'!$B$28,DEFAULTS!$E$8:$F$69,2,FALSE))/10^6*(1/($D$5/100))))))),0,METHANE!$J88*(IF('USER INPUTS'!$B$28=\"Total landfill gas\",(1/($D$5/100)),IF('USER INPUTS'!$B$28=\"Methane\",1,IF('USER INPUTS'!$B$28=\"Carbon dioxide\",((1/($D$5/100))-1),(VLOOKUP('USER INPUTS'!$B$28,DEFAULTS!$E$8:$F$69,2,FALSE))/10^6*(1/($D$5/100)))))))","v":0},{"$f":"IF(N$8=\"(short tons/year)\",(L74*DEFAULTS!$B$55*DEFAULTS!$B$53/DEFAULTS!$B$54),IF(N$8=\"(ft^3/year)\",(M74*DEFAULTS!$B$57),IF(N$8=\"(av ft^3/min)\",(M74*DEFAULTS!$B$57/DEFAULTS!$B$58),0)))","v":0},{"$f":"IF(ISERROR(METHANE!$J88*DEFAULTS!$B$84*(IF('USER INPUTS'!$B$30=\"Total landfill gas\",(1/($D$5/100)),IF('USER INPUTS'!$B$30=\"Methane\",1,IF('USER INPUTS'!$B$30=\"Carbon dioxide\",((1/($D$5/100))-1),(VLOOKUP('USER INPUTS'!$B$30,DEFAULTS!$E$8:$F$69,2,FALSE))/10^6*(1/($D$5/100))))))),0,METHANE!$J88*DEFAULTS!$B$84*(IF('USER INPUTS'!$B$30=\"Total landfill gas\",(1/($D$5/100)),IF('USER INPUTS'!$B$30=\"Methane\",1,IF('USER INPUTS'!$B$30=\"Carbon dioxide\",((1/($D$5/100))-1),(VLOOKUP('USER INPUTS'!$B$30,DEFAULTS!$E$8:$F$69,2,FALSE))/10^6*(1/($D$5/100)))))))","v":0},{"$f":"IF(ISERROR(METHANE!$J88*(IF('USER INPUTS'!$B$30=\"Total landfill gas\",(1/($D$5/100)),IF('USER INPUTS'!$B$30=\"Methane\",1,IF('USER INPUTS'!$B$30=\"Carbon dioxide\",((1/($D$5/100))-1),(VLOOKUP('USER INPUTS'!$B$30,DEFAULTS!$E$8:$F$69,2,FALSE))/10^6*(1/($D$5/100))))))),0,METHANE!$J88*(IF('USER INPUTS'!$B$30=\"Total landfill gas\",(1/($D$5/100)),IF('USER INPUTS'!$B$30=\"Methane\",1,IF('USER INPUTS'!$B$30=\"Carbon dioxide\",((1/($D$5/100))-1),(VLOOKUP('USER INPUTS'!$B$30,DEFAULTS!$E$8:$F$69,2,FALSE))/10^6*(1/($D$5/100)))))))","v":0},{"$f":"IF(Q$8=\"(short tons/year)\",(O74*DEFAULTS!$B$55*DEFAULTS!$B$53/DEFAULTS!$B$54),IF(Q$8=\"(ft^3/year)\",(P74*DEFAULTS!$B$57),IF(Q$8=\"(av ft^3/min)\",(P74*DEFAULTS!$B$57/DEFAULTS!$B$58),0)))","v":0}]
[{"$f":"METHANE!I89","v":66},{"$f":"IF(METHANE!E89>0,METHANE!E89,0)","v":0},{"$f":"IF(METHANE!E89>0,METHANE!E89*DEFAULTS!$B$55*DEFAULTS!$B$53/DEFAULTS!$B$54,0)","v":0},{"$f":"IF(METHANE!F89>0,METHANE!F89,0)","v":0},{"$f":"IF(METHANE!F89>0,METHANE!F89*DEFAULTS!$B$55*DEFAULTS!$B$53/DEFAULTS!$B$54,0)","v":0},{"$f":"IF(ISERROR(METHANE!$J89*DEFAULTS!$B$81*(IF('USER INPUTS'!$B$24=\"Total landfill gas\",(1/($D$5/100)),IF('USER INPUTS'!$B$24=\"Methane\",1,IF('USER INPUTS'!$B$24=\"Carbon dioxide\",((1/($D$5/100))-1),(VLOOKUP('USER INPUTS'!$B$24,DEFAULTS!$E$8:$F$69,2,FALSE))/10^6*(1/($D$5/100))))))),0,METHANE!$J89*DEFAULTS!$B$81*(IF('USER INPUTS'!$B$24=\"Total landfill gas\",(1/($D$5/100)),IF('USER INPUTS'!$B$24=\"Methane\",1,IF('USER INPUTS'!$B$24=\"Carbon dioxide\",((1/($D$5/100))-1),(VLOOKUP('USER INPUTS'!$B$24,DEFAULTS!$E$8:$F$69,2,FALSE))/10^6*(1/($D$5/100)))))))","v":0},{"$f":"IF(ISERROR(METHANE!$J89*(IF('USER INPUTS'!$B$24=\"Total landfill gas\",(1/($D$5/100)),IF('USER INPUTS'!$B$24=\"Methane\",1,IF('USER INPUTS'!$B$24=\"Carbon dioxide\",((1/($D$5/100))-1),(VLOOKUP('USER INPUTS'!$B$24,DEFAULTS!$E$8:$F$69,2,FALSE))/10^6*(1/($D$5/100))))))),0,METHANE!$J89*(IF('USER INPUTS'!$B$24=\"Total landfill gas\",(1/($D$5/100)),IF('USER INPUTS'!$B$24=\"Methane\",1,IF('USER INPUTS'!$B$24=\"Carbon dioxide\",((1/($D$5/100))-1),(VLOOKUP('USER INPUTS'!$B$24,DEFAULTS!$E$8:$F$69,2,FALSE))/10^6*(1/($D$5/100)))))))","v":0},{"$f":"IF(H$8=\"(short tons/year)\",(F75*DEFAULTS!$B$55*DEFAULTS!$B$53/DEFAULTS!$B$54),IF(H$8=\"(ft^3/year)\",(G75*DEFAULTS!$B$57),IF(H$8=\"(av ft^3/min)\",(G75*DEFAULTS!$B$57/DEFAULTS!$B$58),0)))","v":0},{"$f":"IF(ISERROR(METHANE!$J89*DEFAULTS!$B$82*(IF('USER INPUTS'!$B$26=\"Total landfill gas\",(1/($D$5/100)),IF('USER INPUTS'!$B$26=\"Methane\",1,IF('USER INPUTS'!$B$26=\"Carbon dioxide\",((1/($D$5/100))-1),(VLOOKUP('USER INPUTS'!$B$26,DEFAULTS!$E$8:$F$69,2,FALSE))/10^6*(1/($D$5/100))))))),0,METHANE!$J89*DEFAULTS!$B$82*(IF('USER INPUTS'!$B$26=\"Total landfill gas\",(1/($D$5/100)),IF('USER INPUTS'!$B$26=\"Methane\",1,IF('USER INPUTS'!$B$26=\"Carbon dioxide\",((1/($D$5/100))-1),(VLOOKUP('USER INPUTS'!$B$26,DEFAULTS!$E$8:$F$69,2,FALSE))/10^6*(1/($D$5/100)))))))","v":0},{"$f":"IF(ISERROR(METHANE!$J89*(IF('USER INPUTS'!$B$26=\"Total landfill gas\",(1/($D$5/100)),IF('USER INPUTS'!$B$26=\"Methane\",1,IF('USER INPUTS'!$B$26=\"Carbon dioxide\",((1/($D$5/100))-1),(VLOOKUP('USER INPUTS'!$B$26,DEFAULTS!$E$8:$F$69,2,FALSE))/10^6*(1/($D$5/100))))))),0,METHANE!$J89*(IF('USER INPUTS'!$B$26=\"Total landfill gas\",(1/($D$5/100)),IF('USER INPUTS'!$B$26=\"Methane\",1,IF('USER INPUTS'!$B$26=\"Carbon dioxide\",((1/($D$5/100))-1),(VLOOKUP('USER INPUTS'!$B$26,DEFAULTS!$E$8:$F$69,2,FALSE))/10^6*(1/($D$5/100)))))))","v":0},{"$f":"IF(K$8=\"(short tons/year)\",(I75*DEFAULTS!$B$55*DEFAULTS!$B$53/DEFAULTS!$B$54),IF(K$8=\"(ft^3/year)\",(J75*DEFAULTS!$B$57),IF(K$8=\"(av ft^3/min)\",(J75*DEFAULTS!$B$57/DEFAULTS!$B$58),0)))","v":0},{"$f":"IF(ISERROR(METHANE!$J89*DEFAULTS!$B$83*(IF('USER INPUTS'!$B$28=\"Total landfill gas\",(1/($D$5/100)),IF('USER INPUTS'!$B$28=\"Methane\",1,IF('USER INPUTS'!$B$28=\"Carbon dioxide\",((1/($D$5/100))-1),(VLOOKUP('USER INPUTS'!$B$28,DEFAULTS!$E$8:$F$69,2,FALSE))/10^6*(1/($D$5/100))))))),0,METHANE!$J89*DEFAULTS!$B$83*(IF('USER INPUTS'!$B$28=\"Total landfill gas\",(1/($D$5/100)),IF('USER INPUTS'!$B$28=\"Methane\",1,IF('USER INPUTS'!$B$28=\"Carbon dioxide\",((1/($D$5/100))-1),(VLOOKUP('USER INPUTS'!$B$28,DEFAULTS!$E$8:$F$69,2,FALSE))/10^6*(1/($D$5/100)))))))","v":0},{"$f":"IF(ISERROR(METHANE!$J89*(IF('USER INPUTS'!$B$28=\"Total landfill gas\",(1/($D$5/100)),IF('USER INPUTS'!$B$28=\"Methane\",1,IF('USER INPUTS'!$B$28=\"Carbon dioxide\",((1/($D$5/100))-1),(VLOOKUP('USER INPUTS'!$B$28,DEFAULTS!$E$8:$F$69,2,FALSE))/10^6*(1/($D$5/100))))))),0,METHANE!$J89*(IF('USER INPUTS'!$B$28=\"Total landfill gas\",(1/($D$5/100)),IF('USER INPUTS'!$B$28=\"Methane\",1,IF('USER INPUTS'!$B$28=\"Carbon dioxide\",((1/($D$5/100))-1),(VLOOKUP('USER INPUTS'!$B$28,DEFAULTS!$E$8:$F$69,2,FALSE))/10^6*(1/($D$5/100)))))))","v":0},{"$f":"IF(N$8=\"(short tons/year)\",(L75*DEFAULTS!$B$55*DEFAULTS!$B$53/DEFAULTS!$B$54),IF(N$8=\"(ft^3/year)\",(M75*DEFAULTS!$B$57),IF(N$8=\"(av ft^3/min)\",(M75*DEFAULTS!$B$57/DEFAULTS!$B$58),0)))","v":0},{"$f":"IF(ISERROR(METHANE!$J89*DEFAULTS!$B$84*(IF('USER INPUTS'!$B$30=\"Total landfill gas\",(1/($D$5/100)),IF('USER INPUTS'!$B$30=\"Methane\",1,IF('USER INPUTS'!$B$30=\"Carbon dioxide\",((1/($D$5/100))-1),(VLOOKUP('USER INPUTS'!$B$30,DEFAULTS!$E$8:$F$69,2,FALSE))/10^6*(1/($D$5/100))))))),0,METHANE!$J89*DEFAULTS!$B$84*(IF('USER INPUTS'!$B$30=\"Total landfill gas\",(1/($D$5/100)),IF('USER INPUTS'!$B$30=\"Methane\",1,IF('USER INPUTS'!$B$30=\"Carbon dioxide\",((1/($D$5/100))-1),(VLOOKUP('USER INPUTS'!$B$30,DEFAULTS!$E$8:$F$69,2,FALSE))/10^6*(1/($D$5/100)))))))","v":0},{"$f":"IF(ISERROR(METHANE!$J89*(IF('USER INPUTS'!$B$30=\"Total landfill gas\",(1/($D$5/100)),IF('USER INPUTS'!$B$30=\"Methane\",1,IF('USER INPUTS'!$B$30=\"Carbon dioxide\",((1/($D$5/100))-1),(VLOOKUP('USER INPUTS'!$B$30,DEFAULTS!$E$8:$F$69,2,FALSE))/10^6*(1/($D$5/100))))))),0,METHANE!$J89*(IF('USER INPUTS'!$B$30=\"Total landfill gas\",(1/($D$5/100)),IF('USER INPUTS'!$B$30=\"Methane\",1,IF('USER INPUTS'!$B$30=\"Carbon dioxide\",((1/($D$5/100))-1),(VLOOKUP('USER INPUTS'!$B$30,DEFAULTS!$E$8:$F$69,2,FALSE))/10^6*(1/($D$5/100)))))))","v":0},{"$f":"IF(Q$8=\"(short tons/year)\",(O75*DEFAULTS!$B$55*DEFAULTS!$B$53/DEFAULTS!$B$54),IF(Q$8=\"(ft^3/year)\",(P75*DEFAULTS!$B$57),IF(Q$8=\"(av ft^3/min)\",(P75*DEFAULTS!$B$57/DEFAULTS!$B$58),0)))","v":0}]
[{"$f":"METHANE!I90","v":67},{"$f":"IF(METHANE!E90>0,METHANE!E90,0)","v":0},{"$f":"IF(METHANE!E90>0,METHANE!E90*DEFAULTS!$B$55*DEFAULTS!$B$53/DEFAULTS!$B$54,0)","v":0},{"$f":"IF(METHANE!F90>0,METHANE!F90,0)","v":0},{"$f":"IF(METHANE!F90>0,METHANE!F90*DEFAULTS!$B$55*DEFAULTS!$B$53/DEFAULTS!$B$54,0)","v":0},{"$f":"IF(ISERROR(METHANE!$J90*DEFAULTS!$B$81*(IF('USER INPUTS'!$B$24=\"Total landfill gas\",(1/($D$5/100)),IF('USER INPUTS'!$B$24=\"Methane\",1,IF('USER INPUTS'!$B$24=\"Carbon dioxide\",((1/($D$5/100))-1),(VLOOKUP('USER INPUTS'!$B$24,DEFAULTS!$E$8:$F$69,2,FALSE))/10^6*(1/($D$5/100))))))),0,METHANE!$J90*DEFAULTS!$B$81*(IF('USER INPUTS'!$B$24=\"Total landfill gas\",(1/($D$5/100)),IF('USER INPUTS'!$B$24=\"Methane\",1,IF('USER INPUTS'!$B$24=\"Carbon dioxide\",((1/($D$5/100))-1),(VLOOKUP('USER INPUTS'!$B$24,DEFAULTS!$E$8:$F$69,2,FALSE))/10^6*(1/($D$5/100)))))))","v":0},{"$f":"IF(ISERROR(METHANE!$J90*(IF('USER INPUTS'!$B$24=\"Total landfill gas\",(1/($D$5/100)),IF('USER INPUTS'!$B$24=\"Methane\",1,IF('USER INPUTS'!$B$24=\"Carbon dioxide\",((1/($D$5/100))-1),(VLOOKUP('USER INPUTS'!$B$24,DEFAULTS!$E$8:$F$69,2,FALSE))/10^6*(1/($D$5/100))))))),0,METHANE!$J90*(IF('USER INPUTS'!$B$24=\"Total landfill gas\",(1/($D$5/100)),IF('USER INPUTS'!$B$24=\"Methane\",1,IF('USER INPUTS'!$B$24=\"Carbon dioxide\",((1/($D$5/100))-1),(VLOOKUP('USER INPUTS'!$B$24,DEFAULTS!$E$8:$F$69,2,FALSE))/10^6*(1/($D$5/100)))))))","v":0},{"$f":"IF(H$8=\"(short tons/year)\",(F76*DEFAULTS!$B$55*DEFAULTS!$B$53/DEFAULTS!$B$54),IF(H$8=\"(ft^3/year)\",(G76*DEFAULTS!$B$57),IF(H$8=\"(av ft^3/min)\",(G76*DEFAULTS!$B$57/DEFAULTS!$B$58),0)))","v":0},{"$f":"IF(ISERROR(METHANE!$J90*DEFAULTS!$B$82*(IF('USER INPUTS'!$B$26=\"Total landfill gas\",(1/($D$5/100)),IF('USER INPUTS'!$B$26=\"Methane\",1,IF('USER INPUTS'!$B$26=\"Carbon dioxide\",((1/($D$5/100))-1),(VLOOKUP('USER INPUTS'!$B$26,DEFAULTS!$E$8:$F$69,2,FALSE))/10^6*(1/($D$5/100))))))),0,METHANE!$J90*DEFAULTS!$B$82*(IF('USER INPUTS'!$B$26=\"Total landfill gas\",(1/($D$5/100)),IF('USER INPUTS'!$B$26=\"Methane\",1,IF('USER INPUTS'!$B$26=\"Carbon dioxide\",((1/($D$5/100))-1),(VLOOKUP('USER INPUTS'!$B$26,DEFAULTS!$E$8:$F$69,2,FALSE))/10^6*(1/($D$5/100)))))))","v":0},{"$f":"IF(ISERROR(METHANE!$J90*(IF('USER INPUTS'!$B$26=\"Total landfill gas\",(1/($D$5/100)),IF('USER INPUTS'!$B$26=\"Methane\",1,IF('USER INPUTS'!$B$26=\"Carbon dioxide\",((1/($D$5/100))-1),(VLOOKUP('USER INPUTS'!$B$26,DEFAULTS!$E$8:$F$69,2,FALSE))/10^6*(1/($D$5/100))))))),0,METHANE!$J90*(IF('USER INPUTS'!$B$26=\"Total landfill gas\",(1/($D$5/100)),IF('USER INPUTS'!$B$26=\"Methane\",1,IF('USER INPUTS'!$B$26=\"Carbon dioxide\",((1/($D$5/100))-1),(VLOOKUP('USER INPUTS'!$B$26,DEFAULTS!$E$8:$F$69,2,FALSE))/10^6*(1/($D$5/100)))))))","v":0},{"$f":"IF(K$8=\"(short tons/year)\",(I76*DEFAULTS!$B$55*DEFAULTS!$B$53/DEFAULTS!$B$54),IF(K$8=\"(ft^3/year)\",(J76*DEFAULTS!$B$57),IF(K$8=\"(av ft^3/min)\",(J76*DEFAULTS!$B$57/DEFAULTS!$B$58),0)))","v":0},{"$f":"IF(ISERROR(METHANE!$J90*DEFAULTS!$B$83*(IF('USER INPUTS'!$B$28=\"Total landfill gas\",(1/($D$5/100)),IF('USER INPUTS'!$B$28=\"Methane\",1,IF('USER INPUTS'!$B$28=\"Carbon dioxide\",((1/($D$5/100))-1),(VLOOKUP('USER INPUTS'!$B$28,DEFAULTS!$E$8:$F$69,2,FALSE))/10^6*(1/($D$5/100))))))),0,METHANE!$J90*DEFAULTS!$B$83*(IF('USER INPUTS'!$B$28=\"Total landfill gas\",(1/($D$5/100)),IF('USER INPUTS'!$B$28=\"Methane\",1,IF('USER INPUTS'!$B$28=\"Carbon dioxide\",((1/($D$5/100))-1),(VLOOKUP('USER INPUTS'!$B$28,DEFAULTS!$E$8:$F$69,2,FALSE))/10^6*(1/($D$5/100)))))))","v":0},{"$f":"IF(ISERROR(METHANE!$J90*(IF('USER INPUTS'!$B$28=\"Total landfill gas\",(1/($D$5/100)),IF('USER INPUTS'!$B$28=\"Methane\",1,IF('USER INPUTS'!$B$28=\"Carbon dioxide\",((1/($D$5/100))-1),(VLOOKUP('USER INPUTS'!$B$28,DEFAULTS!$E$8:$F$69,2,FALSE))/10^6*(1/($D$5/100))))))),0,METHANE!$J90*(IF('USER INPUTS'!$B$28=\"Total landfill gas\",(1/($D$5/100)),IF('USER INPUTS'!$B$28=\"Methane\",1,IF('USER INPUTS'!$B$28=\"Carbon dioxide\",((1/($D$5/100))-1),(VLOOKUP('USER INPUTS'!$B$28,DEFAULTS!$E$8:$F$69,2,FALSE))/10^6*(1/($D$5/100)))))))","v":0},{"$f":"IF(N$8=\"(short tons/year)\",(L76*DEFAULTS!$B$55*DEFAULTS!$B$53/DEFAULTS!$B$54),IF(N$8=\"(ft^3/year)\",(M76*DEFAULTS!$B$57),IF(N$8=\"(av ft^3/min)\",(M76*DEFAULTS!$B$57/DEFAULTS!$B$58),0)))","v":0},{"$f":"IF(ISERROR(METHANE!$J90*DEFAULTS!$B$84*(IF('USER INPUTS'!$B$30=\"Total landfill gas\",(1/($D$5/100)),IF('USER INPUTS'!$B$30=\"Methane\",1,IF('USER INPUTS'!$B$30=\"Carbon dioxide\",((1/($D$5/100))-1),(VLOOKUP('USER INPUTS'!$B$30,DEFAULTS!$E$8:$F$69,2,FALSE))/10^6*(1/($D$5/100))))))),0,METHANE!$J90*DEFAULTS!$B$84*(IF('USER INPUTS'!$B$30=\"Total landfill gas\",(1/($D$5/100)),IF('USER INPUTS'!$B$30=\"Methane\",1,IF('USER INPUTS'!$B$30=\"Carbon dioxide\",((1/($D$5/100))-1),(VLOOKUP('USER INPUTS'!$B$30,DEFAULTS!$E$8:$F$69,2,FALSE))/10^6*(1/($D$5/100)))))))","v":0},{"$f":"IF(ISERROR(METHANE!$J90*(IF('USER INPUTS'!$B$30=\"Total landfill gas\",(1/($D$5/100)),IF('USER INPUTS'!$B$30=\"Methane\",1,IF('USER INPUTS'!$B$30=\"Carbon dioxide\",((1/($D$5/100))-1),(VLOOKUP('USER INPUTS'!$B$30,DEFAULTS!$E$8:$F$69,2,FALSE))/10^6*(1/($D$5/100))))))),0,METHANE!$J90*(IF('USER INPUTS'!$B$30=\"Total landfill gas\",(1/($D$5/100)),IF('USER INPUTS'!$B$30=\"Methane\",1,IF('USER INPUTS'!$B$30=\"Carbon dioxide\",((1/($D$5/100))-1),(VLOOKUP('USER INPUTS'!$B$30,DEFAULTS!$E$8:$F$69,2,FALSE))/10^6*(1/($D$5/100)))))))","v":0},{"$f":"IF(Q$8=\"(short tons/year)\",(O76*DEFAULTS!$B$55*DEFAULTS!$B$53/DEFAULTS!$B$54),IF(Q$8=\"(ft^3/year)\",(P76*DEFAULTS!$B$57),IF(Q$8=\"(av ft^3/min)\",(P76*DEFAULTS!$B$57/DEFAULTS!$B$58),0)))","v":0}]
[{"$f":"METHANE!I91","v":68},{"$f":"IF(METHANE!E91>0,METHANE!E91,0)","v":0},{"$f":"IF(METHANE!E91>0,METHANE!E91*DEFAULTS!$B$55*DEFAULTS!$B$53/DEFAULTS!$B$54,0)","v":0},{"$f":"IF(METHANE!F91>0,METHANE!F91,0)","v":0},{"$f":"IF(METHANE!F91>0,METHANE!F91*DEFAULTS!$B$55*DEFAULTS!$B$53/DEFAULTS!$B$54,0)","v":0},{"$f":"IF(ISERROR(METHANE!$J91*DEFAULTS!$B$81*(IF('USER INPUTS'!$B$24=\"Total landfill gas\",(1/($D$5/100)),IF('USER INPUTS'!$B$24=\"Methane\",1,IF('USER INPUTS'!$B$24=\"Carbon dioxide\",((1/($D$5/100))-1),(VLOOKUP('USER INPUTS'!$B$24,DEFAULTS!$E$8:$F$69,2,FALSE))/10^6*(1/($D$5/100))))))),0,METHANE!$J91*DEFAULTS!$B$81*(IF('USER INPUTS'!$B$24=\"Total landfill gas\",(1/($D$5/100)),IF('USER INPUTS'!$B$24=\"Methane\",1,IF('USER INPUTS'!$B$24=\"Carbon dioxide\",((1/($D$5/100))-1),(VLOOKUP('USER INPUTS'!$B$24,DEFAULTS!$E$8:$F$69,2,FALSE))/10^6*(1/($D$5/100)))))))","v":0},{"$f":"IF(ISERROR(METHANE!$J91*(IF('USER INPUTS'!$B$24=\"Total landfill gas\",(1/($D$5/100)),IF('USER INPUTS'!$B$24=\"Methane\",1,IF('USER INPUTS'!$B$24=\"Carbon dioxide\",((1/($D$5/100))-1),(VLOOKUP('USER INPUTS'!$B$24,DEFAULTS!$E$8:$F$69,2,FALSE))/10^6*(1/($D$5/100))))))),0,METHANE!$J91*(IF('USER INPUTS'!$B$24=\"Total landfill gas\",(1/($D$5/100)),IF('USER INPUTS'!$B$24=\"Methane\",1,IF('USER INPUTS'!$B$24=\"Carbon dioxide\",((1/($D$5/100))-1),(VLOOKUP('USER INPUTS'!$B$24,DEFAULTS!$E$8:$F$69,2,FALSE))/10^6*(1/($D$5/100)))))))","v":0},{"$f":"IF(H$8=\"(short tons/year)\",(F77*DEFAULTS!$B$55*DEFAULTS!$B$53/DEFAULTS!$B$54),IF(H$8=\"(ft^3/year)\",(G77*DEFAULTS!$B$57),IF(H$8=\"(av ft^3/min)\",(G77*DEFAULTS!$B$57/DEFAULTS!$B$58),0)))","v":0},{"$f":"IF(ISERROR(METHANE!$J91*DEFAULTS!$B$82*(IF('USER INPUTS'!$B$26=\"Total landfill gas\",(1/($D$5/100)),IF('USER INPUTS'!$B$26=\"Methane\",1,IF('USER INPUTS'!$B$26=\"Carbon dioxide\",((1/($D$5/100))-1),(VLOOKUP('USER INPUTS'!$B$26,DEFAULTS!$E$8:$F$69,2,FALSE))/10^6*(1/($D$5/100))))))),0,METHANE!$J91*DEFAULTS!$B$82*(IF('USER INPUTS'!$B$26=\"Total landfill gas\",(1/($D$5/100)),IF('USER INPUTS'!$B$26=\"Methane\",1,IF('USER INPUTS'!$B$26=\"Carbon dioxide\",((1/($D$5/100))-1),(VLOOKUP('USER INPUTS'!$B$26,DEFAULTS!$E$8:$F$69,2,FALSE))/10^6*(1/($D$5/100)))))))","v":0},{"$f":"IF(ISERROR(METHANE!$J91*(IF('USER INPUTS'!$B$26=\"Total landfill gas\",(1/($D$5/100)),IF('USER INPUTS'!$B$26=\"Methane\",1,IF('USER INPUTS'!$B$26=\"Carbon dioxide\",((1/($D$5/100))-1),(VLOOKUP('USER INPUTS'!$B$26,DEFAULTS!$E$8:$F$69,2,FALSE))/10^6*(1/($D$5/100))))))),0,METHANE!$J91*(IF('USER INPUTS'!$B$26=\"Total landfill gas\",(1/($D$5/100)),IF('USER INPUTS'!$B$26=\"Methane\",1,IF('USER INPUTS'!$B$26=\"Carbon dioxide\",((1/($D$5/100))-1),(VLOOKUP('USER INPUTS'!$B$26,DEFAULTS!$E$8:$F$69,2,FALSE))/10^6*(1/($D$5/100)))))))","v":0},{"$f":"IF(K$8=\"(short tons/year)\",(I77*DEFAULTS!$B$55*DEFAULTS!$B$53/DEFAULTS!$B$54),IF(K$8=\"(ft^3/year)\",(J77*DEFAULTS!$B$57),IF(K$8=\"(av ft^3/min)\",(J77*DEFAULTS!$B$57/DEFAULTS!$B$58),0)))","v":0},{"$f":"IF(ISERROR(METHANE!$J91*DEFAULTS!$B$83*(IF('USER INPUTS'!$B$28=\"Total landfill gas\",(1/($D$5/100)),IF('USER INPUTS'!$B$28=\"Methane\",1,IF('USER INPUTS'!$B$28=\"Carbon dioxide\",((1/($D$5/100))-1),(VLOOKUP('USER INPUTS'!$B$28,DEFAULTS!$E$8:$F$69,2,FALSE))/10^6*(1/($D$5/100))))))),0,METHANE!$J91*DEFAULTS!$B$83*(IF('USER INPUTS'!$B$28=\"Total landfill gas\",(1/($D$5/100)),IF('USER INPUTS'!$B$28=\"Methane\",1,IF('USER INPUTS'!$B$28=\"Carbon dioxide\",((1/($D$5/100))-1),(VLOOKUP('USER INPUTS'!$B$28,DEFAULTS!$E$8:$F$69,2,FALSE))/10^6*(1/($D$5/100)))))))","v":0},{"$f":"IF(ISERROR(METHANE!$J91*(IF('USER INPUTS'!$B$28=\"Total landfill gas\",(1/($D$5/100)),IF('USER INPUTS'!$B$28=\"Methane\",1,IF('USER INPUTS'!$B$28=\"Carbon dioxide\",((1/($D$5/100))-1),(VLOOKUP('USER INPUTS'!$B$28,DEFAULTS!$E$8:$F$69,2,FALSE))/10^6*(1/($D$5/100))))))),0,METHANE!$J91*(IF('USER INPUTS'!$B$28=\"Total landfill gas\",(1/($D$5/100)),IF('USER INPUTS'!$B$28=\"Methane\",1,IF('USER INPUTS'!$B$28=\"Carbon dioxide\",((1/($D$5/100))-1),(VLOOKUP('USER INPUTS'!$B$28,DEFAULTS!$E$8:$F$69,2,FALSE))/10^6*(1/($D$5/100)))))))","v":0},{"$f":"IF(N$8=\"(short tons/year)\",(L77*DEFAULTS!$B$55*DEFAULTS!$B$53/DEFAULTS!$B$54),IF(N$8=\"(ft^3/year)\",(M77*DEFAULTS!$B$57),IF(N$8=\"(av ft^3/min)\",(M77*DEFAULTS!$B$57/DEFAULTS!$B$58),0)))","v":0},{"$f":"IF(ISERROR(METHANE!$J91*DEFAULTS!$B$84*(IF('USER INPUTS'!$B$30=\"Total landfill gas\",(1/($D$5/100)),IF('USER INPUTS'!$B$30=\"Methane\",1,IF('USER INPUTS'!$B$30=\"Carbon dioxide\",((1/($D$5/100))-1),(VLOOKUP('USER INPUTS'!$B$30,DEFAULTS!$E$8:$F$69,2,FALSE))/10^6*(1/($D$5/100))))))),0,METHANE!$J91*DEFAULTS!$B$84*(IF('USER INPUTS'!$B$30=\"Total landfill gas\",(1/($D$5/100)),IF('USER INPUTS'!$B$30=\"Methane\",1,IF('USER INPUTS'!$B$30=\"Carbon dioxide\",((1/($D$5/100))-1),(VLOOKUP('USER INPUTS'!$B$30,DEFAULTS!$E$8:$F$69,2,FALSE))/10^6*(1/($D$5/100)))))))","v":0},{"$f":"IF(ISERROR(METHANE!$J91*(IF('USER INPUTS'!$B$30=\"Total landfill gas\",(1/($D$5/100)),IF('USER INPUTS'!$B$30=\"Methane\",1,IF('USER INPUTS'!$B$30=\"Carbon dioxide\",((1/($D$5/100))-1),(VLOOKUP('USER INPUTS'!$B$30,DEFAULTS!$E$8:$F$69,2,FALSE))/10^6*(1/($D$5/100))))))),0,METHANE!$J91*(IF('USER INPUTS'!$B$30=\"Total landfill gas\",(1/($D$5/100)),IF('USER INPUTS'!$B$30=\"Methane\",1,IF('USER INPUTS'!$B$30=\"Carbon dioxide\",((1/($D$5/100))-1),(VLOOKUP('USER INPUTS'!$B$30,DEFAULTS!$E$8:$F$69,2,FALSE))/10^6*(1/($D$5/100)))))))","v":0},{"$f":"IF(Q$8=\"(short tons/year)\",(O77*DEFAULTS!$B$55*DEFAULTS!$B$53/DEFAULTS!$B$54),IF(Q$8=\"(ft^3/year)\",(P77*DEFAULTS!$B$57),IF(Q$8=\"(av ft^3/min)\",(P77*DEFAULTS!$B$57/DEFAULTS!$B$58),0)))","v":0}]
[{"$f":"METHANE!I92","v":69},{"$f":"IF(METHANE!E92>0,METHANE!E92,0)","v":0},{"$f":"IF(METHANE!E92>0,METHANE!E92*DEFAULTS!$B$55*DEFAULTS!$B$53/DEFAULTS!$B$54,0)","v":0},{"$f":"IF(METHANE!F92>0,METHANE!F92,0)","v":0},{"$f":"IF(METHANE!F92>0,METHANE!F92*DEFAULTS!$B$55*DEFAULTS!$B$53/DEFAULTS!$B$54,0)","v":0},{"$f":"IF(ISERROR(METHANE!$J92*DEFAULTS!$B$81*(IF('USER INPUTS'!$B$24=\"Total landfill gas\",(1/($D$5/100)),IF('USER INPUTS'!$B$24=\"Methane\",1,IF('USER INPUTS'!$B$24=\"Carbon dioxide\",((1/($D$5/100))-1),(VLOOKUP('USER INPUTS'!$B$24,DEFAULTS!$E$8:$F$69,2,FALSE))/10^6*(1/($D$5/100))))))),0,METHANE!$J92*DEFAULTS!$B$81*(IF('USER INPUTS'!$B$24=\"Total landfill gas\",(1/($D$5/100)),IF('USER INPUTS'!$B$24=\"Methane\",1,IF('USER INPUTS'!$B$24=\"Carbon dioxide\",((1/($D$5/100))-1),(VLOOKUP('USER INPUTS'!$B$24,DEFAULTS!$E$8:$F$69,2,FALSE))/10^6*(1/($D$5/100)))))))","v":0},{"$f":"IF(ISERROR(METHANE!$J92*(IF('USER INPUTS'!$B$24=\"Total landfill gas\",(1/($D$5/100)),IF('USER INPUTS'!$B$24=\"Methane\",1,IF('USER INPUTS'!$B$24=\"Carbon dioxide\",((1/($D$5/100))-1),(VLOOKUP('USER INPUTS'!$B$24,DEFAULTS!$E$8:$F$69,2,FALSE))/10^6*(1/($D$5/100))))))),0,METHANE!$J92*(IF('USER INPUTS'!$B$24=\"Total landfill gas\",(1/($D$5/100)),IF('USER INPUTS'!$B$24=\"Methane\",1,IF('USER INPUTS'!$B$24=\"Carbon dioxide\",((1/($D$5/100))-1),(VLOOKUP('USER INPUTS'!$B$24,DEFAULTS!$E$8:$F$69,2,FALSE))/10^6*(1/($D$5/100)))))))","v":0},{"$f":"IF(H$8=\"(short tons/year)\",(F78*DEFAULTS!$B$55*DEFAULTS!$B$53/DEFAULTS!$B$54),IF(H$8=\"(ft^3/year)\",(G78*DEFAULTS!$B$57),IF(H$8=\"(av ft^3/min)\",(G78*DEFAULTS!$B$57/DEFAULTS!$B$58),0)))","v":0},{"$f":"IF(ISERROR(METHANE!$J92*DEFAULTS!$B$82*(IF('USER INPUTS'!$B$26=\"Total landfill gas\",(1/($D$5/100)),IF('USER INPUTS'!$B$26=\"Methane\",1,IF('USER INPUTS'!$B$26=\"Carbon dioxide\",((1/($D$5/100))-1),(VLOOKUP('USER INPUTS'!$B$26,DEFAULTS!$E$8:$F$69,2,FALSE))/10^6*(1/($D$5/100))))))),0,METHANE!$J92*DEFAULTS!$B$82*(IF('USER INPUTS'!$B$26=\"Total landfill gas\",(1/($D$5/100)),IF('USER INPUTS'!$B$26=\"Methane\",1,IF('USER INPUTS'!$B$26=\"Carbon dioxide\",((1/($D$5/100))-1),(VLOOKUP('USER INPUTS'!$B$26,DEFAULTS!$E$8:$F$69,2,FALSE))/10^6*(1/($D$5/100)))))))","v":0},{"$f":"IF(ISERROR(METHANE!$J92*(IF('USER INPUTS'!$B$26=\"Total landfill gas\",(1/($D$5/100)),IF('USER INPUTS'!$B$26=\"Methane\",1,IF('USER INPUTS'!$B$26=\"Carbon dioxide\",((1/($D$5/100))-1),(VLOOKUP('USER INPUTS'!$B$26,DEFAULTS!$E$8:$F$69,2,FALSE))/10^6*(1/($D$5/100))))))),0,METHANE!$J92*(IF('USER INPUTS'!$B$26=\"Total landfill gas\",(1/($D$5/100)),IF('USER INPUTS'!$B$26=\"Methane\",1,IF('USER INPUTS'!$B$26=\"Carbon dioxide\",((1/($D$5/100))-1),(VLOOKUP('USER INPUTS'!$B$26,DEFAULTS!$E$8:$F$69,2,FALSE))/10^6*(1/($D$5/100)))))))","v":0},{"$f":"IF(K$8=\"(short tons/year)\",(I78*DEFAULTS!$B$55*DEFAULTS!$B$53/DEFAULTS!$B$54),IF(K$8=\"(ft^3/year)\",(J78*DEFAULTS!$B$57),IF(K$8=\"(av ft^3/min)\",(J78*DEFAULTS!$B$57/DEFAULTS!$B$58),0)))","v":0},{"$f":"IF(ISERROR(METHANE!$J92*DEFAULTS!$B$83*(IF('USER INPUTS'!$B$28=\"Total landfill gas\",(1/($D$5/100)),IF('USER INPUTS'!$B$28=\"Methane\",1,IF('USER INPUTS'!$B$28=\"Carbon dioxide\",((1/($D$5/100))-1),(VLOOKUP('USER INPUTS'!$B$28,DEFAULTS!$E$8:$F$69,2,FALSE))/10^6*(1/($D$5/100))))))),0,METHANE!$J92*DEFAULTS!$B$83*(IF('USER INPUTS'!$B$28=\"Total landfill gas\",(1/($D$5/100)),IF('USER INPUTS'!$B$28=\"Methane\",1,IF('USER INPUTS'!$B$28=\"Carbon dioxide\",((1/($D$5/100))-1),(VLOOKUP('USER INPUTS'!$B$28,DEFAULTS!$E$8:$F$69,2,FALSE))/10^6*(1/($D$5/100)))))))","v":0},{"$f":"IF(ISERROR(METHANE!$J92*(IF('USER INPUTS'!$B$28=\"Total landfill gas\",(1/($D$5/100)),IF('USER INPUTS'!$B$28=\"Methane\",1,IF('USER INPUTS'!$B$28=\"Carbon dioxide\",((1/($D$5/100))-1),(VLOOKUP('USER INPUTS'!$B$28,DEFAULTS!$E$8:$F$69,2,FALSE))/10^6*(1/($D$5/100))))))),0,METHANE!$J92*(IF('USER INPUTS'!$B$28=\"Total landfill gas\",(1/($D$5/100)),IF('USER INPUTS'!$B$28=\"Methane\",1,IF('USER INPUTS'!$B$28=\"Carbon dioxide\",((1/($D$5/100))-1),(VLOOKUP('USER INPUTS'!$B$28,DEFAULTS!$E$8:$F$69,2,FALSE))/10^6*(1/($D$5/100)))))))","v":0},{"$f":"IF(N$8=\"(short tons/year)\",(L78*DEFAULTS!$B$55*DEFAULTS!$B$53/DEFAULTS!$B$54),IF(N$8=\"(ft^3/year)\",(M78*DEFAULTS!$B$57),IF(N$8=\"(av ft^3/min)\",(M78*DEFAULTS!$B$57/DEFAULTS!$B$58),0)))","v":0},{"$f":"IF(ISERROR(METHANE!$J92*DEFAULTS!$B$84*(IF('USER INPUTS'!$B$30=\"Total landfill gas\",(1/($D$5/100)),IF('USER INPUTS'!$B$30=\"Methane\",1,IF('USER INPUTS'!$B$30=\"Carbon dioxide\",((1/($D$5/100))-1),(VLOOKUP('USER INPUTS'!$B$30,DEFAULTS!$E$8:$F$69,2,FALSE))/10^6*(1/($D$5/100))))))),0,METHANE!$J92*DEFAULTS!$B$84*(IF('USER INPUTS'!$B$30=\"Total landfill gas\",(1/($D$5/100)),IF('USER INPUTS'!$B$30=\"Methane\",1,IF('USER INPUTS'!$B$30=\"Carbon dioxide\",((1/($D$5/100))-1),(VLOOKUP('USER INPUTS'!$B$30,DEFAULTS!$E$8:$F$69,2,FALSE))/10^6*(1/($D$5/100)))))))","v":0},{"$f":"IF(ISERROR(METHANE!$J92*(IF('USER INPUTS'!$B$30=\"Total landfill gas\",(1/($D$5/100)),IF('USER INPUTS'!$B$30=\"Methane\",1,IF('USER INPUTS'!$B$30=\"Carbon dioxide\",((1/($D$5/100))-1),(VLOOKUP('USER INPUTS'!$B$30,DEFAULTS!$E$8:$F$69,2,FALSE))/10^6*(1/($D$5/100))))))),0,METHANE!$J92*(IF('USER INPUTS'!$B$30=\"Total landfill gas\",(1/($D$5/100)),IF('USER INPUTS'!$B$30=\"Methane\",1,IF('USER INPUTS'!$B$30=\"Carbon dioxide\",((1/($D$5/100))-1),(VLOOKUP('USER INPUTS'!$B$30,DEFAULTS!$E$8:$F$69,2,FALSE))/10^6*(1/($D$5/100)))))))","v":0},{"$f":"IF(Q$8=\"(short tons/year)\",(O78*DEFAULTS!$B$55*DEFAULTS!$B$53/DEFAULTS!$B$54),IF(Q$8=\"(ft^3/year)\",(P78*DEFAULTS!$B$57),IF(Q$8=\"(av ft^3/min)\",(P78*DEFAULTS!$B$57/DEFAULTS!$B$58),0)))","v":0}]
[{"$f":"METHANE!I93","v":70},{"$f":"IF(METHANE!E93>0,METHANE!E93,0)","v":0},{"$f":"IF(METHANE!E93>0,METHANE!E93*DEFAULTS!$B$55*DEFAULTS!$B$53/DEFAULTS!$B$54,0)","v":0},{"$f":"IF(METHANE!F93>0,METHANE!F93,0)","v":0},{"$f":"IF(METHANE!F93>0,METHANE!F93*DEFAULTS!$B$55*DEFAULTS!$B$53/DEFAULTS!$B$54,0)","v":0},{"$f":"IF(ISERROR(METHANE!$J93*DEFAULTS!$B$81*(IF('USER INPUTS'!$B$24=\"Total landfill gas\",(1/($D$5/100)),IF('USER INPUTS'!$B$24=\"Methane\",1,IF('USER INPUTS'!$B$24=\"Carbon dioxide\",((1/($D$5/100))-1),(VLOOKUP('USER INPUTS'!$B$24,DEFAULTS!$E$8:$F$69,2,FALSE))/10^6*(1/($D$5/100))))))),0,METHANE!$J93*DEFAULTS!$B$81*(IF('USER INPUTS'!$B$24=\"Total landfill gas\",(1/($D$5/100)),IF('USER INPUTS'!$B$24=\"Methane\",1,IF('USER INPUTS'!$B$24=\"Carbon dioxide\",((1/($D$5/100))-1),(VLOOKUP('USER INPUTS'!$B$24,DEFAULTS!$E$8:$F$69,2,FALSE))/10^6*(1/($D$5/100)))))))","v":0},{"$f":"IF(ISERROR(METHANE!$J93*(IF('USER INPUTS'!$B$24=\"Total landfill gas\",(1/($D$5/100)),IF('USER INPUTS'!$B$24=\"Methane\",1,IF('USER INPUTS'!$B$24=\"Carbon dioxide\",((1/($D$5/100))-1),(VLOOKUP('USER INPUTS'!$B$24,DEFAULTS!$E$8:$F$69,2,FALSE))/10^6*(1/($D$5/100))))))),0,METHANE!$J93*(IF('USER INPUTS'!$B$24=\"Total landfill gas\",(1/($D$5/100)),IF('USER INPUTS'!$B$24=\"Methane\",1,IF('USER INPUTS'!$B$24=\"Carbon dioxide\",((1/($D$5/100))-1),(VLOOKUP('USER INPUTS'!$B$24,DEFAULTS!$E$8:$F$69,2,FALSE))/10^6*(1/($D$5/100)))))))","v":0},{"$f":"IF(H$8=\"(short tons/year)\",(F79*DEFAULTS!$B$55*DEFAULTS!$B$53/DEFAULTS!$B$54),IF(H$8=\"(ft^3/year)\",(G79*DEFAULTS!$B$57),IF(H$8=\"(av ft^3/min)\",(G79*DEFAULTS!$B$57/DEFAULTS!$B$58),0)))","v":0},{"$f":"IF(ISERROR(METHANE!$J93*DEFAULTS!$B$82*(IF('USER INPUTS'!$B$26=\"Total landfill gas\",(1/($D$5/100)),IF('USER INPUTS'!$B$26=\"Methane\",1,IF('USER INPUTS'!$B$26=\"Carbon dioxide\",((1/($D$5/100))-1),(VLOOKUP('USER INPUTS'!$B$26,DEFAULTS!$E$8:$F$69,2,FALSE))/10^6*(1/($D$5/100))))))),0,METHANE!$J93*DEFAULTS!$B$82*(IF('USER INPUTS'!$B$26=\"Total landfill gas\",(1/($D$5/100)),IF('USER INPUTS'!$B$26=\"Methane\",1,IF('USER INPUTS'!$B$26=\"Carbon dioxide\",((1/($D$5/100))-1),(VLOOKUP('USER INPUTS'!$B$26,DEFAULTS!$E$8:$F$69,2,FALSE))/10^6*(1/($D$5/100)))))))","v":0},{"$f":"IF(ISERROR(METHANE!$J93*(IF('USER INPUTS'!$B$26=\"Total landfill gas\",(1/($D$5/100)),IF('USER INPUTS'!$B$26=\"Methane\",1,IF('USER INPUTS'!$B$26=\"Carbon dioxide\",((1/($D$5/100))-1),(VLOOKUP('USER INPUTS'!$B$26,DEFAULTS!$E$8:$F$69,2,FALSE))/10^6*(1/($D$5/100))))))),0,METHANE!$J93*(IF('USER INPUTS'!$B$26=\"Total landfill gas\",(1/($D$5/100)),IF('USER INPUTS'!$B$26=\"Methane\",1,IF('USER INPUTS'!$B$26=\"Carbon dioxide\",((1/($D$5/100))-1),(VLOOKUP('USER INPUTS'!$B$26,DEFAULTS!$E$8:$F$69,2,FALSE))/10^6*(1/($D$5/100)))))))","v":0},{"$f":"IF(K$8=\"(short tons/year)\",(I79*DEFAULTS!$B$55*DEFAULTS!$B$53/DEFAULTS!$B$54),IF(K$8=\"(ft^3/year)\",(J79*DEFAULTS!$B$57),IF(K$8=\"(av ft^3/min)\",(J79*DEFAULTS!$B$57/DEFAULTS!$B$58),0)))","v":0},{"$f":"IF(ISERROR(METHANE!$J93*DEFAULTS!$B$83*(IF('USER INPUTS'!$B$28=\"Total landfill gas\",(1/($D$5/100)),IF('USER INPUTS'!$B$28=\"Methane\",1,IF('USER INPUTS'!$B$28=\"Carbon dioxide\",((1/($D$5/100))-1),(VLOOKUP('USER INPUTS'!$B$28,DEFAULTS!$E$8:$F$69,2,FALSE))/10^6*(1/($D$5/100))))))),0,METHANE!$J93*DEFAULTS!$B$83*(IF('USER INPUTS'!$B$28=\"Total landfill gas\",(1/($D$5/100)),IF('USER INPUTS'!$B$28=\"Methane\",1,IF('USER INPUTS'!$B$28=\"Carbon dioxide\",((1/($D$5/100))-1),(VLOOKUP('USER INPUTS'!$B$28,DEFAULTS!$E$8:$F$69,2,FALSE))/10^6*(1/($D$5/100)))))))","v":0},{"$f":"IF(ISERROR(METHANE!$J93*(IF('USER INPUTS'!$B$28=\"Total landfill gas\",(1/($D$5/100)),IF('USER INPUTS'!$B$28=\"Methane\",1,IF('USER INPUTS'!$B$28=\"Carbon dioxide\",((1/($D$5/100))-1),(VLOOKUP('USER INPUTS'!$B$28,DEFAULTS!$E$8:$F$69,2,FALSE))/10^6*(1/($D$5/100))))))),0,METHANE!$J93*(IF('USER INPUTS'!$B$28=\"Total landfill gas\",(1/($D$5/100)),IF('USER INPUTS'!$B$28=\"Methane\",1,IF('USER INPUTS'!$B$28=\"Carbon dioxide\",((1/($D$5/100))-1),(VLOOKUP('USER INPUTS'!$B$28,DEFAULTS!$E$8:$F$69,2,FALSE))/10^6*(1/($D$5/100)))))))","v":0},{"$f":"IF(N$8=\"(short tons/year)\",(L79*DEFAULTS!$B$55*DEFAULTS!$B$53/DEFAULTS!$B$54),IF(N$8=\"(ft^3/year)\",(M79*DEFAULTS!$B$57),IF(N$8=\"(av ft^3/min)\",(M79*DEFAULTS!$B$57/DEFAULTS!$B$58),0)))","v":0},{"$f":"IF(ISERROR(METHANE!$J93*DEFAULTS!$B$84*(IF('USER INPUTS'!$B$30=\"Total landfill gas\",(1/($D$5/100)),IF('USER INPUTS'!$B$30=\"Methane\",1,IF('USER INPUTS'!$B$30=\"Carbon dioxide\",((1/($D$5/100))-1),(VLOOKUP('USER INPUTS'!$B$30,DEFAULTS!$E$8:$F$69,2,FALSE))/10^6*(1/($D$5/100))))))),0,METHANE!$J93*DEFAULTS!$B$84*(IF('USER INPUTS'!$B$30=\"Total landfill gas\",(1/($D$5/100)),IF('USER INPUTS'!$B$30=\"Methane\",1,IF('USER INPUTS'!$B$30=\"Carbon dioxide\",((1/($D$5/100))-1),(VLOOKUP('USER INPUTS'!$B$30,DEFAULTS!$E$8:$F$69,2,FALSE))/10^6*(1/($D$5/100)))))))","v":0},{"$f":"IF(ISERROR(METHANE!$J93*(IF('USER INPUTS'!$B$30=\"Total landfill gas\",(1/($D$5/100)),IF('USER INPUTS'!$B$30=\"Methane\",1,IF('USER INPUTS'!$B$30=\"Carbon dioxide\",((1/($D$5/100))-1),(VLOOKUP('USER INPUTS'!$B$30,DEFAULTS!$E$8:$F$69,2,FALSE))/10^6*(1/($D$5/100))))))),0,METHANE!$J93*(IF('USER INPUTS'!$B$30=\"Total landfill gas\",(1/($D$5/100)),IF('USER INPUTS'!$B$30=\"Methane\",1,IF('USER INPUTS'!$B$30=\"Carbon dioxide\",((1/($D$5/100))-1),(VLOOKUP('USER INPUTS'!$B$30,DEFAULTS!$E$8:$F$69,2,FALSE))/10^6*(1/($D$5/100)))))))","v":0},{"$f":"IF(Q$8=\"(short tons/year)\",(O79*DEFAULTS!$B$55*DEFAULTS!$B$53/DEFAULTS!$B$54),IF(Q$8=\"(ft^3/year)\",(P79*DEFAULTS!$B$57),IF(Q$8=\"(av ft^3/min)\",(P79*DEFAULTS!$B$57/DEFAULTS!$B$58),0)))","v":0}]
[{"$f":"METHANE!I94","v":71},{"$f":"IF(METHANE!E94>0,METHANE!E94,0)","v":0},{"$f":"IF(METHANE!E94>0,METHANE!E94*DEFAULTS!$B$55*DEFAULTS!$B$53/DEFAULTS!$B$54,0)","v":0},{"$f":"IF(METHANE!F94>0,METHANE!F94,0)","v":0},{"$f":"IF(METHANE!F94>0,METHANE!F94*DEFAULTS!$B$55*DEFAULTS!$B$53/DEFAULTS!$B$54,0)","v":0},{"$f":"IF(ISERROR(METHANE!$J94*DEFAULTS!$B$81*(IF('USER INPUTS'!$B$24=\"Total landfill gas\",(1/($D$5/100)),IF('USER INPUTS'!$B$24=\"Methane\",1,IF('USER INPUTS'!$B$24=\"Carbon dioxide\",((1/($D$5/100))-1),(VLOOKUP('USER INPUTS'!$B$24,DEFAULTS!$E$8:$F$69,2,FALSE))/10^6*(1/($D$5/100))))))),0,METHANE!$J94*DEFAULTS!$B$81*(IF('USER INPUTS'!$B$24=\"Total landfill gas\",(1/($D$5/100)),IF('USER INPUTS'!$B$24=\"Methane\",1,IF('USER INPUTS'!$B$24=\"Carbon dioxide\",((1/($D$5/100))-1),(VLOOKUP('USER INPUTS'!$B$24,DEFAULTS!$E$8:$F$69,2,FALSE))/10^6*(1/($D$5/100)))))))","v":0},{"$f":"IF(ISERROR(METHANE!$J94*(IF('USER INPUTS'!$B$24=\"Total landfill gas\",(1/($D$5/100)),IF('USER INPUTS'!$B$24=\"Methane\",1,IF('USER INPUTS'!$B$24=\"Carbon dioxide\",((1/($D$5/100))-1),(VLOOKUP('USER INPUTS'!$B$24,DEFAULTS!$E$8:$F$69,2,FALSE))/10^6*(1/($D$5/100))))))),0,METHANE!$J94*(IF('USER INPUTS'!$B$24=\"Total landfill gas\",(1/($D$5/100)),IF('USER INPUTS'!$B$24=\"Methane\",1,IF('USER INPUTS'!$B$24=\"Carbon dioxide\",((1/($D$5/100))-1),(VLOOKUP('USER INPUTS'!$B$24,DEFAULTS!$E$8:$F$69,2,FALSE))/10^6*(1/($D$5/100)))))))","v":0},{"$f":"IF(H$8=\"(short tons/year)\",(F80*DEFAULTS!$B$55*DEFAULTS!$B$53/DEFAULTS!$B$54),IF(H$8=\"(ft^3/year)\",(G80*DEFAULTS!$B$57),IF(H$8=\"(av ft^3/min)\",(G80*DEFAULTS!$B$57/DEFAULTS!$B$58),0)))","v":0},{"$f":"IF(ISERROR(METHANE!$J94*DEFAULTS!$B$82*(IF('USER INPUTS'!$B$26=\"Total landfill gas\",(1/($D$5/100)),IF('USER INPUTS'!$B$26=\"Methane\",1,IF('USER INPUTS'!$B$26=\"Carbon dioxide\",((1/($D$5/100))-1),(VLOOKUP('USER INPUTS'!$B$26,DEFAULTS!$E$8:$F$69,2,FALSE))/10^6*(1/($D$5/100))))))),0,METHANE!$J94*DEFAULTS!$B$82*(IF('USER INPUTS'!$B$26=\"Total landfill gas\",(1/($D$5/100)),IF('USER INPUTS'!$B$26=\"Methane\",1,IF('USER INPUTS'!$B$26=\"Carbon dioxide\",((1/($D$5/100))-1),(VLOOKUP('USER INPUTS'!$B$26,DEFAULTS!$E$8:$F$69,2,FALSE))/10^6*(1/($D$5/100)))))))","v":0},{"$f":"IF(ISERROR(METHANE!$J94*(IF('USER INPUTS'!$B$26=\"Total landfill gas\",(1/($D$5/100)),IF('USER INPUTS'!$B$26=\"Methane\",1,IF('USER INPUTS'!$B$26=\"Carbon dioxide\",((1/($D$5/100))-1),(VLOOKUP('USER INPUTS'!$B$26,DEFAULTS!$E$8:$F$69,2,FALSE))/10^6*(1/($D$5/100))))))),0,METHANE!$J94*(IF('USER INPUTS'!$B$26=\"Total landfill gas\",(1/($D$5/100)),IF('USER INPUTS'!$B$26=\"Methane\",1,IF('USER INPUTS'!$B$26=\"Carbon dioxide\",((1/($D$5/100))-1),(VLOOKUP('USER INPUTS'!$B$26,DEFAULTS!$E$8:$F$69,2,FALSE))/10^6*(1/($D$5/100)))))))","v":0},{"$f":"IF(K$8=\"(short tons/year)\",(I80*DEFAULTS!$B$55*DEFAULTS!$B$53/DEFAULTS!$B$54),IF(K$8=\"(ft^3/year)\",(J80*DEFAULTS!$B$57),IF(K$8=\"(av ft^3/min)\",(J80*DEFAULTS!$B$57/DEFAULTS!$B$58),0)))","v":0},{"$f":"IF(ISERROR(METHANE!$J94*DEFAULTS!$B$83*(IF('USER INPUTS'!$B$28=\"Total landfill gas\",(1/($D$5/100)),IF('USER INPUTS'!$B$28=\"Methane\",1,IF('USER INPUTS'!$B$28=\"Carbon dioxide\",((1/($D$5/100))-1),(VLOOKUP('USER INPUTS'!$B$28,DEFAULTS!$E$8:$F$69,2,FALSE))/10^6*(1/($D$5/100))))))),0,METHANE!$J94*DEFAULTS!$B$83*(IF('USER INPUTS'!$B$28=\"Total landfill gas\",(1/($D$5/100)),IF('USER INPUTS'!$B$28=\"Methane\",1,IF('USER INPUTS'!$B$28=\"Carbon dioxide\",((1/($D$5/100))-1),(VLOOKUP('USER INPUTS'!$B$28,DEFAULTS!$E$8:$F$69,2,FALSE))/10^6*(1/($D$5/100)))))))","v":0},{"$f":"IF(ISERROR(METHANE!$J94*(IF('USER INPUTS'!$B$28=\"Total landfill gas\",(1/($D$5/100)),IF('USER INPUTS'!$B$28=\"Methane\",1,IF('USER INPUTS'!$B$28=\"Carbon dioxide\",((1/($D$5/100))-1),(VLOOKUP('USER INPUTS'!$B$28,DEFAULTS!$E$8:$F$69,2,FALSE))/10^6*(1/($D$5/100))))))),0,METHANE!$J94*(IF('USER INPUTS'!$B$28=\"Total landfill gas\",(1/($D$5/100)),IF('USER INPUTS'!$B$28=\"Methane\",1,IF('USER INPUTS'!$B$28=\"Carbon dioxide\",((1/($D$5/100))-1),(VLOOKUP('USER INPUTS'!$B$28,DEFAULTS!$E$8:$F$69,2,FALSE))/10^6*(1/($D$5/100)))))))","v":0},{"$f":"IF(N$8=\"(short tons/year)\",(L80*DEFAULTS!$B$55*DEFAULTS!$B$53/DEFAULTS!$B$54),IF(N$8=\"(ft^3/year)\",(M80*DEFAULTS!$B$57),IF(N$8=\"(av ft^3/min)\",(M80*DEFAULTS!$B$57/DEFAULTS!$B$58),0)))","v":0},{"$f":"IF(ISERROR(METHANE!$J94*DEFAULTS!$B$84*(IF('USER INPUTS'!$B$30=\"Total landfill gas\",(1/($D$5/100)),IF('USER INPUTS'!$B$30=\"Methane\",1,IF('USER INPUTS'!$B$30=\"Carbon dioxide\",((1/($D$5/100))-1),(VLOOKUP('USER INPUTS'!$B$30,DEFAULTS!$E$8:$F$69,2,FALSE))/10^6*(1/($D$5/100))))))),0,METHANE!$J94*DEFAULTS!$B$84*(IF('USER INPUTS'!$B$30=\"Total landfill gas\",(1/($D$5/100)),IF('USER INPUTS'!$B$30=\"Methane\",1,IF('USER INPUTS'!$B$30=\"Carbon dioxide\",((1/($D$5/100))-1),(VLOOKUP('USER INPUTS'!$B$30,DEFAULTS!$E$8:$F$69,2,FALSE))/10^6*(1/($D$5/100)))))))","v":0},{"$f":"IF(ISERROR(METHANE!$J94*(IF('USER INPUTS'!$B$30=\"Total landfill gas\",(1/($D$5/100)),IF('USER INPUTS'!$B$30=\"Methane\",1,IF('USER INPUTS'!$B$30=\"Carbon dioxide\",((1/($D$5/100))-1),(VLOOKUP('USER INPUTS'!$B$30,DEFAULTS!$E$8:$F$69,2,FALSE))/10^6*(1/($D$5/100))))))),0,METHANE!$J94*(IF('USER INPUTS'!$B$30=\"Total landfill gas\",(1/($D$5/100)),IF('USER INPUTS'!$B$30=\"Methane\",1,IF('USER INPUTS'!$B$30=\"Carbon dioxide\",((1/($D$5/100))-1),(VLOOKUP('USER INPUTS'!$B$30,DEFAULTS!$E$8:$F$69,2,FALSE))/10^6*(1/($D$5/100)))))))","v":0},{"$f":"IF(Q$8=\"(short tons/year)\",(O80*DEFAULTS!$B$55*DEFAULTS!$B$53/DEFAULTS!$B$54),IF(Q$8=\"(ft^3/year)\",(P80*DEFAULTS!$B$57),IF(Q$8=\"(av ft^3/min)\",(P80*DEFAULTS!$B$57/DEFAULTS!$B$58),0)))","v":0}]
[{"$f":"METHANE!I95","v":72},{"$f":"IF(METHANE!E95>0,METHANE!E95,0)","v":0},{"$f":"IF(METHANE!E95>0,METHANE!E95*DEFAULTS!$B$55*DEFAULTS!$B$53/DEFAULTS!$B$54,0)","v":0},{"$f":"IF(METHANE!F95>0,METHANE!F95,0)","v":0},{"$f":"IF(METHANE!F95>0,METHANE!F95*DEFAULTS!$B$55*DEFAULTS!$B$53/DEFAULTS!$B$54,0)","v":0},{"$f":"IF(ISERROR(METHANE!$J95*DEFAULTS!$B$81*(IF('USER INPUTS'!$B$24=\"Total landfill gas\",(1/($D$5/100)),IF('USER INPUTS'!$B$24=\"Methane\",1,IF('USER INPUTS'!$B$24=\"Carbon dioxide\",((1/($D$5/100))-1),(VLOOKUP('USER INPUTS'!$B$24,DEFAULTS!$E$8:$F$69,2,FALSE))/10^6*(1/($D$5/100))))))),0,METHANE!$J95*DEFAULTS!$B$81*(IF('USER INPUTS'!$B$24=\"Total landfill gas\",(1/($D$5/100)),IF('USER INPUTS'!$B$24=\"Methane\",1,IF('USER INPUTS'!$B$24=\"Carbon dioxide\",((1/($D$5/100))-1),(VLOOKUP('USER INPUTS'!$B$24,DEFAULTS!$E$8:$F$69,2,FALSE))/10^6*(1/($D$5/100)))))))","v":0},{"$f":"IF(ISERROR(METHANE!$J95*(IF('USER INPUTS'!$B$24=\"Total landfill gas\",(1/($D$5/100)),IF('USER INPUTS'!$B$24=\"Methane\",1,IF('USER INPUTS'!$B$24=\"Carbon dioxide\",((1/($D$5/100))-1),(VLOOKUP('USER INPUTS'!$B$24,DEFAULTS!$E$8:$F$69,2,FALSE))/10^6*(1/($D$5/100))))))),0,METHANE!$J95*(IF('USER INPUTS'!$B$24=\"Total landfill gas\",(1/($D$5/100)),IF('USER INPUTS'!$B$24=\"Methane\",1,IF('USER INPUTS'!$B$24=\"Carbon dioxide\",((1/($D$5/100))-1),(VLOOKUP('USER INPUTS'!$B$24,DEFAULTS!$E$8:$F$69,2,FALSE))/10^6*(1/($D$5/100)))))))","v":0},{"$f":"IF(H$8=\"(short tons/year)\",(F81*DEFAULTS!$B$55*DEFAULTS!$B$53/DEFAULTS!$B$54),IF(H$8=\"(ft^3/year)\",(G81*DEFAULTS!$B$57),IF(H$8=\"(av ft^3/min)\",(G81*DEFAULTS!$B$57/DEFAULTS!$B$58),0)))","v":0},{"$f":"IF(ISERROR(METHANE!$J95*DEFAULTS!$B$82*(IF('USER INPUTS'!$B$26=\"Total landfill gas\",(1/($D$5/100)),IF('USER INPUTS'!$B$26=\"Methane\",1,IF('USER INPUTS'!$B$26=\"Carbon dioxide\",((1/($D$5/100))-1),(VLOOKUP('USER INPUTS'!$B$26,DEFAULTS!$E$8:$F$69,2,FALSE))/10^6*(1/($D$5/100))))))),0,METHANE!$J95*DEFAULTS!$B$82*(IF('USER INPUTS'!$B$26=\"Total landfill gas\",(1/($D$5/100)),IF('USER INPUTS'!$B$26=\"Methane\",1,IF('USER INPUTS'!$B$26=\"Carbon dioxide\",((1/($D$5/100))-1),(VLOOKUP('USER INPUTS'!$B$26,DEFAULTS!$E$8:$F$69,2,FALSE))/10^6*(1/($D$5/100)))))))","v":0},{"$f":"IF(ISERROR(METHANE!$J95*(IF('USER INPUTS'!$B$26=\"Total landfill gas\",(1/($D$5/100)),IF('USER INPUTS'!$B$26=\"Methane\",1,IF('USER INPUTS'!$B$26=\"Carbon dioxide\",((1/($D$5/100))-1),(VLOOKUP('USER INPUTS'!$B$26,DEFAULTS!$E$8:$F$69,2,FALSE))/10^6*(1/($D$5/100))))))),0,METHANE!$J95*(IF('USER INPUTS'!$B$26=\"Total landfill gas\",(1/($D$5/100)),IF('USER INPUTS'!$B$26=\"Methane\",1,IF('USER INPUTS'!$B$26=\"Carbon dioxide\",((1/($D$5/100))-1),(VLOOKUP('USER INPUTS'!$B$26,DEFAULTS!$E$8:$F$69,2,FALSE))/10^6*(1/($D$5/100)))))))","v":0},{"$f":"IF(K$8=\"(short tons/year)\",(I81*DEFAULTS!$B$55*DEFAULTS!$B$53/DEFAULTS!$B$54),IF(K$8=\"(ft^3/year)\",(J81*DEFAULTS!$B$57),IF(K$8=\"(av ft^3/min)\",(J81*DEFAULTS!$B$57/DEFAULTS!$B$58),0)))","v":0},{"$f":"IF(ISERROR(METHANE!$J95*DEFAULTS!$B$83*(IF('USER INPUTS'!$B$28=\"Total landfill gas\",(1/($D$5/100)),IF('USER INPUTS'!$B$28=\"Methane\",1,IF('USER INPUTS'!$B$28=\"Carbon dioxide\",((1/($D$5/100))-1),(VLOOKUP('USER INPUTS'!$B$28,DEFAULTS!$E$8:$F$69,2,FALSE))/10^6*(1/($D$5/100))))))),0,METHANE!$J95*DEFAULTS!$B$83*(IF('USER INPUTS'!$B$28=\"Total landfill gas\",(1/($D$5/100)),IF('USER INPUTS'!$B$28=\"Methane\",1,IF('USER INPUTS'!$B$28=\"Carbon dioxide\",((1/($D$5/100))-1),(VLOOKUP('USER INPUTS'!$B$28,DEFAULTS!$E$8:$F$69,2,FALSE))/10^6*(1/($D$5/100)))))))","v":0},{"$f":"IF(ISERROR(METHANE!$J95*(IF('USER INPUTS'!$B$28=\"Total landfill gas\",(1/($D$5/100)),IF('USER INPUTS'!$B$28=\"Methane\",1,IF('USER INPUTS'!$B$28=\"Carbon dioxide\",((1/($D$5/100))-1),(VLOOKUP('USER INPUTS'!$B$28,DEFAULTS!$E$8:$F$69,2,FALSE))/10^6*(1/($D$5/100))))))),0,METHANE!$J95*(IF('USER INPUTS'!$B$28=\"Total landfill gas\",(1/($D$5/100)),IF('USER INPUTS'!$B$28=\"Methane\",1,IF('USER INPUTS'!$B$28=\"Carbon dioxide\",((1/($D$5/100))-1),(VLOOKUP('USER INPUTS'!$B$28,DEFAULTS!$E$8:$F$69,2,FALSE))/10^6*(1/($D$5/100)))))))","v":0},{"$f":"IF(N$8=\"(short tons/year)\",(L81*DEFAULTS!$B$55*DEFAULTS!$B$53/DEFAULTS!$B$54),IF(N$8=\"(ft^3/year)\",(M81*DEFAULTS!$B$57),IF(N$8=\"(av ft^3/min)\",(M81*DEFAULTS!$B$57/DEFAULTS!$B$58),0)))","v":0},{"$f":"IF(ISERROR(METHANE!$J95*DEFAULTS!$B$84*(IF('USER INPUTS'!$B$30=\"Total landfill gas\",(1/($D$5/100)),IF('USER INPUTS'!$B$30=\"Methane\",1,IF('USER INPUTS'!$B$30=\"Carbon dioxide\",((1/($D$5/100))-1),(VLOOKUP('USER INPUTS'!$B$30,DEFAULTS!$E$8:$F$69,2,FALSE))/10^6*(1/($D$5/100))))))),0,METHANE!$J95*DEFAULTS!$B$84*(IF('USER INPUTS'!$B$30=\"Total landfill gas\",(1/($D$5/100)),IF('USER INPUTS'!$B$30=\"Methane\",1,IF('USER INPUTS'!$B$30=\"Carbon dioxide\",((1/($D$5/100))-1),(VLOOKUP('USER INPUTS'!$B$30,DEFAULTS!$E$8:$F$69,2,FALSE))/10^6*(1/($D$5/100)))))))","v":0},{"$f":"IF(ISERROR(METHANE!$J95*(IF('USER INPUTS'!$B$30=\"Total landfill gas\",(1/($D$5/100)),IF('USER INPUTS'!$B$30=\"Methane\",1,IF('USER INPUTS'!$B$30=\"Carbon dioxide\",((1/($D$5/100))-1),(VLOOKUP('USER INPUTS'!$B$30,DEFAULTS!$E$8:$F$69,2,FALSE))/10^6*(1/($D$5/100))))))),0,METHANE!$J95*(IF('USER INPUTS'!$B$30=\"Total landfill gas\",(1/($D$5/100)),IF('USER INPUTS'!$B$30=\"Methane\",1,IF('USER INPUTS'!$B$30=\"Carbon dioxide\",((1/($D$5/100))-1),(VLOOKUP('USER INPUTS'!$B$30,DEFAULTS!$E$8:$F$69,2,FALSE))/10^6*(1/($D$5/100)))))))","v":0},{"$f":"IF(Q$8=\"(short tons/year)\",(O81*DEFAULTS!$B$55*DEFAULTS!$B$53/DEFAULTS!$B$54),IF(Q$8=\"(ft^3/year)\",(P81*DEFAULTS!$B$57),IF(Q$8=\"(av ft^3/min)\",(P81*DEFAULTS!$B$57/DEFAULTS!$B$58),0)))","v":0}]
[{"$f":"METHANE!I96","v":73},{"$f":"IF(METHANE!E96>0,METHANE!E96,0)","v":0},{"$f":"IF(METHANE!E96>0,METHANE!E96*DEFAULTS!$B$55*DEFAULTS!$B$53/DEFAULTS!$B$54,0)","v":0},{"$f":"IF(METHANE!F96>0,METHANE!F96,0)","v":0},{"$f":"IF(METHANE!F96>0,METHANE!F96*DEFAULTS!$B$55*DEFAULTS!$B$53/DEFAULTS!$B$54,0)","v":0},{"$f":"IF(ISERROR(METHANE!$J96*DEFAULTS!$B$81*(IF('USER INPUTS'!$B$24=\"Total landfill gas\",(1/($D$5/100)),IF('USER INPUTS'!$B$24=\"Methane\",1,IF('USER INPUTS'!$B$24=\"Carbon dioxide\",((1/($D$5/100))-1),(VLOOKUP('USER INPUTS'!$B$24,DEFAULTS!$E$8:$F$69,2,FALSE))/10^6*(1/($D$5/100))))))),0,METHANE!$J96*DEFAULTS!$B$81*(IF('USER INPUTS'!$B$24=\"Total landfill gas\",(1/($D$5/100)),IF('USER INPUTS'!$B$24=\"Methane\",1,IF('USER INPUTS'!$B$24=\"Carbon dioxide\",((1/($D$5/100))-1),(VLOOKUP('USER INPUTS'!$B$24,DEFAULTS!$E$8:$F$69,2,FALSE))/10^6*(1/($D$5/100)))))))","v":0},{"$f":"IF(ISERROR(METHANE!$J96*(IF('USER INPUTS'!$B$24=\"Total landfill gas\",(1/($D$5/100)),IF('USER INPUTS'!$B$24=\"Methane\",1,IF('USER INPUTS'!$B$24=\"Carbon dioxide\",((1/($D$5/100))-1),(VLOOKUP('USER INPUTS'!$B$24,DEFAULTS!$E$8:$F$69,2,FALSE))/10^6*(1/($D$5/100))))))),0,METHANE!$J96*(IF('USER INPUTS'!$B$24=\"Total landfill gas\",(1/($D$5/100)),IF('USER INPUTS'!$B$24=\"Methane\",1,IF('USER INPUTS'!$B$24=\"Carbon dioxide\",((1/($D$5/100))-1),(VLOOKUP('USER INPUTS'!$B$24,DEFAULTS!$E$8:$F$69,2,FALSE))/10^6*(1/($D$5/100)))))))","v":0},{"$f":"IF(H$8=\"(short tons/year)\",(F82*DEFAULTS!$B$55*DEFAULTS!$B$53/DEFAULTS!$B$54),IF(H$8=\"(ft^3/year)\",(G82*DEFAULTS!$B$57),IF(H$8=\"(av ft^3/min)\",(G82*DEFAULTS!$B$57/DEFAULTS!$B$58),0)))","v":0},{"$f":"IF(ISERROR(METHANE!$J96*DEFAULTS!$B$82*(IF('USER INPUTS'!$B$26=\"Total landfill gas\",(1/($D$5/100)),IF('USER INPUTS'!$B$26=\"Methane\",1,IF('USER INPUTS'!$B$26=\"Carbon dioxide\",((1/($D$5/100))-1),(VLOOKUP('USER INPUTS'!$B$26,DEFAULTS!$E$8:$F$69,2,FALSE))/10^6*(1/($D$5/100))))))),0,METHANE!$J96*DEFAULTS!$B$82*(IF('USER INPUTS'!$B$26=\"Total landfill gas\",(1/($D$5/100)),IF('USER INPUTS'!$B$26=\"Methane\",1,IF('USER INPUTS'!$B$26=\"Carbon dioxide\",((1/($D$5/100))-1),(VLOOKUP('USER INPUTS'!$B$26,DEFAULTS!$E$8:$F$69,2,FALSE))/10^6*(1/($D$5/100)))))))","v":0},{"$f":"IF(ISERROR(METHANE!$J96*(IF('USER INPUTS'!$B$26=\"Total landfill gas\",(1/($D$5/100)),IF('USER INPUTS'!$B$26=\"Methane\",1,IF('USER INPUTS'!$B$26=\"Carbon dioxide\",((1/($D$5/100))-1),(VLOOKUP('USER INPUTS'!$B$26,DEFAULTS!$E$8:$F$69,2,FALSE))/10^6*(1/($D$5/100))))))),0,METHANE!$J96*(IF('USER INPUTS'!$B$26=\"Total landfill gas\",(1/($D$5/100)),IF('USER INPUTS'!$B$26=\"Methane\",1,IF('USER INPUTS'!$B$26=\"Carbon dioxide\",((1/($D$5/100))-1),(VLOOKUP('USER INPUTS'!$B$26,DEFAULTS!$E$8:$F$69,2,FALSE))/10^6*(1/($D$5/100)))))))","v":0},{"$f":"IF(K$8=\"(short tons/year)\",(I82*DEFAULTS!$B$55*DEFAULTS!$B$53/DEFAULTS!$B$54),IF(K$8=\"(ft^3/year)\",(J82*DEFAULTS!$B$57),IF(K$8=\"(av ft^3/min)\",(J82*DEFAULTS!$B$57/DEFAULTS!$B$58),0)))","v":0},{"$f":"IF(ISERROR(METHANE!$J96*DEFAULTS!$B$83*(IF('USER INPUTS'!$B$28=\"Total landfill gas\",(1/($D$5/100)),IF('USER INPUTS'!$B$28=\"Methane\",1,IF('USER INPUTS'!$B$28=\"Carbon dioxide\",((1/($D$5/100))-1),(VLOOKUP('USER INPUTS'!$B$28,DEFAULTS!$E$8:$F$69,2,FALSE))/10^6*(1/($D$5/100))))))),0,METHANE!$J96*DEFAULTS!$B$83*(IF('USER INPUTS'!$B$28=\"Total landfill gas\",(1/($D$5/100)),IF('USER INPUTS'!$B$28=\"Methane\",1,IF('USER INPUTS'!$B$28=\"Carbon dioxide\",((1/($D$5/100))-1),(VLOOKUP('USER INPUTS'!$B$28,DEFAULTS!$E$8:$F$69,2,FALSE))/10^6*(1/($D$5/100)))))))","v":0},{"$f":"IF(ISERROR(METHANE!$J96*(IF('USER INPUTS'!$B$28=\"Total landfill gas\",(1/($D$5/100)),IF('USER INPUTS'!$B$28=\"Methane\",1,IF('USER INPUTS'!$B$28=\"Carbon dioxide\",((1/($D$5/100))-1),(VLOOKUP('USER INPUTS'!$B$28,DEFAULTS!$E$8:$F$69,2,FALSE))/10^6*(1/($D$5/100))))))),0,METHANE!$J96*(IF('USER INPUTS'!$B$28=\"Total landfill gas\",(1/($D$5/100)),IF('USER INPUTS'!$B$28=\"Methane\",1,IF('USER INPUTS'!$B$28=\"Carbon dioxide\",((1/($D$5/100))-1),(VLOOKUP('USER INPUTS'!$B$28,DEFAULTS!$E$8:$F$69,2,FALSE))/10^6*(1/($D$5/100)))))))","v":0},{"$f":"IF(N$8=\"(short tons/year)\",(L82*DEFAULTS!$B$55*DEFAULTS!$B$53/DEFAULTS!$B$54),IF(N$8=\"(ft^3/year)\",(M82*DEFAULTS!$B$57),IF(N$8=\"(av ft^3/min)\",(M82*DEFAULTS!$B$57/DEFAULTS!$B$58),0)))","v":0},{"$f":"IF(ISERROR(METHANE!$J96*DEFAULTS!$B$84*(IF('USER INPUTS'!$B$30=\"Total landfill gas\",(1/($D$5/100)),IF('USER INPUTS'!$B$30=\"Methane\",1,IF('USER INPUTS'!$B$30=\"Carbon dioxide\",((1/($D$5/100))-1),(VLOOKUP('USER INPUTS'!$B$30,DEFAULTS!$E$8:$F$69,2,FALSE))/10^6*(1/($D$5/100))))))),0,METHANE!$J96*DEFAULTS!$B$84*(IF('USER INPUTS'!$B$30=\"Total landfill gas\",(1/($D$5/100)),IF('USER INPUTS'!$B$30=\"Methane\",1,IF('USER INPUTS'!$B$30=\"Carbon dioxide\",((1/($D$5/100))-1),(VLOOKUP('USER INPUTS'!$B$30,DEFAULTS!$E$8:$F$69,2,FALSE))/10^6*(1/($D$5/100)))))))","v":0},{"$f":"IF(ISERROR(METHANE!$J96*(IF('USER INPUTS'!$B$30=\"Total landfill gas\",(1/($D$5/100)),IF('USER INPUTS'!$B$30=\"Methane\",1,IF('USER INPUTS'!$B$30=\"Carbon dioxide\",((1/($D$5/100))-1),(VLOOKUP('USER INPUTS'!$B$30,DEFAULTS!$E$8:$F$69,2,FALSE))/10^6*(1/($D$5/100))))))),0,METHANE!$J96*(IF('USER INPUTS'!$B$30=\"Total landfill gas\",(1/($D$5/100)),IF('USER INPUTS'!$B$30=\"Methane\",1,IF('USER INPUTS'!$B$30=\"Carbon dioxide\",((1/($D$5/100))-1),(VLOOKUP('USER INPUTS'!$B$30,DEFAULTS!$E$8:$F$69,2,FALSE))/10^6*(1/($D$5/100)))))))","v":0},{"$f":"IF(Q$8=\"(short tons/year)\",(O82*DEFAULTS!$B$55*DEFAULTS!$B$53/DEFAULTS!$B$54),IF(Q$8=\"(ft^3/year)\",(P82*DEFAULTS!$B$57),IF(Q$8=\"(av ft^3/min)\",(P82*DEFAULTS!$B$57/DEFAULTS!$B$58),0)))","v":0}]
[{"$f":"METHANE!I97","v":74},{"$f":"IF(METHANE!E97>0,METHANE!E97,0)","v":0},{"$f":"IF(METHANE!E97>0,METHANE!E97*DEFAULTS!$B$55*DEFAULTS!$B$53/DEFAULTS!$B$54,0)","v":0},{"$f":"IF(METHANE!F97>0,METHANE!F97,0)","v":0},{"$f":"IF(METHANE!F97>0,METHANE!F97*DEFAULTS!$B$55*DEFAULTS!$B$53/DEFAULTS!$B$54,0)","v":0},{"$f":"IF(ISERROR(METHANE!$J97*DEFAULTS!$B$81*(IF('USER INPUTS'!$B$24=\"Total landfill gas\",(1/($D$5/100)),IF('USER INPUTS'!$B$24=\"Methane\",1,IF('USER INPUTS'!$B$24=\"Carbon dioxide\",((1/($D$5/100))-1),(VLOOKUP('USER INPUTS'!$B$24,DEFAULTS!$E$8:$F$69,2,FALSE))/10^6*(1/($D$5/100))))))),0,METHANE!$J97*DEFAULTS!$B$81*(IF('USER INPUTS'!$B$24=\"Total landfill gas\",(1/($D$5/100)),IF('USER INPUTS'!$B$24=\"Methane\",1,IF('USER INPUTS'!$B$24=\"Carbon dioxide\",((1/($D$5/100))-1),(VLOOKUP('USER INPUTS'!$B$24,DEFAULTS!$E$8:$F$69,2,FALSE))/10^6*(1/($D$5/100)))))))","v":0},{"$f":"IF(ISERROR(METHANE!$J97*(IF('USER INPUTS'!$B$24=\"Total landfill gas\",(1/($D$5/100)),IF('USER INPUTS'!$B$24=\"Methane\",1,IF('USER INPUTS'!$B$24=\"Carbon dioxide\",((1/($D$5/100))-1),(VLOOKUP('USER INPUTS'!$B$24,DEFAULTS!$E$8:$F$69,2,FALSE))/10^6*(1/($D$5/100))))))),0,METHANE!$J97*(IF('USER INPUTS'!$B$24=\"Total landfill gas\",(1/($D$5/100)),IF('USER INPUTS'!$B$24=\"Methane\",1,IF('USER INPUTS'!$B$24=\"Carbon dioxide\",((1/($D$5/100))-1),(VLOOKUP('USER INPUTS'!$B$24,DEFAULTS!$E$8:$F$69,2,FALSE))/10^6*(1/($D$5/100)))))))","v":0},{"$f":"IF(H$8=\"(short tons/year)\",(F83*DEFAULTS!$B$55*DEFAULTS!$B$53/DEFAULTS!$B$54),IF(H$8=\"(ft^3/year)\",(G83*DEFAULTS!$B$57),IF(H$8=\"(av ft^3/min)\",(G83*DEFAULTS!$B$57/DEFAULTS!$B$58),0)))","v":0},{"$f":"IF(ISERROR(METHANE!$J97*DEFAULTS!$B$82*(IF('USER INPUTS'!$B$26=\"Total landfill gas\",(1/($D$5/100)),IF('USER INPUTS'!$B$26=\"Methane\",1,IF('USER INPUTS'!$B$26=\"Carbon dioxide\",((1/($D$5/100))-1),(VLOOKUP('USER INPUTS'!$B$26,DEFAULTS!$E$8:$F$69,2,FALSE))/10^6*(1/($D$5/100))))))),0,METHANE!$J97*DEFAULTS!$B$82*(IF('USER INPUTS'!$B$26=\"Total landfill gas\",(1/($D$5/100)),IF('USER INPUTS'!$B$26=\"Methane\",1,IF('USER INPUTS'!$B$26=\"Carbon dioxide\",((1/($D$5/100))-1),(VLOOKUP('USER INPUTS'!$B$26,DEFAULTS!$E$8:$F$69,2,FALSE))/10^6*(1/($D$5/100)))))))","v":0},{"$f":"IF(ISERROR(METHANE!$J97*(IF('USER INPUTS'!$B$26=\"Total landfill gas\",(1/($D$5/100)),IF('USER INPUTS'!$B$26=\"Methane\",1,IF('USER INPUTS'!$B$26=\"Carbon dioxide\",((1/($D$5/100))-1),(VLOOKUP('USER INPUTS'!$B$26,DEFAULTS!$E$8:$F$69,2,FALSE))/10^6*(1/($D$5/100))))))),0,METHANE!$J97*(IF('USER INPUTS'!$B$26=\"Total landfill gas\",(1/($D$5/100)),IF('USER INPUTS'!$B$26=\"Methane\",1,IF('USER INPUTS'!$B$26=\"Carbon dioxide\",((1/($D$5/100))-1),(VLOOKUP('USER INPUTS'!$B$26,DEFAULTS!$E$8:$F$69,2,FALSE))/10^6*(1/($D$5/100)))))))","v":0},{"$f":"IF(K$8=\"(short tons/year)\",(I83*DEFAULTS!$B$55*DEFAULTS!$B$53/DEFAULTS!$B$54),IF(K$8=\"(ft^3/year)\",(J83*DEFAULTS!$B$57),IF(K$8=\"(av ft^3/min)\",(J83*DEFAULTS!$B$57/DEFAULTS!$B$58),0)))","v":0},{"$f":"IF(ISERROR(METHANE!$J97*DEFAULTS!$B$83*(IF('USER INPUTS'!$B$28=\"Total landfill gas\",(1/($D$5/100)),IF('USER INPUTS'!$B$28=\"Methane\",1,IF('USER INPUTS'!$B$28=\"Carbon dioxide\",((1/($D$5/100))-1),(VLOOKUP('USER INPUTS'!$B$28,DEFAULTS!$E$8:$F$69,2,FALSE))/10^6*(1/($D$5/100))))))),0,METHANE!$J97*DEFAULTS!$B$83*(IF('USER INPUTS'!$B$28=\"Total landfill gas\",(1/($D$5/100)),IF('USER INPUTS'!$B$28=\"Methane\",1,IF('USER INPUTS'!$B$28=\"Carbon dioxide\",((1/($D$5/100))-1),(VLOOKUP('USER INPUTS'!$B$28,DEFAULTS!$E$8:$F$69,2,FALSE))/10^6*(1/($D$5/100)))))))","v":0},{"$f":"IF(ISERROR(METHANE!$J97*(IF('USER INPUTS'!$B$28=\"Total landfill gas\",(1/($D$5/100)),IF('USER INPUTS'!$B$28=\"Methane\",1,IF('USER INPUTS'!$B$28=\"Carbon dioxide\",((1/($D$5/100))-1),(VLOOKUP('USER INPUTS'!$B$28,DEFAULTS!$E$8:$F$69,2,FALSE))/10^6*(1/($D$5/100))))))),0,METHANE!$J97*(IF('USER INPUTS'!$B$28=\"Total landfill gas\",(1/($D$5/100)),IF('USER INPUTS'!$B$28=\"Methane\",1,IF('USER INPUTS'!$B$28=\"Carbon dioxide\",((1/($D$5/100))-1),(VLOOKUP('USER INPUTS'!$B$28,DEFAULTS!$E$8:$F$69,2,FALSE))/10^6*(1/($D$5/100)))))))","v":0},{"$f":"IF(N$8=\"(short tons/year)\",(L83*DEFAULTS!$B$55*DEFAULTS!$B$53/DEFAULTS!$B$54),IF(N$8=\"(ft^3/year)\",(M83*DEFAULTS!$B$57),IF(N$8=\"(av ft^3/min)\",(M83*DEFAULTS!$B$57/DEFAULTS!$B$58),0)))","v":0},{"$f":"IF(ISERROR(METHANE!$J97*DEFAULTS!$B$84*(IF('USER INPUTS'!$B$30=\"Total landfill gas\",(1/($D$5/100)),IF('USER INPUTS'!$B$30=\"Methane\",1,IF('USER INPUTS'!$B$30=\"Carbon dioxide\",((1/($D$5/100))-1),(VLOOKUP('USER INPUTS'!$B$30,DEFAULTS!$E$8:$F$69,2,FALSE))/10^6*(1/($D$5/100))))))),0,METHANE!$J97*DEFAULTS!$B$84*(IF('USER INPUTS'!$B$30=\"Total landfill gas\",(1/($D$5/100)),IF('USER INPUTS'!$B$30=\"Methane\",1,IF('USER INPUTS'!$B$30=\"Carbon dioxide\",((1/($D$5/100))-1),(VLOOKUP('USER INPUTS'!$B$30,DEFAULTS!$E$8:$F$69,2,FALSE))/10^6*(1/($D$5/100)))))))","v":0},{"$f":"IF(ISERROR(METHANE!$J97*(IF('USER INPUTS'!$B$30=\"Total landfill gas\",(1/($D$5/100)),IF('USER INPUTS'!$B$30=\"Methane\",1,IF('USER INPUTS'!$B$30=\"Carbon dioxide\",((1/($D$5/100))-1),(VLOOKUP('USER INPUTS'!$B$30,DEFAULTS!$E$8:$F$69,2,FALSE))/10^6*(1/($D$5/100))))))),0,METHANE!$J97*(IF('USER INPUTS'!$B$30=\"Total landfill gas\",(1/($D$5/100)),IF('USER INPUTS'!$B$30=\"Methane\",1,IF('USER INPUTS'!$B$30=\"Carbon dioxide\",((1/($D$5/100))-1),(VLOOKUP('USER INPUTS'!$B$30,DEFAULTS!$E$8:$F$69,2,FALSE))/10^6*(1/($D$5/100)))))))","v":0},{"$f":"IF(Q$8=\"(short tons/year)\",(O83*DEFAULTS!$B$55*DEFAULTS!$B$53/DEFAULTS!$B$54),IF(Q$8=\"(ft^3/year)\",(P83*DEFAULTS!$B$57),IF(Q$8=\"(av ft^3/min)\",(P83*DEFAULTS!$B$57/DEFAULTS!$B$58),0)))","v":0}]
[{"$f":"METHANE!I98","v":75},{"$f":"IF(METHANE!E98>0,METHANE!E98,0)","v":0},{"$f":"IF(METHANE!E98>0,METHANE!E98*DEFAULTS!$B$55*DEFAULTS!$B$53/DEFAULTS!$B$54,0)","v":0},{"$f":"IF(METHANE!F98>0,METHANE!F98,0)","v":0},{"$f":"IF(METHANE!F98>0,METHANE!F98*DEFAULTS!$B$55*DEFAULTS!$B$53/DEFAULTS!$B$54,0)","v":0},{"$f":"IF(ISERROR(METHANE!$J98*DEFAULTS!$B$81*(IF('USER INPUTS'!$B$24=\"Total landfill gas\",(1/($D$5/100)),IF('USER INPUTS'!$B$24=\"Methane\",1,IF('USER INPUTS'!$B$24=\"Carbon dioxide\",((1/($D$5/100))-1),(VLOOKUP('USER INPUTS'!$B$24,DEFAULTS!$E$8:$F$69,2,FALSE))/10^6*(1/($D$5/100))))))),0,METHANE!$J98*DEFAULTS!$B$81*(IF('USER INPUTS'!$B$24=\"Total landfill gas\",(1/($D$5/100)),IF('USER INPUTS'!$B$24=\"Methane\",1,IF('USER INPUTS'!$B$24=\"Carbon dioxide\",((1/($D$5/100))-1),(VLOOKUP('USER INPUTS'!$B$24,DEFAULTS!$E$8:$F$69,2,FALSE))/10^6*(1/($D$5/100)))))))","v":0},{"$f":"IF(ISERROR(METHANE!$J98*(IF('USER INPUTS'!$B$24=\"Total landfill gas\",(1/($D$5/100)),IF('USER INPUTS'!$B$24=\"Methane\",1,IF('USER INPUTS'!$B$24=\"Carbon dioxide\",((1/($D$5/100))-1),(VLOOKUP('USER INPUTS'!$B$24,DEFAULTS!$E$8:$F$69,2,FALSE))/10^6*(1/($D$5/100))))))),0,METHANE!$J98*(IF('USER INPUTS'!$B$24=\"Total landfill gas\",(1/($D$5/100)),IF('USER INPUTS'!$B$24=\"Methane\",1,IF('USER INPUTS'!$B$24=\"Carbon dioxide\",((1/($D$5/100))-1),(VLOOKUP('USER INPUTS'!$B$24,DEFAULTS!$E$8:$F$69,2,FALSE))/10^6*(1/($D$5/100)))))))","v":0},{"$f":"IF(H$8=\"(short tons/year)\",(F84*DEFAULTS!$B$55*DEFAULTS!$B$53/DEFAULTS!$B$54),IF(H$8=\"(ft^3/year)\",(G84*DEFAULTS!$B$57),IF(H$8=\"(av ft^3/min)\",(G84*DEFAULTS!$B$57/DEFAULTS!$B$58),0)))","v":0},{"$f":"IF(ISERROR(METHANE!$J98*DEFAULTS!$B$82*(IF('USER INPUTS'!$B$26=\"Total landfill gas\",(1/($D$5/100)),IF('USER INPUTS'!$B$26=\"Methane\",1,IF('USER INPUTS'!$B$26=\"Carbon dioxide\",((1/($D$5/100))-1),(VLOOKUP('USER INPUTS'!$B$26,DEFAULTS!$E$8:$F$69,2,FALSE))/10^6*(1/($D$5/100))))))),0,METHANE!$J98*DEFAULTS!$B$82*(IF('USER INPUTS'!$B$26=\"Total landfill gas\",(1/($D$5/100)),IF('USER INPUTS'!$B$26=\"Methane\",1,IF('USER INPUTS'!$B$26=\"Carbon dioxide\",((1/($D$5/100))-1),(VLOOKUP('USER INPUTS'!$B$26,DEFAULTS!$E$8:$F$69,2,FALSE))/10^6*(1/($D$5/100)))))))","v":0},{"$f":"IF(ISERROR(METHANE!$J98*(IF('USER INPUTS'!$B$26=\"Total landfill gas\",(1/($D$5/100)),IF('USER INPUTS'!$B$26=\"Methane\",1,IF('USER INPUTS'!$B$26=\"Carbon dioxide\",((1/($D$5/100))-1),(VLOOKUP('USER INPUTS'!$B$26,DEFAULTS!$E$8:$F$69,2,FALSE))/10^6*(1/($D$5/100))))))),0,METHANE!$J98*(IF('USER INPUTS'!$B$26=\"Total landfill gas\",(1/($D$5/100)),IF('USER INPUTS'!$B$26=\"Methane\",1,IF('USER INPUTS'!$B$26=\"Carbon dioxide\",((1/($D$5/100))-1),(VLOOKUP('USER INPUTS'!$B$26,DEFAULTS!$E$8:$F$69,2,FALSE))/10^6*(1/($D$5/100)))))))","v":0},{"$f":"IF(K$8=\"(short tons/year)\",(I84*DEFAULTS!$B$55*DEFAULTS!$B$53/DEFAULTS!$B$54),IF(K$8=\"(ft^3/year)\",(J84*DEFAULTS!$B$57),IF(K$8=\"(av ft^3/min)\",(J84*DEFAULTS!$B$57/DEFAULTS!$B$58),0)))","v":0},{"$f":"IF(ISERROR(METHANE!$J98*DEFAULTS!$B$83*(IF('USER INPUTS'!$B$28=\"Total landfill gas\",(1/($D$5/100)),IF('USER INPUTS'!$B$28=\"Methane\",1,IF('USER INPUTS'!$B$28=\"Carbon dioxide\",((1/($D$5/100))-1),(VLOOKUP('USER INPUTS'!$B$28,DEFAULTS!$E$8:$F$69,2,FALSE))/10^6*(1/($D$5/100))))))),0,METHANE!$J98*DEFAULTS!$B$83*(IF('USER INPUTS'!$B$28=\"Total landfill gas\",(1/($D$5/100)),IF('USER INPUTS'!$B$28=\"Methane\",1,IF('USER INPUTS'!$B$28=\"Carbon dioxide\",((1/($D$5/100))-1),(VLOOKUP('USER INPUTS'!$B$28,DEFAULTS!$E$8:$F$69,2,FALSE))/10^6*(1/($D$5/100)))))))","v":0},{"$f":"IF(ISERROR(METHANE!$J98*(IF('USER INPUTS'!$B$28=\"Total landfill gas\",(1/($D$5/100)),IF('USER INPUTS'!$B$28=\"Methane\",1,IF('USER INPUTS'!$B$28=\"Carbon dioxide\",((1/($D$5/100))-1),(VLOOKUP('USER INPUTS'!$B$28,DEFAULTS!$E$8:$F$69,2,FALSE))/10^6*(1/($D$5/100))))))),0,METHANE!$J98*(IF('USER INPUTS'!$B$28=\"Total landfill gas\",(1/($D$5/100)),IF('USER INPUTS'!$B$28=\"Methane\",1,IF('USER INPUTS'!$B$28=\"Carbon dioxide\",((1/($D$5/100))-1),(VLOOKUP('USER INPUTS'!$B$28,DEFAULTS!$E$8:$F$69,2,FALSE))/10^6*(1/($D$5/100)))))))","v":0},{"$f":"IF(N$8=\"(short tons/year)\",(L84*DEFAULTS!$B$55*DEFAULTS!$B$53/DEFAULTS!$B$54),IF(N$8=\"(ft^3/year)\",(M84*DEFAULTS!$B$57),IF(N$8=\"(av ft^3/min)\",(M84*DEFAULTS!$B$57/DEFAULTS!$B$58),0)))","v":0},{"$f":"IF(ISERROR(METHANE!$J98*DEFAULTS!$B$84*(IF('USER INPUTS'!$B$30=\"Total landfill gas\",(1/($D$5/100)),IF('USER INPUTS'!$B$30=\"Methane\",1,IF('USER INPUTS'!$B$30=\"Carbon dioxide\",((1/($D$5/100))-1),(VLOOKUP('USER INPUTS'!$B$30,DEFAULTS!$E$8:$F$69,2,FALSE))/10^6*(1/($D$5/100))))))),0,METHANE!$J98*DEFAULTS!$B$84*(IF('USER INPUTS'!$B$30=\"Total landfill gas\",(1/($D$5/100)),IF('USER INPUTS'!$B$30=\"Methane\",1,IF('USER INPUTS'!$B$30=\"Carbon dioxide\",((1/($D$5/100))-1),(VLOOKUP('USER INPUTS'!$B$30,DEFAULTS!$E$8:$F$69,2,FALSE))/10^6*(1/($D$5/100)))))))","v":0},{"$f":"IF(ISERROR(METHANE!$J98*(IF('USER INPUTS'!$B$30=\"Total landfill gas\",(1/($D$5/100)),IF('USER INPUTS'!$B$30=\"Methane\",1,IF('USER INPUTS'!$B$30=\"Carbon dioxide\",((1/($D$5/100))-1),(VLOOKUP('USER INPUTS'!$B$30,DEFAULTS!$E$8:$F$69,2,FALSE))/10^6*(1/($D$5/100))))))),0,METHANE!$J98*(IF('USER INPUTS'!$B$30=\"Total landfill gas\",(1/($D$5/100)),IF('USER INPUTS'!$B$30=\"Methane\",1,IF('USER INPUTS'!$B$30=\"Carbon dioxide\",((1/($D$5/100))-1),(VLOOKUP('USER INPUTS'!$B$30,DEFAULTS!$E$8:$F$69,2,FALSE))/10^6*(1/($D$5/100)))))))","v":0},{"$f":"IF(Q$8=\"(short tons/year)\",(O84*DEFAULTS!$B$55*DEFAULTS!$B$53/DEFAULTS!$B$54),IF(Q$8=\"(ft^3/year)\",(P84*DEFAULTS!$B$57),IF(Q$8=\"(av ft^3/min)\",(P84*DEFAULTS!$B$57/DEFAULTS!$B$58),0)))","v":0}]
[{"$f":"METHANE!I99","v":76},{"$f":"IF(METHANE!E99>0,METHANE!E99,0)","v":0},{"$f":"IF(METHANE!E99>0,METHANE!E99*DEFAULTS!$B$55*DEFAULTS!$B$53/DEFAULTS!$B$54,0)","v":0},{"$f":"IF(METHANE!F99>0,METHANE!F99,0)","v":0},{"$f":"IF(METHANE!F99>0,METHANE!F99*DEFAULTS!$B$55*DEFAULTS!$B$53/DEFAULTS!$B$54,0)","v":0},{"$f":"IF(ISERROR(METHANE!$J99*DEFAULTS!$B$81*(IF('USER INPUTS'!$B$24=\"Total landfill gas\",(1/($D$5/100)),IF('USER INPUTS'!$B$24=\"Methane\",1,IF('USER INPUTS'!$B$24=\"Carbon dioxide\",((1/($D$5/100))-1),(VLOOKUP('USER INPUTS'!$B$24,DEFAULTS!$E$8:$F$69,2,FALSE))/10^6*(1/($D$5/100))))))),0,METHANE!$J99*DEFAULTS!$B$81*(IF('USER INPUTS'!$B$24=\"Total landfill gas\",(1/($D$5/100)),IF('USER INPUTS'!$B$24=\"Methane\",1,IF('USER INPUTS'!$B$24=\"Carbon dioxide\",((1/($D$5/100))-1),(VLOOKUP('USER INPUTS'!$B$24,DEFAULTS!$E$8:$F$69,2,FALSE))/10^6*(1/($D$5/100)))))))","v":0},{"$f":"IF(ISERROR(METHANE!$J99*(IF('USER INPUTS'!$B$24=\"Total landfill gas\",(1/($D$5/100)),IF('USER INPUTS'!$B$24=\"Methane\",1,IF('USER INPUTS'!$B$24=\"Carbon dioxide\",((1/($D$5/100))-1),(VLOOKUP('USER INPUTS'!$B$24,DEFAULTS!$E$8:$F$69,2,FALSE))/10^6*(1/($D$5/100))))))),0,METHANE!$J99*(IF('USER INPUTS'!$B$24=\"Total landfill gas\",(1/($D$5/100)),IF('USER INPUTS'!$B$24=\"Methane\",1,IF('USER INPUTS'!$B$24=\"Carbon dioxide\",((1/($D$5/100))-1),(VLOOKUP('USER INPUTS'!$B$24,DEFAULTS!$E$8:$F$69,2,FALSE))/10^6*(1/($D$5/100)))))))","v":0},{"$f":"IF(H$8=\"(short tons/year)\",(F85*DEFAULTS!$B$55*DEFAULTS!$B$53/DEFAULTS!$B$54),IF(H$8=\"(ft^3/year)\",(G85*DEFAULTS!$B$57),IF(H$8=\"(av ft^3/min)\",(G85*DEFAULTS!$B$57/DEFAULTS!$B$58),0)))","v":0},{"$f":"IF(ISERROR(METHANE!$J99*DEFAULTS!$B$82*(IF('USER INPUTS'!$B$26=\"Total landfill gas\",(1/($D$5/100)),IF('USER INPUTS'!$B$26=\"Methane\",1,IF('USER INPUTS'!$B$26=\"Carbon dioxide\",((1/($D$5/100))-1),(VLOOKUP('USER INPUTS'!$B$26,DEFAULTS!$E$8:$F$69,2,FALSE))/10^6*(1/($D$5/100))))))),0,METHANE!$J99*DEFAULTS!$B$82*(IF('USER INPUTS'!$B$26=\"Total landfill gas\",(1/($D$5/100)),IF('USER INPUTS'!$B$26=\"Methane\",1,IF('USER INPUTS'!$B$26=\"Carbon dioxide\",((1/($D$5/100))-1),(VLOOKUP('USER INPUTS'!$B$26,DEFAULTS!$E$8:$F$69,2,FALSE))/10^6*(1/($D$5/100)))))))","v":0},{"$f":"IF(ISERROR(METHANE!$J99*(IF('USER INPUTS'!$B$26=\"Total landfill gas\",(1/($D$5/100)),IF('USER INPUTS'!$B$26=\"Methane\",1,IF('USER INPUTS'!$B$26=\"Carbon dioxide\",((1/($D$5/100))-1),(VLOOKUP('USER INPUTS'!$B$26,DEFAULTS!$E$8:$F$69,2,FALSE))/10^6*(1/($D$5/100))))))),0,METHANE!$J99*(IF('USER INPUTS'!$B$26=\"Total landfill gas\",(1/($D$5/100)),IF('USER INPUTS'!$B$26=\"Methane\",1,IF('USER INPUTS'!$B$26=\"Carbon dioxide\",((1/($D$5/100))-1),(VLOOKUP('USER INPUTS'!$B$26,DEFAULTS!$E$8:$F$69,2,FALSE))/10^6*(1/($D$5/100)))))))","v":0},{"$f":"IF(K$8=\"(short tons/year)\",(I85*DEFAULTS!$B$55*DEFAULTS!$B$53/DEFAULTS!$B$54),IF(K$8=\"(ft^3/year)\",(J85*DEFAULTS!$B$57),IF(K$8=\"(av ft^3/min)\",(J85*DEFAULTS!$B$57/DEFAULTS!$B$58),0)))","v":0},{"$f":"IF(ISERROR(METHANE!$J99*DEFAULTS!$B$83*(IF('USER INPUTS'!$B$28=\"Total landfill gas\",(1/($D$5/100)),IF('USER INPUTS'!$B$28=\"Methane\",1,IF('USER INPUTS'!$B$28=\"Carbon dioxide\",((1/($D$5/100))-1),(VLOOKUP('USER INPUTS'!$B$28,DEFAULTS!$E$8:$F$69,2,FALSE))/10^6*(1/($D$5/100))))))),0,METHANE!$J99*DEFAULTS!$B$83*(IF('USER INPUTS'!$B$28=\"Total landfill gas\",(1/($D$5/100)),IF('USER INPUTS'!$B$28=\"Methane\",1,IF('USER INPUTS'!$B$28=\"Carbon dioxide\",((1/($D$5/100))-1),(VLOOKUP('USER INPUTS'!$B$28,DEFAULTS!$E$8:$F$69,2,FALSE))/10^6*(1/($D$5/100)))))))","v":0},{"$f":"IF(ISERROR(METHANE!$J99*(IF('USER INPUTS'!$B$28=\"Total landfill gas\",(1/($D$5/100)),IF('USER INPUTS'!$B$28=\"Methane\",1,IF('USER INPUTS'!$B$28=\"Carbon dioxide\",((1/($D$5/100))-1),(VLOOKUP('USER INPUTS'!$B$28,DEFAULTS!$E$8:$F$69,2,FALSE))/10^6*(1/($D$5/100))))))),0,METHANE!$J99*(IF('USER INPUTS'!$B$28=\"Total landfill gas\",(1/($D$5/100)),IF('USER INPUTS'!$B$28=\"Methane\",1,IF('USER INPUTS'!$B$28=\"Carbon dioxide\",((1/($D$5/100))-1),(VLOOKUP('USER INPUTS'!$B$28,DEFAULTS!$E$8:$F$69,2,FALSE))/10^6*(1/($D$5/100)))))))","v":0},{"$f":"IF(N$8=\"(short tons/year)\",(L85*DEFAULTS!$B$55*DEFAULTS!$B$53/DEFAULTS!$B$54),IF(N$8=\"(ft^3/year)\",(M85*DEFAULTS!$B$57),IF(N$8=\"(av ft^3/min)\",(M85*DEFAULTS!$B$57/DEFAULTS!$B$58),0)))","v":0},{"$f":"IF(ISERROR(METHANE!$J99*DEFAULTS!$B$84*(IF('USER INPUTS'!$B$30=\"Total landfill gas\",(1/($D$5/100)),IF('USER INPUTS'!$B$30=\"Methane\",1,IF('USER INPUTS'!$B$30=\"Carbon dioxide\",((1/($D$5/100))-1),(VLOOKUP('USER INPUTS'!$B$30,DEFAULTS!$E$8:$F$69,2,FALSE))/10^6*(1/($D$5/100))))))),0,METHANE!$J99*DEFAULTS!$B$84*(IF('USER INPUTS'!$B$30=\"Total landfill gas\",(1/($D$5/100)),IF('USER INPUTS'!$B$30=\"Methane\",1,IF('USER INPUTS'!$B$30=\"Carbon dioxide\",((1/($D$5/100))-1),(VLOOKUP('USER INPUTS'!$B$30,DEFAULTS!$E$8:$F$69,2,FALSE))/10^6*(1/($D$5/100)))))))","v":0},{"$f":"IF(ISERROR(METHANE!$J99*(IF('USER INPUTS'!$B$30=\"Total landfill gas\",(1/($D$5/100)),IF('USER INPUTS'!$B$30=\"Methane\",1,IF('USER INPUTS'!$B$30=\"Carbon dioxide\",((1/($D$5/100))-1),(VLOOKUP('USER INPUTS'!$B$30,DEFAULTS!$E$8:$F$69,2,FALSE))/10^6*(1/($D$5/100))))))),0,METHANE!$J99*(IF('USER INPUTS'!$B$30=\"Total landfill gas\",(1/($D$5/100)),IF('USER INPUTS'!$B$30=\"Methane\",1,IF('USER INPUTS'!$B$30=\"Carbon dioxide\",((1/($D$5/100))-1),(VLOOKUP('USER INPUTS'!$B$30,DEFAULTS!$E$8:$F$69,2,FALSE))/10^6*(1/($D$5/100)))))))","v":0},{"$f":"IF(Q$8=\"(short tons/year)\",(O85*DEFAULTS!$B$55*DEFAULTS!$B$53/DEFAULTS!$B$54),IF(Q$8=\"(ft^3/year)\",(P85*DEFAULTS!$B$57),IF(Q$8=\"(av ft^3/min)\",(P85*DEFAULTS!$B$57/DEFAULTS!$B$58),0)))","v":0}]
[{"$f":"METHANE!I100","v":77},{"$f":"IF(METHANE!E100>0,METHANE!E100,0)","v":0},{"$f":"IF(METHANE!E100>0,METHANE!E100*DEFAULTS!$B$55*DEFAULTS!$B$53/DEFAULTS!$B$54,0)","v":0},{"$f":"IF(METHANE!F100>0,METHANE!F100,0)","v":0},{"$f":"IF(METHANE!F100>0,METHANE!F100*DEFAULTS!$B$55*DEFAULTS!$B$53/DEFAULTS!$B$54,0)","v":0},{"$f":"IF(ISERROR(METHANE!$J100*DEFAULTS!$B$81*(IF('USER INPUTS'!$B$24=\"Total landfill gas\",(1/($D$5/100)),IF('USER INPUTS'!$B$24=\"Methane\",1,IF('USER INPUTS'!$B$24=\"Carbon dioxide\",((1/($D$5/100))-1),(VLOOKUP('USER INPUTS'!$B$24,DEFAULTS!$E$8:$F$69,2,FALSE))/10^6*(1/($D$5/100))))))),0,METHANE!$J100*DEFAULTS!$B$81*(IF('USER INPUTS'!$B$24=\"Total landfill gas\",(1/($D$5/100)),IF('USER INPUTS'!$B$24=\"Methane\",1,IF('USER INPUTS'!$B$24=\"Carbon dioxide\",((1/($D$5/100))-1),(VLOOKUP('USER INPUTS'!$B$24,DEFAULTS!$E$8:$F$69,2,FALSE))/10^6*(1/($D$5/100)))))))","v":0},{"$f":"IF(ISERROR(METHANE!$J100*(IF('USER INPUTS'!$B$24=\"Total landfill gas\",(1/($D$5/100)),IF('USER INPUTS'!$B$24=\"Methane\",1,IF('USER INPUTS'!$B$24=\"Carbon dioxide\",((1/($D$5/100))-1),(VLOOKUP('USER INPUTS'!$B$24,DEFAULTS!$E$8:$F$69,2,FALSE))/10^6*(1/($D$5/100))))))),0,METHANE!$J100*(IF('USER INPUTS'!$B$24=\"Total landfill gas\",(1/($D$5/100)),IF('USER INPUTS'!$B$24=\"Methane\",1,IF('USER INPUTS'!$B$24=\"Carbon dioxide\",((1/($D$5/100))-1),(VLOOKUP('USER INPUTS'!$B$24,DEFAULTS!$E$8:$F$69,2,FALSE))/10^6*(1/($D$5/100)))))))","v":0},{"$f":"IF(H$8=\"(short tons/year)\",(F86*DEFAULTS!$B$55*DEFAULTS!$B$53/DEFAULTS!$B$54),IF(H$8=\"(ft^3/year)\",(G86*DEFAULTS!$B$57),IF(H$8=\"(av ft^3/min)\",(G86*DEFAULTS!$B$57/DEFAULTS!$B$58),0)))","v":0},{"$f":"IF(ISERROR(METHANE!$J100*DEFAULTS!$B$82*(IF('USER INPUTS'!$B$26=\"Total landfill gas\",(1/($D$5/100)),IF('USER INPUTS'!$B$26=\"Methane\",1,IF('USER INPUTS'!$B$26=\"Carbon dioxide\",((1/($D$5/100))-1),(VLOOKUP('USER INPUTS'!$B$26,DEFAULTS!$E$8:$F$69,2,FALSE))/10^6*(1/($D$5/100))))))),0,METHANE!$J100*DEFAULTS!$B$82*(IF('USER INPUTS'!$B$26=\"Total landfill gas\",(1/($D$5/100)),IF('USER INPUTS'!$B$26=\"Methane\",1,IF('USER INPUTS'!$B$26=\"Carbon dioxide\",((1/($D$5/100))-1),(VLOOKUP('USER INPUTS'!$B$26,DEFAULTS!$E$8:$F$69,2,FALSE))/10^6*(1/($D$5/100)))))))","v":0},{"$f":"IF(ISERROR(METHANE!$J100*(IF('USER INPUTS'!$B$26=\"Total landfill gas\",(1/($D$5/100)),IF('USER INPUTS'!$B$26=\"Methane\",1,IF('USER INPUTS'!$B$26=\"Carbon dioxide\",((1/($D$5/100))-1),(VLOOKUP('USER INPUTS'!$B$26,DEFAULTS!$E$8:$F$69,2,FALSE))/10^6*(1/($D$5/100))))))),0,METHANE!$J100*(IF('USER INPUTS'!$B$26=\"Total landfill gas\",(1/($D$5/100)),IF('USER INPUTS'!$B$26=\"Methane\",1,IF('USER INPUTS'!$B$26=\"Carbon dioxide\",((1/($D$5/100))-1),(VLOOKUP('USER INPUTS'!$B$26,DEFAULTS!$E$8:$F$69,2,FALSE))/10^6*(1/($D$5/100)))))))","v":0},{"$f":"IF(K$8=\"(short tons/year)\",(I86*DEFAULTS!$B$55*DEFAULTS!$B$53/DEFAULTS!$B$54),IF(K$8=\"(ft^3/year)\",(J86*DEFAULTS!$B$57),IF(K$8=\"(av ft^3/min)\",(J86*DEFAULTS!$B$57/DEFAULTS!$B$58),0)))","v":0},{"$f":"IF(ISERROR(METHANE!$J100*DEFAULTS!$B$83*(IF('USER INPUTS'!$B$28=\"Total landfill gas\",(1/($D$5/100)),IF('USER INPUTS'!$B$28=\"Methane\",1,IF('USER INPUTS'!$B$28=\"Carbon dioxide\",((1/($D$5/100))-1),(VLOOKUP('USER INPUTS'!$B$28,DEFAULTS!$E$8:$F$69,2,FALSE))/10^6*(1/($D$5/100))))))),0,METHANE!$J100*DEFAULTS!$B$83*(IF('USER INPUTS'!$B$28=\"Total landfill gas\",(1/($D$5/100)),IF('USER INPUTS'!$B$28=\"Methane\",1,IF('USER INPUTS'!$B$28=\"Carbon dioxide\",((1/($D$5/100))-1),(VLOOKUP('USER INPUTS'!$B$28,DEFAULTS!$E$8:$F$69,2,FALSE))/10^6*(1/($D$5/100)))))))","v":0},{"$f":"IF(ISERROR(METHANE!$J100*(IF('USER INPUTS'!$B$28=\"Total landfill gas\",(1/($D$5/100)),IF('USER INPUTS'!$B$28=\"Methane\",1,IF('USER INPUTS'!$B$28=\"Carbon dioxide\",((1/($D$5/100))-1),(VLOOKUP('USER INPUTS'!$B$28,DEFAULTS!$E$8:$F$69,2,FALSE))/10^6*(1/($D$5/100))))))),0,METHANE!$J100*(IF('USER INPUTS'!$B$28=\"Total landfill gas\",(1/($D$5/100)),IF('USER INPUTS'!$B$28=\"Methane\",1,IF('USER INPUTS'!$B$28=\"Carbon dioxide\",((1/($D$5/100))-1),(VLOOKUP('USER INPUTS'!$B$28,DEFAULTS!$E$8:$F$69,2,FALSE))/10^6*(1/($D$5/100)))))))","v":0},{"$f":"IF(N$8=\"(short tons/year)\",(L86*DEFAULTS!$B$55*DEFAULTS!$B$53/DEFAULTS!$B$54),IF(N$8=\"(ft^3/year)\",(M86*DEFAULTS!$B$57),IF(N$8=\"(av ft^3/min)\",(M86*DEFAULTS!$B$57/DEFAULTS!$B$58),0)))","v":0},{"$f":"IF(ISERROR(METHANE!$J100*DEFAULTS!$B$84*(IF('USER INPUTS'!$B$30=\"Total landfill gas\",(1/($D$5/100)),IF('USER INPUTS'!$B$30=\"Methane\",1,IF('USER INPUTS'!$B$30=\"Carbon dioxide\",((1/($D$5/100))-1),(VLOOKUP('USER INPUTS'!$B$30,DEFAULTS!$E$8:$F$69,2,FALSE))/10^6*(1/($D$5/100))))))),0,METHANE!$J100*DEFAULTS!$B$84*(IF('USER INPUTS'!$B$30=\"Total landfill gas\",(1/($D$5/100)),IF('USER INPUTS'!$B$30=\"Methane\",1,IF('USER INPUTS'!$B$30=\"Carbon dioxide\",((1/($D$5/100))-1),(VLOOKUP('USER INPUTS'!$B$30,DEFAULTS!$E$8:$F$69,2,FALSE))/10^6*(1/($D$5/100)))))))","v":0},{"$f":"IF(ISERROR(METHANE!$J100*(IF('USER INPUTS'!$B$30=\"Total landfill gas\",(1/($D$5/100)),IF('USER INPUTS'!$B$30=\"Methane\",1,IF('USER INPUTS'!$B$30=\"Carbon dioxide\",((1/($D$5/100))-1),(VLOOKUP('USER INPUTS'!$B$30,DEFAULTS!$E$8:$F$69,2,FALSE))/10^6*(1/($D$5/100))))))),0,METHANE!$J100*(IF('USER INPUTS'!$B$30=\"Total landfill gas\",(1/($D$5/100)),IF('USER INPUTS'!$B$30=\"Methane\",1,IF('USER INPUTS'!$B$30=\"Carbon dioxide\",((1/($D$5/100))-1),(VLOOKUP('USER INPUTS'!$B$30,DEFAULTS!$E$8:$F$69,2,FALSE))/10^6*(1/($D$5/100)))))))","v":0},{"$f":"IF(Q$8=\"(short tons/year)\",(O86*DEFAULTS!$B$55*DEFAULTS!$B$53/DEFAULTS!$B$54),IF(Q$8=\"(ft^3/year)\",(P86*DEFAULTS!$B$57),IF(Q$8=\"(av ft^3/min)\",(P86*DEFAULTS!$B$57/DEFAULTS!$B$58),0)))","v":0}]
[{"$f":"METHANE!I101","v":78},{"$f":"IF(METHANE!E101>0,METHANE!E101,0)","v":0},{"$f":"IF(METHANE!E101>0,METHANE!E101*DEFAULTS!$B$55*DEFAULTS!$B$53/DEFAULTS!$B$54,0)","v":0},{"$f":"IF(METHANE!F101>0,METHANE!F101,0)","v":0},{"$f":"IF(METHANE!F101>0,METHANE!F101*DEFAULTS!$B$55*DEFAULTS!$B$53/DEFAULTS!$B$54,0)","v":0},{"$f":"IF(ISERROR(METHANE!$J101*DEFAULTS!$B$81*(IF('USER INPUTS'!$B$24=\"Total landfill gas\",(1/($D$5/100)),IF('USER INPUTS'!$B$24=\"Methane\",1,IF('USER INPUTS'!$B$24=\"Carbon dioxide\",((1/($D$5/100))-1),(VLOOKUP('USER INPUTS'!$B$24,DEFAULTS!$E$8:$F$69,2,FALSE))/10^6*(1/($D$5/100))))))),0,METHANE!$J101*DEFAULTS!$B$81*(IF('USER INPUTS'!$B$24=\"Total landfill gas\",(1/($D$5/100)),IF('USER INPUTS'!$B$24=\"Methane\",1,IF('USER INPUTS'!$B$24=\"Carbon dioxide\",((1/($D$5/100))-1),(VLOOKUP('USER INPUTS'!$B$24,DEFAULTS!$E$8:$F$69,2,FALSE))/10^6*(1/($D$5/100)))))))","v":0},{"$f":"IF(ISERROR(METHANE!$J101*(IF('USER INPUTS'!$B$24=\"Total landfill gas\",(1/($D$5/100)),IF('USER INPUTS'!$B$24=\"Methane\",1,IF('USER INPUTS'!$B$24=\"Carbon dioxide\",((1/($D$5/100))-1),(VLOOKUP('USER INPUTS'!$B$24,DEFAULTS!$E$8:$F$69,2,FALSE))/10^6*(1/($D$5/100))))))),0,METHANE!$J101*(IF('USER INPUTS'!$B$24=\"Total landfill gas\",(1/($D$5/100)),IF('USER INPUTS'!$B$24=\"Methane\",1,IF('USER INPUTS'!$B$24=\"Carbon dioxide\",((1/($D$5/100))-1),(VLOOKUP('USER INPUTS'!$B$24,DEFAULTS!$E$8:$F$69,2,FALSE))/10^6*(1/($D$5/100)))))))","v":0},{"$f":"IF(H$8=\"(short tons/year)\",(F87*DEFAULTS!$B$55*DEFAULTS!$B$53/DEFAULTS!$B$54),IF(H$8=\"(ft^3/year)\",(G87*DEFAULTS!$B$57),IF(H$8=\"(av ft^3/min)\",(G87*DEFAULTS!$B$57/DEFAULTS!$B$58),0)))","v":0},{"$f":"IF(ISERROR(METHANE!$J101*DEFAULTS!$B$82*(IF('USER INPUTS'!$B$26=\"Total landfill gas\",(1/($D$5/100)),IF('USER INPUTS'!$B$26=\"Methane\",1,IF('USER INPUTS'!$B$26=\"Carbon dioxide\",((1/($D$5/100))-1),(VLOOKUP('USER INPUTS'!$B$26,DEFAULTS!$E$8:$F$69,2,FALSE))/10^6*(1/($D$5/100))))))),0,METHANE!$J101*DEFAULTS!$B$82*(IF('USER INPUTS'!$B$26=\"Total landfill gas\",(1/($D$5/100)),IF('USER INPUTS'!$B$26=\"Methane\",1,IF('USER INPUTS'!$B$26=\"Carbon dioxide\",((1/($D$5/100))-1),(VLOOKUP('USER INPUTS'!$B$26,DEFAULTS!$E$8:$F$69,2,FALSE))/10^6*(1/($D$5/100)))))))","v":0},{"$f":"IF(ISERROR(METHANE!$J101*(IF('USER INPUTS'!$B$26=\"Total landfill gas\",(1/($D$5/100)),IF('USER INPUTS'!$B$26=\"Methane\",1,IF('USER INPUTS'!$B$26=\"Carbon dioxide\",((1/($D$5/100))-1),(VLOOKUP('USER INPUTS'!$B$26,DEFAULTS!$E$8:$F$69,2,FALSE))/10^6*(1/($D$5/100))))))),0,METHANE!$J101*(IF('USER INPUTS'!$B$26=\"Total landfill gas\",(1/($D$5/100)),IF('USER INPUTS'!$B$26=\"Methane\",1,IF('USER INPUTS'!$B$26=\"Carbon dioxide\",((1/($D$5/100))-1),(VLOOKUP('USER INPUTS'!$B$26,DEFAULTS!$E$8:$F$69,2,FALSE))/10^6*(1/($D$5/100)))))))","v":0},{"$f":"IF(K$8=\"(short tons/year)\",(I87*DEFAULTS!$B$55*DEFAULTS!$B$53/DEFAULTS!$B$54),IF(K$8=\"(ft^3/year)\",(J87*DEFAULTS!$B$57),IF(K$8=\"(av ft^3/min)\",(J87*DEFAULTS!$B$57/DEFAULTS!$B$58),0)))","v":0},{"$f":"IF(ISERROR(METHANE!$J101*DEFAULTS!$B$83*(IF('USER INPUTS'!$B$28=\"Total landfill gas\",(1/($D$5/100)),IF('USER INPUTS'!$B$28=\"Methane\",1,IF('USER INPUTS'!$B$28=\"Carbon dioxide\",((1/($D$5/100))-1),(VLOOKUP('USER INPUTS'!$B$28,DEFAULTS!$E$8:$F$69,2,FALSE))/10^6*(1/($D$5/100))))))),0,METHANE!$J101*DEFAULTS!$B$83*(IF('USER INPUTS'!$B$28=\"Total landfill gas\",(1/($D$5/100)),IF('USER INPUTS'!$B$28=\"Methane\",1,IF('USER INPUTS'!$B$28=\"Carbon dioxide\",((1/($D$5/100))-1),(VLOOKUP('USER INPUTS'!$B$28,DEFAULTS!$E$8:$F$69,2,FALSE))/10^6*(1/($D$5/100)))))))","v":0},{"$f":"IF(ISERROR(METHANE!$J101*(IF('USER INPUTS'!$B$28=\"Total landfill gas\",(1/($D$5/100)),IF('USER INPUTS'!$B$28=\"Methane\",1,IF('USER INPUTS'!$B$28=\"Carbon dioxide\",((1/($D$5/100))-1),(VLOOKUP('USER INPUTS'!$B$28,DEFAULTS!$E$8:$F$69,2,FALSE))/10^6*(1/($D$5/100))))))),0,METHANE!$J101*(IF('USER INPUTS'!$B$28=\"Total landfill gas\",(1/($D$5/100)),IF('USER INPUTS'!$B$28=\"Methane\",1,IF('USER INPUTS'!$B$28=\"Carbon dioxide\",((1/($D$5/100))-1),(VLOOKUP('USER INPUTS'!$B$28,DEFAULTS!$E$8:$F$69,2,FALSE))/10^6*(1/($D$5/100)))))))","v":0},{"$f":"IF(N$8=\"(short tons/year)\",(L87*DEFAULTS!$B$55*DEFAULTS!$B$53/DEFAULTS!$B$54),IF(N$8=\"(ft^3/year)\",(M87*DEFAULTS!$B$57),IF(N$8=\"(av ft^3/min)\",(M87*DEFAULTS!$B$57/DEFAULTS!$B$58),0)))","v":0},{"$f":"IF(ISERROR(METHANE!$J101*DEFAULTS!$B$84*(IF('USER INPUTS'!$B$30=\"Total landfill gas\",(1/($D$5/100)),IF('USER INPUTS'!$B$30=\"Methane\",1,IF('USER INPUTS'!$B$30=\"Carbon dioxide\",((1/($D$5/100))-1),(VLOOKUP('USER INPUTS'!$B$30,DEFAULTS!$E$8:$F$69,2,FALSE))/10^6*(1/($D$5/100))))))),0,METHANE!$J101*DEFAULTS!$B$84*(IF('USER INPUTS'!$B$30=\"Total landfill gas\",(1/($D$5/100)),IF('USER INPUTS'!$B$30=\"Methane\",1,IF('USER INPUTS'!$B$30=\"Carbon dioxide\",((1/($D$5/100))-1),(VLOOKUP('USER INPUTS'!$B$30,DEFAULTS!$E$8:$F$69,2,FALSE))/10^6*(1/($D$5/100)))))))","v":0},{"$f":"IF(ISERROR(METHANE!$J101*(IF('USER INPUTS'!$B$30=\"Total landfill gas\",(1/($D$5/100)),IF('USER INPUTS'!$B$30=\"Methane\",1,IF('USER INPUTS'!$B$30=\"Carbon dioxide\",((1/($D$5/100))-1),(VLOOKUP('USER INPUTS'!$B$30,DEFAULTS!$E$8:$F$69,2,FALSE))/10^6*(1/($D$5/100))))))),0,METHANE!$J101*(IF('USER INPUTS'!$B$30=\"Total landfill gas\",(1/($D$5/100)),IF('USER INPUTS'!$B$30=\"Methane\",1,IF('USER INPUTS'!$B$30=\"Carbon dioxide\",((1/($D$5/100))-1),(VLOOKUP('USER INPUTS'!$B$30,DEFAULTS!$E$8:$F$69,2,FALSE))/10^6*(1/($D$5/100)))))))","v":0},{"$f":"IF(Q$8=\"(short tons/year)\",(O87*DEFAULTS!$B$55*DEFAULTS!$B$53/DEFAULTS!$B$54),IF(Q$8=\"(ft^3/year)\",(P87*DEFAULTS!$B$57),IF(Q$8=\"(av ft^3/min)\",(P87*DEFAULTS!$B$57/DEFAULTS!$B$58),0)))","v":0}]
[{"$f":"METHANE!I102","v":79},{"$f":"IF(METHANE!E102>0,METHANE!E102,0)","v":0},{"$f":"IF(METHANE!E102>0,METHANE!E102*DEFAULTS!$B$55*DEFAULTS!$B$53/DEFAULTS!$B$54,0)","v":0},{"$f":"IF(METHANE!F102>0,METHANE!F102,0)","v":0},{"$f":"IF(METHANE!F102>0,METHANE!F102*DEFAULTS!$B$55*DEFAULTS!$B$53/DEFAULTS!$B$54,0)","v":0},{"$f":"IF(ISERROR(METHANE!$J102*DEFAULTS!$B$81*(IF('USER INPUTS'!$B$24=\"Total landfill gas\",(1/($D$5/100)),IF('USER INPUTS'!$B$24=\"Methane\",1,IF('USER INPUTS'!$B$24=\"Carbon dioxide\",((1/($D$5/100))-1),(VLOOKUP('USER INPUTS'!$B$24,DEFAULTS!$E$8:$F$69,2,FALSE))/10^6*(1/($D$5/100))))))),0,METHANE!$J102*DEFAULTS!$B$81*(IF('USER INPUTS'!$B$24=\"Total landfill gas\",(1/($D$5/100)),IF('USER INPUTS'!$B$24=\"Methane\",1,IF('USER INPUTS'!$B$24=\"Carbon dioxide\",((1/($D$5/100))-1),(VLOOKUP('USER INPUTS'!$B$24,DEFAULTS!$E$8:$F$69,2,FALSE))/10^6*(1/($D$5/100)))))))","v":0},{"$f":"IF(ISERROR(METHANE!$J102*(IF('USER INPUTS'!$B$24=\"Total landfill gas\",(1/($D$5/100)),IF('USER INPUTS'!$B$24=\"Methane\",1,IF('USER INPUTS'!$B$24=\"Carbon dioxide\",((1/($D$5/100))-1),(VLOOKUP('USER INPUTS'!$B$24,DEFAULTS!$E$8:$F$69,2,FALSE))/10^6*(1/($D$5/100))))))),0,METHANE!$J102*(IF('USER INPUTS'!$B$24=\"Total landfill gas\",(1/($D$5/100)),IF('USER INPUTS'!$B$24=\"Methane\",1,IF('USER INPUTS'!$B$24=\"Carbon dioxide\",((1/($D$5/100))-1),(VLOOKUP('USER INPUTS'!$B$24,DEFAULTS!$E$8:$F$69,2,FALSE))/10^6*(1/($D$5/100)))))))","v":0},{"$f":"IF(H$8=\"(short tons/year)\",(F88*DEFAULTS!$B$55*DEFAULTS!$B$53/DEFAULTS!$B$54),IF(H$8=\"(ft^3/year)\",(G88*DEFAULTS!$B$57),IF(H$8=\"(av ft^3/min)\",(G88*DEFAULTS!$B$57/DEFAULTS!$B$58),0)))","v":0},{"$f":"IF(ISERROR(METHANE!$J102*DEFAULTS!$B$82*(IF('USER INPUTS'!$B$26=\"Total landfill gas\",(1/($D$5/100)),IF('USER INPUTS'!$B$26=\"Methane\",1,IF('USER INPUTS'!$B$26=\"Carbon dioxide\",((1/($D$5/100))-1),(VLOOKUP('USER INPUTS'!$B$26,DEFAULTS!$E$8:$F$69,2,FALSE))/10^6*(1/($D$5/100))))))),0,METHANE!$J102*DEFAULTS!$B$82*(IF('USER INPUTS'!$B$26=\"Total landfill gas\",(1/($D$5/100)),IF('USER INPUTS'!$B$26=\"Methane\",1,IF('USER INPUTS'!$B$26=\"Carbon dioxide\",((1/($D$5/100))-1),(VLOOKUP('USER INPUTS'!$B$26,DEFAULTS!$E$8:$F$69,2,FALSE))/10^6*(1/($D$5/100)))))))","v":0},{"$f":"IF(ISERROR(METHANE!$J102*(IF('USER INPUTS'!$B$26=\"Total landfill gas\",(1/($D$5/100)),IF('USER INPUTS'!$B$26=\"Methane\",1,IF('USER INPUTS'!$B$26=\"Carbon dioxide\",((1/($D$5/100))-1),(VLOOKUP('USER INPUTS'!$B$26,DEFAULTS!$E$8:$F$69,2,FALSE))/10^6*(1/($D$5/100))))))),0,METHANE!$J102*(IF('USER INPUTS'!$B$26=\"Total landfill gas\",(1/($D$5/100)),IF('USER INPUTS'!$B$26=\"Methane\",1,IF('USER INPUTS'!$B$26=\"Carbon dioxide\",((1/($D$5/100))-1),(VLOOKUP('USER INPUTS'!$B$26,DEFAULTS!$E$8:$F$69,2,FALSE))/10^6*(1/($D$5/100)))))))","v":0},{"$f":"IF(K$8=\"(short tons/year)\",(I88*DEFAULTS!$B$55*DEFAULTS!$B$53/DEFAULTS!$B$54),IF(K$8=\"(ft^3/year)\",(J88*DEFAULTS!$B$57),IF(K$8=\"(av ft^3/min)\",(J88*DEFAULTS!$B$57/DEFAULTS!$B$58),0)))","v":0},{"$f":"IF(ISERROR(METHANE!$J102*DEFAULTS!$B$83*(IF('USER INPUTS'!$B$28=\"Total landfill gas\",(1/($D$5/100)),IF('USER INPUTS'!$B$28=\"Methane\",1,IF('USER INPUTS'!$B$28=\"Carbon dioxide\",((1/($D$5/100))-1),(VLOOKUP('USER INPUTS'!$B$28,DEFAULTS!$E$8:$F$69,2,FALSE))/10^6*(1/($D$5/100))))))),0,METHANE!$J102*DEFAULTS!$B$83*(IF('USER INPUTS'!$B$28=\"Total landfill gas\",(1/($D$5/100)),IF('USER INPUTS'!$B$28=\"Methane\",1,IF('USER INPUTS'!$B$28=\"Carbon dioxide\",((1/($D$5/100))-1),(VLOOKUP('USER INPUTS'!$B$28,DEFAULTS!$E$8:$F$69,2,FALSE))/10^6*(1/($D$5/100)))))))","v":0},{"$f":"IF(ISERROR(METHANE!$J102*(IF('USER INPUTS'!$B$28=\"Total landfill gas\",(1/($D$5/100)),IF('USER INPUTS'!$B$28=\"Methane\",1,IF('USER INPUTS'!$B$28=\"Carbon dioxide\",((1/($D$5/100))-1),(VLOOKUP('USER INPUTS'!$B$28,DEFAULTS!$E$8:$F$69,2,FALSE))/10^6*(1/($D$5/100))))))),0,METHANE!$J102*(IF('USER INPUTS'!$B$28=\"Total landfill gas\",(1/($D$5/100)),IF('USER INPUTS'!$B$28=\"Methane\",1,IF('USER INPUTS'!$B$28=\"Carbon dioxide\",((1/($D$5/100))-1),(VLOOKUP('USER INPUTS'!$B$28,DEFAULTS!$E$8:$F$69,2,FALSE))/10^6*(1/($D$5/100)))))))","v":0},{"$f":"IF(N$8=\"(short tons/year)\",(L88*DEFAULTS!$B$55*DEFAULTS!$B$53/DEFAULTS!$B$54),IF(N$8=\"(ft^3/year)\",(M88*DEFAULTS!$B$57),IF(N$8=\"(av ft^3/min)\",(M88*DEFAULTS!$B$57/DEFAULTS!$B$58),0)))","v":0},{"$f":"IF(ISERROR(METHANE!$J102*DEFAULTS!$B$84*(IF('USER INPUTS'!$B$30=\"Total landfill gas\",(1/($D$5/100)),IF('USER INPUTS'!$B$30=\"Methane\",1,IF('USER INPUTS'!$B$30=\"Carbon dioxide\",((1/($D$5/100))-1),(VLOOKUP('USER INPUTS'!$B$30,DEFAULTS!$E$8:$F$69,2,FALSE))/10^6*(1/($D$5/100))))))),0,METHANE!$J102*DEFAULTS!$B$84*(IF('USER INPUTS'!$B$30=\"Total landfill gas\",(1/($D$5/100)),IF('USER INPUTS'!$B$30=\"Methane\",1,IF('USER INPUTS'!$B$30=\"Carbon dioxide\",((1/($D$5/100))-1),(VLOOKUP('USER INPUTS'!$B$30,DEFAULTS!$E$8:$F$69,2,FALSE))/10^6*(1/($D$5/100)))))))","v":0},{"$f":"IF(ISERROR(METHANE!$J102*(IF('USER INPUTS'!$B$30=\"Total landfill gas\",(1/($D$5/100)),IF('USER INPUTS'!$B$30=\"Methane\",1,IF('USER INPUTS'!$B$30=\"Carbon dioxide\",((1/($D$5/100))-1),(VLOOKUP('USER INPUTS'!$B$30,DEFAULTS!$E$8:$F$69,2,FALSE))/10^6*(1/($D$5/100))))))),0,METHANE!$J102*(IF('USER INPUTS'!$B$30=\"Total landfill gas\",(1/($D$5/100)),IF('USER INPUTS'!$B$30=\"Methane\",1,IF('USER INPUTS'!$B$30=\"Carbon dioxide\",((1/($D$5/100))-1),(VLOOKUP('USER INPUTS'!$B$30,DEFAULTS!$E$8:$F$69,2,FALSE))/10^6*(1/($D$5/100)))))))","v":0},{"$f":"IF(Q$8=\"(short tons/year)\",(O88*DEFAULTS!$B$55*DEFAULTS!$B$53/DEFAULTS!$B$54),IF(Q$8=\"(ft^3/year)\",(P88*DEFAULTS!$B$57),IF(Q$8=\"(av ft^3/min)\",(P88*DEFAULTS!$B$57/DEFAULTS!$B$58),0)))","v":0}]
[{"$f":"METHANE!I103","v":80},0,0,{"$f":"IF(METHANE!F102>0,METHANE!E102+METHANE!F102,0)","v":0},{"$f":"E88","v":0},{"$f":"IF(ISERROR(METHANE!$J103*DEFAULTS!$B$81*(IF('USER INPUTS'!$B$24=\"Total landfill gas\",(1/($D$5/100)),IF('USER INPUTS'!$B$24=\"Methane\",1,IF('USER INPUTS'!$B$24=\"Carbon dioxide\",((1/($D$5/100))-1),(VLOOKUP('USER INPUTS'!$B$24,DEFAULTS!$E$8:$F$69,2,FALSE))/10^6*(1/($D$5/100))))))),0,METHANE!$J103*DEFAULTS!$B$81*(IF('USER INPUTS'!$B$24=\"Total landfill gas\",(1/($D$5/100)),IF('USER INPUTS'!$B$24=\"Methane\",1,IF('USER INPUTS'!$B$24=\"Carbon dioxide\",((1/($D$5/100))-1),(VLOOKUP('USER INPUTS'!$B$24,DEFAULTS!$E$8:$F$69,2,FALSE))/10^6*(1/($D$5/100)))))))","v":0},{"$f":"IF(ISERROR(METHANE!$J103*(IF('USER INPUTS'!$B$24=\"Total landfill gas\",(1/($D$5/100)),IF('USER INPUTS'!$B$24=\"Methane\",1,IF('USER INPUTS'!$B$24=\"Carbon dioxide\",((1/($D$5/100))-1),(VLOOKUP('USER INPUTS'!$B$24,DEFAULTS!$E$8:$F$69,2,FALSE))/10^6*(1/($D$5/100))))))),0,METHANE!$J103*(IF('USER INPUTS'!$B$24=\"Total landfill gas\",(1/($D$5/100)),IF('USER INPUTS'!$B$24=\"Methane\",1,IF('USER INPUTS'!$B$24=\"Carbon dioxide\",((1/($D$5/100))-1),(VLOOKUP('USER INPUTS'!$B$24,DEFAULTS!$E$8:$F$69,2,FALSE))/10^6*(1/($D$5/100)))))))","v":0},{"$f":"IF(H$8=\"(short tons/year)\",(F89*DEFAULTS!$B$55*DEFAULTS!$B$53/DEFAULTS!$B$54),IF(H$8=\"(ft^3/year)\",(G89*DEFAULTS!$B$57),IF(H$8=\"(av ft^3/min)\",(G89*DEFAULTS!$B$57/DEFAULTS!$B$58),0)))","v":0},{"$f":"IF(ISERROR(METHANE!$J103*DEFAULTS!$B$82*(IF('USER INPUTS'!$B$26=\"Total landfill gas\",(1/($D$5/100)),IF('USER INPUTS'!$B$26=\"Methane\",1,IF('USER INPUTS'!$B$26=\"Carbon dioxide\",((1/($D$5/100))-1),(VLOOKUP('USER INPUTS'!$B$26,DEFAULTS!$E$8:$F$69,2,FALSE))/10^6*(1/($D$5/100))))))),0,METHANE!$J103*DEFAULTS!$B$82*(IF('USER INPUTS'!$B$26=\"Total landfill gas\",(1/($D$5/100)),IF('USER INPUTS'!$B$26=\"Methane\",1,IF('USER INPUTS'!$B$26=\"Carbon dioxide\",((1/($D$5/100))-1),(VLOOKUP('USER INPUTS'!$B$26,DEFAULTS!$E$8:$F$69,2,FALSE))/10^6*(1/($D$5/100)))))))","v":0},{"$f":"IF(ISERROR(METHANE!$J103*(IF('USER INPUTS'!$B$26=\"Total landfill gas\",(1/($D$5/100)),IF('USER INPUTS'!$B$26=\"Methane\",1,IF('USER INPUTS'!$B$26=\"Carbon dioxide\",((1/($D$5/100))-1),(VLOOKUP('USER INPUTS'!$B$26,DEFAULTS!$E$8:$F$69,2,FALSE))/10^6*(1/($D$5/100))))))),0,METHANE!$J103*(IF('USER INPUTS'!$B$26=\"Total landfill gas\",(1/($D$5/100)),IF('USER INPUTS'!$B$26=\"Methane\",1,IF('USER INPUTS'!$B$26=\"Carbon dioxide\",((1/($D$5/100))-1),(VLOOKUP('USER INPUTS'!$B$26,DEFAULTS!$E$8:$F$69,2,FALSE))/10^6*(1/($D$5/100)))))))","v":0},{"$f":"IF(K$8=\"(short tons/year)\",(I89*DEFAULTS!$B$55*DEFAULTS!$B$53/DEFAULTS!$B$54),IF(K$8=\"(ft^3/year)\",(J89*DEFAULTS!$B$57),IF(K$8=\"(av ft^3/min)\",(J89*DEFAULTS!$B$57/DEFAULTS!$B$58),0)))","v":0},{"$f":"IF(ISERROR(METHANE!$J103*DEFAULTS!$B$83*(IF('USER INPUTS'!$B$28=\"Total landfill gas\",(1/($D$5/100)),IF('USER INPUTS'!$B$28=\"Methane\",1,IF('USER INPUTS'!$B$28=\"Carbon dioxide\",((1/($D$5/100))-1),(VLOOKUP('USER INPUTS'!$B$28,DEFAULTS!$E$8:$F$69,2,FALSE))/10^6*(1/($D$5/100))))))),0,METHANE!$J103*DEFAULTS!$B$83*(IF('USER INPUTS'!$B$28=\"Total landfill gas\",(1/($D$5/100)),IF('USER INPUTS'!$B$28=\"Methane\",1,IF('USER INPUTS'!$B$28=\"Carbon dioxide\",((1/($D$5/100))-1),(VLOOKUP('USER INPUTS'!$B$28,DEFAULTS!$E$8:$F$69,2,FALSE))/10^6*(1/($D$5/100)))))))","v":0},{"$f":"IF(ISERROR(METHANE!$J103*(IF('USER INPUTS'!$B$28=\"Total landfill gas\",(1/($D$5/100)),IF('USER INPUTS'!$B$28=\"Methane\",1,IF('USER INPUTS'!$B$28=\"Carbon dioxide\",((1/($D$5/100))-1),(VLOOKUP('USER INPUTS'!$B$28,DEFAULTS!$E$8:$F$69,2,FALSE))/10^6*(1/($D$5/100))))))),0,METHANE!$J103*(IF('USER INPUTS'!$B$28=\"Total landfill gas\",(1/($D$5/100)),IF('USER INPUTS'!$B$28=\"Methane\",1,IF('USER INPUTS'!$B$28=\"Carbon dioxide\",((1/($D$5/100))-1),(VLOOKUP('USER INPUTS'!$B$28,DEFAULTS!$E$8:$F$69,2,FALSE))/10^6*(1/($D$5/100)))))))","v":0},{"$f":"IF(N$8=\"(short tons/year)\",(L89*DEFAULTS!$B$55*DEFAULTS!$B$53/DEFAULTS!$B$54),IF(N$8=\"(ft^3/year)\",(M89*DEFAULTS!$B$57),IF(N$8=\"(av ft^3/min)\",(M89*DEFAULTS!$B$57/DEFAULTS!$B$58),0)))","v":0},{"$f":"IF(ISERROR(METHANE!$J103*DEFAULTS!$B$84*(IF('USER INPUTS'!$B$30=\"Total landfill gas\",(1/($D$5/100)),IF('USER INPUTS'!$B$30=\"Methane\",1,IF('USER INPUTS'!$B$30=\"Carbon dioxide\",((1/($D$5/100))-1),(VLOOKUP('USER INPUTS'!$B$30,DEFAULTS!$E$8:$F$69,2,FALSE))/10^6*(1/($D$5/100))))))),0,METHANE!$J103*DEFAULTS!$B$84*(IF('USER INPUTS'!$B$30=\"Total landfill gas\",(1/($D$5/100)),IF('USER INPUTS'!$B$30=\"Methane\",1,IF('USER INPUTS'!$B$30=\"Carbon dioxide\",((1/($D$5/100))-1),(VLOOKUP('USER INPUTS'!$B$30,DEFAULTS!$E$8:$F$69,2,FALSE))/10^6*(1/($D$5/100)))))))","v":0},{"$f":"IF(ISERROR(METHANE!$J103*(IF('USER INPUTS'!$B$30=\"Total landfill gas\",(1/($D$5/100)),IF('USER INPUTS'!$B$30=\"Methane\",1,IF('USER INPUTS'!$B$30=\"Carbon dioxide\",((1/($D$5/100))-1),(VLOOKUP('USER INPUTS'!$B$30,DEFAULTS!$E$8:$F$69,2,FALSE))/10^6*(1/($D$5/100))))))),0,METHANE!$J103*(IF('USER INPUTS'!$B$30=\"Total landfill gas\",(1/($D$5/100)),IF('USER INPUTS'!$B$30=\"Methane\",1,IF('USER INPUTS'!$B$30=\"Carbon dioxide\",((1/($D$5/100))-1),(VLOOKUP('USER INPUTS'!$B$30,DEFAULTS!$E$8:$F$69,2,FALSE))/10^6*(1/($D$5/100)))))))","v":0},{"$f":"IF(Q$8=\"(short tons/year)\",(O89*DEFAULTS!$B$55*DEFAULTS!$B$53/DEFAULTS!$B$54),IF(Q$8=\"(ft^3/year)\",(P89*DEFAULTS!$B$57),IF(Q$8=\"(av ft^3/min)\",(P89*DEFAULTS!$B$57/DEFAULTS!$B$58),0)))","v":0}]
[{"$f":"METHANE!I104","v":81},0,0,{"$f":"D89","v":0},{"$f":"E89","v":0},{"$f":"IF(ISERROR(METHANE!$J104*DEFAULTS!$B$81*(IF('USER INPUTS'!$B$24=\"Total landfill gas\",(1/($D$5/100)),IF('USER INPUTS'!$B$24=\"Methane\",1,IF('USER INPUTS'!$B$24=\"Carbon dioxide\",((1/($D$5/100))-1),(VLOOKUP('USER INPUTS'!$B$24,DEFAULTS!$E$8:$F$69,2,FALSE))/10^6*(1/($D$5/100))))))),0,METHANE!$J104*DEFAULTS!$B$81*(IF('USER INPUTS'!$B$24=\"Total landfill gas\",(1/($D$5/100)),IF('USER INPUTS'!$B$24=\"Methane\",1,IF('USER INPUTS'!$B$24=\"Carbon dioxide\",((1/($D$5/100))-1),(VLOOKUP('USER INPUTS'!$B$24,DEFAULTS!$E$8:$F$69,2,FALSE))/10^6*(1/($D$5/100)))))))","v":0},{"$f":"IF(ISERROR(METHANE!$J104*(IF('USER INPUTS'!$B$24=\"Total landfill gas\",(1/($D$5/100)),IF('USER INPUTS'!$B$24=\"Methane\",1,IF('USER INPUTS'!$B$24=\"Carbon dioxide\",((1/($D$5/100))-1),(VLOOKUP('USER INPUTS'!$B$24,DEFAULTS!$E$8:$F$69,2,FALSE))/10^6*(1/($D$5/100))))))),0,METHANE!$J104*(IF('USER INPUTS'!$B$24=\"Total landfill gas\",(1/($D$5/100)),IF('USER INPUTS'!$B$24=\"Methane\",1,IF('USER INPUTS'!$B$24=\"Carbon dioxide\",((1/($D$5/100))-1),(VLOOKUP('USER INPUTS'!$B$24,DEFAULTS!$E$8:$F$69,2,FALSE))/10^6*(1/($D$5/100)))))))","v":0},{"$f":"IF(H$8=\"(short tons/year)\",(F90*DEFAULTS!$B$55*DEFAULTS!$B$53/DEFAULTS!$B$54),IF(H$8=\"(ft^3/year)\",(G90*DEFAULTS!$B$57),IF(H$8=\"(av ft^3/min)\",(G90*DEFAULTS!$B$57/DEFAULTS!$B$58),0)))","v":0},{"$f":"IF(ISERROR(METHANE!$J104*DEFAULTS!$B$82*(IF('USER INPUTS'!$B$26=\"Total landfill gas\",(1/($D$5/100)),IF('USER INPUTS'!$B$26=\"Methane\",1,IF('USER INPUTS'!$B$26=\"Carbon dioxide\",((1/($D$5/100))-1),(VLOOKUP('USER INPUTS'!$B$26,DEFAULTS!$E$8:$F$69,2,FALSE))/10^6*(1/($D$5/100))))))),0,METHANE!$J104*DEFAULTS!$B$82*(IF('USER INPUTS'!$B$26=\"Total landfill gas\",(1/($D$5/100)),IF('USER INPUTS'!$B$26=\"Methane\",1,IF('USER INPUTS'!$B$26=\"Carbon dioxide\",((1/($D$5/100))-1),(VLOOKUP('USER INPUTS'!$B$26,DEFAULTS!$E$8:$F$69,2,FALSE))/10^6*(1/($D$5/100)))))))","v":0},{"$f":"IF(ISERROR(METHANE!$J104*(IF('USER INPUTS'!$B$26=\"Total landfill gas\",(1/($D$5/100)),IF('USER INPUTS'!$B$26=\"Methane\",1,IF('USER INPUTS'!$B$26=\"Carbon dioxide\",((1/($D$5/100))-1),(VLOOKUP('USER INPUTS'!$B$26,DEFAULTS!$E$8:$F$69,2,FALSE))/10^6*(1/($D$5/100))))))),0,METHANE!$J104*(IF('USER INPUTS'!$B$26=\"Total landfill gas\",(1/($D$5/100)),IF('USER INPUTS'!$B$26=\"Methane\",1,IF('USER INPUTS'!$B$26=\"Carbon dioxide\",((1/($D$5/100))-1),(VLOOKUP('USER INPUTS'!$B$26,DEFAULTS!$E$8:$F$69,2,FALSE))/10^6*(1/($D$5/100)))))))","v":0},{"$f":"IF(K$8=\"(short tons/year)\",(I90*DEFAULTS!$B$55*DEFAULTS!$B$53/DEFAULTS!$B$54),IF(K$8=\"(ft^3/year)\",(J90*DEFAULTS!$B$57),IF(K$8=\"(av ft^3/min)\",(J90*DEFAULTS!$B$57/DEFAULTS!$B$58),0)))","v":0},{"$f":"IF(ISERROR(METHANE!$J104*DEFAULTS!$B$83*(IF('USER INPUTS'!$B$28=\"Total landfill gas\",(1/($D$5/100)),IF('USER INPUTS'!$B$28=\"Methane\",1,IF('USER INPUTS'!$B$28=\"Carbon dioxide\",((1/($D$5/100))-1),(VLOOKUP('USER INPUTS'!$B$28,DEFAULTS!$E$8:$F$69,2,FALSE))/10^6*(1/($D$5/100))))))),0,METHANE!$J104*DEFAULTS!$B$83*(IF('USER INPUTS'!$B$28=\"Total landfill gas\",(1/($D$5/100)),IF('USER INPUTS'!$B$28=\"Methane\",1,IF('USER INPUTS'!$B$28=\"Carbon dioxide\",((1/($D$5/100))-1),(VLOOKUP('USER INPUTS'!$B$28,DEFAULTS!$E$8:$F$69,2,FALSE))/10^6*(1/($D$5/100)))))))","v":0},{"$f":"IF(ISERROR(METHANE!$J104*(IF('USER INPUTS'!$B$28=\"Total landfill gas\",(1/($D$5/100)),IF('USER INPUTS'!$B$28=\"Methane\",1,IF('USER INPUTS'!$B$28=\"Carbon dioxide\",((1/($D$5/100))-1),(VLOOKUP('USER INPUTS'!$B$28,DEFAULTS!$E$8:$F$69,2,FALSE))/10^6*(1/($D$5/100))))))),0,METHANE!$J104*(IF('USER INPUTS'!$B$28=\"Total landfill gas\",(1/($D$5/100)),IF('USER INPUTS'!$B$28=\"Methane\",1,IF('USER INPUTS'!$B$28=\"Carbon dioxide\",((1/($D$5/100))-1),(VLOOKUP('USER INPUTS'!$B$28,DEFAULTS!$E$8:$F$69,2,FALSE))/10^6*(1/($D$5/100)))))))","v":0},{"$f":"IF(N$8=\"(short tons/year)\",(L90*DEFAULTS!$B$55*DEFAULTS!$B$53/DEFAULTS!$B$54),IF(N$8=\"(ft^3/year)\",(M90*DEFAULTS!$B$57),IF(N$8=\"(av ft^3/min)\",(M90*DEFAULTS!$B$57/DEFAULTS!$B$58),0)))","v":0},{"$f":"IF(ISERROR(METHANE!$J104*DEFAULTS!$B$84*(IF('USER INPUTS'!$B$30=\"Total landfill gas\",(1/($D$5/100)),IF('USER INPUTS'!$B$30=\"Methane\",1,IF('USER INPUTS'!$B$30=\"Carbon dioxide\",((1/($D$5/100))-1),(VLOOKUP('USER INPUTS'!$B$30,DEFAULTS!$E$8:$F$69,2,FALSE))/10^6*(1/($D$5/100))))))),0,METHANE!$J104*DEFAULTS!$B$84*(IF('USER INPUTS'!$B$30=\"Total landfill gas\",(1/($D$5/100)),IF('USER INPUTS'!$B$30=\"Methane\",1,IF('USER INPUTS'!$B$30=\"Carbon dioxide\",((1/($D$5/100))-1),(VLOOKUP('USER INPUTS'!$B$30,DEFAULTS!$E$8:$F$69,2,FALSE))/10^6*(1/($D$5/100)))))))","v":0},{"$f":"IF(ISERROR(METHANE!$J104*(IF('USER INPUTS'!$B$30=\"Total landfill gas\",(1/($D$5/100)),IF('USER INPUTS'!$B$30=\"Methane\",1,IF('USER INPUTS'!$B$30=\"Carbon dioxide\",((1/($D$5/100))-1),(VLOOKUP('USER INPUTS'!$B$30,DEFAULTS!$E$8:$F$69,2,FALSE))/10^6*(1/($D$5/100))))))),0,METHANE!$J104*(IF('USER INPUTS'!$B$30=\"Total landfill gas\",(1/($D$5/100)),IF('USER INPUTS'!$B$30=\"Methane\",1,IF('USER INPUTS'!$B$30=\"Carbon dioxide\",((1/($D$5/100))-1),(VLOOKUP('USER INPUTS'!$B$30,DEFAULTS!$E$8:$F$69,2,FALSE))/10^6*(1/($D$5/100)))))))","v":0},{"$f":"IF(Q$8=\"(short tons/year)\",(O90*DEFAULTS!$B$55*DEFAULTS!$B$53/DEFAULTS!$B$54),IF(Q$8=\"(ft^3/year)\",(P90*DEFAULTS!$B$57),IF(Q$8=\"(av ft^3/min)\",(P90*DEFAULTS!$B$57/DEFAULTS!$B$58),0)))","v":0}]
[{"$f":"METHANE!I105","v":82},0,0,{"$f":"D90","v":0},{"$f":"E90","v":0},{"$f":"IF(ISERROR(METHANE!$J105*DEFAULTS!$B$81*(IF('USER INPUTS'!$B$24=\"Total landfill gas\",(1/($D$5/100)),IF('USER INPUTS'!$B$24=\"Methane\",1,IF('USER INPUTS'!$B$24=\"Carbon dioxide\",((1/($D$5/100))-1),(VLOOKUP('USER INPUTS'!$B$24,DEFAULTS!$E$8:$F$69,2,FALSE))/10^6*(1/($D$5/100))))))),0,METHANE!$J105*DEFAULTS!$B$81*(IF('USER INPUTS'!$B$24=\"Total landfill gas\",(1/($D$5/100)),IF('USER INPUTS'!$B$24=\"Methane\",1,IF('USER INPUTS'!$B$24=\"Carbon dioxide\",((1/($D$5/100))-1),(VLOOKUP('USER INPUTS'!$B$24,DEFAULTS!$E$8:$F$69,2,FALSE))/10^6*(1/($D$5/100)))))))","v":0},{"$f":"IF(ISERROR(METHANE!$J105*(IF('USER INPUTS'!$B$24=\"Total landfill gas\",(1/($D$5/100)),IF('USER INPUTS'!$B$24=\"Methane\",1,IF('USER INPUTS'!$B$24=\"Carbon dioxide\",((1/($D$5/100))-1),(VLOOKUP('USER INPUTS'!$B$24,DEFAULTS!$E$8:$F$69,2,FALSE))/10^6*(1/($D$5/100))))))),0,METHANE!$J105*(IF('USER INPUTS'!$B$24=\"Total landfill gas\",(1/($D$5/100)),IF('USER INPUTS'!$B$24=\"Methane\",1,IF('USER INPUTS'!$B$24=\"Carbon dioxide\",((1/($D$5/100))-1),(VLOOKUP('USER INPUTS'!$B$24,DEFAULTS!$E$8:$F$69,2,FALSE))/10^6*(1/($D$5/100)))))))","v":0},{"$f":"IF(H$8=\"(short tons/year)\",(F91*DEFAULTS!$B$55*DEFAULTS!$B$53/DEFAULTS!$B$54),IF(H$8=\"(ft^3/year)\",(G91*DEFAULTS!$B$57),IF(H$8=\"(av ft^3/min)\",(G91*DEFAULTS!$B$57/DEFAULTS!$B$58),0)))","v":0},{"$f":"IF(ISERROR(METHANE!$J105*DEFAULTS!$B$82*(IF('USER INPUTS'!$B$26=\"Total landfill gas\",(1/($D$5/100)),IF('USER INPUTS'!$B$26=\"Methane\",1,IF('USER INPUTS'!$B$26=\"Carbon dioxide\",((1/($D$5/100))-1),(VLOOKUP('USER INPUTS'!$B$26,DEFAULTS!$E$8:$F$69,2,FALSE))/10^6*(1/($D$5/100))))))),0,METHANE!$J105*DEFAULTS!$B$82*(IF('USER INPUTS'!$B$26=\"Total landfill gas\",(1/($D$5/100)),IF('USER INPUTS'!$B$26=\"Methane\",1,IF('USER INPUTS'!$B$26=\"Carbon dioxide\",((1/($D$5/100))-1),(VLOOKUP('USER INPUTS'!$B$26,DEFAULTS!$E$8:$F$69,2,FALSE))/10^6*(1/($D$5/100)))))))","v":0},{"$f":"IF(ISERROR(METHANE!$J105*(IF('USER INPUTS'!$B$26=\"Total landfill gas\",(1/($D$5/100)),IF('USER INPUTS'!$B$26=\"Methane\",1,IF('USER INPUTS'!$B$26=\"Carbon dioxide\",((1/($D$5/100))-1),(VLOOKUP('USER INPUTS'!$B$26,DEFAULTS!$E$8:$F$69,2,FALSE))/10^6*(1/($D$5/100))))))),0,METHANE!$J105*(IF('USER INPUTS'!$B$26=\"Total landfill gas\",(1/($D$5/100)),IF('USER INPUTS'!$B$26=\"Methane\",1,IF('USER INPUTS'!$B$26=\"Carbon dioxide\",((1/($D$5/100))-1),(VLOOKUP('USER INPUTS'!$B$26,DEFAULTS!$E$8:$F$69,2,FALSE))/10^6*(1/($D$5/100)))))))","v":0},{"$f":"IF(K$8=\"(short tons/year)\",(I91*DEFAULTS!$B$55*DEFAULTS!$B$53/DEFAULTS!$B$54),IF(K$8=\"(ft^3/year)\",(J91*DEFAULTS!$B$57),IF(K$8=\"(av ft^3/min)\",(J91*DEFAULTS!$B$57/DEFAULTS!$B$58),0)))","v":0},{"$f":"IF(ISERROR(METHANE!$J105*DEFAULTS!$B$83*(IF('USER INPUTS'!$B$28=\"Total landfill gas\",(1/($D$5/100)),IF('USER INPUTS'!$B$28=\"Methane\",1,IF('USER INPUTS'!$B$28=\"Carbon dioxide\",((1/($D$5/100))-1),(VLOOKUP('USER INPUTS'!$B$28,DEFAULTS!$E$8:$F$69,2,FALSE))/10^6*(1/($D$5/100))))))),0,METHANE!$J105*DEFAULTS!$B$83*(IF('USER INPUTS'!$B$28=\"Total landfill gas\",(1/($D$5/100)),IF('USER INPUTS'!$B$28=\"Methane\",1,IF('USER INPUTS'!$B$28=\"Carbon dioxide\",((1/($D$5/100))-1),(VLOOKUP('USER INPUTS'!$B$28,DEFAULTS!$E$8:$F$69,2,FALSE))/10^6*(1/($D$5/100)))))))","v":0},{"$f":"IF(ISERROR(METHANE!$J105*(IF('USER INPUTS'!$B$28=\"Total landfill gas\",(1/($D$5/100)),IF('USER INPUTS'!$B$28=\"Methane\",1,IF('USER INPUTS'!$B$28=\"Carbon dioxide\",((1/($D$5/100))-1),(VLOOKUP('USER INPUTS'!$B$28,DEFAULTS!$E$8:$F$69,2,FALSE))/10^6*(1/($D$5/100))))))),0,METHANE!$J105*(IF('USER INPUTS'!$B$28=\"Total landfill gas\",(1/($D$5/100)),IF('USER INPUTS'!$B$28=\"Methane\",1,IF('USER INPUTS'!$B$28=\"Carbon dioxide\",((1/($D$5/100))-1),(VLOOKUP('USER INPUTS'!$B$28,DEFAULTS!$E$8:$F$69,2,FALSE))/10^6*(1/($D$5/100)))))))","v":0},{"$f":"IF(N$8=\"(short tons/year)\",(L91*DEFAULTS!$B$55*DEFAULTS!$B$53/DEFAULTS!$B$54),IF(N$8=\"(ft^3/year)\",(M91*DEFAULTS!$B$57),IF(N$8=\"(av ft^3/min)\",(M91*DEFAULTS!$B$57/DEFAULTS!$B$58),0)))","v":0},{"$f":"IF(ISERROR(METHANE!$J105*DEFAULTS!$B$84*(IF('USER INPUTS'!$B$30=\"Total landfill gas\",(1/($D$5/100)),IF('USER INPUTS'!$B$30=\"Methane\",1,IF('USER INPUTS'!$B$30=\"Carbon dioxide\",((1/($D$5/100))-1),(VLOOKUP('USER INPUTS'!$B$30,DEFAULTS!$E$8:$F$69,2,FALSE))/10^6*(1/($D$5/100))))))),0,METHANE!$J105*DEFAULTS!$B$84*(IF('USER INPUTS'!$B$30=\"Total landfill gas\",(1/($D$5/100)),IF('USER INPUTS'!$B$30=\"Methane\",1,IF('USER INPUTS'!$B$30=\"Carbon dioxide\",((1/($D$5/100))-1),(VLOOKUP('USER INPUTS'!$B$30,DEFAULTS!$E$8:$F$69,2,FALSE))/10^6*(1/($D$5/100)))))))","v":0},{"$f":"IF(ISERROR(METHANE!$J105*(IF('USER INPUTS'!$B$30=\"Total landfill gas\",(1/($D$5/100)),IF('USER INPUTS'!$B$30=\"Methane\",1,IF('USER INPUTS'!$B$30=\"Carbon dioxide\",((1/($D$5/100))-1),(VLOOKUP('USER INPUTS'!$B$30,DEFAULTS!$E$8:$F$69,2,FALSE))/10^6*(1/($D$5/100))))))),0,METHANE!$J105*(IF('USER INPUTS'!$B$30=\"Total landfill gas\",(1/($D$5/100)),IF('USER INPUTS'!$B$30=\"Methane\",1,IF('USER INPUTS'!$B$30=\"Carbon dioxide\",((1/($D$5/100))-1),(VLOOKUP('USER INPUTS'!$B$30,DEFAULTS!$E$8:$F$69,2,FALSE))/10^6*(1/($D$5/100)))))))","v":0},{"$f":"IF(Q$8=\"(short tons/year)\",(O91*DEFAULTS!$B$55*DEFAULTS!$B$53/DEFAULTS!$B$54),IF(Q$8=\"(ft^3/year)\",(P91*DEFAULTS!$B$57),IF(Q$8=\"(av ft^3/min)\",(P91*DEFAULTS!$B$57/DEFAULTS!$B$58),0)))","v":0}]
[{"$f":"METHANE!I106","v":83},0,0,0,0,{"$f":"IF(ISERROR(METHANE!$J106*DEFAULTS!$B$81*(IF('USER INPUTS'!$B$24=\"Total landfill gas\",(1/($D$5/100)),IF('USER INPUTS'!$B$24=\"Methane\",1,IF('USER INPUTS'!$B$24=\"Carbon dioxide\",((1/($D$5/100))-1),(VLOOKUP('USER INPUTS'!$B$24,DEFAULTS!$E$8:$F$69,2,FALSE))/10^6*(1/($D$5/100))))))),0,METHANE!$J106*DEFAULTS!$B$81*(IF('USER INPUTS'!$B$24=\"Total landfill gas\",(1/($D$5/100)),IF('USER INPUTS'!$B$24=\"Methane\",1,IF('USER INPUTS'!$B$24=\"Carbon dioxide\",((1/($D$5/100))-1),(VLOOKUP('USER INPUTS'!$B$24,DEFAULTS!$E$8:$F$69,2,FALSE))/10^6*(1/($D$5/100)))))))","v":0},{"$f":"IF(ISERROR(METHANE!$J106*(IF('USER INPUTS'!$B$24=\"Total landfill gas\",(1/($D$5/100)),IF('USER INPUTS'!$B$24=\"Methane\",1,IF('USER INPUTS'!$B$24=\"Carbon dioxide\",((1/($D$5/100))-1),(VLOOKUP('USER INPUTS'!$B$24,DEFAULTS!$E$8:$F$69,2,FALSE))/10^6*(1/($D$5/100))))))),0,METHANE!$J106*(IF('USER INPUTS'!$B$24=\"Total landfill gas\",(1/($D$5/100)),IF('USER INPUTS'!$B$24=\"Methane\",1,IF('USER INPUTS'!$B$24=\"Carbon dioxide\",((1/($D$5/100))-1),(VLOOKUP('USER INPUTS'!$B$24,DEFAULTS!$E$8:$F$69,2,FALSE))/10^6*(1/($D$5/100)))))))","v":0},{"$f":"IF(H$8=\"(short tons/year)\",(F92*DEFAULTS!$B$55*DEFAULTS!$B$53/DEFAULTS!$B$54),IF(H$8=\"(ft^3/year)\",(G92*DEFAULTS!$B$57),IF(H$8=\"(av ft^3/min)\",(G92*DEFAULTS!$B$57/DEFAULTS!$B$58),0)))","v":0},{"$f":"IF(ISERROR(METHANE!$J106*DEFAULTS!$B$82*(IF('USER INPUTS'!$B$26=\"Total landfill gas\",(1/($D$5/100)),IF('USER INPUTS'!$B$26=\"Methane\",1,IF('USER INPUTS'!$B$26=\"Carbon dioxide\",((1/($D$5/100))-1),(VLOOKUP('USER INPUTS'!$B$26,DEFAULTS!$E$8:$F$69,2,FALSE))/10^6*(1/($D$5/100))))))),0,METHANE!$J106*DEFAULTS!$B$82*(IF('USER INPUTS'!$B$26=\"Total landfill gas\",(1/($D$5/100)),IF('USER INPUTS'!$B$26=\"Methane\",1,IF('USER INPUTS'!$B$26=\"Carbon dioxide\",((1/($D$5/100))-1),(VLOOKUP('USER INPUTS'!$B$26,DEFAULTS!$E$8:$F$69,2,FALSE))/10^6*(1/($D$5/100)))))))","v":0},{"$f":"IF(ISERROR(METHANE!$J106*(IF('USER INPUTS'!$B$26=\"Total landfill gas\",(1/($D$5/100)),IF('USER INPUTS'!$B$26=\"Methane\",1,IF('USER INPUTS'!$B$26=\"Carbon dioxide\",((1/($D$5/100))-1),(VLOOKUP('USER INPUTS'!$B$26,DEFAULTS!$E$8:$F$69,2,FALSE))/10^6*(1/($D$5/100))))))),0,METHANE!$J106*(IF('USER INPUTS'!$B$26=\"Total landfill gas\",(1/($D$5/100)),IF('USER INPUTS'!$B$26=\"Methane\",1,IF('USER INPUTS'!$B$26=\"Carbon dioxide\",((1/($D$5/100))-1),(VLOOKUP('USER INPUTS'!$B$26,DEFAULTS!$E$8:$F$69,2,FALSE))/10^6*(1/($D$5/100)))))))","v":0},{"$f":"IF(K$8=\"(short tons/year)\",(I92*DEFAULTS!$B$55*DEFAULTS!$B$53/DEFAULTS!$B$54),IF(K$8=\"(ft^3/year)\",(J92*DEFAULTS!$B$57),IF(K$8=\"(av ft^3/min)\",(J92*DEFAULTS!$B$57/DEFAULTS!$B$58),0)))","v":0},{"$f":"IF(ISERROR(METHANE!$J106*DEFAULTS!$B$83*(IF('USER INPUTS'!$B$28=\"Total landfill gas\",(1/($D$5/100)),IF('USER INPUTS'!$B$28=\"Methane\",1,IF('USER INPUTS'!$B$28=\"Carbon dioxide\",((1/($D$5/100))-1),(VLOOKUP('USER INPUTS'!$B$28,DEFAULTS!$E$8:$F$69,2,FALSE))/10^6*(1/($D$5/100))))))),0,METHANE!$J106*DEFAULTS!$B$83*(IF('USER INPUTS'!$B$28=\"Total landfill gas\",(1/($D$5/100)),IF('USER INPUTS'!$B$28=\"Methane\",1,IF('USER INPUTS'!$B$28=\"Carbon dioxide\",((1/($D$5/100))-1),(VLOOKUP('USER INPUTS'!$B$28,DEFAULTS!$E$8:$F$69,2,FALSE))/10^6*(1/($D$5/100)))))))","v":0},{"$f":"IF(ISERROR(METHANE!$J106*(IF('USER INPUTS'!$B$28=\"Total landfill gas\",(1/($D$5/100)),IF('USER INPUTS'!$B$28=\"Methane\",1,IF('USER INPUTS'!$B$28=\"Carbon dioxide\",((1/($D$5/100))-1),(VLOOKUP('USER INPUTS'!$B$28,DEFAULTS!$E$8:$F$69,2,FALSE))/10^6*(1/($D$5/100))))))),0,METHANE!$J106*(IF('USER INPUTS'!$B$28=\"Total landfill gas\",(1/($D$5/100)),IF('USER INPUTS'!$B$28=\"Methane\",1,IF('USER INPUTS'!$B$28=\"Carbon dioxide\",((1/($D$5/100))-1),(VLOOKUP('USER INPUTS'!$B$28,DEFAULTS!$E$8:$F$69,2,FALSE))/10^6*(1/($D$5/100)))))))","v":0},{"$f":"IF(N$8=\"(short tons/year)\",(L92*DEFAULTS!$B$55*DEFAULTS!$B$53/DEFAULTS!$B$54),IF(N$8=\"(ft^3/year)\",(M92*DEFAULTS!$B$57),IF(N$8=\"(av ft^3/min)\",(M92*DEFAULTS!$B$57/DEFAULTS!$B$58),0)))","v":0},{"$f":"IF(ISERROR(METHANE!$J106*DEFAULTS!$B$84*(IF('USER INPUTS'!$B$30=\"Total landfill gas\",(1/($D$5/100)),IF('USER INPUTS'!$B$30=\"Methane\",1,IF('USER INPUTS'!$B$30=\"Carbon dioxide\",((1/($D$5/100))-1),(VLOOKUP('USER INPUTS'!$B$30,DEFAULTS!$E$8:$F$69,2,FALSE))/10^6*(1/($D$5/100))))))),0,METHANE!$J106*DEFAULTS!$B$84*(IF('USER INPUTS'!$B$30=\"Total landfill gas\",(1/($D$5/100)),IF('USER INPUTS'!$B$30=\"Methane\",1,IF('USER INPUTS'!$B$30=\"Carbon dioxide\",((1/($D$5/100))-1),(VLOOKUP('USER INPUTS'!$B$30,DEFAULTS!$E$8:$F$69,2,FALSE))/10^6*(1/($D$5/100)))))))","v":0},{"$f":"IF(ISERROR(METHANE!$J106*(IF('USER INPUTS'!$B$30=\"Total landfill gas\",(1/($D$5/100)),IF('USER INPUTS'!$B$30=\"Methane\",1,IF('USER INPUTS'!$B$30=\"Carbon dioxide\",((1/($D$5/100))-1),(VLOOKUP('USER INPUTS'!$B$30,DEFAULTS!$E$8:$F$69,2,FALSE))/10^6*(1/($D$5/100))))))),0,METHANE!$J106*(IF('USER INPUTS'!$B$30=\"Total landfill gas\",(1/($D$5/100)),IF('USER INPUTS'!$B$30=\"Methane\",1,IF('USER INPUTS'!$B$30=\"Carbon dioxide\",((1/($D$5/100))-1),(VLOOKUP('USER INPUTS'!$B$30,DEFAULTS!$E$8:$F$69,2,FALSE))/10^6*(1/($D$5/100)))))))","v":0},{"$f":"IF(Q$8=\"(short tons/year)\",(O92*DEFAULTS!$B$55*DEFAULTS!$B$53/DEFAULTS!$B$54),IF(Q$8=\"(ft^3/year)\",(P92*DEFAULTS!$B$57),IF(Q$8=\"(av ft^3/min)\",(P92*DEFAULTS!$B$57/DEFAULTS!$B$58),0)))","v":0}]
[{"$f":"METHANE!I107","v":84},0,0,0,0,{"$f":"IF(ISERROR(METHANE!$J107*DEFAULTS!$B$81*(IF('USER INPUTS'!$B$24=\"Total landfill gas\",(1/($D$5/100)),IF('USER INPUTS'!$B$24=\"Methane\",1,IF('USER INPUTS'!$B$24=\"Carbon dioxide\",((1/($D$5/100))-1),(VLOOKUP('USER INPUTS'!$B$24,DEFAULTS!$E$8:$F$69,2,FALSE))/10^6*(1/($D$5/100))))))),0,METHANE!$J107*DEFAULTS!$B$81*(IF('USER INPUTS'!$B$24=\"Total landfill gas\",(1/($D$5/100)),IF('USER INPUTS'!$B$24=\"Methane\",1,IF('USER INPUTS'!$B$24=\"Carbon dioxide\",((1/($D$5/100))-1),(VLOOKUP('USER INPUTS'!$B$24,DEFAULTS!$E$8:$F$69,2,FALSE))/10^6*(1/($D$5/100)))))))","v":0},{"$f":"IF(ISERROR(METHANE!$J107*(IF('USER INPUTS'!$B$24=\"Total landfill gas\",(1/($D$5/100)),IF('USER INPUTS'!$B$24=\"Methane\",1,IF('USER INPUTS'!$B$24=\"Carbon dioxide\",((1/($D$5/100))-1),(VLOOKUP('USER INPUTS'!$B$24,DEFAULTS!$E$8:$F$69,2,FALSE))/10^6*(1/($D$5/100))))))),0,METHANE!$J107*(IF('USER INPUTS'!$B$24=\"Total landfill gas\",(1/($D$5/100)),IF('USER INPUTS'!$B$24=\"Methane\",1,IF('USER INPUTS'!$B$24=\"Carbon dioxide\",((1/($D$5/100))-1),(VLOOKUP('USER INPUTS'!$B$24,DEFAULTS!$E$8:$F$69,2,FALSE))/10^6*(1/($D$5/100)))))))","v":0},{"$f":"IF(H$8=\"(short tons/year)\",(F93*DEFAULTS!$B$55*DEFAULTS!$B$53/DEFAULTS!$B$54),IF(H$8=\"(ft^3/year)\",(G93*DEFAULTS!$B$57),IF(H$8=\"(av ft^3/min)\",(G93*DEFAULTS!$B$57/DEFAULTS!$B$58),0)))","v":0},{"$f":"IF(ISERROR(METHANE!$J107*DEFAULTS!$B$82*(IF('USER INPUTS'!$B$26=\"Total landfill gas\",(1/($D$5/100)),IF('USER INPUTS'!$B$26=\"Methane\",1,IF('USER INPUTS'!$B$26=\"Carbon dioxide\",((1/($D$5/100))-1),(VLOOKUP('USER INPUTS'!$B$26,DEFAULTS!$E$8:$F$69,2,FALSE))/10^6*(1/($D$5/100))))))),0,METHANE!$J107*DEFAULTS!$B$82*(IF('USER INPUTS'!$B$26=\"Total landfill gas\",(1/($D$5/100)),IF('USER INPUTS'!$B$26=\"Methane\",1,IF('USER INPUTS'!$B$26=\"Carbon dioxide\",((1/($D$5/100))-1),(VLOOKUP('USER INPUTS'!$B$26,DEFAULTS!$E$8:$F$69,2,FALSE))/10^6*(1/($D$5/100)))))))","v":0},{"$f":"IF(ISERROR(METHANE!$J107*(IF('USER INPUTS'!$B$26=\"Total landfill gas\",(1/($D$5/100)),IF('USER INPUTS'!$B$26=\"Methane\",1,IF('USER INPUTS'!$B$26=\"Carbon dioxide\",((1/($D$5/100))-1),(VLOOKUP('USER INPUTS'!$B$26,DEFAULTS!$E$8:$F$69,2,FALSE))/10^6*(1/($D$5/100))))))),0,METHANE!$J107*(IF('USER INPUTS'!$B$26=\"Total landfill gas\",(1/($D$5/100)),IF('USER INPUTS'!$B$26=\"Methane\",1,IF('USER INPUTS'!$B$26=\"Carbon dioxide\",((1/($D$5/100))-1),(VLOOKUP('USER INPUTS'!$B$26,DEFAULTS!$E$8:$F$69,2,FALSE))/10^6*(1/($D$5/100)))))))","v":0},{"$f":"IF(K$8=\"(short tons/year)\",(I93*DEFAULTS!$B$55*DEFAULTS!$B$53/DEFAULTS!$B$54),IF(K$8=\"(ft^3/year)\",(J93*DEFAULTS!$B$57),IF(K$8=\"(av ft^3/min)\",(J93*DEFAULTS!$B$57/DEFAULTS!$B$58),0)))","v":0},{"$f":"IF(ISERROR(METHANE!$J107*DEFAULTS!$B$83*(IF('USER INPUTS'!$B$28=\"Total landfill gas\",(1/($D$5/100)),IF('USER INPUTS'!$B$28=\"Methane\",1,IF('USER INPUTS'!$B$28=\"Carbon dioxide\",((1/($D$5/100))-1),(VLOOKUP('USER INPUTS'!$B$28,DEFAULTS!$E$8:$F$69,2,FALSE))/10^6*(1/($D$5/100))))))),0,METHANE!$J107*DEFAULTS!$B$83*(IF('USER INPUTS'!$B$28=\"Total landfill gas\",(1/($D$5/100)),IF('USER INPUTS'!$B$28=\"Methane\",1,IF('USER INPUTS'!$B$28=\"Carbon dioxide\",((1/($D$5/100))-1),(VLOOKUP('USER INPUTS'!$B$28,DEFAULTS!$E$8:$F$69,2,FALSE))/10^6*(1/($D$5/100)))))))","v":0},{"$f":"IF(ISERROR(METHANE!$J107*(IF('USER INPUTS'!$B$28=\"Total landfill gas\",(1/($D$5/100)),IF('USER INPUTS'!$B$28=\"Methane\",1,IF('USER INPUTS'!$B$28=\"Carbon dioxide\",((1/($D$5/100))-1),(VLOOKUP('USER INPUTS'!$B$28,DEFAULTS!$E$8:$F$69,2,FALSE))/10^6*(1/($D$5/100))))))),0,METHANE!$J107*(IF('USER INPUTS'!$B$28=\"Total landfill gas\",(1/($D$5/100)),IF('USER INPUTS'!$B$28=\"Methane\",1,IF('USER INPUTS'!$B$28=\"Carbon dioxide\",((1/($D$5/100))-1),(VLOOKUP('USER INPUTS'!$B$28,DEFAULTS!$E$8:$F$69,2,FALSE))/10^6*(1/($D$5/100)))))))","v":0},{"$f":"IF(N$8=\"(short tons/year)\",(L93*DEFAULTS!$B$55*DEFAULTS!$B$53/DEFAULTS!$B$54),IF(N$8=\"(ft^3/year)\",(M93*DEFAULTS!$B$57),IF(N$8=\"(av ft^3/min)\",(M93*DEFAULTS!$B$57/DEFAULTS!$B$58),0)))","v":0},{"$f":"IF(ISERROR(METHANE!$J107*DEFAULTS!$B$84*(IF('USER INPUTS'!$B$30=\"Total landfill gas\",(1/($D$5/100)),IF('USER INPUTS'!$B$30=\"Methane\",1,IF('USER INPUTS'!$B$30=\"Carbon dioxide\",((1/($D$5/100))-1),(VLOOKUP('USER INPUTS'!$B$30,DEFAULTS!$E$8:$F$69,2,FALSE))/10^6*(1/($D$5/100))))))),0,METHANE!$J107*DEFAULTS!$B$84*(IF('USER INPUTS'!$B$30=\"Total landfill gas\",(1/($D$5/100)),IF('USER INPUTS'!$B$30=\"Methane\",1,IF('USER INPUTS'!$B$30=\"Carbon dioxide\",((1/($D$5/100))-1),(VLOOKUP('USER INPUTS'!$B$30,DEFAULTS!$E$8:$F$69,2,FALSE))/10^6*(1/($D$5/100)))))))","v":0},{"$f":"IF(ISERROR(METHANE!$J107*(IF('USER INPUTS'!$B$30=\"Total landfill gas\",(1/($D$5/100)),IF('USER INPUTS'!$B$30=\"Methane\",1,IF('USER INPUTS'!$B$30=\"Carbon dioxide\",((1/($D$5/100))-1),(VLOOKUP('USER INPUTS'!$B$30,DEFAULTS!$E$8:$F$69,2,FALSE))/10^6*(1/($D$5/100))))))),0,METHANE!$J107*(IF('USER INPUTS'!$B$30=\"Total landfill gas\",(1/($D$5/100)),IF('USER INPUTS'!$B$30=\"Methane\",1,IF('USER INPUTS'!$B$30=\"Carbon dioxide\",((1/($D$5/100))-1),(VLOOKUP('USER INPUTS'!$B$30,DEFAULTS!$E$8:$F$69,2,FALSE))/10^6*(1/($D$5/100)))))))","v":0},{"$f":"IF(Q$8=\"(short tons/year)\",(O93*DEFAULTS!$B$55*DEFAULTS!$B$53/DEFAULTS!$B$54),IF(Q$8=\"(ft^3/year)\",(P93*DEFAULTS!$B$57),IF(Q$8=\"(av ft^3/min)\",(P93*DEFAULTS!$B$57/DEFAULTS!$B$58),0)))","v":0}]
[{"$f":"METHANE!I108","v":85},0,0,0,0,{"$f":"IF(ISERROR(METHANE!$J108*DEFAULTS!$B$81*(IF('USER INPUTS'!$B$24=\"Total landfill gas\",(1/($D$5/100)),IF('USER INPUTS'!$B$24=\"Methane\",1,IF('USER INPUTS'!$B$24=\"Carbon dioxide\",((1/($D$5/100))-1),(VLOOKUP('USER INPUTS'!$B$24,DEFAULTS!$E$8:$F$69,2,FALSE))/10^6*(1/($D$5/100))))))),0,METHANE!$J108*DEFAULTS!$B$81*(IF('USER INPUTS'!$B$24=\"Total landfill gas\",(1/($D$5/100)),IF('USER INPUTS'!$B$24=\"Methane\",1,IF('USER INPUTS'!$B$24=\"Carbon dioxide\",((1/($D$5/100))-1),(VLOOKUP('USER INPUTS'!$B$24,DEFAULTS!$E$8:$F$69,2,FALSE))/10^6*(1/($D$5/100)))))))","v":0},{"$f":"IF(ISERROR(METHANE!$J108*(IF('USER INPUTS'!$B$24=\"Total landfill gas\",(1/($D$5/100)),IF('USER INPUTS'!$B$24=\"Methane\",1,IF('USER INPUTS'!$B$24=\"Carbon dioxide\",((1/($D$5/100))-1),(VLOOKUP('USER INPUTS'!$B$24,DEFAULTS!$E$8:$F$69,2,FALSE))/10^6*(1/($D$5/100))))))),0,METHANE!$J108*(IF('USER INPUTS'!$B$24=\"Total landfill gas\",(1/($D$5/100)),IF('USER INPUTS'!$B$24=\"Methane\",1,IF('USER INPUTS'!$B$24=\"Carbon dioxide\",((1/($D$5/100))-1),(VLOOKUP('USER INPUTS'!$B$24,DEFAULTS!$E$8:$F$69,2,FALSE))/10^6*(1/($D$5/100)))))))","v":0},{"$f":"IF(H$8=\"(short tons/year)\",(F94*DEFAULTS!$B$55*DEFAULTS!$B$53/DEFAULTS!$B$54),IF(H$8=\"(ft^3/year)\",(G94*DEFAULTS!$B$57),IF(H$8=\"(av ft^3/min)\",(G94*DEFAULTS!$B$57/DEFAULTS!$B$58),0)))","v":0},{"$f":"IF(ISERROR(METHANE!$J108*DEFAULTS!$B$82*(IF('USER INPUTS'!$B$26=\"Total landfill gas\",(1/($D$5/100)),IF('USER INPUTS'!$B$26=\"Methane\",1,IF('USER INPUTS'!$B$26=\"Carbon dioxide\",((1/($D$5/100))-1),(VLOOKUP('USER INPUTS'!$B$26,DEFAULTS!$E$8:$F$69,2,FALSE))/10^6*(1/($D$5/100))))))),0,METHANE!$J108*DEFAULTS!$B$82*(IF('USER INPUTS'!$B$26=\"Total landfill gas\",(1/($D$5/100)),IF('USER INPUTS'!$B$26=\"Methane\",1,IF('USER INPUTS'!$B$26=\"Carbon dioxide\",((1/($D$5/100))-1),(VLOOKUP('USER INPUTS'!$B$26,DEFAULTS!$E$8:$F$69,2,FALSE))/10^6*(1/($D$5/100)))))))","v":0},{"$f":"IF(ISERROR(METHANE!$J108*(IF('USER INPUTS'!$B$26=\"Total landfill gas\",(1/($D$5/100)),IF('USER INPUTS'!$B$26=\"Methane\",1,IF('USER INPUTS'!$B$26=\"Carbon dioxide\",((1/($D$5/100))-1),(VLOOKUP('USER INPUTS'!$B$26,DEFAULTS!$E$8:$F$69,2,FALSE))/10^6*(1/($D$5/100))))))),0,METHANE!$J108*(IF('USER INPUTS'!$B$26=\"Total landfill gas\",(1/($D$5/100)),IF('USER INPUTS'!$B$26=\"Methane\",1,IF('USER INPUTS'!$B$26=\"Carbon dioxide\",((1/($D$5/100))-1),(VLOOKUP('USER INPUTS'!$B$26,DEFAULTS!$E$8:$F$69,2,FALSE))/10^6*(1/($D$5/100)))))))","v":0},{"$f":"IF(K$8=\"(short tons/year)\",(I94*DEFAULTS!$B$55*DEFAULTS!$B$53/DEFAULTS!$B$54),IF(K$8=\"(ft^3/year)\",(J94*DEFAULTS!$B$57),IF(K$8=\"(av ft^3/min)\",(J94*DEFAULTS!$B$57/DEFAULTS!$B$58),0)))","v":0},{"$f":"IF(ISERROR(METHANE!$J108*DEFAULTS!$B$83*(IF('USER INPUTS'!$B$28=\"Total landfill gas\",(1/($D$5/100)),IF('USER INPUTS'!$B$28=\"Methane\",1,IF('USER INPUTS'!$B$28=\"Carbon dioxide\",((1/($D$5/100))-1),(VLOOKUP('USER INPUTS'!$B$28,DEFAULTS!$E$8:$F$69,2,FALSE))/10^6*(1/($D$5/100))))))),0,METHANE!$J108*DEFAULTS!$B$83*(IF('USER INPUTS'!$B$28=\"Total landfill gas\",(1/($D$5/100)),IF('USER INPUTS'!$B$28=\"Methane\",1,IF('USER INPUTS'!$B$28=\"Carbon dioxide\",((1/($D$5/100))-1),(VLOOKUP('USER INPUTS'!$B$28,DEFAULTS!$E$8:$F$69,2,FALSE))/10^6*(1/($D$5/100)))))))","v":0},{"$f":"IF(ISERROR(METHANE!$J108*(IF('USER INPUTS'!$B$28=\"Total landfill gas\",(1/($D$5/100)),IF('USER INPUTS'!$B$28=\"Methane\",1,IF('USER INPUTS'!$B$28=\"Carbon dioxide\",((1/($D$5/100))-1),(VLOOKUP('USER INPUTS'!$B$28,DEFAULTS!$E$8:$F$69,2,FALSE))/10^6*(1/($D$5/100))))))),0,METHANE!$J108*(IF('USER INPUTS'!$B$28=\"Total landfill gas\",(1/($D$5/100)),IF('USER INPUTS'!$B$28=\"Methane\",1,IF('USER INPUTS'!$B$28=\"Carbon dioxide\",((1/($D$5/100))-1),(VLOOKUP('USER INPUTS'!$B$28,DEFAULTS!$E$8:$F$69,2,FALSE))/10^6*(1/($D$5/100)))))))","v":0},{"$f":"IF(N$8=\"(short tons/year)\",(L94*DEFAULTS!$B$55*DEFAULTS!$B$53/DEFAULTS!$B$54),IF(N$8=\"(ft^3/year)\",(M94*DEFAULTS!$B$57),IF(N$8=\"(av ft^3/min)\",(M94*DEFAULTS!$B$57/DEFAULTS!$B$58),0)))","v":0},{"$f":"IF(ISERROR(METHANE!$J108*DEFAULTS!$B$84*(IF('USER INPUTS'!$B$30=\"Total landfill gas\",(1/($D$5/100)),IF('USER INPUTS'!$B$30=\"Methane\",1,IF('USER INPUTS'!$B$30=\"Carbon dioxide\",((1/($D$5/100))-1),(VLOOKUP('USER INPUTS'!$B$30,DEFAULTS!$E$8:$F$69,2,FALSE))/10^6*(1/($D$5/100))))))),0,METHANE!$J108*DEFAULTS!$B$84*(IF('USER INPUTS'!$B$30=\"Total landfill gas\",(1/($D$5/100)),IF('USER INPUTS'!$B$30=\"Methane\",1,IF('USER INPUTS'!$B$30=\"Carbon dioxide\",((1/($D$5/100))-1),(VLOOKUP('USER INPUTS'!$B$30,DEFAULTS!$E$8:$F$69,2,FALSE))/10^6*(1/($D$5/100)))))))","v":0},{"$f":"IF(ISERROR(METHANE!$J108*(IF('USER INPUTS'!$B$30=\"Total landfill gas\",(1/($D$5/100)),IF('USER INPUTS'!$B$30=\"Methane\",1,IF('USER INPUTS'!$B$30=\"Carbon dioxide\",((1/($D$5/100))-1),(VLOOKUP('USER INPUTS'!$B$30,DEFAULTS!$E$8:$F$69,2,FALSE))/10^6*(1/($D$5/100))))))),0,METHANE!$J108*(IF('USER INPUTS'!$B$30=\"Total landfill gas\",(1/($D$5/100)),IF('USER INPUTS'!$B$30=\"Methane\",1,IF('USER INPUTS'!$B$30=\"Carbon dioxide\",((1/($D$5/100))-1),(VLOOKUP('USER INPUTS'!$B$30,DEFAULTS!$E$8:$F$69,2,FALSE))/10^6*(1/($D$5/100)))))))","v":0},{"$f":"IF(Q$8=\"(short tons/year)\",(O94*DEFAULTS!$B$55*DEFAULTS!$B$53/DEFAULTS!$B$54),IF(Q$8=\"(ft^3/year)\",(P94*DEFAULTS!$B$57),IF(Q$8=\"(av ft^3/min)\",(P94*DEFAULTS!$B$57/DEFAULTS!$B$58),0)))","v":0}]
[{"$f":"METHANE!I109","v":86},0,0,0,0,{"$f":"IF(ISERROR(METHANE!$J109*DEFAULTS!$B$81*(IF('USER INPUTS'!$B$24=\"Total landfill gas\",(1/($D$5/100)),IF('USER INPUTS'!$B$24=\"Methane\",1,IF('USER INPUTS'!$B$24=\"Carbon dioxide\",((1/($D$5/100))-1),(VLOOKUP('USER INPUTS'!$B$24,DEFAULTS!$E$8:$F$69,2,FALSE))/10^6*(1/($D$5/100))))))),0,METHANE!$J109*DEFAULTS!$B$81*(IF('USER INPUTS'!$B$24=\"Total landfill gas\",(1/($D$5/100)),IF('USER INPUTS'!$B$24=\"Methane\",1,IF('USER INPUTS'!$B$24=\"Carbon dioxide\",((1/($D$5/100))-1),(VLOOKUP('USER INPUTS'!$B$24,DEFAULTS!$E$8:$F$69,2,FALSE))/10^6*(1/($D$5/100)))))))","v":0},{"$f":"IF(ISERROR(METHANE!$J109*(IF('USER INPUTS'!$B$24=\"Total landfill gas\",(1/($D$5/100)),IF('USER INPUTS'!$B$24=\"Methane\",1,IF('USER INPUTS'!$B$24=\"Carbon dioxide\",((1/($D$5/100))-1),(VLOOKUP('USER INPUTS'!$B$24,DEFAULTS!$E$8:$F$69,2,FALSE))/10^6*(1/($D$5/100))))))),0,METHANE!$J109*(IF('USER INPUTS'!$B$24=\"Total landfill gas\",(1/($D$5/100)),IF('USER INPUTS'!$B$24=\"Methane\",1,IF('USER INPUTS'!$B$24=\"Carbon dioxide\",((1/($D$5/100))-1),(VLOOKUP('USER INPUTS'!$B$24,DEFAULTS!$E$8:$F$69,2,FALSE))/10^6*(1/($D$5/100)))))))","v":0},{"$f":"IF(H$8=\"(short tons/year)\",(F95*DEFAULTS!$B$55*DEFAULTS!$B$53/DEFAULTS!$B$54),IF(H$8=\"(ft^3/year)\",(G95*DEFAULTS!$B$57),IF(H$8=\"(av ft^3/min)\",(G95*DEFAULTS!$B$57/DEFAULTS!$B$58),0)))","v":0},{"$f":"IF(ISERROR(METHANE!$J109*DEFAULTS!$B$82*(IF('USER INPUTS'!$B$26=\"Total landfill gas\",(1/($D$5/100)),IF('USER INPUTS'!$B$26=\"Methane\",1,IF('USER INPUTS'!$B$26=\"Carbon dioxide\",((1/($D$5/100))-1),(VLOOKUP('USER INPUTS'!$B$26,DEFAULTS!$E$8:$F$69,2,FALSE))/10^6*(1/($D$5/100))))))),0,METHANE!$J109*DEFAULTS!$B$82*(IF('USER INPUTS'!$B$26=\"Total landfill gas\",(1/($D$5/100)),IF('USER INPUTS'!$B$26=\"Methane\",1,IF('USER INPUTS'!$B$26=\"Carbon dioxide\",((1/($D$5/100))-1),(VLOOKUP('USER INPUTS'!$B$26,DEFAULTS!$E$8:$F$69,2,FALSE))/10^6*(1/($D$5/100)))))))","v":0},{"$f":"IF(ISERROR(METHANE!$J109*(IF('USER INPUTS'!$B$26=\"Total landfill gas\",(1/($D$5/100)),IF('USER INPUTS'!$B$26=\"Methane\",1,IF('USER INPUTS'!$B$26=\"Carbon dioxide\",((1/($D$5/100))-1),(VLOOKUP('USER INPUTS'!$B$26,DEFAULTS!$E$8:$F$69,2,FALSE))/10^6*(1/($D$5/100))))))),0,METHANE!$J109*(IF('USER INPUTS'!$B$26=\"Total landfill gas\",(1/($D$5/100)),IF('USER INPUTS'!$B$26=\"Methane\",1,IF('USER INPUTS'!$B$26=\"Carbon dioxide\",((1/($D$5/100))-1),(VLOOKUP('USER INPUTS'!$B$26,DEFAULTS!$E$8:$F$69,2,FALSE))/10^6*(1/($D$5/100)))))))","v":0},{"$f":"IF(K$8=\"(short tons/year)\",(I95*DEFAULTS!$B$55*DEFAULTS!$B$53/DEFAULTS!$B$54),IF(K$8=\"(ft^3/year)\",(J95*DEFAULTS!$B$57),IF(K$8=\"(av ft^3/min)\",(J95*DEFAULTS!$B$57/DEFAULTS!$B$58),0)))","v":0},{"$f":"IF(ISERROR(METHANE!$J109*DEFAULTS!$B$83*(IF('USER INPUTS'!$B$28=\"Total landfill gas\",(1/($D$5/100)),IF('USER INPUTS'!$B$28=\"Methane\",1,IF('USER INPUTS'!$B$28=\"Carbon dioxide\",((1/($D$5/100))-1),(VLOOKUP('USER INPUTS'!$B$28,DEFAULTS!$E$8:$F$69,2,FALSE))/10^6*(1/($D$5/100))))))),0,METHANE!$J109*DEFAULTS!$B$83*(IF('USER INPUTS'!$B$28=\"Total landfill gas\",(1/($D$5/100)),IF('USER INPUTS'!$B$28=\"Methane\",1,IF('USER INPUTS'!$B$28=\"Carbon dioxide\",((1/($D$5/100))-1),(VLOOKUP('USER INPUTS'!$B$28,DEFAULTS!$E$8:$F$69,2,FALSE))/10^6*(1/($D$5/100)))))))","v":0},{"$f":"IF(ISERROR(METHANE!$J109*(IF('USER INPUTS'!$B$28=\"Total landfill gas\",(1/($D$5/100)),IF('USER INPUTS'!$B$28=\"Methane\",1,IF('USER INPUTS'!$B$28=\"Carbon dioxide\",((1/($D$5/100))-1),(VLOOKUP('USER INPUTS'!$B$28,DEFAULTS!$E$8:$F$69,2,FALSE))/10^6*(1/($D$5/100))))))),0,METHANE!$J109*(IF('USER INPUTS'!$B$28=\"Total landfill gas\",(1/($D$5/100)),IF('USER INPUTS'!$B$28=\"Methane\",1,IF('USER INPUTS'!$B$28=\"Carbon dioxide\",((1/($D$5/100))-1),(VLOOKUP('USER INPUTS'!$B$28,DEFAULTS!$E$8:$F$69,2,FALSE))/10^6*(1/($D$5/100)))))))","v":0},{"$f":"IF(N$8=\"(short tons/year)\",(L95*DEFAULTS!$B$55*DEFAULTS!$B$53/DEFAULTS!$B$54),IF(N$8=\"(ft^3/year)\",(M95*DEFAULTS!$B$57),IF(N$8=\"(av ft^3/min)\",(M95*DEFAULTS!$B$57/DEFAULTS!$B$58),0)))","v":0},{"$f":"IF(ISERROR(METHANE!$J109*DEFAULTS!$B$84*(IF('USER INPUTS'!$B$30=\"Total landfill gas\",(1/($D$5/100)),IF('USER INPUTS'!$B$30=\"Methane\",1,IF('USER INPUTS'!$B$30=\"Carbon dioxide\",((1/($D$5/100))-1),(VLOOKUP('USER INPUTS'!$B$30,DEFAULTS!$E$8:$F$69,2,FALSE))/10^6*(1/($D$5/100))))))),0,METHANE!$J109*DEFAULTS!$B$84*(IF('USER INPUTS'!$B$30=\"Total landfill gas\",(1/($D$5/100)),IF('USER INPUTS'!$B$30=\"Methane\",1,IF('USER INPUTS'!$B$30=\"Carbon dioxide\",((1/($D$5/100))-1),(VLOOKUP('USER INPUTS'!$B$30,DEFAULTS!$E$8:$F$69,2,FALSE))/10^6*(1/($D$5/100)))))))","v":0},{"$f":"IF(ISERROR(METHANE!$J109*(IF('USER INPUTS'!$B$30=\"Total landfill gas\",(1/($D$5/100)),IF('USER INPUTS'!$B$30=\"Methane\",1,IF('USER INPUTS'!$B$30=\"Carbon dioxide\",((1/($D$5/100))-1),(VLOOKUP('USER INPUTS'!$B$30,DEFAULTS!$E$8:$F$69,2,FALSE))/10^6*(1/($D$5/100))))))),0,METHANE!$J109*(IF('USER INPUTS'!$B$30=\"Total landfill gas\",(1/($D$5/100)),IF('USER INPUTS'!$B$30=\"Methane\",1,IF('USER INPUTS'!$B$30=\"Carbon dioxide\",((1/($D$5/100))-1),(VLOOKUP('USER INPUTS'!$B$30,DEFAULTS!$E$8:$F$69,2,FALSE))/10^6*(1/($D$5/100)))))))","v":0},{"$f":"IF(Q$8=\"(short tons/year)\",(O95*DEFAULTS!$B$55*DEFAULTS!$B$53/DEFAULTS!$B$54),IF(Q$8=\"(ft^3/year)\",(P95*DEFAULTS!$B$57),IF(Q$8=\"(av ft^3/min)\",(P95*DEFAULTS!$B$57/DEFAULTS!$B$58),0)))","v":0}]
[{"$f":"METHANE!I110","v":87},0,0,0,0,{"$f":"IF(ISERROR(METHANE!$J110*DEFAULTS!$B$81*(IF('USER INPUTS'!$B$24=\"Total landfill gas\",(1/($D$5/100)),IF('USER INPUTS'!$B$24=\"Methane\",1,IF('USER INPUTS'!$B$24=\"Carbon dioxide\",((1/($D$5/100))-1),(VLOOKUP('USER INPUTS'!$B$24,DEFAULTS!$E$8:$F$69,2,FALSE))/10^6*(1/($D$5/100))))))),0,METHANE!$J110*DEFAULTS!$B$81*(IF('USER INPUTS'!$B$24=\"Total landfill gas\",(1/($D$5/100)),IF('USER INPUTS'!$B$24=\"Methane\",1,IF('USER INPUTS'!$B$24=\"Carbon dioxide\",((1/($D$5/100))-1),(VLOOKUP('USER INPUTS'!$B$24,DEFAULTS!$E$8:$F$69,2,FALSE))/10^6*(1/($D$5/100)))))))","v":0},{"$f":"IF(ISERROR(METHANE!$J110*(IF('USER INPUTS'!$B$24=\"Total landfill gas\",(1/($D$5/100)),IF('USER INPUTS'!$B$24=\"Methane\",1,IF('USER INPUTS'!$B$24=\"Carbon dioxide\",((1/($D$5/100))-1),(VLOOKUP('USER INPUTS'!$B$24,DEFAULTS!$E$8:$F$69,2,FALSE))/10^6*(1/($D$5/100))))))),0,METHANE!$J110*(IF('USER INPUTS'!$B$24=\"Total landfill gas\",(1/($D$5/100)),IF('USER INPUTS'!$B$24=\"Methane\",1,IF('USER INPUTS'!$B$24=\"Carbon dioxide\",((1/($D$5/100))-1),(VLOOKUP('USER INPUTS'!$B$24,DEFAULTS!$E$8:$F$69,2,FALSE))/10^6*(1/($D$5/100)))))))","v":0},{"$f":"IF(H$8=\"(short tons/year)\",(F96*DEFAULTS!$B$55*DEFAULTS!$B$53/DEFAULTS!$B$54),IF(H$8=\"(ft^3/year)\",(G96*DEFAULTS!$B$57),IF(H$8=\"(av ft^3/min)\",(G96*DEFAULTS!$B$57/DEFAULTS!$B$58),0)))","v":0},{"$f":"IF(ISERROR(METHANE!$J110*DEFAULTS!$B$82*(IF('USER INPUTS'!$B$26=\"Total landfill gas\",(1/($D$5/100)),IF('USER INPUTS'!$B$26=\"Methane\",1,IF('USER INPUTS'!$B$26=\"Carbon dioxide\",((1/($D$5/100))-1),(VLOOKUP('USER INPUTS'!$B$26,DEFAULTS!$E$8:$F$69,2,FALSE))/10^6*(1/($D$5/100))))))),0,METHANE!$J110*DEFAULTS!$B$82*(IF('USER INPUTS'!$B$26=\"Total landfill gas\",(1/($D$5/100)),IF('USER INPUTS'!$B$26=\"Methane\",1,IF('USER INPUTS'!$B$26=\"Carbon dioxide\",((1/($D$5/100))-1),(VLOOKUP('USER INPUTS'!$B$26,DEFAULTS!$E$8:$F$69,2,FALSE))/10^6*(1/($D$5/100)))))))","v":0},{"$f":"IF(ISERROR(METHANE!$J110*(IF('USER INPUTS'!$B$26=\"Total landfill gas\",(1/($D$5/100)),IF('USER INPUTS'!$B$26=\"Methane\",1,IF('USER INPUTS'!$B$26=\"Carbon dioxide\",((1/($D$5/100))-1),(VLOOKUP('USER INPUTS'!$B$26,DEFAULTS!$E$8:$F$69,2,FALSE))/10^6*(1/($D$5/100))))))),0,METHANE!$J110*(IF('USER INPUTS'!$B$26=\"Total landfill gas\",(1/($D$5/100)),IF('USER INPUTS'!$B$26=\"Methane\",1,IF('USER INPUTS'!$B$26=\"Carbon dioxide\",((1/($D$5/100))-1),(VLOOKUP('USER INPUTS'!$B$26,DEFAULTS!$E$8:$F$69,2,FALSE))/10^6*(1/($D$5/100)))))))","v":0},{"$f":"IF(K$8=\"(short tons/year)\",(I96*DEFAULTS!$B$55*DEFAULTS!$B$53/DEFAULTS!$B$54),IF(K$8=\"(ft^3/year)\",(J96*DEFAULTS!$B$57),IF(K$8=\"(av ft^3/min)\",(J96*DEFAULTS!$B$57/DEFAULTS!$B$58),0)))","v":0},{"$f":"IF(ISERROR(METHANE!$J110*DEFAULTS!$B$83*(IF('USER INPUTS'!$B$28=\"Total landfill gas\",(1/($D$5/100)),IF('USER INPUTS'!$B$28=\"Methane\",1,IF('USER INPUTS'!$B$28=\"Carbon dioxide\",((1/($D$5/100))-1),(VLOOKUP('USER INPUTS'!$B$28,DEFAULTS!$E$8:$F$69,2,FALSE))/10^6*(1/($D$5/100))))))),0,METHANE!$J110*DEFAULTS!$B$83*(IF('USER INPUTS'!$B$28=\"Total landfill gas\",(1/($D$5/100)),IF('USER INPUTS'!$B$28=\"Methane\",1,IF('USER INPUTS'!$B$28=\"Carbon dioxide\",((1/($D$5/100))-1),(VLOOKUP('USER INPUTS'!$B$28,DEFAULTS!$E$8:$F$69,2,FALSE))/10^6*(1/($D$5/100)))))))","v":0},{"$f":"IF(ISERROR(METHANE!$J110*(IF('USER INPUTS'!$B$28=\"Total landfill gas\",(1/($D$5/100)),IF('USER INPUTS'!$B$28=\"Methane\",1,IF('USER INPUTS'!$B$28=\"Carbon dioxide\",((1/($D$5/100))-1),(VLOOKUP('USER INPUTS'!$B$28,DEFAULTS!$E$8:$F$69,2,FALSE))/10^6*(1/($D$5/100))))))),0,METHANE!$J110*(IF('USER INPUTS'!$B$28=\"Total landfill gas\",(1/($D$5/100)),IF('USER INPUTS'!$B$28=\"Methane\",1,IF('USER INPUTS'!$B$28=\"Carbon dioxide\",((1/($D$5/100))-1),(VLOOKUP('USER INPUTS'!$B$28,DEFAULTS!$E$8:$F$69,2,FALSE))/10^6*(1/($D$5/100)))))))","v":0},{"$f":"IF(N$8=\"(short tons/year)\",(L96*DEFAULTS!$B$55*DEFAULTS!$B$53/DEFAULTS!$B$54),IF(N$8=\"(ft^3/year)\",(M96*DEFAULTS!$B$57),IF(N$8=\"(av ft^3/min)\",(M96*DEFAULTS!$B$57/DEFAULTS!$B$58),0)))","v":0},{"$f":"IF(ISERROR(METHANE!$J110*DEFAULTS!$B$84*(IF('USER INPUTS'!$B$30=\"Total landfill gas\",(1/($D$5/100)),IF('USER INPUTS'!$B$30=\"Methane\",1,IF('USER INPUTS'!$B$30=\"Carbon dioxide\",((1/($D$5/100))-1),(VLOOKUP('USER INPUTS'!$B$30,DEFAULTS!$E$8:$F$69,2,FALSE))/10^6*(1/($D$5/100))))))),0,METHANE!$J110*DEFAULTS!$B$84*(IF('USER INPUTS'!$B$30=\"Total landfill gas\",(1/($D$5/100)),IF('USER INPUTS'!$B$30=\"Methane\",1,IF('USER INPUTS'!$B$30=\"Carbon dioxide\",((1/($D$5/100))-1),(VLOOKUP('USER INPUTS'!$B$30,DEFAULTS!$E$8:$F$69,2,FALSE))/10^6*(1/($D$5/100)))))))","v":0},{"$f":"IF(ISERROR(METHANE!$J110*(IF('USER INPUTS'!$B$30=\"Total landfill gas\",(1/($D$5/100)),IF('USER INPUTS'!$B$30=\"Methane\",1,IF('USER INPUTS'!$B$30=\"Carbon dioxide\",((1/($D$5/100))-1),(VLOOKUP('USER INPUTS'!$B$30,DEFAULTS!$E$8:$F$69,2,FALSE))/10^6*(1/($D$5/100))))))),0,METHANE!$J110*(IF('USER INPUTS'!$B$30=\"Total landfill gas\",(1/($D$5/100)),IF('USER INPUTS'!$B$30=\"Methane\",1,IF('USER INPUTS'!$B$30=\"Carbon dioxide\",((1/($D$5/100))-1),(VLOOKUP('USER INPUTS'!$B$30,DEFAULTS!$E$8:$F$69,2,FALSE))/10^6*(1/($D$5/100)))))))","v":0},{"$f":"IF(Q$8=\"(short tons/year)\",(O96*DEFAULTS!$B$55*DEFAULTS!$B$53/DEFAULTS!$B$54),IF(Q$8=\"(ft^3/year)\",(P96*DEFAULTS!$B$57),IF(Q$8=\"(av ft^3/min)\",(P96*DEFAULTS!$B$57/DEFAULTS!$B$58),0)))","v":0}]
[{"$f":"METHANE!I111","v":88},0,0,{"$f":"D96","v":0},{"$f":"E96","v":0},{"$f":"IF(ISERROR(METHANE!$J111*DEFAULTS!$B$81*(IF('USER INPUTS'!$B$24=\"Total landfill gas\",(1/($D$5/100)),IF('USER INPUTS'!$B$24=\"Methane\",1,IF('USER INPUTS'!$B$24=\"Carbon dioxide\",((1/($D$5/100))-1),(VLOOKUP('USER INPUTS'!$B$24,DEFAULTS!$E$8:$F$69,2,FALSE))/10^6*(1/($D$5/100))))))),0,METHANE!$J111*DEFAULTS!$B$81*(IF('USER INPUTS'!$B$24=\"Total landfill gas\",(1/($D$5/100)),IF('USER INPUTS'!$B$24=\"Methane\",1,IF('USER INPUTS'!$B$24=\"Carbon dioxide\",((1/($D$5/100))-1),(VLOOKUP('USER INPUTS'!$B$24,DEFAULTS!$E$8:$F$69,2,FALSE))/10^6*(1/($D$5/100)))))))","v":0},{"$f":"IF(ISERROR(METHANE!$J111*(IF('USER INPUTS'!$B$24=\"Total landfill gas\",(1/($D$5/100)),IF('USER INPUTS'!$B$24=\"Methane\",1,IF('USER INPUTS'!$B$24=\"Carbon dioxide\",((1/($D$5/100))-1),(VLOOKUP('USER INPUTS'!$B$24,DEFAULTS!$E$8:$F$69,2,FALSE))/10^6*(1/($D$5/100))))))),0,METHANE!$J111*(IF('USER INPUTS'!$B$24=\"Total landfill gas\",(1/($D$5/100)),IF('USER INPUTS'!$B$24=\"Methane\",1,IF('USER INPUTS'!$B$24=\"Carbon dioxide\",((1/($D$5/100))-1),(VLOOKUP('USER INPUTS'!$B$24,DEFAULTS!$E$8:$F$69,2,FALSE))/10^6*(1/($D$5/100)))))))","v":0},{"$f":"IF(H$8=\"(short tons/year)\",(F97*DEFAULTS!$B$55*DEFAULTS!$B$53/DEFAULTS!$B$54),IF(H$8=\"(ft^3/year)\",(G97*DEFAULTS!$B$57),IF(H$8=\"(av ft^3/min)\",(G97*DEFAULTS!$B$57/DEFAULTS!$B$58),0)))","v":0},{"$f":"IF(ISERROR(METHANE!$J111*DEFAULTS!$B$82*(IF('USER INPUTS'!$B$26=\"Total landfill gas\",(1/($D$5/100)),IF('USER INPUTS'!$B$26=\"Methane\",1,IF('USER INPUTS'!$B$26=\"Carbon dioxide\",((1/($D$5/100))-1),(VLOOKUP('USER INPUTS'!$B$26,DEFAULTS!$E$8:$F$69,2,FALSE))/10^6*(1/($D$5/100))))))),0,METHANE!$J111*DEFAULTS!$B$82*(IF('USER INPUTS'!$B$26=\"Total landfill gas\",(1/($D$5/100)),IF('USER INPUTS'!$B$26=\"Methane\",1,IF('USER INPUTS'!$B$26=\"Carbon dioxide\",((1/($D$5/100))-1),(VLOOKUP('USER INPUTS'!$B$26,DEFAULTS!$E$8:$F$69,2,FALSE))/10^6*(1/($D$5/100)))))))","v":0},{"$f":"IF(ISERROR(METHANE!$J111*(IF('USER INPUTS'!$B$26=\"Total landfill gas\",(1/($D$5/100)),IF('USER INPUTS'!$B$26=\"Methane\",1,IF('USER INPUTS'!$B$26=\"Carbon dioxide\",((1/($D$5/100))-1),(VLOOKUP('USER INPUTS'!$B$26,DEFAULTS!$E$8:$F$69,2,FALSE))/10^6*(1/($D$5/100))))))),0,METHANE!$J111*(IF('USER INPUTS'!$B$26=\"Total landfill gas\",(1/($D$5/100)),IF('USER INPUTS'!$B$26=\"Methane\",1,IF('USER INPUTS'!$B$26=\"Carbon dioxide\",((1/($D$5/100))-1),(VLOOKUP('USER INPUTS'!$B$26,DEFAULTS!$E$8:$F$69,2,FALSE))/10^6*(1/($D$5/100)))))))","v":0},{"$f":"IF(K$8=\"(short tons/year)\",(I97*DEFAULTS!$B$55*DEFAULTS!$B$53/DEFAULTS!$B$54),IF(K$8=\"(ft^3/year)\",(J97*DEFAULTS!$B$57),IF(K$8=\"(av ft^3/min)\",(J97*DEFAULTS!$B$57/DEFAULTS!$B$58),0)))","v":0},{"$f":"IF(ISERROR(METHANE!$J111*DEFAULTS!$B$83*(IF('USER INPUTS'!$B$28=\"Total landfill gas\",(1/($D$5/100)),IF('USER INPUTS'!$B$28=\"Methane\",1,IF('USER INPUTS'!$B$28=\"Carbon dioxide\",((1/($D$5/100))-1),(VLOOKUP('USER INPUTS'!$B$28,DEFAULTS!$E$8:$F$69,2,FALSE))/10^6*(1/($D$5/100))))))),0,METHANE!$J111*DEFAULTS!$B$83*(IF('USER INPUTS'!$B$28=\"Total landfill gas\",(1/($D$5/100)),IF('USER INPUTS'!$B$28=\"Methane\",1,IF('USER INPUTS'!$B$28=\"Carbon dioxide\",((1/($D$5/100))-1),(VLOOKUP('USER INPUTS'!$B$28,DEFAULTS!$E$8:$F$69,2,FALSE))/10^6*(1/($D$5/100)))))))","v":0},{"$f":"IF(ISERROR(METHANE!$J111*(IF('USER INPUTS'!$B$28=\"Total landfill gas\",(1/($D$5/100)),IF('USER INPUTS'!$B$28=\"Methane\",1,IF('USER INPUTS'!$B$28=\"Carbon dioxide\",((1/($D$5/100))-1),(VLOOKUP('USER INPUTS'!$B$28,DEFAULTS!$E$8:$F$69,2,FALSE))/10^6*(1/($D$5/100))))))),0,METHANE!$J111*(IF('USER INPUTS'!$B$28=\"Total landfill gas\",(1/($D$5/100)),IF('USER INPUTS'!$B$28=\"Methane\",1,IF('USER INPUTS'!$B$28=\"Carbon dioxide\",((1/($D$5/100))-1),(VLOOKUP('USER INPUTS'!$B$28,DEFAULTS!$E$8:$F$69,2,FALSE))/10^6*(1/($D$5/100)))))))","v":0},{"$f":"IF(N$8=\"(short tons/year)\",(L97*DEFAULTS!$B$55*DEFAULTS!$B$53/DEFAULTS!$B$54),IF(N$8=\"(ft^3/year)\",(M97*DEFAULTS!$B$57),IF(N$8=\"(av ft^3/min)\",(M97*DEFAULTS!$B$57/DEFAULTS!$B$58),0)))","v":0},{"$f":"IF(ISERROR(METHANE!$J111*DEFAULTS!$B$84*(IF('USER INPUTS'!$B$30=\"Total landfill gas\",(1/($D$5/100)),IF('USER INPUTS'!$B$30=\"Methane\",1,IF('USER INPUTS'!$B$30=\"Carbon dioxide\",((1/($D$5/100))-1),(VLOOKUP('USER INPUTS'!$B$30,DEFAULTS!$E$8:$F$69,2,FALSE))/10^6*(1/($D$5/100))))))),0,METHANE!$J111*DEFAULTS!$B$84*(IF('USER INPUTS'!$B$30=\"Total landfill gas\",(1/($D$5/100)),IF('USER INPUTS'!$B$30=\"Methane\",1,IF('USER INPUTS'!$B$30=\"Carbon dioxide\",((1/($D$5/100))-1),(VLOOKUP('USER INPUTS'!$B$30,DEFAULTS!$E$8:$F$69,2,FALSE))/10^6*(1/($D$5/100)))))))","v":0},{"$f":"IF(ISERROR(METHANE!$J111*(IF('USER INPUTS'!$B$30=\"Total landfill gas\",(1/($D$5/100)),IF('USER INPUTS'!$B$30=\"Methane\",1,IF('USER INPUTS'!$B$30=\"Carbon dioxide\",((1/($D$5/100))-1),(VLOOKUP('USER INPUTS'!$B$30,DEFAULTS!$E$8:$F$69,2,FALSE))/10^6*(1/($D$5/100))))))),0,METHANE!$J111*(IF('USER INPUTS'!$B$30=\"Total landfill gas\",(1/($D$5/100)),IF('USER INPUTS'!$B$30=\"Methane\",1,IF('USER INPUTS'!$B$30=\"Carbon dioxide\",((1/($D$5/100))-1),(VLOOKUP('USER INPUTS'!$B$30,DEFAULTS!$E$8:$F$69,2,FALSE))/10^6*(1/($D$5/100)))))))","v":0},{"$f":"IF(Q$8=\"(short tons/year)\",(O97*DEFAULTS!$B$55*DEFAULTS!$B$53/DEFAULTS!$B$54),IF(Q$8=\"(ft^3/year)\",(P97*DEFAULTS!$B$57),IF(Q$8=\"(av ft^3/min)\",(P97*DEFAULTS!$B$57/DEFAULTS!$B$58),0)))","v":0}]
[{"$f":"METHANE!I112","v":89},0,0,0,0,{"$f":"IF(ISERROR(METHANE!$J112*DEFAULTS!$B$81*(IF('USER INPUTS'!$B$24=\"Total landfill gas\",(1/($D$5/100)),IF('USER INPUTS'!$B$24=\"Methane\",1,IF('USER INPUTS'!$B$24=\"Carbon dioxide\",((1/($D$5/100))-1),(VLOOKUP('USER INPUTS'!$B$24,DEFAULTS!$E$8:$F$69,2,FALSE))/10^6*(1/($D$5/100))))))),0,METHANE!$J112*DEFAULTS!$B$81*(IF('USER INPUTS'!$B$24=\"Total landfill gas\",(1/($D$5/100)),IF('USER INPUTS'!$B$24=\"Methane\",1,IF('USER INPUTS'!$B$24=\"Carbon dioxide\",((1/($D$5/100))-1),(VLOOKUP('USER INPUTS'!$B$24,DEFAULTS!$E$8:$F$69,2,FALSE))/10^6*(1/($D$5/100)))))))","v":0},{"$f":"IF(ISERROR(METHANE!$J112*(IF('USER INPUTS'!$B$24=\"Total landfill gas\",(1/($D$5/100)),IF('USER INPUTS'!$B$24=\"Methane\",1,IF('USER INPUTS'!$B$24=\"Carbon dioxide\",((1/($D$5/100))-1),(VLOOKUP('USER INPUTS'!$B$24,DEFAULTS!$E$8:$F$69,2,FALSE))/10^6*(1/($D$5/100))))))),0,METHANE!$J112*(IF('USER INPUTS'!$B$24=\"Total landfill gas\",(1/($D$5/100)),IF('USER INPUTS'!$B$24=\"Methane\",1,IF('USER INPUTS'!$B$24=\"Carbon dioxide\",((1/($D$5/100))-1),(VLOOKUP('USER INPUTS'!$B$24,DEFAULTS!$E$8:$F$69,2,FALSE))/10^6*(1/($D$5/100)))))))","v":0},{"$f":"IF(H$8=\"(short tons/year)\",(F98*DEFAULTS!$B$55*DEFAULTS!$B$53/DEFAULTS!$B$54),IF(H$8=\"(ft^3/year)\",(G98*DEFAULTS!$B$57),IF(H$8=\"(av ft^3/min)\",(G98*DEFAULTS!$B$57/DEFAULTS!$B$58),0)))","v":0},{"$f":"IF(ISERROR(METHANE!$J112*DEFAULTS!$B$82*(IF('USER INPUTS'!$B$26=\"Total landfill gas\",(1/($D$5/100)),IF('USER INPUTS'!$B$26=\"Methane\",1,IF('USER INPUTS'!$B$26=\"Carbon dioxide\",((1/($D$5/100))-1),(VLOOKUP('USER INPUTS'!$B$26,DEFAULTS!$E$8:$F$69,2,FALSE))/10^6*(1/($D$5/100))))))),0,METHANE!$J112*DEFAULTS!$B$82*(IF('USER INPUTS'!$B$26=\"Total landfill gas\",(1/($D$5/100)),IF('USER INPUTS'!$B$26=\"Methane\",1,IF('USER INPUTS'!$B$26=\"Carbon dioxide\",((1/($D$5/100))-1),(VLOOKUP('USER INPUTS'!$B$26,DEFAULTS!$E$8:$F$69,2,FALSE))/10^6*(1/($D$5/100)))))))","v":0},{"$f":"IF(ISERROR(METHANE!$J112*(IF('USER INPUTS'!$B$26=\"Total landfill gas\",(1/($D$5/100)),IF('USER INPUTS'!$B$26=\"Methane\",1,IF('USER INPUTS'!$B$26=\"Carbon dioxide\",((1/($D$5/100))-1),(VLOOKUP('USER INPUTS'!$B$26,DEFAULTS!$E$8:$F$69,2,FALSE))/10^6*(1/($D$5/100))))))),0,METHANE!$J112*(IF('USER INPUTS'!$B$26=\"Total landfill gas\",(1/($D$5/100)),IF('USER INPUTS'!$B$26=\"Methane\",1,IF('USER INPUTS'!$B$26=\"Carbon dioxide\",((1/($D$5/100))-1),(VLOOKUP('USER INPUTS'!$B$26,DEFAULTS!$E$8:$F$69,2,FALSE))/10^6*(1/($D$5/100)))))))","v":0},{"$f":"IF(K$8=\"(short tons/year)\",(I98*DEFAULTS!$B$55*DEFAULTS!$B$53/DEFAULTS!$B$54),IF(K$8=\"(ft^3/year)\",(J98*DEFAULTS!$B$57),IF(K$8=\"(av ft^3/min)\",(J98*DEFAULTS!$B$57/DEFAULTS!$B$58),0)))","v":0},{"$f":"IF(ISERROR(METHANE!$J112*DEFAULTS!$B$83*(IF('USER INPUTS'!$B$28=\"Total landfill gas\",(1/($D$5/100)),IF('USER INPUTS'!$B$28=\"Methane\",1,IF('USER INPUTS'!$B$28=\"Carbon dioxide\",((1/($D$5/100))-1),(VLOOKUP('USER INPUTS'!$B$28,DEFAULTS!$E$8:$F$69,2,FALSE))/10^6*(1/($D$5/100))))))),0,METHANE!$J112*DEFAULTS!$B$83*(IF('USER INPUTS'!$B$28=\"Total landfill gas\",(1/($D$5/100)),IF('USER INPUTS'!$B$28=\"Methane\",1,IF('USER INPUTS'!$B$28=\"Carbon dioxide\",((1/($D$5/100))-1),(VLOOKUP('USER INPUTS'!$B$28,DEFAULTS!$E$8:$F$69,2,FALSE))/10^6*(1/($D$5/100)))))))","v":0},{"$f":"IF(ISERROR(METHANE!$J112*(IF('USER INPUTS'!$B$28=\"Total landfill gas\",(1/($D$5/100)),IF('USER INPUTS'!$B$28=\"Methane\",1,IF('USER INPUTS'!$B$28=\"Carbon dioxide\",((1/($D$5/100))-1),(VLOOKUP('USER INPUTS'!$B$28,DEFAULTS!$E$8:$F$69,2,FALSE))/10^6*(1/($D$5/100))))))),0,METHANE!$J112*(IF('USER INPUTS'!$B$28=\"Total landfill gas\",(1/($D$5/100)),IF('USER INPUTS'!$B$28=\"Methane\",1,IF('USER INPUTS'!$B$28=\"Carbon dioxide\",((1/($D$5/100))-1),(VLOOKUP('USER INPUTS'!$B$28,DEFAULTS!$E$8:$F$69,2,FALSE))/10^6*(1/($D$5/100)))))))","v":0},{"$f":"IF(N$8=\"(short tons/year)\",(L98*DEFAULTS!$B$55*DEFAULTS!$B$53/DEFAULTS!$B$54),IF(N$8=\"(ft^3/year)\",(M98*DEFAULTS!$B$57),IF(N$8=\"(av ft^3/min)\",(M98*DEFAULTS!$B$57/DEFAULTS!$B$58),0)))","v":0},{"$f":"IF(ISERROR(METHANE!$J112*DEFAULTS!$B$84*(IF('USER INPUTS'!$B$30=\"Total landfill gas\",(1/($D$5/100)),IF('USER INPUTS'!$B$30=\"Methane\",1,IF('USER INPUTS'!$B$30=\"Carbon dioxide\",((1/($D$5/100))-1),(VLOOKUP('USER INPUTS'!$B$30,DEFAULTS!$E$8:$F$69,2,FALSE))/10^6*(1/($D$5/100))))))),0,METHANE!$J112*DEFAULTS!$B$84*(IF('USER INPUTS'!$B$30=\"Total landfill gas\",(1/($D$5/100)),IF('USER INPUTS'!$B$30=\"Methane\",1,IF('USER INPUTS'!$B$30=\"Carbon dioxide\",((1/($D$5/100))-1),(VLOOKUP('USER INPUTS'!$B$30,DEFAULTS!$E$8:$F$69,2,FALSE))/10^6*(1/($D$5/100)))))))","v":0},{"$f":"IF(ISERROR(METHANE!$J112*(IF('USER INPUTS'!$B$30=\"Total landfill gas\",(1/($D$5/100)),IF('USER INPUTS'!$B$30=\"Methane\",1,IF('USER INPUTS'!$B$30=\"Carbon dioxide\",((1/($D$5/100))-1),(VLOOKUP('USER INPUTS'!$B$30,DEFAULTS!$E$8:$F$69,2,FALSE))/10^6*(1/($D$5/100))))))),0,METHANE!$J112*(IF('USER INPUTS'!$B$30=\"Total landfill gas\",(1/($D$5/100)),IF('USER INPUTS'!$B$30=\"Methane\",1,IF('USER INPUTS'!$B$30=\"Carbon dioxide\",((1/($D$5/100))-1),(VLOOKUP('USER INPUTS'!$B$30,DEFAULTS!$E$8:$F$69,2,FALSE))/10^6*(1/($D$5/100)))))))","v":0},{"$f":"IF(Q$8=\"(short tons/year)\",(O98*DEFAULTS!$B$55*DEFAULTS!$B$53/DEFAULTS!$B$54),IF(Q$8=\"(ft^3/year)\",(P98*DEFAULTS!$B$57),IF(Q$8=\"(av ft^3/min)\",(P98*DEFAULTS!$B$57/DEFAULTS!$B$58),0)))","v":0}]
[{"$f":"METHANE!I113","v":90},0,0,0,0,{"$f":"IF(ISERROR(METHANE!$J113*DEFAULTS!$B$81*(IF('USER INPUTS'!$B$24=\"Total landfill gas\",(1/($D$5/100)),IF('USER INPUTS'!$B$24=\"Methane\",1,IF('USER INPUTS'!$B$24=\"Carbon dioxide\",((1/($D$5/100))-1),(VLOOKUP('USER INPUTS'!$B$24,DEFAULTS!$E$8:$F$69,2,FALSE))/10^6*(1/($D$5/100))))))),0,METHANE!$J113*DEFAULTS!$B$81*(IF('USER INPUTS'!$B$24=\"Total landfill gas\",(1/($D$5/100)),IF('USER INPUTS'!$B$24=\"Methane\",1,IF('USER INPUTS'!$B$24=\"Carbon dioxide\",((1/($D$5/100))-1),(VLOOKUP('USER INPUTS'!$B$24,DEFAULTS!$E$8:$F$69,2,FALSE))/10^6*(1/($D$5/100)))))))","v":0},{"$f":"IF(ISERROR(METHANE!$J113*(IF('USER INPUTS'!$B$24=\"Total landfill gas\",(1/($D$5/100)),IF('USER INPUTS'!$B$24=\"Methane\",1,IF('USER INPUTS'!$B$24=\"Carbon dioxide\",((1/($D$5/100))-1),(VLOOKUP('USER INPUTS'!$B$24,DEFAULTS!$E$8:$F$69,2,FALSE))/10^6*(1/($D$5/100))))))),0,METHANE!$J113*(IF('USER INPUTS'!$B$24=\"Total landfill gas\",(1/($D$5/100)),IF('USER INPUTS'!$B$24=\"Methane\",1,IF('USER INPUTS'!$B$24=\"Carbon dioxide\",((1/($D$5/100))-1),(VLOOKUP('USER INPUTS'!$B$24,DEFAULTS!$E$8:$F$69,2,FALSE))/10^6*(1/($D$5/100)))))))","v":0},{"$f":"IF(H$8=\"(short tons/year)\",(F99*DEFAULTS!$B$55*DEFAULTS!$B$53/DEFAULTS!$B$54),IF(H$8=\"(ft^3/year)\",(G99*DEFAULTS!$B$57),IF(H$8=\"(av ft^3/min)\",(G99*DEFAULTS!$B$57/DEFAULTS!$B$58),0)))","v":0},{"$f":"IF(ISERROR(METHANE!$J113*DEFAULTS!$B$82*(IF('USER INPUTS'!$B$26=\"Total landfill gas\",(1/($D$5/100)),IF('USER INPUTS'!$B$26=\"Methane\",1,IF('USER INPUTS'!$B$26=\"Carbon dioxide\",((1/($D$5/100))-1),(VLOOKUP('USER INPUTS'!$B$26,DEFAULTS!$E$8:$F$69,2,FALSE))/10^6*(1/($D$5/100))))))),0,METHANE!$J113*DEFAULTS!$B$82*(IF('USER INPUTS'!$B$26=\"Total landfill gas\",(1/($D$5/100)),IF('USER INPUTS'!$B$26=\"Methane\",1,IF('USER INPUTS'!$B$26=\"Carbon dioxide\",((1/($D$5/100))-1),(VLOOKUP('USER INPUTS'!$B$26,DEFAULTS!$E$8:$F$69,2,FALSE))/10^6*(1/($D$5/100)))))))","v":0},{"$f":"IF(ISERROR(METHANE!$J113*(IF('USER INPUTS'!$B$26=\"Total landfill gas\",(1/($D$5/100)),IF('USER INPUTS'!$B$26=\"Methane\",1,IF('USER INPUTS'!$B$26=\"Carbon dioxide\",((1/($D$5/100))-1),(VLOOKUP('USER INPUTS'!$B$26,DEFAULTS!$E$8:$F$69,2,FALSE))/10^6*(1/($D$5/100))))))),0,METHANE!$J113*(IF('USER INPUTS'!$B$26=\"Total landfill gas\",(1/($D$5/100)),IF('USER INPUTS'!$B$26=\"Methane\",1,IF('USER INPUTS'!$B$26=\"Carbon dioxide\",((1/($D$5/100))-1),(VLOOKUP('USER INPUTS'!$B$26,DEFAULTS!$E$8:$F$69,2,FALSE))/10^6*(1/($D$5/100)))))))","v":0},{"$f":"IF(K$8=\"(short tons/year)\",(I99*DEFAULTS!$B$55*DEFAULTS!$B$53/DEFAULTS!$B$54),IF(K$8=\"(ft^3/year)\",(J99*DEFAULTS!$B$57),IF(K$8=\"(av ft^3/min)\",(J99*DEFAULTS!$B$57/DEFAULTS!$B$58),0)))","v":0},{"$f":"IF(ISERROR(METHANE!$J113*DEFAULTS!$B$83*(IF('USER INPUTS'!$B$28=\"Total landfill gas\",(1/($D$5/100)),IF('USER INPUTS'!$B$28=\"Methane\",1,IF('USER INPUTS'!$B$28=\"Carbon dioxide\",((1/($D$5/100))-1),(VLOOKUP('USER INPUTS'!$B$28,DEFAULTS!$E$8:$F$69,2,FALSE))/10^6*(1/($D$5/100))))))),0,METHANE!$J113*DEFAULTS!$B$83*(IF('USER INPUTS'!$B$28=\"Total landfill gas\",(1/($D$5/100)),IF('USER INPUTS'!$B$28=\"Methane\",1,IF('USER INPUTS'!$B$28=\"Carbon dioxide\",((1/($D$5/100))-1),(VLOOKUP('USER INPUTS'!$B$28,DEFAULTS!$E$8:$F$69,2,FALSE))/10^6*(1/($D$5/100)))))))","v":0},{"$f":"IF(ISERROR(METHANE!$J113*(IF('USER INPUTS'!$B$28=\"Total landfill gas\",(1/($D$5/100)),IF('USER INPUTS'!$B$28=\"Methane\",1,IF('USER INPUTS'!$B$28=\"Carbon dioxide\",((1/($D$5/100))-1),(VLOOKUP('USER INPUTS'!$B$28,DEFAULTS!$E$8:$F$69,2,FALSE))/10^6*(1/($D$5/100))))))),0,METHANE!$J113*(IF('USER INPUTS'!$B$28=\"Total landfill gas\",(1/($D$5/100)),IF('USER INPUTS'!$B$28=\"Methane\",1,IF('USER INPUTS'!$B$28=\"Carbon dioxide\",((1/($D$5/100))-1),(VLOOKUP('USER INPUTS'!$B$28,DEFAULTS!$E$8:$F$69,2,FALSE))/10^6*(1/($D$5/100)))))))","v":0},{"$f":"IF(N$8=\"(short tons/year)\",(L99*DEFAULTS!$B$55*DEFAULTS!$B$53/DEFAULTS!$B$54),IF(N$8=\"(ft^3/year)\",(M99*DEFAULTS!$B$57),IF(N$8=\"(av ft^3/min)\",(M99*DEFAULTS!$B$57/DEFAULTS!$B$58),0)))","v":0},{"$f":"IF(ISERROR(METHANE!$J113*DEFAULTS!$B$84*(IF('USER INPUTS'!$B$30=\"Total landfill gas\",(1/($D$5/100)),IF('USER INPUTS'!$B$30=\"Methane\",1,IF('USER INPUTS'!$B$30=\"Carbon dioxide\",((1/($D$5/100))-1),(VLOOKUP('USER INPUTS'!$B$30,DEFAULTS!$E$8:$F$69,2,FALSE))/10^6*(1/($D$5/100))))))),0,METHANE!$J113*DEFAULTS!$B$84*(IF('USER INPUTS'!$B$30=\"Total landfill gas\",(1/($D$5/100)),IF('USER INPUTS'!$B$30=\"Methane\",1,IF('USER INPUTS'!$B$30=\"Carbon dioxide\",((1/($D$5/100))-1),(VLOOKUP('USER INPUTS'!$B$30,DEFAULTS!$E$8:$F$69,2,FALSE))/10^6*(1/($D$5/100)))))))","v":0},{"$f":"IF(ISERROR(METHANE!$J113*(IF('USER INPUTS'!$B$30=\"Total landfill gas\",(1/($D$5/100)),IF('USER INPUTS'!$B$30=\"Methane\",1,IF('USER INPUTS'!$B$30=\"Carbon dioxide\",((1/($D$5/100))-1),(VLOOKUP('USER INPUTS'!$B$30,DEFAULTS!$E$8:$F$69,2,FALSE))/10^6*(1/($D$5/100))))))),0,METHANE!$J113*(IF('USER INPUTS'!$B$30=\"Total landfill gas\",(1/($D$5/100)),IF('USER INPUTS'!$B$30=\"Methane\",1,IF('USER INPUTS'!$B$30=\"Carbon dioxide\",((1/($D$5/100))-1),(VLOOKUP('USER INPUTS'!$B$30,DEFAULTS!$E$8:$F$69,2,FALSE))/10^6*(1/($D$5/100)))))))","v":0},{"$f":"IF(Q$8=\"(short tons/year)\",(O99*DEFAULTS!$B$55*DEFAULTS!$B$53/DEFAULTS!$B$54),IF(Q$8=\"(ft^3/year)\",(P99*DEFAULTS!$B$57),IF(Q$8=\"(av ft^3/min)\",(P99*DEFAULTS!$B$57/DEFAULTS!$B$58),0)))","v":0}]
[{"$f":"METHANE!I114","v":91},0,0,0,0,{"$f":"IF(ISERROR(METHANE!$J114*DEFAULTS!$B$81*(IF('USER INPUTS'!$B$24=\"Total landfill gas\",(1/($D$5/100)),IF('USER INPUTS'!$B$24=\"Methane\",1,IF('USER INPUTS'!$B$24=\"Carbon dioxide\",((1/($D$5/100))-1),(VLOOKUP('USER INPUTS'!$B$24,DEFAULTS!$E$8:$F$69,2,FALSE))/10^6*(1/($D$5/100))))))),0,METHANE!$J114*DEFAULTS!$B$81*(IF('USER INPUTS'!$B$24=\"Total landfill gas\",(1/($D$5/100)),IF('USER INPUTS'!$B$24=\"Methane\",1,IF('USER INPUTS'!$B$24=\"Carbon dioxide\",((1/($D$5/100))-1),(VLOOKUP('USER INPUTS'!$B$24,DEFAULTS!$E$8:$F$69,2,FALSE))/10^6*(1/($D$5/100)))))))","v":0},{"$f":"IF(ISERROR(METHANE!$J114*(IF('USER INPUTS'!$B$24=\"Total landfill gas\",(1/($D$5/100)),IF('USER INPUTS'!$B$24=\"Methane\",1,IF('USER INPUTS'!$B$24=\"Carbon dioxide\",((1/($D$5/100))-1),(VLOOKUP('USER INPUTS'!$B$24,DEFAULTS!$E$8:$F$69,2,FALSE))/10^6*(1/($D$5/100))))))),0,METHANE!$J114*(IF('USER INPUTS'!$B$24=\"Total landfill gas\",(1/($D$5/100)),IF('USER INPUTS'!$B$24=\"Methane\",1,IF('USER INPUTS'!$B$24=\"Carbon dioxide\",((1/($D$5/100))-1),(VLOOKUP('USER INPUTS'!$B$24,DEFAULTS!$E$8:$F$69,2,FALSE))/10^6*(1/($D$5/100)))))))","v":0},{"$f":"IF(H$8=\"(short tons/year)\",(F100*DEFAULTS!$B$55*DEFAULTS!$B$53/DEFAULTS!$B$54),IF(H$8=\"(ft^3/year)\",(G100*DEFAULTS!$B$57),IF(H$8=\"(av ft^3/min)\",(G100*DEFAULTS!$B$57/DEFAULTS!$B$58),0)))","v":0},{"$f":"IF(ISERROR(METHANE!$J114*DEFAULTS!$B$82*(IF('USER INPUTS'!$B$26=\"Total landfill gas\",(1/($D$5/100)),IF('USER INPUTS'!$B$26=\"Methane\",1,IF('USER INPUTS'!$B$26=\"Carbon dioxide\",((1/($D$5/100))-1),(VLOOKUP('USER INPUTS'!$B$26,DEFAULTS!$E$8:$F$69,2,FALSE))/10^6*(1/($D$5/100))))))),0,METHANE!$J114*DEFAULTS!$B$82*(IF('USER INPUTS'!$B$26=\"Total landfill gas\",(1/($D$5/100)),IF('USER INPUTS'!$B$26=\"Methane\",1,IF('USER INPUTS'!$B$26=\"Carbon dioxide\",((1/($D$5/100))-1),(VLOOKUP('USER INPUTS'!$B$26,DEFAULTS!$E$8:$F$69,2,FALSE))/10^6*(1/($D$5/100)))))))","v":0},{"$f":"IF(ISERROR(METHANE!$J114*(IF('USER INPUTS'!$B$26=\"Total landfill gas\",(1/($D$5/100)),IF('USER INPUTS'!$B$26=\"Methane\",1,IF('USER INPUTS'!$B$26=\"Carbon dioxide\",((1/($D$5/100))-1),(VLOOKUP('USER INPUTS'!$B$26,DEFAULTS!$E$8:$F$69,2,FALSE))/10^6*(1/($D$5/100))))))),0,METHANE!$J114*(IF('USER INPUTS'!$B$26=\"Total landfill gas\",(1/($D$5/100)),IF('USER INPUTS'!$B$26=\"Methane\",1,IF('USER INPUTS'!$B$26=\"Carbon dioxide\",((1/($D$5/100))-1),(VLOOKUP('USER INPUTS'!$B$26,DEFAULTS!$E$8:$F$69,2,FALSE))/10^6*(1/($D$5/100)))))))","v":0},{"$f":"IF(K$8=\"(short tons/year)\",(I100*DEFAULTS!$B$55*DEFAULTS!$B$53/DEFAULTS!$B$54),IF(K$8=\"(ft^3/year)\",(J100*DEFAULTS!$B$57),IF(K$8=\"(av ft^3/min)\",(J100*DEFAULTS!$B$57/DEFAULTS!$B$58),0)))","v":0},{"$f":"IF(ISERROR(METHANE!$J114*DEFAULTS!$B$83*(IF('USER INPUTS'!$B$28=\"Total landfill gas\",(1/($D$5/100)),IF('USER INPUTS'!$B$28=\"Methane\",1,IF('USER INPUTS'!$B$28=\"Carbon dioxide\",((1/($D$5/100))-1),(VLOOKUP('USER INPUTS'!$B$28,DEFAULTS!$E$8:$F$69,2,FALSE))/10^6*(1/($D$5/100))))))),0,METHANE!$J114*DEFAULTS!$B$83*(IF('USER INPUTS'!$B$28=\"Total landfill gas\",(1/($D$5/100)),IF('USER INPUTS'!$B$28=\"Methane\",1,IF('USER INPUTS'!$B$28=\"Carbon dioxide\",((1/($D$5/100))-1),(VLOOKUP('USER INPUTS'!$B$28,DEFAULTS!$E$8:$F$69,2,FALSE))/10^6*(1/($D$5/100)))))))","v":0},{"$f":"IF(ISERROR(METHANE!$J114*(IF('USER INPUTS'!$B$28=\"Total landfill gas\",(1/($D$5/100)),IF('USER INPUTS'!$B$28=\"Methane\",1,IF('USER INPUTS'!$B$28=\"Carbon dioxide\",((1/($D$5/100))-1),(VLOOKUP('USER INPUTS'!$B$28,DEFAULTS!$E$8:$F$69,2,FALSE))/10^6*(1/($D$5/100))))))),0,METHANE!$J114*(IF('USER INPUTS'!$B$28=\"Total landfill gas\",(1/($D$5/100)),IF('USER INPUTS'!$B$28=\"Methane\",1,IF('USER INPUTS'!$B$28=\"Carbon dioxide\",((1/($D$5/100))-1),(VLOOKUP('USER INPUTS'!$B$28,DEFAULTS!$E$8:$F$69,2,FALSE))/10^6*(1/($D$5/100)))))))","v":0},{"$f":"IF(N$8=\"(short tons/year)\",(L100*DEFAULTS!$B$55*DEFAULTS!$B$53/DEFAULTS!$B$54),IF(N$8=\"(ft^3/year)\",(M100*DEFAULTS!$B$57),IF(N$8=\"(av ft^3/min)\",(M100*DEFAULTS!$B$57/DEFAULTS!$B$58),0)))","v":0},{"$f":"IF(ISERROR(METHANE!$J114*DEFAULTS!$B$84*(IF('USER INPUTS'!$B$30=\"Total landfill gas\",(1/($D$5/100)),IF('USER INPUTS'!$B$30=\"Methane\",1,IF('USER INPUTS'!$B$30=\"Carbon dioxide\",((1/($D$5/100))-1),(VLOOKUP('USER INPUTS'!$B$30,DEFAULTS!$E$8:$F$69,2,FALSE))/10^6*(1/($D$5/100))))))),0,METHANE!$J114*DEFAULTS!$B$84*(IF('USER INPUTS'!$B$30=\"Total landfill gas\",(1/($D$5/100)),IF('USER INPUTS'!$B$30=\"Methane\",1,IF('USER INPUTS'!$B$30=\"Carbon dioxide\",((1/($D$5/100))-1),(VLOOKUP('USER INPUTS'!$B$30,DEFAULTS!$E$8:$F$69,2,FALSE))/10^6*(1/($D$5/100)))))))","v":0},{"$f":"IF(ISERROR(METHANE!$J114*(IF('USER INPUTS'!$B$30=\"Total landfill gas\",(1/($D$5/100)),IF('USER INPUTS'!$B$30=\"Methane\",1,IF('USER INPUTS'!$B$30=\"Carbon dioxide\",((1/($D$5/100))-1),(VLOOKUP('USER INPUTS'!$B$30,DEFAULTS!$E$8:$F$69,2,FALSE))/10^6*(1/($D$5/100))))))),0,METHANE!$J114*(IF('USER INPUTS'!$B$30=\"Total landfill gas\",(1/($D$5/100)),IF('USER INPUTS'!$B$30=\"Methane\",1,IF('USER INPUTS'!$B$30=\"Carbon dioxide\",((1/($D$5/100))-1),(VLOOKUP('USER INPUTS'!$B$30,DEFAULTS!$E$8:$F$69,2,FALSE))/10^6*(1/($D$5/100)))))))","v":0},{"$f":"IF(Q$8=\"(short tons/year)\",(O100*DEFAULTS!$B$55*DEFAULTS!$B$53/DEFAULTS!$B$54),IF(Q$8=\"(ft^3/year)\",(P100*DEFAULTS!$B$57),IF(Q$8=\"(av ft^3/min)\",(P100*DEFAULTS!$B$57/DEFAULTS!$B$58),0)))","v":0}]
[{"$f":"METHANE!I115","v":92},0,0,0,0,{"$f":"IF(ISERROR(METHANE!$J115*DEFAULTS!$B$81*(IF('USER INPUTS'!$B$24=\"Total landfill gas\",(1/($D$5/100)),IF('USER INPUTS'!$B$24=\"Methane\",1,IF('USER INPUTS'!$B$24=\"Carbon dioxide\",((1/($D$5/100))-1),(VLOOKUP('USER INPUTS'!$B$24,DEFAULTS!$E$8:$F$69,2,FALSE))/10^6*(1/($D$5/100))))))),0,METHANE!$J115*DEFAULTS!$B$81*(IF('USER INPUTS'!$B$24=\"Total landfill gas\",(1/($D$5/100)),IF('USER INPUTS'!$B$24=\"Methane\",1,IF('USER INPUTS'!$B$24=\"Carbon dioxide\",((1/($D$5/100))-1),(VLOOKUP('USER INPUTS'!$B$24,DEFAULTS!$E$8:$F$69,2,FALSE))/10^6*(1/($D$5/100)))))))","v":0},{"$f":"IF(ISERROR(METHANE!$J115*(IF('USER INPUTS'!$B$24=\"Total landfill gas\",(1/($D$5/100)),IF('USER INPUTS'!$B$24=\"Methane\",1,IF('USER INPUTS'!$B$24=\"Carbon dioxide\",((1/($D$5/100))-1),(VLOOKUP('USER INPUTS'!$B$24,DEFAULTS!$E$8:$F$69,2,FALSE))/10^6*(1/($D$5/100))))))),0,METHANE!$J115*(IF('USER INPUTS'!$B$24=\"Total landfill gas\",(1/($D$5/100)),IF('USER INPUTS'!$B$24=\"Methane\",1,IF('USER INPUTS'!$B$24=\"Carbon dioxide\",((1/($D$5/100))-1),(VLOOKUP('USER INPUTS'!$B$24,DEFAULTS!$E$8:$F$69,2,FALSE))/10^6*(1/($D$5/100)))))))","v":0},{"$f":"IF(H$8=\"(short tons/year)\",(F101*DEFAULTS!$B$55*DEFAULTS!$B$53/DEFAULTS!$B$54),IF(H$8=\"(ft^3/year)\",(G101*DEFAULTS!$B$57),IF(H$8=\"(av ft^3/min)\",(G101*DEFAULTS!$B$57/DEFAULTS!$B$58),0)))","v":0},{"$f":"IF(ISERROR(METHANE!$J115*DEFAULTS!$B$82*(IF('USER INPUTS'!$B$26=\"Total landfill gas\",(1/($D$5/100)),IF('USER INPUTS'!$B$26=\"Methane\",1,IF('USER INPUTS'!$B$26=\"Carbon dioxide\",((1/($D$5/100))-1),(VLOOKUP('USER INPUTS'!$B$26,DEFAULTS!$E$8:$F$69,2,FALSE))/10^6*(1/($D$5/100))))))),0,METHANE!$J115*DEFAULTS!$B$82*(IF('USER INPUTS'!$B$26=\"Total landfill gas\",(1/($D$5/100)),IF('USER INPUTS'!$B$26=\"Methane\",1,IF('USER INPUTS'!$B$26=\"Carbon dioxide\",((1/($D$5/100))-1),(VLOOKUP('USER INPUTS'!$B$26,DEFAULTS!$E$8:$F$69,2,FALSE))/10^6*(1/($D$5/100)))))))","v":0},{"$f":"IF(ISERROR(METHANE!$J115*(IF('USER INPUTS'!$B$26=\"Total landfill gas\",(1/($D$5/100)),IF('USER INPUTS'!$B$26=\"Methane\",1,IF('USER INPUTS'!$B$26=\"Carbon dioxide\",((1/($D$5/100))-1),(VLOOKUP('USER INPUTS'!$B$26,DEFAULTS!$E$8:$F$69,2,FALSE))/10^6*(1/($D$5/100))))))),0,METHANE!$J115*(IF('USER INPUTS'!$B$26=\"Total landfill gas\",(1/($D$5/100)),IF('USER INPUTS'!$B$26=\"Methane\",1,IF('USER INPUTS'!$B$26=\"Carbon dioxide\",((1/($D$5/100))-1),(VLOOKUP('USER INPUTS'!$B$26,DEFAULTS!$E$8:$F$69,2,FALSE))/10^6*(1/($D$5/100)))))))","v":0},{"$f":"IF(K$8=\"(short tons/year)\",(I101*DEFAULTS!$B$55*DEFAULTS!$B$53/DEFAULTS!$B$54),IF(K$8=\"(ft^3/year)\",(J101*DEFAULTS!$B$57),IF(K$8=\"(av ft^3/min)\",(J101*DEFAULTS!$B$57/DEFAULTS!$B$58),0)))","v":0},{"$f":"IF(ISERROR(METHANE!$J115*DEFAULTS!$B$83*(IF('USER INPUTS'!$B$28=\"Total landfill gas\",(1/($D$5/100)),IF('USER INPUTS'!$B$28=\"Methane\",1,IF('USER INPUTS'!$B$28=\"Carbon dioxide\",((1/($D$5/100))-1),(VLOOKUP('USER INPUTS'!$B$28,DEFAULTS!$E$8:$F$69,2,FALSE))/10^6*(1/($D$5/100))))))),0,METHANE!$J115*DEFAULTS!$B$83*(IF('USER INPUTS'!$B$28=\"Total landfill gas\",(1/($D$5/100)),IF('USER INPUTS'!$B$28=\"Methane\",1,IF('USER INPUTS'!$B$28=\"Carbon dioxide\",((1/($D$5/100))-1),(VLOOKUP('USER INPUTS'!$B$28,DEFAULTS!$E$8:$F$69,2,FALSE))/10^6*(1/($D$5/100)))))))","v":0},{"$f":"IF(ISERROR(METHANE!$J115*(IF('USER INPUTS'!$B$28=\"Total landfill gas\",(1/($D$5/100)),IF('USER INPUTS'!$B$28=\"Methane\",1,IF('USER INPUTS'!$B$28=\"Carbon dioxide\",((1/($D$5/100))-1),(VLOOKUP('USER INPUTS'!$B$28,DEFAULTS!$E$8:$F$69,2,FALSE))/10^6*(1/($D$5/100))))))),0,METHANE!$J115*(IF('USER INPUTS'!$B$28=\"Total landfill gas\",(1/($D$5/100)),IF('USER INPUTS'!$B$28=\"Methane\",1,IF('USER INPUTS'!$B$28=\"Carbon dioxide\",((1/($D$5/100))-1),(VLOOKUP('USER INPUTS'!$B$28,DEFAULTS!$E$8:$F$69,2,FALSE))/10^6*(1/($D$5/100)))))))","v":0},{"$f":"IF(N$8=\"(short tons/year)\",(L101*DEFAULTS!$B$55*DEFAULTS!$B$53/DEFAULTS!$B$54),IF(N$8=\"(ft^3/year)\",(M101*DEFAULTS!$B$57),IF(N$8=\"(av ft^3/min)\",(M101*DEFAULTS!$B$57/DEFAULTS!$B$58),0)))","v":0},{"$f":"IF(ISERROR(METHANE!$J115*DEFAULTS!$B$84*(IF('USER INPUTS'!$B$30=\"Total landfill gas\",(1/($D$5/100)),IF('USER INPUTS'!$B$30=\"Methane\",1,IF('USER INPUTS'!$B$30=\"Carbon dioxide\",((1/($D$5/100))-1),(VLOOKUP('USER INPUTS'!$B$30,DEFAULTS!$E$8:$F$69,2,FALSE))/10^6*(1/($D$5/100))))))),0,METHANE!$J115*DEFAULTS!$B$84*(IF('USER INPUTS'!$B$30=\"Total landfill gas\",(1/($D$5/100)),IF('USER INPUTS'!$B$30=\"Methane\",1,IF('USER INPUTS'!$B$30=\"Carbon dioxide\",((1/($D$5/100))-1),(VLOOKUP('USER INPUTS'!$B$30,DEFAULTS!$E$8:$F$69,2,FALSE))/10^6*(1/($D$5/100)))))))","v":0},{"$f":"IF(ISERROR(METHANE!$J115*(IF('USER INPUTS'!$B$30=\"Total landfill gas\",(1/($D$5/100)),IF('USER INPUTS'!$B$30=\"Methane\",1,IF('USER INPUTS'!$B$30=\"Carbon dioxide\",((1/($D$5/100))-1),(VLOOKUP('USER INPUTS'!$B$30,DEFAULTS!$E$8:$F$69,2,FALSE))/10^6*(1/($D$5/100))))))),0,METHANE!$J115*(IF('USER INPUTS'!$B$30=\"Total landfill gas\",(1/($D$5/100)),IF('USER INPUTS'!$B$30=\"Methane\",1,IF('USER INPUTS'!$B$30=\"Carbon dioxide\",((1/($D$5/100))-1),(VLOOKUP('USER INPUTS'!$B$30,DEFAULTS!$E$8:$F$69,2,FALSE))/10^6*(1/($D$5/100)))))))","v":0},{"$f":"IF(Q$8=\"(short tons/year)\",(O101*DEFAULTS!$B$55*DEFAULTS!$B$53/DEFAULTS!$B$54),IF(Q$8=\"(ft^3/year)\",(P101*DEFAULTS!$B$57),IF(Q$8=\"(av ft^3/min)\",(P101*DEFAULTS!$B$57/DEFAULTS!$B$58),0)))","v":0}]
[{"$f":"METHANE!I116","v":93},0,0,0,0,{"$f":"IF(ISERROR(METHANE!$J116*DEFAULTS!$B$81*(IF('USER INPUTS'!$B$24=\"Total landfill gas\",(1/($D$5/100)),IF('USER INPUTS'!$B$24=\"Methane\",1,IF('USER INPUTS'!$B$24=\"Carbon dioxide\",((1/($D$5/100))-1),(VLOOKUP('USER INPUTS'!$B$24,DEFAULTS!$E$8:$F$69,2,FALSE))/10^6*(1/($D$5/100))))))),0,METHANE!$J116*DEFAULTS!$B$81*(IF('USER INPUTS'!$B$24=\"Total landfill gas\",(1/($D$5/100)),IF('USER INPUTS'!$B$24=\"Methane\",1,IF('USER INPUTS'!$B$24=\"Carbon dioxide\",((1/($D$5/100))-1),(VLOOKUP('USER INPUTS'!$B$24,DEFAULTS!$E$8:$F$69,2,FALSE))/10^6*(1/($D$5/100)))))))","v":0},{"$f":"IF(ISERROR(METHANE!$J116*(IF('USER INPUTS'!$B$24=\"Total landfill gas\",(1/($D$5/100)),IF('USER INPUTS'!$B$24=\"Methane\",1,IF('USER INPUTS'!$B$24=\"Carbon dioxide\",((1/($D$5/100))-1),(VLOOKUP('USER INPUTS'!$B$24,DEFAULTS!$E$8:$F$69,2,FALSE))/10^6*(1/($D$5/100))))))),0,METHANE!$J116*(IF('USER INPUTS'!$B$24=\"Total landfill gas\",(1/($D$5/100)),IF('USER INPUTS'!$B$24=\"Methane\",1,IF('USER INPUTS'!$B$24=\"Carbon dioxide\",((1/($D$5/100))-1),(VLOOKUP('USER INPUTS'!$B$24,DEFAULTS!$E$8:$F$69,2,FALSE))/10^6*(1/($D$5/100)))))))","v":0},{"$f":"IF(H$8=\"(short tons/year)\",(F102*DEFAULTS!$B$55*DEFAULTS!$B$53/DEFAULTS!$B$54),IF(H$8=\"(ft^3/year)\",(G102*DEFAULTS!$B$57),IF(H$8=\"(av ft^3/min)\",(G102*DEFAULTS!$B$57/DEFAULTS!$B$58),0)))","v":0},{"$f":"IF(ISERROR(METHANE!$J116*DEFAULTS!$B$82*(IF('USER INPUTS'!$B$26=\"Total landfill gas\",(1/($D$5/100)),IF('USER INPUTS'!$B$26=\"Methane\",1,IF('USER INPUTS'!$B$26=\"Carbon dioxide\",((1/($D$5/100))-1),(VLOOKUP('USER INPUTS'!$B$26,DEFAULTS!$E$8:$F$69,2,FALSE))/10^6*(1/($D$5/100))))))),0,METHANE!$J116*DEFAULTS!$B$82*(IF('USER INPUTS'!$B$26=\"Total landfill gas\",(1/($D$5/100)),IF('USER INPUTS'!$B$26=\"Methane\",1,IF('USER INPUTS'!$B$26=\"Carbon dioxide\",((1/($D$5/100))-1),(VLOOKUP('USER INPUTS'!$B$26,DEFAULTS!$E$8:$F$69,2,FALSE))/10^6*(1/($D$5/100)))))))","v":0},{"$f":"IF(ISERROR(METHANE!$J116*(IF('USER INPUTS'!$B$26=\"Total landfill gas\",(1/($D$5/100)),IF('USER INPUTS'!$B$26=\"Methane\",1,IF('USER INPUTS'!$B$26=\"Carbon dioxide\",((1/($D$5/100))-1),(VLOOKUP('USER INPUTS'!$B$26,DEFAULTS!$E$8:$F$69,2,FALSE))/10^6*(1/($D$5/100))))))),0,METHANE!$J116*(IF('USER INPUTS'!$B$26=\"Total landfill gas\",(1/($D$5/100)),IF('USER INPUTS'!$B$26=\"Methane\",1,IF('USER INPUTS'!$B$26=\"Carbon dioxide\",((1/($D$5/100))-1),(VLOOKUP('USER INPUTS'!$B$26,DEFAULTS!$E$8:$F$69,2,FALSE))/10^6*(1/($D$5/100)))))))","v":0},{"$f":"IF(K$8=\"(short tons/year)\",(I102*DEFAULTS!$B$55*DEFAULTS!$B$53/DEFAULTS!$B$54),IF(K$8=\"(ft^3/year)\",(J102*DEFAULTS!$B$57),IF(K$8=\"(av ft^3/min)\",(J102*DEFAULTS!$B$57/DEFAULTS!$B$58),0)))","v":0},{"$f":"IF(ISERROR(METHANE!$J116*DEFAULTS!$B$83*(IF('USER INPUTS'!$B$28=\"Total landfill gas\",(1/($D$5/100)),IF('USER INPUTS'!$B$28=\"Methane\",1,IF('USER INPUTS'!$B$28=\"Carbon dioxide\",((1/($D$5/100))-1),(VLOOKUP('USER INPUTS'!$B$28,DEFAULTS!$E$8:$F$69,2,FALSE))/10^6*(1/($D$5/100))))))),0,METHANE!$J116*DEFAULTS!$B$83*(IF('USER INPUTS'!$B$28=\"Total landfill gas\",(1/($D$5/100)),IF('USER INPUTS'!$B$28=\"Methane\",1,IF('USER INPUTS'!$B$28=\"Carbon dioxide\",((1/($D$5/100))-1),(VLOOKUP('USER INPUTS'!$B$28,DEFAULTS!$E$8:$F$69,2,FALSE))/10^6*(1/($D$5/100)))))))","v":0},{"$f":"IF(ISERROR(METHANE!$J116*(IF('USER INPUTS'!$B$28=\"Total landfill gas\",(1/($D$5/100)),IF('USER INPUTS'!$B$28=\"Methane\",1,IF('USER INPUTS'!$B$28=\"Carbon dioxide\",((1/($D$5/100))-1),(VLOOKUP('USER INPUTS'!$B$28,DEFAULTS!$E$8:$F$69,2,FALSE))/10^6*(1/($D$5/100))))))),0,METHANE!$J116*(IF('USER INPUTS'!$B$28=\"Total landfill gas\",(1/($D$5/100)),IF('USER INPUTS'!$B$28=\"Methane\",1,IF('USER INPUTS'!$B$28=\"Carbon dioxide\",((1/($D$5/100))-1),(VLOOKUP('USER INPUTS'!$B$28,DEFAULTS!$E$8:$F$69,2,FALSE))/10^6*(1/($D$5/100)))))))","v":0},{"$f":"IF(N$8=\"(short tons/year)\",(L102*DEFAULTS!$B$55*DEFAULTS!$B$53/DEFAULTS!$B$54),IF(N$8=\"(ft^3/year)\",(M102*DEFAULTS!$B$57),IF(N$8=\"(av ft^3/min)\",(M102*DEFAULTS!$B$57/DEFAULTS!$B$58),0)))","v":0},{"$f":"IF(ISERROR(METHANE!$J116*DEFAULTS!$B$84*(IF('USER INPUTS'!$B$30=\"Total landfill gas\",(1/($D$5/100)),IF('USER INPUTS'!$B$30=\"Methane\",1,IF('USER INPUTS'!$B$30=\"Carbon dioxide\",((1/($D$5/100))-1),(VLOOKUP('USER INPUTS'!$B$30,DEFAULTS!$E$8:$F$69,2,FALSE))/10^6*(1/($D$5/100))))))),0,METHANE!$J116*DEFAULTS!$B$84*(IF('USER INPUTS'!$B$30=\"Total landfill gas\",(1/($D$5/100)),IF('USER INPUTS'!$B$30=\"Methane\",1,IF('USER INPUTS'!$B$30=\"Carbon dioxide\",((1/($D$5/100))-1),(VLOOKUP('USER INPUTS'!$B$30,DEFAULTS!$E$8:$F$69,2,FALSE))/10^6*(1/($D$5/100)))))))","v":0},{"$f":"IF(ISERROR(METHANE!$J116*(IF('USER INPUTS'!$B$30=\"Total landfill gas\",(1/($D$5/100)),IF('USER INPUTS'!$B$30=\"Methane\",1,IF('USER INPUTS'!$B$30=\"Carbon dioxide\",((1/($D$5/100))-1),(VLOOKUP('USER INPUTS'!$B$30,DEFAULTS!$E$8:$F$69,2,FALSE))/10^6*(1/($D$5/100))))))),0,METHANE!$J116*(IF('USER INPUTS'!$B$30=\"Total landfill gas\",(1/($D$5/100)),IF('USER INPUTS'!$B$30=\"Methane\",1,IF('USER INPUTS'!$B$30=\"Carbon dioxide\",((1/($D$5/100))-1),(VLOOKUP('USER INPUTS'!$B$30,DEFAULTS!$E$8:$F$69,2,FALSE))/10^6*(1/($D$5/100)))))))","v":0},{"$f":"IF(Q$8=\"(short tons/year)\",(O102*DEFAULTS!$B$55*DEFAULTS!$B$53/DEFAULTS!$B$54),IF(Q$8=\"(ft^3/year)\",(P102*DEFAULTS!$B$57),IF(Q$8=\"(av ft^3/min)\",(P102*DEFAULTS!$B$57/DEFAULTS!$B$58),0)))","v":0}]
[{"$f":"METHANE!I117","v":94},0,0,0,0,{"$f":"IF(ISERROR(METHANE!$J117*DEFAULTS!$B$81*(IF('USER INPUTS'!$B$24=\"Total landfill gas\",(1/($D$5/100)),IF('USER INPUTS'!$B$24=\"Methane\",1,IF('USER INPUTS'!$B$24=\"Carbon dioxide\",((1/($D$5/100))-1),(VLOOKUP('USER INPUTS'!$B$24,DEFAULTS!$E$8:$F$69,2,FALSE))/10^6*(1/($D$5/100))))))),0,METHANE!$J117*DEFAULTS!$B$81*(IF('USER INPUTS'!$B$24=\"Total landfill gas\",(1/($D$5/100)),IF('USER INPUTS'!$B$24=\"Methane\",1,IF('USER INPUTS'!$B$24=\"Carbon dioxide\",((1/($D$5/100))-1),(VLOOKUP('USER INPUTS'!$B$24,DEFAULTS!$E$8:$F$69,2,FALSE))/10^6*(1/($D$5/100)))))))","v":0},{"$f":"IF(ISERROR(METHANE!$J117*(IF('USER INPUTS'!$B$24=\"Total landfill gas\",(1/($D$5/100)),IF('USER INPUTS'!$B$24=\"Methane\",1,IF('USER INPUTS'!$B$24=\"Carbon dioxide\",((1/($D$5/100))-1),(VLOOKUP('USER INPUTS'!$B$24,DEFAULTS!$E$8:$F$69,2,FALSE))/10^6*(1/($D$5/100))))))),0,METHANE!$J117*(IF('USER INPUTS'!$B$24=\"Total landfill gas\",(1/($D$5/100)),IF('USER INPUTS'!$B$24=\"Methane\",1,IF('USER INPUTS'!$B$24=\"Carbon dioxide\",((1/($D$5/100))-1),(VLOOKUP('USER INPUTS'!$B$24,DEFAULTS!$E$8:$F$69,2,FALSE))/10^6*(1/($D$5/100)))))))","v":0},{"$f":"IF(H$8=\"(short tons/year)\",(F103*DEFAULTS!$B$55*DEFAULTS!$B$53/DEFAULTS!$B$54),IF(H$8=\"(ft^3/year)\",(G103*DEFAULTS!$B$57),IF(H$8=\"(av ft^3/min)\",(G103*DEFAULTS!$B$57/DEFAULTS!$B$58),0)))","v":0},{"$f":"IF(ISERROR(METHANE!$J117*DEFAULTS!$B$82*(IF('USER INPUTS'!$B$26=\"Total landfill gas\",(1/($D$5/100)),IF('USER INPUTS'!$B$26=\"Methane\",1,IF('USER INPUTS'!$B$26=\"Carbon dioxide\",((1/($D$5/100))-1),(VLOOKUP('USER INPUTS'!$B$26,DEFAULTS!$E$8:$F$69,2,FALSE))/10^6*(1/($D$5/100))))))),0,METHANE!$J117*DEFAULTS!$B$82*(IF('USER INPUTS'!$B$26=\"Total landfill gas\",(1/($D$5/100)),IF('USER INPUTS'!$B$26=\"Methane\",1,IF('USER INPUTS'!$B$26=\"Carbon dioxide\",((1/($D$5/100))-1),(VLOOKUP('USER INPUTS'!$B$26,DEFAULTS!$E$8:$F$69,2,FALSE))/10^6*(1/($D$5/100)))))))","v":0},{"$f":"IF(ISERROR(METHANE!$J117*(IF('USER INPUTS'!$B$26=\"Total landfill gas\",(1/($D$5/100)),IF('USER INPUTS'!$B$26=\"Methane\",1,IF('USER INPUTS'!$B$26=\"Carbon dioxide\",((1/($D$5/100))-1),(VLOOKUP('USER INPUTS'!$B$26,DEFAULTS!$E$8:$F$69,2,FALSE))/10^6*(1/($D$5/100))))))),0,METHANE!$J117*(IF('USER INPUTS'!$B$26=\"Total landfill gas\",(1/($D$5/100)),IF('USER INPUTS'!$B$26=\"Methane\",1,IF('USER INPUTS'!$B$26=\"Carbon dioxide\",((1/($D$5/100))-1),(VLOOKUP('USER INPUTS'!$B$26,DEFAULTS!$E$8:$F$69,2,FALSE))/10^6*(1/($D$5/100)))))))","v":0},{"$f":"IF(K$8=\"(short tons/year)\",(I103*DEFAULTS!$B$55*DEFAULTS!$B$53/DEFAULTS!$B$54),IF(K$8=\"(ft^3/year)\",(J103*DEFAULTS!$B$57),IF(K$8=\"(av ft^3/min)\",(J103*DEFAULTS!$B$57/DEFAULTS!$B$58),0)))","v":0},{"$f":"IF(ISERROR(METHANE!$J117*DEFAULTS!$B$83*(IF('USER INPUTS'!$B$28=\"Total landfill gas\",(1/($D$5/100)),IF('USER INPUTS'!$B$28=\"Methane\",1,IF('USER INPUTS'!$B$28=\"Carbon dioxide\",((1/($D$5/100))-1),(VLOOKUP('USER INPUTS'!$B$28,DEFAULTS!$E$8:$F$69,2,FALSE))/10^6*(1/($D$5/100))))))),0,METHANE!$J117*DEFAULTS!$B$83*(IF('USER INPUTS'!$B$28=\"Total landfill gas\",(1/($D$5/100)),IF('USER INPUTS'!$B$28=\"Methane\",1,IF('USER INPUTS'!$B$28=\"Carbon dioxide\",((1/($D$5/100))-1),(VLOOKUP('USER INPUTS'!$B$28,DEFAULTS!$E$8:$F$69,2,FALSE))/10^6*(1/($D$5/100)))))))","v":0},{"$f":"IF(ISERROR(METHANE!$J117*(IF('USER INPUTS'!$B$28=\"Total landfill gas\",(1/($D$5/100)),IF('USER INPUTS'!$B$28=\"Methane\",1,IF('USER INPUTS'!$B$28=\"Carbon dioxide\",((1/($D$5/100))-1),(VLOOKUP('USER INPUTS'!$B$28,DEFAULTS!$E$8:$F$69,2,FALSE))/10^6*(1/($D$5/100))))))),0,METHANE!$J117*(IF('USER INPUTS'!$B$28=\"Total landfill gas\",(1/($D$5/100)),IF('USER INPUTS'!$B$28=\"Methane\",1,IF('USER INPUTS'!$B$28=\"Carbon dioxide\",((1/($D$5/100))-1),(VLOOKUP('USER INPUTS'!$B$28,DEFAULTS!$E$8:$F$69,2,FALSE))/10^6*(1/($D$5/100)))))))","v":0},{"$f":"IF(N$8=\"(short tons/year)\",(L103*DEFAULTS!$B$55*DEFAULTS!$B$53/DEFAULTS!$B$54),IF(N$8=\"(ft^3/year)\",(M103*DEFAULTS!$B$57),IF(N$8=\"(av ft^3/min)\",(M103*DEFAULTS!$B$57/DEFAULTS!$B$58),0)))","v":0},{"$f":"IF(ISERROR(METHANE!$J117*DEFAULTS!$B$84*(IF('USER INPUTS'!$B$30=\"Total landfill gas\",(1/($D$5/100)),IF('USER INPUTS'!$B$30=\"Methane\",1,IF('USER INPUTS'!$B$30=\"Carbon dioxide\",((1/($D$5/100))-1),(VLOOKUP('USER INPUTS'!$B$30,DEFAULTS!$E$8:$F$69,2,FALSE))/10^6*(1/($D$5/100))))))),0,METHANE!$J117*DEFAULTS!$B$84*(IF('USER INPUTS'!$B$30=\"Total landfill gas\",(1/($D$5/100)),IF('USER INPUTS'!$B$30=\"Methane\",1,IF('USER INPUTS'!$B$30=\"Carbon dioxide\",((1/($D$5/100))-1),(VLOOKUP('USER INPUTS'!$B$30,DEFAULTS!$E$8:$F$69,2,FALSE))/10^6*(1/($D$5/100)))))))","v":0},{"$f":"IF(ISERROR(METHANE!$J117*(IF('USER INPUTS'!$B$30=\"Total landfill gas\",(1/($D$5/100)),IF('USER INPUTS'!$B$30=\"Methane\",1,IF('USER INPUTS'!$B$30=\"Carbon dioxide\",((1/($D$5/100))-1),(VLOOKUP('USER INPUTS'!$B$30,DEFAULTS!$E$8:$F$69,2,FALSE))/10^6*(1/($D$5/100))))))),0,METHANE!$J117*(IF('USER INPUTS'!$B$30=\"Total landfill gas\",(1/($D$5/100)),IF('USER INPUTS'!$B$30=\"Methane\",1,IF('USER INPUTS'!$B$30=\"Carbon dioxide\",((1/($D$5/100))-1),(VLOOKUP('USER INPUTS'!$B$30,DEFAULTS!$E$8:$F$69,2,FALSE))/10^6*(1/($D$5/100)))))))","v":0},{"$f":"IF(Q$8=\"(short tons/year)\",(O103*DEFAULTS!$B$55*DEFAULTS!$B$53/DEFAULTS!$B$54),IF(Q$8=\"(ft^3/year)\",(P103*DEFAULTS!$B$57),IF(Q$8=\"(av ft^3/min)\",(P103*DEFAULTS!$B$57/DEFAULTS!$B$58),0)))","v":0}]
[{"$f":"METHANE!I118","v":95},0,0,0,0,{"$f":"IF(ISERROR(METHANE!$J118*DEFAULTS!$B$81*(IF('USER INPUTS'!$B$24=\"Total landfill gas\",(1/($D$5/100)),IF('USER INPUTS'!$B$24=\"Methane\",1,IF('USER INPUTS'!$B$24=\"Carbon dioxide\",((1/($D$5/100))-1),(VLOOKUP('USER INPUTS'!$B$24,DEFAULTS!$E$8:$F$69,2,FALSE))/10^6*(1/($D$5/100))))))),0,METHANE!$J118*DEFAULTS!$B$81*(IF('USER INPUTS'!$B$24=\"Total landfill gas\",(1/($D$5/100)),IF('USER INPUTS'!$B$24=\"Methane\",1,IF('USER INPUTS'!$B$24=\"Carbon dioxide\",((1/($D$5/100))-1),(VLOOKUP('USER INPUTS'!$B$24,DEFAULTS!$E$8:$F$69,2,FALSE))/10^6*(1/($D$5/100)))))))","v":0},{"$f":"IF(ISERROR(METHANE!$J118*(IF('USER INPUTS'!$B$24=\"Total landfill gas\",(1/($D$5/100)),IF('USER INPUTS'!$B$24=\"Methane\",1,IF('USER INPUTS'!$B$24=\"Carbon dioxide\",((1/($D$5/100))-1),(VLOOKUP('USER INPUTS'!$B$24,DEFAULTS!$E$8:$F$69,2,FALSE))/10^6*(1/($D$5/100))))))),0,METHANE!$J118*(IF('USER INPUTS'!$B$24=\"Total landfill gas\",(1/($D$5/100)),IF('USER INPUTS'!$B$24=\"Methane\",1,IF('USER INPUTS'!$B$24=\"Carbon dioxide\",((1/($D$5/100))-1),(VLOOKUP('USER INPUTS'!$B$24,DEFAULTS!$E$8:$F$69,2,FALSE))/10^6*(1/($D$5/100)))))))","v":0},{"$f":"IF(H$8=\"(short tons/year)\",(F104*DEFAULTS!$B$55*DEFAULTS!$B$53/DEFAULTS!$B$54),IF(H$8=\"(ft^3/year)\",(G104*DEFAULTS!$B$57),IF(H$8=\"(av ft^3/min)\",(G104*DEFAULTS!$B$57/DEFAULTS!$B$58),0)))","v":0},{"$f":"IF(ISERROR(METHANE!$J118*DEFAULTS!$B$82*(IF('USER INPUTS'!$B$26=\"Total landfill gas\",(1/($D$5/100)),IF('USER INPUTS'!$B$26=\"Methane\",1,IF('USER INPUTS'!$B$26=\"Carbon dioxide\",((1/($D$5/100))-1),(VLOOKUP('USER INPUTS'!$B$26,DEFAULTS!$E$8:$F$69,2,FALSE))/10^6*(1/($D$5/100))))))),0,METHANE!$J118*DEFAULTS!$B$82*(IF('USER INPUTS'!$B$26=\"Total landfill gas\",(1/($D$5/100)),IF('USER INPUTS'!$B$26=\"Methane\",1,IF('USER INPUTS'!$B$26=\"Carbon dioxide\",((1/($D$5/100))-1),(VLOOKUP('USER INPUTS'!$B$26,DEFAULTS!$E$8:$F$69,2,FALSE))/10^6*(1/($D$5/100)))))))","v":0},{"$f":"IF(ISERROR(METHANE!$J118*(IF('USER INPUTS'!$B$26=\"Total landfill gas\",(1/($D$5/100)),IF('USER INPUTS'!$B$26=\"Methane\",1,IF('USER INPUTS'!$B$26=\"Carbon dioxide\",((1/($D$5/100))-1),(VLOOKUP('USER INPUTS'!$B$26,DEFAULTS!$E$8:$F$69,2,FALSE))/10^6*(1/($D$5/100))))))),0,METHANE!$J118*(IF('USER INPUTS'!$B$26=\"Total landfill gas\",(1/($D$5/100)),IF('USER INPUTS'!$B$26=\"Methane\",1,IF('USER INPUTS'!$B$26=\"Carbon dioxide\",((1/($D$5/100))-1),(VLOOKUP('USER INPUTS'!$B$26,DEFAULTS!$E$8:$F$69,2,FALSE))/10^6*(1/($D$5/100)))))))","v":0},{"$f":"IF(K$8=\"(short tons/year)\",(I104*DEFAULTS!$B$55*DEFAULTS!$B$53/DEFAULTS!$B$54),IF(K$8=\"(ft^3/year)\",(J104*DEFAULTS!$B$57),IF(K$8=\"(av ft^3/min)\",(J104*DEFAULTS!$B$57/DEFAULTS!$B$58),0)))","v":0},{"$f":"IF(ISERROR(METHANE!$J118*DEFAULTS!$B$83*(IF('USER INPUTS'!$B$28=\"Total landfill gas\",(1/($D$5/100)),IF('USER INPUTS'!$B$28=\"Methane\",1,IF('USER INPUTS'!$B$28=\"Carbon dioxide\",((1/($D$5/100))-1),(VLOOKUP('USER INPUTS'!$B$28,DEFAULTS!$E$8:$F$69,2,FALSE))/10^6*(1/($D$5/100))))))),0,METHANE!$J118*DEFAULTS!$B$83*(IF('USER INPUTS'!$B$28=\"Total landfill gas\",(1/($D$5/100)),IF('USER INPUTS'!$B$28=\"Methane\",1,IF('USER INPUTS'!$B$28=\"Carbon dioxide\",((1/($D$5/100))-1),(VLOOKUP('USER INPUTS'!$B$28,DEFAULTS!$E$8:$F$69,2,FALSE))/10^6*(1/($D$5/100)))))))","v":0},{"$f":"IF(ISERROR(METHANE!$J118*(IF('USER INPUTS'!$B$28=\"Total landfill gas\",(1/($D$5/100)),IF('USER INPUTS'!$B$28=\"Methane\",1,IF('USER INPUTS'!$B$28=\"Carbon dioxide\",((1/($D$5/100))-1),(VLOOKUP('USER INPUTS'!$B$28,DEFAULTS!$E$8:$F$69,2,FALSE))/10^6*(1/($D$5/100))))))),0,METHANE!$J118*(IF('USER INPUTS'!$B$28=\"Total landfill gas\",(1/($D$5/100)),IF('USER INPUTS'!$B$28=\"Methane\",1,IF('USER INPUTS'!$B$28=\"Carbon dioxide\",((1/($D$5/100))-1),(VLOOKUP('USER INPUTS'!$B$28,DEFAULTS!$E$8:$F$69,2,FALSE))/10^6*(1/($D$5/100)))))))","v":0},{"$f":"IF(N$8=\"(short tons/year)\",(L104*DEFAULTS!$B$55*DEFAULTS!$B$53/DEFAULTS!$B$54),IF(N$8=\"(ft^3/year)\",(M104*DEFAULTS!$B$57),IF(N$8=\"(av ft^3/min)\",(M104*DEFAULTS!$B$57/DEFAULTS!$B$58),0)))","v":0},{"$f":"IF(ISERROR(METHANE!$J118*DEFAULTS!$B$84*(IF('USER INPUTS'!$B$30=\"Total landfill gas\",(1/($D$5/100)),IF('USER INPUTS'!$B$30=\"Methane\",1,IF('USER INPUTS'!$B$30=\"Carbon dioxide\",((1/($D$5/100))-1),(VLOOKUP('USER INPUTS'!$B$30,DEFAULTS!$E$8:$F$69,2,FALSE))/10^6*(1/($D$5/100))))))),0,METHANE!$J118*DEFAULTS!$B$84*(IF('USER INPUTS'!$B$30=\"Total landfill gas\",(1/($D$5/100)),IF('USER INPUTS'!$B$30=\"Methane\",1,IF('USER INPUTS'!$B$30=\"Carbon dioxide\",((1/($D$5/100))-1),(VLOOKUP('USER INPUTS'!$B$30,DEFAULTS!$E$8:$F$69,2,FALSE))/10^6*(1/($D$5/100)))))))","v":0},{"$f":"IF(ISERROR(METHANE!$J118*(IF('USER INPUTS'!$B$30=\"Total landfill gas\",(1/($D$5/100)),IF('USER INPUTS'!$B$30=\"Methane\",1,IF('USER INPUTS'!$B$30=\"Carbon dioxide\",((1/($D$5/100))-1),(VLOOKUP('USER INPUTS'!$B$30,DEFAULTS!$E$8:$F$69,2,FALSE))/10^6*(1/($D$5/100))))))),0,METHANE!$J118*(IF('USER INPUTS'!$B$30=\"Total landfill gas\",(1/($D$5/100)),IF('USER INPUTS'!$B$30=\"Methane\",1,IF('USER INPUTS'!$B$30=\"Carbon dioxide\",((1/($D$5/100))-1),(VLOOKUP('USER INPUTS'!$B$30,DEFAULTS!$E$8:$F$69,2,FALSE))/10^6*(1/($D$5/100)))))))","v":0},{"$f":"IF(Q$8=\"(short tons/year)\",(O104*DEFAULTS!$B$55*DEFAULTS!$B$53/DEFAULTS!$B$54),IF(Q$8=\"(ft^3/year)\",(P104*DEFAULTS!$B$57),IF(Q$8=\"(av ft^3/min)\",(P104*DEFAULTS!$B$57/DEFAULTS!$B$58),0)))","v":0}]
[{"$f":"METHANE!I119","v":96},0,0,0,0,{"$f":"IF(ISERROR(METHANE!$J119*DEFAULTS!$B$81*(IF('USER INPUTS'!$B$24=\"Total landfill gas\",(1/($D$5/100)),IF('USER INPUTS'!$B$24=\"Methane\",1,IF('USER INPUTS'!$B$24=\"Carbon dioxide\",((1/($D$5/100))-1),(VLOOKUP('USER INPUTS'!$B$24,DEFAULTS!$E$8:$F$69,2,FALSE))/10^6*(1/($D$5/100))))))),0,METHANE!$J119*DEFAULTS!$B$81*(IF('USER INPUTS'!$B$24=\"Total landfill gas\",(1/($D$5/100)),IF('USER INPUTS'!$B$24=\"Methane\",1,IF('USER INPUTS'!$B$24=\"Carbon dioxide\",((1/($D$5/100))-1),(VLOOKUP('USER INPUTS'!$B$24,DEFAULTS!$E$8:$F$69,2,FALSE))/10^6*(1/($D$5/100)))))))","v":0},{"$f":"IF(ISERROR(METHANE!$J119*(IF('USER INPUTS'!$B$24=\"Total landfill gas\",(1/($D$5/100)),IF('USER INPUTS'!$B$24=\"Methane\",1,IF('USER INPUTS'!$B$24=\"Carbon dioxide\",((1/($D$5/100))-1),(VLOOKUP('USER INPUTS'!$B$24,DEFAULTS!$E$8:$F$69,2,FALSE))/10^6*(1/($D$5/100))))))),0,METHANE!$J119*(IF('USER INPUTS'!$B$24=\"Total landfill gas\",(1/($D$5/100)),IF('USER INPUTS'!$B$24=\"Methane\",1,IF('USER INPUTS'!$B$24=\"Carbon dioxide\",((1/($D$5/100))-1),(VLOOKUP('USER INPUTS'!$B$24,DEFAULTS!$E$8:$F$69,2,FALSE))/10^6*(1/($D$5/100)))))))","v":0},{"$f":"IF(H$8=\"(short tons/year)\",(F105*DEFAULTS!$B$55*DEFAULTS!$B$53/DEFAULTS!$B$54),IF(H$8=\"(ft^3/year)\",(G105*DEFAULTS!$B$57),IF(H$8=\"(av ft^3/min)\",(G105*DEFAULTS!$B$57/DEFAULTS!$B$58),0)))","v":0},{"$f":"IF(ISERROR(METHANE!$J119*DEFAULTS!$B$82*(IF('USER INPUTS'!$B$26=\"Total landfill gas\",(1/($D$5/100)),IF('USER INPUTS'!$B$26=\"Methane\",1,IF('USER INPUTS'!$B$26=\"Carbon dioxide\",((1/($D$5/100))-1),(VLOOKUP('USER INPUTS'!$B$26,DEFAULTS!$E$8:$F$69,2,FALSE))/10^6*(1/($D$5/100))))))),0,METHANE!$J119*DEFAULTS!$B$82*(IF('USER INPUTS'!$B$26=\"Total landfill gas\",(1/($D$5/100)),IF('USER INPUTS'!$B$26=\"Methane\",1,IF('USER INPUTS'!$B$26=\"Carbon dioxide\",((1/($D$5/100))-1),(VLOOKUP('USER INPUTS'!$B$26,DEFAULTS!$E$8:$F$69,2,FALSE))/10^6*(1/($D$5/100)))))))","v":0},{"$f":"IF(ISERROR(METHANE!$J119*(IF('USER INPUTS'!$B$26=\"Total landfill gas\",(1/($D$5/100)),IF('USER INPUTS'!$B$26=\"Methane\",1,IF('USER INPUTS'!$B$26=\"Carbon dioxide\",((1/($D$5/100))-1),(VLOOKUP('USER INPUTS'!$B$26,DEFAULTS!$E$8:$F$69,2,FALSE))/10^6*(1/($D$5/100))))))),0,METHANE!$J119*(IF('USER INPUTS'!$B$26=\"Total landfill gas\",(1/($D$5/100)),IF('USER INPUTS'!$B$26=\"Methane\",1,IF('USER INPUTS'!$B$26=\"Carbon dioxide\",((1/($D$5/100))-1),(VLOOKUP('USER INPUTS'!$B$26,DEFAULTS!$E$8:$F$69,2,FALSE))/10^6*(1/($D$5/100)))))))","v":0},{"$f":"IF(K$8=\"(short tons/year)\",(I105*DEFAULTS!$B$55*DEFAULTS!$B$53/DEFAULTS!$B$54),IF(K$8=\"(ft^3/year)\",(J105*DEFAULTS!$B$57),IF(K$8=\"(av ft^3/min)\",(J105*DEFAULTS!$B$57/DEFAULTS!$B$58),0)))","v":0},{"$f":"IF(ISERROR(METHANE!$J119*DEFAULTS!$B$83*(IF('USER INPUTS'!$B$28=\"Total landfill gas\",(1/($D$5/100)),IF('USER INPUTS'!$B$28=\"Methane\",1,IF('USER INPUTS'!$B$28=\"Carbon dioxide\",((1/($D$5/100))-1),(VLOOKUP('USER INPUTS'!$B$28,DEFAULTS!$E$8:$F$69,2,FALSE))/10^6*(1/($D$5/100))))))),0,METHANE!$J119*DEFAULTS!$B$83*(IF('USER INPUTS'!$B$28=\"Total landfill gas\",(1/($D$5/100)),IF('USER INPUTS'!$B$28=\"Methane\",1,IF('USER INPUTS'!$B$28=\"Carbon dioxide\",((1/($D$5/100))-1),(VLOOKUP('USER INPUTS'!$B$28,DEFAULTS!$E$8:$F$69,2,FALSE))/10^6*(1/($D$5/100)))))))","v":0},{"$f":"IF(ISERROR(METHANE!$J119*(IF('USER INPUTS'!$B$28=\"Total landfill gas\",(1/($D$5/100)),IF('USER INPUTS'!$B$28=\"Methane\",1,IF('USER INPUTS'!$B$28=\"Carbon dioxide\",((1/($D$5/100))-1),(VLOOKUP('USER INPUTS'!$B$28,DEFAULTS!$E$8:$F$69,2,FALSE))/10^6*(1/($D$5/100))))))),0,METHANE!$J119*(IF('USER INPUTS'!$B$28=\"Total landfill gas\",(1/($D$5/100)),IF('USER INPUTS'!$B$28=\"Methane\",1,IF('USER INPUTS'!$B$28=\"Carbon dioxide\",((1/($D$5/100))-1),(VLOOKUP('USER INPUTS'!$B$28,DEFAULTS!$E$8:$F$69,2,FALSE))/10^6*(1/($D$5/100)))))))","v":0},{"$f":"IF(N$8=\"(short tons/year)\",(L105*DEFAULTS!$B$55*DEFAULTS!$B$53/DEFAULTS!$B$54),IF(N$8=\"(ft^3/year)\",(M105*DEFAULTS!$B$57),IF(N$8=\"(av ft^3/min)\",(M105*DEFAULTS!$B$57/DEFAULTS!$B$58),0)))","v":0},{"$f":"IF(ISERROR(METHANE!$J119*DEFAULTS!$B$84*(IF('USER INPUTS'!$B$30=\"Total landfill gas\",(1/($D$5/100)),IF('USER INPUTS'!$B$30=\"Methane\",1,IF('USER INPUTS'!$B$30=\"Carbon dioxide\",((1/($D$5/100))-1),(VLOOKUP('USER INPUTS'!$B$30,DEFAULTS!$E$8:$F$69,2,FALSE))/10^6*(1/($D$5/100))))))),0,METHANE!$J119*DEFAULTS!$B$84*(IF('USER INPUTS'!$B$30=\"Total landfill gas\",(1/($D$5/100)),IF('USER INPUTS'!$B$30=\"Methane\",1,IF('USER INPUTS'!$B$30=\"Carbon dioxide\",((1/($D$5/100))-1),(VLOOKUP('USER INPUTS'!$B$30,DEFAULTS!$E$8:$F$69,2,FALSE))/10^6*(1/($D$5/100)))))))","v":0},{"$f":"IF(ISERROR(METHANE!$J119*(IF('USER INPUTS'!$B$30=\"Total landfill gas\",(1/($D$5/100)),IF('USER INPUTS'!$B$30=\"Methane\",1,IF('USER INPUTS'!$B$30=\"Carbon dioxide\",((1/($D$5/100))-1),(VLOOKUP('USER INPUTS'!$B$30,DEFAULTS!$E$8:$F$69,2,FALSE))/10^6*(1/($D$5/100))))))),0,METHANE!$J119*(IF('USER INPUTS'!$B$30=\"Total landfill gas\",(1/($D$5/100)),IF('USER INPUTS'!$B$30=\"Methane\",1,IF('USER INPUTS'!$B$30=\"Carbon dioxide\",((1/($D$5/100))-1),(VLOOKUP('USER INPUTS'!$B$30,DEFAULTS!$E$8:$F$69,2,FALSE))/10^6*(1/($D$5/100)))))))","v":0},{"$f":"IF(Q$8=\"(short tons/year)\",(O105*DEFAULTS!$B$55*DEFAULTS!$B$53/DEFAULTS!$B$54),IF(Q$8=\"(ft^3/year)\",(P105*DEFAULTS!$B$57),IF(Q$8=\"(av ft^3/min)\",(P105*DEFAULTS!$B$57/DEFAULTS!$B$58),0)))","v":0}]
[{"$f":"METHANE!I120","v":97},0,0,0,0,{"$f":"IF(ISERROR(METHANE!$J120*DEFAULTS!$B$81*(IF('USER INPUTS'!$B$24=\"Total landfill gas\",(1/($D$5/100)),IF('USER INPUTS'!$B$24=\"Methane\",1,IF('USER INPUTS'!$B$24=\"Carbon dioxide\",((1/($D$5/100))-1),(VLOOKUP('USER INPUTS'!$B$24,DEFAULTS!$E$8:$F$69,2,FALSE))/10^6*(1/($D$5/100))))))),0,METHANE!$J120*DEFAULTS!$B$81*(IF('USER INPUTS'!$B$24=\"Total landfill gas\",(1/($D$5/100)),IF('USER INPUTS'!$B$24=\"Methane\",1,IF('USER INPUTS'!$B$24=\"Carbon dioxide\",((1/($D$5/100))-1),(VLOOKUP('USER INPUTS'!$B$24,DEFAULTS!$E$8:$F$69,2,FALSE))/10^6*(1/($D$5/100)))))))","v":0},{"$f":"IF(ISERROR(METHANE!$J120*(IF('USER INPUTS'!$B$24=\"Total landfill gas\",(1/($D$5/100)),IF('USER INPUTS'!$B$24=\"Methane\",1,IF('USER INPUTS'!$B$24=\"Carbon dioxide\",((1/($D$5/100))-1),(VLOOKUP('USER INPUTS'!$B$24,DEFAULTS!$E$8:$F$69,2,FALSE))/10^6*(1/($D$5/100))))))),0,METHANE!$J120*(IF('USER INPUTS'!$B$24=\"Total landfill gas\",(1/($D$5/100)),IF('USER INPUTS'!$B$24=\"Methane\",1,IF('USER INPUTS'!$B$24=\"Carbon dioxide\",((1/($D$5/100))-1),(VLOOKUP('USER INPUTS'!$B$24,DEFAULTS!$E$8:$F$69,2,FALSE))/10^6*(1/($D$5/100)))))))","v":0},{"$f":"IF(H$8=\"(short tons/year)\",(F106*DEFAULTS!$B$55*DEFAULTS!$B$53/DEFAULTS!$B$54),IF(H$8=\"(ft^3/year)\",(G106*DEFAULTS!$B$57),IF(H$8=\"(av ft^3/min)\",(G106*DEFAULTS!$B$57/DEFAULTS!$B$58),0)))","v":0},{"$f":"IF(ISERROR(METHANE!$J120*DEFAULTS!$B$82*(IF('USER INPUTS'!$B$26=\"Total landfill gas\",(1/($D$5/100)),IF('USER INPUTS'!$B$26=\"Methane\",1,IF('USER INPUTS'!$B$26=\"Carbon dioxide\",((1/($D$5/100))-1),(VLOOKUP('USER INPUTS'!$B$26,DEFAULTS!$E$8:$F$69,2,FALSE))/10^6*(1/($D$5/100))))))),0,METHANE!$J120*DEFAULTS!$B$82*(IF('USER INPUTS'!$B$26=\"Total landfill gas\",(1/($D$5/100)),IF('USER INPUTS'!$B$26=\"Methane\",1,IF('USER INPUTS'!$B$26=\"Carbon dioxide\",((1/($D$5/100))-1),(VLOOKUP('USER INPUTS'!$B$26,DEFAULTS!$E$8:$F$69,2,FALSE))/10^6*(1/($D$5/100)))))))","v":0},{"$f":"IF(ISERROR(METHANE!$J120*(IF('USER INPUTS'!$B$26=\"Total landfill gas\",(1/($D$5/100)),IF('USER INPUTS'!$B$26=\"Methane\",1,IF('USER INPUTS'!$B$26=\"Carbon dioxide\",((1/($D$5/100))-1),(VLOOKUP('USER INPUTS'!$B$26,DEFAULTS!$E$8:$F$69,2,FALSE))/10^6*(1/($D$5/100))))))),0,METHANE!$J120*(IF('USER INPUTS'!$B$26=\"Total landfill gas\",(1/($D$5/100)),IF('USER INPUTS'!$B$26=\"Methane\",1,IF('USER INPUTS'!$B$26=\"Carbon dioxide\",((1/($D$5/100))-1),(VLOOKUP('USER INPUTS'!$B$26,DEFAULTS!$E$8:$F$69,2,FALSE))/10^6*(1/($D$5/100)))))))","v":0},{"$f":"IF(K$8=\"(short tons/year)\",(I106*DEFAULTS!$B$55*DEFAULTS!$B$53/DEFAULTS!$B$54),IF(K$8=\"(ft^3/year)\",(J106*DEFAULTS!$B$57),IF(K$8=\"(av ft^3/min)\",(J106*DEFAULTS!$B$57/DEFAULTS!$B$58),0)))","v":0},{"$f":"IF(ISERROR(METHANE!$J120*DEFAULTS!$B$83*(IF('USER INPUTS'!$B$28=\"Total landfill gas\",(1/($D$5/100)),IF('USER INPUTS'!$B$28=\"Methane\",1,IF('USER INPUTS'!$B$28=\"Carbon dioxide\",((1/($D$5/100))-1),(VLOOKUP('USER INPUTS'!$B$28,DEFAULTS!$E$8:$F$69,2,FALSE))/10^6*(1/($D$5/100))))))),0,METHANE!$J120*DEFAULTS!$B$83*(IF('USER INPUTS'!$B$28=\"Total landfill gas\",(1/($D$5/100)),IF('USER INPUTS'!$B$28=\"Methane\",1,IF('USER INPUTS'!$B$28=\"Carbon dioxide\",((1/($D$5/100))-1),(VLOOKUP('USER INPUTS'!$B$28,DEFAULTS!$E$8:$F$69,2,FALSE))/10^6*(1/($D$5/100)))))))","v":0},{"$f":"IF(ISERROR(METHANE!$J120*(IF('USER INPUTS'!$B$28=\"Total landfill gas\",(1/($D$5/100)),IF('USER INPUTS'!$B$28=\"Methane\",1,IF('USER INPUTS'!$B$28=\"Carbon dioxide\",((1/($D$5/100))-1),(VLOOKUP('USER INPUTS'!$B$28,DEFAULTS!$E$8:$F$69,2,FALSE))/10^6*(1/($D$5/100))))))),0,METHANE!$J120*(IF('USER INPUTS'!$B$28=\"Total landfill gas\",(1/($D$5/100)),IF('USER INPUTS'!$B$28=\"Methane\",1,IF('USER INPUTS'!$B$28=\"Carbon dioxide\",((1/($D$5/100))-1),(VLOOKUP('USER INPUTS'!$B$28,DEFAULTS!$E$8:$F$69,2,FALSE))/10^6*(1/($D$5/100)))))))","v":0},{"$f":"IF(N$8=\"(short tons/year)\",(L106*DEFAULTS!$B$55*DEFAULTS!$B$53/DEFAULTS!$B$54),IF(N$8=\"(ft^3/year)\",(M106*DEFAULTS!$B$57),IF(N$8=\"(av ft^3/min)\",(M106*DEFAULTS!$B$57/DEFAULTS!$B$58),0)))","v":0},{"$f":"IF(ISERROR(METHANE!$J120*DEFAULTS!$B$84*(IF('USER INPUTS'!$B$30=\"Total landfill gas\",(1/($D$5/100)),IF('USER INPUTS'!$B$30=\"Methane\",1,IF('USER INPUTS'!$B$30=\"Carbon dioxide\",((1/($D$5/100))-1),(VLOOKUP('USER INPUTS'!$B$30,DEFAULTS!$E$8:$F$69,2,FALSE))/10^6*(1/($D$5/100))))))),0,METHANE!$J120*DEFAULTS!$B$84*(IF('USER INPUTS'!$B$30=\"Total landfill gas\",(1/($D$5/100)),IF('USER INPUTS'!$B$30=\"Methane\",1,IF('USER INPUTS'!$B$30=\"Carbon dioxide\",((1/($D$5/100))-1),(VLOOKUP('USER INPUTS'!$B$30,DEFAULTS!$E$8:$F$69,2,FALSE))/10^6*(1/($D$5/100)))))))","v":0},{"$f":"IF(ISERROR(METHANE!$J120*(IF('USER INPUTS'!$B$30=\"Total landfill gas\",(1/($D$5/100)),IF('USER INPUTS'!$B$30=\"Methane\",1,IF('USER INPUTS'!$B$30=\"Carbon dioxide\",((1/($D$5/100))-1),(VLOOKUP('USER INPUTS'!$B$30,DEFAULTS!$E$8:$F$69,2,FALSE))/10^6*(1/($D$5/100))))))),0,METHANE!$J120*(IF('USER INPUTS'!$B$30=\"Total landfill gas\",(1/($D$5/100)),IF('USER INPUTS'!$B$30=\"Methane\",1,IF('USER INPUTS'!$B$30=\"Carbon dioxide\",((1/($D$5/100))-1),(VLOOKUP('USER INPUTS'!$B$30,DEFAULTS!$E$8:$F$69,2,FALSE))/10^6*(1/($D$5/100)))))))","v":0},{"$f":"IF(Q$8=\"(short tons/year)\",(O106*DEFAULTS!$B$55*DEFAULTS!$B$53/DEFAULTS!$B$54),IF(Q$8=\"(ft^3/year)\",(P106*DEFAULTS!$B$57),IF(Q$8=\"(av ft^3/min)\",(P106*DEFAULTS!$B$57/DEFAULTS!$B$58),0)))","v":0}]
[{"$f":"METHANE!I121","v":98},0,0,0,0,{"$f":"IF(ISERROR(METHANE!$J121*DEFAULTS!$B$81*(IF('USER INPUTS'!$B$24=\"Total landfill gas\",(1/($D$5/100)),IF('USER INPUTS'!$B$24=\"Methane\",1,IF('USER INPUTS'!$B$24=\"Carbon dioxide\",((1/($D$5/100))-1),(VLOOKUP('USER INPUTS'!$B$24,DEFAULTS!$E$8:$F$69,2,FALSE))/10^6*(1/($D$5/100))))))),0,METHANE!$J121*DEFAULTS!$B$81*(IF('USER INPUTS'!$B$24=\"Total landfill gas\",(1/($D$5/100)),IF('USER INPUTS'!$B$24=\"Methane\",1,IF('USER INPUTS'!$B$24=\"Carbon dioxide\",((1/($D$5/100))-1),(VLOOKUP('USER INPUTS'!$B$24,DEFAULTS!$E$8:$F$69,2,FALSE))/10^6*(1/($D$5/100)))))))","v":0},{"$f":"IF(ISERROR(METHANE!$J121*(IF('USER INPUTS'!$B$24=\"Total landfill gas\",(1/($D$5/100)),IF('USER INPUTS'!$B$24=\"Methane\",1,IF('USER INPUTS'!$B$24=\"Carbon dioxide\",((1/($D$5/100))-1),(VLOOKUP('USER INPUTS'!$B$24,DEFAULTS!$E$8:$F$69,2,FALSE))/10^6*(1/($D$5/100))))))),0,METHANE!$J121*(IF('USER INPUTS'!$B$24=\"Total landfill gas\",(1/($D$5/100)),IF('USER INPUTS'!$B$24=\"Methane\",1,IF('USER INPUTS'!$B$24=\"Carbon dioxide\",((1/($D$5/100))-1),(VLOOKUP('USER INPUTS'!$B$24,DEFAULTS!$E$8:$F$69,2,FALSE))/10^6*(1/($D$5/100)))))))","v":0},{"$f":"IF(H$8=\"(short tons/year)\",(F107*DEFAULTS!$B$55*DEFAULTS!$B$53/DEFAULTS!$B$54),IF(H$8=\"(ft^3/year)\",(G107*DEFAULTS!$B$57),IF(H$8=\"(av ft^3/min)\",(G107*DEFAULTS!$B$57/DEFAULTS!$B$58),0)))","v":0},{"$f":"IF(ISERROR(METHANE!$J121*DEFAULTS!$B$82*(IF('USER INPUTS'!$B$26=\"Total landfill gas\",(1/($D$5/100)),IF('USER INPUTS'!$B$26=\"Methane\",1,IF('USER INPUTS'!$B$26=\"Carbon dioxide\",((1/($D$5/100))-1),(VLOOKUP('USER INPUTS'!$B$26,DEFAULTS!$E$8:$F$69,2,FALSE))/10^6*(1/($D$5/100))))))),0,METHANE!$J121*DEFAULTS!$B$82*(IF('USER INPUTS'!$B$26=\"Total landfill gas\",(1/($D$5/100)),IF('USER INPUTS'!$B$26=\"Methane\",1,IF('USER INPUTS'!$B$26=\"Carbon dioxide\",((1/($D$5/100))-1),(VLOOKUP('USER INPUTS'!$B$26,DEFAULTS!$E$8:$F$69,2,FALSE))/10^6*(1/($D$5/100)))))))","v":0},{"$f":"IF(ISERROR(METHANE!$J121*(IF('USER INPUTS'!$B$26=\"Total landfill gas\",(1/($D$5/100)),IF('USER INPUTS'!$B$26=\"Methane\",1,IF('USER INPUTS'!$B$26=\"Carbon dioxide\",((1/($D$5/100))-1),(VLOOKUP('USER INPUTS'!$B$26,DEFAULTS!$E$8:$F$69,2,FALSE))/10^6*(1/($D$5/100))))))),0,METHANE!$J121*(IF('USER INPUTS'!$B$26=\"Total landfill gas\",(1/($D$5/100)),IF('USER INPUTS'!$B$26=\"Methane\",1,IF('USER INPUTS'!$B$26=\"Carbon dioxide\",((1/($D$5/100))-1),(VLOOKUP('USER INPUTS'!$B$26,DEFAULTS!$E$8:$F$69,2,FALSE))/10^6*(1/($D$5/100)))))))","v":0},{"$f":"IF(K$8=\"(short tons/year)\",(I107*DEFAULTS!$B$55*DEFAULTS!$B$53/DEFAULTS!$B$54),IF(K$8=\"(ft^3/year)\",(J107*DEFAULTS!$B$57),IF(K$8=\"(av ft^3/min)\",(J107*DEFAULTS!$B$57/DEFAULTS!$B$58),0)))","v":0},{"$f":"IF(ISERROR(METHANE!$J121*DEFAULTS!$B$83*(IF('USER INPUTS'!$B$28=\"Total landfill gas\",(1/($D$5/100)),IF('USER INPUTS'!$B$28=\"Methane\",1,IF('USER INPUTS'!$B$28=\"Carbon dioxide\",((1/($D$5/100))-1),(VLOOKUP('USER INPUTS'!$B$28,DEFAULTS!$E$8:$F$69,2,FALSE))/10^6*(1/($D$5/100))))))),0,METHANE!$J121*DEFAULTS!$B$83*(IF('USER INPUTS'!$B$28=\"Total landfill gas\",(1/($D$5/100)),IF('USER INPUTS'!$B$28=\"Methane\",1,IF('USER INPUTS'!$B$28=\"Carbon dioxide\",((1/($D$5/100))-1),(VLOOKUP('USER INPUTS'!$B$28,DEFAULTS!$E$8:$F$69,2,FALSE))/10^6*(1/($D$5/100)))))))","v":0},{"$f":"IF(ISERROR(METHANE!$J121*(IF('USER INPUTS'!$B$28=\"Total landfill gas\",(1/($D$5/100)),IF('USER INPUTS'!$B$28=\"Methane\",1,IF('USER INPUTS'!$B$28=\"Carbon dioxide\",((1/($D$5/100))-1),(VLOOKUP('USER INPUTS'!$B$28,DEFAULTS!$E$8:$F$69,2,FALSE))/10^6*(1/($D$5/100))))))),0,METHANE!$J121*(IF('USER INPUTS'!$B$28=\"Total landfill gas\",(1/($D$5/100)),IF('USER INPUTS'!$B$28=\"Methane\",1,IF('USER INPUTS'!$B$28=\"Carbon dioxide\",((1/($D$5/100))-1),(VLOOKUP('USER INPUTS'!$B$28,DEFAULTS!$E$8:$F$69,2,FALSE))/10^6*(1/($D$5/100)))))))","v":0},{"$f":"IF(N$8=\"(short tons/year)\",(L107*DEFAULTS!$B$55*DEFAULTS!$B$53/DEFAULTS!$B$54),IF(N$8=\"(ft^3/year)\",(M107*DEFAULTS!$B$57),IF(N$8=\"(av ft^3/min)\",(M107*DEFAULTS!$B$57/DEFAULTS!$B$58),0)))","v":0},{"$f":"IF(ISERROR(METHANE!$J121*DEFAULTS!$B$84*(IF('USER INPUTS'!$B$30=\"Total landfill gas\",(1/($D$5/100)),IF('USER INPUTS'!$B$30=\"Methane\",1,IF('USER INPUTS'!$B$30=\"Carbon dioxide\",((1/($D$5/100))-1),(VLOOKUP('USER INPUTS'!$B$30,DEFAULTS!$E$8:$F$69,2,FALSE))/10^6*(1/($D$5/100))))))),0,METHANE!$J121*DEFAULTS!$B$84*(IF('USER INPUTS'!$B$30=\"Total landfill gas\",(1/($D$5/100)),IF('USER INPUTS'!$B$30=\"Methane\",1,IF('USER INPUTS'!$B$30=\"Carbon dioxide\",((1/($D$5/100))-1),(VLOOKUP('USER INPUTS'!$B$30,DEFAULTS!$E$8:$F$69,2,FALSE))/10^6*(1/($D$5/100)))))))","v":0},{"$f":"IF(ISERROR(METHANE!$J121*(IF('USER INPUTS'!$B$30=\"Total landfill gas\",(1/($D$5/100)),IF('USER INPUTS'!$B$30=\"Methane\",1,IF('USER INPUTS'!$B$30=\"Carbon dioxide\",((1/($D$5/100))-1),(VLOOKUP('USER INPUTS'!$B$30,DEFAULTS!$E$8:$F$69,2,FALSE))/10^6*(1/($D$5/100))))))),0,METHANE!$J121*(IF('USER INPUTS'!$B$30=\"Total landfill gas\",(1/($D$5/100)),IF('USER INPUTS'!$B$30=\"Methane\",1,IF('USER INPUTS'!$B$30=\"Carbon dioxide\",((1/($D$5/100))-1),(VLOOKUP('USER INPUTS'!$B$30,DEFAULTS!$E$8:$F$69,2,FALSE))/10^6*(1/($D$5/100)))))))","v":0},{"$f":"IF(Q$8=\"(short tons/year)\",(O107*DEFAULTS!$B$55*DEFAULTS!$B$53/DEFAULTS!$B$54),IF(Q$8=\"(ft^3/year)\",(P107*DEFAULTS!$B$57),IF(Q$8=\"(av ft^3/min)\",(P107*DEFAULTS!$B$57/DEFAULTS!$B$58),0)))","v":0}]
[{"$f":"METHANE!I122","v":99},0,0,0,0,{"$f":"IF(ISERROR(METHANE!$J122*DEFAULTS!$B$81*(IF('USER INPUTS'!$B$24=\"Total landfill gas\",(1/($D$5/100)),IF('USER INPUTS'!$B$24=\"Methane\",1,IF('USER INPUTS'!$B$24=\"Carbon dioxide\",((1/($D$5/100))-1),(VLOOKUP('USER INPUTS'!$B$24,DEFAULTS!$E$8:$F$69,2,FALSE))/10^6*(1/($D$5/100))))))),0,METHANE!$J122*DEFAULTS!$B$81*(IF('USER INPUTS'!$B$24=\"Total landfill gas\",(1/($D$5/100)),IF('USER INPUTS'!$B$24=\"Methane\",1,IF('USER INPUTS'!$B$24=\"Carbon dioxide\",((1/($D$5/100))-1),(VLOOKUP('USER INPUTS'!$B$24,DEFAULTS!$E$8:$F$69,2,FALSE))/10^6*(1/($D$5/100)))))))","v":0},{"$f":"IF(ISERROR(METHANE!$J122*(IF('USER INPUTS'!$B$24=\"Total landfill gas\",(1/($D$5/100)),IF('USER INPUTS'!$B$24=\"Methane\",1,IF('USER INPUTS'!$B$24=\"Carbon dioxide\",((1/($D$5/100))-1),(VLOOKUP('USER INPUTS'!$B$24,DEFAULTS!$E$8:$F$69,2,FALSE))/10^6*(1/($D$5/100))))))),0,METHANE!$J122*(IF('USER INPUTS'!$B$24=\"Total landfill gas\",(1/($D$5/100)),IF('USER INPUTS'!$B$24=\"Methane\",1,IF('USER INPUTS'!$B$24=\"Carbon dioxide\",((1/($D$5/100))-1),(VLOOKUP('USER INPUTS'!$B$24,DEFAULTS!$E$8:$F$69,2,FALSE))/10^6*(1/($D$5/100)))))))","v":0},{"$f":"IF(H$8=\"(short tons/year)\",(F108*DEFAULTS!$B$55*DEFAULTS!$B$53/DEFAULTS!$B$54),IF(H$8=\"(ft^3/year)\",(G108*DEFAULTS!$B$57),IF(H$8=\"(av ft^3/min)\",(G108*DEFAULTS!$B$57/DEFAULTS!$B$58),0)))","v":0},{"$f":"IF(ISERROR(METHANE!$J122*DEFAULTS!$B$82*(IF('USER INPUTS'!$B$26=\"Total landfill gas\",(1/($D$5/100)),IF('USER INPUTS'!$B$26=\"Methane\",1,IF('USER INPUTS'!$B$26=\"Carbon dioxide\",((1/($D$5/100))-1),(VLOOKUP('USER INPUTS'!$B$26,DEFAULTS!$E$8:$F$69,2,FALSE))/10^6*(1/($D$5/100))))))),0,METHANE!$J122*DEFAULTS!$B$82*(IF('USER INPUTS'!$B$26=\"Total landfill gas\",(1/($D$5/100)),IF('USER INPUTS'!$B$26=\"Methane\",1,IF('USER INPUTS'!$B$26=\"Carbon dioxide\",((1/($D$5/100))-1),(VLOOKUP('USER INPUTS'!$B$26,DEFAULTS!$E$8:$F$69,2,FALSE))/10^6*(1/($D$5/100)))))))","v":0},{"$f":"IF(ISERROR(METHANE!$J122*(IF('USER INPUTS'!$B$26=\"Total landfill gas\",(1/($D$5/100)),IF('USER INPUTS'!$B$26=\"Methane\",1,IF('USER INPUTS'!$B$26=\"Carbon dioxide\",((1/($D$5/100))-1),(VLOOKUP('USER INPUTS'!$B$26,DEFAULTS!$E$8:$F$69,2,FALSE))/10^6*(1/($D$5/100))))))),0,METHANE!$J122*(IF('USER INPUTS'!$B$26=\"Total landfill gas\",(1/($D$5/100)),IF('USER INPUTS'!$B$26=\"Methane\",1,IF('USER INPUTS'!$B$26=\"Carbon dioxide\",((1/($D$5/100))-1),(VLOOKUP('USER INPUTS'!$B$26,DEFAULTS!$E$8:$F$69,2,FALSE))/10^6*(1/($D$5/100)))))))","v":0},{"$f":"IF(K$8=\"(short tons/year)\",(I108*DEFAULTS!$B$55*DEFAULTS!$B$53/DEFAULTS!$B$54),IF(K$8=\"(ft^3/year)\",(J108*DEFAULTS!$B$57),IF(K$8=\"(av ft^3/min)\",(J108*DEFAULTS!$B$57/DEFAULTS!$B$58),0)))","v":0},{"$f":"IF(ISERROR(METHANE!$J122*DEFAULTS!$B$83*(IF('USER INPUTS'!$B$28=\"Total landfill gas\",(1/($D$5/100)),IF('USER INPUTS'!$B$28=\"Methane\",1,IF('USER INPUTS'!$B$28=\"Carbon dioxide\",((1/($D$5/100))-1),(VLOOKUP('USER INPUTS'!$B$28,DEFAULTS!$E$8:$F$69,2,FALSE))/10^6*(1/($D$5/100))))))),0,METHANE!$J122*DEFAULTS!$B$83*(IF('USER INPUTS'!$B$28=\"Total landfill gas\",(1/($D$5/100)),IF('USER INPUTS'!$B$28=\"Methane\",1,IF('USER INPUTS'!$B$28=\"Carbon dioxide\",((1/($D$5/100))-1),(VLOOKUP('USER INPUTS'!$B$28,DEFAULTS!$E$8:$F$69,2,FALSE))/10^6*(1/($D$5/100)))))))","v":0},{"$f":"IF(ISERROR(METHANE!$J122*(IF('USER INPUTS'!$B$28=\"Total landfill gas\",(1/($D$5/100)),IF('USER INPUTS'!$B$28=\"Methane\",1,IF('USER INPUTS'!$B$28=\"Carbon dioxide\",((1/($D$5/100))-1),(VLOOKUP('USER INPUTS'!$B$28,DEFAULTS!$E$8:$F$69,2,FALSE))/10^6*(1/($D$5/100))))))),0,METHANE!$J122*(IF('USER INPUTS'!$B$28=\"Total landfill gas\",(1/($D$5/100)),IF('USER INPUTS'!$B$28=\"Methane\",1,IF('USER INPUTS'!$B$28=\"Carbon dioxide\",((1/($D$5/100))-1),(VLOOKUP('USER INPUTS'!$B$28,DEFAULTS!$E$8:$F$69,2,FALSE))/10^6*(1/($D$5/100)))))))","v":0},{"$f":"IF(N$8=\"(short tons/year)\",(L108*DEFAULTS!$B$55*DEFAULTS!$B$53/DEFAULTS!$B$54),IF(N$8=\"(ft^3/year)\",(M108*DEFAULTS!$B$57),IF(N$8=\"(av ft^3/min)\",(M108*DEFAULTS!$B$57/DEFAULTS!$B$58),0)))","v":0},{"$f":"IF(ISERROR(METHANE!$J122*DEFAULTS!$B$84*(IF('USER INPUTS'!$B$30=\"Total landfill gas\",(1/($D$5/100)),IF('USER INPUTS'!$B$30=\"Methane\",1,IF('USER INPUTS'!$B$30=\"Carbon dioxide\",((1/($D$5/100))-1),(VLOOKUP('USER INPUTS'!$B$30,DEFAULTS!$E$8:$F$69,2,FALSE))/10^6*(1/($D$5/100))))))),0,METHANE!$J122*DEFAULTS!$B$84*(IF('USER INPUTS'!$B$30=\"Total landfill gas\",(1/($D$5/100)),IF('USER INPUTS'!$B$30=\"Methane\",1,IF('USER INPUTS'!$B$30=\"Carbon dioxide\",((1/($D$5/100))-1),(VLOOKUP('USER INPUTS'!$B$30,DEFAULTS!$E$8:$F$69,2,FALSE))/10^6*(1/($D$5/100)))))))","v":0},{"$f":"IF(ISERROR(METHANE!$J122*(IF('USER INPUTS'!$B$30=\"Total landfill gas\",(1/($D$5/100)),IF('USER INPUTS'!$B$30=\"Methane\",1,IF('USER INPUTS'!$B$30=\"Carbon dioxide\",((1/($D$5/100))-1),(VLOOKUP('USER INPUTS'!$B$30,DEFAULTS!$E$8:$F$69,2,FALSE))/10^6*(1/($D$5/100))))))),0,METHANE!$J122*(IF('USER INPUTS'!$B$30=\"Total landfill gas\",(1/($D$5/100)),IF('USER INPUTS'!$B$30=\"Methane\",1,IF('USER INPUTS'!$B$30=\"Carbon dioxide\",((1/($D$5/100))-1),(VLOOKUP('USER INPUTS'!$B$30,DEFAULTS!$E$8:$F$69,2,FALSE))/10^6*(1/($D$5/100)))))))","v":0},{"$f":"IF(Q$8=\"(short tons/year)\",(O108*DEFAULTS!$B$55*DEFAULTS!$B$53/DEFAULTS!$B$54),IF(Q$8=\"(ft^3/year)\",(P108*DEFAULTS!$B$57),IF(Q$8=\"(av ft^3/min)\",(P108*DEFAULTS!$B$57/DEFAULTS!$B$58),0)))","v":0}]
[{"$f":"METHANE!I123","v":100},0,0,0,0,{"$f":"IF(ISERROR(METHANE!$J123*DEFAULTS!$B$81*(IF('USER INPUTS'!$B$24=\"Total landfill gas\",(1/($D$5/100)),IF('USER INPUTS'!$B$24=\"Methane\",1,IF('USER INPUTS'!$B$24=\"Carbon dioxide\",((1/($D$5/100))-1),(VLOOKUP('USER INPUTS'!$B$24,DEFAULTS!$E$8:$F$69,2,FALSE))/10^6*(1/($D$5/100))))))),0,METHANE!$J123*DEFAULTS!$B$81*(IF('USER INPUTS'!$B$24=\"Total landfill gas\",(1/($D$5/100)),IF('USER INPUTS'!$B$24=\"Methane\",1,IF('USER INPUTS'!$B$24=\"Carbon dioxide\",((1/($D$5/100))-1),(VLOOKUP('USER INPUTS'!$B$24,DEFAULTS!$E$8:$F$69,2,FALSE))/10^6*(1/($D$5/100)))))))","v":0},{"$f":"IF(ISERROR(METHANE!$J123*(IF('USER INPUTS'!$B$24=\"Total landfill gas\",(1/($D$5/100)),IF('USER INPUTS'!$B$24=\"Methane\",1,IF('USER INPUTS'!$B$24=\"Carbon dioxide\",((1/($D$5/100))-1),(VLOOKUP('USER INPUTS'!$B$24,DEFAULTS!$E$8:$F$69,2,FALSE))/10^6*(1/($D$5/100))))))),0,METHANE!$J123*(IF('USER INPUTS'!$B$24=\"Total landfill gas\",(1/($D$5/100)),IF('USER INPUTS'!$B$24=\"Methane\",1,IF('USER INPUTS'!$B$24=\"Carbon dioxide\",((1/($D$5/100))-1),(VLOOKUP('USER INPUTS'!$B$24,DEFAULTS!$E$8:$F$69,2,FALSE))/10^6*(1/($D$5/100)))))))","v":0},{"$f":"IF(H$8=\"(short tons/year)\",(F109*DEFAULTS!$B$55*DEFAULTS!$B$53/DEFAULTS!$B$54),IF(H$8=\"(ft^3/year)\",(G109*DEFAULTS!$B$57),IF(H$8=\"(av ft^3/min)\",(G109*DEFAULTS!$B$57/DEFAULTS!$B$58),0)))","v":0},{"$f":"IF(ISERROR(METHANE!$J123*DEFAULTS!$B$82*(IF('USER INPUTS'!$B$26=\"Total landfill gas\",(1/($D$5/100)),IF('USER INPUTS'!$B$26=\"Methane\",1,IF('USER INPUTS'!$B$26=\"Carbon dioxide\",((1/($D$5/100))-1),(VLOOKUP('USER INPUTS'!$B$26,DEFAULTS!$E$8:$F$69,2,FALSE))/10^6*(1/($D$5/100))))))),0,METHANE!$J123*DEFAULTS!$B$82*(IF('USER INPUTS'!$B$26=\"Total landfill gas\",(1/($D$5/100)),IF('USER INPUTS'!$B$26=\"Methane\",1,IF('USER INPUTS'!$B$26=\"Carbon dioxide\",((1/($D$5/100))-1),(VLOOKUP('USER INPUTS'!$B$26,DEFAULTS!$E$8:$F$69,2,FALSE))/10^6*(1/($D$5/100)))))))","v":0},{"$f":"IF(ISERROR(METHANE!$J123*(IF('USER INPUTS'!$B$26=\"Total landfill gas\",(1/($D$5/100)),IF('USER INPUTS'!$B$26=\"Methane\",1,IF('USER INPUTS'!$B$26=\"Carbon dioxide\",((1/($D$5/100))-1),(VLOOKUP('USER INPUTS'!$B$26,DEFAULTS!$E$8:$F$69,2,FALSE))/10^6*(1/($D$5/100))))))),0,METHANE!$J123*(IF('USER INPUTS'!$B$26=\"Total landfill gas\",(1/($D$5/100)),IF('USER INPUTS'!$B$26=\"Methane\",1,IF('USER INPUTS'!$B$26=\"Carbon dioxide\",((1/($D$5/100))-1),(VLOOKUP('USER INPUTS'!$B$26,DEFAULTS!$E$8:$F$69,2,FALSE))/10^6*(1/($D$5/100)))))))","v":0},{"$f":"IF(K$8=\"(short tons/year)\",(I109*DEFAULTS!$B$55*DEFAULTS!$B$53/DEFAULTS!$B$54),IF(K$8=\"(ft^3/year)\",(J109*DEFAULTS!$B$57),IF(K$8=\"(av ft^3/min)\",(J109*DEFAULTS!$B$57/DEFAULTS!$B$58),0)))","v":0},{"$f":"IF(ISERROR(METHANE!$J123*DEFAULTS!$B$83*(IF('USER INPUTS'!$B$28=\"Total landfill gas\",(1/($D$5/100)),IF('USER INPUTS'!$B$28=\"Methane\",1,IF('USER INPUTS'!$B$28=\"Carbon dioxide\",((1/($D$5/100))-1),(VLOOKUP('USER INPUTS'!$B$28,DEFAULTS!$E$8:$F$69,2,FALSE))/10^6*(1/($D$5/100))))))),0,METHANE!$J123*DEFAULTS!$B$83*(IF('USER INPUTS'!$B$28=\"Total landfill gas\",(1/($D$5/100)),IF('USER INPUTS'!$B$28=\"Methane\",1,IF('USER INPUTS'!$B$28=\"Carbon dioxide\",((1/($D$5/100))-1),(VLOOKUP('USER INPUTS'!$B$28,DEFAULTS!$E$8:$F$69,2,FALSE))/10^6*(1/($D$5/100)))))))","v":0},{"$f":"IF(ISERROR(METHANE!$J123*(IF('USER INPUTS'!$B$28=\"Total landfill gas\",(1/($D$5/100)),IF('USER INPUTS'!$B$28=\"Methane\",1,IF('USER INPUTS'!$B$28=\"Carbon dioxide\",((1/($D$5/100))-1),(VLOOKUP('USER INPUTS'!$B$28,DEFAULTS!$E$8:$F$69,2,FALSE))/10^6*(1/($D$5/100))))))),0,METHANE!$J123*(IF('USER INPUTS'!$B$28=\"Total landfill gas\",(1/($D$5/100)),IF('USER INPUTS'!$B$28=\"Methane\",1,IF('USER INPUTS'!$B$28=\"Carbon dioxide\",((1/($D$5/100))-1),(VLOOKUP('USER INPUTS'!$B$28,DEFAULTS!$E$8:$F$69,2,FALSE))/10^6*(1/($D$5/100)))))))","v":0},{"$f":"IF(N$8=\"(short tons/year)\",(L109*DEFAULTS!$B$55*DEFAULTS!$B$53/DEFAULTS!$B$54),IF(N$8=\"(ft^3/year)\",(M109*DEFAULTS!$B$57),IF(N$8=\"(av ft^3/min)\",(M109*DEFAULTS!$B$57/DEFAULTS!$B$58),0)))","v":0},{"$f":"IF(ISERROR(METHANE!$J123*DEFAULTS!$B$84*(IF('USER INPUTS'!$B$30=\"Total landfill gas\",(1/($D$5/100)),IF('USER INPUTS'!$B$30=\"Methane\",1,IF('USER INPUTS'!$B$30=\"Carbon dioxide\",((1/($D$5/100))-1),(VLOOKUP('USER INPUTS'!$B$30,DEFAULTS!$E$8:$F$69,2,FALSE))/10^6*(1/($D$5/100))))))),0,METHANE!$J123*DEFAULTS!$B$84*(IF('USER INPUTS'!$B$30=\"Total landfill gas\",(1/($D$5/100)),IF('USER INPUTS'!$B$30=\"Methane\",1,IF('USER INPUTS'!$B$30=\"Carbon dioxide\",((1/($D$5/100))-1),(VLOOKUP('USER INPUTS'!$B$30,DEFAULTS!$E$8:$F$69,2,FALSE))/10^6*(1/($D$5/100)))))))","v":0},{"$f":"IF(ISERROR(METHANE!$J123*(IF('USER INPUTS'!$B$30=\"Total landfill gas\",(1/($D$5/100)),IF('USER INPUTS'!$B$30=\"Methane\",1,IF('USER INPUTS'!$B$30=\"Carbon dioxide\",((1/($D$5/100))-1),(VLOOKUP('USER INPUTS'!$B$30,DEFAULTS!$E$8:$F$69,2,FALSE))/10^6*(1/($D$5/100))))))),0,METHANE!$J123*(IF('USER INPUTS'!$B$30=\"Total landfill gas\",(1/($D$5/100)),IF('USER INPUTS'!$B$30=\"Methane\",1,IF('USER INPUTS'!$B$30=\"Carbon dioxide\",((1/($D$5/100))-1),(VLOOKUP('USER INPUTS'!$B$30,DEFAULTS!$E$8:$F$69,2,FALSE))/10^6*(1/($D$5/100)))))))","v":0},{"$f":"IF(Q$8=\"(short tons/year)\",(O109*DEFAULTS!$B$55*DEFAULTS!$B$53/DEFAULTS!$B$54),IF(Q$8=\"(ft^3/year)\",(P109*DEFAULTS!$B$57),IF(Q$8=\"(av ft^3/min)\",(P109*DEFAULTS!$B$57/DEFAULTS!$B$58),0)))","v":0}]
[{"$f":"METHANE!I124","v":101},0,0,0,0,{"$f":"IF(ISERROR(METHANE!$J124*DEFAULTS!$B$81*(IF('USER INPUTS'!$B$24=\"Total landfill gas\",(1/($D$5/100)),IF('USER INPUTS'!$B$24=\"Methane\",1,IF('USER INPUTS'!$B$24=\"Carbon dioxide\",((1/($D$5/100))-1),(VLOOKUP('USER INPUTS'!$B$24,DEFAULTS!$E$8:$F$69,2,FALSE))/10^6*(1/($D$5/100))))))),0,METHANE!$J124*DEFAULTS!$B$81*(IF('USER INPUTS'!$B$24=\"Total landfill gas\",(1/($D$5/100)),IF('USER INPUTS'!$B$24=\"Methane\",1,IF('USER INPUTS'!$B$24=\"Carbon dioxide\",((1/($D$5/100))-1),(VLOOKUP('USER INPUTS'!$B$24,DEFAULTS!$E$8:$F$69,2,FALSE))/10^6*(1/($D$5/100)))))))","v":0},{"$f":"IF(ISERROR(METHANE!$J124*(IF('USER INPUTS'!$B$24=\"Total landfill gas\",(1/($D$5/100)),IF('USER INPUTS'!$B$24=\"Methane\",1,IF('USER INPUTS'!$B$24=\"Carbon dioxide\",((1/($D$5/100))-1),(VLOOKUP('USER INPUTS'!$B$24,DEFAULTS!$E$8:$F$69,2,FALSE))/10^6*(1/($D$5/100))))))),0,METHANE!$J124*(IF('USER INPUTS'!$B$24=\"Total landfill gas\",(1/($D$5/100)),IF('USER INPUTS'!$B$24=\"Methane\",1,IF('USER INPUTS'!$B$24=\"Carbon dioxide\",((1/($D$5/100))-1),(VLOOKUP('USER INPUTS'!$B$24,DEFAULTS!$E$8:$F$69,2,FALSE))/10^6*(1/($D$5/100)))))))","v":0},{"$f":"IF(H$8=\"(short tons/year)\",(F110*DEFAULTS!$B$55*DEFAULTS!$B$53/DEFAULTS!$B$54),IF(H$8=\"(ft^3/year)\",(G110*DEFAULTS!$B$57),IF(H$8=\"(av ft^3/min)\",(G110*DEFAULTS!$B$57/DEFAULTS!$B$58),0)))","v":0},{"$f":"IF(ISERROR(METHANE!$J124*DEFAULTS!$B$82*(IF('USER INPUTS'!$B$26=\"Total landfill gas\",(1/($D$5/100)),IF('USER INPUTS'!$B$26=\"Methane\",1,IF('USER INPUTS'!$B$26=\"Carbon dioxide\",((1/($D$5/100))-1),(VLOOKUP('USER INPUTS'!$B$26,DEFAULTS!$E$8:$F$69,2,FALSE))/10^6*(1/($D$5/100))))))),0,METHANE!$J124*DEFAULTS!$B$82*(IF('USER INPUTS'!$B$26=\"Total landfill gas\",(1/($D$5/100)),IF('USER INPUTS'!$B$26=\"Methane\",1,IF('USER INPUTS'!$B$26=\"Carbon dioxide\",((1/($D$5/100))-1),(VLOOKUP('USER INPUTS'!$B$26,DEFAULTS!$E$8:$F$69,2,FALSE))/10^6*(1/($D$5/100)))))))","v":0},{"$f":"IF(ISERROR(METHANE!$J124*(IF('USER INPUTS'!$B$26=\"Total landfill gas\",(1/($D$5/100)),IF('USER INPUTS'!$B$26=\"Methane\",1,IF('USER INPUTS'!$B$26=\"Carbon dioxide\",((1/($D$5/100))-1),(VLOOKUP('USER INPUTS'!$B$26,DEFAULTS!$E$8:$F$69,2,FALSE))/10^6*(1/($D$5/100))))))),0,METHANE!$J124*(IF('USER INPUTS'!$B$26=\"Total landfill gas\",(1/($D$5/100)),IF('USER INPUTS'!$B$26=\"Methane\",1,IF('USER INPUTS'!$B$26=\"Carbon dioxide\",((1/($D$5/100))-1),(VLOOKUP('USER INPUTS'!$B$26,DEFAULTS!$E$8:$F$69,2,FALSE))/10^6*(1/($D$5/100)))))))","v":0},{"$f":"IF(K$8=\"(short tons/year)\",(I110*DEFAULTS!$B$55*DEFAULTS!$B$53/DEFAULTS!$B$54),IF(K$8=\"(ft^3/year)\",(J110*DEFAULTS!$B$57),IF(K$8=\"(av ft^3/min)\",(J110*DEFAULTS!$B$57/DEFAULTS!$B$58),0)))","v":0},{"$f":"IF(ISERROR(METHANE!$J124*DEFAULTS!$B$83*(IF('USER INPUTS'!$B$28=\"Total landfill gas\",(1/($D$5/100)),IF('USER INPUTS'!$B$28=\"Methane\",1,IF('USER INPUTS'!$B$28=\"Carbon dioxide\",((1/($D$5/100))-1),(VLOOKUP('USER INPUTS'!$B$28,DEFAULTS!$E$8:$F$69,2,FALSE))/10^6*(1/($D$5/100))))))),0,METHANE!$J124*DEFAULTS!$B$83*(IF('USER INPUTS'!$B$28=\"Total landfill gas\",(1/($D$5/100)),IF('USER INPUTS'!$B$28=\"Methane\",1,IF('USER INPUTS'!$B$28=\"Carbon dioxide\",((1/($D$5/100))-1),(VLOOKUP('USER INPUTS'!$B$28,DEFAULTS!$E$8:$F$69,2,FALSE))/10^6*(1/($D$5/100)))))))","v":0},{"$f":"IF(ISERROR(METHANE!$J124*(IF('USER INPUTS'!$B$28=\"Total landfill gas\",(1/($D$5/100)),IF('USER INPUTS'!$B$28=\"Methane\",1,IF('USER INPUTS'!$B$28=\"Carbon dioxide\",((1/($D$5/100))-1),(VLOOKUP('USER INPUTS'!$B$28,DEFAULTS!$E$8:$F$69,2,FALSE))/10^6*(1/($D$5/100))))))),0,METHANE!$J124*(IF('USER INPUTS'!$B$28=\"Total landfill gas\",(1/($D$5/100)),IF('USER INPUTS'!$B$28=\"Methane\",1,IF('USER INPUTS'!$B$28=\"Carbon dioxide\",((1/($D$5/100))-1),(VLOOKUP('USER INPUTS'!$B$28,DEFAULTS!$E$8:$F$69,2,FALSE))/10^6*(1/($D$5/100)))))))","v":0},{"$f":"IF(N$8=\"(short tons/year)\",(L110*DEFAULTS!$B$55*DEFAULTS!$B$53/DEFAULTS!$B$54),IF(N$8=\"(ft^3/year)\",(M110*DEFAULTS!$B$57),IF(N$8=\"(av ft^3/min)\",(M110*DEFAULTS!$B$57/DEFAULTS!$B$58),0)))","v":0},{"$f":"IF(ISERROR(METHANE!$J124*DEFAULTS!$B$84*(IF('USER INPUTS'!$B$30=\"Total landfill gas\",(1/($D$5/100)),IF('USER INPUTS'!$B$30=\"Methane\",1,IF('USER INPUTS'!$B$30=\"Carbon dioxide\",((1/($D$5/100))-1),(VLOOKUP('USER INPUTS'!$B$30,DEFAULTS!$E$8:$F$69,2,FALSE))/10^6*(1/($D$5/100))))))),0,METHANE!$J124*DEFAULTS!$B$84*(IF('USER INPUTS'!$B$30=\"Total landfill gas\",(1/($D$5/100)),IF('USER INPUTS'!$B$30=\"Methane\",1,IF('USER INPUTS'!$B$30=\"Carbon dioxide\",((1/($D$5/100))-1),(VLOOKUP('USER INPUTS'!$B$30,DEFAULTS!$E$8:$F$69,2,FALSE))/10^6*(1/($D$5/100)))))))","v":0},{"$f":"IF(ISERROR(METHANE!$J124*(IF('USER INPUTS'!$B$30=\"Total landfill gas\",(1/($D$5/100)),IF('USER INPUTS'!$B$30=\"Methane\",1,IF('USER INPUTS'!$B$30=\"Carbon dioxide\",((1/($D$5/100))-1),(VLOOKUP('USER INPUTS'!$B$30,DEFAULTS!$E$8:$F$69,2,FALSE))/10^6*(1/($D$5/100))))))),0,METHANE!$J124*(IF('USER INPUTS'!$B$30=\"Total landfill gas\",(1/($D$5/100)),IF('USER INPUTS'!$B$30=\"Methane\",1,IF('USER INPUTS'!$B$30=\"Carbon dioxide\",((1/($D$5/100))-1),(VLOOKUP('USER INPUTS'!$B$30,DEFAULTS!$E$8:$F$69,2,FALSE))/10^6*(1/($D$5/100)))))))","v":0},{"$f":"IF(Q$8=\"(short tons/year)\",(O110*DEFAULTS!$B$55*DEFAULTS!$B$53/DEFAULTS!$B$54),IF(Q$8=\"(ft^3/year)\",(P110*DEFAULTS!$B$57),IF(Q$8=\"(av ft^3/min)\",(P110*DEFAULTS!$B$57/DEFAULTS!$B$58),0)))","v":0}]
[{"$f":"METHANE!I125","v":102},0,0,0,0,{"$f":"IF(ISERROR(METHANE!$J125*DEFAULTS!$B$81*(IF('USER INPUTS'!$B$24=\"Total landfill gas\",(1/($D$5/100)),IF('USER INPUTS'!$B$24=\"Methane\",1,IF('USER INPUTS'!$B$24=\"Carbon dioxide\",((1/($D$5/100))-1),(VLOOKUP('USER INPUTS'!$B$24,DEFAULTS!$E$8:$F$69,2,FALSE))/10^6*(1/($D$5/100))))))),0,METHANE!$J125*DEFAULTS!$B$81*(IF('USER INPUTS'!$B$24=\"Total landfill gas\",(1/($D$5/100)),IF('USER INPUTS'!$B$24=\"Methane\",1,IF('USER INPUTS'!$B$24=\"Carbon dioxide\",((1/($D$5/100))-1),(VLOOKUP('USER INPUTS'!$B$24,DEFAULTS!$E$8:$F$69,2,FALSE))/10^6*(1/($D$5/100)))))))","v":0},{"$f":"IF(ISERROR(METHANE!$J125*(IF('USER INPUTS'!$B$24=\"Total landfill gas\",(1/($D$5/100)),IF('USER INPUTS'!$B$24=\"Methane\",1,IF('USER INPUTS'!$B$24=\"Carbon dioxide\",((1/($D$5/100))-1),(VLOOKUP('USER INPUTS'!$B$24,DEFAULTS!$E$8:$F$69,2,FALSE))/10^6*(1/($D$5/100))))))),0,METHANE!$J125*(IF('USER INPUTS'!$B$24=\"Total landfill gas\",(1/($D$5/100)),IF('USER INPUTS'!$B$24=\"Methane\",1,IF('USER INPUTS'!$B$24=\"Carbon dioxide\",((1/($D$5/100))-1),(VLOOKUP('USER INPUTS'!$B$24,DEFAULTS!$E$8:$F$69,2,FALSE))/10^6*(1/($D$5/100)))))))","v":0},{"$f":"IF(H$8=\"(short tons/year)\",(F111*DEFAULTS!$B$55*DEFAULTS!$B$53/DEFAULTS!$B$54),IF(H$8=\"(ft^3/year)\",(G111*DEFAULTS!$B$57),IF(H$8=\"(av ft^3/min)\",(G111*DEFAULTS!$B$57/DEFAULTS!$B$58),0)))","v":0},{"$f":"IF(ISERROR(METHANE!$J125*DEFAULTS!$B$82*(IF('USER INPUTS'!$B$26=\"Total landfill gas\",(1/($D$5/100)),IF('USER INPUTS'!$B$26=\"Methane\",1,IF('USER INPUTS'!$B$26=\"Carbon dioxide\",((1/($D$5/100))-1),(VLOOKUP('USER INPUTS'!$B$26,DEFAULTS!$E$8:$F$69,2,FALSE))/10^6*(1/($D$5/100))))))),0,METHANE!$J125*DEFAULTS!$B$82*(IF('USER INPUTS'!$B$26=\"Total landfill gas\",(1/($D$5/100)),IF('USER INPUTS'!$B$26=\"Methane\",1,IF('USER INPUTS'!$B$26=\"Carbon dioxide\",((1/($D$5/100))-1),(VLOOKUP('USER INPUTS'!$B$26,DEFAULTS!$E$8:$F$69,2,FALSE))/10^6*(1/($D$5/100)))))))","v":0},{"$f":"IF(ISERROR(METHANE!$J125*(IF('USER INPUTS'!$B$26=\"Total landfill gas\",(1/($D$5/100)),IF('USER INPUTS'!$B$26=\"Methane\",1,IF('USER INPUTS'!$B$26=\"Carbon dioxide\",((1/($D$5/100))-1),(VLOOKUP('USER INPUTS'!$B$26,DEFAULTS!$E$8:$F$69,2,FALSE))/10^6*(1/($D$5/100))))))),0,METHANE!$J125*(IF('USER INPUTS'!$B$26=\"Total landfill gas\",(1/($D$5/100)),IF('USER INPUTS'!$B$26=\"Methane\",1,IF('USER INPUTS'!$B$26=\"Carbon dioxide\",((1/($D$5/100))-1),(VLOOKUP('USER INPUTS'!$B$26,DEFAULTS!$E$8:$F$69,2,FALSE))/10^6*(1/($D$5/100)))))))","v":0},{"$f":"IF(K$8=\"(short tons/year)\",(I111*DEFAULTS!$B$55*DEFAULTS!$B$53/DEFAULTS!$B$54),IF(K$8=\"(ft^3/year)\",(J111*DEFAULTS!$B$57),IF(K$8=\"(av ft^3/min)\",(J111*DEFAULTS!$B$57/DEFAULTS!$B$58),0)))","v":0},{"$f":"IF(ISERROR(METHANE!$J125*DEFAULTS!$B$83*(IF('USER INPUTS'!$B$28=\"Total landfill gas\",(1/($D$5/100)),IF('USER INPUTS'!$B$28=\"Methane\",1,IF('USER INPUTS'!$B$28=\"Carbon dioxide\",((1/($D$5/100))-1),(VLOOKUP('USER INPUTS'!$B$28,DEFAULTS!$E$8:$F$69,2,FALSE))/10^6*(1/($D$5/100))))))),0,METHANE!$J125*DEFAULTS!$B$83*(IF('USER INPUTS'!$B$28=\"Total landfill gas\",(1/($D$5/100)),IF('USER INPUTS'!$B$28=\"Methane\",1,IF('USER INPUTS'!$B$28=\"Carbon dioxide\",((1/($D$5/100))-1),(VLOOKUP('USER INPUTS'!$B$28,DEFAULTS!$E$8:$F$69,2,FALSE))/10^6*(1/($D$5/100)))))))","v":0},{"$f":"IF(ISERROR(METHANE!$J125*(IF('USER INPUTS'!$B$28=\"Total landfill gas\",(1/($D$5/100)),IF('USER INPUTS'!$B$28=\"Methane\",1,IF('USER INPUTS'!$B$28=\"Carbon dioxide\",((1/($D$5/100))-1),(VLOOKUP('USER INPUTS'!$B$28,DEFAULTS!$E$8:$F$69,2,FALSE))/10^6*(1/($D$5/100))))))),0,METHANE!$J125*(IF('USER INPUTS'!$B$28=\"Total landfill gas\",(1/($D$5/100)),IF('USER INPUTS'!$B$28=\"Methane\",1,IF('USER INPUTS'!$B$28=\"Carbon dioxide\",((1/($D$5/100))-1),(VLOOKUP('USER INPUTS'!$B$28,DEFAULTS!$E$8:$F$69,2,FALSE))/10^6*(1/($D$5/100)))))))","v":0},{"$f":"IF(N$8=\"(short tons/year)\",(L111*DEFAULTS!$B$55*DEFAULTS!$B$53/DEFAULTS!$B$54),IF(N$8=\"(ft^3/year)\",(M111*DEFAULTS!$B$57),IF(N$8=\"(av ft^3/min)\",(M111*DEFAULTS!$B$57/DEFAULTS!$B$58),0)))","v":0},{"$f":"IF(ISERROR(METHANE!$J125*DEFAULTS!$B$84*(IF('USER INPUTS'!$B$30=\"Total landfill gas\",(1/($D$5/100)),IF('USER INPUTS'!$B$30=\"Methane\",1,IF('USER INPUTS'!$B$30=\"Carbon dioxide\",((1/($D$5/100))-1),(VLOOKUP('USER INPUTS'!$B$30,DEFAULTS!$E$8:$F$69,2,FALSE))/10^6*(1/($D$5/100))))))),0,METHANE!$J125*DEFAULTS!$B$84*(IF('USER INPUTS'!$B$30=\"Total landfill gas\",(1/($D$5/100)),IF('USER INPUTS'!$B$30=\"Methane\",1,IF('USER INPUTS'!$B$30=\"Carbon dioxide\",((1/($D$5/100))-1),(VLOOKUP('USER INPUTS'!$B$30,DEFAULTS!$E$8:$F$69,2,FALSE))/10^6*(1/($D$5/100)))))))","v":0},{"$f":"IF(ISERROR(METHANE!$J125*(IF('USER INPUTS'!$B$30=\"Total landfill gas\",(1/($D$5/100)),IF('USER INPUTS'!$B$30=\"Methane\",1,IF('USER INPUTS'!$B$30=\"Carbon dioxide\",((1/($D$5/100))-1),(VLOOKUP('USER INPUTS'!$B$30,DEFAULTS!$E$8:$F$69,2,FALSE))/10^6*(1/($D$5/100))))))),0,METHANE!$J125*(IF('USER INPUTS'!$B$30=\"Total landfill gas\",(1/($D$5/100)),IF('USER INPUTS'!$B$30=\"Methane\",1,IF('USER INPUTS'!$B$30=\"Carbon dioxide\",((1/($D$5/100))-1),(VLOOKUP('USER INPUTS'!$B$30,DEFAULTS!$E$8:$F$69,2,FALSE))/10^6*(1/($D$5/100)))))))","v":0},{"$f":"IF(Q$8=\"(short tons/year)\",(O111*DEFAULTS!$B$55*DEFAULTS!$B$53/DEFAULTS!$B$54),IF(Q$8=\"(ft^3/year)\",(P111*DEFAULTS!$B$57),IF(Q$8=\"(av ft^3/min)\",(P111*DEFAULTS!$B$57/DEFAULTS!$B$58),0)))","v":0}]
[{"$f":"METHANE!I126","v":103},0,0,0,0,{"$f":"IF(ISERROR(METHANE!$J126*DEFAULTS!$B$81*(IF('USER INPUTS'!$B$24=\"Total landfill gas\",(1/($D$5/100)),IF('USER INPUTS'!$B$24=\"Methane\",1,IF('USER INPUTS'!$B$24=\"Carbon dioxide\",((1/($D$5/100))-1),(VLOOKUP('USER INPUTS'!$B$24,DEFAULTS!$E$8:$F$69,2,FALSE))/10^6*(1/($D$5/100))))))),0,METHANE!$J126*DEFAULTS!$B$81*(IF('USER INPUTS'!$B$24=\"Total landfill gas\",(1/($D$5/100)),IF('USER INPUTS'!$B$24=\"Methane\",1,IF('USER INPUTS'!$B$24=\"Carbon dioxide\",((1/($D$5/100))-1),(VLOOKUP('USER INPUTS'!$B$24,DEFAULTS!$E$8:$F$69,2,FALSE))/10^6*(1/($D$5/100)))))))","v":0},{"$f":"IF(ISERROR(METHANE!$J126*(IF('USER INPUTS'!$B$24=\"Total landfill gas\",(1/($D$5/100)),IF('USER INPUTS'!$B$24=\"Methane\",1,IF('USER INPUTS'!$B$24=\"Carbon dioxide\",((1/($D$5/100))-1),(VLOOKUP('USER INPUTS'!$B$24,DEFAULTS!$E$8:$F$69,2,FALSE))/10^6*(1/($D$5/100))))))),0,METHANE!$J126*(IF('USER INPUTS'!$B$24=\"Total landfill gas\",(1/($D$5/100)),IF('USER INPUTS'!$B$24=\"Methane\",1,IF('USER INPUTS'!$B$24=\"Carbon dioxide\",((1/($D$5/100))-1),(VLOOKUP('USER INPUTS'!$B$24,DEFAULTS!$E$8:$F$69,2,FALSE))/10^6*(1/($D$5/100)))))))","v":0},{"$f":"IF(H$8=\"(short tons/year)\",(F112*DEFAULTS!$B$55*DEFAULTS!$B$53/DEFAULTS!$B$54),IF(H$8=\"(ft^3/year)\",(G112*DEFAULTS!$B$57),IF(H$8=\"(av ft^3/min)\",(G112*DEFAULTS!$B$57/DEFAULTS!$B$58),0)))","v":0},{"$f":"IF(ISERROR(METHANE!$J126*DEFAULTS!$B$82*(IF('USER INPUTS'!$B$26=\"Total landfill gas\",(1/($D$5/100)),IF('USER INPUTS'!$B$26=\"Methane\",1,IF('USER INPUTS'!$B$26=\"Carbon dioxide\",((1/($D$5/100))-1),(VLOOKUP('USER INPUTS'!$B$26,DEFAULTS!$E$8:$F$69,2,FALSE))/10^6*(1/($D$5/100))))))),0,METHANE!$J126*DEFAULTS!$B$82*(IF('USER INPUTS'!$B$26=\"Total landfill gas\",(1/($D$5/100)),IF('USER INPUTS'!$B$26=\"Methane\",1,IF('USER INPUTS'!$B$26=\"Carbon dioxide\",((1/($D$5/100))-1),(VLOOKUP('USER INPUTS'!$B$26,DEFAULTS!$E$8:$F$69,2,FALSE))/10^6*(1/($D$5/100)))))))","v":0},{"$f":"IF(ISERROR(METHANE!$J126*(IF('USER INPUTS'!$B$26=\"Total landfill gas\",(1/($D$5/100)),IF('USER INPUTS'!$B$26=\"Methane\",1,IF('USER INPUTS'!$B$26=\"Carbon dioxide\",((1/($D$5/100))-1),(VLOOKUP('USER INPUTS'!$B$26,DEFAULTS!$E$8:$F$69,2,FALSE))/10^6*(1/($D$5/100))))))),0,METHANE!$J126*(IF('USER INPUTS'!$B$26=\"Total landfill gas\",(1/($D$5/100)),IF('USER INPUTS'!$B$26=\"Methane\",1,IF('USER INPUTS'!$B$26=\"Carbon dioxide\",((1/($D$5/100))-1),(VLOOKUP('USER INPUTS'!$B$26,DEFAULTS!$E$8:$F$69,2,FALSE))/10^6*(1/($D$5/100)))))))","v":0},{"$f":"IF(K$8=\"(short tons/year)\",(I112*DEFAULTS!$B$55*DEFAULTS!$B$53/DEFAULTS!$B$54),IF(K$8=\"(ft^3/year)\",(J112*DEFAULTS!$B$57),IF(K$8=\"(av ft^3/min)\",(J112*DEFAULTS!$B$57/DEFAULTS!$B$58),0)))","v":0},{"$f":"IF(ISERROR(METHANE!$J126*DEFAULTS!$B$83*(IF('USER INPUTS'!$B$28=\"Total landfill gas\",(1/($D$5/100)),IF('USER INPUTS'!$B$28=\"Methane\",1,IF('USER INPUTS'!$B$28=\"Carbon dioxide\",((1/($D$5/100))-1),(VLOOKUP('USER INPUTS'!$B$28,DEFAULTS!$E$8:$F$69,2,FALSE))/10^6*(1/($D$5/100))))))),0,METHANE!$J126*DEFAULTS!$B$83*(IF('USER INPUTS'!$B$28=\"Total landfill gas\",(1/($D$5/100)),IF('USER INPUTS'!$B$28=\"Methane\",1,IF('USER INPUTS'!$B$28=\"Carbon dioxide\",((1/($D$5/100))-1),(VLOOKUP('USER INPUTS'!$B$28,DEFAULTS!$E$8:$F$69,2,FALSE))/10^6*(1/($D$5/100)))))))","v":0},{"$f":"IF(ISERROR(METHANE!$J126*(IF('USER INPUTS'!$B$28=\"Total landfill gas\",(1/($D$5/100)),IF('USER INPUTS'!$B$28=\"Methane\",1,IF('USER INPUTS'!$B$28=\"Carbon dioxide\",((1/($D$5/100))-1),(VLOOKUP('USER INPUTS'!$B$28,DEFAULTS!$E$8:$F$69,2,FALSE))/10^6*(1/($D$5/100))))))),0,METHANE!$J126*(IF('USER INPUTS'!$B$28=\"Total landfill gas\",(1/($D$5/100)),IF('USER INPUTS'!$B$28=\"Methane\",1,IF('USER INPUTS'!$B$28=\"Carbon dioxide\",((1/($D$5/100))-1),(VLOOKUP('USER INPUTS'!$B$28,DEFAULTS!$E$8:$F$69,2,FALSE))/10^6*(1/($D$5/100)))))))","v":0},{"$f":"IF(N$8=\"(short tons/year)\",(L112*DEFAULTS!$B$55*DEFAULTS!$B$53/DEFAULTS!$B$54),IF(N$8=\"(ft^3/year)\",(M112*DEFAULTS!$B$57),IF(N$8=\"(av ft^3/min)\",(M112*DEFAULTS!$B$57/DEFAULTS!$B$58),0)))","v":0},{"$f":"IF(ISERROR(METHANE!$J126*DEFAULTS!$B$84*(IF('USER INPUTS'!$B$30=\"Total landfill gas\",(1/($D$5/100)),IF('USER INPUTS'!$B$30=\"Methane\",1,IF('USER INPUTS'!$B$30=\"Carbon dioxide\",((1/($D$5/100))-1),(VLOOKUP('USER INPUTS'!$B$30,DEFAULTS!$E$8:$F$69,2,FALSE))/10^6*(1/($D$5/100))))))),0,METHANE!$J126*DEFAULTS!$B$84*(IF('USER INPUTS'!$B$30=\"Total landfill gas\",(1/($D$5/100)),IF('USER INPUTS'!$B$30=\"Methane\",1,IF('USER INPUTS'!$B$30=\"Carbon dioxide\",((1/($D$5/100))-1),(VLOOKUP('USER INPUTS'!$B$30,DEFAULTS!$E$8:$F$69,2,FALSE))/10^6*(1/($D$5/100)))))))","v":0},{"$f":"IF(ISERROR(METHANE!$J126*(IF('USER INPUTS'!$B$30=\"Total landfill gas\",(1/($D$5/100)),IF('USER INPUTS'!$B$30=\"Methane\",1,IF('USER INPUTS'!$B$30=\"Carbon dioxide\",((1/($D$5/100))-1),(VLOOKUP('USER INPUTS'!$B$30,DEFAULTS!$E$8:$F$69,2,FALSE))/10^6*(1/($D$5/100))))))),0,METHANE!$J126*(IF('USER INPUTS'!$B$30=\"Total landfill gas\",(1/($D$5/100)),IF('USER INPUTS'!$B$30=\"Methane\",1,IF('USER INPUTS'!$B$30=\"Carbon dioxide\",((1/($D$5/100))-1),(VLOOKUP('USER INPUTS'!$B$30,DEFAULTS!$E$8:$F$69,2,FALSE))/10^6*(1/($D$5/100)))))))","v":0},{"$f":"IF(Q$8=\"(short tons/year)\",(O112*DEFAULTS!$B$55*DEFAULTS!$B$53/DEFAULTS!$B$54),IF(Q$8=\"(ft^3/year)\",(P112*DEFAULTS!$B$57),IF(Q$8=\"(av ft^3/min)\",(P112*DEFAULTS!$B$57/DEFAULTS!$B$58),0)))","v":0}]
[{"$f":"METHANE!I127","v":104},0,0,0,0,{"$f":"IF(ISERROR(METHANE!$J127*DEFAULTS!$B$81*(IF('USER INPUTS'!$B$24=\"Total landfill gas\",(1/($D$5/100)),IF('USER INPUTS'!$B$24=\"Methane\",1,IF('USER INPUTS'!$B$24=\"Carbon dioxide\",((1/($D$5/100))-1),(VLOOKUP('USER INPUTS'!$B$24,DEFAULTS!$E$8:$F$69,2,FALSE))/10^6*(1/($D$5/100))))))),0,METHANE!$J127*DEFAULTS!$B$81*(IF('USER INPUTS'!$B$24=\"Total landfill gas\",(1/($D$5/100)),IF('USER INPUTS'!$B$24=\"Methane\",1,IF('USER INPUTS'!$B$24=\"Carbon dioxide\",((1/($D$5/100))-1),(VLOOKUP('USER INPUTS'!$B$24,DEFAULTS!$E$8:$F$69,2,FALSE))/10^6*(1/($D$5/100)))))))","v":0},{"$f":"IF(ISERROR(METHANE!$J127*(IF('USER INPUTS'!$B$24=\"Total landfill gas\",(1/($D$5/100)),IF('USER INPUTS'!$B$24=\"Methane\",1,IF('USER INPUTS'!$B$24=\"Carbon dioxide\",((1/($D$5/100))-1),(VLOOKUP('USER INPUTS'!$B$24,DEFAULTS!$E$8:$F$69,2,FALSE))/10^6*(1/($D$5/100))))))),0,METHANE!$J127*(IF('USER INPUTS'!$B$24=\"Total landfill gas\",(1/($D$5/100)),IF('USER INPUTS'!$B$24=\"Methane\",1,IF('USER INPUTS'!$B$24=\"Carbon dioxide\",((1/($D$5/100))-1),(VLOOKUP('USER INPUTS'!$B$24,DEFAULTS!$E$8:$F$69,2,FALSE))/10^6*(1/($D$5/100)))))))","v":0},{"$f":"IF(H$8=\"(short tons/year)\",(F113*DEFAULTS!$B$55*DEFAULTS!$B$53/DEFAULTS!$B$54),IF(H$8=\"(ft^3/year)\",(G113*DEFAULTS!$B$57),IF(H$8=\"(av ft^3/min)\",(G113*DEFAULTS!$B$57/DEFAULTS!$B$58),0)))","v":0},{"$f":"IF(ISERROR(METHANE!$J127*DEFAULTS!$B$82*(IF('USER INPUTS'!$B$26=\"Total landfill gas\",(1/($D$5/100)),IF('USER INPUTS'!$B$26=\"Methane\",1,IF('USER INPUTS'!$B$26=\"Carbon dioxide\",((1/($D$5/100))-1),(VLOOKUP('USER INPUTS'!$B$26,DEFAULTS!$E$8:$F$69,2,FALSE))/10^6*(1/($D$5/100))))))),0,METHANE!$J127*DEFAULTS!$B$82*(IF('USER INPUTS'!$B$26=\"Total landfill gas\",(1/($D$5/100)),IF('USER INPUTS'!$B$26=\"Methane\",1,IF('USER INPUTS'!$B$26=\"Carbon dioxide\",((1/($D$5/100))-1),(VLOOKUP('USER INPUTS'!$B$26,DEFAULTS!$E$8:$F$69,2,FALSE))/10^6*(1/($D$5/100)))))))","v":0},{"$f":"IF(ISERROR(METHANE!$J127*(IF('USER INPUTS'!$B$26=\"Total landfill gas\",(1/($D$5/100)),IF('USER INPUTS'!$B$26=\"Methane\",1,IF('USER INPUTS'!$B$26=\"Carbon dioxide\",((1/($D$5/100))-1),(VLOOKUP('USER INPUTS'!$B$26,DEFAULTS!$E$8:$F$69,2,FALSE))/10^6*(1/($D$5/100))))))),0,METHANE!$J127*(IF('USER INPUTS'!$B$26=\"Total landfill gas\",(1/($D$5/100)),IF('USER INPUTS'!$B$26=\"Methane\",1,IF('USER INPUTS'!$B$26=\"Carbon dioxide\",((1/($D$5/100))-1),(VLOOKUP('USER INPUTS'!$B$26,DEFAULTS!$E$8:$F$69,2,FALSE))/10^6*(1/($D$5/100)))))))","v":0},{"$f":"IF(K$8=\"(short tons/year)\",(I113*DEFAULTS!$B$55*DEFAULTS!$B$53/DEFAULTS!$B$54),IF(K$8=\"(ft^3/year)\",(J113*DEFAULTS!$B$57),IF(K$8=\"(av ft^3/min)\",(J113*DEFAULTS!$B$57/DEFAULTS!$B$58),0)))","v":0},{"$f":"IF(ISERROR(METHANE!$J127*DEFAULTS!$B$83*(IF('USER INPUTS'!$B$28=\"Total landfill gas\",(1/($D$5/100)),IF('USER INPUTS'!$B$28=\"Methane\",1,IF('USER INPUTS'!$B$28=\"Carbon dioxide\",((1/($D$5/100))-1),(VLOOKUP('USER INPUTS'!$B$28,DEFAULTS!$E$8:$F$69,2,FALSE))/10^6*(1/($D$5/100))))))),0,METHANE!$J127*DEFAULTS!$B$83*(IF('USER INPUTS'!$B$28=\"Total landfill gas\",(1/($D$5/100)),IF('USER INPUTS'!$B$28=\"Methane\",1,IF('USER INPUTS'!$B$28=\"Carbon dioxide\",((1/($D$5/100))-1),(VLOOKUP('USER INPUTS'!$B$28,DEFAULTS!$E$8:$F$69,2,FALSE))/10^6*(1/($D$5/100)))))))","v":0},{"$f":"IF(ISERROR(METHANE!$J127*(IF('USER INPUTS'!$B$28=\"Total landfill gas\",(1/($D$5/100)),IF('USER INPUTS'!$B$28=\"Methane\",1,IF('USER INPUTS'!$B$28=\"Carbon dioxide\",((1/($D$5/100))-1),(VLOOKUP('USER INPUTS'!$B$28,DEFAULTS!$E$8:$F$69,2,FALSE))/10^6*(1/($D$5/100))))))),0,METHANE!$J127*(IF('USER INPUTS'!$B$28=\"Total landfill gas\",(1/($D$5/100)),IF('USER INPUTS'!$B$28=\"Methane\",1,IF('USER INPUTS'!$B$28=\"Carbon dioxide\",((1/($D$5/100))-1),(VLOOKUP('USER INPUTS'!$B$28,DEFAULTS!$E$8:$F$69,2,FALSE))/10^6*(1/($D$5/100)))))))","v":0},{"$f":"IF(N$8=\"(short tons/year)\",(L113*DEFAULTS!$B$55*DEFAULTS!$B$53/DEFAULTS!$B$54),IF(N$8=\"(ft^3/year)\",(M113*DEFAULTS!$B$57),IF(N$8=\"(av ft^3/min)\",(M113*DEFAULTS!$B$57/DEFAULTS!$B$58),0)))","v":0},{"$f":"IF(ISERROR(METHANE!$J127*DEFAULTS!$B$84*(IF('USER INPUTS'!$B$30=\"Total landfill gas\",(1/($D$5/100)),IF('USER INPUTS'!$B$30=\"Methane\",1,IF('USER INPUTS'!$B$30=\"Carbon dioxide\",((1/($D$5/100))-1),(VLOOKUP('USER INPUTS'!$B$30,DEFAULTS!$E$8:$F$69,2,FALSE))/10^6*(1/($D$5/100))))))),0,METHANE!$J127*DEFAULTS!$B$84*(IF('USER INPUTS'!$B$30=\"Total landfill gas\",(1/($D$5/100)),IF('USER INPUTS'!$B$30=\"Methane\",1,IF('USER INPUTS'!$B$30=\"Carbon dioxide\",((1/($D$5/100))-1),(VLOOKUP('USER INPUTS'!$B$30,DEFAULTS!$E$8:$F$69,2,FALSE))/10^6*(1/($D$5/100)))))))","v":0},{"$f":"IF(ISERROR(METHANE!$J127*(IF('USER INPUTS'!$B$30=\"Total landfill gas\",(1/($D$5/100)),IF('USER INPUTS'!$B$30=\"Methane\",1,IF('USER INPUTS'!$B$30=\"Carbon dioxide\",((1/($D$5/100))-1),(VLOOKUP('USER INPUTS'!$B$30,DEFAULTS!$E$8:$F$69,2,FALSE))/10^6*(1/($D$5/100))))))),0,METHANE!$J127*(IF('USER INPUTS'!$B$30=\"Total landfill gas\",(1/($D$5/100)),IF('USER INPUTS'!$B$30=\"Methane\",1,IF('USER INPUTS'!$B$30=\"Carbon dioxide\",((1/($D$5/100))-1),(VLOOKUP('USER INPUTS'!$B$30,DEFAULTS!$E$8:$F$69,2,FALSE))/10^6*(1/($D$5/100)))))))","v":0},{"$f":"IF(Q$8=\"(short tons/year)\",(O113*DEFAULTS!$B$55*DEFAULTS!$B$53/DEFAULTS!$B$54),IF(Q$8=\"(ft^3/year)\",(P113*DEFAULTS!$B$57),IF(Q$8=\"(av ft^3/min)\",(P113*DEFAULTS!$B$57/DEFAULTS!$B$58),0)))","v":0}]
[{"$f":"METHANE!I128","v":105},0,0,0,0,{"$f":"IF(ISERROR(METHANE!$J128*DEFAULTS!$B$81*(IF('USER INPUTS'!$B$24=\"Total landfill gas\",(1/($D$5/100)),IF('USER INPUTS'!$B$24=\"Methane\",1,IF('USER INPUTS'!$B$24=\"Carbon dioxide\",((1/($D$5/100))-1),(VLOOKUP('USER INPUTS'!$B$24,DEFAULTS!$E$8:$F$69,2,FALSE))/10^6*(1/($D$5/100))))))),0,METHANE!$J128*DEFAULTS!$B$81*(IF('USER INPUTS'!$B$24=\"Total landfill gas\",(1/($D$5/100)),IF('USER INPUTS'!$B$24=\"Methane\",1,IF('USER INPUTS'!$B$24=\"Carbon dioxide\",((1/($D$5/100))-1),(VLOOKUP('USER INPUTS'!$B$24,DEFAULTS!$E$8:$F$69,2,FALSE))/10^6*(1/($D$5/100)))))))","v":0},{"$f":"IF(ISERROR(METHANE!$J128*(IF('USER INPUTS'!$B$24=\"Total landfill gas\",(1/($D$5/100)),IF('USER INPUTS'!$B$24=\"Methane\",1,IF('USER INPUTS'!$B$24=\"Carbon dioxide\",((1/($D$5/100))-1),(VLOOKUP('USER INPUTS'!$B$24,DEFAULTS!$E$8:$F$69,2,FALSE))/10^6*(1/($D$5/100))))))),0,METHANE!$J128*(IF('USER INPUTS'!$B$24=\"Total landfill gas\",(1/($D$5/100)),IF('USER INPUTS'!$B$24=\"Methane\",1,IF('USER INPUTS'!$B$24=\"Carbon dioxide\",((1/($D$5/100))-1),(VLOOKUP('USER INPUTS'!$B$24,DEFAULTS!$E$8:$F$69,2,FALSE))/10^6*(1/($D$5/100)))))))","v":0},{"$f":"IF(H$8=\"(short tons/year)\",(F114*DEFAULTS!$B$55*DEFAULTS!$B$53/DEFAULTS!$B$54),IF(H$8=\"(ft^3/year)\",(G114*DEFAULTS!$B$57),IF(H$8=\"(av ft^3/min)\",(G114*DEFAULTS!$B$57/DEFAULTS!$B$58),0)))","v":0},{"$f":"IF(ISERROR(METHANE!$J128*DEFAULTS!$B$82*(IF('USER INPUTS'!$B$26=\"Total landfill gas\",(1/($D$5/100)),IF('USER INPUTS'!$B$26=\"Methane\",1,IF('USER INPUTS'!$B$26=\"Carbon dioxide\",((1/($D$5/100))-1),(VLOOKUP('USER INPUTS'!$B$26,DEFAULTS!$E$8:$F$69,2,FALSE))/10^6*(1/($D$5/100))))))),0,METHANE!$J128*DEFAULTS!$B$82*(IF('USER INPUTS'!$B$26=\"Total landfill gas\",(1/($D$5/100)),IF('USER INPUTS'!$B$26=\"Methane\",1,IF('USER INPUTS'!$B$26=\"Carbon dioxide\",((1/($D$5/100))-1),(VLOOKUP('USER INPUTS'!$B$26,DEFAULTS!$E$8:$F$69,2,FALSE))/10^6*(1/($D$5/100)))))))","v":0},{"$f":"IF(ISERROR(METHANE!$J128*(IF('USER INPUTS'!$B$26=\"Total landfill gas\",(1/($D$5/100)),IF('USER INPUTS'!$B$26=\"Methane\",1,IF('USER INPUTS'!$B$26=\"Carbon dioxide\",((1/($D$5/100))-1),(VLOOKUP('USER INPUTS'!$B$26,DEFAULTS!$E$8:$F$69,2,FALSE))/10^6*(1/($D$5/100))))))),0,METHANE!$J128*(IF('USER INPUTS'!$B$26=\"Total landfill gas\",(1/($D$5/100)),IF('USER INPUTS'!$B$26=\"Methane\",1,IF('USER INPUTS'!$B$26=\"Carbon dioxide\",((1/($D$5/100))-1),(VLOOKUP('USER INPUTS'!$B$26,DEFAULTS!$E$8:$F$69,2,FALSE))/10^6*(1/($D$5/100)))))))","v":0},{"$f":"IF(K$8=\"(short tons/year)\",(I114*DEFAULTS!$B$55*DEFAULTS!$B$53/DEFAULTS!$B$54),IF(K$8=\"(ft^3/year)\",(J114*DEFAULTS!$B$57),IF(K$8=\"(av ft^3/min)\",(J114*DEFAULTS!$B$57/DEFAULTS!$B$58),0)))","v":0},{"$f":"IF(ISERROR(METHANE!$J128*DEFAULTS!$B$83*(IF('USER INPUTS'!$B$28=\"Total landfill gas\",(1/($D$5/100)),IF('USER INPUTS'!$B$28=\"Methane\",1,IF('USER INPUTS'!$B$28=\"Carbon dioxide\",((1/($D$5/100))-1),(VLOOKUP('USER INPUTS'!$B$28,DEFAULTS!$E$8:$F$69,2,FALSE))/10^6*(1/($D$5/100))))))),0,METHANE!$J128*DEFAULTS!$B$83*(IF('USER INPUTS'!$B$28=\"Total landfill gas\",(1/($D$5/100)),IF('USER INPUTS'!$B$28=\"Methane\",1,IF('USER INPUTS'!$B$28=\"Carbon dioxide\",((1/($D$5/100))-1),(VLOOKUP('USER INPUTS'!$B$28,DEFAULTS!$E$8:$F$69,2,FALSE))/10^6*(1/($D$5/100)))))))","v":0},{"$f":"IF(ISERROR(METHANE!$J128*(IF('USER INPUTS'!$B$28=\"Total landfill gas\",(1/($D$5/100)),IF('USER INPUTS'!$B$28=\"Methane\",1,IF('USER INPUTS'!$B$28=\"Carbon dioxide\",((1/($D$5/100))-1),(VLOOKUP('USER INPUTS'!$B$28,DEFAULTS!$E$8:$F$69,2,FALSE))/10^6*(1/($D$5/100))))))),0,METHANE!$J128*(IF('USER INPUTS'!$B$28=\"Total landfill gas\",(1/($D$5/100)),IF('USER INPUTS'!$B$28=\"Methane\",1,IF('USER INPUTS'!$B$28=\"Carbon dioxide\",((1/($D$5/100))-1),(VLOOKUP('USER INPUTS'!$B$28,DEFAULTS!$E$8:$F$69,2,FALSE))/10^6*(1/($D$5/100)))))))","v":0},{"$f":"IF(N$8=\"(short tons/year)\",(L114*DEFAULTS!$B$55*DEFAULTS!$B$53/DEFAULTS!$B$54),IF(N$8=\"(ft^3/year)\",(M114*DEFAULTS!$B$57),IF(N$8=\"(av ft^3/min)\",(M114*DEFAULTS!$B$57/DEFAULTS!$B$58),0)))","v":0},{"$f":"IF(ISERROR(METHANE!$J128*DEFAULTS!$B$84*(IF('USER INPUTS'!$B$30=\"Total landfill gas\",(1/($D$5/100)),IF('USER INPUTS'!$B$30=\"Methane\",1,IF('USER INPUTS'!$B$30=\"Carbon dioxide\",((1/($D$5/100))-1),(VLOOKUP('USER INPUTS'!$B$30,DEFAULTS!$E$8:$F$69,2,FALSE))/10^6*(1/($D$5/100))))))),0,METHANE!$J128*DEFAULTS!$B$84*(IF('USER INPUTS'!$B$30=\"Total landfill gas\",(1/($D$5/100)),IF('USER INPUTS'!$B$30=\"Methane\",1,IF('USER INPUTS'!$B$30=\"Carbon dioxide\",((1/($D$5/100))-1),(VLOOKUP('USER INPUTS'!$B$30,DEFAULTS!$E$8:$F$69,2,FALSE))/10^6*(1/($D$5/100)))))))","v":0},{"$f":"IF(ISERROR(METHANE!$J128*(IF('USER INPUTS'!$B$30=\"Total landfill gas\",(1/($D$5/100)),IF('USER INPUTS'!$B$30=\"Methane\",1,IF('USER INPUTS'!$B$30=\"Carbon dioxide\",((1/($D$5/100))-1),(VLOOKUP('USER INPUTS'!$B$30,DEFAULTS!$E$8:$F$69,2,FALSE))/10^6*(1/($D$5/100))))))),0,METHANE!$J128*(IF('USER INPUTS'!$B$30=\"Total landfill gas\",(1/($D$5/100)),IF('USER INPUTS'!$B$30=\"Methane\",1,IF('USER INPUTS'!$B$30=\"Carbon dioxide\",((1/($D$5/100))-1),(VLOOKUP('USER INPUTS'!$B$30,DEFAULTS!$E$8:$F$69,2,FALSE))/10^6*(1/($D$5/100)))))))","v":0},{"$f":"IF(Q$8=\"(short tons/year)\",(O114*DEFAULTS!$B$55*DEFAULTS!$B$53/DEFAULTS!$B$54),IF(Q$8=\"(ft^3/year)\",(P114*DEFAULTS!$B$57),IF(Q$8=\"(av ft^3/min)\",(P114*DEFAULTS!$B$57/DEFAULTS!$B$58),0)))","v":0}]
[{"$f":"METHANE!I129","v":106},0,0,0,0,{"$f":"IF(ISERROR(METHANE!$J129*DEFAULTS!$B$81*(IF('USER INPUTS'!$B$24=\"Total landfill gas\",(1/($D$5/100)),IF('USER INPUTS'!$B$24=\"Methane\",1,IF('USER INPUTS'!$B$24=\"Carbon dioxide\",((1/($D$5/100))-1),(VLOOKUP('USER INPUTS'!$B$24,DEFAULTS!$E$8:$F$69,2,FALSE))/10^6*(1/($D$5/100))))))),0,METHANE!$J129*DEFAULTS!$B$81*(IF('USER INPUTS'!$B$24=\"Total landfill gas\",(1/($D$5/100)),IF('USER INPUTS'!$B$24=\"Methane\",1,IF('USER INPUTS'!$B$24=\"Carbon dioxide\",((1/($D$5/100))-1),(VLOOKUP('USER INPUTS'!$B$24,DEFAULTS!$E$8:$F$69,2,FALSE))/10^6*(1/($D$5/100)))))))","v":0},{"$f":"IF(ISERROR(METHANE!$J129*(IF('USER INPUTS'!$B$24=\"Total landfill gas\",(1/($D$5/100)),IF('USER INPUTS'!$B$24=\"Methane\",1,IF('USER INPUTS'!$B$24=\"Carbon dioxide\",((1/($D$5/100))-1),(VLOOKUP('USER INPUTS'!$B$24,DEFAULTS!$E$8:$F$69,2,FALSE))/10^6*(1/($D$5/100))))))),0,METHANE!$J129*(IF('USER INPUTS'!$B$24=\"Total landfill gas\",(1/($D$5/100)),IF('USER INPUTS'!$B$24=\"Methane\",1,IF('USER INPUTS'!$B$24=\"Carbon dioxide\",((1/($D$5/100))-1),(VLOOKUP('USER INPUTS'!$B$24,DEFAULTS!$E$8:$F$69,2,FALSE))/10^6*(1/($D$5/100)))))))","v":0},{"$f":"IF(H$8=\"(short tons/year)\",(F115*DEFAULTS!$B$55*DEFAULTS!$B$53/DEFAULTS!$B$54),IF(H$8=\"(ft^3/year)\",(G115*DEFAULTS!$B$57),IF(H$8=\"(av ft^3/min)\",(G115*DEFAULTS!$B$57/DEFAULTS!$B$58),0)))","v":0},{"$f":"IF(ISERROR(METHANE!$J129*DEFAULTS!$B$82*(IF('USER INPUTS'!$B$26=\"Total landfill gas\",(1/($D$5/100)),IF('USER INPUTS'!$B$26=\"Methane\",1,IF('USER INPUTS'!$B$26=\"Carbon dioxide\",((1/($D$5/100))-1),(VLOOKUP('USER INPUTS'!$B$26,DEFAULTS!$E$8:$F$69,2,FALSE))/10^6*(1/($D$5/100))))))),0,METHANE!$J129*DEFAULTS!$B$82*(IF('USER INPUTS'!$B$26=\"Total landfill gas\",(1/($D$5/100)),IF('USER INPUTS'!$B$26=\"Methane\",1,IF('USER INPUTS'!$B$26=\"Carbon dioxide\",((1/($D$5/100))-1),(VLOOKUP('USER INPUTS'!$B$26,DEFAULTS!$E$8:$F$69,2,FALSE))/10^6*(1/($D$5/100)))))))","v":0},{"$f":"IF(ISERROR(METHANE!$J129*(IF('USER INPUTS'!$B$26=\"Total landfill gas\",(1/($D$5/100)),IF('USER INPUTS'!$B$26=\"Methane\",1,IF('USER INPUTS'!$B$26=\"Carbon dioxide\",((1/($D$5/100))-1),(VLOOKUP('USER INPUTS'!$B$26,DEFAULTS!$E$8:$F$69,2,FALSE))/10^6*(1/($D$5/100))))))),0,METHANE!$J129*(IF('USER INPUTS'!$B$26=\"Total landfill gas\",(1/($D$5/100)),IF('USER INPUTS'!$B$26=\"Methane\",1,IF('USER INPUTS'!$B$26=\"Carbon dioxide\",((1/($D$5/100))-1),(VLOOKUP('USER INPUTS'!$B$26,DEFAULTS!$E$8:$F$69,2,FALSE))/10^6*(1/($D$5/100)))))))","v":0},{"$f":"IF(K$8=\"(short tons/year)\",(I115*DEFAULTS!$B$55*DEFAULTS!$B$53/DEFAULTS!$B$54),IF(K$8=\"(ft^3/year)\",(J115*DEFAULTS!$B$57),IF(K$8=\"(av ft^3/min)\",(J115*DEFAULTS!$B$57/DEFAULTS!$B$58),0)))","v":0},{"$f":"IF(ISERROR(METHANE!$J129*DEFAULTS!$B$83*(IF('USER INPUTS'!$B$28=\"Total landfill gas\",(1/($D$5/100)),IF('USER INPUTS'!$B$28=\"Methane\",1,IF('USER INPUTS'!$B$28=\"Carbon dioxide\",((1/($D$5/100))-1),(VLOOKUP('USER INPUTS'!$B$28,DEFAULTS!$E$8:$F$69,2,FALSE))/10^6*(1/($D$5/100))))))),0,METHANE!$J129*DEFAULTS!$B$83*(IF('USER INPUTS'!$B$28=\"Total landfill gas\",(1/($D$5/100)),IF('USER INPUTS'!$B$28=\"Methane\",1,IF('USER INPUTS'!$B$28=\"Carbon dioxide\",((1/($D$5/100))-1),(VLOOKUP('USER INPUTS'!$B$28,DEFAULTS!$E$8:$F$69,2,FALSE))/10^6*(1/($D$5/100)))))))","v":0},{"$f":"IF(ISERROR(METHANE!$J129*(IF('USER INPUTS'!$B$28=\"Total landfill gas\",(1/($D$5/100)),IF('USER INPUTS'!$B$28=\"Methane\",1,IF('USER INPUTS'!$B$28=\"Carbon dioxide\",((1/($D$5/100))-1),(VLOOKUP('USER INPUTS'!$B$28,DEFAULTS!$E$8:$F$69,2,FALSE))/10^6*(1/($D$5/100))))))),0,METHANE!$J129*(IF('USER INPUTS'!$B$28=\"Total landfill gas\",(1/($D$5/100)),IF('USER INPUTS'!$B$28=\"Methane\",1,IF('USER INPUTS'!$B$28=\"Carbon dioxide\",((1/($D$5/100))-1),(VLOOKUP('USER INPUTS'!$B$28,DEFAULTS!$E$8:$F$69,2,FALSE))/10^6*(1/($D$5/100)))))))","v":0},{"$f":"IF(N$8=\"(short tons/year)\",(L115*DEFAULTS!$B$55*DEFAULTS!$B$53/DEFAULTS!$B$54),IF(N$8=\"(ft^3/year)\",(M115*DEFAULTS!$B$57),IF(N$8=\"(av ft^3/min)\",(M115*DEFAULTS!$B$57/DEFAULTS!$B$58),0)))","v":0},{"$f":"IF(ISERROR(METHANE!$J129*DEFAULTS!$B$84*(IF('USER INPUTS'!$B$30=\"Total landfill gas\",(1/($D$5/100)),IF('USER INPUTS'!$B$30=\"Methane\",1,IF('USER INPUTS'!$B$30=\"Carbon dioxide\",((1/($D$5/100))-1),(VLOOKUP('USER INPUTS'!$B$30,DEFAULTS!$E$8:$F$69,2,FALSE))/10^6*(1/($D$5/100))))))),0,METHANE!$J129*DEFAULTS!$B$84*(IF('USER INPUTS'!$B$30=\"Total landfill gas\",(1/($D$5/100)),IF('USER INPUTS'!$B$30=\"Methane\",1,IF('USER INPUTS'!$B$30=\"Carbon dioxide\",((1/($D$5/100))-1),(VLOOKUP('USER INPUTS'!$B$30,DEFAULTS!$E$8:$F$69,2,FALSE))/10^6*(1/($D$5/100)))))))","v":0},{"$f":"IF(ISERROR(METHANE!$J129*(IF('USER INPUTS'!$B$30=\"Total landfill gas\",(1/($D$5/100)),IF('USER INPUTS'!$B$30=\"Methane\",1,IF('USER INPUTS'!$B$30=\"Carbon dioxide\",((1/($D$5/100))-1),(VLOOKUP('USER INPUTS'!$B$30,DEFAULTS!$E$8:$F$69,2,FALSE))/10^6*(1/($D$5/100))))))),0,METHANE!$J129*(IF('USER INPUTS'!$B$30=\"Total landfill gas\",(1/($D$5/100)),IF('USER INPUTS'!$B$30=\"Methane\",1,IF('USER INPUTS'!$B$30=\"Carbon dioxide\",((1/($D$5/100))-1),(VLOOKUP('USER INPUTS'!$B$30,DEFAULTS!$E$8:$F$69,2,FALSE))/10^6*(1/($D$5/100)))))))","v":0},{"$f":"IF(Q$8=\"(short tons/year)\",(O115*DEFAULTS!$B$55*DEFAULTS!$B$53/DEFAULTS!$B$54),IF(Q$8=\"(ft^3/year)\",(P115*DEFAULTS!$B$57),IF(Q$8=\"(av ft^3/min)\",(P115*DEFAULTS!$B$57/DEFAULTS!$B$58),0)))","v":0}]
[{"$f":"METHANE!I130","v":107},0,0,0,0,{"$f":"IF(ISERROR(METHANE!$J130*DEFAULTS!$B$81*(IF('USER INPUTS'!$B$24=\"Total landfill gas\",(1/($D$5/100)),IF('USER INPUTS'!$B$24=\"Methane\",1,IF('USER INPUTS'!$B$24=\"Carbon dioxide\",((1/($D$5/100))-1),(VLOOKUP('USER INPUTS'!$B$24,DEFAULTS!$E$8:$F$69,2,FALSE))/10^6*(1/($D$5/100))))))),0,METHANE!$J130*DEFAULTS!$B$81*(IF('USER INPUTS'!$B$24=\"Total landfill gas\",(1/($D$5/100)),IF('USER INPUTS'!$B$24=\"Methane\",1,IF('USER INPUTS'!$B$24=\"Carbon dioxide\",((1/($D$5/100))-1),(VLOOKUP('USER INPUTS'!$B$24,DEFAULTS!$E$8:$F$69,2,FALSE))/10^6*(1/($D$5/100)))))))","v":0},{"$f":"IF(ISERROR(METHANE!$J130*(IF('USER INPUTS'!$B$24=\"Total landfill gas\",(1/($D$5/100)),IF('USER INPUTS'!$B$24=\"Methane\",1,IF('USER INPUTS'!$B$24=\"Carbon dioxide\",((1/($D$5/100))-1),(VLOOKUP('USER INPUTS'!$B$24,DEFAULTS!$E$8:$F$69,2,FALSE))/10^6*(1/($D$5/100))))))),0,METHANE!$J130*(IF('USER INPUTS'!$B$24=\"Total landfill gas\",(1/($D$5/100)),IF('USER INPUTS'!$B$24=\"Methane\",1,IF('USER INPUTS'!$B$24=\"Carbon dioxide\",((1/($D$5/100))-1),(VLOOKUP('USER INPUTS'!$B$24,DEFAULTS!$E$8:$F$69,2,FALSE))/10^6*(1/($D$5/100)))))))","v":0},{"$f":"IF(H$8=\"(short tons/year)\",(F116*DEFAULTS!$B$55*DEFAULTS!$B$53/DEFAULTS!$B$54),IF(H$8=\"(ft^3/year)\",(G116*DEFAULTS!$B$57),IF(H$8=\"(av ft^3/min)\",(G116*DEFAULTS!$B$57/DEFAULTS!$B$58),0)))","v":0},{"$f":"IF(ISERROR(METHANE!$J130*DEFAULTS!$B$82*(IF('USER INPUTS'!$B$26=\"Total landfill gas\",(1/($D$5/100)),IF('USER INPUTS'!$B$26=\"Methane\",1,IF('USER INPUTS'!$B$26=\"Carbon dioxide\",((1/($D$5/100))-1),(VLOOKUP('USER INPUTS'!$B$26,DEFAULTS!$E$8:$F$69,2,FALSE))/10^6*(1/($D$5/100))))))),0,METHANE!$J130*DEFAULTS!$B$82*(IF('USER INPUTS'!$B$26=\"Total landfill gas\",(1/($D$5/100)),IF('USER INPUTS'!$B$26=\"Methane\",1,IF('USER INPUTS'!$B$26=\"Carbon dioxide\",((1/($D$5/100))-1),(VLOOKUP('USER INPUTS'!$B$26,DEFAULTS!$E$8:$F$69,2,FALSE))/10^6*(1/($D$5/100)))))))","v":0},{"$f":"IF(ISERROR(METHANE!$J130*(IF('USER INPUTS'!$B$26=\"Total landfill gas\",(1/($D$5/100)),IF('USER INPUTS'!$B$26=\"Methane\",1,IF('USER INPUTS'!$B$26=\"Carbon dioxide\",((1/($D$5/100))-1),(VLOOKUP('USER INPUTS'!$B$26,DEFAULTS!$E$8:$F$69,2,FALSE))/10^6*(1/($D$5/100))))))),0,METHANE!$J130*(IF('USER INPUTS'!$B$26=\"Total landfill gas\",(1/($D$5/100)),IF('USER INPUTS'!$B$26=\"Methane\",1,IF('USER INPUTS'!$B$26=\"Carbon dioxide\",((1/($D$5/100))-1),(VLOOKUP('USER INPUTS'!$B$26,DEFAULTS!$E$8:$F$69,2,FALSE))/10^6*(1/($D$5/100)))))))","v":0},{"$f":"IF(K$8=\"(short tons/year)\",(I116*DEFAULTS!$B$55*DEFAULTS!$B$53/DEFAULTS!$B$54),IF(K$8=\"(ft^3/year)\",(J116*DEFAULTS!$B$57),IF(K$8=\"(av ft^3/min)\",(J116*DEFAULTS!$B$57/DEFAULTS!$B$58),0)))","v":0},{"$f":"IF(ISERROR(METHANE!$J130*DEFAULTS!$B$83*(IF('USER INPUTS'!$B$28=\"Total landfill gas\",(1/($D$5/100)),IF('USER INPUTS'!$B$28=\"Methane\",1,IF('USER INPUTS'!$B$28=\"Carbon dioxide\",((1/($D$5/100))-1),(VLOOKUP('USER INPUTS'!$B$28,DEFAULTS!$E$8:$F$69,2,FALSE))/10^6*(1/($D$5/100))))))),0,METHANE!$J130*DEFAULTS!$B$83*(IF('USER INPUTS'!$B$28=\"Total landfill gas\",(1/($D$5/100)),IF('USER INPUTS'!$B$28=\"Methane\",1,IF('USER INPUTS'!$B$28=\"Carbon dioxide\",((1/($D$5/100))-1),(VLOOKUP('USER INPUTS'!$B$28,DEFAULTS!$E$8:$F$69,2,FALSE))/10^6*(1/($D$5/100)))))))","v":0},{"$f":"IF(ISERROR(METHANE!$J130*(IF('USER INPUTS'!$B$28=\"Total landfill gas\",(1/($D$5/100)),IF('USER INPUTS'!$B$28=\"Methane\",1,IF('USER INPUTS'!$B$28=\"Carbon dioxide\",((1/($D$5/100))-1),(VLOOKUP('USER INPUTS'!$B$28,DEFAULTS!$E$8:$F$69,2,FALSE))/10^6*(1/($D$5/100))))))),0,METHANE!$J130*(IF('USER INPUTS'!$B$28=\"Total landfill gas\",(1/($D$5/100)),IF('USER INPUTS'!$B$28=\"Methane\",1,IF('USER INPUTS'!$B$28=\"Carbon dioxide\",((1/($D$5/100))-1),(VLOOKUP('USER INPUTS'!$B$28,DEFAULTS!$E$8:$F$69,2,FALSE))/10^6*(1/($D$5/100)))))))","v":0},{"$f":"IF(N$8=\"(short tons/year)\",(L116*DEFAULTS!$B$55*DEFAULTS!$B$53/DEFAULTS!$B$54),IF(N$8=\"(ft^3/year)\",(M116*DEFAULTS!$B$57),IF(N$8=\"(av ft^3/min)\",(M116*DEFAULTS!$B$57/DEFAULTS!$B$58),0)))","v":0},{"$f":"IF(ISERROR(METHANE!$J130*DEFAULTS!$B$84*(IF('USER INPUTS'!$B$30=\"Total landfill gas\",(1/($D$5/100)),IF('USER INPUTS'!$B$30=\"Methane\",1,IF('USER INPUTS'!$B$30=\"Carbon dioxide\",((1/($D$5/100))-1),(VLOOKUP('USER INPUTS'!$B$30,DEFAULTS!$E$8:$F$69,2,FALSE))/10^6*(1/($D$5/100))))))),0,METHANE!$J130*DEFAULTS!$B$84*(IF('USER INPUTS'!$B$30=\"Total landfill gas\",(1/($D$5/100)),IF('USER INPUTS'!$B$30=\"Methane\",1,IF('USER INPUTS'!$B$30=\"Carbon dioxide\",((1/($D$5/100))-1),(VLOOKUP('USER INPUTS'!$B$30,DEFAULTS!$E$8:$F$69,2,FALSE))/10^6*(1/($D$5/100)))))))","v":0},{"$f":"IF(ISERROR(METHANE!$J130*(IF('USER INPUTS'!$B$30=\"Total landfill gas\",(1/($D$5/100)),IF('USER INPUTS'!$B$30=\"Methane\",1,IF('USER INPUTS'!$B$30=\"Carbon dioxide\",((1/($D$5/100))-1),(VLOOKUP('USER INPUTS'!$B$30,DEFAULTS!$E$8:$F$69,2,FALSE))/10^6*(1/($D$5/100))))))),0,METHANE!$J130*(IF('USER INPUTS'!$B$30=\"Total landfill gas\",(1/($D$5/100)),IF('USER INPUTS'!$B$30=\"Methane\",1,IF('USER INPUTS'!$B$30=\"Carbon dioxide\",((1/($D$5/100))-1),(VLOOKUP('USER INPUTS'!$B$30,DEFAULTS!$E$8:$F$69,2,FALSE))/10^6*(1/($D$5/100)))))))","v":0},{"$f":"IF(Q$8=\"(short tons/year)\",(O116*DEFAULTS!$B$55*DEFAULTS!$B$53/DEFAULTS!$B$54),IF(Q$8=\"(ft^3/year)\",(P116*DEFAULTS!$B$57),IF(Q$8=\"(av ft^3/min)\",(P116*DEFAULTS!$B$57/DEFAULTS!$B$58),0)))","v":0}]
[{"$f":"METHANE!I131","v":108},0,0,0,0,{"$f":"IF(ISERROR(METHANE!$J131*DEFAULTS!$B$81*(IF('USER INPUTS'!$B$24=\"Total landfill gas\",(1/($D$5/100)),IF('USER INPUTS'!$B$24=\"Methane\",1,IF('USER INPUTS'!$B$24=\"Carbon dioxide\",((1/($D$5/100))-1),(VLOOKUP('USER INPUTS'!$B$24,DEFAULTS!$E$8:$F$69,2,FALSE))/10^6*(1/($D$5/100))))))),0,METHANE!$J131*DEFAULTS!$B$81*(IF('USER INPUTS'!$B$24=\"Total landfill gas\",(1/($D$5/100)),IF('USER INPUTS'!$B$24=\"Methane\",1,IF('USER INPUTS'!$B$24=\"Carbon dioxide\",((1/($D$5/100))-1),(VLOOKUP('USER INPUTS'!$B$24,DEFAULTS!$E$8:$F$69,2,FALSE))/10^6*(1/($D$5/100)))))))","v":0},{"$f":"IF(ISERROR(METHANE!$J131*(IF('USER INPUTS'!$B$24=\"Total landfill gas\",(1/($D$5/100)),IF('USER INPUTS'!$B$24=\"Methane\",1,IF('USER INPUTS'!$B$24=\"Carbon dioxide\",((1/($D$5/100))-1),(VLOOKUP('USER INPUTS'!$B$24,DEFAULTS!$E$8:$F$69,2,FALSE))/10^6*(1/($D$5/100))))))),0,METHANE!$J131*(IF('USER INPUTS'!$B$24=\"Total landfill gas\",(1/($D$5/100)),IF('USER INPUTS'!$B$24=\"Methane\",1,IF('USER INPUTS'!$B$24=\"Carbon dioxide\",((1/($D$5/100))-1),(VLOOKUP('USER INPUTS'!$B$24,DEFAULTS!$E$8:$F$69,2,FALSE))/10^6*(1/($D$5/100)))))))","v":0},{"$f":"IF(H$8=\"(short tons/year)\",(F117*DEFAULTS!$B$55*DEFAULTS!$B$53/DEFAULTS!$B$54),IF(H$8=\"(ft^3/year)\",(G117*DEFAULTS!$B$57),IF(H$8=\"(av ft^3/min)\",(G117*DEFAULTS!$B$57/DEFAULTS!$B$58),0)))","v":0},{"$f":"IF(ISERROR(METHANE!$J131*DEFAULTS!$B$82*(IF('USER INPUTS'!$B$26=\"Total landfill gas\",(1/($D$5/100)),IF('USER INPUTS'!$B$26=\"Methane\",1,IF('USER INPUTS'!$B$26=\"Carbon dioxide\",((1/($D$5/100))-1),(VLOOKUP('USER INPUTS'!$B$26,DEFAULTS!$E$8:$F$69,2,FALSE))/10^6*(1/($D$5/100))))))),0,METHANE!$J131*DEFAULTS!$B$82*(IF('USER INPUTS'!$B$26=\"Total landfill gas\",(1/($D$5/100)),IF('USER INPUTS'!$B$26=\"Methane\",1,IF('USER INPUTS'!$B$26=\"Carbon dioxide\",((1/($D$5/100))-1),(VLOOKUP('USER INPUTS'!$B$26,DEFAULTS!$E$8:$F$69,2,FALSE))/10^6*(1/($D$5/100)))))))","v":0},{"$f":"IF(ISERROR(METHANE!$J131*(IF('USER INPUTS'!$B$26=\"Total landfill gas\",(1/($D$5/100)),IF('USER INPUTS'!$B$26=\"Methane\",1,IF('USER INPUTS'!$B$26=\"Carbon dioxide\",((1/($D$5/100))-1),(VLOOKUP('USER INPUTS'!$B$26,DEFAULTS!$E$8:$F$69,2,FALSE))/10^6*(1/($D$5/100))))))),0,METHANE!$J131*(IF('USER INPUTS'!$B$26=\"Total landfill gas\",(1/($D$5/100)),IF('USER INPUTS'!$B$26=\"Methane\",1,IF('USER INPUTS'!$B$26=\"Carbon dioxide\",((1/($D$5/100))-1),(VLOOKUP('USER INPUTS'!$B$26,DEFAULTS!$E$8:$F$69,2,FALSE))/10^6*(1/($D$5/100)))))))","v":0},{"$f":"IF(K$8=\"(short tons/year)\",(I117*DEFAULTS!$B$55*DEFAULTS!$B$53/DEFAULTS!$B$54),IF(K$8=\"(ft^3/year)\",(J117*DEFAULTS!$B$57),IF(K$8=\"(av ft^3/min)\",(J117*DEFAULTS!$B$57/DEFAULTS!$B$58),0)))","v":0},{"$f":"IF(ISERROR(METHANE!$J131*DEFAULTS!$B$83*(IF('USER INPUTS'!$B$28=\"Total landfill gas\",(1/($D$5/100)),IF('USER INPUTS'!$B$28=\"Methane\",1,IF('USER INPUTS'!$B$28=\"Carbon dioxide\",((1/($D$5/100))-1),(VLOOKUP('USER INPUTS'!$B$28,DEFAULTS!$E$8:$F$69,2,FALSE))/10^6*(1/($D$5/100))))))),0,METHANE!$J131*DEFAULTS!$B$83*(IF('USER INPUTS'!$B$28=\"Total landfill gas\",(1/($D$5/100)),IF('USER INPUTS'!$B$28=\"Methane\",1,IF('USER INPUTS'!$B$28=\"Carbon dioxide\",((1/($D$5/100))-1),(VLOOKUP('USER INPUTS'!$B$28,DEFAULTS!$E$8:$F$69,2,FALSE))/10^6*(1/($D$5/100)))))))","v":0},{"$f":"IF(ISERROR(METHANE!$J131*(IF('USER INPUTS'!$B$28=\"Total landfill gas\",(1/($D$5/100)),IF('USER INPUTS'!$B$28=\"Methane\",1,IF('USER INPUTS'!$B$28=\"Carbon dioxide\",((1/($D$5/100))-1),(VLOOKUP('USER INPUTS'!$B$28,DEFAULTS!$E$8:$F$69,2,FALSE))/10^6*(1/($D$5/100))))))),0,METHANE!$J131*(IF('USER INPUTS'!$B$28=\"Total landfill gas\",(1/($D$5/100)),IF('USER INPUTS'!$B$28=\"Methane\",1,IF('USER INPUTS'!$B$28=\"Carbon dioxide\",((1/($D$5/100))-1),(VLOOKUP('USER INPUTS'!$B$28,DEFAULTS!$E$8:$F$69,2,FALSE))/10^6*(1/($D$5/100)))))))","v":0},{"$f":"IF(N$8=\"(short tons/year)\",(L117*DEFAULTS!$B$55*DEFAULTS!$B$53/DEFAULTS!$B$54),IF(N$8=\"(ft^3/year)\",(M117*DEFAULTS!$B$57),IF(N$8=\"(av ft^3/min)\",(M117*DEFAULTS!$B$57/DEFAULTS!$B$58),0)))","v":0},{"$f":"IF(ISERROR(METHANE!$J131*DEFAULTS!$B$84*(IF('USER INPUTS'!$B$30=\"Total landfill gas\",(1/($D$5/100)),IF('USER INPUTS'!$B$30=\"Methane\",1,IF('USER INPUTS'!$B$30=\"Carbon dioxide\",((1/($D$5/100))-1),(VLOOKUP('USER INPUTS'!$B$30,DEFAULTS!$E$8:$F$69,2,FALSE))/10^6*(1/($D$5/100))))))),0,METHANE!$J131*DEFAULTS!$B$84*(IF('USER INPUTS'!$B$30=\"Total landfill gas\",(1/($D$5/100)),IF('USER INPUTS'!$B$30=\"Methane\",1,IF('USER INPUTS'!$B$30=\"Carbon dioxide\",((1/($D$5/100))-1),(VLOOKUP('USER INPUTS'!$B$30,DEFAULTS!$E$8:$F$69,2,FALSE))/10^6*(1/($D$5/100)))))))","v":0},{"$f":"IF(ISERROR(METHANE!$J131*(IF('USER INPUTS'!$B$30=\"Total landfill gas\",(1/($D$5/100)),IF('USER INPUTS'!$B$30=\"Methane\",1,IF('USER INPUTS'!$B$30=\"Carbon dioxide\",((1/($D$5/100))-1),(VLOOKUP('USER INPUTS'!$B$30,DEFAULTS!$E$8:$F$69,2,FALSE))/10^6*(1/($D$5/100))))))),0,METHANE!$J131*(IF('USER INPUTS'!$B$30=\"Total landfill gas\",(1/($D$5/100)),IF('USER INPUTS'!$B$30=\"Methane\",1,IF('USER INPUTS'!$B$30=\"Carbon dioxide\",((1/($D$5/100))-1),(VLOOKUP('USER INPUTS'!$B$30,DEFAULTS!$E$8:$F$69,2,FALSE))/10^6*(1/($D$5/100)))))))","v":0},{"$f":"IF(Q$8=\"(short tons/year)\",(O117*DEFAULTS!$B$55*DEFAULTS!$B$53/DEFAULTS!$B$54),IF(Q$8=\"(ft^3/year)\",(P117*DEFAULTS!$B$57),IF(Q$8=\"(av ft^3/min)\",(P117*DEFAULTS!$B$57/DEFAULTS!$B$58),0)))","v":0}]
[{"$f":"METHANE!I132","v":109},0,0,0,0,{"$f":"IF(ISERROR(METHANE!$J132*DEFAULTS!$B$81*(IF('USER INPUTS'!$B$24=\"Total landfill gas\",(1/($D$5/100)),IF('USER INPUTS'!$B$24=\"Methane\",1,IF('USER INPUTS'!$B$24=\"Carbon dioxide\",((1/($D$5/100))-1),(VLOOKUP('USER INPUTS'!$B$24,DEFAULTS!$E$8:$F$69,2,FALSE))/10^6*(1/($D$5/100))))))),0,METHANE!$J132*DEFAULTS!$B$81*(IF('USER INPUTS'!$B$24=\"Total landfill gas\",(1/($D$5/100)),IF('USER INPUTS'!$B$24=\"Methane\",1,IF('USER INPUTS'!$B$24=\"Carbon dioxide\",((1/($D$5/100))-1),(VLOOKUP('USER INPUTS'!$B$24,DEFAULTS!$E$8:$F$69,2,FALSE))/10^6*(1/($D$5/100)))))))","v":0},{"$f":"IF(ISERROR(METHANE!$J132*(IF('USER INPUTS'!$B$24=\"Total landfill gas\",(1/($D$5/100)),IF('USER INPUTS'!$B$24=\"Methane\",1,IF('USER INPUTS'!$B$24=\"Carbon dioxide\",((1/($D$5/100))-1),(VLOOKUP('USER INPUTS'!$B$24,DEFAULTS!$E$8:$F$69,2,FALSE))/10^6*(1/($D$5/100))))))),0,METHANE!$J132*(IF('USER INPUTS'!$B$24=\"Total landfill gas\",(1/($D$5/100)),IF('USER INPUTS'!$B$24=\"Methane\",1,IF('USER INPUTS'!$B$24=\"Carbon dioxide\",((1/($D$5/100))-1),(VLOOKUP('USER INPUTS'!$B$24,DEFAULTS!$E$8:$F$69,2,FALSE))/10^6*(1/($D$5/100)))))))","v":0},{"$f":"IF(H$8=\"(short tons/year)\",(F118*DEFAULTS!$B$55*DEFAULTS!$B$53/DEFAULTS!$B$54),IF(H$8=\"(ft^3/year)\",(G118*DEFAULTS!$B$57),IF(H$8=\"(av ft^3/min)\",(G118*DEFAULTS!$B$57/DEFAULTS!$B$58),0)))","v":0},{"$f":"IF(ISERROR(METHANE!$J132*DEFAULTS!$B$82*(IF('USER INPUTS'!$B$26=\"Total landfill gas\",(1/($D$5/100)),IF('USER INPUTS'!$B$26=\"Methane\",1,IF('USER INPUTS'!$B$26=\"Carbon dioxide\",((1/($D$5/100))-1),(VLOOKUP('USER INPUTS'!$B$26,DEFAULTS!$E$8:$F$69,2,FALSE))/10^6*(1/($D$5/100))))))),0,METHANE!$J132*DEFAULTS!$B$82*(IF('USER INPUTS'!$B$26=\"Total landfill gas\",(1/($D$5/100)),IF('USER INPUTS'!$B$26=\"Methane\",1,IF('USER INPUTS'!$B$26=\"Carbon dioxide\",((1/($D$5/100))-1),(VLOOKUP('USER INPUTS'!$B$26,DEFAULTS!$E$8:$F$69,2,FALSE))/10^6*(1/($D$5/100)))))))","v":0},{"$f":"IF(ISERROR(METHANE!$J132*(IF('USER INPUTS'!$B$26=\"Total landfill gas\",(1/($D$5/100)),IF('USER INPUTS'!$B$26=\"Methane\",1,IF('USER INPUTS'!$B$26=\"Carbon dioxide\",((1/($D$5/100))-1),(VLOOKUP('USER INPUTS'!$B$26,DEFAULTS!$E$8:$F$69,2,FALSE))/10^6*(1/($D$5/100))))))),0,METHANE!$J132*(IF('USER INPUTS'!$B$26=\"Total landfill gas\",(1/($D$5/100)),IF('USER INPUTS'!$B$26=\"Methane\",1,IF('USER INPUTS'!$B$26=\"Carbon dioxide\",((1/($D$5/100))-1),(VLOOKUP('USER INPUTS'!$B$26,DEFAULTS!$E$8:$F$69,2,FALSE))/10^6*(1/($D$5/100)))))))","v":0},{"$f":"IF(K$8=\"(short tons/year)\",(I118*DEFAULTS!$B$55*DEFAULTS!$B$53/DEFAULTS!$B$54),IF(K$8=\"(ft^3/year)\",(J118*DEFAULTS!$B$57),IF(K$8=\"(av ft^3/min)\",(J118*DEFAULTS!$B$57/DEFAULTS!$B$58),0)))","v":0},{"$f":"IF(ISERROR(METHANE!$J132*DEFAULTS!$B$83*(IF('USER INPUTS'!$B$28=\"Total landfill gas\",(1/($D$5/100)),IF('USER INPUTS'!$B$28=\"Methane\",1,IF('USER INPUTS'!$B$28=\"Carbon dioxide\",((1/($D$5/100))-1),(VLOOKUP('USER INPUTS'!$B$28,DEFAULTS!$E$8:$F$69,2,FALSE))/10^6*(1/($D$5/100))))))),0,METHANE!$J132*DEFAULTS!$B$83*(IF('USER INPUTS'!$B$28=\"Total landfill gas\",(1/($D$5/100)),IF('USER INPUTS'!$B$28=\"Methane\",1,IF('USER INPUTS'!$B$28=\"Carbon dioxide\",((1/($D$5/100))-1),(VLOOKUP('USER INPUTS'!$B$28,DEFAULTS!$E$8:$F$69,2,FALSE))/10^6*(1/($D$5/100)))))))","v":0},{"$f":"IF(ISERROR(METHANE!$J132*(IF('USER INPUTS'!$B$28=\"Total landfill gas\",(1/($D$5/100)),IF('USER INPUTS'!$B$28=\"Methane\",1,IF('USER INPUTS'!$B$28=\"Carbon dioxide\",((1/($D$5/100))-1),(VLOOKUP('USER INPUTS'!$B$28,DEFAULTS!$E$8:$F$69,2,FALSE))/10^6*(1/($D$5/100))))))),0,METHANE!$J132*(IF('USER INPUTS'!$B$28=\"Total landfill gas\",(1/($D$5/100)),IF('USER INPUTS'!$B$28=\"Methane\",1,IF('USER INPUTS'!$B$28=\"Carbon dioxide\",((1/($D$5/100))-1),(VLOOKUP('USER INPUTS'!$B$28,DEFAULTS!$E$8:$F$69,2,FALSE))/10^6*(1/($D$5/100)))))))","v":0},{"$f":"IF(N$8=\"(short tons/year)\",(L118*DEFAULTS!$B$55*DEFAULTS!$B$53/DEFAULTS!$B$54),IF(N$8=\"(ft^3/year)\",(M118*DEFAULTS!$B$57),IF(N$8=\"(av ft^3/min)\",(M118*DEFAULTS!$B$57/DEFAULTS!$B$58),0)))","v":0},{"$f":"IF(ISERROR(METHANE!$J132*DEFAULTS!$B$84*(IF('USER INPUTS'!$B$30=\"Total landfill gas\",(1/($D$5/100)),IF('USER INPUTS'!$B$30=\"Methane\",1,IF('USER INPUTS'!$B$30=\"Carbon dioxide\",((1/($D$5/100))-1),(VLOOKUP('USER INPUTS'!$B$30,DEFAULTS!$E$8:$F$69,2,FALSE))/10^6*(1/($D$5/100))))))),0,METHANE!$J132*DEFAULTS!$B$84*(IF('USER INPUTS'!$B$30=\"Total landfill gas\",(1/($D$5/100)),IF('USER INPUTS'!$B$30=\"Methane\",1,IF('USER INPUTS'!$B$30=\"Carbon dioxide\",((1/($D$5/100))-1),(VLOOKUP('USER INPUTS'!$B$30,DEFAULTS!$E$8:$F$69,2,FALSE))/10^6*(1/($D$5/100)))))))","v":0},{"$f":"IF(ISERROR(METHANE!$J132*(IF('USER INPUTS'!$B$30=\"Total landfill gas\",(1/($D$5/100)),IF('USER INPUTS'!$B$30=\"Methane\",1,IF('USER INPUTS'!$B$30=\"Carbon dioxide\",((1/($D$5/100))-1),(VLOOKUP('USER INPUTS'!$B$30,DEFAULTS!$E$8:$F$69,2,FALSE))/10^6*(1/($D$5/100))))))),0,METHANE!$J132*(IF('USER INPUTS'!$B$30=\"Total landfill gas\",(1/($D$5/100)),IF('USER INPUTS'!$B$30=\"Methane\",1,IF('USER INPUTS'!$B$30=\"Carbon dioxide\",((1/($D$5/100))-1),(VLOOKUP('USER INPUTS'!$B$30,DEFAULTS!$E$8:$F$69,2,FALSE))/10^6*(1/($D$5/100)))))))","v":0},{"$f":"IF(Q$8=\"(short tons/year)\",(O118*DEFAULTS!$B$55*DEFAULTS!$B$53/DEFAULTS!$B$54),IF(Q$8=\"(ft^3/year)\",(P118*DEFAULTS!$B$57),IF(Q$8=\"(av ft^3/min)\",(P118*DEFAULTS!$B$57/DEFAULTS!$B$58),0)))","v":0}]
[{"$f":"METHANE!I133","v":110},0,0,0,0,{"$f":"IF(ISERROR(METHANE!$J133*DEFAULTS!$B$81*(IF('USER INPUTS'!$B$24=\"Total landfill gas\",(1/($D$5/100)),IF('USER INPUTS'!$B$24=\"Methane\",1,IF('USER INPUTS'!$B$24=\"Carbon dioxide\",((1/($D$5/100))-1),(VLOOKUP('USER INPUTS'!$B$24,DEFAULTS!$E$8:$F$69,2,FALSE))/10^6*(1/($D$5/100))))))),0,METHANE!$J133*DEFAULTS!$B$81*(IF('USER INPUTS'!$B$24=\"Total landfill gas\",(1/($D$5/100)),IF('USER INPUTS'!$B$24=\"Methane\",1,IF('USER INPUTS'!$B$24=\"Carbon dioxide\",((1/($D$5/100))-1),(VLOOKUP('USER INPUTS'!$B$24,DEFAULTS!$E$8:$F$69,2,FALSE))/10^6*(1/($D$5/100)))))))","v":0},{"$f":"IF(ISERROR(METHANE!$J133*(IF('USER INPUTS'!$B$24=\"Total landfill gas\",(1/($D$5/100)),IF('USER INPUTS'!$B$24=\"Methane\",1,IF('USER INPUTS'!$B$24=\"Carbon dioxide\",((1/($D$5/100))-1),(VLOOKUP('USER INPUTS'!$B$24,DEFAULTS!$E$8:$F$69,2,FALSE))/10^6*(1/($D$5/100))))))),0,METHANE!$J133*(IF('USER INPUTS'!$B$24=\"Total landfill gas\",(1/($D$5/100)),IF('USER INPUTS'!$B$24=\"Methane\",1,IF('USER INPUTS'!$B$24=\"Carbon dioxide\",((1/($D$5/100))-1),(VLOOKUP('USER INPUTS'!$B$24,DEFAULTS!$E$8:$F$69,2,FALSE))/10^6*(1/($D$5/100)))))))","v":0},{"$f":"IF(H$8=\"(short tons/year)\",(F119*DEFAULTS!$B$55*DEFAULTS!$B$53/DEFAULTS!$B$54),IF(H$8=\"(ft^3/year)\",(G119*DEFAULTS!$B$57),IF(H$8=\"(av ft^3/min)\",(G119*DEFAULTS!$B$57/DEFAULTS!$B$58),0)))","v":0},{"$f":"IF(ISERROR(METHANE!$J133*DEFAULTS!$B$82*(IF('USER INPUTS'!$B$26=\"Total landfill gas\",(1/($D$5/100)),IF('USER INPUTS'!$B$26=\"Methane\",1,IF('USER INPUTS'!$B$26=\"Carbon dioxide\",((1/($D$5/100))-1),(VLOOKUP('USER INPUTS'!$B$26,DEFAULTS!$E$8:$F$69,2,FALSE))/10^6*(1/($D$5/100))))))),0,METHANE!$J133*DEFAULTS!$B$82*(IF('USER INPUTS'!$B$26=\"Total landfill gas\",(1/($D$5/100)),IF('USER INPUTS'!$B$26=\"Methane\",1,IF('USER INPUTS'!$B$26=\"Carbon dioxide\",((1/($D$5/100))-1),(VLOOKUP('USER INPUTS'!$B$26,DEFAULTS!$E$8:$F$69,2,FALSE))/10^6*(1/($D$5/100)))))))","v":0},{"$f":"IF(ISERROR(METHANE!$J133*(IF('USER INPUTS'!$B$26=\"Total landfill gas\",(1/($D$5/100)),IF('USER INPUTS'!$B$26=\"Methane\",1,IF('USER INPUTS'!$B$26=\"Carbon dioxide\",((1/($D$5/100))-1),(VLOOKUP('USER INPUTS'!$B$26,DEFAULTS!$E$8:$F$69,2,FALSE))/10^6*(1/($D$5/100))))))),0,METHANE!$J133*(IF('USER INPUTS'!$B$26=\"Total landfill gas\",(1/($D$5/100)),IF('USER INPUTS'!$B$26=\"Methane\",1,IF('USER INPUTS'!$B$26=\"Carbon dioxide\",((1/($D$5/100))-1),(VLOOKUP('USER INPUTS'!$B$26,DEFAULTS!$E$8:$F$69,2,FALSE))/10^6*(1/($D$5/100)))))))","v":0},{"$f":"IF(K$8=\"(short tons/year)\",(I119*DEFAULTS!$B$55*DEFAULTS!$B$53/DEFAULTS!$B$54),IF(K$8=\"(ft^3/year)\",(J119*DEFAULTS!$B$57),IF(K$8=\"(av ft^3/min)\",(J119*DEFAULTS!$B$57/DEFAULTS!$B$58),0)))","v":0},{"$f":"IF(ISERROR(METHANE!$J133*DEFAULTS!$B$83*(IF('USER INPUTS'!$B$28=\"Total landfill gas\",(1/($D$5/100)),IF('USER INPUTS'!$B$28=\"Methane\",1,IF('USER INPUTS'!$B$28=\"Carbon dioxide\",((1/($D$5/100))-1),(VLOOKUP('USER INPUTS'!$B$28,DEFAULTS!$E$8:$F$69,2,FALSE))/10^6*(1/($D$5/100))))))),0,METHANE!$J133*DEFAULTS!$B$83*(IF('USER INPUTS'!$B$28=\"Total landfill gas\",(1/($D$5/100)),IF('USER INPUTS'!$B$28=\"Methane\",1,IF('USER INPUTS'!$B$28=\"Carbon dioxide\",((1/($D$5/100))-1),(VLOOKUP('USER INPUTS'!$B$28,DEFAULTS!$E$8:$F$69,2,FALSE))/10^6*(1/($D$5/100)))))))","v":0},{"$f":"IF(ISERROR(METHANE!$J133*(IF('USER INPUTS'!$B$28=\"Total landfill gas\",(1/($D$5/100)),IF('USER INPUTS'!$B$28=\"Methane\",1,IF('USER INPUTS'!$B$28=\"Carbon dioxide\",((1/($D$5/100))-1),(VLOOKUP('USER INPUTS'!$B$28,DEFAULTS!$E$8:$F$69,2,FALSE))/10^6*(1/($D$5/100))))))),0,METHANE!$J133*(IF('USER INPUTS'!$B$28=\"Total landfill gas\",(1/($D$5/100)),IF('USER INPUTS'!$B$28=\"Methane\",1,IF('USER INPUTS'!$B$28=\"Carbon dioxide\",((1/($D$5/100))-1),(VLOOKUP('USER INPUTS'!$B$28,DEFAULTS!$E$8:$F$69,2,FALSE))/10^6*(1/($D$5/100)))))))","v":0},{"$f":"IF(N$8=\"(short tons/year)\",(L119*DEFAULTS!$B$55*DEFAULTS!$B$53/DEFAULTS!$B$54),IF(N$8=\"(ft^3/year)\",(M119*DEFAULTS!$B$57),IF(N$8=\"(av ft^3/min)\",(M119*DEFAULTS!$B$57/DEFAULTS!$B$58),0)))","v":0},{"$f":"IF(ISERROR(METHANE!$J133*DEFAULTS!$B$84*(IF('USER INPUTS'!$B$30=\"Total landfill gas\",(1/($D$5/100)),IF('USER INPUTS'!$B$30=\"Methane\",1,IF('USER INPUTS'!$B$30=\"Carbon dioxide\",((1/($D$5/100))-1),(VLOOKUP('USER INPUTS'!$B$30,DEFAULTS!$E$8:$F$69,2,FALSE))/10^6*(1/($D$5/100))))))),0,METHANE!$J133*DEFAULTS!$B$84*(IF('USER INPUTS'!$B$30=\"Total landfill gas\",(1/($D$5/100)),IF('USER INPUTS'!$B$30=\"Methane\",1,IF('USER INPUTS'!$B$30=\"Carbon dioxide\",((1/($D$5/100))-1),(VLOOKUP('USER INPUTS'!$B$30,DEFAULTS!$E$8:$F$69,2,FALSE))/10^6*(1/($D$5/100)))))))","v":0},{"$f":"IF(ISERROR(METHANE!$J133*(IF('USER INPUTS'!$B$30=\"Total landfill gas\",(1/($D$5/100)),IF('USER INPUTS'!$B$30=\"Methane\",1,IF('USER INPUTS'!$B$30=\"Carbon dioxide\",((1/($D$5/100))-1),(VLOOKUP('USER INPUTS'!$B$30,DEFAULTS!$E$8:$F$69,2,FALSE))/10^6*(1/($D$5/100))))))),0,METHANE!$J133*(IF('USER INPUTS'!$B$30=\"Total landfill gas\",(1/($D$5/100)),IF('USER INPUTS'!$B$30=\"Methane\",1,IF('USER INPUTS'!$B$30=\"Carbon dioxide\",((1/($D$5/100))-1),(VLOOKUP('USER INPUTS'!$B$30,DEFAULTS!$E$8:$F$69,2,FALSE))/10^6*(1/($D$5/100)))))))","v":0},{"$f":"IF(Q$8=\"(short tons/year)\",(O119*DEFAULTS!$B$55*DEFAULTS!$B$53/DEFAULTS!$B$54),IF(Q$8=\"(ft^3/year)\",(P119*DEFAULTS!$B$57),IF(Q$8=\"(av ft^3/min)\",(P119*DEFAULTS!$B$57/DEFAULTS!$B$58),0)))","v":0}]
[{"$f":"METHANE!I134","v":111},0,0,0,0,{"$f":"IF(ISERROR(METHANE!$J134*DEFAULTS!$B$81*(IF('USER INPUTS'!$B$24=\"Total landfill gas\",(1/($D$5/100)),IF('USER INPUTS'!$B$24=\"Methane\",1,IF('USER INPUTS'!$B$24=\"Carbon dioxide\",((1/($D$5/100))-1),(VLOOKUP('USER INPUTS'!$B$24,DEFAULTS!$E$8:$F$69,2,FALSE))/10^6*(1/($D$5/100))))))),0,METHANE!$J134*DEFAULTS!$B$81*(IF('USER INPUTS'!$B$24=\"Total landfill gas\",(1/($D$5/100)),IF('USER INPUTS'!$B$24=\"Methane\",1,IF('USER INPUTS'!$B$24=\"Carbon dioxide\",((1/($D$5/100))-1),(VLOOKUP('USER INPUTS'!$B$24,DEFAULTS!$E$8:$F$69,2,FALSE))/10^6*(1/($D$5/100)))))))","v":0},{"$f":"IF(ISERROR(METHANE!$J134*(IF('USER INPUTS'!$B$24=\"Total landfill gas\",(1/($D$5/100)),IF('USER INPUTS'!$B$24=\"Methane\",1,IF('USER INPUTS'!$B$24=\"Carbon dioxide\",((1/($D$5/100))-1),(VLOOKUP('USER INPUTS'!$B$24,DEFAULTS!$E$8:$F$69,2,FALSE))/10^6*(1/($D$5/100))))))),0,METHANE!$J134*(IF('USER INPUTS'!$B$24=\"Total landfill gas\",(1/($D$5/100)),IF('USER INPUTS'!$B$24=\"Methane\",1,IF('USER INPUTS'!$B$24=\"Carbon dioxide\",((1/($D$5/100))-1),(VLOOKUP('USER INPUTS'!$B$24,DEFAULTS!$E$8:$F$69,2,FALSE))/10^6*(1/($D$5/100)))))))","v":0},{"$f":"IF(H$8=\"(short tons/year)\",(F120*DEFAULTS!$B$55*DEFAULTS!$B$53/DEFAULTS!$B$54),IF(H$8=\"(ft^3/year)\",(G120*DEFAULTS!$B$57),IF(H$8=\"(av ft^3/min)\",(G120*DEFAULTS!$B$57/DEFAULTS!$B$58),0)))","v":0},{"$f":"IF(ISERROR(METHANE!$J134*DEFAULTS!$B$82*(IF('USER INPUTS'!$B$26=\"Total landfill gas\",(1/($D$5/100)),IF('USER INPUTS'!$B$26=\"Methane\",1,IF('USER INPUTS'!$B$26=\"Carbon dioxide\",((1/($D$5/100))-1),(VLOOKUP('USER INPUTS'!$B$26,DEFAULTS!$E$8:$F$69,2,FALSE))/10^6*(1/($D$5/100))))))),0,METHANE!$J134*DEFAULTS!$B$82*(IF('USER INPUTS'!$B$26=\"Total landfill gas\",(1/($D$5/100)),IF('USER INPUTS'!$B$26=\"Methane\",1,IF('USER INPUTS'!$B$26=\"Carbon dioxide\",((1/($D$5/100))-1),(VLOOKUP('USER INPUTS'!$B$26,DEFAULTS!$E$8:$F$69,2,FALSE))/10^6*(1/($D$5/100)))))))","v":0},{"$f":"IF(ISERROR(METHANE!$J134*(IF('USER INPUTS'!$B$26=\"Total landfill gas\",(1/($D$5/100)),IF('USER INPUTS'!$B$26=\"Methane\",1,IF('USER INPUTS'!$B$26=\"Carbon dioxide\",((1/($D$5/100))-1),(VLOOKUP('USER INPUTS'!$B$26,DEFAULTS!$E$8:$F$69,2,FALSE))/10^6*(1/($D$5/100))))))),0,METHANE!$J134*(IF('USER INPUTS'!$B$26=\"Total landfill gas\",(1/($D$5/100)),IF('USER INPUTS'!$B$26=\"Methane\",1,IF('USER INPUTS'!$B$26=\"Carbon dioxide\",((1/($D$5/100))-1),(VLOOKUP('USER INPUTS'!$B$26,DEFAULTS!$E$8:$F$69,2,FALSE))/10^6*(1/($D$5/100)))))))","v":0},{"$f":"IF(K$8=\"(short tons/year)\",(I120*DEFAULTS!$B$55*DEFAULTS!$B$53/DEFAULTS!$B$54),IF(K$8=\"(ft^3/year)\",(J120*DEFAULTS!$B$57),IF(K$8=\"(av ft^3/min)\",(J120*DEFAULTS!$B$57/DEFAULTS!$B$58),0)))","v":0},{"$f":"IF(ISERROR(METHANE!$J134*DEFAULTS!$B$83*(IF('USER INPUTS'!$B$28=\"Total landfill gas\",(1/($D$5/100)),IF('USER INPUTS'!$B$28=\"Methane\",1,IF('USER INPUTS'!$B$28=\"Carbon dioxide\",((1/($D$5/100))-1),(VLOOKUP('USER INPUTS'!$B$28,DEFAULTS!$E$8:$F$69,2,FALSE))/10^6*(1/($D$5/100))))))),0,METHANE!$J134*DEFAULTS!$B$83*(IF('USER INPUTS'!$B$28=\"Total landfill gas\",(1/($D$5/100)),IF('USER INPUTS'!$B$28=\"Methane\",1,IF('USER INPUTS'!$B$28=\"Carbon dioxide\",((1/($D$5/100))-1),(VLOOKUP('USER INPUTS'!$B$28,DEFAULTS!$E$8:$F$69,2,FALSE))/10^6*(1/($D$5/100)))))))","v":0},{"$f":"IF(ISERROR(METHANE!$J134*(IF('USER INPUTS'!$B$28=\"Total landfill gas\",(1/($D$5/100)),IF('USER INPUTS'!$B$28=\"Methane\",1,IF('USER INPUTS'!$B$28=\"Carbon dioxide\",((1/($D$5/100))-1),(VLOOKUP('USER INPUTS'!$B$28,DEFAULTS!$E$8:$F$69,2,FALSE))/10^6*(1/($D$5/100))))))),0,METHANE!$J134*(IF('USER INPUTS'!$B$28=\"Total landfill gas\",(1/($D$5/100)),IF('USER INPUTS'!$B$28=\"Methane\",1,IF('USER INPUTS'!$B$28=\"Carbon dioxide\",((1/($D$5/100))-1),(VLOOKUP('USER INPUTS'!$B$28,DEFAULTS!$E$8:$F$69,2,FALSE))/10^6*(1/($D$5/100)))))))","v":0},{"$f":"IF(N$8=\"(short tons/year)\",(L120*DEFAULTS!$B$55*DEFAULTS!$B$53/DEFAULTS!$B$54),IF(N$8=\"(ft^3/year)\",(M120*DEFAULTS!$B$57),IF(N$8=\"(av ft^3/min)\",(M120*DEFAULTS!$B$57/DEFAULTS!$B$58),0)))","v":0},{"$f":"IF(ISERROR(METHANE!$J134*DEFAULTS!$B$84*(IF('USER INPUTS'!$B$30=\"Total landfill gas\",(1/($D$5/100)),IF('USER INPUTS'!$B$30=\"Methane\",1,IF('USER INPUTS'!$B$30=\"Carbon dioxide\",((1/($D$5/100))-1),(VLOOKUP('USER INPUTS'!$B$30,DEFAULTS!$E$8:$F$69,2,FALSE))/10^6*(1/($D$5/100))))))),0,METHANE!$J134*DEFAULTS!$B$84*(IF('USER INPUTS'!$B$30=\"Total landfill gas\",(1/($D$5/100)),IF('USER INPUTS'!$B$30=\"Methane\",1,IF('USER INPUTS'!$B$30=\"Carbon dioxide\",((1/($D$5/100))-1),(VLOOKUP('USER INPUTS'!$B$30,DEFAULTS!$E$8:$F$69,2,FALSE))/10^6*(1/($D$5/100)))))))","v":0},{"$f":"IF(ISERROR(METHANE!$J134*(IF('USER INPUTS'!$B$30=\"Total landfill gas\",(1/($D$5/100)),IF('USER INPUTS'!$B$30=\"Methane\",1,IF('USER INPUTS'!$B$30=\"Carbon dioxide\",((1/($D$5/100))-1),(VLOOKUP('USER INPUTS'!$B$30,DEFAULTS!$E$8:$F$69,2,FALSE))/10^6*(1/($D$5/100))))))),0,METHANE!$J134*(IF('USER INPUTS'!$B$30=\"Total landfill gas\",(1/($D$5/100)),IF('USER INPUTS'!$B$30=\"Methane\",1,IF('USER INPUTS'!$B$30=\"Carbon dioxide\",((1/($D$5/100))-1),(VLOOKUP('USER INPUTS'!$B$30,DEFAULTS!$E$8:$F$69,2,FALSE))/10^6*(1/($D$5/100)))))))","v":0},{"$f":"IF(Q$8=\"(short tons/year)\",(O120*DEFAULTS!$B$55*DEFAULTS!$B$53/DEFAULTS!$B$54),IF(Q$8=\"(ft^3/year)\",(P120*DEFAULTS!$B$57),IF(Q$8=\"(av ft^3/min)\",(P120*DEFAULTS!$B$57/DEFAULTS!$B$58),0)))","v":0}]
[{"$f":"METHANE!I135","v":112},0,0,0,0,{"$f":"IF(ISERROR(METHANE!$J135*DEFAULTS!$B$81*(IF('USER INPUTS'!$B$24=\"Total landfill gas\",(1/($D$5/100)),IF('USER INPUTS'!$B$24=\"Methane\",1,IF('USER INPUTS'!$B$24=\"Carbon dioxide\",((1/($D$5/100))-1),(VLOOKUP('USER INPUTS'!$B$24,DEFAULTS!$E$8:$F$69,2,FALSE))/10^6*(1/($D$5/100))))))),0,METHANE!$J135*DEFAULTS!$B$81*(IF('USER INPUTS'!$B$24=\"Total landfill gas\",(1/($D$5/100)),IF('USER INPUTS'!$B$24=\"Methane\",1,IF('USER INPUTS'!$B$24=\"Carbon dioxide\",((1/($D$5/100))-1),(VLOOKUP('USER INPUTS'!$B$24,DEFAULTS!$E$8:$F$69,2,FALSE))/10^6*(1/($D$5/100)))))))","v":0},{"$f":"IF(ISERROR(METHANE!$J135*(IF('USER INPUTS'!$B$24=\"Total landfill gas\",(1/($D$5/100)),IF('USER INPUTS'!$B$24=\"Methane\",1,IF('USER INPUTS'!$B$24=\"Carbon dioxide\",((1/($D$5/100))-1),(VLOOKUP('USER INPUTS'!$B$24,DEFAULTS!$E$8:$F$69,2,FALSE))/10^6*(1/($D$5/100))))))),0,METHANE!$J135*(IF('USER INPUTS'!$B$24=\"Total landfill gas\",(1/($D$5/100)),IF('USER INPUTS'!$B$24=\"Methane\",1,IF('USER INPUTS'!$B$24=\"Carbon dioxide\",((1/($D$5/100))-1),(VLOOKUP('USER INPUTS'!$B$24,DEFAULTS!$E$8:$F$69,2,FALSE))/10^6*(1/($D$5/100)))))))","v":0},{"$f":"IF(H$8=\"(short tons/year)\",(F121*DEFAULTS!$B$55*DEFAULTS!$B$53/DEFAULTS!$B$54),IF(H$8=\"(ft^3/year)\",(G121*DEFAULTS!$B$57),IF(H$8=\"(av ft^3/min)\",(G121*DEFAULTS!$B$57/DEFAULTS!$B$58),0)))","v":0},{"$f":"IF(ISERROR(METHANE!$J135*DEFAULTS!$B$82*(IF('USER INPUTS'!$B$26=\"Total landfill gas\",(1/($D$5/100)),IF('USER INPUTS'!$B$26=\"Methane\",1,IF('USER INPUTS'!$B$26=\"Carbon dioxide\",((1/($D$5/100))-1),(VLOOKUP('USER INPUTS'!$B$26,DEFAULTS!$E$8:$F$69,2,FALSE))/10^6*(1/($D$5/100))))))),0,METHANE!$J135*DEFAULTS!$B$82*(IF('USER INPUTS'!$B$26=\"Total landfill gas\",(1/($D$5/100)),IF('USER INPUTS'!$B$26=\"Methane\",1,IF('USER INPUTS'!$B$26=\"Carbon dioxide\",((1/($D$5/100))-1),(VLOOKUP('USER INPUTS'!$B$26,DEFAULTS!$E$8:$F$69,2,FALSE))/10^6*(1/($D$5/100)))))))","v":0},{"$f":"IF(ISERROR(METHANE!$J135*(IF('USER INPUTS'!$B$26=\"Total landfill gas\",(1/($D$5/100)),IF('USER INPUTS'!$B$26=\"Methane\",1,IF('USER INPUTS'!$B$26=\"Carbon dioxide\",((1/($D$5/100))-1),(VLOOKUP('USER INPUTS'!$B$26,DEFAULTS!$E$8:$F$69,2,FALSE))/10^6*(1/($D$5/100))))))),0,METHANE!$J135*(IF('USER INPUTS'!$B$26=\"Total landfill gas\",(1/($D$5/100)),IF('USER INPUTS'!$B$26=\"Methane\",1,IF('USER INPUTS'!$B$26=\"Carbon dioxide\",((1/($D$5/100))-1),(VLOOKUP('USER INPUTS'!$B$26,DEFAULTS!$E$8:$F$69,2,FALSE))/10^6*(1/($D$5/100)))))))","v":0},{"$f":"IF(K$8=\"(short tons/year)\",(I121*DEFAULTS!$B$55*DEFAULTS!$B$53/DEFAULTS!$B$54),IF(K$8=\"(ft^3/year)\",(J121*DEFAULTS!$B$57),IF(K$8=\"(av ft^3/min)\",(J121*DEFAULTS!$B$57/DEFAULTS!$B$58),0)))","v":0},{"$f":"IF(ISERROR(METHANE!$J135*DEFAULTS!$B$83*(IF('USER INPUTS'!$B$28=\"Total landfill gas\",(1/($D$5/100)),IF('USER INPUTS'!$B$28=\"Methane\",1,IF('USER INPUTS'!$B$28=\"Carbon dioxide\",((1/($D$5/100))-1),(VLOOKUP('USER INPUTS'!$B$28,DEFAULTS!$E$8:$F$69,2,FALSE))/10^6*(1/($D$5/100))))))),0,METHANE!$J135*DEFAULTS!$B$83*(IF('USER INPUTS'!$B$28=\"Total landfill gas\",(1/($D$5/100)),IF('USER INPUTS'!$B$28=\"Methane\",1,IF('USER INPUTS'!$B$28=\"Carbon dioxide\",((1/($D$5/100))-1),(VLOOKUP('USER INPUTS'!$B$28,DEFAULTS!$E$8:$F$69,2,FALSE))/10^6*(1/($D$5/100)))))))","v":0},{"$f":"IF(ISERROR(METHANE!$J135*(IF('USER INPUTS'!$B$28=\"Total landfill gas\",(1/($D$5/100)),IF('USER INPUTS'!$B$28=\"Methane\",1,IF('USER INPUTS'!$B$28=\"Carbon dioxide\",((1/($D$5/100))-1),(VLOOKUP('USER INPUTS'!$B$28,DEFAULTS!$E$8:$F$69,2,FALSE))/10^6*(1/($D$5/100))))))),0,METHANE!$J135*(IF('USER INPUTS'!$B$28=\"Total landfill gas\",(1/($D$5/100)),IF('USER INPUTS'!$B$28=\"Methane\",1,IF('USER INPUTS'!$B$28=\"Carbon dioxide\",((1/($D$5/100))-1),(VLOOKUP('USER INPUTS'!$B$28,DEFAULTS!$E$8:$F$69,2,FALSE))/10^6*(1/($D$5/100)))))))","v":0},{"$f":"IF(N$8=\"(short tons/year)\",(L121*DEFAULTS!$B$55*DEFAULTS!$B$53/DEFAULTS!$B$54),IF(N$8=\"(ft^3/year)\",(M121*DEFAULTS!$B$57),IF(N$8=\"(av ft^3/min)\",(M121*DEFAULTS!$B$57/DEFAULTS!$B$58),0)))","v":0},{"$f":"IF(ISERROR(METHANE!$J135*DEFAULTS!$B$84*(IF('USER INPUTS'!$B$30=\"Total landfill gas\",(1/($D$5/100)),IF('USER INPUTS'!$B$30=\"Methane\",1,IF('USER INPUTS'!$B$30=\"Carbon dioxide\",((1/($D$5/100))-1),(VLOOKUP('USER INPUTS'!$B$30,DEFAULTS!$E$8:$F$69,2,FALSE))/10^6*(1/($D$5/100))))))),0,METHANE!$J135*DEFAULTS!$B$84*(IF('USER INPUTS'!$B$30=\"Total landfill gas\",(1/($D$5/100)),IF('USER INPUTS'!$B$30=\"Methane\",1,IF('USER INPUTS'!$B$30=\"Carbon dioxide\",((1/($D$5/100))-1),(VLOOKUP('USER INPUTS'!$B$30,DEFAULTS!$E$8:$F$69,2,FALSE))/10^6*(1/($D$5/100)))))))","v":0},{"$f":"IF(ISERROR(METHANE!$J135*(IF('USER INPUTS'!$B$30=\"Total landfill gas\",(1/($D$5/100)),IF('USER INPUTS'!$B$30=\"Methane\",1,IF('USER INPUTS'!$B$30=\"Carbon dioxide\",((1/($D$5/100))-1),(VLOOKUP('USER INPUTS'!$B$30,DEFAULTS!$E$8:$F$69,2,FALSE))/10^6*(1/($D$5/100))))))),0,METHANE!$J135*(IF('USER INPUTS'!$B$30=\"Total landfill gas\",(1/($D$5/100)),IF('USER INPUTS'!$B$30=\"Methane\",1,IF('USER INPUTS'!$B$30=\"Carbon dioxide\",((1/($D$5/100))-1),(VLOOKUP('USER INPUTS'!$B$30,DEFAULTS!$E$8:$F$69,2,FALSE))/10^6*(1/($D$5/100)))))))","v":0},{"$f":"IF(Q$8=\"(short tons/year)\",(O121*DEFAULTS!$B$55*DEFAULTS!$B$53/DEFAULTS!$B$54),IF(Q$8=\"(ft^3/year)\",(P121*DEFAULTS!$B$57),IF(Q$8=\"(av ft^3/min)\",(P121*DEFAULTS!$B$57/DEFAULTS!$B$58),0)))","v":0}]
[{"$f":"METHANE!I136","v":113},0,0,0,0,{"$f":"IF(ISERROR(METHANE!$J136*DEFAULTS!$B$81*(IF('USER INPUTS'!$B$24=\"Total landfill gas\",(1/($D$5/100)),IF('USER INPUTS'!$B$24=\"Methane\",1,IF('USER INPUTS'!$B$24=\"Carbon dioxide\",((1/($D$5/100))-1),(VLOOKUP('USER INPUTS'!$B$24,DEFAULTS!$E$8:$F$69,2,FALSE))/10^6*(1/($D$5/100))))))),0,METHANE!$J136*DEFAULTS!$B$81*(IF('USER INPUTS'!$B$24=\"Total landfill gas\",(1/($D$5/100)),IF('USER INPUTS'!$B$24=\"Methane\",1,IF('USER INPUTS'!$B$24=\"Carbon dioxide\",((1/($D$5/100))-1),(VLOOKUP('USER INPUTS'!$B$24,DEFAULTS!$E$8:$F$69,2,FALSE))/10^6*(1/($D$5/100)))))))","v":0},{"$f":"IF(ISERROR(METHANE!$J136*(IF('USER INPUTS'!$B$24=\"Total landfill gas\",(1/($D$5/100)),IF('USER INPUTS'!$B$24=\"Methane\",1,IF('USER INPUTS'!$B$24=\"Carbon dioxide\",((1/($D$5/100))-1),(VLOOKUP('USER INPUTS'!$B$24,DEFAULTS!$E$8:$F$69,2,FALSE))/10^6*(1/($D$5/100))))))),0,METHANE!$J136*(IF('USER INPUTS'!$B$24=\"Total landfill gas\",(1/($D$5/100)),IF('USER INPUTS'!$B$24=\"Methane\",1,IF('USER INPUTS'!$B$24=\"Carbon dioxide\",((1/($D$5/100))-1),(VLOOKUP('USER INPUTS'!$B$24,DEFAULTS!$E$8:$F$69,2,FALSE))/10^6*(1/($D$5/100)))))))","v":0},{"$f":"IF(H$8=\"(short tons/year)\",(F122*DEFAULTS!$B$55*DEFAULTS!$B$53/DEFAULTS!$B$54),IF(H$8=\"(ft^3/year)\",(G122*DEFAULTS!$B$57),IF(H$8=\"(av ft^3/min)\",(G122*DEFAULTS!$B$57/DEFAULTS!$B$58),0)))","v":0},{"$f":"IF(ISERROR(METHANE!$J136*DEFAULTS!$B$82*(IF('USER INPUTS'!$B$26=\"Total landfill gas\",(1/($D$5/100)),IF('USER INPUTS'!$B$26=\"Methane\",1,IF('USER INPUTS'!$B$26=\"Carbon dioxide\",((1/($D$5/100))-1),(VLOOKUP('USER INPUTS'!$B$26,DEFAULTS!$E$8:$F$69,2,FALSE))/10^6*(1/($D$5/100))))))),0,METHANE!$J136*DEFAULTS!$B$82*(IF('USER INPUTS'!$B$26=\"Total landfill gas\",(1/($D$5/100)),IF('USER INPUTS'!$B$26=\"Methane\",1,IF('USER INPUTS'!$B$26=\"Carbon dioxide\",((1/($D$5/100))-1),(VLOOKUP('USER INPUTS'!$B$26,DEFAULTS!$E$8:$F$69,2,FALSE))/10^6*(1/($D$5/100)))))))","v":0},{"$f":"IF(ISERROR(METHANE!$J136*(IF('USER INPUTS'!$B$26=\"Total landfill gas\",(1/($D$5/100)),IF('USER INPUTS'!$B$26=\"Methane\",1,IF('USER INPUTS'!$B$26=\"Carbon dioxide\",((1/($D$5/100))-1),(VLOOKUP('USER INPUTS'!$B$26,DEFAULTS!$E$8:$F$69,2,FALSE))/10^6*(1/($D$5/100))))))),0,METHANE!$J136*(IF('USER INPUTS'!$B$26=\"Total landfill gas\",(1/($D$5/100)),IF('USER INPUTS'!$B$26=\"Methane\",1,IF('USER INPUTS'!$B$26=\"Carbon dioxide\",((1/($D$5/100))-1),(VLOOKUP('USER INPUTS'!$B$26,DEFAULTS!$E$8:$F$69,2,FALSE))/10^6*(1/($D$5/100)))))))","v":0},{"$f":"IF(K$8=\"(short tons/year)\",(I122*DEFAULTS!$B$55*DEFAULTS!$B$53/DEFAULTS!$B$54),IF(K$8=\"(ft^3/year)\",(J122*DEFAULTS!$B$57),IF(K$8=\"(av ft^3/min)\",(J122*DEFAULTS!$B$57/DEFAULTS!$B$58),0)))","v":0},{"$f":"IF(ISERROR(METHANE!$J136*DEFAULTS!$B$83*(IF('USER INPUTS'!$B$28=\"Total landfill gas\",(1/($D$5/100)),IF('USER INPUTS'!$B$28=\"Methane\",1,IF('USER INPUTS'!$B$28=\"Carbon dioxide\",((1/($D$5/100))-1),(VLOOKUP('USER INPUTS'!$B$28,DEFAULTS!$E$8:$F$69,2,FALSE))/10^6*(1/($D$5/100))))))),0,METHANE!$J136*DEFAULTS!$B$83*(IF('USER INPUTS'!$B$28=\"Total landfill gas\",(1/($D$5/100)),IF('USER INPUTS'!$B$28=\"Methane\",1,IF('USER INPUTS'!$B$28=\"Carbon dioxide\",((1/($D$5/100))-1),(VLOOKUP('USER INPUTS'!$B$28,DEFAULTS!$E$8:$F$69,2,FALSE))/10^6*(1/($D$5/100)))))))","v":0},{"$f":"IF(ISERROR(METHANE!$J136*(IF('USER INPUTS'!$B$28=\"Total landfill gas\",(1/($D$5/100)),IF('USER INPUTS'!$B$28=\"Methane\",1,IF('USER INPUTS'!$B$28=\"Carbon dioxide\",((1/($D$5/100))-1),(VLOOKUP('USER INPUTS'!$B$28,DEFAULTS!$E$8:$F$69,2,FALSE))/10^6*(1/($D$5/100))))))),0,METHANE!$J136*(IF('USER INPUTS'!$B$28=\"Total landfill gas\",(1/($D$5/100)),IF('USER INPUTS'!$B$28=\"Methane\",1,IF('USER INPUTS'!$B$28=\"Carbon dioxide\",((1/($D$5/100))-1),(VLOOKUP('USER INPUTS'!$B$28,DEFAULTS!$E$8:$F$69,2,FALSE))/10^6*(1/($D$5/100)))))))","v":0},{"$f":"IF(N$8=\"(short tons/year)\",(L122*DEFAULTS!$B$55*DEFAULTS!$B$53/DEFAULTS!$B$54),IF(N$8=\"(ft^3/year)\",(M122*DEFAULTS!$B$57),IF(N$8=\"(av ft^3/min)\",(M122*DEFAULTS!$B$57/DEFAULTS!$B$58),0)))","v":0},{"$f":"IF(ISERROR(METHANE!$J136*DEFAULTS!$B$84*(IF('USER INPUTS'!$B$30=\"Total landfill gas\",(1/($D$5/100)),IF('USER INPUTS'!$B$30=\"Methane\",1,IF('USER INPUTS'!$B$30=\"Carbon dioxide\",((1/($D$5/100))-1),(VLOOKUP('USER INPUTS'!$B$30,DEFAULTS!$E$8:$F$69,2,FALSE))/10^6*(1/($D$5/100))))))),0,METHANE!$J136*DEFAULTS!$B$84*(IF('USER INPUTS'!$B$30=\"Total landfill gas\",(1/($D$5/100)),IF('USER INPUTS'!$B$30=\"Methane\",1,IF('USER INPUTS'!$B$30=\"Carbon dioxide\",((1/($D$5/100))-1),(VLOOKUP('USER INPUTS'!$B$30,DEFAULTS!$E$8:$F$69,2,FALSE))/10^6*(1/($D$5/100)))))))","v":0},{"$f":"IF(ISERROR(METHANE!$J136*(IF('USER INPUTS'!$B$30=\"Total landfill gas\",(1/($D$5/100)),IF('USER INPUTS'!$B$30=\"Methane\",1,IF('USER INPUTS'!$B$30=\"Carbon dioxide\",((1/($D$5/100))-1),(VLOOKUP('USER INPUTS'!$B$30,DEFAULTS!$E$8:$F$69,2,FALSE))/10^6*(1/($D$5/100))))))),0,METHANE!$J136*(IF('USER INPUTS'!$B$30=\"Total landfill gas\",(1/($D$5/100)),IF('USER INPUTS'!$B$30=\"Methane\",1,IF('USER INPUTS'!$B$30=\"Carbon dioxide\",((1/($D$5/100))-1),(VLOOKUP('USER INPUTS'!$B$30,DEFAULTS!$E$8:$F$69,2,FALSE))/10^6*(1/($D$5/100)))))))","v":0},{"$f":"IF(Q$8=\"(short tons/year)\",(O122*DEFAULTS!$B$55*DEFAULTS!$B$53/DEFAULTS!$B$54),IF(Q$8=\"(ft^3/year)\",(P122*DEFAULTS!$B$57),IF(Q$8=\"(av ft^3/min)\",(P122*DEFAULTS!$B$57/DEFAULTS!$B$58),0)))","v":0}]
[{"$f":"METHANE!I137","v":114},0,0,0,0,{"$f":"IF(ISERROR(METHANE!$J137*DEFAULTS!$B$81*(IF('USER INPUTS'!$B$24=\"Total landfill gas\",(1/($D$5/100)),IF('USER INPUTS'!$B$24=\"Methane\",1,IF('USER INPUTS'!$B$24=\"Carbon dioxide\",((1/($D$5/100))-1),(VLOOKUP('USER INPUTS'!$B$24,DEFAULTS!$E$8:$F$69,2,FALSE))/10^6*(1/($D$5/100))))))),0,METHANE!$J137*DEFAULTS!$B$81*(IF('USER INPUTS'!$B$24=\"Total landfill gas\",(1/($D$5/100)),IF('USER INPUTS'!$B$24=\"Methane\",1,IF('USER INPUTS'!$B$24=\"Carbon dioxide\",((1/($D$5/100))-1),(VLOOKUP('USER INPUTS'!$B$24,DEFAULTS!$E$8:$F$69,2,FALSE))/10^6*(1/($D$5/100)))))))","v":0},{"$f":"IF(ISERROR(METHANE!$J137*(IF('USER INPUTS'!$B$24=\"Total landfill gas\",(1/($D$5/100)),IF('USER INPUTS'!$B$24=\"Methane\",1,IF('USER INPUTS'!$B$24=\"Carbon dioxide\",((1/($D$5/100))-1),(VLOOKUP('USER INPUTS'!$B$24,DEFAULTS!$E$8:$F$69,2,FALSE))/10^6*(1/($D$5/100))))))),0,METHANE!$J137*(IF('USER INPUTS'!$B$24=\"Total landfill gas\",(1/($D$5/100)),IF('USER INPUTS'!$B$24=\"Methane\",1,IF('USER INPUTS'!$B$24=\"Carbon dioxide\",((1/($D$5/100))-1),(VLOOKUP('USER INPUTS'!$B$24,DEFAULTS!$E$8:$F$69,2,FALSE))/10^6*(1/($D$5/100)))))))","v":0},{"$f":"IF(H$8=\"(short tons/year)\",(F123*DEFAULTS!$B$55*DEFAULTS!$B$53/DEFAULTS!$B$54),IF(H$8=\"(ft^3/year)\",(G123*DEFAULTS!$B$57),IF(H$8=\"(av ft^3/min)\",(G123*DEFAULTS!$B$57/DEFAULTS!$B$58),0)))","v":0},{"$f":"IF(ISERROR(METHANE!$J137*DEFAULTS!$B$82*(IF('USER INPUTS'!$B$26=\"Total landfill gas\",(1/($D$5/100)),IF('USER INPUTS'!$B$26=\"Methane\",1,IF('USER INPUTS'!$B$26=\"Carbon dioxide\",((1/($D$5/100))-1),(VLOOKUP('USER INPUTS'!$B$26,DEFAULTS!$E$8:$F$69,2,FALSE))/10^6*(1/($D$5/100))))))),0,METHANE!$J137*DEFAULTS!$B$82*(IF('USER INPUTS'!$B$26=\"Total landfill gas\",(1/($D$5/100)),IF('USER INPUTS'!$B$26=\"Methane\",1,IF('USER INPUTS'!$B$26=\"Carbon dioxide\",((1/($D$5/100))-1),(VLOOKUP('USER INPUTS'!$B$26,DEFAULTS!$E$8:$F$69,2,FALSE))/10^6*(1/($D$5/100)))))))","v":0},{"$f":"IF(ISERROR(METHANE!$J137*(IF('USER INPUTS'!$B$26=\"Total landfill gas\",(1/($D$5/100)),IF('USER INPUTS'!$B$26=\"Methane\",1,IF('USER INPUTS'!$B$26=\"Carbon dioxide\",((1/($D$5/100))-1),(VLOOKUP('USER INPUTS'!$B$26,DEFAULTS!$E$8:$F$69,2,FALSE))/10^6*(1/($D$5/100))))))),0,METHANE!$J137*(IF('USER INPUTS'!$B$26=\"Total landfill gas\",(1/($D$5/100)),IF('USER INPUTS'!$B$26=\"Methane\",1,IF('USER INPUTS'!$B$26=\"Carbon dioxide\",((1/($D$5/100))-1),(VLOOKUP('USER INPUTS'!$B$26,DEFAULTS!$E$8:$F$69,2,FALSE))/10^6*(1/($D$5/100)))))))","v":0},{"$f":"IF(K$8=\"(short tons/year)\",(I123*DEFAULTS!$B$55*DEFAULTS!$B$53/DEFAULTS!$B$54),IF(K$8=\"(ft^3/year)\",(J123*DEFAULTS!$B$57),IF(K$8=\"(av ft^3/min)\",(J123*DEFAULTS!$B$57/DEFAULTS!$B$58),0)))","v":0},{"$f":"IF(ISERROR(METHANE!$J137*DEFAULTS!$B$83*(IF('USER INPUTS'!$B$28=\"Total landfill gas\",(1/($D$5/100)),IF('USER INPUTS'!$B$28=\"Methane\",1,IF('USER INPUTS'!$B$28=\"Carbon dioxide\",((1/($D$5/100))-1),(VLOOKUP('USER INPUTS'!$B$28,DEFAULTS!$E$8:$F$69,2,FALSE))/10^6*(1/($D$5/100))))))),0,METHANE!$J137*DEFAULTS!$B$83*(IF('USER INPUTS'!$B$28=\"Total landfill gas\",(1/($D$5/100)),IF('USER INPUTS'!$B$28=\"Methane\",1,IF('USER INPUTS'!$B$28=\"Carbon dioxide\",((1/($D$5/100))-1),(VLOOKUP('USER INPUTS'!$B$28,DEFAULTS!$E$8:$F$69,2,FALSE))/10^6*(1/($D$5/100)))))))","v":0},{"$f":"IF(ISERROR(METHANE!$J137*(IF('USER INPUTS'!$B$28=\"Total landfill gas\",(1/($D$5/100)),IF('USER INPUTS'!$B$28=\"Methane\",1,IF('USER INPUTS'!$B$28=\"Carbon dioxide\",((1/($D$5/100))-1),(VLOOKUP('USER INPUTS'!$B$28,DEFAULTS!$E$8:$F$69,2,FALSE))/10^6*(1/($D$5/100))))))),0,METHANE!$J137*(IF('USER INPUTS'!$B$28=\"Total landfill gas\",(1/($D$5/100)),IF('USER INPUTS'!$B$28=\"Methane\",1,IF('USER INPUTS'!$B$28=\"Carbon dioxide\",((1/($D$5/100))-1),(VLOOKUP('USER INPUTS'!$B$28,DEFAULTS!$E$8:$F$69,2,FALSE))/10^6*(1/($D$5/100)))))))","v":0},{"$f":"IF(N$8=\"(short tons/year)\",(L123*DEFAULTS!$B$55*DEFAULTS!$B$53/DEFAULTS!$B$54),IF(N$8=\"(ft^3/year)\",(M123*DEFAULTS!$B$57),IF(N$8=\"(av ft^3/min)\",(M123*DEFAULTS!$B$57/DEFAULTS!$B$58),0)))","v":0},{"$f":"IF(ISERROR(METHANE!$J137*DEFAULTS!$B$84*(IF('USER INPUTS'!$B$30=\"Total landfill gas\",(1/($D$5/100)),IF('USER INPUTS'!$B$30=\"Methane\",1,IF('USER INPUTS'!$B$30=\"Carbon dioxide\",((1/($D$5/100))-1),(VLOOKUP('USER INPUTS'!$B$30,DEFAULTS!$E$8:$F$69,2,FALSE))/10^6*(1/($D$5/100))))))),0,METHANE!$J137*DEFAULTS!$B$84*(IF('USER INPUTS'!$B$30=\"Total landfill gas\",(1/($D$5/100)),IF('USER INPUTS'!$B$30=\"Methane\",1,IF('USER INPUTS'!$B$30=\"Carbon dioxide\",((1/($D$5/100))-1),(VLOOKUP('USER INPUTS'!$B$30,DEFAULTS!$E$8:$F$69,2,FALSE))/10^6*(1/($D$5/100)))))))","v":0},{"$f":"IF(ISERROR(METHANE!$J137*(IF('USER INPUTS'!$B$30=\"Total landfill gas\",(1/($D$5/100)),IF('USER INPUTS'!$B$30=\"Methane\",1,IF('USER INPUTS'!$B$30=\"Carbon dioxide\",((1/($D$5/100))-1),(VLOOKUP('USER INPUTS'!$B$30,DEFAULTS!$E$8:$F$69,2,FALSE))/10^6*(1/($D$5/100))))))),0,METHANE!$J137*(IF('USER INPUTS'!$B$30=\"Total landfill gas\",(1/($D$5/100)),IF('USER INPUTS'!$B$30=\"Methane\",1,IF('USER INPUTS'!$B$30=\"Carbon dioxide\",((1/($D$5/100))-1),(VLOOKUP('USER INPUTS'!$B$30,DEFAULTS!$E$8:$F$69,2,FALSE))/10^6*(1/($D$5/100)))))))","v":0},{"$f":"IF(Q$8=\"(short tons/year)\",(O123*DEFAULTS!$B$55*DEFAULTS!$B$53/DEFAULTS!$B$54),IF(Q$8=\"(ft^3/year)\",(P123*DEFAULTS!$B$57),IF(Q$8=\"(av ft^3/min)\",(P123*DEFAULTS!$B$57/DEFAULTS!$B$58),0)))","v":0}]
[{"$f":"METHANE!I138","v":115},0,0,0,0,{"$f":"IF(ISERROR(METHANE!$J138*DEFAULTS!$B$81*(IF('USER INPUTS'!$B$24=\"Total landfill gas\",(1/($D$5/100)),IF('USER INPUTS'!$B$24=\"Methane\",1,IF('USER INPUTS'!$B$24=\"Carbon dioxide\",((1/($D$5/100))-1),(VLOOKUP('USER INPUTS'!$B$24,DEFAULTS!$E$8:$F$69,2,FALSE))/10^6*(1/($D$5/100))))))),0,METHANE!$J138*DEFAULTS!$B$81*(IF('USER INPUTS'!$B$24=\"Total landfill gas\",(1/($D$5/100)),IF('USER INPUTS'!$B$24=\"Methane\",1,IF('USER INPUTS'!$B$24=\"Carbon dioxide\",((1/($D$5/100))-1),(VLOOKUP('USER INPUTS'!$B$24,DEFAULTS!$E$8:$F$69,2,FALSE))/10^6*(1/($D$5/100)))))))","v":0},{"$f":"IF(ISERROR(METHANE!$J138*(IF('USER INPUTS'!$B$24=\"Total landfill gas\",(1/($D$5/100)),IF('USER INPUTS'!$B$24=\"Methane\",1,IF('USER INPUTS'!$B$24=\"Carbon dioxide\",((1/($D$5/100))-1),(VLOOKUP('USER INPUTS'!$B$24,DEFAULTS!$E$8:$F$69,2,FALSE))/10^6*(1/($D$5/100))))))),0,METHANE!$J138*(IF('USER INPUTS'!$B$24=\"Total landfill gas\",(1/($D$5/100)),IF('USER INPUTS'!$B$24=\"Methane\",1,IF('USER INPUTS'!$B$24=\"Carbon dioxide\",((1/($D$5/100))-1),(VLOOKUP('USER INPUTS'!$B$24,DEFAULTS!$E$8:$F$69,2,FALSE))/10^6*(1/($D$5/100)))))))","v":0},{"$f":"IF(H$8=\"(short tons/year)\",(F124*DEFAULTS!$B$55*DEFAULTS!$B$53/DEFAULTS!$B$54),IF(H$8=\"(ft^3/year)\",(G124*DEFAULTS!$B$57),IF(H$8=\"(av ft^3/min)\",(G124*DEFAULTS!$B$57/DEFAULTS!$B$58),0)))","v":0},{"$f":"IF(ISERROR(METHANE!$J138*DEFAULTS!$B$82*(IF('USER INPUTS'!$B$26=\"Total landfill gas\",(1/($D$5/100)),IF('USER INPUTS'!$B$26=\"Methane\",1,IF('USER INPUTS'!$B$26=\"Carbon dioxide\",((1/($D$5/100))-1),(VLOOKUP('USER INPUTS'!$B$26,DEFAULTS!$E$8:$F$69,2,FALSE))/10^6*(1/($D$5/100))))))),0,METHANE!$J138*DEFAULTS!$B$82*(IF('USER INPUTS'!$B$26=\"Total landfill gas\",(1/($D$5/100)),IF('USER INPUTS'!$B$26=\"Methane\",1,IF('USER INPUTS'!$B$26=\"Carbon dioxide\",((1/($D$5/100))-1),(VLOOKUP('USER INPUTS'!$B$26,DEFAULTS!$E$8:$F$69,2,FALSE))/10^6*(1/($D$5/100)))))))","v":0},{"$f":"IF(ISERROR(METHANE!$J138*(IF('USER INPUTS'!$B$26=\"Total landfill gas\",(1/($D$5/100)),IF('USER INPUTS'!$B$26=\"Methane\",1,IF('USER INPUTS'!$B$26=\"Carbon dioxide\",((1/($D$5/100))-1),(VLOOKUP('USER INPUTS'!$B$26,DEFAULTS!$E$8:$F$69,2,FALSE))/10^6*(1/($D$5/100))))))),0,METHANE!$J138*(IF('USER INPUTS'!$B$26=\"Total landfill gas\",(1/($D$5/100)),IF('USER INPUTS'!$B$26=\"Methane\",1,IF('USER INPUTS'!$B$26=\"Carbon dioxide\",((1/($D$5/100))-1),(VLOOKUP('USER INPUTS'!$B$26,DEFAULTS!$E$8:$F$69,2,FALSE))/10^6*(1/($D$5/100)))))))","v":0},{"$f":"IF(K$8=\"(short tons/year)\",(I124*DEFAULTS!$B$55*DEFAULTS!$B$53/DEFAULTS!$B$54),IF(K$8=\"(ft^3/year)\",(J124*DEFAULTS!$B$57),IF(K$8=\"(av ft^3/min)\",(J124*DEFAULTS!$B$57/DEFAULTS!$B$58),0)))","v":0},{"$f":"IF(ISERROR(METHANE!$J138*DEFAULTS!$B$83*(IF('USER INPUTS'!$B$28=\"Total landfill gas\",(1/($D$5/100)),IF('USER INPUTS'!$B$28=\"Methane\",1,IF('USER INPUTS'!$B$28=\"Carbon dioxide\",((1/($D$5/100))-1),(VLOOKUP('USER INPUTS'!$B$28,DEFAULTS!$E$8:$F$69,2,FALSE))/10^6*(1/($D$5/100))))))),0,METHANE!$J138*DEFAULTS!$B$83*(IF('USER INPUTS'!$B$28=\"Total landfill gas\",(1/($D$5/100)),IF('USER INPUTS'!$B$28=\"Methane\",1,IF('USER INPUTS'!$B$28=\"Carbon dioxide\",((1/($D$5/100))-1),(VLOOKUP('USER INPUTS'!$B$28,DEFAULTS!$E$8:$F$69,2,FALSE))/10^6*(1/($D$5/100)))))))","v":0},{"$f":"IF(ISERROR(METHANE!$J138*(IF('USER INPUTS'!$B$28=\"Total landfill gas\",(1/($D$5/100)),IF('USER INPUTS'!$B$28=\"Methane\",1,IF('USER INPUTS'!$B$28=\"Carbon dioxide\",((1/($D$5/100))-1),(VLOOKUP('USER INPUTS'!$B$28,DEFAULTS!$E$8:$F$69,2,FALSE))/10^6*(1/($D$5/100))))))),0,METHANE!$J138*(IF('USER INPUTS'!$B$28=\"Total landfill gas\",(1/($D$5/100)),IF('USER INPUTS'!$B$28=\"Methane\",1,IF('USER INPUTS'!$B$28=\"Carbon dioxide\",((1/($D$5/100))-1),(VLOOKUP('USER INPUTS'!$B$28,DEFAULTS!$E$8:$F$69,2,FALSE))/10^6*(1/($D$5/100)))))))","v":0},{"$f":"IF(N$8=\"(short tons/year)\",(L124*DEFAULTS!$B$55*DEFAULTS!$B$53/DEFAULTS!$B$54),IF(N$8=\"(ft^3/year)\",(M124*DEFAULTS!$B$57),IF(N$8=\"(av ft^3/min)\",(M124*DEFAULTS!$B$57/DEFAULTS!$B$58),0)))","v":0},{"$f":"IF(ISERROR(METHANE!$J138*DEFAULTS!$B$84*(IF('USER INPUTS'!$B$30=\"Total landfill gas\",(1/($D$5/100)),IF('USER INPUTS'!$B$30=\"Methane\",1,IF('USER INPUTS'!$B$30=\"Carbon dioxide\",((1/($D$5/100))-1),(VLOOKUP('USER INPUTS'!$B$30,DEFAULTS!$E$8:$F$69,2,FALSE))/10^6*(1/($D$5/100))))))),0,METHANE!$J138*DEFAULTS!$B$84*(IF('USER INPUTS'!$B$30=\"Total landfill gas\",(1/($D$5/100)),IF('USER INPUTS'!$B$30=\"Methane\",1,IF('USER INPUTS'!$B$30=\"Carbon dioxide\",((1/($D$5/100))-1),(VLOOKUP('USER INPUTS'!$B$30,DEFAULTS!$E$8:$F$69,2,FALSE))/10^6*(1/($D$5/100)))))))","v":0},{"$f":"IF(ISERROR(METHANE!$J138*(IF('USER INPUTS'!$B$30=\"Total landfill gas\",(1/($D$5/100)),IF('USER INPUTS'!$B$30=\"Methane\",1,IF('USER INPUTS'!$B$30=\"Carbon dioxide\",((1/($D$5/100))-1),(VLOOKUP('USER INPUTS'!$B$30,DEFAULTS!$E$8:$F$69,2,FALSE))/10^6*(1/($D$5/100))))))),0,METHANE!$J138*(IF('USER INPUTS'!$B$30=\"Total landfill gas\",(1/($D$5/100)),IF('USER INPUTS'!$B$30=\"Methane\",1,IF('USER INPUTS'!$B$30=\"Carbon dioxide\",((1/($D$5/100))-1),(VLOOKUP('USER INPUTS'!$B$30,DEFAULTS!$E$8:$F$69,2,FALSE))/10^6*(1/($D$5/100)))))))","v":0},{"$f":"IF(Q$8=\"(short tons/year)\",(O124*DEFAULTS!$B$55*DEFAULTS!$B$53/DEFAULTS!$B$54),IF(Q$8=\"(ft^3/year)\",(P124*DEFAULTS!$B$57),IF(Q$8=\"(av ft^3/min)\",(P124*DEFAULTS!$B$57/DEFAULTS!$B$58),0)))","v":0}]
[{"$f":"METHANE!I139","v":116},0,0,0,0,{"$f":"IF(ISERROR(METHANE!$J139*DEFAULTS!$B$81*(IF('USER INPUTS'!$B$24=\"Total landfill gas\",(1/($D$5/100)),IF('USER INPUTS'!$B$24=\"Methane\",1,IF('USER INPUTS'!$B$24=\"Carbon dioxide\",((1/($D$5/100))-1),(VLOOKUP('USER INPUTS'!$B$24,DEFAULTS!$E$8:$F$69,2,FALSE))/10^6*(1/($D$5/100))))))),0,METHANE!$J139*DEFAULTS!$B$81*(IF('USER INPUTS'!$B$24=\"Total landfill gas\",(1/($D$5/100)),IF('USER INPUTS'!$B$24=\"Methane\",1,IF('USER INPUTS'!$B$24=\"Carbon dioxide\",((1/($D$5/100))-1),(VLOOKUP('USER INPUTS'!$B$24,DEFAULTS!$E$8:$F$69,2,FALSE))/10^6*(1/($D$5/100)))))))","v":0},{"$f":"IF(ISERROR(METHANE!$J139*(IF('USER INPUTS'!$B$24=\"Total landfill gas\",(1/($D$5/100)),IF('USER INPUTS'!$B$24=\"Methane\",1,IF('USER INPUTS'!$B$24=\"Carbon dioxide\",((1/($D$5/100))-1),(VLOOKUP('USER INPUTS'!$B$24,DEFAULTS!$E$8:$F$69,2,FALSE))/10^6*(1/($D$5/100))))))),0,METHANE!$J139*(IF('USER INPUTS'!$B$24=\"Total landfill gas\",(1/($D$5/100)),IF('USER INPUTS'!$B$24=\"Methane\",1,IF('USER INPUTS'!$B$24=\"Carbon dioxide\",((1/($D$5/100))-1),(VLOOKUP('USER INPUTS'!$B$24,DEFAULTS!$E$8:$F$69,2,FALSE))/10^6*(1/($D$5/100)))))))","v":0},{"$f":"IF(H$8=\"(short tons/year)\",(F125*DEFAULTS!$B$55*DEFAULTS!$B$53/DEFAULTS!$B$54),IF(H$8=\"(ft^3/year)\",(G125*DEFAULTS!$B$57),IF(H$8=\"(av ft^3/min)\",(G125*DEFAULTS!$B$57/DEFAULTS!$B$58),0)))","v":0},{"$f":"IF(ISERROR(METHANE!$J139*DEFAULTS!$B$82*(IF('USER INPUTS'!$B$26=\"Total landfill gas\",(1/($D$5/100)),IF('USER INPUTS'!$B$26=\"Methane\",1,IF('USER INPUTS'!$B$26=\"Carbon dioxide\",((1/($D$5/100))-1),(VLOOKUP('USER INPUTS'!$B$26,DEFAULTS!$E$8:$F$69,2,FALSE))/10^6*(1/($D$5/100))))))),0,METHANE!$J139*DEFAULTS!$B$82*(IF('USER INPUTS'!$B$26=\"Total landfill gas\",(1/($D$5/100)),IF('USER INPUTS'!$B$26=\"Methane\",1,IF('USER INPUTS'!$B$26=\"Carbon dioxide\",((1/($D$5/100))-1),(VLOOKUP('USER INPUTS'!$B$26,DEFAULTS!$E$8:$F$69,2,FALSE))/10^6*(1/($D$5/100)))))))","v":0},{"$f":"IF(ISERROR(METHANE!$J139*(IF('USER INPUTS'!$B$26=\"Total landfill gas\",(1/($D$5/100)),IF('USER INPUTS'!$B$26=\"Methane\",1,IF('USER INPUTS'!$B$26=\"Carbon dioxide\",((1/($D$5/100))-1),(VLOOKUP('USER INPUTS'!$B$26,DEFAULTS!$E$8:$F$69,2,FALSE))/10^6*(1/($D$5/100))))))),0,METHANE!$J139*(IF('USER INPUTS'!$B$26=\"Total landfill gas\",(1/($D$5/100)),IF('USER INPUTS'!$B$26=\"Methane\",1,IF('USER INPUTS'!$B$26=\"Carbon dioxide\",((1/($D$5/100))-1),(VLOOKUP('USER INPUTS'!$B$26,DEFAULTS!$E$8:$F$69,2,FALSE))/10^6*(1/($D$5/100)))))))","v":0},{"$f":"IF(K$8=\"(short tons/year)\",(I125*DEFAULTS!$B$55*DEFAULTS!$B$53/DEFAULTS!$B$54),IF(K$8=\"(ft^3/year)\",(J125*DEFAULTS!$B$57),IF(K$8=\"(av ft^3/min)\",(J125*DEFAULTS!$B$57/DEFAULTS!$B$58),0)))","v":0},{"$f":"IF(ISERROR(METHANE!$J139*DEFAULTS!$B$83*(IF('USER INPUTS'!$B$28=\"Total landfill gas\",(1/($D$5/100)),IF('USER INPUTS'!$B$28=\"Methane\",1,IF('USER INPUTS'!$B$28=\"Carbon dioxide\",((1/($D$5/100))-1),(VLOOKUP('USER INPUTS'!$B$28,DEFAULTS!$E$8:$F$69,2,FALSE))/10^6*(1/($D$5/100))))))),0,METHANE!$J139*DEFAULTS!$B$83*(IF('USER INPUTS'!$B$28=\"Total landfill gas\",(1/($D$5/100)),IF('USER INPUTS'!$B$28=\"Methane\",1,IF('USER INPUTS'!$B$28=\"Carbon dioxide\",((1/($D$5/100))-1),(VLOOKUP('USER INPUTS'!$B$28,DEFAULTS!$E$8:$F$69,2,FALSE))/10^6*(1/($D$5/100)))))))","v":0},{"$f":"IF(ISERROR(METHANE!$J139*(IF('USER INPUTS'!$B$28=\"Total landfill gas\",(1/($D$5/100)),IF('USER INPUTS'!$B$28=\"Methane\",1,IF('USER INPUTS'!$B$28=\"Carbon dioxide\",((1/($D$5/100))-1),(VLOOKUP('USER INPUTS'!$B$28,DEFAULTS!$E$8:$F$69,2,FALSE))/10^6*(1/($D$5/100))))))),0,METHANE!$J139*(IF('USER INPUTS'!$B$28=\"Total landfill gas\",(1/($D$5/100)),IF('USER INPUTS'!$B$28=\"Methane\",1,IF('USER INPUTS'!$B$28=\"Carbon dioxide\",((1/($D$5/100))-1),(VLOOKUP('USER INPUTS'!$B$28,DEFAULTS!$E$8:$F$69,2,FALSE))/10^6*(1/($D$5/100)))))))","v":0},{"$f":"IF(N$8=\"(short tons/year)\",(L125*DEFAULTS!$B$55*DEFAULTS!$B$53/DEFAULTS!$B$54),IF(N$8=\"(ft^3/year)\",(M125*DEFAULTS!$B$57),IF(N$8=\"(av ft^3/min)\",(M125*DEFAULTS!$B$57/DEFAULTS!$B$58),0)))","v":0},{"$f":"IF(ISERROR(METHANE!$J139*DEFAULTS!$B$84*(IF('USER INPUTS'!$B$30=\"Total landfill gas\",(1/($D$5/100)),IF('USER INPUTS'!$B$30=\"Methane\",1,IF('USER INPUTS'!$B$30=\"Carbon dioxide\",((1/($D$5/100))-1),(VLOOKUP('USER INPUTS'!$B$30,DEFAULTS!$E$8:$F$69,2,FALSE))/10^6*(1/($D$5/100))))))),0,METHANE!$J139*DEFAULTS!$B$84*(IF('USER INPUTS'!$B$30=\"Total landfill gas\",(1/($D$5/100)),IF('USER INPUTS'!$B$30=\"Methane\",1,IF('USER INPUTS'!$B$30=\"Carbon dioxide\",((1/($D$5/100))-1),(VLOOKUP('USER INPUTS'!$B$30,DEFAULTS!$E$8:$F$69,2,FALSE))/10^6*(1/($D$5/100)))))))","v":0},{"$f":"IF(ISERROR(METHANE!$J139*(IF('USER INPUTS'!$B$30=\"Total landfill gas\",(1/($D$5/100)),IF('USER INPUTS'!$B$30=\"Methane\",1,IF('USER INPUTS'!$B$30=\"Carbon dioxide\",((1/($D$5/100))-1),(VLOOKUP('USER INPUTS'!$B$30,DEFAULTS!$E$8:$F$69,2,FALSE))/10^6*(1/($D$5/100))))))),0,METHANE!$J139*(IF('USER INPUTS'!$B$30=\"Total landfill gas\",(1/($D$5/100)),IF('USER INPUTS'!$B$30=\"Methane\",1,IF('USER INPUTS'!$B$30=\"Carbon dioxide\",((1/($D$5/100))-1),(VLOOKUP('USER INPUTS'!$B$30,DEFAULTS!$E$8:$F$69,2,FALSE))/10^6*(1/($D$5/100)))))))","v":0},{"$f":"IF(Q$8=\"(short tons/year)\",(O125*DEFAULTS!$B$55*DEFAULTS!$B$53/DEFAULTS!$B$54),IF(Q$8=\"(ft^3/year)\",(P125*DEFAULTS!$B$57),IF(Q$8=\"(av ft^3/min)\",(P125*DEFAULTS!$B$57/DEFAULTS!$B$58),0)))","v":0}]
[{"$f":"METHANE!I140","v":117},0,0,0,0,{"$f":"IF(ISERROR(METHANE!$J140*DEFAULTS!$B$81*(IF('USER INPUTS'!$B$24=\"Total landfill gas\",(1/($D$5/100)),IF('USER INPUTS'!$B$24=\"Methane\",1,IF('USER INPUTS'!$B$24=\"Carbon dioxide\",((1/($D$5/100))-1),(VLOOKUP('USER INPUTS'!$B$24,DEFAULTS!$E$8:$F$69,2,FALSE))/10^6*(1/($D$5/100))))))),0,METHANE!$J140*DEFAULTS!$B$81*(IF('USER INPUTS'!$B$24=\"Total landfill gas\",(1/($D$5/100)),IF('USER INPUTS'!$B$24=\"Methane\",1,IF('USER INPUTS'!$B$24=\"Carbon dioxide\",((1/($D$5/100))-1),(VLOOKUP('USER INPUTS'!$B$24,DEFAULTS!$E$8:$F$69,2,FALSE))/10^6*(1/($D$5/100)))))))","v":0},{"$f":"IF(ISERROR(METHANE!$J140*(IF('USER INPUTS'!$B$24=\"Total landfill gas\",(1/($D$5/100)),IF('USER INPUTS'!$B$24=\"Methane\",1,IF('USER INPUTS'!$B$24=\"Carbon dioxide\",((1/($D$5/100))-1),(VLOOKUP('USER INPUTS'!$B$24,DEFAULTS!$E$8:$F$69,2,FALSE))/10^6*(1/($D$5/100))))))),0,METHANE!$J140*(IF('USER INPUTS'!$B$24=\"Total landfill gas\",(1/($D$5/100)),IF('USER INPUTS'!$B$24=\"Methane\",1,IF('USER INPUTS'!$B$24=\"Carbon dioxide\",((1/($D$5/100))-1),(VLOOKUP('USER INPUTS'!$B$24,DEFAULTS!$E$8:$F$69,2,FALSE))/10^6*(1/($D$5/100)))))))","v":0},{"$f":"IF(H$8=\"(short tons/year)\",(F126*DEFAULTS!$B$55*DEFAULTS!$B$53/DEFAULTS!$B$54),IF(H$8=\"(ft^3/year)\",(G126*DEFAULTS!$B$57),IF(H$8=\"(av ft^3/min)\",(G126*DEFAULTS!$B$57/DEFAULTS!$B$58),0)))","v":0},{"$f":"IF(ISERROR(METHANE!$J140*DEFAULTS!$B$82*(IF('USER INPUTS'!$B$26=\"Total landfill gas\",(1/($D$5/100)),IF('USER INPUTS'!$B$26=\"Methane\",1,IF('USER INPUTS'!$B$26=\"Carbon dioxide\",((1/($D$5/100))-1),(VLOOKUP('USER INPUTS'!$B$26,DEFAULTS!$E$8:$F$69,2,FALSE))/10^6*(1/($D$5/100))))))),0,METHANE!$J140*DEFAULTS!$B$82*(IF('USER INPUTS'!$B$26=\"Total landfill gas\",(1/($D$5/100)),IF('USER INPUTS'!$B$26=\"Methane\",1,IF('USER INPUTS'!$B$26=\"Carbon dioxide\",((1/($D$5/100))-1),(VLOOKUP('USER INPUTS'!$B$26,DEFAULTS!$E$8:$F$69,2,FALSE))/10^6*(1/($D$5/100)))))))","v":0},{"$f":"IF(ISERROR(METHANE!$J140*(IF('USER INPUTS'!$B$26=\"Total landfill gas\",(1/($D$5/100)),IF('USER INPUTS'!$B$26=\"Methane\",1,IF('USER INPUTS'!$B$26=\"Carbon dioxide\",((1/($D$5/100))-1),(VLOOKUP('USER INPUTS'!$B$26,DEFAULTS!$E$8:$F$69,2,FALSE))/10^6*(1/($D$5/100))))))),0,METHANE!$J140*(IF('USER INPUTS'!$B$26=\"Total landfill gas\",(1/($D$5/100)),IF('USER INPUTS'!$B$26=\"Methane\",1,IF('USER INPUTS'!$B$26=\"Carbon dioxide\",((1/($D$5/100))-1),(VLOOKUP('USER INPUTS'!$B$26,DEFAULTS!$E$8:$F$69,2,FALSE))/10^6*(1/($D$5/100)))))))","v":0},{"$f":"IF(K$8=\"(short tons/year)\",(I126*DEFAULTS!$B$55*DEFAULTS!$B$53/DEFAULTS!$B$54),IF(K$8=\"(ft^3/year)\",(J126*DEFAULTS!$B$57),IF(K$8=\"(av ft^3/min)\",(J126*DEFAULTS!$B$57/DEFAULTS!$B$58),0)))","v":0},{"$f":"IF(ISERROR(METHANE!$J140*DEFAULTS!$B$83*(IF('USER INPUTS'!$B$28=\"Total landfill gas\",(1/($D$5/100)),IF('USER INPUTS'!$B$28=\"Methane\",1,IF('USER INPUTS'!$B$28=\"Carbon dioxide\",((1/($D$5/100))-1),(VLOOKUP('USER INPUTS'!$B$28,DEFAULTS!$E$8:$F$69,2,FALSE))/10^6*(1/($D$5/100))))))),0,METHANE!$J140*DEFAULTS!$B$83*(IF('USER INPUTS'!$B$28=\"Total landfill gas\",(1/($D$5/100)),IF('USER INPUTS'!$B$28=\"Methane\",1,IF('USER INPUTS'!$B$28=\"Carbon dioxide\",((1/($D$5/100))-1),(VLOOKUP('USER INPUTS'!$B$28,DEFAULTS!$E$8:$F$69,2,FALSE))/10^6*(1/($D$5/100)))))))","v":0},{"$f":"IF(ISERROR(METHANE!$J140*(IF('USER INPUTS'!$B$28=\"Total landfill gas\",(1/($D$5/100)),IF('USER INPUTS'!$B$28=\"Methane\",1,IF('USER INPUTS'!$B$28=\"Carbon dioxide\",((1/($D$5/100))-1),(VLOOKUP('USER INPUTS'!$B$28,DEFAULTS!$E$8:$F$69,2,FALSE))/10^6*(1/($D$5/100))))))),0,METHANE!$J140*(IF('USER INPUTS'!$B$28=\"Total landfill gas\",(1/($D$5/100)),IF('USER INPUTS'!$B$28=\"Methane\",1,IF('USER INPUTS'!$B$28=\"Carbon dioxide\",((1/($D$5/100))-1),(VLOOKUP('USER INPUTS'!$B$28,DEFAULTS!$E$8:$F$69,2,FALSE))/10^6*(1/($D$5/100)))))))","v":0},{"$f":"IF(N$8=\"(short tons/year)\",(L126*DEFAULTS!$B$55*DEFAULTS!$B$53/DEFAULTS!$B$54),IF(N$8=\"(ft^3/year)\",(M126*DEFAULTS!$B$57),IF(N$8=\"(av ft^3/min)\",(M126*DEFAULTS!$B$57/DEFAULTS!$B$58),0)))","v":0},{"$f":"IF(ISERROR(METHANE!$J140*DEFAULTS!$B$84*(IF('USER INPUTS'!$B$30=\"Total landfill gas\",(1/($D$5/100)),IF('USER INPUTS'!$B$30=\"Methane\",1,IF('USER INPUTS'!$B$30=\"Carbon dioxide\",((1/($D$5/100))-1),(VLOOKUP('USER INPUTS'!$B$30,DEFAULTS!$E$8:$F$69,2,FALSE))/10^6*(1/($D$5/100))))))),0,METHANE!$J140*DEFAULTS!$B$84*(IF('USER INPUTS'!$B$30=\"Total landfill gas\",(1/($D$5/100)),IF('USER INPUTS'!$B$30=\"Methane\",1,IF('USER INPUTS'!$B$30=\"Carbon dioxide\",((1/($D$5/100))-1),(VLOOKUP('USER INPUTS'!$B$30,DEFAULTS!$E$8:$F$69,2,FALSE))/10^6*(1/($D$5/100)))))))","v":0},{"$f":"IF(ISERROR(METHANE!$J140*(IF('USER INPUTS'!$B$30=\"Total landfill gas\",(1/($D$5/100)),IF('USER INPUTS'!$B$30=\"Methane\",1,IF('USER INPUTS'!$B$30=\"Carbon dioxide\",((1/($D$5/100))-1),(VLOOKUP('USER INPUTS'!$B$30,DEFAULTS!$E$8:$F$69,2,FALSE))/10^6*(1/($D$5/100))))))),0,METHANE!$J140*(IF('USER INPUTS'!$B$30=\"Total landfill gas\",(1/($D$5/100)),IF('USER INPUTS'!$B$30=\"Methane\",1,IF('USER INPUTS'!$B$30=\"Carbon dioxide\",((1/($D$5/100))-1),(VLOOKUP('USER INPUTS'!$B$30,DEFAULTS!$E$8:$F$69,2,FALSE))/10^6*(1/($D$5/100)))))))","v":0},{"$f":"IF(Q$8=\"(short tons/year)\",(O126*DEFAULTS!$B$55*DEFAULTS!$B$53/DEFAULTS!$B$54),IF(Q$8=\"(ft^3/year)\",(P126*DEFAULTS!$B$57),IF(Q$8=\"(av ft^3/min)\",(P126*DEFAULTS!$B$57/DEFAULTS!$B$58),0)))","v":0}]
[{"$f":"METHANE!I141","v":118},0,0,0,0,{"$f":"IF(ISERROR(METHANE!$J141*DEFAULTS!$B$81*(IF('USER INPUTS'!$B$24=\"Total landfill gas\",(1/($D$5/100)),IF('USER INPUTS'!$B$24=\"Methane\",1,IF('USER INPUTS'!$B$24=\"Carbon dioxide\",((1/($D$5/100))-1),(VLOOKUP('USER INPUTS'!$B$24,DEFAULTS!$E$8:$F$69,2,FALSE))/10^6*(1/($D$5/100))))))),0,METHANE!$J141*DEFAULTS!$B$81*(IF('USER INPUTS'!$B$24=\"Total landfill gas\",(1/($D$5/100)),IF('USER INPUTS'!$B$24=\"Methane\",1,IF('USER INPUTS'!$B$24=\"Carbon dioxide\",((1/($D$5/100))-1),(VLOOKUP('USER INPUTS'!$B$24,DEFAULTS!$E$8:$F$69,2,FALSE))/10^6*(1/($D$5/100)))))))","v":0},{"$f":"IF(ISERROR(METHANE!$J141*(IF('USER INPUTS'!$B$24=\"Total landfill gas\",(1/($D$5/100)),IF('USER INPUTS'!$B$24=\"Methane\",1,IF('USER INPUTS'!$B$24=\"Carbon dioxide\",((1/($D$5/100))-1),(VLOOKUP('USER INPUTS'!$B$24,DEFAULTS!$E$8:$F$69,2,FALSE))/10^6*(1/($D$5/100))))))),0,METHANE!$J141*(IF('USER INPUTS'!$B$24=\"Total landfill gas\",(1/($D$5/100)),IF('USER INPUTS'!$B$24=\"Methane\",1,IF('USER INPUTS'!$B$24=\"Carbon dioxide\",((1/($D$5/100))-1),(VLOOKUP('USER INPUTS'!$B$24,DEFAULTS!$E$8:$F$69,2,FALSE))/10^6*(1/($D$5/100)))))))","v":0},{"$f":"IF(H$8=\"(short tons/year)\",(F127*DEFAULTS!$B$55*DEFAULTS!$B$53/DEFAULTS!$B$54),IF(H$8=\"(ft^3/year)\",(G127*DEFAULTS!$B$57),IF(H$8=\"(av ft^3/min)\",(G127*DEFAULTS!$B$57/DEFAULTS!$B$58),0)))","v":0},{"$f":"IF(ISERROR(METHANE!$J141*DEFAULTS!$B$82*(IF('USER INPUTS'!$B$26=\"Total landfill gas\",(1/($D$5/100)),IF('USER INPUTS'!$B$26=\"Methane\",1,IF('USER INPUTS'!$B$26=\"Carbon dioxide\",((1/($D$5/100))-1),(VLOOKUP('USER INPUTS'!$B$26,DEFAULTS!$E$8:$F$69,2,FALSE))/10^6*(1/($D$5/100))))))),0,METHANE!$J141*DEFAULTS!$B$82*(IF('USER INPUTS'!$B$26=\"Total landfill gas\",(1/($D$5/100)),IF('USER INPUTS'!$B$26=\"Methane\",1,IF('USER INPUTS'!$B$26=\"Carbon dioxide\",((1/($D$5/100))-1),(VLOOKUP('USER INPUTS'!$B$26,DEFAULTS!$E$8:$F$69,2,FALSE))/10^6*(1/($D$5/100)))))))","v":0},{"$f":"IF(ISERROR(METHANE!$J141*(IF('USER INPUTS'!$B$26=\"Total landfill gas\",(1/($D$5/100)),IF('USER INPUTS'!$B$26=\"Methane\",1,IF('USER INPUTS'!$B$26=\"Carbon dioxide\",((1/($D$5/100))-1),(VLOOKUP('USER INPUTS'!$B$26,DEFAULTS!$E$8:$F$69,2,FALSE))/10^6*(1/($D$5/100))))))),0,METHANE!$J141*(IF('USER INPUTS'!$B$26=\"Total landfill gas\",(1/($D$5/100)),IF('USER INPUTS'!$B$26=\"Methane\",1,IF('USER INPUTS'!$B$26=\"Carbon dioxide\",((1/($D$5/100))-1),(VLOOKUP('USER INPUTS'!$B$26,DEFAULTS!$E$8:$F$69,2,FALSE))/10^6*(1/($D$5/100)))))))","v":0},{"$f":"IF(K$8=\"(short tons/year)\",(I127*DEFAULTS!$B$55*DEFAULTS!$B$53/DEFAULTS!$B$54),IF(K$8=\"(ft^3/year)\",(J127*DEFAULTS!$B$57),IF(K$8=\"(av ft^3/min)\",(J127*DEFAULTS!$B$57/DEFAULTS!$B$58),0)))","v":0},{"$f":"IF(ISERROR(METHANE!$J141*DEFAULTS!$B$83*(IF('USER INPUTS'!$B$28=\"Total landfill gas\",(1/($D$5/100)),IF('USER INPUTS'!$B$28=\"Methane\",1,IF('USER INPUTS'!$B$28=\"Carbon dioxide\",((1/($D$5/100))-1),(VLOOKUP('USER INPUTS'!$B$28,DEFAULTS!$E$8:$F$69,2,FALSE))/10^6*(1/($D$5/100))))))),0,METHANE!$J141*DEFAULTS!$B$83*(IF('USER INPUTS'!$B$28=\"Total landfill gas\",(1/($D$5/100)),IF('USER INPUTS'!$B$28=\"Methane\",1,IF('USER INPUTS'!$B$28=\"Carbon dioxide\",((1/($D$5/100))-1),(VLOOKUP('USER INPUTS'!$B$28,DEFAULTS!$E$8:$F$69,2,FALSE))/10^6*(1/($D$5/100)))))))","v":0},{"$f":"IF(ISERROR(METHANE!$J141*(IF('USER INPUTS'!$B$28=\"Total landfill gas\",(1/($D$5/100)),IF('USER INPUTS'!$B$28=\"Methane\",1,IF('USER INPUTS'!$B$28=\"Carbon dioxide\",((1/($D$5/100))-1),(VLOOKUP('USER INPUTS'!$B$28,DEFAULTS!$E$8:$F$69,2,FALSE))/10^6*(1/($D$5/100))))))),0,METHANE!$J141*(IF('USER INPUTS'!$B$28=\"Total landfill gas\",(1/($D$5/100)),IF('USER INPUTS'!$B$28=\"Methane\",1,IF('USER INPUTS'!$B$28=\"Carbon dioxide\",((1/($D$5/100))-1),(VLOOKUP('USER INPUTS'!$B$28,DEFAULTS!$E$8:$F$69,2,FALSE))/10^6*(1/($D$5/100)))))))","v":0},{"$f":"IF(N$8=\"(short tons/year)\",(L127*DEFAULTS!$B$55*DEFAULTS!$B$53/DEFAULTS!$B$54),IF(N$8=\"(ft^3/year)\",(M127*DEFAULTS!$B$57),IF(N$8=\"(av ft^3/min)\",(M127*DEFAULTS!$B$57/DEFAULTS!$B$58),0)))","v":0},{"$f":"IF(ISERROR(METHANE!$J141*DEFAULTS!$B$84*(IF('USER INPUTS'!$B$30=\"Total landfill gas\",(1/($D$5/100)),IF('USER INPUTS'!$B$30=\"Methane\",1,IF('USER INPUTS'!$B$30=\"Carbon dioxide\",((1/($D$5/100))-1),(VLOOKUP('USER INPUTS'!$B$30,DEFAULTS!$E$8:$F$69,2,FALSE))/10^6*(1/($D$5/100))))))),0,METHANE!$J141*DEFAULTS!$B$84*(IF('USER INPUTS'!$B$30=\"Total landfill gas\",(1/($D$5/100)),IF('USER INPUTS'!$B$30=\"Methane\",1,IF('USER INPUTS'!$B$30=\"Carbon dioxide\",((1/($D$5/100))-1),(VLOOKUP('USER INPUTS'!$B$30,DEFAULTS!$E$8:$F$69,2,FALSE))/10^6*(1/($D$5/100)))))))","v":0},{"$f":"IF(ISERROR(METHANE!$J141*(IF('USER INPUTS'!$B$30=\"Total landfill gas\",(1/($D$5/100)),IF('USER INPUTS'!$B$30=\"Methane\",1,IF('USER INPUTS'!$B$30=\"Carbon dioxide\",((1/($D$5/100))-1),(VLOOKUP('USER INPUTS'!$B$30,DEFAULTS!$E$8:$F$69,2,FALSE))/10^6*(1/($D$5/100))))))),0,METHANE!$J141*(IF('USER INPUTS'!$B$30=\"Total landfill gas\",(1/($D$5/100)),IF('USER INPUTS'!$B$30=\"Methane\",1,IF('USER INPUTS'!$B$30=\"Carbon dioxide\",((1/($D$5/100))-1),(VLOOKUP('USER INPUTS'!$B$30,DEFAULTS!$E$8:$F$69,2,FALSE))/10^6*(1/($D$5/100)))))))","v":0},{"$f":"IF(Q$8=\"(short tons/year)\",(O127*DEFAULTS!$B$55*DEFAULTS!$B$53/DEFAULTS!$B$54),IF(Q$8=\"(ft^3/year)\",(P127*DEFAULTS!$B$57),IF(Q$8=\"(av ft^3/min)\",(P127*DEFAULTS!$B$57/DEFAULTS!$B$58),0)))","v":0}]
[{"$f":"METHANE!I142","v":119},0,0,0,0,{"$f":"IF(ISERROR(METHANE!$J142*DEFAULTS!$B$81*(IF('USER INPUTS'!$B$24=\"Total landfill gas\",(1/($D$5/100)),IF('USER INPUTS'!$B$24=\"Methane\",1,IF('USER INPUTS'!$B$24=\"Carbon dioxide\",((1/($D$5/100))-1),(VLOOKUP('USER INPUTS'!$B$24,DEFAULTS!$E$8:$F$69,2,FALSE))/10^6*(1/($D$5/100))))))),0,METHANE!$J142*DEFAULTS!$B$81*(IF('USER INPUTS'!$B$24=\"Total landfill gas\",(1/($D$5/100)),IF('USER INPUTS'!$B$24=\"Methane\",1,IF('USER INPUTS'!$B$24=\"Carbon dioxide\",((1/($D$5/100))-1),(VLOOKUP('USER INPUTS'!$B$24,DEFAULTS!$E$8:$F$69,2,FALSE))/10^6*(1/($D$5/100)))))))","v":0},{"$f":"IF(ISERROR(METHANE!$J142*(IF('USER INPUTS'!$B$24=\"Total landfill gas\",(1/($D$5/100)),IF('USER INPUTS'!$B$24=\"Methane\",1,IF('USER INPUTS'!$B$24=\"Carbon dioxide\",((1/($D$5/100))-1),(VLOOKUP('USER INPUTS'!$B$24,DEFAULTS!$E$8:$F$69,2,FALSE))/10^6*(1/($D$5/100))))))),0,METHANE!$J142*(IF('USER INPUTS'!$B$24=\"Total landfill gas\",(1/($D$5/100)),IF('USER INPUTS'!$B$24=\"Methane\",1,IF('USER INPUTS'!$B$24=\"Carbon dioxide\",((1/($D$5/100))-1),(VLOOKUP('USER INPUTS'!$B$24,DEFAULTS!$E$8:$F$69,2,FALSE))/10^6*(1/($D$5/100)))))))","v":0},{"$f":"IF(H$8=\"(short tons/year)\",(F128*DEFAULTS!$B$55*DEFAULTS!$B$53/DEFAULTS!$B$54),IF(H$8=\"(ft^3/year)\",(G128*DEFAULTS!$B$57),IF(H$8=\"(av ft^3/min)\",(G128*DEFAULTS!$B$57/DEFAULTS!$B$58),0)))","v":0},{"$f":"IF(ISERROR(METHANE!$J142*DEFAULTS!$B$82*(IF('USER INPUTS'!$B$26=\"Total landfill gas\",(1/($D$5/100)),IF('USER INPUTS'!$B$26=\"Methane\",1,IF('USER INPUTS'!$B$26=\"Carbon dioxide\",((1/($D$5/100))-1),(VLOOKUP('USER INPUTS'!$B$26,DEFAULTS!$E$8:$F$69,2,FALSE))/10^6*(1/($D$5/100))))))),0,METHANE!$J142*DEFAULTS!$B$82*(IF('USER INPUTS'!$B$26=\"Total landfill gas\",(1/($D$5/100)),IF('USER INPUTS'!$B$26=\"Methane\",1,IF('USER INPUTS'!$B$26=\"Carbon dioxide\",((1/($D$5/100))-1),(VLOOKUP('USER INPUTS'!$B$26,DEFAULTS!$E$8:$F$69,2,FALSE))/10^6*(1/($D$5/100)))))))","v":0},{"$f":"IF(ISERROR(METHANE!$J142*(IF('USER INPUTS'!$B$26=\"Total landfill gas\",(1/($D$5/100)),IF('USER INPUTS'!$B$26=\"Methane\",1,IF('USER INPUTS'!$B$26=\"Carbon dioxide\",((1/($D$5/100))-1),(VLOOKUP('USER INPUTS'!$B$26,DEFAULTS!$E$8:$F$69,2,FALSE))/10^6*(1/($D$5/100))))))),0,METHANE!$J142*(IF('USER INPUTS'!$B$26=\"Total landfill gas\",(1/($D$5/100)),IF('USER INPUTS'!$B$26=\"Methane\",1,IF('USER INPUTS'!$B$26=\"Carbon dioxide\",((1/($D$5/100))-1),(VLOOKUP('USER INPUTS'!$B$26,DEFAULTS!$E$8:$F$69,2,FALSE))/10^6*(1/($D$5/100)))))))","v":0},{"$f":"IF(K$8=\"(short tons/year)\",(I128*DEFAULTS!$B$55*DEFAULTS!$B$53/DEFAULTS!$B$54),IF(K$8=\"(ft^3/year)\",(J128*DEFAULTS!$B$57),IF(K$8=\"(av ft^3/min)\",(J128*DEFAULTS!$B$57/DEFAULTS!$B$58),0)))","v":0},{"$f":"IF(ISERROR(METHANE!$J142*DEFAULTS!$B$83*(IF('USER INPUTS'!$B$28=\"Total landfill gas\",(1/($D$5/100)),IF('USER INPUTS'!$B$28=\"Methane\",1,IF('USER INPUTS'!$B$28=\"Carbon dioxide\",((1/($D$5/100))-1),(VLOOKUP('USER INPUTS'!$B$28,DEFAULTS!$E$8:$F$69,2,FALSE))/10^6*(1/($D$5/100))))))),0,METHANE!$J142*DEFAULTS!$B$83*(IF('USER INPUTS'!$B$28=\"Total landfill gas\",(1/($D$5/100)),IF('USER INPUTS'!$B$28=\"Methane\",1,IF('USER INPUTS'!$B$28=\"Carbon dioxide\",((1/($D$5/100))-1),(VLOOKUP('USER INPUTS'!$B$28,DEFAULTS!$E$8:$F$69,2,FALSE))/10^6*(1/($D$5/100)))))))","v":0},{"$f":"IF(ISERROR(METHANE!$J142*(IF('USER INPUTS'!$B$28=\"Total landfill gas\",(1/($D$5/100)),IF('USER INPUTS'!$B$28=\"Methane\",1,IF('USER INPUTS'!$B$28=\"Carbon dioxide\",((1/($D$5/100))-1),(VLOOKUP('USER INPUTS'!$B$28,DEFAULTS!$E$8:$F$69,2,FALSE))/10^6*(1/($D$5/100))))))),0,METHANE!$J142*(IF('USER INPUTS'!$B$28=\"Total landfill gas\",(1/($D$5/100)),IF('USER INPUTS'!$B$28=\"Methane\",1,IF('USER INPUTS'!$B$28=\"Carbon dioxide\",((1/($D$5/100))-1),(VLOOKUP('USER INPUTS'!$B$28,DEFAULTS!$E$8:$F$69,2,FALSE))/10^6*(1/($D$5/100)))))))","v":0},{"$f":"IF(N$8=\"(short tons/year)\",(L128*DEFAULTS!$B$55*DEFAULTS!$B$53/DEFAULTS!$B$54),IF(N$8=\"(ft^3/year)\",(M128*DEFAULTS!$B$57),IF(N$8=\"(av ft^3/min)\",(M128*DEFAULTS!$B$57/DEFAULTS!$B$58),0)))","v":0},{"$f":"IF(ISERROR(METHANE!$J142*DEFAULTS!$B$84*(IF('USER INPUTS'!$B$30=\"Total landfill gas\",(1/($D$5/100)),IF('USER INPUTS'!$B$30=\"Methane\",1,IF('USER INPUTS'!$B$30=\"Carbon dioxide\",((1/($D$5/100))-1),(VLOOKUP('USER INPUTS'!$B$30,DEFAULTS!$E$8:$F$69,2,FALSE))/10^6*(1/($D$5/100))))))),0,METHANE!$J142*DEFAULTS!$B$84*(IF('USER INPUTS'!$B$30=\"Total landfill gas\",(1/($D$5/100)),IF('USER INPUTS'!$B$30=\"Methane\",1,IF('USER INPUTS'!$B$30=\"Carbon dioxide\",((1/($D$5/100))-1),(VLOOKUP('USER INPUTS'!$B$30,DEFAULTS!$E$8:$F$69,2,FALSE))/10^6*(1/($D$5/100)))))))","v":0},{"$f":"IF(ISERROR(METHANE!$J142*(IF('USER INPUTS'!$B$30=\"Total landfill gas\",(1/($D$5/100)),IF('USER INPUTS'!$B$30=\"Methane\",1,IF('USER INPUTS'!$B$30=\"Carbon dioxide\",((1/($D$5/100))-1),(VLOOKUP('USER INPUTS'!$B$30,DEFAULTS!$E$8:$F$69,2,FALSE))/10^6*(1/($D$5/100))))))),0,METHANE!$J142*(IF('USER INPUTS'!$B$30=\"Total landfill gas\",(1/($D$5/100)),IF('USER INPUTS'!$B$30=\"Methane\",1,IF('USER INPUTS'!$B$30=\"Carbon dioxide\",((1/($D$5/100))-1),(VLOOKUP('USER INPUTS'!$B$30,DEFAULTS!$E$8:$F$69,2,FALSE))/10^6*(1/($D$5/100)))))))","v":0},{"$f":"IF(Q$8=\"(short tons/year)\",(O128*DEFAULTS!$B$55*DEFAULTS!$B$53/DEFAULTS!$B$54),IF(Q$8=\"(ft^3/year)\",(P128*DEFAULTS!$B$57),IF(Q$8=\"(av ft^3/min)\",(P128*DEFAULTS!$B$57/DEFAULTS!$B$58),0)))","v":0}]
[{"$f":"METHANE!I143","v":120},0,0,0,0,{"$f":"IF(ISERROR(METHANE!$J143*DEFAULTS!$B$81*(IF('USER INPUTS'!$B$24=\"Total landfill gas\",(1/($D$5/100)),IF('USER INPUTS'!$B$24=\"Methane\",1,IF('USER INPUTS'!$B$24=\"Carbon dioxide\",((1/($D$5/100))-1),(VLOOKUP('USER INPUTS'!$B$24,DEFAULTS!$E$8:$F$69,2,FALSE))/10^6*(1/($D$5/100))))))),0,METHANE!$J143*DEFAULTS!$B$81*(IF('USER INPUTS'!$B$24=\"Total landfill gas\",(1/($D$5/100)),IF('USER INPUTS'!$B$24=\"Methane\",1,IF('USER INPUTS'!$B$24=\"Carbon dioxide\",((1/($D$5/100))-1),(VLOOKUP('USER INPUTS'!$B$24,DEFAULTS!$E$8:$F$69,2,FALSE))/10^6*(1/($D$5/100)))))))","v":0},{"$f":"IF(ISERROR(METHANE!$J143*(IF('USER INPUTS'!$B$24=\"Total landfill gas\",(1/($D$5/100)),IF('USER INPUTS'!$B$24=\"Methane\",1,IF('USER INPUTS'!$B$24=\"Carbon dioxide\",((1/($D$5/100))-1),(VLOOKUP('USER INPUTS'!$B$24,DEFAULTS!$E$8:$F$69,2,FALSE))/10^6*(1/($D$5/100))))))),0,METHANE!$J143*(IF('USER INPUTS'!$B$24=\"Total landfill gas\",(1/($D$5/100)),IF('USER INPUTS'!$B$24=\"Methane\",1,IF('USER INPUTS'!$B$24=\"Carbon dioxide\",((1/($D$5/100))-1),(VLOOKUP('USER INPUTS'!$B$24,DEFAULTS!$E$8:$F$69,2,FALSE))/10^6*(1/($D$5/100)))))))","v":0},{"$f":"IF(H$8=\"(short tons/year)\",(F129*DEFAULTS!$B$55*DEFAULTS!$B$53/DEFAULTS!$B$54),IF(H$8=\"(ft^3/year)\",(G129*DEFAULTS!$B$57),IF(H$8=\"(av ft^3/min)\",(G129*DEFAULTS!$B$57/DEFAULTS!$B$58),0)))","v":0},{"$f":"IF(ISERROR(METHANE!$J143*DEFAULTS!$B$82*(IF('USER INPUTS'!$B$26=\"Total landfill gas\",(1/($D$5/100)),IF('USER INPUTS'!$B$26=\"Methane\",1,IF('USER INPUTS'!$B$26=\"Carbon dioxide\",((1/($D$5/100))-1),(VLOOKUP('USER INPUTS'!$B$26,DEFAULTS!$E$8:$F$69,2,FALSE))/10^6*(1/($D$5/100))))))),0,METHANE!$J143*DEFAULTS!$B$82*(IF('USER INPUTS'!$B$26=\"Total landfill gas\",(1/($D$5/100)),IF('USER INPUTS'!$B$26=\"Methane\",1,IF('USER INPUTS'!$B$26=\"Carbon dioxide\",((1/($D$5/100))-1),(VLOOKUP('USER INPUTS'!$B$26,DEFAULTS!$E$8:$F$69,2,FALSE))/10^6*(1/($D$5/100)))))))","v":0},{"$f":"IF(ISERROR(METHANE!$J143*(IF('USER INPUTS'!$B$26=\"Total landfill gas\",(1/($D$5/100)),IF('USER INPUTS'!$B$26=\"Methane\",1,IF('USER INPUTS'!$B$26=\"Carbon dioxide\",((1/($D$5/100))-1),(VLOOKUP('USER INPUTS'!$B$26,DEFAULTS!$E$8:$F$69,2,FALSE))/10^6*(1/($D$5/100))))))),0,METHANE!$J143*(IF('USER INPUTS'!$B$26=\"Total landfill gas\",(1/($D$5/100)),IF('USER INPUTS'!$B$26=\"Methane\",1,IF('USER INPUTS'!$B$26=\"Carbon dioxide\",((1/($D$5/100))-1),(VLOOKUP('USER INPUTS'!$B$26,DEFAULTS!$E$8:$F$69,2,FALSE))/10^6*(1/($D$5/100)))))))","v":0},{"$f":"IF(K$8=\"(short tons/year)\",(I129*DEFAULTS!$B$55*DEFAULTS!$B$53/DEFAULTS!$B$54),IF(K$8=\"(ft^3/year)\",(J129*DEFAULTS!$B$57),IF(K$8=\"(av ft^3/min)\",(J129*DEFAULTS!$B$57/DEFAULTS!$B$58),0)))","v":0},{"$f":"IF(ISERROR(METHANE!$J143*DEFAULTS!$B$83*(IF('USER INPUTS'!$B$28=\"Total landfill gas\",(1/($D$5/100)),IF('USER INPUTS'!$B$28=\"Methane\",1,IF('USER INPUTS'!$B$28=\"Carbon dioxide\",((1/($D$5/100))-1),(VLOOKUP('USER INPUTS'!$B$28,DEFAULTS!$E$8:$F$69,2,FALSE))/10^6*(1/($D$5/100))))))),0,METHANE!$J143*DEFAULTS!$B$83*(IF('USER INPUTS'!$B$28=\"Total landfill gas\",(1/($D$5/100)),IF('USER INPUTS'!$B$28=\"Methane\",1,IF('USER INPUTS'!$B$28=\"Carbon dioxide\",((1/($D$5/100))-1),(VLOOKUP('USER INPUTS'!$B$28,DEFAULTS!$E$8:$F$69,2,FALSE))/10^6*(1/($D$5/100)))))))","v":0},{"$f":"IF(ISERROR(METHANE!$J143*(IF('USER INPUTS'!$B$28=\"Total landfill gas\",(1/($D$5/100)),IF('USER INPUTS'!$B$28=\"Methane\",1,IF('USER INPUTS'!$B$28=\"Carbon dioxide\",((1/($D$5/100))-1),(VLOOKUP('USER INPUTS'!$B$28,DEFAULTS!$E$8:$F$69,2,FALSE))/10^6*(1/($D$5/100))))))),0,METHANE!$J143*(IF('USER INPUTS'!$B$28=\"Total landfill gas\",(1/($D$5/100)),IF('USER INPUTS'!$B$28=\"Methane\",1,IF('USER INPUTS'!$B$28=\"Carbon dioxide\",((1/($D$5/100))-1),(VLOOKUP('USER INPUTS'!$B$28,DEFAULTS!$E$8:$F$69,2,FALSE))/10^6*(1/($D$5/100)))))))","v":0},{"$f":"IF(N$8=\"(short tons/year)\",(L129*DEFAULTS!$B$55*DEFAULTS!$B$53/DEFAULTS!$B$54),IF(N$8=\"(ft^3/year)\",(M129*DEFAULTS!$B$57),IF(N$8=\"(av ft^3/min)\",(M129*DEFAULTS!$B$57/DEFAULTS!$B$58),0)))","v":0},{"$f":"IF(ISERROR(METHANE!$J143*DEFAULTS!$B$84*(IF('USER INPUTS'!$B$30=\"Total landfill gas\",(1/($D$5/100)),IF('USER INPUTS'!$B$30=\"Methane\",1,IF('USER INPUTS'!$B$30=\"Carbon dioxide\",((1/($D$5/100))-1),(VLOOKUP('USER INPUTS'!$B$30,DEFAULTS!$E$8:$F$69,2,FALSE))/10^6*(1/($D$5/100))))))),0,METHANE!$J143*DEFAULTS!$B$84*(IF('USER INPUTS'!$B$30=\"Total landfill gas\",(1/($D$5/100)),IF('USER INPUTS'!$B$30=\"Methane\",1,IF('USER INPUTS'!$B$30=\"Carbon dioxide\",((1/($D$5/100))-1),(VLOOKUP('USER INPUTS'!$B$30,DEFAULTS!$E$8:$F$69,2,FALSE))/10^6*(1/($D$5/100)))))))","v":0},{"$f":"IF(ISERROR(METHANE!$J143*(IF('USER INPUTS'!$B$30=\"Total landfill gas\",(1/($D$5/100)),IF('USER INPUTS'!$B$30=\"Methane\",1,IF('USER INPUTS'!$B$30=\"Carbon dioxide\",((1/($D$5/100))-1),(VLOOKUP('USER INPUTS'!$B$30,DEFAULTS!$E$8:$F$69,2,FALSE))/10^6*(1/($D$5/100))))))),0,METHANE!$J143*(IF('USER INPUTS'!$B$30=\"Total landfill gas\",(1/($D$5/100)),IF('USER INPUTS'!$B$30=\"Methane\",1,IF('USER INPUTS'!$B$30=\"Carbon dioxide\",((1/($D$5/100))-1),(VLOOKUP('USER INPUTS'!$B$30,DEFAULTS!$E$8:$F$69,2,FALSE))/10^6*(1/($D$5/100)))))))","v":0},{"$f":"IF(Q$8=\"(short tons/year)\",(O129*DEFAULTS!$B$55*DEFAULTS!$B$53/DEFAULTS!$B$54),IF(Q$8=\"(ft^3/year)\",(P129*DEFAULTS!$B$57),IF(Q$8=\"(av ft^3/min)\",(P129*DEFAULTS!$B$57/DEFAULTS!$B$58),0)))","v":0}]
[{"$f":"METHANE!I144","v":121},0,0,0,0,{"$f":"IF(ISERROR(METHANE!$J144*DEFAULTS!$B$81*(IF('USER INPUTS'!$B$24=\"Total landfill gas\",(1/($D$5/100)),IF('USER INPUTS'!$B$24=\"Methane\",1,IF('USER INPUTS'!$B$24=\"Carbon dioxide\",((1/($D$5/100))-1),(VLOOKUP('USER INPUTS'!$B$24,DEFAULTS!$E$8:$F$69,2,FALSE))/10^6*(1/($D$5/100))))))),0,METHANE!$J144*DEFAULTS!$B$81*(IF('USER INPUTS'!$B$24=\"Total landfill gas\",(1/($D$5/100)),IF('USER INPUTS'!$B$24=\"Methane\",1,IF('USER INPUTS'!$B$24=\"Carbon dioxide\",((1/($D$5/100))-1),(VLOOKUP('USER INPUTS'!$B$24,DEFAULTS!$E$8:$F$69,2,FALSE))/10^6*(1/($D$5/100)))))))","v":0},{"$f":"IF(ISERROR(METHANE!$J144*(IF('USER INPUTS'!$B$24=\"Total landfill gas\",(1/($D$5/100)),IF('USER INPUTS'!$B$24=\"Methane\",1,IF('USER INPUTS'!$B$24=\"Carbon dioxide\",((1/($D$5/100))-1),(VLOOKUP('USER INPUTS'!$B$24,DEFAULTS!$E$8:$F$69,2,FALSE))/10^6*(1/($D$5/100))))))),0,METHANE!$J144*(IF('USER INPUTS'!$B$24=\"Total landfill gas\",(1/($D$5/100)),IF('USER INPUTS'!$B$24=\"Methane\",1,IF('USER INPUTS'!$B$24=\"Carbon dioxide\",((1/($D$5/100))-1),(VLOOKUP('USER INPUTS'!$B$24,DEFAULTS!$E$8:$F$69,2,FALSE))/10^6*(1/($D$5/100)))))))","v":0},{"$f":"IF(H$8=\"(short tons/year)\",(F130*DEFAULTS!$B$55*DEFAULTS!$B$53/DEFAULTS!$B$54),IF(H$8=\"(ft^3/year)\",(G130*DEFAULTS!$B$57),IF(H$8=\"(av ft^3/min)\",(G130*DEFAULTS!$B$57/DEFAULTS!$B$58),0)))","v":0},{"$f":"IF(ISERROR(METHANE!$J144*DEFAULTS!$B$82*(IF('USER INPUTS'!$B$26=\"Total landfill gas\",(1/($D$5/100)),IF('USER INPUTS'!$B$26=\"Methane\",1,IF('USER INPUTS'!$B$26=\"Carbon dioxide\",((1/($D$5/100))-1),(VLOOKUP('USER INPUTS'!$B$26,DEFAULTS!$E$8:$F$69,2,FALSE))/10^6*(1/($D$5/100))))))),0,METHANE!$J144*DEFAULTS!$B$82*(IF('USER INPUTS'!$B$26=\"Total landfill gas\",(1/($D$5/100)),IF('USER INPUTS'!$B$26=\"Methane\",1,IF('USER INPUTS'!$B$26=\"Carbon dioxide\",((1/($D$5/100))-1),(VLOOKUP('USER INPUTS'!$B$26,DEFAULTS!$E$8:$F$69,2,FALSE))/10^6*(1/($D$5/100)))))))","v":0},{"$f":"IF(ISERROR(METHANE!$J144*(IF('USER INPUTS'!$B$26=\"Total landfill gas\",(1/($D$5/100)),IF('USER INPUTS'!$B$26=\"Methane\",1,IF('USER INPUTS'!$B$26=\"Carbon dioxide\",((1/($D$5/100))-1),(VLOOKUP('USER INPUTS'!$B$26,DEFAULTS!$E$8:$F$69,2,FALSE))/10^6*(1/($D$5/100))))))),0,METHANE!$J144*(IF('USER INPUTS'!$B$26=\"Total landfill gas\",(1/($D$5/100)),IF('USER INPUTS'!$B$26=\"Methane\",1,IF('USER INPUTS'!$B$26=\"Carbon dioxide\",((1/($D$5/100))-1),(VLOOKUP('USER INPUTS'!$B$26,DEFAULTS!$E$8:$F$69,2,FALSE))/10^6*(1/($D$5/100)))))))","v":0},{"$f":"IF(K$8=\"(short tons/year)\",(I130*DEFAULTS!$B$55*DEFAULTS!$B$53/DEFAULTS!$B$54),IF(K$8=\"(ft^3/year)\",(J130*DEFAULTS!$B$57),IF(K$8=\"(av ft^3/min)\",(J130*DEFAULTS!$B$57/DEFAULTS!$B$58),0)))","v":0},{"$f":"IF(ISERROR(METHANE!$J144*DEFAULTS!$B$83*(IF('USER INPUTS'!$B$28=\"Total landfill gas\",(1/($D$5/100)),IF('USER INPUTS'!$B$28=\"Methane\",1,IF('USER INPUTS'!$B$28=\"Carbon dioxide\",((1/($D$5/100))-1),(VLOOKUP('USER INPUTS'!$B$28,DEFAULTS!$E$8:$F$69,2,FALSE))/10^6*(1/($D$5/100))))))),0,METHANE!$J144*DEFAULTS!$B$83*(IF('USER INPUTS'!$B$28=\"Total landfill gas\",(1/($D$5/100)),IF('USER INPUTS'!$B$28=\"Methane\",1,IF('USER INPUTS'!$B$28=\"Carbon dioxide\",((1/($D$5/100))-1),(VLOOKUP('USER INPUTS'!$B$28,DEFAULTS!$E$8:$F$69,2,FALSE))/10^6*(1/($D$5/100)))))))","v":0},{"$f":"IF(ISERROR(METHANE!$J144*(IF('USER INPUTS'!$B$28=\"Total landfill gas\",(1/($D$5/100)),IF('USER INPUTS'!$B$28=\"Methane\",1,IF('USER INPUTS'!$B$28=\"Carbon dioxide\",((1/($D$5/100))-1),(VLOOKUP('USER INPUTS'!$B$28,DEFAULTS!$E$8:$F$69,2,FALSE))/10^6*(1/($D$5/100))))))),0,METHANE!$J144*(IF('USER INPUTS'!$B$28=\"Total landfill gas\",(1/($D$5/100)),IF('USER INPUTS'!$B$28=\"Methane\",1,IF('USER INPUTS'!$B$28=\"Carbon dioxide\",((1/($D$5/100))-1),(VLOOKUP('USER INPUTS'!$B$28,DEFAULTS!$E$8:$F$69,2,FALSE))/10^6*(1/($D$5/100)))))))","v":0},{"$f":"IF(N$8=\"(short tons/year)\",(L130*DEFAULTS!$B$55*DEFAULTS!$B$53/DEFAULTS!$B$54),IF(N$8=\"(ft^3/year)\",(M130*DEFAULTS!$B$57),IF(N$8=\"(av ft^3/min)\",(M130*DEFAULTS!$B$57/DEFAULTS!$B$58),0)))","v":0},{"$f":"IF(ISERROR(METHANE!$J144*DEFAULTS!$B$84*(IF('USER INPUTS'!$B$30=\"Total landfill gas\",(1/($D$5/100)),IF('USER INPUTS'!$B$30=\"Methane\",1,IF('USER INPUTS'!$B$30=\"Carbon dioxide\",((1/($D$5/100))-1),(VLOOKUP('USER INPUTS'!$B$30,DEFAULTS!$E$8:$F$69,2,FALSE))/10^6*(1/($D$5/100))))))),0,METHANE!$J144*DEFAULTS!$B$84*(IF('USER INPUTS'!$B$30=\"Total landfill gas\",(1/($D$5/100)),IF('USER INPUTS'!$B$30=\"Methane\",1,IF('USER INPUTS'!$B$30=\"Carbon dioxide\",((1/($D$5/100))-1),(VLOOKUP('USER INPUTS'!$B$30,DEFAULTS!$E$8:$F$69,2,FALSE))/10^6*(1/($D$5/100)))))))","v":0},{"$f":"IF(ISERROR(METHANE!$J144*(IF('USER INPUTS'!$B$30=\"Total landfill gas\",(1/($D$5/100)),IF('USER INPUTS'!$B$30=\"Methane\",1,IF('USER INPUTS'!$B$30=\"Carbon dioxide\",((1/($D$5/100))-1),(VLOOKUP('USER INPUTS'!$B$30,DEFAULTS!$E$8:$F$69,2,FALSE))/10^6*(1/($D$5/100))))))),0,METHANE!$J144*(IF('USER INPUTS'!$B$30=\"Total landfill gas\",(1/($D$5/100)),IF('USER INPUTS'!$B$30=\"Methane\",1,IF('USER INPUTS'!$B$30=\"Carbon dioxide\",((1/($D$5/100))-1),(VLOOKUP('USER INPUTS'!$B$30,DEFAULTS!$E$8:$F$69,2,FALSE))/10^6*(1/($D$5/100)))))))","v":0},{"$f":"IF(Q$8=\"(short tons/year)\",(O130*DEFAULTS!$B$55*DEFAULTS!$B$53/DEFAULTS!$B$54),IF(Q$8=\"(ft^3/year)\",(P130*DEFAULTS!$B$57),IF(Q$8=\"(av ft^3/min)\",(P130*DEFAULTS!$B$57/DEFAULTS!$B$58),0)))","v":0}]
[{"$f":"METHANE!I145","v":122},0,0,0,0,{"$f":"IF(ISERROR(METHANE!$J145*DEFAULTS!$B$81*(IF('USER INPUTS'!$B$24=\"Total landfill gas\",(1/($D$5/100)),IF('USER INPUTS'!$B$24=\"Methane\",1,IF('USER INPUTS'!$B$24=\"Carbon dioxide\",((1/($D$5/100))-1),(VLOOKUP('USER INPUTS'!$B$24,DEFAULTS!$E$8:$F$69,2,FALSE))/10^6*(1/($D$5/100))))))),0,METHANE!$J145*DEFAULTS!$B$81*(IF('USER INPUTS'!$B$24=\"Total landfill gas\",(1/($D$5/100)),IF('USER INPUTS'!$B$24=\"Methane\",1,IF('USER INPUTS'!$B$24=\"Carbon dioxide\",((1/($D$5/100))-1),(VLOOKUP('USER INPUTS'!$B$24,DEFAULTS!$E$8:$F$69,2,FALSE))/10^6*(1/($D$5/100)))))))","v":0},{"$f":"IF(ISERROR(METHANE!$J145*(IF('USER INPUTS'!$B$24=\"Total landfill gas\",(1/($D$5/100)),IF('USER INPUTS'!$B$24=\"Methane\",1,IF('USER INPUTS'!$B$24=\"Carbon dioxide\",((1/($D$5/100))-1),(VLOOKUP('USER INPUTS'!$B$24,DEFAULTS!$E$8:$F$69,2,FALSE))/10^6*(1/($D$5/100))))))),0,METHANE!$J145*(IF('USER INPUTS'!$B$24=\"Total landfill gas\",(1/($D$5/100)),IF('USER INPUTS'!$B$24=\"Methane\",1,IF('USER INPUTS'!$B$24=\"Carbon dioxide\",((1/($D$5/100))-1),(VLOOKUP('USER INPUTS'!$B$24,DEFAULTS!$E$8:$F$69,2,FALSE))/10^6*(1/($D$5/100)))))))","v":0},{"$f":"IF(H$8=\"(short tons/year)\",(F131*DEFAULTS!$B$55*DEFAULTS!$B$53/DEFAULTS!$B$54),IF(H$8=\"(ft^3/year)\",(G131*DEFAULTS!$B$57),IF(H$8=\"(av ft^3/min)\",(G131*DEFAULTS!$B$57/DEFAULTS!$B$58),0)))","v":0},{"$f":"IF(ISERROR(METHANE!$J145*DEFAULTS!$B$82*(IF('USER INPUTS'!$B$26=\"Total landfill gas\",(1/($D$5/100)),IF('USER INPUTS'!$B$26=\"Methane\",1,IF('USER INPUTS'!$B$26=\"Carbon dioxide\",((1/($D$5/100))-1),(VLOOKUP('USER INPUTS'!$B$26,DEFAULTS!$E$8:$F$69,2,FALSE))/10^6*(1/($D$5/100))))))),0,METHANE!$J145*DEFAULTS!$B$82*(IF('USER INPUTS'!$B$26=\"Total landfill gas\",(1/($D$5/100)),IF('USER INPUTS'!$B$26=\"Methane\",1,IF('USER INPUTS'!$B$26=\"Carbon dioxide\",((1/($D$5/100))-1),(VLOOKUP('USER INPUTS'!$B$26,DEFAULTS!$E$8:$F$69,2,FALSE))/10^6*(1/($D$5/100)))))))","v":0},{"$f":"IF(ISERROR(METHANE!$J145*(IF('USER INPUTS'!$B$26=\"Total landfill gas\",(1/($D$5/100)),IF('USER INPUTS'!$B$26=\"Methane\",1,IF('USER INPUTS'!$B$26=\"Carbon dioxide\",((1/($D$5/100))-1),(VLOOKUP('USER INPUTS'!$B$26,DEFAULTS!$E$8:$F$69,2,FALSE))/10^6*(1/($D$5/100))))))),0,METHANE!$J145*(IF('USER INPUTS'!$B$26=\"Total landfill gas\",(1/($D$5/100)),IF('USER INPUTS'!$B$26=\"Methane\",1,IF('USER INPUTS'!$B$26=\"Carbon dioxide\",((1/($D$5/100))-1),(VLOOKUP('USER INPUTS'!$B$26,DEFAULTS!$E$8:$F$69,2,FALSE))/10^6*(1/($D$5/100)))))))","v":0},{"$f":"IF(K$8=\"(short tons/year)\",(I131*DEFAULTS!$B$55*DEFAULTS!$B$53/DEFAULTS!$B$54),IF(K$8=\"(ft^3/year)\",(J131*DEFAULTS!$B$57),IF(K$8=\"(av ft^3/min)\",(J131*DEFAULTS!$B$57/DEFAULTS!$B$58),0)))","v":0},{"$f":"IF(ISERROR(METHANE!$J145*DEFAULTS!$B$83*(IF('USER INPUTS'!$B$28=\"Total landfill gas\",(1/($D$5/100)),IF('USER INPUTS'!$B$28=\"Methane\",1,IF('USER INPUTS'!$B$28=\"Carbon dioxide\",((1/($D$5/100))-1),(VLOOKUP('USER INPUTS'!$B$28,DEFAULTS!$E$8:$F$69,2,FALSE))/10^6*(1/($D$5/100))))))),0,METHANE!$J145*DEFAULTS!$B$83*(IF('USER INPUTS'!$B$28=\"Total landfill gas\",(1/($D$5/100)),IF('USER INPUTS'!$B$28=\"Methane\",1,IF('USER INPUTS'!$B$28=\"Carbon dioxide\",((1/($D$5/100))-1),(VLOOKUP('USER INPUTS'!$B$28,DEFAULTS!$E$8:$F$69,2,FALSE))/10^6*(1/($D$5/100)))))))","v":0},{"$f":"IF(ISERROR(METHANE!$J145*(IF('USER INPUTS'!$B$28=\"Total landfill gas\",(1/($D$5/100)),IF('USER INPUTS'!$B$28=\"Methane\",1,IF('USER INPUTS'!$B$28=\"Carbon dioxide\",((1/($D$5/100))-1),(VLOOKUP('USER INPUTS'!$B$28,DEFAULTS!$E$8:$F$69,2,FALSE))/10^6*(1/($D$5/100))))))),0,METHANE!$J145*(IF('USER INPUTS'!$B$28=\"Total landfill gas\",(1/($D$5/100)),IF('USER INPUTS'!$B$28=\"Methane\",1,IF('USER INPUTS'!$B$28=\"Carbon dioxide\",((1/($D$5/100))-1),(VLOOKUP('USER INPUTS'!$B$28,DEFAULTS!$E$8:$F$69,2,FALSE))/10^6*(1/($D$5/100)))))))","v":0},{"$f":"IF(N$8=\"(short tons/year)\",(L131*DEFAULTS!$B$55*DEFAULTS!$B$53/DEFAULTS!$B$54),IF(N$8=\"(ft^3/year)\",(M131*DEFAULTS!$B$57),IF(N$8=\"(av ft^3/min)\",(M131*DEFAULTS!$B$57/DEFAULTS!$B$58),0)))","v":0},{"$f":"IF(ISERROR(METHANE!$J145*DEFAULTS!$B$84*(IF('USER INPUTS'!$B$30=\"Total landfill gas\",(1/($D$5/100)),IF('USER INPUTS'!$B$30=\"Methane\",1,IF('USER INPUTS'!$B$30=\"Carbon dioxide\",((1/($D$5/100))-1),(VLOOKUP('USER INPUTS'!$B$30,DEFAULTS!$E$8:$F$69,2,FALSE))/10^6*(1/($D$5/100))))))),0,METHANE!$J145*DEFAULTS!$B$84*(IF('USER INPUTS'!$B$30=\"Total landfill gas\",(1/($D$5/100)),IF('USER INPUTS'!$B$30=\"Methane\",1,IF('USER INPUTS'!$B$30=\"Carbon dioxide\",((1/($D$5/100))-1),(VLOOKUP('USER INPUTS'!$B$30,DEFAULTS!$E$8:$F$69,2,FALSE))/10^6*(1/($D$5/100)))))))","v":0},{"$f":"IF(ISERROR(METHANE!$J145*(IF('USER INPUTS'!$B$30=\"Total landfill gas\",(1/($D$5/100)),IF('USER INPUTS'!$B$30=\"Methane\",1,IF('USER INPUTS'!$B$30=\"Carbon dioxide\",((1/($D$5/100))-1),(VLOOKUP('USER INPUTS'!$B$30,DEFAULTS!$E$8:$F$69,2,FALSE))/10^6*(1/($D$5/100))))))),0,METHANE!$J145*(IF('USER INPUTS'!$B$30=\"Total landfill gas\",(1/($D$5/100)),IF('USER INPUTS'!$B$30=\"Methane\",1,IF('USER INPUTS'!$B$30=\"Carbon dioxide\",((1/($D$5/100))-1),(VLOOKUP('USER INPUTS'!$B$30,DEFAULTS!$E$8:$F$69,2,FALSE))/10^6*(1/($D$5/100)))))))","v":0},{"$f":"IF(Q$8=\"(short tons/year)\",(O131*DEFAULTS!$B$55*DEFAULTS!$B$53/DEFAULTS!$B$54),IF(Q$8=\"(ft^3/year)\",(P131*DEFAULTS!$B$57),IF(Q$8=\"(av ft^3/min)\",(P131*DEFAULTS!$B$57/DEFAULTS!$B$58),0)))","v":0}]
[{"$f":"METHANE!I146","v":123},0,0,0,0,{"$f":"IF(ISERROR(METHANE!$J146*DEFAULTS!$B$81*(IF('USER INPUTS'!$B$24=\"Total landfill gas\",(1/($D$5/100)),IF('USER INPUTS'!$B$24=\"Methane\",1,IF('USER INPUTS'!$B$24=\"Carbon dioxide\",((1/($D$5/100))-1),(VLOOKUP('USER INPUTS'!$B$24,DEFAULTS!$E$8:$F$69,2,FALSE))/10^6*(1/($D$5/100))))))),0,METHANE!$J146*DEFAULTS!$B$81*(IF('USER INPUTS'!$B$24=\"Total landfill gas\",(1/($D$5/100)),IF('USER INPUTS'!$B$24=\"Methane\",1,IF('USER INPUTS'!$B$24=\"Carbon dioxide\",((1/($D$5/100))-1),(VLOOKUP('USER INPUTS'!$B$24,DEFAULTS!$E$8:$F$69,2,FALSE))/10^6*(1/($D$5/100)))))))","v":0},{"$f":"IF(ISERROR(METHANE!$J146*(IF('USER INPUTS'!$B$24=\"Total landfill gas\",(1/($D$5/100)),IF('USER INPUTS'!$B$24=\"Methane\",1,IF('USER INPUTS'!$B$24=\"Carbon dioxide\",((1/($D$5/100))-1),(VLOOKUP('USER INPUTS'!$B$24,DEFAULTS!$E$8:$F$69,2,FALSE))/10^6*(1/($D$5/100))))))),0,METHANE!$J146*(IF('USER INPUTS'!$B$24=\"Total landfill gas\",(1/($D$5/100)),IF('USER INPUTS'!$B$24=\"Methane\",1,IF('USER INPUTS'!$B$24=\"Carbon dioxide\",((1/($D$5/100))-1),(VLOOKUP('USER INPUTS'!$B$24,DEFAULTS!$E$8:$F$69,2,FALSE))/10^6*(1/($D$5/100)))))))","v":0},{"$f":"IF(H$8=\"(short tons/year)\",(F132*DEFAULTS!$B$55*DEFAULTS!$B$53/DEFAULTS!$B$54),IF(H$8=\"(ft^3/year)\",(G132*DEFAULTS!$B$57),IF(H$8=\"(av ft^3/min)\",(G132*DEFAULTS!$B$57/DEFAULTS!$B$58),0)))","v":0},{"$f":"IF(ISERROR(METHANE!$J146*DEFAULTS!$B$82*(IF('USER INPUTS'!$B$26=\"Total landfill gas\",(1/($D$5/100)),IF('USER INPUTS'!$B$26=\"Methane\",1,IF('USER INPUTS'!$B$26=\"Carbon dioxide\",((1/($D$5/100))-1),(VLOOKUP('USER INPUTS'!$B$26,DEFAULTS!$E$8:$F$69,2,FALSE))/10^6*(1/($D$5/100))))))),0,METHANE!$J146*DEFAULTS!$B$82*(IF('USER INPUTS'!$B$26=\"Total landfill gas\",(1/($D$5/100)),IF('USER INPUTS'!$B$26=\"Methane\",1,IF('USER INPUTS'!$B$26=\"Carbon dioxide\",((1/($D$5/100))-1),(VLOOKUP('USER INPUTS'!$B$26,DEFAULTS!$E$8:$F$69,2,FALSE))/10^6*(1/($D$5/100)))))))","v":0},{"$f":"IF(ISERROR(METHANE!$J146*(IF('USER INPUTS'!$B$26=\"Total landfill gas\",(1/($D$5/100)),IF('USER INPUTS'!$B$26=\"Methane\",1,IF('USER INPUTS'!$B$26=\"Carbon dioxide\",((1/($D$5/100))-1),(VLOOKUP('USER INPUTS'!$B$26,DEFAULTS!$E$8:$F$69,2,FALSE))/10^6*(1/($D$5/100))))))),0,METHANE!$J146*(IF('USER INPUTS'!$B$26=\"Total landfill gas\",(1/($D$5/100)),IF('USER INPUTS'!$B$26=\"Methane\",1,IF('USER INPUTS'!$B$26=\"Carbon dioxide\",((1/($D$5/100))-1),(VLOOKUP('USER INPUTS'!$B$26,DEFAULTS!$E$8:$F$69,2,FALSE))/10^6*(1/($D$5/100)))))))","v":0},{"$f":"IF(K$8=\"(short tons/year)\",(I132*DEFAULTS!$B$55*DEFAULTS!$B$53/DEFAULTS!$B$54),IF(K$8=\"(ft^3/year)\",(J132*DEFAULTS!$B$57),IF(K$8=\"(av ft^3/min)\",(J132*DEFAULTS!$B$57/DEFAULTS!$B$58),0)))","v":0},{"$f":"IF(ISERROR(METHANE!$J146*DEFAULTS!$B$83*(IF('USER INPUTS'!$B$28=\"Total landfill gas\",(1/($D$5/100)),IF('USER INPUTS'!$B$28=\"Methane\",1,IF('USER INPUTS'!$B$28=\"Carbon dioxide\",((1/($D$5/100))-1),(VLOOKUP('USER INPUTS'!$B$28,DEFAULTS!$E$8:$F$69,2,FALSE))/10^6*(1/($D$5/100))))))),0,METHANE!$J146*DEFAULTS!$B$83*(IF('USER INPUTS'!$B$28=\"Total landfill gas\",(1/($D$5/100)),IF('USER INPUTS'!$B$28=\"Methane\",1,IF('USER INPUTS'!$B$28=\"Carbon dioxide\",((1/($D$5/100))-1),(VLOOKUP('USER INPUTS'!$B$28,DEFAULTS!$E$8:$F$69,2,FALSE))/10^6*(1/($D$5/100)))))))","v":0},{"$f":"IF(ISERROR(METHANE!$J146*(IF('USER INPUTS'!$B$28=\"Total landfill gas\",(1/($D$5/100)),IF('USER INPUTS'!$B$28=\"Methane\",1,IF('USER INPUTS'!$B$28=\"Carbon dioxide\",((1/($D$5/100))-1),(VLOOKUP('USER INPUTS'!$B$28,DEFAULTS!$E$8:$F$69,2,FALSE))/10^6*(1/($D$5/100))))))),0,METHANE!$J146*(IF('USER INPUTS'!$B$28=\"Total landfill gas\",(1/($D$5/100)),IF('USER INPUTS'!$B$28=\"Methane\",1,IF('USER INPUTS'!$B$28=\"Carbon dioxide\",((1/($D$5/100))-1),(VLOOKUP('USER INPUTS'!$B$28,DEFAULTS!$E$8:$F$69,2,FALSE))/10^6*(1/($D$5/100)))))))","v":0},{"$f":"IF(N$8=\"(short tons/year)\",(L132*DEFAULTS!$B$55*DEFAULTS!$B$53/DEFAULTS!$B$54),IF(N$8=\"(ft^3/year)\",(M132*DEFAULTS!$B$57),IF(N$8=\"(av ft^3/min)\",(M132*DEFAULTS!$B$57/DEFAULTS!$B$58),0)))","v":0},{"$f":"IF(ISERROR(METHANE!$J146*DEFAULTS!$B$84*(IF('USER INPUTS'!$B$30=\"Total landfill gas\",(1/($D$5/100)),IF('USER INPUTS'!$B$30=\"Methane\",1,IF('USER INPUTS'!$B$30=\"Carbon dioxide\",((1/($D$5/100))-1),(VLOOKUP('USER INPUTS'!$B$30,DEFAULTS!$E$8:$F$69,2,FALSE))/10^6*(1/($D$5/100))))))),0,METHANE!$J146*DEFAULTS!$B$84*(IF('USER INPUTS'!$B$30=\"Total landfill gas\",(1/($D$5/100)),IF('USER INPUTS'!$B$30=\"Methane\",1,IF('USER INPUTS'!$B$30=\"Carbon dioxide\",((1/($D$5/100))-1),(VLOOKUP('USER INPUTS'!$B$30,DEFAULTS!$E$8:$F$69,2,FALSE))/10^6*(1/($D$5/100)))))))","v":0},{"$f":"IF(ISERROR(METHANE!$J146*(IF('USER INPUTS'!$B$30=\"Total landfill gas\",(1/($D$5/100)),IF('USER INPUTS'!$B$30=\"Methane\",1,IF('USER INPUTS'!$B$30=\"Carbon dioxide\",((1/($D$5/100))-1),(VLOOKUP('USER INPUTS'!$B$30,DEFAULTS!$E$8:$F$69,2,FALSE))/10^6*(1/($D$5/100))))))),0,METHANE!$J146*(IF('USER INPUTS'!$B$30=\"Total landfill gas\",(1/($D$5/100)),IF('USER INPUTS'!$B$30=\"Methane\",1,IF('USER INPUTS'!$B$30=\"Carbon dioxide\",((1/($D$5/100))-1),(VLOOKUP('USER INPUTS'!$B$30,DEFAULTS!$E$8:$F$69,2,FALSE))/10^6*(1/($D$5/100)))))))","v":0},{"$f":"IF(Q$8=\"(short tons/year)\",(O132*DEFAULTS!$B$55*DEFAULTS!$B$53/DEFAULTS!$B$54),IF(Q$8=\"(ft^3/year)\",(P132*DEFAULTS!$B$57),IF(Q$8=\"(av ft^3/min)\",(P132*DEFAULTS!$B$57/DEFAULTS!$B$58),0)))","v":0}]
[{"$f":"METHANE!I147","v":124},0,0,0,0,{"$f":"IF(ISERROR(METHANE!$J147*DEFAULTS!$B$81*(IF('USER INPUTS'!$B$24=\"Total landfill gas\",(1/($D$5/100)),IF('USER INPUTS'!$B$24=\"Methane\",1,IF('USER INPUTS'!$B$24=\"Carbon dioxide\",((1/($D$5/100))-1),(VLOOKUP('USER INPUTS'!$B$24,DEFAULTS!$E$8:$F$69,2,FALSE))/10^6*(1/($D$5/100))))))),0,METHANE!$J147*DEFAULTS!$B$81*(IF('USER INPUTS'!$B$24=\"Total landfill gas\",(1/($D$5/100)),IF('USER INPUTS'!$B$24=\"Methane\",1,IF('USER INPUTS'!$B$24=\"Carbon dioxide\",((1/($D$5/100))-1),(VLOOKUP('USER INPUTS'!$B$24,DEFAULTS!$E$8:$F$69,2,FALSE))/10^6*(1/($D$5/100)))))))","v":0},{"$f":"IF(ISERROR(METHANE!$J147*(IF('USER INPUTS'!$B$24=\"Total landfill gas\",(1/($D$5/100)),IF('USER INPUTS'!$B$24=\"Methane\",1,IF('USER INPUTS'!$B$24=\"Carbon dioxide\",((1/($D$5/100))-1),(VLOOKUP('USER INPUTS'!$B$24,DEFAULTS!$E$8:$F$69,2,FALSE))/10^6*(1/($D$5/100))))))),0,METHANE!$J147*(IF('USER INPUTS'!$B$24=\"Total landfill gas\",(1/($D$5/100)),IF('USER INPUTS'!$B$24=\"Methane\",1,IF('USER INPUTS'!$B$24=\"Carbon dioxide\",((1/($D$5/100))-1),(VLOOKUP('USER INPUTS'!$B$24,DEFAULTS!$E$8:$F$69,2,FALSE))/10^6*(1/($D$5/100)))))))","v":0},{"$f":"IF(H$8=\"(short tons/year)\",(F133*DEFAULTS!$B$55*DEFAULTS!$B$53/DEFAULTS!$B$54),IF(H$8=\"(ft^3/year)\",(G133*DEFAULTS!$B$57),IF(H$8=\"(av ft^3/min)\",(G133*DEFAULTS!$B$57/DEFAULTS!$B$58),0)))","v":0},{"$f":"IF(ISERROR(METHANE!$J147*DEFAULTS!$B$82*(IF('USER INPUTS'!$B$26=\"Total landfill gas\",(1/($D$5/100)),IF('USER INPUTS'!$B$26=\"Methane\",1,IF('USER INPUTS'!$B$26=\"Carbon dioxide\",((1/($D$5/100))-1),(VLOOKUP('USER INPUTS'!$B$26,DEFAULTS!$E$8:$F$69,2,FALSE))/10^6*(1/($D$5/100))))))),0,METHANE!$J147*DEFAULTS!$B$82*(IF('USER INPUTS'!$B$26=\"Total landfill gas\",(1/($D$5/100)),IF('USER INPUTS'!$B$26=\"Methane\",1,IF('USER INPUTS'!$B$26=\"Carbon dioxide\",((1/($D$5/100))-1),(VLOOKUP('USER INPUTS'!$B$26,DEFAULTS!$E$8:$F$69,2,FALSE))/10^6*(1/($D$5/100)))))))","v":0},{"$f":"IF(ISERROR(METHANE!$J147*(IF('USER INPUTS'!$B$26=\"Total landfill gas\",(1/($D$5/100)),IF('USER INPUTS'!$B$26=\"Methane\",1,IF('USER INPUTS'!$B$26=\"Carbon dioxide\",((1/($D$5/100))-1),(VLOOKUP('USER INPUTS'!$B$26,DEFAULTS!$E$8:$F$69,2,FALSE))/10^6*(1/($D$5/100))))))),0,METHANE!$J147*(IF('USER INPUTS'!$B$26=\"Total landfill gas\",(1/($D$5/100)),IF('USER INPUTS'!$B$26=\"Methane\",1,IF('USER INPUTS'!$B$26=\"Carbon dioxide\",((1/($D$5/100))-1),(VLOOKUP('USER INPUTS'!$B$26,DEFAULTS!$E$8:$F$69,2,FALSE))/10^6*(1/($D$5/100)))))))","v":0},{"$f":"IF(K$8=\"(short tons/year)\",(I133*DEFAULTS!$B$55*DEFAULTS!$B$53/DEFAULTS!$B$54),IF(K$8=\"(ft^3/year)\",(J133*DEFAULTS!$B$57),IF(K$8=\"(av ft^3/min)\",(J133*DEFAULTS!$B$57/DEFAULTS!$B$58),0)))","v":0},{"$f":"IF(ISERROR(METHANE!$J147*DEFAULTS!$B$83*(IF('USER INPUTS'!$B$28=\"Total landfill gas\",(1/($D$5/100)),IF('USER INPUTS'!$B$28=\"Methane\",1,IF('USER INPUTS'!$B$28=\"Carbon dioxide\",((1/($D$5/100))-1),(VLOOKUP('USER INPUTS'!$B$28,DEFAULTS!$E$8:$F$69,2,FALSE))/10^6*(1/($D$5/100))))))),0,METHANE!$J147*DEFAULTS!$B$83*(IF('USER INPUTS'!$B$28=\"Total landfill gas\",(1/($D$5/100)),IF('USER INPUTS'!$B$28=\"Methane\",1,IF('USER INPUTS'!$B$28=\"Carbon dioxide\",((1/($D$5/100))-1),(VLOOKUP('USER INPUTS'!$B$28,DEFAULTS!$E$8:$F$69,2,FALSE))/10^6*(1/($D$5/100)))))))","v":0},{"$f":"IF(ISERROR(METHANE!$J147*(IF('USER INPUTS'!$B$28=\"Total landfill gas\",(1/($D$5/100)),IF('USER INPUTS'!$B$28=\"Methane\",1,IF('USER INPUTS'!$B$28=\"Carbon dioxide\",((1/($D$5/100))-1),(VLOOKUP('USER INPUTS'!$B$28,DEFAULTS!$E$8:$F$69,2,FALSE))/10^6*(1/($D$5/100))))))),0,METHANE!$J147*(IF('USER INPUTS'!$B$28=\"Total landfill gas\",(1/($D$5/100)),IF('USER INPUTS'!$B$28=\"Methane\",1,IF('USER INPUTS'!$B$28=\"Carbon dioxide\",((1/($D$5/100))-1),(VLOOKUP('USER INPUTS'!$B$28,DEFAULTS!$E$8:$F$69,2,FALSE))/10^6*(1/($D$5/100)))))))","v":0},{"$f":"IF(N$8=\"(short tons/year)\",(L133*DEFAULTS!$B$55*DEFAULTS!$B$53/DEFAULTS!$B$54),IF(N$8=\"(ft^3/year)\",(M133*DEFAULTS!$B$57),IF(N$8=\"(av ft^3/min)\",(M133*DEFAULTS!$B$57/DEFAULTS!$B$58),0)))","v":0},{"$f":"IF(ISERROR(METHANE!$J147*DEFAULTS!$B$84*(IF('USER INPUTS'!$B$30=\"Total landfill gas\",(1/($D$5/100)),IF('USER INPUTS'!$B$30=\"Methane\",1,IF('USER INPUTS'!$B$30=\"Carbon dioxide\",((1/($D$5/100))-1),(VLOOKUP('USER INPUTS'!$B$30,DEFAULTS!$E$8:$F$69,2,FALSE))/10^6*(1/($D$5/100))))))),0,METHANE!$J147*DEFAULTS!$B$84*(IF('USER INPUTS'!$B$30=\"Total landfill gas\",(1/($D$5/100)),IF('USER INPUTS'!$B$30=\"Methane\",1,IF('USER INPUTS'!$B$30=\"Carbon dioxide\",((1/($D$5/100))-1),(VLOOKUP('USER INPUTS'!$B$30,DEFAULTS!$E$8:$F$69,2,FALSE))/10^6*(1/($D$5/100)))))))","v":0},{"$f":"IF(ISERROR(METHANE!$J147*(IF('USER INPUTS'!$B$30=\"Total landfill gas\",(1/($D$5/100)),IF('USER INPUTS'!$B$30=\"Methane\",1,IF('USER INPUTS'!$B$30=\"Carbon dioxide\",((1/($D$5/100))-1),(VLOOKUP('USER INPUTS'!$B$30,DEFAULTS!$E$8:$F$69,2,FALSE))/10^6*(1/($D$5/100))))))),0,METHANE!$J147*(IF('USER INPUTS'!$B$30=\"Total landfill gas\",(1/($D$5/100)),IF('USER INPUTS'!$B$30=\"Methane\",1,IF('USER INPUTS'!$B$30=\"Carbon dioxide\",((1/($D$5/100))-1),(VLOOKUP('USER INPUTS'!$B$30,DEFAULTS!$E$8:$F$69,2,FALSE))/10^6*(1/($D$5/100)))))))","v":0},{"$f":"IF(Q$8=\"(short tons/year)\",(O133*DEFAULTS!$B$55*DEFAULTS!$B$53/DEFAULTS!$B$54),IF(Q$8=\"(ft^3/year)\",(P133*DEFAULTS!$B$57),IF(Q$8=\"(av ft^3/min)\",(P133*DEFAULTS!$B$57/DEFAULTS!$B$58),0)))","v":0}]
[{"$f":"METHANE!I148","v":125},0,0,0,0,{"$f":"IF(ISERROR(METHANE!$J148*DEFAULTS!$B$81*(IF('USER INPUTS'!$B$24=\"Total landfill gas\",(1/($D$5/100)),IF('USER INPUTS'!$B$24=\"Methane\",1,IF('USER INPUTS'!$B$24=\"Carbon dioxide\",((1/($D$5/100))-1),(VLOOKUP('USER INPUTS'!$B$24,DEFAULTS!$E$8:$F$69,2,FALSE))/10^6*(1/($D$5/100))))))),0,METHANE!$J148*DEFAULTS!$B$81*(IF('USER INPUTS'!$B$24=\"Total landfill gas\",(1/($D$5/100)),IF('USER INPUTS'!$B$24=\"Methane\",1,IF('USER INPUTS'!$B$24=\"Carbon dioxide\",((1/($D$5/100))-1),(VLOOKUP('USER INPUTS'!$B$24,DEFAULTS!$E$8:$F$69,2,FALSE))/10^6*(1/($D$5/100)))))))","v":0},{"$f":"IF(ISERROR(METHANE!$J148*(IF('USER INPUTS'!$B$24=\"Total landfill gas\",(1/($D$5/100)),IF('USER INPUTS'!$B$24=\"Methane\",1,IF('USER INPUTS'!$B$24=\"Carbon dioxide\",((1/($D$5/100))-1),(VLOOKUP('USER INPUTS'!$B$24,DEFAULTS!$E$8:$F$69,2,FALSE))/10^6*(1/($D$5/100))))))),0,METHANE!$J148*(IF('USER INPUTS'!$B$24=\"Total landfill gas\",(1/($D$5/100)),IF('USER INPUTS'!$B$24=\"Methane\",1,IF('USER INPUTS'!$B$24=\"Carbon dioxide\",((1/($D$5/100))-1),(VLOOKUP('USER INPUTS'!$B$24,DEFAULTS!$E$8:$F$69,2,FALSE))/10^6*(1/($D$5/100)))))))","v":0},{"$f":"IF(H$8=\"(short tons/year)\",(F134*DEFAULTS!$B$55*DEFAULTS!$B$53/DEFAULTS!$B$54),IF(H$8=\"(ft^3/year)\",(G134*DEFAULTS!$B$57),IF(H$8=\"(av ft^3/min)\",(G134*DEFAULTS!$B$57/DEFAULTS!$B$58),0)))","v":0},{"$f":"IF(ISERROR(METHANE!$J148*DEFAULTS!$B$82*(IF('USER INPUTS'!$B$26=\"Total landfill gas\",(1/($D$5/100)),IF('USER INPUTS'!$B$26=\"Methane\",1,IF('USER INPUTS'!$B$26=\"Carbon dioxide\",((1/($D$5/100))-1),(VLOOKUP('USER INPUTS'!$B$26,DEFAULTS!$E$8:$F$69,2,FALSE))/10^6*(1/($D$5/100))))))),0,METHANE!$J148*DEFAULTS!$B$82*(IF('USER INPUTS'!$B$26=\"Total landfill gas\",(1/($D$5/100)),IF('USER INPUTS'!$B$26=\"Methane\",1,IF('USER INPUTS'!$B$26=\"Carbon dioxide\",((1/($D$5/100))-1),(VLOOKUP('USER INPUTS'!$B$26,DEFAULTS!$E$8:$F$69,2,FALSE))/10^6*(1/($D$5/100)))))))","v":0},{"$f":"IF(ISERROR(METHANE!$J148*(IF('USER INPUTS'!$B$26=\"Total landfill gas\",(1/($D$5/100)),IF('USER INPUTS'!$B$26=\"Methane\",1,IF('USER INPUTS'!$B$26=\"Carbon dioxide\",((1/($D$5/100))-1),(VLOOKUP('USER INPUTS'!$B$26,DEFAULTS!$E$8:$F$69,2,FALSE))/10^6*(1/($D$5/100))))))),0,METHANE!$J148*(IF('USER INPUTS'!$B$26=\"Total landfill gas\",(1/($D$5/100)),IF('USER INPUTS'!$B$26=\"Methane\",1,IF('USER INPUTS'!$B$26=\"Carbon dioxide\",((1/($D$5/100))-1),(VLOOKUP('USER INPUTS'!$B$26,DEFAULTS!$E$8:$F$69,2,FALSE))/10^6*(1/($D$5/100)))))))","v":0},{"$f":"IF(K$8=\"(short tons/year)\",(I134*DEFAULTS!$B$55*DEFAULTS!$B$53/DEFAULTS!$B$54),IF(K$8=\"(ft^3/year)\",(J134*DEFAULTS!$B$57),IF(K$8=\"(av ft^3/min)\",(J134*DEFAULTS!$B$57/DEFAULTS!$B$58),0)))","v":0},{"$f":"IF(ISERROR(METHANE!$J148*DEFAULTS!$B$83*(IF('USER INPUTS'!$B$28=\"Total landfill gas\",(1/($D$5/100)),IF('USER INPUTS'!$B$28=\"Methane\",1,IF('USER INPUTS'!$B$28=\"Carbon dioxide\",((1/($D$5/100))-1),(VLOOKUP('USER INPUTS'!$B$28,DEFAULTS!$E$8:$F$69,2,FALSE))/10^6*(1/($D$5/100))))))),0,METHANE!$J148*DEFAULTS!$B$83*(IF('USER INPUTS'!$B$28=\"Total landfill gas\",(1/($D$5/100)),IF('USER INPUTS'!$B$28=\"Methane\",1,IF('USER INPUTS'!$B$28=\"Carbon dioxide\",((1/($D$5/100))-1),(VLOOKUP('USER INPUTS'!$B$28,DEFAULTS!$E$8:$F$69,2,FALSE))/10^6*(1/($D$5/100)))))))","v":0},{"$f":"IF(ISERROR(METHANE!$J148*(IF('USER INPUTS'!$B$28=\"Total landfill gas\",(1/($D$5/100)),IF('USER INPUTS'!$B$28=\"Methane\",1,IF('USER INPUTS'!$B$28=\"Carbon dioxide\",((1/($D$5/100))-1),(VLOOKUP('USER INPUTS'!$B$28,DEFAULTS!$E$8:$F$69,2,FALSE))/10^6*(1/($D$5/100))))))),0,METHANE!$J148*(IF('USER INPUTS'!$B$28=\"Total landfill gas\",(1/($D$5/100)),IF('USER INPUTS'!$B$28=\"Methane\",1,IF('USER INPUTS'!$B$28=\"Carbon dioxide\",((1/($D$5/100))-1),(VLOOKUP('USER INPUTS'!$B$28,DEFAULTS!$E$8:$F$69,2,FALSE))/10^6*(1/($D$5/100)))))))","v":0},{"$f":"IF(N$8=\"(short tons/year)\",(L134*DEFAULTS!$B$55*DEFAULTS!$B$53/DEFAULTS!$B$54),IF(N$8=\"(ft^3/year)\",(M134*DEFAULTS!$B$57),IF(N$8=\"(av ft^3/min)\",(M134*DEFAULTS!$B$57/DEFAULTS!$B$58),0)))","v":0},{"$f":"IF(ISERROR(METHANE!$J148*DEFAULTS!$B$84*(IF('USER INPUTS'!$B$30=\"Total landfill gas\",(1/($D$5/100)),IF('USER INPUTS'!$B$30=\"Methane\",1,IF('USER INPUTS'!$B$30=\"Carbon dioxide\",((1/($D$5/100))-1),(VLOOKUP('USER INPUTS'!$B$30,DEFAULTS!$E$8:$F$69,2,FALSE))/10^6*(1/($D$5/100))))))),0,METHANE!$J148*DEFAULTS!$B$84*(IF('USER INPUTS'!$B$30=\"Total landfill gas\",(1/($D$5/100)),IF('USER INPUTS'!$B$30=\"Methane\",1,IF('USER INPUTS'!$B$30=\"Carbon dioxide\",((1/($D$5/100))-1),(VLOOKUP('USER INPUTS'!$B$30,DEFAULTS!$E$8:$F$69,2,FALSE))/10^6*(1/($D$5/100)))))))","v":0},{"$f":"IF(ISERROR(METHANE!$J148*(IF('USER INPUTS'!$B$30=\"Total landfill gas\",(1/($D$5/100)),IF('USER INPUTS'!$B$30=\"Methane\",1,IF('USER INPUTS'!$B$30=\"Carbon dioxide\",((1/($D$5/100))-1),(VLOOKUP('USER INPUTS'!$B$30,DEFAULTS!$E$8:$F$69,2,FALSE))/10^6*(1/($D$5/100))))))),0,METHANE!$J148*(IF('USER INPUTS'!$B$30=\"Total landfill gas\",(1/($D$5/100)),IF('USER INPUTS'!$B$30=\"Methane\",1,IF('USER INPUTS'!$B$30=\"Carbon dioxide\",((1/($D$5/100))-1),(VLOOKUP('USER INPUTS'!$B$30,DEFAULTS!$E$8:$F$69,2,FALSE))/10^6*(1/($D$5/100)))))))","v":0},{"$f":"IF(Q$8=\"(short tons/year)\",(O134*DEFAULTS!$B$55*DEFAULTS!$B$53/DEFAULTS!$B$54),IF(Q$8=\"(ft^3/year)\",(P134*DEFAULTS!$B$57),IF(Q$8=\"(av ft^3/min)\",(P134*DEFAULTS!$B$57/DEFAULTS!$B$58),0)))","v":0}]
[{"$f":"METHANE!I149","v":126},0,0,0,0,{"$f":"IF(ISERROR(METHANE!$J149*DEFAULTS!$B$81*(IF('USER INPUTS'!$B$24=\"Total landfill gas\",(1/($D$5/100)),IF('USER INPUTS'!$B$24=\"Methane\",1,IF('USER INPUTS'!$B$24=\"Carbon dioxide\",((1/($D$5/100))-1),(VLOOKUP('USER INPUTS'!$B$24,DEFAULTS!$E$8:$F$69,2,FALSE))/10^6*(1/($D$5/100))))))),0,METHANE!$J149*DEFAULTS!$B$81*(IF('USER INPUTS'!$B$24=\"Total landfill gas\",(1/($D$5/100)),IF('USER INPUTS'!$B$24=\"Methane\",1,IF('USER INPUTS'!$B$24=\"Carbon dioxide\",((1/($D$5/100))-1),(VLOOKUP('USER INPUTS'!$B$24,DEFAULTS!$E$8:$F$69,2,FALSE))/10^6*(1/($D$5/100)))))))","v":0},{"$f":"IF(ISERROR(METHANE!$J149*(IF('USER INPUTS'!$B$24=\"Total landfill gas\",(1/($D$5/100)),IF('USER INPUTS'!$B$24=\"Methane\",1,IF('USER INPUTS'!$B$24=\"Carbon dioxide\",((1/($D$5/100))-1),(VLOOKUP('USER INPUTS'!$B$24,DEFAULTS!$E$8:$F$69,2,FALSE))/10^6*(1/($D$5/100))))))),0,METHANE!$J149*(IF('USER INPUTS'!$B$24=\"Total landfill gas\",(1/($D$5/100)),IF('USER INPUTS'!$B$24=\"Methane\",1,IF('USER INPUTS'!$B$24=\"Carbon dioxide\",((1/($D$5/100))-1),(VLOOKUP('USER INPUTS'!$B$24,DEFAULTS!$E$8:$F$69,2,FALSE))/10^6*(1/($D$5/100)))))))","v":0},{"$f":"IF(H$8=\"(short tons/year)\",(F135*DEFAULTS!$B$55*DEFAULTS!$B$53/DEFAULTS!$B$54),IF(H$8=\"(ft^3/year)\",(G135*DEFAULTS!$B$57),IF(H$8=\"(av ft^3/min)\",(G135*DEFAULTS!$B$57/DEFAULTS!$B$58),0)))","v":0},{"$f":"IF(ISERROR(METHANE!$J149*DEFAULTS!$B$82*(IF('USER INPUTS'!$B$26=\"Total landfill gas\",(1/($D$5/100)),IF('USER INPUTS'!$B$26=\"Methane\",1,IF('USER INPUTS'!$B$26=\"Carbon dioxide\",((1/($D$5/100))-1),(VLOOKUP('USER INPUTS'!$B$26,DEFAULTS!$E$8:$F$69,2,FALSE))/10^6*(1/($D$5/100))))))),0,METHANE!$J149*DEFAULTS!$B$82*(IF('USER INPUTS'!$B$26=\"Total landfill gas\",(1/($D$5/100)),IF('USER INPUTS'!$B$26=\"Methane\",1,IF('USER INPUTS'!$B$26=\"Carbon dioxide\",((1/($D$5/100))-1),(VLOOKUP('USER INPUTS'!$B$26,DEFAULTS!$E$8:$F$69,2,FALSE))/10^6*(1/($D$5/100)))))))","v":0},{"$f":"IF(ISERROR(METHANE!$J149*(IF('USER INPUTS'!$B$26=\"Total landfill gas\",(1/($D$5/100)),IF('USER INPUTS'!$B$26=\"Methane\",1,IF('USER INPUTS'!$B$26=\"Carbon dioxide\",((1/($D$5/100))-1),(VLOOKUP('USER INPUTS'!$B$26,DEFAULTS!$E$8:$F$69,2,FALSE))/10^6*(1/($D$5/100))))))),0,METHANE!$J149*(IF('USER INPUTS'!$B$26=\"Total landfill gas\",(1/($D$5/100)),IF('USER INPUTS'!$B$26=\"Methane\",1,IF('USER INPUTS'!$B$26=\"Carbon dioxide\",((1/($D$5/100))-1),(VLOOKUP('USER INPUTS'!$B$26,DEFAULTS!$E$8:$F$69,2,FALSE))/10^6*(1/($D$5/100)))))))","v":0},{"$f":"IF(K$8=\"(short tons/year)\",(I135*DEFAULTS!$B$55*DEFAULTS!$B$53/DEFAULTS!$B$54),IF(K$8=\"(ft^3/year)\",(J135*DEFAULTS!$B$57),IF(K$8=\"(av ft^3/min)\",(J135*DEFAULTS!$B$57/DEFAULTS!$B$58),0)))","v":0},{"$f":"IF(ISERROR(METHANE!$J149*DEFAULTS!$B$83*(IF('USER INPUTS'!$B$28=\"Total landfill gas\",(1/($D$5/100)),IF('USER INPUTS'!$B$28=\"Methane\",1,IF('USER INPUTS'!$B$28=\"Carbon dioxide\",((1/($D$5/100))-1),(VLOOKUP('USER INPUTS'!$B$28,DEFAULTS!$E$8:$F$69,2,FALSE))/10^6*(1/($D$5/100))))))),0,METHANE!$J149*DEFAULTS!$B$83*(IF('USER INPUTS'!$B$28=\"Total landfill gas\",(1/($D$5/100)),IF('USER INPUTS'!$B$28=\"Methane\",1,IF('USER INPUTS'!$B$28=\"Carbon dioxide\",((1/($D$5/100))-1),(VLOOKUP('USER INPUTS'!$B$28,DEFAULTS!$E$8:$F$69,2,FALSE))/10^6*(1/($D$5/100)))))))","v":0},{"$f":"IF(ISERROR(METHANE!$J149*(IF('USER INPUTS'!$B$28=\"Total landfill gas\",(1/($D$5/100)),IF('USER INPUTS'!$B$28=\"Methane\",1,IF('USER INPUTS'!$B$28=\"Carbon dioxide\",((1/($D$5/100))-1),(VLOOKUP('USER INPUTS'!$B$28,DEFAULTS!$E$8:$F$69,2,FALSE))/10^6*(1/($D$5/100))))))),0,METHANE!$J149*(IF('USER INPUTS'!$B$28=\"Total landfill gas\",(1/($D$5/100)),IF('USER INPUTS'!$B$28=\"Methane\",1,IF('USER INPUTS'!$B$28=\"Carbon dioxide\",((1/($D$5/100))-1),(VLOOKUP('USER INPUTS'!$B$28,DEFAULTS!$E$8:$F$69,2,FALSE))/10^6*(1/($D$5/100)))))))","v":0},{"$f":"IF(N$8=\"(short tons/year)\",(L135*DEFAULTS!$B$55*DEFAULTS!$B$53/DEFAULTS!$B$54),IF(N$8=\"(ft^3/year)\",(M135*DEFAULTS!$B$57),IF(N$8=\"(av ft^3/min)\",(M135*DEFAULTS!$B$57/DEFAULTS!$B$58),0)))","v":0},{"$f":"IF(ISERROR(METHANE!$J149*DEFAULTS!$B$84*(IF('USER INPUTS'!$B$30=\"Total landfill gas\",(1/($D$5/100)),IF('USER INPUTS'!$B$30=\"Methane\",1,IF('USER INPUTS'!$B$30=\"Carbon dioxide\",((1/($D$5/100))-1),(VLOOKUP('USER INPUTS'!$B$30,DEFAULTS!$E$8:$F$69,2,FALSE))/10^6*(1/($D$5/100))))))),0,METHANE!$J149*DEFAULTS!$B$84*(IF('USER INPUTS'!$B$30=\"Total landfill gas\",(1/($D$5/100)),IF('USER INPUTS'!$B$30=\"Methane\",1,IF('USER INPUTS'!$B$30=\"Carbon dioxide\",((1/($D$5/100))-1),(VLOOKUP('USER INPUTS'!$B$30,DEFAULTS!$E$8:$F$69,2,FALSE))/10^6*(1/($D$5/100)))))))","v":0},{"$f":"IF(ISERROR(METHANE!$J149*(IF('USER INPUTS'!$B$30=\"Total landfill gas\",(1/($D$5/100)),IF('USER INPUTS'!$B$30=\"Methane\",1,IF('USER INPUTS'!$B$30=\"Carbon dioxide\",((1/($D$5/100))-1),(VLOOKUP('USER INPUTS'!$B$30,DEFAULTS!$E$8:$F$69,2,FALSE))/10^6*(1/($D$5/100))))))),0,METHANE!$J149*(IF('USER INPUTS'!$B$30=\"Total landfill gas\",(1/($D$5/100)),IF('USER INPUTS'!$B$30=\"Methane\",1,IF('USER INPUTS'!$B$30=\"Carbon dioxide\",((1/($D$5/100))-1),(VLOOKUP('USER INPUTS'!$B$30,DEFAULTS!$E$8:$F$69,2,FALSE))/10^6*(1/($D$5/100)))))))","v":0},{"$f":"IF(Q$8=\"(short tons/year)\",(O135*DEFAULTS!$B$55*DEFAULTS!$B$53/DEFAULTS!$B$54),IF(Q$8=\"(ft^3/year)\",(P135*DEFAULTS!$B$57),IF(Q$8=\"(av ft^3/min)\",(P135*DEFAULTS!$B$57/DEFAULTS!$B$58),0)))","v":0}]
[{"$f":"METHANE!I150","v":127},0,0,0,0,{"$f":"IF(ISERROR(METHANE!$J150*DEFAULTS!$B$81*(IF('USER INPUTS'!$B$24=\"Total landfill gas\",(1/($D$5/100)),IF('USER INPUTS'!$B$24=\"Methane\",1,IF('USER INPUTS'!$B$24=\"Carbon dioxide\",((1/($D$5/100))-1),(VLOOKUP('USER INPUTS'!$B$24,DEFAULTS!$E$8:$F$69,2,FALSE))/10^6*(1/($D$5/100))))))),0,METHANE!$J150*DEFAULTS!$B$81*(IF('USER INPUTS'!$B$24=\"Total landfill gas\",(1/($D$5/100)),IF('USER INPUTS'!$B$24=\"Methane\",1,IF('USER INPUTS'!$B$24=\"Carbon dioxide\",((1/($D$5/100))-1),(VLOOKUP('USER INPUTS'!$B$24,DEFAULTS!$E$8:$F$69,2,FALSE))/10^6*(1/($D$5/100)))))))","v":0},{"$f":"IF(ISERROR(METHANE!$J150*(IF('USER INPUTS'!$B$24=\"Total landfill gas\",(1/($D$5/100)),IF('USER INPUTS'!$B$24=\"Methane\",1,IF('USER INPUTS'!$B$24=\"Carbon dioxide\",((1/($D$5/100))-1),(VLOOKUP('USER INPUTS'!$B$24,DEFAULTS!$E$8:$F$69,2,FALSE))/10^6*(1/($D$5/100))))))),0,METHANE!$J150*(IF('USER INPUTS'!$B$24=\"Total landfill gas\",(1/($D$5/100)),IF('USER INPUTS'!$B$24=\"Methane\",1,IF('USER INPUTS'!$B$24=\"Carbon dioxide\",((1/($D$5/100))-1),(VLOOKUP('USER INPUTS'!$B$24,DEFAULTS!$E$8:$F$69,2,FALSE))/10^6*(1/($D$5/100)))))))","v":0},{"$f":"IF(H$8=\"(short tons/year)\",(F136*DEFAULTS!$B$55*DEFAULTS!$B$53/DEFAULTS!$B$54),IF(H$8=\"(ft^3/year)\",(G136*DEFAULTS!$B$57),IF(H$8=\"(av ft^3/min)\",(G136*DEFAULTS!$B$57/DEFAULTS!$B$58),0)))","v":0},{"$f":"IF(ISERROR(METHANE!$J150*DEFAULTS!$B$82*(IF('USER INPUTS'!$B$26=\"Total landfill gas\",(1/($D$5/100)),IF('USER INPUTS'!$B$26=\"Methane\",1,IF('USER INPUTS'!$B$26=\"Carbon dioxide\",((1/($D$5/100))-1),(VLOOKUP('USER INPUTS'!$B$26,DEFAULTS!$E$8:$F$69,2,FALSE))/10^6*(1/($D$5/100))))))),0,METHANE!$J150*DEFAULTS!$B$82*(IF('USER INPUTS'!$B$26=\"Total landfill gas\",(1/($D$5/100)),IF('USER INPUTS'!$B$26=\"Methane\",1,IF('USER INPUTS'!$B$26=\"Carbon dioxide\",((1/($D$5/100))-1),(VLOOKUP('USER INPUTS'!$B$26,DEFAULTS!$E$8:$F$69,2,FALSE))/10^6*(1/($D$5/100)))))))","v":0},{"$f":"IF(ISERROR(METHANE!$J150*(IF('USER INPUTS'!$B$26=\"Total landfill gas\",(1/($D$5/100)),IF('USER INPUTS'!$B$26=\"Methane\",1,IF('USER INPUTS'!$B$26=\"Carbon dioxide\",((1/($D$5/100))-1),(VLOOKUP('USER INPUTS'!$B$26,DEFAULTS!$E$8:$F$69,2,FALSE))/10^6*(1/($D$5/100))))))),0,METHANE!$J150*(IF('USER INPUTS'!$B$26=\"Total landfill gas\",(1/($D$5/100)),IF('USER INPUTS'!$B$26=\"Methane\",1,IF('USER INPUTS'!$B$26=\"Carbon dioxide\",((1/($D$5/100))-1),(VLOOKUP('USER INPUTS'!$B$26,DEFAULTS!$E$8:$F$69,2,FALSE))/10^6*(1/($D$5/100)))))))","v":0},{"$f":"IF(K$8=\"(short tons/year)\",(I136*DEFAULTS!$B$55*DEFAULTS!$B$53/DEFAULTS!$B$54),IF(K$8=\"(ft^3/year)\",(J136*DEFAULTS!$B$57),IF(K$8=\"(av ft^3/min)\",(J136*DEFAULTS!$B$57/DEFAULTS!$B$58),0)))","v":0},{"$f":"IF(ISERROR(METHANE!$J150*DEFAULTS!$B$83*(IF('USER INPUTS'!$B$28=\"Total landfill gas\",(1/($D$5/100)),IF('USER INPUTS'!$B$28=\"Methane\",1,IF('USER INPUTS'!$B$28=\"Carbon dioxide\",((1/($D$5/100))-1),(VLOOKUP('USER INPUTS'!$B$28,DEFAULTS!$E$8:$F$69,2,FALSE))/10^6*(1/($D$5/100))))))),0,METHANE!$J150*DEFAULTS!$B$83*(IF('USER INPUTS'!$B$28=\"Total landfill gas\",(1/($D$5/100)),IF('USER INPUTS'!$B$28=\"Methane\",1,IF('USER INPUTS'!$B$28=\"Carbon dioxide\",((1/($D$5/100))-1),(VLOOKUP('USER INPUTS'!$B$28,DEFAULTS!$E$8:$F$69,2,FALSE))/10^6*(1/($D$5/100)))))))","v":0},{"$f":"IF(ISERROR(METHANE!$J150*(IF('USER INPUTS'!$B$28=\"Total landfill gas\",(1/($D$5/100)),IF('USER INPUTS'!$B$28=\"Methane\",1,IF('USER INPUTS'!$B$28=\"Carbon dioxide\",((1/($D$5/100))-1),(VLOOKUP('USER INPUTS'!$B$28,DEFAULTS!$E$8:$F$69,2,FALSE))/10^6*(1/($D$5/100))))))),0,METHANE!$J150*(IF('USER INPUTS'!$B$28=\"Total landfill gas\",(1/($D$5/100)),IF('USER INPUTS'!$B$28=\"Methane\",1,IF('USER INPUTS'!$B$28=\"Carbon dioxide\",((1/($D$5/100))-1),(VLOOKUP('USER INPUTS'!$B$28,DEFAULTS!$E$8:$F$69,2,FALSE))/10^6*(1/($D$5/100)))))))","v":0},{"$f":"IF(N$8=\"(short tons/year)\",(L136*DEFAULTS!$B$55*DEFAULTS!$B$53/DEFAULTS!$B$54),IF(N$8=\"(ft^3/year)\",(M136*DEFAULTS!$B$57),IF(N$8=\"(av ft^3/min)\",(M136*DEFAULTS!$B$57/DEFAULTS!$B$58),0)))","v":0},{"$f":"IF(ISERROR(METHANE!$J150*DEFAULTS!$B$84*(IF('USER INPUTS'!$B$30=\"Total landfill gas\",(1/($D$5/100)),IF('USER INPUTS'!$B$30=\"Methane\",1,IF('USER INPUTS'!$B$30=\"Carbon dioxide\",((1/($D$5/100))-1),(VLOOKUP('USER INPUTS'!$B$30,DEFAULTS!$E$8:$F$69,2,FALSE))/10^6*(1/($D$5/100))))))),0,METHANE!$J150*DEFAULTS!$B$84*(IF('USER INPUTS'!$B$30=\"Total landfill gas\",(1/($D$5/100)),IF('USER INPUTS'!$B$30=\"Methane\",1,IF('USER INPUTS'!$B$30=\"Carbon dioxide\",((1/($D$5/100))-1),(VLOOKUP('USER INPUTS'!$B$30,DEFAULTS!$E$8:$F$69,2,FALSE))/10^6*(1/($D$5/100)))))))","v":0},{"$f":"IF(ISERROR(METHANE!$J150*(IF('USER INPUTS'!$B$30=\"Total landfill gas\",(1/($D$5/100)),IF('USER INPUTS'!$B$30=\"Methane\",1,IF('USER INPUTS'!$B$30=\"Carbon dioxide\",((1/($D$5/100))-1),(VLOOKUP('USER INPUTS'!$B$30,DEFAULTS!$E$8:$F$69,2,FALSE))/10^6*(1/($D$5/100))))))),0,METHANE!$J150*(IF('USER INPUTS'!$B$30=\"Total landfill gas\",(1/($D$5/100)),IF('USER INPUTS'!$B$30=\"Methane\",1,IF('USER INPUTS'!$B$30=\"Carbon dioxide\",((1/($D$5/100))-1),(VLOOKUP('USER INPUTS'!$B$30,DEFAULTS!$E$8:$F$69,2,FALSE))/10^6*(1/($D$5/100)))))))","v":0},{"$f":"IF(Q$8=\"(short tons/year)\",(O136*DEFAULTS!$B$55*DEFAULTS!$B$53/DEFAULTS!$B$54),IF(Q$8=\"(ft^3/year)\",(P136*DEFAULTS!$B$57),IF(Q$8=\"(av ft^3/min)\",(P136*DEFAULTS!$B$57/DEFAULTS!$B$58),0)))","v":0}]
[{"$f":"METHANE!I151","v":128},0,0,0,0,{"$f":"IF(ISERROR(METHANE!$J151*DEFAULTS!$B$81*(IF('USER INPUTS'!$B$24=\"Total landfill gas\",(1/($D$5/100)),IF('USER INPUTS'!$B$24=\"Methane\",1,IF('USER INPUTS'!$B$24=\"Carbon dioxide\",((1/($D$5/100))-1),(VLOOKUP('USER INPUTS'!$B$24,DEFAULTS!$E$8:$F$69,2,FALSE))/10^6*(1/($D$5/100))))))),0,METHANE!$J151*DEFAULTS!$B$81*(IF('USER INPUTS'!$B$24=\"Total landfill gas\",(1/($D$5/100)),IF('USER INPUTS'!$B$24=\"Methane\",1,IF('USER INPUTS'!$B$24=\"Carbon dioxide\",((1/($D$5/100))-1),(VLOOKUP('USER INPUTS'!$B$24,DEFAULTS!$E$8:$F$69,2,FALSE))/10^6*(1/($D$5/100)))))))","v":0},{"$f":"IF(ISERROR(METHANE!$J151*(IF('USER INPUTS'!$B$24=\"Total landfill gas\",(1/($D$5/100)),IF('USER INPUTS'!$B$24=\"Methane\",1,IF('USER INPUTS'!$B$24=\"Carbon dioxide\",((1/($D$5/100))-1),(VLOOKUP('USER INPUTS'!$B$24,DEFAULTS!$E$8:$F$69,2,FALSE))/10^6*(1/($D$5/100))))))),0,METHANE!$J151*(IF('USER INPUTS'!$B$24=\"Total landfill gas\",(1/($D$5/100)),IF('USER INPUTS'!$B$24=\"Methane\",1,IF('USER INPUTS'!$B$24=\"Carbon dioxide\",((1/($D$5/100))-1),(VLOOKUP('USER INPUTS'!$B$24,DEFAULTS!$E$8:$F$69,2,FALSE))/10^6*(1/($D$5/100)))))))","v":0},{"$f":"IF(H$8=\"(short tons/year)\",(F137*DEFAULTS!$B$55*DEFAULTS!$B$53/DEFAULTS!$B$54),IF(H$8=\"(ft^3/year)\",(G137*DEFAULTS!$B$57),IF(H$8=\"(av ft^3/min)\",(G137*DEFAULTS!$B$57/DEFAULTS!$B$58),0)))","v":0},{"$f":"IF(ISERROR(METHANE!$J151*DEFAULTS!$B$82*(IF('USER INPUTS'!$B$26=\"Total landfill gas\",(1/($D$5/100)),IF('USER INPUTS'!$B$26=\"Methane\",1,IF('USER INPUTS'!$B$26=\"Carbon dioxide\",((1/($D$5/100))-1),(VLOOKUP('USER INPUTS'!$B$26,DEFAULTS!$E$8:$F$69,2,FALSE))/10^6*(1/($D$5/100))))))),0,METHANE!$J151*DEFAULTS!$B$82*(IF('USER INPUTS'!$B$26=\"Total landfill gas\",(1/($D$5/100)),IF('USER INPUTS'!$B$26=\"Methane\",1,IF('USER INPUTS'!$B$26=\"Carbon dioxide\",((1/($D$5/100))-1),(VLOOKUP('USER INPUTS'!$B$26,DEFAULTS!$E$8:$F$69,2,FALSE))/10^6*(1/($D$5/100)))))))","v":0},{"$f":"IF(ISERROR(METHANE!$J151*(IF('USER INPUTS'!$B$26=\"Total landfill gas\",(1/($D$5/100)),IF('USER INPUTS'!$B$26=\"Methane\",1,IF('USER INPUTS'!$B$26=\"Carbon dioxide\",((1/($D$5/100))-1),(VLOOKUP('USER INPUTS'!$B$26,DEFAULTS!$E$8:$F$69,2,FALSE))/10^6*(1/($D$5/100))))))),0,METHANE!$J151*(IF('USER INPUTS'!$B$26=\"Total landfill gas\",(1/($D$5/100)),IF('USER INPUTS'!$B$26=\"Methane\",1,IF('USER INPUTS'!$B$26=\"Carbon dioxide\",((1/($D$5/100))-1),(VLOOKUP('USER INPUTS'!$B$26,DEFAULTS!$E$8:$F$69,2,FALSE))/10^6*(1/($D$5/100)))))))","v":0},{"$f":"IF(K$8=\"(short tons/year)\",(I137*DEFAULTS!$B$55*DEFAULTS!$B$53/DEFAULTS!$B$54),IF(K$8=\"(ft^3/year)\",(J137*DEFAULTS!$B$57),IF(K$8=\"(av ft^3/min)\",(J137*DEFAULTS!$B$57/DEFAULTS!$B$58),0)))","v":0},{"$f":"IF(ISERROR(METHANE!$J151*DEFAULTS!$B$83*(IF('USER INPUTS'!$B$28=\"Total landfill gas\",(1/($D$5/100)),IF('USER INPUTS'!$B$28=\"Methane\",1,IF('USER INPUTS'!$B$28=\"Carbon dioxide\",((1/($D$5/100))-1),(VLOOKUP('USER INPUTS'!$B$28,DEFAULTS!$E$8:$F$69,2,FALSE))/10^6*(1/($D$5/100))))))),0,METHANE!$J151*DEFAULTS!$B$83*(IF('USER INPUTS'!$B$28=\"Total landfill gas\",(1/($D$5/100)),IF('USER INPUTS'!$B$28=\"Methane\",1,IF('USER INPUTS'!$B$28=\"Carbon dioxide\",((1/($D$5/100))-1),(VLOOKUP('USER INPUTS'!$B$28,DEFAULTS!$E$8:$F$69,2,FALSE))/10^6*(1/($D$5/100)))))))","v":0},{"$f":"IF(ISERROR(METHANE!$J151*(IF('USER INPUTS'!$B$28=\"Total landfill gas\",(1/($D$5/100)),IF('USER INPUTS'!$B$28=\"Methane\",1,IF('USER INPUTS'!$B$28=\"Carbon dioxide\",((1/($D$5/100))-1),(VLOOKUP('USER INPUTS'!$B$28,DEFAULTS!$E$8:$F$69,2,FALSE))/10^6*(1/($D$5/100))))))),0,METHANE!$J151*(IF('USER INPUTS'!$B$28=\"Total landfill gas\",(1/($D$5/100)),IF('USER INPUTS'!$B$28=\"Methane\",1,IF('USER INPUTS'!$B$28=\"Carbon dioxide\",((1/($D$5/100))-1),(VLOOKUP('USER INPUTS'!$B$28,DEFAULTS!$E$8:$F$69,2,FALSE))/10^6*(1/($D$5/100)))))))","v":0},{"$f":"IF(N$8=\"(short tons/year)\",(L137*DEFAULTS!$B$55*DEFAULTS!$B$53/DEFAULTS!$B$54),IF(N$8=\"(ft^3/year)\",(M137*DEFAULTS!$B$57),IF(N$8=\"(av ft^3/min)\",(M137*DEFAULTS!$B$57/DEFAULTS!$B$58),0)))","v":0},{"$f":"IF(ISERROR(METHANE!$J151*DEFAULTS!$B$84*(IF('USER INPUTS'!$B$30=\"Total landfill gas\",(1/($D$5/100)),IF('USER INPUTS'!$B$30=\"Methane\",1,IF('USER INPUTS'!$B$30=\"Carbon dioxide\",((1/($D$5/100))-1),(VLOOKUP('USER INPUTS'!$B$30,DEFAULTS!$E$8:$F$69,2,FALSE))/10^6*(1/($D$5/100))))))),0,METHANE!$J151*DEFAULTS!$B$84*(IF('USER INPUTS'!$B$30=\"Total landfill gas\",(1/($D$5/100)),IF('USER INPUTS'!$B$30=\"Methane\",1,IF('USER INPUTS'!$B$30=\"Carbon dioxide\",((1/($D$5/100))-1),(VLOOKUP('USER INPUTS'!$B$30,DEFAULTS!$E$8:$F$69,2,FALSE))/10^6*(1/($D$5/100)))))))","v":0},{"$f":"IF(ISERROR(METHANE!$J151*(IF('USER INPUTS'!$B$30=\"Total landfill gas\",(1/($D$5/100)),IF('USER INPUTS'!$B$30=\"Methane\",1,IF('USER INPUTS'!$B$30=\"Carbon dioxide\",((1/($D$5/100))-1),(VLOOKUP('USER INPUTS'!$B$30,DEFAULTS!$E$8:$F$69,2,FALSE))/10^6*(1/($D$5/100))))))),0,METHANE!$J151*(IF('USER INPUTS'!$B$30=\"Total landfill gas\",(1/($D$5/100)),IF('USER INPUTS'!$B$30=\"Methane\",1,IF('USER INPUTS'!$B$30=\"Carbon dioxide\",((1/($D$5/100))-1),(VLOOKUP('USER INPUTS'!$B$30,DEFAULTS!$E$8:$F$69,2,FALSE))/10^6*(1/($D$5/100)))))))","v":0},{"$f":"IF(Q$8=\"(short tons/year)\",(O137*DEFAULTS!$B$55*DEFAULTS!$B$53/DEFAULTS!$B$54),IF(Q$8=\"(ft^3/year)\",(P137*DEFAULTS!$B$57),IF(Q$8=\"(av ft^3/min)\",(P137*DEFAULTS!$B$57/DEFAULTS!$B$58),0)))","v":0}]
[{"$f":"METHANE!I152","v":129},0,0,0,0,{"$f":"IF(ISERROR(METHANE!$J152*DEFAULTS!$B$81*(IF('USER INPUTS'!$B$24=\"Total landfill gas\",(1/($D$5/100)),IF('USER INPUTS'!$B$24=\"Methane\",1,IF('USER INPUTS'!$B$24=\"Carbon dioxide\",((1/($D$5/100))-1),(VLOOKUP('USER INPUTS'!$B$24,DEFAULTS!$E$8:$F$69,2,FALSE))/10^6*(1/($D$5/100))))))),0,METHANE!$J152*DEFAULTS!$B$81*(IF('USER INPUTS'!$B$24=\"Total landfill gas\",(1/($D$5/100)),IF('USER INPUTS'!$B$24=\"Methane\",1,IF('USER INPUTS'!$B$24=\"Carbon dioxide\",((1/($D$5/100))-1),(VLOOKUP('USER INPUTS'!$B$24,DEFAULTS!$E$8:$F$69,2,FALSE))/10^6*(1/($D$5/100)))))))","v":0},{"$f":"IF(ISERROR(METHANE!$J152*(IF('USER INPUTS'!$B$24=\"Total landfill gas\",(1/($D$5/100)),IF('USER INPUTS'!$B$24=\"Methane\",1,IF('USER INPUTS'!$B$24=\"Carbon dioxide\",((1/($D$5/100))-1),(VLOOKUP('USER INPUTS'!$B$24,DEFAULTS!$E$8:$F$69,2,FALSE))/10^6*(1/($D$5/100))))))),0,METHANE!$J152*(IF('USER INPUTS'!$B$24=\"Total landfill gas\",(1/($D$5/100)),IF('USER INPUTS'!$B$24=\"Methane\",1,IF('USER INPUTS'!$B$24=\"Carbon dioxide\",((1/($D$5/100))-1),(VLOOKUP('USER INPUTS'!$B$24,DEFAULTS!$E$8:$F$69,2,FALSE))/10^6*(1/($D$5/100)))))))","v":0},{"$f":"IF(H$8=\"(short tons/year)\",(F138*DEFAULTS!$B$55*DEFAULTS!$B$53/DEFAULTS!$B$54),IF(H$8=\"(ft^3/year)\",(G138*DEFAULTS!$B$57),IF(H$8=\"(av ft^3/min)\",(G138*DEFAULTS!$B$57/DEFAULTS!$B$58),0)))","v":0},{"$f":"IF(ISERROR(METHANE!$J152*DEFAULTS!$B$82*(IF('USER INPUTS'!$B$26=\"Total landfill gas\",(1/($D$5/100)),IF('USER INPUTS'!$B$26=\"Methane\",1,IF('USER INPUTS'!$B$26=\"Carbon dioxide\",((1/($D$5/100))-1),(VLOOKUP('USER INPUTS'!$B$26,DEFAULTS!$E$8:$F$69,2,FALSE))/10^6*(1/($D$5/100))))))),0,METHANE!$J152*DEFAULTS!$B$82*(IF('USER INPUTS'!$B$26=\"Total landfill gas\",(1/($D$5/100)),IF('USER INPUTS'!$B$26=\"Methane\",1,IF('USER INPUTS'!$B$26=\"Carbon dioxide\",((1/($D$5/100))-1),(VLOOKUP('USER INPUTS'!$B$26,DEFAULTS!$E$8:$F$69,2,FALSE))/10^6*(1/($D$5/100)))))))","v":0},{"$f":"IF(ISERROR(METHANE!$J152*(IF('USER INPUTS'!$B$26=\"Total landfill gas\",(1/($D$5/100)),IF('USER INPUTS'!$B$26=\"Methane\",1,IF('USER INPUTS'!$B$26=\"Carbon dioxide\",((1/($D$5/100))-1),(VLOOKUP('USER INPUTS'!$B$26,DEFAULTS!$E$8:$F$69,2,FALSE))/10^6*(1/($D$5/100))))))),0,METHANE!$J152*(IF('USER INPUTS'!$B$26=\"Total landfill gas\",(1/($D$5/100)),IF('USER INPUTS'!$B$26=\"Methane\",1,IF('USER INPUTS'!$B$26=\"Carbon dioxide\",((1/($D$5/100))-1),(VLOOKUP('USER INPUTS'!$B$26,DEFAULTS!$E$8:$F$69,2,FALSE))/10^6*(1/($D$5/100)))))))","v":0},{"$f":"IF(K$8=\"(short tons/year)\",(I138*DEFAULTS!$B$55*DEFAULTS!$B$53/DEFAULTS!$B$54),IF(K$8=\"(ft^3/year)\",(J138*DEFAULTS!$B$57),IF(K$8=\"(av ft^3/min)\",(J138*DEFAULTS!$B$57/DEFAULTS!$B$58),0)))","v":0},{"$f":"IF(ISERROR(METHANE!$J152*DEFAULTS!$B$83*(IF('USER INPUTS'!$B$28=\"Total landfill gas\",(1/($D$5/100)),IF('USER INPUTS'!$B$28=\"Methane\",1,IF('USER INPUTS'!$B$28=\"Carbon dioxide\",((1/($D$5/100))-1),(VLOOKUP('USER INPUTS'!$B$28,DEFAULTS!$E$8:$F$69,2,FALSE))/10^6*(1/($D$5/100))))))),0,METHANE!$J152*DEFAULTS!$B$83*(IF('USER INPUTS'!$B$28=\"Total landfill gas\",(1/($D$5/100)),IF('USER INPUTS'!$B$28=\"Methane\",1,IF('USER INPUTS'!$B$28=\"Carbon dioxide\",((1/($D$5/100))-1),(VLOOKUP('USER INPUTS'!$B$28,DEFAULTS!$E$8:$F$69,2,FALSE))/10^6*(1/($D$5/100)))))))","v":0},{"$f":"IF(ISERROR(METHANE!$J152*(IF('USER INPUTS'!$B$28=\"Total landfill gas\",(1/($D$5/100)),IF('USER INPUTS'!$B$28=\"Methane\",1,IF('USER INPUTS'!$B$28=\"Carbon dioxide\",((1/($D$5/100))-1),(VLOOKUP('USER INPUTS'!$B$28,DEFAULTS!$E$8:$F$69,2,FALSE))/10^6*(1/($D$5/100))))))),0,METHANE!$J152*(IF('USER INPUTS'!$B$28=\"Total landfill gas\",(1/($D$5/100)),IF('USER INPUTS'!$B$28=\"Methane\",1,IF('USER INPUTS'!$B$28=\"Carbon dioxide\",((1/($D$5/100))-1),(VLOOKUP('USER INPUTS'!$B$28,DEFAULTS!$E$8:$F$69,2,FALSE))/10^6*(1/($D$5/100)))))))","v":0},{"$f":"IF(N$8=\"(short tons/year)\",(L138*DEFAULTS!$B$55*DEFAULTS!$B$53/DEFAULTS!$B$54),IF(N$8=\"(ft^3/year)\",(M138*DEFAULTS!$B$57),IF(N$8=\"(av ft^3/min)\",(M138*DEFAULTS!$B$57/DEFAULTS!$B$58),0)))","v":0},{"$f":"IF(ISERROR(METHANE!$J152*DEFAULTS!$B$84*(IF('USER INPUTS'!$B$30=\"Total landfill gas\",(1/($D$5/100)),IF('USER INPUTS'!$B$30=\"Methane\",1,IF('USER INPUTS'!$B$30=\"Carbon dioxide\",((1/($D$5/100))-1),(VLOOKUP('USER INPUTS'!$B$30,DEFAULTS!$E$8:$F$69,2,FALSE))/10^6*(1/($D$5/100))))))),0,METHANE!$J152*DEFAULTS!$B$84*(IF('USER INPUTS'!$B$30=\"Total landfill gas\",(1/($D$5/100)),IF('USER INPUTS'!$B$30=\"Methane\",1,IF('USER INPUTS'!$B$30=\"Carbon dioxide\",((1/($D$5/100))-1),(VLOOKUP('USER INPUTS'!$B$30,DEFAULTS!$E$8:$F$69,2,FALSE))/10^6*(1/($D$5/100)))))))","v":0},{"$f":"IF(ISERROR(METHANE!$J152*(IF('USER INPUTS'!$B$30=\"Total landfill gas\",(1/($D$5/100)),IF('USER INPUTS'!$B$30=\"Methane\",1,IF('USER INPUTS'!$B$30=\"Carbon dioxide\",((1/($D$5/100))-1),(VLOOKUP('USER INPUTS'!$B$30,DEFAULTS!$E$8:$F$69,2,FALSE))/10^6*(1/($D$5/100))))))),0,METHANE!$J152*(IF('USER INPUTS'!$B$30=\"Total landfill gas\",(1/($D$5/100)),IF('USER INPUTS'!$B$30=\"Methane\",1,IF('USER INPUTS'!$B$30=\"Carbon dioxide\",((1/($D$5/100))-1),(VLOOKUP('USER INPUTS'!$B$30,DEFAULTS!$E$8:$F$69,2,FALSE))/10^6*(1/($D$5/100)))))))","v":0},{"$f":"IF(Q$8=\"(short tons/year)\",(O138*DEFAULTS!$B$55*DEFAULTS!$B$53/DEFAULTS!$B$54),IF(Q$8=\"(ft^3/year)\",(P138*DEFAULTS!$B$57),IF(Q$8=\"(av ft^3/min)\",(P138*DEFAULTS!$B$57/DEFAULTS!$B$58),0)))","v":0}]
[{"$f":"METHANE!I153","v":130},0,0,0,0,{"$f":"IF(ISERROR(METHANE!$J153*DEFAULTS!$B$81*(IF('USER INPUTS'!$B$24=\"Total landfill gas\",(1/($D$5/100)),IF('USER INPUTS'!$B$24=\"Methane\",1,IF('USER INPUTS'!$B$24=\"Carbon dioxide\",((1/($D$5/100))-1),(VLOOKUP('USER INPUTS'!$B$24,DEFAULTS!$E$8:$F$69,2,FALSE))/10^6*(1/($D$5/100))))))),0,METHANE!$J153*DEFAULTS!$B$81*(IF('USER INPUTS'!$B$24=\"Total landfill gas\",(1/($D$5/100)),IF('USER INPUTS'!$B$24=\"Methane\",1,IF('USER INPUTS'!$B$24=\"Carbon dioxide\",((1/($D$5/100))-1),(VLOOKUP('USER INPUTS'!$B$24,DEFAULTS!$E$8:$F$69,2,FALSE))/10^6*(1/($D$5/100)))))))","v":0},{"$f":"IF(ISERROR(METHANE!$J153*(IF('USER INPUTS'!$B$24=\"Total landfill gas\",(1/($D$5/100)),IF('USER INPUTS'!$B$24=\"Methane\",1,IF('USER INPUTS'!$B$24=\"Carbon dioxide\",((1/($D$5/100))-1),(VLOOKUP('USER INPUTS'!$B$24,DEFAULTS!$E$8:$F$69,2,FALSE))/10^6*(1/($D$5/100))))))),0,METHANE!$J153*(IF('USER INPUTS'!$B$24=\"Total landfill gas\",(1/($D$5/100)),IF('USER INPUTS'!$B$24=\"Methane\",1,IF('USER INPUTS'!$B$24=\"Carbon dioxide\",((1/($D$5/100))-1),(VLOOKUP('USER INPUTS'!$B$24,DEFAULTS!$E$8:$F$69,2,FALSE))/10^6*(1/($D$5/100)))))))","v":0},{"$f":"IF(H$8=\"(short tons/year)\",(F139*DEFAULTS!$B$55*DEFAULTS!$B$53/DEFAULTS!$B$54),IF(H$8=\"(ft^3/year)\",(G139*DEFAULTS!$B$57),IF(H$8=\"(av ft^3/min)\",(G139*DEFAULTS!$B$57/DEFAULTS!$B$58),0)))","v":0},{"$f":"IF(ISERROR(METHANE!$J153*DEFAULTS!$B$82*(IF('USER INPUTS'!$B$26=\"Total landfill gas\",(1/($D$5/100)),IF('USER INPUTS'!$B$26=\"Methane\",1,IF('USER INPUTS'!$B$26=\"Carbon dioxide\",((1/($D$5/100))-1),(VLOOKUP('USER INPUTS'!$B$26,DEFAULTS!$E$8:$F$69,2,FALSE))/10^6*(1/($D$5/100))))))),0,METHANE!$J153*DEFAULTS!$B$82*(IF('USER INPUTS'!$B$26=\"Total landfill gas\",(1/($D$5/100)),IF('USER INPUTS'!$B$26=\"Methane\",1,IF('USER INPUTS'!$B$26=\"Carbon dioxide\",((1/($D$5/100))-1),(VLOOKUP('USER INPUTS'!$B$26,DEFAULTS!$E$8:$F$69,2,FALSE))/10^6*(1/($D$5/100)))))))","v":0},{"$f":"IF(ISERROR(METHANE!$J153*(IF('USER INPUTS'!$B$26=\"Total landfill gas\",(1/($D$5/100)),IF('USER INPUTS'!$B$26=\"Methane\",1,IF('USER INPUTS'!$B$26=\"Carbon dioxide\",((1/($D$5/100))-1),(VLOOKUP('USER INPUTS'!$B$26,DEFAULTS!$E$8:$F$69,2,FALSE))/10^6*(1/($D$5/100))))))),0,METHANE!$J153*(IF('USER INPUTS'!$B$26=\"Total landfill gas\",(1/($D$5/100)),IF('USER INPUTS'!$B$26=\"Methane\",1,IF('USER INPUTS'!$B$26=\"Carbon dioxide\",((1/($D$5/100))-1),(VLOOKUP('USER INPUTS'!$B$26,DEFAULTS!$E$8:$F$69,2,FALSE))/10^6*(1/($D$5/100)))))))","v":0},{"$f":"IF(K$8=\"(short tons/year)\",(I139*DEFAULTS!$B$55*DEFAULTS!$B$53/DEFAULTS!$B$54),IF(K$8=\"(ft^3/year)\",(J139*DEFAULTS!$B$57),IF(K$8=\"(av ft^3/min)\",(J139*DEFAULTS!$B$57/DEFAULTS!$B$58),0)))","v":0},{"$f":"IF(ISERROR(METHANE!$J153*DEFAULTS!$B$83*(IF('USER INPUTS'!$B$28=\"Total landfill gas\",(1/($D$5/100)),IF('USER INPUTS'!$B$28=\"Methane\",1,IF('USER INPUTS'!$B$28=\"Carbon dioxide\",((1/($D$5/100))-1),(VLOOKUP('USER INPUTS'!$B$28,DEFAULTS!$E$8:$F$69,2,FALSE))/10^6*(1/($D$5/100))))))),0,METHANE!$J153*DEFAULTS!$B$83*(IF('USER INPUTS'!$B$28=\"Total landfill gas\",(1/($D$5/100)),IF('USER INPUTS'!$B$28=\"Methane\",1,IF('USER INPUTS'!$B$28=\"Carbon dioxide\",((1/($D$5/100))-1),(VLOOKUP('USER INPUTS'!$B$28,DEFAULTS!$E$8:$F$69,2,FALSE))/10^6*(1/($D$5/100)))))))","v":0},{"$f":"IF(ISERROR(METHANE!$J153*(IF('USER INPUTS'!$B$28=\"Total landfill gas\",(1/($D$5/100)),IF('USER INPUTS'!$B$28=\"Methane\",1,IF('USER INPUTS'!$B$28=\"Carbon dioxide\",((1/($D$5/100))-1),(VLOOKUP('USER INPUTS'!$B$28,DEFAULTS!$E$8:$F$69,2,FALSE))/10^6*(1/($D$5/100))))))),0,METHANE!$J153*(IF('USER INPUTS'!$B$28=\"Total landfill gas\",(1/($D$5/100)),IF('USER INPUTS'!$B$28=\"Methane\",1,IF('USER INPUTS'!$B$28=\"Carbon dioxide\",((1/($D$5/100))-1),(VLOOKUP('USER INPUTS'!$B$28,DEFAULTS!$E$8:$F$69,2,FALSE))/10^6*(1/($D$5/100)))))))","v":0},{"$f":"IF(N$8=\"(short tons/year)\",(L139*DEFAULTS!$B$55*DEFAULTS!$B$53/DEFAULTS!$B$54),IF(N$8=\"(ft^3/year)\",(M139*DEFAULTS!$B$57),IF(N$8=\"(av ft^3/min)\",(M139*DEFAULTS!$B$57/DEFAULTS!$B$58),0)))","v":0},{"$f":"IF(ISERROR(METHANE!$J153*DEFAULTS!$B$84*(IF('USER INPUTS'!$B$30=\"Total landfill gas\",(1/($D$5/100)),IF('USER INPUTS'!$B$30=\"Methane\",1,IF('USER INPUTS'!$B$30=\"Carbon dioxide\",((1/($D$5/100))-1),(VLOOKUP('USER INPUTS'!$B$30,DEFAULTS!$E$8:$F$69,2,FALSE))/10^6*(1/($D$5/100))))))),0,METHANE!$J153*DEFAULTS!$B$84*(IF('USER INPUTS'!$B$30=\"Total landfill gas\",(1/($D$5/100)),IF('USER INPUTS'!$B$30=\"Methane\",1,IF('USER INPUTS'!$B$30=\"Carbon dioxide\",((1/($D$5/100))-1),(VLOOKUP('USER INPUTS'!$B$30,DEFAULTS!$E$8:$F$69,2,FALSE))/10^6*(1/($D$5/100)))))))","v":0},{"$f":"IF(ISERROR(METHANE!$J153*(IF('USER INPUTS'!$B$30=\"Total landfill gas\",(1/($D$5/100)),IF('USER INPUTS'!$B$30=\"Methane\",1,IF('USER INPUTS'!$B$30=\"Carbon dioxide\",((1/($D$5/100))-1),(VLOOKUP('USER INPUTS'!$B$30,DEFAULTS!$E$8:$F$69,2,FALSE))/10^6*(1/($D$5/100))))))),0,METHANE!$J153*(IF('USER INPUTS'!$B$30=\"Total landfill gas\",(1/($D$5/100)),IF('USER INPUTS'!$B$30=\"Methane\",1,IF('USER INPUTS'!$B$30=\"Carbon dioxide\",((1/($D$5/100))-1),(VLOOKUP('USER INPUTS'!$B$30,DEFAULTS!$E$8:$F$69,2,FALSE))/10^6*(1/($D$5/100)))))))","v":0},{"$f":"IF(Q$8=\"(short tons/year)\",(O139*DEFAULTS!$B$55*DEFAULTS!$B$53/DEFAULTS!$B$54),IF(Q$8=\"(ft^3/year)\",(P139*DEFAULTS!$B$57),IF(Q$8=\"(av ft^3/min)\",(P139*DEFAULTS!$B$57/DEFAULTS!$B$58),0)))","v":0}]
[{"$f":"METHANE!I154","v":131},0,0,0,0,{"$f":"IF(ISERROR(METHANE!$J154*DEFAULTS!$B$81*(IF('USER INPUTS'!$B$24=\"Total landfill gas\",(1/($D$5/100)),IF('USER INPUTS'!$B$24=\"Methane\",1,IF('USER INPUTS'!$B$24=\"Carbon dioxide\",((1/($D$5/100))-1),(VLOOKUP('USER INPUTS'!$B$24,DEFAULTS!$E$8:$F$69,2,FALSE))/10^6*(1/($D$5/100))))))),0,METHANE!$J154*DEFAULTS!$B$81*(IF('USER INPUTS'!$B$24=\"Total landfill gas\",(1/($D$5/100)),IF('USER INPUTS'!$B$24=\"Methane\",1,IF('USER INPUTS'!$B$24=\"Carbon dioxide\",((1/($D$5/100))-1),(VLOOKUP('USER INPUTS'!$B$24,DEFAULTS!$E$8:$F$69,2,FALSE))/10^6*(1/($D$5/100)))))))","v":0},{"$f":"IF(ISERROR(METHANE!$J154*(IF('USER INPUTS'!$B$24=\"Total landfill gas\",(1/($D$5/100)),IF('USER INPUTS'!$B$24=\"Methane\",1,IF('USER INPUTS'!$B$24=\"Carbon dioxide\",((1/($D$5/100))-1),(VLOOKUP('USER INPUTS'!$B$24,DEFAULTS!$E$8:$F$69,2,FALSE))/10^6*(1/($D$5/100))))))),0,METHANE!$J154*(IF('USER INPUTS'!$B$24=\"Total landfill gas\",(1/($D$5/100)),IF('USER INPUTS'!$B$24=\"Methane\",1,IF('USER INPUTS'!$B$24=\"Carbon dioxide\",((1/($D$5/100))-1),(VLOOKUP('USER INPUTS'!$B$24,DEFAULTS!$E$8:$F$69,2,FALSE))/10^6*(1/($D$5/100)))))))","v":0},{"$f":"IF(H$8=\"(short tons/year)\",(F140*DEFAULTS!$B$55*DEFAULTS!$B$53/DEFAULTS!$B$54),IF(H$8=\"(ft^3/year)\",(G140*DEFAULTS!$B$57),IF(H$8=\"(av ft^3/min)\",(G140*DEFAULTS!$B$57/DEFAULTS!$B$58),0)))","v":0},{"$f":"IF(ISERROR(METHANE!$J154*DEFAULTS!$B$82*(IF('USER INPUTS'!$B$26=\"Total landfill gas\",(1/($D$5/100)),IF('USER INPUTS'!$B$26=\"Methane\",1,IF('USER INPUTS'!$B$26=\"Carbon dioxide\",((1/($D$5/100))-1),(VLOOKUP('USER INPUTS'!$B$26,DEFAULTS!$E$8:$F$69,2,FALSE))/10^6*(1/($D$5/100))))))),0,METHANE!$J154*DEFAULTS!$B$82*(IF('USER INPUTS'!$B$26=\"Total landfill gas\",(1/($D$5/100)),IF('USER INPUTS'!$B$26=\"Methane\",1,IF('USER INPUTS'!$B$26=\"Carbon dioxide\",((1/($D$5/100))-1),(VLOOKUP('USER INPUTS'!$B$26,DEFAULTS!$E$8:$F$69,2,FALSE))/10^6*(1/($D$5/100)))))))","v":0},{"$f":"IF(ISERROR(METHANE!$J154*(IF('USER INPUTS'!$B$26=\"Total landfill gas\",(1/($D$5/100)),IF('USER INPUTS'!$B$26=\"Methane\",1,IF('USER INPUTS'!$B$26=\"Carbon dioxide\",((1/($D$5/100))-1),(VLOOKUP('USER INPUTS'!$B$26,DEFAULTS!$E$8:$F$69,2,FALSE))/10^6*(1/($D$5/100))))))),0,METHANE!$J154*(IF('USER INPUTS'!$B$26=\"Total landfill gas\",(1/($D$5/100)),IF('USER INPUTS'!$B$26=\"Methane\",1,IF('USER INPUTS'!$B$26=\"Carbon dioxide\",((1/($D$5/100))-1),(VLOOKUP('USER INPUTS'!$B$26,DEFAULTS!$E$8:$F$69,2,FALSE))/10^6*(1/($D$5/100)))))))","v":0},{"$f":"IF(K$8=\"(short tons/year)\",(I140*DEFAULTS!$B$55*DEFAULTS!$B$53/DEFAULTS!$B$54),IF(K$8=\"(ft^3/year)\",(J140*DEFAULTS!$B$57),IF(K$8=\"(av ft^3/min)\",(J140*DEFAULTS!$B$57/DEFAULTS!$B$58),0)))","v":0},{"$f":"IF(ISERROR(METHANE!$J154*DEFAULTS!$B$83*(IF('USER INPUTS'!$B$28=\"Total landfill gas\",(1/($D$5/100)),IF('USER INPUTS'!$B$28=\"Methane\",1,IF('USER INPUTS'!$B$28=\"Carbon dioxide\",((1/($D$5/100))-1),(VLOOKUP('USER INPUTS'!$B$28,DEFAULTS!$E$8:$F$69,2,FALSE))/10^6*(1/($D$5/100))))))),0,METHANE!$J154*DEFAULTS!$B$83*(IF('USER INPUTS'!$B$28=\"Total landfill gas\",(1/($D$5/100)),IF('USER INPUTS'!$B$28=\"Methane\",1,IF('USER INPUTS'!$B$28=\"Carbon dioxide\",((1/($D$5/100))-1),(VLOOKUP('USER INPUTS'!$B$28,DEFAULTS!$E$8:$F$69,2,FALSE))/10^6*(1/($D$5/100)))))))","v":0},{"$f":"IF(ISERROR(METHANE!$J154*(IF('USER INPUTS'!$B$28=\"Total landfill gas\",(1/($D$5/100)),IF('USER INPUTS'!$B$28=\"Methane\",1,IF('USER INPUTS'!$B$28=\"Carbon dioxide\",((1/($D$5/100))-1),(VLOOKUP('USER INPUTS'!$B$28,DEFAULTS!$E$8:$F$69,2,FALSE))/10^6*(1/($D$5/100))))))),0,METHANE!$J154*(IF('USER INPUTS'!$B$28=\"Total landfill gas\",(1/($D$5/100)),IF('USER INPUTS'!$B$28=\"Methane\",1,IF('USER INPUTS'!$B$28=\"Carbon dioxide\",((1/($D$5/100))-1),(VLOOKUP('USER INPUTS'!$B$28,DEFAULTS!$E$8:$F$69,2,FALSE))/10^6*(1/($D$5/100)))))))","v":0},{"$f":"IF(N$8=\"(short tons/year)\",(L140*DEFAULTS!$B$55*DEFAULTS!$B$53/DEFAULTS!$B$54),IF(N$8=\"(ft^3/year)\",(M140*DEFAULTS!$B$57),IF(N$8=\"(av ft^3/min)\",(M140*DEFAULTS!$B$57/DEFAULTS!$B$58),0)))","v":0},{"$f":"IF(ISERROR(METHANE!$J154*DEFAULTS!$B$84*(IF('USER INPUTS'!$B$30=\"Total landfill gas\",(1/($D$5/100)),IF('USER INPUTS'!$B$30=\"Methane\",1,IF('USER INPUTS'!$B$30=\"Carbon dioxide\",((1/($D$5/100))-1),(VLOOKUP('USER INPUTS'!$B$30,DEFAULTS!$E$8:$F$69,2,FALSE))/10^6*(1/($D$5/100))))))),0,METHANE!$J154*DEFAULTS!$B$84*(IF('USER INPUTS'!$B$30=\"Total landfill gas\",(1/($D$5/100)),IF('USER INPUTS'!$B$30=\"Methane\",1,IF('USER INPUTS'!$B$30=\"Carbon dioxide\",((1/($D$5/100))-1),(VLOOKUP('USER INPUTS'!$B$30,DEFAULTS!$E$8:$F$69,2,FALSE))/10^6*(1/($D$5/100)))))))","v":0},{"$f":"IF(ISERROR(METHANE!$J154*(IF('USER INPUTS'!$B$30=\"Total landfill gas\",(1/($D$5/100)),IF('USER INPUTS'!$B$30=\"Methane\",1,IF('USER INPUTS'!$B$30=\"Carbon dioxide\",((1/($D$5/100))-1),(VLOOKUP('USER INPUTS'!$B$30,DEFAULTS!$E$8:$F$69,2,FALSE))/10^6*(1/($D$5/100))))))),0,METHANE!$J154*(IF('USER INPUTS'!$B$30=\"Total landfill gas\",(1/($D$5/100)),IF('USER INPUTS'!$B$30=\"Methane\",1,IF('USER INPUTS'!$B$30=\"Carbon dioxide\",((1/($D$5/100))-1),(VLOOKUP('USER INPUTS'!$B$30,DEFAULTS!$E$8:$F$69,2,FALSE))/10^6*(1/($D$5/100)))))))","v":0},{"$f":"IF(Q$8=\"(short tons/year)\",(O140*DEFAULTS!$B$55*DEFAULTS!$B$53/DEFAULTS!$B$54),IF(Q$8=\"(ft^3/year)\",(P140*DEFAULTS!$B$57),IF(Q$8=\"(av ft^3/min)\",(P140*DEFAULTS!$B$57/DEFAULTS!$B$58),0)))","v":0}]
[{"$f":"METHANE!I155","v":132},0,0,0,0,{"$f":"IF(ISERROR(METHANE!$J155*DEFAULTS!$B$81*(IF('USER INPUTS'!$B$24=\"Total landfill gas\",(1/($D$5/100)),IF('USER INPUTS'!$B$24=\"Methane\",1,IF('USER INPUTS'!$B$24=\"Carbon dioxide\",((1/($D$5/100))-1),(VLOOKUP('USER INPUTS'!$B$24,DEFAULTS!$E$8:$F$69,2,FALSE))/10^6*(1/($D$5/100))))))),0,METHANE!$J155*DEFAULTS!$B$81*(IF('USER INPUTS'!$B$24=\"Total landfill gas\",(1/($D$5/100)),IF('USER INPUTS'!$B$24=\"Methane\",1,IF('USER INPUTS'!$B$24=\"Carbon dioxide\",((1/($D$5/100))-1),(VLOOKUP('USER INPUTS'!$B$24,DEFAULTS!$E$8:$F$69,2,FALSE))/10^6*(1/($D$5/100)))))))","v":0},{"$f":"IF(ISERROR(METHANE!$J155*(IF('USER INPUTS'!$B$24=\"Total landfill gas\",(1/($D$5/100)),IF('USER INPUTS'!$B$24=\"Methane\",1,IF('USER INPUTS'!$B$24=\"Carbon dioxide\",((1/($D$5/100))-1),(VLOOKUP('USER INPUTS'!$B$24,DEFAULTS!$E$8:$F$69,2,FALSE))/10^6*(1/($D$5/100))))))),0,METHANE!$J155*(IF('USER INPUTS'!$B$24=\"Total landfill gas\",(1/($D$5/100)),IF('USER INPUTS'!$B$24=\"Methane\",1,IF('USER INPUTS'!$B$24=\"Carbon dioxide\",((1/($D$5/100))-1),(VLOOKUP('USER INPUTS'!$B$24,DEFAULTS!$E$8:$F$69,2,FALSE))/10^6*(1/($D$5/100)))))))","v":0},{"$f":"IF(H$8=\"(short tons/year)\",(F141*DEFAULTS!$B$55*DEFAULTS!$B$53/DEFAULTS!$B$54),IF(H$8=\"(ft^3/year)\",(G141*DEFAULTS!$B$57),IF(H$8=\"(av ft^3/min)\",(G141*DEFAULTS!$B$57/DEFAULTS!$B$58),0)))","v":0},{"$f":"IF(ISERROR(METHANE!$J155*DEFAULTS!$B$82*(IF('USER INPUTS'!$B$26=\"Total landfill gas\",(1/($D$5/100)),IF('USER INPUTS'!$B$26=\"Methane\",1,IF('USER INPUTS'!$B$26=\"Carbon dioxide\",((1/($D$5/100))-1),(VLOOKUP('USER INPUTS'!$B$26,DEFAULTS!$E$8:$F$69,2,FALSE))/10^6*(1/($D$5/100))))))),0,METHANE!$J155*DEFAULTS!$B$82*(IF('USER INPUTS'!$B$26=\"Total landfill gas\",(1/($D$5/100)),IF('USER INPUTS'!$B$26=\"Methane\",1,IF('USER INPUTS'!$B$26=\"Carbon dioxide\",((1/($D$5/100))-1),(VLOOKUP('USER INPUTS'!$B$26,DEFAULTS!$E$8:$F$69,2,FALSE))/10^6*(1/($D$5/100)))))))","v":0},{"$f":"IF(ISERROR(METHANE!$J155*(IF('USER INPUTS'!$B$26=\"Total landfill gas\",(1/($D$5/100)),IF('USER INPUTS'!$B$26=\"Methane\",1,IF('USER INPUTS'!$B$26=\"Carbon dioxide\",((1/($D$5/100))-1),(VLOOKUP('USER INPUTS'!$B$26,DEFAULTS!$E$8:$F$69,2,FALSE))/10^6*(1/($D$5/100))))))),0,METHANE!$J155*(IF('USER INPUTS'!$B$26=\"Total landfill gas\",(1/($D$5/100)),IF('USER INPUTS'!$B$26=\"Methane\",1,IF('USER INPUTS'!$B$26=\"Carbon dioxide\",((1/($D$5/100))-1),(VLOOKUP('USER INPUTS'!$B$26,DEFAULTS!$E$8:$F$69,2,FALSE))/10^6*(1/($D$5/100)))))))","v":0},{"$f":"IF(K$8=\"(short tons/year)\",(I141*DEFAULTS!$B$55*DEFAULTS!$B$53/DEFAULTS!$B$54),IF(K$8=\"(ft^3/year)\",(J141*DEFAULTS!$B$57),IF(K$8=\"(av ft^3/min)\",(J141*DEFAULTS!$B$57/DEFAULTS!$B$58),0)))","v":0},{"$f":"IF(ISERROR(METHANE!$J155*DEFAULTS!$B$83*(IF('USER INPUTS'!$B$28=\"Total landfill gas\",(1/($D$5/100)),IF('USER INPUTS'!$B$28=\"Methane\",1,IF('USER INPUTS'!$B$28=\"Carbon dioxide\",((1/($D$5/100))-1),(VLOOKUP('USER INPUTS'!$B$28,DEFAULTS!$E$8:$F$69,2,FALSE))/10^6*(1/($D$5/100))))))),0,METHANE!$J155*DEFAULTS!$B$83*(IF('USER INPUTS'!$B$28=\"Total landfill gas\",(1/($D$5/100)),IF('USER INPUTS'!$B$28=\"Methane\",1,IF('USER INPUTS'!$B$28=\"Carbon dioxide\",((1/($D$5/100))-1),(VLOOKUP('USER INPUTS'!$B$28,DEFAULTS!$E$8:$F$69,2,FALSE))/10^6*(1/($D$5/100)))))))","v":0},{"$f":"IF(ISERROR(METHANE!$J155*(IF('USER INPUTS'!$B$28=\"Total landfill gas\",(1/($D$5/100)),IF('USER INPUTS'!$B$28=\"Methane\",1,IF('USER INPUTS'!$B$28=\"Carbon dioxide\",((1/($D$5/100))-1),(VLOOKUP('USER INPUTS'!$B$28,DEFAULTS!$E$8:$F$69,2,FALSE))/10^6*(1/($D$5/100))))))),0,METHANE!$J155*(IF('USER INPUTS'!$B$28=\"Total landfill gas\",(1/($D$5/100)),IF('USER INPUTS'!$B$28=\"Methane\",1,IF('USER INPUTS'!$B$28=\"Carbon dioxide\",((1/($D$5/100))-1),(VLOOKUP('USER INPUTS'!$B$28,DEFAULTS!$E$8:$F$69,2,FALSE))/10^6*(1/($D$5/100)))))))","v":0},{"$f":"IF(N$8=\"(short tons/year)\",(L141*DEFAULTS!$B$55*DEFAULTS!$B$53/DEFAULTS!$B$54),IF(N$8=\"(ft^3/year)\",(M141*DEFAULTS!$B$57),IF(N$8=\"(av ft^3/min)\",(M141*DEFAULTS!$B$57/DEFAULTS!$B$58),0)))","v":0},{"$f":"IF(ISERROR(METHANE!$J155*DEFAULTS!$B$84*(IF('USER INPUTS'!$B$30=\"Total landfill gas\",(1/($D$5/100)),IF('USER INPUTS'!$B$30=\"Methane\",1,IF('USER INPUTS'!$B$30=\"Carbon dioxide\",((1/($D$5/100))-1),(VLOOKUP('USER INPUTS'!$B$30,DEFAULTS!$E$8:$F$69,2,FALSE))/10^6*(1/($D$5/100))))))),0,METHANE!$J155*DEFAULTS!$B$84*(IF('USER INPUTS'!$B$30=\"Total landfill gas\",(1/($D$5/100)),IF('USER INPUTS'!$B$30=\"Methane\",1,IF('USER INPUTS'!$B$30=\"Carbon dioxide\",((1/($D$5/100))-1),(VLOOKUP('USER INPUTS'!$B$30,DEFAULTS!$E$8:$F$69,2,FALSE))/10^6*(1/($D$5/100)))))))","v":0},{"$f":"IF(ISERROR(METHANE!$J155*(IF('USER INPUTS'!$B$30=\"Total landfill gas\",(1/($D$5/100)),IF('USER INPUTS'!$B$30=\"Methane\",1,IF('USER INPUTS'!$B$30=\"Carbon dioxide\",((1/($D$5/100))-1),(VLOOKUP('USER INPUTS'!$B$30,DEFAULTS!$E$8:$F$69,2,FALSE))/10^6*(1/($D$5/100))))))),0,METHANE!$J155*(IF('USER INPUTS'!$B$30=\"Total landfill gas\",(1/($D$5/100)),IF('USER INPUTS'!$B$30=\"Methane\",1,IF('USER INPUTS'!$B$30=\"Carbon dioxide\",((1/($D$5/100))-1),(VLOOKUP('USER INPUTS'!$B$30,DEFAULTS!$E$8:$F$69,2,FALSE))/10^6*(1/($D$5/100)))))))","v":0},{"$f":"IF(Q$8=\"(short tons/year)\",(O141*DEFAULTS!$B$55*DEFAULTS!$B$53/DEFAULTS!$B$54),IF(Q$8=\"(ft^3/year)\",(P141*DEFAULTS!$B$57),IF(Q$8=\"(av ft^3/min)\",(P141*DEFAULTS!$B$57/DEFAULTS!$B$58),0)))","v":0}]
[{"$f":"METHANE!I156","v":133},0,0,0,0,{"$f":"IF(ISERROR(METHANE!$J156*DEFAULTS!$B$81*(IF('USER INPUTS'!$B$24=\"Total landfill gas\",(1/($D$5/100)),IF('USER INPUTS'!$B$24=\"Methane\",1,IF('USER INPUTS'!$B$24=\"Carbon dioxide\",((1/($D$5/100))-1),(VLOOKUP('USER INPUTS'!$B$24,DEFAULTS!$E$8:$F$69,2,FALSE))/10^6*(1/($D$5/100))))))),0,METHANE!$J156*DEFAULTS!$B$81*(IF('USER INPUTS'!$B$24=\"Total landfill gas\",(1/($D$5/100)),IF('USER INPUTS'!$B$24=\"Methane\",1,IF('USER INPUTS'!$B$24=\"Carbon dioxide\",((1/($D$5/100))-1),(VLOOKUP('USER INPUTS'!$B$24,DEFAULTS!$E$8:$F$69,2,FALSE))/10^6*(1/($D$5/100)))))))","v":0},{"$f":"IF(ISERROR(METHANE!$J156*(IF('USER INPUTS'!$B$24=\"Total landfill gas\",(1/($D$5/100)),IF('USER INPUTS'!$B$24=\"Methane\",1,IF('USER INPUTS'!$B$24=\"Carbon dioxide\",((1/($D$5/100))-1),(VLOOKUP('USER INPUTS'!$B$24,DEFAULTS!$E$8:$F$69,2,FALSE))/10^6*(1/($D$5/100))))))),0,METHANE!$J156*(IF('USER INPUTS'!$B$24=\"Total landfill gas\",(1/($D$5/100)),IF('USER INPUTS'!$B$24=\"Methane\",1,IF('USER INPUTS'!$B$24=\"Carbon dioxide\",((1/($D$5/100))-1),(VLOOKUP('USER INPUTS'!$B$24,DEFAULTS!$E$8:$F$69,2,FALSE))/10^6*(1/($D$5/100)))))))","v":0},{"$f":"IF(H$8=\"(short tons/year)\",(F142*DEFAULTS!$B$55*DEFAULTS!$B$53/DEFAULTS!$B$54),IF(H$8=\"(ft^3/year)\",(G142*DEFAULTS!$B$57),IF(H$8=\"(av ft^3/min)\",(G142*DEFAULTS!$B$57/DEFAULTS!$B$58),0)))","v":0},{"$f":"IF(ISERROR(METHANE!$J156*DEFAULTS!$B$82*(IF('USER INPUTS'!$B$26=\"Total landfill gas\",(1/($D$5/100)),IF('USER INPUTS'!$B$26=\"Methane\",1,IF('USER INPUTS'!$B$26=\"Carbon dioxide\",((1/($D$5/100))-1),(VLOOKUP('USER INPUTS'!$B$26,DEFAULTS!$E$8:$F$69,2,FALSE))/10^6*(1/($D$5/100))))))),0,METHANE!$J156*DEFAULTS!$B$82*(IF('USER INPUTS'!$B$26=\"Total landfill gas\",(1/($D$5/100)),IF('USER INPUTS'!$B$26=\"Methane\",1,IF('USER INPUTS'!$B$26=\"Carbon dioxide\",((1/($D$5/100))-1),(VLOOKUP('USER INPUTS'!$B$26,DEFAULTS!$E$8:$F$69,2,FALSE))/10^6*(1/($D$5/100)))))))","v":0},{"$f":"IF(ISERROR(METHANE!$J156*(IF('USER INPUTS'!$B$26=\"Total landfill gas\",(1/($D$5/100)),IF('USER INPUTS'!$B$26=\"Methane\",1,IF('USER INPUTS'!$B$26=\"Carbon dioxide\",((1/($D$5/100))-1),(VLOOKUP('USER INPUTS'!$B$26,DEFAULTS!$E$8:$F$69,2,FALSE))/10^6*(1/($D$5/100))))))),0,METHANE!$J156*(IF('USER INPUTS'!$B$26=\"Total landfill gas\",(1/($D$5/100)),IF('USER INPUTS'!$B$26=\"Methane\",1,IF('USER INPUTS'!$B$26=\"Carbon dioxide\",((1/($D$5/100))-1),(VLOOKUP('USER INPUTS'!$B$26,DEFAULTS!$E$8:$F$69,2,FALSE))/10^6*(1/($D$5/100)))))))","v":0},{"$f":"IF(K$8=\"(short tons/year)\",(I142*DEFAULTS!$B$55*DEFAULTS!$B$53/DEFAULTS!$B$54),IF(K$8=\"(ft^3/year)\",(J142*DEFAULTS!$B$57),IF(K$8=\"(av ft^3/min)\",(J142*DEFAULTS!$B$57/DEFAULTS!$B$58),0)))","v":0},{"$f":"IF(ISERROR(METHANE!$J156*DEFAULTS!$B$83*(IF('USER INPUTS'!$B$28=\"Total landfill gas\",(1/($D$5/100)),IF('USER INPUTS'!$B$28=\"Methane\",1,IF('USER INPUTS'!$B$28=\"Carbon dioxide\",((1/($D$5/100))-1),(VLOOKUP('USER INPUTS'!$B$28,DEFAULTS!$E$8:$F$69,2,FALSE))/10^6*(1/($D$5/100))))))),0,METHANE!$J156*DEFAULTS!$B$83*(IF('USER INPUTS'!$B$28=\"Total landfill gas\",(1/($D$5/100)),IF('USER INPUTS'!$B$28=\"Methane\",1,IF('USER INPUTS'!$B$28=\"Carbon dioxide\",((1/($D$5/100))-1),(VLOOKUP('USER INPUTS'!$B$28,DEFAULTS!$E$8:$F$69,2,FALSE))/10^6*(1/($D$5/100)))))))","v":0},{"$f":"IF(ISERROR(METHANE!$J156*(IF('USER INPUTS'!$B$28=\"Total landfill gas\",(1/($D$5/100)),IF('USER INPUTS'!$B$28=\"Methane\",1,IF('USER INPUTS'!$B$28=\"Carbon dioxide\",((1/($D$5/100))-1),(VLOOKUP('USER INPUTS'!$B$28,DEFAULTS!$E$8:$F$69,2,FALSE))/10^6*(1/($D$5/100))))))),0,METHANE!$J156*(IF('USER INPUTS'!$B$28=\"Total landfill gas\",(1/($D$5/100)),IF('USER INPUTS'!$B$28=\"Methane\",1,IF('USER INPUTS'!$B$28=\"Carbon dioxide\",((1/($D$5/100))-1),(VLOOKUP('USER INPUTS'!$B$28,DEFAULTS!$E$8:$F$69,2,FALSE))/10^6*(1/($D$5/100)))))))","v":0},{"$f":"IF(N$8=\"(short tons/year)\",(L142*DEFAULTS!$B$55*DEFAULTS!$B$53/DEFAULTS!$B$54),IF(N$8=\"(ft^3/year)\",(M142*DEFAULTS!$B$57),IF(N$8=\"(av ft^3/min)\",(M142*DEFAULTS!$B$57/DEFAULTS!$B$58),0)))","v":0},{"$f":"IF(ISERROR(METHANE!$J156*DEFAULTS!$B$84*(IF('USER INPUTS'!$B$30=\"Total landfill gas\",(1/($D$5/100)),IF('USER INPUTS'!$B$30=\"Methane\",1,IF('USER INPUTS'!$B$30=\"Carbon dioxide\",((1/($D$5/100))-1),(VLOOKUP('USER INPUTS'!$B$30,DEFAULTS!$E$8:$F$69,2,FALSE))/10^6*(1/($D$5/100))))))),0,METHANE!$J156*DEFAULTS!$B$84*(IF('USER INPUTS'!$B$30=\"Total landfill gas\",(1/($D$5/100)),IF('USER INPUTS'!$B$30=\"Methane\",1,IF('USER INPUTS'!$B$30=\"Carbon dioxide\",((1/($D$5/100))-1),(VLOOKUP('USER INPUTS'!$B$30,DEFAULTS!$E$8:$F$69,2,FALSE))/10^6*(1/($D$5/100)))))))","v":0},{"$f":"IF(ISERROR(METHANE!$J156*(IF('USER INPUTS'!$B$30=\"Total landfill gas\",(1/($D$5/100)),IF('USER INPUTS'!$B$30=\"Methane\",1,IF('USER INPUTS'!$B$30=\"Carbon dioxide\",((1/($D$5/100))-1),(VLOOKUP('USER INPUTS'!$B$30,DEFAULTS!$E$8:$F$69,2,FALSE))/10^6*(1/($D$5/100))))))),0,METHANE!$J156*(IF('USER INPUTS'!$B$30=\"Total landfill gas\",(1/($D$5/100)),IF('USER INPUTS'!$B$30=\"Methane\",1,IF('USER INPUTS'!$B$30=\"Carbon dioxide\",((1/($D$5/100))-1),(VLOOKUP('USER INPUTS'!$B$30,DEFAULTS!$E$8:$F$69,2,FALSE))/10^6*(1/($D$5/100)))))))","v":0},{"$f":"IF(Q$8=\"(short tons/year)\",(O142*DEFAULTS!$B$55*DEFAULTS!$B$53/DEFAULTS!$B$54),IF(Q$8=\"(ft^3/year)\",(P142*DEFAULTS!$B$57),IF(Q$8=\"(av ft^3/min)\",(P142*DEFAULTS!$B$57/DEFAULTS!$B$58),0)))","v":0}]
[{"$f":"METHANE!I157","v":134},0,0,0,0,{"$f":"IF(ISERROR(METHANE!$J157*DEFAULTS!$B$81*(IF('USER INPUTS'!$B$24=\"Total landfill gas\",(1/($D$5/100)),IF('USER INPUTS'!$B$24=\"Methane\",1,IF('USER INPUTS'!$B$24=\"Carbon dioxide\",((1/($D$5/100))-1),(VLOOKUP('USER INPUTS'!$B$24,DEFAULTS!$E$8:$F$69,2,FALSE))/10^6*(1/($D$5/100))))))),0,METHANE!$J157*DEFAULTS!$B$81*(IF('USER INPUTS'!$B$24=\"Total landfill gas\",(1/($D$5/100)),IF('USER INPUTS'!$B$24=\"Methane\",1,IF('USER INPUTS'!$B$24=\"Carbon dioxide\",((1/($D$5/100))-1),(VLOOKUP('USER INPUTS'!$B$24,DEFAULTS!$E$8:$F$69,2,FALSE))/10^6*(1/($D$5/100)))))))","v":0},{"$f":"IF(ISERROR(METHANE!$J157*(IF('USER INPUTS'!$B$24=\"Total landfill gas\",(1/($D$5/100)),IF('USER INPUTS'!$B$24=\"Methane\",1,IF('USER INPUTS'!$B$24=\"Carbon dioxide\",((1/($D$5/100))-1),(VLOOKUP('USER INPUTS'!$B$24,DEFAULTS!$E$8:$F$69,2,FALSE))/10^6*(1/($D$5/100))))))),0,METHANE!$J157*(IF('USER INPUTS'!$B$24=\"Total landfill gas\",(1/($D$5/100)),IF('USER INPUTS'!$B$24=\"Methane\",1,IF('USER INPUTS'!$B$24=\"Carbon dioxide\",((1/($D$5/100))-1),(VLOOKUP('USER INPUTS'!$B$24,DEFAULTS!$E$8:$F$69,2,FALSE))/10^6*(1/($D$5/100)))))))","v":0},{"$f":"IF(H$8=\"(short tons/year)\",(F143*DEFAULTS!$B$55*DEFAULTS!$B$53/DEFAULTS!$B$54),IF(H$8=\"(ft^3/year)\",(G143*DEFAULTS!$B$57),IF(H$8=\"(av ft^3/min)\",(G143*DEFAULTS!$B$57/DEFAULTS!$B$58),0)))","v":0},{"$f":"IF(ISERROR(METHANE!$J157*DEFAULTS!$B$82*(IF('USER INPUTS'!$B$26=\"Total landfill gas\",(1/($D$5/100)),IF('USER INPUTS'!$B$26=\"Methane\",1,IF('USER INPUTS'!$B$26=\"Carbon dioxide\",((1/($D$5/100))-1),(VLOOKUP('USER INPUTS'!$B$26,DEFAULTS!$E$8:$F$69,2,FALSE))/10^6*(1/($D$5/100))))))),0,METHANE!$J157*DEFAULTS!$B$82*(IF('USER INPUTS'!$B$26=\"Total landfill gas\",(1/($D$5/100)),IF('USER INPUTS'!$B$26=\"Methane\",1,IF('USER INPUTS'!$B$26=\"Carbon dioxide\",((1/($D$5/100))-1),(VLOOKUP('USER INPUTS'!$B$26,DEFAULTS!$E$8:$F$69,2,FALSE))/10^6*(1/($D$5/100)))))))","v":0},{"$f":"IF(ISERROR(METHANE!$J157*(IF('USER INPUTS'!$B$26=\"Total landfill gas\",(1/($D$5/100)),IF('USER INPUTS'!$B$26=\"Methane\",1,IF('USER INPUTS'!$B$26=\"Carbon dioxide\",((1/($D$5/100))-1),(VLOOKUP('USER INPUTS'!$B$26,DEFAULTS!$E$8:$F$69,2,FALSE))/10^6*(1/($D$5/100))))))),0,METHANE!$J157*(IF('USER INPUTS'!$B$26=\"Total landfill gas\",(1/($D$5/100)),IF('USER INPUTS'!$B$26=\"Methane\",1,IF('USER INPUTS'!$B$26=\"Carbon dioxide\",((1/($D$5/100))-1),(VLOOKUP('USER INPUTS'!$B$26,DEFAULTS!$E$8:$F$69,2,FALSE))/10^6*(1/($D$5/100)))))))","v":0},{"$f":"IF(K$8=\"(short tons/year)\",(I143*DEFAULTS!$B$55*DEFAULTS!$B$53/DEFAULTS!$B$54),IF(K$8=\"(ft^3/year)\",(J143*DEFAULTS!$B$57),IF(K$8=\"(av ft^3/min)\",(J143*DEFAULTS!$B$57/DEFAULTS!$B$58),0)))","v":0},{"$f":"IF(ISERROR(METHANE!$J157*DEFAULTS!$B$83*(IF('USER INPUTS'!$B$28=\"Total landfill gas\",(1/($D$5/100)),IF('USER INPUTS'!$B$28=\"Methane\",1,IF('USER INPUTS'!$B$28=\"Carbon dioxide\",((1/($D$5/100))-1),(VLOOKUP('USER INPUTS'!$B$28,DEFAULTS!$E$8:$F$69,2,FALSE))/10^6*(1/($D$5/100))))))),0,METHANE!$J157*DEFAULTS!$B$83*(IF('USER INPUTS'!$B$28=\"Total landfill gas\",(1/($D$5/100)),IF('USER INPUTS'!$B$28=\"Methane\",1,IF('USER INPUTS'!$B$28=\"Carbon dioxide\",((1/($D$5/100))-1),(VLOOKUP('USER INPUTS'!$B$28,DEFAULTS!$E$8:$F$69,2,FALSE))/10^6*(1/($D$5/100)))))))","v":0},{"$f":"IF(ISERROR(METHANE!$J157*(IF('USER INPUTS'!$B$28=\"Total landfill gas\",(1/($D$5/100)),IF('USER INPUTS'!$B$28=\"Methane\",1,IF('USER INPUTS'!$B$28=\"Carbon dioxide\",((1/($D$5/100))-1),(VLOOKUP('USER INPUTS'!$B$28,DEFAULTS!$E$8:$F$69,2,FALSE))/10^6*(1/($D$5/100))))))),0,METHANE!$J157*(IF('USER INPUTS'!$B$28=\"Total landfill gas\",(1/($D$5/100)),IF('USER INPUTS'!$B$28=\"Methane\",1,IF('USER INPUTS'!$B$28=\"Carbon dioxide\",((1/($D$5/100))-1),(VLOOKUP('USER INPUTS'!$B$28,DEFAULTS!$E$8:$F$69,2,FALSE))/10^6*(1/($D$5/100)))))))","v":0},{"$f":"IF(N$8=\"(short tons/year)\",(L143*DEFAULTS!$B$55*DEFAULTS!$B$53/DEFAULTS!$B$54),IF(N$8=\"(ft^3/year)\",(M143*DEFAULTS!$B$57),IF(N$8=\"(av ft^3/min)\",(M143*DEFAULTS!$B$57/DEFAULTS!$B$58),0)))","v":0},{"$f":"IF(ISERROR(METHANE!$J157*DEFAULTS!$B$84*(IF('USER INPUTS'!$B$30=\"Total landfill gas\",(1/($D$5/100)),IF('USER INPUTS'!$B$30=\"Methane\",1,IF('USER INPUTS'!$B$30=\"Carbon dioxide\",((1/($D$5/100))-1),(VLOOKUP('USER INPUTS'!$B$30,DEFAULTS!$E$8:$F$69,2,FALSE))/10^6*(1/($D$5/100))))))),0,METHANE!$J157*DEFAULTS!$B$84*(IF('USER INPUTS'!$B$30=\"Total landfill gas\",(1/($D$5/100)),IF('USER INPUTS'!$B$30=\"Methane\",1,IF('USER INPUTS'!$B$30=\"Carbon dioxide\",((1/($D$5/100))-1),(VLOOKUP('USER INPUTS'!$B$30,DEFAULTS!$E$8:$F$69,2,FALSE))/10^6*(1/($D$5/100)))))))","v":0},{"$f":"IF(ISERROR(METHANE!$J157*(IF('USER INPUTS'!$B$30=\"Total landfill gas\",(1/($D$5/100)),IF('USER INPUTS'!$B$30=\"Methane\",1,IF('USER INPUTS'!$B$30=\"Carbon dioxide\",((1/($D$5/100))-1),(VLOOKUP('USER INPUTS'!$B$30,DEFAULTS!$E$8:$F$69,2,FALSE))/10^6*(1/($D$5/100))))))),0,METHANE!$J157*(IF('USER INPUTS'!$B$30=\"Total landfill gas\",(1/($D$5/100)),IF('USER INPUTS'!$B$30=\"Methane\",1,IF('USER INPUTS'!$B$30=\"Carbon dioxide\",((1/($D$5/100))-1),(VLOOKUP('USER INPUTS'!$B$30,DEFAULTS!$E$8:$F$69,2,FALSE))/10^6*(1/($D$5/100)))))))","v":0},{"$f":"IF(Q$8=\"(short tons/year)\",(O143*DEFAULTS!$B$55*DEFAULTS!$B$53/DEFAULTS!$B$54),IF(Q$8=\"(ft^3/year)\",(P143*DEFAULTS!$B$57),IF(Q$8=\"(av ft^3/min)\",(P143*DEFAULTS!$B$57/DEFAULTS!$B$58),0)))","v":0}]
[{"$f":"METHANE!I158","v":135},0,0,0,0,{"$f":"IF(ISERROR(METHANE!$J158*DEFAULTS!$B$81*(IF('USER INPUTS'!$B$24=\"Total landfill gas\",(1/($D$5/100)),IF('USER INPUTS'!$B$24=\"Methane\",1,IF('USER INPUTS'!$B$24=\"Carbon dioxide\",((1/($D$5/100))-1),(VLOOKUP('USER INPUTS'!$B$24,DEFAULTS!$E$8:$F$69,2,FALSE))/10^6*(1/($D$5/100))))))),0,METHANE!$J158*DEFAULTS!$B$81*(IF('USER INPUTS'!$B$24=\"Total landfill gas\",(1/($D$5/100)),IF('USER INPUTS'!$B$24=\"Methane\",1,IF('USER INPUTS'!$B$24=\"Carbon dioxide\",((1/($D$5/100))-1),(VLOOKUP('USER INPUTS'!$B$24,DEFAULTS!$E$8:$F$69,2,FALSE))/10^6*(1/($D$5/100)))))))","v":0},{"$f":"IF(ISERROR(METHANE!$J158*(IF('USER INPUTS'!$B$24=\"Total landfill gas\",(1/($D$5/100)),IF('USER INPUTS'!$B$24=\"Methane\",1,IF('USER INPUTS'!$B$24=\"Carbon dioxide\",((1/($D$5/100))-1),(VLOOKUP('USER INPUTS'!$B$24,DEFAULTS!$E$8:$F$69,2,FALSE))/10^6*(1/($D$5/100))))))),0,METHANE!$J158*(IF('USER INPUTS'!$B$24=\"Total landfill gas\",(1/($D$5/100)),IF('USER INPUTS'!$B$24=\"Methane\",1,IF('USER INPUTS'!$B$24=\"Carbon dioxide\",((1/($D$5/100))-1),(VLOOKUP('USER INPUTS'!$B$24,DEFAULTS!$E$8:$F$69,2,FALSE))/10^6*(1/($D$5/100)))))))","v":0},{"$f":"IF(H$8=\"(short tons/year)\",(F144*DEFAULTS!$B$55*DEFAULTS!$B$53/DEFAULTS!$B$54),IF(H$8=\"(ft^3/year)\",(G144*DEFAULTS!$B$57),IF(H$8=\"(av ft^3/min)\",(G144*DEFAULTS!$B$57/DEFAULTS!$B$58),0)))","v":0},{"$f":"IF(ISERROR(METHANE!$J158*DEFAULTS!$B$82*(IF('USER INPUTS'!$B$26=\"Total landfill gas\",(1/($D$5/100)),IF('USER INPUTS'!$B$26=\"Methane\",1,IF('USER INPUTS'!$B$26=\"Carbon dioxide\",((1/($D$5/100))-1),(VLOOKUP('USER INPUTS'!$B$26,DEFAULTS!$E$8:$F$69,2,FALSE))/10^6*(1/($D$5/100))))))),0,METHANE!$J158*DEFAULTS!$B$82*(IF('USER INPUTS'!$B$26=\"Total landfill gas\",(1/($D$5/100)),IF('USER INPUTS'!$B$26=\"Methane\",1,IF('USER INPUTS'!$B$26=\"Carbon dioxide\",((1/($D$5/100))-1),(VLOOKUP('USER INPUTS'!$B$26,DEFAULTS!$E$8:$F$69,2,FALSE))/10^6*(1/($D$5/100)))))))","v":0},{"$f":"IF(ISERROR(METHANE!$J158*(IF('USER INPUTS'!$B$26=\"Total landfill gas\",(1/($D$5/100)),IF('USER INPUTS'!$B$26=\"Methane\",1,IF('USER INPUTS'!$B$26=\"Carbon dioxide\",((1/($D$5/100))-1),(VLOOKUP('USER INPUTS'!$B$26,DEFAULTS!$E$8:$F$69,2,FALSE))/10^6*(1/($D$5/100))))))),0,METHANE!$J158*(IF('USER INPUTS'!$B$26=\"Total landfill gas\",(1/($D$5/100)),IF('USER INPUTS'!$B$26=\"Methane\",1,IF('USER INPUTS'!$B$26=\"Carbon dioxide\",((1/($D$5/100))-1),(VLOOKUP('USER INPUTS'!$B$26,DEFAULTS!$E$8:$F$69,2,FALSE))/10^6*(1/($D$5/100)))))))","v":0},{"$f":"IF(K$8=\"(short tons/year)\",(I144*DEFAULTS!$B$55*DEFAULTS!$B$53/DEFAULTS!$B$54),IF(K$8=\"(ft^3/year)\",(J144*DEFAULTS!$B$57),IF(K$8=\"(av ft^3/min)\",(J144*DEFAULTS!$B$57/DEFAULTS!$B$58),0)))","v":0},{"$f":"IF(ISERROR(METHANE!$J158*DEFAULTS!$B$83*(IF('USER INPUTS'!$B$28=\"Total landfill gas\",(1/($D$5/100)),IF('USER INPUTS'!$B$28=\"Methane\",1,IF('USER INPUTS'!$B$28=\"Carbon dioxide\",((1/($D$5/100))-1),(VLOOKUP('USER INPUTS'!$B$28,DEFAULTS!$E$8:$F$69,2,FALSE))/10^6*(1/($D$5/100))))))),0,METHANE!$J158*DEFAULTS!$B$83*(IF('USER INPUTS'!$B$28=\"Total landfill gas\",(1/($D$5/100)),IF('USER INPUTS'!$B$28=\"Methane\",1,IF('USER INPUTS'!$B$28=\"Carbon dioxide\",((1/($D$5/100))-1),(VLOOKUP('USER INPUTS'!$B$28,DEFAULTS!$E$8:$F$69,2,FALSE))/10^6*(1/($D$5/100)))))))","v":0},{"$f":"IF(ISERROR(METHANE!$J158*(IF('USER INPUTS'!$B$28=\"Total landfill gas\",(1/($D$5/100)),IF('USER INPUTS'!$B$28=\"Methane\",1,IF('USER INPUTS'!$B$28=\"Carbon dioxide\",((1/($D$5/100))-1),(VLOOKUP('USER INPUTS'!$B$28,DEFAULTS!$E$8:$F$69,2,FALSE))/10^6*(1/($D$5/100))))))),0,METHANE!$J158*(IF('USER INPUTS'!$B$28=\"Total landfill gas\",(1/($D$5/100)),IF('USER INPUTS'!$B$28=\"Methane\",1,IF('USER INPUTS'!$B$28=\"Carbon dioxide\",((1/($D$5/100))-1),(VLOOKUP('USER INPUTS'!$B$28,DEFAULTS!$E$8:$F$69,2,FALSE))/10^6*(1/($D$5/100)))))))","v":0},{"$f":"IF(N$8=\"(short tons/year)\",(L144*DEFAULTS!$B$55*DEFAULTS!$B$53/DEFAULTS!$B$54),IF(N$8=\"(ft^3/year)\",(M144*DEFAULTS!$B$57),IF(N$8=\"(av ft^3/min)\",(M144*DEFAULTS!$B$57/DEFAULTS!$B$58),0)))","v":0},{"$f":"IF(ISERROR(METHANE!$J158*DEFAULTS!$B$84*(IF('USER INPUTS'!$B$30=\"Total landfill gas\",(1/($D$5/100)),IF('USER INPUTS'!$B$30=\"Methane\",1,IF('USER INPUTS'!$B$30=\"Carbon dioxide\",((1/($D$5/100))-1),(VLOOKUP('USER INPUTS'!$B$30,DEFAULTS!$E$8:$F$69,2,FALSE))/10^6*(1/($D$5/100))))))),0,METHANE!$J158*DEFAULTS!$B$84*(IF('USER INPUTS'!$B$30=\"Total landfill gas\",(1/($D$5/100)),IF('USER INPUTS'!$B$30=\"Methane\",1,IF('USER INPUTS'!$B$30=\"Carbon dioxide\",((1/($D$5/100))-1),(VLOOKUP('USER INPUTS'!$B$30,DEFAULTS!$E$8:$F$69,2,FALSE))/10^6*(1/($D$5/100)))))))","v":0},{"$f":"IF(ISERROR(METHANE!$J158*(IF('USER INPUTS'!$B$30=\"Total landfill gas\",(1/($D$5/100)),IF('USER INPUTS'!$B$30=\"Methane\",1,IF('USER INPUTS'!$B$30=\"Carbon dioxide\",((1/($D$5/100))-1),(VLOOKUP('USER INPUTS'!$B$30,DEFAULTS!$E$8:$F$69,2,FALSE))/10^6*(1/($D$5/100))))))),0,METHANE!$J158*(IF('USER INPUTS'!$B$30=\"Total landfill gas\",(1/($D$5/100)),IF('USER INPUTS'!$B$30=\"Methane\",1,IF('USER INPUTS'!$B$30=\"Carbon dioxide\",((1/($D$5/100))-1),(VLOOKUP('USER INPUTS'!$B$30,DEFAULTS!$E$8:$F$69,2,FALSE))/10^6*(1/($D$5/100)))))))","v":0},{"$f":"IF(Q$8=\"(short tons/year)\",(O144*DEFAULTS!$B$55*DEFAULTS!$B$53/DEFAULTS!$B$54),IF(Q$8=\"(ft^3/year)\",(P144*DEFAULTS!$B$57),IF(Q$8=\"(av ft^3/min)\",(P144*DEFAULTS!$B$57/DEFAULTS!$B$58),0)))","v":0}]
[{"$f":"METHANE!I159","v":136},0,0,0,0,{"$f":"IF(ISERROR(METHANE!$J159*DEFAULTS!$B$81*(IF('USER INPUTS'!$B$24=\"Total landfill gas\",(1/($D$5/100)),IF('USER INPUTS'!$B$24=\"Methane\",1,IF('USER INPUTS'!$B$24=\"Carbon dioxide\",((1/($D$5/100))-1),(VLOOKUP('USER INPUTS'!$B$24,DEFAULTS!$E$8:$F$69,2,FALSE))/10^6*(1/($D$5/100))))))),0,METHANE!$J159*DEFAULTS!$B$81*(IF('USER INPUTS'!$B$24=\"Total landfill gas\",(1/($D$5/100)),IF('USER INPUTS'!$B$24=\"Methane\",1,IF('USER INPUTS'!$B$24=\"Carbon dioxide\",((1/($D$5/100))-1),(VLOOKUP('USER INPUTS'!$B$24,DEFAULTS!$E$8:$F$69,2,FALSE))/10^6*(1/($D$5/100)))))))","v":0},{"$f":"IF(ISERROR(METHANE!$J159*(IF('USER INPUTS'!$B$24=\"Total landfill gas\",(1/($D$5/100)),IF('USER INPUTS'!$B$24=\"Methane\",1,IF('USER INPUTS'!$B$24=\"Carbon dioxide\",((1/($D$5/100))-1),(VLOOKUP('USER INPUTS'!$B$24,DEFAULTS!$E$8:$F$69,2,FALSE))/10^6*(1/($D$5/100))))))),0,METHANE!$J159*(IF('USER INPUTS'!$B$24=\"Total landfill gas\",(1/($D$5/100)),IF('USER INPUTS'!$B$24=\"Methane\",1,IF('USER INPUTS'!$B$24=\"Carbon dioxide\",((1/($D$5/100))-1),(VLOOKUP('USER INPUTS'!$B$24,DEFAULTS!$E$8:$F$69,2,FALSE))/10^6*(1/($D$5/100)))))))","v":0},{"$f":"IF(H$8=\"(short tons/year)\",(F145*DEFAULTS!$B$55*DEFAULTS!$B$53/DEFAULTS!$B$54),IF(H$8=\"(ft^3/year)\",(G145*DEFAULTS!$B$57),IF(H$8=\"(av ft^3/min)\",(G145*DEFAULTS!$B$57/DEFAULTS!$B$58),0)))","v":0},{"$f":"IF(ISERROR(METHANE!$J159*DEFAULTS!$B$82*(IF('USER INPUTS'!$B$26=\"Total landfill gas\",(1/($D$5/100)),IF('USER INPUTS'!$B$26=\"Methane\",1,IF('USER INPUTS'!$B$26=\"Carbon dioxide\",((1/($D$5/100))-1),(VLOOKUP('USER INPUTS'!$B$26,DEFAULTS!$E$8:$F$69,2,FALSE))/10^6*(1/($D$5/100))))))),0,METHANE!$J159*DEFAULTS!$B$82*(IF('USER INPUTS'!$B$26=\"Total landfill gas\",(1/($D$5/100)),IF('USER INPUTS'!$B$26=\"Methane\",1,IF('USER INPUTS'!$B$26=\"Carbon dioxide\",((1/($D$5/100))-1),(VLOOKUP('USER INPUTS'!$B$26,DEFAULTS!$E$8:$F$69,2,FALSE))/10^6*(1/($D$5/100)))))))","v":0},{"$f":"IF(ISERROR(METHANE!$J159*(IF('USER INPUTS'!$B$26=\"Total landfill gas\",(1/($D$5/100)),IF('USER INPUTS'!$B$26=\"Methane\",1,IF('USER INPUTS'!$B$26=\"Carbon dioxide\",((1/($D$5/100))-1),(VLOOKUP('USER INPUTS'!$B$26,DEFAULTS!$E$8:$F$69,2,FALSE))/10^6*(1/($D$5/100))))))),0,METHANE!$J159*(IF('USER INPUTS'!$B$26=\"Total landfill gas\",(1/($D$5/100)),IF('USER INPUTS'!$B$26=\"Methane\",1,IF('USER INPUTS'!$B$26=\"Carbon dioxide\",((1/($D$5/100))-1),(VLOOKUP('USER INPUTS'!$B$26,DEFAULTS!$E$8:$F$69,2,FALSE))/10^6*(1/($D$5/100)))))))","v":0},{"$f":"IF(K$8=\"(short tons/year)\",(I145*DEFAULTS!$B$55*DEFAULTS!$B$53/DEFAULTS!$B$54),IF(K$8=\"(ft^3/year)\",(J145*DEFAULTS!$B$57),IF(K$8=\"(av ft^3/min)\",(J145*DEFAULTS!$B$57/DEFAULTS!$B$58),0)))","v":0},{"$f":"IF(ISERROR(METHANE!$J159*DEFAULTS!$B$83*(IF('USER INPUTS'!$B$28=\"Total landfill gas\",(1/($D$5/100)),IF('USER INPUTS'!$B$28=\"Methane\",1,IF('USER INPUTS'!$B$28=\"Carbon dioxide\",((1/($D$5/100))-1),(VLOOKUP('USER INPUTS'!$B$28,DEFAULTS!$E$8:$F$69,2,FALSE))/10^6*(1/($D$5/100))))))),0,METHANE!$J159*DEFAULTS!$B$83*(IF('USER INPUTS'!$B$28=\"Total landfill gas\",(1/($D$5/100)),IF('USER INPUTS'!$B$28=\"Methane\",1,IF('USER INPUTS'!$B$28=\"Carbon dioxide\",((1/($D$5/100))-1),(VLOOKUP('USER INPUTS'!$B$28,DEFAULTS!$E$8:$F$69,2,FALSE))/10^6*(1/($D$5/100)))))))","v":0},{"$f":"IF(ISERROR(METHANE!$J159*(IF('USER INPUTS'!$B$28=\"Total landfill gas\",(1/($D$5/100)),IF('USER INPUTS'!$B$28=\"Methane\",1,IF('USER INPUTS'!$B$28=\"Carbon dioxide\",((1/($D$5/100))-1),(VLOOKUP('USER INPUTS'!$B$28,DEFAULTS!$E$8:$F$69,2,FALSE))/10^6*(1/($D$5/100))))))),0,METHANE!$J159*(IF('USER INPUTS'!$B$28=\"Total landfill gas\",(1/($D$5/100)),IF('USER INPUTS'!$B$28=\"Methane\",1,IF('USER INPUTS'!$B$28=\"Carbon dioxide\",((1/($D$5/100))-1),(VLOOKUP('USER INPUTS'!$B$28,DEFAULTS!$E$8:$F$69,2,FALSE))/10^6*(1/($D$5/100)))))))","v":0},{"$f":"IF(N$8=\"(short tons/year)\",(L145*DEFAULTS!$B$55*DEFAULTS!$B$53/DEFAULTS!$B$54),IF(N$8=\"(ft^3/year)\",(M145*DEFAULTS!$B$57),IF(N$8=\"(av ft^3/min)\",(M145*DEFAULTS!$B$57/DEFAULTS!$B$58),0)))","v":0},{"$f":"IF(ISERROR(METHANE!$J159*DEFAULTS!$B$84*(IF('USER INPUTS'!$B$30=\"Total landfill gas\",(1/($D$5/100)),IF('USER INPUTS'!$B$30=\"Methane\",1,IF('USER INPUTS'!$B$30=\"Carbon dioxide\",((1/($D$5/100))-1),(VLOOKUP('USER INPUTS'!$B$30,DEFAULTS!$E$8:$F$69,2,FALSE))/10^6*(1/($D$5/100))))))),0,METHANE!$J159*DEFAULTS!$B$84*(IF('USER INPUTS'!$B$30=\"Total landfill gas\",(1/($D$5/100)),IF('USER INPUTS'!$B$30=\"Methane\",1,IF('USER INPUTS'!$B$30=\"Carbon dioxide\",((1/($D$5/100))-1),(VLOOKUP('USER INPUTS'!$B$30,DEFAULTS!$E$8:$F$69,2,FALSE))/10^6*(1/($D$5/100)))))))","v":0},{"$f":"IF(ISERROR(METHANE!$J159*(IF('USER INPUTS'!$B$30=\"Total landfill gas\",(1/($D$5/100)),IF('USER INPUTS'!$B$30=\"Methane\",1,IF('USER INPUTS'!$B$30=\"Carbon dioxide\",((1/($D$5/100))-1),(VLOOKUP('USER INPUTS'!$B$30,DEFAULTS!$E$8:$F$69,2,FALSE))/10^6*(1/($D$5/100))))))),0,METHANE!$J159*(IF('USER INPUTS'!$B$30=\"Total landfill gas\",(1/($D$5/100)),IF('USER INPUTS'!$B$30=\"Methane\",1,IF('USER INPUTS'!$B$30=\"Carbon dioxide\",((1/($D$5/100))-1),(VLOOKUP('USER INPUTS'!$B$30,DEFAULTS!$E$8:$F$69,2,FALSE))/10^6*(1/($D$5/100)))))))","v":0},{"$f":"IF(Q$8=\"(short tons/year)\",(O145*DEFAULTS!$B$55*DEFAULTS!$B$53/DEFAULTS!$B$54),IF(Q$8=\"(ft^3/year)\",(P145*DEFAULTS!$B$57),IF(Q$8=\"(av ft^3/min)\",(P145*DEFAULTS!$B$57/DEFAULTS!$B$58),0)))","v":0}]
[{"$f":"METHANE!I160","v":137},0,0,0,0,{"$f":"IF(ISERROR(METHANE!$J160*DEFAULTS!$B$81*(IF('USER INPUTS'!$B$24=\"Total landfill gas\",(1/($D$5/100)),IF('USER INPUTS'!$B$24=\"Methane\",1,IF('USER INPUTS'!$B$24=\"Carbon dioxide\",((1/($D$5/100))-1),(VLOOKUP('USER INPUTS'!$B$24,DEFAULTS!$E$8:$F$69,2,FALSE))/10^6*(1/($D$5/100))))))),0,METHANE!$J160*DEFAULTS!$B$81*(IF('USER INPUTS'!$B$24=\"Total landfill gas\",(1/($D$5/100)),IF('USER INPUTS'!$B$24=\"Methane\",1,IF('USER INPUTS'!$B$24=\"Carbon dioxide\",((1/($D$5/100))-1),(VLOOKUP('USER INPUTS'!$B$24,DEFAULTS!$E$8:$F$69,2,FALSE))/10^6*(1/($D$5/100)))))))","v":0},{"$f":"IF(ISERROR(METHANE!$J160*(IF('USER INPUTS'!$B$24=\"Total landfill gas\",(1/($D$5/100)),IF('USER INPUTS'!$B$24=\"Methane\",1,IF('USER INPUTS'!$B$24=\"Carbon dioxide\",((1/($D$5/100))-1),(VLOOKUP('USER INPUTS'!$B$24,DEFAULTS!$E$8:$F$69,2,FALSE))/10^6*(1/($D$5/100))))))),0,METHANE!$J160*(IF('USER INPUTS'!$B$24=\"Total landfill gas\",(1/($D$5/100)),IF('USER INPUTS'!$B$24=\"Methane\",1,IF('USER INPUTS'!$B$24=\"Carbon dioxide\",((1/($D$5/100))-1),(VLOOKUP('USER INPUTS'!$B$24,DEFAULTS!$E$8:$F$69,2,FALSE))/10^6*(1/($D$5/100)))))))","v":0},{"$f":"IF(H$8=\"(short tons/year)\",(F146*DEFAULTS!$B$55*DEFAULTS!$B$53/DEFAULTS!$B$54),IF(H$8=\"(ft^3/year)\",(G146*DEFAULTS!$B$57),IF(H$8=\"(av ft^3/min)\",(G146*DEFAULTS!$B$57/DEFAULTS!$B$58),0)))","v":0},{"$f":"IF(ISERROR(METHANE!$J160*DEFAULTS!$B$82*(IF('USER INPUTS'!$B$26=\"Total landfill gas\",(1/($D$5/100)),IF('USER INPUTS'!$B$26=\"Methane\",1,IF('USER INPUTS'!$B$26=\"Carbon dioxide\",((1/($D$5/100))-1),(VLOOKUP('USER INPUTS'!$B$26,DEFAULTS!$E$8:$F$69,2,FALSE))/10^6*(1/($D$5/100))))))),0,METHANE!$J160*DEFAULTS!$B$82*(IF('USER INPUTS'!$B$26=\"Total landfill gas\",(1/($D$5/100)),IF('USER INPUTS'!$B$26=\"Methane\",1,IF('USER INPUTS'!$B$26=\"Carbon dioxide\",((1/($D$5/100))-1),(VLOOKUP('USER INPUTS'!$B$26,DEFAULTS!$E$8:$F$69,2,FALSE))/10^6*(1/($D$5/100)))))))","v":0},{"$f":"IF(ISERROR(METHANE!$J160*(IF('USER INPUTS'!$B$26=\"Total landfill gas\",(1/($D$5/100)),IF('USER INPUTS'!$B$26=\"Methane\",1,IF('USER INPUTS'!$B$26=\"Carbon dioxide\",((1/($D$5/100))-1),(VLOOKUP('USER INPUTS'!$B$26,DEFAULTS!$E$8:$F$69,2,FALSE))/10^6*(1/($D$5/100))))))),0,METHANE!$J160*(IF('USER INPUTS'!$B$26=\"Total landfill gas\",(1/($D$5/100)),IF('USER INPUTS'!$B$26=\"Methane\",1,IF('USER INPUTS'!$B$26=\"Carbon dioxide\",((1/($D$5/100))-1),(VLOOKUP('USER INPUTS'!$B$26,DEFAULTS!$E$8:$F$69,2,FALSE))/10^6*(1/($D$5/100)))))))","v":0},{"$f":"IF(K$8=\"(short tons/year)\",(I146*DEFAULTS!$B$55*DEFAULTS!$B$53/DEFAULTS!$B$54),IF(K$8=\"(ft^3/year)\",(J146*DEFAULTS!$B$57),IF(K$8=\"(av ft^3/min)\",(J146*DEFAULTS!$B$57/DEFAULTS!$B$58),0)))","v":0},{"$f":"IF(ISERROR(METHANE!$J160*DEFAULTS!$B$83*(IF('USER INPUTS'!$B$28=\"Total landfill gas\",(1/($D$5/100)),IF('USER INPUTS'!$B$28=\"Methane\",1,IF('USER INPUTS'!$B$28=\"Carbon dioxide\",((1/($D$5/100))-1),(VLOOKUP('USER INPUTS'!$B$28,DEFAULTS!$E$8:$F$69,2,FALSE))/10^6*(1/($D$5/100))))))),0,METHANE!$J160*DEFAULTS!$B$83*(IF('USER INPUTS'!$B$28=\"Total landfill gas\",(1/($D$5/100)),IF('USER INPUTS'!$B$28=\"Methane\",1,IF('USER INPUTS'!$B$28=\"Carbon dioxide\",((1/($D$5/100))-1),(VLOOKUP('USER INPUTS'!$B$28,DEFAULTS!$E$8:$F$69,2,FALSE))/10^6*(1/($D$5/100)))))))","v":0},{"$f":"IF(ISERROR(METHANE!$J160*(IF('USER INPUTS'!$B$28=\"Total landfill gas\",(1/($D$5/100)),IF('USER INPUTS'!$B$28=\"Methane\",1,IF('USER INPUTS'!$B$28=\"Carbon dioxide\",((1/($D$5/100))-1),(VLOOKUP('USER INPUTS'!$B$28,DEFAULTS!$E$8:$F$69,2,FALSE))/10^6*(1/($D$5/100))))))),0,METHANE!$J160*(IF('USER INPUTS'!$B$28=\"Total landfill gas\",(1/($D$5/100)),IF('USER INPUTS'!$B$28=\"Methane\",1,IF('USER INPUTS'!$B$28=\"Carbon dioxide\",((1/($D$5/100))-1),(VLOOKUP('USER INPUTS'!$B$28,DEFAULTS!$E$8:$F$69,2,FALSE))/10^6*(1/($D$5/100)))))))","v":0},{"$f":"IF(N$8=\"(short tons/year)\",(L146*DEFAULTS!$B$55*DEFAULTS!$B$53/DEFAULTS!$B$54),IF(N$8=\"(ft^3/year)\",(M146*DEFAULTS!$B$57),IF(N$8=\"(av ft^3/min)\",(M146*DEFAULTS!$B$57/DEFAULTS!$B$58),0)))","v":0},{"$f":"IF(ISERROR(METHANE!$J160*DEFAULTS!$B$84*(IF('USER INPUTS'!$B$30=\"Total landfill gas\",(1/($D$5/100)),IF('USER INPUTS'!$B$30=\"Methane\",1,IF('USER INPUTS'!$B$30=\"Carbon dioxide\",((1/($D$5/100))-1),(VLOOKUP('USER INPUTS'!$B$30,DEFAULTS!$E$8:$F$69,2,FALSE))/10^6*(1/($D$5/100))))))),0,METHANE!$J160*DEFAULTS!$B$84*(IF('USER INPUTS'!$B$30=\"Total landfill gas\",(1/($D$5/100)),IF('USER INPUTS'!$B$30=\"Methane\",1,IF('USER INPUTS'!$B$30=\"Carbon dioxide\",((1/($D$5/100))-1),(VLOOKUP('USER INPUTS'!$B$30,DEFAULTS!$E$8:$F$69,2,FALSE))/10^6*(1/($D$5/100)))))))","v":0},{"$f":"IF(ISERROR(METHANE!$J160*(IF('USER INPUTS'!$B$30=\"Total landfill gas\",(1/($D$5/100)),IF('USER INPUTS'!$B$30=\"Methane\",1,IF('USER INPUTS'!$B$30=\"Carbon dioxide\",((1/($D$5/100))-1),(VLOOKUP('USER INPUTS'!$B$30,DEFAULTS!$E$8:$F$69,2,FALSE))/10^6*(1/($D$5/100))))))),0,METHANE!$J160*(IF('USER INPUTS'!$B$30=\"Total landfill gas\",(1/($D$5/100)),IF('USER INPUTS'!$B$30=\"Methane\",1,IF('USER INPUTS'!$B$30=\"Carbon dioxide\",((1/($D$5/100))-1),(VLOOKUP('USER INPUTS'!$B$30,DEFAULTS!$E$8:$F$69,2,FALSE))/10^6*(1/($D$5/100)))))))","v":0},{"$f":"IF(Q$8=\"(short tons/year)\",(O146*DEFAULTS!$B$55*DEFAULTS!$B$53/DEFAULTS!$B$54),IF(Q$8=\"(ft^3/year)\",(P146*DEFAULTS!$B$57),IF(Q$8=\"(av ft^3/min)\",(P146*DEFAULTS!$B$57/DEFAULTS!$B$58),0)))","v":0}]
[{"$f":"METHANE!I161","v":138},0,0,0,0,{"$f":"IF(ISERROR(METHANE!$J161*DEFAULTS!$B$81*(IF('USER INPUTS'!$B$24=\"Total landfill gas\",(1/($D$5/100)),IF('USER INPUTS'!$B$24=\"Methane\",1,IF('USER INPUTS'!$B$24=\"Carbon dioxide\",((1/($D$5/100))-1),(VLOOKUP('USER INPUTS'!$B$24,DEFAULTS!$E$8:$F$69,2,FALSE))/10^6*(1/($D$5/100))))))),0,METHANE!$J161*DEFAULTS!$B$81*(IF('USER INPUTS'!$B$24=\"Total landfill gas\",(1/($D$5/100)),IF('USER INPUTS'!$B$24=\"Methane\",1,IF('USER INPUTS'!$B$24=\"Carbon dioxide\",((1/($D$5/100))-1),(VLOOKUP('USER INPUTS'!$B$24,DEFAULTS!$E$8:$F$69,2,FALSE))/10^6*(1/($D$5/100)))))))","v":0},{"$f":"IF(ISERROR(METHANE!$J161*(IF('USER INPUTS'!$B$24=\"Total landfill gas\",(1/($D$5/100)),IF('USER INPUTS'!$B$24=\"Methane\",1,IF('USER INPUTS'!$B$24=\"Carbon dioxide\",((1/($D$5/100))-1),(VLOOKUP('USER INPUTS'!$B$24,DEFAULTS!$E$8:$F$69,2,FALSE))/10^6*(1/($D$5/100))))))),0,METHANE!$J161*(IF('USER INPUTS'!$B$24=\"Total landfill gas\",(1/($D$5/100)),IF('USER INPUTS'!$B$24=\"Methane\",1,IF('USER INPUTS'!$B$24=\"Carbon dioxide\",((1/($D$5/100))-1),(VLOOKUP('USER INPUTS'!$B$24,DEFAULTS!$E$8:$F$69,2,FALSE))/10^6*(1/($D$5/100)))))))","v":0},{"$f":"IF(H$8=\"(short tons/year)\",(F147*DEFAULTS!$B$55*DEFAULTS!$B$53/DEFAULTS!$B$54),IF(H$8=\"(ft^3/year)\",(G147*DEFAULTS!$B$57),IF(H$8=\"(av ft^3/min)\",(G147*DEFAULTS!$B$57/DEFAULTS!$B$58),0)))","v":0},{"$f":"IF(ISERROR(METHANE!$J161*DEFAULTS!$B$82*(IF('USER INPUTS'!$B$26=\"Total landfill gas\",(1/($D$5/100)),IF('USER INPUTS'!$B$26=\"Methane\",1,IF('USER INPUTS'!$B$26=\"Carbon dioxide\",((1/($D$5/100))-1),(VLOOKUP('USER INPUTS'!$B$26,DEFAULTS!$E$8:$F$69,2,FALSE))/10^6*(1/($D$5/100))))))),0,METHANE!$J161*DEFAULTS!$B$82*(IF('USER INPUTS'!$B$26=\"Total landfill gas\",(1/($D$5/100)),IF('USER INPUTS'!$B$26=\"Methane\",1,IF('USER INPUTS'!$B$26=\"Carbon dioxide\",((1/($D$5/100))-1),(VLOOKUP('USER INPUTS'!$B$26,DEFAULTS!$E$8:$F$69,2,FALSE))/10^6*(1/($D$5/100)))))))","v":0},{"$f":"IF(ISERROR(METHANE!$J161*(IF('USER INPUTS'!$B$26=\"Total landfill gas\",(1/($D$5/100)),IF('USER INPUTS'!$B$26=\"Methane\",1,IF('USER INPUTS'!$B$26=\"Carbon dioxide\",((1/($D$5/100))-1),(VLOOKUP('USER INPUTS'!$B$26,DEFAULTS!$E$8:$F$69,2,FALSE))/10^6*(1/($D$5/100))))))),0,METHANE!$J161*(IF('USER INPUTS'!$B$26=\"Total landfill gas\",(1/($D$5/100)),IF('USER INPUTS'!$B$26=\"Methane\",1,IF('USER INPUTS'!$B$26=\"Carbon dioxide\",((1/($D$5/100))-1),(VLOOKUP('USER INPUTS'!$B$26,DEFAULTS!$E$8:$F$69,2,FALSE))/10^6*(1/($D$5/100)))))))","v":0},{"$f":"IF(K$8=\"(short tons/year)\",(I147*DEFAULTS!$B$55*DEFAULTS!$B$53/DEFAULTS!$B$54),IF(K$8=\"(ft^3/year)\",(J147*DEFAULTS!$B$57),IF(K$8=\"(av ft^3/min)\",(J147*DEFAULTS!$B$57/DEFAULTS!$B$58),0)))","v":0},{"$f":"IF(ISERROR(METHANE!$J161*DEFAULTS!$B$83*(IF('USER INPUTS'!$B$28=\"Total landfill gas\",(1/($D$5/100)),IF('USER INPUTS'!$B$28=\"Methane\",1,IF('USER INPUTS'!$B$28=\"Carbon dioxide\",((1/($D$5/100))-1),(VLOOKUP('USER INPUTS'!$B$28,DEFAULTS!$E$8:$F$69,2,FALSE))/10^6*(1/($D$5/100))))))),0,METHANE!$J161*DEFAULTS!$B$83*(IF('USER INPUTS'!$B$28=\"Total landfill gas\",(1/($D$5/100)),IF('USER INPUTS'!$B$28=\"Methane\",1,IF('USER INPUTS'!$B$28=\"Carbon dioxide\",((1/($D$5/100))-1),(VLOOKUP('USER INPUTS'!$B$28,DEFAULTS!$E$8:$F$69,2,FALSE))/10^6*(1/($D$5/100)))))))","v":0},{"$f":"IF(ISERROR(METHANE!$J161*(IF('USER INPUTS'!$B$28=\"Total landfill gas\",(1/($D$5/100)),IF('USER INPUTS'!$B$28=\"Methane\",1,IF('USER INPUTS'!$B$28=\"Carbon dioxide\",((1/($D$5/100))-1),(VLOOKUP('USER INPUTS'!$B$28,DEFAULTS!$E$8:$F$69,2,FALSE))/10^6*(1/($D$5/100))))))),0,METHANE!$J161*(IF('USER INPUTS'!$B$28=\"Total landfill gas\",(1/($D$5/100)),IF('USER INPUTS'!$B$28=\"Methane\",1,IF('USER INPUTS'!$B$28=\"Carbon dioxide\",((1/($D$5/100))-1),(VLOOKUP('USER INPUTS'!$B$28,DEFAULTS!$E$8:$F$69,2,FALSE))/10^6*(1/($D$5/100)))))))","v":0},{"$f":"IF(N$8=\"(short tons/year)\",(L147*DEFAULTS!$B$55*DEFAULTS!$B$53/DEFAULTS!$B$54),IF(N$8=\"(ft^3/year)\",(M147*DEFAULTS!$B$57),IF(N$8=\"(av ft^3/min)\",(M147*DEFAULTS!$B$57/DEFAULTS!$B$58),0)))","v":0},{"$f":"IF(ISERROR(METHANE!$J161*DEFAULTS!$B$84*(IF('USER INPUTS'!$B$30=\"Total landfill gas\",(1/($D$5/100)),IF('USER INPUTS'!$B$30=\"Methane\",1,IF('USER INPUTS'!$B$30=\"Carbon dioxide\",((1/($D$5/100))-1),(VLOOKUP('USER INPUTS'!$B$30,DEFAULTS!$E$8:$F$69,2,FALSE))/10^6*(1/($D$5/100))))))),0,METHANE!$J161*DEFAULTS!$B$84*(IF('USER INPUTS'!$B$30=\"Total landfill gas\",(1/($D$5/100)),IF('USER INPUTS'!$B$30=\"Methane\",1,IF('USER INPUTS'!$B$30=\"Carbon dioxide\",((1/($D$5/100))-1),(VLOOKUP('USER INPUTS'!$B$30,DEFAULTS!$E$8:$F$69,2,FALSE))/10^6*(1/($D$5/100)))))))","v":0},{"$f":"IF(ISERROR(METHANE!$J161*(IF('USER INPUTS'!$B$30=\"Total landfill gas\",(1/($D$5/100)),IF('USER INPUTS'!$B$30=\"Methane\",1,IF('USER INPUTS'!$B$30=\"Carbon dioxide\",((1/($D$5/100))-1),(VLOOKUP('USER INPUTS'!$B$30,DEFAULTS!$E$8:$F$69,2,FALSE))/10^6*(1/($D$5/100))))))),0,METHANE!$J161*(IF('USER INPUTS'!$B$30=\"Total landfill gas\",(1/($D$5/100)),IF('USER INPUTS'!$B$30=\"Methane\",1,IF('USER INPUTS'!$B$30=\"Carbon dioxide\",((1/($D$5/100))-1),(VLOOKUP('USER INPUTS'!$B$30,DEFAULTS!$E$8:$F$69,2,FALSE))/10^6*(1/($D$5/100)))))))","v":0},{"$f":"IF(Q$8=\"(short tons/year)\",(O147*DEFAULTS!$B$55*DEFAULTS!$B$53/DEFAULTS!$B$54),IF(Q$8=\"(ft^3/year)\",(P147*DEFAULTS!$B$57),IF(Q$8=\"(av ft^3/min)\",(P147*DEFAULTS!$B$57/DEFAULTS!$B$58),0)))","v":0}]
[{"$f":"METHANE!I162","v":139},0,0,0,0,{"$f":"IF(ISERROR(METHANE!$J162*DEFAULTS!$B$81*(IF('USER INPUTS'!$B$24=\"Total landfill gas\",(1/($D$5/100)),IF('USER INPUTS'!$B$24=\"Methane\",1,IF('USER INPUTS'!$B$24=\"Carbon dioxide\",((1/($D$5/100))-1),(VLOOKUP('USER INPUTS'!$B$24,DEFAULTS!$E$8:$F$69,2,FALSE))/10^6*(1/($D$5/100))))))),0,METHANE!$J162*DEFAULTS!$B$81*(IF('USER INPUTS'!$B$24=\"Total landfill gas\",(1/($D$5/100)),IF('USER INPUTS'!$B$24=\"Methane\",1,IF('USER INPUTS'!$B$24=\"Carbon dioxide\",((1/($D$5/100))-1),(VLOOKUP('USER INPUTS'!$B$24,DEFAULTS!$E$8:$F$69,2,FALSE))/10^6*(1/($D$5/100)))))))","v":0},{"$f":"IF(ISERROR(METHANE!$J162*(IF('USER INPUTS'!$B$24=\"Total landfill gas\",(1/($D$5/100)),IF('USER INPUTS'!$B$24=\"Methane\",1,IF('USER INPUTS'!$B$24=\"Carbon dioxide\",((1/($D$5/100))-1),(VLOOKUP('USER INPUTS'!$B$24,DEFAULTS!$E$8:$F$69,2,FALSE))/10^6*(1/($D$5/100))))))),0,METHANE!$J162*(IF('USER INPUTS'!$B$24=\"Total landfill gas\",(1/($D$5/100)),IF('USER INPUTS'!$B$24=\"Methane\",1,IF('USER INPUTS'!$B$24=\"Carbon dioxide\",((1/($D$5/100))-1),(VLOOKUP('USER INPUTS'!$B$24,DEFAULTS!$E$8:$F$69,2,FALSE))/10^6*(1/($D$5/100)))))))","v":0},{"$f":"IF(H$8=\"(short tons/year)\",(F148*DEFAULTS!$B$55*DEFAULTS!$B$53/DEFAULTS!$B$54),IF(H$8=\"(ft^3/year)\",(G148*DEFAULTS!$B$57),IF(H$8=\"(av ft^3/min)\",(G148*DEFAULTS!$B$57/DEFAULTS!$B$58),0)))","v":0},{"$f":"IF(ISERROR(METHANE!$J162*DEFAULTS!$B$82*(IF('USER INPUTS'!$B$26=\"Total landfill gas\",(1/($D$5/100)),IF('USER INPUTS'!$B$26=\"Methane\",1,IF('USER INPUTS'!$B$26=\"Carbon dioxide\",((1/($D$5/100))-1),(VLOOKUP('USER INPUTS'!$B$26,DEFAULTS!$E$8:$F$69,2,FALSE))/10^6*(1/($D$5/100))))))),0,METHANE!$J162*DEFAULTS!$B$82*(IF('USER INPUTS'!$B$26=\"Total landfill gas\",(1/($D$5/100)),IF('USER INPUTS'!$B$26=\"Methane\",1,IF('USER INPUTS'!$B$26=\"Carbon dioxide\",((1/($D$5/100))-1),(VLOOKUP('USER INPUTS'!$B$26,DEFAULTS!$E$8:$F$69,2,FALSE))/10^6*(1/($D$5/100)))))))","v":0},{"$f":"IF(ISERROR(METHANE!$J162*(IF('USER INPUTS'!$B$26=\"Total landfill gas\",(1/($D$5/100)),IF('USER INPUTS'!$B$26=\"Methane\",1,IF('USER INPUTS'!$B$26=\"Carbon dioxide\",((1/($D$5/100))-1),(VLOOKUP('USER INPUTS'!$B$26,DEFAULTS!$E$8:$F$69,2,FALSE))/10^6*(1/($D$5/100))))))),0,METHANE!$J162*(IF('USER INPUTS'!$B$26=\"Total landfill gas\",(1/($D$5/100)),IF('USER INPUTS'!$B$26=\"Methane\",1,IF('USER INPUTS'!$B$26=\"Carbon dioxide\",((1/($D$5/100))-1),(VLOOKUP('USER INPUTS'!$B$26,DEFAULTS!$E$8:$F$69,2,FALSE))/10^6*(1/($D$5/100)))))))","v":0},{"$f":"IF(K$8=\"(short tons/year)\",(I148*DEFAULTS!$B$55*DEFAULTS!$B$53/DEFAULTS!$B$54),IF(K$8=\"(ft^3/year)\",(J148*DEFAULTS!$B$57),IF(K$8=\"(av ft^3/min)\",(J148*DEFAULTS!$B$57/DEFAULTS!$B$58),0)))","v":0},{"$f":"IF(ISERROR(METHANE!$J162*DEFAULTS!$B$83*(IF('USER INPUTS'!$B$28=\"Total landfill gas\",(1/($D$5/100)),IF('USER INPUTS'!$B$28=\"Methane\",1,IF('USER INPUTS'!$B$28=\"Carbon dioxide\",((1/($D$5/100))-1),(VLOOKUP('USER INPUTS'!$B$28,DEFAULTS!$E$8:$F$69,2,FALSE))/10^6*(1/($D$5/100))))))),0,METHANE!$J162*DEFAULTS!$B$83*(IF('USER INPUTS'!$B$28=\"Total landfill gas\",(1/($D$5/100)),IF('USER INPUTS'!$B$28=\"Methane\",1,IF('USER INPUTS'!$B$28=\"Carbon dioxide\",((1/($D$5/100))-1),(VLOOKUP('USER INPUTS'!$B$28,DEFAULTS!$E$8:$F$69,2,FALSE))/10^6*(1/($D$5/100)))))))","v":0},{"$f":"IF(ISERROR(METHANE!$J162*(IF('USER INPUTS'!$B$28=\"Total landfill gas\",(1/($D$5/100)),IF('USER INPUTS'!$B$28=\"Methane\",1,IF('USER INPUTS'!$B$28=\"Carbon dioxide\",((1/($D$5/100))-1),(VLOOKUP('USER INPUTS'!$B$28,DEFAULTS!$E$8:$F$69,2,FALSE))/10^6*(1/($D$5/100))))))),0,METHANE!$J162*(IF('USER INPUTS'!$B$28=\"Total landfill gas\",(1/($D$5/100)),IF('USER INPUTS'!$B$28=\"Methane\",1,IF('USER INPUTS'!$B$28=\"Carbon dioxide\",((1/($D$5/100))-1),(VLOOKUP('USER INPUTS'!$B$28,DEFAULTS!$E$8:$F$69,2,FALSE))/10^6*(1/($D$5/100)))))))","v":0},{"$f":"IF(N$8=\"(short tons/year)\",(L148*DEFAULTS!$B$55*DEFAULTS!$B$53/DEFAULTS!$B$54),IF(N$8=\"(ft^3/year)\",(M148*DEFAULTS!$B$57),IF(N$8=\"(av ft^3/min)\",(M148*DEFAULTS!$B$57/DEFAULTS!$B$58),0)))","v":0},{"$f":"IF(ISERROR(METHANE!$J162*DEFAULTS!$B$84*(IF('USER INPUTS'!$B$30=\"Total landfill gas\",(1/($D$5/100)),IF('USER INPUTS'!$B$30=\"Methane\",1,IF('USER INPUTS'!$B$30=\"Carbon dioxide\",((1/($D$5/100))-1),(VLOOKUP('USER INPUTS'!$B$30,DEFAULTS!$E$8:$F$69,2,FALSE))/10^6*(1/($D$5/100))))))),0,METHANE!$J162*DEFAULTS!$B$84*(IF('USER INPUTS'!$B$30=\"Total landfill gas\",(1/($D$5/100)),IF('USER INPUTS'!$B$30=\"Methane\",1,IF('USER INPUTS'!$B$30=\"Carbon dioxide\",((1/($D$5/100))-1),(VLOOKUP('USER INPUTS'!$B$30,DEFAULTS!$E$8:$F$69,2,FALSE))/10^6*(1/($D$5/100)))))))","v":0},{"$f":"IF(ISERROR(METHANE!$J162*(IF('USER INPUTS'!$B$30=\"Total landfill gas\",(1/($D$5/100)),IF('USER INPUTS'!$B$30=\"Methane\",1,IF('USER INPUTS'!$B$30=\"Carbon dioxide\",((1/($D$5/100))-1),(VLOOKUP('USER INPUTS'!$B$30,DEFAULTS!$E$8:$F$69,2,FALSE))/10^6*(1/($D$5/100))))))),0,METHANE!$J162*(IF('USER INPUTS'!$B$30=\"Total landfill gas\",(1/($D$5/100)),IF('USER INPUTS'!$B$30=\"Methane\",1,IF('USER INPUTS'!$B$30=\"Carbon dioxide\",((1/($D$5/100))-1),(VLOOKUP('USER INPUTS'!$B$30,DEFAULTS!$E$8:$F$69,2,FALSE))/10^6*(1/($D$5/100)))))))","v":0},{"$f":"IF(Q$8=\"(short tons/year)\",(O148*DEFAULTS!$B$55*DEFAULTS!$B$53/DEFAULTS!$B$54),IF(Q$8=\"(ft^3/year)\",(P148*DEFAULTS!$B$57),IF(Q$8=\"(av ft^3/min)\",(P148*DEFAULTS!$B$57/DEFAULTS!$B$58),0)))","v":0}]
[{"$f":"METHANE!I163","v":140},0,0,0,0,{"$f":"IF(ISERROR(METHANE!$J163*DEFAULTS!$B$81*(IF('USER INPUTS'!$B$24=\"Total landfill gas\",(1/($D$5/100)),IF('USER INPUTS'!$B$24=\"Methane\",1,IF('USER INPUTS'!$B$24=\"Carbon dioxide\",((1/($D$5/100))-1),(VLOOKUP('USER INPUTS'!$B$24,DEFAULTS!$E$8:$F$69,2,FALSE))/10^6*(1/($D$5/100))))))),0,METHANE!$J163*DEFAULTS!$B$81*(IF('USER INPUTS'!$B$24=\"Total landfill gas\",(1/($D$5/100)),IF('USER INPUTS'!$B$24=\"Methane\",1,IF('USER INPUTS'!$B$24=\"Carbon dioxide\",((1/($D$5/100))-1),(VLOOKUP('USER INPUTS'!$B$24,DEFAULTS!$E$8:$F$69,2,FALSE))/10^6*(1/($D$5/100)))))))","v":0},{"$f":"IF(ISERROR(METHANE!$J163*(IF('USER INPUTS'!$B$24=\"Total landfill gas\",(1/($D$5/100)),IF('USER INPUTS'!$B$24=\"Methane\",1,IF('USER INPUTS'!$B$24=\"Carbon dioxide\",((1/($D$5/100))-1),(VLOOKUP('USER INPUTS'!$B$24,DEFAULTS!$E$8:$F$69,2,FALSE))/10^6*(1/($D$5/100))))))),0,METHANE!$J163*(IF('USER INPUTS'!$B$24=\"Total landfill gas\",(1/($D$5/100)),IF('USER INPUTS'!$B$24=\"Methane\",1,IF('USER INPUTS'!$B$24=\"Carbon dioxide\",((1/($D$5/100))-1),(VLOOKUP('USER INPUTS'!$B$24,DEFAULTS!$E$8:$F$69,2,FALSE))/10^6*(1/($D$5/100)))))))","v":0},{"$f":"IF(H$8=\"(short tons/year)\",(F149*DEFAULTS!$B$55*DEFAULTS!$B$53/DEFAULTS!$B$54),IF(H$8=\"(ft^3/year)\",(G149*DEFAULTS!$B$57),IF(H$8=\"(av ft^3/min)\",(G149*DEFAULTS!$B$57/DEFAULTS!$B$58),0)))","v":0},{"$f":"IF(ISERROR(METHANE!$J163*DEFAULTS!$B$82*(IF('USER INPUTS'!$B$26=\"Total landfill gas\",(1/($D$5/100)),IF('USER INPUTS'!$B$26=\"Methane\",1,IF('USER INPUTS'!$B$26=\"Carbon dioxide\",((1/($D$5/100))-1),(VLOOKUP('USER INPUTS'!$B$26,DEFAULTS!$E$8:$F$69,2,FALSE))/10^6*(1/($D$5/100))))))),0,METHANE!$J163*DEFAULTS!$B$82*(IF('USER INPUTS'!$B$26=\"Total landfill gas\",(1/($D$5/100)),IF('USER INPUTS'!$B$26=\"Methane\",1,IF('USER INPUTS'!$B$26=\"Carbon dioxide\",((1/($D$5/100))-1),(VLOOKUP('USER INPUTS'!$B$26,DEFAULTS!$E$8:$F$69,2,FALSE))/10^6*(1/($D$5/100)))))))","v":0},{"$f":"IF(ISERROR(METHANE!$J163*(IF('USER INPUTS'!$B$26=\"Total landfill gas\",(1/($D$5/100)),IF('USER INPUTS'!$B$26=\"Methane\",1,IF('USER INPUTS'!$B$26=\"Carbon dioxide\",((1/($D$5/100))-1),(VLOOKUP('USER INPUTS'!$B$26,DEFAULTS!$E$8:$F$69,2,FALSE))/10^6*(1/($D$5/100))))))),0,METHANE!$J163*(IF('USER INPUTS'!$B$26=\"Total landfill gas\",(1/($D$5/100)),IF('USER INPUTS'!$B$26=\"Methane\",1,IF('USER INPUTS'!$B$26=\"Carbon dioxide\",((1/($D$5/100))-1),(VLOOKUP('USER INPUTS'!$B$26,DEFAULTS!$E$8:$F$69,2,FALSE))/10^6*(1/($D$5/100)))))))","v":0},{"$f":"IF(K$8=\"(short tons/year)\",(I149*DEFAULTS!$B$55*DEFAULTS!$B$53/DEFAULTS!$B$54),IF(K$8=\"(ft^3/year)\",(J149*DEFAULTS!$B$57),IF(K$8=\"(av ft^3/min)\",(J149*DEFAULTS!$B$57/DEFAULTS!$B$58),0)))","v":0},{"$f":"IF(ISERROR(METHANE!$J163*DEFAULTS!$B$83*(IF('USER INPUTS'!$B$28=\"Total landfill gas\",(1/($D$5/100)),IF('USER INPUTS'!$B$28=\"Methane\",1,IF('USER INPUTS'!$B$28=\"Carbon dioxide\",((1/($D$5/100))-1),(VLOOKUP('USER INPUTS'!$B$28,DEFAULTS!$E$8:$F$69,2,FALSE))/10^6*(1/($D$5/100))))))),0,METHANE!$J163*DEFAULTS!$B$83*(IF('USER INPUTS'!$B$28=\"Total landfill gas\",(1/($D$5/100)),IF('USER INPUTS'!$B$28=\"Methane\",1,IF('USER INPUTS'!$B$28=\"Carbon dioxide\",((1/($D$5/100))-1),(VLOOKUP('USER INPUTS'!$B$28,DEFAULTS!$E$8:$F$69,2,FALSE))/10^6*(1/($D$5/100)))))))","v":0},{"$f":"IF(ISERROR(METHANE!$J163*(IF('USER INPUTS'!$B$28=\"Total landfill gas\",(1/($D$5/100)),IF('USER INPUTS'!$B$28=\"Methane\",1,IF('USER INPUTS'!$B$28=\"Carbon dioxide\",((1/($D$5/100))-1),(VLOOKUP('USER INPUTS'!$B$28,DEFAULTS!$E$8:$F$69,2,FALSE))/10^6*(1/($D$5/100))))))),0,METHANE!$J163*(IF('USER INPUTS'!$B$28=\"Total landfill gas\",(1/($D$5/100)),IF('USER INPUTS'!$B$28=\"Methane\",1,IF('USER INPUTS'!$B$28=\"Carbon dioxide\",((1/($D$5/100))-1),(VLOOKUP('USER INPUTS'!$B$28,DEFAULTS!$E$8:$F$69,2,FALSE))/10^6*(1/($D$5/100)))))))","v":0},{"$f":"IF(N$8=\"(short tons/year)\",(L149*DEFAULTS!$B$55*DEFAULTS!$B$53/DEFAULTS!$B$54),IF(N$8=\"(ft^3/year)\",(M149*DEFAULTS!$B$57),IF(N$8=\"(av ft^3/min)\",(M149*DEFAULTS!$B$57/DEFAULTS!$B$58),0)))","v":0},{"$f":"IF(ISERROR(METHANE!$J163*DEFAULTS!$B$84*(IF('USER INPUTS'!$B$30=\"Total landfill gas\",(1/($D$5/100)),IF('USER INPUTS'!$B$30=\"Methane\",1,IF('USER INPUTS'!$B$30=\"Carbon dioxide\",((1/($D$5/100))-1),(VLOOKUP('USER INPUTS'!$B$30,DEFAULTS!$E$8:$F$69,2,FALSE))/10^6*(1/($D$5/100))))))),0,METHANE!$J163*DEFAULTS!$B$84*(IF('USER INPUTS'!$B$30=\"Total landfill gas\",(1/($D$5/100)),IF('USER INPUTS'!$B$30=\"Methane\",1,IF('USER INPUTS'!$B$30=\"Carbon dioxide\",((1/($D$5/100))-1),(VLOOKUP('USER INPUTS'!$B$30,DEFAULTS!$E$8:$F$69,2,FALSE))/10^6*(1/($D$5/100)))))))","v":0},{"$f":"IF(ISERROR(METHANE!$J163*(IF('USER INPUTS'!$B$30=\"Total landfill gas\",(1/($D$5/100)),IF('USER INPUTS'!$B$30=\"Methane\",1,IF('USER INPUTS'!$B$30=\"Carbon dioxide\",((1/($D$5/100))-1),(VLOOKUP('USER INPUTS'!$B$30,DEFAULTS!$E$8:$F$69,2,FALSE))/10^6*(1/($D$5/100))))))),0,METHANE!$J163*(IF('USER INPUTS'!$B$30=\"Total landfill gas\",(1/($D$5/100)),IF('USER INPUTS'!$B$30=\"Methane\",1,IF('USER INPUTS'!$B$30=\"Carbon dioxide\",((1/($D$5/100))-1),(VLOOKUP('USER INPUTS'!$B$30,DEFAULTS!$E$8:$F$69,2,FALSE))/10^6*(1/($D$5/100)))))))","v":0},{"$f":"IF(Q$8=\"(short tons/year)\",(O149*DEFAULTS!$B$55*DEFAULTS!$B$53/DEFAULTS!$B$54),IF(Q$8=\"(ft^3/year)\",(P149*DEFAULTS!$B$57),IF(Q$8=\"(av ft^3/min)\",(P149*DEFAULTS!$B$57/DEFAULTS!$B$58),0)))","v":0}]

{"sheet":"GRAPHS","index":6,"n_rows":1,"n_cols":5,"rows_kept":1,"cut":false,"hidden":false,"merged":[[0,4,0,7]]}
["GRAPHS",null,null,"Landfill Name or Identifier:",{"$f":"IF('USER INPUTS'!$E$1=0,\"\",'USER INPUTS'!$E$1)","v":""}]

{"sheet":"INVENTORY","index":7,"n_rows":68,"n_cols":11,"rows_kept":68,"cut":false,"hidden":false,"merged":[[4,6,4,10],[4,1,5,5],[0,6,0,8]]}
["INVENTORY",null,null,null,null,"Landfill Name or Identifier:",{"$f":"IF('USER INPUTS'!$E$1=0,\"\",'USER INPUTS'!$E$1)","v":""}]
[]
[null,"Enter year of emissions inventory:",null,null,null,{"$f":"IF(AND($E$3>0,OpenYear<1900),\"A valid landfill open year must be entered in the USER INPUTS worksheet to obtain valid emission inventory estimates below.\",\"\")","v":""}]
[]
[null,"Gas / Pollutant",null,null,null,null,"Emission Rate"]
[null,null,null,null,null,null,"(Mg/year)","(m3/year)","(av ft3/min)","(ft3/year)","(short tons/year)"]
[null,"Total landfill gas",null,null,null,null,{"$f":"IF($E$3>0,VLOOKUP($E$3,METHANE!$I$24:$J$163,2,0)*((VLOOKUP($B7,DEFAULTS!$E$8:$G$69,3,FALSE)*DEFAULTS!$B$72)/(DEFAULTS!$B$73*DEFAULTS!$B$74*DEFAULTS!$B$56))*(1/(RESULTS!$D$5/100)),0)","v":0},{"$f":"IF($E$3>0,VLOOKUP($E$3,METHANE!$I$24:$J$163,2,0)*(1/(RESULTS!$D$5/100)),0)","v":0},{"$f":"($H7*DEFAULTS!$B$57/DEFAULTS!$B$58)","v":0},{"$f":"($H7*DEFAULTS!$B$57)","v":0},{"$f":"($G7*DEFAULTS!$B$55*DEFAULTS!$B$53/DEFAULTS!$B$54)","v":0}]
[null,"Methane",null,null,null,null,{"$f":"IF($E$3>0,VLOOKUP($E$3,METHANE!$I$24:$J$163,2,0)*((VLOOKUP($B8,DEFAULTS!$E$8:$G$69,3,FALSE)*DEFAULTS!$B$72)/(DEFAULTS!$B$73*DEFAULTS!$B$74*DEFAULTS!$B$56)),0)","v":0},{"$f":"IF($E$3>0,VLOOKUP($E$3,METHANE!$I$24:$J$163,2,0),0)","v":0},{"$f":"($H8*DEFAULTS!$B$57/DEFAULTS!$B$58)","v":0},{"$f":"($H8*DEFAULTS!$B$57)","v":0},{"$f":"($G8*DEFAULTS!$B$55*DEFAULTS!$B$53/DEFAULTS!$B$54)","v":0}]
[null,"Carbon dioxide",null,null,null,null,{"$f":"IF($E$3>0,VLOOKUP($E$3,METHANE!$I$24:$J$163,2,0)*((VLOOKUP($B9,DEFAULTS!$E$8:$G$69,3,FALSE)*DEFAULTS!$B$72)/(DEFAULTS!$B$73*DEFAULTS!$B$74*DEFAULTS!$B$56))*((1/(RESULTS!$D$5/100))-1),0)","v":0},{"$f":"IF($E$3>0,VLOOKUP($E$3,METHANE!$I$24:$J$163,2,0)*((1/(RESULTS!$D$5/100))-1),0)","v":0},{"$f":"($H9*DEFAULTS!$B$57/DEFAULTS!$B$58)","v":0},{"$f":"($H9*DEFAULTS!$B$57)","v":0},{"$f":"($G9*DEFAULTS!$B$55*DEFAULTS!$B$53/DEFAULTS!$B$54)","v":0}]
[null,"NMOC",null,null,null,null,{"$f":"IF($E$3>0,VLOOKUP($E$3,METHANE!$I$24:$J$163,2,0)*((VLOOKUP($B10,DEFAULTS!$E$8:$G$69,3,FALSE)*DEFAULTS!$B$72)/(DEFAULTS!$B$73*DEFAULTS!$B$74*DEFAULTS!$B$56))*(VLOOKUP($B10,DEFAULTS!$E$8:$F$69,2,FALSE)/10^4*(1/RESULTS!$D$5)),0)","v":0},{"$f":"IF($E$3>0,VLOOKUP($E$3,METHANE!$I$24:$J$163,2,0)*(VLOOKUP($B10,DEFAULTS!$E$8:$F$69,2,FALSE)/10^4*(1/RESULTS!$D$5)),0)","v":0},{"$f":"($H10*DEFAULTS!$B$57/DEFAULTS!$B$58)","v":0},{"$f":"($H10*DEFAULTS!$B$57)","v":0},{"$f":"($G10*DEFAULTS!$B$55*DEFAULTS!$B$53/DEFAULTS!$B$54)","v":0}]
[null,"1,1,1-Trichloroethane (methyl chloroform) - HAP",null,null,null,null,{"$f":"IF($E$3>0,VLOOKUP($E$3,METHANE!$I$24:$J$163,2,0)*((VLOOKUP($B11,DEFAULTS!$E$8:$G$69,3,FALSE)*DEFAULTS!$B$72)/(DEFAULTS!$B$73*DEFAULTS!$B$74*DEFAULTS!$B$56))*(VLOOKUP($B11,DEFAULTS!$E$8:$F$69,2,FALSE)/10^6*(1/(RESULTS!$D$5/100))),0)","v":0},{"$f":"IF($E$3>0,VLOOKUP($E$3,METHANE!$I$24:$J$163,2,0)*(VLOOKUP($B11,DEFAULTS!$E$8:$F$69,2,FALSE)/10^6*(1/(RESULTS!$D$5/100))),0)","v":0},{"$f":"($H11*DEFAULTS!$B$57/DEFAULTS!$B$58)","v":0},{"$f":"($H11*DEFAULTS!$B$57)","v":0},{"$f":"($G11*DEFAULTS!$B$55*DEFAULTS!$B$53/DEFAULTS!$B$54)","v":0}]
[null,"1,1,2,2-Tetrachloroethane - HAP/VOC",null,null,null,null,{"$f":"IF($E$3>0,VLOOKUP($E$3,METHANE!$I$24:$J$163,2,0)*((VLOOKUP($B12,DEFAULTS!$E$8:$G$69,3,FALSE)*DEFAULTS!$B$72)/(DEFAULTS!$B$73*DEFAULTS!$B$74*DEFAULTS!$B$56))*(VLOOKUP($B12,DEFAULTS!$E$8:$F$69,2,FALSE)/10^6*(1/(RESULTS!$D$5/100))),0)","v":0},{"$f":"IF($E$3>0,VLOOKUP($E$3,METHANE!$I$24:$J$163,2,0)*(VLOOKUP($B12,DEFAULTS!$E$8:$F$69,2,FALSE)/10^6*(1/(RESULTS!$D$5/100))),0)","v":0},{"$f":"($H12*DEFAULTS!$B$57/DEFAULTS!$B$58)","v":0},{"$f":"($H12*DEFAULTS!$B$57)","v":0},{"$f":"($G12*DEFAULTS!$B$55*DEFAULTS!$B$53/DEFAULTS!$B$54)","v":0}]
[null,"1,1-Dichloroethane (ethylidene dichloride) - HAP/VOC",null,null,null,null,{"$f":"IF($E$3>0,VLOOKUP($E$3,METHANE!$I$24:$J$163,2,0)*((VLOOKUP($B13,DEFAULTS!$E$8:$G$69,3,FALSE)*DEFAULTS!$B$72)/(DEFAULTS!$B$73*DEFAULTS!$B$74*DEFAULTS!$B$56))*(VLOOKUP($B13,DEFAULTS!$E$8:$F$69,2,FALSE)/10^6*(1/(RESULTS!$D$5/100))),0)","v":0},{"$f":"IF($E$3>0,VLOOKUP($E$3,METHANE!$I$24:$J$163,2,0)*(VLOOKUP($B13,DEFAULTS!$E$8:$F$69,2,FALSE)/10^6*(1/(RESULTS!$D$5/100))),0)","v":0},{"$f":"($H13*DEFAULTS!$B$57/DEFAULTS!$B$58)","v":0},{"$f":"($H13*DEFAULTS!$B$57)","v":0},{"$f":"($G13*DEFAULTS!$B$55*DEFAULTS!$B$53/DEFAULTS!$B$54)","v":0}]
[null,"1,1-Dichloroethene (vinylidene chloride) - HAP/VOC",null,null,null,null,{"$f":"IF($E$3>0,VLOOKUP($E$3,METHANE!$I$24:$J$163,2,0)*((VLOOKUP($B14,DEFAULTS!$E$8:$G$69,3,FALSE)*DEFAULTS!$B$72)/(DEFAULTS!$B$73*DEFAULTS!$B$74*DEFAULTS!$B$56))*(VLOOKUP($B14,DEFAULTS!$E$8:$F$69,2,FALSE)/10^6*(1/(RESULTS!$D$5/100))),0)","v":0},{"$f":"IF($E$3>0,VLOOKUP($E$3,METHANE!$I$24:$J$163,2,0)*(VLOOKUP($B14,DEFAULTS!$E$8:$F$69,2,FALSE)/10^6*(1/(RESULTS!$D$5/100))),0)","v":0},{"$f":"($H14*DEFAULTS!$B$57/DEFAULTS!$B$58)","v":0},{"$f":"($H14*DEFAULTS!$B$57)","v":0},{"$f":"($G14*DEFAULTS!$B$55*DEFAULTS!$B$53/DEFAULTS!$B$54)","v":0}]
[null,"1,2-Dichloroethane (ethylene dichloride) - HAP/VOC",null,null,null,null,{"$f":"IF($E$3>0,VLOOKUP($E$3,METHANE!$I$24:$J$163,2,0)*((VLOOKUP($B15,DEFAULTS!$E$8:$G$69,3,FALSE)*DEFAULTS!$B$72)/(DEFAULTS!$B$73*DEFAULTS!$B$74*DEFAULTS!$B$56))*(VLOOKUP($B15,DEFAULTS!$E$8:$F$69,2,FALSE)/10^6*(1/(RESULTS!$D$5/100))),0)","v":0},{"$f":"IF($E$3>0,VLOOKUP($E$3,METHANE!$I$24:$J$163,2,0)*(VLOOKUP($B15,DEFAULTS!$E$8:$F$69,2,FALSE)/10^6*(1/(RESULTS!$D$5/100))),0)","v":0},{"$f":"($H15*DEFAULTS!$B$57/DEFAULTS!$B$58)","v":0},{"$f":"($H15*DEFAULTS!$B$57)","v":0},{"$f":"($G15*DEFAULTS!$B$55*DEFAULTS!$B$53/DEFAULTS!$B$54)","v":0}]
[null,"1,2-Dichloropropane (propylene dichloride) - HAP/VOC",null,null,null,null,{"$f":"IF($E$3>0,VLOOKUP($E$3,METHANE!$I$24:$J$163,2,0)*((VLOOKUP($B16,DEFAULTS!$E$8:$G$69,3,FALSE)*DEFAULTS!$B$72)/(DEFAULTS!$B$73*DEFAULTS!$B$74*DEFAULTS!$B$56))*(VLOOKUP($B16,DEFAULTS!$E$8:$F$69,2,FALSE)/10^6*(1/(RESULTS!$D$5/100))),0)","v":0},{"$f":"IF($E$3>0,VLOOKUP($E$3,METHANE!$I$24:$J$163,2,0)*(VLOOKUP($B16,DEFAULTS!$E$8:$F$69,2,FALSE)/10^6*(1/(RESULTS!$D$5/100))),0)","v":0},{"$f":"($H16*DEFAULTS!$B$57/DEFAULTS!$B$58)","v":0},{"$f":"($H16*DEFAULTS!$B$57)","v":0},{"$f":"($G16*DEFAULTS!$B$55*DEFAULTS!$B$53/DEFAULTS!$B$54)","v":0}]
[null,"2-Propanol (isopropyl alcohol) - VOC",null,null,null,null,{"$f":"IF($E$3>0,VLOOKUP($E$3,METHANE!$I$24:$J$163,2,0)*((VLOOKUP($B17,DEFAULTS!$E$8:$G$69,3,FALSE)*DEFAULTS!$B$72)/(DEFAULTS!$B$73*DEFAULTS!$B$74*DEFAULTS!$B$56))*(VLOOKUP($B17,DEFAULTS!$E$8:$F$69,2,FALSE)/10^6*(1/(RESULTS!$D$5/100))),0)","v":0},{"$f":"IF($E$3>0,VLOOKUP($E$3,METHANE!$I$24:$J$163,2,0)*(VLOOKUP($B17,DEFAULTS!$E$8:$F$69,2,FALSE)/10^6*(1/(RESULTS!$D$5/100))),0)","v":0},{"$f":"($H17*DEFAULTS!$B$57/DEFAULTS!$B$58)","v":0},{"$f":"($H17*DEFAULTS!$B$57)","v":0},{"$f":"($G17*DEFAULTS!$B$55*DEFAULTS!$B$53/DEFAULTS!$B$54)","v":0}]
[null,"Acetone",null,null,null,null,{"$f":"IF($E$3>0,VLOOKUP($E$3,METHANE!$I$24:$J$163,2,0)*((VLOOKUP($B18,DEFAULTS!$E$8:$G$69,3,FALSE)*DEFAULTS!$B$72)/(DEFAULTS!$B$73*DEFAULTS!$B$74*DEFAULTS!$B$56))*(VLOOKUP($B18,DEFAULTS!$E$8:$F$69,2,FALSE)/10^6*(1/(RESULTS!$D$5/100))),0)","v":0},{"$f":"IF($E$3>0,VLOOKUP($E$3,METHANE!$I$24:$J$163,2,0)*(VLOOKUP($B18,DEFAULTS!$E$8:$F$69,2,FALSE)/10^6*(1/(RESULTS!$D$5/100))),0)","v":0},{"$f":"($H18*DEFAULTS!$B$57/DEFAULTS!$B$58)","v":0},{"$f":"($H18*DEFAULTS!$B$57)","v":0},{"$f":"($G18*DEFAULTS!$B$55*DEFAULTS!$B$53/DEFAULTS!$B$54)","v":0}]
[null,"Acrylonitrile - HAP/VOC",null,null,null,null,{"$f":"IF($E$3>0,VLOOKUP($E$3,METHANE!$I$24:$J$163,2,0)*((VLOOKUP($B19,DEFAULTS!$E$8:$G$69,3,FALSE)*DEFAULTS!$B$72)/(DEFAULTS!$B$73*DEFAULTS!$B$74*DEFAULTS!$B$56))*(VLOOKUP($B19,DEFAULTS!$E$8:$F$69,2,FALSE)/10^6*(1/(RESULTS!$D$5/100))),0)","v":0},{"$f":"IF($E$3>0,VLOOKUP($E$3,METHANE!$I$24:$J$163,2,0)*(VLOOKUP($B19,DEFAULTS!$E$8:$F$69,2,FALSE)/10^6*(1/(RESULTS!$D$5/100))),0)","v":0},{"$f":"($H19*DEFAULTS!$B$57/DEFAULTS!$B$58)","v":0},{"$f":"($H19*DEFAULTS!$B$57)","v":0},{"$f":"($G19*DEFAULTS!$B$55*DEFAULTS!$B$53/DEFAULTS!$B$54)","v":0}]
[null,"Benzene - No or Unknown Co-disposal - HAP/VOC",null,null,null,null,{"$f":"IF($E$3>0,VLOOKUP($E$3,METHANE!$I$24:$J$163,2,0)*((VLOOKUP($B20,DEFAULTS!$E$8:$G$69,3,FALSE)*DEFAULTS!$B$72)/(DEFAULTS!$B$73*DEFAULTS!$B$74*DEFAULTS!$B$56))*(VLOOKUP($B20,DEFAULTS!$E$8:$F$69,2,FALSE)/10^6*(1/(RESULTS!$D$5/100))),0)","v":0},{"$f":"IF($E$3>0,VLOOKUP($E$3,METHANE!$I$24:$J$163,2,0)*(VLOOKUP($B20,DEFAULTS!$E$8:$F$69,2,FALSE)/10^6*(1/(RESULTS!$D$5/100))),0)","v":0},{"$f":"($H20*DEFAULTS!$B$57/DEFAULTS!$B$58)","v":0},{"$f":"($H20*DEFAULTS!$B$57)","v":0},{"$f":"($G20*DEFAULTS!$B$55*DEFAULTS!$B$53/DEFAULTS!$B$54)","v":0}]
[null,"Benzene - Co-disposal - HAP/VOC",null,null,null,null,{"$f":"IF($E$3>0,VLOOKUP($E$3,METHANE!$I$24:$J$163,2,0)*((VLOOKUP($B21,DEFAULTS!$E$8:$G$69,3,FALSE)*DEFAULTS!$B$72)/(DEFAULTS!$B$73*DEFAULTS!$B$74*DEFAULTS!$B$56))*(VLOOKUP($B21,DEFAULTS!$E$8:$F$69,2,FALSE)/10^6*(1/(RESULTS!$D$5/100))),0)","v":0},{"$f":"IF($E$3>0,VLOOKUP($E$3,METHANE!$I$24:$J$163,2,0)*(VLOOKUP($B21,DEFAULTS!$E$8:$F$69,2,FALSE)/10^6*(1/(RESULTS!$D$5/100))),0)","v":0},{"$f":"($H21*DEFAULTS!$B$57/DEFAULTS!$B$58)","v":0},{"$f":"($H21*DEFAULTS!$B$57)","v":0},{"$f":"($G21*DEFAULTS!$B$55*DEFAULTS!$B$53/DEFAULTS!$B$54)","v":0}]
[null,"Bromodichloromethane - VOC",null,null,null,null,{"$f":"IF($E$3>0,VLOOKUP($E$3,METHANE!$I$24:$J$163,2,0)*((VLOOKUP($B22,DEFAULTS!$E$8:$G$69,3,FALSE)*DEFAULTS!$B$72)/(DEFAULTS!$B$73*DEFAULTS!$B$74*DEFAULTS!$B$56))*(VLOOKUP($B22,DEFAULTS!$E$8:$F$69,2,FALSE)/10^6*(1/(RESULTS!$D$5/100))),0)","v":0},{"$f":"IF($E$3>0,VLOOKUP($E$3,METHANE!$I$24:$J$163,2,0)*(VLOOKUP($B22,DEFAULTS!$E$8:$F$69,2,FALSE)/10^6*(1/(RESULTS!$D$5/100))),0)","v":0},{"$f":"($H22*DEFAULTS!$B$57/DEFAULTS!$B$58)","v":0},{"$f":"($H22*DEFAULTS!$B$57)","v":0},{"$f":"($G22*DEFAULTS!$B$55*DEFAULTS!$B$53/DEFAULTS!$B$54)","v":0}]
[null,"Butane - VOC",null,null,null,null,{"$f":"IF($E$3>0,VLOOKUP($E$3,METHANE!$I$24:$J$163,2,0)*((VLOOKUP($B23,DEFAULTS!$E$8:$G$69,3,FALSE)*DEFAULTS!$B$72)/(DEFAULTS!$B$73*DEFAULTS!$B$74*DEFAULTS!$B$56))*(VLOOKUP($B23,DEFAULTS!$E$8:$F$69,2,FALSE)/10^6*(1/(RESULTS!$D$5/100))),0)","v":0},{"$f":"IF($E$3>0,VLOOKUP($E$3,METHANE!$I$24:$J$163,2,0)*(VLOOKUP($B23,DEFAULTS!$E$8:$F$69,2,FALSE)/10^6*(1/(RESULTS!$D$5/100))),0)","v":0},{"$f":"($H23*DEFAULTS!$B$57/DEFAULTS!$B$58)","v":0},{"$f":"($H23*DEFAULTS!$B$57)","v":0},{"$f":"($G23*DEFAULTS!$B$55*DEFAULTS!$B$53/DEFAULTS!$B$54)","v":0}]
[null,"Carbon disulfide - HAP/VOC",null,null,null,null,{"$f":"IF($E$3>0,VLOOKUP($E$3,METHANE!$I$24:$J$163,2,0)*((VLOOKUP($B24,DEFAULTS!$E$8:$G$69,3,FALSE)*DEFAULTS!$B$72)/(DEFAULTS!$B$73*DEFAULTS!$B$74*DEFAULTS!$B$56))*(VLOOKUP($B24,DEFAULTS!$E$8:$F$69,2,FALSE)/10^6*(1/(RESULTS!$D$5/100))),0)","v":0},{"$f":"IF($E$3>0,VLOOKUP($E$3,METHANE!$I$24:$J$163,2,0)*(VLOOKUP($B24,DEFAULTS!$E$8:$F$69,2,FALSE)/10^6*(1/(RESULTS!$D$5/100))),0)","v":0},{"$f":"($H24*DEFAULTS!$B$57/DEFAULTS!$B$58)","v":0},{"$f":"($H24*DEFAULTS!$B$57)","v":0},{"$f":"($G24*DEFAULTS!$B$55*DEFAULTS!$B$53/DEFAULTS!$B$54)","v":0}]
[null,"Carbon monoxide",null,null,null,null,{"$f":"IF($E$3>0,VLOOKUP($E$3,METHANE!$I$24:$J$163,2,0)*((VLOOKUP($B25,DEFAULTS!$E$8:$G$69,3,FALSE)*DEFAULTS!$B$72)/(DEFAULTS!$B$73*DEFAULTS!$B$74*DEFAULTS!$B$56))*(VLOOKUP($B25,DEFAULTS!$E$8:$F$69,2,FALSE)/10^6*(1/(RESULTS!$D$5/100))),0)","v":0},{"$f":"IF($E$3>0,VLOOKUP($E$3,METHANE!$I$24:$J$163,2,0)*(VLOOKUP($B25,DEFAULTS!$E$8:$F$69,2,FALSE)/10^6*(1/(RESULTS!$D$5/100))),0)","v":0},{"$f":"($H25*DEFAULTS!$B$57/DEFAULTS!$B$58)","v":0},{"$f":"($H25*DEFAULTS!$B$57)","v":0},{"$f":"($G25*DEFAULTS!$B$55*DEFAULTS!$B$53/DEFAULTS!$B$54)","v":0}]
[null,"Carbon tetrachloride - HAP/VOC",null,null,null,null,{"$f":"IF($E$3>0,VLOOKUP($E$3,METHANE!$I$24:$J$163,2,0)*((VLOOKUP($B26,DEFAULTS!$E$8:$G$69,3,FALSE)*DEFAULTS!$B$72)/(DEFAULTS!$B$73*DEFAULTS!$B$74*DEFAULTS!$B$56))*(VLOOKUP($B26,DEFAULTS!$E$8:$F$69,2,FALSE)/10^6*(1/(RESULTS!$D$5/100))),0)","v":0},{"$f":"IF($E$3>0,VLOOKUP($E$3,METHANE!$I$24:$J$163,2,0)*(VLOOKUP($B26,DEFAULTS!$E$8:$F$69,2,FALSE)/10^6*(1/(RESULTS!$D$5/100))),0)","v":0},{"$f":"($H26*DEFAULTS!$B$57/DEFAULTS!$B$58)","v":0},{"$f":"($H26*DEFAULTS!$B$57)","v":0},{"$f":"($G26*DEFAULTS!$B$55*DEFAULTS!$B$53/DEFAULTS!$B$54)","v":0}]
[null,"Carbonyl sulfide - HAP/VOC",null,null,null,null,{"$f":"IF($E$3>0,VLOOKUP($E$3,METHANE!$I$24:$J$163,2,0)*((VLOOKUP($B27,DEFAULTS!$E$8:$G$69,3,FALSE)*DEFAULTS!$B$72)/(DEFAULTS!$B$73*DEFAULTS!$B$74*DEFAULTS!$B$56))*(VLOOKUP($B27,DEFAULTS!$E$8:$F$69,2,FALSE)/10^6*(1/(RESULTS!$D$5/100))),0)","v":0},{"$f":"IF($E$3>0,VLOOKUP($E$3,METHANE!$I$24:$J$163,2,0)*(VLOOKUP($B27,DEFAULTS!$E$8:$F$69,2,FALSE)/10^6*(1/(RESULTS!$D$5/100))),0)","v":0},{"$f":"($H27*DEFAULTS!$B$57/DEFAULTS!$B$58)","v":0},{"$f":"($H27*DEFAULTS!$B$57)","v":0},{"$f":"($G27*DEFAULTS!$B$55*DEFAULTS!$B$53/DEFAULTS!$B$54)","v":0}]
[null,"Chlorobenzene - HAP/VOC",null,null,null,null,{"$f":"IF($E$3>0,VLOOKUP($E$3,METHANE!$I$24:$J$163,2,0)*((VLOOKUP($B28,DEFAULTS!$E$8:$G$69,3,FALSE)*DEFAULTS!$B$72)/(DEFAULTS!$B$73*DEFAULTS!$B$74*DEFAULTS!$B$56))*(VLOOKUP($B28,DEFAULTS!$E$8:$F$69,2,FALSE)/10^6*(1/(RESULTS!$D$5/100))),0)","v":0},{"$f":"IF($E$3>0,VLOOKUP($E$3,METHANE!$I$24:$J$163,2,0)*(VLOOKUP($B28,DEFAULTS!$E$8:$F$69,2,FALSE)/10^6*(1/(RESULTS!$D$5/100))),0)","v":0},{"$f":"($H28*DEFAULTS!$B$57/DEFAULTS!$B$58)","v":0},{"$f":"($H28*DEFAULTS!$B$57)","v":0},{"$f":"($G28*DEFAULTS!$B$55*DEFAULTS!$B$53/DEFAULTS!$B$54)","v":0}]
[null,"Chlorodifluoromethane",null,null,null,null,{"$f":"IF($E$3>0,VLOOKUP($E$3,METHANE!$I$24:$J$163,2,0)*((VLOOKUP($B29,DEFAULTS!$E$8:$G$69,3,FALSE)*DEFAULTS!$B$72)/(DEFAULTS!$B$73*DEFAULTS!$B$74*DEFAULTS!$B$56))*(VLOOKUP($B29,DEFAULTS!$E$8:$F$69,2,FALSE)/10^6*(1/(RESULTS!$D$5/100))),0)","v":0},{"$f":"IF($E$3>0,VLOOKUP($E$3,METHANE!$I$24:$J$163,2,0)*(VLOOKUP($B29,DEFAULTS!$E$8:$F$69,2,FALSE)/10^6*(1/(RESULTS!$D$5/100))),0)","v":0},{"$f":"($H29*DEFAULTS!$B$57/DEFAULTS!$B$58)","v":0},{"$f":"($H29*DEFAULTS!$B$57)","v":0},{"$f":"($G29*DEFAULTS!$B$55*DEFAULTS!$B$53/DEFAULTS!$B$54)","v":0}]
[null,"Chloroethane (ethyl chloride) - HAP/VOC",null,null,null,null,{"$f":"IF($E$3>0,VLOOKUP($E$3,METHANE!$I$24:$J$163,2,0)*((VLOOKUP($B30,DEFAULTS!$E$8:$G$69,3,FALSE)*DEFAULTS!$B$72)/(DEFAULTS!$B$73*DEFAULTS!$B$74*DEFAULTS!$B$56))*(VLOOKUP($B30,DEFAULTS!$E$8:$F$69,2,FALSE)/10^6*(1/(RESULTS!$D$5/100))),0)","v":0},{"$f":"IF($E$3>0,VLOOKUP($E$3,METHANE!$I$24:$J$163,2,0)*(VLOOKUP($B30,DEFAULTS!$E$8:$F$69,2,FALSE)/10^6*(1/(RESULTS!$D$5/100))),0)","v":0},{"$f":"($H30*DEFAULTS!$B$57/DEFAULTS!$B$58)","v":0},{"$f":"($H30*DEFAULTS!$B$57)","v":0},{"$f":"($G30*DEFAULTS!$B$55*DEFAULTS!$B$53/DEFAULTS!$B$54)","v":0}]
[null,"Chloroform - HAP/VOC",null,null,null,null,{"$f":"IF($E$3>0,VLOOKUP($E$3,METHANE!$I$24:$J$163,2,0)*((VLOOKUP($B31,DEFAULTS!$E$8:$G$69,3,FALSE)*DEFAULTS!$B$72)/(DEFAULTS!$B$73*DEFAULTS!$B$74*DEFAULTS!$B$56))*(VLOOKUP($B31,DEFAULTS!$E$8:$F$69,2,FALSE)/10^6*(1/(RESULTS!$D$5/100))),0)","v":0},{"$f":"IF($E$3>0,VLOOKUP($E$3,METHANE!$I$24:$J$163,2,0)*(VLOOKUP($B31,DEFAULTS!$E$8:$F$69,2,FALSE)/10^6*(1/(RESULTS!$D$5/100))),0)","v":0},{"$f":"($H31*DEFAULTS!$B$57/DEFAULTS!$B$58)","v":0},{"$f":"($H31*DEFAULTS!$B$57)","v":0},{"$f":"($G31*DEFAULTS!$B$55*DEFAULTS!$B$53/DEFAULTS!$B$54)","v":0}]
[null,"Chloromethane - VOC",null,null,null,null,{"$f":"IF($E$3>0,VLOOKUP($E$3,METHANE!$I$24:$J$163,2,0)*((VLOOKUP($B32,DEFAULTS!$E$8:$G$69,3,FALSE)*DEFAULTS!$B$72)/(DEFAULTS!$B$73*DEFAULTS!$B$74*DEFAULTS!$B$56))*(VLOOKUP($B32,DEFAULTS!$E$8:$F$69,2,FALSE)/10^6*(1/(RESULTS!$D$5/100))),0)","v":0},{"$f":"IF($E$3>0,VLOOKUP($E$3,METHANE!$I$24:$J$163,2,0)*(VLOOKUP($B32,DEFAULTS!$E$8:$F$69,2,FALSE)/10^6*(1/(RESULTS!$D$5/100))),0)","v":0},{"$f":"($H32*DEFAULTS!$B$57/DEFAULTS!$B$58)","v":0},{"$f":"($H32*DEFAULTS!$B$57)","v":0},{"$f":"($G32*DEFAULTS!$B$55*DEFAULTS!$B$53/DEFAULTS!$B$54)","v":0}]
[null,"Dichlorobenzene - (HAP for para isomer/VOC)",null,null,null,null,{"$f":"IF($E$3>0,VLOOKUP($E$3,METHANE!$I$24:$J$163,2,0)*((VLOOKUP($B33,DEFAULTS!$E$8:$G$69,3,FALSE)*DEFAULTS!$B$72)/(DEFAULTS!$B$73*DEFAULTS!$B$74*DEFAULTS!$B$56))*(VLOOKUP($B33,DEFAULTS!$E$8:$F$69,2,FALSE)/10^6*(1/(RESULTS!$D$5/100))),0)","v":0},{"$f":"IF($E$3>0,VLOOKUP($E$3,METHANE!$I$24:$J$163,2,0)*(VLOOKUP($B33,DEFAULTS!$E$8:$F$69,2,FALSE)/10^6*(1/(RESULTS!$D$5/100))),0)","v":0},{"$f":"($H33*DEFAULTS!$B$57/DEFAULTS!$B$58)","v":0},{"$f":"($H33*DEFAULTS!$B$57)","v":0},{"$f":"($G33*DEFAULTS!$B$55*DEFAULTS!$B$53/DEFAULTS!$B$54)","v":0}]
[null,"Dichlorodifluoromethane",null,null,null,null,{"$f":"IF($E$3>0,VLOOKUP($E$3,METHANE!$I$24:$J$163,2,0)*((VLOOKUP($B34,DEFAULTS!$E$8:$G$69,3,FALSE)*DEFAULTS!$B$72)/(DEFAULTS!$B$73*DEFAULTS!$B$74*DEFAULTS!$B$56))*(VLOOKUP($B34,DEFAULTS!$E$8:$F$69,2,FALSE)/10^6*(1/(RESULTS!$D$5/100))),0)","v":0},{"$f":"IF($E$3>0,VLOOKUP($E$3,METHANE!$I$24:$J$163,2,0)*(VLOOKUP($B34,DEFAULTS!$E$8:$F$69,2,FALSE)/10^6*(1/(RESULTS!$D$5/100))),0)","v":0},{"$f":"($H34*DEFAULTS!$B$57/DEFAULTS!$B$58)","v":0},{"$f":"($H34*DEFAULTS!$B$57)","v":0},{"$f":"($G34*DEFAULTS!$B$55*DEFAULTS!$B$53/DEFAULTS!$B$54)","v":0}]
[null,"Dichlorofluoromethane - VOC",null,null,null,null,{"$f":"IF($E$3>0,VLOOKUP($E$3,METHANE!$I$24:$J$163,2,0)*((VLOOKUP($B35,DEFAULTS!$E$8:$G$69,3,FALSE)*DEFAULTS!$B$72)/(DEFAULTS!$B$73*DEFAULTS!$B$74*DEFAULTS!$B$56))*(VLOOKUP($B35,DEFAULTS!$E$8:$F$69,2,FALSE)/10^6*(1/(RESULTS!$D$5/100))),0)","v":0},{"$f":"IF($E$3>0,VLOOKUP($E$3,METHANE!$I$24:$J$163,2,0)*(VLOOKUP($B35,DEFAULTS!$E$8:$F$69,2,FALSE)/10^6*(1/(RESULTS!$D$5/100))),0)","v":0},{"$f":"($H35*DEFAULTS!$B$57/DEFAULTS!$B$58)","v":0},{"$f":"($H35*DEFAULTS!$B$57)","v":0},{"$f":"($G35*DEFAULTS!$B$55*DEFAULTS!$B$53/DEFAULTS!$B$54)","v":0}]
[null,"Dichloromethane (methylene chloride) - HAP",null,null,null,null,{"$f":"IF($E$3>0,VLOOKUP($E$3,METHANE!$I$24:$J$163,2,0)*((VLOOKUP($B36,DEFAULTS!$E$8:$G$69,3,FALSE)*DEFAULTS!$B$72)/(DEFAULTS!$B$73*DEFAULTS!$B$74*DEFAULTS!$B$56))*(VLOOKUP($B36,DEFAULTS!$E$8:$F$69,2,FALSE)/10^6*(1/(RESULTS!$D$5/100))),0)","v":0},{"$f":"IF($E$3>0,VLOOKUP($E$3,METHANE!$I$24:$J$163,2,0)*(VLOOKUP($B36,DEFAULTS!$E$8:$F$69,2,FALSE)/10^6*(1/(RESULTS!$D$5/100))),0)","v":0},{"$f":"($H36*DEFAULTS!$B$57/DEFAULTS!$B$58)","v":0},{"$f":"($H36*DEFAULTS!$B$57)","v":0},{"$f":"($G36*DEFAULTS!$B$55*DEFAULTS!$B$53/DEFAULTS!$B$54)","v":0}]
[null,"Dimethyl sulfide (methyl sulfide) - VOC",null,null,null,null,{"$f":"IF($E$3>0,VLOOKUP($E$3,METHANE!$I$24:$J$163,2,0)*((VLOOKUP($B37,DEFAULTS!$E$8:$G$69,3,FALSE)*DEFAULTS!$B$72)/(DEFAULTS!$B$73*DEFAULTS!$B$74*DEFAULTS!$B$56))*(VLOOKUP($B37,DEFAULTS!$E$8:$F$69,2,FALSE)/10^6*(1/(RESULTS!$D$5/100))),0)","v":0},{"$f":"IF($E$3>0,VLOOKUP($E$3,METHANE!$I$24:$J$163,2,0)*(VLOOKUP($B37,DEFAULTS!$E$8:$F$69,2,FALSE)/10^6*(1/(RESULTS!$D$5/100))),0)","v":0},{"$f":"($H37*DEFAULTS!$B$57/DEFAULTS!$B$58)","v":0},{"$f":"($H37*DEFAULTS!$B$57)","v":0},{"$f":"($G37*DEFAULTS!$B$55*DEFAULTS!$B$53/DEFAULTS!$B$54)","v":0}]
[null,"Ethane",null,null,null,null,{"$f":"IF($E$3>0,VLOOKUP($E$3,METHANE!$I$24:$J$163,2,0)*((VLOOKUP($B38,DEFAULTS!$E$8:$G$69,3,FALSE)*DEFAULTS!$B$72)/(DEFAULTS!$B$73*DEFAULTS!$B$74*DEFAULTS!$B$56))*(VLOOKUP($B38,DEFAULTS!$E$8:$F$69,2,FALSE)/10^6*(1/(RESULTS!$D$5/100))),0)","v":0},{"$f":"IF($E$3>0,VLOOKUP($E$3,METHANE!$I$24:$J$163,2,0)*(VLOOKUP($B38,DEFAULTS!$E$8:$F$69,2,FALSE)/10^6*(1/(RESULTS!$D$5/100))),0)","v":0},{"$f":"($H38*DEFAULTS!$B$57/DEFAULTS!$B$58)","v":0},{"$f":"($H38*DEFAULTS!$B$57)","v":0},{"$f":"($G38*DEFAULTS!$B$55*DEFAULTS!$B$53/DEFAULTS!$B$54)","v":0}]
[null,"Ethanol - VOC",null,null,null,null,{"$f":"IF($E$3>0,VLOOKUP($E$3,METHANE!$I$24:$J$163,2,0)*((VLOOKUP($B39,DEFAULTS!$E$8:$G$69,3,FALSE)*DEFAULTS!$B$72)/(DEFAULTS!$B$73*DEFAULTS!$B$74*DEFAULTS!$B$56))*(VLOOKUP($B39,DEFAULTS!$E$8:$F$69,2,FALSE)/10^6*(1/(RESULTS!$D$5/100))),0)","v":0},{"$f":"IF($E$3>0,VLOOKUP($E$3,METHANE!$I$24:$J$163,2,0)*(VLOOKUP($B39,DEFAULTS!$E$8:$F$69,2,FALSE)/10^6*(1/(RESULTS!$D$5/100))),0)","v":0},{"$f":"($H39*DEFAULTS!$B$57/DEFAULTS!$B$58)","v":0},{"$f":"($H39*DEFAULTS!$B$57)","v":0},{"$f":"($G39*DEFAULTS!$B$55*DEFAULTS!$B$53/DEFAULTS!$B$54)","v":0}]
[null,"Ethyl mercaptan (ethanethiol) - VOC",null,null,null,null,{"$f":"IF($E$3>0,VLOOKUP($E$3,METHANE!$I$24:$J$163,2,0)*((VLOOKUP($B40,DEFAULTS!$E$8:$G$69,3,FALSE)*DEFAULTS!$B$72)/(DEFAULTS!$B$73*DEFAULTS!$B$74*DEFAULTS!$B$56))*(VLOOKUP($B40,DEFAULTS!$E$8:$F$69,2,FALSE)/10^6*(1/(RESULTS!$D$5/100))),0)","v":0},{"$f":"IF($E$3>0,VLOOKUP($E$3,METHANE!$I$24:$J$163,2,0)*(VLOOKUP($B40,DEFAULTS!$E$8:$F$69,2,FALSE)/10^6*(1/(RESULTS!$D$5/100))),0)","v":0},{"$f":"($H40*DEFAULTS!$B$57/DEFAULTS!$B$58)","v":0},{"$f":"($H40*DEFAULTS!$B$57)","v":0},{"$f":"($G40*DEFAULTS!$B$55*DEFAULTS!$B$53/DEFAULTS!$B$54)","v":0}]
[null,"Ethylbenzene - HAP/VOC",null,null,null,null,{"$f":"IF($E$3>0,VLOOKUP($E$3,METHANE!$I$24:$J$163,2,0)*((VLOOKUP($B41,DEFAULTS!$E$8:$G$69,3,FALSE)*DEFAULTS!$B$72)/(DEFAULTS!$B$73*DEFAULTS!$B$74*DEFAULTS!$B$56))*(VLOOKUP($B41,DEFAULTS!$E$8:$F$69,2,FALSE)/10^6*(1/(RESULTS!$D$5/100))),0)","v":0},{"$f":"IF($E$3>0,VLOOKUP($E$3,METHANE!$I$24:$J$163,2,0)*(VLOOKUP($B41,DEFAULTS!$E$8:$F$69,2,FALSE)/10^6*(1/(RESULTS!$D$5/100))),0)","v":0},{"$f":"($H41*DEFAULTS!$B$57/DEFAULTS!$B$58)","v":0},{"$f":"($H41*DEFAULTS!$B$57)","v":0},{"$f":"($G41*DEFAULTS!$B$55*DEFAULTS!$B$53/DEFAULTS!$B$54)","v":0}]
[null,"Ethylene dibromide - HAP/VOC",null,null,null,null,{"$f":"IF($E$3>0,VLOOKUP($E$3,METHANE!$I$24:$J$163,2,0)*((VLOOKUP($B42,DEFAULTS!$E$8:$G$69,3,FALSE)*DEFAULTS!$B$72)/(DEFAULTS!$B$73*DEFAULTS!$B$74*DEFAULTS!$B$56))*(VLOOKUP($B42,DEFAULTS!$E$8:$F$69,2,FALSE)/10^6*(1/(RESULTS!$D$5/100))),0)","v":0},{"$f":"IF($E$3>0,VLOOKUP($E$3,METHANE!$I$24:$J$163,2,0)*(VLOOKUP($B42,DEFAULTS!$E$8:$F$69,2,FALSE)/10^6*(1/(RESULTS!$D$5/100))),0)","v":0},{"$f":"($H42*DEFAULTS!$B$57/DEFAULTS!$B$58)","v":0},{"$f":"($H42*DEFAULTS!$B$57)","v":0},{"$f":"($G42*DEFAULTS!$B$55*DEFAULTS!$B$53/DEFAULTS!$B$54)","v":0}]
[null,"Fluorotrichloromethane - VOC",null,null,null,null,{"$f":"IF($E$3>0,VLOOKUP($E$3,METHANE!$I$24:$J$163,2,0)*((VLOOKUP($B43,DEFAULTS!$E$8:$G$69,3,FALSE)*DEFAULTS!$B$72)/(DEFAULTS!$B$73*DEFAULTS!$B$74*DEFAULTS!$B$56))*(VLOOKUP($B43,DEFAULTS!$E$8:$F$69,2,FALSE)/10^6*(1/(RESULTS!$D$5/100))),0)","v":0},{"$f":"IF($E$3>0,VLOOKUP($E$3,METHANE!$I$24:$J$163,2,0)*(VLOOKUP($B43,DEFAULTS!$E$8:$F$69,2,FALSE)/10^6*(1/(RESULTS!$D$5/100))),0)","v":0},{"$f":"($H43*DEFAULTS!$B$57/DEFAULTS!$B$58)","v":0},{"$f":"($H43*DEFAULTS!$B$57)","v":0},{"$f":"($G43*DEFAULTS!$B$55*DEFAULTS!$B$53/DEFAULTS!$B$54)","v":0}]
[null,"Hexane - HAP/VOC",null,null,null,null,{"$f":"IF($E$3>0,VLOOKUP($E$3,METHANE!$I$24:$J$163,2,0)*((VLOOKUP($B44,DEFAULTS!$E$8:$G$69,3,FALSE)*DEFAULTS!$B$72)/(DEFAULTS!$B$73*DEFAULTS!$B$74*DEFAULTS!$B$56))*(VLOOKUP($B44,DEFAULTS!$E$8:$F$69,2,FALSE)/10^6*(1/(RESULTS!$D$5/100))),0)","v":0},{"$f":"IF($E$3>0,VLOOKUP($E$3,METHANE!$I$24:$J$163,2,0)*(VLOOKUP($B44,DEFAULTS!$E$8:$F$69,2,FALSE)/10^6*(1/(RESULTS!$D$5/100))),0)","v":0},{"$f":"($H44*DEFAULTS!$B$57/DEFAULTS!$B$58)","v":0},{"$f":"($H44*DEFAULTS!$B$57)","v":0},{"$f":"($G44*DEFAULTS!$B$55*DEFAULTS!$B$53/DEFAULTS!$B$54)","v":0}]
[null,"Hydrogen sulfide",null,null,null,null,{"$f":"IF($E$3>0,VLOOKUP($E$3,METHANE!$I$24:$J$163,2,0)*((VLOOKUP($B45,DEFAULTS!$E$8:$G$69,3,FALSE)*DEFAULTS!$B$72)/(DEFAULTS!$B$73*DEFAULTS!$B$74*DEFAULTS!$B$56))*(VLOOKUP($B45,DEFAULTS!$E$8:$F$69,2,FALSE)/10^6*(1/(RESULTS!$D$5/100))),0)","v":0},{"$f":"IF($E$3>0,VLOOKUP($E$3,METHANE!$I$24:$J$163,2,0)*(VLOOKUP($B45,DEFAULTS!$E$8:$F$69,2,FALSE)/10^6*(1/(RESULTS!$D$5/100))),0)","v":0},{"$f":"($H45*DEFAULTS!$B$57/DEFAULTS!$B$58)","v":0},{"$f":"($H45*DEFAULTS!$B$57)","v":0},{"$f":"($G45*DEFAULTS!$B$55*DEFAULTS!$B$53/DEFAULTS!$B$54)","v":0}]
[null,"Mercury (total) - HAP",null,null,null,null,{"$f":"IF($E$3>0,VLOOKUP($E$3,METHANE!$I$24:$J$163,2,0)*((VLOOKUP($B46,DEFAULTS!$E$8:$G$69,3,FALSE)*DEFAULTS!$B$72)/(DEFAULTS!$B$73*DEFAULTS!$B$74*DEFAULTS!$B$56))*(VLOOKUP($B46,DEFAULTS!$E$8:$F$69,2,FALSE)/10^6*(1/(RESULTS!$D$5/100))),0)","v":0},{"$f":"IF($E$3>0,VLOOKUP($E$3,METHANE!$I$24:$J$163,2,0)*(VLOOKUP($B46,DEFAULTS!$E$8:$F$69,2,FALSE)/10^6*(1/(RESULTS!$D$5/100))),0)","v":0},{"$f":"($H46*DEFAULTS!$B$57/DEFAULTS!$B$58)","v":0},{"$f":"($H46*DEFAULTS!$B$57)","v":0},{"$f":"($G46*DEFAULTS!$B$55*DEFAULTS!$B$53/DEFAULTS!$B$54)","v":0}]
[null,"Methyl ethyl ketone - HAP/VOC",null,null,null,null,{"$f":"IF($E$3>0,VLOOKUP($E$3,METHANE!$I$24:$J$163,2,0)*((VLOOKUP($B47,DEFAULTS!$E$8:$G$69,3,FALSE)*DEFAULTS!$B$72)/(DEFAULTS!$B$73*DEFAULTS!$B$74*DEFAULTS!$B$56))*(VLOOKUP($B47,DEFAULTS!$E$8:$F$69,2,FALSE)/10^6*(1/(RESULTS!$D$5/100))),0)","v":0},{"$f":"IF($E$3>0,VLOOKUP($E$3,METHANE!$I$24:$J$163,2,0)*(VLOOKUP($B47,DEFAULTS!$E$8:$F$69,2,FALSE)/10^6*(1/(RESULTS!$D$5/100))),0)","v":0},{"$f":"($H47*DEFAULTS!$B$57/DEFAULTS!$B$58)","v":0},{"$f":"($H47*DEFAULTS!$B$57)","v":0},{"$f":"($G47*DEFAULTS!$B$55*DEFAULTS!$B$53/DEFAULTS!$B$54)","v":0}]
[null,"Methyl isobutyl ketone - HAP/VOC",null,null,null,null,{"$f":"IF($E$3>0,VLOOKUP($E$3,METHANE!$I$24:$J$163,2,0)*((VLOOKUP($B48,DEFAULTS!$E$8:$G$69,3,FALSE)*DEFAULTS!$B$72)/(DEFAULTS!$B$73*DEFAULTS!$B$74*DEFAULTS!$B$56))*(VLOOKUP($B48,DEFAULTS!$E$8:$F$69,2,FALSE)/10^6*(1/(RESULTS!$D$5/100))),0)","v":0},{"$f":"IF($E$3>0,VLOOKUP($E$3,METHANE!$I$24:$J$163,2,0)*(VLOOKUP($B48,DEFAULTS!$E$8:$F$69,2,FALSE)/10^6*(1/(RESULTS!$D$5/100))),0)","v":0},{"$f":"($H48*DEFAULTS!$B$57/DEFAULTS!$B$58)","v":0},{"$f":"($H48*DEFAULTS!$B$57)","v":0},{"$f":"($G48*DEFAULTS!$B$55*DEFAULTS!$B$53/DEFAULTS!$B$54)","v":0}]
[null,"Methyl mercaptan - VOC",null,null,null,null,{"$f":"IF($E$3>0,VLOOKUP($E$3,METHANE!$I$24:$J$163,2,0)*((VLOOKUP($B49,DEFAULTS!$E$8:$G$69,3,FALSE)*DEFAULTS!$B$72)/(DEFAULTS!$B$73*DEFAULTS!$B$74*DEFAULTS!$B$56))*(VLOOKUP($B49,DEFAULTS!$E$8:$F$69,2,FALSE)/10^6*(1/(RESULTS!$D$5/100))),0)","v":0},{"$f":"IF($E$3>0,VLOOKUP($E$3,METHANE!$I$24:$J$163,2,0)*(VLOOKUP($B49,DEFAULTS!$E$8:$F$69,2,FALSE)/10^6*(1/(RESULTS!$D$5/100))),0)","v":0},{"$f":"($H49*DEFAULTS!$B$57/DEFAULTS!$B$58)","v":0},{"$f":"($H49*DEFAULTS!$B$57)","v":0},{"$f":"($G49*DEFAULTS!$B$55*DEFAULTS!$B$53/DEFAULTS!$B$54)","v":0}]
[null,"Pentane - VOC",null,null,null,null,{"$f":"IF($E$3>0,VLOOKUP($E$3,METHANE!$I$24:$J$163,2,0)*((VLOOKUP($B50,DEFAULTS!$E$8:$G$69,3,FALSE)*DEFAULTS!$B$72)/(DEFAULTS!$B$73*DEFAULTS!$B$74*DEFAULTS!$B$56))*(VLOOKUP($B50,DEFAULTS!$E$8:$F$69,2,FALSE)/10^6*(1/(RESULTS!$D$5/100))),0)","v":0},{"$f":"IF($E$3>0,VLOOKUP($E$3,METHANE!$I$24:$J$163,2,0)*(VLOOKUP($B50,DEFAULTS!$E$8:$F$69,2,FALSE)/10^6*(1/(RESULTS!$D$5/100))),0)","v":0},{"$f":"($H50*DEFAULTS!$B$57/DEFAULTS!$B$58)","v":0},{"$f":"($H50*DEFAULTS!$B$57)","v":0},{"$f":"($G50*DEFAULTS!$B$55*DEFAULTS!$B$53/DEFAULTS!$B$54)","v":0}]
[null,"Perchloroethylene (tetrachloroethylene) - HAP",null,null,null,null,{"$f":"IF($E$3>0,VLOOKUP($E$3,METHANE!$I$24:$J$163,2,0)*((VLOOKUP($B51,DEFAULTS!$E$8:$G$69,3,FALSE)*DEFAULTS!$B$72)/(DEFAULTS!$B$73*DEFAULTS!$B$74*DEFAULTS!$B$56))*(VLOOKUP($B51,DEFAULTS!$E$8:$F$69,2,FALSE)/10^6*(1/(RESULTS!$D$5/100))),0)","v":0},{"$f":"IF($E$3>0,VLOOKUP($E$3,METHANE!$I$24:$J$163,2,0)*(VLOOKUP($B51,DEFAULTS!$E$8:$F$69,2,FALSE)/10^6*(1/(RESULTS!$D$5/100))),0)","v":0},{"$f":"($H51*DEFAULTS!$B$57/DEFAULTS!$B$58)","v":0},{"$f":"($H51*DEFAULTS!$B$57)","v":0},{"$f":"($G51*DEFAULTS!$B$55*DEFAULTS!$B$53/DEFAULTS!$B$54)","v":0}]
[null,"Propane - VOC",null,null,null,null,{"$f":"IF($E$3>0,VLOOKUP($E$3,METHANE!$I$24:$J$163,2,0)*((VLOOKUP($B52,DEFAULTS!$E$8:$G$69,3,FALSE)*DEFAULTS!$B$72)/(DEFAULTS!$B$73*DEFAULTS!$B$74*DEFAULTS!$B$56))*(VLOOKUP($B52,DEFAULTS!$E$8:$F$69,2,FALSE)/10^6*(1/(RESULTS!$D$5/100))),0)","v":0},{"$f":"IF($E$3>0,VLOOKUP($E$3,METHANE!$I$24:$J$163,2,0)*(VLOOKUP($B52,DEFAULTS!$E$8:$F$69,2,FALSE)/10^6*(1/(RESULTS!$D$5/100))),0)","v":0},{"$f":"($H52*DEFAULTS!$B$57/DEFAULTS!$B$58)","v":0},{"$f":"($H52*DEFAULTS!$B$57)","v":0},{"$f":"($G52*DEFAULTS!$B$55*DEFAULTS!$B$53/DEFAULTS!$B$54)","v":0}]
[null,"t-1,2-Dichloroethene - VOC",null,null,null,null,{"$f":"IF($E$3>0,VLOOKUP($E$3,METHANE!$I$24:$J$163,2,0)*((VLOOKUP($B53,DEFAULTS!$E$8:$G$69,3,FALSE)*DEFAULTS!$B$72)/(DEFAULTS!$B$73*DEFAULTS!$B$74*DEFAULTS!$B$56))*(VLOOKUP($B53,DEFAULTS!$E$8:$F$69,2,FALSE)/10^6*(1/(RESULTS!$D$5/100))),0)","v":0},{"$f":"IF($E$3>0,VLOOKUP($E$3,METHANE!$I$24:$J$163,2,0)*(VLOOKUP($B53,DEFAULTS!$E$8:$F$69,2,FALSE)/10^6*(1/(RESULTS!$D$5/100))),0)","v":0},{"$f":"($H53*DEFAULTS!$B$57/DEFAULTS!$B$58)","v":0},{"$f":"($H53*DEFAULTS!$B$57)","v":0},{"$f":"($G53*DEFAULTS!$B$55*DEFAULTS!$B$53/DEFAULTS!$B$54)","v":0}]
[null,"Toluene - No or Unknown Co-disposal - HAP/VOC",null,null,null,null,{"$f":"IF($E$3>0,VLOOKUP($E$3,METHANE!$I$24:$J$163,2,0)*((VLOOKUP($B54,DEFAULTS!$E$8:$G$69,3,FALSE)*DEFAULTS!$B$72)/(DEFAULTS!$B$73*DEFAULTS!$B$74*DEFAULTS!$B$56))*(VLOOKUP($B54,DEFAULTS!$E$8:$F$69,2,FALSE)/10^6*(1/(RESULTS!$D$5/100))),0)","v":0},{"$f":"IF($E$3>0,VLOOKUP($E$3,METHANE!$I$24:$J$163,2,0)*(VLOOKUP($B54,DEFAULTS!$E$8:$F$69,2,FALSE)/10^6*(1/(RESULTS!$D$5/100))),0)","v":0},{"$f":"($H54*DEFAULTS!$B$57/DEFAULTS!$B$58)","v":0},{"$f":"($H54*DEFAULTS!$B$57)","v":0},{"$f":"($G54*DEFAULTS!$B$55*DEFAULTS!$B$53/DEFAULTS!$B$54)","v":0}]
[null,"Toluene - Co-disposal - HAP/VOC",null,null,null,null,{"$f":"IF($E$3>0,VLOOKUP($E$3,METHANE!$I$24:$J$163,2,0)*((VLOOKUP($B55,DEFAULTS!$E$8:$G$69,3,FALSE)*DEFAULTS!$B$72)/(DEFAULTS!$B$73*DEFAULTS!$B$74*DEFAULTS!$B$56))*(VLOOKUP($B55,DEFAULTS!$E$8:$F$69,2,FALSE)/10^6*(1/(RESULTS!$D$5/100))),0)","v":0},{"$f":"IF($E$3>0,VLOOKUP($E$3,METHANE!$I$24:$J$163,2,0)*(VLOOKUP($B55,DEFAULTS!$E$8:$F$69,2,FALSE)/10^6*(1/(RESULTS!$D$5/100))),0)","v":0},{"$f":"($H55*DEFAULTS!$B$57/DEFAULTS!$B$58)","v":0},{"$f":"($H55*DEFAULTS!$B$57)","v":0},{"$f":"($G55*DEFAULTS!$B$55*DEFAULTS!$B$53/DEFAULTS!$B$54)","v":0}]
[null,"Trichloroethylene (trichloroethene) - HAP/VOC",null,null,null,null,{"$f":"IF($E$3>0,VLOOKUP($E$3,METHANE!$I$24:$J$163,2,0)*((VLOOKUP($B56,DEFAULTS!$E$8:$G$69,3,FALSE)*DEFAULTS!$B$72)/(DEFAULTS!$B$73*DEFAULTS!$B$74*DEFAULTS!$B$56))*(VLOOKUP($B56,DEFAULTS!$E$8:$F$69,2,FALSE)/10^6*(1/(RESULTS!$D$5/100))),0)","v":0},{"$f":"IF($E$3>0,VLOOKUP($E$3,METHANE!$I$24:$J$163,2,0)*(VLOOKUP($B56,DEFAULTS!$E$8:$F$69,2,FALSE)/10^6*(1/(RESULTS!$D$5/100))),0)","v":0},{"$f":"($H56*DEFAULTS!$B$57/DEFAULTS!$B$58)","v":0},{"$f":"($H56*DEFAULTS!$B$57)","v":0},{"$f":"($G56*DEFAULTS!$B$55*DEFAULTS!$B$53/DEFAULTS!$B$54)","v":0}]
[null,"Vinyl chloride - HAP/VOC",null,null,null,null,{"$f":"IF($E$3>0,VLOOKUP($E$3,METHANE!$I$24:$J$163,2,0)*((VLOOKUP($B57,DEFAULTS!$E$8:$G$69,3,FALSE)*DEFAULTS!$B$72)/(DEFAULTS!$B$73*DEFAULTS!$B$74*DEFAULTS!$B$56))*(VLOOKUP($B57,DEFAULTS!$E$8:$F$69,2,FALSE)/10^6*(1/(RESULTS!$D$5/100))),0)","v":0},{"$f":"IF($E$3>0,VLOOKUP($E$3,METHANE!$I$24:$J$163,2,0)*(VLOOKUP($B57,DEFAULTS!$E$8:$F$69,2,FALSE)/10^6*(1/(RESULTS!$D$5/100))),0)","v":0},{"$f":"($H57*DEFAULTS!$B$57/DEFAULTS!$B$58)","v":0},{"$f":"($H57*DEFAULTS!$B$57)","v":0},{"$f":"($G57*DEFAULTS!$B$55*DEFAULTS!$B$53/DEFAULTS!$B$54)","v":0}]
[null,"Xylenes - HAP/VOC",null,null,null,null,{"$f":"IF($E$3>0,VLOOKUP($E$3,METHANE!$I$24:$J$163,2,0)*((VLOOKUP($B58,DEFAULTS!$E$8:$G$69,3,FALSE)*DEFAULTS!$B$72)/(DEFAULTS!$B$73*DEFAULTS!$B$74*DEFAULTS!$B$56))*(VLOOKUP($B58,DEFAULTS!$E$8:$F$69,2,FALSE)/10^6*(1/(RESULTS!$D$5/100))),0)","v":0},{"$f":"IF($E$3>0,VLOOKUP($E$3,METHANE!$I$24:$J$163,2,0)*(VLOOKUP($B58,DEFAULTS!$E$8:$F$69,2,FALSE)/10^6*(1/(RESULTS!$D$5/100))),0)","v":0},{"$f":"($H58*DEFAULTS!$B$57/DEFAULTS!$B$58)","v":0},{"$f":"($H58*DEFAULTS!$B$57)","v":0},{"$f":"($G58*DEFAULTS!$B$55*DEFAULTS!$B$53/DEFAULTS!$B$54)","v":0}]
[null,{"$f":"IF(DEFAULTS!E60=\"\",\"\",DEFAULTS!E60)","v":""},null,null,null,null,{"$f":"IF(ISERROR(IF($E$3>0,VLOOKUP($E$3,METHANE!$I$24:$J$163,2,0)*((VLOOKUP($B59,DEFAULTS!$E$8:$G$69,3,FALSE)*DEFAULTS!$B$72)/(DEFAULTS!$B$73*DEFAULTS!$B$74*DEFAULTS!$B$56))*(VLOOKUP($B59,DEFAULTS!$E$8:$F$69,2,FALSE)/10^6*(1/(RESULTS!$D$5/100))),0)),\"\",IF($E$3>0,VLOOKUP($E$3,METHANE!$I$24:$J$163,2,0)*((VLOOKUP($B59,DEFAULTS!$E$8:$G$69,3,FALSE)*DEFAULTS!$B$72)/(DEFAULTS!$B$73*DEFAULTS!$B$74*DEFAULTS!$B$56))*(VLOOKUP($B59,DEFAULTS!$E$8:$F$69,2,FALSE)/10^6*(1/(RESULTS!$D$5/100))),0))","v":0},{"$f":"IF(ISERROR(IF($E$3>0,VLOOKUP($E$3,METHANE!$I$24:$J$163,2,0)*(VLOOKUP($B59,DEFAULTS!$E$8:$F$69,2,FALSE)/10^6*(1/(RESULTS!$D$5/100))),0)),\"\",IF($E$3>0,VLOOKUP($E$3,METHANE!$I$24:$J$163,2,0)*(VLOOKUP($B59,DEFAULTS!$E$8:$F$69,2,FALSE)/10^4*(1/RESULTS!$D$5)),0))","v":0},{"$f":"IF(ISERROR(($H59*DEFAULTS!$B$57/DEFAULTS!$B$58)),\"\",($H59*DEFAULTS!$B$57/DEFAULTS!$B$58))","v":0},{"$f":"IF(ISERROR(($H59*DEFAULTS!$B$57)),\"\",($H59*DEFAULTS!$B$57))","v":0},{"$f":"IF(ISERROR(($G59*DEFAULTS!$B$55*DEFAULTS!$B$53/DEFAULTS!$B$54)),\"\",($G59*DEFAULTS!$B$55*DEFAULTS!$B$53/DEFAULTS!$B$54))","v":0}]
[null,{"$f":"IF(DEFAULTS!E61=\"\",\"\",DEFAULTS!E61)","v":""},null,null,null,null,{"$f":"IF(ISERROR(IF($E$3>0,VLOOKUP($E$3,METHANE!$I$24:$J$163,2,0)*((VLOOKUP($B60,DEFAULTS!$E$8:$G$69,3,FALSE)*DEFAULTS!$B$72)/(DEFAULTS!$B$73*DEFAULTS!$B$74*DEFAULTS!$B$56))*(VLOOKUP($B60,DEFAULTS!$E$8:$F$69,2,FALSE)/10^6*(1/(RESULTS!$D$5/100))),0)),\"\",IF($E$3>0,VLOOKUP($E$3,METHANE!$I$24:$J$163,2,0)*((VLOOKUP($B60,DEFAULTS!$E$8:$G$69,3,FALSE)*DEFAULTS!$B$72)/(DEFAULTS!$B$73*DEFAULTS!$B$74*DEFAULTS!$B$56))*(VLOOKUP($B60,DEFAULTS!$E$8:$F$69,2,FALSE)/10^6*(1/(RESULTS!$D$5/100))),0))","v":0},{"$f":"IF(ISERROR(IF($E$3>0,VLOOKUP($E$3,METHANE!$I$24:$J$163,2,0)*(VLOOKUP($B60,DEFAULTS!$E$8:$F$69,2,FALSE)/10^6*(1/(RESULTS!$D$5/100))),0)),\"\",IF($E$3>0,VLOOKUP($E$3,METHANE!$I$24:$J$163,2,0)*(VLOOKUP($B60,DEFAULTS!$E$8:$F$69,2,FALSE)/10^4*(1/RESULTS!$D$5)),0))","v":0},{"$f":"IF(ISERROR(($H60*DEFAULTS!$B$57/DEFAULTS!$B$58)),\"\",($H60*DEFAULTS!$B$57/DEFAULTS!$B$58))","v":0},{"$f":"IF(ISERROR(($H60*DEFAULTS!$B$57)),\"\",($H60*DEFAULTS!$B$57))","v":0},{"$f":"IF(ISERROR(($G60*DEFAULTS!$B$55*DEFAULTS!$B$53/DEFAULTS!$B$54)),\"\",($G60*DEFAULTS!$B$55*DEFAULTS!$B$53/DEFAULTS!$B$54))","v":0}]
[null,{"$f":"IF(DEFAULTS!E62=\"\",\"\",DEFAULTS!E62)","v":""},null,null,null,null,{"$f":"IF(ISERROR(IF($E$3>0,VLOOKUP($E$3,METHANE!$I$24:$J$163,2,0)*((VLOOKUP($B61,DEFAULTS!$E$8:$G$69,3,FALSE)*DEFAULTS!$B$72)/(DEFAULTS!$B$73*DEFAULTS!$B$74*DEFAULTS!$B$56))*(VLOOKUP($B61,DEFAULTS!$E$8:$F$69,2,FALSE)/10^6*(1/(RESULTS!$D$5/100))),0)),\"\",IF($E$3>0,VLOOKUP($E$3,METHANE!$I$24:$J$163,2,0)*((VLOOKUP($B61,DEFAULTS!$E$8:$G$69,3,FALSE)*DEFAULTS!$B$72)/(DEFAULTS!$B$73*DEFAULTS!$B$74*DEFAULTS!$B$56))*(VLOOKUP($B61,DEFAULTS!$E$8:$F$69,2,FALSE)/10^6*(1/(RESULTS!$D$5/100))),0))","v":0},{"$f":"IF(ISERROR(IF($E$3>0,VLOOKUP($E$3,METHANE!$I$24:$J$163,2,0)*(VLOOKUP($B61,DEFAULTS!$E$8:$F$69,2,FALSE)/10^6*(1/(RESULTS!$D$5/100))),0)),\"\",IF($E$3>0,VLOOKUP($E$3,METHANE!$I$24:$J$163,2,0)*(VLOOKUP($B61,DEFAULTS!$E$8:$F$69,2,FALSE)/10^4*(1/RESULTS!$D$5)),0))","v":0},{"$f":"IF(ISERROR(($H61*DEFAULTS!$B$57/DEFAULTS!$B$58)),\"\",($H61*DEFAULTS!$B$57/DEFAULTS!$B$58))","v":0},{"$f":"IF(ISERROR(($H61*DEFAULTS!$B$57)),\"\",($H61*DEFAULTS!$B$57))","v":0},{"$f":"IF(ISERROR(($G61*DEFAULTS!$B$55*DEFAULTS!$B$53/DEFAULTS!$B$54)),\"\",($G61*DEFAULTS!$B$55*DEFAULTS!$B$53/DEFAULTS!$B$54))","v":0}]
[null,{"$f":"IF(DEFAULTS!E63=\"\",\"\",DEFAULTS!E63)","v":""},null,null,null,null,{"$f":"IF(ISERROR(IF($E$3>0,VLOOKUP($E$3,METHANE!$I$24:$J$163,2,0)*((VLOOKUP($B62,DEFAULTS!$E$8:$G$69,3,FALSE)*DEFAULTS!$B$72)/(DEFAULTS!$B$73*DEFAULTS!$B$74*DEFAULTS!$B$56))*(VLOOKUP($B62,DEFAULTS!$E$8:$F$69,2,FALSE)/10^6*(1/(RESULTS!$D$5/100))),0)),\"\",IF($E$3>0,VLOOKUP($E$3,METHANE!$I$24:$J$163,2,0)*((VLOOKUP($B62,DEFAULTS!$E$8:$G$69,3,FALSE)*DEFAULTS!$B$72)/(DEFAULTS!$B$73*DEFAULTS!$B$74*DEFAULTS!$B$56))*(VLOOKUP($B62,DEFAULTS!$E$8:$F$69,2,FALSE)/10^6*(1/(RESULTS!$D$5/100))),0))","v":0},{"$f":"IF(ISERROR(IF($E$3>0,VLOOKUP($E$3,METHANE!$I$24:$J$163,2,0)*(VLOOKUP($B62,DEFAULTS!$E$8:$F$69,2,FALSE)/10^6*(1/(RESULTS!$D$5/100))),0)),\"\",IF($E$3>0,VLOOKUP($E$3,METHANE!$I$24:$J$163,2,0)*(VLOOKUP($B62,DEFAULTS!$E$8:$F$69,2,FALSE)/10^4*(1/RESULTS!$D$5)),0))","v":0},{"$f":"IF(ISERROR(($H62*DEFAULTS!$B$57/DEFAULTS!$B$58)),\"\",($H62*DEFAULTS!$B$57/DEFAULTS!$B$58))","v":0},{"$f":"IF(ISERROR(($H62*DEFAULTS!$B$57)),\"\",($H62*DEFAULTS!$B$57))","v":0},{"$f":"IF(ISERROR(($G62*DEFAULTS!$B$55*DEFAULTS!$B$53/DEFAULTS!$B$54)),\"\",($G62*DEFAULTS!$B$55*DEFAULTS!$B$53/DEFAULTS!$B$54))","v":0}]
[null,{"$f":"IF(DEFAULTS!E64=\"\",\"\",DEFAULTS!E64)","v":""},null,null,null,null,{"$f":"IF(ISERROR(IF($E$3>0,VLOOKUP($E$3,METHANE!$I$24:$J$163,2,0)*((VLOOKUP($B63,DEFAULTS!$E$8:$G$69,3,FALSE)*DEFAULTS!$B$72)/(DEFAULTS!$B$73*DEFAULTS!$B$74*DEFAULTS!$B$56))*(VLOOKUP($B63,DEFAULTS!$E$8:$F$69,2,FALSE)/10^6*(1/(RESULTS!$D$5/100))),0)),\"\",IF($E$3>0,VLOOKUP($E$3,METHANE!$I$24:$J$163,2,0)*((VLOOKUP($B63,DEFAULTS!$E$8:$G$69,3,FALSE)*DEFAULTS!$B$72)/(DEFAULTS!$B$73*DEFAULTS!$B$74*DEFAULTS!$B$56))*(VLOOKUP($B63,DEFAULTS!$E$8:$F$69,2,FALSE)/10^6*(1/(RESULTS!$D$5/100))),0))","v":0},{"$f":"IF(ISERROR(IF($E$3>0,VLOOKUP($E$3,METHANE!$I$24:$J$163,2,0)*(VLOOKUP($B63,DEFAULTS!$E$8:$F$69,2,FALSE)/10^6*(1/(RESULTS!$D$5/100))),0)),\"\",IF($E$3>0,VLOOKUP($E$3,METHANE!$I$24:$J$163,2,0)*(VLOOKUP($B63,DEFAULTS!$E$8:$F$69,2,FALSE)/10^4*(1/RESULTS!$D$5)),0))","v":0},{"$f":"IF(ISERROR(($H63*DEFAULTS!$B$57/DEFAULTS!$B$58)),\"\",($H63*DEFAULTS!$B$57/DEFAULTS!$B$58))","v":0},{"$f":"IF(ISERROR(($H63*DEFAULTS!$B$57)),\"\",($H63*DEFAULTS!$B$57))","v":0},{"$f":"IF(ISERROR(($G63*DEFAULTS!$B$55*DEFAULTS!$B$53/DEFAULTS!$B$54)),\"\",($G63*DEFAULTS!$B$55*DEFAULTS!$B$53/DEFAULTS!$B$54))","v":0}]
[null,{"$f":"IF(DEFAULTS!E65=\"\",\"\",DEFAULTS!E65)","v":""},null,null,null,null,{"$f":"IF(ISERROR(IF($E$3>0,VLOOKUP($E$3,METHANE!$I$24:$J$163,2,0)*((VLOOKUP($B64,DEFAULTS!$E$8:$G$69,3,FALSE)*DEFAULTS!$B$72)/(DEFAULTS!$B$73*DEFAULTS!$B$74*DEFAULTS!$B$56))*(VLOOKUP($B64,DEFAULTS!$E$8:$F$69,2,FALSE)/10^6*(1/(RESULTS!$D$5/100))),0)),\"\",IF($E$3>0,VLOOKUP($E$3,METHANE!$I$24:$J$163,2,0)*((VLOOKUP($B64,DEFAULTS!$E$8:$G$69,3,FALSE)*DEFAULTS!$B$72)/(DEFAULTS!$B$73*DEFAULTS!$B$74*DEFAULTS!$B$56))*(VLOOKUP($B64,DEFAULTS!$E$8:$F$69,2,FALSE)/10^6*(1/(RESULTS!$D$5/100))),0))","v":0},{"$f":"IF(ISERROR(IF($E$3>0,VLOOKUP($E$3,METHANE!$I$24:$J$163,2,0)*(VLOOKUP($B64,DEFAULTS!$E$8:$F$69,2,FALSE)/10^6*(1/(RESULTS!$D$5/100))),0)),\"\",IF($E$3>0,VLOOKUP($E$3,METHANE!$I$24:$J$163,2,0)*(VLOOKUP($B64,DEFAULTS!$E$8:$F$69,2,FALSE)/10^4*(1/RESULTS!$D$5)),0))","v":0},{"$f":"IF(ISERROR(($H64*DEFAULTS!$B$57/DEFAULTS!$B$58)),\"\",($H64*DEFAULTS!$B$57/DEFAULTS!$B$58))","v":0},{"$f":"IF(ISERROR(($H64*DEFAULTS!$B$57)),\"\",($H64*DEFAULTS!$B$57))","v":0},{"$f":"IF(ISERROR(($G64*DEFAULTS!$B$55*DEFAULTS!$B$53/DEFAULTS!$B$54)),\"\",($G64*DEFAULTS!$B$55*DEFAULTS!$B$53/DEFAULTS!$B$54))","v":0}]
[null,{"$f":"IF(DEFAULTS!E66=\"\",\"\",DEFAULTS!E66)","v":""},null,null,null,null,{"$f":"IF(ISERROR(IF($E$3>0,VLOOKUP($E$3,METHANE!$I$24:$J$163,2,0)*((VLOOKUP($B65,DEFAULTS!$E$8:$G$69,3,FALSE)*DEFAULTS!$B$72)/(DEFAULTS!$B$73*DEFAULTS!$B$74*DEFAULTS!$B$56))*(VLOOKUP($B65,DEFAULTS!$E$8:$F$69,2,FALSE)/10^6*(1/(RESULTS!$D$5/100))),0)),\"\",IF($E$3>0,VLOOKUP($E$3,METHANE!$I$24:$J$163,2,0)*((VLOOKUP($B65,DEFAULTS!$E$8:$G$69,3,FALSE)*DEFAULTS!$B$72)/(DEFAULTS!$B$73*DEFAULTS!$B$74*DEFAULTS!$B$56))*(VLOOKUP($B65,DEFAULTS!$E$8:$F$69,2,FALSE)/10^6*(1/(RESULTS!$D$5/100))),0))","v":0},{"$f":"IF(ISERROR(IF($E$3>0,VLOOKUP($E$3,METHANE!$I$24:$J$163,2,0)*(VLOOKUP($B65,DEFAULTS!$E$8:$F$69,2,FALSE)/10^6*(1/(RESULTS!$D$5/100))),0)),\"\",IF($E$3>0,VLOOKUP($E$3,METHANE!$I$24:$J$163,2,0)*(VLOOKUP($B65,DEFAULTS!$E$8:$F$69,2,FALSE)/10^4*(1/RESULTS!$D$5)),0))","v":0},{"$f":"IF(ISERROR(($H65*DEFAULTS!$B$57/DEFAULTS!$B$58)),\"\",($H65*DEFAULTS!$B$57/DEFAULTS!$B$58))","v":0},{"$f":"IF(ISERROR(($H65*DEFAULTS!$B$57)),\"\",($H65*DEFAULTS!$B$57))","v":0},{"$f":"IF(ISERROR(($G65*DEFAULTS!$B$55*DEFAULTS!$B$53/DEFAULTS!$B$54)),\"\",($G65*DEFAULTS!$B$55*DEFAULTS!$B$53/DEFAULTS!$B$54))","v":0}]
[null,{"$f":"IF(DEFAULTS!E67=\"\",\"\",DEFAULTS!E67)","v":""},null,null,null,null,{"$f":"IF(ISERROR(IF($E$3>0,VLOOKUP($E$3,METHANE!$I$24:$J$163,2,0)*((VLOOKUP($B66,DEFAULTS!$E$8:$G$69,3,FALSE)*DEFAULTS!$B$72)/(DEFAULTS!$B$73*DEFAULTS!$B$74*DEFAULTS!$B$56))*(VLOOKUP($B66,DEFAULTS!$E$8:$F$69,2,FALSE)/10^6*(1/(RESULTS!$D$5/100))),0)),\"\",IF($E$3>0,VLOOKUP($E$3,METHANE!$I$24:$J$163,2,0)*((VLOOKUP($B66,DEFAULTS!$E$8:$G$69,3,FALSE)*DEFAULTS!$B$72)/(DEFAULTS!$B$73*DEFAULTS!$B$74*DEFAULTS!$B$56))*(VLOOKUP($B66,DEFAULTS!$E$8:$F$69,2,FALSE)/10^6*(1/(RESULTS!$D$5/100))),0))","v":0},{"$f":"IF(ISERROR(IF($E$3>0,VLOOKUP($E$3,METHANE!$I$24:$J$163,2,0)*(VLOOKUP($B66,DEFAULTS!$E$8:$F$69,2,FALSE)/10^6*(1/(RESULTS!$D$5/100))),0)),\"\",IF($E$3>0,VLOOKUP($E$3,METHANE!$I$24:$J$163,2,0)*(VLOOKUP($B66,DEFAULTS!$E$8:$F$69,2,FALSE)/10^4*(1/RESULTS!$D$5)),0))","v":0},{"$f":"IF(ISERROR(($H66*DEFAULTS!$B$57/DEFAULTS!$B$58)),\"\",($H66*DEFAULTS!$B$57/DEFAULTS!$B$58))","v":0},{"$f":"IF(ISERROR(($H66*DEFAULTS!$B$57)),\"\",($H66*DEFAULTS!$B$57))","v":0},{"$f":"IF(ISERROR(($G66*DEFAULTS!$B$55*DEFAULTS!$B$53/DEFAULTS!$B$54)),\"\",($G66*DEFAULTS!$B$55*DEFAULTS!$B$53/DEFAULTS!$B$54))","v":0}]
[null,{"$f":"IF(DEFAULTS!E68=\"\",\"\",DEFAULTS!E68)","v":""},null,null,null,null,{"$f":"IF(ISERROR(IF($E$3>0,VLOOKUP($E$3,METHANE!$I$24:$J$163,2,0)*((VLOOKUP($B67,DEFAULTS!$E$8:$G$69,3,FALSE)*DEFAULTS!$B$72)/(DEFAULTS!$B$73*DEFAULTS!$B$74*DEFAULTS!$B$56))*(VLOOKUP($B67,DEFAULTS!$E$8:$F$69,2,FALSE)/10^6*(1/(RESULTS!$D$5/100))),0)),\"\",IF($E$3>0,VLOOKUP($E$3,METHANE!$I$24:$J$163,2,0)*((VLOOKUP($B67,DEFAULTS!$E$8:$G$69,3,FALSE)*DEFAULTS!$B$72)/(DEFAULTS!$B$73*DEFAULTS!$B$74*DEFAULTS!$B$56))*(VLOOKUP($B67,DEFAULTS!$E$8:$F$69,2,FALSE)/10^6*(1/(RESULTS!$D$5/100))),0))","v":0},{"$f":"IF(ISERROR(IF($E$3>0,VLOOKUP($E$3,METHANE!$I$24:$J$163,2,0)*(VLOOKUP($B67,DEFAULTS!$E$8:$F$69,2,FALSE)/10^6*(1/(RESULTS!$D$5/100))),0)),\"\",IF($E$3>0,VLOOKUP($E$3,METHANE!$I$24:$J$163,2,0)*(VLOOKUP($B67,DEFAULTS!$E$8:$F$69,2,FALSE)/10^4*(1/RESULTS!$D$5)),0))","v":0},{"$f":"IF(ISERROR(($H67*DEFAULTS!$B$57/DEFAULTS!$B$58)),\"\",($H67*DEFAULTS!$B$57/DEFAULTS!$B$58))","v":0},{"$f":"IF(ISERROR(($H67*DEFAULTS!$B$57)),\"\",($H67*DEFAULTS!$B$57))","v":0},{"$f":"IF(ISERROR(($G67*DEFAULTS!$B$55*DEFAULTS!$B$53/DEFAULTS!$B$54)),\"\",($G67*DEFAULTS!$B$55*DEFAULTS!$B$53/DEFAULTS!$B$54))","v":0}]
[null,{"$f":"IF(DEFAULTS!E69=\"\",\"\",DEFAULTS!E69)","v":""},null,null,null,null,{"$f":"IF(ISERROR(IF($E$3>0,VLOOKUP($E$3,METHANE!$I$24:$J$163,2,0)*((VLOOKUP($B68,DEFAULTS!$E$8:$G$69,3,FALSE)*DEFAULTS!$B$72)/(DEFAULTS!$B$73*DEFAULTS!$B$74*DEFAULTS!$B$56))*(VLOOKUP($B68,DEFAULTS!$E$8:$F$69,2,FALSE)/10^6*(1/(RESULTS!$D$5/100))),0)),\"\",IF($E$3>0,VLOOKUP($E$3,METHANE!$I$24:$J$163,2,0)*((VLOOKUP($B68,DEFAULTS!$E$8:$G$69,3,FALSE)*DEFAULTS!$B$72)/(DEFAULTS!$B$73*DEFAULTS!$B$74*DEFAULTS!$B$56))*(VLOOKUP($B68,DEFAULTS!$E$8:$F$69,2,FALSE)/10^6*(1/(RESULTS!$D$5/100))),0))","v":0},{"$f":"IF(ISERROR(IF($E$3>0,VLOOKUP($E$3,METHANE!$I$24:$J$163,2,0)*(VLOOKUP($B68,DEFAULTS!$E$8:$F$69,2,FALSE)/10^6*(1/(RESULTS!$D$5/100))),0)),\"\",IF($E$3>0,VLOOKUP($E$3,METHANE!$I$24:$J$163,2,0)*(VLOOKUP($B68,DEFAULTS!$E$8:$F$69,2,FALSE)/10^4*(1/RESULTS!$D$5)),0))","v":0},{"$f":"IF(ISERROR(($H68*DEFAULTS!$B$57/DEFAULTS!$B$58)),\"\",($H68*DEFAULTS!$B$57/DEFAULTS!$B$58))","v":0},{"$f":"IF(ISERROR(($H68*DEFAULTS!$B$57)),\"\",($H68*DEFAULTS!$B$57))","v":0},{"$f":"IF(ISERROR(($G68*DEFAULTS!$B$55*DEFAULTS!$B$53/DEFAULTS!$B$54)),\"\",($G68*DEFAULTS!$B$55*DEFAULTS!$B$53/DEFAULTS!$B$54))","v":0}]

{"sheet":"REPORT","index":8,"n_rows":631,"n_cols":7,"rows_kept":631,"cut":false,"hidden":false,"merged":[[589,4,589,6],[476,1,476,3],[317,0,318,0],[132,0,133,0],[132,1,132,2],[589,0,590,0],[589,1,589,3],[373,1,373,3],[181,0,184,0],[29,3,29,4],[51,0,55,6],[317,1,317,3],[87,0,88,0],[87,1,87,2],[87,3,87,4],[31,0,31,2],[46,4,47,6],[57,0,62,6],[32,0,37,6],[178,1,178,3],[217,4,218,5],[218,1,218,3],[185,0,213,0],[221,0,249,0],[177,4,178,5],[66,4,70,6],[532,1,532,3],[132,3,132,4],[430,0,431,0],[39,0,39,2],[532,0,533,0],[430,1,430,3],[430,4,430,6],[317,4,317,6],[373,0,374,0],[373,4,373,6],[476,4,476,6],[532,4,532,6]]}
[]
[]
[]
[]
[]
[]
[]
[]
[]
[]
[]
[]
[]
[]
[]
[]
[]
[]
[]
[]
[]
[]
[]
[]
[]
["Summary Report"]
[]
[null,null,"Landfill Name or Identifier: ",{"$f":"IF('USER INPUTS'!$E$1=\"\",\"\",'USER INPUTS'!$E$1)","v":""}]
[]
[null,null,"Date: ",{"$f":"TODAY()","v":"2020-05-05"}]
[]
["Description/Comments:"]
[{"$f":"'INPUT REVIEW'!$B$23","v":""}]
[]
[]
[]
[]
[]
[]
["About LandGEM:"]
[]
[{"$f":"METHANE!A3","v":"First-Order Decomposition Rate Equation:"}]
[]
[{"$f":"METHANE!A4","v":"Where,"}]
["QCH4 = annual methane generation in the year of the calculation (m3/year)"]
["i = 1-year time increment",null,null,null,"Mi = mass of waste accepted in the ith year (Mg) "]
["n = (year of the calculation) - (initial year of waste acceptance)",null,null,null,"tij = age of the jth section of waste mass Mi accepted in the ith year (decimal years, e.g., 3.2 years)"]
["j = 0.1-year time increment"]
["k = methane generation rate (year-1)"]
["L0 = potential methane generation capacity (m3/Mg)"]
[]
["LandGEM is based on a first-order decomposition rate equation for quantifying emissions from the decomposition of landfilled waste in municipal solid waste (MSW) landfills. The software provides a relatively simple approach to estimating landfill gas emissions. Model defaults are based on empirical data from U.S. landfills. Field test data can also be used in place of model defaults when available. Further guidance on EPA test methods, Clean Air Act (CAA) regulations, and other guidance regarding landfill gas emissions and control technology requirements can be found at http://www.epa.gov/ttnatw01/landfill/landflpg.html."]
[]
[]
[]
[]
[]
["LandGEM is considered a screening tool — the better the input data, the better the estimates. Often, there are limitations with the available data regarding waste quantity and composition, variation in design and operating practices over time, and changes occurring over time that impact the emissions potential. Changes to landfill operation, such as operating under wet conditions through leachate recirculation or other liquid additions, will result in generating more gas at a faster rate. Defaults for estimating emissions for this type of operation are being developed to include in LandGEM along with defaults for convential landfills (no leachate or liquid additions) for developing emission inventories and determining CAA applicability. Refer to the Web site identified above for future updates.  "]
[]
[]
[]
[]
[]
[]
[]
["Input Review"]
[null,null,null,null,{"$f":"METHANE!F14","v":""}]
["LANDFILL CHARACTERISTICS"]
["Landfill Open Year",null,null,{"$f":"'INPUT REVIEW'!$F$4","v":""}]
["Landfill Closure Year (with 80-year limit)",null,null,{"$f":"'INPUT REVIEW'!$F$5","v":""}]
["Actual Closure Year (without limit)",null,null,{"$f":"'INPUT REVIEW'!$F$6","v":""}]
["Have Model Calculate Closure Year?",null,null,{"$f":"'INPUT REVIEW'!$F$7","v":"No"}]
["Waste Design Capacity",null,null,{"$f":"'INPUT REVIEW'!$F$8","v":""},{"$f":"'USER INPUTS'!$E$8","v":"megagrams"}]
[]
["MODEL PARAMETERS"]
["Methane Generation Rate, k",null,null,{"$f":"'INPUT REVIEW'!$F$11","v":0.05},"year-1"]
["Potential Methane Generation Capacity, L0",null,null,{"$f":"'INPUT REVIEW'!$F$12","v":170},"m3/Mg"]
["NMOC Concentration",null,null,{"$f":"'INPUT REVIEW'!$F$13","v":600},"ppmv as hexane"]
["Methane Content",null,null,{"$f":"'INPUT REVIEW'!$F$14","v":50},"% by volume"]
[]
["GASES / POLLUTANTS SELECTED"]
["Gas / Pollutant #1:",null,{"$f":"'INPUT REVIEW'!$D$17","v":"Total landfill gas"}]
["Gas / Pollutant #2:",null,{"$f":"'INPUT REVIEW'!$D$18","v":"Methane"}]
["Gas / Pollutant #3:",null,{"$f":"'INPUT REVIEW'!$D$19","v":"Carbon dioxide"}]
["Gas / Pollutant #4:",null,{"$f":"'INPUT REVIEW'!$D$20","v":"NMOC"}]
[]
["WASTE ACCEPTANCE RATES"]
["Year","Waste Accepted",null,"Waste-In-Place"]
[null,"(Mg/year)","(short tons/year)","(Mg)","(short tons)"]
[{"$f":"RESULTS!A9","v":0},{"$f":"'INPUT REVIEW'!L5","v":0},{"$f":"'INPUT REVIEW'!M5","v":0},{"$f":"RESULTS!D9","v":0},{"$f":"RESULTS!E9","v":0}]
[{"$f":"RESULTS!A10","v":1},{"$f":"'INPUT REVIEW'!L6","v":0},{"$f":"'INPUT REVIEW'!M6","v":0},{"$f":"RESULTS!D10","v":0},{"$f":"RESULTS!E10","v":0}]
[{"$f":"RESULTS!A11","v":2},{"$f":"'INPUT REVIEW'!L7","v":0},{"$f":"'INPUT REVIEW'!M7","v":0},{"$f":"RESULTS!D11","v":0},{"$f":"RESULTS!E11","v":0}]
[{"$f":"RESULTS!A12","v":3},{"$f":"'INPUT REVIEW'!L8","v":0},{"$f":"'INPUT REVIEW'!M8","v":0},{"$f":"RESULTS!D12","v":0},{"$f":"RESULTS!E12","v":0}]
[{"$f":"RESULTS!A13","v":4},{"$f":"'INPUT REVIEW'!L9","v":0},{"$f":"'INPUT REVIEW'!M9","v":0},{"$f":"RESULTS!D13","v":0},{"$f":"RESULTS!E13","v":0}]
[{"$f":"RESULTS!A14","v":5},{"$f":"'INPUT REVIEW'!L10","v":0},{"$f":"'INPUT REVIEW'!M10","v":0},{"$f":"RESULTS!D14","v":0},{"$f":"RESULTS!E14","v":0}]
[{"$f":"RESULTS!A15","v":6},{"$f":"'INPUT REVIEW'!L11","v":0},{"$f":"'INPUT REVIEW'!M11","v":0},{"$f":"RESULTS!D15","v":0},{"$f":"RESULTS!E15","v":0}]
[{"$f":"RESULTS!A16","v":7},{"$f":"'INPUT REVIEW'!L12","v":0},{"$f":"'INPUT REVIEW'!M12","v":0},{"$f":"RESULTS!D16","v":0},{"$f":"RESULTS!E16","v":0}]
[{"$f":"RESULTS!A17","v":8},{"$f":"'INPUT REVIEW'!L13","v":0},{"$f":"'INPUT REVIEW'!M13","v":0},{"$f":"RESULTS!D17","v":0},{"$f":"RESULTS!E17","v":0}]
[{"$f":"RESULTS!A18","v":9},{"$f":"'INPUT REVIEW'!L14","v":0},{"$f":"'INPUT REVIEW'!M14","v":0},{"$f":"RESULTS!D18","v":0},{"$f":"RESULTS!E18","v":0}]
[{"$f":"RESULTS!A19","v":10},{"$f":"'INPUT REVIEW'!L15","v":0},{"$f":"'INPUT REVIEW'!M15","v":0},{"$f":"RESULTS!D19","v":0},{"$f":"RESULTS!E19","v":0}]
[{"$f":"RESULTS!A20","v":11},{"$f":"'INPUT REVIEW'!L16","v":0},{"$f":"'INPUT REVIEW'!M16","v":0},{"$f":"RESULTS!D20","v":0},{"$f":"RESULTS!E20","v":0}]
[{"$f":"RESULTS!A21","v":12},{"$f":"'INPUT REVIEW'!L17","v":0},{"$f":"'INPUT REVIEW'!M17","v":0},{"$f":"RESULTS!D21","v":0},{"$f":"RESULTS!E21","v":0}]
[{"$f":"RESULTS!A22","v":13},{"$f":"'INPUT REVIEW'!L18","v":0},{"$f":"'INPUT REVIEW'!M18","v":0},{"$f":"RESULTS!D22","v":0},{"$f":"RESULTS!E22","v":0}]
[{"$f":"RESULTS!A23","v":14},{"$f":"'INPUT REVIEW'!L19","v":0},{"$f":"'INPUT REVIEW'!M19","v":0},{"$f":"RESULTS!D23","v":0},{"$f":"RESULTS!E23","v":0}]
[{"$f":"RESULTS!A24","v":15},{"$f":"'INPUT REVIEW'!L20","v":0},{"$f":"'INPUT REVIEW'!M20","v":0},{"$f":"RESULTS!D24","v":0},{"$f":"RESULTS!E24","v":0}]
[{"$f":"RESULTS!A25","v":16},{"$f":"'INPUT REVIEW'!L21","v":0},{"$f":"'INPUT REVIEW'!M21","v":0},{"$f":"RESULTS!D25","v":0},{"$f":"RESULTS!E25","v":0}]
[{"$f":"RESULTS!A26","v":17},{"$f":"'INPUT REVIEW'!L22","v":0},{"$f":"'INPUT REVIEW'!M22","v":0},{"$f":"RESULTS!D26","v":0},{"$f":"RESULTS!E26","v":0}]
[{"$f":"RESULTS!A27","v":18},{"$f":"'INPUT REVIEW'!L23","v":0},{"$f":"'INPUT REVIEW'!M23","v":0},{"$f":"RESULTS!D27","v":0},{"$f":"RESULTS!E27","v":0}]
[{"$f":"RESULTS!A28","v":19},{"$f":"'INPUT REVIEW'!L24","v":0},{"$f":"'INPUT REVIEW'!M24","v":0},{"$f":"RESULTS!D28","v":0},{"$f":"RESULTS!E28","v":0}]
[{"$f":"RESULTS!A29","v":20},{"$f":"'INPUT REVIEW'!L25","v":0},{"$f":"'INPUT REVIEW'!M25","v":0},{"$f":"RESULTS!D29","v":0},{"$f":"RESULTS!E29","v":0}]
[{"$f":"RESULTS!A30","v":21},{"$f":"'INPUT REVIEW'!L26","v":0},{"$f":"'INPUT REVIEW'!M26","v":0},{"$f":"RESULTS!D30","v":0},{"$f":"RESULTS!E30","v":0}]
[{"$f":"RESULTS!A31","v":22},{"$f":"'INPUT REVIEW'!L27","v":0},{"$f":"'INPUT REVIEW'!M27","v":0},{"$f":"RESULTS!D31","v":0},{"$f":"RESULTS!E31","v":0}]
[{"$f":"RESULTS!A32","v":23},{"$f":"'INPUT REVIEW'!L28","v":0},{"$f":"'INPUT REVIEW'!M28","v":0},{"$f":"RESULTS!D32","v":0},{"$f":"RESULTS!E32","v":0}]
[{"$f":"RESULTS!A33","v":24},{"$f":"'INPUT REVIEW'!L29","v":0},{"$f":"'INPUT REVIEW'!M29","v":0},{"$f":"RESULTS!D33","v":0},{"$f":"RESULTS!E33","v":0}]
[{"$f":"RESULTS!A34","v":25},{"$f":"'INPUT REVIEW'!L30","v":0},{"$f":"'INPUT REVIEW'!M30","v":0},{"$f":"RESULTS!D34","v":0},{"$f":"RESULTS!E34","v":0}]
[{"$f":"RESULTS!A35","v":26},{"$f":"'INPUT REVIEW'!L31","v":0},{"$f":"'INPUT REVIEW'!M31","v":0},{"$f":"RESULTS!D35","v":0},{"$f":"RESULTS!E35","v":0}]
[{"$f":"RESULTS!A36","v":27},{"$f":"'INPUT REVIEW'!L32","v":0},{"$f":"'INPUT REVIEW'!M32","v":0},{"$f":"RESULTS!D36","v":0},{"$f":"RESULTS!E36","v":0}]
[{"$f":"RESULTS!A37","v":28},{"$f":"'INPUT REVIEW'!L33","v":0},{"$f":"'INPUT REVIEW'!M33","v":0},{"$f":"RESULTS!D37","v":0},{"$f":"RESULTS!E37","v":0}]
[{"$f":"RESULTS!A38","v":29},{"$f":"'INPUT REVIEW'!L34","v":0},{"$f":"'INPUT REVIEW'!M34","v":0},{"$f":"RESULTS!D38","v":0},{"$f":"RESULTS!E38","v":0}]
[{"$f":"RESULTS!A39","v":30},{"$f":"'INPUT REVIEW'!L35","v":0},{"$f":"'INPUT REVIEW'!M35","v":0},{"$f":"RESULTS!D39","v":0},{"$f":"RESULTS!E39","v":0}]
[{"$f":"RESULTS!A40","v":31},{"$f":"'INPUT REVIEW'!L36","v":0},{"$f":"'INPUT REVIEW'!M36","v":0},{"$f":"RESULTS!D40","v":0},{"$f":"RESULTS!E40","v":0}]
[{"$f":"RESULTS!A41","v":32},{"$f":"'INPUT REVIEW'!L37","v":0},{"$f":"'INPUT REVIEW'!M37","v":0},{"$f":"RESULTS!D41","v":0},{"$f":"RESULTS!E41","v":0}]
[{"$f":"RESULTS!A42","v":33},{"$f":"'INPUT REVIEW'!L38","v":0},{"$f":"'INPUT REVIEW'!M38","v":0},{"$f":"RESULTS!D42","v":0},{"$f":"RESULTS!E42","v":0}]
[{"$f":"RESULTS!A43","v":34},{"$f":"'INPUT REVIEW'!L39","v":0},{"$f":"'INPUT REVIEW'!M39","v":0},{"$f":"RESULTS!D43","v":0},{"$f":"RESULTS!E43","v":0}]
[{"$f":"RESULTS!A44","v":35},{"$f":"'INPUT REVIEW'!L40","v":0},{"$f":"'INPUT REVIEW'!M40","v":0},{"$f":"RESULTS!D44","v":0},{"$f":"RESULTS!E44","v":0}]
[{"$f":"RESULTS!A45","v":36},{"$f":"'INPUT REVIEW'!L41","v":0},{"$f":"'INPUT REVIEW'!M41","v":0},{"$f":"RESULTS!D45","v":0},{"$f":"RESULTS!E45","v":0}]
[{"$f":"RESULTS!A46","v":37},{"$f":"'INPUT REVIEW'!L42","v":0},{"$f":"'INPUT REVIEW'!M42","v":0},{"$f":"RESULTS!D46","v":0},{"$f":"RESULTS!E46","v":0}]
[{"$f":"RESULTS!A47","v":38},{"$f":"'INPUT REVIEW'!L43","v":0},{"$f":"'INPUT REVIEW'!M43","v":0},{"$f":"RESULTS!D47","v":0},{"$f":"RESULTS!E47","v":0}]
[{"$f":"RESULTS!A48","v":39},{"$f":"'INPUT REVIEW'!L44","v":0},{"$f":"'INPUT REVIEW'!M44","v":0},{"$f":"RESULTS!D48","v":0},{"$f":"RESULTS!E48","v":0}]
[]
[]
["WASTE ACCEPTANCE RATES (Continued)"]
["Year","Waste Accepted",null,"Waste-In-Place"]
[null,"(Mg/year)","(short tons/year)","(Mg)","(short tons)"]
[{"$f":"RESULTS!A49","v":40},{"$f":"'INPUT REVIEW'!L45","v":0},{"$f":"'INPUT REVIEW'!M45","v":0},{"$f":"RESULTS!D49","v":0},{"$f":"RESULTS!E49","v":0}]
[{"$f":"RESULTS!A50","v":41},{"$f":"'INPUT REVIEW'!L46","v":0},{"$f":"'INPUT REVIEW'!M46","v":0},{"$f":"RESULTS!D50","v":0},{"$f":"RESULTS!E50","v":0}]
[{"$f":"RESULTS!A51","v":42},{"$f":"'INPUT REVIEW'!L47","v":0},{"$f":"'INPUT REVIEW'!M47","v":0},{"$f":"RESULTS!D51","v":0},{"$f":"RESULTS!E51","v":0}]
[{"$f":"RESULTS!A52","v":43},{"$f":"'INPUT REVIEW'!L48","v":0},{"$f":"'INPUT REVIEW'!M48","v":0},{"$f":"RESULTS!D52","v":0},{"$f":"RESULTS!E52","v":0}]
[{"$f":"RESULTS!A53","v":44},{"$f":"'INPUT REVIEW'!L49","v":0},{"$f":"'INPUT REVIEW'!M49","v":0},{"$f":"RESULTS!D53","v":0},{"$f":"RESULTS!E53","v":0}]
[{"$f":"RESULTS!A54","v":45},{"$f":"'INPUT REVIEW'!L50","v":0},{"$f":"'INPUT REVIEW'!M50","v":0},{"$f":"RESULTS!D54","v":0},{"$f":"RESULTS!E54","v":0}]
[{"$f":"RESULTS!A55","v":46},{"$f":"'INPUT REVIEW'!L51","v":0},{"$f":"'INPUT REVIEW'!M51","v":0},{"$f":"RESULTS!D55","v":0},{"$f":"RESULTS!E55","v":0}]
[{"$f":"RESULTS!A56","v":47},{"$f":"'INPUT REVIEW'!L52","v":0},{"$f":"'INPUT REVIEW'!M52","v":0},{"$f":"RESULTS!D56","v":0},{"$f":"RESULTS!E56","v":0}]
[{"$f":"RESULTS!A57","v":48},{"$f":"'INPUT REVIEW'!L53","v":0},{"$f":"'INPUT REVIEW'!M53","v":0},{"$f":"RESULTS!D57","v":0},{"$f":"RESULTS!E57","v":0}]
[{"$f":"RESULTS!A58","v":49},{"$f":"'INPUT REVIEW'!L54","v":0},{"$f":"'INPUT REVIEW'!M54","v":0},{"$f":"RESULTS!D58","v":0},{"$f":"RESULTS!E58","v":0}]
[{"$f":"RESULTS!A59","v":50},{"$f":"'INPUT REVIEW'!L55","v":0},{"$f":"'INPUT REVIEW'!M55","v":0},{"$f":"RESULTS!D59","v":0},{"$f":"RESULTS!E59","v":0}]
[{"$f":"RESULTS!A60","v":51},{"$f":"'INPUT REVIEW'!L56","v":0},{"$f":"'INPUT REVIEW'!M56","v":0},{"$f":"RESULTS!D60","v":0},{"$f":"RESULTS!E60","v":0}]
[{"$f":"RESULTS!A61","v":52},{"$f":"'INPUT REVIEW'!L57","v":0},{"$f":"'INPUT REVIEW'!M57","v":0},{"$f":"RESULTS!D61","v":0},{"$f":"RESULTS!E61","v":0}]
[{"$f":"RESULTS!A62","v":53},{"$f":"'INPUT REVIEW'!L58","v":0},{"$f":"'INPUT REVIEW'!M58","v":0},{"$f":"RESULTS!D62","v":0},{"$f":"RESULTS!E62","v":0}]
[{"$f":"RESULTS!A63","v":54},{"$f":"'INPUT REVIEW'!L59","v":0},{"$f":"'INPUT REVIEW'!M59","v":0},{"$f":"RESULTS!D63","v":0},{"$f":"RESULTS!E63","v":0}]
[{"$f":"RESULTS!A64","v":55},{"$f":"'INPUT REVIEW'!L60","v":0},{"$f":"'INPUT REVIEW'!M60","v":0},{"$f":"RESULTS!D64","v":0},{"$f":"RESULTS!E64","v":0}]
[{"$f":"RESULTS!A65","v":56},{"$f":"'INPUT REVIEW'!L61","v":0},{"$f":"'INPUT REVIEW'!M61","v":0},{"$f":"RESULTS!D65","v":0},{"$f":"RESULTS!E65","v":0}]
[{"$f":"RESULTS!A66","v":57},{"$f":"'INPUT REVIEW'!L62","v":0},{"$f":"'INPUT REVIEW'!M62","v":0},{"$f":"RESULTS!D66","v":0},{"$f":"RESULTS!E66","v":0}]
[{"$f":"RESULTS!A67","v":58},{"$f":"'INPUT REVIEW'!L63","v":0},{"$f":"'INPUT REVIEW'!M63","v":0},{"$f":"RESULTS!D67","v":0},{"$f":"RESULTS!E67","v":0}]
[{"$f":"RESULTS!A68","v":59},{"$f":"'INPUT REVIEW'!L64","v":0},{"$f":"'INPUT REVIEW'!M64","v":0},{"$f":"RESULTS!D68","v":0},{"$f":"RESULTS!E68","v":0}]
[{"$f":"RESULTS!A69","v":60},{"$f":"'INPUT REVIEW'!L65","v":0},{"$f":"'INPUT REVIEW'!M65","v":0},{"$f":"RESULTS!D69","v":0},{"$f":"RESULTS!E69","v":0}]
[{"$f":"RESULTS!A70","v":61},{"$f":"'INPUT REVIEW'!L66","v":0},{"$f":"'INPUT REVIEW'!M66","v":0},{"$f":"RESULTS!D70","v":0},{"$f":"RESULTS!E70","v":0}]
[{"$f":"RESULTS!A71","v":62},{"$f":"'INPUT REVIEW'!L67","v":0},{"$f":"'INPUT REVIEW'!M67","v":0},{"$f":"RESULTS!D71","v":0},{"$f":"RESULTS!E71","v":0}]
[{"$f":"RESULTS!A72","v":63},{"$f":"'INPUT REVIEW'!L68","v":0},{"$f":"'INPUT REVIEW'!M68","v":0},{"$f":"RESULTS!D72","v":0},{"$f":"RESULTS!E72","v":0}]
[{"$f":"RESULTS!A73","v":64},{"$f":"'INPUT REVIEW'!L69","v":0},{"$f":"'INPUT REVIEW'!M69","v":0},{"$f":"RESULTS!D73","v":0},{"$f":"RESULTS!E73","v":0}]
[{"$f":"RESULTS!A74","v":65},{"$f":"'INPUT REVIEW'!L70","v":0},{"$f":"'INPUT REVIEW'!M70","v":0},{"$f":"RESULTS!D74","v":0},{"$f":"RESULTS!E74","v":0}]
[{"$f":"RESULTS!A75","v":66},{"$f":"'INPUT REVIEW'!L71","v":0},{"$f":"'INPUT REVIEW'!M71","v":0},{"$f":"RESULTS!D75","v":0},{"$f":"RESULTS!E75","v":0}]
[{"$f":"RESULTS!A76","v":67},{"$f":"'INPUT REVIEW'!L72","v":0},{"$f":"'INPUT REVIEW'!M72","v":0},{"$f":"RESULTS!D76","v":0},{"$f":"RESULTS!E76","v":0}]
[{"$f":"RESULTS!A77","v":68},{"$f":"'INPUT REVIEW'!L73","v":0},{"$f":"'INPUT REVIEW'!M73","v":0},{"$f":"RESULTS!D77","v":0},{"$f":"RESULTS!E77","v":0}]
[{"$f":"RESULTS!A78","v":69},{"$f":"'INPUT REVIEW'!L74","v":0},{"$f":"'INPUT REVIEW'!M74","v":0},{"$f":"RESULTS!D78","v":0},{"$f":"RESULTS!E78","v":0}]
[{"$f":"RESULTS!A79","v":70},{"$f":"'INPUT REVIEW'!L75","v":0},{"$f":"'INPUT REVIEW'!M75","v":0},{"$f":"RESULTS!D79","v":0},{"$f":"RESULTS!E79","v":0}]
[{"$f":"RESULTS!A80","v":71},{"$f":"'INPUT REVIEW'!L76","v":0},{"$f":"'INPUT REVIEW'!M76","v":0},{"$f":"RESULTS!D80","v":0},{"$f":"RESULTS!E80","v":0}]
[{"$f":"RESULTS!A81","v":72},{"$f":"'INPUT REVIEW'!L77","v":0},{"$f":"'INPUT REVIEW'!M77","v":0},{"$f":"RESULTS!D81","v":0},{"$f":"RESULTS!E81","v":0}]
[{"$f":"RESULTS!A82","v":73},{"$f":"'INPUT REVIEW'!L78","v":0},{"$f":"'INPUT REVIEW'!M78","v":0},{"$f":"RESULTS!D82","v":0},{"$f":"RESULTS!E82","v":0}]
[{"$f":"RESULTS!A83","v":74},{"$f":"'INPUT REVIEW'!L79","v":0},{"$f":"'INPUT REVIEW'!M79","v":0},{"$f":"RESULTS!D83","v":0},{"$f":"RESULTS!E83","v":0}]
[{"$f":"RESULTS!A84","v":75},{"$f":"'INPUT REVIEW'!L80","v":0},{"$f":"'INPUT REVIEW'!M80","v":0},{"$f":"RESULTS!D84","v":0},{"$f":"RESULTS!E84","v":0}]
[{"$f":"RESULTS!A85","v":76},{"$f":"'INPUT REVIEW'!L81","v":0},{"$f":"'INPUT REVIEW'!M81","v":0},{"$f":"RESULTS!D85","v":0},{"$f":"RESULTS!E85","v":0}]
[{"$f":"RESULTS!A86","v":77},{"$f":"'INPUT REVIEW'!L82","v":0},{"$f":"'INPUT REVIEW'!M82","v":0},{"$f":"RESULTS!D86","v":0},{"$f":"RESULTS!E86","v":0}]
[{"$f":"RESULTS!A87","v":78},{"$f":"'INPUT REVIEW'!L83","v":0},{"$f":"'INPUT REVIEW'!M83","v":0},{"$f":"RESULTS!D87","v":0},{"$f":"RESULTS!E87","v":0}]
[{"$f":"RESULTS!A88","v":79},{"$f":"'INPUT REVIEW'!L84","v":0},{"$f":"'INPUT REVIEW'!M84","v":0},{"$f":"RESULTS!D88","v":0},{"$f":"RESULTS!E88","v":0}]
[]
[]
["Pollutant Parameters"]
[null,null,null,null,"User-specified Pollutant Parameters:"]
[null,"Gas / Pollutant Default Parameters:"]
[null,null,"Concentration",null,"Concentration"]
[null,"Compound","(ppmv)","Molecular Weight","(ppmv)","Molecular Weight"]
["Gases","Total landfill gas",null,{"$f":"DEFAULTS!G107","v":0}]
[null,"Methane",null,16.04]
[null,"Carbon dioxide",null,44.01]
[null,"NMOC",4000,86.18]
["Pollutants","1,1,1-Trichloroethane (methyl chloroform) - HAP",0.48,133.41,{"$f":"IF(POLLUTANTS!F14>0,POLLUTANTS!F14,\"\")","v":""},{"$f":"IF(POLLUTANTS!G14>0,POLLUTANTS!G14,\"\")","v":""}]
[null,"1,1,2,2-Tetrachloroethane - HAP/VOC",1.1000000000000001,167.85,{"$f":"IF(POLLUTANTS!F15>0,POLLUTANTS!F15,\"\")","v":""},{"$f":"IF(POLLUTANTS!G15>0,POLLUTANTS!G15,\"\")","v":""}]
[null,"1,1-Dichloroethane (ethylidene dichloride) - HAP/VOC",2.4,98.97,{"$f":"IF(POLLUTANTS!F16>0,POLLUTANTS!F16,\"\")","v":""},{"$f":"IF(POLLUTANTS!G16>0,POLLUTANTS!G16,\"\")","v":""}]
[null,"1,1-Dichloroethene (vinylidene chloride) - HAP/VOC",0.2,96.94,{"$f":"IF(POLLUTANTS!F17>0,POLLUTANTS!F17,\"\")","v":""},{"$f":"IF(POLLUTANTS!G17>0,POLLUTANTS!G17,\"\")","v":""}]
[null,"1,2-Dichloroethane (ethylene dichloride) - HAP/VOC",0.41,98.96,{"$f":"IF(POLLUTANTS!F18>0,POLLUTANTS!F18,\"\")","v":""},{"$f":"IF(POLLUTANTS!G18>0,POLLUTANTS!G18,\"\")","v":""}]
[null,"1,2-Dichloropropane (propylene dichloride) - HAP/VOC",0.18,112.99,{"$f":"IF(POLLUTANTS!F19>0,POLLUTANTS!F19,\"\")","v":""},{"$f":"IF(POLLUTANTS!G19>0,POLLUTANTS!G19,\"\")","v":""}]
[null,"2-Propanol (isopropyl alcohol) - VOC",50,60.11,{"$f":"IF(POLLUTANTS!F20>0,POLLUTANTS!F20,\"\")","v":""},{"$f":"IF(POLLUTANTS!G20>0,POLLUTANTS!G20,\"\")","v":""}]
[null,"Acetone",7,58.08,{"$f":"IF(POLLUTANTS!F21>0,POLLUTANTS!F21,\"\")","v":""},{"$f":"IF(POLLUTANTS!G21>0,POLLUTANTS!G21,\"\")","v":""}]
[null,"Acrylonitrile - HAP/VOC",6.3,53.06,{"$f":"IF(POLLUTANTS!F22>0,POLLUTANTS!F22,\"\")","v":""},{"$f":"IF(POLLUTANTS!G22>0,POLLUTANTS!G22,\"\")","v":""}]
[null,"Benzene - No or Unknown Co-disposal - HAP/VOC",1.9,78.11,{"$f":"IF(POLLUTANTS!F23>0,POLLUTANTS!F23,\"\")","v":""},{"$f":"IF(POLLUTANTS!G23>0,POLLUTANTS!G23,\"\")","v":""}]
[null,"Benzene - Co-disposal - HAP/VOC",11,78.11,{"$f":"IF(POLLUTANTS!F24>0,POLLUTANTS!F24,\"\")","v":""},{"$f":"IF(POLLUTANTS!G24>0,POLLUTANTS!G24,\"\")","v":""}]
[null,"Bromodichloromethane - VOC",3.1,163.83000000000001,{"$f":"IF(POLLUTANTS!F25>0,POLLUTANTS!F25,\"\")","v":""},{"$f":"IF(POLLUTANTS!G25>0,POLLUTANTS!G25,\"\")","v":""}]
[null,"Butane - VOC",5,58.12,{"$f":"IF(POLLUTANTS!F26>0,POLLUTANTS!F26,\"\")","v":""},{"$f":"IF(POLLUTANTS!G26>0,POLLUTANTS!G26,\"\")","v":""}]
[null,"Carbon disulfide - HAP/VOC",0.57999999999999996,76.13,{"$f":"IF(POLLUTANTS!F27>0,POLLUTANTS!F27,\"\")","v":""},{"$f":"IF(POLLUTANTS!G27>0,POLLUTANTS!G27,\"\")","v":""}]
[null,"Carbon monoxide",140,28.01,{"$f":"IF(POLLUTANTS!F28>0,POLLUTANTS!F28,\"\")","v":""},{"$f":"IF(POLLUTANTS!G28>0,POLLUTANTS!G28,\"\")","v":""}]
[null,"Carbon tetrachloride - HAP/VOC",4.0000000000000001E-3,153.84,{"$f":"IF(POLLUTANTS!F29>0,POLLUTANTS!F29,\"\")","v":""},{"$f":"IF(POLLUTANTS!G29>0,POLLUTANTS!G29,\"\")","v":""}]
[null,"Carbonyl sulfide - HAP/VOC",0.49,60.07,{"$f":"IF(POLLUTANTS!F30>0,POLLUTANTS!F30,\"\")","v":""},{"$f":"IF(POLLUTANTS!G30>0,POLLUTANTS!G30,\"\")","v":""}]
[null,"Chlorobenzene - HAP/VOC",0.25,112.56,{"$f":"IF(POLLUTANTS!F31>0,POLLUTANTS!F31,\"\")","v":""},{"$f":"IF(POLLUTANTS!G31>0,POLLUTANTS!G31,\"\")","v":""}]
[null,"Chlorodifluoromethane",1.3,86.47,{"$f":"IF(POLLUTANTS!F32>0,POLLUTANTS!F32,\"\")","v":""},{"$f":"IF(POLLUTANTS!G32>0,POLLUTANTS!G32,\"\")","v":""}]
[null,"Chloroethane (ethyl chloride) - HAP/VOC",1.3,64.52,{"$f":"IF(POLLUTANTS!F33>0,POLLUTANTS!F33,\"\")","v":""},{"$f":"IF(POLLUTANTS!G33>0,POLLUTANTS!G33,\"\")","v":""}]
[null,"Chloroform - HAP/VOC",0.03,119.39,{"$f":"IF(POLLUTANTS!F34>0,POLLUTANTS!F34,\"\")","v":""},{"$f":"IF(POLLUTANTS!G34>0,POLLUTANTS!G34,\"\")","v":""}]
[null,"Chloromethane - VOC",1.2,50.49,{"$f":"IF(POLLUTANTS!F35>0,POLLUTANTS!F35,\"\")","v":""},{"$f":"IF(POLLUTANTS!G35>0,POLLUTANTS!G35,\"\")","v":""}]
[null,"Dichlorobenzene - (HAP for para isomer/VOC)",0.21,147,{"$f":"IF(POLLUTANTS!F36>0,POLLUTANTS!F36,\"\")","v":""},{"$f":"IF(POLLUTANTS!G36>0,POLLUTANTS!G36,\"\")","v":""}]
[null,"Dichlorodifluoromethane",16,120.91,{"$f":"IF(POLLUTANTS!F37>0,POLLUTANTS!F37,\"\")","v":""},{"$f":"IF(POLLUTANTS!G37>0,POLLUTANTS!G37,\"\")","v":""}]
[null,"Dichlorofluoromethane - VOC",2.6,102.92,{"$f":"IF(POLLUTANTS!F38>0,POLLUTANTS!F38,\"\")","v":""},{"$f":"IF(POLLUTANTS!G38>0,POLLUTANTS!G38,\"\")","v":""}]
[null,"Dichloromethane (methylene chloride) - HAP",14,84.94,{"$f":"IF(POLLUTANTS!F39>0,POLLUTANTS!F39,\"\")","v":""},{"$f":"IF(POLLUTANTS!G39>0,POLLUTANTS!G39,\"\")","v":""}]
[null,"Dimethyl sulfide (methyl sulfide) - VOC",7.8,62.13,{"$f":"IF(POLLUTANTS!F40>0,POLLUTANTS!F40,\"\")","v":""},{"$f":"IF(POLLUTANTS!G40>0,POLLUTANTS!G40,\"\")","v":""}]
[null,"Ethane",890,30.07,{"$f":"IF(POLLUTANTS!F41>0,POLLUTANTS!F41,\"\")","v":""},{"$f":"IF(POLLUTANTS!G41>0,POLLUTANTS!G41,\"\")","v":""}]
[null,"Ethanol - VOC",27,46.08,{"$f":"IF(POLLUTANTS!F42>0,POLLUTANTS!F42,\"\")","v":""},{"$f":"IF(POLLUTANTS!G42>0,POLLUTANTS!G42,\"\")","v":""}]
[]
[]
["Pollutant Parameters (Continued)"]
[null,null,null,null,"User-specified Pollutant Parameters:"]
[null,"Gas / Pollutant Default Parameters:"]
[null,null,"Concentration",null,"Concentration"]
[null,"Compound","(ppmv)","Molecular Weight","(ppmv)","Molecular Weight"]
["Pollutants","Ethyl mercaptan (ethanethiol) - VOC",2.2999999999999998,62.13,{"$f":"IF(POLLUTANTS!F43>0,POLLUTANTS!F43,\"\")","v":""},{"$f":"IF(POLLUTANTS!G43>0,POLLUTANTS!G43,\"\")","v":""}]
[null,"Ethylbenzene - HAP/VOC",4.5999999999999996,106.16,{"$f":"IF(POLLUTANTS!F44>0,POLLUTANTS!F44,\"\")","v":""},{"$f":"IF(POLLUTANTS!G44>0,POLLUTANTS!G44,\"\")","v":""}]
[null,"Ethylene dibromide - HAP/VOC",1E-3,187.88,{"$f":"IF(POLLUTANTS!F45>0,POLLUTANTS!F45,\"\")","v":""},{"$f":"IF(POLLUTANTS!G45>0,POLLUTANTS!G45,\"\")","v":""}]
[null,"Fluorotrichloromethane - VOC",0.76,137.38,{"$f":"IF(POLLUTANTS!F46>0,POLLUTANTS!F46,\"\")","v":""},{"$f":"IF(POLLUTANTS!G46>0,POLLUTANTS!G46,\"\")","v":""}]
[null,"Hexane - HAP/VOC",6.6,86.18,{"$f":"IF(POLLUTANTS!F47>0,POLLUTANTS!F47,\"\")","v":""},{"$f":"IF(POLLUTANTS!G47>0,POLLUTANTS!G47,\"\")","v":""}]
[null,"Hydrogen sulfide",36,34.08,{"$f":"IF(POLLUTANTS!F48>0,POLLUTANTS!F48,\"\")","v":""},{"$f":"IF(POLLUTANTS!G48>0,POLLUTANTS!G48,\"\")","v":""}]
[null,"Mercury (total) - HAP",2.9E-4,200.61,{"$f":"IF(POLLUTANTS!F49>0,POLLUTANTS!F49,\"\")","v":""},{"$f":"IF(POLLUTANTS!G49>0,POLLUTANTS!G49,\"\")","v":""}]
[null,"Methyl ethyl ketone - HAP/VOC",7.1,72.11,{"$f":"IF(POLLUTANTS!F50>0,POLLUTANTS!F50,\"\")","v":""},{"$f":"IF(POLLUTANTS!G50>0,POLLUTANTS!G50,\"\")","v":""}]
[null,"Methyl isobutyl ketone - HAP/VOC",1.9,100.16,{"$f":"IF(POLLUTANTS!F51>0,POLLUTANTS!F51,\"\")","v":""},{"$f":"IF(POLLUTANTS!G51>0,POLLUTANTS!G51,\"\")","v":""}]
[null,"Methyl mercaptan - VOC",2.5,48.11,{"$f":"IF(POLLUTANTS!F52>0,POLLUTANTS!F52,\"\")","v":""},{"$f":"IF(POLLUTANTS!G52>0,POLLUTANTS!G52,\"\")","v":""}]
[null,"Pentane - VOC",3.3,72.150000000000006,{"$f":"IF(POLLUTANTS!F53>0,POLLUTANTS!F53,\"\")","v":""},{"$f":"IF(POLLUTANTS!G53>0,POLLUTANTS!G53,\"\")","v":""}]
[null,"Perchloroethylene (tetrachloroethylene) - HAP",3.7,165.83,{"$f":"IF(POLLUTANTS!F54>0,POLLUTANTS!F54,\"\")","v":""},{"$f":"IF(POLLUTANTS!G54>0,POLLUTANTS!G54,\"\")","v":""}]
[null,"Propane - VOC",11,44.09,{"$f":"IF(POLLUTANTS!F55>0,POLLUTANTS!F55,\"\")","v":""},{"$f":"IF(POLLUTANTS!G55>0,POLLUTANTS!G55,\"\")","v":""}]
[null,"t-1,2-Dichloroethene - VOC",2.8,96.94,{"$f":"IF(POLLUTANTS!F56>0,POLLUTANTS!F56,\"\")","v":""},{"$f":"IF(POLLUTANTS!G56>0,POLLUTANTS!G56,\"\")","v":""}]
[null,"Toluene - No or Unknown Co-disposal - HAP/VOC",39,92.13,{"$f":"IF(POLLUTANTS!F57>0,POLLUTANTS!F57,\"\")","v":""},{"$f":"IF(POLLUTANTS!G57>0,POLLUTANTS!G57,\"\")","v":""}]
[null,"Toluene - Co-disposal - HAP/VOC",170,92.13,{"$f":"IF(POLLUTANTS!F58>0,POLLUTANTS!F58,\"\")","v":""},{"$f":"IF(POLLUTANTS!G58>0,POLLUTANTS!G58,\"\")","v":""}]
[null,"Trichloroethylene (trichloroethene) - HAP/VOC",2.8,131.4,{"$f":"IF(POLLUTANTS!F59>0,POLLUTANTS!F59,\"\")","v":""},{"$f":"IF(POLLUTANTS!G59>0,POLLUTANTS!G59,\"\")","v":""}]
[null,"Vinyl chloride - HAP/VOC",7.3,62.5,{"$f":"IF(POLLUTANTS!F60>0,POLLUTANTS!F60,\"\")","v":""},{"$f":"IF(POLLUTANTS!G60>0,POLLUTANTS!G60,\"\")","v":""}]
[null,"Xylenes - HAP/VOC",12,106.16,{"$f":"IF(POLLUTANTS!F61>0,POLLUTANTS!F61,\"\")","v":""},{"$f":"IF(POLLUTANTS!G61>0,POLLUTANTS!G61,\"\")","v":""}]
[null,{"$f":"IF(POLLUTANTS!B64=\"\",\"\",POLLUTANTS!B64)","v":""},null,null,{"$f":"IF(POLLUTANTS!C64>0,POLLUTANTS!C64,\"\")","v":""},{"$f":"IF(POLLUTANTS!D64>0,POLLUTANTS!D64,\"\")","v":""}]
[null,{"$f":"IF(POLLUTANTS!B65=\"\",\"\",POLLUTANTS!B65)","v":""},null,null,{"$f":"IF(POLLUTANTS!C65>0,POLLUTANTS!C65,\"\")","v":""},{"$f":"IF(POLLUTANTS!D65>0,POLLUTANTS!D65,\"\")","v":""}]
[null,{"$f":"IF(POLLUTANTS!B66=\"\",\"\",POLLUTANTS!B66)","v":""},null,null,{"$f":"IF(POLLUTANTS!C66>0,POLLUTANTS!C66,\"\")","v":""},{"$f":"IF(POLLUTANTS!D66>0,POLLUTANTS!D66,\"\")","v":""}]
[null,{"$f":"IF(POLLUTANTS!B67=\"\",\"\",POLLUTANTS!B67)","v":""},null,null,{"$f":"IF(POLLUTANTS!C67>0,POLLUTANTS!C67,\"\")","v":""},{"$f":"IF(POLLUTANTS!D67>0,POLLUTANTS!D67,\"\")","v":""}]
[null,{"$f":"IF(POLLUTANTS!B68=\"\",\"\",POLLUTANTS!B68)","v":""},null,null,{"$f":"IF(POLLUTANTS!C68>0,POLLUTANTS!C68,\"\")","v":""},{"$f":"IF(POLLUTANTS!D68>0,POLLUTANTS!D68,\"\")","v":""}]
[null,{"$f":"IF(POLLUTANTS!B69=\"\",\"\",POLLUTANTS!B69)","v":""},null,null,{"$f":"IF(POLLUTANTS!C69>0,POLLUTANTS!C69,\"\")","v":""},{"$f":"IF(POLLUTANTS!D69>0,POLLUTANTS!D69,\"\")","v":""}]
[null,{"$f":"IF(POLLUTANTS!B70=\"\",\"\",POLLUTANTS!B70)","v":""},null,null,{"$f":"IF(POLLUTANTS!C70>0,POLLUTANTS!C70,\"\")","v":""},{"$f":"IF(POLLUTANTS!D70>0,POLLUTANTS!D70,\"\")","v":""}]
[null,{"$f":"IF(POLLUTANTS!B71=\"\",\"\",POLLUTANTS!B71)","v":""},null,null,{"$f":"IF(POLLUTANTS!C71>0,POLLUTANTS!C71,\"\")","v":""},{"$f":"IF(POLLUTANTS!D71>0,POLLUTANTS!D71,\"\")","v":""}]
[null,{"$f":"IF(POLLUTANTS!B72=\"\",\"\",POLLUTANTS!B72)","v":""},null,null,{"$f":"IF(POLLUTANTS!C72>0,POLLUTANTS!C72,\"\")","v":""},{"$f":"IF(POLLUTANTS!D72>0,POLLUTANTS!D72,\"\")","v":""}]
[null,{"$f":"IF(POLLUTANTS!B73=\"\",\"\",POLLUTANTS!B73)","v":""},null,null,{"$f":"IF(POLLUTANTS!C73>0,POLLUTANTS!C73,\"\")","v":""},{"$f":"IF(POLLUTANTS!D73>0,POLLUTANTS!D73,\"\")","v":""}]
[]
[]
["Graphs"]
[]
[]
[]
[]
[]
[]
[]
[]
[]
[]
[]
[]
[]
[]
[]
[]
[]
[]
[]
[]
[]
[]
[]
[]
[]
[]
[]
[]
[]
[]
[]
[]
[]
[]
[]
[]
[]
[]
[]
[]
[]
[]
[]
[]
[]
[]
[]
[]
[]
[]
[]
[]
[]
[]
[]
[]
[]
[]
[]
[]
[]
[]
["Results"]
[]
["Year",{"$f":"RESULTS!$F$7","v":"Total landfill gas"},null,null,{"$f":"RESULTS!$I$7","v":"Methane"}]
[null,"(Mg/year)","(m3/year)",{"$f":"RESULTS!$H$8","v":"(av ft^3/min)"},"(Mg/year)","(m3/year)",{"$f":"RESULTS!$H$8","v":"(av ft^3/min)"}]
[{"$f":"RESULTS!A9","v":0},{"$f":"RESULTS!F9","v":0},{"$f":"RESULTS!G9","v":0},{"$f":"RESULTS!H9","v":0},{"$f":"RESULTS!I9","v":0},{"$f":"RESULTS!J9","v":0},{"$f":"RESULTS!K9","v":0}]
[{"$f":"RESULTS!A10","v":1},{"$f":"RESULTS!F10","v":0},{"$f":"RESULTS!G10","v":0},{"$f":"RESULTS!H10","v":0},{"$f":"RESULTS!I10","v":0},{"$f":"RESULTS!J10","v":0},{"$f":"RESULTS!K10","v":0}]
[{"$f":"RESULTS!A11","v":2},{"$f":"RESULTS!F11","v":0},{"$f":"RESULTS!G11","v":0},{"$f":"RESULTS!H11","v":0},{"$f":"RESULTS!I11","v":0},{"$f":"RESULTS!J11","v":0},{"$f":"RESULTS!K11","v":0}]
[{"$f":"RESULTS!A12","v":3},{"$f":"RESULTS!F12","v":0},{"$f":"RESULTS!G12","v":0},{"$f":"RESULTS!H12","v":0},{"$f":"RESULTS!I12","v":0},{"$f":"RESULTS!J12","v":0},{"$f":"RESULTS!K12","v":0}]
[{"$f":"RESULTS!A13","v":4},{"$f":"RESULTS!F13","v":0},{"$f":"RESULTS!G13","v":0},{"$f":"RESULTS!H13","v":0},{"$f":"RESULTS!I13","v":0},{"$f":"RESULTS!J13","v":0},{"$f":"RESULTS!K13","v":0}]
[{"$f":"RESULTS!A14","v":5},{"$f":"RESULTS!F14","v":0},{"$f":"RESULTS!G14","v":0},{"$f":"RESULTS!H14","v":0},{"$f":"RESULTS!I14","v":0},{"$f":"RESULTS!J14","v":0},{"$f":"RESULTS!K14","v":0}]
[{"$f":"RESULTS!A15","v":6},{"$f":"RESULTS!F15","v":0},{"$f":"RESULTS!G15","v":0},{"$f":"RESULTS!H15","v":0},{"$f":"RESULTS!I15","v":0},{"$f":"RESULTS!J15","v":0},{"$f":"RESULTS!K15","v":0}]
[{"$f":"RESULTS!A16","v":7},{"$f":"RESULTS!F16","v":0},{"$f":"RESULTS!G16","v":0},{"$f":"RESULTS!H16","v":0},{"$f":"RESULTS!I16","v":0},{"$f":"RESULTS!J16","v":0},{"$f":"RESULTS!K16","v":0}]
[{"$f":"RESULTS!A17","v":8},{"$f":"RESULTS!F17","v":0},{"$f":"RESULTS!G17","v":0},{"$f":"RESULTS!H17","v":0},{"$f":"RESULTS!I17","v":0},{"$f":"RESULTS!J17","v":0},{"$f":"RESULTS!K17","v":0}]
[{"$f":"RESULTS!A18","v":9},{"$f":"RESULTS!F18","v":0},{"$f":"RESULTS!G18","v":0},{"$f":"RESULTS!H18","v":0},{"$f":"RESULTS!I18","v":0},{"$f":"RESULTS!J18","v":0},{"$f":"RESULTS!K18","v":0}]
[{"$f":"RESULTS!A19","v":10},{"$f":"RESULTS!F19","v":0},{"$f":"RESULTS!G19","v":0},{"$f":"RESULTS!H19","v":0},{"$f":"RESULTS!I19","v":0},{"$f":"RESULTS!J19","v":0},{"$f":"RESULTS!K19","v":0}]
[{"$f":"RESULTS!A20","v":11},{"$f":"RESULTS!F20","v":0},{"$f":"RESULTS!G20","v":0},{"$f":"RESULTS!H20","v":0},{"$f":"RESULTS!I20","v":0},{"$f":"RESULTS!J20","v":0},{"$f":"RESULTS!K20","v":0}]
[{"$f":"RESULTS!A21","v":12},{"$f":"RESULTS!F21","v":0},{"$f":"RESULTS!G21","v":0},{"$f":"RESULTS!H21","v":0},{"$f":"RESULTS!I21","v":0},{"$f":"RESULTS!J21","v":0},{"$f":"RESULTS!K21","v":0}]
[{"$f":"RESULTS!A22","v":13},{"$f":"RESULTS!F22","v":0},{"$f":"RESULTS!G22","v":0},{"$f":"RESULTS!H22","v":0},{"$f":"RESULTS!I22","v":0},{"$f":"RESULTS!J22","v":0},{"$f":"RESULTS!K22","v":0}]
[{"$f":"RESULTS!A23","v":14},{"$f":"RESULTS!F23","v":0},{"$f":"RESULTS!G23","v":0},{"$f":"RESULTS!H23","v":0},{"$f":"RESULTS!I23","v":0},{"$f":"RESULTS!J23","v":0},{"$f":"RESULTS!K23","v":0}]
[{"$f":"RESULTS!A24","v":15},{"$f":"RESULTS!F24","v":0},{"$f":"RESULTS!G24","v":0},{"$f":"RESULTS!H24","v":0},{"$f":"RESULTS!I24","v":0},{"$f":"RESULTS!J24","v":0},{"$f":"RESULTS!K24","v":0}]
[{"$f":"RESULTS!A25","v":16},{"$f":"RESULTS!F25","v":0},{"$f":"RESULTS!G25","v":0},{"$f":"RESULTS!H25","v":0},{"$f":"RESULTS!I25","v":0},{"$f":"RESULTS!J25","v":0},{"$f":"RESULTS!K25","v":0}]
[{"$f":"RESULTS!A26","v":17},{"$f":"RESULTS!F26","v":0},{"$f":"RESULTS!G26","v":0},{"$f":"RESULTS!H26","v":0},{"$f":"RESULTS!I26","v":0},{"$f":"RESULTS!J26","v":0},{"$f":"RESULTS!K26","v":0}]
[{"$f":"RESULTS!A27","v":18},{"$f":"RESULTS!F27","v":0},{"$f":"RESULTS!G27","v":0},{"$f":"RESULTS!H27","v":0},{"$f":"RESULTS!I27","v":0},{"$f":"RESULTS!J27","v":0},{"$f":"RESULTS!K27","v":0}]
[{"$f":"RESULTS!A28","v":19},{"$f":"RESULTS!F28","v":0},{"$f":"RESULTS!G28","v":0},{"$f":"RESULTS!H28","v":0},{"$f":"RESULTS!I28","v":0},{"$f":"RESULTS!J28","v":0},{"$f":"RESULTS!K28","v":0}]
[{"$f":"RESULTS!A29","v":20},{"$f":"RESULTS!F29","v":0},{"$f":"RESULTS!G29","v":0},{"$f":"RESULTS!H29","v":0},{"$f":"RESULTS!I29","v":0},{"$f":"RESULTS!J29","v":0},{"$f":"RESULTS!K29","v":0}]
[{"$f":"RESULTS!A30","v":21},{"$f":"RESULTS!F30","v":0},{"$f":"RESULTS!G30","v":0},{"$f":"RESULTS!H30","v":0},{"$f":"RESULTS!I30","v":0},{"$f":"RESULTS!J30","v":0},{"$f":"RESULTS!K30","v":0}]
[{"$f":"RESULTS!A31","v":22},{"$f":"RESULTS!F31","v":0},{"$f":"RESULTS!G31","v":0},{"$f":"RESULTS!H31","v":0},{"$f":"RESULTS!I31","v":0},{"$f":"RESULTS!J31","v":0},{"$f":"RESULTS!K31","v":0}]
[{"$f":"RESULTS!A32","v":23},{"$f":"RESULTS!F32","v":0},{"$f":"RESULTS!G32","v":0},{"$f":"RESULTS!H32","v":0},{"$f":"RESULTS!I32","v":0},{"$f":"RESULTS!J32","v":0},{"$f":"RESULTS!K32","v":0}]
[{"$f":"RESULTS!A33","v":24},{"$f":"RESULTS!F33","v":0},{"$f":"RESULTS!G33","v":0},{"$f":"RESULTS!H33","v":0},{"$f":"RESULTS!I33","v":0},{"$f":"RESULTS!J33","v":0},{"$f":"RESULTS!K33","v":0}]
[{"$f":"RESULTS!A34","v":25},{"$f":"RESULTS!F34","v":0},{"$f":"RESULTS!G34","v":0},{"$f":"RESULTS!H34","v":0},{"$f":"RESULTS!I34","v":0},{"$f":"RESULTS!J34","v":0},{"$f":"RESULTS!K34","v":0}]
[{"$f":"RESULTS!A35","v":26},{"$f":"RESULTS!F35","v":0},{"$f":"RESULTS!G35","v":0},{"$f":"RESULTS!H35","v":0},{"$f":"RESULTS!I35","v":0},{"$f":"RESULTS!J35","v":0},{"$f":"RESULTS!K35","v":0}]
[{"$f":"RESULTS!A36","v":27},{"$f":"RESULTS!F36","v":0},{"$f":"RESULTS!G36","v":0},{"$f":"RESULTS!H36","v":0},{"$f":"RESULTS!I36","v":0},{"$f":"RESULTS!J36","v":0},{"$f":"RESULTS!K36","v":0}]
[{"$f":"RESULTS!A37","v":28},{"$f":"RESULTS!F37","v":0},{"$f":"RESULTS!G37","v":0},{"$f":"RESULTS!H37","v":0},{"$f":"RESULTS!I37","v":0},{"$f":"RESULTS!J37","v":0},{"$f":"RESULTS!K37","v":0}]
[{"$f":"RESULTS!A38","v":29},{"$f":"RESULTS!F38","v":0},{"$f":"RESULTS!G38","v":0},{"$f":"RESULTS!H38","v":0},{"$f":"RESULTS!I38","v":0},{"$f":"RESULTS!J38","v":0},{"$f":"RESULTS!K38","v":0}]
[{"$f":"RESULTS!A39","v":30},{"$f":"RESULTS!F39","v":0},{"$f":"RESULTS!G39","v":0},{"$f":"RESULTS!H39","v":0},{"$f":"RESULTS!I39","v":0},{"$f":"RESULTS!J39","v":0},{"$f":"RESULTS!K39","v":0}]
[{"$f":"RESULTS!A40","v":31},{"$f":"RESULTS!F40","v":0},{"$f":"RESULTS!G40","v":0},{"$f":"RESULTS!H40","v":0},{"$f":"RESULTS!I40","v":0},{"$f":"RESULTS!J40","v":0},{"$f":"RESULTS!K40","v":0}]
[{"$f":"RESULTS!A41","v":32},{"$f":"RESULTS!F41","v":0},{"$f":"RESULTS!G41","v":0},{"$f":"RESULTS!H41","v":0},{"$f":"RESULTS!I41","v":0},{"$f":"RESULTS!J41","v":0},{"$f":"RESULTS!K41","v":0}]
[{"$f":"RESULTS!A42","v":33},{"$f":"RESULTS!F42","v":0},{"$f":"RESULTS!G42","v":0},{"$f":"RESULTS!H42","v":0},{"$f":"RESULTS!I42","v":0},{"$f":"RESULTS!J42","v":0},{"$f":"RESULTS!K42","v":0}]
[{"$f":"RESULTS!A43","v":34},{"$f":"RESULTS!F43","v":0},{"$f":"RESULTS!G43","v":0},{"$f":"RESULTS!H43","v":0},{"$f":"RESULTS!I43","v":0},{"$f":"RESULTS!J43","v":0},{"$f":"RESULTS!K43","v":0}]
[{"$f":"RESULTS!A44","v":35},{"$f":"RESULTS!F44","v":0},{"$f":"RESULTS!G44","v":0},{"$f":"RESULTS!H44","v":0},{"$f":"RESULTS!I44","v":0},{"$f":"RESULTS!J44","v":0},{"$f":"RESULTS!K44","v":0}]
[{"$f":"RESULTS!A45","v":36},{"$f":"RESULTS!F45","v":0},{"$f":"RESULTS!G45","v":0},{"$f":"RESULTS!H45","v":0},{"$f":"RESULTS!I45","v":0},{"$f":"RESULTS!J45","v":0},{"$f":"RESULTS!K45","v":0}]
[{"$f":"RESULTS!A46","v":37},{"$f":"RESULTS!F46","v":0},{"$f":"RESULTS!G46","v":0},{"$f":"RESULTS!H46","v":0},{"$f":"RESULTS!I46","v":0},{"$f":"RESULTS!J46","v":0},{"$f":"RESULTS!K46","v":0}]
[{"$f":"RESULTS!A47","v":38},{"$f":"RESULTS!F47","v":0},{"$f":"RESULTS!G47","v":0},{"$f":"RESULTS!H47","v":0},{"$f":"RESULTS!I47","v":0},{"$f":"RESULTS!J47","v":0},{"$f":"RESULTS!K47","v":0}]
[{"$f":"RESULTS!A48","v":39},{"$f":"RESULTS!F48","v":0},{"$f":"RESULTS!G48","v":0},{"$f":"RESULTS!H48","v":0},{"$f":"RESULTS!I48","v":0},{"$f":"RESULTS!J48","v":0},{"$f":"RESULTS!K48","v":0}]
[{"$f":"RESULTS!A49","v":40},{"$f":"RESULTS!F49","v":0},{"$f":"RESULTS!G49","v":0},{"$f":"RESULTS!H49","v":0},{"$f":"RESULTS!I49","v":0},{"$f":"RESULTS!J49","v":0},{"$f":"RESULTS!K49","v":0}]
[{"$f":"RESULTS!A50","v":41},{"$f":"RESULTS!F50","v":0},{"$f":"RESULTS!G50","v":0},{"$f":"RESULTS!H50","v":0},{"$f":"RESULTS!I50","v":0},{"$f":"RESULTS!J50","v":0},{"$f":"RESULTS!K50","v":0}]
[{"$f":"RESULTS!A51","v":42},{"$f":"RESULTS!F51","v":0},{"$f":"RESULTS!G51","v":0},{"$f":"RESULTS!H51","v":0},{"$f":"RESULTS!I51","v":0},{"$f":"RESULTS!J51","v":0},{"$f":"RESULTS!K51","v":0}]
[{"$f":"RESULTS!A52","v":43},{"$f":"RESULTS!F52","v":0},{"$f":"RESULTS!G52","v":0},{"$f":"RESULTS!H52","v":0},{"$f":"RESULTS!I52","v":0},{"$f":"RESULTS!J52","v":0},{"$f":"RESULTS!K52","v":0}]
[{"$f":"RESULTS!A53","v":44},{"$f":"RESULTS!F53","v":0},{"$f":"RESULTS!G53","v":0},{"$f":"RESULTS!H53","v":0},{"$f":"RESULTS!I53","v":0},{"$f":"RESULTS!J53","v":0},{"$f":"RESULTS!K53","v":0}]
[{"$f":"RESULTS!A54","v":45},{"$f":"RESULTS!F54","v":0},{"$f":"RESULTS!G54","v":0},{"$f":"RESULTS!H54","v":0},{"$f":"RESULTS!I54","v":0},{"$f":"RESULTS!J54","v":0},{"$f":"RESULTS!K54","v":0}]
[{"$f":"RESULTS!A55","v":46},{"$f":"RESULTS!F55","v":0},{"$f":"RESULTS!G55","v":0},{"$f":"RESULTS!H55","v":0},{"$f":"RESULTS!I55","v":0},{"$f":"RESULTS!J55","v":0},{"$f":"RESULTS!K55","v":0}]
[{"$f":"RESULTS!A56","v":47},{"$f":"RESULTS!F56","v":0},{"$f":"RESULTS!G56","v":0},{"$f":"RESULTS!H56","v":0},{"$f":"RESULTS!I56","v":0},{"$f":"RESULTS!J56","v":0},{"$f":"RESULTS!K56","v":0}]
[{"$f":"RESULTS!A57","v":48},{"$f":"RESULTS!F57","v":0},{"$f":"RESULTS!G57","v":0},{"$f":"RESULTS!H57","v":0},{"$f":"RESULTS!I57","v":0},{"$f":"RESULTS!J57","v":0},{"$f":"RESULTS!K57","v":0}]
[{"$f":"RESULTS!A58","v":49},{"$f":"RESULTS!F58","v":0},{"$f":"RESULTS!G58","v":0},{"$f":"RESULTS!H58","v":0},{"$f":"RESULTS!I58","v":0},{"$f":"RESULTS!J58","v":0},{"$f":"RESULTS!K58","v":0}]
[]
[]
["Results (Continued)"]
[]
["Year",{"$f":"RESULTS!$F$7","v":"Total landfill gas"},null,null,{"$f":"RESULTS!$I$7","v":"Methane"}]
[null,"(Mg/year)","(m3/year)",{"$f":"RESULTS!$H$8","v":"(av ft^3/min)"},"(Mg/year)","(m3/year)",{"$f":"RESULTS!$H$8","v":"(av ft^3/min)"}]
[{"$f":"RESULTS!A59","v":50},{"$f":"RESULTS!F59","v":0},{"$f":"RESULTS!G59","v":0},{"$f":"RESULTS!H59","v":0},{"$f":"RESULTS!I59","v":0},{"$f":"RESULTS!J59","v":0},{"$f":"RESULTS!K59","v":0}]
[{"$f":"RESULTS!A60","v":51},{"$f":"RESULTS!F60","v":0},{"$f":"RESULTS!G60","v":0},{"$f":"RESULTS!H60","v":0},{"$f":"RESULTS!I60","v":0},{"$f":"RESULTS!J60","v":0},{"$f":"RESULTS!K60","v":0}]
[{"$f":"RESULTS!A61","v":52},{"$f":"RESULTS!F61","v":0},{"$f":"RESULTS!G61","v":0},{"$f":"RESULTS!H61","v":0},{"$f":"RESULTS!I61","v":0},{"$f":"RESULTS!J61","v":0},{"$f":"RESULTS!K61","v":0}]
[{"$f":"RESULTS!A62","v":53},{"$f":"RESULTS!F62","v":0},{"$f":"RESULTS!G62","v":0},{"$f":"RESULTS!H62","v":0},{"$f":"RESULTS!I62","v":0},{"$f":"RESULTS!J62","v":0},{"$f":"RESULTS!K62","v":0}]
[{"$f":"RESULTS!A63","v":54},{"$f":"RESULTS!F63","v":0},{"$f":"RESULTS!G63","v":0},{"$f":"RESULTS!H63","v":0},{"$f":"RESULTS!I63","v":0},{"$f":"RESULTS!J63","v":0},{"$f":"RESULTS!K63","v":0}]
[{"$f":"RESULTS!A64","v":55},{"$f":"RESULTS!F64","v":0},{"$f":"RESULTS!G64","v":0},{"$f":"RESULTS!H64","v":0},{"$f":"RESULTS!I64","v":0},{"$f":"RESULTS!J64","v":0},{"$f":"RESULTS!K64","v":0}]
[{"$f":"RESULTS!A65","v":56},{"$f":"RESULTS!F65","v":0},{"$f":"RESULTS!G65","v":0},{"$f":"RESULTS!H65","v":0},{"$f":"RESULTS!I65","v":0},{"$f":"RESULTS!J65","v":0},{"$f":"RESULTS!K65","v":0}]
[{"$f":"RESULTS!A66","v":57},{"$f":"RESULTS!F66","v":0},{"$f":"RESULTS!G66","v":0},{"$f":"RESULTS!H66","v":0},{"$f":"RESULTS!I66","v":0},{"$f":"RESULTS!J66","v":0},{"$f":"RESULTS!K66","v":0}]
[{"$f":"RESULTS!A67","v":58},{"$f":"RESULTS!F67","v":0},{"$f":"RESULTS!G67","v":0},{"$f":"RESULTS!H67","v":0},{"$f":"RESULTS!I67","v":0},{"$f":"RESULTS!J67","v":0},{"$f":"RESULTS!K67","v":0}]
[{"$f":"RESULTS!A68","v":59},{"$f":"RESULTS!F68","v":0},{"$f":"RESULTS!G68","v":0},{"$f":"RESULTS!H68","v":0},{"$f":"RESULTS!I68","v":0},{"$f":"RESULTS!J68","v":0},{"$f":"RESULTS!K68","v":0}]
[{"$f":"RESULTS!A69","v":60},{"$f":"RESULTS!F69","v":0},{"$f":"RESULTS!G69","v":0},{"$f":"RESULTS!H69","v":0},{"$f":"RESULTS!I69","v":0},{"$f":"RESULTS!J69","v":0},{"$f":"RESULTS!K69","v":0}]
[{"$f":"RESULTS!A70","v":61},{"$f":"RESULTS!F70","v":0},{"$f":"RESULTS!G70","v":0},{"$f":"RESULTS!H70","v":0},{"$f":"RESULTS!I70","v":0},{"$f":"RESULTS!J70","v":0},{"$f":"RESULTS!K70","v":0}]
[{"$f":"RESULTS!A71","v":62},{"$f":"RESULTS!F71","v":0},{"$f":"RESULTS!G71","v":0},{"$f":"RESULTS!H71","v":0},{"$f":"RESULTS!I71","v":0},{"$f":"RESULTS!J71","v":0},{"$f":"RESULTS!K71","v":0}]
[{"$f":"RESULTS!A72","v":63},{"$f":"RESULTS!F72","v":0},{"$f":"RESULTS!G72","v":0},{"$f":"RESULTS!H72","v":0},{"$f":"RESULTS!I72","v":0},{"$f":"RESULTS!J72","v":0},{"$f":"RESULTS!K72","v":0}]
[{"$f":"RESULTS!A73","v":64},{"$f":"RESULTS!F73","v":0},{"$f":"RESULTS!G73","v":0},{"$f":"RESULTS!H73","v":0},{"$f":"RESULTS!I73","v":0},{"$f":"RESULTS!J73","v":0},{"$f":"RESULTS!K73","v":0}]
[{"$f":"RESULTS!A74","v":65},{"$f":"RESULTS!F74","v":0},{"$f":"RESULTS!G74","v":0},{"$f":"RESULTS!H74","v":0},{"$f":"RESULTS!I74","v":0},{"$f":"RESULTS!J74","v":0},{"$f":"RESULTS!K74","v":0}]
[{"$f":"RESULTS!A75","v":66},{"$f":"RESULTS!F75","v":0},{"$f":"RESULTS!G75","v":0},{"$f":"RESULTS!H75","v":0},{"$f":"RESULTS!I75","v":0},{"$f":"RESULTS!J75","v":0},{"$f":"RESULTS!K75","v":0}]
[{"$f":"RESULTS!A76","v":67},{"$f":"RESULTS!F76","v":0},{"$f":"RESULTS!G76","v":0},{"$f":"RESULTS!H76","v":0},{"$f":"RESULTS!I76","v":0},{"$f":"RESULTS!J76","v":0},{"$f":"RESULTS!K76","v":0}]
[{"$f":"RESULTS!A77","v":68},{"$f":"RESULTS!F77","v":0},{"$f":"RESULTS!G77","v":0},{"$f":"RESULTS!H77","v":0},{"$f":"RESULTS!I77","v":0},{"$f":"RESULTS!J77","v":0},{"$f":"RESULTS!K77","v":0}]
[{"$f":"RESULTS!A78","v":69},{"$f":"RESULTS!F78","v":0},{"$f":"RESULTS!G78","v":0},{"$f":"RESULTS!H78","v":0},{"$f":"RESULTS!I78","v":0},{"$f":"RESULTS!J78","v":0},{"$f":"RESULTS!K78","v":0}]
[{"$f":"RESULTS!A79","v":70},{"$f":"RESULTS!F79","v":0},{"$f":"RESULTS!G79","v":0},{"$f":"RESULTS!H79","v":0},{"$f":"RESULTS!I79","v":0},{"$f":"RESULTS!J79","v":0},{"$f":"RESULTS!K79","v":0}]
[{"$f":"RESULTS!A80","v":71},{"$f":"RESULTS!F80","v":0},{"$f":"RESULTS!G80","v":0},{"$f":"RESULTS!H80","v":0},{"$f":"RESULTS!I80","v":0},{"$f":"RESULTS!J80","v":0},{"$f":"RESULTS!K80","v":0}]
[{"$f":"RESULTS!A81","v":72},{"$f":"RESULTS!F81","v":0},{"$f":"RESULTS!G81","v":0},{"$f":"RESULTS!H81","v":0},{"$f":"RESULTS!I81","v":0},{"$f":"RESULTS!J81","v":0},{"$f":"RESULTS!K81","v":0}]
[{"$f":"RESULTS!A82","v":73},{"$f":"RESULTS!F82","v":0},{"$f":"RESULTS!G82","v":0},{"$f":"RESULTS!H82","v":0},{"$f":"RESULTS!I82","v":0},{"$f":"RESULTS!J82","v":0},{"$f":"RESULTS!K82","v":0}]
[{"$f":"RESULTS!A83","v":74},{"$f":"RESULTS!F83","v":0},{"$f":"RESULTS!G83","v":0},{"$f":"RESULTS!H83","v":0},{"$f":"RESULTS!I83","v":0},{"$f":"RESULTS!J83","v":0},{"$f":"RESULTS!K83","v":0}]
[{"$f":"RESULTS!A84","v":75},{"$f":"RESULTS!F84","v":0},{"$f":"RESULTS!G84","v":0},{"$f":"RESULTS!H84","v":0},{"$f":"RESULTS!I84","v":0},{"$f":"RESULTS!J84","v":0},{"$f":"RESULTS!K84","v":0}]
[{"$f":"RESULTS!A85","v":76},{"$f":"RESULTS!F85","v":0},{"$f":"RESULTS!G85","v":0},{"$f":"RESULTS!H85","v":0},{"$f":"RESULTS!I85","v":0},{"$f":"RESULTS!J85","v":0},{"$f":"RESULTS!K85","v":0}]
[{"$f":"RESULTS!A86","v":77},{"$f":"RESULTS!F86","v":0},{"$f":"RESULTS!G86","v":0},{"$f":"RESULTS!H86","v":0},{"$f":"RESULTS!I86","v":0},{"$f":"RESULTS!J86","v":0},{"$f":"RESULTS!K86","v":0}]
[{"$f":"RESULTS!A87","v":78},{"$f":"RESULTS!F87","v":0},{"$f":"RESULTS!G87","v":0},{"$f":"RESULTS!H87","v":0},{"$f":"RESULTS!I87","v":0},{"$f":"RESULTS!J87","v":0},{"$f":"RESULTS!K87","v":0}]
[{"$f":"RESULTS!A88","v":79},{"$f":"RESULTS!F88","v":0},{"$f":"RESULTS!G88","v":0},{"$f":"RESULTS!H88","v":0},{"$f":"RESULTS!I88","v":0},{"$f":"RESULTS!J88","v":0},{"$f":"RESULTS!K88","v":0}]
[{"$f":"RESULTS!A89","v":80},{"$f":"RESULTS!F89","v":0},{"$f":"RESULTS!G89","v":0},{"$f":"RESULTS!H89","v":0},{"$f":"RESULTS!I89","v":0},{"$f":"RESULTS!J89","v":0},{"$f":"RESULTS!K89","v":0}]
[{"$f":"RESULTS!A90","v":81},{"$f":"RESULTS!F90","v":0},{"$f":"RESULTS!G90","v":0},{"$f":"RESULTS!H90","v":0},{"$f":"RESULTS!I90","v":0},{"$f":"RESULTS!J90","v":0},{"$f":"RESULTS!K90","v":0}]
[{"$f":"RESULTS!A91","v":82},{"$f":"RESULTS!F91","v":0},{"$f":"RESULTS!G91","v":0},{"$f":"RESULTS!H91","v":0},{"$f":"RESULTS!I91","v":0},{"$f":"RESULTS!J91","v":0},{"$f":"RESULTS!K91","v":0}]
[{"$f":"RESULTS!A92","v":83},{"$f":"RESULTS!F92","v":0},{"$f":"RESULTS!G92","v":0},{"$f":"RESULTS!H92","v":0},{"$f":"RESULTS!I92","v":0},{"$f":"RESULTS!J92","v":0},{"$f":"RESULTS!K92","v":0}]
[{"$f":"RESULTS!A93","v":84},{"$f":"RESULTS!F93","v":0},{"$f":"RESULTS!G93","v":0},{"$f":"RESULTS!H93","v":0},{"$f":"RESULTS!I93","v":0},{"$f":"RESULTS!J93","v":0},{"$f":"RESULTS!K93","v":0}]
[{"$f":"RESULTS!A94","v":85},{"$f":"RESULTS!F94","v":0},{"$f":"RESULTS!G94","v":0},{"$f":"RESULTS!H94","v":0},{"$f":"RESULTS!I94","v":0},{"$f":"RESULTS!J94","v":0},{"$f":"RESULTS!K94","v":0}]
[{"$f":"RESULTS!A95","v":86},{"$f":"RESULTS!F95","v":0},{"$f":"RESULTS!G95","v":0},{"$f":"RESULTS!H95","v":0},{"$f":"RESULTS!I95","v":0},{"$f":"RESULTS!J95","v":0},{"$f":"RESULTS!K95","v":0}]
[{"$f":"RESULTS!A96","v":87},{"$f":"RESULTS!F96","v":0},{"$f":"RESULTS!G96","v":0},{"$f":"RESULTS!H96","v":0},{"$f":"RESULTS!I96","v":0},{"$f":"RESULTS!J96","v":0},{"$f":"RESULTS!K96","v":0}]
[{"$f":"RESULTS!A97","v":88},{"$f":"RESULTS!F97","v":0},{"$f":"RESULTS!G97","v":0},{"$f":"RESULTS!H97","v":0},{"$f":"RESULTS!I97","v":0},{"$f":"RESULTS!J97","v":0},{"$f":"RESULTS!K97","v":0}]
[{"$f":"RESULTS!A98","v":89},{"$f":"RESULTS!F98","v":0},{"$f":"RESULTS!G98","v":0},{"$f":"RESULTS!H98","v":0},{"$f":"RESULTS!I98","v":0},{"$f":"RESULTS!J98","v":0},{"$f":"RESULTS!K98","v":0}]
[{"$f":"RESULTS!A99","v":90},{"$f":"RESULTS!F99","v":0},{"$f":"RESULTS!G99","v":0},{"$f":"RESULTS!H99","v":0},{"$f":"RESULTS!I99","v":0},{"$f":"RESULTS!J99","v":0},{"$f":"RESULTS!K99","v":0}]
[{"$f":"RESULTS!A100","v":91},{"$f":"RESULTS!F100","v":0},{"$f":"RESULTS!G100","v":0},{"$f":"RESULTS!H100","v":0},{"$f":"RESULTS!I100","v":0},{"$f":"RESULTS!J100","v":0},{"$f":"RESULTS!K100","v":0}]
[{"$f":"RESULTS!A101","v":92},{"$f":"RESULTS!F101","v":0},{"$f":"RESULTS!G101","v":0},{"$f":"RESULTS!H101","v":0},{"$f":"RESULTS!I101","v":0},{"$f":"RESULTS!J101","v":0},{"$f":"RESULTS!K101","v":0}]
[{"$f":"RESULTS!A102","v":93},{"$f":"RESULTS!F102","v":0},{"$f":"RESULTS!G102","v":0},{"$f":"RESULTS!H102","v":0},{"$f":"RESULTS!I102","v":0},{"$f":"RESULTS!J102","v":0},{"$f":"RESULTS!K102","v":0}]
[{"$f":"RESULTS!A103","v":94},{"$f":"RESULTS!F103","v":0},{"$f":"RESULTS!G103","v":0},{"$f":"RESULTS!H103","v":0},{"$f":"RESULTS!I103","v":0},{"$f":"RESULTS!J103","v":0},{"$f":"RESULTS!K103","v":0}]
[{"$f":"RESULTS!A104","v":95},{"$f":"RESULTS!F104","v":0},{"$f":"RESULTS!G104","v":0},{"$f":"RESULTS!H104","v":0},{"$f":"RESULTS!I104","v":0},{"$f":"RESULTS!J104","v":0},{"$f":"RESULTS!K104","v":0}]
[{"$f":"RESULTS!A105","v":96},{"$f":"RESULTS!F105","v":0},{"$f":"RESULTS!G105","v":0},{"$f":"RESULTS!H105","v":0},{"$f":"RESULTS!I105","v":0},{"$f":"RESULTS!J105","v":0},{"$f":"RESULTS!K105","v":0}]
[{"$f":"RESULTS!A106","v":97},{"$f":"RESULTS!F106","v":0},{"$f":"RESULTS!G106","v":0},{"$f":"RESULTS!H106","v":0},{"$f":"RESULTS!I106","v":0},{"$f":"RESULTS!J106","v":0},{"$f":"RESULTS!K106","v":0}]
[{"$f":"RESULTS!A107","v":98},{"$f":"RESULTS!F107","v":0},{"$f":"RESULTS!G107","v":0},{"$f":"RESULTS!H107","v":0},{"$f":"RESULTS!I107","v":0},{"$f":"RESULTS!J107","v":0},{"$f":"RESULTS!K107","v":0}]
[{"$f":"RESULTS!A108","v":99},{"$f":"RESULTS!F108","v":0},{"$f":"RESULTS!G108","v":0},{"$f":"RESULTS!H108","v":0},{"$f":"RESULTS!I108","v":0},{"$f":"RESULTS!J108","v":0},{"$f":"RESULTS!K108","v":0}]
[{"$f":"RESULTS!A109","v":100},{"$f":"RESULTS!F109","v":0},{"$f":"RESULTS!G109","v":0},{"$f":"RESULTS!H109","v":0},{"$f":"RESULTS!I109","v":0},{"$f":"RESULTS!J109","v":0},{"$f":"RESULTS!K109","v":0}]
[]
[]
["Results (Continued)"]
[]
["Year",{"$f":"RESULTS!$F$7","v":"Total landfill gas"},null,null,{"$f":"RESULTS!$I$7","v":"Methane"}]
[null,"(Mg/year)","(m3/year)",{"$f":"RESULTS!$H$8","v":"(av ft^3/min)"},"(Mg/year)","(m3/year)",{"$f":"RESULTS!$H$8","v":"(av ft^3/min)"}]
[{"$f":"RESULTS!A110","v":101},{"$f":"RESULTS!F110","v":0},{"$f":"RESULTS!G110","v":0},{"$f":"RESULTS!H110","v":0},{"$f":"RESULTS!I110","v":0},{"$f":"RESULTS!J110","v":0},{"$f":"RESULTS!K110","v":0}]
[{"$f":"RESULTS!A111","v":102},{"$f":"RESULTS!F111","v":0},{"$f":"RESULTS!G111","v":0},{"$f":"RESULTS!H111","v":0},{"$f":"RESULTS!I111","v":0},{"$f":"RESULTS!J111","v":0},{"$f":"RESULTS!K111","v":0}]
[{"$f":"RESULTS!A112","v":103},{"$f":"RESULTS!F112","v":0},{"$f":"RESULTS!G112","v":0},{"$f":"RESULTS!H112","v":0},{"$f":"RESULTS!I112","v":0},{"$f":"RESULTS!J112","v":0},{"$f":"RESULTS!K112","v":0}]
[{"$f":"RESULTS!A113","v":104},{"$f":"RESULTS!F113","v":0},{"$f":"RESULTS!G113","v":0},{"$f":"RESULTS!H113","v":0},{"$f":"RESULTS!I113","v":0},{"$f":"RESULTS!J113","v":0},{"$f":"RESULTS!K113","v":0}]
[{"$f":"RESULTS!A114","v":105},{"$f":"RESULTS!F114","v":0},{"$f":"RESULTS!G114","v":0},{"$f":"RESULTS!H114","v":0},{"$f":"RESULTS!I114","v":0},{"$f":"RESULTS!J114","v":0},{"$f":"RESULTS!K114","v":0}]
[{"$f":"RESULTS!A115","v":106},{"$f":"RESULTS!F115","v":0},{"$f":"RESULTS!G115","v":0},{"$f":"RESULTS!H115","v":0},{"$f":"RESULTS!I115","v":0},{"$f":"RESULTS!J115","v":0},{"$f":"RESULTS!K115","v":0}]
[{"$f":"RESULTS!A116","v":107},{"$f":"RESULTS!F116","v":0},{"$f":"RESULTS!G116","v":0},{"$f":"RESULTS!H116","v":0},{"$f":"RESULTS!I116","v":0},{"$f":"RESULTS!J116","v":0},{"$f":"RESULTS!K116","v":0}]
[{"$f":"RESULTS!A117","v":108},{"$f":"RESULTS!F117","v":0},{"$f":"RESULTS!G117","v":0},{"$f":"RESULTS!H117","v":0},{"$f":"RESULTS!I117","v":0},{"$f":"RESULTS!J117","v":0},{"$f":"RESULTS!K117","v":0}]
[{"$f":"RESULTS!A118","v":109},{"$f":"RESULTS!F118","v":0},{"$f":"RESULTS!G118","v":0},{"$f":"RESULTS!H118","v":0},{"$f":"RESULTS!I118","v":0},{"$f":"RESULTS!J118","v":0},{"$f":"RESULTS!K118","v":0}]
[{"$f":"RESULTS!A119","v":110},{"$f":"RESULTS!F119","v":0},{"$f":"RESULTS!G119","v":0},{"$f":"RESULTS!H119","v":0},{"$f":"RESULTS!I119","v":0},{"$f":"RESULTS!J119","v":0},{"$f":"RESULTS!K119","v":0}]
[{"$f":"RESULTS!A120","v":111},{"$f":"RESULTS!F120","v":0},{"$f":"RESULTS!G120","v":0},{"$f":"RESULTS!H120","v":0},{"$f":"RESULTS!I120","v":0},{"$f":"RESULTS!J120","v":0},{"$f":"RESULTS!K120","v":0}]
[{"$f":"RESULTS!A121","v":112},{"$f":"RESULTS!F121","v":0},{"$f":"RESULTS!G121","v":0},{"$f":"RESULTS!H121","v":0},{"$f":"RESULTS!I121","v":0},{"$f":"RESULTS!J121","v":0},{"$f":"RESULTS!K121","v":0}]
[{"$f":"RESULTS!A122","v":113},{"$f":"RESULTS!F122","v":0},{"$f":"RESULTS!G122","v":0},{"$f":"RESULTS!H122","v":0},{"$f":"RESULTS!I122","v":0},{"$f":"RESULTS!J122","v":0},{"$f":"RESULTS!K122","v":0}]
[{"$f":"RESULTS!A123","v":114},{"$f":"RESULTS!F123","v":0},{"$f":"RESULTS!G123","v":0},{"$f":"RESULTS!H123","v":0},{"$f":"RESULTS!I123","v":0},{"$f":"RESULTS!J123","v":0},{"$f":"RESULTS!K123","v":0}]
[{"$f":"RESULTS!A124","v":115},{"$f":"RESULTS!F124","v":0},{"$f":"RESULTS!G124","v":0},{"$f":"RESULTS!H124","v":0},{"$f":"RESULTS!I124","v":0},{"$f":"RESULTS!J124","v":0},{"$f":"RESULTS!K124","v":0}]
[{"$f":"RESULTS!A125","v":116},{"$f":"RESULTS!F125","v":0},{"$f":"RESULTS!G125","v":0},{"$f":"RESULTS!H125","v":0},{"$f":"RESULTS!I125","v":0},{"$f":"RESULTS!J125","v":0},{"$f":"RESULTS!K125","v":0}]
[{"$f":"RESULTS!A126","v":117},{"$f":"RESULTS!F126","v":0},{"$f":"RESULTS!G126","v":0},{"$f":"RESULTS!H126","v":0},{"$f":"RESULTS!I126","v":0},{"$f":"RESULTS!J126","v":0},{"$f":"RESULTS!K126","v":0}]
[{"$f":"RESULTS!A127","v":118},{"$f":"RESULTS!F127","v":0},{"$f":"RESULTS!G127","v":0},{"$f":"RESULTS!H127","v":0},{"$f":"RESULTS!I127","v":0},{"$f":"RESULTS!J127","v":0},{"$f":"RESULTS!K127","v":0}]
[{"$f":"RESULTS!A128","v":119},{"$f":"RESULTS!F128","v":0},{"$f":"RESULTS!G128","v":0},{"$f":"RESULTS!H128","v":0},{"$f":"RESULTS!I128","v":0},{"$f":"RESULTS!J128","v":0},{"$f":"RESULTS!K128","v":0}]
[{"$f":"RESULTS!A129","v":120},{"$f":"RESULTS!F129","v":0},{"$f":"RESULTS!G129","v":0},{"$f":"RESULTS!H129","v":0},{"$f":"RESULTS!I129","v":0},{"$f":"RESULTS!J129","v":0},{"$f":"RESULTS!K129","v":0}]
[{"$f":"RESULTS!A130","v":121},{"$f":"RESULTS!F130","v":0},{"$f":"RESULTS!G130","v":0},{"$f":"RESULTS!H130","v":0},{"$f":"RESULTS!I130","v":0},{"$f":"RESULTS!J130","v":0},{"$f":"RESULTS!K130","v":0}]
[{"$f":"RESULTS!A131","v":122},{"$f":"RESULTS!F131","v":0},{"$f":"RESULTS!G131","v":0},{"$f":"RESULTS!H131","v":0},{"$f":"RESULTS!I131","v":0},{"$f":"RESULTS!J131","v":0},{"$f":"RESULTS!K131","v":0}]
[{"$f":"RESULTS!A132","v":123},{"$f":"RESULTS!F132","v":0},{"$f":"RESULTS!G132","v":0},{"$f":"RESULTS!H132","v":0},{"$f":"RESULTS!I132","v":0},{"$f":"RESULTS!J132","v":0},{"$f":"RESULTS!K132","v":0}]
[{"$f":"RESULTS!A133","v":124},{"$f":"RESULTS!F133","v":0},{"$f":"RESULTS!G133","v":0},{"$f":"RESULTS!H133","v":0},{"$f":"RESULTS!I133","v":0},{"$f":"RESULTS!J133","v":0},{"$f":"RESULTS!K133","v":0}]
[{"$f":"RESULTS!A134","v":125},{"$f":"RESULTS!F134","v":0},{"$f":"RESULTS!G134","v":0},{"$f":"RESULTS!H134","v":0},{"$f":"RESULTS!I134","v":0},{"$f":"RESULTS!J134","v":0},{"$f":"RESULTS!K134","v":0}]
[{"$f":"RESULTS!A135","v":126},{"$f":"RESULTS!F135","v":0},{"$f":"RESULTS!G135","v":0},{"$f":"RESULTS!H135","v":0},{"$f":"RESULTS!I135","v":0},{"$f":"RESULTS!J135","v":0},{"$f":"RESULTS!K135","v":0}]
[{"$f":"RESULTS!A136","v":127},{"$f":"RESULTS!F136","v":0},{"$f":"RESULTS!G136","v":0},{"$f":"RESULTS!H136","v":0},{"$f":"RESULTS!I136","v":0},{"$f":"RESULTS!J136","v":0},{"$f":"RESULTS!K136","v":0}]
[{"$f":"RESULTS!A137","v":128},{"$f":"RESULTS!F137","v":0},{"$f":"RESULTS!G137","v":0},{"$f":"RESULTS!H137","v":0},{"$f":"RESULTS!I137","v":0},{"$f":"RESULTS!J137","v":0},{"$f":"RESULTS!K137","v":0}]
[{"$f":"RESULTS!A138","v":129},{"$f":"RESULTS!F138","v":0},{"$f":"RESULTS!G138","v":0},{"$f":"RESULTS!H138","v":0},{"$f":"RESULTS!I138","v":0},{"$f":"RESULTS!J138","v":0},{"$f":"RESULTS!K138","v":0}]
[{"$f":"RESULTS!A139","v":130},{"$f":"RESULTS!F139","v":0},{"$f":"RESULTS!G139","v":0},{"$f":"RESULTS!H139","v":0},{"$f":"RESULTS!I139","v":0},{"$f":"RESULTS!J139","v":0},{"$f":"RESULTS!K139","v":0}]
[{"$f":"RESULTS!A140","v":131},{"$f":"RESULTS!F140","v":0},{"$f":"RESULTS!G140","v":0},{"$f":"RESULTS!H140","v":0},{"$f":"RESULTS!I140","v":0},{"$f":"RESULTS!J140","v":0},{"$f":"RESULTS!K140","v":0}]
[{"$f":"RESULTS!A141","v":132},{"$f":"RESULTS!F141","v":0},{"$f":"RESULTS!G141","v":0},{"$f":"RESULTS!H141","v":0},{"$f":"RESULTS!I141","v":0},{"$f":"RESULTS!J141","v":0},{"$f":"RESULTS!K141","v":0}]
[{"$f":"RESULTS!A142","v":133},{"$f":"RESULTS!F142","v":0},{"$f":"RESULTS!G142","v":0},{"$f":"RESULTS!H142","v":0},{"$f":"RESULTS!I142","v":0},{"$f":"RESULTS!J142","v":0},{"$f":"RESULTS!K142","v":0}]
[{"$f":"RESULTS!A143","v":134},{"$f":"RESULTS!F143","v":0},{"$f":"RESULTS!G143","v":0},{"$f":"RESULTS!H143","v":0},{"$f":"RESULTS!I143","v":0},{"$f":"RESULTS!J143","v":0},{"$f":"RESULTS!K143","v":0}]
[{"$f":"RESULTS!A144","v":135},{"$f":"RESULTS!F144","v":0},{"$f":"RESULTS!G144","v":0},{"$f":"RESULTS!H144","v":0},{"$f":"RESULTS!I144","v":0},{"$f":"RESULTS!J144","v":0},{"$f":"RESULTS!K144","v":0}]
[{"$f":"RESULTS!A145","v":136},{"$f":"RESULTS!F145","v":0},{"$f":"RESULTS!G145","v":0},{"$f":"RESULTS!H145","v":0},{"$f":"RESULTS!I145","v":0},{"$f":"RESULTS!J145","v":0},{"$f":"RESULTS!K145","v":0}]
[{"$f":"RESULTS!A146","v":137},{"$f":"RESULTS!F146","v":0},{"$f":"RESULTS!G146","v":0},{"$f":"RESULTS!H146","v":0},{"$f":"RESULTS!I146","v":0},{"$f":"RESULTS!J146","v":0},{"$f":"RESULTS!K146","v":0}]
[{"$f":"RESULTS!A147","v":138},{"$f":"RESULTS!F147","v":0},{"$f":"RESULTS!G147","v":0},{"$f":"RESULTS!H147","v":0},{"$f":"RESULTS!I147","v":0},{"$f":"RESULTS!J147","v":0},{"$f":"RESULTS!K147","v":0}]
[{"$f":"RESULTS!A148","v":139},{"$f":"RESULTS!F148","v":0},{"$f":"RESULTS!G148","v":0},{"$f":"RESULTS!H148","v":0},{"$f":"RESULTS!I148","v":0},{"$f":"RESULTS!J148","v":0},{"$f":"RESULTS!K148","v":0}]
[{"$f":"RESULTS!A149","v":140},{"$f":"RESULTS!F149","v":0},{"$f":"RESULTS!G149","v":0},{"$f":"RESULTS!H149","v":0},{"$f":"RESULTS!I149","v":0},{"$f":"RESULTS!J149","v":0},{"$f":"RESULTS!K149","v":0}]
[]
[]
["Results (Continued)"]
[]
["Year",{"$f":"RESULTS!$L$7","v":"Carbon dioxide"},null,null,{"$f":"RESULTS!$O$7","v":"NMOC"}]
[null,"(Mg/year)","(m3/year)",{"$f":"RESULTS!$H$8","v":"(av ft^3/min)"},"(Mg/year)","(m3/year)",{"$f":"RESULTS!$H$8","v":"(av ft^3/min)"}]
[{"$f":"RESULTS!A9","v":0},{"$f":"RESULTS!L9","v":0},{"$f":"RESULTS!M9","v":0},{"$f":"RESULTS!N9","v":0},{"$f":"RESULTS!O9","v":0},{"$f":"RESULTS!P9","v":0},{"$f":"RESULTS!Q9","v":0}]
[{"$f":"RESULTS!A10","v":1},{"$f":"RESULTS!L10","v":0},{"$f":"RESULTS!M10","v":0},{"$f":"RESULTS!N10","v":0},{"$f":"RESULTS!O10","v":0},{"$f":"RESULTS!P10","v":0},{"$f":"RESULTS!Q10","v":0}]
[{"$f":"RESULTS!A11","v":2},{"$f":"RESULTS!L11","v":0},{"$f":"RESULTS!M11","v":0},{"$f":"RESULTS!N11","v":0},{"$f":"RESULTS!O11","v":0},{"$f":"RESULTS!P11","v":0},{"$f":"RESULTS!Q11","v":0}]
[{"$f":"RESULTS!A12","v":3},{"$f":"RESULTS!L12","v":0},{"$f":"RESULTS!M12","v":0},{"$f":"RESULTS!N12","v":0},{"$f":"RESULTS!O12","v":0},{"$f":"RESULTS!P12","v":0},{"$f":"RESULTS!Q12","v":0}]
[{"$f":"RESULTS!A13","v":4},{"$f":"RESULTS!L13","v":0},{"$f":"RESULTS!M13","v":0},{"$f":"RESULTS!N13","v":0},{"$f":"RESULTS!O13","v":0},{"$f":"RESULTS!P13","v":0},{"$f":"RESULTS!Q13","v":0}]
[{"$f":"RESULTS!A14","v":5},{"$f":"RESULTS!L14","v":0},{"$f":"RESULTS!M14","v":0},{"$f":"RESULTS!N14","v":0},{"$f":"RESULTS!O14","v":0},{"$f":"RESULTS!P14","v":0},{"$f":"RESULTS!Q14","v":0}]
[{"$f":"RESULTS!A15","v":6},{"$f":"RESULTS!L15","v":0},{"$f":"RESULTS!M15","v":0},{"$f":"RESULTS!N15","v":0},{"$f":"RESULTS!O15","v":0},{"$f":"RESULTS!P15","v":0},{"$f":"RESULTS!Q15","v":0}]
[{"$f":"RESULTS!A16","v":7},{"$f":"RESULTS!L16","v":0},{"$f":"RESULTS!M16","v":0},{"$f":"RESULTS!N16","v":0},{"$f":"RESULTS!O16","v":0},{"$f":"RESULTS!P16","v":0},{"$f":"RESULTS!Q16","v":0}]
[{"$f":"RESULTS!A17","v":8},{"$f":"RESULTS!L17","v":0},{"$f":"RESULTS!M17","v":0},{"$f":"RESULTS!N17","v":0},{"$f":"RESULTS!O17","v":0},{"$f":"RESULTS!P17","v":0},{"$f":"RESULTS!Q17","v":0}]
[{"$f":"RESULTS!A18","v":9},{"$f":"RESULTS!L18","v":0},{"$f":"RESULTS!M18","v":0},{"$f":"RESULTS!N18","v":0},{"$f":"RESULTS!O18","v":0},{"$f":"RESULTS!P18","v":0},{"$f":"RESULTS!Q18","v":0}]
[{"$f":"RESULTS!A19","v":10},{"$f":"RESULTS!L19","v":0},{"$f":"RESULTS!M19","v":0},{"$f":"RESULTS!N19","v":0},{"$f":"RESULTS!O19","v":0},{"$f":"RESULTS!P19","v":0},{"$f":"RESULTS!Q19","v":0}]
[{"$f":"RESULTS!A20","v":11},{"$f":"RESULTS!L20","v":0},{"$f":"RESULTS!M20","v":0},{"$f":"RESULTS!N20","v":0},{"$f":"RESULTS!O20","v":0},{"$f":"RESULTS!P20","v":0},{"$f":"RESULTS!Q20","v":0}]
[{"$f":"RESULTS!A21","v":12},{"$f":"RESULTS!L21","v":0},{"$f":"RESULTS!M21","v":0},{"$f":"RESULTS!N21","v":0},{"$f":"RESULTS!O21","v":0},{"$f":"RESULTS!P21","v":0},{"$f":"RESULTS!Q21","v":0}]
[{"$f":"RESULTS!A22","v":13},{"$f":"RESULTS!L22","v":0},{"$f":"RESULTS!M22","v":0},{"$f":"RESULTS!N22","v":0},{"$f":"RESULTS!O22","v":0},{"$f":"RESULTS!P22","v":0},{"$f":"RESULTS!Q22","v":0}]
[{"$f":"RESULTS!A23","v":14},{"$f":"RESULTS!L23","v":0},{"$f":"RESULTS!M23","v":0},{"$f":"RESULTS!N23","v":0},{"$f":"RESULTS!O23","v":0},{"$f":"RESULTS!P23","v":0},{"$f":"RESULTS!Q23","v":0}]
[{"$f":"RESULTS!A24","v":15},{"$f":"RESULTS!L24","v":0},{"$f":"RESULTS!M24","v":0},{"$f":"RESULTS!N24","v":0},{"$f":"RESULTS!O24","v":0},{"$f":"RESULTS!P24","v":0},{"$f":"RESULTS!Q24","v":0}]
[{"$f":"RESULTS!A25","v":16},{"$f":"RESULTS!L25","v":0},{"$f":"RESULTS!M25","v":0},{"$f":"RESULTS!N25","v":0},{"$f":"RESULTS!O25","v":0},{"$f":"RESULTS!P25","v":0},{"$f":"RESULTS!Q25","v":0}]
[{"$f":"RESULTS!A26","v":17},{"$f":"RESULTS!L26","v":0},{"$f":"RESULTS!M26","v":0},{"$f":"RESULTS!N26","v":0},{"$f":"RESULTS!O26","v":0},{"$f":"RESULTS!P26","v":0},{"$f":"RESULTS!Q26","v":0}]
[{"$f":"RESULTS!A27","v":18},{"$f":"RESULTS!L27","v":0},{"$f":"RESULTS!M27","v":0},{"$f":"RESULTS!N27","v":0},{"$f":"RESULTS!O27","v":0},{"$f":"RESULTS!P27","v":0},{"$f":"RESULTS!Q27","v":0}]
[{"$f":"RESULTS!A28","v":19},{"$f":"RESULTS!L28","v":0},{"$f":"RESULTS!M28","v":0},{"$f":"RESULTS!N28","v":0},{"$f":"RESULTS!O28","v":0},{"$f":"RESULTS!P28","v":0},{"$f":"RESULTS!Q28","v":0}]
[{"$f":"RESULTS!A29","v":20},{"$f":"RESULTS!L29","v":0},{"$f":"RESULTS!M29","v":0},{"$f":"RESULTS!N29","v":0},{"$f":"RESULTS!O29","v":0},{"$f":"RESULTS!P29","v":0},{"$f":"RESULTS!Q29","v":0}]
[{"$f":"RESULTS!A30","v":21},{"$f":"RESULTS!L30","v":0},{"$f":"RESULTS!M30","v":0},{"$f":"RESULTS!N30","v":0},{"$f":"RESULTS!O30","v":0},{"$f":"RESULTS!P30","v":0},{"$f":"RESULTS!Q30","v":0}]
[{"$f":"RESULTS!A31","v":22},{"$f":"RESULTS!L31","v":0},{"$f":"RESULTS!M31","v":0},{"$f":"RESULTS!N31","v":0},{"$f":"RESULTS!O31","v":0},{"$f":"RESULTS!P31","v":0},{"$f":"RESULTS!Q31","v":0}]
[{"$f":"RESULTS!A32","v":23},{"$f":"RESULTS!L32","v":0},{"$f":"RESULTS!M32","v":0},{"$f":"RESULTS!N32","v":0},{"$f":"RESULTS!O32","v":0},{"$f":"RESULTS!P32","v":0},{"$f":"RESULTS!Q32","v":0}]
[{"$f":"RESULTS!A33","v":24},{"$f":"RESULTS!L33","v":0},{"$f":"RESULTS!M33","v":0},{"$f":"RESULTS!N33","v":0},{"$f":"RESULTS!O33","v":0},{"$f":"RESULTS!P33","v":0},{"$f":"RESULTS!Q33","v":0}]
[{"$f":"RESULTS!A34","v":25},{"$f":"RESULTS!L34","v":0},{"$f":"RESULTS!M34","v":0},{"$f":"RESULTS!N34","v":0},{"$f":"RESULTS!O34","v":0},{"$f":"RESULTS!P34","v":0},{"$f":"RESULTS!Q34","v":0}]
[{"$f":"RESULTS!A35","v":26},{"$f":"RESULTS!L35","v":0},{"$f":"RESULTS!M35","v":0},{"$f":"RESULTS!N35","v":0},{"$f":"RESULTS!O35","v":0},{"$f":"RESULTS!P35","v":0},{"$f":"RESULTS!Q35","v":0}]
[{"$f":"RESULTS!A36","v":27},{"$f":"RESULTS!L36","v":0},{"$f":"RESULTS!M36","v":0},{"$f":"RESULTS!N36","v":0},{"$f":"RESULTS!O36","v":0},{"$f":"RESULTS!P36","v":0},{"$f":"RESULTS!Q36","v":0}]
[{"$f":"RESULTS!A37","v":28},{"$f":"RESULTS!L37","v":0},{"$f":"RESULTS!M37","v":0},{"$f":"RESULTS!N37","v":0},{"$f":"RESULTS!O37","v":0},{"$f":"RESULTS!P37","v":0},{"$f":"RESULTS!Q37","v":0}]
[{"$f":"RESULTS!A38","v":29},{"$f":"RESULTS!L38","v":0},{"$f":"RESULTS!M38","v":0},{"$f":"RESULTS!N38","v":0},{"$f":"RESULTS!O38","v":0},{"$f":"RESULTS!P38","v":0},{"$f":"RESULTS!Q38","v":0}]
[{"$f":"RESULTS!A39","v":30},{"$f":"RESULTS!L39","v":0},{"$f":"RESULTS!M39","v":0},{"$f":"RESULTS!N39","v":0},{"$f":"RESULTS!O39","v":0},{"$f":"RESULTS!P39","v":0},{"$f":"RESULTS!Q39","v":0}]
[{"$f":"RESULTS!A40","v":31},{"$f":"RESULTS!L40","v":0},{"$f":"RESULTS!M40","v":0},{"$f":"RESULTS!N40","v":0},{"$f":"RESULTS!O40","v":0},{"$f":"RESULTS!P40","v":0},{"$f":"RESULTS!Q40","v":0}]
[{"$f":"RESULTS!A41","v":32},{"$f":"RESULTS!L41","v":0},{"$f":"RESULTS!M41","v":0},{"$f":"RESULTS!N41","v":0},{"$f":"RESULTS!O41","v":0},{"$f":"RESULTS!P41","v":0},{"$f":"RESULTS!Q41","v":0}]
[{"$f":"RESULTS!A42","v":33},{"$f":"RESULTS!L42","v":0},{"$f":"RESULTS!M42","v":0},{"$f":"RESULTS!N42","v":0},{"$f":"RESULTS!O42","v":0},{"$f":"RESULTS!P42","v":0},{"$f":"RESULTS!Q42","v":0}]
[{"$f":"RESULTS!A43","v":34},{"$f":"RESULTS!L43","v":0},{"$f":"RESULTS!M43","v":0},{"$f":"RESULTS!N43","v":0},{"$f":"RESULTS!O43","v":0},{"$f":"RESULTS!P43","v":0},{"$f":"RESULTS!Q43","v":0}]
[{"$f":"RESULTS!A44","v":35},{"$f":"RESULTS!L44","v":0},{"$f":"RESULTS!M44","v":0},{"$f":"RESULTS!N44","v":0},{"$f":"RESULTS!O44","v":0},{"$f":"RESULTS!P44","v":0},{"$f":"RESULTS!Q44","v":0}]
[{"$f":"RESULTS!A45","v":36},{"$f":"RESULTS!L45","v":0},{"$f":"RESULTS!M45","v":0},{"$f":"RESULTS!N45","v":0},{"$f":"RESULTS!O45","v":0},{"$f":"RESULTS!P45","v":0},{"$f":"RESULTS!Q45","v":0}]
[{"$f":"RESULTS!A46","v":37},{"$f":"RESULTS!L46","v":0},{"$f":"RESULTS!M46","v":0},{"$f":"RESULTS!N46","v":0},{"$f":"RESULTS!O46","v":0},{"$f":"RESULTS!P46","v":0},{"$f":"RESULTS!Q46","v":0}]
[{"$f":"RESULTS!A47","v":38},{"$f":"RESULTS!L47","v":0},{"$f":"RESULTS!M47","v":0},{"$f":"RESULTS!N47","v":0},{"$f":"RESULTS!O47","v":0},{"$f":"RESULTS!P47","v":0},{"$f":"RESULTS!Q47","v":0}]
[{"$f":"RESULTS!A48","v":39},{"$f":"RESULTS!L48","v":0},{"$f":"RESULTS!M48","v":0},{"$f":"RESULTS!N48","v":0},{"$f":"RESULTS!O48","v":0},{"$f":"RESULTS!P48","v":0},{"$f":"RESULTS!Q48","v":0}]
[{"$f":"RESULTS!A49","v":40},{"$f":"RESULTS!L49","v":0},{"$f":"RESULTS!M49","v":0},{"$f":"RESULTS!N49","v":0},{"$f":"RESULTS!O49","v":0},{"$f":"RESULTS!P49","v":0},{"$f":"RESULTS!Q49","v":0}]
[{"$f":"RESULTS!A50","v":41},{"$f":"RESULTS!L50","v":0},{"$f":"RESULTS!M50","v":0},{"$f":"RESULTS!N50","v":0},{"$f":"RESULTS!O50","v":0},{"$f":"RESULTS!P50","v":0},{"$f":"RESULTS!Q50","v":0}]
[{"$f":"RESULTS!A51","v":42},{"$f":"RESULTS!L51","v":0},{"$f":"RESULTS!M51","v":0},{"$f":"RESULTS!N51","v":0},{"$f":"RESULTS!O51","v":0},{"$f":"RESULTS!P51","v":0},{"$f":"RESULTS!Q51","v":0}]
[{"$f":"RESULTS!A52","v":43},{"$f":"RESULTS!L52","v":0},{"$f":"RESULTS!M52","v":0},{"$f":"RESULTS!N52","v":0},{"$f":"RESULTS!O52","v":0},{"$f":"RESULTS!P52","v":0},{"$f":"RESULTS!Q52","v":0}]
[{"$f":"RESULTS!A53","v":44},{"$f":"RESULTS!L53","v":0},{"$f":"RESULTS!M53","v":0},{"$f":"RESULTS!N53","v":0},{"$f":"RESULTS!O53","v":0},{"$f":"RESULTS!P53","v":0},{"$f":"RESULTS!Q53","v":0}]
[{"$f":"RESULTS!A54","v":45},{"$f":"RESULTS!L54","v":0},{"$f":"RESULTS!M54","v":0},{"$f":"RESULTS!N54","v":0},{"$f":"RESULTS!O54","v":0},{"$f":"RESULTS!P54","v":0},{"$f":"RESULTS!Q54","v":0}]
[{"$f":"RESULTS!A55","v":46},{"$f":"RESULTS!L55","v":0},{"$f":"RESULTS!M55","v":0},{"$f":"RESULTS!N55","v":0},{"$f":"RESULTS!O55","v":0},{"$f":"RESULTS!P55","v":0},{"$f":"RESULTS!Q55","v":0}]
[{"$f":"RESULTS!A56","v":47},{"$f":"RESULTS!L56","v":0},{"$f":"RESULTS!M56","v":0},{"$f":"RESULTS!N56","v":0},{"$f":"RESULTS!O56","v":0},{"$f":"RESULTS!P56","v":0},{"$f":"RESULTS!Q56","v":0}]
[{"$f":"RESULTS!A57","v":48},{"$f":"RESULTS!L57","v":0},{"$f":"RESULTS!M57","v":0},{"$f":"RESULTS!N57","v":0},{"$f":"RESULTS!O57","v":0},{"$f":"RESULTS!P57","v":0},{"$f":"RESULTS!Q57","v":0}]
[{"$f":"RESULTS!A58","v":49},{"$f":"RESULTS!L58","v":0},{"$f":"RESULTS!M58","v":0},{"$f":"RESULTS!N58","v":0},{"$f":"RESULTS!O58","v":0},{"$f":"RESULTS!P58","v":0},{"$f":"RESULTS!Q58","v":0}]
[]
[]
["Results (Continued)"]
[]
["Year",{"$f":"RESULTS!$L$7","v":"Carbon dioxide"},null,null,{"$f":"RESULTS!$O$7","v":"NMOC"}]
[null,"(Mg/year)","(m3/year)",{"$f":"RESULTS!$H$8","v":"(av ft^3/min)"},"(Mg/year)","(m3/year)",{"$f":"RESULTS!$H$8","v":"(av ft^3/min)"}]
[{"$f":"RESULTS!A59","v":50},{"$f":"RESULTS!L59","v":0},{"$f":"RESULTS!M59","v":0},{"$f":"RESULTS!N59","v":0},{"$f":"RESULTS!O59","v":0},{"$f":"RESULTS!P59","v":0},{"$f":"RESULTS!Q59","v":0}]
[{"$f":"RESULTS!A60","v":51},{"$f":"RESULTS!L60","v":0},{"$f":"RESULTS!M60","v":0},{"$f":"RESULTS!N60","v":0},{"$f":"RESULTS!O60","v":0},{"$f":"RESULTS!P60","v":0},{"$f":"RESULTS!Q60","v":0}]
[{"$f":"RESULTS!A61","v":52},{"$f":"RESULTS!L61","v":0},{"$f":"RESULTS!M61","v":0},{"$f":"RESULTS!N61","v":0},{"$f":"RESULTS!O61","v":0},{"$f":"RESULTS!P61","v":0},{"$f":"RESULTS!Q61","v":0}]
[{"$f":"RESULTS!A62","v":53},{"$f":"RESULTS!L62","v":0},{"$f":"RESULTS!M62","v":0},{"$f":"RESULTS!N62","v":0},{"$f":"RESULTS!O62","v":0},{"$f":"RESULTS!P62","v":0},{"$f":"RESULTS!Q62","v":0}]
[{"$f":"RESULTS!A63","v":54},{"$f":"RESULTS!L63","v":0},{"$f":"RESULTS!M63","v":0},{"$f":"RESULTS!N63","v":0},{"$f":"RESULTS!O63","v":0},{"$f":"RESULTS!P63","v":0},{"$f":"RESULTS!Q63","v":0}]
[{"$f":"RESULTS!A64","v":55},{"$f":"RESULTS!L64","v":0},{"$f":"RESULTS!M64","v":0},{"$f":"RESULTS!N64","v":0},{"$f":"RESULTS!O64","v":0},{"$f":"RESULTS!P64","v":0},{"$f":"RESULTS!Q64","v":0}]
[{"$f":"RESULTS!A65","v":56},{"$f":"RESULTS!L65","v":0},{"$f":"RESULTS!M65","v":0},{"$f":"RESULTS!N65","v":0},{"$f":"RESULTS!O65","v":0},{"$f":"RESULTS!P65","v":0},{"$f":"RESULTS!Q65","v":0}]
[{"$f":"RESULTS!A66","v":57},{"$f":"RESULTS!L66","v":0},{"$f":"RESULTS!M66","v":0},{"$f":"RESULTS!N66","v":0},{"$f":"RESULTS!O66","v":0},{"$f":"RESULTS!P66","v":0},{"$f":"RESULTS!Q66","v":0}]
[{"$f":"RESULTS!A67","v":58},{"$f":"RESULTS!L67","v":0},{"$f":"RESULTS!M67","v":0},{"$f":"RESULTS!N67","v":0},{"$f":"RESULTS!O67","v":0},{"$f":"RESULTS!P67","v":0},{"$f":"RESULTS!Q67","v":0}]
[{"$f":"RESULTS!A68","v":59},{"$f":"RESULTS!L68","v":0},{"$f":"RESULTS!M68","v":0},{"$f":"RESULTS!N68","v":0},{"$f":"RESULTS!O68","v":0},{"$f":"RESULTS!P68","v":0},{"$f":"RESULTS!Q68","v":0}]
[{"$f":"RESULTS!A69","v":60},{"$f":"RESULTS!L69","v":0},{"$f":"RESULTS!M69","v":0},{"$f":"RESULTS!N69","v":0},{"$f":"RESULTS!O69","v":0},{"$f":"RESULTS!P69","v":0},{"$f":"RESULTS!Q69","v":0}]
[{"$f":"RESULTS!A70","v":61},{"$f":"RESULTS!L70","v":0},{"$f":"RESULTS!M70","v":0},{"$f":"RESULTS!N70","v":0},{"$f":"RESULTS!O70","v":0},{"$f":"RESULTS!P70","v":0},{"$f":"RESULTS!Q70","v":0}]
[{"$f":"RESULTS!A71","v":62},{"$f":"RESULTS!L71","v":0},{"$f":"RESULTS!M71","v":0},{"$f":"RESULTS!N71","v":0},{"$f":"RESULTS!O71","v":0},{"$f":"RESULTS!P71","v":0},{"$f":"RESULTS!Q71","v":0}]
[{"$f":"RESULTS!A72","v":63},{"$f":"RESULTS!L72","v":0},{"$f":"RESULTS!M72","v":0},{"$f":"RESULTS!N72","v":0},{"$f":"RESULTS!O72","v":0},{"$f":"RESULTS!P72","v":0},{"$f":"RESULTS!Q72","v":0}]
[{"$f":"RESULTS!A73","v":64},{"$f":"RESULTS!L73","v":0},{"$f":"RESULTS!M73","v":0},{"$f":"RESULTS!N73","v":0},{"$f":"RESULTS!O73","v":0},{"$f":"RESULTS!P73","v":0},{"$f":"RESULTS!Q73","v":0}]
[{"$f":"RESULTS!A74","v":65},{"$f":"RESULTS!L74","v":0},{"$f":"RESULTS!M74","v":0},{"$f":"RESULTS!N74","v":0},{"$f":"RESULTS!O74","v":0},{"$f":"RESULTS!P74","v":0},{"$f":"RESULTS!Q74","v":0}]
[{"$f":"RESULTS!A75","v":66},{"$f":"RESULTS!L75","v":0},{"$f":"RESULTS!M75","v":0},{"$f":"RESULTS!N75","v":0},{"$f":"RESULTS!O75","v":0},{"$f":"RESULTS!P75","v":0},{"$f":"RESULTS!Q75","v":0}]
[{"$f":"RESULTS!A76","v":67},{"$f":"RESULTS!L76","v":0},{"$f":"RESULTS!M76","v":0},{"$f":"RESULTS!N76","v":0},{"$f":"RESULTS!O76","v":0},{"$f":"RESULTS!P76","v":0},{"$f":"RESULTS!Q76","v":0}]
[{"$f":"RESULTS!A77","v":68},{"$f":"RESULTS!L77","v":0},{"$f":"RESULTS!M77","v":0},{"$f":"RESULTS!N77","v":0},{"$f":"RESULTS!O77","v":0},{"$f":"RESULTS!P77","v":0},{"$f":"RESULTS!Q77","v":0}]
[{"$f":"RESULTS!A78","v":69},{"$f":"RESULTS!L78","v":0},{"$f":"RESULTS!M78","v":0},{"$f":"RESULTS!N78","v":0},{"$f":"RESULTS!O78","v":0},{"$f":"RESULTS!P78","v":0},{"$f":"RESULTS!Q78","v":0}]
[{"$f":"RESULTS!A79","v":70},{"$f":"RESULTS!L79","v":0},{"$f":"RESULTS!M79","v":0},{"$f":"RESULTS!N79","v":0},{"$f":"RESULTS!O79","v":0},{"$f":"RESULTS!P79","v":0},{"$f":"RESULTS!Q79","v":0}]
[{"$f":"RESULTS!A80","v":71},{"$f":"RESULTS!L80","v":0},{"$f":"RESULTS!M80","v":0},{"$f":"RESULTS!N80","v":0},{"$f":"RESULTS!O80","v":0},{"$f":"RESULTS!P80","v":0},{"$f":"RESULTS!Q80","v":0}]
[{"$f":"RESULTS!A81","v":72},{"$f":"RESULTS!L81","v":0},{"$f":"RESULTS!M81","v":0},{"$f":"RESULTS!N81","v":0},{"$f":"RESULTS!O81","v":0},{"$f":"RESULTS!P81","v":0},{"$f":"RESULTS!Q81","v":0}]
[{"$f":"RESULTS!A82","v":73},{"$f":"RESULTS!L82","v":0},{"$f":"RESULTS!M82","v":0},{"$f":"RESULTS!N82","v":0},{"$f":"RESULTS!O82","v":0},{"$f":"RESULTS!P82","v":0},{"$f":"RESULTS!Q82","v":0}]
[{"$f":"RESULTS!A83","v":74},{"$f":"RESULTS!L83","v":0},{"$f":"RESULTS!M83","v":0},{"$f":"RESULTS!N83","v":0},{"$f":"RESULTS!O83","v":0},{"$f":"RESULTS!P83","v":0},{"$f":"RESULTS!Q83","v":0}]
[{"$f":"RESULTS!A84","v":75},{"$f":"RESULTS!L84","v":0},{"$f":"RESULTS!M84","v":0},{"$f":"RESULTS!N84","v":0},{"$f":"RESULTS!O84","v":0},{"$f":"RESULTS!P84","v":0},{"$f":"RESULTS!Q84","v":0}]
[{"$f":"RESULTS!A85","v":76},{"$f":"RESULTS!L85","v":0},{"$f":"RESULTS!M85","v":0},{"$f":"RESULTS!N85","v":0},{"$f":"RESULTS!O85","v":0},{"$f":"RESULTS!P85","v":0},{"$f":"RESULTS!Q85","v":0}]
[{"$f":"RESULTS!A86","v":77},{"$f":"RESULTS!L86","v":0},{"$f":"RESULTS!M86","v":0},{"$f":"RESULTS!N86","v":0},{"$f":"RESULTS!O86","v":0},{"$f":"RESULTS!P86","v":0},{"$f":"RESULTS!Q86","v":0}]
[{"$f":"RESULTS!A87","v":78},{"$f":"RESULTS!L87","v":0},{"$f":"RESULTS!M87","v":0},{"$f":"RESULTS!N87","v":0},{"$f":"RESULTS!O87","v":0},{"$f":"RESULTS!P87","v":0},{"$f":"RESULTS!Q87","v":0}]
[{"$f":"RESULTS!A88","v":79},{"$f":"RESULTS!L88","v":0},{"$f":"RESULTS!M88","v":0},{"$f":"RESULTS!N88","v":0},{"$f":"RESULTS!O88","v":0},{"$f":"RESULTS!P88","v":0},{"$f":"RESULTS!Q88","v":0}]
[{"$f":"RESULTS!A89","v":80},{"$f":"RESULTS!L89","v":0},{"$f":"RESULTS!M89","v":0},{"$f":"RESULTS!N89","v":0},{"$f":"RESULTS!O89","v":0},{"$f":"RESULTS!P89","v":0},{"$f":"RESULTS!Q89","v":0}]
[{"$f":"RESULTS!A90","v":81},{"$f":"RESULTS!L90","v":0},{"$f":"RESULTS!M90","v":0},{"$f":"RESULTS!N90","v":0},{"$f":"RESULTS!O90","v":0},{"$f":"RESULTS!P90","v":0},{"$f":"RESULTS!Q90","v":0}]
[{"$f":"RESULTS!A91","v":82},{"$f":"RESULTS!L91","v":0},{"$f":"RESULTS!M91","v":0},{"$f":"RESULTS!N91","v":0},{"$f":"RESULTS!O91","v":0},{"$f":"RESULTS!P91","v":0},{"$f":"RESULTS!Q91","v":0}]
[{"$f":"RESULTS!A92","v":83},{"$f":"RESULTS!L92","v":0},{"$f":"RESULTS!M92","v":0},{"$f":"RESULTS!N92","v":0},{"$f":"RESULTS!O92","v":0},{"$f":"RESULTS!P92","v":0},{"$f":"RESULTS!Q92","v":0}]
[{"$f":"RESULTS!A93","v":84},{"$f":"RESULTS!L93","v":0},{"$f":"RESULTS!M93","v":0},{"$f":"RESULTS!N93","v":0},{"$f":"RESULTS!O93","v":0},{"$f":"RESULTS!P93","v":0},{"$f":"RESULTS!Q93","v":0}]
[{"$f":"RESULTS!A94","v":85},{"$f":"RESULTS!L94","v":0},{"$f":"RESULTS!M94","v":0},{"$f":"RESULTS!N94","v":0},{"$f":"RESULTS!O94","v":0},{"$f":"RESULTS!P94","v":0},{"$f":"RESULTS!Q94","v":0}]
[{"$f":"RESULTS!A95","v":86},{"$f":"RESULTS!L95","v":0},{"$f":"RESULTS!M95","v":0},{"$f":"RESULTS!N95","v":0},{"$f":"RESULTS!O95","v":0},{"$f":"RESULTS!P95","v":0},{"$f":"RESULTS!Q95","v":0}]
[{"$f":"RESULTS!A96","v":87},{"$f":"RESULTS!L96","v":0},{"$f":"RESULTS!M96","v":0},{"$f":"RESULTS!N96","v":0},{"$f":"RESULTS!O96","v":0},{"$f":"RESULTS!P96","v":0},{"$f":"RESULTS!Q96","v":0}]
[{"$f":"RESULTS!A97","v":88},{"$f":"RESULTS!L97","v":0},{"$f":"RESULTS!M97","v":0},{"$f":"RESULTS!N97","v":0},{"$f":"RESULTS!O97","v":0},{"$f":"RESULTS!P97","v":0},{"$f":"RESULTS!Q97","v":0}]
[{"$f":"RESULTS!A98","v":89},{"$f":"RESULTS!L98","v":0},{"$f":"RESULTS!M98","v":0},{"$f":"RESULTS!N98","v":0},{"$f":"RESULTS!O98","v":0},{"$f":"RESULTS!P98","v":0},{"$f":"RESULTS!Q98","v":0}]
[{"$f":"RESULTS!A99","v":90},{"$f":"RESULTS!L99","v":0},{"$f":"RESULTS!M99","v":0},{"$f":"RESULTS!N99","v":0},{"$f":"RESULTS!O99","v":0},{"$f":"RESULTS!P99","v":0},{"$f":"RESULTS!Q99","v":0}]
[{"$f":"RESULTS!A100","v":91},{"$f":"RESULTS!L100","v":0},{"$f":"RESULTS!M100","v":0},{"$f":"RESULTS!N100","v":0},{"$f":"RESULTS!O100","v":0},{"$f":"RESULTS!P100","v":0},{"$f":"RESULTS!Q100","v":0}]
[{"$f":"RESULTS!A101","v":92},{"$f":"RESULTS!L101","v":0},{"$f":"RESULTS!M101","v":0},{"$f":"RESULTS!N101","v":0},{"$f":"RESULTS!O101","v":0},{"$f":"RESULTS!P101","v":0},{"$f":"RESULTS!Q101","v":0}]
[{"$f":"RESULTS!A102","v":93},{"$f":"RESULTS!L102","v":0},{"$f":"RESULTS!M102","v":0},{"$f":"RESULTS!N102","v":0},{"$f":"RESULTS!O102","v":0},{"$f":"RESULTS!P102","v":0},{"$f":"RESULTS!Q102","v":0}]
[{"$f":"RESULTS!A103","v":94},{"$f":"RESULTS!L103","v":0},{"$f":"RESULTS!M103","v":0},{"$f":"RESULTS!N103","v":0},{"$f":"RESULTS!O103","v":0},{"$f":"RESULTS!P103","v":0},{"$f":"RESULTS!Q103","v":0}]
[{"$f":"RESULTS!A104","v":95},{"$f":"RESULTS!L104","v":0},{"$f":"RESULTS!M104","v":0},{"$f":"RESULTS!N104","v":0},{"$f":"RESULTS!O104","v":0},{"$f":"RESULTS!P104","v":0},{"$f":"RESULTS!Q104","v":0}]
[{"$f":"RESULTS!A105","v":96},{"$f":"RESULTS!L105","v":0},{"$f":"RESULTS!M105","v":0},{"$f":"RESULTS!N105","v":0},{"$f":"RESULTS!O105","v":0},{"$f":"RESULTS!P105","v":0},{"$f":"RESULTS!Q105","v":0}]
[{"$f":"RESULTS!A106","v":97},{"$f":"RESULTS!L106","v":0},{"$f":"RESULTS!M106","v":0},{"$f":"RESULTS!N106","v":0},{"$f":"RESULTS!O106","v":0},{"$f":"RESULTS!P106","v":0},{"$f":"RESULTS!Q106","v":0}]
[{"$f":"RESULTS!A107","v":98},{"$f":"RESULTS!L107","v":0},{"$f":"RESULTS!M107","v":0},{"$f":"RESULTS!N107","v":0},{"$f":"RESULTS!O107","v":0},{"$f":"RESULTS!P107","v":0},{"$f":"RESULTS!Q107","v":0}]
[{"$f":"RESULTS!A108","v":99},{"$f":"RESULTS!L108","v":0},{"$f":"RESULTS!M108","v":0},{"$f":"RESULTS!N108","v":0},{"$f":"RESULTS!O108","v":0},{"$f":"RESULTS!P108","v":0},{"$f":"RESULTS!Q108","v":0}]
[{"$f":"RESULTS!A109","v":100},{"$f":"RESULTS!L109","v":0},{"$f":"RESULTS!M109","v":0},{"$f":"RESULTS!N109","v":0},{"$f":"RESULTS!O109","v":0},{"$f":"RESULTS!P109","v":0},{"$f":"RESULTS!Q109","v":0}]
[]
[]
["Results (Continued)"]
[]
["Year",{"$f":"RESULTS!$L$7","v":"Carbon dioxide"},null,null,{"$f":"RESULTS!$O$7","v":"NMOC"}]
[null,"(Mg/year)","(m3/year)",{"$f":"RESULTS!$H$8","v":"(av ft^3/min)"},"(Mg/year)","(m3/year)",{"$f":"RESULTS!$H$8","v":"(av ft^3/min)"}]
[{"$f":"RESULTS!A110","v":101},{"$f":"RESULTS!L110","v":0},{"$f":"RESULTS!M110","v":0},{"$f":"RESULTS!N110","v":0},{"$f":"RESULTS!O110","v":0},{"$f":"RESULTS!P110","v":0},{"$f":"RESULTS!Q110","v":0}]
[{"$f":"RESULTS!A111","v":102},{"$f":"RESULTS!L111","v":0},{"$f":"RESULTS!M111","v":0},{"$f":"RESULTS!N111","v":0},{"$f":"RESULTS!O111","v":0},{"$f":"RESULTS!P111","v":0},{"$f":"RESULTS!Q111","v":0}]
[{"$f":"RESULTS!A112","v":103},{"$f":"RESULTS!L112","v":0},{"$f":"RESULTS!M112","v":0},{"$f":"RESULTS!N112","v":0},{"$f":"RESULTS!O112","v":0},{"$f":"RESULTS!P112","v":0},{"$f":"RESULTS!Q112","v":0}]
[{"$f":"RESULTS!A113","v":104},{"$f":"RESULTS!L113","v":0},{"$f":"RESULTS!M113","v":0},{"$f":"RESULTS!N113","v":0},{"$f":"RESULTS!O113","v":0},{"$f":"RESULTS!P113","v":0},{"$f":"RESULTS!Q113","v":0}]
[{"$f":"RESULTS!A114","v":105},{"$f":"RESULTS!L114","v":0},{"$f":"RESULTS!M114","v":0},{"$f":"RESULTS!N114","v":0},{"$f":"RESULTS!O114","v":0},{"$f":"RESULTS!P114","v":0},{"$f":"RESULTS!Q114","v":0}]
[{"$f":"RESULTS!A115","v":106},{"$f":"RESULTS!L115","v":0},{"$f":"RESULTS!M115","v":0},{"$f":"RESULTS!N115","v":0},{"$f":"RESULTS!O115","v":0},{"$f":"RESULTS!P115","v":0},{"$f":"RESULTS!Q115","v":0}]
[{"$f":"RESULTS!A116","v":107},{"$f":"RESULTS!L116","v":0},{"$f":"RESULTS!M116","v":0},{"$f":"RESULTS!N116","v":0},{"$f":"RESULTS!O116","v":0},{"$f":"RESULTS!P116","v":0},{"$f":"RESULTS!Q116","v":0}]
[{"$f":"RESULTS!A117","v":108},{"$f":"RESULTS!L117","v":0},{"$f":"RESULTS!M117","v":0},{"$f":"RESULTS!N117","v":0},{"$f":"RESULTS!O117","v":0},{"$f":"RESULTS!P117","v":0},{"$f":"RESULTS!Q117","v":0}]
[{"$f":"RESULTS!A118","v":109},{"$f":"RESULTS!L118","v":0},{"$f":"RESULTS!M118","v":0},{"$f":"RESULTS!N118","v":0},{"$f":"RESULTS!O118","v":0},{"$f":"RESULTS!P118","v":0},{"$f":"RESULTS!Q118","v":0}]
[{"$f":"RESULTS!A119","v":110},{"$f":"RESULTS!L119","v":0},{"$f":"RESULTS!M119","v":0},{"$f":"RESULTS!N119","v":0},{"$f":"RESULTS!O119","v":0},{"$f":"RESULTS!P119","v":0},{"$f":"RESULTS!Q119","v":0}]
[{"$f":"RESULTS!A120","v":111},{"$f":"RESULTS!L120","v":0},{"$f":"RESULTS!M120","v":0},{"$f":"RESULTS!N120","v":0},{"$f":"RESULTS!O120","v":0},{"$f":"RESULTS!P120","v":0},{"$f":"RESULTS!Q120","v":0}]
[{"$f":"RESULTS!A121","v":112},{"$f":"RESULTS!L121","v":0},{"$f":"RESULTS!M121","v":0},{"$f":"RESULTS!N121","v":0},{"$f":"RESULTS!O121","v":0},{"$f":"RESULTS!P121","v":0},{"$f":"RESULTS!Q121","v":0}]
[{"$f":"RESULTS!A122","v":113},{"$f":"RESULTS!L122","v":0},{"$f":"RESULTS!M122","v":0},{"$f":"RESULTS!N122","v":0},{"$f":"RESULTS!O122","v":0},{"$f":"RESULTS!P122","v":0},{"$f":"RESULTS!Q122","v":0}]
[{"$f":"RESULTS!A123","v":114},{"$f":"RESULTS!L123","v":0},{"$f":"RESULTS!M123","v":0},{"$f":"RESULTS!N123","v":0},{"$f":"RESULTS!O123","v":0},{"$f":"RESULTS!P123","v":0},{"$f":"RESULTS!Q123","v":0}]
[{"$f":"RESULTS!A124","v":115},{"$f":"RESULTS!L124","v":0},{"$f":"RESULTS!M124","v":0},{"$f":"RESULTS!N124","v":0},{"$f":"RESULTS!O124","v":0},{"$f":"RESULTS!P124","v":0},{"$f":"RESULTS!Q124","v":0}]
[{"$f":"RESULTS!A125","v":116},{"$f":"RESULTS!L125","v":0},{"$f":"RESULTS!M125","v":0},{"$f":"RESULTS!N125","v":0},{"$f":"RESULTS!O125","v":0},{"$f":"RESULTS!P125","v":0},{"$f":"RESULTS!Q125","v":0}]
[{"$f":"RESULTS!A126","v":117},{"$f":"RESULTS!L126","v":0},{"$f":"RESULTS!M126","v":0},{"$f":"RESULTS!N126","v":0},{"$f":"RESULTS!O126","v":0},{"$f":"RESULTS!P126","v":0},{"$f":"RESULTS!Q126","v":0}]
[{"$f":"RESULTS!A127","v":118},{"$f":"RESULTS!L127","v":0},{"$f":"RESULTS!M127","v":0},{"$f":"RESULTS!N127","v":0},{"$f":"RESULTS!O127","v":0},{"$f":"RESULTS!P127","v":0},{"$f":"RESULTS!Q127","v":0}]
[{"$f":"RESULTS!A128","v":119},{"$f":"RESULTS!L128","v":0},{"$f":"RESULTS!M128","v":0},{"$f":"RESULTS!N128","v":0},{"$f":"RESULTS!O128","v":0},{"$f":"RESULTS!P128","v":0},{"$f":"RESULTS!Q128","v":0}]
[{"$f":"RESULTS!A129","v":120},{"$f":"RESULTS!L129","v":0},{"$f":"RESULTS!M129","v":0},{"$f":"RESULTS!N129","v":0},{"$f":"RESULTS!O129","v":0},{"$f":"RESULTS!P129","v":0},{"$f":"RESULTS!Q129","v":0}]
[{"$f":"RESULTS!A130","v":121},{"$f":"RESULTS!L130","v":0},{"$f":"RESULTS!M130","v":0},{"$f":"RESULTS!N130","v":0},{"$f":"RESULTS!O130","v":0},{"$f":"RESULTS!P130","v":0},{"$f":"RESULTS!Q130","v":0}]
[{"$f":"RESULTS!A131","v":122},{"$f":"RESULTS!L131","v":0},{"$f":"RESULTS!M131","v":0},{"$f":"RESULTS!N131","v":0},{"$f":"RESULTS!O131","v":0},{"$f":"RESULTS!P131","v":0},{"$f":"RESULTS!Q131","v":0}]
[{"$f":"RESULTS!A132","v":123},{"$f":"RESULTS!L132","v":0},{"$f":"RESULTS!M132","v":0},{"$f":"RESULTS!N132","v":0},{"$f":"RESULTS!O132","v":0},{"$f":"RESULTS!P132","v":0},{"$f":"RESULTS!Q132","v":0}]
[{"$f":"RESULTS!A133","v":124},{"$f":"RESULTS!L133","v":0},{"$f":"RESULTS!M133","v":0},{"$f":"RESULTS!N133","v":0},{"$f":"RESULTS!O133","v":0},{"$f":"RESULTS!P133","v":0},{"$f":"RESULTS!Q133","v":0}]
[{"$f":"RESULTS!A134","v":125},{"$f":"RESULTS!L134","v":0},{"$f":"RESULTS!M134","v":0},{"$f":"RESULTS!N134","v":0},{"$f":"RESULTS!O134","v":0},{"$f":"RESULTS!P134","v":0},{"$f":"RESULTS!Q134","v":0}]
[{"$f":"RESULTS!A135","v":126},{"$f":"RESULTS!L135","v":0},{"$f":"RESULTS!M135","v":0},{"$f":"RESULTS!N135","v":0},{"$f":"RESULTS!O135","v":0},{"$f":"RESULTS!P135","v":0},{"$f":"RESULTS!Q135","v":0}]
[{"$f":"RESULTS!A136","v":127},{"$f":"RESULTS!L136","v":0},{"$f":"RESULTS!M136","v":0},{"$f":"RESULTS!N136","v":0},{"$f":"RESULTS!O136","v":0},{"$f":"RESULTS!P136","v":0},{"$f":"RESULTS!Q136","v":0}]
[{"$f":"RESULTS!A137","v":128},{"$f":"RESULTS!L137","v":0},{"$f":"RESULTS!M137","v":0},{"$f":"RESULTS!N137","v":0},{"$f":"RESULTS!O137","v":0},{"$f":"RESULTS!P137","v":0},{"$f":"RESULTS!Q137","v":0}]
[{"$f":"RESULTS!A138","v":129},{"$f":"RESULTS!L138","v":0},{"$f":"RESULTS!M138","v":0},{"$f":"RESULTS!N138","v":0},{"$f":"RESULTS!O138","v":0},{"$f":"RESULTS!P138","v":0},{"$f":"RESULTS!Q138","v":0}]
[{"$f":"RESULTS!A139","v":130},{"$f":"RESULTS!L139","v":0},{"$f":"RESULTS!M139","v":0},{"$f":"RESULTS!N139","v":0},{"$f":"RESULTS!O139","v":0},{"$f":"RESULTS!P139","v":0},{"$f":"RESULTS!Q139","v":0}]
[{"$f":"RESULTS!A140","v":131},{"$f":"RESULTS!L140","v":0},{"$f":"RESULTS!M140","v":0},{"$f":"RESULTS!N140","v":0},{"$f":"RESULTS!O140","v":0},{"$f":"RESULTS!P140","v":0},{"$f":"RESULTS!Q140","v":0}]
[{"$f":"RESULTS!A141","v":132},{"$f":"RESULTS!L141","v":0},{"$f":"RESULTS!M141","v":0},{"$f":"RESULTS!N141","v":0},{"$f":"RESULTS!O141","v":0},{"$f":"RESULTS!P141","v":0},{"$f":"RESULTS!Q141","v":0}]
[{"$f":"RESULTS!A142","v":133},{"$f":"RESULTS!L142","v":0},{"$f":"RESULTS!M142","v":0},{"$f":"RESULTS!N142","v":0},{"$f":"RESULTS!O142","v":0},{"$f":"RESULTS!P142","v":0},{"$f":"RESULTS!Q142","v":0}]
[{"$f":"RESULTS!A143","v":134},{"$f":"RESULTS!L143","v":0},{"$f":"RESULTS!M143","v":0},{"$f":"RESULTS!N143","v":0},{"$f":"RESULTS!O143","v":0},{"$f":"RESULTS!P143","v":0},{"$f":"RESULTS!Q143","v":0}]
[{"$f":"RESULTS!A144","v":135},{"$f":"RESULTS!L144","v":0},{"$f":"RESULTS!M144","v":0},{"$f":"RESULTS!N144","v":0},{"$f":"RESULTS!O144","v":0},{"$f":"RESULTS!P144","v":0},{"$f":"RESULTS!Q144","v":0}]
[{"$f":"RESULTS!A145","v":136},{"$f":"RESULTS!L145","v":0},{"$f":"RESULTS!M145","v":0},{"$f":"RESULTS!N145","v":0},{"$f":"RESULTS!O145","v":0},{"$f":"RESULTS!P145","v":0},{"$f":"RESULTS!Q145","v":0}]
[{"$f":"RESULTS!A146","v":137},{"$f":"RESULTS!L146","v":0},{"$f":"RESULTS!M146","v":0},{"$f":"RESULTS!N146","v":0},{"$f":"RESULTS!O146","v":0},{"$f":"RESULTS!P146","v":0},{"$f":"RESULTS!Q146","v":0}]
[{"$f":"RESULTS!A147","v":138},{"$f":"RESULTS!L147","v":0},{"$f":"RESULTS!M147","v":0},{"$f":"RESULTS!N147","v":0},{"$f":"RESULTS!O147","v":0},{"$f":"RESULTS!P147","v":0},{"$f":"RESULTS!Q147","v":0}]
[{"$f":"RESULTS!A148","v":139},{"$f":"RESULTS!L148","v":0},{"$f":"RESULTS!M148","v":0},{"$f":"RESULTS!N148","v":0},{"$f":"RESULTS!O148","v":0},{"$f":"RESULTS!P148","v":0},{"$f":"RESULTS!Q148","v":0}]
[{"$f":"RESULTS!A149","v":140},{"$f":"RESULTS!L149","v":0},{"$f":"RESULTS!M149","v":0},{"$f":"RESULTS!N149","v":0},{"$f":"RESULTS!O149","v":0},{"$f":"RESULTS!P149","v":0},{"$f":"RESULTS!Q149","v":0}]

{"sheet":"DEFAULTS","index":9,"n_rows":84,"n_cols":8,"rows_kept":84,"cut":false,"hidden":true,"merged":[[72,4,73,7],[75,4,78,7],[7,3,10,3],[11,3,68,3]]}
["DEFAULTS"]
[]
["Model Parameters"]
[]
["Methane Generation Rate, k:",null,null,"Gas / Pollutant Default Parameters:"]
["Default","year-1",null,null,"Compound","Concentration","Molecular Weight","Notes"]
["CAA Conventional - 0.05",0.05,null,null,null,"(ppmv)"]
["CAA Arid Area - 0.02",0.02,null,"Gases","Total landfill gas",-1,{"$f":"(RESULTS!$D$5/100*DEFAULTS!$G$9)+(100-RESULTS!$D$5)/100*DEFAULTS!$G$10","v":30.024999999999999}]
["Inventory Conventional - 0.04",0.04,null,null,"Methane",-1,16.04]
["Inventory Arid Area - 0.02",0.02,null,null,"Carbon dioxide",-1,44.01]
["Inventory Wet - 0.7",0.7,null,null,"NMOC",{"$f":"IF('USER INPUTS'!$B$17=-1,'USER INPUTS'!$F$17,'USER INPUTS'!$B$17)","v":600},86.18]
["User-specified",-1,null,"Pollutants","1,1,1-Trichloroethane (methyl chloroform) - HAP",{"$f":"IF(POLLUTANTS!F14=\"\",POLLUTANTS!C14,POLLUTANTS!F14)","v":0.48},{"$f":"IF(POLLUTANTS!G14=\"\",POLLUTANTS!D14,POLLUTANTS!G14)","v":133.41},"A"]
[null,null,null,null,"1,1,2,2-Tetrachloroethane - HAP/VOC",{"$f":"IF(POLLUTANTS!F15=\"\",POLLUTANTS!C15,POLLUTANTS!F15)","v":1.1000000000000001},{"$f":"IF(POLLUTANTS!G15=\"\",POLLUTANTS!D15,POLLUTANTS!G15)","v":167.85},"A, B"]
["Potential Methane Generation Capacity, Lo",null,null,null,"1,1-Dichloroethane (ethylidene dichloride) - HAP/VOC",{"$f":"IF(POLLUTANTS!F16=\"\",POLLUTANTS!C16,POLLUTANTS!F16)","v":2.4},{"$f":"IF(POLLUTANTS!G16=\"\",POLLUTANTS!D16,POLLUTANTS!G16)","v":98.97},"A, B"]
["Default","cu m/Mg",null,null,"1,1-Dichloroethene (vinylidene chloride) - HAP/VOC",{"$f":"IF(POLLUTANTS!F17=\"\",POLLUTANTS!C17,POLLUTANTS!F17)","v":0.2},{"$f":"IF(POLLUTANTS!G17=\"\",POLLUTANTS!D17,POLLUTANTS!G17)","v":96.94},"A, B"]
["CAA Conventional - 170",170,null,null,"1,2-Dichloroethane (ethylene dichloride) - HAP/VOC",{"$f":"IF(POLLUTANTS!F18=\"\",POLLUTANTS!C18,POLLUTANTS!F18)","v":0.41},{"$f":"IF(POLLUTANTS!G18=\"\",POLLUTANTS!D18,POLLUTANTS!G18)","v":98.96},"A, B"]
["CAA Arid Area - 170",170,null,null,"1,2-Dichloropropane (propylene dichloride) - HAP/VOC",{"$f":"IF(POLLUTANTS!F19=\"\",POLLUTANTS!C19,POLLUTANTS!F19)","v":0.18},{"$f":"IF(POLLUTANTS!G19=\"\",POLLUTANTS!D19,POLLUTANTS!G19)","v":112.99},"A, B"]
["Inventory Conventional - 100",100,null,null,"2-Propanol (isopropyl alcohol) - VOC",{"$f":"IF(POLLUTANTS!F20=\"\",POLLUTANTS!C20,POLLUTANTS!F20)","v":50},{"$f":"IF(POLLUTANTS!G20=\"\",POLLUTANTS!D20,POLLUTANTS!G20)","v":60.11},"B"]
["Inventory Arid Area - 100",100,null,null,"Acetone",{"$f":"IF(POLLUTANTS!F21=\"\",POLLUTANTS!C21,POLLUTANTS!F21)","v":7},{"$f":"IF(POLLUTANTS!G21=\"\",POLLUTANTS!D21,POLLUTANTS!G21)","v":58.08}]
["Inventory Wet - 96",96,null,null,"Acrylonitrile - HAP/VOC",{"$f":"IF(POLLUTANTS!F22=\"\",POLLUTANTS!C22,POLLUTANTS!F22)","v":6.3},{"$f":"IF(POLLUTANTS!G22=\"\",POLLUTANTS!D22,POLLUTANTS!G22)","v":53.06},"A, B"]
["User-specified",-1,null,null,"Benzene - No or Unknown Co-disposal - HAP/VOC",{"$f":"IF(POLLUTANTS!F23=\"\",POLLUTANTS!C23,POLLUTANTS!F23)","v":1.9},{"$f":"IF(POLLUTANTS!G23=\"\",POLLUTANTS!D23,POLLUTANTS!G23)","v":78.11},"A, B"]
[null,null,null,null,"Benzene - Co-disposal - HAP/VOC",{"$f":"IF(POLLUTANTS!F24=\"\",POLLUTANTS!C24,POLLUTANTS!F24)","v":11},{"$f":"IF(POLLUTANTS!G24=\"\",POLLUTANTS!D24,POLLUTANTS!G24)","v":78.11},"A, B"]
["NMOC Concentration (as hexane):",null,null,null,"Bromodichloromethane - VOC",{"$f":"IF(POLLUTANTS!F25=\"\",POLLUTANTS!C25,POLLUTANTS!F25)","v":3.1},{"$f":"IF(POLLUTANTS!G25=\"\",POLLUTANTS!D25,POLLUTANTS!G25)","v":163.83000000000001},"B"]
["Default","ppmv",null,null,"Butane - VOC",{"$f":"IF(POLLUTANTS!F26=\"\",POLLUTANTS!C26,POLLUTANTS!F26)","v":5},{"$f":"IF(POLLUTANTS!G26=\"\",POLLUTANTS!D26,POLLUTANTS!G26)","v":58.12},"B"]
["CAA - 4,000",4000,null,null,"Carbon disulfide - HAP/VOC",{"$f":"IF(POLLUTANTS!F27=\"\",POLLUTANTS!C27,POLLUTANTS!F27)","v":0.57999999999999996},{"$f":"IF(POLLUTANTS!G27=\"\",POLLUTANTS!D27,POLLUTANTS!G27)","v":76.13},"A, B"]
["Inventory No or Unknown Co-disposal - 600",600,null,null,"Carbon monoxide",{"$f":"IF(POLLUTANTS!F28=\"\",POLLUTANTS!C28,POLLUTANTS!F28)","v":140},{"$f":"IF(POLLUTANTS!G28=\"\",POLLUTANTS!D28,POLLUTANTS!G28)","v":28.01}]
["Inventory Co-disposal - 2,400",2400,null,null,"Carbon tetrachloride - HAP/VOC",{"$f":"IF(POLLUTANTS!F29=\"\",POLLUTANTS!C29,POLLUTANTS!F29)","v":4.0000000000000001E-3},{"$f":"IF(POLLUTANTS!G29=\"\",POLLUTANTS!D29,POLLUTANTS!G29)","v":153.84},"A, B"]
["User-specified",-1,null,null,"Carbonyl sulfide - HAP/VOC",{"$f":"IF(POLLUTANTS!F30=\"\",POLLUTANTS!C30,POLLUTANTS!F30)","v":0.49},{"$f":"IF(POLLUTANTS!G30=\"\",POLLUTANTS!D30,POLLUTANTS!G30)","v":60.07},"A, B"]
[null,null,null,null,"Chlorobenzene - HAP/VOC",{"$f":"IF(POLLUTANTS!F31=\"\",POLLUTANTS!C31,POLLUTANTS!F31)","v":0.25},{"$f":"IF(POLLUTANTS!G31=\"\",POLLUTANTS!D31,POLLUTANTS!G31)","v":112.56},"A, B"]
["Methane & Carbon Dioxide:",null,null,null,"Chlorodifluoromethane",{"$f":"IF(POLLUTANTS!F32=\"\",POLLUTANTS!C32,POLLUTANTS!F32)","v":1.3},{"$f":"IF(POLLUTANTS!G32=\"\",POLLUTANTS!D32,POLLUTANTS!G32)","v":86.47}]
["Default","%",null,null,"Chloroethane (ethyl chloride) - HAP/VOC",{"$f":"IF(POLLUTANTS!F33=\"\",POLLUTANTS!C33,POLLUTANTS!F33)","v":1.3},{"$f":"IF(POLLUTANTS!G33=\"\",POLLUTANTS!D33,POLLUTANTS!G33)","v":64.52},"A, B"]
["CAA - 50% by volume",50,null,null,"Chloroform - HAP/VOC",{"$f":"IF(POLLUTANTS!F34=\"\",POLLUTANTS!C34,POLLUTANTS!F34)","v":0.03},{"$f":"IF(POLLUTANTS!G34=\"\",POLLUTANTS!D34,POLLUTANTS!G34)","v":119.39},"A, B"]
["User-specified",-1,null,null,"Chloromethane - VOC",{"$f":"IF(POLLUTANTS!F35=\"\",POLLUTANTS!C35,POLLUTANTS!F35)","v":1.2},{"$f":"IF(POLLUTANTS!G35=\"\",POLLUTANTS!D35,POLLUTANTS!G35)","v":50.49},"B"]
["Carbon dioxide content",50,null,null,"Dichlorobenzene - (HAP for para isomer/VOC)",{"$f":"IF(POLLUTANTS!F36=\"\",POLLUTANTS!C36,POLLUTANTS!F36)","v":0.21},{"$f":"IF(POLLUTANTS!G36=\"\",POLLUTANTS!D36,POLLUTANTS!G36)","v":147},"B, C"]
[null,null,null,null,"Dichlorodifluoromethane",{"$f":"IF(POLLUTANTS!F37=\"\",POLLUTANTS!C37,POLLUTANTS!F37)","v":16},{"$f":"IF(POLLUTANTS!G37=\"\",POLLUTANTS!D37,POLLUTANTS!G37)","v":120.91}]
["Waste Capacity Units:",null,null,null,"Dichlorofluoromethane - VOC",{"$f":"IF(POLLUTANTS!F38=\"\",POLLUTANTS!C38,POLLUTANTS!F38)","v":2.6},{"$f":"IF(POLLUTANTS!G38=\"\",POLLUTANTS!D38,POLLUTANTS!G38)","v":102.92},"B"]
["Default",null,null,null,"Dichloromethane (methylene chloride) - HAP",{"$f":"IF(POLLUTANTS!F39=\"\",POLLUTANTS!C39,POLLUTANTS!F39)","v":14},{"$f":"IF(POLLUTANTS!G39=\"\",POLLUTANTS!D39,POLLUTANTS!G39)","v":84.94},"A"]
["megagrams",null,null,null,"Dimethyl sulfide (methyl sulfide) - VOC",{"$f":"IF(POLLUTANTS!F40=\"\",POLLUTANTS!C40,POLLUTANTS!F40)","v":7.8},{"$f":"IF(POLLUTANTS!G40=\"\",POLLUTANTS!D40,POLLUTANTS!G40)","v":62.13},"B"]
["short tons",null,null,null,"Ethane",{"$f":"IF(POLLUTANTS!F41=\"\",POLLUTANTS!C41,POLLUTANTS!F41)","v":890},{"$f":"IF(POLLUTANTS!G41=\"\",POLLUTANTS!D41,POLLUTANTS!G41)","v":30.07}]
[null,null,null,null,"Ethanol - VOC",{"$f":"IF(POLLUTANTS!F42=\"\",POLLUTANTS!C42,POLLUTANTS!F42)","v":27},{"$f":"IF(POLLUTANTS!G42=\"\",POLLUTANTS!D42,POLLUTANTS!G42)","v":46.08},"B"]
["Acceptance Rate Units:",null,null,null,"Ethyl mercaptan (ethanethiol) - VOC",{"$f":"IF(POLLUTANTS!F43=\"\",POLLUTANTS!C43,POLLUTANTS!F43)","v":2.2999999999999998},{"$f":"IF(POLLUTANTS!G43=\"\",POLLUTANTS!D43,POLLUTANTS!G43)","v":62.13},"B"]
["Default",null,null,null,"Ethylbenzene - HAP/VOC",{"$f":"IF(POLLUTANTS!F44=\"\",POLLUTANTS!C44,POLLUTANTS!F44)","v":4.5999999999999996},{"$f":"IF(POLLUTANTS!G44=\"\",POLLUTANTS!D44,POLLUTANTS!G44)","v":106.16},"A, B"]
["Mg/year",null,null,null,"Ethylene dibromide - HAP/VOC",{"$f":"IF(POLLUTANTS!F45=\"\",POLLUTANTS!C45,POLLUTANTS!F45)","v":1E-3},{"$f":"IF(POLLUTANTS!G45=\"\",POLLUTANTS!D45,POLLUTANTS!G45)","v":187.88},"A, B"]
["short tons/year",null,null,null,"Fluorotrichloromethane - VOC",{"$f":"IF(POLLUTANTS!F46=\"\",POLLUTANTS!C46,POLLUTANTS!F46)","v":0.76},{"$f":"IF(POLLUTANTS!G46=\"\",POLLUTANTS!D46,POLLUTANTS!G46)","v":137.38},"B"]
[null,null,null,null,"Hexane - HAP/VOC",{"$f":"IF(POLLUTANTS!F47=\"\",POLLUTANTS!C47,POLLUTANTS!F47)","v":6.6},{"$f":"IF(POLLUTANTS!G47=\"\",POLLUTANTS!D47,POLLUTANTS!G47)","v":86.18},"A, B"]
["Emission Rate Units:",null,null,null,"Hydrogen sulfide",{"$f":"IF(POLLUTANTS!F48=\"\",POLLUTANTS!C48,POLLUTANTS!F48)","v":36},{"$f":"IF(POLLUTANTS!G48=\"\",POLLUTANTS!D48,POLLUTANTS!G48)","v":34.08}]
["Default",null,null,null,"Mercury (total) - HAP",{"$f":"IF(POLLUTANTS!F49=\"\",POLLUTANTS!C49,POLLUTANTS!F49)","v":2.9E-4},{"$f":"IF(POLLUTANTS!G49=\"\",POLLUTANTS!D49,POLLUTANTS!G49)","v":200.61},"A"]
["av ft^3/min",null,null,null,"Methyl ethyl ketone - HAP/VOC",{"$f":"IF(POLLUTANTS!F50=\"\",POLLUTANTS!C50,POLLUTANTS!F50)","v":7.1},{"$f":"IF(POLLUTANTS!G50=\"\",POLLUTANTS!D50,POLLUTANTS!G50)","v":72.11},"A, B"]
["ft^3/year",null,null,null,"Methyl isobutyl ketone - HAP/VOC",{"$f":"IF(POLLUTANTS!F51=\"\",POLLUTANTS!C51,POLLUTANTS!F51)","v":1.9},{"$f":"IF(POLLUTANTS!G51=\"\",POLLUTANTS!D51,POLLUTANTS!G51)","v":100.16},"A, B"]
["short tons/year",null,null,null,"Methyl mercaptan - VOC",{"$f":"IF(POLLUTANTS!F52=\"\",POLLUTANTS!C52,POLLUTANTS!F52)","v":2.5},{"$f":"IF(POLLUTANTS!G52=\"\",POLLUTANTS!D52,POLLUTANTS!G52)","v":48.11},"B"]
[null,null,null,null,"Pentane - VOC",{"$f":"IF(POLLUTANTS!F53=\"\",POLLUTANTS!C53,POLLUTANTS!F53)","v":3.3},{"$f":"IF(POLLUTANTS!G53=\"\",POLLUTANTS!D53,POLLUTANTS!G53)","v":72.150000000000006},"B"]
["Constants:",null,null,null,"Perchloroethylene (tetrachloroethylene) - HAP",{"$f":"IF(POLLUTANTS!F54=\"\",POLLUTANTS!C54,POLLUTANTS!F54)","v":3.7},{"$f":"IF(POLLUTANTS!G54=\"\",POLLUTANTS!D54,POLLUTANTS!G54)","v":165.83},"A"]
["Pounds per gram =",2.2000000000000001E-3,null,null,"Propane - VOC",{"$f":"IF(POLLUTANTS!F55=\"\",POLLUTANTS!C55,POLLUTANTS!F55)","v":11},{"$f":"IF(POLLUTANTS!G55=\"\",POLLUTANTS!D55,POLLUTANTS!G55)","v":44.09},"B"]
["Pounds per short ton =",2000,null,null,"t-1,2-Dichloroethene - VOC",{"$f":"IF(POLLUTANTS!F56=\"\",POLLUTANTS!C56,POLLUTANTS!F56)","v":2.8},{"$f":"IF(POLLUTANTS!G56=\"\",POLLUTANTS!D56,POLLUTANTS!G56)","v":96.94},"B"]
["Grams per megagrams =",1000000,null,null,"Toluene - No or Unknown Co-disposal - HAP/VOC",{"$f":"IF(POLLUTANTS!F57=\"\",POLLUTANTS!C57,POLLUTANTS!F57)","v":39},{"$f":"IF(POLLUTANTS!G57=\"\",POLLUTANTS!D57,POLLUTANTS!G57)","v":92.13},"A, B"]
["Kilograms per megagrams =",1000,null,null,"Toluene - Co-disposal - HAP/VOC",{"$f":"IF(POLLUTANTS!F58=\"\",POLLUTANTS!C58,POLLUTANTS!F58)","v":170},{"$f":"IF(POLLUTANTS!G58=\"\",POLLUTANTS!D58,POLLUTANTS!G58)","v":92.13},"A, B"]
["Cubic feet per cubic meter =",35.314999999999998,null,null,"Trichloroethylene (trichloroethene) - HAP/VOC",{"$f":"IF(POLLUTANTS!F59=\"\",POLLUTANTS!C59,POLLUTANTS!F59)","v":2.8},{"$f":"IF(POLLUTANTS!G59=\"\",POLLUTANTS!D59,POLLUTANTS!G59)","v":131.4},"A, B"]
["Minutes per year =",{"$f":"8760*60","v":525600},null,null,"Vinyl chloride - HAP/VOC",{"$f":"IF(POLLUTANTS!F60=\"\",POLLUTANTS!C60,POLLUTANTS!F60)","v":7.3},{"$f":"IF(POLLUTANTS!G60=\"\",POLLUTANTS!D60,POLLUTANTS!G60)","v":62.5},"A, B"]
[null,null,null,null,"Xylenes - HAP/VOC",{"$f":"IF(POLLUTANTS!F61=\"\",POLLUTANTS!C61,POLLUTANTS!F61)","v":12},{"$f":"IF(POLLUTANTS!G61=\"\",POLLUTANTS!D61,POLLUTANTS!G61)","v":106.16},"A, B"]
[null,null,null,null,{"$f":"IF(POLLUTANTS!B64=\"\",\"\",POLLUTANTS!B64)","v":""},{"$f":"IF(POLLUTANTS!C64= \"\",\"\",POLLUTANTS!C64)","v":""},{"$f":"IF(POLLUTANTS!D64= \"\",\"\",POLLUTANTS!D64)","v":""}]
["Ideal Gas Law Calculation:",null,null,null,{"$f":"IF(POLLUTANTS!B65=\"\",\"\",POLLUTANTS!B65)","v":""},{"$f":"IF(POLLUTANTS!C65= \"\",\"\",POLLUTANTS!C65)","v":""},{"$f":"IF(POLLUTANTS!D65= \"\",\"\",POLLUTANTS!D65)","v":""}]
[null,null,null,null,{"$f":"IF(POLLUTANTS!B66=\"\",\"\",POLLUTANTS!B66)","v":""},{"$f":"IF(POLLUTANTS!C66= \"\",\"\",POLLUTANTS!C66)","v":""},{"$f":"IF(POLLUTANTS!D66= \"\",\"\",POLLUTANTS!D66)","v":""}]
["m = (M * p * V) / (R * T)",null,null,null,{"$f":"IF(POLLUTANTS!B67=\"\",\"\",POLLUTANTS!B67)","v":""},{"$f":"IF(POLLUTANTS!C67= \"\",\"\",POLLUTANTS!C67)","v":""},{"$f":"IF(POLLUTANTS!D67= \"\",\"\",POLLUTANTS!D67)","v":""}]
[null,null,null,null,{"$f":"IF(POLLUTANTS!B68=\"\",\"\",POLLUTANTS!B68)","v":""},{"$f":"IF(POLLUTANTS!C68= \"\",\"\",POLLUTANTS!C68)","v":""},{"$f":"IF(POLLUTANTS!D68= \"\",\"\",POLLUTANTS!D68)","v":""}]
["m = mass emission rate (Mg/year)",null,null,null,{"$f":"IF(POLLUTANTS!B69=\"\",\"\",POLLUTANTS!B69)","v":""},{"$f":"IF(POLLUTANTS!C69= \"\",\"\",POLLUTANTS!C69)","v":""},{"$f":"IF(POLLUTANTS!D69= \"\",\"\",POLLUTANTS!D69)","v":""}]
["M = molecular weight",null,null,null,{"$f":"IF(POLLUTANTS!B70=\"\",\"\",POLLUTANTS!B70)","v":""},{"$f":"IF(POLLUTANTS!C70= \"\",\"\",POLLUTANTS!C70)","v":""},{"$f":"IF(POLLUTANTS!D70= \"\",\"\",POLLUTANTS!D70)","v":""}]
["p = standard pressure",null,null,null,{"$f":"IF(POLLUTANTS!B71=\"\",\"\",POLLUTANTS!B71)","v":""},{"$f":"IF(POLLUTANTS!C71= \"\",\"\",POLLUTANTS!C71)","v":""},{"$f":"IF(POLLUTANTS!D71= \"\",\"\",POLLUTANTS!D71)","v":""}]
["V = volumetric emission rate (m3/year)",null,null,null,{"$f":"IF(POLLUTANTS!B72=\"\",\"\",POLLUTANTS!B72)","v":""},{"$f":"IF(POLLUTANTS!C72= \"\",\"\",POLLUTANTS!C72)","v":""},{"$f":"IF(POLLUTANTS!D72= \"\",\"\",POLLUTANTS!D72)","v":""}]
["R = gas constant",null,null,null,{"$f":"IF(POLLUTANTS!B73=\"\",\"\",POLLUTANTS!B73)","v":""},{"$f":"IF(POLLUTANTS!C73= \"\",\"\",POLLUTANTS!C73)","v":""},{"$f":"IF(POLLUTANTS!D73= \"\",\"\",POLLUTANTS!D73)","v":""}]
["T = temperature"]
[null,null,null,null,"A.  Hazardous air pollutants (HAP) listed in Title III of the 1990 Clean Air Act Amendments."]
["Standard pressure (kPa) =",{"$f":"101325/1000","v":101.325},null,null,"B.  Considered volatile organic compounds (VOC), as defined by U.S. EPA in 40 CFR 51.100(s)."]
["Standard temperature (K) =",293,null,null,"C.  Source tests did not indicate whether this compound was the para- or ortho- isomer.  The para- isomer is a Title III-listed HAP."]
["Gas constant (kPa-m3/kmol-K) =",8.3143999999999991]
[]
["Molecular Weight 1 (kg/kmol) =",{"$f":"VLOOKUP('USER INPUTS'!$B$24,DEFAULTS!$E$8:$G$69,3,FALSE)","v":30.024999999999999},null,null,"Source:  Tables 2.4-1 and 2.4-2 of Compilation of Air Pollutant Emission Factors, AP-42, Volume 1: Stationary Point and Area Sources, 5th ed., Chapter 2.4 Municipal Solid Waste Landfills.  U.S. EPA, Office of Air Quality Planning and Standards.  Research Triangle Park, NC.  November 1998.  http://www.epa.gov/ttn/chief/ap42/ch02/final/c02s04.pdf"]
["Molecular Weight 2 (kg/kmol) =",{"$f":"VLOOKUP('USER INPUTS'!$B$26,DEFAULTS!$E$8:$G$69,3,FALSE)","v":16.04}]
["Molecular Weight 3 (kg/kmol) =",{"$f":"VLOOKUP('USER INPUTS'!$B$28,DEFAULTS!$E$8:$G$69,3,FALSE)","v":44.01}]
["Molecular Weight 4 (kg/kmol) =",{"$f":"VLOOKUP('USER INPUTS'!$B$30,DEFAULTS!$E$8:$G$69,3,FALSE)","v":86.18}]
[]
["Conversion factor 1 (Mg/m3) =",{"$f":"(B76*$B$72)/($B$73*$B$74*$B$56)","v":1.2488235899951038E-3}]
["Conversion factor 2 (Mg/m3) =",{"$f":"(B77*$B$72)/($B$73*$B$74*$B$56)","v":6.6714838912644342E-4}]
["Conversion factor 3 (Mg/m3) =",{"$f":"(B78*$B$72)/($B$73*$B$74*$B$56)","v":1.8304987908637643E-3}]
["Conversion factor 4 (Mg/m3) =",{"$f":"(B79*$B$72)/($B$73*$B$74*$B$56)","v":3.5844668438227492E-3}]