{"text_format":"1","workbook":"xlsx","n_sheets":15,"sheets":["Lists","Welcome","Company_Information","Affected_Sources","CMS_Identification","Description_of_Changes","CMS_Deviation_Detail","CMS_Deviation_Summary","Limit_Deviation_Detail","Limit_Deviation_Summary","Mercury_Switches_Scrap_Option","Mercury_Switches","Certification","Revisions","Worksheet Map"],"not_rendered":{"charts":0,"images":1,"macros":1,"external_links":0,"defined_names":12,"comments":0,"pivot_tables":0},"unopened":[],"bounds":{"document_bytes":16777216,"sheet_cells":100000,"rows_first":2000,"rows_last":500,"rows_between":2000,"halvings":0,"cell_chars":16384,"cell_head_chars":4096},"cells_cut":0,"cells_raw":0,"read":"whole","date_system":"1900"}

{"sheet":"Lists","index":0,"n_rows":478,"n_cols":68,"rows_kept":478,"cut":false,"hidden":true,"merged":[]}
["Rank","Name","Unitlist","Column1",null,"Column2","Column1","Companylist","Column3",null,"Rank","Cem","CEMName","Column1",null,"CMSCauseList",null,"Limits",null,null,"Column5","Facility","Source","Limit","Unique","Column4","Column42","Column43","Column432","Column433","Column434",null,"states",null,"Column5","Facility","Source","Limit","Unique","Column4","Column44","Column43","Column42","43","Column432",null,"Column5","Facility","Source","Limit","Unique","Column4","Column42","Column43","Column432","Column433","Column434",null,"Column5","Facility","Source","Limit","Unique","Column4","Column43","Column42","43","Column432"]
[{"$f":"+IF(D2=\"\",\"\",MAX(A1:A$1)+1)","v":""},{"$f":"IF(Affected_Sources!C24=\"\",\"\",Affected_Sources!C24)","v":""},{"$f":"+IFERROR(INDEX(B$2:B$78,MATCH(ROW()-ROW($C$1),A$2:A$78,0)),\"\")","v":""},{"$f":"IF(COUNTIF(B$2:B2,B2)=1,B2,\"\")","v":""},null,{"$f":"+IF(I2=\"\",\"\",MAX(F1:F$1)+1)","v":""},{"$f":"+IF(Company_Information!B24=\"\",\"\",Company_Information!B24)","v":""},{"$f":"+IFERROR(INDEX(G$2:G$501,MATCH(ROW()-ROW($H$1),F$2:F$501,0)),\"\")","v":""},{"$f":"IF(COUNTIF(G$2:G2,G2)=1,G2,\"\")","v":""},null,{"$f":"+IF(N2=\"\",\"\",MAX(K1:K$1)+1)","v":""},{"$f":"IF(CMS_Identification!E24=\"\",\"\",CMS_Identification!E24)","v":""},{"$f":"+IFERROR(INDEX(L$2:L$501,MATCH(ROW()-ROW($M$1),K$2:K$501,0)),\"\")","v":""},{"$f":"IF(COUNTIF(L$2:L2,L2)=1,L2,\"\")","v":""},null,"Monitoring System Malfunctions",null,"Particulate Matter",null,null,{"$f":"+IF(Z2=\"\",\"\",MAX(U1:U$1)+1)","v":""},{"$f":"IF(Limit_Deviation_Detail!B24=\"\",\"\",Limit_Deviation_Detail!B24)","v":""},{"$f":"IF(Limit_Deviation_Detail!C24=\"\",\"\",Limit_Deviation_Detail!C24)","v":""},{"$f":"IF(Limit_Deviation_Detail!E24=\"\",\"\",Limit_Deviation_Detail!E24)","v":""},{"$f":"V2&W2&X2","v":""},{"$f":"IF(COUNTIF(Y$2:Y2,Y2)=1,Y2,\"\")","v":""},{"$f":"+IFERROR(INDEX(V$2:V$955,MATCH(ROW()-ROW(Z$1),U$2:U$955,0)),\"\")","v":""},{"$f":"+IFERROR(INDEX(W$2:W$955,MATCH(ROW()-ROW(AA$1),U$2:U$955,0)),\"\")","v":""},{"$f":"+IFERROR(INDEX(X$2:X$955,MATCH(ROW()-ROW(AB$1),U$2:U$955,0)),\"\")","v":""},{"$f":"IF(AA2=\"\",\"\",AA2&AB2)","v":""},{"$f":"IF(AA2=\"\",\"\",VLOOKUP(AD2,$AO$2:$AS$78,5,FALSE))","v":""},null,"AK",null,{"$f":"+IF(AN2=\"\",\"\",MAX(AI1:AI$1)+1)","v":""},{"$f":"IF(Affected_Sources!B24=\"\",\"\",Affected_Sources!B24)","v":""},{"$f":"IF(Affected_Sources!C24=\"\",\"\",Affected_Sources!C24)","v":""},{"$f":"IF(Affected_Sources!D24=\"\",\"\",Affected_Sources!D24)","v":""},{"$f":"AJ2&AK2","v":""},{"$f":"IF(COUNTIF(AM$2:AM2,AM2)=1,AM2,\"\")","v":""},{"$f":"AQ2&AR2","v":""},{"$f":"IF(AQ2=\"\",\"\",AQ2&\" \"&AR2)","v":""},{"$f":"+IFERROR(INDEX(AJ$2:AJ$78,MATCH(ROW()-ROW(AN$1),AI$2:AI$78,0)),\"\")","v":""},{"$f":"+IFERROR(INDEX(AK$2:AK$78,MATCH(ROW()-ROW(AQ$1),AI$2:AI$78,0)),\"\")","v":""},{"$f":"+IFERROR(INDEX(AL$2:AL$78,MATCH(ROW()-ROW(AR$1),AI$2:AI$78,0)),\"\")","v":""},null,{"$f":"+IF(AZ2=\"\",\"\",MAX(AU1:AU$1)+1)","v":""},{"$f":"IF(CMS_Deviation_Detail!B24=\"\",\"\",CMS_Deviation_Detail!B24)","v":""},{"$f":"IF(CMS_Deviation_Detail!C24=\"\",\"\",CMS_Deviation_Detail!C24)","v":""},{"$f":"IF(CMS_Deviation_Detail!D24=\"\",\"\",CMS_Deviation_Detail!D24)","v":""},{"$f":"AV2&AW2&AX2","v":""},{"$f":"IF(COUNTIF(AY$2:AY2,AY2)=1,AY2,\"\")","v":""},{"$f":"+IFERROR(INDEX(AV$2:AV$955,MATCH(ROW()-ROW(AZ$1),AU$2:AU$955,0)),\"\")","v":""},{"$f":"+IFERROR(INDEX(AW$2:AW$955,MATCH(ROW()-ROW(BA$1),AU$2:AU$955,0)),\"\")","v":""},{"$f":"+IFERROR(INDEX(AX$2:AX$955,MATCH(ROW()-ROW(BB$1),AU$2:AU$955,0)),\"\")","v":""},{"$f":"IF(BA2=\"\",\"\",BA2&BB2)","v":""},{"$f":"IF(BA2=\"\",\"\",VLOOKUP(BD2,$AO$2:$AS$78,5,FALSE))","v":""},null,{"$f":"+IF(BL2=\"\",\"\",MAX(BG1:BG$1)+1)","v":""},{"$f":"IF(CMS_Identification!B24=\"\",\"\",CMS_Identification!B24)","v":""},{"$f":"IF(CMS_Identification!C24=\"\",\"\",CMS_Identification!C24)","v":""},{"$f":"IF(CMS_Identification!E24=\"\",\"\",CMS_Identification!E24)","v":""},{"$f":"BH2&BI2&BJ2","v":""},{"$f":"IF(COUNTIF(BK$2:BK2,BK2)=1,BK2,\"\")","v":""},{"$f":"IF(BH2=\"\",\"\",BH2&\" \"&BI2&\" \"&BJ2)","v":""},{"$f":"+IFERROR(INDEX(BH$2:BH$78,MATCH(ROW()-ROW(BL$1),BG$2:BG$78,0)),\"\")","v":""},{"$f":"+IFERROR(INDEX(BI$2:BI$78,MATCH(ROW()-ROW(BN$1),BG$2:BG$78,0)),\"\")","v":""},{"$f":"+IFERROR(INDEX(BJ$2:BJ$78,MATCH(ROW()-ROW(BO$1),BG$2:BG$78,0)),\"\")","v":""}]
[{"$f":"+IF(D3=\"\",\"\",MAX(A$1:A2)+1)","v":""},{"$f":"IF(Affected_Sources!C25=\"\",\"\",Affected_Sources!C25)","v":""},"",{"$f":"IF(COUNTIF(B$2:B3,B3)=1,B3,\"\")","v":""},null,{"$f":"+IF(I3=\"\",\"\",MAX(F$1:F2)+1)","v":""},{"$f":"+IF(Company_Information!B25=\"\",\"\",Company_Information!B25)","v":""},"",{"$f":"IF(COUNTIF(G$2:G3,G3)=1,G3,\"\")","v":""},null,{"$f":"+IF(N3=\"\",\"\",MAX(K$1:K2)+1)","v":""},{"$f":"IF(CMS_Identification!E25=\"\",\"\",CMS_Identification!E25)","v":""},"",{"$f":"IF(COUNTIF(L$2:L3,L3)=1,L3,\"\")","v":""},null,"Non-monitoring Equipment Malfunctions",null,"Total Metal HAP",null,null,{"$f":"+IF(Z3=\"\",\"\",MAX(U$1:U2)+1)","v":""},{"$f":"IF(Limit_Deviation_Detail!B25=\"\",\"\",Limit_Deviation_Detail!B25)","v":""},{"$f":"IF(Limit_Deviation_Detail!C25=\"\",\"\",Limit_Deviation_Detail!C25)","v":""},{"$f":"IF(Limit_Deviation_Detail!E25=\"\",\"\",Limit_Deviation_Detail!E25)","v":""},"",{"$f":"IF(COUNTIF(Y$2:Y3,Y3)=1,Y3,\"\")","v":""},"","","","","",null,"AL",null,{"$f":"+IF(AN3=\"\",\"\",MAX(AI$1:AI2)+1)","v":""},{"$f":"IF(Affected_Sources!B25=\"\",\"\",Affected_Sources!B25)","v":""},{"$f":"IF(Affected_Sources!C25=\"\",\"\",Affected_Sources!C25)","v":""},{"$f":"IF(Affected_Sources!D25=\"\",\"\",Affected_Sources!D25)","v":""},{"$f":"AJ3&AK3","v":""},{"$f":"IF(COUNTIF(AM$2:AM3,AM3)=1,AM3,\"\")","v":""},"","","","","",null,{"$f":"+IF(AZ3=\"\",\"\",MAX(AU$1:AU2)+1)","v":""},{"$f":"IF(CMS_Deviation_Detail!B25=\"\",\"\",CMS_Deviation_Detail!B25)","v":""},{"$f":"IF(CMS_Deviation_Detail!C25=\"\",\"\",CMS_Deviation_Detail!C25)","v":""},{"$f":"IF(CMS_Deviation_Detail!D25=\"\",\"\",CMS_Deviation_Detail!D25)","v":""},{"$f":"AV3&AW3&AX3","v":""},{"$f":"IF(COUNTIF(AY$2:AY3,AY3)=1,AY3,\"\")","v":""},{"$f":"+IFERROR(INDEX(AV$2:AV$955,MATCH(ROW()-ROW(AZ$1),AU$2:AU$955,0)),\"\")","v":""},{"$f":"+IFERROR(INDEX(AW$2:AW$955,MATCH(ROW()-ROW(BA$1),AU$2:AU$955,0)),\"\")","v":""},{"$f":"+IFERROR(INDEX(AX$2:AX$955,MATCH(ROW()-ROW(BB$1),AU$2:AU$955,0)),\"\")","v":""},{"$f":"IF(BA3=\"\",\"\",BA3&BB3)","v":""},"",null,{"$f":"+IF(BL3=\"\",\"\",MAX(BG$1:BG2)+1)","v":""},{"$f":"IF(CMS_Identification!B25=\"\",\"\",CMS_Identification!B25)","v":""},{"$f":"IF(CMS_Identification!C25=\"\",\"\",CMS_Identification!C25)","v":""},{"$f":"IF(CMS_Identification!E25=\"\",\"\",CMS_Identification!E25)","v":""},{"$f":"BH3&BI3&BJ3","v":""},{"$f":"IF(COUNTIF(BK$2:BK3,BK3)=1,BK3,\"\")","v":""},{"$f":"IF(BH3=\"\",\"\",BH3&\" \"&BI3&\" \"&BJ3)","v":""},{"$f":"+IFERROR(INDEX(BH$2:BH$78,MATCH(ROW()-ROW(BL$1),BG$2:BG$78,0)),\"\")","v":""},{"$f":"+IFERROR(INDEX(BI$2:BI$78,MATCH(ROW()-ROW(BN$1),BG$2:BG$78,0)),\"\")","v":""},{"$f":"+IFERROR(INDEX(BJ$2:BJ$78,MATCH(ROW()-ROW(BO$1),BG$2:BG$78,0)),\"\")","v":""}]
[{"$f":"+IF(D4=\"\",\"\",MAX(A$1:A3)+1)","v":""},{"$f":"IF(Affected_Sources!C26=\"\",\"\",Affected_Sources!C26)","v":""},"",{"$f":"IF(COUNTIF(B$2:B4,B4)=1,B4,\"\")","v":""},null,{"$f":"+IF(I4=\"\",\"\",MAX(F$1:F3)+1)","v":""},{"$f":"+IF(Company_Information!B26=\"\",\"\",Company_Information!B26)","v":""},"",{"$f":"IF(COUNTIF(G$2:G4,G4)=1,G4,\"\")","v":""},null,{"$f":"+IF(N4=\"\",\"\",MAX(K$1:K3)+1)","v":""},{"$f":"IF(CMS_Identification!E26=\"\",\"\",CMS_Identification!E26)","v":""},"",{"$f":"IF(COUNTIF(L$2:L4,L4)=1,L4,\"\")","v":""},null,"Quality Assurance/Quality Control Calibrations",null,"Opacity",null,null,{"$f":"+IF(Z4=\"\",\"\",MAX(U$1:U3)+1)","v":""},{"$f":"IF(Limit_Deviation_Detail!B26=\"\",\"\",Limit_Deviation_Detail!B26)","v":""},{"$f":"IF(Limit_Deviation_Detail!C26=\"\",\"\",Limit_Deviation_Detail!C26)","v":""},{"$f":"IF(Limit_Deviation_Detail!E26=\"\",\"\",Limit_Deviation_Detail!E26)","v":""},"",{"$f":"IF(COUNTIF(Y$2:Y4,Y4)=1,Y4,\"\")","v":""},"","","","","",null,"AR",null,{"$f":"+IF(AN4=\"\",\"\",MAX(AI$1:AI3)+1)","v":""},{"$f":"IF(Affected_Sources!B26=\"\",\"\",Affected_Sources!B26)","v":""},{"$f":"IF(Affected_Sources!C26=\"\",\"\",Affected_Sources!C26)","v":""},{"$f":"IF(Affected_Sources!D26=\"\",\"\",Affected_Sources!D26)","v":""},"",{"$f":"IF(COUNTIF(AM$2:AM4,AM4)=1,AM4,\"\")","v":""},"","","","","",null,{"$f":"+IF(AZ4=\"\",\"\",MAX(AU$1:AU3)+1)","v":""},{"$f":"IF(CMS_Deviation_Detail!B26=\"\",\"\",CMS_Deviation_Detail!B26)","v":""},{"$f":"IF(CMS_Deviation_Detail!C26=\"\",\"\",CMS_Deviation_Detail!C26)","v":""},{"$f":"IF(CMS_Deviation_Detail!D26=\"\",\"\",CMS_Deviation_Detail!D26)","v":""},"",{"$f":"IF(COUNTIF(AY$2:AY4,AY4)=1,AY4,\"\")","v":""},"","","","","",null,{"$f":"+IF(BL4=\"\",\"\",MAX(BG$1:BG3)+1)","v":""},{"$f":"IF(CMS_Identification!B26=\"\",\"\",CMS_Identification!B26)","v":""},{"$f":"IF(CMS_Identification!C26=\"\",\"\",CMS_Identification!C26)","v":""},{"$f":"IF(CMS_Identification!E26=\"\",\"\",CMS_Identification!E26)","v":""},"",{"$f":"IF(COUNTIF(BK$2:BK4,BK4)=1,BK4,\"\")","v":""},"","","",""]
[{"$f":"+IF(D5=\"\",\"\",MAX(A$1:A4)+1)","v":""},{"$f":"IF(Affected_Sources!C27=\"\",\"\",Affected_Sources!C27)","v":""},"",{"$f":"IF(COUNTIF(B$2:B5,B5)=1,B5,\"\")","v":""},null,{"$f":"+IF(I5=\"\",\"\",MAX(F$1:F4)+1)","v":""},{"$f":"+IF(Company_Information!B27=\"\",\"\",Company_Information!B27)","v":""},"",{"$f":"IF(COUNTIF(G$2:G5,G5)=1,G5,\"\")","v":""},null,{"$f":"+IF(N5=\"\",\"\",MAX(K$1:K4)+1)","v":""},{"$f":"IF(CMS_Identification!E27=\"\",\"\",CMS_Identification!E27)","v":""},"",{"$f":"IF(COUNTIF(L$2:L5,L5)=1,L5,\"\")","v":""},null,"Other Known Causes",null,"Wet Scrubber Pressure Drop",null,null,{"$f":"+IF(Z5=\"\",\"\",MAX(U$1:U4)+1)","v":""},{"$f":"IF(Limit_Deviation_Detail!B27=\"\",\"\",Limit_Deviation_Detail!B27)","v":""},{"$f":"IF(Limit_Deviation_Detail!C27=\"\",\"\",Limit_Deviation_Detail!C27)","v":""},{"$f":"IF(Limit_Deviation_Detail!E27=\"\",\"\",Limit_Deviation_Detail!E27)","v":""},"",{"$f":"IF(COUNTIF(Y$2:Y5,Y5)=1,Y5,\"\")","v":""},"","","","","",null,"AS",null,{"$f":"+IF(AN5=\"\",\"\",MAX(AI$1:AI4)+1)","v":""},{"$f":"IF(Affected_Sources!B27=\"\",\"\",Affected_Sources!B27)","v":""},{"$f":"IF(Affected_Sources!C27=\"\",\"\",Affected_Sources!C27)","v":""},{"$f":"IF(Affected_Sources!D27=\"\",\"\",Affected_Sources!D27)","v":""},"",{"$f":"IF(COUNTIF(AM$2:AM5,AM5)=1,AM5,\"\")","v":""},"","","","","",null,{"$f":"+IF(AZ5=\"\",\"\",MAX(AU$1:AU4)+1)","v":""},{"$f":"IF(CMS_Deviation_Detail!B27=\"\",\"\",CMS_Deviation_Detail!B27)","v":""},{"$f":"IF(CMS_Deviation_Detail!C27=\"\",\"\",CMS_Deviation_Detail!C27)","v":""},{"$f":"IF(CMS_Deviation_Detail!D27=\"\",\"\",CMS_Deviation_Detail!D27)","v":""},"",{"$f":"IF(COUNTIF(AY$2:AY5,AY5)=1,AY5,\"\")","v":""},"","","","","",null,{"$f":"+IF(BL5=\"\",\"\",MAX(BG$1:BG4)+1)","v":""},{"$f":"IF(CMS_Identification!B27=\"\",\"\",CMS_Identification!B27)","v":""},{"$f":"IF(CMS_Identification!C27=\"\",\"\",CMS_Identification!C27)","v":""},{"$f":"IF(CMS_Identification!E27=\"\",\"\",CMS_Identification!E27)","v":""},"",{"$f":"IF(COUNTIF(BK$2:BK5,BK5)=1,BK5,\"\")","v":""},"","","",""]
[{"$f":"+IF(D6=\"\",\"\",MAX(A$1:A5)+1)","v":""},{"$f":"IF(Affected_Sources!C28=\"\",\"\",Affected_Sources!C28)","v":""},"",{"$f":"IF(COUNTIF(B$2:B6,B6)=1,B6,\"\")","v":""},null,{"$f":"+IF(I6=\"\",\"\",MAX(F$1:F5)+1)","v":""},{"$f":"+IF(Company_Information!B28=\"\",\"\",Company_Information!B28)","v":""},"",{"$f":"IF(COUNTIF(G$2:G6,G6)=1,G6,\"\")","v":""},null,{"$f":"+IF(N6=\"\",\"\",MAX(K$1:K5)+1)","v":""},{"$f":"IF(CMS_Identification!E28=\"\",\"\",CMS_Identification!E28)","v":""},"",{"$f":"IF(COUNTIF(L$2:L6,L6)=1,L6,\"\")","v":""},null,"Unknown Causes",null,"Wet Scrubber Water Flow Rate",null,null,{"$f":"+IF(Z6=\"\",\"\",MAX(U$1:U5)+1)","v":""},{"$f":"IF(Limit_Deviation_Detail!B28=\"\",\"\",Limit_Deviation_Detail!B28)","v":""},{"$f":"IF(Limit_Deviation_Detail!C28=\"\",\"\",Limit_Deviation_Detail!C28)","v":""},{"$f":"IF(Limit_Deviation_Detail!E28=\"\",\"\",Limit_Deviation_Detail!E28)","v":""},"",{"$f":"IF(COUNTIF(Y$2:Y6,Y6)=1,Y6,\"\")","v":""},"","","","","",null,"AZ",null,{"$f":"+IF(AN6=\"\",\"\",MAX(AI$1:AI5)+1)","v":""},{"$f":"IF(Affected_Sources!B28=\"\",\"\",Affected_Sources!B28)","v":""},{"$f":"IF(Affected_Sources!C28=\"\",\"\",Affected_Sources!C28)","v":""},{"$f":"IF(Affected_Sources!D28=\"\",\"\",Affected_Sources!D28)","v":""},"",{"$f":"IF(COUNTIF(AM$2:AM6,AM6)=1,AM6,\"\")","v":""},"","","","","",null,{"$f":"+IF(AZ6=\"\",\"\",MAX(AU$1:AU5)+1)","v":""},{"$f":"IF(CMS_Deviation_Detail!B28=\"\",\"\",CMS_Deviation_Detail!B28)","v":""},{"$f":"IF(CMS_Deviation_Detail!C28=\"\",\"\",CMS_Deviation_Detail!C28)","v":""},{"$f":"IF(CMS_Deviation_Detail!D28=\"\",\"\",CMS_Deviation_Detail!D28)","v":""},"",{"$f":"IF(COUNTIF(AY$2:AY6,AY6)=1,AY6,\"\")","v":""},"","","","","",null,{"$f":"+IF(BL6=\"\",\"\",MAX(BG$1:BG5)+1)","v":""},{"$f":"IF(CMS_Identification!B28=\"\",\"\",CMS_Identification!B28)","v":""},{"$f":"IF(CMS_Identification!C28=\"\",\"\",CMS_Identification!C28)","v":""},{"$f":"IF(CMS_Identification!E28=\"\",\"\",CMS_Identification!E28)","v":""},"",{"$f":"IF(COUNTIF(BK$2:BK6,BK6)=1,BK6,\"\")","v":""},"","","",""]
[{"$f":"+IF(D7=\"\",\"\",MAX(A$1:A6)+1)","v":""},{"$f":"IF(Affected_Sources!C29=\"\",\"\",Affected_Sources!C29)","v":""},"",{"$f":"IF(COUNTIF(B$2:B7,B7)=1,B7,\"\")","v":""},null,{"$f":"+IF(I7=\"\",\"\",MAX(F$1:F6)+1)","v":""},{"$f":"+IF(Company_Information!B29=\"\",\"\",Company_Information!B29)","v":""},"",{"$f":"IF(COUNTIF(G$2:G7,G7)=1,G7,\"\")","v":""},null,{"$f":"+IF(N7=\"\",\"\",MAX(K$1:K6)+1)","v":""},{"$f":"IF(CMS_Identification!E29=\"\",\"\",CMS_Identification!E29)","v":""},"",{"$f":"IF(COUNTIF(L$2:L7,L7)=1,L7,\"\")","v":""},null,null,null,"ESP Voltage",null,null,{"$f":"+IF(Z7=\"\",\"\",MAX(U$1:U6)+1)","v":""},{"$f":"IF(Limit_Deviation_Detail!B29=\"\",\"\",Limit_Deviation_Detail!B29)","v":""},{"$f":"IF(Limit_Deviation_Detail!C29=\"\",\"\",Limit_Deviation_Detail!C29)","v":""},{"$f":"IF(Limit_Deviation_Detail!E29=\"\",\"\",Limit_Deviation_Detail!E29)","v":""},"",{"$f":"IF(COUNTIF(Y$2:Y7,Y7)=1,Y7,\"\")","v":""},"","","","","",null,"CA",null,{"$f":"+IF(AN7=\"\",\"\",MAX(AI$1:AI6)+1)","v":""},{"$f":"IF(Affected_Sources!B29=\"\",\"\",Affected_Sources!B29)","v":""},{"$f":"IF(Affected_Sources!C29=\"\",\"\",Affected_Sources!C29)","v":""},{"$f":"IF(Affected_Sources!D29=\"\",\"\",Affected_Sources!D29)","v":""},"",{"$f":"IF(COUNTIF(AM$2:AM7,AM7)=1,AM7,\"\")","v":""},"","","","","",null,{"$f":"+IF(AZ7=\"\",\"\",MAX(AU$1:AU6)+1)","v":""},{"$f":"IF(CMS_Deviation_Detail!B29=\"\",\"\",CMS_Deviation_Detail!B29)","v":""},{"$f":"IF(CMS_Deviation_Detail!C29=\"\",\"\",CMS_Deviation_Detail!C29)","v":""},{"$f":"IF(CMS_Deviation_Detail!D29=\"\",\"\",CMS_Deviation_Detail!D29)","v":""},"",{"$f":"IF(COUNTIF(AY$2:AY7,AY7)=1,AY7,\"\")","v":""},"","","","","",null,{"$f":"+IF(BL7=\"\",\"\",MAX(BG$1:BG6)+1)","v":""},{"$f":"IF(CMS_Identification!B29=\"\",\"\",CMS_Identification!B29)","v":""},{"$f":"IF(CMS_Identification!C29=\"\",\"\",CMS_Identification!C29)","v":""},{"$f":"IF(CMS_Identification!E29=\"\",\"\",CMS_Identification!E29)","v":""},"",{"$f":"IF(COUNTIF(BK$2:BK7,BK7)=1,BK7,\"\")","v":""},"","","",""]
[{"$f":"+IF(D8=\"\",\"\",MAX(A$1:A7)+1)","v":""},{"$f":"IF(Affected_Sources!C30=\"\",\"\",Affected_Sources!C30)","v":""},"",{"$f":"IF(COUNTIF(B$2:B8,B8)=1,B8,\"\")","v":""},null,{"$f":"+IF(I8=\"\",\"\",MAX(F$1:F7)+1)","v":""},{"$f":"+IF(Company_Information!B30=\"\",\"\",Company_Information!B30)","v":""},"",{"$f":"IF(COUNTIF(G$2:G8,G8)=1,G8,\"\")","v":""},null,{"$f":"+IF(N8=\"\",\"\",MAX(K$1:K7)+1)","v":""},{"$f":"IF(CMS_Identification!E30=\"\",\"\",CMS_Identification!E30)","v":""},"",{"$f":"IF(COUNTIF(L$2:L8,L8)=1,L8,\"\")","v":""},null,null,null,"ESP Secondary Current",null,null,{"$f":"+IF(Z8=\"\",\"\",MAX(U$1:U7)+1)","v":""},{"$f":"IF(Limit_Deviation_Detail!B30=\"\",\"\",Limit_Deviation_Detail!B30)","v":""},{"$f":"IF(Limit_Deviation_Detail!C30=\"\",\"\",Limit_Deviation_Detail!C30)","v":""},{"$f":"IF(Limit_Deviation_Detail!E30=\"\",\"\",Limit_Deviation_Detail!E30)","v":""},"",{"$f":"IF(COUNTIF(Y$2:Y8,Y8)=1,Y8,\"\")","v":""},"","","","","",null,"CO",null,{"$f":"+IF(AN8=\"\",\"\",MAX(AI$1:AI7)+1)","v":""},{"$f":"IF(Affected_Sources!B30=\"\",\"\",Affected_Sources!B30)","v":""},{"$f":"IF(Affected_Sources!C30=\"\",\"\",Affected_Sources!C30)","v":""},{"$f":"IF(Affected_Sources!D30=\"\",\"\",Affected_Sources!D30)","v":""},"",{"$f":"IF(COUNTIF(AM$2:AM8,AM8)=1,AM8,\"\")","v":""},"","","","","",null,{"$f":"+IF(AZ8=\"\",\"\",MAX(AU$1:AU7)+1)","v":""},{"$f":"IF(CMS_Deviation_Detail!B30=\"\",\"\",CMS_Deviation_Detail!B30)","v":""},{"$f":"IF(CMS_Deviation_Detail!C30=\"\",\"\",CMS_Deviation_Detail!C30)","v":""},{"$f":"IF(CMS_Deviation_Detail!D30=\"\",\"\",CMS_Deviation_Detail!D30)","v":""},"",{"$f":"IF(COUNTIF(AY$2:AY8,AY8)=1,AY8,\"\")","v":""},"","","","","",null,{"$f":"+IF(BL8=\"\",\"\",MAX(BG$1:BG7)+1)","v":""},{"$f":"IF(CMS_Identification!B30=\"\",\"\",CMS_Identification!B30)","v":""},{"$f":"IF(CMS_Identification!C30=\"\",\"\",CMS_Identification!C30)","v":""},{"$f":"IF(CMS_Identification!E30=\"\",\"\",CMS_Identification!E30)","v":""},"",{"$f":"IF(COUNTIF(BK$2:BK8,BK8)=1,BK8,\"\")","v":""},"","","",""]
[{"$f":"+IF(D9=\"\",\"\",MAX(A$1:A8)+1)","v":""},{"$f":"IF(Affected_Sources!C31=\"\",\"\",Affected_Sources!C31)","v":""},"",{"$f":"IF(COUNTIF(B$2:B9,B9)=1,B9,\"\")","v":""},null,{"$f":"+IF(I9=\"\",\"\",MAX(F$1:F8)+1)","v":""},{"$f":"+IF(Company_Information!B31=\"\",\"\",Company_Information!B31)","v":""},"",{"$f":"IF(COUNTIF(G$2:G9,G9)=1,G9,\"\")","v":""},null,{"$f":"+IF(N9=\"\",\"\",MAX(K$1:K8)+1)","v":""},{"$f":"IF(CMS_Identification!E31=\"\",\"\",CMS_Identification!E31)","v":""},"",{"$f":"IF(COUNTIF(L$2:L9,L9)=1,L9,\"\")","v":""},null,null,null,"ESP Total Power Input",null,null,{"$f":"+IF(Z9=\"\",\"\",MAX(U$1:U8)+1)","v":""},{"$f":"IF(Limit_Deviation_Detail!B31=\"\",\"\",Limit_Deviation_Detail!B31)","v":""},{"$f":"IF(Limit_Deviation_Detail!C31=\"\",\"\",Limit_Deviation_Detail!C31)","v":""},{"$f":"IF(Limit_Deviation_Detail!E31=\"\",\"\",Limit_Deviation_Detail!E31)","v":""},"",{"$f":"IF(COUNTIF(Y$2:Y9,Y9)=1,Y9,\"\")","v":""},"","","","","",null,"CT",null,{"$f":"+IF(AN9=\"\",\"\",MAX(AI$1:AI8)+1)","v":""},{"$f":"IF(Affected_Sources!B31=\"\",\"\",Affected_Sources!B31)","v":""},{"$f":"IF(Affected_Sources!C31=\"\",\"\",Affected_Sources!C31)","v":""},{"$f":"IF(Affected_Sources!D31=\"\",\"\",Affected_Sources!D31)","v":""},"",{"$f":"IF(COUNTIF(AM$2:AM9,AM9)=1,AM9,\"\")","v":""},"","","","","",null,{"$f":"+IF(AZ9=\"\",\"\",MAX(AU$1:AU8)+1)","v":""},{"$f":"IF(CMS_Deviation_Detail!B31=\"\",\"\",CMS_Deviation_Detail!B31)","v":""},{"$f":"IF(CMS_Deviation_Detail!C31=\"\",\"\",CMS_Deviation_Detail!C31)","v":""},{"$f":"IF(CMS_Deviation_Detail!D31=\"\",\"\",CMS_Deviation_Detail!D31)","v":""},"",{"$f":"IF(COUNTIF(AY$2:AY9,AY9)=1,AY9,\"\")","v":""},"","","","","",null,{"$f":"+IF(BL9=\"\",\"\",MAX(BG$1:BG8)+1)","v":""},{"$f":"IF(CMS_Identification!B31=\"\",\"\",CMS_Identification!B31)","v":""},{"$f":"IF(CMS_Identification!C31=\"\",\"\",CMS_Identification!C31)","v":""},{"$f":"IF(CMS_Identification!E31=\"\",\"\",CMS_Identification!E31)","v":""},"",{"$f":"IF(COUNTIF(BK$2:BK9,BK9)=1,BK9,\"\")","v":""},"","","",""]
[{"$f":"+IF(D10=\"\",\"\",MAX(A$1:A9)+1)","v":""},{"$f":"IF(Affected_Sources!C32=\"\",\"\",Affected_Sources!C32)","v":""},"",{"$f":"IF(COUNTIF(B$2:B10,B10)=1,B10,\"\")","v":""},null,{"$f":"+IF(I10=\"\",\"\",MAX(F$1:F9)+1)","v":""},{"$f":"+IF(Company_Information!B32=\"\",\"\",Company_Information!B32)","v":""},"",{"$f":"IF(COUNTIF(G$2:G10,G10)=1,G10,\"\")","v":""},null,{"$f":"+IF(N10=\"\",\"\",MAX(K$1:K9)+1)","v":""},{"$f":"IF(CMS_Identification!E32=\"\",\"\",CMS_Identification!E32)","v":""},"",{"$f":"IF(COUNTIF(L$2:L10,L10)=1,L10,\"\")","v":""},null,null,null,"Plan for Inspection and Selection of Scrap per §63.10885(a)",null,null,{"$f":"+IF(Z10=\"\",\"\",MAX(U$1:U9)+1)","v":""},{"$f":"IF(Limit_Deviation_Detail!B32=\"\",\"\",Limit_Deviation_Detail!B32)","v":""},{"$f":"IF(Limit_Deviation_Detail!C32=\"\",\"\",Limit_Deviation_Detail!C32)","v":""},{"$f":"IF(Limit_Deviation_Detail!E32=\"\",\"\",Limit_Deviation_Detail!E32)","v":""},"",{"$f":"IF(COUNTIF(Y$2:Y10,Y10)=1,Y10,\"\")","v":""},"","","","","",null,"DC",null,{"$f":"+IF(AN10=\"\",\"\",MAX(AI$1:AI9)+1)","v":""},{"$f":"IF(Affected_Sources!B32=\"\",\"\",Affected_Sources!B32)","v":""},{"$f":"IF(Affected_Sources!C32=\"\",\"\",Affected_Sources!C32)","v":""},{"$f":"IF(Affected_Sources!D32=\"\",\"\",Affected_Sources!D32)","v":""},"",{"$f":"IF(COUNTIF(AM$2:AM10,AM10)=1,AM10,\"\")","v":""},"","","","","",null,{"$f":"+IF(AZ10=\"\",\"\",MAX(AU$1:AU9)+1)","v":""},{"$f":"IF(CMS_Deviation_Detail!B32=\"\",\"\",CMS_Deviation_Detail!B32)","v":""},{"$f":"IF(CMS_Deviation_Detail!C32=\"\",\"\",CMS_Deviation_Detail!C32)","v":""},{"$f":"IF(CMS_Deviation_Detail!D32=\"\",\"\",CMS_Deviation_Detail!D32)","v":""},"",{"$f":"IF(COUNTIF(AY$2:AY10,AY10)=1,AY10,\"\")","v":""},"","","","","",null,{"$f":"+IF(BL10=\"\",\"\",MAX(BG$1:BG9)+1)","v":""},{"$f":"IF(CMS_Identification!B32=\"\",\"\",CMS_Identification!B32)","v":""},{"$f":"IF(CMS_Identification!C32=\"\",\"\",CMS_Identification!C32)","v":""},{"$f":"IF(CMS_Identification!E32=\"\",\"\",CMS_Identification!E32)","v":""},"",{"$f":"IF(COUNTIF(BK$2:BK10,BK10)=1,BK10,\"\")","v":""},"","","",""]
[{"$f":"+IF(D11=\"\",\"\",MAX(A$1:A10)+1)","v":""},{"$f":"IF(Affected_Sources!C33=\"\",\"\",Affected_Sources!C33)","v":""},"",{"$f":"IF(COUNTIF(B$2:B11,B11)=1,B11,\"\")","v":""},null,{"$f":"+IF(I11=\"\",\"\",MAX(F$1:F10)+1)","v":""},{"$f":"+IF(Company_Information!B33=\"\",\"\",Company_Information!B33)","v":""},"",{"$f":"IF(COUNTIF(G$2:G11,G11)=1,G11,\"\")","v":""},null,{"$f":"+IF(N11=\"\",\"\",MAX(K$1:K10)+1)","v":""},{"$f":"IF(CMS_Identification!E33=\"\",\"\",CMS_Identification!E33)","v":""},"",{"$f":"IF(COUNTIF(L$2:L11,L11)=1,L11,\"\")","v":""},null,null,null,"Mercury Specific Requirements",null,null,{"$f":"+IF(Z11=\"\",\"\",MAX(U$1:U10)+1)","v":""},{"$f":"IF(Limit_Deviation_Detail!B33=\"\",\"\",Limit_Deviation_Detail!B33)","v":""},{"$f":"IF(Limit_Deviation_Detail!C33=\"\",\"\",Limit_Deviation_Detail!C33)","v":""},{"$f":"IF(Limit_Deviation_Detail!E33=\"\",\"\",Limit_Deviation_Detail!E33)","v":""},"",{"$f":"IF(COUNTIF(Y$2:Y11,Y11)=1,Y11,\"\")","v":""},"","","","","",null,"DE",null,{"$f":"+IF(AN11=\"\",\"\",MAX(AI$1:AI10)+1)","v":""},{"$f":"IF(Affected_Sources!B33=\"\",\"\",Affected_Sources!B33)","v":""},{"$f":"IF(Affected_Sources!C33=\"\",\"\",Affected_Sources!C33)","v":""},{"$f":"IF(Affected_Sources!D33=\"\",\"\",Affected_Sources!D33)","v":""},"",{"$f":"IF(COUNTIF(AM$2:AM11,AM11)=1,AM11,\"\")","v":""},"","","","","",null,{"$f":"+IF(AZ11=\"\",\"\",MAX(AU$1:AU10)+1)","v":""},{"$f":"IF(CMS_Deviation_Detail!B33=\"\",\"\",CMS_Deviation_Detail!B33)","v":""},{"$f":"IF(CMS_Deviation_Detail!C33=\"\",\"\",CMS_Deviation_Detail!C33)","v":""},{"$f":"IF(CMS_Deviation_Detail!D33=\"\",\"\",CMS_Deviation_Detail!D33)","v":""},"",{"$f":"IF(COUNTIF(AY$2:AY11,AY11)=1,AY11,\"\")","v":""},"","","","","",null,{"$f":"+IF(BL11=\"\",\"\",MAX(BG$1:BG10)+1)","v":""},{"$f":"IF(CMS_Identification!B33=\"\",\"\",CMS_Identification!B33)","v":""},{"$f":"IF(CMS_Identification!C33=\"\",\"\",CMS_Identification!C33)","v":""},{"$f":"IF(CMS_Identification!E33=\"\",\"\",CMS_Identification!E33)","v":""},"",{"$f":"IF(COUNTIF(BK$2:BK11,BK11)=1,BK11,\"\")","v":""},"","","",""]
[{"$f":"+IF(D12=\"\",\"\",MAX(A$1:A11)+1)","v":""},{"$f":"IF(Affected_Sources!C34=\"\",\"\",Affected_Sources!C34)","v":""},"",{"$f":"IF(COUNTIF(B$2:B12,B12)=1,B12,\"\")","v":""},null,null,null,null,null,null,{"$f":"+IF(N12=\"\",\"\",MAX(K$1:K11)+1)","v":""},{"$f":"IF(CMS_Identification!E34=\"\",\"\",CMS_Identification!E34)","v":""},"",{"$f":"IF(COUNTIF(L$2:L12,L12)=1,L12,\"\")","v":""},null,"Malfunction",null,"Methanol Free Binder Chemical Formulation",null,null,{"$f":"+IF(Z12=\"\",\"\",MAX(U$1:U11)+1)","v":""},{"$f":"IF(Limit_Deviation_Detail!B34=\"\",\"\",Limit_Deviation_Detail!B34)","v":""},{"$f":"IF(Limit_Deviation_Detail!C34=\"\",\"\",Limit_Deviation_Detail!C34)","v":""},{"$f":"IF(Limit_Deviation_Detail!E34=\"\",\"\",Limit_Deviation_Detail!E34)","v":""},"",{"$f":"IF(COUNTIF(Y$2:Y12,Y12)=1,Y12,\"\")","v":""},"","","","","",null,"FL",null,{"$f":"+IF(AN12=\"\",\"\",MAX(AI$1:AI11)+1)","v":""},{"$f":"IF(Affected_Sources!B34=\"\",\"\",Affected_Sources!B34)","v":""},{"$f":"IF(Affected_Sources!C34=\"\",\"\",Affected_Sources!C34)","v":""},{"$f":"IF(Affected_Sources!D34=\"\",\"\",Affected_Sources!D34)","v":""},"",{"$f":"IF(COUNTIF(AM$2:AM12,AM12)=1,AM12,\"\")","v":""},"","","","","",null,{"$f":"+IF(AZ12=\"\",\"\",MAX(AU$1:AU11)+1)","v":""},{"$f":"IF(CMS_Deviation_Detail!B34=\"\",\"\",CMS_Deviation_Detail!B34)","v":""},{"$f":"IF(CMS_Deviation_Detail!C34=\"\",\"\",CMS_Deviation_Detail!C34)","v":""},{"$f":"IF(CMS_Deviation_Detail!D34=\"\",\"\",CMS_Deviation_Detail!D34)","v":""},"",{"$f":"IF(COUNTIF(AY$2:AY12,AY12)=1,AY12,\"\")","v":""},"","","","","",null,{"$f":"+IF(BL12=\"\",\"\",MAX(BG$1:BG11)+1)","v":""},{"$f":"IF(CMS_Identification!B34=\"\",\"\",CMS_Identification!B34)","v":""},{"$f":"IF(CMS_Identification!C34=\"\",\"\",CMS_Identification!C34)","v":""},{"$f":"IF(CMS_Identification!E34=\"\",\"\",CMS_Identification!E34)","v":""},"",{"$f":"IF(COUNTIF(BK$2:BK12,BK12)=1,BK12,\"\")","v":""},"","","",""]
[{"$f":"+IF(D13=\"\",\"\",MAX(A$1:A12)+1)","v":""},{"$f":"IF(Affected_Sources!C35=\"\",\"\",Affected_Sources!C35)","v":""},"",{"$f":"IF(COUNTIF(B$2:B13,B13)=1,B13,\"\")","v":""},null,null,null,null,null,null,{"$f":"+IF(N13=\"\",\"\",MAX(K$1:K12)+1)","v":""},{"$f":"IF(CMS_Identification!E35=\"\",\"\",CMS_Identification!E35)","v":""},"",{"$f":"IF(COUNTIF(L$2:L13,L13)=1,L13,\"\")","v":""},null,"Other Period",null,"Other (Specify Here)",null,null,{"$f":"+IF(Z13=\"\",\"\",MAX(U$1:U12)+1)","v":""},{"$f":"IF(Limit_Deviation_Detail!B35=\"\",\"\",Limit_Deviation_Detail!B35)","v":""},{"$f":"IF(Limit_Deviation_Detail!C35=\"\",\"\",Limit_Deviation_Detail!C35)","v":""},{"$f":"IF(Limit_Deviation_Detail!E35=\"\",\"\",Limit_Deviation_Detail!E35)","v":""},"",{"$f":"IF(COUNTIF(Y$2:Y13,Y13)=1,Y13,\"\")","v":""},"","","","","",null,"GA",null,{"$f":"+IF(AN13=\"\",\"\",MAX(AI$1:AI12)+1)","v":""},{"$f":"IF(Affected_Sources!B35=\"\",\"\",Affected_Sources!B35)","v":""},{"$f":"IF(Affected_Sources!C35=\"\",\"\",Affected_Sources!C35)","v":""},{"$f":"IF(Affected_Sources!D35=\"\",\"\",Affected_Sources!D35)","v":""},"",{"$f":"IF(COUNTIF(AM$2:AM13,AM13)=1,AM13,\"\")","v":""},"","","","","",null,{"$f":"+IF(AZ13=\"\",\"\",MAX(AU$1:AU12)+1)","v":""},{"$f":"IF(CMS_Deviation_Detail!B35=\"\",\"\",CMS_Deviation_Detail!B35)","v":""},{"$f":"IF(CMS_Deviation_Detail!C35=\"\",\"\",CMS_Deviation_Detail!C35)","v":""},{"$f":"IF(CMS_Deviation_Detail!D35=\"\",\"\",CMS_Deviation_Detail!D35)","v":""},"",{"$f":"IF(COUNTIF(AY$2:AY13,AY13)=1,AY13,\"\")","v":""},"","","","","",null,{"$f":"+IF(BL13=\"\",\"\",MAX(BG$1:BG12)+1)","v":""},{"$f":"IF(CMS_Identification!B35=\"\",\"\",CMS_Identification!B35)","v":""},{"$f":"IF(CMS_Identification!C35=\"\",\"\",CMS_Identification!C35)","v":""},{"$f":"IF(CMS_Identification!E35=\"\",\"\",CMS_Identification!E35)","v":""},"",{"$f":"IF(COUNTIF(BK$2:BK13,BK13)=1,BK13,\"\")","v":""},"","","",""]
[{"$f":"+IF(D14=\"\",\"\",MAX(A$1:A13)+1)","v":""},{"$f":"IF(Affected_Sources!C36=\"\",\"\",Affected_Sources!C36)","v":""},"",{"$f":"IF(COUNTIF(B$2:B14,B14)=1,B14,\"\")","v":""},null,null,null,null,null,null,{"$f":"+IF(N14=\"\",\"\",MAX(K$1:K13)+1)","v":""},{"$f":"IF(CMS_Identification!E36=\"\",\"\",CMS_Identification!E36)","v":""},"",{"$f":"IF(COUNTIF(L$2:L14,L14)=1,L14,\"\")","v":""},null,null,null,null,null,null,{"$f":"+IF(Z14=\"\",\"\",MAX(U$1:U13)+1)","v":""},{"$f":"IF(Limit_Deviation_Detail!B36=\"\",\"\",Limit_Deviation_Detail!B36)","v":""},{"$f":"IF(Limit_Deviation_Detail!C36=\"\",\"\",Limit_Deviation_Detail!C36)","v":""},{"$f":"IF(Limit_Deviation_Detail!E36=\"\",\"\",Limit_Deviation_Detail!E36)","v":""},"",{"$f":"IF(COUNTIF(Y$2:Y14,Y14)=1,Y14,\"\")","v":""},"","","","","",null,"GU",null,{"$f":"+IF(AN14=\"\",\"\",MAX(AI$1:AI13)+1)","v":""},{"$f":"IF(Affected_Sources!B36=\"\",\"\",Affected_Sources!B36)","v":""},{"$f":"IF(Affected_Sources!C36=\"\",\"\",Affected_Sources!C36)","v":""},{"$f":"IF(Affected_Sources!D36=\"\",\"\",Affected_Sources!D36)","v":""},"",{"$f":"IF(COUNTIF(AM$2:AM14,AM14)=1,AM14,\"\")","v":""},"","","","","",null,{"$f":"+IF(AZ14=\"\",\"\",MAX(AU$1:AU13)+1)","v":""},{"$f":"IF(CMS_Deviation_Detail!B36=\"\",\"\",CMS_Deviation_Detail!B36)","v":""},{"$f":"IF(CMS_Deviation_Detail!C36=\"\",\"\",CMS_Deviation_Detail!C36)","v":""},{"$f":"IF(CMS_Deviation_Detail!D36=\"\",\"\",CMS_Deviation_Detail!D36)","v":""},"",{"$f":"IF(COUNTIF(AY$2:AY14,AY14)=1,AY14,\"\")","v":""},"","","","","",null,{"$f":"+IF(BL14=\"\",\"\",MAX(BG$1:BG13)+1)","v":""},{"$f":"IF(CMS_Identification!B36=\"\",\"\",CMS_Identification!B36)","v":""},{"$f":"IF(CMS_Identification!C36=\"\",\"\",CMS_Identification!C36)","v":""},{"$f":"IF(CMS_Identification!E36=\"\",\"\",CMS_Identification!E36)","v":""},"",{"$f":"IF(COUNTIF(BK$2:BK14,BK14)=1,BK14,\"\")","v":""},"","","",""]
[{"$f":"+IF(D15=\"\",\"\",MAX(A$1:A14)+1)","v":""},{"$f":"IF(Affected_Sources!C37=\"\",\"\",Affected_Sources!C37)","v":""},"",{"$f":"IF(COUNTIF(B$2:B15,B15)=1,B15,\"\")","v":""},null,null,null,null,null,null,{"$f":"+IF(N15=\"\",\"\",MAX(K$1:K14)+1)","v":""},{"$f":"IF(CMS_Identification!E37=\"\",\"\",CMS_Identification!E37)","v":""},"",{"$f":"IF(COUNTIF(L$2:L15,L15)=1,L15,\"\")","v":""},null,"Deviation Causes",null,"Options under 63.10885(b)",null,null,{"$f":"+IF(Z15=\"\",\"\",MAX(U$1:U14)+1)","v":""},{"$f":"IF(Limit_Deviation_Detail!B37=\"\",\"\",Limit_Deviation_Detail!B37)","v":""},{"$f":"IF(Limit_Deviation_Detail!C37=\"\",\"\",Limit_Deviation_Detail!C37)","v":""},{"$f":"IF(Limit_Deviation_Detail!E37=\"\",\"\",Limit_Deviation_Detail!E37)","v":""},"",{"$f":"IF(COUNTIF(Y$2:Y15,Y15)=1,Y15,\"\")","v":""},"","","","","",null,"HI",null,{"$f":"+IF(AN15=\"\",\"\",MAX(AI$1:AI14)+1)","v":""},{"$f":"IF(Affected_Sources!B37=\"\",\"\",Affected_Sources!B37)","v":""},{"$f":"IF(Affected_Sources!C37=\"\",\"\",Affected_Sources!C37)","v":""},{"$f":"IF(Affected_Sources!D37=\"\",\"\",Affected_Sources!D37)","v":""},"",{"$f":"IF(COUNTIF(AM$2:AM15,AM15)=1,AM15,\"\")","v":""},"","","","","",null,{"$f":"+IF(AZ15=\"\",\"\",MAX(AU$1:AU14)+1)","v":""},{"$f":"IF(CMS_Deviation_Detail!B37=\"\",\"\",CMS_Deviation_Detail!B37)","v":""},{"$f":"IF(CMS_Deviation_Detail!C37=\"\",\"\",CMS_Deviation_Detail!C37)","v":""},{"$f":"IF(CMS_Deviation_Detail!D37=\"\",\"\",CMS_Deviation_Detail!D37)","v":""},"",{"$f":"IF(COUNTIF(AY$2:AY15,AY15)=1,AY15,\"\")","v":""},"","","","","",null,{"$f":"+IF(BL15=\"\",\"\",MAX(BG$1:BG14)+1)","v":""},{"$f":"IF(CMS_Identification!B37=\"\",\"\",CMS_Identification!B37)","v":""},{"$f":"IF(CMS_Identification!C37=\"\",\"\",CMS_Identification!C37)","v":""},{"$f":"IF(CMS_Identification!E37=\"\",\"\",CMS_Identification!E37)","v":""},"",{"$f":"IF(COUNTIF(BK$2:BK15,BK15)=1,BK15,\"\")","v":""},"","","",""]
[{"$f":"+IF(D16=\"\",\"\",MAX(A$1:A15)+1)","v":""},{"$f":"IF(Affected_Sources!C38=\"\",\"\",Affected_Sources!C38)","v":""},"",{"$f":"IF(COUNTIF(B$2:B16,B16)=1,B16,\"\")","v":""},null,null,null,null,null,null,{"$f":"+IF(N16=\"\",\"\",MAX(K$1:K15)+1)","v":""},{"$f":"IF(CMS_Identification!E38=\"\",\"\",CMS_Identification!E38)","v":""},"",{"$f":"IF(COUNTIF(L$2:L16,L16)=1,L16,\"\")","v":""},null,"Startup/Shutdown",null,"Site Specific Mercury Plan",null,null,{"$f":"+IF(Z16=\"\",\"\",MAX(U$1:U15)+1)","v":""},{"$f":"IF(Limit_Deviation_Detail!B38=\"\",\"\",Limit_Deviation_Detail!B38)","v":""},{"$f":"IF(Limit_Deviation_Detail!C38=\"\",\"\",Limit_Deviation_Detail!C38)","v":""},{"$f":"IF(Limit_Deviation_Detail!E38=\"\",\"\",Limit_Deviation_Detail!E38)","v":""},"",{"$f":"IF(COUNTIF(Y$2:Y16,Y16)=1,Y16,\"\")","v":""},"","","","","",null,"IA",null,{"$f":"+IF(AN16=\"\",\"\",MAX(AI$1:AI15)+1)","v":""},{"$f":"IF(Affected_Sources!B38=\"\",\"\",Affected_Sources!B38)","v":""},{"$f":"IF(Affected_Sources!C38=\"\",\"\",Affected_Sources!C38)","v":""},{"$f":"IF(Affected_Sources!D38=\"\",\"\",Affected_Sources!D38)","v":""},"",{"$f":"IF(COUNTIF(AM$2:AM16,AM16)=1,AM16,\"\")","v":""},"","","","","",null,{"$f":"+IF(AZ16=\"\",\"\",MAX(AU$1:AU15)+1)","v":""},{"$f":"IF(CMS_Deviation_Detail!B38=\"\",\"\",CMS_Deviation_Detail!B38)","v":""},{"$f":"IF(CMS_Deviation_Detail!C38=\"\",\"\",CMS_Deviation_Detail!C38)","v":""},{"$f":"IF(CMS_Deviation_Detail!D38=\"\",\"\",CMS_Deviation_Detail!D38)","v":""},"",{"$f":"IF(COUNTIF(AY$2:AY16,AY16)=1,AY16,\"\")","v":""},"","","","","",null,{"$f":"+IF(BL16=\"\",\"\",MAX(BG$1:BG15)+1)","v":""},{"$f":"IF(CMS_Identification!B38=\"\",\"\",CMS_Identification!B38)","v":""},{"$f":"IF(CMS_Identification!C38=\"\",\"\",CMS_Identification!C38)","v":""},{"$f":"IF(CMS_Identification!E38=\"\",\"\",CMS_Identification!E38)","v":""},"",{"$f":"IF(COUNTIF(BK$2:BK16,BK16)=1,BK16,\"\")","v":""},"","","",""]
[{"$f":"+IF(D17=\"\",\"\",MAX(A$1:A16)+1)","v":""},{"$f":"IF(Affected_Sources!C39=\"\",\"\",Affected_Sources!C39)","v":""},"",{"$f":"IF(COUNTIF(B$2:B17,B17)=1,B17,\"\")","v":""},null,null,null,null,null,null,{"$f":"+IF(N17=\"\",\"\",MAX(K$1:K16)+1)","v":""},{"$f":"IF(CMS_Identification!E39=\"\",\"\",CMS_Identification!E39)","v":""},"",{"$f":"IF(COUNTIF(L$2:L17,L17)=1,L17,\"\")","v":""},null,"Control Equipment Problems",null,"Approved Mercury Program",null,null,{"$f":"+IF(Z17=\"\",\"\",MAX(U$1:U16)+1)","v":""},{"$f":"IF(Limit_Deviation_Detail!B39=\"\",\"\",Limit_Deviation_Detail!B39)","v":""},{"$f":"IF(Limit_Deviation_Detail!C39=\"\",\"\",Limit_Deviation_Detail!C39)","v":""},{"$f":"IF(Limit_Deviation_Detail!E39=\"\",\"\",Limit_Deviation_Detail!E39)","v":""},"",{"$f":"IF(COUNTIF(Y$2:Y17,Y17)=1,Y17,\"\")","v":""},"","","","","",null,"ID",null,{"$f":"+IF(AN17=\"\",\"\",MAX(AI$1:AI16)+1)","v":""},{"$f":"IF(Affected_Sources!B39=\"\",\"\",Affected_Sources!B39)","v":""},{"$f":"IF(Affected_Sources!C39=\"\",\"\",Affected_Sources!C39)","v":""},{"$f":"IF(Affected_Sources!D39=\"\",\"\",Affected_Sources!D39)","v":""},"",{"$f":"IF(COUNTIF(AM$2:AM17,AM17)=1,AM17,\"\")","v":""},"","","","","",null,{"$f":"+IF(AZ17=\"\",\"\",MAX(AU$1:AU16)+1)","v":""},{"$f":"IF(CMS_Deviation_Detail!B39=\"\",\"\",CMS_Deviation_Detail!B39)","v":""},{"$f":"IF(CMS_Deviation_Detail!C39=\"\",\"\",CMS_Deviation_Detail!C39)","v":""},{"$f":"IF(CMS_Deviation_Detail!D39=\"\",\"\",CMS_Deviation_Detail!D39)","v":""},"",{"$f":"IF(COUNTIF(AY$2:AY17,AY17)=1,AY17,\"\")","v":""},"","","","","",null,{"$f":"+IF(BL17=\"\",\"\",MAX(BG$1:BG16)+1)","v":""},{"$f":"IF(CMS_Identification!B39=\"\",\"\",CMS_Identification!B39)","v":""},{"$f":"IF(CMS_Identification!C39=\"\",\"\",CMS_Identification!C39)","v":""},{"$f":"IF(CMS_Identification!E39=\"\",\"\",CMS_Identification!E39)","v":""},"",{"$f":"IF(COUNTIF(BK$2:BK17,BK17)=1,BK17,\"\")","v":""},"","","",""]
[{"$f":"+IF(D18=\"\",\"\",MAX(A$1:A17)+1)","v":""},{"$f":"IF(Affected_Sources!C40=\"\",\"\",Affected_Sources!C40)","v":""},"",{"$f":"IF(COUNTIF(B$2:B18,B18)=1,B18,\"\")","v":""},null,null,null,null,null,null,{"$f":"+IF(N18=\"\",\"\",MAX(K$1:K17)+1)","v":""},{"$f":"IF(CMS_Identification!E40=\"\",\"\",CMS_Identification!E40)","v":""},"",{"$f":"IF(COUNTIF(L$2:L18,L18)=1,L18,\"\")","v":""},null,"Process Problems",null,"Specialty Metal Scrap",null,null,{"$f":"+IF(Z18=\"\",\"\",MAX(U$1:U17)+1)","v":""},{"$f":"IF(Limit_Deviation_Detail!B40=\"\",\"\",Limit_Deviation_Detail!B40)","v":""},{"$f":"IF(Limit_Deviation_Detail!C40=\"\",\"\",Limit_Deviation_Detail!C40)","v":""},{"$f":"IF(Limit_Deviation_Detail!E40=\"\",\"\",Limit_Deviation_Detail!E40)","v":""},"",{"$f":"IF(COUNTIF(Y$2:Y18,Y18)=1,Y18,\"\")","v":""},"","","","","",null,"IL",null,{"$f":"+IF(AN18=\"\",\"\",MAX(AI$1:AI17)+1)","v":""},{"$f":"IF(Affected_Sources!B40=\"\",\"\",Affected_Sources!B40)","v":""},{"$f":"IF(Affected_Sources!C40=\"\",\"\",Affected_Sources!C40)","v":""},{"$f":"IF(Affected_Sources!D40=\"\",\"\",Affected_Sources!D40)","v":""},"",{"$f":"IF(COUNTIF(AM$2:AM18,AM18)=1,AM18,\"\")","v":""},"","","","","",null,{"$f":"+IF(AZ18=\"\",\"\",MAX(AU$1:AU17)+1)","v":""},{"$f":"IF(CMS_Deviation_Detail!B40=\"\",\"\",CMS_Deviation_Detail!B40)","v":""},{"$f":"IF(CMS_Deviation_Detail!C40=\"\",\"\",CMS_Deviation_Detail!C40)","v":""},{"$f":"IF(CMS_Deviation_Detail!D40=\"\",\"\",CMS_Deviation_Detail!D40)","v":""},"",{"$f":"IF(COUNTIF(AY$2:AY18,AY18)=1,AY18,\"\")","v":""},"","","","","",null,{"$f":"+IF(BL18=\"\",\"\",MAX(BG$1:BG17)+1)","v":""},{"$f":"IF(CMS_Identification!B40=\"\",\"\",CMS_Identification!B40)","v":""},{"$f":"IF(CMS_Identification!C40=\"\",\"\",CMS_Identification!C40)","v":""},{"$f":"IF(CMS_Identification!E40=\"\",\"\",CMS_Identification!E40)","v":""},"",{"$f":"IF(COUNTIF(BK$2:BK18,BK18)=1,BK18,\"\")","v":""},"","","",""]
[{"$f":"+IF(D19=\"\",\"\",MAX(A$1:A18)+1)","v":""},{"$f":"IF(Affected_Sources!C41=\"\",\"\",Affected_Sources!C41)","v":""},"",{"$f":"IF(COUNTIF(B$2:B19,B19)=1,B19,\"\")","v":""},null,null,null,null,null,null,{"$f":"+IF(N19=\"\",\"\",MAX(K$1:K18)+1)","v":""},{"$f":"IF(CMS_Identification!E41=\"\",\"\",CMS_Identification!E41)","v":""},"",{"$f":"IF(COUNTIF(L$2:L19,L19)=1,L19,\"\")","v":""},null,"Other Known Causes",null,"Scrap Does Not Contain Automotive Scrap",null,null,{"$f":"+IF(Z19=\"\",\"\",MAX(U$1:U18)+1)","v":""},{"$f":"IF(Limit_Deviation_Detail!B41=\"\",\"\",Limit_Deviation_Detail!B41)","v":""},{"$f":"IF(Limit_Deviation_Detail!C41=\"\",\"\",Limit_Deviation_Detail!C41)","v":""},{"$f":"IF(Limit_Deviation_Detail!E41=\"\",\"\",Limit_Deviation_Detail!E41)","v":""},"",{"$f":"IF(COUNTIF(Y$2:Y19,Y19)=1,Y19,\"\")","v":""},"","","","","",null,"IN",null,{"$f":"+IF(AN19=\"\",\"\",MAX(AI$1:AI18)+1)","v":""},{"$f":"IF(Affected_Sources!B41=\"\",\"\",Affected_Sources!B41)","v":""},{"$f":"IF(Affected_Sources!C41=\"\",\"\",Affected_Sources!C41)","v":""},{"$f":"IF(Affected_Sources!D41=\"\",\"\",Affected_Sources!D41)","v":""},"",{"$f":"IF(COUNTIF(AM$2:AM19,AM19)=1,AM19,\"\")","v":""},"","","","","",null,{"$f":"+IF(AZ19=\"\",\"\",MAX(AU$1:AU18)+1)","v":""},{"$f":"IF(CMS_Deviation_Detail!B41=\"\",\"\",CMS_Deviation_Detail!B41)","v":""},{"$f":"IF(CMS_Deviation_Detail!C41=\"\",\"\",CMS_Deviation_Detail!C41)","v":""},{"$f":"IF(CMS_Deviation_Detail!D41=\"\",\"\",CMS_Deviation_Detail!D41)","v":""},"",{"$f":"IF(COUNTIF(AY$2:AY19,AY19)=1,AY19,\"\")","v":""},"","","","","",null,{"$f":"+IF(BL19=\"\",\"\",MAX(BG$1:BG18)+1)","v":""},{"$f":"IF(CMS_Identification!B41=\"\",\"\",CMS_Identification!B41)","v":""},{"$f":"IF(CMS_Identification!C41=\"\",\"\",CMS_Identification!C41)","v":""},{"$f":"IF(CMS_Identification!E41=\"\",\"\",CMS_Identification!E41)","v":""},"",{"$f":"IF(COUNTIF(BK$2:BK19,BK19)=1,BK19,\"\")","v":""},"","","",""]
[{"$f":"+IF(D20=\"\",\"\",MAX(A$1:A19)+1)","v":""},{"$f":"IF(Affected_Sources!C42=\"\",\"\",Affected_Sources!C42)","v":""},"",{"$f":"IF(COUNTIF(B$2:B20,B20)=1,B20,\"\")","v":""},null,null,null,null,null,null,{"$f":"+IF(N20=\"\",\"\",MAX(K$1:K19)+1)","v":""},{"$f":"IF(CMS_Identification!E42=\"\",\"\",CMS_Identification!E42)","v":""},"",{"$f":"IF(COUNTIF(L$2:L20,L20)=1,L20,\"\")","v":""},null,"Unknown Causes",null,null,null,null,{"$f":"+IF(Z20=\"\",\"\",MAX(U$1:U19)+1)","v":""},{"$f":"IF(Limit_Deviation_Detail!B42=\"\",\"\",Limit_Deviation_Detail!B42)","v":""},{"$f":"IF(Limit_Deviation_Detail!C42=\"\",\"\",Limit_Deviation_Detail!C42)","v":""},{"$f":"IF(Limit_Deviation_Detail!E42=\"\",\"\",Limit_Deviation_Detail!E42)","v":""},"",{"$f":"IF(COUNTIF(Y$2:Y20,Y20)=1,Y20,\"\")","v":""},"","","","","",null,"KS",null,{"$f":"+IF(AN20=\"\",\"\",MAX(AI$1:AI19)+1)","v":""},{"$f":"IF(Affected_Sources!B42=\"\",\"\",Affected_Sources!B42)","v":""},{"$f":"IF(Affected_Sources!C42=\"\",\"\",Affected_Sources!C42)","v":""},{"$f":"IF(Affected_Sources!D42=\"\",\"\",Affected_Sources!D42)","v":""},"",{"$f":"IF(COUNTIF(AM$2:AM20,AM20)=1,AM20,\"\")","v":""},"","","","","",null,{"$f":"+IF(AZ20=\"\",\"\",MAX(AU$1:AU19)+1)","v":""},{"$f":"IF(CMS_Deviation_Detail!B42=\"\",\"\",CMS_Deviation_Detail!B42)","v":""},{"$f":"IF(CMS_Deviation_Detail!C42=\"\",\"\",CMS_Deviation_Detail!C42)","v":""},{"$f":"IF(CMS_Deviation_Detail!D42=\"\",\"\",CMS_Deviation_Detail!D42)","v":""},"",{"$f":"IF(COUNTIF(AY$2:AY20,AY20)=1,AY20,\"\")","v":""},"","","","","",null,{"$f":"+IF(BL20=\"\",\"\",MAX(BG$1:BG19)+1)","v":""},{"$f":"IF(CMS_Identification!B42=\"\",\"\",CMS_Identification!B42)","v":""},{"$f":"IF(CMS_Identification!C42=\"\",\"\",CMS_Identification!C42)","v":""},{"$f":"IF(CMS_Identification!E42=\"\",\"\",CMS_Identification!E42)","v":""},"",{"$f":"IF(COUNTIF(BK$2:BK20,BK20)=1,BK20,\"\")","v":""},"","","",""]
[{"$f":"+IF(D21=\"\",\"\",MAX(A$1:A20)+1)","v":""},{"$f":"IF(Affected_Sources!C43=\"\",\"\",Affected_Sources!C43)","v":""},"",{"$f":"IF(COUNTIF(B$2:B21,B21)=1,B21,\"\")","v":""},null,null,null,null,null,null,{"$f":"+IF(N21=\"\",\"\",MAX(K$1:K20)+1)","v":""},{"$f":"IF(CMS_Identification!E43=\"\",\"\",CMS_Identification!E43)","v":""},"",{"$f":"IF(COUNTIF(L$2:L21,L21)=1,L21,\"\")","v":""},null,null,null,null,null,null,{"$f":"+IF(Z21=\"\",\"\",MAX(U$1:U20)+1)","v":""},{"$f":"IF(Limit_Deviation_Detail!B43=\"\",\"\",Limit_Deviation_Detail!B43)","v":""},{"$f":"IF(Limit_Deviation_Detail!C43=\"\",\"\",Limit_Deviation_Detail!C43)","v":""},{"$f":"IF(Limit_Deviation_Detail!E43=\"\",\"\",Limit_Deviation_Detail!E43)","v":""},"",{"$f":"IF(COUNTIF(Y$2:Y21,Y21)=1,Y21,\"\")","v":""},"","","","","",null,"KY",null,{"$f":"+IF(AN21=\"\",\"\",MAX(AI$1:AI20)+1)","v":""},{"$f":"IF(Affected_Sources!B43=\"\",\"\",Affected_Sources!B43)","v":""},{"$f":"IF(Affected_Sources!C43=\"\",\"\",Affected_Sources!C43)","v":""},{"$f":"IF(Affected_Sources!D43=\"\",\"\",Affected_Sources!D43)","v":""},"",{"$f":"IF(COUNTIF(AM$2:AM21,AM21)=1,AM21,\"\")","v":""},"","","","","",null,{"$f":"+IF(AZ21=\"\",\"\",MAX(AU$1:AU20)+1)","v":""},{"$f":"IF(CMS_Deviation_Detail!B43=\"\",\"\",CMS_Deviation_Detail!B43)","v":""},{"$f":"IF(CMS_Deviation_Detail!C43=\"\",\"\",CMS_Deviation_Detail!C43)","v":""},{"$f":"IF(CMS_Deviation_Detail!D43=\"\",\"\",CMS_Deviation_Detail!D43)","v":""},"",{"$f":"IF(COUNTIF(AY$2:AY21,AY21)=1,AY21,\"\")","v":""},"","","","","",null,{"$f":"+IF(BL21=\"\",\"\",MAX(BG$1:BG20)+1)","v":""},{"$f":"IF(CMS_Identification!B43=\"\",\"\",CMS_Identification!B43)","v":""},{"$f":"IF(CMS_Identification!C43=\"\",\"\",CMS_Identification!C43)","v":""},{"$f":"IF(CMS_Identification!E43=\"\",\"\",CMS_Identification!E43)","v":""},"",{"$f":"IF(COUNTIF(BK$2:BK21,BK21)=1,BK21,\"\")","v":""},"","","",""]
[{"$f":"+IF(D22=\"\",\"\",MAX(A$1:A21)+1)","v":""},{"$f":"IF(Affected_Sources!C44=\"\",\"\",Affected_Sources!C44)","v":""},"",{"$f":"IF(COUNTIF(B$2:B22,B22)=1,B22,\"\")","v":""},null,null,null,null,null,null,{"$f":"+IF(N22=\"\",\"\",MAX(K$1:K21)+1)","v":""},{"$f":"IF(CMS_Identification!E44=\"\",\"\",CMS_Identification!E44)","v":""},"",{"$f":"IF(COUNTIF(L$2:L22,L22)=1,L22,\"\")","v":""},null,"Engineering Calculation",null,null,null,null,{"$f":"+IF(Z22=\"\",\"\",MAX(U$1:U21)+1)","v":""},{"$f":"IF(Limit_Deviation_Detail!B44=\"\",\"\",Limit_Deviation_Detail!B44)","v":""},{"$f":"IF(Limit_Deviation_Detail!C44=\"\",\"\",Limit_Deviation_Detail!C44)","v":""},{"$f":"IF(Limit_Deviation_Detail!E44=\"\",\"\",Limit_Deviation_Detail!E44)","v":""},"",{"$f":"IF(COUNTIF(Y$2:Y22,Y22)=1,Y22,\"\")","v":""},"","","","","",null,"LA",null,{"$f":"+IF(AN22=\"\",\"\",MAX(AI$1:AI21)+1)","v":""},{"$f":"IF(Affected_Sources!B44=\"\",\"\",Affected_Sources!B44)","v":""},{"$f":"IF(Affected_Sources!C44=\"\",\"\",Affected_Sources!C44)","v":""},{"$f":"IF(Affected_Sources!D44=\"\",\"\",Affected_Sources!D44)","v":""},"",{"$f":"IF(COUNTIF(AM$2:AM22,AM22)=1,AM22,\"\")","v":""},"","","","","",null,{"$f":"+IF(AZ22=\"\",\"\",MAX(AU$1:AU21)+1)","v":""},{"$f":"IF(CMS_Deviation_Detail!B44=\"\",\"\",CMS_Deviation_Detail!B44)","v":""},{"$f":"IF(CMS_Deviation_Detail!C44=\"\",\"\",CMS_Deviation_Detail!C44)","v":""},{"$f":"IF(CMS_Deviation_Detail!D44=\"\",\"\",CMS_Deviation_Detail!D44)","v":""},"",{"$f":"IF(COUNTIF(AY$2:AY22,AY22)=1,AY22,\"\")","v":""},"","","","","",null,{"$f":"+IF(BL22=\"\",\"\",MAX(BG$1:BG21)+1)","v":""},{"$f":"IF(CMS_Identification!B44=\"\",\"\",CMS_Identification!B44)","v":""},{"$f":"IF(CMS_Identification!C44=\"\",\"\",CMS_Identification!C44)","v":""},{"$f":"IF(CMS_Identification!E44=\"\",\"\",CMS_Identification!E44)","v":""},"",{"$f":"IF(COUNTIF(BK$2:BK22,BK22)=1,BK22,\"\")","v":""},"","","",""]
[{"$f":"+IF(D23=\"\",\"\",MAX(A$1:A22)+1)","v":""},{"$f":"IF(Affected_Sources!C45=\"\",\"\",Affected_Sources!C45)","v":""},"",{"$f":"IF(COUNTIF(B$2:B23,B23)=1,B23,\"\")","v":""},null,null,null,null,null,null,{"$f":"+IF(N23=\"\",\"\",MAX(K$1:K22)+1)","v":""},{"$f":"IF(CMS_Identification!E45=\"\",\"\",CMS_Identification!E45)","v":""},"",{"$f":"IF(COUNTIF(L$2:L23,L23)=1,L23,\"\")","v":""},null,"Process Knowledge",null,null,null,null,{"$f":"+IF(Z23=\"\",\"\",MAX(U$1:U22)+1)","v":""},{"$f":"IF(Limit_Deviation_Detail!B45=\"\",\"\",Limit_Deviation_Detail!B45)","v":""},{"$f":"IF(Limit_Deviation_Detail!C45=\"\",\"\",Limit_Deviation_Detail!C45)","v":""},{"$f":"IF(Limit_Deviation_Detail!E45=\"\",\"\",Limit_Deviation_Detail!E45)","v":""},"",{"$f":"IF(COUNTIF(Y$2:Y23,Y23)=1,Y23,\"\")","v":""},"","","","","",null,"MA",null,{"$f":"+IF(AN23=\"\",\"\",MAX(AI$1:AI22)+1)","v":""},{"$f":"IF(Affected_Sources!B45=\"\",\"\",Affected_Sources!B45)","v":""},{"$f":"IF(Affected_Sources!C45=\"\",\"\",Affected_Sources!C45)","v":""},{"$f":"IF(Affected_Sources!D45=\"\",\"\",Affected_Sources!D45)","v":""},"",{"$f":"IF(COUNTIF(AM$2:AM23,AM23)=1,AM23,\"\")","v":""},"","","","","",null,{"$f":"+IF(AZ23=\"\",\"\",MAX(AU$1:AU22)+1)","v":""},{"$f":"IF(CMS_Deviation_Detail!B45=\"\",\"\",CMS_Deviation_Detail!B45)","v":""},{"$f":"IF(CMS_Deviation_Detail!C45=\"\",\"\",CMS_Deviation_Detail!C45)","v":""},{"$f":"IF(CMS_Deviation_Detail!D45=\"\",\"\",CMS_Deviation_Detail!D45)","v":""},"",{"$f":"IF(COUNTIF(AY$2:AY23,AY23)=1,AY23,\"\")","v":""},"","","","","",null,{"$f":"+IF(BL23=\"\",\"\",MAX(BG$1:BG22)+1)","v":""},{"$f":"IF(CMS_Identification!B45=\"\",\"\",CMS_Identification!B45)","v":""},{"$f":"IF(CMS_Identification!C45=\"\",\"\",CMS_Identification!C45)","v":""},{"$f":"IF(CMS_Identification!E45=\"\",\"\",CMS_Identification!E45)","v":""},"",{"$f":"IF(COUNTIF(BK$2:BK23,BK23)=1,BK23,\"\")","v":""},"","","",""]
[{"$f":"+IF(D24=\"\",\"\",MAX(A$1:A23)+1)","v":""},{"$f":"IF(Affected_Sources!C46=\"\",\"\",Affected_Sources!C46)","v":""},"",{"$f":"IF(COUNTIF(B$2:B24,B24)=1,B24,\"\")","v":""},null,null,null,null,null,null,{"$f":"+IF(N24=\"\",\"\",MAX(K$1:K23)+1)","v":""},{"$f":"IF(CMS_Identification!E46=\"\",\"\",CMS_Identification!E46)","v":""},"",{"$f":"IF(COUNTIF(L$2:L24,L24)=1,L24,\"\")","v":""},null,"Emission Factor (AP-42 or similar)",null,null,null,null,{"$f":"+IF(Z24=\"\",\"\",MAX(U$1:U23)+1)","v":""},{"$f":"IF(Limit_Deviation_Detail!B46=\"\",\"\",Limit_Deviation_Detail!B46)","v":""},{"$f":"IF(Limit_Deviation_Detail!C46=\"\",\"\",Limit_Deviation_Detail!C46)","v":""},{"$f":"IF(Limit_Deviation_Detail!E46=\"\",\"\",Limit_Deviation_Detail!E46)","v":""},"",{"$f":"IF(COUNTIF(Y$2:Y24,Y24)=1,Y24,\"\")","v":""},"","","","","",null,"MD",null,{"$f":"+IF(AN24=\"\",\"\",MAX(AI$1:AI23)+1)","v":""},{"$f":"IF(Affected_Sources!B46=\"\",\"\",Affected_Sources!B46)","v":""},{"$f":"IF(Affected_Sources!C46=\"\",\"\",Affected_Sources!C46)","v":""},{"$f":"IF(Affected_Sources!D46=\"\",\"\",Affected_Sources!D46)","v":""},"",{"$f":"IF(COUNTIF(AM$2:AM24,AM24)=1,AM24,\"\")","v":""},"","","","","",null,{"$f":"+IF(AZ24=\"\",\"\",MAX(AU$1:AU23)+1)","v":""},{"$f":"IF(CMS_Deviation_Detail!B46=\"\",\"\",CMS_Deviation_Detail!B46)","v":""},{"$f":"IF(CMS_Deviation_Detail!C46=\"\",\"\",CMS_Deviation_Detail!C46)","v":""},{"$f":"IF(CMS_Deviation_Detail!D46=\"\",\"\",CMS_Deviation_Detail!D46)","v":""},"",{"$f":"IF(COUNTIF(AY$2:AY24,AY24)=1,AY24,\"\")","v":""},"","","","","",null,{"$f":"+IF(BL24=\"\",\"\",MAX(BG$1:BG23)+1)","v":""},{"$f":"IF(CMS_Identification!B46=\"\",\"\",CMS_Identification!B46)","v":""},{"$f":"IF(CMS_Identification!C46=\"\",\"\",CMS_Identification!C46)","v":""},{"$f":"IF(CMS_Identification!E46=\"\",\"\",CMS_Identification!E46)","v":""},"",{"$f":"IF(COUNTIF(BK$2:BK24,BK24)=1,BK24,\"\")","v":""},"","","",""]
[{"$f":"+IF(D25=\"\",\"\",MAX(A$1:A24)+1)","v":""},{"$f":"IF(Affected_Sources!C47=\"\",\"\",Affected_Sources!C47)","v":""},"",{"$f":"IF(COUNTIF(B$2:B25,B25)=1,B25,\"\")","v":""},null,null,null,null,null,null,{"$f":"+IF(N25=\"\",\"\",MAX(K$1:K24)+1)","v":""},{"$f":"IF(CMS_Identification!E47=\"\",\"\",CMS_Identification!E47)","v":""},"",{"$f":"IF(COUNTIF(L$2:L25,L25)=1,L25,\"\")","v":""},null,"Combination of Engineering Calculation, Process Knowledge, and/or Emission Factor",null,null,null,null,{"$f":"+IF(Z25=\"\",\"\",MAX(U$1:U24)+1)","v":""},{"$f":"IF(Limit_Deviation_Detail!B47=\"\",\"\",Limit_Deviation_Detail!B47)","v":""},{"$f":"IF(Limit_Deviation_Detail!C47=\"\",\"\",Limit_Deviation_Detail!C47)","v":""},{"$f":"IF(Limit_Deviation_Detail!E47=\"\",\"\",Limit_Deviation_Detail!E47)","v":""},"",{"$f":"IF(COUNTIF(Y$2:Y25,Y25)=1,Y25,\"\")","v":""},"","","","","",null,"ME",null,{"$f":"+IF(AN25=\"\",\"\",MAX(AI$1:AI24)+1)","v":""},{"$f":"IF(Affected_Sources!B47=\"\",\"\",Affected_Sources!B47)","v":""},{"$f":"IF(Affected_Sources!C47=\"\",\"\",Affected_Sources!C47)","v":""},{"$f":"IF(Affected_Sources!D47=\"\",\"\",Affected_Sources!D47)","v":""},"",{"$f":"IF(COUNTIF(AM$2:AM25,AM25)=1,AM25,\"\")","v":""},"","","","","",null,{"$f":"+IF(AZ25=\"\",\"\",MAX(AU$1:AU24)+1)","v":""},{"$f":"IF(CMS_Deviation_Detail!B47=\"\",\"\",CMS_Deviation_Detail!B47)","v":""},{"$f":"IF(CMS_Deviation_Detail!C47=\"\",\"\",CMS_Deviation_Detail!C47)","v":""},{"$f":"IF(CMS_Deviation_Detail!D47=\"\",\"\",CMS_Deviation_Detail!D47)","v":""},"",{"$f":"IF(COUNTIF(AY$2:AY25,AY25)=1,AY25,\"\")","v":""},"","","","","",null,{"$f":"+IF(BL25=\"\",\"\",MAX(BG$1:BG24)+1)","v":""},{"$f":"IF(CMS_Identification!B47=\"\",\"\",CMS_Identification!B47)","v":""},{"$f":"IF(CMS_Identification!C47=\"\",\"\",CMS_Identification!C47)","v":""},{"$f":"IF(CMS_Identification!E47=\"\",\"\",CMS_Identification!E47)","v":""},"",{"$f":"IF(COUNTIF(BK$2:BK25,BK25)=1,BK25,\"\")","v":""},"","","",""]
[{"$f":"+IF(D26=\"\",\"\",MAX(A$1:A25)+1)","v":""},{"$f":"IF(Affected_Sources!C48=\"\",\"\",Affected_Sources!C48)","v":""},"",{"$f":"IF(COUNTIF(B$2:B26,B26)=1,B26,\"\")","v":""},null,null,null,null,null,null,{"$f":"+IF(N26=\"\",\"\",MAX(K$1:K25)+1)","v":""},{"$f":"IF(CMS_Identification!E48=\"\",\"\",CMS_Identification!E48)","v":""},"",{"$f":"IF(COUNTIF(L$2:L26,L26)=1,L26,\"\")","v":""},null,"Other (Specify by typing here in formula bar above)",null,null,null,null,{"$f":"+IF(Z26=\"\",\"\",MAX(U$1:U25)+1)","v":""},{"$f":"IF(Limit_Deviation_Detail!B48=\"\",\"\",Limit_Deviation_Detail!B48)","v":""},{"$f":"IF(Limit_Deviation_Detail!C48=\"\",\"\",Limit_Deviation_Detail!C48)","v":""},{"$f":"IF(Limit_Deviation_Detail!E48=\"\",\"\",Limit_Deviation_Detail!E48)","v":""},"",{"$f":"IF(COUNTIF(Y$2:Y26,Y26)=1,Y26,\"\")","v":""},"","","","","",null,"MI",null,{"$f":"+IF(AN26=\"\",\"\",MAX(AI$1:AI25)+1)","v":""},{"$f":"IF(Affected_Sources!B48=\"\",\"\",Affected_Sources!B48)","v":""},{"$f":"IF(Affected_Sources!C48=\"\",\"\",Affected_Sources!C48)","v":""},{"$f":"IF(Affected_Sources!D48=\"\",\"\",Affected_Sources!D48)","v":""},"",{"$f":"IF(COUNTIF(AM$2:AM26,AM26)=1,AM26,\"\")","v":""},"","","","","",null,{"$f":"+IF(AZ26=\"\",\"\",MAX(AU$1:AU25)+1)","v":""},{"$f":"IF(CMS_Deviation_Detail!B48=\"\",\"\",CMS_Deviation_Detail!B48)","v":""},{"$f":"IF(CMS_Deviation_Detail!C48=\"\",\"\",CMS_Deviation_Detail!C48)","v":""},{"$f":"IF(CMS_Deviation_Detail!D48=\"\",\"\",CMS_Deviation_Detail!D48)","v":""},"",{"$f":"IF(COUNTIF(AY$2:AY26,AY26)=1,AY26,\"\")","v":""},"","","","","",null,{"$f":"+IF(BL26=\"\",\"\",MAX(BG$1:BG25)+1)","v":""},{"$f":"IF(CMS_Identification!B48=\"\",\"\",CMS_Identification!B48)","v":""},{"$f":"IF(CMS_Identification!C48=\"\",\"\",CMS_Identification!C48)","v":""},{"$f":"IF(CMS_Identification!E48=\"\",\"\",CMS_Identification!E48)","v":""},"",{"$f":"IF(COUNTIF(BK$2:BK26,BK26)=1,BK26,\"\")","v":""},"","","",""]
[{"$f":"+IF(D27=\"\",\"\",MAX(A$1:A26)+1)","v":""},{"$f":"IF(Affected_Sources!C49=\"\",\"\",Affected_Sources!C49)","v":""},"",{"$f":"IF(COUNTIF(B$2:B27,B27)=1,B27,\"\")","v":""},null,null,null,null,null,null,{"$f":"+IF(N27=\"\",\"\",MAX(K$1:K26)+1)","v":""},{"$f":"IF(CMS_Identification!E49=\"\",\"\",CMS_Identification!E49)","v":""},"",{"$f":"IF(COUNTIF(L$2:L27,L27)=1,L27,\"\")","v":""},null,null,null,"Particulate Matter",null,null,{"$f":"+IF(Z27=\"\",\"\",MAX(U$1:U26)+1)","v":""},{"$f":"IF(Limit_Deviation_Detail!B49=\"\",\"\",Limit_Deviation_Detail!B49)","v":""},{"$f":"IF(Limit_Deviation_Detail!C49=\"\",\"\",Limit_Deviation_Detail!C49)","v":""},{"$f":"IF(Limit_Deviation_Detail!E49=\"\",\"\",Limit_Deviation_Detail!E49)","v":""},"",{"$f":"IF(COUNTIF(Y$2:Y27,Y27)=1,Y27,\"\")","v":""},"","","","","",null,"MN",null,{"$f":"+IF(AN27=\"\",\"\",MAX(AI$1:AI26)+1)","v":""},{"$f":"IF(Affected_Sources!B49=\"\",\"\",Affected_Sources!B49)","v":""},{"$f":"IF(Affected_Sources!C49=\"\",\"\",Affected_Sources!C49)","v":""},{"$f":"IF(Affected_Sources!D49=\"\",\"\",Affected_Sources!D49)","v":""},"",{"$f":"IF(COUNTIF(AM$2:AM27,AM27)=1,AM27,\"\")","v":""},"","","","","",null,{"$f":"+IF(AZ27=\"\",\"\",MAX(AU$1:AU26)+1)","v":""},{"$f":"IF(CMS_Deviation_Detail!B49=\"\",\"\",CMS_Deviation_Detail!B49)","v":""},{"$f":"IF(CMS_Deviation_Detail!C49=\"\",\"\",CMS_Deviation_Detail!C49)","v":""},{"$f":"IF(CMS_Deviation_Detail!D49=\"\",\"\",CMS_Deviation_Detail!D49)","v":""},"",{"$f":"IF(COUNTIF(AY$2:AY27,AY27)=1,AY27,\"\")","v":""},"","","","","",null,{"$f":"+IF(BL27=\"\",\"\",MAX(BG$1:BG26)+1)","v":""},{"$f":"IF(CMS_Identification!B49=\"\",\"\",CMS_Identification!B49)","v":""},{"$f":"IF(CMS_Identification!C49=\"\",\"\",CMS_Identification!C49)","v":""},{"$f":"IF(CMS_Identification!E49=\"\",\"\",CMS_Identification!E49)","v":""},"",{"$f":"IF(COUNTIF(BK$2:BK27,BK27)=1,BK27,\"\")","v":""},"","","",""]
[{"$f":"+IF(D28=\"\",\"\",MAX(A$1:A27)+1)","v":""},{"$f":"IF(Affected_Sources!C50=\"\",\"\",Affected_Sources!C50)","v":""},"",{"$f":"IF(COUNTIF(B$2:B28,B28)=1,B28,\"\")","v":""},null,null,null,null,null,null,{"$f":"+IF(N28=\"\",\"\",MAX(K$1:K27)+1)","v":""},{"$f":"IF(CMS_Identification!E50=\"\",\"\",CMS_Identification!E50)","v":""},"",{"$f":"IF(COUNTIF(L$2:L28,L28)=1,L28,\"\")","v":""},null,null,null,"Total Metal HAP",null,null,{"$f":"+IF(Z28=\"\",\"\",MAX(U$1:U27)+1)","v":""},{"$f":"IF(Limit_Deviation_Detail!B50=\"\",\"\",Limit_Deviation_Detail!B50)","v":""},{"$f":"IF(Limit_Deviation_Detail!C50=\"\",\"\",Limit_Deviation_Detail!C50)","v":""},{"$f":"IF(Limit_Deviation_Detail!E50=\"\",\"\",Limit_Deviation_Detail!E50)","v":""},"",{"$f":"IF(COUNTIF(Y$2:Y28,Y28)=1,Y28,\"\")","v":""},"","","","","",null,"MO",null,{"$f":"+IF(AN28=\"\",\"\",MAX(AI$1:AI27)+1)","v":""},{"$f":"IF(Affected_Sources!B50=\"\",\"\",Affected_Sources!B50)","v":""},{"$f":"IF(Affected_Sources!C50=\"\",\"\",Affected_Sources!C50)","v":""},{"$f":"IF(Affected_Sources!D50=\"\",\"\",Affected_Sources!D50)","v":""},"",{"$f":"IF(COUNTIF(AM$2:AM28,AM28)=1,AM28,\"\")","v":""},"","","","","",null,{"$f":"+IF(AZ28=\"\",\"\",MAX(AU$1:AU27)+1)","v":""},{"$f":"IF(CMS_Deviation_Detail!B50=\"\",\"\",CMS_Deviation_Detail!B50)","v":""},{"$f":"IF(CMS_Deviation_Detail!C50=\"\",\"\",CMS_Deviation_Detail!C50)","v":""},{"$f":"IF(CMS_Deviation_Detail!D50=\"\",\"\",CMS_Deviation_Detail!D50)","v":""},"",{"$f":"IF(COUNTIF(AY$2:AY28,AY28)=1,AY28,\"\")","v":""},"","","","","",null,{"$f":"+IF(BL28=\"\",\"\",MAX(BG$1:BG27)+1)","v":""},{"$f":"IF(CMS_Identification!B50=\"\",\"\",CMS_Identification!B50)","v":""},{"$f":"IF(CMS_Identification!C50=\"\",\"\",CMS_Identification!C50)","v":""},{"$f":"IF(CMS_Identification!E50=\"\",\"\",CMS_Identification!E50)","v":""},"",{"$f":"IF(COUNTIF(BK$2:BK28,BK28)=1,BK28,\"\")","v":""},"","","",""]
[{"$f":"+IF(D29=\"\",\"\",MAX(A$1:A28)+1)","v":""},{"$f":"IF(Affected_Sources!C51=\"\",\"\",Affected_Sources!C51)","v":""},"",{"$f":"IF(COUNTIF(B$2:B29,B29)=1,B29,\"\")","v":""},null,null,null,null,null,null,{"$f":"+IF(N29=\"\",\"\",MAX(K$1:K28)+1)","v":""},{"$f":"IF(CMS_Identification!E51=\"\",\"\",CMS_Identification!E51)","v":""},"",{"$f":"IF(COUNTIF(L$2:L29,L29)=1,L29,\"\")","v":""},null,"Grams",null,"Methanol",null,null,{"$f":"+IF(Z29=\"\",\"\",MAX(U$1:U28)+1)","v":""},{"$f":"IF(Limit_Deviation_Detail!B51=\"\",\"\",Limit_Deviation_Detail!B51)","v":""},{"$f":"IF(Limit_Deviation_Detail!C51=\"\",\"\",Limit_Deviation_Detail!C51)","v":""},{"$f":"IF(Limit_Deviation_Detail!E51=\"\",\"\",Limit_Deviation_Detail!E51)","v":""},"",{"$f":"IF(COUNTIF(Y$2:Y29,Y29)=1,Y29,\"\")","v":""},"","","","","",null,"MP",null,{"$f":"+IF(AN29=\"\",\"\",MAX(AI$1:AI28)+1)","v":""},{"$f":"IF(Affected_Sources!B51=\"\",\"\",Affected_Sources!B51)","v":""},{"$f":"IF(Affected_Sources!C51=\"\",\"\",Affected_Sources!C51)","v":""},{"$f":"IF(Affected_Sources!D51=\"\",\"\",Affected_Sources!D51)","v":""},"",{"$f":"IF(COUNTIF(AM$2:AM29,AM29)=1,AM29,\"\")","v":""},"","","","","",null,{"$f":"+IF(AZ29=\"\",\"\",MAX(AU$1:AU28)+1)","v":""},{"$f":"IF(CMS_Deviation_Detail!B51=\"\",\"\",CMS_Deviation_Detail!B51)","v":""},{"$f":"IF(CMS_Deviation_Detail!C51=\"\",\"\",CMS_Deviation_Detail!C51)","v":""},{"$f":"IF(CMS_Deviation_Detail!D51=\"\",\"\",CMS_Deviation_Detail!D51)","v":""},"",{"$f":"IF(COUNTIF(AY$2:AY29,AY29)=1,AY29,\"\")","v":""},"","","","","",null,{"$f":"+IF(BL29=\"\",\"\",MAX(BG$1:BG28)+1)","v":""},{"$f":"IF(CMS_Identification!B51=\"\",\"\",CMS_Identification!B51)","v":""},{"$f":"IF(CMS_Identification!C51=\"\",\"\",CMS_Identification!C51)","v":""},{"$f":"IF(CMS_Identification!E51=\"\",\"\",CMS_Identification!E51)","v":""},"",{"$f":"IF(COUNTIF(BK$2:BK29,BK29)=1,BK29,\"\")","v":""},"","","",""]
[{"$f":"+IF(D30=\"\",\"\",MAX(A$1:A29)+1)","v":""},{"$f":"IF(Affected_Sources!C52=\"\",\"\",Affected_Sources!C52)","v":""},"",{"$f":"IF(COUNTIF(B$2:B30,B30)=1,B30,\"\")","v":""},null,null,null,null,null,null,{"$f":"+IF(N30=\"\",\"\",MAX(K$1:K29)+1)","v":""},{"$f":"IF(CMS_Identification!E52=\"\",\"\",CMS_Identification!E52)","v":""},"",{"$f":"IF(COUNTIF(L$2:L30,L30)=1,L30,\"\")","v":""},null,"Kilograms",null,"Mercury",null,null,{"$f":"+IF(Z30=\"\",\"\",MAX(U$1:U29)+1)","v":""},{"$f":"IF(Limit_Deviation_Detail!B52=\"\",\"\",Limit_Deviation_Detail!B52)","v":""},{"$f":"IF(Limit_Deviation_Detail!C52=\"\",\"\",Limit_Deviation_Detail!C52)","v":""},{"$f":"IF(Limit_Deviation_Detail!E52=\"\",\"\",Limit_Deviation_Detail!E52)","v":""},"",{"$f":"IF(COUNTIF(Y$2:Y30,Y30)=1,Y30,\"\")","v":""},"","","","","",null,"MS",null,{"$f":"+IF(AN30=\"\",\"\",MAX(AI$1:AI29)+1)","v":""},{"$f":"IF(Affected_Sources!B52=\"\",\"\",Affected_Sources!B52)","v":""},{"$f":"IF(Affected_Sources!C52=\"\",\"\",Affected_Sources!C52)","v":""},{"$f":"IF(Affected_Sources!D52=\"\",\"\",Affected_Sources!D52)","v":""},"",{"$f":"IF(COUNTIF(AM$2:AM30,AM30)=1,AM30,\"\")","v":""},"","","","","",null,{"$f":"+IF(AZ30=\"\",\"\",MAX(AU$1:AU29)+1)","v":""},{"$f":"IF(CMS_Deviation_Detail!B52=\"\",\"\",CMS_Deviation_Detail!B52)","v":""},{"$f":"IF(CMS_Deviation_Detail!C52=\"\",\"\",CMS_Deviation_Detail!C52)","v":""},{"$f":"IF(CMS_Deviation_Detail!D52=\"\",\"\",CMS_Deviation_Detail!D52)","v":""},"",{"$f":"IF(COUNTIF(AY$2:AY30,AY30)=1,AY30,\"\")","v":""},"","","","","",null,{"$f":"+IF(BL30=\"\",\"\",MAX(BG$1:BG29)+1)","v":""},{"$f":"IF(CMS_Identification!B52=\"\",\"\",CMS_Identification!B52)","v":""},{"$f":"IF(CMS_Identification!C52=\"\",\"\",CMS_Identification!C52)","v":""},{"$f":"IF(CMS_Identification!E52=\"\",\"\",CMS_Identification!E52)","v":""},"",{"$f":"IF(COUNTIF(BK$2:BK30,BK30)=1,BK30,\"\")","v":""},"","","",""]
[{"$f":"+IF(D31=\"\",\"\",MAX(A$1:A30)+1)","v":""},{"$f":"IF(Affected_Sources!C53=\"\",\"\",Affected_Sources!C53)","v":""},"",{"$f":"IF(COUNTIF(B$2:B31,B31)=1,B31,\"\")","v":""},null,null,null,null,null,null,{"$f":"+IF(N31=\"\",\"\",MAX(K$1:K30)+1)","v":""},{"$f":"IF(CMS_Identification!E53=\"\",\"\",CMS_Identification!E53)","v":""},"",{"$f":"IF(COUNTIF(L$2:L31,L31)=1,L31,\"\")","v":""},null,"Pounds",null,"Lead",null,null,{"$f":"+IF(Z31=\"\",\"\",MAX(U$1:U30)+1)","v":""},{"$f":"IF(Limit_Deviation_Detail!B53=\"\",\"\",Limit_Deviation_Detail!B53)","v":""},{"$f":"IF(Limit_Deviation_Detail!C53=\"\",\"\",Limit_Deviation_Detail!C53)","v":""},{"$f":"IF(Limit_Deviation_Detail!E53=\"\",\"\",Limit_Deviation_Detail!E53)","v":""},"",{"$f":"IF(COUNTIF(Y$2:Y31,Y31)=1,Y31,\"\")","v":""},"","","","","",null,"MT",null,{"$f":"+IF(AN31=\"\",\"\",MAX(AI$1:AI30)+1)","v":""},{"$f":"IF(Affected_Sources!B53=\"\",\"\",Affected_Sources!B53)","v":""},{"$f":"IF(Affected_Sources!C53=\"\",\"\",Affected_Sources!C53)","v":""},{"$f":"IF(Affected_Sources!D53=\"\",\"\",Affected_Sources!D53)","v":""},"",{"$f":"IF(COUNTIF(AM$2:AM31,AM31)=1,AM31,\"\")","v":""},"","","","","",null,{"$f":"+IF(AZ31=\"\",\"\",MAX(AU$1:AU30)+1)","v":""},{"$f":"IF(CMS_Deviation_Detail!B53=\"\",\"\",CMS_Deviation_Detail!B53)","v":""},{"$f":"IF(CMS_Deviation_Detail!C53=\"\",\"\",CMS_Deviation_Detail!C53)","v":""},{"$f":"IF(CMS_Deviation_Detail!D53=\"\",\"\",CMS_Deviation_Detail!D53)","v":""},"",{"$f":"IF(COUNTIF(AY$2:AY31,AY31)=1,AY31,\"\")","v":""},"","","","","",null,{"$f":"+IF(BL31=\"\",\"\",MAX(BG$1:BG30)+1)","v":""},{"$f":"IF(CMS_Identification!B53=\"\",\"\",CMS_Identification!B53)","v":""},{"$f":"IF(CMS_Identification!C53=\"\",\"\",CMS_Identification!C53)","v":""},{"$f":"IF(CMS_Identification!E53=\"\",\"\",CMS_Identification!E53)","v":""},"",{"$f":"IF(COUNTIF(BK$2:BK31,BK31)=1,BK31,\"\")","v":""},"","","",""]
[{"$f":"+IF(D32=\"\",\"\",MAX(A$1:A31)+1)","v":""},{"$f":"IF(Affected_Sources!C54=\"\",\"\",Affected_Sources!C54)","v":""},"",{"$f":"IF(COUNTIF(B$2:B32,B32)=1,B32,\"\")","v":""},null,null,null,null,null,null,{"$f":"+IF(N32=\"\",\"\",MAX(K$1:K31)+1)","v":""},{"$f":"IF(CMS_Identification!E54=\"\",\"\",CMS_Identification!E54)","v":""},"",{"$f":"IF(COUNTIF(L$2:L32,L32)=1,L32,\"\")","v":""},null,"Tons",null,"Opacity",null,null,{"$f":"+IF(Z32=\"\",\"\",MAX(U$1:U31)+1)","v":""},{"$f":"IF(Limit_Deviation_Detail!B54=\"\",\"\",Limit_Deviation_Detail!B54)","v":""},{"$f":"IF(Limit_Deviation_Detail!C54=\"\",\"\",Limit_Deviation_Detail!C54)","v":""},{"$f":"IF(Limit_Deviation_Detail!E54=\"\",\"\",Limit_Deviation_Detail!E54)","v":""},"",{"$f":"IF(COUNTIF(Y$2:Y32,Y32)=1,Y32,\"\")","v":""},"","","","","",null,"NC",null,{"$f":"+IF(AN32=\"\",\"\",MAX(AI$1:AI31)+1)","v":""},{"$f":"IF(Affected_Sources!B54=\"\",\"\",Affected_Sources!B54)","v":""},{"$f":"IF(Affected_Sources!C54=\"\",\"\",Affected_Sources!C54)","v":""},{"$f":"IF(Affected_Sources!D54=\"\",\"\",Affected_Sources!D54)","v":""},"",{"$f":"IF(COUNTIF(AM$2:AM32,AM32)=1,AM32,\"\")","v":""},"","","","","",null,{"$f":"+IF(AZ32=\"\",\"\",MAX(AU$1:AU31)+1)","v":""},{"$f":"IF(CMS_Deviation_Detail!B54=\"\",\"\",CMS_Deviation_Detail!B54)","v":""},{"$f":"IF(CMS_Deviation_Detail!C54=\"\",\"\",CMS_Deviation_Detail!C54)","v":""},{"$f":"IF(CMS_Deviation_Detail!D54=\"\",\"\",CMS_Deviation_Detail!D54)","v":""},"",{"$f":"IF(COUNTIF(AY$2:AY32,AY32)=1,AY32,\"\")","v":""},"","","","","",null,{"$f":"+IF(BL32=\"\",\"\",MAX(BG$1:BG31)+1)","v":""},{"$f":"IF(CMS_Identification!B54=\"\",\"\",CMS_Identification!B54)","v":""},{"$f":"IF(CMS_Identification!C54=\"\",\"\",CMS_Identification!C54)","v":""},{"$f":"IF(CMS_Identification!E54=\"\",\"\",CMS_Identification!E54)","v":""},"",{"$f":"IF(COUNTIF(BK$2:BK32,BK32)=1,BK32,\"\")","v":""},"","","",""]
[{"$f":"+IF(D33=\"\",\"\",MAX(A$1:A32)+1)","v":""},{"$f":"IF(Affected_Sources!C55=\"\",\"\",Affected_Sources!C55)","v":""},"",{"$f":"IF(COUNTIF(B$2:B33,B33)=1,B33,\"\")","v":""},null,null,null,null,null,null,{"$f":"+IF(N33=\"\",\"\",MAX(K$1:K32)+1)","v":""},{"$f":"IF(CMS_Identification!E55=\"\",\"\",CMS_Identification!E55)","v":""},"",{"$f":"IF(COUNTIF(L$2:L33,L33)=1,L33,\"\")","v":""},null,null,null,null,null,null,{"$f":"+IF(Z33=\"\",\"\",MAX(U$1:U32)+1)","v":""},{"$f":"IF(Limit_Deviation_Detail!B55=\"\",\"\",Limit_Deviation_Detail!B55)","v":""},{"$f":"IF(Limit_Deviation_Detail!C55=\"\",\"\",Limit_Deviation_Detail!C55)","v":""},{"$f":"IF(Limit_Deviation_Detail!E55=\"\",\"\",Limit_Deviation_Detail!E55)","v":""},"",{"$f":"IF(COUNTIF(Y$2:Y33,Y33)=1,Y33,\"\")","v":""},"","","","","",null,"ND",null,{"$f":"+IF(AN33=\"\",\"\",MAX(AI$1:AI32)+1)","v":""},{"$f":"IF(Affected_Sources!B55=\"\",\"\",Affected_Sources!B55)","v":""},{"$f":"IF(Affected_Sources!C55=\"\",\"\",Affected_Sources!C55)","v":""},{"$f":"IF(Affected_Sources!D55=\"\",\"\",Affected_Sources!D55)","v":""},"",{"$f":"IF(COUNTIF(AM$2:AM33,AM33)=1,AM33,\"\")","v":""},"","","","","",null,{"$f":"+IF(AZ33=\"\",\"\",MAX(AU$1:AU32)+1)","v":""},{"$f":"IF(CMS_Deviation_Detail!B55=\"\",\"\",CMS_Deviation_Detail!B55)","v":""},{"$f":"IF(CMS_Deviation_Detail!C55=\"\",\"\",CMS_Deviation_Detail!C55)","v":""},{"$f":"IF(CMS_Deviation_Detail!D55=\"\",\"\",CMS_Deviation_Detail!D55)","v":""},"",{"$f":"IF(COUNTIF(AY$2:AY33,AY33)=1,AY33,\"\")","v":""},"","","","","",null,{"$f":"+IF(BL33=\"\",\"\",MAX(BG$1:BG32)+1)","v":""},{"$f":"IF(CMS_Identification!B55=\"\",\"\",CMS_Identification!B55)","v":""},{"$f":"IF(CMS_Identification!C55=\"\",\"\",CMS_Identification!C55)","v":""},{"$f":"IF(CMS_Identification!E55=\"\",\"\",CMS_Identification!E55)","v":""},"",{"$f":"IF(COUNTIF(BK$2:BK33,BK33)=1,BK33,\"\")","v":""},"","","",""]
[{"$f":"+IF(D34=\"\",\"\",MAX(A$1:A33)+1)","v":""},{"$f":"IF(Affected_Sources!C56=\"\",\"\",Affected_Sources!C56)","v":""},{"$f":"+IFERROR(INDEX(B$2:B$78,MATCH(ROW()-ROW($C$1),A$2:A$78,0)),\"\")","v":""},{"$f":"IF(COUNTIF(B$2:B34,B34)=1,B34,\"\")","v":""},null,null,null,null,null,null,{"$f":"+IF(N34=\"\",\"\",MAX(K$1:K33)+1)","v":""},{"$f":"IF(CMS_Identification!E56=\"\",\"\",CMS_Identification!E56)","v":""},{"$f":"+IFERROR(INDEX(L$2:L$501,MATCH(ROW()-ROW($M$1),K$2:K$501,0)),\"\")","v":""},{"$f":"IF(COUNTIF(L$2:L34,L34)=1,L34,\"\")","v":""},null,null,null,null,null,null,{"$f":"+IF(Z34=\"\",\"\",MAX(U$1:U33)+1)","v":""},{"$f":"IF(Limit_Deviation_Detail!B56=\"\",\"\",Limit_Deviation_Detail!B56)","v":""},{"$f":"IF(Limit_Deviation_Detail!C56=\"\",\"\",Limit_Deviation_Detail!C56)","v":""},{"$f":"IF(Limit_Deviation_Detail!E56=\"\",\"\",Limit_Deviation_Detail!E56)","v":""},"",{"$f":"IF(COUNTIF(Y$2:Y34,Y34)=1,Y34,\"\")","v":""},"","","","","",null,"NE",null,{"$f":"+IF(AN34=\"\",\"\",MAX(AI$1:AI33)+1)","v":""},{"$f":"IF(Affected_Sources!B56=\"\",\"\",Affected_Sources!B56)","v":""},{"$f":"IF(Affected_Sources!C56=\"\",\"\",Affected_Sources!C56)","v":""},{"$f":"IF(Affected_Sources!D56=\"\",\"\",Affected_Sources!D56)","v":""},"",{"$f":"IF(COUNTIF(AM$2:AM34,AM34)=1,AM34,\"\")","v":""},{"$f":"AQ34&AR34","v":""},{"$f":"IF(AQ34=\"\",\"\",AQ34&\" \"&AR34)","v":""},{"$f":"+IFERROR(INDEX(AJ$2:AJ$78,MATCH(ROW()-ROW(AN$1),AI$2:AI$78,0)),\"\")","v":""},{"$f":"+IFERROR(INDEX(AK$2:AK$78,MATCH(ROW()-ROW(AQ$1),AI$2:AI$78,0)),\"\")","v":""},{"$f":"+IFERROR(INDEX(AL$2:AL$78,MATCH(ROW()-ROW(AR$1),AI$2:AI$78,0)),\"\")","v":""},null,{"$f":"+IF(AZ34=\"\",\"\",MAX(AU$1:AU33)+1)","v":""},{"$f":"IF(CMS_Deviation_Detail!B56=\"\",\"\",CMS_Deviation_Detail!B56)","v":""},{"$f":"IF(CMS_Deviation_Detail!C56=\"\",\"\",CMS_Deviation_Detail!C56)","v":""},{"$f":"IF(CMS_Deviation_Detail!D56=\"\",\"\",CMS_Deviation_Detail!D56)","v":""},"",{"$f":"IF(COUNTIF(AY$2:AY34,AY34)=1,AY34,\"\")","v":""},"","","","","",null,{"$f":"+IF(BL34=\"\",\"\",MAX(BG$1:BG33)+1)","v":""},{"$f":"IF(CMS_Identification!B56=\"\",\"\",CMS_Identification!B56)","v":""},{"$f":"IF(CMS_Identification!C56=\"\",\"\",CMS_Identification!C56)","v":""},{"$f":"IF(CMS_Identification!E56=\"\",\"\",CMS_Identification!E56)","v":""},"",{"$f":"IF(COUNTIF(BK$2:BK34,BK34)=1,BK34,\"\")","v":""},"","","",""]
[{"$f":"+IF(D35=\"\",\"\",MAX(A$1:A34)+1)","v":""},{"$f":"IF(Affected_Sources!C57=\"\",\"\",Affected_Sources!C57)","v":""},"",{"$f":"IF(COUNTIF(B$2:B35,B35)=1,B35,\"\")","v":""},null,null,null,null,null,null,{"$f":"+IF(N35=\"\",\"\",MAX(K$1:K34)+1)","v":""},{"$f":"IF(CMS_Identification!E57=\"\",\"\",CMS_Identification!E57)","v":""},"",{"$f":"IF(COUNTIF(L$2:L35,L35)=1,L35,\"\")","v":""},null,null,null,null,null,null,{"$f":"+IF(Z35=\"\",\"\",MAX(U$1:U34)+1)","v":""},{"$f":"IF(Limit_Deviation_Detail!B57=\"\",\"\",Limit_Deviation_Detail!B57)","v":""},{"$f":"IF(Limit_Deviation_Detail!C57=\"\",\"\",Limit_Deviation_Detail!C57)","v":""},{"$f":"IF(Limit_Deviation_Detail!E57=\"\",\"\",Limit_Deviation_Detail!E57)","v":""},"",{"$f":"IF(COUNTIF(Y$2:Y35,Y35)=1,Y35,\"\")","v":""},"","","","","",null,"NH",null,{"$f":"+IF(AN35=\"\",\"\",MAX(AI$1:AI34)+1)","v":""},{"$f":"IF(Affected_Sources!B57=\"\",\"\",Affected_Sources!B57)","v":""},{"$f":"IF(Affected_Sources!C57=\"\",\"\",Affected_Sources!C57)","v":""},{"$f":"IF(Affected_Sources!D57=\"\",\"\",Affected_Sources!D57)","v":""},"",{"$f":"IF(COUNTIF(AM$2:AM35,AM35)=1,AM35,\"\")","v":""},"","","","","",null,{"$f":"+IF(AZ35=\"\",\"\",MAX(AU$1:AU34)+1)","v":""},{"$f":"IF(CMS_Deviation_Detail!B57=\"\",\"\",CMS_Deviation_Detail!B57)","v":""},{"$f":"IF(CMS_Deviation_Detail!C57=\"\",\"\",CMS_Deviation_Detail!C57)","v":""},{"$f":"IF(CMS_Deviation_Detail!D57=\"\",\"\",CMS_Deviation_Detail!D57)","v":""},"",{"$f":"IF(COUNTIF(AY$2:AY35,AY35)=1,AY35,\"\")","v":""},"","","","","",null,{"$f":"+IF(BL35=\"\",\"\",MAX(BG$1:BG34)+1)","v":""},{"$f":"IF(CMS_Identification!B57=\"\",\"\",CMS_Identification!B57)","v":""},{"$f":"IF(CMS_Identification!C57=\"\",\"\",CMS_Identification!C57)","v":""},{"$f":"IF(CMS_Identification!E57=\"\",\"\",CMS_Identification!E57)","v":""},"",{"$f":"IF(COUNTIF(BK$2:BK35,BK35)=1,BK35,\"\")","v":""},"","","",""]
[{"$f":"+IF(D36=\"\",\"\",MAX(A$1:A35)+1)","v":""},{"$f":"IF(Affected_Sources!C58=\"\",\"\",Affected_Sources!C58)","v":""},"",{"$f":"IF(COUNTIF(B$2:B36,B36)=1,B36,\"\")","v":""},null,null,null,null,null,null,{"$f":"+IF(N36=\"\",\"\",MAX(K$1:K35)+1)","v":""},{"$f":"IF(CMS_Identification!E58=\"\",\"\",CMS_Identification!E58)","v":""},"",{"$f":"IF(COUNTIF(L$2:L36,L36)=1,L36,\"\")","v":""},null,null,null,null,null,null,{"$f":"+IF(Z36=\"\",\"\",MAX(U$1:U35)+1)","v":""},{"$f":"IF(Limit_Deviation_Detail!B58=\"\",\"\",Limit_Deviation_Detail!B58)","v":""},{"$f":"IF(Limit_Deviation_Detail!C58=\"\",\"\",Limit_Deviation_Detail!C58)","v":""},{"$f":"IF(Limit_Deviation_Detail!E58=\"\",\"\",Limit_Deviation_Detail!E58)","v":""},"",{"$f":"IF(COUNTIF(Y$2:Y36,Y36)=1,Y36,\"\")","v":""},"","","","","",null,"NJ",null,{"$f":"+IF(AN36=\"\",\"\",MAX(AI$1:AI35)+1)","v":""},{"$f":"IF(Affected_Sources!B58=\"\",\"\",Affected_Sources!B58)","v":""},{"$f":"IF(Affected_Sources!C58=\"\",\"\",Affected_Sources!C58)","v":""},{"$f":"IF(Affected_Sources!D58=\"\",\"\",Affected_Sources!D58)","v":""},"",{"$f":"IF(COUNTIF(AM$2:AM36,AM36)=1,AM36,\"\")","v":""},"","","","","",null,{"$f":"+IF(AZ36=\"\",\"\",MAX(AU$1:AU35)+1)","v":""},{"$f":"IF(CMS_Deviation_Detail!B58=\"\",\"\",CMS_Deviation_Detail!B58)","v":""},{"$f":"IF(CMS_Deviation_Detail!C58=\"\",\"\",CMS_Deviation_Detail!C58)","v":""},{"$f":"IF(CMS_Deviation_Detail!D58=\"\",\"\",CMS_Deviation_Detail!D58)","v":""},"",{"$f":"IF(COUNTIF(AY$2:AY36,AY36)=1,AY36,\"\")","v":""},"","","","","",null,{"$f":"+IF(BL36=\"\",\"\",MAX(BG$1:BG35)+1)","v":""},{"$f":"IF(CMS_Identification!B58=\"\",\"\",CMS_Identification!B58)","v":""},{"$f":"IF(CMS_Identification!C58=\"\",\"\",CMS_Identification!C58)","v":""},{"$f":"IF(CMS_Identification!E58=\"\",\"\",CMS_Identification!E58)","v":""},"",{"$f":"IF(COUNTIF(BK$2:BK36,BK36)=1,BK36,\"\")","v":""},"","","",""]
[{"$f":"+IF(D37=\"\",\"\",MAX(A$1:A36)+1)","v":""},{"$f":"IF(Affected_Sources!C59=\"\",\"\",Affected_Sources!C59)","v":""},"",{"$f":"IF(COUNTIF(B$2:B37,B37)=1,B37,\"\")","v":""},null,null,null,null,null,null,{"$f":"+IF(N37=\"\",\"\",MAX(K$1:K36)+1)","v":""},{"$f":"IF(CMS_Identification!E59=\"\",\"\",CMS_Identification!E59)","v":""},"",{"$f":"IF(COUNTIF(L$2:L37,L37)=1,L37,\"\")","v":""},null,null,null,null,null,null,{"$f":"+IF(Z37=\"\",\"\",MAX(U$1:U36)+1)","v":""},{"$f":"IF(Limit_Deviation_Detail!B59=\"\",\"\",Limit_Deviation_Detail!B59)","v":""},{"$f":"IF(Limit_Deviation_Detail!C59=\"\",\"\",Limit_Deviation_Detail!C59)","v":""},{"$f":"IF(Limit_Deviation_Detail!E59=\"\",\"\",Limit_Deviation_Detail!E59)","v":""},"",{"$f":"IF(COUNTIF(Y$2:Y37,Y37)=1,Y37,\"\")","v":""},"","","","","",null,"NM",null,{"$f":"+IF(AN37=\"\",\"\",MAX(AI$1:AI36)+1)","v":""},{"$f":"IF(Affected_Sources!B59=\"\",\"\",Affected_Sources!B59)","v":""},{"$f":"IF(Affected_Sources!C59=\"\",\"\",Affected_Sources!C59)","v":""},{"$f":"IF(Affected_Sources!D59=\"\",\"\",Affected_Sources!D59)","v":""},"",{"$f":"IF(COUNTIF(AM$2:AM37,AM37)=1,AM37,\"\")","v":""},"","","","","",null,{"$f":"+IF(AZ37=\"\",\"\",MAX(AU$1:AU36)+1)","v":""},{"$f":"IF(CMS_Deviation_Detail!B59=\"\",\"\",CMS_Deviation_Detail!B59)","v":""},{"$f":"IF(CMS_Deviation_Detail!C59=\"\",\"\",CMS_Deviation_Detail!C59)","v":""},{"$f":"IF(CMS_Deviation_Detail!D59=\"\",\"\",CMS_Deviation_Detail!D59)","v":""},"",{"$f":"IF(COUNTIF(AY$2:AY37,AY37)=1,AY37,\"\")","v":""},"","","","","",null,{"$f":"+IF(BL37=\"\",\"\",MAX(BG$1:BG36)+1)","v":""},{"$f":"IF(CMS_Identification!B59=\"\",\"\",CMS_Identification!B59)","v":""},{"$f":"IF(CMS_Identification!C59=\"\",\"\",CMS_Identification!C59)","v":""},{"$f":"IF(CMS_Identification!E59=\"\",\"\",CMS_Identification!E59)","v":""},"",{"$f":"IF(COUNTIF(BK$2:BK37,BK37)=1,BK37,\"\")","v":""},"","","",""]
[{"$f":"+IF(D38=\"\",\"\",MAX(A$1:A37)+1)","v":""},{"$f":"IF(Affected_Sources!C60=\"\",\"\",Affected_Sources!C60)","v":""},"",{"$f":"IF(COUNTIF(B$2:B38,B38)=1,B38,\"\")","v":""},null,null,null,null,null,null,{"$f":"+IF(N38=\"\",\"\",MAX(K$1:K37)+1)","v":""},{"$f":"IF(CMS_Identification!E60=\"\",\"\",CMS_Identification!E60)","v":""},"",{"$f":"IF(COUNTIF(L$2:L38,L38)=1,L38,\"\")","v":""},null,null,null,null,null,null,{"$f":"+IF(Z38=\"\",\"\",MAX(U$1:U37)+1)","v":""},{"$f":"IF(Limit_Deviation_Detail!B60=\"\",\"\",Limit_Deviation_Detail!B60)","v":""},{"$f":"IF(Limit_Deviation_Detail!C60=\"\",\"\",Limit_Deviation_Detail!C60)","v":""},{"$f":"IF(Limit_Deviation_Detail!E60=\"\",\"\",Limit_Deviation_Detail!E60)","v":""},"",{"$f":"IF(COUNTIF(Y$2:Y38,Y38)=1,Y38,\"\")","v":""},"","","","","",null,"NV",null,{"$f":"+IF(AN38=\"\",\"\",MAX(AI$1:AI37)+1)","v":""},{"$f":"IF(Affected_Sources!B60=\"\",\"\",Affected_Sources!B60)","v":""},{"$f":"IF(Affected_Sources!C60=\"\",\"\",Affected_Sources!C60)","v":""},{"$f":"IF(Affected_Sources!D60=\"\",\"\",Affected_Sources!D60)","v":""},"",{"$f":"IF(COUNTIF(AM$2:AM38,AM38)=1,AM38,\"\")","v":""},"","","","","",null,{"$f":"+IF(AZ38=\"\",\"\",MAX(AU$1:AU37)+1)","v":""},{"$f":"IF(CMS_Deviation_Detail!B60=\"\",\"\",CMS_Deviation_Detail!B60)","v":""},{"$f":"IF(CMS_Deviation_Detail!C60=\"\",\"\",CMS_Deviation_Detail!C60)","v":""},{"$f":"IF(CMS_Deviation_Detail!D60=\"\",\"\",CMS_Deviation_Detail!D60)","v":""},"",{"$f":"IF(COUNTIF(AY$2:AY38,AY38)=1,AY38,\"\")","v":""},"","","","","",null,{"$f":"+IF(BL38=\"\",\"\",MAX(BG$1:BG37)+1)","v":""},{"$f":"IF(CMS_Identification!B60=\"\",\"\",CMS_Identification!B60)","v":""},{"$f":"IF(CMS_Identification!C60=\"\",\"\",CMS_Identification!C60)","v":""},{"$f":"IF(CMS_Identification!E60=\"\",\"\",CMS_Identification!E60)","v":""},"",{"$f":"IF(COUNTIF(BK$2:BK38,BK38)=1,BK38,\"\")","v":""},"","","",""]
[{"$f":"+IF(D39=\"\",\"\",MAX(A$1:A38)+1)","v":""},{"$f":"IF(Affected_Sources!C61=\"\",\"\",Affected_Sources!C61)","v":""},"",{"$f":"IF(COUNTIF(B$2:B39,B39)=1,B39,\"\")","v":""},null,null,null,null,null,null,{"$f":"+IF(N39=\"\",\"\",MAX(K$1:K38)+1)","v":""},{"$f":"IF(CMS_Identification!E61=\"\",\"\",CMS_Identification!E61)","v":""},"",{"$f":"IF(COUNTIF(L$2:L39,L39)=1,L39,\"\")","v":""},null,null,null,null,null,null,{"$f":"+IF(Z39=\"\",\"\",MAX(U$1:U38)+1)","v":""},{"$f":"IF(Limit_Deviation_Detail!B61=\"\",\"\",Limit_Deviation_Detail!B61)","v":""},{"$f":"IF(Limit_Deviation_Detail!C61=\"\",\"\",Limit_Deviation_Detail!C61)","v":""},{"$f":"IF(Limit_Deviation_Detail!E61=\"\",\"\",Limit_Deviation_Detail!E61)","v":""},"",{"$f":"IF(COUNTIF(Y$2:Y39,Y39)=1,Y39,\"\")","v":""},"","","","","",null,"NY",null,{"$f":"+IF(AN39=\"\",\"\",MAX(AI$1:AI38)+1)","v":""},{"$f":"IF(Affected_Sources!B61=\"\",\"\",Affected_Sources!B61)","v":""},{"$f":"IF(Affected_Sources!C61=\"\",\"\",Affected_Sources!C61)","v":""},{"$f":"IF(Affected_Sources!D61=\"\",\"\",Affected_Sources!D61)","v":""},"",{"$f":"IF(COUNTIF(AM$2:AM39,AM39)=1,AM39,\"\")","v":""},"","","","","",null,{"$f":"+IF(AZ39=\"\",\"\",MAX(AU$1:AU38)+1)","v":""},{"$f":"IF(CMS_Deviation_Detail!B61=\"\",\"\",CMS_Deviation_Detail!B61)","v":""},{"$f":"IF(CMS_Deviation_Detail!C61=\"\",\"\",CMS_Deviation_Detail!C61)","v":""},{"$f":"IF(CMS_Deviation_Detail!D61=\"\",\"\",CMS_Deviation_Detail!D61)","v":""},"",{"$f":"IF(COUNTIF(AY$2:AY39,AY39)=1,AY39,\"\")","v":""},"","","","","",null,{"$f":"+IF(BL39=\"\",\"\",MAX(BG$1:BG38)+1)","v":""},{"$f":"IF(CMS_Identification!B61=\"\",\"\",CMS_Identification!B61)","v":""},{"$f":"IF(CMS_Identification!C61=\"\",\"\",CMS_Identification!C61)","v":""},{"$f":"IF(CMS_Identification!E61=\"\",\"\",CMS_Identification!E61)","v":""},"",{"$f":"IF(COUNTIF(BK$2:BK39,BK39)=1,BK39,\"\")","v":""},"","","",""]
[{"$f":"+IF(D40=\"\",\"\",MAX(A$1:A39)+1)","v":""},{"$f":"IF(Affected_Sources!C62=\"\",\"\",Affected_Sources!C62)","v":""},"",{"$f":"IF(COUNTIF(B$2:B40,B40)=1,B40,\"\")","v":""},null,null,null,null,null,null,{"$f":"+IF(N40=\"\",\"\",MAX(K$1:K39)+1)","v":""},{"$f":"IF(CMS_Identification!E62=\"\",\"\",CMS_Identification!E62)","v":""},"",{"$f":"IF(COUNTIF(L$2:L40,L40)=1,L40,\"\")","v":""},null,null,null,null,null,null,{"$f":"+IF(Z40=\"\",\"\",MAX(U$1:U39)+1)","v":""},{"$f":"IF(Limit_Deviation_Detail!B62=\"\",\"\",Limit_Deviation_Detail!B62)","v":""},{"$f":"IF(Limit_Deviation_Detail!C62=\"\",\"\",Limit_Deviation_Detail!C62)","v":""},{"$f":"IF(Limit_Deviation_Detail!E62=\"\",\"\",Limit_Deviation_Detail!E62)","v":""},"",{"$f":"IF(COUNTIF(Y$2:Y40,Y40)=1,Y40,\"\")","v":""},"","","","","",null,"OH",null,{"$f":"+IF(AN40=\"\",\"\",MAX(AI$1:AI39)+1)","v":""},{"$f":"IF(Affected_Sources!B62=\"\",\"\",Affected_Sources!B62)","v":""},{"$f":"IF(Affected_Sources!C62=\"\",\"\",Affected_Sources!C62)","v":""},{"$f":"IF(Affected_Sources!D62=\"\",\"\",Affected_Sources!D62)","v":""},"",{"$f":"IF(COUNTIF(AM$2:AM40,AM40)=1,AM40,\"\")","v":""},"","","","","",null,{"$f":"+IF(AZ40=\"\",\"\",MAX(AU$1:AU39)+1)","v":""},{"$f":"IF(CMS_Deviation_Detail!B62=\"\",\"\",CMS_Deviation_Detail!B62)","v":""},{"$f":"IF(CMS_Deviation_Detail!C62=\"\",\"\",CMS_Deviation_Detail!C62)","v":""},{"$f":"IF(CMS_Deviation_Detail!D62=\"\",\"\",CMS_Deviation_Detail!D62)","v":""},"",{"$f":"IF(COUNTIF(AY$2:AY40,AY40)=1,AY40,\"\")","v":""},"","","","","",null,{"$f":"+IF(BL40=\"\",\"\",MAX(BG$1:BG39)+1)","v":""},{"$f":"IF(CMS_Identification!B62=\"\",\"\",CMS_Identification!B62)","v":""},{"$f":"IF(CMS_Identification!C62=\"\",\"\",CMS_Identification!C62)","v":""},{"$f":"IF(CMS_Identification!E62=\"\",\"\",CMS_Identification!E62)","v":""},"",{"$f":"IF(COUNTIF(BK$2:BK40,BK40)=1,BK40,\"\")","v":""},"","","",""]
[{"$f":"+IF(D41=\"\",\"\",MAX(A$1:A40)+1)","v":""},{"$f":"IF(Affected_Sources!C63=\"\",\"\",Affected_Sources!C63)","v":""},"",{"$f":"IF(COUNTIF(B$2:B41,B41)=1,B41,\"\")","v":""},null,null,null,null,null,null,{"$f":"+IF(N41=\"\",\"\",MAX(K$1:K40)+1)","v":""},{"$f":"IF(CMS_Identification!E63=\"\",\"\",CMS_Identification!E63)","v":""},"",{"$f":"IF(COUNTIF(L$2:L41,L41)=1,L41,\"\")","v":""},null,null,null,null,null,null,{"$f":"+IF(Z41=\"\",\"\",MAX(U$1:U40)+1)","v":""},{"$f":"IF(Limit_Deviation_Detail!B63=\"\",\"\",Limit_Deviation_Detail!B63)","v":""},{"$f":"IF(Limit_Deviation_Detail!C63=\"\",\"\",Limit_Deviation_Detail!C63)","v":""},{"$f":"IF(Limit_Deviation_Detail!E63=\"\",\"\",Limit_Deviation_Detail!E63)","v":""},"",{"$f":"IF(COUNTIF(Y$2:Y41,Y41)=1,Y41,\"\")","v":""},"","","","","",null,"OK",null,{"$f":"+IF(AN41=\"\",\"\",MAX(AI$1:AI40)+1)","v":""},{"$f":"IF(Affected_Sources!B63=\"\",\"\",Affected_Sources!B63)","v":""},{"$f":"IF(Affected_Sources!C63=\"\",\"\",Affected_Sources!C63)","v":""},{"$f":"IF(Affected_Sources!D63=\"\",\"\",Affected_Sources!D63)","v":""},"",{"$f":"IF(COUNTIF(AM$2:AM41,AM41)=1,AM41,\"\")","v":""},"","","","","",null,{"$f":"+IF(AZ41=\"\",\"\",MAX(AU$1:AU40)+1)","v":""},{"$f":"IF(CMS_Deviation_Detail!B63=\"\",\"\",CMS_Deviation_Detail!B63)","v":""},{"$f":"IF(CMS_Deviation_Detail!C63=\"\",\"\",CMS_Deviation_Detail!C63)","v":""},{"$f":"IF(CMS_Deviation_Detail!D63=\"\",\"\",CMS_Deviation_Detail!D63)","v":""},"",{"$f":"IF(COUNTIF(AY$2:AY41,AY41)=1,AY41,\"\")","v":""},"","","","","",null,{"$f":"+IF(BL41=\"\",\"\",MAX(BG$1:BG40)+1)","v":""},{"$f":"IF(CMS_Identification!B63=\"\",\"\",CMS_Identification!B63)","v":""},{"$f":"IF(CMS_Identification!C63=\"\",\"\",CMS_Identification!C63)","v":""},{"$f":"IF(CMS_Identification!E63=\"\",\"\",CMS_Identification!E63)","v":""},"",{"$f":"IF(COUNTIF(BK$2:BK41,BK41)=1,BK41,\"\")","v":""},"","","",""]
[{"$f":"+IF(D42=\"\",\"\",MAX(A$1:A41)+1)","v":""},{"$f":"IF(Affected_Sources!C64=\"\",\"\",Affected_Sources!C64)","v":""},"",{"$f":"IF(COUNTIF(B$2:B42,B42)=1,B42,\"\")","v":""},null,null,null,null,null,null,{"$f":"+IF(N42=\"\",\"\",MAX(K$1:K41)+1)","v":""},{"$f":"IF(CMS_Identification!E64=\"\",\"\",CMS_Identification!E64)","v":""},"",{"$f":"IF(COUNTIF(L$2:L42,L42)=1,L42,\"\")","v":""},null,null,null,null,null,null,{"$f":"+IF(Z42=\"\",\"\",MAX(U$1:U41)+1)","v":""},{"$f":"IF(Limit_Deviation_Detail!B64=\"\",\"\",Limit_Deviation_Detail!B64)","v":""},{"$f":"IF(Limit_Deviation_Detail!C64=\"\",\"\",Limit_Deviation_Detail!C64)","v":""},{"$f":"IF(Limit_Deviation_Detail!E64=\"\",\"\",Limit_Deviation_Detail!E64)","v":""},"",{"$f":"IF(COUNTIF(Y$2:Y42,Y42)=1,Y42,\"\")","v":""},"","","","","",null,"OR",null,{"$f":"+IF(AN42=\"\",\"\",MAX(AI$1:AI41)+1)","v":""},{"$f":"IF(Affected_Sources!B64=\"\",\"\",Affected_Sources!B64)","v":""},{"$f":"IF(Affected_Sources!C64=\"\",\"\",Affected_Sources!C64)","v":""},{"$f":"IF(Affected_Sources!D64=\"\",\"\",Affected_Sources!D64)","v":""},"",{"$f":"IF(COUNTIF(AM$2:AM42,AM42)=1,AM42,\"\")","v":""},"","","","","",null,{"$f":"+IF(AZ42=\"\",\"\",MAX(AU$1:AU41)+1)","v":""},{"$f":"IF(CMS_Deviation_Detail!B64=\"\",\"\",CMS_Deviation_Detail!B64)","v":""},{"$f":"IF(CMS_Deviation_Detail!C64=\"\",\"\",CMS_Deviation_Detail!C64)","v":""},{"$f":"IF(CMS_Deviation_Detail!D64=\"\",\"\",CMS_Deviation_Detail!D64)","v":""},"",{"$f":"IF(COUNTIF(AY$2:AY42,AY42)=1,AY42,\"\")","v":""},"","","","","",null,{"$f":"+IF(BL42=\"\",\"\",MAX(BG$1:BG41)+1)","v":""},{"$f":"IF(CMS_Identification!B64=\"\",\"\",CMS_Identification!B64)","v":""},{"$f":"IF(CMS_Identification!C64=\"\",\"\",CMS_Identification!C64)","v":""},{"$f":"IF(CMS_Identification!E64=\"\",\"\",CMS_Identification!E64)","v":""},"",{"$f":"IF(COUNTIF(BK$2:BK42,BK42)=1,BK42,\"\")","v":""},"","","",""]
[{"$f":"+IF(D43=\"\",\"\",MAX(A$1:A42)+1)","v":""},{"$f":"IF(Affected_Sources!C65=\"\",\"\",Affected_Sources!C65)","v":""},"",{"$f":"IF(COUNTIF(B$2:B43,B43)=1,B43,\"\")","v":""},null,null,null,null,null,null,{"$f":"+IF(N43=\"\",\"\",MAX(K$1:K42)+1)","v":""},{"$f":"IF(CMS_Identification!E65=\"\",\"\",CMS_Identification!E65)","v":""},"",{"$f":"IF(COUNTIF(L$2:L43,L43)=1,L43,\"\")","v":""},null,null,null,null,null,null,{"$f":"+IF(Z43=\"\",\"\",MAX(U$1:U42)+1)","v":""},{"$f":"IF(Limit_Deviation_Detail!B65=\"\",\"\",Limit_Deviation_Detail!B65)","v":""},{"$f":"IF(Limit_Deviation_Detail!C65=\"\",\"\",Limit_Deviation_Detail!C65)","v":""},{"$f":"IF(Limit_Deviation_Detail!E65=\"\",\"\",Limit_Deviation_Detail!E65)","v":""},"",{"$f":"IF(COUNTIF(Y$2:Y43,Y43)=1,Y43,\"\")","v":""},"","","","","",null,"PA",null,{"$f":"+IF(AN43=\"\",\"\",MAX(AI$1:AI42)+1)","v":""},{"$f":"IF(Affected_Sources!B65=\"\",\"\",Affected_Sources!B65)","v":""},{"$f":"IF(Affected_Sources!C65=\"\",\"\",Affected_Sources!C65)","v":""},{"$f":"IF(Affected_Sources!D65=\"\",\"\",Affected_Sources!D65)","v":""},"",{"$f":"IF(COUNTIF(AM$2:AM43,AM43)=1,AM43,\"\")","v":""},"","","","","",null,{"$f":"+IF(AZ43=\"\",\"\",MAX(AU$1:AU42)+1)","v":""},{"$f":"IF(CMS_Deviation_Detail!B65=\"\",\"\",CMS_Deviation_Detail!B65)","v":""},{"$f":"IF(CMS_Deviation_Detail!C65=\"\",\"\",CMS_Deviation_Detail!C65)","v":""},{"$f":"IF(CMS_Deviation_Detail!D65=\"\",\"\",CMS_Deviation_Detail!D65)","v":""},"",{"$f":"IF(COUNTIF(AY$2:AY43,AY43)=1,AY43,\"\")","v":""},"","","","","",null,{"$f":"+IF(BL43=\"\",\"\",MAX(BG$1:BG42)+1)","v":""},{"$f":"IF(CMS_Identification!B65=\"\",\"\",CMS_Identification!B65)","v":""},{"$f":"IF(CMS_Identification!C65=\"\",\"\",CMS_Identification!C65)","v":""},{"$f":"IF(CMS_Identification!E65=\"\",\"\",CMS_Identification!E65)","v":""},"",{"$f":"IF(COUNTIF(BK$2:BK43,BK43)=1,BK43,\"\")","v":""},"","","",""]
[{"$f":"+IF(D44=\"\",\"\",MAX(A$1:A43)+1)","v":""},{"$f":"IF(Affected_Sources!C66=\"\",\"\",Affected_Sources!C66)","v":""},"",{"$f":"IF(COUNTIF(B$2:B44,B44)=1,B44,\"\")","v":""},null,null,null,null,null,null,{"$f":"+IF(N44=\"\",\"\",MAX(K$1:K43)+1)","v":""},{"$f":"IF(CMS_Identification!E66=\"\",\"\",CMS_Identification!E66)","v":""},"",{"$f":"IF(COUNTIF(L$2:L44,L44)=1,L44,\"\")","v":""},null,null,null,null,null,null,{"$f":"+IF(Z44=\"\",\"\",MAX(U$1:U43)+1)","v":""},{"$f":"IF(Limit_Deviation_Detail!B66=\"\",\"\",Limit_Deviation_Detail!B66)","v":""},{"$f":"IF(Limit_Deviation_Detail!C66=\"\",\"\",Limit_Deviation_Detail!C66)","v":""},{"$f":"IF(Limit_Deviation_Detail!E66=\"\",\"\",Limit_Deviation_Detail!E66)","v":""},"",{"$f":"IF(COUNTIF(Y$2:Y44,Y44)=1,Y44,\"\")","v":""},"","","","","",null,"PR",null,{"$f":"+IF(AN44=\"\",\"\",MAX(AI$1:AI43)+1)","v":""},{"$f":"IF(Affected_Sources!B66=\"\",\"\",Affected_Sources!B66)","v":""},{"$f":"IF(Affected_Sources!C66=\"\",\"\",Affected_Sources!C66)","v":""},{"$f":"IF(Affected_Sources!D66=\"\",\"\",Affected_Sources!D66)","v":""},"",{"$f":"IF(COUNTIF(AM$2:AM44,AM44)=1,AM44,\"\")","v":""},"","","","","",null,{"$f":"+IF(AZ44=\"\",\"\",MAX(AU$1:AU43)+1)","v":""},{"$f":"IF(CMS_Deviation_Detail!B66=\"\",\"\",CMS_Deviation_Detail!B66)","v":""},{"$f":"IF(CMS_Deviation_Detail!C66=\"\",\"\",CMS_Deviation_Detail!C66)","v":""},{"$f":"IF(CMS_Deviation_Detail!D66=\"\",\"\",CMS_Deviation_Detail!D66)","v":""},"",{"$f":"IF(COUNTIF(AY$2:AY44,AY44)=1,AY44,\"\")","v":""},"","","","","",null,{"$f":"+IF(BL44=\"\",\"\",MAX(BG$1:BG43)+1)","v":""},{"$f":"IF(CMS_Identification!B66=\"\",\"\",CMS_Identification!B66)","v":""},{"$f":"IF(CMS_Identification!C66=\"\",\"\",CMS_Identification!C66)","v":""},{"$f":"IF(CMS_Identification!E66=\"\",\"\",CMS_Identification!E66)","v":""},"",{"$f":"IF(COUNTIF(BK$2:BK44,BK44)=1,BK44,\"\")","v":""},"","","",""]
[{"$f":"+IF(D45=\"\",\"\",MAX(A$1:A44)+1)","v":""},{"$f":"IF(Affected_Sources!C67=\"\",\"\",Affected_Sources!C67)","v":""},"",{"$f":"IF(COUNTIF(B$2:B45,B45)=1,B45,\"\")","v":""},null,null,null,null,null,null,{"$f":"+IF(N45=\"\",\"\",MAX(K$1:K44)+1)","v":""},{"$f":"IF(CMS_Identification!E67=\"\",\"\",CMS_Identification!E67)","v":""},"",{"$f":"IF(COUNTIF(L$2:L45,L45)=1,L45,\"\")","v":""},null,null,null,null,null,null,{"$f":"+IF(Z45=\"\",\"\",MAX(U$1:U44)+1)","v":""},{"$f":"IF(Limit_Deviation_Detail!B67=\"\",\"\",Limit_Deviation_Detail!B67)","v":""},{"$f":"IF(Limit_Deviation_Detail!C67=\"\",\"\",Limit_Deviation_Detail!C67)","v":""},{"$f":"IF(Limit_Deviation_Detail!E67=\"\",\"\",Limit_Deviation_Detail!E67)","v":""},"",{"$f":"IF(COUNTIF(Y$2:Y45,Y45)=1,Y45,\"\")","v":""},"","","","","",null,"RI",null,{"$f":"+IF(AN45=\"\",\"\",MAX(AI$1:AI44)+1)","v":""},{"$f":"IF(Affected_Sources!B67=\"\",\"\",Affected_Sources!B67)","v":""},{"$f":"IF(Affected_Sources!C67=\"\",\"\",Affected_Sources!C67)","v":""},{"$f":"IF(Affected_Sources!D67=\"\",\"\",Affected_Sources!D67)","v":""},"",{"$f":"IF(COUNTIF(AM$2:AM45,AM45)=1,AM45,\"\")","v":""},"","","","","",null,{"$f":"+IF(AZ45=\"\",\"\",MAX(AU$1:AU44)+1)","v":""},{"$f":"IF(CMS_Deviation_Detail!B67=\"\",\"\",CMS_Deviation_Detail!B67)","v":""},{"$f":"IF(CMS_Deviation_Detail!C67=\"\",\"\",CMS_Deviation_Detail!C67)","v":""},{"$f":"IF(CMS_Deviation_Detail!D67=\"\",\"\",CMS_Deviation_Detail!D67)","v":""},"",{"$f":"IF(COUNTIF(AY$2:AY45,AY45)=1,AY45,\"\")","v":""},"","","","","",null,{"$f":"+IF(BL45=\"\",\"\",MAX(BG$1:BG44)+1)","v":""},{"$f":"IF(CMS_Identification!B67=\"\",\"\",CMS_Identification!B67)","v":""},{"$f":"IF(CMS_Identification!C67=\"\",\"\",CMS_Identification!C67)","v":""},{"$f":"IF(CMS_Identification!E67=\"\",\"\",CMS_Identification!E67)","v":""},"",{"$f":"IF(COUNTIF(BK$2:BK45,BK45)=1,BK45,\"\")","v":""},"","","",""]
[{"$f":"+IF(D46=\"\",\"\",MAX(A$1:A45)+1)","v":""},{"$f":"IF(Affected_Sources!C68=\"\",\"\",Affected_Sources!C68)","v":""},"",{"$f":"IF(COUNTIF(B$2:B46,B46)=1,B46,\"\")","v":""},null,null,null,null,null,null,{"$f":"+IF(N46=\"\",\"\",MAX(K$1:K45)+1)","v":""},{"$f":"IF(CMS_Identification!E68=\"\",\"\",CMS_Identification!E68)","v":""},"",{"$f":"IF(COUNTIF(L$2:L46,L46)=1,L46,\"\")","v":""},null,null,null,null,null,null,{"$f":"+IF(Z46=\"\",\"\",MAX(U$1:U45)+1)","v":""},{"$f":"IF(Limit_Deviation_Detail!B68=\"\",\"\",Limit_Deviation_Detail!B68)","v":""},{"$f":"IF(Limit_Deviation_Detail!C68=\"\",\"\",Limit_Deviation_Detail!C68)","v":""},{"$f":"IF(Limit_Deviation_Detail!E68=\"\",\"\",Limit_Deviation_Detail!E68)","v":""},"",{"$f":"IF(COUNTIF(Y$2:Y46,Y46)=1,Y46,\"\")","v":""},"","","","","",null,"SC",null,{"$f":"+IF(AN46=\"\",\"\",MAX(AI$1:AI45)+1)","v":""},{"$f":"IF(Affected_Sources!B68=\"\",\"\",Affected_Sources!B68)","v":""},{"$f":"IF(Affected_Sources!C68=\"\",\"\",Affected_Sources!C68)","v":""},{"$f":"IF(Affected_Sources!D68=\"\",\"\",Affected_Sources!D68)","v":""},"",{"$f":"IF(COUNTIF(AM$2:AM46,AM46)=1,AM46,\"\")","v":""},"","","","","",null,{"$f":"+IF(AZ46=\"\",\"\",MAX(AU$1:AU45)+1)","v":""},{"$f":"IF(CMS_Deviation_Detail!B68=\"\",\"\",CMS_Deviation_Detail!B68)","v":""},{"$f":"IF(CMS_Deviation_Detail!C68=\"\",\"\",CMS_Deviation_Detail!C68)","v":""},{"$f":"IF(CMS_Deviation_Detail!D68=\"\",\"\",CMS_Deviation_Detail!D68)","v":""},"",{"$f":"IF(COUNTIF(AY$2:AY46,AY46)=1,AY46,\"\")","v":""},"","","","","",null,{"$f":"+IF(BL46=\"\",\"\",MAX(BG$1:BG45)+1)","v":""},{"$f":"IF(CMS_Identification!B68=\"\",\"\",CMS_Identification!B68)","v":""},{"$f":"IF(CMS_Identification!C68=\"\",\"\",CMS_Identification!C68)","v":""},{"$f":"IF(CMS_Identification!E68=\"\",\"\",CMS_Identification!E68)","v":""},"",{"$f":"IF(COUNTIF(BK$2:BK46,BK46)=1,BK46,\"\")","v":""},"","","",""]
[{"$f":"+IF(D47=\"\",\"\",MAX(A$1:A46)+1)","v":""},{"$f":"IF(Affected_Sources!C69=\"\",\"\",Affected_Sources!C69)","v":""},"",{"$f":"IF(COUNTIF(B$2:B47,B47)=1,B47,\"\")","v":""},null,null,null,null,null,null,{"$f":"+IF(N47=\"\",\"\",MAX(K$1:K46)+1)","v":""},{"$f":"IF(CMS_Identification!E69=\"\",\"\",CMS_Identification!E69)","v":""},"",{"$f":"IF(COUNTIF(L$2:L47,L47)=1,L47,\"\")","v":""},null,null,null,null,null,null,{"$f":"+IF(Z47=\"\",\"\",MAX(U$1:U46)+1)","v":""},{"$f":"IF(Limit_Deviation_Detail!B69=\"\",\"\",Limit_Deviation_Detail!B69)","v":""},{"$f":"IF(Limit_Deviation_Detail!C69=\"\",\"\",Limit_Deviation_Detail!C69)","v":""},{"$f":"IF(Limit_Deviation_Detail!E69=\"\",\"\",Limit_Deviation_Detail!E69)","v":""},"",{"$f":"IF(COUNTIF(Y$2:Y47,Y47)=1,Y47,\"\")","v":""},"","","","","",null,"SD",null,{"$f":"+IF(AN47=\"\",\"\",MAX(AI$1:AI46)+1)","v":""},{"$f":"IF(Affected_Sources!B69=\"\",\"\",Affected_Sources!B69)","v":""},{"$f":"IF(Affected_Sources!C69=\"\",\"\",Affected_Sources!C69)","v":""},{"$f":"IF(Affected_Sources!D69=\"\",\"\",Affected_Sources!D69)","v":""},"",{"$f":"IF(COUNTIF(AM$2:AM47,AM47)=1,AM47,\"\")","v":""},"","","","","",null,{"$f":"+IF(AZ47=\"\",\"\",MAX(AU$1:AU46)+1)","v":""},{"$f":"IF(CMS_Deviation_Detail!B69=\"\",\"\",CMS_Deviation_Detail!B69)","v":""},{"$f":"IF(CMS_Deviation_Detail!C69=\"\",\"\",CMS_Deviation_Detail!C69)","v":""},{"$f":"IF(CMS_Deviation_Detail!D69=\"\",\"\",CMS_Deviation_Detail!D69)","v":""},"",{"$f":"IF(COUNTIF(AY$2:AY47,AY47)=1,AY47,\"\")","v":""},"","","","","",null,{"$f":"+IF(BL47=\"\",\"\",MAX(BG$1:BG46)+1)","v":""},{"$f":"IF(CMS_Identification!B69=\"\",\"\",CMS_Identification!B69)","v":""},{"$f":"IF(CMS_Identification!C69=\"\",\"\",CMS_Identification!C69)","v":""},{"$f":"IF(CMS_Identification!E69=\"\",\"\",CMS_Identification!E69)","v":""},"",{"$f":"IF(COUNTIF(BK$2:BK47,BK47)=1,BK47,\"\")","v":""},"","","",""]
[{"$f":"+IF(D48=\"\",\"\",MAX(A$1:A47)+1)","v":""},{"$f":"IF(Affected_Sources!C70=\"\",\"\",Affected_Sources!C70)","v":""},"",{"$f":"IF(COUNTIF(B$2:B48,B48)=1,B48,\"\")","v":""},null,null,null,null,null,null,{"$f":"+IF(N48=\"\",\"\",MAX(K$1:K47)+1)","v":""},{"$f":"IF(CMS_Identification!E70=\"\",\"\",CMS_Identification!E70)","v":""},"",{"$f":"IF(COUNTIF(L$2:L48,L48)=1,L48,\"\")","v":""},null,null,null,null,null,null,{"$f":"+IF(Z48=\"\",\"\",MAX(U$1:U47)+1)","v":""},{"$f":"IF(Limit_Deviation_Detail!B70=\"\",\"\",Limit_Deviation_Detail!B70)","v":""},{"$f":"IF(Limit_Deviation_Detail!C70=\"\",\"\",Limit_Deviation_Detail!C70)","v":""},{"$f":"IF(Limit_Deviation_Detail!E70=\"\",\"\",Limit_Deviation_Detail!E70)","v":""},"",{"$f":"IF(COUNTIF(Y$2:Y48,Y48)=1,Y48,\"\")","v":""},"","","","","",null,"TN",null,{"$f":"+IF(AN48=\"\",\"\",MAX(AI$1:AI47)+1)","v":""},{"$f":"IF(Affected_Sources!B70=\"\",\"\",Affected_Sources!B70)","v":""},{"$f":"IF(Affected_Sources!C70=\"\",\"\",Affected_Sources!C70)","v":""},{"$f":"IF(Affected_Sources!D70=\"\",\"\",Affected_Sources!D70)","v":""},"",{"$f":"IF(COUNTIF(AM$2:AM48,AM48)=1,AM48,\"\")","v":""},"","","","","",null,{"$f":"+IF(AZ48=\"\",\"\",MAX(AU$1:AU47)+1)","v":""},{"$f":"IF(CMS_Deviation_Detail!B70=\"\",\"\",CMS_Deviation_Detail!B70)","v":""},{"$f":"IF(CMS_Deviation_Detail!C70=\"\",\"\",CMS_Deviation_Detail!C70)","v":""},{"$f":"IF(CMS_Deviation_Detail!D70=\"\",\"\",CMS_Deviation_Detail!D70)","v":""},"",{"$f":"IF(COUNTIF(AY$2:AY48,AY48)=1,AY48,\"\")","v":""},"","","","","",null,{"$f":"+IF(BL48=\"\",\"\",MAX(BG$1:BG47)+1)","v":""},{"$f":"IF(CMS_Identification!B70=\"\",\"\",CMS_Identification!B70)","v":""},{"$f":"IF(CMS_Identification!C70=\"\",\"\",CMS_Identification!C70)","v":""},{"$f":"IF(CMS_Identification!E70=\"\",\"\",CMS_Identification!E70)","v":""},"",{"$f":"IF(COUNTIF(BK$2:BK48,BK48)=1,BK48,\"\")","v":""},"","","",""]
[{"$f":"+IF(D49=\"\",\"\",MAX(A$1:A48)+1)","v":""},{"$f":"IF(Affected_Sources!C71=\"\",\"\",Affected_Sources!C71)","v":""},"",{"$f":"IF(COUNTIF(B$2:B49,B49)=1,B49,\"\")","v":""},null,null,null,null,null,null,{"$f":"+IF(N49=\"\",\"\",MAX(K$1:K48)+1)","v":""},{"$f":"IF(CMS_Identification!E71=\"\",\"\",CMS_Identification!E71)","v":""},"",{"$f":"IF(COUNTIF(L$2:L49,L49)=1,L49,\"\")","v":""},null,null,null,null,null,null,{"$f":"+IF(Z49=\"\",\"\",MAX(U$1:U48)+1)","v":""},{"$f":"IF(Limit_Deviation_Detail!B71=\"\",\"\",Limit_Deviation_Detail!B71)","v":""},{"$f":"IF(Limit_Deviation_Detail!C71=\"\",\"\",Limit_Deviation_Detail!C71)","v":""},{"$f":"IF(Limit_Deviation_Detail!E71=\"\",\"\",Limit_Deviation_Detail!E71)","v":""},"",{"$f":"IF(COUNTIF(Y$2:Y49,Y49)=1,Y49,\"\")","v":""},"","","","","",null,"TX",null,{"$f":"+IF(AN49=\"\",\"\",MAX(AI$1:AI48)+1)","v":""},{"$f":"IF(Affected_Sources!B71=\"\",\"\",Affected_Sources!B71)","v":""},{"$f":"IF(Affected_Sources!C71=\"\",\"\",Affected_Sources!C71)","v":""},{"$f":"IF(Affected_Sources!D71=\"\",\"\",Affected_Sources!D71)","v":""},"",{"$f":"IF(COUNTIF(AM$2:AM49,AM49)=1,AM49,\"\")","v":""},"","","","","",null,{"$f":"+IF(AZ49=\"\",\"\",MAX(AU$1:AU48)+1)","v":""},{"$f":"IF(CMS_Deviation_Detail!B71=\"\",\"\",CMS_Deviation_Detail!B71)","v":""},{"$f":"IF(CMS_Deviation_Detail!C71=\"\",\"\",CMS_Deviation_Detail!C71)","v":""},{"$f":"IF(CMS_Deviation_Detail!D71=\"\",\"\",CMS_Deviation_Detail!D71)","v":""},"",{"$f":"IF(COUNTIF(AY$2:AY49,AY49)=1,AY49,\"\")","v":""},"","","","","",null,{"$f":"+IF(BL49=\"\",\"\",MAX(BG$1:BG48)+1)","v":""},{"$f":"IF(CMS_Identification!B71=\"\",\"\",CMS_Identification!B71)","v":""},{"$f":"IF(CMS_Identification!C71=\"\",\"\",CMS_Identification!C71)","v":""},{"$f":"IF(CMS_Identification!E71=\"\",\"\",CMS_Identification!E71)","v":""},"",{"$f":"IF(COUNTIF(BK$2:BK49,BK49)=1,BK49,\"\")","v":""},"","","",""]
[{"$f":"+IF(D50=\"\",\"\",MAX(A$1:A49)+1)","v":""},{"$f":"IF(Affected_Sources!C72=\"\",\"\",Affected_Sources!C72)","v":""},"",{"$f":"IF(COUNTIF(B$2:B50,B50)=1,B50,\"\")","v":""},null,null,null,null,null,null,{"$f":"+IF(N50=\"\",\"\",MAX(K$1:K49)+1)","v":""},{"$f":"IF(CMS_Identification!E72=\"\",\"\",CMS_Identification!E72)","v":""},"",{"$f":"IF(COUNTIF(L$2:L50,L50)=1,L50,\"\")","v":""},null,null,null,null,null,null,{"$f":"+IF(Z50=\"\",\"\",MAX(U$1:U49)+1)","v":""},{"$f":"IF(Limit_Deviation_Detail!B72=\"\",\"\",Limit_Deviation_Detail!B72)","v":""},{"$f":"IF(Limit_Deviation_Detail!C72=\"\",\"\",Limit_Deviation_Detail!C72)","v":""},{"$f":"IF(Limit_Deviation_Detail!E72=\"\",\"\",Limit_Deviation_Detail!E72)","v":""},"",{"$f":"IF(COUNTIF(Y$2:Y50,Y50)=1,Y50,\"\")","v":""},"","","","","",null,"UT",null,{"$f":"+IF(AN50=\"\",\"\",MAX(AI$1:AI49)+1)","v":""},{"$f":"IF(Affected_Sources!B72=\"\",\"\",Affected_Sources!B72)","v":""},{"$f":"IF(Affected_Sources!C72=\"\",\"\",Affected_Sources!C72)","v":""},{"$f":"IF(Affected_Sources!D72=\"\",\"\",Affected_Sources!D72)","v":""},"",{"$f":"IF(COUNTIF(AM$2:AM50,AM50)=1,AM50,\"\")","v":""},"","","","","",null,{"$f":"+IF(AZ50=\"\",\"\",MAX(AU$1:AU49)+1)","v":""},{"$f":"IF(CMS_Deviation_Detail!B72=\"\",\"\",CMS_Deviation_Detail!B72)","v":""},{"$f":"IF(CMS_Deviation_Detail!C72=\"\",\"\",CMS_Deviation_Detail!C72)","v":""},{"$f":"IF(CMS_Deviation_Detail!D72=\"\",\"\",CMS_Deviation_Detail!D72)","v":""},"",{"$f":"IF(COUNTIF(AY$2:AY50,AY50)=1,AY50,\"\")","v":""},"","","","","",null,{"$f":"+IF(BL50=\"\",\"\",MAX(BG$1:BG49)+1)","v":""},{"$f":"IF(CMS_Identification!B72=\"\",\"\",CMS_Identification!B72)","v":""},{"$f":"IF(CMS_Identification!C72=\"\",\"\",CMS_Identification!C72)","v":""},{"$f":"IF(CMS_Identification!E72=\"\",\"\",CMS_Identification!E72)","v":""},"",{"$f":"IF(COUNTIF(BK$2:BK50,BK50)=1,BK50,\"\")","v":""},"","","",""]
[{"$f":"+IF(D51=\"\",\"\",MAX(A$1:A50)+1)","v":""},{"$f":"IF(Affected_Sources!C73=\"\",\"\",Affected_Sources!C73)","v":""},"",{"$f":"IF(COUNTIF(B$2:B51,B51)=1,B51,\"\")","v":""},null,null,null,null,null,null,{"$f":"+IF(N51=\"\",\"\",MAX(K$1:K50)+1)","v":""},{"$f":"IF(CMS_Identification!E73=\"\",\"\",CMS_Identification!E73)","v":""},"",{"$f":"IF(COUNTIF(L$2:L51,L51)=1,L51,\"\")","v":""},null,null,null,null,null,null,{"$f":"+IF(Z51=\"\",\"\",MAX(U$1:U50)+1)","v":""},{"$f":"IF(Limit_Deviation_Detail!B73=\"\",\"\",Limit_Deviation_Detail!B73)","v":""},{"$f":"IF(Limit_Deviation_Detail!C73=\"\",\"\",Limit_Deviation_Detail!C73)","v":""},{"$f":"IF(Limit_Deviation_Detail!E73=\"\",\"\",Limit_Deviation_Detail!E73)","v":""},"",{"$f":"IF(COUNTIF(Y$2:Y51,Y51)=1,Y51,\"\")","v":""},"","","","","",null,"VA",null,{"$f":"+IF(AN51=\"\",\"\",MAX(AI$1:AI50)+1)","v":""},{"$f":"IF(Affected_Sources!B73=\"\",\"\",Affected_Sources!B73)","v":""},{"$f":"IF(Affected_Sources!C73=\"\",\"\",Affected_Sources!C73)","v":""},{"$f":"IF(Affected_Sources!D73=\"\",\"\",Affected_Sources!D73)","v":""},"",{"$f":"IF(COUNTIF(AM$2:AM51,AM51)=1,AM51,\"\")","v":""},"","","","","",null,{"$f":"+IF(AZ51=\"\",\"\",MAX(AU$1:AU50)+1)","v":""},{"$f":"IF(CMS_Deviation_Detail!B73=\"\",\"\",CMS_Deviation_Detail!B73)","v":""},{"$f":"IF(CMS_Deviation_Detail!C73=\"\",\"\",CMS_Deviation_Detail!C73)","v":""},{"$f":"IF(CMS_Deviation_Detail!D73=\"\",\"\",CMS_Deviation_Detail!D73)","v":""},"",{"$f":"IF(COUNTIF(AY$2:AY51,AY51)=1,AY51,\"\")","v":""},"","","","","",null,{"$f":"+IF(BL51=\"\",\"\",MAX(BG$1:BG50)+1)","v":""},{"$f":"IF(CMS_Identification!B73=\"\",\"\",CMS_Identification!B73)","v":""},{"$f":"IF(CMS_Identification!C73=\"\",\"\",CMS_Identification!C73)","v":""},{"$f":"IF(CMS_Identification!E73=\"\",\"\",CMS_Identification!E73)","v":""},"",{"$f":"IF(COUNTIF(BK$2:BK51,BK51)=1,BK51,\"\")","v":""},"","","",""]
[{"$f":"+IF(D52=\"\",\"\",MAX(A$1:A51)+1)","v":""},{"$f":"IF(Affected_Sources!C74=\"\",\"\",Affected_Sources!C74)","v":""},"",{"$f":"IF(COUNTIF(B$2:B52,B52)=1,B52,\"\")","v":""},null,null,null,null,null,null,{"$f":"+IF(N52=\"\",\"\",MAX(K$1:K51)+1)","v":""},{"$f":"IF(CMS_Identification!E74=\"\",\"\",CMS_Identification!E74)","v":""},"",{"$f":"IF(COUNTIF(L$2:L52,L52)=1,L52,\"\")","v":""},null,null,null,null,null,null,{"$f":"+IF(Z52=\"\",\"\",MAX(U$1:U51)+1)","v":""},{"$f":"IF(Limit_Deviation_Detail!B74=\"\",\"\",Limit_Deviation_Detail!B74)","v":""},{"$f":"IF(Limit_Deviation_Detail!C74=\"\",\"\",Limit_Deviation_Detail!C74)","v":""},{"$f":"IF(Limit_Deviation_Detail!E74=\"\",\"\",Limit_Deviation_Detail!E74)","v":""},"",{"$f":"IF(COUNTIF(Y$2:Y52,Y52)=1,Y52,\"\")","v":""},"","","","","",null,"VI",null,{"$f":"+IF(AN52=\"\",\"\",MAX(AI$1:AI51)+1)","v":""},{"$f":"IF(Affected_Sources!B74=\"\",\"\",Affected_Sources!B74)","v":""},{"$f":"IF(Affected_Sources!C74=\"\",\"\",Affected_Sources!C74)","v":""},{"$f":"IF(Affected_Sources!D74=\"\",\"\",Affected_Sources!D74)","v":""},"",{"$f":"IF(COUNTIF(AM$2:AM52,AM52)=1,AM52,\"\")","v":""},"","","","","",null,{"$f":"+IF(AZ52=\"\",\"\",MAX(AU$1:AU51)+1)","v":""},{"$f":"IF(CMS_Deviation_Detail!B74=\"\",\"\",CMS_Deviation_Detail!B74)","v":""},{"$f":"IF(CMS_Deviation_Detail!C74=\"\",\"\",CMS_Deviation_Detail!C74)","v":""},{"$f":"IF(CMS_Deviation_Detail!D74=\"\",\"\",CMS_Deviation_Detail!D74)","v":""},"",{"$f":"IF(COUNTIF(AY$2:AY52,AY52)=1,AY52,\"\")","v":""},"","","","","",null,{"$f":"+IF(BL52=\"\",\"\",MAX(BG$1:BG51)+1)","v":""},{"$f":"IF(CMS_Identification!B74=\"\",\"\",CMS_Identification!B74)","v":""},{"$f":"IF(CMS_Identification!C74=\"\",\"\",CMS_Identification!C74)","v":""},{"$f":"IF(CMS_Identification!E74=\"\",\"\",CMS_Identification!E74)","v":""},"",{"$f":"IF(COUNTIF(BK$2:BK52,BK52)=1,BK52,\"\")","v":""},"","","",""]
[{"$f":"+IF(D53=\"\",\"\",MAX(A$1:A52)+1)","v":""},{"$f":"IF(Affected_Sources!C75=\"\",\"\",Affected_Sources!C75)","v":""},"",{"$f":"IF(COUNTIF(B$2:B53,B53)=1,B53,\"\")","v":""},null,null,null,null,null,null,{"$f":"+IF(N53=\"\",\"\",MAX(K$1:K52)+1)","v":""},{"$f":"IF(CMS_Identification!E75=\"\",\"\",CMS_Identification!E75)","v":""},"",{"$f":"IF(COUNTIF(L$2:L53,L53)=1,L53,\"\")","v":""},null,null,null,null,null,null,{"$f":"+IF(Z53=\"\",\"\",MAX(U$1:U52)+1)","v":""},{"$f":"IF(Limit_Deviation_Detail!B75=\"\",\"\",Limit_Deviation_Detail!B75)","v":""},{"$f":"IF(Limit_Deviation_Detail!C75=\"\",\"\",Limit_Deviation_Detail!C75)","v":""},{"$f":"IF(Limit_Deviation_Detail!E75=\"\",\"\",Limit_Deviation_Detail!E75)","v":""},"",{"$f":"IF(COUNTIF(Y$2:Y53,Y53)=1,Y53,\"\")","v":""},"","","","","",null,"VT",null,{"$f":"+IF(AN53=\"\",\"\",MAX(AI$1:AI52)+1)","v":""},{"$f":"IF(Affected_Sources!B75=\"\",\"\",Affected_Sources!B75)","v":""},{"$f":"IF(Affected_Sources!C75=\"\",\"\",Affected_Sources!C75)","v":""},{"$f":"IF(Affected_Sources!D75=\"\",\"\",Affected_Sources!D75)","v":""},"",{"$f":"IF(COUNTIF(AM$2:AM53,AM53)=1,AM53,\"\")","v":""},"","","","","",null,{"$f":"+IF(AZ53=\"\",\"\",MAX(AU$1:AU52)+1)","v":""},{"$f":"IF(CMS_Deviation_Detail!B75=\"\",\"\",CMS_Deviation_Detail!B75)","v":""},{"$f":"IF(CMS_Deviation_Detail!C75=\"\",\"\",CMS_Deviation_Detail!C75)","v":""},{"$f":"IF(CMS_Deviation_Detail!D75=\"\",\"\",CMS_Deviation_Detail!D75)","v":""},"",{"$f":"IF(COUNTIF(AY$2:AY53,AY53)=1,AY53,\"\")","v":""},"","","","","",null,{"$f":"+IF(BL53=\"\",\"\",MAX(BG$1:BG52)+1)","v":""},{"$f":"IF(CMS_Identification!B75=\"\",\"\",CMS_Identification!B75)","v":""},{"$f":"IF(CMS_Identification!C75=\"\",\"\",CMS_Identification!C75)","v":""},{"$f":"IF(CMS_Identification!E75=\"\",\"\",CMS_Identification!E75)","v":""},"",{"$f":"IF(COUNTIF(BK$2:BK53,BK53)=1,BK53,\"\")","v":""},"","","",""]
[{"$f":"+IF(D54=\"\",\"\",MAX(A$1:A53)+1)","v":""},{"$f":"IF(Affected_Sources!C76=\"\",\"\",Affected_Sources!C76)","v":""},"",{"$f":"IF(COUNTIF(B$2:B54,B54)=1,B54,\"\")","v":""},null,null,null,null,null,null,{"$f":"+IF(N54=\"\",\"\",MAX(K$1:K53)+1)","v":""},{"$f":"IF(CMS_Identification!E76=\"\",\"\",CMS_Identification!E76)","v":""},"",{"$f":"IF(COUNTIF(L$2:L54,L54)=1,L54,\"\")","v":""},null,null,null,null,null,null,{"$f":"+IF(Z54=\"\",\"\",MAX(U$1:U53)+1)","v":""},{"$f":"IF(Limit_Deviation_Detail!B76=\"\",\"\",Limit_Deviation_Detail!B76)","v":""},{"$f":"IF(Limit_Deviation_Detail!C76=\"\",\"\",Limit_Deviation_Detail!C76)","v":""},{"$f":"IF(Limit_Deviation_Detail!E76=\"\",\"\",Limit_Deviation_Detail!E76)","v":""},"",{"$f":"IF(COUNTIF(Y$2:Y54,Y54)=1,Y54,\"\")","v":""},"","","","","",null,"WA",null,{"$f":"+IF(AN54=\"\",\"\",MAX(AI$1:AI53)+1)","v":""},{"$f":"IF(Affected_Sources!B76=\"\",\"\",Affected_Sources!B76)","v":""},{"$f":"IF(Affected_Sources!C76=\"\",\"\",Affected_Sources!C76)","v":""},{"$f":"IF(Affected_Sources!D76=\"\",\"\",Affected_Sources!D76)","v":""},"",{"$f":"IF(COUNTIF(AM$2:AM54,AM54)=1,AM54,\"\")","v":""},"","","","","",null,{"$f":"+IF(AZ54=\"\",\"\",MAX(AU$1:AU53)+1)","v":""},{"$f":"IF(CMS_Deviation_Detail!B76=\"\",\"\",CMS_Deviation_Detail!B76)","v":""},{"$f":"IF(CMS_Deviation_Detail!C76=\"\",\"\",CMS_Deviation_Detail!C76)","v":""},{"$f":"IF(CMS_Deviation_Detail!D76=\"\",\"\",CMS_Deviation_Detail!D76)","v":""},"",{"$f":"IF(COUNTIF(AY$2:AY54,AY54)=1,AY54,\"\")","v":""},"","","","","",null,{"$f":"+IF(BL54=\"\",\"\",MAX(BG$1:BG53)+1)","v":""},{"$f":"IF(CMS_Identification!B76=\"\",\"\",CMS_Identification!B76)","v":""},{"$f":"IF(CMS_Identification!C76=\"\",\"\",CMS_Identification!C76)","v":""},{"$f":"IF(CMS_Identification!E76=\"\",\"\",CMS_Identification!E76)","v":""},"",{"$f":"IF(COUNTIF(BK$2:BK54,BK54)=1,BK54,\"\")","v":""},"","","",""]
[{"$f":"+IF(D55=\"\",\"\",MAX(A$1:A54)+1)","v":""},{"$f":"IF(Affected_Sources!C77=\"\",\"\",Affected_Sources!C77)","v":""},"",{"$f":"IF(COUNTIF(B$2:B55,B55)=1,B55,\"\")","v":""},null,null,null,null,null,null,{"$f":"+IF(N55=\"\",\"\",MAX(K$1:K54)+1)","v":""},{"$f":"IF(CMS_Identification!E77=\"\",\"\",CMS_Identification!E77)","v":""},"",{"$f":"IF(COUNTIF(L$2:L55,L55)=1,L55,\"\")","v":""},null,null,null,null,null,null,{"$f":"+IF(Z55=\"\",\"\",MAX(U$1:U54)+1)","v":""},{"$f":"IF(Limit_Deviation_Detail!B77=\"\",\"\",Limit_Deviation_Detail!B77)","v":""},{"$f":"IF(Limit_Deviation_Detail!C77=\"\",\"\",Limit_Deviation_Detail!C77)","v":""},{"$f":"IF(Limit_Deviation_Detail!E77=\"\",\"\",Limit_Deviation_Detail!E77)","v":""},"",{"$f":"IF(COUNTIF(Y$2:Y55,Y55)=1,Y55,\"\")","v":""},"","","","","",null,"WI",null,{"$f":"+IF(AN55=\"\",\"\",MAX(AI$1:AI54)+1)","v":""},{"$f":"IF(Affected_Sources!B77=\"\",\"\",Affected_Sources!B77)","v":""},{"$f":"IF(Affected_Sources!C77=\"\",\"\",Affected_Sources!C77)","v":""},{"$f":"IF(Affected_Sources!D77=\"\",\"\",Affected_Sources!D77)","v":""},"",{"$f":"IF(COUNTIF(AM$2:AM55,AM55)=1,AM55,\"\")","v":""},"","","","","",null,{"$f":"+IF(AZ55=\"\",\"\",MAX(AU$1:AU54)+1)","v":""},{"$f":"IF(CMS_Deviation_Detail!B77=\"\",\"\",CMS_Deviation_Detail!B77)","v":""},{"$f":"IF(CMS_Deviation_Detail!C77=\"\",\"\",CMS_Deviation_Detail!C77)","v":""},{"$f":"IF(CMS_Deviation_Detail!D77=\"\",\"\",CMS_Deviation_Detail!D77)","v":""},"",{"$f":"IF(COUNTIF(AY$2:AY55,AY55)=1,AY55,\"\")","v":""},"","","","","",null,{"$f":"+IF(BL55=\"\",\"\",MAX(BG$1:BG54)+1)","v":""},{"$f":"IF(CMS_Identification!B77=\"\",\"\",CMS_Identification!B77)","v":""},{"$f":"IF(CMS_Identification!C77=\"\",\"\",CMS_Identification!C77)","v":""},{"$f":"IF(CMS_Identification!E77=\"\",\"\",CMS_Identification!E77)","v":""},"",{"$f":"IF(COUNTIF(BK$2:BK55,BK55)=1,BK55,\"\")","v":""},"","","",""]
[{"$f":"+IF(D56=\"\",\"\",MAX(A$1:A55)+1)","v":""},{"$f":"IF(Affected_Sources!C78=\"\",\"\",Affected_Sources!C78)","v":""},"",{"$f":"IF(COUNTIF(B$2:B56,B56)=1,B56,\"\")","v":""},null,null,null,null,null,null,{"$f":"+IF(N56=\"\",\"\",MAX(K$1:K55)+1)","v":""},{"$f":"IF(CMS_Identification!E78=\"\",\"\",CMS_Identification!E78)","v":""},"",{"$f":"IF(COUNTIF(L$2:L56,L56)=1,L56,\"\")","v":""},null,null,null,null,null,null,{"$f":"+IF(Z56=\"\",\"\",MAX(U$1:U55)+1)","v":""},{"$f":"IF(Limit_Deviation_Detail!B78=\"\",\"\",Limit_Deviation_Detail!B78)","v":""},{"$f":"IF(Limit_Deviation_Detail!C78=\"\",\"\",Limit_Deviation_Detail!C78)","v":""},{"$f":"IF(Limit_Deviation_Detail!E78=\"\",\"\",Limit_Deviation_Detail!E78)","v":""},"",{"$f":"IF(COUNTIF(Y$2:Y56,Y56)=1,Y56,\"\")","v":""},"","","","","",null,"WV",null,{"$f":"+IF(AN56=\"\",\"\",MAX(AI$1:AI55)+1)","v":""},{"$f":"IF(Affected_Sources!B78=\"\",\"\",Affected_Sources!B78)","v":""},{"$f":"IF(Affected_Sources!C78=\"\",\"\",Affected_Sources!C78)","v":""},{"$f":"IF(Affected_Sources!D78=\"\",\"\",Affected_Sources!D78)","v":""},"",{"$f":"IF(COUNTIF(AM$2:AM56,AM56)=1,AM56,\"\")","v":""},"","","","","",null,{"$f":"+IF(AZ56=\"\",\"\",MAX(AU$1:AU55)+1)","v":""},{"$f":"IF(CMS_Deviation_Detail!B78=\"\",\"\",CMS_Deviation_Detail!B78)","v":""},{"$f":"IF(CMS_Deviation_Detail!C78=\"\",\"\",CMS_Deviation_Detail!C78)","v":""},{"$f":"IF(CMS_Deviation_Detail!D78=\"\",\"\",CMS_Deviation_Detail!D78)","v":""},"",{"$f":"IF(COUNTIF(AY$2:AY56,AY56)=1,AY56,\"\")","v":""},"","","","","",null,{"$f":"+IF(BL56=\"\",\"\",MAX(BG$1:BG55)+1)","v":""},{"$f":"IF(CMS_Identification!B78=\"\",\"\",CMS_Identification!B78)","v":""},{"$f":"IF(CMS_Identification!C78=\"\",\"\",CMS_Identification!C78)","v":""},{"$f":"IF(CMS_Identification!E78=\"\",\"\",CMS_Identification!E78)","v":""},"",{"$f":"IF(COUNTIF(BK$2:BK56,BK56)=1,BK56,\"\")","v":""},"","","",""]
[{"$f":"+IF(D57=\"\",\"\",MAX(A$1:A56)+1)","v":""},{"$f":"IF(Affected_Sources!C79=\"\",\"\",Affected_Sources!C79)","v":""},"",{"$f":"IF(COUNTIF(B$2:B57,B57)=1,B57,\"\")","v":""},null,null,null,null,null,null,{"$f":"+IF(N57=\"\",\"\",MAX(K$1:K56)+1)","v":""},{"$f":"IF(CMS_Identification!E79=\"\",\"\",CMS_Identification!E79)","v":""},"",{"$f":"IF(COUNTIF(L$2:L57,L57)=1,L57,\"\")","v":""},null,null,null,null,null,null,{"$f":"+IF(Z57=\"\",\"\",MAX(U$1:U56)+1)","v":""},{"$f":"IF(Limit_Deviation_Detail!B79=\"\",\"\",Limit_Deviation_Detail!B79)","v":""},{"$f":"IF(Limit_Deviation_Detail!C79=\"\",\"\",Limit_Deviation_Detail!C79)","v":""},{"$f":"IF(Limit_Deviation_Detail!E79=\"\",\"\",Limit_Deviation_Detail!E79)","v":""},"",{"$f":"IF(COUNTIF(Y$2:Y57,Y57)=1,Y57,\"\")","v":""},"","","","","",null,"WY",null,{"$f":"+IF(AN57=\"\",\"\",MAX(AI$1:AI56)+1)","v":""},{"$f":"IF(Affected_Sources!B79=\"\",\"\",Affected_Sources!B79)","v":""},{"$f":"IF(Affected_Sources!C79=\"\",\"\",Affected_Sources!C79)","v":""},{"$f":"IF(Affected_Sources!D79=\"\",\"\",Affected_Sources!D79)","v":""},"",{"$f":"IF(COUNTIF(AM$2:AM57,AM57)=1,AM57,\"\")","v":""},"","","","","",null,{"$f":"+IF(AZ57=\"\",\"\",MAX(AU$1:AU56)+1)","v":""},{"$f":"IF(CMS_Deviation_Detail!B79=\"\",\"\",CMS_Deviation_Detail!B79)","v":""},{"$f":"IF(CMS_Deviation_Detail!C79=\"\",\"\",CMS_Deviation_Detail!C79)","v":""},{"$f":"IF(CMS_Deviation_Detail!D79=\"\",\"\",CMS_Deviation_Detail!D79)","v":""},"",{"$f":"IF(COUNTIF(AY$2:AY57,AY57)=1,AY57,\"\")","v":""},"","","","","",null,{"$f":"+IF(BL57=\"\",\"\",MAX(BG$1:BG56)+1)","v":""},{"$f":"IF(CMS_Identification!B79=\"\",\"\",CMS_Identification!B79)","v":""},{"$f":"IF(CMS_Identification!C79=\"\",\"\",CMS_Identification!C79)","v":""},{"$f":"IF(CMS_Identification!E79=\"\",\"\",CMS_Identification!E79)","v":""},"",{"$f":"IF(COUNTIF(BK$2:BK57,BK57)=1,BK57,\"\")","v":""},"","","",""]
[{"$f":"+IF(D58=\"\",\"\",MAX(A$1:A57)+1)","v":""},{"$f":"IF(Affected_Sources!C80=\"\",\"\",Affected_Sources!C80)","v":""},"",{"$f":"IF(COUNTIF(B$2:B58,B58)=1,B58,\"\")","v":""},null,null,null,null,null,null,{"$f":"+IF(N58=\"\",\"\",MAX(K$1:K57)+1)","v":""},{"$f":"IF(CMS_Identification!E80=\"\",\"\",CMS_Identification!E80)","v":""},"",{"$f":"IF(COUNTIF(L$2:L58,L58)=1,L58,\"\")","v":""},null,null,null,null,null,null,{"$f":"+IF(Z58=\"\",\"\",MAX(U$1:U57)+1)","v":""},{"$f":"IF(Limit_Deviation_Detail!B80=\"\",\"\",Limit_Deviation_Detail!B80)","v":""},{"$f":"IF(Limit_Deviation_Detail!C80=\"\",\"\",Limit_Deviation_Detail!C80)","v":""},{"$f":"IF(Limit_Deviation_Detail!E80=\"\",\"\",Limit_Deviation_Detail!E80)","v":""},"",{"$f":"IF(COUNTIF(Y$2:Y58,Y58)=1,Y58,\"\")","v":""},"","","","","",null,null,null,{"$f":"+IF(AN58=\"\",\"\",MAX(AI$1:AI57)+1)","v":""},{"$f":"IF(Affected_Sources!B80=\"\",\"\",Affected_Sources!B80)","v":""},{"$f":"IF(Affected_Sources!C80=\"\",\"\",Affected_Sources!C80)","v":""},{"$f":"IF(Affected_Sources!D80=\"\",\"\",Affected_Sources!D80)","v":""},"",{"$f":"IF(COUNTIF(AM$2:AM58,AM58)=1,AM58,\"\")","v":""},"","","","","",null,{"$f":"+IF(AZ58=\"\",\"\",MAX(AU$1:AU57)+1)","v":""},{"$f":"IF(CMS_Deviation_Detail!B80=\"\",\"\",CMS_Deviation_Detail!B80)","v":""},{"$f":"IF(CMS_Deviation_Detail!C80=\"\",\"\",CMS_Deviation_Detail!C80)","v":""},{"$f":"IF(CMS_Deviation_Detail!D80=\"\",\"\",CMS_Deviation_Detail!D80)","v":""},"",{"$f":"IF(COUNTIF(AY$2:AY58,AY58)=1,AY58,\"\")","v":""},"","","","","",null,{"$f":"+IF(BL58=\"\",\"\",MAX(BG$1:BG57)+1)","v":""},{"$f":"IF(CMS_Identification!B80=\"\",\"\",CMS_Identification!B80)","v":""},{"$f":"IF(CMS_Identification!C80=\"\",\"\",CMS_Identification!C80)","v":""},{"$f":"IF(CMS_Identification!E80=\"\",\"\",CMS_Identification!E80)","v":""},"",{"$f":"IF(COUNTIF(BK$2:BK58,BK58)=1,BK58,\"\")","v":""},"","","",""]
[{"$f":"+IF(D59=\"\",\"\",MAX(A$1:A58)+1)","v":""},{"$f":"IF(Affected_Sources!C81=\"\",\"\",Affected_Sources!C81)","v":""},"",{"$f":"IF(COUNTIF(B$2:B59,B59)=1,B59,\"\")","v":""},null,null,null,null,null,null,{"$f":"+IF(N59=\"\",\"\",MAX(K$1:K58)+1)","v":""},{"$f":"IF(CMS_Identification!E81=\"\",\"\",CMS_Identification!E81)","v":""},"",{"$f":"IF(COUNTIF(L$2:L59,L59)=1,L59,\"\")","v":""},null,null,null,null,null,null,{"$f":"+IF(Z59=\"\",\"\",MAX(U$1:U58)+1)","v":""},{"$f":"IF(Limit_Deviation_Detail!B81=\"\",\"\",Limit_Deviation_Detail!B81)","v":""},{"$f":"IF(Limit_Deviation_Detail!C81=\"\",\"\",Limit_Deviation_Detail!C81)","v":""},{"$f":"IF(Limit_Deviation_Detail!E81=\"\",\"\",Limit_Deviation_Detail!E81)","v":""},"",{"$f":"IF(COUNTIF(Y$2:Y59,Y59)=1,Y59,\"\")","v":""},"","","","","",null,null,null,{"$f":"+IF(AN59=\"\",\"\",MAX(AI$1:AI58)+1)","v":""},{"$f":"IF(Affected_Sources!B81=\"\",\"\",Affected_Sources!B81)","v":""},{"$f":"IF(Affected_Sources!C81=\"\",\"\",Affected_Sources!C81)","v":""},{"$f":"IF(Affected_Sources!D81=\"\",\"\",Affected_Sources!D81)","v":""},"",{"$f":"IF(COUNTIF(AM$2:AM59,AM59)=1,AM59,\"\")","v":""},"","","","","",null,{"$f":"+IF(AZ59=\"\",\"\",MAX(AU$1:AU58)+1)","v":""},{"$f":"IF(CMS_Deviation_Detail!B81=\"\",\"\",CMS_Deviation_Detail!B81)","v":""},{"$f":"IF(CMS_Deviation_Detail!C81=\"\",\"\",CMS_Deviation_Detail!C81)","v":""},{"$f":"IF(CMS_Deviation_Detail!D81=\"\",\"\",CMS_Deviation_Detail!D81)","v":""},"",{"$f":"IF(COUNTIF(AY$2:AY59,AY59)=1,AY59,\"\")","v":""},"","","","","",null,{"$f":"+IF(BL59=\"\",\"\",MAX(BG$1:BG58)+1)","v":""},{"$f":"IF(CMS_Identification!B81=\"\",\"\",CMS_Identification!B81)","v":""},{"$f":"IF(CMS_Identification!C81=\"\",\"\",CMS_Identification!C81)","v":""},{"$f":"IF(CMS_Identification!E81=\"\",\"\",CMS_Identification!E81)","v":""},"",{"$f":"IF(COUNTIF(BK$2:BK59,BK59)=1,BK59,\"\")","v":""},"","","",""]
[{"$f":"+IF(D60=\"\",\"\",MAX(A$1:A59)+1)","v":""},{"$f":"IF(Affected_Sources!C82=\"\",\"\",Affected_Sources!C82)","v":""},"",{"$f":"IF(COUNTIF(B$2:B60,B60)=1,B60,\"\")","v":""},null,null,null,null,null,null,{"$f":"+IF(N60=\"\",\"\",MAX(K$1:K59)+1)","v":""},{"$f":"IF(CMS_Identification!E82=\"\",\"\",CMS_Identification!E82)","v":""},"",{"$f":"IF(COUNTIF(L$2:L60,L60)=1,L60,\"\")","v":""},null,null,null,null,null,null,{"$f":"+IF(Z60=\"\",\"\",MAX(U$1:U59)+1)","v":""},{"$f":"IF(Limit_Deviation_Detail!B82=\"\",\"\",Limit_Deviation_Detail!B82)","v":""},{"$f":"IF(Limit_Deviation_Detail!C82=\"\",\"\",Limit_Deviation_Detail!C82)","v":""},{"$f":"IF(Limit_Deviation_Detail!E82=\"\",\"\",Limit_Deviation_Detail!E82)","v":""},"",{"$f":"IF(COUNTIF(Y$2:Y60,Y60)=1,Y60,\"\")","v":""},"","","","","",null,null,null,{"$f":"+IF(AN60=\"\",\"\",MAX(AI$1:AI59)+1)","v":""},{"$f":"IF(Affected_Sources!B82=\"\",\"\",Affected_Sources!B82)","v":""},{"$f":"IF(Affected_Sources!C82=\"\",\"\",Affected_Sources!C82)","v":""},{"$f":"IF(Affected_Sources!D82=\"\",\"\",Affected_Sources!D82)","v":""},"",{"$f":"IF(COUNTIF(AM$2:AM60,AM60)=1,AM60,\"\")","v":""},"","","","","",null,{"$f":"+IF(AZ60=\"\",\"\",MAX(AU$1:AU59)+1)","v":""},{"$f":"IF(CMS_Deviation_Detail!B82=\"\",\"\",CMS_Deviation_Detail!B82)","v":""},{"$f":"IF(CMS_Deviation_Detail!C82=\"\",\"\",CMS_Deviation_Detail!C82)","v":""},{"$f":"IF(CMS_Deviation_Detail!D82=\"\",\"\",CMS_Deviation_Detail!D82)","v":""},"",{"$f":"IF(COUNTIF(AY$2:AY60,AY60)=1,AY60,\"\")","v":""},"","","","","",null,{"$f":"+IF(BL60=\"\",\"\",MAX(BG$1:BG59)+1)","v":""},{"$f":"IF(CMS_Identification!B82=\"\",\"\",CMS_Identification!B82)","v":""},{"$f":"IF(CMS_Identification!C82=\"\",\"\",CMS_Identification!C82)","v":""},{"$f":"IF(CMS_Identification!E82=\"\",\"\",CMS_Identification!E82)","v":""},"",{"$f":"IF(COUNTIF(BK$2:BK60,BK60)=1,BK60,\"\")","v":""},"","","",""]
[{"$f":"+IF(D61=\"\",\"\",MAX(A$1:A60)+1)","v":""},{"$f":"IF(Affected_Sources!C83=\"\",\"\",Affected_Sources!C83)","v":""},"",{"$f":"IF(COUNTIF(B$2:B61,B61)=1,B61,\"\")","v":""},null,null,null,null,null,null,{"$f":"+IF(N61=\"\",\"\",MAX(K$1:K60)+1)","v":""},{"$f":"IF(CMS_Identification!E83=\"\",\"\",CMS_Identification!E83)","v":""},"",{"$f":"IF(COUNTIF(L$2:L61,L61)=1,L61,\"\")","v":""},null,null,null,null,null,null,{"$f":"+IF(Z61=\"\",\"\",MAX(U$1:U60)+1)","v":""},{"$f":"IF(Limit_Deviation_Detail!B83=\"\",\"\",Limit_Deviation_Detail!B83)","v":""},{"$f":"IF(Limit_Deviation_Detail!C83=\"\",\"\",Limit_Deviation_Detail!C83)","v":""},{"$f":"IF(Limit_Deviation_Detail!E83=\"\",\"\",Limit_Deviation_Detail!E83)","v":""},"",{"$f":"IF(COUNTIF(Y$2:Y61,Y61)=1,Y61,\"\")","v":""},"","","","","",null,null,null,{"$f":"+IF(AN61=\"\",\"\",MAX(AI$1:AI60)+1)","v":""},{"$f":"IF(Affected_Sources!B83=\"\",\"\",Affected_Sources!B83)","v":""},{"$f":"IF(Affected_Sources!C83=\"\",\"\",Affected_Sources!C83)","v":""},{"$f":"IF(Affected_Sources!D83=\"\",\"\",Affected_Sources!D83)","v":""},"",{"$f":"IF(COUNTIF(AM$2:AM61,AM61)=1,AM61,\"\")","v":""},"","","","","",null,{"$f":"+IF(AZ61=\"\",\"\",MAX(AU$1:AU60)+1)","v":""},{"$f":"IF(CMS_Deviation_Detail!B83=\"\",\"\",CMS_Deviation_Detail!B83)","v":""},{"$f":"IF(CMS_Deviation_Detail!C83=\"\",\"\",CMS_Deviation_Detail!C83)","v":""},{"$f":"IF(CMS_Deviation_Detail!D83=\"\",\"\",CMS_Deviation_Detail!D83)","v":""},"",{"$f":"IF(COUNTIF(AY$2:AY61,AY61)=1,AY61,\"\")","v":""},"","","","","",null,{"$f":"+IF(BL61=\"\",\"\",MAX(BG$1:BG60)+1)","v":""},{"$f":"IF(CMS_Identification!B83=\"\",\"\",CMS_Identification!B83)","v":""},{"$f":"IF(CMS_Identification!C83=\"\",\"\",CMS_Identification!C83)","v":""},{"$f":"IF(CMS_Identification!E83=\"\",\"\",CMS_Identification!E83)","v":""},"",{"$f":"IF(COUNTIF(BK$2:BK61,BK61)=1,BK61,\"\")","v":""},"","","",""]
[{"$f":"+IF(D62=\"\",\"\",MAX(A$1:A61)+1)","v":""},{"$f":"IF(Affected_Sources!C84=\"\",\"\",Affected_Sources!C84)","v":""},"",{"$f":"IF(COUNTIF(B$2:B62,B62)=1,B62,\"\")","v":""},null,null,null,null,null,null,{"$f":"+IF(N62=\"\",\"\",MAX(K$1:K61)+1)","v":""},{"$f":"IF(CMS_Identification!E84=\"\",\"\",CMS_Identification!E84)","v":""},"",{"$f":"IF(COUNTIF(L$2:L62,L62)=1,L62,\"\")","v":""},null,null,null,null,null,null,{"$f":"+IF(Z62=\"\",\"\",MAX(U$1:U61)+1)","v":""},{"$f":"IF(Limit_Deviation_Detail!B84=\"\",\"\",Limit_Deviation_Detail!B84)","v":""},{"$f":"IF(Limit_Deviation_Detail!C84=\"\",\"\",Limit_Deviation_Detail!C84)","v":""},{"$f":"IF(Limit_Deviation_Detail!E84=\"\",\"\",Limit_Deviation_Detail!E84)","v":""},"",{"$f":"IF(COUNTIF(Y$2:Y62,Y62)=1,Y62,\"\")","v":""},"","","","","",null,null,null,{"$f":"+IF(AN62=\"\",\"\",MAX(AI$1:AI61)+1)","v":""},{"$f":"IF(Affected_Sources!B84=\"\",\"\",Affected_Sources!B84)","v":""},{"$f":"IF(Affected_Sources!C84=\"\",\"\",Affected_Sources!C84)","v":""},{"$f":"IF(Affected_Sources!D84=\"\",\"\",Affected_Sources!D84)","v":""},"",{"$f":"IF(COUNTIF(AM$2:AM62,AM62)=1,AM62,\"\")","v":""},"","","","","",null,{"$f":"+IF(AZ62=\"\",\"\",MAX(AU$1:AU61)+1)","v":""},{"$f":"IF(CMS_Deviation_Detail!B84=\"\",\"\",CMS_Deviation_Detail!B84)","v":""},{"$f":"IF(CMS_Deviation_Detail!C84=\"\",\"\",CMS_Deviation_Detail!C84)","v":""},{"$f":"IF(CMS_Deviation_Detail!D84=\"\",\"\",CMS_Deviation_Detail!D84)","v":""},"",{"$f":"IF(COUNTIF(AY$2:AY62,AY62)=1,AY62,\"\")","v":""},"","","","","",null,{"$f":"+IF(BL62=\"\",\"\",MAX(BG$1:BG61)+1)","v":""},{"$f":"IF(CMS_Identification!B84=\"\",\"\",CMS_Identification!B84)","v":""},{"$f":"IF(CMS_Identification!C84=\"\",\"\",CMS_Identification!C84)","v":""},{"$f":"IF(CMS_Identification!E84=\"\",\"\",CMS_Identification!E84)","v":""},"",{"$f":"IF(COUNTIF(BK$2:BK62,BK62)=1,BK62,\"\")","v":""},"","","",""]
[{"$f":"+IF(D63=\"\",\"\",MAX(A$1:A62)+1)","v":""},{"$f":"IF(Affected_Sources!C85=\"\",\"\",Affected_Sources!C85)","v":""},"",{"$f":"IF(COUNTIF(B$2:B63,B63)=1,B63,\"\")","v":""},null,null,null,null,null,null,{"$f":"+IF(N63=\"\",\"\",MAX(K$1:K62)+1)","v":""},{"$f":"IF(CMS_Identification!E85=\"\",\"\",CMS_Identification!E85)","v":""},"",{"$f":"IF(COUNTIF(L$2:L63,L63)=1,L63,\"\")","v":""},null,null,null,null,null,null,{"$f":"+IF(Z63=\"\",\"\",MAX(U$1:U62)+1)","v":""},{"$f":"IF(Limit_Deviation_Detail!B85=\"\",\"\",Limit_Deviation_Detail!B85)","v":""},{"$f":"IF(Limit_Deviation_Detail!C85=\"\",\"\",Limit_Deviation_Detail!C85)","v":""},{"$f":"IF(Limit_Deviation_Detail!E85=\"\",\"\",Limit_Deviation_Detail!E85)","v":""},"",{"$f":"IF(COUNTIF(Y$2:Y63,Y63)=1,Y63,\"\")","v":""},"","","","","",null,null,null,{"$f":"+IF(AN63=\"\",\"\",MAX(AI$1:AI62)+1)","v":""},{"$f":"IF(Affected_Sources!B85=\"\",\"\",Affected_Sources!B85)","v":""},{"$f":"IF(Affected_Sources!C85=\"\",\"\",Affected_Sources!C85)","v":""},{"$f":"IF(Affected_Sources!D85=\"\",\"\",Affected_Sources!D85)","v":""},"",{"$f":"IF(COUNTIF(AM$2:AM63,AM63)=1,AM63,\"\")","v":""},"","","","","",null,{"$f":"+IF(AZ63=\"\",\"\",MAX(AU$1:AU62)+1)","v":""},{"$f":"IF(CMS_Deviation_Detail!B85=\"\",\"\",CMS_Deviation_Detail!B85)","v":""},{"$f":"IF(CMS_Deviation_Detail!C85=\"\",\"\",CMS_Deviation_Detail!C85)","v":""},{"$f":"IF(CMS_Deviation_Detail!D85=\"\",\"\",CMS_Deviation_Detail!D85)","v":""},"",{"$f":"IF(COUNTIF(AY$2:AY63,AY63)=1,AY63,\"\")","v":""},"","","","","",null,{"$f":"+IF(BL63=\"\",\"\",MAX(BG$1:BG62)+1)","v":""},{"$f":"IF(CMS_Identification!B85=\"\",\"\",CMS_Identification!B85)","v":""},{"$f":"IF(CMS_Identification!C85=\"\",\"\",CMS_Identification!C85)","v":""},{"$f":"IF(CMS_Identification!E85=\"\",\"\",CMS_Identification!E85)","v":""},"",{"$f":"IF(COUNTIF(BK$2:BK63,BK63)=1,BK63,\"\")","v":""},"","","",""]
[{"$f":"+IF(D64=\"\",\"\",MAX(A$1:A63)+1)","v":""},{"$f":"IF(Affected_Sources!C86=\"\",\"\",Affected_Sources!C86)","v":""},"",{"$f":"IF(COUNTIF(B$2:B64,B64)=1,B64,\"\")","v":""},null,null,null,null,null,null,{"$f":"+IF(N64=\"\",\"\",MAX(K$1:K63)+1)","v":""},{"$f":"IF(CMS_Identification!E86=\"\",\"\",CMS_Identification!E86)","v":""},"",{"$f":"IF(COUNTIF(L$2:L64,L64)=1,L64,\"\")","v":""},null,null,null,null,null,null,{"$f":"+IF(Z64=\"\",\"\",MAX(U$1:U63)+1)","v":""},{"$f":"IF(Limit_Deviation_Detail!B86=\"\",\"\",Limit_Deviation_Detail!B86)","v":""},{"$f":"IF(Limit_Deviation_Detail!C86=\"\",\"\",Limit_Deviation_Detail!C86)","v":""},{"$f":"IF(Limit_Deviation_Detail!E86=\"\",\"\",Limit_Deviation_Detail!E86)","v":""},"",{"$f":"IF(COUNTIF(Y$2:Y64,Y64)=1,Y64,\"\")","v":""},"","","","","",null,null,null,{"$f":"+IF(AN64=\"\",\"\",MAX(AI$1:AI63)+1)","v":""},{"$f":"IF(Affected_Sources!B86=\"\",\"\",Affected_Sources!B86)","v":""},{"$f":"IF(Affected_Sources!C86=\"\",\"\",Affected_Sources!C86)","v":""},{"$f":"IF(Affected_Sources!D86=\"\",\"\",Affected_Sources!D86)","v":""},"",{"$f":"IF(COUNTIF(AM$2:AM64,AM64)=1,AM64,\"\")","v":""},"","","","","",null,{"$f":"+IF(AZ64=\"\",\"\",MAX(AU$1:AU63)+1)","v":""},{"$f":"IF(CMS_Deviation_Detail!B86=\"\",\"\",CMS_Deviation_Detail!B86)","v":""},{"$f":"IF(CMS_Deviation_Detail!C86=\"\",\"\",CMS_Deviation_Detail!C86)","v":""},{"$f":"IF(CMS_Deviation_Detail!D86=\"\",\"\",CMS_Deviation_Detail!D86)","v":""},"",{"$f":"IF(COUNTIF(AY$2:AY64,AY64)=1,AY64,\"\")","v":""},"","","","","",null,{"$f":"+IF(BL64=\"\",\"\",MAX(BG$1:BG63)+1)","v":""},{"$f":"IF(CMS_Identification!B86=\"\",\"\",CMS_Identification!B86)","v":""},{"$f":"IF(CMS_Identification!C86=\"\",\"\",CMS_Identification!C86)","v":""},{"$f":"IF(CMS_Identification!E86=\"\",\"\",CMS_Identification!E86)","v":""},"",{"$f":"IF(COUNTIF(BK$2:BK64,BK64)=1,BK64,\"\")","v":""},"","","",""]
[{"$f":"+IF(D65=\"\",\"\",MAX(A$1:A64)+1)","v":""},{"$f":"IF(Affected_Sources!C87=\"\",\"\",Affected_Sources!C87)","v":""},"",{"$f":"IF(COUNTIF(B$2:B65,B65)=1,B65,\"\")","v":""},null,null,null,null,null,null,{"$f":"+IF(N65=\"\",\"\",MAX(K$1:K64)+1)","v":""},{"$f":"IF(CMS_Identification!E87=\"\",\"\",CMS_Identification!E87)","v":""},"",{"$f":"IF(COUNTIF(L$2:L65,L65)=1,L65,\"\")","v":""},null,null,null,null,null,null,{"$f":"+IF(Z65=\"\",\"\",MAX(U$1:U64)+1)","v":""},{"$f":"IF(Limit_Deviation_Detail!B87=\"\",\"\",Limit_Deviation_Detail!B87)","v":""},{"$f":"IF(Limit_Deviation_Detail!C87=\"\",\"\",Limit_Deviation_Detail!C87)","v":""},{"$f":"IF(Limit_Deviation_Detail!E87=\"\",\"\",Limit_Deviation_Detail!E87)","v":""},"",{"$f":"IF(COUNTIF(Y$2:Y65,Y65)=1,Y65,\"\")","v":""},"","","","","",null,null,null,{"$f":"+IF(AN65=\"\",\"\",MAX(AI$1:AI64)+1)","v":""},{"$f":"IF(Affected_Sources!B87=\"\",\"\",Affected_Sources!B87)","v":""},{"$f":"IF(Affected_Sources!C87=\"\",\"\",Affected_Sources!C87)","v":""},{"$f":"IF(Affected_Sources!D87=\"\",\"\",Affected_Sources!D87)","v":""},"",{"$f":"IF(COUNTIF(AM$2:AM65,AM65)=1,AM65,\"\")","v":""},"","","","","",null,{"$f":"+IF(AZ65=\"\",\"\",MAX(AU$1:AU64)+1)","v":""},{"$f":"IF(CMS_Deviation_Detail!B87=\"\",\"\",CMS_Deviation_Detail!B87)","v":""},{"$f":"IF(CMS_Deviation_Detail!C87=\"\",\"\",CMS_Deviation_Detail!C87)","v":""},{"$f":"IF(CMS_Deviation_Detail!D87=\"\",\"\",CMS_Deviation_Detail!D87)","v":""},"",{"$f":"IF(COUNTIF(AY$2:AY65,AY65)=1,AY65,\"\")","v":""},"","","","","",null,{"$f":"+IF(BL65=\"\",\"\",MAX(BG$1:BG64)+1)","v":""},{"$f":"IF(CMS_Identification!B87=\"\",\"\",CMS_Identification!B87)","v":""},{"$f":"IF(CMS_Identification!C87=\"\",\"\",CMS_Identification!C87)","v":""},{"$f":"IF(CMS_Identification!E87=\"\",\"\",CMS_Identification!E87)","v":""},"",{"$f":"IF(COUNTIF(BK$2:BK65,BK65)=1,BK65,\"\")","v":""},"","","",""]
[{"$f":"+IF(D66=\"\",\"\",MAX(A$1:A65)+1)","v":""},{"$f":"IF(Affected_Sources!C88=\"\",\"\",Affected_Sources!C88)","v":""},{"$f":"+IFERROR(INDEX(B$2:B$78,MATCH(ROW()-ROW($C$1),A$2:A$78,0)),\"\")","v":""},{"$f":"IF(COUNTIF(B$2:B66,B66)=1,B66,\"\")","v":""},null,null,null,null,null,null,{"$f":"+IF(N66=\"\",\"\",MAX(K$1:K65)+1)","v":""},{"$f":"IF(CMS_Identification!E88=\"\",\"\",CMS_Identification!E88)","v":""},{"$f":"+IFERROR(INDEX(L$2:L$501,MATCH(ROW()-ROW($M$1),K$2:K$501,0)),\"\")","v":""},{"$f":"IF(COUNTIF(L$2:L66,L66)=1,L66,\"\")","v":""},null,null,null,null,null,null,{"$f":"+IF(Z66=\"\",\"\",MAX(U$1:U65)+1)","v":""},{"$f":"IF(Limit_Deviation_Detail!B88=\"\",\"\",Limit_Deviation_Detail!B88)","v":""},{"$f":"IF(Limit_Deviation_Detail!C88=\"\",\"\",Limit_Deviation_Detail!C88)","v":""},{"$f":"IF(Limit_Deviation_Detail!E88=\"\",\"\",Limit_Deviation_Detail!E88)","v":""},{"$f":"V66&W66&X66","v":""},{"$f":"IF(COUNTIF(Y$2:Y66,Y66)=1,Y66,\"\")","v":""},{"$f":"+IFERROR(INDEX(V$2:V$955,MATCH(ROW()-ROW(Z$1),U$2:U$955,0)),\"\")","v":""},{"$f":"+IFERROR(INDEX(W$2:W$955,MATCH(ROW()-ROW(AA$1),U$2:U$955,0)),\"\")","v":""},{"$f":"+IFERROR(INDEX(X$2:X$955,MATCH(ROW()-ROW(AB$1),U$2:U$955,0)),\"\")","v":""},{"$f":"IF(AA66=\"\",\"\",AA66&AB66)","v":""},{"$f":"IF(AA66=\"\",\"\",VLOOKUP(AD66,$AO$2:$AS$78,5,FALSE))","v":""},null,null,null,{"$f":"+IF(AN66=\"\",\"\",MAX(AI$1:AI65)+1)","v":""},{"$f":"IF(Affected_Sources!B88=\"\",\"\",Affected_Sources!B88)","v":""},{"$f":"IF(Affected_Sources!C88=\"\",\"\",Affected_Sources!C88)","v":""},{"$f":"IF(Affected_Sources!D88=\"\",\"\",Affected_Sources!D88)","v":""},"",{"$f":"IF(COUNTIF(AM$2:AM66,AM66)=1,AM66,\"\")","v":""},{"$f":"AQ66&AR66","v":""},{"$f":"IF(AQ66=\"\",\"\",AQ66&\" \"&AR66)","v":""},{"$f":"+IFERROR(INDEX(AJ$2:AJ$78,MATCH(ROW()-ROW(AN$1),AI$2:AI$78,0)),\"\")","v":""},{"$f":"+IFERROR(INDEX(AK$2:AK$78,MATCH(ROW()-ROW(AQ$1),AI$2:AI$78,0)),\"\")","v":""},{"$f":"+IFERROR(INDEX(AL$2:AL$78,MATCH(ROW()-ROW(AR$1),AI$2:AI$78,0)),\"\")","v":""},null,{"$f":"+IF(AZ66=\"\",\"\",MAX(AU$1:AU65)+1)","v":""},{"$f":"IF(CMS_Deviation_Detail!B88=\"\",\"\",CMS_Deviation_Detail!B88)","v":""},{"$f":"IF(CMS_Deviation_Detail!C88=\"\",\"\",CMS_Deviation_Detail!C88)","v":""},{"$f":"IF(CMS_Deviation_Detail!D88=\"\",\"\",CMS_Deviation_Detail!D88)","v":""},"",{"$f":"IF(COUNTIF(AY$2:AY66,AY66)=1,AY66,\"\")","v":""},"","","","",{"$f":"IF(BA66=\"\",\"\",VLOOKUP(BD66,$AO$2:$AS$78,5,FALSE))","v":""},null,{"$f":"+IF(BL66=\"\",\"\",MAX(BG$1:BG65)+1)","v":""},{"$f":"IF(CMS_Identification!B88=\"\",\"\",CMS_Identification!B88)","v":""},{"$f":"IF(CMS_Identification!C88=\"\",\"\",CMS_Identification!C88)","v":""},{"$f":"IF(CMS_Identification!E88=\"\",\"\",CMS_Identification!E88)","v":""},"",{"$f":"IF(COUNTIF(BK$2:BK66,BK66)=1,BK66,\"\")","v":""},"","","",""]
[{"$f":"+IF(D67=\"\",\"\",MAX(A$1:A66)+1)","v":""},{"$f":"IF(Affected_Sources!C89=\"\",\"\",Affected_Sources!C89)","v":""},"",{"$f":"IF(COUNTIF(B$2:B67,B67)=1,B67,\"\")","v":""},null,null,null,null,null,null,{"$f":"+IF(N67=\"\",\"\",MAX(K$1:K66)+1)","v":""},{"$f":"IF(CMS_Identification!E89=\"\",\"\",CMS_Identification!E89)","v":""},"",{"$f":"IF(COUNTIF(L$2:L67,L67)=1,L67,\"\")","v":""},null,null,null,null,null,null,{"$f":"+IF(Z67=\"\",\"\",MAX(U$1:U66)+1)","v":""},{"$f":"IF(Limit_Deviation_Detail!B89=\"\",\"\",Limit_Deviation_Detail!B89)","v":""},{"$f":"IF(Limit_Deviation_Detail!C89=\"\",\"\",Limit_Deviation_Detail!C89)","v":""},{"$f":"IF(Limit_Deviation_Detail!E89=\"\",\"\",Limit_Deviation_Detail!E89)","v":""},"",{"$f":"IF(COUNTIF(Y$2:Y67,Y67)=1,Y67,\"\")","v":""},"","","","","",null,null,null,{"$f":"+IF(AN67=\"\",\"\",MAX(AI$1:AI66)+1)","v":""},{"$f":"IF(Affected_Sources!B89=\"\",\"\",Affected_Sources!B89)","v":""},{"$f":"IF(Affected_Sources!C89=\"\",\"\",Affected_Sources!C89)","v":""},{"$f":"IF(Affected_Sources!D89=\"\",\"\",Affected_Sources!D89)","v":""},{"$f":"AJ67&AK67","v":""},{"$f":"IF(COUNTIF(AM$2:AM67,AM67)=1,AM67,\"\")","v":""},"","","","","",null,{"$f":"+IF(AZ67=\"\",\"\",MAX(AU$1:AU66)+1)","v":""},{"$f":"IF(CMS_Deviation_Detail!B89=\"\",\"\",CMS_Deviation_Detail!B89)","v":""},{"$f":"IF(CMS_Deviation_Detail!C89=\"\",\"\",CMS_Deviation_Detail!C89)","v":""},{"$f":"IF(CMS_Deviation_Detail!D89=\"\",\"\",CMS_Deviation_Detail!D89)","v":""},{"$f":"AV67&AW67&AX67","v":""},{"$f":"IF(COUNTIF(AY$2:AY67,AY67)=1,AY67,\"\")","v":""},{"$f":"+IFERROR(INDEX(AV$2:AV$955,MATCH(ROW()-ROW(AZ$1),AU$2:AU$955,0)),\"\")","v":""},{"$f":"+IFERROR(INDEX(AW$2:AW$955,MATCH(ROW()-ROW(BA$1),AU$2:AU$955,0)),\"\")","v":""},{"$f":"+IFERROR(INDEX(AX$2:AX$955,MATCH(ROW()-ROW(BB$1),AU$2:AU$955,0)),\"\")","v":""},{"$f":"IF(BA67=\"\",\"\",BA67&BB67)","v":""},"",null,{"$f":"+IF(BL67=\"\",\"\",MAX(BG$1:BG66)+1)","v":""},{"$f":"IF(CMS_Identification!B89=\"\",\"\",CMS_Identification!B89)","v":""},{"$f":"IF(CMS_Identification!C89=\"\",\"\",CMS_Identification!C89)","v":""},{"$f":"IF(CMS_Identification!E89=\"\",\"\",CMS_Identification!E89)","v":""},{"$f":"BH67&BI67&BJ67","v":""},{"$f":"IF(COUNTIF(BK$2:BK67,BK67)=1,BK67,\"\")","v":""},{"$f":"IF(BH67=\"\",\"\",BH67&\" \"&BI67&\" \"&BJ67)","v":""},{"$f":"+IFERROR(INDEX(BH$2:BH$78,MATCH(ROW()-ROW(BL$1),BG$2:BG$78,0)),\"\")","v":""},{"$f":"+IFERROR(INDEX(BI$2:BI$78,MATCH(ROW()-ROW(BN$1),BG$2:BG$78,0)),\"\")","v":""},{"$f":"+IFERROR(INDEX(BJ$2:BJ$78,MATCH(ROW()-ROW(BO$1),BG$2:BG$78,0)),\"\")","v":""}]
[{"$f":"+IF(D68=\"\",\"\",MAX(A$1:A67)+1)","v":""},{"$f":"IF(Affected_Sources!C90=\"\",\"\",Affected_Sources!C90)","v":""},"",{"$f":"IF(COUNTIF(B$2:B68,B68)=1,B68,\"\")","v":""},null,null,null,null,null,null,{"$f":"+IF(N68=\"\",\"\",MAX(K$1:K67)+1)","v":""},{"$f":"IF(CMS_Identification!E90=\"\",\"\",CMS_Identification!E90)","v":""},"",{"$f":"IF(COUNTIF(L$2:L68,L68)=1,L68,\"\")","v":""},null,null,null,null,null,null,{"$f":"+IF(Z68=\"\",\"\",MAX(U$1:U67)+1)","v":""},{"$f":"IF(Limit_Deviation_Detail!B90=\"\",\"\",Limit_Deviation_Detail!B90)","v":""},{"$f":"IF(Limit_Deviation_Detail!C90=\"\",\"\",Limit_Deviation_Detail!C90)","v":""},{"$f":"IF(Limit_Deviation_Detail!E90=\"\",\"\",Limit_Deviation_Detail!E90)","v":""},"",{"$f":"IF(COUNTIF(Y$2:Y68,Y68)=1,Y68,\"\")","v":""},"","","","","",null,null,null,{"$f":"+IF(AN68=\"\",\"\",MAX(AI$1:AI67)+1)","v":""},{"$f":"IF(Affected_Sources!B90=\"\",\"\",Affected_Sources!B90)","v":""},{"$f":"IF(Affected_Sources!C90=\"\",\"\",Affected_Sources!C90)","v":""},{"$f":"IF(Affected_Sources!D90=\"\",\"\",Affected_Sources!D90)","v":""},"",{"$f":"IF(COUNTIF(AM$2:AM68,AM68)=1,AM68,\"\")","v":""},"","","","","",null,{"$f":"+IF(AZ68=\"\",\"\",MAX(AU$1:AU67)+1)","v":""},{"$f":"IF(CMS_Deviation_Detail!B90=\"\",\"\",CMS_Deviation_Detail!B90)","v":""},{"$f":"IF(CMS_Deviation_Detail!C90=\"\",\"\",CMS_Deviation_Detail!C90)","v":""},{"$f":"IF(CMS_Deviation_Detail!D90=\"\",\"\",CMS_Deviation_Detail!D90)","v":""},"",{"$f":"IF(COUNTIF(AY$2:AY68,AY68)=1,AY68,\"\")","v":""},"","","","","",null,{"$f":"+IF(BL68=\"\",\"\",MAX(BG$1:BG67)+1)","v":""},{"$f":"IF(CMS_Identification!B90=\"\",\"\",CMS_Identification!B90)","v":""},{"$f":"IF(CMS_Identification!C90=\"\",\"\",CMS_Identification!C90)","v":""},{"$f":"IF(CMS_Identification!E90=\"\",\"\",CMS_Identification!E90)","v":""},"",{"$f":"IF(COUNTIF(BK$2:BK68,BK68)=1,BK68,\"\")","v":""},"","","",""]
[{"$f":"+IF(D69=\"\",\"\",MAX(A$1:A68)+1)","v":""},{"$f":"IF(Affected_Sources!C91=\"\",\"\",Affected_Sources!C91)","v":""},"",{"$f":"IF(COUNTIF(B$2:B69,B69)=1,B69,\"\")","v":""},null,null,null,null,null,null,{"$f":"+IF(N69=\"\",\"\",MAX(K$1:K68)+1)","v":""},{"$f":"IF(CMS_Identification!E91=\"\",\"\",CMS_Identification!E91)","v":""},"",{"$f":"IF(COUNTIF(L$2:L69,L69)=1,L69,\"\")","v":""},null,null,null,null,null,null,{"$f":"+IF(Z69=\"\",\"\",MAX(U$1:U68)+1)","v":""},{"$f":"IF(Limit_Deviation_Detail!B91=\"\",\"\",Limit_Deviation_Detail!B91)","v":""},{"$f":"IF(Limit_Deviation_Detail!C91=\"\",\"\",Limit_Deviation_Detail!C91)","v":""},{"$f":"IF(Limit_Deviation_Detail!E91=\"\",\"\",Limit_Deviation_Detail!E91)","v":""},"",{"$f":"IF(COUNTIF(Y$2:Y69,Y69)=1,Y69,\"\")","v":""},"","","","","",null,null,null,{"$f":"+IF(AN69=\"\",\"\",MAX(AI$1:AI68)+1)","v":""},{"$f":"IF(Affected_Sources!B91=\"\",\"\",Affected_Sources!B91)","v":""},{"$f":"IF(Affected_Sources!C91=\"\",\"\",Affected_Sources!C91)","v":""},{"$f":"IF(Affected_Sources!D91=\"\",\"\",Affected_Sources!D91)","v":""},"",{"$f":"IF(COUNTIF(AM$2:AM69,AM69)=1,AM69,\"\")","v":""},"","","","","",null,{"$f":"+IF(AZ69=\"\",\"\",MAX(AU$1:AU68)+1)","v":""},{"$f":"IF(CMS_Deviation_Detail!B91=\"\",\"\",CMS_Deviation_Detail!B91)","v":""},{"$f":"IF(CMS_Deviation_Detail!C91=\"\",\"\",CMS_Deviation_Detail!C91)","v":""},{"$f":"IF(CMS_Deviation_Detail!D91=\"\",\"\",CMS_Deviation_Detail!D91)","v":""},"",{"$f":"IF(COUNTIF(AY$2:AY69,AY69)=1,AY69,\"\")","v":""},"","","","","",null,{"$f":"+IF(BL69=\"\",\"\",MAX(BG$1:BG68)+1)","v":""},{"$f":"IF(CMS_Identification!B91=\"\",\"\",CMS_Identification!B91)","v":""},{"$f":"IF(CMS_Identification!C91=\"\",\"\",CMS_Identification!C91)","v":""},{"$f":"IF(CMS_Identification!E91=\"\",\"\",CMS_Identification!E91)","v":""},"",{"$f":"IF(COUNTIF(BK$2:BK69,BK69)=1,BK69,\"\")","v":""},"","","",""]
[{"$f":"+IF(D70=\"\",\"\",MAX(A$1:A69)+1)","v":""},{"$f":"IF(Affected_Sources!C92=\"\",\"\",Affected_Sources!C92)","v":""},"",{"$f":"IF(COUNTIF(B$2:B70,B70)=1,B70,\"\")","v":""},null,null,null,null,null,null,{"$f":"+IF(N70=\"\",\"\",MAX(K$1:K69)+1)","v":""},{"$f":"IF(CMS_Identification!E92=\"\",\"\",CMS_Identification!E92)","v":""},"",{"$f":"IF(COUNTIF(L$2:L70,L70)=1,L70,\"\")","v":""},null,null,null,null,null,null,{"$f":"+IF(Z70=\"\",\"\",MAX(U$1:U69)+1)","v":""},{"$f":"IF(Limit_Deviation_Detail!B92=\"\",\"\",Limit_Deviation_Detail!B92)","v":""},{"$f":"IF(Limit_Deviation_Detail!C92=\"\",\"\",Limit_Deviation_Detail!C92)","v":""},{"$f":"IF(Limit_Deviation_Detail!E92=\"\",\"\",Limit_Deviation_Detail!E92)","v":""},"",{"$f":"IF(COUNTIF(Y$2:Y70,Y70)=1,Y70,\"\")","v":""},"","","","","",null,null,null,{"$f":"+IF(AN70=\"\",\"\",MAX(AI$1:AI69)+1)","v":""},{"$f":"IF(Affected_Sources!B92=\"\",\"\",Affected_Sources!B92)","v":""},{"$f":"IF(Affected_Sources!C92=\"\",\"\",Affected_Sources!C92)","v":""},{"$f":"IF(Affected_Sources!D92=\"\",\"\",Affected_Sources!D92)","v":""},"",{"$f":"IF(COUNTIF(AM$2:AM70,AM70)=1,AM70,\"\")","v":""},"","","","","",null,{"$f":"+IF(AZ70=\"\",\"\",MAX(AU$1:AU69)+1)","v":""},{"$f":"IF(CMS_Deviation_Detail!B92=\"\",\"\",CMS_Deviation_Detail!B92)","v":""},{"$f":"IF(CMS_Deviation_Detail!C92=\"\",\"\",CMS_Deviation_Detail!C92)","v":""},{"$f":"IF(CMS_Deviation_Detail!D92=\"\",\"\",CMS_Deviation_Detail!D92)","v":""},"",{"$f":"IF(COUNTIF(AY$2:AY70,AY70)=1,AY70,\"\")","v":""},"","","","","",null,{"$f":"+IF(BL70=\"\",\"\",MAX(BG$1:BG69)+1)","v":""},{"$f":"IF(CMS_Identification!B92=\"\",\"\",CMS_Identification!B92)","v":""},{"$f":"IF(CMS_Identification!C92=\"\",\"\",CMS_Identification!C92)","v":""},{"$f":"IF(CMS_Identification!E92=\"\",\"\",CMS_Identification!E92)","v":""},"",{"$f":"IF(COUNTIF(BK$2:BK70,BK70)=1,BK70,\"\")","v":""},"","","",""]
[{"$f":"+IF(D71=\"\",\"\",MAX(A$1:A70)+1)","v":""},{"$f":"IF(Affected_Sources!C93=\"\",\"\",Affected_Sources!C93)","v":""},"",{"$f":"IF(COUNTIF(B$2:B71,B71)=1,B71,\"\")","v":""},null,null,null,null,null,null,{"$f":"+IF(N71=\"\",\"\",MAX(K$1:K70)+1)","v":""},{"$f":"IF(CMS_Identification!E93=\"\",\"\",CMS_Identification!E93)","v":""},"",{"$f":"IF(COUNTIF(L$2:L71,L71)=1,L71,\"\")","v":""},null,null,null,null,null,null,{"$f":"+IF(Z71=\"\",\"\",MAX(U$1:U70)+1)","v":""},{"$f":"IF(Limit_Deviation_Detail!B93=\"\",\"\",Limit_Deviation_Detail!B93)","v":""},{"$f":"IF(Limit_Deviation_Detail!C93=\"\",\"\",Limit_Deviation_Detail!C93)","v":""},{"$f":"IF(Limit_Deviation_Detail!E93=\"\",\"\",Limit_Deviation_Detail!E93)","v":""},"",{"$f":"IF(COUNTIF(Y$2:Y71,Y71)=1,Y71,\"\")","v":""},"","","","","",null,null,null,{"$f":"+IF(AN71=\"\",\"\",MAX(AI$1:AI70)+1)","v":""},{"$f":"IF(Affected_Sources!B93=\"\",\"\",Affected_Sources!B93)","v":""},{"$f":"IF(Affected_Sources!C93=\"\",\"\",Affected_Sources!C93)","v":""},{"$f":"IF(Affected_Sources!D93=\"\",\"\",Affected_Sources!D93)","v":""},"",{"$f":"IF(COUNTIF(AM$2:AM71,AM71)=1,AM71,\"\")","v":""},"","","","","",null,{"$f":"+IF(AZ71=\"\",\"\",MAX(AU$1:AU70)+1)","v":""},{"$f":"IF(CMS_Deviation_Detail!B93=\"\",\"\",CMS_Deviation_Detail!B93)","v":""},{"$f":"IF(CMS_Deviation_Detail!C93=\"\",\"\",CMS_Deviation_Detail!C93)","v":""},{"$f":"IF(CMS_Deviation_Detail!D93=\"\",\"\",CMS_Deviation_Detail!D93)","v":""},"",{"$f":"IF(COUNTIF(AY$2:AY71,AY71)=1,AY71,\"\")","v":""},"","","","","",null,{"$f":"+IF(BL71=\"\",\"\",MAX(BG$1:BG70)+1)","v":""},{"$f":"IF(CMS_Identification!B93=\"\",\"\",CMS_Identification!B93)","v":""},{"$f":"IF(CMS_Identification!C93=\"\",\"\",CMS_Identification!C93)","v":""},{"$f":"IF(CMS_Identification!E93=\"\",\"\",CMS_Identification!E93)","v":""},"",{"$f":"IF(COUNTIF(BK$2:BK71,BK71)=1,BK71,\"\")","v":""},"","","",""]
[{"$f":"+IF(D72=\"\",\"\",MAX(A$1:A71)+1)","v":""},{"$f":"IF(Affected_Sources!C94=\"\",\"\",Affected_Sources!C94)","v":""},"",{"$f":"IF(COUNTIF(B$2:B72,B72)=1,B72,\"\")","v":""},null,null,null,null,null,null,{"$f":"+IF(N72=\"\",\"\",MAX(K$1:K71)+1)","v":""},{"$f":"IF(CMS_Identification!E94=\"\",\"\",CMS_Identification!E94)","v":""},"",{"$f":"IF(COUNTIF(L$2:L72,L72)=1,L72,\"\")","v":""},null,null,null,null,null,null,{"$f":"+IF(Z72=\"\",\"\",MAX(U$1:U71)+1)","v":""},{"$f":"IF(Limit_Deviation_Detail!B94=\"\",\"\",Limit_Deviation_Detail!B94)","v":""},{"$f":"IF(Limit_Deviation_Detail!C94=\"\",\"\",Limit_Deviation_Detail!C94)","v":""},{"$f":"IF(Limit_Deviation_Detail!E94=\"\",\"\",Limit_Deviation_Detail!E94)","v":""},"",{"$f":"IF(COUNTIF(Y$2:Y72,Y72)=1,Y72,\"\")","v":""},"","","","","",null,null,null,{"$f":"+IF(AN72=\"\",\"\",MAX(AI$1:AI71)+1)","v":""},{"$f":"IF(Affected_Sources!B94=\"\",\"\",Affected_Sources!B94)","v":""},{"$f":"IF(Affected_Sources!C94=\"\",\"\",Affected_Sources!C94)","v":""},{"$f":"IF(Affected_Sources!D94=\"\",\"\",Affected_Sources!D94)","v":""},"",{"$f":"IF(COUNTIF(AM$2:AM72,AM72)=1,AM72,\"\")","v":""},"","","","","",null,{"$f":"+IF(AZ72=\"\",\"\",MAX(AU$1:AU71)+1)","v":""},{"$f":"IF(CMS_Deviation_Detail!B94=\"\",\"\",CMS_Deviation_Detail!B94)","v":""},{"$f":"IF(CMS_Deviation_Detail!C94=\"\",\"\",CMS_Deviation_Detail!C94)","v":""},{"$f":"IF(CMS_Deviation_Detail!D94=\"\",\"\",CMS_Deviation_Detail!D94)","v":""},"",{"$f":"IF(COUNTIF(AY$2:AY72,AY72)=1,AY72,\"\")","v":""},"","","","","",null,{"$f":"+IF(BL72=\"\",\"\",MAX(BG$1:BG71)+1)","v":""},{"$f":"IF(CMS_Identification!B94=\"\",\"\",CMS_Identification!B94)","v":""},{"$f":"IF(CMS_Identification!C94=\"\",\"\",CMS_Identification!C94)","v":""},{"$f":"IF(CMS_Identification!E94=\"\",\"\",CMS_Identification!E94)","v":""},"",{"$f":"IF(COUNTIF(BK$2:BK72,BK72)=1,BK72,\"\")","v":""},"","","",""]
[{"$f":"+IF(D73=\"\",\"\",MAX(A$1:A72)+1)","v":""},{"$f":"IF(Affected_Sources!C95=\"\",\"\",Affected_Sources!C95)","v":""},"",{"$f":"IF(COUNTIF(B$2:B73,B73)=1,B73,\"\")","v":""},null,null,null,null,null,null,{"$f":"+IF(N73=\"\",\"\",MAX(K$1:K72)+1)","v":""},{"$f":"IF(CMS_Identification!E95=\"\",\"\",CMS_Identification!E95)","v":""},"",{"$f":"IF(COUNTIF(L$2:L73,L73)=1,L73,\"\")","v":""},null,null,null,null,null,null,{"$f":"+IF(Z73=\"\",\"\",MAX(U$1:U72)+1)","v":""},{"$f":"IF(Limit_Deviation_Detail!B95=\"\",\"\",Limit_Deviation_Detail!B95)","v":""},{"$f":"IF(Limit_Deviation_Detail!C95=\"\",\"\",Limit_Deviation_Detail!C95)","v":""},{"$f":"IF(Limit_Deviation_Detail!E95=\"\",\"\",Limit_Deviation_Detail!E95)","v":""},"",{"$f":"IF(COUNTIF(Y$2:Y73,Y73)=1,Y73,\"\")","v":""},"","","","","",null,null,null,{"$f":"+IF(AN73=\"\",\"\",MAX(AI$1:AI72)+1)","v":""},{"$f":"IF(Affected_Sources!B95=\"\",\"\",Affected_Sources!B95)","v":""},{"$f":"IF(Affected_Sources!C95=\"\",\"\",Affected_Sources!C95)","v":""},{"$f":"IF(Affected_Sources!D95=\"\",\"\",Affected_Sources!D95)","v":""},"",{"$f":"IF(COUNTIF(AM$2:AM73,AM73)=1,AM73,\"\")","v":""},"","","","","",null,{"$f":"+IF(AZ73=\"\",\"\",MAX(AU$1:AU72)+1)","v":""},{"$f":"IF(CMS_Deviation_Detail!B95=\"\",\"\",CMS_Deviation_Detail!B95)","v":""},{"$f":"IF(CMS_Deviation_Detail!C95=\"\",\"\",CMS_Deviation_Detail!C95)","v":""},{"$f":"IF(CMS_Deviation_Detail!D95=\"\",\"\",CMS_Deviation_Detail!D95)","v":""},"",{"$f":"IF(COUNTIF(AY$2:AY73,AY73)=1,AY73,\"\")","v":""},"","","","","",null,{"$f":"+IF(BL73=\"\",\"\",MAX(BG$1:BG72)+1)","v":""},{"$f":"IF(CMS_Identification!B95=\"\",\"\",CMS_Identification!B95)","v":""},{"$f":"IF(CMS_Identification!C95=\"\",\"\",CMS_Identification!C95)","v":""},{"$f":"IF(CMS_Identification!E95=\"\",\"\",CMS_Identification!E95)","v":""},"",{"$f":"IF(COUNTIF(BK$2:BK73,BK73)=1,BK73,\"\")","v":""},"","","",""]
[{"$f":"+IF(D74=\"\",\"\",MAX(A$1:A73)+1)","v":""},{"$f":"IF(Affected_Sources!C96=\"\",\"\",Affected_Sources!C96)","v":""},"",{"$f":"IF(COUNTIF(B$2:B74,B74)=1,B74,\"\")","v":""},null,null,null,null,null,null,{"$f":"+IF(N74=\"\",\"\",MAX(K$1:K73)+1)","v":""},{"$f":"IF(CMS_Identification!E96=\"\",\"\",CMS_Identification!E96)","v":""},"",{"$f":"IF(COUNTIF(L$2:L74,L74)=1,L74,\"\")","v":""},null,null,null,null,null,null,{"$f":"+IF(Z74=\"\",\"\",MAX(U$1:U73)+1)","v":""},{"$f":"IF(Limit_Deviation_Detail!B96=\"\",\"\",Limit_Deviation_Detail!B96)","v":""},{"$f":"IF(Limit_Deviation_Detail!C96=\"\",\"\",Limit_Deviation_Detail!C96)","v":""},{"$f":"IF(Limit_Deviation_Detail!E96=\"\",\"\",Limit_Deviation_Detail!E96)","v":""},"",{"$f":"IF(COUNTIF(Y$2:Y74,Y74)=1,Y74,\"\")","v":""},"","","","","",null,null,null,{"$f":"+IF(AN74=\"\",\"\",MAX(AI$1:AI73)+1)","v":""},{"$f":"IF(Affected_Sources!B96=\"\",\"\",Affected_Sources!B96)","v":""},{"$f":"IF(Affected_Sources!C96=\"\",\"\",Affected_Sources!C96)","v":""},{"$f":"IF(Affected_Sources!D96=\"\",\"\",Affected_Sources!D96)","v":""},"",{"$f":"IF(COUNTIF(AM$2:AM74,AM74)=1,AM74,\"\")","v":""},"","","","","",null,{"$f":"+IF(AZ74=\"\",\"\",MAX(AU$1:AU73)+1)","v":""},{"$f":"IF(CMS_Deviation_Detail!B96=\"\",\"\",CMS_Deviation_Detail!B96)","v":""},{"$f":"IF(CMS_Deviation_Detail!C96=\"\",\"\",CMS_Deviation_Detail!C96)","v":""},{"$f":"IF(CMS_Deviation_Detail!D96=\"\",\"\",CMS_Deviation_Detail!D96)","v":""},"",{"$f":"IF(COUNTIF(AY$2:AY74,AY74)=1,AY74,\"\")","v":""},"","","","","",null,{"$f":"+IF(BL74=\"\",\"\",MAX(BG$1:BG73)+1)","v":""},{"$f":"IF(CMS_Identification!B96=\"\",\"\",CMS_Identification!B96)","v":""},{"$f":"IF(CMS_Identification!C96=\"\",\"\",CMS_Identification!C96)","v":""},{"$f":"IF(CMS_Identification!E96=\"\",\"\",CMS_Identification!E96)","v":""},"",{"$f":"IF(COUNTIF(BK$2:BK74,BK74)=1,BK74,\"\")","v":""},"","","",""]
[{"$f":"+IF(D75=\"\",\"\",MAX(A$1:A74)+1)","v":""},{"$f":"IF(Affected_Sources!C97=\"\",\"\",Affected_Sources!C97)","v":""},"",{"$f":"IF(COUNTIF(B$2:B75,B75)=1,B75,\"\")","v":""},null,null,null,null,null,null,{"$f":"+IF(N75=\"\",\"\",MAX(K$1:K74)+1)","v":""},{"$f":"IF(CMS_Identification!E97=\"\",\"\",CMS_Identification!E97)","v":""},"",{"$f":"IF(COUNTIF(L$2:L75,L75)=1,L75,\"\")","v":""},null,null,null,null,null,null,{"$f":"+IF(Z75=\"\",\"\",MAX(U$1:U74)+1)","v":""},{"$f":"IF(Limit_Deviation_Detail!B97=\"\",\"\",Limit_Deviation_Detail!B97)","v":""},{"$f":"IF(Limit_Deviation_Detail!C97=\"\",\"\",Limit_Deviation_Detail!C97)","v":""},{"$f":"IF(Limit_Deviation_Detail!E97=\"\",\"\",Limit_Deviation_Detail!E97)","v":""},"",{"$f":"IF(COUNTIF(Y$2:Y75,Y75)=1,Y75,\"\")","v":""},"","","","","",null,null,null,{"$f":"+IF(AN75=\"\",\"\",MAX(AI$1:AI74)+1)","v":""},{"$f":"IF(Affected_Sources!B97=\"\",\"\",Affected_Sources!B97)","v":""},{"$f":"IF(Affected_Sources!C97=\"\",\"\",Affected_Sources!C97)","v":""},{"$f":"IF(Affected_Sources!D97=\"\",\"\",Affected_Sources!D97)","v":""},"",{"$f":"IF(COUNTIF(AM$2:AM75,AM75)=1,AM75,\"\")","v":""},"","","","","",null,{"$f":"+IF(AZ75=\"\",\"\",MAX(AU$1:AU74)+1)","v":""},{"$f":"IF(CMS_Deviation_Detail!B97=\"\",\"\",CMS_Deviation_Detail!B97)","v":""},{"$f":"IF(CMS_Deviation_Detail!C97=\"\",\"\",CMS_Deviation_Detail!C97)","v":""},{"$f":"IF(CMS_Deviation_Detail!D97=\"\",\"\",CMS_Deviation_Detail!D97)","v":""},"",{"$f":"IF(COUNTIF(AY$2:AY75,AY75)=1,AY75,\"\")","v":""},"","","","","",null,{"$f":"+IF(BL75=\"\",\"\",MAX(BG$1:BG74)+1)","v":""},{"$f":"IF(CMS_Identification!B97=\"\",\"\",CMS_Identification!B97)","v":""},{"$f":"IF(CMS_Identification!C97=\"\",\"\",CMS_Identification!C97)","v":""},{"$f":"IF(CMS_Identification!E97=\"\",\"\",CMS_Identification!E97)","v":""},"",{"$f":"IF(COUNTIF(BK$2:BK75,BK75)=1,BK75,\"\")","v":""},"","","",""]
[{"$f":"+IF(D76=\"\",\"\",MAX(A$1:A75)+1)","v":""},{"$f":"IF(Affected_Sources!C98=\"\",\"\",Affected_Sources!C98)","v":""},"",{"$f":"IF(COUNTIF(B$2:B76,B76)=1,B76,\"\")","v":""},null,null,null,null,null,null,{"$f":"+IF(N76=\"\",\"\",MAX(K$1:K75)+1)","v":""},{"$f":"IF(CMS_Identification!E98=\"\",\"\",CMS_Identification!E98)","v":""},"",{"$f":"IF(COUNTIF(L$2:L76,L76)=1,L76,\"\")","v":""},null,null,null,null,null,null,{"$f":"+IF(Z76=\"\",\"\",MAX(U$1:U75)+1)","v":""},{"$f":"IF(Limit_Deviation_Detail!B98=\"\",\"\",Limit_Deviation_Detail!B98)","v":""},{"$f":"IF(Limit_Deviation_Detail!C98=\"\",\"\",Limit_Deviation_Detail!C98)","v":""},{"$f":"IF(Limit_Deviation_Detail!E98=\"\",\"\",Limit_Deviation_Detail!E98)","v":""},"",{"$f":"IF(COUNTIF(Y$2:Y76,Y76)=1,Y76,\"\")","v":""},"","","","","",null,null,null,{"$f":"+IF(AN76=\"\",\"\",MAX(AI$1:AI75)+1)","v":""},{"$f":"IF(Affected_Sources!B98=\"\",\"\",Affected_Sources!B98)","v":""},{"$f":"IF(Affected_Sources!C98=\"\",\"\",Affected_Sources!C98)","v":""},{"$f":"IF(Affected_Sources!D98=\"\",\"\",Affected_Sources!D98)","v":""},"",{"$f":"IF(COUNTIF(AM$2:AM76,AM76)=1,AM76,\"\")","v":""},"","","","","",null,{"$f":"+IF(AZ76=\"\",\"\",MAX(AU$1:AU75)+1)","v":""},{"$f":"IF(CMS_Deviation_Detail!B98=\"\",\"\",CMS_Deviation_Detail!B98)","v":""},{"$f":"IF(CMS_Deviation_Detail!C98=\"\",\"\",CMS_Deviation_Detail!C98)","v":""},{"$f":"IF(CMS_Deviation_Detail!D98=\"\",\"\",CMS_Deviation_Detail!D98)","v":""},"",{"$f":"IF(COUNTIF(AY$2:AY76,AY76)=1,AY76,\"\")","v":""},"","","","","",null,{"$f":"+IF(BL76=\"\",\"\",MAX(BG$1:BG75)+1)","v":""},{"$f":"IF(CMS_Identification!B98=\"\",\"\",CMS_Identification!B98)","v":""},{"$f":"IF(CMS_Identification!C98=\"\",\"\",CMS_Identification!C98)","v":""},{"$f":"IF(CMS_Identification!E98=\"\",\"\",CMS_Identification!E98)","v":""},"",{"$f":"IF(COUNTIF(BK$2:BK76,BK76)=1,BK76,\"\")","v":""},"","","",""]
[{"$f":"+IF(D77=\"\",\"\",MAX(A$1:A76)+1)","v":""},{"$f":"IF(Affected_Sources!C99=\"\",\"\",Affected_Sources!C99)","v":""},"",{"$f":"IF(COUNTIF(B$2:B77,B77)=1,B77,\"\")","v":""},null,null,null,null,null,null,{"$f":"+IF(N77=\"\",\"\",MAX(K$1:K76)+1)","v":""},{"$f":"IF(CMS_Identification!E99=\"\",\"\",CMS_Identification!E99)","v":""},"",{"$f":"IF(COUNTIF(L$2:L77,L77)=1,L77,\"\")","v":""},null,null,null,null,null,null,{"$f":"+IF(Z77=\"\",\"\",MAX(U$1:U76)+1)","v":""},{"$f":"IF(Limit_Deviation_Detail!B99=\"\",\"\",Limit_Deviation_Detail!B99)","v":""},{"$f":"IF(Limit_Deviation_Detail!C99=\"\",\"\",Limit_Deviation_Detail!C99)","v":""},{"$f":"IF(Limit_Deviation_Detail!E99=\"\",\"\",Limit_Deviation_Detail!E99)","v":""},"",{"$f":"IF(COUNTIF(Y$2:Y77,Y77)=1,Y77,\"\")","v":""},"","","","","",null,null,null,{"$f":"+IF(AN77=\"\",\"\",MAX(AI$1:AI76)+1)","v":""},{"$f":"IF(Affected_Sources!B99=\"\",\"\",Affected_Sources!B99)","v":""},{"$f":"IF(Affected_Sources!C99=\"\",\"\",Affected_Sources!C99)","v":""},{"$f":"IF(Affected_Sources!D99=\"\",\"\",Affected_Sources!D99)","v":""},"",{"$f":"IF(COUNTIF(AM$2:AM77,AM77)=1,AM77,\"\")","v":""},"","","","","",null,{"$f":"+IF(AZ77=\"\",\"\",MAX(AU$1:AU76)+1)","v":""},{"$f":"IF(CMS_Deviation_Detail!B99=\"\",\"\",CMS_Deviation_Detail!B99)","v":""},{"$f":"IF(CMS_Deviation_Detail!C99=\"\",\"\",CMS_Deviation_Detail!C99)","v":""},{"$f":"IF(CMS_Deviation_Detail!D99=\"\",\"\",CMS_Deviation_Detail!D99)","v":""},"",{"$f":"IF(COUNTIF(AY$2:AY77,AY77)=1,AY77,\"\")","v":""},"","","","","",null,{"$f":"+IF(BL77=\"\",\"\",MAX(BG$1:BG76)+1)","v":""},{"$f":"IF(CMS_Identification!B99=\"\",\"\",CMS_Identification!B99)","v":""},{"$f":"IF(CMS_Identification!C99=\"\",\"\",CMS_Identification!C99)","v":""},{"$f":"IF(CMS_Identification!E99=\"\",\"\",CMS_Identification!E99)","v":""},"",{"$f":"IF(COUNTIF(BK$2:BK77,BK77)=1,BK77,\"\")","v":""},"","","",""]
[{"$f":"+IF(D78=\"\",\"\",MAX(A$1:A77)+1)","v":""},{"$f":"IF(Affected_Sources!C100=\"\",\"\",Affected_Sources!C100)","v":""},"",{"$f":"IF(COUNTIF(B$2:B78,B78)=1,B78,\"\")","v":""},null,null,null,null,null,null,{"$f":"+IF(N78=\"\",\"\",MAX(K$1:K77)+1)","v":""},{"$f":"IF(CMS_Identification!E100=\"\",\"\",CMS_Identification!E100)","v":""},"",{"$f":"IF(COUNTIF(L$2:L78,L78)=1,L78,\"\")","v":""},null,null,null,null,null,null,{"$f":"+IF(Z78=\"\",\"\",MAX(U$1:U77)+1)","v":""},{"$f":"IF(Limit_Deviation_Detail!B100=\"\",\"\",Limit_Deviation_Detail!B100)","v":""},{"$f":"IF(Limit_Deviation_Detail!C100=\"\",\"\",Limit_Deviation_Detail!C100)","v":""},{"$f":"IF(Limit_Deviation_Detail!E100=\"\",\"\",Limit_Deviation_Detail!E100)","v":""},"",{"$f":"IF(COUNTIF(Y$2:Y78,Y78)=1,Y78,\"\")","v":""},"","","","","",null,null,null,{"$f":"+IF(AN78=\"\",\"\",MAX(AI$1:AI77)+1)","v":""},{"$f":"IF(Affected_Sources!B100=\"\",\"\",Affected_Sources!B100)","v":""},{"$f":"IF(Affected_Sources!C100=\"\",\"\",Affected_Sources!C100)","v":""},{"$f":"IF(Affected_Sources!D100=\"\",\"\",Affected_Sources!D100)","v":""},"",{"$f":"IF(COUNTIF(AM$2:AM78,AM78)=1,AM78,\"\")","v":""},"","","","","",null,{"$f":"+IF(AZ78=\"\",\"\",MAX(AU$1:AU77)+1)","v":""},{"$f":"IF(CMS_Deviation_Detail!B100=\"\",\"\",CMS_Deviation_Detail!B100)","v":""},{"$f":"IF(CMS_Deviation_Detail!C100=\"\",\"\",CMS_Deviation_Detail!C100)","v":""},{"$f":"IF(CMS_Deviation_Detail!D100=\"\",\"\",CMS_Deviation_Detail!D100)","v":""},"",{"$f":"IF(COUNTIF(AY$2:AY78,AY78)=1,AY78,\"\")","v":""},"","","","","",null,{"$f":"+IF(BL78=\"\",\"\",MAX(BG$1:BG77)+1)","v":""},{"$f":"IF(CMS_Identification!B100=\"\",\"\",CMS_Identification!B100)","v":""},{"$f":"IF(CMS_Identification!C100=\"\",\"\",CMS_Identification!C100)","v":""},{"$f":"IF(CMS_Identification!E100=\"\",\"\",CMS_Identification!E100)","v":""},"",{"$f":"IF(COUNTIF(BK$2:BK78,BK78)=1,BK78,\"\")","v":""},"","","",""]
[null,null,null,null,null,null,null,null,null,null,{"$f":"+IF(N79=\"\",\"\",MAX(K$1:K78)+1)","v":""},{"$f":"IF(CMS_Identification!E101=\"\",\"\",CMS_Identification!E101)","v":""},"",{"$f":"IF(COUNTIF(L$2:L79,L79)=1,L79,\"\")","v":""},null,null,null,null,null,null,{"$f":"+IF(Z79=\"\",\"\",MAX(U$1:U78)+1)","v":""},{"$f":"IF(Limit_Deviation_Detail!B101=\"\",\"\",Limit_Deviation_Detail!B101)","v":""},{"$f":"IF(Limit_Deviation_Detail!C101=\"\",\"\",Limit_Deviation_Detail!C101)","v":""},{"$f":"IF(Limit_Deviation_Detail!E101=\"\",\"\",Limit_Deviation_Detail!E101)","v":""},"",{"$f":"IF(COUNTIF(Y$2:Y79,Y79)=1,Y79,\"\")","v":""},"","","","","",null,null,null,null,null,null,null,null,null,null,null,null,null,null,null,{"$f":"+IF(AZ79=\"\",\"\",MAX(AU$1:AU78)+1)","v":""},{"$f":"IF(CMS_Deviation_Detail!B101=\"\",\"\",CMS_Deviation_Detail!B101)","v":""},{"$f":"IF(CMS_Deviation_Detail!C101=\"\",\"\",CMS_Deviation_Detail!C101)","v":""},{"$f":"IF(CMS_Deviation_Detail!D101=\"\",\"\",CMS_Deviation_Detail!D101)","v":""},"",{"$f":"IF(COUNTIF(AY$2:AY79,AY79)=1,AY79,\"\")","v":""},"","","","",""]
[null,null,null,null,null,null,null,null,null,null,{"$f":"+IF(N80=\"\",\"\",MAX(K$1:K79)+1)","v":""},{"$f":"IF(CMS_Identification!E102=\"\",\"\",CMS_Identification!E102)","v":""},"",{"$f":"IF(COUNTIF(L$2:L80,L80)=1,L80,\"\")","v":""},null,null,null,null,null,null,{"$f":"+IF(Z80=\"\",\"\",MAX(U$1:U79)+1)","v":""},{"$f":"IF(Limit_Deviation_Detail!B102=\"\",\"\",Limit_Deviation_Detail!B102)","v":""},{"$f":"IF(Limit_Deviation_Detail!C102=\"\",\"\",Limit_Deviation_Detail!C102)","v":""},{"$f":"IF(Limit_Deviation_Detail!E102=\"\",\"\",Limit_Deviation_Detail!E102)","v":""},"",{"$f":"IF(COUNTIF(Y$2:Y80,Y80)=1,Y80,\"\")","v":""},"","","","","",null,null,null,null,null,null,null,null,null,null,null,null,null,null,null,{"$f":"+IF(AZ80=\"\",\"\",MAX(AU$1:AU79)+1)","v":""},{"$f":"IF(CMS_Deviation_Detail!B102=\"\",\"\",CMS_Deviation_Detail!B102)","v":""},{"$f":"IF(CMS_Deviation_Detail!C102=\"\",\"\",CMS_Deviation_Detail!C102)","v":""},{"$f":"IF(CMS_Deviation_Detail!D102=\"\",\"\",CMS_Deviation_Detail!D102)","v":""},"",{"$f":"IF(COUNTIF(AY$2:AY80,AY80)=1,AY80,\"\")","v":""},"","","","",""]
[null,null,null,null,null,null,null,null,null,null,{"$f":"+IF(N81=\"\",\"\",MAX(K$1:K80)+1)","v":""},{"$f":"IF(CMS_Identification!E103=\"\",\"\",CMS_Identification!E103)","v":""},"",{"$f":"IF(COUNTIF(L$2:L81,L81)=1,L81,\"\")","v":""},null,null,null,null,null,null,{"$f":"+IF(Z81=\"\",\"\",MAX(U$1:U80)+1)","v":""},{"$f":"IF(Limit_Deviation_Detail!B103=\"\",\"\",Limit_Deviation_Detail!B103)","v":""},{"$f":"IF(Limit_Deviation_Detail!C103=\"\",\"\",Limit_Deviation_Detail!C103)","v":""},{"$f":"IF(Limit_Deviation_Detail!E103=\"\",\"\",Limit_Deviation_Detail!E103)","v":""},"",{"$f":"IF(COUNTIF(Y$2:Y81,Y81)=1,Y81,\"\")","v":""},"","","","","",null,null,null,null,null,null,null,null,null,null,null,null,null,null,null,{"$f":"+IF(AZ81=\"\",\"\",MAX(AU$1:AU80)+1)","v":""},{"$f":"IF(CMS_Deviation_Detail!B103=\"\",\"\",CMS_Deviation_Detail!B103)","v":""},{"$f":"IF(CMS_Deviation_Detail!C103=\"\",\"\",CMS_Deviation_Detail!C103)","v":""},{"$f":"IF(CMS_Deviation_Detail!D103=\"\",\"\",CMS_Deviation_Detail!D103)","v":""},"",{"$f":"IF(COUNTIF(AY$2:AY81,AY81)=1,AY81,\"\")","v":""},"","","","",""]
[null,null,null,null,null,null,null,null,null,null,{"$f":"+IF(N82=\"\",\"\",MAX(K$1:K81)+1)","v":""},{"$f":"IF(CMS_Identification!E104=\"\",\"\",CMS_Identification!E104)","v":""},"",{"$f":"IF(COUNTIF(L$2:L82,L82)=1,L82,\"\")","v":""},null,null,null,null,null,null,{"$f":"+IF(Z82=\"\",\"\",MAX(U$1:U81)+1)","v":""},{"$f":"IF(Limit_Deviation_Detail!B104=\"\",\"\",Limit_Deviation_Detail!B104)","v":""},{"$f":"IF(Limit_Deviation_Detail!C104=\"\",\"\",Limit_Deviation_Detail!C104)","v":""},{"$f":"IF(Limit_Deviation_Detail!E104=\"\",\"\",Limit_Deviation_Detail!E104)","v":""},"",{"$f":"IF(COUNTIF(Y$2:Y82,Y82)=1,Y82,\"\")","v":""},"","","","","",null,null,null,null,null,null,null,null,null,null,null,null,null,null,null,{"$f":"+IF(AZ82=\"\",\"\",MAX(AU$1:AU81)+1)","v":""},{"$f":"IF(CMS_Deviation_Detail!B104=\"\",\"\",CMS_Deviation_Detail!B104)","v":""},{"$f":"IF(CMS_Deviation_Detail!C104=\"\",\"\",CMS_Deviation_Detail!C104)","v":""},{"$f":"IF(CMS_Deviation_Detail!D104=\"\",\"\",CMS_Deviation_Detail!D104)","v":""},"",{"$f":"IF(COUNTIF(AY$2:AY82,AY82)=1,AY82,\"\")","v":""},"","","","",""]
[null,null,null,null,null,null,null,null,null,null,{"$f":"+IF(N83=\"\",\"\",MAX(K$1:K82)+1)","v":""},{"$f":"IF(CMS_Identification!E105=\"\",\"\",CMS_Identification!E105)","v":""},"",{"$f":"IF(COUNTIF(L$2:L83,L83)=1,L83,\"\")","v":""},null,null,null,null,null,null,{"$f":"+IF(Z83=\"\",\"\",MAX(U$1:U82)+1)","v":""},{"$f":"IF(Limit_Deviation_Detail!B105=\"\",\"\",Limit_Deviation_Detail!B105)","v":""},{"$f":"IF(Limit_Deviation_Detail!C105=\"\",\"\",Limit_Deviation_Detail!C105)","v":""},{"$f":"IF(Limit_Deviation_Detail!E105=\"\",\"\",Limit_Deviation_Detail!E105)","v":""},"",{"$f":"IF(COUNTIF(Y$2:Y83,Y83)=1,Y83,\"\")","v":""},"","","","","",null,null,null,null,null,null,null,null,null,null,null,null,null,null,null,{"$f":"+IF(AZ83=\"\",\"\",MAX(AU$1:AU82)+1)","v":""},{"$f":"IF(CMS_Deviation_Detail!B105=\"\",\"\",CMS_Deviation_Detail!B105)","v":""},{"$f":"IF(CMS_Deviation_Detail!C105=\"\",\"\",CMS_Deviation_Detail!C105)","v":""},{"$f":"IF(CMS_Deviation_Detail!D105=\"\",\"\",CMS_Deviation_Detail!D105)","v":""},"",{"$f":"IF(COUNTIF(AY$2:AY83,AY83)=1,AY83,\"\")","v":""},"","","","",""]
[null,null,null,null,null,null,null,null,null,null,{"$f":"+IF(N84=\"\",\"\",MAX(K$1:K83)+1)","v":""},{"$f":"IF(CMS_Identification!E106=\"\",\"\",CMS_Identification!E106)","v":""},"",{"$f":"IF(COUNTIF(L$2:L84,L84)=1,L84,\"\")","v":""},null,null,null,null,null,null,{"$f":"+IF(Z84=\"\",\"\",MAX(U$1:U83)+1)","v":""},{"$f":"IF(Limit_Deviation_Detail!B106=\"\",\"\",Limit_Deviation_Detail!B106)","v":""},{"$f":"IF(Limit_Deviation_Detail!C106=\"\",\"\",Limit_Deviation_Detail!C106)","v":""},{"$f":"IF(Limit_Deviation_Detail!E106=\"\",\"\",Limit_Deviation_Detail!E106)","v":""},"",{"$f":"IF(COUNTIF(Y$2:Y84,Y84)=1,Y84,\"\")","v":""},"","","","","",null,null,null,null,null,null,null,null,null,null,null,null,null,null,null,{"$f":"+IF(AZ84=\"\",\"\",MAX(AU$1:AU83)+1)","v":""},{"$f":"IF(CMS_Deviation_Detail!B106=\"\",\"\",CMS_Deviation_Detail!B106)","v":""},{"$f":"IF(CMS_Deviation_Detail!C106=\"\",\"\",CMS_Deviation_Detail!C106)","v":""},{"$f":"IF(CMS_Deviation_Detail!D106=\"\",\"\",CMS_Deviation_Detail!D106)","v":""},"",{"$f":"IF(COUNTIF(AY$2:AY84,AY84)=1,AY84,\"\")","v":""},"","","","",""]
[null,null,null,null,null,null,null,null,null,null,{"$f":"+IF(N85=\"\",\"\",MAX(K$1:K84)+1)","v":""},{"$f":"IF(CMS_Identification!E107=\"\",\"\",CMS_Identification!E107)","v":""},"",{"$f":"IF(COUNTIF(L$2:L85,L85)=1,L85,\"\")","v":""},null,null,null,null,null,null,{"$f":"+IF(Z85=\"\",\"\",MAX(U$1:U84)+1)","v":""},{"$f":"IF(Limit_Deviation_Detail!B107=\"\",\"\",Limit_Deviation_Detail!B107)","v":""},{"$f":"IF(Limit_Deviation_Detail!C107=\"\",\"\",Limit_Deviation_Detail!C107)","v":""},{"$f":"IF(Limit_Deviation_Detail!E107=\"\",\"\",Limit_Deviation_Detail!E107)","v":""},"",{"$f":"IF(COUNTIF(Y$2:Y85,Y85)=1,Y85,\"\")","v":""},"","","","","",null,null,null,null,null,null,null,null,null,null,null,null,null,null,null,{"$f":"+IF(AZ85=\"\",\"\",MAX(AU$1:AU84)+1)","v":""},{"$f":"IF(CMS_Deviation_Detail!B107=\"\",\"\",CMS_Deviation_Detail!B107)","v":""},{"$f":"IF(CMS_Deviation_Detail!C107=\"\",\"\",CMS_Deviation_Detail!C107)","v":""},{"$f":"IF(CMS_Deviation_Detail!D107=\"\",\"\",CMS_Deviation_Detail!D107)","v":""},"",{"$f":"IF(COUNTIF(AY$2:AY85,AY85)=1,AY85,\"\")","v":""},"","","","",""]
[null,null,null,null,null,null,null,null,null,null,{"$f":"+IF(N86=\"\",\"\",MAX(K$1:K85)+1)","v":""},{"$f":"IF(CMS_Identification!E108=\"\",\"\",CMS_Identification!E108)","v":""},"",{"$f":"IF(COUNTIF(L$2:L86,L86)=1,L86,\"\")","v":""},null,null,null,null,null,null,{"$f":"+IF(Z86=\"\",\"\",MAX(U$1:U85)+1)","v":""},{"$f":"IF(Limit_Deviation_Detail!B108=\"\",\"\",Limit_Deviation_Detail!B108)","v":""},{"$f":"IF(Limit_Deviation_Detail!C108=\"\",\"\",Limit_Deviation_Detail!C108)","v":""},{"$f":"IF(Limit_Deviation_Detail!E108=\"\",\"\",Limit_Deviation_Detail!E108)","v":""},"",{"$f":"IF(COUNTIF(Y$2:Y86,Y86)=1,Y86,\"\")","v":""},"","","","","",null,null,null,null,null,null,null,null,null,null,null,null,null,null,null,{"$f":"+IF(AZ86=\"\",\"\",MAX(AU$1:AU85)+1)","v":""},{"$f":"IF(CMS_Deviation_Detail!B108=\"\",\"\",CMS_Deviation_Detail!B108)","v":""},{"$f":"IF(CMS_Deviation_Detail!C108=\"\",\"\",CMS_Deviation_Detail!C108)","v":""},{"$f":"IF(CMS_Deviation_Detail!D108=\"\",\"\",CMS_Deviation_Detail!D108)","v":""},"",{"$f":"IF(COUNTIF(AY$2:AY86,AY86)=1,AY86,\"\")","v":""},"","","","",""]
[null,null,null,null,null,null,null,null,null,null,{"$f":"+IF(N87=\"\",\"\",MAX(K$1:K86)+1)","v":""},{"$f":"IF(CMS_Identification!E109=\"\",\"\",CMS_Identification!E109)","v":""},"",{"$f":"IF(COUNTIF(L$2:L87,L87)=1,L87,\"\")","v":""},null,null,null,null,null,null,{"$f":"+IF(Z87=\"\",\"\",MAX(U$1:U86)+1)","v":""},{"$f":"IF(Limit_Deviation_Detail!B109=\"\",\"\",Limit_Deviation_Detail!B109)","v":""},{"$f":"IF(Limit_Deviation_Detail!C109=\"\",\"\",Limit_Deviation_Detail!C109)","v":""},{"$f":"IF(Limit_Deviation_Detail!E109=\"\",\"\",Limit_Deviation_Detail!E109)","v":""},"",{"$f":"IF(COUNTIF(Y$2:Y87,Y87)=1,Y87,\"\")","v":""},"","","","","",null,null,null,null,null,null,null,null,null,null,null,null,null,null,null,{"$f":"+IF(AZ87=\"\",\"\",MAX(AU$1:AU86)+1)","v":""},{"$f":"IF(CMS_Deviation_Detail!B109=\"\",\"\",CMS_Deviation_Detail!B109)","v":""},{"$f":"IF(CMS_Deviation_Detail!C109=\"\",\"\",CMS_Deviation_Detail!C109)","v":""},{"$f":"IF(CMS_Deviation_Detail!D109=\"\",\"\",CMS_Deviation_Detail!D109)","v":""},"",{"$f":"IF(COUNTIF(AY$2:AY87,AY87)=1,AY87,\"\")","v":""},"","","","",""]
[null,null,null,null,null,null,null,null,null,null,{"$f":"+IF(N88=\"\",\"\",MAX(K$1:K87)+1)","v":""},{"$f":"IF(CMS_Identification!E110=\"\",\"\",CMS_Identification!E110)","v":""},"",{"$f":"IF(COUNTIF(L$2:L88,L88)=1,L88,\"\")","v":""},null,null,null,null,null,null,{"$f":"+IF(Z88=\"\",\"\",MAX(U$1:U87)+1)","v":""},{"$f":"IF(Limit_Deviation_Detail!B110=\"\",\"\",Limit_Deviation_Detail!B110)","v":""},{"$f":"IF(Limit_Deviation_Detail!C110=\"\",\"\",Limit_Deviation_Detail!C110)","v":""},{"$f":"IF(Limit_Deviation_Detail!E110=\"\",\"\",Limit_Deviation_Detail!E110)","v":""},"",{"$f":"IF(COUNTIF(Y$2:Y88,Y88)=1,Y88,\"\")","v":""},"","","","","",null,null,null,null,null,null,null,null,null,null,null,null,null,null,null,{"$f":"+IF(AZ88=\"\",\"\",MAX(AU$1:AU87)+1)","v":""},{"$f":"IF(CMS_Deviation_Detail!B110=\"\",\"\",CMS_Deviation_Detail!B110)","v":""},{"$f":"IF(CMS_Deviation_Detail!C110=\"\",\"\",CMS_Deviation_Detail!C110)","v":""},{"$f":"IF(CMS_Deviation_Detail!D110=\"\",\"\",CMS_Deviation_Detail!D110)","v":""},"",{"$f":"IF(COUNTIF(AY$2:AY88,AY88)=1,AY88,\"\")","v":""},"","","","",""]
[null,null,null,null,null,null,null,null,null,null,{"$f":"+IF(N89=\"\",\"\",MAX(K$1:K88)+1)","v":""},{"$f":"IF(CMS_Identification!E111=\"\",\"\",CMS_Identification!E111)","v":""},"",{"$f":"IF(COUNTIF(L$2:L89,L89)=1,L89,\"\")","v":""},null,null,null,null,null,null,{"$f":"+IF(Z89=\"\",\"\",MAX(U$1:U88)+1)","v":""},{"$f":"IF(Limit_Deviation_Detail!B111=\"\",\"\",Limit_Deviation_Detail!B111)","v":""},{"$f":"IF(Limit_Deviation_Detail!C111=\"\",\"\",Limit_Deviation_Detail!C111)","v":""},{"$f":"IF(Limit_Deviation_Detail!E111=\"\",\"\",Limit_Deviation_Detail!E111)","v":""},"",{"$f":"IF(COUNTIF(Y$2:Y89,Y89)=1,Y89,\"\")","v":""},"","","","","",null,null,null,null,null,null,null,null,null,null,null,null,null,null,null,{"$f":"+IF(AZ89=\"\",\"\",MAX(AU$1:AU88)+1)","v":""},{"$f":"IF(CMS_Deviation_Detail!B111=\"\",\"\",CMS_Deviation_Detail!B111)","v":""},{"$f":"IF(CMS_Deviation_Detail!C111=\"\",\"\",CMS_Deviation_Detail!C111)","v":""},{"$f":"IF(CMS_Deviation_Detail!D111=\"\",\"\",CMS_Deviation_Detail!D111)","v":""},"",{"$f":"IF(COUNTIF(AY$2:AY89,AY89)=1,AY89,\"\")","v":""},"","","","",""]
[null,null,null,null,null,null,null,null,null,null,{"$f":"+IF(N90=\"\",\"\",MAX(K$1:K89)+1)","v":""},{"$f":"IF(CMS_Identification!E112=\"\",\"\",CMS_Identification!E112)","v":""},"",{"$f":"IF(COUNTIF(L$2:L90,L90)=1,L90,\"\")","v":""},null,null,null,null,null,null,{"$f":"+IF(Z90=\"\",\"\",MAX(U$1:U89)+1)","v":""},{"$f":"IF(Limit_Deviation_Detail!B112=\"\",\"\",Limit_Deviation_Detail!B112)","v":""},{"$f":"IF(Limit_Deviation_Detail!C112=\"\",\"\",Limit_Deviation_Detail!C112)","v":""},{"$f":"IF(Limit_Deviation_Detail!E112=\"\",\"\",Limit_Deviation_Detail!E112)","v":""},"",{"$f":"IF(COUNTIF(Y$2:Y90,Y90)=1,Y90,\"\")","v":""},"","","","","",null,null,null,null,null,null,null,null,null,null,null,null,null,null,null,{"$f":"+IF(AZ90=\"\",\"\",MAX(AU$1:AU89)+1)","v":""},{"$f":"IF(CMS_Deviation_Detail!B112=\"\",\"\",CMS_Deviation_Detail!B112)","v":""},{"$f":"IF(CMS_Deviation_Detail!C112=\"\",\"\",CMS_Deviation_Detail!C112)","v":""},{"$f":"IF(CMS_Deviation_Detail!D112=\"\",\"\",CMS_Deviation_Detail!D112)","v":""},"",{"$f":"IF(COUNTIF(AY$2:AY90,AY90)=1,AY90,\"\")","v":""},"","","","",""]
[null,null,null,null,null,null,null,null,null,null,{"$f":"+IF(N91=\"\",\"\",MAX(K$1:K90)+1)","v":""},{"$f":"IF(CMS_Identification!E113=\"\",\"\",CMS_Identification!E113)","v":""},"",{"$f":"IF(COUNTIF(L$2:L91,L91)=1,L91,\"\")","v":""},null,null,null,null,null,null,{"$f":"+IF(Z91=\"\",\"\",MAX(U$1:U90)+1)","v":""},{"$f":"IF(Limit_Deviation_Detail!B113=\"\",\"\",Limit_Deviation_Detail!B113)","v":""},{"$f":"IF(Limit_Deviation_Detail!C113=\"\",\"\",Limit_Deviation_Detail!C113)","v":""},{"$f":"IF(Limit_Deviation_Detail!E113=\"\",\"\",Limit_Deviation_Detail!E113)","v":""},"",{"$f":"IF(COUNTIF(Y$2:Y91,Y91)=1,Y91,\"\")","v":""},"","","","","",null,null,null,null,null,null,null,null,null,null,null,null,null,null,null,{"$f":"+IF(AZ91=\"\",\"\",MAX(AU$1:AU90)+1)","v":""},{"$f":"IF(CMS_Deviation_Detail!B113=\"\",\"\",CMS_Deviation_Detail!B113)","v":""},{"$f":"IF(CMS_Deviation_Detail!C113=\"\",\"\",CMS_Deviation_Detail!C113)","v":""},{"$f":"IF(CMS_Deviation_Detail!D113=\"\",\"\",CMS_Deviation_Detail!D113)","v":""},"",{"$f":"IF(COUNTIF(AY$2:AY91,AY91)=1,AY91,\"\")","v":""},"","","","",""]
[null,null,null,null,null,null,null,null,null,null,{"$f":"+IF(N92=\"\",\"\",MAX(K$1:K91)+1)","v":""},{"$f":"IF(CMS_Identification!E114=\"\",\"\",CMS_Identification!E114)","v":""},"",{"$f":"IF(COUNTIF(L$2:L92,L92)=1,L92,\"\")","v":""},null,null,null,null,null,null,{"$f":"+IF(Z92=\"\",\"\",MAX(U$1:U91)+1)","v":""},{"$f":"IF(Limit_Deviation_Detail!B114=\"\",\"\",Limit_Deviation_Detail!B114)","v":""},{"$f":"IF(Limit_Deviation_Detail!C114=\"\",\"\",Limit_Deviation_Detail!C114)","v":""},{"$f":"IF(Limit_Deviation_Detail!E114=\"\",\"\",Limit_Deviation_Detail!E114)","v":""},"",{"$f":"IF(COUNTIF(Y$2:Y92,Y92)=1,Y92,\"\")","v":""},"","","","","",null,null,null,null,null,null,null,null,null,null,null,null,null,null,null,{"$f":"+IF(AZ92=\"\",\"\",MAX(AU$1:AU91)+1)","v":""},{"$f":"IF(CMS_Deviation_Detail!B114=\"\",\"\",CMS_Deviation_Detail!B114)","v":""},{"$f":"IF(CMS_Deviation_Detail!C114=\"\",\"\",CMS_Deviation_Detail!C114)","v":""},{"$f":"IF(CMS_Deviation_Detail!D114=\"\",\"\",CMS_Deviation_Detail!D114)","v":""},"",{"$f":"IF(COUNTIF(AY$2:AY92,AY92)=1,AY92,\"\")","v":""},"","","","",""]
[null,null,null,null,null,null,null,null,null,null,{"$f":"+IF(N93=\"\",\"\",MAX(K$1:K92)+1)","v":""},{"$f":"IF(CMS_Identification!E115=\"\",\"\",CMS_Identification!E115)","v":""},"",{"$f":"IF(COUNTIF(L$2:L93,L93)=1,L93,\"\")","v":""},null,null,null,null,null,null,{"$f":"+IF(Z93=\"\",\"\",MAX(U$1:U92)+1)","v":""},{"$f":"IF(Limit_Deviation_Detail!B115=\"\",\"\",Limit_Deviation_Detail!B115)","v":""},{"$f":"IF(Limit_Deviation_Detail!C115=\"\",\"\",Limit_Deviation_Detail!C115)","v":""},{"$f":"IF(Limit_Deviation_Detail!E115=\"\",\"\",Limit_Deviation_Detail!E115)","v":""},"",{"$f":"IF(COUNTIF(Y$2:Y93,Y93)=1,Y93,\"\")","v":""},"","","","","",null,null,null,null,null,null,null,null,null,null,null,null,null,null,null,{"$f":"+IF(AZ93=\"\",\"\",MAX(AU$1:AU92)+1)","v":""},{"$f":"IF(CMS_Deviation_Detail!B115=\"\",\"\",CMS_Deviation_Detail!B115)","v":""},{"$f":"IF(CMS_Deviation_Detail!C115=\"\",\"\",CMS_Deviation_Detail!C115)","v":""},{"$f":"IF(CMS_Deviation_Detail!D115=\"\",\"\",CMS_Deviation_Detail!D115)","v":""},"",{"$f":"IF(COUNTIF(AY$2:AY93,AY93)=1,AY93,\"\")","v":""},"","","","",""]
[null,null,null,null,null,null,null,null,null,null,{"$f":"+IF(N94=\"\",\"\",MAX(K$1:K93)+1)","v":""},{"$f":"IF(CMS_Identification!E116=\"\",\"\",CMS_Identification!E116)","v":""},"",{"$f":"IF(COUNTIF(L$2:L94,L94)=1,L94,\"\")","v":""},null,null,null,null,null,null,{"$f":"+IF(Z94=\"\",\"\",MAX(U$1:U93)+1)","v":""},{"$f":"IF(Limit_Deviation_Detail!B116=\"\",\"\",Limit_Deviation_Detail!B116)","v":""},{"$f":"IF(Limit_Deviation_Detail!C116=\"\",\"\",Limit_Deviation_Detail!C116)","v":""},{"$f":"IF(Limit_Deviation_Detail!E116=\"\",\"\",Limit_Deviation_Detail!E116)","v":""},"",{"$f":"IF(COUNTIF(Y$2:Y94,Y94)=1,Y94,\"\")","v":""},"","","","","",null,null,null,null,null,null,null,null,null,null,null,null,null,null,null,{"$f":"+IF(AZ94=\"\",\"\",MAX(AU$1:AU93)+1)","v":""},{"$f":"IF(CMS_Deviation_Detail!B116=\"\",\"\",CMS_Deviation_Detail!B116)","v":""},{"$f":"IF(CMS_Deviation_Detail!C116=\"\",\"\",CMS_Deviation_Detail!C116)","v":""},{"$f":"IF(CMS_Deviation_Detail!D116=\"\",\"\",CMS_Deviation_Detail!D116)","v":""},"",{"$f":"IF(COUNTIF(AY$2:AY94,AY94)=1,AY94,\"\")","v":""},"","","","",""]
[null,null,null,null,null,null,null,null,null,null,{"$f":"+IF(N95=\"\",\"\",MAX(K$1:K94)+1)","v":""},{"$f":"IF(CMS_Identification!E117=\"\",\"\",CMS_Identification!E117)","v":""},"",{"$f":"IF(COUNTIF(L$2:L95,L95)=1,L95,\"\")","v":""},null,null,null,null,null,null,{"$f":"+IF(Z95=\"\",\"\",MAX(U$1:U94)+1)","v":""},{"$f":"IF(Limit_Deviation_Detail!B117=\"\",\"\",Limit_Deviation_Detail!B117)","v":""},{"$f":"IF(Limit_Deviation_Detail!C117=\"\",\"\",Limit_Deviation_Detail!C117)","v":""},{"$f":"IF(Limit_Deviation_Detail!E117=\"\",\"\",Limit_Deviation_Detail!E117)","v":""},"",{"$f":"IF(COUNTIF(Y$2:Y95,Y95)=1,Y95,\"\")","v":""},"","","","","",null,null,null,null,null,null,null,null,null,null,null,null,null,null,null,{"$f":"+IF(AZ95=\"\",\"\",MAX(AU$1:AU94)+1)","v":""},{"$f":"IF(CMS_Deviation_Detail!B117=\"\",\"\",CMS_Deviation_Detail!B117)","v":""},{"$f":"IF(CMS_Deviation_Detail!C117=\"\",\"\",CMS_Deviation_Detail!C117)","v":""},{"$f":"IF(CMS_Deviation_Detail!D117=\"\",\"\",CMS_Deviation_Detail!D117)","v":""},"",{"$f":"IF(COUNTIF(AY$2:AY95,AY95)=1,AY95,\"\")","v":""},"","","","",""]
[null,null,null,null,null,null,null,null,null,null,{"$f":"+IF(N96=\"\",\"\",MAX(K$1:K95)+1)","v":""},{"$f":"IF(CMS_Identification!E118=\"\",\"\",CMS_Identification!E118)","v":""},"",{"$f":"IF(COUNTIF(L$2:L96,L96)=1,L96,\"\")","v":""},null,null,null,null,null,null,{"$f":"+IF(Z96=\"\",\"\",MAX(U$1:U95)+1)","v":""},{"$f":"IF(Limit_Deviation_Detail!B118=\"\",\"\",Limit_Deviation_Detail!B118)","v":""},{"$f":"IF(Limit_Deviation_Detail!C118=\"\",\"\",Limit_Deviation_Detail!C118)","v":""},{"$f":"IF(Limit_Deviation_Detail!E118=\"\",\"\",Limit_Deviation_Detail!E118)","v":""},"",{"$f":"IF(COUNTIF(Y$2:Y96,Y96)=1,Y96,\"\")","v":""},"","","","","",null,null,null,null,null,null,null,null,null,null,null,null,null,null,null,{"$f":"+IF(AZ96=\"\",\"\",MAX(AU$1:AU95)+1)","v":""},{"$f":"IF(CMS_Deviation_Detail!B118=\"\",\"\",CMS_Deviation_Detail!B118)","v":""},{"$f":"IF(CMS_Deviation_Detail!C118=\"\",\"\",CMS_Deviation_Detail!C118)","v":""},{"$f":"IF(CMS_Deviation_Detail!D118=\"\",\"\",CMS_Deviation_Detail!D118)","v":""},"",{"$f":"IF(COUNTIF(AY$2:AY96,AY96)=1,AY96,\"\")","v":""},"","","","",""]
[null,null,null,null,null,null,null,null,null,null,{"$f":"+IF(N97=\"\",\"\",MAX(K$1:K96)+1)","v":""},{"$f":"IF(CMS_Identification!E119=\"\",\"\",CMS_Identification!E119)","v":""},"",{"$f":"IF(COUNTIF(L$2:L97,L97)=1,L97,\"\")","v":""},null,null,null,null,null,null,{"$f":"+IF(Z97=\"\",\"\",MAX(U$1:U96)+1)","v":""},{"$f":"IF(Limit_Deviation_Detail!B119=\"\",\"\",Limit_Deviation_Detail!B119)","v":""},{"$f":"IF(Limit_Deviation_Detail!C119=\"\",\"\",Limit_Deviation_Detail!C119)","v":""},{"$f":"IF(Limit_Deviation_Detail!E119=\"\",\"\",Limit_Deviation_Detail!E119)","v":""},"",{"$f":"IF(COUNTIF(Y$2:Y97,Y97)=1,Y97,\"\")","v":""},"","","","","",null,null,null,null,null,null,null,null,null,null,null,null,null,null,null,{"$f":"+IF(AZ97=\"\",\"\",MAX(AU$1:AU96)+1)","v":""},{"$f":"IF(CMS_Deviation_Detail!B119=\"\",\"\",CMS_Deviation_Detail!B119)","v":""},{"$f":"IF(CMS_Deviation_Detail!C119=\"\",\"\",CMS_Deviation_Detail!C119)","v":""},{"$f":"IF(CMS_Deviation_Detail!D119=\"\",\"\",CMS_Deviation_Detail!D119)","v":""},"",{"$f":"IF(COUNTIF(AY$2:AY97,AY97)=1,AY97,\"\")","v":""},"","","","",""]
[null,null,null,null,null,null,null,null,null,null,{"$f":"+IF(N98=\"\",\"\",MAX(K$1:K97)+1)","v":""},{"$f":"IF(CMS_Identification!E120=\"\",\"\",CMS_Identification!E120)","v":""},{"$f":"+IFERROR(INDEX(L$2:L$501,MATCH(ROW()-ROW($M$1),K$2:K$501,0)),\"\")","v":""},{"$f":"IF(COUNTIF(L$2:L98,L98)=1,L98,\"\")","v":""},null,null,null,null,null,null,{"$f":"+IF(Z98=\"\",\"\",MAX(U$1:U97)+1)","v":""},{"$f":"IF(Limit_Deviation_Detail!B120=\"\",\"\",Limit_Deviation_Detail!B120)","v":""},{"$f":"IF(Limit_Deviation_Detail!C120=\"\",\"\",Limit_Deviation_Detail!C120)","v":""},{"$f":"IF(Limit_Deviation_Detail!E120=\"\",\"\",Limit_Deviation_Detail!E120)","v":""},"",{"$f":"IF(COUNTIF(Y$2:Y98,Y98)=1,Y98,\"\")","v":""},"","","","","",null,null,null,null,null,null,null,null,null,null,null,null,null,null,null,{"$f":"+IF(AZ98=\"\",\"\",MAX(AU$1:AU97)+1)","v":""},{"$f":"IF(CMS_Deviation_Detail!B120=\"\",\"\",CMS_Deviation_Detail!B120)","v":""},{"$f":"IF(CMS_Deviation_Detail!C120=\"\",\"\",CMS_Deviation_Detail!C120)","v":""},{"$f":"IF(CMS_Deviation_Detail!D120=\"\",\"\",CMS_Deviation_Detail!D120)","v":""},"",{"$f":"IF(COUNTIF(AY$2:AY98,AY98)=1,AY98,\"\")","v":""},"","","","",""]
[null,null,null,null,null,null,null,null,null,null,{"$f":"+IF(N99=\"\",\"\",MAX(K$1:K98)+1)","v":""},{"$f":"IF(CMS_Identification!E121=\"\",\"\",CMS_Identification!E121)","v":""},"",{"$f":"IF(COUNTIF(L$2:L99,L99)=1,L99,\"\")","v":""},null,null,null,null,null,null,{"$f":"+IF(Z99=\"\",\"\",MAX(U$1:U98)+1)","v":""},{"$f":"IF(Limit_Deviation_Detail!B121=\"\",\"\",Limit_Deviation_Detail!B121)","v":""},{"$f":"IF(Limit_Deviation_Detail!C121=\"\",\"\",Limit_Deviation_Detail!C121)","v":""},{"$f":"IF(Limit_Deviation_Detail!E121=\"\",\"\",Limit_Deviation_Detail!E121)","v":""},"",{"$f":"IF(COUNTIF(Y$2:Y99,Y99)=1,Y99,\"\")","v":""},"","","","","",null,null,null,null,null,null,null,null,null,null,null,null,null,null,null,{"$f":"+IF(AZ99=\"\",\"\",MAX(AU$1:AU98)+1)","v":""},{"$f":"IF(CMS_Deviation_Detail!B121=\"\",\"\",CMS_Deviation_Detail!B121)","v":""},{"$f":"IF(CMS_Deviation_Detail!C121=\"\",\"\",CMS_Deviation_Detail!C121)","v":""},{"$f":"IF(CMS_Deviation_Detail!D121=\"\",\"\",CMS_Deviation_Detail!D121)","v":""},"",{"$f":"IF(COUNTIF(AY$2:AY99,AY99)=1,AY99,\"\")","v":""},"","","","",""]
[null,null,null,null,null,null,null,null,null,null,{"$f":"+IF(N100=\"\",\"\",MAX(K$1:K99)+1)","v":""},{"$f":"IF(CMS_Identification!E122=\"\",\"\",CMS_Identification!E122)","v":""},"",{"$f":"IF(COUNTIF(L$2:L100,L100)=1,L100,\"\")","v":""},null,null,null,null,null,null,{"$f":"+IF(Z100=\"\",\"\",MAX(U$1:U99)+1)","v":""},{"$f":"IF(Limit_Deviation_Detail!B122=\"\",\"\",Limit_Deviation_Detail!B122)","v":""},{"$f":"IF(Limit_Deviation_Detail!C122=\"\",\"\",Limit_Deviation_Detail!C122)","v":""},{"$f":"IF(Limit_Deviation_Detail!E122=\"\",\"\",Limit_Deviation_Detail!E122)","v":""},"",{"$f":"IF(COUNTIF(Y$2:Y100,Y100)=1,Y100,\"\")","v":""},"","","","","",null,null,null,null,null,null,null,null,null,null,null,null,null,null,null,{"$f":"+IF(AZ100=\"\",\"\",MAX(AU$1:AU99)+1)","v":""},{"$f":"IF(CMS_Deviation_Detail!B122=\"\",\"\",CMS_Deviation_Detail!B122)","v":""},{"$f":"IF(CMS_Deviation_Detail!C122=\"\",\"\",CMS_Deviation_Detail!C122)","v":""},{"$f":"IF(CMS_Deviation_Detail!D122=\"\",\"\",CMS_Deviation_Detail!D122)","v":""},"",{"$f":"IF(COUNTIF(AY$2:AY100,AY100)=1,AY100,\"\")","v":""},"","","","",""]
[null,null,null,null,null,null,null,null,null,null,{"$f":"+IF(N101=\"\",\"\",MAX(K$1:K100)+1)","v":""},{"$f":"IF(CMS_Identification!E123=\"\",\"\",CMS_Identification!E123)","v":""},"",{"$f":"IF(COUNTIF(L$2:L101,L101)=1,L101,\"\")","v":""},null,null,null,null,null,null,{"$f":"+IF(Z101=\"\",\"\",MAX(U$1:U100)+1)","v":""},{"$f":"IF(Limit_Deviation_Detail!B123=\"\",\"\",Limit_Deviation_Detail!B123)","v":""},{"$f":"IF(Limit_Deviation_Detail!C123=\"\",\"\",Limit_Deviation_Detail!C123)","v":""},{"$f":"IF(Limit_Deviation_Detail!E123=\"\",\"\",Limit_Deviation_Detail!E123)","v":""},"",{"$f":"IF(COUNTIF(Y$2:Y101,Y101)=1,Y101,\"\")","v":""},"","","","","",null,null,null,null,null,null,null,null,null,null,null,null,null,null,null,{"$f":"+IF(AZ101=\"\",\"\",MAX(AU$1:AU100)+1)","v":""},{"$f":"IF(CMS_Deviation_Detail!B123=\"\",\"\",CMS_Deviation_Detail!B123)","v":""},{"$f":"IF(CMS_Deviation_Detail!C123=\"\",\"\",CMS_Deviation_Detail!C123)","v":""},{"$f":"IF(CMS_Deviation_Detail!D123=\"\",\"\",CMS_Deviation_Detail!D123)","v":""},"",{"$f":"IF(COUNTIF(AY$2:AY101,AY101)=1,AY101,\"\")","v":""},"","","","",""]
[null,null,null,null,null,null,null,null,null,null,null,null,null,null,null,null,null,null,null,null,{"$f":"+IF(Z102=\"\",\"\",MAX(U$1:U101)+1)","v":""},{"$f":"IF(Limit_Deviation_Detail!B124=\"\",\"\",Limit_Deviation_Detail!B124)","v":""},{"$f":"IF(Limit_Deviation_Detail!C124=\"\",\"\",Limit_Deviation_Detail!C124)","v":""},{"$f":"IF(Limit_Deviation_Detail!E124=\"\",\"\",Limit_Deviation_Detail!E124)","v":""},"",{"$f":"IF(COUNTIF(Y$2:Y102,Y102)=1,Y102,\"\")","v":""},"","","","","",null,null,null,null,null,null,null,null,null,null,null,null,null,null,null,{"$f":"+IF(AZ102=\"\",\"\",MAX(AU$1:AU101)+1)","v":""},{"$f":"IF(CMS_Deviation_Detail!B124=\"\",\"\",CMS_Deviation_Detail!B124)","v":""},{"$f":"IF(CMS_Deviation_Detail!C124=\"\",\"\",CMS_Deviation_Detail!C124)","v":""},{"$f":"IF(CMS_Deviation_Detail!D124=\"\",\"\",CMS_Deviation_Detail!D124)","v":""},"",{"$f":"IF(COUNTIF(AY$2:AY102,AY102)=1,AY102,\"\")","v":""},"","","","",""]
[null,null,null,null,null,null,null,null,null,null,null,null,null,null,null,null,null,null,null,null,{"$f":"+IF(Z103=\"\",\"\",MAX(U$1:U102)+1)","v":""},{"$f":"IF(Limit_Deviation_Detail!B125=\"\",\"\",Limit_Deviation_Detail!B125)","v":""},{"$f":"IF(Limit_Deviation_Detail!C125=\"\",\"\",Limit_Deviation_Detail!C125)","v":""},{"$f":"IF(Limit_Deviation_Detail!E125=\"\",\"\",Limit_Deviation_Detail!E125)","v":""},"",{"$f":"IF(COUNTIF(Y$2:Y103,Y103)=1,Y103,\"\")","v":""},"","","","","",null,null,null,null,null,null,null,null,null,null,null,null,null,null,null,{"$f":"+IF(AZ103=\"\",\"\",MAX(AU$1:AU102)+1)","v":""},{"$f":"IF(CMS_Deviation_Detail!B125=\"\",\"\",CMS_Deviation_Detail!B125)","v":""},{"$f":"IF(CMS_Deviation_Detail!C125=\"\",\"\",CMS_Deviation_Detail!C125)","v":""},{"$f":"IF(CMS_Deviation_Detail!D125=\"\",\"\",CMS_Deviation_Detail!D125)","v":""},"",{"$f":"IF(COUNTIF(AY$2:AY103,AY103)=1,AY103,\"\")","v":""},"","","","",""]
[null,null,null,null,null,null,null,null,null,null,null,null,null,null,null,null,null,null,null,null,{"$f":"+IF(Z104=\"\",\"\",MAX(U$1:U103)+1)","v":""},{"$f":"IF(Limit_Deviation_Detail!B126=\"\",\"\",Limit_Deviation_Detail!B126)","v":""},{"$f":"IF(Limit_Deviation_Detail!C126=\"\",\"\",Limit_Deviation_Detail!C126)","v":""},{"$f":"IF(Limit_Deviation_Detail!E126=\"\",\"\",Limit_Deviation_Detail!E126)","v":""},"",{"$f":"IF(COUNTIF(Y$2:Y104,Y104)=1,Y104,\"\")","v":""},"","","","","",null,null,null,null,null,null,null,null,null,null,null,null,null,null,null,{"$f":"+IF(AZ104=\"\",\"\",MAX(AU$1:AU103)+1)","v":""},{"$f":"IF(CMS_Deviation_Detail!B126=\"\",\"\",CMS_Deviation_Detail!B126)","v":""},{"$f":"IF(CMS_Deviation_Detail!C126=\"\",\"\",CMS_Deviation_Detail!C126)","v":""},{"$f":"IF(CMS_Deviation_Detail!D126=\"\",\"\",CMS_Deviation_Detail!D126)","v":""},"",{"$f":"IF(COUNTIF(AY$2:AY104,AY104)=1,AY104,\"\")","v":""},"","","","",""]
[null,null,null,null,null,null,null,null,null,null,null,null,null,null,null,null,null,null,null,null,{"$f":"+IF(Z105=\"\",\"\",MAX(U$1:U104)+1)","v":""},{"$f":"IF(Limit_Deviation_Detail!B127=\"\",\"\",Limit_Deviation_Detail!B127)","v":""},{"$f":"IF(Limit_Deviation_Detail!C127=\"\",\"\",Limit_Deviation_Detail!C127)","v":""},{"$f":"IF(Limit_Deviation_Detail!E127=\"\",\"\",Limit_Deviation_Detail!E127)","v":""},"",{"$f":"IF(COUNTIF(Y$2:Y105,Y105)=1,Y105,\"\")","v":""},"","","","","",null,null,null,null,null,null,null,null,null,null,null,null,null,null,null,{"$f":"+IF(AZ105=\"\",\"\",MAX(AU$1:AU104)+1)","v":""},{"$f":"IF(CMS_Deviation_Detail!B127=\"\",\"\",CMS_Deviation_Detail!B127)","v":""},{"$f":"IF(CMS_Deviation_Detail!C127=\"\",\"\",CMS_Deviation_Detail!C127)","v":""},{"$f":"IF(CMS_Deviation_Detail!D127=\"\",\"\",CMS_Deviation_Detail!D127)","v":""},"",{"$f":"IF(COUNTIF(AY$2:AY105,AY105)=1,AY105,\"\")","v":""},"","","","",""]
[null,null,null,null,null,null,null,null,null,null,null,null,null,null,null,null,null,null,null,null,{"$f":"+IF(Z106=\"\",\"\",MAX(U$1:U105)+1)","v":""},{"$f":"IF(Limit_Deviation_Detail!B128=\"\",\"\",Limit_Deviation_Detail!B128)","v":""},{"$f":"IF(Limit_Deviation_Detail!C128=\"\",\"\",Limit_Deviation_Detail!C128)","v":""},{"$f":"IF(Limit_Deviation_Detail!E128=\"\",\"\",Limit_Deviation_Detail!E128)","v":""},"",{"$f":"IF(COUNTIF(Y$2:Y106,Y106)=1,Y106,\"\")","v":""},"","","","","",null,null,null,null,null,null,null,null,null,null,null,null,null,null,null,{"$f":"+IF(AZ106=\"\",\"\",MAX(AU$1:AU105)+1)","v":""},{"$f":"IF(CMS_Deviation_Detail!B128=\"\",\"\",CMS_Deviation_Detail!B128)","v":""},{"$f":"IF(CMS_Deviation_Detail!C128=\"\",\"\",CMS_Deviation_Detail!C128)","v":""},{"$f":"IF(CMS_Deviation_Detail!D128=\"\",\"\",CMS_Deviation_Detail!D128)","v":""},"",{"$f":"IF(COUNTIF(AY$2:AY106,AY106)=1,AY106,\"\")","v":""},"","","","",""]
[null,null,null,null,null,null,null,null,null,null,null,null,null,null,null,null,null,null,null,null,{"$f":"+IF(Z107=\"\",\"\",MAX(U$1:U106)+1)","v":""},{"$f":"IF(Limit_Deviation_Detail!B129=\"\",\"\",Limit_Deviation_Detail!B129)","v":""},{"$f":"IF(Limit_Deviation_Detail!C129=\"\",\"\",Limit_Deviation_Detail!C129)","v":""},{"$f":"IF(Limit_Deviation_Detail!E129=\"\",\"\",Limit_Deviation_Detail!E129)","v":""},"",{"$f":"IF(COUNTIF(Y$2:Y107,Y107)=1,Y107,\"\")","v":""},"","","","","",null,null,null,null,null,null,null,null,null,null,null,null,null,null,null,{"$f":"+IF(AZ107=\"\",\"\",MAX(AU$1:AU106)+1)","v":""},{"$f":"IF(CMS_Deviation_Detail!B129=\"\",\"\",CMS_Deviation_Detail!B129)","v":""},{"$f":"IF(CMS_Deviation_Detail!C129=\"\",\"\",CMS_Deviation_Detail!C129)","v":""},{"$f":"IF(CMS_Deviation_Detail!D129=\"\",\"\",CMS_Deviation_Detail!D129)","v":""},"",{"$f":"IF(COUNTIF(AY$2:AY107,AY107)=1,AY107,\"\")","v":""},"","","","",""]
[null,null,null,null,null,null,null,null,null,null,null,null,null,null,null,null,null,null,null,null,{"$f":"+IF(Z108=\"\",\"\",MAX(U$1:U107)+1)","v":""},{"$f":"IF(Limit_Deviation_Detail!B130=\"\",\"\",Limit_Deviation_Detail!B130)","v":""},{"$f":"IF(Limit_Deviation_Detail!C130=\"\",\"\",Limit_Deviation_Detail!C130)","v":""},{"$f":"IF(Limit_Deviation_Detail!E130=\"\",\"\",Limit_Deviation_Detail!E130)","v":""},"",{"$f":"IF(COUNTIF(Y$2:Y108,Y108)=1,Y108,\"\")","v":""},"","","","","",null,null,null,null,null,null,null,null,null,null,null,null,null,null,null,{"$f":"+IF(AZ108=\"\",\"\",MAX(AU$1:AU107)+1)","v":""},{"$f":"IF(CMS_Deviation_Detail!B130=\"\",\"\",CMS_Deviation_Detail!B130)","v":""},{"$f":"IF(CMS_Deviation_Detail!C130=\"\",\"\",CMS_Deviation_Detail!C130)","v":""},{"$f":"IF(CMS_Deviation_Detail!D130=\"\",\"\",CMS_Deviation_Detail!D130)","v":""},"",{"$f":"IF(COUNTIF(AY$2:AY108,AY108)=1,AY108,\"\")","v":""},"","","","",""]
[null,null,null,null,null,null,null,null,null,null,null,null,null,null,null,null,null,null,null,null,{"$f":"+IF(Z109=\"\",\"\",MAX(U$1:U108)+1)","v":""},{"$f":"IF(Limit_Deviation_Detail!B131=\"\",\"\",Limit_Deviation_Detail!B131)","v":""},{"$f":"IF(Limit_Deviation_Detail!C131=\"\",\"\",Limit_Deviation_Detail!C131)","v":""},{"$f":"IF(Limit_Deviation_Detail!E131=\"\",\"\",Limit_Deviation_Detail!E131)","v":""},"",{"$f":"IF(COUNTIF(Y$2:Y109,Y109)=1,Y109,\"\")","v":""},"","","","","",null,null,null,null,null,null,null,null,null,null,null,null,null,null,null,{"$f":"+IF(AZ109=\"\",\"\",MAX(AU$1:AU108)+1)","v":""},{"$f":"IF(CMS_Deviation_Detail!B131=\"\",\"\",CMS_Deviation_Detail!B131)","v":""},{"$f":"IF(CMS_Deviation_Detail!C131=\"\",\"\",CMS_Deviation_Detail!C131)","v":""},{"$f":"IF(CMS_Deviation_Detail!D131=\"\",\"\",CMS_Deviation_Detail!D131)","v":""},"",{"$f":"IF(COUNTIF(AY$2:AY109,AY109)=1,AY109,\"\")","v":""},"","","","",""]
[null,null,null,null,null,null,null,null,null,null,null,null,null,null,null,null,null,null,null,null,{"$f":"+IF(Z110=\"\",\"\",MAX(U$1:U109)+1)","v":""},{"$f":"IF(Limit_Deviation_Detail!B132=\"\",\"\",Limit_Deviation_Detail!B132)","v":""},{"$f":"IF(Limit_Deviation_Detail!C132=\"\",\"\",Limit_Deviation_Detail!C132)","v":""},{"$f":"IF(Limit_Deviation_Detail!E132=\"\",\"\",Limit_Deviation_Detail!E132)","v":""},"",{"$f":"IF(COUNTIF(Y$2:Y110,Y110)=1,Y110,\"\")","v":""},"","","","","",null,null,null,null,null,null,null,null,null,null,null,null,null,null,null,{"$f":"+IF(AZ110=\"\",\"\",MAX(AU$1:AU109)+1)","v":""},{"$f":"IF(CMS_Deviation_Detail!B132=\"\",\"\",CMS_Deviation_Detail!B132)","v":""},{"$f":"IF(CMS_Deviation_Detail!C132=\"\",\"\",CMS_Deviation_Detail!C132)","v":""},{"$f":"IF(CMS_Deviation_Detail!D132=\"\",\"\",CMS_Deviation_Detail!D132)","v":""},"",{"$f":"IF(COUNTIF(AY$2:AY110,AY110)=1,AY110,\"\")","v":""},"","","","",""]
[null,null,null,null,null,null,null,null,null,null,null,null,null,null,null,null,null,null,null,null,{"$f":"+IF(Z111=\"\",\"\",MAX(U$1:U110)+1)","v":""},{"$f":"IF(Limit_Deviation_Detail!B133=\"\",\"\",Limit_Deviation_Detail!B133)","v":""},{"$f":"IF(Limit_Deviation_Detail!C133=\"\",\"\",Limit_Deviation_Detail!C133)","v":""},{"$f":"IF(Limit_Deviation_Detail!E133=\"\",\"\",Limit_Deviation_Detail!E133)","v":""},"",{"$f":"IF(COUNTIF(Y$2:Y111,Y111)=1,Y111,\"\")","v":""},"","","","","",null,null,null,null,null,null,null,null,null,null,null,null,null,null,null,{"$f":"+IF(AZ111=\"\",\"\",MAX(AU$1:AU110)+1)","v":""},{"$f":"IF(CMS_Deviation_Detail!B133=\"\",\"\",CMS_Deviation_Detail!B133)","v":""},{"$f":"IF(CMS_Deviation_Detail!C133=\"\",\"\",CMS_Deviation_Detail!C133)","v":""},{"$f":"IF(CMS_Deviation_Detail!D133=\"\",\"\",CMS_Deviation_Detail!D133)","v":""},"",{"$f":"IF(COUNTIF(AY$2:AY111,AY111)=1,AY111,\"\")","v":""},"","","","",""]
[null,null,null,null,null,null,null,null,null,null,null,null,null,null,null,null,null,null,null,null,{"$f":"+IF(Z112=\"\",\"\",MAX(U$1:U111)+1)","v":""},{"$f":"IF(Limit_Deviation_Detail!B134=\"\",\"\",Limit_Deviation_Detail!B134)","v":""},{"$f":"IF(Limit_Deviation_Detail!C134=\"\",\"\",Limit_Deviation_Detail!C134)","v":""},{"$f":"IF(Limit_Deviation_Detail!E134=\"\",\"\",Limit_Deviation_Detail!E134)","v":""},"",{"$f":"IF(COUNTIF(Y$2:Y112,Y112)=1,Y112,\"\")","v":""},"","","","","",null,null,null,null,null,null,null,null,null,null,null,null,null,null,null,{"$f":"+IF(AZ112=\"\",\"\",MAX(AU$1:AU111)+1)","v":""},{"$f":"IF(CMS_Deviation_Detail!B134=\"\",\"\",CMS_Deviation_Detail!B134)","v":""},{"$f":"IF(CMS_Deviation_Detail!C134=\"\",\"\",CMS_Deviation_Detail!C134)","v":""},{"$f":"IF(CMS_Deviation_Detail!D134=\"\",\"\",CMS_Deviation_Detail!D134)","v":""},"",{"$f":"IF(COUNTIF(AY$2:AY112,AY112)=1,AY112,\"\")","v":""},"","","","",""]
[null,null,null,null,null,null,null,null,null,null,null,null,null,null,null,null,null,null,null,null,{"$f":"+IF(Z113=\"\",\"\",MAX(U$1:U112)+1)","v":""},{"$f":"IF(Limit_Deviation_Detail!B135=\"\",\"\",Limit_Deviation_Detail!B135)","v":""},{"$f":"IF(Limit_Deviation_Detail!C135=\"\",\"\",Limit_Deviation_Detail!C135)","v":""},{"$f":"IF(Limit_Deviation_Detail!E135=\"\",\"\",Limit_Deviation_Detail!E135)","v":""},"",{"$f":"IF(COUNTIF(Y$2:Y113,Y113)=1,Y113,\"\")","v":""},"","","","","",null,null,null,null,null,null,null,null,null,null,null,null,null,null,null,{"$f":"+IF(AZ113=\"\",\"\",MAX(AU$1:AU112)+1)","v":""},{"$f":"IF(CMS_Deviation_Detail!B135=\"\",\"\",CMS_Deviation_Detail!B135)","v":""},{"$f":"IF(CMS_Deviation_Detail!C135=\"\",\"\",CMS_Deviation_Detail!C135)","v":""},{"$f":"IF(CMS_Deviation_Detail!D135=\"\",\"\",CMS_Deviation_Detail!D135)","v":""},"",{"$f":"IF(COUNTIF(AY$2:AY113,AY113)=1,AY113,\"\")","v":""},"","","","",""]
[null,null,null,null,null,null,null,null,null,null,null,null,null,null,null,null,null,null,null,null,{"$f":"+IF(Z114=\"\",\"\",MAX(U$1:U113)+1)","v":""},{"$f":"IF(Limit_Deviation_Detail!B136=\"\",\"\",Limit_Deviation_Detail!B136)","v":""},{"$f":"IF(Limit_Deviation_Detail!C136=\"\",\"\",Limit_Deviation_Detail!C136)","v":""},{"$f":"IF(Limit_Deviation_Detail!E136=\"\",\"\",Limit_Deviation_Detail!E136)","v":""},"",{"$f":"IF(COUNTIF(Y$2:Y114,Y114)=1,Y114,\"\")","v":""},"","","","","",null,null,null,null,null,null,null,null,null,null,null,null,null,null,null,{"$f":"+IF(AZ114=\"\",\"\",MAX(AU$1:AU113)+1)","v":""},{"$f":"IF(CMS_Deviation_Detail!B136=\"\",\"\",CMS_Deviation_Detail!B136)","v":""},{"$f":"IF(CMS_Deviation_Detail!C136=\"\",\"\",CMS_Deviation_Detail!C136)","v":""},{"$f":"IF(CMS_Deviation_Detail!D136=\"\",\"\",CMS_Deviation_Detail!D136)","v":""},"",{"$f":"IF(COUNTIF(AY$2:AY114,AY114)=1,AY114,\"\")","v":""},"","","","",""]
[null,null,null,null,null,null,null,null,null,null,null,null,null,null,null,null,null,null,null,null,{"$f":"+IF(Z115=\"\",\"\",MAX(U$1:U114)+1)","v":""},{"$f":"IF(Limit_Deviation_Detail!B137=\"\",\"\",Limit_Deviation_Detail!B137)","v":""},{"$f":"IF(Limit_Deviation_Detail!C137=\"\",\"\",Limit_Deviation_Detail!C137)","v":""},{"$f":"IF(Limit_Deviation_Detail!E137=\"\",\"\",Limit_Deviation_Detail!E137)","v":""},"",{"$f":"IF(COUNTIF(Y$2:Y115,Y115)=1,Y115,\"\")","v":""},"","","","","",null,null,null,null,null,null,null,null,null,null,null,null,null,null,null,{"$f":"+IF(AZ115=\"\",\"\",MAX(AU$1:AU114)+1)","v":""},{"$f":"IF(CMS_Deviation_Detail!B137=\"\",\"\",CMS_Deviation_Detail!B137)","v":""},{"$f":"IF(CMS_Deviation_Detail!C137=\"\",\"\",CMS_Deviation_Detail!C137)","v":""},{"$f":"IF(CMS_Deviation_Detail!D137=\"\",\"\",CMS_Deviation_Detail!D137)","v":""},"",{"$f":"IF(COUNTIF(AY$2:AY115,AY115)=1,AY115,\"\")","v":""},"","","","",""]
[null,null,null,null,null,null,null,null,null,null,null,null,null,null,null,null,null,null,null,null,{"$f":"+IF(Z116=\"\",\"\",MAX(U$1:U115)+1)","v":""},{"$f":"IF(Limit_Deviation_Detail!B138=\"\",\"\",Limit_Deviation_Detail!B138)","v":""},{"$f":"IF(Limit_Deviation_Detail!C138=\"\",\"\",Limit_Deviation_Detail!C138)","v":""},{"$f":"IF(Limit_Deviation_Detail!E138=\"\",\"\",Limit_Deviation_Detail!E138)","v":""},"",{"$f":"IF(COUNTIF(Y$2:Y116,Y116)=1,Y116,\"\")","v":""},"","","","","",null,null,null,null,null,null,null,null,null,null,null,null,null,null,null,{"$f":"+IF(AZ116=\"\",\"\",MAX(AU$1:AU115)+1)","v":""},{"$f":"IF(CMS_Deviation_Detail!B138=\"\",\"\",CMS_Deviation_Detail!B138)","v":""},{"$f":"IF(CMS_Deviation_Detail!C138=\"\",\"\",CMS_Deviation_Detail!C138)","v":""},{"$f":"IF(CMS_Deviation_Detail!D138=\"\",\"\",CMS_Deviation_Detail!D138)","v":""},"",{"$f":"IF(COUNTIF(AY$2:AY116,AY116)=1,AY116,\"\")","v":""},"","","","",""]
[null,null,null,null,null,null,null,null,null,null,null,null,null,null,null,null,null,null,null,null,{"$f":"+IF(Z117=\"\",\"\",MAX(U$1:U116)+1)","v":""},{"$f":"IF(Limit_Deviation_Detail!B139=\"\",\"\",Limit_Deviation_Detail!B139)","v":""},{"$f":"IF(Limit_Deviation_Detail!C139=\"\",\"\",Limit_Deviation_Detail!C139)","v":""},{"$f":"IF(Limit_Deviation_Detail!E139=\"\",\"\",Limit_Deviation_Detail!E139)","v":""},"",{"$f":"IF(COUNTIF(Y$2:Y117,Y117)=1,Y117,\"\")","v":""},"","","","","",null,null,null,null,null,null,null,null,null,null,null,null,null,null,null,{"$f":"+IF(AZ117=\"\",\"\",MAX(AU$1:AU116)+1)","v":""},{"$f":"IF(CMS_Deviation_Detail!B139=\"\",\"\",CMS_Deviation_Detail!B139)","v":""},{"$f":"IF(CMS_Deviation_Detail!C139=\"\",\"\",CMS_Deviation_Detail!C139)","v":""},{"$f":"IF(CMS_Deviation_Detail!D139=\"\",\"\",CMS_Deviation_Detail!D139)","v":""},"",{"$f":"IF(COUNTIF(AY$2:AY117,AY117)=1,AY117,\"\")","v":""},"","","","",""]
[null,null,null,null,null,null,null,null,null,null,null,null,null,null,null,null,null,null,null,null,{"$f":"+IF(Z118=\"\",\"\",MAX(U$1:U117)+1)","v":""},{"$f":"IF(Limit_Deviation_Detail!B140=\"\",\"\",Limit_Deviation_Detail!B140)","v":""},{"$f":"IF(Limit_Deviation_Detail!C140=\"\",\"\",Limit_Deviation_Detail!C140)","v":""},{"$f":"IF(Limit_Deviation_Detail!E140=\"\",\"\",Limit_Deviation_Detail!E140)","v":""},"",{"$f":"IF(COUNTIF(Y$2:Y118,Y118)=1,Y118,\"\")","v":""},"","","","","",null,null,null,null,null,null,null,null,null,null,null,null,null,null,null,{"$f":"+IF(AZ118=\"\",\"\",MAX(AU$1:AU117)+1)","v":""},{"$f":"IF(CMS_Deviation_Detail!B140=\"\",\"\",CMS_Deviation_Detail!B140)","v":""},{"$f":"IF(CMS_Deviation_Detail!C140=\"\",\"\",CMS_Deviation_Detail!C140)","v":""},{"$f":"IF(CMS_Deviation_Detail!D140=\"\",\"\",CMS_Deviation_Detail!D140)","v":""},"",{"$f":"IF(COUNTIF(AY$2:AY118,AY118)=1,AY118,\"\")","v":""},"","","","",""]
[null,null,null,null,null,null,null,null,null,null,null,null,null,null,null,null,null,null,null,null,{"$f":"+IF(Z119=\"\",\"\",MAX(U$1:U118)+1)","v":""},{"$f":"IF(Limit_Deviation_Detail!B141=\"\",\"\",Limit_Deviation_Detail!B141)","v":""},{"$f":"IF(Limit_Deviation_Detail!C141=\"\",\"\",Limit_Deviation_Detail!C141)","v":""},{"$f":"IF(Limit_Deviation_Detail!E141=\"\",\"\",Limit_Deviation_Detail!E141)","v":""},"",{"$f":"IF(COUNTIF(Y$2:Y119,Y119)=1,Y119,\"\")","v":""},"","","","","",null,null,null,null,null,null,null,null,null,null,null,null,null,null,null,{"$f":"+IF(AZ119=\"\",\"\",MAX(AU$1:AU118)+1)","v":""},{"$f":"IF(CMS_Deviation_Detail!B141=\"\",\"\",CMS_Deviation_Detail!B141)","v":""},{"$f":"IF(CMS_Deviation_Detail!C141=\"\",\"\",CMS_Deviation_Detail!C141)","v":""},{"$f":"IF(CMS_Deviation_Detail!D141=\"\",\"\",CMS_Deviation_Detail!D141)","v":""},"",{"$f":"IF(COUNTIF(AY$2:AY119,AY119)=1,AY119,\"\")","v":""},"","","","",""]
[null,null,null,null,null,null,null,null,null,null,null,null,null,null,null,null,null,null,null,null,{"$f":"+IF(Z120=\"\",\"\",MAX(U$1:U119)+1)","v":""},{"$f":"IF(Limit_Deviation_Detail!B142=\"\",\"\",Limit_Deviation_Detail!B142)","v":""},{"$f":"IF(Limit_Deviation_Detail!C142=\"\",\"\",Limit_Deviation_Detail!C142)","v":""},{"$f":"IF(Limit_Deviation_Detail!E142=\"\",\"\",Limit_Deviation_Detail!E142)","v":""},"",{"$f":"IF(COUNTIF(Y$2:Y120,Y120)=1,Y120,\"\")","v":""},"","","","","",null,null,null,null,null,null,null,null,null,null,null,null,null,null,null,{"$f":"+IF(AZ120=\"\",\"\",MAX(AU$1:AU119)+1)","v":""},{"$f":"IF(CMS_Deviation_Detail!B142=\"\",\"\",CMS_Deviation_Detail!B142)","v":""},{"$f":"IF(CMS_Deviation_Detail!C142=\"\",\"\",CMS_Deviation_Detail!C142)","v":""},{"$f":"IF(CMS_Deviation_Detail!D142=\"\",\"\",CMS_Deviation_Detail!D142)","v":""},"",{"$f":"IF(COUNTIF(AY$2:AY120,AY120)=1,AY120,\"\")","v":""},"","","","",""]
[null,null,null,null,null,null,null,null,null,null,null,null,null,null,null,null,null,null,null,null,{"$f":"+IF(Z121=\"\",\"\",MAX(U$1:U120)+1)","v":""},{"$f":"IF(Limit_Deviation_Detail!B143=\"\",\"\",Limit_Deviation_Detail!B143)","v":""},{"$f":"IF(Limit_Deviation_Detail!C143=\"\",\"\",Limit_Deviation_Detail!C143)","v":""},{"$f":"IF(Limit_Deviation_Detail!E143=\"\",\"\",Limit_Deviation_Detail!E143)","v":""},"",{"$f":"IF(COUNTIF(Y$2:Y121,Y121)=1,Y121,\"\")","v":""},"","","","","",null,null,null,null,null,null,null,null,null,null,null,null,null,null,null,{"$f":"+IF(AZ121=\"\",\"\",MAX(AU$1:AU120)+1)","v":""},{"$f":"IF(CMS_Deviation_Detail!B143=\"\",\"\",CMS_Deviation_Detail!B143)","v":""},{"$f":"IF(CMS_Deviation_Detail!C143=\"\",\"\",CMS_Deviation_Detail!C143)","v":""},{"$f":"IF(CMS_Deviation_Detail!D143=\"\",\"\",CMS_Deviation_Detail!D143)","v":""},"",{"$f":"IF(COUNTIF(AY$2:AY121,AY121)=1,AY121,\"\")","v":""},"","","","",""]
[null,null,null,null,null,null,null,null,null,null,null,null,null,null,null,null,null,null,null,null,{"$f":"+IF(Z122=\"\",\"\",MAX(U$1:U121)+1)","v":""},{"$f":"IF(Limit_Deviation_Detail!B144=\"\",\"\",Limit_Deviation_Detail!B144)","v":""},{"$f":"IF(Limit_Deviation_Detail!C144=\"\",\"\",Limit_Deviation_Detail!C144)","v":""},{"$f":"IF(Limit_Deviation_Detail!E144=\"\",\"\",Limit_Deviation_Detail!E144)","v":""},"",{"$f":"IF(COUNTIF(Y$2:Y122,Y122)=1,Y122,\"\")","v":""},"","","","","",null,null,null,null,null,null,null,null,null,null,null,null,null,null,null,{"$f":"+IF(AZ122=\"\",\"\",MAX(AU$1:AU121)+1)","v":""},{"$f":"IF(CMS_Deviation_Detail!B144=\"\",\"\",CMS_Deviation_Detail!B144)","v":""},{"$f":"IF(CMS_Deviation_Detail!C144=\"\",\"\",CMS_Deviation_Detail!C144)","v":""},{"$f":"IF(CMS_Deviation_Detail!D144=\"\",\"\",CMS_Deviation_Detail!D144)","v":""},"",{"$f":"IF(COUNTIF(AY$2:AY122,AY122)=1,AY122,\"\")","v":""},"","","","",""]
[null,null,null,null,null,null,null,null,null,null,null,null,null,null,null,null,null,null,null,null,{"$f":"+IF(Z123=\"\",\"\",MAX(U$1:U122)+1)","v":""},{"$f":"IF(Limit_Deviation_Detail!B145=\"\",\"\",Limit_Deviation_Detail!B145)","v":""},{"$f":"IF(Limit_Deviation_Detail!C145=\"\",\"\",Limit_Deviation_Detail!C145)","v":""},{"$f":"IF(Limit_Deviation_Detail!E145=\"\",\"\",Limit_Deviation_Detail!E145)","v":""},"",{"$f":"IF(COUNTIF(Y$2:Y123,Y123)=1,Y123,\"\")","v":""},"","","","","",null,null,null,null,null,null,null,null,null,null,null,null,null,null,null,{"$f":"+IF(AZ123=\"\",\"\",MAX(AU$1:AU122)+1)","v":""},{"$f":"IF(CMS_Deviation_Detail!B145=\"\",\"\",CMS_Deviation_Detail!B145)","v":""},{"$f":"IF(CMS_Deviation_Detail!C145=\"\",\"\",CMS_Deviation_Detail!C145)","v":""},{"$f":"IF(CMS_Deviation_Detail!D145=\"\",\"\",CMS_Deviation_Detail!D145)","v":""},"",{"$f":"IF(COUNTIF(AY$2:AY123,AY123)=1,AY123,\"\")","v":""},"","","","",""]
[null,null,null,null,null,null,null,null,null,null,null,null,null,null,null,null,null,null,null,null,{"$f":"+IF(Z124=\"\",\"\",MAX(U$1:U123)+1)","v":""},{"$f":"IF(Limit_Deviation_Detail!B146=\"\",\"\",Limit_Deviation_Detail!B146)","v":""},{"$f":"IF(Limit_Deviation_Detail!C146=\"\",\"\",Limit_Deviation_Detail!C146)","v":""},{"$f":"IF(Limit_Deviation_Detail!E146=\"\",\"\",Limit_Deviation_Detail!E146)","v":""},"",{"$f":"IF(COUNTIF(Y$2:Y124,Y124)=1,Y124,\"\")","v":""},"","","","","",null,null,null,null,null,null,null,null,null,null,null,null,null,null,null,{"$f":"+IF(AZ124=\"\",\"\",MAX(AU$1:AU123)+1)","v":""},{"$f":"IF(CMS_Deviation_Detail!B146=\"\",\"\",CMS_Deviation_Detail!B146)","v":""},{"$f":"IF(CMS_Deviation_Detail!C146=\"\",\"\",CMS_Deviation_Detail!C146)","v":""},{"$f":"IF(CMS_Deviation_Detail!D146=\"\",\"\",CMS_Deviation_Detail!D146)","v":""},"",{"$f":"IF(COUNTIF(AY$2:AY124,AY124)=1,AY124,\"\")","v":""},"","","","",""]
[null,null,null,null,null,null,null,null,null,null,null,null,null,null,null,null,null,null,null,null,{"$f":"+IF(Z125=\"\",\"\",MAX(U$1:U124)+1)","v":""},{"$f":"IF(Limit_Deviation_Detail!B147=\"\",\"\",Limit_Deviation_Detail!B147)","v":""},{"$f":"IF(Limit_Deviation_Detail!C147=\"\",\"\",Limit_Deviation_Detail!C147)","v":""},{"$f":"IF(Limit_Deviation_Detail!E147=\"\",\"\",Limit_Deviation_Detail!E147)","v":""},"",{"$f":"IF(COUNTIF(Y$2:Y125,Y125)=1,Y125,\"\")","v":""},"","","","","",null,null,null,null,null,null,null,null,null,null,null,null,null,null,null,{"$f":"+IF(AZ125=\"\",\"\",MAX(AU$1:AU124)+1)","v":""},{"$f":"IF(CMS_Deviation_Detail!B147=\"\",\"\",CMS_Deviation_Detail!B147)","v":""},{"$f":"IF(CMS_Deviation_Detail!C147=\"\",\"\",CMS_Deviation_Detail!C147)","v":""},{"$f":"IF(CMS_Deviation_Detail!D147=\"\",\"\",CMS_Deviation_Detail!D147)","v":""},"",{"$f":"IF(COUNTIF(AY$2:AY125,AY125)=1,AY125,\"\")","v":""},"","","","",""]
[null,null,null,null,null,null,null,null,null,null,null,null,null,null,null,null,null,null,null,null,{"$f":"+IF(Z126=\"\",\"\",MAX(U$1:U125)+1)","v":""},{"$f":"IF(Limit_Deviation_Detail!B148=\"\",\"\",Limit_Deviation_Detail!B148)","v":""},{"$f":"IF(Limit_Deviation_Detail!C148=\"\",\"\",Limit_Deviation_Detail!C148)","v":""},{"$f":"IF(Limit_Deviation_Detail!E148=\"\",\"\",Limit_Deviation_Detail!E148)","v":""},"",{"$f":"IF(COUNTIF(Y$2:Y126,Y126)=1,Y126,\"\")","v":""},"","","","","",null,null,null,null,null,null,null,null,null,null,null,null,null,null,null,{"$f":"+IF(AZ126=\"\",\"\",MAX(AU$1:AU125)+1)","v":""},{"$f":"IF(CMS_Deviation_Detail!B148=\"\",\"\",CMS_Deviation_Detail!B148)","v":""},{"$f":"IF(CMS_Deviation_Detail!C148=\"\",\"\",CMS_Deviation_Detail!C148)","v":""},{"$f":"IF(CMS_Deviation_Detail!D148=\"\",\"\",CMS_Deviation_Detail!D148)","v":""},"",{"$f":"IF(COUNTIF(AY$2:AY126,AY126)=1,AY126,\"\")","v":""},"","","","",""]
[null,null,null,null,null,null,null,null,null,null,null,null,null,null,null,null,null,null,null,null,{"$f":"+IF(Z127=\"\",\"\",MAX(U$1:U126)+1)","v":""},{"$f":"IF(Limit_Deviation_Detail!B149=\"\",\"\",Limit_Deviation_Detail!B149)","v":""},{"$f":"IF(Limit_Deviation_Detail!C149=\"\",\"\",Limit_Deviation_Detail!C149)","v":""},{"$f":"IF(Limit_Deviation_Detail!E149=\"\",\"\",Limit_Deviation_Detail!E149)","v":""},"",{"$f":"IF(COUNTIF(Y$2:Y127,Y127)=1,Y127,\"\")","v":""},"","","","","",null,null,null,null,null,null,null,null,null,null,null,null,null,null,null,{"$f":"+IF(AZ127=\"\",\"\",MAX(AU$1:AU126)+1)","v":""},{"$f":"IF(CMS_Deviation_Detail!B149=\"\",\"\",CMS_Deviation_Detail!B149)","v":""},{"$f":"IF(CMS_Deviation_Detail!C149=\"\",\"\",CMS_Deviation_Detail!C149)","v":""},{"$f":"IF(CMS_Deviation_Detail!D149=\"\",\"\",CMS_Deviation_Detail!D149)","v":""},"",{"$f":"IF(COUNTIF(AY$2:AY127,AY127)=1,AY127,\"\")","v":""},"","","","",""]
[null,null,null,null,null,null,null,null,null,null,null,null,null,null,null,null,null,null,null,null,{"$f":"+IF(Z128=\"\",\"\",MAX(U$1:U127)+1)","v":""},{"$f":"IF(Limit_Deviation_Detail!B150=\"\",\"\",Limit_Deviation_Detail!B150)","v":""},{"$f":"IF(Limit_Deviation_Detail!C150=\"\",\"\",Limit_Deviation_Detail!C150)","v":""},{"$f":"IF(Limit_Deviation_Detail!E150=\"\",\"\",Limit_Deviation_Detail!E150)","v":""},"",{"$f":"IF(COUNTIF(Y$2:Y128,Y128)=1,Y128,\"\")","v":""},"","","","","",null,null,null,null,null,null,null,null,null,null,null,null,null,null,null,{"$f":"+IF(AZ128=\"\",\"\",MAX(AU$1:AU127)+1)","v":""},{"$f":"IF(CMS_Deviation_Detail!B150=\"\",\"\",CMS_Deviation_Detail!B150)","v":""},{"$f":"IF(CMS_Deviation_Detail!C150=\"\",\"\",CMS_Deviation_Detail!C150)","v":""},{"$f":"IF(CMS_Deviation_Detail!D150=\"\",\"\",CMS_Deviation_Detail!D150)","v":""},"",{"$f":"IF(COUNTIF(AY$2:AY128,AY128)=1,AY128,\"\")","v":""},"","","","",""]
[null,null,null,null,null,null,null,null,null,null,null,null,null,null,null,null,null,null,null,null,{"$f":"+IF(Z129=\"\",\"\",MAX(U$1:U128)+1)","v":""},{"$f":"IF(Limit_Deviation_Detail!B151=\"\",\"\",Limit_Deviation_Detail!B151)","v":""},{"$f":"IF(Limit_Deviation_Detail!C151=\"\",\"\",Limit_Deviation_Detail!C151)","v":""},{"$f":"IF(Limit_Deviation_Detail!E151=\"\",\"\",Limit_Deviation_Detail!E151)","v":""},"",{"$f":"IF(COUNTIF(Y$2:Y129,Y129)=1,Y129,\"\")","v":""},"","","","","",null,null,null,null,null,null,null,null,null,null,null,null,null,null,null,{"$f":"+IF(AZ129=\"\",\"\",MAX(AU$1:AU128)+1)","v":""},{"$f":"IF(CMS_Deviation_Detail!B151=\"\",\"\",CMS_Deviation_Detail!B151)","v":""},{"$f":"IF(CMS_Deviation_Detail!C151=\"\",\"\",CMS_Deviation_Detail!C151)","v":""},{"$f":"IF(CMS_Deviation_Detail!D151=\"\",\"\",CMS_Deviation_Detail!D151)","v":""},"",{"$f":"IF(COUNTIF(AY$2:AY129,AY129)=1,AY129,\"\")","v":""},"","","","",""]
[null,null,null,null,null,null,null,null,null,null,null,null,null,null,null,null,null,null,null,null,{"$f":"+IF(Z130=\"\",\"\",MAX(U$1:U129)+1)","v":""},{"$f":"IF(Limit_Deviation_Detail!B152=\"\",\"\",Limit_Deviation_Detail!B152)","v":""},{"$f":"IF(Limit_Deviation_Detail!C152=\"\",\"\",Limit_Deviation_Detail!C152)","v":""},{"$f":"IF(Limit_Deviation_Detail!E152=\"\",\"\",Limit_Deviation_Detail!E152)","v":""},{"$f":"V130&W130&X130","v":""},{"$f":"IF(COUNTIF(Y$2:Y130,Y130)=1,Y130,\"\")","v":""},{"$f":"+IFERROR(INDEX(V$2:V$955,MATCH(ROW()-ROW(Z$1),U$2:U$955,0)),\"\")","v":""},{"$f":"+IFERROR(INDEX(W$2:W$955,MATCH(ROW()-ROW(AA$1),U$2:U$955,0)),\"\")","v":""},{"$f":"+IFERROR(INDEX(X$2:X$955,MATCH(ROW()-ROW(AB$1),U$2:U$955,0)),\"\")","v":""},{"$f":"IF(AA130=\"\",\"\",AA130&AB130)","v":""},{"$f":"IF(AA130=\"\",\"\",VLOOKUP(AD130,$AO$2:$AS$78,5,FALSE))","v":""},null,null,null,null,null,null,null,null,null,null,null,null,null,null,null,{"$f":"+IF(AZ130=\"\",\"\",MAX(AU$1:AU129)+1)","v":""},{"$f":"IF(CMS_Deviation_Detail!B152=\"\",\"\",CMS_Deviation_Detail!B152)","v":""},{"$f":"IF(CMS_Deviation_Detail!C152=\"\",\"\",CMS_Deviation_Detail!C152)","v":""},{"$f":"IF(CMS_Deviation_Detail!D152=\"\",\"\",CMS_Deviation_Detail!D152)","v":""},"",{"$f":"IF(COUNTIF(AY$2:AY130,AY130)=1,AY130,\"\")","v":""},"","","","",{"$f":"IF(BA130=\"\",\"\",VLOOKUP(BD130,$AO$2:$AS$78,5,FALSE))","v":""}]
[null,null,null,null,null,null,null,null,null,null,null,null,null,null,null,null,null,null,null,null,{"$f":"+IF(Z131=\"\",\"\",MAX(U$1:U130)+1)","v":""},{"$f":"IF(Limit_Deviation_Detail!B153=\"\",\"\",Limit_Deviation_Detail!B153)","v":""},{"$f":"IF(Limit_Deviation_Detail!C153=\"\",\"\",Limit_Deviation_Detail!C153)","v":""},{"$f":"IF(Limit_Deviation_Detail!E153=\"\",\"\",Limit_Deviation_Detail!E153)","v":""},"",{"$f":"IF(COUNTIF(Y$2:Y131,Y131)=1,Y131,\"\")","v":""},"","","","","",null,null,null,null,null,null,null,null,null,null,null,null,null,null,null,{"$f":"+IF(AZ131=\"\",\"\",MAX(AU$1:AU130)+1)","v":""},{"$f":"IF(CMS_Deviation_Detail!B153=\"\",\"\",CMS_Deviation_Detail!B153)","v":""},{"$f":"IF(CMS_Deviation_Detail!C153=\"\",\"\",CMS_Deviation_Detail!C153)","v":""},{"$f":"IF(CMS_Deviation_Detail!D153=\"\",\"\",CMS_Deviation_Detail!D153)","v":""},{"$f":"AV131&AW131&AX131","v":""},{"$f":"IF(COUNTIF(AY$2:AY131,AY131)=1,AY131,\"\")","v":""},{"$f":"+IFERROR(INDEX(AV$2:AV$955,MATCH(ROW()-ROW(AZ$1),AU$2:AU$955,0)),\"\")","v":""},{"$f":"+IFERROR(INDEX(AW$2:AW$955,MATCH(ROW()-ROW(BA$1),AU$2:AU$955,0)),\"\")","v":""},{"$f":"+IFERROR(INDEX(AX$2:AX$955,MATCH(ROW()-ROW(BB$1),AU$2:AU$955,0)),\"\")","v":""},{"$f":"IF(BA131=\"\",\"\",BA131&BB131)","v":""},""]
[null,null,null,null,null,null,null,null,null,null,null,null,null,null,null,null,null,null,null,null,{"$f":"+IF(Z132=\"\",\"\",MAX(U$1:U131)+1)","v":""},{"$f":"IF(Limit_Deviation_Detail!B154=\"\",\"\",Limit_Deviation_Detail!B154)","v":""},{"$f":"IF(Limit_Deviation_Detail!C154=\"\",\"\",Limit_Deviation_Detail!C154)","v":""},{"$f":"IF(Limit_Deviation_Detail!E154=\"\",\"\",Limit_Deviation_Detail!E154)","v":""},"",{"$f":"IF(COUNTIF(Y$2:Y132,Y132)=1,Y132,\"\")","v":""},"","","","","",null,null,null,null,null,null,null,null,null,null,null,null,null,null,null,{"$f":"+IF(AZ132=\"\",\"\",MAX(AU$1:AU131)+1)","v":""},{"$f":"IF(CMS_Deviation_Detail!B154=\"\",\"\",CMS_Deviation_Detail!B154)","v":""},{"$f":"IF(CMS_Deviation_Detail!C154=\"\",\"\",CMS_Deviation_Detail!C154)","v":""},{"$f":"IF(CMS_Deviation_Detail!D154=\"\",\"\",CMS_Deviation_Detail!D154)","v":""},"",{"$f":"IF(COUNTIF(AY$2:AY132,AY132)=1,AY132,\"\")","v":""},"","","","",""]
[null,null,null,null,null,null,null,null,null,null,null,null,null,null,null,null,null,null,null,null,{"$f":"+IF(Z133=\"\",\"\",MAX(U$1:U132)+1)","v":""},{"$f":"IF(Limit_Deviation_Detail!B155=\"\",\"\",Limit_Deviation_Detail!B155)","v":""},{"$f":"IF(Limit_Deviation_Detail!C155=\"\",\"\",Limit_Deviation_Detail!C155)","v":""},{"$f":"IF(Limit_Deviation_Detail!E155=\"\",\"\",Limit_Deviation_Detail!E155)","v":""},"",{"$f":"IF(COUNTIF(Y$2:Y133,Y133)=1,Y133,\"\")","v":""},"","","","","",null,null,null,null,null,null,null,null,null,null,null,null,null,null,null,{"$f":"+IF(AZ133=\"\",\"\",MAX(AU$1:AU132)+1)","v":""},{"$f":"IF(CMS_Deviation_Detail!B155=\"\",\"\",CMS_Deviation_Detail!B155)","v":""},{"$f":"IF(CMS_Deviation_Detail!C155=\"\",\"\",CMS_Deviation_Detail!C155)","v":""},{"$f":"IF(CMS_Deviation_Detail!D155=\"\",\"\",CMS_Deviation_Detail!D155)","v":""},"",{"$f":"IF(COUNTIF(AY$2:AY133,AY133)=1,AY133,\"\")","v":""},"","","","",""]
[null,null,null,null,null,null,null,null,null,null,null,null,null,null,null,null,null,null,null,null,{"$f":"+IF(Z134=\"\",\"\",MAX(U$1:U133)+1)","v":""},{"$f":"IF(Limit_Deviation_Detail!B156=\"\",\"\",Limit_Deviation_Detail!B156)","v":""},{"$f":"IF(Limit_Deviation_Detail!C156=\"\",\"\",Limit_Deviation_Detail!C156)","v":""},{"$f":"IF(Limit_Deviation_Detail!E156=\"\",\"\",Limit_Deviation_Detail!E156)","v":""},"",{"$f":"IF(COUNTIF(Y$2:Y134,Y134)=1,Y134,\"\")","v":""},"","","","","",null,null,null,null,null,null,null,null,null,null,null,null,null,null,null,{"$f":"+IF(AZ134=\"\",\"\",MAX(AU$1:AU133)+1)","v":""},{"$f":"IF(CMS_Deviation_Detail!B156=\"\",\"\",CMS_Deviation_Detail!B156)","v":""},{"$f":"IF(CMS_Deviation_Detail!C156=\"\",\"\",CMS_Deviation_Detail!C156)","v":""},{"$f":"IF(CMS_Deviation_Detail!D156=\"\",\"\",CMS_Deviation_Detail!D156)","v":""},"",{"$f":"IF(COUNTIF(AY$2:AY134,AY134)=1,AY134,\"\")","v":""},"","","","",""]
[null,null,null,null,null,null,null,null,null,null,null,null,null,null,null,null,null,null,null,null,{"$f":"+IF(Z135=\"\",\"\",MAX(U$1:U134)+1)","v":""},{"$f":"IF(Limit_Deviation_Detail!B157=\"\",\"\",Limit_Deviation_Detail!B157)","v":""},{"$f":"IF(Limit_Deviation_Detail!C157=\"\",\"\",Limit_Deviation_Detail!C157)","v":""},{"$f":"IF(Limit_Deviation_Detail!E157=\"\",\"\",Limit_Deviation_Detail!E157)","v":""},"",{"$f":"IF(COUNTIF(Y$2:Y135,Y135)=1,Y135,\"\")","v":""},"","","","","",null,null,null,null,null,null,null,null,null,null,null,null,null,null,null,{"$f":"+IF(AZ135=\"\",\"\",MAX(AU$1:AU134)+1)","v":""},{"$f":"IF(CMS_Deviation_Detail!B157=\"\",\"\",CMS_Deviation_Detail!B157)","v":""},{"$f":"IF(CMS_Deviation_Detail!C157=\"\",\"\",CMS_Deviation_Detail!C157)","v":""},{"$f":"IF(CMS_Deviation_Detail!D157=\"\",\"\",CMS_Deviation_Detail!D157)","v":""},"",{"$f":"IF(COUNTIF(AY$2:AY135,AY135)=1,AY135,\"\")","v":""},"","","","",""]
[null,null,null,null,null,null,null,null,null,null,null,null,null,null,null,null,null,null,null,null,{"$f":"+IF(Z136=\"\",\"\",MAX(U$1:U135)+1)","v":""},{"$f":"IF(Limit_Deviation_Detail!B158=\"\",\"\",Limit_Deviation_Detail!B158)","v":""},{"$f":"IF(Limit_Deviation_Detail!C158=\"\",\"\",Limit_Deviation_Detail!C158)","v":""},{"$f":"IF(Limit_Deviation_Detail!E158=\"\",\"\",Limit_Deviation_Detail!E158)","v":""},"",{"$f":"IF(COUNTIF(Y$2:Y136,Y136)=1,Y136,\"\")","v":""},"","","","","",null,null,null,null,null,null,null,null,null,null,null,null,null,null,null,{"$f":"+IF(AZ136=\"\",\"\",MAX(AU$1:AU135)+1)","v":""},{"$f":"IF(CMS_Deviation_Detail!B158=\"\",\"\",CMS_Deviation_Detail!B158)","v":""},{"$f":"IF(CMS_Deviation_Detail!C158=\"\",\"\",CMS_Deviation_Detail!C158)","v":""},{"$f":"IF(CMS_Deviation_Detail!D158=\"\",\"\",CMS_Deviation_Detail!D158)","v":""},"",{"$f":"IF(COUNTIF(AY$2:AY136,AY136)=1,AY136,\"\")","v":""},"","","","",""]
[null,null,null,null,null,null,null,null,null,null,null,null,null,null,null,null,null,null,null,null,{"$f":"+IF(Z137=\"\",\"\",MAX(U$1:U136)+1)","v":""},{"$f":"IF(Limit_Deviation_Detail!B159=\"\",\"\",Limit_Deviation_Detail!B159)","v":""},{"$f":"IF(Limit_Deviation_Detail!C159=\"\",\"\",Limit_Deviation_Detail!C159)","v":""},{"$f":"IF(Limit_Deviation_Detail!E159=\"\",\"\",Limit_Deviation_Detail!E159)","v":""},"",{"$f":"IF(COUNTIF(Y$2:Y137,Y137)=1,Y137,\"\")","v":""},"","","","","",null,null,null,null,null,null,null,null,null,null,null,null,null,null,null,{"$f":"+IF(AZ137=\"\",\"\",MAX(AU$1:AU136)+1)","v":""},{"$f":"IF(CMS_Deviation_Detail!B159=\"\",\"\",CMS_Deviation_Detail!B159)","v":""},{"$f":"IF(CMS_Deviation_Detail!C159=\"\",\"\",CMS_Deviation_Detail!C159)","v":""},{"$f":"IF(CMS_Deviation_Detail!D159=\"\",\"\",CMS_Deviation_Detail!D159)","v":""},"",{"$f":"IF(COUNTIF(AY$2:AY137,AY137)=1,AY137,\"\")","v":""},"","","","",""]
[null,null,null,null,null,null,null,null,null,null,null,null,null,null,null,null,null,null,null,null,{"$f":"+IF(Z138=\"\",\"\",MAX(U$1:U137)+1)","v":""},{"$f":"IF(Limit_Deviation_Detail!B160=\"\",\"\",Limit_Deviation_Detail!B160)","v":""},{"$f":"IF(Limit_Deviation_Detail!C160=\"\",\"\",Limit_Deviation_Detail!C160)","v":""},{"$f":"IF(Limit_Deviation_Detail!E160=\"\",\"\",Limit_Deviation_Detail!E160)","v":""},"",{"$f":"IF(COUNTIF(Y$2:Y138,Y138)=1,Y138,\"\")","v":""},"","","","","",null,null,null,null,null,null,null,null,null,null,null,null,null,null,null,{"$f":"+IF(AZ138=\"\",\"\",MAX(AU$1:AU137)+1)","v":""},{"$f":"IF(CMS_Deviation_Detail!B160=\"\",\"\",CMS_Deviation_Detail!B160)","v":""},{"$f":"IF(CMS_Deviation_Detail!C160=\"\",\"\",CMS_Deviation_Detail!C160)","v":""},{"$f":"IF(CMS_Deviation_Detail!D160=\"\",\"\",CMS_Deviation_Detail!D160)","v":""},"",{"$f":"IF(COUNTIF(AY$2:AY138,AY138)=1,AY138,\"\")","v":""},"","","","",""]
[null,null,null,null,null,null,null,null,null,null,null,null,null,null,null,null,null,null,null,null,{"$f":"+IF(Z139=\"\",\"\",MAX(U$1:U138)+1)","v":""},{"$f":"IF(Limit_Deviation_Detail!B161=\"\",\"\",Limit_Deviation_Detail!B161)","v":""},{"$f":"IF(Limit_Deviation_Detail!C161=\"\",\"\",Limit_Deviation_Detail!C161)","v":""},{"$f":"IF(Limit_Deviation_Detail!E161=\"\",\"\",Limit_Deviation_Detail!E161)","v":""},"",{"$f":"IF(COUNTIF(Y$2:Y139,Y139)=1,Y139,\"\")","v":""},"","","","","",null,null,null,null,null,null,null,null,null,null,null,null,null,null,null,{"$f":"+IF(AZ139=\"\",\"\",MAX(AU$1:AU138)+1)","v":""},{"$f":"IF(CMS_Deviation_Detail!B161=\"\",\"\",CMS_Deviation_Detail!B161)","v":""},{"$f":"IF(CMS_Deviation_Detail!C161=\"\",\"\",CMS_Deviation_Detail!C161)","v":""},{"$f":"IF(CMS_Deviation_Detail!D161=\"\",\"\",CMS_Deviation_Detail!D161)","v":""},"",{"$f":"IF(COUNTIF(AY$2:AY139,AY139)=1,AY139,\"\")","v":""},"","","","",""]
[null,null,null,null,null,null,null,null,null,null,null,null,null,null,null,null,null,null,null,null,{"$f":"+IF(Z140=\"\",\"\",MAX(U$1:U139)+1)","v":""},{"$f":"IF(Limit_Deviation_Detail!B162=\"\",\"\",Limit_Deviation_Detail!B162)","v":""},{"$f":"IF(Limit_Deviation_Detail!C162=\"\",\"\",Limit_Deviation_Detail!C162)","v":""},{"$f":"IF(Limit_Deviation_Detail!E162=\"\",\"\",Limit_Deviation_Detail!E162)","v":""},"",{"$f":"IF(COUNTIF(Y$2:Y140,Y140)=1,Y140,\"\")","v":""},"","","","","",null,null,null,null,null,null,null,null,null,null,null,null,null,null,null,{"$f":"+IF(AZ140=\"\",\"\",MAX(AU$1:AU139)+1)","v":""},{"$f":"IF(CMS_Deviation_Detail!B162=\"\",\"\",CMS_Deviation_Detail!B162)","v":""},{"$f":"IF(CMS_Deviation_Detail!C162=\"\",\"\",CMS_Deviation_Detail!C162)","v":""},{"$f":"IF(CMS_Deviation_Detail!D162=\"\",\"\",CMS_Deviation_Detail!D162)","v":""},"",{"$f":"IF(COUNTIF(AY$2:AY140,AY140)=1,AY140,\"\")","v":""},"","","","",""]
[null,null,null,null,null,null,null,null,null,null,null,null,null,null,null,null,null,null,null,null,{"$f":"+IF(Z141=\"\",\"\",MAX(U$1:U140)+1)","v":""},{"$f":"IF(Limit_Deviation_Detail!B163=\"\",\"\",Limit_Deviation_Detail!B163)","v":""},{"$f":"IF(Limit_Deviation_Detail!C163=\"\",\"\",Limit_Deviation_Detail!C163)","v":""},{"$f":"IF(Limit_Deviation_Detail!E163=\"\",\"\",Limit_Deviation_Detail!E163)","v":""},"",{"$f":"IF(COUNTIF(Y$2:Y141,Y141)=1,Y141,\"\")","v":""},"","","","","",null,null,null,null,null,null,null,null,null,null,null,null,null,null,null,{"$f":"+IF(AZ141=\"\",\"\",MAX(AU$1:AU140)+1)","v":""},{"$f":"IF(CMS_Deviation_Detail!B163=\"\",\"\",CMS_Deviation_Detail!B163)","v":""},{"$f":"IF(CMS_Deviation_Detail!C163=\"\",\"\",CMS_Deviation_Detail!C163)","v":""},{"$f":"IF(CMS_Deviation_Detail!D163=\"\",\"\",CMS_Deviation_Detail!D163)","v":""},"",{"$f":"IF(COUNTIF(AY$2:AY141,AY141)=1,AY141,\"\")","v":""},"","","","",""]
[null,null,null,null,null,null,null,null,null,null,null,null,null,null,null,null,null,null,null,null,{"$f":"+IF(Z142=\"\",\"\",MAX(U$1:U141)+1)","v":""},{"$f":"IF(Limit_Deviation_Detail!B164=\"\",\"\",Limit_Deviation_Detail!B164)","v":""},{"$f":"IF(Limit_Deviation_Detail!C164=\"\",\"\",Limit_Deviation_Detail!C164)","v":""},{"$f":"IF(Limit_Deviation_Detail!E164=\"\",\"\",Limit_Deviation_Detail!E164)","v":""},"",{"$f":"IF(COUNTIF(Y$2:Y142,Y142)=1,Y142,\"\")","v":""},"","","","","",null,null,null,null,null,null,null,null,null,null,null,null,null,null,null,{"$f":"+IF(AZ142=\"\",\"\",MAX(AU$1:AU141)+1)","v":""},{"$f":"IF(CMS_Deviation_Detail!B164=\"\",\"\",CMS_Deviation_Detail!B164)","v":""},{"$f":"IF(CMS_Deviation_Detail!C164=\"\",\"\",CMS_Deviation_Detail!C164)","v":""},{"$f":"IF(CMS_Deviation_Detail!D164=\"\",\"\",CMS_Deviation_Detail!D164)","v":""},"",{"$f":"IF(COUNTIF(AY$2:AY142,AY142)=1,AY142,\"\")","v":""},"","","","",""]
[null,null,null,null,null,null,null,null,null,null,null,null,null,null,null,null,null,null,null,null,{"$f":"+IF(Z143=\"\",\"\",MAX(U$1:U142)+1)","v":""},{"$f":"IF(Limit_Deviation_Detail!B165=\"\",\"\",Limit_Deviation_Detail!B165)","v":""},{"$f":"IF(Limit_Deviation_Detail!C165=\"\",\"\",Limit_Deviation_Detail!C165)","v":""},{"$f":"IF(Limit_Deviation_Detail!E165=\"\",\"\",Limit_Deviation_Detail!E165)","v":""},"",{"$f":"IF(COUNTIF(Y$2:Y143,Y143)=1,Y143,\"\")","v":""},"","","","","",null,null,null,null,null,null,null,null,null,null,null,null,null,null,null,{"$f":"+IF(AZ143=\"\",\"\",MAX(AU$1:AU142)+1)","v":""},{"$f":"IF(CMS_Deviation_Detail!B165=\"\",\"\",CMS_Deviation_Detail!B165)","v":""},{"$f":"IF(CMS_Deviation_Detail!C165=\"\",\"\",CMS_Deviation_Detail!C165)","v":""},{"$f":"IF(CMS_Deviation_Detail!D165=\"\",\"\",CMS_Deviation_Detail!D165)","v":""},"",{"$f":"IF(COUNTIF(AY$2:AY143,AY143)=1,AY143,\"\")","v":""},"","","","",""]
[null,null,null,null,null,null,null,null,null,null,null,null,null,null,null,null,null,null,null,null,{"$f":"+IF(Z144=\"\",\"\",MAX(U$1:U143)+1)","v":""},{"$f":"IF(Limit_Deviation_Detail!B166=\"\",\"\",Limit_Deviation_Detail!B166)","v":""},{"$f":"IF(Limit_Deviation_Detail!C166=\"\",\"\",Limit_Deviation_Detail!C166)","v":""},{"$f":"IF(Limit_Deviation_Detail!E166=\"\",\"\",Limit_Deviation_Detail!E166)","v":""},"",{"$f":"IF(COUNTIF(Y$2:Y144,Y144)=1,Y144,\"\")","v":""},"","","","","",null,null,null,null,null,null,null,null,null,null,null,null,null,null,null,{"$f":"+IF(AZ144=\"\",\"\",MAX(AU$1:AU143)+1)","v":""},{"$f":"IF(CMS_Deviation_Detail!B166=\"\",\"\",CMS_Deviation_Detail!B166)","v":""},{"$f":"IF(CMS_Deviation_Detail!C166=\"\",\"\",CMS_Deviation_Detail!C166)","v":""},{"$f":"IF(CMS_Deviation_Detail!D166=\"\",\"\",CMS_Deviation_Detail!D166)","v":""},"",{"$f":"IF(COUNTIF(AY$2:AY144,AY144)=1,AY144,\"\")","v":""},"","","","",""]
[null,null,null,null,null,null,null,null,null,null,null,null,null,null,null,null,null,null,null,null,{"$f":"+IF(Z145=\"\",\"\",MAX(U$1:U144)+1)","v":""},{"$f":"IF(Limit_Deviation_Detail!B167=\"\",\"\",Limit_Deviation_Detail!B167)","v":""},{"$f":"IF(Limit_Deviation_Detail!C167=\"\",\"\",Limit_Deviation_Detail!C167)","v":""},{"$f":"IF(Limit_Deviation_Detail!E167=\"\",\"\",Limit_Deviation_Detail!E167)","v":""},"",{"$f":"IF(COUNTIF(Y$2:Y145,Y145)=1,Y145,\"\")","v":""},"","","","","",null,null,null,null,null,null,null,null,null,null,null,null,null,null,null,{"$f":"+IF(AZ145=\"\",\"\",MAX(AU$1:AU144)+1)","v":""},{"$f":"IF(CMS_Deviation_Detail!B167=\"\",\"\",CMS_Deviation_Detail!B167)","v":""},{"$f":"IF(CMS_Deviation_Detail!C167=\"\",\"\",CMS_Deviation_Detail!C167)","v":""},{"$f":"IF(CMS_Deviation_Detail!D167=\"\",\"\",CMS_Deviation_Detail!D167)","v":""},"",{"$f":"IF(COUNTIF(AY$2:AY145,AY145)=1,AY145,\"\")","v":""},"","","","",""]
[null,null,null,null,null,null,null,null,null,null,null,null,null,null,null,null,null,null,null,null,{"$f":"+IF(Z146=\"\",\"\",MAX(U$1:U145)+1)","v":""},{"$f":"IF(Limit_Deviation_Detail!B168=\"\",\"\",Limit_Deviation_Detail!B168)","v":""},{"$f":"IF(Limit_Deviation_Detail!C168=\"\",\"\",Limit_Deviation_Detail!C168)","v":""},{"$f":"IF(Limit_Deviation_Detail!E168=\"\",\"\",Limit_Deviation_Detail!E168)","v":""},"",{"$f":"IF(COUNTIF(Y$2:Y146,Y146)=1,Y146,\"\")","v":""},"","","","","",null,null,null,null,null,null,null,null,null,null,null,null,null,null,null,{"$f":"+IF(AZ146=\"\",\"\",MAX(AU$1:AU145)+1)","v":""},{"$f":"IF(CMS_Deviation_Detail!B168=\"\",\"\",CMS_Deviation_Detail!B168)","v":""},{"$f":"IF(CMS_Deviation_Detail!C168=\"\",\"\",CMS_Deviation_Detail!C168)","v":""},{"$f":"IF(CMS_Deviation_Detail!D168=\"\",\"\",CMS_Deviation_Detail!D168)","v":""},"",{"$f":"IF(COUNTIF(AY$2:AY146,AY146)=1,AY146,\"\")","v":""},"","","","",""]
[null,null,null,null,null,null,null,null,null,null,null,null,null,null,null,null,null,null,null,null,{"$f":"+IF(Z147=\"\",\"\",MAX(U$1:U146)+1)","v":""},{"$f":"IF(Limit_Deviation_Detail!B169=\"\",\"\",Limit_Deviation_Detail!B169)","v":""},{"$f":"IF(Limit_Deviation_Detail!C169=\"\",\"\",Limit_Deviation_Detail!C169)","v":""},{"$f":"IF(Limit_Deviation_Detail!E169=\"\",\"\",Limit_Deviation_Detail!E169)","v":""},"",{"$f":"IF(COUNTIF(Y$2:Y147,Y147)=1,Y147,\"\")","v":""},"","","","","",null,null,null,null,null,null,null,null,null,null,null,null,null,null,null,{"$f":"+IF(AZ147=\"\",\"\",MAX(AU$1:AU146)+1)","v":""},{"$f":"IF(CMS_Deviation_Detail!B169=\"\",\"\",CMS_Deviation_Detail!B169)","v":""},{"$f":"IF(CMS_Deviation_Detail!C169=\"\",\"\",CMS_Deviation_Detail!C169)","v":""},{"$f":"IF(CMS_Deviation_Detail!D169=\"\",\"\",CMS_Deviation_Detail!D169)","v":""},"",{"$f":"IF(COUNTIF(AY$2:AY147,AY147)=1,AY147,\"\")","v":""},"","","","",""]
[null,null,null,null,null,null,null,null,null,null,null,null,null,null,null,null,null,null,null,null,{"$f":"+IF(Z148=\"\",\"\",MAX(U$1:U147)+1)","v":""},{"$f":"IF(Limit_Deviation_Detail!B170=\"\",\"\",Limit_Deviation_Detail!B170)","v":""},{"$f":"IF(Limit_Deviation_Detail!C170=\"\",\"\",Limit_Deviation_Detail!C170)","v":""},{"$f":"IF(Limit_Deviation_Detail!E170=\"\",\"\",Limit_Deviation_Detail!E170)","v":""},"",{"$f":"IF(COUNTIF(Y$2:Y148,Y148)=1,Y148,\"\")","v":""},"","","","","",null,null,null,null,null,null,null,null,null,null,null,null,null,null,null,{"$f":"+IF(AZ148=\"\",\"\",MAX(AU$1:AU147)+1)","v":""},{"$f":"IF(CMS_Deviation_Detail!B170=\"\",\"\",CMS_Deviation_Detail!B170)","v":""},{"$f":"IF(CMS_Deviation_Detail!C170=\"\",\"\",CMS_Deviation_Detail!C170)","v":""},{"$f":"IF(CMS_Deviation_Detail!D170=\"\",\"\",CMS_Deviation_Detail!D170)","v":""},"",{"$f":"IF(COUNTIF(AY$2:AY148,AY148)=1,AY148,\"\")","v":""},"","","","",""]
[null,null,null,null,null,null,null,null,null,null,null,null,null,null,null,null,null,null,null,null,{"$f":"+IF(Z149=\"\",\"\",MAX(U$1:U148)+1)","v":""},{"$f":"IF(Limit_Deviation_Detail!B171=\"\",\"\",Limit_Deviation_Detail!B171)","v":""},{"$f":"IF(Limit_Deviation_Detail!C171=\"\",\"\",Limit_Deviation_Detail!C171)","v":""},{"$f":"IF(Limit_Deviation_Detail!E171=\"\",\"\",Limit_Deviation_Detail!E171)","v":""},"",{"$f":"IF(COUNTIF(Y$2:Y149,Y149)=1,Y149,\"\")","v":""},"","","","","",null,null,null,null,null,null,null,null,null,null,null,null,null,null,null,{"$f":"+IF(AZ149=\"\",\"\",MAX(AU$1:AU148)+1)","v":""},{"$f":"IF(CMS_Deviation_Detail!B171=\"\",\"\",CMS_Deviation_Detail!B171)","v":""},{"$f":"IF(CMS_Deviation_Detail!C171=\"\",\"\",CMS_Deviation_Detail!C171)","v":""},{"$f":"IF(CMS_Deviation_Detail!D171=\"\",\"\",CMS_Deviation_Detail!D171)","v":""},"",{"$f":"IF(COUNTIF(AY$2:AY149,AY149)=1,AY149,\"\")","v":""},"","","","",""]
[null,null,null,null,null,null,null,null,null,null,null,null,null,null,null,null,null,null,null,null,{"$f":"+IF(Z150=\"\",\"\",MAX(U$1:U149)+1)","v":""},{"$f":"IF(Limit_Deviation_Detail!B172=\"\",\"\",Limit_Deviation_Detail!B172)","v":""},{"$f":"IF(Limit_Deviation_Detail!C172=\"\",\"\",Limit_Deviation_Detail!C172)","v":""},{"$f":"IF(Limit_Deviation_Detail!E172=\"\",\"\",Limit_Deviation_Detail!E172)","v":""},"",{"$f":"IF(COUNTIF(Y$2:Y150,Y150)=1,Y150,\"\")","v":""},"","","","","",null,null,null,null,null,null,null,null,null,null,null,null,null,null,null,{"$f":"+IF(AZ150=\"\",\"\",MAX(AU$1:AU149)+1)","v":""},{"$f":"IF(CMS_Deviation_Detail!B172=\"\",\"\",CMS_Deviation_Detail!B172)","v":""},{"$f":"IF(CMS_Deviation_Detail!C172=\"\",\"\",CMS_Deviation_Detail!C172)","v":""},{"$f":"IF(CMS_Deviation_Detail!D172=\"\",\"\",CMS_Deviation_Detail!D172)","v":""},"",{"$f":"IF(COUNTIF(AY$2:AY150,AY150)=1,AY150,\"\")","v":""},"","","","",""]
[null,null,null,null,null,null,null,null,null,null,null,null,null,null,null,null,null,null,null,null,{"$f":"+IF(Z151=\"\",\"\",MAX(U$1:U150)+1)","v":""},{"$f":"IF(Limit_Deviation_Detail!B173=\"\",\"\",Limit_Deviation_Detail!B173)","v":""},{"$f":"IF(Limit_Deviation_Detail!C173=\"\",\"\",Limit_Deviation_Detail!C173)","v":""},{"$f":"IF(Limit_Deviation_Detail!E173=\"\",\"\",Limit_Deviation_Detail!E173)","v":""},"",{"$f":"IF(COUNTIF(Y$2:Y151,Y151)=1,Y151,\"\")","v":""},"","","","","",null,null,null,null,null,null,null,null,null,null,null,null,null,null,null,{"$f":"+IF(AZ151=\"\",\"\",MAX(AU$1:AU150)+1)","v":""},{"$f":"IF(CMS_Deviation_Detail!B173=\"\",\"\",CMS_Deviation_Detail!B173)","v":""},{"$f":"IF(CMS_Deviation_Detail!C173=\"\",\"\",CMS_Deviation_Detail!C173)","v":""},{"$f":"IF(CMS_Deviation_Detail!D173=\"\",\"\",CMS_Deviation_Detail!D173)","v":""},"",{"$f":"IF(COUNTIF(AY$2:AY151,AY151)=1,AY151,\"\")","v":""},"","","","",""]
[null,null,null,null,null,null,null,null,null,null,null,null,null,null,null,null,null,null,null,null,{"$f":"+IF(Z152=\"\",\"\",MAX(U$1:U151)+1)","v":""},{"$f":"IF(Limit_Deviation_Detail!B174=\"\",\"\",Limit_Deviation_Detail!B174)","v":""},{"$f":"IF(Limit_Deviation_Detail!C174=\"\",\"\",Limit_Deviation_Detail!C174)","v":""},{"$f":"IF(Limit_Deviation_Detail!E174=\"\",\"\",Limit_Deviation_Detail!E174)","v":""},"",{"$f":"IF(COUNTIF(Y$2:Y152,Y152)=1,Y152,\"\")","v":""},"","","","","",null,null,null,null,null,null,null,null,null,null,null,null,null,null,null,{"$f":"+IF(AZ152=\"\",\"\",MAX(AU$1:AU151)+1)","v":""},{"$f":"IF(CMS_Deviation_Detail!B174=\"\",\"\",CMS_Deviation_Detail!B174)","v":""},{"$f":"IF(CMS_Deviation_Detail!C174=\"\",\"\",CMS_Deviation_Detail!C174)","v":""},{"$f":"IF(CMS_Deviation_Detail!D174=\"\",\"\",CMS_Deviation_Detail!D174)","v":""},"",{"$f":"IF(COUNTIF(AY$2:AY152,AY152)=1,AY152,\"\")","v":""},"","","","",""]
[null,null,null,null,null,null,null,null,null,null,null,null,null,null,null,null,null,null,null,null,{"$f":"+IF(Z153=\"\",\"\",MAX(U$1:U152)+1)","v":""},{"$f":"IF(Limit_Deviation_Detail!B175=\"\",\"\",Limit_Deviation_Detail!B175)","v":""},{"$f":"IF(Limit_Deviation_Detail!C175=\"\",\"\",Limit_Deviation_Detail!C175)","v":""},{"$f":"IF(Limit_Deviation_Detail!E175=\"\",\"\",Limit_Deviation_Detail!E175)","v":""},"",{"$f":"IF(COUNTIF(Y$2:Y153,Y153)=1,Y153,\"\")","v":""},"","","","","",null,null,null,null,null,null,null,null,null,null,null,null,null,null,null,{"$f":"+IF(AZ153=\"\",\"\",MAX(AU$1:AU152)+1)","v":""},{"$f":"IF(CMS_Deviation_Detail!B175=\"\",\"\",CMS_Deviation_Detail!B175)","v":""},{"$f":"IF(CMS_Deviation_Detail!C175=\"\",\"\",CMS_Deviation_Detail!C175)","v":""},{"$f":"IF(CMS_Deviation_Detail!D175=\"\",\"\",CMS_Deviation_Detail!D175)","v":""},"",{"$f":"IF(COUNTIF(AY$2:AY153,AY153)=1,AY153,\"\")","v":""},"","","","",""]
[null,null,null,null,null,null,null,null,null,null,null,null,null,null,null,null,null,null,null,null,{"$f":"+IF(Z154=\"\",\"\",MAX(U$1:U153)+1)","v":""},{"$f":"IF(Limit_Deviation_Detail!B176=\"\",\"\",Limit_Deviation_Detail!B176)","v":""},{"$f":"IF(Limit_Deviation_Detail!C176=\"\",\"\",Limit_Deviation_Detail!C176)","v":""},{"$f":"IF(Limit_Deviation_Detail!E176=\"\",\"\",Limit_Deviation_Detail!E176)","v":""},"",{"$f":"IF(COUNTIF(Y$2:Y154,Y154)=1,Y154,\"\")","v":""},"","","","","",null,null,null,null,null,null,null,null,null,null,null,null,null,null,null,{"$f":"+IF(AZ154=\"\",\"\",MAX(AU$1:AU153)+1)","v":""},{"$f":"IF(CMS_Deviation_Detail!B176=\"\",\"\",CMS_Deviation_Detail!B176)","v":""},{"$f":"IF(CMS_Deviation_Detail!C176=\"\",\"\",CMS_Deviation_Detail!C176)","v":""},{"$f":"IF(CMS_Deviation_Detail!D176=\"\",\"\",CMS_Deviation_Detail!D176)","v":""},"",{"$f":"IF(COUNTIF(AY$2:AY154,AY154)=1,AY154,\"\")","v":""},"","","","",""]
[null,null,null,null,null,null,null,null,null,null,null,null,null,null,null,null,null,null,null,null,{"$f":"+IF(Z155=\"\",\"\",MAX(U$1:U154)+1)","v":""},{"$f":"IF(Limit_Deviation_Detail!B177=\"\",\"\",Limit_Deviation_Detail!B177)","v":""},{"$f":"IF(Limit_Deviation_Detail!C177=\"\",\"\",Limit_Deviation_Detail!C177)","v":""},{"$f":"IF(Limit_Deviation_Detail!E177=\"\",\"\",Limit_Deviation_Detail!E177)","v":""},"",{"$f":"IF(COUNTIF(Y$2:Y155,Y155)=1,Y155,\"\")","v":""},"","","","","",null,null,null,null,null,null,null,null,null,null,null,null,null,null,null,{"$f":"+IF(AZ155=\"\",\"\",MAX(AU$1:AU154)+1)","v":""},{"$f":"IF(CMS_Deviation_Detail!B177=\"\",\"\",CMS_Deviation_Detail!B177)","v":""},{"$f":"IF(CMS_Deviation_Detail!C177=\"\",\"\",CMS_Deviation_Detail!C177)","v":""},{"$f":"IF(CMS_Deviation_Detail!D177=\"\",\"\",CMS_Deviation_Detail!D177)","v":""},"",{"$f":"IF(COUNTIF(AY$2:AY155,AY155)=1,AY155,\"\")","v":""},"","","","",""]
[null,null,null,null,null,null,null,null,null,null,null,null,null,null,null,null,null,null,null,null,{"$f":"+IF(Z156=\"\",\"\",MAX(U$1:U155)+1)","v":""},{"$f":"IF(Limit_Deviation_Detail!B178=\"\",\"\",Limit_Deviation_Detail!B178)","v":""},{"$f":"IF(Limit_Deviation_Detail!C178=\"\",\"\",Limit_Deviation_Detail!C178)","v":""},{"$f":"IF(Limit_Deviation_Detail!E178=\"\",\"\",Limit_Deviation_Detail!E178)","v":""},"",{"$f":"IF(COUNTIF(Y$2:Y156,Y156)=1,Y156,\"\")","v":""},"","","","","",null,null,null,null,null,null,null,null,null,null,null,null,null,null,null,{"$f":"+IF(AZ156=\"\",\"\",MAX(AU$1:AU155)+1)","v":""},{"$f":"IF(CMS_Deviation_Detail!B178=\"\",\"\",CMS_Deviation_Detail!B178)","v":""},{"$f":"IF(CMS_Deviation_Detail!C178=\"\",\"\",CMS_Deviation_Detail!C178)","v":""},{"$f":"IF(CMS_Deviation_Detail!D178=\"\",\"\",CMS_Deviation_Detail!D178)","v":""},"",{"$f":"IF(COUNTIF(AY$2:AY156,AY156)=1,AY156,\"\")","v":""},"","","","",""]
[null,null,null,null,null,null,null,null,null,null,null,null,null,null,null,null,null,null,null,null,{"$f":"+IF(Z157=\"\",\"\",MAX(U$1:U156)+1)","v":""},{"$f":"IF(Limit_Deviation_Detail!B179=\"\",\"\",Limit_Deviation_Detail!B179)","v":""},{"$f":"IF(Limit_Deviation_Detail!C179=\"\",\"\",Limit_Deviation_Detail!C179)","v":""},{"$f":"IF(Limit_Deviation_Detail!E179=\"\",\"\",Limit_Deviation_Detail!E179)","v":""},"",{"$f":"IF(COUNTIF(Y$2:Y157,Y157)=1,Y157,\"\")","v":""},"","","","","",null,null,null,null,null,null,null,null,null,null,null,null,null,null,null,{"$f":"+IF(AZ157=\"\",\"\",MAX(AU$1:AU156)+1)","v":""},{"$f":"IF(CMS_Deviation_Detail!B179=\"\",\"\",CMS_Deviation_Detail!B179)","v":""},{"$f":"IF(CMS_Deviation_Detail!C179=\"\",\"\",CMS_Deviation_Detail!C179)","v":""},{"$f":"IF(CMS_Deviation_Detail!D179=\"\",\"\",CMS_Deviation_Detail!D179)","v":""},"",{"$f":"IF(COUNTIF(AY$2:AY157,AY157)=1,AY157,\"\")","v":""},"","","","",""]
[null,null,null,null,null,null,null,null,null,null,null,null,null,null,null,null,null,null,null,null,{"$f":"+IF(Z158=\"\",\"\",MAX(U$1:U157)+1)","v":""},{"$f":"IF(Limit_Deviation_Detail!B180=\"\",\"\",Limit_Deviation_Detail!B180)","v":""},{"$f":"IF(Limit_Deviation_Detail!C180=\"\",\"\",Limit_Deviation_Detail!C180)","v":""},{"$f":"IF(Limit_Deviation_Detail!E180=\"\",\"\",Limit_Deviation_Detail!E180)","v":""},"",{"$f":"IF(COUNTIF(Y$2:Y158,Y158)=1,Y158,\"\")","v":""},"","","","","",null,null,null,null,null,null,null,null,null,null,null,null,null,null,null,{"$f":"+IF(AZ158=\"\",\"\",MAX(AU$1:AU157)+1)","v":""},{"$f":"IF(CMS_Deviation_Detail!B180=\"\",\"\",CMS_Deviation_Detail!B180)","v":""},{"$f":"IF(CMS_Deviation_Detail!C180=\"\",\"\",CMS_Deviation_Detail!C180)","v":""},{"$f":"IF(CMS_Deviation_Detail!D180=\"\",\"\",CMS_Deviation_Detail!D180)","v":""},"",{"$f":"IF(COUNTIF(AY$2:AY158,AY158)=1,AY158,\"\")","v":""},"","","","",""]
[null,null,null,null,null,null,null,null,null,null,null,null,null,null,null,null,null,null,null,null,{"$f":"+IF(Z159=\"\",\"\",MAX(U$1:U158)+1)","v":""},{"$f":"IF(Limit_Deviation_Detail!B181=\"\",\"\",Limit_Deviation_Detail!B181)","v":""},{"$f":"IF(Limit_Deviation_Detail!C181=\"\",\"\",Limit_Deviation_Detail!C181)","v":""},{"$f":"IF(Limit_Deviation_Detail!E181=\"\",\"\",Limit_Deviation_Detail!E181)","v":""},"",{"$f":"IF(COUNTIF(Y$2:Y159,Y159)=1,Y159,\"\")","v":""},"","","","","",null,null,null,null,null,null,null,null,null,null,null,null,null,null,null,{"$f":"+IF(AZ159=\"\",\"\",MAX(AU$1:AU158)+1)","v":""},{"$f":"IF(CMS_Deviation_Detail!B181=\"\",\"\",CMS_Deviation_Detail!B181)","v":""},{"$f":"IF(CMS_Deviation_Detail!C181=\"\",\"\",CMS_Deviation_Detail!C181)","v":""},{"$f":"IF(CMS_Deviation_Detail!D181=\"\",\"\",CMS_Deviation_Detail!D181)","v":""},"",{"$f":"IF(COUNTIF(AY$2:AY159,AY159)=1,AY159,\"\")","v":""},"","","","",""]
[null,null,null,null,null,null,null,null,null,null,null,null,null,null,null,null,null,null,null,null,{"$f":"+IF(Z160=\"\",\"\",MAX(U$1:U159)+1)","v":""},{"$f":"IF(Limit_Deviation_Detail!B182=\"\",\"\",Limit_Deviation_Detail!B182)","v":""},{"$f":"IF(Limit_Deviation_Detail!C182=\"\",\"\",Limit_Deviation_Detail!C182)","v":""},{"$f":"IF(Limit_Deviation_Detail!E182=\"\",\"\",Limit_Deviation_Detail!E182)","v":""},"",{"$f":"IF(COUNTIF(Y$2:Y160,Y160)=1,Y160,\"\")","v":""},"","","","","",null,null,null,null,null,null,null,null,null,null,null,null,null,null,null,{"$f":"+IF(AZ160=\"\",\"\",MAX(AU$1:AU159)+1)","v":""},{"$f":"IF(CMS_Deviation_Detail!B182=\"\",\"\",CMS_Deviation_Detail!B182)","v":""},{"$f":"IF(CMS_Deviation_Detail!C182=\"\",\"\",CMS_Deviation_Detail!C182)","v":""},{"$f":"IF(CMS_Deviation_Detail!D182=\"\",\"\",CMS_Deviation_Detail!D182)","v":""},"",{"$f":"IF(COUNTIF(AY$2:AY160,AY160)=1,AY160,\"\")","v":""},"","","","",""]
[null,null,null,null,null,null,null,null,null,null,null,null,null,null,null,null,null,null,null,null,{"$f":"+IF(Z161=\"\",\"\",MAX(U$1:U160)+1)","v":""},{"$f":"IF(Limit_Deviation_Detail!B183=\"\",\"\",Limit_Deviation_Detail!B183)","v":""},{"$f":"IF(Limit_Deviation_Detail!C183=\"\",\"\",Limit_Deviation_Detail!C183)","v":""},{"$f":"IF(Limit_Deviation_Detail!E183=\"\",\"\",Limit_Deviation_Detail!E183)","v":""},"",{"$f":"IF(COUNTIF(Y$2:Y161,Y161)=1,Y161,\"\")","v":""},"","","","","",null,null,null,null,null,null,null,null,null,null,null,null,null,null,null,{"$f":"+IF(AZ161=\"\",\"\",MAX(AU$1:AU160)+1)","v":""},{"$f":"IF(CMS_Deviation_Detail!B183=\"\",\"\",CMS_Deviation_Detail!B183)","v":""},{"$f":"IF(CMS_Deviation_Detail!C183=\"\",\"\",CMS_Deviation_Detail!C183)","v":""},{"$f":"IF(CMS_Deviation_Detail!D183=\"\",\"\",CMS_Deviation_Detail!D183)","v":""},"",{"$f":"IF(COUNTIF(AY$2:AY161,AY161)=1,AY161,\"\")","v":""},"","","","",""]
[null,null,null,null,null,null,null,null,null,null,null,null,null,null,null,null,null,null,null,null,{"$f":"+IF(Z162=\"\",\"\",MAX(U$1:U161)+1)","v":""},{"$f":"IF(Limit_Deviation_Detail!B184=\"\",\"\",Limit_Deviation_Detail!B184)","v":""},{"$f":"IF(Limit_Deviation_Detail!C184=\"\",\"\",Limit_Deviation_Detail!C184)","v":""},{"$f":"IF(Limit_Deviation_Detail!E184=\"\",\"\",Limit_Deviation_Detail!E184)","v":""},"",{"$f":"IF(COUNTIF(Y$2:Y162,Y162)=1,Y162,\"\")","v":""},"","","","","",null,null,null,null,null,null,null,null,null,null,null,null,null,null,null,{"$f":"+IF(AZ162=\"\",\"\",MAX(AU$1:AU161)+1)","v":""},{"$f":"IF(CMS_Deviation_Detail!B184=\"\",\"\",CMS_Deviation_Detail!B184)","v":""},{"$f":"IF(CMS_Deviation_Detail!C184=\"\",\"\",CMS_Deviation_Detail!C184)","v":""},{"$f":"IF(CMS_Deviation_Detail!D184=\"\",\"\",CMS_Deviation_Detail!D184)","v":""},"",{"$f":"IF(COUNTIF(AY$2:AY162,AY162)=1,AY162,\"\")","v":""},"","","","",""]
[null,null,null,null,null,null,null,null,null,null,null,null,null,null,null,null,null,null,null,null,{"$f":"+IF(Z163=\"\",\"\",MAX(U$1:U162)+1)","v":""},{"$f":"IF(Limit_Deviation_Detail!B185=\"\",\"\",Limit_Deviation_Detail!B185)","v":""},{"$f":"IF(Limit_Deviation_Detail!C185=\"\",\"\",Limit_Deviation_Detail!C185)","v":""},{"$f":"IF(Limit_Deviation_Detail!E185=\"\",\"\",Limit_Deviation_Detail!E185)","v":""},"",{"$f":"IF(COUNTIF(Y$2:Y163,Y163)=1,Y163,\"\")","v":""},"","","","","",null,null,null,null,null,null,null,null,null,null,null,null,null,null,null,{"$f":"+IF(AZ163=\"\",\"\",MAX(AU$1:AU162)+1)","v":""},{"$f":"IF(CMS_Deviation_Detail!B185=\"\",\"\",CMS_Deviation_Detail!B185)","v":""},{"$f":"IF(CMS_Deviation_Detail!C185=\"\",\"\",CMS_Deviation_Detail!C185)","v":""},{"$f":"IF(CMS_Deviation_Detail!D185=\"\",\"\",CMS_Deviation_Detail!D185)","v":""},"",{"$f":"IF(COUNTIF(AY$2:AY163,AY163)=1,AY163,\"\")","v":""},"","","","",""]
[null,null,null,null,null,null,null,null,null,null,null,null,null,null,null,null,null,null,null,null,{"$f":"+IF(Z164=\"\",\"\",MAX(U$1:U163)+1)","v":""},{"$f":"IF(Limit_Deviation_Detail!B186=\"\",\"\",Limit_Deviation_Detail!B186)","v":""},{"$f":"IF(Limit_Deviation_Detail!C186=\"\",\"\",Limit_Deviation_Detail!C186)","v":""},{"$f":"IF(Limit_Deviation_Detail!E186=\"\",\"\",Limit_Deviation_Detail!E186)","v":""},"",{"$f":"IF(COUNTIF(Y$2:Y164,Y164)=1,Y164,\"\")","v":""},"","","","","",null,null,null,null,null,null,null,null,null,null,null,null,null,null,null,{"$f":"+IF(AZ164=\"\",\"\",MAX(AU$1:AU163)+1)","v":""},{"$f":"IF(CMS_Deviation_Detail!B186=\"\",\"\",CMS_Deviation_Detail!B186)","v":""},{"$f":"IF(CMS_Deviation_Detail!C186=\"\",\"\",CMS_Deviation_Detail!C186)","v":""},{"$f":"IF(CMS_Deviation_Detail!D186=\"\",\"\",CMS_Deviation_Detail!D186)","v":""},"",{"$f":"IF(COUNTIF(AY$2:AY164,AY164)=1,AY164,\"\")","v":""},"","","","",""]
[null,null,null,null,null,null,null,null,null,null,null,null,null,null,null,null,null,null,null,null,{"$f":"+IF(Z165=\"\",\"\",MAX(U$1:U164)+1)","v":""},{"$f":"IF(Limit_Deviation_Detail!B187=\"\",\"\",Limit_Deviation_Detail!B187)","v":""},{"$f":"IF(Limit_Deviation_Detail!C187=\"\",\"\",Limit_Deviation_Detail!C187)","v":""},{"$f":"IF(Limit_Deviation_Detail!E187=\"\",\"\",Limit_Deviation_Detail!E187)","v":""},"",{"$f":"IF(COUNTIF(Y$2:Y165,Y165)=1,Y165,\"\")","v":""},"","","","","",null,null,null,null,null,null,null,null,null,null,null,null,null,null,null,{"$f":"+IF(AZ165=\"\",\"\",MAX(AU$1:AU164)+1)","v":""},{"$f":"IF(CMS_Deviation_Detail!B187=\"\",\"\",CMS_Deviation_Detail!B187)","v":""},{"$f":"IF(CMS_Deviation_Detail!C187=\"\",\"\",CMS_Deviation_Detail!C187)","v":""},{"$f":"IF(CMS_Deviation_Detail!D187=\"\",\"\",CMS_Deviation_Detail!D187)","v":""},"",{"$f":"IF(COUNTIF(AY$2:AY165,AY165)=1,AY165,\"\")","v":""},"","","","",""]
[null,null,null,null,null,null,null,null,null,null,null,null,null,null,null,null,null,null,null,null,{"$f":"+IF(Z166=\"\",\"\",MAX(U$1:U165)+1)","v":""},{"$f":"IF(Limit_Deviation_Detail!B188=\"\",\"\",Limit_Deviation_Detail!B188)","v":""},{"$f":"IF(Limit_Deviation_Detail!C188=\"\",\"\",Limit_Deviation_Detail!C188)","v":""},{"$f":"IF(Limit_Deviation_Detail!E188=\"\",\"\",Limit_Deviation_Detail!E188)","v":""},"",{"$f":"IF(COUNTIF(Y$2:Y166,Y166)=1,Y166,\"\")","v":""},"","","","","",null,null,null,null,null,null,null,null,null,null,null,null,null,null,null,{"$f":"+IF(AZ166=\"\",\"\",MAX(AU$1:AU165)+1)","v":""},{"$f":"IF(CMS_Deviation_Detail!B188=\"\",\"\",CMS_Deviation_Detail!B188)","v":""},{"$f":"IF(CMS_Deviation_Detail!C188=\"\",\"\",CMS_Deviation_Detail!C188)","v":""},{"$f":"IF(CMS_Deviation_Detail!D188=\"\",\"\",CMS_Deviation_Detail!D188)","v":""},"",{"$f":"IF(COUNTIF(AY$2:AY166,AY166)=1,AY166,\"\")","v":""},"","","","",""]
[null,null,null,null,null,null,null,null,null,null,null,null,null,null,null,null,null,null,null,null,{"$f":"+IF(Z167=\"\",\"\",MAX(U$1:U166)+1)","v":""},{"$f":"IF(Limit_Deviation_Detail!B189=\"\",\"\",Limit_Deviation_Detail!B189)","v":""},{"$f":"IF(Limit_Deviation_Detail!C189=\"\",\"\",Limit_Deviation_Detail!C189)","v":""},{"$f":"IF(Limit_Deviation_Detail!E189=\"\",\"\",Limit_Deviation_Detail!E189)","v":""},"",{"$f":"IF(COUNTIF(Y$2:Y167,Y167)=1,Y167,\"\")","v":""},"","","","","",null,null,null,null,null,null,null,null,null,null,null,null,null,null,null,{"$f":"+IF(AZ167=\"\",\"\",MAX(AU$1:AU166)+1)","v":""},{"$f":"IF(CMS_Deviation_Detail!B189=\"\",\"\",CMS_Deviation_Detail!B189)","v":""},{"$f":"IF(CMS_Deviation_Detail!C189=\"\",\"\",CMS_Deviation_Detail!C189)","v":""},{"$f":"IF(CMS_Deviation_Detail!D189=\"\",\"\",CMS_Deviation_Detail!D189)","v":""},"",{"$f":"IF(COUNTIF(AY$2:AY167,AY167)=1,AY167,\"\")","v":""},"","","","",""]
[null,null,null,null,null,null,null,null,null,null,null,null,null,null,null,null,null,null,null,null,{"$f":"+IF(Z168=\"\",\"\",MAX(U$1:U167)+1)","v":""},{"$f":"IF(Limit_Deviation_Detail!B190=\"\",\"\",Limit_Deviation_Detail!B190)","v":""},{"$f":"IF(Limit_Deviation_Detail!C190=\"\",\"\",Limit_Deviation_Detail!C190)","v":""},{"$f":"IF(Limit_Deviation_Detail!E190=\"\",\"\",Limit_Deviation_Detail!E190)","v":""},"",{"$f":"IF(COUNTIF(Y$2:Y168,Y168)=1,Y168,\"\")","v":""},"","","","","",null,null,null,null,null,null,null,null,null,null,null,null,null,null,null,{"$f":"+IF(AZ168=\"\",\"\",MAX(AU$1:AU167)+1)","v":""},{"$f":"IF(CMS_Deviation_Detail!B190=\"\",\"\",CMS_Deviation_Detail!B190)","v":""},{"$f":"IF(CMS_Deviation_Detail!C190=\"\",\"\",CMS_Deviation_Detail!C190)","v":""},{"$f":"IF(CMS_Deviation_Detail!D190=\"\",\"\",CMS_Deviation_Detail!D190)","v":""},"",{"$f":"IF(COUNTIF(AY$2:AY168,AY168)=1,AY168,\"\")","v":""},"","","","",""]
[null,null,null,null,null,null,null,null,null,null,null,null,null,null,null,null,null,null,null,null,{"$f":"+IF(Z169=\"\",\"\",MAX(U$1:U168)+1)","v":""},{"$f":"IF(Limit_Deviation_Detail!B191=\"\",\"\",Limit_Deviation_Detail!B191)","v":""},{"$f":"IF(Limit_Deviation_Detail!C191=\"\",\"\",Limit_Deviation_Detail!C191)","v":""},{"$f":"IF(Limit_Deviation_Detail!E191=\"\",\"\",Limit_Deviation_Detail!E191)","v":""},"",{"$f":"IF(COUNTIF(Y$2:Y169,Y169)=1,Y169,\"\")","v":""},"","","","","",null,null,null,null,null,null,null,null,null,null,null,null,null,null,null,{"$f":"+IF(AZ169=\"\",\"\",MAX(AU$1:AU168)+1)","v":""},{"$f":"IF(CMS_Deviation_Detail!B191=\"\",\"\",CMS_Deviation_Detail!B191)","v":""},{"$f":"IF(CMS_Deviation_Detail!C191=\"\",\"\",CMS_Deviation_Detail!C191)","v":""},{"$f":"IF(CMS_Deviation_Detail!D191=\"\",\"\",CMS_Deviation_Detail!D191)","v":""},"",{"$f":"IF(COUNTIF(AY$2:AY169,AY169)=1,AY169,\"\")","v":""},"","","","",""]
[null,null,null,null,null,null,null,null,null,null,null,null,null,null,null,null,null,null,null,null,{"$f":"+IF(Z170=\"\",\"\",MAX(U$1:U169)+1)","v":""},{"$f":"IF(Limit_Deviation_Detail!B192=\"\",\"\",Limit_Deviation_Detail!B192)","v":""},{"$f":"IF(Limit_Deviation_Detail!C192=\"\",\"\",Limit_Deviation_Detail!C192)","v":""},{"$f":"IF(Limit_Deviation_Detail!E192=\"\",\"\",Limit_Deviation_Detail!E192)","v":""},"",{"$f":"IF(COUNTIF(Y$2:Y170,Y170)=1,Y170,\"\")","v":""},"","","","","",null,null,null,null,null,null,null,null,null,null,null,null,null,null,null,{"$f":"+IF(AZ170=\"\",\"\",MAX(AU$1:AU169)+1)","v":""},{"$f":"IF(CMS_Deviation_Detail!B192=\"\",\"\",CMS_Deviation_Detail!B192)","v":""},{"$f":"IF(CMS_Deviation_Detail!C192=\"\",\"\",CMS_Deviation_Detail!C192)","v":""},{"$f":"IF(CMS_Deviation_Detail!D192=\"\",\"\",CMS_Deviation_Detail!D192)","v":""},"",{"$f":"IF(COUNTIF(AY$2:AY170,AY170)=1,AY170,\"\")","v":""},"","","","",""]
[null,null,null,null,null,null,null,null,null,null,null,null,null,null,null,null,null,null,null,null,{"$f":"+IF(Z171=\"\",\"\",MAX(U$1:U170)+1)","v":""},{"$f":"IF(Limit_Deviation_Detail!B193=\"\",\"\",Limit_Deviation_Detail!B193)","v":""},{"$f":"IF(Limit_Deviation_Detail!C193=\"\",\"\",Limit_Deviation_Detail!C193)","v":""},{"$f":"IF(Limit_Deviation_Detail!E193=\"\",\"\",Limit_Deviation_Detail!E193)","v":""},"",{"$f":"IF(COUNTIF(Y$2:Y171,Y171)=1,Y171,\"\")","v":""},"","","","","",null,null,null,null,null,null,null,null,null,null,null,null,null,null,null,{"$f":"+IF(AZ171=\"\",\"\",MAX(AU$1:AU170)+1)","v":""},{"$f":"IF(CMS_Deviation_Detail!B193=\"\",\"\",CMS_Deviation_Detail!B193)","v":""},{"$f":"IF(CMS_Deviation_Detail!C193=\"\",\"\",CMS_Deviation_Detail!C193)","v":""},{"$f":"IF(CMS_Deviation_Detail!D193=\"\",\"\",CMS_Deviation_Detail!D193)","v":""},"",{"$f":"IF(COUNTIF(AY$2:AY171,AY171)=1,AY171,\"\")","v":""},"","","","",""]
[null,null,null,null,null,null,null,null,null,null,null,null,null,null,null,null,null,null,null,null,{"$f":"+IF(Z172=\"\",\"\",MAX(U$1:U171)+1)","v":""},{"$f":"IF(Limit_Deviation_Detail!B194=\"\",\"\",Limit_Deviation_Detail!B194)","v":""},{"$f":"IF(Limit_Deviation_Detail!C194=\"\",\"\",Limit_Deviation_Detail!C194)","v":""},{"$f":"IF(Limit_Deviation_Detail!E194=\"\",\"\",Limit_Deviation_Detail!E194)","v":""},"",{"$f":"IF(COUNTIF(Y$2:Y172,Y172)=1,Y172,\"\")","v":""},"","","","","",null,null,null,null,null,null,null,null,null,null,null,null,null,null,null,{"$f":"+IF(AZ172=\"\",\"\",MAX(AU$1:AU171)+1)","v":""},{"$f":"IF(CMS_Deviation_Detail!B194=\"\",\"\",CMS_Deviation_Detail!B194)","v":""},{"$f":"IF(CMS_Deviation_Detail!C194=\"\",\"\",CMS_Deviation_Detail!C194)","v":""},{"$f":"IF(CMS_Deviation_Detail!D194=\"\",\"\",CMS_Deviation_Detail!D194)","v":""},"",{"$f":"IF(COUNTIF(AY$2:AY172,AY172)=1,AY172,\"\")","v":""},"","","","",""]
[null,null,null,null,null,null,null,null,null,null,null,null,null,null,null,null,null,null,null,null,{"$f":"+IF(Z173=\"\",\"\",MAX(U$1:U172)+1)","v":""},{"$f":"IF(Limit_Deviation_Detail!B195=\"\",\"\",Limit_Deviation_Detail!B195)","v":""},{"$f":"IF(Limit_Deviation_Detail!C195=\"\",\"\",Limit_Deviation_Detail!C195)","v":""},{"$f":"IF(Limit_Deviation_Detail!E195=\"\",\"\",Limit_Deviation_Detail!E195)","v":""},"",{"$f":"IF(COUNTIF(Y$2:Y173,Y173)=1,Y173,\"\")","v":""},"","","","","",null,null,null,null,null,null,null,null,null,null,null,null,null,null,null,{"$f":"+IF(AZ173=\"\",\"\",MAX(AU$1:AU172)+1)","v":""},{"$f":"IF(CMS_Deviation_Detail!B195=\"\",\"\",CMS_Deviation_Detail!B195)","v":""},{"$f":"IF(CMS_Deviation_Detail!C195=\"\",\"\",CMS_Deviation_Detail!C195)","v":""},{"$f":"IF(CMS_Deviation_Detail!D195=\"\",\"\",CMS_Deviation_Detail!D195)","v":""},"",{"$f":"IF(COUNTIF(AY$2:AY173,AY173)=1,AY173,\"\")","v":""},"","","","",""]
[null,null,null,null,null,null,null,null,null,null,null,null,null,null,null,null,null,null,null,null,{"$f":"+IF(Z174=\"\",\"\",MAX(U$1:U173)+1)","v":""},{"$f":"IF(Limit_Deviation_Detail!B196=\"\",\"\",Limit_Deviation_Detail!B196)","v":""},{"$f":"IF(Limit_Deviation_Detail!C196=\"\",\"\",Limit_Deviation_Detail!C196)","v":""},{"$f":"IF(Limit_Deviation_Detail!E196=\"\",\"\",Limit_Deviation_Detail!E196)","v":""},"",{"$f":"IF(COUNTIF(Y$2:Y174,Y174)=1,Y174,\"\")","v":""},"","","","","",null,null,null,null,null,null,null,null,null,null,null,null,null,null,null,{"$f":"+IF(AZ174=\"\",\"\",MAX(AU$1:AU173)+1)","v":""},{"$f":"IF(CMS_Deviation_Detail!B196=\"\",\"\",CMS_Deviation_Detail!B196)","v":""},{"$f":"IF(CMS_Deviation_Detail!C196=\"\",\"\",CMS_Deviation_Detail!C196)","v":""},{"$f":"IF(CMS_Deviation_Detail!D196=\"\",\"\",CMS_Deviation_Detail!D196)","v":""},"",{"$f":"IF(COUNTIF(AY$2:AY174,AY174)=1,AY174,\"\")","v":""},"","","","",""]
[null,null,null,null,null,null,null,null,null,null,null,null,null,null,null,null,null,null,null,null,{"$f":"+IF(Z175=\"\",\"\",MAX(U$1:U174)+1)","v":""},{"$f":"IF(Limit_Deviation_Detail!B197=\"\",\"\",Limit_Deviation_Detail!B197)","v":""},{"$f":"IF(Limit_Deviation_Detail!C197=\"\",\"\",Limit_Deviation_Detail!C197)","v":""},{"$f":"IF(Limit_Deviation_Detail!E197=\"\",\"\",Limit_Deviation_Detail!E197)","v":""},"",{"$f":"IF(COUNTIF(Y$2:Y175,Y175)=1,Y175,\"\")","v":""},"","","","","",null,null,null,null,null,null,null,null,null,null,null,null,null,null,null,{"$f":"+IF(AZ175=\"\",\"\",MAX(AU$1:AU174)+1)","v":""},{"$f":"IF(CMS_Deviation_Detail!B197=\"\",\"\",CMS_Deviation_Detail!B197)","v":""},{"$f":"IF(CMS_Deviation_Detail!C197=\"\",\"\",CMS_Deviation_Detail!C197)","v":""},{"$f":"IF(CMS_Deviation_Detail!D197=\"\",\"\",CMS_Deviation_Detail!D197)","v":""},"",{"$f":"IF(COUNTIF(AY$2:AY175,AY175)=1,AY175,\"\")","v":""},"","","","",""]
[null,null,null,null,null,null,null,null,null,null,null,null,null,null,null,null,null,null,null,null,{"$f":"+IF(Z176=\"\",\"\",MAX(U$1:U175)+1)","v":""},{"$f":"IF(Limit_Deviation_Detail!B198=\"\",\"\",Limit_Deviation_Detail!B198)","v":""},{"$f":"IF(Limit_Deviation_Detail!C198=\"\",\"\",Limit_Deviation_Detail!C198)","v":""},{"$f":"IF(Limit_Deviation_Detail!E198=\"\",\"\",Limit_Deviation_Detail!E198)","v":""},"",{"$f":"IF(COUNTIF(Y$2:Y176,Y176)=1,Y176,\"\")","v":""},"","","","","",null,null,null,null,null,null,null,null,null,null,null,null,null,null,null,{"$f":"+IF(AZ176=\"\",\"\",MAX(AU$1:AU175)+1)","v":""},{"$f":"IF(CMS_Deviation_Detail!B198=\"\",\"\",CMS_Deviation_Detail!B198)","v":""},{"$f":"IF(CMS_Deviation_Detail!C198=\"\",\"\",CMS_Deviation_Detail!C198)","v":""},{"$f":"IF(CMS_Deviation_Detail!D198=\"\",\"\",CMS_Deviation_Detail!D198)","v":""},"",{"$f":"IF(COUNTIF(AY$2:AY176,AY176)=1,AY176,\"\")","v":""},"","","","",""]
[null,null,null,null,null,null,null,null,null,null,null,null,null,null,null,null,null,null,null,null,{"$f":"+IF(Z177=\"\",\"\",MAX(U$1:U176)+1)","v":""},{"$f":"IF(Limit_Deviation_Detail!B199=\"\",\"\",Limit_Deviation_Detail!B199)","v":""},{"$f":"IF(Limit_Deviation_Detail!C199=\"\",\"\",Limit_Deviation_Detail!C199)","v":""},{"$f":"IF(Limit_Deviation_Detail!E199=\"\",\"\",Limit_Deviation_Detail!E199)","v":""},"",{"$f":"IF(COUNTIF(Y$2:Y177,Y177)=1,Y177,\"\")","v":""},"","","","","",null,null,null,null,null,null,null,null,null,null,null,null,null,null,null,{"$f":"+IF(AZ177=\"\",\"\",MAX(AU$1:AU176)+1)","v":""},{"$f":"IF(CMS_Deviation_Detail!B199=\"\",\"\",CMS_Deviation_Detail!B199)","v":""},{"$f":"IF(CMS_Deviation_Detail!C199=\"\",\"\",CMS_Deviation_Detail!C199)","v":""},{"$f":"IF(CMS_Deviation_Detail!D199=\"\",\"\",CMS_Deviation_Detail!D199)","v":""},"",{"$f":"IF(COUNTIF(AY$2:AY177,AY177)=1,AY177,\"\")","v":""},"","","","",""]
[null,null,null,null,null,null,null,null,null,null,null,null,null,null,null,null,null,null,null,null,{"$f":"+IF(Z178=\"\",\"\",MAX(U$1:U177)+1)","v":""},{"$f":"IF(Limit_Deviation_Detail!B200=\"\",\"\",Limit_Deviation_Detail!B200)","v":""},{"$f":"IF(Limit_Deviation_Detail!C200=\"\",\"\",Limit_Deviation_Detail!C200)","v":""},{"$f":"IF(Limit_Deviation_Detail!E200=\"\",\"\",Limit_Deviation_Detail!E200)","v":""},"",{"$f":"IF(COUNTIF(Y$2:Y178,Y178)=1,Y178,\"\")","v":""},"","","","","",null,null,null,null,null,null,null,null,null,null,null,null,null,null,null,{"$f":"+IF(AZ178=\"\",\"\",MAX(AU$1:AU177)+1)","v":""},{"$f":"IF(CMS_Deviation_Detail!B200=\"\",\"\",CMS_Deviation_Detail!B200)","v":""},{"$f":"IF(CMS_Deviation_Detail!C200=\"\",\"\",CMS_Deviation_Detail!C200)","v":""},{"$f":"IF(CMS_Deviation_Detail!D200=\"\",\"\",CMS_Deviation_Detail!D200)","v":""},"",{"$f":"IF(COUNTIF(AY$2:AY178,AY178)=1,AY178,\"\")","v":""},"","","","",""]
[null,null,null,null,null,null,null,null,null,null,null,null,null,null,null,null,null,null,null,null,{"$f":"+IF(Z179=\"\",\"\",MAX(U$1:U178)+1)","v":""},{"$f":"IF(Limit_Deviation_Detail!B201=\"\",\"\",Limit_Deviation_Detail!B201)","v":""},{"$f":"IF(Limit_Deviation_Detail!C201=\"\",\"\",Limit_Deviation_Detail!C201)","v":""},{"$f":"IF(Limit_Deviation_Detail!E201=\"\",\"\",Limit_Deviation_Detail!E201)","v":""},"",{"$f":"IF(COUNTIF(Y$2:Y179,Y179)=1,Y179,\"\")","v":""},"","","","","",null,null,null,null,null,null,null,null,null,null,null,null,null,null,null,{"$f":"+IF(AZ179=\"\",\"\",MAX(AU$1:AU178)+1)","v":""},{"$f":"IF(CMS_Deviation_Detail!B201=\"\",\"\",CMS_Deviation_Detail!B201)","v":""},{"$f":"IF(CMS_Deviation_Detail!C201=\"\",\"\",CMS_Deviation_Detail!C201)","v":""},{"$f":"IF(CMS_Deviation_Detail!D201=\"\",\"\",CMS_Deviation_Detail!D201)","v":""},"",{"$f":"IF(COUNTIF(AY$2:AY179,AY179)=1,AY179,\"\")","v":""},"","","","",""]
[null,null,null,null,null,null,null,null,null,null,null,null,null,null,null,null,null,null,null,null,{"$f":"+IF(Z180=\"\",\"\",MAX(U$1:U179)+1)","v":""},{"$f":"IF(Limit_Deviation_Detail!B202=\"\",\"\",Limit_Deviation_Detail!B202)","v":""},{"$f":"IF(Limit_Deviation_Detail!C202=\"\",\"\",Limit_Deviation_Detail!C202)","v":""},{"$f":"IF(Limit_Deviation_Detail!E202=\"\",\"\",Limit_Deviation_Detail!E202)","v":""},"",{"$f":"IF(COUNTIF(Y$2:Y180,Y180)=1,Y180,\"\")","v":""},"","","","","",null,null,null,null,null,null,null,null,null,null,null,null,null,null,null,{"$f":"+IF(AZ180=\"\",\"\",MAX(AU$1:AU179)+1)","v":""},{"$f":"IF(CMS_Deviation_Detail!B202=\"\",\"\",CMS_Deviation_Detail!B202)","v":""},{"$f":"IF(CMS_Deviation_Detail!C202=\"\",\"\",CMS_Deviation_Detail!C202)","v":""},{"$f":"IF(CMS_Deviation_Detail!D202=\"\",\"\",CMS_Deviation_Detail!D202)","v":""},"",{"$f":"IF(COUNTIF(AY$2:AY180,AY180)=1,AY180,\"\")","v":""},"","","","",""]
[null,null,null,null,null,null,null,null,null,null,null,null,null,null,null,null,null,null,null,null,{"$f":"+IF(Z181=\"\",\"\",MAX(U$1:U180)+1)","v":""},{"$f":"IF(Limit_Deviation_Detail!B203=\"\",\"\",Limit_Deviation_Detail!B203)","v":""},{"$f":"IF(Limit_Deviation_Detail!C203=\"\",\"\",Limit_Deviation_Detail!C203)","v":""},{"$f":"IF(Limit_Deviation_Detail!E203=\"\",\"\",Limit_Deviation_Detail!E203)","v":""},"",{"$f":"IF(COUNTIF(Y$2:Y181,Y181)=1,Y181,\"\")","v":""},"","","","","",null,null,null,null,null,null,null,null,null,null,null,null,null,null,null,{"$f":"+IF(AZ181=\"\",\"\",MAX(AU$1:AU180)+1)","v":""},{"$f":"IF(CMS_Deviation_Detail!B203=\"\",\"\",CMS_Deviation_Detail!B203)","v":""},{"$f":"IF(CMS_Deviation_Detail!C203=\"\",\"\",CMS_Deviation_Detail!C203)","v":""},{"$f":"IF(CMS_Deviation_Detail!D203=\"\",\"\",CMS_Deviation_Detail!D203)","v":""},"",{"$f":"IF(COUNTIF(AY$2:AY181,AY181)=1,AY181,\"\")","v":""},"","","","",""]
[null,null,null,null,null,null,null,null,null,null,null,null,null,null,null,null,null,null,null,null,{"$f":"+IF(Z182=\"\",\"\",MAX(U$1:U181)+1)","v":""},{"$f":"IF(Limit_Deviation_Detail!B204=\"\",\"\",Limit_Deviation_Detail!B204)","v":""},{"$f":"IF(Limit_Deviation_Detail!C204=\"\",\"\",Limit_Deviation_Detail!C204)","v":""},{"$f":"IF(Limit_Deviation_Detail!E204=\"\",\"\",Limit_Deviation_Detail!E204)","v":""},"",{"$f":"IF(COUNTIF(Y$2:Y182,Y182)=1,Y182,\"\")","v":""},"","","","","",null,null,null,null,null,null,null,null,null,null,null,null,null,null,null,{"$f":"+IF(AZ182=\"\",\"\",MAX(AU$1:AU181)+1)","v":""},{"$f":"IF(CMS_Deviation_Detail!B204=\"\",\"\",CMS_Deviation_Detail!B204)","v":""},{"$f":"IF(CMS_Deviation_Detail!C204=\"\",\"\",CMS_Deviation_Detail!C204)","v":""},{"$f":"IF(CMS_Deviation_Detail!D204=\"\",\"\",CMS_Deviation_Detail!D204)","v":""},"",{"$f":"IF(COUNTIF(AY$2:AY182,AY182)=1,AY182,\"\")","v":""},"","","","",""]
[null,null,null,null,null,null,null,null,null,null,null,null,null,null,null,null,null,null,null,null,{"$f":"+IF(Z183=\"\",\"\",MAX(U$1:U182)+1)","v":""},{"$f":"IF(Limit_Deviation_Detail!B205=\"\",\"\",Limit_Deviation_Detail!B205)","v":""},{"$f":"IF(Limit_Deviation_Detail!C205=\"\",\"\",Limit_Deviation_Detail!C205)","v":""},{"$f":"IF(Limit_Deviation_Detail!E205=\"\",\"\",Limit_Deviation_Detail!E205)","v":""},"",{"$f":"IF(COUNTIF(Y$2:Y183,Y183)=1,Y183,\"\")","v":""},"","","","","",null,null,null,null,null,null,null,null,null,null,null,null,null,null,null,{"$f":"+IF(AZ183=\"\",\"\",MAX(AU$1:AU182)+1)","v":""},{"$f":"IF(CMS_Deviation_Detail!B205=\"\",\"\",CMS_Deviation_Detail!B205)","v":""},{"$f":"IF(CMS_Deviation_Detail!C205=\"\",\"\",CMS_Deviation_Detail!C205)","v":""},{"$f":"IF(CMS_Deviation_Detail!D205=\"\",\"\",CMS_Deviation_Detail!D205)","v":""},"",{"$f":"IF(COUNTIF(AY$2:AY183,AY183)=1,AY183,\"\")","v":""},"","","","",""]
[null,null,null,null,null,null,null,null,null,null,null,null,null,null,null,null,null,null,null,null,{"$f":"+IF(Z184=\"\",\"\",MAX(U$1:U183)+1)","v":""},{"$f":"IF(Limit_Deviation_Detail!B206=\"\",\"\",Limit_Deviation_Detail!B206)","v":""},{"$f":"IF(Limit_Deviation_Detail!C206=\"\",\"\",Limit_Deviation_Detail!C206)","v":""},{"$f":"IF(Limit_Deviation_Detail!E206=\"\",\"\",Limit_Deviation_Detail!E206)","v":""},"",{"$f":"IF(COUNTIF(Y$2:Y184,Y184)=1,Y184,\"\")","v":""},"","","","","",null,null,null,null,null,null,null,null,null,null,null,null,null,null,null,{"$f":"+IF(AZ184=\"\",\"\",MAX(AU$1:AU183)+1)","v":""},{"$f":"IF(CMS_Deviation_Detail!B206=\"\",\"\",CMS_Deviation_Detail!B206)","v":""},{"$f":"IF(CMS_Deviation_Detail!C206=\"\",\"\",CMS_Deviation_Detail!C206)","v":""},{"$f":"IF(CMS_Deviation_Detail!D206=\"\",\"\",CMS_Deviation_Detail!D206)","v":""},"",{"$f":"IF(COUNTIF(AY$2:AY184,AY184)=1,AY184,\"\")","v":""},"","","","",""]
[null,null,null,null,null,null,null,null,null,null,null,null,null,null,null,null,null,null,null,null,{"$f":"+IF(Z185=\"\",\"\",MAX(U$1:U184)+1)","v":""},{"$f":"IF(Limit_Deviation_Detail!B207=\"\",\"\",Limit_Deviation_Detail!B207)","v":""},{"$f":"IF(Limit_Deviation_Detail!C207=\"\",\"\",Limit_Deviation_Detail!C207)","v":""},{"$f":"IF(Limit_Deviation_Detail!E207=\"\",\"\",Limit_Deviation_Detail!E207)","v":""},"",{"$f":"IF(COUNTIF(Y$2:Y185,Y185)=1,Y185,\"\")","v":""},"","","","","",null,null,null,null,null,null,null,null,null,null,null,null,null,null,null,{"$f":"+IF(AZ185=\"\",\"\",MAX(AU$1:AU184)+1)","v":""},{"$f":"IF(CMS_Deviation_Detail!B207=\"\",\"\",CMS_Deviation_Detail!B207)","v":""},{"$f":"IF(CMS_Deviation_Detail!C207=\"\",\"\",CMS_Deviation_Detail!C207)","v":""},{"$f":"IF(CMS_Deviation_Detail!D207=\"\",\"\",CMS_Deviation_Detail!D207)","v":""},"",{"$f":"IF(COUNTIF(AY$2:AY185,AY185)=1,AY185,\"\")","v":""},"","","","",""]
[null,null,null,null,null,null,null,null,null,null,null,null,null,null,null,null,null,null,null,null,{"$f":"+IF(Z186=\"\",\"\",MAX(U$1:U185)+1)","v":""},{"$f":"IF(Limit_Deviation_Detail!B208=\"\",\"\",Limit_Deviation_Detail!B208)","v":""},{"$f":"IF(Limit_Deviation_Detail!C208=\"\",\"\",Limit_Deviation_Detail!C208)","v":""},{"$f":"IF(Limit_Deviation_Detail!E208=\"\",\"\",Limit_Deviation_Detail!E208)","v":""},"",{"$f":"IF(COUNTIF(Y$2:Y186,Y186)=1,Y186,\"\")","v":""},"","","","","",null,null,null,null,null,null,null,null,null,null,null,null,null,null,null,{"$f":"+IF(AZ186=\"\",\"\",MAX(AU$1:AU185)+1)","v":""},{"$f":"IF(CMS_Deviation_Detail!B208=\"\",\"\",CMS_Deviation_Detail!B208)","v":""},{"$f":"IF(CMS_Deviation_Detail!C208=\"\",\"\",CMS_Deviation_Detail!C208)","v":""},{"$f":"IF(CMS_Deviation_Detail!D208=\"\",\"\",CMS_Deviation_Detail!D208)","v":""},"",{"$f":"IF(COUNTIF(AY$2:AY186,AY186)=1,AY186,\"\")","v":""},"","","","",""]
[null,null,null,null,null,null,null,null,null,null,null,null,null,null,null,null,null,null,null,null,{"$f":"+IF(Z187=\"\",\"\",MAX(U$1:U186)+1)","v":""},{"$f":"IF(Limit_Deviation_Detail!B209=\"\",\"\",Limit_Deviation_Detail!B209)","v":""},{"$f":"IF(Limit_Deviation_Detail!C209=\"\",\"\",Limit_Deviation_Detail!C209)","v":""},{"$f":"IF(Limit_Deviation_Detail!E209=\"\",\"\",Limit_Deviation_Detail!E209)","v":""},"",{"$f":"IF(COUNTIF(Y$2:Y187,Y187)=1,Y187,\"\")","v":""},"","","","","",null,null,null,null,null,null,null,null,null,null,null,null,null,null,null,{"$f":"+IF(AZ187=\"\",\"\",MAX(AU$1:AU186)+1)","v":""},{"$f":"IF(CMS_Deviation_Detail!B209=\"\",\"\",CMS_Deviation_Detail!B209)","v":""},{"$f":"IF(CMS_Deviation_Detail!C209=\"\",\"\",CMS_Deviation_Detail!C209)","v":""},{"$f":"IF(CMS_Deviation_Detail!D209=\"\",\"\",CMS_Deviation_Detail!D209)","v":""},"",{"$f":"IF(COUNTIF(AY$2:AY187,AY187)=1,AY187,\"\")","v":""},"","","","",""]
[null,null,null,null,null,null,null,null,null,null,null,null,null,null,null,null,null,null,null,null,{"$f":"+IF(Z188=\"\",\"\",MAX(U$1:U187)+1)","v":""},{"$f":"IF(Limit_Deviation_Detail!B210=\"\",\"\",Limit_Deviation_Detail!B210)","v":""},{"$f":"IF(Limit_Deviation_Detail!C210=\"\",\"\",Limit_Deviation_Detail!C210)","v":""},{"$f":"IF(Limit_Deviation_Detail!E210=\"\",\"\",Limit_Deviation_Detail!E210)","v":""},"",{"$f":"IF(COUNTIF(Y$2:Y188,Y188)=1,Y188,\"\")","v":""},"","","","","",null,null,null,null,null,null,null,null,null,null,null,null,null,null,null,{"$f":"+IF(AZ188=\"\",\"\",MAX(AU$1:AU187)+1)","v":""},{"$f":"IF(CMS_Deviation_Detail!B210=\"\",\"\",CMS_Deviation_Detail!B210)","v":""},{"$f":"IF(CMS_Deviation_Detail!C210=\"\",\"\",CMS_Deviation_Detail!C210)","v":""},{"$f":"IF(CMS_Deviation_Detail!D210=\"\",\"\",CMS_Deviation_Detail!D210)","v":""},"",{"$f":"IF(COUNTIF(AY$2:AY188,AY188)=1,AY188,\"\")","v":""},"","","","",""]
[null,null,null,null,null,null,null,null,null,null,null,null,null,null,null,null,null,null,null,null,{"$f":"+IF(Z189=\"\",\"\",MAX(U$1:U188)+1)","v":""},{"$f":"IF(Limit_Deviation_Detail!B211=\"\",\"\",Limit_Deviation_Detail!B211)","v":""},{"$f":"IF(Limit_Deviation_Detail!C211=\"\",\"\",Limit_Deviation_Detail!C211)","v":""},{"$f":"IF(Limit_Deviation_Detail!E211=\"\",\"\",Limit_Deviation_Detail!E211)","v":""},"",{"$f":"IF(COUNTIF(Y$2:Y189,Y189)=1,Y189,\"\")","v":""},"","","","","",null,null,null,null,null,null,null,null,null,null,null,null,null,null,null,{"$f":"+IF(AZ189=\"\",\"\",MAX(AU$1:AU188)+1)","v":""},{"$f":"IF(CMS_Deviation_Detail!B211=\"\",\"\",CMS_Deviation_Detail!B211)","v":""},{"$f":"IF(CMS_Deviation_Detail!C211=\"\",\"\",CMS_Deviation_Detail!C211)","v":""},{"$f":"IF(CMS_Deviation_Detail!D211=\"\",\"\",CMS_Deviation_Detail!D211)","v":""},"",{"$f":"IF(COUNTIF(AY$2:AY189,AY189)=1,AY189,\"\")","v":""},"","","","",""]
[null,null,null,null,null,null,null,null,null,null,null,null,null,null,null,null,null,null,null,null,{"$f":"+IF(Z190=\"\",\"\",MAX(U$1:U189)+1)","v":""},{"$f":"IF(Limit_Deviation_Detail!B212=\"\",\"\",Limit_Deviation_Detail!B212)","v":""},{"$f":"IF(Limit_Deviation_Detail!C212=\"\",\"\",Limit_Deviation_Detail!C212)","v":""},{"$f":"IF(Limit_Deviation_Detail!E212=\"\",\"\",Limit_Deviation_Detail!E212)","v":""},"",{"$f":"IF(COUNTIF(Y$2:Y190,Y190)=1,Y190,\"\")","v":""},"","","","","",null,null,null,null,null,null,null,null,null,null,null,null,null,null,null,{"$f":"+IF(AZ190=\"\",\"\",MAX(AU$1:AU189)+1)","v":""},{"$f":"IF(CMS_Deviation_Detail!B212=\"\",\"\",CMS_Deviation_Detail!B212)","v":""},{"$f":"IF(CMS_Deviation_Detail!C212=\"\",\"\",CMS_Deviation_Detail!C212)","v":""},{"$f":"IF(CMS_Deviation_Detail!D212=\"\",\"\",CMS_Deviation_Detail!D212)","v":""},"",{"$f":"IF(COUNTIF(AY$2:AY190,AY190)=1,AY190,\"\")","v":""},"","","","",""]
[null,null,null,null,null,null,null,null,null,null,null,null,null,null,null,null,null,null,null,null,{"$f":"+IF(Z191=\"\",\"\",MAX(U$1:U190)+1)","v":""},{"$f":"IF(Limit_Deviation_Detail!B213=\"\",\"\",Limit_Deviation_Detail!B213)","v":""},{"$f":"IF(Limit_Deviation_Detail!C213=\"\",\"\",Limit_Deviation_Detail!C213)","v":""},{"$f":"IF(Limit_Deviation_Detail!E213=\"\",\"\",Limit_Deviation_Detail!E213)","v":""},"",{"$f":"IF(COUNTIF(Y$2:Y191,Y191)=1,Y191,\"\")","v":""},"","","","","",null,null,null,null,null,null,null,null,null,null,null,null,null,null,null,{"$f":"+IF(AZ191=\"\",\"\",MAX(AU$1:AU190)+1)","v":""},{"$f":"IF(CMS_Deviation_Detail!B213=\"\",\"\",CMS_Deviation_Detail!B213)","v":""},{"$f":"IF(CMS_Deviation_Detail!C213=\"\",\"\",CMS_Deviation_Detail!C213)","v":""},{"$f":"IF(CMS_Deviation_Detail!D213=\"\",\"\",CMS_Deviation_Detail!D213)","v":""},"",{"$f":"IF(COUNTIF(AY$2:AY191,AY191)=1,AY191,\"\")","v":""},"","","","",""]
[null,null,null,null,null,null,null,null,null,null,null,null,null,null,null,null,null,null,null,null,{"$f":"+IF(Z192=\"\",\"\",MAX(U$1:U191)+1)","v":""},{"$f":"IF(Limit_Deviation_Detail!B214=\"\",\"\",Limit_Deviation_Detail!B214)","v":""},{"$f":"IF(Limit_Deviation_Detail!C214=\"\",\"\",Limit_Deviation_Detail!C214)","v":""},{"$f":"IF(Limit_Deviation_Detail!E214=\"\",\"\",Limit_Deviation_Detail!E214)","v":""},"",{"$f":"IF(COUNTIF(Y$2:Y192,Y192)=1,Y192,\"\")","v":""},"","","","","",null,null,null,null,null,null,null,null,null,null,null,null,null,null,null,{"$f":"+IF(AZ192=\"\",\"\",MAX(AU$1:AU191)+1)","v":""},{"$f":"IF(CMS_Deviation_Detail!B214=\"\",\"\",CMS_Deviation_Detail!B214)","v":""},{"$f":"IF(CMS_Deviation_Detail!C214=\"\",\"\",CMS_Deviation_Detail!C214)","v":""},{"$f":"IF(CMS_Deviation_Detail!D214=\"\",\"\",CMS_Deviation_Detail!D214)","v":""},"",{"$f":"IF(COUNTIF(AY$2:AY192,AY192)=1,AY192,\"\")","v":""},"","","","",""]
[null,null,null,null,null,null,null,null,null,null,null,null,null,null,null,null,null,null,null,null,{"$f":"+IF(Z193=\"\",\"\",MAX(U$1:U192)+1)","v":""},{"$f":"IF(Limit_Deviation_Detail!B215=\"\",\"\",Limit_Deviation_Detail!B215)","v":""},{"$f":"IF(Limit_Deviation_Detail!C215=\"\",\"\",Limit_Deviation_Detail!C215)","v":""},{"$f":"IF(Limit_Deviation_Detail!E215=\"\",\"\",Limit_Deviation_Detail!E215)","v":""},"",{"$f":"IF(COUNTIF(Y$2:Y193,Y193)=1,Y193,\"\")","v":""},"","","","","",null,null,null,null,null,null,null,null,null,null,null,null,null,null,null,{"$f":"+IF(AZ193=\"\",\"\",MAX(AU$1:AU192)+1)","v":""},{"$f":"IF(CMS_Deviation_Detail!B215=\"\",\"\",CMS_Deviation_Detail!B215)","v":""},{"$f":"IF(CMS_Deviation_Detail!C215=\"\",\"\",CMS_Deviation_Detail!C215)","v":""},{"$f":"IF(CMS_Deviation_Detail!D215=\"\",\"\",CMS_Deviation_Detail!D215)","v":""},"",{"$f":"IF(COUNTIF(AY$2:AY193,AY193)=1,AY193,\"\")","v":""},"","","","",""]
[null,null,null,null,null,null,null,null,null,null,null,null,null,null,null,null,null,null,null,null,{"$f":"+IF(Z194=\"\",\"\",MAX(U$1:U193)+1)","v":""},{"$f":"IF(Limit_Deviation_Detail!B216=\"\",\"\",Limit_Deviation_Detail!B216)","v":""},{"$f":"IF(Limit_Deviation_Detail!C216=\"\",\"\",Limit_Deviation_Detail!C216)","v":""},{"$f":"IF(Limit_Deviation_Detail!E216=\"\",\"\",Limit_Deviation_Detail!E216)","v":""},{"$f":"V194&W194&X194","v":""},{"$f":"IF(COUNTIF(Y$2:Y194,Y194)=1,Y194,\"\")","v":""},{"$f":"+IFERROR(INDEX(V$2:V$955,MATCH(ROW()-ROW(Z$1),U$2:U$955,0)),\"\")","v":""},{"$f":"+IFERROR(INDEX(W$2:W$955,MATCH(ROW()-ROW(AA$1),U$2:U$955,0)),\"\")","v":""},{"$f":"+IFERROR(INDEX(X$2:X$955,MATCH(ROW()-ROW(AB$1),U$2:U$955,0)),\"\")","v":""},{"$f":"IF(AA194=\"\",\"\",AA194&AB194)","v":""},{"$f":"IF(AA194=\"\",\"\",VLOOKUP(AD194,$AO$2:$AS$78,5,FALSE))","v":""},null,null,null,null,null,null,null,null,null,null,null,null,null,null,null,{"$f":"+IF(AZ194=\"\",\"\",MAX(AU$1:AU193)+1)","v":""},{"$f":"IF(CMS_Deviation_Detail!B216=\"\",\"\",CMS_Deviation_Detail!B216)","v":""},{"$f":"IF(CMS_Deviation_Detail!C216=\"\",\"\",CMS_Deviation_Detail!C216)","v":""},{"$f":"IF(CMS_Deviation_Detail!D216=\"\",\"\",CMS_Deviation_Detail!D216)","v":""},"",{"$f":"IF(COUNTIF(AY$2:AY194,AY194)=1,AY194,\"\")","v":""},"","","","",{"$f":"IF(BA194=\"\",\"\",VLOOKUP(BD194,$AO$2:$AS$78,5,FALSE))","v":""}]
[null,null,null,null,null,null,null,null,null,null,null,null,null,null,null,null,null,null,null,null,{"$f":"+IF(Z195=\"\",\"\",MAX(U$1:U194)+1)","v":""},{"$f":"IF(Limit_Deviation_Detail!B217=\"\",\"\",Limit_Deviation_Detail!B217)","v":""},{"$f":"IF(Limit_Deviation_Detail!C217=\"\",\"\",Limit_Deviation_Detail!C217)","v":""},{"$f":"IF(Limit_Deviation_Detail!E217=\"\",\"\",Limit_Deviation_Detail!E217)","v":""},"",{"$f":"IF(COUNTIF(Y$2:Y195,Y195)=1,Y195,\"\")","v":""},"","","","","",null,null,null,null,null,null,null,null,null,null,null,null,null,null,null,{"$f":"+IF(AZ195=\"\",\"\",MAX(AU$1:AU194)+1)","v":""},{"$f":"IF(CMS_Deviation_Detail!B217=\"\",\"\",CMS_Deviation_Detail!B217)","v":""},{"$f":"IF(CMS_Deviation_Detail!C217=\"\",\"\",CMS_Deviation_Detail!C217)","v":""},{"$f":"IF(CMS_Deviation_Detail!D217=\"\",\"\",CMS_Deviation_Detail!D217)","v":""},{"$f":"AV195&AW195&AX195","v":""},{"$f":"IF(COUNTIF(AY$2:AY195,AY195)=1,AY195,\"\")","v":""},{"$f":"+IFERROR(INDEX(AV$2:AV$955,MATCH(ROW()-ROW(AZ$1),AU$2:AU$955,0)),\"\")","v":""},{"$f":"+IFERROR(INDEX(AW$2:AW$955,MATCH(ROW()-ROW(BA$1),AU$2:AU$955,0)),\"\")","v":""},{"$f":"+IFERROR(INDEX(AX$2:AX$955,MATCH(ROW()-ROW(BB$1),AU$2:AU$955,0)),\"\")","v":""},{"$f":"IF(BA195=\"\",\"\",BA195&BB195)","v":""},""]
[null,null,null,null,null,null,null,null,null,null,null,null,null,null,null,null,null,null,null,null,{"$f":"+IF(Z196=\"\",\"\",MAX(U$1:U195)+1)","v":""},{"$f":"IF(Limit_Deviation_Detail!B218=\"\",\"\",Limit_Deviation_Detail!B218)","v":""},{"$f":"IF(Limit_Deviation_Detail!C218=\"\",\"\",Limit_Deviation_Detail!C218)","v":""},{"$f":"IF(Limit_Deviation_Detail!E218=\"\",\"\",Limit_Deviation_Detail!E218)","v":""},"",{"$f":"IF(COUNTIF(Y$2:Y196,Y196)=1,Y196,\"\")","v":""},"","","","","",null,null,null,null,null,null,null,null,null,null,null,null,null,null,null,{"$f":"+IF(AZ196=\"\",\"\",MAX(AU$1:AU195)+1)","v":""},{"$f":"IF(CMS_Deviation_Detail!B218=\"\",\"\",CMS_Deviation_Detail!B218)","v":""},{"$f":"IF(CMS_Deviation_Detail!C218=\"\",\"\",CMS_Deviation_Detail!C218)","v":""},{"$f":"IF(CMS_Deviation_Detail!D218=\"\",\"\",CMS_Deviation_Detail!D218)","v":""},"",{"$f":"IF(COUNTIF(AY$2:AY196,AY196)=1,AY196,\"\")","v":""},"","","","",""]
[null,null,null,null,null,null,null,null,null,null,null,null,null,null,null,null,null,null,null,null,{"$f":"+IF(Z197=\"\",\"\",MAX(U$1:U196)+1)","v":""},{"$f":"IF(Limit_Deviation_Detail!B219=\"\",\"\",Limit_Deviation_Detail!B219)","v":""},{"$f":"IF(Limit_Deviation_Detail!C219=\"\",\"\",Limit_Deviation_Detail!C219)","v":""},{"$f":"IF(Limit_Deviation_Detail!E219=\"\",\"\",Limit_Deviation_Detail!E219)","v":""},"",{"$f":"IF(COUNTIF(Y$2:Y197,Y197)=1,Y197,\"\")","v":""},"","","","","",null,null,null,null,null,null,null,null,null,null,null,null,null,null,null,{"$f":"+IF(AZ197=\"\",\"\",MAX(AU$1:AU196)+1)","v":""},{"$f":"IF(CMS_Deviation_Detail!B219=\"\",\"\",CMS_Deviation_Detail!B219)","v":""},{"$f":"IF(CMS_Deviation_Detail!C219=\"\",\"\",CMS_Deviation_Detail!C219)","v":""},{"$f":"IF(CMS_Deviation_Detail!D219=\"\",\"\",CMS_Deviation_Detail!D219)","v":""},"",{"$f":"IF(COUNTIF(AY$2:AY197,AY197)=1,AY197,\"\")","v":""},"","","","",""]
[null,null,null,null,null,null,null,null,null,null,null,null,null,null,null,null,null,null,null,null,{"$f":"+IF(Z198=\"\",\"\",MAX(U$1:U197)+1)","v":""},{"$f":"IF(Limit_Deviation_Detail!B220=\"\",\"\",Limit_Deviation_Detail!B220)","v":""},{"$f":"IF(Limit_Deviation_Detail!C220=\"\",\"\",Limit_Deviation_Detail!C220)","v":""},{"$f":"IF(Limit_Deviation_Detail!E220=\"\",\"\",Limit_Deviation_Detail!E220)","v":""},"",{"$f":"IF(COUNTIF(Y$2:Y198,Y198)=1,Y198,\"\")","v":""},"","","","","",null,null,null,null,null,null,null,null,null,null,null,null,null,null,null,{"$f":"+IF(AZ198=\"\",\"\",MAX(AU$1:AU197)+1)","v":""},{"$f":"IF(CMS_Deviation_Detail!B220=\"\",\"\",CMS_Deviation_Detail!B220)","v":""},{"$f":"IF(CMS_Deviation_Detail!C220=\"\",\"\",CMS_Deviation_Detail!C220)","v":""},{"$f":"IF(CMS_Deviation_Detail!D220=\"\",\"\",CMS_Deviation_Detail!D220)","v":""},"",{"$f":"IF(COUNTIF(AY$2:AY198,AY198)=1,AY198,\"\")","v":""},"","","","",""]
[null,null,null,null,null,null,null,null,null,null,null,null,null,null,null,null,null,null,null,null,{"$f":"+IF(Z199=\"\",\"\",MAX(U$1:U198)+1)","v":""},{"$f":"IF(Limit_Deviation_Detail!B221=\"\",\"\",Limit_Deviation_Detail!B221)","v":""},{"$f":"IF(Limit_Deviation_Detail!C221=\"\",\"\",Limit_Deviation_Detail!C221)","v":""},{"$f":"IF(Limit_Deviation_Detail!E221=\"\",\"\",Limit_Deviation_Detail!E221)","v":""},"",{"$f":"IF(COUNTIF(Y$2:Y199,Y199)=1,Y199,\"\")","v":""},"","","","","",null,null,null,null,null,null,null,null,null,null,null,null,null,null,null,{"$f":"+IF(AZ199=\"\",\"\",MAX(AU$1:AU198)+1)","v":""},{"$f":"IF(CMS_Deviation_Detail!B221=\"\",\"\",CMS_Deviation_Detail!B221)","v":""},{"$f":"IF(CMS_Deviation_Detail!C221=\"\",\"\",CMS_Deviation_Detail!C221)","v":""},{"$f":"IF(CMS_Deviation_Detail!D221=\"\",\"\",CMS_Deviation_Detail!D221)","v":""},"",{"$f":"IF(COUNTIF(AY$2:AY199,AY199)=1,AY199,\"\")","v":""},"","","","",""]
[null,null,null,null,null,null,null,null,null,null,null,null,null,null,null,null,null,null,null,null,{"$f":"+IF(Z200=\"\",\"\",MAX(U$1:U199)+1)","v":""},{"$f":"IF(Limit_Deviation_Detail!B222=\"\",\"\",Limit_Deviation_Detail!B222)","v":""},{"$f":"IF(Limit_Deviation_Detail!C222=\"\",\"\",Limit_Deviation_Detail!C222)","v":""},{"$f":"IF(Limit_Deviation_Detail!E222=\"\",\"\",Limit_Deviation_Detail!E222)","v":""},"",{"$f":"IF(COUNTIF(Y$2:Y200,Y200)=1,Y200,\"\")","v":""},"","","","","",null,null,null,null,null,null,null,null,null,null,null,null,null,null,null,{"$f":"+IF(AZ200=\"\",\"\",MAX(AU$1:AU199)+1)","v":""},{"$f":"IF(CMS_Deviation_Detail!B222=\"\",\"\",CMS_Deviation_Detail!B222)","v":""},{"$f":"IF(CMS_Deviation_Detail!C222=\"\",\"\",CMS_Deviation_Detail!C222)","v":""},{"$f":"IF(CMS_Deviation_Detail!D222=\"\",\"\",CMS_Deviation_Detail!D222)","v":""},"",{"$f":"IF(COUNTIF(AY$2:AY200,AY200)=1,AY200,\"\")","v":""},"","","","",""]
[null,null,null,null,null,null,null,null,null,null,null,null,null,null,null,null,null,null,null,null,{"$f":"+IF(Z201=\"\",\"\",MAX(U$1:U200)+1)","v":""},{"$f":"IF(Limit_Deviation_Detail!B223=\"\",\"\",Limit_Deviation_Detail!B223)","v":""},{"$f":"IF(Limit_Deviation_Detail!C223=\"\",\"\",Limit_Deviation_Detail!C223)","v":""},{"$f":"IF(Limit_Deviation_Detail!E223=\"\",\"\",Limit_Deviation_Detail!E223)","v":""},"",{"$f":"IF(COUNTIF(Y$2:Y201,Y201)=1,Y201,\"\")","v":""},"","","","","",null,null,null,null,null,null,null,null,null,null,null,null,null,null,null,{"$f":"+IF(AZ201=\"\",\"\",MAX(AU$1:AU200)+1)","v":""},{"$f":"IF(CMS_Deviation_Detail!B223=\"\",\"\",CMS_Deviation_Detail!B223)","v":""},{"$f":"IF(CMS_Deviation_Detail!C223=\"\",\"\",CMS_Deviation_Detail!C223)","v":""},{"$f":"IF(CMS_Deviation_Detail!D223=\"\",\"\",CMS_Deviation_Detail!D223)","v":""},"",{"$f":"IF(COUNTIF(AY$2:AY201,AY201)=1,AY201,\"\")","v":""},"","","","",""]
[null,null,null,null,null,null,null,null,null,null,null,null,null,null,null,null,null,null,null,null,{"$f":"+IF(Z202=\"\",\"\",MAX(U$1:U201)+1)","v":""},{"$f":"IF(Limit_Deviation_Detail!B224=\"\",\"\",Limit_Deviation_Detail!B224)","v":""},{"$f":"IF(Limit_Deviation_Detail!C224=\"\",\"\",Limit_Deviation_Detail!C224)","v":""},{"$f":"IF(Limit_Deviation_Detail!E224=\"\",\"\",Limit_Deviation_Detail!E224)","v":""},"",{"$f":"IF(COUNTIF(Y$2:Y202,Y202)=1,Y202,\"\")","v":""},"","","","","",null,null,null,null,null,null,null,null,null,null,null,null,null,null,null,{"$f":"+IF(AZ202=\"\",\"\",MAX(AU$1:AU201)+1)","v":""},{"$f":"IF(CMS_Deviation_Detail!B224=\"\",\"\",CMS_Deviation_Detail!B224)","v":""},{"$f":"IF(CMS_Deviation_Detail!C224=\"\",\"\",CMS_Deviation_Detail!C224)","v":""},{"$f":"IF(CMS_Deviation_Detail!D224=\"\",\"\",CMS_Deviation_Detail!D224)","v":""},"",{"$f":"IF(COUNTIF(AY$2:AY202,AY202)=1,AY202,\"\")","v":""},"","","","",""]
[null,null,null,null,null,null,null,null,null,null,null,null,null,null,null,null,null,null,null,null,{"$f":"+IF(Z203=\"\",\"\",MAX(U$1:U202)+1)","v":""},{"$f":"IF(Limit_Deviation_Detail!B225=\"\",\"\",Limit_Deviation_Detail!B225)","v":""},{"$f":"IF(Limit_Deviation_Detail!C225=\"\",\"\",Limit_Deviation_Detail!C225)","v":""},{"$f":"IF(Limit_Deviation_Detail!E225=\"\",\"\",Limit_Deviation_Detail!E225)","v":""},"",{"$f":"IF(COUNTIF(Y$2:Y203,Y203)=1,Y203,\"\")","v":""},"","","","","",null,null,null,null,null,null,null,null,null,null,null,null,null,null,null,{"$f":"+IF(AZ203=\"\",\"\",MAX(AU$1:AU202)+1)","v":""},{"$f":"IF(CMS_Deviation_Detail!B225=\"\",\"\",CMS_Deviation_Detail!B225)","v":""},{"$f":"IF(CMS_Deviation_Detail!C225=\"\",\"\",CMS_Deviation_Detail!C225)","v":""},{"$f":"IF(CMS_Deviation_Detail!D225=\"\",\"\",CMS_Deviation_Detail!D225)","v":""},"",{"$f":"IF(COUNTIF(AY$2:AY203,AY203)=1,AY203,\"\")","v":""},"","","","",""]
[null,null,null,null,null,null,null,null,null,null,null,null,null,null,null,null,null,null,null,null,{"$f":"+IF(Z204=\"\",\"\",MAX(U$1:U203)+1)","v":""},{"$f":"IF(Limit_Deviation_Detail!B226=\"\",\"\",Limit_Deviation_Detail!B226)","v":""},{"$f":"IF(Limit_Deviation_Detail!C226=\"\",\"\",Limit_Deviation_Detail!C226)","v":""},{"$f":"IF(Limit_Deviation_Detail!E226=\"\",\"\",Limit_Deviation_Detail!E226)","v":""},"",{"$f":"IF(COUNTIF(Y$2:Y204,Y204)=1,Y204,\"\")","v":""},"","","","","",null,null,null,null,null,null,null,null,null,null,null,null,null,null,null,{"$f":"+IF(AZ204=\"\",\"\",MAX(AU$1:AU203)+1)","v":""},{"$f":"IF(CMS_Deviation_Detail!B226=\"\",\"\",CMS_Deviation_Detail!B226)","v":""},{"$f":"IF(CMS_Deviation_Detail!C226=\"\",\"\",CMS_Deviation_Detail!C226)","v":""},{"$f":"IF(CMS_Deviation_Detail!D226=\"\",\"\",CMS_Deviation_Detail!D226)","v":""},"",{"$f":"IF(COUNTIF(AY$2:AY204,AY204)=1,AY204,\"\")","v":""},"","","","",""]
[null,null,null,null,null,null,null,null,null,null,null,null,null,null,null,null,null,null,null,null,{"$f":"+IF(Z205=\"\",\"\",MAX(U$1:U204)+1)","v":""},{"$f":"IF(Limit_Deviation_Detail!B227=\"\",\"\",Limit_Deviation_Detail!B227)","v":""},{"$f":"IF(Limit_Deviation_Detail!C227=\"\",\"\",Limit_Deviation_Detail!C227)","v":""},{"$f":"IF(Limit_Deviation_Detail!E227=\"\",\"\",Limit_Deviation_Detail!E227)","v":""},"",{"$f":"IF(COUNTIF(Y$2:Y205,Y205)=1,Y205,\"\")","v":""},"","","","","",null,null,null,null,null,null,null,null,null,null,null,null,null,null,null,{"$f":"+IF(AZ205=\"\",\"\",MAX(AU$1:AU204)+1)","v":""},{"$f":"IF(CMS_Deviation_Detail!B227=\"\",\"\",CMS_Deviation_Detail!B227)","v":""},{"$f":"IF(CMS_Deviation_Detail!C227=\"\",\"\",CMS_Deviation_Detail!C227)","v":""},{"$f":"IF(CMS_Deviation_Detail!D227=\"\",\"\",CMS_Deviation_Detail!D227)","v":""},"",{"$f":"IF(COUNTIF(AY$2:AY205,AY205)=1,AY205,\"\")","v":""},"","","","",""]
[null,null,null,null,null,null,null,null,null,null,null,null,null,null,null,null,null,null,null,null,{"$f":"+IF(Z206=\"\",\"\",MAX(U$1:U205)+1)","v":""},{"$f":"IF(Limit_Deviation_Detail!B228=\"\",\"\",Limit_Deviation_Detail!B228)","v":""},{"$f":"IF(Limit_Deviation_Detail!C228=\"\",\"\",Limit_Deviation_Detail!C228)","v":""},{"$f":"IF(Limit_Deviation_Detail!E228=\"\",\"\",Limit_Deviation_Detail!E228)","v":""},"",{"$f":"IF(COUNTIF(Y$2:Y206,Y206)=1,Y206,\"\")","v":""},"","","","","",null,null,null,null,null,null,null,null,null,null,null,null,null,null,null,{"$f":"+IF(AZ206=\"\",\"\",MAX(AU$1:AU205)+1)","v":""},{"$f":"IF(CMS_Deviation_Detail!B228=\"\",\"\",CMS_Deviation_Detail!B228)","v":""},{"$f":"IF(CMS_Deviation_Detail!C228=\"\",\"\",CMS_Deviation_Detail!C228)","v":""},{"$f":"IF(CMS_Deviation_Detail!D228=\"\",\"\",CMS_Deviation_Detail!D228)","v":""},"",{"$f":"IF(COUNTIF(AY$2:AY206,AY206)=1,AY206,\"\")","v":""},"","","","",""]
[null,null,null,null,null,null,null,null,null,null,null,null,null,null,null,null,null,null,null,null,{"$f":"+IF(Z207=\"\",\"\",MAX(U$1:U206)+1)","v":""},{"$f":"IF(Limit_Deviation_Detail!B229=\"\",\"\",Limit_Deviation_Detail!B229)","v":""},{"$f":"IF(Limit_Deviation_Detail!C229=\"\",\"\",Limit_Deviation_Detail!C229)","v":""},{"$f":"IF(Limit_Deviation_Detail!E229=\"\",\"\",Limit_Deviation_Detail!E229)","v":""},"",{"$f":"IF(COUNTIF(Y$2:Y207,Y207)=1,Y207,\"\")","v":""},"","","","","",null,null,null,null,null,null,null,null,null,null,null,null,null,null,null,{"$f":"+IF(AZ207=\"\",\"\",MAX(AU$1:AU206)+1)","v":""},{"$f":"IF(CMS_Deviation_Detail!B229=\"\",\"\",CMS_Deviation_Detail!B229)","v":""},{"$f":"IF(CMS_Deviation_Detail!C229=\"\",\"\",CMS_Deviation_Detail!C229)","v":""},{"$f":"IF(CMS_Deviation_Detail!D229=\"\",\"\",CMS_Deviation_Detail!D229)","v":""},"",{"$f":"IF(COUNTIF(AY$2:AY207,AY207)=1,AY207,\"\")","v":""},"","","","",""]
[null,null,null,null,null,null,null,null,null,null,null,null,null,null,null,null,null,null,null,null,{"$f":"+IF(Z208=\"\",\"\",MAX(U$1:U207)+1)","v":""},{"$f":"IF(Limit_Deviation_Detail!B230=\"\",\"\",Limit_Deviation_Detail!B230)","v":""},{"$f":"IF(Limit_Deviation_Detail!C230=\"\",\"\",Limit_Deviation_Detail!C230)","v":""},{"$f":"IF(Limit_Deviation_Detail!E230=\"\",\"\",Limit_Deviation_Detail!E230)","v":""},"",{"$f":"IF(COUNTIF(Y$2:Y208,Y208)=1,Y208,\"\")","v":""},"","","","","",null,null,null,null,null,null,null,null,null,null,null,null,null,null,null,{"$f":"+IF(AZ208=\"\",\"\",MAX(AU$1:AU207)+1)","v":""},{"$f":"IF(CMS_Deviation_Detail!B230=\"\",\"\",CMS_Deviation_Detail!B230)","v":""},{"$f":"IF(CMS_Deviation_Detail!C230=\"\",\"\",CMS_Deviation_Detail!C230)","v":""},{"$f":"IF(CMS_Deviation_Detail!D230=\"\",\"\",CMS_Deviation_Detail!D230)","v":""},"",{"$f":"IF(COUNTIF(AY$2:AY208,AY208)=1,AY208,\"\")","v":""},"","","","",""]
[null,null,null,null,null,null,null,null,null,null,null,null,null,null,null,null,null,null,null,null,{"$f":"+IF(Z209=\"\",\"\",MAX(U$1:U208)+1)","v":""},{"$f":"IF(Limit_Deviation_Detail!B231=\"\",\"\",Limit_Deviation_Detail!B231)","v":""},{"$f":"IF(Limit_Deviation_Detail!C231=\"\",\"\",Limit_Deviation_Detail!C231)","v":""},{"$f":"IF(Limit_Deviation_Detail!E231=\"\",\"\",Limit_Deviation_Detail!E231)","v":""},"",{"$f":"IF(COUNTIF(Y$2:Y209,Y209)=1,Y209,\"\")","v":""},"","","","","",null,null,null,null,null,null,null,null,null,null,null,null,null,null,null,{"$f":"+IF(AZ209=\"\",\"\",MAX(AU$1:AU208)+1)","v":""},{"$f":"IF(CMS_Deviation_Detail!B231=\"\",\"\",CMS_Deviation_Detail!B231)","v":""},{"$f":"IF(CMS_Deviation_Detail!C231=\"\",\"\",CMS_Deviation_Detail!C231)","v":""},{"$f":"IF(CMS_Deviation_Detail!D231=\"\",\"\",CMS_Deviation_Detail!D231)","v":""},"",{"$f":"IF(COUNTIF(AY$2:AY209,AY209)=1,AY209,\"\")","v":""},"","","","",""]
[null,null,null,null,null,null,null,null,null,null,null,null,null,null,null,null,null,null,null,null,{"$f":"+IF(Z210=\"\",\"\",MAX(U$1:U209)+1)","v":""},{"$f":"IF(Limit_Deviation_Detail!B232=\"\",\"\",Limit_Deviation_Detail!B232)","v":""},{"$f":"IF(Limit_Deviation_Detail!C232=\"\",\"\",Limit_Deviation_Detail!C232)","v":""},{"$f":"IF(Limit_Deviation_Detail!E232=\"\",\"\",Limit_Deviation_Detail!E232)","v":""},"",{"$f":"IF(COUNTIF(Y$2:Y210,Y210)=1,Y210,\"\")","v":""},"","","","","",null,null,null,null,null,null,null,null,null,null,null,null,null,null,null,{"$f":"+IF(AZ210=\"\",\"\",MAX(AU$1:AU209)+1)","v":""},{"$f":"IF(CMS_Deviation_Detail!B232=\"\",\"\",CMS_Deviation_Detail!B232)","v":""},{"$f":"IF(CMS_Deviation_Detail!C232=\"\",\"\",CMS_Deviation_Detail!C232)","v":""},{"$f":"IF(CMS_Deviation_Detail!D232=\"\",\"\",CMS_Deviation_Detail!D232)","v":""},"",{"$f":"IF(COUNTIF(AY$2:AY210,AY210)=1,AY210,\"\")","v":""},"","","","",""]
[null,null,null,null,null,null,null,null,null,null,null,null,null,null,null,null,null,null,null,null,{"$f":"+IF(Z211=\"\",\"\",MAX(U$1:U210)+1)","v":""},{"$f":"IF(Limit_Deviation_Detail!B233=\"\",\"\",Limit_Deviation_Detail!B233)","v":""},{"$f":"IF(Limit_Deviation_Detail!C233=\"\",\"\",Limit_Deviation_Detail!C233)","v":""},{"$f":"IF(Limit_Deviation_Detail!E233=\"\",\"\",Limit_Deviation_Detail!E233)","v":""},"",{"$f":"IF(COUNTIF(Y$2:Y211,Y211)=1,Y211,\"\")","v":""},"","","","","",null,null,null,null,null,null,null,null,null,null,null,null,null,null,null,{"$f":"+IF(AZ211=\"\",\"\",MAX(AU$1:AU210)+1)","v":""},{"$f":"IF(CMS_Deviation_Detail!B233=\"\",\"\",CMS_Deviation_Detail!B233)","v":""},{"$f":"IF(CMS_Deviation_Detail!C233=\"\",\"\",CMS_Deviation_Detail!C233)","v":""},{"$f":"IF(CMS_Deviation_Detail!D233=\"\",\"\",CMS_Deviation_Detail!D233)","v":""},"",{"$f":"IF(COUNTIF(AY$2:AY211,AY211)=1,AY211,\"\")","v":""},"","","","",""]
[null,null,null,null,null,null,null,null,null,null,null,null,null,null,null,null,null,null,null,null,{"$f":"+IF(Z212=\"\",\"\",MAX(U$1:U211)+1)","v":""},{"$f":"IF(Limit_Deviation_Detail!B234=\"\",\"\",Limit_Deviation_Detail!B234)","v":""},{"$f":"IF(Limit_Deviation_Detail!C234=\"\",\"\",Limit_Deviation_Detail!C234)","v":""},{"$f":"IF(Limit_Deviation_Detail!E234=\"\",\"\",Limit_Deviation_Detail!E234)","v":""},"",{"$f":"IF(COUNTIF(Y$2:Y212,Y212)=1,Y212,\"\")","v":""},"","","","","",null,null,null,null,null,null,null,null,null,null,null,null,null,null,null,{"$f":"+IF(AZ212=\"\",\"\",MAX(AU$1:AU211)+1)","v":""},{"$f":"IF(CMS_Deviation_Detail!B234=\"\",\"\",CMS_Deviation_Detail!B234)","v":""},{"$f":"IF(CMS_Deviation_Detail!C234=\"\",\"\",CMS_Deviation_Detail!C234)","v":""},{"$f":"IF(CMS_Deviation_Detail!D234=\"\",\"\",CMS_Deviation_Detail!D234)","v":""},"",{"$f":"IF(COUNTIF(AY$2:AY212,AY212)=1,AY212,\"\")","v":""},"","","","",""]
[null,null,null,null,null,null,null,null,null,null,null,null,null,null,null,null,null,null,null,null,{"$f":"+IF(Z213=\"\",\"\",MAX(U$1:U212)+1)","v":""},{"$f":"IF(Limit_Deviation_Detail!B235=\"\",\"\",Limit_Deviation_Detail!B235)","v":""},{"$f":"IF(Limit_Deviation_Detail!C235=\"\",\"\",Limit_Deviation_Detail!C235)","v":""},{"$f":"IF(Limit_Deviation_Detail!E235=\"\",\"\",Limit_Deviation_Detail!E235)","v":""},"",{"$f":"IF(COUNTIF(Y$2:Y213,Y213)=1,Y213,\"\")","v":""},"","","","","",null,null,null,null,null,null,null,null,null,null,null,null,null,null,null,{"$f":"+IF(AZ213=\"\",\"\",MAX(AU$1:AU212)+1)","v":""},{"$f":"IF(CMS_Deviation_Detail!B235=\"\",\"\",CMS_Deviation_Detail!B235)","v":""},{"$f":"IF(CMS_Deviation_Detail!C235=\"\",\"\",CMS_Deviation_Detail!C235)","v":""},{"$f":"IF(CMS_Deviation_Detail!D235=\"\",\"\",CMS_Deviation_Detail!D235)","v":""},"",{"$f":"IF(COUNTIF(AY$2:AY213,AY213)=1,AY213,\"\")","v":""},"","","","",""]
[null,null,null,null,null,null,null,null,null,null,null,null,null,null,null,null,null,null,null,null,{"$f":"+IF(Z214=\"\",\"\",MAX(U$1:U213)+1)","v":""},{"$f":"IF(Limit_Deviation_Detail!B236=\"\",\"\",Limit_Deviation_Detail!B236)","v":""},{"$f":"IF(Limit_Deviation_Detail!C236=\"\",\"\",Limit_Deviation_Detail!C236)","v":""},{"$f":"IF(Limit_Deviation_Detail!E236=\"\",\"\",Limit_Deviation_Detail!E236)","v":""},"",{"$f":"IF(COUNTIF(Y$2:Y214,Y214)=1,Y214,\"\")","v":""},"","","","","",null,null,null,null,null,null,null,null,null,null,null,null,null,null,null,{"$f":"+IF(AZ214=\"\",\"\",MAX(AU$1:AU213)+1)","v":""},{"$f":"IF(CMS_Deviation_Detail!B236=\"\",\"\",CMS_Deviation_Detail!B236)","v":""},{"$f":"IF(CMS_Deviation_Detail!C236=\"\",\"\",CMS_Deviation_Detail!C236)","v":""},{"$f":"IF(CMS_Deviation_Detail!D236=\"\",\"\",CMS_Deviation_Detail!D236)","v":""},"",{"$f":"IF(COUNTIF(AY$2:AY214,AY214)=1,AY214,\"\")","v":""},"","","","",""]
[null,null,null,null,null,null,null,null,null,null,null,null,null,null,null,null,null,null,null,null,{"$f":"+IF(Z215=\"\",\"\",MAX(U$1:U214)+1)","v":""},{"$f":"IF(Limit_Deviation_Detail!B237=\"\",\"\",Limit_Deviation_Detail!B237)","v":""},{"$f":"IF(Limit_Deviation_Detail!C237=\"\",\"\",Limit_Deviation_Detail!C237)","v":""},{"$f":"IF(Limit_Deviation_Detail!E237=\"\",\"\",Limit_Deviation_Detail!E237)","v":""},"",{"$f":"IF(COUNTIF(Y$2:Y215,Y215)=1,Y215,\"\")","v":""},"","","","","",null,null,null,null,null,null,null,null,null,null,null,null,null,null,null,{"$f":"+IF(AZ215=\"\",\"\",MAX(AU$1:AU214)+1)","v":""},{"$f":"IF(CMS_Deviation_Detail!B237=\"\",\"\",CMS_Deviation_Detail!B237)","v":""},{"$f":"IF(CMS_Deviation_Detail!C237=\"\",\"\",CMS_Deviation_Detail!C237)","v":""},{"$f":"IF(CMS_Deviation_Detail!D237=\"\",\"\",CMS_Deviation_Detail!D237)","v":""},"",{"$f":"IF(COUNTIF(AY$2:AY215,AY215)=1,AY215,\"\")","v":""},"","","","",""]
[null,null,null,null,null,null,null,null,null,null,null,null,null,null,null,null,null,null,null,null,{"$f":"+IF(Z216=\"\",\"\",MAX(U$1:U215)+1)","v":""},{"$f":"IF(Limit_Deviation_Detail!B238=\"\",\"\",Limit_Deviation_Detail!B238)","v":""},{"$f":"IF(Limit_Deviation_Detail!C238=\"\",\"\",Limit_Deviation_Detail!C238)","v":""},{"$f":"IF(Limit_Deviation_Detail!E238=\"\",\"\",Limit_Deviation_Detail!E238)","v":""},"",{"$f":"IF(COUNTIF(Y$2:Y216,Y216)=1,Y216,\"\")","v":""},"","","","","",null,null,null,null,null,null,null,null,null,null,null,null,null,null,null,{"$f":"+IF(AZ216=\"\",\"\",MAX(AU$1:AU215)+1)","v":""},{"$f":"IF(CMS_Deviation_Detail!B238=\"\",\"\",CMS_Deviation_Detail!B238)","v":""},{"$f":"IF(CMS_Deviation_Detail!C238=\"\",\"\",CMS_Deviation_Detail!C238)","v":""},{"$f":"IF(CMS_Deviation_Detail!D238=\"\",\"\",CMS_Deviation_Detail!D238)","v":""},"",{"$f":"IF(COUNTIF(AY$2:AY216,AY216)=1,AY216,\"\")","v":""},"","","","",""]
[null,null,null,null,null,null,null,null,null,null,null,null,null,null,null,null,null,null,null,null,{"$f":"+IF(Z217=\"\",\"\",MAX(U$1:U216)+1)","v":""},{"$f":"IF(Limit_Deviation_Detail!B239=\"\",\"\",Limit_Deviation_Detail!B239)","v":""},{"$f":"IF(Limit_Deviation_Detail!C239=\"\",\"\",Limit_Deviation_Detail!C239)","v":""},{"$f":"IF(Limit_Deviation_Detail!E239=\"\",\"\",Limit_Deviation_Detail!E239)","v":""},"",{"$f":"IF(COUNTIF(Y$2:Y217,Y217)=1,Y217,\"\")","v":""},"","","","","",null,null,null,null,null,null,null,null,null,null,null,null,null,null,null,{"$f":"+IF(AZ217=\"\",\"\",MAX(AU$1:AU216)+1)","v":""},{"$f":"IF(CMS_Deviation_Detail!B239=\"\",\"\",CMS_Deviation_Detail!B239)","v":""},{"$f":"IF(CMS_Deviation_Detail!C239=\"\",\"\",CMS_Deviation_Detail!C239)","v":""},{"$f":"IF(CMS_Deviation_Detail!D239=\"\",\"\",CMS_Deviation_Detail!D239)","v":""},"",{"$f":"IF(COUNTIF(AY$2:AY217,AY217)=1,AY217,\"\")","v":""},"","","","",""]
[null,null,null,null,null,null,null,null,null,null,null,null,null,null,null,null,null,null,null,null,{"$f":"+IF(Z218=\"\",\"\",MAX(U$1:U217)+1)","v":""},{"$f":"IF(Limit_Deviation_Detail!B240=\"\",\"\",Limit_Deviation_Detail!B240)","v":""},{"$f":"IF(Limit_Deviation_Detail!C240=\"\",\"\",Limit_Deviation_Detail!C240)","v":""},{"$f":"IF(Limit_Deviation_Detail!E240=\"\",\"\",Limit_Deviation_Detail!E240)","v":""},"",{"$f":"IF(COUNTIF(Y$2:Y218,Y218)=1,Y218,\"\")","v":""},"","","","","",null,null,null,null,null,null,null,null,null,null,null,null,null,null,null,{"$f":"+IF(AZ218=\"\",\"\",MAX(AU$1:AU217)+1)","v":""},{"$f":"IF(CMS_Deviation_Detail!B240=\"\",\"\",CMS_Deviation_Detail!B240)","v":""},{"$f":"IF(CMS_Deviation_Detail!C240=\"\",\"\",CMS_Deviation_Detail!C240)","v":""},{"$f":"IF(CMS_Deviation_Detail!D240=\"\",\"\",CMS_Deviation_Detail!D240)","v":""},"",{"$f":"IF(COUNTIF(AY$2:AY218,AY218)=1,AY218,\"\")","v":""},"","","","",""]
[null,null,null,null,null,null,null,null,null,null,null,null,null,null,null,null,null,null,null,null,{"$f":"+IF(Z219=\"\",\"\",MAX(U$1:U218)+1)","v":""},{"$f":"IF(Limit_Deviation_Detail!B241=\"\",\"\",Limit_Deviation_Detail!B241)","v":""},{"$f":"IF(Limit_Deviation_Detail!C241=\"\",\"\",Limit_Deviation_Detail!C241)","v":""},{"$f":"IF(Limit_Deviation_Detail!E241=\"\",\"\",Limit_Deviation_Detail!E241)","v":""},"",{"$f":"IF(COUNTIF(Y$2:Y219,Y219)=1,Y219,\"\")","v":""},"","","","","",null,null,null,null,null,null,null,null,null,null,null,null,null,null,null,{"$f":"+IF(AZ219=\"\",\"\",MAX(AU$1:AU218)+1)","v":""},{"$f":"IF(CMS_Deviation_Detail!B241=\"\",\"\",CMS_Deviation_Detail!B241)","v":""},{"$f":"IF(CMS_Deviation_Detail!C241=\"\",\"\",CMS_Deviation_Detail!C241)","v":""},{"$f":"IF(CMS_Deviation_Detail!D241=\"\",\"\",CMS_Deviation_Detail!D241)","v":""},"",{"$f":"IF(COUNTIF(AY$2:AY219,AY219)=1,AY219,\"\")","v":""},"","","","",""]
[null,null,null,null,null,null,null,null,null,null,null,null,null,null,null,null,null,null,null,null,{"$f":"+IF(Z220=\"\",\"\",MAX(U$1:U219)+1)","v":""},{"$f":"IF(Limit_Deviation_Detail!B242=\"\",\"\",Limit_Deviation_Detail!B242)","v":""},{"$f":"IF(Limit_Deviation_Detail!C242=\"\",\"\",Limit_Deviation_Detail!C242)","v":""},{"$f":"IF(Limit_Deviation_Detail!E242=\"\",\"\",Limit_Deviation_Detail!E242)","v":""},"",{"$f":"IF(COUNTIF(Y$2:Y220,Y220)=1,Y220,\"\")","v":""},"","","","","",null,null,null,null,null,null,null,null,null,null,null,null,null,null,null,{"$f":"+IF(AZ220=\"\",\"\",MAX(AU$1:AU219)+1)","v":""},{"$f":"IF(CMS_Deviation_Detail!B242=\"\",\"\",CMS_Deviation_Detail!B242)","v":""},{"$f":"IF(CMS_Deviation_Detail!C242=\"\",\"\",CMS_Deviation_Detail!C242)","v":""},{"$f":"IF(CMS_Deviation_Detail!D242=\"\",\"\",CMS_Deviation_Detail!D242)","v":""},"",{"$f":"IF(COUNTIF(AY$2:AY220,AY220)=1,AY220,\"\")","v":""},"","","","",""]
[null,null,null,null,null,null,null,null,null,null,null,null,null,null,null,null,null,null,null,null,{"$f":"+IF(Z221=\"\",\"\",MAX(U$1:U220)+1)","v":""},{"$f":"IF(Limit_Deviation_Detail!B243=\"\",\"\",Limit_Deviation_Detail!B243)","v":""},{"$f":"IF(Limit_Deviation_Detail!C243=\"\",\"\",Limit_Deviation_Detail!C243)","v":""},{"$f":"IF(Limit_Deviation_Detail!E243=\"\",\"\",Limit_Deviation_Detail!E243)","v":""},"",{"$f":"IF(COUNTIF(Y$2:Y221,Y221)=1,Y221,\"\")","v":""},"","","","","",null,null,null,null,null,null,null,null,null,null,null,null,null,null,null,{"$f":"+IF(AZ221=\"\",\"\",MAX(AU$1:AU220)+1)","v":""},{"$f":"IF(CMS_Deviation_Detail!B243=\"\",\"\",CMS_Deviation_Detail!B243)","v":""},{"$f":"IF(CMS_Deviation_Detail!C243=\"\",\"\",CMS_Deviation_Detail!C243)","v":""},{"$f":"IF(CMS_Deviation_Detail!D243=\"\",\"\",CMS_Deviation_Detail!D243)","v":""},"",{"$f":"IF(COUNTIF(AY$2:AY221,AY221)=1,AY221,\"\")","v":""},"","","","",""]
[null,null,null,null,null,null,null,null,null,null,null,null,null,null,null,null,null,null,null,null,{"$f":"+IF(Z222=\"\",\"\",MAX(U$1:U221)+1)","v":""},{"$f":"IF(Limit_Deviation_Detail!B244=\"\",\"\",Limit_Deviation_Detail!B244)","v":""},{"$f":"IF(Limit_Deviation_Detail!C244=\"\",\"\",Limit_Deviation_Detail!C244)","v":""},{"$f":"IF(Limit_Deviation_Detail!E244=\"\",\"\",Limit_Deviation_Detail!E244)","v":""},"",{"$f":"IF(COUNTIF(Y$2:Y222,Y222)=1,Y222,\"\")","v":""},"","","","","",null,null,null,null,null,null,null,null,null,null,null,null,null,null,null,{"$f":"+IF(AZ222=\"\",\"\",MAX(AU$1:AU221)+1)","v":""},{"$f":"IF(CMS_Deviation_Detail!B244=\"\",\"\",CMS_Deviation_Detail!B244)","v":""},{"$f":"IF(CMS_Deviation_Detail!C244=\"\",\"\",CMS_Deviation_Detail!C244)","v":""},{"$f":"IF(CMS_Deviation_Detail!D244=\"\",\"\",CMS_Deviation_Detail!D244)","v":""},"",{"$f":"IF(COUNTIF(AY$2:AY222,AY222)=1,AY222,\"\")","v":""},"","","","",""]
[null,null,null,null,null,null,null,null,null,null,null,null,null,null,null,null,null,null,null,null,{"$f":"+IF(Z223=\"\",\"\",MAX(U$1:U222)+1)","v":""},{"$f":"IF(Limit_Deviation_Detail!B245=\"\",\"\",Limit_Deviation_Detail!B245)","v":""},{"$f":"IF(Limit_Deviation_Detail!C245=\"\",\"\",Limit_Deviation_Detail!C245)","v":""},{"$f":"IF(Limit_Deviation_Detail!E245=\"\",\"\",Limit_Deviation_Detail!E245)","v":""},"",{"$f":"IF(COUNTIF(Y$2:Y223,Y223)=1,Y223,\"\")","v":""},"","","","","",null,null,null,null,null,null,null,null,null,null,null,null,null,null,null,{"$f":"+IF(AZ223=\"\",\"\",MAX(AU$1:AU222)+1)","v":""},{"$f":"IF(CMS_Deviation_Detail!B245=\"\",\"\",CMS_Deviation_Detail!B245)","v":""},{"$f":"IF(CMS_Deviation_Detail!C245=\"\",\"\",CMS_Deviation_Detail!C245)","v":""},{"$f":"IF(CMS_Deviation_Detail!D245=\"\",\"\",CMS_Deviation_Detail!D245)","v":""},"",{"$f":"IF(COUNTIF(AY$2:AY223,AY223)=1,AY223,\"\")","v":""},"","","","",""]
[null,null,null,null,null,null,null,null,null,null,null,null,null,null,null,null,null,null,null,null,{"$f":"+IF(Z224=\"\",\"\",MAX(U$1:U223)+1)","v":""},{"$f":"IF(Limit_Deviation_Detail!B246=\"\",\"\",Limit_Deviation_Detail!B246)","v":""},{"$f":"IF(Limit_Deviation_Detail!C246=\"\",\"\",Limit_Deviation_Detail!C246)","v":""},{"$f":"IF(Limit_Deviation_Detail!E246=\"\",\"\",Limit_Deviation_Detail!E246)","v":""},"",{"$f":"IF(COUNTIF(Y$2:Y224,Y224)=1,Y224,\"\")","v":""},"","","","","",null,null,null,null,null,null,null,null,null,null,null,null,null,null,null,{"$f":"+IF(AZ224=\"\",\"\",MAX(AU$1:AU223)+1)","v":""},{"$f":"IF(CMS_Deviation_Detail!B246=\"\",\"\",CMS_Deviation_Detail!B246)","v":""},{"$f":"IF(CMS_Deviation_Detail!C246=\"\",\"\",CMS_Deviation_Detail!C246)","v":""},{"$f":"IF(CMS_Deviation_Detail!D246=\"\",\"\",CMS_Deviation_Detail!D246)","v":""},"",{"$f":"IF(COUNTIF(AY$2:AY224,AY224)=1,AY224,\"\")","v":""},"","","","",""]
[null,null,null,null,null,null,null,null,null,null,null,null,null,null,null,null,null,null,null,null,{"$f":"+IF(Z225=\"\",\"\",MAX(U$1:U224)+1)","v":""},{"$f":"IF(Limit_Deviation_Detail!B247=\"\",\"\",Limit_Deviation_Detail!B247)","v":""},{"$f":"IF(Limit_Deviation_Detail!C247=\"\",\"\",Limit_Deviation_Detail!C247)","v":""},{"$f":"IF(Limit_Deviation_Detail!E247=\"\",\"\",Limit_Deviation_Detail!E247)","v":""},"",{"$f":"IF(COUNTIF(Y$2:Y225,Y225)=1,Y225,\"\")","v":""},"","","","","",null,null,null,null,null,null,null,null,null,null,null,null,null,null,null,{"$f":"+IF(AZ225=\"\",\"\",MAX(AU$1:AU224)+1)","v":""},{"$f":"IF(CMS_Deviation_Detail!B247=\"\",\"\",CMS_Deviation_Detail!B247)","v":""},{"$f":"IF(CMS_Deviation_Detail!C247=\"\",\"\",CMS_Deviation_Detail!C247)","v":""},{"$f":"IF(CMS_Deviation_Detail!D247=\"\",\"\",CMS_Deviation_Detail!D247)","v":""},"",{"$f":"IF(COUNTIF(AY$2:AY225,AY225)=1,AY225,\"\")","v":""},"","","","",""]
[null,null,null,null,null,null,null,null,null,null,null,null,null,null,null,null,null,null,null,null,{"$f":"+IF(Z226=\"\",\"\",MAX(U$1:U225)+1)","v":""},{"$f":"IF(Limit_Deviation_Detail!B248=\"\",\"\",Limit_Deviation_Detail!B248)","v":""},{"$f":"IF(Limit_Deviation_Detail!C248=\"\",\"\",Limit_Deviation_Detail!C248)","v":""},{"$f":"IF(Limit_Deviation_Detail!E248=\"\",\"\",Limit_Deviation_Detail!E248)","v":""},"",{"$f":"IF(COUNTIF(Y$2:Y226,Y226)=1,Y226,\"\")","v":""},"","","","","",null,null,null,null,null,null,null,null,null,null,null,null,null,null,null,{"$f":"+IF(AZ226=\"\",\"\",MAX(AU$1:AU225)+1)","v":""},{"$f":"IF(CMS_Deviation_Detail!B248=\"\",\"\",CMS_Deviation_Detail!B248)","v":""},{"$f":"IF(CMS_Deviation_Detail!C248=\"\",\"\",CMS_Deviation_Detail!C248)","v":""},{"$f":"IF(CMS_Deviation_Detail!D248=\"\",\"\",CMS_Deviation_Detail!D248)","v":""},"",{"$f":"IF(COUNTIF(AY$2:AY226,AY226)=1,AY226,\"\")","v":""},"","","","",""]
[null,null,null,null,null,null,null,null,null,null,null,null,null,null,null,null,null,null,null,null,{"$f":"+IF(Z227=\"\",\"\",MAX(U$1:U226)+1)","v":""},{"$f":"IF(Limit_Deviation_Detail!B249=\"\",\"\",Limit_Deviation_Detail!B249)","v":""},{"$f":"IF(Limit_Deviation_Detail!C249=\"\",\"\",Limit_Deviation_Detail!C249)","v":""},{"$f":"IF(Limit_Deviation_Detail!E249=\"\",\"\",Limit_Deviation_Detail!E249)","v":""},"",{"$f":"IF(COUNTIF(Y$2:Y227,Y227)=1,Y227,\"\")","v":""},"","","","","",null,null,null,null,null,null,null,null,null,null,null,null,null,null,null,{"$f":"+IF(AZ227=\"\",\"\",MAX(AU$1:AU226)+1)","v":""},{"$f":"IF(CMS_Deviation_Detail!B249=\"\",\"\",CMS_Deviation_Detail!B249)","v":""},{"$f":"IF(CMS_Deviation_Detail!C249=\"\",\"\",CMS_Deviation_Detail!C249)","v":""},{"$f":"IF(CMS_Deviation_Detail!D249=\"\",\"\",CMS_Deviation_Detail!D249)","v":""},"",{"$f":"IF(COUNTIF(AY$2:AY227,AY227)=1,AY227,\"\")","v":""},"","","","",""]
[null,null,null,null,null,null,null,null,null,null,null,null,null,null,null,null,null,null,null,null,{"$f":"+IF(Z228=\"\",\"\",MAX(U$1:U227)+1)","v":""},{"$f":"IF(Limit_Deviation_Detail!B250=\"\",\"\",Limit_Deviation_Detail!B250)","v":""},{"$f":"IF(Limit_Deviation_Detail!C250=\"\",\"\",Limit_Deviation_Detail!C250)","v":""},{"$f":"IF(Limit_Deviation_Detail!E250=\"\",\"\",Limit_Deviation_Detail!E250)","v":""},"",{"$f":"IF(COUNTIF(Y$2:Y228,Y228)=1,Y228,\"\")","v":""},"","","","","",null,null,null,null,null,null,null,null,null,null,null,null,null,null,null,{"$f":"+IF(AZ228=\"\",\"\",MAX(AU$1:AU227)+1)","v":""},{"$f":"IF(CMS_Deviation_Detail!B250=\"\",\"\",CMS_Deviation_Detail!B250)","v":""},{"$f":"IF(CMS_Deviation_Detail!C250=\"\",\"\",CMS_Deviation_Detail!C250)","v":""},{"$f":"IF(CMS_Deviation_Detail!D250=\"\",\"\",CMS_Deviation_Detail!D250)","v":""},"",{"$f":"IF(COUNTIF(AY$2:AY228,AY228)=1,AY228,\"\")","v":""},"","","","",""]
[null,null,null,null,null,null,null,null,null,null,null,null,null,null,null,null,null,null,null,null,{"$f":"+IF(Z229=\"\",\"\",MAX(U$1:U228)+1)","v":""},{"$f":"IF(Limit_Deviation_Detail!B251=\"\",\"\",Limit_Deviation_Detail!B251)","v":""},{"$f":"IF(Limit_Deviation_Detail!C251=\"\",\"\",Limit_Deviation_Detail!C251)","v":""},{"$f":"IF(Limit_Deviation_Detail!E251=\"\",\"\",Limit_Deviation_Detail!E251)","v":""},"",{"$f":"IF(COUNTIF(Y$2:Y229,Y229)=1,Y229,\"\")","v":""},"","","","","",null,null,null,null,null,null,null,null,null,null,null,null,null,null,null,{"$f":"+IF(AZ229=\"\",\"\",MAX(AU$1:AU228)+1)","v":""},{"$f":"IF(CMS_Deviation_Detail!B251=\"\",\"\",CMS_Deviation_Detail!B251)","v":""},{"$f":"IF(CMS_Deviation_Detail!C251=\"\",\"\",CMS_Deviation_Detail!C251)","v":""},{"$f":"IF(CMS_Deviation_Detail!D251=\"\",\"\",CMS_Deviation_Detail!D251)","v":""},"",{"$f":"IF(COUNTIF(AY$2:AY229,AY229)=1,AY229,\"\")","v":""},"","","","",""]
[null,null,null,null,null,null,null,null,null,null,null,null,null,null,null,null,null,null,null,null,{"$f":"+IF(Z230=\"\",\"\",MAX(U$1:U229)+1)","v":""},{"$f":"IF(Limit_Deviation_Detail!B252=\"\",\"\",Limit_Deviation_Detail!B252)","v":""},{"$f":"IF(Limit_Deviation_Detail!C252=\"\",\"\",Limit_Deviation_Detail!C252)","v":""},{"$f":"IF(Limit_Deviation_Detail!E252=\"\",\"\",Limit_Deviation_Detail!E252)","v":""},"",{"$f":"IF(COUNTIF(Y$2:Y230,Y230)=1,Y230,\"\")","v":""},"","","","","",null,null,null,null,null,null,null,null,null,null,null,null,null,null,null,{"$f":"+IF(AZ230=\"\",\"\",MAX(AU$1:AU229)+1)","v":""},{"$f":"IF(CMS_Deviation_Detail!B252=\"\",\"\",CMS_Deviation_Detail!B252)","v":""},{"$f":"IF(CMS_Deviation_Detail!C252=\"\",\"\",CMS_Deviation_Detail!C252)","v":""},{"$f":"IF(CMS_Deviation_Detail!D252=\"\",\"\",CMS_Deviation_Detail!D252)","v":""},"",{"$f":"IF(COUNTIF(AY$2:AY230,AY230)=1,AY230,\"\")","v":""},"","","","",""]
[null,null,null,null,null,null,null,null,null,null,null,null,null,null,null,null,null,null,null,null,{"$f":"+IF(Z231=\"\",\"\",MAX(U$1:U230)+1)","v":""},{"$f":"IF(Limit_Deviation_Detail!B253=\"\",\"\",Limit_Deviation_Detail!B253)","v":""},{"$f":"IF(Limit_Deviation_Detail!C253=\"\",\"\",Limit_Deviation_Detail!C253)","v":""},{"$f":"IF(Limit_Deviation_Detail!E253=\"\",\"\",Limit_Deviation_Detail!E253)","v":""},"",{"$f":"IF(COUNTIF(Y$2:Y231,Y231)=1,Y231,\"\")","v":""},"","","","","",null,null,null,null,null,null,null,null,null,null,null,null,null,null,null,{"$f":"+IF(AZ231=\"\",\"\",MAX(AU$1:AU230)+1)","v":""},{"$f":"IF(CMS_Deviation_Detail!B253=\"\",\"\",CMS_Deviation_Detail!B253)","v":""},{"$f":"IF(CMS_Deviation_Detail!C253=\"\",\"\",CMS_Deviation_Detail!C253)","v":""},{"$f":"IF(CMS_Deviation_Detail!D253=\"\",\"\",CMS_Deviation_Detail!D253)","v":""},"",{"$f":"IF(COUNTIF(AY$2:AY231,AY231)=1,AY231,\"\")","v":""},"","","","",""]
[null,null,null,null,null,null,null,null,null,null,null,null,null,null,null,null,null,null,null,null,{"$f":"+IF(Z232=\"\",\"\",MAX(U$1:U231)+1)","v":""},{"$f":"IF(Limit_Deviation_Detail!B254=\"\",\"\",Limit_Deviation_Detail!B254)","v":""},{"$f":"IF(Limit_Deviation_Detail!C254=\"\",\"\",Limit_Deviation_Detail!C254)","v":""},{"$f":"IF(Limit_Deviation_Detail!E254=\"\",\"\",Limit_Deviation_Detail!E254)","v":""},"",{"$f":"IF(COUNTIF(Y$2:Y232,Y232)=1,Y232,\"\")","v":""},"","","","","",null,null,null,null,null,null,null,null,null,null,null,null,null,null,null,{"$f":"+IF(AZ232=\"\",\"\",MAX(AU$1:AU231)+1)","v":""},{"$f":"IF(CMS_Deviation_Detail!B254=\"\",\"\",CMS_Deviation_Detail!B254)","v":""},{"$f":"IF(CMS_Deviation_Detail!C254=\"\",\"\",CMS_Deviation_Detail!C254)","v":""},{"$f":"IF(CMS_Deviation_Detail!D254=\"\",\"\",CMS_Deviation_Detail!D254)","v":""},"",{"$f":"IF(COUNTIF(AY$2:AY232,AY232)=1,AY232,\"\")","v":""},"","","","",""]
[null,null,null,null,null,null,null,null,null,null,null,null,null,null,null,null,null,null,null,null,{"$f":"+IF(Z233=\"\",\"\",MAX(U$1:U232)+1)","v":""},{"$f":"IF(Limit_Deviation_Detail!B255=\"\",\"\",Limit_Deviation_Detail!B255)","v":""},{"$f":"IF(Limit_Deviation_Detail!C255=\"\",\"\",Limit_Deviation_Detail!C255)","v":""},{"$f":"IF(Limit_Deviation_Detail!E255=\"\",\"\",Limit_Deviation_Detail!E255)","v":""},"",{"$f":"IF(COUNTIF(Y$2:Y233,Y233)=1,Y233,\"\")","v":""},"","","","","",null,null,null,null,null,null,null,null,null,null,null,null,null,null,null,{"$f":"+IF(AZ233=\"\",\"\",MAX(AU$1:AU232)+1)","v":""},{"$f":"IF(CMS_Deviation_Detail!B255=\"\",\"\",CMS_Deviation_Detail!B255)","v":""},{"$f":"IF(CMS_Deviation_Detail!C255=\"\",\"\",CMS_Deviation_Detail!C255)","v":""},{"$f":"IF(CMS_Deviation_Detail!D255=\"\",\"\",CMS_Deviation_Detail!D255)","v":""},"",{"$f":"IF(COUNTIF(AY$2:AY233,AY233)=1,AY233,\"\")","v":""},"","","","",""]
[null,null,null,null,null,null,null,null,null,null,null,null,null,null,null,null,null,null,null,null,{"$f":"+IF(Z234=\"\",\"\",MAX(U$1:U233)+1)","v":""},{"$f":"IF(Limit_Deviation_Detail!B256=\"\",\"\",Limit_Deviation_Detail!B256)","v":""},{"$f":"IF(Limit_Deviation_Detail!C256=\"\",\"\",Limit_Deviation_Detail!C256)","v":""},{"$f":"IF(Limit_Deviation_Detail!E256=\"\",\"\",Limit_Deviation_Detail!E256)","v":""},"",{"$f":"IF(COUNTIF(Y$2:Y234,Y234)=1,Y234,\"\")","v":""},"","","","","",null,null,null,null,null,null,null,null,null,null,null,null,null,null,null,{"$f":"+IF(AZ234=\"\",\"\",MAX(AU$1:AU233)+1)","v":""},{"$f":"IF(CMS_Deviation_Detail!B256=\"\",\"\",CMS_Deviation_Detail!B256)","v":""},{"$f":"IF(CMS_Deviation_Detail!C256=\"\",\"\",CMS_Deviation_Detail!C256)","v":""},{"$f":"IF(CMS_Deviation_Detail!D256=\"\",\"\",CMS_Deviation_Detail!D256)","v":""},"",{"$f":"IF(COUNTIF(AY$2:AY234,AY234)=1,AY234,\"\")","v":""},"","","","",""]
[null,null,null,null,null,null,null,null,null,null,null,null,null,null,null,null,null,null,null,null,{"$f":"+IF(Z235=\"\",\"\",MAX(U$1:U234)+1)","v":""},{"$f":"IF(Limit_Deviation_Detail!B257=\"\",\"\",Limit_Deviation_Detail!B257)","v":""},{"$f":"IF(Limit_Deviation_Detail!C257=\"\",\"\",Limit_Deviation_Detail!C257)","v":""},{"$f":"IF(Limit_Deviation_Detail!E257=\"\",\"\",Limit_Deviation_Detail!E257)","v":""},"",{"$f":"IF(COUNTIF(Y$2:Y235,Y235)=1,Y235,\"\")","v":""},"","","","","",null,null,null,null,null,null,null,null,null,null,null,null,null,null,null,{"$f":"+IF(AZ235=\"\",\"\",MAX(AU$1:AU234)+1)","v":""},{"$f":"IF(CMS_Deviation_Detail!B257=\"\",\"\",CMS_Deviation_Detail!B257)","v":""},{"$f":"IF(CMS_Deviation_Detail!C257=\"\",\"\",CMS_Deviation_Detail!C257)","v":""},{"$f":"IF(CMS_Deviation_Detail!D257=\"\",\"\",CMS_Deviation_Detail!D257)","v":""},"",{"$f":"IF(COUNTIF(AY$2:AY235,AY235)=1,AY235,\"\")","v":""},"","","","",""]
[null,null,null,null,null,null,null,null,null,null,null,null,null,null,null,null,null,null,null,null,{"$f":"+IF(Z236=\"\",\"\",MAX(U$1:U235)+1)","v":""},{"$f":"IF(Limit_Deviation_Detail!B258=\"\",\"\",Limit_Deviation_Detail!B258)","v":""},{"$f":"IF(Limit_Deviation_Detail!C258=\"\",\"\",Limit_Deviation_Detail!C258)","v":""},{"$f":"IF(Limit_Deviation_Detail!E258=\"\",\"\",Limit_Deviation_Detail!E258)","v":""},"",{"$f":"IF(COUNTIF(Y$2:Y236,Y236)=1,Y236,\"\")","v":""},"","","","","",null,null,null,null,null,null,null,null,null,null,null,null,null,null,null,{"$f":"+IF(AZ236=\"\",\"\",MAX(AU$1:AU235)+1)","v":""},{"$f":"IF(CMS_Deviation_Detail!B258=\"\",\"\",CMS_Deviation_Detail!B258)","v":""},{"$f":"IF(CMS_Deviation_Detail!C258=\"\",\"\",CMS_Deviation_Detail!C258)","v":""},{"$f":"IF(CMS_Deviation_Detail!D258=\"\",\"\",CMS_Deviation_Detail!D258)","v":""},"",{"$f":"IF(COUNTIF(AY$2:AY236,AY236)=1,AY236,\"\")","v":""},"","","","",""]
[null,null,null,null,null,null,null,null,null,null,null,null,null,null,null,null,null,null,null,null,{"$f":"+IF(Z237=\"\",\"\",MAX(U$1:U236)+1)","v":""},{"$f":"IF(Limit_Deviation_Detail!B259=\"\",\"\",Limit_Deviation_Detail!B259)","v":""},{"$f":"IF(Limit_Deviation_Detail!C259=\"\",\"\",Limit_Deviation_Detail!C259)","v":""},{"$f":"IF(Limit_Deviation_Detail!E259=\"\",\"\",Limit_Deviation_Detail!E259)","v":""},"",{"$f":"IF(COUNTIF(Y$2:Y237,Y237)=1,Y237,\"\")","v":""},"","","","","",null,null,null,null,null,null,null,null,null,null,null,null,null,null,null,{"$f":"+IF(AZ237=\"\",\"\",MAX(AU$1:AU236)+1)","v":""},{"$f":"IF(CMS_Deviation_Detail!B259=\"\",\"\",CMS_Deviation_Detail!B259)","v":""},{"$f":"IF(CMS_Deviation_Detail!C259=\"\",\"\",CMS_Deviation_Detail!C259)","v":""},{"$f":"IF(CMS_Deviation_Detail!D259=\"\",\"\",CMS_Deviation_Detail!D259)","v":""},"",{"$f":"IF(COUNTIF(AY$2:AY237,AY237)=1,AY237,\"\")","v":""},"","","","",""]
[null,null,null,null,null,null,null,null,null,null,null,null,null,null,null,null,null,null,null,null,{"$f":"+IF(Z238=\"\",\"\",MAX(U$1:U237)+1)","v":""},{"$f":"IF(Limit_Deviation_Detail!B260=\"\",\"\",Limit_Deviation_Detail!B260)","v":""},{"$f":"IF(Limit_Deviation_Detail!C260=\"\",\"\",Limit_Deviation_Detail!C260)","v":""},{"$f":"IF(Limit_Deviation_Detail!E260=\"\",\"\",Limit_Deviation_Detail!E260)","v":""},"",{"$f":"IF(COUNTIF(Y$2:Y238,Y238)=1,Y238,\"\")","v":""},"","","","","",null,null,null,null,null,null,null,null,null,null,null,null,null,null,null,{"$f":"+IF(AZ238=\"\",\"\",MAX(AU$1:AU237)+1)","v":""},{"$f":"IF(CMS_Deviation_Detail!B260=\"\",\"\",CMS_Deviation_Detail!B260)","v":""},{"$f":"IF(CMS_Deviation_Detail!C260=\"\",\"\",CMS_Deviation_Detail!C260)","v":""},{"$f":"IF(CMS_Deviation_Detail!D260=\"\",\"\",CMS_Deviation_Detail!D260)","v":""},"",{"$f":"IF(COUNTIF(AY$2:AY238,AY238)=1,AY238,\"\")","v":""},"","","","",""]
[null,null,null,null,null,null,null,null,null,null,null,null,null,null,null,null,null,null,null,null,{"$f":"+IF(Z239=\"\",\"\",MAX(U$1:U238)+1)","v":""},{"$f":"IF(Limit_Deviation_Detail!B261=\"\",\"\",Limit_Deviation_Detail!B261)","v":""},{"$f":"IF(Limit_Deviation_Detail!C261=\"\",\"\",Limit_Deviation_Detail!C261)","v":""},{"$f":"IF(Limit_Deviation_Detail!E261=\"\",\"\",Limit_Deviation_Detail!E261)","v":""},"",{"$f":"IF(COUNTIF(Y$2:Y239,Y239)=1,Y239,\"\")","v":""},"","","","","",null,null,null,null,null,null,null,null,null,null,null,null,null,null,null,{"$f":"+IF(AZ239=\"\",\"\",MAX(AU$1:AU238)+1)","v":""},{"$f":"IF(CMS_Deviation_Detail!B261=\"\",\"\",CMS_Deviation_Detail!B261)","v":""},{"$f":"IF(CMS_Deviation_Detail!C261=\"\",\"\",CMS_Deviation_Detail!C261)","v":""},{"$f":"IF(CMS_Deviation_Detail!D261=\"\",\"\",CMS_Deviation_Detail!D261)","v":""},"",{"$f":"IF(COUNTIF(AY$2:AY239,AY239)=1,AY239,\"\")","v":""},"","","","",""]
[null,null,null,null,null,null,null,null,null,null,null,null,null,null,null,null,null,null,null,null,{"$f":"+IF(Z240=\"\",\"\",MAX(U$1:U239)+1)","v":""},{"$f":"IF(Limit_Deviation_Detail!B262=\"\",\"\",Limit_Deviation_Detail!B262)","v":""},{"$f":"IF(Limit_Deviation_Detail!C262=\"\",\"\",Limit_Deviation_Detail!C262)","v":""},{"$f":"IF(Limit_Deviation_Detail!E262=\"\",\"\",Limit_Deviation_Detail!E262)","v":""},"",{"$f":"IF(COUNTIF(Y$2:Y240,Y240)=1,Y240,\"\")","v":""},"","","","","",null,null,null,null,null,null,null,null,null,null,null,null,null,null,null,{"$f":"+IF(AZ240=\"\",\"\",MAX(AU$1:AU239)+1)","v":""},{"$f":"IF(CMS_Deviation_Detail!B262=\"\",\"\",CMS_Deviation_Detail!B262)","v":""},{"$f":"IF(CMS_Deviation_Detail!C262=\"\",\"\",CMS_Deviation_Detail!C262)","v":""},{"$f":"IF(CMS_Deviation_Detail!D262=\"\",\"\",CMS_Deviation_Detail!D262)","v":""},"",{"$f":"IF(COUNTIF(AY$2:AY240,AY240)=1,AY240,\"\")","v":""},"","","","",""]
[null,null,null,null,null,null,null,null,null,null,null,null,null,null,null,null,null,null,null,null,{"$f":"+IF(Z241=\"\",\"\",MAX(U$1:U240)+1)","v":""},{"$f":"IF(Limit_Deviation_Detail!B263=\"\",\"\",Limit_Deviation_Detail!B263)","v":""},{"$f":"IF(Limit_Deviation_Detail!C263=\"\",\"\",Limit_Deviation_Detail!C263)","v":""},{"$f":"IF(Limit_Deviation_Detail!E263=\"\",\"\",Limit_Deviation_Detail!E263)","v":""},"",{"$f":"IF(COUNTIF(Y$2:Y241,Y241)=1,Y241,\"\")","v":""},"","","","","",null,null,null,null,null,null,null,null,null,null,null,null,null,null,null,{"$f":"+IF(AZ241=\"\",\"\",MAX(AU$1:AU240)+1)","v":""},{"$f":"IF(CMS_Deviation_Detail!B263=\"\",\"\",CMS_Deviation_Detail!B263)","v":""},{"$f":"IF(CMS_Deviation_Detail!C263=\"\",\"\",CMS_Deviation_Detail!C263)","v":""},{"$f":"IF(CMS_Deviation_Detail!D263=\"\",\"\",CMS_Deviation_Detail!D263)","v":""},"",{"$f":"IF(COUNTIF(AY$2:AY241,AY241)=1,AY241,\"\")","v":""},"","","","",""]
[null,null,null,null,null,null,null,null,null,null,null,null,null,null,null,null,null,null,null,null,{"$f":"+IF(Z242=\"\",\"\",MAX(U$1:U241)+1)","v":""},{"$f":"IF(Limit_Deviation_Detail!B264=\"\",\"\",Limit_Deviation_Detail!B264)","v":""},{"$f":"IF(Limit_Deviation_Detail!C264=\"\",\"\",Limit_Deviation_Detail!C264)","v":""},{"$f":"IF(Limit_Deviation_Detail!E264=\"\",\"\",Limit_Deviation_Detail!E264)","v":""},"",{"$f":"IF(COUNTIF(Y$2:Y242,Y242)=1,Y242,\"\")","v":""},"","","","","",null,null,null,null,null,null,null,null,null,null,null,null,null,null,null,{"$f":"+IF(AZ242=\"\",\"\",MAX(AU$1:AU241)+1)","v":""},{"$f":"IF(CMS_Deviation_Detail!B264=\"\",\"\",CMS_Deviation_Detail!B264)","v":""},{"$f":"IF(CMS_Deviation_Detail!C264=\"\",\"\",CMS_Deviation_Detail!C264)","v":""},{"$f":"IF(CMS_Deviation_Detail!D264=\"\",\"\",CMS_Deviation_Detail!D264)","v":""},"",{"$f":"IF(COUNTIF(AY$2:AY242,AY242)=1,AY242,\"\")","v":""},"","","","",""]
[null,null,null,null,null,null,null,null,null,null,null,null,null,null,null,null,null,null,null,null,{"$f":"+IF(Z243=\"\",\"\",MAX(U$1:U242)+1)","v":""},{"$f":"IF(Limit_Deviation_Detail!B265=\"\",\"\",Limit_Deviation_Detail!B265)","v":""},{"$f":"IF(Limit_Deviation_Detail!C265=\"\",\"\",Limit_Deviation_Detail!C265)","v":""},{"$f":"IF(Limit_Deviation_Detail!E265=\"\",\"\",Limit_Deviation_Detail!E265)","v":""},"",{"$f":"IF(COUNTIF(Y$2:Y243,Y243)=1,Y243,\"\")","v":""},"","","","","",null,null,null,null,null,null,null,null,null,null,null,null,null,null,null,{"$f":"+IF(AZ243=\"\",\"\",MAX(AU$1:AU242)+1)","v":""},{"$f":"IF(CMS_Deviation_Detail!B265=\"\",\"\",CMS_Deviation_Detail!B265)","v":""},{"$f":"IF(CMS_Deviation_Detail!C265=\"\",\"\",CMS_Deviation_Detail!C265)","v":""},{"$f":"IF(CMS_Deviation_Detail!D265=\"\",\"\",CMS_Deviation_Detail!D265)","v":""},"",{"$f":"IF(COUNTIF(AY$2:AY243,AY243)=1,AY243,\"\")","v":""},"","","","",""]
[null,null,null,null,null,null,null,null,null,null,null,null,null,null,null,null,null,null,null,null,{"$f":"+IF(Z244=\"\",\"\",MAX(U$1:U243)+1)","v":""},{"$f":"IF(Limit_Deviation_Detail!B266=\"\",\"\",Limit_Deviation_Detail!B266)","v":""},{"$f":"IF(Limit_Deviation_Detail!C266=\"\",\"\",Limit_Deviation_Detail!C266)","v":""},{"$f":"IF(Limit_Deviation_Detail!E266=\"\",\"\",Limit_Deviation_Detail!E266)","v":""},"",{"$f":"IF(COUNTIF(Y$2:Y244,Y244)=1,Y244,\"\")","v":""},"","","","","",null,null,null,null,null,null,null,null,null,null,null,null,null,null,null,{"$f":"+IF(AZ244=\"\",\"\",MAX(AU$1:AU243)+1)","v":""},{"$f":"IF(CMS_Deviation_Detail!B266=\"\",\"\",CMS_Deviation_Detail!B266)","v":""},{"$f":"IF(CMS_Deviation_Detail!C266=\"\",\"\",CMS_Deviation_Detail!C266)","v":""},{"$f":"IF(CMS_Deviation_Detail!D266=\"\",\"\",CMS_Deviation_Detail!D266)","v":""},"",{"$f":"IF(COUNTIF(AY$2:AY244,AY244)=1,AY244,\"\")","v":""},"","","","",""]
[null,null,null,null,null,null,null,null,null,null,null,null,null,null,null,null,null,null,null,null,{"$f":"+IF(Z245=\"\",\"\",MAX(U$1:U244)+1)","v":""},{"$f":"IF(Limit_Deviation_Detail!B267=\"\",\"\",Limit_Deviation_Detail!B267)","v":""},{"$f":"IF(Limit_Deviation_Detail!C267=\"\",\"\",Limit_Deviation_Detail!C267)","v":""},{"$f":"IF(Limit_Deviation_Detail!E267=\"\",\"\",Limit_Deviation_Detail!E267)","v":""},"",{"$f":"IF(COUNTIF(Y$2:Y245,Y245)=1,Y245,\"\")","v":""},"","","","","",null,null,null,null,null,null,null,null,null,null,null,null,null,null,null,{"$f":"+IF(AZ245=\"\",\"\",MAX(AU$1:AU244)+1)","v":""},{"$f":"IF(CMS_Deviation_Detail!B267=\"\",\"\",CMS_Deviation_Detail!B267)","v":""},{"$f":"IF(CMS_Deviation_Detail!C267=\"\",\"\",CMS_Deviation_Detail!C267)","v":""},{"$f":"IF(CMS_Deviation_Detail!D267=\"\",\"\",CMS_Deviation_Detail!D267)","v":""},"",{"$f":"IF(COUNTIF(AY$2:AY245,AY245)=1,AY245,\"\")","v":""},"","","","",""]
[null,null,null,null,null,null,null,null,null,null,null,null,null,null,null,null,null,null,null,null,{"$f":"+IF(Z246=\"\",\"\",MAX(U$1:U245)+1)","v":""},{"$f":"IF(Limit_Deviation_Detail!B268=\"\",\"\",Limit_Deviation_Detail!B268)","v":""},{"$f":"IF(Limit_Deviation_Detail!C268=\"\",\"\",Limit_Deviation_Detail!C268)","v":""},{"$f":"IF(Limit_Deviation_Detail!E268=\"\",\"\",Limit_Deviation_Detail!E268)","v":""},"",{"$f":"IF(COUNTIF(Y$2:Y246,Y246)=1,Y246,\"\")","v":""},"","","","","",null,null,null,null,null,null,null,null,null,null,null,null,null,null,null,{"$f":"+IF(AZ246=\"\",\"\",MAX(AU$1:AU245)+1)","v":""},{"$f":"IF(CMS_Deviation_Detail!B268=\"\",\"\",CMS_Deviation_Detail!B268)","v":""},{"$f":"IF(CMS_Deviation_Detail!C268=\"\",\"\",CMS_Deviation_Detail!C268)","v":""},{"$f":"IF(CMS_Deviation_Detail!D268=\"\",\"\",CMS_Deviation_Detail!D268)","v":""},"",{"$f":"IF(COUNTIF(AY$2:AY246,AY246)=1,AY246,\"\")","v":""},"","","","",""]
[null,null,null,null,null,null,null,null,null,null,null,null,null,null,null,null,null,null,null,null,{"$f":"+IF(Z247=\"\",\"\",MAX(U$1:U246)+1)","v":""},{"$f":"IF(Limit_Deviation_Detail!B269=\"\",\"\",Limit_Deviation_Detail!B269)","v":""},{"$f":"IF(Limit_Deviation_Detail!C269=\"\",\"\",Limit_Deviation_Detail!C269)","v":""},{"$f":"IF(Limit_Deviation_Detail!E269=\"\",\"\",Limit_Deviation_Detail!E269)","v":""},"",{"$f":"IF(COUNTIF(Y$2:Y247,Y247)=1,Y247,\"\")","v":""},"","","","","",null,null,null,null,null,null,null,null,null,null,null,null,null,null,null,{"$f":"+IF(AZ247=\"\",\"\",MAX(AU$1:AU246)+1)","v":""},{"$f":"IF(CMS_Deviation_Detail!B269=\"\",\"\",CMS_Deviation_Detail!B269)","v":""},{"$f":"IF(CMS_Deviation_Detail!C269=\"\",\"\",CMS_Deviation_Detail!C269)","v":""},{"$f":"IF(CMS_Deviation_Detail!D269=\"\",\"\",CMS_Deviation_Detail!D269)","v":""},"",{"$f":"IF(COUNTIF(AY$2:AY247,AY247)=1,AY247,\"\")","v":""},"","","","",""]
[null,null,null,null,null,null,null,null,null,null,null,null,null,null,null,null,null,null,null,null,{"$f":"+IF(Z248=\"\",\"\",MAX(U$1:U247)+1)","v":""},{"$f":"IF(Limit_Deviation_Detail!B270=\"\",\"\",Limit_Deviation_Detail!B270)","v":""},{"$f":"IF(Limit_Deviation_Detail!C270=\"\",\"\",Limit_Deviation_Detail!C270)","v":""},{"$f":"IF(Limit_Deviation_Detail!E270=\"\",\"\",Limit_Deviation_Detail!E270)","v":""},"",{"$f":"IF(COUNTIF(Y$2:Y248,Y248)=1,Y248,\"\")","v":""},"","","","","",null,null,null,null,null,null,null,null,null,null,null,null,null,null,null,{"$f":"+IF(AZ248=\"\",\"\",MAX(AU$1:AU247)+1)","v":""},{"$f":"IF(CMS_Deviation_Detail!B270=\"\",\"\",CMS_Deviation_Detail!B270)","v":""},{"$f":"IF(CMS_Deviation_Detail!C270=\"\",\"\",CMS_Deviation_Detail!C270)","v":""},{"$f":"IF(CMS_Deviation_Detail!D270=\"\",\"\",CMS_Deviation_Detail!D270)","v":""},"",{"$f":"IF(COUNTIF(AY$2:AY248,AY248)=1,AY248,\"\")","v":""},"","","","",""]
[null,null,null,null,null,null,null,null,null,null,null,null,null,null,null,null,null,null,null,null,{"$f":"+IF(Z249=\"\",\"\",MAX(U$1:U248)+1)","v":""},{"$f":"IF(Limit_Deviation_Detail!B271=\"\",\"\",Limit_Deviation_Detail!B271)","v":""},{"$f":"IF(Limit_Deviation_Detail!C271=\"\",\"\",Limit_Deviation_Detail!C271)","v":""},{"$f":"IF(Limit_Deviation_Detail!E271=\"\",\"\",Limit_Deviation_Detail!E271)","v":""},"",{"$f":"IF(COUNTIF(Y$2:Y249,Y249)=1,Y249,\"\")","v":""},"","","","","",null,null,null,null,null,null,null,null,null,null,null,null,null,null,null,{"$f":"+IF(AZ249=\"\",\"\",MAX(AU$1:AU248)+1)","v":""},{"$f":"IF(CMS_Deviation_Detail!B271=\"\",\"\",CMS_Deviation_Detail!B271)","v":""},{"$f":"IF(CMS_Deviation_Detail!C271=\"\",\"\",CMS_Deviation_Detail!C271)","v":""},{"$f":"IF(CMS_Deviation_Detail!D271=\"\",\"\",CMS_Deviation_Detail!D271)","v":""},"",{"$f":"IF(COUNTIF(AY$2:AY249,AY249)=1,AY249,\"\")","v":""},"","","","",""]
[null,null,null,null,null,null,null,null,null,null,null,null,null,null,null,null,null,null,null,null,{"$f":"+IF(Z250=\"\",\"\",MAX(U$1:U249)+1)","v":""},{"$f":"IF(Limit_Deviation_Detail!B272=\"\",\"\",Limit_Deviation_Detail!B272)","v":""},{"$f":"IF(Limit_Deviation_Detail!C272=\"\",\"\",Limit_Deviation_Detail!C272)","v":""},{"$f":"IF(Limit_Deviation_Detail!E272=\"\",\"\",Limit_Deviation_Detail!E272)","v":""},"",{"$f":"IF(COUNTIF(Y$2:Y250,Y250)=1,Y250,\"\")","v":""},"","","","","",null,null,null,null,null,null,null,null,null,null,null,null,null,null,null,{"$f":"+IF(AZ250=\"\",\"\",MAX(AU$1:AU249)+1)","v":""},{"$f":"IF(CMS_Deviation_Detail!B272=\"\",\"\",CMS_Deviation_Detail!B272)","v":""},{"$f":"IF(CMS_Deviation_Detail!C272=\"\",\"\",CMS_Deviation_Detail!C272)","v":""},{"$f":"IF(CMS_Deviation_Detail!D272=\"\",\"\",CMS_Deviation_Detail!D272)","v":""},"",{"$f":"IF(COUNTIF(AY$2:AY250,AY250)=1,AY250,\"\")","v":""},"","","","",""]
[null,null,null,null,null,null,null,null,null,null,null,null,null,null,null,null,null,null,null,null,{"$f":"+IF(Z251=\"\",\"\",MAX(U$1:U250)+1)","v":""},{"$f":"IF(Limit_Deviation_Detail!B273=\"\",\"\",Limit_Deviation_Detail!B273)","v":""},{"$f":"IF(Limit_Deviation_Detail!C273=\"\",\"\",Limit_Deviation_Detail!C273)","v":""},{"$f":"IF(Limit_Deviation_Detail!E273=\"\",\"\",Limit_Deviation_Detail!E273)","v":""},"",{"$f":"IF(COUNTIF(Y$2:Y251,Y251)=1,Y251,\"\")","v":""},"","","","","",null,null,null,null,null,null,null,null,null,null,null,null,null,null,null,{"$f":"+IF(AZ251=\"\",\"\",MAX(AU$1:AU250)+1)","v":""},{"$f":"IF(CMS_Deviation_Detail!B273=\"\",\"\",CMS_Deviation_Detail!B273)","v":""},{"$f":"IF(CMS_Deviation_Detail!C273=\"\",\"\",CMS_Deviation_Detail!C273)","v":""},{"$f":"IF(CMS_Deviation_Detail!D273=\"\",\"\",CMS_Deviation_Detail!D273)","v":""},"",{"$f":"IF(COUNTIF(AY$2:AY251,AY251)=1,AY251,\"\")","v":""},"","","","",""]
[null,null,null,null,null,null,null,null,null,null,null,null,null,null,null,null,null,null,null,null,{"$f":"+IF(Z252=\"\",\"\",MAX(U$1:U251)+1)","v":""},{"$f":"IF(Limit_Deviation_Detail!B274=\"\",\"\",Limit_Deviation_Detail!B274)","v":""},{"$f":"IF(Limit_Deviation_Detail!C274=\"\",\"\",Limit_Deviation_Detail!C274)","v":""},{"$f":"IF(Limit_Deviation_Detail!E274=\"\",\"\",Limit_Deviation_Detail!E274)","v":""},"",{"$f":"IF(COUNTIF(Y$2:Y252,Y252)=1,Y252,\"\")","v":""},"","","","","",null,null,null,null,null,null,null,null,null,null,null,null,null,null,null,{"$f":"+IF(AZ252=\"\",\"\",MAX(AU$1:AU251)+1)","v":""},{"$f":"IF(CMS_Deviation_Detail!B274=\"\",\"\",CMS_Deviation_Detail!B274)","v":""},{"$f":"IF(CMS_Deviation_Detail!C274=\"\",\"\",CMS_Deviation_Detail!C274)","v":""},{"$f":"IF(CMS_Deviation_Detail!D274=\"\",\"\",CMS_Deviation_Detail!D274)","v":""},"",{"$f":"IF(COUNTIF(AY$2:AY252,AY252)=1,AY252,\"\")","v":""},"","","","",""]
[null,null,null,null,null,null,null,null,null,null,null,null,null,null,null,null,null,null,null,null,{"$f":"+IF(Z253=\"\",\"\",MAX(U$1:U252)+1)","v":""},{"$f":"IF(Limit_Deviation_Detail!B275=\"\",\"\",Limit_Deviation_Detail!B275)","v":""},{"$f":"IF(Limit_Deviation_Detail!C275=\"\",\"\",Limit_Deviation_Detail!C275)","v":""},{"$f":"IF(Limit_Deviation_Detail!E275=\"\",\"\",Limit_Deviation_Detail!E275)","v":""},"",{"$f":"IF(COUNTIF(Y$2:Y253,Y253)=1,Y253,\"\")","v":""},"","","","","",null,null,null,null,null,null,null,null,null,null,null,null,null,null,null,{"$f":"+IF(AZ253=\"\",\"\",MAX(AU$1:AU252)+1)","v":""},{"$f":"IF(CMS_Deviation_Detail!B275=\"\",\"\",CMS_Deviation_Detail!B275)","v":""},{"$f":"IF(CMS_Deviation_Detail!C275=\"\",\"\",CMS_Deviation_Detail!C275)","v":""},{"$f":"IF(CMS_Deviation_Detail!D275=\"\",\"\",CMS_Deviation_Detail!D275)","v":""},"",{"$f":"IF(COUNTIF(AY$2:AY253,AY253)=1,AY253,\"\")","v":""},"","","","",""]
[null,null,null,null,null,null,null,null,null,null,null,null,null,null,null,null,null,null,null,null,{"$f":"+IF(Z254=\"\",\"\",MAX(U$1:U253)+1)","v":""},{"$f":"IF(Limit_Deviation_Detail!B276=\"\",\"\",Limit_Deviation_Detail!B276)","v":""},{"$f":"IF(Limit_Deviation_Detail!C276=\"\",\"\",Limit_Deviation_Detail!C276)","v":""},{"$f":"IF(Limit_Deviation_Detail!E276=\"\",\"\",Limit_Deviation_Detail!E276)","v":""},"",{"$f":"IF(COUNTIF(Y$2:Y254,Y254)=1,Y254,\"\")","v":""},"","","","","",null,null,null,null,null,null,null,null,null,null,null,null,null,null,null,{"$f":"+IF(AZ254=\"\",\"\",MAX(AU$1:AU253)+1)","v":""},{"$f":"IF(CMS_Deviation_Detail!B276=\"\",\"\",CMS_Deviation_Detail!B276)","v":""},{"$f":"IF(CMS_Deviation_Detail!C276=\"\",\"\",CMS_Deviation_Detail!C276)","v":""},{"$f":"IF(CMS_Deviation_Detail!D276=\"\",\"\",CMS_Deviation_Detail!D276)","v":""},"",{"$f":"IF(COUNTIF(AY$2:AY254,AY254)=1,AY254,\"\")","v":""},"","","","",""]
[null,null,null,null,null,null,null,null,null,null,null,null,null,null,null,null,null,null,null,null,{"$f":"+IF(Z255=\"\",\"\",MAX(U$1:U254)+1)","v":""},{"$f":"IF(Limit_Deviation_Detail!B277=\"\",\"\",Limit_Deviation_Detail!B277)","v":""},{"$f":"IF(Limit_Deviation_Detail!C277=\"\",\"\",Limit_Deviation_Detail!C277)","v":""},{"$f":"IF(Limit_Deviation_Detail!E277=\"\",\"\",Limit_Deviation_Detail!E277)","v":""},"",{"$f":"IF(COUNTIF(Y$2:Y255,Y255)=1,Y255,\"\")","v":""},"","","","","",null,null,null,null,null,null,null,null,null,null,null,null,null,null,null,{"$f":"+IF(AZ255=\"\",\"\",MAX(AU$1:AU254)+1)","v":""},{"$f":"IF(CMS_Deviation_Detail!B277=\"\",\"\",CMS_Deviation_Detail!B277)","v":""},{"$f":"IF(CMS_Deviation_Detail!C277=\"\",\"\",CMS_Deviation_Detail!C277)","v":""},{"$f":"IF(CMS_Deviation_Detail!D277=\"\",\"\",CMS_Deviation_Detail!D277)","v":""},"",{"$f":"IF(COUNTIF(AY$2:AY255,AY255)=1,AY255,\"\")","v":""},"","","","",""]
[null,null,null,null,null,null,null,null,null,null,null,null,null,null,null,null,null,null,null,null,{"$f":"+IF(Z256=\"\",\"\",MAX(U$1:U255)+1)","v":""},{"$f":"IF(Limit_Deviation_Detail!B278=\"\",\"\",Limit_Deviation_Detail!B278)","v":""},{"$f":"IF(Limit_Deviation_Detail!C278=\"\",\"\",Limit_Deviation_Detail!C278)","v":""},{"$f":"IF(Limit_Deviation_Detail!E278=\"\",\"\",Limit_Deviation_Detail!E278)","v":""},"",{"$f":"IF(COUNTIF(Y$2:Y256,Y256)=1,Y256,\"\")","v":""},"","","","","",null,null,null,null,null,null,null,null,null,null,null,null,null,null,null,{"$f":"+IF(AZ256=\"\",\"\",MAX(AU$1:AU255)+1)","v":""},{"$f":"IF(CMS_Deviation_Detail!B278=\"\",\"\",CMS_Deviation_Detail!B278)","v":""},{"$f":"IF(CMS_Deviation_Detail!C278=\"\",\"\",CMS_Deviation_Detail!C278)","v":""},{"$f":"IF(CMS_Deviation_Detail!D278=\"\",\"\",CMS_Deviation_Detail!D278)","v":""},"",{"$f":"IF(COUNTIF(AY$2:AY256,AY256)=1,AY256,\"\")","v":""},"","","","",""]
[null,null,null,null,null,null,null,null,null,null,null,null,null,null,null,null,null,null,null,null,{"$f":"+IF(Z257=\"\",\"\",MAX(U$1:U256)+1)","v":""},{"$f":"IF(Limit_Deviation_Detail!B279=\"\",\"\",Limit_Deviation_Detail!B279)","v":""},{"$f":"IF(Limit_Deviation_Detail!C279=\"\",\"\",Limit_Deviation_Detail!C279)","v":""},{"$f":"IF(Limit_Deviation_Detail!E279=\"\",\"\",Limit_Deviation_Detail!E279)","v":""},"",{"$f":"IF(COUNTIF(Y$2:Y257,Y257)=1,Y257,\"\")","v":""},"","","","","",null,null,null,null,null,null,null,null,null,null,null,null,null,null,null,{"$f":"+IF(AZ257=\"\",\"\",MAX(AU$1:AU256)+1)","v":""},{"$f":"IF(CMS_Deviation_Detail!B279=\"\",\"\",CMS_Deviation_Detail!B279)","v":""},{"$f":"IF(CMS_Deviation_Detail!C279=\"\",\"\",CMS_Deviation_Detail!C279)","v":""},{"$f":"IF(CMS_Deviation_Detail!D279=\"\",\"\",CMS_Deviation_Detail!D279)","v":""},"",{"$f":"IF(COUNTIF(AY$2:AY257,AY257)=1,AY257,\"\")","v":""},"","","","",""]
[null,null,null,null,null,null,null,null,null,null,null,null,null,null,null,null,null,null,null,null,{"$f":"+IF(Z258=\"\",\"\",MAX(U$1:U257)+1)","v":""},{"$f":"IF(Limit_Deviation_Detail!B280=\"\",\"\",Limit_Deviation_Detail!B280)","v":""},{"$f":"IF(Limit_Deviation_Detail!C280=\"\",\"\",Limit_Deviation_Detail!C280)","v":""},{"$f":"IF(Limit_Deviation_Detail!E280=\"\",\"\",Limit_Deviation_Detail!E280)","v":""},{"$f":"V258&W258&X258","v":""},{"$f":"IF(COUNTIF(Y$2:Y258,Y258)=1,Y258,\"\")","v":""},{"$f":"+IFERROR(INDEX(V$2:V$955,MATCH(ROW()-ROW(Z$1),U$2:U$955,0)),\"\")","v":""},{"$f":"+IFERROR(INDEX(W$2:W$955,MATCH(ROW()-ROW(AA$1),U$2:U$955,0)),\"\")","v":""},{"$f":"+IFERROR(INDEX(X$2:X$955,MATCH(ROW()-ROW(AB$1),U$2:U$955,0)),\"\")","v":""},{"$f":"IF(AA258=\"\",\"\",AA258&AB258)","v":""},{"$f":"IF(AA258=\"\",\"\",VLOOKUP(AD258,$AO$2:$AS$78,5,FALSE))","v":""},null,null,null,null,null,null,null,null,null,null,null,null,null,null,null,{"$f":"+IF(AZ258=\"\",\"\",MAX(AU$1:AU257)+1)","v":""},{"$f":"IF(CMS_Deviation_Detail!B280=\"\",\"\",CMS_Deviation_Detail!B280)","v":""},{"$f":"IF(CMS_Deviation_Detail!C280=\"\",\"\",CMS_Deviation_Detail!C280)","v":""},{"$f":"IF(CMS_Deviation_Detail!D280=\"\",\"\",CMS_Deviation_Detail!D280)","v":""},"",{"$f":"IF(COUNTIF(AY$2:AY258,AY258)=1,AY258,\"\")","v":""},"","","","",{"$f":"IF(BA258=\"\",\"\",VLOOKUP(BD258,$AO$2:$AS$78,5,FALSE))","v":""}]
[null,null,null,null,null,null,null,null,null,null,null,null,null,null,null,null,null,null,null,null,{"$f":"+IF(Z259=\"\",\"\",MAX(U$1:U258)+1)","v":""},{"$f":"IF(Limit_Deviation_Detail!B281=\"\",\"\",Limit_Deviation_Detail!B281)","v":""},{"$f":"IF(Limit_Deviation_Detail!C281=\"\",\"\",Limit_Deviation_Detail!C281)","v":""},{"$f":"IF(Limit_Deviation_Detail!E281=\"\",\"\",Limit_Deviation_Detail!E281)","v":""},"",{"$f":"IF(COUNTIF(Y$2:Y259,Y259)=1,Y259,\"\")","v":""},"","","","","",null,null,null,null,null,null,null,null,null,null,null,null,null,null,null,{"$f":"+IF(AZ259=\"\",\"\",MAX(AU$1:AU258)+1)","v":""},{"$f":"IF(CMS_Deviation_Detail!B281=\"\",\"\",CMS_Deviation_Detail!B281)","v":""},{"$f":"IF(CMS_Deviation_Detail!C281=\"\",\"\",CMS_Deviation_Detail!C281)","v":""},{"$f":"IF(CMS_Deviation_Detail!D281=\"\",\"\",CMS_Deviation_Detail!D281)","v":""},{"$f":"AV259&AW259&AX259","v":""},{"$f":"IF(COUNTIF(AY$2:AY259,AY259)=1,AY259,\"\")","v":""},{"$f":"+IFERROR(INDEX(AV$2:AV$955,MATCH(ROW()-ROW(AZ$1),AU$2:AU$955,0)),\"\")","v":""},{"$f":"+IFERROR(INDEX(AW$2:AW$955,MATCH(ROW()-ROW(BA$1),AU$2:AU$955,0)),\"\")","v":""},{"$f":"+IFERROR(INDEX(AX$2:AX$955,MATCH(ROW()-ROW(BB$1),AU$2:AU$955,0)),\"\")","v":""},{"$f":"IF(BA259=\"\",\"\",BA259&BB259)","v":""},""]
[null,null,null,null,null,null,null,null,null,null,null,null,null,null,null,null,null,null,null,null,{"$f":"+IF(Z260=\"\",\"\",MAX(U$1:U259)+1)","v":""},{"$f":"IF(Limit_Deviation_Detail!B282=\"\",\"\",Limit_Deviation_Detail!B282)","v":""},{"$f":"IF(Limit_Deviation_Detail!C282=\"\",\"\",Limit_Deviation_Detail!C282)","v":""},{"$f":"IF(Limit_Deviation_Detail!E282=\"\",\"\",Limit_Deviation_Detail!E282)","v":""},"",{"$f":"IF(COUNTIF(Y$2:Y260,Y260)=1,Y260,\"\")","v":""},"","","","","",null,null,null,null,null,null,null,null,null,null,null,null,null,null,null,{"$f":"+IF(AZ260=\"\",\"\",MAX(AU$1:AU259)+1)","v":""},{"$f":"IF(CMS_Deviation_Detail!B282=\"\",\"\",CMS_Deviation_Detail!B282)","v":""},{"$f":"IF(CMS_Deviation_Detail!C282=\"\",\"\",CMS_Deviation_Detail!C282)","v":""},{"$f":"IF(CMS_Deviation_Detail!D282=\"\",\"\",CMS_Deviation_Detail!D282)","v":""},"",{"$f":"IF(COUNTIF(AY$2:AY260,AY260)=1,AY260,\"\")","v":""},"","","","",""]
[null,null,null,null,null,null,null,null,null,null,null,null,null,null,null,null,null,null,null,null,{"$f":"+IF(Z261=\"\",\"\",MAX(U$1:U260)+1)","v":""},{"$f":"IF(Limit_Deviation_Detail!B283=\"\",\"\",Limit_Deviation_Detail!B283)","v":""},{"$f":"IF(Limit_Deviation_Detail!C283=\"\",\"\",Limit_Deviation_Detail!C283)","v":""},{"$f":"IF(Limit_Deviation_Detail!E283=\"\",\"\",Limit_Deviation_Detail!E283)","v":""},"",{"$f":"IF(COUNTIF(Y$2:Y261,Y261)=1,Y261,\"\")","v":""},"","","","","",null,null,null,null,null,null,null,null,null,null,null,null,null,null,null,{"$f":"+IF(AZ261=\"\",\"\",MAX(AU$1:AU260)+1)","v":""},{"$f":"IF(CMS_Deviation_Detail!B283=\"\",\"\",CMS_Deviation_Detail!B283)","v":""},{"$f":"IF(CMS_Deviation_Detail!C283=\"\",\"\",CMS_Deviation_Detail!C283)","v":""},{"$f":"IF(CMS_Deviation_Detail!D283=\"\",\"\",CMS_Deviation_Detail!D283)","v":""},"",{"$f":"IF(COUNTIF(AY$2:AY261,AY261)=1,AY261,\"\")","v":""},"","","","",""]
[null,null,null,null,null,null,null,null,null,null,null,null,null,null,null,null,null,null,null,null,{"$f":"+IF(Z262=\"\",\"\",MAX(U$1:U261)+1)","v":""},{"$f":"IF(Limit_Deviation_Detail!B284=\"\",\"\",Limit_Deviation_Detail!B284)","v":""},{"$f":"IF(Limit_Deviation_Detail!C284=\"\",\"\",Limit_Deviation_Detail!C284)","v":""},{"$f":"IF(Limit_Deviation_Detail!E284=\"\",\"\",Limit_Deviation_Detail!E284)","v":""},"",{"$f":"IF(COUNTIF(Y$2:Y262,Y262)=1,Y262,\"\")","v":""},"","","","","",null,null,null,null,null,null,null,null,null,null,null,null,null,null,null,{"$f":"+IF(AZ262=\"\",\"\",MAX(AU$1:AU261)+1)","v":""},{"$f":"IF(CMS_Deviation_Detail!B284=\"\",\"\",CMS_Deviation_Detail!B284)","v":""},{"$f":"IF(CMS_Deviation_Detail!C284=\"\",\"\",CMS_Deviation_Detail!C284)","v":""},{"$f":"IF(CMS_Deviation_Detail!D284=\"\",\"\",CMS_Deviation_Detail!D284)","v":""},"",{"$f":"IF(COUNTIF(AY$2:AY262,AY262)=1,AY262,\"\")","v":""},"","","","",""]
[null,null,null,null,null,null,null,null,null,null,null,null,null,null,null,null,null,null,null,null,{"$f":"+IF(Z263=\"\",\"\",MAX(U$1:U262)+1)","v":""},{"$f":"IF(Limit_Deviation_Detail!B285=\"\",\"\",Limit_Deviation_Detail!B285)","v":""},{"$f":"IF(Limit_Deviation_Detail!C285=\"\",\"\",Limit_Deviation_Detail!C285)","v":""},{"$f":"IF(Limit_Deviation_Detail!E285=\"\",\"\",Limit_Deviation_Detail!E285)","v":""},"",{"$f":"IF(COUNTIF(Y$2:Y263,Y263)=1,Y263,\"\")","v":""},"","","","","",null,null,null,null,null,null,null,null,null,null,null,null,null,null,null,{"$f":"+IF(AZ263=\"\",\"\",MAX(AU$1:AU262)+1)","v":""},{"$f":"IF(CMS_Deviation_Detail!B285=\"\",\"\",CMS_Deviation_Detail!B285)","v":""},{"$f":"IF(CMS_Deviation_Detail!C285=\"\",\"\",CMS_Deviation_Detail!C285)","v":""},{"$f":"IF(CMS_Deviation_Detail!D285=\"\",\"\",CMS_Deviation_Detail!D285)","v":""},"",{"$f":"IF(COUNTIF(AY$2:AY263,AY263)=1,AY263,\"\")","v":""},"","","","",""]
[null,null,null,null,null,null,null,null,null,null,null,null,null,null,null,null,null,null,null,null,{"$f":"+IF(Z264=\"\",\"\",MAX(U$1:U263)+1)","v":""},{"$f":"IF(Limit_Deviation_Detail!B286=\"\",\"\",Limit_Deviation_Detail!B286)","v":""},{"$f":"IF(Limit_Deviation_Detail!C286=\"\",\"\",Limit_Deviation_Detail!C286)","v":""},{"$f":"IF(Limit_Deviation_Detail!E286=\"\",\"\",Limit_Deviation_Detail!E286)","v":""},"",{"$f":"IF(COUNTIF(Y$2:Y264,Y264)=1,Y264,\"\")","v":""},"","","","","",null,null,null,null,null,null,null,null,null,null,null,null,null,null,null,{"$f":"+IF(AZ264=\"\",\"\",MAX(AU$1:AU263)+1)","v":""},{"$f":"IF(CMS_Deviation_Detail!B286=\"\",\"\",CMS_Deviation_Detail!B286)","v":""},{"$f":"IF(CMS_Deviation_Detail!C286=\"\",\"\",CMS_Deviation_Detail!C286)","v":""},{"$f":"IF(CMS_Deviation_Detail!D286=\"\",\"\",CMS_Deviation_Detail!D286)","v":""},"",{"$f":"IF(COUNTIF(AY$2:AY264,AY264)=1,AY264,\"\")","v":""},"","","","",""]
[null,null,null,null,null,null,null,null,null,null,null,null,null,null,null,null,null,null,null,null,{"$f":"+IF(Z265=\"\",\"\",MAX(U$1:U264)+1)","v":""},{"$f":"IF(Limit_Deviation_Detail!B287=\"\",\"\",Limit_Deviation_Detail!B287)","v":""},{"$f":"IF(Limit_Deviation_Detail!C287=\"\",\"\",Limit_Deviation_Detail!C287)","v":""},{"$f":"IF(Limit_Deviation_Detail!E287=\"\",\"\",Limit_Deviation_Detail!E287)","v":""},"",{"$f":"IF(COUNTIF(Y$2:Y265,Y265)=1,Y265,\"\")","v":""},"","","","","",null,null,null,null,null,null,null,null,null,null,null,null,null,null,null,{"$f":"+IF(AZ265=\"\",\"\",MAX(AU$1:AU264)+1)","v":""},{"$f":"IF(CMS_Deviation_Detail!B287=\"\",\"\",CMS_Deviation_Detail!B287)","v":""},{"$f":"IF(CMS_Deviation_Detail!C287=\"\",\"\",CMS_Deviation_Detail!C287)","v":""},{"$f":"IF(CMS_Deviation_Detail!D287=\"\",\"\",CMS_Deviation_Detail!D287)","v":""},"",{"$f":"IF(COUNTIF(AY$2:AY265,AY265)=1,AY265,\"\")","v":""},"","","","",""]
[null,null,null,null,null,null,null,null,null,null,null,null,null,null,null,null,null,null,null,null,{"$f":"+IF(Z266=\"\",\"\",MAX(U$1:U265)+1)","v":""},{"$f":"IF(Limit_Deviation_Detail!B288=\"\",\"\",Limit_Deviation_Detail!B288)","v":""},{"$f":"IF(Limit_Deviation_Detail!C288=\"\",\"\",Limit_Deviation_Detail!C288)","v":""},{"$f":"IF(Limit_Deviation_Detail!E288=\"\",\"\",Limit_Deviation_Detail!E288)","v":""},"",{"$f":"IF(COUNTIF(Y$2:Y266,Y266)=1,Y266,\"\")","v":""},"","","","","",null,null,null,null,null,null,null,null,null,null,null,null,null,null,null,{"$f":"+IF(AZ266=\"\",\"\",MAX(AU$1:AU265)+1)","v":""},{"$f":"IF(CMS_Deviation_Detail!B288=\"\",\"\",CMS_Deviation_Detail!B288)","v":""},{"$f":"IF(CMS_Deviation_Detail!C288=\"\",\"\",CMS_Deviation_Detail!C288)","v":""},{"$f":"IF(CMS_Deviation_Detail!D288=\"\",\"\",CMS_Deviation_Detail!D288)","v":""},"",{"$f":"IF(COUNTIF(AY$2:AY266,AY266)=1,AY266,\"\")","v":""},"","","","",""]
[null,null,null,null,null,null,null,null,null,null,null,null,null,null,null,null,null,null,null,null,{"$f":"+IF(Z267=\"\",\"\",MAX(U$1:U266)+1)","v":""},{"$f":"IF(Limit_Deviation_Detail!B289=\"\",\"\",Limit_Deviation_Detail!B289)","v":""},{"$f":"IF(Limit_Deviation_Detail!C289=\"\",\"\",Limit_Deviation_Detail!C289)","v":""},{"$f":"IF(Limit_Deviation_Detail!E289=\"\",\"\",Limit_Deviation_Detail!E289)","v":""},"",{"$f":"IF(COUNTIF(Y$2:Y267,Y267)=1,Y267,\"\")","v":""},"","","","","",null,null,null,null,null,null,null,null,null,null,null,null,null,null,null,{"$f":"+IF(AZ267=\"\",\"\",MAX(AU$1:AU266)+1)","v":""},{"$f":"IF(CMS_Deviation_Detail!B289=\"\",\"\",CMS_Deviation_Detail!B289)","v":""},{"$f":"IF(CMS_Deviation_Detail!C289=\"\",\"\",CMS_Deviation_Detail!C289)","v":""},{"$f":"IF(CMS_Deviation_Detail!D289=\"\",\"\",CMS_Deviation_Detail!D289)","v":""},"",{"$f":"IF(COUNTIF(AY$2:AY267,AY267)=1,AY267,\"\")","v":""},"","","","",""]
[null,null,null,null,null,null,null,null,null,null,null,null,null,null,null,null,null,null,null,null,{"$f":"+IF(Z268=\"\",\"\",MAX(U$1:U267)+1)","v":""},{"$f":"IF(Limit_Deviation_Detail!B290=\"\",\"\",Limit_Deviation_Detail!B290)","v":""},{"$f":"IF(Limit_Deviation_Detail!C290=\"\",\"\",Limit_Deviation_Detail!C290)","v":""},{"$f":"IF(Limit_Deviation_Detail!E290=\"\",\"\",Limit_Deviation_Detail!E290)","v":""},"",{"$f":"IF(COUNTIF(Y$2:Y268,Y268)=1,Y268,\"\")","v":""},"","","","","",null,null,null,null,null,null,null,null,null,null,null,null,null,null,null,{"$f":"+IF(AZ268=\"\",\"\",MAX(AU$1:AU267)+1)","v":""},{"$f":"IF(CMS_Deviation_Detail!B290=\"\",\"\",CMS_Deviation_Detail!B290)","v":""},{"$f":"IF(CMS_Deviation_Detail!C290=\"\",\"\",CMS_Deviation_Detail!C290)","v":""},{"$f":"IF(CMS_Deviation_Detail!D290=\"\",\"\",CMS_Deviation_Detail!D290)","v":""},"",{"$f":"IF(COUNTIF(AY$2:AY268,AY268)=1,AY268,\"\")","v":""},"","","","",""]
[null,null,null,null,null,null,null,null,null,null,null,null,null,null,null,null,null,null,null,null,{"$f":"+IF(Z269=\"\",\"\",MAX(U$1:U268)+1)","v":""},{"$f":"IF(Limit_Deviation_Detail!B291=\"\",\"\",Limit_Deviation_Detail!B291)","v":""},{"$f":"IF(Limit_Deviation_Detail!C291=\"\",\"\",Limit_Deviation_Detail!C291)","v":""},{"$f":"IF(Limit_Deviation_Detail!E291=\"\",\"\",Limit_Deviation_Detail!E291)","v":""},"",{"$f":"IF(COUNTIF(Y$2:Y269,Y269)=1,Y269,\"\")","v":""},"","","","","",null,null,null,null,null,null,null,null,null,null,null,null,null,null,null,{"$f":"+IF(AZ269=\"\",\"\",MAX(AU$1:AU268)+1)","v":""},{"$f":"IF(CMS_Deviation_Detail!B291=\"\",\"\",CMS_Deviation_Detail!B291)","v":""},{"$f":"IF(CMS_Deviation_Detail!C291=\"\",\"\",CMS_Deviation_Detail!C291)","v":""},{"$f":"IF(CMS_Deviation_Detail!D291=\"\",\"\",CMS_Deviation_Detail!D291)","v":""},"",{"$f":"IF(COUNTIF(AY$2:AY269,AY269)=1,AY269,\"\")","v":""},"","","","",""]
[null,null,null,null,null,null,null,null,null,null,null,null,null,null,null,null,null,null,null,null,{"$f":"+IF(Z270=\"\",\"\",MAX(U$1:U269)+1)","v":""},{"$f":"IF(Limit_Deviation_Detail!B292=\"\",\"\",Limit_Deviation_Detail!B292)","v":""},{"$f":"IF(Limit_Deviation_Detail!C292=\"\",\"\",Limit_Deviation_Detail!C292)","v":""},{"$f":"IF(Limit_Deviation_Detail!E292=\"\",\"\",Limit_Deviation_Detail!E292)","v":""},"",{"$f":"IF(COUNTIF(Y$2:Y270,Y270)=1,Y270,\"\")","v":""},"","","","","",null,null,null,null,null,null,null,null,null,null,null,null,null,null,null,{"$f":"+IF(AZ270=\"\",\"\",MAX(AU$1:AU269)+1)","v":""},{"$f":"IF(CMS_Deviation_Detail!B292=\"\",\"\",CMS_Deviation_Detail!B292)","v":""},{"$f":"IF(CMS_Deviation_Detail!C292=\"\",\"\",CMS_Deviation_Detail!C292)","v":""},{"$f":"IF(CMS_Deviation_Detail!D292=\"\",\"\",CMS_Deviation_Detail!D292)","v":""},"",{"$f":"IF(COUNTIF(AY$2:AY270,AY270)=1,AY270,\"\")","v":""},"","","","",""]
[null,null,null,null,null,null,null,null,null,null,null,null,null,null,null,null,null,null,null,null,{"$f":"+IF(Z271=\"\",\"\",MAX(U$1:U270)+1)","v":""},{"$f":"IF(Limit_Deviation_Detail!B293=\"\",\"\",Limit_Deviation_Detail!B293)","v":""},{"$f":"IF(Limit_Deviation_Detail!C293=\"\",\"\",Limit_Deviation_Detail!C293)","v":""},{"$f":"IF(Limit_Deviation_Detail!E293=\"\",\"\",Limit_Deviation_Detail!E293)","v":""},"",{"$f":"IF(COUNTIF(Y$2:Y271,Y271)=1,Y271,\"\")","v":""},"","","","","",null,null,null,null,null,null,null,null,null,null,null,null,null,null,null,{"$f":"+IF(AZ271=\"\",\"\",MAX(AU$1:AU270)+1)","v":""},{"$f":"IF(CMS_Deviation_Detail!B293=\"\",\"\",CMS_Deviation_Detail!B293)","v":""},{"$f":"IF(CMS_Deviation_Detail!C293=\"\",\"\",CMS_Deviation_Detail!C293)","v":""},{"$f":"IF(CMS_Deviation_Detail!D293=\"\",\"\",CMS_Deviation_Detail!D293)","v":""},"",{"$f":"IF(COUNTIF(AY$2:AY271,AY271)=1,AY271,\"\")","v":""},"","","","",""]
[null,null,null,null,null,null,null,null,null,null,null,null,null,null,null,null,null,null,null,null,{"$f":"+IF(Z272=\"\",\"\",MAX(U$1:U271)+1)","v":""},{"$f":"IF(Limit_Deviation_Detail!B294=\"\",\"\",Limit_Deviation_Detail!B294)","v":""},{"$f":"IF(Limit_Deviation_Detail!C294=\"\",\"\",Limit_Deviation_Detail!C294)","v":""},{"$f":"IF(Limit_Deviation_Detail!E294=\"\",\"\",Limit_Deviation_Detail!E294)","v":""},"",{"$f":"IF(COUNTIF(Y$2:Y272,Y272)=1,Y272,\"\")","v":""},"","","","","",null,null,null,null,null,null,null,null,null,null,null,null,null,null,null,{"$f":"+IF(AZ272=\"\",\"\",MAX(AU$1:AU271)+1)","v":""},{"$f":"IF(CMS_Deviation_Detail!B294=\"\",\"\",CMS_Deviation_Detail!B294)","v":""},{"$f":"IF(CMS_Deviation_Detail!C294=\"\",\"\",CMS_Deviation_Detail!C294)","v":""},{"$f":"IF(CMS_Deviation_Detail!D294=\"\",\"\",CMS_Deviation_Detail!D294)","v":""},"",{"$f":"IF(COUNTIF(AY$2:AY272,AY272)=1,AY272,\"\")","v":""},"","","","",""]
[null,null,null,null,null,null,null,null,null,null,null,null,null,null,null,null,null,null,null,null,{"$f":"+IF(Z273=\"\",\"\",MAX(U$1:U272)+1)","v":""},{"$f":"IF(Limit_Deviation_Detail!B295=\"\",\"\",Limit_Deviation_Detail!B295)","v":""},{"$f":"IF(Limit_Deviation_Detail!C295=\"\",\"\",Limit_Deviation_Detail!C295)","v":""},{"$f":"IF(Limit_Deviation_Detail!E295=\"\",\"\",Limit_Deviation_Detail!E295)","v":""},"",{"$f":"IF(COUNTIF(Y$2:Y273,Y273)=1,Y273,\"\")","v":""},"","","","","",null,null,null,null,null,null,null,null,null,null,null,null,null,null,null,{"$f":"+IF(AZ273=\"\",\"\",MAX(AU$1:AU272)+1)","v":""},{"$f":"IF(CMS_Deviation_Detail!B295=\"\",\"\",CMS_Deviation_Detail!B295)","v":""},{"$f":"IF(CMS_Deviation_Detail!C295=\"\",\"\",CMS_Deviation_Detail!C295)","v":""},{"$f":"IF(CMS_Deviation_Detail!D295=\"\",\"\",CMS_Deviation_Detail!D295)","v":""},"",{"$f":"IF(COUNTIF(AY$2:AY273,AY273)=1,AY273,\"\")","v":""},"","","","",""]
[null,null,null,null,null,null,null,null,null,null,null,null,null,null,null,null,null,null,null,null,{"$f":"+IF(Z274=\"\",\"\",MAX(U$1:U273)+1)","v":""},{"$f":"IF(Limit_Deviation_Detail!B296=\"\",\"\",Limit_Deviation_Detail!B296)","v":""},{"$f":"IF(Limit_Deviation_Detail!C296=\"\",\"\",Limit_Deviation_Detail!C296)","v":""},{"$f":"IF(Limit_Deviation_Detail!E296=\"\",\"\",Limit_Deviation_Detail!E296)","v":""},"",{"$f":"IF(COUNTIF(Y$2:Y274,Y274)=1,Y274,\"\")","v":""},"","","","","",null,null,null,null,null,null,null,null,null,null,null,null,null,null,null,{"$f":"+IF(AZ274=\"\",\"\",MAX(AU$1:AU273)+1)","v":""},{"$f":"IF(CMS_Deviation_Detail!B296=\"\",\"\",CMS_Deviation_Detail!B296)","v":""},{"$f":"IF(CMS_Deviation_Detail!C296=\"\",\"\",CMS_Deviation_Detail!C296)","v":""},{"$f":"IF(CMS_Deviation_Detail!D296=\"\",\"\",CMS_Deviation_Detail!D296)","v":""},"",{"$f":"IF(COUNTIF(AY$2:AY274,AY274)=1,AY274,\"\")","v":""},"","","","",""]
[null,null,null,null,null,null,null,null,null,null,null,null,null,null,null,null,null,null,null,null,{"$f":"+IF(Z275=\"\",\"\",MAX(U$1:U274)+1)","v":""},{"$f":"IF(Limit_Deviation_Detail!B297=\"\",\"\",Limit_Deviation_Detail!B297)","v":""},{"$f":"IF(Limit_Deviation_Detail!C297=\"\",\"\",Limit_Deviation_Detail!C297)","v":""},{"$f":"IF(Limit_Deviation_Detail!E297=\"\",\"\",Limit_Deviation_Detail!E297)","v":""},"",{"$f":"IF(COUNTIF(Y$2:Y275,Y275)=1,Y275,\"\")","v":""},"","","","","",null,null,null,null,null,null,null,null,null,null,null,null,null,null,null,{"$f":"+IF(AZ275=\"\",\"\",MAX(AU$1:AU274)+1)","v":""},{"$f":"IF(CMS_Deviation_Detail!B297=\"\",\"\",CMS_Deviation_Detail!B297)","v":""},{"$f":"IF(CMS_Deviation_Detail!C297=\"\",\"\",CMS_Deviation_Detail!C297)","v":""},{"$f":"IF(CMS_Deviation_Detail!D297=\"\",\"\",CMS_Deviation_Detail!D297)","v":""},"",{"$f":"IF(COUNTIF(AY$2:AY275,AY275)=1,AY275,\"\")","v":""},"","","","",""]
[null,null,null,null,null,null,null,null,null,null,null,null,null,null,null,null,null,null,null,null,{"$f":"+IF(Z276=\"\",\"\",MAX(U$1:U275)+1)","v":""},{"$f":"IF(Limit_Deviation_Detail!B298=\"\",\"\",Limit_Deviation_Detail!B298)","v":""},{"$f":"IF(Limit_Deviation_Detail!C298=\"\",\"\",Limit_Deviation_Detail!C298)","v":""},{"$f":"IF(Limit_Deviation_Detail!E298=\"\",\"\",Limit_Deviation_Detail!E298)","v":""},"",{"$f":"IF(COUNTIF(Y$2:Y276,Y276)=1,Y276,\"\")","v":""},"","","","","",null,null,null,null,null,null,null,null,null,null,null,null,null,null,null,{"$f":"+IF(AZ276=\"\",\"\",MAX(AU$1:AU275)+1)","v":""},{"$f":"IF(CMS_Deviation_Detail!B298=\"\",\"\",CMS_Deviation_Detail!B298)","v":""},{"$f":"IF(CMS_Deviation_Detail!C298=\"\",\"\",CMS_Deviation_Detail!C298)","v":""},{"$f":"IF(CMS_Deviation_Detail!D298=\"\",\"\",CMS_Deviation_Detail!D298)","v":""},"",{"$f":"IF(COUNTIF(AY$2:AY276,AY276)=1,AY276,\"\")","v":""},"","","","",""]
[null,null,null,null,null,null,null,null,null,null,null,null,null,null,null,null,null,null,null,null,{"$f":"+IF(Z277=\"\",\"\",MAX(U$1:U276)+1)","v":""},{"$f":"IF(Limit_Deviation_Detail!B299=\"\",\"\",Limit_Deviation_Detail!B299)","v":""},{"$f":"IF(Limit_Deviation_Detail!C299=\"\",\"\",Limit_Deviation_Detail!C299)","v":""},{"$f":"IF(Limit_Deviation_Detail!E299=\"\",\"\",Limit_Deviation_Detail!E299)","v":""},"",{"$f":"IF(COUNTIF(Y$2:Y277,Y277)=1,Y277,\"\")","v":""},"","","","","",null,null,null,null,null,null,null,null,null,null,null,null,null,null,null,{"$f":"+IF(AZ277=\"\",\"\",MAX(AU$1:AU276)+1)","v":""},{"$f":"IF(CMS_Deviation_Detail!B299=\"\",\"\",CMS_Deviation_Detail!B299)","v":""},{"$f":"IF(CMS_Deviation_Detail!C299=\"\",\"\",CMS_Deviation_Detail!C299)","v":""},{"$f":"IF(CMS_Deviation_Detail!D299=\"\",\"\",CMS_Deviation_Detail!D299)","v":""},"",{"$f":"IF(COUNTIF(AY$2:AY277,AY277)=1,AY277,\"\")","v":""},"","","","",""]
[null,null,null,null,null,null,null,null,null,null,null,null,null,null,null,null,null,null,null,null,{"$f":"+IF(Z278=\"\",\"\",MAX(U$1:U277)+1)","v":""},{"$f":"IF(Limit_Deviation_Detail!B300=\"\",\"\",Limit_Deviation_Detail!B300)","v":""},{"$f":"IF(Limit_Deviation_Detail!C300=\"\",\"\",Limit_Deviation_Detail!C300)","v":""},{"$f":"IF(Limit_Deviation_Detail!E300=\"\",\"\",Limit_Deviation_Detail!E300)","v":""},"",{"$f":"IF(COUNTIF(Y$2:Y278,Y278)=1,Y278,\"\")","v":""},"","","","","",null,null,null,null,null,null,null,null,null,null,null,null,null,null,null,{"$f":"+IF(AZ278=\"\",\"\",MAX(AU$1:AU277)+1)","v":""},{"$f":"IF(CMS_Deviation_Detail!B300=\"\",\"\",CMS_Deviation_Detail!B300)","v":""},{"$f":"IF(CMS_Deviation_Detail!C300=\"\",\"\",CMS_Deviation_Detail!C300)","v":""},{"$f":"IF(CMS_Deviation_Detail!D300=\"\",\"\",CMS_Deviation_Detail!D300)","v":""},"",{"$f":"IF(COUNTIF(AY$2:AY278,AY278)=1,AY278,\"\")","v":""},"","","","",""]
[null,null,null,null,null,null,null,null,null,null,null,null,null,null,null,null,null,null,null,null,{"$f":"+IF(Z279=\"\",\"\",MAX(U$1:U278)+1)","v":""},{"$f":"IF(Limit_Deviation_Detail!B301=\"\",\"\",Limit_Deviation_Detail!B301)","v":""},{"$f":"IF(Limit_Deviation_Detail!C301=\"\",\"\",Limit_Deviation_Detail!C301)","v":""},{"$f":"IF(Limit_Deviation_Detail!E301=\"\",\"\",Limit_Deviation_Detail!E301)","v":""},"",{"$f":"IF(COUNTIF(Y$2:Y279,Y279)=1,Y279,\"\")","v":""},"","","","","",null,null,null,null,null,null,null,null,null,null,null,null,null,null,null,{"$f":"+IF(AZ279=\"\",\"\",MAX(AU$1:AU278)+1)","v":""},{"$f":"IF(CMS_Deviation_Detail!B301=\"\",\"\",CMS_Deviation_Detail!B301)","v":""},{"$f":"IF(CMS_Deviation_Detail!C301=\"\",\"\",CMS_Deviation_Detail!C301)","v":""},{"$f":"IF(CMS_Deviation_Detail!D301=\"\",\"\",CMS_Deviation_Detail!D301)","v":""},"",{"$f":"IF(COUNTIF(AY$2:AY279,AY279)=1,AY279,\"\")","v":""},"","","","",""]
[null,null,null,null,null,null,null,null,null,null,null,null,null,null,null,null,null,null,null,null,{"$f":"+IF(Z280=\"\",\"\",MAX(U$1:U279)+1)","v":""},{"$f":"IF(Limit_Deviation_Detail!B302=\"\",\"\",Limit_Deviation_Detail!B302)","v":""},{"$f":"IF(Limit_Deviation_Detail!C302=\"\",\"\",Limit_Deviation_Detail!C302)","v":""},{"$f":"IF(Limit_Deviation_Detail!E302=\"\",\"\",Limit_Deviation_Detail!E302)","v":""},"",{"$f":"IF(COUNTIF(Y$2:Y280,Y280)=1,Y280,\"\")","v":""},"","","","","",null,null,null,null,null,null,null,null,null,null,null,null,null,null,null,{"$f":"+IF(AZ280=\"\",\"\",MAX(AU$1:AU279)+1)","v":""},{"$f":"IF(CMS_Deviation_Detail!B302=\"\",\"\",CMS_Deviation_Detail!B302)","v":""},{"$f":"IF(CMS_Deviation_Detail!C302=\"\",\"\",CMS_Deviation_Detail!C302)","v":""},{"$f":"IF(CMS_Deviation_Detail!D302=\"\",\"\",CMS_Deviation_Detail!D302)","v":""},"",{"$f":"IF(COUNTIF(AY$2:AY280,AY280)=1,AY280,\"\")","v":""},"","","","",""]
[null,null,null,null,null,null,null,null,null,null,null,null,null,null,null,null,null,null,null,null,{"$f":"+IF(Z281=\"\",\"\",MAX(U$1:U280)+1)","v":""},{"$f":"IF(Limit_Deviation_Detail!B303=\"\",\"\",Limit_Deviation_Detail!B303)","v":""},{"$f":"IF(Limit_Deviation_Detail!C303=\"\",\"\",Limit_Deviation_Detail!C303)","v":""},{"$f":"IF(Limit_Deviation_Detail!E303=\"\",\"\",Limit_Deviation_Detail!E303)","v":""},"",{"$f":"IF(COUNTIF(Y$2:Y281,Y281)=1,Y281,\"\")","v":""},"","","","","",null,null,null,null,null,null,null,null,null,null,null,null,null,null,null,{"$f":"+IF(AZ281=\"\",\"\",MAX(AU$1:AU280)+1)","v":""},{"$f":"IF(CMS_Deviation_Detail!B303=\"\",\"\",CMS_Deviation_Detail!B303)","v":""},{"$f":"IF(CMS_Deviation_Detail!C303=\"\",\"\",CMS_Deviation_Detail!C303)","v":""},{"$f":"IF(CMS_Deviation_Detail!D303=\"\",\"\",CMS_Deviation_Detail!D303)","v":""},"",{"$f":"IF(COUNTIF(AY$2:AY281,AY281)=1,AY281,\"\")","v":""},"","","","",""]
[null,null,null,null,null,null,null,null,null,null,null,null,null,null,null,null,null,null,null,null,{"$f":"+IF(Z282=\"\",\"\",MAX(U$1:U281)+1)","v":""},{"$f":"IF(Limit_Deviation_Detail!B304=\"\",\"\",Limit_Deviation_Detail!B304)","v":""},{"$f":"IF(Limit_Deviation_Detail!C304=\"\",\"\",Limit_Deviation_Detail!C304)","v":""},{"$f":"IF(Limit_Deviation_Detail!E304=\"\",\"\",Limit_Deviation_Detail!E304)","v":""},"",{"$f":"IF(COUNTIF(Y$2:Y282,Y282)=1,Y282,\"\")","v":""},"","","","","",null,null,null,null,null,null,null,null,null,null,null,null,null,null,null,{"$f":"+IF(AZ282=\"\",\"\",MAX(AU$1:AU281)+1)","v":""},{"$f":"IF(CMS_Deviation_Detail!B304=\"\",\"\",CMS_Deviation_Detail!B304)","v":""},{"$f":"IF(CMS_Deviation_Detail!C304=\"\",\"\",CMS_Deviation_Detail!C304)","v":""},{"$f":"IF(CMS_Deviation_Detail!D304=\"\",\"\",CMS_Deviation_Detail!D304)","v":""},"",{"$f":"IF(COUNTIF(AY$2:AY282,AY282)=1,AY282,\"\")","v":""},"","","","",""]
[null,null,null,null,null,null,null,null,null,null,null,null,null,null,null,null,null,null,null,null,{"$f":"+IF(Z283=\"\",\"\",MAX(U$1:U282)+1)","v":""},{"$f":"IF(Limit_Deviation_Detail!B305=\"\",\"\",Limit_Deviation_Detail!B305)","v":""},{"$f":"IF(Limit_Deviation_Detail!C305=\"\",\"\",Limit_Deviation_Detail!C305)","v":""},{"$f":"IF(Limit_Deviation_Detail!E305=\"\",\"\",Limit_Deviation_Detail!E305)","v":""},"",{"$f":"IF(COUNTIF(Y$2:Y283,Y283)=1,Y283,\"\")","v":""},"","","","","",null,null,null,null,null,null,null,null,null,null,null,null,null,null,null,{"$f":"+IF(AZ283=\"\",\"\",MAX(AU$1:AU282)+1)","v":""},{"$f":"IF(CMS_Deviation_Detail!B305=\"\",\"\",CMS_Deviation_Detail!B305)","v":""},{"$f":"IF(CMS_Deviation_Detail!C305=\"\",\"\",CMS_Deviation_Detail!C305)","v":""},{"$f":"IF(CMS_Deviation_Detail!D305=\"\",\"\",CMS_Deviation_Detail!D305)","v":""},"",{"$f":"IF(COUNTIF(AY$2:AY283,AY283)=1,AY283,\"\")","v":""},"","","","",""]
[null,null,null,null,null,null,null,null,null,null,null,null,null,null,null,null,null,null,null,null,{"$f":"+IF(Z284=\"\",\"\",MAX(U$1:U283)+1)","v":""},{"$f":"IF(Limit_Deviation_Detail!B306=\"\",\"\",Limit_Deviation_Detail!B306)","v":""},{"$f":"IF(Limit_Deviation_Detail!C306=\"\",\"\",Limit_Deviation_Detail!C306)","v":""},{"$f":"IF(Limit_Deviation_Detail!E306=\"\",\"\",Limit_Deviation_Detail!E306)","v":""},"",{"$f":"IF(COUNTIF(Y$2:Y284,Y284)=1,Y284,\"\")","v":""},"","","","","",null,null,null,null,null,null,null,null,null,null,null,null,null,null,null,{"$f":"+IF(AZ284=\"\",\"\",MAX(AU$1:AU283)+1)","v":""},{"$f":"IF(CMS_Deviation_Detail!B306=\"\",\"\",CMS_Deviation_Detail!B306)","v":""},{"$f":"IF(CMS_Deviation_Detail!C306=\"\",\"\",CMS_Deviation_Detail!C306)","v":""},{"$f":"IF(CMS_Deviation_Detail!D306=\"\",\"\",CMS_Deviation_Detail!D306)","v":""},"",{"$f":"IF(COUNTIF(AY$2:AY284,AY284)=1,AY284,\"\")","v":""},"","","","",""]
[null,null,null,null,null,null,null,null,null,null,null,null,null,null,null,null,null,null,null,null,{"$f":"+IF(Z285=\"\",\"\",MAX(U$1:U284)+1)","v":""},{"$f":"IF(Limit_Deviation_Detail!B307=\"\",\"\",Limit_Deviation_Detail!B307)","v":""},{"$f":"IF(Limit_Deviation_Detail!C307=\"\",\"\",Limit_Deviation_Detail!C307)","v":""},{"$f":"IF(Limit_Deviation_Detail!E307=\"\",\"\",Limit_Deviation_Detail!E307)","v":""},"",{"$f":"IF(COUNTIF(Y$2:Y285,Y285)=1,Y285,\"\")","v":""},"","","","","",null,null,null,null,null,null,null,null,null,null,null,null,null,null,null,{"$f":"+IF(AZ285=\"\",\"\",MAX(AU$1:AU284)+1)","v":""},{"$f":"IF(CMS_Deviation_Detail!B307=\"\",\"\",CMS_Deviation_Detail!B307)","v":""},{"$f":"IF(CMS_Deviation_Detail!C307=\"\",\"\",CMS_Deviation_Detail!C307)","v":""},{"$f":"IF(CMS_Deviation_Detail!D307=\"\",\"\",CMS_Deviation_Detail!D307)","v":""},"",{"$f":"IF(COUNTIF(AY$2:AY285,AY285)=1,AY285,\"\")","v":""},"","","","",""]
[null,null,null,null,null,null,null,null,null,null,null,null,null,null,null,null,null,null,null,null,{"$f":"+IF(Z286=\"\",\"\",MAX(U$1:U285)+1)","v":""},{"$f":"IF(Limit_Deviation_Detail!B308=\"\",\"\",Limit_Deviation_Detail!B308)","v":""},{"$f":"IF(Limit_Deviation_Detail!C308=\"\",\"\",Limit_Deviation_Detail!C308)","v":""},{"$f":"IF(Limit_Deviation_Detail!E308=\"\",\"\",Limit_Deviation_Detail!E308)","v":""},"",{"$f":"IF(COUNTIF(Y$2:Y286,Y286)=1,Y286,\"\")","v":""},"","","","","",null,null,null,null,null,null,null,null,null,null,null,null,null,null,null,{"$f":"+IF(AZ286=\"\",\"\",MAX(AU$1:AU285)+1)","v":""},{"$f":"IF(CMS_Deviation_Detail!B308=\"\",\"\",CMS_Deviation_Detail!B308)","v":""},{"$f":"IF(CMS_Deviation_Detail!C308=\"\",\"\",CMS_Deviation_Detail!C308)","v":""},{"$f":"IF(CMS_Deviation_Detail!D308=\"\",\"\",CMS_Deviation_Detail!D308)","v":""},"",{"$f":"IF(COUNTIF(AY$2:AY286,AY286)=1,AY286,\"\")","v":""},"","","","",""]
[null,null,null,null,null,null,null,null,null,null,null,null,null,null,null,null,null,null,null,null,{"$f":"+IF(Z287=\"\",\"\",MAX(U$1:U286)+1)","v":""},{"$f":"IF(Limit_Deviation_Detail!B309=\"\",\"\",Limit_Deviation_Detail!B309)","v":""},{"$f":"IF(Limit_Deviation_Detail!C309=\"\",\"\",Limit_Deviation_Detail!C309)","v":""},{"$f":"IF(Limit_Deviation_Detail!E309=\"\",\"\",Limit_Deviation_Detail!E309)","v":""},"",{"$f":"IF(COUNTIF(Y$2:Y287,Y287)=1,Y287,\"\")","v":""},"","","","","",null,null,null,null,null,null,null,null,null,null,null,null,null,null,null,{"$f":"+IF(AZ287=\"\",\"\",MAX(AU$1:AU286)+1)","v":""},{"$f":"IF(CMS_Deviation_Detail!B309=\"\",\"\",CMS_Deviation_Detail!B309)","v":""},{"$f":"IF(CMS_Deviation_Detail!C309=\"\",\"\",CMS_Deviation_Detail!C309)","v":""},{"$f":"IF(CMS_Deviation_Detail!D309=\"\",\"\",CMS_Deviation_Detail!D309)","v":""},"",{"$f":"IF(COUNTIF(AY$2:AY287,AY287)=1,AY287,\"\")","v":""},"","","","",""]
[null,null,null,null,null,null,null,null,null,null,null,null,null,null,null,null,null,null,null,null,{"$f":"+IF(Z288=\"\",\"\",MAX(U$1:U287)+1)","v":""},{"$f":"IF(Limit_Deviation_Detail!B310=\"\",\"\",Limit_Deviation_Detail!B310)","v":""},{"$f":"IF(Limit_Deviation_Detail!C310=\"\",\"\",Limit_Deviation_Detail!C310)","v":""},{"$f":"IF(Limit_Deviation_Detail!E310=\"\",\"\",Limit_Deviation_Detail!E310)","v":""},"",{"$f":"IF(COUNTIF(Y$2:Y288,Y288)=1,Y288,\"\")","v":""},"","","","","",null,null,null,null,null,null,null,null,null,null,null,null,null,null,null,{"$f":"+IF(AZ288=\"\",\"\",MAX(AU$1:AU287)+1)","v":""},{"$f":"IF(CMS_Deviation_Detail!B310=\"\",\"\",CMS_Deviation_Detail!B310)","v":""},{"$f":"IF(CMS_Deviation_Detail!C310=\"\",\"\",CMS_Deviation_Detail!C310)","v":""},{"$f":"IF(CMS_Deviation_Detail!D310=\"\",\"\",CMS_Deviation_Detail!D310)","v":""},"",{"$f":"IF(COUNTIF(AY$2:AY288,AY288)=1,AY288,\"\")","v":""},"","","","",""]
[null,null,null,null,null,null,null,null,null,null,null,null,null,null,null,null,null,null,null,null,{"$f":"+IF(Z289=\"\",\"\",MAX(U$1:U288)+1)","v":""},{"$f":"IF(Limit_Deviation_Detail!B311=\"\",\"\",Limit_Deviation_Detail!B311)","v":""},{"$f":"IF(Limit_Deviation_Detail!C311=\"\",\"\",Limit_Deviation_Detail!C311)","v":""},{"$f":"IF(Limit_Deviation_Detail!E311=\"\",\"\",Limit_Deviation_Detail!E311)","v":""},"",{"$f":"IF(COUNTIF(Y$2:Y289,Y289)=1,Y289,\"\")","v":""},"","","","","",null,null,null,null,null,null,null,null,null,null,null,null,null,null,null,{"$f":"+IF(AZ289=\"\",\"\",MAX(AU$1:AU288)+1)","v":""},{"$f":"IF(CMS_Deviation_Detail!B311=\"\",\"\",CMS_Deviation_Detail!B311)","v":""},{"$f":"IF(CMS_Deviation_Detail!C311=\"\",\"\",CMS_Deviation_Detail!C311)","v":""},{"$f":"IF(CMS_Deviation_Detail!D311=\"\",\"\",CMS_Deviation_Detail!D311)","v":""},"",{"$f":"IF(COUNTIF(AY$2:AY289,AY289)=1,AY289,\"\")","v":""},"","","","",""]
[null,null,null,null,null,null,null,null,null,null,null,null,null,null,null,null,null,null,null,null,{"$f":"+IF(Z290=\"\",\"\",MAX(U$1:U289)+1)","v":""},{"$f":"IF(Limit_Deviation_Detail!B312=\"\",\"\",Limit_Deviation_Detail!B312)","v":""},{"$f":"IF(Limit_Deviation_Detail!C312=\"\",\"\",Limit_Deviation_Detail!C312)","v":""},{"$f":"IF(Limit_Deviation_Detail!E312=\"\",\"\",Limit_Deviation_Detail!E312)","v":""},"",{"$f":"IF(COUNTIF(Y$2:Y290,Y290)=1,Y290,\"\")","v":""},"","","","","",null,null,null,null,null,null,null,null,null,null,null,null,null,null,null,{"$f":"+IF(AZ290=\"\",\"\",MAX(AU$1:AU289)+1)","v":""},{"$f":"IF(CMS_Deviation_Detail!B312=\"\",\"\",CMS_Deviation_Detail!B312)","v":""},{"$f":"IF(CMS_Deviation_Detail!C312=\"\",\"\",CMS_Deviation_Detail!C312)","v":""},{"$f":"IF(CMS_Deviation_Detail!D312=\"\",\"\",CMS_Deviation_Detail!D312)","v":""},"",{"$f":"IF(COUNTIF(AY$2:AY290,AY290)=1,AY290,\"\")","v":""},"","","","",""]
[null,null,null,null,null,null,null,null,null,null,null,null,null,null,null,null,null,null,null,null,{"$f":"+IF(Z291=\"\",\"\",MAX(U$1:U290)+1)","v":""},{"$f":"IF(Limit_Deviation_Detail!B313=\"\",\"\",Limit_Deviation_Detail!B313)","v":""},{"$f":"IF(Limit_Deviation_Detail!C313=\"\",\"\",Limit_Deviation_Detail!C313)","v":""},{"$f":"IF(Limit_Deviation_Detail!E313=\"\",\"\",Limit_Deviation_Detail!E313)","v":""},"",{"$f":"IF(COUNTIF(Y$2:Y291,Y291)=1,Y291,\"\")","v":""},"","","","","",null,null,null,null,null,null,null,null,null,null,null,null,null,null,null,{"$f":"+IF(AZ291=\"\",\"\",MAX(AU$1:AU290)+1)","v":""},{"$f":"IF(CMS_Deviation_Detail!B313=\"\",\"\",CMS_Deviation_Detail!B313)","v":""},{"$f":"IF(CMS_Deviation_Detail!C313=\"\",\"\",CMS_Deviation_Detail!C313)","v":""},{"$f":"IF(CMS_Deviation_Detail!D313=\"\",\"\",CMS_Deviation_Detail!D313)","v":""},"",{"$f":"IF(COUNTIF(AY$2:AY291,AY291)=1,AY291,\"\")","v":""},"","","","",""]
[null,null,null,null,null,null,null,null,null,null,null,null,null,null,null,null,null,null,null,null,{"$f":"+IF(Z292=\"\",\"\",MAX(U$1:U291)+1)","v":""},{"$f":"IF(Limit_Deviation_Detail!B314=\"\",\"\",Limit_Deviation_Detail!B314)","v":""},{"$f":"IF(Limit_Deviation_Detail!C314=\"\",\"\",Limit_Deviation_Detail!C314)","v":""},{"$f":"IF(Limit_Deviation_Detail!E314=\"\",\"\",Limit_Deviation_Detail!E314)","v":""},"",{"$f":"IF(COUNTIF(Y$2:Y292,Y292)=1,Y292,\"\")","v":""},"","","","","",null,null,null,null,null,null,null,null,null,null,null,null,null,null,null,{"$f":"+IF(AZ292=\"\",\"\",MAX(AU$1:AU291)+1)","v":""},{"$f":"IF(CMS_Deviation_Detail!B314=\"\",\"\",CMS_Deviation_Detail!B314)","v":""},{"$f":"IF(CMS_Deviation_Detail!C314=\"\",\"\",CMS_Deviation_Detail!C314)","v":""},{"$f":"IF(CMS_Deviation_Detail!D314=\"\",\"\",CMS_Deviation_Detail!D314)","v":""},"",{"$f":"IF(COUNTIF(AY$2:AY292,AY292)=1,AY292,\"\")","v":""},"","","","",""]
[null,null,null,null,null,null,null,null,null,null,null,null,null,null,null,null,null,null,null,null,{"$f":"+IF(Z293=\"\",\"\",MAX(U$1:U292)+1)","v":""},{"$f":"IF(Limit_Deviation_Detail!B315=\"\",\"\",Limit_Deviation_Detail!B315)","v":""},{"$f":"IF(Limit_Deviation_Detail!C315=\"\",\"\",Limit_Deviation_Detail!C315)","v":""},{"$f":"IF(Limit_Deviation_Detail!E315=\"\",\"\",Limit_Deviation_Detail!E315)","v":""},"",{"$f":"IF(COUNTIF(Y$2:Y293,Y293)=1,Y293,\"\")","v":""},"","","","","",null,null,null,null,null,null,null,null,null,null,null,null,null,null,null,{"$f":"+IF(AZ293=\"\",\"\",MAX(AU$1:AU292)+1)","v":""},{"$f":"IF(CMS_Deviation_Detail!B315=\"\",\"\",CMS_Deviation_Detail!B315)","v":""},{"$f":"IF(CMS_Deviation_Detail!C315=\"\",\"\",CMS_Deviation_Detail!C315)","v":""},{"$f":"IF(CMS_Deviation_Detail!D315=\"\",\"\",CMS_Deviation_Detail!D315)","v":""},"",{"$f":"IF(COUNTIF(AY$2:AY293,AY293)=1,AY293,\"\")","v":""},"","","","",""]
[null,null,null,null,null,null,null,null,null,null,null,null,null,null,null,null,null,null,null,null,{"$f":"+IF(Z294=\"\",\"\",MAX(U$1:U293)+1)","v":""},{"$f":"IF(Limit_Deviation_Detail!B316=\"\",\"\",Limit_Deviation_Detail!B316)","v":""},{"$f":"IF(Limit_Deviation_Detail!C316=\"\",\"\",Limit_Deviation_Detail!C316)","v":""},{"$f":"IF(Limit_Deviation_Detail!E316=\"\",\"\",Limit_Deviation_Detail!E316)","v":""},"",{"$f":"IF(COUNTIF(Y$2:Y294,Y294)=1,Y294,\"\")","v":""},"","","","","",null,null,null,null,null,null,null,null,null,null,null,null,null,null,null,{"$f":"+IF(AZ294=\"\",\"\",MAX(AU$1:AU293)+1)","v":""},{"$f":"IF(CMS_Deviation_Detail!B316=\"\",\"\",CMS_Deviation_Detail!B316)","v":""},{"$f":"IF(CMS_Deviation_Detail!C316=\"\",\"\",CMS_Deviation_Detail!C316)","v":""},{"$f":"IF(CMS_Deviation_Detail!D316=\"\",\"\",CMS_Deviation_Detail!D316)","v":""},"",{"$f":"IF(COUNTIF(AY$2:AY294,AY294)=1,AY294,\"\")","v":""},"","","","",""]
[null,null,null,null,null,null,null,null,null,null,null,null,null,null,null,null,null,null,null,null,{"$f":"+IF(Z295=\"\",\"\",MAX(U$1:U294)+1)","v":""},{"$f":"IF(Limit_Deviation_Detail!B317=\"\",\"\",Limit_Deviation_Detail!B317)","v":""},{"$f":"IF(Limit_Deviation_Detail!C317=\"\",\"\",Limit_Deviation_Detail!C317)","v":""},{"$f":"IF(Limit_Deviation_Detail!E317=\"\",\"\",Limit_Deviation_Detail!E317)","v":""},"",{"$f":"IF(COUNTIF(Y$2:Y295,Y295)=1,Y295,\"\")","v":""},"","","","","",null,null,null,null,null,null,null,null,null,null,null,null,null,null,null,{"$f":"+IF(AZ295=\"\",\"\",MAX(AU$1:AU294)+1)","v":""},{"$f":"IF(CMS_Deviation_Detail!B317=\"\",\"\",CMS_Deviation_Detail!B317)","v":""},{"$f":"IF(CMS_Deviation_Detail!C317=\"\",\"\",CMS_Deviation_Detail!C317)","v":""},{"$f":"IF(CMS_Deviation_Detail!D317=\"\",\"\",CMS_Deviation_Detail!D317)","v":""},"",{"$f":"IF(COUNTIF(AY$2:AY295,AY295)=1,AY295,\"\")","v":""},"","","","",""]
[null,null,null,null,null,null,null,null,null,null,null,null,null,null,null,null,null,null,null,null,{"$f":"+IF(Z296=\"\",\"\",MAX(U$1:U295)+1)","v":""},{"$f":"IF(Limit_Deviation_Detail!B318=\"\",\"\",Limit_Deviation_Detail!B318)","v":""},{"$f":"IF(Limit_Deviation_Detail!C318=\"\",\"\",Limit_Deviation_Detail!C318)","v":""},{"$f":"IF(Limit_Deviation_Detail!E318=\"\",\"\",Limit_Deviation_Detail!E318)","v":""},"",{"$f":"IF(COUNTIF(Y$2:Y296,Y296)=1,Y296,\"\")","v":""},"","","","","",null,null,null,null,null,null,null,null,null,null,null,null,null,null,null,{"$f":"+IF(AZ296=\"\",\"\",MAX(AU$1:AU295)+1)","v":""},{"$f":"IF(CMS_Deviation_Detail!B318=\"\",\"\",CMS_Deviation_Detail!B318)","v":""},{"$f":"IF(CMS_Deviation_Detail!C318=\"\",\"\",CMS_Deviation_Detail!C318)","v":""},{"$f":"IF(CMS_Deviation_Detail!D318=\"\",\"\",CMS_Deviation_Detail!D318)","v":""},"",{"$f":"IF(COUNTIF(AY$2:AY296,AY296)=1,AY296,\"\")","v":""},"","","","",""]
[null,null,null,null,null,null,null,null,null,null,null,null,null,null,null,null,null,null,null,null,{"$f":"+IF(Z297=\"\",\"\",MAX(U$1:U296)+1)","v":""},{"$f":"IF(Limit_Deviation_Detail!B319=\"\",\"\",Limit_Deviation_Detail!B319)","v":""},{"$f":"IF(Limit_Deviation_Detail!C319=\"\",\"\",Limit_Deviation_Detail!C319)","v":""},{"$f":"IF(Limit_Deviation_Detail!E319=\"\",\"\",Limit_Deviation_Detail!E319)","v":""},"",{"$f":"IF(COUNTIF(Y$2:Y297,Y297)=1,Y297,\"\")","v":""},"","","","","",null,null,null,null,null,null,null,null,null,null,null,null,null,null,null,{"$f":"+IF(AZ297=\"\",\"\",MAX(AU$1:AU296)+1)","v":""},{"$f":"IF(CMS_Deviation_Detail!B319=\"\",\"\",CMS_Deviation_Detail!B319)","v":""},{"$f":"IF(CMS_Deviation_Detail!C319=\"\",\"\",CMS_Deviation_Detail!C319)","v":""},{"$f":"IF(CMS_Deviation_Detail!D319=\"\",\"\",CMS_Deviation_Detail!D319)","v":""},"",{"$f":"IF(COUNTIF(AY$2:AY297,AY297)=1,AY297,\"\")","v":""},"","","","",""]
[null,null,null,null,null,null,null,null,null,null,null,null,null,null,null,null,null,null,null,null,{"$f":"+IF(Z298=\"\",\"\",MAX(U$1:U297)+1)","v":""},{"$f":"IF(Limit_Deviation_Detail!B320=\"\",\"\",Limit_Deviation_Detail!B320)","v":""},{"$f":"IF(Limit_Deviation_Detail!C320=\"\",\"\",Limit_Deviation_Detail!C320)","v":""},{"$f":"IF(Limit_Deviation_Detail!E320=\"\",\"\",Limit_Deviation_Detail!E320)","v":""},"",{"$f":"IF(COUNTIF(Y$2:Y298,Y298)=1,Y298,\"\")","v":""},"","","","","",null,null,null,null,null,null,null,null,null,null,null,null,null,null,null,{"$f":"+IF(AZ298=\"\",\"\",MAX(AU$1:AU297)+1)","v":""},{"$f":"IF(CMS_Deviation_Detail!B320=\"\",\"\",CMS_Deviation_Detail!B320)","v":""},{"$f":"IF(CMS_Deviation_Detail!C320=\"\",\"\",CMS_Deviation_Detail!C320)","v":""},{"$f":"IF(CMS_Deviation_Detail!D320=\"\",\"\",CMS_Deviation_Detail!D320)","v":""},"",{"$f":"IF(COUNTIF(AY$2:AY298,AY298)=1,AY298,\"\")","v":""},"","","","",""]
[null,null,null,null,null,null,null,null,null,null,null,null,null,null,null,null,null,null,null,null,{"$f":"+IF(Z299=\"\",\"\",MAX(U$1:U298)+1)","v":""},{"$f":"IF(Limit_Deviation_Detail!B321=\"\",\"\",Limit_Deviation_Detail!B321)","v":""},{"$f":"IF(Limit_Deviation_Detail!C321=\"\",\"\",Limit_Deviation_Detail!C321)","v":""},{"$f":"IF(Limit_Deviation_Detail!E321=\"\",\"\",Limit_Deviation_Detail!E321)","v":""},"",{"$f":"IF(COUNTIF(Y$2:Y299,Y299)=1,Y299,\"\")","v":""},"","","","","",null,null,null,null,null,null,null,null,null,null,null,null,null,null,null,{"$f":"+IF(AZ299=\"\",\"\",MAX(AU$1:AU298)+1)","v":""},{"$f":"IF(CMS_Deviation_Detail!B321=\"\",\"\",CMS_Deviation_Detail!B321)","v":""},{"$f":"IF(CMS_Deviation_Detail!C321=\"\",\"\",CMS_Deviation_Detail!C321)","v":""},{"$f":"IF(CMS_Deviation_Detail!D321=\"\",\"\",CMS_Deviation_Detail!D321)","v":""},"",{"$f":"IF(COUNTIF(AY$2:AY299,AY299)=1,AY299,\"\")","v":""},"","","","",""]
[null,null,null,null,null,null,null,null,null,null,null,null,null,null,null,null,null,null,null,null,{"$f":"+IF(Z300=\"\",\"\",MAX(U$1:U299)+1)","v":""},{"$f":"IF(Limit_Deviation_Detail!B322=\"\",\"\",Limit_Deviation_Detail!B322)","v":""},{"$f":"IF(Limit_Deviation_Detail!C322=\"\",\"\",Limit_Deviation_Detail!C322)","v":""},{"$f":"IF(Limit_Deviation_Detail!E322=\"\",\"\",Limit_Deviation_Detail!E322)","v":""},"",{"$f":"IF(COUNTIF(Y$2:Y300,Y300)=1,Y300,\"\")","v":""},"","","","","",null,null,null,null,null,null,null,null,null,null,null,null,null,null,null,{"$f":"+IF(AZ300=\"\",\"\",MAX(AU$1:AU299)+1)","v":""},{"$f":"IF(CMS_Deviation_Detail!B322=\"\",\"\",CMS_Deviation_Detail!B322)","v":""},{"$f":"IF(CMS_Deviation_Detail!C322=\"\",\"\",CMS_Deviation_Detail!C322)","v":""},{"$f":"IF(CMS_Deviation_Detail!D322=\"\",\"\",CMS_Deviation_Detail!D322)","v":""},"",{"$f":"IF(COUNTIF(AY$2:AY300,AY300)=1,AY300,\"\")","v":""},"","","","",""]
[null,null,null,null,null,null,null,null,null,null,null,null,null,null,null,null,null,null,null,null,{"$f":"+IF(Z301=\"\",\"\",MAX(U$1:U300)+1)","v":""},{"$f":"IF(Limit_Deviation_Detail!B323=\"\",\"\",Limit_Deviation_Detail!B323)","v":""},{"$f":"IF(Limit_Deviation_Detail!C323=\"\",\"\",Limit_Deviation_Detail!C323)","v":""},{"$f":"IF(Limit_Deviation_Detail!E323=\"\",\"\",Limit_Deviation_Detail!E323)","v":""},"",{"$f":"IF(COUNTIF(Y$2:Y301,Y301)=1,Y301,\"\")","v":""},"","","","","",null,null,null,null,null,null,null,null,null,null,null,null,null,null,null,{"$f":"+IF(AZ301=\"\",\"\",MAX(AU$1:AU300)+1)","v":""},{"$f":"IF(CMS_Deviation_Detail!B323=\"\",\"\",CMS_Deviation_Detail!B323)","v":""},{"$f":"IF(CMS_Deviation_Detail!C323=\"\",\"\",CMS_Deviation_Detail!C323)","v":""},{"$f":"IF(CMS_Deviation_Detail!D323=\"\",\"\",CMS_Deviation_Detail!D323)","v":""},"",{"$f":"IF(COUNTIF(AY$2:AY301,AY301)=1,AY301,\"\")","v":""},"","","","",""]
[null,null,null,null,null,null,null,null,null,null,null,null,null,null,null,null,null,null,null,null,{"$f":"+IF(Z302=\"\",\"\",MAX(U$1:U301)+1)","v":""},{"$f":"IF(Limit_Deviation_Detail!B324=\"\",\"\",Limit_Deviation_Detail!B324)","v":""},{"$f":"IF(Limit_Deviation_Detail!C324=\"\",\"\",Limit_Deviation_Detail!C324)","v":""},{"$f":"IF(Limit_Deviation_Detail!E324=\"\",\"\",Limit_Deviation_Detail!E324)","v":""},"",{"$f":"IF(COUNTIF(Y$2:Y302,Y302)=1,Y302,\"\")","v":""},"","","","","",null,null,null,null,null,null,null,null,null,null,null,null,null,null,null,{"$f":"+IF(AZ302=\"\",\"\",MAX(AU$1:AU301)+1)","v":""},{"$f":"IF(CMS_Deviation_Detail!B324=\"\",\"\",CMS_Deviation_Detail!B324)","v":""},{"$f":"IF(CMS_Deviation_Detail!C324=\"\",\"\",CMS_Deviation_Detail!C324)","v":""},{"$f":"IF(CMS_Deviation_Detail!D324=\"\",\"\",CMS_Deviation_Detail!D324)","v":""},"",{"$f":"IF(COUNTIF(AY$2:AY302,AY302)=1,AY302,\"\")","v":""},"","","","",""]
[null,null,null,null,null,null,null,null,null,null,null,null,null,null,null,null,null,null,null,null,{"$f":"+IF(Z303=\"\",\"\",MAX(U$1:U302)+1)","v":""},{"$f":"IF(Limit_Deviation_Detail!B325=\"\",\"\",Limit_Deviation_Detail!B325)","v":""},{"$f":"IF(Limit_Deviation_Detail!C325=\"\",\"\",Limit_Deviation_Detail!C325)","v":""},{"$f":"IF(Limit_Deviation_Detail!E325=\"\",\"\",Limit_Deviation_Detail!E325)","v":""},"",{"$f":"IF(COUNTIF(Y$2:Y303,Y303)=1,Y303,\"\")","v":""},"","","","","",null,null,null,null,null,null,null,null,null,null,null,null,null,null,null,{"$f":"+IF(AZ303=\"\",\"\",MAX(AU$1:AU302)+1)","v":""},{"$f":"IF(CMS_Deviation_Detail!B325=\"\",\"\",CMS_Deviation_Detail!B325)","v":""},{"$f":"IF(CMS_Deviation_Detail!C325=\"\",\"\",CMS_Deviation_Detail!C325)","v":""},{"$f":"IF(CMS_Deviation_Detail!D325=\"\",\"\",CMS_Deviation_Detail!D325)","v":""},"",{"$f":"IF(COUNTIF(AY$2:AY303,AY303)=1,AY303,\"\")","v":""},"","","","",""]
[null,null,null,null,null,null,null,null,null,null,null,null,null,null,null,null,null,null,null,null,{"$f":"+IF(Z304=\"\",\"\",MAX(U$1:U303)+1)","v":""},{"$f":"IF(Limit_Deviation_Detail!B326=\"\",\"\",Limit_Deviation_Detail!B326)","v":""},{"$f":"IF(Limit_Deviation_Detail!C326=\"\",\"\",Limit_Deviation_Detail!C326)","v":""},{"$f":"IF(Limit_Deviation_Detail!E326=\"\",\"\",Limit_Deviation_Detail!E326)","v":""},"",{"$f":"IF(COUNTIF(Y$2:Y304,Y304)=1,Y304,\"\")","v":""},"","","","","",null,null,null,null,null,null,null,null,null,null,null,null,null,null,null,{"$f":"+IF(AZ304=\"\",\"\",MAX(AU$1:AU303)+1)","v":""},{"$f":"IF(CMS_Deviation_Detail!B326=\"\",\"\",CMS_Deviation_Detail!B326)","v":""},{"$f":"IF(CMS_Deviation_Detail!C326=\"\",\"\",CMS_Deviation_Detail!C326)","v":""},{"$f":"IF(CMS_Deviation_Detail!D326=\"\",\"\",CMS_Deviation_Detail!D326)","v":""},"",{"$f":"IF(COUNTIF(AY$2:AY304,AY304)=1,AY304,\"\")","v":""},"","","","",""]
[null,null,null,null,null,null,null,null,null,null,null,null,null,null,null,null,null,null,null,null,{"$f":"+IF(Z305=\"\",\"\",MAX(U$1:U304)+1)","v":""},{"$f":"IF(Limit_Deviation_Detail!B327=\"\",\"\",Limit_Deviation_Detail!B327)","v":""},{"$f":"IF(Limit_Deviation_Detail!C327=\"\",\"\",Limit_Deviation_Detail!C327)","v":""},{"$f":"IF(Limit_Deviation_Detail!E327=\"\",\"\",Limit_Deviation_Detail!E327)","v":""},"",{"$f":"IF(COUNTIF(Y$2:Y305,Y305)=1,Y305,\"\")","v":""},"","","","","",null,null,null,null,null,null,null,null,null,null,null,null,null,null,null,{"$f":"+IF(AZ305=\"\",\"\",MAX(AU$1:AU304)+1)","v":""},{"$f":"IF(CMS_Deviation_Detail!B327=\"\",\"\",CMS_Deviation_Detail!B327)","v":""},{"$f":"IF(CMS_Deviation_Detail!C327=\"\",\"\",CMS_Deviation_Detail!C327)","v":""},{"$f":"IF(CMS_Deviation_Detail!D327=\"\",\"\",CMS_Deviation_Detail!D327)","v":""},"",{"$f":"IF(COUNTIF(AY$2:AY305,AY305)=1,AY305,\"\")","v":""},"","","","",""]
[null,null,null,null,null,null,null,null,null,null,null,null,null,null,null,null,null,null,null,null,{"$f":"+IF(Z306=\"\",\"\",MAX(U$1:U305)+1)","v":""},{"$f":"IF(Limit_Deviation_Detail!B328=\"\",\"\",Limit_Deviation_Detail!B328)","v":""},{"$f":"IF(Limit_Deviation_Detail!C328=\"\",\"\",Limit_Deviation_Detail!C328)","v":""},{"$f":"IF(Limit_Deviation_Detail!E328=\"\",\"\",Limit_Deviation_Detail!E328)","v":""},"",{"$f":"IF(COUNTIF(Y$2:Y306,Y306)=1,Y306,\"\")","v":""},"","","","","",null,null,null,null,null,null,null,null,null,null,null,null,null,null,null,{"$f":"+IF(AZ306=\"\",\"\",MAX(AU$1:AU305)+1)","v":""},{"$f":"IF(CMS_Deviation_Detail!B328=\"\",\"\",CMS_Deviation_Detail!B328)","v":""},{"$f":"IF(CMS_Deviation_Detail!C328=\"\",\"\",CMS_Deviation_Detail!C328)","v":""},{"$f":"IF(CMS_Deviation_Detail!D328=\"\",\"\",CMS_Deviation_Detail!D328)","v":""},"",{"$f":"IF(COUNTIF(AY$2:AY306,AY306)=1,AY306,\"\")","v":""},"","","","",""]
[null,null,null,null,null,null,null,null,null,null,null,null,null,null,null,null,null,null,null,null,{"$f":"+IF(Z307=\"\",\"\",MAX(U$1:U306)+1)","v":""},{"$f":"IF(Limit_Deviation_Detail!B329=\"\",\"\",Limit_Deviation_Detail!B329)","v":""},{"$f":"IF(Limit_Deviation_Detail!C329=\"\",\"\",Limit_Deviation_Detail!C329)","v":""},{"$f":"IF(Limit_Deviation_Detail!E329=\"\",\"\",Limit_Deviation_Detail!E329)","v":""},"",{"$f":"IF(COUNTIF(Y$2:Y307,Y307)=1,Y307,\"\")","v":""},"","","","","",null,null,null,null,null,null,null,null,null,null,null,null,null,null,null,{"$f":"+IF(AZ307=\"\",\"\",MAX(AU$1:AU306)+1)","v":""},{"$f":"IF(CMS_Deviation_Detail!B329=\"\",\"\",CMS_Deviation_Detail!B329)","v":""},{"$f":"IF(CMS_Deviation_Detail!C329=\"\",\"\",CMS_Deviation_Detail!C329)","v":""},{"$f":"IF(CMS_Deviation_Detail!D329=\"\",\"\",CMS_Deviation_Detail!D329)","v":""},"",{"$f":"IF(COUNTIF(AY$2:AY307,AY307)=1,AY307,\"\")","v":""},"","","","",""]
[null,null,null,null,null,null,null,null,null,null,null,null,null,null,null,null,null,null,null,null,{"$f":"+IF(Z308=\"\",\"\",MAX(U$1:U307)+1)","v":""},{"$f":"IF(Limit_Deviation_Detail!B330=\"\",\"\",Limit_Deviation_Detail!B330)","v":""},{"$f":"IF(Limit_Deviation_Detail!C330=\"\",\"\",Limit_Deviation_Detail!C330)","v":""},{"$f":"IF(Limit_Deviation_Detail!E330=\"\",\"\",Limit_Deviation_Detail!E330)","v":""},"",{"$f":"IF(COUNTIF(Y$2:Y308,Y308)=1,Y308,\"\")","v":""},"","","","","",null,null,null,null,null,null,null,null,null,null,null,null,null,null,null,{"$f":"+IF(AZ308=\"\",\"\",MAX(AU$1:AU307)+1)","v":""},{"$f":"IF(CMS_Deviation_Detail!B330=\"\",\"\",CMS_Deviation_Detail!B330)","v":""},{"$f":"IF(CMS_Deviation_Detail!C330=\"\",\"\",CMS_Deviation_Detail!C330)","v":""},{"$f":"IF(CMS_Deviation_Detail!D330=\"\",\"\",CMS_Deviation_Detail!D330)","v":""},"",{"$f":"IF(COUNTIF(AY$2:AY308,AY308)=1,AY308,\"\")","v":""},"","","","",""]
[null,null,null,null,null,null,null,null,null,null,null,null,null,null,null,null,null,null,null,null,{"$f":"+IF(Z309=\"\",\"\",MAX(U$1:U308)+1)","v":""},{"$f":"IF(Limit_Deviation_Detail!B331=\"\",\"\",Limit_Deviation_Detail!B331)","v":""},{"$f":"IF(Limit_Deviation_Detail!C331=\"\",\"\",Limit_Deviation_Detail!C331)","v":""},{"$f":"IF(Limit_Deviation_Detail!E331=\"\",\"\",Limit_Deviation_Detail!E331)","v":""},"",{"$f":"IF(COUNTIF(Y$2:Y309,Y309)=1,Y309,\"\")","v":""},"","","","","",null,null,null,null,null,null,null,null,null,null,null,null,null,null,null,{"$f":"+IF(AZ309=\"\",\"\",MAX(AU$1:AU308)+1)","v":""},{"$f":"IF(CMS_Deviation_Detail!B331=\"\",\"\",CMS_Deviation_Detail!B331)","v":""},{"$f":"IF(CMS_Deviation_Detail!C331=\"\",\"\",CMS_Deviation_Detail!C331)","v":""},{"$f":"IF(CMS_Deviation_Detail!D331=\"\",\"\",CMS_Deviation_Detail!D331)","v":""},"",{"$f":"IF(COUNTIF(AY$2:AY309,AY309)=1,AY309,\"\")","v":""},"","","","",""]
[null,null,null,null,null,null,null,null,null,null,null,null,null,null,null,null,null,null,null,null,{"$f":"+IF(Z310=\"\",\"\",MAX(U$1:U309)+1)","v":""},{"$f":"IF(Limit_Deviation_Detail!B332=\"\",\"\",Limit_Deviation_Detail!B332)","v":""},{"$f":"IF(Limit_Deviation_Detail!C332=\"\",\"\",Limit_Deviation_Detail!C332)","v":""},{"$f":"IF(Limit_Deviation_Detail!E332=\"\",\"\",Limit_Deviation_Detail!E332)","v":""},"",{"$f":"IF(COUNTIF(Y$2:Y310,Y310)=1,Y310,\"\")","v":""},"","","","","",null,null,null,null,null,null,null,null,null,null,null,null,null,null,null,{"$f":"+IF(AZ310=\"\",\"\",MAX(AU$1:AU309)+1)","v":""},{"$f":"IF(CMS_Deviation_Detail!B332=\"\",\"\",CMS_Deviation_Detail!B332)","v":""},{"$f":"IF(CMS_Deviation_Detail!C332=\"\",\"\",CMS_Deviation_Detail!C332)","v":""},{"$f":"IF(CMS_Deviation_Detail!D332=\"\",\"\",CMS_Deviation_Detail!D332)","v":""},"",{"$f":"IF(COUNTIF(AY$2:AY310,AY310)=1,AY310,\"\")","v":""},"","","","",""]
[null,null,null,null,null,null,null,null,null,null,null,null,null,null,null,null,null,null,null,null,{"$f":"+IF(Z311=\"\",\"\",MAX(U$1:U310)+1)","v":""},{"$f":"IF(Limit_Deviation_Detail!B333=\"\",\"\",Limit_Deviation_Detail!B333)","v":""},{"$f":"IF(Limit_Deviation_Detail!C333=\"\",\"\",Limit_Deviation_Detail!C333)","v":""},{"$f":"IF(Limit_Deviation_Detail!E333=\"\",\"\",Limit_Deviation_Detail!E333)","v":""},"",{"$f":"IF(COUNTIF(Y$2:Y311,Y311)=1,Y311,\"\")","v":""},"","","","","",null,null,null,null,null,null,null,null,null,null,null,null,null,null,null,{"$f":"+IF(AZ311=\"\",\"\",MAX(AU$1:AU310)+1)","v":""},{"$f":"IF(CMS_Deviation_Detail!B333=\"\",\"\",CMS_Deviation_Detail!B333)","v":""},{"$f":"IF(CMS_Deviation_Detail!C333=\"\",\"\",CMS_Deviation_Detail!C333)","v":""},{"$f":"IF(CMS_Deviation_Detail!D333=\"\",\"\",CMS_Deviation_Detail!D333)","v":""},"",{"$f":"IF(COUNTIF(AY$2:AY311,AY311)=1,AY311,\"\")","v":""},"","","","",""]
[null,null,null,null,null,null,null,null,null,null,null,null,null,null,null,null,null,null,null,null,{"$f":"+IF(Z312=\"\",\"\",MAX(U$1:U311)+1)","v":""},{"$f":"IF(Limit_Deviation_Detail!B334=\"\",\"\",Limit_Deviation_Detail!B334)","v":""},{"$f":"IF(Limit_Deviation_Detail!C334=\"\",\"\",Limit_Deviation_Detail!C334)","v":""},{"$f":"IF(Limit_Deviation_Detail!E334=\"\",\"\",Limit_Deviation_Detail!E334)","v":""},"",{"$f":"IF(COUNTIF(Y$2:Y312,Y312)=1,Y312,\"\")","v":""},"","","","","",null,null,null,null,null,null,null,null,null,null,null,null,null,null,null,{"$f":"+IF(AZ312=\"\",\"\",MAX(AU$1:AU311)+1)","v":""},{"$f":"IF(CMS_Deviation_Detail!B334=\"\",\"\",CMS_Deviation_Detail!B334)","v":""},{"$f":"IF(CMS_Deviation_Detail!C334=\"\",\"\",CMS_Deviation_Detail!C334)","v":""},{"$f":"IF(CMS_Deviation_Detail!D334=\"\",\"\",CMS_Deviation_Detail!D334)","v":""},"",{"$f":"IF(COUNTIF(AY$2:AY312,AY312)=1,AY312,\"\")","v":""},"","","","",""]
[null,null,null,null,null,null,null,null,null,null,null,null,null,null,null,null,null,null,null,null,{"$f":"+IF(Z313=\"\",\"\",MAX(U$1:U312)+1)","v":""},{"$f":"IF(Limit_Deviation_Detail!B335=\"\",\"\",Limit_Deviation_Detail!B335)","v":""},{"$f":"IF(Limit_Deviation_Detail!C335=\"\",\"\",Limit_Deviation_Detail!C335)","v":""},{"$f":"IF(Limit_Deviation_Detail!E335=\"\",\"\",Limit_Deviation_Detail!E335)","v":""},"",{"$f":"IF(COUNTIF(Y$2:Y313,Y313)=1,Y313,\"\")","v":""},"","","","","",null,null,null,null,null,null,null,null,null,null,null,null,null,null,null,{"$f":"+IF(AZ313=\"\",\"\",MAX(AU$1:AU312)+1)","v":""},{"$f":"IF(CMS_Deviation_Detail!B335=\"\",\"\",CMS_Deviation_Detail!B335)","v":""},{"$f":"IF(CMS_Deviation_Detail!C335=\"\",\"\",CMS_Deviation_Detail!C335)","v":""},{"$f":"IF(CMS_Deviation_Detail!D335=\"\",\"\",CMS_Deviation_Detail!D335)","v":""},"",{"$f":"IF(COUNTIF(AY$2:AY313,AY313)=1,AY313,\"\")","v":""},"","","","",""]
[null,null,null,null,null,null,null,null,null,null,null,null,null,null,null,null,null,null,null,null,{"$f":"+IF(Z314=\"\",\"\",MAX(U$1:U313)+1)","v":""},{"$f":"IF(Limit_Deviation_Detail!B336=\"\",\"\",Limit_Deviation_Detail!B336)","v":""},{"$f":"IF(Limit_Deviation_Detail!C336=\"\",\"\",Limit_Deviation_Detail!C336)","v":""},{"$f":"IF(Limit_Deviation_Detail!E336=\"\",\"\",Limit_Deviation_Detail!E336)","v":""},"",{"$f":"IF(COUNTIF(Y$2:Y314,Y314)=1,Y314,\"\")","v":""},"","","","","",null,null,null,null,null,null,null,null,null,null,null,null,null,null,null,{"$f":"+IF(AZ314=\"\",\"\",MAX(AU$1:AU313)+1)","v":""},{"$f":"IF(CMS_Deviation_Detail!B336=\"\",\"\",CMS_Deviation_Detail!B336)","v":""},{"$f":"IF(CMS_Deviation_Detail!C336=\"\",\"\",CMS_Deviation_Detail!C336)","v":""},{"$f":"IF(CMS_Deviation_Detail!D336=\"\",\"\",CMS_Deviation_Detail!D336)","v":""},"",{"$f":"IF(COUNTIF(AY$2:AY314,AY314)=1,AY314,\"\")","v":""},"","","","",""]
[null,null,null,null,null,null,null,null,null,null,null,null,null,null,null,null,null,null,null,null,{"$f":"+IF(Z315=\"\",\"\",MAX(U$1:U314)+1)","v":""},{"$f":"IF(Limit_Deviation_Detail!B337=\"\",\"\",Limit_Deviation_Detail!B337)","v":""},{"$f":"IF(Limit_Deviation_Detail!C337=\"\",\"\",Limit_Deviation_Detail!C337)","v":""},{"$f":"IF(Limit_Deviation_Detail!E337=\"\",\"\",Limit_Deviation_Detail!E337)","v":""},"",{"$f":"IF(COUNTIF(Y$2:Y315,Y315)=1,Y315,\"\")","v":""},"","","","","",null,null,null,null,null,null,null,null,null,null,null,null,null,null,null,{"$f":"+IF(AZ315=\"\",\"\",MAX(AU$1:AU314)+1)","v":""},{"$f":"IF(CMS_Deviation_Detail!B337=\"\",\"\",CMS_Deviation_Detail!B337)","v":""},{"$f":"IF(CMS_Deviation_Detail!C337=\"\",\"\",CMS_Deviation_Detail!C337)","v":""},{"$f":"IF(CMS_Deviation_Detail!D337=\"\",\"\",CMS_Deviation_Detail!D337)","v":""},"",{"$f":"IF(COUNTIF(AY$2:AY315,AY315)=1,AY315,\"\")","v":""},"","","","",""]
[null,null,null,null,null,null,null,null,null,null,null,null,null,null,null,null,null,null,null,null,{"$f":"+IF(Z316=\"\",\"\",MAX(U$1:U315)+1)","v":""},{"$f":"IF(Limit_Deviation_Detail!B338=\"\",\"\",Limit_Deviation_Detail!B338)","v":""},{"$f":"IF(Limit_Deviation_Detail!C338=\"\",\"\",Limit_Deviation_Detail!C338)","v":""},{"$f":"IF(Limit_Deviation_Detail!E338=\"\",\"\",Limit_Deviation_Detail!E338)","v":""},"",{"$f":"IF(COUNTIF(Y$2:Y316,Y316)=1,Y316,\"\")","v":""},"","","","","",null,null,null,null,null,null,null,null,null,null,null,null,null,null,null,{"$f":"+IF(AZ316=\"\",\"\",MAX(AU$1:AU315)+1)","v":""},{"$f":"IF(CMS_Deviation_Detail!B338=\"\",\"\",CMS_Deviation_Detail!B338)","v":""},{"$f":"IF(CMS_Deviation_Detail!C338=\"\",\"\",CMS_Deviation_Detail!C338)","v":""},{"$f":"IF(CMS_Deviation_Detail!D338=\"\",\"\",CMS_Deviation_Detail!D338)","v":""},"",{"$f":"IF(COUNTIF(AY$2:AY316,AY316)=1,AY316,\"\")","v":""},"","","","",""]
[null,null,null,null,null,null,null,null,null,null,null,null,null,null,null,null,null,null,null,null,{"$f":"+IF(Z317=\"\",\"\",MAX(U$1:U316)+1)","v":""},{"$f":"IF(Limit_Deviation_Detail!B339=\"\",\"\",Limit_Deviation_Detail!B339)","v":""},{"$f":"IF(Limit_Deviation_Detail!C339=\"\",\"\",Limit_Deviation_Detail!C339)","v":""},{"$f":"IF(Limit_Deviation_Detail!E339=\"\",\"\",Limit_Deviation_Detail!E339)","v":""},"",{"$f":"IF(COUNTIF(Y$2:Y317,Y317)=1,Y317,\"\")","v":""},"","","","","",null,null,null,null,null,null,null,null,null,null,null,null,null,null,null,{"$f":"+IF(AZ317=\"\",\"\",MAX(AU$1:AU316)+1)","v":""},{"$f":"IF(CMS_Deviation_Detail!B339=\"\",\"\",CMS_Deviation_Detail!B339)","v":""},{"$f":"IF(CMS_Deviation_Detail!C339=\"\",\"\",CMS_Deviation_Detail!C339)","v":""},{"$f":"IF(CMS_Deviation_Detail!D339=\"\",\"\",CMS_Deviation_Detail!D339)","v":""},"",{"$f":"IF(COUNTIF(AY$2:AY317,AY317)=1,AY317,\"\")","v":""},"","","","",""]
[null,null,null,null,null,null,null,null,null,null,null,null,null,null,null,null,null,null,null,null,{"$f":"+IF(Z318=\"\",\"\",MAX(U$1:U317)+1)","v":""},{"$f":"IF(Limit_Deviation_Detail!B340=\"\",\"\",Limit_Deviation_Detail!B340)","v":""},{"$f":"IF(Limit_Deviation_Detail!C340=\"\",\"\",Limit_Deviation_Detail!C340)","v":""},{"$f":"IF(Limit_Deviation_Detail!E340=\"\",\"\",Limit_Deviation_Detail!E340)","v":""},"",{"$f":"IF(COUNTIF(Y$2:Y318,Y318)=1,Y318,\"\")","v":""},"","","","","",null,null,null,null,null,null,null,null,null,null,null,null,null,null,null,{"$f":"+IF(AZ318=\"\",\"\",MAX(AU$1:AU317)+1)","v":""},{"$f":"IF(CMS_Deviation_Detail!B340=\"\",\"\",CMS_Deviation_Detail!B340)","v":""},{"$f":"IF(CMS_Deviation_Detail!C340=\"\",\"\",CMS_Deviation_Detail!C340)","v":""},{"$f":"IF(CMS_Deviation_Detail!D340=\"\",\"\",CMS_Deviation_Detail!D340)","v":""},"",{"$f":"IF(COUNTIF(AY$2:AY318,AY318)=1,AY318,\"\")","v":""},"","","","",""]
[null,null,null,null,null,null,null,null,null,null,null,null,null,null,null,null,null,null,null,null,{"$f":"+IF(Z319=\"\",\"\",MAX(U$1:U318)+1)","v":""},{"$f":"IF(Limit_Deviation_Detail!B341=\"\",\"\",Limit_Deviation_Detail!B341)","v":""},{"$f":"IF(Limit_Deviation_Detail!C341=\"\",\"\",Limit_Deviation_Detail!C341)","v":""},{"$f":"IF(Limit_Deviation_Detail!E341=\"\",\"\",Limit_Deviation_Detail!E341)","v":""},"",{"$f":"IF(COUNTIF(Y$2:Y319,Y319)=1,Y319,\"\")","v":""},"","","","","",null,null,null,null,null,null,null,null,null,null,null,null,null,null,null,{"$f":"+IF(AZ319=\"\",\"\",MAX(AU$1:AU318)+1)","v":""},{"$f":"IF(CMS_Deviation_Detail!B341=\"\",\"\",CMS_Deviation_Detail!B341)","v":""},{"$f":"IF(CMS_Deviation_Detail!C341=\"\",\"\",CMS_Deviation_Detail!C341)","v":""},{"$f":"IF(CMS_Deviation_Detail!D341=\"\",\"\",CMS_Deviation_Detail!D341)","v":""},"",{"$f":"IF(COUNTIF(AY$2:AY319,AY319)=1,AY319,\"\")","v":""},"","","","",""]
[null,null,null,null,null,null,null,null,null,null,null,null,null,null,null,null,null,null,null,null,{"$f":"+IF(Z320=\"\",\"\",MAX(U$1:U319)+1)","v":""},{"$f":"IF(Limit_Deviation_Detail!B342=\"\",\"\",Limit_Deviation_Detail!B342)","v":""},{"$f":"IF(Limit_Deviation_Detail!C342=\"\",\"\",Limit_Deviation_Detail!C342)","v":""},{"$f":"IF(Limit_Deviation_Detail!E342=\"\",\"\",Limit_Deviation_Detail!E342)","v":""},"",{"$f":"IF(COUNTIF(Y$2:Y320,Y320)=1,Y320,\"\")","v":""},"","","","","",null,null,null,null,null,null,null,null,null,null,null,null,null,null,null,{"$f":"+IF(AZ320=\"\",\"\",MAX(AU$1:AU319)+1)","v":""},{"$f":"IF(CMS_Deviation_Detail!B342=\"\",\"\",CMS_Deviation_Detail!B342)","v":""},{"$f":"IF(CMS_Deviation_Detail!C342=\"\",\"\",CMS_Deviation_Detail!C342)","v":""},{"$f":"IF(CMS_Deviation_Detail!D342=\"\",\"\",CMS_Deviation_Detail!D342)","v":""},"",{"$f":"IF(COUNTIF(AY$2:AY320,AY320)=1,AY320,\"\")","v":""},"","","","",""]
[null,null,null,null,null,null,null,null,null,null,null,null,null,null,null,null,null,null,null,null,{"$f":"+IF(Z321=\"\",\"\",MAX(U$1:U320)+1)","v":""},{"$f":"IF(Limit_Deviation_Detail!B343=\"\",\"\",Limit_Deviation_Detail!B343)","v":""},{"$f":"IF(Limit_Deviation_Detail!C343=\"\",\"\",Limit_Deviation_Detail!C343)","v":""},{"$f":"IF(Limit_Deviation_Detail!E343=\"\",\"\",Limit_Deviation_Detail!E343)","v":""},"",{"$f":"IF(COUNTIF(Y$2:Y321,Y321)=1,Y321,\"\")","v":""},"","","","","",null,null,null,null,null,null,null,null,null,null,null,null,null,null,null,{"$f":"+IF(AZ321=\"\",\"\",MAX(AU$1:AU320)+1)","v":""},{"$f":"IF(CMS_Deviation_Detail!B343=\"\",\"\",CMS_Deviation_Detail!B343)","v":""},{"$f":"IF(CMS_Deviation_Detail!C343=\"\",\"\",CMS_Deviation_Detail!C343)","v":""},{"$f":"IF(CMS_Deviation_Detail!D343=\"\",\"\",CMS_Deviation_Detail!D343)","v":""},"",{"$f":"IF(COUNTIF(AY$2:AY321,AY321)=1,AY321,\"\")","v":""},"","","","",""]
[null,null,null,null,null,null,null,null,null,null,null,null,null,null,null,null,null,null,null,null,{"$f":"+IF(Z322=\"\",\"\",MAX(U$1:U321)+1)","v":""},{"$f":"IF(Limit_Deviation_Detail!B344=\"\",\"\",Limit_Deviation_Detail!B344)","v":""},{"$f":"IF(Limit_Deviation_Detail!C344=\"\",\"\",Limit_Deviation_Detail!C344)","v":""},{"$f":"IF(Limit_Deviation_Detail!E344=\"\",\"\",Limit_Deviation_Detail!E344)","v":""},{"$f":"V322&W322&X322","v":""},{"$f":"IF(COUNTIF(Y$2:Y322,Y322)=1,Y322,\"\")","v":""},{"$f":"+IFERROR(INDEX(V$2:V$955,MATCH(ROW()-ROW(Z$1),U$2:U$955,0)),\"\")","v":""},{"$f":"+IFERROR(INDEX(W$2:W$955,MATCH(ROW()-ROW(AA$1),U$2:U$955,0)),\"\")","v":""},{"$f":"+IFERROR(INDEX(X$2:X$955,MATCH(ROW()-ROW(AB$1),U$2:U$955,0)),\"\")","v":""},{"$f":"IF(AA322=\"\",\"\",AA322&AB322)","v":""},{"$f":"IF(AA322=\"\",\"\",VLOOKUP(AD322,$AO$2:$AS$78,5,FALSE))","v":""},null,null,null,null,null,null,null,null,null,null,null,null,null,null,null,{"$f":"+IF(AZ322=\"\",\"\",MAX(AU$1:AU321)+1)","v":""},{"$f":"IF(CMS_Deviation_Detail!B344=\"\",\"\",CMS_Deviation_Detail!B344)","v":""},{"$f":"IF(CMS_Deviation_Detail!C344=\"\",\"\",CMS_Deviation_Detail!C344)","v":""},{"$f":"IF(CMS_Deviation_Detail!D344=\"\",\"\",CMS_Deviation_Detail!D344)","v":""},"",{"$f":"IF(COUNTIF(AY$2:AY322,AY322)=1,AY322,\"\")","v":""},"","","","",{"$f":"IF(BA322=\"\",\"\",VLOOKUP(BD322,$AO$2:$AS$78,5,FALSE))","v":""}]
[null,null,null,null,null,null,null,null,null,null,null,null,null,null,null,null,null,null,null,null,{"$f":"+IF(Z323=\"\",\"\",MAX(U$1:U322)+1)","v":""},{"$f":"IF(Limit_Deviation_Detail!B345=\"\",\"\",Limit_Deviation_Detail!B345)","v":""},{"$f":"IF(Limit_Deviation_Detail!C345=\"\",\"\",Limit_Deviation_Detail!C345)","v":""},{"$f":"IF(Limit_Deviation_Detail!E345=\"\",\"\",Limit_Deviation_Detail!E345)","v":""},"",{"$f":"IF(COUNTIF(Y$2:Y323,Y323)=1,Y323,\"\")","v":""},"","","","","",null,null,null,null,null,null,null,null,null,null,null,null,null,null,null,{"$f":"+IF(AZ323=\"\",\"\",MAX(AU$1:AU322)+1)","v":""},{"$f":"IF(CMS_Deviation_Detail!B345=\"\",\"\",CMS_Deviation_Detail!B345)","v":""},{"$f":"IF(CMS_Deviation_Detail!C345=\"\",\"\",CMS_Deviation_Detail!C345)","v":""},{"$f":"IF(CMS_Deviation_Detail!D345=\"\",\"\",CMS_Deviation_Detail!D345)","v":""},{"$f":"AV323&AW323&AX323","v":""},{"$f":"IF(COUNTIF(AY$2:AY323,AY323)=1,AY323,\"\")","v":""},{"$f":"+IFERROR(INDEX(AV$2:AV$955,MATCH(ROW()-ROW(AZ$1),AU$2:AU$955,0)),\"\")","v":""},{"$f":"+IFERROR(INDEX(AW$2:AW$955,MATCH(ROW()-ROW(BA$1),AU$2:AU$955,0)),\"\")","v":""},{"$f":"+IFERROR(INDEX(AX$2:AX$955,MATCH(ROW()-ROW(BB$1),AU$2:AU$955,0)),\"\")","v":""},{"$f":"IF(BA323=\"\",\"\",BA323&BB323)","v":""},""]
[null,null,null,null,null,null,null,null,null,null,null,null,null,null,null,null,null,null,null,null,{"$f":"+IF(Z324=\"\",\"\",MAX(U$1:U323)+1)","v":""},{"$f":"IF(Limit_Deviation_Detail!B346=\"\",\"\",Limit_Deviation_Detail!B346)","v":""},{"$f":"IF(Limit_Deviation_Detail!C346=\"\",\"\",Limit_Deviation_Detail!C346)","v":""},{"$f":"IF(Limit_Deviation_Detail!E346=\"\",\"\",Limit_Deviation_Detail!E346)","v":""},"",{"$f":"IF(COUNTIF(Y$2:Y324,Y324)=1,Y324,\"\")","v":""},"","","","","",null,null,null,null,null,null,null,null,null,null,null,null,null,null,null,{"$f":"+IF(AZ324=\"\",\"\",MAX(AU$1:AU323)+1)","v":""},{"$f":"IF(CMS_Deviation_Detail!B346=\"\",\"\",CMS_Deviation_Detail!B346)","v":""},{"$f":"IF(CMS_Deviation_Detail!C346=\"\",\"\",CMS_Deviation_Detail!C346)","v":""},{"$f":"IF(CMS_Deviation_Detail!D346=\"\",\"\",CMS_Deviation_Detail!D346)","v":""},"",{"$f":"IF(COUNTIF(AY$2:AY324,AY324)=1,AY324,\"\")","v":""},"","","","",""]
[null,null,null,null,null,null,null,null,null,null,null,null,null,null,null,null,null,null,null,null,{"$f":"+IF(Z325=\"\",\"\",MAX(U$1:U324)+1)","v":""},{"$f":"IF(Limit_Deviation_Detail!B347=\"\",\"\",Limit_Deviation_Detail!B347)","v":""},{"$f":"IF(Limit_Deviation_Detail!C347=\"\",\"\",Limit_Deviation_Detail!C347)","v":""},{"$f":"IF(Limit_Deviation_Detail!E347=\"\",\"\",Limit_Deviation_Detail!E347)","v":""},"",{"$f":"IF(COUNTIF(Y$2:Y325,Y325)=1,Y325,\"\")","v":""},"","","","","",null,null,null,null,null,null,null,null,null,null,null,null,null,null,null,{"$f":"+IF(AZ325=\"\",\"\",MAX(AU$1:AU324)+1)","v":""},{"$f":"IF(CMS_Deviation_Detail!B347=\"\",\"\",CMS_Deviation_Detail!B347)","v":""},{"$f":"IF(CMS_Deviation_Detail!C347=\"\",\"\",CMS_Deviation_Detail!C347)","v":""},{"$f":"IF(CMS_Deviation_Detail!D347=\"\",\"\",CMS_Deviation_Detail!D347)","v":""},"",{"$f":"IF(COUNTIF(AY$2:AY325,AY325)=1,AY325,\"\")","v":""},"","","","",""]
[null,null,null,null,null,null,null,null,null,null,null,null,null,null,null,null,null,null,null,null,{"$f":"+IF(Z326=\"\",\"\",MAX(U$1:U325)+1)","v":""},{"$f":"IF(Limit_Deviation_Detail!B348=\"\",\"\",Limit_Deviation_Detail!B348)","v":""},{"$f":"IF(Limit_Deviation_Detail!C348=\"\",\"\",Limit_Deviation_Detail!C348)","v":""},{"$f":"IF(Limit_Deviation_Detail!E348=\"\",\"\",Limit_Deviation_Detail!E348)","v":""},"",{"$f":"IF(COUNTIF(Y$2:Y326,Y326)=1,Y326,\"\")","v":""},"","","","","",null,null,null,null,null,null,null,null,null,null,null,null,null,null,null,{"$f":"+IF(AZ326=\"\",\"\",MAX(AU$1:AU325)+1)","v":""},{"$f":"IF(CMS_Deviation_Detail!B348=\"\",\"\",CMS_Deviation_Detail!B348)","v":""},{"$f":"IF(CMS_Deviation_Detail!C348=\"\",\"\",CMS_Deviation_Detail!C348)","v":""},{"$f":"IF(CMS_Deviation_Detail!D348=\"\",\"\",CMS_Deviation_Detail!D348)","v":""},"",{"$f":"IF(COUNTIF(AY$2:AY326,AY326)=1,AY326,\"\")","v":""},"","","","",""]
[null,null,null,null,null,null,null,null,null,null,null,null,null,null,null,null,null,null,null,null,{"$f":"+IF(Z327=\"\",\"\",MAX(U$1:U326)+1)","v":""},{"$f":"IF(Limit_Deviation_Detail!B349=\"\",\"\",Limit_Deviation_Detail!B349)","v":""},{"$f":"IF(Limit_Deviation_Detail!C349=\"\",\"\",Limit_Deviation_Detail!C349)","v":""},{"$f":"IF(Limit_Deviation_Detail!E349=\"\",\"\",Limit_Deviation_Detail!E349)","v":""},"",{"$f":"IF(COUNTIF(Y$2:Y327,Y327)=1,Y327,\"\")","v":""},"","","","","",null,null,null,null,null,null,null,null,null,null,null,null,null,null,null,{"$f":"+IF(AZ327=\"\",\"\",MAX(AU$1:AU326)+1)","v":""},{"$f":"IF(CMS_Deviation_Detail!B349=\"\",\"\",CMS_Deviation_Detail!B349)","v":""},{"$f":"IF(CMS_Deviation_Detail!C349=\"\",\"\",CMS_Deviation_Detail!C349)","v":""},{"$f":"IF(CMS_Deviation_Detail!D349=\"\",\"\",CMS_Deviation_Detail!D349)","v":""},"",{"$f":"IF(COUNTIF(AY$2:AY327,AY327)=1,AY327,\"\")","v":""},"","","","",""]
[null,null,null,null,null,null,null,null,null,null,null,null,null,null,null,null,null,null,null,null,{"$f":"+IF(Z328=\"\",\"\",MAX(U$1:U327)+1)","v":""},{"$f":"IF(Limit_Deviation_Detail!B350=\"\",\"\",Limit_Deviation_Detail!B350)","v":""},{"$f":"IF(Limit_Deviation_Detail!C350=\"\",\"\",Limit_Deviation_Detail!C350)","v":""},{"$f":"IF(Limit_Deviation_Detail!E350=\"\",\"\",Limit_Deviation_Detail!E350)","v":""},"",{"$f":"IF(COUNTIF(Y$2:Y328,Y328)=1,Y328,\"\")","v":""},"","","","","",null,null,null,null,null,null,null,null,null,null,null,null,null,null,null,{"$f":"+IF(AZ328=\"\",\"\",MAX(AU$1:AU327)+1)","v":""},{"$f":"IF(CMS_Deviation_Detail!B350=\"\",\"\",CMS_Deviation_Detail!B350)","v":""},{"$f":"IF(CMS_Deviation_Detail!C350=\"\",\"\",CMS_Deviation_Detail!C350)","v":""},{"$f":"IF(CMS_Deviation_Detail!D350=\"\",\"\",CMS_Deviation_Detail!D350)","v":""},"",{"$f":"IF(COUNTIF(AY$2:AY328,AY328)=1,AY328,\"\")","v":""},"","","","",""]
[null,null,null,null,null,null,null,null,null,null,null,null,null,null,null,null,null,null,null,null,{"$f":"+IF(Z329=\"\",\"\",MAX(U$1:U328)+1)","v":""},{"$f":"IF(Limit_Deviation_Detail!B351=\"\",\"\",Limit_Deviation_Detail!B351)","v":""},{"$f":"IF(Limit_Deviation_Detail!C351=\"\",\"\",Limit_Deviation_Detail!C351)","v":""},{"$f":"IF(Limit_Deviation_Detail!E351=\"\",\"\",Limit_Deviation_Detail!E351)","v":""},"",{"$f":"IF(COUNTIF(Y$2:Y329,Y329)=1,Y329,\"\")","v":""},"","","","","",null,null,null,null,null,null,null,null,null,null,null,null,null,null,null,{"$f":"+IF(AZ329=\"\",\"\",MAX(AU$1:AU328)+1)","v":""},{"$f":"IF(CMS_Deviation_Detail!B351=\"\",\"\",CMS_Deviation_Detail!B351)","v":""},{"$f":"IF(CMS_Deviation_Detail!C351=\"\",\"\",CMS_Deviation_Detail!C351)","v":""},{"$f":"IF(CMS_Deviation_Detail!D351=\"\",\"\",CMS_Deviation_Detail!D351)","v":""},"",{"$f":"IF(COUNTIF(AY$2:AY329,AY329)=1,AY329,\"\")","v":""},"","","","",""]
[null,null,null,null,null,null,null,null,null,null,null,null,null,null,null,null,null,null,null,null,{"$f":"+IF(Z330=\"\",\"\",MAX(U$1:U329)+1)","v":""},{"$f":"IF(Limit_Deviation_Detail!B352=\"\",\"\",Limit_Deviation_Detail!B352)","v":""},{"$f":"IF(Limit_Deviation_Detail!C352=\"\",\"\",Limit_Deviation_Detail!C352)","v":""},{"$f":"IF(Limit_Deviation_Detail!E352=\"\",\"\",Limit_Deviation_Detail!E352)","v":""},"",{"$f":"IF(COUNTIF(Y$2:Y330,Y330)=1,Y330,\"\")","v":""},"","","","","",null,null,null,null,null,null,null,null,null,null,null,null,null,null,null,{"$f":"+IF(AZ330=\"\",\"\",MAX(AU$1:AU329)+1)","v":""},{"$f":"IF(CMS_Deviation_Detail!B352=\"\",\"\",CMS_Deviation_Detail!B352)","v":""},{"$f":"IF(CMS_Deviation_Detail!C352=\"\",\"\",CMS_Deviation_Detail!C352)","v":""},{"$f":"IF(CMS_Deviation_Detail!D352=\"\",\"\",CMS_Deviation_Detail!D352)","v":""},"",{"$f":"IF(COUNTIF(AY$2:AY330,AY330)=1,AY330,\"\")","v":""},"","","","",""]
[null,null,null,null,null,null,null,null,null,null,null,null,null,null,null,null,null,null,null,null,{"$f":"+IF(Z331=\"\",\"\",MAX(U$1:U330)+1)","v":""},{"$f":"IF(Limit_Deviation_Detail!B353=\"\",\"\",Limit_Deviation_Detail!B353)","v":""},{"$f":"IF(Limit_Deviation_Detail!C353=\"\",\"\",Limit_Deviation_Detail!C353)","v":""},{"$f":"IF(Limit_Deviation_Detail!E353=\"\",\"\",Limit_Deviation_Detail!E353)","v":""},"",{"$f":"IF(COUNTIF(Y$2:Y331,Y331)=1,Y331,\"\")","v":""},"","","","","",null,null,null,null,null,null,null,null,null,null,null,null,null,null,null,{"$f":"+IF(AZ331=\"\",\"\",MAX(AU$1:AU330)+1)","v":""},{"$f":"IF(CMS_Deviation_Detail!B353=\"\",\"\",CMS_Deviation_Detail!B353)","v":""},{"$f":"IF(CMS_Deviation_Detail!C353=\"\",\"\",CMS_Deviation_Detail!C353)","v":""},{"$f":"IF(CMS_Deviation_Detail!D353=\"\",\"\",CMS_Deviation_Detail!D353)","v":""},"",{"$f":"IF(COUNTIF(AY$2:AY331,AY331)=1,AY331,\"\")","v":""},"","","","",""]
[null,null,null,null,null,null,null,null,null,null,null,null,null,null,null,null,null,null,null,null,{"$f":"+IF(Z332=\"\",\"\",MAX(U$1:U331)+1)","v":""},{"$f":"IF(Limit_Deviation_Detail!B354=\"\",\"\",Limit_Deviation_Detail!B354)","v":""},{"$f":"IF(Limit_Deviation_Detail!C354=\"\",\"\",Limit_Deviation_Detail!C354)","v":""},{"$f":"IF(Limit_Deviation_Detail!E354=\"\",\"\",Limit_Deviation_Detail!E354)","v":""},"",{"$f":"IF(COUNTIF(Y$2:Y332,Y332)=1,Y332,\"\")","v":""},"","","","","",null,null,null,null,null,null,null,null,null,null,null,null,null,null,null,{"$f":"+IF(AZ332=\"\",\"\",MAX(AU$1:AU331)+1)","v":""},{"$f":"IF(CMS_Deviation_Detail!B354=\"\",\"\",CMS_Deviation_Detail!B354)","v":""},{"$f":"IF(CMS_Deviation_Detail!C354=\"\",\"\",CMS_Deviation_Detail!C354)","v":""},{"$f":"IF(CMS_Deviation_Detail!D354=\"\",\"\",CMS_Deviation_Detail!D354)","v":""},"",{"$f":"IF(COUNTIF(AY$2:AY332,AY332)=1,AY332,\"\")","v":""},"","","","",""]
[null,null,null,null,null,null,null,null,null,null,null,null,null,null,null,null,null,null,null,null,{"$f":"+IF(Z333=\"\",\"\",MAX(U$1:U332)+1)","v":""},{"$f":"IF(Limit_Deviation_Detail!B355=\"\",\"\",Limit_Deviation_Detail!B355)","v":""},{"$f":"IF(Limit_Deviation_Detail!C355=\"\",\"\",Limit_Deviation_Detail!C355)","v":""},{"$f":"IF(Limit_Deviation_Detail!E355=\"\",\"\",Limit_Deviation_Detail!E355)","v":""},"",{"$f":"IF(COUNTIF(Y$2:Y333,Y333)=1,Y333,\"\")","v":""},"","","","","",null,null,null,null,null,null,null,null,null,null,null,null,null,null,null,{"$f":"+IF(AZ333=\"\",\"\",MAX(AU$1:AU332)+1)","v":""},{"$f":"IF(CMS_Deviation_Detail!B355=\"\",\"\",CMS_Deviation_Detail!B355)","v":""},{"$f":"IF(CMS_Deviation_Detail!C355=\"\",\"\",CMS_Deviation_Detail!C355)","v":""},{"$f":"IF(CMS_Deviation_Detail!D355=\"\",\"\",CMS_Deviation_Detail!D355)","v":""},"",{"$f":"IF(COUNTIF(AY$2:AY333,AY333)=1,AY333,\"\")","v":""},"","","","",""]
[null,null,null,null,null,null,null,null,null,null,null,null,null,null,null,null,null,null,null,null,{"$f":"+IF(Z334=\"\",\"\",MAX(U$1:U333)+1)","v":""},{"$f":"IF(Limit_Deviation_Detail!B356=\"\",\"\",Limit_Deviation_Detail!B356)","v":""},{"$f":"IF(Limit_Deviation_Detail!C356=\"\",\"\",Limit_Deviation_Detail!C356)","v":""},{"$f":"IF(Limit_Deviation_Detail!E356=\"\",\"\",Limit_Deviation_Detail!E356)","v":""},"",{"$f":"IF(COUNTIF(Y$2:Y334,Y334)=1,Y334,\"\")","v":""},"","","","","",null,null,null,null,null,null,null,null,null,null,null,null,null,null,null,{"$f":"+IF(AZ334=\"\",\"\",MAX(AU$1:AU333)+1)","v":""},{"$f":"IF(CMS_Deviation_Detail!B356=\"\",\"\",CMS_Deviation_Detail!B356)","v":""},{"$f":"IF(CMS_Deviation_Detail!C356=\"\",\"\",CMS_Deviation_Detail!C356)","v":""},{"$f":"IF(CMS_Deviation_Detail!D356=\"\",\"\",CMS_Deviation_Detail!D356)","v":""},"",{"$f":"IF(COUNTIF(AY$2:AY334,AY334)=1,AY334,\"\")","v":""},"","","","",""]
[null,null,null,null,null,null,null,null,null,null,null,null,null,null,null,null,null,null,null,null,{"$f":"+IF(Z335=\"\",\"\",MAX(U$1:U334)+1)","v":""},{"$f":"IF(Limit_Deviation_Detail!B357=\"\",\"\",Limit_Deviation_Detail!B357)","v":""},{"$f":"IF(Limit_Deviation_Detail!C357=\"\",\"\",Limit_Deviation_Detail!C357)","v":""},{"$f":"IF(Limit_Deviation_Detail!E357=\"\",\"\",Limit_Deviation_Detail!E357)","v":""},"",{"$f":"IF(COUNTIF(Y$2:Y335,Y335)=1,Y335,\"\")","v":""},"","","","","",null,null,null,null,null,null,null,null,null,null,null,null,null,null,null,{"$f":"+IF(AZ335=\"\",\"\",MAX(AU$1:AU334)+1)","v":""},{"$f":"IF(CMS_Deviation_Detail!B357=\"\",\"\",CMS_Deviation_Detail!B357)","v":""},{"$f":"IF(CMS_Deviation_Detail!C357=\"\",\"\",CMS_Deviation_Detail!C357)","v":""},{"$f":"IF(CMS_Deviation_Detail!D357=\"\",\"\",CMS_Deviation_Detail!D357)","v":""},"",{"$f":"IF(COUNTIF(AY$2:AY335,AY335)=1,AY335,\"\")","v":""},"","","","",""]
[null,null,null,null,null,null,null,null,null,null,null,null,null,null,null,null,null,null,null,null,{"$f":"+IF(Z336=\"\",\"\",MAX(U$1:U335)+1)","v":""},{"$f":"IF(Limit_Deviation_Detail!B358=\"\",\"\",Limit_Deviation_Detail!B358)","v":""},{"$f":"IF(Limit_Deviation_Detail!C358=\"\",\"\",Limit_Deviation_Detail!C358)","v":""},{"$f":"IF(Limit_Deviation_Detail!E358=\"\",\"\",Limit_Deviation_Detail!E358)","v":""},"",{"$f":"IF(COUNTIF(Y$2:Y336,Y336)=1,Y336,\"\")","v":""},"","","","","",null,null,null,null,null,null,null,null,null,null,null,null,null,null,null,{"$f":"+IF(AZ336=\"\",\"\",MAX(AU$1:AU335)+1)","v":""},{"$f":"IF(CMS_Deviation_Detail!B358=\"\",\"\",CMS_Deviation_Detail!B358)","v":""},{"$f":"IF(CMS_Deviation_Detail!C358=\"\",\"\",CMS_Deviation_Detail!C358)","v":""},{"$f":"IF(CMS_Deviation_Detail!D358=\"\",\"\",CMS_Deviation_Detail!D358)","v":""},"",{"$f":"IF(COUNTIF(AY$2:AY336,AY336)=1,AY336,\"\")","v":""},"","","","",""]
[null,null,null,null,null,null,null,null,null,null,null,null,null,null,null,null,null,null,null,null,{"$f":"+IF(Z337=\"\",\"\",MAX(U$1:U336)+1)","v":""},{"$f":"IF(Limit_Deviation_Detail!B359=\"\",\"\",Limit_Deviation_Detail!B359)","v":""},{"$f":"IF(Limit_Deviation_Detail!C359=\"\",\"\",Limit_Deviation_Detail!C359)","v":""},{"$f":"IF(Limit_Deviation_Detail!E359=\"\",\"\",Limit_Deviation_Detail!E359)","v":""},"",{"$f":"IF(COUNTIF(Y$2:Y337,Y337)=1,Y337,\"\")","v":""},"","","","","",null,null,null,null,null,null,null,null,null,null,null,null,null,null,null,{"$f":"+IF(AZ337=\"\",\"\",MAX(AU$1:AU336)+1)","v":""},{"$f":"IF(CMS_Deviation_Detail!B359=\"\",\"\",CMS_Deviation_Detail!B359)","v":""},{"$f":"IF(CMS_Deviation_Detail!C359=\"\",\"\",CMS_Deviation_Detail!C359)","v":""},{"$f":"IF(CMS_Deviation_Detail!D359=\"\",\"\",CMS_Deviation_Detail!D359)","v":""},"",{"$f":"IF(COUNTIF(AY$2:AY337,AY337)=1,AY337,\"\")","v":""},"","","","",""]
[null,null,null,null,null,null,null,null,null,null,null,null,null,null,null,null,null,null,null,null,{"$f":"+IF(Z338=\"\",\"\",MAX(U$1:U337)+1)","v":""},{"$f":"IF(Limit_Deviation_Detail!B360=\"\",\"\",Limit_Deviation_Detail!B360)","v":""},{"$f":"IF(Limit_Deviation_Detail!C360=\"\",\"\",Limit_Deviation_Detail!C360)","v":""},{"$f":"IF(Limit_Deviation_Detail!E360=\"\",\"\",Limit_Deviation_Detail!E360)","v":""},"",{"$f":"IF(COUNTIF(Y$2:Y338,Y338)=1,Y338,\"\")","v":""},"","","","","",null,null,null,null,null,null,null,null,null,null,null,null,null,null,null,{"$f":"+IF(AZ338=\"\",\"\",MAX(AU$1:AU337)+1)","v":""},{"$f":"IF(CMS_Deviation_Detail!B360=\"\",\"\",CMS_Deviation_Detail!B360)","v":""},{"$f":"IF(CMS_Deviation_Detail!C360=\"\",\"\",CMS_Deviation_Detail!C360)","v":""},{"$f":"IF(CMS_Deviation_Detail!D360=\"\",\"\",CMS_Deviation_Detail!D360)","v":""},"",{"$f":"IF(COUNTIF(AY$2:AY338,AY338)=1,AY338,\"\")","v":""},"","","","",""]
[null,null,null,null,null,null,null,null,null,null,null,null,null,null,null,null,null,null,null,null,{"$f":"+IF(Z339=\"\",\"\",MAX(U$1:U338)+1)","v":""},{"$f":"IF(Limit_Deviation_Detail!B361=\"\",\"\",Limit_Deviation_Detail!B361)","v":""},{"$f":"IF(Limit_Deviation_Detail!C361=\"\",\"\",Limit_Deviation_Detail!C361)","v":""},{"$f":"IF(Limit_Deviation_Detail!E361=\"\",\"\",Limit_Deviation_Detail!E361)","v":""},"",{"$f":"IF(COUNTIF(Y$2:Y339,Y339)=1,Y339,\"\")","v":""},"","","","","",null,null,null,null,null,null,null,null,null,null,null,null,null,null,null,{"$f":"+IF(AZ339=\"\",\"\",MAX(AU$1:AU338)+1)","v":""},{"$f":"IF(CMS_Deviation_Detail!B361=\"\",\"\",CMS_Deviation_Detail!B361)","v":""},{"$f":"IF(CMS_Deviation_Detail!C361=\"\",\"\",CMS_Deviation_Detail!C361)","v":""},{"$f":"IF(CMS_Deviation_Detail!D361=\"\",\"\",CMS_Deviation_Detail!D361)","v":""},"",{"$f":"IF(COUNTIF(AY$2:AY339,AY339)=1,AY339,\"\")","v":""},"","","","",""]
[null,null,null,null,null,null,null,null,null,null,null,null,null,null,null,null,null,null,null,null,{"$f":"+IF(Z340=\"\",\"\",MAX(U$1:U339)+1)","v":""},{"$f":"IF(Limit_Deviation_Detail!B362=\"\",\"\",Limit_Deviation_Detail!B362)","v":""},{"$f":"IF(Limit_Deviation_Detail!C362=\"\",\"\",Limit_Deviation_Detail!C362)","v":""},{"$f":"IF(Limit_Deviation_Detail!E362=\"\",\"\",Limit_Deviation_Detail!E362)","v":""},"",{"$f":"IF(COUNTIF(Y$2:Y340,Y340)=1,Y340,\"\")","v":""},"","","","","",null,null,null,null,null,null,null,null,null,null,null,null,null,null,null,{"$f":"+IF(AZ340=\"\",\"\",MAX(AU$1:AU339)+1)","v":""},{"$f":"IF(CMS_Deviation_Detail!B362=\"\",\"\",CMS_Deviation_Detail!B362)","v":""},{"$f":"IF(CMS_Deviation_Detail!C362=\"\",\"\",CMS_Deviation_Detail!C362)","v":""},{"$f":"IF(CMS_Deviation_Detail!D362=\"\",\"\",CMS_Deviation_Detail!D362)","v":""},"",{"$f":"IF(COUNTIF(AY$2:AY340,AY340)=1,AY340,\"\")","v":""},"","","","",""]
[null,null,null,null,null,null,null,null,null,null,null,null,null,null,null,null,null,null,null,null,{"$f":"+IF(Z341=\"\",\"\",MAX(U$1:U340)+1)","v":""},{"$f":"IF(Limit_Deviation_Detail!B363=\"\",\"\",Limit_Deviation_Detail!B363)","v":""},{"$f":"IF(Limit_Deviation_Detail!C363=\"\",\"\",Limit_Deviation_Detail!C363)","v":""},{"$f":"IF(Limit_Deviation_Detail!E363=\"\",\"\",Limit_Deviation_Detail!E363)","v":""},"",{"$f":"IF(COUNTIF(Y$2:Y341,Y341)=1,Y341,\"\")","v":""},"","","","","",null,null,null,null,null,null,null,null,null,null,null,null,null,null,null,{"$f":"+IF(AZ341=\"\",\"\",MAX(AU$1:AU340)+1)","v":""},{"$f":"IF(CMS_Deviation_Detail!B363=\"\",\"\",CMS_Deviation_Detail!B363)","v":""},{"$f":"IF(CMS_Deviation_Detail!C363=\"\",\"\",CMS_Deviation_Detail!C363)","v":""},{"$f":"IF(CMS_Deviation_Detail!D363=\"\",\"\",CMS_Deviation_Detail!D363)","v":""},"",{"$f":"IF(COUNTIF(AY$2:AY341,AY341)=1,AY341,\"\")","v":""},"","","","",""]
[null,null,null,null,null,null,null,null,null,null,null,null,null,null,null,null,null,null,null,null,{"$f":"+IF(Z342=\"\",\"\",MAX(U$1:U341)+1)","v":""},{"$f":"IF(Limit_Deviation_Detail!B364=\"\",\"\",Limit_Deviation_Detail!B364)","v":""},{"$f":"IF(Limit_Deviation_Detail!C364=\"\",\"\",Limit_Deviation_Detail!C364)","v":""},{"$f":"IF(Limit_Deviation_Detail!E364=\"\",\"\",Limit_Deviation_Detail!E364)","v":""},"",{"$f":"IF(COUNTIF(Y$2:Y342,Y342)=1,Y342,\"\")","v":""},"","","","","",null,null,null,null,null,null,null,null,null,null,null,null,null,null,null,{"$f":"+IF(AZ342=\"\",\"\",MAX(AU$1:AU341)+1)","v":""},{"$f":"IF(CMS_Deviation_Detail!B364=\"\",\"\",CMS_Deviation_Detail!B364)","v":""},{"$f":"IF(CMS_Deviation_Detail!C364=\"\",\"\",CMS_Deviation_Detail!C364)","v":""},{"$f":"IF(CMS_Deviation_Detail!D364=\"\",\"\",CMS_Deviation_Detail!D364)","v":""},"",{"$f":"IF(COUNTIF(AY$2:AY342,AY342)=1,AY342,\"\")","v":""},"","","","",""]
[null,null,null,null,null,null,null,null,null,null,null,null,null,null,null,null,null,null,null,null,{"$f":"+IF(Z343=\"\",\"\",MAX(U$1:U342)+1)","v":""},{"$f":"IF(Limit_Deviation_Detail!B365=\"\",\"\",Limit_Deviation_Detail!B365)","v":""},{"$f":"IF(Limit_Deviation_Detail!C365=\"\",\"\",Limit_Deviation_Detail!C365)","v":""},{"$f":"IF(Limit_Deviation_Detail!E365=\"\",\"\",Limit_Deviation_Detail!E365)","v":""},"",{"$f":"IF(COUNTIF(Y$2:Y343,Y343)=1,Y343,\"\")","v":""},"","","","","",null,null,null,null,null,null,null,null,null,null,null,null,null,null,null,{"$f":"+IF(AZ343=\"\",\"\",MAX(AU$1:AU342)+1)","v":""},{"$f":"IF(CMS_Deviation_Detail!B365=\"\",\"\",CMS_Deviation_Detail!B365)","v":""},{"$f":"IF(CMS_Deviation_Detail!C365=\"\",\"\",CMS_Deviation_Detail!C365)","v":""},{"$f":"IF(CMS_Deviation_Detail!D365=\"\",\"\",CMS_Deviation_Detail!D365)","v":""},"",{"$f":"IF(COUNTIF(AY$2:AY343,AY343)=1,AY343,\"\")","v":""},"","","","",""]
[null,null,null,null,null,null,null,null,null,null,null,null,null,null,null,null,null,null,null,null,{"$f":"+IF(Z344=\"\",\"\",MAX(U$1:U343)+1)","v":""},{"$f":"IF(Limit_Deviation_Detail!B366=\"\",\"\",Limit_Deviation_Detail!B366)","v":""},{"$f":"IF(Limit_Deviation_Detail!C366=\"\",\"\",Limit_Deviation_Detail!C366)","v":""},{"$f":"IF(Limit_Deviation_Detail!E366=\"\",\"\",Limit_Deviation_Detail!E366)","v":""},"",{"$f":"IF(COUNTIF(Y$2:Y344,Y344)=1,Y344,\"\")","v":""},"","","","","",null,null,null,null,null,null,null,null,null,null,null,null,null,null,null,{"$f":"+IF(AZ344=\"\",\"\",MAX(AU$1:AU343)+1)","v":""},{"$f":"IF(CMS_Deviation_Detail!B366=\"\",\"\",CMS_Deviation_Detail!B366)","v":""},{"$f":"IF(CMS_Deviation_Detail!C366=\"\",\"\",CMS_Deviation_Detail!C366)","v":""},{"$f":"IF(CMS_Deviation_Detail!D366=\"\",\"\",CMS_Deviation_Detail!D366)","v":""},"",{"$f":"IF(COUNTIF(AY$2:AY344,AY344)=1,AY344,\"\")","v":""},"","","","",""]
[null,null,null,null,null,null,null,null,null,null,null,null,null,null,null,null,null,null,null,null,{"$f":"+IF(Z345=\"\",\"\",MAX(U$1:U344)+1)","v":""},{"$f":"IF(Limit_Deviation_Detail!B367=\"\",\"\",Limit_Deviation_Detail!B367)","v":""},{"$f":"IF(Limit_Deviation_Detail!C367=\"\",\"\",Limit_Deviation_Detail!C367)","v":""},{"$f":"IF(Limit_Deviation_Detail!E367=\"\",\"\",Limit_Deviation_Detail!E367)","v":""},"",{"$f":"IF(COUNTIF(Y$2:Y345,Y345)=1,Y345,\"\")","v":""},"","","","","",null,null,null,null,null,null,null,null,null,null,null,null,null,null,null,{"$f":"+IF(AZ345=\"\",\"\",MAX(AU$1:AU344)+1)","v":""},{"$f":"IF(CMS_Deviation_Detail!B367=\"\",\"\",CMS_Deviation_Detail!B367)","v":""},{"$f":"IF(CMS_Deviation_Detail!C367=\"\",\"\",CMS_Deviation_Detail!C367)","v":""},{"$f":"IF(CMS_Deviation_Detail!D367=\"\",\"\",CMS_Deviation_Detail!D367)","v":""},"",{"$f":"IF(COUNTIF(AY$2:AY345,AY345)=1,AY345,\"\")","v":""},"","","","",""]
[null,null,null,null,null,null,null,null,null,null,null,null,null,null,null,null,null,null,null,null,{"$f":"+IF(Z346=\"\",\"\",MAX(U$1:U345)+1)","v":""},{"$f":"IF(Limit_Deviation_Detail!B368=\"\",\"\",Limit_Deviation_Detail!B368)","v":""},{"$f":"IF(Limit_Deviation_Detail!C368=\"\",\"\",Limit_Deviation_Detail!C368)","v":""},{"$f":"IF(Limit_Deviation_Detail!E368=\"\",\"\",Limit_Deviation_Detail!E368)","v":""},"",{"$f":"IF(COUNTIF(Y$2:Y346,Y346)=1,Y346,\"\")","v":""},"","","","","",null,null,null,null,null,null,null,null,null,null,null,null,null,null,null,{"$f":"+IF(AZ346=\"\",\"\",MAX(AU$1:AU345)+1)","v":""},{"$f":"IF(CMS_Deviation_Detail!B368=\"\",\"\",CMS_Deviation_Detail!B368)","v":""},{"$f":"IF(CMS_Deviation_Detail!C368=\"\",\"\",CMS_Deviation_Detail!C368)","v":""},{"$f":"IF(CMS_Deviation_Detail!D368=\"\",\"\",CMS_Deviation_Detail!D368)","v":""},"",{"$f":"IF(COUNTIF(AY$2:AY346,AY346)=1,AY346,\"\")","v":""},"","","","",""]
[null,null,null,null,null,null,null,null,null,null,null,null,null,null,null,null,null,null,null,null,{"$f":"+IF(Z347=\"\",\"\",MAX(U$1:U346)+1)","v":""},{"$f":"IF(Limit_Deviation_Detail!B369=\"\",\"\",Limit_Deviation_Detail!B369)","v":""},{"$f":"IF(Limit_Deviation_Detail!C369=\"\",\"\",Limit_Deviation_Detail!C369)","v":""},{"$f":"IF(Limit_Deviation_Detail!E369=\"\",\"\",Limit_Deviation_Detail!E369)","v":""},"",{"$f":"IF(COUNTIF(Y$2:Y347,Y347)=1,Y347,\"\")","v":""},"","","","","",null,null,null,null,null,null,null,null,null,null,null,null,null,null,null,{"$f":"+IF(AZ347=\"\",\"\",MAX(AU$1:AU346)+1)","v":""},{"$f":"IF(CMS_Deviation_Detail!B369=\"\",\"\",CMS_Deviation_Detail!B369)","v":""},{"$f":"IF(CMS_Deviation_Detail!C369=\"\",\"\",CMS_Deviation_Detail!C369)","v":""},{"$f":"IF(CMS_Deviation_Detail!D369=\"\",\"\",CMS_Deviation_Detail!D369)","v":""},"",{"$f":"IF(COUNTIF(AY$2:AY347,AY347)=1,AY347,\"\")","v":""},"","","","",""]
[null,null,null,null,null,null,null,null,null,null,null,null,null,null,null,null,null,null,null,null,{"$f":"+IF(Z348=\"\",\"\",MAX(U$1:U347)+1)","v":""},{"$f":"IF(Limit_Deviation_Detail!B370=\"\",\"\",Limit_Deviation_Detail!B370)","v":""},{"$f":"IF(Limit_Deviation_Detail!C370=\"\",\"\",Limit_Deviation_Detail!C370)","v":""},{"$f":"IF(Limit_Deviation_Detail!E370=\"\",\"\",Limit_Deviation_Detail!E370)","v":""},"",{"$f":"IF(COUNTIF(Y$2:Y348,Y348)=1,Y348,\"\")","v":""},"","","","","",null,null,null,null,null,null,null,null,null,null,null,null,null,null,null,{"$f":"+IF(AZ348=\"\",\"\",MAX(AU$1:AU347)+1)","v":""},{"$f":"IF(CMS_Deviation_Detail!B370=\"\",\"\",CMS_Deviation_Detail!B370)","v":""},{"$f":"IF(CMS_Deviation_Detail!C370=\"\",\"\",CMS_Deviation_Detail!C370)","v":""},{"$f":"IF(CMS_Deviation_Detail!D370=\"\",\"\",CMS_Deviation_Detail!D370)","v":""},"",{"$f":"IF(COUNTIF(AY$2:AY348,AY348)=1,AY348,\"\")","v":""},"","","","",""]
[null,null,null,null,null,null,null,null,null,null,null,null,null,null,null,null,null,null,null,null,{"$f":"+IF(Z349=\"\",\"\",MAX(U$1:U348)+1)","v":""},{"$f":"IF(Limit_Deviation_Detail!B371=\"\",\"\",Limit_Deviation_Detail!B371)","v":""},{"$f":"IF(Limit_Deviation_Detail!C371=\"\",\"\",Limit_Deviation_Detail!C371)","v":""},{"$f":"IF(Limit_Deviation_Detail!E371=\"\",\"\",Limit_Deviation_Detail!E371)","v":""},"",{"$f":"IF(COUNTIF(Y$2:Y349,Y349)=1,Y349,\"\")","v":""},"","","","","",null,null,null,null,null,null,null,null,null,null,null,null,null,null,null,{"$f":"+IF(AZ349=\"\",\"\",MAX(AU$1:AU348)+1)","v":""},{"$f":"IF(CMS_Deviation_Detail!B371=\"\",\"\",CMS_Deviation_Detail!B371)","v":""},{"$f":"IF(CMS_Deviation_Detail!C371=\"\",\"\",CMS_Deviation_Detail!C371)","v":""},{"$f":"IF(CMS_Deviation_Detail!D371=\"\",\"\",CMS_Deviation_Detail!D371)","v":""},"",{"$f":"IF(COUNTIF(AY$2:AY349,AY349)=1,AY349,\"\")","v":""},"","","","",""]
[null,null,null,null,null,null,null,null,null,null,null,null,null,null,null,null,null,null,null,null,{"$f":"+IF(Z350=\"\",\"\",MAX(U$1:U349)+1)","v":""},{"$f":"IF(Limit_Deviation_Detail!B372=\"\",\"\",Limit_Deviation_Detail!B372)","v":""},{"$f":"IF(Limit_Deviation_Detail!C372=\"\",\"\",Limit_Deviation_Detail!C372)","v":""},{"$f":"IF(Limit_Deviation_Detail!E372=\"\",\"\",Limit_Deviation_Detail!E372)","v":""},"",{"$f":"IF(COUNTIF(Y$2:Y350,Y350)=1,Y350,\"\")","v":""},"","","","","",null,null,null,null,null,null,null,null,null,null,null,null,null,null,null,{"$f":"+IF(AZ350=\"\",\"\",MAX(AU$1:AU349)+1)","v":""},{"$f":"IF(CMS_Deviation_Detail!B372=\"\",\"\",CMS_Deviation_Detail!B372)","v":""},{"$f":"IF(CMS_Deviation_Detail!C372=\"\",\"\",CMS_Deviation_Detail!C372)","v":""},{"$f":"IF(CMS_Deviation_Detail!D372=\"\",\"\",CMS_Deviation_Detail!D372)","v":""},"",{"$f":"IF(COUNTIF(AY$2:AY350,AY350)=1,AY350,\"\")","v":""},"","","","",""]
[null,null,null,null,null,null,null,null,null,null,null,null,null,null,null,null,null,null,null,null,{"$f":"+IF(Z351=\"\",\"\",MAX(U$1:U350)+1)","v":""},{"$f":"IF(Limit_Deviation_Detail!B373=\"\",\"\",Limit_Deviation_Detail!B373)","v":""},{"$f":"IF(Limit_Deviation_Detail!C373=\"\",\"\",Limit_Deviation_Detail!C373)","v":""},{"$f":"IF(Limit_Deviation_Detail!E373=\"\",\"\",Limit_Deviation_Detail!E373)","v":""},"",{"$f":"IF(COUNTIF(Y$2:Y351,Y351)=1,Y351,\"\")","v":""},"","","","","",null,null,null,null,null,null,null,null,null,null,null,null,null,null,null,{"$f":"+IF(AZ351=\"\",\"\",MAX(AU$1:AU350)+1)","v":""},{"$f":"IF(CMS_Deviation_Detail!B373=\"\",\"\",CMS_Deviation_Detail!B373)","v":""},{"$f":"IF(CMS_Deviation_Detail!C373=\"\",\"\",CMS_Deviation_Detail!C373)","v":""},{"$f":"IF(CMS_Deviation_Detail!D373=\"\",\"\",CMS_Deviation_Detail!D373)","v":""},"",{"$f":"IF(COUNTIF(AY$2:AY351,AY351)=1,AY351,\"\")","v":""},"","","","",""]
[null,null,null,null,null,null,null,null,null,null,null,null,null,null,null,null,null,null,null,null,{"$f":"+IF(Z352=\"\",\"\",MAX(U$1:U351)+1)","v":""},{"$f":"IF(Limit_Deviation_Detail!B374=\"\",\"\",Limit_Deviation_Detail!B374)","v":""},{"$f":"IF(Limit_Deviation_Detail!C374=\"\",\"\",Limit_Deviation_Detail!C374)","v":""},{"$f":"IF(Limit_Deviation_Detail!E374=\"\",\"\",Limit_Deviation_Detail!E374)","v":""},"",{"$f":"IF(COUNTIF(Y$2:Y352,Y352)=1,Y352,\"\")","v":""},"","","","","",null,null,null,null,null,null,null,null,null,null,null,null,null,null,null,{"$f":"+IF(AZ352=\"\",\"\",MAX(AU$1:AU351)+1)","v":""},{"$f":"IF(CMS_Deviation_Detail!B374=\"\",\"\",CMS_Deviation_Detail!B374)","v":""},{"$f":"IF(CMS_Deviation_Detail!C374=\"\",\"\",CMS_Deviation_Detail!C374)","v":""},{"$f":"IF(CMS_Deviation_Detail!D374=\"\",\"\",CMS_Deviation_Detail!D374)","v":""},"",{"$f":"IF(COUNTIF(AY$2:AY352,AY352)=1,AY352,\"\")","v":""},"","","","",""]
[null,null,null,null,null,null,null,null,null,null,null,null,null,null,null,null,null,null,null,null,{"$f":"+IF(Z353=\"\",\"\",MAX(U$1:U352)+1)","v":""},{"$f":"IF(Limit_Deviation_Detail!B375=\"\",\"\",Limit_Deviation_Detail!B375)","v":""},{"$f":"IF(Limit_Deviation_Detail!C375=\"\",\"\",Limit_Deviation_Detail!C375)","v":""},{"$f":"IF(Limit_Deviation_Detail!E375=\"\",\"\",Limit_Deviation_Detail!E375)","v":""},"",{"$f":"IF(COUNTIF(Y$2:Y353,Y353)=1,Y353,\"\")","v":""},"","","","","",null,null,null,null,null,null,null,null,null,null,null,null,null,null,null,{"$f":"+IF(AZ353=\"\",\"\",MAX(AU$1:AU352)+1)","v":""},{"$f":"IF(CMS_Deviation_Detail!B375=\"\",\"\",CMS_Deviation_Detail!B375)","v":""},{"$f":"IF(CMS_Deviation_Detail!C375=\"\",\"\",CMS_Deviation_Detail!C375)","v":""},{"$f":"IF(CMS_Deviation_Detail!D375=\"\",\"\",CMS_Deviation_Detail!D375)","v":""},"",{"$f":"IF(COUNTIF(AY$2:AY353,AY353)=1,AY353,\"\")","v":""},"","","","",""]
[null,null,null,null,null,null,null,null,null,null,null,null,null,null,null,null,null,null,null,null,{"$f":"+IF(Z354=\"\",\"\",MAX(U$1:U353)+1)","v":""},{"$f":"IF(Limit_Deviation_Detail!B376=\"\",\"\",Limit_Deviation_Detail!B376)","v":""},{"$f":"IF(Limit_Deviation_Detail!C376=\"\",\"\",Limit_Deviation_Detail!C376)","v":""},{"$f":"IF(Limit_Deviation_Detail!E376=\"\",\"\",Limit_Deviation_Detail!E376)","v":""},"",{"$f":"IF(COUNTIF(Y$2:Y354,Y354)=1,Y354,\"\")","v":""},"","","","","",null,null,null,null,null,null,null,null,null,null,null,null,null,null,null,{"$f":"+IF(AZ354=\"\",\"\",MAX(AU$1:AU353)+1)","v":""},{"$f":"IF(CMS_Deviation_Detail!B376=\"\",\"\",CMS_Deviation_Detail!B376)","v":""},{"$f":"IF(CMS_Deviation_Detail!C376=\"\",\"\",CMS_Deviation_Detail!C376)","v":""},{"$f":"IF(CMS_Deviation_Detail!D376=\"\",\"\",CMS_Deviation_Detail!D376)","v":""},"",{"$f":"IF(COUNTIF(AY$2:AY354,AY354)=1,AY354,\"\")","v":""},"","","","",""]
[null,null,null,null,null,null,null,null,null,null,null,null,null,null,null,null,null,null,null,null,{"$f":"+IF(Z355=\"\",\"\",MAX(U$1:U354)+1)","v":""},{"$f":"IF(Limit_Deviation_Detail!B377=\"\",\"\",Limit_Deviation_Detail!B377)","v":""},{"$f":"IF(Limit_Deviation_Detail!C377=\"\",\"\",Limit_Deviation_Detail!C377)","v":""},{"$f":"IF(Limit_Deviation_Detail!E377=\"\",\"\",Limit_Deviation_Detail!E377)","v":""},"",{"$f":"IF(COUNTIF(Y$2:Y355,Y355)=1,Y355,\"\")","v":""},"","","","","",null,null,null,null,null,null,null,null,null,null,null,null,null,null,null,{"$f":"+IF(AZ355=\"\",\"\",MAX(AU$1:AU354)+1)","v":""},{"$f":"IF(CMS_Deviation_Detail!B377=\"\",\"\",CMS_Deviation_Detail!B377)","v":""},{"$f":"IF(CMS_Deviation_Detail!C377=\"\",\"\",CMS_Deviation_Detail!C377)","v":""},{"$f":"IF(CMS_Deviation_Detail!D377=\"\",\"\",CMS_Deviation_Detail!D377)","v":""},"",{"$f":"IF(COUNTIF(AY$2:AY355,AY355)=1,AY355,\"\")","v":""},"","","","",""]
[null,null,null,null,null,null,null,null,null,null,null,null,null,null,null,null,null,null,null,null,{"$f":"+IF(Z356=\"\",\"\",MAX(U$1:U355)+1)","v":""},{"$f":"IF(Limit_Deviation_Detail!B378=\"\",\"\",Limit_Deviation_Detail!B378)","v":""},{"$f":"IF(Limit_Deviation_Detail!C378=\"\",\"\",Limit_Deviation_Detail!C378)","v":""},{"$f":"IF(Limit_Deviation_Detail!E378=\"\",\"\",Limit_Deviation_Detail!E378)","v":""},"",{"$f":"IF(COUNTIF(Y$2:Y356,Y356)=1,Y356,\"\")","v":""},"","","","","",null,null,null,null,null,null,null,null,null,null,null,null,null,null,null,{"$f":"+IF(AZ356=\"\",\"\",MAX(AU$1:AU355)+1)","v":""},{"$f":"IF(CMS_Deviation_Detail!B378=\"\",\"\",CMS_Deviation_Detail!B378)","v":""},{"$f":"IF(CMS_Deviation_Detail!C378=\"\",\"\",CMS_Deviation_Detail!C378)","v":""},{"$f":"IF(CMS_Deviation_Detail!D378=\"\",\"\",CMS_Deviation_Detail!D378)","v":""},"",{"$f":"IF(COUNTIF(AY$2:AY356,AY356)=1,AY356,\"\")","v":""},"","","","",""]
[null,null,null,null,null,null,null,null,null,null,null,null,null,null,null,null,null,null,null,null,{"$f":"+IF(Z357=\"\",\"\",MAX(U$1:U356)+1)","v":""},{"$f":"IF(Limit_Deviation_Detail!B379=\"\",\"\",Limit_Deviation_Detail!B379)","v":""},{"$f":"IF(Limit_Deviation_Detail!C379=\"\",\"\",Limit_Deviation_Detail!C379)","v":""},{"$f":"IF(Limit_Deviation_Detail!E379=\"\",\"\",Limit_Deviation_Detail!E379)","v":""},"",{"$f":"IF(COUNTIF(Y$2:Y357,Y357)=1,Y357,\"\")","v":""},"","","","","",null,null,null,null,null,null,null,null,null,null,null,null,null,null,null,{"$f":"+IF(AZ357=\"\",\"\",MAX(AU$1:AU356)+1)","v":""},{"$f":"IF(CMS_Deviation_Detail!B379=\"\",\"\",CMS_Deviation_Detail!B379)","v":""},{"$f":"IF(CMS_Deviation_Detail!C379=\"\",\"\",CMS_Deviation_Detail!C379)","v":""},{"$f":"IF(CMS_Deviation_Detail!D379=\"\",\"\",CMS_Deviation_Detail!D379)","v":""},"",{"$f":"IF(COUNTIF(AY$2:AY357,AY357)=1,AY357,\"\")","v":""},"","","","",""]
[null,null,null,null,null,null,null,null,null,null,null,null,null,null,null,null,null,null,null,null,{"$f":"+IF(Z358=\"\",\"\",MAX(U$1:U357)+1)","v":""},{"$f":"IF(Limit_Deviation_Detail!B380=\"\",\"\",Limit_Deviation_Detail!B380)","v":""},{"$f":"IF(Limit_Deviation_Detail!C380=\"\",\"\",Limit_Deviation_Detail!C380)","v":""},{"$f":"IF(Limit_Deviation_Detail!E380=\"\",\"\",Limit_Deviation_Detail!E380)","v":""},"",{"$f":"IF(COUNTIF(Y$2:Y358,Y358)=1,Y358,\"\")","v":""},"","","","","",null,null,null,null,null,null,null,null,null,null,null,null,null,null,null,{"$f":"+IF(AZ358=\"\",\"\",MAX(AU$1:AU357)+1)","v":""},{"$f":"IF(CMS_Deviation_Detail!B380=\"\",\"\",CMS_Deviation_Detail!B380)","v":""},{"$f":"IF(CMS_Deviation_Detail!C380=\"\",\"\",CMS_Deviation_Detail!C380)","v":""},{"$f":"IF(CMS_Deviation_Detail!D380=\"\",\"\",CMS_Deviation_Detail!D380)","v":""},"",{"$f":"IF(COUNTIF(AY$2:AY358,AY358)=1,AY358,\"\")","v":""},"","","","",""]
[null,null,null,null,null,null,null,null,null,null,null,null,null,null,null,null,null,null,null,null,{"$f":"+IF(Z359=\"\",\"\",MAX(U$1:U358)+1)","v":""},{"$f":"IF(Limit_Deviation_Detail!B381=\"\",\"\",Limit_Deviation_Detail!B381)","v":""},{"$f":"IF(Limit_Deviation_Detail!C381=\"\",\"\",Limit_Deviation_Detail!C381)","v":""},{"$f":"IF(Limit_Deviation_Detail!E381=\"\",\"\",Limit_Deviation_Detail!E381)","v":""},"",{"$f":"IF(COUNTIF(Y$2:Y359,Y359)=1,Y359,\"\")","v":""},"","","","","",null,null,null,null,null,null,null,null,null,null,null,null,null,null,null,{"$f":"+IF(AZ359=\"\",\"\",MAX(AU$1:AU358)+1)","v":""},{"$f":"IF(CMS_Deviation_Detail!B381=\"\",\"\",CMS_Deviation_Detail!B381)","v":""},{"$f":"IF(CMS_Deviation_Detail!C381=\"\",\"\",CMS_Deviation_Detail!C381)","v":""},{"$f":"IF(CMS_Deviation_Detail!D381=\"\",\"\",CMS_Deviation_Detail!D381)","v":""},"",{"$f":"IF(COUNTIF(AY$2:AY359,AY359)=1,AY359,\"\")","v":""},"","","","",""]
[null,null,null,null,null,null,null,null,null,null,null,null,null,null,null,null,null,null,null,null,{"$f":"+IF(Z360=\"\",\"\",MAX(U$1:U359)+1)","v":""},{"$f":"IF(Limit_Deviation_Detail!B382=\"\",\"\",Limit_Deviation_Detail!B382)","v":""},{"$f":"IF(Limit_Deviation_Detail!C382=\"\",\"\",Limit_Deviation_Detail!C382)","v":""},{"$f":"IF(Limit_Deviation_Detail!E382=\"\",\"\",Limit_Deviation_Detail!E382)","v":""},"",{"$f":"IF(COUNTIF(Y$2:Y360,Y360)=1,Y360,\"\")","v":""},"","","","","",null,null,null,null,null,null,null,null,null,null,null,null,null,null,null,{"$f":"+IF(AZ360=\"\",\"\",MAX(AU$1:AU359)+1)","v":""},{"$f":"IF(CMS_Deviation_Detail!B382=\"\",\"\",CMS_Deviation_Detail!B382)","v":""},{"$f":"IF(CMS_Deviation_Detail!C382=\"\",\"\",CMS_Deviation_Detail!C382)","v":""},{"$f":"IF(CMS_Deviation_Detail!D382=\"\",\"\",CMS_Deviation_Detail!D382)","v":""},"",{"$f":"IF(COUNTIF(AY$2:AY360,AY360)=1,AY360,\"\")","v":""},"","","","",""]
[null,null,null,null,null,null,null,null,null,null,null,null,null,null,null,null,null,null,null,null,{"$f":"+IF(Z361=\"\",\"\",MAX(U$1:U360)+1)","v":""},{"$f":"IF(Limit_Deviation_Detail!B383=\"\",\"\",Limit_Deviation_Detail!B383)","v":""},{"$f":"IF(Limit_Deviation_Detail!C383=\"\",\"\",Limit_Deviation_Detail!C383)","v":""},{"$f":"IF(Limit_Deviation_Detail!E383=\"\",\"\",Limit_Deviation_Detail!E383)","v":""},"",{"$f":"IF(COUNTIF(Y$2:Y361,Y361)=1,Y361,\"\")","v":""},"","","","","",null,null,null,null,null,null,null,null,null,null,null,null,null,null,null,{"$f":"+IF(AZ361=\"\",\"\",MAX(AU$1:AU360)+1)","v":""},{"$f":"IF(CMS_Deviation_Detail!B383=\"\",\"\",CMS_Deviation_Detail!B383)","v":""},{"$f":"IF(CMS_Deviation_Detail!C383=\"\",\"\",CMS_Deviation_Detail!C383)","v":""},{"$f":"IF(CMS_Deviation_Detail!D383=\"\",\"\",CMS_Deviation_Detail!D383)","v":""},"",{"$f":"IF(COUNTIF(AY$2:AY361,AY361)=1,AY361,\"\")","v":""},"","","","",""]
[null,null,null,null,null,null,null,null,null,null,null,null,null,null,null,null,null,null,null,null,{"$f":"+IF(Z362=\"\",\"\",MAX(U$1:U361)+1)","v":""},{"$f":"IF(Limit_Deviation_Detail!B384=\"\",\"\",Limit_Deviation_Detail!B384)","v":""},{"$f":"IF(Limit_Deviation_Detail!C384=\"\",\"\",Limit_Deviation_Detail!C384)","v":""},{"$f":"IF(Limit_Deviation_Detail!E384=\"\",\"\",Limit_Deviation_Detail!E384)","v":""},"",{"$f":"IF(COUNTIF(Y$2:Y362,Y362)=1,Y362,\"\")","v":""},"","","","","",null,null,null,null,null,null,null,null,null,null,null,null,null,null,null,{"$f":"+IF(AZ362=\"\",\"\",MAX(AU$1:AU361)+1)","v":""},{"$f":"IF(CMS_Deviation_Detail!B384=\"\",\"\",CMS_Deviation_Detail!B384)","v":""},{"$f":"IF(CMS_Deviation_Detail!C384=\"\",\"\",CMS_Deviation_Detail!C384)","v":""},{"$f":"IF(CMS_Deviation_Detail!D384=\"\",\"\",CMS_Deviation_Detail!D384)","v":""},"",{"$f":"IF(COUNTIF(AY$2:AY362,AY362)=1,AY362,\"\")","v":""},"","","","",""]
[null,null,null,null,null,null,null,null,null,null,null,null,null,null,null,null,null,null,null,null,{"$f":"+IF(Z363=\"\",\"\",MAX(U$1:U362)+1)","v":""},{"$f":"IF(Limit_Deviation_Detail!B385=\"\",\"\",Limit_Deviation_Detail!B385)","v":""},{"$f":"IF(Limit_Deviation_Detail!C385=\"\",\"\",Limit_Deviation_Detail!C385)","v":""},{"$f":"IF(Limit_Deviation_Detail!E385=\"\",\"\",Limit_Deviation_Detail!E385)","v":""},"",{"$f":"IF(COUNTIF(Y$2:Y363,Y363)=1,Y363,\"\")","v":""},"","","","","",null,null,null,null,null,null,null,null,null,null,null,null,null,null,null,{"$f":"+IF(AZ363=\"\",\"\",MAX(AU$1:AU362)+1)","v":""},{"$f":"IF(CMS_Deviation_Detail!B385=\"\",\"\",CMS_Deviation_Detail!B385)","v":""},{"$f":"IF(CMS_Deviation_Detail!C385=\"\",\"\",CMS_Deviation_Detail!C385)","v":""},{"$f":"IF(CMS_Deviation_Detail!D385=\"\",\"\",CMS_Deviation_Detail!D385)","v":""},"",{"$f":"IF(COUNTIF(AY$2:AY363,AY363)=1,AY363,\"\")","v":""},"","","","",""]
[null,null,null,null,null,null,null,null,null,null,null,null,null,null,null,null,null,null,null,null,{"$f":"+IF(Z364=\"\",\"\",MAX(U$1:U363)+1)","v":""},{"$f":"IF(Limit_Deviation_Detail!B386=\"\",\"\",Limit_Deviation_Detail!B386)","v":""},{"$f":"IF(Limit_Deviation_Detail!C386=\"\",\"\",Limit_Deviation_Detail!C386)","v":""},{"$f":"IF(Limit_Deviation_Detail!E386=\"\",\"\",Limit_Deviation_Detail!E386)","v":""},"",{"$f":"IF(COUNTIF(Y$2:Y364,Y364)=1,Y364,\"\")","v":""},"","","","","",null,null,null,null,null,null,null,null,null,null,null,null,null,null,null,{"$f":"+IF(AZ364=\"\",\"\",MAX(AU$1:AU363)+1)","v":""},{"$f":"IF(CMS_Deviation_Detail!B386=\"\",\"\",CMS_Deviation_Detail!B386)","v":""},{"$f":"IF(CMS_Deviation_Detail!C386=\"\",\"\",CMS_Deviation_Detail!C386)","v":""},{"$f":"IF(CMS_Deviation_Detail!D386=\"\",\"\",CMS_Deviation_Detail!D386)","v":""},"",{"$f":"IF(COUNTIF(AY$2:AY364,AY364)=1,AY364,\"\")","v":""},"","","","",""]
[null,null,null,null,null,null,null,null,null,null,null,null,null,null,null,null,null,null,null,null,{"$f":"+IF(Z365=\"\",\"\",MAX(U$1:U364)+1)","v":""},{"$f":"IF(Limit_Deviation_Detail!B387=\"\",\"\",Limit_Deviation_Detail!B387)","v":""},{"$f":"IF(Limit_Deviation_Detail!C387=\"\",\"\",Limit_Deviation_Detail!C387)","v":""},{"$f":"IF(Limit_Deviation_Detail!E387=\"\",\"\",Limit_Deviation_Detail!E387)","v":""},"",{"$f":"IF(COUNTIF(Y$2:Y365,Y365)=1,Y365,\"\")","v":""},"","","","","",null,null,null,null,null,null,null,null,null,null,null,null,null,null,null,{"$f":"+IF(AZ365=\"\",\"\",MAX(AU$1:AU364)+1)","v":""},{"$f":"IF(CMS_Deviation_Detail!B387=\"\",\"\",CMS_Deviation_Detail!B387)","v":""},{"$f":"IF(CMS_Deviation_Detail!C387=\"\",\"\",CMS_Deviation_Detail!C387)","v":""},{"$f":"IF(CMS_Deviation_Detail!D387=\"\",\"\",CMS_Deviation_Detail!D387)","v":""},"",{"$f":"IF(COUNTIF(AY$2:AY365,AY365)=1,AY365,\"\")","v":""},"","","","",""]
[null,null,null,null,null,null,null,null,null,null,null,null,null,null,null,null,null,null,null,null,{"$f":"+IF(Z366=\"\",\"\",MAX(U$1:U365)+1)","v":""},{"$f":"IF(Limit_Deviation_Detail!B388=\"\",\"\",Limit_Deviation_Detail!B388)","v":""},{"$f":"IF(Limit_Deviation_Detail!C388=\"\",\"\",Limit_Deviation_Detail!C388)","v":""},{"$f":"IF(Limit_Deviation_Detail!E388=\"\",\"\",Limit_Deviation_Detail!E388)","v":""},"",{"$f":"IF(COUNTIF(Y$2:Y366,Y366)=1,Y366,\"\")","v":""},"","","","","",null,null,null,null,null,null,null,null,null,null,null,null,null,null,null,{"$f":"+IF(AZ366=\"\",\"\",MAX(AU$1:AU365)+1)","v":""},{"$f":"IF(CMS_Deviation_Detail!B388=\"\",\"\",CMS_Deviation_Detail!B388)","v":""},{"$f":"IF(CMS_Deviation_Detail!C388=\"\",\"\",CMS_Deviation_Detail!C388)","v":""},{"$f":"IF(CMS_Deviation_Detail!D388=\"\",\"\",CMS_Deviation_Detail!D388)","v":""},"",{"$f":"IF(COUNTIF(AY$2:AY366,AY366)=1,AY366,\"\")","v":""},"","","","",""]
[null,null,null,null,null,null,null,null,null,null,null,null,null,null,null,null,null,null,null,null,{"$f":"+IF(Z367=\"\",\"\",MAX(U$1:U366)+1)","v":""},{"$f":"IF(Limit_Deviation_Detail!B389=\"\",\"\",Limit_Deviation_Detail!B389)","v":""},{"$f":"IF(Limit_Deviation_Detail!C389=\"\",\"\",Limit_Deviation_Detail!C389)","v":""},{"$f":"IF(Limit_Deviation_Detail!E389=\"\",\"\",Limit_Deviation_Detail!E389)","v":""},"",{"$f":"IF(COUNTIF(Y$2:Y367,Y367)=1,Y367,\"\")","v":""},"","","","","",null,null,null,null,null,null,null,null,null,null,null,null,null,null,null,{"$f":"+IF(AZ367=\"\",\"\",MAX(AU$1:AU366)+1)","v":""},{"$f":"IF(CMS_Deviation_Detail!B389=\"\",\"\",CMS_Deviation_Detail!B389)","v":""},{"$f":"IF(CMS_Deviation_Detail!C389=\"\",\"\",CMS_Deviation_Detail!C389)","v":""},{"$f":"IF(CMS_Deviation_Detail!D389=\"\",\"\",CMS_Deviation_Detail!D389)","v":""},"",{"$f":"IF(COUNTIF(AY$2:AY367,AY367)=1,AY367,\"\")","v":""},"","","","",""]
[null,null,null,null,null,null,null,null,null,null,null,null,null,null,null,null,null,null,null,null,{"$f":"+IF(Z368=\"\",\"\",MAX(U$1:U367)+1)","v":""},{"$f":"IF(Limit_Deviation_Detail!B390=\"\",\"\",Limit_Deviation_Detail!B390)","v":""},{"$f":"IF(Limit_Deviation_Detail!C390=\"\",\"\",Limit_Deviation_Detail!C390)","v":""},{"$f":"IF(Limit_Deviation_Detail!E390=\"\",\"\",Limit_Deviation_Detail!E390)","v":""},"",{"$f":"IF(COUNTIF(Y$2:Y368,Y368)=1,Y368,\"\")","v":""},"","","","","",null,null,null,null,null,null,null,null,null,null,null,null,null,null,null,{"$f":"+IF(AZ368=\"\",\"\",MAX(AU$1:AU367)+1)","v":""},{"$f":"IF(CMS_Deviation_Detail!B390=\"\",\"\",CMS_Deviation_Detail!B390)","v":""},{"$f":"IF(CMS_Deviation_Detail!C390=\"\",\"\",CMS_Deviation_Detail!C390)","v":""},{"$f":"IF(CMS_Deviation_Detail!D390=\"\",\"\",CMS_Deviation_Detail!D390)","v":""},"",{"$f":"IF(COUNTIF(AY$2:AY368,AY368)=1,AY368,\"\")","v":""},"","","","",""]
[null,null,null,null,null,null,null,null,null,null,null,null,null,null,null,null,null,null,null,null,{"$f":"+IF(Z369=\"\",\"\",MAX(U$1:U368)+1)","v":""},{"$f":"IF(Limit_Deviation_Detail!B391=\"\",\"\",Limit_Deviation_Detail!B391)","v":""},{"$f":"IF(Limit_Deviation_Detail!C391=\"\",\"\",Limit_Deviation_Detail!C391)","v":""},{"$f":"IF(Limit_Deviation_Detail!E391=\"\",\"\",Limit_Deviation_Detail!E391)","v":""},"",{"$f":"IF(COUNTIF(Y$2:Y369,Y369)=1,Y369,\"\")","v":""},"","","","","",null,null,null,null,null,null,null,null,null,null,null,null,null,null,null,{"$f":"+IF(AZ369=\"\",\"\",MAX(AU$1:AU368)+1)","v":""},{"$f":"IF(CMS_Deviation_Detail!B391=\"\",\"\",CMS_Deviation_Detail!B391)","v":""},{"$f":"IF(CMS_Deviation_Detail!C391=\"\",\"\",CMS_Deviation_Detail!C391)","v":""},{"$f":"IF(CMS_Deviation_Detail!D391=\"\",\"\",CMS_Deviation_Detail!D391)","v":""},"",{"$f":"IF(COUNTIF(AY$2:AY369,AY369)=1,AY369,\"\")","v":""},"","","","",""]
[null,null,null,null,null,null,null,null,null,null,null,null,null,null,null,null,null,null,null,null,{"$f":"+IF(Z370=\"\",\"\",MAX(U$1:U369)+1)","v":""},{"$f":"IF(Limit_Deviation_Detail!B392=\"\",\"\",Limit_Deviation_Detail!B392)","v":""},{"$f":"IF(Limit_Deviation_Detail!C392=\"\",\"\",Limit_Deviation_Detail!C392)","v":""},{"$f":"IF(Limit_Deviation_Detail!E392=\"\",\"\",Limit_Deviation_Detail!E392)","v":""},"",{"$f":"IF(COUNTIF(Y$2:Y370,Y370)=1,Y370,\"\")","v":""},"","","","","",null,null,null,null,null,null,null,null,null,null,null,null,null,null,null,{"$f":"+IF(AZ370=\"\",\"\",MAX(AU$1:AU369)+1)","v":""},{"$f":"IF(CMS_Deviation_Detail!B392=\"\",\"\",CMS_Deviation_Detail!B392)","v":""},{"$f":"IF(CMS_Deviation_Detail!C392=\"\",\"\",CMS_Deviation_Detail!C392)","v":""},{"$f":"IF(CMS_Deviation_Detail!D392=\"\",\"\",CMS_Deviation_Detail!D392)","v":""},"",{"$f":"IF(COUNTIF(AY$2:AY370,AY370)=1,AY370,\"\")","v":""},"","","","",""]
[null,null,null,null,null,null,null,null,null,null,null,null,null,null,null,null,null,null,null,null,{"$f":"+IF(Z371=\"\",\"\",MAX(U$1:U370)+1)","v":""},{"$f":"IF(Limit_Deviation_Detail!B393=\"\",\"\",Limit_Deviation_Detail!B393)","v":""},{"$f":"IF(Limit_Deviation_Detail!C393=\"\",\"\",Limit_Deviation_Detail!C393)","v":""},{"$f":"IF(Limit_Deviation_Detail!E393=\"\",\"\",Limit_Deviation_Detail!E393)","v":""},"",{"$f":"IF(COUNTIF(Y$2:Y371,Y371)=1,Y371,\"\")","v":""},"","","","","",null,null,null,null,null,null,null,null,null,null,null,null,null,null,null,{"$f":"+IF(AZ371=\"\",\"\",MAX(AU$1:AU370)+1)","v":""},{"$f":"IF(CMS_Deviation_Detail!B393=\"\",\"\",CMS_Deviation_Detail!B393)","v":""},{"$f":"IF(CMS_Deviation_Detail!C393=\"\",\"\",CMS_Deviation_Detail!C393)","v":""},{"$f":"IF(CMS_Deviation_Detail!D393=\"\",\"\",CMS_Deviation_Detail!D393)","v":""},"",{"$f":"IF(COUNTIF(AY$2:AY371,AY371)=1,AY371,\"\")","v":""},"","","","",""]
[null,null,null,null,null,null,null,null,null,null,null,null,null,null,null,null,null,null,null,null,{"$f":"+IF(Z372=\"\",\"\",MAX(U$1:U371)+1)","v":""},{"$f":"IF(Limit_Deviation_Detail!B394=\"\",\"\",Limit_Deviation_Detail!B394)","v":""},{"$f":"IF(Limit_Deviation_Detail!C394=\"\",\"\",Limit_Deviation_Detail!C394)","v":""},{"$f":"IF(Limit_Deviation_Detail!E394=\"\",\"\",Limit_Deviation_Detail!E394)","v":""},"",{"$f":"IF(COUNTIF(Y$2:Y372,Y372)=1,Y372,\"\")","v":""},"","","","","",null,null,null,null,null,null,null,null,null,null,null,null,null,null,null,{"$f":"+IF(AZ372=\"\",\"\",MAX(AU$1:AU371)+1)","v":""},{"$f":"IF(CMS_Deviation_Detail!B394=\"\",\"\",CMS_Deviation_Detail!B394)","v":""},{"$f":"IF(CMS_Deviation_Detail!C394=\"\",\"\",CMS_Deviation_Detail!C394)","v":""},{"$f":"IF(CMS_Deviation_Detail!D394=\"\",\"\",CMS_Deviation_Detail!D394)","v":""},"",{"$f":"IF(COUNTIF(AY$2:AY372,AY372)=1,AY372,\"\")","v":""},"","","","",""]
[null,null,null,null,null,null,null,null,null,null,null,null,null,null,null,null,null,null,null,null,{"$f":"+IF(Z373=\"\",\"\",MAX(U$1:U372)+1)","v":""},{"$f":"IF(Limit_Deviation_Detail!B395=\"\",\"\",Limit_Deviation_Detail!B395)","v":""},{"$f":"IF(Limit_Deviation_Detail!C395=\"\",\"\",Limit_Deviation_Detail!C395)","v":""},{"$f":"IF(Limit_Deviation_Detail!E395=\"\",\"\",Limit_Deviation_Detail!E395)","v":""},"",{"$f":"IF(COUNTIF(Y$2:Y373,Y373)=1,Y373,\"\")","v":""},"","","","","",null,null,null,null,null,null,null,null,null,null,null,null,null,null,null,{"$f":"+IF(AZ373=\"\",\"\",MAX(AU$1:AU372)+1)","v":""},{"$f":"IF(CMS_Deviation_Detail!B395=\"\",\"\",CMS_Deviation_Detail!B395)","v":""},{"$f":"IF(CMS_Deviation_Detail!C395=\"\",\"\",CMS_Deviation_Detail!C395)","v":""},{"$f":"IF(CMS_Deviation_Detail!D395=\"\",\"\",CMS_Deviation_Detail!D395)","v":""},"",{"$f":"IF(COUNTIF(AY$2:AY373,AY373)=1,AY373,\"\")","v":""},"","","","",""]
[null,null,null,null,null,null,null,null,null,null,null,null,null,null,null,null,null,null,null,null,{"$f":"+IF(Z374=\"\",\"\",MAX(U$1:U373)+1)","v":""},{"$f":"IF(Limit_Deviation_Detail!B396=\"\",\"\",Limit_Deviation_Detail!B396)","v":""},{"$f":"IF(Limit_Deviation_Detail!C396=\"\",\"\",Limit_Deviation_Detail!C396)","v":""},{"$f":"IF(Limit_Deviation_Detail!E396=\"\",\"\",Limit_Deviation_Detail!E396)","v":""},"",{"$f":"IF(COUNTIF(Y$2:Y374,Y374)=1,Y374,\"\")","v":""},"","","","","",null,null,null,null,null,null,null,null,null,null,null,null,null,null,null,{"$f":"+IF(AZ374=\"\",\"\",MAX(AU$1:AU373)+1)","v":""},{"$f":"IF(CMS_Deviation_Detail!B396=\"\",\"\",CMS_Deviation_Detail!B396)","v":""},{"$f":"IF(CMS_Deviation_Detail!C396=\"\",\"\",CMS_Deviation_Detail!C396)","v":""},{"$f":"IF(CMS_Deviation_Detail!D396=\"\",\"\",CMS_Deviation_Detail!D396)","v":""},"",{"$f":"IF(COUNTIF(AY$2:AY374,AY374)=1,AY374,\"\")","v":""},"","","","",""]
[null,null,null,null,null,null,null,null,null,null,null,null,null,null,null,null,null,null,null,null,{"$f":"+IF(Z375=\"\",\"\",MAX(U$1:U374)+1)","v":""},{"$f":"IF(Limit_Deviation_Detail!B397=\"\",\"\",Limit_Deviation_Detail!B397)","v":""},{"$f":"IF(Limit_Deviation_Detail!C397=\"\",\"\",Limit_Deviation_Detail!C397)","v":""},{"$f":"IF(Limit_Deviation_Detail!E397=\"\",\"\",Limit_Deviation_Detail!E397)","v":""},"",{"$f":"IF(COUNTIF(Y$2:Y375,Y375)=1,Y375,\"\")","v":""},"","","","","",null,null,null,null,null,null,null,null,null,null,null,null,null,null,null,{"$f":"+IF(AZ375=\"\",\"\",MAX(AU$1:AU374)+1)","v":""},{"$f":"IF(CMS_Deviation_Detail!B397=\"\",\"\",CMS_Deviation_Detail!B397)","v":""},{"$f":"IF(CMS_Deviation_Detail!C397=\"\",\"\",CMS_Deviation_Detail!C397)","v":""},{"$f":"IF(CMS_Deviation_Detail!D397=\"\",\"\",CMS_Deviation_Detail!D397)","v":""},"",{"$f":"IF(COUNTIF(AY$2:AY375,AY375)=1,AY375,\"\")","v":""},"","","","",""]
[null,null,null,null,null,null,null,null,null,null,null,null,null,null,null,null,null,null,null,null,{"$f":"+IF(Z376=\"\",\"\",MAX(U$1:U375)+1)","v":""},{"$f":"IF(Limit_Deviation_Detail!B398=\"\",\"\",Limit_Deviation_Detail!B398)","v":""},{"$f":"IF(Limit_Deviation_Detail!C398=\"\",\"\",Limit_Deviation_Detail!C398)","v":""},{"$f":"IF(Limit_Deviation_Detail!E398=\"\",\"\",Limit_Deviation_Detail!E398)","v":""},"",{"$f":"IF(COUNTIF(Y$2:Y376,Y376)=1,Y376,\"\")","v":""},"","","","","",null,null,null,null,null,null,null,null,null,null,null,null,null,null,null,{"$f":"+IF(AZ376=\"\",\"\",MAX(AU$1:AU375)+1)","v":""},{"$f":"IF(CMS_Deviation_Detail!B398=\"\",\"\",CMS_Deviation_Detail!B398)","v":""},{"$f":"IF(CMS_Deviation_Detail!C398=\"\",\"\",CMS_Deviation_Detail!C398)","v":""},{"$f":"IF(CMS_Deviation_Detail!D398=\"\",\"\",CMS_Deviation_Detail!D398)","v":""},"",{"$f":"IF(COUNTIF(AY$2:AY376,AY376)=1,AY376,\"\")","v":""},"","","","",""]
[null,null,null,null,null,null,null,null,null,null,null,null,null,null,null,null,null,null,null,null,{"$f":"+IF(Z377=\"\",\"\",MAX(U$1:U376)+1)","v":""},{"$f":"IF(Limit_Deviation_Detail!B399=\"\",\"\",Limit_Deviation_Detail!B399)","v":""},{"$f":"IF(Limit_Deviation_Detail!C399=\"\",\"\",Limit_Deviation_Detail!C399)","v":""},{"$f":"IF(Limit_Deviation_Detail!E399=\"\",\"\",Limit_Deviation_Detail!E399)","v":""},"",{"$f":"IF(COUNTIF(Y$2:Y377,Y377)=1,Y377,\"\")","v":""},"","","","","",null,null,null,null,null,null,null,null,null,null,null,null,null,null,null,{"$f":"+IF(AZ377=\"\",\"\",MAX(AU$1:AU376)+1)","v":""},{"$f":"IF(CMS_Deviation_Detail!B399=\"\",\"\",CMS_Deviation_Detail!B399)","v":""},{"$f":"IF(CMS_Deviation_Detail!C399=\"\",\"\",CMS_Deviation_Detail!C399)","v":""},{"$f":"IF(CMS_Deviation_Detail!D399=\"\",\"\",CMS_Deviation_Detail!D399)","v":""},"",{"$f":"IF(COUNTIF(AY$2:AY377,AY377)=1,AY377,\"\")","v":""},"","","","",""]
[null,null,null,null,null,null,null,null,null,null,null,null,null,null,null,null,null,null,null,null,{"$f":"+IF(Z378=\"\",\"\",MAX(U$1:U377)+1)","v":""},{"$f":"IF(Limit_Deviation_Detail!B400=\"\",\"\",Limit_Deviation_Detail!B400)","v":""},{"$f":"IF(Limit_Deviation_Detail!C400=\"\",\"\",Limit_Deviation_Detail!C400)","v":""},{"$f":"IF(Limit_Deviation_Detail!E400=\"\",\"\",Limit_Deviation_Detail!E400)","v":""},"",{"$f":"IF(COUNTIF(Y$2:Y378,Y378)=1,Y378,\"\")","v":""},"","","","","",null,null,null,null,null,null,null,null,null,null,null,null,null,null,null,{"$f":"+IF(AZ378=\"\",\"\",MAX(AU$1:AU377)+1)","v":""},{"$f":"IF(CMS_Deviation_Detail!B400=\"\",\"\",CMS_Deviation_Detail!B400)","v":""},{"$f":"IF(CMS_Deviation_Detail!C400=\"\",\"\",CMS_Deviation_Detail!C400)","v":""},{"$f":"IF(CMS_Deviation_Detail!D400=\"\",\"\",CMS_Deviation_Detail!D400)","v":""},"",{"$f":"IF(COUNTIF(AY$2:AY378,AY378)=1,AY378,\"\")","v":""},"","","","",""]
[null,null,null,null,null,null,null,null,null,null,null,null,null,null,null,null,null,null,null,null,{"$f":"+IF(Z379=\"\",\"\",MAX(U$1:U378)+1)","v":""},{"$f":"IF(Limit_Deviation_Detail!B401=\"\",\"\",Limit_Deviation_Detail!B401)","v":""},{"$f":"IF(Limit_Deviation_Detail!C401=\"\",\"\",Limit_Deviation_Detail!C401)","v":""},{"$f":"IF(Limit_Deviation_Detail!E401=\"\",\"\",Limit_Deviation_Detail!E401)","v":""},"",{"$f":"IF(COUNTIF(Y$2:Y379,Y379)=1,Y379,\"\")","v":""},"","","","","",null,null,null,null,null,null,null,null,null,null,null,null,null,null,null,{"$f":"+IF(AZ379=\"\",\"\",MAX(AU$1:AU378)+1)","v":""},{"$f":"IF(CMS_Deviation_Detail!B401=\"\",\"\",CMS_Deviation_Detail!B401)","v":""},{"$f":"IF(CMS_Deviation_Detail!C401=\"\",\"\",CMS_Deviation_Detail!C401)","v":""},{"$f":"IF(CMS_Deviation_Detail!D401=\"\",\"\",CMS_Deviation_Detail!D401)","v":""},"",{"$f":"IF(COUNTIF(AY$2:AY379,AY379)=1,AY379,\"\")","v":""},"","","","",""]
[null,null,null,null,null,null,null,null,null,null,null,null,null,null,null,null,null,null,null,null,{"$f":"+IF(Z380=\"\",\"\",MAX(U$1:U379)+1)","v":""},{"$f":"IF(Limit_Deviation_Detail!B402=\"\",\"\",Limit_Deviation_Detail!B402)","v":""},{"$f":"IF(Limit_Deviation_Detail!C402=\"\",\"\",Limit_Deviation_Detail!C402)","v":""},{"$f":"IF(Limit_Deviation_Detail!E402=\"\",\"\",Limit_Deviation_Detail!E402)","v":""},"",{"$f":"IF(COUNTIF(Y$2:Y380,Y380)=1,Y380,\"\")","v":""},"","","","","",null,null,null,null,null,null,null,null,null,null,null,null,null,null,null,{"$f":"+IF(AZ380=\"\",\"\",MAX(AU$1:AU379)+1)","v":""},{"$f":"IF(CMS_Deviation_Detail!B402=\"\",\"\",CMS_Deviation_Detail!B402)","v":""},{"$f":"IF(CMS_Deviation_Detail!C402=\"\",\"\",CMS_Deviation_Detail!C402)","v":""},{"$f":"IF(CMS_Deviation_Detail!D402=\"\",\"\",CMS_Deviation_Detail!D402)","v":""},"",{"$f":"IF(COUNTIF(AY$2:AY380,AY380)=1,AY380,\"\")","v":""},"","","","",""]
[null,null,null,null,null,null,null,null,null,null,null,null,null,null,null,null,null,null,null,null,{"$f":"+IF(Z381=\"\",\"\",MAX(U$1:U380)+1)","v":""},{"$f":"IF(Limit_Deviation_Detail!B403=\"\",\"\",Limit_Deviation_Detail!B403)","v":""},{"$f":"IF(Limit_Deviation_Detail!C403=\"\",\"\",Limit_Deviation_Detail!C403)","v":""},{"$f":"IF(Limit_Deviation_Detail!E403=\"\",\"\",Limit_Deviation_Detail!E403)","v":""},"",{"$f":"IF(COUNTIF(Y$2:Y381,Y381)=1,Y381,\"\")","v":""},"","","","","",null,null,null,null,null,null,null,null,null,null,null,null,null,null,null,{"$f":"+IF(AZ381=\"\",\"\",MAX(AU$1:AU380)+1)","v":""},{"$f":"IF(CMS_Deviation_Detail!B403=\"\",\"\",CMS_Deviation_Detail!B403)","v":""},{"$f":"IF(CMS_Deviation_Detail!C403=\"\",\"\",CMS_Deviation_Detail!C403)","v":""},{"$f":"IF(CMS_Deviation_Detail!D403=\"\",\"\",CMS_Deviation_Detail!D403)","v":""},"",{"$f":"IF(COUNTIF(AY$2:AY381,AY381)=1,AY381,\"\")","v":""},"","","","",""]
[null,null,null,null,null,null,null,null,null,null,null,null,null,null,null,null,null,null,null,null,{"$f":"+IF(Z382=\"\",\"\",MAX(U$1:U381)+1)","v":""},{"$f":"IF(Limit_Deviation_Detail!B404=\"\",\"\",Limit_Deviation_Detail!B404)","v":""},{"$f":"IF(Limit_Deviation_Detail!C404=\"\",\"\",Limit_Deviation_Detail!C404)","v":""},{"$f":"IF(Limit_Deviation_Detail!E404=\"\",\"\",Limit_Deviation_Detail!E404)","v":""},"",{"$f":"IF(COUNTIF(Y$2:Y382,Y382)=1,Y382,\"\")","v":""},"","","","","",null,null,null,null,null,null,null,null,null,null,null,null,null,null,null,{"$f":"+IF(AZ382=\"\",\"\",MAX(AU$1:AU381)+1)","v":""},{"$f":"IF(CMS_Deviation_Detail!B404=\"\",\"\",CMS_Deviation_Detail!B404)","v":""},{"$f":"IF(CMS_Deviation_Detail!C404=\"\",\"\",CMS_Deviation_Detail!C404)","v":""},{"$f":"IF(CMS_Deviation_Detail!D404=\"\",\"\",CMS_Deviation_Detail!D404)","v":""},"",{"$f":"IF(COUNTIF(AY$2:AY382,AY382)=1,AY382,\"\")","v":""},"","","","",""]
[null,null,null,null,null,null,null,null,null,null,null,null,null,null,null,null,null,null,null,null,{"$f":"+IF(Z383=\"\",\"\",MAX(U$1:U382)+1)","v":""},{"$f":"IF(Limit_Deviation_Detail!B405=\"\",\"\",Limit_Deviation_Detail!B405)","v":""},{"$f":"IF(Limit_Deviation_Detail!C405=\"\",\"\",Limit_Deviation_Detail!C405)","v":""},{"$f":"IF(Limit_Deviation_Detail!E405=\"\",\"\",Limit_Deviation_Detail!E405)","v":""},"",{"$f":"IF(COUNTIF(Y$2:Y383,Y383)=1,Y383,\"\")","v":""},"","","","","",null,null,null,null,null,null,null,null,null,null,null,null,null,null,null,{"$f":"+IF(AZ383=\"\",\"\",MAX(AU$1:AU382)+1)","v":""},{"$f":"IF(CMS_Deviation_Detail!B405=\"\",\"\",CMS_Deviation_Detail!B405)","v":""},{"$f":"IF(CMS_Deviation_Detail!C405=\"\",\"\",CMS_Deviation_Detail!C405)","v":""},{"$f":"IF(CMS_Deviation_Detail!D405=\"\",\"\",CMS_Deviation_Detail!D405)","v":""},"",{"$f":"IF(COUNTIF(AY$2:AY383,AY383)=1,AY383,\"\")","v":""},"","","","",""]
[null,null,null,null,null,null,null,null,null,null,null,null,null,null,null,null,null,null,null,null,{"$f":"+IF(Z384=\"\",\"\",MAX(U$1:U383)+1)","v":""},{"$f":"IF(Limit_Deviation_Detail!B406=\"\",\"\",Limit_Deviation_Detail!B406)","v":""},{"$f":"IF(Limit_Deviation_Detail!C406=\"\",\"\",Limit_Deviation_Detail!C406)","v":""},{"$f":"IF(Limit_Deviation_Detail!E406=\"\",\"\",Limit_Deviation_Detail!E406)","v":""},"",{"$f":"IF(COUNTIF(Y$2:Y384,Y384)=1,Y384,\"\")","v":""},"","","","","",null,null,null,null,null,null,null,null,null,null,null,null,null,null,null,{"$f":"+IF(AZ384=\"\",\"\",MAX(AU$1:AU383)+1)","v":""},{"$f":"IF(CMS_Deviation_Detail!B406=\"\",\"\",CMS_Deviation_Detail!B406)","v":""},{"$f":"IF(CMS_Deviation_Detail!C406=\"\",\"\",CMS_Deviation_Detail!C406)","v":""},{"$f":"IF(CMS_Deviation_Detail!D406=\"\",\"\",CMS_Deviation_Detail!D406)","v":""},"",{"$f":"IF(COUNTIF(AY$2:AY384,AY384)=1,AY384,\"\")","v":""},"","","","",""]
[null,null,null,null,null,null,null,null,null,null,null,null,null,null,null,null,null,null,null,null,{"$f":"+IF(Z385=\"\",\"\",MAX(U$1:U384)+1)","v":""},{"$f":"IF(Limit_Deviation_Detail!B407=\"\",\"\",Limit_Deviation_Detail!B407)","v":""},{"$f":"IF(Limit_Deviation_Detail!C407=\"\",\"\",Limit_Deviation_Detail!C407)","v":""},{"$f":"IF(Limit_Deviation_Detail!E407=\"\",\"\",Limit_Deviation_Detail!E407)","v":""},"",{"$f":"IF(COUNTIF(Y$2:Y385,Y385)=1,Y385,\"\")","v":""},"","","","","",null,null,null,null,null,null,null,null,null,null,null,null,null,null,null,{"$f":"+IF(AZ385=\"\",\"\",MAX(AU$1:AU384)+1)","v":""},{"$f":"IF(CMS_Deviation_Detail!B407=\"\",\"\",CMS_Deviation_Detail!B407)","v":""},{"$f":"IF(CMS_Deviation_Detail!C407=\"\",\"\",CMS_Deviation_Detail!C407)","v":""},{"$f":"IF(CMS_Deviation_Detail!D407=\"\",\"\",CMS_Deviation_Detail!D407)","v":""},"",{"$f":"IF(COUNTIF(AY$2:AY385,AY385)=1,AY385,\"\")","v":""},"","","","",""]
[null,null,null,null,null,null,null,null,null,null,null,null,null,null,null,null,null,null,null,null,{"$f":"+IF(Z386=\"\",\"\",MAX(U$1:U385)+1)","v":""},{"$f":"IF(Limit_Deviation_Detail!B408=\"\",\"\",Limit_Deviation_Detail!B408)","v":""},{"$f":"IF(Limit_Deviation_Detail!C408=\"\",\"\",Limit_Deviation_Detail!C408)","v":""},{"$f":"IF(Limit_Deviation_Detail!E408=\"\",\"\",Limit_Deviation_Detail!E408)","v":""},{"$f":"V386&W386&X386","v":""},{"$f":"IF(COUNTIF(Y$2:Y386,Y386)=1,Y386,\"\")","v":""},{"$f":"+IFERROR(INDEX(V$2:V$955,MATCH(ROW()-ROW(Z$1),U$2:U$955,0)),\"\")","v":""},{"$f":"+IFERROR(INDEX(W$2:W$955,MATCH(ROW()-ROW(AA$1),U$2:U$955,0)),\"\")","v":""},{"$f":"+IFERROR(INDEX(X$2:X$955,MATCH(ROW()-ROW(AB$1),U$2:U$955,0)),\"\")","v":""},{"$f":"IF(AA386=\"\",\"\",AA386&AB386)","v":""},{"$f":"IF(AA386=\"\",\"\",VLOOKUP(AD386,$AO$2:$AS$78,5,FALSE))","v":""},null,null,null,null,null,null,null,null,null,null,null,null,null,null,null,{"$f":"+IF(AZ386=\"\",\"\",MAX(AU$1:AU385)+1)","v":""},{"$f":"IF(CMS_Deviation_Detail!B408=\"\",\"\",CMS_Deviation_Detail!B408)","v":""},{"$f":"IF(CMS_Deviation_Detail!C408=\"\",\"\",CMS_Deviation_Detail!C408)","v":""},{"$f":"IF(CMS_Deviation_Detail!D408=\"\",\"\",CMS_Deviation_Detail!D408)","v":""},"",{"$f":"IF(COUNTIF(AY$2:AY386,AY386)=1,AY386,\"\")","v":""},"","","","",{"$f":"IF(BA386=\"\",\"\",VLOOKUP(BD386,$AO$2:$AS$78,5,FALSE))","v":""}]
[null,null,null,null,null,null,null,null,null,null,null,null,null,null,null,null,null,null,null,null,{"$f":"+IF(Z387=\"\",\"\",MAX(U$1:U386)+1)","v":""},{"$f":"IF(Limit_Deviation_Detail!B409=\"\",\"\",Limit_Deviation_Detail!B409)","v":""},{"$f":"IF(Limit_Deviation_Detail!C409=\"\",\"\",Limit_Deviation_Detail!C409)","v":""},{"$f":"IF(Limit_Deviation_Detail!E409=\"\",\"\",Limit_Deviation_Detail!E409)","v":""},"",{"$f":"IF(COUNTIF(Y$2:Y387,Y387)=1,Y387,\"\")","v":""},"","","","","",null,null,null,null,null,null,null,null,null,null,null,null,null,null,null,{"$f":"+IF(AZ387=\"\",\"\",MAX(AU$1:AU386)+1)","v":""},{"$f":"IF(CMS_Deviation_Detail!B409=\"\",\"\",CMS_Deviation_Detail!B409)","v":""},{"$f":"IF(CMS_Deviation_Detail!C409=\"\",\"\",CMS_Deviation_Detail!C409)","v":""},{"$f":"IF(CMS_Deviation_Detail!D409=\"\",\"\",CMS_Deviation_Detail!D409)","v":""},{"$f":"AV387&AW387&AX387","v":""},{"$f":"IF(COUNTIF(AY$2:AY387,AY387)=1,AY387,\"\")","v":""},{"$f":"+IFERROR(INDEX(AV$2:AV$955,MATCH(ROW()-ROW(AZ$1),AU$2:AU$955,0)),\"\")","v":""},{"$f":"+IFERROR(INDEX(AW$2:AW$955,MATCH(ROW()-ROW(BA$1),AU$2:AU$955,0)),\"\")","v":""},{"$f":"+IFERROR(INDEX(AX$2:AX$955,MATCH(ROW()-ROW(BB$1),AU$2:AU$955,0)),\"\")","v":""},{"$f":"IF(BA387=\"\",\"\",BA387&BB387)","v":""},""]
[null,null,null,null,null,null,null,null,null,null,null,null,null,null,null,null,null,null,null,null,{"$f":"+IF(Z388=\"\",\"\",MAX(U$1:U387)+1)","v":""},{"$f":"IF(Limit_Deviation_Detail!B410=\"\",\"\",Limit_Deviation_Detail!B410)","v":""},{"$f":"IF(Limit_Deviation_Detail!C410=\"\",\"\",Limit_Deviation_Detail!C410)","v":""},{"$f":"IF(Limit_Deviation_Detail!E410=\"\",\"\",Limit_Deviation_Detail!E410)","v":""},"",{"$f":"IF(COUNTIF(Y$2:Y388,Y388)=1,Y388,\"\")","v":""},"","","","","",null,null,null,null,null,null,null,null,null,null,null,null,null,null,null,{"$f":"+IF(AZ388=\"\",\"\",MAX(AU$1:AU387)+1)","v":""},{"$f":"IF(CMS_Deviation_Detail!B410=\"\",\"\",CMS_Deviation_Detail!B410)","v":""},{"$f":"IF(CMS_Deviation_Detail!C410=\"\",\"\",CMS_Deviation_Detail!C410)","v":""},{"$f":"IF(CMS_Deviation_Detail!D410=\"\",\"\",CMS_Deviation_Detail!D410)","v":""},"",{"$f":"IF(COUNTIF(AY$2:AY388,AY388)=1,AY388,\"\")","v":""},"","","","",""]
[null,null,null,null,null,null,null,null,null,null,null,null,null,null,null,null,null,null,null,null,{"$f":"+IF(Z389=\"\",\"\",MAX(U$1:U388)+1)","v":""},{"$f":"IF(Limit_Deviation_Detail!B411=\"\",\"\",Limit_Deviation_Detail!B411)","v":""},{"$f":"IF(Limit_Deviation_Detail!C411=\"\",\"\",Limit_Deviation_Detail!C411)","v":""},{"$f":"IF(Limit_Deviation_Detail!E411=\"\",\"\",Limit_Deviation_Detail!E411)","v":""},"",{"$f":"IF(COUNTIF(Y$2:Y389,Y389)=1,Y389,\"\")","v":""},"","","","","",null,null,null,null,null,null,null,null,null,null,null,null,null,null,null,{"$f":"+IF(AZ389=\"\",\"\",MAX(AU$1:AU388)+1)","v":""},{"$f":"IF(CMS_Deviation_Detail!B411=\"\",\"\",CMS_Deviation_Detail!B411)","v":""},{"$f":"IF(CMS_Deviation_Detail!C411=\"\",\"\",CMS_Deviation_Detail!C411)","v":""},{"$f":"IF(CMS_Deviation_Detail!D411=\"\",\"\",CMS_Deviation_Detail!D411)","v":""},"",{"$f":"IF(COUNTIF(AY$2:AY389,AY389)=1,AY389,\"\")","v":""},"","","","",""]
[null,null,null,null,null,null,null,null,null,null,null,null,null,null,null,null,null,null,null,null,{"$f":"+IF(Z390=\"\",\"\",MAX(U$1:U389)+1)","v":""},{"$f":"IF(Limit_Deviation_Detail!B412=\"\",\"\",Limit_Deviation_Detail!B412)","v":""},{"$f":"IF(Limit_Deviation_Detail!C412=\"\",\"\",Limit_Deviation_Detail!C412)","v":""},{"$f":"IF(Limit_Deviation_Detail!E412=\"\",\"\",Limit_Deviation_Detail!E412)","v":""},"",{"$f":"IF(COUNTIF(Y$2:Y390,Y390)=1,Y390,\"\")","v":""},"","","","","",null,null,null,null,null,null,null,null,null,null,null,null,null,null,null,{"$f":"+IF(AZ390=\"\",\"\",MAX(AU$1:AU389)+1)","v":""},{"$f":"IF(CMS_Deviation_Detail!B412=\"\",\"\",CMS_Deviation_Detail!B412)","v":""},{"$f":"IF(CMS_Deviation_Detail!C412=\"\",\"\",CMS_Deviation_Detail!C412)","v":""},{"$f":"IF(CMS_Deviation_Detail!D412=\"\",\"\",CMS_Deviation_Detail!D412)","v":""},"",{"$f":"IF(COUNTIF(AY$2:AY390,AY390)=1,AY390,\"\")","v":""},"","","","",""]
[null,null,null,null,null,null,null,null,null,null,null,null,null,null,null,null,null,null,null,null,{"$f":"+IF(Z391=\"\",\"\",MAX(U$1:U390)+1)","v":""},{"$f":"IF(Limit_Deviation_Detail!B413=\"\",\"\",Limit_Deviation_Detail!B413)","v":""},{"$f":"IF(Limit_Deviation_Detail!C413=\"\",\"\",Limit_Deviation_Detail!C413)","v":""},{"$f":"IF(Limit_Deviation_Detail!E413=\"\",\"\",Limit_Deviation_Detail!E413)","v":""},"",{"$f":"IF(COUNTIF(Y$2:Y391,Y391)=1,Y391,\"\")","v":""},"","","","","",null,null,null,null,null,null,null,null,null,null,null,null,null,null,null,{"$f":"+IF(AZ391=\"\",\"\",MAX(AU$1:AU390)+1)","v":""},{"$f":"IF(CMS_Deviation_Detail!B413=\"\",\"\",CMS_Deviation_Detail!B413)","v":""},{"$f":"IF(CMS_Deviation_Detail!C413=\"\",\"\",CMS_Deviation_Detail!C413)","v":""},{"$f":"IF(CMS_Deviation_Detail!D413=\"\",\"\",CMS_Deviation_Detail!D413)","v":""},"",{"$f":"IF(COUNTIF(AY$2:AY391,AY391)=1,AY391,\"\")","v":""},"","","","",""]
[null,null,null,null,null,null,null,null,null,null,null,null,null,null,null,null,null,null,null,null,{"$f":"+IF(Z392=\"\",\"\",MAX(U$1:U391)+1)","v":""},{"$f":"IF(Limit_Deviation_Detail!B414=\"\",\"\",Limit_Deviation_Detail!B414)","v":""},{"$f":"IF(Limit_Deviation_Detail!C414=\"\",\"\",Limit_Deviation_Detail!C414)","v":""},{"$f":"IF(Limit_Deviation_Detail!E414=\"\",\"\",Limit_Deviation_Detail!E414)","v":""},"",{"$f":"IF(COUNTIF(Y$2:Y392,Y392)=1,Y392,\"\")","v":""},"","","","","",null,null,null,null,null,null,null,null,null,null,null,null,null,null,null,{"$f":"+IF(AZ392=\"\",\"\",MAX(AU$1:AU391)+1)","v":""},{"$f":"IF(CMS_Deviation_Detail!B414=\"\",\"\",CMS_Deviation_Detail!B414)","v":""},{"$f":"IF(CMS_Deviation_Detail!C414=\"\",\"\",CMS_Deviation_Detail!C414)","v":""},{"$f":"IF(CMS_Deviation_Detail!D414=\"\",\"\",CMS_Deviation_Detail!D414)","v":""},"",{"$f":"IF(COUNTIF(AY$2:AY392,AY392)=1,AY392,\"\")","v":""},"","","","",""]
[null,null,null,null,null,null,null,null,null,null,null,null,null,null,null,null,null,null,null,null,{"$f":"+IF(Z393=\"\",\"\",MAX(U$1:U392)+1)","v":""},{"$f":"IF(Limit_Deviation_Detail!B415=\"\",\"\",Limit_Deviation_Detail!B415)","v":""},{"$f":"IF(Limit_Deviation_Detail!C415=\"\",\"\",Limit_Deviation_Detail!C415)","v":""},{"$f":"IF(Limit_Deviation_Detail!E415=\"\",\"\",Limit_Deviation_Detail!E415)","v":""},"",{"$f":"IF(COUNTIF(Y$2:Y393,Y393)=1,Y393,\"\")","v":""},"","","","","",null,null,null,null,null,null,null,null,null,null,null,null,null,null,null,{"$f":"+IF(AZ393=\"\",\"\",MAX(AU$1:AU392)+1)","v":""},{"$f":"IF(CMS_Deviation_Detail!B415=\"\",\"\",CMS_Deviation_Detail!B415)","v":""},{"$f":"IF(CMS_Deviation_Detail!C415=\"\",\"\",CMS_Deviation_Detail!C415)","v":""},{"$f":"IF(CMS_Deviation_Detail!D415=\"\",\"\",CMS_Deviation_Detail!D415)","v":""},"",{"$f":"IF(COUNTIF(AY$2:AY393,AY393)=1,AY393,\"\")","v":""},"","","","",""]
[null,null,null,null,null,null,null,null,null,null,null,null,null,null,null,null,null,null,null,null,{"$f":"+IF(Z394=\"\",\"\",MAX(U$1:U393)+1)","v":""},{"$f":"IF(Limit_Deviation_Detail!B416=\"\",\"\",Limit_Deviation_Detail!B416)","v":""},{"$f":"IF(Limit_Deviation_Detail!C416=\"\",\"\",Limit_Deviation_Detail!C416)","v":""},{"$f":"IF(Limit_Deviation_Detail!E416=\"\",\"\",Limit_Deviation_Detail!E416)","v":""},"",{"$f":"IF(COUNTIF(Y$2:Y394,Y394)=1,Y394,\"\")","v":""},"","","","","",null,null,null,null,null,null,null,null,null,null,null,null,null,null,null,{"$f":"+IF(AZ394=\"\",\"\",MAX(AU$1:AU393)+1)","v":""},{"$f":"IF(CMS_Deviation_Detail!B416=\"\",\"\",CMS_Deviation_Detail!B416)","v":""},{"$f":"IF(CMS_Deviation_Detail!C416=\"\",\"\",CMS_Deviation_Detail!C416)","v":""},{"$f":"IF(CMS_Deviation_Detail!D416=\"\",\"\",CMS_Deviation_Detail!D416)","v":""},"",{"$f":"IF(COUNTIF(AY$2:AY394,AY394)=1,AY394,\"\")","v":""},"","","","",""]
[null,null,null,null,null,null,null,null,null,null,null,null,null,null,null,null,null,null,null,null,{"$f":"+IF(Z395=\"\",\"\",MAX(U$1:U394)+1)","v":""},{"$f":"IF(Limit_Deviation_Detail!B417=\"\",\"\",Limit_Deviation_Detail!B417)","v":""},{"$f":"IF(Limit_Deviation_Detail!C417=\"\",\"\",Limit_Deviation_Detail!C417)","v":""},{"$f":"IF(Limit_Deviation_Detail!E417=\"\",\"\",Limit_Deviation_Detail!E417)","v":""},"",{"$f":"IF(COUNTIF(Y$2:Y395,Y395)=1,Y395,\"\")","v":""},"","","","","",null,null,null,null,null,null,null,null,null,null,null,null,null,null,null,{"$f":"+IF(AZ395=\"\",\"\",MAX(AU$1:AU394)+1)","v":""},{"$f":"IF(CMS_Deviation_Detail!B417=\"\",\"\",CMS_Deviation_Detail!B417)","v":""},{"$f":"IF(CMS_Deviation_Detail!C417=\"\",\"\",CMS_Deviation_Detail!C417)","v":""},{"$f":"IF(CMS_Deviation_Detail!D417=\"\",\"\",CMS_Deviation_Detail!D417)","v":""},"",{"$f":"IF(COUNTIF(AY$2:AY395,AY395)=1,AY395,\"\")","v":""},"","","","",""]
[null,null,null,null,null,null,null,null,null,null,null,null,null,null,null,null,null,null,null,null,{"$f":"+IF(Z396=\"\",\"\",MAX(U$1:U395)+1)","v":""},{"$f":"IF(Limit_Deviation_Detail!B418=\"\",\"\",Limit_Deviation_Detail!B418)","v":""},{"$f":"IF(Limit_Deviation_Detail!C418=\"\",\"\",Limit_Deviation_Detail!C418)","v":""},{"$f":"IF(Limit_Deviation_Detail!E418=\"\",\"\",Limit_Deviation_Detail!E418)","v":""},"",{"$f":"IF(COUNTIF(Y$2:Y396,Y396)=1,Y396,\"\")","v":""},"","","","","",null,null,null,null,null,null,null,null,null,null,null,null,null,null,null,{"$f":"+IF(AZ396=\"\",\"\",MAX(AU$1:AU395)+1)","v":""},{"$f":"IF(CMS_Deviation_Detail!B418=\"\",\"\",CMS_Deviation_Detail!B418)","v":""},{"$f":"IF(CMS_Deviation_Detail!C418=\"\",\"\",CMS_Deviation_Detail!C418)","v":""},{"$f":"IF(CMS_Deviation_Detail!D418=\"\",\"\",CMS_Deviation_Detail!D418)","v":""},"",{"$f":"IF(COUNTIF(AY$2:AY396,AY396)=1,AY396,\"\")","v":""},"","","","",""]
[null,null,null,null,null,null,null,null,null,null,null,null,null,null,null,null,null,null,null,null,{"$f":"+IF(Z397=\"\",\"\",MAX(U$1:U396)+1)","v":""},{"$f":"IF(Limit_Deviation_Detail!B419=\"\",\"\",Limit_Deviation_Detail!B419)","v":""},{"$f":"IF(Limit_Deviation_Detail!C419=\"\",\"\",Limit_Deviation_Detail!C419)","v":""},{"$f":"IF(Limit_Deviation_Detail!E419=\"\",\"\",Limit_Deviation_Detail!E419)","v":""},"",{"$f":"IF(COUNTIF(Y$2:Y397,Y397)=1,Y397,\"\")","v":""},"","","","","",null,null,null,null,null,null,null,null,null,null,null,null,null,null,null,{"$f":"+IF(AZ397=\"\",\"\",MAX(AU$1:AU396)+1)","v":""},{"$f":"IF(CMS_Deviation_Detail!B419=\"\",\"\",CMS_Deviation_Detail!B419)","v":""},{"$f":"IF(CMS_Deviation_Detail!C419=\"\",\"\",CMS_Deviation_Detail!C419)","v":""},{"$f":"IF(CMS_Deviation_Detail!D419=\"\",\"\",CMS_Deviation_Detail!D419)","v":""},"",{"$f":"IF(COUNTIF(AY$2:AY397,AY397)=1,AY397,\"\")","v":""},"","","","",""]
[null,null,null,null,null,null,null,null,null,null,null,null,null,null,null,null,null,null,null,null,{"$f":"+IF(Z398=\"\",\"\",MAX(U$1:U397)+1)","v":""},{"$f":"IF(Limit_Deviation_Detail!B420=\"\",\"\",Limit_Deviation_Detail!B420)","v":""},{"$f":"IF(Limit_Deviation_Detail!C420=\"\",\"\",Limit_Deviation_Detail!C420)","v":""},{"$f":"IF(Limit_Deviation_Detail!E420=\"\",\"\",Limit_Deviation_Detail!E420)","v":""},"",{"$f":"IF(COUNTIF(Y$2:Y398,Y398)=1,Y398,\"\")","v":""},"","","","","",null,null,null,null,null,null,null,null,null,null,null,null,null,null,null,{"$f":"+IF(AZ398=\"\",\"\",MAX(AU$1:AU397)+1)","v":""},{"$f":"IF(CMS_Deviation_Detail!B420=\"\",\"\",CMS_Deviation_Detail!B420)","v":""},{"$f":"IF(CMS_Deviation_Detail!C420=\"\",\"\",CMS_Deviation_Detail!C420)","v":""},{"$f":"IF(CMS_Deviation_Detail!D420=\"\",\"\",CMS_Deviation_Detail!D420)","v":""},"",{"$f":"IF(COUNTIF(AY$2:AY398,AY398)=1,AY398,\"\")","v":""},"","","","",""]
[null,null,null,null,null,null,null,null,null,null,null,null,null,null,null,null,null,null,null,null,{"$f":"+IF(Z399=\"\",\"\",MAX(U$1:U398)+1)","v":""},{"$f":"IF(Limit_Deviation_Detail!B421=\"\",\"\",Limit_Deviation_Detail!B421)","v":""},{"$f":"IF(Limit_Deviation_Detail!C421=\"\",\"\",Limit_Deviation_Detail!C421)","v":""},{"$f":"IF(Limit_Deviation_Detail!E421=\"\",\"\",Limit_Deviation_Detail!E421)","v":""},"",{"$f":"IF(COUNTIF(Y$2:Y399,Y399)=1,Y399,\"\")","v":""},"","","","","",null,null,null,null,null,null,null,null,null,null,null,null,null,null,null,{"$f":"+IF(AZ399=\"\",\"\",MAX(AU$1:AU398)+1)","v":""},{"$f":"IF(CMS_Deviation_Detail!B421=\"\",\"\",CMS_Deviation_Detail!B421)","v":""},{"$f":"IF(CMS_Deviation_Detail!C421=\"\",\"\",CMS_Deviation_Detail!C421)","v":""},{"$f":"IF(CMS_Deviation_Detail!D421=\"\",\"\",CMS_Deviation_Detail!D421)","v":""},"",{"$f":"IF(COUNTIF(AY$2:AY399,AY399)=1,AY399,\"\")","v":""},"","","","",""]
[null,null,null,null,null,null,null,null,null,null,null,null,null,null,null,null,null,null,null,null,{"$f":"+IF(Z400=\"\",\"\",MAX(U$1:U399)+1)","v":""},{"$f":"IF(Limit_Deviation_Detail!B422=\"\",\"\",Limit_Deviation_Detail!B422)","v":""},{"$f":"IF(Limit_Deviation_Detail!C422=\"\",\"\",Limit_Deviation_Detail!C422)","v":""},{"$f":"IF(Limit_Deviation_Detail!E422=\"\",\"\",Limit_Deviation_Detail!E422)","v":""},"",{"$f":"IF(COUNTIF(Y$2:Y400,Y400)=1,Y400,\"\")","v":""},"","","","","",null,null,null,null,null,null,null,null,null,null,null,null,null,null,null,{"$f":"+IF(AZ400=\"\",\"\",MAX(AU$1:AU399)+1)","v":""},{"$f":"IF(CMS_Deviation_Detail!B422=\"\",\"\",CMS_Deviation_Detail!B422)","v":""},{"$f":"IF(CMS_Deviation_Detail!C422=\"\",\"\",CMS_Deviation_Detail!C422)","v":""},{"$f":"IF(CMS_Deviation_Detail!D422=\"\",\"\",CMS_Deviation_Detail!D422)","v":""},"",{"$f":"IF(COUNTIF(AY$2:AY400,AY400)=1,AY400,\"\")","v":""},"","","","",""]
[null,null,null,null,null,null,null,null,null,null,null,null,null,null,null,null,null,null,null,null,{"$f":"+IF(Z401=\"\",\"\",MAX(U$1:U400)+1)","v":""},{"$f":"IF(Limit_Deviation_Detail!B423=\"\",\"\",Limit_Deviation_Detail!B423)","v":""},{"$f":"IF(Limit_Deviation_Detail!C423=\"\",\"\",Limit_Deviation_Detail!C423)","v":""},{"$f":"IF(Limit_Deviation_Detail!E423=\"\",\"\",Limit_Deviation_Detail!E423)","v":""},"",{"$f":"IF(COUNTIF(Y$2:Y401,Y401)=1,Y401,\"\")","v":""},"","","","","",null,null,null,null,null,null,null,null,null,null,null,null,null,null,null,{"$f":"+IF(AZ401=\"\",\"\",MAX(AU$1:AU400)+1)","v":""},{"$f":"IF(CMS_Deviation_Detail!B423=\"\",\"\",CMS_Deviation_Detail!B423)","v":""},{"$f":"IF(CMS_Deviation_Detail!C423=\"\",\"\",CMS_Deviation_Detail!C423)","v":""},{"$f":"IF(CMS_Deviation_Detail!D423=\"\",\"\",CMS_Deviation_Detail!D423)","v":""},"",{"$f":"IF(COUNTIF(AY$2:AY401,AY401)=1,AY401,\"\")","v":""},"","","","",""]
[null,null,null,null,null,null,null,null,null,null,null,null,null,null,null,null,null,null,null,null,{"$f":"+IF(Z402=\"\",\"\",MAX(U$1:U401)+1)","v":""},{"$f":"IF(Limit_Deviation_Detail!B424=\"\",\"\",Limit_Deviation_Detail!B424)","v":""},{"$f":"IF(Limit_Deviation_Detail!C424=\"\",\"\",Limit_Deviation_Detail!C424)","v":""},{"$f":"IF(Limit_Deviation_Detail!E424=\"\",\"\",Limit_Deviation_Detail!E424)","v":""},"",{"$f":"IF(COUNTIF(Y$2:Y402,Y402)=1,Y402,\"\")","v":""},"","","","","",null,null,null,null,null,null,null,null,null,null,null,null,null,null,null,{"$f":"+IF(AZ402=\"\",\"\",MAX(AU$1:AU401)+1)","v":""},{"$f":"IF(CMS_Deviation_Detail!B424=\"\",\"\",CMS_Deviation_Detail!B424)","v":""},{"$f":"IF(CMS_Deviation_Detail!C424=\"\",\"\",CMS_Deviation_Detail!C424)","v":""},{"$f":"IF(CMS_Deviation_Detail!D424=\"\",\"\",CMS_Deviation_Detail!D424)","v":""},"",{"$f":"IF(COUNTIF(AY$2:AY402,AY402)=1,AY402,\"\")","v":""},"","","","",""]
[null,null,null,null,null,null,null,null,null,null,null,null,null,null,null,null,null,null,null,null,{"$f":"+IF(Z403=\"\",\"\",MAX(U$1:U402)+1)","v":""},{"$f":"IF(Limit_Deviation_Detail!B425=\"\",\"\",Limit_Deviation_Detail!B425)","v":""},{"$f":"IF(Limit_Deviation_Detail!C425=\"\",\"\",Limit_Deviation_Detail!C425)","v":""},{"$f":"IF(Limit_Deviation_Detail!E425=\"\",\"\",Limit_Deviation_Detail!E425)","v":""},"",{"$f":"IF(COUNTIF(Y$2:Y403,Y403)=1,Y403,\"\")","v":""},"","","","","",null,null,null,null,null,null,null,null,null,null,null,null,null,null,null,{"$f":"+IF(AZ403=\"\",\"\",MAX(AU$1:AU402)+1)","v":""},{"$f":"IF(CMS_Deviation_Detail!B425=\"\",\"\",CMS_Deviation_Detail!B425)","v":""},{"$f":"IF(CMS_Deviation_Detail!C425=\"\",\"\",CMS_Deviation_Detail!C425)","v":""},{"$f":"IF(CMS_Deviation_Detail!D425=\"\",\"\",CMS_Deviation_Detail!D425)","v":""},"",{"$f":"IF(COUNTIF(AY$2:AY403,AY403)=1,AY403,\"\")","v":""},"","","","",""]
[null,null,null,null,null,null,null,null,null,null,null,null,null,null,null,null,null,null,null,null,{"$f":"+IF(Z404=\"\",\"\",MAX(U$1:U403)+1)","v":""},{"$f":"IF(Limit_Deviation_Detail!B426=\"\",\"\",Limit_Deviation_Detail!B426)","v":""},{"$f":"IF(Limit_Deviation_Detail!C426=\"\",\"\",Limit_Deviation_Detail!C426)","v":""},{"$f":"IF(Limit_Deviation_Detail!E426=\"\",\"\",Limit_Deviation_Detail!E426)","v":""},"",{"$f":"IF(COUNTIF(Y$2:Y404,Y404)=1,Y404,\"\")","v":""},"","","","","",null,null,null,null,null,null,null,null,null,null,null,null,null,null,null,{"$f":"+IF(AZ404=\"\",\"\",MAX(AU$1:AU403)+1)","v":""},{"$f":"IF(CMS_Deviation_Detail!B426=\"\",\"\",CMS_Deviation_Detail!B426)","v":""},{"$f":"IF(CMS_Deviation_Detail!C426=\"\",\"\",CMS_Deviation_Detail!C426)","v":""},{"$f":"IF(CMS_Deviation_Detail!D426=\"\",\"\",CMS_Deviation_Detail!D426)","v":""},"",{"$f":"IF(COUNTIF(AY$2:AY404,AY404)=1,AY404,\"\")","v":""},"","","","",""]
[null,null,null,null,null,null,null,null,null,null,null,null,null,null,null,null,null,null,null,null,{"$f":"+IF(Z405=\"\",\"\",MAX(U$1:U404)+1)","v":""},{"$f":"IF(Limit_Deviation_Detail!B427=\"\",\"\",Limit_Deviation_Detail!B427)","v":""},{"$f":"IF(Limit_Deviation_Detail!C427=\"\",\"\",Limit_Deviation_Detail!C427)","v":""},{"$f":"IF(Limit_Deviation_Detail!E427=\"\",\"\",Limit_Deviation_Detail!E427)","v":""},"",{"$f":"IF(COUNTIF(Y$2:Y405,Y405)=1,Y405,\"\")","v":""},"","","","","",null,null,null,null,null,null,null,null,null,null,null,null,null,null,null,{"$f":"+IF(AZ405=\"\",\"\",MAX(AU$1:AU404)+1)","v":""},{"$f":"IF(CMS_Deviation_Detail!B427=\"\",\"\",CMS_Deviation_Detail!B427)","v":""},{"$f":"IF(CMS_Deviation_Detail!C427=\"\",\"\",CMS_Deviation_Detail!C427)","v":""},{"$f":"IF(CMS_Deviation_Detail!D427=\"\",\"\",CMS_Deviation_Detail!D427)","v":""},"",{"$f":"IF(COUNTIF(AY$2:AY405,AY405)=1,AY405,\"\")","v":""},"","","","",""]
[null,null,null,null,null,null,null,null,null,null,null,null,null,null,null,null,null,null,null,null,{"$f":"+IF(Z406=\"\",\"\",MAX(U$1:U405)+1)","v":""},{"$f":"IF(Limit_Deviation_Detail!B428=\"\",\"\",Limit_Deviation_Detail!B428)","v":""},{"$f":"IF(Limit_Deviation_Detail!C428=\"\",\"\",Limit_Deviation_Detail!C428)","v":""},{"$f":"IF(Limit_Deviation_Detail!E428=\"\",\"\",Limit_Deviation_Detail!E428)","v":""},"",{"$f":"IF(COUNTIF(Y$2:Y406,Y406)=1,Y406,\"\")","v":""},"","","","","",null,null,null,null,null,null,null,null,null,null,null,null,null,null,null,{"$f":"+IF(AZ406=\"\",\"\",MAX(AU$1:AU405)+1)","v":""},{"$f":"IF(CMS_Deviation_Detail!B428=\"\",\"\",CMS_Deviation_Detail!B428)","v":""},{"$f":"IF(CMS_Deviation_Detail!C428=\"\",\"\",CMS_Deviation_Detail!C428)","v":""},{"$f":"IF(CMS_Deviation_Detail!D428=\"\",\"\",CMS_Deviation_Detail!D428)","v":""},"",{"$f":"IF(COUNTIF(AY$2:AY406,AY406)=1,AY406,\"\")","v":""},"","","","",""]
[null,null,null,null,null,null,null,null,null,null,null,null,null,null,null,null,null,null,null,null,{"$f":"+IF(Z407=\"\",\"\",MAX(U$1:U406)+1)","v":""},{"$f":"IF(Limit_Deviation_Detail!B429=\"\",\"\",Limit_Deviation_Detail!B429)","v":""},{"$f":"IF(Limit_Deviation_Detail!C429=\"\",\"\",Limit_Deviation_Detail!C429)","v":""},{"$f":"IF(Limit_Deviation_Detail!E429=\"\",\"\",Limit_Deviation_Detail!E429)","v":""},"",{"$f":"IF(COUNTIF(Y$2:Y407,Y407)=1,Y407,\"\")","v":""},"","","","","",null,null,null,null,null,null,null,null,null,null,null,null,null,null,null,{"$f":"+IF(AZ407=\"\",\"\",MAX(AU$1:AU406)+1)","v":""},{"$f":"IF(CMS_Deviation_Detail!B429=\"\",\"\",CMS_Deviation_Detail!B429)","v":""},{"$f":"IF(CMS_Deviation_Detail!C429=\"\",\"\",CMS_Deviation_Detail!C429)","v":""},{"$f":"IF(CMS_Deviation_Detail!D429=\"\",\"\",CMS_Deviation_Detail!D429)","v":""},"",{"$f":"IF(COUNTIF(AY$2:AY407,AY407)=1,AY407,\"\")","v":""},"","","","",""]
[null,null,null,null,null,null,null,null,null,null,null,null,null,null,null,null,null,null,null,null,{"$f":"+IF(Z408=\"\",\"\",MAX(U$1:U407)+1)","v":""},{"$f":"IF(Limit_Deviation_Detail!B430=\"\",\"\",Limit_Deviation_Detail!B430)","v":""},{"$f":"IF(Limit_Deviation_Detail!C430=\"\",\"\",Limit_Deviation_Detail!C430)","v":""},{"$f":"IF(Limit_Deviation_Detail!E430=\"\",\"\",Limit_Deviation_Detail!E430)","v":""},"",{"$f":"IF(COUNTIF(Y$2:Y408,Y408)=1,Y408,\"\")","v":""},"","","","","",null,null,null,null,null,null,null,null,null,null,null,null,null,null,null,{"$f":"+IF(AZ408=\"\",\"\",MAX(AU$1:AU407)+1)","v":""},{"$f":"IF(CMS_Deviation_Detail!B430=\"\",\"\",CMS_Deviation_Detail!B430)","v":""},{"$f":"IF(CMS_Deviation_Detail!C430=\"\",\"\",CMS_Deviation_Detail!C430)","v":""},{"$f":"IF(CMS_Deviation_Detail!D430=\"\",\"\",CMS_Deviation_Detail!D430)","v":""},"",{"$f":"IF(COUNTIF(AY$2:AY408,AY408)=1,AY408,\"\")","v":""},"","","","",""]
[null,null,null,null,null,null,null,null,null,null,null,null,null,null,null,null,null,null,null,null,{"$f":"+IF(Z409=\"\",\"\",MAX(U$1:U408)+1)","v":""},{"$f":"IF(Limit_Deviation_Detail!B431=\"\",\"\",Limit_Deviation_Detail!B431)","v":""},{"$f":"IF(Limit_Deviation_Detail!C431=\"\",\"\",Limit_Deviation_Detail!C431)","v":""},{"$f":"IF(Limit_Deviation_Detail!E431=\"\",\"\",Limit_Deviation_Detail!E431)","v":""},"",{"$f":"IF(COUNTIF(Y$2:Y409,Y409)=1,Y409,\"\")","v":""},"","","","","",null,null,null,null,null,null,null,null,null,null,null,null,null,null,null,{"$f":"+IF(AZ409=\"\",\"\",MAX(AU$1:AU408)+1)","v":""},{"$f":"IF(CMS_Deviation_Detail!B431=\"\",\"\",CMS_Deviation_Detail!B431)","v":""},{"$f":"IF(CMS_Deviation_Detail!C431=\"\",\"\",CMS_Deviation_Detail!C431)","v":""},{"$f":"IF(CMS_Deviation_Detail!D431=\"\",\"\",CMS_Deviation_Detail!D431)","v":""},"",{"$f":"IF(COUNTIF(AY$2:AY409,AY409)=1,AY409,\"\")","v":""},"","","","",""]
[null,null,null,null,null,null,null,null,null,null,null,null,null,null,null,null,null,null,null,null,{"$f":"+IF(Z410=\"\",\"\",MAX(U$1:U409)+1)","v":""},{"$f":"IF(Limit_Deviation_Detail!B432=\"\",\"\",Limit_Deviation_Detail!B432)","v":""},{"$f":"IF(Limit_Deviation_Detail!C432=\"\",\"\",Limit_Deviation_Detail!C432)","v":""},{"$f":"IF(Limit_Deviation_Detail!E432=\"\",\"\",Limit_Deviation_Detail!E432)","v":""},"",{"$f":"IF(COUNTIF(Y$2:Y410,Y410)=1,Y410,\"\")","v":""},"","","","","",null,null,null,null,null,null,null,null,null,null,null,null,null,null,null,{"$f":"+IF(AZ410=\"\",\"\",MAX(AU$1:AU409)+1)","v":""},{"$f":"IF(CMS_Deviation_Detail!B432=\"\",\"\",CMS_Deviation_Detail!B432)","v":""},{"$f":"IF(CMS_Deviation_Detail!C432=\"\",\"\",CMS_Deviation_Detail!C432)","v":""},{"$f":"IF(CMS_Deviation_Detail!D432=\"\",\"\",CMS_Deviation_Detail!D432)","v":""},"",{"$f":"IF(COUNTIF(AY$2:AY410,AY410)=1,AY410,\"\")","v":""},"","","","",""]
[null,null,null,null,null,null,null,null,null,null,null,null,null,null,null,null,null,null,null,null,{"$f":"+IF(Z411=\"\",\"\",MAX(U$1:U410)+1)","v":""},{"$f":"IF(Limit_Deviation_Detail!B433=\"\",\"\",Limit_Deviation_Detail!B433)","v":""},{"$f":"IF(Limit_Deviation_Detail!C433=\"\",\"\",Limit_Deviation_Detail!C433)","v":""},{"$f":"IF(Limit_Deviation_Detail!E433=\"\",\"\",Limit_Deviation_Detail!E433)","v":""},"",{"$f":"IF(COUNTIF(Y$2:Y411,Y411)=1,Y411,\"\")","v":""},"","","","","",null,null,null,null,null,null,null,null,null,null,null,null,null,null,null,{"$f":"+IF(AZ411=\"\",\"\",MAX(AU$1:AU410)+1)","v":""},{"$f":"IF(CMS_Deviation_Detail!B433=\"\",\"\",CMS_Deviation_Detail!B433)","v":""},{"$f":"IF(CMS_Deviation_Detail!C433=\"\",\"\",CMS_Deviation_Detail!C433)","v":""},{"$f":"IF(CMS_Deviation_Detail!D433=\"\",\"\",CMS_Deviation_Detail!D433)","v":""},"",{"$f":"IF(COUNTIF(AY$2:AY411,AY411)=1,AY411,\"\")","v":""},"","","","",""]
[null,null,null,null,null,null,null,null,null,null,null,null,null,null,null,null,null,null,null,null,{"$f":"+IF(Z412=\"\",\"\",MAX(U$1:U411)+1)","v":""},{"$f":"IF(Limit_Deviation_Detail!B434=\"\",\"\",Limit_Deviation_Detail!B434)","v":""},{"$f":"IF(Limit_Deviation_Detail!C434=\"\",\"\",Limit_Deviation_Detail!C434)","v":""},{"$f":"IF(Limit_Deviation_Detail!E434=\"\",\"\",Limit_Deviation_Detail!E434)","v":""},"",{"$f":"IF(COUNTIF(Y$2:Y412,Y412)=1,Y412,\"\")","v":""},"","","","","",null,null,null,null,null,null,null,null,null,null,null,null,null,null,null,{"$f":"+IF(AZ412=\"\",\"\",MAX(AU$1:AU411)+1)","v":""},{"$f":"IF(CMS_Deviation_Detail!B434=\"\",\"\",CMS_Deviation_Detail!B434)","v":""},{"$f":"IF(CMS_Deviation_Detail!C434=\"\",\"\",CMS_Deviation_Detail!C434)","v":""},{"$f":"IF(CMS_Deviation_Detail!D434=\"\",\"\",CMS_Deviation_Detail!D434)","v":""},"",{"$f":"IF(COUNTIF(AY$2:AY412,AY412)=1,AY412,\"\")","v":""},"","","","",""]
[null,null,null,null,null,null,null,null,null,null,null,null,null,null,null,null,null,null,null,null,{"$f":"+IF(Z413=\"\",\"\",MAX(U$1:U412)+1)","v":""},{"$f":"IF(Limit_Deviation_Detail!B435=\"\",\"\",Limit_Deviation_Detail!B435)","v":""},{"$f":"IF(Limit_Deviation_Detail!C435=\"\",\"\",Limit_Deviation_Detail!C435)","v":""},{"$f":"IF(Limit_Deviation_Detail!E435=\"\",\"\",Limit_Deviation_Detail!E435)","v":""},"",{"$f":"IF(COUNTIF(Y$2:Y413,Y413)=1,Y413,\"\")","v":""},"","","","","",null,null,null,null,null,null,null,null,null,null,null,null,null,null,null,{"$f":"+IF(AZ413=\"\",\"\",MAX(AU$1:AU412)+1)","v":""},{"$f":"IF(CMS_Deviation_Detail!B435=\"\",\"\",CMS_Deviation_Detail!B435)","v":""},{"$f":"IF(CMS_Deviation_Detail!C435=\"\",\"\",CMS_Deviation_Detail!C435)","v":""},{"$f":"IF(CMS_Deviation_Detail!D435=\"\",\"\",CMS_Deviation_Detail!D435)","v":""},"",{"$f":"IF(COUNTIF(AY$2:AY413,AY413)=1,AY413,\"\")","v":""},"","","","",""]
[null,null,null,null,null,null,null,null,null,null,null,null,null,null,null,null,null,null,null,null,{"$f":"+IF(Z414=\"\",\"\",MAX(U$1:U413)+1)","v":""},{"$f":"IF(Limit_Deviation_Detail!B436=\"\",\"\",Limit_Deviation_Detail!B436)","v":""},{"$f":"IF(Limit_Deviation_Detail!C436=\"\",\"\",Limit_Deviation_Detail!C436)","v":""},{"$f":"IF(Limit_Deviation_Detail!E436=\"\",\"\",Limit_Deviation_Detail!E436)","v":""},"",{"$f":"IF(COUNTIF(Y$2:Y414,Y414)=1,Y414,\"\")","v":""},"","","","","",null,null,null,null,null,null,null,null,null,null,null,null,null,null,null,{"$f":"+IF(AZ414=\"\",\"\",MAX(AU$1:AU413)+1)","v":""},{"$f":"IF(CMS_Deviation_Detail!B436=\"\",\"\",CMS_Deviation_Detail!B436)","v":""},{"$f":"IF(CMS_Deviation_Detail!C436=\"\",\"\",CMS_Deviation_Detail!C436)","v":""},{"$f":"IF(CMS_Deviation_Detail!D436=\"\",\"\",CMS_Deviation_Detail!D436)","v":""},"",{"$f":"IF(COUNTIF(AY$2:AY414,AY414)=1,AY414,\"\")","v":""},"","","","",""]
[null,null,null,null,null,null,null,null,null,null,null,null,null,null,null,null,null,null,null,null,{"$f":"+IF(Z415=\"\",\"\",MAX(U$1:U414)+1)","v":""},{"$f":"IF(Limit_Deviation_Detail!B437=\"\",\"\",Limit_Deviation_Detail!B437)","v":""},{"$f":"IF(Limit_Deviation_Detail!C437=\"\",\"\",Limit_Deviation_Detail!C437)","v":""},{"$f":"IF(Limit_Deviation_Detail!E437=\"\",\"\",Limit_Deviation_Detail!E437)","v":""},"",{"$f":"IF(COUNTIF(Y$2:Y415,Y415)=1,Y415,\"\")","v":""},"","","","","",null,null,null,null,null,null,null,null,null,null,null,null,null,null,null,{"$f":"+IF(AZ415=\"\",\"\",MAX(AU$1:AU414)+1)","v":""},{"$f":"IF(CMS_Deviation_Detail!B437=\"\",\"\",CMS_Deviation_Detail!B437)","v":""},{"$f":"IF(CMS_Deviation_Detail!C437=\"\",\"\",CMS_Deviation_Detail!C437)","v":""},{"$f":"IF(CMS_Deviation_Detail!D437=\"\",\"\",CMS_Deviation_Detail!D437)","v":""},"",{"$f":"IF(COUNTIF(AY$2:AY415,AY415)=1,AY415,\"\")","v":""},"","","","",""]
[null,null,null,null,null,null,null,null,null,null,null,null,null,null,null,null,null,null,null,null,{"$f":"+IF(Z416=\"\",\"\",MAX(U$1:U415)+1)","v":""},{"$f":"IF(Limit_Deviation_Detail!B438=\"\",\"\",Limit_Deviation_Detail!B438)","v":""},{"$f":"IF(Limit_Deviation_Detail!C438=\"\",\"\",Limit_Deviation_Detail!C438)","v":""},{"$f":"IF(Limit_Deviation_Detail!E438=\"\",\"\",Limit_Deviation_Detail!E438)","v":""},"",{"$f":"IF(COUNTIF(Y$2:Y416,Y416)=1,Y416,\"\")","v":""},"","","","","",null,null,null,null,null,null,null,null,null,null,null,null,null,null,null,{"$f":"+IF(AZ416=\"\",\"\",MAX(AU$1:AU415)+1)","v":""},{"$f":"IF(CMS_Deviation_Detail!B438=\"\",\"\",CMS_Deviation_Detail!B438)","v":""},{"$f":"IF(CMS_Deviation_Detail!C438=\"\",\"\",CMS_Deviation_Detail!C438)","v":""},{"$f":"IF(CMS_Deviation_Detail!D438=\"\",\"\",CMS_Deviation_Detail!D438)","v":""},"",{"$f":"IF(COUNTIF(AY$2:AY416,AY416)=1,AY416,\"\")","v":""},"","","","",""]
[null,null,null,null,null,null,null,null,null,null,null,null,null,null,null,null,null,null,null,null,{"$f":"+IF(Z417=\"\",\"\",MAX(U$1:U416)+1)","v":""},{"$f":"IF(Limit_Deviation_Detail!B439=\"\",\"\",Limit_Deviation_Detail!B439)","v":""},{"$f":"IF(Limit_Deviation_Detail!C439=\"\",\"\",Limit_Deviation_Detail!C439)","v":""},{"$f":"IF(Limit_Deviation_Detail!E439=\"\",\"\",Limit_Deviation_Detail!E439)","v":""},"",{"$f":"IF(COUNTIF(Y$2:Y417,Y417)=1,Y417,\"\")","v":""},"","","","","",null,null,null,null,null,null,null,null,null,null,null,null,null,null,null,{"$f":"+IF(AZ417=\"\",\"\",MAX(AU$1:AU416)+1)","v":""},{"$f":"IF(CMS_Deviation_Detail!B439=\"\",\"\",CMS_Deviation_Detail!B439)","v":""},{"$f":"IF(CMS_Deviation_Detail!C439=\"\",\"\",CMS_Deviation_Detail!C439)","v":""},{"$f":"IF(CMS_Deviation_Detail!D439=\"\",\"\",CMS_Deviation_Detail!D439)","v":""},"",{"$f":"IF(COUNTIF(AY$2:AY417,AY417)=1,AY417,\"\")","v":""},"","","","",""]
[null,null,null,null,null,null,null,null,null,null,null,null,null,null,null,null,null,null,null,null,{"$f":"+IF(Z418=\"\",\"\",MAX(U$1:U417)+1)","v":""},{"$f":"IF(Limit_Deviation_Detail!B440=\"\",\"\",Limit_Deviation_Detail!B440)","v":""},{"$f":"IF(Limit_Deviation_Detail!C440=\"\",\"\",Limit_Deviation_Detail!C440)","v":""},{"$f":"IF(Limit_Deviation_Detail!E440=\"\",\"\",Limit_Deviation_Detail!E440)","v":""},"",{"$f":"IF(COUNTIF(Y$2:Y418,Y418)=1,Y418,\"\")","v":""},"","","","","",null,null,null,null,null,null,null,null,null,null,null,null,null,null,null,{"$f":"+IF(AZ418=\"\",\"\",MAX(AU$1:AU417)+1)","v":""},{"$f":"IF(CMS_Deviation_Detail!B440=\"\",\"\",CMS_Deviation_Detail!B440)","v":""},{"$f":"IF(CMS_Deviation_Detail!C440=\"\",\"\",CMS_Deviation_Detail!C440)","v":""},{"$f":"IF(CMS_Deviation_Detail!D440=\"\",\"\",CMS_Deviation_Detail!D440)","v":""},"",{"$f":"IF(COUNTIF(AY$2:AY418,AY418)=1,AY418,\"\")","v":""},"","","","",""]
[null,null,null,null,null,null,null,null,null,null,null,null,null,null,null,null,null,null,null,null,{"$f":"+IF(Z419=\"\",\"\",MAX(U$1:U418)+1)","v":""},{"$f":"IF(Limit_Deviation_Detail!B441=\"\",\"\",Limit_Deviation_Detail!B441)","v":""},{"$f":"IF(Limit_Deviation_Detail!C441=\"\",\"\",Limit_Deviation_Detail!C441)","v":""},{"$f":"IF(Limit_Deviation_Detail!E441=\"\",\"\",Limit_Deviation_Detail!E441)","v":""},"",{"$f":"IF(COUNTIF(Y$2:Y419,Y419)=1,Y419,\"\")","v":""},"","","","","",null,null,null,null,null,null,null,null,null,null,null,null,null,null,null,{"$f":"+IF(AZ419=\"\",\"\",MAX(AU$1:AU418)+1)","v":""},{"$f":"IF(CMS_Deviation_Detail!B441=\"\",\"\",CMS_Deviation_Detail!B441)","v":""},{"$f":"IF(CMS_Deviation_Detail!C441=\"\",\"\",CMS_Deviation_Detail!C441)","v":""},{"$f":"IF(CMS_Deviation_Detail!D441=\"\",\"\",CMS_Deviation_Detail!D441)","v":""},"",{"$f":"IF(COUNTIF(AY$2:AY419,AY419)=1,AY419,\"\")","v":""},"","","","",""]
[null,null,null,null,null,null,null,null,null,null,null,null,null,null,null,null,null,null,null,null,{"$f":"+IF(Z420=\"\",\"\",MAX(U$1:U419)+1)","v":""},{"$f":"IF(Limit_Deviation_Detail!B442=\"\",\"\",Limit_Deviation_Detail!B442)","v":""},{"$f":"IF(Limit_Deviation_Detail!C442=\"\",\"\",Limit_Deviation_Detail!C442)","v":""},{"$f":"IF(Limit_Deviation_Detail!E442=\"\",\"\",Limit_Deviation_Detail!E442)","v":""},"",{"$f":"IF(COUNTIF(Y$2:Y420,Y420)=1,Y420,\"\")","v":""},"","","","","",null,null,null,null,null,null,null,null,null,null,null,null,null,null,null,{"$f":"+IF(AZ420=\"\",\"\",MAX(AU$1:AU419)+1)","v":""},{"$f":"IF(CMS_Deviation_Detail!B442=\"\",\"\",CMS_Deviation_Detail!B442)","v":""},{"$f":"IF(CMS_Deviation_Detail!C442=\"\",\"\",CMS_Deviation_Detail!C442)","v":""},{"$f":"IF(CMS_Deviation_Detail!D442=\"\",\"\",CMS_Deviation_Detail!D442)","v":""},"",{"$f":"IF(COUNTIF(AY$2:AY420,AY420)=1,AY420,\"\")","v":""},"","","","",""]
[null,null,null,null,null,null,null,null,null,null,null,null,null,null,null,null,null,null,null,null,{"$f":"+IF(Z421=\"\",\"\",MAX(U$1:U420)+1)","v":""},{"$f":"IF(Limit_Deviation_Detail!B443=\"\",\"\",Limit_Deviation_Detail!B443)","v":""},{"$f":"IF(Limit_Deviation_Detail!C443=\"\",\"\",Limit_Deviation_Detail!C443)","v":""},{"$f":"IF(Limit_Deviation_Detail!E443=\"\",\"\",Limit_Deviation_Detail!E443)","v":""},"",{"$f":"IF(COUNTIF(Y$2:Y421,Y421)=1,Y421,\"\")","v":""},"","","","","",null,null,null,null,null,null,null,null,null,null,null,null,null,null,null,{"$f":"+IF(AZ421=\"\",\"\",MAX(AU$1:AU420)+1)","v":""},{"$f":"IF(CMS_Deviation_Detail!B443=\"\",\"\",CMS_Deviation_Detail!B443)","v":""},{"$f":"IF(CMS_Deviation_Detail!C443=\"\",\"\",CMS_Deviation_Detail!C443)","v":""},{"$f":"IF(CMS_Deviation_Detail!D443=\"\",\"\",CMS_Deviation_Detail!D443)","v":""},"",{"$f":"IF(COUNTIF(AY$2:AY421,AY421)=1,AY421,\"\")","v":""},"","","","",""]
[null,null,null,null,null,null,null,null,null,null,null,null,null,null,null,null,null,null,null,null,{"$f":"+IF(Z422=\"\",\"\",MAX(U$1:U421)+1)","v":""},{"$f":"IF(Limit_Deviation_Detail!B444=\"\",\"\",Limit_Deviation_Detail!B444)","v":""},{"$f":"IF(Limit_Deviation_Detail!C444=\"\",\"\",Limit_Deviation_Detail!C444)","v":""},{"$f":"IF(Limit_Deviation_Detail!E444=\"\",\"\",Limit_Deviation_Detail!E444)","v":""},"",{"$f":"IF(COUNTIF(Y$2:Y422,Y422)=1,Y422,\"\")","v":""},"","","","","",null,null,null,null,null,null,null,null,null,null,null,null,null,null,null,{"$f":"+IF(AZ422=\"\",\"\",MAX(AU$1:AU421)+1)","v":""},{"$f":"IF(CMS_Deviation_Detail!B444=\"\",\"\",CMS_Deviation_Detail!B444)","v":""},{"$f":"IF(CMS_Deviation_Detail!C444=\"\",\"\",CMS_Deviation_Detail!C444)","v":""},{"$f":"IF(CMS_Deviation_Detail!D444=\"\",\"\",CMS_Deviation_Detail!D444)","v":""},"",{"$f":"IF(COUNTIF(AY$2:AY422,AY422)=1,AY422,\"\")","v":""},"","","","",""]
[null,null,null,null,null,null,null,null,null,null,null,null,null,null,null,null,null,null,null,null,{"$f":"+IF(Z423=\"\",\"\",MAX(U$1:U422)+1)","v":""},{"$f":"IF(Limit_Deviation_Detail!B445=\"\",\"\",Limit_Deviation_Detail!B445)","v":""},{"$f":"IF(Limit_Deviation_Detail!C445=\"\",\"\",Limit_Deviation_Detail!C445)","v":""},{"$f":"IF(Limit_Deviation_Detail!E445=\"\",\"\",Limit_Deviation_Detail!E445)","v":""},"",{"$f":"IF(COUNTIF(Y$2:Y423,Y423)=1,Y423,\"\")","v":""},"","","","","",null,null,null,null,null,null,null,null,null,null,null,null,null,null,null,{"$f":"+IF(AZ423=\"\",\"\",MAX(AU$1:AU422)+1)","v":""},{"$f":"IF(CMS_Deviation_Detail!B445=\"\",\"\",CMS_Deviation_Detail!B445)","v":""},{"$f":"IF(CMS_Deviation_Detail!C445=\"\",\"\",CMS_Deviation_Detail!C445)","v":""},{"$f":"IF(CMS_Deviation_Detail!D445=\"\",\"\",CMS_Deviation_Detail!D445)","v":""},"",{"$f":"IF(COUNTIF(AY$2:AY423,AY423)=1,AY423,\"\")","v":""},"","","","",""]
[null,null,null,null,null,null,null,null,null,null,null,null,null,null,null,null,null,null,null,null,{"$f":"+IF(Z424=\"\",\"\",MAX(U$1:U423)+1)","v":""},{"$f":"IF(Limit_Deviation_Detail!B446=\"\",\"\",Limit_Deviation_Detail!B446)","v":""},{"$f":"IF(Limit_Deviation_Detail!C446=\"\",\"\",Limit_Deviation_Detail!C446)","v":""},{"$f":"IF(Limit_Deviation_Detail!E446=\"\",\"\",Limit_Deviation_Detail!E446)","v":""},"",{"$f":"IF(COUNTIF(Y$2:Y424,Y424)=1,Y424,\"\")","v":""},"","","","","",null,null,null,null,null,null,null,null,null,null,null,null,null,null,null,{"$f":"+IF(AZ424=\"\",\"\",MAX(AU$1:AU423)+1)","v":""},{"$f":"IF(CMS_Deviation_Detail!B446=\"\",\"\",CMS_Deviation_Detail!B446)","v":""},{"$f":"IF(CMS_Deviation_Detail!C446=\"\",\"\",CMS_Deviation_Detail!C446)","v":""},{"$f":"IF(CMS_Deviation_Detail!D446=\"\",\"\",CMS_Deviation_Detail!D446)","v":""},"",{"$f":"IF(COUNTIF(AY$2:AY424,AY424)=1,AY424,\"\")","v":""},"","","","",""]
[null,null,null,null,null,null,null,null,null,null,null,null,null,null,null,null,null,null,null,null,{"$f":"+IF(Z425=\"\",\"\",MAX(U$1:U424)+1)","v":""},{"$f":"IF(Limit_Deviation_Detail!B447=\"\",\"\",Limit_Deviation_Detail!B447)","v":""},{"$f":"IF(Limit_Deviation_Detail!C447=\"\",\"\",Limit_Deviation_Detail!C447)","v":""},{"$f":"IF(Limit_Deviation_Detail!E447=\"\",\"\",Limit_Deviation_Detail!E447)","v":""},"",{"$f":"IF(COUNTIF(Y$2:Y425,Y425)=1,Y425,\"\")","v":""},"","","","","",null,null,null,null,null,null,null,null,null,null,null,null,null,null,null,{"$f":"+IF(AZ425=\"\",\"\",MAX(AU$1:AU424)+1)","v":""},{"$f":"IF(CMS_Deviation_Detail!B447=\"\",\"\",CMS_Deviation_Detail!B447)","v":""},{"$f":"IF(CMS_Deviation_Detail!C447=\"\",\"\",CMS_Deviation_Detail!C447)","v":""},{"$f":"IF(CMS_Deviation_Detail!D447=\"\",\"\",CMS_Deviation_Detail!D447)","v":""},"",{"$f":"IF(COUNTIF(AY$2:AY425,AY425)=1,AY425,\"\")","v":""},"","","","",""]
[null,null,null,null,null,null,null,null,null,null,null,null,null,null,null,null,null,null,null,null,{"$f":"+IF(Z426=\"\",\"\",MAX(U$1:U425)+1)","v":""},{"$f":"IF(Limit_Deviation_Detail!B448=\"\",\"\",Limit_Deviation_Detail!B448)","v":""},{"$f":"IF(Limit_Deviation_Detail!C448=\"\",\"\",Limit_Deviation_Detail!C448)","v":""},{"$f":"IF(Limit_Deviation_Detail!E448=\"\",\"\",Limit_Deviation_Detail!E448)","v":""},"",{"$f":"IF(COUNTIF(Y$2:Y426,Y426)=1,Y426,\"\")","v":""},"","","","","",null,null,null,null,null,null,null,null,null,null,null,null,null,null,null,{"$f":"+IF(AZ426=\"\",\"\",MAX(AU$1:AU425)+1)","v":""},{"$f":"IF(CMS_Deviation_Detail!B448=\"\",\"\",CMS_Deviation_Detail!B448)","v":""},{"$f":"IF(CMS_Deviation_Detail!C448=\"\",\"\",CMS_Deviation_Detail!C448)","v":""},{"$f":"IF(CMS_Deviation_Detail!D448=\"\",\"\",CMS_Deviation_Detail!D448)","v":""},"",{"$f":"IF(COUNTIF(AY$2:AY426,AY426)=1,AY426,\"\")","v":""},"","","","",""]
[null,null,null,null,null,null,null,null,null,null,null,null,null,null,null,null,null,null,null,null,{"$f":"+IF(Z427=\"\",\"\",MAX(U$1:U426)+1)","v":""},{"$f":"IF(Limit_Deviation_Detail!B449=\"\",\"\",Limit_Deviation_Detail!B449)","v":""},{"$f":"IF(Limit_Deviation_Detail!C449=\"\",\"\",Limit_Deviation_Detail!C449)","v":""},{"$f":"IF(Limit_Deviation_Detail!E449=\"\",\"\",Limit_Deviation_Detail!E449)","v":""},"",{"$f":"IF(COUNTIF(Y$2:Y427,Y427)=1,Y427,\"\")","v":""},"","","","","",null,null,null,null,null,null,null,null,null,null,null,null,null,null,null,{"$f":"+IF(AZ427=\"\",\"\",MAX(AU$1:AU426)+1)","v":""},{"$f":"IF(CMS_Deviation_Detail!B449=\"\",\"\",CMS_Deviation_Detail!B449)","v":""},{"$f":"IF(CMS_Deviation_Detail!C449=\"\",\"\",CMS_Deviation_Detail!C449)","v":""},{"$f":"IF(CMS_Deviation_Detail!D449=\"\",\"\",CMS_Deviation_Detail!D449)","v":""},"",{"$f":"IF(COUNTIF(AY$2:AY427,AY427)=1,AY427,\"\")","v":""},"","","","",""]
[null,null,null,null,null,null,null,null,null,null,null,null,null,null,null,null,null,null,null,null,{"$f":"+IF(Z428=\"\",\"\",MAX(U$1:U427)+1)","v":""},{"$f":"IF(Limit_Deviation_Detail!B450=\"\",\"\",Limit_Deviation_Detail!B450)","v":""},{"$f":"IF(Limit_Deviation_Detail!C450=\"\",\"\",Limit_Deviation_Detail!C450)","v":""},{"$f":"IF(Limit_Deviation_Detail!E450=\"\",\"\",Limit_Deviation_Detail!E450)","v":""},"",{"$f":"IF(COUNTIF(Y$2:Y428,Y428)=1,Y428,\"\")","v":""},"","","","","",null,null,null,null,null,null,null,null,null,null,null,null,null,null,null,{"$f":"+IF(AZ428=\"\",\"\",MAX(AU$1:AU427)+1)","v":""},{"$f":"IF(CMS_Deviation_Detail!B450=\"\",\"\",CMS_Deviation_Detail!B450)","v":""},{"$f":"IF(CMS_Deviation_Detail!C450=\"\",\"\",CMS_Deviation_Detail!C450)","v":""},{"$f":"IF(CMS_Deviation_Detail!D450=\"\",\"\",CMS_Deviation_Detail!D450)","v":""},"",{"$f":"IF(COUNTIF(AY$2:AY428,AY428)=1,AY428,\"\")","v":""},"","","","",""]
[null,null,null,null,null,null,null,null,null,null,null,null,null,null,null,null,null,null,null,null,{"$f":"+IF(Z429=\"\",\"\",MAX(U$1:U428)+1)","v":""},{"$f":"IF(Limit_Deviation_Detail!B451=\"\",\"\",Limit_Deviation_Detail!B451)","v":""},{"$f":"IF(Limit_Deviation_Detail!C451=\"\",\"\",Limit_Deviation_Detail!C451)","v":""},{"$f":"IF(Limit_Deviation_Detail!E451=\"\",\"\",Limit_Deviation_Detail!E451)","v":""},"",{"$f":"IF(COUNTIF(Y$2:Y429,Y429)=1,Y429,\"\")","v":""},"","","","","",null,null,null,null,null,null,null,null,null,null,null,null,null,null,null,{"$f":"+IF(AZ429=\"\",\"\",MAX(AU$1:AU428)+1)","v":""},{"$f":"IF(CMS_Deviation_Detail!B451=\"\",\"\",CMS_Deviation_Detail!B451)","v":""},{"$f":"IF(CMS_Deviation_Detail!C451=\"\",\"\",CMS_Deviation_Detail!C451)","v":""},{"$f":"IF(CMS_Deviation_Detail!D451=\"\",\"\",CMS_Deviation_Detail!D451)","v":""},"",{"$f":"IF(COUNTIF(AY$2:AY429,AY429)=1,AY429,\"\")","v":""},"","","","",""]
[null,null,null,null,null,null,null,null,null,null,null,null,null,null,null,null,null,null,null,null,{"$f":"+IF(Z430=\"\",\"\",MAX(U$1:U429)+1)","v":""},{"$f":"IF(Limit_Deviation_Detail!B452=\"\",\"\",Limit_Deviation_Detail!B452)","v":""},{"$f":"IF(Limit_Deviation_Detail!C452=\"\",\"\",Limit_Deviation_Detail!C452)","v":""},{"$f":"IF(Limit_Deviation_Detail!E452=\"\",\"\",Limit_Deviation_Detail!E452)","v":""},"",{"$f":"IF(COUNTIF(Y$2:Y430,Y430)=1,Y430,\"\")","v":""},"","","","","",null,null,null,null,null,null,null,null,null,null,null,null,null,null,null,{"$f":"+IF(AZ430=\"\",\"\",MAX(AU$1:AU429)+1)","v":""},{"$f":"IF(CMS_Deviation_Detail!B452=\"\",\"\",CMS_Deviation_Detail!B452)","v":""},{"$f":"IF(CMS_Deviation_Detail!C452=\"\",\"\",CMS_Deviation_Detail!C452)","v":""},{"$f":"IF(CMS_Deviation_Detail!D452=\"\",\"\",CMS_Deviation_Detail!D452)","v":""},"",{"$f":"IF(COUNTIF(AY$2:AY430,AY430)=1,AY430,\"\")","v":""},"","","","",""]
[null,null,null,null,null,null,null,null,null,null,null,null,null,null,null,null,null,null,null,null,{"$f":"+IF(Z431=\"\",\"\",MAX(U$1:U430)+1)","v":""},{"$f":"IF(Limit_Deviation_Detail!B453=\"\",\"\",Limit_Deviation_Detail!B453)","v":""},{"$f":"IF(Limit_Deviation_Detail!C453=\"\",\"\",Limit_Deviation_Detail!C453)","v":""},{"$f":"IF(Limit_Deviation_Detail!E453=\"\",\"\",Limit_Deviation_Detail!E453)","v":""},"",{"$f":"IF(COUNTIF(Y$2:Y431,Y431)=1,Y431,\"\")","v":""},"","","","","",null,null,null,null,null,null,null,null,null,null,null,null,null,null,null,{"$f":"+IF(AZ431=\"\",\"\",MAX(AU$1:AU430)+1)","v":""},{"$f":"IF(CMS_Deviation_Detail!B453=\"\",\"\",CMS_Deviation_Detail!B453)","v":""},{"$f":"IF(CMS_Deviation_Detail!C453=\"\",\"\",CMS_Deviation_Detail!C453)","v":""},{"$f":"IF(CMS_Deviation_Detail!D453=\"\",\"\",CMS_Deviation_Detail!D453)","v":""},"",{"$f":"IF(COUNTIF(AY$2:AY431,AY431)=1,AY431,\"\")","v":""},"","","","",""]
[null,null,null,null,null,null,null,null,null,null,null,null,null,null,null,null,null,null,null,null,{"$f":"+IF(Z432=\"\",\"\",MAX(U$1:U431)+1)","v":""},{"$f":"IF(Limit_Deviation_Detail!B454=\"\",\"\",Limit_Deviation_Detail!B454)","v":""},{"$f":"IF(Limit_Deviation_Detail!C454=\"\",\"\",Limit_Deviation_Detail!C454)","v":""},{"$f":"IF(Limit_Deviation_Detail!E454=\"\",\"\",Limit_Deviation_Detail!E454)","v":""},"",{"$f":"IF(COUNTIF(Y$2:Y432,Y432)=1,Y432,\"\")","v":""},"","","","","",null,null,null,null,null,null,null,null,null,null,null,null,null,null,null,{"$f":"+IF(AZ432=\"\",\"\",MAX(AU$1:AU431)+1)","v":""},{"$f":"IF(CMS_Deviation_Detail!B454=\"\",\"\",CMS_Deviation_Detail!B454)","v":""},{"$f":"IF(CMS_Deviation_Detail!C454=\"\",\"\",CMS_Deviation_Detail!C454)","v":""},{"$f":"IF(CMS_Deviation_Detail!D454=\"\",\"\",CMS_Deviation_Detail!D454)","v":""},"",{"$f":"IF(COUNTIF(AY$2:AY432,AY432)=1,AY432,\"\")","v":""},"","","","",""]
[null,null,null,null,null,null,null,null,null,null,null,null,null,null,null,null,null,null,null,null,{"$f":"+IF(Z433=\"\",\"\",MAX(U$1:U432)+1)","v":""},{"$f":"IF(Limit_Deviation_Detail!B455=\"\",\"\",Limit_Deviation_Detail!B455)","v":""},{"$f":"IF(Limit_Deviation_Detail!C455=\"\",\"\",Limit_Deviation_Detail!C455)","v":""},{"$f":"IF(Limit_Deviation_Detail!E455=\"\",\"\",Limit_Deviation_Detail!E455)","v":""},"",{"$f":"IF(COUNTIF(Y$2:Y433,Y433)=1,Y433,\"\")","v":""},"","","","","",null,null,null,null,null,null,null,null,null,null,null,null,null,null,null,{"$f":"+IF(AZ433=\"\",\"\",MAX(AU$1:AU432)+1)","v":""},{"$f":"IF(CMS_Deviation_Detail!B455=\"\",\"\",CMS_Deviation_Detail!B455)","v":""},{"$f":"IF(CMS_Deviation_Detail!C455=\"\",\"\",CMS_Deviation_Detail!C455)","v":""},{"$f":"IF(CMS_Deviation_Detail!D455=\"\",\"\",CMS_Deviation_Detail!D455)","v":""},"",{"$f":"IF(COUNTIF(AY$2:AY433,AY433)=1,AY433,\"\")","v":""},"","","","",""]
[null,null,null,null,null,null,null,null,null,null,null,null,null,null,null,null,null,null,null,null,{"$f":"+IF(Z434=\"\",\"\",MAX(U$1:U433)+1)","v":""},{"$f":"IF(Limit_Deviation_Detail!B456=\"\",\"\",Limit_Deviation_Detail!B456)","v":""},{"$f":"IF(Limit_Deviation_Detail!C456=\"\",\"\",Limit_Deviation_Detail!C456)","v":""},{"$f":"IF(Limit_Deviation_Detail!E456=\"\",\"\",Limit_Deviation_Detail!E456)","v":""},"",{"$f":"IF(COUNTIF(Y$2:Y434,Y434)=1,Y434,\"\")","v":""},"","","","","",null,null,null,null,null,null,null,null,null,null,null,null,null,null,null,{"$f":"+IF(AZ434=\"\",\"\",MAX(AU$1:AU433)+1)","v":""},{"$f":"IF(CMS_Deviation_Detail!B456=\"\",\"\",CMS_Deviation_Detail!B456)","v":""},{"$f":"IF(CMS_Deviation_Detail!C456=\"\",\"\",CMS_Deviation_Detail!C456)","v":""},{"$f":"IF(CMS_Deviation_Detail!D456=\"\",\"\",CMS_Deviation_Detail!D456)","v":""},"",{"$f":"IF(COUNTIF(AY$2:AY434,AY434)=1,AY434,\"\")","v":""},"","","","",""]
[null,null,null,null,null,null,null,null,null,null,null,null,null,null,null,null,null,null,null,null,{"$f":"+IF(Z435=\"\",\"\",MAX(U$1:U434)+1)","v":""},{"$f":"IF(Limit_Deviation_Detail!B457=\"\",\"\",Limit_Deviation_Detail!B457)","v":""},{"$f":"IF(Limit_Deviation_Detail!C457=\"\",\"\",Limit_Deviation_Detail!C457)","v":""},{"$f":"IF(Limit_Deviation_Detail!E457=\"\",\"\",Limit_Deviation_Detail!E457)","v":""},"",{"$f":"IF(COUNTIF(Y$2:Y435,Y435)=1,Y435,\"\")","v":""},"","","","","",null,null,null,null,null,null,null,null,null,null,null,null,null,null,null,{"$f":"+IF(AZ435=\"\",\"\",MAX(AU$1:AU434)+1)","v":""},{"$f":"IF(CMS_Deviation_Detail!B457=\"\",\"\",CMS_Deviation_Detail!B457)","v":""},{"$f":"IF(CMS_Deviation_Detail!C457=\"\",\"\",CMS_Deviation_Detail!C457)","v":""},{"$f":"IF(CMS_Deviation_Detail!D457=\"\",\"\",CMS_Deviation_Detail!D457)","v":""},"",{"$f":"IF(COUNTIF(AY$2:AY435,AY435)=1,AY435,\"\")","v":""},"","","","",""]
[null,null,null,null,null,null,null,null,null,null,null,null,null,null,null,null,null,null,null,null,{"$f":"+IF(Z436=\"\",\"\",MAX(U$1:U435)+1)","v":""},{"$f":"IF(Limit_Deviation_Detail!B458=\"\",\"\",Limit_Deviation_Detail!B458)","v":""},{"$f":"IF(Limit_Deviation_Detail!C458=\"\",\"\",Limit_Deviation_Detail!C458)","v":""},{"$f":"IF(Limit_Deviation_Detail!E458=\"\",\"\",Limit_Deviation_Detail!E458)","v":""},"",{"$f":"IF(COUNTIF(Y$2:Y436,Y436)=1,Y436,\"\")","v":""},"","","","","",null,null,null,null,null,null,null,null,null,null,null,null,null,null,null,{"$f":"+IF(AZ436=\"\",\"\",MAX(AU$1:AU435)+1)","v":""},{"$f":"IF(CMS_Deviation_Detail!B458=\"\",\"\",CMS_Deviation_Detail!B458)","v":""},{"$f":"IF(CMS_Deviation_Detail!C458=\"\",\"\",CMS_Deviation_Detail!C458)","v":""},{"$f":"IF(CMS_Deviation_Detail!D458=\"\",\"\",CMS_Deviation_Detail!D458)","v":""},"",{"$f":"IF(COUNTIF(AY$2:AY436,AY436)=1,AY436,\"\")","v":""},"","","","",""]
[null,null,null,null,null,null,null,null,null,null,null,null,null,null,null,null,null,null,null,null,{"$f":"+IF(Z437=\"\",\"\",MAX(U$1:U436)+1)","v":""},{"$f":"IF(Limit_Deviation_Detail!B459=\"\",\"\",Limit_Deviation_Detail!B459)","v":""},{"$f":"IF(Limit_Deviation_Detail!C459=\"\",\"\",Limit_Deviation_Detail!C459)","v":""},{"$f":"IF(Limit_Deviation_Detail!E459=\"\",\"\",Limit_Deviation_Detail!E459)","v":""},"",{"$f":"IF(COUNTIF(Y$2:Y437,Y437)=1,Y437,\"\")","v":""},"","","","","",null,null,null,null,null,null,null,null,null,null,null,null,null,null,null,{"$f":"+IF(AZ437=\"\",\"\",MAX(AU$1:AU436)+1)","v":""},{"$f":"IF(CMS_Deviation_Detail!B459=\"\",\"\",CMS_Deviation_Detail!B459)","v":""},{"$f":"IF(CMS_Deviation_Detail!C459=\"\",\"\",CMS_Deviation_Detail!C459)","v":""},{"$f":"IF(CMS_Deviation_Detail!D459=\"\",\"\",CMS_Deviation_Detail!D459)","v":""},"",{"$f":"IF(COUNTIF(AY$2:AY437,AY437)=1,AY437,\"\")","v":""},"","","","",""]
[null,null,null,null,null,null,null,null,null,null,null,null,null,null,null,null,null,null,null,null,{"$f":"+IF(Z438=\"\",\"\",MAX(U$1:U437)+1)","v":""},{"$f":"IF(Limit_Deviation_Detail!B460=\"\",\"\",Limit_Deviation_Detail!B460)","v":""},{"$f":"IF(Limit_Deviation_Detail!C460=\"\",\"\",Limit_Deviation_Detail!C460)","v":""},{"$f":"IF(Limit_Deviation_Detail!E460=\"\",\"\",Limit_Deviation_Detail!E460)","v":""},"",{"$f":"IF(COUNTIF(Y$2:Y438,Y438)=1,Y438,\"\")","v":""},"","","","","",null,null,null,null,null,null,null,null,null,null,null,null,null,null,null,{"$f":"+IF(AZ438=\"\",\"\",MAX(AU$1:AU437)+1)","v":""},{"$f":"IF(CMS_Deviation_Detail!B460=\"\",\"\",CMS_Deviation_Detail!B460)","v":""},{"$f":"IF(CMS_Deviation_Detail!C460=\"\",\"\",CMS_Deviation_Detail!C460)","v":""},{"$f":"IF(CMS_Deviation_Detail!D460=\"\",\"\",CMS_Deviation_Detail!D460)","v":""},"",{"$f":"IF(COUNTIF(AY$2:AY438,AY438)=1,AY438,\"\")","v":""},"","","","",""]
[null,null,null,null,null,null,null,null,null,null,null,null,null,null,null,null,null,null,null,null,{"$f":"+IF(Z439=\"\",\"\",MAX(U$1:U438)+1)","v":""},{"$f":"IF(Limit_Deviation_Detail!B461=\"\",\"\",Limit_Deviation_Detail!B461)","v":""},{"$f":"IF(Limit_Deviation_Detail!C461=\"\",\"\",Limit_Deviation_Detail!C461)","v":""},{"$f":"IF(Limit_Deviation_Detail!E461=\"\",\"\",Limit_Deviation_Detail!E461)","v":""},"",{"$f":"IF(COUNTIF(Y$2:Y439,Y439)=1,Y439,\"\")","v":""},"","","","","",null,null,null,null,null,null,null,null,null,null,null,null,null,null,null,{"$f":"+IF(AZ439=\"\",\"\",MAX(AU$1:AU438)+1)","v":""},{"$f":"IF(CMS_Deviation_Detail!B461=\"\",\"\",CMS_Deviation_Detail!B461)","v":""},{"$f":"IF(CMS_Deviation_Detail!C461=\"\",\"\",CMS_Deviation_Detail!C461)","v":""},{"$f":"IF(CMS_Deviation_Detail!D461=\"\",\"\",CMS_Deviation_Detail!D461)","v":""},"",{"$f":"IF(COUNTIF(AY$2:AY439,AY439)=1,AY439,\"\")","v":""},"","","","",""]
[null,null,null,null,null,null,null,null,null,null,null,null,null,null,null,null,null,null,null,null,{"$f":"+IF(Z440=\"\",\"\",MAX(U$1:U439)+1)","v":""},{"$f":"IF(Limit_Deviation_Detail!B462=\"\",\"\",Limit_Deviation_Detail!B462)","v":""},{"$f":"IF(Limit_Deviation_Detail!C462=\"\",\"\",Limit_Deviation_Detail!C462)","v":""},{"$f":"IF(Limit_Deviation_Detail!E462=\"\",\"\",Limit_Deviation_Detail!E462)","v":""},"",{"$f":"IF(COUNTIF(Y$2:Y440,Y440)=1,Y440,\"\")","v":""},"","","","","",null,null,null,null,null,null,null,null,null,null,null,null,null,null,null,{"$f":"+IF(AZ440=\"\",\"\",MAX(AU$1:AU439)+1)","v":""},{"$f":"IF(CMS_Deviation_Detail!B462=\"\",\"\",CMS_Deviation_Detail!B462)","v":""},{"$f":"IF(CMS_Deviation_Detail!C462=\"\",\"\",CMS_Deviation_Detail!C462)","v":""},{"$f":"IF(CMS_Deviation_Detail!D462=\"\",\"\",CMS_Deviation_Detail!D462)","v":""},"",{"$f":"IF(COUNTIF(AY$2:AY440,AY440)=1,AY440,\"\")","v":""},"","","","",""]
[null,null,null,null,null,null,null,null,null,null,null,null,null,null,null,null,null,null,null,null,{"$f":"+IF(Z441=\"\",\"\",MAX(U$1:U440)+1)","v":""},{"$f":"IF(Limit_Deviation_Detail!B463=\"\",\"\",Limit_Deviation_Detail!B463)","v":""},{"$f":"IF(Limit_Deviation_Detail!C463=\"\",\"\",Limit_Deviation_Detail!C463)","v":""},{"$f":"IF(Limit_Deviation_Detail!E463=\"\",\"\",Limit_Deviation_Detail!E463)","v":""},"",{"$f":"IF(COUNTIF(Y$2:Y441,Y441)=1,Y441,\"\")","v":""},"","","","","",null,null,null,null,null,null,null,null,null,null,null,null,null,null,null,{"$f":"+IF(AZ441=\"\",\"\",MAX(AU$1:AU440)+1)","v":""},{"$f":"IF(CMS_Deviation_Detail!B463=\"\",\"\",CMS_Deviation_Detail!B463)","v":""},{"$f":"IF(CMS_Deviation_Detail!C463=\"\",\"\",CMS_Deviation_Detail!C463)","v":""},{"$f":"IF(CMS_Deviation_Detail!D463=\"\",\"\",CMS_Deviation_Detail!D463)","v":""},"",{"$f":"IF(COUNTIF(AY$2:AY441,AY441)=1,AY441,\"\")","v":""},"","","","",""]
[null,null,null,null,null,null,null,null,null,null,null,null,null,null,null,null,null,null,null,null,{"$f":"+IF(Z442=\"\",\"\",MAX(U$1:U441)+1)","v":""},{"$f":"IF(Limit_Deviation_Detail!B464=\"\",\"\",Limit_Deviation_Detail!B464)","v":""},{"$f":"IF(Limit_Deviation_Detail!C464=\"\",\"\",Limit_Deviation_Detail!C464)","v":""},{"$f":"IF(Limit_Deviation_Detail!E464=\"\",\"\",Limit_Deviation_Detail!E464)","v":""},"",{"$f":"IF(COUNTIF(Y$2:Y442,Y442)=1,Y442,\"\")","v":""},"","","","","",null,null,null,null,null,null,null,null,null,null,null,null,null,null,null,{"$f":"+IF(AZ442=\"\",\"\",MAX(AU$1:AU441)+1)","v":""},{"$f":"IF(CMS_Deviation_Detail!B464=\"\",\"\",CMS_Deviation_Detail!B464)","v":""},{"$f":"IF(CMS_Deviation_Detail!C464=\"\",\"\",CMS_Deviation_Detail!C464)","v":""},{"$f":"IF(CMS_Deviation_Detail!D464=\"\",\"\",CMS_Deviation_Detail!D464)","v":""},"",{"$f":"IF(COUNTIF(AY$2:AY442,AY442)=1,AY442,\"\")","v":""},"","","","",""]
[null,null,null,null,null,null,null,null,null,null,null,null,null,null,null,null,null,null,null,null,{"$f":"+IF(Z443=\"\",\"\",MAX(U$1:U442)+1)","v":""},{"$f":"IF(Limit_Deviation_Detail!B465=\"\",\"\",Limit_Deviation_Detail!B465)","v":""},{"$f":"IF(Limit_Deviation_Detail!C465=\"\",\"\",Limit_Deviation_Detail!C465)","v":""},{"$f":"IF(Limit_Deviation_Detail!E465=\"\",\"\",Limit_Deviation_Detail!E465)","v":""},"",{"$f":"IF(COUNTIF(Y$2:Y443,Y443)=1,Y443,\"\")","v":""},"","","","","",null,null,null,null,null,null,null,null,null,null,null,null,null,null,null,{"$f":"+IF(AZ443=\"\",\"\",MAX(AU$1:AU442)+1)","v":""},{"$f":"IF(CMS_Deviation_Detail!B465=\"\",\"\",CMS_Deviation_Detail!B465)","v":""},{"$f":"IF(CMS_Deviation_Detail!C465=\"\",\"\",CMS_Deviation_Detail!C465)","v":""},{"$f":"IF(CMS_Deviation_Detail!D465=\"\",\"\",CMS_Deviation_Detail!D465)","v":""},"",{"$f":"IF(COUNTIF(AY$2:AY443,AY443)=1,AY443,\"\")","v":""},"","","","",""]
[null,null,null,null,null,null,null,null,null,null,null,null,null,null,null,null,null,null,null,null,{"$f":"+IF(Z444=\"\",\"\",MAX(U$1:U443)+1)","v":""},{"$f":"IF(Limit_Deviation_Detail!B466=\"\",\"\",Limit_Deviation_Detail!B466)","v":""},{"$f":"IF(Limit_Deviation_Detail!C466=\"\",\"\",Limit_Deviation_Detail!C466)","v":""},{"$f":"IF(Limit_Deviation_Detail!E466=\"\",\"\",Limit_Deviation_Detail!E466)","v":""},"",{"$f":"IF(COUNTIF(Y$2:Y444,Y444)=1,Y444,\"\")","v":""},"","","","","",null,null,null,null,null,null,null,null,null,null,null,null,null,null,null,{"$f":"+IF(AZ444=\"\",\"\",MAX(AU$1:AU443)+1)","v":""},{"$f":"IF(CMS_Deviation_Detail!B466=\"\",\"\",CMS_Deviation_Detail!B466)","v":""},{"$f":"IF(CMS_Deviation_Detail!C466=\"\",\"\",CMS_Deviation_Detail!C466)","v":""},{"$f":"IF(CMS_Deviation_Detail!D466=\"\",\"\",CMS_Deviation_Detail!D466)","v":""},"",{"$f":"IF(COUNTIF(AY$2:AY444,AY444)=1,AY444,\"\")","v":""},"","","","",""]
[null,null,null,null,null,null,null,null,null,null,null,null,null,null,null,null,null,null,null,null,{"$f":"+IF(Z445=\"\",\"\",MAX(U$1:U444)+1)","v":""},{"$f":"IF(Limit_Deviation_Detail!B467=\"\",\"\",Limit_Deviation_Detail!B467)","v":""},{"$f":"IF(Limit_Deviation_Detail!C467=\"\",\"\",Limit_Deviation_Detail!C467)","v":""},{"$f":"IF(Limit_Deviation_Detail!E467=\"\",\"\",Limit_Deviation_Detail!E467)","v":""},"",{"$f":"IF(COUNTIF(Y$2:Y445,Y445)=1,Y445,\"\")","v":""},"","","","","",null,null,null,null,null,null,null,null,null,null,null,null,null,null,null,{"$f":"+IF(AZ445=\"\",\"\",MAX(AU$1:AU444)+1)","v":""},{"$f":"IF(CMS_Deviation_Detail!B467=\"\",\"\",CMS_Deviation_Detail!B467)","v":""},{"$f":"IF(CMS_Deviation_Detail!C467=\"\",\"\",CMS_Deviation_Detail!C467)","v":""},{"$f":"IF(CMS_Deviation_Detail!D467=\"\",\"\",CMS_Deviation_Detail!D467)","v":""},"",{"$f":"IF(COUNTIF(AY$2:AY445,AY445)=1,AY445,\"\")","v":""},"","","","",""]
[null,null,null,null,null,null,null,null,null,null,null,null,null,null,null,null,null,null,null,null,{"$f":"+IF(Z446=\"\",\"\",MAX(U$1:U445)+1)","v":""},{"$f":"IF(Limit_Deviation_Detail!B468=\"\",\"\",Limit_Deviation_Detail!B468)","v":""},{"$f":"IF(Limit_Deviation_Detail!C468=\"\",\"\",Limit_Deviation_Detail!C468)","v":""},{"$f":"IF(Limit_Deviation_Detail!E468=\"\",\"\",Limit_Deviation_Detail!E468)","v":""},"",{"$f":"IF(COUNTIF(Y$2:Y446,Y446)=1,Y446,\"\")","v":""},"","","","","",null,null,null,null,null,null,null,null,null,null,null,null,null,null,null,{"$f":"+IF(AZ446=\"\",\"\",MAX(AU$1:AU445)+1)","v":""},{"$f":"IF(CMS_Deviation_Detail!B468=\"\",\"\",CMS_Deviation_Detail!B468)","v":""},{"$f":"IF(CMS_Deviation_Detail!C468=\"\",\"\",CMS_Deviation_Detail!C468)","v":""},{"$f":"IF(CMS_Deviation_Detail!D468=\"\",\"\",CMS_Deviation_Detail!D468)","v":""},"",{"$f":"IF(COUNTIF(AY$2:AY446,AY446)=1,AY446,\"\")","v":""},"","","","",""]
[null,null,null,null,null,null,null,null,null,null,null,null,null,null,null,null,null,null,null,null,{"$f":"+IF(Z447=\"\",\"\",MAX(U$1:U446)+1)","v":""},{"$f":"IF(Limit_Deviation_Detail!B469=\"\",\"\",Limit_Deviation_Detail!B469)","v":""},{"$f":"IF(Limit_Deviation_Detail!C469=\"\",\"\",Limit_Deviation_Detail!C469)","v":""},{"$f":"IF(Limit_Deviation_Detail!E469=\"\",\"\",Limit_Deviation_Detail!E469)","v":""},"",{"$f":"IF(COUNTIF(Y$2:Y447,Y447)=1,Y447,\"\")","v":""},"","","","","",null,null,null,null,null,null,null,null,null,null,null,null,null,null,null,{"$f":"+IF(AZ447=\"\",\"\",MAX(AU$1:AU446)+1)","v":""},{"$f":"IF(CMS_Deviation_Detail!B469=\"\",\"\",CMS_Deviation_Detail!B469)","v":""},{"$f":"IF(CMS_Deviation_Detail!C469=\"\",\"\",CMS_Deviation_Detail!C469)","v":""},{"$f":"IF(CMS_Deviation_Detail!D469=\"\",\"\",CMS_Deviation_Detail!D469)","v":""},"",{"$f":"IF(COUNTIF(AY$2:AY447,AY447)=1,AY447,\"\")","v":""},"","","","",""]
[null,null,null,null,null,null,null,null,null,null,null,null,null,null,null,null,null,null,null,null,{"$f":"+IF(Z448=\"\",\"\",MAX(U$1:U447)+1)","v":""},{"$f":"IF(Limit_Deviation_Detail!B470=\"\",\"\",Limit_Deviation_Detail!B470)","v":""},{"$f":"IF(Limit_Deviation_Detail!C470=\"\",\"\",Limit_Deviation_Detail!C470)","v":""},{"$f":"IF(Limit_Deviation_Detail!E470=\"\",\"\",Limit_Deviation_Detail!E470)","v":""},"",{"$f":"IF(COUNTIF(Y$2:Y448,Y448)=1,Y448,\"\")","v":""},"","","","","",null,null,null,null,null,null,null,null,null,null,null,null,null,null,null,{"$f":"+IF(AZ448=\"\",\"\",MAX(AU$1:AU447)+1)","v":""},{"$f":"IF(CMS_Deviation_Detail!B470=\"\",\"\",CMS_Deviation_Detail!B470)","v":""},{"$f":"IF(CMS_Deviation_Detail!C470=\"\",\"\",CMS_Deviation_Detail!C470)","v":""},{"$f":"IF(CMS_Deviation_Detail!D470=\"\",\"\",CMS_Deviation_Detail!D470)","v":""},"",{"$f":"IF(COUNTIF(AY$2:AY448,AY448)=1,AY448,\"\")","v":""},"","","","",""]
[null,null,null,null,null,null,null,null,null,null,null,null,null,null,null,null,null,null,null,null,{"$f":"+IF(Z449=\"\",\"\",MAX(U$1:U448)+1)","v":""},{"$f":"IF(Limit_Deviation_Detail!B471=\"\",\"\",Limit_Deviation_Detail!B471)","v":""},{"$f":"IF(Limit_Deviation_Detail!C471=\"\",\"\",Limit_Deviation_Detail!C471)","v":""},{"$f":"IF(Limit_Deviation_Detail!E471=\"\",\"\",Limit_Deviation_Detail!E471)","v":""},"",{"$f":"IF(COUNTIF(Y$2:Y449,Y449)=1,Y449,\"\")","v":""},"","","","","",null,null,null,null,null,null,null,null,null,null,null,null,null,null,null,{"$f":"+IF(AZ449=\"\",\"\",MAX(AU$1:AU448)+1)","v":""},{"$f":"IF(CMS_Deviation_Detail!B471=\"\",\"\",CMS_Deviation_Detail!B471)","v":""},{"$f":"IF(CMS_Deviation_Detail!C471=\"\",\"\",CMS_Deviation_Detail!C471)","v":""},{"$f":"IF(CMS_Deviation_Detail!D471=\"\",\"\",CMS_Deviation_Detail!D471)","v":""},"",{"$f":"IF(COUNTIF(AY$2:AY449,AY449)=1,AY449,\"\")","v":""},"","","","",""]
[null,null,null,null,null,null,null,null,null,null,null,null,null,null,null,null,null,null,null,null,{"$f":"+IF(Z450=\"\",\"\",MAX(U$1:U449)+1)","v":""},{"$f":"IF(Limit_Deviation_Detail!B472=\"\",\"\",Limit_Deviation_Detail!B472)","v":""},{"$f":"IF(Limit_Deviation_Detail!C472=\"\",\"\",Limit_Deviation_Detail!C472)","v":""},{"$f":"IF(Limit_Deviation_Detail!E472=\"\",\"\",Limit_Deviation_Detail!E472)","v":""},{"$f":"V450&W450&X450","v":""},{"$f":"IF(COUNTIF(Y$2:Y450,Y450)=1,Y450,\"\")","v":""},{"$f":"+IFERROR(INDEX(V$2:V$955,MATCH(ROW()-ROW(Z$1),U$2:U$955,0)),\"\")","v":""},{"$f":"+IFERROR(INDEX(W$2:W$955,MATCH(ROW()-ROW(AA$1),U$2:U$955,0)),\"\")","v":""},{"$f":"+IFERROR(INDEX(X$2:X$955,MATCH(ROW()-ROW(AB$1),U$2:U$955,0)),\"\")","v":""},{"$f":"IF(AA450=\"\",\"\",AA450&AB450)","v":""},{"$f":"IF(AA450=\"\",\"\",VLOOKUP(AD450,$AO$2:$AS$78,5,FALSE))","v":""},null,null,null,null,null,null,null,null,null,null,null,null,null,null,null,{"$f":"+IF(AZ450=\"\",\"\",MAX(AU$1:AU449)+1)","v":""},{"$f":"IF(CMS_Deviation_Detail!B472=\"\",\"\",CMS_Deviation_Detail!B472)","v":""},{"$f":"IF(CMS_Deviation_Detail!C472=\"\",\"\",CMS_Deviation_Detail!C472)","v":""},{"$f":"IF(CMS_Deviation_Detail!D472=\"\",\"\",CMS_Deviation_Detail!D472)","v":""},"",{"$f":"IF(COUNTIF(AY$2:AY450,AY450)=1,AY450,\"\")","v":""},"","","","",{"$f":"IF(BA450=\"\",\"\",VLOOKUP(BD450,$AO$2:$AS$78,5,FALSE))","v":""}]
[null,null,null,null,null,null,null,null,null,null,null,null,null,null,null,null,null,null,null,null,{"$f":"+IF(Z451=\"\",\"\",MAX(U$1:U450)+1)","v":""},{"$f":"IF(Limit_Deviation_Detail!B473=\"\",\"\",Limit_Deviation_Detail!B473)","v":""},{"$f":"IF(Limit_Deviation_Detail!C473=\"\",\"\",Limit_Deviation_Detail!C473)","v":""},{"$f":"IF(Limit_Deviation_Detail!E473=\"\",\"\",Limit_Deviation_Detail!E473)","v":""},"",{"$f":"IF(COUNTIF(Y$2:Y451,Y451)=1,Y451,\"\")","v":""},"","","","","",null,null,null,null,null,null,null,null,null,null,null,null,null,null,null,{"$f":"+IF(AZ451=\"\",\"\",MAX(AU$1:AU450)+1)","v":""},{"$f":"IF(CMS_Deviation_Detail!B473=\"\",\"\",CMS_Deviation_Detail!B473)","v":""},{"$f":"IF(CMS_Deviation_Detail!C473=\"\",\"\",CMS_Deviation_Detail!C473)","v":""},{"$f":"IF(CMS_Deviation_Detail!D473=\"\",\"\",CMS_Deviation_Detail!D473)","v":""},{"$f":"AV451&AW451&AX451","v":""},{"$f":"IF(COUNTIF(AY$2:AY451,AY451)=1,AY451,\"\")","v":""},{"$f":"+IFERROR(INDEX(AV$2:AV$955,MATCH(ROW()-ROW(AZ$1),AU$2:AU$955,0)),\"\")","v":""},{"$f":"+IFERROR(INDEX(AW$2:AW$955,MATCH(ROW()-ROW(BA$1),AU$2:AU$955,0)),\"\")","v":""},{"$f":"+IFERROR(INDEX(AX$2:AX$955,MATCH(ROW()-ROW(BB$1),AU$2:AU$955,0)),\"\")","v":""},{"$f":"IF(BA451=\"\",\"\",BA451&BB451)","v":""},""]
[null,null,null,null,null,null,null,null,null,null,null,null,null,null,null,null,null,null,null,null,{"$f":"+IF(Z452=\"\",\"\",MAX(U$1:U451)+1)","v":""},{"$f":"IF(Limit_Deviation_Detail!B474=\"\",\"\",Limit_Deviation_Detail!B474)","v":""},{"$f":"IF(Limit_Deviation_Detail!C474=\"\",\"\",Limit_Deviation_Detail!C474)","v":""},{"$f":"IF(Limit_Deviation_Detail!E474=\"\",\"\",Limit_Deviation_Detail!E474)","v":""},"",{"$f":"IF(COUNTIF(Y$2:Y452,Y452)=1,Y452,\"\")","v":""},"","","","","",null,null,null,null,null,null,null,null,null,null,null,null,null,null,null,{"$f":"+IF(AZ452=\"\",\"\",MAX(AU$1:AU451)+1)","v":""},{"$f":"IF(CMS_Deviation_Detail!B474=\"\",\"\",CMS_Deviation_Detail!B474)","v":""},{"$f":"IF(CMS_Deviation_Detail!C474=\"\",\"\",CMS_Deviation_Detail!C474)","v":""},{"$f":"IF(CMS_Deviation_Detail!D474=\"\",\"\",CMS_Deviation_Detail!D474)","v":""},"",{"$f":"IF(COUNTIF(AY$2:AY452,AY452)=1,AY452,\"\")","v":""},"","","","",""]
[null,null,null,null,null,null,null,null,null,null,null,null,null,null,null,null,null,null,null,null,{"$f":"+IF(Z453=\"\",\"\",MAX(U$1:U452)+1)","v":""},{"$f":"IF(Limit_Deviation_Detail!B475=\"\",\"\",Limit_Deviation_Detail!B475)","v":""},{"$f":"IF(Limit_Deviation_Detail!C475=\"\",\"\",Limit_Deviation_Detail!C475)","v":""},{"$f":"IF(Limit_Deviation_Detail!E475=\"\",\"\",Limit_Deviation_Detail!E475)","v":""},"",{"$f":"IF(COUNTIF(Y$2:Y453,Y453)=1,Y453,\"\")","v":""},"","","","","",null,null,null,null,null,null,null,null,null,null,null,null,null,null,null,{"$f":"+IF(AZ453=\"\",\"\",MAX(AU$1:AU452)+1)","v":""},{"$f":"IF(CMS_Deviation_Detail!B475=\"\",\"\",CMS_Deviation_Detail!B475)","v":""},{"$f":"IF(CMS_Deviation_Detail!C475=\"\",\"\",CMS_Deviation_Detail!C475)","v":""},{"$f":"IF(CMS_Deviation_Detail!D475=\"\",\"\",CMS_Deviation_Detail!D475)","v":""},"",{"$f":"IF(COUNTIF(AY$2:AY453,AY453)=1,AY453,\"\")","v":""},"","","","",""]
[null,null,null,null,null,null,null,null,null,null,null,null,null,null,null,null,null,null,null,null,{"$f":"+IF(Z454=\"\",\"\",MAX(U$1:U453)+1)","v":""},{"$f":"IF(Limit_Deviation_Detail!B476=\"\",\"\",Limit_Deviation_Detail!B476)","v":""},{"$f":"IF(Limit_Deviation_Detail!C476=\"\",\"\",Limit_Deviation_Detail!C476)","v":""},{"$f":"IF(Limit_Deviation_Detail!E476=\"\",\"\",Limit_Deviation_Detail!E476)","v":""},"",{"$f":"IF(COUNTIF(Y$2:Y454,Y454)=1,Y454,\"\")","v":""},"","","","","",null,null,null,null,null,null,null,null,null,null,null,null,null,null,null,{"$f":"+IF(AZ454=\"\",\"\",MAX(AU$1:AU453)+1)","v":""},{"$f":"IF(CMS_Deviation_Detail!B476=\"\",\"\",CMS_Deviation_Detail!B476)","v":""},{"$f":"IF(CMS_Deviation_Detail!C476=\"\",\"\",CMS_Deviation_Detail!C476)","v":""},{"$f":"IF(CMS_Deviation_Detail!D476=\"\",\"\",CMS_Deviation_Detail!D476)","v":""},"",{"$f":"IF(COUNTIF(AY$2:AY454,AY454)=1,AY454,\"\")","v":""},"","","","",""]
[null,null,null,null,null,null,null,null,null,null,null,null,null,null,null,null,null,null,null,null,{"$f":"+IF(Z455=\"\",\"\",MAX(U$1:U454)+1)","v":""},{"$f":"IF(Limit_Deviation_Detail!B477=\"\",\"\",Limit_Deviation_Detail!B477)","v":""},{"$f":"IF(Limit_Deviation_Detail!C477=\"\",\"\",Limit_Deviation_Detail!C477)","v":""},{"$f":"IF(Limit_Deviation_Detail!E477=\"\",\"\",Limit_Deviation_Detail!E477)","v":""},"",{"$f":"IF(COUNTIF(Y$2:Y455,Y455)=1,Y455,\"\")","v":""},"","","","","",null,null,null,null,null,null,null,null,null,null,null,null,null,null,null,{"$f":"+IF(AZ455=\"\",\"\",MAX(AU$1:AU454)+1)","v":""},{"$f":"IF(CMS_Deviation_Detail!B477=\"\",\"\",CMS_Deviation_Detail!B477)","v":""},{"$f":"IF(CMS_Deviation_Detail!C477=\"\",\"\",CMS_Deviation_Detail!C477)","v":""},{"$f":"IF(CMS_Deviation_Detail!D477=\"\",\"\",CMS_Deviation_Detail!D477)","v":""},"",{"$f":"IF(COUNTIF(AY$2:AY455,AY455)=1,AY455,\"\")","v":""},"","","","",""]
[null,null,null,null,null,null,null,null,null,null,null,null,null,null,null,null,null,null,null,null,{"$f":"+IF(Z456=\"\",\"\",MAX(U$1:U455)+1)","v":""},{"$f":"IF(Limit_Deviation_Detail!B478=\"\",\"\",Limit_Deviation_Detail!B478)","v":""},{"$f":"IF(Limit_Deviation_Detail!C478=\"\",\"\",Limit_Deviation_Detail!C478)","v":""},{"$f":"IF(Limit_Deviation_Detail!E478=\"\",\"\",Limit_Deviation_Detail!E478)","v":""},"",{"$f":"IF(COUNTIF(Y$2:Y456,Y456)=1,Y456,\"\")","v":""},"","","","","",null,null,null,null,null,null,null,null,null,null,null,null,null,null,null,{"$f":"+IF(AZ456=\"\",\"\",MAX(AU$1:AU455)+1)","v":""},{"$f":"IF(CMS_Deviation_Detail!B478=\"\",\"\",CMS_Deviation_Detail!B478)","v":""},{"$f":"IF(CMS_Deviation_Detail!C478=\"\",\"\",CMS_Deviation_Detail!C478)","v":""},{"$f":"IF(CMS_Deviation_Detail!D478=\"\",\"\",CMS_Deviation_Detail!D478)","v":""},"",{"$f":"IF(COUNTIF(AY$2:AY456,AY456)=1,AY456,\"\")","v":""},"","","","",""]
[null,null,null,null,null,null,null,null,null,null,null,null,null,null,null,null,null,null,null,null,{"$f":"+IF(Z457=\"\",\"\",MAX(U$1:U456)+1)","v":""},{"$f":"IF(Limit_Deviation_Detail!B479=\"\",\"\",Limit_Deviation_Detail!B479)","v":""},{"$f":"IF(Limit_Deviation_Detail!C479=\"\",\"\",Limit_Deviation_Detail!C479)","v":""},{"$f":"IF(Limit_Deviation_Detail!E479=\"\",\"\",Limit_Deviation_Detail!E479)","v":""},"",{"$f":"IF(COUNTIF(Y$2:Y457,Y457)=1,Y457,\"\")","v":""},"","","","","",null,null,null,null,null,null,null,null,null,null,null,null,null,null,null,{"$f":"+IF(AZ457=\"\",\"\",MAX(AU$1:AU456)+1)","v":""},{"$f":"IF(CMS_Deviation_Detail!B479=\"\",\"\",CMS_Deviation_Detail!B479)","v":""},{"$f":"IF(CMS_Deviation_Detail!C479=\"\",\"\",CMS_Deviation_Detail!C479)","v":""},{"$f":"IF(CMS_Deviation_Detail!D479=\"\",\"\",CMS_Deviation_Detail!D479)","v":""},"",{"$f":"IF(COUNTIF(AY$2:AY457,AY457)=1,AY457,\"\")","v":""},"","","","",""]
[null,null,null,null,null,null,null,null,null,null,null,null,null,null,null,null,null,null,null,null,{"$f":"+IF(Z458=\"\",\"\",MAX(U$1:U457)+1)","v":""},{"$f":"IF(Limit_Deviation_Detail!B480=\"\",\"\",Limit_Deviation_Detail!B480)","v":""},{"$f":"IF(Limit_Deviation_Detail!C480=\"\",\"\",Limit_Deviation_Detail!C480)","v":""},{"$f":"IF(Limit_Deviation_Detail!E480=\"\",\"\",Limit_Deviation_Detail!E480)","v":""},"",{"$f":"IF(COUNTIF(Y$2:Y458,Y458)=1,Y458,\"\")","v":""},"","","","","",null,null,null,null,null,null,null,null,null,null,null,null,null,null,null,{"$f":"+IF(AZ458=\"\",\"\",MAX(AU$1:AU457)+1)","v":""},{"$f":"IF(CMS_Deviation_Detail!B480=\"\",\"\",CMS_Deviation_Detail!B480)","v":""},{"$f":"IF(CMS_Deviation_Detail!C480=\"\",\"\",CMS_Deviation_Detail!C480)","v":""},{"$f":"IF(CMS_Deviation_Detail!D480=\"\",\"\",CMS_Deviation_Detail!D480)","v":""},"",{"$f":"IF(COUNTIF(AY$2:AY458,AY458)=1,AY458,\"\")","v":""},"","","","",""]
[null,null,null,null,null,null,null,null,null,null,null,null,null,null,null,null,null,null,null,null,{"$f":"+IF(Z459=\"\",\"\",MAX(U$1:U458)+1)","v":""},{"$f":"IF(Limit_Deviation_Detail!B481=\"\",\"\",Limit_Deviation_Detail!B481)","v":""},{"$f":"IF(Limit_Deviation_Detail!C481=\"\",\"\",Limit_Deviation_Detail!C481)","v":""},{"$f":"IF(Limit_Deviation_Detail!E481=\"\",\"\",Limit_Deviation_Detail!E481)","v":""},"",{"$f":"IF(COUNTIF(Y$2:Y459,Y459)=1,Y459,\"\")","v":""},"","","","","",null,null,null,null,null,null,null,null,null,null,null,null,null,null,null,{"$f":"+IF(AZ459=\"\",\"\",MAX(AU$1:AU458)+1)","v":""},{"$f":"IF(CMS_Deviation_Detail!B481=\"\",\"\",CMS_Deviation_Detail!B481)","v":""},{"$f":"IF(CMS_Deviation_Detail!C481=\"\",\"\",CMS_Deviation_Detail!C481)","v":""},{"$f":"IF(CMS_Deviation_Detail!D481=\"\",\"\",CMS_Deviation_Detail!D481)","v":""},"",{"$f":"IF(COUNTIF(AY$2:AY459,AY459)=1,AY459,\"\")","v":""},"","","","",""]
[null,null,null,null,null,null,null,null,null,null,null,null,null,null,null,null,null,null,null,null,{"$f":"+IF(Z460=\"\",\"\",MAX(U$1:U459)+1)","v":""},{"$f":"IF(Limit_Deviation_Detail!B482=\"\",\"\",Limit_Deviation_Detail!B482)","v":""},{"$f":"IF(Limit_Deviation_Detail!C482=\"\",\"\",Limit_Deviation_Detail!C482)","v":""},{"$f":"IF(Limit_Deviation_Detail!E482=\"\",\"\",Limit_Deviation_Detail!E482)","v":""},"",{"$f":"IF(COUNTIF(Y$2:Y460,Y460)=1,Y460,\"\")","v":""},"","","","","",null,null,null,null,null,null,null,null,null,null,null,null,null,null,null,{"$f":"+IF(AZ460=\"\",\"\",MAX(AU$1:AU459)+1)","v":""},{"$f":"IF(CMS_Deviation_Detail!B482=\"\",\"\",CMS_Deviation_Detail!B482)","v":""},{"$f":"IF(CMS_Deviation_Detail!C482=\"\",\"\",CMS_Deviation_Detail!C482)","v":""},{"$f":"IF(CMS_Deviation_Detail!D482=\"\",\"\",CMS_Deviation_Detail!D482)","v":""},"",{"$f":"IF(COUNTIF(AY$2:AY460,AY460)=1,AY460,\"\")","v":""},"","","","",""]
[null,null,null,null,null,null,null,null,null,null,null,null,null,null,null,null,null,null,null,null,{"$f":"+IF(Z461=\"\",\"\",MAX(U$1:U460)+1)","v":""},{"$f":"IF(Limit_Deviation_Detail!B483=\"\",\"\",Limit_Deviation_Detail!B483)","v":""},{"$f":"IF(Limit_Deviation_Detail!C483=\"\",\"\",Limit_Deviation_Detail!C483)","v":""},{"$f":"IF(Limit_Deviation_Detail!E483=\"\",\"\",Limit_Deviation_Detail!E483)","v":""},"",{"$f":"IF(COUNTIF(Y$2:Y461,Y461)=1,Y461,\"\")","v":""},"","","","","",null,null,null,null,null,null,null,null,null,null,null,null,null,null,null,{"$f":"+IF(AZ461=\"\",\"\",MAX(AU$1:AU460)+1)","v":""},{"$f":"IF(CMS_Deviation_Detail!B483=\"\",\"\",CMS_Deviation_Detail!B483)","v":""},{"$f":"IF(CMS_Deviation_Detail!C483=\"\",\"\",CMS_Deviation_Detail!C483)","v":""},{"$f":"IF(CMS_Deviation_Detail!D483=\"\",\"\",CMS_Deviation_Detail!D483)","v":""},"",{"$f":"IF(COUNTIF(AY$2:AY461,AY461)=1,AY461,\"\")","v":""},"","","","",""]
[null,null,null,null,null,null,null,null,null,null,null,null,null,null,null,null,null,null,null,null,{"$f":"+IF(Z462=\"\",\"\",MAX(U$1:U461)+1)","v":""},{"$f":"IF(Limit_Deviation_Detail!B484=\"\",\"\",Limit_Deviation_Detail!B484)","v":""},{"$f":"IF(Limit_Deviation_Detail!C484=\"\",\"\",Limit_Deviation_Detail!C484)","v":""},{"$f":"IF(Limit_Deviation_Detail!E484=\"\",\"\",Limit_Deviation_Detail!E484)","v":""},"",{"$f":"IF(COUNTIF(Y$2:Y462,Y462)=1,Y462,\"\")","v":""},"","","","","",null,null,null,null,null,null,null,null,null,null,null,null,null,null,null,{"$f":"+IF(AZ462=\"\",\"\",MAX(AU$1:AU461)+1)","v":""},{"$f":"IF(CMS_Deviation_Detail!B484=\"\",\"\",CMS_Deviation_Detail!B484)","v":""},{"$f":"IF(CMS_Deviation_Detail!C484=\"\",\"\",CMS_Deviation_Detail!C484)","v":""},{"$f":"IF(CMS_Deviation_Detail!D484=\"\",\"\",CMS_Deviation_Detail!D484)","v":""},"",{"$f":"IF(COUNTIF(AY$2:AY462,AY462)=1,AY462,\"\")","v":""},"","","","",""]
[null,null,null,null,null,null,null,null,null,null,null,null,null,null,null,null,null,null,null,null,{"$f":"+IF(Z463=\"\",\"\",MAX(U$1:U462)+1)","v":""},{"$f":"IF(Limit_Deviation_Detail!B485=\"\",\"\",Limit_Deviation_Detail!B485)","v":""},{"$f":"IF(Limit_Deviation_Detail!C485=\"\",\"\",Limit_Deviation_Detail!C485)","v":""},{"$f":"IF(Limit_Deviation_Detail!E485=\"\",\"\",Limit_Deviation_Detail!E485)","v":""},"",{"$f":"IF(COUNTIF(Y$2:Y463,Y463)=1,Y463,\"\")","v":""},"","","","","",null,null,null,null,null,null,null,null,null,null,null,null,null,null,null,{"$f":"+IF(AZ463=\"\",\"\",MAX(AU$1:AU462)+1)","v":""},{"$f":"IF(CMS_Deviation_Detail!B485=\"\",\"\",CMS_Deviation_Detail!B485)","v":""},{"$f":"IF(CMS_Deviation_Detail!C485=\"\",\"\",CMS_Deviation_Detail!C485)","v":""},{"$f":"IF(CMS_Deviation_Detail!D485=\"\",\"\",CMS_Deviation_Detail!D485)","v":""},"",{"$f":"IF(COUNTIF(AY$2:AY463,AY463)=1,AY463,\"\")","v":""},"","","","",""]
[null,null,null,null,null,null,null,null,null,null,null,null,null,null,null,null,null,null,null,null,{"$f":"+IF(Z464=\"\",\"\",MAX(U$1:U463)+1)","v":""},{"$f":"IF(Limit_Deviation_Detail!B486=\"\",\"\",Limit_Deviation_Detail!B486)","v":""},{"$f":"IF(Limit_Deviation_Detail!C486=\"\",\"\",Limit_Deviation_Detail!C486)","v":""},{"$f":"IF(Limit_Deviation_Detail!E486=\"\",\"\",Limit_Deviation_Detail!E486)","v":""},"",{"$f":"IF(COUNTIF(Y$2:Y464,Y464)=1,Y464,\"\")","v":""},"","","","","",null,null,null,null,null,null,null,null,null,null,null,null,null,null,null,{"$f":"+IF(AZ464=\"\",\"\",MAX(AU$1:AU463)+1)","v":""},{"$f":"IF(CMS_Deviation_Detail!B486=\"\",\"\",CMS_Deviation_Detail!B486)","v":""},{"$f":"IF(CMS_Deviation_Detail!C486=\"\",\"\",CMS_Deviation_Detail!C486)","v":""},{"$f":"IF(CMS_Deviation_Detail!D486=\"\",\"\",CMS_Deviation_Detail!D486)","v":""},"",{"$f":"IF(COUNTIF(AY$2:AY464,AY464)=1,AY464,\"\")","v":""},"","","","",""]
[null,null,null,null,null,null,null,null,null,null,null,null,null,null,null,null,null,null,null,null,{"$f":"+IF(Z465=\"\",\"\",MAX(U$1:U464)+1)","v":""},{"$f":"IF(Limit_Deviation_Detail!B487=\"\",\"\",Limit_Deviation_Detail!B487)","v":""},{"$f":"IF(Limit_Deviation_Detail!C487=\"\",\"\",Limit_Deviation_Detail!C487)","v":""},{"$f":"IF(Limit_Deviation_Detail!E487=\"\",\"\",Limit_Deviation_Detail!E487)","v":""},"",{"$f":"IF(COUNTIF(Y$2:Y465,Y465)=1,Y465,\"\")","v":""},"","","","","",null,null,null,null,null,null,null,null,null,null,null,null,null,null,null,{"$f":"+IF(AZ465=\"\",\"\",MAX(AU$1:AU464)+1)","v":""},{"$f":"IF(CMS_Deviation_Detail!B487=\"\",\"\",CMS_Deviation_Detail!B487)","v":""},{"$f":"IF(CMS_Deviation_Detail!C487=\"\",\"\",CMS_Deviation_Detail!C487)","v":""},{"$f":"IF(CMS_Deviation_Detail!D487=\"\",\"\",CMS_Deviation_Detail!D487)","v":""},"",{"$f":"IF(COUNTIF(AY$2:AY465,AY465)=1,AY465,\"\")","v":""},"","","","",""]
[null,null,null,null,null,null,null,null,null,null,null,null,null,null,null,null,null,null,null,null,{"$f":"+IF(Z466=\"\",\"\",MAX(U$1:U465)+1)","v":""},{"$f":"IF(Limit_Deviation_Detail!B488=\"\",\"\",Limit_Deviation_Detail!B488)","v":""},{"$f":"IF(Limit_Deviation_Detail!C488=\"\",\"\",Limit_Deviation_Detail!C488)","v":""},{"$f":"IF(Limit_Deviation_Detail!E488=\"\",\"\",Limit_Deviation_Detail!E488)","v":""},"",{"$f":"IF(COUNTIF(Y$2:Y466,Y466)=1,Y466,\"\")","v":""},"","","","","",null,null,null,null,null,null,null,null,null,null,null,null,null,null,null,{"$f":"+IF(AZ466=\"\",\"\",MAX(AU$1:AU465)+1)","v":""},{"$f":"IF(CMS_Deviation_Detail!B488=\"\",\"\",CMS_Deviation_Detail!B488)","v":""},{"$f":"IF(CMS_Deviation_Detail!C488=\"\",\"\",CMS_Deviation_Detail!C488)","v":""},{"$f":"IF(CMS_Deviation_Detail!D488=\"\",\"\",CMS_Deviation_Detail!D488)","v":""},"",{"$f":"IF(COUNTIF(AY$2:AY466,AY466)=1,AY466,\"\")","v":""},"","","","",""]
[null,null,null,null,null,null,null,null,null,null,null,null,null,null,null,null,null,null,null,null,{"$f":"+IF(Z467=\"\",\"\",MAX(U$1:U466)+1)","v":""},{"$f":"IF(Limit_Deviation_Detail!B489=\"\",\"\",Limit_Deviation_Detail!B489)","v":""},{"$f":"IF(Limit_Deviation_Detail!C489=\"\",\"\",Limit_Deviation_Detail!C489)","v":""},{"$f":"IF(Limit_Deviation_Detail!E489=\"\",\"\",Limit_Deviation_Detail!E489)","v":""},"",{"$f":"IF(COUNTIF(Y$2:Y467,Y467)=1,Y467,\"\")","v":""},"","","","","",null,null,null,null,null,null,null,null,null,null,null,null,null,null,null,{"$f":"+IF(AZ467=\"\",\"\",MAX(AU$1:AU466)+1)","v":""},{"$f":"IF(CMS_Deviation_Detail!B489=\"\",\"\",CMS_Deviation_Detail!B489)","v":""},{"$f":"IF(CMS_Deviation_Detail!C489=\"\",\"\",CMS_Deviation_Detail!C489)","v":""},{"$f":"IF(CMS_Deviation_Detail!D489=\"\",\"\",CMS_Deviation_Detail!D489)","v":""},"",{"$f":"IF(COUNTIF(AY$2:AY467,AY467)=1,AY467,\"\")","v":""},"","","","",""]
[null,null,null,null,null,null,null,null,null,null,null,null,null,null,null,null,null,null,null,null,{"$f":"+IF(Z468=\"\",\"\",MAX(U$1:U467)+1)","v":""},{"$f":"IF(Limit_Deviation_Detail!B490=\"\",\"\",Limit_Deviation_Detail!B490)","v":""},{"$f":"IF(Limit_Deviation_Detail!C490=\"\",\"\",Limit_Deviation_Detail!C490)","v":""},{"$f":"IF(Limit_Deviation_Detail!E490=\"\",\"\",Limit_Deviation_Detail!E490)","v":""},"",{"$f":"IF(COUNTIF(Y$2:Y468,Y468)=1,Y468,\"\")","v":""},"","","","","",null,null,null,null,null,null,null,null,null,null,null,null,null,null,null,{"$f":"+IF(AZ468=\"\",\"\",MAX(AU$1:AU467)+1)","v":""},{"$f":"IF(CMS_Deviation_Detail!B490=\"\",\"\",CMS_Deviation_Detail!B490)","v":""},{"$f":"IF(CMS_Deviation_Detail!C490=\"\",\"\",CMS_Deviation_Detail!C490)","v":""},{"$f":"IF(CMS_Deviation_Detail!D490=\"\",\"\",CMS_Deviation_Detail!D490)","v":""},"",{"$f":"IF(COUNTIF(AY$2:AY468,AY468)=1,AY468,\"\")","v":""},"","","","",""]
[null,null,null,null,null,null,null,null,null,null,null,null,null,null,null,null,null,null,null,null,{"$f":"+IF(Z469=\"\",\"\",MAX(U$1:U468)+1)","v":""},{"$f":"IF(Limit_Deviation_Detail!B491=\"\",\"\",Limit_Deviation_Detail!B491)","v":""},{"$f":"IF(Limit_Deviation_Detail!C491=\"\",\"\",Limit_Deviation_Detail!C491)","v":""},{"$f":"IF(Limit_Deviation_Detail!E491=\"\",\"\",Limit_Deviation_Detail!E491)","v":""},"",{"$f":"IF(COUNTIF(Y$2:Y469,Y469)=1,Y469,\"\")","v":""},"","","","","",null,null,null,null,null,null,null,null,null,null,null,null,null,null,null,{"$f":"+IF(AZ469=\"\",\"\",MAX(AU$1:AU468)+1)","v":""},{"$f":"IF(CMS_Deviation_Detail!B491=\"\",\"\",CMS_Deviation_Detail!B491)","v":""},{"$f":"IF(CMS_Deviation_Detail!C491=\"\",\"\",CMS_Deviation_Detail!C491)","v":""},{"$f":"IF(CMS_Deviation_Detail!D491=\"\",\"\",CMS_Deviation_Detail!D491)","v":""},"",{"$f":"IF(COUNTIF(AY$2:AY469,AY469)=1,AY469,\"\")","v":""},"","","","",""]
[null,null,null,null,null,null,null,null,null,null,null,null,null,null,null,null,null,null,null,null,{"$f":"+IF(Z470=\"\",\"\",MAX(U$1:U469)+1)","v":""},{"$f":"IF(Limit_Deviation_Detail!B492=\"\",\"\",Limit_Deviation_Detail!B492)","v":""},{"$f":"IF(Limit_Deviation_Detail!C492=\"\",\"\",Limit_Deviation_Detail!C492)","v":""},{"$f":"IF(Limit_Deviation_Detail!E492=\"\",\"\",Limit_Deviation_Detail!E492)","v":""},"",{"$f":"IF(COUNTIF(Y$2:Y470,Y470)=1,Y470,\"\")","v":""},"","","","","",null,null,null,null,null,null,null,null,null,null,null,null,null,null,null,{"$f":"+IF(AZ470=\"\",\"\",MAX(AU$1:AU469)+1)","v":""},{"$f":"IF(CMS_Deviation_Detail!B492=\"\",\"\",CMS_Deviation_Detail!B492)","v":""},{"$f":"IF(CMS_Deviation_Detail!C492=\"\",\"\",CMS_Deviation_Detail!C492)","v":""},{"$f":"IF(CMS_Deviation_Detail!D492=\"\",\"\",CMS_Deviation_Detail!D492)","v":""},"",{"$f":"IF(COUNTIF(AY$2:AY470,AY470)=1,AY470,\"\")","v":""},"","","","",""]
[null,null,null,null,null,null,null,null,null,null,null,null,null,null,null,null,null,null,null,null,{"$f":"+IF(Z471=\"\",\"\",MAX(U$1:U470)+1)","v":""},{"$f":"IF(Limit_Deviation_Detail!B493=\"\",\"\",Limit_Deviation_Detail!B493)","v":""},{"$f":"IF(Limit_Deviation_Detail!C493=\"\",\"\",Limit_Deviation_Detail!C493)","v":""},{"$f":"IF(Limit_Deviation_Detail!E493=\"\",\"\",Limit_Deviation_Detail!E493)","v":""},"",{"$f":"IF(COUNTIF(Y$2:Y471,Y471)=1,Y471,\"\")","v":""},"","","","","",null,null,null,null,null,null,null,null,null,null,null,null,null,null,null,{"$f":"+IF(AZ471=\"\",\"\",MAX(AU$1:AU470)+1)","v":""},{"$f":"IF(CMS_Deviation_Detail!B493=\"\",\"\",CMS_Deviation_Detail!B493)","v":""},{"$f":"IF(CMS_Deviation_Detail!C493=\"\",\"\",CMS_Deviation_Detail!C493)","v":""},{"$f":"IF(CMS_Deviation_Detail!D493=\"\",\"\",CMS_Deviation_Detail!D493)","v":""},"",{"$f":"IF(COUNTIF(AY$2:AY471,AY471)=1,AY471,\"\")","v":""},"","","","",""]
[null,null,null,null,null,null,null,null,null,null,null,null,null,null,null,null,null,null,null,null,{"$f":"+IF(Z472=\"\",\"\",MAX(U$1:U471)+1)","v":""},{"$f":"IF(Limit_Deviation_Detail!B494=\"\",\"\",Limit_Deviation_Detail!B494)","v":""},{"$f":"IF(Limit_Deviation_Detail!C494=\"\",\"\",Limit_Deviation_Detail!C494)","v":""},{"$f":"IF(Limit_Deviation_Detail!E494=\"\",\"\",Limit_Deviation_Detail!E494)","v":""},"",{"$f":"IF(COUNTIF(Y$2:Y472,Y472)=1,Y472,\"\")","v":""},"","","","","",null,null,null,null,null,null,null,null,null,null,null,null,null,null,null,{"$f":"+IF(AZ472=\"\",\"\",MAX(AU$1:AU471)+1)","v":""},{"$f":"IF(CMS_Deviation_Detail!B494=\"\",\"\",CMS_Deviation_Detail!B494)","v":""},{"$f":"IF(CMS_Deviation_Detail!C494=\"\",\"\",CMS_Deviation_Detail!C494)","v":""},{"$f":"IF(CMS_Deviation_Detail!D494=\"\",\"\",CMS_Deviation_Detail!D494)","v":""},"",{"$f":"IF(COUNTIF(AY$2:AY472,AY472)=1,AY472,\"\")","v":""},"","","","",""]
[null,null,null,null,null,null,null,null,null,null,null,null,null,null,null,null,null,null,null,null,{"$f":"+IF(Z473=\"\",\"\",MAX(U$1:U472)+1)","v":""},{"$f":"IF(Limit_Deviation_Detail!B495=\"\",\"\",Limit_Deviation_Detail!B495)","v":""},{"$f":"IF(Limit_Deviation_Detail!C495=\"\",\"\",Limit_Deviation_Detail!C495)","v":""},{"$f":"IF(Limit_Deviation_Detail!E495=\"\",\"\",Limit_Deviation_Detail!E495)","v":""},"",{"$f":"IF(COUNTIF(Y$2:Y473,Y473)=1,Y473,\"\")","v":""},"","","","","",null,null,null,null,null,null,null,null,null,null,null,null,null,null,null,{"$f":"+IF(AZ473=\"\",\"\",MAX(AU$1:AU472)+1)","v":""},{"$f":"IF(CMS_Deviation_Detail!B495=\"\",\"\",CMS_Deviation_Detail!B495)","v":""},{"$f":"IF(CMS_Deviation_Detail!C495=\"\",\"\",CMS_Deviation_Detail!C495)","v":""},{"$f":"IF(CMS_Deviation_Detail!D495=\"\",\"\",CMS_Deviation_Detail!D495)","v":""},"",{"$f":"IF(COUNTIF(AY$2:AY473,AY473)=1,AY473,\"\")","v":""},"","","","",""]
[null,null,null,null,null,null,null,null,null,null,null,null,null,null,null,null,null,null,null,null,{"$f":"+IF(Z474=\"\",\"\",MAX(U$1:U473)+1)","v":""},{"$f":"IF(Limit_Deviation_Detail!B496=\"\",\"\",Limit_Deviation_Detail!B496)","v":""},{"$f":"IF(Limit_Deviation_Detail!C496=\"\",\"\",Limit_Deviation_Detail!C496)","v":""},{"$f":"IF(Limit_Deviation_Detail!E496=\"\",\"\",Limit_Deviation_Detail!E496)","v":""},"",{"$f":"IF(COUNTIF(Y$2:Y474,Y474)=1,Y474,\"\")","v":""},"","","","","",null,null,null,null,null,null,null,null,null,null,null,null,null,null,null,{"$f":"+IF(AZ474=\"\",\"\",MAX(AU$1:AU473)+1)","v":""},{"$f":"IF(CMS_Deviation_Detail!B496=\"\",\"\",CMS_Deviation_Detail!B496)","v":""},{"$f":"IF(CMS_Deviation_Detail!C496=\"\",\"\",CMS_Deviation_Detail!C496)","v":""},{"$f":"IF(CMS_Deviation_Detail!D496=\"\",\"\",CMS_Deviation_Detail!D496)","v":""},"",{"$f":"IF(COUNTIF(AY$2:AY474,AY474)=1,AY474,\"\")","v":""},"","","","",""]
[null,null,null,null,null,null,null,null,null,null,null,null,null,null,null,null,null,null,null,null,{"$f":"+IF(Z475=\"\",\"\",MAX(U$1:U474)+1)","v":""},{"$f":"IF(Limit_Deviation_Detail!B497=\"\",\"\",Limit_Deviation_Detail!B497)","v":""},{"$f":"IF(Limit_Deviation_Detail!C497=\"\",\"\",Limit_Deviation_Detail!C497)","v":""},{"$f":"IF(Limit_Deviation_Detail!E497=\"\",\"\",Limit_Deviation_Detail!E497)","v":""},"",{"$f":"IF(COUNTIF(Y$2:Y475,Y475)=1,Y475,\"\")","v":""},"","","","","",null,null,null,null,null,null,null,null,null,null,null,null,null,null,null,{"$f":"+IF(AZ475=\"\",\"\",MAX(AU$1:AU474)+1)","v":""},{"$f":"IF(CMS_Deviation_Detail!B497=\"\",\"\",CMS_Deviation_Detail!B497)","v":""},{"$f":"IF(CMS_Deviation_Detail!C497=\"\",\"\",CMS_Deviation_Detail!C497)","v":""},{"$f":"IF(CMS_Deviation_Detail!D497=\"\",\"\",CMS_Deviation_Detail!D497)","v":""},"",{"$f":"IF(COUNTIF(AY$2:AY475,AY475)=1,AY475,\"\")","v":""},"","","","",""]
[null,null,null,null,null,null,null,null,null,null,null,null,null,null,null,null,null,null,null,null,{"$f":"+IF(Z476=\"\",\"\",MAX(U$1:U475)+1)","v":""},{"$f":"IF(Limit_Deviation_Detail!B498=\"\",\"\",Limit_Deviation_Detail!B498)","v":""},{"$f":"IF(Limit_Deviation_Detail!C498=\"\",\"\",Limit_Deviation_Detail!C498)","v":""},{"$f":"IF(Limit_Deviation_Detail!E498=\"\",\"\",Limit_Deviation_Detail!E498)","v":""},"",{"$f":"IF(COUNTIF(Y$2:Y476,Y476)=1,Y476,\"\")","v":""},"","","","","",null,null,null,null,null,null,null,null,null,null,null,null,null,null,null,{"$f":"+IF(AZ476=\"\",\"\",MAX(AU$1:AU475)+1)","v":""},{"$f":"IF(CMS_Deviation_Detail!B498=\"\",\"\",CMS_Deviation_Detail!B498)","v":""},{"$f":"IF(CMS_Deviation_Detail!C498=\"\",\"\",CMS_Deviation_Detail!C498)","v":""},{"$f":"IF(CMS_Deviation_Detail!D498=\"\",\"\",CMS_Deviation_Detail!D498)","v":""},"",{"$f":"IF(COUNTIF(AY$2:AY476,AY476)=1,AY476,\"\")","v":""},"","","","",""]
[null,null,null,null,null,null,null,null,null,null,null,null,null,null,null,null,null,null,null,null,{"$f":"+IF(Z477=\"\",\"\",MAX(U$1:U476)+1)","v":""},{"$f":"IF(Limit_Deviation_Detail!B499=\"\",\"\",Limit_Deviation_Detail!B499)","v":""},{"$f":"IF(Limit_Deviation_Detail!C499=\"\",\"\",Limit_Deviation_Detail!C499)","v":""},{"$f":"IF(Limit_Deviation_Detail!E499=\"\",\"\",Limit_Deviation_Detail!E499)","v":""},"",{"$f":"IF(COUNTIF(Y$2:Y477,Y477)=1,Y477,\"\")","v":""},"","","","","",null,null,null,null,null,null,null,null,null,null,null,null,null,null,null,{"$f":"+IF(AZ477=\"\",\"\",MAX(AU$1:AU476)+1)","v":""},{"$f":"IF(CMS_Deviation_Detail!B499=\"\",\"\",CMS_Deviation_Detail!B499)","v":""},{"$f":"IF(CMS_Deviation_Detail!C499=\"\",\"\",CMS_Deviation_Detail!C499)","v":""},{"$f":"IF(CMS_Deviation_Detail!D499=\"\",\"\",CMS_Deviation_Detail!D499)","v":""},"",{"$f":"IF(COUNTIF(AY$2:AY477,AY477)=1,AY477,\"\")","v":""},"","","","",""]
[null,null,null,null,null,null,null,null,null,null,null,null,null,null,null,null,null,null,null,null,{"$f":"+IF(Z478=\"\",\"\",MAX(U$1:U477)+1)","v":""},{"$f":"IF(Limit_Deviation_Detail!B500=\"\",\"\",Limit_Deviation_Detail!B500)","v":""},{"$f":"IF(Limit_Deviation_Detail!C500=\"\",\"\",Limit_Deviation_Detail!C500)","v":""},{"$f":"IF(Limit_Deviation_Detail!E500=\"\",\"\",Limit_Deviation_Detail!E500)","v":""},"",{"$f":"IF(COUNTIF(Y$2:Y478,Y478)=1,Y478,\"\")","v":""},"","","","","",null,null,null,null,null,null,null,null,null,null,null,null,null,null,null,{"$f":"+IF(AZ478=\"\",\"\",MAX(AU$1:AU477)+1)","v":""},{"$f":"IF(CMS_Deviation_Detail!B500=\"\",\"\",CMS_Deviation_Detail!B500)","v":""},{"$f":"IF(CMS_Deviation_Detail!C500=\"\",\"\",CMS_Deviation_Detail!C500)","v":""},{"$f":"IF(CMS_Deviation_Detail!D500=\"\",\"\",CMS_Deviation_Detail!D500)","v":""},"",{"$f":"IF(COUNTIF(AY$2:AY478,AY478)=1,AY478,\"\")","v":""},"","","","",""]

{"sheet":"Welcome","index":1,"n_rows":16,"n_cols":2,"rows_kept":16,"cut":false,"hidden":false,"merged":[]}
[]
["Template Name","63.10899(c) Semiannual Compliance Report (Spreadsheet Template)"]
["CitationID","63.10899(c)"]
["Template Version","v1.02"]
["Last Updated Date",45391]
["Blank","OMB No.: 2060-0605 Form 5900-521 For further Paperwork Reduction Act information see: \nhttps://www.epa.gov/electronic-reporting-air-emissions/paperwork-reduction-act-pra-cedri-and-ert"]
["For further Paperwork Reduction Act information see: ","For further Paperwork Reduction Act information see: \nhttps://www.epa.gov/electronic-reporting-air-emissions/paperwork-reduction-act-pra-cedri-and-ert"]
["Blank","40 CFR Part 63, Subpart ZZZZZ National Emission Standards for Hazardous Air Pollutants: Iron and Steel Foundries Area Sources - \n§63.10899(c)  Semiannual Compliance Report Spreadsheet Template"]
[null,"Instructions for Spreadsheet Template\n\nPurpose:\nThis spreadsheet template was designed by the U.S. EPA to facilitate Semiannual Compliance reporting for facilities subject under the 40 CFR part 63, subpart ZZZZZ National Emission Standard for Hazardous Air Pollutants: Iron and Steel Foundries.  \n"]
[null,"Electronic reporting:\nElectronic submission of Semiannual Compliance Reports through the EPA's Compliance and Emissions Data Reporting Interface (CEDRI) is required under §63.10899(c). CEDRI is accessed through the EPA's Central Data Exchange (https://cdx.epa.gov).\n"]
["Blank","The CEDRI spreadsheet template upload feature allows you to submit data in a single report for a single company or multiple companies, as well as multiple sites, using this EPA provided Excel workbook.  Data for each company must be entered into the worksheet labeled \"Company Information\" in this Excel workbook.  Each row in the \"Company Information\" worksheet includes the data for a single company. The Company Record No. will be used to match the information on each worksheet to the appropriate company. \n\nFor each facility record found in the \"Company Information\" worksheet, you may reference a single file attachment that includes additional information. \n"]
[null,"IMPORTANT: The spreadsheet must be uploaded into CEDRI as a single ZIP file, which must include this Excel workbook and any related attachments that were referenced in the workbook (i.e., additional information file found in the \"Company Information\" worksheet).\n\nNote: If you are uploading file attachments for your report, the uploaded files may be in any format (e.g., zip, docx, PDF). If you would like to include an Excel file(s) as an attachment, you must first zip the Excel file(s) into a separate ZIP file to the master ZIP file that will be uploaded into CEDRI.\n"]
[null,"Once all data have been entered in the worksheet, combine this Excel workbook and all attachment files (including any ZIP file containing separate Excel file(s), if applicable) into a single ZIP file for upload to CEDRI.\n\nPlease ensure your report includes all of the required data elements found in the listed citations below for this spreadsheet upload submission.\n"]
[null,"Do not submit information you claim as confidential business information (CBI) to EPA via CEDRI. EPA will make all the information submitted through this form via CEDRI available to the public without further notice to you. Anything submitted using CEDRI cannot later be claimed to be CBI. Furthermore, under CAA section 114(c) emissions data is not entitled to confidential treatment and requires EPA to make emissions data available to the public. Thus, emissions data will not be protected as CBI and will be made publicly available.\n"]
[null,"Although we do not expect persons to assert a claim of CBI, if persons wish to assert a CBI claim, you must submit the report via CEDRI with the CBI omitted and mail a complete report, including any information claimed to be CBI, to EPA on a compact disc, flash drive, or other commonly used electronic storage media via U.S. postal service. You must mark the outside of the digital storage media as CBI and then identify electronically within the digital storage media the specific information that is claimed as CBI. Mail the media to the address in the referencing federal regulation. If no address is specified, mail the media to:\n\nU.S. EPA/OAQPS/CORE CBI Office Attention: Group Leader, \nMeasurement Policy Group MD C404-02\n4930 Old Page Rd\nDurham, North Carolina 27703"]
["Blank","Template Navigation and Tabs to Complete:\nGray Tabs:  The gray tabs (complete in the following order; Company_Information, Affected_Sources, and CMS_Identification)  contains mostly general information that is likely to be unchanged from report to report with the exception of dates and operating hours and is used in completing later tabs.  After completing the gray tabs, the workbook may be saved as a site specific template for use in subsequent reports to limit subsequent data entry.  \n\nGreen Tabs:  Green tabs are completed as necessary for the facility.  Complete in the following order: Description_of_Changes, CMS_Deviation_Detail, CMS_Deviation_Summary, Limit_Deviation_Detail, Limit_Deviation_Summary, Mercury_Switches_Scrap_Option, and Mercury_Switches tabs, as required.  Some cells are linked to previous tabs or are calculations dependent upon data entry.  The two Summary tabs, CMS_Deviation_Summary and Limit_Deviation_Summary, are autocompleted based upon entries in the respective Detail tabs.\n\nBlue Tab: The blue tab (Certification) must be completed for each report. \n\nWithin the tabs, example rows are colored light red (from row 14 up to potentially row 23), and the XML tags (row 13) are colored green.  These rows are locked; no data entry is made in these rows.  Cells shaded light pink are locked and contain calculations that may not be changed. Data entry begins on row 24."]

{"sheet":"Company_Information","index":2,"n_rows":33,"n_cols":15,"rows_kept":33,"cut":false,"hidden":false,"merged":[]}
[null,"DO NOT REMOVE OR EDIT INFORMATION IN ROWS 1 THROUGH 5\nFOR INTERNAL USE ONLY"]
[null,"Template Name",{"$f":"+Welcome!B2","v":"63.10899(c) Semiannual Compliance Report (Spreadsheet Template)"}]
[null,"CitationID",{"$f":"+Welcome!B3","v":"63.10899(c)"}]
[null,"Template Version",{"$f":"+Welcome!B4","v":"v1.02"}]
[null,"Last Updated Date",{"$f":"+Welcome!B5","v":45391}]
[null,{"$f":"Welcome!B6","v":"OMB No.: 2060-0605 Form 5900-521 For further Paperwork Reduction Act information see: \nhttps://www.epa.gov/electronic-reporting-air-emissions/paperwork-reduction-act-pra-cedri-and-ert"}]
[null,"40 CFR Part 63, Subpart ZZZZZ National Emission Standards for Hazardous Air Pollutants: Iron and Steel Foundries Area Sources- "]
[null,"§63.10899(c) Semiannual Compliance Report Spreadsheet Template"]
[]
[]
[null,null,"SITE INFORMATION",null,null,null,null,null,null,null,"REPORTING PERIOD"]
[null,"Company Record No. \n(Field value will automatically generate if a value is not entered.)","Company Name \n(§63.10899(c)(1))","Address \n(§63.10899(c)(1))","Address 2 ","City \n(§63.10899(c)(1))","County","State Abbreviation \n(§63.10899(c)(1))","Zip Code \n(§63.10899(c)(1))","Responsible Agency Facility ID \n(State Facility Identifier)","Date of Report \n(§63.10899(c)(3))","Beginning Date of Reporting Period  \n(§63.10899(c)(3))","Ending Date of\nReporting Period\n(§63.10899(c)(3))","Please enter any additional information.","Enter associated file name reference. "]
[null,"RecordId","CompanyName","AddressLine1","AddressLine2","CityName","CountyName","StateName","ZipCode","StateFacId","ReportDate","PeriodStartDate","PeriodEndDate","AddInfo","AddFile"]
[null,"e.g.: 1","e.g.: ABC Company","e.g.: 123 Main Street","e.g.: Suite 100","e.g.: Brooklyn","e.g.: Kings","e.g.: NY","e.g.: 11221","e.g.: 9145555555","e.g.: 7/15/2020","e.g.: 01/01/2020","e.g.: 6/30/2020",null,"e.g.: addlinfo.zip "]
[]
[]
[]
[]
[]
[]
[]
[]
[]
[null,{"$f":"IF(C24=\"\",\"\",MAX(B23:$B$23)+1)","v":""}]
[null,{"$f":"IF(C25=\"\",\"\",MAX(B$23:$B24)+1)","v":""}]
[null,{"$f":"IF(C26=\"\",\"\",MAX(B$23:$B25)+1)","v":""}]
[null,{"$f":"IF(C27=\"\",\"\",MAX(B$23:$B26)+1)","v":""}]
[null,{"$f":"IF(C28=\"\",\"\",MAX(B$23:$B27)+1)","v":""}]
[null,{"$f":"IF(C29=\"\",\"\",MAX(B$23:$B28)+1)","v":""}]
[null,{"$f":"IF(C30=\"\",\"\",MAX(B$23:$B29)+1)","v":""}]
[null,{"$f":"IF(C31=\"\",\"\",MAX(B$23:$B30)+1)","v":""}]
[null,{"$f":"IF(C32=\"\",\"\",MAX(B$23:$B31)+1)","v":""}]
[null,{"$f":"IF(C33=\"\",\"\",MAX(B$23:$B32)+1)","v":""}]

{"sheet":"Affected_Sources","index":3,"n_rows":14,"n_cols":4,"rows_kept":14,"cut":false,"hidden":false,"merged":[]}
[null,"DO NOT REMOVE OR EDIT INFORMATION IN ROWS 1 THROUGH 5\nFOR INTERNAL USE ONLY"]
[null,"Template Name",{"$f":"+Welcome!B2","v":"63.10899(c) Semiannual Compliance Report (Spreadsheet Template)"}]
[null,"CitationID",{"$f":"+Welcome!B3","v":"63.10899(c)"}]
[null,"Template Version",{"$f":"+Welcome!B4","v":"v1.02"}]
[null,"Last Updated Date",{"$f":"+Welcome!B5","v":45391}]
[null,{"$f":"Welcome!B6","v":"OMB No.: 2060-0605 Form 5900-521 For further Paperwork Reduction Act information see: \nhttps://www.epa.gov/electronic-reporting-air-emissions/paperwork-reduction-act-pra-cedri-and-ert"}]
[null,"40 CFR Part 63, Subpart ZZZZZ National Emission Standards for Hazardous Air Pollutants:  "]
[null,"Iron and Steel Foundries Area Sources - §63.10899(c) Semiannual Compliance Report Spreadsheet Template"]
[]
[]
[]
[null,"Company Record No.\n(Select from dropdown)","Brief Description of Affected Source\n(§63.10899(c)(6)(i) or (c)(7)(iii))","Total Operating Hours During the Reporting Period \n(§63.10899(c)(6)(i) or (c)(7)(iii))"]
[null,"RecordId","AffectedSource_AS","TotalOperatingHours_AS"]
[null,"e.g.: 1","e.g. Line 1","e.g.: 4221.0"]

{"sheet":"CMS_Identification","index":4,"n_rows":100,"n_cols":6,"rows_kept":100,"cut":false,"hidden":false,"merged":[]}
[null,"DO NOT REMOVE OR EDIT INFORMATION IN ROWS 1 THROUGH 5\nFOR INTERNAL USE ONLY"]
[null,"Template Name",{"$f":"+Welcome!B2","v":"63.10899(c) Semiannual Compliance Report (Spreadsheet Template)"}]
[null,"CitationID",{"$f":"+Welcome!B3","v":"63.10899(c)"}]
[null,"Template Version",{"$f":"+Welcome!B4","v":"v1.02"}]
[null,"Last Updated Date",{"$f":"+Welcome!B5","v":45391}]
[null,{"$f":"Welcome!B6","v":"OMB No.: 2060-0605 Form 5900-521 For further Paperwork Reduction Act information see: \nhttps://www.epa.gov/electronic-reporting-air-emissions/paperwork-reduction-act-pra-cedri-and-ert"}]
[null,"40 CFR Part 63, Subpart ZZZZZ National Emission Standards for Hazardous Air Pollutants:  Iron and Steel Foundries Area Sources - "]
[null,"§63.10899(c) Semiannual Compliance Report Spreadsheet Template"]
[]
[]
[]
[null,"Company Record No.\n(Autocompleted from Column D)","Brief Description of Affected Source\n(§63.10899(c)(7)(iii))\n(Autocompleted from Column D)","Company Record Number and Affected Source\n(Select from dropdown)","Monitoring Equipment Manufacturer and Model Number\n(§63.10899(c)(7)(i))","Date of Last CMS\nCertification or Audit\n(§63.10899(c)(7)(ii))"]
[null,"RecordId","AffectedSource_Identification","RecordSource_Identification","Manufacturer_Identification","CMSAuditDate_Identification"]
[null,"e.g.: 1","e.g. Line 1","e.g.: 1 Line 1","e.g.: TC1792 PM Filter Bank Inlet Temperature","e.g.: 2/2/2020"]
[]
[]
[]
[]
[]
[]
[]
[]
[]
[null,{"$f":"IF($D24=\"\",\"\",VLOOKUP($D24,Lists!$AP$2:$AS$78,2,FALSE))","v":""},{"$f":"IF($D24=\"\",\"\",VLOOKUP($D24,Lists!$AP$2:$AS$78,3,FALSE))","v":""}]
[null,{"$f":"IF($D25=\"\",\"\",VLOOKUP($D25,Lists!$AP$2:$AS$78,2,FALSE))","v":""},{"$f":"IF($D25=\"\",\"\",VLOOKUP($D25,Lists!$AP$2:$AS$78,3,FALSE))","v":""}]
[null,{"$f":"IF($D26=\"\",\"\",VLOOKUP($D26,Lists!$AP$2:$AS$78,2,FALSE))","v":""},{"$f":"IF($D26=\"\",\"\",VLOOKUP($D26,Lists!$AP$2:$AS$78,3,FALSE))","v":""}]
[null,{"$f":"IF($D27=\"\",\"\",VLOOKUP($D27,Lists!$AP$2:$AS$78,2,FALSE))","v":""},{"$f":"IF($D27=\"\",\"\",VLOOKUP($D27,Lists!$AP$2:$AS$78,3,FALSE))","v":""}]
[null,{"$f":"IF($D28=\"\",\"\",VLOOKUP($D28,Lists!$AP$2:$AS$78,2,FALSE))","v":""},{"$f":"IF($D28=\"\",\"\",VLOOKUP($D28,Lists!$AP$2:$AS$78,3,FALSE))","v":""}]
[null,{"$f":"IF($D29=\"\",\"\",VLOOKUP($D29,Lists!$AP$2:$AS$78,2,FALSE))","v":""},{"$f":"IF($D29=\"\",\"\",VLOOKUP($D29,Lists!$AP$2:$AS$78,3,FALSE))","v":""}]
[null,{"$f":"IF($D30=\"\",\"\",VLOOKUP($D30,Lists!$AP$2:$AS$78,2,FALSE))","v":""},{"$f":"IF($D30=\"\",\"\",VLOOKUP($D30,Lists!$AP$2:$AS$78,3,FALSE))","v":""}]
[null,{"$f":"IF($D31=\"\",\"\",VLOOKUP($D31,Lists!$AP$2:$AS$78,2,FALSE))","v":""},{"$f":"IF($D31=\"\",\"\",VLOOKUP($D31,Lists!$AP$2:$AS$78,3,FALSE))","v":""}]
[null,{"$f":"IF($D32=\"\",\"\",VLOOKUP($D32,Lists!$AP$2:$AS$78,2,FALSE))","v":""},{"$f":"IF($D32=\"\",\"\",VLOOKUP($D32,Lists!$AP$2:$AS$78,3,FALSE))","v":""}]
[null,{"$f":"IF($D33=\"\",\"\",VLOOKUP($D33,Lists!$AP$2:$AS$78,2,FALSE))","v":""},{"$f":"IF($D33=\"\",\"\",VLOOKUP($D33,Lists!$AP$2:$AS$78,3,FALSE))","v":""}]
[null,{"$f":"IF($D34=\"\",\"\",VLOOKUP($D34,Lists!$AP$2:$AS$78,2,FALSE))","v":""},{"$f":"IF($D34=\"\",\"\",VLOOKUP($D34,Lists!$AP$2:$AS$78,3,FALSE))","v":""}]
[null,{"$f":"IF($D35=\"\",\"\",VLOOKUP($D35,Lists!$AP$2:$AS$78,2,FALSE))","v":""},{"$f":"IF($D35=\"\",\"\",VLOOKUP($D35,Lists!$AP$2:$AS$78,3,FALSE))","v":""}]
[null,{"$f":"IF($D36=\"\",\"\",VLOOKUP($D36,Lists!$AP$2:$AS$78,2,FALSE))","v":""},{"$f":"IF($D36=\"\",\"\",VLOOKUP($D36,Lists!$AP$2:$AS$78,3,FALSE))","v":""}]
[null,{"$f":"IF($D37=\"\",\"\",VLOOKUP($D37,Lists!$AP$2:$AS$78,2,FALSE))","v":""},{"$f":"IF($D37=\"\",\"\",VLOOKUP($D37,Lists!$AP$2:$AS$78,3,FALSE))","v":""}]
[null,{"$f":"IF($D38=\"\",\"\",VLOOKUP($D38,Lists!$AP$2:$AS$78,2,FALSE))","v":""},{"$f":"IF($D38=\"\",\"\",VLOOKUP($D38,Lists!$AP$2:$AS$78,3,FALSE))","v":""}]
[null,{"$f":"IF($D39=\"\",\"\",VLOOKUP($D39,Lists!$AP$2:$AS$78,2,FALSE))","v":""},{"$f":"IF($D39=\"\",\"\",VLOOKUP($D39,Lists!$AP$2:$AS$78,3,FALSE))","v":""}]
[null,{"$f":"IF($D40=\"\",\"\",VLOOKUP($D40,Lists!$AP$2:$AS$78,2,FALSE))","v":""},{"$f":"IF($D40=\"\",\"\",VLOOKUP($D40,Lists!$AP$2:$AS$78,3,FALSE))","v":""}]
[null,{"$f":"IF($D41=\"\",\"\",VLOOKUP($D41,Lists!$AP$2:$AS$78,2,FALSE))","v":""},{"$f":"IF($D41=\"\",\"\",VLOOKUP($D41,Lists!$AP$2:$AS$78,3,FALSE))","v":""}]
[null,{"$f":"IF($D42=\"\",\"\",VLOOKUP($D42,Lists!$AP$2:$AS$78,2,FALSE))","v":""},{"$f":"IF($D42=\"\",\"\",VLOOKUP($D42,Lists!$AP$2:$AS$78,3,FALSE))","v":""}]
[null,{"$f":"IF($D43=\"\",\"\",VLOOKUP($D43,Lists!$AP$2:$AS$78,2,FALSE))","v":""},{"$f":"IF($D43=\"\",\"\",VLOOKUP($D43,Lists!$AP$2:$AS$78,3,FALSE))","v":""}]
[null,{"$f":"IF($D44=\"\",\"\",VLOOKUP($D44,Lists!$AP$2:$AS$78,2,FALSE))","v":""},{"$f":"IF($D44=\"\",\"\",VLOOKUP($D44,Lists!$AP$2:$AS$78,3,FALSE))","v":""}]
[null,{"$f":"IF($D45=\"\",\"\",VLOOKUP($D45,Lists!$AP$2:$AS$78,2,FALSE))","v":""},{"$f":"IF($D45=\"\",\"\",VLOOKUP($D45,Lists!$AP$2:$AS$78,3,FALSE))","v":""}]
[null,{"$f":"IF($D46=\"\",\"\",VLOOKUP($D46,Lists!$AP$2:$AS$78,2,FALSE))","v":""},{"$f":"IF($D46=\"\",\"\",VLOOKUP($D46,Lists!$AP$2:$AS$78,3,FALSE))","v":""}]
[null,{"$f":"IF($D47=\"\",\"\",VLOOKUP($D47,Lists!$AP$2:$AS$78,2,FALSE))","v":""},{"$f":"IF($D47=\"\",\"\",VLOOKUP($D47,Lists!$AP$2:$AS$78,3,FALSE))","v":""}]
[null,{"$f":"IF($D48=\"\",\"\",VLOOKUP($D48,Lists!$AP$2:$AS$78,2,FALSE))","v":""},{"$f":"IF($D48=\"\",\"\",VLOOKUP($D48,Lists!$AP$2:$AS$78,3,FALSE))","v":""}]
[null,{"$f":"IF($D49=\"\",\"\",VLOOKUP($D49,Lists!$AP$2:$AS$78,2,FALSE))","v":""},{"$f":"IF($D49=\"\",\"\",VLOOKUP($D49,Lists!$AP$2:$AS$78,3,FALSE))","v":""}]
[null,{"$f":"IF($D50=\"\",\"\",VLOOKUP($D50,Lists!$AP$2:$AS$78,2,FALSE))","v":""},{"$f":"IF($D50=\"\",\"\",VLOOKUP($D50,Lists!$AP$2:$AS$78,3,FALSE))","v":""}]
[null,{"$f":"IF($D51=\"\",\"\",VLOOKUP($D51,Lists!$AP$2:$AS$78,2,FALSE))","v":""},{"$f":"IF($D51=\"\",\"\",VLOOKUP($D51,Lists!$AP$2:$AS$78,3,FALSE))","v":""}]
[null,{"$f":"IF($D52=\"\",\"\",VLOOKUP($D52,Lists!$AP$2:$AS$78,2,FALSE))","v":""},{"$f":"IF($D52=\"\",\"\",VLOOKUP($D52,Lists!$AP$2:$AS$78,3,FALSE))","v":""}]
[null,{"$f":"IF($D53=\"\",\"\",VLOOKUP($D53,Lists!$AP$2:$AS$78,2,FALSE))","v":""},{"$f":"IF($D53=\"\",\"\",VLOOKUP($D53,Lists!$AP$2:$AS$78,3,FALSE))","v":""}]
[null,{"$f":"IF($D54=\"\",\"\",VLOOKUP($D54,Lists!$AP$2:$AS$78,2,FALSE))","v":""},{"$f":"IF($D54=\"\",\"\",VLOOKUP($D54,Lists!$AP$2:$AS$78,3,FALSE))","v":""}]
[null,{"$f":"IF($D55=\"\",\"\",VLOOKUP($D55,Lists!$AP$2:$AS$78,2,FALSE))","v":""},{"$f":"IF($D55=\"\",\"\",VLOOKUP($D55,Lists!$AP$2:$AS$78,3,FALSE))","v":""}]
[null,{"$f":"IF($D56=\"\",\"\",VLOOKUP($D56,Lists!$AP$2:$AS$78,2,FALSE))","v":""},{"$f":"IF($D56=\"\",\"\",VLOOKUP($D56,Lists!$AP$2:$AS$78,3,FALSE))","v":""}]
[null,{"$f":"IF($D57=\"\",\"\",VLOOKUP($D57,Lists!$AP$2:$AS$78,2,FALSE))","v":""},{"$f":"IF($D57=\"\",\"\",VLOOKUP($D57,Lists!$AP$2:$AS$78,3,FALSE))","v":""}]
[null,{"$f":"IF($D58=\"\",\"\",VLOOKUP($D58,Lists!$AP$2:$AS$78,2,FALSE))","v":""},{"$f":"IF($D58=\"\",\"\",VLOOKUP($D58,Lists!$AP$2:$AS$78,3,FALSE))","v":""}]
[null,{"$f":"IF($D59=\"\",\"\",VLOOKUP($D59,Lists!$AP$2:$AS$78,2,FALSE))","v":""},{"$f":"IF($D59=\"\",\"\",VLOOKUP($D59,Lists!$AP$2:$AS$78,3,FALSE))","v":""}]
[null,{"$f":"IF($D60=\"\",\"\",VLOOKUP($D60,Lists!$AP$2:$AS$78,2,FALSE))","v":""},{"$f":"IF($D60=\"\",\"\",VLOOKUP($D60,Lists!$AP$2:$AS$78,3,FALSE))","v":""}]
[null,{"$f":"IF($D61=\"\",\"\",VLOOKUP($D61,Lists!$AP$2:$AS$78,2,FALSE))","v":""},{"$f":"IF($D61=\"\",\"\",VLOOKUP($D61,Lists!$AP$2:$AS$78,3,FALSE))","v":""}]
[null,{"$f":"IF($D62=\"\",\"\",VLOOKUP($D62,Lists!$AP$2:$AS$78,2,FALSE))","v":""},{"$f":"IF($D62=\"\",\"\",VLOOKUP($D62,Lists!$AP$2:$AS$78,3,FALSE))","v":""}]
[null,{"$f":"IF($D63=\"\",\"\",VLOOKUP($D63,Lists!$AP$2:$AS$78,2,FALSE))","v":""},{"$f":"IF($D63=\"\",\"\",VLOOKUP($D63,Lists!$AP$2:$AS$78,3,FALSE))","v":""}]
[null,{"$f":"IF($D64=\"\",\"\",VLOOKUP($D64,Lists!$AP$2:$AS$78,2,FALSE))","v":""},{"$f":"IF($D64=\"\",\"\",VLOOKUP($D64,Lists!$AP$2:$AS$78,3,FALSE))","v":""}]
[null,{"$f":"IF($D65=\"\",\"\",VLOOKUP($D65,Lists!$AP$2:$AS$78,2,FALSE))","v":""},{"$f":"IF($D65=\"\",\"\",VLOOKUP($D65,Lists!$AP$2:$AS$78,3,FALSE))","v":""}]
[null,{"$f":"IF($D66=\"\",\"\",VLOOKUP($D66,Lists!$AP$2:$AS$78,2,FALSE))","v":""},{"$f":"IF($D66=\"\",\"\",VLOOKUP($D66,Lists!$AP$2:$AS$78,3,FALSE))","v":""}]
[null,{"$f":"IF($D67=\"\",\"\",VLOOKUP($D67,Lists!$AP$2:$AS$78,2,FALSE))","v":""},{"$f":"IF($D67=\"\",\"\",VLOOKUP($D67,Lists!$AP$2:$AS$78,3,FALSE))","v":""}]
[null,{"$f":"IF($D68=\"\",\"\",VLOOKUP($D68,Lists!$AP$2:$AS$78,2,FALSE))","v":""},{"$f":"IF($D68=\"\",\"\",VLOOKUP($D68,Lists!$AP$2:$AS$78,3,FALSE))","v":""}]
[null,{"$f":"IF($D69=\"\",\"\",VLOOKUP($D69,Lists!$AP$2:$AS$78,2,FALSE))","v":""},{"$f":"IF($D69=\"\",\"\",VLOOKUP($D69,Lists!$AP$2:$AS$78,3,FALSE))","v":""}]
[null,{"$f":"IF($D70=\"\",\"\",VLOOKUP($D70,Lists!$AP$2:$AS$78,2,FALSE))","v":""},{"$f":"IF($D70=\"\",\"\",VLOOKUP($D70,Lists!$AP$2:$AS$78,3,FALSE))","v":""}]
[null,{"$f":"IF($D71=\"\",\"\",VLOOKUP($D71,Lists!$AP$2:$AS$78,2,FALSE))","v":""},{"$f":"IF($D71=\"\",\"\",VLOOKUP($D71,Lists!$AP$2:$AS$78,3,FALSE))","v":""}]
[null,{"$f":"IF($D72=\"\",\"\",VLOOKUP($D72,Lists!$AP$2:$AS$78,2,FALSE))","v":""},{"$f":"IF($D72=\"\",\"\",VLOOKUP($D72,Lists!$AP$2:$AS$78,3,FALSE))","v":""}]
[null,{"$f":"IF($D73=\"\",\"\",VLOOKUP($D73,Lists!$AP$2:$AS$78,2,FALSE))","v":""},{"$f":"IF($D73=\"\",\"\",VLOOKUP($D73,Lists!$AP$2:$AS$78,3,FALSE))","v":""}]
[null,{"$f":"IF($D74=\"\",\"\",VLOOKUP($D74,Lists!$AP$2:$AS$78,2,FALSE))","v":""},{"$f":"IF($D74=\"\",\"\",VLOOKUP($D74,Lists!$AP$2:$AS$78,3,FALSE))","v":""}]
[null,{"$f":"IF($D75=\"\",\"\",VLOOKUP($D75,Lists!$AP$2:$AS$78,2,FALSE))","v":""},{"$f":"IF($D75=\"\",\"\",VLOOKUP($D75,Lists!$AP$2:$AS$78,3,FALSE))","v":""}]
[null,{"$f":"IF($D76=\"\",\"\",VLOOKUP($D76,Lists!$AP$2:$AS$78,2,FALSE))","v":""},{"$f":"IF($D76=\"\",\"\",VLOOKUP($D76,Lists!$AP$2:$AS$78,3,FALSE))","v":""}]
[null,{"$f":"IF($D77=\"\",\"\",VLOOKUP($D77,Lists!$AP$2:$AS$78,2,FALSE))","v":""},{"$f":"IF($D77=\"\",\"\",VLOOKUP($D77,Lists!$AP$2:$AS$78,3,FALSE))","v":""}]
[null,{"$f":"IF($D78=\"\",\"\",VLOOKUP($D78,Lists!$AP$2:$AS$78,2,FALSE))","v":""},{"$f":"IF($D78=\"\",\"\",VLOOKUP($D78,Lists!$AP$2:$AS$78,3,FALSE))","v":""}]
[null,{"$f":"IF($D79=\"\",\"\",VLOOKUP($D79,Lists!$AP$2:$AS$78,2,FALSE))","v":""},{"$f":"IF($D79=\"\",\"\",VLOOKUP($D79,Lists!$AP$2:$AS$78,3,FALSE))","v":""}]
[null,{"$f":"IF($D80=\"\",\"\",VLOOKUP($D80,Lists!$AP$2:$AS$78,2,FALSE))","v":""},{"$f":"IF($D80=\"\",\"\",VLOOKUP($D80,Lists!$AP$2:$AS$78,3,FALSE))","v":""}]
[null,{"$f":"IF($D81=\"\",\"\",VLOOKUP($D81,Lists!$AP$2:$AS$78,2,FALSE))","v":""},{"$f":"IF($D81=\"\",\"\",VLOOKUP($D81,Lists!$AP$2:$AS$78,3,FALSE))","v":""}]
[null,{"$f":"IF($D82=\"\",\"\",VLOOKUP($D82,Lists!$AP$2:$AS$78,2,FALSE))","v":""},{"$f":"IF($D82=\"\",\"\",VLOOKUP($D82,Lists!$AP$2:$AS$78,3,FALSE))","v":""}]
[null,{"$f":"IF($D83=\"\",\"\",VLOOKUP($D83,Lists!$AP$2:$AS$78,2,FALSE))","v":""},{"$f":"IF($D83=\"\",\"\",VLOOKUP($D83,Lists!$AP$2:$AS$78,3,FALSE))","v":""}]
[null,{"$f":"IF($D84=\"\",\"\",VLOOKUP($D84,Lists!$AP$2:$AS$78,2,FALSE))","v":""},{"$f":"IF($D84=\"\",\"\",VLOOKUP($D84,Lists!$AP$2:$AS$78,3,FALSE))","v":""}]
[null,{"$f":"IF($D85=\"\",\"\",VLOOKUP($D85,Lists!$AP$2:$AS$78,2,FALSE))","v":""},{"$f":"IF($D85=\"\",\"\",VLOOKUP($D85,Lists!$AP$2:$AS$78,3,FALSE))","v":""}]
[null,{"$f":"IF($D86=\"\",\"\",VLOOKUP($D86,Lists!$AP$2:$AS$78,2,FALSE))","v":""},{"$f":"IF($D86=\"\",\"\",VLOOKUP($D86,Lists!$AP$2:$AS$78,3,FALSE))","v":""}]
[null,{"$f":"IF($D87=\"\",\"\",VLOOKUP($D87,Lists!$AP$2:$AS$78,2,FALSE))","v":""},{"$f":"IF($D87=\"\",\"\",VLOOKUP($D87,Lists!$AP$2:$AS$78,3,FALSE))","v":""}]
[null,{"$f":"IF($D88=\"\",\"\",VLOOKUP($D88,Lists!$AP$2:$AS$78,2,FALSE))","v":""},{"$f":"IF($D88=\"\",\"\",VLOOKUP($D88,Lists!$AP$2:$AS$78,3,FALSE))","v":""}]
[null,{"$f":"IF($D89=\"\",\"\",VLOOKUP($D89,Lists!$AP$2:$AS$78,2,FALSE))","v":""},{"$f":"IF($D89=\"\",\"\",VLOOKUP($D89,Lists!$AP$2:$AS$78,3,FALSE))","v":""}]
[null,{"$f":"IF($D90=\"\",\"\",VLOOKUP($D90,Lists!$AP$2:$AS$78,2,FALSE))","v":""},{"$f":"IF($D90=\"\",\"\",VLOOKUP($D90,Lists!$AP$2:$AS$78,3,FALSE))","v":""}]
[null,{"$f":"IF($D91=\"\",\"\",VLOOKUP($D91,Lists!$AP$2:$AS$78,2,FALSE))","v":""},{"$f":"IF($D91=\"\",\"\",VLOOKUP($D91,Lists!$AP$2:$AS$78,3,FALSE))","v":""}]
[null,{"$f":"IF($D92=\"\",\"\",VLOOKUP($D92,Lists!$AP$2:$AS$78,2,FALSE))","v":""},{"$f":"IF($D92=\"\",\"\",VLOOKUP($D92,Lists!$AP$2:$AS$78,3,FALSE))","v":""}]
[null,{"$f":"IF($D93=\"\",\"\",VLOOKUP($D93,Lists!$AP$2:$AS$78,2,FALSE))","v":""},{"$f":"IF($D93=\"\",\"\",VLOOKUP($D93,Lists!$AP$2:$AS$78,3,FALSE))","v":""}]
[null,{"$f":"IF($D94=\"\",\"\",VLOOKUP($D94,Lists!$AP$2:$AS$78,2,FALSE))","v":""},{"$f":"IF($D94=\"\",\"\",VLOOKUP($D94,Lists!$AP$2:$AS$78,3,FALSE))","v":""}]
[null,{"$f":"IF($D95=\"\",\"\",VLOOKUP($D95,Lists!$AP$2:$AS$78,2,FALSE))","v":""},{"$f":"IF($D95=\"\",\"\",VLOOKUP($D95,Lists!$AP$2:$AS$78,3,FALSE))","v":""}]
[null,{"$f":"IF($D96=\"\",\"\",VLOOKUP($D96,Lists!$AP$2:$AS$78,2,FALSE))","v":""},{"$f":"IF($D96=\"\",\"\",VLOOKUP($D96,Lists!$AP$2:$AS$78,3,FALSE))","v":""}]
[null,{"$f":"IF($D97=\"\",\"\",VLOOKUP($D97,Lists!$AP$2:$AS$78,2,FALSE))","v":""},{"$f":"IF($D97=\"\",\"\",VLOOKUP($D97,Lists!$AP$2:$AS$78,3,FALSE))","v":""}]
[null,{"$f":"IF($D98=\"\",\"\",VLOOKUP($D98,Lists!$AP$2:$AS$78,2,FALSE))","v":""},{"$f":"IF($D98=\"\",\"\",VLOOKUP($D98,Lists!$AP$2:$AS$78,3,FALSE))","v":""}]
[null,{"$f":"IF($D99=\"\",\"\",VLOOKUP($D99,Lists!$AP$2:$AS$78,2,FALSE))","v":""},{"$f":"IF($D99=\"\",\"\",VLOOKUP($D99,Lists!$AP$2:$AS$78,3,FALSE))","v":""}]
[null,{"$f":"IF($D100=\"\",\"\",VLOOKUP($D100,Lists!$AP$2:$AS$78,2,FALSE))","v":""},{"$f":"IF($D100=\"\",\"\",VLOOKUP($D100,Lists!$AP$2:$AS$78,3,FALSE))","v":""}]

{"sheet":"Description_of_Changes","index":5,"n_rows":14,"n_cols":4,"rows_kept":14,"cut":false,"hidden":false,"merged":[]}
[null,"DO NOT REMOVE OR EDIT INFORMATION IN ROWS 1 THROUGH 5\nFOR INTERNAL USE ONLY"]
[null,"Template Name",{"$f":"+Welcome!B2","v":"63.10899(c) Semiannual Compliance Report (Spreadsheet Template)"}]
[null,"CitationID",{"$f":"+Welcome!B3","v":"63.10899(c)"}]
[null,"Template Version",{"$f":"+Welcome!B4","v":"v1.02"}]
[null,"Last Updated Date",{"$f":"+Welcome!B5","v":45391}]
[null,{"$f":"Welcome!B6","v":"OMB No.: 2060-0605 Form 5900-521 For further Paperwork Reduction Act information see: \nhttps://www.epa.gov/electronic-reporting-air-emissions/paperwork-reduction-act-pra-cedri-and-ert"},null,"Intentionally Blank"]
[null,"40 CFR Part 63, Subpart ZZZZZ National Emission Standards for Hazardous Air Pollutants: Iron and Steel Foundries Area Sources - ",null,"Intentionally Blank"]
[null,"§63.10899(c) Semiannual Compliance Report Spreadsheet Template"]
[null,"CPMS, CEMS, COMS, Processes, or Control Changes"]
[]
[]
[null,"Company Record No. \n(Select from dropdown)","Description of any changes in continuous monitoring systems, processes, or controls since the last reporting period\n(§63.10899(c)(7)(iv))","Intentionally Blank"]
[null,"RecordId","CmsChangesDesc"]
[null,"e.g.: 1"]

{"sheet":"CMS_Deviation_Detail","index":6,"n_rows":500,"n_cols":11,"rows_kept":500,"cut":false,"hidden":false,"merged":[]}
[null,"DO NOT REMOVE OR EDIT INFORMATION IN ROWS 1 THROUGH 5\nFOR INTERNAL USE ONLY"]
[null,"Template Name",null,{"$f":"+Welcome!B2","v":"63.10899(c) Semiannual Compliance Report (Spreadsheet Template)"}]
[null,"CitationID",null,{"$f":"+Welcome!B3","v":"63.10899(c)"}]
[null,"Template Version",null,{"$f":"+Welcome!B4","v":"v1.02"}]
[null,"Last Updated Date",null,{"$f":"+Welcome!B5","v":45391}]
[null,{"$f":"Welcome!B6","v":"OMB No.: 2060-0605 Form 5900-521 For further Paperwork Reduction Act information see: \nhttps://www.epa.gov/electronic-reporting-air-emissions/paperwork-reduction-act-pra-cedri-and-ert"}]
[null,"40 CFR Part 63, Subpart ZZZZZ National Emission Standards for Hazardous Air Pollutants: Iron and Steel Foundries Area Sources - "]
[null,"§63.10899(c) Semiannual Compliance Report Spreadsheet Template"]
[]
[]
[]
[null,"Company Record No.\n(Autocompleted from Column E)","Brief Description of Affected Source\n(§63.10899(c)(7)(iii))\n(Autocompleted from Column E)","Monitoring Equipment Manufacturer and Model Number\n(§63.10899(c)(7)(i))\n(Autocompleted from Column E)","Company Record Number, Affected Source, and Brief Description of Monitoring Equipment\n(Select from dropdown)","Type of Deviation\n(§63.10899(c)(7)(v)(B))\n(Select from dropdown)","Starting Date CMS \nInoperable or Out of Control\n(§63.10899(c)(7)(v)(A))","Starting Time CMS Inoperable or Out of Control\n(§63.10899(c)(7)(v)(A))","Duration CMS Inoperable \nor Out of Control (hours)\n(§63.10899(c)(7)(v)(A))","Cause of Deviation\n(§63.10899(c)(7)(v)(C))\n(Select from dropdown)","Corrective Action Taken\n(§63.10899(c)(7)(v)(C))"]
[null,"RecordId","AffectedSource_CMSDetail","Manufacturer_CMSDetail","RecordSource_CMSDetail","DeviationDescription_CMSDetail","DeviationStartDate_CMSDetail","DeviationStartTime_CMSDetail","DeviationDuration_CMSDetail","DeviationCause_CMSDetail","DeviationAction_CMSDetail"]
[null,"e.g.: 1","e.g. Line 1","e.g.: TC1792 PM Filter Bank Inlet Temperature","e.g.: 1 Line 1 TC1792 PM Filter Bank Inlet Temperature","e.g.: Out-of-control","e.g.: 3/25/2020","e.g.: 15:52","e.g.: 72.00","e.g.: Monitoring System Malfunction","e.g.: Replaced wire harness"]
[]
[]
[]
[]
[]
[]
[]
[]
[]
[null,{"$f":"IF($E24=\"\",\"\",VLOOKUP($E24,Lists!$BM$2:$BP$78,2,FALSE))","v":""},{"$f":"IF($E24=\"\",\"\",VLOOKUP($E24,Lists!$BM$2:$BP$78,3,FALSE))","v":""},{"$f":"IF($E24=\"\",\"\",VLOOKUP($E24,Lists!$BM$2:$BP$78,4,FALSE))","v":""}]
[null,{"$f":"IF($E25=\"\",\"\",VLOOKUP($E25,Lists!$BM$2:$BP$78,2,FALSE))","v":""},{"$f":"IF($E25=\"\",\"\",VLOOKUP($E25,Lists!$BM$2:$BP$78,3,FALSE))","v":""},{"$f":"IF($E25=\"\",\"\",VLOOKUP($E25,Lists!$BM$2:$BP$78,4,FALSE))","v":""}]
[null,{"$f":"IF($E26=\"\",\"\",VLOOKUP($E26,Lists!$BM$2:$BP$78,2,FALSE))","v":""},{"$f":"IF($E26=\"\",\"\",VLOOKUP($E26,Lists!$BM$2:$BP$78,3,FALSE))","v":""},{"$f":"IF($E26=\"\",\"\",VLOOKUP($E26,Lists!$BM$2:$BP$78,4,FALSE))","v":""}]
[null,{"$f":"IF($E27=\"\",\"\",VLOOKUP($E27,Lists!$BM$2:$BP$78,2,FALSE))","v":""},{"$f":"IF($E27=\"\",\"\",VLOOKUP($E27,Lists!$BM$2:$BP$78,3,FALSE))","v":""},{"$f":"IF($E27=\"\",\"\",VLOOKUP($E27,Lists!$BM$2:$BP$78,4,FALSE))","v":""}]
[null,{"$f":"IF($E28=\"\",\"\",VLOOKUP($E28,Lists!$BM$2:$BP$78,2,FALSE))","v":""},{"$f":"IF($E28=\"\",\"\",VLOOKUP($E28,Lists!$BM$2:$BP$78,3,FALSE))","v":""},{"$f":"IF($E28=\"\",\"\",VLOOKUP($E28,Lists!$BM$2:$BP$78,4,FALSE))","v":""}]
[null,{"$f":"IF($E29=\"\",\"\",VLOOKUP($E29,Lists!$BM$2:$BP$78,2,FALSE))","v":""},{"$f":"IF($E29=\"\",\"\",VLOOKUP($E29,Lists!$BM$2:$BP$78,3,FALSE))","v":""},{"$f":"IF($E29=\"\",\"\",VLOOKUP($E29,Lists!$BM$2:$BP$78,4,FALSE))","v":""}]
[null,{"$f":"IF($E30=\"\",\"\",VLOOKUP($E30,Lists!$BM$2:$BP$78,2,FALSE))","v":""},{"$f":"IF($E30=\"\",\"\",VLOOKUP($E30,Lists!$BM$2:$BP$78,3,FALSE))","v":""},{"$f":"IF($E30=\"\",\"\",VLOOKUP($E30,Lists!$BM$2:$BP$78,4,FALSE))","v":""}]
[null,{"$f":"IF($E31=\"\",\"\",VLOOKUP($E31,Lists!$BM$2:$BP$78,2,FALSE))","v":""},{"$f":"IF($E31=\"\",\"\",VLOOKUP($E31,Lists!$BM$2:$BP$78,3,FALSE))","v":""},{"$f":"IF($E31=\"\",\"\",VLOOKUP($E31,Lists!$BM$2:$BP$78,4,FALSE))","v":""}]
[null,{"$f":"IF($E32=\"\",\"\",VLOOKUP($E32,Lists!$BM$2:$BP$78,2,FALSE))","v":""},{"$f":"IF($E32=\"\",\"\",VLOOKUP($E32,Lists!$BM$2:$BP$78,3,FALSE))","v":""},{"$f":"IF($E32=\"\",\"\",VLOOKUP($E32,Lists!$BM$2:$BP$78,4,FALSE))","v":""}]
[null,{"$f":"IF($E33=\"\",\"\",VLOOKUP($E33,Lists!$BM$2:$BP$78,2,FALSE))","v":""},{"$f":"IF($E33=\"\",\"\",VLOOKUP($E33,Lists!$BM$2:$BP$78,3,FALSE))","v":""},{"$f":"IF($E33=\"\",\"\",VLOOKUP($E33,Lists!$BM$2:$BP$78,4,FALSE))","v":""}]
[null,{"$f":"IF($E34=\"\",\"\",VLOOKUP($E34,Lists!$BM$2:$BP$78,2,FALSE))","v":""},{"$f":"IF($E34=\"\",\"\",VLOOKUP($E34,Lists!$BM$2:$BP$78,3,FALSE))","v":""},{"$f":"IF($E34=\"\",\"\",VLOOKUP($E34,Lists!$BM$2:$BP$78,4,FALSE))","v":""}]
[null,{"$f":"IF($E35=\"\",\"\",VLOOKUP($E35,Lists!$BM$2:$BP$78,2,FALSE))","v":""},{"$f":"IF($E35=\"\",\"\",VLOOKUP($E35,Lists!$BM$2:$BP$78,3,FALSE))","v":""},{"$f":"IF($E35=\"\",\"\",VLOOKUP($E35,Lists!$BM$2:$BP$78,4,FALSE))","v":""}]
[null,{"$f":"IF($E36=\"\",\"\",VLOOKUP($E36,Lists!$BM$2:$BP$78,2,FALSE))","v":""},{"$f":"IF($E36=\"\",\"\",VLOOKUP($E36,Lists!$BM$2:$BP$78,3,FALSE))","v":""},{"$f":"IF($E36=\"\",\"\",VLOOKUP($E36,Lists!$BM$2:$BP$78,4,FALSE))","v":""}]
[null,{"$f":"IF($E37=\"\",\"\",VLOOKUP($E37,Lists!$BM$2:$BP$78,2,FALSE))","v":""},{"$f":"IF($E37=\"\",\"\",VLOOKUP($E37,Lists!$BM$2:$BP$78,3,FALSE))","v":""},{"$f":"IF($E37=\"\",\"\",VLOOKUP($E37,Lists!$BM$2:$BP$78,4,FALSE))","v":""}]
[null,{"$f":"IF($E38=\"\",\"\",VLOOKUP($E38,Lists!$BM$2:$BP$78,2,FALSE))","v":""},{"$f":"IF($E38=\"\",\"\",VLOOKUP($E38,Lists!$BM$2:$BP$78,3,FALSE))","v":""},{"$f":"IF($E38=\"\",\"\",VLOOKUP($E38,Lists!$BM$2:$BP$78,4,FALSE))","v":""}]
[null,{"$f":"IF($E39=\"\",\"\",VLOOKUP($E39,Lists!$BM$2:$BP$78,2,FALSE))","v":""},{"$f":"IF($E39=\"\",\"\",VLOOKUP($E39,Lists!$BM$2:$BP$78,3,FALSE))","v":""},{"$f":"IF($E39=\"\",\"\",VLOOKUP($E39,Lists!$BM$2:$BP$78,4,FALSE))","v":""}]
[null,{"$f":"IF($E40=\"\",\"\",VLOOKUP($E40,Lists!$BM$2:$BP$78,2,FALSE))","v":""},{"$f":"IF($E40=\"\",\"\",VLOOKUP($E40,Lists!$BM$2:$BP$78,3,FALSE))","v":""},{"$f":"IF($E40=\"\",\"\",VLOOKUP($E40,Lists!$BM$2:$BP$78,4,FALSE))","v":""}]
[null,{"$f":"IF($E41=\"\",\"\",VLOOKUP($E41,Lists!$BM$2:$BP$78,2,FALSE))","v":""},{"$f":"IF($E41=\"\",\"\",VLOOKUP($E41,Lists!$BM$2:$BP$78,3,FALSE))","v":""},{"$f":"IF($E41=\"\",\"\",VLOOKUP($E41,Lists!$BM$2:$BP$78,4,FALSE))","v":""}]
[null,{"$f":"IF($E42=\"\",\"\",VLOOKUP($E42,Lists!$BM$2:$BP$78,2,FALSE))","v":""},{"$f":"IF($E42=\"\",\"\",VLOOKUP($E42,Lists!$BM$2:$BP$78,3,FALSE))","v":""},{"$f":"IF($E42=\"\",\"\",VLOOKUP($E42,Lists!$BM$2:$BP$78,4,FALSE))","v":""}]
[null,{"$f":"IF($E43=\"\",\"\",VLOOKUP($E43,Lists!$BM$2:$BP$78,2,FALSE))","v":""},{"$f":"IF($E43=\"\",\"\",VLOOKUP($E43,Lists!$BM$2:$BP$78,3,FALSE))","v":""},{"$f":"IF($E43=\"\",\"\",VLOOKUP($E43,Lists!$BM$2:$BP$78,4,FALSE))","v":""}]
[null,{"$f":"IF($E44=\"\",\"\",VLOOKUP($E44,Lists!$BM$2:$BP$78,2,FALSE))","v":""},{"$f":"IF($E44=\"\",\"\",VLOOKUP($E44,Lists!$BM$2:$BP$78,3,FALSE))","v":""},{"$f":"IF($E44=\"\",\"\",VLOOKUP($E44,Lists!$BM$2:$BP$78,4,FALSE))","v":""}]
[null,{"$f":"IF($E45=\"\",\"\",VLOOKUP($E45,Lists!$BM$2:$BP$78,2,FALSE))","v":""},{"$f":"IF($E45=\"\",\"\",VLOOKUP($E45,Lists!$BM$2:$BP$78,3,FALSE))","v":""},{"$f":"IF($E45=\"\",\"\",VLOOKUP($E45,Lists!$BM$2:$BP$78,4,FALSE))","v":""}]
[null,{"$f":"IF($E46=\"\",\"\",VLOOKUP($E46,Lists!$BM$2:$BP$78,2,FALSE))","v":""},{"$f":"IF($E46=\"\",\"\",VLOOKUP($E46,Lists!$BM$2:$BP$78,3,FALSE))","v":""},{"$f":"IF($E46=\"\",\"\",VLOOKUP($E46,Lists!$BM$2:$BP$78,4,FALSE))","v":""}]
[null,{"$f":"IF($E47=\"\",\"\",VLOOKUP($E47,Lists!$BM$2:$BP$78,2,FALSE))","v":""},{"$f":"IF($E47=\"\",\"\",VLOOKUP($E47,Lists!$BM$2:$BP$78,3,FALSE))","v":""},{"$f":"IF($E47=\"\",\"\",VLOOKUP($E47,Lists!$BM$2:$BP$78,4,FALSE))","v":""}]
[null,{"$f":"IF($E48=\"\",\"\",VLOOKUP($E48,Lists!$BM$2:$BP$78,2,FALSE))","v":""},{"$f":"IF($E48=\"\",\"\",VLOOKUP($E48,Lists!$BM$2:$BP$78,3,FALSE))","v":""},{"$f":"IF($E48=\"\",\"\",VLOOKUP($E48,Lists!$BM$2:$BP$78,4,FALSE))","v":""}]
[null,{"$f":"IF($E49=\"\",\"\",VLOOKUP($E49,Lists!$BM$2:$BP$78,2,FALSE))","v":""},{"$f":"IF($E49=\"\",\"\",VLOOKUP($E49,Lists!$BM$2:$BP$78,3,FALSE))","v":""},{"$f":"IF($E49=\"\",\"\",VLOOKUP($E49,Lists!$BM$2:$BP$78,4,FALSE))","v":""}]
[null,{"$f":"IF($E50=\"\",\"\",VLOOKUP($E50,Lists!$BM$2:$BP$78,2,FALSE))","v":""},{"$f":"IF($E50=\"\",\"\",VLOOKUP($E50,Lists!$BM$2:$BP$78,3,FALSE))","v":""},{"$f":"IF($E50=\"\",\"\",VLOOKUP($E50,Lists!$BM$2:$BP$78,4,FALSE))","v":""}]
[null,{"$f":"IF($E51=\"\",\"\",VLOOKUP($E51,Lists!$BM$2:$BP$78,2,FALSE))","v":""},{"$f":"IF($E51=\"\",\"\",VLOOKUP($E51,Lists!$BM$2:$BP$78,3,FALSE))","v":""},{"$f":"IF($E51=\"\",\"\",VLOOKUP($E51,Lists!$BM$2:$BP$78,4,FALSE))","v":""}]
[null,{"$f":"IF($E52=\"\",\"\",VLOOKUP($E52,Lists!$BM$2:$BP$78,2,FALSE))","v":""},{"$f":"IF($E52=\"\",\"\",VLOOKUP($E52,Lists!$BM$2:$BP$78,3,FALSE))","v":""},{"$f":"IF($E52=\"\",\"\",VLOOKUP($E52,Lists!$BM$2:$BP$78,4,FALSE))","v":""}]
[null,{"$f":"IF($E53=\"\",\"\",VLOOKUP($E53,Lists!$BM$2:$BP$78,2,FALSE))","v":""},{"$f":"IF($E53=\"\",\"\",VLOOKUP($E53,Lists!$BM$2:$BP$78,3,FALSE))","v":""},{"$f":"IF($E53=\"\",\"\",VLOOKUP($E53,Lists!$BM$2:$BP$78,4,FALSE))","v":""}]
[null,{"$f":"IF($E54=\"\",\"\",VLOOKUP($E54,Lists!$BM$2:$BP$78,2,FALSE))","v":""},{"$f":"IF($E54=\"\",\"\",VLOOKUP($E54,Lists!$BM$2:$BP$78,3,FALSE))","v":""},{"$f":"IF($E54=\"\",\"\",VLOOKUP($E54,Lists!$BM$2:$BP$78,4,FALSE))","v":""}]
[null,{"$f":"IF($E55=\"\",\"\",VLOOKUP($E55,Lists!$BM$2:$BP$78,2,FALSE))","v":""},{"$f":"IF($E55=\"\",\"\",VLOOKUP($E55,Lists!$BM$2:$BP$78,3,FALSE))","v":""},{"$f":"IF($E55=\"\",\"\",VLOOKUP($E55,Lists!$BM$2:$BP$78,4,FALSE))","v":""}]
[null,{"$f":"IF($E56=\"\",\"\",VLOOKUP($E56,Lists!$BM$2:$BP$78,2,FALSE))","v":""},{"$f":"IF($E56=\"\",\"\",VLOOKUP($E56,Lists!$BM$2:$BP$78,3,FALSE))","v":""},{"$f":"IF($E56=\"\",\"\",VLOOKUP($E56,Lists!$BM$2:$BP$78,4,FALSE))","v":""}]
[null,{"$f":"IF($E57=\"\",\"\",VLOOKUP($E57,Lists!$BM$2:$BP$78,2,FALSE))","v":""},{"$f":"IF($E57=\"\",\"\",VLOOKUP($E57,Lists!$BM$2:$BP$78,3,FALSE))","v":""},{"$f":"IF($E57=\"\",\"\",VLOOKUP($E57,Lists!$BM$2:$BP$78,4,FALSE))","v":""}]
[null,{"$f":"IF($E58=\"\",\"\",VLOOKUP($E58,Lists!$BM$2:$BP$78,2,FALSE))","v":""},{"$f":"IF($E58=\"\",\"\",VLOOKUP($E58,Lists!$BM$2:$BP$78,3,FALSE))","v":""},{"$f":"IF($E58=\"\",\"\",VLOOKUP($E58,Lists!$BM$2:$BP$78,4,FALSE))","v":""}]
[null,{"$f":"IF($E59=\"\",\"\",VLOOKUP($E59,Lists!$BM$2:$BP$78,2,FALSE))","v":""},{"$f":"IF($E59=\"\",\"\",VLOOKUP($E59,Lists!$BM$2:$BP$78,3,FALSE))","v":""},{"$f":"IF($E59=\"\",\"\",VLOOKUP($E59,Lists!$BM$2:$BP$78,4,FALSE))","v":""}]
[null,{"$f":"IF($E60=\"\",\"\",VLOOKUP($E60,Lists!$BM$2:$BP$78,2,FALSE))","v":""},{"$f":"IF($E60=\"\",\"\",VLOOKUP($E60,Lists!$BM$2:$BP$78,3,FALSE))","v":""},{"$f":"IF($E60=\"\",\"\",VLOOKUP($E60,Lists!$BM$2:$BP$78,4,FALSE))","v":""}]
[null,{"$f":"IF($E61=\"\",\"\",VLOOKUP($E61,Lists!$BM$2:$BP$78,2,FALSE))","v":""},{"$f":"IF($E61=\"\",\"\",VLOOKUP($E61,Lists!$BM$2:$BP$78,3,FALSE))","v":""},{"$f":"IF($E61=\"\",\"\",VLOOKUP($E61,Lists!$BM$2:$BP$78,4,FALSE))","v":""}]
[null,{"$f":"IF($E62=\"\",\"\",VLOOKUP($E62,Lists!$BM$2:$BP$78,2,FALSE))","v":""},{"$f":"IF($E62=\"\",\"\",VLOOKUP($E62,Lists!$BM$2:$BP$78,3,FALSE))","v":""},{"$f":"IF($E62=\"\",\"\",VLOOKUP($E62,Lists!$BM$2:$BP$78,4,FALSE))","v":""}]
[null,{"$f":"IF($E63=\"\",\"\",VLOOKUP($E63,Lists!$BM$2:$BP$78,2,FALSE))","v":""},{"$f":"IF($E63=\"\",\"\",VLOOKUP($E63,Lists!$BM$2:$BP$78,3,FALSE))","v":""},{"$f":"IF($E63=\"\",\"\",VLOOKUP($E63,Lists!$BM$2:$BP$78,4,FALSE))","v":""}]
[null,{"$f":"IF($E64=\"\",\"\",VLOOKUP($E64,Lists!$BM$2:$BP$78,2,FALSE))","v":""},{"$f":"IF($E64=\"\",\"\",VLOOKUP($E64,Lists!$BM$2:$BP$78,3,FALSE))","v":""},{"$f":"IF($E64=\"\",\"\",VLOOKUP($E64,Lists!$BM$2:$BP$78,4,FALSE))","v":""}]
[null,{"$f":"IF($E65=\"\",\"\",VLOOKUP($E65,Lists!$BM$2:$BP$78,2,FALSE))","v":""},{"$f":"IF($E65=\"\",\"\",VLOOKUP($E65,Lists!$BM$2:$BP$78,3,FALSE))","v":""},{"$f":"IF($E65=\"\",\"\",VLOOKUP($E65,Lists!$BM$2:$BP$78,4,FALSE))","v":""}]
[null,{"$f":"IF($E66=\"\",\"\",VLOOKUP($E66,Lists!$BM$2:$BP$78,2,FALSE))","v":""},{"$f":"IF($E66=\"\",\"\",VLOOKUP($E66,Lists!$BM$2:$BP$78,3,FALSE))","v":""},{"$f":"IF($E66=\"\",\"\",VLOOKUP($E66,Lists!$BM$2:$BP$78,4,FALSE))","v":""}]
[null,{"$f":"IF($E67=\"\",\"\",VLOOKUP($E67,Lists!$BM$2:$BP$78,2,FALSE))","v":""},{"$f":"IF($E67=\"\",\"\",VLOOKUP($E67,Lists!$BM$2:$BP$78,3,FALSE))","v":""},{"$f":"IF($E67=\"\",\"\",VLOOKUP($E67,Lists!$BM$2:$BP$78,4,FALSE))","v":""}]
[null,{"$f":"IF($E68=\"\",\"\",VLOOKUP($E68,Lists!$BM$2:$BP$78,2,FALSE))","v":""},{"$f":"IF($E68=\"\",\"\",VLOOKUP($E68,Lists!$BM$2:$BP$78,3,FALSE))","v":""},{"$f":"IF($E68=\"\",\"\",VLOOKUP($E68,Lists!$BM$2:$BP$78,4,FALSE))","v":""}]
[null,{"$f":"IF($E69=\"\",\"\",VLOOKUP($E69,Lists!$BM$2:$BP$78,2,FALSE))","v":""},{"$f":"IF($E69=\"\",\"\",VLOOKUP($E69,Lists!$BM$2:$BP$78,3,FALSE))","v":""},{"$f":"IF($E69=\"\",\"\",VLOOKUP($E69,Lists!$BM$2:$BP$78,4,FALSE))","v":""}]
[null,{"$f":"IF($E70=\"\",\"\",VLOOKUP($E70,Lists!$BM$2:$BP$78,2,FALSE))","v":""},{"$f":"IF($E70=\"\",\"\",VLOOKUP($E70,Lists!$BM$2:$BP$78,3,FALSE))","v":""},{"$f":"IF($E70=\"\",\"\",VLOOKUP($E70,Lists!$BM$2:$BP$78,4,FALSE))","v":""}]
[null,{"$f":"IF($E71=\"\",\"\",VLOOKUP($E71,Lists!$BM$2:$BP$78,2,FALSE))","v":""},{"$f":"IF($E71=\"\",\"\",VLOOKUP($E71,Lists!$BM$2:$BP$78,3,FALSE))","v":""},{"$f":"IF($E71=\"\",\"\",VLOOKUP($E71,Lists!$BM$2:$BP$78,4,FALSE))","v":""}]
[null,{"$f":"IF($E72=\"\",\"\",VLOOKUP($E72,Lists!$BM$2:$BP$78,2,FALSE))","v":""},{"$f":"IF($E72=\"\",\"\",VLOOKUP($E72,Lists!$BM$2:$BP$78,3,FALSE))","v":""},{"$f":"IF($E72=\"\",\"\",VLOOKUP($E72,Lists!$BM$2:$BP$78,4,FALSE))","v":""}]
[null,{"$f":"IF($E73=\"\",\"\",VLOOKUP($E73,Lists!$BM$2:$BP$78,2,FALSE))","v":""},{"$f":"IF($E73=\"\",\"\",VLOOKUP($E73,Lists!$BM$2:$BP$78,3,FALSE))","v":""},{"$f":"IF($E73=\"\",\"\",VLOOKUP($E73,Lists!$BM$2:$BP$78,4,FALSE))","v":""}]
[null,{"$f":"IF($E74=\"\",\"\",VLOOKUP($E74,Lists!$BM$2:$BP$78,2,FALSE))","v":""},{"$f":"IF($E74=\"\",\"\",VLOOKUP($E74,Lists!$BM$2:$BP$78,3,FALSE))","v":""},{"$f":"IF($E74=\"\",\"\",VLOOKUP($E74,Lists!$BM$2:$BP$78,4,FALSE))","v":""}]
[null,{"$f":"IF($E75=\"\",\"\",VLOOKUP($E75,Lists!$BM$2:$BP$78,2,FALSE))","v":""},{"$f":"IF($E75=\"\",\"\",VLOOKUP($E75,Lists!$BM$2:$BP$78,3,FALSE))","v":""},{"$f":"IF($E75=\"\",\"\",VLOOKUP($E75,Lists!$BM$2:$BP$78,4,FALSE))","v":""}]
[null,{"$f":"IF($E76=\"\",\"\",VLOOKUP($E76,Lists!$BM$2:$BP$78,2,FALSE))","v":""},{"$f":"IF($E76=\"\",\"\",VLOOKUP($E76,Lists!$BM$2:$BP$78,3,FALSE))","v":""},{"$f":"IF($E76=\"\",\"\",VLOOKUP($E76,Lists!$BM$2:$BP$78,4,FALSE))","v":""}]
[null,{"$f":"IF($E77=\"\",\"\",VLOOKUP($E77,Lists!$BM$2:$BP$78,2,FALSE))","v":""},{"$f":"IF($E77=\"\",\"\",VLOOKUP($E77,Lists!$BM$2:$BP$78,3,FALSE))","v":""},{"$f":"IF($E77=\"\",\"\",VLOOKUP($E77,Lists!$BM$2:$BP$78,4,FALSE))","v":""}]
[null,{"$f":"IF($E78=\"\",\"\",VLOOKUP($E78,Lists!$BM$2:$BP$78,2,FALSE))","v":""},{"$f":"IF($E78=\"\",\"\",VLOOKUP($E78,Lists!$BM$2:$BP$78,3,FALSE))","v":""},{"$f":"IF($E78=\"\",\"\",VLOOKUP($E78,Lists!$BM$2:$BP$78,4,FALSE))","v":""}]
[null,{"$f":"IF($E79=\"\",\"\",VLOOKUP($E79,Lists!$BM$2:$BP$78,2,FALSE))","v":""},{"$f":"IF($E79=\"\",\"\",VLOOKUP($E79,Lists!$BM$2:$BP$78,3,FALSE))","v":""},{"$f":"IF($E79=\"\",\"\",VLOOKUP($E79,Lists!$BM$2:$BP$78,4,FALSE))","v":""}]
[null,{"$f":"IF($E80=\"\",\"\",VLOOKUP($E80,Lists!$BM$2:$BP$78,2,FALSE))","v":""},{"$f":"IF($E80=\"\",\"\",VLOOKUP($E80,Lists!$BM$2:$BP$78,3,FALSE))","v":""},{"$f":"IF($E80=\"\",\"\",VLOOKUP($E80,Lists!$BM$2:$BP$78,4,FALSE))","v":""}]
[null,{"$f":"IF($E81=\"\",\"\",VLOOKUP($E81,Lists!$BM$2:$BP$78,2,FALSE))","v":""},{"$f":"IF($E81=\"\",\"\",VLOOKUP($E81,Lists!$BM$2:$BP$78,3,FALSE))","v":""},{"$f":"IF($E81=\"\",\"\",VLOOKUP($E81,Lists!$BM$2:$BP$78,4,FALSE))","v":""}]
[null,{"$f":"IF($E82=\"\",\"\",VLOOKUP($E82,Lists!$BM$2:$BP$78,2,FALSE))","v":""},{"$f":"IF($E82=\"\",\"\",VLOOKUP($E82,Lists!$BM$2:$BP$78,3,FALSE))","v":""},{"$f":"IF($E82=\"\",\"\",VLOOKUP($E82,Lists!$BM$2:$BP$78,4,FALSE))","v":""}]
[null,{"$f":"IF($E83=\"\",\"\",VLOOKUP($E83,Lists!$BM$2:$BP$78,2,FALSE))","v":""},{"$f":"IF($E83=\"\",\"\",VLOOKUP($E83,Lists!$BM$2:$BP$78,3,FALSE))","v":""},{"$f":"IF($E83=\"\",\"\",VLOOKUP($E83,Lists!$BM$2:$BP$78,4,FALSE))","v":""}]
[null,{"$f":"IF($E84=\"\",\"\",VLOOKUP($E84,Lists!$BM$2:$BP$78,2,FALSE))","v":""},{"$f":"IF($E84=\"\",\"\",VLOOKUP($E84,Lists!$BM$2:$BP$78,3,FALSE))","v":""},{"$f":"IF($E84=\"\",\"\",VLOOKUP($E84,Lists!$BM$2:$BP$78,4,FALSE))","v":""}]
[null,{"$f":"IF($E85=\"\",\"\",VLOOKUP($E85,Lists!$BM$2:$BP$78,2,FALSE))","v":""},{"$f":"IF($E85=\"\",\"\",VLOOKUP($E85,Lists!$BM$2:$BP$78,3,FALSE))","v":""},{"$f":"IF($E85=\"\",\"\",VLOOKUP($E85,Lists!$BM$2:$BP$78,4,FALSE))","v":""}]
[null,{"$f":"IF($E86=\"\",\"\",VLOOKUP($E86,Lists!$BM$2:$BP$78,2,FALSE))","v":""},{"$f":"IF($E86=\"\",\"\",VLOOKUP($E86,Lists!$BM$2:$BP$78,3,FALSE))","v":""},{"$f":"IF($E86=\"\",\"\",VLOOKUP($E86,Lists!$BM$2:$BP$78,4,FALSE))","v":""}]
[null,{"$f":"IF($E87=\"\",\"\",VLOOKUP($E87,Lists!$BM$2:$BP$78,2,FALSE))","v":""},{"$f":"IF($E87=\"\",\"\",VLOOKUP($E87,Lists!$BM$2:$BP$78,3,FALSE))","v":""},{"$f":"IF($E87=\"\",\"\",VLOOKUP($E87,Lists!$BM$2:$BP$78,4,FALSE))","v":""}]
[null,{"$f":"IF($E88=\"\",\"\",VLOOKUP($E88,Lists!$BM$2:$BP$78,2,FALSE))","v":""},{"$f":"IF($E88=\"\",\"\",VLOOKUP($E88,Lists!$BM$2:$BP$78,3,FALSE))","v":""},{"$f":"IF($E88=\"\",\"\",VLOOKUP($E88,Lists!$BM$2:$BP$78,4,FALSE))","v":""}]
[null,{"$f":"IF($E89=\"\",\"\",VLOOKUP($E89,Lists!$BM$2:$BP$78,2,FALSE))","v":""},{"$f":"IF($E89=\"\",\"\",VLOOKUP($E89,Lists!$BM$2:$BP$78,3,FALSE))","v":""},{"$f":"IF($E89=\"\",\"\",VLOOKUP($E89,Lists!$BM$2:$BP$78,4,FALSE))","v":""}]
[null,{"$f":"IF($E90=\"\",\"\",VLOOKUP($E90,Lists!$BM$2:$BP$78,2,FALSE))","v":""},{"$f":"IF($E90=\"\",\"\",VLOOKUP($E90,Lists!$BM$2:$BP$78,3,FALSE))","v":""},{"$f":"IF($E90=\"\",\"\",VLOOKUP($E90,Lists!$BM$2:$BP$78,4,FALSE))","v":""}]
[null,{"$f":"IF($E91=\"\",\"\",VLOOKUP($E91,Lists!$BM$2:$BP$78,2,FALSE))","v":""},{"$f":"IF($E91=\"\",\"\",VLOOKUP($E91,Lists!$BM$2:$BP$78,3,FALSE))","v":""},{"$f":"IF($E91=\"\",\"\",VLOOKUP($E91,Lists!$BM$2:$BP$78,4,FALSE))","v":""}]
[null,{"$f":"IF($E92=\"\",\"\",VLOOKUP($E92,Lists!$BM$2:$BP$78,2,FALSE))","v":""},{"$f":"IF($E92=\"\",\"\",VLOOKUP($E92,Lists!$BM$2:$BP$78,3,FALSE))","v":""},{"$f":"IF($E92=\"\",\"\",VLOOKUP($E92,Lists!$BM$2:$BP$78,4,FALSE))","v":""}]
[null,{"$f":"IF($E93=\"\",\"\",VLOOKUP($E93,Lists!$BM$2:$BP$78,2,FALSE))","v":""},{"$f":"IF($E93=\"\",\"\",VLOOKUP($E93,Lists!$BM$2:$BP$78,3,FALSE))","v":""},{"$f":"IF($E93=\"\",\"\",VLOOKUP($E93,Lists!$BM$2:$BP$78,4,FALSE))","v":""}]
[null,{"$f":"IF($E94=\"\",\"\",VLOOKUP($E94,Lists!$BM$2:$BP$78,2,FALSE))","v":""},{"$f":"IF($E94=\"\",\"\",VLOOKUP($E94,Lists!$BM$2:$BP$78,3,FALSE))","v":""},{"$f":"IF($E94=\"\",\"\",VLOOKUP($E94,Lists!$BM$2:$BP$78,4,FALSE))","v":""}]
[null,{"$f":"IF($E95=\"\",\"\",VLOOKUP($E95,Lists!$BM$2:$BP$78,2,FALSE))","v":""},{"$f":"IF($E95=\"\",\"\",VLOOKUP($E95,Lists!$BM$2:$BP$78,3,FALSE))","v":""},{"$f":"IF($E95=\"\",\"\",VLOOKUP($E95,Lists!$BM$2:$BP$78,4,FALSE))","v":""}]
[null,{"$f":"IF($E96=\"\",\"\",VLOOKUP($E96,Lists!$BM$2:$BP$78,2,FALSE))","v":""},{"$f":"IF($E96=\"\",\"\",VLOOKUP($E96,Lists!$BM$2:$BP$78,3,FALSE))","v":""},{"$f":"IF($E96=\"\",\"\",VLOOKUP($E96,Lists!$BM$2:$BP$78,4,FALSE))","v":""}]
[null,{"$f":"IF($E97=\"\",\"\",VLOOKUP($E97,Lists!$BM$2:$BP$78,2,FALSE))","v":""},{"$f":"IF($E97=\"\",\"\",VLOOKUP($E97,Lists!$BM$2:$BP$78,3,FALSE))","v":""},{"$f":"IF($E97=\"\",\"\",VLOOKUP($E97,Lists!$BM$2:$BP$78,4,FALSE))","v":""}]
[null,{"$f":"IF($E98=\"\",\"\",VLOOKUP($E98,Lists!$BM$2:$BP$78,2,FALSE))","v":""},{"$f":"IF($E98=\"\",\"\",VLOOKUP($E98,Lists!$BM$2:$BP$78,3,FALSE))","v":""},{"$f":"IF($E98=\"\",\"\",VLOOKUP($E98,Lists!$BM$2:$BP$78,4,FALSE))","v":""}]
[null,{"$f":"IF($E99=\"\",\"\",VLOOKUP($E99,Lists!$BM$2:$BP$78,2,FALSE))","v":""},{"$f":"IF($E99=\"\",\"\",VLOOKUP($E99,Lists!$BM$2:$BP$78,3,FALSE))","v":""},{"$f":"IF($E99=\"\",\"\",VLOOKUP($E99,Lists!$BM$2:$BP$78,4,FALSE))","v":""}]
[null,{"$f":"IF($E100=\"\",\"\",VLOOKUP($E100,Lists!$BM$2:$BP$78,2,FALSE))","v":""},{"$f":"IF($E100=\"\",\"\",VLOOKUP($E100,Lists!$BM$2:$BP$78,3,FALSE))","v":""},{"$f":"IF($E100=\"\",\"\",VLOOKUP($E100,Lists!$BM$2:$BP$78,4,FALSE))","v":""}]
[null,{"$f":"IF($E101=\"\",\"\",VLOOKUP($E101,Lists!$BM$2:$BP$78,2,FALSE))","v":""},{"$f":"IF($E101=\"\",\"\",VLOOKUP($E101,Lists!$BM$2:$BP$78,3,FALSE))","v":""},{"$f":"IF($E101=\"\",\"\",VLOOKUP($E101,Lists!$BM$2:$BP$78,4,FALSE))","v":""}]
[null,{"$f":"IF($E102=\"\",\"\",VLOOKUP($E102,Lists!$BM$2:$BP$78,2,FALSE))","v":""},{"$f":"IF($E102=\"\",\"\",VLOOKUP($E102,Lists!$BM$2:$BP$78,3,FALSE))","v":""},{"$f":"IF($E102=\"\",\"\",VLOOKUP($E102,Lists!$BM$2:$BP$78,4,FALSE))","v":""}]
[null,{"$f":"IF($E103=\"\",\"\",VLOOKUP($E103,Lists!$BM$2:$BP$78,2,FALSE))","v":""},{"$f":"IF($E103=\"\",\"\",VLOOKUP($E103,Lists!$BM$2:$BP$78,3,FALSE))","v":""},{"$f":"IF($E103=\"\",\"\",VLOOKUP($E103,Lists!$BM$2:$BP$78,4,FALSE))","v":""}]
[null,{"$f":"IF($E104=\"\",\"\",VLOOKUP($E104,Lists!$BM$2:$BP$78,2,FALSE))","v":""},{"$f":"IF($E104=\"\",\"\",VLOOKUP($E104,Lists!$BM$2:$BP$78,3,FALSE))","v":""},{"$f":"IF($E104=\"\",\"\",VLOOKUP($E104,Lists!$BM$2:$BP$78,4,FALSE))","v":""}]
[null,{"$f":"IF($E105=\"\",\"\",VLOOKUP($E105,Lists!$BM$2:$BP$78,2,FALSE))","v":""},{"$f":"IF($E105=\"\",\"\",VLOOKUP($E105,Lists!$BM$2:$BP$78,3,FALSE))","v":""},{"$f":"IF($E105=\"\",\"\",VLOOKUP($E105,Lists!$BM$2:$BP$78,4,FALSE))","v":""}]
[null,{"$f":"IF($E106=\"\",\"\",VLOOKUP($E106,Lists!$BM$2:$BP$78,2,FALSE))","v":""},{"$f":"IF($E106=\"\",\"\",VLOOKUP($E106,Lists!$BM$2:$BP$78,3,FALSE))","v":""},{"$f":"IF($E106=\"\",\"\",VLOOKUP($E106,Lists!$BM$2:$BP$78,4,FALSE))","v":""}]
[null,{"$f":"IF($E107=\"\",\"\",VLOOKUP($E107,Lists!$BM$2:$BP$78,2,FALSE))","v":""},{"$f":"IF($E107=\"\",\"\",VLOOKUP($E107,Lists!$BM$2:$BP$78,3,FALSE))","v":""},{"$f":"IF($E107=\"\",\"\",VLOOKUP($E107,Lists!$BM$2:$BP$78,4,FALSE))","v":""}]
[null,{"$f":"IF($E108=\"\",\"\",VLOOKUP($E108,Lists!$BM$2:$BP$78,2,FALSE))","v":""},{"$f":"IF($E108=\"\",\"\",VLOOKUP($E108,Lists!$BM$2:$BP$78,3,FALSE))","v":""},{"$f":"IF($E108=\"\",\"\",VLOOKUP($E108,Lists!$BM$2:$BP$78,4,FALSE))","v":""}]
[null,{"$f":"IF($E109=\"\",\"\",VLOOKUP($E109,Lists!$BM$2:$BP$78,2,FALSE))","v":""},{"$f":"IF($E109=\"\",\"\",VLOOKUP($E109,Lists!$BM$2:$BP$78,3,FALSE))","v":""},{"$f":"IF($E109=\"\",\"\",VLOOKUP($E109,Lists!$BM$2:$BP$78,4,FALSE))","v":""}]
[null,{"$f":"IF($E110=\"\",\"\",VLOOKUP($E110,Lists!$BM$2:$BP$78,2,FALSE))","v":""},{"$f":"IF($E110=\"\",\"\",VLOOKUP($E110,Lists!$BM$2:$BP$78,3,FALSE))","v":""},{"$f":"IF($E110=\"\",\"\",VLOOKUP($E110,Lists!$BM$2:$BP$78,4,FALSE))","v":""}]
[null,{"$f":"IF($E111=\"\",\"\",VLOOKUP($E111,Lists!$BM$2:$BP$78,2,FALSE))","v":""},{"$f":"IF($E111=\"\",\"\",VLOOKUP($E111,Lists!$BM$2:$BP$78,3,FALSE))","v":""},{"$f":"IF($E111=\"\",\"\",VLOOKUP($E111,Lists!$BM$2:$BP$78,4,FALSE))","v":""}]
[null,{"$f":"IF($E112=\"\",\"\",VLOOKUP($E112,Lists!$BM$2:$BP$78,2,FALSE))","v":""},{"$f":"IF($E112=\"\",\"\",VLOOKUP($E112,Lists!$BM$2:$BP$78,3,FALSE))","v":""},{"$f":"IF($E112=\"\",\"\",VLOOKUP($E112,Lists!$BM$2:$BP$78,4,FALSE))","v":""}]
[null,{"$f":"IF($E113=\"\",\"\",VLOOKUP($E113,Lists!$BM$2:$BP$78,2,FALSE))","v":""},{"$f":"IF($E113=\"\",\"\",VLOOKUP($E113,Lists!$BM$2:$BP$78,3,FALSE))","v":""},{"$f":"IF($E113=\"\",\"\",VLOOKUP($E113,Lists!$BM$2:$BP$78,4,FALSE))","v":""}]
[null,{"$f":"IF($E114=\"\",\"\",VLOOKUP($E114,Lists!$BM$2:$BP$78,2,FALSE))","v":""},{"$f":"IF($E114=\"\",\"\",VLOOKUP($E114,Lists!$BM$2:$BP$78,3,FALSE))","v":""},{"$f":"IF($E114=\"\",\"\",VLOOKUP($E114,Lists!$BM$2:$BP$78,4,FALSE))","v":""}]
[null,{"$f":"IF($E115=\"\",\"\",VLOOKUP($E115,Lists!$BM$2:$BP$78,2,FALSE))","v":""},{"$f":"IF($E115=\"\",\"\",VLOOKUP($E115,Lists!$BM$2:$BP$78,3,FALSE))","v":""},{"$f":"IF($E115=\"\",\"\",VLOOKUP($E115,Lists!$BM$2:$BP$78,4,FALSE))","v":""}]
[null,{"$f":"IF($E116=\"\",\"\",VLOOKUP($E116,Lists!$BM$2:$BP$78,2,FALSE))","v":""},{"$f":"IF($E116=\"\",\"\",VLOOKUP($E116,Lists!$BM$2:$BP$78,3,FALSE))","v":""},{"$f":"IF($E116=\"\",\"\",VLOOKUP($E116,Lists!$BM$2:$BP$78,4,FALSE))","v":""}]
[null,{"$f":"IF($E117=\"\",\"\",VLOOKUP($E117,Lists!$BM$2:$BP$78,2,FALSE))","v":""},{"$f":"IF($E117=\"\",\"\",VLOOKUP($E117,Lists!$BM$2:$BP$78,3,FALSE))","v":""},{"$f":"IF($E117=\"\",\"\",VLOOKUP($E117,Lists!$BM$2:$BP$78,4,FALSE))","v":""}]
[null,{"$f":"IF($E118=\"\",\"\",VLOOKUP($E118,Lists!$BM$2:$BP$78,2,FALSE))","v":""},{"$f":"IF($E118=\"\",\"\",VLOOKUP($E118,Lists!$BM$2:$BP$78,3,FALSE))","v":""},{"$f":"IF($E118=\"\",\"\",VLOOKUP($E118,Lists!$BM$2:$BP$78,4,FALSE))","v":""}]
[null,{"$f":"IF($E119=\"\",\"\",VLOOKUP($E119,Lists!$BM$2:$BP$78,2,FALSE))","v":""},{"$f":"IF($E119=\"\",\"\",VLOOKUP($E119,Lists!$BM$2:$BP$78,3,FALSE))","v":""},{"$f":"IF($E119=\"\",\"\",VLOOKUP($E119,Lists!$BM$2:$BP$78,4,FALSE))","v":""}]
[null,{"$f":"IF($E120=\"\",\"\",VLOOKUP($E120,Lists!$BM$2:$BP$78,2,FALSE))","v":""},{"$f":"IF($E120=\"\",\"\",VLOOKUP($E120,Lists!$BM$2:$BP$78,3,FALSE))","v":""},{"$f":"IF($E120=\"\",\"\",VLOOKUP($E120,Lists!$BM$2:$BP$78,4,FALSE))","v":""}]
[null,{"$f":"IF($E121=\"\",\"\",VLOOKUP($E121,Lists!$BM$2:$BP$78,2,FALSE))","v":""},{"$f":"IF($E121=\"\",\"\",VLOOKUP($E121,Lists!$BM$2:$BP$78,3,FALSE))","v":""},{"$f":"IF($E121=\"\",\"\",VLOOKUP($E121,Lists!$BM$2:$BP$78,4,FALSE))","v":""}]
[null,{"$f":"IF($E122=\"\",\"\",VLOOKUP($E122,Lists!$BM$2:$BP$78,2,FALSE))","v":""},{"$f":"IF($E122=\"\",\"\",VLOOKUP($E122,Lists!$BM$2:$BP$78,3,FALSE))","v":""},{"$f":"IF($E122=\"\",\"\",VLOOKUP($E122,Lists!$BM$2:$BP$78,4,FALSE))","v":""}]
[null,{"$f":"IF($E123=\"\",\"\",VLOOKUP($E123,Lists!$BM$2:$BP$78,2,FALSE))","v":""},{"$f":"IF($E123=\"\",\"\",VLOOKUP($E123,Lists!$BM$2:$BP$78,3,FALSE))","v":""},{"$f":"IF($E123=\"\",\"\",VLOOKUP($E123,Lists!$BM$2:$BP$78,4,FALSE))","v":""}]
[null,{"$f":"IF($E124=\"\",\"\",VLOOKUP($E124,Lists!$BM$2:$BP$78,2,FALSE))","v":""},{"$f":"IF($E124=\"\",\"\",VLOOKUP($E124,Lists!$BM$2:$BP$78,3,FALSE))","v":""},{"$f":"IF($E124=\"\",\"\",VLOOKUP($E124,Lists!$BM$2:$BP$78,4,FALSE))","v":""}]
[null,{"$f":"IF($E125=\"\",\"\",VLOOKUP($E125,Lists!$BM$2:$BP$78,2,FALSE))","v":""},{"$f":"IF($E125=\"\",\"\",VLOOKUP($E125,Lists!$BM$2:$BP$78,3,FALSE))","v":""},{"$f":"IF($E125=\"\",\"\",VLOOKUP($E125,Lists!$BM$2:$BP$78,4,FALSE))","v":""}]
[null,{"$f":"IF($E126=\"\",\"\",VLOOKUP($E126,Lists!$BM$2:$BP$78,2,FALSE))","v":""},{"$f":"IF($E126=\"\",\"\",VLOOKUP($E126,Lists!$BM$2:$BP$78,3,FALSE))","v":""},{"$f":"IF($E126=\"\",\"\",VLOOKUP($E126,Lists!$BM$2:$BP$78,4,FALSE))","v":""}]
[null,{"$f":"IF($E127=\"\",\"\",VLOOKUP($E127,Lists!$BM$2:$BP$78,2,FALSE))","v":""},{"$f":"IF($E127=\"\",\"\",VLOOKUP($E127,Lists!$BM$2:$BP$78,3,FALSE))","v":""},{"$f":"IF($E127=\"\",\"\",VLOOKUP($E127,Lists!$BM$2:$BP$78,4,FALSE))","v":""}]
[null,{"$f":"IF($E128=\"\",\"\",VLOOKUP($E128,Lists!$BM$2:$BP$78,2,FALSE))","v":""},{"$f":"IF($E128=\"\",\"\",VLOOKUP($E128,Lists!$BM$2:$BP$78,3,FALSE))","v":""},{"$f":"IF($E128=\"\",\"\",VLOOKUP($E128,Lists!$BM$2:$BP$78,4,FALSE))","v":""}]
[null,{"$f":"IF($E129=\"\",\"\",VLOOKUP($E129,Lists!$BM$2:$BP$78,2,FALSE))","v":""},{"$f":"IF($E129=\"\",\"\",VLOOKUP($E129,Lists!$BM$2:$BP$78,3,FALSE))","v":""},{"$f":"IF($E129=\"\",\"\",VLOOKUP($E129,Lists!$BM$2:$BP$78,4,FALSE))","v":""}]
[null,{"$f":"IF($E130=\"\",\"\",VLOOKUP($E130,Lists!$BM$2:$BP$78,2,FALSE))","v":""},{"$f":"IF($E130=\"\",\"\",VLOOKUP($E130,Lists!$BM$2:$BP$78,3,FALSE))","v":""},{"$f":"IF($E130=\"\",\"\",VLOOKUP($E130,Lists!$BM$2:$BP$78,4,FALSE))","v":""}]
[null,{"$f":"IF($E131=\"\",\"\",VLOOKUP($E131,Lists!$BM$2:$BP$78,2,FALSE))","v":""},{"$f":"IF($E131=\"\",\"\",VLOOKUP($E131,Lists!$BM$2:$BP$78,3,FALSE))","v":""},{"$f":"IF($E131=\"\",\"\",VLOOKUP($E131,Lists!$BM$2:$BP$78,4,FALSE))","v":""}]
[null,{"$f":"IF($E132=\"\",\"\",VLOOKUP($E132,Lists!$BM$2:$BP$78,2,FALSE))","v":""},{"$f":"IF($E132=\"\",\"\",VLOOKUP($E132,Lists!$BM$2:$BP$78,3,FALSE))","v":""},{"$f":"IF($E132=\"\",\"\",VLOOKUP($E132,Lists!$BM$2:$BP$78,4,FALSE))","v":""}]
[null,{"$f":"IF($E133=\"\",\"\",VLOOKUP($E133,Lists!$BM$2:$BP$78,2,FALSE))","v":""},{"$f":"IF($E133=\"\",\"\",VLOOKUP($E133,Lists!$BM$2:$BP$78,3,FALSE))","v":""},{"$f":"IF($E133=\"\",\"\",VLOOKUP($E133,Lists!$BM$2:$BP$78,4,FALSE))","v":""}]
[null,{"$f":"IF($E134=\"\",\"\",VLOOKUP($E134,Lists!$BM$2:$BP$78,2,FALSE))","v":""},{"$f":"IF($E134=\"\",\"\",VLOOKUP($E134,Lists!$BM$2:$BP$78,3,FALSE))","v":""},{"$f":"IF($E134=\"\",\"\",VLOOKUP($E134,Lists!$BM$2:$BP$78,4,FALSE))","v":""}]
[null,{"$f":"IF($E135=\"\",\"\",VLOOKUP($E135,Lists!$BM$2:$BP$78,2,FALSE))","v":""},{"$f":"IF($E135=\"\",\"\",VLOOKUP($E135,Lists!$BM$2:$BP$78,3,FALSE))","v":""},{"$f":"IF($E135=\"\",\"\",VLOOKUP($E135,Lists!$BM$2:$BP$78,4,FALSE))","v":""}]
[null,{"$f":"IF($E136=\"\",\"\",VLOOKUP($E136,Lists!$BM$2:$BP$78,2,FALSE))","v":""},{"$f":"IF($E136=\"\",\"\",VLOOKUP($E136,Lists!$BM$2:$BP$78,3,FALSE))","v":""},{"$f":"IF($E136=\"\",\"\",VLOOKUP($E136,Lists!$BM$2:$BP$78,4,FALSE))","v":""}]
[null,{"$f":"IF($E137=\"\",\"\",VLOOKUP($E137,Lists!$BM$2:$BP$78,2,FALSE))","v":""},{"$f":"IF($E137=\"\",\"\",VLOOKUP($E137,Lists!$BM$2:$BP$78,3,FALSE))","v":""},{"$f":"IF($E137=\"\",\"\",VLOOKUP($E137,Lists!$BM$2:$BP$78,4,FALSE))","v":""}]
[null,{"$f":"IF($E138=\"\",\"\",VLOOKUP($E138,Lists!$BM$2:$BP$78,2,FALSE))","v":""},{"$f":"IF($E138=\"\",\"\",VLOOKUP($E138,Lists!$BM$2:$BP$78,3,FALSE))","v":""},{"$f":"IF($E138=\"\",\"\",VLOOKUP($E138,Lists!$BM$2:$BP$78,4,FALSE))","v":""}]
[null,{"$f":"IF($E139=\"\",\"\",VLOOKUP($E139,Lists!$BM$2:$BP$78,2,FALSE))","v":""},{"$f":"IF($E139=\"\",\"\",VLOOKUP($E139,Lists!$BM$2:$BP$78,3,FALSE))","v":""},{"$f":"IF($E139=\"\",\"\",VLOOKUP($E139,Lists!$BM$2:$BP$78,4,FALSE))","v":""}]
[null,{"$f":"IF($E140=\"\",\"\",VLOOKUP($E140,Lists!$BM$2:$BP$78,2,FALSE))","v":""},{"$f":"IF($E140=\"\",\"\",VLOOKUP($E140,Lists!$BM$2:$BP$78,3,FALSE))","v":""},{"$f":"IF($E140=\"\",\"\",VLOOKUP($E140,Lists!$BM$2:$BP$78,4,FALSE))","v":""}]
[null,{"$f":"IF($E141=\"\",\"\",VLOOKUP($E141,Lists!$BM$2:$BP$78,2,FALSE))","v":""},{"$f":"IF($E141=\"\",\"\",VLOOKUP($E141,Lists!$BM$2:$BP$78,3,FALSE))","v":""},{"$f":"IF($E141=\"\",\"\",VLOOKUP($E141,Lists!$BM$2:$BP$78,4,FALSE))","v":""}]
[null,{"$f":"IF($E142=\"\",\"\",VLOOKUP($E142,Lists!$BM$2:$BP$78,2,FALSE))","v":""},{"$f":"IF($E142=\"\",\"\",VLOOKUP($E142,Lists!$BM$2:$BP$78,3,FALSE))","v":""},{"$f":"IF($E142=\"\",\"\",VLOOKUP($E142,Lists!$BM$2:$BP$78,4,FALSE))","v":""}]
[null,{"$f":"IF($E143=\"\",\"\",VLOOKUP($E143,Lists!$BM$2:$BP$78,2,FALSE))","v":""},{"$f":"IF($E143=\"\",\"\",VLOOKUP($E143,Lists!$BM$2:$BP$78,3,FALSE))","v":""},{"$f":"IF($E143=\"\",\"\",VLOOKUP($E143,Lists!$BM$2:$BP$78,4,FALSE))","v":""}]
[null,{"$f":"IF($E144=\"\",\"\",VLOOKUP($E144,Lists!$BM$2:$BP$78,2,FALSE))","v":""},{"$f":"IF($E144=\"\",\"\",VLOOKUP($E144,Lists!$BM$2:$BP$78,3,FALSE))","v":""},{"$f":"IF($E144=\"\",\"\",VLOOKUP($E144,Lists!$BM$2:$BP$78,4,FALSE))","v":""}]
[null,{"$f":"IF($E145=\"\",\"\",VLOOKUP($E145,Lists!$BM$2:$BP$78,2,FALSE))","v":""},{"$f":"IF($E145=\"\",\"\",VLOOKUP($E145,Lists!$BM$2:$BP$78,3,FALSE))","v":""},{"$f":"IF($E145=\"\",\"\",VLOOKUP($E145,Lists!$BM$2:$BP$78,4,FALSE))","v":""}]
[null,{"$f":"IF($E146=\"\",\"\",VLOOKUP($E146,Lists!$BM$2:$BP$78,2,FALSE))","v":""},{"$f":"IF($E146=\"\",\"\",VLOOKUP($E146,Lists!$BM$2:$BP$78,3,FALSE))","v":""},{"$f":"IF($E146=\"\",\"\",VLOOKUP($E146,Lists!$BM$2:$BP$78,4,FALSE))","v":""}]
[null,{"$f":"IF($E147=\"\",\"\",VLOOKUP($E147,Lists!$BM$2:$BP$78,2,FALSE))","v":""},{"$f":"IF($E147=\"\",\"\",VLOOKUP($E147,Lists!$BM$2:$BP$78,3,FALSE))","v":""},{"$f":"IF($E147=\"\",\"\",VLOOKUP($E147,Lists!$BM$2:$BP$78,4,FALSE))","v":""}]
[null,{"$f":"IF($E148=\"\",\"\",VLOOKUP($E148,Lists!$BM$2:$BP$78,2,FALSE))","v":""},{"$f":"IF($E148=\"\",\"\",VLOOKUP($E148,Lists!$BM$2:$BP$78,3,FALSE))","v":""},{"$f":"IF($E148=\"\",\"\",VLOOKUP($E148,Lists!$BM$2:$BP$78,4,FALSE))","v":""}]
[null,{"$f":"IF($E149=\"\",\"\",VLOOKUP($E149,Lists!$BM$2:$BP$78,2,FALSE))","v":""},{"$f":"IF($E149=\"\",\"\",VLOOKUP($E149,Lists!$BM$2:$BP$78,3,FALSE))","v":""},{"$f":"IF($E149=\"\",\"\",VLOOKUP($E149,Lists!$BM$2:$BP$78,4,FALSE))","v":""}]
[null,{"$f":"IF($E150=\"\",\"\",VLOOKUP($E150,Lists!$BM$2:$BP$78,2,FALSE))","v":""},{"$f":"IF($E150=\"\",\"\",VLOOKUP($E150,Lists!$BM$2:$BP$78,3,FALSE))","v":""},{"$f":"IF($E150=\"\",\"\",VLOOKUP($E150,Lists!$BM$2:$BP$78,4,FALSE))","v":""}]
[null,{"$f":"IF($E151=\"\",\"\",VLOOKUP($E151,Lists!$BM$2:$BP$78,2,FALSE))","v":""},{"$f":"IF($E151=\"\",\"\",VLOOKUP($E151,Lists!$BM$2:$BP$78,3,FALSE))","v":""},{"$f":"IF($E151=\"\",\"\",VLOOKUP($E151,Lists!$BM$2:$BP$78,4,FALSE))","v":""}]
[null,{"$f":"IF($E152=\"\",\"\",VLOOKUP($E152,Lists!$BM$2:$BP$78,2,FALSE))","v":""},{"$f":"IF($E152=\"\",\"\",VLOOKUP($E152,Lists!$BM$2:$BP$78,3,FALSE))","v":""},{"$f":"IF($E152=\"\",\"\",VLOOKUP($E152,Lists!$BM$2:$BP$78,4,FALSE))","v":""}]
[null,{"$f":"IF($E153=\"\",\"\",VLOOKUP($E153,Lists!$BM$2:$BP$78,2,FALSE))","v":""},{"$f":"IF($E153=\"\",\"\",VLOOKUP($E153,Lists!$BM$2:$BP$78,3,FALSE))","v":""},{"$f":"IF($E153=\"\",\"\",VLOOKUP($E153,Lists!$BM$2:$BP$78,4,FALSE))","v":""}]
[null,{"$f":"IF($E154=\"\",\"\",VLOOKUP($E154,Lists!$BM$2:$BP$78,2,FALSE))","v":""},{"$f":"IF($E154=\"\",\"\",VLOOKUP($E154,Lists!$BM$2:$BP$78,3,FALSE))","v":""},{"$f":"IF($E154=\"\",\"\",VLOOKUP($E154,Lists!$BM$2:$BP$78,4,FALSE))","v":""}]
[null,{"$f":"IF($E155=\"\",\"\",VLOOKUP($E155,Lists!$BM$2:$BP$78,2,FALSE))","v":""},{"$f":"IF($E155=\"\",\"\",VLOOKUP($E155,Lists!$BM$2:$BP$78,3,FALSE))","v":""},{"$f":"IF($E155=\"\",\"\",VLOOKUP($E155,Lists!$BM$2:$BP$78,4,FALSE))","v":""}]
[null,{"$f":"IF($E156=\"\",\"\",VLOOKUP($E156,Lists!$BM$2:$BP$78,2,FALSE))","v":""},{"$f":"IF($E156=\"\",\"\",VLOOKUP($E156,Lists!$BM$2:$BP$78,3,FALSE))","v":""},{"$f":"IF($E156=\"\",\"\",VLOOKUP($E156,Lists!$BM$2:$BP$78,4,FALSE))","v":""}]
[null,{"$f":"IF($E157=\"\",\"\",VLOOKUP($E157,Lists!$BM$2:$BP$78,2,FALSE))","v":""},{"$f":"IF($E157=\"\",\"\",VLOOKUP($E157,Lists!$BM$2:$BP$78,3,FALSE))","v":""},{"$f":"IF($E157=\"\",\"\",VLOOKUP($E157,Lists!$BM$2:$BP$78,4,FALSE))","v":""}]
[null,{"$f":"IF($E158=\"\",\"\",VLOOKUP($E158,Lists!$BM$2:$BP$78,2,FALSE))","v":""},{"$f":"IF($E158=\"\",\"\",VLOOKUP($E158,Lists!$BM$2:$BP$78,3,FALSE))","v":""},{"$f":"IF($E158=\"\",\"\",VLOOKUP($E158,Lists!$BM$2:$BP$78,4,FALSE))","v":""}]
[null,{"$f":"IF($E159=\"\",\"\",VLOOKUP($E159,Lists!$BM$2:$BP$78,2,FALSE))","v":""},{"$f":"IF($E159=\"\",\"\",VLOOKUP($E159,Lists!$BM$2:$BP$78,3,FALSE))","v":""},{"$f":"IF($E159=\"\",\"\",VLOOKUP($E159,Lists!$BM$2:$BP$78,4,FALSE))","v":""}]
[null,{"$f":"IF($E160=\"\",\"\",VLOOKUP($E160,Lists!$BM$2:$BP$78,2,FALSE))","v":""},{"$f":"IF($E160=\"\",\"\",VLOOKUP($E160,Lists!$BM$2:$BP$78,3,FALSE))","v":""},{"$f":"IF($E160=\"\",\"\",VLOOKUP($E160,Lists!$BM$2:$BP$78,4,FALSE))","v":""}]
[null,{"$f":"IF($E161=\"\",\"\",VLOOKUP($E161,Lists!$BM$2:$BP$78,2,FALSE))","v":""},{"$f":"IF($E161=\"\",\"\",VLOOKUP($E161,Lists!$BM$2:$BP$78,3,FALSE))","v":""},{"$f":"IF($E161=\"\",\"\",VLOOKUP($E161,Lists!$BM$2:$BP$78,4,FALSE))","v":""}]
[null,{"$f":"IF($E162=\"\",\"\",VLOOKUP($E162,Lists!$BM$2:$BP$78,2,FALSE))","v":""},{"$f":"IF($E162=\"\",\"\",VLOOKUP($E162,Lists!$BM$2:$BP$78,3,FALSE))","v":""},{"$f":"IF($E162=\"\",\"\",VLOOKUP($E162,Lists!$BM$2:$BP$78,4,FALSE))","v":""}]
[null,{"$f":"IF($E163=\"\",\"\",VLOOKUP($E163,Lists!$BM$2:$BP$78,2,FALSE))","v":""},{"$f":"IF($E163=\"\",\"\",VLOOKUP($E163,Lists!$BM$2:$BP$78,3,FALSE))","v":""},{"$f":"IF($E163=\"\",\"\",VLOOKUP($E163,Lists!$BM$2:$BP$78,4,FALSE))","v":""}]
[null,{"$f":"IF($E164=\"\",\"\",VLOOKUP($E164,Lists!$BM$2:$BP$78,2,FALSE))","v":""},{"$f":"IF($E164=\"\",\"\",VLOOKUP($E164,Lists!$BM$2:$BP$78,3,FALSE))","v":""},{"$f":"IF($E164=\"\",\"\",VLOOKUP($E164,Lists!$BM$2:$BP$78,4,FALSE))","v":""}]
[null,{"$f":"IF($E165=\"\",\"\",VLOOKUP($E165,Lists!$BM$2:$BP$78,2,FALSE))","v":""},{"$f":"IF($E165=\"\",\"\",VLOOKUP($E165,Lists!$BM$2:$BP$78,3,FALSE))","v":""},{"$f":"IF($E165=\"\",\"\",VLOOKUP($E165,Lists!$BM$2:$BP$78,4,FALSE))","v":""}]
[null,{"$f":"IF($E166=\"\",\"\",VLOOKUP($E166,Lists!$BM$2:$BP$78,2,FALSE))","v":""},{"$f":"IF($E166=\"\",\"\",VLOOKUP($E166,Lists!$BM$2:$BP$78,3,FALSE))","v":""},{"$f":"IF($E166=\"\",\"\",VLOOKUP($E166,Lists!$BM$2:$BP$78,4,FALSE))","v":""}]
[null,{"$f":"IF($E167=\"\",\"\",VLOOKUP($E167,Lists!$BM$2:$BP$78,2,FALSE))","v":""},{"$f":"IF($E167=\"\",\"\",VLOOKUP($E167,Lists!$BM$2:$BP$78,3,FALSE))","v":""},{"$f":"IF($E167=\"\",\"\",VLOOKUP($E167,Lists!$BM$2:$BP$78,4,FALSE))","v":""}]
[null,{"$f":"IF($E168=\"\",\"\",VLOOKUP($E168,Lists!$BM$2:$BP$78,2,FALSE))","v":""},{"$f":"IF($E168=\"\",\"\",VLOOKUP($E168,Lists!$BM$2:$BP$78,3,FALSE))","v":""},{"$f":"IF($E168=\"\",\"\",VLOOKUP($E168,Lists!$BM$2:$BP$78,4,FALSE))","v":""}]
[null,{"$f":"IF($E169=\"\",\"\",VLOOKUP($E169,Lists!$BM$2:$BP$78,2,FALSE))","v":""},{"$f":"IF($E169=\"\",\"\",VLOOKUP($E169,Lists!$BM$2:$BP$78,3,FALSE))","v":""},{"$f":"IF($E169=\"\",\"\",VLOOKUP($E169,Lists!$BM$2:$BP$78,4,FALSE))","v":""}]
[null,{"$f":"IF($E170=\"\",\"\",VLOOKUP($E170,Lists!$BM$2:$BP$78,2,FALSE))","v":""},{"$f":"IF($E170=\"\",\"\",VLOOKUP($E170,Lists!$BM$2:$BP$78,3,FALSE))","v":""},{"$f":"IF($E170=\"\",\"\",VLOOKUP($E170,Lists!$BM$2:$BP$78,4,FALSE))","v":""}]
[null,{"$f":"IF($E171=\"\",\"\",VLOOKUP($E171,Lists!$BM$2:$BP$78,2,FALSE))","v":""},{"$f":"IF($E171=\"\",\"\",VLOOKUP($E171,Lists!$BM$2:$BP$78,3,FALSE))","v":""},{"$f":"IF($E171=\"\",\"\",VLOOKUP($E171,Lists!$BM$2:$BP$78,4,FALSE))","v":""}]
[null,{"$f":"IF($E172=\"\",\"\",VLOOKUP($E172,Lists!$BM$2:$BP$78,2,FALSE))","v":""},{"$f":"IF($E172=\"\",\"\",VLOOKUP($E172,Lists!$BM$2:$BP$78,3,FALSE))","v":""},{"$f":"IF($E172=\"\",\"\",VLOOKUP($E172,Lists!$BM$2:$BP$78,4,FALSE))","v":""}]
[null,{"$f":"IF($E173=\"\",\"\",VLOOKUP($E173,Lists!$BM$2:$BP$78,2,FALSE))","v":""},{"$f":"IF($E173=\"\",\"\",VLOOKUP($E173,Lists!$BM$2:$BP$78,3,FALSE))","v":""},{"$f":"IF($E173=\"\",\"\",VLOOKUP($E173,Lists!$BM$2:$BP$78,4,FALSE))","v":""}]
[null,{"$f":"IF($E174=\"\",\"\",VLOOKUP($E174,Lists!$BM$2:$BP$78,2,FALSE))","v":""},{"$f":"IF($E174=\"\",\"\",VLOOKUP($E174,Lists!$BM$2:$BP$78,3,FALSE))","v":""},{"$f":"IF($E174=\"\",\"\",VLOOKUP($E174,Lists!$BM$2:$BP$78,4,FALSE))","v":""}]
[null,{"$f":"IF($E175=\"\",\"\",VLOOKUP($E175,Lists!$BM$2:$BP$78,2,FALSE))","v":""},{"$f":"IF($E175=\"\",\"\",VLOOKUP($E175,Lists!$BM$2:$BP$78,3,FALSE))","v":""},{"$f":"IF($E175=\"\",\"\",VLOOKUP($E175,Lists!$BM$2:$BP$78,4,FALSE))","v":""}]
[null,{"$f":"IF($E176=\"\",\"\",VLOOKUP($E176,Lists!$BM$2:$BP$78,2,FALSE))","v":""},{"$f":"IF($E176=\"\",\"\",VLOOKUP($E176,Lists!$BM$2:$BP$78,3,FALSE))","v":""},{"$f":"IF($E176=\"\",\"\",VLOOKUP($E176,Lists!$BM$2:$BP$78,4,FALSE))","v":""}]
[null,{"$f":"IF($E177=\"\",\"\",VLOOKUP($E177,Lists!$BM$2:$BP$78,2,FALSE))","v":""},{"$f":"IF($E177=\"\",\"\",VLOOKUP($E177,Lists!$BM$2:$BP$78,3,FALSE))","v":""},{"$f":"IF($E177=\"\",\"\",VLOOKUP($E177,Lists!$BM$2:$BP$78,4,FALSE))","v":""}]
[null,{"$f":"IF($E178=\"\",\"\",VLOOKUP($E178,Lists!$BM$2:$BP$78,2,FALSE))","v":""},{"$f":"IF($E178=\"\",\"\",VLOOKUP($E178,Lists!$BM$2:$BP$78,3,FALSE))","v":""},{"$f":"IF($E178=\"\",\"\",VLOOKUP($E178,Lists!$BM$2:$BP$78,4,FALSE))","v":""}]
[null,{"$f":"IF($E179=\"\",\"\",VLOOKUP($E179,Lists!$BM$2:$BP$78,2,FALSE))","v":""},{"$f":"IF($E179=\"\",\"\",VLOOKUP($E179,Lists!$BM$2:$BP$78,3,FALSE))","v":""},{"$f":"IF($E179=\"\",\"\",VLOOKUP($E179,Lists!$BM$2:$BP$78,4,FALSE))","v":""}]
[null,{"$f":"IF($E180=\"\",\"\",VLOOKUP($E180,Lists!$BM$2:$BP$78,2,FALSE))","v":""},{"$f":"IF($E180=\"\",\"\",VLOOKUP($E180,Lists!$BM$2:$BP$78,3,FALSE))","v":""},{"$f":"IF($E180=\"\",\"\",VLOOKUP($E180,Lists!$BM$2:$BP$78,4,FALSE))","v":""}]
[null,{"$f":"IF($E181=\"\",\"\",VLOOKUP($E181,Lists!$BM$2:$BP$78,2,FALSE))","v":""},{"$f":"IF($E181=\"\",\"\",VLOOKUP($E181,Lists!$BM$2:$BP$78,3,FALSE))","v":""},{"$f":"IF($E181=\"\",\"\",VLOOKUP($E181,Lists!$BM$2:$BP$78,4,FALSE))","v":""}]
[null,{"$f":"IF($E182=\"\",\"\",VLOOKUP($E182,Lists!$BM$2:$BP$78,2,FALSE))","v":""},{"$f":"IF($E182=\"\",\"\",VLOOKUP($E182,Lists!$BM$2:$BP$78,3,FALSE))","v":""},{"$f":"IF($E182=\"\",\"\",VLOOKUP($E182,Lists!$BM$2:$BP$78,4,FALSE))","v":""}]
[null,{"$f":"IF($E183=\"\",\"\",VLOOKUP($E183,Lists!$BM$2:$BP$78,2,FALSE))","v":""},{"$f":"IF($E183=\"\",\"\",VLOOKUP($E183,Lists!$BM$2:$BP$78,3,FALSE))","v":""},{"$f":"IF($E183=\"\",\"\",VLOOKUP($E183,Lists!$BM$2:$BP$78,4,FALSE))","v":""}]
[null,{"$f":"IF($E184=\"\",\"\",VLOOKUP($E184,Lists!$BM$2:$BP$78,2,FALSE))","v":""},{"$f":"IF($E184=\"\",\"\",VLOOKUP($E184,Lists!$BM$2:$BP$78,3,FALSE))","v":""},{"$f":"IF($E184=\"\",\"\",VLOOKUP($E184,Lists!$BM$2:$BP$78,4,FALSE))","v":""}]
[null,{"$f":"IF($E185=\"\",\"\",VLOOKUP($E185,Lists!$BM$2:$BP$78,2,FALSE))","v":""},{"$f":"IF($E185=\"\",\"\",VLOOKUP($E185,Lists!$BM$2:$BP$78,3,FALSE))","v":""},{"$f":"IF($E185=\"\",\"\",VLOOKUP($E185,Lists!$BM$2:$BP$78,4,FALSE))","v":""}]
[null,{"$f":"IF($E186=\"\",\"\",VLOOKUP($E186,Lists!$BM$2:$BP$78,2,FALSE))","v":""},{"$f":"IF($E186=\"\",\"\",VLOOKUP($E186,Lists!$BM$2:$BP$78,3,FALSE))","v":""},{"$f":"IF($E186=\"\",\"\",VLOOKUP($E186,Lists!$BM$2:$BP$78,4,FALSE))","v":""}]
[null,{"$f":"IF($E187=\"\",\"\",VLOOKUP($E187,Lists!$BM$2:$BP$78,2,FALSE))","v":""},{"$f":"IF($E187=\"\",\"\",VLOOKUP($E187,Lists!$BM$2:$BP$78,3,FALSE))","v":""},{"$f":"IF($E187=\"\",\"\",VLOOKUP($E187,Lists!$BM$2:$BP$78,4,FALSE))","v":""}]
[null,{"$f":"IF($E188=\"\",\"\",VLOOKUP($E188,Lists!$BM$2:$BP$78,2,FALSE))","v":""},{"$f":"IF($E188=\"\",\"\",VLOOKUP($E188,Lists!$BM$2:$BP$78,3,FALSE))","v":""},{"$f":"IF($E188=\"\",\"\",VLOOKUP($E188,Lists!$BM$2:$BP$78,4,FALSE))","v":""}]
[null,{"$f":"IF($E189=\"\",\"\",VLOOKUP($E189,Lists!$BM$2:$BP$78,2,FALSE))","v":""},{"$f":"IF($E189=\"\",\"\",VLOOKUP($E189,Lists!$BM$2:$BP$78,3,FALSE))","v":""},{"$f":"IF($E189=\"\",\"\",VLOOKUP($E189,Lists!$BM$2:$BP$78,4,FALSE))","v":""}]
[null,{"$f":"IF($E190=\"\",\"\",VLOOKUP($E190,Lists!$BM$2:$BP$78,2,FALSE))","v":""},{"$f":"IF($E190=\"\",\"\",VLOOKUP($E190,Lists!$BM$2:$BP$78,3,FALSE))","v":""},{"$f":"IF($E190=\"\",\"\",VLOOKUP($E190,Lists!$BM$2:$BP$78,4,FALSE))","v":""}]
[null,{"$f":"IF($E191=\"\",\"\",VLOOKUP($E191,Lists!$BM$2:$BP$78,2,FALSE))","v":""},{"$f":"IF($E191=\"\",\"\",VLOOKUP($E191,Lists!$BM$2:$BP$78,3,FALSE))","v":""},{"$f":"IF($E191=\"\",\"\",VLOOKUP($E191,Lists!$BM$2:$BP$78,4,FALSE))","v":""}]
[null,{"$f":"IF($E192=\"\",\"\",VLOOKUP($E192,Lists!$BM$2:$BP$78,2,FALSE))","v":""},{"$f":"IF($E192=\"\",\"\",VLOOKUP($E192,Lists!$BM$2:$BP$78,3,FALSE))","v":""},{"$f":"IF($E192=\"\",\"\",VLOOKUP($E192,Lists!$BM$2:$BP$78,4,FALSE))","v":""}]
[null,{"$f":"IF($E193=\"\",\"\",VLOOKUP($E193,Lists!$BM$2:$BP$78,2,FALSE))","v":""},{"$f":"IF($E193=\"\",\"\",VLOOKUP($E193,Lists!$BM$2:$BP$78,3,FALSE))","v":""},{"$f":"IF($E193=\"\",\"\",VLOOKUP($E193,Lists!$BM$2:$BP$78,4,FALSE))","v":""}]
[null,{"$f":"IF($E194=\"\",\"\",VLOOKUP($E194,Lists!$BM$2:$BP$78,2,FALSE))","v":""},{"$f":"IF($E194=\"\",\"\",VLOOKUP($E194,Lists!$BM$2:$BP$78,3,FALSE))","v":""},{"$f":"IF($E194=\"\",\"\",VLOOKUP($E194,Lists!$BM$2:$BP$78,4,FALSE))","v":""}]
[null,{"$f":"IF($E195=\"\",\"\",VLOOKUP($E195,Lists!$BM$2:$BP$78,2,FALSE))","v":""},{"$f":"IF($E195=\"\",\"\",VLOOKUP($E195,Lists!$BM$2:$BP$78,3,FALSE))","v":""},{"$f":"IF($E195=\"\",\"\",VLOOKUP($E195,Lists!$BM$2:$BP$78,4,FALSE))","v":""}]
[null,{"$f":"IF($E196=\"\",\"\",VLOOKUP($E196,Lists!$BM$2:$BP$78,2,FALSE))","v":""},{"$f":"IF($E196=\"\",\"\",VLOOKUP($E196,Lists!$BM$2:$BP$78,3,FALSE))","v":""},{"$f":"IF($E196=\"\",\"\",VLOOKUP($E196,Lists!$BM$2:$BP$78,4,FALSE))","v":""}]
[null,{"$f":"IF($E197=\"\",\"\",VLOOKUP($E197,Lists!$BM$2:$BP$78,2,FALSE))","v":""},{"$f":"IF($E197=\"\",\"\",VLOOKUP($E197,Lists!$BM$2:$BP$78,3,FALSE))","v":""},{"$f":"IF($E197=\"\",\"\",VLOOKUP($E197,Lists!$BM$2:$BP$78,4,FALSE))","v":""}]
[null,{"$f":"IF($E198=\"\",\"\",VLOOKUP($E198,Lists!$BM$2:$BP$78,2,FALSE))","v":""},{"$f":"IF($E198=\"\",\"\",VLOOKUP($E198,Lists!$BM$2:$BP$78,3,FALSE))","v":""},{"$f":"IF($E198=\"\",\"\",VLOOKUP($E198,Lists!$BM$2:$BP$78,4,FALSE))","v":""}]
[null,{"$f":"IF($E199=\"\",\"\",VLOOKUP($E199,Lists!$BM$2:$BP$78,2,FALSE))","v":""},{"$f":"IF($E199=\"\",\"\",VLOOKUP($E199,Lists!$BM$2:$BP$78,3,FALSE))","v":""},{"$f":"IF($E199=\"\",\"\",VLOOKUP($E199,Lists!$BM$2:$BP$78,4,FALSE))","v":""}]
[null,{"$f":"IF($E200=\"\",\"\",VLOOKUP($E200,Lists!$BM$2:$BP$78,2,FALSE))","v":""},{"$f":"IF($E200=\"\",\"\",VLOOKUP($E200,Lists!$BM$2:$BP$78,3,FALSE))","v":""},{"$f":"IF($E200=\"\",\"\",VLOOKUP($E200,Lists!$BM$2:$BP$78,4,FALSE))","v":""}]
[null,{"$f":"IF($E201=\"\",\"\",VLOOKUP($E201,Lists!$BM$2:$BP$78,2,FALSE))","v":""},{"$f":"IF($E201=\"\",\"\",VLOOKUP($E201,Lists!$BM$2:$BP$78,3,FALSE))","v":""},{"$f":"IF($E201=\"\",\"\",VLOOKUP($E201,Lists!$BM$2:$BP$78,4,FALSE))","v":""}]
[null,{"$f":"IF($E202=\"\",\"\",VLOOKUP($E202,Lists!$BM$2:$BP$78,2,FALSE))","v":""},{"$f":"IF($E202=\"\",\"\",VLOOKUP($E202,Lists!$BM$2:$BP$78,3,FALSE))","v":""},{"$f":"IF($E202=\"\",\"\",VLOOKUP($E202,Lists!$BM$2:$BP$78,4,FALSE))","v":""}]
[null,{"$f":"IF($E203=\"\",\"\",VLOOKUP($E203,Lists!$BM$2:$BP$78,2,FALSE))","v":""},{"$f":"IF($E203=\"\",\"\",VLOOKUP($E203,Lists!$BM$2:$BP$78,3,FALSE))","v":""},{"$f":"IF($E203=\"\",\"\",VLOOKUP($E203,Lists!$BM$2:$BP$78,4,FALSE))","v":""}]
[null,{"$f":"IF($E204=\"\",\"\",VLOOKUP($E204,Lists!$BM$2:$BP$78,2,FALSE))","v":""},{"$f":"IF($E204=\"\",\"\",VLOOKUP($E204,Lists!$BM$2:$BP$78,3,FALSE))","v":""},{"$f":"IF($E204=\"\",\"\",VLOOKUP($E204,Lists!$BM$2:$BP$78,4,FALSE))","v":""}]
[null,{"$f":"IF($E205=\"\",\"\",VLOOKUP($E205,Lists!$BM$2:$BP$78,2,FALSE))","v":""},{"$f":"IF($E205=\"\",\"\",VLOOKUP($E205,Lists!$BM$2:$BP$78,3,FALSE))","v":""},{"$f":"IF($E205=\"\",\"\",VLOOKUP($E205,Lists!$BM$2:$BP$78,4,FALSE))","v":""}]
[null,{"$f":"IF($E206=\"\",\"\",VLOOKUP($E206,Lists!$BM$2:$BP$78,2,FALSE))","v":""},{"$f":"IF($E206=\"\",\"\",VLOOKUP($E206,Lists!$BM$2:$BP$78,3,FALSE))","v":""},{"$f":"IF($E206=\"\",\"\",VLOOKUP($E206,Lists!$BM$2:$BP$78,4,FALSE))","v":""}]
[null,{"$f":"IF($E207=\"\",\"\",VLOOKUP($E207,Lists!$BM$2:$BP$78,2,FALSE))","v":""},{"$f":"IF($E207=\"\",\"\",VLOOKUP($E207,Lists!$BM$2:$BP$78,3,FALSE))","v":""},{"$f":"IF($E207=\"\",\"\",VLOOKUP($E207,Lists!$BM$2:$BP$78,4,FALSE))","v":""}]
[null,{"$f":"IF($E208=\"\",\"\",VLOOKUP($E208,Lists!$BM$2:$BP$78,2,FALSE))","v":""},{"$f":"IF($E208=\"\",\"\",VLOOKUP($E208,Lists!$BM$2:$BP$78,3,FALSE))","v":""},{"$f":"IF($E208=\"\",\"\",VLOOKUP($E208,Lists!$BM$2:$BP$78,4,FALSE))","v":""}]
[null,{"$f":"IF($E209=\"\",\"\",VLOOKUP($E209,Lists!$BM$2:$BP$78,2,FALSE))","v":""},{"$f":"IF($E209=\"\",\"\",VLOOKUP($E209,Lists!$BM$2:$BP$78,3,FALSE))","v":""},{"$f":"IF($E209=\"\",\"\",VLOOKUP($E209,Lists!$BM$2:$BP$78,4,FALSE))","v":""}]
[null,{"$f":"IF($E210=\"\",\"\",VLOOKUP($E210,Lists!$BM$2:$BP$78,2,FALSE))","v":""},{"$f":"IF($E210=\"\",\"\",VLOOKUP($E210,Lists!$BM$2:$BP$78,3,FALSE))","v":""},{"$f":"IF($E210=\"\",\"\",VLOOKUP($E210,Lists!$BM$2:$BP$78,4,FALSE))","v":""}]
[null,{"$f":"IF($E211=\"\",\"\",VLOOKUP($E211,Lists!$BM$2:$BP$78,2,FALSE))","v":""},{"$f":"IF($E211=\"\",\"\",VLOOKUP($E211,Lists!$BM$2:$BP$78,3,FALSE))","v":""},{"$f":"IF($E211=\"\",\"\",VLOOKUP($E211,Lists!$BM$2:$BP$78,4,FALSE))","v":""}]
[null,{"$f":"IF($E212=\"\",\"\",VLOOKUP($E212,Lists!$BM$2:$BP$78,2,FALSE))","v":""},{"$f":"IF($E212=\"\",\"\",VLOOKUP($E212,Lists!$BM$2:$BP$78,3,FALSE))","v":""},{"$f":"IF($E212=\"\",\"\",VLOOKUP($E212,Lists!$BM$2:$BP$78,4,FALSE))","v":""}]
[null,{"$f":"IF($E213=\"\",\"\",VLOOKUP($E213,Lists!$BM$2:$BP$78,2,FALSE))","v":""},{"$f":"IF($E213=\"\",\"\",VLOOKUP($E213,Lists!$BM$2:$BP$78,3,FALSE))","v":""},{"$f":"IF($E213=\"\",\"\",VLOOKUP($E213,Lists!$BM$2:$BP$78,4,FALSE))","v":""}]
[null,{"$f":"IF($E214=\"\",\"\",VLOOKUP($E214,Lists!$BM$2:$BP$78,2,FALSE))","v":""},{"$f":"IF($E214=\"\",\"\",VLOOKUP($E214,Lists!$BM$2:$BP$78,3,FALSE))","v":""},{"$f":"IF($E214=\"\",\"\",VLOOKUP($E214,Lists!$BM$2:$BP$78,4,FALSE))","v":""}]
[null,{"$f":"IF($E215=\"\",\"\",VLOOKUP($E215,Lists!$BM$2:$BP$78,2,FALSE))","v":""},{"$f":"IF($E215=\"\",\"\",VLOOKUP($E215,Lists!$BM$2:$BP$78,3,FALSE))","v":""},{"$f":"IF($E215=\"\",\"\",VLOOKUP($E215,Lists!$BM$2:$BP$78,4,FALSE))","v":""}]
[null,{"$f":"IF($E216=\"\",\"\",VLOOKUP($E216,Lists!$BM$2:$BP$78,2,FALSE))","v":""},{"$f":"IF($E216=\"\",\"\",VLOOKUP($E216,Lists!$BM$2:$BP$78,3,FALSE))","v":""},{"$f":"IF($E216=\"\",\"\",VLOOKUP($E216,Lists!$BM$2:$BP$78,4,FALSE))","v":""}]
[null,{"$f":"IF($E217=\"\",\"\",VLOOKUP($E217,Lists!$BM$2:$BP$78,2,FALSE))","v":""},{"$f":"IF($E217=\"\",\"\",VLOOKUP($E217,Lists!$BM$2:$BP$78,3,FALSE))","v":""},{"$f":"IF($E217=\"\",\"\",VLOOKUP($E217,Lists!$BM$2:$BP$78,4,FALSE))","v":""}]
[null,{"$f":"IF($E218=\"\",\"\",VLOOKUP($E218,Lists!$BM$2:$BP$78,2,FALSE))","v":""},{"$f":"IF($E218=\"\",\"\",VLOOKUP($E218,Lists!$BM$2:$BP$78,3,FALSE))","v":""},{"$f":"IF($E218=\"\",\"\",VLOOKUP($E218,Lists!$BM$2:$BP$78,4,FALSE))","v":""}]
[null,{"$f":"IF($E219=\"\",\"\",VLOOKUP($E219,Lists!$BM$2:$BP$78,2,FALSE))","v":""},{"$f":"IF($E219=\"\",\"\",VLOOKUP($E219,Lists!$BM$2:$BP$78,3,FALSE))","v":""},{"$f":"IF($E219=\"\",\"\",VLOOKUP($E219,Lists!$BM$2:$BP$78,4,FALSE))","v":""}]
[null,{"$f":"IF($E220=\"\",\"\",VLOOKUP($E220,Lists!$BM$2:$BP$78,2,FALSE))","v":""},{"$f":"IF($E220=\"\",\"\",VLOOKUP($E220,Lists!$BM$2:$BP$78,3,FALSE))","v":""},{"$f":"IF($E220=\"\",\"\",VLOOKUP($E220,Lists!$BM$2:$BP$78,4,FALSE))","v":""}]
[null,{"$f":"IF($E221=\"\",\"\",VLOOKUP($E221,Lists!$BM$2:$BP$78,2,FALSE))","v":""},{"$f":"IF($E221=\"\",\"\",VLOOKUP($E221,Lists!$BM$2:$BP$78,3,FALSE))","v":""},{"$f":"IF($E221=\"\",\"\",VLOOKUP($E221,Lists!$BM$2:$BP$78,4,FALSE))","v":""}]
[null,{"$f":"IF($E222=\"\",\"\",VLOOKUP($E222,Lists!$BM$2:$BP$78,2,FALSE))","v":""},{"$f":"IF($E222=\"\",\"\",VLOOKUP($E222,Lists!$BM$2:$BP$78,3,FALSE))","v":""},{"$f":"IF($E222=\"\",\"\",VLOOKUP($E222,Lists!$BM$2:$BP$78,4,FALSE))","v":""}]
[null,{"$f":"IF($E223=\"\",\"\",VLOOKUP($E223,Lists!$BM$2:$BP$78,2,FALSE))","v":""},{"$f":"IF($E223=\"\",\"\",VLOOKUP($E223,Lists!$BM$2:$BP$78,3,FALSE))","v":""},{"$f":"IF($E223=\"\",\"\",VLOOKUP($E223,Lists!$BM$2:$BP$78,4,FALSE))","v":""}]
[null,{"$f":"IF($E224=\"\",\"\",VLOOKUP($E224,Lists!$BM$2:$BP$78,2,FALSE))","v":""},{"$f":"IF($E224=\"\",\"\",VLOOKUP($E224,Lists!$BM$2:$BP$78,3,FALSE))","v":""},{"$f":"IF($E224=\"\",\"\",VLOOKUP($E224,Lists!$BM$2:$BP$78,4,FALSE))","v":""}]
[null,{"$f":"IF($E225=\"\",\"\",VLOOKUP($E225,Lists!$BM$2:$BP$78,2,FALSE))","v":""},{"$f":"IF($E225=\"\",\"\",VLOOKUP($E225,Lists!$BM$2:$BP$78,3,FALSE))","v":""},{"$f":"IF($E225=\"\",\"\",VLOOKUP($E225,Lists!$BM$2:$BP$78,4,FALSE))","v":""}]
[null,{"$f":"IF($E226=\"\",\"\",VLOOKUP($E226,Lists!$BM$2:$BP$78,2,FALSE))","v":""},{"$f":"IF($E226=\"\",\"\",VLOOKUP($E226,Lists!$BM$2:$BP$78,3,FALSE))","v":""},{"$f":"IF($E226=\"\",\"\",VLOOKUP($E226,Lists!$BM$2:$BP$78,4,FALSE))","v":""}]
[null,{"$f":"IF($E227=\"\",\"\",VLOOKUP($E227,Lists!$BM$2:$BP$78,2,FALSE))","v":""},{"$f":"IF($E227=\"\",\"\",VLOOKUP($E227,Lists!$BM$2:$BP$78,3,FALSE))","v":""},{"$f":"IF($E227=\"\",\"\",VLOOKUP($E227,Lists!$BM$2:$BP$78,4,FALSE))","v":""}]
[null,{"$f":"IF($E228=\"\",\"\",VLOOKUP($E228,Lists!$BM$2:$BP$78,2,FALSE))","v":""},{"$f":"IF($E228=\"\",\"\",VLOOKUP($E228,Lists!$BM$2:$BP$78,3,FALSE))","v":""},{"$f":"IF($E228=\"\",\"\",VLOOKUP($E228,Lists!$BM$2:$BP$78,4,FALSE))","v":""}]
[null,{"$f":"IF($E229=\"\",\"\",VLOOKUP($E229,Lists!$BM$2:$BP$78,2,FALSE))","v":""},{"$f":"IF($E229=\"\",\"\",VLOOKUP($E229,Lists!$BM$2:$BP$78,3,FALSE))","v":""},{"$f":"IF($E229=\"\",\"\",VLOOKUP($E229,Lists!$BM$2:$BP$78,4,FALSE))","v":""}]
[null,{"$f":"IF($E230=\"\",\"\",VLOOKUP($E230,Lists!$BM$2:$BP$78,2,FALSE))","v":""},{"$f":"IF($E230=\"\",\"\",VLOOKUP($E230,Lists!$BM$2:$BP$78,3,FALSE))","v":""},{"$f":"IF($E230=\"\",\"\",VLOOKUP($E230,Lists!$BM$2:$BP$78,4,FALSE))","v":""}]
[null,{"$f":"IF($E231=\"\",\"\",VLOOKUP($E231,Lists!$BM$2:$BP$78,2,FALSE))","v":""},{"$f":"IF($E231=\"\",\"\",VLOOKUP($E231,Lists!$BM$2:$BP$78,3,FALSE))","v":""},{"$f":"IF($E231=\"\",\"\",VLOOKUP($E231,Lists!$BM$2:$BP$78,4,FALSE))","v":""}]
[null,{"$f":"IF($E232=\"\",\"\",VLOOKUP($E232,Lists!$BM$2:$BP$78,2,FALSE))","v":""},{"$f":"IF($E232=\"\",\"\",VLOOKUP($E232,Lists!$BM$2:$BP$78,3,FALSE))","v":""},{"$f":"IF($E232=\"\",\"\",VLOOKUP($E232,Lists!$BM$2:$BP$78,4,FALSE))","v":""}]
[null,{"$f":"IF($E233=\"\",\"\",VLOOKUP($E233,Lists!$BM$2:$BP$78,2,FALSE))","v":""},{"$f":"IF($E233=\"\",\"\",VLOOKUP($E233,Lists!$BM$2:$BP$78,3,FALSE))","v":""},{"$f":"IF($E233=\"\",\"\",VLOOKUP($E233,Lists!$BM$2:$BP$78,4,FALSE))","v":""}]
[null,{"$f":"IF($E234=\"\",\"\",VLOOKUP($E234,Lists!$BM$2:$BP$78,2,FALSE))","v":""},{"$f":"IF($E234=\"\",\"\",VLOOKUP($E234,Lists!$BM$2:$BP$78,3,FALSE))","v":""},{"$f":"IF($E234=\"\",\"\",VLOOKUP($E234,Lists!$BM$2:$BP$78,4,FALSE))","v":""}]
[null,{"$f":"IF($E235=\"\",\"\",VLOOKUP($E235,Lists!$BM$2:$BP$78,2,FALSE))","v":""},{"$f":"IF($E235=\"\",\"\",VLOOKUP($E235,Lists!$BM$2:$BP$78,3,FALSE))","v":""},{"$f":"IF($E235=\"\",\"\",VLOOKUP($E235,Lists!$BM$2:$BP$78,4,FALSE))","v":""}]
[null,{"$f":"IF($E236=\"\",\"\",VLOOKUP($E236,Lists!$BM$2:$BP$78,2,FALSE))","v":""},{"$f":"IF($E236=\"\",\"\",VLOOKUP($E236,Lists!$BM$2:$BP$78,3,FALSE))","v":""},{"$f":"IF($E236=\"\",\"\",VLOOKUP($E236,Lists!$BM$2:$BP$78,4,FALSE))","v":""}]
[null,{"$f":"IF($E237=\"\",\"\",VLOOKUP($E237,Lists!$BM$2:$BP$78,2,FALSE))","v":""},{"$f":"IF($E237=\"\",\"\",VLOOKUP($E237,Lists!$BM$2:$BP$78,3,FALSE))","v":""},{"$f":"IF($E237=\"\",\"\",VLOOKUP($E237,Lists!$BM$2:$BP$78,4,FALSE))","v":""}]
[null,{"$f":"IF($E238=\"\",\"\",VLOOKUP($E238,Lists!$BM$2:$BP$78,2,FALSE))","v":""},{"$f":"IF($E238=\"\",\"\",VLOOKUP($E238,Lists!$BM$2:$BP$78,3,FALSE))","v":""},{"$f":"IF($E238=\"\",\"\",VLOOKUP($E238,Lists!$BM$2:$BP$78,4,FALSE))","v":""}]
[null,{"$f":"IF($E239=\"\",\"\",VLOOKUP($E239,Lists!$BM$2:$BP$78,2,FALSE))","v":""},{"$f":"IF($E239=\"\",\"\",VLOOKUP($E239,Lists!$BM$2:$BP$78,3,FALSE))","v":""},{"$f":"IF($E239=\"\",\"\",VLOOKUP($E239,Lists!$BM$2:$BP$78,4,FALSE))","v":""}]
[null,{"$f":"IF($E240=\"\",\"\",VLOOKUP($E240,Lists!$BM$2:$BP$78,2,FALSE))","v":""},{"$f":"IF($E240=\"\",\"\",VLOOKUP($E240,Lists!$BM$2:$BP$78,3,FALSE))","v":""},{"$f":"IF($E240=\"\",\"\",VLOOKUP($E240,Lists!$BM$2:$BP$78,4,FALSE))","v":""}]
[null,{"$f":"IF($E241=\"\",\"\",VLOOKUP($E241,Lists!$BM$2:$BP$78,2,FALSE))","v":""},{"$f":"IF($E241=\"\",\"\",VLOOKUP($E241,Lists!$BM$2:$BP$78,3,FALSE))","v":""},{"$f":"IF($E241=\"\",\"\",VLOOKUP($E241,Lists!$BM$2:$BP$78,4,FALSE))","v":""}]
[null,{"$f":"IF($E242=\"\",\"\",VLOOKUP($E242,Lists!$BM$2:$BP$78,2,FALSE))","v":""},{"$f":"IF($E242=\"\",\"\",VLOOKUP($E242,Lists!$BM$2:$BP$78,3,FALSE))","v":""},{"$f":"IF($E242=\"\",\"\",VLOOKUP($E242,Lists!$BM$2:$BP$78,4,FALSE))","v":""}]
[null,{"$f":"IF($E243=\"\",\"\",VLOOKUP($E243,Lists!$BM$2:$BP$78,2,FALSE))","v":""},{"$f":"IF($E243=\"\",\"\",VLOOKUP($E243,Lists!$BM$2:$BP$78,3,FALSE))","v":""},{"$f":"IF($E243=\"\",\"\",VLOOKUP($E243,Lists!$BM$2:$BP$78,4,FALSE))","v":""}]
[null,{"$f":"IF($E244=\"\",\"\",VLOOKUP($E244,Lists!$BM$2:$BP$78,2,FALSE))","v":""},{"$f":"IF($E244=\"\",\"\",VLOOKUP($E244,Lists!$BM$2:$BP$78,3,FALSE))","v":""},{"$f":"IF($E244=\"\",\"\",VLOOKUP($E244,Lists!$BM$2:$BP$78,4,FALSE))","v":""}]
[null,{"$f":"IF($E245=\"\",\"\",VLOOKUP($E245,Lists!$BM$2:$BP$78,2,FALSE))","v":""},{"$f":"IF($E245=\"\",\"\",VLOOKUP($E245,Lists!$BM$2:$BP$78,3,FALSE))","v":""},{"$f":"IF($E245=\"\",\"\",VLOOKUP($E245,Lists!$BM$2:$BP$78,4,FALSE))","v":""}]
[null,{"$f":"IF($E246=\"\",\"\",VLOOKUP($E246,Lists!$BM$2:$BP$78,2,FALSE))","v":""},{"$f":"IF($E246=\"\",\"\",VLOOKUP($E246,Lists!$BM$2:$BP$78,3,FALSE))","v":""},{"$f":"IF($E246=\"\",\"\",VLOOKUP($E246,Lists!$BM$2:$BP$78,4,FALSE))","v":""}]
[null,{"$f":"IF($E247=\"\",\"\",VLOOKUP($E247,Lists!$BM$2:$BP$78,2,FALSE))","v":""},{"$f":"IF($E247=\"\",\"\",VLOOKUP($E247,Lists!$BM$2:$BP$78,3,FALSE))","v":""},{"$f":"IF($E247=\"\",\"\",VLOOKUP($E247,Lists!$BM$2:$BP$78,4,FALSE))","v":""}]
[null,{"$f":"IF($E248=\"\",\"\",VLOOKUP($E248,Lists!$BM$2:$BP$78,2,FALSE))","v":""},{"$f":"IF($E248=\"\",\"\",VLOOKUP($E248,Lists!$BM$2:$BP$78,3,FALSE))","v":""},{"$f":"IF($E248=\"\",\"\",VLOOKUP($E248,Lists!$BM$2:$BP$78,4,FALSE))","v":""}]
[null,{"$f":"IF($E249=\"\",\"\",VLOOKUP($E249,Lists!$BM$2:$BP$78,2,FALSE))","v":""},{"$f":"IF($E249=\"\",\"\",VLOOKUP($E249,Lists!$BM$2:$BP$78,3,FALSE))","v":""},{"$f":"IF($E249=\"\",\"\",VLOOKUP($E249,Lists!$BM$2:$BP$78,4,FALSE))","v":""}]
[null,{"$f":"IF($E250=\"\",\"\",VLOOKUP($E250,Lists!$BM$2:$BP$78,2,FALSE))","v":""},{"$f":"IF($E250=\"\",\"\",VLOOKUP($E250,Lists!$BM$2:$BP$78,3,FALSE))","v":""},{"$f":"IF($E250=\"\",\"\",VLOOKUP($E250,Lists!$BM$2:$BP$78,4,FALSE))","v":""}]
[null,{"$f":"IF($E251=\"\",\"\",VLOOKUP($E251,Lists!$BM$2:$BP$78,2,FALSE))","v":""},{"$f":"IF($E251=\"\",\"\",VLOOKUP($E251,Lists!$BM$2:$BP$78,3,FALSE))","v":""},{"$f":"IF($E251=\"\",\"\",VLOOKUP($E251,Lists!$BM$2:$BP$78,4,FALSE))","v":""}]
[null,{"$f":"IF($E252=\"\",\"\",VLOOKUP($E252,Lists!$BM$2:$BP$78,2,FALSE))","v":""},{"$f":"IF($E252=\"\",\"\",VLOOKUP($E252,Lists!$BM$2:$BP$78,3,FALSE))","v":""},{"$f":"IF($E252=\"\",\"\",VLOOKUP($E252,Lists!$BM$2:$BP$78,4,FALSE))","v":""}]
[null,{"$f":"IF($E253=\"\",\"\",VLOOKUP($E253,Lists!$BM$2:$BP$78,2,FALSE))","v":""},{"$f":"IF($E253=\"\",\"\",VLOOKUP($E253,Lists!$BM$2:$BP$78,3,FALSE))","v":""},{"$f":"IF($E253=\"\",\"\",VLOOKUP($E253,Lists!$BM$2:$BP$78,4,FALSE))","v":""}]
[null,{"$f":"IF($E254=\"\",\"\",VLOOKUP($E254,Lists!$BM$2:$BP$78,2,FALSE))","v":""},{"$f":"IF($E254=\"\",\"\",VLOOKUP($E254,Lists!$BM$2:$BP$78,3,FALSE))","v":""},{"$f":"IF($E254=\"\",\"\",VLOOKUP($E254,Lists!$BM$2:$BP$78,4,FALSE))","v":""}]
[null,{"$f":"IF($E255=\"\",\"\",VLOOKUP($E255,Lists!$BM$2:$BP$78,2,FALSE))","v":""},{"$f":"IF($E255=\"\",\"\",VLOOKUP($E255,Lists!$BM$2:$BP$78,3,FALSE))","v":""},{"$f":"IF($E255=\"\",\"\",VLOOKUP($E255,Lists!$BM$2:$BP$78,4,FALSE))","v":""}]
[null,{"$f":"IF($E256=\"\",\"\",VLOOKUP($E256,Lists!$BM$2:$BP$78,2,FALSE))","v":""},{"$f":"IF($E256=\"\",\"\",VLOOKUP($E256,Lists!$BM$2:$BP$78,3,FALSE))","v":""},{"$f":"IF($E256=\"\",\"\",VLOOKUP($E256,Lists!$BM$2:$BP$78,4,FALSE))","v":""}]
[null,{"$f":"IF($E257=\"\",\"\",VLOOKUP($E257,Lists!$BM$2:$BP$78,2,FALSE))","v":""},{"$f":"IF($E257=\"\",\"\",VLOOKUP($E257,Lists!$BM$2:$BP$78,3,FALSE))","v":""},{"$f":"IF($E257=\"\",\"\",VLOOKUP($E257,Lists!$BM$2:$BP$78,4,FALSE))","v":""}]
[null,{"$f":"IF($E258=\"\",\"\",VLOOKUP($E258,Lists!$BM$2:$BP$78,2,FALSE))","v":""},{"$f":"IF($E258=\"\",\"\",VLOOKUP($E258,Lists!$BM$2:$BP$78,3,FALSE))","v":""},{"$f":"IF($E258=\"\",\"\",VLOOKUP($E258,Lists!$BM$2:$BP$78,4,FALSE))","v":""}]
[null,{"$f":"IF($E259=\"\",\"\",VLOOKUP($E259,Lists!$BM$2:$BP$78,2,FALSE))","v":""},{"$f":"IF($E259=\"\",\"\",VLOOKUP($E259,Lists!$BM$2:$BP$78,3,FALSE))","v":""},{"$f":"IF($E259=\"\",\"\",VLOOKUP($E259,Lists!$BM$2:$BP$78,4,FALSE))","v":""}]
[null,{"$f":"IF($E260=\"\",\"\",VLOOKUP($E260,Lists!$BM$2:$BP$78,2,FALSE))","v":""},{"$f":"IF($E260=\"\",\"\",VLOOKUP($E260,Lists!$BM$2:$BP$78,3,FALSE))","v":""},{"$f":"IF($E260=\"\",\"\",VLOOKUP($E260,Lists!$BM$2:$BP$78,4,FALSE))","v":""}]
[null,{"$f":"IF($E261=\"\",\"\",VLOOKUP($E261,Lists!$BM$2:$BP$78,2,FALSE))","v":""},{"$f":"IF($E261=\"\",\"\",VLOOKUP($E261,Lists!$BM$2:$BP$78,3,FALSE))","v":""},{"$f":"IF($E261=\"\",\"\",VLOOKUP($E261,Lists!$BM$2:$BP$78,4,FALSE))","v":""}]
[null,{"$f":"IF($E262=\"\",\"\",VLOOKUP($E262,Lists!$BM$2:$BP$78,2,FALSE))","v":""},{"$f":"IF($E262=\"\",\"\",VLOOKUP($E262,Lists!$BM$2:$BP$78,3,FALSE))","v":""},{"$f":"IF($E262=\"\",\"\",VLOOKUP($E262,Lists!$BM$2:$BP$78,4,FALSE))","v":""}]
[null,{"$f":"IF($E263=\"\",\"\",VLOOKUP($E263,Lists!$BM$2:$BP$78,2,FALSE))","v":""},{"$f":"IF($E263=\"\",\"\",VLOOKUP($E263,Lists!$BM$2:$BP$78,3,FALSE))","v":""},{"$f":"IF($E263=\"\",\"\",VLOOKUP($E263,Lists!$BM$2:$BP$78,4,FALSE))","v":""}]
[null,{"$f":"IF($E264=\"\",\"\",VLOOKUP($E264,Lists!$BM$2:$BP$78,2,FALSE))","v":""},{"$f":"IF($E264=\"\",\"\",VLOOKUP($E264,Lists!$BM$2:$BP$78,3,FALSE))","v":""},{"$f":"IF($E264=\"\",\"\",VLOOKUP($E264,Lists!$BM$2:$BP$78,4,FALSE))","v":""}]
[null,{"$f":"IF($E265=\"\",\"\",VLOOKUP($E265,Lists!$BM$2:$BP$78,2,FALSE))","v":""},{"$f":"IF($E265=\"\",\"\",VLOOKUP($E265,Lists!$BM$2:$BP$78,3,FALSE))","v":""},{"$f":"IF($E265=\"\",\"\",VLOOKUP($E265,Lists!$BM$2:$BP$78,4,FALSE))","v":""}]
[null,{"$f":"IF($E266=\"\",\"\",VLOOKUP($E266,Lists!$BM$2:$BP$78,2,FALSE))","v":""},{"$f":"IF($E266=\"\",\"\",VLOOKUP($E266,Lists!$BM$2:$BP$78,3,FALSE))","v":""},{"$f":"IF($E266=\"\",\"\",VLOOKUP($E266,Lists!$BM$2:$BP$78,4,FALSE))","v":""}]
[null,{"$f":"IF($E267=\"\",\"\",VLOOKUP($E267,Lists!$BM$2:$BP$78,2,FALSE))","v":""},{"$f":"IF($E267=\"\",\"\",VLOOKUP($E267,Lists!$BM$2:$BP$78,3,FALSE))","v":""},{"$f":"IF($E267=\"\",\"\",VLOOKUP($E267,Lists!$BM$2:$BP$78,4,FALSE))","v":""}]
[null,{"$f":"IF($E268=\"\",\"\",VLOOKUP($E268,Lists!$BM$2:$BP$78,2,FALSE))","v":""},{"$f":"IF($E268=\"\",\"\",VLOOKUP($E268,Lists!$BM$2:$BP$78,3,FALSE))","v":""},{"$f":"IF($E268=\"\",\"\",VLOOKUP($E268,Lists!$BM$2:$BP$78,4,FALSE))","v":""}]
[null,{"$f":"IF($E269=\"\",\"\",VLOOKUP($E269,Lists!$BM$2:$BP$78,2,FALSE))","v":""},{"$f":"IF($E269=\"\",\"\",VLOOKUP($E269,Lists!$BM$2:$BP$78,3,FALSE))","v":""},{"$f":"IF($E269=\"\",\"\",VLOOKUP($E269,Lists!$BM$2:$BP$78,4,FALSE))","v":""}]
[null,{"$f":"IF($E270=\"\",\"\",VLOOKUP($E270,Lists!$BM$2:$BP$78,2,FALSE))","v":""},{"$f":"IF($E270=\"\",\"\",VLOOKUP($E270,Lists!$BM$2:$BP$78,3,FALSE))","v":""},{"$f":"IF($E270=\"\",\"\",VLOOKUP($E270,Lists!$BM$2:$BP$78,4,FALSE))","v":""}]
[null,{"$f":"IF($E271=\"\",\"\",VLOOKUP($E271,Lists!$BM$2:$BP$78,2,FALSE))","v":""},{"$f":"IF($E271=\"\",\"\",VLOOKUP($E271,Lists!$BM$2:$BP$78,3,FALSE))","v":""},{"$f":"IF($E271=\"\",\"\",VLOOKUP($E271,Lists!$BM$2:$BP$78,4,FALSE))","v":""}]
[null,{"$f":"IF($E272=\"\",\"\",VLOOKUP($E272,Lists!$BM$2:$BP$78,2,FALSE))","v":""},{"$f":"IF($E272=\"\",\"\",VLOOKUP($E272,Lists!$BM$2:$BP$78,3,FALSE))","v":""},{"$f":"IF($E272=\"\",\"\",VLOOKUP($E272,Lists!$BM$2:$BP$78,4,FALSE))","v":""}]
[null,{"$f":"IF($E273=\"\",\"\",VLOOKUP($E273,Lists!$BM$2:$BP$78,2,FALSE))","v":""},{"$f":"IF($E273=\"\",\"\",VLOOKUP($E273,Lists!$BM$2:$BP$78,3,FALSE))","v":""},{"$f":"IF($E273=\"\",\"\",VLOOKUP($E273,Lists!$BM$2:$BP$78,4,FALSE))","v":""}]
[null,{"$f":"IF($E274=\"\",\"\",VLOOKUP($E274,Lists!$BM$2:$BP$78,2,FALSE))","v":""},{"$f":"IF($E274=\"\",\"\",VLOOKUP($E274,Lists!$BM$2:$BP$78,3,FALSE))","v":""},{"$f":"IF($E274=\"\",\"\",VLOOKUP($E274,Lists!$BM$2:$BP$78,4,FALSE))","v":""}]
[null,{"$f":"IF($E275=\"\",\"\",VLOOKUP($E275,Lists!$BM$2:$BP$78,2,FALSE))","v":""},{"$f":"IF($E275=\"\",\"\",VLOOKUP($E275,Lists!$BM$2:$BP$78,3,FALSE))","v":""},{"$f":"IF($E275=\"\",\"\",VLOOKUP($E275,Lists!$BM$2:$BP$78,4,FALSE))","v":""}]
[null,{"$f":"IF($E276=\"\",\"\",VLOOKUP($E276,Lists!$BM$2:$BP$78,2,FALSE))","v":""},{"$f":"IF($E276=\"\",\"\",VLOOKUP($E276,Lists!$BM$2:$BP$78,3,FALSE))","v":""},{"$f":"IF($E276=\"\",\"\",VLOOKUP($E276,Lists!$BM$2:$BP$78,4,FALSE))","v":""}]
[null,{"$f":"IF($E277=\"\",\"\",VLOOKUP($E277,Lists!$BM$2:$BP$78,2,FALSE))","v":""},{"$f":"IF($E277=\"\",\"\",VLOOKUP($E277,Lists!$BM$2:$BP$78,3,FALSE))","v":""},{"$f":"IF($E277=\"\",\"\",VLOOKUP($E277,Lists!$BM$2:$BP$78,4,FALSE))","v":""}]
[null,{"$f":"IF($E278=\"\",\"\",VLOOKUP($E278,Lists!$BM$2:$BP$78,2,FALSE))","v":""},{"$f":"IF($E278=\"\",\"\",VLOOKUP($E278,Lists!$BM$2:$BP$78,3,FALSE))","v":""},{"$f":"IF($E278=\"\",\"\",VLOOKUP($E278,Lists!$BM$2:$BP$78,4,FALSE))","v":""}]
[null,{"$f":"IF($E279=\"\",\"\",VLOOKUP($E279,Lists!$BM$2:$BP$78,2,FALSE))","v":""},{"$f":"IF($E279=\"\",\"\",VLOOKUP($E279,Lists!$BM$2:$BP$78,3,FALSE))","v":""},{"$f":"IF($E279=\"\",\"\",VLOOKUP($E279,Lists!$BM$2:$BP$78,4,FALSE))","v":""}]
[null,{"$f":"IF($E280=\"\",\"\",VLOOKUP($E280,Lists!$BM$2:$BP$78,2,FALSE))","v":""},{"$f":"IF($E280=\"\",\"\",VLOOKUP($E280,Lists!$BM$2:$BP$78,3,FALSE))","v":""},{"$f":"IF($E280=\"\",\"\",VLOOKUP($E280,Lists!$BM$2:$BP$78,4,FALSE))","v":""}]
[null,{"$f":"IF($E281=\"\",\"\",VLOOKUP($E281,Lists!$BM$2:$BP$78,2,FALSE))","v":""},{"$f":"IF($E281=\"\",\"\",VLOOKUP($E281,Lists!$BM$2:$BP$78,3,FALSE))","v":""},{"$f":"IF($E281=\"\",\"\",VLOOKUP($E281,Lists!$BM$2:$BP$78,4,FALSE))","v":""}]
[null,{"$f":"IF($E282=\"\",\"\",VLOOKUP($E282,Lists!$BM$2:$BP$78,2,FALSE))","v":""},{"$f":"IF($E282=\"\",\"\",VLOOKUP($E282,Lists!$BM$2:$BP$78,3,FALSE))","v":""},{"$f":"IF($E282=\"\",\"\",VLOOKUP($E282,Lists!$BM$2:$BP$78,4,FALSE))","v":""}]
[null,{"$f":"IF($E283=\"\",\"\",VLOOKUP($E283,Lists!$BM$2:$BP$78,2,FALSE))","v":""},{"$f":"IF($E283=\"\",\"\",VLOOKUP($E283,Lists!$BM$2:$BP$78,3,FALSE))","v":""},{"$f":"IF($E283=\"\",\"\",VLOOKUP($E283,Lists!$BM$2:$BP$78,4,FALSE))","v":""}]
[null,{"$f":"IF($E284=\"\",\"\",VLOOKUP($E284,Lists!$BM$2:$BP$78,2,FALSE))","v":""},{"$f":"IF($E284=\"\",\"\",VLOOKUP($E284,Lists!$BM$2:$BP$78,3,FALSE))","v":""},{"$f":"IF($E284=\"\",\"\",VLOOKUP($E284,Lists!$BM$2:$BP$78,4,FALSE))","v":""}]
[null,{"$f":"IF($E285=\"\",\"\",VLOOKUP($E285,Lists!$BM$2:$BP$78,2,FALSE))","v":""},{"$f":"IF($E285=\"\",\"\",VLOOKUP($E285,Lists!$BM$2:$BP$78,3,FALSE))","v":""},{"$f":"IF($E285=\"\",\"\",VLOOKUP($E285,Lists!$BM$2:$BP$78,4,FALSE))","v":""}]
[null,{"$f":"IF($E286=\"\",\"\",VLOOKUP($E286,Lists!$BM$2:$BP$78,2,FALSE))","v":""},{"$f":"IF($E286=\"\",\"\",VLOOKUP($E286,Lists!$BM$2:$BP$78,3,FALSE))","v":""},{"$f":"IF($E286=\"\",\"\",VLOOKUP($E286,Lists!$BM$2:$BP$78,4,FALSE))","v":""}]
[null,{"$f":"IF($E287=\"\",\"\",VLOOKUP($E287,Lists!$BM$2:$BP$78,2,FALSE))","v":""},{"$f":"IF($E287=\"\",\"\",VLOOKUP($E287,Lists!$BM$2:$BP$78,3,FALSE))","v":""},{"$f":"IF($E287=\"\",\"\",VLOOKUP($E287,Lists!$BM$2:$BP$78,4,FALSE))","v":""}]
[null,{"$f":"IF($E288=\"\",\"\",VLOOKUP($E288,Lists!$BM$2:$BP$78,2,FALSE))","v":""},{"$f":"IF($E288=\"\",\"\",VLOOKUP($E288,Lists!$BM$2:$BP$78,3,FALSE))","v":""},{"$f":"IF($E288=\"\",\"\",VLOOKUP($E288,Lists!$BM$2:$BP$78,4,FALSE))","v":""}]
[null,{"$f":"IF($E289=\"\",\"\",VLOOKUP($E289,Lists!$BM$2:$BP$78,2,FALSE))","v":""},{"$f":"IF($E289=\"\",\"\",VLOOKUP($E289,Lists!$BM$2:$BP$78,3,FALSE))","v":""},{"$f":"IF($E289=\"\",\"\",VLOOKUP($E289,Lists!$BM$2:$BP$78,4,FALSE))","v":""}]
[null,{"$f":"IF($E290=\"\",\"\",VLOOKUP($E290,Lists!$BM$2:$BP$78,2,FALSE))","v":""},{"$f":"IF($E290=\"\",\"\",VLOOKUP($E290,Lists!$BM$2:$BP$78,3,FALSE))","v":""},{"$f":"IF($E290=\"\",\"\",VLOOKUP($E290,Lists!$BM$2:$BP$78,4,FALSE))","v":""}]
[null,{"$f":"IF($E291=\"\",\"\",VLOOKUP($E291,Lists!$BM$2:$BP$78,2,FALSE))","v":""},{"$f":"IF($E291=\"\",\"\",VLOOKUP($E291,Lists!$BM$2:$BP$78,3,FALSE))","v":""},{"$f":"IF($E291=\"\",\"\",VLOOKUP($E291,Lists!$BM$2:$BP$78,4,FALSE))","v":""}]
[null,{"$f":"IF($E292=\"\",\"\",VLOOKUP($E292,Lists!$BM$2:$BP$78,2,FALSE))","v":""},{"$f":"IF($E292=\"\",\"\",VLOOKUP($E292,Lists!$BM$2:$BP$78,3,FALSE))","v":""},{"$f":"IF($E292=\"\",\"\",VLOOKUP($E292,Lists!$BM$2:$BP$78,4,FALSE))","v":""}]
[null,{"$f":"IF($E293=\"\",\"\",VLOOKUP($E293,Lists!$BM$2:$BP$78,2,FALSE))","v":""},{"$f":"IF($E293=\"\",\"\",VLOOKUP($E293,Lists!$BM$2:$BP$78,3,FALSE))","v":""},{"$f":"IF($E293=\"\",\"\",VLOOKUP($E293,Lists!$BM$2:$BP$78,4,FALSE))","v":""}]
[null,{"$f":"IF($E294=\"\",\"\",VLOOKUP($E294,Lists!$BM$2:$BP$78,2,FALSE))","v":""},{"$f":"IF($E294=\"\",\"\",VLOOKUP($E294,Lists!$BM$2:$BP$78,3,FALSE))","v":""},{"$f":"IF($E294=\"\",\"\",VLOOKUP($E294,Lists!$BM$2:$BP$78,4,FALSE))","v":""}]
[null,{"$f":"IF($E295=\"\",\"\",VLOOKUP($E295,Lists!$BM$2:$BP$78,2,FALSE))","v":""},{"$f":"IF($E295=\"\",\"\",VLOOKUP($E295,Lists!$BM$2:$BP$78,3,FALSE))","v":""},{"$f":"IF($E295=\"\",\"\",VLOOKUP($E295,Lists!$BM$2:$BP$78,4,FALSE))","v":""}]
[null,{"$f":"IF($E296=\"\",\"\",VLOOKUP($E296,Lists!$BM$2:$BP$78,2,FALSE))","v":""},{"$f":"IF($E296=\"\",\"\",VLOOKUP($E296,Lists!$BM$2:$BP$78,3,FALSE))","v":""},{"$f":"IF($E296=\"\",\"\",VLOOKUP($E296,Lists!$BM$2:$BP$78,4,FALSE))","v":""}]
[null,{"$f":"IF($E297=\"\",\"\",VLOOKUP($E297,Lists!$BM$2:$BP$78,2,FALSE))","v":""},{"$f":"IF($E297=\"\",\"\",VLOOKUP($E297,Lists!$BM$2:$BP$78,3,FALSE))","v":""},{"$f":"IF($E297=\"\",\"\",VLOOKUP($E297,Lists!$BM$2:$BP$78,4,FALSE))","v":""}]
[null,{"$f":"IF($E298=\"\",\"\",VLOOKUP($E298,Lists!$BM$2:$BP$78,2,FALSE))","v":""},{"$f":"IF($E298=\"\",\"\",VLOOKUP($E298,Lists!$BM$2:$BP$78,3,FALSE))","v":""},{"$f":"IF($E298=\"\",\"\",VLOOKUP($E298,Lists!$BM$2:$BP$78,4,FALSE))","v":""}]
[null,{"$f":"IF($E299=\"\",\"\",VLOOKUP($E299,Lists!$BM$2:$BP$78,2,FALSE))","v":""},{"$f":"IF($E299=\"\",\"\",VLOOKUP($E299,Lists!$BM$2:$BP$78,3,FALSE))","v":""},{"$f":"IF($E299=\"\",\"\",VLOOKUP($E299,Lists!$BM$2:$BP$78,4,FALSE))","v":""}]
[null,{"$f":"IF($E300=\"\",\"\",VLOOKUP($E300,Lists!$BM$2:$BP$78,2,FALSE))","v":""},{"$f":"IF($E300=\"\",\"\",VLOOKUP($E300,Lists!$BM$2:$BP$78,3,FALSE))","v":""},{"$f":"IF($E300=\"\",\"\",VLOOKUP($E300,Lists!$BM$2:$BP$78,4,FALSE))","v":""}]
[null,{"$f":"IF($E301=\"\",\"\",VLOOKUP($E301,Lists!$BM$2:$BP$78,2,FALSE))","v":""},{"$f":"IF($E301=\"\",\"\",VLOOKUP($E301,Lists!$BM$2:$BP$78,3,FALSE))","v":""},{"$f":"IF($E301=\"\",\"\",VLOOKUP($E301,Lists!$BM$2:$BP$78,4,FALSE))","v":""}]
[null,{"$f":"IF($E302=\"\",\"\",VLOOKUP($E302,Lists!$BM$2:$BP$78,2,FALSE))","v":""},{"$f":"IF($E302=\"\",\"\",VLOOKUP($E302,Lists!$BM$2:$BP$78,3,FALSE))","v":""},{"$f":"IF($E302=\"\",\"\",VLOOKUP($E302,Lists!$BM$2:$BP$78,4,FALSE))","v":""}]
[null,{"$f":"IF($E303=\"\",\"\",VLOOKUP($E303,Lists!$BM$2:$BP$78,2,FALSE))","v":""},{"$f":"IF($E303=\"\",\"\",VLOOKUP($E303,Lists!$BM$2:$BP$78,3,FALSE))","v":""},{"$f":"IF($E303=\"\",\"\",VLOOKUP($E303,Lists!$BM$2:$BP$78,4,FALSE))","v":""}]
[null,{"$f":"IF($E304=\"\",\"\",VLOOKUP($E304,Lists!$BM$2:$BP$78,2,FALSE))","v":""},{"$f":"IF($E304=\"\",\"\",VLOOKUP($E304,Lists!$BM$2:$BP$78,3,FALSE))","v":""},{"$f":"IF($E304=\"\",\"\",VLOOKUP($E304,Lists!$BM$2:$BP$78,4,FALSE))","v":""}]
[null,{"$f":"IF($E305=\"\",\"\",VLOOKUP($E305,Lists!$BM$2:$BP$78,2,FALSE))","v":""},{"$f":"IF($E305=\"\",\"\",VLOOKUP($E305,Lists!$BM$2:$BP$78,3,FALSE))","v":""},{"$f":"IF($E305=\"\",\"\",VLOOKUP($E305,Lists!$BM$2:$BP$78,4,FALSE))","v":""}]
[null,{"$f":"IF($E306=\"\",\"\",VLOOKUP($E306,Lists!$BM$2:$BP$78,2,FALSE))","v":""},{"$f":"IF($E306=\"\",\"\",VLOOKUP($E306,Lists!$BM$2:$BP$78,3,FALSE))","v":""},{"$f":"IF($E306=\"\",\"\",VLOOKUP($E306,Lists!$BM$2:$BP$78,4,FALSE))","v":""}]
[null,{"$f":"IF($E307=\"\",\"\",VLOOKUP($E307,Lists!$BM$2:$BP$78,2,FALSE))","v":""},{"$f":"IF($E307=\"\",\"\",VLOOKUP($E307,Lists!$BM$2:$BP$78,3,FALSE))","v":""},{"$f":"IF($E307=\"\",\"\",VLOOKUP($E307,Lists!$BM$2:$BP$78,4,FALSE))","v":""}]
[null,{"$f":"IF($E308=\"\",\"\",VLOOKUP($E308,Lists!$BM$2:$BP$78,2,FALSE))","v":""},{"$f":"IF($E308=\"\",\"\",VLOOKUP($E308,Lists!$BM$2:$BP$78,3,FALSE))","v":""},{"$f":"IF($E308=\"\",\"\",VLOOKUP($E308,Lists!$BM$2:$BP$78,4,FALSE))","v":""}]
[null,{"$f":"IF($E309=\"\",\"\",VLOOKUP($E309,Lists!$BM$2:$BP$78,2,FALSE))","v":""},{"$f":"IF($E309=\"\",\"\",VLOOKUP($E309,Lists!$BM$2:$BP$78,3,FALSE))","v":""},{"$f":"IF($E309=\"\",\"\",VLOOKUP($E309,Lists!$BM$2:$BP$78,4,FALSE))","v":""}]
[null,{"$f":"IF($E310=\"\",\"\",VLOOKUP($E310,Lists!$BM$2:$BP$78,2,FALSE))","v":""},{"$f":"IF($E310=\"\",\"\",VLOOKUP($E310,Lists!$BM$2:$BP$78,3,FALSE))","v":""},{"$f":"IF($E310=\"\",\"\",VLOOKUP($E310,Lists!$BM$2:$BP$78,4,FALSE))","v":""}]
[null,{"$f":"IF($E311=\"\",\"\",VLOOKUP($E311,Lists!$BM$2:$BP$78,2,FALSE))","v":""},{"$f":"IF($E311=\"\",\"\",VLOOKUP($E311,Lists!$BM$2:$BP$78,3,FALSE))","v":""},{"$f":"IF($E311=\"\",\"\",VLOOKUP($E311,Lists!$BM$2:$BP$78,4,FALSE))","v":""}]
[null,{"$f":"IF($E312=\"\",\"\",VLOOKUP($E312,Lists!$BM$2:$BP$78,2,FALSE))","v":""},{"$f":"IF($E312=\"\",\"\",VLOOKUP($E312,Lists!$BM$2:$BP$78,3,FALSE))","v":""},{"$f":"IF($E312=\"\",\"\",VLOOKUP($E312,Lists!$BM$2:$BP$78,4,FALSE))","v":""}]
[null,{"$f":"IF($E313=\"\",\"\",VLOOKUP($E313,Lists!$BM$2:$BP$78,2,FALSE))","v":""},{"$f":"IF($E313=\"\",\"\",VLOOKUP($E313,Lists!$BM$2:$BP$78,3,FALSE))","v":""},{"$f":"IF($E313=\"\",\"\",VLOOKUP($E313,Lists!$BM$2:$BP$78,4,FALSE))","v":""}]
[null,{"$f":"IF($E314=\"\",\"\",VLOOKUP($E314,Lists!$BM$2:$BP$78,2,FALSE))","v":""},{"$f":"IF($E314=\"\",\"\",VLOOKUP($E314,Lists!$BM$2:$BP$78,3,FALSE))","v":""},{"$f":"IF($E314=\"\",\"\",VLOOKUP($E314,Lists!$BM$2:$BP$78,4,FALSE))","v":""}]
[null,{"$f":"IF($E315=\"\",\"\",VLOOKUP($E315,Lists!$BM$2:$BP$78,2,FALSE))","v":""},{"$f":"IF($E315=\"\",\"\",VLOOKUP($E315,Lists!$BM$2:$BP$78,3,FALSE))","v":""},{"$f":"IF($E315=\"\",\"\",VLOOKUP($E315,Lists!$BM$2:$BP$78,4,FALSE))","v":""}]
[null,{"$f":"IF($E316=\"\",\"\",VLOOKUP($E316,Lists!$BM$2:$BP$78,2,FALSE))","v":""},{"$f":"IF($E316=\"\",\"\",VLOOKUP($E316,Lists!$BM$2:$BP$78,3,FALSE))","v":""},{"$f":"IF($E316=\"\",\"\",VLOOKUP($E316,Lists!$BM$2:$BP$78,4,FALSE))","v":""}]
[null,{"$f":"IF($E317=\"\",\"\",VLOOKUP($E317,Lists!$BM$2:$BP$78,2,FALSE))","v":""},{"$f":"IF($E317=\"\",\"\",VLOOKUP($E317,Lists!$BM$2:$BP$78,3,FALSE))","v":""},{"$f":"IF($E317=\"\",\"\",VLOOKUP($E317,Lists!$BM$2:$BP$78,4,FALSE))","v":""}]
[null,{"$f":"IF($E318=\"\",\"\",VLOOKUP($E318,Lists!$BM$2:$BP$78,2,FALSE))","v":""},{"$f":"IF($E318=\"\",\"\",VLOOKUP($E318,Lists!$BM$2:$BP$78,3,FALSE))","v":""},{"$f":"IF($E318=\"\",\"\",VLOOKUP($E318,Lists!$BM$2:$BP$78,4,FALSE))","v":""}]
[null,{"$f":"IF($E319=\"\",\"\",VLOOKUP($E319,Lists!$BM$2:$BP$78,2,FALSE))","v":""},{"$f":"IF($E319=\"\",\"\",VLOOKUP($E319,Lists!$BM$2:$BP$78,3,FALSE))","v":""},{"$f":"IF($E319=\"\",\"\",VLOOKUP($E319,Lists!$BM$2:$BP$78,4,FALSE))","v":""}]
[null,{"$f":"IF($E320=\"\",\"\",VLOOKUP($E320,Lists!$BM$2:$BP$78,2,FALSE))","v":""},{"$f":"IF($E320=\"\",\"\",VLOOKUP($E320,Lists!$BM$2:$BP$78,3,FALSE))","v":""},{"$f":"IF($E320=\"\",\"\",VLOOKUP($E320,Lists!$BM$2:$BP$78,4,FALSE))","v":""}]
[null,{"$f":"IF($E321=\"\",\"\",VLOOKUP($E321,Lists!$BM$2:$BP$78,2,FALSE))","v":""},{"$f":"IF($E321=\"\",\"\",VLOOKUP($E321,Lists!$BM$2:$BP$78,3,FALSE))","v":""},{"$f":"IF($E321=\"\",\"\",VLOOKUP($E321,Lists!$BM$2:$BP$78,4,FALSE))","v":""}]
[null,{"$f":"IF($E322=\"\",\"\",VLOOKUP($E322,Lists!$BM$2:$BP$78,2,FALSE))","v":""},{"$f":"IF($E322=\"\",\"\",VLOOKUP($E322,Lists!$BM$2:$BP$78,3,FALSE))","v":""},{"$f":"IF($E322=\"\",\"\",VLOOKUP($E322,Lists!$BM$2:$BP$78,4,FALSE))","v":""}]
[null,{"$f":"IF($E323=\"\",\"\",VLOOKUP($E323,Lists!$BM$2:$BP$78,2,FALSE))","v":""},{"$f":"IF($E323=\"\",\"\",VLOOKUP($E323,Lists!$BM$2:$BP$78,3,FALSE))","v":""},{"$f":"IF($E323=\"\",\"\",VLOOKUP($E323,Lists!$BM$2:$BP$78,4,FALSE))","v":""}]
[null,{"$f":"IF($E324=\"\",\"\",VLOOKUP($E324,Lists!$BM$2:$BP$78,2,FALSE))","v":""},{"$f":"IF($E324=\"\",\"\",VLOOKUP($E324,Lists!$BM$2:$BP$78,3,FALSE))","v":""},{"$f":"IF($E324=\"\",\"\",VLOOKUP($E324,Lists!$BM$2:$BP$78,4,FALSE))","v":""}]
[null,{"$f":"IF($E325=\"\",\"\",VLOOKUP($E325,Lists!$BM$2:$BP$78,2,FALSE))","v":""},{"$f":"IF($E325=\"\",\"\",VLOOKUP($E325,Lists!$BM$2:$BP$78,3,FALSE))","v":""},{"$f":"IF($E325=\"\",\"\",VLOOKUP($E325,Lists!$BM$2:$BP$78,4,FALSE))","v":""}]
[null,{"$f":"IF($E326=\"\",\"\",VLOOKUP($E326,Lists!$BM$2:$BP$78,2,FALSE))","v":""},{"$f":"IF($E326=\"\",\"\",VLOOKUP($E326,Lists!$BM$2:$BP$78,3,FALSE))","v":""},{"$f":"IF($E326=\"\",\"\",VLOOKUP($E326,Lists!$BM$2:$BP$78,4,FALSE))","v":""}]
[null,{"$f":"IF($E327=\"\",\"\",VLOOKUP($E327,Lists!$BM$2:$BP$78,2,FALSE))","v":""},{"$f":"IF($E327=\"\",\"\",VLOOKUP($E327,Lists!$BM$2:$BP$78,3,FALSE))","v":""},{"$f":"IF($E327=\"\",\"\",VLOOKUP($E327,Lists!$BM$2:$BP$78,4,FALSE))","v":""}]
[null,{"$f":"IF($E328=\"\",\"\",VLOOKUP($E328,Lists!$BM$2:$BP$78,2,FALSE))","v":""},{"$f":"IF($E328=\"\",\"\",VLOOKUP($E328,Lists!$BM$2:$BP$78,3,FALSE))","v":""},{"$f":"IF($E328=\"\",\"\",VLOOKUP($E328,Lists!$BM$2:$BP$78,4,FALSE))","v":""}]
[null,{"$f":"IF($E329=\"\",\"\",VLOOKUP($E329,Lists!$BM$2:$BP$78,2,FALSE))","v":""},{"$f":"IF($E329=\"\",\"\",VLOOKUP($E329,Lists!$BM$2:$BP$78,3,FALSE))","v":""},{"$f":"IF($E329=\"\",\"\",VLOOKUP($E329,Lists!$BM$2:$BP$78,4,FALSE))","v":""}]
[null,{"$f":"IF($E330=\"\",\"\",VLOOKUP($E330,Lists!$BM$2:$BP$78,2,FALSE))","v":""},{"$f":"IF($E330=\"\",\"\",VLOOKUP($E330,Lists!$BM$2:$BP$78,3,FALSE))","v":""},{"$f":"IF($E330=\"\",\"\",VLOOKUP($E330,Lists!$BM$2:$BP$78,4,FALSE))","v":""}]
[null,{"$f":"IF($E331=\"\",\"\",VLOOKUP($E331,Lists!$BM$2:$BP$78,2,FALSE))","v":""},{"$f":"IF($E331=\"\",\"\",VLOOKUP($E331,Lists!$BM$2:$BP$78,3,FALSE))","v":""},{"$f":"IF($E331=\"\",\"\",VLOOKUP($E331,Lists!$BM$2:$BP$78,4,FALSE))","v":""}]
[null,{"$f":"IF($E332=\"\",\"\",VLOOKUP($E332,Lists!$BM$2:$BP$78,2,FALSE))","v":""},{"$f":"IF($E332=\"\",\"\",VLOOKUP($E332,Lists!$BM$2:$BP$78,3,FALSE))","v":""},{"$f":"IF($E332=\"\",\"\",VLOOKUP($E332,Lists!$BM$2:$BP$78,4,FALSE))","v":""}]
[null,{"$f":"IF($E333=\"\",\"\",VLOOKUP($E333,Lists!$BM$2:$BP$78,2,FALSE))","v":""},{"$f":"IF($E333=\"\",\"\",VLOOKUP($E333,Lists!$BM$2:$BP$78,3,FALSE))","v":""},{"$f":"IF($E333=\"\",\"\",VLOOKUP($E333,Lists!$BM$2:$BP$78,4,FALSE))","v":""}]
[null,{"$f":"IF($E334=\"\",\"\",VLOOKUP($E334,Lists!$BM$2:$BP$78,2,FALSE))","v":""},{"$f":"IF($E334=\"\",\"\",VLOOKUP($E334,Lists!$BM$2:$BP$78,3,FALSE))","v":""},{"$f":"IF($E334=\"\",\"\",VLOOKUP($E334,Lists!$BM$2:$BP$78,4,FALSE))","v":""}]
[null,{"$f":"IF($E335=\"\",\"\",VLOOKUP($E335,Lists!$BM$2:$BP$78,2,FALSE))","v":""},{"$f":"IF($E335=\"\",\"\",VLOOKUP($E335,Lists!$BM$2:$BP$78,3,FALSE))","v":""},{"$f":"IF($E335=\"\",\"\",VLOOKUP($E335,Lists!$BM$2:$BP$78,4,FALSE))","v":""}]
[null,{"$f":"IF($E336=\"\",\"\",VLOOKUP($E336,Lists!$BM$2:$BP$78,2,FALSE))","v":""},{"$f":"IF($E336=\"\",\"\",VLOOKUP($E336,Lists!$BM$2:$BP$78,3,FALSE))","v":""},{"$f":"IF($E336=\"\",\"\",VLOOKUP($E336,Lists!$BM$2:$BP$78,4,FALSE))","v":""}]
[null,{"$f":"IF($E337=\"\",\"\",VLOOKUP($E337,Lists!$BM$2:$BP$78,2,FALSE))","v":""},{"$f":"IF($E337=\"\",\"\",VLOOKUP($E337,Lists!$BM$2:$BP$78,3,FALSE))","v":""},{"$f":"IF($E337=\"\",\"\",VLOOKUP($E337,Lists!$BM$2:$BP$78,4,FALSE))","v":""}]
[null,{"$f":"IF($E338=\"\",\"\",VLOOKUP($E338,Lists!$BM$2:$BP$78,2,FALSE))","v":""},{"$f":"IF($E338=\"\",\"\",VLOOKUP($E338,Lists!$BM$2:$BP$78,3,FALSE))","v":""},{"$f":"IF($E338=\"\",\"\",VLOOKUP($E338,Lists!$BM$2:$BP$78,4,FALSE))","v":""}]
[null,{"$f":"IF($E339=\"\",\"\",VLOOKUP($E339,Lists!$BM$2:$BP$78,2,FALSE))","v":""},{"$f":"IF($E339=\"\",\"\",VLOOKUP($E339,Lists!$BM$2:$BP$78,3,FALSE))","v":""},{"$f":"IF($E339=\"\",\"\",VLOOKUP($E339,Lists!$BM$2:$BP$78,4,FALSE))","v":""}]
[null,{"$f":"IF($E340=\"\",\"\",VLOOKUP($E340,Lists!$BM$2:$BP$78,2,FALSE))","v":""},{"$f":"IF($E340=\"\",\"\",VLOOKUP($E340,Lists!$BM$2:$BP$78,3,FALSE))","v":""},{"$f":"IF($E340=\"\",\"\",VLOOKUP($E340,Lists!$BM$2:$BP$78,4,FALSE))","v":""}]
[null,{"$f":"IF($E341=\"\",\"\",VLOOKUP($E341,Lists!$BM$2:$BP$78,2,FALSE))","v":""},{"$f":"IF($E341=\"\",\"\",VLOOKUP($E341,Lists!$BM$2:$BP$78,3,FALSE))","v":""},{"$f":"IF($E341=\"\",\"\",VLOOKUP($E341,Lists!$BM$2:$BP$78,4,FALSE))","v":""}]
[null,{"$f":"IF($E342=\"\",\"\",VLOOKUP($E342,Lists!$BM$2:$BP$78,2,FALSE))","v":""},{"$f":"IF($E342=\"\",\"\",VLOOKUP($E342,Lists!$BM$2:$BP$78,3,FALSE))","v":""},{"$f":"IF($E342=\"\",\"\",VLOOKUP($E342,Lists!$BM$2:$BP$78,4,FALSE))","v":""}]
[null,{"$f":"IF($E343=\"\",\"\",VLOOKUP($E343,Lists!$BM$2:$BP$78,2,FALSE))","v":""},{"$f":"IF($E343=\"\",\"\",VLOOKUP($E343,Lists!$BM$2:$BP$78,3,FALSE))","v":""},{"$f":"IF($E343=\"\",\"\",VLOOKUP($E343,Lists!$BM$2:$BP$78,4,FALSE))","v":""}]
[null,{"$f":"IF($E344=\"\",\"\",VLOOKUP($E344,Lists!$BM$2:$BP$78,2,FALSE))","v":""},{"$f":"IF($E344=\"\",\"\",VLOOKUP($E344,Lists!$BM$2:$BP$78,3,FALSE))","v":""},{"$f":"IF($E344=\"\",\"\",VLOOKUP($E344,Lists!$BM$2:$BP$78,4,FALSE))","v":""}]
[null,{"$f":"IF($E345=\"\",\"\",VLOOKUP($E345,Lists!$BM$2:$BP$78,2,FALSE))","v":""},{"$f":"IF($E345=\"\",\"\",VLOOKUP($E345,Lists!$BM$2:$BP$78,3,FALSE))","v":""},{"$f":"IF($E345=\"\",\"\",VLOOKUP($E345,Lists!$BM$2:$BP$78,4,FALSE))","v":""}]
[null,{"$f":"IF($E346=\"\",\"\",VLOOKUP($E346,Lists!$BM$2:$BP$78,2,FALSE))","v":""},{"$f":"IF($E346=\"\",\"\",VLOOKUP($E346,Lists!$BM$2:$BP$78,3,FALSE))","v":""},{"$f":"IF($E346=\"\",\"\",VLOOKUP($E346,Lists!$BM$2:$BP$78,4,FALSE))","v":""}]
[null,{"$f":"IF($E347=\"\",\"\",VLOOKUP($E347,Lists!$BM$2:$BP$78,2,FALSE))","v":""},{"$f":"IF($E347=\"\",\"\",VLOOKUP($E347,Lists!$BM$2:$BP$78,3,FALSE))","v":""},{"$f":"IF($E347=\"\",\"\",VLOOKUP($E347,Lists!$BM$2:$BP$78,4,FALSE))","v":""}]
[null,{"$f":"IF($E348=\"\",\"\",VLOOKUP($E348,Lists!$BM$2:$BP$78,2,FALSE))","v":""},{"$f":"IF($E348=\"\",\"\",VLOOKUP($E348,Lists!$BM$2:$BP$78,3,FALSE))","v":""},{"$f":"IF($E348=\"\",\"\",VLOOKUP($E348,Lists!$BM$2:$BP$78,4,FALSE))","v":""}]
[null,{"$f":"IF($E349=\"\",\"\",VLOOKUP($E349,Lists!$BM$2:$BP$78,2,FALSE))","v":""},{"$f":"IF($E349=\"\",\"\",VLOOKUP($E349,Lists!$BM$2:$BP$78,3,FALSE))","v":""},{"$f":"IF($E349=\"\",\"\",VLOOKUP($E349,Lists!$BM$2:$BP$78,4,FALSE))","v":""}]
[null,{"$f":"IF($E350=\"\",\"\",VLOOKUP($E350,Lists!$BM$2:$BP$78,2,FALSE))","v":""},{"$f":"IF($E350=\"\",\"\",VLOOKUP($E350,Lists!$BM$2:$BP$78,3,FALSE))","v":""},{"$f":"IF($E350=\"\",\"\",VLOOKUP($E350,Lists!$BM$2:$BP$78,4,FALSE))","v":""}]
[null,{"$f":"IF($E351=\"\",\"\",VLOOKUP($E351,Lists!$BM$2:$BP$78,2,FALSE))","v":""},{"$f":"IF($E351=\"\",\"\",VLOOKUP($E351,Lists!$BM$2:$BP$78,3,FALSE))","v":""},{"$f":"IF($E351=\"\",\"\",VLOOKUP($E351,Lists!$BM$2:$BP$78,4,FALSE))","v":""}]
[null,{"$f":"IF($E352=\"\",\"\",VLOOKUP($E352,Lists!$BM$2:$BP$78,2,FALSE))","v":""},{"$f":"IF($E352=\"\",\"\",VLOOKUP($E352,Lists!$BM$2:$BP$78,3,FALSE))","v":""},{"$f":"IF($E352=\"\",\"\",VLOOKUP($E352,Lists!$BM$2:$BP$78,4,FALSE))","v":""}]
[null,{"$f":"IF($E353=\"\",\"\",VLOOKUP($E353,Lists!$BM$2:$BP$78,2,FALSE))","v":""},{"$f":"IF($E353=\"\",\"\",VLOOKUP($E353,Lists!$BM$2:$BP$78,3,FALSE))","v":""},{"$f":"IF($E353=\"\",\"\",VLOOKUP($E353,Lists!$BM$2:$BP$78,4,FALSE))","v":""}]
[null,{"$f":"IF($E354=\"\",\"\",VLOOKUP($E354,Lists!$BM$2:$BP$78,2,FALSE))","v":""},{"$f":"IF($E354=\"\",\"\",VLOOKUP($E354,Lists!$BM$2:$BP$78,3,FALSE))","v":""},{"$f":"IF($E354=\"\",\"\",VLOOKUP($E354,Lists!$BM$2:$BP$78,4,FALSE))","v":""}]
[null,{"$f":"IF($E355=\"\",\"\",VLOOKUP($E355,Lists!$BM$2:$BP$78,2,FALSE))","v":""},{"$f":"IF($E355=\"\",\"\",VLOOKUP($E355,Lists!$BM$2:$BP$78,3,FALSE))","v":""},{"$f":"IF($E355=\"\",\"\",VLOOKUP($E355,Lists!$BM$2:$BP$78,4,FALSE))","v":""}]
[null,{"$f":"IF($E356=\"\",\"\",VLOOKUP($E356,Lists!$BM$2:$BP$78,2,FALSE))","v":""},{"$f":"IF($E356=\"\",\"\",VLOOKUP($E356,Lists!$BM$2:$BP$78,3,FALSE))","v":""},{"$f":"IF($E356=\"\",\"\",VLOOKUP($E356,Lists!$BM$2:$BP$78,4,FALSE))","v":""}]
[null,{"$f":"IF($E357=\"\",\"\",VLOOKUP($E357,Lists!$BM$2:$BP$78,2,FALSE))","v":""},{"$f":"IF($E357=\"\",\"\",VLOOKUP($E357,Lists!$BM$2:$BP$78,3,FALSE))","v":""},{"$f":"IF($E357=\"\",\"\",VLOOKUP($E357,Lists!$BM$2:$BP$78,4,FALSE))","v":""}]
[null,{"$f":"IF($E358=\"\",\"\",VLOOKUP($E358,Lists!$BM$2:$BP$78,2,FALSE))","v":""},{"$f":"IF($E358=\"\",\"\",VLOOKUP($E358,Lists!$BM$2:$BP$78,3,FALSE))","v":""},{"$f":"IF($E358=\"\",\"\",VLOOKUP($E358,Lists!$BM$2:$BP$78,4,FALSE))","v":""}]
[null,{"$f":"IF($E359=\"\",\"\",VLOOKUP($E359,Lists!$BM$2:$BP$78,2,FALSE))","v":""},{"$f":"IF($E359=\"\",\"\",VLOOKUP($E359,Lists!$BM$2:$BP$78,3,FALSE))","v":""},{"$f":"IF($E359=\"\",\"\",VLOOKUP($E359,Lists!$BM$2:$BP$78,4,FALSE))","v":""}]
[null,{"$f":"IF($E360=\"\",\"\",VLOOKUP($E360,Lists!$BM$2:$BP$78,2,FALSE))","v":""},{"$f":"IF($E360=\"\",\"\",VLOOKUP($E360,Lists!$BM$2:$BP$78,3,FALSE))","v":""},{"$f":"IF($E360=\"\",\"\",VLOOKUP($E360,Lists!$BM$2:$BP$78,4,FALSE))","v":""}]
[null,{"$f":"IF($E361=\"\",\"\",VLOOKUP($E361,Lists!$BM$2:$BP$78,2,FALSE))","v":""},{"$f":"IF($E361=\"\",\"\",VLOOKUP($E361,Lists!$BM$2:$BP$78,3,FALSE))","v":""},{"$f":"IF($E361=\"\",\"\",VLOOKUP($E361,Lists!$BM$2:$BP$78,4,FALSE))","v":""}]
[null,{"$f":"IF($E362=\"\",\"\",VLOOKUP($E362,Lists!$BM$2:$BP$78,2,FALSE))","v":""},{"$f":"IF($E362=\"\",\"\",VLOOKUP($E362,Lists!$BM$2:$BP$78,3,FALSE))","v":""},{"$f":"IF($E362=\"\",\"\",VLOOKUP($E362,Lists!$BM$2:$BP$78,4,FALSE))","v":""}]
[null,{"$f":"IF($E363=\"\",\"\",VLOOKUP($E363,Lists!$BM$2:$BP$78,2,FALSE))","v":""},{"$f":"IF($E363=\"\",\"\",VLOOKUP($E363,Lists!$BM$2:$BP$78,3,FALSE))","v":""},{"$f":"IF($E363=\"\",\"\",VLOOKUP($E363,Lists!$BM$2:$BP$78,4,FALSE))","v":""}]
[null,{"$f":"IF($E364=\"\",\"\",VLOOKUP($E364,Lists!$BM$2:$BP$78,2,FALSE))","v":""},{"$f":"IF($E364=\"\",\"\",VLOOKUP($E364,Lists!$BM$2:$BP$78,3,FALSE))","v":""},{"$f":"IF($E364=\"\",\"\",VLOOKUP($E364,Lists!$BM$2:$BP$78,4,FALSE))","v":""}]
[null,{"$f":"IF($E365=\"\",\"\",VLOOKUP($E365,Lists!$BM$2:$BP$78,2,FALSE))","v":""},{"$f":"IF($E365=\"\",\"\",VLOOKUP($E365,Lists!$BM$2:$BP$78,3,FALSE))","v":""},{"$f":"IF($E365=\"\",\"\",VLOOKUP($E365,Lists!$BM$2:$BP$78,4,FALSE))","v":""}]
[null,{"$f":"IF($E366=\"\",\"\",VLOOKUP($E366,Lists!$BM$2:$BP$78,2,FALSE))","v":""},{"$f":"IF($E366=\"\",\"\",VLOOKUP($E366,Lists!$BM$2:$BP$78,3,FALSE))","v":""},{"$f":"IF($E366=\"\",\"\",VLOOKUP($E366,Lists!$BM$2:$BP$78,4,FALSE))","v":""}]
[null,{"$f":"IF($E367=\"\",\"\",VLOOKUP($E367,Lists!$BM$2:$BP$78,2,FALSE))","v":""},{"$f":"IF($E367=\"\",\"\",VLOOKUP($E367,Lists!$BM$2:$BP$78,3,FALSE))","v":""},{"$f":"IF($E367=\"\",\"\",VLOOKUP($E367,Lists!$BM$2:$BP$78,4,FALSE))","v":""}]
[null,{"$f":"IF($E368=\"\",\"\",VLOOKUP($E368,Lists!$BM$2:$BP$78,2,FALSE))","v":""},{"$f":"IF($E368=\"\",\"\",VLOOKUP($E368,Lists!$BM$2:$BP$78,3,FALSE))","v":""},{"$f":"IF($E368=\"\",\"\",VLOOKUP($E368,Lists!$BM$2:$BP$78,4,FALSE))","v":""}]
[null,{"$f":"IF($E369=\"\",\"\",VLOOKUP($E369,Lists!$BM$2:$BP$78,2,FALSE))","v":""},{"$f":"IF($E369=\"\",\"\",VLOOKUP($E369,Lists!$BM$2:$BP$78,3,FALSE))","v":""},{"$f":"IF($E369=\"\",\"\",VLOOKUP($E369,Lists!$BM$2:$BP$78,4,FALSE))","v":""}]
[null,{"$f":"IF($E370=\"\",\"\",VLOOKUP($E370,Lists!$BM$2:$BP$78,2,FALSE))","v":""},{"$f":"IF($E370=\"\",\"\",VLOOKUP($E370,Lists!$BM$2:$BP$78,3,FALSE))","v":""},{"$f":"IF($E370=\"\",\"\",VLOOKUP($E370,Lists!$BM$2:$BP$78,4,FALSE))","v":""}]
[null,{"$f":"IF($E371=\"\",\"\",VLOOKUP($E371,Lists!$BM$2:$BP$78,2,FALSE))","v":""},{"$f":"IF($E371=\"\",\"\",VLOOKUP($E371,Lists!$BM$2:$BP$78,3,FALSE))","v":""},{"$f":"IF($E371=\"\",\"\",VLOOKUP($E371,Lists!$BM$2:$BP$78,4,FALSE))","v":""}]
[null,{"$f":"IF($E372=\"\",\"\",VLOOKUP($E372,Lists!$BM$2:$BP$78,2,FALSE))","v":""},{"$f":"IF($E372=\"\",\"\",VLOOKUP($E372,Lists!$BM$2:$BP$78,3,FALSE))","v":""},{"$f":"IF($E372=\"\",\"\",VLOOKUP($E372,Lists!$BM$2:$BP$78,4,FALSE))","v":""}]
[null,{"$f":"IF($E373=\"\",\"\",VLOOKUP($E373,Lists!$BM$2:$BP$78,2,FALSE))","v":""},{"$f":"IF($E373=\"\",\"\",VLOOKUP($E373,Lists!$BM$2:$BP$78,3,FALSE))","v":""},{"$f":"IF($E373=\"\",\"\",VLOOKUP($E373,Lists!$BM$2:$BP$78,4,FALSE))","v":""}]
[null,{"$f":"IF($E374=\"\",\"\",VLOOKUP($E374,Lists!$BM$2:$BP$78,2,FALSE))","v":""},{"$f":"IF($E374=\"\",\"\",VLOOKUP($E374,Lists!$BM$2:$BP$78,3,FALSE))","v":""},{"$f":"IF($E374=\"\",\"\",VLOOKUP($E374,Lists!$BM$2:$BP$78,4,FALSE))","v":""}]
[null,{"$f":"IF($E375=\"\",\"\",VLOOKUP($E375,Lists!$BM$2:$BP$78,2,FALSE))","v":""},{"$f":"IF($E375=\"\",\"\",VLOOKUP($E375,Lists!$BM$2:$BP$78,3,FALSE))","v":""},{"$f":"IF($E375=\"\",\"\",VLOOKUP($E375,Lists!$BM$2:$BP$78,4,FALSE))","v":""}]
[null,{"$f":"IF($E376=\"\",\"\",VLOOKUP($E376,Lists!$BM$2:$BP$78,2,FALSE))","v":""},{"$f":"IF($E376=\"\",\"\",VLOOKUP($E376,Lists!$BM$2:$BP$78,3,FALSE))","v":""},{"$f":"IF($E376=\"\",\"\",VLOOKUP($E376,Lists!$BM$2:$BP$78,4,FALSE))","v":""}]
[null,{"$f":"IF($E377=\"\",\"\",VLOOKUP($E377,Lists!$BM$2:$BP$78,2,FALSE))","v":""},{"$f":"IF($E377=\"\",\"\",VLOOKUP($E377,Lists!$BM$2:$BP$78,3,FALSE))","v":""},{"$f":"IF($E377=\"\",\"\",VLOOKUP($E377,Lists!$BM$2:$BP$78,4,FALSE))","v":""}]
[null,{"$f":"IF($E378=\"\",\"\",VLOOKUP($E378,Lists!$BM$2:$BP$78,2,FALSE))","v":""},{"$f":"IF($E378=\"\",\"\",VLOOKUP($E378,Lists!$BM$2:$BP$78,3,FALSE))","v":""},{"$f":"IF($E378=\"\",\"\",VLOOKUP($E378,Lists!$BM$2:$BP$78,4,FALSE))","v":""}]
[null,{"$f":"IF($E379=\"\",\"\",VLOOKUP($E379,Lists!$BM$2:$BP$78,2,FALSE))","v":""},{"$f":"IF($E379=\"\",\"\",VLOOKUP($E379,Lists!$BM$2:$BP$78,3,FALSE))","v":""},{"$f":"IF($E379=\"\",\"\",VLOOKUP($E379,Lists!$BM$2:$BP$78,4,FALSE))","v":""}]
[null,{"$f":"IF($E380=\"\",\"\",VLOOKUP($E380,Lists!$BM$2:$BP$78,2,FALSE))","v":""},{"$f":"IF($E380=\"\",\"\",VLOOKUP($E380,Lists!$BM$2:$BP$78,3,FALSE))","v":""},{"$f":"IF($E380=\"\",\"\",VLOOKUP($E380,Lists!$BM$2:$BP$78,4,FALSE))","v":""}]
[null,{"$f":"IF($E381=\"\",\"\",VLOOKUP($E381,Lists!$BM$2:$BP$78,2,FALSE))","v":""},{"$f":"IF($E381=\"\",\"\",VLOOKUP($E381,Lists!$BM$2:$BP$78,3,FALSE))","v":""},{"$f":"IF($E381=\"\",\"\",VLOOKUP($E381,Lists!$BM$2:$BP$78,4,FALSE))","v":""}]
[null,{"$f":"IF($E382=\"\",\"\",VLOOKUP($E382,Lists!$BM$2:$BP$78,2,FALSE))","v":""},{"$f":"IF($E382=\"\",\"\",VLOOKUP($E382,Lists!$BM$2:$BP$78,3,FALSE))","v":""},{"$f":"IF($E382=\"\",\"\",VLOOKUP($E382,Lists!$BM$2:$BP$78,4,FALSE))","v":""}]
[null,{"$f":"IF($E383=\"\",\"\",VLOOKUP($E383,Lists!$BM$2:$BP$78,2,FALSE))","v":""},{"$f":"IF($E383=\"\",\"\",VLOOKUP($E383,Lists!$BM$2:$BP$78,3,FALSE))","v":""},{"$f":"IF($E383=\"\",\"\",VLOOKUP($E383,Lists!$BM$2:$BP$78,4,FALSE))","v":""}]
[null,{"$f":"IF($E384=\"\",\"\",VLOOKUP($E384,Lists!$BM$2:$BP$78,2,FALSE))","v":""},{"$f":"IF($E384=\"\",\"\",VLOOKUP($E384,Lists!$BM$2:$BP$78,3,FALSE))","v":""},{"$f":"IF($E384=\"\",\"\",VLOOKUP($E384,Lists!$BM$2:$BP$78,4,FALSE))","v":""}]
[null,{"$f":"IF($E385=\"\",\"\",VLOOKUP($E385,Lists!$BM$2:$BP$78,2,FALSE))","v":""},{"$f":"IF($E385=\"\",\"\",VLOOKUP($E385,Lists!$BM$2:$BP$78,3,FALSE))","v":""},{"$f":"IF($E385=\"\",\"\",VLOOKUP($E385,Lists!$BM$2:$BP$78,4,FALSE))","v":""}]
[null,{"$f":"IF($E386=\"\",\"\",VLOOKUP($E386,Lists!$BM$2:$BP$78,2,FALSE))","v":""},{"$f":"IF($E386=\"\",\"\",VLOOKUP($E386,Lists!$BM$2:$BP$78,3,FALSE))","v":""},{"$f":"IF($E386=\"\",\"\",VLOOKUP($E386,Lists!$BM$2:$BP$78,4,FALSE))","v":""}]
[null,{"$f":"IF($E387=\"\",\"\",VLOOKUP($E387,Lists!$BM$2:$BP$78,2,FALSE))","v":""},{"$f":"IF($E387=\"\",\"\",VLOOKUP($E387,Lists!$BM$2:$BP$78,3,FALSE))","v":""},{"$f":"IF($E387=\"\",\"\",VLOOKUP($E387,Lists!$BM$2:$BP$78,4,FALSE))","v":""}]
[null,{"$f":"IF($E388=\"\",\"\",VLOOKUP($E388,Lists!$BM$2:$BP$78,2,FALSE))","v":""},{"$f":"IF($E388=\"\",\"\",VLOOKUP($E388,Lists!$BM$2:$BP$78,3,FALSE))","v":""},{"$f":"IF($E388=\"\",\"\",VLOOKUP($E388,Lists!$BM$2:$BP$78,4,FALSE))","v":""}]
[null,{"$f":"IF($E389=\"\",\"\",VLOOKUP($E389,Lists!$BM$2:$BP$78,2,FALSE))","v":""},{"$f":"IF($E389=\"\",\"\",VLOOKUP($E389,Lists!$BM$2:$BP$78,3,FALSE))","v":""},{"$f":"IF($E389=\"\",\"\",VLOOKUP($E389,Lists!$BM$2:$BP$78,4,FALSE))","v":""}]
[null,{"$f":"IF($E390=\"\",\"\",VLOOKUP($E390,Lists!$BM$2:$BP$78,2,FALSE))","v":""},{"$f":"IF($E390=\"\",\"\",VLOOKUP($E390,Lists!$BM$2:$BP$78,3,FALSE))","v":""},{"$f":"IF($E390=\"\",\"\",VLOOKUP($E390,Lists!$BM$2:$BP$78,4,FALSE))","v":""}]
[null,{"$f":"IF($E391=\"\",\"\",VLOOKUP($E391,Lists!$BM$2:$BP$78,2,FALSE))","v":""},{"$f":"IF($E391=\"\",\"\",VLOOKUP($E391,Lists!$BM$2:$BP$78,3,FALSE))","v":""},{"$f":"IF($E391=\"\",\"\",VLOOKUP($E391,Lists!$BM$2:$BP$78,4,FALSE))","v":""}]
[null,{"$f":"IF($E392=\"\",\"\",VLOOKUP($E392,Lists!$BM$2:$BP$78,2,FALSE))","v":""},{"$f":"IF($E392=\"\",\"\",VLOOKUP($E392,Lists!$BM$2:$BP$78,3,FALSE))","v":""},{"$f":"IF($E392=\"\",\"\",VLOOKUP($E392,Lists!$BM$2:$BP$78,4,FALSE))","v":""}]
[null,{"$f":"IF($E393=\"\",\"\",VLOOKUP($E393,Lists!$BM$2:$BP$78,2,FALSE))","v":""},{"$f":"IF($E393=\"\",\"\",VLOOKUP($E393,Lists!$BM$2:$BP$78,3,FALSE))","v":""},{"$f":"IF($E393=\"\",\"\",VLOOKUP($E393,Lists!$BM$2:$BP$78,4,FALSE))","v":""}]
[null,{"$f":"IF($E394=\"\",\"\",VLOOKUP($E394,Lists!$BM$2:$BP$78,2,FALSE))","v":""},{"$f":"IF($E394=\"\",\"\",VLOOKUP($E394,Lists!$BM$2:$BP$78,3,FALSE))","v":""},{"$f":"IF($E394=\"\",\"\",VLOOKUP($E394,Lists!$BM$2:$BP$78,4,FALSE))","v":""}]
[null,{"$f":"IF($E395=\"\",\"\",VLOOKUP($E395,Lists!$BM$2:$BP$78,2,FALSE))","v":""},{"$f":"IF($E395=\"\",\"\",VLOOKUP($E395,Lists!$BM$2:$BP$78,3,FALSE))","v":""},{"$f":"IF($E395=\"\",\"\",VLOOKUP($E395,Lists!$BM$2:$BP$78,4,FALSE))","v":""}]
[null,{"$f":"IF($E396=\"\",\"\",VLOOKUP($E396,Lists!$BM$2:$BP$78,2,FALSE))","v":""},{"$f":"IF($E396=\"\",\"\",VLOOKUP($E396,Lists!$BM$2:$BP$78,3,FALSE))","v":""},{"$f":"IF($E396=\"\",\"\",VLOOKUP($E396,Lists!$BM$2:$BP$78,4,FALSE))","v":""}]
[null,{"$f":"IF($E397=\"\",\"\",VLOOKUP($E397,Lists!$BM$2:$BP$78,2,FALSE))","v":""},{"$f":"IF($E397=\"\",\"\",VLOOKUP($E397,Lists!$BM$2:$BP$78,3,FALSE))","v":""},{"$f":"IF($E397=\"\",\"\",VLOOKUP($E397,Lists!$BM$2:$BP$78,4,FALSE))","v":""}]
[null,{"$f":"IF($E398=\"\",\"\",VLOOKUP($E398,Lists!$BM$2:$BP$78,2,FALSE))","v":""},{"$f":"IF($E398=\"\",\"\",VLOOKUP($E398,Lists!$BM$2:$BP$78,3,FALSE))","v":""},{"$f":"IF($E398=\"\",\"\",VLOOKUP($E398,Lists!$BM$2:$BP$78,4,FALSE))","v":""}]
[null,{"$f":"IF($E399=\"\",\"\",VLOOKUP($E399,Lists!$BM$2:$BP$78,2,FALSE))","v":""},{"$f":"IF($E399=\"\",\"\",VLOOKUP($E399,Lists!$BM$2:$BP$78,3,FALSE))","v":""},{"$f":"IF($E399=\"\",\"\",VLOOKUP($E399,Lists!$BM$2:$BP$78,4,FALSE))","v":""}]
[null,{"$f":"IF($E400=\"\",\"\",VLOOKUP($E400,Lists!$BM$2:$BP$78,2,FALSE))","v":""},{"$f":"IF($E400=\"\",\"\",VLOOKUP($E400,Lists!$BM$2:$BP$78,3,FALSE))","v":""},{"$f":"IF($E400=\"\",\"\",VLOOKUP($E400,Lists!$BM$2:$BP$78,4,FALSE))","v":""}]
[null,{"$f":"IF($E401=\"\",\"\",VLOOKUP($E401,Lists!$BM$2:$BP$78,2,FALSE))","v":""},{"$f":"IF($E401=\"\",\"\",VLOOKUP($E401,Lists!$BM$2:$BP$78,3,FALSE))","v":""},{"$f":"IF($E401=\"\",\"\",VLOOKUP($E401,Lists!$BM$2:$BP$78,4,FALSE))","v":""}]
[null,{"$f":"IF($E402=\"\",\"\",VLOOKUP($E402,Lists!$BM$2:$BP$78,2,FALSE))","v":""},{"$f":"IF($E402=\"\",\"\",VLOOKUP($E402,Lists!$BM$2:$BP$78,3,FALSE))","v":""},{"$f":"IF($E402=\"\",\"\",VLOOKUP($E402,Lists!$BM$2:$BP$78,4,FALSE))","v":""}]
[null,{"$f":"IF($E403=\"\",\"\",VLOOKUP($E403,Lists!$BM$2:$BP$78,2,FALSE))","v":""},{"$f":"IF($E403=\"\",\"\",VLOOKUP($E403,Lists!$BM$2:$BP$78,3,FALSE))","v":""},{"$f":"IF($E403=\"\",\"\",VLOOKUP($E403,Lists!$BM$2:$BP$78,4,FALSE))","v":""}]
[null,{"$f":"IF($E404=\"\",\"\",VLOOKUP($E404,Lists!$BM$2:$BP$78,2,FALSE))","v":""},{"$f":"IF($E404=\"\",\"\",VLOOKUP($E404,Lists!$BM$2:$BP$78,3,FALSE))","v":""},{"$f":"IF($E404=\"\",\"\",VLOOKUP($E404,Lists!$BM$2:$BP$78,4,FALSE))","v":""}]
[null,{"$f":"IF($E405=\"\",\"\",VLOOKUP($E405,Lists!$BM$2:$BP$78,2,FALSE))","v":""},{"$f":"IF($E405=\"\",\"\",VLOOKUP($E405,Lists!$BM$2:$BP$78,3,FALSE))","v":""},{"$f":"IF($E405=\"\",\"\",VLOOKUP($E405,Lists!$BM$2:$BP$78,4,FALSE))","v":""}]
[null,{"$f":"IF($E406=\"\",\"\",VLOOKUP($E406,Lists!$BM$2:$BP$78,2,FALSE))","v":""},{"$f":"IF($E406=\"\",\"\",VLOOKUP($E406,Lists!$BM$2:$BP$78,3,FALSE))","v":""},{"$f":"IF($E406=\"\",\"\",VLOOKUP($E406,Lists!$BM$2:$BP$78,4,FALSE))","v":""}]
[null,{"$f":"IF($E407=\"\",\"\",VLOOKUP($E407,Lists!$BM$2:$BP$78,2,FALSE))","v":""},{"$f":"IF($E407=\"\",\"\",VLOOKUP($E407,Lists!$BM$2:$BP$78,3,FALSE))","v":""},{"$f":"IF($E407=\"\",\"\",VLOOKUP($E407,Lists!$BM$2:$BP$78,4,FALSE))","v":""}]
[null,{"$f":"IF($E408=\"\",\"\",VLOOKUP($E408,Lists!$BM$2:$BP$78,2,FALSE))","v":""},{"$f":"IF($E408=\"\",\"\",VLOOKUP($E408,Lists!$BM$2:$BP$78,3,FALSE))","v":""},{"$f":"IF($E408=\"\",\"\",VLOOKUP($E408,Lists!$BM$2:$BP$78,4,FALSE))","v":""}]
[null,{"$f":"IF($E409=\"\",\"\",VLOOKUP($E409,Lists!$BM$2:$BP$78,2,FALSE))","v":""},{"$f":"IF($E409=\"\",\"\",VLOOKUP($E409,Lists!$BM$2:$BP$78,3,FALSE))","v":""},{"$f":"IF($E409=\"\",\"\",VLOOKUP($E409,Lists!$BM$2:$BP$78,4,FALSE))","v":""}]
[null,{"$f":"IF($E410=\"\",\"\",VLOOKUP($E410,Lists!$BM$2:$BP$78,2,FALSE))","v":""},{"$f":"IF($E410=\"\",\"\",VLOOKUP($E410,Lists!$BM$2:$BP$78,3,FALSE))","v":""},{"$f":"IF($E410=\"\",\"\",VLOOKUP($E410,Lists!$BM$2:$BP$78,4,FALSE))","v":""}]
[null,{"$f":"IF($E411=\"\",\"\",VLOOKUP($E411,Lists!$BM$2:$BP$78,2,FALSE))","v":""},{"$f":"IF($E411=\"\",\"\",VLOOKUP($E411,Lists!$BM$2:$BP$78,3,FALSE))","v":""},{"$f":"IF($E411=\"\",\"\",VLOOKUP($E411,Lists!$BM$2:$BP$78,4,FALSE))","v":""}]
[null,{"$f":"IF($E412=\"\",\"\",VLOOKUP($E412,Lists!$BM$2:$BP$78,2,FALSE))","v":""},{"$f":"IF($E412=\"\",\"\",VLOOKUP($E412,Lists!$BM$2:$BP$78,3,FALSE))","v":""},{"$f":"IF($E412=\"\",\"\",VLOOKUP($E412,Lists!$BM$2:$BP$78,4,FALSE))","v":""}]
[null,{"$f":"IF($E413=\"\",\"\",VLOOKUP($E413,Lists!$BM$2:$BP$78,2,FALSE))","v":""},{"$f":"IF($E413=\"\",\"\",VLOOKUP($E413,Lists!$BM$2:$BP$78,3,FALSE))","v":""},{"$f":"IF($E413=\"\",\"\",VLOOKUP($E413,Lists!$BM$2:$BP$78,4,FALSE))","v":""}]
[null,{"$f":"IF($E414=\"\",\"\",VLOOKUP($E414,Lists!$BM$2:$BP$78,2,FALSE))","v":""},{"$f":"IF($E414=\"\",\"\",VLOOKUP($E414,Lists!$BM$2:$BP$78,3,FALSE))","v":""},{"$f":"IF($E414=\"\",\"\",VLOOKUP($E414,Lists!$BM$2:$BP$78,4,FALSE))","v":""}]
[null,{"$f":"IF($E415=\"\",\"\",VLOOKUP($E415,Lists!$BM$2:$BP$78,2,FALSE))","v":""},{"$f":"IF($E415=\"\",\"\",VLOOKUP($E415,Lists!$BM$2:$BP$78,3,FALSE))","v":""},{"$f":"IF($E415=\"\",\"\",VLOOKUP($E415,Lists!$BM$2:$BP$78,4,FALSE))","v":""}]
[null,{"$f":"IF($E416=\"\",\"\",VLOOKUP($E416,Lists!$BM$2:$BP$78,2,FALSE))","v":""},{"$f":"IF($E416=\"\",\"\",VLOOKUP($E416,Lists!$BM$2:$BP$78,3,FALSE))","v":""},{"$f":"IF($E416=\"\",\"\",VLOOKUP($E416,Lists!$BM$2:$BP$78,4,FALSE))","v":""}]
[null,{"$f":"IF($E417=\"\",\"\",VLOOKUP($E417,Lists!$BM$2:$BP$78,2,FALSE))","v":""},{"$f":"IF($E417=\"\",\"\",VLOOKUP($E417,Lists!$BM$2:$BP$78,3,FALSE))","v":""},{"$f":"IF($E417=\"\",\"\",VLOOKUP($E417,Lists!$BM$2:$BP$78,4,FALSE))","v":""}]
[null,{"$f":"IF($E418=\"\",\"\",VLOOKUP($E418,Lists!$BM$2:$BP$78,2,FALSE))","v":""},{"$f":"IF($E418=\"\",\"\",VLOOKUP($E418,Lists!$BM$2:$BP$78,3,FALSE))","v":""},{"$f":"IF($E418=\"\",\"\",VLOOKUP($E418,Lists!$BM$2:$BP$78,4,FALSE))","v":""}]
[null,{"$f":"IF($E419=\"\",\"\",VLOOKUP($E419,Lists!$BM$2:$BP$78,2,FALSE))","v":""},{"$f":"IF($E419=\"\",\"\",VLOOKUP($E419,Lists!$BM$2:$BP$78,3,FALSE))","v":""},{"$f":"IF($E419=\"\",\"\",VLOOKUP($E419,Lists!$BM$2:$BP$78,4,FALSE))","v":""}]
[null,{"$f":"IF($E420=\"\",\"\",VLOOKUP($E420,Lists!$BM$2:$BP$78,2,FALSE))","v":""},{"$f":"IF($E420=\"\",\"\",VLOOKUP($E420,Lists!$BM$2:$BP$78,3,FALSE))","v":""},{"$f":"IF($E420=\"\",\"\",VLOOKUP($E420,Lists!$BM$2:$BP$78,4,FALSE))","v":""}]
[null,{"$f":"IF($E421=\"\",\"\",VLOOKUP($E421,Lists!$BM$2:$BP$78,2,FALSE))","v":""},{"$f":"IF($E421=\"\",\"\",VLOOKUP($E421,Lists!$BM$2:$BP$78,3,FALSE))","v":""},{"$f":"IF($E421=\"\",\"\",VLOOKUP($E421,Lists!$BM$2:$BP$78,4,FALSE))","v":""}]
[null,{"$f":"IF($E422=\"\",\"\",VLOOKUP($E422,Lists!$BM$2:$BP$78,2,FALSE))","v":""},{"$f":"IF($E422=\"\",\"\",VLOOKUP($E422,Lists!$BM$2:$BP$78,3,FALSE))","v":""},{"$f":"IF($E422=\"\",\"\",VLOOKUP($E422,Lists!$BM$2:$BP$78,4,FALSE))","v":""}]
[null,{"$f":"IF($E423=\"\",\"\",VLOOKUP($E423,Lists!$BM$2:$BP$78,2,FALSE))","v":""},{"$f":"IF($E423=\"\",\"\",VLOOKUP($E423,Lists!$BM$2:$BP$78,3,FALSE))","v":""},{"$f":"IF($E423=\"\",\"\",VLOOKUP($E423,Lists!$BM$2:$BP$78,4,FALSE))","v":""}]
[null,{"$f":"IF($E424=\"\",\"\",VLOOKUP($E424,Lists!$BM$2:$BP$78,2,FALSE))","v":""},{"$f":"IF($E424=\"\",\"\",VLOOKUP($E424,Lists!$BM$2:$BP$78,3,FALSE))","v":""},{"$f":"IF($E424=\"\",\"\",VLOOKUP($E424,Lists!$BM$2:$BP$78,4,FALSE))","v":""}]
[null,{"$f":"IF($E425=\"\",\"\",VLOOKUP($E425,Lists!$BM$2:$BP$78,2,FALSE))","v":""},{"$f":"IF($E425=\"\",\"\",VLOOKUP($E425,Lists!$BM$2:$BP$78,3,FALSE))","v":""},{"$f":"IF($E425=\"\",\"\",VLOOKUP($E425,Lists!$BM$2:$BP$78,4,FALSE))","v":""}]
[null,{"$f":"IF($E426=\"\",\"\",VLOOKUP($E426,Lists!$BM$2:$BP$78,2,FALSE))","v":""},{"$f":"IF($E426=\"\",\"\",VLOOKUP($E426,Lists!$BM$2:$BP$78,3,FALSE))","v":""},{"$f":"IF($E426=\"\",\"\",VLOOKUP($E426,Lists!$BM$2:$BP$78,4,FALSE))","v":""}]
[null,{"$f":"IF($E427=\"\",\"\",VLOOKUP($E427,Lists!$BM$2:$BP$78,2,FALSE))","v":""},{"$f":"IF($E427=\"\",\"\",VLOOKUP($E427,Lists!$BM$2:$BP$78,3,FALSE))","v":""},{"$f":"IF($E427=\"\",\"\",VLOOKUP($E427,Lists!$BM$2:$BP$78,4,FALSE))","v":""}]
[null,{"$f":"IF($E428=\"\",\"\",VLOOKUP($E428,Lists!$BM$2:$BP$78,2,FALSE))","v":""},{"$f":"IF($E428=\"\",\"\",VLOOKUP($E428,Lists!$BM$2:$BP$78,3,FALSE))","v":""},{"$f":"IF($E428=\"\",\"\",VLOOKUP($E428,Lists!$BM$2:$BP$78,4,FALSE))","v":""}]
[null,{"$f":"IF($E429=\"\",\"\",VLOOKUP($E429,Lists!$BM$2:$BP$78,2,FALSE))","v":""},{"$f":"IF($E429=\"\",\"\",VLOOKUP($E429,Lists!$BM$2:$BP$78,3,FALSE))","v":""},{"$f":"IF($E429=\"\",\"\",VLOOKUP($E429,Lists!$BM$2:$BP$78,4,FALSE))","v":""}]
[null,{"$f":"IF($E430=\"\",\"\",VLOOKUP($E430,Lists!$BM$2:$BP$78,2,FALSE))","v":""},{"$f":"IF($E430=\"\",\"\",VLOOKUP($E430,Lists!$BM$2:$BP$78,3,FALSE))","v":""},{"$f":"IF($E430=\"\",\"\",VLOOKUP($E430,Lists!$BM$2:$BP$78,4,FALSE))","v":""}]
[null,{"$f":"IF($E431=\"\",\"\",VLOOKUP($E431,Lists!$BM$2:$BP$78,2,FALSE))","v":""},{"$f":"IF($E431=\"\",\"\",VLOOKUP($E431,Lists!$BM$2:$BP$78,3,FALSE))","v":""},{"$f":"IF($E431=\"\",\"\",VLOOKUP($E431,Lists!$BM$2:$BP$78,4,FALSE))","v":""}]
[null,{"$f":"IF($E432=\"\",\"\",VLOOKUP($E432,Lists!$BM$2:$BP$78,2,FALSE))","v":""},{"$f":"IF($E432=\"\",\"\",VLOOKUP($E432,Lists!$BM$2:$BP$78,3,FALSE))","v":""},{"$f":"IF($E432=\"\",\"\",VLOOKUP($E432,Lists!$BM$2:$BP$78,4,FALSE))","v":""}]
[null,{"$f":"IF($E433=\"\",\"\",VLOOKUP($E433,Lists!$BM$2:$BP$78,2,FALSE))","v":""},{"$f":"IF($E433=\"\",\"\",VLOOKUP($E433,Lists!$BM$2:$BP$78,3,FALSE))","v":""},{"$f":"IF($E433=\"\",\"\",VLOOKUP($E433,Lists!$BM$2:$BP$78,4,FALSE))","v":""}]
[null,{"$f":"IF($E434=\"\",\"\",VLOOKUP($E434,Lists!$BM$2:$BP$78,2,FALSE))","v":""},{"$f":"IF($E434=\"\",\"\",VLOOKUP($E434,Lists!$BM$2:$BP$78,3,FALSE))","v":""},{"$f":"IF($E434=\"\",\"\",VLOOKUP($E434,Lists!$BM$2:$BP$78,4,FALSE))","v":""}]
[null,{"$f":"IF($E435=\"\",\"\",VLOOKUP($E435,Lists!$BM$2:$BP$78,2,FALSE))","v":""},{"$f":"IF($E435=\"\",\"\",VLOOKUP($E435,Lists!$BM$2:$BP$78,3,FALSE))","v":""},{"$f":"IF($E435=\"\",\"\",VLOOKUP($E435,Lists!$BM$2:$BP$78,4,FALSE))","v":""}]
[null,{"$f":"IF($E436=\"\",\"\",VLOOKUP($E436,Lists!$BM$2:$BP$78,2,FALSE))","v":""},{"$f":"IF($E436=\"\",\"\",VLOOKUP($E436,Lists!$BM$2:$BP$78,3,FALSE))","v":""},{"$f":"IF($E436=\"\",\"\",VLOOKUP($E436,Lists!$BM$2:$BP$78,4,FALSE))","v":""}]
[null,{"$f":"IF($E437=\"\",\"\",VLOOKUP($E437,Lists!$BM$2:$BP$78,2,FALSE))","v":""},{"$f":"IF($E437=\"\",\"\",VLOOKUP($E437,Lists!$BM$2:$BP$78,3,FALSE))","v":""},{"$f":"IF($E437=\"\",\"\",VLOOKUP($E437,Lists!$BM$2:$BP$78,4,FALSE))","v":""}]
[null,{"$f":"IF($E438=\"\",\"\",VLOOKUP($E438,Lists!$BM$2:$BP$78,2,FALSE))","v":""},{"$f":"IF($E438=\"\",\"\",VLOOKUP($E438,Lists!$BM$2:$BP$78,3,FALSE))","v":""},{"$f":"IF($E438=\"\",\"\",VLOOKUP($E438,Lists!$BM$2:$BP$78,4,FALSE))","v":""}]
[null,{"$f":"IF($E439=\"\",\"\",VLOOKUP($E439,Lists!$BM$2:$BP$78,2,FALSE))","v":""},{"$f":"IF($E439=\"\",\"\",VLOOKUP($E439,Lists!$BM$2:$BP$78,3,FALSE))","v":""},{"$f":"IF($E439=\"\",\"\",VLOOKUP($E439,Lists!$BM$2:$BP$78,4,FALSE))","v":""}]
[null,{"$f":"IF($E440=\"\",\"\",VLOOKUP($E440,Lists!$BM$2:$BP$78,2,FALSE))","v":""},{"$f":"IF($E440=\"\",\"\",VLOOKUP($E440,Lists!$BM$2:$BP$78,3,FALSE))","v":""},{"$f":"IF($E440=\"\",\"\",VLOOKUP($E440,Lists!$BM$2:$BP$78,4,FALSE))","v":""}]
[null,{"$f":"IF($E441=\"\",\"\",VLOOKUP($E441,Lists!$BM$2:$BP$78,2,FALSE))","v":""},{"$f":"IF($E441=\"\",\"\",VLOOKUP($E441,Lists!$BM$2:$BP$78,3,FALSE))","v":""},{"$f":"IF($E441=\"\",\"\",VLOOKUP($E441,Lists!$BM$2:$BP$78,4,FALSE))","v":""}]
[null,{"$f":"IF($E442=\"\",\"\",VLOOKUP($E442,Lists!$BM$2:$BP$78,2,FALSE))","v":""},{"$f":"IF($E442=\"\",\"\",VLOOKUP($E442,Lists!$BM$2:$BP$78,3,FALSE))","v":""},{"$f":"IF($E442=\"\",\"\",VLOOKUP($E442,Lists!$BM$2:$BP$78,4,FALSE))","v":""}]
[null,{"$f":"IF($E443=\"\",\"\",VLOOKUP($E443,Lists!$BM$2:$BP$78,2,FALSE))","v":""},{"$f":"IF($E443=\"\",\"\",VLOOKUP($E443,Lists!$BM$2:$BP$78,3,FALSE))","v":""},{"$f":"IF($E443=\"\",\"\",VLOOKUP($E443,Lists!$BM$2:$BP$78,4,FALSE))","v":""}]
[null,{"$f":"IF($E444=\"\",\"\",VLOOKUP($E444,Lists!$BM$2:$BP$78,2,FALSE))","v":""},{"$f":"IF($E444=\"\",\"\",VLOOKUP($E444,Lists!$BM$2:$BP$78,3,FALSE))","v":""},{"$f":"IF($E444=\"\",\"\",VLOOKUP($E444,Lists!$BM$2:$BP$78,4,FALSE))","v":""}]
[null,{"$f":"IF($E445=\"\",\"\",VLOOKUP($E445,Lists!$BM$2:$BP$78,2,FALSE))","v":""},{"$f":"IF($E445=\"\",\"\",VLOOKUP($E445,Lists!$BM$2:$BP$78,3,FALSE))","v":""},{"$f":"IF($E445=\"\",\"\",VLOOKUP($E445,Lists!$BM$2:$BP$78,4,FALSE))","v":""}]
[null,{"$f":"IF($E446=\"\",\"\",VLOOKUP($E446,Lists!$BM$2:$BP$78,2,FALSE))","v":""},{"$f":"IF($E446=\"\",\"\",VLOOKUP($E446,Lists!$BM$2:$BP$78,3,FALSE))","v":""},{"$f":"IF($E446=\"\",\"\",VLOOKUP($E446,Lists!$BM$2:$BP$78,4,FALSE))","v":""}]
[null,{"$f":"IF($E447=\"\",\"\",VLOOKUP($E447,Lists!$BM$2:$BP$78,2,FALSE))","v":""},{"$f":"IF($E447=\"\",\"\",VLOOKUP($E447,Lists!$BM$2:$BP$78,3,FALSE))","v":""},{"$f":"IF($E447=\"\",\"\",VLOOKUP($E447,Lists!$BM$2:$BP$78,4,FALSE))","v":""}]
[null,{"$f":"IF($E448=\"\",\"\",VLOOKUP($E448,Lists!$BM$2:$BP$78,2,FALSE))","v":""},{"$f":"IF($E448=\"\",\"\",VLOOKUP($E448,Lists!$BM$2:$BP$78,3,FALSE))","v":""},{"$f":"IF($E448=\"\",\"\",VLOOKUP($E448,Lists!$BM$2:$BP$78,4,FALSE))","v":""}]
[null,{"$f":"IF($E449=\"\",\"\",VLOOKUP($E449,Lists!$BM$2:$BP$78,2,FALSE))","v":""},{"$f":"IF($E449=\"\",\"\",VLOOKUP($E449,Lists!$BM$2:$BP$78,3,FALSE))","v":""},{"$f":"IF($E449=\"\",\"\",VLOOKUP($E449,Lists!$BM$2:$BP$78,4,FALSE))","v":""}]
[null,{"$f":"IF($E450=\"\",\"\",VLOOKUP($E450,Lists!$BM$2:$BP$78,2,FALSE))","v":""},{"$f":"IF($E450=\"\",\"\",VLOOKUP($E450,Lists!$BM$2:$BP$78,3,FALSE))","v":""},{"$f":"IF($E450=\"\",\"\",VLOOKUP($E450,Lists!$BM$2:$BP$78,4,FALSE))","v":""}]
[null,{"$f":"IF($E451=\"\",\"\",VLOOKUP($E451,Lists!$BM$2:$BP$78,2,FALSE))","v":""},{"$f":"IF($E451=\"\",\"\",VLOOKUP($E451,Lists!$BM$2:$BP$78,3,FALSE))","v":""},{"$f":"IF($E451=\"\",\"\",VLOOKUP($E451,Lists!$BM$2:$BP$78,4,FALSE))","v":""}]
[null,{"$f":"IF($E452=\"\",\"\",VLOOKUP($E452,Lists!$BM$2:$BP$78,2,FALSE))","v":""},{"$f":"IF($E452=\"\",\"\",VLOOKUP($E452,Lists!$BM$2:$BP$78,3,FALSE))","v":""},{"$f":"IF($E452=\"\",\"\",VLOOKUP($E452,Lists!$BM$2:$BP$78,4,FALSE))","v":""}]
[null,{"$f":"IF($E453=\"\",\"\",VLOOKUP($E453,Lists!$BM$2:$BP$78,2,FALSE))","v":""},{"$f":"IF($E453=\"\",\"\",VLOOKUP($E453,Lists!$BM$2:$BP$78,3,FALSE))","v":""},{"$f":"IF($E453=\"\",\"\",VLOOKUP($E453,Lists!$BM$2:$BP$78,4,FALSE))","v":""}]
[null,{"$f":"IF($E454=\"\",\"\",VLOOKUP($E454,Lists!$BM$2:$BP$78,2,FALSE))","v":""},{"$f":"IF($E454=\"\",\"\",VLOOKUP($E454,Lists!$BM$2:$BP$78,3,FALSE))","v":""},{"$f":"IF($E454=\"\",\"\",VLOOKUP($E454,Lists!$BM$2:$BP$78,4,FALSE))","v":""}]
[null,{"$f":"IF($E455=\"\",\"\",VLOOKUP($E455,Lists!$BM$2:$BP$78,2,FALSE))","v":""},{"$f":"IF($E455=\"\",\"\",VLOOKUP($E455,Lists!$BM$2:$BP$78,3,FALSE))","v":""},{"$f":"IF($E455=\"\",\"\",VLOOKUP($E455,Lists!$BM$2:$BP$78,4,FALSE))","v":""}]
[null,{"$f":"IF($E456=\"\",\"\",VLOOKUP($E456,Lists!$BM$2:$BP$78,2,FALSE))","v":""},{"$f":"IF($E456=\"\",\"\",VLOOKUP($E456,Lists!$BM$2:$BP$78,3,FALSE))","v":""},{"$f":"IF($E456=\"\",\"\",VLOOKUP($E456,Lists!$BM$2:$BP$78,4,FALSE))","v":""}]
[null,{"$f":"IF($E457=\"\",\"\",VLOOKUP($E457,Lists!$BM$2:$BP$78,2,FALSE))","v":""},{"$f":"IF($E457=\"\",\"\",VLOOKUP($E457,Lists!$BM$2:$BP$78,3,FALSE))","v":""},{"$f":"IF($E457=\"\",\"\",VLOOKUP($E457,Lists!$BM$2:$BP$78,4,FALSE))","v":""}]
[null,{"$f":"IF($E458=\"\",\"\",VLOOKUP($E458,Lists!$BM$2:$BP$78,2,FALSE))","v":""},{"$f":"IF($E458=\"\",\"\",VLOOKUP($E458,Lists!$BM$2:$BP$78,3,FALSE))","v":""},{"$f":"IF($E458=\"\",\"\",VLOOKUP($E458,Lists!$BM$2:$BP$78,4,FALSE))","v":""}]
[null,{"$f":"IF($E459=\"\",\"\",VLOOKUP($E459,Lists!$BM$2:$BP$78,2,FALSE))","v":""},{"$f":"IF($E459=\"\",\"\",VLOOKUP($E459,Lists!$BM$2:$BP$78,3,FALSE))","v":""},{"$f":"IF($E459=\"\",\"\",VLOOKUP($E459,Lists!$BM$2:$BP$78,4,FALSE))","v":""}]
[null,{"$f":"IF($E460=\"\",\"\",VLOOKUP($E460,Lists!$BM$2:$BP$78,2,FALSE))","v":""},{"$f":"IF($E460=\"\",\"\",VLOOKUP($E460,Lists!$BM$2:$BP$78,3,FALSE))","v":""},{"$f":"IF($E460=\"\",\"\",VLOOKUP($E460,Lists!$BM$2:$BP$78,4,FALSE))","v":""}]
[null,{"$f":"IF($E461=\"\",\"\",VLOOKUP($E461,Lists!$BM$2:$BP$78,2,FALSE))","v":""},{"$f":"IF($E461=\"\",\"\",VLOOKUP($E461,Lists!$BM$2:$BP$78,3,FALSE))","v":""},{"$f":"IF($E461=\"\",\"\",VLOOKUP($E461,Lists!$BM$2:$BP$78,4,FALSE))","v":""}]
[null,{"$f":"IF($E462=\"\",\"\",VLOOKUP($E462,Lists!$BM$2:$BP$78,2,FALSE))","v":""},{"$f":"IF($E462=\"\",\"\",VLOOKUP($E462,Lists!$BM$2:$BP$78,3,FALSE))","v":""},{"$f":"IF($E462=\"\",\"\",VLOOKUP($E462,Lists!$BM$2:$BP$78,4,FALSE))","v":""}]
[null,{"$f":"IF($E463=\"\",\"\",VLOOKUP($E463,Lists!$BM$2:$BP$78,2,FALSE))","v":""},{"$f":"IF($E463=\"\",\"\",VLOOKUP($E463,Lists!$BM$2:$BP$78,3,FALSE))","v":""},{"$f":"IF($E463=\"\",\"\",VLOOKUP($E463,Lists!$BM$2:$BP$78,4,FALSE))","v":""}]
[null,{"$f":"IF($E464=\"\",\"\",VLOOKUP($E464,Lists!$BM$2:$BP$78,2,FALSE))","v":""},{"$f":"IF($E464=\"\",\"\",VLOOKUP($E464,Lists!$BM$2:$BP$78,3,FALSE))","v":""},{"$f":"IF($E464=\"\",\"\",VLOOKUP($E464,Lists!$BM$2:$BP$78,4,FALSE))","v":""}]
[null,{"$f":"IF($E465=\"\",\"\",VLOOKUP($E465,Lists!$BM$2:$BP$78,2,FALSE))","v":""},{"$f":"IF($E465=\"\",\"\",VLOOKUP($E465,Lists!$BM$2:$BP$78,3,FALSE))","v":""},{"$f":"IF($E465=\"\",\"\",VLOOKUP($E465,Lists!$BM$2:$BP$78,4,FALSE))","v":""}]
[null,{"$f":"IF($E466=\"\",\"\",VLOOKUP($E466,Lists!$BM$2:$BP$78,2,FALSE))","v":""},{"$f":"IF($E466=\"\",\"\",VLOOKUP($E466,Lists!$BM$2:$BP$78,3,FALSE))","v":""},{"$f":"IF($E466=\"\",\"\",VLOOKUP($E466,Lists!$BM$2:$BP$78,4,FALSE))","v":""}]
[null,{"$f":"IF($E467=\"\",\"\",VLOOKUP($E467,Lists!$BM$2:$BP$78,2,FALSE))","v":""},{"$f":"IF($E467=\"\",\"\",VLOOKUP($E467,Lists!$BM$2:$BP$78,3,FALSE))","v":""},{"$f":"IF($E467=\"\",\"\",VLOOKUP($E467,Lists!$BM$2:$BP$78,4,FALSE))","v":""}]
[null,{"$f":"IF($E468=\"\",\"\",VLOOKUP($E468,Lists!$BM$2:$BP$78,2,FALSE))","v":""},{"$f":"IF($E468=\"\",\"\",VLOOKUP($E468,Lists!$BM$2:$BP$78,3,FALSE))","v":""},{"$f":"IF($E468=\"\",\"\",VLOOKUP($E468,Lists!$BM$2:$BP$78,4,FALSE))","v":""}]
[null,{"$f":"IF($E469=\"\",\"\",VLOOKUP($E469,Lists!$BM$2:$BP$78,2,FALSE))","v":""},{"$f":"IF($E469=\"\",\"\",VLOOKUP($E469,Lists!$BM$2:$BP$78,3,FALSE))","v":""},{"$f":"IF($E469=\"\",\"\",VLOOKUP($E469,Lists!$BM$2:$BP$78,4,FALSE))","v":""}]
[null,{"$f":"IF($E470=\"\",\"\",VLOOKUP($E470,Lists!$BM$2:$BP$78,2,FALSE))","v":""},{"$f":"IF($E470=\"\",\"\",VLOOKUP($E470,Lists!$BM$2:$BP$78,3,FALSE))","v":""},{"$f":"IF($E470=\"\",\"\",VLOOKUP($E470,Lists!$BM$2:$BP$78,4,FALSE))","v":""}]
[null,{"$f":"IF($E471=\"\",\"\",VLOOKUP($E471,Lists!$BM$2:$BP$78,2,FALSE))","v":""},{"$f":"IF($E471=\"\",\"\",VLOOKUP($E471,Lists!$BM$2:$BP$78,3,FALSE))","v":""},{"$f":"IF($E471=\"\",\"\",VLOOKUP($E471,Lists!$BM$2:$BP$78,4,FALSE))","v":""}]
[null,{"$f":"IF($E472=\"\",\"\",VLOOKUP($E472,Lists!$BM$2:$BP$78,2,FALSE))","v":""},{"$f":"IF($E472=\"\",\"\",VLOOKUP($E472,Lists!$BM$2:$BP$78,3,FALSE))","v":""},{"$f":"IF($E472=\"\",\"\",VLOOKUP($E472,Lists!$BM$2:$BP$78,4,FALSE))","v":""}]
[null,{"$f":"IF($E473=\"\",\"\",VLOOKUP($E473,Lists!$BM$2:$BP$78,2,FALSE))","v":""},{"$f":"IF($E473=\"\",\"\",VLOOKUP($E473,Lists!$BM$2:$BP$78,3,FALSE))","v":""},{"$f":"IF($E473=\"\",\"\",VLOOKUP($E473,Lists!$BM$2:$BP$78,4,FALSE))","v":""}]
[null,{"$f":"IF($E474=\"\",\"\",VLOOKUP($E474,Lists!$BM$2:$BP$78,2,FALSE))","v":""},{"$f":"IF($E474=\"\",\"\",VLOOKUP($E474,Lists!$BM$2:$BP$78,3,FALSE))","v":""},{"$f":"IF($E474=\"\",\"\",VLOOKUP($E474,Lists!$BM$2:$BP$78,4,FALSE))","v":""}]
[null,{"$f":"IF($E475=\"\",\"\",VLOOKUP($E475,Lists!$BM$2:$BP$78,2,FALSE))","v":""},{"$f":"IF($E475=\"\",\"\",VLOOKUP($E475,Lists!$BM$2:$BP$78,3,FALSE))","v":""},{"$f":"IF($E475=\"\",\"\",VLOOKUP($E475,Lists!$BM$2:$BP$78,4,FALSE))","v":""}]
[null,{"$f":"IF($E476=\"\",\"\",VLOOKUP($E476,Lists!$BM$2:$BP$78,2,FALSE))","v":""},{"$f":"IF($E476=\"\",\"\",VLOOKUP($E476,Lists!$BM$2:$BP$78,3,FALSE))","v":""},{"$f":"IF($E476=\"\",\"\",VLOOKUP($E476,Lists!$BM$2:$BP$78,4,FALSE))","v":""}]
[null,{"$f":"IF($E477=\"\",\"\",VLOOKUP($E477,Lists!$BM$2:$BP$78,2,FALSE))","v":""},{"$f":"IF($E477=\"\",\"\",VLOOKUP($E477,Lists!$BM$2:$BP$78,3,FALSE))","v":""},{"$f":"IF($E477=\"\",\"\",VLOOKUP($E477,Lists!$BM$2:$BP$78,4,FALSE))","v":""}]
[null,{"$f":"IF($E478=\"\",\"\",VLOOKUP($E478,Lists!$BM$2:$BP$78,2,FALSE))","v":""},{"$f":"IF($E478=\"\",\"\",VLOOKUP($E478,Lists!$BM$2:$BP$78,3,FALSE))","v":""},{"$f":"IF($E478=\"\",\"\",VLOOKUP($E478,Lists!$BM$2:$BP$78,4,FALSE))","v":""}]
[null,{"$f":"IF($E479=\"\",\"\",VLOOKUP($E479,Lists!$BM$2:$BP$78,2,FALSE))","v":""},{"$f":"IF($E479=\"\",\"\",VLOOKUP($E479,Lists!$BM$2:$BP$78,3,FALSE))","v":""},{"$f":"IF($E479=\"\",\"\",VLOOKUP($E479,Lists!$BM$2:$BP$78,4,FALSE))","v":""}]
[null,{"$f":"IF($E480=\"\",\"\",VLOOKUP($E480,Lists!$BM$2:$BP$78,2,FALSE))","v":""},{"$f":"IF($E480=\"\",\"\",VLOOKUP($E480,Lists!$BM$2:$BP$78,3,FALSE))","v":""},{"$f":"IF($E480=\"\",\"\",VLOOKUP($E480,Lists!$BM$2:$BP$78,4,FALSE))","v":""}]
[null,{"$f":"IF($E481=\"\",\"\",VLOOKUP($E481,Lists!$BM$2:$BP$78,2,FALSE))","v":""},{"$f":"IF($E481=\"\",\"\",VLOOKUP($E481,Lists!$BM$2:$BP$78,3,FALSE))","v":""},{"$f":"IF($E481=\"\",\"\",VLOOKUP($E481,Lists!$BM$2:$BP$78,4,FALSE))","v":""}]
[null,{"$f":"IF($E482=\"\",\"\",VLOOKUP($E482,Lists!$BM$2:$BP$78,2,FALSE))","v":""},{"$f":"IF($E482=\"\",\"\",VLOOKUP($E482,Lists!$BM$2:$BP$78,3,FALSE))","v":""},{"$f":"IF($E482=\"\",\"\",VLOOKUP($E482,Lists!$BM$2:$BP$78,4,FALSE))","v":""}]
[null,{"$f":"IF($E483=\"\",\"\",VLOOKUP($E483,Lists!$BM$2:$BP$78,2,FALSE))","v":""},{"$f":"IF($E483=\"\",\"\",VLOOKUP($E483,Lists!$BM$2:$BP$78,3,FALSE))","v":""},{"$f":"IF($E483=\"\",\"\",VLOOKUP($E483,Lists!$BM$2:$BP$78,4,FALSE))","v":""}]
[null,{"$f":"IF($E484=\"\",\"\",VLOOKUP($E484,Lists!$BM$2:$BP$78,2,FALSE))","v":""},{"$f":"IF($E484=\"\",\"\",VLOOKUP($E484,Lists!$BM$2:$BP$78,3,FALSE))","v":""},{"$f":"IF($E484=\"\",\"\",VLOOKUP($E484,Lists!$BM$2:$BP$78,4,FALSE))","v":""}]
[null,{"$f":"IF($E485=\"\",\"\",VLOOKUP($E485,Lists!$BM$2:$BP$78,2,FALSE))","v":""},{"$f":"IF($E485=\"\",\"\",VLOOKUP($E485,Lists!$BM$2:$BP$78,3,FALSE))","v":""},{"$f":"IF($E485=\"\",\"\",VLOOKUP($E485,Lists!$BM$2:$BP$78,4,FALSE))","v":""}]
[null,{"$f":"IF($E486=\"\",\"\",VLOOKUP($E486,Lists!$BM$2:$BP$78,2,FALSE))","v":""},{"$f":"IF($E486=\"\",\"\",VLOOKUP($E486,Lists!$BM$2:$BP$78,3,FALSE))","v":""},{"$f":"IF($E486=\"\",\"\",VLOOKUP($E486,Lists!$BM$2:$BP$78,4,FALSE))","v":""}]
[null,{"$f":"IF($E487=\"\",\"\",VLOOKUP($E487,Lists!$BM$2:$BP$78,2,FALSE))","v":""},{"$f":"IF($E487=\"\",\"\",VLOOKUP($E487,Lists!$BM$2:$BP$78,3,FALSE))","v":""},{"$f":"IF($E487=\"\",\"\",VLOOKUP($E487,Lists!$BM$2:$BP$78,4,FALSE))","v":""}]
[null,{"$f":"IF($E488=\"\",\"\",VLOOKUP($E488,Lists!$BM$2:$BP$78,2,FALSE))","v":""},{"$f":"IF($E488=\"\",\"\",VLOOKUP($E488,Lists!$BM$2:$BP$78,3,FALSE))","v":""},{"$f":"IF($E488=\"\",\"\",VLOOKUP($E488,Lists!$BM$2:$BP$78,4,FALSE))","v":""}]
[null,{"$f":"IF($E489=\"\",\"\",VLOOKUP($E489,Lists!$BM$2:$BP$78,2,FALSE))","v":""},{"$f":"IF($E489=\"\",\"\",VLOOKUP($E489,Lists!$BM$2:$BP$78,3,FALSE))","v":""},{"$f":"IF($E489=\"\",\"\",VLOOKUP($E489,Lists!$BM$2:$BP$78,4,FALSE))","v":""}]
[null,{"$f":"IF($E490=\"\",\"\",VLOOKUP($E490,Lists!$BM$2:$BP$78,2,FALSE))","v":""},{"$f":"IF($E490=\"\",\"\",VLOOKUP($E490,Lists!$BM$2:$BP$78,3,FALSE))","v":""},{"$f":"IF($E490=\"\",\"\",VLOOKUP($E490,Lists!$BM$2:$BP$78,4,FALSE))","v":""}]
[null,{"$f":"IF($E491=\"\",\"\",VLOOKUP($E491,Lists!$BM$2:$BP$78,2,FALSE))","v":""},{"$f":"IF($E491=\"\",\"\",VLOOKUP($E491,Lists!$BM$2:$BP$78,3,FALSE))","v":""},{"$f":"IF($E491=\"\",\"\",VLOOKUP($E491,Lists!$BM$2:$BP$78,4,FALSE))","v":""}]
[null,{"$f":"IF($E492=\"\",\"\",VLOOKUP($E492,Lists!$BM$2:$BP$78,2,FALSE))","v":""},{"$f":"IF($E492=\"\",\"\",VLOOKUP($E492,Lists!$BM$2:$BP$78,3,FALSE))","v":""},{"$f":"IF($E492=\"\",\"\",VLOOKUP($E492,Lists!$BM$2:$BP$78,4,FALSE))","v":""}]
[null,{"$f":"IF($E493=\"\",\"\",VLOOKUP($E493,Lists!$BM$2:$BP$78,2,FALSE))","v":""},{"$f":"IF($E493=\"\",\"\",VLOOKUP($E493,Lists!$BM$2:$BP$78,3,FALSE))","v":""},{"$f":"IF($E493=\"\",\"\",VLOOKUP($E493,Lists!$BM$2:$BP$78,4,FALSE))","v":""}]
[null,{"$f":"IF($E494=\"\",\"\",VLOOKUP($E494,Lists!$BM$2:$BP$78,2,FALSE))","v":""},{"$f":"IF($E494=\"\",\"\",VLOOKUP($E494,Lists!$BM$2:$BP$78,3,FALSE))","v":""},{"$f":"IF($E494=\"\",\"\",VLOOKUP($E494,Lists!$BM$2:$BP$78,4,FALSE))","v":""}]
[null,{"$f":"IF($E495=\"\",\"\",VLOOKUP($E495,Lists!$BM$2:$BP$78,2,FALSE))","v":""},{"$f":"IF($E495=\"\",\"\",VLOOKUP($E495,Lists!$BM$2:$BP$78,3,FALSE))","v":""},{"$f":"IF($E495=\"\",\"\",VLOOKUP($E495,Lists!$BM$2:$BP$78,4,FALSE))","v":""}]
[null,{"$f":"IF($E496=\"\",\"\",VLOOKUP($E496,Lists!$BM$2:$BP$78,2,FALSE))","v":""},{"$f":"IF($E496=\"\",\"\",VLOOKUP($E496,Lists!$BM$2:$BP$78,3,FALSE))","v":""},{"$f":"IF($E496=\"\",\"\",VLOOKUP($E496,Lists!$BM$2:$BP$78,4,FALSE))","v":""}]
[null,{"$f":"IF($E497=\"\",\"\",VLOOKUP($E497,Lists!$BM$2:$BP$78,2,FALSE))","v":""},{"$f":"IF($E497=\"\",\"\",VLOOKUP($E497,Lists!$BM$2:$BP$78,3,FALSE))","v":""},{"$f":"IF($E497=\"\",\"\",VLOOKUP($E497,Lists!$BM$2:$BP$78,4,FALSE))","v":""}]
[null,{"$f":"IF($E498=\"\",\"\",VLOOKUP($E498,Lists!$BM$2:$BP$78,2,FALSE))","v":""},{"$f":"IF($E498=\"\",\"\",VLOOKUP($E498,Lists!$BM$2:$BP$78,3,FALSE))","v":""},{"$f":"IF($E498=\"\",\"\",VLOOKUP($E498,Lists!$BM$2:$BP$78,4,FALSE))","v":""}]
[null,{"$f":"IF($E499=\"\",\"\",VLOOKUP($E499,Lists!$BM$2:$BP$78,2,FALSE))","v":""},{"$f":"IF($E499=\"\",\"\",VLOOKUP($E499,Lists!$BM$2:$BP$78,3,FALSE))","v":""},{"$f":"IF($E499=\"\",\"\",VLOOKUP($E499,Lists!$BM$2:$BP$78,4,FALSE))","v":""}]
[null,{"$f":"IF($E500=\"\",\"\",VLOOKUP($E500,Lists!$BM$2:$BP$78,2,FALSE))","v":""},{"$f":"IF($E500=\"\",\"\",VLOOKUP($E500,Lists!$BM$2:$BP$78,3,FALSE))","v":""},{"$f":"IF($E500=\"\",\"\",VLOOKUP($E500,Lists!$BM$2:$BP$78,4,FALSE))","v":""}]

{"sheet":"CMS_Deviation_Summary","index":7,"n_rows":100,"n_cols":12,"rows_kept":100,"cut":false,"hidden":false,"merged":[]}
[null,"DO NOT REMOVE OR EDIT INFORMATION IN ROWS 1 THROUGH 5\nFOR INTERNAL USE ONLY"]
[null,"Template Name",null,{"$f":"+Welcome!B2","v":"63.10899(c) Semiannual Compliance Report (Spreadsheet Template)"}]
[null,"CitationID",null,{"$f":"+Welcome!B3","v":"63.10899(c)"}]
[null,"Template Version",null,{"$f":"+Welcome!B4","v":"v1.02"}]
[null,"Last Updated Date",null,{"$f":"+Welcome!B5","v":45391}]
[null,{"$f":"Welcome!B6","v":"OMB No.: 2060-0605 Form 5900-521 For further Paperwork Reduction Act information see: \nhttps://www.epa.gov/electronic-reporting-air-emissions/paperwork-reduction-act-pra-cedri-and-ert"}]
[null,"40 CFR Part 63, Subpart ZZZZZ National Emission Standards for Hazardous Air Pollutants: Iron and Steel Foundries Area Sources - "]
[null,"§63.10899(c) Semiannual Compliance Report Spreadsheet Template"]
[]
[]
[]
[null,"Company Record No.\n(Autocompleted)","Affected Source or Equipment\n(§63.10899(c)(7)(iii))\n(Autocompleted)","Monitoring Equipment Manufacturer and Model Number\n(§63.10899(c)(7)(i))\n(Autocompleted)","Total Source Operating Time (Hours)\n(§63.10899(c)(7)(iii))\n(Autocompleted)","Total Duration of\nCMS Downtime (hours) \n(§63.10899(c)(7)(vi))\n(Calculated value)","Total Duration of\n CMS Downtime as\n a per cent of Total\n Source Operating Time\n(§63.10899(c)(7)(vi))\n(Calculated value )","Total Duration of \nCMS Downtime Due to \nMonitoring System Malfunctions\n(§63.10899(c)(7)(vi))\n(Calculated value)","Total Duration of \nCMS Downtime Due to \nNonmonitoring Equipment Malfunctions\n(§63.10899(c)(7)(vi))\n(Calculated value)","Total Duration of \nCMS Downtime Due to \nQuality Assurance/Quality Control Calibrations\n(§63.10899(c)(7)(vi))\n(Calculated value)","Total Duration of \nCMS Downtime Due to \nOther Known Causes\n(§63.10899(c)(7)(vi))\n(Calculated value)","Total Duration of \nCMS Downtime Due to Unknown Causes\n(§63.10899(c)(7)(vi))\n(Calculated value)"]
[null,"RecordId","AffectedSource_CMSSummary","Manufacturer_CMSSummary","TotalOperatingTime_CMSSummary","DowntimeDuration_CMSSummary","DowntimePercent_CMSSummary","DowntimeMonitoring_CMSSummary","DowntimeNonmonitoring_CMSSummary","DowntimeControl_CMSSummary","DowntimeOther_CMSSummary","DowntimeUnknown_CMSSummary"]
[null,"e.g.: 1","e.g.: Line 1","e.g.: TC1792 PM Filter Bank Inlet Temperature","e.g.: 6240","e.g.: 0","e.g.: N/A","e.g.: 36.2","e.g.: 36.2","e.g.: 0","e.g.: 0","e.g.: 0"]
[]
[]
[]
[]
[]
[]
[]
[]
[]
[null,{"$f":"IF(Lists!BA2=\"\",\"\",Lists!BA2)","v":""},{"$f":"IF(Lists!BB2=\"\",\"\",Lists!BB2)","v":""},{"$f":"IF(Lists!BC2=\"\",\"\",Lists!BC2)","v":""},{"$f":"IF(Lists!BE2=\"\",\"\",Lists!BE2)","v":""},{"$f":"IF($E24=\"\",\"\",SUMIFS(CMS_Deviation_Detail!$I$24:$I$5400,CMS_Deviation_Detail!$B$24:$B$5400,B24,CMS_Deviation_Detail!$C$24:$C$5400,C24,CMS_Deviation_Detail!$D$24:$D$5400,D24))","v":""},{"$f":"IF($E24=\"\",\"\",IF(F24=0,\"N/A\",F24/$E24))","v":""},{"$f":"IF($E24=\"\",\"\",SUMIFS(CMS_Deviation_Detail!$I$24:$I$5800,CMS_Deviation_Detail!$B$24:$B$5800,B24,CMS_Deviation_Detail!$C$24:$C$5800,C24,CMS_Deviation_Detail!$D$24:$D$5800,D24,CMS_Deviation_Detail!$J$24:$J$5800,\"Monitoring System Malfunctions\"))","v":""},{"$f":"IF($E24=\"\",\"\",SUMIFS(CMS_Deviation_Detail!$I$24:$I$5800,CMS_Deviation_Detail!$B$24:$B$5800,B24,CMS_Deviation_Detail!$C$24:$C$5800,C24,CMS_Deviation_Detail!$D$24:$D$5800,D24,CMS_Deviation_Detail!$J$24:$J$5800,\"Nonmonitoring Equipment Malfunctions\"))","v":""},{"$f":"IF($E24=\"\",\"\",SUMIFS(CMS_Deviation_Detail!$I$24:$I$5800,CMS_Deviation_Detail!$B$24:$B$5800,B24,CMS_Deviation_Detail!$C$24:$C$5800,C24,CMS_Deviation_Detail!$D$24:$D$5800,D24,CMS_Deviation_Detail!$J$24:$J$5800,\"Quality Assurance/Quality Control Calibrations\"))","v":""},{"$f":"IF($E24=\"\",\"\",SUMIFS(CMS_Deviation_Detail!$I$24:$I$5800,CMS_Deviation_Detail!$B$24:$B$5800,B24,CMS_Deviation_Detail!$C$24:$C$5800,C24,CMS_Deviation_Detail!$D$24:$D$5800,D24,CMS_Deviation_Detail!$J$24:$J$5800,\"Other Known Causes\"))","v":""},{"$f":"IF($E24=\"\",\"\",SUMIFS(CMS_Deviation_Detail!$I$24:$I$5800,CMS_Deviation_Detail!$B$24:$B$5800,B24,CMS_Deviation_Detail!$C$24:$C$5800,C24,CMS_Deviation_Detail!$D$24:$D$5800,D24,CMS_Deviation_Detail!$J$24:$J$5800,\"Unknown Causes\"))","v":""}]
[null,{"$f":"IF(Lists!BA3=\"\",\"\",Lists!BA3)","v":""},{"$f":"IF(Lists!BB3=\"\",\"\",Lists!BB3)","v":""},{"$f":"IF(Lists!BC3=\"\",\"\",Lists!BC3)","v":""},{"$f":"IF(Lists!BE3=\"\",\"\",Lists!BE3)","v":""},{"$f":"IF($E25=\"\",\"\",SUMIFS(CMS_Deviation_Detail!$I$24:$I$5400,CMS_Deviation_Detail!$B$24:$B$5400,B25,CMS_Deviation_Detail!$C$24:$C$5400,C25,CMS_Deviation_Detail!$D$24:$D$5400,D25))","v":""},{"$f":"IF($E25=\"\",\"\",IF(F25=0,\"N/A\",F25/$E25))","v":""},{"$f":"IF($E25=\"\",\"\",SUMIFS(CMS_Deviation_Detail!$I$24:$I$5800,CMS_Deviation_Detail!$B$24:$B$5800,B25,CMS_Deviation_Detail!$C$24:$C$5800,C25,CMS_Deviation_Detail!$D$24:$D$5800,D25,CMS_Deviation_Detail!$J$24:$J$5800,\"Monitoring System Malfunctions\"))","v":""},{"$f":"IF($E25=\"\",\"\",SUMIFS(CMS_Deviation_Detail!$I$24:$I$5800,CMS_Deviation_Detail!$B$24:$B$5800,B25,CMS_Deviation_Detail!$C$24:$C$5800,C25,CMS_Deviation_Detail!$D$24:$D$5800,D25,CMS_Deviation_Detail!$J$24:$J$5800,\"Nonmonitoring Equipment Malfunctions\"))","v":""},{"$f":"IF($E25=\"\",\"\",SUMIFS(CMS_Deviation_Detail!$I$24:$I$5800,CMS_Deviation_Detail!$B$24:$B$5800,B25,CMS_Deviation_Detail!$C$24:$C$5800,C25,CMS_Deviation_Detail!$D$24:$D$5800,D25,CMS_Deviation_Detail!$J$24:$J$5800,\"Quality Assurance/Quality Control Calibrations\"))","v":""},{"$f":"IF($E25=\"\",\"\",SUMIFS(CMS_Deviation_Detail!$I$24:$I$5800,CMS_Deviation_Detail!$B$24:$B$5800,B25,CMS_Deviation_Detail!$C$24:$C$5800,C25,CMS_Deviation_Detail!$D$24:$D$5800,D25,CMS_Deviation_Detail!$J$24:$J$5800,\"Other Known Causes\"))","v":""},{"$f":"IF($E25=\"\",\"\",SUMIFS(CMS_Deviation_Detail!$I$24:$I$5800,CMS_Deviation_Detail!$B$24:$B$5800,B25,CMS_Deviation_Detail!$C$24:$C$5800,C25,CMS_Deviation_Detail!$D$24:$D$5800,D25,CMS_Deviation_Detail!$J$24:$J$5800,\"Unknown Causes\"))","v":""}]
[null,{"$f":"IF(Lists!BA4=\"\",\"\",Lists!BA4)","v":""},{"$f":"IF(Lists!BB4=\"\",\"\",Lists!BB4)","v":""},{"$f":"IF(Lists!BC4=\"\",\"\",Lists!BC4)","v":""},{"$f":"IF(Lists!BE4=\"\",\"\",Lists!BE4)","v":""},{"$f":"IF($E26=\"\",\"\",SUMIFS(CMS_Deviation_Detail!$I$24:$I$5400,CMS_Deviation_Detail!$B$24:$B$5400,B26,CMS_Deviation_Detail!$C$24:$C$5400,C26,CMS_Deviation_Detail!$D$24:$D$5400,D26))","v":""},"",{"$f":"IF($E26=\"\",\"\",SUMIFS(CMS_Deviation_Detail!$I$24:$I$5800,CMS_Deviation_Detail!$B$24:$B$5800,B26,CMS_Deviation_Detail!$C$24:$C$5800,C26,CMS_Deviation_Detail!$D$24:$D$5800,D26,CMS_Deviation_Detail!$J$24:$J$5800,\"Monitoring System Malfunctions\"))","v":""},{"$f":"IF($E26=\"\",\"\",SUMIFS(CMS_Deviation_Detail!$I$24:$I$5800,CMS_Deviation_Detail!$B$24:$B$5800,B26,CMS_Deviation_Detail!$C$24:$C$5800,C26,CMS_Deviation_Detail!$D$24:$D$5800,D26,CMS_Deviation_Detail!$J$24:$J$5800,\"Nonmonitoring Equipment Malfunctions\"))","v":""},{"$f":"IF($E26=\"\",\"\",SUMIFS(CMS_Deviation_Detail!$I$24:$I$5800,CMS_Deviation_Detail!$B$24:$B$5800,B26,CMS_Deviation_Detail!$C$24:$C$5800,C26,CMS_Deviation_Detail!$D$24:$D$5800,D26,CMS_Deviation_Detail!$J$24:$J$5800,\"Quality Assurance/Quality Control Calibrations\"))","v":""},{"$f":"IF($E26=\"\",\"\",SUMIFS(CMS_Deviation_Detail!$I$24:$I$5800,CMS_Deviation_Detail!$B$24:$B$5800,B26,CMS_Deviation_Detail!$C$24:$C$5800,C26,CMS_Deviation_Detail!$D$24:$D$5800,D26,CMS_Deviation_Detail!$J$24:$J$5800,\"Other Known Causes\"))","v":""},{"$f":"IF($E26=\"\",\"\",SUMIFS(CMS_Deviation_Detail!$I$24:$I$5800,CMS_Deviation_Detail!$B$24:$B$5800,B26,CMS_Deviation_Detail!$C$24:$C$5800,C26,CMS_Deviation_Detail!$D$24:$D$5800,D26,CMS_Deviation_Detail!$J$24:$J$5800,\"Unknown Causes\"))","v":""}]
[null,{"$f":"IF(Lists!BA5=\"\",\"\",Lists!BA5)","v":""},{"$f":"IF(Lists!BB5=\"\",\"\",Lists!BB5)","v":""},{"$f":"IF(Lists!BC5=\"\",\"\",Lists!BC5)","v":""},{"$f":"IF(Lists!BE5=\"\",\"\",Lists!BE5)","v":""},{"$f":"IF($E27=\"\",\"\",SUMIFS(CMS_Deviation_Detail!$I$24:$I$5400,CMS_Deviation_Detail!$B$24:$B$5400,B27,CMS_Deviation_Detail!$C$24:$C$5400,C27,CMS_Deviation_Detail!$D$24:$D$5400,D27))","v":""},"",{"$f":"IF($E27=\"\",\"\",SUMIFS(CMS_Deviation_Detail!$I$24:$I$5800,CMS_Deviation_Detail!$B$24:$B$5800,B27,CMS_Deviation_Detail!$C$24:$C$5800,C27,CMS_Deviation_Detail!$D$24:$D$5800,D27,CMS_Deviation_Detail!$J$24:$J$5800,\"Monitoring System Malfunctions\"))","v":""},{"$f":"IF($E27=\"\",\"\",SUMIFS(CMS_Deviation_Detail!$I$24:$I$5800,CMS_Deviation_Detail!$B$24:$B$5800,B27,CMS_Deviation_Detail!$C$24:$C$5800,C27,CMS_Deviation_Detail!$D$24:$D$5800,D27,CMS_Deviation_Detail!$J$24:$J$5800,\"Nonmonitoring Equipment Malfunctions\"))","v":""},{"$f":"IF($E27=\"\",\"\",SUMIFS(CMS_Deviation_Detail!$I$24:$I$5800,CMS_Deviation_Detail!$B$24:$B$5800,B27,CMS_Deviation_Detail!$C$24:$C$5800,C27,CMS_Deviation_Detail!$D$24:$D$5800,D27,CMS_Deviation_Detail!$J$24:$J$5800,\"Quality Assurance/Quality Control Calibrations\"))","v":""},{"$f":"IF($E27=\"\",\"\",SUMIFS(CMS_Deviation_Detail!$I$24:$I$5800,CMS_Deviation_Detail!$B$24:$B$5800,B27,CMS_Deviation_Detail!$C$24:$C$5800,C27,CMS_Deviation_Detail!$D$24:$D$5800,D27,CMS_Deviation_Detail!$J$24:$J$5800,\"Other Known Causes\"))","v":""},{"$f":"IF($E27=\"\",\"\",SUMIFS(CMS_Deviation_Detail!$I$24:$I$5800,CMS_Deviation_Detail!$B$24:$B$5800,B27,CMS_Deviation_Detail!$C$24:$C$5800,C27,CMS_Deviation_Detail!$D$24:$D$5800,D27,CMS_Deviation_Detail!$J$24:$J$5800,\"Unknown Causes\"))","v":""}]
[null,{"$f":"IF(Lists!BA6=\"\",\"\",Lists!BA6)","v":""},{"$f":"IF(Lists!BB6=\"\",\"\",Lists!BB6)","v":""},{"$f":"IF(Lists!BC6=\"\",\"\",Lists!BC6)","v":""},{"$f":"IF(Lists!BE6=\"\",\"\",Lists!BE6)","v":""},{"$f":"IF($E28=\"\",\"\",SUMIFS(CMS_Deviation_Detail!$I$24:$I$5400,CMS_Deviation_Detail!$B$24:$B$5400,B28,CMS_Deviation_Detail!$C$24:$C$5400,C28,CMS_Deviation_Detail!$D$24:$D$5400,D28))","v":""},"",{"$f":"IF($E28=\"\",\"\",SUMIFS(CMS_Deviation_Detail!$I$24:$I$5800,CMS_Deviation_Detail!$B$24:$B$5800,B28,CMS_Deviation_Detail!$C$24:$C$5800,C28,CMS_Deviation_Detail!$D$24:$D$5800,D28,CMS_Deviation_Detail!$J$24:$J$5800,\"Monitoring System Malfunctions\"))","v":""},{"$f":"IF($E28=\"\",\"\",SUMIFS(CMS_Deviation_Detail!$I$24:$I$5800,CMS_Deviation_Detail!$B$24:$B$5800,B28,CMS_Deviation_Detail!$C$24:$C$5800,C28,CMS_Deviation_Detail!$D$24:$D$5800,D28,CMS_Deviation_Detail!$J$24:$J$5800,\"Nonmonitoring Equipment Malfunctions\"))","v":""},{"$f":"IF($E28=\"\",\"\",SUMIFS(CMS_Deviation_Detail!$I$24:$I$5800,CMS_Deviation_Detail!$B$24:$B$5800,B28,CMS_Deviation_Detail!$C$24:$C$5800,C28,CMS_Deviation_Detail!$D$24:$D$5800,D28,CMS_Deviation_Detail!$J$24:$J$5800,\"Quality Assurance/Quality Control Calibrations\"))","v":""},{"$f":"IF($E28=\"\",\"\",SUMIFS(CMS_Deviation_Detail!$I$24:$I$5800,CMS_Deviation_Detail!$B$24:$B$5800,B28,CMS_Deviation_Detail!$C$24:$C$5800,C28,CMS_Deviation_Detail!$D$24:$D$5800,D28,CMS_Deviation_Detail!$J$24:$J$5800,\"Other Known Causes\"))","v":""},{"$f":"IF($E28=\"\",\"\",SUMIFS(CMS_Deviation_Detail!$I$24:$I$5800,CMS_Deviation_Detail!$B$24:$B$5800,B28,CMS_Deviation_Detail!$C$24:$C$5800,C28,CMS_Deviation_Detail!$D$24:$D$5800,D28,CMS_Deviation_Detail!$J$24:$J$5800,\"Unknown Causes\"))","v":""}]
[null,{"$f":"IF(Lists!BA7=\"\",\"\",Lists!BA7)","v":""},{"$f":"IF(Lists!BB7=\"\",\"\",Lists!BB7)","v":""},{"$f":"IF(Lists!BC7=\"\",\"\",Lists!BC7)","v":""},{"$f":"IF(Lists!BE7=\"\",\"\",Lists!BE7)","v":""},{"$f":"IF($E29=\"\",\"\",SUMIFS(CMS_Deviation_Detail!$I$24:$I$5400,CMS_Deviation_Detail!$B$24:$B$5400,B29,CMS_Deviation_Detail!$C$24:$C$5400,C29,CMS_Deviation_Detail!$D$24:$D$5400,D29))","v":""},"",{"$f":"IF($E29=\"\",\"\",SUMIFS(CMS_Deviation_Detail!$I$24:$I$5800,CMS_Deviation_Detail!$B$24:$B$5800,B29,CMS_Deviation_Detail!$C$24:$C$5800,C29,CMS_Deviation_Detail!$D$24:$D$5800,D29,CMS_Deviation_Detail!$J$24:$J$5800,\"Monitoring System Malfunctions\"))","v":""},{"$f":"IF($E29=\"\",\"\",SUMIFS(CMS_Deviation_Detail!$I$24:$I$5800,CMS_Deviation_Detail!$B$24:$B$5800,B29,CMS_Deviation_Detail!$C$24:$C$5800,C29,CMS_Deviation_Detail!$D$24:$D$5800,D29,CMS_Deviation_Detail!$J$24:$J$5800,\"Nonmonitoring Equipment Malfunctions\"))","v":""},{"$f":"IF($E29=\"\",\"\",SUMIFS(CMS_Deviation_Detail!$I$24:$I$5800,CMS_Deviation_Detail!$B$24:$B$5800,B29,CMS_Deviation_Detail!$C$24:$C$5800,C29,CMS_Deviation_Detail!$D$24:$D$5800,D29,CMS_Deviation_Detail!$J$24:$J$5800,\"Quality Assurance/Quality Control Calibrations\"))","v":""},{"$f":"IF($E29=\"\",\"\",SUMIFS(CMS_Deviation_Detail!$I$24:$I$5800,CMS_Deviation_Detail!$B$24:$B$5800,B29,CMS_Deviation_Detail!$C$24:$C$5800,C29,CMS_Deviation_Detail!$D$24:$D$5800,D29,CMS_Deviation_Detail!$J$24:$J$5800,\"Other Known Causes\"))","v":""},{"$f":"IF($E29=\"\",\"\",SUMIFS(CMS_Deviation_Detail!$I$24:$I$5800,CMS_Deviation_Detail!$B$24:$B$5800,B29,CMS_Deviation_Detail!$C$24:$C$5800,C29,CMS_Deviation_Detail!$D$24:$D$5800,D29,CMS_Deviation_Detail!$J$24:$J$5800,\"Unknown Causes\"))","v":""}]
[null,{"$f":"IF(Lists!BA8=\"\",\"\",Lists!BA8)","v":""},{"$f":"IF(Lists!BB8=\"\",\"\",Lists!BB8)","v":""},{"$f":"IF(Lists!BC8=\"\",\"\",Lists!BC8)","v":""},{"$f":"IF(Lists!BE8=\"\",\"\",Lists!BE8)","v":""},{"$f":"IF($E30=\"\",\"\",SUMIFS(CMS_Deviation_Detail!$I$24:$I$5400,CMS_Deviation_Detail!$B$24:$B$5400,B30,CMS_Deviation_Detail!$C$24:$C$5400,C30,CMS_Deviation_Detail!$D$24:$D$5400,D30))","v":""},"",{"$f":"IF($E30=\"\",\"\",SUMIFS(CMS_Deviation_Detail!$I$24:$I$5800,CMS_Deviation_Detail!$B$24:$B$5800,B30,CMS_Deviation_Detail!$C$24:$C$5800,C30,CMS_Deviation_Detail!$D$24:$D$5800,D30,CMS_Deviation_Detail!$J$24:$J$5800,\"Monitoring System Malfunctions\"))","v":""},{"$f":"IF($E30=\"\",\"\",SUMIFS(CMS_Deviation_Detail!$I$24:$I$5800,CMS_Deviation_Detail!$B$24:$B$5800,B30,CMS_Deviation_Detail!$C$24:$C$5800,C30,CMS_Deviation_Detail!$D$24:$D$5800,D30,CMS_Deviation_Detail!$J$24:$J$5800,\"Nonmonitoring Equipment Malfunctions\"))","v":""},{"$f":"IF($E30=\"\",\"\",SUMIFS(CMS_Deviation_Detail!$I$24:$I$5800,CMS_Deviation_Detail!$B$24:$B$5800,B30,CMS_Deviation_Detail!$C$24:$C$5800,C30,CMS_Deviation_Detail!$D$24:$D$5800,D30,CMS_Deviation_Detail!$J$24:$J$5800,\"Quality Assurance/Quality Control Calibrations\"))","v":""},{"$f":"IF($E30=\"\",\"\",SUMIFS(CMS_Deviation_Detail!$I$24:$I$5800,CMS_Deviation_Detail!$B$24:$B$5800,B30,CMS_Deviation_Detail!$C$24:$C$5800,C30,CMS_Deviation_Detail!$D$24:$D$5800,D30,CMS_Deviation_Detail!$J$24:$J$5800,\"Other Known Causes\"))","v":""},{"$f":"IF($E30=\"\",\"\",SUMIFS(CMS_Deviation_Detail!$I$24:$I$5800,CMS_Deviation_Detail!$B$24:$B$5800,B30,CMS_Deviation_Detail!$C$24:$C$5800,C30,CMS_Deviation_Detail!$D$24:$D$5800,D30,CMS_Deviation_Detail!$J$24:$J$5800,\"Unknown Causes\"))","v":""}]
[null,{"$f":"IF(Lists!BA9=\"\",\"\",Lists!BA9)","v":""},{"$f":"IF(Lists!BB9=\"\",\"\",Lists!BB9)","v":""},{"$f":"IF(Lists!BC9=\"\",\"\",Lists!BC9)","v":""},{"$f":"IF(Lists!BE9=\"\",\"\",Lists!BE9)","v":""},{"$f":"IF($E31=\"\",\"\",SUMIFS(CMS_Deviation_Detail!$I$24:$I$5400,CMS_Deviation_Detail!$B$24:$B$5400,B31,CMS_Deviation_Detail!$C$24:$C$5400,C31,CMS_Deviation_Detail!$D$24:$D$5400,D31))","v":""},"",{"$f":"IF($E31=\"\",\"\",SUMIFS(CMS_Deviation_Detail!$I$24:$I$5800,CMS_Deviation_Detail!$B$24:$B$5800,B31,CMS_Deviation_Detail!$C$24:$C$5800,C31,CMS_Deviation_Detail!$D$24:$D$5800,D31,CMS_Deviation_Detail!$J$24:$J$5800,\"Monitoring System Malfunctions\"))","v":""},{"$f":"IF($E31=\"\",\"\",SUMIFS(CMS_Deviation_Detail!$I$24:$I$5800,CMS_Deviation_Detail!$B$24:$B$5800,B31,CMS_Deviation_Detail!$C$24:$C$5800,C31,CMS_Deviation_Detail!$D$24:$D$5800,D31,CMS_Deviation_Detail!$J$24:$J$5800,\"Nonmonitoring Equipment Malfunctions\"))","v":""},{"$f":"IF($E31=\"\",\"\",SUMIFS(CMS_Deviation_Detail!$I$24:$I$5800,CMS_Deviation_Detail!$B$24:$B$5800,B31,CMS_Deviation_Detail!$C$24:$C$5800,C31,CMS_Deviation_Detail!$D$24:$D$5800,D31,CMS_Deviation_Detail!$J$24:$J$5800,\"Quality Assurance/Quality Control Calibrations\"))","v":""},{"$f":"IF($E31=\"\",\"\",SUMIFS(CMS_Deviation_Detail!$I$24:$I$5800,CMS_Deviation_Detail!$B$24:$B$5800,B31,CMS_Deviation_Detail!$C$24:$C$5800,C31,CMS_Deviation_Detail!$D$24:$D$5800,D31,CMS_Deviation_Detail!$J$24:$J$5800,\"Other Known Causes\"))","v":""},{"$f":"IF($E31=\"\",\"\",SUMIFS(CMS_Deviation_Detail!$I$24:$I$5800,CMS_Deviation_Detail!$B$24:$B$5800,B31,CMS_Deviation_Detail!$C$24:$C$5800,C31,CMS_Deviation_Detail!$D$24:$D$5800,D31,CMS_Deviation_Detail!$J$24:$J$5800,\"Unknown Causes\"))","v":""}]
[null,{"$f":"IF(Lists!BA10=\"\",\"\",Lists!BA10)","v":""},{"$f":"IF(Lists!BB10=\"\",\"\",Lists!BB10)","v":""},{"$f":"IF(Lists!BC10=\"\",\"\",Lists!BC10)","v":""},{"$f":"IF(Lists!BE10=\"\",\"\",Lists!BE10)","v":""},{"$f":"IF($E32=\"\",\"\",SUMIFS(CMS_Deviation_Detail!$I$24:$I$5400,CMS_Deviation_Detail!$B$24:$B$5400,B32,CMS_Deviation_Detail!$C$24:$C$5400,C32,CMS_Deviation_Detail!$D$24:$D$5400,D32))","v":""},"",{"$f":"IF($E32=\"\",\"\",SUMIFS(CMS_Deviation_Detail!$I$24:$I$5800,CMS_Deviation_Detail!$B$24:$B$5800,B32,CMS_Deviation_Detail!$C$24:$C$5800,C32,CMS_Deviation_Detail!$D$24:$D$5800,D32,CMS_Deviation_Detail!$J$24:$J$5800,\"Monitoring System Malfunctions\"))","v":""},{"$f":"IF($E32=\"\",\"\",SUMIFS(CMS_Deviation_Detail!$I$24:$I$5800,CMS_Deviation_Detail!$B$24:$B$5800,B32,CMS_Deviation_Detail!$C$24:$C$5800,C32,CMS_Deviation_Detail!$D$24:$D$5800,D32,CMS_Deviation_Detail!$J$24:$J$5800,\"Nonmonitoring Equipment Malfunctions\"))","v":""},{"$f":"IF($E32=\"\",\"\",SUMIFS(CMS_Deviation_Detail!$I$24:$I$5800,CMS_Deviation_Detail!$B$24:$B$5800,B32,CMS_Deviation_Detail!$C$24:$C$5800,C32,CMS_Deviation_Detail!$D$24:$D$5800,D32,CMS_Deviation_Detail!$J$24:$J$5800,\"Quality Assurance/Quality Control Calibrations\"))","v":""},{"$f":"IF($E32=\"\",\"\",SUMIFS(CMS_Deviation_Detail!$I$24:$I$5800,CMS_Deviation_Detail!$B$24:$B$5800,B32,CMS_Deviation_Detail!$C$24:$C$5800,C32,CMS_Deviation_Detail!$D$24:$D$5800,D32,CMS_Deviation_Detail!$J$24:$J$5800,\"Other Known Causes\"))","v":""},{"$f":"IF($E32=\"\",\"\",SUMIFS(CMS_Deviation_Detail!$I$24:$I$5800,CMS_Deviation_Detail!$B$24:$B$5800,B32,CMS_Deviation_Detail!$C$24:$C$5800,C32,CMS_Deviation_Detail!$D$24:$D$5800,D32,CMS_Deviation_Detail!$J$24:$J$5800,\"Unknown Causes\"))","v":""}]
[null,{"$f":"IF(Lists!BA11=\"\",\"\",Lists!BA11)","v":""},{"$f":"IF(Lists!BB11=\"\",\"\",Lists!BB11)","v":""},{"$f":"IF(Lists!BC11=\"\",\"\",Lists!BC11)","v":""},{"$f":"IF(Lists!BE11=\"\",\"\",Lists!BE11)","v":""},{"$f":"IF($E33=\"\",\"\",SUMIFS(CMS_Deviation_Detail!$I$24:$I$5400,CMS_Deviation_Detail!$B$24:$B$5400,B33,CMS_Deviation_Detail!$C$24:$C$5400,C33,CMS_Deviation_Detail!$D$24:$D$5400,D33))","v":""},"",{"$f":"IF($E33=\"\",\"\",SUMIFS(CMS_Deviation_Detail!$I$24:$I$5800,CMS_Deviation_Detail!$B$24:$B$5800,B33,CMS_Deviation_Detail!$C$24:$C$5800,C33,CMS_Deviation_Detail!$D$24:$D$5800,D33,CMS_Deviation_Detail!$J$24:$J$5800,\"Monitoring System Malfunctions\"))","v":""},{"$f":"IF($E33=\"\",\"\",SUMIFS(CMS_Deviation_Detail!$I$24:$I$5800,CMS_Deviation_Detail!$B$24:$B$5800,B33,CMS_Deviation_Detail!$C$24:$C$5800,C33,CMS_Deviation_Detail!$D$24:$D$5800,D33,CMS_Deviation_Detail!$J$24:$J$5800,\"Nonmonitoring Equipment Malfunctions\"))","v":""},{"$f":"IF($E33=\"\",\"\",SUMIFS(CMS_Deviation_Detail!$I$24:$I$5800,CMS_Deviation_Detail!$B$24:$B$5800,B33,CMS_Deviation_Detail!$C$24:$C$5800,C33,CMS_Deviation_Detail!$D$24:$D$5800,D33,CMS_Deviation_Detail!$J$24:$J$5800,\"Quality Assurance/Quality Control Calibrations\"))","v":""},{"$f":"IF($E33=\"\",\"\",SUMIFS(CMS_Deviation_Detail!$I$24:$I$5800,CMS_Deviation_Detail!$B$24:$B$5800,B33,CMS_Deviation_Detail!$C$24:$C$5800,C33,CMS_Deviation_Detail!$D$24:$D$5800,D33,CMS_Deviation_Detail!$J$24:$J$5800,\"Other Known Causes\"))","v":""},{"$f":"IF($E33=\"\",\"\",SUMIFS(CMS_Deviation_Detail!$I$24:$I$5800,CMS_Deviation_Detail!$B$24:$B$5800,B33,CMS_Deviation_Detail!$C$24:$C$5800,C33,CMS_Deviation_Detail!$D$24:$D$5800,D33,CMS_Deviation_Detail!$J$24:$J$5800,\"Unknown Causes\"))","v":""}]
[null,{"$f":"IF(Lists!BA12=\"\",\"\",Lists!BA12)","v":""},{"$f":"IF(Lists!BB12=\"\",\"\",Lists!BB12)","v":""},{"$f":"IF(Lists!BC12=\"\",\"\",Lists!BC12)","v":""},{"$f":"IF(Lists!BE12=\"\",\"\",Lists!BE12)","v":""},{"$f":"IF($E34=\"\",\"\",SUMIFS(CMS_Deviation_Detail!$I$24:$I$5400,CMS_Deviation_Detail!$B$24:$B$5400,B34,CMS_Deviation_Detail!$C$24:$C$5400,C34,CMS_Deviation_Detail!$D$24:$D$5400,D34))","v":""},"",{"$f":"IF($E34=\"\",\"\",SUMIFS(CMS_Deviation_Detail!$I$24:$I$5800,CMS_Deviation_Detail!$B$24:$B$5800,B34,CMS_Deviation_Detail!$C$24:$C$5800,C34,CMS_Deviation_Detail!$D$24:$D$5800,D34,CMS_Deviation_Detail!$J$24:$J$5800,\"Monitoring System Malfunctions\"))","v":""},{"$f":"IF($E34=\"\",\"\",SUMIFS(CMS_Deviation_Detail!$I$24:$I$5800,CMS_Deviation_Detail!$B$24:$B$5800,B34,CMS_Deviation_Detail!$C$24:$C$5800,C34,CMS_Deviation_Detail!$D$24:$D$5800,D34,CMS_Deviation_Detail!$J$24:$J$5800,\"Nonmonitoring Equipment Malfunctions\"))","v":""},{"$f":"IF($E34=\"\",\"\",SUMIFS(CMS_Deviation_Detail!$I$24:$I$5800,CMS_Deviation_Detail!$B$24:$B$5800,B34,CMS_Deviation_Detail!$C$24:$C$5800,C34,CMS_Deviation_Detail!$D$24:$D$5800,D34,CMS_Deviation_Detail!$J$24:$J$5800,\"Quality Assurance/Quality Control Calibrations\"))","v":""},{"$f":"IF($E34=\"\",\"\",SUMIFS(CMS_Deviation_Detail!$I$24:$I$5800,CMS_Deviation_Detail!$B$24:$B$5800,B34,CMS_Deviation_Detail!$C$24:$C$5800,C34,CMS_Deviation_Detail!$D$24:$D$5800,D34,CMS_Deviation_Detail!$J$24:$J$5800,\"Other Known Causes\"))","v":""},{"$f":"IF($E34=\"\",\"\",SUMIFS(CMS_Deviation_Detail!$I$24:$I$5800,CMS_Deviation_Detail!$B$24:$B$5800,B34,CMS_Deviation_Detail!$C$24:$C$5800,C34,CMS_Deviation_Detail!$D$24:$D$5800,D34,CMS_Deviation_Detail!$J$24:$J$5800,\"Unknown Causes\"))","v":""}]
[null,{"$f":"IF(Lists!BA13=\"\",\"\",Lists!BA13)","v":""},{"$f":"IF(Lists!BB13=\"\",\"\",Lists!BB13)","v":""},{"$f":"IF(Lists!BC13=\"\",\"\",Lists!BC13)","v":""},{"$f":"IF(Lists!BE13=\"\",\"\",Lists!BE13)","v":""},{"$f":"IF($E35=\"\",\"\",SUMIFS(CMS_Deviation_Detail!$I$24:$I$5400,CMS_Deviation_Detail!$B$24:$B$5400,B35,CMS_Deviation_Detail!$C$24:$C$5400,C35,CMS_Deviation_Detail!$D$24:$D$5400,D35))","v":""},"",{"$f":"IF($E35=\"\",\"\",SUMIFS(CMS_Deviation_Detail!$I$24:$I$5800,CMS_Deviation_Detail!$B$24:$B$5800,B35,CMS_Deviation_Detail!$C$24:$C$5800,C35,CMS_Deviation_Detail!$D$24:$D$5800,D35,CMS_Deviation_Detail!$J$24:$J$5800,\"Monitoring System Malfunctions\"))","v":""},{"$f":"IF($E35=\"\",\"\",SUMIFS(CMS_Deviation_Detail!$I$24:$I$5800,CMS_Deviation_Detail!$B$24:$B$5800,B35,CMS_Deviation_Detail!$C$24:$C$5800,C35,CMS_Deviation_Detail!$D$24:$D$5800,D35,CMS_Deviation_Detail!$J$24:$J$5800,\"Nonmonitoring Equipment Malfunctions\"))","v":""},{"$f":"IF($E35=\"\",\"\",SUMIFS(CMS_Deviation_Detail!$I$24:$I$5800,CMS_Deviation_Detail!$B$24:$B$5800,B35,CMS_Deviation_Detail!$C$24:$C$5800,C35,CMS_Deviation_Detail!$D$24:$D$5800,D35,CMS_Deviation_Detail!$J$24:$J$5800,\"Quality Assurance/Quality Control Calibrations\"))","v":""},{"$f":"IF($E35=\"\",\"\",SUMIFS(CMS_Deviation_Detail!$I$24:$I$5800,CMS_Deviation_Detail!$B$24:$B$5800,B35,CMS_Deviation_Detail!$C$24:$C$5800,C35,CMS_Deviation_Detail!$D$24:$D$5800,D35,CMS_Deviation_Detail!$J$24:$J$5800,\"Other Known Causes\"))","v":""},{"$f":"IF($E35=\"\",\"\",SUMIFS(CMS_Deviation_Detail!$I$24:$I$5800,CMS_Deviation_Detail!$B$24:$B$5800,B35,CMS_Deviation_Detail!$C$24:$C$5800,C35,CMS_Deviation_Detail!$D$24:$D$5800,D35,CMS_Deviation_Detail!$J$24:$J$5800,\"Unknown Causes\"))","v":""}]
[null,{"$f":"IF(Lists!BA14=\"\",\"\",Lists!BA14)","v":""},{"$f":"IF(Lists!BB14=\"\",\"\",Lists!BB14)","v":""},{"$f":"IF(Lists!BC14=\"\",\"\",Lists!BC14)","v":""},{"$f":"IF(Lists!BE14=\"\",\"\",Lists!BE14)","v":""},{"$f":"IF($E36=\"\",\"\",SUMIFS(CMS_Deviation_Detail!$I$24:$I$5400,CMS_Deviation_Detail!$B$24:$B$5400,B36,CMS_Deviation_Detail!$C$24:$C$5400,C36,CMS_Deviation_Detail!$D$24:$D$5400,D36))","v":""},"",{"$f":"IF($E36=\"\",\"\",SUMIFS(CMS_Deviation_Detail!$I$24:$I$5800,CMS_Deviation_Detail!$B$24:$B$5800,B36,CMS_Deviation_Detail!$C$24:$C$5800,C36,CMS_Deviation_Detail!$D$24:$D$5800,D36,CMS_Deviation_Detail!$J$24:$J$5800,\"Monitoring System Malfunctions\"))","v":""},{"$f":"IF($E36=\"\",\"\",SUMIFS(CMS_Deviation_Detail!$I$24:$I$5800,CMS_Deviation_Detail!$B$24:$B$5800,B36,CMS_Deviation_Detail!$C$24:$C$5800,C36,CMS_Deviation_Detail!$D$24:$D$5800,D36,CMS_Deviation_Detail!$J$24:$J$5800,\"Nonmonitoring Equipment Malfunctions\"))","v":""},{"$f":"IF($E36=\"\",\"\",SUMIFS(CMS_Deviation_Detail!$I$24:$I$5800,CMS_Deviation_Detail!$B$24:$B$5800,B36,CMS_Deviation_Detail!$C$24:$C$5800,C36,CMS_Deviation_Detail!$D$24:$D$5800,D36,CMS_Deviation_Detail!$J$24:$J$5800,\"Quality Assurance/Quality Control Calibrations\"))","v":""},{"$f":"IF($E36=\"\",\"\",SUMIFS(CMS_Deviation_Detail!$I$24:$I$5800,CMS_Deviation_Detail!$B$24:$B$5800,B36,CMS_Deviation_Detail!$C$24:$C$5800,C36,CMS_Deviation_Detail!$D$24:$D$5800,D36,CMS_Deviation_Detail!$J$24:$J$5800,\"Other Known Causes\"))","v":""},{"$f":"IF($E36=\"\",\"\",SUMIFS(CMS_Deviation_Detail!$I$24:$I$5800,CMS_Deviation_Detail!$B$24:$B$5800,B36,CMS_Deviation_Detail!$C$24:$C$5800,C36,CMS_Deviation_Detail!$D$24:$D$5800,D36,CMS_Deviation_Detail!$J$24:$J$5800,\"Unknown Causes\"))","v":""}]
[null,{"$f":"IF(Lists!BA15=\"\",\"\",Lists!BA15)","v":""},{"$f":"IF(Lists!BB15=\"\",\"\",Lists!BB15)","v":""},{"$f":"IF(Lists!BC15=\"\",\"\",Lists!BC15)","v":""},{"$f":"IF(Lists!BE15=\"\",\"\",Lists!BE15)","v":""},{"$f":"IF($E37=\"\",\"\",SUMIFS(CMS_Deviation_Detail!$I$24:$I$5400,CMS_Deviation_Detail!$B$24:$B$5400,B37,CMS_Deviation_Detail!$C$24:$C$5400,C37,CMS_Deviation_Detail!$D$24:$D$5400,D37))","v":""},"",{"$f":"IF($E37=\"\",\"\",SUMIFS(CMS_Deviation_Detail!$I$24:$I$5800,CMS_Deviation_Detail!$B$24:$B$5800,B37,CMS_Deviation_Detail!$C$24:$C$5800,C37,CMS_Deviation_Detail!$D$24:$D$5800,D37,CMS_Deviation_Detail!$J$24:$J$5800,\"Monitoring System Malfunctions\"))","v":""},{"$f":"IF($E37=\"\",\"\",SUMIFS(CMS_Deviation_Detail!$I$24:$I$5800,CMS_Deviation_Detail!$B$24:$B$5800,B37,CMS_Deviation_Detail!$C$24:$C$5800,C37,CMS_Deviation_Detail!$D$24:$D$5800,D37,CMS_Deviation_Detail!$J$24:$J$5800,\"Nonmonitoring Equipment Malfunctions\"))","v":""},{"$f":"IF($E37=\"\",\"\",SUMIFS(CMS_Deviation_Detail!$I$24:$I$5800,CMS_Deviation_Detail!$B$24:$B$5800,B37,CMS_Deviation_Detail!$C$24:$C$5800,C37,CMS_Deviation_Detail!$D$24:$D$5800,D37,CMS_Deviation_Detail!$J$24:$J$5800,\"Quality Assurance/Quality Control Calibrations\"))","v":""},{"$f":"IF($E37=\"\",\"\",SUMIFS(CMS_Deviation_Detail!$I$24:$I$5800,CMS_Deviation_Detail!$B$24:$B$5800,B37,CMS_Deviation_Detail!$C$24:$C$5800,C37,CMS_Deviation_Detail!$D$24:$D$5800,D37,CMS_Deviation_Detail!$J$24:$J$5800,\"Other Known Causes\"))","v":""},{"$f":"IF($E37=\"\",\"\",SUMIFS(CMS_Deviation_Detail!$I$24:$I$5800,CMS_Deviation_Detail!$B$24:$B$5800,B37,CMS_Deviation_Detail!$C$24:$C$5800,C37,CMS_Deviation_Detail!$D$24:$D$5800,D37,CMS_Deviation_Detail!$J$24:$J$5800,\"Unknown Causes\"))","v":""}]
[null,{"$f":"IF(Lists!BA16=\"\",\"\",Lists!BA16)","v":""},{"$f":"IF(Lists!BB16=\"\",\"\",Lists!BB16)","v":""},{"$f":"IF(Lists!BC16=\"\",\"\",Lists!BC16)","v":""},{"$f":"IF(Lists!BE16=\"\",\"\",Lists!BE16)","v":""},{"$f":"IF($E38=\"\",\"\",SUMIFS(CMS_Deviation_Detail!$I$24:$I$5400,CMS_Deviation_Detail!$B$24:$B$5400,B38,CMS_Deviation_Detail!$C$24:$C$5400,C38,CMS_Deviation_Detail!$D$24:$D$5400,D38))","v":""},"",{"$f":"IF($E38=\"\",\"\",SUMIFS(CMS_Deviation_Detail!$I$24:$I$5800,CMS_Deviation_Detail!$B$24:$B$5800,B38,CMS_Deviation_Detail!$C$24:$C$5800,C38,CMS_Deviation_Detail!$D$24:$D$5800,D38,CMS_Deviation_Detail!$J$24:$J$5800,\"Monitoring System Malfunctions\"))","v":""},{"$f":"IF($E38=\"\",\"\",SUMIFS(CMS_Deviation_Detail!$I$24:$I$5800,CMS_Deviation_Detail!$B$24:$B$5800,B38,CMS_Deviation_Detail!$C$24:$C$5800,C38,CMS_Deviation_Detail!$D$24:$D$5800,D38,CMS_Deviation_Detail!$J$24:$J$5800,\"Nonmonitoring Equipment Malfunctions\"))","v":""},{"$f":"IF($E38=\"\",\"\",SUMIFS(CMS_Deviation_Detail!$I$24:$I$5800,CMS_Deviation_Detail!$B$24:$B$5800,B38,CMS_Deviation_Detail!$C$24:$C$5800,C38,CMS_Deviation_Detail!$D$24:$D$5800,D38,CMS_Deviation_Detail!$J$24:$J$5800,\"Quality Assurance/Quality Control Calibrations\"))","v":""},{"$f":"IF($E38=\"\",\"\",SUMIFS(CMS_Deviation_Detail!$I$24:$I$5800,CMS_Deviation_Detail!$B$24:$B$5800,B38,CMS_Deviation_Detail!$C$24:$C$5800,C38,CMS_Deviation_Detail!$D$24:$D$5800,D38,CMS_Deviation_Detail!$J$24:$J$5800,\"Other Known Causes\"))","v":""},{"$f":"IF($E38=\"\",\"\",SUMIFS(CMS_Deviation_Detail!$I$24:$I$5800,CMS_Deviation_Detail!$B$24:$B$5800,B38,CMS_Deviation_Detail!$C$24:$C$5800,C38,CMS_Deviation_Detail!$D$24:$D$5800,D38,CMS_Deviation_Detail!$J$24:$J$5800,\"Unknown Causes\"))","v":""}]
[null,{"$f":"IF(Lists!BA17=\"\",\"\",Lists!BA17)","v":""},{"$f":"IF(Lists!BB17=\"\",\"\",Lists!BB17)","v":""},{"$f":"IF(Lists!BC17=\"\",\"\",Lists!BC17)","v":""},{"$f":"IF(Lists!BE17=\"\",\"\",Lists!BE17)","v":""},{"$f":"IF($E39=\"\",\"\",SUMIFS(CMS_Deviation_Detail!$I$24:$I$5400,CMS_Deviation_Detail!$B$24:$B$5400,B39,CMS_Deviation_Detail!$C$24:$C$5400,C39,CMS_Deviation_Detail!$D$24:$D$5400,D39))","v":""},"",{"$f":"IF($E39=\"\",\"\",SUMIFS(CMS_Deviation_Detail!$I$24:$I$5800,CMS_Deviation_Detail!$B$24:$B$5800,B39,CMS_Deviation_Detail!$C$24:$C$5800,C39,CMS_Deviation_Detail!$D$24:$D$5800,D39,CMS_Deviation_Detail!$J$24:$J$5800,\"Monitoring System Malfunctions\"))","v":""},{"$f":"IF($E39=\"\",\"\",SUMIFS(CMS_Deviation_Detail!$I$24:$I$5800,CMS_Deviation_Detail!$B$24:$B$5800,B39,CMS_Deviation_Detail!$C$24:$C$5800,C39,CMS_Deviation_Detail!$D$24:$D$5800,D39,CMS_Deviation_Detail!$J$24:$J$5800,\"Nonmonitoring Equipment Malfunctions\"))","v":""},{"$f":"IF($E39=\"\",\"\",SUMIFS(CMS_Deviation_Detail!$I$24:$I$5800,CMS_Deviation_Detail!$B$24:$B$5800,B39,CMS_Deviation_Detail!$C$24:$C$5800,C39,CMS_Deviation_Detail!$D$24:$D$5800,D39,CMS_Deviation_Detail!$J$24:$J$5800,\"Quality Assurance/Quality Control Calibrations\"))","v":""},{"$f":"IF($E39=\"\",\"\",SUMIFS(CMS_Deviation_Detail!$I$24:$I$5800,CMS_Deviation_Detail!$B$24:$B$5800,B39,CMS_Deviation_Detail!$C$24:$C$5800,C39,CMS_Deviation_Detail!$D$24:$D$5800,D39,CMS_Deviation_Detail!$J$24:$J$5800,\"Other Known Causes\"))","v":""},{"$f":"IF($E39=\"\",\"\",SUMIFS(CMS_Deviation_Detail!$I$24:$I$5800,CMS_Deviation_Detail!$B$24:$B$5800,B39,CMS_Deviation_Detail!$C$24:$C$5800,C39,CMS_Deviation_Detail!$D$24:$D$5800,D39,CMS_Deviation_Detail!$J$24:$J$5800,\"Unknown Causes\"))","v":""}]
[null,{"$f":"IF(Lists!BA18=\"\",\"\",Lists!BA18)","v":""},{"$f":"IF(Lists!BB18=\"\",\"\",Lists!BB18)","v":""},{"$f":"IF(Lists!BC18=\"\",\"\",Lists!BC18)","v":""},{"$f":"IF(Lists!BE18=\"\",\"\",Lists!BE18)","v":""},{"$f":"IF($E40=\"\",\"\",SUMIFS(CMS_Deviation_Detail!$I$24:$I$5400,CMS_Deviation_Detail!$B$24:$B$5400,B40,CMS_Deviation_Detail!$C$24:$C$5400,C40,CMS_Deviation_Detail!$D$24:$D$5400,D40))","v":""},"",{"$f":"IF($E40=\"\",\"\",SUMIFS(CMS_Deviation_Detail!$I$24:$I$5800,CMS_Deviation_Detail!$B$24:$B$5800,B40,CMS_Deviation_Detail!$C$24:$C$5800,C40,CMS_Deviation_Detail!$D$24:$D$5800,D40,CMS_Deviation_Detail!$J$24:$J$5800,\"Monitoring System Malfunctions\"))","v":""},{"$f":"IF($E40=\"\",\"\",SUMIFS(CMS_Deviation_Detail!$I$24:$I$5800,CMS_Deviation_Detail!$B$24:$B$5800,B40,CMS_Deviation_Detail!$C$24:$C$5800,C40,CMS_Deviation_Detail!$D$24:$D$5800,D40,CMS_Deviation_Detail!$J$24:$J$5800,\"Nonmonitoring Equipment Malfunctions\"))","v":""},{"$f":"IF($E40=\"\",\"\",SUMIFS(CMS_Deviation_Detail!$I$24:$I$5800,CMS_Deviation_Detail!$B$24:$B$5800,B40,CMS_Deviation_Detail!$C$24:$C$5800,C40,CMS_Deviation_Detail!$D$24:$D$5800,D40,CMS_Deviation_Detail!$J$24:$J$5800,\"Quality Assurance/Quality Control Calibrations\"))","v":""},{"$f":"IF($E40=\"\",\"\",SUMIFS(CMS_Deviation_Detail!$I$24:$I$5800,CMS_Deviation_Detail!$B$24:$B$5800,B40,CMS_Deviation_Detail!$C$24:$C$5800,C40,CMS_Deviation_Detail!$D$24:$D$5800,D40,CMS_Deviation_Detail!$J$24:$J$5800,\"Other Known Causes\"))","v":""},{"$f":"IF($E40=\"\",\"\",SUMIFS(CMS_Deviation_Detail!$I$24:$I$5800,CMS_Deviation_Detail!$B$24:$B$5800,B40,CMS_Deviation_Detail!$C$24:$C$5800,C40,CMS_Deviation_Detail!$D$24:$D$5800,D40,CMS_Deviation_Detail!$J$24:$J$5800,\"Unknown Causes\"))","v":""}]
[null,{"$f":"IF(Lists!BA19=\"\",\"\",Lists!BA19)","v":""},{"$f":"IF(Lists!BB19=\"\",\"\",Lists!BB19)","v":""},{"$f":"IF(Lists!BC19=\"\",\"\",Lists!BC19)","v":""},{"$f":"IF(Lists!BE19=\"\",\"\",Lists!BE19)","v":""},{"$f":"IF($E41=\"\",\"\",SUMIFS(CMS_Deviation_Detail!$I$24:$I$5400,CMS_Deviation_Detail!$B$24:$B$5400,B41,CMS_Deviation_Detail!$C$24:$C$5400,C41,CMS_Deviation_Detail!$D$24:$D$5400,D41))","v":""},"",{"$f":"IF($E41=\"\",\"\",SUMIFS(CMS_Deviation_Detail!$I$24:$I$5800,CMS_Deviation_Detail!$B$24:$B$5800,B41,CMS_Deviation_Detail!$C$24:$C$5800,C41,CMS_Deviation_Detail!$D$24:$D$5800,D41,CMS_Deviation_Detail!$J$24:$J$5800,\"Monitoring System Malfunctions\"))","v":""},{"$f":"IF($E41=\"\",\"\",SUMIFS(CMS_Deviation_Detail!$I$24:$I$5800,CMS_Deviation_Detail!$B$24:$B$5800,B41,CMS_Deviation_Detail!$C$24:$C$5800,C41,CMS_Deviation_Detail!$D$24:$D$5800,D41,CMS_Deviation_Detail!$J$24:$J$5800,\"Nonmonitoring Equipment Malfunctions\"))","v":""},{"$f":"IF($E41=\"\",\"\",SUMIFS(CMS_Deviation_Detail!$I$24:$I$5800,CMS_Deviation_Detail!$B$24:$B$5800,B41,CMS_Deviation_Detail!$C$24:$C$5800,C41,CMS_Deviation_Detail!$D$24:$D$5800,D41,CMS_Deviation_Detail!$J$24:$J$5800,\"Quality Assurance/Quality Control Calibrations\"))","v":""},{"$f":"IF($E41=\"\",\"\",SUMIFS(CMS_Deviation_Detail!$I$24:$I$5800,CMS_Deviation_Detail!$B$24:$B$5800,B41,CMS_Deviation_Detail!$C$24:$C$5800,C41,CMS_Deviation_Detail!$D$24:$D$5800,D41,CMS_Deviation_Detail!$J$24:$J$5800,\"Other Known Causes\"))","v":""},{"$f":"IF($E41=\"\",\"\",SUMIFS(CMS_Deviation_Detail!$I$24:$I$5800,CMS_Deviation_Detail!$B$24:$B$5800,B41,CMS_Deviation_Detail!$C$24:$C$5800,C41,CMS_Deviation_Detail!$D$24:$D$5800,D41,CMS_Deviation_Detail!$J$24:$J$5800,\"Unknown Causes\"))","v":""}]
[null,{"$f":"IF(Lists!BA20=\"\",\"\",Lists!BA20)","v":""},{"$f":"IF(Lists!BB20=\"\",\"\",Lists!BB20)","v":""},{"$f":"IF(Lists!BC20=\"\",\"\",Lists!BC20)","v":""},{"$f":"IF(Lists!BE20=\"\",\"\",Lists!BE20)","v":""},{"$f":"IF($E42=\"\",\"\",SUMIFS(CMS_Deviation_Detail!$I$24:$I$5400,CMS_Deviation_Detail!$B$24:$B$5400,B42,CMS_Deviation_Detail!$C$24:$C$5400,C42,CMS_Deviation_Detail!$D$24:$D$5400,D42))","v":""},"",{"$f":"IF($E42=\"\",\"\",SUMIFS(CMS_Deviation_Detail!$I$24:$I$5800,CMS_Deviation_Detail!$B$24:$B$5800,B42,CMS_Deviation_Detail!$C$24:$C$5800,C42,CMS_Deviation_Detail!$D$24:$D$5800,D42,CMS_Deviation_Detail!$J$24:$J$5800,\"Monitoring System Malfunctions\"))","v":""},{"$f":"IF($E42=\"\",\"\",SUMIFS(CMS_Deviation_Detail!$I$24:$I$5800,CMS_Deviation_Detail!$B$24:$B$5800,B42,CMS_Deviation_Detail!$C$24:$C$5800,C42,CMS_Deviation_Detail!$D$24:$D$5800,D42,CMS_Deviation_Detail!$J$24:$J$5800,\"Nonmonitoring Equipment Malfunctions\"))","v":""},{"$f":"IF($E42=\"\",\"\",SUMIFS(CMS_Deviation_Detail!$I$24:$I$5800,CMS_Deviation_Detail!$B$24:$B$5800,B42,CMS_Deviation_Detail!$C$24:$C$5800,C42,CMS_Deviation_Detail!$D$24:$D$5800,D42,CMS_Deviation_Detail!$J$24:$J$5800,\"Quality Assurance/Quality Control Calibrations\"))","v":""},{"$f":"IF($E42=\"\",\"\",SUMIFS(CMS_Deviation_Detail!$I$24:$I$5800,CMS_Deviation_Detail!$B$24:$B$5800,B42,CMS_Deviation_Detail!$C$24:$C$5800,C42,CMS_Deviation_Detail!$D$24:$D$5800,D42,CMS_Deviation_Detail!$J$24:$J$5800,\"Other Known Causes\"))","v":""},{"$f":"IF($E42=\"\",\"\",SUMIFS(CMS_Deviation_Detail!$I$24:$I$5800,CMS_Deviation_Detail!$B$24:$B$5800,B42,CMS_Deviation_Detail!$C$24:$C$5800,C42,CMS_Deviation_Detail!$D$24:$D$5800,D42,CMS_Deviation_Detail!$J$24:$J$5800,\"Unknown Causes\"))","v":""}]
[null,{"$f":"IF(Lists!BA21=\"\",\"\",Lists!BA21)","v":""},{"$f":"IF(Lists!BB21=\"\",\"\",Lists!BB21)","v":""},{"$f":"IF(Lists!BC21=\"\",\"\",Lists!BC21)","v":""},{"$f":"IF(Lists!BE21=\"\",\"\",Lists!BE21)","v":""},{"$f":"IF($E43=\"\",\"\",SUMIFS(CMS_Deviation_Detail!$I$24:$I$5400,CMS_Deviation_Detail!$B$24:$B$5400,B43,CMS_Deviation_Detail!$C$24:$C$5400,C43,CMS_Deviation_Detail!$D$24:$D$5400,D43))","v":""},"",{"$f":"IF($E43=\"\",\"\",SUMIFS(CMS_Deviation_Detail!$I$24:$I$5800,CMS_Deviation_Detail!$B$24:$B$5800,B43,CMS_Deviation_Detail!$C$24:$C$5800,C43,CMS_Deviation_Detail!$D$24:$D$5800,D43,CMS_Deviation_Detail!$J$24:$J$5800,\"Monitoring System Malfunctions\"))","v":""},{"$f":"IF($E43=\"\",\"\",SUMIFS(CMS_Deviation_Detail!$I$24:$I$5800,CMS_Deviation_Detail!$B$24:$B$5800,B43,CMS_Deviation_Detail!$C$24:$C$5800,C43,CMS_Deviation_Detail!$D$24:$D$5800,D43,CMS_Deviation_Detail!$J$24:$J$5800,\"Nonmonitoring Equipment Malfunctions\"))","v":""},{"$f":"IF($E43=\"\",\"\",SUMIFS(CMS_Deviation_Detail!$I$24:$I$5800,CMS_Deviation_Detail!$B$24:$B$5800,B43,CMS_Deviation_Detail!$C$24:$C$5800,C43,CMS_Deviation_Detail!$D$24:$D$5800,D43,CMS_Deviation_Detail!$J$24:$J$5800,\"Quality Assurance/Quality Control Calibrations\"))","v":""},{"$f":"IF($E43=\"\",\"\",SUMIFS(CMS_Deviation_Detail!$I$24:$I$5800,CMS_Deviation_Detail!$B$24:$B$5800,B43,CMS_Deviation_Detail!$C$24:$C$5800,C43,CMS_Deviation_Detail!$D$24:$D$5800,D43,CMS_Deviation_Detail!$J$24:$J$5800,\"Other Known Causes\"))","v":""},{"$f":"IF($E43=\"\",\"\",SUMIFS(CMS_Deviation_Detail!$I$24:$I$5800,CMS_Deviation_Detail!$B$24:$B$5800,B43,CMS_Deviation_Detail!$C$24:$C$5800,C43,CMS_Deviation_Detail!$D$24:$D$5800,D43,CMS_Deviation_Detail!$J$24:$J$5800,\"Unknown Causes\"))","v":""}]
[null,{"$f":"IF(Lists!BA22=\"\",\"\",Lists!BA22)","v":""},{"$f":"IF(Lists!BB22=\"\",\"\",Lists!BB22)","v":""},{"$f":"IF(Lists!BC22=\"\",\"\",Lists!BC22)","v":""},{"$f":"IF(Lists!BE22=\"\",\"\",Lists!BE22)","v":""},{"$f":"IF($E44=\"\",\"\",SUMIFS(CMS_Deviation_Detail!$I$24:$I$5400,CMS_Deviation_Detail!$B$24:$B$5400,B44,CMS_Deviation_Detail!$C$24:$C$5400,C44,CMS_Deviation_Detail!$D$24:$D$5400,D44))","v":""},"",{"$f":"IF($E44=\"\",\"\",SUMIFS(CMS_Deviation_Detail!$I$24:$I$5800,CMS_Deviation_Detail!$B$24:$B$5800,B44,CMS_Deviation_Detail!$C$24:$C$5800,C44,CMS_Deviation_Detail!$D$24:$D$5800,D44,CMS_Deviation_Detail!$J$24:$J$5800,\"Monitoring System Malfunctions\"))","v":""},{"$f":"IF($E44=\"\",\"\",SUMIFS(CMS_Deviation_Detail!$I$24:$I$5800,CMS_Deviation_Detail!$B$24:$B$5800,B44,CMS_Deviation_Detail!$C$24:$C$5800,C44,CMS_Deviation_Detail!$D$24:$D$5800,D44,CMS_Deviation_Detail!$J$24:$J$5800,\"Nonmonitoring Equipment Malfunctions\"))","v":""},{"$f":"IF($E44=\"\",\"\",SUMIFS(CMS_Deviation_Detail!$I$24:$I$5800,CMS_Deviation_Detail!$B$24:$B$5800,B44,CMS_Deviation_Detail!$C$24:$C$5800,C44,CMS_Deviation_Detail!$D$24:$D$5800,D44,CMS_Deviation_Detail!$J$24:$J$5800,\"Quality Assurance/Quality Control Calibrations\"))","v":""},{"$f":"IF($E44=\"\",\"\",SUMIFS(CMS_Deviation_Detail!$I$24:$I$5800,CMS_Deviation_Detail!$B$24:$B$5800,B44,CMS_Deviation_Detail!$C$24:$C$5800,C44,CMS_Deviation_Detail!$D$24:$D$5800,D44,CMS_Deviation_Detail!$J$24:$J$5800,\"Other Known Causes\"))","v":""},{"$f":"IF($E44=\"\",\"\",SUMIFS(CMS_Deviation_Detail!$I$24:$I$5800,CMS_Deviation_Detail!$B$24:$B$5800,B44,CMS_Deviation_Detail!$C$24:$C$5800,C44,CMS_Deviation_Detail!$D$24:$D$5800,D44,CMS_Deviation_Detail!$J$24:$J$5800,\"Unknown Causes\"))","v":""}]
[null,{"$f":"IF(Lists!BA23=\"\",\"\",Lists!BA23)","v":""},{"$f":"IF(Lists!BB23=\"\",\"\",Lists!BB23)","v":""},{"$f":"IF(Lists!BC23=\"\",\"\",Lists!BC23)","v":""},{"$f":"IF(Lists!BE23=\"\",\"\",Lists!BE23)","v":""},{"$f":"IF($E45=\"\",\"\",SUMIFS(CMS_Deviation_Detail!$I$24:$I$5400,CMS_Deviation_Detail!$B$24:$B$5400,B45,CMS_Deviation_Detail!$C$24:$C$5400,C45,CMS_Deviation_Detail!$D$24:$D$5400,D45))","v":""},"",{"$f":"IF($E45=\"\",\"\",SUMIFS(CMS_Deviation_Detail!$I$24:$I$5800,CMS_Deviation_Detail!$B$24:$B$5800,B45,CMS_Deviation_Detail!$C$24:$C$5800,C45,CMS_Deviation_Detail!$D$24:$D$5800,D45,CMS_Deviation_Detail!$J$24:$J$5800,\"Monitoring System Malfunctions\"))","v":""},{"$f":"IF($E45=\"\",\"\",SUMIFS(CMS_Deviation_Detail!$I$24:$I$5800,CMS_Deviation_Detail!$B$24:$B$5800,B45,CMS_Deviation_Detail!$C$24:$C$5800,C45,CMS_Deviation_Detail!$D$24:$D$5800,D45,CMS_Deviation_Detail!$J$24:$J$5800,\"Nonmonitoring Equipment Malfunctions\"))","v":""},{"$f":"IF($E45=\"\",\"\",SUMIFS(CMS_Deviation_Detail!$I$24:$I$5800,CMS_Deviation_Detail!$B$24:$B$5800,B45,CMS_Deviation_Detail!$C$24:$C$5800,C45,CMS_Deviation_Detail!$D$24:$D$5800,D45,CMS_Deviation_Detail!$J$24:$J$5800,\"Quality Assurance/Quality Control Calibrations\"))","v":""},{"$f":"IF($E45=\"\",\"\",SUMIFS(CMS_Deviation_Detail!$I$24:$I$5800,CMS_Deviation_Detail!$B$24:$B$5800,B45,CMS_Deviation_Detail!$C$24:$C$5800,C45,CMS_Deviation_Detail!$D$24:$D$5800,D45,CMS_Deviation_Detail!$J$24:$J$5800,\"Other Known Causes\"))","v":""},{"$f":"IF($E45=\"\",\"\",SUMIFS(CMS_Deviation_Detail!$I$24:$I$5800,CMS_Deviation_Detail!$B$24:$B$5800,B45,CMS_Deviation_Detail!$C$24:$C$5800,C45,CMS_Deviation_Detail!$D$24:$D$5800,D45,CMS_Deviation_Detail!$J$24:$J$5800,\"Unknown Causes\"))","v":""}]
[null,{"$f":"IF(Lists!BA24=\"\",\"\",Lists!BA24)","v":""},{"$f":"IF(Lists!BB24=\"\",\"\",Lists!BB24)","v":""},{"$f":"IF(Lists!BC24=\"\",\"\",Lists!BC24)","v":""},{"$f":"IF(Lists!BE24=\"\",\"\",Lists!BE24)","v":""},{"$f":"IF($E46=\"\",\"\",SUMIFS(CMS_Deviation_Detail!$I$24:$I$5400,CMS_Deviation_Detail!$B$24:$B$5400,B46,CMS_Deviation_Detail!$C$24:$C$5400,C46,CMS_Deviation_Detail!$D$24:$D$5400,D46))","v":""},"",{"$f":"IF($E46=\"\",\"\",SUMIFS(CMS_Deviation_Detail!$I$24:$I$5800,CMS_Deviation_Detail!$B$24:$B$5800,B46,CMS_Deviation_Detail!$C$24:$C$5800,C46,CMS_Deviation_Detail!$D$24:$D$5800,D46,CMS_Deviation_Detail!$J$24:$J$5800,\"Monitoring System Malfunctions\"))","v":""},{"$f":"IF($E46=\"\",\"\",SUMIFS(CMS_Deviation_Detail!$I$24:$I$5800,CMS_Deviation_Detail!$B$24:$B$5800,B46,CMS_Deviation_Detail!$C$24:$C$5800,C46,CMS_Deviation_Detail!$D$24:$D$5800,D46,CMS_Deviation_Detail!$J$24:$J$5800,\"Nonmonitoring Equipment Malfunctions\"))","v":""},{"$f":"IF($E46=\"\",\"\",SUMIFS(CMS_Deviation_Detail!$I$24:$I$5800,CMS_Deviation_Detail!$B$24:$B$5800,B46,CMS_Deviation_Detail!$C$24:$C$5800,C46,CMS_Deviation_Detail!$D$24:$D$5800,D46,CMS_Deviation_Detail!$J$24:$J$5800,\"Quality Assurance/Quality Control Calibrations\"))","v":""},{"$f":"IF($E46=\"\",\"\",SUMIFS(CMS_Deviation_Detail!$I$24:$I$5800,CMS_Deviation_Detail!$B$24:$B$5800,B46,CMS_Deviation_Detail!$C$24:$C$5800,C46,CMS_Deviation_Detail!$D$24:$D$5800,D46,CMS_Deviation_Detail!$J$24:$J$5800,\"Other Known Causes\"))","v":""},{"$f":"IF($E46=\"\",\"\",SUMIFS(CMS_Deviation_Detail!$I$24:$I$5800,CMS_Deviation_Detail!$B$24:$B$5800,B46,CMS_Deviation_Detail!$C$24:$C$5800,C46,CMS_Deviation_Detail!$D$24:$D$5800,D46,CMS_Deviation_Detail!$J$24:$J$5800,\"Unknown Causes\"))","v":""}]
[null,{"$f":"IF(Lists!BA25=\"\",\"\",Lists!BA25)","v":""},{"$f":"IF(Lists!BB25=\"\",\"\",Lists!BB25)","v":""},{"$f":"IF(Lists!BC25=\"\",\"\",Lists!BC25)","v":""},{"$f":"IF(Lists!BE25=\"\",\"\",Lists!BE25)","v":""},{"$f":"IF($E47=\"\",\"\",SUMIFS(CMS_Deviation_Detail!$I$24:$I$5400,CMS_Deviation_Detail!$B$24:$B$5400,B47,CMS_Deviation_Detail!$C$24:$C$5400,C47,CMS_Deviation_Detail!$D$24:$D$5400,D47))","v":""},"",{"$f":"IF($E47=\"\",\"\",SUMIFS(CMS_Deviation_Detail!$I$24:$I$5800,CMS_Deviation_Detail!$B$24:$B$5800,B47,CMS_Deviation_Detail!$C$24:$C$5800,C47,CMS_Deviation_Detail!$D$24:$D$5800,D47,CMS_Deviation_Detail!$J$24:$J$5800,\"Monitoring System Malfunctions\"))","v":""},{"$f":"IF($E47=\"\",\"\",SUMIFS(CMS_Deviation_Detail!$I$24:$I$5800,CMS_Deviation_Detail!$B$24:$B$5800,B47,CMS_Deviation_Detail!$C$24:$C$5800,C47,CMS_Deviation_Detail!$D$24:$D$5800,D47,CMS_Deviation_Detail!$J$24:$J$5800,\"Nonmonitoring Equipment Malfunctions\"))","v":""},{"$f":"IF($E47=\"\",\"\",SUMIFS(CMS_Deviation_Detail!$I$24:$I$5800,CMS_Deviation_Detail!$B$24:$B$5800,B47,CMS_Deviation_Detail!$C$24:$C$5800,C47,CMS_Deviation_Detail!$D$24:$D$5800,D47,CMS_Deviation_Detail!$J$24:$J$5800,\"Quality Assurance/Quality Control Calibrations\"))","v":""},{"$f":"IF($E47=\"\",\"\",SUMIFS(CMS_Deviation_Detail!$I$24:$I$5800,CMS_Deviation_Detail!$B$24:$B$5800,B47,CMS_Deviation_Detail!$C$24:$C$5800,C47,CMS_Deviation_Detail!$D$24:$D$5800,D47,CMS_Deviation_Detail!$J$24:$J$5800,\"Other Known Causes\"))","v":""},{"$f":"IF($E47=\"\",\"\",SUMIFS(CMS_Deviation_Detail!$I$24:$I$5800,CMS_Deviation_Detail!$B$24:$B$5800,B47,CMS_Deviation_Detail!$C$24:$C$5800,C47,CMS_Deviation_Detail!$D$24:$D$5800,D47,CMS_Deviation_Detail!$J$24:$J$5800,\"Unknown Causes\"))","v":""}]
[null,{"$f":"IF(Lists!BA26=\"\",\"\",Lists!BA26)","v":""},{"$f":"IF(Lists!BB26=\"\",\"\",Lists!BB26)","v":""},{"$f":"IF(Lists!BC26=\"\",\"\",Lists!BC26)","v":""},{"$f":"IF(Lists!BE26=\"\",\"\",Lists!BE26)","v":""},{"$f":"IF($E48=\"\",\"\",SUMIFS(CMS_Deviation_Detail!$I$24:$I$5400,CMS_Deviation_Detail!$B$24:$B$5400,B48,CMS_Deviation_Detail!$C$24:$C$5400,C48,CMS_Deviation_Detail!$D$24:$D$5400,D48))","v":""},"",{"$f":"IF($E48=\"\",\"\",SUMIFS(CMS_Deviation_Detail!$I$24:$I$5800,CMS_Deviation_Detail!$B$24:$B$5800,B48,CMS_Deviation_Detail!$C$24:$C$5800,C48,CMS_Deviation_Detail!$D$24:$D$5800,D48,CMS_Deviation_Detail!$J$24:$J$5800,\"Monitoring System Malfunctions\"))","v":""},{"$f":"IF($E48=\"\",\"\",SUMIFS(CMS_Deviation_Detail!$I$24:$I$5800,CMS_Deviation_Detail!$B$24:$B$5800,B48,CMS_Deviation_Detail!$C$24:$C$5800,C48,CMS_Deviation_Detail!$D$24:$D$5800,D48,CMS_Deviation_Detail!$J$24:$J$5800,\"Nonmonitoring Equipment Malfunctions\"))","v":""},{"$f":"IF($E48=\"\",\"\",SUMIFS(CMS_Deviation_Detail!$I$24:$I$5800,CMS_Deviation_Detail!$B$24:$B$5800,B48,CMS_Deviation_Detail!$C$24:$C$5800,C48,CMS_Deviation_Detail!$D$24:$D$5800,D48,CMS_Deviation_Detail!$J$24:$J$5800,\"Quality Assurance/Quality Control Calibrations\"))","v":""},{"$f":"IF($E48=\"\",\"\",SUMIFS(CMS_Deviation_Detail!$I$24:$I$5800,CMS_Deviation_Detail!$B$24:$B$5800,B48,CMS_Deviation_Detail!$C$24:$C$5800,C48,CMS_Deviation_Detail!$D$24:$D$5800,D48,CMS_Deviation_Detail!$J$24:$J$5800,\"Other Known Causes\"))","v":""},{"$f":"IF($E48=\"\",\"\",SUMIFS(CMS_Deviation_Detail!$I$24:$I$5800,CMS_Deviation_Detail!$B$24:$B$5800,B48,CMS_Deviation_Detail!$C$24:$C$5800,C48,CMS_Deviation_Detail!$D$24:$D$5800,D48,CMS_Deviation_Detail!$J$24:$J$5800,\"Unknown Causes\"))","v":""}]
[null,{"$f":"IF(Lists!BA27=\"\",\"\",Lists!BA27)","v":""},{"$f":"IF(Lists!BB27=\"\",\"\",Lists!BB27)","v":""},{"$f":"IF(Lists!BC27=\"\",\"\",Lists!BC27)","v":""},{"$f":"IF(Lists!BE27=\"\",\"\",Lists!BE27)","v":""},{"$f":"IF($E49=\"\",\"\",SUMIFS(CMS_Deviation_Detail!$I$24:$I$5400,CMS_Deviation_Detail!$B$24:$B$5400,B49,CMS_Deviation_Detail!$C$24:$C$5400,C49,CMS_Deviation_Detail!$D$24:$D$5400,D49))","v":""},"",{"$f":"IF($E49=\"\",\"\",SUMIFS(CMS_Deviation_Detail!$I$24:$I$5800,CMS_Deviation_Detail!$B$24:$B$5800,B49,CMS_Deviation_Detail!$C$24:$C$5800,C49,CMS_Deviation_Detail!$D$24:$D$5800,D49,CMS_Deviation_Detail!$J$24:$J$5800,\"Monitoring System Malfunctions\"))","v":""},{"$f":"IF($E49=\"\",\"\",SUMIFS(CMS_Deviation_Detail!$I$24:$I$5800,CMS_Deviation_Detail!$B$24:$B$5800,B49,CMS_Deviation_Detail!$C$24:$C$5800,C49,CMS_Deviation_Detail!$D$24:$D$5800,D49,CMS_Deviation_Detail!$J$24:$J$5800,\"Nonmonitoring Equipment Malfunctions\"))","v":""},{"$f":"IF($E49=\"\",\"\",SUMIFS(CMS_Deviation_Detail!$I$24:$I$5800,CMS_Deviation_Detail!$B$24:$B$5800,B49,CMS_Deviation_Detail!$C$24:$C$5800,C49,CMS_Deviation_Detail!$D$24:$D$5800,D49,CMS_Deviation_Detail!$J$24:$J$5800,\"Quality Assurance/Quality Control Calibrations\"))","v":""},{"$f":"IF($E49=\"\",\"\",SUMIFS(CMS_Deviation_Detail!$I$24:$I$5800,CMS_Deviation_Detail!$B$24:$B$5800,B49,CMS_Deviation_Detail!$C$24:$C$5800,C49,CMS_Deviation_Detail!$D$24:$D$5800,D49,CMS_Deviation_Detail!$J$24:$J$5800,\"Other Known Causes\"))","v":""},{"$f":"IF($E49=\"\",\"\",SUMIFS(CMS_Deviation_Detail!$I$24:$I$5800,CMS_Deviation_Detail!$B$24:$B$5800,B49,CMS_Deviation_Detail!$C$24:$C$5800,C49,CMS_Deviation_Detail!$D$24:$D$5800,D49,CMS_Deviation_Detail!$J$24:$J$5800,\"Unknown Causes\"))","v":""}]
[null,{"$f":"IF(Lists!BA28=\"\",\"\",Lists!BA28)","v":""},{"$f":"IF(Lists!BB28=\"\",\"\",Lists!BB28)","v":""},{"$f":"IF(Lists!BC28=\"\",\"\",Lists!BC28)","v":""},{"$f":"IF(Lists!BE28=\"\",\"\",Lists!BE28)","v":""},{"$f":"IF($E50=\"\",\"\",SUMIFS(CMS_Deviation_Detail!$I$24:$I$5400,CMS_Deviation_Detail!$B$24:$B$5400,B50,CMS_Deviation_Detail!$C$24:$C$5400,C50,CMS_Deviation_Detail!$D$24:$D$5400,D50))","v":""},"",{"$f":"IF($E50=\"\",\"\",SUMIFS(CMS_Deviation_Detail!$I$24:$I$5800,CMS_Deviation_Detail!$B$24:$B$5800,B50,CMS_Deviation_Detail!$C$24:$C$5800,C50,CMS_Deviation_Detail!$D$24:$D$5800,D50,CMS_Deviation_Detail!$J$24:$J$5800,\"Monitoring System Malfunctions\"))","v":""},{"$f":"IF($E50=\"\",\"\",SUMIFS(CMS_Deviation_Detail!$I$24:$I$5800,CMS_Deviation_Detail!$B$24:$B$5800,B50,CMS_Deviation_Detail!$C$24:$C$5800,C50,CMS_Deviation_Detail!$D$24:$D$5800,D50,CMS_Deviation_Detail!$J$24:$J$5800,\"Nonmonitoring Equipment Malfunctions\"))","v":""},{"$f":"IF($E50=\"\",\"\",SUMIFS(CMS_Deviation_Detail!$I$24:$I$5800,CMS_Deviation_Detail!$B$24:$B$5800,B50,CMS_Deviation_Detail!$C$24:$C$5800,C50,CMS_Deviation_Detail!$D$24:$D$5800,D50,CMS_Deviation_Detail!$J$24:$J$5800,\"Quality Assurance/Quality Control Calibrations\"))","v":""},{"$f":"IF($E50=\"\",\"\",SUMIFS(CMS_Deviation_Detail!$I$24:$I$5800,CMS_Deviation_Detail!$B$24:$B$5800,B50,CMS_Deviation_Detail!$C$24:$C$5800,C50,CMS_Deviation_Detail!$D$24:$D$5800,D50,CMS_Deviation_Detail!$J$24:$J$5800,\"Other Known Causes\"))","v":""},{"$f":"IF($E50=\"\",\"\",SUMIFS(CMS_Deviation_Detail!$I$24:$I$5800,CMS_Deviation_Detail!$B$24:$B$5800,B50,CMS_Deviation_Detail!$C$24:$C$5800,C50,CMS_Deviation_Detail!$D$24:$D$5800,D50,CMS_Deviation_Detail!$J$24:$J$5800,\"Unknown Causes\"))","v":""}]
[null,{"$f":"IF(Lists!BA29=\"\",\"\",Lists!BA29)","v":""},{"$f":"IF(Lists!BB29=\"\",\"\",Lists!BB29)","v":""},{"$f":"IF(Lists!BC29=\"\",\"\",Lists!BC29)","v":""},{"$f":"IF(Lists!BE29=\"\",\"\",Lists!BE29)","v":""},{"$f":"IF($E51=\"\",\"\",SUMIFS(CMS_Deviation_Detail!$I$24:$I$5400,CMS_Deviation_Detail!$B$24:$B$5400,B51,CMS_Deviation_Detail!$C$24:$C$5400,C51,CMS_Deviation_Detail!$D$24:$D$5400,D51))","v":""},"",{"$f":"IF($E51=\"\",\"\",SUMIFS(CMS_Deviation_Detail!$I$24:$I$5800,CMS_Deviation_Detail!$B$24:$B$5800,B51,CMS_Deviation_Detail!$C$24:$C$5800,C51,CMS_Deviation_Detail!$D$24:$D$5800,D51,CMS_Deviation_Detail!$J$24:$J$5800,\"Monitoring System Malfunctions\"))","v":""},{"$f":"IF($E51=\"\",\"\",SUMIFS(CMS_Deviation_Detail!$I$24:$I$5800,CMS_Deviation_Detail!$B$24:$B$5800,B51,CMS_Deviation_Detail!$C$24:$C$5800,C51,CMS_Deviation_Detail!$D$24:$D$5800,D51,CMS_Deviation_Detail!$J$24:$J$5800,\"Nonmonitoring Equipment Malfunctions\"))","v":""},{"$f":"IF($E51=\"\",\"\",SUMIFS(CMS_Deviation_Detail!$I$24:$I$5800,CMS_Deviation_Detail!$B$24:$B$5800,B51,CMS_Deviation_Detail!$C$24:$C$5800,C51,CMS_Deviation_Detail!$D$24:$D$5800,D51,CMS_Deviation_Detail!$J$24:$J$5800,\"Quality Assurance/Quality Control Calibrations\"))","v":""},{"$f":"IF($E51=\"\",\"\",SUMIFS(CMS_Deviation_Detail!$I$24:$I$5800,CMS_Deviation_Detail!$B$24:$B$5800,B51,CMS_Deviation_Detail!$C$24:$C$5800,C51,CMS_Deviation_Detail!$D$24:$D$5800,D51,CMS_Deviation_Detail!$J$24:$J$5800,\"Other Known Causes\"))","v":""},{"$f":"IF($E51=\"\",\"\",SUMIFS(CMS_Deviation_Detail!$I$24:$I$5800,CMS_Deviation_Detail!$B$24:$B$5800,B51,CMS_Deviation_Detail!$C$24:$C$5800,C51,CMS_Deviation_Detail!$D$24:$D$5800,D51,CMS_Deviation_Detail!$J$24:$J$5800,\"Unknown Causes\"))","v":""}]
[null,{"$f":"IF(Lists!BA30=\"\",\"\",Lists!BA30)","v":""},{"$f":"IF(Lists!BB30=\"\",\"\",Lists!BB30)","v":""},{"$f":"IF(Lists!BC30=\"\",\"\",Lists!BC30)","v":""},{"$f":"IF(Lists!BE30=\"\",\"\",Lists!BE30)","v":""},{"$f":"IF($E52=\"\",\"\",SUMIFS(CMS_Deviation_Detail!$I$24:$I$5400,CMS_Deviation_Detail!$B$24:$B$5400,B52,CMS_Deviation_Detail!$C$24:$C$5400,C52,CMS_Deviation_Detail!$D$24:$D$5400,D52))","v":""},"",{"$f":"IF($E52=\"\",\"\",SUMIFS(CMS_Deviation_Detail!$I$24:$I$5800,CMS_Deviation_Detail!$B$24:$B$5800,B52,CMS_Deviation_Detail!$C$24:$C$5800,C52,CMS_Deviation_Detail!$D$24:$D$5800,D52,CMS_Deviation_Detail!$J$24:$J$5800,\"Monitoring System Malfunctions\"))","v":""},{"$f":"IF($E52=\"\",\"\",SUMIFS(CMS_Deviation_Detail!$I$24:$I$5800,CMS_Deviation_Detail!$B$24:$B$5800,B52,CMS_Deviation_Detail!$C$24:$C$5800,C52,CMS_Deviation_Detail!$D$24:$D$5800,D52,CMS_Deviation_Detail!$J$24:$J$5800,\"Nonmonitoring Equipment Malfunctions\"))","v":""},{"$f":"IF($E52=\"\",\"\",SUMIFS(CMS_Deviation_Detail!$I$24:$I$5800,CMS_Deviation_Detail!$B$24:$B$5800,B52,CMS_Deviation_Detail!$C$24:$C$5800,C52,CMS_Deviation_Detail!$D$24:$D$5800,D52,CMS_Deviation_Detail!$J$24:$J$5800,\"Quality Assurance/Quality Control Calibrations\"))","v":""},{"$f":"IF($E52=\"\",\"\",SUMIFS(CMS_Deviation_Detail!$I$24:$I$5800,CMS_Deviation_Detail!$B$24:$B$5800,B52,CMS_Deviation_Detail!$C$24:$C$5800,C52,CMS_Deviation_Detail!$D$24:$D$5800,D52,CMS_Deviation_Detail!$J$24:$J$5800,\"Other Known Causes\"))","v":""},{"$f":"IF($E52=\"\",\"\",SUMIFS(CMS_Deviation_Detail!$I$24:$I$5800,CMS_Deviation_Detail!$B$24:$B$5800,B52,CMS_Deviation_Detail!$C$24:$C$5800,C52,CMS_Deviation_Detail!$D$24:$D$5800,D52,CMS_Deviation_Detail!$J$24:$J$5800,\"Unknown Causes\"))","v":""}]
[null,{"$f":"IF(Lists!BA31=\"\",\"\",Lists!BA31)","v":""},{"$f":"IF(Lists!BB31=\"\",\"\",Lists!BB31)","v":""},{"$f":"IF(Lists!BC31=\"\",\"\",Lists!BC31)","v":""},{"$f":"IF(Lists!BE31=\"\",\"\",Lists!BE31)","v":""},{"$f":"IF($E53=\"\",\"\",SUMIFS(CMS_Deviation_Detail!$I$24:$I$5400,CMS_Deviation_Detail!$B$24:$B$5400,B53,CMS_Deviation_Detail!$C$24:$C$5400,C53,CMS_Deviation_Detail!$D$24:$D$5400,D53))","v":""},"",{"$f":"IF($E53=\"\",\"\",SUMIFS(CMS_Deviation_Detail!$I$24:$I$5800,CMS_Deviation_Detail!$B$24:$B$5800,B53,CMS_Deviation_Detail!$C$24:$C$5800,C53,CMS_Deviation_Detail!$D$24:$D$5800,D53,CMS_Deviation_Detail!$J$24:$J$5800,\"Monitoring System Malfunctions\"))","v":""},{"$f":"IF($E53=\"\",\"\",SUMIFS(CMS_Deviation_Detail!$I$24:$I$5800,CMS_Deviation_Detail!$B$24:$B$5800,B53,CMS_Deviation_Detail!$C$24:$C$5800,C53,CMS_Deviation_Detail!$D$24:$D$5800,D53,CMS_Deviation_Detail!$J$24:$J$5800,\"Nonmonitoring Equipment Malfunctions\"))","v":""},{"$f":"IF($E53=\"\",\"\",SUMIFS(CMS_Deviation_Detail!$I$24:$I$5800,CMS_Deviation_Detail!$B$24:$B$5800,B53,CMS_Deviation_Detail!$C$24:$C$5800,C53,CMS_Deviation_Detail!$D$24:$D$5800,D53,CMS_Deviation_Detail!$J$24:$J$5800,\"Quality Assurance/Quality Control Calibrations\"))","v":""},{"$f":"IF($E53=\"\",\"\",SUMIFS(CMS_Deviation_Detail!$I$24:$I$5800,CMS_Deviation_Detail!$B$24:$B$5800,B53,CMS_Deviation_Detail!$C$24:$C$5800,C53,CMS_Deviation_Detail!$D$24:$D$5800,D53,CMS_Deviation_Detail!$J$24:$J$5800,\"Other Known Causes\"))","v":""},{"$f":"IF($E53=\"\",\"\",SUMIFS(CMS_Deviation_Detail!$I$24:$I$5800,CMS_Deviation_Detail!$B$24:$B$5800,B53,CMS_Deviation_Detail!$C$24:$C$5800,C53,CMS_Deviation_Detail!$D$24:$D$5800,D53,CMS_Deviation_Detail!$J$24:$J$5800,\"Unknown Causes\"))","v":""}]
[null,{"$f":"IF(Lists!BA32=\"\",\"\",Lists!BA32)","v":""},{"$f":"IF(Lists!BB32=\"\",\"\",Lists!BB32)","v":""},{"$f":"IF(Lists!BC32=\"\",\"\",Lists!BC32)","v":""},{"$f":"IF(Lists!BE32=\"\",\"\",Lists!BE32)","v":""},{"$f":"IF($E54=\"\",\"\",SUMIFS(CMS_Deviation_Detail!$I$24:$I$5400,CMS_Deviation_Detail!$B$24:$B$5400,B54,CMS_Deviation_Detail!$C$24:$C$5400,C54,CMS_Deviation_Detail!$D$24:$D$5400,D54))","v":""},"",{"$f":"IF($E54=\"\",\"\",SUMIFS(CMS_Deviation_Detail!$I$24:$I$5800,CMS_Deviation_Detail!$B$24:$B$5800,B54,CMS_Deviation_Detail!$C$24:$C$5800,C54,CMS_Deviation_Detail!$D$24:$D$5800,D54,CMS_Deviation_Detail!$J$24:$J$5800,\"Monitoring System Malfunctions\"))","v":""},{"$f":"IF($E54=\"\",\"\",SUMIFS(CMS_Deviation_Detail!$I$24:$I$5800,CMS_Deviation_Detail!$B$24:$B$5800,B54,CMS_Deviation_Detail!$C$24:$C$5800,C54,CMS_Deviation_Detail!$D$24:$D$5800,D54,CMS_Deviation_Detail!$J$24:$J$5800,\"Nonmonitoring Equipment Malfunctions\"))","v":""},{"$f":"IF($E54=\"\",\"\",SUMIFS(CMS_Deviation_Detail!$I$24:$I$5800,CMS_Deviation_Detail!$B$24:$B$5800,B54,CMS_Deviation_Detail!$C$24:$C$5800,C54,CMS_Deviation_Detail!$D$24:$D$5800,D54,CMS_Deviation_Detail!$J$24:$J$5800,\"Quality Assurance/Quality Control Calibrations\"))","v":""},{"$f":"IF($E54=\"\",\"\",SUMIFS(CMS_Deviation_Detail!$I$24:$I$5800,CMS_Deviation_Detail!$B$24:$B$5800,B54,CMS_Deviation_Detail!$C$24:$C$5800,C54,CMS_Deviation_Detail!$D$24:$D$5800,D54,CMS_Deviation_Detail!$J$24:$J$5800,\"Other Known Causes\"))","v":""},{"$f":"IF($E54=\"\",\"\",SUMIFS(CMS_Deviation_Detail!$I$24:$I$5800,CMS_Deviation_Detail!$B$24:$B$5800,B54,CMS_Deviation_Detail!$C$24:$C$5800,C54,CMS_Deviation_Detail!$D$24:$D$5800,D54,CMS_Deviation_Detail!$J$24:$J$5800,\"Unknown Causes\"))","v":""}]
[null,{"$f":"IF(Lists!BA33=\"\",\"\",Lists!BA33)","v":""},{"$f":"IF(Lists!BB33=\"\",\"\",Lists!BB33)","v":""},{"$f":"IF(Lists!BC33=\"\",\"\",Lists!BC33)","v":""},{"$f":"IF(Lists!BE33=\"\",\"\",Lists!BE33)","v":""},{"$f":"IF($E55=\"\",\"\",SUMIFS(CMS_Deviation_Detail!$I$24:$I$5400,CMS_Deviation_Detail!$B$24:$B$5400,B55,CMS_Deviation_Detail!$C$24:$C$5400,C55,CMS_Deviation_Detail!$D$24:$D$5400,D55))","v":""},"",{"$f":"IF($E55=\"\",\"\",SUMIFS(CMS_Deviation_Detail!$I$24:$I$5800,CMS_Deviation_Detail!$B$24:$B$5800,B55,CMS_Deviation_Detail!$C$24:$C$5800,C55,CMS_Deviation_Detail!$D$24:$D$5800,D55,CMS_Deviation_Detail!$J$24:$J$5800,\"Monitoring System Malfunctions\"))","v":""},{"$f":"IF($E55=\"\",\"\",SUMIFS(CMS_Deviation_Detail!$I$24:$I$5800,CMS_Deviation_Detail!$B$24:$B$5800,B55,CMS_Deviation_Detail!$C$24:$C$5800,C55,CMS_Deviation_Detail!$D$24:$D$5800,D55,CMS_Deviation_Detail!$J$24:$J$5800,\"Nonmonitoring Equipment Malfunctions\"))","v":""},{"$f":"IF($E55=\"\",\"\",SUMIFS(CMS_Deviation_Detail!$I$24:$I$5800,CMS_Deviation_Detail!$B$24:$B$5800,B55,CMS_Deviation_Detail!$C$24:$C$5800,C55,CMS_Deviation_Detail!$D$24:$D$5800,D55,CMS_Deviation_Detail!$J$24:$J$5800,\"Quality Assurance/Quality Control Calibrations\"))","v":""},{"$f":"IF($E55=\"\",\"\",SUMIFS(CMS_Deviation_Detail!$I$24:$I$5800,CMS_Deviation_Detail!$B$24:$B$5800,B55,CMS_Deviation_Detail!$C$24:$C$5800,C55,CMS_Deviation_Detail!$D$24:$D$5800,D55,CMS_Deviation_Detail!$J$24:$J$5800,\"Other Known Causes\"))","v":""},{"$f":"IF($E55=\"\",\"\",SUMIFS(CMS_Deviation_Detail!$I$24:$I$5800,CMS_Deviation_Detail!$B$24:$B$5800,B55,CMS_Deviation_Detail!$C$24:$C$5800,C55,CMS_Deviation_Detail!$D$24:$D$5800,D55,CMS_Deviation_Detail!$J$24:$J$5800,\"Unknown Causes\"))","v":""}]
[null,{"$f":"IF(Lists!BA34=\"\",\"\",Lists!BA34)","v":""},{"$f":"IF(Lists!BB34=\"\",\"\",Lists!BB34)","v":""},{"$f":"IF(Lists!BC34=\"\",\"\",Lists!BC34)","v":""},{"$f":"IF(Lists!BE34=\"\",\"\",Lists!BE34)","v":""},{"$f":"IF($E56=\"\",\"\",SUMIFS(CMS_Deviation_Detail!$I$24:$I$5400,CMS_Deviation_Detail!$B$24:$B$5400,B56,CMS_Deviation_Detail!$C$24:$C$5400,C56,CMS_Deviation_Detail!$D$24:$D$5400,D56))","v":""},"",{"$f":"IF($E56=\"\",\"\",SUMIFS(CMS_Deviation_Detail!$I$24:$I$5800,CMS_Deviation_Detail!$B$24:$B$5800,B56,CMS_Deviation_Detail!$C$24:$C$5800,C56,CMS_Deviation_Detail!$D$24:$D$5800,D56,CMS_Deviation_Detail!$J$24:$J$5800,\"Monitoring System Malfunctions\"))","v":""},{"$f":"IF($E56=\"\",\"\",SUMIFS(CMS_Deviation_Detail!$I$24:$I$5800,CMS_Deviation_Detail!$B$24:$B$5800,B56,CMS_Deviation_Detail!$C$24:$C$5800,C56,CMS_Deviation_Detail!$D$24:$D$5800,D56,CMS_Deviation_Detail!$J$24:$J$5800,\"Nonmonitoring Equipment Malfunctions\"))","v":""},{"$f":"IF($E56=\"\",\"\",SUMIFS(CMS_Deviation_Detail!$I$24:$I$5800,CMS_Deviation_Detail!$B$24:$B$5800,B56,CMS_Deviation_Detail!$C$24:$C$5800,C56,CMS_Deviation_Detail!$D$24:$D$5800,D56,CMS_Deviation_Detail!$J$24:$J$5800,\"Quality Assurance/Quality Control Calibrations\"))","v":""},{"$f":"IF($E56=\"\",\"\",SUMIFS(CMS_Deviation_Detail!$I$24:$I$5800,CMS_Deviation_Detail!$B$24:$B$5800,B56,CMS_Deviation_Detail!$C$24:$C$5800,C56,CMS_Deviation_Detail!$D$24:$D$5800,D56,CMS_Deviation_Detail!$J$24:$J$5800,\"Other Known Causes\"))","v":""},{"$f":"IF($E56=\"\",\"\",SUMIFS(CMS_Deviation_Detail!$I$24:$I$5800,CMS_Deviation_Detail!$B$24:$B$5800,B56,CMS_Deviation_Detail!$C$24:$C$5800,C56,CMS_Deviation_Detail!$D$24:$D$5800,D56,CMS_Deviation_Detail!$J$24:$J$5800,\"Unknown Causes\"))","v":""}]
[null,{"$f":"IF(Lists!BA35=\"\",\"\",Lists!BA35)","v":""},{"$f":"IF(Lists!BB35=\"\",\"\",Lists!BB35)","v":""},{"$f":"IF(Lists!BC35=\"\",\"\",Lists!BC35)","v":""},{"$f":"IF(Lists!BE35=\"\",\"\",Lists!BE35)","v":""},{"$f":"IF($E57=\"\",\"\",SUMIFS(CMS_Deviation_Detail!$I$24:$I$5400,CMS_Deviation_Detail!$B$24:$B$5400,B57,CMS_Deviation_Detail!$C$24:$C$5400,C57,CMS_Deviation_Detail!$D$24:$D$5400,D57))","v":""},"",{"$f":"IF($E57=\"\",\"\",SUMIFS(CMS_Deviation_Detail!$I$24:$I$5800,CMS_Deviation_Detail!$B$24:$B$5800,B57,CMS_Deviation_Detail!$C$24:$C$5800,C57,CMS_Deviation_Detail!$D$24:$D$5800,D57,CMS_Deviation_Detail!$J$24:$J$5800,\"Monitoring System Malfunctions\"))","v":""},{"$f":"IF($E57=\"\",\"\",SUMIFS(CMS_Deviation_Detail!$I$24:$I$5800,CMS_Deviation_Detail!$B$24:$B$5800,B57,CMS_Deviation_Detail!$C$24:$C$5800,C57,CMS_Deviation_Detail!$D$24:$D$5800,D57,CMS_Deviation_Detail!$J$24:$J$5800,\"Nonmonitoring Equipment Malfunctions\"))","v":""},{"$f":"IF($E57=\"\",\"\",SUMIFS(CMS_Deviation_Detail!$I$24:$I$5800,CMS_Deviation_Detail!$B$24:$B$5800,B57,CMS_Deviation_Detail!$C$24:$C$5800,C57,CMS_Deviation_Detail!$D$24:$D$5800,D57,CMS_Deviation_Detail!$J$24:$J$5800,\"Quality Assurance/Quality Control Calibrations\"))","v":""},{"$f":"IF($E57=\"\",\"\",SUMIFS(CMS_Deviation_Detail!$I$24:$I$5800,CMS_Deviation_Detail!$B$24:$B$5800,B57,CMS_Deviation_Detail!$C$24:$C$5800,C57,CMS_Deviation_Detail!$D$24:$D$5800,D57,CMS_Deviation_Detail!$J$24:$J$5800,\"Other Known Causes\"))","v":""},{"$f":"IF($E57=\"\",\"\",SUMIFS(CMS_Deviation_Detail!$I$24:$I$5800,CMS_Deviation_Detail!$B$24:$B$5800,B57,CMS_Deviation_Detail!$C$24:$C$5800,C57,CMS_Deviation_Detail!$D$24:$D$5800,D57,CMS_Deviation_Detail!$J$24:$J$5800,\"Unknown Causes\"))","v":""}]
[null,{"$f":"IF(Lists!BA36=\"\",\"\",Lists!BA36)","v":""},{"$f":"IF(Lists!BB36=\"\",\"\",Lists!BB36)","v":""},{"$f":"IF(Lists!BC36=\"\",\"\",Lists!BC36)","v":""},{"$f":"IF(Lists!BE36=\"\",\"\",Lists!BE36)","v":""},{"$f":"IF($E58=\"\",\"\",SUMIFS(CMS_Deviation_Detail!$I$24:$I$5400,CMS_Deviation_Detail!$B$24:$B$5400,B58,CMS_Deviation_Detail!$C$24:$C$5400,C58,CMS_Deviation_Detail!$D$24:$D$5400,D58))","v":""},"",{"$f":"IF($E58=\"\",\"\",SUMIFS(CMS_Deviation_Detail!$I$24:$I$5800,CMS_Deviation_Detail!$B$24:$B$5800,B58,CMS_Deviation_Detail!$C$24:$C$5800,C58,CMS_Deviation_Detail!$D$24:$D$5800,D58,CMS_Deviation_Detail!$J$24:$J$5800,\"Monitoring System Malfunctions\"))","v":""},{"$f":"IF($E58=\"\",\"\",SUMIFS(CMS_Deviation_Detail!$I$24:$I$5800,CMS_Deviation_Detail!$B$24:$B$5800,B58,CMS_Deviation_Detail!$C$24:$C$5800,C58,CMS_Deviation_Detail!$D$24:$D$5800,D58,CMS_Deviation_Detail!$J$24:$J$5800,\"Nonmonitoring Equipment Malfunctions\"))","v":""},{"$f":"IF($E58=\"\",\"\",SUMIFS(CMS_Deviation_Detail!$I$24:$I$5800,CMS_Deviation_Detail!$B$24:$B$5800,B58,CMS_Deviation_Detail!$C$24:$C$5800,C58,CMS_Deviation_Detail!$D$24:$D$5800,D58,CMS_Deviation_Detail!$J$24:$J$5800,\"Quality Assurance/Quality Control Calibrations\"))","v":""},{"$f":"IF($E58=\"\",\"\",SUMIFS(CMS_Deviation_Detail!$I$24:$I$5800,CMS_Deviation_Detail!$B$24:$B$5800,B58,CMS_Deviation_Detail!$C$24:$C$5800,C58,CMS_Deviation_Detail!$D$24:$D$5800,D58,CMS_Deviation_Detail!$J$24:$J$5800,\"Other Known Causes\"))","v":""},{"$f":"IF($E58=\"\",\"\",SUMIFS(CMS_Deviation_Detail!$I$24:$I$5800,CMS_Deviation_Detail!$B$24:$B$5800,B58,CMS_Deviation_Detail!$C$24:$C$5800,C58,CMS_Deviation_Detail!$D$24:$D$5800,D58,CMS_Deviation_Detail!$J$24:$J$5800,\"Unknown Causes\"))","v":""}]
[null,{"$f":"IF(Lists!BA37=\"\",\"\",Lists!BA37)","v":""},{"$f":"IF(Lists!BB37=\"\",\"\",Lists!BB37)","v":""},{"$f":"IF(Lists!BC37=\"\",\"\",Lists!BC37)","v":""},{"$f":"IF(Lists!BE37=\"\",\"\",Lists!BE37)","v":""},{"$f":"IF($E59=\"\",\"\",SUMIFS(CMS_Deviation_Detail!$I$24:$I$5400,CMS_Deviation_Detail!$B$24:$B$5400,B59,CMS_Deviation_Detail!$C$24:$C$5400,C59,CMS_Deviation_Detail!$D$24:$D$5400,D59))","v":""},"",{"$f":"IF($E59=\"\",\"\",SUMIFS(CMS_Deviation_Detail!$I$24:$I$5800,CMS_Deviation_Detail!$B$24:$B$5800,B59,CMS_Deviation_Detail!$C$24:$C$5800,C59,CMS_Deviation_Detail!$D$24:$D$5800,D59,CMS_Deviation_Detail!$J$24:$J$5800,\"Monitoring System Malfunctions\"))","v":""},{"$f":"IF($E59=\"\",\"\",SUMIFS(CMS_Deviation_Detail!$I$24:$I$5800,CMS_Deviation_Detail!$B$24:$B$5800,B59,CMS_Deviation_Detail!$C$24:$C$5800,C59,CMS_Deviation_Detail!$D$24:$D$5800,D59,CMS_Deviation_Detail!$J$24:$J$5800,\"Nonmonitoring Equipment Malfunctions\"))","v":""},{"$f":"IF($E59=\"\",\"\",SUMIFS(CMS_Deviation_Detail!$I$24:$I$5800,CMS_Deviation_Detail!$B$24:$B$5800,B59,CMS_Deviation_Detail!$C$24:$C$5800,C59,CMS_Deviation_Detail!$D$24:$D$5800,D59,CMS_Deviation_Detail!$J$24:$J$5800,\"Quality Assurance/Quality Control Calibrations\"))","v":""},{"$f":"IF($E59=\"\",\"\",SUMIFS(CMS_Deviation_Detail!$I$24:$I$5800,CMS_Deviation_Detail!$B$24:$B$5800,B59,CMS_Deviation_Detail!$C$24:$C$5800,C59,CMS_Deviation_Detail!$D$24:$D$5800,D59,CMS_Deviation_Detail!$J$24:$J$5800,\"Other Known Causes\"))","v":""},{"$f":"IF($E59=\"\",\"\",SUMIFS(CMS_Deviation_Detail!$I$24:$I$5800,CMS_Deviation_Detail!$B$24:$B$5800,B59,CMS_Deviation_Detail!$C$24:$C$5800,C59,CMS_Deviation_Detail!$D$24:$D$5800,D59,CMS_Deviation_Detail!$J$24:$J$5800,\"Unknown Causes\"))","v":""}]
[null,{"$f":"IF(Lists!BA38=\"\",\"\",Lists!BA38)","v":""},{"$f":"IF(Lists!BB38=\"\",\"\",Lists!BB38)","v":""},{"$f":"IF(Lists!BC38=\"\",\"\",Lists!BC38)","v":""},{"$f":"IF(Lists!BE38=\"\",\"\",Lists!BE38)","v":""},{"$f":"IF($E60=\"\",\"\",SUMIFS(CMS_Deviation_Detail!$I$24:$I$5400,CMS_Deviation_Detail!$B$24:$B$5400,B60,CMS_Deviation_Detail!$C$24:$C$5400,C60,CMS_Deviation_Detail!$D$24:$D$5400,D60))","v":""},"",{"$f":"IF($E60=\"\",\"\",SUMIFS(CMS_Deviation_Detail!$I$24:$I$5800,CMS_Deviation_Detail!$B$24:$B$5800,B60,CMS_Deviation_Detail!$C$24:$C$5800,C60,CMS_Deviation_Detail!$D$24:$D$5800,D60,CMS_Deviation_Detail!$J$24:$J$5800,\"Monitoring System Malfunctions\"))","v":""},{"$f":"IF($E60=\"\",\"\",SUMIFS(CMS_Deviation_Detail!$I$24:$I$5800,CMS_Deviation_Detail!$B$24:$B$5800,B60,CMS_Deviation_Detail!$C$24:$C$5800,C60,CMS_Deviation_Detail!$D$24:$D$5800,D60,CMS_Deviation_Detail!$J$24:$J$5800,\"Nonmonitoring Equipment Malfunctions\"))","v":""},{"$f":"IF($E60=\"\",\"\",SUMIFS(CMS_Deviation_Detail!$I$24:$I$5800,CMS_Deviation_Detail!$B$24:$B$5800,B60,CMS_Deviation_Detail!$C$24:$C$5800,C60,CMS_Deviation_Detail!$D$24:$D$5800,D60,CMS_Deviation_Detail!$J$24:$J$5800,\"Quality Assurance/Quality Control Calibrations\"))","v":""},{"$f":"IF($E60=\"\",\"\",SUMIFS(CMS_Deviation_Detail!$I$24:$I$5800,CMS_Deviation_Detail!$B$24:$B$5800,B60,CMS_Deviation_Detail!$C$24:$C$5800,C60,CMS_Deviation_Detail!$D$24:$D$5800,D60,CMS_Deviation_Detail!$J$24:$J$5800,\"Other Known Causes\"))","v":""},{"$f":"IF($E60=\"\",\"\",SUMIFS(CMS_Deviation_Detail!$I$24:$I$5800,CMS_Deviation_Detail!$B$24:$B$5800,B60,CMS_Deviation_Detail!$C$24:$C$5800,C60,CMS_Deviation_Detail!$D$24:$D$5800,D60,CMS_Deviation_Detail!$J$24:$J$5800,\"Unknown Causes\"))","v":""}]
[null,{"$f":"IF(Lists!BA39=\"\",\"\",Lists!BA39)","v":""},{"$f":"IF(Lists!BB39=\"\",\"\",Lists!BB39)","v":""},{"$f":"IF(Lists!BC39=\"\",\"\",Lists!BC39)","v":""},{"$f":"IF(Lists!BE39=\"\",\"\",Lists!BE39)","v":""},{"$f":"IF($E61=\"\",\"\",SUMIFS(CMS_Deviation_Detail!$I$24:$I$5400,CMS_Deviation_Detail!$B$24:$B$5400,B61,CMS_Deviation_Detail!$C$24:$C$5400,C61,CMS_Deviation_Detail!$D$24:$D$5400,D61))","v":""},"",{"$f":"IF($E61=\"\",\"\",SUMIFS(CMS_Deviation_Detail!$I$24:$I$5800,CMS_Deviation_Detail!$B$24:$B$5800,B61,CMS_Deviation_Detail!$C$24:$C$5800,C61,CMS_Deviation_Detail!$D$24:$D$5800,D61,CMS_Deviation_Detail!$J$24:$J$5800,\"Monitoring System Malfunctions\"))","v":""},{"$f":"IF($E61=\"\",\"\",SUMIFS(CMS_Deviation_Detail!$I$24:$I$5800,CMS_Deviation_Detail!$B$24:$B$5800,B61,CMS_Deviation_Detail!$C$24:$C$5800,C61,CMS_Deviation_Detail!$D$24:$D$5800,D61,CMS_Deviation_Detail!$J$24:$J$5800,\"Nonmonitoring Equipment Malfunctions\"))","v":""},{"$f":"IF($E61=\"\",\"\",SUMIFS(CMS_Deviation_Detail!$I$24:$I$5800,CMS_Deviation_Detail!$B$24:$B$5800,B61,CMS_Deviation_Detail!$C$24:$C$5800,C61,CMS_Deviation_Detail!$D$24:$D$5800,D61,CMS_Deviation_Detail!$J$24:$J$5800,\"Quality Assurance/Quality Control Calibrations\"))","v":""},{"$f":"IF($E61=\"\",\"\",SUMIFS(CMS_Deviation_Detail!$I$24:$I$5800,CMS_Deviation_Detail!$B$24:$B$5800,B61,CMS_Deviation_Detail!$C$24:$C$5800,C61,CMS_Deviation_Detail!$D$24:$D$5800,D61,CMS_Deviation_Detail!$J$24:$J$5800,\"Other Known Causes\"))","v":""},{"$f":"IF($E61=\"\",\"\",SUMIFS(CMS_Deviation_Detail!$I$24:$I$5800,CMS_Deviation_Detail!$B$24:$B$5800,B61,CMS_Deviation_Detail!$C$24:$C$5800,C61,CMS_Deviation_Detail!$D$24:$D$5800,D61,CMS_Deviation_Detail!$J$24:$J$5800,\"Unknown Causes\"))","v":""}]
[null,{"$f":"IF(Lists!BA40=\"\",\"\",Lists!BA40)","v":""},{"$f":"IF(Lists!BB40=\"\",\"\",Lists!BB40)","v":""},{"$f":"IF(Lists!BC40=\"\",\"\",Lists!BC40)","v":""},{"$f":"IF(Lists!BE40=\"\",\"\",Lists!BE40)","v":""},{"$f":"IF($E62=\"\",\"\",SUMIFS(CMS_Deviation_Detail!$I$24:$I$5400,CMS_Deviation_Detail!$B$24:$B$5400,B62,CMS_Deviation_Detail!$C$24:$C$5400,C62,CMS_Deviation_Detail!$D$24:$D$5400,D62))","v":""},"",{"$f":"IF($E62=\"\",\"\",SUMIFS(CMS_Deviation_Detail!$I$24:$I$5800,CMS_Deviation_Detail!$B$24:$B$5800,B62,CMS_Deviation_Detail!$C$24:$C$5800,C62,CMS_Deviation_Detail!$D$24:$D$5800,D62,CMS_Deviation_Detail!$J$24:$J$5800,\"Monitoring System Malfunctions\"))","v":""},{"$f":"IF($E62=\"\",\"\",SUMIFS(CMS_Deviation_Detail!$I$24:$I$5800,CMS_Deviation_Detail!$B$24:$B$5800,B62,CMS_Deviation_Detail!$C$24:$C$5800,C62,CMS_Deviation_Detail!$D$24:$D$5800,D62,CMS_Deviation_Detail!$J$24:$J$5800,\"Nonmonitoring Equipment Malfunctions\"))","v":""},{"$f":"IF($E62=\"\",\"\",SUMIFS(CMS_Deviation_Detail!$I$24:$I$5800,CMS_Deviation_Detail!$B$24:$B$5800,B62,CMS_Deviation_Detail!$C$24:$C$5800,C62,CMS_Deviation_Detail!$D$24:$D$5800,D62,CMS_Deviation_Detail!$J$24:$J$5800,\"Quality Assurance/Quality Control Calibrations\"))","v":""},{"$f":"IF($E62=\"\",\"\",SUMIFS(CMS_Deviation_Detail!$I$24:$I$5800,CMS_Deviation_Detail!$B$24:$B$5800,B62,CMS_Deviation_Detail!$C$24:$C$5800,C62,CMS_Deviation_Detail!$D$24:$D$5800,D62,CMS_Deviation_Detail!$J$24:$J$5800,\"Other Known Causes\"))","v":""},{"$f":"IF($E62=\"\",\"\",SUMIFS(CMS_Deviation_Detail!$I$24:$I$5800,CMS_Deviation_Detail!$B$24:$B$5800,B62,CMS_Deviation_Detail!$C$24:$C$5800,C62,CMS_Deviation_Detail!$D$24:$D$5800,D62,CMS_Deviation_Detail!$J$24:$J$5800,\"Unknown Causes\"))","v":""}]
[null,{"$f":"IF(Lists!BA41=\"\",\"\",Lists!BA41)","v":""},{"$f":"IF(Lists!BB41=\"\",\"\",Lists!BB41)","v":""},{"$f":"IF(Lists!BC41=\"\",\"\",Lists!BC41)","v":""},{"$f":"IF(Lists!BE41=\"\",\"\",Lists!BE41)","v":""},{"$f":"IF($E63=\"\",\"\",SUMIFS(CMS_Deviation_Detail!$I$24:$I$5400,CMS_Deviation_Detail!$B$24:$B$5400,B63,CMS_Deviation_Detail!$C$24:$C$5400,C63,CMS_Deviation_Detail!$D$24:$D$5400,D63))","v":""},"",{"$f":"IF($E63=\"\",\"\",SUMIFS(CMS_Deviation_Detail!$I$24:$I$5800,CMS_Deviation_Detail!$B$24:$B$5800,B63,CMS_Deviation_Detail!$C$24:$C$5800,C63,CMS_Deviation_Detail!$D$24:$D$5800,D63,CMS_Deviation_Detail!$J$24:$J$5800,\"Monitoring System Malfunctions\"))","v":""},{"$f":"IF($E63=\"\",\"\",SUMIFS(CMS_Deviation_Detail!$I$24:$I$5800,CMS_Deviation_Detail!$B$24:$B$5800,B63,CMS_Deviation_Detail!$C$24:$C$5800,C63,CMS_Deviation_Detail!$D$24:$D$5800,D63,CMS_Deviation_Detail!$J$24:$J$5800,\"Nonmonitoring Equipment Malfunctions\"))","v":""},{"$f":"IF($E63=\"\",\"\",SUMIFS(CMS_Deviation_Detail!$I$24:$I$5800,CMS_Deviation_Detail!$B$24:$B$5800,B63,CMS_Deviation_Detail!$C$24:$C$5800,C63,CMS_Deviation_Detail!$D$24:$D$5800,D63,CMS_Deviation_Detail!$J$24:$J$5800,\"Quality Assurance/Quality Control Calibrations\"))","v":""},{"$f":"IF($E63=\"\",\"\",SUMIFS(CMS_Deviation_Detail!$I$24:$I$5800,CMS_Deviation_Detail!$B$24:$B$5800,B63,CMS_Deviation_Detail!$C$24:$C$5800,C63,CMS_Deviation_Detail!$D$24:$D$5800,D63,CMS_Deviation_Detail!$J$24:$J$5800,\"Other Known Causes\"))","v":""},{"$f":"IF($E63=\"\",\"\",SUMIFS(CMS_Deviation_Detail!$I$24:$I$5800,CMS_Deviation_Detail!$B$24:$B$5800,B63,CMS_Deviation_Detail!$C$24:$C$5800,C63,CMS_Deviation_Detail!$D$24:$D$5800,D63,CMS_Deviation_Detail!$J$24:$J$5800,\"Unknown Causes\"))","v":""}]
[null,{"$f":"IF(Lists!BA42=\"\",\"\",Lists!BA42)","v":""},{"$f":"IF(Lists!BB42=\"\",\"\",Lists!BB42)","v":""},{"$f":"IF(Lists!BC42=\"\",\"\",Lists!BC42)","v":""},{"$f":"IF(Lists!BE42=\"\",\"\",Lists!BE42)","v":""},{"$f":"IF($E64=\"\",\"\",SUMIFS(CMS_Deviation_Detail!$I$24:$I$5400,CMS_Deviation_Detail!$B$24:$B$5400,B64,CMS_Deviation_Detail!$C$24:$C$5400,C64,CMS_Deviation_Detail!$D$24:$D$5400,D64))","v":""},"",{"$f":"IF($E64=\"\",\"\",SUMIFS(CMS_Deviation_Detail!$I$24:$I$5800,CMS_Deviation_Detail!$B$24:$B$5800,B64,CMS_Deviation_Detail!$C$24:$C$5800,C64,CMS_Deviation_Detail!$D$24:$D$5800,D64,CMS_Deviation_Detail!$J$24:$J$5800,\"Monitoring System Malfunctions\"))","v":""},{"$f":"IF($E64=\"\",\"\",SUMIFS(CMS_Deviation_Detail!$I$24:$I$5800,CMS_Deviation_Detail!$B$24:$B$5800,B64,CMS_Deviation_Detail!$C$24:$C$5800,C64,CMS_Deviation_Detail!$D$24:$D$5800,D64,CMS_Deviation_Detail!$J$24:$J$5800,\"Nonmonitoring Equipment Malfunctions\"))","v":""},{"$f":"IF($E64=\"\",\"\",SUMIFS(CMS_Deviation_Detail!$I$24:$I$5800,CMS_Deviation_Detail!$B$24:$B$5800,B64,CMS_Deviation_Detail!$C$24:$C$5800,C64,CMS_Deviation_Detail!$D$24:$D$5800,D64,CMS_Deviation_Detail!$J$24:$J$5800,\"Quality Assurance/Quality Control Calibrations\"))","v":""},{"$f":"IF($E64=\"\",\"\",SUMIFS(CMS_Deviation_Detail!$I$24:$I$5800,CMS_Deviation_Detail!$B$24:$B$5800,B64,CMS_Deviation_Detail!$C$24:$C$5800,C64,CMS_Deviation_Detail!$D$24:$D$5800,D64,CMS_Deviation_Detail!$J$24:$J$5800,\"Other Known Causes\"))","v":""},{"$f":"IF($E64=\"\",\"\",SUMIFS(CMS_Deviation_Detail!$I$24:$I$5800,CMS_Deviation_Detail!$B$24:$B$5800,B64,CMS_Deviation_Detail!$C$24:$C$5800,C64,CMS_Deviation_Detail!$D$24:$D$5800,D64,CMS_Deviation_Detail!$J$24:$J$5800,\"Unknown Causes\"))","v":""}]
[null,{"$f":"IF(Lists!BA43=\"\",\"\",Lists!BA43)","v":""},{"$f":"IF(Lists!BB43=\"\",\"\",Lists!BB43)","v":""},{"$f":"IF(Lists!BC43=\"\",\"\",Lists!BC43)","v":""},{"$f":"IF(Lists!BE43=\"\",\"\",Lists!BE43)","v":""},{"$f":"IF($E65=\"\",\"\",SUMIFS(CMS_Deviation_Detail!$I$24:$I$5400,CMS_Deviation_Detail!$B$24:$B$5400,B65,CMS_Deviation_Detail!$C$24:$C$5400,C65,CMS_Deviation_Detail!$D$24:$D$5400,D65))","v":""},"",{"$f":"IF($E65=\"\",\"\",SUMIFS(CMS_Deviation_Detail!$I$24:$I$5800,CMS_Deviation_Detail!$B$24:$B$5800,B65,CMS_Deviation_Detail!$C$24:$C$5800,C65,CMS_Deviation_Detail!$D$24:$D$5800,D65,CMS_Deviation_Detail!$J$24:$J$5800,\"Monitoring System Malfunctions\"))","v":""},{"$f":"IF($E65=\"\",\"\",SUMIFS(CMS_Deviation_Detail!$I$24:$I$5800,CMS_Deviation_Detail!$B$24:$B$5800,B65,CMS_Deviation_Detail!$C$24:$C$5800,C65,CMS_Deviation_Detail!$D$24:$D$5800,D65,CMS_Deviation_Detail!$J$24:$J$5800,\"Nonmonitoring Equipment Malfunctions\"))","v":""},{"$f":"IF($E65=\"\",\"\",SUMIFS(CMS_Deviation_Detail!$I$24:$I$5800,CMS_Deviation_Detail!$B$24:$B$5800,B65,CMS_Deviation_Detail!$C$24:$C$5800,C65,CMS_Deviation_Detail!$D$24:$D$5800,D65,CMS_Deviation_Detail!$J$24:$J$5800,\"Quality Assurance/Quality Control Calibrations\"))","v":""},{"$f":"IF($E65=\"\",\"\",SUMIFS(CMS_Deviation_Detail!$I$24:$I$5800,CMS_Deviation_Detail!$B$24:$B$5800,B65,CMS_Deviation_Detail!$C$24:$C$5800,C65,CMS_Deviation_Detail!$D$24:$D$5800,D65,CMS_Deviation_Detail!$J$24:$J$5800,\"Other Known Causes\"))","v":""},{"$f":"IF($E65=\"\",\"\",SUMIFS(CMS_Deviation_Detail!$I$24:$I$5800,CMS_Deviation_Detail!$B$24:$B$5800,B65,CMS_Deviation_Detail!$C$24:$C$5800,C65,CMS_Deviation_Detail!$D$24:$D$5800,D65,CMS_Deviation_Detail!$J$24:$J$5800,\"Unknown Causes\"))","v":""}]
[null,{"$f":"IF(Lists!BA44=\"\",\"\",Lists!BA44)","v":""},{"$f":"IF(Lists!BB44=\"\",\"\",Lists!BB44)","v":""},{"$f":"IF(Lists!BC44=\"\",\"\",Lists!BC44)","v":""},{"$f":"IF(Lists!BE44=\"\",\"\",Lists!BE44)","v":""},{"$f":"IF($E66=\"\",\"\",SUMIFS(CMS_Deviation_Detail!$I$24:$I$5400,CMS_Deviation_Detail!$B$24:$B$5400,B66,CMS_Deviation_Detail!$C$24:$C$5400,C66,CMS_Deviation_Detail!$D$24:$D$5400,D66))","v":""},"",{"$f":"IF($E66=\"\",\"\",SUMIFS(CMS_Deviation_Detail!$I$24:$I$5800,CMS_Deviation_Detail!$B$24:$B$5800,B66,CMS_Deviation_Detail!$C$24:$C$5800,C66,CMS_Deviation_Detail!$D$24:$D$5800,D66,CMS_Deviation_Detail!$J$24:$J$5800,\"Monitoring System Malfunctions\"))","v":""},{"$f":"IF($E66=\"\",\"\",SUMIFS(CMS_Deviation_Detail!$I$24:$I$5800,CMS_Deviation_Detail!$B$24:$B$5800,B66,CMS_Deviation_Detail!$C$24:$C$5800,C66,CMS_Deviation_Detail!$D$24:$D$5800,D66,CMS_Deviation_Detail!$J$24:$J$5800,\"Nonmonitoring Equipment Malfunctions\"))","v":""},{"$f":"IF($E66=\"\",\"\",SUMIFS(CMS_Deviation_Detail!$I$24:$I$5800,CMS_Deviation_Detail!$B$24:$B$5800,B66,CMS_Deviation_Detail!$C$24:$C$5800,C66,CMS_Deviation_Detail!$D$24:$D$5800,D66,CMS_Deviation_Detail!$J$24:$J$5800,\"Quality Assurance/Quality Control Calibrations\"))","v":""},{"$f":"IF($E66=\"\",\"\",SUMIFS(CMS_Deviation_Detail!$I$24:$I$5800,CMS_Deviation_Detail!$B$24:$B$5800,B66,CMS_Deviation_Detail!$C$24:$C$5800,C66,CMS_Deviation_Detail!$D$24:$D$5800,D66,CMS_Deviation_Detail!$J$24:$J$5800,\"Other Known Causes\"))","v":""},{"$f":"IF($E66=\"\",\"\",SUMIFS(CMS_Deviation_Detail!$I$24:$I$5800,CMS_Deviation_Detail!$B$24:$B$5800,B66,CMS_Deviation_Detail!$C$24:$C$5800,C66,CMS_Deviation_Detail!$D$24:$D$5800,D66,CMS_Deviation_Detail!$J$24:$J$5800,\"Unknown Causes\"))","v":""}]
[null,{"$f":"IF(Lists!BA45=\"\",\"\",Lists!BA45)","v":""},{"$f":"IF(Lists!BB45=\"\",\"\",Lists!BB45)","v":""},{"$f":"IF(Lists!BC45=\"\",\"\",Lists!BC45)","v":""},{"$f":"IF(Lists!BE45=\"\",\"\",Lists!BE45)","v":""},{"$f":"IF($E67=\"\",\"\",SUMIFS(CMS_Deviation_Detail!$I$24:$I$5400,CMS_Deviation_Detail!$B$24:$B$5400,B67,CMS_Deviation_Detail!$C$24:$C$5400,C67,CMS_Deviation_Detail!$D$24:$D$5400,D67))","v":""},"",{"$f":"IF($E67=\"\",\"\",SUMIFS(CMS_Deviation_Detail!$I$24:$I$5800,CMS_Deviation_Detail!$B$24:$B$5800,B67,CMS_Deviation_Detail!$C$24:$C$5800,C67,CMS_Deviation_Detail!$D$24:$D$5800,D67,CMS_Deviation_Detail!$J$24:$J$5800,\"Monitoring System Malfunctions\"))","v":""},{"$f":"IF($E67=\"\",\"\",SUMIFS(CMS_Deviation_Detail!$I$24:$I$5800,CMS_Deviation_Detail!$B$24:$B$5800,B67,CMS_Deviation_Detail!$C$24:$C$5800,C67,CMS_Deviation_Detail!$D$24:$D$5800,D67,CMS_Deviation_Detail!$J$24:$J$5800,\"Nonmonitoring Equipment Malfunctions\"))","v":""},{"$f":"IF($E67=\"\",\"\",SUMIFS(CMS_Deviation_Detail!$I$24:$I$5800,CMS_Deviation_Detail!$B$24:$B$5800,B67,CMS_Deviation_Detail!$C$24:$C$5800,C67,CMS_Deviation_Detail!$D$24:$D$5800,D67,CMS_Deviation_Detail!$J$24:$J$5800,\"Quality Assurance/Quality Control Calibrations\"))","v":""},{"$f":"IF($E67=\"\",\"\",SUMIFS(CMS_Deviation_Detail!$I$24:$I$5800,CMS_Deviation_Detail!$B$24:$B$5800,B67,CMS_Deviation_Detail!$C$24:$C$5800,C67,CMS_Deviation_Detail!$D$24:$D$5800,D67,CMS_Deviation_Detail!$J$24:$J$5800,\"Other Known Causes\"))","v":""},{"$f":"IF($E67=\"\",\"\",SUMIFS(CMS_Deviation_Detail!$I$24:$I$5800,CMS_Deviation_Detail!$B$24:$B$5800,B67,CMS_Deviation_Detail!$C$24:$C$5800,C67,CMS_Deviation_Detail!$D$24:$D$5800,D67,CMS_Deviation_Detail!$J$24:$J$5800,\"Unknown Causes\"))","v":""}]
[null,{"$f":"IF(Lists!BA46=\"\",\"\",Lists!BA46)","v":""},{"$f":"IF(Lists!BB46=\"\",\"\",Lists!BB46)","v":""},{"$f":"IF(Lists!BC46=\"\",\"\",Lists!BC46)","v":""},{"$f":"IF(Lists!BE46=\"\",\"\",Lists!BE46)","v":""},{"$f":"IF($E68=\"\",\"\",SUMIFS(CMS_Deviation_Detail!$I$24:$I$5400,CMS_Deviation_Detail!$B$24:$B$5400,B68,CMS_Deviation_Detail!$C$24:$C$5400,C68,CMS_Deviation_Detail!$D$24:$D$5400,D68))","v":""},"",{"$f":"IF($E68=\"\",\"\",SUMIFS(CMS_Deviation_Detail!$I$24:$I$5800,CMS_Deviation_Detail!$B$24:$B$5800,B68,CMS_Deviation_Detail!$C$24:$C$5800,C68,CMS_Deviation_Detail!$D$24:$D$5800,D68,CMS_Deviation_Detail!$J$24:$J$5800,\"Monitoring System Malfunctions\"))","v":""},{"$f":"IF($E68=\"\",\"\",SUMIFS(CMS_Deviation_Detail!$I$24:$I$5800,CMS_Deviation_Detail!$B$24:$B$5800,B68,CMS_Deviation_Detail!$C$24:$C$5800,C68,CMS_Deviation_Detail!$D$24:$D$5800,D68,CMS_Deviation_Detail!$J$24:$J$5800,\"Nonmonitoring Equipment Malfunctions\"))","v":""},{"$f":"IF($E68=\"\",\"\",SUMIFS(CMS_Deviation_Detail!$I$24:$I$5800,CMS_Deviation_Detail!$B$24:$B$5800,B68,CMS_Deviation_Detail!$C$24:$C$5800,C68,CMS_Deviation_Detail!$D$24:$D$5800,D68,CMS_Deviation_Detail!$J$24:$J$5800,\"Quality Assurance/Quality Control Calibrations\"))","v":""},{"$f":"IF($E68=\"\",\"\",SUMIFS(CMS_Deviation_Detail!$I$24:$I$5800,CMS_Deviation_Detail!$B$24:$B$5800,B68,CMS_Deviation_Detail!$C$24:$C$5800,C68,CMS_Deviation_Detail!$D$24:$D$5800,D68,CMS_Deviation_Detail!$J$24:$J$5800,\"Other Known Causes\"))","v":""},{"$f":"IF($E68=\"\",\"\",SUMIFS(CMS_Deviation_Detail!$I$24:$I$5800,CMS_Deviation_Detail!$B$24:$B$5800,B68,CMS_Deviation_Detail!$C$24:$C$5800,C68,CMS_Deviation_Detail!$D$24:$D$5800,D68,CMS_Deviation_Detail!$J$24:$J$5800,\"Unknown Causes\"))","v":""}]
[null,{"$f":"IF(Lists!BA47=\"\",\"\",Lists!BA47)","v":""},{"$f":"IF(Lists!BB47=\"\",\"\",Lists!BB47)","v":""},{"$f":"IF(Lists!BC47=\"\",\"\",Lists!BC47)","v":""},{"$f":"IF(Lists!BE47=\"\",\"\",Lists!BE47)","v":""},{"$f":"IF($E69=\"\",\"\",SUMIFS(CMS_Deviation_Detail!$I$24:$I$5400,CMS_Deviation_Detail!$B$24:$B$5400,B69,CMS_Deviation_Detail!$C$24:$C$5400,C69,CMS_Deviation_Detail!$D$24:$D$5400,D69))","v":""},"",{"$f":"IF($E69=\"\",\"\",SUMIFS(CMS_Deviation_Detail!$I$24:$I$5800,CMS_Deviation_Detail!$B$24:$B$5800,B69,CMS_Deviation_Detail!$C$24:$C$5800,C69,CMS_Deviation_Detail!$D$24:$D$5800,D69,CMS_Deviation_Detail!$J$24:$J$5800,\"Monitoring System Malfunctions\"))","v":""},{"$f":"IF($E69=\"\",\"\",SUMIFS(CMS_Deviation_Detail!$I$24:$I$5800,CMS_Deviation_Detail!$B$24:$B$5800,B69,CMS_Deviation_Detail!$C$24:$C$5800,C69,CMS_Deviation_Detail!$D$24:$D$5800,D69,CMS_Deviation_Detail!$J$24:$J$5800,\"Nonmonitoring Equipment Malfunctions\"))","v":""},{"$f":"IF($E69=\"\",\"\",SUMIFS(CMS_Deviation_Detail!$I$24:$I$5800,CMS_Deviation_Detail!$B$24:$B$5800,B69,CMS_Deviation_Detail!$C$24:$C$5800,C69,CMS_Deviation_Detail!$D$24:$D$5800,D69,CMS_Deviation_Detail!$J$24:$J$5800,\"Quality Assurance/Quality Control Calibrations\"))","v":""},{"$f":"IF($E69=\"\",\"\",SUMIFS(CMS_Deviation_Detail!$I$24:$I$5800,CMS_Deviation_Detail!$B$24:$B$5800,B69,CMS_Deviation_Detail!$C$24:$C$5800,C69,CMS_Deviation_Detail!$D$24:$D$5800,D69,CMS_Deviation_Detail!$J$24:$J$5800,\"Other Known Causes\"))","v":""},{"$f":"IF($E69=\"\",\"\",SUMIFS(CMS_Deviation_Detail!$I$24:$I$5800,CMS_Deviation_Detail!$B$24:$B$5800,B69,CMS_Deviation_Detail!$C$24:$C$5800,C69,CMS_Deviation_Detail!$D$24:$D$5800,D69,CMS_Deviation_Detail!$J$24:$J$5800,\"Unknown Causes\"))","v":""}]
[null,{"$f":"IF(Lists!BA48=\"\",\"\",Lists!BA48)","v":""},{"$f":"IF(Lists!BB48=\"\",\"\",Lists!BB48)","v":""},{"$f":"IF(Lists!BC48=\"\",\"\",Lists!BC48)","v":""},{"$f":"IF(Lists!BE48=\"\",\"\",Lists!BE48)","v":""},{"$f":"IF($E70=\"\",\"\",SUMIFS(CMS_Deviation_Detail!$I$24:$I$5400,CMS_Deviation_Detail!$B$24:$B$5400,B70,CMS_Deviation_Detail!$C$24:$C$5400,C70,CMS_Deviation_Detail!$D$24:$D$5400,D70))","v":""},"",{"$f":"IF($E70=\"\",\"\",SUMIFS(CMS_Deviation_Detail!$I$24:$I$5800,CMS_Deviation_Detail!$B$24:$B$5800,B70,CMS_Deviation_Detail!$C$24:$C$5800,C70,CMS_Deviation_Detail!$D$24:$D$5800,D70,CMS_Deviation_Detail!$J$24:$J$5800,\"Monitoring System Malfunctions\"))","v":""},{"$f":"IF($E70=\"\",\"\",SUMIFS(CMS_Deviation_Detail!$I$24:$I$5800,CMS_Deviation_Detail!$B$24:$B$5800,B70,CMS_Deviation_Detail!$C$24:$C$5800,C70,CMS_Deviation_Detail!$D$24:$D$5800,D70,CMS_Deviation_Detail!$J$24:$J$5800,\"Nonmonitoring Equipment Malfunctions\"))","v":""},{"$f":"IF($E70=\"\",\"\",SUMIFS(CMS_Deviation_Detail!$I$24:$I$5800,CMS_Deviation_Detail!$B$24:$B$5800,B70,CMS_Deviation_Detail!$C$24:$C$5800,C70,CMS_Deviation_Detail!$D$24:$D$5800,D70,CMS_Deviation_Detail!$J$24:$J$5800,\"Quality Assurance/Quality Control Calibrations\"))","v":""},{"$f":"IF($E70=\"\",\"\",SUMIFS(CMS_Deviation_Detail!$I$24:$I$5800,CMS_Deviation_Detail!$B$24:$B$5800,B70,CMS_Deviation_Detail!$C$24:$C$5800,C70,CMS_Deviation_Detail!$D$24:$D$5800,D70,CMS_Deviation_Detail!$J$24:$J$5800,\"Other Known Causes\"))","v":""},{"$f":"IF($E70=\"\",\"\",SUMIFS(CMS_Deviation_Detail!$I$24:$I$5800,CMS_Deviation_Detail!$B$24:$B$5800,B70,CMS_Deviation_Detail!$C$24:$C$5800,C70,CMS_Deviation_Detail!$D$24:$D$5800,D70,CMS_Deviation_Detail!$J$24:$J$5800,\"Unknown Causes\"))","v":""}]
[null,{"$f":"IF(Lists!BA49=\"\",\"\",Lists!BA49)","v":""},{"$f":"IF(Lists!BB49=\"\",\"\",Lists!BB49)","v":""},{"$f":"IF(Lists!BC49=\"\",\"\",Lists!BC49)","v":""},{"$f":"IF(Lists!BE49=\"\",\"\",Lists!BE49)","v":""},{"$f":"IF($E71=\"\",\"\",SUMIFS(CMS_Deviation_Detail!$I$24:$I$5400,CMS_Deviation_Detail!$B$24:$B$5400,B71,CMS_Deviation_Detail!$C$24:$C$5400,C71,CMS_Deviation_Detail!$D$24:$D$5400,D71))","v":""},"",{"$f":"IF($E71=\"\",\"\",SUMIFS(CMS_Deviation_Detail!$I$24:$I$5800,CMS_Deviation_Detail!$B$24:$B$5800,B71,CMS_Deviation_Detail!$C$24:$C$5800,C71,CMS_Deviation_Detail!$D$24:$D$5800,D71,CMS_Deviation_Detail!$J$24:$J$5800,\"Monitoring System Malfunctions\"))","v":""},{"$f":"IF($E71=\"\",\"\",SUMIFS(CMS_Deviation_Detail!$I$24:$I$5800,CMS_Deviation_Detail!$B$24:$B$5800,B71,CMS_Deviation_Detail!$C$24:$C$5800,C71,CMS_Deviation_Detail!$D$24:$D$5800,D71,CMS_Deviation_Detail!$J$24:$J$5800,\"Nonmonitoring Equipment Malfunctions\"))","v":""},{"$f":"IF($E71=\"\",\"\",SUMIFS(CMS_Deviation_Detail!$I$24:$I$5800,CMS_Deviation_Detail!$B$24:$B$5800,B71,CMS_Deviation_Detail!$C$24:$C$5800,C71,CMS_Deviation_Detail!$D$24:$D$5800,D71,CMS_Deviation_Detail!$J$24:$J$5800,\"Quality Assurance/Quality Control Calibrations\"))","v":""},{"$f":"IF($E71=\"\",\"\",SUMIFS(CMS_Deviation_Detail!$I$24:$I$5800,CMS_Deviation_Detail!$B$24:$B$5800,B71,CMS_Deviation_Detail!$C$24:$C$5800,C71,CMS_Deviation_Detail!$D$24:$D$5800,D71,CMS_Deviation_Detail!$J$24:$J$5800,\"Other Known Causes\"))","v":""},{"$f":"IF($E71=\"\",\"\",SUMIFS(CMS_Deviation_Detail!$I$24:$I$5800,CMS_Deviation_Detail!$B$24:$B$5800,B71,CMS_Deviation_Detail!$C$24:$C$5800,C71,CMS_Deviation_Detail!$D$24:$D$5800,D71,CMS_Deviation_Detail!$J$24:$J$5800,\"Unknown Causes\"))","v":""}]
[null,{"$f":"IF(Lists!BA50=\"\",\"\",Lists!BA50)","v":""},{"$f":"IF(Lists!BB50=\"\",\"\",Lists!BB50)","v":""},{"$f":"IF(Lists!BC50=\"\",\"\",Lists!BC50)","v":""},{"$f":"IF(Lists!BE50=\"\",\"\",Lists!BE50)","v":""},{"$f":"IF($E72=\"\",\"\",SUMIFS(CMS_Deviation_Detail!$I$24:$I$5400,CMS_Deviation_Detail!$B$24:$B$5400,B72,CMS_Deviation_Detail!$C$24:$C$5400,C72,CMS_Deviation_Detail!$D$24:$D$5400,D72))","v":""},"",{"$f":"IF($E72=\"\",\"\",SUMIFS(CMS_Deviation_Detail!$I$24:$I$5800,CMS_Deviation_Detail!$B$24:$B$5800,B72,CMS_Deviation_Detail!$C$24:$C$5800,C72,CMS_Deviation_Detail!$D$24:$D$5800,D72,CMS_Deviation_Detail!$J$24:$J$5800,\"Monitoring System Malfunctions\"))","v":""},{"$f":"IF($E72=\"\",\"\",SUMIFS(CMS_Deviation_Detail!$I$24:$I$5800,CMS_Deviation_Detail!$B$24:$B$5800,B72,CMS_Deviation_Detail!$C$24:$C$5800,C72,CMS_Deviation_Detail!$D$24:$D$5800,D72,CMS_Deviation_Detail!$J$24:$J$5800,\"Nonmonitoring Equipment Malfunctions\"))","v":""},{"$f":"IF($E72=\"\",\"\",SUMIFS(CMS_Deviation_Detail!$I$24:$I$5800,CMS_Deviation_Detail!$B$24:$B$5800,B72,CMS_Deviation_Detail!$C$24:$C$5800,C72,CMS_Deviation_Detail!$D$24:$D$5800,D72,CMS_Deviation_Detail!$J$24:$J$5800,\"Quality Assurance/Quality Control Calibrations\"))","v":""},{"$f":"IF($E72=\"\",\"\",SUMIFS(CMS_Deviation_Detail!$I$24:$I$5800,CMS_Deviation_Detail!$B$24:$B$5800,B72,CMS_Deviation_Detail!$C$24:$C$5800,C72,CMS_Deviation_Detail!$D$24:$D$5800,D72,CMS_Deviation_Detail!$J$24:$J$5800,\"Other Known Causes\"))","v":""},{"$f":"IF($E72=\"\",\"\",SUMIFS(CMS_Deviation_Detail!$I$24:$I$5800,CMS_Deviation_Detail!$B$24:$B$5800,B72,CMS_Deviation_Detail!$C$24:$C$5800,C72,CMS_Deviation_Detail!$D$24:$D$5800,D72,CMS_Deviation_Detail!$J$24:$J$5800,\"Unknown Causes\"))","v":""}]
[null,{"$f":"IF(Lists!BA51=\"\",\"\",Lists!BA51)","v":""},{"$f":"IF(Lists!BB51=\"\",\"\",Lists!BB51)","v":""},{"$f":"IF(Lists!BC51=\"\",\"\",Lists!BC51)","v":""},{"$f":"IF(Lists!BE51=\"\",\"\",Lists!BE51)","v":""},{"$f":"IF($E73=\"\",\"\",SUMIFS(CMS_Deviation_Detail!$I$24:$I$5400,CMS_Deviation_Detail!$B$24:$B$5400,B73,CMS_Deviation_Detail!$C$24:$C$5400,C73,CMS_Deviation_Detail!$D$24:$D$5400,D73))","v":""},"",{"$f":"IF($E73=\"\",\"\",SUMIFS(CMS_Deviation_Detail!$I$24:$I$5800,CMS_Deviation_Detail!$B$24:$B$5800,B73,CMS_Deviation_Detail!$C$24:$C$5800,C73,CMS_Deviation_Detail!$D$24:$D$5800,D73,CMS_Deviation_Detail!$J$24:$J$5800,\"Monitoring System Malfunctions\"))","v":""},{"$f":"IF($E73=\"\",\"\",SUMIFS(CMS_Deviation_Detail!$I$24:$I$5800,CMS_Deviation_Detail!$B$24:$B$5800,B73,CMS_Deviation_Detail!$C$24:$C$5800,C73,CMS_Deviation_Detail!$D$24:$D$5800,D73,CMS_Deviation_Detail!$J$24:$J$5800,\"Nonmonitoring Equipment Malfunctions\"))","v":""},{"$f":"IF($E73=\"\",\"\",SUMIFS(CMS_Deviation_Detail!$I$24:$I$5800,CMS_Deviation_Detail!$B$24:$B$5800,B73,CMS_Deviation_Detail!$C$24:$C$5800,C73,CMS_Deviation_Detail!$D$24:$D$5800,D73,CMS_Deviation_Detail!$J$24:$J$5800,\"Quality Assurance/Quality Control Calibrations\"))","v":""},{"$f":"IF($E73=\"\",\"\",SUMIFS(CMS_Deviation_Detail!$I$24:$I$5800,CMS_Deviation_Detail!$B$24:$B$5800,B73,CMS_Deviation_Detail!$C$24:$C$5800,C73,CMS_Deviation_Detail!$D$24:$D$5800,D73,CMS_Deviation_Detail!$J$24:$J$5800,\"Other Known Causes\"))","v":""},{"$f":"IF($E73=\"\",\"\",SUMIFS(CMS_Deviation_Detail!$I$24:$I$5800,CMS_Deviation_Detail!$B$24:$B$5800,B73,CMS_Deviation_Detail!$C$24:$C$5800,C73,CMS_Deviation_Detail!$D$24:$D$5800,D73,CMS_Deviation_Detail!$J$24:$J$5800,\"Unknown Causes\"))","v":""}]
[null,{"$f":"IF(Lists!BA52=\"\",\"\",Lists!BA52)","v":""},{"$f":"IF(Lists!BB52=\"\",\"\",Lists!BB52)","v":""},{"$f":"IF(Lists!BC52=\"\",\"\",Lists!BC52)","v":""},{"$f":"IF(Lists!BE52=\"\",\"\",Lists!BE52)","v":""},{"$f":"IF($E74=\"\",\"\",SUMIFS(CMS_Deviation_Detail!$I$24:$I$5400,CMS_Deviation_Detail!$B$24:$B$5400,B74,CMS_Deviation_Detail!$C$24:$C$5400,C74,CMS_Deviation_Detail!$D$24:$D$5400,D74))","v":""},"",{"$f":"IF($E74=\"\",\"\",SUMIFS(CMS_Deviation_Detail!$I$24:$I$5800,CMS_Deviation_Detail!$B$24:$B$5800,B74,CMS_Deviation_Detail!$C$24:$C$5800,C74,CMS_Deviation_Detail!$D$24:$D$5800,D74,CMS_Deviation_Detail!$J$24:$J$5800,\"Monitoring System Malfunctions\"))","v":""},{"$f":"IF($E74=\"\",\"\",SUMIFS(CMS_Deviation_Detail!$I$24:$I$5800,CMS_Deviation_Detail!$B$24:$B$5800,B74,CMS_Deviation_Detail!$C$24:$C$5800,C74,CMS_Deviation_Detail!$D$24:$D$5800,D74,CMS_Deviation_Detail!$J$24:$J$5800,\"Nonmonitoring Equipment Malfunctions\"))","v":""},{"$f":"IF($E74=\"\",\"\",SUMIFS(CMS_Deviation_Detail!$I$24:$I$5800,CMS_Deviation_Detail!$B$24:$B$5800,B74,CMS_Deviation_Detail!$C$24:$C$5800,C74,CMS_Deviation_Detail!$D$24:$D$5800,D74,CMS_Deviation_Detail!$J$24:$J$5800,\"Quality Assurance/Quality Control Calibrations\"))","v":""},{"$f":"IF($E74=\"\",\"\",SUMIFS(CMS_Deviation_Detail!$I$24:$I$5800,CMS_Deviation_Detail!$B$24:$B$5800,B74,CMS_Deviation_Detail!$C$24:$C$5800,C74,CMS_Deviation_Detail!$D$24:$D$5800,D74,CMS_Deviation_Detail!$J$24:$J$5800,\"Other Known Causes\"))","v":""},{"$f":"IF($E74=\"\",\"\",SUMIFS(CMS_Deviation_Detail!$I$24:$I$5800,CMS_Deviation_Detail!$B$24:$B$5800,B74,CMS_Deviation_Detail!$C$24:$C$5800,C74,CMS_Deviation_Detail!$D$24:$D$5800,D74,CMS_Deviation_Detail!$J$24:$J$5800,\"Unknown Causes\"))","v":""}]
[null,{"$f":"IF(Lists!BA53=\"\",\"\",Lists!BA53)","v":""},{"$f":"IF(Lists!BB53=\"\",\"\",Lists!BB53)","v":""},{"$f":"IF(Lists!BC53=\"\",\"\",Lists!BC53)","v":""},{"$f":"IF(Lists!BE53=\"\",\"\",Lists!BE53)","v":""},{"$f":"IF($E75=\"\",\"\",SUMIFS(CMS_Deviation_Detail!$I$24:$I$5400,CMS_Deviation_Detail!$B$24:$B$5400,B75,CMS_Deviation_Detail!$C$24:$C$5400,C75,CMS_Deviation_Detail!$D$24:$D$5400,D75))","v":""},"",{"$f":"IF($E75=\"\",\"\",SUMIFS(CMS_Deviation_Detail!$I$24:$I$5800,CMS_Deviation_Detail!$B$24:$B$5800,B75,CMS_Deviation_Detail!$C$24:$C$5800,C75,CMS_Deviation_Detail!$D$24:$D$5800,D75,CMS_Deviation_Detail!$J$24:$J$5800,\"Monitoring System Malfunctions\"))","v":""},{"$f":"IF($E75=\"\",\"\",SUMIFS(CMS_Deviation_Detail!$I$24:$I$5800,CMS_Deviation_Detail!$B$24:$B$5800,B75,CMS_Deviation_Detail!$C$24:$C$5800,C75,CMS_Deviation_Detail!$D$24:$D$5800,D75,CMS_Deviation_Detail!$J$24:$J$5800,\"Nonmonitoring Equipment Malfunctions\"))","v":""},{"$f":"IF($E75=\"\",\"\",SUMIFS(CMS_Deviation_Detail!$I$24:$I$5800,CMS_Deviation_Detail!$B$24:$B$5800,B75,CMS_Deviation_Detail!$C$24:$C$5800,C75,CMS_Deviation_Detail!$D$24:$D$5800,D75,CMS_Deviation_Detail!$J$24:$J$5800,\"Quality Assurance/Quality Control Calibrations\"))","v":""},{"$f":"IF($E75=\"\",\"\",SUMIFS(CMS_Deviation_Detail!$I$24:$I$5800,CMS_Deviation_Detail!$B$24:$B$5800,B75,CMS_Deviation_Detail!$C$24:$C$5800,C75,CMS_Deviation_Detail!$D$24:$D$5800,D75,CMS_Deviation_Detail!$J$24:$J$5800,\"Other Known Causes\"))","v":""},{"$f":"IF($E75=\"\",\"\",SUMIFS(CMS_Deviation_Detail!$I$24:$I$5800,CMS_Deviation_Detail!$B$24:$B$5800,B75,CMS_Deviation_Detail!$C$24:$C$5800,C75,CMS_Deviation_Detail!$D$24:$D$5800,D75,CMS_Deviation_Detail!$J$24:$J$5800,\"Unknown Causes\"))","v":""}]
[null,{"$f":"IF(Lists!BA54=\"\",\"\",Lists!BA54)","v":""},{"$f":"IF(Lists!BB54=\"\",\"\",Lists!BB54)","v":""},{"$f":"IF(Lists!BC54=\"\",\"\",Lists!BC54)","v":""},{"$f":"IF(Lists!BE54=\"\",\"\",Lists!BE54)","v":""},{"$f":"IF($E76=\"\",\"\",SUMIFS(CMS_Deviation_Detail!$I$24:$I$5400,CMS_Deviation_Detail!$B$24:$B$5400,B76,CMS_Deviation_Detail!$C$24:$C$5400,C76,CMS_Deviation_Detail!$D$24:$D$5400,D76))","v":""},"",{"$f":"IF($E76=\"\",\"\",SUMIFS(CMS_Deviation_Detail!$I$24:$I$5800,CMS_Deviation_Detail!$B$24:$B$5800,B76,CMS_Deviation_Detail!$C$24:$C$5800,C76,CMS_Deviation_Detail!$D$24:$D$5800,D76,CMS_Deviation_Detail!$J$24:$J$5800,\"Monitoring System Malfunctions\"))","v":""},{"$f":"IF($E76=\"\",\"\",SUMIFS(CMS_Deviation_Detail!$I$24:$I$5800,CMS_Deviation_Detail!$B$24:$B$5800,B76,CMS_Deviation_Detail!$C$24:$C$5800,C76,CMS_Deviation_Detail!$D$24:$D$5800,D76,CMS_Deviation_Detail!$J$24:$J$5800,\"Nonmonitoring Equipment Malfunctions\"))","v":""},{"$f":"IF($E76=\"\",\"\",SUMIFS(CMS_Deviation_Detail!$I$24:$I$5800,CMS_Deviation_Detail!$B$24:$B$5800,B76,CMS_Deviation_Detail!$C$24:$C$5800,C76,CMS_Deviation_Detail!$D$24:$D$5800,D76,CMS_Deviation_Detail!$J$24:$J$5800,\"Quality Assurance/Quality Control Calibrations\"))","v":""},{"$f":"IF($E76=\"\",\"\",SUMIFS(CMS_Deviation_Detail!$I$24:$I$5800,CMS_Deviation_Detail!$B$24:$B$5800,B76,CMS_Deviation_Detail!$C$24:$C$5800,C76,CMS_Deviation_Detail!$D$24:$D$5800,D76,CMS_Deviation_Detail!$J$24:$J$5800,\"Other Known Causes\"))","v":""},{"$f":"IF($E76=\"\",\"\",SUMIFS(CMS_Deviation_Detail!$I$24:$I$5800,CMS_Deviation_Detail!$B$24:$B$5800,B76,CMS_Deviation_Detail!$C$24:$C$5800,C76,CMS_Deviation_Detail!$D$24:$D$5800,D76,CMS_Deviation_Detail!$J$24:$J$5800,\"Unknown Causes\"))","v":""}]
[null,{"$f":"IF(Lists!BA55=\"\",\"\",Lists!BA55)","v":""},{"$f":"IF(Lists!BB55=\"\",\"\",Lists!BB55)","v":""},{"$f":"IF(Lists!BC55=\"\",\"\",Lists!BC55)","v":""},{"$f":"IF(Lists!BE55=\"\",\"\",Lists!BE55)","v":""},{"$f":"IF($E77=\"\",\"\",SUMIFS(CMS_Deviation_Detail!$I$24:$I$5400,CMS_Deviation_Detail!$B$24:$B$5400,B77,CMS_Deviation_Detail!$C$24:$C$5400,C77,CMS_Deviation_Detail!$D$24:$D$5400,D77))","v":""},"",{"$f":"IF($E77=\"\",\"\",SUMIFS(CMS_Deviation_Detail!$I$24:$I$5800,CMS_Deviation_Detail!$B$24:$B$5800,B77,CMS_Deviation_Detail!$C$24:$C$5800,C77,CMS_Deviation_Detail!$D$24:$D$5800,D77,CMS_Deviation_Detail!$J$24:$J$5800,\"Monitoring System Malfunctions\"))","v":""},{"$f":"IF($E77=\"\",\"\",SUMIFS(CMS_Deviation_Detail!$I$24:$I$5800,CMS_Deviation_Detail!$B$24:$B$5800,B77,CMS_Deviation_Detail!$C$24:$C$5800,C77,CMS_Deviation_Detail!$D$24:$D$5800,D77,CMS_Deviation_Detail!$J$24:$J$5800,\"Nonmonitoring Equipment Malfunctions\"))","v":""},{"$f":"IF($E77=\"\",\"\",SUMIFS(CMS_Deviation_Detail!$I$24:$I$5800,CMS_Deviation_Detail!$B$24:$B$5800,B77,CMS_Deviation_Detail!$C$24:$C$5800,C77,CMS_Deviation_Detail!$D$24:$D$5800,D77,CMS_Deviation_Detail!$J$24:$J$5800,\"Quality Assurance/Quality Control Calibrations\"))","v":""},{"$f":"IF($E77=\"\",\"\",SUMIFS(CMS_Deviation_Detail!$I$24:$I$5800,CMS_Deviation_Detail!$B$24:$B$5800,B77,CMS_Deviation_Detail!$C$24:$C$5800,C77,CMS_Deviation_Detail!$D$24:$D$5800,D77,CMS_Deviation_Detail!$J$24:$J$5800,\"Other Known Causes\"))","v":""},{"$f":"IF($E77=\"\",\"\",SUMIFS(CMS_Deviation_Detail!$I$24:$I$5800,CMS_Deviation_Detail!$B$24:$B$5800,B77,CMS_Deviation_Detail!$C$24:$C$5800,C77,CMS_Deviation_Detail!$D$24:$D$5800,D77,CMS_Deviation_Detail!$J$24:$J$5800,\"Unknown Causes\"))","v":""}]
[null,{"$f":"IF(Lists!BA56=\"\",\"\",Lists!BA56)","v":""},{"$f":"IF(Lists!BB56=\"\",\"\",Lists!BB56)","v":""},{"$f":"IF(Lists!BC56=\"\",\"\",Lists!BC56)","v":""},{"$f":"IF(Lists!BE56=\"\",\"\",Lists!BE56)","v":""},{"$f":"IF($E78=\"\",\"\",SUMIFS(CMS_Deviation_Detail!$I$24:$I$5400,CMS_Deviation_Detail!$B$24:$B$5400,B78,CMS_Deviation_Detail!$C$24:$C$5400,C78,CMS_Deviation_Detail!$D$24:$D$5400,D78))","v":""},"",{"$f":"IF($E78=\"\",\"\",SUMIFS(CMS_Deviation_Detail!$I$24:$I$5800,CMS_Deviation_Detail!$B$24:$B$5800,B78,CMS_Deviation_Detail!$C$24:$C$5800,C78,CMS_Deviation_Detail!$D$24:$D$5800,D78,CMS_Deviation_Detail!$J$24:$J$5800,\"Monitoring System Malfunctions\"))","v":""},{"$f":"IF($E78=\"\",\"\",SUMIFS(CMS_Deviation_Detail!$I$24:$I$5800,CMS_Deviation_Detail!$B$24:$B$5800,B78,CMS_Deviation_Detail!$C$24:$C$5800,C78,CMS_Deviation_Detail!$D$24:$D$5800,D78,CMS_Deviation_Detail!$J$24:$J$5800,\"Nonmonitoring Equipment Malfunctions\"))","v":""},{"$f":"IF($E78=\"\",\"\",SUMIFS(CMS_Deviation_Detail!$I$24:$I$5800,CMS_Deviation_Detail!$B$24:$B$5800,B78,CMS_Deviation_Detail!$C$24:$C$5800,C78,CMS_Deviation_Detail!$D$24:$D$5800,D78,CMS_Deviation_Detail!$J$24:$J$5800,\"Quality Assurance/Quality Control Calibrations\"))","v":""},{"$f":"IF($E78=\"\",\"\",SUMIFS(CMS_Deviation_Detail!$I$24:$I$5800,CMS_Deviation_Detail!$B$24:$B$5800,B78,CMS_Deviation_Detail!$C$24:$C$5800,C78,CMS_Deviation_Detail!$D$24:$D$5800,D78,CMS_Deviation_Detail!$J$24:$J$5800,\"Other Known Causes\"))","v":""},{"$f":"IF($E78=\"\",\"\",SUMIFS(CMS_Deviation_Detail!$I$24:$I$5800,CMS_Deviation_Detail!$B$24:$B$5800,B78,CMS_Deviation_Detail!$C$24:$C$5800,C78,CMS_Deviation_Detail!$D$24:$D$5800,D78,CMS_Deviation_Detail!$J$24:$J$5800,\"Unknown Causes\"))","v":""}]
[null,{"$f":"IF(Lists!BA57=\"\",\"\",Lists!BA57)","v":""},{"$f":"IF(Lists!BB57=\"\",\"\",Lists!BB57)","v":""},{"$f":"IF(Lists!BC57=\"\",\"\",Lists!BC57)","v":""},{"$f":"IF(Lists!BE57=\"\",\"\",Lists!BE57)","v":""},{"$f":"IF($E79=\"\",\"\",SUMIFS(CMS_Deviation_Detail!$I$24:$I$5400,CMS_Deviation_Detail!$B$24:$B$5400,B79,CMS_Deviation_Detail!$C$24:$C$5400,C79,CMS_Deviation_Detail!$D$24:$D$5400,D79))","v":""},"",{"$f":"IF($E79=\"\",\"\",SUMIFS(CMS_Deviation_Detail!$I$24:$I$5800,CMS_Deviation_Detail!$B$24:$B$5800,B79,CMS_Deviation_Detail!$C$24:$C$5800,C79,CMS_Deviation_Detail!$D$24:$D$5800,D79,CMS_Deviation_Detail!$J$24:$J$5800,\"Monitoring System Malfunctions\"))","v":""},{"$f":"IF($E79=\"\",\"\",SUMIFS(CMS_Deviation_Detail!$I$24:$I$5800,CMS_Deviation_Detail!$B$24:$B$5800,B79,CMS_Deviation_Detail!$C$24:$C$5800,C79,CMS_Deviation_Detail!$D$24:$D$5800,D79,CMS_Deviation_Detail!$J$24:$J$5800,\"Nonmonitoring Equipment Malfunctions\"))","v":""},{"$f":"IF($E79=\"\",\"\",SUMIFS(CMS_Deviation_Detail!$I$24:$I$5800,CMS_Deviation_Detail!$B$24:$B$5800,B79,CMS_Deviation_Detail!$C$24:$C$5800,C79,CMS_Deviation_Detail!$D$24:$D$5800,D79,CMS_Deviation_Detail!$J$24:$J$5800,\"Quality Assurance/Quality Control Calibrations\"))","v":""},{"$f":"IF($E79=\"\",\"\",SUMIFS(CMS_Deviation_Detail!$I$24:$I$5800,CMS_Deviation_Detail!$B$24:$B$5800,B79,CMS_Deviation_Detail!$C$24:$C$5800,C79,CMS_Deviation_Detail!$D$24:$D$5800,D79,CMS_Deviation_Detail!$J$24:$J$5800,\"Other Known Causes\"))","v":""},{"$f":"IF($E79=\"\",\"\",SUMIFS(CMS_Deviation_Detail!$I$24:$I$5800,CMS_Deviation_Detail!$B$24:$B$5800,B79,CMS_Deviation_Detail!$C$24:$C$5800,C79,CMS_Deviation_Detail!$D$24:$D$5800,D79,CMS_Deviation_Detail!$J$24:$J$5800,\"Unknown Causes\"))","v":""}]
[null,{"$f":"IF(Lists!BA58=\"\",\"\",Lists!BA58)","v":""},{"$f":"IF(Lists!BB58=\"\",\"\",Lists!BB58)","v":""},{"$f":"IF(Lists!BC58=\"\",\"\",Lists!BC58)","v":""},{"$f":"IF(Lists!BE58=\"\",\"\",Lists!BE58)","v":""},{"$f":"IF($E80=\"\",\"\",SUMIFS(CMS_Deviation_Detail!$I$24:$I$5400,CMS_Deviation_Detail!$B$24:$B$5400,B80,CMS_Deviation_Detail!$C$24:$C$5400,C80,CMS_Deviation_Detail!$D$24:$D$5400,D80))","v":""},"",{"$f":"IF($E80=\"\",\"\",SUMIFS(CMS_Deviation_Detail!$I$24:$I$5800,CMS_Deviation_Detail!$B$24:$B$5800,B80,CMS_Deviation_Detail!$C$24:$C$5800,C80,CMS_Deviation_Detail!$D$24:$D$5800,D80,CMS_Deviation_Detail!$J$24:$J$5800,\"Monitoring System Malfunctions\"))","v":""},{"$f":"IF($E80=\"\",\"\",SUMIFS(CMS_Deviation_Detail!$I$24:$I$5800,CMS_Deviation_Detail!$B$24:$B$5800,B80,CMS_Deviation_Detail!$C$24:$C$5800,C80,CMS_Deviation_Detail!$D$24:$D$5800,D80,CMS_Deviation_Detail!$J$24:$J$5800,\"Nonmonitoring Equipment Malfunctions\"))","v":""},{"$f":"IF($E80=\"\",\"\",SUMIFS(CMS_Deviation_Detail!$I$24:$I$5800,CMS_Deviation_Detail!$B$24:$B$5800,B80,CMS_Deviation_Detail!$C$24:$C$5800,C80,CMS_Deviation_Detail!$D$24:$D$5800,D80,CMS_Deviation_Detail!$J$24:$J$5800,\"Quality Assurance/Quality Control Calibrations\"))","v":""},{"$f":"IF($E80=\"\",\"\",SUMIFS(CMS_Deviation_Detail!$I$24:$I$5800,CMS_Deviation_Detail!$B$24:$B$5800,B80,CMS_Deviation_Detail!$C$24:$C$5800,C80,CMS_Deviation_Detail!$D$24:$D$5800,D80,CMS_Deviation_Detail!$J$24:$J$5800,\"Other Known Causes\"))","v":""},{"$f":"IF($E80=\"\",\"\",SUMIFS(CMS_Deviation_Detail!$I$24:$I$5800,CMS_Deviation_Detail!$B$24:$B$5800,B80,CMS_Deviation_Detail!$C$24:$C$5800,C80,CMS_Deviation_Detail!$D$24:$D$5800,D80,CMS_Deviation_Detail!$J$24:$J$5800,\"Unknown Causes\"))","v":""}]
[null,{"$f":"IF(Lists!BA59=\"\",\"\",Lists!BA59)","v":""},{"$f":"IF(Lists!BB59=\"\",\"\",Lists!BB59)","v":""},{"$f":"IF(Lists!BC59=\"\",\"\",Lists!BC59)","v":""},{"$f":"IF(Lists!BE59=\"\",\"\",Lists!BE59)","v":""},{"$f":"IF($E81=\"\",\"\",SUMIFS(CMS_Deviation_Detail!$I$24:$I$5400,CMS_Deviation_Detail!$B$24:$B$5400,B81,CMS_Deviation_Detail!$C$24:$C$5400,C81,CMS_Deviation_Detail!$D$24:$D$5400,D81))","v":""},"",{"$f":"IF($E81=\"\",\"\",SUMIFS(CMS_Deviation_Detail!$I$24:$I$5800,CMS_Deviation_Detail!$B$24:$B$5800,B81,CMS_Deviation_Detail!$C$24:$C$5800,C81,CMS_Deviation_Detail!$D$24:$D$5800,D81,CMS_Deviation_Detail!$J$24:$J$5800,\"Monitoring System Malfunctions\"))","v":""},{"$f":"IF($E81=\"\",\"\",SUMIFS(CMS_Deviation_Detail!$I$24:$I$5800,CMS_Deviation_Detail!$B$24:$B$5800,B81,CMS_Deviation_Detail!$C$24:$C$5800,C81,CMS_Deviation_Detail!$D$24:$D$5800,D81,CMS_Deviation_Detail!$J$24:$J$5800,\"Nonmonitoring Equipment Malfunctions\"))","v":""},{"$f":"IF($E81=\"\",\"\",SUMIFS(CMS_Deviation_Detail!$I$24:$I$5800,CMS_Deviation_Detail!$B$24:$B$5800,B81,CMS_Deviation_Detail!$C$24:$C$5800,C81,CMS_Deviation_Detail!$D$24:$D$5800,D81,CMS_Deviation_Detail!$J$24:$J$5800,\"Quality Assurance/Quality Control Calibrations\"))","v":""},{"$f":"IF($E81=\"\",\"\",SUMIFS(CMS_Deviation_Detail!$I$24:$I$5800,CMS_Deviation_Detail!$B$24:$B$5800,B81,CMS_Deviation_Detail!$C$24:$C$5800,C81,CMS_Deviation_Detail!$D$24:$D$5800,D81,CMS_Deviation_Detail!$J$24:$J$5800,\"Other Known Causes\"))","v":""},{"$f":"IF($E81=\"\",\"\",SUMIFS(CMS_Deviation_Detail!$I$24:$I$5800,CMS_Deviation_Detail!$B$24:$B$5800,B81,CMS_Deviation_Detail!$C$24:$C$5800,C81,CMS_Deviation_Detail!$D$24:$D$5800,D81,CMS_Deviation_Detail!$J$24:$J$5800,\"Unknown Causes\"))","v":""}]
[null,{"$f":"IF(Lists!BA60=\"\",\"\",Lists!BA60)","v":""},{"$f":"IF(Lists!BB60=\"\",\"\",Lists!BB60)","v":""},{"$f":"IF(Lists!BC60=\"\",\"\",Lists!BC60)","v":""},{"$f":"IF(Lists!BE60=\"\",\"\",Lists!BE60)","v":""},{"$f":"IF($E82=\"\",\"\",SUMIFS(CMS_Deviation_Detail!$I$24:$I$5400,CMS_Deviation_Detail!$B$24:$B$5400,B82,CMS_Deviation_Detail!$C$24:$C$5400,C82,CMS_Deviation_Detail!$D$24:$D$5400,D82))","v":""},"",{"$f":"IF($E82=\"\",\"\",SUMIFS(CMS_Deviation_Detail!$I$24:$I$5800,CMS_Deviation_Detail!$B$24:$B$5800,B82,CMS_Deviation_Detail!$C$24:$C$5800,C82,CMS_Deviation_Detail!$D$24:$D$5800,D82,CMS_Deviation_Detail!$J$24:$J$5800,\"Monitoring System Malfunctions\"))","v":""},{"$f":"IF($E82=\"\",\"\",SUMIFS(CMS_Deviation_Detail!$I$24:$I$5800,CMS_Deviation_Detail!$B$24:$B$5800,B82,CMS_Deviation_Detail!$C$24:$C$5800,C82,CMS_Deviation_Detail!$D$24:$D$5800,D82,CMS_Deviation_Detail!$J$24:$J$5800,\"Nonmonitoring Equipment Malfunctions\"))","v":""},{"$f":"IF($E82=\"\",\"\",SUMIFS(CMS_Deviation_Detail!$I$24:$I$5800,CMS_Deviation_Detail!$B$24:$B$5800,B82,CMS_Deviation_Detail!$C$24:$C$5800,C82,CMS_Deviation_Detail!$D$24:$D$5800,D82,CMS_Deviation_Detail!$J$24:$J$5800,\"Quality Assurance/Quality Control Calibrations\"))","v":""},{"$f":"IF($E82=\"\",\"\",SUMIFS(CMS_Deviation_Detail!$I$24:$I$5800,CMS_Deviation_Detail!$B$24:$B$5800,B82,CMS_Deviation_Detail!$C$24:$C$5800,C82,CMS_Deviation_Detail!$D$24:$D$5800,D82,CMS_Deviation_Detail!$J$24:$J$5800,\"Other Known Causes\"))","v":""},{"$f":"IF($E82=\"\",\"\",SUMIFS(CMS_Deviation_Detail!$I$24:$I$5800,CMS_Deviation_Detail!$B$24:$B$5800,B82,CMS_Deviation_Detail!$C$24:$C$5800,C82,CMS_Deviation_Detail!$D$24:$D$5800,D82,CMS_Deviation_Detail!$J$24:$J$5800,\"Unknown Causes\"))","v":""}]
[null,{"$f":"IF(Lists!BA61=\"\",\"\",Lists!BA61)","v":""},{"$f":"IF(Lists!BB61=\"\",\"\",Lists!BB61)","v":""},{"$f":"IF(Lists!BC61=\"\",\"\",Lists!BC61)","v":""},{"$f":"IF(Lists!BE61=\"\",\"\",Lists!BE61)","v":""},{"$f":"IF($E83=\"\",\"\",SUMIFS(CMS_Deviation_Detail!$I$24:$I$5400,CMS_Deviation_Detail!$B$24:$B$5400,B83,CMS_Deviation_Detail!$C$24:$C$5400,C83,CMS_Deviation_Detail!$D$24:$D$5400,D83))","v":""},"",{"$f":"IF($E83=\"\",\"\",SUMIFS(CMS_Deviation_Detail!$I$24:$I$5800,CMS_Deviation_Detail!$B$24:$B$5800,B83,CMS_Deviation_Detail!$C$24:$C$5800,C83,CMS_Deviation_Detail!$D$24:$D$5800,D83,CMS_Deviation_Detail!$J$24:$J$5800,\"Monitoring System Malfunctions\"))","v":""},{"$f":"IF($E83=\"\",\"\",SUMIFS(CMS_Deviation_Detail!$I$24:$I$5800,CMS_Deviation_Detail!$B$24:$B$5800,B83,CMS_Deviation_Detail!$C$24:$C$5800,C83,CMS_Deviation_Detail!$D$24:$D$5800,D83,CMS_Deviation_Detail!$J$24:$J$5800,\"Nonmonitoring Equipment Malfunctions\"))","v":""},{"$f":"IF($E83=\"\",\"\",SUMIFS(CMS_Deviation_Detail!$I$24:$I$5800,CMS_Deviation_Detail!$B$24:$B$5800,B83,CMS_Deviation_Detail!$C$24:$C$5800,C83,CMS_Deviation_Detail!$D$24:$D$5800,D83,CMS_Deviation_Detail!$J$24:$J$5800,\"Quality Assurance/Quality Control Calibrations\"))","v":""},{"$f":"IF($E83=\"\",\"\",SUMIFS(CMS_Deviation_Detail!$I$24:$I$5800,CMS_Deviation_Detail!$B$24:$B$5800,B83,CMS_Deviation_Detail!$C$24:$C$5800,C83,CMS_Deviation_Detail!$D$24:$D$5800,D83,CMS_Deviation_Detail!$J$24:$J$5800,\"Other Known Causes\"))","v":""},{"$f":"IF($E83=\"\",\"\",SUMIFS(CMS_Deviation_Detail!$I$24:$I$5800,CMS_Deviation_Detail!$B$24:$B$5800,B83,CMS_Deviation_Detail!$C$24:$C$5800,C83,CMS_Deviation_Detail!$D$24:$D$5800,D83,CMS_Deviation_Detail!$J$24:$J$5800,\"Unknown Causes\"))","v":""}]
[null,{"$f":"IF(Lists!BA62=\"\",\"\",Lists!BA62)","v":""},{"$f":"IF(Lists!BB62=\"\",\"\",Lists!BB62)","v":""},{"$f":"IF(Lists!BC62=\"\",\"\",Lists!BC62)","v":""},{"$f":"IF(Lists!BE62=\"\",\"\",Lists!BE62)","v":""},{"$f":"IF($E84=\"\",\"\",SUMIFS(CMS_Deviation_Detail!$I$24:$I$5400,CMS_Deviation_Detail!$B$24:$B$5400,B84,CMS_Deviation_Detail!$C$24:$C$5400,C84,CMS_Deviation_Detail!$D$24:$D$5400,D84))","v":""},"",{"$f":"IF($E84=\"\",\"\",SUMIFS(CMS_Deviation_Detail!$I$24:$I$5800,CMS_Deviation_Detail!$B$24:$B$5800,B84,CMS_Deviation_Detail!$C$24:$C$5800,C84,CMS_Deviation_Detail!$D$24:$D$5800,D84,CMS_Deviation_Detail!$J$24:$J$5800,\"Monitoring System Malfunctions\"))","v":""},{"$f":"IF($E84=\"\",\"\",SUMIFS(CMS_Deviation_Detail!$I$24:$I$5800,CMS_Deviation_Detail!$B$24:$B$5800,B84,CMS_Deviation_Detail!$C$24:$C$5800,C84,CMS_Deviation_Detail!$D$24:$D$5800,D84,CMS_Deviation_Detail!$J$24:$J$5800,\"Nonmonitoring Equipment Malfunctions\"))","v":""},{"$f":"IF($E84=\"\",\"\",SUMIFS(CMS_Deviation_Detail!$I$24:$I$5800,CMS_Deviation_Detail!$B$24:$B$5800,B84,CMS_Deviation_Detail!$C$24:$C$5800,C84,CMS_Deviation_Detail!$D$24:$D$5800,D84,CMS_Deviation_Detail!$J$24:$J$5800,\"Quality Assurance/Quality Control Calibrations\"))","v":""},{"$f":"IF($E84=\"\",\"\",SUMIFS(CMS_Deviation_Detail!$I$24:$I$5800,CMS_Deviation_Detail!$B$24:$B$5800,B84,CMS_Deviation_Detail!$C$24:$C$5800,C84,CMS_Deviation_Detail!$D$24:$D$5800,D84,CMS_Deviation_Detail!$J$24:$J$5800,\"Other Known Causes\"))","v":""},{"$f":"IF($E84=\"\",\"\",SUMIFS(CMS_Deviation_Detail!$I$24:$I$5800,CMS_Deviation_Detail!$B$24:$B$5800,B84,CMS_Deviation_Detail!$C$24:$C$5800,C84,CMS_Deviation_Detail!$D$24:$D$5800,D84,CMS_Deviation_Detail!$J$24:$J$5800,\"Unknown Causes\"))","v":""}]
[null,{"$f":"IF(Lists!BA63=\"\",\"\",Lists!BA63)","v":""},{"$f":"IF(Lists!BB63=\"\",\"\",Lists!BB63)","v":""},{"$f":"IF(Lists!BC63=\"\",\"\",Lists!BC63)","v":""},{"$f":"IF(Lists!BE63=\"\",\"\",Lists!BE63)","v":""},{"$f":"IF($E85=\"\",\"\",SUMIFS(CMS_Deviation_Detail!$I$24:$I$5400,CMS_Deviation_Detail!$B$24:$B$5400,B85,CMS_Deviation_Detail!$C$24:$C$5400,C85,CMS_Deviation_Detail!$D$24:$D$5400,D85))","v":""},"",{"$f":"IF($E85=\"\",\"\",SUMIFS(CMS_Deviation_Detail!$I$24:$I$5800,CMS_Deviation_Detail!$B$24:$B$5800,B85,CMS_Deviation_Detail!$C$24:$C$5800,C85,CMS_Deviation_Detail!$D$24:$D$5800,D85,CMS_Deviation_Detail!$J$24:$J$5800,\"Monitoring System Malfunctions\"))","v":""},{"$f":"IF($E85=\"\",\"\",SUMIFS(CMS_Deviation_Detail!$I$24:$I$5800,CMS_Deviation_Detail!$B$24:$B$5800,B85,CMS_Deviation_Detail!$C$24:$C$5800,C85,CMS_Deviation_Detail!$D$24:$D$5800,D85,CMS_Deviation_Detail!$J$24:$J$5800,\"Nonmonitoring Equipment Malfunctions\"))","v":""},{"$f":"IF($E85=\"\",\"\",SUMIFS(CMS_Deviation_Detail!$I$24:$I$5800,CMS_Deviation_Detail!$B$24:$B$5800,B85,CMS_Deviation_Detail!$C$24:$C$5800,C85,CMS_Deviation_Detail!$D$24:$D$5800,D85,CMS_Deviation_Detail!$J$24:$J$5800,\"Quality Assurance/Quality Control Calibrations\"))","v":""},{"$f":"IF($E85=\"\",\"\",SUMIFS(CMS_Deviation_Detail!$I$24:$I$5800,CMS_Deviation_Detail!$B$24:$B$5800,B85,CMS_Deviation_Detail!$C$24:$C$5800,C85,CMS_Deviation_Detail!$D$24:$D$5800,D85,CMS_Deviation_Detail!$J$24:$J$5800,\"Other Known Causes\"))","v":""},{"$f":"IF($E85=\"\",\"\",SUMIFS(CMS_Deviation_Detail!$I$24:$I$5800,CMS_Deviation_Detail!$B$24:$B$5800,B85,CMS_Deviation_Detail!$C$24:$C$5800,C85,CMS_Deviation_Detail!$D$24:$D$5800,D85,CMS_Deviation_Detail!$J$24:$J$5800,\"Unknown Causes\"))","v":""}]
[null,{"$f":"IF(Lists!BA64=\"\",\"\",Lists!BA64)","v":""},{"$f":"IF(Lists!BB64=\"\",\"\",Lists!BB64)","v":""},{"$f":"IF(Lists!BC64=\"\",\"\",Lists!BC64)","v":""},{"$f":"IF(Lists!BE64=\"\",\"\",Lists!BE64)","v":""},{"$f":"IF($E86=\"\",\"\",SUMIFS(CMS_Deviation_Detail!$I$24:$I$5400,CMS_Deviation_Detail!$B$24:$B$5400,B86,CMS_Deviation_Detail!$C$24:$C$5400,C86,CMS_Deviation_Detail!$D$24:$D$5400,D86))","v":""},"",{"$f":"IF($E86=\"\",\"\",SUMIFS(CMS_Deviation_Detail!$I$24:$I$5800,CMS_Deviation_Detail!$B$24:$B$5800,B86,CMS_Deviation_Detail!$C$24:$C$5800,C86,CMS_Deviation_Detail!$D$24:$D$5800,D86,CMS_Deviation_Detail!$J$24:$J$5800,\"Monitoring System Malfunctions\"))","v":""},{"$f":"IF($E86=\"\",\"\",SUMIFS(CMS_Deviation_Detail!$I$24:$I$5800,CMS_Deviation_Detail!$B$24:$B$5800,B86,CMS_Deviation_Detail!$C$24:$C$5800,C86,CMS_Deviation_Detail!$D$24:$D$5800,D86,CMS_Deviation_Detail!$J$24:$J$5800,\"Nonmonitoring Equipment Malfunctions\"))","v":""},{"$f":"IF($E86=\"\",\"\",SUMIFS(CMS_Deviation_Detail!$I$24:$I$5800,CMS_Deviation_Detail!$B$24:$B$5800,B86,CMS_Deviation_Detail!$C$24:$C$5800,C86,CMS_Deviation_Detail!$D$24:$D$5800,D86,CMS_Deviation_Detail!$J$24:$J$5800,\"Quality Assurance/Quality Control Calibrations\"))","v":""},{"$f":"IF($E86=\"\",\"\",SUMIFS(CMS_Deviation_Detail!$I$24:$I$5800,CMS_Deviation_Detail!$B$24:$B$5800,B86,CMS_Deviation_Detail!$C$24:$C$5800,C86,CMS_Deviation_Detail!$D$24:$D$5800,D86,CMS_Deviation_Detail!$J$24:$J$5800,\"Other Known Causes\"))","v":""},{"$f":"IF($E86=\"\",\"\",SUMIFS(CMS_Deviation_Detail!$I$24:$I$5800,CMS_Deviation_Detail!$B$24:$B$5800,B86,CMS_Deviation_Detail!$C$24:$C$5800,C86,CMS_Deviation_Detail!$D$24:$D$5800,D86,CMS_Deviation_Detail!$J$24:$J$5800,\"Unknown Causes\"))","v":""}]
[null,{"$f":"IF(Lists!BA65=\"\",\"\",Lists!BA65)","v":""},{"$f":"IF(Lists!BB65=\"\",\"\",Lists!BB65)","v":""},{"$f":"IF(Lists!BC65=\"\",\"\",Lists!BC65)","v":""},{"$f":"IF(Lists!BE65=\"\",\"\",Lists!BE65)","v":""},{"$f":"IF($E87=\"\",\"\",SUMIFS(CMS_Deviation_Detail!$I$24:$I$5400,CMS_Deviation_Detail!$B$24:$B$5400,B87,CMS_Deviation_Detail!$C$24:$C$5400,C87,CMS_Deviation_Detail!$D$24:$D$5400,D87))","v":""},"",{"$f":"IF($E87=\"\",\"\",SUMIFS(CMS_Deviation_Detail!$I$24:$I$5800,CMS_Deviation_Detail!$B$24:$B$5800,B87,CMS_Deviation_Detail!$C$24:$C$5800,C87,CMS_Deviation_Detail!$D$24:$D$5800,D87,CMS_Deviation_Detail!$J$24:$J$5800,\"Monitoring System Malfunctions\"))","v":""},{"$f":"IF($E87=\"\",\"\",SUMIFS(CMS_Deviation_Detail!$I$24:$I$5800,CMS_Deviation_Detail!$B$24:$B$5800,B87,CMS_Deviation_Detail!$C$24:$C$5800,C87,CMS_Deviation_Detail!$D$24:$D$5800,D87,CMS_Deviation_Detail!$J$24:$J$5800,\"Nonmonitoring Equipment Malfunctions\"))","v":""},{"$f":"IF($E87=\"\",\"\",SUMIFS(CMS_Deviation_Detail!$I$24:$I$5800,CMS_Deviation_Detail!$B$24:$B$5800,B87,CMS_Deviation_Detail!$C$24:$C$5800,C87,CMS_Deviation_Detail!$D$24:$D$5800,D87,CMS_Deviation_Detail!$J$24:$J$5800,\"Quality Assurance/Quality Control Calibrations\"))","v":""},{"$f":"IF($E87=\"\",\"\",SUMIFS(CMS_Deviation_Detail!$I$24:$I$5800,CMS_Deviation_Detail!$B$24:$B$5800,B87,CMS_Deviation_Detail!$C$24:$C$5800,C87,CMS_Deviation_Detail!$D$24:$D$5800,D87,CMS_Deviation_Detail!$J$24:$J$5800,\"Other Known Causes\"))","v":""},{"$f":"IF($E87=\"\",\"\",SUMIFS(CMS_Deviation_Detail!$I$24:$I$5800,CMS_Deviation_Detail!$B$24:$B$5800,B87,CMS_Deviation_Detail!$C$24:$C$5800,C87,CMS_Deviation_Detail!$D$24:$D$5800,D87,CMS_Deviation_Detail!$J$24:$J$5800,\"Unknown Causes\"))","v":""}]
[null,{"$f":"IF(Lists!BA66=\"\",\"\",Lists!BA66)","v":""},{"$f":"IF(Lists!BB66=\"\",\"\",Lists!BB66)","v":""},{"$f":"IF(Lists!BC66=\"\",\"\",Lists!BC66)","v":""},{"$f":"IF(Lists!BE66=\"\",\"\",Lists!BE66)","v":""},{"$f":"IF($E88=\"\",\"\",SUMIFS(CMS_Deviation_Detail!$I$24:$I$5400,CMS_Deviation_Detail!$B$24:$B$5400,B88,CMS_Deviation_Detail!$C$24:$C$5400,C88,CMS_Deviation_Detail!$D$24:$D$5400,D88))","v":""},"",{"$f":"IF($E88=\"\",\"\",SUMIFS(CMS_Deviation_Detail!$I$24:$I$5800,CMS_Deviation_Detail!$B$24:$B$5800,B88,CMS_Deviation_Detail!$C$24:$C$5800,C88,CMS_Deviation_Detail!$D$24:$D$5800,D88,CMS_Deviation_Detail!$J$24:$J$5800,\"Monitoring System Malfunctions\"))","v":""},{"$f":"IF($E88=\"\",\"\",SUMIFS(CMS_Deviation_Detail!$I$24:$I$5800,CMS_Deviation_Detail!$B$24:$B$5800,B88,CMS_Deviation_Detail!$C$24:$C$5800,C88,CMS_Deviation_Detail!$D$24:$D$5800,D88,CMS_Deviation_Detail!$J$24:$J$5800,\"Nonmonitoring Equipment Malfunctions\"))","v":""},{"$f":"IF($E88=\"\",\"\",SUMIFS(CMS_Deviation_Detail!$I$24:$I$5800,CMS_Deviation_Detail!$B$24:$B$5800,B88,CMS_Deviation_Detail!$C$24:$C$5800,C88,CMS_Deviation_Detail!$D$24:$D$5800,D88,CMS_Deviation_Detail!$J$24:$J$5800,\"Quality Assurance/Quality Control Calibrations\"))","v":""},{"$f":"IF($E88=\"\",\"\",SUMIFS(CMS_Deviation_Detail!$I$24:$I$5800,CMS_Deviation_Detail!$B$24:$B$5800,B88,CMS_Deviation_Detail!$C$24:$C$5800,C88,CMS_Deviation_Detail!$D$24:$D$5800,D88,CMS_Deviation_Detail!$J$24:$J$5800,\"Other Known Causes\"))","v":""},{"$f":"IF($E88=\"\",\"\",SUMIFS(CMS_Deviation_Detail!$I$24:$I$5800,CMS_Deviation_Detail!$B$24:$B$5800,B88,CMS_Deviation_Detail!$C$24:$C$5800,C88,CMS_Deviation_Detail!$D$24:$D$5800,D88,CMS_Deviation_Detail!$J$24:$J$5800,\"Unknown Causes\"))","v":""}]
[null,{"$f":"IF(Lists!BA67=\"\",\"\",Lists!BA67)","v":""},{"$f":"IF(Lists!BB67=\"\",\"\",Lists!BB67)","v":""},{"$f":"IF(Lists!BC67=\"\",\"\",Lists!BC67)","v":""},{"$f":"IF(Lists!BE67=\"\",\"\",Lists!BE67)","v":""},{"$f":"IF($E89=\"\",\"\",SUMIFS(CMS_Deviation_Detail!$I$24:$I$5400,CMS_Deviation_Detail!$B$24:$B$5400,B89,CMS_Deviation_Detail!$C$24:$C$5400,C89,CMS_Deviation_Detail!$D$24:$D$5400,D89))","v":""},{"$f":"IF($E89=\"\",\"\",IF(F89=0,\"N/A\",F89/$E89))","v":""},{"$f":"IF($E89=\"\",\"\",SUMIFS(CMS_Deviation_Detail!$I$24:$I$5800,CMS_Deviation_Detail!$B$24:$B$5800,B89,CMS_Deviation_Detail!$C$24:$C$5800,C89,CMS_Deviation_Detail!$D$24:$D$5800,D89,CMS_Deviation_Detail!$J$24:$J$5800,\"Monitoring System Malfunctions\"))","v":""},{"$f":"IF($E89=\"\",\"\",SUMIFS(CMS_Deviation_Detail!$I$24:$I$5800,CMS_Deviation_Detail!$B$24:$B$5800,B89,CMS_Deviation_Detail!$C$24:$C$5800,C89,CMS_Deviation_Detail!$D$24:$D$5800,D89,CMS_Deviation_Detail!$J$24:$J$5800,\"Nonmonitoring Equipment Malfunctions\"))","v":""},{"$f":"IF($E89=\"\",\"\",SUMIFS(CMS_Deviation_Detail!$I$24:$I$5800,CMS_Deviation_Detail!$B$24:$B$5800,B89,CMS_Deviation_Detail!$C$24:$C$5800,C89,CMS_Deviation_Detail!$D$24:$D$5800,D89,CMS_Deviation_Detail!$J$24:$J$5800,\"Quality Assurance/Quality Control Calibrations\"))","v":""},{"$f":"IF($E89=\"\",\"\",SUMIFS(CMS_Deviation_Detail!$I$24:$I$5800,CMS_Deviation_Detail!$B$24:$B$5800,B89,CMS_Deviation_Detail!$C$24:$C$5800,C89,CMS_Deviation_Detail!$D$24:$D$5800,D89,CMS_Deviation_Detail!$J$24:$J$5800,\"Other Known Causes\"))","v":""},{"$f":"IF($E89=\"\",\"\",SUMIFS(CMS_Deviation_Detail!$I$24:$I$5800,CMS_Deviation_Detail!$B$24:$B$5800,B89,CMS_Deviation_Detail!$C$24:$C$5800,C89,CMS_Deviation_Detail!$D$24:$D$5800,D89,CMS_Deviation_Detail!$J$24:$J$5800,\"Unknown Causes\"))","v":""}]
[null,{"$f":"IF(Lists!BA68=\"\",\"\",Lists!BA68)","v":""},{"$f":"IF(Lists!BB68=\"\",\"\",Lists!BB68)","v":""},{"$f":"IF(Lists!BC68=\"\",\"\",Lists!BC68)","v":""},{"$f":"IF(Lists!BE68=\"\",\"\",Lists!BE68)","v":""},{"$f":"IF($E90=\"\",\"\",SUMIFS(CMS_Deviation_Detail!$I$24:$I$5400,CMS_Deviation_Detail!$B$24:$B$5400,B90,CMS_Deviation_Detail!$C$24:$C$5400,C90,CMS_Deviation_Detail!$D$24:$D$5400,D90))","v":""},"",{"$f":"IF($E90=\"\",\"\",SUMIFS(CMS_Deviation_Detail!$I$24:$I$5800,CMS_Deviation_Detail!$B$24:$B$5800,B90,CMS_Deviation_Detail!$C$24:$C$5800,C90,CMS_Deviation_Detail!$D$24:$D$5800,D90,CMS_Deviation_Detail!$J$24:$J$5800,\"Monitoring System Malfunctions\"))","v":""},{"$f":"IF($E90=\"\",\"\",SUMIFS(CMS_Deviation_Detail!$I$24:$I$5800,CMS_Deviation_Detail!$B$24:$B$5800,B90,CMS_Deviation_Detail!$C$24:$C$5800,C90,CMS_Deviation_Detail!$D$24:$D$5800,D90,CMS_Deviation_Detail!$J$24:$J$5800,\"Nonmonitoring Equipment Malfunctions\"))","v":""},{"$f":"IF($E90=\"\",\"\",SUMIFS(CMS_Deviation_Detail!$I$24:$I$5800,CMS_Deviation_Detail!$B$24:$B$5800,B90,CMS_Deviation_Detail!$C$24:$C$5800,C90,CMS_Deviation_Detail!$D$24:$D$5800,D90,CMS_Deviation_Detail!$J$24:$J$5800,\"Quality Assurance/Quality Control Calibrations\"))","v":""},{"$f":"IF($E90=\"\",\"\",SUMIFS(CMS_Deviation_Detail!$I$24:$I$5800,CMS_Deviation_Detail!$B$24:$B$5800,B90,CMS_Deviation_Detail!$C$24:$C$5800,C90,CMS_Deviation_Detail!$D$24:$D$5800,D90,CMS_Deviation_Detail!$J$24:$J$5800,\"Other Known Causes\"))","v":""},{"$f":"IF($E90=\"\",\"\",SUMIFS(CMS_Deviation_Detail!$I$24:$I$5800,CMS_Deviation_Detail!$B$24:$B$5800,B90,CMS_Deviation_Detail!$C$24:$C$5800,C90,CMS_Deviation_Detail!$D$24:$D$5800,D90,CMS_Deviation_Detail!$J$24:$J$5800,\"Unknown Causes\"))","v":""}]
[null,{"$f":"IF(Lists!BA69=\"\",\"\",Lists!BA69)","v":""},{"$f":"IF(Lists!BB69=\"\",\"\",Lists!BB69)","v":""},{"$f":"IF(Lists!BC69=\"\",\"\",Lists!BC69)","v":""},{"$f":"IF(Lists!BE69=\"\",\"\",Lists!BE69)","v":""},{"$f":"IF($E91=\"\",\"\",SUMIFS(CMS_Deviation_Detail!$I$24:$I$5400,CMS_Deviation_Detail!$B$24:$B$5400,B91,CMS_Deviation_Detail!$C$24:$C$5400,C91,CMS_Deviation_Detail!$D$24:$D$5400,D91))","v":""},"",{"$f":"IF($E91=\"\",\"\",SUMIFS(CMS_Deviation_Detail!$I$24:$I$5800,CMS_Deviation_Detail!$B$24:$B$5800,B91,CMS_Deviation_Detail!$C$24:$C$5800,C91,CMS_Deviation_Detail!$D$24:$D$5800,D91,CMS_Deviation_Detail!$J$24:$J$5800,\"Monitoring System Malfunctions\"))","v":""},{"$f":"IF($E91=\"\",\"\",SUMIFS(CMS_Deviation_Detail!$I$24:$I$5800,CMS_Deviation_Detail!$B$24:$B$5800,B91,CMS_Deviation_Detail!$C$24:$C$5800,C91,CMS_Deviation_Detail!$D$24:$D$5800,D91,CMS_Deviation_Detail!$J$24:$J$5800,\"Nonmonitoring Equipment Malfunctions\"))","v":""},{"$f":"IF($E91=\"\",\"\",SUMIFS(CMS_Deviation_Detail!$I$24:$I$5800,CMS_Deviation_Detail!$B$24:$B$5800,B91,CMS_Deviation_Detail!$C$24:$C$5800,C91,CMS_Deviation_Detail!$D$24:$D$5800,D91,CMS_Deviation_Detail!$J$24:$J$5800,\"Quality Assurance/Quality Control Calibrations\"))","v":""},{"$f":"IF($E91=\"\",\"\",SUMIFS(CMS_Deviation_Detail!$I$24:$I$5800,CMS_Deviation_Detail!$B$24:$B$5800,B91,CMS_Deviation_Detail!$C$24:$C$5800,C91,CMS_Deviation_Detail!$D$24:$D$5800,D91,CMS_Deviation_Detail!$J$24:$J$5800,\"Other Known Causes\"))","v":""},{"$f":"IF($E91=\"\",\"\",SUMIFS(CMS_Deviation_Detail!$I$24:$I$5800,CMS_Deviation_Detail!$B$24:$B$5800,B91,CMS_Deviation_Detail!$C$24:$C$5800,C91,CMS_Deviation_Detail!$D$24:$D$5800,D91,CMS_Deviation_Detail!$J$24:$J$5800,\"Unknown Causes\"))","v":""}]
[null,{"$f":"IF(Lists!BA70=\"\",\"\",Lists!BA70)","v":""},{"$f":"IF(Lists!BB70=\"\",\"\",Lists!BB70)","v":""},{"$f":"IF(Lists!BC70=\"\",\"\",Lists!BC70)","v":""},{"$f":"IF(Lists!BE70=\"\",\"\",Lists!BE70)","v":""},{"$f":"IF($E92=\"\",\"\",SUMIFS(CMS_Deviation_Detail!$I$24:$I$5400,CMS_Deviation_Detail!$B$24:$B$5400,B92,CMS_Deviation_Detail!$C$24:$C$5400,C92,CMS_Deviation_Detail!$D$24:$D$5400,D92))","v":""},"",{"$f":"IF($E92=\"\",\"\",SUMIFS(CMS_Deviation_Detail!$I$24:$I$5800,CMS_Deviation_Detail!$B$24:$B$5800,B92,CMS_Deviation_Detail!$C$24:$C$5800,C92,CMS_Deviation_Detail!$D$24:$D$5800,D92,CMS_Deviation_Detail!$J$24:$J$5800,\"Monitoring System Malfunctions\"))","v":""},{"$f":"IF($E92=\"\",\"\",SUMIFS(CMS_Deviation_Detail!$I$24:$I$5800,CMS_Deviation_Detail!$B$24:$B$5800,B92,CMS_Deviation_Detail!$C$24:$C$5800,C92,CMS_Deviation_Detail!$D$24:$D$5800,D92,CMS_Deviation_Detail!$J$24:$J$5800,\"Nonmonitoring Equipment Malfunctions\"))","v":""},{"$f":"IF($E92=\"\",\"\",SUMIFS(CMS_Deviation_Detail!$I$24:$I$5800,CMS_Deviation_Detail!$B$24:$B$5800,B92,CMS_Deviation_Detail!$C$24:$C$5800,C92,CMS_Deviation_Detail!$D$24:$D$5800,D92,CMS_Deviation_Detail!$J$24:$J$5800,\"Quality Assurance/Quality Control Calibrations\"))","v":""},{"$f":"IF($E92=\"\",\"\",SUMIFS(CMS_Deviation_Detail!$I$24:$I$5800,CMS_Deviation_Detail!$B$24:$B$5800,B92,CMS_Deviation_Detail!$C$24:$C$5800,C92,CMS_Deviation_Detail!$D$24:$D$5800,D92,CMS_Deviation_Detail!$J$24:$J$5800,\"Other Known Causes\"))","v":""},{"$f":"IF($E92=\"\",\"\",SUMIFS(CMS_Deviation_Detail!$I$24:$I$5800,CMS_Deviation_Detail!$B$24:$B$5800,B92,CMS_Deviation_Detail!$C$24:$C$5800,C92,CMS_Deviation_Detail!$D$24:$D$5800,D92,CMS_Deviation_Detail!$J$24:$J$5800,\"Unknown Causes\"))","v":""}]
[null,{"$f":"IF(Lists!BA71=\"\",\"\",Lists!BA71)","v":""},{"$f":"IF(Lists!BB71=\"\",\"\",Lists!BB71)","v":""},{"$f":"IF(Lists!BC71=\"\",\"\",Lists!BC71)","v":""},{"$f":"IF(Lists!BE71=\"\",\"\",Lists!BE71)","v":""},{"$f":"IF($E93=\"\",\"\",SUMIFS(CMS_Deviation_Detail!$I$24:$I$5400,CMS_Deviation_Detail!$B$24:$B$5400,B93,CMS_Deviation_Detail!$C$24:$C$5400,C93,CMS_Deviation_Detail!$D$24:$D$5400,D93))","v":""},"",{"$f":"IF($E93=\"\",\"\",SUMIFS(CMS_Deviation_Detail!$I$24:$I$5800,CMS_Deviation_Detail!$B$24:$B$5800,B93,CMS_Deviation_Detail!$C$24:$C$5800,C93,CMS_Deviation_Detail!$D$24:$D$5800,D93,CMS_Deviation_Detail!$J$24:$J$5800,\"Monitoring System Malfunctions\"))","v":""},{"$f":"IF($E93=\"\",\"\",SUMIFS(CMS_Deviation_Detail!$I$24:$I$5800,CMS_Deviation_Detail!$B$24:$B$5800,B93,CMS_Deviation_Detail!$C$24:$C$5800,C93,CMS_Deviation_Detail!$D$24:$D$5800,D93,CMS_Deviation_Detail!$J$24:$J$5800,\"Nonmonitoring Equipment Malfunctions\"))","v":""},{"$f":"IF($E93=\"\",\"\",SUMIFS(CMS_Deviation_Detail!$I$24:$I$5800,CMS_Deviation_Detail!$B$24:$B$5800,B93,CMS_Deviation_Detail!$C$24:$C$5800,C93,CMS_Deviation_Detail!$D$24:$D$5800,D93,CMS_Deviation_Detail!$J$24:$J$5800,\"Quality Assurance/Quality Control Calibrations\"))","v":""},{"$f":"IF($E93=\"\",\"\",SUMIFS(CMS_Deviation_Detail!$I$24:$I$5800,CMS_Deviation_Detail!$B$24:$B$5800,B93,CMS_Deviation_Detail!$C$24:$C$5800,C93,CMS_Deviation_Detail!$D$24:$D$5800,D93,CMS_Deviation_Detail!$J$24:$J$5800,\"Other Known Causes\"))","v":""},{"$f":"IF($E93=\"\",\"\",SUMIFS(CMS_Deviation_Detail!$I$24:$I$5800,CMS_Deviation_Detail!$B$24:$B$5800,B93,CMS_Deviation_Detail!$C$24:$C$5800,C93,CMS_Deviation_Detail!$D$24:$D$5800,D93,CMS_Deviation_Detail!$J$24:$J$5800,\"Unknown Causes\"))","v":""}]
[null,{"$f":"IF(Lists!BA72=\"\",\"\",Lists!BA72)","v":""},{"$f":"IF(Lists!BB72=\"\",\"\",Lists!BB72)","v":""},{"$f":"IF(Lists!BC72=\"\",\"\",Lists!BC72)","v":""},{"$f":"IF(Lists!BE72=\"\",\"\",Lists!BE72)","v":""},{"$f":"IF($E94=\"\",\"\",SUMIFS(CMS_Deviation_Detail!$I$24:$I$5400,CMS_Deviation_Detail!$B$24:$B$5400,B94,CMS_Deviation_Detail!$C$24:$C$5400,C94,CMS_Deviation_Detail!$D$24:$D$5400,D94))","v":""},"",{"$f":"IF($E94=\"\",\"\",SUMIFS(CMS_Deviation_Detail!$I$24:$I$5800,CMS_Deviation_Detail!$B$24:$B$5800,B94,CMS_Deviation_Detail!$C$24:$C$5800,C94,CMS_Deviation_Detail!$D$24:$D$5800,D94,CMS_Deviation_Detail!$J$24:$J$5800,\"Monitoring System Malfunctions\"))","v":""},{"$f":"IF($E94=\"\",\"\",SUMIFS(CMS_Deviation_Detail!$I$24:$I$5800,CMS_Deviation_Detail!$B$24:$B$5800,B94,CMS_Deviation_Detail!$C$24:$C$5800,C94,CMS_Deviation_Detail!$D$24:$D$5800,D94,CMS_Deviation_Detail!$J$24:$J$5800,\"Nonmonitoring Equipment Malfunctions\"))","v":""},{"$f":"IF($E94=\"\",\"\",SUMIFS(CMS_Deviation_Detail!$I$24:$I$5800,CMS_Deviation_Detail!$B$24:$B$5800,B94,CMS_Deviation_Detail!$C$24:$C$5800,C94,CMS_Deviation_Detail!$D$24:$D$5800,D94,CMS_Deviation_Detail!$J$24:$J$5800,\"Quality Assurance/Quality Control Calibrations\"))","v":""},{"$f":"IF($E94=\"\",\"\",SUMIFS(CMS_Deviation_Detail!$I$24:$I$5800,CMS_Deviation_Detail!$B$24:$B$5800,B94,CMS_Deviation_Detail!$C$24:$C$5800,C94,CMS_Deviation_Detail!$D$24:$D$5800,D94,CMS_Deviation_Detail!$J$24:$J$5800,\"Other Known Causes\"))","v":""},{"$f":"IF($E94=\"\",\"\",SUMIFS(CMS_Deviation_Detail!$I$24:$I$5800,CMS_Deviation_Detail!$B$24:$B$5800,B94,CMS_Deviation_Detail!$C$24:$C$5800,C94,CMS_Deviation_Detail!$D$24:$D$5800,D94,CMS_Deviation_Detail!$J$24:$J$5800,\"Unknown Causes\"))","v":""}]
[null,{"$f":"IF(Lists!BA73=\"\",\"\",Lists!BA73)","v":""},{"$f":"IF(Lists!BB73=\"\",\"\",Lists!BB73)","v":""},{"$f":"IF(Lists!BC73=\"\",\"\",Lists!BC73)","v":""},{"$f":"IF(Lists!BE73=\"\",\"\",Lists!BE73)","v":""},{"$f":"IF($E95=\"\",\"\",SUMIFS(CMS_Deviation_Detail!$I$24:$I$5400,CMS_Deviation_Detail!$B$24:$B$5400,B95,CMS_Deviation_Detail!$C$24:$C$5400,C95,CMS_Deviation_Detail!$D$24:$D$5400,D95))","v":""},"",{"$f":"IF($E95=\"\",\"\",SUMIFS(CMS_Deviation_Detail!$I$24:$I$5800,CMS_Deviation_Detail!$B$24:$B$5800,B95,CMS_Deviation_Detail!$C$24:$C$5800,C95,CMS_Deviation_Detail!$D$24:$D$5800,D95,CMS_Deviation_Detail!$J$24:$J$5800,\"Monitoring System Malfunctions\"))","v":""},{"$f":"IF($E95=\"\",\"\",SUMIFS(CMS_Deviation_Detail!$I$24:$I$5800,CMS_Deviation_Detail!$B$24:$B$5800,B95,CMS_Deviation_Detail!$C$24:$C$5800,C95,CMS_Deviation_Detail!$D$24:$D$5800,D95,CMS_Deviation_Detail!$J$24:$J$5800,\"Nonmonitoring Equipment Malfunctions\"))","v":""},{"$f":"IF($E95=\"\",\"\",SUMIFS(CMS_Deviation_Detail!$I$24:$I$5800,CMS_Deviation_Detail!$B$24:$B$5800,B95,CMS_Deviation_Detail!$C$24:$C$5800,C95,CMS_Deviation_Detail!$D$24:$D$5800,D95,CMS_Deviation_Detail!$J$24:$J$5800,\"Quality Assurance/Quality Control Calibrations\"))","v":""},{"$f":"IF($E95=\"\",\"\",SUMIFS(CMS_Deviation_Detail!$I$24:$I$5800,CMS_Deviation_Detail!$B$24:$B$5800,B95,CMS_Deviation_Detail!$C$24:$C$5800,C95,CMS_Deviation_Detail!$D$24:$D$5800,D95,CMS_Deviation_Detail!$J$24:$J$5800,\"Other Known Causes\"))","v":""},{"$f":"IF($E95=\"\",\"\",SUMIFS(CMS_Deviation_Detail!$I$24:$I$5800,CMS_Deviation_Detail!$B$24:$B$5800,B95,CMS_Deviation_Detail!$C$24:$C$5800,C95,CMS_Deviation_Detail!$D$24:$D$5800,D95,CMS_Deviation_Detail!$J$24:$J$5800,\"Unknown Causes\"))","v":""}]
[null,{"$f":"IF(Lists!BA74=\"\",\"\",Lists!BA74)","v":""},{"$f":"IF(Lists!BB74=\"\",\"\",Lists!BB74)","v":""},{"$f":"IF(Lists!BC74=\"\",\"\",Lists!BC74)","v":""},{"$f":"IF(Lists!BE74=\"\",\"\",Lists!BE74)","v":""},{"$f":"IF($E96=\"\",\"\",SUMIFS(CMS_Deviation_Detail!$I$24:$I$5400,CMS_Deviation_Detail!$B$24:$B$5400,B96,CMS_Deviation_Detail!$C$24:$C$5400,C96,CMS_Deviation_Detail!$D$24:$D$5400,D96))","v":""},"",{"$f":"IF($E96=\"\",\"\",SUMIFS(CMS_Deviation_Detail!$I$24:$I$5800,CMS_Deviation_Detail!$B$24:$B$5800,B96,CMS_Deviation_Detail!$C$24:$C$5800,C96,CMS_Deviation_Detail!$D$24:$D$5800,D96,CMS_Deviation_Detail!$J$24:$J$5800,\"Monitoring System Malfunctions\"))","v":""},{"$f":"IF($E96=\"\",\"\",SUMIFS(CMS_Deviation_Detail!$I$24:$I$5800,CMS_Deviation_Detail!$B$24:$B$5800,B96,CMS_Deviation_Detail!$C$24:$C$5800,C96,CMS_Deviation_Detail!$D$24:$D$5800,D96,CMS_Deviation_Detail!$J$24:$J$5800,\"Nonmonitoring Equipment Malfunctions\"))","v":""},{"$f":"IF($E96=\"\",\"\",SUMIFS(CMS_Deviation_Detail!$I$24:$I$5800,CMS_Deviation_Detail!$B$24:$B$5800,B96,CMS_Deviation_Detail!$C$24:$C$5800,C96,CMS_Deviation_Detail!$D$24:$D$5800,D96,CMS_Deviation_Detail!$J$24:$J$5800,\"Quality Assurance/Quality Control Calibrations\"))","v":""},{"$f":"IF($E96=\"\",\"\",SUMIFS(CMS_Deviation_Detail!$I$24:$I$5800,CMS_Deviation_Detail!$B$24:$B$5800,B96,CMS_Deviation_Detail!$C$24:$C$5800,C96,CMS_Deviation_Detail!$D$24:$D$5800,D96,CMS_Deviation_Detail!$J$24:$J$5800,\"Other Known Causes\"))","v":""},{"$f":"IF($E96=\"\",\"\",SUMIFS(CMS_Deviation_Detail!$I$24:$I$5800,CMS_Deviation_Detail!$B$24:$B$5800,B96,CMS_Deviation_Detail!$C$24:$C$5800,C96,CMS_Deviation_Detail!$D$24:$D$5800,D96,CMS_Deviation_Detail!$J$24:$J$5800,\"Unknown Causes\"))","v":""}]
[null,{"$f":"IF(Lists!BA75=\"\",\"\",Lists!BA75)","v":""},{"$f":"IF(Lists!BB75=\"\",\"\",Lists!BB75)","v":""},{"$f":"IF(Lists!BC75=\"\",\"\",Lists!BC75)","v":""},{"$f":"IF(Lists!BE75=\"\",\"\",Lists!BE75)","v":""},{"$f":"IF($E97=\"\",\"\",SUMIFS(CMS_Deviation_Detail!$I$24:$I$5400,CMS_Deviation_Detail!$B$24:$B$5400,B97,CMS_Deviation_Detail!$C$24:$C$5400,C97,CMS_Deviation_Detail!$D$24:$D$5400,D97))","v":""},"",{"$f":"IF($E97=\"\",\"\",SUMIFS(CMS_Deviation_Detail!$I$24:$I$5800,CMS_Deviation_Detail!$B$24:$B$5800,B97,CMS_Deviation_Detail!$C$24:$C$5800,C97,CMS_Deviation_Detail!$D$24:$D$5800,D97,CMS_Deviation_Detail!$J$24:$J$5800,\"Monitoring System Malfunctions\"))","v":""},{"$f":"IF($E97=\"\",\"\",SUMIFS(CMS_Deviation_Detail!$I$24:$I$5800,CMS_Deviation_Detail!$B$24:$B$5800,B97,CMS_Deviation_Detail!$C$24:$C$5800,C97,CMS_Deviation_Detail!$D$24:$D$5800,D97,CMS_Deviation_Detail!$J$24:$J$5800,\"Nonmonitoring Equipment Malfunctions\"))","v":""},{"$f":"IF($E97=\"\",\"\",SUMIFS(CMS_Deviation_Detail!$I$24:$I$5800,CMS_Deviation_Detail!$B$24:$B$5800,B97,CMS_Deviation_Detail!$C$24:$C$5800,C97,CMS_Deviation_Detail!$D$24:$D$5800,D97,CMS_Deviation_Detail!$J$24:$J$5800,\"Quality Assurance/Quality Control Calibrations\"))","v":""},{"$f":"IF($E97=\"\",\"\",SUMIFS(CMS_Deviation_Detail!$I$24:$I$5800,CMS_Deviation_Detail!$B$24:$B$5800,B97,CMS_Deviation_Detail!$C$24:$C$5800,C97,CMS_Deviation_Detail!$D$24:$D$5800,D97,CMS_Deviation_Detail!$J$24:$J$5800,\"Other Known Causes\"))","v":""},{"$f":"IF($E97=\"\",\"\",SUMIFS(CMS_Deviation_Detail!$I$24:$I$5800,CMS_Deviation_Detail!$B$24:$B$5800,B97,CMS_Deviation_Detail!$C$24:$C$5800,C97,CMS_Deviation_Detail!$D$24:$D$5800,D97,CMS_Deviation_Detail!$J$24:$J$5800,\"Unknown Causes\"))","v":""}]
[null,{"$f":"IF(Lists!BA76=\"\",\"\",Lists!BA76)","v":""},{"$f":"IF(Lists!BB76=\"\",\"\",Lists!BB76)","v":""},{"$f":"IF(Lists!BC76=\"\",\"\",Lists!BC76)","v":""},{"$f":"IF(Lists!BE76=\"\",\"\",Lists!BE76)","v":""},{"$f":"IF($E98=\"\",\"\",SUMIFS(CMS_Deviation_Detail!$I$24:$I$5400,CMS_Deviation_Detail!$B$24:$B$5400,B98,CMS_Deviation_Detail!$C$24:$C$5400,C98,CMS_Deviation_Detail!$D$24:$D$5400,D98))","v":""},"",{"$f":"IF($E98=\"\",\"\",SUMIFS(CMS_Deviation_Detail!$I$24:$I$5800,CMS_Deviation_Detail!$B$24:$B$5800,B98,CMS_Deviation_Detail!$C$24:$C$5800,C98,CMS_Deviation_Detail!$D$24:$D$5800,D98,CMS_Deviation_Detail!$J$24:$J$5800,\"Monitoring System Malfunctions\"))","v":""},{"$f":"IF($E98=\"\",\"\",SUMIFS(CMS_Deviation_Detail!$I$24:$I$5800,CMS_Deviation_Detail!$B$24:$B$5800,B98,CMS_Deviation_Detail!$C$24:$C$5800,C98,CMS_Deviation_Detail!$D$24:$D$5800,D98,CMS_Deviation_Detail!$J$24:$J$5800,\"Nonmonitoring Equipment Malfunctions\"))","v":""},{"$f":"IF($E98=\"\",\"\",SUMIFS(CMS_Deviation_Detail!$I$24:$I$5800,CMS_Deviation_Detail!$B$24:$B$5800,B98,CMS_Deviation_Detail!$C$24:$C$5800,C98,CMS_Deviation_Detail!$D$24:$D$5800,D98,CMS_Deviation_Detail!$J$24:$J$5800,\"Quality Assurance/Quality Control Calibrations\"))","v":""},{"$f":"IF($E98=\"\",\"\",SUMIFS(CMS_Deviation_Detail!$I$24:$I$5800,CMS_Deviation_Detail!$B$24:$B$5800,B98,CMS_Deviation_Detail!$C$24:$C$5800,C98,CMS_Deviation_Detail!$D$24:$D$5800,D98,CMS_Deviation_Detail!$J$24:$J$5800,\"Other Known Causes\"))","v":""},{"$f":"IF($E98=\"\",\"\",SUMIFS(CMS_Deviation_Detail!$I$24:$I$5800,CMS_Deviation_Detail!$B$24:$B$5800,B98,CMS_Deviation_Detail!$C$24:$C$5800,C98,CMS_Deviation_Detail!$D$24:$D$5800,D98,CMS_Deviation_Detail!$J$24:$J$5800,\"Unknown Causes\"))","v":""}]
[null,{"$f":"IF(Lists!BA77=\"\",\"\",Lists!BA77)","v":""},{"$f":"IF(Lists!BB77=\"\",\"\",Lists!BB77)","v":""},{"$f":"IF(Lists!BC77=\"\",\"\",Lists!BC77)","v":""},{"$f":"IF(Lists!BE77=\"\",\"\",Lists!BE77)","v":""},{"$f":"IF($E99=\"\",\"\",SUMIFS(CMS_Deviation_Detail!$I$24:$I$5400,CMS_Deviation_Detail!$B$24:$B$5400,B99,CMS_Deviation_Detail!$C$24:$C$5400,C99,CMS_Deviation_Detail!$D$24:$D$5400,D99))","v":""},"",{"$f":"IF($E99=\"\",\"\",SUMIFS(CMS_Deviation_Detail!$I$24:$I$5800,CMS_Deviation_Detail!$B$24:$B$5800,B99,CMS_Deviation_Detail!$C$24:$C$5800,C99,CMS_Deviation_Detail!$D$24:$D$5800,D99,CMS_Deviation_Detail!$J$24:$J$5800,\"Monitoring System Malfunctions\"))","v":""},{"$f":"IF($E99=\"\",\"\",SUMIFS(CMS_Deviation_Detail!$I$24:$I$5800,CMS_Deviation_Detail!$B$24:$B$5800,B99,CMS_Deviation_Detail!$C$24:$C$5800,C99,CMS_Deviation_Detail!$D$24:$D$5800,D99,CMS_Deviation_Detail!$J$24:$J$5800,\"Nonmonitoring Equipment Malfunctions\"))","v":""},{"$f":"IF($E99=\"\",\"\",SUMIFS(CMS_Deviation_Detail!$I$24:$I$5800,CMS_Deviation_Detail!$B$24:$B$5800,B99,CMS_Deviation_Detail!$C$24:$C$5800,C99,CMS_Deviation_Detail!$D$24:$D$5800,D99,CMS_Deviation_Detail!$J$24:$J$5800,\"Quality Assurance/Quality Control Calibrations\"))","v":""},{"$f":"IF($E99=\"\",\"\",SUMIFS(CMS_Deviation_Detail!$I$24:$I$5800,CMS_Deviation_Detail!$B$24:$B$5800,B99,CMS_Deviation_Detail!$C$24:$C$5800,C99,CMS_Deviation_Detail!$D$24:$D$5800,D99,CMS_Deviation_Detail!$J$24:$J$5800,\"Other Known Causes\"))","v":""},{"$f":"IF($E99=\"\",\"\",SUMIFS(CMS_Deviation_Detail!$I$24:$I$5800,CMS_Deviation_Detail!$B$24:$B$5800,B99,CMS_Deviation_Detail!$C$24:$C$5800,C99,CMS_Deviation_Detail!$D$24:$D$5800,D99,CMS_Deviation_Detail!$J$24:$J$5800,\"Unknown Causes\"))","v":""}]
[null,{"$f":"IF(Lists!BA78=\"\",\"\",Lists!BA78)","v":""},{"$f":"IF(Lists!BB78=\"\",\"\",Lists!BB78)","v":""},{"$f":"IF(Lists!BC78=\"\",\"\",Lists!BC78)","v":""},{"$f":"IF(Lists!BE78=\"\",\"\",Lists!BE78)","v":""},{"$f":"IF($E100=\"\",\"\",SUMIFS(CMS_Deviation_Detail!$I$24:$I$5400,CMS_Deviation_Detail!$B$24:$B$5400,B100,CMS_Deviation_Detail!$C$24:$C$5400,C100,CMS_Deviation_Detail!$D$24:$D$5400,D100))","v":""},"",{"$f":"IF($E100=\"\",\"\",SUMIFS(CMS_Deviation_Detail!$I$24:$I$5800,CMS_Deviation_Detail!$B$24:$B$5800,B100,CMS_Deviation_Detail!$C$24:$C$5800,C100,CMS_Deviation_Detail!$D$24:$D$5800,D100,CMS_Deviation_Detail!$J$24:$J$5800,\"Monitoring System Malfunctions\"))","v":""},{"$f":"IF($E100=\"\",\"\",SUMIFS(CMS_Deviation_Detail!$I$24:$I$5800,CMS_Deviation_Detail!$B$24:$B$5800,B100,CMS_Deviation_Detail!$C$24:$C$5800,C100,CMS_Deviation_Detail!$D$24:$D$5800,D100,CMS_Deviation_Detail!$J$24:$J$5800,\"Nonmonitoring Equipment Malfunctions\"))","v":""},{"$f":"IF($E100=\"\",\"\",SUMIFS(CMS_Deviation_Detail!$I$24:$I$5800,CMS_Deviation_Detail!$B$24:$B$5800,B100,CMS_Deviation_Detail!$C$24:$C$5800,C100,CMS_Deviation_Detail!$D$24:$D$5800,D100,CMS_Deviation_Detail!$J$24:$J$5800,\"Quality Assurance/Quality Control Calibrations\"))","v":""},{"$f":"IF($E100=\"\",\"\",SUMIFS(CMS_Deviation_Detail!$I$24:$I$5800,CMS_Deviation_Detail!$B$24:$B$5800,B100,CMS_Deviation_Detail!$C$24:$C$5800,C100,CMS_Deviation_Detail!$D$24:$D$5800,D100,CMS_Deviation_Detail!$J$24:$J$5800,\"Other Known Causes\"))","v":""},{"$f":"IF($E100=\"\",\"\",SUMIFS(CMS_Deviation_Detail!$I$24:$I$5800,CMS_Deviation_Detail!$B$24:$B$5800,B100,CMS_Deviation_Detail!$C$24:$C$5800,C100,CMS_Deviation_Detail!$D$24:$D$5800,D100,CMS_Deviation_Detail!$J$24:$J$5800,\"Unknown Causes\"))","v":""}]

{"sheet":"Limit_Deviation_Detail","index":8,"n_rows":500,"n_cols":29,"rows_kept":500,"cut":false,"hidden":false,"merged":[]}
[null,"DO NOT REMOVE OR EDIT INFORMATION IN ROWS 1 THROUGH 5\nFOR INTERNAL USE ONLY"]
[null,"Template Name",null,null,{"$f":"+Welcome!B2","v":"63.10899(c) Semiannual Compliance Report (Spreadsheet Template)"}]
[null,"CitationID",null,null,{"$f":"+Welcome!B3","v":"63.10899(c)"}]
[null,"Template Version",null,null,{"$f":"+Welcome!B4","v":"v1.02"}]
[null,"Last Updated Date",null,null,{"$f":"+Welcome!B5","v":45391}]
[null,{"$f":"Welcome!B6","v":"OMB No.: 2060-0605 Form 5900-521 For further Paperwork Reduction Act information see: \nhttps://www.epa.gov/electronic-reporting-air-emissions/paperwork-reduction-act-pra-cedri-and-ert"}]
[null,"40 CFR Part 63, Subpart ZZZZZ National Emission Standards for Hazardous Air Pollutants: Iron and Steel Foundries Area Sources - "]
[null,"§63.10899(c) Semiannual Compliance Report Spreadsheet Template"]
[]
[]
[]
[null,"Company Record No. \n(Autocompleted from Column D)","Brief Description of Affected Source\n(§63.10899(c)(6)(i))\n(Autocompleted from Column D)","Company Record Number and Affected Source\n(Select from dropdown)","Emission Limitation or Work Practice Deviated From\n(§63.10899(c)(6)(ii))\n(Select from dropdown)","Starting Date of Deviation\n(§63.10899(c)(6)(ii)(A))","Starting Time of \nDeviation\n(§63.10899(c)(6)(ii)(A))","Duration of \nDeviation\n(hours)  \n(§63.10899(c)(6)(ii)(A))","Cause of Deviation\n(§63.10899(c)(6)(ii)(A))\n(Select from dropdown)","Corrective Action Taken\n(§63.10899(c)(6)(ii)(A))","Method Used to Estimate Emissions \n(§63.10899(c)(6)(ii)(B))\n(Select from dropdown)","Pollutant 1\n(§63.10899(c)(6)(ii)(B))\n(Select from dropdown)","Estimate of Emissions \nPollutant 1\n(§63.10899(c)(6)(ii)(B))","Units of Emissions Estimate \nPollutant 1\n(§63.10899(c)(6)(ii)(B))\n(Select from dropdown)","Pollutant 2\n(§63.10899(c)(6)(ii)(B))\n(Select from dropdown)\n(If necessary)","Estimate of Emissions \nPollutant 2\n(§63.10899(c)(6)(ii)(B))\n(If necessary)","Units of Emissions Estimate \nPollutant 2\n(§63.10899(c)(6)(ii)(B))\n(Select from dropdown)\n(If necessary)","Pollutant 3\n(§63.10899(c)(6)(ii)(B))\n(Select from dropdown)\n(If necessary)","Estimate of Emissions\nPollutant 3\n(§63.10899(c)(6)(ii)(B))\n(If necessary)","Units of Emissions Estimate \nPollutant 3\n(§63.10899(c)(6)(ii)(B))\n(Select from dropdown)\n(If necessary)","Pollutant 4\n(§63.10899(c)(6)(ii)(B))\n(Select from dropdown)\n(If necessary)","Estimate of Emissions \nPollutant 4\n(§63.10899(c)(6)(ii)(B))\n(If necessary)","Units of Emissions Estimate \nPollutant 4\n(§63.10899(c)(6)(ii)(B))\n(Select from dropdown)\n(If necessary)","Pollutant 5\n(§63.10899(c)(6)(ii)(B))\n(Select from dropdown)\n(If necessary)","Estimate of Emissions \nPollutant 5\n(§63.10899(c)(6)(ii)(B))\n(If necessary)","Units of Emissions Estimate \nPollutant 5\n(§63.10899(c)(6)(ii)(B))\n(Select from dropdown)\n(If necessary)","Pollutant 6\n(§63.10899(c)(6)(ii)(B))\n(Select from dropdown)\n(If necessary)","Estimate of Emissions\nPollutant 6\n(§63.10899(c)(6)(ii)(B))\n(If necessary)","Units of Emissions Estimate \nPollutant 6\n(§63.10899(c)(6)(ii)(B))\n(Select from dropdown)\n(If necessary)"]
[null,"RecordId","ProcessUnitDesc_LimitDetail","RecordSource_LimitDetail","DeviceDeviation_LimitDetail","DeviationStartDate_LimitDetail","DeviationStartTime_LimitDetail","DeviationDuration_LimitDetail","DeviationCause_LimitDetail","CorrectiveAction_LimitDetail","EstimationMethod_LimitDetail","Pollutant1_LimitDetail","Pollutant1Emissions_LimitDetail","Pollutant1Units_LimitDetail","Pollutant2_LimitDetail","Pollutant2Emissions_LimitDetail","Pollutant2Units_LimitDetail","Pollutant3_LimitDetail","Pollutant3Emissions_LimitDetail","Pollutant3Units_LimitDetail","Pollutant4_LimitDetail","Pollutant4Emissions_LimitDetail","Pollutant4Units_LimitDetail","Pollutant5_LimitDetail","Pollutant5Emissions_LimitDetail","Pollutant5Unit_LimitDetail","Pollutant6_LimitDetail","Pollutant6Emissions_LimitDetail","Pollutant6Unit_LimitDetail"]
[null,"e.g.: 1","e.g.: Line 1 ","e.g.: 1 Line 1","e.g.:  ESP Voltage","e.g.: 2/12/2020","e.g.: 13:05","e.g.: 16.08","e.g.: Control Equipment Problems","e.g.: Replaced wire harness","e.g.: Engineering calculations","e.g.: Particulate Matter","e.g.: 0.1","e.g.: tons","e.g.: Total Metal HAP","e.g.: 0.1","e.g.: tons","e.g.: Lead","e.g.: 0.07","e.g.:  tons","e.g.: Lead","e.g.: 0.08","e.g.:  tons","e.g.: Lead","e.g.: 0.09","e.g.:  tons","e.g.: Lead","e.g.: 0.10","e.g.:  tons"]
[]
[]
[]
[]
[]
[]
[]
[]
[]
[null,{"$f":"IF($D24=\"\",\"\",VLOOKUP($D24,Lists!$AP$2:$AS$78,2,FALSE))","v":""},{"$f":"IF($D24=\"\",\"\",VLOOKUP($D24,Lists!$AP$2:$AS$78,3,FALSE))","v":""}]
[null,{"$f":"IF($D25=\"\",\"\",VLOOKUP($D25,Lists!$AP$2:$AS$78,2,FALSE))","v":""},{"$f":"IF($D25=\"\",\"\",VLOOKUP($D25,Lists!$AP$2:$AS$78,3,FALSE))","v":""}]
[null,{"$f":"IF($D26=\"\",\"\",VLOOKUP($D26,Lists!$AP$2:$AS$78,2,FALSE))","v":""},{"$f":"IF($D26=\"\",\"\",VLOOKUP($D26,Lists!$AP$2:$AS$78,3,FALSE))","v":""}]
[null,{"$f":"IF($D27=\"\",\"\",VLOOKUP($D27,Lists!$AP$2:$AS$78,2,FALSE))","v":""},{"$f":"IF($D27=\"\",\"\",VLOOKUP($D27,Lists!$AP$2:$AS$78,3,FALSE))","v":""}]
[null,{"$f":"IF($D28=\"\",\"\",VLOOKUP($D28,Lists!$AP$2:$AS$78,2,FALSE))","v":""},{"$f":"IF($D28=\"\",\"\",VLOOKUP($D28,Lists!$AP$2:$AS$78,3,FALSE))","v":""}]
[null,{"$f":"IF($D29=\"\",\"\",VLOOKUP($D29,Lists!$AP$2:$AS$78,2,FALSE))","v":""},{"$f":"IF($D29=\"\",\"\",VLOOKUP($D29,Lists!$AP$2:$AS$78,3,FALSE))","v":""}]
[null,{"$f":"IF($D30=\"\",\"\",VLOOKUP($D30,Lists!$AP$2:$AS$78,2,FALSE))","v":""},{"$f":"IF($D30=\"\",\"\",VLOOKUP($D30,Lists!$AP$2:$AS$78,3,FALSE))","v":""}]
[null,{"$f":"IF($D31=\"\",\"\",VLOOKUP($D31,Lists!$AP$2:$AS$78,2,FALSE))","v":""},{"$f":"IF($D31=\"\",\"\",VLOOKUP($D31,Lists!$AP$2:$AS$78,3,FALSE))","v":""}]
[null,{"$f":"IF($D32=\"\",\"\",VLOOKUP($D32,Lists!$AP$2:$AS$78,2,FALSE))","v":""},{"$f":"IF($D32=\"\",\"\",VLOOKUP($D32,Lists!$AP$2:$AS$78,3,FALSE))","v":""}]
[null,{"$f":"IF($D33=\"\",\"\",VLOOKUP($D33,Lists!$AP$2:$AS$78,2,FALSE))","v":""},{"$f":"IF($D33=\"\",\"\",VLOOKUP($D33,Lists!$AP$2:$AS$78,3,FALSE))","v":""}]
[null,{"$f":"IF($D34=\"\",\"\",VLOOKUP($D34,Lists!$AP$2:$AS$78,2,FALSE))","v":""},{"$f":"IF($D34=\"\",\"\",VLOOKUP($D34,Lists!$AP$2:$AS$78,3,FALSE))","v":""}]
[null,{"$f":"IF($D35=\"\",\"\",VLOOKUP($D35,Lists!$AP$2:$AS$78,2,FALSE))","v":""},{"$f":"IF($D35=\"\",\"\",VLOOKUP($D35,Lists!$AP$2:$AS$78,3,FALSE))","v":""}]
[null,{"$f":"IF($D36=\"\",\"\",VLOOKUP($D36,Lists!$AP$2:$AS$78,2,FALSE))","v":""},{"$f":"IF($D36=\"\",\"\",VLOOKUP($D36,Lists!$AP$2:$AS$78,3,FALSE))","v":""}]
[null,{"$f":"IF($D37=\"\",\"\",VLOOKUP($D37,Lists!$AP$2:$AS$78,2,FALSE))","v":""},{"$f":"IF($D37=\"\",\"\",VLOOKUP($D37,Lists!$AP$2:$AS$78,3,FALSE))","v":""}]
[null,{"$f":"IF($D38=\"\",\"\",VLOOKUP($D38,Lists!$AP$2:$AS$78,2,FALSE))","v":""},{"$f":"IF($D38=\"\",\"\",VLOOKUP($D38,Lists!$AP$2:$AS$78,3,FALSE))","v":""}]
[null,{"$f":"IF($D39=\"\",\"\",VLOOKUP($D39,Lists!$AP$2:$AS$78,2,FALSE))","v":""},{"$f":"IF($D39=\"\",\"\",VLOOKUP($D39,Lists!$AP$2:$AS$78,3,FALSE))","v":""}]
[null,{"$f":"IF($D40=\"\",\"\",VLOOKUP($D40,Lists!$AP$2:$AS$78,2,FALSE))","v":""},{"$f":"IF($D40=\"\",\"\",VLOOKUP($D40,Lists!$AP$2:$AS$78,3,FALSE))","v":""}]
[null,{"$f":"IF($D41=\"\",\"\",VLOOKUP($D41,Lists!$AP$2:$AS$78,2,FALSE))","v":""},{"$f":"IF($D41=\"\",\"\",VLOOKUP($D41,Lists!$AP$2:$AS$78,3,FALSE))","v":""}]
[null,{"$f":"IF($D42=\"\",\"\",VLOOKUP($D42,Lists!$AP$2:$AS$78,2,FALSE))","v":""},{"$f":"IF($D42=\"\",\"\",VLOOKUP($D42,Lists!$AP$2:$AS$78,3,FALSE))","v":""}]
[null,{"$f":"IF($D43=\"\",\"\",VLOOKUP($D43,Lists!$AP$2:$AS$78,2,FALSE))","v":""},{"$f":"IF($D43=\"\",\"\",VLOOKUP($D43,Lists!$AP$2:$AS$78,3,FALSE))","v":""}]
[null,{"$f":"IF($D44=\"\",\"\",VLOOKUP($D44,Lists!$AP$2:$AS$78,2,FALSE))","v":""},{"$f":"IF($D44=\"\",\"\",VLOOKUP($D44,Lists!$AP$2:$AS$78,3,FALSE))","v":""}]
[null,{"$f":"IF($D45=\"\",\"\",VLOOKUP($D45,Lists!$AP$2:$AS$78,2,FALSE))","v":""},{"$f":"IF($D45=\"\",\"\",VLOOKUP($D45,Lists!$AP$2:$AS$78,3,FALSE))","v":""}]
[null,{"$f":"IF($D46=\"\",\"\",VLOOKUP($D46,Lists!$AP$2:$AS$78,2,FALSE))","v":""},{"$f":"IF($D46=\"\",\"\",VLOOKUP($D46,Lists!$AP$2:$AS$78,3,FALSE))","v":""}]
[null,{"$f":"IF($D47=\"\",\"\",VLOOKUP($D47,Lists!$AP$2:$AS$78,2,FALSE))","v":""},{"$f":"IF($D47=\"\",\"\",VLOOKUP($D47,Lists!$AP$2:$AS$78,3,FALSE))","v":""}]
[null,{"$f":"IF($D48=\"\",\"\",VLOOKUP($D48,Lists!$AP$2:$AS$78,2,FALSE))","v":""},{"$f":"IF($D48=\"\",\"\",VLOOKUP($D48,Lists!$AP$2:$AS$78,3,FALSE))","v":""}]
[null,{"$f":"IF($D49=\"\",\"\",VLOOKUP($D49,Lists!$AP$2:$AS$78,2,FALSE))","v":""},{"$f":"IF($D49=\"\",\"\",VLOOKUP($D49,Lists!$AP$2:$AS$78,3,FALSE))","v":""}]
[null,{"$f":"IF($D50=\"\",\"\",VLOOKUP($D50,Lists!$AP$2:$AS$78,2,FALSE))","v":""},{"$f":"IF($D50=\"\",\"\",VLOOKUP($D50,Lists!$AP$2:$AS$78,3,FALSE))","v":""}]
[null,{"$f":"IF($D51=\"\",\"\",VLOOKUP($D51,Lists!$AP$2:$AS$78,2,FALSE))","v":""},{"$f":"IF($D51=\"\",\"\",VLOOKUP($D51,Lists!$AP$2:$AS$78,3,FALSE))","v":""}]
[null,{"$f":"IF($D52=\"\",\"\",VLOOKUP($D52,Lists!$AP$2:$AS$78,2,FALSE))","v":""},{"$f":"IF($D52=\"\",\"\",VLOOKUP($D52,Lists!$AP$2:$AS$78,3,FALSE))","v":""}]
[null,{"$f":"IF($D53=\"\",\"\",VLOOKUP($D53,Lists!$AP$2:$AS$78,2,FALSE))","v":""},{"$f":"IF($D53=\"\",\"\",VLOOKUP($D53,Lists!$AP$2:$AS$78,3,FALSE))","v":""}]
[null,{"$f":"IF($D54=\"\",\"\",VLOOKUP($D54,Lists!$AP$2:$AS$78,2,FALSE))","v":""},{"$f":"IF($D54=\"\",\"\",VLOOKUP($D54,Lists!$AP$2:$AS$78,3,FALSE))","v":""}]
[null,{"$f":"IF($D55=\"\",\"\",VLOOKUP($D55,Lists!$AP$2:$AS$78,2,FALSE))","v":""},{"$f":"IF($D55=\"\",\"\",VLOOKUP($D55,Lists!$AP$2:$AS$78,3,FALSE))","v":""}]
[null,{"$f":"IF($D56=\"\",\"\",VLOOKUP($D56,Lists!$AP$2:$AS$78,2,FALSE))","v":""},{"$f":"IF($D56=\"\",\"\",VLOOKUP($D56,Lists!$AP$2:$AS$78,3,FALSE))","v":""}]
[null,{"$f":"IF($D57=\"\",\"\",VLOOKUP($D57,Lists!$AP$2:$AS$78,2,FALSE))","v":""},{"$f":"IF($D57=\"\",\"\",VLOOKUP($D57,Lists!$AP$2:$AS$78,3,FALSE))","v":""}]
[null,{"$f":"IF($D58=\"\",\"\",VLOOKUP($D58,Lists!$AP$2:$AS$78,2,FALSE))","v":""},{"$f":"IF($D58=\"\",\"\",VLOOKUP($D58,Lists!$AP$2:$AS$78,3,FALSE))","v":""}]
[null,{"$f":"IF($D59=\"\",\"\",VLOOKUP($D59,Lists!$AP$2:$AS$78,2,FALSE))","v":""},{"$f":"IF($D59=\"\",\"\",VLOOKUP($D59,Lists!$AP$2:$AS$78,3,FALSE))","v":""}]
[null,{"$f":"IF($D60=\"\",\"\",VLOOKUP($D60,Lists!$AP$2:$AS$78,2,FALSE))","v":""},{"$f":"IF($D60=\"\",\"\",VLOOKUP($D60,Lists!$AP$2:$AS$78,3,FALSE))","v":""}]
[null,{"$f":"IF($D61=\"\",\"\",VLOOKUP($D61,Lists!$AP$2:$AS$78,2,FALSE))","v":""},{"$f":"IF($D61=\"\",\"\",VLOOKUP($D61,Lists!$AP$2:$AS$78,3,FALSE))","v":""}]
[null,{"$f":"IF($D62=\"\",\"\",VLOOKUP($D62,Lists!$AP$2:$AS$78,2,FALSE))","v":""},{"$f":"IF($D62=\"\",\"\",VLOOKUP($D62,Lists!$AP$2:$AS$78,3,FALSE))","v":""}]
[null,{"$f":"IF($D63=\"\",\"\",VLOOKUP($D63,Lists!$AP$2:$AS$78,2,FALSE))","v":""},{"$f":"IF($D63=\"\",\"\",VLOOKUP($D63,Lists!$AP$2:$AS$78,3,FALSE))","v":""}]
[null,{"$f":"IF($D64=\"\",\"\",VLOOKUP($D64,Lists!$AP$2:$AS$78,2,FALSE))","v":""},{"$f":"IF($D64=\"\",\"\",VLOOKUP($D64,Lists!$AP$2:$AS$78,3,FALSE))","v":""}]
[null,{"$f":"IF($D65=\"\",\"\",VLOOKUP($D65,Lists!$AP$2:$AS$78,2,FALSE))","v":""},{"$f":"IF($D65=\"\",\"\",VLOOKUP($D65,Lists!$AP$2:$AS$78,3,FALSE))","v":""}]
[null,{"$f":"IF($D66=\"\",\"\",VLOOKUP($D66,Lists!$AP$2:$AS$78,2,FALSE))","v":""},{"$f":"IF($D66=\"\",\"\",VLOOKUP($D66,Lists!$AP$2:$AS$78,3,FALSE))","v":""}]
[null,{"$f":"IF($D67=\"\",\"\",VLOOKUP($D67,Lists!$AP$2:$AS$78,2,FALSE))","v":""},{"$f":"IF($D67=\"\",\"\",VLOOKUP($D67,Lists!$AP$2:$AS$78,3,FALSE))","v":""}]
[null,{"$f":"IF($D68=\"\",\"\",VLOOKUP($D68,Lists!$AP$2:$AS$78,2,FALSE))","v":""},{"$f":"IF($D68=\"\",\"\",VLOOKUP($D68,Lists!$AP$2:$AS$78,3,FALSE))","v":""}]
[null,{"$f":"IF($D69=\"\",\"\",VLOOKUP($D69,Lists!$AP$2:$AS$78,2,FALSE))","v":""},{"$f":"IF($D69=\"\",\"\",VLOOKUP($D69,Lists!$AP$2:$AS$78,3,FALSE))","v":""}]
[null,{"$f":"IF($D70=\"\",\"\",VLOOKUP($D70,Lists!$AP$2:$AS$78,2,FALSE))","v":""},{"$f":"IF($D70=\"\",\"\",VLOOKUP($D70,Lists!$AP$2:$AS$78,3,FALSE))","v":""}]
[null,{"$f":"IF($D71=\"\",\"\",VLOOKUP($D71,Lists!$AP$2:$AS$78,2,FALSE))","v":""},{"$f":"IF($D71=\"\",\"\",VLOOKUP($D71,Lists!$AP$2:$AS$78,3,FALSE))","v":""}]
[null,{"$f":"IF($D72=\"\",\"\",VLOOKUP($D72,Lists!$AP$2:$AS$78,2,FALSE))","v":""},{"$f":"IF($D72=\"\",\"\",VLOOKUP($D72,Lists!$AP$2:$AS$78,3,FALSE))","v":""}]
[null,{"$f":"IF($D73=\"\",\"\",VLOOKUP($D73,Lists!$AP$2:$AS$78,2,FALSE))","v":""},{"$f":"IF($D73=\"\",\"\",VLOOKUP($D73,Lists!$AP$2:$AS$78,3,FALSE))","v":""}]
[null,{"$f":"IF($D74=\"\",\"\",VLOOKUP($D74,Lists!$AP$2:$AS$78,2,FALSE))","v":""},{"$f":"IF($D74=\"\",\"\",VLOOKUP($D74,Lists!$AP$2:$AS$78,3,FALSE))","v":""}]
[null,{"$f":"IF($D75=\"\",\"\",VLOOKUP($D75,Lists!$AP$2:$AS$78,2,FALSE))","v":""},{"$f":"IF($D75=\"\",\"\",VLOOKUP($D75,Lists!$AP$2:$AS$78,3,FALSE))","v":""}]
[null,{"$f":"IF($D76=\"\",\"\",VLOOKUP($D76,Lists!$AP$2:$AS$78,2,FALSE))","v":""},{"$f":"IF($D76=\"\",\"\",VLOOKUP($D76,Lists!$AP$2:$AS$78,3,FALSE))","v":""}]
[null,{"$f":"IF($D77=\"\",\"\",VLOOKUP($D77,Lists!$AP$2:$AS$78,2,FALSE))","v":""},{"$f":"IF($D77=\"\",\"\",VLOOKUP($D77,Lists!$AP$2:$AS$78,3,FALSE))","v":""}]
[null,{"$f":"IF($D78=\"\",\"\",VLOOKUP($D78,Lists!$AP$2:$AS$78,2,FALSE))","v":""},{"$f":"IF($D78=\"\",\"\",VLOOKUP($D78,Lists!$AP$2:$AS$78,3,FALSE))","v":""}]
[null,{"$f":"IF($D79=\"\",\"\",VLOOKUP($D79,Lists!$AP$2:$AS$78,2,FALSE))","v":""},{"$f":"IF($D79=\"\",\"\",VLOOKUP($D79,Lists!$AP$2:$AS$78,3,FALSE))","v":""}]
[null,{"$f":"IF($D80=\"\",\"\",VLOOKUP($D80,Lists!$AP$2:$AS$78,2,FALSE))","v":""},{"$f":"IF($D80=\"\",\"\",VLOOKUP($D80,Lists!$AP$2:$AS$78,3,FALSE))","v":""}]
[null,{"$f":"IF($D81=\"\",\"\",VLOOKUP($D81,Lists!$AP$2:$AS$78,2,FALSE))","v":""},{"$f":"IF($D81=\"\",\"\",VLOOKUP($D81,Lists!$AP$2:$AS$78,3,FALSE))","v":""}]
[null,{"$f":"IF($D82=\"\",\"\",VLOOKUP($D82,Lists!$AP$2:$AS$78,2,FALSE))","v":""},{"$f":"IF($D82=\"\",\"\",VLOOKUP($D82,Lists!$AP$2:$AS$78,3,FALSE))","v":""}]
[null,{"$f":"IF($D83=\"\",\"\",VLOOKUP($D83,Lists!$AP$2:$AS$78,2,FALSE))","v":""},{"$f":"IF($D83=\"\",\"\",VLOOKUP($D83,Lists!$AP$2:$AS$78,3,FALSE))","v":""}]
[null,{"$f":"IF($D84=\"\",\"\",VLOOKUP($D84,Lists!$AP$2:$AS$78,2,FALSE))","v":""},{"$f":"IF($D84=\"\",\"\",VLOOKUP($D84,Lists!$AP$2:$AS$78,3,FALSE))","v":""}]
[null,{"$f":"IF($D85=\"\",\"\",VLOOKUP($D85,Lists!$AP$2:$AS$78,2,FALSE))","v":""},{"$f":"IF($D85=\"\",\"\",VLOOKUP($D85,Lists!$AP$2:$AS$78,3,FALSE))","v":""}]
[null,{"$f":"IF($D86=\"\",\"\",VLOOKUP($D86,Lists!$AP$2:$AS$78,2,FALSE))","v":""},{"$f":"IF($D86=\"\",\"\",VLOOKUP($D86,Lists!$AP$2:$AS$78,3,FALSE))","v":""}]
[null,{"$f":"IF($D87=\"\",\"\",VLOOKUP($D87,Lists!$AP$2:$AS$78,2,FALSE))","v":""},{"$f":"IF($D87=\"\",\"\",VLOOKUP($D87,Lists!$AP$2:$AS$78,3,FALSE))","v":""}]
[null,{"$f":"IF($D88=\"\",\"\",VLOOKUP($D88,Lists!$AP$2:$AS$78,2,FALSE))","v":""},{"$f":"IF($D88=\"\",\"\",VLOOKUP($D88,Lists!$AP$2:$AS$78,3,FALSE))","v":""}]
[null,{"$f":"IF($D89=\"\",\"\",VLOOKUP($D89,Lists!$AP$2:$AS$78,2,FALSE))","v":""},{"$f":"IF($D89=\"\",\"\",VLOOKUP($D89,Lists!$AP$2:$AS$78,3,FALSE))","v":""}]
[null,{"$f":"IF($D90=\"\",\"\",VLOOKUP($D90,Lists!$AP$2:$AS$78,2,FALSE))","v":""},{"$f":"IF($D90=\"\",\"\",VLOOKUP($D90,Lists!$AP$2:$AS$78,3,FALSE))","v":""}]
[null,{"$f":"IF($D91=\"\",\"\",VLOOKUP($D91,Lists!$AP$2:$AS$78,2,FALSE))","v":""},{"$f":"IF($D91=\"\",\"\",VLOOKUP($D91,Lists!$AP$2:$AS$78,3,FALSE))","v":""}]
[null,{"$f":"IF($D92=\"\",\"\",VLOOKUP($D92,Lists!$AP$2:$AS$78,2,FALSE))","v":""},{"$f":"IF($D92=\"\",\"\",VLOOKUP($D92,Lists!$AP$2:$AS$78,3,FALSE))","v":""}]
[null,{"$f":"IF($D93=\"\",\"\",VLOOKUP($D93,Lists!$AP$2:$AS$78,2,FALSE))","v":""},{"$f":"IF($D93=\"\",\"\",VLOOKUP($D93,Lists!$AP$2:$AS$78,3,FALSE))","v":""}]
[null,{"$f":"IF($D94=\"\",\"\",VLOOKUP($D94,Lists!$AP$2:$AS$78,2,FALSE))","v":""},{"$f":"IF($D94=\"\",\"\",VLOOKUP($D94,Lists!$AP$2:$AS$78,3,FALSE))","v":""}]
[null,{"$f":"IF($D95=\"\",\"\",VLOOKUP($D95,Lists!$AP$2:$AS$78,2,FALSE))","v":""},{"$f":"IF($D95=\"\",\"\",VLOOKUP($D95,Lists!$AP$2:$AS$78,3,FALSE))","v":""}]
[null,{"$f":"IF($D96=\"\",\"\",VLOOKUP($D96,Lists!$AP$2:$AS$78,2,FALSE))","v":""},{"$f":"IF($D96=\"\",\"\",VLOOKUP($D96,Lists!$AP$2:$AS$78,3,FALSE))","v":""}]
[null,{"$f":"IF($D97=\"\",\"\",VLOOKUP($D97,Lists!$AP$2:$AS$78,2,FALSE))","v":""},{"$f":"IF($D97=\"\",\"\",VLOOKUP($D97,Lists!$AP$2:$AS$78,3,FALSE))","v":""}]
[null,{"$f":"IF($D98=\"\",\"\",VLOOKUP($D98,Lists!$AP$2:$AS$78,2,FALSE))","v":""},{"$f":"IF($D98=\"\",\"\",VLOOKUP($D98,Lists!$AP$2:$AS$78,3,FALSE))","v":""}]
[null,{"$f":"IF($D99=\"\",\"\",VLOOKUP($D99,Lists!$AP$2:$AS$78,2,FALSE))","v":""},{"$f":"IF($D99=\"\",\"\",VLOOKUP($D99,Lists!$AP$2:$AS$78,3,FALSE))","v":""}]
[null,{"$f":"IF($D100=\"\",\"\",VLOOKUP($D100,Lists!$AP$2:$AS$78,2,FALSE))","v":""},{"$f":"IF($D100=\"\",\"\",VLOOKUP($D100,Lists!$AP$2:$AS$78,3,FALSE))","v":""}]
[null,{"$f":"IF($D101=\"\",\"\",VLOOKUP($D101,Lists!$AP$2:$AS$78,2,FALSE))","v":""},{"$f":"IF($D101=\"\",\"\",VLOOKUP($D101,Lists!$AP$2:$AS$78,3,FALSE))","v":""}]
[null,{"$f":"IF($D102=\"\",\"\",VLOOKUP($D102,Lists!$AP$2:$AS$78,2,FALSE))","v":""},{"$f":"IF($D102=\"\",\"\",VLOOKUP($D102,Lists!$AP$2:$AS$78,3,FALSE))","v":""}]
[null,{"$f":"IF($D103=\"\",\"\",VLOOKUP($D103,Lists!$AP$2:$AS$78,2,FALSE))","v":""},{"$f":"IF($D103=\"\",\"\",VLOOKUP($D103,Lists!$AP$2:$AS$78,3,FALSE))","v":""}]
[null,{"$f":"IF($D104=\"\",\"\",VLOOKUP($D104,Lists!$AP$2:$AS$78,2,FALSE))","v":""},{"$f":"IF($D104=\"\",\"\",VLOOKUP($D104,Lists!$AP$2:$AS$78,3,FALSE))","v":""}]
[null,{"$f":"IF($D105=\"\",\"\",VLOOKUP($D105,Lists!$AP$2:$AS$78,2,FALSE))","v":""},{"$f":"IF($D105=\"\",\"\",VLOOKUP($D105,Lists!$AP$2:$AS$78,3,FALSE))","v":""}]
[null,{"$f":"IF($D106=\"\",\"\",VLOOKUP($D106,Lists!$AP$2:$AS$78,2,FALSE))","v":""},{"$f":"IF($D106=\"\",\"\",VLOOKUP($D106,Lists!$AP$2:$AS$78,3,FALSE))","v":""}]
[null,{"$f":"IF($D107=\"\",\"\",VLOOKUP($D107,Lists!$AP$2:$AS$78,2,FALSE))","v":""},{"$f":"IF($D107=\"\",\"\",VLOOKUP($D107,Lists!$AP$2:$AS$78,3,FALSE))","v":""}]
[null,{"$f":"IF($D108=\"\",\"\",VLOOKUP($D108,Lists!$AP$2:$AS$78,2,FALSE))","v":""},{"$f":"IF($D108=\"\",\"\",VLOOKUP($D108,Lists!$AP$2:$AS$78,3,FALSE))","v":""}]
[null,{"$f":"IF($D109=\"\",\"\",VLOOKUP($D109,Lists!$AP$2:$AS$78,2,FALSE))","v":""},{"$f":"IF($D109=\"\",\"\",VLOOKUP($D109,Lists!$AP$2:$AS$78,3,FALSE))","v":""}]
[null,{"$f":"IF($D110=\"\",\"\",VLOOKUP($D110,Lists!$AP$2:$AS$78,2,FALSE))","v":""},{"$f":"IF($D110=\"\",\"\",VLOOKUP($D110,Lists!$AP$2:$AS$78,3,FALSE))","v":""}]
[null,{"$f":"IF($D111=\"\",\"\",VLOOKUP($D111,Lists!$AP$2:$AS$78,2,FALSE))","v":""},{"$f":"IF($D111=\"\",\"\",VLOOKUP($D111,Lists!$AP$2:$AS$78,3,FALSE))","v":""}]
[null,{"$f":"IF($D112=\"\",\"\",VLOOKUP($D112,Lists!$AP$2:$AS$78,2,FALSE))","v":""},{"$f":"IF($D112=\"\",\"\",VLOOKUP($D112,Lists!$AP$2:$AS$78,3,FALSE))","v":""}]
[null,{"$f":"IF($D113=\"\",\"\",VLOOKUP($D113,Lists!$AP$2:$AS$78,2,FALSE))","v":""},{"$f":"IF($D113=\"\",\"\",VLOOKUP($D113,Lists!$AP$2:$AS$78,3,FALSE))","v":""}]
[null,{"$f":"IF($D114=\"\",\"\",VLOOKUP($D114,Lists!$AP$2:$AS$78,2,FALSE))","v":""},{"$f":"IF($D114=\"\",\"\",VLOOKUP($D114,Lists!$AP$2:$AS$78,3,FALSE))","v":""}]
[null,{"$f":"IF($D115=\"\",\"\",VLOOKUP($D115,Lists!$AP$2:$AS$78,2,FALSE))","v":""},{"$f":"IF($D115=\"\",\"\",VLOOKUP($D115,Lists!$AP$2:$AS$78,3,FALSE))","v":""}]
[null,{"$f":"IF($D116=\"\",\"\",VLOOKUP($D116,Lists!$AP$2:$AS$78,2,FALSE))","v":""},{"$f":"IF($D116=\"\",\"\",VLOOKUP($D116,Lists!$AP$2:$AS$78,3,FALSE))","v":""}]
[null,{"$f":"IF($D117=\"\",\"\",VLOOKUP($D117,Lists!$AP$2:$AS$78,2,FALSE))","v":""},{"$f":"IF($D117=\"\",\"\",VLOOKUP($D117,Lists!$AP$2:$AS$78,3,FALSE))","v":""}]
[null,{"$f":"IF($D118=\"\",\"\",VLOOKUP($D118,Lists!$AP$2:$AS$78,2,FALSE))","v":""},{"$f":"IF($D118=\"\",\"\",VLOOKUP($D118,Lists!$AP$2:$AS$78,3,FALSE))","v":""}]
[null,{"$f":"IF($D119=\"\",\"\",VLOOKUP($D119,Lists!$AP$2:$AS$78,2,FALSE))","v":""},{"$f":"IF($D119=\"\",\"\",VLOOKUP($D119,Lists!$AP$2:$AS$78,3,FALSE))","v":""}]
[null,{"$f":"IF($D120=\"\",\"\",VLOOKUP($D120,Lists!$AP$2:$AS$78,2,FALSE))","v":""},{"$f":"IF($D120=\"\",\"\",VLOOKUP($D120,Lists!$AP$2:$AS$78,3,FALSE))","v":""}]
[null,{"$f":"IF($D121=\"\",\"\",VLOOKUP($D121,Lists!$AP$2:$AS$78,2,FALSE))","v":""},{"$f":"IF($D121=\"\",\"\",VLOOKUP($D121,Lists!$AP$2:$AS$78,3,FALSE))","v":""}]
[null,{"$f":"IF($D122=\"\",\"\",VLOOKUP($D122,Lists!$AP$2:$AS$78,2,FALSE))","v":""},{"$f":"IF($D122=\"\",\"\",VLOOKUP($D122,Lists!$AP$2:$AS$78,3,FALSE))","v":""}]
[null,{"$f":"IF($D123=\"\",\"\",VLOOKUP($D123,Lists!$AP$2:$AS$78,2,FALSE))","v":""},{"$f":"IF($D123=\"\",\"\",VLOOKUP($D123,Lists!$AP$2:$AS$78,3,FALSE))","v":""}]
[null,{"$f":"IF($D124=\"\",\"\",VLOOKUP($D124,Lists!$AP$2:$AS$78,2,FALSE))","v":""},{"$f":"IF($D124=\"\",\"\",VLOOKUP($D124,Lists!$AP$2:$AS$78,3,FALSE))","v":""}]
[null,{"$f":"IF($D125=\"\",\"\",VLOOKUP($D125,Lists!$AP$2:$AS$78,2,FALSE))","v":""},{"$f":"IF($D125=\"\",\"\",VLOOKUP($D125,Lists!$AP$2:$AS$78,3,FALSE))","v":""}]
[null,{"$f":"IF($D126=\"\",\"\",VLOOKUP($D126,Lists!$AP$2:$AS$78,2,FALSE))","v":""},{"$f":"IF($D126=\"\",\"\",VLOOKUP($D126,Lists!$AP$2:$AS$78,3,FALSE))","v":""}]
[null,{"$f":"IF($D127=\"\",\"\",VLOOKUP($D127,Lists!$AP$2:$AS$78,2,FALSE))","v":""},{"$f":"IF($D127=\"\",\"\",VLOOKUP($D127,Lists!$AP$2:$AS$78,3,FALSE))","v":""}]
[null,{"$f":"IF($D128=\"\",\"\",VLOOKUP($D128,Lists!$AP$2:$AS$78,2,FALSE))","v":""},{"$f":"IF($D128=\"\",\"\",VLOOKUP($D128,Lists!$AP$2:$AS$78,3,FALSE))","v":""}]
[null,{"$f":"IF($D129=\"\",\"\",VLOOKUP($D129,Lists!$AP$2:$AS$78,2,FALSE))","v":""},{"$f":"IF($D129=\"\",\"\",VLOOKUP($D129,Lists!$AP$2:$AS$78,3,FALSE))","v":""}]
[null,{"$f":"IF($D130=\"\",\"\",VLOOKUP($D130,Lists!$AP$2:$AS$78,2,FALSE))","v":""},{"$f":"IF($D130=\"\",\"\",VLOOKUP($D130,Lists!$AP$2:$AS$78,3,FALSE))","v":""}]
[null,{"$f":"IF($D131=\"\",\"\",VLOOKUP($D131,Lists!$AP$2:$AS$78,2,FALSE))","v":""},{"$f":"IF($D131=\"\",\"\",VLOOKUP($D131,Lists!$AP$2:$AS$78,3,FALSE))","v":""}]
[null,{"$f":"IF($D132=\"\",\"\",VLOOKUP($D132,Lists!$AP$2:$AS$78,2,FALSE))","v":""},{"$f":"IF($D132=\"\",\"\",VLOOKUP($D132,Lists!$AP$2:$AS$78,3,FALSE))","v":""}]
[null,{"$f":"IF($D133=\"\",\"\",VLOOKUP($D133,Lists!$AP$2:$AS$78,2,FALSE))","v":""},{"$f":"IF($D133=\"\",\"\",VLOOKUP($D133,Lists!$AP$2:$AS$78,3,FALSE))","v":""}]
[null,{"$f":"IF($D134=\"\",\"\",VLOOKUP($D134,Lists!$AP$2:$AS$78,2,FALSE))","v":""},{"$f":"IF($D134=\"\",\"\",VLOOKUP($D134,Lists!$AP$2:$AS$78,3,FALSE))","v":""}]
[null,{"$f":"IF($D135=\"\",\"\",VLOOKUP($D135,Lists!$AP$2:$AS$78,2,FALSE))","v":""},{"$f":"IF($D135=\"\",\"\",VLOOKUP($D135,Lists!$AP$2:$AS$78,3,FALSE))","v":""}]
[null,{"$f":"IF($D136=\"\",\"\",VLOOKUP($D136,Lists!$AP$2:$AS$78,2,FALSE))","v":""},{"$f":"IF($D136=\"\",\"\",VLOOKUP($D136,Lists!$AP$2:$AS$78,3,FALSE))","v":""}]
[null,{"$f":"IF($D137=\"\",\"\",VLOOKUP($D137,Lists!$AP$2:$AS$78,2,FALSE))","v":""},{"$f":"IF($D137=\"\",\"\",VLOOKUP($D137,Lists!$AP$2:$AS$78,3,FALSE))","v":""}]
[null,{"$f":"IF($D138=\"\",\"\",VLOOKUP($D138,Lists!$AP$2:$AS$78,2,FALSE))","v":""},{"$f":"IF($D138=\"\",\"\",VLOOKUP($D138,Lists!$AP$2:$AS$78,3,FALSE))","v":""}]
[null,{"$f":"IF($D139=\"\",\"\",VLOOKUP($D139,Lists!$AP$2:$AS$78,2,FALSE))","v":""},{"$f":"IF($D139=\"\",\"\",VLOOKUP($D139,Lists!$AP$2:$AS$78,3,FALSE))","v":""}]
[null,{"$f":"IF($D140=\"\",\"\",VLOOKUP($D140,Lists!$AP$2:$AS$78,2,FALSE))","v":""},{"$f":"IF($D140=\"\",\"\",VLOOKUP($D140,Lists!$AP$2:$AS$78,3,FALSE))","v":""}]
[null,{"$f":"IF($D141=\"\",\"\",VLOOKUP($D141,Lists!$AP$2:$AS$78,2,FALSE))","v":""},{"$f":"IF($D141=\"\",\"\",VLOOKUP($D141,Lists!$AP$2:$AS$78,3,FALSE))","v":""}]
[null,{"$f":"IF($D142=\"\",\"\",VLOOKUP($D142,Lists!$AP$2:$AS$78,2,FALSE))","v":""},{"$f":"IF($D142=\"\",\"\",VLOOKUP($D142,Lists!$AP$2:$AS$78,3,FALSE))","v":""}]
[null,{"$f":"IF($D143=\"\",\"\",VLOOKUP($D143,Lists!$AP$2:$AS$78,2,FALSE))","v":""},{"$f":"IF($D143=\"\",\"\",VLOOKUP($D143,Lists!$AP$2:$AS$78,3,FALSE))","v":""}]
[null,{"$f":"IF($D144=\"\",\"\",VLOOKUP($D144,Lists!$AP$2:$AS$78,2,FALSE))","v":""},{"$f":"IF($D144=\"\",\"\",VLOOKUP($D144,Lists!$AP$2:$AS$78,3,FALSE))","v":""}]
[null,{"$f":"IF($D145=\"\",\"\",VLOOKUP($D145,Lists!$AP$2:$AS$78,2,FALSE))","v":""},{"$f":"IF($D145=\"\",\"\",VLOOKUP($D145,Lists!$AP$2:$AS$78,3,FALSE))","v":""}]
[null,{"$f":"IF($D146=\"\",\"\",VLOOKUP($D146,Lists!$AP$2:$AS$78,2,FALSE))","v":""},{"$f":"IF($D146=\"\",\"\",VLOOKUP($D146,Lists!$AP$2:$AS$78,3,FALSE))","v":""}]
[null,{"$f":"IF($D147=\"\",\"\",VLOOKUP($D147,Lists!$AP$2:$AS$78,2,FALSE))","v":""},{"$f":"IF($D147=\"\",\"\",VLOOKUP($D147,Lists!$AP$2:$AS$78,3,FALSE))","v":""}]
[null,{"$f":"IF($D148=\"\",\"\",VLOOKUP($D148,Lists!$AP$2:$AS$78,2,FALSE))","v":""},{"$f":"IF($D148=\"\",\"\",VLOOKUP($D148,Lists!$AP$2:$AS$78,3,FALSE))","v":""}]
[null,{"$f":"IF($D149=\"\",\"\",VLOOKUP($D149,Lists!$AP$2:$AS$78,2,FALSE))","v":""},{"$f":"IF($D149=\"\",\"\",VLOOKUP($D149,Lists!$AP$2:$AS$78,3,FALSE))","v":""}]
[null,{"$f":"IF($D150=\"\",\"\",VLOOKUP($D150,Lists!$AP$2:$AS$78,2,FALSE))","v":""},{"$f":"IF($D150=\"\",\"\",VLOOKUP($D150,Lists!$AP$2:$AS$78,3,FALSE))","v":""}]
[null,{"$f":"IF($D151=\"\",\"\",VLOOKUP($D151,Lists!$AP$2:$AS$78,2,FALSE))","v":""},{"$f":"IF($D151=\"\",\"\",VLOOKUP($D151,Lists!$AP$2:$AS$78,3,FALSE))","v":""}]
[null,{"$f":"IF($D152=\"\",\"\",VLOOKUP($D152,Lists!$AP$2:$AS$78,2,FALSE))","v":""},{"$f":"IF($D152=\"\",\"\",VLOOKUP($D152,Lists!$AP$2:$AS$78,3,FALSE))","v":""}]
[null,{"$f":"IF($D153=\"\",\"\",VLOOKUP($D153,Lists!$AP$2:$AS$78,2,FALSE))","v":""},{"$f":"IF($D153=\"\",\"\",VLOOKUP($D153,Lists!$AP$2:$AS$78,3,FALSE))","v":""}]
[null,{"$f":"IF($D154=\"\",\"\",VLOOKUP($D154,Lists!$AP$2:$AS$78,2,FALSE))","v":""},{"$f":"IF($D154=\"\",\"\",VLOOKUP($D154,Lists!$AP$2:$AS$78,3,FALSE))","v":""}]
[null,{"$f":"IF($D155=\"\",\"\",VLOOKUP($D155,Lists!$AP$2:$AS$78,2,FALSE))","v":""},{"$f":"IF($D155=\"\",\"\",VLOOKUP($D155,Lists!$AP$2:$AS$78,3,FALSE))","v":""}]
[null,{"$f":"IF($D156=\"\",\"\",VLOOKUP($D156,Lists!$AP$2:$AS$78,2,FALSE))","v":""},{"$f":"IF($D156=\"\",\"\",VLOOKUP($D156,Lists!$AP$2:$AS$78,3,FALSE))","v":""}]
[null,{"$f":"IF($D157=\"\",\"\",VLOOKUP($D157,Lists!$AP$2:$AS$78,2,FALSE))","v":""},{"$f":"IF($D157=\"\",\"\",VLOOKUP($D157,Lists!$AP$2:$AS$78,3,FALSE))","v":""}]
[null,{"$f":"IF($D158=\"\",\"\",VLOOKUP($D158,Lists!$AP$2:$AS$78,2,FALSE))","v":""},{"$f":"IF($D158=\"\",\"\",VLOOKUP($D158,Lists!$AP$2:$AS$78,3,FALSE))","v":""}]
[null,{"$f":"IF($D159=\"\",\"\",VLOOKUP($D159,Lists!$AP$2:$AS$78,2,FALSE))","v":""},{"$f":"IF($D159=\"\",\"\",VLOOKUP($D159,Lists!$AP$2:$AS$78,3,FALSE))","v":""}]
[null,{"$f":"IF($D160=\"\",\"\",VLOOKUP($D160,Lists!$AP$2:$AS$78,2,FALSE))","v":""},{"$f":"IF($D160=\"\",\"\",VLOOKUP($D160,Lists!$AP$2:$AS$78,3,FALSE))","v":""}]
[null,{"$f":"IF($D161=\"\",\"\",VLOOKUP($D161,Lists!$AP$2:$AS$78,2,FALSE))","v":""},{"$f":"IF($D161=\"\",\"\",VLOOKUP($D161,Lists!$AP$2:$AS$78,3,FALSE))","v":""}]
[null,{"$f":"IF($D162=\"\",\"\",VLOOKUP($D162,Lists!$AP$2:$AS$78,2,FALSE))","v":""},{"$f":"IF($D162=\"\",\"\",VLOOKUP($D162,Lists!$AP$2:$AS$78,3,FALSE))","v":""}]
[null,{"$f":"IF($D163=\"\",\"\",VLOOKUP($D163,Lists!$AP$2:$AS$78,2,FALSE))","v":""},{"$f":"IF($D163=\"\",\"\",VLOOKUP($D163,Lists!$AP$2:$AS$78,3,FALSE))","v":""}]
[null,{"$f":"IF($D164=\"\",\"\",VLOOKUP($D164,Lists!$AP$2:$AS$78,2,FALSE))","v":""},{"$f":"IF($D164=\"\",\"\",VLOOKUP($D164,Lists!$AP$2:$AS$78,3,FALSE))","v":""}]
[null,{"$f":"IF($D165=\"\",\"\",VLOOKUP($D165,Lists!$AP$2:$AS$78,2,FALSE))","v":""},{"$f":"IF($D165=\"\",\"\",VLOOKUP($D165,Lists!$AP$2:$AS$78,3,FALSE))","v":""}]
[null,{"$f":"IF($D166=\"\",\"\",VLOOKUP($D166,Lists!$AP$2:$AS$78,2,FALSE))","v":""},{"$f":"IF($D166=\"\",\"\",VLOOKUP($D166,Lists!$AP$2:$AS$78,3,FALSE))","v":""}]
[null,{"$f":"IF($D167=\"\",\"\",VLOOKUP($D167,Lists!$AP$2:$AS$78,2,FALSE))","v":""},{"$f":"IF($D167=\"\",\"\",VLOOKUP($D167,Lists!$AP$2:$AS$78,3,FALSE))","v":""}]
[null,{"$f":"IF($D168=\"\",\"\",VLOOKUP($D168,Lists!$AP$2:$AS$78,2,FALSE))","v":""},{"$f":"IF($D168=\"\",\"\",VLOOKUP($D168,Lists!$AP$2:$AS$78,3,FALSE))","v":""}]
[null,{"$f":"IF($D169=\"\",\"\",VLOOKUP($D169,Lists!$AP$2:$AS$78,2,FALSE))","v":""},{"$f":"IF($D169=\"\",\"\",VLOOKUP($D169,Lists!$AP$2:$AS$78,3,FALSE))","v":""}]
[null,{"$f":"IF($D170=\"\",\"\",VLOOKUP($D170,Lists!$AP$2:$AS$78,2,FALSE))","v":""},{"$f":"IF($D170=\"\",\"\",VLOOKUP($D170,Lists!$AP$2:$AS$78,3,FALSE))","v":""}]
[null,{"$f":"IF($D171=\"\",\"\",VLOOKUP($D171,Lists!$AP$2:$AS$78,2,FALSE))","v":""},{"$f":"IF($D171=\"\",\"\",VLOOKUP($D171,Lists!$AP$2:$AS$78,3,FALSE))","v":""}]
[null,{"$f":"IF($D172=\"\",\"\",VLOOKUP($D172,Lists!$AP$2:$AS$78,2,FALSE))","v":""},{"$f":"IF($D172=\"\",\"\",VLOOKUP($D172,Lists!$AP$2:$AS$78,3,FALSE))","v":""}]
[null,{"$f":"IF($D173=\"\",\"\",VLOOKUP($D173,Lists!$AP$2:$AS$78,2,FALSE))","v":""},{"$f":"IF($D173=\"\",\"\",VLOOKUP($D173,Lists!$AP$2:$AS$78,3,FALSE))","v":""}]
[null,{"$f":"IF($D174=\"\",\"\",VLOOKUP($D174,Lists!$AP$2:$AS$78,2,FALSE))","v":""},{"$f":"IF($D174=\"\",\"\",VLOOKUP($D174,Lists!$AP$2:$AS$78,3,FALSE))","v":""}]
[null,{"$f":"IF($D175=\"\",\"\",VLOOKUP($D175,Lists!$AP$2:$AS$78,2,FALSE))","v":""},{"$f":"IF($D175=\"\",\"\",VLOOKUP($D175,Lists!$AP$2:$AS$78,3,FALSE))","v":""}]
[null,{"$f":"IF($D176=\"\",\"\",VLOOKUP($D176,Lists!$AP$2:$AS$78,2,FALSE))","v":""},{"$f":"IF($D176=\"\",\"\",VLOOKUP($D176,Lists!$AP$2:$AS$78,3,FALSE))","v":""}]
[null,{"$f":"IF($D177=\"\",\"\",VLOOKUP($D177,Lists!$AP$2:$AS$78,2,FALSE))","v":""},{"$f":"IF($D177=\"\",\"\",VLOOKUP($D177,Lists!$AP$2:$AS$78,3,FALSE))","v":""}]
[null,{"$f":"IF($D178=\"\",\"\",VLOOKUP($D178,Lists!$AP$2:$AS$78,2,FALSE))","v":""},{"$f":"IF($D178=\"\",\"\",VLOOKUP($D178,Lists!$AP$2:$AS$78,3,FALSE))","v":""}]
[null,{"$f":"IF($D179=\"\",\"\",VLOOKUP($D179,Lists!$AP$2:$AS$78,2,FALSE))","v":""},{"$f":"IF($D179=\"\",\"\",VLOOKUP($D179,Lists!$AP$2:$AS$78,3,FALSE))","v":""}]
[null,{"$f":"IF($D180=\"\",\"\",VLOOKUP($D180,Lists!$AP$2:$AS$78,2,FALSE))","v":""},{"$f":"IF($D180=\"\",\"\",VLOOKUP($D180,Lists!$AP$2:$AS$78,3,FALSE))","v":""}]
[null,{"$f":"IF($D181=\"\",\"\",VLOOKUP($D181,Lists!$AP$2:$AS$78,2,FALSE))","v":""},{"$f":"IF($D181=\"\",\"\",VLOOKUP($D181,Lists!$AP$2:$AS$78,3,FALSE))","v":""}]
[null,{"$f":"IF($D182=\"\",\"\",VLOOKUP($D182,Lists!$AP$2:$AS$78,2,FALSE))","v":""},{"$f":"IF($D182=\"\",\"\",VLOOKUP($D182,Lists!$AP$2:$AS$78,3,FALSE))","v":""}]
[null,{"$f":"IF($D183=\"\",\"\",VLOOKUP($D183,Lists!$AP$2:$AS$78,2,FALSE))","v":""},{"$f":"IF($D183=\"\",\"\",VLOOKUP($D183,Lists!$AP$2:$AS$78,3,FALSE))","v":""}]
[null,{"$f":"IF($D184=\"\",\"\",VLOOKUP($D184,Lists!$AP$2:$AS$78,2,FALSE))","v":""},{"$f":"IF($D184=\"\",\"\",VLOOKUP($D184,Lists!$AP$2:$AS$78,3,FALSE))","v":""}]
[null,{"$f":"IF($D185=\"\",\"\",VLOOKUP($D185,Lists!$AP$2:$AS$78,2,FALSE))","v":""},{"$f":"IF($D185=\"\",\"\",VLOOKUP($D185,Lists!$AP$2:$AS$78,3,FALSE))","v":""}]
[null,{"$f":"IF($D186=\"\",\"\",VLOOKUP($D186,Lists!$AP$2:$AS$78,2,FALSE))","v":""},{"$f":"IF($D186=\"\",\"\",VLOOKUP($D186,Lists!$AP$2:$AS$78,3,FALSE))","v":""}]
[null,{"$f":"IF($D187=\"\",\"\",VLOOKUP($D187,Lists!$AP$2:$AS$78,2,FALSE))","v":""},{"$f":"IF($D187=\"\",\"\",VLOOKUP($D187,Lists!$AP$2:$AS$78,3,FALSE))","v":""}]
[null,{"$f":"IF($D188=\"\",\"\",VLOOKUP($D188,Lists!$AP$2:$AS$78,2,FALSE))","v":""},{"$f":"IF($D188=\"\",\"\",VLOOKUP($D188,Lists!$AP$2:$AS$78,3,FALSE))","v":""}]
[null,{"$f":"IF($D189=\"\",\"\",VLOOKUP($D189,Lists!$AP$2:$AS$78,2,FALSE))","v":""},{"$f":"IF($D189=\"\",\"\",VLOOKUP($D189,Lists!$AP$2:$AS$78,3,FALSE))","v":""}]
[null,{"$f":"IF($D190=\"\",\"\",VLOOKUP($D190,Lists!$AP$2:$AS$78,2,FALSE))","v":""},{"$f":"IF($D190=\"\",\"\",VLOOKUP($D190,Lists!$AP$2:$AS$78,3,FALSE))","v":""}]
[null,{"$f":"IF($D191=\"\",\"\",VLOOKUP($D191,Lists!$AP$2:$AS$78,2,FALSE))","v":""},{"$f":"IF($D191=\"\",\"\",VLOOKUP($D191,Lists!$AP$2:$AS$78,3,FALSE))","v":""}]
[null,{"$f":"IF($D192=\"\",\"\",VLOOKUP($D192,Lists!$AP$2:$AS$78,2,FALSE))","v":""},{"$f":"IF($D192=\"\",\"\",VLOOKUP($D192,Lists!$AP$2:$AS$78,3,FALSE))","v":""}]
[null,{"$f":"IF($D193=\"\",\"\",VLOOKUP($D193,Lists!$AP$2:$AS$78,2,FALSE))","v":""},{"$f":"IF($D193=\"\",\"\",VLOOKUP($D193,Lists!$AP$2:$AS$78,3,FALSE))","v":""}]
[null,{"$f":"IF($D194=\"\",\"\",VLOOKUP($D194,Lists!$AP$2:$AS$78,2,FALSE))","v":""},{"$f":"IF($D194=\"\",\"\",VLOOKUP($D194,Lists!$AP$2:$AS$78,3,FALSE))","v":""}]
[null,{"$f":"IF($D195=\"\",\"\",VLOOKUP($D195,Lists!$AP$2:$AS$78,2,FALSE))","v":""},{"$f":"IF($D195=\"\",\"\",VLOOKUP($D195,Lists!$AP$2:$AS$78,3,FALSE))","v":""}]
[null,{"$f":"IF($D196=\"\",\"\",VLOOKUP($D196,Lists!$AP$2:$AS$78,2,FALSE))","v":""},{"$f":"IF($D196=\"\",\"\",VLOOKUP($D196,Lists!$AP$2:$AS$78,3,FALSE))","v":""}]
[null,{"$f":"IF($D197=\"\",\"\",VLOOKUP($D197,Lists!$AP$2:$AS$78,2,FALSE))","v":""},{"$f":"IF($D197=\"\",\"\",VLOOKUP($D197,Lists!$AP$2:$AS$78,3,FALSE))","v":""}]
[null,{"$f":"IF($D198=\"\",\"\",VLOOKUP($D198,Lists!$AP$2:$AS$78,2,FALSE))","v":""},{"$f":"IF($D198=\"\",\"\",VLOOKUP($D198,Lists!$AP$2:$AS$78,3,FALSE))","v":""}]
[null,{"$f":"IF($D199=\"\",\"\",VLOOKUP($D199,Lists!$AP$2:$AS$78,2,FALSE))","v":""},{"$f":"IF($D199=\"\",\"\",VLOOKUP($D199,Lists!$AP$2:$AS$78,3,FALSE))","v":""}]
[null,{"$f":"IF($D200=\"\",\"\",VLOOKUP($D200,Lists!$AP$2:$AS$78,2,FALSE))","v":""},{"$f":"IF($D200=\"\",\"\",VLOOKUP($D200,Lists!$AP$2:$AS$78,3,FALSE))","v":""}]
[null,{"$f":"IF($D201=\"\",\"\",VLOOKUP($D201,Lists!$AP$2:$AS$78,2,FALSE))","v":""},{"$f":"IF($D201=\"\",\"\",VLOOKUP($D201,Lists!$AP$2:$AS$78,3,FALSE))","v":""}]
[null,{"$f":"IF($D202=\"\",\"\",VLOOKUP($D202,Lists!$AP$2:$AS$78,2,FALSE))","v":""},{"$f":"IF($D202=\"\",\"\",VLOOKUP($D202,Lists!$AP$2:$AS$78,3,FALSE))","v":""}]
[null,{"$f":"IF($D203=\"\",\"\",VLOOKUP($D203,Lists!$AP$2:$AS$78,2,FALSE))","v":""},{"$f":"IF($D203=\"\",\"\",VLOOKUP($D203,Lists!$AP$2:$AS$78,3,FALSE))","v":""}]
[null,{"$f":"IF($D204=\"\",\"\",VLOOKUP($D204,Lists!$AP$2:$AS$78,2,FALSE))","v":""},{"$f":"IF($D204=\"\",\"\",VLOOKUP($D204,Lists!$AP$2:$AS$78,3,FALSE))","v":""}]
[null,{"$f":"IF($D205=\"\",\"\",VLOOKUP($D205,Lists!$AP$2:$AS$78,2,FALSE))","v":""},{"$f":"IF($D205=\"\",\"\",VLOOKUP($D205,Lists!$AP$2:$AS$78,3,FALSE))","v":""}]
[null,{"$f":"IF($D206=\"\",\"\",VLOOKUP($D206,Lists!$AP$2:$AS$78,2,FALSE))","v":""},{"$f":"IF($D206=\"\",\"\",VLOOKUP($D206,Lists!$AP$2:$AS$78,3,FALSE))","v":""}]
[null,{"$f":"IF($D207=\"\",\"\",VLOOKUP($D207,Lists!$AP$2:$AS$78,2,FALSE))","v":""},{"$f":"IF($D207=\"\",\"\",VLOOKUP($D207,Lists!$AP$2:$AS$78,3,FALSE))","v":""}]
[null,{"$f":"IF($D208=\"\",\"\",VLOOKUP($D208,Lists!$AP$2:$AS$78,2,FALSE))","v":""},{"$f":"IF($D208=\"\",\"\",VLOOKUP($D208,Lists!$AP$2:$AS$78,3,FALSE))","v":""}]
[null,{"$f":"IF($D209=\"\",\"\",VLOOKUP($D209,Lists!$AP$2:$AS$78,2,FALSE))","v":""},{"$f":"IF($D209=\"\",\"\",VLOOKUP($D209,Lists!$AP$2:$AS$78,3,FALSE))","v":""}]
[null,{"$f":"IF($D210=\"\",\"\",VLOOKUP($D210,Lists!$AP$2:$AS$78,2,FALSE))","v":""},{"$f":"IF($D210=\"\",\"\",VLOOKUP($D210,Lists!$AP$2:$AS$78,3,FALSE))","v":""}]
[null,{"$f":"IF($D211=\"\",\"\",VLOOKUP($D211,Lists!$AP$2:$AS$78,2,FALSE))","v":""},{"$f":"IF($D211=\"\",\"\",VLOOKUP($D211,Lists!$AP$2:$AS$78,3,FALSE))","v":""}]
[null,{"$f":"IF($D212=\"\",\"\",VLOOKUP($D212,Lists!$AP$2:$AS$78,2,FALSE))","v":""},{"$f":"IF($D212=\"\",\"\",VLOOKUP($D212,Lists!$AP$2:$AS$78,3,FALSE))","v":""}]
[null,{"$f":"IF($D213=\"\",\"\",VLOOKUP($D213,Lists!$AP$2:$AS$78,2,FALSE))","v":""},{"$f":"IF($D213=\"\",\"\",VLOOKUP($D213,Lists!$AP$2:$AS$78,3,FALSE))","v":""}]
[null,{"$f":"IF($D214=\"\",\"\",VLOOKUP($D214,Lists!$AP$2:$AS$78,2,FALSE))","v":""},{"$f":"IF($D214=\"\",\"\",VLOOKUP($D214,Lists!$AP$2:$AS$78,3,FALSE))","v":""}]
[null,{"$f":"IF($D215=\"\",\"\",VLOOKUP($D215,Lists!$AP$2:$AS$78,2,FALSE))","v":""},{"$f":"IF($D215=\"\",\"\",VLOOKUP($D215,Lists!$AP$2:$AS$78,3,FALSE))","v":""}]
[null,{"$f":"IF($D216=\"\",\"\",VLOOKUP($D216,Lists!$AP$2:$AS$78,2,FALSE))","v":""},{"$f":"IF($D216=\"\",\"\",VLOOKUP($D216,Lists!$AP$2:$AS$78,3,FALSE))","v":""}]
[null,{"$f":"IF($D217=\"\",\"\",VLOOKUP($D217,Lists!$AP$2:$AS$78,2,FALSE))","v":""},{"$f":"IF($D217=\"\",\"\",VLOOKUP($D217,Lists!$AP$2:$AS$78,3,FALSE))","v":""}]
[null,{"$f":"IF($D218=\"\",\"\",VLOOKUP($D218,Lists!$AP$2:$AS$78,2,FALSE))","v":""},{"$f":"IF($D218=\"\",\"\",VLOOKUP($D218,Lists!$AP$2:$AS$78,3,FALSE))","v":""}]
[null,{"$f":"IF($D219=\"\",\"\",VLOOKUP($D219,Lists!$AP$2:$AS$78,2,FALSE))","v":""},{"$f":"IF($D219=\"\",\"\",VLOOKUP($D219,Lists!$AP$2:$AS$78,3,FALSE))","v":""}]
[null,{"$f":"IF($D220=\"\",\"\",VLOOKUP($D220,Lists!$AP$2:$AS$78,2,FALSE))","v":""},{"$f":"IF($D220=\"\",\"\",VLOOKUP($D220,Lists!$AP$2:$AS$78,3,FALSE))","v":""}]
[null,{"$f":"IF($D221=\"\",\"\",VLOOKUP($D221,Lists!$AP$2:$AS$78,2,FALSE))","v":""},{"$f":"IF($D221=\"\",\"\",VLOOKUP($D221,Lists!$AP$2:$AS$78,3,FALSE))","v":""}]
[null,{"$f":"IF($D222=\"\",\"\",VLOOKUP($D222,Lists!$AP$2:$AS$78,2,FALSE))","v":""},{"$f":"IF($D222=\"\",\"\",VLOOKUP($D222,Lists!$AP$2:$AS$78,3,FALSE))","v":""}]
[null,{"$f":"IF($D223=\"\",\"\",VLOOKUP($D223,Lists!$AP$2:$AS$78,2,FALSE))","v":""},{"$f":"IF($D223=\"\",\"\",VLOOKUP($D223,Lists!$AP$2:$AS$78,3,FALSE))","v":""}]
[null,{"$f":"IF($D224=\"\",\"\",VLOOKUP($D224,Lists!$AP$2:$AS$78,2,FALSE))","v":""},{"$f":"IF($D224=\"\",\"\",VLOOKUP($D224,Lists!$AP$2:$AS$78,3,FALSE))","v":""}]
[null,{"$f":"IF($D225=\"\",\"\",VLOOKUP($D225,Lists!$AP$2:$AS$78,2,FALSE))","v":""},{"$f":"IF($D225=\"\",\"\",VLOOKUP($D225,Lists!$AP$2:$AS$78,3,FALSE))","v":""}]
[null,{"$f":"IF($D226=\"\",\"\",VLOOKUP($D226,Lists!$AP$2:$AS$78,2,FALSE))","v":""},{"$f":"IF($D226=\"\",\"\",VLOOKUP($D226,Lists!$AP$2:$AS$78,3,FALSE))","v":""}]
[null,{"$f":"IF($D227=\"\",\"\",VLOOKUP($D227,Lists!$AP$2:$AS$78,2,FALSE))","v":""},{"$f":"IF($D227=\"\",\"\",VLOOKUP($D227,Lists!$AP$2:$AS$78,3,FALSE))","v":""}]
[null,{"$f":"IF($D228=\"\",\"\",VLOOKUP($D228,Lists!$AP$2:$AS$78,2,FALSE))","v":""},{"$f":"IF($D228=\"\",\"\",VLOOKUP($D228,Lists!$AP$2:$AS$78,3,FALSE))","v":""}]
[null,{"$f":"IF($D229=\"\",\"\",VLOOKUP($D229,Lists!$AP$2:$AS$78,2,FALSE))","v":""},{"$f":"IF($D229=\"\",\"\",VLOOKUP($D229,Lists!$AP$2:$AS$78,3,FALSE))","v":""}]
[null,{"$f":"IF($D230=\"\",\"\",VLOOKUP($D230,Lists!$AP$2:$AS$78,2,FALSE))","v":""},{"$f":"IF($D230=\"\",\"\",VLOOKUP($D230,Lists!$AP$2:$AS$78,3,FALSE))","v":""}]
[null,{"$f":"IF($D231=\"\",\"\",VLOOKUP($D231,Lists!$AP$2:$AS$78,2,FALSE))","v":""},{"$f":"IF($D231=\"\",\"\",VLOOKUP($D231,Lists!$AP$2:$AS$78,3,FALSE))","v":""}]
[null,{"$f":"IF($D232=\"\",\"\",VLOOKUP($D232,Lists!$AP$2:$AS$78,2,FALSE))","v":""},{"$f":"IF($D232=\"\",\"\",VLOOKUP($D232,Lists!$AP$2:$AS$78,3,FALSE))","v":""}]
[null,{"$f":"IF($D233=\"\",\"\",VLOOKUP($D233,Lists!$AP$2:$AS$78,2,FALSE))","v":""},{"$f":"IF($D233=\"\",\"\",VLOOKUP($D233,Lists!$AP$2:$AS$78,3,FALSE))","v":""}]
[null,{"$f":"IF($D234=\"\",\"\",VLOOKUP($D234,Lists!$AP$2:$AS$78,2,FALSE))","v":""},{"$f":"IF($D234=\"\",\"\",VLOOKUP($D234,Lists!$AP$2:$AS$78,3,FALSE))","v":""}]
[null,{"$f":"IF($D235=\"\",\"\",VLOOKUP($D235,Lists!$AP$2:$AS$78,2,FALSE))","v":""},{"$f":"IF($D235=\"\",\"\",VLOOKUP($D235,Lists!$AP$2:$AS$78,3,FALSE))","v":""}]
[null,{"$f":"IF($D236=\"\",\"\",VLOOKUP($D236,Lists!$AP$2:$AS$78,2,FALSE))","v":""},{"$f":"IF($D236=\"\",\"\",VLOOKUP($D236,Lists!$AP$2:$AS$78,3,FALSE))","v":""}]
[null,{"$f":"IF($D237=\"\",\"\",VLOOKUP($D237,Lists!$AP$2:$AS$78,2,FALSE))","v":""},{"$f":"IF($D237=\"\",\"\",VLOOKUP($D237,Lists!$AP$2:$AS$78,3,FALSE))","v":""}]
[null,{"$f":"IF($D238=\"\",\"\",VLOOKUP($D238,Lists!$AP$2:$AS$78,2,FALSE))","v":""},{"$f":"IF($D238=\"\",\"\",VLOOKUP($D238,Lists!$AP$2:$AS$78,3,FALSE))","v":""}]
[null,{"$f":"IF($D239=\"\",\"\",VLOOKUP($D239,Lists!$AP$2:$AS$78,2,FALSE))","v":""},{"$f":"IF($D239=\"\",\"\",VLOOKUP($D239,Lists!$AP$2:$AS$78,3,FALSE))","v":""}]
[null,{"$f":"IF($D240=\"\",\"\",VLOOKUP($D240,Lists!$AP$2:$AS$78,2,FALSE))","v":""},{"$f":"IF($D240=\"\",\"\",VLOOKUP($D240,Lists!$AP$2:$AS$78,3,FALSE))","v":""}]
[null,{"$f":"IF($D241=\"\",\"\",VLOOKUP($D241,Lists!$AP$2:$AS$78,2,FALSE))","v":""},{"$f":"IF($D241=\"\",\"\",VLOOKUP($D241,Lists!$AP$2:$AS$78,3,FALSE))","v":""}]
[null,{"$f":"IF($D242=\"\",\"\",VLOOKUP($D242,Lists!$AP$2:$AS$78,2,FALSE))","v":""},{"$f":"IF($D242=\"\",\"\",VLOOKUP($D242,Lists!$AP$2:$AS$78,3,FALSE))","v":""}]
[null,{"$f":"IF($D243=\"\",\"\",VLOOKUP($D243,Lists!$AP$2:$AS$78,2,FALSE))","v":""},{"$f":"IF($D243=\"\",\"\",VLOOKUP($D243,Lists!$AP$2:$AS$78,3,FALSE))","v":""}]
[null,{"$f":"IF($D244=\"\",\"\",VLOOKUP($D244,Lists!$AP$2:$AS$78,2,FALSE))","v":""},{"$f":"IF($D244=\"\",\"\",VLOOKUP($D244,Lists!$AP$2:$AS$78,3,FALSE))","v":""}]
[null,{"$f":"IF($D245=\"\",\"\",VLOOKUP($D245,Lists!$AP$2:$AS$78,2,FALSE))","v":""},{"$f":"IF($D245=\"\",\"\",VLOOKUP($D245,Lists!$AP$2:$AS$78,3,FALSE))","v":""}]
[null,{"$f":"IF($D246=\"\",\"\",VLOOKUP($D246,Lists!$AP$2:$AS$78,2,FALSE))","v":""},{"$f":"IF($D246=\"\",\"\",VLOOKUP($D246,Lists!$AP$2:$AS$78,3,FALSE))","v":""}]
[null,{"$f":"IF($D247=\"\",\"\",VLOOKUP($D247,Lists!$AP$2:$AS$78,2,FALSE))","v":""},{"$f":"IF($D247=\"\",\"\",VLOOKUP($D247,Lists!$AP$2:$AS$78,3,FALSE))","v":""}]
[null,{"$f":"IF($D248=\"\",\"\",VLOOKUP($D248,Lists!$AP$2:$AS$78,2,FALSE))","v":""},{"$f":"IF($D248=\"\",\"\",VLOOKUP($D248,Lists!$AP$2:$AS$78,3,FALSE))","v":""}]
[null,{"$f":"IF($D249=\"\",\"\",VLOOKUP($D249,Lists!$AP$2:$AS$78,2,FALSE))","v":""},{"$f":"IF($D249=\"\",\"\",VLOOKUP($D249,Lists!$AP$2:$AS$78,3,FALSE))","v":""}]
[null,{"$f":"IF($D250=\"\",\"\",VLOOKUP($D250,Lists!$AP$2:$AS$78,2,FALSE))","v":""},{"$f":"IF($D250=\"\",\"\",VLOOKUP($D250,Lists!$AP$2:$AS$78,3,FALSE))","v":""}]
[null,{"$f":"IF($D251=\"\",\"\",VLOOKUP($D251,Lists!$AP$2:$AS$78,2,FALSE))","v":""},{"$f":"IF($D251=\"\",\"\",VLOOKUP($D251,Lists!$AP$2:$AS$78,3,FALSE))","v":""}]
[null,{"$f":"IF($D252=\"\",\"\",VLOOKUP($D252,Lists!$AP$2:$AS$78,2,FALSE))","v":""},{"$f":"IF($D252=\"\",\"\",VLOOKUP($D252,Lists!$AP$2:$AS$78,3,FALSE))","v":""}]
[null,{"$f":"IF($D253=\"\",\"\",VLOOKUP($D253,Lists!$AP$2:$AS$78,2,FALSE))","v":""},{"$f":"IF($D253=\"\",\"\",VLOOKUP($D253,Lists!$AP$2:$AS$78,3,FALSE))","v":""}]
[null,{"$f":"IF($D254=\"\",\"\",VLOOKUP($D254,Lists!$AP$2:$AS$78,2,FALSE))","v":""},{"$f":"IF($D254=\"\",\"\",VLOOKUP($D254,Lists!$AP$2:$AS$78,3,FALSE))","v":""}]
[null,{"$f":"IF($D255=\"\",\"\",VLOOKUP($D255,Lists!$AP$2:$AS$78,2,FALSE))","v":""},{"$f":"IF($D255=\"\",\"\",VLOOKUP($D255,Lists!$AP$2:$AS$78,3,FALSE))","v":""}]
[null,{"$f":"IF($D256=\"\",\"\",VLOOKUP($D256,Lists!$AP$2:$AS$78,2,FALSE))","v":""},{"$f":"IF($D256=\"\",\"\",VLOOKUP($D256,Lists!$AP$2:$AS$78,3,FALSE))","v":""}]
[null,{"$f":"IF($D257=\"\",\"\",VLOOKUP($D257,Lists!$AP$2:$AS$78,2,FALSE))","v":""},{"$f":"IF($D257=\"\",\"\",VLOOKUP($D257,Lists!$AP$2:$AS$78,3,FALSE))","v":""}]
[null,{"$f":"IF($D258=\"\",\"\",VLOOKUP($D258,Lists!$AP$2:$AS$78,2,FALSE))","v":""},{"$f":"IF($D258=\"\",\"\",VLOOKUP($D258,Lists!$AP$2:$AS$78,3,FALSE))","v":""}]
[null,{"$f":"IF($D259=\"\",\"\",VLOOKUP($D259,Lists!$AP$2:$AS$78,2,FALSE))","v":""},{"$f":"IF($D259=\"\",\"\",VLOOKUP($D259,Lists!$AP$2:$AS$78,3,FALSE))","v":""}]
[null,{"$f":"IF($D260=\"\",\"\",VLOOKUP($D260,Lists!$AP$2:$AS$78,2,FALSE))","v":""},{"$f":"IF($D260=\"\",\"\",VLOOKUP($D260,Lists!$AP$2:$AS$78,3,FALSE))","v":""}]
[null,{"$f":"IF($D261=\"\",\"\",VLOOKUP($D261,Lists!$AP$2:$AS$78,2,FALSE))","v":""},{"$f":"IF($D261=\"\",\"\",VLOOKUP($D261,Lists!$AP$2:$AS$78,3,FALSE))","v":""}]
[null,{"$f":"IF($D262=\"\",\"\",VLOOKUP($D262,Lists!$AP$2:$AS$78,2,FALSE))","v":""},{"$f":"IF($D262=\"\",\"\",VLOOKUP($D262,Lists!$AP$2:$AS$78,3,FALSE))","v":""}]
[null,{"$f":"IF($D263=\"\",\"\",VLOOKUP($D263,Lists!$AP$2:$AS$78,2,FALSE))","v":""},{"$f":"IF($D263=\"\",\"\",VLOOKUP($D263,Lists!$AP$2:$AS$78,3,FALSE))","v":""}]
[null,{"$f":"IF($D264=\"\",\"\",VLOOKUP($D264,Lists!$AP$2:$AS$78,2,FALSE))","v":""},{"$f":"IF($D264=\"\",\"\",VLOOKUP($D264,Lists!$AP$2:$AS$78,3,FALSE))","v":""}]
[null,{"$f":"IF($D265=\"\",\"\",VLOOKUP($D265,Lists!$AP$2:$AS$78,2,FALSE))","v":""},{"$f":"IF($D265=\"\",\"\",VLOOKUP($D265,Lists!$AP$2:$AS$78,3,FALSE))","v":""}]
[null,{"$f":"IF($D266=\"\",\"\",VLOOKUP($D266,Lists!$AP$2:$AS$78,2,FALSE))","v":""},{"$f":"IF($D266=\"\",\"\",VLOOKUP($D266,Lists!$AP$2:$AS$78,3,FALSE))","v":""}]
[null,{"$f":"IF($D267=\"\",\"\",VLOOKUP($D267,Lists!$AP$2:$AS$78,2,FALSE))","v":""},{"$f":"IF($D267=\"\",\"\",VLOOKUP($D267,Lists!$AP$2:$AS$78,3,FALSE))","v":""}]
[null,{"$f":"IF($D268=\"\",\"\",VLOOKUP($D268,Lists!$AP$2:$AS$78,2,FALSE))","v":""},{"$f":"IF($D268=\"\",\"\",VLOOKUP($D268,Lists!$AP$2:$AS$78,3,FALSE))","v":""}]
[null,{"$f":"IF($D269=\"\",\"\",VLOOKUP($D269,Lists!$AP$2:$AS$78,2,FALSE))","v":""},{"$f":"IF($D269=\"\",\"\",VLOOKUP($D269,Lists!$AP$2:$AS$78,3,FALSE))","v":""}]
[null,{"$f":"IF($D270=\"\",\"\",VLOOKUP($D270,Lists!$AP$2:$AS$78,2,FALSE))","v":""},{"$f":"IF($D270=\"\",\"\",VLOOKUP($D270,Lists!$AP$2:$AS$78,3,FALSE))","v":""}]
[null,{"$f":"IF($D271=\"\",\"\",VLOOKUP($D271,Lists!$AP$2:$AS$78,2,FALSE))","v":""},{"$f":"IF($D271=\"\",\"\",VLOOKUP($D271,Lists!$AP$2:$AS$78,3,FALSE))","v":""}]
[null,{"$f":"IF($D272=\"\",\"\",VLOOKUP($D272,Lists!$AP$2:$AS$78,2,FALSE))","v":""},{"$f":"IF($D272=\"\",\"\",VLOOKUP($D272,Lists!$AP$2:$AS$78,3,FALSE))","v":""}]
[null,{"$f":"IF($D273=\"\",\"\",VLOOKUP($D273,Lists!$AP$2:$AS$78,2,FALSE))","v":""},{"$f":"IF($D273=\"\",\"\",VLOOKUP($D273,Lists!$AP$2:$AS$78,3,FALSE))","v":""}]
[null,{"$f":"IF($D274=\"\",\"\",VLOOKUP($D274,Lists!$AP$2:$AS$78,2,FALSE))","v":""},{"$f":"IF($D274=\"\",\"\",VLOOKUP($D274,Lists!$AP$2:$AS$78,3,FALSE))","v":""}]
[null,{"$f":"IF($D275=\"\",\"\",VLOOKUP($D275,Lists!$AP$2:$AS$78,2,FALSE))","v":""},{"$f":"IF($D275=\"\",\"\",VLOOKUP($D275,Lists!$AP$2:$AS$78,3,FALSE))","v":""}]
[null,{"$f":"IF($D276=\"\",\"\",VLOOKUP($D276,Lists!$AP$2:$AS$78,2,FALSE))","v":""},{"$f":"IF($D276=\"\",\"\",VLOOKUP($D276,Lists!$AP$2:$AS$78,3,FALSE))","v":""}]
[null,{"$f":"IF($D277=\"\",\"\",VLOOKUP($D277,Lists!$AP$2:$AS$78,2,FALSE))","v":""},{"$f":"IF($D277=\"\",\"\",VLOOKUP($D277,Lists!$AP$2:$AS$78,3,FALSE))","v":""}]
[null,{"$f":"IF($D278=\"\",\"\",VLOOKUP($D278,Lists!$AP$2:$AS$78,2,FALSE))","v":""},{"$f":"IF($D278=\"\",\"\",VLOOKUP($D278,Lists!$AP$2:$AS$78,3,FALSE))","v":""}]
[null,{"$f":"IF($D279=\"\",\"\",VLOOKUP($D279,Lists!$AP$2:$AS$78,2,FALSE))","v":""},{"$f":"IF($D279=\"\",\"\",VLOOKUP($D279,Lists!$AP$2:$AS$78,3,FALSE))","v":""}]
[null,{"$f":"IF($D280=\"\",\"\",VLOOKUP($D280,Lists!$AP$2:$AS$78,2,FALSE))","v":""},{"$f":"IF($D280=\"\",\"\",VLOOKUP($D280,Lists!$AP$2:$AS$78,3,FALSE))","v":""}]
[null,{"$f":"IF($D281=\"\",\"\",VLOOKUP($D281,Lists!$AP$2:$AS$78,2,FALSE))","v":""},{"$f":"IF($D281=\"\",\"\",VLOOKUP($D281,Lists!$AP$2:$AS$78,3,FALSE))","v":""}]
[null,{"$f":"IF($D282=\"\",\"\",VLOOKUP($D282,Lists!$AP$2:$AS$78,2,FALSE))","v":""},{"$f":"IF($D282=\"\",\"\",VLOOKUP($D282,Lists!$AP$2:$AS$78,3,FALSE))","v":""}]
[null,{"$f":"IF($D283=\"\",\"\",VLOOKUP($D283,Lists!$AP$2:$AS$78,2,FALSE))","v":""},{"$f":"IF($D283=\"\",\"\",VLOOKUP($D283,Lists!$AP$2:$AS$78,3,FALSE))","v":""}]
[null,{"$f":"IF($D284=\"\",\"\",VLOOKUP($D284,Lists!$AP$2:$AS$78,2,FALSE))","v":""},{"$f":"IF($D284=\"\",\"\",VLOOKUP($D284,Lists!$AP$2:$AS$78,3,FALSE))","v":""}]
[null,{"$f":"IF($D285=\"\",\"\",VLOOKUP($D285,Lists!$AP$2:$AS$78,2,FALSE))","v":""},{"$f":"IF($D285=\"\",\"\",VLOOKUP($D285,Lists!$AP$2:$AS$78,3,FALSE))","v":""}]
[null,{"$f":"IF($D286=\"\",\"\",VLOOKUP($D286,Lists!$AP$2:$AS$78,2,FALSE))","v":""},{"$f":"IF($D286=\"\",\"\",VLOOKUP($D286,Lists!$AP$2:$AS$78,3,FALSE))","v":""}]
[null,{"$f":"IF($D287=\"\",\"\",VLOOKUP($D287,Lists!$AP$2:$AS$78,2,FALSE))","v":""},{"$f":"IF($D287=\"\",\"\",VLOOKUP($D287,Lists!$AP$2:$AS$78,3,FALSE))","v":""}]
[null,{"$f":"IF($D288=\"\",\"\",VLOOKUP($D288,Lists!$AP$2:$AS$78,2,FALSE))","v":""},{"$f":"IF($D288=\"\",\"\",VLOOKUP($D288,Lists!$AP$2:$AS$78,3,FALSE))","v":""}]
[null,{"$f":"IF($D289=\"\",\"\",VLOOKUP($D289,Lists!$AP$2:$AS$78,2,FALSE))","v":""},{"$f":"IF($D289=\"\",\"\",VLOOKUP($D289,Lists!$AP$2:$AS$78,3,FALSE))","v":""}]
[null,{"$f":"IF($D290=\"\",\"\",VLOOKUP($D290,Lists!$AP$2:$AS$78,2,FALSE))","v":""},{"$f":"IF($D290=\"\",\"\",VLOOKUP($D290,Lists!$AP$2:$AS$78,3,FALSE))","v":""}]
[null,{"$f":"IF($D291=\"\",\"\",VLOOKUP($D291,Lists!$AP$2:$AS$78,2,FALSE))","v":""},{"$f":"IF($D291=\"\",\"\",VLOOKUP($D291,Lists!$AP$2:$AS$78,3,FALSE))","v":""}]
[null,{"$f":"IF($D292=\"\",\"\",VLOOKUP($D292,Lists!$AP$2:$AS$78,2,FALSE))","v":""},{"$f":"IF($D292=\"\",\"\",VLOOKUP($D292,Lists!$AP$2:$AS$78,3,FALSE))","v":""}]
[null,{"$f":"IF($D293=\"\",\"\",VLOOKUP($D293,Lists!$AP$2:$AS$78,2,FALSE))","v":""},{"$f":"IF($D293=\"\",\"\",VLOOKUP($D293,Lists!$AP$2:$AS$78,3,FALSE))","v":""}]
[null,{"$f":"IF($D294=\"\",\"\",VLOOKUP($D294,Lists!$AP$2:$AS$78,2,FALSE))","v":""},{"$f":"IF($D294=\"\",\"\",VLOOKUP($D294,Lists!$AP$2:$AS$78,3,FALSE))","v":""}]
[null,{"$f":"IF($D295=\"\",\"\",VLOOKUP($D295,Lists!$AP$2:$AS$78,2,FALSE))","v":""},{"$f":"IF($D295=\"\",\"\",VLOOKUP($D295,Lists!$AP$2:$AS$78,3,FALSE))","v":""}]
[null,{"$f":"IF($D296=\"\",\"\",VLOOKUP($D296,Lists!$AP$2:$AS$78,2,FALSE))","v":""},{"$f":"IF($D296=\"\",\"\",VLOOKUP($D296,Lists!$AP$2:$AS$78,3,FALSE))","v":""}]
[null,{"$f":"IF($D297=\"\",\"\",VLOOKUP($D297,Lists!$AP$2:$AS$78,2,FALSE))","v":""},{"$f":"IF($D297=\"\",\"\",VLOOKUP($D297,Lists!$AP$2:$AS$78,3,FALSE))","v":""}]
[null,{"$f":"IF($D298=\"\",\"\",VLOOKUP($D298,Lists!$AP$2:$AS$78,2,FALSE))","v":""},{"$f":"IF($D298=\"\",\"\",VLOOKUP($D298,Lists!$AP$2:$AS$78,3,FALSE))","v":""}]
[null,{"$f":"IF($D299=\"\",\"\",VLOOKUP($D299,Lists!$AP$2:$AS$78,2,FALSE))","v":""},{"$f":"IF($D299=\"\",\"\",VLOOKUP($D299,Lists!$AP$2:$AS$78,3,FALSE))","v":""}]
[null,{"$f":"IF($D300=\"\",\"\",VLOOKUP($D300,Lists!$AP$2:$AS$78,2,FALSE))","v":""},{"$f":"IF($D300=\"\",\"\",VLOOKUP($D300,Lists!$AP$2:$AS$78,3,FALSE))","v":""}]
[null,{"$f":"IF($D301=\"\",\"\",VLOOKUP($D301,Lists!$AP$2:$AS$78,2,FALSE))","v":""},{"$f":"IF($D301=\"\",\"\",VLOOKUP($D301,Lists!$AP$2:$AS$78,3,FALSE))","v":""}]
[null,{"$f":"IF($D302=\"\",\"\",VLOOKUP($D302,Lists!$AP$2:$AS$78,2,FALSE))","v":""},{"$f":"IF($D302=\"\",\"\",VLOOKUP($D302,Lists!$AP$2:$AS$78,3,FALSE))","v":""}]
[null,{"$f":"IF($D303=\"\",\"\",VLOOKUP($D303,Lists!$AP$2:$AS$78,2,FALSE))","v":""},{"$f":"IF($D303=\"\",\"\",VLOOKUP($D303,Lists!$AP$2:$AS$78,3,FALSE))","v":""}]
[null,{"$f":"IF($D304=\"\",\"\",VLOOKUP($D304,Lists!$AP$2:$AS$78,2,FALSE))","v":""},{"$f":"IF($D304=\"\",\"\",VLOOKUP($D304,Lists!$AP$2:$AS$78,3,FALSE))","v":""}]
[null,{"$f":"IF($D305=\"\",\"\",VLOOKUP($D305,Lists!$AP$2:$AS$78,2,FALSE))","v":""},{"$f":"IF($D305=\"\",\"\",VLOOKUP($D305,Lists!$AP$2:$AS$78,3,FALSE))","v":""}]
[null,{"$f":"IF($D306=\"\",\"\",VLOOKUP($D306,Lists!$AP$2:$AS$78,2,FALSE))","v":""},{"$f":"IF($D306=\"\",\"\",VLOOKUP($D306,Lists!$AP$2:$AS$78,3,FALSE))","v":""}]
[null,{"$f":"IF($D307=\"\",\"\",VLOOKUP($D307,Lists!$AP$2:$AS$78,2,FALSE))","v":""},{"$f":"IF($D307=\"\",\"\",VLOOKUP($D307,Lists!$AP$2:$AS$78,3,FALSE))","v":""}]
[null,{"$f":"IF($D308=\"\",\"\",VLOOKUP($D308,Lists!$AP$2:$AS$78,2,FALSE))","v":""},{"$f":"IF($D308=\"\",\"\",VLOOKUP($D308,Lists!$AP$2:$AS$78,3,FALSE))","v":""}]
[null,{"$f":"IF($D309=\"\",\"\",VLOOKUP($D309,Lists!$AP$2:$AS$78,2,FALSE))","v":""},{"$f":"IF($D309=\"\",\"\",VLOOKUP($D309,Lists!$AP$2:$AS$78,3,FALSE))","v":""}]
[null,{"$f":"IF($D310=\"\",\"\",VLOOKUP($D310,Lists!$AP$2:$AS$78,2,FALSE))","v":""},{"$f":"IF($D310=\"\",\"\",VLOOKUP($D310,Lists!$AP$2:$AS$78,3,FALSE))","v":""}]
[null,{"$f":"IF($D311=\"\",\"\",VLOOKUP($D311,Lists!$AP$2:$AS$78,2,FALSE))","v":""},{"$f":"IF($D311=\"\",\"\",VLOOKUP($D311,Lists!$AP$2:$AS$78,3,FALSE))","v":""}]
[null,{"$f":"IF($D312=\"\",\"\",VLOOKUP($D312,Lists!$AP$2:$AS$78,2,FALSE))","v":""},{"$f":"IF($D312=\"\",\"\",VLOOKUP($D312,Lists!$AP$2:$AS$78,3,FALSE))","v":""}]
[null,{"$f":"IF($D313=\"\",\"\",VLOOKUP($D313,Lists!$AP$2:$AS$78,2,FALSE))","v":""},{"$f":"IF($D313=\"\",\"\",VLOOKUP($D313,Lists!$AP$2:$AS$78,3,FALSE))","v":""}]
[null,{"$f":"IF($D314=\"\",\"\",VLOOKUP($D314,Lists!$AP$2:$AS$78,2,FALSE))","v":""},{"$f":"IF($D314=\"\",\"\",VLOOKUP($D314,Lists!$AP$2:$AS$78,3,FALSE))","v":""}]
[null,{"$f":"IF($D315=\"\",\"\",VLOOKUP($D315,Lists!$AP$2:$AS$78,2,FALSE))","v":""},{"$f":"IF($D315=\"\",\"\",VLOOKUP($D315,Lists!$AP$2:$AS$78,3,FALSE))","v":""}]
[null,{"$f":"IF($D316=\"\",\"\",VLOOKUP($D316,Lists!$AP$2:$AS$78,2,FALSE))","v":""},{"$f":"IF($D316=\"\",\"\",VLOOKUP($D316,Lists!$AP$2:$AS$78,3,FALSE))","v":""}]
[null,{"$f":"IF($D317=\"\",\"\",VLOOKUP($D317,Lists!$AP$2:$AS$78,2,FALSE))","v":""},{"$f":"IF($D317=\"\",\"\",VLOOKUP($D317,Lists!$AP$2:$AS$78,3,FALSE))","v":""}]
[null,{"$f":"IF($D318=\"\",\"\",VLOOKUP($D318,Lists!$AP$2:$AS$78,2,FALSE))","v":""},{"$f":"IF($D318=\"\",\"\",VLOOKUP($D318,Lists!$AP$2:$AS$78,3,FALSE))","v":""}]
[null,{"$f":"IF($D319=\"\",\"\",VLOOKUP($D319,Lists!$AP$2:$AS$78,2,FALSE))","v":""},{"$f":"IF($D319=\"\",\"\",VLOOKUP($D319,Lists!$AP$2:$AS$78,3,FALSE))","v":""}]
[null,{"$f":"IF($D320=\"\",\"\",VLOOKUP($D320,Lists!$AP$2:$AS$78,2,FALSE))","v":""},{"$f":"IF($D320=\"\",\"\",VLOOKUP($D320,Lists!$AP$2:$AS$78,3,FALSE))","v":""}]
[null,{"$f":"IF($D321=\"\",\"\",VLOOKUP($D321,Lists!$AP$2:$AS$78,2,FALSE))","v":""},{"$f":"IF($D321=\"\",\"\",VLOOKUP($D321,Lists!$AP$2:$AS$78,3,FALSE))","v":""}]
[null,{"$f":"IF($D322=\"\",\"\",VLOOKUP($D322,Lists!$AP$2:$AS$78,2,FALSE))","v":""},{"$f":"IF($D322=\"\",\"\",VLOOKUP($D322,Lists!$AP$2:$AS$78,3,FALSE))","v":""}]
[null,{"$f":"IF($D323=\"\",\"\",VLOOKUP($D323,Lists!$AP$2:$AS$78,2,FALSE))","v":""},{"$f":"IF($D323=\"\",\"\",VLOOKUP($D323,Lists!$AP$2:$AS$78,3,FALSE))","v":""}]
[null,{"$f":"IF($D324=\"\",\"\",VLOOKUP($D324,Lists!$AP$2:$AS$78,2,FALSE))","v":""},{"$f":"IF($D324=\"\",\"\",VLOOKUP($D324,Lists!$AP$2:$AS$78,3,FALSE))","v":""}]
[null,{"$f":"IF($D325=\"\",\"\",VLOOKUP($D325,Lists!$AP$2:$AS$78,2,FALSE))","v":""},{"$f":"IF($D325=\"\",\"\",VLOOKUP($D325,Lists!$AP$2:$AS$78,3,FALSE))","v":""}]
[null,{"$f":"IF($D326=\"\",\"\",VLOOKUP($D326,Lists!$AP$2:$AS$78,2,FALSE))","v":""},{"$f":"IF($D326=\"\",\"\",VLOOKUP($D326,Lists!$AP$2:$AS$78,3,FALSE))","v":""}]
[null,{"$f":"IF($D327=\"\",\"\",VLOOKUP($D327,Lists!$AP$2:$AS$78,2,FALSE))","v":""},{"$f":"IF($D327=\"\",\"\",VLOOKUP($D327,Lists!$AP$2:$AS$78,3,FALSE))","v":""}]
[null,{"$f":"IF($D328=\"\",\"\",VLOOKUP($D328,Lists!$AP$2:$AS$78,2,FALSE))","v":""},{"$f":"IF($D328=\"\",\"\",VLOOKUP($D328,Lists!$AP$2:$AS$78,3,FALSE))","v":""}]
[null,{"$f":"IF($D329=\"\",\"\",VLOOKUP($D329,Lists!$AP$2:$AS$78,2,FALSE))","v":""},{"$f":"IF($D329=\"\",\"\",VLOOKUP($D329,Lists!$AP$2:$AS$78,3,FALSE))","v":""}]
[null,{"$f":"IF($D330=\"\",\"\",VLOOKUP($D330,Lists!$AP$2:$AS$78,2,FALSE))","v":""},{"$f":"IF($D330=\"\",\"\",VLOOKUP($D330,Lists!$AP$2:$AS$78,3,FALSE))","v":""}]
[null,{"$f":"IF($D331=\"\",\"\",VLOOKUP($D331,Lists!$AP$2:$AS$78,2,FALSE))","v":""},{"$f":"IF($D331=\"\",\"\",VLOOKUP($D331,Lists!$AP$2:$AS$78,3,FALSE))","v":""}]
[null,{"$f":"IF($D332=\"\",\"\",VLOOKUP($D332,Lists!$AP$2:$AS$78,2,FALSE))","v":""},{"$f":"IF($D332=\"\",\"\",VLOOKUP($D332,Lists!$AP$2:$AS$78,3,FALSE))","v":""}]
[null,{"$f":"IF($D333=\"\",\"\",VLOOKUP($D333,Lists!$AP$2:$AS$78,2,FALSE))","v":""},{"$f":"IF($D333=\"\",\"\",VLOOKUP($D333,Lists!$AP$2:$AS$78,3,FALSE))","v":""}]
[null,{"$f":"IF($D334=\"\",\"\",VLOOKUP($D334,Lists!$AP$2:$AS$78,2,FALSE))","v":""},{"$f":"IF($D334=\"\",\"\",VLOOKUP($D334,Lists!$AP$2:$AS$78,3,FALSE))","v":""}]
[null,{"$f":"IF($D335=\"\",\"\",VLOOKUP($D335,Lists!$AP$2:$AS$78,2,FALSE))","v":""},{"$f":"IF($D335=\"\",\"\",VLOOKUP($D335,Lists!$AP$2:$AS$78,3,FALSE))","v":""}]
[null,{"$f":"IF($D336=\"\",\"\",VLOOKUP($D336,Lists!$AP$2:$AS$78,2,FALSE))","v":""},{"$f":"IF($D336=\"\",\"\",VLOOKUP($D336,Lists!$AP$2:$AS$78,3,FALSE))","v":""}]
[null,{"$f":"IF($D337=\"\",\"\",VLOOKUP($D337,Lists!$AP$2:$AS$78,2,FALSE))","v":""},{"$f":"IF($D337=\"\",\"\",VLOOKUP($D337,Lists!$AP$2:$AS$78,3,FALSE))","v":""}]
[null,{"$f":"IF($D338=\"\",\"\",VLOOKUP($D338,Lists!$AP$2:$AS$78,2,FALSE))","v":""},{"$f":"IF($D338=\"\",\"\",VLOOKUP($D338,Lists!$AP$2:$AS$78,3,FALSE))","v":""}]
[null,{"$f":"IF($D339=\"\",\"\",VLOOKUP($D339,Lists!$AP$2:$AS$78,2,FALSE))","v":""},{"$f":"IF($D339=\"\",\"\",VLOOKUP($D339,Lists!$AP$2:$AS$78,3,FALSE))","v":""}]
[null,{"$f":"IF($D340=\"\",\"\",VLOOKUP($D340,Lists!$AP$2:$AS$78,2,FALSE))","v":""},{"$f":"IF($D340=\"\",\"\",VLOOKUP($D340,Lists!$AP$2:$AS$78,3,FALSE))","v":""}]
[null,{"$f":"IF($D341=\"\",\"\",VLOOKUP($D341,Lists!$AP$2:$AS$78,2,FALSE))","v":""},{"$f":"IF($D341=\"\",\"\",VLOOKUP($D341,Lists!$AP$2:$AS$78,3,FALSE))","v":""}]
[null,{"$f":"IF($D342=\"\",\"\",VLOOKUP($D342,Lists!$AP$2:$AS$78,2,FALSE))","v":""},{"$f":"IF($D342=\"\",\"\",VLOOKUP($D342,Lists!$AP$2:$AS$78,3,FALSE))","v":""}]
[null,{"$f":"IF($D343=\"\",\"\",VLOOKUP($D343,Lists!$AP$2:$AS$78,2,FALSE))","v":""},{"$f":"IF($D343=\"\",\"\",VLOOKUP($D343,Lists!$AP$2:$AS$78,3,FALSE))","v":""}]
[null,{"$f":"IF($D344=\"\",\"\",VLOOKUP($D344,Lists!$AP$2:$AS$78,2,FALSE))","v":""},{"$f":"IF($D344=\"\",\"\",VLOOKUP($D344,Lists!$AP$2:$AS$78,3,FALSE))","v":""}]
[null,{"$f":"IF($D345=\"\",\"\",VLOOKUP($D345,Lists!$AP$2:$AS$78,2,FALSE))","v":""},{"$f":"IF($D345=\"\",\"\",VLOOKUP($D345,Lists!$AP$2:$AS$78,3,FALSE))","v":""}]
[null,{"$f":"IF($D346=\"\",\"\",VLOOKUP($D346,Lists!$AP$2:$AS$78,2,FALSE))","v":""},{"$f":"IF($D346=\"\",\"\",VLOOKUP($D346,Lists!$AP$2:$AS$78,3,FALSE))","v":""}]
[null,{"$f":"IF($D347=\"\",\"\",VLOOKUP($D347,Lists!$AP$2:$AS$78,2,FALSE))","v":""},{"$f":"IF($D347=\"\",\"\",VLOOKUP($D347,Lists!$AP$2:$AS$78,3,FALSE))","v":""}]
[null,{"$f":"IF($D348=\"\",\"\",VLOOKUP($D348,Lists!$AP$2:$AS$78,2,FALSE))","v":""},{"$f":"IF($D348=\"\",\"\",VLOOKUP($D348,Lists!$AP$2:$AS$78,3,FALSE))","v":""}]
[null,{"$f":"IF($D349=\"\",\"\",VLOOKUP($D349,Lists!$AP$2:$AS$78,2,FALSE))","v":""},{"$f":"IF($D349=\"\",\"\",VLOOKUP($D349,Lists!$AP$2:$AS$78,3,FALSE))","v":""}]
[null,{"$f":"IF($D350=\"\",\"\",VLOOKUP($D350,Lists!$AP$2:$AS$78,2,FALSE))","v":""},{"$f":"IF($D350=\"\",\"\",VLOOKUP($D350,Lists!$AP$2:$AS$78,3,FALSE))","v":""}]
[null,{"$f":"IF($D351=\"\",\"\",VLOOKUP($D351,Lists!$AP$2:$AS$78,2,FALSE))","v":""},{"$f":"IF($D351=\"\",\"\",VLOOKUP($D351,Lists!$AP$2:$AS$78,3,FALSE))","v":""}]
[null,{"$f":"IF($D352=\"\",\"\",VLOOKUP($D352,Lists!$AP$2:$AS$78,2,FALSE))","v":""},{"$f":"IF($D352=\"\",\"\",VLOOKUP($D352,Lists!$AP$2:$AS$78,3,FALSE))","v":""}]
[null,{"$f":"IF($D353=\"\",\"\",VLOOKUP($D353,Lists!$AP$2:$AS$78,2,FALSE))","v":""},{"$f":"IF($D353=\"\",\"\",VLOOKUP($D353,Lists!$AP$2:$AS$78,3,FALSE))","v":""}]
[null,{"$f":"IF($D354=\"\",\"\",VLOOKUP($D354,Lists!$AP$2:$AS$78,2,FALSE))","v":""},{"$f":"IF($D354=\"\",\"\",VLOOKUP($D354,Lists!$AP$2:$AS$78,3,FALSE))","v":""}]
[null,{"$f":"IF($D355=\"\",\"\",VLOOKUP($D355,Lists!$AP$2:$AS$78,2,FALSE))","v":""},{"$f":"IF($D355=\"\",\"\",VLOOKUP($D355,Lists!$AP$2:$AS$78,3,FALSE))","v":""}]
[null,{"$f":"IF($D356=\"\",\"\",VLOOKUP($D356,Lists!$AP$2:$AS$78,2,FALSE))","v":""},{"$f":"IF($D356=\"\",\"\",VLOOKUP($D356,Lists!$AP$2:$AS$78,3,FALSE))","v":""}]
[null,{"$f":"IF($D357=\"\",\"\",VLOOKUP($D357,Lists!$AP$2:$AS$78,2,FALSE))","v":""},{"$f":"IF($D357=\"\",\"\",VLOOKUP($D357,Lists!$AP$2:$AS$78,3,FALSE))","v":""}]
[null,{"$f":"IF($D358=\"\",\"\",VLOOKUP($D358,Lists!$AP$2:$AS$78,2,FALSE))","v":""},{"$f":"IF($D358=\"\",\"\",VLOOKUP($D358,Lists!$AP$2:$AS$78,3,FALSE))","v":""}]
[null,{"$f":"IF($D359=\"\",\"\",VLOOKUP($D359,Lists!$AP$2:$AS$78,2,FALSE))","v":""},{"$f":"IF($D359=\"\",\"\",VLOOKUP($D359,Lists!$AP$2:$AS$78,3,FALSE))","v":""}]
[null,{"$f":"IF($D360=\"\",\"\",VLOOKUP($D360,Lists!$AP$2:$AS$78,2,FALSE))","v":""},{"$f":"IF($D360=\"\",\"\",VLOOKUP($D360,Lists!$AP$2:$AS$78,3,FALSE))","v":""}]
[null,{"$f":"IF($D361=\"\",\"\",VLOOKUP($D361,Lists!$AP$2:$AS$78,2,FALSE))","v":""},{"$f":"IF($D361=\"\",\"\",VLOOKUP($D361,Lists!$AP$2:$AS$78,3,FALSE))","v":""}]
[null,{"$f":"IF($D362=\"\",\"\",VLOOKUP($D362,Lists!$AP$2:$AS$78,2,FALSE))","v":""},{"$f":"IF($D362=\"\",\"\",VLOOKUP($D362,Lists!$AP$2:$AS$78,3,FALSE))","v":""}]
[null,{"$f":"IF($D363=\"\",\"\",VLOOKUP($D363,Lists!$AP$2:$AS$78,2,FALSE))","v":""},{"$f":"IF($D363=\"\",\"\",VLOOKUP($D363,Lists!$AP$2:$AS$78,3,FALSE))","v":""}]
[null,{"$f":"IF($D364=\"\",\"\",VLOOKUP($D364,Lists!$AP$2:$AS$78,2,FALSE))","v":""},{"$f":"IF($D364=\"\",\"\",VLOOKUP($D364,Lists!$AP$2:$AS$78,3,FALSE))","v":""}]
[null,{"$f":"IF($D365=\"\",\"\",VLOOKUP($D365,Lists!$AP$2:$AS$78,2,FALSE))","v":""},{"$f":"IF($D365=\"\",\"\",VLOOKUP($D365,Lists!$AP$2:$AS$78,3,FALSE))","v":""}]
[null,{"$f":"IF($D366=\"\",\"\",VLOOKUP($D366,Lists!$AP$2:$AS$78,2,FALSE))","v":""},{"$f":"IF($D366=\"\",\"\",VLOOKUP($D366,Lists!$AP$2:$AS$78,3,FALSE))","v":""}]
[null,{"$f":"IF($D367=\"\",\"\",VLOOKUP($D367,Lists!$AP$2:$AS$78,2,FALSE))","v":""},{"$f":"IF($D367=\"\",\"\",VLOOKUP($D367,Lists!$AP$2:$AS$78,3,FALSE))","v":""}]
[null,{"$f":"IF($D368=\"\",\"\",VLOOKUP($D368,Lists!$AP$2:$AS$78,2,FALSE))","v":""},{"$f":"IF($D368=\"\",\"\",VLOOKUP($D368,Lists!$AP$2:$AS$78,3,FALSE))","v":""}]
[null,{"$f":"IF($D369=\"\",\"\",VLOOKUP($D369,Lists!$AP$2:$AS$78,2,FALSE))","v":""},{"$f":"IF($D369=\"\",\"\",VLOOKUP($D369,Lists!$AP$2:$AS$78,3,FALSE))","v":""}]
[null,{"$f":"IF($D370=\"\",\"\",VLOOKUP($D370,Lists!$AP$2:$AS$78,2,FALSE))","v":""},{"$f":"IF($D370=\"\",\"\",VLOOKUP($D370,Lists!$AP$2:$AS$78,3,FALSE))","v":""}]
[null,{"$f":"IF($D371=\"\",\"\",VLOOKUP($D371,Lists!$AP$2:$AS$78,2,FALSE))","v":""},{"$f":"IF($D371=\"\",\"\",VLOOKUP($D371,Lists!$AP$2:$AS$78,3,FALSE))","v":""}]
[null,{"$f":"IF($D372=\"\",\"\",VLOOKUP($D372,Lists!$AP$2:$AS$78,2,FALSE))","v":""},{"$f":"IF($D372=\"\",\"\",VLOOKUP($D372,Lists!$AP$2:$AS$78,3,FALSE))","v":""}]
[null,{"$f":"IF($D373=\"\",\"\",VLOOKUP($D373,Lists!$AP$2:$AS$78,2,FALSE))","v":""},{"$f":"IF($D373=\"\",\"\",VLOOKUP($D373,Lists!$AP$2:$AS$78,3,FALSE))","v":""}]
[null,{"$f":"IF($D374=\"\",\"\",VLOOKUP($D374,Lists!$AP$2:$AS$78,2,FALSE))","v":""},{"$f":"IF($D374=\"\",\"\",VLOOKUP($D374,Lists!$AP$2:$AS$78,3,FALSE))","v":""}]
[null,{"$f":"IF($D375=\"\",\"\",VLOOKUP($D375,Lists!$AP$2:$AS$78,2,FALSE))","v":""},{"$f":"IF($D375=\"\",\"\",VLOOKUP($D375,Lists!$AP$2:$AS$78,3,FALSE))","v":""}]
[null,{"$f":"IF($D376=\"\",\"\",VLOOKUP($D376,Lists!$AP$2:$AS$78,2,FALSE))","v":""},{"$f":"IF($D376=\"\",\"\",VLOOKUP($D376,Lists!$AP$2:$AS$78,3,FALSE))","v":""}]
[null,{"$f":"IF($D377=\"\",\"\",VLOOKUP($D377,Lists!$AP$2:$AS$78,2,FALSE))","v":""},{"$f":"IF($D377=\"\",\"\",VLOOKUP($D377,Lists!$AP$2:$AS$78,3,FALSE))","v":""}]
[null,{"$f":"IF($D378=\"\",\"\",VLOOKUP($D378,Lists!$AP$2:$AS$78,2,FALSE))","v":""},{"$f":"IF($D378=\"\",\"\",VLOOKUP($D378,Lists!$AP$2:$AS$78,3,FALSE))","v":""}]
[null,{"$f":"IF($D379=\"\",\"\",VLOOKUP($D379,Lists!$AP$2:$AS$78,2,FALSE))","v":""},{"$f":"IF($D379=\"\",\"\",VLOOKUP($D379,Lists!$AP$2:$AS$78,3,FALSE))","v":""}]
[null,{"$f":"IF($D380=\"\",\"\",VLOOKUP($D380,Lists!$AP$2:$AS$78,2,FALSE))","v":""},{"$f":"IF($D380=\"\",\"\",VLOOKUP($D380,Lists!$AP$2:$AS$78,3,FALSE))","v":""}]
[null,{"$f":"IF($D381=\"\",\"\",VLOOKUP($D381,Lists!$AP$2:$AS$78,2,FALSE))","v":""},{"$f":"IF($D381=\"\",\"\",VLOOKUP($D381,Lists!$AP$2:$AS$78,3,FALSE))","v":""}]
[null,{"$f":"IF($D382=\"\",\"\",VLOOKUP($D382,Lists!$AP$2:$AS$78,2,FALSE))","v":""},{"$f":"IF($D382=\"\",\"\",VLOOKUP($D382,Lists!$AP$2:$AS$78,3,FALSE))","v":""}]
[null,{"$f":"IF($D383=\"\",\"\",VLOOKUP($D383,Lists!$AP$2:$AS$78,2,FALSE))","v":""},{"$f":"IF($D383=\"\",\"\",VLOOKUP($D383,Lists!$AP$2:$AS$78,3,FALSE))","v":""}]
[null,{"$f":"IF($D384=\"\",\"\",VLOOKUP($D384,Lists!$AP$2:$AS$78,2,FALSE))","v":""},{"$f":"IF($D384=\"\",\"\",VLOOKUP($D384,Lists!$AP$2:$AS$78,3,FALSE))","v":""}]
[null,{"$f":"IF($D385=\"\",\"\",VLOOKUP($D385,Lists!$AP$2:$AS$78,2,FALSE))","v":""},{"$f":"IF($D385=\"\",\"\",VLOOKUP($D385,Lists!$AP$2:$AS$78,3,FALSE))","v":""}]
[null,{"$f":"IF($D386=\"\",\"\",VLOOKUP($D386,Lists!$AP$2:$AS$78,2,FALSE))","v":""},{"$f":"IF($D386=\"\",\"\",VLOOKUP($D386,Lists!$AP$2:$AS$78,3,FALSE))","v":""}]
[null,{"$f":"IF($D387=\"\",\"\",VLOOKUP($D387,Lists!$AP$2:$AS$78,2,FALSE))","v":""},{"$f":"IF($D387=\"\",\"\",VLOOKUP($D387,Lists!$AP$2:$AS$78,3,FALSE))","v":""}]
[null,{"$f":"IF($D388=\"\",\"\",VLOOKUP($D388,Lists!$AP$2:$AS$78,2,FALSE))","v":""},{"$f":"IF($D388=\"\",\"\",VLOOKUP($D388,Lists!$AP$2:$AS$78,3,FALSE))","v":""}]
[null,{"$f":"IF($D389=\"\",\"\",VLOOKUP($D389,Lists!$AP$2:$AS$78,2,FALSE))","v":""},{"$f":"IF($D389=\"\",\"\",VLOOKUP($D389,Lists!$AP$2:$AS$78,3,FALSE))","v":""}]
[null,{"$f":"IF($D390=\"\",\"\",VLOOKUP($D390,Lists!$AP$2:$AS$78,2,FALSE))","v":""},{"$f":"IF($D390=\"\",\"\",VLOOKUP($D390,Lists!$AP$2:$AS$78,3,FALSE))","v":""}]
[null,{"$f":"IF($D391=\"\",\"\",VLOOKUP($D391,Lists!$AP$2:$AS$78,2,FALSE))","v":""},{"$f":"IF($D391=\"\",\"\",VLOOKUP($D391,Lists!$AP$2:$AS$78,3,FALSE))","v":""}]
[null,{"$f":"IF($D392=\"\",\"\",VLOOKUP($D392,Lists!$AP$2:$AS$78,2,FALSE))","v":""},{"$f":"IF($D392=\"\",\"\",VLOOKUP($D392,Lists!$AP$2:$AS$78,3,FALSE))","v":""}]
[null,{"$f":"IF($D393=\"\",\"\",VLOOKUP($D393,Lists!$AP$2:$AS$78,2,FALSE))","v":""},{"$f":"IF($D393=\"\",\"\",VLOOKUP($D393,Lists!$AP$2:$AS$78,3,FALSE))","v":""}]
[null,{"$f":"IF($D394=\"\",\"\",VLOOKUP($D394,Lists!$AP$2:$AS$78,2,FALSE))","v":""},{"$f":"IF($D394=\"\",\"\",VLOOKUP($D394,Lists!$AP$2:$AS$78,3,FALSE))","v":""}]
[null,{"$f":"IF($D395=\"\",\"\",VLOOKUP($D395,Lists!$AP$2:$AS$78,2,FALSE))","v":""},{"$f":"IF($D395=\"\",\"\",VLOOKUP($D395,Lists!$AP$2:$AS$78,3,FALSE))","v":""}]
[null,{"$f":"IF($D396=\"\",\"\",VLOOKUP($D396,Lists!$AP$2:$AS$78,2,FALSE))","v":""},{"$f":"IF($D396=\"\",\"\",VLOOKUP($D396,Lists!$AP$2:$AS$78,3,FALSE))","v":""}]
[null,{"$f":"IF($D397=\"\",\"\",VLOOKUP($D397,Lists!$AP$2:$AS$78,2,FALSE))","v":""},{"$f":"IF($D397=\"\",\"\",VLOOKUP($D397,Lists!$AP$2:$AS$78,3,FALSE))","v":""}]
[null,{"$f":"IF($D398=\"\",\"\",VLOOKUP($D398,Lists!$AP$2:$AS$78,2,FALSE))","v":""},{"$f":"IF($D398=\"\",\"\",VLOOKUP($D398,Lists!$AP$2:$AS$78,3,FALSE))","v":""}]
[null,{"$f":"IF($D399=\"\",\"\",VLOOKUP($D399,Lists!$AP$2:$AS$78,2,FALSE))","v":""},{"$f":"IF($D399=\"\",\"\",VLOOKUP($D399,Lists!$AP$2:$AS$78,3,FALSE))","v":""}]
[null,{"$f":"IF($D400=\"\",\"\",VLOOKUP($D400,Lists!$AP$2:$AS$78,2,FALSE))","v":""},{"$f":"IF($D400=\"\",\"\",VLOOKUP($D400,Lists!$AP$2:$AS$78,3,FALSE))","v":""}]
[null,{"$f":"IF($D401=\"\",\"\",VLOOKUP($D401,Lists!$AP$2:$AS$78,2,FALSE))","v":""},{"$f":"IF($D401=\"\",\"\",VLOOKUP($D401,Lists!$AP$2:$AS$78,3,FALSE))","v":""}]
[null,{"$f":"IF($D402=\"\",\"\",VLOOKUP($D402,Lists!$AP$2:$AS$78,2,FALSE))","v":""},{"$f":"IF($D402=\"\",\"\",VLOOKUP($D402,Lists!$AP$2:$AS$78,3,FALSE))","v":""}]
[null,{"$f":"IF($D403=\"\",\"\",VLOOKUP($D403,Lists!$AP$2:$AS$78,2,FALSE))","v":""},{"$f":"IF($D403=\"\",\"\",VLOOKUP($D403,Lists!$AP$2:$AS$78,3,FALSE))","v":""}]
[null,{"$f":"IF($D404=\"\",\"\",VLOOKUP($D404,Lists!$AP$2:$AS$78,2,FALSE))","v":""},{"$f":"IF($D404=\"\",\"\",VLOOKUP($D404,Lists!$AP$2:$AS$78,3,FALSE))","v":""}]
[null,{"$f":"IF($D405=\"\",\"\",VLOOKUP($D405,Lists!$AP$2:$AS$78,2,FALSE))","v":""},{"$f":"IF($D405=\"\",\"\",VLOOKUP($D405,Lists!$AP$2:$AS$78,3,FALSE))","v":""}]
[null,{"$f":"IF($D406=\"\",\"\",VLOOKUP($D406,Lists!$AP$2:$AS$78,2,FALSE))","v":""},{"$f":"IF($D406=\"\",\"\",VLOOKUP($D406,Lists!$AP$2:$AS$78,3,FALSE))","v":""}]
[null,{"$f":"IF($D407=\"\",\"\",VLOOKUP($D407,Lists!$AP$2:$AS$78,2,FALSE))","v":""},{"$f":"IF($D407=\"\",\"\",VLOOKUP($D407,Lists!$AP$2:$AS$78,3,FALSE))","v":""}]
[null,{"$f":"IF($D408=\"\",\"\",VLOOKUP($D408,Lists!$AP$2:$AS$78,2,FALSE))","v":""},{"$f":"IF($D408=\"\",\"\",VLOOKUP($D408,Lists!$AP$2:$AS$78,3,FALSE))","v":""}]
[null,{"$f":"IF($D409=\"\",\"\",VLOOKUP($D409,Lists!$AP$2:$AS$78,2,FALSE))","v":""},{"$f":"IF($D409=\"\",\"\",VLOOKUP($D409,Lists!$AP$2:$AS$78,3,FALSE))","v":""}]
[null,{"$f":"IF($D410=\"\",\"\",VLOOKUP($D410,Lists!$AP$2:$AS$78,2,FALSE))","v":""},{"$f":"IF($D410=\"\",\"\",VLOOKUP($D410,Lists!$AP$2:$AS$78,3,FALSE))","v":""}]
[null,{"$f":"IF($D411=\"\",\"\",VLOOKUP($D411,Lists!$AP$2:$AS$78,2,FALSE))","v":""},{"$f":"IF($D411=\"\",\"\",VLOOKUP($D411,Lists!$AP$2:$AS$78,3,FALSE))","v":""}]
[null,{"$f":"IF($D412=\"\",\"\",VLOOKUP($D412,Lists!$AP$2:$AS$78,2,FALSE))","v":""},{"$f":"IF($D412=\"\",\"\",VLOOKUP($D412,Lists!$AP$2:$AS$78,3,FALSE))","v":""}]
[null,{"$f":"IF($D413=\"\",\"\",VLOOKUP($D413,Lists!$AP$2:$AS$78,2,FALSE))","v":""},{"$f":"IF($D413=\"\",\"\",VLOOKUP($D413,Lists!$AP$2:$AS$78,3,FALSE))","v":""}]
[null,{"$f":"IF($D414=\"\",\"\",VLOOKUP($D414,Lists!$AP$2:$AS$78,2,FALSE))","v":""},{"$f":"IF($D414=\"\",\"\",VLOOKUP($D414,Lists!$AP$2:$AS$78,3,FALSE))","v":""}]
[null,{"$f":"IF($D415=\"\",\"\",VLOOKUP($D415,Lists!$AP$2:$AS$78,2,FALSE))","v":""},{"$f":"IF($D415=\"\",\"\",VLOOKUP($D415,Lists!$AP$2:$AS$78,3,FALSE))","v":""}]
[null,{"$f":"IF($D416=\"\",\"\",VLOOKUP($D416,Lists!$AP$2:$AS$78,2,FALSE))","v":""},{"$f":"IF($D416=\"\",\"\",VLOOKUP($D416,Lists!$AP$2:$AS$78,3,FALSE))","v":""}]
[null,{"$f":"IF($D417=\"\",\"\",VLOOKUP($D417,Lists!$AP$2:$AS$78,2,FALSE))","v":""},{"$f":"IF($D417=\"\",\"\",VLOOKUP($D417,Lists!$AP$2:$AS$78,3,FALSE))","v":""}]
[null,{"$f":"IF($D418=\"\",\"\",VLOOKUP($D418,Lists!$AP$2:$AS$78,2,FALSE))","v":""},{"$f":"IF($D418=\"\",\"\",VLOOKUP($D418,Lists!$AP$2:$AS$78,3,FALSE))","v":""}]
[null,{"$f":"IF($D419=\"\",\"\",VLOOKUP($D419,Lists!$AP$2:$AS$78,2,FALSE))","v":""},{"$f":"IF($D419=\"\",\"\",VLOOKUP($D419,Lists!$AP$2:$AS$78,3,FALSE))","v":""}]
[null,{"$f":"IF($D420=\"\",\"\",VLOOKUP($D420,Lists!$AP$2:$AS$78,2,FALSE))","v":""},{"$f":"IF($D420=\"\",\"\",VLOOKUP($D420,Lists!$AP$2:$AS$78,3,FALSE))","v":""}]
[null,{"$f":"IF($D421=\"\",\"\",VLOOKUP($D421,Lists!$AP$2:$AS$78,2,FALSE))","v":""},{"$f":"IF($D421=\"\",\"\",VLOOKUP($D421,Lists!$AP$2:$AS$78,3,FALSE))","v":""}]
[null,{"$f":"IF($D422=\"\",\"\",VLOOKUP($D422,Lists!$AP$2:$AS$78,2,FALSE))","v":""},{"$f":"IF($D422=\"\",\"\",VLOOKUP($D422,Lists!$AP$2:$AS$78,3,FALSE))","v":""}]
[null,{"$f":"IF($D423=\"\",\"\",VLOOKUP($D423,Lists!$AP$2:$AS$78,2,FALSE))","v":""},{"$f":"IF($D423=\"\",\"\",VLOOKUP($D423,Lists!$AP$2:$AS$78,3,FALSE))","v":""}]
[null,{"$f":"IF($D424=\"\",\"\",VLOOKUP($D424,Lists!$AP$2:$AS$78,2,FALSE))","v":""},{"$f":"IF($D424=\"\",\"\",VLOOKUP($D424,Lists!$AP$2:$AS$78,3,FALSE))","v":""}]
[null,{"$f":"IF($D425=\"\",\"\",VLOOKUP($D425,Lists!$AP$2:$AS$78,2,FALSE))","v":""},{"$f":"IF($D425=\"\",\"\",VLOOKUP($D425,Lists!$AP$2:$AS$78,3,FALSE))","v":""}]
[null,{"$f":"IF($D426=\"\",\"\",VLOOKUP($D426,Lists!$AP$2:$AS$78,2,FALSE))","v":""},{"$f":"IF($D426=\"\",\"\",VLOOKUP($D426,Lists!$AP$2:$AS$78,3,FALSE))","v":""}]
[null,{"$f":"IF($D427=\"\",\"\",VLOOKUP($D427,Lists!$AP$2:$AS$78,2,FALSE))","v":""},{"$f":"IF($D427=\"\",\"\",VLOOKUP($D427,Lists!$AP$2:$AS$78,3,FALSE))","v":""}]
[null,{"$f":"IF($D428=\"\",\"\",VLOOKUP($D428,Lists!$AP$2:$AS$78,2,FALSE))","v":""},{"$f":"IF($D428=\"\",\"\",VLOOKUP($D428,Lists!$AP$2:$AS$78,3,FALSE))","v":""}]
[null,{"$f":"IF($D429=\"\",\"\",VLOOKUP($D429,Lists!$AP$2:$AS$78,2,FALSE))","v":""},{"$f":"IF($D429=\"\",\"\",VLOOKUP($D429,Lists!$AP$2:$AS$78,3,FALSE))","v":""}]
[null,{"$f":"IF($D430=\"\",\"\",VLOOKUP($D430,Lists!$AP$2:$AS$78,2,FALSE))","v":""},{"$f":"IF($D430=\"\",\"\",VLOOKUP($D430,Lists!$AP$2:$AS$78,3,FALSE))","v":""}]
[null,{"$f":"IF($D431=\"\",\"\",VLOOKUP($D431,Lists!$AP$2:$AS$78,2,FALSE))","v":""},{"$f":"IF($D431=\"\",\"\",VLOOKUP($D431,Lists!$AP$2:$AS$78,3,FALSE))","v":""}]
[null,{"$f":"IF($D432=\"\",\"\",VLOOKUP($D432,Lists!$AP$2:$AS$78,2,FALSE))","v":""},{"$f":"IF($D432=\"\",\"\",VLOOKUP($D432,Lists!$AP$2:$AS$78,3,FALSE))","v":""}]
[null,{"$f":"IF($D433=\"\",\"\",VLOOKUP($D433,Lists!$AP$2:$AS$78,2,FALSE))","v":""},{"$f":"IF($D433=\"\",\"\",VLOOKUP($D433,Lists!$AP$2:$AS$78,3,FALSE))","v":""}]
[null,{"$f":"IF($D434=\"\",\"\",VLOOKUP($D434,Lists!$AP$2:$AS$78,2,FALSE))","v":""},{"$f":"IF($D434=\"\",\"\",VLOOKUP($D434,Lists!$AP$2:$AS$78,3,FALSE))","v":""}]
[null,{"$f":"IF($D435=\"\",\"\",VLOOKUP($D435,Lists!$AP$2:$AS$78,2,FALSE))","v":""},{"$f":"IF($D435=\"\",\"\",VLOOKUP($D435,Lists!$AP$2:$AS$78,3,FALSE))","v":""}]
[null,{"$f":"IF($D436=\"\",\"\",VLOOKUP($D436,Lists!$AP$2:$AS$78,2,FALSE))","v":""},{"$f":"IF($D436=\"\",\"\",VLOOKUP($D436,Lists!$AP$2:$AS$78,3,FALSE))","v":""}]
[null,{"$f":"IF($D437=\"\",\"\",VLOOKUP($D437,Lists!$AP$2:$AS$78,2,FALSE))","v":""},{"$f":"IF($D437=\"\",\"\",VLOOKUP($D437,Lists!$AP$2:$AS$78,3,FALSE))","v":""}]
[null,{"$f":"IF($D438=\"\",\"\",VLOOKUP($D438,Lists!$AP$2:$AS$78,2,FALSE))","v":""},{"$f":"IF($D438=\"\",\"\",VLOOKUP($D438,Lists!$AP$2:$AS$78,3,FALSE))","v":""}]
[null,{"$f":"IF($D439=\"\",\"\",VLOOKUP($D439,Lists!$AP$2:$AS$78,2,FALSE))","v":""},{"$f":"IF($D439=\"\",\"\",VLOOKUP($D439,Lists!$AP$2:$AS$78,3,FALSE))","v":""}]
[null,{"$f":"IF($D440=\"\",\"\",VLOOKUP($D440,Lists!$AP$2:$AS$78,2,FALSE))","v":""},{"$f":"IF($D440=\"\",\"\",VLOOKUP($D440,Lists!$AP$2:$AS$78,3,FALSE))","v":""}]
[null,{"$f":"IF($D441=\"\",\"\",VLOOKUP($D441,Lists!$AP$2:$AS$78,2,FALSE))","v":""},{"$f":"IF($D441=\"\",\"\",VLOOKUP($D441,Lists!$AP$2:$AS$78,3,FALSE))","v":""}]
[null,{"$f":"IF($D442=\"\",\"\",VLOOKUP($D442,Lists!$AP$2:$AS$78,2,FALSE))","v":""},{"$f":"IF($D442=\"\",\"\",VLOOKUP($D442,Lists!$AP$2:$AS$78,3,FALSE))","v":""}]
[null,{"$f":"IF($D443=\"\",\"\",VLOOKUP($D443,Lists!$AP$2:$AS$78,2,FALSE))","v":""},{"$f":"IF($D443=\"\",\"\",VLOOKUP($D443,Lists!$AP$2:$AS$78,3,FALSE))","v":""}]
[null,{"$f":"IF($D444=\"\",\"\",VLOOKUP($D444,Lists!$AP$2:$AS$78,2,FALSE))","v":""},{"$f":"IF($D444=\"\",\"\",VLOOKUP($D444,Lists!$AP$2:$AS$78,3,FALSE))","v":""}]
[null,{"$f":"IF($D445=\"\",\"\",VLOOKUP($D445,Lists!$AP$2:$AS$78,2,FALSE))","v":""},{"$f":"IF($D445=\"\",\"\",VLOOKUP($D445,Lists!$AP$2:$AS$78,3,FALSE))","v":""}]
[null,{"$f":"IF($D446=\"\",\"\",VLOOKUP($D446,Lists!$AP$2:$AS$78,2,FALSE))","v":""},{"$f":"IF($D446=\"\",\"\",VLOOKUP($D446,Lists!$AP$2:$AS$78,3,FALSE))","v":""}]
[null,{"$f":"IF($D447=\"\",\"\",VLOOKUP($D447,Lists!$AP$2:$AS$78,2,FALSE))","v":""},{"$f":"IF($D447=\"\",\"\",VLOOKUP($D447,Lists!$AP$2:$AS$78,3,FALSE))","v":""}]
[null,{"$f":"IF($D448=\"\",\"\",VLOOKUP($D448,Lists!$AP$2:$AS$78,2,FALSE))","v":""},{"$f":"IF($D448=\"\",\"\",VLOOKUP($D448,Lists!$AP$2:$AS$78,3,FALSE))","v":""}]
[null,{"$f":"IF($D449=\"\",\"\",VLOOKUP($D449,Lists!$AP$2:$AS$78,2,FALSE))","v":""},{"$f":"IF($D449=\"\",\"\",VLOOKUP($D449,Lists!$AP$2:$AS$78,3,FALSE))","v":""}]
[null,{"$f":"IF($D450=\"\",\"\",VLOOKUP($D450,Lists!$AP$2:$AS$78,2,FALSE))","v":""},{"$f":"IF($D450=\"\",\"\",VLOOKUP($D450,Lists!$AP$2:$AS$78,3,FALSE))","v":""}]
[null,{"$f":"IF($D451=\"\",\"\",VLOOKUP($D451,Lists!$AP$2:$AS$78,2,FALSE))","v":""},{"$f":"IF($D451=\"\",\"\",VLOOKUP($D451,Lists!$AP$2:$AS$78,3,FALSE))","v":""}]
[null,{"$f":"IF($D452=\"\",\"\",VLOOKUP($D452,Lists!$AP$2:$AS$78,2,FALSE))","v":""},{"$f":"IF($D452=\"\",\"\",VLOOKUP($D452,Lists!$AP$2:$AS$78,3,FALSE))","v":""}]
[null,{"$f":"IF($D453=\"\",\"\",VLOOKUP($D453,Lists!$AP$2:$AS$78,2,FALSE))","v":""},{"$f":"IF($D453=\"\",\"\",VLOOKUP($D453,Lists!$AP$2:$AS$78,3,FALSE))","v":""}]
[null,{"$f":"IF($D454=\"\",\"\",VLOOKUP($D454,Lists!$AP$2:$AS$78,2,FALSE))","v":""},{"$f":"IF($D454=\"\",\"\",VLOOKUP($D454,Lists!$AP$2:$AS$78,3,FALSE))","v":""}]
[null,{"$f":"IF($D455=\"\",\"\",VLOOKUP($D455,Lists!$AP$2:$AS$78,2,FALSE))","v":""},{"$f":"IF($D455=\"\",\"\",VLOOKUP($D455,Lists!$AP$2:$AS$78,3,FALSE))","v":""}]
[null,{"$f":"IF($D456=\"\",\"\",VLOOKUP($D456,Lists!$AP$2:$AS$78,2,FALSE))","v":""},{"$f":"IF($D456=\"\",\"\",VLOOKUP($D456,Lists!$AP$2:$AS$78,3,FALSE))","v":""}]
[null,{"$f":"IF($D457=\"\",\"\",VLOOKUP($D457,Lists!$AP$2:$AS$78,2,FALSE))","v":""},{"$f":"IF($D457=\"\",\"\",VLOOKUP($D457,Lists!$AP$2:$AS$78,3,FALSE))","v":""}]
[null,{"$f":"IF($D458=\"\",\"\",VLOOKUP($D458,Lists!$AP$2:$AS$78,2,FALSE))","v":""},{"$f":"IF($D458=\"\",\"\",VLOOKUP($D458,Lists!$AP$2:$AS$78,3,FALSE))","v":""}]
[null,{"$f":"IF($D459=\"\",\"\",VLOOKUP($D459,Lists!$AP$2:$AS$78,2,FALSE))","v":""},{"$f":"IF($D459=\"\",\"\",VLOOKUP($D459,Lists!$AP$2:$AS$78,3,FALSE))","v":""}]
[null,{"$f":"IF($D460=\"\",\"\",VLOOKUP($D460,Lists!$AP$2:$AS$78,2,FALSE))","v":""},{"$f":"IF($D460=\"\",\"\",VLOOKUP($D460,Lists!$AP$2:$AS$78,3,FALSE))","v":""}]
[null,{"$f":"IF($D461=\"\",\"\",VLOOKUP($D461,Lists!$AP$2:$AS$78,2,FALSE))","v":""},{"$f":"IF($D461=\"\",\"\",VLOOKUP($D461,Lists!$AP$2:$AS$78,3,FALSE))","v":""}]
[null,{"$f":"IF($D462=\"\",\"\",VLOOKUP($D462,Lists!$AP$2:$AS$78,2,FALSE))","v":""},{"$f":"IF($D462=\"\",\"\",VLOOKUP($D462,Lists!$AP$2:$AS$78,3,FALSE))","v":""}]
[null,{"$f":"IF($D463=\"\",\"\",VLOOKUP($D463,Lists!$AP$2:$AS$78,2,FALSE))","v":""},{"$f":"IF($D463=\"\",\"\",VLOOKUP($D463,Lists!$AP$2:$AS$78,3,FALSE))","v":""}]
[null,{"$f":"IF($D464=\"\",\"\",VLOOKUP($D464,Lists!$AP$2:$AS$78,2,FALSE))","v":""},{"$f":"IF($D464=\"\",\"\",VLOOKUP($D464,Lists!$AP$2:$AS$78,3,FALSE))","v":""}]
[null,{"$f":"IF($D465=\"\",\"\",VLOOKUP($D465,Lists!$AP$2:$AS$78,2,FALSE))","v":""},{"$f":"IF($D465=\"\",\"\",VLOOKUP($D465,Lists!$AP$2:$AS$78,3,FALSE))","v":""}]
[null,{"$f":"IF($D466=\"\",\"\",VLOOKUP($D466,Lists!$AP$2:$AS$78,2,FALSE))","v":""},{"$f":"IF($D466=\"\",\"\",VLOOKUP($D466,Lists!$AP$2:$AS$78,3,FALSE))","v":""}]
[null,{"$f":"IF($D467=\"\",\"\",VLOOKUP($D467,Lists!$AP$2:$AS$78,2,FALSE))","v":""},{"$f":"IF($D467=\"\",\"\",VLOOKUP($D467,Lists!$AP$2:$AS$78,3,FALSE))","v":""}]
[null,{"$f":"IF($D468=\"\",\"\",VLOOKUP($D468,Lists!$AP$2:$AS$78,2,FALSE))","v":""},{"$f":"IF($D468=\"\",\"\",VLOOKUP($D468,Lists!$AP$2:$AS$78,3,FALSE))","v":""}]
[null,{"$f":"IF($D469=\"\",\"\",VLOOKUP($D469,Lists!$AP$2:$AS$78,2,FALSE))","v":""},{"$f":"IF($D469=\"\",\"\",VLOOKUP($D469,Lists!$AP$2:$AS$78,3,FALSE))","v":""}]
[null,{"$f":"IF($D470=\"\",\"\",VLOOKUP($D470,Lists!$AP$2:$AS$78,2,FALSE))","v":""},{"$f":"IF($D470=\"\",\"\",VLOOKUP($D470,Lists!$AP$2:$AS$78,3,FALSE))","v":""}]
[null,{"$f":"IF($D471=\"\",\"\",VLOOKUP($D471,Lists!$AP$2:$AS$78,2,FALSE))","v":""},{"$f":"IF($D471=\"\",\"\",VLOOKUP($D471,Lists!$AP$2:$AS$78,3,FALSE))","v":""}]
[null,{"$f":"IF($D472=\"\",\"\",VLOOKUP($D472,Lists!$AP$2:$AS$78,2,FALSE))","v":""},{"$f":"IF($D472=\"\",\"\",VLOOKUP($D472,Lists!$AP$2:$AS$78,3,FALSE))","v":""}]
[null,{"$f":"IF($D473=\"\",\"\",VLOOKUP($D473,Lists!$AP$2:$AS$78,2,FALSE))","v":""},{"$f":"IF($D473=\"\",\"\",VLOOKUP($D473,Lists!$AP$2:$AS$78,3,FALSE))","v":""}]
[null,{"$f":"IF($D474=\"\",\"\",VLOOKUP($D474,Lists!$AP$2:$AS$78,2,FALSE))","v":""},{"$f":"IF($D474=\"\",\"\",VLOOKUP($D474,Lists!$AP$2:$AS$78,3,FALSE))","v":""}]
[null,{"$f":"IF($D475=\"\",\"\",VLOOKUP($D475,Lists!$AP$2:$AS$78,2,FALSE))","v":""},{"$f":"IF($D475=\"\",\"\",VLOOKUP($D475,Lists!$AP$2:$AS$78,3,FALSE))","v":""}]
[null,{"$f":"IF($D476=\"\",\"\",VLOOKUP($D476,Lists!$AP$2:$AS$78,2,FALSE))","v":""},{"$f":"IF($D476=\"\",\"\",VLOOKUP($D476,Lists!$AP$2:$AS$78,3,FALSE))","v":""}]
[null,{"$f":"IF($D477=\"\",\"\",VLOOKUP($D477,Lists!$AP$2:$AS$78,2,FALSE))","v":""},{"$f":"IF($D477=\"\",\"\",VLOOKUP($D477,Lists!$AP$2:$AS$78,3,FALSE))","v":""}]
[null,{"$f":"IF($D478=\"\",\"\",VLOOKUP($D478,Lists!$AP$2:$AS$78,2,FALSE))","v":""},{"$f":"IF($D478=\"\",\"\",VLOOKUP($D478,Lists!$AP$2:$AS$78,3,FALSE))","v":""}]
[null,{"$f":"IF($D479=\"\",\"\",VLOOKUP($D479,Lists!$AP$2:$AS$78,2,FALSE))","v":""},{"$f":"IF($D479=\"\",\"\",VLOOKUP($D479,Lists!$AP$2:$AS$78,3,FALSE))","v":""}]
[null,{"$f":"IF($D480=\"\",\"\",VLOOKUP($D480,Lists!$AP$2:$AS$78,2,FALSE))","v":""},{"$f":"IF($D480=\"\",\"\",VLOOKUP($D480,Lists!$AP$2:$AS$78,3,FALSE))","v":""}]
[null,{"$f":"IF($D481=\"\",\"\",VLOOKUP($D481,Lists!$AP$2:$AS$78,2,FALSE))","v":""},{"$f":"IF($D481=\"\",\"\",VLOOKUP($D481,Lists!$AP$2:$AS$78,3,FALSE))","v":""}]
[null,{"$f":"IF($D482=\"\",\"\",VLOOKUP($D482,Lists!$AP$2:$AS$78,2,FALSE))","v":""},{"$f":"IF($D482=\"\",\"\",VLOOKUP($D482,Lists!$AP$2:$AS$78,3,FALSE))","v":""}]
[null,{"$f":"IF($D483=\"\",\"\",VLOOKUP($D483,Lists!$AP$2:$AS$78,2,FALSE))","v":""},{"$f":"IF($D483=\"\",\"\",VLOOKUP($D483,Lists!$AP$2:$AS$78,3,FALSE))","v":""}]
[null,{"$f":"IF($D484=\"\",\"\",VLOOKUP($D484,Lists!$AP$2:$AS$78,2,FALSE))","v":""},{"$f":"IF($D484=\"\",\"\",VLOOKUP($D484,Lists!$AP$2:$AS$78,3,FALSE))","v":""}]
[null,{"$f":"IF($D485=\"\",\"\",VLOOKUP($D485,Lists!$AP$2:$AS$78,2,FALSE))","v":""},{"$f":"IF($D485=\"\",\"\",VLOOKUP($D485,Lists!$AP$2:$AS$78,3,FALSE))","v":""}]
[null,{"$f":"IF($D486=\"\",\"\",VLOOKUP($D486,Lists!$AP$2:$AS$78,2,FALSE))","v":""},{"$f":"IF($D486=\"\",\"\",VLOOKUP($D486,Lists!$AP$2:$AS$78,3,FALSE))","v":""}]
[null,{"$f":"IF($D487=\"\",\"\",VLOOKUP($D487,Lists!$AP$2:$AS$78,2,FALSE))","v":""},{"$f":"IF($D487=\"\",\"\",VLOOKUP($D487,Lists!$AP$2:$AS$78,3,FALSE))","v":""}]
[null,{"$f":"IF($D488=\"\",\"\",VLOOKUP($D488,Lists!$AP$2:$AS$78,2,FALSE))","v":""},{"$f":"IF($D488=\"\",\"\",VLOOKUP($D488,Lists!$AP$2:$AS$78,3,FALSE))","v":""}]
[null,{"$f":"IF($D489=\"\",\"\",VLOOKUP($D489,Lists!$AP$2:$AS$78,2,FALSE))","v":""},{"$f":"IF($D489=\"\",\"\",VLOOKUP($D489,Lists!$AP$2:$AS$78,3,FALSE))","v":""}]
[null,{"$f":"IF($D490=\"\",\"\",VLOOKUP($D490,Lists!$AP$2:$AS$78,2,FALSE))","v":""},{"$f":"IF($D490=\"\",\"\",VLOOKUP($D490,Lists!$AP$2:$AS$78,3,FALSE))","v":""}]
[null,{"$f":"IF($D491=\"\",\"\",VLOOKUP($D491,Lists!$AP$2:$AS$78,2,FALSE))","v":""},{"$f":"IF($D491=\"\",\"\",VLOOKUP($D491,Lists!$AP$2:$AS$78,3,FALSE))","v":""}]
[null,{"$f":"IF($D492=\"\",\"\",VLOOKUP($D492,Lists!$AP$2:$AS$78,2,FALSE))","v":""},{"$f":"IF($D492=\"\",\"\",VLOOKUP($D492,Lists!$AP$2:$AS$78,3,FALSE))","v":""}]
[null,{"$f":"IF($D493=\"\",\"\",VLOOKUP($D493,Lists!$AP$2:$AS$78,2,FALSE))","v":""},{"$f":"IF($D493=\"\",\"\",VLOOKUP($D493,Lists!$AP$2:$AS$78,3,FALSE))","v":""}]
[null,{"$f":"IF($D494=\"\",\"\",VLOOKUP($D494,Lists!$AP$2:$AS$78,2,FALSE))","v":""},{"$f":"IF($D494=\"\",\"\",VLOOKUP($D494,Lists!$AP$2:$AS$78,3,FALSE))","v":""}]
[null,{"$f":"IF($D495=\"\",\"\",VLOOKUP($D495,Lists!$AP$2:$AS$78,2,FALSE))","v":""},{"$f":"IF($D495=\"\",\"\",VLOOKUP($D495,Lists!$AP$2:$AS$78,3,FALSE))","v":""}]
[null,{"$f":"IF($D496=\"\",\"\",VLOOKUP($D496,Lists!$AP$2:$AS$78,2,FALSE))","v":""},{"$f":"IF($D496=\"\",\"\",VLOOKUP($D496,Lists!$AP$2:$AS$78,3,FALSE))","v":""}]
[null,{"$f":"IF($D497=\"\",\"\",VLOOKUP($D497,Lists!$AP$2:$AS$78,2,FALSE))","v":""},{"$f":"IF($D497=\"\",\"\",VLOOKUP($D497,Lists!$AP$2:$AS$78,3,FALSE))","v":""}]
[null,{"$f":"IF($D498=\"\",\"\",VLOOKUP($D498,Lists!$AP$2:$AS$78,2,FALSE))","v":""},{"$f":"IF($D498=\"\",\"\",VLOOKUP($D498,Lists!$AP$2:$AS$78,3,FALSE))","v":""}]
[null,{"$f":"IF($D499=\"\",\"\",VLOOKUP($D499,Lists!$AP$2:$AS$78,2,FALSE))","v":""},{"$f":"IF($D499=\"\",\"\",VLOOKUP($D499,Lists!$AP$2:$AS$78,3,FALSE))","v":""}]
[null,{"$f":"IF($D500=\"\",\"\",VLOOKUP($D500,Lists!$AP$2:$AS$78,2,FALSE))","v":""},{"$f":"IF($D500=\"\",\"\",VLOOKUP($D500,Lists!$AP$2:$AS$78,3,FALSE))","v":""}]

{"sheet":"Limit_Deviation_Summary","index":9,"n_rows":100,"n_cols":12,"rows_kept":100,"cut":false,"hidden":false,"merged":[]}
[null,"DO NOT REMOVE OR EDIT INFORMATION IN ROWS 1 THROUGH 5\nFOR INTERNAL USE ONLY"]
[null,"Template Name",null,{"$f":"+Welcome!B2","v":"63.10899(c) Semiannual Compliance Report (Spreadsheet Template)"}]
[null,"CitationID",null,{"$f":"+Welcome!B3","v":"63.10899(c)"}]
[null,"Template Version",null,{"$f":"+Welcome!B4","v":"v1.02"}]
[null,"Last Updated Date",null,{"$f":"+Welcome!B5","v":45391}]
[null,{"$f":"Welcome!B6","v":"OMB No.: 2060-0605 Form 5900-521 For further Paperwork Reduction Act information see: \nhttps://www.epa.gov/electronic-reporting-air-emissions/paperwork-reduction-act-pra-cedri-and-ert"}]
[null,"40 CFR Part 63, Subpart ZZZZZ National Emission Standards for Hazardous Air Pollutants: Iron and Steel Foundries Area Sources - "]
[null,"§63.10899(c) Semiannual Compliance Report Spreadsheet Template"]
[]
[]
[]
[null,"Company Record No. \n(Autocompleted)","Affected Source\n(§63.10899(c)(6)(i))\n(Autocompleted)","Emission Limitation or Work Practice Deviated From\n(§63.10899(c)(6)(ii))\n(Autocompleted)","Total Source Operating Time (Hours)\n(§63.10899(c)(6)(i))\n(Autocompleted)","Total Duration of \nDeviations from \nEmission Limitation or Work Practice\n(§63.10899(c)(6)(iii))\n(Calculated value)","Total Duration of Deviations from Emission Limitation or Work Practice as a percent of Total Source Operating Time\n(§63.10899(c)(6)(iii))\n(Calculated value)","Total Duration of \nDeviations from \nEmission Limitation or Work Practice Due to \nStartup/Shutdown\n(§63.10899(c)(6)(iii))\n(Calculated value)","Total Duration of  Deviations from Emission Limitation or Work Practice Due to Control Equipment Problems\n(§63.10899(c)(6)(iii))\n(Calculated value)","Total Duration of \nDeviations from\nEmission Limitation or Work Practice Due to \nProcess Problems\n(§63.10899(c)(6)(iii))\n(Calculated value)","Total Duration of\nDeviations from \nEmission or\nOpacity Limits Due to \nOther Known Causes\n(§63.10899(c)(6)(iii))\n(Calculated value)","Total Duration of Deviations from Emission or Opacity Limits Due to Unknown Causes \n(§63.10899(c)(6)(iii))\n(Calculated value)"]
[null,"RecordId","AffectedSource_LimitSummary","DeviceDeviationBypass_DeviationSummary","TotalOperatingTime_DeviationSummary","TotalDeviationDuration_DeviationSummary","TotalDeviationPercent_DeviationSummary","StartupCausedDeviation_DeviationSummary","EquipmentCausedDeviation_DeviationSummary","ProcessCausedDeviation_DeviationSummary","OtherCausedDeviation_DeviationSummary","UnknownCausedDeviation_DeviationSummary"]
[null,"e.g.: 1","e.g.: Line 1","e.g.:  Particulate Matter","e.g.: 6240","e.g.: 36.2","e.g.: 0.58%","e.g.: 36.2","e.g.: 36.2","e.g.: 0","e.g.: 0","e.g.: 0"]
[]
[]
[]
[]
[]
[]
[]
[]
[]
[null,{"$f":"IF(Lists!AA2=\"\",\"\",Lists!AA2)","v":""},{"$f":"IF(Lists!AB2=\"\",\"\",Lists!AB2)","v":""},{"$f":"IF(Lists!AC2=\"\",\"\",Lists!AC2)","v":""},{"$f":"IF(Lists!AE2=\"\",\"\",Lists!AE2)","v":""},{"$f":"IF(E24=\"\",\"\",SUM(H24:L24))","v":""},{"$f":"IF($E24=\"\",\"\",IF(F24=0,\"N/A\",F24/$E24))","v":""},{"$f":"IF($E24=\"\",\"\",SUMIFS(Limit_Deviation_Detail!$H$24:$H$5800,Limit_Deviation_Detail!$B$24:$B$5800,B24,Limit_Deviation_Detail!$C$24:$C$5800,C24,Limit_Deviation_Detail!$E$24:$E$5800,D24,Limit_Deviation_Detail!$I$24:$I$5800,\"Startup/Shutdown\"))","v":""},{"$f":"IF($E24=\"\",\"\",SUMIFS(Limit_Deviation_Detail!$H$24:$H$5800,Limit_Deviation_Detail!$B$24:$B$5800,B24,Limit_Deviation_Detail!$C$24:$C$5800,C24,Limit_Deviation_Detail!$E$24:$E$5800,D24,Limit_Deviation_Detail!$I$24:$I$5800,\"Control Equipment Problems\"))","v":""},{"$f":"IF($E24=\"\",\"\",SUMIFS(Limit_Deviation_Detail!$H$24:$H$5800,Limit_Deviation_Detail!$B$24:$B$5800,B24,Limit_Deviation_Detail!$C$24:$C$5800,C24,Limit_Deviation_Detail!$E$24:$E$5800,D24,Limit_Deviation_Detail!$I$24:$I$5800,\"Process Problems\"))","v":""},{"$f":"IF($E24=\"\",\"\",SUMIFS(Limit_Deviation_Detail!$H$24:$H$5800,Limit_Deviation_Detail!$B$24:$B$5800,B24,Limit_Deviation_Detail!$C$24:$C$5800,C24,Limit_Deviation_Detail!$E$24:$E$5800,D24,Limit_Deviation_Detail!$I$24:$I$5800,\"Other Known Causes\"))","v":""},{"$f":"IF($E24=\"\",\"\",SUMIFS(Limit_Deviation_Detail!$H$24:$H$5800,Limit_Deviation_Detail!$B$24:$B$5800,B24,Limit_Deviation_Detail!$C$24:$C$5800,C24,Limit_Deviation_Detail!$E$24:$E$5800,D24,Limit_Deviation_Detail!$I$24:$I$5800,\"Unknown Causes\"))","v":""}]
[null,{"$f":"IF(Lists!AA3=\"\",\"\",Lists!AA3)","v":""},{"$f":"IF(Lists!AB3=\"\",\"\",Lists!AB3)","v":""},{"$f":"IF(Lists!AC3=\"\",\"\",Lists!AC3)","v":""},{"$f":"IF(Lists!AC3=\"\",\"\",Lists!AE3)","v":""},"",{"$f":"IF($E25=\"\",\"\",IF(F25=0,\"N/A\",F25/$E25))","v":""},{"$f":"IF($E25=\"\",\"\",SUMIFS(Limit_Deviation_Detail!$H$24:$H$5800,Limit_Deviation_Detail!$B$24:$B$5800,B25,Limit_Deviation_Detail!$C$24:$C$5800,C25,Limit_Deviation_Detail!$E$24:$E$5800,D25,Limit_Deviation_Detail!$I$24:$I$5800,\"Startup/Shutdown\"))","v":""},{"$f":"IF($E25=\"\",\"\",SUMIFS(Limit_Deviation_Detail!$H$24:$H$5800,Limit_Deviation_Detail!$B$24:$B$5800,B25,Limit_Deviation_Detail!$C$24:$C$5800,C25,Limit_Deviation_Detail!$E$24:$E$5800,D25,Limit_Deviation_Detail!$I$24:$I$5800,\"Control Equipment Problems\"))","v":""},{"$f":"IF($E25=\"\",\"\",SUMIFS(Limit_Deviation_Detail!$H$24:$H$5800,Limit_Deviation_Detail!$B$24:$B$5800,B25,Limit_Deviation_Detail!$C$24:$C$5800,C25,Limit_Deviation_Detail!$E$24:$E$5800,D25,Limit_Deviation_Detail!$I$24:$I$5800,\"Process Problems\"))","v":""},{"$f":"IF($E25=\"\",\"\",SUMIFS(Limit_Deviation_Detail!$H$24:$H$5800,Limit_Deviation_Detail!$B$24:$B$5800,B25,Limit_Deviation_Detail!$C$24:$C$5800,C25,Limit_Deviation_Detail!$E$24:$E$5800,D25,Limit_Deviation_Detail!$I$24:$I$5800,\"Other Known Causes\"))","v":""},{"$f":"IF($E25=\"\",\"\",SUMIFS(Limit_Deviation_Detail!$H$24:$H$5800,Limit_Deviation_Detail!$B$24:$B$5800,B25,Limit_Deviation_Detail!$C$24:$C$5800,C25,Limit_Deviation_Detail!$E$24:$E$5800,D25,Limit_Deviation_Detail!$I$24:$I$5800,\"Unknown Causes\"))","v":""}]
[null,{"$f":"IF(Lists!AA4=\"\",\"\",Lists!AA4)","v":""},{"$f":"IF(Lists!AB4=\"\",\"\",Lists!AB4)","v":""},{"$f":"IF(Lists!AC4=\"\",\"\",Lists!AC4)","v":""},{"$f":"IF(Lists!AC4=\"\",\"\",Lists!AE4)","v":""},"","",{"$f":"IF($E26=\"\",\"\",SUMIFS(Limit_Deviation_Detail!$H$24:$H$5800,Limit_Deviation_Detail!$B$24:$B$5800,B26,Limit_Deviation_Detail!$C$24:$C$5800,C26,Limit_Deviation_Detail!$E$24:$E$5800,D26,Limit_Deviation_Detail!$I$24:$I$5800,\"Startup/Shutdown\"))","v":""},{"$f":"IF($E26=\"\",\"\",SUMIFS(Limit_Deviation_Detail!$H$24:$H$5800,Limit_Deviation_Detail!$B$24:$B$5800,B26,Limit_Deviation_Detail!$C$24:$C$5800,C26,Limit_Deviation_Detail!$E$24:$E$5800,D26,Limit_Deviation_Detail!$I$24:$I$5800,\"Control Equipment Problems\"))","v":""},{"$f":"IF($E26=\"\",\"\",SUMIFS(Limit_Deviation_Detail!$H$24:$H$5800,Limit_Deviation_Detail!$B$24:$B$5800,B26,Limit_Deviation_Detail!$C$24:$C$5800,C26,Limit_Deviation_Detail!$E$24:$E$5800,D26,Limit_Deviation_Detail!$I$24:$I$5800,\"Process Problems\"))","v":""},{"$f":"IF($E26=\"\",\"\",SUMIFS(Limit_Deviation_Detail!$H$24:$H$5800,Limit_Deviation_Detail!$B$24:$B$5800,B26,Limit_Deviation_Detail!$C$24:$C$5800,C26,Limit_Deviation_Detail!$E$24:$E$5800,D26,Limit_Deviation_Detail!$I$24:$I$5800,\"Other Known Causes\"))","v":""},{"$f":"IF($E26=\"\",\"\",SUMIFS(Limit_Deviation_Detail!$H$24:$H$5800,Limit_Deviation_Detail!$B$24:$B$5800,B26,Limit_Deviation_Detail!$C$24:$C$5800,C26,Limit_Deviation_Detail!$E$24:$E$5800,D26,Limit_Deviation_Detail!$I$24:$I$5800,\"Unknown Causes\"))","v":""}]
[null,{"$f":"IF(Lists!AA5=\"\",\"\",Lists!AA5)","v":""},{"$f":"IF(Lists!AB5=\"\",\"\",Lists!AB5)","v":""},{"$f":"IF(Lists!AC5=\"\",\"\",Lists!AC5)","v":""},{"$f":"IF(Lists!AC5=\"\",\"\",Lists!AE5)","v":""},"","",{"$f":"IF($E27=\"\",\"\",SUMIFS(Limit_Deviation_Detail!$H$24:$H$5800,Limit_Deviation_Detail!$B$24:$B$5800,B27,Limit_Deviation_Detail!$C$24:$C$5800,C27,Limit_Deviation_Detail!$E$24:$E$5800,D27,Limit_Deviation_Detail!$I$24:$I$5800,\"Startup/Shutdown\"))","v":""},{"$f":"IF($E27=\"\",\"\",SUMIFS(Limit_Deviation_Detail!$H$24:$H$5800,Limit_Deviation_Detail!$B$24:$B$5800,B27,Limit_Deviation_Detail!$C$24:$C$5800,C27,Limit_Deviation_Detail!$E$24:$E$5800,D27,Limit_Deviation_Detail!$I$24:$I$5800,\"Control Equipment Problems\"))","v":""},{"$f":"IF($E27=\"\",\"\",SUMIFS(Limit_Deviation_Detail!$H$24:$H$5800,Limit_Deviation_Detail!$B$24:$B$5800,B27,Limit_Deviation_Detail!$C$24:$C$5800,C27,Limit_Deviation_Detail!$E$24:$E$5800,D27,Limit_Deviation_Detail!$I$24:$I$5800,\"Process Problems\"))","v":""},{"$f":"IF($E27=\"\",\"\",SUMIFS(Limit_Deviation_Detail!$H$24:$H$5800,Limit_Deviation_Detail!$B$24:$B$5800,B27,Limit_Deviation_Detail!$C$24:$C$5800,C27,Limit_Deviation_Detail!$E$24:$E$5800,D27,Limit_Deviation_Detail!$I$24:$I$5800,\"Other Known Causes\"))","v":""},{"$f":"IF($E27=\"\",\"\",SUMIFS(Limit_Deviation_Detail!$H$24:$H$5800,Limit_Deviation_Detail!$B$24:$B$5800,B27,Limit_Deviation_Detail!$C$24:$C$5800,C27,Limit_Deviation_Detail!$E$24:$E$5800,D27,Limit_Deviation_Detail!$I$24:$I$5800,\"Unknown Causes\"))","v":""}]
[null,{"$f":"IF(Lists!AA6=\"\",\"\",Lists!AA6)","v":""},{"$f":"IF(Lists!AB6=\"\",\"\",Lists!AB6)","v":""},{"$f":"IF(Lists!AC6=\"\",\"\",Lists!AC6)","v":""},{"$f":"IF(Lists!AC6=\"\",\"\",Lists!AE6)","v":""},"","",{"$f":"IF($E28=\"\",\"\",SUMIFS(Limit_Deviation_Detail!$H$24:$H$5800,Limit_Deviation_Detail!$B$24:$B$5800,B28,Limit_Deviation_Detail!$C$24:$C$5800,C28,Limit_Deviation_Detail!$E$24:$E$5800,D28,Limit_Deviation_Detail!$I$24:$I$5800,\"Startup/Shutdown\"))","v":""},{"$f":"IF($E28=\"\",\"\",SUMIFS(Limit_Deviation_Detail!$H$24:$H$5800,Limit_Deviation_Detail!$B$24:$B$5800,B28,Limit_Deviation_Detail!$C$24:$C$5800,C28,Limit_Deviation_Detail!$E$24:$E$5800,D28,Limit_Deviation_Detail!$I$24:$I$5800,\"Control Equipment Problems\"))","v":""},{"$f":"IF($E28=\"\",\"\",SUMIFS(Limit_Deviation_Detail!$H$24:$H$5800,Limit_Deviation_Detail!$B$24:$B$5800,B28,Limit_Deviation_Detail!$C$24:$C$5800,C28,Limit_Deviation_Detail!$E$24:$E$5800,D28,Limit_Deviation_Detail!$I$24:$I$5800,\"Process Problems\"))","v":""},{"$f":"IF($E28=\"\",\"\",SUMIFS(Limit_Deviation_Detail!$H$24:$H$5800,Limit_Deviation_Detail!$B$24:$B$5800,B28,Limit_Deviation_Detail!$C$24:$C$5800,C28,Limit_Deviation_Detail!$E$24:$E$5800,D28,Limit_Deviation_Detail!$I$24:$I$5800,\"Other Known Causes\"))","v":""},{"$f":"IF($E28=\"\",\"\",SUMIFS(Limit_Deviation_Detail!$H$24:$H$5800,Limit_Deviation_Detail!$B$24:$B$5800,B28,Limit_Deviation_Detail!$C$24:$C$5800,C28,Limit_Deviation_Detail!$E$24:$E$5800,D28,Limit_Deviation_Detail!$I$24:$I$5800,\"Unknown Causes\"))","v":""}]
[null,{"$f":"IF(Lists!AA7=\"\",\"\",Lists!AA7)","v":""},{"$f":"IF(Lists!AB7=\"\",\"\",Lists!AB7)","v":""},{"$f":"IF(Lists!AC7=\"\",\"\",Lists!AC7)","v":""},{"$f":"IF(Lists!AC7=\"\",\"\",Lists!AE7)","v":""},"","",{"$f":"IF($E29=\"\",\"\",SUMIFS(Limit_Deviation_Detail!$H$24:$H$5800,Limit_Deviation_Detail!$B$24:$B$5800,B29,Limit_Deviation_Detail!$C$24:$C$5800,C29,Limit_Deviation_Detail!$E$24:$E$5800,D29,Limit_Deviation_Detail!$I$24:$I$5800,\"Startup/Shutdown\"))","v":""},{"$f":"IF($E29=\"\",\"\",SUMIFS(Limit_Deviation_Detail!$H$24:$H$5800,Limit_Deviation_Detail!$B$24:$B$5800,B29,Limit_Deviation_Detail!$C$24:$C$5800,C29,Limit_Deviation_Detail!$E$24:$E$5800,D29,Limit_Deviation_Detail!$I$24:$I$5800,\"Control Equipment Problems\"))","v":""},{"$f":"IF($E29=\"\",\"\",SUMIFS(Limit_Deviation_Detail!$H$24:$H$5800,Limit_Deviation_Detail!$B$24:$B$5800,B29,Limit_Deviation_Detail!$C$24:$C$5800,C29,Limit_Deviation_Detail!$E$24:$E$5800,D29,Limit_Deviation_Detail!$I$24:$I$5800,\"Process Problems\"))","v":""},{"$f":"IF($E29=\"\",\"\",SUMIFS(Limit_Deviation_Detail!$H$24:$H$5800,Limit_Deviation_Detail!$B$24:$B$5800,B29,Limit_Deviation_Detail!$C$24:$C$5800,C29,Limit_Deviation_Detail!$E$24:$E$5800,D29,Limit_Deviation_Detail!$I$24:$I$5800,\"Other Known Causes\"))","v":""},{"$f":"IF($E29=\"\",\"\",SUMIFS(Limit_Deviation_Detail!$H$24:$H$5800,Limit_Deviation_Detail!$B$24:$B$5800,B29,Limit_Deviation_Detail!$C$24:$C$5800,C29,Limit_Deviation_Detail!$E$24:$E$5800,D29,Limit_Deviation_Detail!$I$24:$I$5800,\"Unknown Causes\"))","v":""}]
[null,{"$f":"IF(Lists!AA8=\"\",\"\",Lists!AA8)","v":""},{"$f":"IF(Lists!AB8=\"\",\"\",Lists!AB8)","v":""},{"$f":"IF(Lists!AC8=\"\",\"\",Lists!AC8)","v":""},{"$f":"IF(Lists!AC8=\"\",\"\",Lists!AE8)","v":""},"","",{"$f":"IF($E30=\"\",\"\",SUMIFS(Limit_Deviation_Detail!$H$24:$H$5800,Limit_Deviation_Detail!$B$24:$B$5800,B30,Limit_Deviation_Detail!$C$24:$C$5800,C30,Limit_Deviation_Detail!$E$24:$E$5800,D30,Limit_Deviation_Detail!$I$24:$I$5800,\"Startup/Shutdown\"))","v":""},{"$f":"IF($E30=\"\",\"\",SUMIFS(Limit_Deviation_Detail!$H$24:$H$5800,Limit_Deviation_Detail!$B$24:$B$5800,B30,Limit_Deviation_Detail!$C$24:$C$5800,C30,Limit_Deviation_Detail!$E$24:$E$5800,D30,Limit_Deviation_Detail!$I$24:$I$5800,\"Control Equipment Problems\"))","v":""},{"$f":"IF($E30=\"\",\"\",SUMIFS(Limit_Deviation_Detail!$H$24:$H$5800,Limit_Deviation_Detail!$B$24:$B$5800,B30,Limit_Deviation_Detail!$C$24:$C$5800,C30,Limit_Deviation_Detail!$E$24:$E$5800,D30,Limit_Deviation_Detail!$I$24:$I$5800,\"Process Problems\"))","v":""},{"$f":"IF($E30=\"\",\"\",SUMIFS(Limit_Deviation_Detail!$H$24:$H$5800,Limit_Deviation_Detail!$B$24:$B$5800,B30,Limit_Deviation_Detail!$C$24:$C$5800,C30,Limit_Deviation_Detail!$E$24:$E$5800,D30,Limit_Deviation_Detail!$I$24:$I$5800,\"Other Known Causes\"))","v":""},{"$f":"IF($E30=\"\",\"\",SUMIFS(Limit_Deviation_Detail!$H$24:$H$5800,Limit_Deviation_Detail!$B$24:$B$5800,B30,Limit_Deviation_Detail!$C$24:$C$5800,C30,Limit_Deviation_Detail!$E$24:$E$5800,D30,Limit_Deviation_Detail!$I$24:$I$5800,\"Unknown Causes\"))","v":""}]
[null,{"$f":"IF(Lists!AA9=\"\",\"\",Lists!AA9)","v":""},{"$f":"IF(Lists!AB9=\"\",\"\",Lists!AB9)","v":""},{"$f":"IF(Lists!AC9=\"\",\"\",Lists!AC9)","v":""},{"$f":"IF(Lists!AC9=\"\",\"\",Lists!AE9)","v":""},"","",{"$f":"IF($E31=\"\",\"\",SUMIFS(Limit_Deviation_Detail!$H$24:$H$5800,Limit_Deviation_Detail!$B$24:$B$5800,B31,Limit_Deviation_Detail!$C$24:$C$5800,C31,Limit_Deviation_Detail!$E$24:$E$5800,D31,Limit_Deviation_Detail!$I$24:$I$5800,\"Startup/Shutdown\"))","v":""},{"$f":"IF($E31=\"\",\"\",SUMIFS(Limit_Deviation_Detail!$H$24:$H$5800,Limit_Deviation_Detail!$B$24:$B$5800,B31,Limit_Deviation_Detail!$C$24:$C$5800,C31,Limit_Deviation_Detail!$E$24:$E$5800,D31,Limit_Deviation_Detail!$I$24:$I$5800,\"Control Equipment Problems\"))","v":""},{"$f":"IF($E31=\"\",\"\",SUMIFS(Limit_Deviation_Detail!$H$24:$H$5800,Limit_Deviation_Detail!$B$24:$B$5800,B31,Limit_Deviation_Detail!$C$24:$C$5800,C31,Limit_Deviation_Detail!$E$24:$E$5800,D31,Limit_Deviation_Detail!$I$24:$I$5800,\"Process Problems\"))","v":""},{"$f":"IF($E31=\"\",\"\",SUMIFS(Limit_Deviation_Detail!$H$24:$H$5800,Limit_Deviation_Detail!$B$24:$B$5800,B31,Limit_Deviation_Detail!$C$24:$C$5800,C31,Limit_Deviation_Detail!$E$24:$E$5800,D31,Limit_Deviation_Detail!$I$24:$I$5800,\"Other Known Causes\"))","v":""},{"$f":"IF($E31=\"\",\"\",SUMIFS(Limit_Deviation_Detail!$H$24:$H$5800,Limit_Deviation_Detail!$B$24:$B$5800,B31,Limit_Deviation_Detail!$C$24:$C$5800,C31,Limit_Deviation_Detail!$E$24:$E$5800,D31,Limit_Deviation_Detail!$I$24:$I$5800,\"Unknown Causes\"))","v":""}]
[null,{"$f":"IF(Lists!AA10=\"\",\"\",Lists!AA10)","v":""},{"$f":"IF(Lists!AB10=\"\",\"\",Lists!AB10)","v":""},{"$f":"IF(Lists!AC10=\"\",\"\",Lists!AC10)","v":""},{"$f":"IF(Lists!AC10=\"\",\"\",Lists!AE10)","v":""},"","",{"$f":"IF($E32=\"\",\"\",SUMIFS(Limit_Deviation_Detail!$H$24:$H$5800,Limit_Deviation_Detail!$B$24:$B$5800,B32,Limit_Deviation_Detail!$C$24:$C$5800,C32,Limit_Deviation_Detail!$E$24:$E$5800,D32,Limit_Deviation_Detail!$I$24:$I$5800,\"Startup/Shutdown\"))","v":""},{"$f":"IF($E32=\"\",\"\",SUMIFS(Limit_Deviation_Detail!$H$24:$H$5800,Limit_Deviation_Detail!$B$24:$B$5800,B32,Limit_Deviation_Detail!$C$24:$C$5800,C32,Limit_Deviation_Detail!$E$24:$E$5800,D32,Limit_Deviation_Detail!$I$24:$I$5800,\"Control Equipment Problems\"))","v":""},{"$f":"IF($E32=\"\",\"\",SUMIFS(Limit_Deviation_Detail!$H$24:$H$5800,Limit_Deviation_Detail!$B$24:$B$5800,B32,Limit_Deviation_Detail!$C$24:$C$5800,C32,Limit_Deviation_Detail!$E$24:$E$5800,D32,Limit_Deviation_Detail!$I$24:$I$5800,\"Process Problems\"))","v":""},{"$f":"IF($E32=\"\",\"\",SUMIFS(Limit_Deviation_Detail!$H$24:$H$5800,Limit_Deviation_Detail!$B$24:$B$5800,B32,Limit_Deviation_Detail!$C$24:$C$5800,C32,Limit_Deviation_Detail!$E$24:$E$5800,D32,Limit_Deviation_Detail!$I$24:$I$5800,\"Other Known Causes\"))","v":""},{"$f":"IF($E32=\"\",\"\",SUMIFS(Limit_Deviation_Detail!$H$24:$H$5800,Limit_Deviation_Detail!$B$24:$B$5800,B32,Limit_Deviation_Detail!$C$24:$C$5800,C32,Limit_Deviation_Detail!$E$24:$E$5800,D32,Limit_Deviation_Detail!$I$24:$I$5800,\"Unknown Causes\"))","v":""}]
[null,{"$f":"IF(Lists!AA11=\"\",\"\",Lists!AA11)","v":""},{"$f":"IF(Lists!AB11=\"\",\"\",Lists!AB11)","v":""},{"$f":"IF(Lists!AC11=\"\",\"\",Lists!AC11)","v":""},{"$f":"IF(Lists!AC11=\"\",\"\",Lists!AE11)","v":""},"","",{"$f":"IF($E33=\"\",\"\",SUMIFS(Limit_Deviation_Detail!$H$24:$H$5800,Limit_Deviation_Detail!$B$24:$B$5800,B33,Limit_Deviation_Detail!$C$24:$C$5800,C33,Limit_Deviation_Detail!$E$24:$E$5800,D33,Limit_Deviation_Detail!$I$24:$I$5800,\"Startup/Shutdown\"))","v":""},{"$f":"IF($E33=\"\",\"\",SUMIFS(Limit_Deviation_Detail!$H$24:$H$5800,Limit_Deviation_Detail!$B$24:$B$5800,B33,Limit_Deviation_Detail!$C$24:$C$5800,C33,Limit_Deviation_Detail!$E$24:$E$5800,D33,Limit_Deviation_Detail!$I$24:$I$5800,\"Control Equipment Problems\"))","v":""},{"$f":"IF($E33=\"\",\"\",SUMIFS(Limit_Deviation_Detail!$H$24:$H$5800,Limit_Deviation_Detail!$B$24:$B$5800,B33,Limit_Deviation_Detail!$C$24:$C$5800,C33,Limit_Deviation_Detail!$E$24:$E$5800,D33,Limit_Deviation_Detail!$I$24:$I$5800,\"Process Problems\"))","v":""},{"$f":"IF($E33=\"\",\"\",SUMIFS(Limit_Deviation_Detail!$H$24:$H$5800,Limit_Deviation_Detail!$B$24:$B$5800,B33,Limit_Deviation_Detail!$C$24:$C$5800,C33,Limit_Deviation_Detail!$E$24:$E$5800,D33,Limit_Deviation_Detail!$I$24:$I$5800,\"Other Known Causes\"))","v":""},{"$f":"IF($E33=\"\",\"\",SUMIFS(Limit_Deviation_Detail!$H$24:$H$5800,Limit_Deviation_Detail!$B$24:$B$5800,B33,Limit_Deviation_Detail!$C$24:$C$5800,C33,Limit_Deviation_Detail!$E$24:$E$5800,D33,Limit_Deviation_Detail!$I$24:$I$5800,\"Unknown Causes\"))","v":""}]
[null,{"$f":"IF(Lists!AA12=\"\",\"\",Lists!AA12)","v":""},{"$f":"IF(Lists!AB12=\"\",\"\",Lists!AB12)","v":""},{"$f":"IF(Lists!AC12=\"\",\"\",Lists!AC12)","v":""},{"$f":"IF(Lists!AC12=\"\",\"\",Lists!AE12)","v":""},"","",{"$f":"IF($E34=\"\",\"\",SUMIFS(Limit_Deviation_Detail!$H$24:$H$5800,Limit_Deviation_Detail!$B$24:$B$5800,B34,Limit_Deviation_Detail!$C$24:$C$5800,C34,Limit_Deviation_Detail!$E$24:$E$5800,D34,Limit_Deviation_Detail!$I$24:$I$5800,\"Startup/Shutdown\"))","v":""},{"$f":"IF($E34=\"\",\"\",SUMIFS(Limit_Deviation_Detail!$H$24:$H$5800,Limit_Deviation_Detail!$B$24:$B$5800,B34,Limit_Deviation_Detail!$C$24:$C$5800,C34,Limit_Deviation_Detail!$E$24:$E$5800,D34,Limit_Deviation_Detail!$I$24:$I$5800,\"Control Equipment Problems\"))","v":""},{"$f":"IF($E34=\"\",\"\",SUMIFS(Limit_Deviation_Detail!$H$24:$H$5800,Limit_Deviation_Detail!$B$24:$B$5800,B34,Limit_Deviation_Detail!$C$24:$C$5800,C34,Limit_Deviation_Detail!$E$24:$E$5800,D34,Limit_Deviation_Detail!$I$24:$I$5800,\"Process Problems\"))","v":""},{"$f":"IF($E34=\"\",\"\",SUMIFS(Limit_Deviation_Detail!$H$24:$H$5800,Limit_Deviation_Detail!$B$24:$B$5800,B34,Limit_Deviation_Detail!$C$24:$C$5800,C34,Limit_Deviation_Detail!$E$24:$E$5800,D34,Limit_Deviation_Detail!$I$24:$I$5800,\"Other Known Causes\"))","v":""},{"$f":"IF($E34=\"\",\"\",SUMIFS(Limit_Deviation_Detail!$H$24:$H$5800,Limit_Deviation_Detail!$B$24:$B$5800,B34,Limit_Deviation_Detail!$C$24:$C$5800,C34,Limit_Deviation_Detail!$E$24:$E$5800,D34,Limit_Deviation_Detail!$I$24:$I$5800,\"Unknown Causes\"))","v":""}]
[null,{"$f":"IF(Lists!AA13=\"\",\"\",Lists!AA13)","v":""},{"$f":"IF(Lists!AB13=\"\",\"\",Lists!AB13)","v":""},{"$f":"IF(Lists!AC13=\"\",\"\",Lists!AC13)","v":""},{"$f":"IF(Lists!AC13=\"\",\"\",Lists!AE13)","v":""},"","",{"$f":"IF($E35=\"\",\"\",SUMIFS(Limit_Deviation_Detail!$H$24:$H$5800,Limit_Deviation_Detail!$B$24:$B$5800,B35,Limit_Deviation_Detail!$C$24:$C$5800,C35,Limit_Deviation_Detail!$E$24:$E$5800,D35,Limit_Deviation_Detail!$I$24:$I$5800,\"Startup/Shutdown\"))","v":""},{"$f":"IF($E35=\"\",\"\",SUMIFS(Limit_Deviation_Detail!$H$24:$H$5800,Limit_Deviation_Detail!$B$24:$B$5800,B35,Limit_Deviation_Detail!$C$24:$C$5800,C35,Limit_Deviation_Detail!$E$24:$E$5800,D35,Limit_Deviation_Detail!$I$24:$I$5800,\"Control Equipment Problems\"))","v":""},{"$f":"IF($E35=\"\",\"\",SUMIFS(Limit_Deviation_Detail!$H$24:$H$5800,Limit_Deviation_Detail!$B$24:$B$5800,B35,Limit_Deviation_Detail!$C$24:$C$5800,C35,Limit_Deviation_Detail!$E$24:$E$5800,D35,Limit_Deviation_Detail!$I$24:$I$5800,\"Process Problems\"))","v":""},{"$f":"IF($E35=\"\",\"\",SUMIFS(Limit_Deviation_Detail!$H$24:$H$5800,Limit_Deviation_Detail!$B$24:$B$5800,B35,Limit_Deviation_Detail!$C$24:$C$5800,C35,Limit_Deviation_Detail!$E$24:$E$5800,D35,Limit_Deviation_Detail!$I$24:$I$5800,\"Other Known Causes\"))","v":""},{"$f":"IF($E35=\"\",\"\",SUMIFS(Limit_Deviation_Detail!$H$24:$H$5800,Limit_Deviation_Detail!$B$24:$B$5800,B35,Limit_Deviation_Detail!$C$24:$C$5800,C35,Limit_Deviation_Detail!$E$24:$E$5800,D35,Limit_Deviation_Detail!$I$24:$I$5800,\"Unknown Causes\"))","v":""}]
[null,{"$f":"IF(Lists!AA14=\"\",\"\",Lists!AA14)","v":""},{"$f":"IF(Lists!AB14=\"\",\"\",Lists!AB14)","v":""},{"$f":"IF(Lists!AC14=\"\",\"\",Lists!AC14)","v":""},{"$f":"IF(Lists!AC14=\"\",\"\",Lists!AE14)","v":""},"","",{"$f":"IF($E36=\"\",\"\",SUMIFS(Limit_Deviation_Detail!$H$24:$H$5800,Limit_Deviation_Detail!$B$24:$B$5800,B36,Limit_Deviation_Detail!$C$24:$C$5800,C36,Limit_Deviation_Detail!$E$24:$E$5800,D36,Limit_Deviation_Detail!$I$24:$I$5800,\"Startup/Shutdown\"))","v":""},{"$f":"IF($E36=\"\",\"\",SUMIFS(Limit_Deviation_Detail!$H$24:$H$5800,Limit_Deviation_Detail!$B$24:$B$5800,B36,Limit_Deviation_Detail!$C$24:$C$5800,C36,Limit_Deviation_Detail!$E$24:$E$5800,D36,Limit_Deviation_Detail!$I$24:$I$5800,\"Control Equipment Problems\"))","v":""},{"$f":"IF($E36=\"\",\"\",SUMIFS(Limit_Deviation_Detail!$H$24:$H$5800,Limit_Deviation_Detail!$B$24:$B$5800,B36,Limit_Deviation_Detail!$C$24:$C$5800,C36,Limit_Deviation_Detail!$E$24:$E$5800,D36,Limit_Deviation_Detail!$I$24:$I$5800,\"Process Problems\"))","v":""},{"$f":"IF($E36=\"\",\"\",SUMIFS(Limit_Deviation_Detail!$H$24:$H$5800,Limit_Deviation_Detail!$B$24:$B$5800,B36,Limit_Deviation_Detail!$C$24:$C$5800,C36,Limit_Deviation_Detail!$E$24:$E$5800,D36,Limit_Deviation_Detail!$I$24:$I$5800,\"Other Known Causes\"))","v":""},{"$f":"IF($E36=\"\",\"\",SUMIFS(Limit_Deviation_Detail!$H$24:$H$5800,Limit_Deviation_Detail!$B$24:$B$5800,B36,Limit_Deviation_Detail!$C$24:$C$5800,C36,Limit_Deviation_Detail!$E$24:$E$5800,D36,Limit_Deviation_Detail!$I$24:$I$5800,\"Unknown Causes\"))","v":""}]
[null,{"$f":"IF(Lists!AA15=\"\",\"\",Lists!AA15)","v":""},{"$f":"IF(Lists!AB15=\"\",\"\",Lists!AB15)","v":""},{"$f":"IF(Lists!AC15=\"\",\"\",Lists!AC15)","v":""},{"$f":"IF(Lists!AC15=\"\",\"\",Lists!AE15)","v":""},"","",{"$f":"IF($E37=\"\",\"\",SUMIFS(Limit_Deviation_Detail!$H$24:$H$5800,Limit_Deviation_Detail!$B$24:$B$5800,B37,Limit_Deviation_Detail!$C$24:$C$5800,C37,Limit_Deviation_Detail!$E$24:$E$5800,D37,Limit_Deviation_Detail!$I$24:$I$5800,\"Startup/Shutdown\"))","v":""},{"$f":"IF($E37=\"\",\"\",SUMIFS(Limit_Deviation_Detail!$H$24:$H$5800,Limit_Deviation_Detail!$B$24:$B$5800,B37,Limit_Deviation_Detail!$C$24:$C$5800,C37,Limit_Deviation_Detail!$E$24:$E$5800,D37,Limit_Deviation_Detail!$I$24:$I$5800,\"Control Equipment Problems\"))","v":""},{"$f":"IF($E37=\"\",\"\",SUMIFS(Limit_Deviation_Detail!$H$24:$H$5800,Limit_Deviation_Detail!$B$24:$B$5800,B37,Limit_Deviation_Detail!$C$24:$C$5800,C37,Limit_Deviation_Detail!$E$24:$E$5800,D37,Limit_Deviation_Detail!$I$24:$I$5800,\"Process Problems\"))","v":""},{"$f":"IF($E37=\"\",\"\",SUMIFS(Limit_Deviation_Detail!$H$24:$H$5800,Limit_Deviation_Detail!$B$24:$B$5800,B37,Limit_Deviation_Detail!$C$24:$C$5800,C37,Limit_Deviation_Detail!$E$24:$E$5800,D37,Limit_Deviation_Detail!$I$24:$I$5800,\"Other Known Causes\"))","v":""},{"$f":"IF($E37=\"\",\"\",SUMIFS(Limit_Deviation_Detail!$H$24:$H$5800,Limit_Deviation_Detail!$B$24:$B$5800,B37,Limit_Deviation_Detail!$C$24:$C$5800,C37,Limit_Deviation_Detail!$E$24:$E$5800,D37,Limit_Deviation_Detail!$I$24:$I$5800,\"Unknown Causes\"))","v":""}]
[null,{"$f":"IF(Lists!AA16=\"\",\"\",Lists!AA16)","v":""},{"$f":"IF(Lists!AB16=\"\",\"\",Lists!AB16)","v":""},{"$f":"IF(Lists!AC16=\"\",\"\",Lists!AC16)","v":""},{"$f":"IF(Lists!AC16=\"\",\"\",Lists!AE16)","v":""},"","",{"$f":"IF($E38=\"\",\"\",SUMIFS(Limit_Deviation_Detail!$H$24:$H$5800,Limit_Deviation_Detail!$B$24:$B$5800,B38,Limit_Deviation_Detail!$C$24:$C$5800,C38,Limit_Deviation_Detail!$E$24:$E$5800,D38,Limit_Deviation_Detail!$I$24:$I$5800,\"Startup/Shutdown\"))","v":""},{"$f":"IF($E38=\"\",\"\",SUMIFS(Limit_Deviation_Detail!$H$24:$H$5800,Limit_Deviation_Detail!$B$24:$B$5800,B38,Limit_Deviation_Detail!$C$24:$C$5800,C38,Limit_Deviation_Detail!$E$24:$E$5800,D38,Limit_Deviation_Detail!$I$24:$I$5800,\"Control Equipment Problems\"))","v":""},{"$f":"IF($E38=\"\",\"\",SUMIFS(Limit_Deviation_Detail!$H$24:$H$5800,Limit_Deviation_Detail!$B$24:$B$5800,B38,Limit_Deviation_Detail!$C$24:$C$5800,C38,Limit_Deviation_Detail!$E$24:$E$5800,D38,Limit_Deviation_Detail!$I$24:$I$5800,\"Process Problems\"))","v":""},{"$f":"IF($E38=\"\",\"\",SUMIFS(Limit_Deviation_Detail!$H$24:$H$5800,Limit_Deviation_Detail!$B$24:$B$5800,B38,Limit_Deviation_Detail!$C$24:$C$5800,C38,Limit_Deviation_Detail!$E$24:$E$5800,D38,Limit_Deviation_Detail!$I$24:$I$5800,\"Other Known Causes\"))","v":""},{"$f":"IF($E38=\"\",\"\",SUMIFS(Limit_Deviation_Detail!$H$24:$H$5800,Limit_Deviation_Detail!$B$24:$B$5800,B38,Limit_Deviation_Detail!$C$24:$C$5800,C38,Limit_Deviation_Detail!$E$24:$E$5800,D38,Limit_Deviation_Detail!$I$24:$I$5800,\"Unknown Causes\"))","v":""}]
[null,{"$f":"IF(Lists!AA17=\"\",\"\",Lists!AA17)","v":""},{"$f":"IF(Lists!AB17=\"\",\"\",Lists!AB17)","v":""},{"$f":"IF(Lists!AC17=\"\",\"\",Lists!AC17)","v":""},{"$f":"IF(Lists!AC17=\"\",\"\",Lists!AE17)","v":""},"","",{"$f":"IF($E39=\"\",\"\",SUMIFS(Limit_Deviation_Detail!$H$24:$H$5800,Limit_Deviation_Detail!$B$24:$B$5800,B39,Limit_Deviation_Detail!$C$24:$C$5800,C39,Limit_Deviation_Detail!$E$24:$E$5800,D39,Limit_Deviation_Detail!$I$24:$I$5800,\"Startup/Shutdown\"))","v":""},{"$f":"IF($E39=\"\",\"\",SUMIFS(Limit_Deviation_Detail!$H$24:$H$5800,Limit_Deviation_Detail!$B$24:$B$5800,B39,Limit_Deviation_Detail!$C$24:$C$5800,C39,Limit_Deviation_Detail!$E$24:$E$5800,D39,Limit_Deviation_Detail!$I$24:$I$5800,\"Control Equipment Problems\"))","v":""},{"$f":"IF($E39=\"\",\"\",SUMIFS(Limit_Deviation_Detail!$H$24:$H$5800,Limit_Deviation_Detail!$B$24:$B$5800,B39,Limit_Deviation_Detail!$C$24:$C$5800,C39,Limit_Deviation_Detail!$E$24:$E$5800,D39,Limit_Deviation_Detail!$I$24:$I$5800,\"Process Problems\"))","v":""},{"$f":"IF($E39=\"\",\"\",SUMIFS(Limit_Deviation_Detail!$H$24:$H$5800,Limit_Deviation_Detail!$B$24:$B$5800,B39,Limit_Deviation_Detail!$C$24:$C$5800,C39,Limit_Deviation_Detail!$E$24:$E$5800,D39,Limit_Deviation_Detail!$I$24:$I$5800,\"Other Known Causes\"))","v":""},{"$f":"IF($E39=\"\",\"\",SUMIFS(Limit_Deviation_Detail!$H$24:$H$5800,Limit_Deviation_Detail!$B$24:$B$5800,B39,Limit_Deviation_Detail!$C$24:$C$5800,C39,Limit_Deviation_Detail!$E$24:$E$5800,D39,Limit_Deviation_Detail!$I$24:$I$5800,\"Unknown Causes\"))","v":""}]
[null,{"$f":"IF(Lists!AA18=\"\",\"\",Lists!AA18)","v":""},{"$f":"IF(Lists!AB18=\"\",\"\",Lists!AB18)","v":""},{"$f":"IF(Lists!AC18=\"\",\"\",Lists!AC18)","v":""},{"$f":"IF(Lists!AC18=\"\",\"\",Lists!AE18)","v":""},"","",{"$f":"IF($E40=\"\",\"\",SUMIFS(Limit_Deviation_Detail!$H$24:$H$5800,Limit_Deviation_Detail!$B$24:$B$5800,B40,Limit_Deviation_Detail!$C$24:$C$5800,C40,Limit_Deviation_Detail!$E$24:$E$5800,D40,Limit_Deviation_Detail!$I$24:$I$5800,\"Startup/Shutdown\"))","v":""},{"$f":"IF($E40=\"\",\"\",SUMIFS(Limit_Deviation_Detail!$H$24:$H$5800,Limit_Deviation_Detail!$B$24:$B$5800,B40,Limit_Deviation_Detail!$C$24:$C$5800,C40,Limit_Deviation_Detail!$E$24:$E$5800,D40,Limit_Deviation_Detail!$I$24:$I$5800,\"Control Equipment Problems\"))","v":""},{"$f":"IF($E40=\"\",\"\",SUMIFS(Limit_Deviation_Detail!$H$24:$H$5800,Limit_Deviation_Detail!$B$24:$B$5800,B40,Limit_Deviation_Detail!$C$24:$C$5800,C40,Limit_Deviation_Detail!$E$24:$E$5800,D40,Limit_Deviation_Detail!$I$24:$I$5800,\"Process Problems\"))","v":""},{"$f":"IF($E40=\"\",\"\",SUMIFS(Limit_Deviation_Detail!$H$24:$H$5800,Limit_Deviation_Detail!$B$24:$B$5800,B40,Limit_Deviation_Detail!$C$24:$C$5800,C40,Limit_Deviation_Detail!$E$24:$E$5800,D40,Limit_Deviation_Detail!$I$24:$I$5800,\"Other Known Causes\"))","v":""},{"$f":"IF($E40=\"\",\"\",SUMIFS(Limit_Deviation_Detail!$H$24:$H$5800,Limit_Deviation_Detail!$B$24:$B$5800,B40,Limit_Deviation_Detail!$C$24:$C$5800,C40,Limit_Deviation_Detail!$E$24:$E$5800,D40,Limit_Deviation_Detail!$I$24:$I$5800,\"Unknown Causes\"))","v":""}]
[null,{"$f":"IF(Lists!AA19=\"\",\"\",Lists!AA19)","v":""},{"$f":"IF(Lists!AB19=\"\",\"\",Lists!AB19)","v":""},{"$f":"IF(Lists!AC19=\"\",\"\",Lists!AC19)","v":""},{"$f":"IF(Lists!AC19=\"\",\"\",Lists!AE19)","v":""},"","",{"$f":"IF($E41=\"\",\"\",SUMIFS(Limit_Deviation_Detail!$H$24:$H$5800,Limit_Deviation_Detail!$B$24:$B$5800,B41,Limit_Deviation_Detail!$C$24:$C$5800,C41,Limit_Deviation_Detail!$E$24:$E$5800,D41,Limit_Deviation_Detail!$I$24:$I$5800,\"Startup/Shutdown\"))","v":""},{"$f":"IF($E41=\"\",\"\",SUMIFS(Limit_Deviation_Detail!$H$24:$H$5800,Limit_Deviation_Detail!$B$24:$B$5800,B41,Limit_Deviation_Detail!$C$24:$C$5800,C41,Limit_Deviation_Detail!$E$24:$E$5800,D41,Limit_Deviation_Detail!$I$24:$I$5800,\"Control Equipment Problems\"))","v":""},{"$f":"IF($E41=\"\",\"\",SUMIFS(Limit_Deviation_Detail!$H$24:$H$5800,Limit_Deviation_Detail!$B$24:$B$5800,B41,Limit_Deviation_Detail!$C$24:$C$5800,C41,Limit_Deviation_Detail!$E$24:$E$5800,D41,Limit_Deviation_Detail!$I$24:$I$5800,\"Process Problems\"))","v":""},{"$f":"IF($E41=\"\",\"\",SUMIFS(Limit_Deviation_Detail!$H$24:$H$5800,Limit_Deviation_Detail!$B$24:$B$5800,B41,Limit_Deviation_Detail!$C$24:$C$5800,C41,Limit_Deviation_Detail!$E$24:$E$5800,D41,Limit_Deviation_Detail!$I$24:$I$5800,\"Other Known Causes\"))","v":""},{"$f":"IF($E41=\"\",\"\",SUMIFS(Limit_Deviation_Detail!$H$24:$H$5800,Limit_Deviation_Detail!$B$24:$B$5800,B41,Limit_Deviation_Detail!$C$24:$C$5800,C41,Limit_Deviation_Detail!$E$24:$E$5800,D41,Limit_Deviation_Detail!$I$24:$I$5800,\"Unknown Causes\"))","v":""}]
[null,{"$f":"IF(Lists!AA20=\"\",\"\",Lists!AA20)","v":""},{"$f":"IF(Lists!AB20=\"\",\"\",Lists!AB20)","v":""},{"$f":"IF(Lists!AC20=\"\",\"\",Lists!AC20)","v":""},{"$f":"IF(Lists!AC20=\"\",\"\",Lists!AE20)","v":""},"","",{"$f":"IF($E42=\"\",\"\",SUMIFS(Limit_Deviation_Detail!$H$24:$H$5800,Limit_Deviation_Detail!$B$24:$B$5800,B42,Limit_Deviation_Detail!$C$24:$C$5800,C42,Limit_Deviation_Detail!$E$24:$E$5800,D42,Limit_Deviation_Detail!$I$24:$I$5800,\"Startup/Shutdown\"))","v":""},{"$f":"IF($E42=\"\",\"\",SUMIFS(Limit_Deviation_Detail!$H$24:$H$5800,Limit_Deviation_Detail!$B$24:$B$5800,B42,Limit_Deviation_Detail!$C$24:$C$5800,C42,Limit_Deviation_Detail!$E$24:$E$5800,D42,Limit_Deviation_Detail!$I$24:$I$5800,\"Control Equipment Problems\"))","v":""},{"$f":"IF($E42=\"\",\"\",SUMIFS(Limit_Deviation_Detail!$H$24:$H$5800,Limit_Deviation_Detail!$B$24:$B$5800,B42,Limit_Deviation_Detail!$C$24:$C$5800,C42,Limit_Deviation_Detail!$E$24:$E$5800,D42,Limit_Deviation_Detail!$I$24:$I$5800,\"Process Problems\"))","v":""},{"$f":"IF($E42=\"\",\"\",SUMIFS(Limit_Deviation_Detail!$H$24:$H$5800,Limit_Deviation_Detail!$B$24:$B$5800,B42,Limit_Deviation_Detail!$C$24:$C$5800,C42,Limit_Deviation_Detail!$E$24:$E$5800,D42,Limit_Deviation_Detail!$I$24:$I$5800,\"Other Known Causes\"))","v":""},{"$f":"IF($E42=\"\",\"\",SUMIFS(Limit_Deviation_Detail!$H$24:$H$5800,Limit_Deviation_Detail!$B$24:$B$5800,B42,Limit_Deviation_Detail!$C$24:$C$5800,C42,Limit_Deviation_Detail!$E$24:$E$5800,D42,Limit_Deviation_Detail!$I$24:$I$5800,\"Unknown Causes\"))","v":""}]
[null,{"$f":"IF(Lists!AA21=\"\",\"\",Lists!AA21)","v":""},{"$f":"IF(Lists!AB21=\"\",\"\",Lists!AB21)","v":""},{"$f":"IF(Lists!AC21=\"\",\"\",Lists!AC21)","v":""},{"$f":"IF(Lists!AC21=\"\",\"\",Lists!AE21)","v":""},"","",{"$f":"IF($E43=\"\",\"\",SUMIFS(Limit_Deviation_Detail!$H$24:$H$5800,Limit_Deviation_Detail!$B$24:$B$5800,B43,Limit_Deviation_Detail!$C$24:$C$5800,C43,Limit_Deviation_Detail!$E$24:$E$5800,D43,Limit_Deviation_Detail!$I$24:$I$5800,\"Startup/Shutdown\"))","v":""},{"$f":"IF($E43=\"\",\"\",SUMIFS(Limit_Deviation_Detail!$H$24:$H$5800,Limit_Deviation_Detail!$B$24:$B$5800,B43,Limit_Deviation_Detail!$C$24:$C$5800,C43,Limit_Deviation_Detail!$E$24:$E$5800,D43,Limit_Deviation_Detail!$I$24:$I$5800,\"Control Equipment Problems\"))","v":""},{"$f":"IF($E43=\"\",\"\",SUMIFS(Limit_Deviation_Detail!$H$24:$H$5800,Limit_Deviation_Detail!$B$24:$B$5800,B43,Limit_Deviation_Detail!$C$24:$C$5800,C43,Limit_Deviation_Detail!$E$24:$E$5800,D43,Limit_Deviation_Detail!$I$24:$I$5800,\"Process Problems\"))","v":""},{"$f":"IF($E43=\"\",\"\",SUMIFS(Limit_Deviation_Detail!$H$24:$H$5800,Limit_Deviation_Detail!$B$24:$B$5800,B43,Limit_Deviation_Detail!$C$24:$C$5800,C43,Limit_Deviation_Detail!$E$24:$E$5800,D43,Limit_Deviation_Detail!$I$24:$I$5800,\"Other Known Causes\"))","v":""},{"$f":"IF($E43=\"\",\"\",SUMIFS(Limit_Deviation_Detail!$H$24:$H$5800,Limit_Deviation_Detail!$B$24:$B$5800,B43,Limit_Deviation_Detail!$C$24:$C$5800,C43,Limit_Deviation_Detail!$E$24:$E$5800,D43,Limit_Deviation_Detail!$I$24:$I$5800,\"Unknown Causes\"))","v":""}]
[null,{"$f":"IF(Lists!AA22=\"\",\"\",Lists!AA22)","v":""},{"$f":"IF(Lists!AB22=\"\",\"\",Lists!AB22)","v":""},{"$f":"IF(Lists!AC22=\"\",\"\",Lists!AC22)","v":""},{"$f":"IF(Lists!AC22=\"\",\"\",Lists!AE22)","v":""},"","",{"$f":"IF($E44=\"\",\"\",SUMIFS(Limit_Deviation_Detail!$H$24:$H$5800,Limit_Deviation_Detail!$B$24:$B$5800,B44,Limit_Deviation_Detail!$C$24:$C$5800,C44,Limit_Deviation_Detail!$E$24:$E$5800,D44,Limit_Deviation_Detail!$I$24:$I$5800,\"Startup/Shutdown\"))","v":""},{"$f":"IF($E44=\"\",\"\",SUMIFS(Limit_Deviation_Detail!$H$24:$H$5800,Limit_Deviation_Detail!$B$24:$B$5800,B44,Limit_Deviation_Detail!$C$24:$C$5800,C44,Limit_Deviation_Detail!$E$24:$E$5800,D44,Limit_Deviation_Detail!$I$24:$I$5800,\"Control Equipment Problems\"))","v":""},{"$f":"IF($E44=\"\",\"\",SUMIFS(Limit_Deviation_Detail!$H$24:$H$5800,Limit_Deviation_Detail!$B$24:$B$5800,B44,Limit_Deviation_Detail!$C$24:$C$5800,C44,Limit_Deviation_Detail!$E$24:$E$5800,D44,Limit_Deviation_Detail!$I$24:$I$5800,\"Process Problems\"))","v":""},{"$f":"IF($E44=\"\",\"\",SUMIFS(Limit_Deviation_Detail!$H$24:$H$5800,Limit_Deviation_Detail!$B$24:$B$5800,B44,Limit_Deviation_Detail!$C$24:$C$5800,C44,Limit_Deviation_Detail!$E$24:$E$5800,D44,Limit_Deviation_Detail!$I$24:$I$5800,\"Other Known Causes\"))","v":""},{"$f":"IF($E44=\"\",\"\",SUMIFS(Limit_Deviation_Detail!$H$24:$H$5800,Limit_Deviation_Detail!$B$24:$B$5800,B44,Limit_Deviation_Detail!$C$24:$C$5800,C44,Limit_Deviation_Detail!$E$24:$E$5800,D44,Limit_Deviation_Detail!$I$24:$I$5800,\"Unknown Causes\"))","v":""}]
[null,{"$f":"IF(Lists!AA23=\"\",\"\",Lists!AA23)","v":""},{"$f":"IF(Lists!AB23=\"\",\"\",Lists!AB23)","v":""},{"$f":"IF(Lists!AC23=\"\",\"\",Lists!AC23)","v":""},{"$f":"IF(Lists!AC23=\"\",\"\",Lists!AE23)","v":""},"","",{"$f":"IF($E45=\"\",\"\",SUMIFS(Limit_Deviation_Detail!$H$24:$H$5800,Limit_Deviation_Detail!$B$24:$B$5800,B45,Limit_Deviation_Detail!$C$24:$C$5800,C45,Limit_Deviation_Detail!$E$24:$E$5800,D45,Limit_Deviation_Detail!$I$24:$I$5800,\"Startup/Shutdown\"))","v":""},{"$f":"IF($E45=\"\",\"\",SUMIFS(Limit_Deviation_Detail!$H$24:$H$5800,Limit_Deviation_Detail!$B$24:$B$5800,B45,Limit_Deviation_Detail!$C$24:$C$5800,C45,Limit_Deviation_Detail!$E$24:$E$5800,D45,Limit_Deviation_Detail!$I$24:$I$5800,\"Control Equipment Problems\"))","v":""},{"$f":"IF($E45=\"\",\"\",SUMIFS(Limit_Deviation_Detail!$H$24:$H$5800,Limit_Deviation_Detail!$B$24:$B$5800,B45,Limit_Deviation_Detail!$C$24:$C$5800,C45,Limit_Deviation_Detail!$E$24:$E$5800,D45,Limit_Deviation_Detail!$I$24:$I$5800,\"Process Problems\"))","v":""},{"$f":"IF($E45=\"\",\"\",SUMIFS(Limit_Deviation_Detail!$H$24:$H$5800,Limit_Deviation_Detail!$B$24:$B$5800,B45,Limit_Deviation_Detail!$C$24:$C$5800,C45,Limit_Deviation_Detail!$E$24:$E$5800,D45,Limit_Deviation_Detail!$I$24:$I$5800,\"Other Known Causes\"))","v":""},{"$f":"IF($E45=\"\",\"\",SUMIFS(Limit_Deviation_Detail!$H$24:$H$5800,Limit_Deviation_Detail!$B$24:$B$5800,B45,Limit_Deviation_Detail!$C$24:$C$5800,C45,Limit_Deviation_Detail!$E$24:$E$5800,D45,Limit_Deviation_Detail!$I$24:$I$5800,\"Unknown Causes\"))","v":""}]
[null,{"$f":"IF(Lists!AA24=\"\",\"\",Lists!AA24)","v":""},{"$f":"IF(Lists!AB24=\"\",\"\",Lists!AB24)","v":""},{"$f":"IF(Lists!AC24=\"\",\"\",Lists!AC24)","v":""},{"$f":"IF(Lists!AC24=\"\",\"\",Lists!AE24)","v":""},"","",{"$f":"IF($E46=\"\",\"\",SUMIFS(Limit_Deviation_Detail!$H$24:$H$5800,Limit_Deviation_Detail!$B$24:$B$5800,B46,Limit_Deviation_Detail!$C$24:$C$5800,C46,Limit_Deviation_Detail!$E$24:$E$5800,D46,Limit_Deviation_Detail!$I$24:$I$5800,\"Startup/Shutdown\"))","v":""},{"$f":"IF($E46=\"\",\"\",SUMIFS(Limit_Deviation_Detail!$H$24:$H$5800,Limit_Deviation_Detail!$B$24:$B$5800,B46,Limit_Deviation_Detail!$C$24:$C$5800,C46,Limit_Deviation_Detail!$E$24:$E$5800,D46,Limit_Deviation_Detail!$I$24:$I$5800,\"Control Equipment Problems\"))","v":""},{"$f":"IF($E46=\"\",\"\",SUMIFS(Limit_Deviation_Detail!$H$24:$H$5800,Limit_Deviation_Detail!$B$24:$B$5800,B46,Limit_Deviation_Detail!$C$24:$C$5800,C46,Limit_Deviation_Detail!$E$24:$E$5800,D46,Limit_Deviation_Detail!$I$24:$I$5800,\"Process Problems\"))","v":""},{"$f":"IF($E46=\"\",\"\",SUMIFS(Limit_Deviation_Detail!$H$24:$H$5800,Limit_Deviation_Detail!$B$24:$B$5800,B46,Limit_Deviation_Detail!$C$24:$C$5800,C46,Limit_Deviation_Detail!$E$24:$E$5800,D46,Limit_Deviation_Detail!$I$24:$I$5800,\"Other Known Causes\"))","v":""},{"$f":"IF($E46=\"\",\"\",SUMIFS(Limit_Deviation_Detail!$H$24:$H$5800,Limit_Deviation_Detail!$B$24:$B$5800,B46,Limit_Deviation_Detail!$C$24:$C$5800,C46,Limit_Deviation_Detail!$E$24:$E$5800,D46,Limit_Deviation_Detail!$I$24:$I$5800,\"Unknown Causes\"))","v":""}]
[null,{"$f":"IF(Lists!AA25=\"\",\"\",Lists!AA25)","v":""},{"$f":"IF(Lists!AB25=\"\",\"\",Lists!AB25)","v":""},{"$f":"IF(Lists!AC25=\"\",\"\",Lists!AC25)","v":""},{"$f":"IF(Lists!AC25=\"\",\"\",Lists!AE25)","v":""},"","",{"$f":"IF($E47=\"\",\"\",SUMIFS(Limit_Deviation_Detail!$H$24:$H$5800,Limit_Deviation_Detail!$B$24:$B$5800,B47,Limit_Deviation_Detail!$C$24:$C$5800,C47,Limit_Deviation_Detail!$E$24:$E$5800,D47,Limit_Deviation_Detail!$I$24:$I$5800,\"Startup/Shutdown\"))","v":""},{"$f":"IF($E47=\"\",\"\",SUMIFS(Limit_Deviation_Detail!$H$24:$H$5800,Limit_Deviation_Detail!$B$24:$B$5800,B47,Limit_Deviation_Detail!$C$24:$C$5800,C47,Limit_Deviation_Detail!$E$24:$E$5800,D47,Limit_Deviation_Detail!$I$24:$I$5800,\"Control Equipment Problems\"))","v":""},{"$f":"IF($E47=\"\",\"\",SUMIFS(Limit_Deviation_Detail!$H$24:$H$5800,Limit_Deviation_Detail!$B$24:$B$5800,B47,Limit_Deviation_Detail!$C$24:$C$5800,C47,Limit_Deviation_Detail!$E$24:$E$5800,D47,Limit_Deviation_Detail!$I$24:$I$5800,\"Process Problems\"))","v":""},{"$f":"IF($E47=\"\",\"\",SUMIFS(Limit_Deviation_Detail!$H$24:$H$5800,Limit_Deviation_Detail!$B$24:$B$5800,B47,Limit_Deviation_Detail!$C$24:$C$5800,C47,Limit_Deviation_Detail!$E$24:$E$5800,D47,Limit_Deviation_Detail!$I$24:$I$5800,\"Other Known Causes\"))","v":""},{"$f":"IF($E47=\"\",\"\",SUMIFS(Limit_Deviation_Detail!$H$24:$H$5800,Limit_Deviation_Detail!$B$24:$B$5800,B47,Limit_Deviation_Detail!$C$24:$C$5800,C47,Limit_Deviation_Detail!$E$24:$E$5800,D47,Limit_Deviation_Detail!$I$24:$I$5800,\"Unknown Causes\"))","v":""}]
[null,{"$f":"IF(Lists!AA26=\"\",\"\",Lists!AA26)","v":""},{"$f":"IF(Lists!AB26=\"\",\"\",Lists!AB26)","v":""},{"$f":"IF(Lists!AC26=\"\",\"\",Lists!AC26)","v":""},{"$f":"IF(Lists!AC26=\"\",\"\",Lists!AE26)","v":""},"","",{"$f":"IF($E48=\"\",\"\",SUMIFS(Limit_Deviation_Detail!$H$24:$H$5800,Limit_Deviation_Detail!$B$24:$B$5800,B48,Limit_Deviation_Detail!$C$24:$C$5800,C48,Limit_Deviation_Detail!$E$24:$E$5800,D48,Limit_Deviation_Detail!$I$24:$I$5800,\"Startup/Shutdown\"))","v":""},{"$f":"IF($E48=\"\",\"\",SUMIFS(Limit_Deviation_Detail!$H$24:$H$5800,Limit_Deviation_Detail!$B$24:$B$5800,B48,Limit_Deviation_Detail!$C$24:$C$5800,C48,Limit_Deviation_Detail!$E$24:$E$5800,D48,Limit_Deviation_Detail!$I$24:$I$5800,\"Control Equipment Problems\"))","v":""},{"$f":"IF($E48=\"\",\"\",SUMIFS(Limit_Deviation_Detail!$H$24:$H$5800,Limit_Deviation_Detail!$B$24:$B$5800,B48,Limit_Deviation_Detail!$C$24:$C$5800,C48,Limit_Deviation_Detail!$E$24:$E$5800,D48,Limit_Deviation_Detail!$I$24:$I$5800,\"Process Problems\"))","v":""},{"$f":"IF($E48=\"\",\"\",SUMIFS(Limit_Deviation_Detail!$H$24:$H$5800,Limit_Deviation_Detail!$B$24:$B$5800,B48,Limit_Deviation_Detail!$C$24:$C$5800,C48,Limit_Deviation_Detail!$E$24:$E$5800,D48,Limit_Deviation_Detail!$I$24:$I$5800,\"Other Known Causes\"))","v":""},{"$f":"IF($E48=\"\",\"\",SUMIFS(Limit_Deviation_Detail!$H$24:$H$5800,Limit_Deviation_Detail!$B$24:$B$5800,B48,Limit_Deviation_Detail!$C$24:$C$5800,C48,Limit_Deviation_Detail!$E$24:$E$5800,D48,Limit_Deviation_Detail!$I$24:$I$5800,\"Unknown Causes\"))","v":""}]
[null,{"$f":"IF(Lists!AA27=\"\",\"\",Lists!AA27)","v":""},{"$f":"IF(Lists!AB27=\"\",\"\",Lists!AB27)","v":""},{"$f":"IF(Lists!AC27=\"\",\"\",Lists!AC27)","v":""},{"$f":"IF(Lists!AC27=\"\",\"\",Lists!AE27)","v":""},"","",{"$f":"IF($E49=\"\",\"\",SUMIFS(Limit_Deviation_Detail!$H$24:$H$5800,Limit_Deviation_Detail!$B$24:$B$5800,B49,Limit_Deviation_Detail!$C$24:$C$5800,C49,Limit_Deviation_Detail!$E$24:$E$5800,D49,Limit_Deviation_Detail!$I$24:$I$5800,\"Startup/Shutdown\"))","v":""},{"$f":"IF($E49=\"\",\"\",SUMIFS(Limit_Deviation_Detail!$H$24:$H$5800,Limit_Deviation_Detail!$B$24:$B$5800,B49,Limit_Deviation_Detail!$C$24:$C$5800,C49,Limit_Deviation_Detail!$E$24:$E$5800,D49,Limit_Deviation_Detail!$I$24:$I$5800,\"Control Equipment Problems\"))","v":""},{"$f":"IF($E49=\"\",\"\",SUMIFS(Limit_Deviation_Detail!$H$24:$H$5800,Limit_Deviation_Detail!$B$24:$B$5800,B49,Limit_Deviation_Detail!$C$24:$C$5800,C49,Limit_Deviation_Detail!$E$24:$E$5800,D49,Limit_Deviation_Detail!$I$24:$I$5800,\"Process Problems\"))","v":""},{"$f":"IF($E49=\"\",\"\",SUMIFS(Limit_Deviation_Detail!$H$24:$H$5800,Limit_Deviation_Detail!$B$24:$B$5800,B49,Limit_Deviation_Detail!$C$24:$C$5800,C49,Limit_Deviation_Detail!$E$24:$E$5800,D49,Limit_Deviation_Detail!$I$24:$I$5800,\"Other Known Causes\"))","v":""},{"$f":"IF($E49=\"\",\"\",SUMIFS(Limit_Deviation_Detail!$H$24:$H$5800,Limit_Deviation_Detail!$B$24:$B$5800,B49,Limit_Deviation_Detail!$C$24:$C$5800,C49,Limit_Deviation_Detail!$E$24:$E$5800,D49,Limit_Deviation_Detail!$I$24:$I$5800,\"Unknown Causes\"))","v":""}]
[null,{"$f":"IF(Lists!AA28=\"\",\"\",Lists!AA28)","v":""},{"$f":"IF(Lists!AB28=\"\",\"\",Lists!AB28)","v":""},{"$f":"IF(Lists!AC28=\"\",\"\",Lists!AC28)","v":""},{"$f":"IF(Lists!AC28=\"\",\"\",Lists!AE28)","v":""},"","",{"$f":"IF($E50=\"\",\"\",SUMIFS(Limit_Deviation_Detail!$H$24:$H$5800,Limit_Deviation_Detail!$B$24:$B$5800,B50,Limit_Deviation_Detail!$C$24:$C$5800,C50,Limit_Deviation_Detail!$E$24:$E$5800,D50,Limit_Deviation_Detail!$I$24:$I$5800,\"Startup/Shutdown\"))","v":""},{"$f":"IF($E50=\"\",\"\",SUMIFS(Limit_Deviation_Detail!$H$24:$H$5800,Limit_Deviation_Detail!$B$24:$B$5800,B50,Limit_Deviation_Detail!$C$24:$C$5800,C50,Limit_Deviation_Detail!$E$24:$E$5800,D50,Limit_Deviation_Detail!$I$24:$I$5800,\"Control Equipment Problems\"))","v":""},{"$f":"IF($E50=\"\",\"\",SUMIFS(Limit_Deviation_Detail!$H$24:$H$5800,Limit_Deviation_Detail!$B$24:$B$5800,B50,Limit_Deviation_Detail!$C$24:$C$5800,C50,Limit_Deviation_Detail!$E$24:$E$5800,D50,Limit_Deviation_Detail!$I$24:$I$5800,\"Process Problems\"))","v":""},{"$f":"IF($E50=\"\",\"\",SUMIFS(Limit_Deviation_Detail!$H$24:$H$5800,Limit_Deviation_Detail!$B$24:$B$5800,B50,Limit_Deviation_Detail!$C$24:$C$5800,C50,Limit_Deviation_Detail!$E$24:$E$5800,D50,Limit_Deviation_Detail!$I$24:$I$5800,\"Other Known Causes\"))","v":""},{"$f":"IF($E50=\"\",\"\",SUMIFS(Limit_Deviation_Detail!$H$24:$H$5800,Limit_Deviation_Detail!$B$24:$B$5800,B50,Limit_Deviation_Detail!$C$24:$C$5800,C50,Limit_Deviation_Detail!$E$24:$E$5800,D50,Limit_Deviation_Detail!$I$24:$I$5800,\"Unknown Causes\"))","v":""}]
[null,{"$f":"IF(Lists!AA29=\"\",\"\",Lists!AA29)","v":""},{"$f":"IF(Lists!AB29=\"\",\"\",Lists!AB29)","v":""},{"$f":"IF(Lists!AC29=\"\",\"\",Lists!AC29)","v":""},{"$f":"IF(Lists!AC29=\"\",\"\",Lists!AE29)","v":""},"","",{"$f":"IF($E51=\"\",\"\",SUMIFS(Limit_Deviation_Detail!$H$24:$H$5800,Limit_Deviation_Detail!$B$24:$B$5800,B51,Limit_Deviation_Detail!$C$24:$C$5800,C51,Limit_Deviation_Detail!$E$24:$E$5800,D51,Limit_Deviation_Detail!$I$24:$I$5800,\"Startup/Shutdown\"))","v":""},{"$f":"IF($E51=\"\",\"\",SUMIFS(Limit_Deviation_Detail!$H$24:$H$5800,Limit_Deviation_Detail!$B$24:$B$5800,B51,Limit_Deviation_Detail!$C$24:$C$5800,C51,Limit_Deviation_Detail!$E$24:$E$5800,D51,Limit_Deviation_Detail!$I$24:$I$5800,\"Control Equipment Problems\"))","v":""},{"$f":"IF($E51=\"\",\"\",SUMIFS(Limit_Deviation_Detail!$H$24:$H$5800,Limit_Deviation_Detail!$B$24:$B$5800,B51,Limit_Deviation_Detail!$C$24:$C$5800,C51,Limit_Deviation_Detail!$E$24:$E$5800,D51,Limit_Deviation_Detail!$I$24:$I$5800,\"Process Problems\"))","v":""},{"$f":"IF($E51=\"\",\"\",SUMIFS(Limit_Deviation_Detail!$H$24:$H$5800,Limit_Deviation_Detail!$B$24:$B$5800,B51,Limit_Deviation_Detail!$C$24:$C$5800,C51,Limit_Deviation_Detail!$E$24:$E$5800,D51,Limit_Deviation_Detail!$I$24:$I$5800,\"Other Known Causes\"))","v":""},{"$f":"IF($E51=\"\",\"\",SUMIFS(Limit_Deviation_Detail!$H$24:$H$5800,Limit_Deviation_Detail!$B$24:$B$5800,B51,Limit_Deviation_Detail!$C$24:$C$5800,C51,Limit_Deviation_Detail!$E$24:$E$5800,D51,Limit_Deviation_Detail!$I$24:$I$5800,\"Unknown Causes\"))","v":""}]
[null,{"$f":"IF(Lists!AA30=\"\",\"\",Lists!AA30)","v":""},{"$f":"IF(Lists!AB30=\"\",\"\",Lists!AB30)","v":""},{"$f":"IF(Lists!AC30=\"\",\"\",Lists!AC30)","v":""},{"$f":"IF(Lists!AC30=\"\",\"\",Lists!AE30)","v":""},"","",{"$f":"IF($E52=\"\",\"\",SUMIFS(Limit_Deviation_Detail!$H$24:$H$5800,Limit_Deviation_Detail!$B$24:$B$5800,B52,Limit_Deviation_Detail!$C$24:$C$5800,C52,Limit_Deviation_Detail!$E$24:$E$5800,D52,Limit_Deviation_Detail!$I$24:$I$5800,\"Startup/Shutdown\"))","v":""},{"$f":"IF($E52=\"\",\"\",SUMIFS(Limit_Deviation_Detail!$H$24:$H$5800,Limit_Deviation_Detail!$B$24:$B$5800,B52,Limit_Deviation_Detail!$C$24:$C$5800,C52,Limit_Deviation_Detail!$E$24:$E$5800,D52,Limit_Deviation_Detail!$I$24:$I$5800,\"Control Equipment Problems\"))","v":""},{"$f":"IF($E52=\"\",\"\",SUMIFS(Limit_Deviation_Detail!$H$24:$H$5800,Limit_Deviation_Detail!$B$24:$B$5800,B52,Limit_Deviation_Detail!$C$24:$C$5800,C52,Limit_Deviation_Detail!$E$24:$E$5800,D52,Limit_Deviation_Detail!$I$24:$I$5800,\"Process Problems\"))","v":""},{"$f":"IF($E52=\"\",\"\",SUMIFS(Limit_Deviation_Detail!$H$24:$H$5800,Limit_Deviation_Detail!$B$24:$B$5800,B52,Limit_Deviation_Detail!$C$24:$C$5800,C52,Limit_Deviation_Detail!$E$24:$E$5800,D52,Limit_Deviation_Detail!$I$24:$I$5800,\"Other Known Causes\"))","v":""},{"$f":"IF($E52=\"\",\"\",SUMIFS(Limit_Deviation_Detail!$H$24:$H$5800,Limit_Deviation_Detail!$B$24:$B$5800,B52,Limit_Deviation_Detail!$C$24:$C$5800,C52,Limit_Deviation_Detail!$E$24:$E$5800,D52,Limit_Deviation_Detail!$I$24:$I$5800,\"Unknown Causes\"))","v":""}]
[null,{"$f":"IF(Lists!AA31=\"\",\"\",Lists!AA31)","v":""},{"$f":"IF(Lists!AB31=\"\",\"\",Lists!AB31)","v":""},{"$f":"IF(Lists!AC31=\"\",\"\",Lists!AC31)","v":""},{"$f":"IF(Lists!AC31=\"\",\"\",Lists!AE31)","v":""},"","",{"$f":"IF($E53=\"\",\"\",SUMIFS(Limit_Deviation_Detail!$H$24:$H$5800,Limit_Deviation_Detail!$B$24:$B$5800,B53,Limit_Deviation_Detail!$C$24:$C$5800,C53,Limit_Deviation_Detail!$E$24:$E$5800,D53,Limit_Deviation_Detail!$I$24:$I$5800,\"Startup/Shutdown\"))","v":""},{"$f":"IF($E53=\"\",\"\",SUMIFS(Limit_Deviation_Detail!$H$24:$H$5800,Limit_Deviation_Detail!$B$24:$B$5800,B53,Limit_Deviation_Detail!$C$24:$C$5800,C53,Limit_Deviation_Detail!$E$24:$E$5800,D53,Limit_Deviation_Detail!$I$24:$I$5800,\"Control Equipment Problems\"))","v":""},{"$f":"IF($E53=\"\",\"\",SUMIFS(Limit_Deviation_Detail!$H$24:$H$5800,Limit_Deviation_Detail!$B$24:$B$5800,B53,Limit_Deviation_Detail!$C$24:$C$5800,C53,Limit_Deviation_Detail!$E$24:$E$5800,D53,Limit_Deviation_Detail!$I$24:$I$5800,\"Process Problems\"))","v":""},{"$f":"IF($E53=\"\",\"\",SUMIFS(Limit_Deviation_Detail!$H$24:$H$5800,Limit_Deviation_Detail!$B$24:$B$5800,B53,Limit_Deviation_Detail!$C$24:$C$5800,C53,Limit_Deviation_Detail!$E$24:$E$5800,D53,Limit_Deviation_Detail!$I$24:$I$5800,\"Other Known Causes\"))","v":""},{"$f":"IF($E53=\"\",\"\",SUMIFS(Limit_Deviation_Detail!$H$24:$H$5800,Limit_Deviation_Detail!$B$24:$B$5800,B53,Limit_Deviation_Detail!$C$24:$C$5800,C53,Limit_Deviation_Detail!$E$24:$E$5800,D53,Limit_Deviation_Detail!$I$24:$I$5800,\"Unknown Causes\"))","v":""}]
[null,{"$f":"IF(Lists!AA32=\"\",\"\",Lists!AA32)","v":""},{"$f":"IF(Lists!AB32=\"\",\"\",Lists!AB32)","v":""},{"$f":"IF(Lists!AC32=\"\",\"\",Lists!AC32)","v":""},{"$f":"IF(Lists!AC32=\"\",\"\",Lists!AE32)","v":""},"","",{"$f":"IF($E54=\"\",\"\",SUMIFS(Limit_Deviation_Detail!$H$24:$H$5800,Limit_Deviation_Detail!$B$24:$B$5800,B54,Limit_Deviation_Detail!$C$24:$C$5800,C54,Limit_Deviation_Detail!$E$24:$E$5800,D54,Limit_Deviation_Detail!$I$24:$I$5800,\"Startup/Shutdown\"))","v":""},{"$f":"IF($E54=\"\",\"\",SUMIFS(Limit_Deviation_Detail!$H$24:$H$5800,Limit_Deviation_Detail!$B$24:$B$5800,B54,Limit_Deviation_Detail!$C$24:$C$5800,C54,Limit_Deviation_Detail!$E$24:$E$5800,D54,Limit_Deviation_Detail!$I$24:$I$5800,\"Control Equipment Problems\"))","v":""},{"$f":"IF($E54=\"\",\"\",SUMIFS(Limit_Deviation_Detail!$H$24:$H$5800,Limit_Deviation_Detail!$B$24:$B$5800,B54,Limit_Deviation_Detail!$C$24:$C$5800,C54,Limit_Deviation_Detail!$E$24:$E$5800,D54,Limit_Deviation_Detail!$I$24:$I$5800,\"Process Problems\"))","v":""},{"$f":"IF($E54=\"\",\"\",SUMIFS(Limit_Deviation_Detail!$H$24:$H$5800,Limit_Deviation_Detail!$B$24:$B$5800,B54,Limit_Deviation_Detail!$C$24:$C$5800,C54,Limit_Deviation_Detail!$E$24:$E$5800,D54,Limit_Deviation_Detail!$I$24:$I$5800,\"Other Known Causes\"))","v":""},{"$f":"IF($E54=\"\",\"\",SUMIFS(Limit_Deviation_Detail!$H$24:$H$5800,Limit_Deviation_Detail!$B$24:$B$5800,B54,Limit_Deviation_Detail!$C$24:$C$5800,C54,Limit_Deviation_Detail!$E$24:$E$5800,D54,Limit_Deviation_Detail!$I$24:$I$5800,\"Unknown Causes\"))","v":""}]
[null,{"$f":"IF(Lists!AA33=\"\",\"\",Lists!AA33)","v":""},{"$f":"IF(Lists!AB33=\"\",\"\",Lists!AB33)","v":""},{"$f":"IF(Lists!AC33=\"\",\"\",Lists!AC33)","v":""},{"$f":"IF(Lists!AC33=\"\",\"\",Lists!AE33)","v":""},"","",{"$f":"IF($E55=\"\",\"\",SUMIFS(Limit_Deviation_Detail!$H$24:$H$5800,Limit_Deviation_Detail!$B$24:$B$5800,B55,Limit_Deviation_Detail!$C$24:$C$5800,C55,Limit_Deviation_Detail!$E$24:$E$5800,D55,Limit_Deviation_Detail!$I$24:$I$5800,\"Startup/Shutdown\"))","v":""},{"$f":"IF($E55=\"\",\"\",SUMIFS(Limit_Deviation_Detail!$H$24:$H$5800,Limit_Deviation_Detail!$B$24:$B$5800,B55,Limit_Deviation_Detail!$C$24:$C$5800,C55,Limit_Deviation_Detail!$E$24:$E$5800,D55,Limit_Deviation_Detail!$I$24:$I$5800,\"Control Equipment Problems\"))","v":""},{"$f":"IF($E55=\"\",\"\",SUMIFS(Limit_Deviation_Detail!$H$24:$H$5800,Limit_Deviation_Detail!$B$24:$B$5800,B55,Limit_Deviation_Detail!$C$24:$C$5800,C55,Limit_Deviation_Detail!$E$24:$E$5800,D55,Limit_Deviation_Detail!$I$24:$I$5800,\"Process Problems\"))","v":""},{"$f":"IF($E55=\"\",\"\",SUMIFS(Limit_Deviation_Detail!$H$24:$H$5800,Limit_Deviation_Detail!$B$24:$B$5800,B55,Limit_Deviation_Detail!$C$24:$C$5800,C55,Limit_Deviation_Detail!$E$24:$E$5800,D55,Limit_Deviation_Detail!$I$24:$I$5800,\"Other Known Causes\"))","v":""},{"$f":"IF($E55=\"\",\"\",SUMIFS(Limit_Deviation_Detail!$H$24:$H$5800,Limit_Deviation_Detail!$B$24:$B$5800,B55,Limit_Deviation_Detail!$C$24:$C$5800,C55,Limit_Deviation_Detail!$E$24:$E$5800,D55,Limit_Deviation_Detail!$I$24:$I$5800,\"Unknown Causes\"))","v":""}]
[null,{"$f":"IF(Lists!AA34=\"\",\"\",Lists!AA34)","v":""},{"$f":"IF(Lists!AB34=\"\",\"\",Lists!AB34)","v":""},{"$f":"IF(Lists!AC34=\"\",\"\",Lists!AC34)","v":""},{"$f":"IF(Lists!AC34=\"\",\"\",Lists!AE34)","v":""},{"$f":"IF(E56=\"\",\"\",SUM(H56:L56))","v":""},"",{"$f":"IF($E56=\"\",\"\",SUMIFS(Limit_Deviation_Detail!$H$24:$H$5800,Limit_Deviation_Detail!$B$24:$B$5800,B56,Limit_Deviation_Detail!$C$24:$C$5800,C56,Limit_Deviation_Detail!$E$24:$E$5800,D56,Limit_Deviation_Detail!$I$24:$I$5800,\"Startup/Shutdown\"))","v":""},{"$f":"IF($E56=\"\",\"\",SUMIFS(Limit_Deviation_Detail!$H$24:$H$5800,Limit_Deviation_Detail!$B$24:$B$5800,B56,Limit_Deviation_Detail!$C$24:$C$5800,C56,Limit_Deviation_Detail!$E$24:$E$5800,D56,Limit_Deviation_Detail!$I$24:$I$5800,\"Control Equipment Problems\"))","v":""},{"$f":"IF($E56=\"\",\"\",SUMIFS(Limit_Deviation_Detail!$H$24:$H$5800,Limit_Deviation_Detail!$B$24:$B$5800,B56,Limit_Deviation_Detail!$C$24:$C$5800,C56,Limit_Deviation_Detail!$E$24:$E$5800,D56,Limit_Deviation_Detail!$I$24:$I$5800,\"Process Problems\"))","v":""},{"$f":"IF($E56=\"\",\"\",SUMIFS(Limit_Deviation_Detail!$H$24:$H$5800,Limit_Deviation_Detail!$B$24:$B$5800,B56,Limit_Deviation_Detail!$C$24:$C$5800,C56,Limit_Deviation_Detail!$E$24:$E$5800,D56,Limit_Deviation_Detail!$I$24:$I$5800,\"Other Known Causes\"))","v":""},{"$f":"IF($E56=\"\",\"\",SUMIFS(Limit_Deviation_Detail!$H$24:$H$5800,Limit_Deviation_Detail!$B$24:$B$5800,B56,Limit_Deviation_Detail!$C$24:$C$5800,C56,Limit_Deviation_Detail!$E$24:$E$5800,D56,Limit_Deviation_Detail!$I$24:$I$5800,\"Unknown Causes\"))","v":""}]
[null,{"$f":"IF(Lists!AA35=\"\",\"\",Lists!AA35)","v":""},{"$f":"IF(Lists!AB35=\"\",\"\",Lists!AB35)","v":""},{"$f":"IF(Lists!AC35=\"\",\"\",Lists!AC35)","v":""},{"$f":"IF(Lists!AC35=\"\",\"\",Lists!AE35)","v":""},"","",{"$f":"IF($E57=\"\",\"\",SUMIFS(Limit_Deviation_Detail!$H$24:$H$5800,Limit_Deviation_Detail!$B$24:$B$5800,B57,Limit_Deviation_Detail!$C$24:$C$5800,C57,Limit_Deviation_Detail!$E$24:$E$5800,D57,Limit_Deviation_Detail!$I$24:$I$5800,\"Startup/Shutdown\"))","v":""},{"$f":"IF($E57=\"\",\"\",SUMIFS(Limit_Deviation_Detail!$H$24:$H$5800,Limit_Deviation_Detail!$B$24:$B$5800,B57,Limit_Deviation_Detail!$C$24:$C$5800,C57,Limit_Deviation_Detail!$E$24:$E$5800,D57,Limit_Deviation_Detail!$I$24:$I$5800,\"Control Equipment Problems\"))","v":""},{"$f":"IF($E57=\"\",\"\",SUMIFS(Limit_Deviation_Detail!$H$24:$H$5800,Limit_Deviation_Detail!$B$24:$B$5800,B57,Limit_Deviation_Detail!$C$24:$C$5800,C57,Limit_Deviation_Detail!$E$24:$E$5800,D57,Limit_Deviation_Detail!$I$24:$I$5800,\"Process Problems\"))","v":""},{"$f":"IF($E57=\"\",\"\",SUMIFS(Limit_Deviation_Detail!$H$24:$H$5800,Limit_Deviation_Detail!$B$24:$B$5800,B57,Limit_Deviation_Detail!$C$24:$C$5800,C57,Limit_Deviation_Detail!$E$24:$E$5800,D57,Limit_Deviation_Detail!$I$24:$I$5800,\"Other Known Causes\"))","v":""},{"$f":"IF($E57=\"\",\"\",SUMIFS(Limit_Deviation_Detail!$H$24:$H$5800,Limit_Deviation_Detail!$B$24:$B$5800,B57,Limit_Deviation_Detail!$C$24:$C$5800,C57,Limit_Deviation_Detail!$E$24:$E$5800,D57,Limit_Deviation_Detail!$I$24:$I$5800,\"Unknown Causes\"))","v":""}]
[null,{"$f":"IF(Lists!AA36=\"\",\"\",Lists!AA36)","v":""},{"$f":"IF(Lists!AB36=\"\",\"\",Lists!AB36)","v":""},{"$f":"IF(Lists!AC36=\"\",\"\",Lists!AC36)","v":""},{"$f":"IF(Lists!AC36=\"\",\"\",Lists!AE36)","v":""},"","",{"$f":"IF($E58=\"\",\"\",SUMIFS(Limit_Deviation_Detail!$H$24:$H$5800,Limit_Deviation_Detail!$B$24:$B$5800,B58,Limit_Deviation_Detail!$C$24:$C$5800,C58,Limit_Deviation_Detail!$E$24:$E$5800,D58,Limit_Deviation_Detail!$I$24:$I$5800,\"Startup/Shutdown\"))","v":""},{"$f":"IF($E58=\"\",\"\",SUMIFS(Limit_Deviation_Detail!$H$24:$H$5800,Limit_Deviation_Detail!$B$24:$B$5800,B58,Limit_Deviation_Detail!$C$24:$C$5800,C58,Limit_Deviation_Detail!$E$24:$E$5800,D58,Limit_Deviation_Detail!$I$24:$I$5800,\"Control Equipment Problems\"))","v":""},{"$f":"IF($E58=\"\",\"\",SUMIFS(Limit_Deviation_Detail!$H$24:$H$5800,Limit_Deviation_Detail!$B$24:$B$5800,B58,Limit_Deviation_Detail!$C$24:$C$5800,C58,Limit_Deviation_Detail!$E$24:$E$5800,D58,Limit_Deviation_Detail!$I$24:$I$5800,\"Process Problems\"))","v":""},{"$f":"IF($E58=\"\",\"\",SUMIFS(Limit_Deviation_Detail!$H$24:$H$5800,Limit_Deviation_Detail!$B$24:$B$5800,B58,Limit_Deviation_Detail!$C$24:$C$5800,C58,Limit_Deviation_Detail!$E$24:$E$5800,D58,Limit_Deviation_Detail!$I$24:$I$5800,\"Other Known Causes\"))","v":""},{"$f":"IF($E58=\"\",\"\",SUMIFS(Limit_Deviation_Detail!$H$24:$H$5800,Limit_Deviation_Detail!$B$24:$B$5800,B58,Limit_Deviation_Detail!$C$24:$C$5800,C58,Limit_Deviation_Detail!$E$24:$E$5800,D58,Limit_Deviation_Detail!$I$24:$I$5800,\"Unknown Causes\"))","v":""}]
[null,{"$f":"IF(Lists!AA37=\"\",\"\",Lists!AA37)","v":""},{"$f":"IF(Lists!AB37=\"\",\"\",Lists!AB37)","v":""},{"$f":"IF(Lists!AC37=\"\",\"\",Lists!AC37)","v":""},{"$f":"IF(Lists!AC37=\"\",\"\",Lists!AE37)","v":""},"","",{"$f":"IF($E59=\"\",\"\",SUMIFS(Limit_Deviation_Detail!$H$24:$H$5800,Limit_Deviation_Detail!$B$24:$B$5800,B59,Limit_Deviation_Detail!$C$24:$C$5800,C59,Limit_Deviation_Detail!$E$24:$E$5800,D59,Limit_Deviation_Detail!$I$24:$I$5800,\"Startup/Shutdown\"))","v":""},{"$f":"IF($E59=\"\",\"\",SUMIFS(Limit_Deviation_Detail!$H$24:$H$5800,Limit_Deviation_Detail!$B$24:$B$5800,B59,Limit_Deviation_Detail!$C$24:$C$5800,C59,Limit_Deviation_Detail!$E$24:$E$5800,D59,Limit_Deviation_Detail!$I$24:$I$5800,\"Control Equipment Problems\"))","v":""},{"$f":"IF($E59=\"\",\"\",SUMIFS(Limit_Deviation_Detail!$H$24:$H$5800,Limit_Deviation_Detail!$B$24:$B$5800,B59,Limit_Deviation_Detail!$C$24:$C$5800,C59,Limit_Deviation_Detail!$E$24:$E$5800,D59,Limit_Deviation_Detail!$I$24:$I$5800,\"Process Problems\"))","v":""},{"$f":"IF($E59=\"\",\"\",SUMIFS(Limit_Deviation_Detail!$H$24:$H$5800,Limit_Deviation_Detail!$B$24:$B$5800,B59,Limit_Deviation_Detail!$C$24:$C$5800,C59,Limit_Deviation_Detail!$E$24:$E$5800,D59,Limit_Deviation_Detail!$I$24:$I$5800,\"Other Known Causes\"))","v":""},{"$f":"IF($E59=\"\",\"\",SUMIFS(Limit_Deviation_Detail!$H$24:$H$5800,Limit_Deviation_Detail!$B$24:$B$5800,B59,Limit_Deviation_Detail!$C$24:$C$5800,C59,Limit_Deviation_Detail!$E$24:$E$5800,D59,Limit_Deviation_Detail!$I$24:$I$5800,\"Unknown Causes\"))","v":""}]
[null,{"$f":"IF(Lists!AA38=\"\",\"\",Lists!AA38)","v":""},{"$f":"IF(Lists!AB38=\"\",\"\",Lists!AB38)","v":""},{"$f":"IF(Lists!AC38=\"\",\"\",Lists!AC38)","v":""},{"$f":"IF(Lists!AC38=\"\",\"\",Lists!AE38)","v":""},"","",{"$f":"IF($E60=\"\",\"\",SUMIFS(Limit_Deviation_Detail!$H$24:$H$5800,Limit_Deviation_Detail!$B$24:$B$5800,B60,Limit_Deviation_Detail!$C$24:$C$5800,C60,Limit_Deviation_Detail!$E$24:$E$5800,D60,Limit_Deviation_Detail!$I$24:$I$5800,\"Startup/Shutdown\"))","v":""},{"$f":"IF($E60=\"\",\"\",SUMIFS(Limit_Deviation_Detail!$H$24:$H$5800,Limit_Deviation_Detail!$B$24:$B$5800,B60,Limit_Deviation_Detail!$C$24:$C$5800,C60,Limit_Deviation_Detail!$E$24:$E$5800,D60,Limit_Deviation_Detail!$I$24:$I$5800,\"Control Equipment Problems\"))","v":""},{"$f":"IF($E60=\"\",\"\",SUMIFS(Limit_Deviation_Detail!$H$24:$H$5800,Limit_Deviation_Detail!$B$24:$B$5800,B60,Limit_Deviation_Detail!$C$24:$C$5800,C60,Limit_Deviation_Detail!$E$24:$E$5800,D60,Limit_Deviation_Detail!$I$24:$I$5800,\"Process Problems\"))","v":""},{"$f":"IF($E60=\"\",\"\",SUMIFS(Limit_Deviation_Detail!$H$24:$H$5800,Limit_Deviation_Detail!$B$24:$B$5800,B60,Limit_Deviation_Detail!$C$24:$C$5800,C60,Limit_Deviation_Detail!$E$24:$E$5800,D60,Limit_Deviation_Detail!$I$24:$I$5800,\"Other Known Causes\"))","v":""},{"$f":"IF($E60=\"\",\"\",SUMIFS(Limit_Deviation_Detail!$H$24:$H$5800,Limit_Deviation_Detail!$B$24:$B$5800,B60,Limit_Deviation_Detail!$C$24:$C$5800,C60,Limit_Deviation_Detail!$E$24:$E$5800,D60,Limit_Deviation_Detail!$I$24:$I$5800,\"Unknown Causes\"))","v":""}]
[null,{"$f":"IF(Lists!AA39=\"\",\"\",Lists!AA39)","v":""},{"$f":"IF(Lists!AB39=\"\",\"\",Lists!AB39)","v":""},{"$f":"IF(Lists!AC39=\"\",\"\",Lists!AC39)","v":""},{"$f":"IF(Lists!AC39=\"\",\"\",Lists!AE39)","v":""},"","",{"$f":"IF($E61=\"\",\"\",SUMIFS(Limit_Deviation_Detail!$H$24:$H$5800,Limit_Deviation_Detail!$B$24:$B$5800,B61,Limit_Deviation_Detail!$C$24:$C$5800,C61,Limit_Deviation_Detail!$E$24:$E$5800,D61,Limit_Deviation_Detail!$I$24:$I$5800,\"Startup/Shutdown\"))","v":""},{"$f":"IF($E61=\"\",\"\",SUMIFS(Limit_Deviation_Detail!$H$24:$H$5800,Limit_Deviation_Detail!$B$24:$B$5800,B61,Limit_Deviation_Detail!$C$24:$C$5800,C61,Limit_Deviation_Detail!$E$24:$E$5800,D61,Limit_Deviation_Detail!$I$24:$I$5800,\"Control Equipment Problems\"))","v":""},{"$f":"IF($E61=\"\",\"\",SUMIFS(Limit_Deviation_Detail!$H$24:$H$5800,Limit_Deviation_Detail!$B$24:$B$5800,B61,Limit_Deviation_Detail!$C$24:$C$5800,C61,Limit_Deviation_Detail!$E$24:$E$5800,D61,Limit_Deviation_Detail!$I$24:$I$5800,\"Process Problems\"))","v":""},{"$f":"IF($E61=\"\",\"\",SUMIFS(Limit_Deviation_Detail!$H$24:$H$5800,Limit_Deviation_Detail!$B$24:$B$5800,B61,Limit_Deviation_Detail!$C$24:$C$5800,C61,Limit_Deviation_Detail!$E$24:$E$5800,D61,Limit_Deviation_Detail!$I$24:$I$5800,\"Other Known Causes\"))","v":""},{"$f":"IF($E61=\"\",\"\",SUMIFS(Limit_Deviation_Detail!$H$24:$H$5800,Limit_Deviation_Detail!$B$24:$B$5800,B61,Limit_Deviation_Detail!$C$24:$C$5800,C61,Limit_Deviation_Detail!$E$24:$E$5800,D61,Limit_Deviation_Detail!$I$24:$I$5800,\"Unknown Causes\"))","v":""}]
[null,{"$f":"IF(Lists!AA40=\"\",\"\",Lists!AA40)","v":""},{"$f":"IF(Lists!AB40=\"\",\"\",Lists!AB40)","v":""},{"$f":"IF(Lists!AC40=\"\",\"\",Lists!AC40)","v":""},{"$f":"IF(Lists!AC40=\"\",\"\",Lists!AE40)","v":""},"","",{"$f":"IF($E62=\"\",\"\",SUMIFS(Limit_Deviation_Detail!$H$24:$H$5800,Limit_Deviation_Detail!$B$24:$B$5800,B62,Limit_Deviation_Detail!$C$24:$C$5800,C62,Limit_Deviation_Detail!$E$24:$E$5800,D62,Limit_Deviation_Detail!$I$24:$I$5800,\"Startup/Shutdown\"))","v":""},{"$f":"IF($E62=\"\",\"\",SUMIFS(Limit_Deviation_Detail!$H$24:$H$5800,Limit_Deviation_Detail!$B$24:$B$5800,B62,Limit_Deviation_Detail!$C$24:$C$5800,C62,Limit_Deviation_Detail!$E$24:$E$5800,D62,Limit_Deviation_Detail!$I$24:$I$5800,\"Control Equipment Problems\"))","v":""},{"$f":"IF($E62=\"\",\"\",SUMIFS(Limit_Deviation_Detail!$H$24:$H$5800,Limit_Deviation_Detail!$B$24:$B$5800,B62,Limit_Deviation_Detail!$C$24:$C$5800,C62,Limit_Deviation_Detail!$E$24:$E$5800,D62,Limit_Deviation_Detail!$I$24:$I$5800,\"Process Problems\"))","v":""},{"$f":"IF($E62=\"\",\"\",SUMIFS(Limit_Deviation_Detail!$H$24:$H$5800,Limit_Deviation_Detail!$B$24:$B$5800,B62,Limit_Deviation_Detail!$C$24:$C$5800,C62,Limit_Deviation_Detail!$E$24:$E$5800,D62,Limit_Deviation_Detail!$I$24:$I$5800,\"Other Known Causes\"))","v":""},{"$f":"IF($E62=\"\",\"\",SUMIFS(Limit_Deviation_Detail!$H$24:$H$5800,Limit_Deviation_Detail!$B$24:$B$5800,B62,Limit_Deviation_Detail!$C$24:$C$5800,C62,Limit_Deviation_Detail!$E$24:$E$5800,D62,Limit_Deviation_Detail!$I$24:$I$5800,\"Unknown Causes\"))","v":""}]
[null,{"$f":"IF(Lists!AA41=\"\",\"\",Lists!AA41)","v":""},{"$f":"IF(Lists!AB41=\"\",\"\",Lists!AB41)","v":""},{"$f":"IF(Lists!AC41=\"\",\"\",Lists!AC41)","v":""},{"$f":"IF(Lists!AC41=\"\",\"\",Lists!AE41)","v":""},"","",{"$f":"IF($E63=\"\",\"\",SUMIFS(Limit_Deviation_Detail!$H$24:$H$5800,Limit_Deviation_Detail!$B$24:$B$5800,B63,Limit_Deviation_Detail!$C$24:$C$5800,C63,Limit_Deviation_Detail!$E$24:$E$5800,D63,Limit_Deviation_Detail!$I$24:$I$5800,\"Startup/Shutdown\"))","v":""},{"$f":"IF($E63=\"\",\"\",SUMIFS(Limit_Deviation_Detail!$H$24:$H$5800,Limit_Deviation_Detail!$B$24:$B$5800,B63,Limit_Deviation_Detail!$C$24:$C$5800,C63,Limit_Deviation_Detail!$E$24:$E$5800,D63,Limit_Deviation_Detail!$I$24:$I$5800,\"Control Equipment Problems\"))","v":""},{"$f":"IF($E63=\"\",\"\",SUMIFS(Limit_Deviation_Detail!$H$24:$H$5800,Limit_Deviation_Detail!$B$24:$B$5800,B63,Limit_Deviation_Detail!$C$24:$C$5800,C63,Limit_Deviation_Detail!$E$24:$E$5800,D63,Limit_Deviation_Detail!$I$24:$I$5800,\"Process Problems\"))","v":""},{"$f":"IF($E63=\"\",\"\",SUMIFS(Limit_Deviation_Detail!$H$24:$H$5800,Limit_Deviation_Detail!$B$24:$B$5800,B63,Limit_Deviation_Detail!$C$24:$C$5800,C63,Limit_Deviation_Detail!$E$24:$E$5800,D63,Limit_Deviation_Detail!$I$24:$I$5800,\"Other Known Causes\"))","v":""},{"$f":"IF($E63=\"\",\"\",SUMIFS(Limit_Deviation_Detail!$H$24:$H$5800,Limit_Deviation_Detail!$B$24:$B$5800,B63,Limit_Deviation_Detail!$C$24:$C$5800,C63,Limit_Deviation_Detail!$E$24:$E$5800,D63,Limit_Deviation_Detail!$I$24:$I$5800,\"Unknown Causes\"))","v":""}]
[null,{"$f":"IF(Lists!AA42=\"\",\"\",Lists!AA42)","v":""},{"$f":"IF(Lists!AB42=\"\",\"\",Lists!AB42)","v":""},{"$f":"IF(Lists!AC42=\"\",\"\",Lists!AC42)","v":""},{"$f":"IF(Lists!AC42=\"\",\"\",Lists!AE42)","v":""},"","",{"$f":"IF($E64=\"\",\"\",SUMIFS(Limit_Deviation_Detail!$H$24:$H$5800,Limit_Deviation_Detail!$B$24:$B$5800,B64,Limit_Deviation_Detail!$C$24:$C$5800,C64,Limit_Deviation_Detail!$E$24:$E$5800,D64,Limit_Deviation_Detail!$I$24:$I$5800,\"Startup/Shutdown\"))","v":""},{"$f":"IF($E64=\"\",\"\",SUMIFS(Limit_Deviation_Detail!$H$24:$H$5800,Limit_Deviation_Detail!$B$24:$B$5800,B64,Limit_Deviation_Detail!$C$24:$C$5800,C64,Limit_Deviation_Detail!$E$24:$E$5800,D64,Limit_Deviation_Detail!$I$24:$I$5800,\"Control Equipment Problems\"))","v":""},{"$f":"IF($E64=\"\",\"\",SUMIFS(Limit_Deviation_Detail!$H$24:$H$5800,Limit_Deviation_Detail!$B$24:$B$5800,B64,Limit_Deviation_Detail!$C$24:$C$5800,C64,Limit_Deviation_Detail!$E$24:$E$5800,D64,Limit_Deviation_Detail!$I$24:$I$5800,\"Process Problems\"))","v":""},{"$f":"IF($E64=\"\",\"\",SUMIFS(Limit_Deviation_Detail!$H$24:$H$5800,Limit_Deviation_Detail!$B$24:$B$5800,B64,Limit_Deviation_Detail!$C$24:$C$5800,C64,Limit_Deviation_Detail!$E$24:$E$5800,D64,Limit_Deviation_Detail!$I$24:$I$5800,\"Other Known Causes\"))","v":""},{"$f":"IF($E64=\"\",\"\",SUMIFS(Limit_Deviation_Detail!$H$24:$H$5800,Limit_Deviation_Detail!$B$24:$B$5800,B64,Limit_Deviation_Detail!$C$24:$C$5800,C64,Limit_Deviation_Detail!$E$24:$E$5800,D64,Limit_Deviation_Detail!$I$24:$I$5800,\"Unknown Causes\"))","v":""}]
[null,{"$f":"IF(Lists!AA43=\"\",\"\",Lists!AA43)","v":""},{"$f":"IF(Lists!AB43=\"\",\"\",Lists!AB43)","v":""},{"$f":"IF(Lists!AC43=\"\",\"\",Lists!AC43)","v":""},{"$f":"IF(Lists!AC43=\"\",\"\",Lists!AE43)","v":""},"","",{"$f":"IF($E65=\"\",\"\",SUMIFS(Limit_Deviation_Detail!$H$24:$H$5800,Limit_Deviation_Detail!$B$24:$B$5800,B65,Limit_Deviation_Detail!$C$24:$C$5800,C65,Limit_Deviation_Detail!$E$24:$E$5800,D65,Limit_Deviation_Detail!$I$24:$I$5800,\"Startup/Shutdown\"))","v":""},{"$f":"IF($E65=\"\",\"\",SUMIFS(Limit_Deviation_Detail!$H$24:$H$5800,Limit_Deviation_Detail!$B$24:$B$5800,B65,Limit_Deviation_Detail!$C$24:$C$5800,C65,Limit_Deviation_Detail!$E$24:$E$5800,D65,Limit_Deviation_Detail!$I$24:$I$5800,\"Control Equipment Problems\"))","v":""},{"$f":"IF($E65=\"\",\"\",SUMIFS(Limit_Deviation_Detail!$H$24:$H$5800,Limit_Deviation_Detail!$B$24:$B$5800,B65,Limit_Deviation_Detail!$C$24:$C$5800,C65,Limit_Deviation_Detail!$E$24:$E$5800,D65,Limit_Deviation_Detail!$I$24:$I$5800,\"Process Problems\"))","v":""},{"$f":"IF($E65=\"\",\"\",SUMIFS(Limit_Deviation_Detail!$H$24:$H$5800,Limit_Deviation_Detail!$B$24:$B$5800,B65,Limit_Deviation_Detail!$C$24:$C$5800,C65,Limit_Deviation_Detail!$E$24:$E$5800,D65,Limit_Deviation_Detail!$I$24:$I$5800,\"Other Known Causes\"))","v":""},{"$f":"IF($E65=\"\",\"\",SUMIFS(Limit_Deviation_Detail!$H$24:$H$5800,Limit_Deviation_Detail!$B$24:$B$5800,B65,Limit_Deviation_Detail!$C$24:$C$5800,C65,Limit_Deviation_Detail!$E$24:$E$5800,D65,Limit_Deviation_Detail!$I$24:$I$5800,\"Unknown Causes\"))","v":""}]
[null,{"$f":"IF(Lists!AA44=\"\",\"\",Lists!AA44)","v":""},{"$f":"IF(Lists!AB44=\"\",\"\",Lists!AB44)","v":""},{"$f":"IF(Lists!AC44=\"\",\"\",Lists!AC44)","v":""},{"$f":"IF(Lists!AC44=\"\",\"\",Lists!AE44)","v":""},"","",{"$f":"IF($E66=\"\",\"\",SUMIFS(Limit_Deviation_Detail!$H$24:$H$5800,Limit_Deviation_Detail!$B$24:$B$5800,B66,Limit_Deviation_Detail!$C$24:$C$5800,C66,Limit_Deviation_Detail!$E$24:$E$5800,D66,Limit_Deviation_Detail!$I$24:$I$5800,\"Startup/Shutdown\"))","v":""},{"$f":"IF($E66=\"\",\"\",SUMIFS(Limit_Deviation_Detail!$H$24:$H$5800,Limit_Deviation_Detail!$B$24:$B$5800,B66,Limit_Deviation_Detail!$C$24:$C$5800,C66,Limit_Deviation_Detail!$E$24:$E$5800,D66,Limit_Deviation_Detail!$I$24:$I$5800,\"Control Equipment Problems\"))","v":""},{"$f":"IF($E66=\"\",\"\",SUMIFS(Limit_Deviation_Detail!$H$24:$H$5800,Limit_Deviation_Detail!$B$24:$B$5800,B66,Limit_Deviation_Detail!$C$24:$C$5800,C66,Limit_Deviation_Detail!$E$24:$E$5800,D66,Limit_Deviation_Detail!$I$24:$I$5800,\"Process Problems\"))","v":""},{"$f":"IF($E66=\"\",\"\",SUMIFS(Limit_Deviation_Detail!$H$24:$H$5800,Limit_Deviation_Detail!$B$24:$B$5800,B66,Limit_Deviation_Detail!$C$24:$C$5800,C66,Limit_Deviation_Detail!$E$24:$E$5800,D66,Limit_Deviation_Detail!$I$24:$I$5800,\"Other Known Causes\"))","v":""},{"$f":"IF($E66=\"\",\"\",SUMIFS(Limit_Deviation_Detail!$H$24:$H$5800,Limit_Deviation_Detail!$B$24:$B$5800,B66,Limit_Deviation_Detail!$C$24:$C$5800,C66,Limit_Deviation_Detail!$E$24:$E$5800,D66,Limit_Deviation_Detail!$I$24:$I$5800,\"Unknown Causes\"))","v":""}]
[null,{"$f":"IF(Lists!AA45=\"\",\"\",Lists!AA45)","v":""},{"$f":"IF(Lists!AB45=\"\",\"\",Lists!AB45)","v":""},{"$f":"IF(Lists!AC45=\"\",\"\",Lists!AC45)","v":""},{"$f":"IF(Lists!AC45=\"\",\"\",Lists!AE45)","v":""},"","",{"$f":"IF($E67=\"\",\"\",SUMIFS(Limit_Deviation_Detail!$H$24:$H$5800,Limit_Deviation_Detail!$B$24:$B$5800,B67,Limit_Deviation_Detail!$C$24:$C$5800,C67,Limit_Deviation_Detail!$E$24:$E$5800,D67,Limit_Deviation_Detail!$I$24:$I$5800,\"Startup/Shutdown\"))","v":""},{"$f":"IF($E67=\"\",\"\",SUMIFS(Limit_Deviation_Detail!$H$24:$H$5800,Limit_Deviation_Detail!$B$24:$B$5800,B67,Limit_Deviation_Detail!$C$24:$C$5800,C67,Limit_Deviation_Detail!$E$24:$E$5800,D67,Limit_Deviation_Detail!$I$24:$I$5800,\"Control Equipment Problems\"))","v":""},{"$f":"IF($E67=\"\",\"\",SUMIFS(Limit_Deviation_Detail!$H$24:$H$5800,Limit_Deviation_Detail!$B$24:$B$5800,B67,Limit_Deviation_Detail!$C$24:$C$5800,C67,Limit_Deviation_Detail!$E$24:$E$5800,D67,Limit_Deviation_Detail!$I$24:$I$5800,\"Process Problems\"))","v":""},{"$f":"IF($E67=\"\",\"\",SUMIFS(Limit_Deviation_Detail!$H$24:$H$5800,Limit_Deviation_Detail!$B$24:$B$5800,B67,Limit_Deviation_Detail!$C$24:$C$5800,C67,Limit_Deviation_Detail!$E$24:$E$5800,D67,Limit_Deviation_Detail!$I$24:$I$5800,\"Other Known Causes\"))","v":""},{"$f":"IF($E67=\"\",\"\",SUMIFS(Limit_Deviation_Detail!$H$24:$H$5800,Limit_Deviation_Detail!$B$24:$B$5800,B67,Limit_Deviation_Detail!$C$24:$C$5800,C67,Limit_Deviation_Detail!$E$24:$E$5800,D67,Limit_Deviation_Detail!$I$24:$I$5800,\"Unknown Causes\"))","v":""}]
[null,{"$f":"IF(Lists!AA46=\"\",\"\",Lists!AA46)","v":""},{"$f":"IF(Lists!AB46=\"\",\"\",Lists!AB46)","v":""},{"$f":"IF(Lists!AC46=\"\",\"\",Lists!AC46)","v":""},{"$f":"IF(Lists!AC46=\"\",\"\",Lists!AE46)","v":""},"","",{"$f":"IF($E68=\"\",\"\",SUMIFS(Limit_Deviation_Detail!$H$24:$H$5800,Limit_Deviation_Detail!$B$24:$B$5800,B68,Limit_Deviation_Detail!$C$24:$C$5800,C68,Limit_Deviation_Detail!$E$24:$E$5800,D68,Limit_Deviation_Detail!$I$24:$I$5800,\"Startup/Shutdown\"))","v":""},{"$f":"IF($E68=\"\",\"\",SUMIFS(Limit_Deviation_Detail!$H$24:$H$5800,Limit_Deviation_Detail!$B$24:$B$5800,B68,Limit_Deviation_Detail!$C$24:$C$5800,C68,Limit_Deviation_Detail!$E$24:$E$5800,D68,Limit_Deviation_Detail!$I$24:$I$5800,\"Control Equipment Problems\"))","v":""},{"$f":"IF($E68=\"\",\"\",SUMIFS(Limit_Deviation_Detail!$H$24:$H$5800,Limit_Deviation_Detail!$B$24:$B$5800,B68,Limit_Deviation_Detail!$C$24:$C$5800,C68,Limit_Deviation_Detail!$E$24:$E$5800,D68,Limit_Deviation_Detail!$I$24:$I$5800,\"Process Problems\"))","v":""},{"$f":"IF($E68=\"\",\"\",SUMIFS(Limit_Deviation_Detail!$H$24:$H$5800,Limit_Deviation_Detail!$B$24:$B$5800,B68,Limit_Deviation_Detail!$C$24:$C$5800,C68,Limit_Deviation_Detail!$E$24:$E$5800,D68,Limit_Deviation_Detail!$I$24:$I$5800,\"Other Known Causes\"))","v":""},{"$f":"IF($E68=\"\",\"\",SUMIFS(Limit_Deviation_Detail!$H$24:$H$5800,Limit_Deviation_Detail!$B$24:$B$5800,B68,Limit_Deviation_Detail!$C$24:$C$5800,C68,Limit_Deviation_Detail!$E$24:$E$5800,D68,Limit_Deviation_Detail!$I$24:$I$5800,\"Unknown Causes\"))","v":""}]
[null,{"$f":"IF(Lists!AA47=\"\",\"\",Lists!AA47)","v":""},{"$f":"IF(Lists!AB47=\"\",\"\",Lists!AB47)","v":""},{"$f":"IF(Lists!AC47=\"\",\"\",Lists!AC47)","v":""},{"$f":"IF(Lists!AC47=\"\",\"\",Lists!AE47)","v":""},"","",{"$f":"IF($E69=\"\",\"\",SUMIFS(Limit_Deviation_Detail!$H$24:$H$5800,Limit_Deviation_Detail!$B$24:$B$5800,B69,Limit_Deviation_Detail!$C$24:$C$5800,C69,Limit_Deviation_Detail!$E$24:$E$5800,D69,Limit_Deviation_Detail!$I$24:$I$5800,\"Startup/Shutdown\"))","v":""},{"$f":"IF($E69=\"\",\"\",SUMIFS(Limit_Deviation_Detail!$H$24:$H$5800,Limit_Deviation_Detail!$B$24:$B$5800,B69,Limit_Deviation_Detail!$C$24:$C$5800,C69,Limit_Deviation_Detail!$E$24:$E$5800,D69,Limit_Deviation_Detail!$I$24:$I$5800,\"Control Equipment Problems\"))","v":""},{"$f":"IF($E69=\"\",\"\",SUMIFS(Limit_Deviation_Detail!$H$24:$H$5800,Limit_Deviation_Detail!$B$24:$B$5800,B69,Limit_Deviation_Detail!$C$24:$C$5800,C69,Limit_Deviation_Detail!$E$24:$E$5800,D69,Limit_Deviation_Detail!$I$24:$I$5800,\"Process Problems\"))","v":""},{"$f":"IF($E69=\"\",\"\",SUMIFS(Limit_Deviation_Detail!$H$24:$H$5800,Limit_Deviation_Detail!$B$24:$B$5800,B69,Limit_Deviation_Detail!$C$24:$C$5800,C69,Limit_Deviation_Detail!$E$24:$E$5800,D69,Limit_Deviation_Detail!$I$24:$I$5800,\"Other Known Causes\"))","v":""},{"$f":"IF($E69=\"\",\"\",SUMIFS(Limit_Deviation_Detail!$H$24:$H$5800,Limit_Deviation_Detail!$B$24:$B$5800,B69,Limit_Deviation_Detail!$C$24:$C$5800,C69,Limit_Deviation_Detail!$E$24:$E$5800,D69,Limit_Deviation_Detail!$I$24:$I$5800,\"Unknown Causes\"))","v":""}]
[null,{"$f":"IF(Lists!AA48=\"\",\"\",Lists!AA48)","v":""},{"$f":"IF(Lists!AB48=\"\",\"\",Lists!AB48)","v":""},{"$f":"IF(Lists!AC48=\"\",\"\",Lists!AC48)","v":""},{"$f":"IF(Lists!AC48=\"\",\"\",Lists!AE48)","v":""},"","",{"$f":"IF($E70=\"\",\"\",SUMIFS(Limit_Deviation_Detail!$H$24:$H$5800,Limit_Deviation_Detail!$B$24:$B$5800,B70,Limit_Deviation_Detail!$C$24:$C$5800,C70,Limit_Deviation_Detail!$E$24:$E$5800,D70,Limit_Deviation_Detail!$I$24:$I$5800,\"Startup/Shutdown\"))","v":""},{"$f":"IF($E70=\"\",\"\",SUMIFS(Limit_Deviation_Detail!$H$24:$H$5800,Limit_Deviation_Detail!$B$24:$B$5800,B70,Limit_Deviation_Detail!$C$24:$C$5800,C70,Limit_Deviation_Detail!$E$24:$E$5800,D70,Limit_Deviation_Detail!$I$24:$I$5800,\"Control Equipment Problems\"))","v":""},{"$f":"IF($E70=\"\",\"\",SUMIFS(Limit_Deviation_Detail!$H$24:$H$5800,Limit_Deviation_Detail!$B$24:$B$5800,B70,Limit_Deviation_Detail!$C$24:$C$5800,C70,Limit_Deviation_Detail!$E$24:$E$5800,D70,Limit_Deviation_Detail!$I$24:$I$5800,\"Process Problems\"))","v":""},{"$f":"IF($E70=\"\",\"\",SUMIFS(Limit_Deviation_Detail!$H$24:$H$5800,Limit_Deviation_Detail!$B$24:$B$5800,B70,Limit_Deviation_Detail!$C$24:$C$5800,C70,Limit_Deviation_Detail!$E$24:$E$5800,D70,Limit_Deviation_Detail!$I$24:$I$5800,\"Other Known Causes\"))","v":""},{"$f":"IF($E70=\"\",\"\",SUMIFS(Limit_Deviation_Detail!$H$24:$H$5800,Limit_Deviation_Detail!$B$24:$B$5800,B70,Limit_Deviation_Detail!$C$24:$C$5800,C70,Limit_Deviation_Detail!$E$24:$E$5800,D70,Limit_Deviation_Detail!$I$24:$I$5800,\"Unknown Causes\"))","v":""}]
[null,{"$f":"IF(Lists!AA49=\"\",\"\",Lists!AA49)","v":""},{"$f":"IF(Lists!AB49=\"\",\"\",Lists!AB49)","v":""},{"$f":"IF(Lists!AC49=\"\",\"\",Lists!AC49)","v":""},{"$f":"IF(Lists!AC49=\"\",\"\",Lists!AE49)","v":""},"","",{"$f":"IF($E71=\"\",\"\",SUMIFS(Limit_Deviation_Detail!$H$24:$H$5800,Limit_Deviation_Detail!$B$24:$B$5800,B71,Limit_Deviation_Detail!$C$24:$C$5800,C71,Limit_Deviation_Detail!$E$24:$E$5800,D71,Limit_Deviation_Detail!$I$24:$I$5800,\"Startup/Shutdown\"))","v":""},{"$f":"IF($E71=\"\",\"\",SUMIFS(Limit_Deviation_Detail!$H$24:$H$5800,Limit_Deviation_Detail!$B$24:$B$5800,B71,Limit_Deviation_Detail!$C$24:$C$5800,C71,Limit_Deviation_Detail!$E$24:$E$5800,D71,Limit_Deviation_Detail!$I$24:$I$5800,\"Control Equipment Problems\"))","v":""},{"$f":"IF($E71=\"\",\"\",SUMIFS(Limit_Deviation_Detail!$H$24:$H$5800,Limit_Deviation_Detail!$B$24:$B$5800,B71,Limit_Deviation_Detail!$C$24:$C$5800,C71,Limit_Deviation_Detail!$E$24:$E$5800,D71,Limit_Deviation_Detail!$I$24:$I$5800,\"Process Problems\"))","v":""},{"$f":"IF($E71=\"\",\"\",SUMIFS(Limit_Deviation_Detail!$H$24:$H$5800,Limit_Deviation_Detail!$B$24:$B$5800,B71,Limit_Deviation_Detail!$C$24:$C$5800,C71,Limit_Deviation_Detail!$E$24:$E$5800,D71,Limit_Deviation_Detail!$I$24:$I$5800,\"Other Known Causes\"))","v":""},{"$f":"IF($E71=\"\",\"\",SUMIFS(Limit_Deviation_Detail!$H$24:$H$5800,Limit_Deviation_Detail!$B$24:$B$5800,B71,Limit_Deviation_Detail!$C$24:$C$5800,C71,Limit_Deviation_Detail!$E$24:$E$5800,D71,Limit_Deviation_Detail!$I$24:$I$5800,\"Unknown Causes\"))","v":""}]
[null,{"$f":"IF(Lists!AA50=\"\",\"\",Lists!AA50)","v":""},{"$f":"IF(Lists!AB50=\"\",\"\",Lists!AB50)","v":""},{"$f":"IF(Lists!AC50=\"\",\"\",Lists!AC50)","v":""},{"$f":"IF(Lists!AC50=\"\",\"\",Lists!AE50)","v":""},"","",{"$f":"IF($E72=\"\",\"\",SUMIFS(Limit_Deviation_Detail!$H$24:$H$5800,Limit_Deviation_Detail!$B$24:$B$5800,B72,Limit_Deviation_Detail!$C$24:$C$5800,C72,Limit_Deviation_Detail!$E$24:$E$5800,D72,Limit_Deviation_Detail!$I$24:$I$5800,\"Startup/Shutdown\"))","v":""},{"$f":"IF($E72=\"\",\"\",SUMIFS(Limit_Deviation_Detail!$H$24:$H$5800,Limit_Deviation_Detail!$B$24:$B$5800,B72,Limit_Deviation_Detail!$C$24:$C$5800,C72,Limit_Deviation_Detail!$E$24:$E$5800,D72,Limit_Deviation_Detail!$I$24:$I$5800,\"Control Equipment Problems\"))","v":""},{"$f":"IF($E72=\"\",\"\",SUMIFS(Limit_Deviation_Detail!$H$24:$H$5800,Limit_Deviation_Detail!$B$24:$B$5800,B72,Limit_Deviation_Detail!$C$24:$C$5800,C72,Limit_Deviation_Detail!$E$24:$E$5800,D72,Limit_Deviation_Detail!$I$24:$I$5800,\"Process Problems\"))","v":""},{"$f":"IF($E72=\"\",\"\",SUMIFS(Limit_Deviation_Detail!$H$24:$H$5800,Limit_Deviation_Detail!$B$24:$B$5800,B72,Limit_Deviation_Detail!$C$24:$C$5800,C72,Limit_Deviation_Detail!$E$24:$E$5800,D72,Limit_Deviation_Detail!$I$24:$I$5800,\"Other Known Causes\"))","v":""},{"$f":"IF($E72=\"\",\"\",SUMIFS(Limit_Deviation_Detail!$H$24:$H$5800,Limit_Deviation_Detail!$B$24:$B$5800,B72,Limit_Deviation_Detail!$C$24:$C$5800,C72,Limit_Deviation_Detail!$E$24:$E$5800,D72,Limit_Deviation_Detail!$I$24:$I$5800,\"Unknown Causes\"))","v":""}]
[null,{"$f":"IF(Lists!AA51=\"\",\"\",Lists!AA51)","v":""},{"$f":"IF(Lists!AB51=\"\",\"\",Lists!AB51)","v":""},{"$f":"IF(Lists!AC51=\"\",\"\",Lists!AC51)","v":""},{"$f":"IF(Lists!AC51=\"\",\"\",Lists!AE51)","v":""},"","",{"$f":"IF($E73=\"\",\"\",SUMIFS(Limit_Deviation_Detail!$H$24:$H$5800,Limit_Deviation_Detail!$B$24:$B$5800,B73,Limit_Deviation_Detail!$C$24:$C$5800,C73,Limit_Deviation_Detail!$E$24:$E$5800,D73,Limit_Deviation_Detail!$I$24:$I$5800,\"Startup/Shutdown\"))","v":""},{"$f":"IF($E73=\"\",\"\",SUMIFS(Limit_Deviation_Detail!$H$24:$H$5800,Limit_Deviation_Detail!$B$24:$B$5800,B73,Limit_Deviation_Detail!$C$24:$C$5800,C73,Limit_Deviation_Detail!$E$24:$E$5800,D73,Limit_Deviation_Detail!$I$24:$I$5800,\"Control Equipment Problems\"))","v":""},{"$f":"IF($E73=\"\",\"\",SUMIFS(Limit_Deviation_Detail!$H$24:$H$5800,Limit_Deviation_Detail!$B$24:$B$5800,B73,Limit_Deviation_Detail!$C$24:$C$5800,C73,Limit_Deviation_Detail!$E$24:$E$5800,D73,Limit_Deviation_Detail!$I$24:$I$5800,\"Process Problems\"))","v":""},{"$f":"IF($E73=\"\",\"\",SUMIFS(Limit_Deviation_Detail!$H$24:$H$5800,Limit_Deviation_Detail!$B$24:$B$5800,B73,Limit_Deviation_Detail!$C$24:$C$5800,C73,Limit_Deviation_Detail!$E$24:$E$5800,D73,Limit_Deviation_Detail!$I$24:$I$5800,\"Other Known Causes\"))","v":""},{"$f":"IF($E73=\"\",\"\",SUMIFS(Limit_Deviation_Detail!$H$24:$H$5800,Limit_Deviation_Detail!$B$24:$B$5800,B73,Limit_Deviation_Detail!$C$24:$C$5800,C73,Limit_Deviation_Detail!$E$24:$E$5800,D73,Limit_Deviation_Detail!$I$24:$I$5800,\"Unknown Causes\"))","v":""}]
[null,{"$f":"IF(Lists!AA52=\"\",\"\",Lists!AA52)","v":""},{"$f":"IF(Lists!AB52=\"\",\"\",Lists!AB52)","v":""},{"$f":"IF(Lists!AC52=\"\",\"\",Lists!AC52)","v":""},{"$f":"IF(Lists!AC52=\"\",\"\",Lists!AE52)","v":""},"","",{"$f":"IF($E74=\"\",\"\",SUMIFS(Limit_Deviation_Detail!$H$24:$H$5800,Limit_Deviation_Detail!$B$24:$B$5800,B74,Limit_Deviation_Detail!$C$24:$C$5800,C74,Limit_Deviation_Detail!$E$24:$E$5800,D74,Limit_Deviation_Detail!$I$24:$I$5800,\"Startup/Shutdown\"))","v":""},{"$f":"IF($E74=\"\",\"\",SUMIFS(Limit_Deviation_Detail!$H$24:$H$5800,Limit_Deviation_Detail!$B$24:$B$5800,B74,Limit_Deviation_Detail!$C$24:$C$5800,C74,Limit_Deviation_Detail!$E$24:$E$5800,D74,Limit_Deviation_Detail!$I$24:$I$5800,\"Control Equipment Problems\"))","v":""},{"$f":"IF($E74=\"\",\"\",SUMIFS(Limit_Deviation_Detail!$H$24:$H$5800,Limit_Deviation_Detail!$B$24:$B$5800,B74,Limit_Deviation_Detail!$C$24:$C$5800,C74,Limit_Deviation_Detail!$E$24:$E$5800,D74,Limit_Deviation_Detail!$I$24:$I$5800,\"Process Problems\"))","v":""},{"$f":"IF($E74=\"\",\"\",SUMIFS(Limit_Deviation_Detail!$H$24:$H$5800,Limit_Deviation_Detail!$B$24:$B$5800,B74,Limit_Deviation_Detail!$C$24:$C$5800,C74,Limit_Deviation_Detail!$E$24:$E$5800,D74,Limit_Deviation_Detail!$I$24:$I$5800,\"Other Known Causes\"))","v":""},{"$f":"IF($E74=\"\",\"\",SUMIFS(Limit_Deviation_Detail!$H$24:$H$5800,Limit_Deviation_Detail!$B$24:$B$5800,B74,Limit_Deviation_Detail!$C$24:$C$5800,C74,Limit_Deviation_Detail!$E$24:$E$5800,D74,Limit_Deviation_Detail!$I$24:$I$5800,\"Unknown Causes\"))","v":""}]
[null,{"$f":"IF(Lists!AA53=\"\",\"\",Lists!AA53)","v":""},{"$f":"IF(Lists!AB53=\"\",\"\",Lists!AB53)","v":""},{"$f":"IF(Lists!AC53=\"\",\"\",Lists!AC53)","v":""},{"$f":"IF(Lists!AC53=\"\",\"\",Lists!AE53)","v":""},"","",{"$f":"IF($E75=\"\",\"\",SUMIFS(Limit_Deviation_Detail!$H$24:$H$5800,Limit_Deviation_Detail!$B$24:$B$5800,B75,Limit_Deviation_Detail!$C$24:$C$5800,C75,Limit_Deviation_Detail!$E$24:$E$5800,D75,Limit_Deviation_Detail!$I$24:$I$5800,\"Startup/Shutdown\"))","v":""},{"$f":"IF($E75=\"\",\"\",SUMIFS(Limit_Deviation_Detail!$H$24:$H$5800,Limit_Deviation_Detail!$B$24:$B$5800,B75,Limit_Deviation_Detail!$C$24:$C$5800,C75,Limit_Deviation_Detail!$E$24:$E$5800,D75,Limit_Deviation_Detail!$I$24:$I$5800,\"Control Equipment Problems\"))","v":""},{"$f":"IF($E75=\"\",\"\",SUMIFS(Limit_Deviation_Detail!$H$24:$H$5800,Limit_Deviation_Detail!$B$24:$B$5800,B75,Limit_Deviation_Detail!$C$24:$C$5800,C75,Limit_Deviation_Detail!$E$24:$E$5800,D75,Limit_Deviation_Detail!$I$24:$I$5800,\"Process Problems\"))","v":""},{"$f":"IF($E75=\"\",\"\",SUMIFS(Limit_Deviation_Detail!$H$24:$H$5800,Limit_Deviation_Detail!$B$24:$B$5800,B75,Limit_Deviation_Detail!$C$24:$C$5800,C75,Limit_Deviation_Detail!$E$24:$E$5800,D75,Limit_Deviation_Detail!$I$24:$I$5800,\"Other Known Causes\"))","v":""},{"$f":"IF($E75=\"\",\"\",SUMIFS(Limit_Deviation_Detail!$H$24:$H$5800,Limit_Deviation_Detail!$B$24:$B$5800,B75,Limit_Deviation_Detail!$C$24:$C$5800,C75,Limit_Deviation_Detail!$E$24:$E$5800,D75,Limit_Deviation_Detail!$I$24:$I$5800,\"Unknown Causes\"))","v":""}]
[null,{"$f":"IF(Lists!AA54=\"\",\"\",Lists!AA54)","v":""},{"$f":"IF(Lists!AB54=\"\",\"\",Lists!AB54)","v":""},{"$f":"IF(Lists!AC54=\"\",\"\",Lists!AC54)","v":""},{"$f":"IF(Lists!AC54=\"\",\"\",Lists!AE54)","v":""},"","",{"$f":"IF($E76=\"\",\"\",SUMIFS(Limit_Deviation_Detail!$H$24:$H$5800,Limit_Deviation_Detail!$B$24:$B$5800,B76,Limit_Deviation_Detail!$C$24:$C$5800,C76,Limit_Deviation_Detail!$E$24:$E$5800,D76,Limit_Deviation_Detail!$I$24:$I$5800,\"Startup/Shutdown\"))","v":""},{"$f":"IF($E76=\"\",\"\",SUMIFS(Limit_Deviation_Detail!$H$24:$H$5800,Limit_Deviation_Detail!$B$24:$B$5800,B76,Limit_Deviation_Detail!$C$24:$C$5800,C76,Limit_Deviation_Detail!$E$24:$E$5800,D76,Limit_Deviation_Detail!$I$24:$I$5800,\"Control Equipment Problems\"))","v":""},{"$f":"IF($E76=\"\",\"\",SUMIFS(Limit_Deviation_Detail!$H$24:$H$5800,Limit_Deviation_Detail!$B$24:$B$5800,B76,Limit_Deviation_Detail!$C$24:$C$5800,C76,Limit_Deviation_Detail!$E$24:$E$5800,D76,Limit_Deviation_Detail!$I$24:$I$5800,\"Process Problems\"))","v":""},{"$f":"IF($E76=\"\",\"\",SUMIFS(Limit_Deviation_Detail!$H$24:$H$5800,Limit_Deviation_Detail!$B$24:$B$5800,B76,Limit_Deviation_Detail!$C$24:$C$5800,C76,Limit_Deviation_Detail!$E$24:$E$5800,D76,Limit_Deviation_Detail!$I$24:$I$5800,\"Other Known Causes\"))","v":""},{"$f":"IF($E76=\"\",\"\",SUMIFS(Limit_Deviation_Detail!$H$24:$H$5800,Limit_Deviation_Detail!$B$24:$B$5800,B76,Limit_Deviation_Detail!$C$24:$C$5800,C76,Limit_Deviation_Detail!$E$24:$E$5800,D76,Limit_Deviation_Detail!$I$24:$I$5800,\"Unknown Causes\"))","v":""}]
[null,{"$f":"IF(Lists!AA55=\"\",\"\",Lists!AA55)","v":""},{"$f":"IF(Lists!AB55=\"\",\"\",Lists!AB55)","v":""},{"$f":"IF(Lists!AC55=\"\",\"\",Lists!AC55)","v":""},{"$f":"IF(Lists!AC55=\"\",\"\",Lists!AE55)","v":""},"","",{"$f":"IF($E77=\"\",\"\",SUMIFS(Limit_Deviation_Detail!$H$24:$H$5800,Limit_Deviation_Detail!$B$24:$B$5800,B77,Limit_Deviation_Detail!$C$24:$C$5800,C77,Limit_Deviation_Detail!$E$24:$E$5800,D77,Limit_Deviation_Detail!$I$24:$I$5800,\"Startup/Shutdown\"))","v":""},{"$f":"IF($E77=\"\",\"\",SUMIFS(Limit_Deviation_Detail!$H$24:$H$5800,Limit_Deviation_Detail!$B$24:$B$5800,B77,Limit_Deviation_Detail!$C$24:$C$5800,C77,Limit_Deviation_Detail!$E$24:$E$5800,D77,Limit_Deviation_Detail!$I$24:$I$5800,\"Control Equipment Problems\"))","v":""},{"$f":"IF($E77=\"\",\"\",SUMIFS(Limit_Deviation_Detail!$H$24:$H$5800,Limit_Deviation_Detail!$B$24:$B$5800,B77,Limit_Deviation_Detail!$C$24:$C$5800,C77,Limit_Deviation_Detail!$E$24:$E$5800,D77,Limit_Deviation_Detail!$I$24:$I$5800,\"Process Problems\"))","v":""},{"$f":"IF($E77=\"\",\"\",SUMIFS(Limit_Deviation_Detail!$H$24:$H$5800,Limit_Deviation_Detail!$B$24:$B$5800,B77,Limit_Deviation_Detail!$C$24:$C$5800,C77,Limit_Deviation_Detail!$E$24:$E$5800,D77,Limit_Deviation_Detail!$I$24:$I$5800,\"Other Known Causes\"))","v":""},{"$f":"IF($E77=\"\",\"\",SUMIFS(Limit_Deviation_Detail!$H$24:$H$5800,Limit_Deviation_Detail!$B$24:$B$5800,B77,Limit_Deviation_Detail!$C$24:$C$5800,C77,Limit_Deviation_Detail!$E$24:$E$5800,D77,Limit_Deviation_Detail!$I$24:$I$5800,\"Unknown Causes\"))","v":""}]
[null,{"$f":"IF(Lists!AA56=\"\",\"\",Lists!AA56)","v":""},{"$f":"IF(Lists!AB56=\"\",\"\",Lists!AB56)","v":""},{"$f":"IF(Lists!AC56=\"\",\"\",Lists!AC56)","v":""},{"$f":"IF(Lists!AC56=\"\",\"\",Lists!AE56)","v":""},"","",{"$f":"IF($E78=\"\",\"\",SUMIFS(Limit_Deviation_Detail!$H$24:$H$5800,Limit_Deviation_Detail!$B$24:$B$5800,B78,Limit_Deviation_Detail!$C$24:$C$5800,C78,Limit_Deviation_Detail!$E$24:$E$5800,D78,Limit_Deviation_Detail!$I$24:$I$5800,\"Startup/Shutdown\"))","v":""},{"$f":"IF($E78=\"\",\"\",SUMIFS(Limit_Deviation_Detail!$H$24:$H$5800,Limit_Deviation_Detail!$B$24:$B$5800,B78,Limit_Deviation_Detail!$C$24:$C$5800,C78,Limit_Deviation_Detail!$E$24:$E$5800,D78,Limit_Deviation_Detail!$I$24:$I$5800,\"Control Equipment Problems\"))","v":""},{"$f":"IF($E78=\"\",\"\",SUMIFS(Limit_Deviation_Detail!$H$24:$H$5800,Limit_Deviation_Detail!$B$24:$B$5800,B78,Limit_Deviation_Detail!$C$24:$C$5800,C78,Limit_Deviation_Detail!$E$24:$E$5800,D78,Limit_Deviation_Detail!$I$24:$I$5800,\"Process Problems\"))","v":""},{"$f":"IF($E78=\"\",\"\",SUMIFS(Limit_Deviation_Detail!$H$24:$H$5800,Limit_Deviation_Detail!$B$24:$B$5800,B78,Limit_Deviation_Detail!$C$24:$C$5800,C78,Limit_Deviation_Detail!$E$24:$E$5800,D78,Limit_Deviation_Detail!$I$24:$I$5800,\"Other Known Causes\"))","v":""},{"$f":"IF($E78=\"\",\"\",SUMIFS(Limit_Deviation_Detail!$H$24:$H$5800,Limit_Deviation_Detail!$B$24:$B$5800,B78,Limit_Deviation_Detail!$C$24:$C$5800,C78,Limit_Deviation_Detail!$E$24:$E$5800,D78,Limit_Deviation_Detail!$I$24:$I$5800,\"Unknown Causes\"))","v":""}]
[null,{"$f":"IF(Lists!AA57=\"\",\"\",Lists!AA57)","v":""},{"$f":"IF(Lists!AB57=\"\",\"\",Lists!AB57)","v":""},{"$f":"IF(Lists!AC57=\"\",\"\",Lists!AC57)","v":""},{"$f":"IF(Lists!AC57=\"\",\"\",Lists!AE57)","v":""},"","",{"$f":"IF($E79=\"\",\"\",SUMIFS(Limit_Deviation_Detail!$H$24:$H$5800,Limit_Deviation_Detail!$B$24:$B$5800,B79,Limit_Deviation_Detail!$C$24:$C$5800,C79,Limit_Deviation_Detail!$E$24:$E$5800,D79,Limit_Deviation_Detail!$I$24:$I$5800,\"Startup/Shutdown\"))","v":""},{"$f":"IF($E79=\"\",\"\",SUMIFS(Limit_Deviation_Detail!$H$24:$H$5800,Limit_Deviation_Detail!$B$24:$B$5800,B79,Limit_Deviation_Detail!$C$24:$C$5800,C79,Limit_Deviation_Detail!$E$24:$E$5800,D79,Limit_Deviation_Detail!$I$24:$I$5800,\"Control Equipment Problems\"))","v":""},{"$f":"IF($E79=\"\",\"\",SUMIFS(Limit_Deviation_Detail!$H$24:$H$5800,Limit_Deviation_Detail!$B$24:$B$5800,B79,Limit_Deviation_Detail!$C$24:$C$5800,C79,Limit_Deviation_Detail!$E$24:$E$5800,D79,Limit_Deviation_Detail!$I$24:$I$5800,\"Process Problems\"))","v":""},{"$f":"IF($E79=\"\",\"\",SUMIFS(Limit_Deviation_Detail!$H$24:$H$5800,Limit_Deviation_Detail!$B$24:$B$5800,B79,Limit_Deviation_Detail!$C$24:$C$5800,C79,Limit_Deviation_Detail!$E$24:$E$5800,D79,Limit_Deviation_Detail!$I$24:$I$5800,\"Other Known Causes\"))","v":""},{"$f":"IF($E79=\"\",\"\",SUMIFS(Limit_Deviation_Detail!$H$24:$H$5800,Limit_Deviation_Detail!$B$24:$B$5800,B79,Limit_Deviation_Detail!$C$24:$C$5800,C79,Limit_Deviation_Detail!$E$24:$E$5800,D79,Limit_Deviation_Detail!$I$24:$I$5800,\"Unknown Causes\"))","v":""}]
[null,{"$f":"IF(Lists!AA58=\"\",\"\",Lists!AA58)","v":""},{"$f":"IF(Lists!AB58=\"\",\"\",Lists!AB58)","v":""},{"$f":"IF(Lists!AC58=\"\",\"\",Lists!AC58)","v":""},{"$f":"IF(Lists!AC58=\"\",\"\",Lists!AE58)","v":""},"","",{"$f":"IF($E80=\"\",\"\",SUMIFS(Limit_Deviation_Detail!$H$24:$H$5800,Limit_Deviation_Detail!$B$24:$B$5800,B80,Limit_Deviation_Detail!$C$24:$C$5800,C80,Limit_Deviation_Detail!$E$24:$E$5800,D80,Limit_Deviation_Detail!$I$24:$I$5800,\"Startup/Shutdown\"))","v":""},{"$f":"IF($E80=\"\",\"\",SUMIFS(Limit_Deviation_Detail!$H$24:$H$5800,Limit_Deviation_Detail!$B$24:$B$5800,B80,Limit_Deviation_Detail!$C$24:$C$5800,C80,Limit_Deviation_Detail!$E$24:$E$5800,D80,Limit_Deviation_Detail!$I$24:$I$5800,\"Control Equipment Problems\"))","v":""},{"$f":"IF($E80=\"\",\"\",SUMIFS(Limit_Deviation_Detail!$H$24:$H$5800,Limit_Deviation_Detail!$B$24:$B$5800,B80,Limit_Deviation_Detail!$C$24:$C$5800,C80,Limit_Deviation_Detail!$E$24:$E$5800,D80,Limit_Deviation_Detail!$I$24:$I$5800,\"Process Problems\"))","v":""},{"$f":"IF($E80=\"\",\"\",SUMIFS(Limit_Deviation_Detail!$H$24:$H$5800,Limit_Deviation_Detail!$B$24:$B$5800,B80,Limit_Deviation_Detail!$C$24:$C$5800,C80,Limit_Deviation_Detail!$E$24:$E$5800,D80,Limit_Deviation_Detail!$I$24:$I$5800,\"Other Known Causes\"))","v":""},{"$f":"IF($E80=\"\",\"\",SUMIFS(Limit_Deviation_Detail!$H$24:$H$5800,Limit_Deviation_Detail!$B$24:$B$5800,B80,Limit_Deviation_Detail!$C$24:$C$5800,C80,Limit_Deviation_Detail!$E$24:$E$5800,D80,Limit_Deviation_Detail!$I$24:$I$5800,\"Unknown Causes\"))","v":""}]
[null,{"$f":"IF(Lists!AA59=\"\",\"\",Lists!AA59)","v":""},{"$f":"IF(Lists!AB59=\"\",\"\",Lists!AB59)","v":""},{"$f":"IF(Lists!AC59=\"\",\"\",Lists!AC59)","v":""},{"$f":"IF(Lists!AC59=\"\",\"\",Lists!AE59)","v":""},"","",{"$f":"IF($E81=\"\",\"\",SUMIFS(Limit_Deviation_Detail!$H$24:$H$5800,Limit_Deviation_Detail!$B$24:$B$5800,B81,Limit_Deviation_Detail!$C$24:$C$5800,C81,Limit_Deviation_Detail!$E$24:$E$5800,D81,Limit_Deviation_Detail!$I$24:$I$5800,\"Startup/Shutdown\"))","v":""},{"$f":"IF($E81=\"\",\"\",SUMIFS(Limit_Deviation_Detail!$H$24:$H$5800,Limit_Deviation_Detail!$B$24:$B$5800,B81,Limit_Deviation_Detail!$C$24:$C$5800,C81,Limit_Deviation_Detail!$E$24:$E$5800,D81,Limit_Deviation_Detail!$I$24:$I$5800,\"Control Equipment Problems\"))","v":""},{"$f":"IF($E81=\"\",\"\",SUMIFS(Limit_Deviation_Detail!$H$24:$H$5800,Limit_Deviation_Detail!$B$24:$B$5800,B81,Limit_Deviation_Detail!$C$24:$C$5800,C81,Limit_Deviation_Detail!$E$24:$E$5800,D81,Limit_Deviation_Detail!$I$24:$I$5800,\"Process Problems\"))","v":""},{"$f":"IF($E81=\"\",\"\",SUMIFS(Limit_Deviation_Detail!$H$24:$H$5800,Limit_Deviation_Detail!$B$24:$B$5800,B81,Limit_Deviation_Detail!$C$24:$C$5800,C81,Limit_Deviation_Detail!$E$24:$E$5800,D81,Limit_Deviation_Detail!$I$24:$I$5800,\"Other Known Causes\"))","v":""},{"$f":"IF($E81=\"\",\"\",SUMIFS(Limit_Deviation_Detail!$H$24:$H$5800,Limit_Deviation_Detail!$B$24:$B$5800,B81,Limit_Deviation_Detail!$C$24:$C$5800,C81,Limit_Deviation_Detail!$E$24:$E$5800,D81,Limit_Deviation_Detail!$I$24:$I$5800,\"Unknown Causes\"))","v":""}]
[null,{"$f":"IF(Lists!AA60=\"\",\"\",Lists!AA60)","v":""},{"$f":"IF(Lists!AB60=\"\",\"\",Lists!AB60)","v":""},{"$f":"IF(Lists!AC60=\"\",\"\",Lists!AC60)","v":""},{"$f":"IF(Lists!AC60=\"\",\"\",Lists!AE60)","v":""},"","",{"$f":"IF($E82=\"\",\"\",SUMIFS(Limit_Deviation_Detail!$H$24:$H$5800,Limit_Deviation_Detail!$B$24:$B$5800,B82,Limit_Deviation_Detail!$C$24:$C$5800,C82,Limit_Deviation_Detail!$E$24:$E$5800,D82,Limit_Deviation_Detail!$I$24:$I$5800,\"Startup/Shutdown\"))","v":""},{"$f":"IF($E82=\"\",\"\",SUMIFS(Limit_Deviation_Detail!$H$24:$H$5800,Limit_Deviation_Detail!$B$24:$B$5800,B82,Limit_Deviation_Detail!$C$24:$C$5800,C82,Limit_Deviation_Detail!$E$24:$E$5800,D82,Limit_Deviation_Detail!$I$24:$I$5800,\"Control Equipment Problems\"))","v":""},{"$f":"IF($E82=\"\",\"\",SUMIFS(Limit_Deviation_Detail!$H$24:$H$5800,Limit_Deviation_Detail!$B$24:$B$5800,B82,Limit_Deviation_Detail!$C$24:$C$5800,C82,Limit_Deviation_Detail!$E$24:$E$5800,D82,Limit_Deviation_Detail!$I$24:$I$5800,\"Process Problems\"))","v":""},{"$f":"IF($E82=\"\",\"\",SUMIFS(Limit_Deviation_Detail!$H$24:$H$5800,Limit_Deviation_Detail!$B$24:$B$5800,B82,Limit_Deviation_Detail!$C$24:$C$5800,C82,Limit_Deviation_Detail!$E$24:$E$5800,D82,Limit_Deviation_Detail!$I$24:$I$5800,\"Other Known Causes\"))","v":""},{"$f":"IF($E82=\"\",\"\",SUMIFS(Limit_Deviation_Detail!$H$24:$H$5800,Limit_Deviation_Detail!$B$24:$B$5800,B82,Limit_Deviation_Detail!$C$24:$C$5800,C82,Limit_Deviation_Detail!$E$24:$E$5800,D82,Limit_Deviation_Detail!$I$24:$I$5800,\"Unknown Causes\"))","v":""}]
[null,{"$f":"IF(Lists!AA61=\"\",\"\",Lists!AA61)","v":""},{"$f":"IF(Lists!AB61=\"\",\"\",Lists!AB61)","v":""},{"$f":"IF(Lists!AC61=\"\",\"\",Lists!AC61)","v":""},{"$f":"IF(Lists!AC61=\"\",\"\",Lists!AE61)","v":""},"","",{"$f":"IF($E83=\"\",\"\",SUMIFS(Limit_Deviation_Detail!$H$24:$H$5800,Limit_Deviation_Detail!$B$24:$B$5800,B83,Limit_Deviation_Detail!$C$24:$C$5800,C83,Limit_Deviation_Detail!$E$24:$E$5800,D83,Limit_Deviation_Detail!$I$24:$I$5800,\"Startup/Shutdown\"))","v":""},{"$f":"IF($E83=\"\",\"\",SUMIFS(Limit_Deviation_Detail!$H$24:$H$5800,Limit_Deviation_Detail!$B$24:$B$5800,B83,Limit_Deviation_Detail!$C$24:$C$5800,C83,Limit_Deviation_Detail!$E$24:$E$5800,D83,Limit_Deviation_Detail!$I$24:$I$5800,\"Control Equipment Problems\"))","v":""},{"$f":"IF($E83=\"\",\"\",SUMIFS(Limit_Deviation_Detail!$H$24:$H$5800,Limit_Deviation_Detail!$B$24:$B$5800,B83,Limit_Deviation_Detail!$C$24:$C$5800,C83,Limit_Deviation_Detail!$E$24:$E$5800,D83,Limit_Deviation_Detail!$I$24:$I$5800,\"Process Problems\"))","v":""},{"$f":"IF($E83=\"\",\"\",SUMIFS(Limit_Deviation_Detail!$H$24:$H$5800,Limit_Deviation_Detail!$B$24:$B$5800,B83,Limit_Deviation_Detail!$C$24:$C$5800,C83,Limit_Deviation_Detail!$E$24:$E$5800,D83,Limit_Deviation_Detail!$I$24:$I$5800,\"Other Known Causes\"))","v":""},{"$f":"IF($E83=\"\",\"\",SUMIFS(Limit_Deviation_Detail!$H$24:$H$5800,Limit_Deviation_Detail!$B$24:$B$5800,B83,Limit_Deviation_Detail!$C$24:$C$5800,C83,Limit_Deviation_Detail!$E$24:$E$5800,D83,Limit_Deviation_Detail!$I$24:$I$5800,\"Unknown Causes\"))","v":""}]
[null,{"$f":"IF(Lists!AA62=\"\",\"\",Lists!AA62)","v":""},{"$f":"IF(Lists!AB62=\"\",\"\",Lists!AB62)","v":""},{"$f":"IF(Lists!AC62=\"\",\"\",Lists!AC62)","v":""},{"$f":"IF(Lists!AC62=\"\",\"\",Lists!AE62)","v":""},"","",{"$f":"IF($E84=\"\",\"\",SUMIFS(Limit_Deviation_Detail!$H$24:$H$5800,Limit_Deviation_Detail!$B$24:$B$5800,B84,Limit_Deviation_Detail!$C$24:$C$5800,C84,Limit_Deviation_Detail!$E$24:$E$5800,D84,Limit_Deviation_Detail!$I$24:$I$5800,\"Startup/Shutdown\"))","v":""},{"$f":"IF($E84=\"\",\"\",SUMIFS(Limit_Deviation_Detail!$H$24:$H$5800,Limit_Deviation_Detail!$B$24:$B$5800,B84,Limit_Deviation_Detail!$C$24:$C$5800,C84,Limit_Deviation_Detail!$E$24:$E$5800,D84,Limit_Deviation_Detail!$I$24:$I$5800,\"Control Equipment Problems\"))","v":""},{"$f":"IF($E84=\"\",\"\",SUMIFS(Limit_Deviation_Detail!$H$24:$H$5800,Limit_Deviation_Detail!$B$24:$B$5800,B84,Limit_Deviation_Detail!$C$24:$C$5800,C84,Limit_Deviation_Detail!$E$24:$E$5800,D84,Limit_Deviation_Detail!$I$24:$I$5800,\"Process Problems\"))","v":""},{"$f":"IF($E84=\"\",\"\",SUMIFS(Limit_Deviation_Detail!$H$24:$H$5800,Limit_Deviation_Detail!$B$24:$B$5800,B84,Limit_Deviation_Detail!$C$24:$C$5800,C84,Limit_Deviation_Detail!$E$24:$E$5800,D84,Limit_Deviation_Detail!$I$24:$I$5800,\"Other Known Causes\"))","v":""},{"$f":"IF($E84=\"\",\"\",SUMIFS(Limit_Deviation_Detail!$H$24:$H$5800,Limit_Deviation_Detail!$B$24:$B$5800,B84,Limit_Deviation_Detail!$C$24:$C$5800,C84,Limit_Deviation_Detail!$E$24:$E$5800,D84,Limit_Deviation_Detail!$I$24:$I$5800,\"Unknown Causes\"))","v":""}]
[null,{"$f":"IF(Lists!AA63=\"\",\"\",Lists!AA63)","v":""},{"$f":"IF(Lists!AB63=\"\",\"\",Lists!AB63)","v":""},{"$f":"IF(Lists!AC63=\"\",\"\",Lists!AC63)","v":""},{"$f":"IF(Lists!AC63=\"\",\"\",Lists!AE63)","v":""},"","",{"$f":"IF($E85=\"\",\"\",SUMIFS(Limit_Deviation_Detail!$H$24:$H$5800,Limit_Deviation_Detail!$B$24:$B$5800,B85,Limit_Deviation_Detail!$C$24:$C$5800,C85,Limit_Deviation_Detail!$E$24:$E$5800,D85,Limit_Deviation_Detail!$I$24:$I$5800,\"Startup/Shutdown\"))","v":""},{"$f":"IF($E85=\"\",\"\",SUMIFS(Limit_Deviation_Detail!$H$24:$H$5800,Limit_Deviation_Detail!$B$24:$B$5800,B85,Limit_Deviation_Detail!$C$24:$C$5800,C85,Limit_Deviation_Detail!$E$24:$E$5800,D85,Limit_Deviation_Detail!$I$24:$I$5800,\"Control Equipment Problems\"))","v":""},{"$f":"IF($E85=\"\",\"\",SUMIFS(Limit_Deviation_Detail!$H$24:$H$5800,Limit_Deviation_Detail!$B$24:$B$5800,B85,Limit_Deviation_Detail!$C$24:$C$5800,C85,Limit_Deviation_Detail!$E$24:$E$5800,D85,Limit_Deviation_Detail!$I$24:$I$5800,\"Process Problems\"))","v":""},{"$f":"IF($E85=\"\",\"\",SUMIFS(Limit_Deviation_Detail!$H$24:$H$5800,Limit_Deviation_Detail!$B$24:$B$5800,B85,Limit_Deviation_Detail!$C$24:$C$5800,C85,Limit_Deviation_Detail!$E$24:$E$5800,D85,Limit_Deviation_Detail!$I$24:$I$5800,\"Other Known Causes\"))","v":""},{"$f":"IF($E85=\"\",\"\",SUMIFS(Limit_Deviation_Detail!$H$24:$H$5800,Limit_Deviation_Detail!$B$24:$B$5800,B85,Limit_Deviation_Detail!$C$24:$C$5800,C85,Limit_Deviation_Detail!$E$24:$E$5800,D85,Limit_Deviation_Detail!$I$24:$I$5800,\"Unknown Causes\"))","v":""}]
[null,{"$f":"IF(Lists!AA64=\"\",\"\",Lists!AA64)","v":""},{"$f":"IF(Lists!AB64=\"\",\"\",Lists!AB64)","v":""},{"$f":"IF(Lists!AC64=\"\",\"\",Lists!AC64)","v":""},{"$f":"IF(Lists!AC64=\"\",\"\",Lists!AE64)","v":""},"","",{"$f":"IF($E86=\"\",\"\",SUMIFS(Limit_Deviation_Detail!$H$24:$H$5800,Limit_Deviation_Detail!$B$24:$B$5800,B86,Limit_Deviation_Detail!$C$24:$C$5800,C86,Limit_Deviation_Detail!$E$24:$E$5800,D86,Limit_Deviation_Detail!$I$24:$I$5800,\"Startup/Shutdown\"))","v":""},{"$f":"IF($E86=\"\",\"\",SUMIFS(Limit_Deviation_Detail!$H$24:$H$5800,Limit_Deviation_Detail!$B$24:$B$5800,B86,Limit_Deviation_Detail!$C$24:$C$5800,C86,Limit_Deviation_Detail!$E$24:$E$5800,D86,Limit_Deviation_Detail!$I$24:$I$5800,\"Control Equipment Problems\"))","v":""},{"$f":"IF($E86=\"\",\"\",SUMIFS(Limit_Deviation_Detail!$H$24:$H$5800,Limit_Deviation_Detail!$B$24:$B$5800,B86,Limit_Deviation_Detail!$C$24:$C$5800,C86,Limit_Deviation_Detail!$E$24:$E$5800,D86,Limit_Deviation_Detail!$I$24:$I$5800,\"Process Problems\"))","v":""},{"$f":"IF($E86=\"\",\"\",SUMIFS(Limit_Deviation_Detail!$H$24:$H$5800,Limit_Deviation_Detail!$B$24:$B$5800,B86,Limit_Deviation_Detail!$C$24:$C$5800,C86,Limit_Deviation_Detail!$E$24:$E$5800,D86,Limit_Deviation_Detail!$I$24:$I$5800,\"Other Known Causes\"))","v":""},{"$f":"IF($E86=\"\",\"\",SUMIFS(Limit_Deviation_Detail!$H$24:$H$5800,Limit_Deviation_Detail!$B$24:$B$5800,B86,Limit_Deviation_Detail!$C$24:$C$5800,C86,Limit_Deviation_Detail!$E$24:$E$5800,D86,Limit_Deviation_Detail!$I$24:$I$5800,\"Unknown Causes\"))","v":""}]
[null,{"$f":"IF(Lists!AA65=\"\",\"\",Lists!AA65)","v":""},{"$f":"IF(Lists!AB65=\"\",\"\",Lists!AB65)","v":""},{"$f":"IF(Lists!AC65=\"\",\"\",Lists!AC65)","v":""},{"$f":"IF(Lists!AC65=\"\",\"\",Lists!AE65)","v":""},"","",{"$f":"IF($E87=\"\",\"\",SUMIFS(Limit_Deviation_Detail!$H$24:$H$5800,Limit_Deviation_Detail!$B$24:$B$5800,B87,Limit_Deviation_Detail!$C$24:$C$5800,C87,Limit_Deviation_Detail!$E$24:$E$5800,D87,Limit_Deviation_Detail!$I$24:$I$5800,\"Startup/Shutdown\"))","v":""},{"$f":"IF($E87=\"\",\"\",SUMIFS(Limit_Deviation_Detail!$H$24:$H$5800,Limit_Deviation_Detail!$B$24:$B$5800,B87,Limit_Deviation_Detail!$C$24:$C$5800,C87,Limit_Deviation_Detail!$E$24:$E$5800,D87,Limit_Deviation_Detail!$I$24:$I$5800,\"Control Equipment Problems\"))","v":""},{"$f":"IF($E87=\"\",\"\",SUMIFS(Limit_Deviation_Detail!$H$24:$H$5800,Limit_Deviation_Detail!$B$24:$B$5800,B87,Limit_Deviation_Detail!$C$24:$C$5800,C87,Limit_Deviation_Detail!$E$24:$E$5800,D87,Limit_Deviation_Detail!$I$24:$I$5800,\"Process Problems\"))","v":""},{"$f":"IF($E87=\"\",\"\",SUMIFS(Limit_Deviation_Detail!$H$24:$H$5800,Limit_Deviation_Detail!$B$24:$B$5800,B87,Limit_Deviation_Detail!$C$24:$C$5800,C87,Limit_Deviation_Detail!$E$24:$E$5800,D87,Limit_Deviation_Detail!$I$24:$I$5800,\"Other Known Causes\"))","v":""},{"$f":"IF($E87=\"\",\"\",SUMIFS(Limit_Deviation_Detail!$H$24:$H$5800,Limit_Deviation_Detail!$B$24:$B$5800,B87,Limit_Deviation_Detail!$C$24:$C$5800,C87,Limit_Deviation_Detail!$E$24:$E$5800,D87,Limit_Deviation_Detail!$I$24:$I$5800,\"Unknown Causes\"))","v":""}]
[null,{"$f":"IF(Lists!AA66=\"\",\"\",Lists!AA66)","v":""},{"$f":"IF(Lists!AB66=\"\",\"\",Lists!AB66)","v":""},{"$f":"IF(Lists!AC66=\"\",\"\",Lists!AC66)","v":""},{"$f":"IF(Lists!AC66=\"\",\"\",Lists!AE66)","v":""},{"$f":"IF(E88=\"\",\"\",SUM(H88:L88))","v":""},"",{"$f":"IF($E88=\"\",\"\",SUMIFS(Limit_Deviation_Detail!$H$24:$H$5800,Limit_Deviation_Detail!$B$24:$B$5800,B88,Limit_Deviation_Detail!$C$24:$C$5800,C88,Limit_Deviation_Detail!$E$24:$E$5800,D88,Limit_Deviation_Detail!$I$24:$I$5800,\"Startup/Shutdown\"))","v":""},{"$f":"IF($E88=\"\",\"\",SUMIFS(Limit_Deviation_Detail!$H$24:$H$5800,Limit_Deviation_Detail!$B$24:$B$5800,B88,Limit_Deviation_Detail!$C$24:$C$5800,C88,Limit_Deviation_Detail!$E$24:$E$5800,D88,Limit_Deviation_Detail!$I$24:$I$5800,\"Control Equipment Problems\"))","v":""},{"$f":"IF($E88=\"\",\"\",SUMIFS(Limit_Deviation_Detail!$H$24:$H$5800,Limit_Deviation_Detail!$B$24:$B$5800,B88,Limit_Deviation_Detail!$C$24:$C$5800,C88,Limit_Deviation_Detail!$E$24:$E$5800,D88,Limit_Deviation_Detail!$I$24:$I$5800,\"Process Problems\"))","v":""},{"$f":"IF($E88=\"\",\"\",SUMIFS(Limit_Deviation_Detail!$H$24:$H$5800,Limit_Deviation_Detail!$B$24:$B$5800,B88,Limit_Deviation_Detail!$C$24:$C$5800,C88,Limit_Deviation_Detail!$E$24:$E$5800,D88,Limit_Deviation_Detail!$I$24:$I$5800,\"Other Known Causes\"))","v":""},{"$f":"IF($E88=\"\",\"\",SUMIFS(Limit_Deviation_Detail!$H$24:$H$5800,Limit_Deviation_Detail!$B$24:$B$5800,B88,Limit_Deviation_Detail!$C$24:$C$5800,C88,Limit_Deviation_Detail!$E$24:$E$5800,D88,Limit_Deviation_Detail!$I$24:$I$5800,\"Unknown Causes\"))","v":""}]
[null,{"$f":"IF(Lists!AA67=\"\",\"\",Lists!AA67)","v":""},{"$f":"IF(Lists!AB67=\"\",\"\",Lists!AB67)","v":""},{"$f":"IF(Lists!AC67=\"\",\"\",Lists!AC67)","v":""},{"$f":"IF(Lists!AC67=\"\",\"\",Lists!AE67)","v":""},"",{"$f":"IF($E89=\"\",\"\",IF(F89=0,\"N/A\",F89/$E89))","v":""},{"$f":"IF($E89=\"\",\"\",SUMIFS(Limit_Deviation_Detail!$H$24:$H$5800,Limit_Deviation_Detail!$B$24:$B$5800,B89,Limit_Deviation_Detail!$C$24:$C$5800,C89,Limit_Deviation_Detail!$E$24:$E$5800,D89,Limit_Deviation_Detail!$I$24:$I$5800,\"Startup/Shutdown\"))","v":""},{"$f":"IF($E89=\"\",\"\",SUMIFS(Limit_Deviation_Detail!$H$24:$H$5800,Limit_Deviation_Detail!$B$24:$B$5800,B89,Limit_Deviation_Detail!$C$24:$C$5800,C89,Limit_Deviation_Detail!$E$24:$E$5800,D89,Limit_Deviation_Detail!$I$24:$I$5800,\"Control Equipment Problems\"))","v":""},{"$f":"IF($E89=\"\",\"\",SUMIFS(Limit_Deviation_Detail!$H$24:$H$5800,Limit_Deviation_Detail!$B$24:$B$5800,B89,Limit_Deviation_Detail!$C$24:$C$5800,C89,Limit_Deviation_Detail!$E$24:$E$5800,D89,Limit_Deviation_Detail!$I$24:$I$5800,\"Process Problems\"))","v":""},{"$f":"IF($E89=\"\",\"\",SUMIFS(Limit_Deviation_Detail!$H$24:$H$5800,Limit_Deviation_Detail!$B$24:$B$5800,B89,Limit_Deviation_Detail!$C$24:$C$5800,C89,Limit_Deviation_Detail!$E$24:$E$5800,D89,Limit_Deviation_Detail!$I$24:$I$5800,\"Other Known Causes\"))","v":""},{"$f":"IF($E89=\"\",\"\",SUMIFS(Limit_Deviation_Detail!$H$24:$H$5800,Limit_Deviation_Detail!$B$24:$B$5800,B89,Limit_Deviation_Detail!$C$24:$C$5800,C89,Limit_Deviation_Detail!$E$24:$E$5800,D89,Limit_Deviation_Detail!$I$24:$I$5800,\"Unknown Causes\"))","v":""}]
[null,{"$f":"IF(Lists!AA68=\"\",\"\",Lists!AA68)","v":""},{"$f":"IF(Lists!AB68=\"\",\"\",Lists!AB68)","v":""},{"$f":"IF(Lists!AC68=\"\",\"\",Lists!AC68)","v":""},{"$f":"IF(Lists!AC68=\"\",\"\",Lists!AE68)","v":""},"","",{"$f":"IF($E90=\"\",\"\",SUMIFS(Limit_Deviation_Detail!$H$24:$H$5800,Limit_Deviation_Detail!$B$24:$B$5800,B90,Limit_Deviation_Detail!$C$24:$C$5800,C90,Limit_Deviation_Detail!$E$24:$E$5800,D90,Limit_Deviation_Detail!$I$24:$I$5800,\"Startup/Shutdown\"))","v":""},{"$f":"IF($E90=\"\",\"\",SUMIFS(Limit_Deviation_Detail!$H$24:$H$5800,Limit_Deviation_Detail!$B$24:$B$5800,B90,Limit_Deviation_Detail!$C$24:$C$5800,C90,Limit_Deviation_Detail!$E$24:$E$5800,D90,Limit_Deviation_Detail!$I$24:$I$5800,\"Control Equipment Problems\"))","v":""},{"$f":"IF($E90=\"\",\"\",SUMIFS(Limit_Deviation_Detail!$H$24:$H$5800,Limit_Deviation_Detail!$B$24:$B$5800,B90,Limit_Deviation_Detail!$C$24:$C$5800,C90,Limit_Deviation_Detail!$E$24:$E$5800,D90,Limit_Deviation_Detail!$I$24:$I$5800,\"Process Problems\"))","v":""},{"$f":"IF($E90=\"\",\"\",SUMIFS(Limit_Deviation_Detail!$H$24:$H$5800,Limit_Deviation_Detail!$B$24:$B$5800,B90,Limit_Deviation_Detail!$C$24:$C$5800,C90,Limit_Deviation_Detail!$E$24:$E$5800,D90,Limit_Deviation_Detail!$I$24:$I$5800,\"Other Known Causes\"))","v":""},{"$f":"IF($E90=\"\",\"\",SUMIFS(Limit_Deviation_Detail!$H$24:$H$5800,Limit_Deviation_Detail!$B$24:$B$5800,B90,Limit_Deviation_Detail!$C$24:$C$5800,C90,Limit_Deviation_Detail!$E$24:$E$5800,D90,Limit_Deviation_Detail!$I$24:$I$5800,\"Unknown Causes\"))","v":""}]
[null,{"$f":"IF(Lists!AA69=\"\",\"\",Lists!AA69)","v":""},{"$f":"IF(Lists!AB69=\"\",\"\",Lists!AB69)","v":""},{"$f":"IF(Lists!AC69=\"\",\"\",Lists!AC69)","v":""},{"$f":"IF(Lists!AC69=\"\",\"\",Lists!AE69)","v":""},"","",{"$f":"IF($E91=\"\",\"\",SUMIFS(Limit_Deviation_Detail!$H$24:$H$5800,Limit_Deviation_Detail!$B$24:$B$5800,B91,Limit_Deviation_Detail!$C$24:$C$5800,C91,Limit_Deviation_Detail!$E$24:$E$5800,D91,Limit_Deviation_Detail!$I$24:$I$5800,\"Startup/Shutdown\"))","v":""},{"$f":"IF($E91=\"\",\"\",SUMIFS(Limit_Deviation_Detail!$H$24:$H$5800,Limit_Deviation_Detail!$B$24:$B$5800,B91,Limit_Deviation_Detail!$C$24:$C$5800,C91,Limit_Deviation_Detail!$E$24:$E$5800,D91,Limit_Deviation_Detail!$I$24:$I$5800,\"Control Equipment Problems\"))","v":""},{"$f":"IF($E91=\"\",\"\",SUMIFS(Limit_Deviation_Detail!$H$24:$H$5800,Limit_Deviation_Detail!$B$24:$B$5800,B91,Limit_Deviation_Detail!$C$24:$C$5800,C91,Limit_Deviation_Detail!$E$24:$E$5800,D91,Limit_Deviation_Detail!$I$24:$I$5800,\"Process Problems\"))","v":""},{"$f":"IF($E91=\"\",\"\",SUMIFS(Limit_Deviation_Detail!$H$24:$H$5800,Limit_Deviation_Detail!$B$24:$B$5800,B91,Limit_Deviation_Detail!$C$24:$C$5800,C91,Limit_Deviation_Detail!$E$24:$E$5800,D91,Limit_Deviation_Detail!$I$24:$I$5800,\"Other Known Causes\"))","v":""},{"$f":"IF($E91=\"\",\"\",SUMIFS(Limit_Deviation_Detail!$H$24:$H$5800,Limit_Deviation_Detail!$B$24:$B$5800,B91,Limit_Deviation_Detail!$C$24:$C$5800,C91,Limit_Deviation_Detail!$E$24:$E$5800,D91,Limit_Deviation_Detail!$I$24:$I$5800,\"Unknown Causes\"))","v":""}]
[null,{"$f":"IF(Lists!AA70=\"\",\"\",Lists!AA70)","v":""},{"$f":"IF(Lists!AB70=\"\",\"\",Lists!AB70)","v":""},{"$f":"IF(Lists!AC70=\"\",\"\",Lists!AC70)","v":""},{"$f":"IF(Lists!AC70=\"\",\"\",Lists!AE70)","v":""},"","",{"$f":"IF($E92=\"\",\"\",SUMIFS(Limit_Deviation_Detail!$H$24:$H$5800,Limit_Deviation_Detail!$B$24:$B$5800,B92,Limit_Deviation_Detail!$C$24:$C$5800,C92,Limit_Deviation_Detail!$E$24:$E$5800,D92,Limit_Deviation_Detail!$I$24:$I$5800,\"Startup/Shutdown\"))","v":""},{"$f":"IF($E92=\"\",\"\",SUMIFS(Limit_Deviation_Detail!$H$24:$H$5800,Limit_Deviation_Detail!$B$24:$B$5800,B92,Limit_Deviation_Detail!$C$24:$C$5800,C92,Limit_Deviation_Detail!$E$24:$E$5800,D92,Limit_Deviation_Detail!$I$24:$I$5800,\"Control Equipment Problems\"))","v":""},{"$f":"IF($E92=\"\",\"\",SUMIFS(Limit_Deviation_Detail!$H$24:$H$5800,Limit_Deviation_Detail!$B$24:$B$5800,B92,Limit_Deviation_Detail!$C$24:$C$5800,C92,Limit_Deviation_Detail!$E$24:$E$5800,D92,Limit_Deviation_Detail!$I$24:$I$5800,\"Process Problems\"))","v":""},{"$f":"IF($E92=\"\",\"\",SUMIFS(Limit_Deviation_Detail!$H$24:$H$5800,Limit_Deviation_Detail!$B$24:$B$5800,B92,Limit_Deviation_Detail!$C$24:$C$5800,C92,Limit_Deviation_Detail!$E$24:$E$5800,D92,Limit_Deviation_Detail!$I$24:$I$5800,\"Other Known Causes\"))","v":""},{"$f":"IF($E92=\"\",\"\",SUMIFS(Limit_Deviation_Detail!$H$24:$H$5800,Limit_Deviation_Detail!$B$24:$B$5800,B92,Limit_Deviation_Detail!$C$24:$C$5800,C92,Limit_Deviation_Detail!$E$24:$E$5800,D92,Limit_Deviation_Detail!$I$24:$I$5800,\"Unknown Causes\"))","v":""}]
[null,{"$f":"IF(Lists!AA71=\"\",\"\",Lists!AA71)","v":""},{"$f":"IF(Lists!AB71=\"\",\"\",Lists!AB71)","v":""},{"$f":"IF(Lists!AC71=\"\",\"\",Lists!AC71)","v":""},{"$f":"IF(Lists!AC71=\"\",\"\",Lists!AE71)","v":""},"","",{"$f":"IF($E93=\"\",\"\",SUMIFS(Limit_Deviation_Detail!$H$24:$H$5800,Limit_Deviation_Detail!$B$24:$B$5800,B93,Limit_Deviation_Detail!$C$24:$C$5800,C93,Limit_Deviation_Detail!$E$24:$E$5800,D93,Limit_Deviation_Detail!$I$24:$I$5800,\"Startup/Shutdown\"))","v":""},{"$f":"IF($E93=\"\",\"\",SUMIFS(Limit_Deviation_Detail!$H$24:$H$5800,Limit_Deviation_Detail!$B$24:$B$5800,B93,Limit_Deviation_Detail!$C$24:$C$5800,C93,Limit_Deviation_Detail!$E$24:$E$5800,D93,Limit_Deviation_Detail!$I$24:$I$5800,\"Control Equipment Problems\"))","v":""},{"$f":"IF($E93=\"\",\"\",SUMIFS(Limit_Deviation_Detail!$H$24:$H$5800,Limit_Deviation_Detail!$B$24:$B$5800,B93,Limit_Deviation_Detail!$C$24:$C$5800,C93,Limit_Deviation_Detail!$E$24:$E$5800,D93,Limit_Deviation_Detail!$I$24:$I$5800,\"Process Problems\"))","v":""},{"$f":"IF($E93=\"\",\"\",SUMIFS(Limit_Deviation_Detail!$H$24:$H$5800,Limit_Deviation_Detail!$B$24:$B$5800,B93,Limit_Deviation_Detail!$C$24:$C$5800,C93,Limit_Deviation_Detail!$E$24:$E$5800,D93,Limit_Deviation_Detail!$I$24:$I$5800,\"Other Known Causes\"))","v":""},{"$f":"IF($E93=\"\",\"\",SUMIFS(Limit_Deviation_Detail!$H$24:$H$5800,Limit_Deviation_Detail!$B$24:$B$5800,B93,Limit_Deviation_Detail!$C$24:$C$5800,C93,Limit_Deviation_Detail!$E$24:$E$5800,D93,Limit_Deviation_Detail!$I$24:$I$5800,\"Unknown Causes\"))","v":""}]
[null,{"$f":"IF(Lists!AA72=\"\",\"\",Lists!AA72)","v":""},{"$f":"IF(Lists!AB72=\"\",\"\",Lists!AB72)","v":""},{"$f":"IF(Lists!AC72=\"\",\"\",Lists!AC72)","v":""},{"$f":"IF(Lists!AC72=\"\",\"\",Lists!AE72)","v":""},"","",{"$f":"IF($E94=\"\",\"\",SUMIFS(Limit_Deviation_Detail!$H$24:$H$5800,Limit_Deviation_Detail!$B$24:$B$5800,B94,Limit_Deviation_Detail!$C$24:$C$5800,C94,Limit_Deviation_Detail!$E$24:$E$5800,D94,Limit_Deviation_Detail!$I$24:$I$5800,\"Startup/Shutdown\"))","v":""},{"$f":"IF($E94=\"\",\"\",SUMIFS(Limit_Deviation_Detail!$H$24:$H$5800,Limit_Deviation_Detail!$B$24:$B$5800,B94,Limit_Deviation_Detail!$C$24:$C$5800,C94,Limit_Deviation_Detail!$E$24:$E$5800,D94,Limit_Deviation_Detail!$I$24:$I$5800,\"Control Equipment Problems\"))","v":""},{"$f":"IF($E94=\"\",\"\",SUMIFS(Limit_Deviation_Detail!$H$24:$H$5800,Limit_Deviation_Detail!$B$24:$B$5800,B94,Limit_Deviation_Detail!$C$24:$C$5800,C94,Limit_Deviation_Detail!$E$24:$E$5800,D94,Limit_Deviation_Detail!$I$24:$I$5800,\"Process Problems\"))","v":""},{"$f":"IF($E94=\"\",\"\",SUMIFS(Limit_Deviation_Detail!$H$24:$H$5800,Limit_Deviation_Detail!$B$24:$B$5800,B94,Limit_Deviation_Detail!$C$24:$C$5800,C94,Limit_Deviation_Detail!$E$24:$E$5800,D94,Limit_Deviation_Detail!$I$24:$I$5800,\"Other Known Causes\"))","v":""},{"$f":"IF($E94=\"\",\"\",SUMIFS(Limit_Deviation_Detail!$H$24:$H$5800,Limit_Deviation_Detail!$B$24:$B$5800,B94,Limit_Deviation_Detail!$C$24:$C$5800,C94,Limit_Deviation_Detail!$E$24:$E$5800,D94,Limit_Deviation_Detail!$I$24:$I$5800,\"Unknown Causes\"))","v":""}]
[null,{"$f":"IF(Lists!AA73=\"\",\"\",Lists!AA73)","v":""},{"$f":"IF(Lists!AB73=\"\",\"\",Lists!AB73)","v":""},{"$f":"IF(Lists!AC73=\"\",\"\",Lists!AC73)","v":""},{"$f":"IF(Lists!AC73=\"\",\"\",Lists!AE73)","v":""},"","",{"$f":"IF($E95=\"\",\"\",SUMIFS(Limit_Deviation_Detail!$H$24:$H$5800,Limit_Deviation_Detail!$B$24:$B$5800,B95,Limit_Deviation_Detail!$C$24:$C$5800,C95,Limit_Deviation_Detail!$E$24:$E$5800,D95,Limit_Deviation_Detail!$I$24:$I$5800,\"Startup/Shutdown\"))","v":""},{"$f":"IF($E95=\"\",\"\",SUMIFS(Limit_Deviation_Detail!$H$24:$H$5800,Limit_Deviation_Detail!$B$24:$B$5800,B95,Limit_Deviation_Detail!$C$24:$C$5800,C95,Limit_Deviation_Detail!$E$24:$E$5800,D95,Limit_Deviation_Detail!$I$24:$I$5800,\"Control Equipment Problems\"))","v":""},{"$f":"IF($E95=\"\",\"\",SUMIFS(Limit_Deviation_Detail!$H$24:$H$5800,Limit_Deviation_Detail!$B$24:$B$5800,B95,Limit_Deviation_Detail!$C$24:$C$5800,C95,Limit_Deviation_Detail!$E$24:$E$5800,D95,Limit_Deviation_Detail!$I$24:$I$5800,\"Process Problems\"))","v":""},{"$f":"IF($E95=\"\",\"\",SUMIFS(Limit_Deviation_Detail!$H$24:$H$5800,Limit_Deviation_Detail!$B$24:$B$5800,B95,Limit_Deviation_Detail!$C$24:$C$5800,C95,Limit_Deviation_Detail!$E$24:$E$5800,D95,Limit_Deviation_Detail!$I$24:$I$5800,\"Other Known Causes\"))","v":""},{"$f":"IF($E95=\"\",\"\",SUMIFS(Limit_Deviation_Detail!$H$24:$H$5800,Limit_Deviation_Detail!$B$24:$B$5800,B95,Limit_Deviation_Detail!$C$24:$C$5800,C95,Limit_Deviation_Detail!$E$24:$E$5800,D95,Limit_Deviation_Detail!$I$24:$I$5800,\"Unknown Causes\"))","v":""}]
[null,{"$f":"IF(Lists!AA74=\"\",\"\",Lists!AA74)","v":""},{"$f":"IF(Lists!AB74=\"\",\"\",Lists!AB74)","v":""},{"$f":"IF(Lists!AC74=\"\",\"\",Lists!AC74)","v":""},{"$f":"IF(Lists!AC74=\"\",\"\",Lists!AE74)","v":""},"","",{"$f":"IF($E96=\"\",\"\",SUMIFS(Limit_Deviation_Detail!$H$24:$H$5800,Limit_Deviation_Detail!$B$24:$B$5800,B96,Limit_Deviation_Detail!$C$24:$C$5800,C96,Limit_Deviation_Detail!$E$24:$E$5800,D96,Limit_Deviation_Detail!$I$24:$I$5800,\"Startup/Shutdown\"))","v":""},{"$f":"IF($E96=\"\",\"\",SUMIFS(Limit_Deviation_Detail!$H$24:$H$5800,Limit_Deviation_Detail!$B$24:$B$5800,B96,Limit_Deviation_Detail!$C$24:$C$5800,C96,Limit_Deviation_Detail!$E$24:$E$5800,D96,Limit_Deviation_Detail!$I$24:$I$5800,\"Control Equipment Problems\"))","v":""},{"$f":"IF($E96=\"\",\"\",SUMIFS(Limit_Deviation_Detail!$H$24:$H$5800,Limit_Deviation_Detail!$B$24:$B$5800,B96,Limit_Deviation_Detail!$C$24:$C$5800,C96,Limit_Deviation_Detail!$E$24:$E$5800,D96,Limit_Deviation_Detail!$I$24:$I$5800,\"Process Problems\"))","v":""},{"$f":"IF($E96=\"\",\"\",SUMIFS(Limit_Deviation_Detail!$H$24:$H$5800,Limit_Deviation_Detail!$B$24:$B$5800,B96,Limit_Deviation_Detail!$C$24:$C$5800,C96,Limit_Deviation_Detail!$E$24:$E$5800,D96,Limit_Deviation_Detail!$I$24:$I$5800,\"Other Known Causes\"))","v":""},{"$f":"IF($E96=\"\",\"\",SUMIFS(Limit_Deviation_Detail!$H$24:$H$5800,Limit_Deviation_Detail!$B$24:$B$5800,B96,Limit_Deviation_Detail!$C$24:$C$5800,C96,Limit_Deviation_Detail!$E$24:$E$5800,D96,Limit_Deviation_Detail!$I$24:$I$5800,\"Unknown Causes\"))","v":""}]
[null,{"$f":"IF(Lists!AA75=\"\",\"\",Lists!AA75)","v":""},{"$f":"IF(Lists!AB75=\"\",\"\",Lists!AB75)","v":""},{"$f":"IF(Lists!AC75=\"\",\"\",Lists!AC75)","v":""},{"$f":"IF(Lists!AC75=\"\",\"\",Lists!AE75)","v":""},"","",{"$f":"IF($E97=\"\",\"\",SUMIFS(Limit_Deviation_Detail!$H$24:$H$5800,Limit_Deviation_Detail!$B$24:$B$5800,B97,Limit_Deviation_Detail!$C$24:$C$5800,C97,Limit_Deviation_Detail!$E$24:$E$5800,D97,Limit_Deviation_Detail!$I$24:$I$5800,\"Startup/Shutdown\"))","v":""},{"$f":"IF($E97=\"\",\"\",SUMIFS(Limit_Deviation_Detail!$H$24:$H$5800,Limit_Deviation_Detail!$B$24:$B$5800,B97,Limit_Deviation_Detail!$C$24:$C$5800,C97,Limit_Deviation_Detail!$E$24:$E$5800,D97,Limit_Deviation_Detail!$I$24:$I$5800,\"Control Equipment Problems\"))","v":""},{"$f":"IF($E97=\"\",\"\",SUMIFS(Limit_Deviation_Detail!$H$24:$H$5800,Limit_Deviation_Detail!$B$24:$B$5800,B97,Limit_Deviation_Detail!$C$24:$C$5800,C97,Limit_Deviation_Detail!$E$24:$E$5800,D97,Limit_Deviation_Detail!$I$24:$I$5800,\"Process Problems\"))","v":""},{"$f":"IF($E97=\"\",\"\",SUMIFS(Limit_Deviation_Detail!$H$24:$H$5800,Limit_Deviation_Detail!$B$24:$B$5800,B97,Limit_Deviation_Detail!$C$24:$C$5800,C97,Limit_Deviation_Detail!$E$24:$E$5800,D97,Limit_Deviation_Detail!$I$24:$I$5800,\"Other Known Causes\"))","v":""},{"$f":"IF($E97=\"\",\"\",SUMIFS(Limit_Deviation_Detail!$H$24:$H$5800,Limit_Deviation_Detail!$B$24:$B$5800,B97,Limit_Deviation_Detail!$C$24:$C$5800,C97,Limit_Deviation_Detail!$E$24:$E$5800,D97,Limit_Deviation_Detail!$I$24:$I$5800,\"Unknown Causes\"))","v":""}]
[null,{"$f":"IF(Lists!AA76=\"\",\"\",Lists!AA76)","v":""},{"$f":"IF(Lists!AB76=\"\",\"\",Lists!AB76)","v":""},{"$f":"IF(Lists!AC76=\"\",\"\",Lists!AC76)","v":""},{"$f":"IF(Lists!AC76=\"\",\"\",Lists!AE76)","v":""},"","",{"$f":"IF($E98=\"\",\"\",SUMIFS(Limit_Deviation_Detail!$H$24:$H$5800,Limit_Deviation_Detail!$B$24:$B$5800,B98,Limit_Deviation_Detail!$C$24:$C$5800,C98,Limit_Deviation_Detail!$E$24:$E$5800,D98,Limit_Deviation_Detail!$I$24:$I$5800,\"Startup/Shutdown\"))","v":""},{"$f":"IF($E98=\"\",\"\",SUMIFS(Limit_Deviation_Detail!$H$24:$H$5800,Limit_Deviation_Detail!$B$24:$B$5800,B98,Limit_Deviation_Detail!$C$24:$C$5800,C98,Limit_Deviation_Detail!$E$24:$E$5800,D98,Limit_Deviation_Detail!$I$24:$I$5800,\"Control Equipment Problems\"))","v":""},{"$f":"IF($E98=\"\",\"\",SUMIFS(Limit_Deviation_Detail!$H$24:$H$5800,Limit_Deviation_Detail!$B$24:$B$5800,B98,Limit_Deviation_Detail!$C$24:$C$5800,C98,Limit_Deviation_Detail!$E$24:$E$5800,D98,Limit_Deviation_Detail!$I$24:$I$5800,\"Process Problems\"))","v":""},{"$f":"IF($E98=\"\",\"\",SUMIFS(Limit_Deviation_Detail!$H$24:$H$5800,Limit_Deviation_Detail!$B$24:$B$5800,B98,Limit_Deviation_Detail!$C$24:$C$5800,C98,Limit_Deviation_Detail!$E$24:$E$5800,D98,Limit_Deviation_Detail!$I$24:$I$5800,\"Other Known Causes\"))","v":""},{"$f":"IF($E98=\"\",\"\",SUMIFS(Limit_Deviation_Detail!$H$24:$H$5800,Limit_Deviation_Detail!$B$24:$B$5800,B98,Limit_Deviation_Detail!$C$24:$C$5800,C98,Limit_Deviation_Detail!$E$24:$E$5800,D98,Limit_Deviation_Detail!$I$24:$I$5800,\"Unknown Causes\"))","v":""}]
[null,{"$f":"IF(Lists!AA77=\"\",\"\",Lists!AA77)","v":""},{"$f":"IF(Lists!AB77=\"\",\"\",Lists!AB77)","v":""},{"$f":"IF(Lists!AC77=\"\",\"\",Lists!AC77)","v":""},{"$f":"IF(Lists!AC77=\"\",\"\",Lists!AE77)","v":""},"","",{"$f":"IF($E99=\"\",\"\",SUMIFS(Limit_Deviation_Detail!$H$24:$H$5800,Limit_Deviation_Detail!$B$24:$B$5800,B99,Limit_Deviation_Detail!$C$24:$C$5800,C99,Limit_Deviation_Detail!$E$24:$E$5800,D99,Limit_Deviation_Detail!$I$24:$I$5800,\"Startup/Shutdown\"))","v":""},{"$f":"IF($E99=\"\",\"\",SUMIFS(Limit_Deviation_Detail!$H$24:$H$5800,Limit_Deviation_Detail!$B$24:$B$5800,B99,Limit_Deviation_Detail!$C$24:$C$5800,C99,Limit_Deviation_Detail!$E$24:$E$5800,D99,Limit_Deviation_Detail!$I$24:$I$5800,\"Control Equipment Problems\"))","v":""},{"$f":"IF($E99=\"\",\"\",SUMIFS(Limit_Deviation_Detail!$H$24:$H$5800,Limit_Deviation_Detail!$B$24:$B$5800,B99,Limit_Deviation_Detail!$C$24:$C$5800,C99,Limit_Deviation_Detail!$E$24:$E$5800,D99,Limit_Deviation_Detail!$I$24:$I$5800,\"Process Problems\"))","v":""},{"$f":"IF($E99=\"\",\"\",SUMIFS(Limit_Deviation_Detail!$H$24:$H$5800,Limit_Deviation_Detail!$B$24:$B$5800,B99,Limit_Deviation_Detail!$C$24:$C$5800,C99,Limit_Deviation_Detail!$E$24:$E$5800,D99,Limit_Deviation_Detail!$I$24:$I$5800,\"Other Known Causes\"))","v":""},{"$f":"IF($E99=\"\",\"\",SUMIFS(Limit_Deviation_Detail!$H$24:$H$5800,Limit_Deviation_Detail!$B$24:$B$5800,B99,Limit_Deviation_Detail!$C$24:$C$5800,C99,Limit_Deviation_Detail!$E$24:$E$5800,D99,Limit_Deviation_Detail!$I$24:$I$5800,\"Unknown Causes\"))","v":""}]
[null,{"$f":"IF(Lists!AA78=\"\",\"\",Lists!AA78)","v":""},{"$f":"IF(Lists!AB78=\"\",\"\",Lists!AB78)","v":""},{"$f":"IF(Lists!AC78=\"\",\"\",Lists!AC78)","v":""},{"$f":"IF(Lists!AC78=\"\",\"\",Lists!AE78)","v":""},"","",{"$f":"IF($E100=\"\",\"\",SUMIFS(Limit_Deviation_Detail!$H$24:$H$5800,Limit_Deviation_Detail!$B$24:$B$5800,B100,Limit_Deviation_Detail!$C$24:$C$5800,C100,Limit_Deviation_Detail!$E$24:$E$5800,D100,Limit_Deviation_Detail!$I$24:$I$5800,\"Startup/Shutdown\"))","v":""},{"$f":"IF($E100=\"\",\"\",SUMIFS(Limit_Deviation_Detail!$H$24:$H$5800,Limit_Deviation_Detail!$B$24:$B$5800,B100,Limit_Deviation_Detail!$C$24:$C$5800,C100,Limit_Deviation_Detail!$E$24:$E$5800,D100,Limit_Deviation_Detail!$I$24:$I$5800,\"Control Equipment Problems\"))","v":""},{"$f":"IF($E100=\"\",\"\",SUMIFS(Limit_Deviation_Detail!$H$24:$H$5800,Limit_Deviation_Detail!$B$24:$B$5800,B100,Limit_Deviation_Detail!$C$24:$C$5800,C100,Limit_Deviation_Detail!$E$24:$E$5800,D100,Limit_Deviation_Detail!$I$24:$I$5800,\"Process Problems\"))","v":""},{"$f":"IF($E100=\"\",\"\",SUMIFS(Limit_Deviation_Detail!$H$24:$H$5800,Limit_Deviation_Detail!$B$24:$B$5800,B100,Limit_Deviation_Detail!$C$24:$C$5800,C100,Limit_Deviation_Detail!$E$24:$E$5800,D100,Limit_Deviation_Detail!$I$24:$I$5800,\"Other Known Causes\"))","v":""},{"$f":"IF($E100=\"\",\"\",SUMIFS(Limit_Deviation_Detail!$H$24:$H$5800,Limit_Deviation_Detail!$B$24:$B$5800,B100,Limit_Deviation_Detail!$C$24:$C$5800,C100,Limit_Deviation_Detail!$E$24:$E$5800,D100,Limit_Deviation_Detail!$I$24:$I$5800,\"Unknown Causes\"))","v":""}]

{"sheet":"Mercury_Switches_Scrap_Option","index":10,"n_rows":14,"n_cols":4,"rows_kept":14,"cut":false,"hidden":false,"merged":[]}
[null,"DO NOT REMOVE OR EDIT INFORMATION IN ROWS 1 THROUGH 5\nFOR INTERNAL USE ONLY"]
[null,"Template Name",null,{"$f":"+Welcome!B2","v":"63.10899(c) Semiannual Compliance Report (Spreadsheet Template)"}]
[null,"CitationID",null,{"$f":"+Welcome!B3","v":"63.10899(c)"}]
[null,"Template Version",null,{"$f":"+Welcome!B4","v":"v1.02"}]
[null,"Last Updated Date",null,{"$f":"+Welcome!B5","v":45391}]
[null,{"$f":"Welcome!B6","v":"OMB No.: 2060-0605 Form 5900-521 For further Paperwork Reduction Act information see: \nhttps://www.epa.gov/electronic-reporting-air-emissions/paperwork-reduction-act-pra-cedri-and-ert"}]
[null,"40 CFR Part 63, Subpart ZZZZZ National Emission Standards for Hazardous Air Pollutants: Iron and Steel Foundries Area Sources - "]
[null,"§63.10899(c) Semiannual Compliance Report Spreadsheet Template"]
[]
[]
[]
[null,"Company Record No.  \n(Select from dropdown)","Scrap Provider, Contract, or Shipment\n(§63.10899(c)(8)) ","Option in §63.10885(b)\n(§63.10899(c)(8))\n(Select from dropdown)"]
[null,"RecordId","ScrapProvider","ScrapOption"]
[null,"e.g.: 1","e.g.: AAA Auto Scrap","e.g.: Site Specific Mercury Plan"]

{"sheet":"Mercury_Switches","index":11,"n_rows":14,"n_cols":9,"rows_kept":14,"cut":false,"hidden":false,"merged":[]}
[null,"DO NOT REMOVE OR EDIT INFORMATION IN ROWS 1 THROUGH 5\nFOR INTERNAL USE ONLY"]
[null,"Template Name",null,{"$f":"+Welcome!B2","v":"63.10899(c) Semiannual Compliance Report (Spreadsheet Template)"}]
[null,"CitationID",null,{"$f":"+Welcome!B3","v":"63.10899(c)"}]
[null,"Template Version",null,{"$f":"+Welcome!B4","v":"v1.02"}]
[null,"Last Updated Date",null,{"$f":"+Welcome!B5","v":45391}]
[null,{"$f":"Welcome!B6","v":"OMB No.: 2060-0605 Form 5900-521 For further Paperwork Reduction Act information see: \nhttps://www.epa.gov/electronic-reporting-air-emissions/paperwork-reduction-act-pra-cedri-and-ert"}]
[null,"40 CFR Part 63, Subpart ZZZZZ National Emission Standards for Hazardous Air Pollutants: Iron and Steel Foundries Area Sources - "]
[null,"§63.10899(c) Semiannual Compliance Report Spreadsheet Template"]
[null,"This sheet only needs to be completed if the site-specific mercury plan is used as the compliance option."]
[]
[]
[null,"Company Record No.  \n(Select from dropdown)","Number of Mercury Switches Removed\n(§63.10899(c)(9)(i)) \n(Enter either Number (Column C) or Weight (Column D))","Weight of Mercury Recovered and Properly Managed\n(§63.10899(c)(9)(i))\n(Enter either Number (Column C) or Weight (Column D))","Units of Weight of Mercury\n(§63.10899(c)(9)(i))\n(Select from dropdown)","Estimate of Number of Vehicle Processed\n(§63.10899(c)(9)(i))","Estimate of Percent of Mercury Switches Recovered\n(§63.10899(c)(9)(i))","I Certify That The Recovered Mercury Switches Were Recycled at RCRA-Permitted Facilities.\n(§63.10899(c)(9)(ii))\n(Select from dropdown)","The Facility Has Conducted Periodic Inspections or Taken Other Means of Corroboration as Required Under §63.10885(b)(1)(ii)(C).\n(§63.10899(c)(9)(iii))\n(Select from dropdown)"]
[null,"RecordId","SwitchesRemoved","MercuryWeightRemoved","MercuryUnits","VehiclesProcessed","PercentSwitchesRecovered","SwitchRecycledFlag","InspectionsFlag"]
[null,"e.g.: 1","e.g.: 640","e.g.:  5.25","e.g.: kg","e.g.: 650","e.g.: 80.00%","e.g.: Yes","e.g.: Yes"]

{"sheet":"Certification","index":12,"n_rows":33,"n_cols":4,"rows_kept":33,"cut":false,"hidden":false,"merged":[]}
[null,"DO NOT REMOVE OR EDIT INFORMATION IN ROWS 1 THROUGH 5\nFOR INTERNAL USE ONLY"]
[null,"Template Name",{"$f":"+Welcome!B2","v":"63.10899(c) Semiannual Compliance Report (Spreadsheet Template)"}]
[null,"CitationID",{"$f":"+Welcome!B3","v":"63.10899(c)"}]
[null,"Template Version",{"$f":"+Welcome!B4","v":"v1.02"}]
[null,"Last Updated Date",{"$f":"+Welcome!B5","v":45391}]
[null,{"$f":"Welcome!B6","v":"OMB No.: 2060-0605 Form 5900-521 For further Paperwork Reduction Act information see: \nhttps://www.epa.gov/electronic-reporting-air-emissions/paperwork-reduction-act-pra-cedri-and-ert"}]
[null,"40 CFR Part 63, Subpart ZZZZZ National Emission Standards for Hazardous Air Pollutants:"]
[null," Iron and Steel Foundries Area Sources - §63.10899(c) Semiannual Compliance Report Spreadsheet Template"]
[]
[]
[]
[null,"Company Record No.  \n(Autocompleted)","Is the statement \"There were no deviations from the emissions limitations, pollution prevention management practices, or operation and maintenance requirements during the reporting period\" applicable? \n(§63.10899(c)(4)) \n(Select from Dropdown)","Is the statement \"There were no periods during which a CMS was inoperable or out-of-control during the reporting period\" applicable?\n (§63.10899(c)(5))\n(Select from Dropdown)"]
[null,"RecordId","DeviationsFlag","CMSPeriodFlag"]
[null,"e.g.: 1"]
[]
[]
[]
[]
[]
[]
[]
[]
[]
[null,{"$f":"IF(Lists!H2=\"\",\"\",Lists!H2)","v":""}]
[null,{"$f":"IF(Lists!H3=\"\",\"\",Lists!H3)","v":""}]
[null,{"$f":"IF(Lists!H4=\"\",\"\",Lists!H4)","v":""}]
[null,{"$f":"IF(Lists!H5=\"\",\"\",Lists!H5)","v":""}]
[null,{"$f":"IF(Lists!H6=\"\",\"\",Lists!H6)","v":""}]
[null,{"$f":"IF(Lists!H7=\"\",\"\",Lists!H7)","v":""}]
[null,{"$f":"IF(Lists!H8=\"\",\"\",Lists!H8)","v":""}]
[null,{"$f":"IF(Lists!H9=\"\",\"\",Lists!H9)","v":""}]
[null,{"$f":"IF(Lists!H10=\"\",\"\",Lists!H10)","v":""}]
[null,{"$f":"IF(Lists!H11=\"\",\"\",Lists!H11)","v":""}]

{"sheet":"Revisions","index":13,"n_rows":4,"n_cols":3,"rows_kept":4,"cut":false,"hidden":false,"merged":[]}
["Revision Number","Date","Revisions"]
[1,43991,"Initial Release Version"]
[1.01,44386,"Removed confusing and inconsistent asterisk and required field labelling, adjusted some column widths and orientations, Added \"Other (specify here)\" option to dropdown for Limit_Deviation_Detail column E and allowed editing with a Warning message, unprotected CMS_Deviation_Details column K, added \"Not Applicable\" menu option to Certification tab column D"]
[1.02,45391,"Updated Welcome Tab"]

{"sheet":"Worksheet Map","index":14,"n_rows":12,"n_cols":5,"rows_kept":12,"cut":false,"hidden":true,"merged":[]}
["Worksheet Name","Parent","JSON Key","Parent Primary Key","Child Foreign Key"]
["Company_Information",null,"records"]
["Affected_Sources","records","AffectedSources","RecordId","RecordId"]
["CMS_Identification","records","CMSIdentification","RecordId","RecordId"]
["Description_of_Changes","records","DescriptionOfChanges","RecordId","RecordId"]
["CMS_Deviation_Detail","records","CMSDeviationDetail","RecordId","RecordId"]
["CMS_Deviation_Summary","records","CMSDeviationSummary","RecordId","RecordId"]
["Limit_Deviation_Detail","records","LimitDeviationDetail","RecordId","RecordId"]
["Limit_Deviation_Summary","records","LimitDeviationSummary","RecordId","RecordId"]
["Mercury_Switches_Scrap_Option","records","MercurySwitchesScrapOption","RecordId","RecordId"]
["Mercury_Switches","records","MercurySwitches","RecordId","RecordId"]
["Certification","records","Certification","RecordId","RecordId"]