{"text_format":"1","workbook":"xlsx","n_sheets":14,"sheets":["Lists","Welcome","Company_Information","Emission_Limits_Details","Summary_Report_EmissionLimits","CMS_Identification","CMS_Detail","Summary_Report_CMS","Operating_Limits_Details","Summary_Report_OperatingLimits","Description_of_Changes","Certification","Version","Worksheet Map"],"not_rendered":{"charts":0,"images":1,"macros":1,"external_links":0,"defined_names":7,"comments":0,"pivot_tables":0},"unopened":[],"bounds":{"document_bytes":16777216,"sheet_cells":100000,"rows_first":2000,"rows_last":500,"rows_between":2000,"halvings":0,"cell_chars":16384,"cell_head_chars":4096},"cells_cut":0,"cells_raw":0,"read":"whole","date_system":"1900"}

{"sheet":"Lists","index":0,"n_rows":478,"n_cols":45,"rows_kept":478,"cut":false,"hidden":true,"merged":[]}
["Column2","Column1","CPMSlist","Column3",null,"Column2","Column1","Companylist","Column3",null,"CMSCauseList",null,"Emission Limits",null,"Operating Limits",null,"states",null,"Index","Company Name","Process Unit","Limit","Unique Name","Count","Sorted Company Name","Sorted Process Unit","Sorted Limit",null,"Index","Company Name","CMS Ident","Limit","Unique Name","Count","Sorted Company Name","Sorted CMS Ident","Sorted Limit",null,"Index","Company Name","operating limit","Unique Name","Count","Sorted Company Name","Sorted CMS Ident"]
[{"$f":"+IF(D2=\"\",\"\",MAX(A$1:A1)+1)","v":""},{"$f":"IF(CMS_Identification!C24=\"\",\"\",CMS_Identification!C24)","v":""},{"$f":"+IFERROR(INDEX($B$2:$B$100,MATCH(ROW()-ROW($C$1),$A$2:$A$100,0)),\"\")","v":""},{"$f":"IF(COUNTIF(B$1:B2,B2)=1,B2,\"\")","v":""},null,{"$f":"+IF(I2=\"\",\"\",MAX(F$1:F1)+1)","v":""},{"$f":"IF(Company_Information!B24=\"\",\"\",Company_Information!B24)","v":""},{"$f":"+IFERROR(INDEX($G$2:$G$11,MATCH(ROW()-ROW($H$1),$F$2:$F$11,0)),\"\")","v":""},{"$f":"IF(COUNTIF(G$1:G2,G2)=1,G2,\"\")","v":""},null,"Monitoring Equipment Malfunctions",null,"CO Concentration 20 ppmvd at 15% Oxygen",null,"Bypass of Control Device",null,"AK",null,{"$f":"+IF(X2=\"\",\"\",MAX(S1:S$1)+1)","v":""},{"$f":"IF(Emission_Limits_Details!$B24=\"\",\"\",Emission_Limits_Details!$B24)","v":""},{"$f":"IF(Emission_Limits_Details!$C24=\"\",\"\",Emission_Limits_Details!$C24)","v":""},null,{"$f":"T2&U2&V2","v":""},{"$f":"IF(COUNTIF(U$2:U2,U2)=1,U2,\"\")","v":""},{"$f":"+IFERROR(INDEX(T$2:T$955,MATCH(ROW()-ROW(X$1),S$2:S$955,0)),\"\")","v":""},{"$f":"+IFERROR(INDEX(U$2:U$955,MATCH(ROW()-ROW(X$1),S$2:S$955,0)),\"\")","v":""},{"$f":"+IFERROR(INDEX(V$2:V$955,MATCH(ROW()-ROW(Y$1),S$2:S$955,0)),\"\")","v":""},null,{"$f":"+IF(AH2=\"\",\"\",MAX(AC1:AC$1)+1)","v":""},{"$f":"IF(CMS_Detail!$B24=\"\",\"\",CMS_Detail!$B24)","v":""},{"$f":"IF(CMS_Detail!$C24=\"\",\"\",CMS_Detail!$C24)","v":""},null,{"$f":"AD2&AE2&AF2","v":""},{"$f":"IF(COUNTIF(AE$2:AE2,AE2)=1,AE2,\"\")","v":""},{"$f":"+IFERROR(INDEX(AD$2:AD$955,MATCH(ROW()-ROW(AH$1),AC$2:AC$955,0)),\"\")","v":""},{"$f":"+IFERROR(INDEX(AE$2:AE$955,MATCH(ROW()-ROW(AH$1),AC$2:AC$955,0)),\"\")","v":""},{"$f":"+IFERROR(INDEX(AF$2:AF$955,MATCH(ROW()-ROW(AI$1),AC$2:AC$955,0)),\"\")","v":""},null,{"$f":"+IF(AQ2=\"\",\"\",MAX(AM1:AM$1)+1)","v":""},{"$f":"IF(Operating_Limits_Details!$B24=\"\",\"\",Operating_Limits_Details!$B24)","v":""},{"$f":"IF(Operating_Limits_Details!$C24=\"\",\"\",Operating_Limits_Details!$C24)","v":""},{"$f":"AN2&AO2","v":""},{"$f":"IF(COUNTIF(AO$2:AO2,AO2)=1,AO2,\"\")","v":""},{"$f":"+IFERROR(INDEX(AN$2:AN$955,MATCH(ROW()-ROW(AQ$1),AM$2:AM$955,0)),\"\")","v":""},{"$f":"+IFERROR(INDEX(AO$2:AO$955,MATCH(ROW()-ROW(AQ$1),AM$2:AM$955,0)),\"\")","v":""}]
[{"$f":"+IF(D3=\"\",\"\",MAX(A$1:A2)+1)","v":""},{"$f":"IF(CMS_Identification!C25=\"\",\"\",CMS_Identification!C25)","v":""},"",{"$f":"IF(COUNTIF(B$1:B3,B3)=1,B3,\"\")","v":""},null,{"$f":"+IF(I3=\"\",\"\",MAX(F$1:F2)+1)","v":""},{"$f":"IF(Company_Information!B25=\"\",\"\",Company_Information!B25)","v":""},"",{"$f":"IF(COUNTIF(G$1:G3,G3)=1,G3,\"\")","v":""},null,"Nonmonitoring Equipment Malfunctions",null,"CO 96 % Reduction",null,"Thermal Oxidizer Minimum Combustion Temperature",null,"AL",null,{"$f":"+IF(X3=\"\",\"\",MAX(S$1:S2)+1)","v":""},{"$f":"IF(Emission_Limits_Details!$B25=\"\",\"\",Emission_Limits_Details!$B25)","v":""},{"$f":"IF(Emission_Limits_Details!$C25=\"\",\"\",Emission_Limits_Details!$C25)","v":""},null,{"$f":"T3&U3&V3","v":""},{"$f":"IF(COUNTIF(U$2:U3,U3)=1,U3,\"\")","v":""},{"$f":"+IFERROR(INDEX(T$2:T$955,MATCH(ROW()-ROW(X$1),S$2:S$955,0)),\"\")","v":""},{"$f":"+IFERROR(INDEX(U$2:U$955,MATCH(ROW()-ROW(X$1),S$2:S$955,0)),\"\")","v":""},{"$f":"+IFERROR(INDEX(V$2:V$955,MATCH(ROW()-ROW(Y$1),S$2:S$955,0)),\"\")","v":""},null,{"$f":"+IF(AH3=\"\",\"\",MAX(AC$1:AC2)+1)","v":""},{"$f":"IF(CMS_Detail!$B25=\"\",\"\",CMS_Detail!$B25)","v":""},{"$f":"IF(CMS_Detail!$C25=\"\",\"\",CMS_Detail!$C25)","v":""},null,{"$f":"AD3&AE3&AF3","v":""},{"$f":"IF(COUNTIF(AE$2:AE3,AE3)=1,AE3,\"\")","v":""},{"$f":"+IFERROR(INDEX(AD$2:AD$955,MATCH(ROW()-ROW(AH$1),AC$2:AC$955,0)),\"\")","v":""},{"$f":"+IFERROR(INDEX(AE$2:AE$955,MATCH(ROW()-ROW(AH$1),AC$2:AC$955,0)),\"\")","v":""},{"$f":"+IFERROR(INDEX(AF$2:AF$955,MATCH(ROW()-ROW(AI$1),AC$2:AC$955,0)),\"\")","v":""},null,{"$f":"+IF(AQ3=\"\",\"\",MAX(AM$1:AM2)+1)","v":""},{"$f":"IF(Operating_Limits_Details!$B25=\"\",\"\",Operating_Limits_Details!$B25)","v":""},{"$f":"IF(Operating_Limits_Details!$C25=\"\",\"\",Operating_Limits_Details!$C25)","v":""},{"$f":"AN3&AO3","v":""},{"$f":"IF(COUNTIF(AO$2:AO3,AO3)=1,AO3,\"\")","v":""},{"$f":"+IFERROR(INDEX(AN$2:AN$955,MATCH(ROW()-ROW(AQ$1),AM$2:AM$955,0)),\"\")","v":""},{"$f":"+IFERROR(INDEX(AO$2:AO$955,MATCH(ROW()-ROW(AQ$1),AM$2:AM$955,0)),\"\")","v":""}]
[{"$f":"+IF(D4=\"\",\"\",MAX(A$1:A3)+1)","v":""},{"$f":"IF(CMS_Identification!C26=\"\",\"\",CMS_Identification!C26)","v":""},"",{"$f":"IF(COUNTIF(B$1:B4,B4)=1,B4,\"\")","v":""},null,{"$f":"+IF(I4=\"\",\"\",MAX(F$1:F3)+1)","v":""},{"$f":"IF(Company_Information!B26=\"\",\"\",Company_Information!B26)","v":""},"",{"$f":"IF(COUNTIF(G$1:G4,G4)=1,G4,\"\")","v":""},null,"Quality Assurance/Quality Control Calibrations",null,"THC Concentration 20 ppmvd at 15% Oxygen",null,"Catalytic Oxidizer Minimum Catalyst Bed Temperature",null,"AR",null,{"$f":"+IF(X4=\"\",\"\",MAX(S$1:S3)+1)","v":""},{"$f":"IF(Emission_Limits_Details!$B26=\"\",\"\",Emission_Limits_Details!$B26)","v":""},{"$f":"IF(Emission_Limits_Details!$C26=\"\",\"\",Emission_Limits_Details!$C26)","v":""},null,"",{"$f":"IF(COUNTIF(U$2:U4,U4)=1,U4,\"\")","v":""},"","","",null,{"$f":"+IF(AH4=\"\",\"\",MAX(AC$1:AC3)+1)","v":""},{"$f":"IF(CMS_Detail!$B26=\"\",\"\",CMS_Detail!$B26)","v":""},{"$f":"IF(CMS_Detail!$C26=\"\",\"\",CMS_Detail!$C26)","v":""},null,"",{"$f":"IF(COUNTIF(AE$2:AE4,AE4)=1,AE4,\"\")","v":""},"","","",null,{"$f":"+IF(AQ4=\"\",\"\",MAX(AM$1:AM3)+1)","v":""},{"$f":"IF(Operating_Limits_Details!$B26=\"\",\"\",Operating_Limits_Details!$B26)","v":""},{"$f":"IF(Operating_Limits_Details!$C26=\"\",\"\",Operating_Limits_Details!$C26)","v":""},"",{"$f":"IF(COUNTIF(AO$2:AO4,AO4)=1,AO4,\"\")","v":""},"",""]
[{"$f":"+IF(D5=\"\",\"\",MAX(A$1:A4)+1)","v":""},{"$f":"IF(CMS_Identification!C27=\"\",\"\",CMS_Identification!C27)","v":""},"",{"$f":"IF(COUNTIF(B$1:B5,B5)=1,B5,\"\")","v":""},null,{"$f":"+IF(I5=\"\",\"\",MAX(F$1:F4)+1)","v":""},{"$f":"IF(Company_Information!B27=\"\",\"\",Company_Information!B27)","v":""},"",{"$f":"IF(COUNTIF(G$1:G5,G5)=1,G5,\"\")","v":""},null,"Other Known Causes",null,"THC 96% Reduction",null,"Catalytic Oxidizer Minimum  Temperature Difference",null,"AS",null,{"$f":"+IF(X5=\"\",\"\",MAX(S$1:S4)+1)","v":""},{"$f":"IF(Emission_Limits_Details!$B27=\"\",\"\",Emission_Limits_Details!$B27)","v":""},{"$f":"IF(Emission_Limits_Details!$C27=\"\",\"\",Emission_Limits_Details!$C27)","v":""},null,"",{"$f":"IF(COUNTIF(U$2:U5,U5)=1,U5,\"\")","v":""},"","","",null,{"$f":"+IF(AH5=\"\",\"\",MAX(AC$1:AC4)+1)","v":""},{"$f":"IF(CMS_Detail!$B27=\"\",\"\",CMS_Detail!$B27)","v":""},{"$f":"IF(CMS_Detail!$C27=\"\",\"\",CMS_Detail!$C27)","v":""},null,"",{"$f":"IF(COUNTIF(AE$2:AE5,AE5)=1,AE5,\"\")","v":""},"","","",null,{"$f":"+IF(AQ5=\"\",\"\",MAX(AM$1:AM4)+1)","v":""},{"$f":"IF(Operating_Limits_Details!$B27=\"\",\"\",Operating_Limits_Details!$B27)","v":""},{"$f":"IF(Operating_Limits_Details!$C27=\"\",\"\",Operating_Limits_Details!$C27)","v":""},"",{"$f":"IF(COUNTIF(AO$2:AO5,AO5)=1,AO5,\"\")","v":""},"",""]
[{"$f":"+IF(D6=\"\",\"\",MAX(A$1:A5)+1)","v":""},{"$f":"IF(CMS_Identification!C28=\"\",\"\",CMS_Identification!C28)","v":""},"",{"$f":"IF(COUNTIF(B$1:B6,B6)=1,B6,\"\")","v":""},null,{"$f":"+IF(I6=\"\",\"\",MAX(F$1:F5)+1)","v":""},{"$f":"IF(Company_Information!B28=\"\",\"\",Company_Information!B28)","v":""},"",{"$f":"IF(COUNTIF(G$1:G6,G6)=1,G6,\"\")","v":""},null,"Other Unknown Causes",null,null,null,"Catalytic Oxidizer Inspection and Maintenance Plan",null,"AZ",null,{"$f":"+IF(X6=\"\",\"\",MAX(S$1:S5)+1)","v":""},{"$f":"IF(Emission_Limits_Details!$B28=\"\",\"\",Emission_Limits_Details!$B28)","v":""},{"$f":"IF(Emission_Limits_Details!$C28=\"\",\"\",Emission_Limits_Details!$C28)","v":""},null,"",{"$f":"IF(COUNTIF(U$2:U6,U6)=1,U6,\"\")","v":""},"","","",null,{"$f":"+IF(AH6=\"\",\"\",MAX(AC$1:AC5)+1)","v":""},{"$f":"IF(CMS_Detail!$B28=\"\",\"\",CMS_Detail!$B28)","v":""},{"$f":"IF(CMS_Detail!$C28=\"\",\"\",CMS_Detail!$C28)","v":""},null,"",{"$f":"IF(COUNTIF(AE$2:AE6,AE6)=1,AE6,\"\")","v":""},"","","",null,{"$f":"+IF(AQ6=\"\",\"\",MAX(AM$1:AM5)+1)","v":""},{"$f":"IF(Operating_Limits_Details!$B28=\"\",\"\",Operating_Limits_Details!$B28)","v":""},{"$f":"IF(Operating_Limits_Details!$C28=\"\",\"\",Operating_Limits_Details!$C28)","v":""},"",{"$f":"IF(COUNTIF(AO$2:AO6,AO6)=1,AO6,\"\")","v":""},"",""]
[{"$f":"+IF(D7=\"\",\"\",MAX(A$1:A6)+1)","v":""},{"$f":"IF(CMS_Identification!C29=\"\",\"\",CMS_Identification!C29)","v":""},"",{"$f":"IF(COUNTIF(B$1:B7,B7)=1,B7,\"\")","v":""},null,{"$f":"+IF(I7=\"\",\"\",MAX(F$1:F6)+1)","v":""},{"$f":"IF(Company_Information!B29=\"\",\"\",Company_Information!B29)","v":""},"",{"$f":"IF(COUNTIF(G$1:G7,G7)=1,G7,\"\")","v":""},null,null,null,null,null,"PTE Direction of Air Flow",null,"CA",null,{"$f":"+IF(X7=\"\",\"\",MAX(S$1:S6)+1)","v":""},{"$f":"IF(Emission_Limits_Details!$B29=\"\",\"\",Emission_Limits_Details!$B29)","v":""},{"$f":"IF(Emission_Limits_Details!$C29=\"\",\"\",Emission_Limits_Details!$C29)","v":""},null,"",{"$f":"IF(COUNTIF(U$2:U7,U7)=1,U7,\"\")","v":""},"","","",null,{"$f":"+IF(AH7=\"\",\"\",MAX(AC$1:AC6)+1)","v":""},{"$f":"IF(CMS_Detail!$B29=\"\",\"\",CMS_Detail!$B29)","v":""},{"$f":"IF(CMS_Detail!$C29=\"\",\"\",CMS_Detail!$C29)","v":""},null,"",{"$f":"IF(COUNTIF(AE$2:AE7,AE7)=1,AE7,\"\")","v":""},"","","",null,{"$f":"+IF(AQ7=\"\",\"\",MAX(AM$1:AM6)+1)","v":""},{"$f":"IF(Operating_Limits_Details!$B29=\"\",\"\",Operating_Limits_Details!$B29)","v":""},{"$f":"IF(Operating_Limits_Details!$C29=\"\",\"\",Operating_Limits_Details!$C29)","v":""},"",{"$f":"IF(COUNTIF(AO$2:AO7,AO7)=1,AO7,\"\")","v":""},"",""]
[{"$f":"+IF(D8=\"\",\"\",MAX(A$1:A7)+1)","v":""},{"$f":"IF(CMS_Identification!C30=\"\",\"\",CMS_Identification!C30)","v":""},"",{"$f":"IF(COUNTIF(B$1:B8,B8)=1,B8,\"\")","v":""},null,{"$f":"+IF(I8=\"\",\"\",MAX(F$1:F7)+1)","v":""},{"$f":"IF(Company_Information!B30=\"\",\"\",Company_Information!B30)","v":""},"",{"$f":"IF(COUNTIF(G$1:G8,G8)=1,G8,\"\")","v":""},null,"DeviationCauseList",null,null,null,"PTE Minimum Facial Velocity",null,"CO",null,{"$f":"+IF(X8=\"\",\"\",MAX(S$1:S7)+1)","v":""},{"$f":"IF(Emission_Limits_Details!$B30=\"\",\"\",Emission_Limits_Details!$B30)","v":""},{"$f":"IF(Emission_Limits_Details!$C30=\"\",\"\",Emission_Limits_Details!$C30)","v":""},null,"",{"$f":"IF(COUNTIF(U$2:U8,U8)=1,U8,\"\")","v":""},"","","",null,{"$f":"+IF(AH8=\"\",\"\",MAX(AC$1:AC7)+1)","v":""},{"$f":"IF(CMS_Detail!$B30=\"\",\"\",CMS_Detail!$B30)","v":""},{"$f":"IF(CMS_Detail!$C30=\"\",\"\",CMS_Detail!$C30)","v":""},null,"",{"$f":"IF(COUNTIF(AE$2:AE8,AE8)=1,AE8,\"\")","v":""},"","","",null,{"$f":"+IF(AQ8=\"\",\"\",MAX(AM$1:AM7)+1)","v":""},{"$f":"IF(Operating_Limits_Details!$B30=\"\",\"\",Operating_Limits_Details!$B30)","v":""},{"$f":"IF(Operating_Limits_Details!$C30=\"\",\"\",Operating_Limits_Details!$C30)","v":""},"",{"$f":"IF(COUNTIF(AO$2:AO8,AO8)=1,AO8,\"\")","v":""},"",""]
[{"$f":"+IF(D9=\"\",\"\",MAX(A$1:A8)+1)","v":""},{"$f":"IF(CMS_Identification!C31=\"\",\"\",CMS_Identification!C31)","v":""},"",{"$f":"IF(COUNTIF(B$1:B9,B9)=1,B9,\"\")","v":""},null,{"$f":"+IF(I9=\"\",\"\",MAX(F$1:F8)+1)","v":""},{"$f":"IF(Company_Information!B31=\"\",\"\",Company_Information!B31)","v":""},"",{"$f":"IF(COUNTIF(G$1:G9,G9)=1,G9,\"\")","v":""},null,"Control Equipment Problems",null,null,null,"PTE Minimum Pressure Drop Across Enclosure",null,"CT",null,{"$f":"+IF(X9=\"\",\"\",MAX(S$1:S8)+1)","v":""},{"$f":"IF(Emission_Limits_Details!$B31=\"\",\"\",Emission_Limits_Details!$B31)","v":""},{"$f":"IF(Emission_Limits_Details!$C31=\"\",\"\",Emission_Limits_Details!$C31)","v":""},null,"",{"$f":"IF(COUNTIF(U$2:U9,U9)=1,U9,\"\")","v":""},"","","",null,{"$f":"+IF(AH9=\"\",\"\",MAX(AC$1:AC8)+1)","v":""},{"$f":"IF(CMS_Detail!$B31=\"\",\"\",CMS_Detail!$B31)","v":""},{"$f":"IF(CMS_Detail!$C31=\"\",\"\",CMS_Detail!$C31)","v":""},null,"",{"$f":"IF(COUNTIF(AE$2:AE9,AE9)=1,AE9,\"\")","v":""},"","","",null,{"$f":"+IF(AQ9=\"\",\"\",MAX(AM$1:AM8)+1)","v":""},{"$f":"IF(Operating_Limits_Details!$B31=\"\",\"\",Operating_Limits_Details!$B31)","v":""},{"$f":"IF(Operating_Limits_Details!$C31=\"\",\"\",Operating_Limits_Details!$C31)","v":""},"",{"$f":"IF(COUNTIF(AO$2:AO9,AO9)=1,AO9,\"\")","v":""},"",""]
[{"$f":"+IF(D10=\"\",\"\",MAX(A$1:A9)+1)","v":""},{"$f":"IF(CMS_Identification!C32=\"\",\"\",CMS_Identification!C32)","v":""},"",{"$f":"IF(COUNTIF(B$1:B10,B10)=1,B10,\"\")","v":""},null,{"$f":"+IF(I10=\"\",\"\",MAX(F$1:F9)+1)","v":""},{"$f":"IF(Company_Information!B32=\"\",\"\",Company_Information!B32)","v":""},"",{"$f":"IF(COUNTIF(G$1:G10,G10)=1,G10,\"\")","v":""},null,"Process Problems",null,null,null,"Non-PTE Minimum Volumetric Flow Rate",null,"DC",null,{"$f":"+IF(X10=\"\",\"\",MAX(S$1:S9)+1)","v":""},{"$f":"IF(Emission_Limits_Details!$B32=\"\",\"\",Emission_Limits_Details!$B32)","v":""},{"$f":"IF(Emission_Limits_Details!$C32=\"\",\"\",Emission_Limits_Details!$C32)","v":""},null,"",{"$f":"IF(COUNTIF(U$2:U10,U10)=1,U10,\"\")","v":""},"","","",null,{"$f":"+IF(AH10=\"\",\"\",MAX(AC$1:AC9)+1)","v":""},{"$f":"IF(CMS_Detail!$B32=\"\",\"\",CMS_Detail!$B32)","v":""},{"$f":"IF(CMS_Detail!$C32=\"\",\"\",CMS_Detail!$C32)","v":""},null,"",{"$f":"IF(COUNTIF(AE$2:AE10,AE10)=1,AE10,\"\")","v":""},"","","",null,{"$f":"+IF(AQ10=\"\",\"\",MAX(AM$1:AM9)+1)","v":""},{"$f":"IF(Operating_Limits_Details!$B32=\"\",\"\",Operating_Limits_Details!$B32)","v":""},{"$f":"IF(Operating_Limits_Details!$C32=\"\",\"\",Operating_Limits_Details!$C32)","v":""},"",{"$f":"IF(COUNTIF(AO$2:AO10,AO10)=1,AO10,\"\")","v":""},"",""]
[{"$f":"+IF(D11=\"\",\"\",MAX(A$1:A10)+1)","v":""},{"$f":"IF(CMS_Identification!C33=\"\",\"\",CMS_Identification!C33)","v":""},"",{"$f":"IF(COUNTIF(B$1:B11,B11)=1,B11,\"\")","v":""},null,{"$f":"+IF(I11=\"\",\"\",MAX(F$1:F10)+1)","v":""},{"$f":"IF(Company_Information!B33=\"\",\"\",Company_Information!B33)","v":""},"",{"$f":"IF(COUNTIF(G$1:G11,G11)=1,G11,\"\")","v":""},null,"Other Known Causes",null,null,null,"Non-PTE Minimum Pressure Drop",null,"DE",null,{"$f":"+IF(X11=\"\",\"\",MAX(S$1:S10)+1)","v":""},{"$f":"IF(Emission_Limits_Details!$B33=\"\",\"\",Emission_Limits_Details!$B33)","v":""},{"$f":"IF(Emission_Limits_Details!$C33=\"\",\"\",Emission_Limits_Details!$C33)","v":""},null,"",{"$f":"IF(COUNTIF(U$2:U11,U11)=1,U11,\"\")","v":""},"","","",null,{"$f":"+IF(AH11=\"\",\"\",MAX(AC$1:AC10)+1)","v":""},{"$f":"IF(CMS_Detail!$B33=\"\",\"\",CMS_Detail!$B33)","v":""},{"$f":"IF(CMS_Detail!$C33=\"\",\"\",CMS_Detail!$C33)","v":""},null,"",{"$f":"IF(COUNTIF(AE$2:AE11,AE11)=1,AE11,\"\")","v":""},"","","",null,{"$f":"+IF(AQ11=\"\",\"\",MAX(AM$1:AM10)+1)","v":""},{"$f":"IF(Operating_Limits_Details!$B33=\"\",\"\",Operating_Limits_Details!$B33)","v":""},{"$f":"IF(Operating_Limits_Details!$C33=\"\",\"\",Operating_Limits_Details!$C33)","v":""},"",{"$f":"IF(COUNTIF(AO$2:AO11,AO11)=1,AO11,\"\")","v":""},"",""]
[{"$f":"+IF(D12=\"\",\"\",MAX(A$1:A11)+1)","v":""},{"$f":"IF(CMS_Identification!C34=\"\",\"\",CMS_Identification!C34)","v":""},"",{"$f":"IF(COUNTIF(B$1:B12,B12)=1,B12,\"\")","v":""},null,null,null,null,null,null,"Other Unknown Causes",null,null,null,null,null,"FL",null,{"$f":"+IF(X12=\"\",\"\",MAX(S$1:S11)+1)","v":""},{"$f":"IF(Emission_Limits_Details!$B34=\"\",\"\",Emission_Limits_Details!$B34)","v":""},{"$f":"IF(Emission_Limits_Details!$C34=\"\",\"\",Emission_Limits_Details!$C34)","v":""},null,"",{"$f":"IF(COUNTIF(U$2:U12,U12)=1,U12,\"\")","v":""},"","","",null,{"$f":"+IF(AH12=\"\",\"\",MAX(AC$1:AC11)+1)","v":""},{"$f":"IF(CMS_Detail!$B34=\"\",\"\",CMS_Detail!$B34)","v":""},{"$f":"IF(CMS_Detail!$C34=\"\",\"\",CMS_Detail!$C34)","v":""},null,"",{"$f":"IF(COUNTIF(AE$2:AE12,AE12)=1,AE12,\"\")","v":""},"","","",null,{"$f":"+IF(AQ12=\"\",\"\",MAX(AM$1:AM11)+1)","v":""},{"$f":"IF(Operating_Limits_Details!$B34=\"\",\"\",Operating_Limits_Details!$B34)","v":""},{"$f":"IF(Operating_Limits_Details!$C34=\"\",\"\",Operating_Limits_Details!$C34)","v":""},"",{"$f":"IF(COUNTIF(AO$2:AO12,AO12)=1,AO12,\"\")","v":""},"",""]
[{"$f":"+IF(D13=\"\",\"\",MAX(A$1:A12)+1)","v":""},{"$f":"IF(CMS_Identification!C35=\"\",\"\",CMS_Identification!C35)","v":""},"",{"$f":"IF(COUNTIF(B$1:B13,B13)=1,B13,\"\")","v":""},null,null,null,null,null,null,null,null,null,null,null,null,"GA",null,{"$f":"+IF(X13=\"\",\"\",MAX(S$1:S12)+1)","v":""},{"$f":"IF(Emission_Limits_Details!$B35=\"\",\"\",Emission_Limits_Details!$B35)","v":""},{"$f":"IF(Emission_Limits_Details!$C35=\"\",\"\",Emission_Limits_Details!$C35)","v":""},null,"",{"$f":"IF(COUNTIF(U$2:U13,U13)=1,U13,\"\")","v":""},"","","",null,{"$f":"+IF(AH13=\"\",\"\",MAX(AC$1:AC12)+1)","v":""},{"$f":"IF(CMS_Detail!$B35=\"\",\"\",CMS_Detail!$B35)","v":""},{"$f":"IF(CMS_Detail!$C35=\"\",\"\",CMS_Detail!$C35)","v":""},null,"",{"$f":"IF(COUNTIF(AE$2:AE13,AE13)=1,AE13,\"\")","v":""},"","","",null,{"$f":"+IF(AQ13=\"\",\"\",MAX(AM$1:AM12)+1)","v":""},{"$f":"IF(Operating_Limits_Details!$B35=\"\",\"\",Operating_Limits_Details!$B35)","v":""},{"$f":"IF(Operating_Limits_Details!$C35=\"\",\"\",Operating_Limits_Details!$C35)","v":""},"",{"$f":"IF(COUNTIF(AO$2:AO13,AO13)=1,AO13,\"\")","v":""},"",""]
[{"$f":"+IF(D14=\"\",\"\",MAX(A$1:A13)+1)","v":""},{"$f":"IF(CMS_Identification!C36=\"\",\"\",CMS_Identification!C36)","v":""},"",{"$f":"IF(COUNTIF(B$1:B14,B14)=1,B14,\"\")","v":""},null,null,null,null,null,null,null,null,null,null,null,null,"GU",null,{"$f":"+IF(X14=\"\",\"\",MAX(S$1:S13)+1)","v":""},{"$f":"IF(Emission_Limits_Details!$B36=\"\",\"\",Emission_Limits_Details!$B36)","v":""},{"$f":"IF(Emission_Limits_Details!$C36=\"\",\"\",Emission_Limits_Details!$C36)","v":""},null,"",{"$f":"IF(COUNTIF(U$2:U14,U14)=1,U14,\"\")","v":""},"","","",null,{"$f":"+IF(AH14=\"\",\"\",MAX(AC$1:AC13)+1)","v":""},{"$f":"IF(CMS_Detail!$B36=\"\",\"\",CMS_Detail!$B36)","v":""},{"$f":"IF(CMS_Detail!$C36=\"\",\"\",CMS_Detail!$C36)","v":""},null,"",{"$f":"IF(COUNTIF(AE$2:AE14,AE14)=1,AE14,\"\")","v":""},"","","",null,{"$f":"+IF(AQ14=\"\",\"\",MAX(AM$1:AM13)+1)","v":""},{"$f":"IF(Operating_Limits_Details!$B36=\"\",\"\",Operating_Limits_Details!$B36)","v":""},{"$f":"IF(Operating_Limits_Details!$C36=\"\",\"\",Operating_Limits_Details!$C36)","v":""},"",{"$f":"IF(COUNTIF(AO$2:AO14,AO14)=1,AO14,\"\")","v":""},"",""]
[{"$f":"+IF(D15=\"\",\"\",MAX(A$1:A14)+1)","v":""},{"$f":"IF(CMS_Identification!C37=\"\",\"\",CMS_Identification!C37)","v":""},"",{"$f":"IF(COUNTIF(B$1:B15,B15)=1,B15,\"\")","v":""},null,null,null,null,null,null,"OpLimitDeviationCauseList",null,null,null,null,null,"HI",null,{"$f":"+IF(X15=\"\",\"\",MAX(S$1:S14)+1)","v":""},{"$f":"IF(Emission_Limits_Details!$B37=\"\",\"\",Emission_Limits_Details!$B37)","v":""},{"$f":"IF(Emission_Limits_Details!$C37=\"\",\"\",Emission_Limits_Details!$C37)","v":""},null,"",{"$f":"IF(COUNTIF(U$2:U15,U15)=1,U15,\"\")","v":""},"","","",null,{"$f":"+IF(AH15=\"\",\"\",MAX(AC$1:AC14)+1)","v":""},{"$f":"IF(CMS_Detail!$B37=\"\",\"\",CMS_Detail!$B37)","v":""},{"$f":"IF(CMS_Detail!$C37=\"\",\"\",CMS_Detail!$C37)","v":""},null,"",{"$f":"IF(COUNTIF(AE$2:AE15,AE15)=1,AE15,\"\")","v":""},"","","",null,{"$f":"+IF(AQ15=\"\",\"\",MAX(AM$1:AM14)+1)","v":""},{"$f":"IF(Operating_Limits_Details!$B37=\"\",\"\",Operating_Limits_Details!$B37)","v":""},{"$f":"IF(Operating_Limits_Details!$C37=\"\",\"\",Operating_Limits_Details!$C37)","v":""},"",{"$f":"IF(COUNTIF(AO$2:AO15,AO15)=1,AO15,\"\")","v":""},"",""]
[{"$f":"+IF(D16=\"\",\"\",MAX(A$1:A15)+1)","v":""},{"$f":"IF(CMS_Identification!C38=\"\",\"\",CMS_Identification!C38)","v":""},"",{"$f":"IF(COUNTIF(B$1:B16,B16)=1,B16,\"\")","v":""},null,null,null,null,null,null,"Startup",null,null,null,null,null,"IA",null,{"$f":"+IF(X16=\"\",\"\",MAX(S$1:S15)+1)","v":""},{"$f":"IF(Emission_Limits_Details!$B38=\"\",\"\",Emission_Limits_Details!$B38)","v":""},{"$f":"IF(Emission_Limits_Details!$C38=\"\",\"\",Emission_Limits_Details!$C38)","v":""},null,"",{"$f":"IF(COUNTIF(U$2:U16,U16)=1,U16,\"\")","v":""},"","","",null,{"$f":"+IF(AH16=\"\",\"\",MAX(AC$1:AC15)+1)","v":""},{"$f":"IF(CMS_Detail!$B38=\"\",\"\",CMS_Detail!$B38)","v":""},{"$f":"IF(CMS_Detail!$C38=\"\",\"\",CMS_Detail!$C38)","v":""},null,"",{"$f":"IF(COUNTIF(AE$2:AE16,AE16)=1,AE16,\"\")","v":""},"","","",null,{"$f":"+IF(AQ16=\"\",\"\",MAX(AM$1:AM15)+1)","v":""},{"$f":"IF(Operating_Limits_Details!$B38=\"\",\"\",Operating_Limits_Details!$B38)","v":""},{"$f":"IF(Operating_Limits_Details!$C38=\"\",\"\",Operating_Limits_Details!$C38)","v":""},"",{"$f":"IF(COUNTIF(AO$2:AO16,AO16)=1,AO16,\"\")","v":""},"",""]
[{"$f":"+IF(D17=\"\",\"\",MAX(A$1:A16)+1)","v":""},{"$f":"IF(CMS_Identification!C39=\"\",\"\",CMS_Identification!C39)","v":""},"",{"$f":"IF(COUNTIF(B$1:B17,B17)=1,B17,\"\")","v":""},null,null,null,null,null,null,"Shutdown",null,null,null,null,null,"ID",null,{"$f":"+IF(X17=\"\",\"\",MAX(S$1:S16)+1)","v":""},{"$f":"IF(Emission_Limits_Details!$B39=\"\",\"\",Emission_Limits_Details!$B39)","v":""},{"$f":"IF(Emission_Limits_Details!$C39=\"\",\"\",Emission_Limits_Details!$C39)","v":""},null,"",{"$f":"IF(COUNTIF(U$2:U17,U17)=1,U17,\"\")","v":""},"","","",null,{"$f":"+IF(AH17=\"\",\"\",MAX(AC$1:AC16)+1)","v":""},{"$f":"IF(CMS_Detail!$B39=\"\",\"\",CMS_Detail!$B39)","v":""},{"$f":"IF(CMS_Detail!$C39=\"\",\"\",CMS_Detail!$C39)","v":""},null,"",{"$f":"IF(COUNTIF(AE$2:AE17,AE17)=1,AE17,\"\")","v":""},"","","",null,{"$f":"+IF(AQ17=\"\",\"\",MAX(AM$1:AM16)+1)","v":""},{"$f":"IF(Operating_Limits_Details!$B39=\"\",\"\",Operating_Limits_Details!$B39)","v":""},{"$f":"IF(Operating_Limits_Details!$C39=\"\",\"\",Operating_Limits_Details!$C39)","v":""},"",{"$f":"IF(COUNTIF(AO$2:AO17,AO17)=1,AO17,\"\")","v":""},"",""]
[{"$f":"+IF(D18=\"\",\"\",MAX(A$1:A17)+1)","v":""},{"$f":"IF(CMS_Identification!C40=\"\",\"\",CMS_Identification!C40)","v":""},"",{"$f":"IF(COUNTIF(B$1:B18,B18)=1,B18,\"\")","v":""},null,null,null,null,null,null,"Control Equipment Problems",null,null,null,null,null,"IL",null,{"$f":"+IF(X18=\"\",\"\",MAX(S$1:S17)+1)","v":""},{"$f":"IF(Emission_Limits_Details!$B40=\"\",\"\",Emission_Limits_Details!$B40)","v":""},{"$f":"IF(Emission_Limits_Details!$C40=\"\",\"\",Emission_Limits_Details!$C40)","v":""},null,"",{"$f":"IF(COUNTIF(U$2:U18,U18)=1,U18,\"\")","v":""},"","","",null,{"$f":"+IF(AH18=\"\",\"\",MAX(AC$1:AC17)+1)","v":""},{"$f":"IF(CMS_Detail!$B40=\"\",\"\",CMS_Detail!$B40)","v":""},{"$f":"IF(CMS_Detail!$C40=\"\",\"\",CMS_Detail!$C40)","v":""},null,"",{"$f":"IF(COUNTIF(AE$2:AE18,AE18)=1,AE18,\"\")","v":""},"","","",null,{"$f":"+IF(AQ18=\"\",\"\",MAX(AM$1:AM17)+1)","v":""},{"$f":"IF(Operating_Limits_Details!$B40=\"\",\"\",Operating_Limits_Details!$B40)","v":""},{"$f":"IF(Operating_Limits_Details!$C40=\"\",\"\",Operating_Limits_Details!$C40)","v":""},"",{"$f":"IF(COUNTIF(AO$2:AO18,AO18)=1,AO18,\"\")","v":""},"",""]
[{"$f":"+IF(D19=\"\",\"\",MAX(A$1:A18)+1)","v":""},{"$f":"IF(CMS_Identification!C41=\"\",\"\",CMS_Identification!C41)","v":""},"",{"$f":"IF(COUNTIF(B$1:B19,B19)=1,B19,\"\")","v":""},null,null,null,null,null,null,"Process Problems",null,null,null,null,null,"IN",null,{"$f":"+IF(X19=\"\",\"\",MAX(S$1:S18)+1)","v":""},{"$f":"IF(Emission_Limits_Details!$B41=\"\",\"\",Emission_Limits_Details!$B41)","v":""},{"$f":"IF(Emission_Limits_Details!$C41=\"\",\"\",Emission_Limits_Details!$C41)","v":""},null,"",{"$f":"IF(COUNTIF(U$2:U19,U19)=1,U19,\"\")","v":""},"","","",null,{"$f":"+IF(AH19=\"\",\"\",MAX(AC$1:AC18)+1)","v":""},{"$f":"IF(CMS_Detail!$B41=\"\",\"\",CMS_Detail!$B41)","v":""},{"$f":"IF(CMS_Detail!$C41=\"\",\"\",CMS_Detail!$C41)","v":""},null,"",{"$f":"IF(COUNTIF(AE$2:AE19,AE19)=1,AE19,\"\")","v":""},"","","",null,{"$f":"+IF(AQ19=\"\",\"\",MAX(AM$1:AM18)+1)","v":""},{"$f":"IF(Operating_Limits_Details!$B41=\"\",\"\",Operating_Limits_Details!$B41)","v":""},{"$f":"IF(Operating_Limits_Details!$C41=\"\",\"\",Operating_Limits_Details!$C41)","v":""},"",{"$f":"IF(COUNTIF(AO$2:AO19,AO19)=1,AO19,\"\")","v":""},"",""]
[{"$f":"+IF(D20=\"\",\"\",MAX(A$1:A19)+1)","v":""},{"$f":"IF(CMS_Identification!C42=\"\",\"\",CMS_Identification!C42)","v":""},"",{"$f":"IF(COUNTIF(B$1:B20,B20)=1,B20,\"\")","v":""},null,null,null,null,null,null,"Other Known Causes",null,null,null,null,null,"KS",null,{"$f":"+IF(X20=\"\",\"\",MAX(S$1:S19)+1)","v":""},{"$f":"IF(Emission_Limits_Details!$B42=\"\",\"\",Emission_Limits_Details!$B42)","v":""},{"$f":"IF(Emission_Limits_Details!$C42=\"\",\"\",Emission_Limits_Details!$C42)","v":""},null,"",{"$f":"IF(COUNTIF(U$2:U20,U20)=1,U20,\"\")","v":""},"","","",null,{"$f":"+IF(AH20=\"\",\"\",MAX(AC$1:AC19)+1)","v":""},{"$f":"IF(CMS_Detail!$B42=\"\",\"\",CMS_Detail!$B42)","v":""},{"$f":"IF(CMS_Detail!$C42=\"\",\"\",CMS_Detail!$C42)","v":""},null,"",{"$f":"IF(COUNTIF(AE$2:AE20,AE20)=1,AE20,\"\")","v":""},"","","",null,{"$f":"+IF(AQ20=\"\",\"\",MAX(AM$1:AM19)+1)","v":""},{"$f":"IF(Operating_Limits_Details!$B42=\"\",\"\",Operating_Limits_Details!$B42)","v":""},{"$f":"IF(Operating_Limits_Details!$C42=\"\",\"\",Operating_Limits_Details!$C42)","v":""},"",{"$f":"IF(COUNTIF(AO$2:AO20,AO20)=1,AO20,\"\")","v":""},"",""]
[{"$f":"+IF(D21=\"\",\"\",MAX(A$1:A20)+1)","v":""},{"$f":"IF(CMS_Identification!C43=\"\",\"\",CMS_Identification!C43)","v":""},"",{"$f":"IF(COUNTIF(B$1:B21,B21)=1,B21,\"\")","v":""},null,null,null,null,null,null,"Other Unknown Causes",null,null,null,null,null,"KY",null,{"$f":"+IF(X21=\"\",\"\",MAX(S$1:S20)+1)","v":""},{"$f":"IF(Emission_Limits_Details!$B43=\"\",\"\",Emission_Limits_Details!$B43)","v":""},{"$f":"IF(Emission_Limits_Details!$C43=\"\",\"\",Emission_Limits_Details!$C43)","v":""},null,"",{"$f":"IF(COUNTIF(U$2:U21,U21)=1,U21,\"\")","v":""},"","","",null,{"$f":"+IF(AH21=\"\",\"\",MAX(AC$1:AC20)+1)","v":""},{"$f":"IF(CMS_Detail!$B43=\"\",\"\",CMS_Detail!$B43)","v":""},{"$f":"IF(CMS_Detail!$C43=\"\",\"\",CMS_Detail!$C43)","v":""},null,"",{"$f":"IF(COUNTIF(AE$2:AE21,AE21)=1,AE21,\"\")","v":""},"","","",null,{"$f":"+IF(AQ21=\"\",\"\",MAX(AM$1:AM20)+1)","v":""},{"$f":"IF(Operating_Limits_Details!$B43=\"\",\"\",Operating_Limits_Details!$B43)","v":""},{"$f":"IF(Operating_Limits_Details!$C43=\"\",\"\",Operating_Limits_Details!$C43)","v":""},"",{"$f":"IF(COUNTIF(AO$2:AO21,AO21)=1,AO21,\"\")","v":""},"",""]
[{"$f":"+IF(D22=\"\",\"\",MAX(A$1:A21)+1)","v":""},{"$f":"IF(CMS_Identification!C44=\"\",\"\",CMS_Identification!C44)","v":""},"",{"$f":"IF(COUNTIF(B$1:B22,B22)=1,B22,\"\")","v":""},null,null,null,null,null,null,null,null,null,null,null,null,"LA",null,{"$f":"+IF(X22=\"\",\"\",MAX(S$1:S21)+1)","v":""},{"$f":"IF(Emission_Limits_Details!$B44=\"\",\"\",Emission_Limits_Details!$B44)","v":""},{"$f":"IF(Emission_Limits_Details!$C44=\"\",\"\",Emission_Limits_Details!$C44)","v":""},null,"",{"$f":"IF(COUNTIF(U$2:U22,U22)=1,U22,\"\")","v":""},"","","",null,{"$f":"+IF(AH22=\"\",\"\",MAX(AC$1:AC21)+1)","v":""},{"$f":"IF(CMS_Detail!$B44=\"\",\"\",CMS_Detail!$B44)","v":""},{"$f":"IF(CMS_Detail!$C44=\"\",\"\",CMS_Detail!$C44)","v":""},null,"",{"$f":"IF(COUNTIF(AE$2:AE22,AE22)=1,AE22,\"\")","v":""},"","","",null,{"$f":"+IF(AQ22=\"\",\"\",MAX(AM$1:AM21)+1)","v":""},{"$f":"IF(Operating_Limits_Details!$B44=\"\",\"\",Operating_Limits_Details!$B44)","v":""},{"$f":"IF(Operating_Limits_Details!$C44=\"\",\"\",Operating_Limits_Details!$C44)","v":""},"",{"$f":"IF(COUNTIF(AO$2:AO22,AO22)=1,AO22,\"\")","v":""},"",""]
[{"$f":"+IF(D23=\"\",\"\",MAX(A$1:A22)+1)","v":""},{"$f":"IF(CMS_Identification!C45=\"\",\"\",CMS_Identification!C45)","v":""},"",{"$f":"IF(COUNTIF(B$1:B23,B23)=1,B23,\"\")","v":""},null,null,null,null,null,null,null,null,null,null,null,null,"MA",null,{"$f":"+IF(X23=\"\",\"\",MAX(S$1:S22)+1)","v":""},{"$f":"IF(Emission_Limits_Details!$B45=\"\",\"\",Emission_Limits_Details!$B45)","v":""},{"$f":"IF(Emission_Limits_Details!$C45=\"\",\"\",Emission_Limits_Details!$C45)","v":""},null,"",{"$f":"IF(COUNTIF(U$2:U23,U23)=1,U23,\"\")","v":""},"","","",null,{"$f":"+IF(AH23=\"\",\"\",MAX(AC$1:AC22)+1)","v":""},{"$f":"IF(CMS_Detail!$B45=\"\",\"\",CMS_Detail!$B45)","v":""},{"$f":"IF(CMS_Detail!$C45=\"\",\"\",CMS_Detail!$C45)","v":""},null,"",{"$f":"IF(COUNTIF(AE$2:AE23,AE23)=1,AE23,\"\")","v":""},"","","",null,{"$f":"+IF(AQ23=\"\",\"\",MAX(AM$1:AM22)+1)","v":""},{"$f":"IF(Operating_Limits_Details!$B45=\"\",\"\",Operating_Limits_Details!$B45)","v":""},{"$f":"IF(Operating_Limits_Details!$C45=\"\",\"\",Operating_Limits_Details!$C45)","v":""},"",{"$f":"IF(COUNTIF(AO$2:AO23,AO23)=1,AO23,\"\")","v":""},"",""]
[{"$f":"+IF(D24=\"\",\"\",MAX(A$1:A23)+1)","v":""},{"$f":"IF(CMS_Identification!C46=\"\",\"\",CMS_Identification!C46)","v":""},"",{"$f":"IF(COUNTIF(B$1:B24,B24)=1,B24,\"\")","v":""},null,null,null,null,null,null,null,null,null,null,null,null,"MD",null,{"$f":"+IF(X24=\"\",\"\",MAX(S$1:S23)+1)","v":""},{"$f":"IF(Emission_Limits_Details!$B46=\"\",\"\",Emission_Limits_Details!$B46)","v":""},{"$f":"IF(Emission_Limits_Details!$C46=\"\",\"\",Emission_Limits_Details!$C46)","v":""},null,"",{"$f":"IF(COUNTIF(U$2:U24,U24)=1,U24,\"\")","v":""},"","","",null,{"$f":"+IF(AH24=\"\",\"\",MAX(AC$1:AC23)+1)","v":""},{"$f":"IF(CMS_Detail!$B46=\"\",\"\",CMS_Detail!$B46)","v":""},{"$f":"IF(CMS_Detail!$C46=\"\",\"\",CMS_Detail!$C46)","v":""},null,"",{"$f":"IF(COUNTIF(AE$2:AE24,AE24)=1,AE24,\"\")","v":""},"","","",null,{"$f":"+IF(AQ24=\"\",\"\",MAX(AM$1:AM23)+1)","v":""},{"$f":"IF(Operating_Limits_Details!$B46=\"\",\"\",Operating_Limits_Details!$B46)","v":""},{"$f":"IF(Operating_Limits_Details!$C46=\"\",\"\",Operating_Limits_Details!$C46)","v":""},"",{"$f":"IF(COUNTIF(AO$2:AO24,AO24)=1,AO24,\"\")","v":""},"",""]
[{"$f":"+IF(D25=\"\",\"\",MAX(A$1:A24)+1)","v":""},{"$f":"IF(CMS_Identification!C47=\"\",\"\",CMS_Identification!C47)","v":""},"",{"$f":"IF(COUNTIF(B$1:B25,B25)=1,B25,\"\")","v":""},null,null,null,null,null,null,null,null,null,null,null,null,"ME",null,{"$f":"+IF(X25=\"\",\"\",MAX(S$1:S24)+1)","v":""},{"$f":"IF(Emission_Limits_Details!$B47=\"\",\"\",Emission_Limits_Details!$B47)","v":""},{"$f":"IF(Emission_Limits_Details!$C47=\"\",\"\",Emission_Limits_Details!$C47)","v":""},null,"",{"$f":"IF(COUNTIF(U$2:U25,U25)=1,U25,\"\")","v":""},"","","",null,{"$f":"+IF(AH25=\"\",\"\",MAX(AC$1:AC24)+1)","v":""},{"$f":"IF(CMS_Detail!$B47=\"\",\"\",CMS_Detail!$B47)","v":""},{"$f":"IF(CMS_Detail!$C47=\"\",\"\",CMS_Detail!$C47)","v":""},null,"",{"$f":"IF(COUNTIF(AE$2:AE25,AE25)=1,AE25,\"\")","v":""},"","","",null,{"$f":"+IF(AQ25=\"\",\"\",MAX(AM$1:AM24)+1)","v":""},{"$f":"IF(Operating_Limits_Details!$B47=\"\",\"\",Operating_Limits_Details!$B47)","v":""},{"$f":"IF(Operating_Limits_Details!$C47=\"\",\"\",Operating_Limits_Details!$C47)","v":""},"",{"$f":"IF(COUNTIF(AO$2:AO25,AO25)=1,AO25,\"\")","v":""},"",""]
[{"$f":"+IF(D26=\"\",\"\",MAX(A$1:A25)+1)","v":""},{"$f":"IF(CMS_Identification!C48=\"\",\"\",CMS_Identification!C48)","v":""},"",{"$f":"IF(COUNTIF(B$1:B26,B26)=1,B26,\"\")","v":""},null,null,null,null,null,null,null,null,null,null,null,null,"MI",null,{"$f":"+IF(X26=\"\",\"\",MAX(S$1:S25)+1)","v":""},{"$f":"IF(Emission_Limits_Details!$B48=\"\",\"\",Emission_Limits_Details!$B48)","v":""},{"$f":"IF(Emission_Limits_Details!$C48=\"\",\"\",Emission_Limits_Details!$C48)","v":""},null,"",{"$f":"IF(COUNTIF(U$2:U26,U26)=1,U26,\"\")","v":""},"","","",null,{"$f":"+IF(AH26=\"\",\"\",MAX(AC$1:AC25)+1)","v":""},{"$f":"IF(CMS_Detail!$B48=\"\",\"\",CMS_Detail!$B48)","v":""},{"$f":"IF(CMS_Detail!$C48=\"\",\"\",CMS_Detail!$C48)","v":""},null,"",{"$f":"IF(COUNTIF(AE$2:AE26,AE26)=1,AE26,\"\")","v":""},"","","",null,{"$f":"+IF(AQ26=\"\",\"\",MAX(AM$1:AM25)+1)","v":""},{"$f":"IF(Operating_Limits_Details!$B48=\"\",\"\",Operating_Limits_Details!$B48)","v":""},{"$f":"IF(Operating_Limits_Details!$C48=\"\",\"\",Operating_Limits_Details!$C48)","v":""},"",{"$f":"IF(COUNTIF(AO$2:AO26,AO26)=1,AO26,\"\")","v":""},"",""]
[{"$f":"+IF(D27=\"\",\"\",MAX(A$1:A26)+1)","v":""},{"$f":"IF(CMS_Identification!C49=\"\",\"\",CMS_Identification!C49)","v":""},"",{"$f":"IF(COUNTIF(B$1:B27,B27)=1,B27,\"\")","v":""},null,null,null,null,null,null,null,null,null,null,null,null,"MN",null,{"$f":"+IF(X27=\"\",\"\",MAX(S$1:S26)+1)","v":""},{"$f":"IF(Emission_Limits_Details!$B49=\"\",\"\",Emission_Limits_Details!$B49)","v":""},{"$f":"IF(Emission_Limits_Details!$C49=\"\",\"\",Emission_Limits_Details!$C49)","v":""},null,"",{"$f":"IF(COUNTIF(U$2:U27,U27)=1,U27,\"\")","v":""},"","","",null,{"$f":"+IF(AH27=\"\",\"\",MAX(AC$1:AC26)+1)","v":""},{"$f":"IF(CMS_Detail!$B49=\"\",\"\",CMS_Detail!$B49)","v":""},{"$f":"IF(CMS_Detail!$C49=\"\",\"\",CMS_Detail!$C49)","v":""},null,"",{"$f":"IF(COUNTIF(AE$2:AE27,AE27)=1,AE27,\"\")","v":""},"","","",null,{"$f":"+IF(AQ27=\"\",\"\",MAX(AM$1:AM26)+1)","v":""},{"$f":"IF(Operating_Limits_Details!$B49=\"\",\"\",Operating_Limits_Details!$B49)","v":""},{"$f":"IF(Operating_Limits_Details!$C49=\"\",\"\",Operating_Limits_Details!$C49)","v":""},"",{"$f":"IF(COUNTIF(AO$2:AO27,AO27)=1,AO27,\"\")","v":""},"",""]
[{"$f":"+IF(D28=\"\",\"\",MAX(A$1:A27)+1)","v":""},{"$f":"IF(CMS_Identification!C50=\"\",\"\",CMS_Identification!C50)","v":""},"",{"$f":"IF(COUNTIF(B$1:B28,B28)=1,B28,\"\")","v":""},null,null,null,null,null,null,null,null,null,null,null,null,"MO",null,{"$f":"+IF(X28=\"\",\"\",MAX(S$1:S27)+1)","v":""},{"$f":"IF(Emission_Limits_Details!$B50=\"\",\"\",Emission_Limits_Details!$B50)","v":""},{"$f":"IF(Emission_Limits_Details!$C50=\"\",\"\",Emission_Limits_Details!$C50)","v":""},null,"",{"$f":"IF(COUNTIF(U$2:U28,U28)=1,U28,\"\")","v":""},"","","",null,{"$f":"+IF(AH28=\"\",\"\",MAX(AC$1:AC27)+1)","v":""},{"$f":"IF(CMS_Detail!$B50=\"\",\"\",CMS_Detail!$B50)","v":""},{"$f":"IF(CMS_Detail!$C50=\"\",\"\",CMS_Detail!$C50)","v":""},null,"",{"$f":"IF(COUNTIF(AE$2:AE28,AE28)=1,AE28,\"\")","v":""},"","","",null,{"$f":"+IF(AQ28=\"\",\"\",MAX(AM$1:AM27)+1)","v":""},{"$f":"IF(Operating_Limits_Details!$B50=\"\",\"\",Operating_Limits_Details!$B50)","v":""},{"$f":"IF(Operating_Limits_Details!$C50=\"\",\"\",Operating_Limits_Details!$C50)","v":""},"",{"$f":"IF(COUNTIF(AO$2:AO28,AO28)=1,AO28,\"\")","v":""},"",""]
[{"$f":"+IF(D29=\"\",\"\",MAX(A$1:A28)+1)","v":""},{"$f":"IF(CMS_Identification!C51=\"\",\"\",CMS_Identification!C51)","v":""},"",{"$f":"IF(COUNTIF(B$1:B29,B29)=1,B29,\"\")","v":""},null,null,null,null,null,null,null,null,null,null,null,null,"MP",null,{"$f":"+IF(X29=\"\",\"\",MAX(S$1:S28)+1)","v":""},{"$f":"IF(Emission_Limits_Details!$B51=\"\",\"\",Emission_Limits_Details!$B51)","v":""},{"$f":"IF(Emission_Limits_Details!$C51=\"\",\"\",Emission_Limits_Details!$C51)","v":""},null,"",{"$f":"IF(COUNTIF(U$2:U29,U29)=1,U29,\"\")","v":""},"","","",null,{"$f":"+IF(AH29=\"\",\"\",MAX(AC$1:AC28)+1)","v":""},{"$f":"IF(CMS_Detail!$B51=\"\",\"\",CMS_Detail!$B51)","v":""},{"$f":"IF(CMS_Detail!$C51=\"\",\"\",CMS_Detail!$C51)","v":""},null,"",{"$f":"IF(COUNTIF(AE$2:AE29,AE29)=1,AE29,\"\")","v":""},"","","",null,{"$f":"+IF(AQ29=\"\",\"\",MAX(AM$1:AM28)+1)","v":""},{"$f":"IF(Operating_Limits_Details!$B51=\"\",\"\",Operating_Limits_Details!$B51)","v":""},{"$f":"IF(Operating_Limits_Details!$C51=\"\",\"\",Operating_Limits_Details!$C51)","v":""},"",{"$f":"IF(COUNTIF(AO$2:AO29,AO29)=1,AO29,\"\")","v":""},"",""]
[{"$f":"+IF(D30=\"\",\"\",MAX(A$1:A29)+1)","v":""},{"$f":"IF(CMS_Identification!C52=\"\",\"\",CMS_Identification!C52)","v":""},"",{"$f":"IF(COUNTIF(B$1:B30,B30)=1,B30,\"\")","v":""},null,null,null,null,null,null,null,null,null,null,null,null,"MS",null,{"$f":"+IF(X30=\"\",\"\",MAX(S$1:S29)+1)","v":""},{"$f":"IF(Emission_Limits_Details!$B52=\"\",\"\",Emission_Limits_Details!$B52)","v":""},{"$f":"IF(Emission_Limits_Details!$C52=\"\",\"\",Emission_Limits_Details!$C52)","v":""},null,"",{"$f":"IF(COUNTIF(U$2:U30,U30)=1,U30,\"\")","v":""},"","","",null,{"$f":"+IF(AH30=\"\",\"\",MAX(AC$1:AC29)+1)","v":""},{"$f":"IF(CMS_Detail!$B52=\"\",\"\",CMS_Detail!$B52)","v":""},{"$f":"IF(CMS_Detail!$C52=\"\",\"\",CMS_Detail!$C52)","v":""},null,"",{"$f":"IF(COUNTIF(AE$2:AE30,AE30)=1,AE30,\"\")","v":""},"","","",null,{"$f":"+IF(AQ30=\"\",\"\",MAX(AM$1:AM29)+1)","v":""},{"$f":"IF(Operating_Limits_Details!$B52=\"\",\"\",Operating_Limits_Details!$B52)","v":""},{"$f":"IF(Operating_Limits_Details!$C52=\"\",\"\",Operating_Limits_Details!$C52)","v":""},"",{"$f":"IF(COUNTIF(AO$2:AO30,AO30)=1,AO30,\"\")","v":""},"",""]
[{"$f":"+IF(D31=\"\",\"\",MAX(A$1:A30)+1)","v":""},{"$f":"IF(CMS_Identification!C53=\"\",\"\",CMS_Identification!C53)","v":""},"",{"$f":"IF(COUNTIF(B$1:B31,B31)=1,B31,\"\")","v":""},null,null,null,null,null,null,null,null,null,null,null,null,"MT",null,{"$f":"+IF(X31=\"\",\"\",MAX(S$1:S30)+1)","v":""},{"$f":"IF(Emission_Limits_Details!$B53=\"\",\"\",Emission_Limits_Details!$B53)","v":""},{"$f":"IF(Emission_Limits_Details!$C53=\"\",\"\",Emission_Limits_Details!$C53)","v":""},null,"",{"$f":"IF(COUNTIF(U$2:U31,U31)=1,U31,\"\")","v":""},"","","",null,{"$f":"+IF(AH31=\"\",\"\",MAX(AC$1:AC30)+1)","v":""},{"$f":"IF(CMS_Detail!$B53=\"\",\"\",CMS_Detail!$B53)","v":""},{"$f":"IF(CMS_Detail!$C53=\"\",\"\",CMS_Detail!$C53)","v":""},null,"",{"$f":"IF(COUNTIF(AE$2:AE31,AE31)=1,AE31,\"\")","v":""},"","","",null,{"$f":"+IF(AQ31=\"\",\"\",MAX(AM$1:AM30)+1)","v":""},{"$f":"IF(Operating_Limits_Details!$B53=\"\",\"\",Operating_Limits_Details!$B53)","v":""},{"$f":"IF(Operating_Limits_Details!$C53=\"\",\"\",Operating_Limits_Details!$C53)","v":""},"",{"$f":"IF(COUNTIF(AO$2:AO31,AO31)=1,AO31,\"\")","v":""},"",""]
[{"$f":"+IF(D32=\"\",\"\",MAX(A$1:A31)+1)","v":""},{"$f":"IF(CMS_Identification!C54=\"\",\"\",CMS_Identification!C54)","v":""},"",{"$f":"IF(COUNTIF(B$1:B32,B32)=1,B32,\"\")","v":""},null,null,null,null,null,null,null,null,null,null,null,null,"NC",null,{"$f":"+IF(X32=\"\",\"\",MAX(S$1:S31)+1)","v":""},{"$f":"IF(Emission_Limits_Details!$B54=\"\",\"\",Emission_Limits_Details!$B54)","v":""},{"$f":"IF(Emission_Limits_Details!$C54=\"\",\"\",Emission_Limits_Details!$C54)","v":""},null,"",{"$f":"IF(COUNTIF(U$2:U32,U32)=1,U32,\"\")","v":""},"","","",null,{"$f":"+IF(AH32=\"\",\"\",MAX(AC$1:AC31)+1)","v":""},{"$f":"IF(CMS_Detail!$B54=\"\",\"\",CMS_Detail!$B54)","v":""},{"$f":"IF(CMS_Detail!$C54=\"\",\"\",CMS_Detail!$C54)","v":""},null,"",{"$f":"IF(COUNTIF(AE$2:AE32,AE32)=1,AE32,\"\")","v":""},"","","",null,{"$f":"+IF(AQ32=\"\",\"\",MAX(AM$1:AM31)+1)","v":""},{"$f":"IF(Operating_Limits_Details!$B54=\"\",\"\",Operating_Limits_Details!$B54)","v":""},{"$f":"IF(Operating_Limits_Details!$C54=\"\",\"\",Operating_Limits_Details!$C54)","v":""},"",{"$f":"IF(COUNTIF(AO$2:AO32,AO32)=1,AO32,\"\")","v":""},"",""]
[{"$f":"+IF(D33=\"\",\"\",MAX(A$1:A32)+1)","v":""},{"$f":"IF(CMS_Identification!C55=\"\",\"\",CMS_Identification!C55)","v":""},"",{"$f":"IF(COUNTIF(B$1:B33,B33)=1,B33,\"\")","v":""},null,null,null,null,null,null,null,null,null,null,null,null,"ND",null,{"$f":"+IF(X33=\"\",\"\",MAX(S$1:S32)+1)","v":""},{"$f":"IF(Emission_Limits_Details!$B55=\"\",\"\",Emission_Limits_Details!$B55)","v":""},{"$f":"IF(Emission_Limits_Details!$C55=\"\",\"\",Emission_Limits_Details!$C55)","v":""},null,"",{"$f":"IF(COUNTIF(U$2:U33,U33)=1,U33,\"\")","v":""},"","","",null,{"$f":"+IF(AH33=\"\",\"\",MAX(AC$1:AC32)+1)","v":""},{"$f":"IF(CMS_Detail!$B55=\"\",\"\",CMS_Detail!$B55)","v":""},{"$f":"IF(CMS_Detail!$C55=\"\",\"\",CMS_Detail!$C55)","v":""},null,"",{"$f":"IF(COUNTIF(AE$2:AE33,AE33)=1,AE33,\"\")","v":""},"","","",null,{"$f":"+IF(AQ33=\"\",\"\",MAX(AM$1:AM32)+1)","v":""},{"$f":"IF(Operating_Limits_Details!$B55=\"\",\"\",Operating_Limits_Details!$B55)","v":""},{"$f":"IF(Operating_Limits_Details!$C55=\"\",\"\",Operating_Limits_Details!$C55)","v":""},"",{"$f":"IF(COUNTIF(AO$2:AO33,AO33)=1,AO33,\"\")","v":""},"",""]
[{"$f":"+IF(D34=\"\",\"\",MAX(A$1:A33)+1)","v":""},{"$f":"IF(CMS_Identification!C56=\"\",\"\",CMS_Identification!C56)","v":""},{"$f":"+IFERROR(INDEX($B$2:$B$100,MATCH(ROW()-ROW($C$1),$A$2:$A$100,0)),\"\")","v":""},{"$f":"IF(COUNTIF(B$1:B34,B34)=1,B34,\"\")","v":""},null,null,null,null,null,null,null,null,null,null,null,null,"NE",null,{"$f":"+IF(X34=\"\",\"\",MAX(S$1:S33)+1)","v":""},{"$f":"IF(Emission_Limits_Details!$B56=\"\",\"\",Emission_Limits_Details!$B56)","v":""},{"$f":"IF(Emission_Limits_Details!$C56=\"\",\"\",Emission_Limits_Details!$C56)","v":""},null,"",{"$f":"IF(COUNTIF(U$2:U34,U34)=1,U34,\"\")","v":""},"","","",null,{"$f":"+IF(AH34=\"\",\"\",MAX(AC$1:AC33)+1)","v":""},{"$f":"IF(CMS_Detail!$B56=\"\",\"\",CMS_Detail!$B56)","v":""},{"$f":"IF(CMS_Detail!$C56=\"\",\"\",CMS_Detail!$C56)","v":""},null,"",{"$f":"IF(COUNTIF(AE$2:AE34,AE34)=1,AE34,\"\")","v":""},"","","",null,{"$f":"+IF(AQ34=\"\",\"\",MAX(AM$1:AM33)+1)","v":""},{"$f":"IF(Operating_Limits_Details!$B56=\"\",\"\",Operating_Limits_Details!$B56)","v":""},{"$f":"IF(Operating_Limits_Details!$C56=\"\",\"\",Operating_Limits_Details!$C56)","v":""},"",{"$f":"IF(COUNTIF(AO$2:AO34,AO34)=1,AO34,\"\")","v":""},"",""]
[{"$f":"+IF(D35=\"\",\"\",MAX(A$1:A34)+1)","v":""},{"$f":"IF(CMS_Identification!C57=\"\",\"\",CMS_Identification!C57)","v":""},"",{"$f":"IF(COUNTIF(B$1:B35,B35)=1,B35,\"\")","v":""},null,null,null,null,null,null,null,null,null,null,null,null,"NH",null,{"$f":"+IF(X35=\"\",\"\",MAX(S$1:S34)+1)","v":""},{"$f":"IF(Emission_Limits_Details!$B57=\"\",\"\",Emission_Limits_Details!$B57)","v":""},{"$f":"IF(Emission_Limits_Details!$C57=\"\",\"\",Emission_Limits_Details!$C57)","v":""},null,"",{"$f":"IF(COUNTIF(U$2:U35,U35)=1,U35,\"\")","v":""},"","","",null,{"$f":"+IF(AH35=\"\",\"\",MAX(AC$1:AC34)+1)","v":""},{"$f":"IF(CMS_Detail!$B57=\"\",\"\",CMS_Detail!$B57)","v":""},{"$f":"IF(CMS_Detail!$C57=\"\",\"\",CMS_Detail!$C57)","v":""},null,"",{"$f":"IF(COUNTIF(AE$2:AE35,AE35)=1,AE35,\"\")","v":""},"","","",null,{"$f":"+IF(AQ35=\"\",\"\",MAX(AM$1:AM34)+1)","v":""},{"$f":"IF(Operating_Limits_Details!$B57=\"\",\"\",Operating_Limits_Details!$B57)","v":""},{"$f":"IF(Operating_Limits_Details!$C57=\"\",\"\",Operating_Limits_Details!$C57)","v":""},"",{"$f":"IF(COUNTIF(AO$2:AO35,AO35)=1,AO35,\"\")","v":""},"",""]
[{"$f":"+IF(D36=\"\",\"\",MAX(A$1:A35)+1)","v":""},{"$f":"IF(CMS_Identification!C58=\"\",\"\",CMS_Identification!C58)","v":""},"",{"$f":"IF(COUNTIF(B$1:B36,B36)=1,B36,\"\")","v":""},null,null,null,null,null,null,null,null,null,null,null,null,"NJ",null,{"$f":"+IF(X36=\"\",\"\",MAX(S$1:S35)+1)","v":""},{"$f":"IF(Emission_Limits_Details!$B58=\"\",\"\",Emission_Limits_Details!$B58)","v":""},{"$f":"IF(Emission_Limits_Details!$C58=\"\",\"\",Emission_Limits_Details!$C58)","v":""},null,"",{"$f":"IF(COUNTIF(U$2:U36,U36)=1,U36,\"\")","v":""},"","","",null,{"$f":"+IF(AH36=\"\",\"\",MAX(AC$1:AC35)+1)","v":""},{"$f":"IF(CMS_Detail!$B58=\"\",\"\",CMS_Detail!$B58)","v":""},{"$f":"IF(CMS_Detail!$C58=\"\",\"\",CMS_Detail!$C58)","v":""},null,"",{"$f":"IF(COUNTIF(AE$2:AE36,AE36)=1,AE36,\"\")","v":""},"","","",null,{"$f":"+IF(AQ36=\"\",\"\",MAX(AM$1:AM35)+1)","v":""},{"$f":"IF(Operating_Limits_Details!$B58=\"\",\"\",Operating_Limits_Details!$B58)","v":""},{"$f":"IF(Operating_Limits_Details!$C58=\"\",\"\",Operating_Limits_Details!$C58)","v":""},"",{"$f":"IF(COUNTIF(AO$2:AO36,AO36)=1,AO36,\"\")","v":""},"",""]
[{"$f":"+IF(D37=\"\",\"\",MAX(A$1:A36)+1)","v":""},{"$f":"IF(CMS_Identification!C59=\"\",\"\",CMS_Identification!C59)","v":""},"",{"$f":"IF(COUNTIF(B$1:B37,B37)=1,B37,\"\")","v":""},null,null,null,null,null,null,null,null,null,null,null,null,"NM",null,{"$f":"+IF(X37=\"\",\"\",MAX(S$1:S36)+1)","v":""},{"$f":"IF(Emission_Limits_Details!$B59=\"\",\"\",Emission_Limits_Details!$B59)","v":""},{"$f":"IF(Emission_Limits_Details!$C59=\"\",\"\",Emission_Limits_Details!$C59)","v":""},null,"",{"$f":"IF(COUNTIF(U$2:U37,U37)=1,U37,\"\")","v":""},"","","",null,{"$f":"+IF(AH37=\"\",\"\",MAX(AC$1:AC36)+1)","v":""},{"$f":"IF(CMS_Detail!$B59=\"\",\"\",CMS_Detail!$B59)","v":""},{"$f":"IF(CMS_Detail!$C59=\"\",\"\",CMS_Detail!$C59)","v":""},null,"",{"$f":"IF(COUNTIF(AE$2:AE37,AE37)=1,AE37,\"\")","v":""},"","","",null,{"$f":"+IF(AQ37=\"\",\"\",MAX(AM$1:AM36)+1)","v":""},{"$f":"IF(Operating_Limits_Details!$B59=\"\",\"\",Operating_Limits_Details!$B59)","v":""},{"$f":"IF(Operating_Limits_Details!$C59=\"\",\"\",Operating_Limits_Details!$C59)","v":""},"",{"$f":"IF(COUNTIF(AO$2:AO37,AO37)=1,AO37,\"\")","v":""},"",""]
[{"$f":"+IF(D38=\"\",\"\",MAX(A$1:A37)+1)","v":""},{"$f":"IF(CMS_Identification!C60=\"\",\"\",CMS_Identification!C60)","v":""},"",{"$f":"IF(COUNTIF(B$1:B38,B38)=1,B38,\"\")","v":""},null,null,null,null,null,null,null,null,null,null,null,null,"NV",null,{"$f":"+IF(X38=\"\",\"\",MAX(S$1:S37)+1)","v":""},{"$f":"IF(Emission_Limits_Details!$B60=\"\",\"\",Emission_Limits_Details!$B60)","v":""},{"$f":"IF(Emission_Limits_Details!$C60=\"\",\"\",Emission_Limits_Details!$C60)","v":""},null,"",{"$f":"IF(COUNTIF(U$2:U38,U38)=1,U38,\"\")","v":""},"","","",null,{"$f":"+IF(AH38=\"\",\"\",MAX(AC$1:AC37)+1)","v":""},{"$f":"IF(CMS_Detail!$B60=\"\",\"\",CMS_Detail!$B60)","v":""},{"$f":"IF(CMS_Detail!$C60=\"\",\"\",CMS_Detail!$C60)","v":""},null,"",{"$f":"IF(COUNTIF(AE$2:AE38,AE38)=1,AE38,\"\")","v":""},"","","",null,{"$f":"+IF(AQ38=\"\",\"\",MAX(AM$1:AM37)+1)","v":""},{"$f":"IF(Operating_Limits_Details!$B60=\"\",\"\",Operating_Limits_Details!$B60)","v":""},{"$f":"IF(Operating_Limits_Details!$C60=\"\",\"\",Operating_Limits_Details!$C60)","v":""},"",{"$f":"IF(COUNTIF(AO$2:AO38,AO38)=1,AO38,\"\")","v":""},"",""]
[{"$f":"+IF(D39=\"\",\"\",MAX(A$1:A38)+1)","v":""},{"$f":"IF(CMS_Identification!C61=\"\",\"\",CMS_Identification!C61)","v":""},"",{"$f":"IF(COUNTIF(B$1:B39,B39)=1,B39,\"\")","v":""},null,null,null,null,null,null,null,null,null,null,null,null,"NY",null,{"$f":"+IF(X39=\"\",\"\",MAX(S$1:S38)+1)","v":""},{"$f":"IF(Emission_Limits_Details!$B61=\"\",\"\",Emission_Limits_Details!$B61)","v":""},{"$f":"IF(Emission_Limits_Details!$C61=\"\",\"\",Emission_Limits_Details!$C61)","v":""},null,"",{"$f":"IF(COUNTIF(U$2:U39,U39)=1,U39,\"\")","v":""},"","","",null,{"$f":"+IF(AH39=\"\",\"\",MAX(AC$1:AC38)+1)","v":""},{"$f":"IF(CMS_Detail!$B61=\"\",\"\",CMS_Detail!$B61)","v":""},{"$f":"IF(CMS_Detail!$C61=\"\",\"\",CMS_Detail!$C61)","v":""},null,"",{"$f":"IF(COUNTIF(AE$2:AE39,AE39)=1,AE39,\"\")","v":""},"","","",null,{"$f":"+IF(AQ39=\"\",\"\",MAX(AM$1:AM38)+1)","v":""},{"$f":"IF(Operating_Limits_Details!$B61=\"\",\"\",Operating_Limits_Details!$B61)","v":""},{"$f":"IF(Operating_Limits_Details!$C61=\"\",\"\",Operating_Limits_Details!$C61)","v":""},"",{"$f":"IF(COUNTIF(AO$2:AO39,AO39)=1,AO39,\"\")","v":""},"",""]
[{"$f":"+IF(D40=\"\",\"\",MAX(A$1:A39)+1)","v":""},{"$f":"IF(CMS_Identification!C62=\"\",\"\",CMS_Identification!C62)","v":""},"",{"$f":"IF(COUNTIF(B$1:B40,B40)=1,B40,\"\")","v":""},null,null,null,null,null,null,null,null,null,null,null,null,"OH",null,{"$f":"+IF(X40=\"\",\"\",MAX(S$1:S39)+1)","v":""},{"$f":"IF(Emission_Limits_Details!$B62=\"\",\"\",Emission_Limits_Details!$B62)","v":""},{"$f":"IF(Emission_Limits_Details!$C62=\"\",\"\",Emission_Limits_Details!$C62)","v":""},null,"",{"$f":"IF(COUNTIF(U$2:U40,U40)=1,U40,\"\")","v":""},"","","",null,{"$f":"+IF(AH40=\"\",\"\",MAX(AC$1:AC39)+1)","v":""},{"$f":"IF(CMS_Detail!$B62=\"\",\"\",CMS_Detail!$B62)","v":""},{"$f":"IF(CMS_Detail!$C62=\"\",\"\",CMS_Detail!$C62)","v":""},null,"",{"$f":"IF(COUNTIF(AE$2:AE40,AE40)=1,AE40,\"\")","v":""},"","","",null,{"$f":"+IF(AQ40=\"\",\"\",MAX(AM$1:AM39)+1)","v":""},{"$f":"IF(Operating_Limits_Details!$B62=\"\",\"\",Operating_Limits_Details!$B62)","v":""},{"$f":"IF(Operating_Limits_Details!$C62=\"\",\"\",Operating_Limits_Details!$C62)","v":""},"",{"$f":"IF(COUNTIF(AO$2:AO40,AO40)=1,AO40,\"\")","v":""},"",""]
[{"$f":"+IF(D41=\"\",\"\",MAX(A$1:A40)+1)","v":""},{"$f":"IF(CMS_Identification!C63=\"\",\"\",CMS_Identification!C63)","v":""},"",{"$f":"IF(COUNTIF(B$1:B41,B41)=1,B41,\"\")","v":""},null,null,null,null,null,null,null,null,null,null,null,null,"OK",null,{"$f":"+IF(X41=\"\",\"\",MAX(S$1:S40)+1)","v":""},{"$f":"IF(Emission_Limits_Details!$B63=\"\",\"\",Emission_Limits_Details!$B63)","v":""},{"$f":"IF(Emission_Limits_Details!$C63=\"\",\"\",Emission_Limits_Details!$C63)","v":""},null,"",{"$f":"IF(COUNTIF(U$2:U41,U41)=1,U41,\"\")","v":""},"","","",null,{"$f":"+IF(AH41=\"\",\"\",MAX(AC$1:AC40)+1)","v":""},{"$f":"IF(CMS_Detail!$B63=\"\",\"\",CMS_Detail!$B63)","v":""},{"$f":"IF(CMS_Detail!$C63=\"\",\"\",CMS_Detail!$C63)","v":""},null,"",{"$f":"IF(COUNTIF(AE$2:AE41,AE41)=1,AE41,\"\")","v":""},"","","",null,{"$f":"+IF(AQ41=\"\",\"\",MAX(AM$1:AM40)+1)","v":""},{"$f":"IF(Operating_Limits_Details!$B63=\"\",\"\",Operating_Limits_Details!$B63)","v":""},{"$f":"IF(Operating_Limits_Details!$C63=\"\",\"\",Operating_Limits_Details!$C63)","v":""},"",{"$f":"IF(COUNTIF(AO$2:AO41,AO41)=1,AO41,\"\")","v":""},"",""]
[{"$f":"+IF(D42=\"\",\"\",MAX(A$1:A41)+1)","v":""},{"$f":"IF(CMS_Identification!C64=\"\",\"\",CMS_Identification!C64)","v":""},"",{"$f":"IF(COUNTIF(B$1:B42,B42)=1,B42,\"\")","v":""},null,null,null,null,null,null,null,null,null,null,null,null,"OR",null,{"$f":"+IF(X42=\"\",\"\",MAX(S$1:S41)+1)","v":""},{"$f":"IF(Emission_Limits_Details!$B64=\"\",\"\",Emission_Limits_Details!$B64)","v":""},{"$f":"IF(Emission_Limits_Details!$C64=\"\",\"\",Emission_Limits_Details!$C64)","v":""},null,"",{"$f":"IF(COUNTIF(U$2:U42,U42)=1,U42,\"\")","v":""},"","","",null,{"$f":"+IF(AH42=\"\",\"\",MAX(AC$1:AC41)+1)","v":""},{"$f":"IF(CMS_Detail!$B64=\"\",\"\",CMS_Detail!$B64)","v":""},{"$f":"IF(CMS_Detail!$C64=\"\",\"\",CMS_Detail!$C64)","v":""},null,"",{"$f":"IF(COUNTIF(AE$2:AE42,AE42)=1,AE42,\"\")","v":""},"","","",null,{"$f":"+IF(AQ42=\"\",\"\",MAX(AM$1:AM41)+1)","v":""},{"$f":"IF(Operating_Limits_Details!$B64=\"\",\"\",Operating_Limits_Details!$B64)","v":""},{"$f":"IF(Operating_Limits_Details!$C64=\"\",\"\",Operating_Limits_Details!$C64)","v":""},"",{"$f":"IF(COUNTIF(AO$2:AO42,AO42)=1,AO42,\"\")","v":""},"",""]
[{"$f":"+IF(D43=\"\",\"\",MAX(A$1:A42)+1)","v":""},{"$f":"IF(CMS_Identification!C65=\"\",\"\",CMS_Identification!C65)","v":""},"",{"$f":"IF(COUNTIF(B$1:B43,B43)=1,B43,\"\")","v":""},null,null,null,null,null,null,null,null,null,null,null,null,"PA",null,{"$f":"+IF(X43=\"\",\"\",MAX(S$1:S42)+1)","v":""},{"$f":"IF(Emission_Limits_Details!$B65=\"\",\"\",Emission_Limits_Details!$B65)","v":""},{"$f":"IF(Emission_Limits_Details!$C65=\"\",\"\",Emission_Limits_Details!$C65)","v":""},null,"",{"$f":"IF(COUNTIF(U$2:U43,U43)=1,U43,\"\")","v":""},"","","",null,{"$f":"+IF(AH43=\"\",\"\",MAX(AC$1:AC42)+1)","v":""},{"$f":"IF(CMS_Detail!$B65=\"\",\"\",CMS_Detail!$B65)","v":""},{"$f":"IF(CMS_Detail!$C65=\"\",\"\",CMS_Detail!$C65)","v":""},null,"",{"$f":"IF(COUNTIF(AE$2:AE43,AE43)=1,AE43,\"\")","v":""},"","","",null,{"$f":"+IF(AQ43=\"\",\"\",MAX(AM$1:AM42)+1)","v":""},{"$f":"IF(Operating_Limits_Details!$B65=\"\",\"\",Operating_Limits_Details!$B65)","v":""},{"$f":"IF(Operating_Limits_Details!$C65=\"\",\"\",Operating_Limits_Details!$C65)","v":""},"",{"$f":"IF(COUNTIF(AO$2:AO43,AO43)=1,AO43,\"\")","v":""},"",""]
[{"$f":"+IF(D44=\"\",\"\",MAX(A$1:A43)+1)","v":""},{"$f":"IF(CMS_Identification!C66=\"\",\"\",CMS_Identification!C66)","v":""},"",{"$f":"IF(COUNTIF(B$1:B44,B44)=1,B44,\"\")","v":""},null,null,null,null,null,null,null,null,null,null,null,null,"PR",null,{"$f":"+IF(X44=\"\",\"\",MAX(S$1:S43)+1)","v":""},{"$f":"IF(Emission_Limits_Details!$B66=\"\",\"\",Emission_Limits_Details!$B66)","v":""},{"$f":"IF(Emission_Limits_Details!$C66=\"\",\"\",Emission_Limits_Details!$C66)","v":""},null,"",{"$f":"IF(COUNTIF(U$2:U44,U44)=1,U44,\"\")","v":""},"","","",null,{"$f":"+IF(AH44=\"\",\"\",MAX(AC$1:AC43)+1)","v":""},{"$f":"IF(CMS_Detail!$B66=\"\",\"\",CMS_Detail!$B66)","v":""},{"$f":"IF(CMS_Detail!$C66=\"\",\"\",CMS_Detail!$C66)","v":""},null,"",{"$f":"IF(COUNTIF(AE$2:AE44,AE44)=1,AE44,\"\")","v":""},"","","",null,{"$f":"+IF(AQ44=\"\",\"\",MAX(AM$1:AM43)+1)","v":""},{"$f":"IF(Operating_Limits_Details!$B66=\"\",\"\",Operating_Limits_Details!$B66)","v":""},{"$f":"IF(Operating_Limits_Details!$C66=\"\",\"\",Operating_Limits_Details!$C66)","v":""},"",{"$f":"IF(COUNTIF(AO$2:AO44,AO44)=1,AO44,\"\")","v":""},"",""]
[{"$f":"+IF(D45=\"\",\"\",MAX(A$1:A44)+1)","v":""},{"$f":"IF(CMS_Identification!C67=\"\",\"\",CMS_Identification!C67)","v":""},"",{"$f":"IF(COUNTIF(B$1:B45,B45)=1,B45,\"\")","v":""},null,null,null,null,null,null,null,null,null,null,null,null,"RI",null,{"$f":"+IF(X45=\"\",\"\",MAX(S$1:S44)+1)","v":""},{"$f":"IF(Emission_Limits_Details!$B67=\"\",\"\",Emission_Limits_Details!$B67)","v":""},{"$f":"IF(Emission_Limits_Details!$C67=\"\",\"\",Emission_Limits_Details!$C67)","v":""},null,"",{"$f":"IF(COUNTIF(U$2:U45,U45)=1,U45,\"\")","v":""},"","","",null,{"$f":"+IF(AH45=\"\",\"\",MAX(AC$1:AC44)+1)","v":""},{"$f":"IF(CMS_Detail!$B67=\"\",\"\",CMS_Detail!$B67)","v":""},{"$f":"IF(CMS_Detail!$C67=\"\",\"\",CMS_Detail!$C67)","v":""},null,"",{"$f":"IF(COUNTIF(AE$2:AE45,AE45)=1,AE45,\"\")","v":""},"","","",null,{"$f":"+IF(AQ45=\"\",\"\",MAX(AM$1:AM44)+1)","v":""},{"$f":"IF(Operating_Limits_Details!$B67=\"\",\"\",Operating_Limits_Details!$B67)","v":""},{"$f":"IF(Operating_Limits_Details!$C67=\"\",\"\",Operating_Limits_Details!$C67)","v":""},"",{"$f":"IF(COUNTIF(AO$2:AO45,AO45)=1,AO45,\"\")","v":""},"",""]
[{"$f":"+IF(D46=\"\",\"\",MAX(A$1:A45)+1)","v":""},{"$f":"IF(CMS_Identification!C68=\"\",\"\",CMS_Identification!C68)","v":""},"",{"$f":"IF(COUNTIF(B$1:B46,B46)=1,B46,\"\")","v":""},null,null,null,null,null,null,null,null,null,null,null,null,"SC",null,{"$f":"+IF(X46=\"\",\"\",MAX(S$1:S45)+1)","v":""},{"$f":"IF(Emission_Limits_Details!$B68=\"\",\"\",Emission_Limits_Details!$B68)","v":""},{"$f":"IF(Emission_Limits_Details!$C68=\"\",\"\",Emission_Limits_Details!$C68)","v":""},null,"",{"$f":"IF(COUNTIF(U$2:U46,U46)=1,U46,\"\")","v":""},"","","",null,{"$f":"+IF(AH46=\"\",\"\",MAX(AC$1:AC45)+1)","v":""},{"$f":"IF(CMS_Detail!$B68=\"\",\"\",CMS_Detail!$B68)","v":""},{"$f":"IF(CMS_Detail!$C68=\"\",\"\",CMS_Detail!$C68)","v":""},null,"",{"$f":"IF(COUNTIF(AE$2:AE46,AE46)=1,AE46,\"\")","v":""},"","","",null,{"$f":"+IF(AQ46=\"\",\"\",MAX(AM$1:AM45)+1)","v":""},{"$f":"IF(Operating_Limits_Details!$B68=\"\",\"\",Operating_Limits_Details!$B68)","v":""},{"$f":"IF(Operating_Limits_Details!$C68=\"\",\"\",Operating_Limits_Details!$C68)","v":""},"",{"$f":"IF(COUNTIF(AO$2:AO46,AO46)=1,AO46,\"\")","v":""},"",""]
[{"$f":"+IF(D47=\"\",\"\",MAX(A$1:A46)+1)","v":""},{"$f":"IF(CMS_Identification!C69=\"\",\"\",CMS_Identification!C69)","v":""},"",{"$f":"IF(COUNTIF(B$1:B47,B47)=1,B47,\"\")","v":""},null,null,null,null,null,null,null,null,null,null,null,null,"SD",null,{"$f":"+IF(X47=\"\",\"\",MAX(S$1:S46)+1)","v":""},{"$f":"IF(Emission_Limits_Details!$B69=\"\",\"\",Emission_Limits_Details!$B69)","v":""},{"$f":"IF(Emission_Limits_Details!$C69=\"\",\"\",Emission_Limits_Details!$C69)","v":""},null,"",{"$f":"IF(COUNTIF(U$2:U47,U47)=1,U47,\"\")","v":""},"","","",null,{"$f":"+IF(AH47=\"\",\"\",MAX(AC$1:AC46)+1)","v":""},{"$f":"IF(CMS_Detail!$B69=\"\",\"\",CMS_Detail!$B69)","v":""},{"$f":"IF(CMS_Detail!$C69=\"\",\"\",CMS_Detail!$C69)","v":""},null,"",{"$f":"IF(COUNTIF(AE$2:AE47,AE47)=1,AE47,\"\")","v":""},"","","",null,{"$f":"+IF(AQ47=\"\",\"\",MAX(AM$1:AM46)+1)","v":""},{"$f":"IF(Operating_Limits_Details!$B69=\"\",\"\",Operating_Limits_Details!$B69)","v":""},{"$f":"IF(Operating_Limits_Details!$C69=\"\",\"\",Operating_Limits_Details!$C69)","v":""},"",{"$f":"IF(COUNTIF(AO$2:AO47,AO47)=1,AO47,\"\")","v":""},"",""]
[{"$f":"+IF(D48=\"\",\"\",MAX(A$1:A47)+1)","v":""},{"$f":"IF(CMS_Identification!C70=\"\",\"\",CMS_Identification!C70)","v":""},"",{"$f":"IF(COUNTIF(B$1:B48,B48)=1,B48,\"\")","v":""},null,null,null,null,null,null,null,null,null,null,null,null,"TN",null,{"$f":"+IF(X48=\"\",\"\",MAX(S$1:S47)+1)","v":""},{"$f":"IF(Emission_Limits_Details!$B70=\"\",\"\",Emission_Limits_Details!$B70)","v":""},{"$f":"IF(Emission_Limits_Details!$C70=\"\",\"\",Emission_Limits_Details!$C70)","v":""},null,"",{"$f":"IF(COUNTIF(U$2:U48,U48)=1,U48,\"\")","v":""},"","","",null,{"$f":"+IF(AH48=\"\",\"\",MAX(AC$1:AC47)+1)","v":""},{"$f":"IF(CMS_Detail!$B70=\"\",\"\",CMS_Detail!$B70)","v":""},{"$f":"IF(CMS_Detail!$C70=\"\",\"\",CMS_Detail!$C70)","v":""},null,"",{"$f":"IF(COUNTIF(AE$2:AE48,AE48)=1,AE48,\"\")","v":""},"","","",null,{"$f":"+IF(AQ48=\"\",\"\",MAX(AM$1:AM47)+1)","v":""},{"$f":"IF(Operating_Limits_Details!$B70=\"\",\"\",Operating_Limits_Details!$B70)","v":""},{"$f":"IF(Operating_Limits_Details!$C70=\"\",\"\",Operating_Limits_Details!$C70)","v":""},"",{"$f":"IF(COUNTIF(AO$2:AO48,AO48)=1,AO48,\"\")","v":""},"",""]
[{"$f":"+IF(D49=\"\",\"\",MAX(A$1:A48)+1)","v":""},{"$f":"IF(CMS_Identification!C71=\"\",\"\",CMS_Identification!C71)","v":""},"",{"$f":"IF(COUNTIF(B$1:B49,B49)=1,B49,\"\")","v":""},null,null,null,null,null,null,null,null,null,null,null,null,"TX",null,{"$f":"+IF(X49=\"\",\"\",MAX(S$1:S48)+1)","v":""},{"$f":"IF(Emission_Limits_Details!$B71=\"\",\"\",Emission_Limits_Details!$B71)","v":""},{"$f":"IF(Emission_Limits_Details!$C71=\"\",\"\",Emission_Limits_Details!$C71)","v":""},null,"",{"$f":"IF(COUNTIF(U$2:U49,U49)=1,U49,\"\")","v":""},"","","",null,{"$f":"+IF(AH49=\"\",\"\",MAX(AC$1:AC48)+1)","v":""},{"$f":"IF(CMS_Detail!$B71=\"\",\"\",CMS_Detail!$B71)","v":""},{"$f":"IF(CMS_Detail!$C71=\"\",\"\",CMS_Detail!$C71)","v":""},null,"",{"$f":"IF(COUNTIF(AE$2:AE49,AE49)=1,AE49,\"\")","v":""},"","","",null,{"$f":"+IF(AQ49=\"\",\"\",MAX(AM$1:AM48)+1)","v":""},{"$f":"IF(Operating_Limits_Details!$B71=\"\",\"\",Operating_Limits_Details!$B71)","v":""},{"$f":"IF(Operating_Limits_Details!$C71=\"\",\"\",Operating_Limits_Details!$C71)","v":""},"",{"$f":"IF(COUNTIF(AO$2:AO49,AO49)=1,AO49,\"\")","v":""},"",""]
[{"$f":"+IF(D50=\"\",\"\",MAX(A$1:A49)+1)","v":""},{"$f":"IF(CMS_Identification!C72=\"\",\"\",CMS_Identification!C72)","v":""},"",{"$f":"IF(COUNTIF(B$1:B50,B50)=1,B50,\"\")","v":""},null,null,null,null,null,null,null,null,null,null,null,null,"UT",null,{"$f":"+IF(X50=\"\",\"\",MAX(S$1:S49)+1)","v":""},{"$f":"IF(Emission_Limits_Details!$B72=\"\",\"\",Emission_Limits_Details!$B72)","v":""},{"$f":"IF(Emission_Limits_Details!$C72=\"\",\"\",Emission_Limits_Details!$C72)","v":""},null,"",{"$f":"IF(COUNTIF(U$2:U50,U50)=1,U50,\"\")","v":""},"","","",null,{"$f":"+IF(AH50=\"\",\"\",MAX(AC$1:AC49)+1)","v":""},{"$f":"IF(CMS_Detail!$B72=\"\",\"\",CMS_Detail!$B72)","v":""},{"$f":"IF(CMS_Detail!$C72=\"\",\"\",CMS_Detail!$C72)","v":""},null,"",{"$f":"IF(COUNTIF(AE$2:AE50,AE50)=1,AE50,\"\")","v":""},"","","",null,{"$f":"+IF(AQ50=\"\",\"\",MAX(AM$1:AM49)+1)","v":""},{"$f":"IF(Operating_Limits_Details!$B72=\"\",\"\",Operating_Limits_Details!$B72)","v":""},{"$f":"IF(Operating_Limits_Details!$C72=\"\",\"\",Operating_Limits_Details!$C72)","v":""},"",{"$f":"IF(COUNTIF(AO$2:AO50,AO50)=1,AO50,\"\")","v":""},"",""]
[{"$f":"+IF(D51=\"\",\"\",MAX(A$1:A50)+1)","v":""},{"$f":"IF(CMS_Identification!C73=\"\",\"\",CMS_Identification!C73)","v":""},"",{"$f":"IF(COUNTIF(B$1:B51,B51)=1,B51,\"\")","v":""},null,null,null,null,null,null,null,null,null,null,null,null,"VA",null,{"$f":"+IF(X51=\"\",\"\",MAX(S$1:S50)+1)","v":""},{"$f":"IF(Emission_Limits_Details!$B73=\"\",\"\",Emission_Limits_Details!$B73)","v":""},{"$f":"IF(Emission_Limits_Details!$C73=\"\",\"\",Emission_Limits_Details!$C73)","v":""},null,"",{"$f":"IF(COUNTIF(U$2:U51,U51)=1,U51,\"\")","v":""},"","","",null,{"$f":"+IF(AH51=\"\",\"\",MAX(AC$1:AC50)+1)","v":""},{"$f":"IF(CMS_Detail!$B73=\"\",\"\",CMS_Detail!$B73)","v":""},{"$f":"IF(CMS_Detail!$C73=\"\",\"\",CMS_Detail!$C73)","v":""},null,"",{"$f":"IF(COUNTIF(AE$2:AE51,AE51)=1,AE51,\"\")","v":""},"","","",null,{"$f":"+IF(AQ51=\"\",\"\",MAX(AM$1:AM50)+1)","v":""},{"$f":"IF(Operating_Limits_Details!$B73=\"\",\"\",Operating_Limits_Details!$B73)","v":""},{"$f":"IF(Operating_Limits_Details!$C73=\"\",\"\",Operating_Limits_Details!$C73)","v":""},"",{"$f":"IF(COUNTIF(AO$2:AO51,AO51)=1,AO51,\"\")","v":""},"",""]
[{"$f":"+IF(D52=\"\",\"\",MAX(A$1:A51)+1)","v":""},{"$f":"IF(CMS_Identification!C74=\"\",\"\",CMS_Identification!C74)","v":""},"",{"$f":"IF(COUNTIF(B$1:B52,B52)=1,B52,\"\")","v":""},null,null,null,null,null,null,null,null,null,null,null,null,"VI",null,{"$f":"+IF(X52=\"\",\"\",MAX(S$1:S51)+1)","v":""},{"$f":"IF(Emission_Limits_Details!$B74=\"\",\"\",Emission_Limits_Details!$B74)","v":""},{"$f":"IF(Emission_Limits_Details!$C74=\"\",\"\",Emission_Limits_Details!$C74)","v":""},null,"",{"$f":"IF(COUNTIF(U$2:U52,U52)=1,U52,\"\")","v":""},"","","",null,{"$f":"+IF(AH52=\"\",\"\",MAX(AC$1:AC51)+1)","v":""},{"$f":"IF(CMS_Detail!$B74=\"\",\"\",CMS_Detail!$B74)","v":""},{"$f":"IF(CMS_Detail!$C74=\"\",\"\",CMS_Detail!$C74)","v":""},null,"",{"$f":"IF(COUNTIF(AE$2:AE52,AE52)=1,AE52,\"\")","v":""},"","","",null,{"$f":"+IF(AQ52=\"\",\"\",MAX(AM$1:AM51)+1)","v":""},{"$f":"IF(Operating_Limits_Details!$B74=\"\",\"\",Operating_Limits_Details!$B74)","v":""},{"$f":"IF(Operating_Limits_Details!$C74=\"\",\"\",Operating_Limits_Details!$C74)","v":""},"",{"$f":"IF(COUNTIF(AO$2:AO52,AO52)=1,AO52,\"\")","v":""},"",""]
[{"$f":"+IF(D53=\"\",\"\",MAX(A$1:A52)+1)","v":""},{"$f":"IF(CMS_Identification!C75=\"\",\"\",CMS_Identification!C75)","v":""},"",{"$f":"IF(COUNTIF(B$1:B53,B53)=1,B53,\"\")","v":""},null,null,null,null,null,null,null,null,null,null,null,null,"VT",null,{"$f":"+IF(X53=\"\",\"\",MAX(S$1:S52)+1)","v":""},{"$f":"IF(Emission_Limits_Details!$B75=\"\",\"\",Emission_Limits_Details!$B75)","v":""},{"$f":"IF(Emission_Limits_Details!$C75=\"\",\"\",Emission_Limits_Details!$C75)","v":""},null,"",{"$f":"IF(COUNTIF(U$2:U53,U53)=1,U53,\"\")","v":""},"","","",null,{"$f":"+IF(AH53=\"\",\"\",MAX(AC$1:AC52)+1)","v":""},{"$f":"IF(CMS_Detail!$B75=\"\",\"\",CMS_Detail!$B75)","v":""},{"$f":"IF(CMS_Detail!$C75=\"\",\"\",CMS_Detail!$C75)","v":""},null,"",{"$f":"IF(COUNTIF(AE$2:AE53,AE53)=1,AE53,\"\")","v":""},"","","",null,{"$f":"+IF(AQ53=\"\",\"\",MAX(AM$1:AM52)+1)","v":""},{"$f":"IF(Operating_Limits_Details!$B75=\"\",\"\",Operating_Limits_Details!$B75)","v":""},{"$f":"IF(Operating_Limits_Details!$C75=\"\",\"\",Operating_Limits_Details!$C75)","v":""},"",{"$f":"IF(COUNTIF(AO$2:AO53,AO53)=1,AO53,\"\")","v":""},"",""]
[{"$f":"+IF(D54=\"\",\"\",MAX(A$1:A53)+1)","v":""},{"$f":"IF(CMS_Identification!C76=\"\",\"\",CMS_Identification!C76)","v":""},"",{"$f":"IF(COUNTIF(B$1:B54,B54)=1,B54,\"\")","v":""},null,null,null,null,null,null,null,null,null,null,null,null,"WA",null,{"$f":"+IF(X54=\"\",\"\",MAX(S$1:S53)+1)","v":""},{"$f":"IF(Emission_Limits_Details!$B76=\"\",\"\",Emission_Limits_Details!$B76)","v":""},{"$f":"IF(Emission_Limits_Details!$C76=\"\",\"\",Emission_Limits_Details!$C76)","v":""},null,"",{"$f":"IF(COUNTIF(U$2:U54,U54)=1,U54,\"\")","v":""},"","","",null,{"$f":"+IF(AH54=\"\",\"\",MAX(AC$1:AC53)+1)","v":""},{"$f":"IF(CMS_Detail!$B76=\"\",\"\",CMS_Detail!$B76)","v":""},{"$f":"IF(CMS_Detail!$C76=\"\",\"\",CMS_Detail!$C76)","v":""},null,"",{"$f":"IF(COUNTIF(AE$2:AE54,AE54)=1,AE54,\"\")","v":""},"","","",null,{"$f":"+IF(AQ54=\"\",\"\",MAX(AM$1:AM53)+1)","v":""},{"$f":"IF(Operating_Limits_Details!$B76=\"\",\"\",Operating_Limits_Details!$B76)","v":""},{"$f":"IF(Operating_Limits_Details!$C76=\"\",\"\",Operating_Limits_Details!$C76)","v":""},"",{"$f":"IF(COUNTIF(AO$2:AO54,AO54)=1,AO54,\"\")","v":""},"",""]
[{"$f":"+IF(D55=\"\",\"\",MAX(A$1:A54)+1)","v":""},{"$f":"IF(CMS_Identification!C77=\"\",\"\",CMS_Identification!C77)","v":""},"",{"$f":"IF(COUNTIF(B$1:B55,B55)=1,B55,\"\")","v":""},null,null,null,null,null,null,null,null,null,null,null,null,"WI",null,{"$f":"+IF(X55=\"\",\"\",MAX(S$1:S54)+1)","v":""},{"$f":"IF(Emission_Limits_Details!$B77=\"\",\"\",Emission_Limits_Details!$B77)","v":""},{"$f":"IF(Emission_Limits_Details!$C77=\"\",\"\",Emission_Limits_Details!$C77)","v":""},null,"",{"$f":"IF(COUNTIF(U$2:U55,U55)=1,U55,\"\")","v":""},"","","",null,{"$f":"+IF(AH55=\"\",\"\",MAX(AC$1:AC54)+1)","v":""},{"$f":"IF(CMS_Detail!$B77=\"\",\"\",CMS_Detail!$B77)","v":""},{"$f":"IF(CMS_Detail!$C77=\"\",\"\",CMS_Detail!$C77)","v":""},null,"",{"$f":"IF(COUNTIF(AE$2:AE55,AE55)=1,AE55,\"\")","v":""},"","","",null,{"$f":"+IF(AQ55=\"\",\"\",MAX(AM$1:AM54)+1)","v":""},{"$f":"IF(Operating_Limits_Details!$B77=\"\",\"\",Operating_Limits_Details!$B77)","v":""},{"$f":"IF(Operating_Limits_Details!$C77=\"\",\"\",Operating_Limits_Details!$C77)","v":""},"",{"$f":"IF(COUNTIF(AO$2:AO55,AO55)=1,AO55,\"\")","v":""},"",""]
[{"$f":"+IF(D56=\"\",\"\",MAX(A$1:A55)+1)","v":""},{"$f":"IF(CMS_Identification!C78=\"\",\"\",CMS_Identification!C78)","v":""},"",{"$f":"IF(COUNTIF(B$1:B56,B56)=1,B56,\"\")","v":""},null,null,null,null,null,null,null,null,null,null,null,null,"WV",null,{"$f":"+IF(X56=\"\",\"\",MAX(S$1:S55)+1)","v":""},{"$f":"IF(Emission_Limits_Details!$B78=\"\",\"\",Emission_Limits_Details!$B78)","v":""},{"$f":"IF(Emission_Limits_Details!$C78=\"\",\"\",Emission_Limits_Details!$C78)","v":""},null,"",{"$f":"IF(COUNTIF(U$2:U56,U56)=1,U56,\"\")","v":""},"","","",null,{"$f":"+IF(AH56=\"\",\"\",MAX(AC$1:AC55)+1)","v":""},{"$f":"IF(CMS_Detail!$B78=\"\",\"\",CMS_Detail!$B78)","v":""},{"$f":"IF(CMS_Detail!$C78=\"\",\"\",CMS_Detail!$C78)","v":""},null,"",{"$f":"IF(COUNTIF(AE$2:AE56,AE56)=1,AE56,\"\")","v":""},"","","",null,{"$f":"+IF(AQ56=\"\",\"\",MAX(AM$1:AM55)+1)","v":""},{"$f":"IF(Operating_Limits_Details!$B78=\"\",\"\",Operating_Limits_Details!$B78)","v":""},{"$f":"IF(Operating_Limits_Details!$C78=\"\",\"\",Operating_Limits_Details!$C78)","v":""},"",{"$f":"IF(COUNTIF(AO$2:AO56,AO56)=1,AO56,\"\")","v":""},"",""]
[{"$f":"+IF(D57=\"\",\"\",MAX(A$1:A56)+1)","v":""},{"$f":"IF(CMS_Identification!C79=\"\",\"\",CMS_Identification!C79)","v":""},"",{"$f":"IF(COUNTIF(B$1:B57,B57)=1,B57,\"\")","v":""},null,null,null,null,null,null,null,null,null,null,null,null,"WY",null,{"$f":"+IF(X57=\"\",\"\",MAX(S$1:S56)+1)","v":""},{"$f":"IF(Emission_Limits_Details!$B79=\"\",\"\",Emission_Limits_Details!$B79)","v":""},{"$f":"IF(Emission_Limits_Details!$C79=\"\",\"\",Emission_Limits_Details!$C79)","v":""},null,"",{"$f":"IF(COUNTIF(U$2:U57,U57)=1,U57,\"\")","v":""},"","","",null,{"$f":"+IF(AH57=\"\",\"\",MAX(AC$1:AC56)+1)","v":""},{"$f":"IF(CMS_Detail!$B79=\"\",\"\",CMS_Detail!$B79)","v":""},{"$f":"IF(CMS_Detail!$C79=\"\",\"\",CMS_Detail!$C79)","v":""},null,"",{"$f":"IF(COUNTIF(AE$2:AE57,AE57)=1,AE57,\"\")","v":""},"","","",null,{"$f":"+IF(AQ57=\"\",\"\",MAX(AM$1:AM56)+1)","v":""},{"$f":"IF(Operating_Limits_Details!$B79=\"\",\"\",Operating_Limits_Details!$B79)","v":""},{"$f":"IF(Operating_Limits_Details!$C79=\"\",\"\",Operating_Limits_Details!$C79)","v":""},"",{"$f":"IF(COUNTIF(AO$2:AO57,AO57)=1,AO57,\"\")","v":""},"",""]
[{"$f":"+IF(D58=\"\",\"\",MAX(A$1:A57)+1)","v":""},{"$f":"IF(CMS_Identification!C80=\"\",\"\",CMS_Identification!C80)","v":""},"",{"$f":"IF(COUNTIF(B$1:B58,B58)=1,B58,\"\")","v":""},null,null,null,null,null,null,null,null,null,null,null,null,null,null,{"$f":"+IF(X58=\"\",\"\",MAX(S$1:S57)+1)","v":""},{"$f":"IF(Emission_Limits_Details!$B80=\"\",\"\",Emission_Limits_Details!$B80)","v":""},{"$f":"IF(Emission_Limits_Details!$C80=\"\",\"\",Emission_Limits_Details!$C80)","v":""},null,"",{"$f":"IF(COUNTIF(U$2:U58,U58)=1,U58,\"\")","v":""},"","","",null,{"$f":"+IF(AH58=\"\",\"\",MAX(AC$1:AC57)+1)","v":""},{"$f":"IF(CMS_Detail!$B80=\"\",\"\",CMS_Detail!$B80)","v":""},{"$f":"IF(CMS_Detail!$C80=\"\",\"\",CMS_Detail!$C80)","v":""},null,"",{"$f":"IF(COUNTIF(AE$2:AE58,AE58)=1,AE58,\"\")","v":""},"","","",null,{"$f":"+IF(AQ58=\"\",\"\",MAX(AM$1:AM57)+1)","v":""},{"$f":"IF(Operating_Limits_Details!$B80=\"\",\"\",Operating_Limits_Details!$B80)","v":""},{"$f":"IF(Operating_Limits_Details!$C80=\"\",\"\",Operating_Limits_Details!$C80)","v":""},"",{"$f":"IF(COUNTIF(AO$2:AO58,AO58)=1,AO58,\"\")","v":""},"",""]
[{"$f":"+IF(D59=\"\",\"\",MAX(A$1:A58)+1)","v":""},{"$f":"IF(CMS_Identification!C81=\"\",\"\",CMS_Identification!C81)","v":""},"",{"$f":"IF(COUNTIF(B$1:B59,B59)=1,B59,\"\")","v":""},null,null,null,null,null,null,null,null,null,null,null,null,null,null,{"$f":"+IF(X59=\"\",\"\",MAX(S$1:S58)+1)","v":""},{"$f":"IF(Emission_Limits_Details!$B81=\"\",\"\",Emission_Limits_Details!$B81)","v":""},{"$f":"IF(Emission_Limits_Details!$C81=\"\",\"\",Emission_Limits_Details!$C81)","v":""},null,"",{"$f":"IF(COUNTIF(U$2:U59,U59)=1,U59,\"\")","v":""},"","","",null,{"$f":"+IF(AH59=\"\",\"\",MAX(AC$1:AC58)+1)","v":""},{"$f":"IF(CMS_Detail!$B81=\"\",\"\",CMS_Detail!$B81)","v":""},{"$f":"IF(CMS_Detail!$C81=\"\",\"\",CMS_Detail!$C81)","v":""},null,"",{"$f":"IF(COUNTIF(AE$2:AE59,AE59)=1,AE59,\"\")","v":""},"","","",null,{"$f":"+IF(AQ59=\"\",\"\",MAX(AM$1:AM58)+1)","v":""},{"$f":"IF(Operating_Limits_Details!$B81=\"\",\"\",Operating_Limits_Details!$B81)","v":""},{"$f":"IF(Operating_Limits_Details!$C81=\"\",\"\",Operating_Limits_Details!$C81)","v":""},"",{"$f":"IF(COUNTIF(AO$2:AO59,AO59)=1,AO59,\"\")","v":""},"",""]
[{"$f":"+IF(D60=\"\",\"\",MAX(A$1:A59)+1)","v":""},{"$f":"IF(CMS_Identification!C82=\"\",\"\",CMS_Identification!C82)","v":""},"",{"$f":"IF(COUNTIF(B$1:B60,B60)=1,B60,\"\")","v":""},null,null,null,null,null,null,null,null,null,null,null,null,null,null,{"$f":"+IF(X60=\"\",\"\",MAX(S$1:S59)+1)","v":""},{"$f":"IF(Emission_Limits_Details!$B82=\"\",\"\",Emission_Limits_Details!$B82)","v":""},{"$f":"IF(Emission_Limits_Details!$C82=\"\",\"\",Emission_Limits_Details!$C82)","v":""},null,"",{"$f":"IF(COUNTIF(U$2:U60,U60)=1,U60,\"\")","v":""},"","","",null,{"$f":"+IF(AH60=\"\",\"\",MAX(AC$1:AC59)+1)","v":""},{"$f":"IF(CMS_Detail!$B82=\"\",\"\",CMS_Detail!$B82)","v":""},{"$f":"IF(CMS_Detail!$C82=\"\",\"\",CMS_Detail!$C82)","v":""},null,"",{"$f":"IF(COUNTIF(AE$2:AE60,AE60)=1,AE60,\"\")","v":""},"","","",null,{"$f":"+IF(AQ60=\"\",\"\",MAX(AM$1:AM59)+1)","v":""},{"$f":"IF(Operating_Limits_Details!$B82=\"\",\"\",Operating_Limits_Details!$B82)","v":""},{"$f":"IF(Operating_Limits_Details!$C82=\"\",\"\",Operating_Limits_Details!$C82)","v":""},"",{"$f":"IF(COUNTIF(AO$2:AO60,AO60)=1,AO60,\"\")","v":""},"",""]
[{"$f":"+IF(D61=\"\",\"\",MAX(A$1:A60)+1)","v":""},{"$f":"IF(CMS_Identification!C83=\"\",\"\",CMS_Identification!C83)","v":""},"",{"$f":"IF(COUNTIF(B$1:B61,B61)=1,B61,\"\")","v":""},null,null,null,null,null,null,null,null,null,null,null,null,null,null,{"$f":"+IF(X61=\"\",\"\",MAX(S$1:S60)+1)","v":""},{"$f":"IF(Emission_Limits_Details!$B83=\"\",\"\",Emission_Limits_Details!$B83)","v":""},{"$f":"IF(Emission_Limits_Details!$C83=\"\",\"\",Emission_Limits_Details!$C83)","v":""},null,"",{"$f":"IF(COUNTIF(U$2:U61,U61)=1,U61,\"\")","v":""},"","","",null,{"$f":"+IF(AH61=\"\",\"\",MAX(AC$1:AC60)+1)","v":""},{"$f":"IF(CMS_Detail!$B83=\"\",\"\",CMS_Detail!$B83)","v":""},{"$f":"IF(CMS_Detail!$C83=\"\",\"\",CMS_Detail!$C83)","v":""},null,"",{"$f":"IF(COUNTIF(AE$2:AE61,AE61)=1,AE61,\"\")","v":""},"","","",null,{"$f":"+IF(AQ61=\"\",\"\",MAX(AM$1:AM60)+1)","v":""},{"$f":"IF(Operating_Limits_Details!$B83=\"\",\"\",Operating_Limits_Details!$B83)","v":""},{"$f":"IF(Operating_Limits_Details!$C83=\"\",\"\",Operating_Limits_Details!$C83)","v":""},"",{"$f":"IF(COUNTIF(AO$2:AO61,AO61)=1,AO61,\"\")","v":""},"",""]
[{"$f":"+IF(D62=\"\",\"\",MAX(A$1:A61)+1)","v":""},{"$f":"IF(CMS_Identification!C84=\"\",\"\",CMS_Identification!C84)","v":""},"",{"$f":"IF(COUNTIF(B$1:B62,B62)=1,B62,\"\")","v":""},null,null,null,null,null,null,null,null,null,null,null,null,null,null,{"$f":"+IF(X62=\"\",\"\",MAX(S$1:S61)+1)","v":""},{"$f":"IF(Emission_Limits_Details!$B84=\"\",\"\",Emission_Limits_Details!$B84)","v":""},{"$f":"IF(Emission_Limits_Details!$C84=\"\",\"\",Emission_Limits_Details!$C84)","v":""},null,"",{"$f":"IF(COUNTIF(U$2:U62,U62)=1,U62,\"\")","v":""},"","","",null,{"$f":"+IF(AH62=\"\",\"\",MAX(AC$1:AC61)+1)","v":""},{"$f":"IF(CMS_Detail!$B84=\"\",\"\",CMS_Detail!$B84)","v":""},{"$f":"IF(CMS_Detail!$C84=\"\",\"\",CMS_Detail!$C84)","v":""},null,"",{"$f":"IF(COUNTIF(AE$2:AE62,AE62)=1,AE62,\"\")","v":""},"","","",null,{"$f":"+IF(AQ62=\"\",\"\",MAX(AM$1:AM61)+1)","v":""},{"$f":"IF(Operating_Limits_Details!$B84=\"\",\"\",Operating_Limits_Details!$B84)","v":""},{"$f":"IF(Operating_Limits_Details!$C84=\"\",\"\",Operating_Limits_Details!$C84)","v":""},"",{"$f":"IF(COUNTIF(AO$2:AO62,AO62)=1,AO62,\"\")","v":""},"",""]
[{"$f":"+IF(D63=\"\",\"\",MAX(A$1:A62)+1)","v":""},{"$f":"IF(CMS_Identification!C85=\"\",\"\",CMS_Identification!C85)","v":""},"",{"$f":"IF(COUNTIF(B$1:B63,B63)=1,B63,\"\")","v":""},null,null,null,null,null,null,null,null,null,null,null,null,null,null,{"$f":"+IF(X63=\"\",\"\",MAX(S$1:S62)+1)","v":""},{"$f":"IF(Emission_Limits_Details!$B85=\"\",\"\",Emission_Limits_Details!$B85)","v":""},{"$f":"IF(Emission_Limits_Details!$C85=\"\",\"\",Emission_Limits_Details!$C85)","v":""},null,"",{"$f":"IF(COUNTIF(U$2:U63,U63)=1,U63,\"\")","v":""},"","","",null,{"$f":"+IF(AH63=\"\",\"\",MAX(AC$1:AC62)+1)","v":""},{"$f":"IF(CMS_Detail!$B85=\"\",\"\",CMS_Detail!$B85)","v":""},{"$f":"IF(CMS_Detail!$C85=\"\",\"\",CMS_Detail!$C85)","v":""},null,"",{"$f":"IF(COUNTIF(AE$2:AE63,AE63)=1,AE63,\"\")","v":""},"","","",null,{"$f":"+IF(AQ63=\"\",\"\",MAX(AM$1:AM62)+1)","v":""},{"$f":"IF(Operating_Limits_Details!$B85=\"\",\"\",Operating_Limits_Details!$B85)","v":""},{"$f":"IF(Operating_Limits_Details!$C85=\"\",\"\",Operating_Limits_Details!$C85)","v":""},"",{"$f":"IF(COUNTIF(AO$2:AO63,AO63)=1,AO63,\"\")","v":""},"",""]
[{"$f":"+IF(D64=\"\",\"\",MAX(A$1:A63)+1)","v":""},{"$f":"IF(CMS_Identification!C86=\"\",\"\",CMS_Identification!C86)","v":""},"",{"$f":"IF(COUNTIF(B$1:B64,B64)=1,B64,\"\")","v":""},null,null,null,null,null,null,null,null,null,null,null,null,null,null,{"$f":"+IF(X64=\"\",\"\",MAX(S$1:S63)+1)","v":""},{"$f":"IF(Emission_Limits_Details!$B86=\"\",\"\",Emission_Limits_Details!$B86)","v":""},{"$f":"IF(Emission_Limits_Details!$C86=\"\",\"\",Emission_Limits_Details!$C86)","v":""},null,"",{"$f":"IF(COUNTIF(U$2:U64,U64)=1,U64,\"\")","v":""},"","","",null,{"$f":"+IF(AH64=\"\",\"\",MAX(AC$1:AC63)+1)","v":""},{"$f":"IF(CMS_Detail!$B86=\"\",\"\",CMS_Detail!$B86)","v":""},{"$f":"IF(CMS_Detail!$C86=\"\",\"\",CMS_Detail!$C86)","v":""},null,"",{"$f":"IF(COUNTIF(AE$2:AE64,AE64)=1,AE64,\"\")","v":""},"","","",null,{"$f":"+IF(AQ64=\"\",\"\",MAX(AM$1:AM63)+1)","v":""},{"$f":"IF(Operating_Limits_Details!$B86=\"\",\"\",Operating_Limits_Details!$B86)","v":""},{"$f":"IF(Operating_Limits_Details!$C86=\"\",\"\",Operating_Limits_Details!$C86)","v":""},"",{"$f":"IF(COUNTIF(AO$2:AO64,AO64)=1,AO64,\"\")","v":""},"",""]
[{"$f":"+IF(D65=\"\",\"\",MAX(A$1:A64)+1)","v":""},{"$f":"IF(CMS_Identification!C87=\"\",\"\",CMS_Identification!C87)","v":""},"",{"$f":"IF(COUNTIF(B$1:B65,B65)=1,B65,\"\")","v":""},null,null,null,null,null,null,null,null,null,null,null,null,null,null,{"$f":"+IF(X65=\"\",\"\",MAX(S$1:S64)+1)","v":""},{"$f":"IF(Emission_Limits_Details!$B87=\"\",\"\",Emission_Limits_Details!$B87)","v":""},{"$f":"IF(Emission_Limits_Details!$C87=\"\",\"\",Emission_Limits_Details!$C87)","v":""},null,"",{"$f":"IF(COUNTIF(U$2:U65,U65)=1,U65,\"\")","v":""},"","","",null,{"$f":"+IF(AH65=\"\",\"\",MAX(AC$1:AC64)+1)","v":""},{"$f":"IF(CMS_Detail!$B87=\"\",\"\",CMS_Detail!$B87)","v":""},{"$f":"IF(CMS_Detail!$C87=\"\",\"\",CMS_Detail!$C87)","v":""},null,"",{"$f":"IF(COUNTIF(AE$2:AE65,AE65)=1,AE65,\"\")","v":""},"","","",null,{"$f":"+IF(AQ65=\"\",\"\",MAX(AM$1:AM64)+1)","v":""},{"$f":"IF(Operating_Limits_Details!$B87=\"\",\"\",Operating_Limits_Details!$B87)","v":""},{"$f":"IF(Operating_Limits_Details!$C87=\"\",\"\",Operating_Limits_Details!$C87)","v":""},"",{"$f":"IF(COUNTIF(AO$2:AO65,AO65)=1,AO65,\"\")","v":""},"",""]
[{"$f":"+IF(D66=\"\",\"\",MAX(A$1:A65)+1)","v":""},{"$f":"IF(CMS_Identification!C88=\"\",\"\",CMS_Identification!C88)","v":""},{"$f":"+IFERROR(INDEX($B$2:$B$100,MATCH(ROW()-ROW($C$1),$A$2:$A$100,0)),\"\")","v":""},{"$f":"IF(COUNTIF(B$1:B66,B66)=1,B66,\"\")","v":""},null,null,null,null,null,null,null,null,null,null,null,null,null,null,{"$f":"+IF(X66=\"\",\"\",MAX(S$1:S65)+1)","v":""},{"$f":"IF(Emission_Limits_Details!$B88=\"\",\"\",Emission_Limits_Details!$B88)","v":""},{"$f":"IF(Emission_Limits_Details!$C88=\"\",\"\",Emission_Limits_Details!$C88)","v":""},null,"",{"$f":"IF(COUNTIF(U$2:U66,U66)=1,U66,\"\")","v":""},"","","",null,{"$f":"+IF(AH66=\"\",\"\",MAX(AC$1:AC65)+1)","v":""},{"$f":"IF(CMS_Detail!$B88=\"\",\"\",CMS_Detail!$B88)","v":""},{"$f":"IF(CMS_Detail!$C88=\"\",\"\",CMS_Detail!$C88)","v":""},null,"",{"$f":"IF(COUNTIF(AE$2:AE66,AE66)=1,AE66,\"\")","v":""},"","","",null,{"$f":"+IF(AQ66=\"\",\"\",MAX(AM$1:AM65)+1)","v":""},{"$f":"IF(Operating_Limits_Details!$B88=\"\",\"\",Operating_Limits_Details!$B88)","v":""},{"$f":"IF(Operating_Limits_Details!$C88=\"\",\"\",Operating_Limits_Details!$C88)","v":""},"",{"$f":"IF(COUNTIF(AO$2:AO66,AO66)=1,AO66,\"\")","v":""},"",""]
[{"$f":"+IF(D67=\"\",\"\",MAX(A$1:A66)+1)","v":""},{"$f":"IF(CMS_Identification!C89=\"\",\"\",CMS_Identification!C89)","v":""},"",{"$f":"IF(COUNTIF(B$1:B67,B67)=1,B67,\"\")","v":""},null,null,null,null,null,null,null,null,null,null,null,null,null,null,{"$f":"+IF(X67=\"\",\"\",MAX(S$1:S66)+1)","v":""},{"$f":"IF(Emission_Limits_Details!$B89=\"\",\"\",Emission_Limits_Details!$B89)","v":""},{"$f":"IF(Emission_Limits_Details!$C89=\"\",\"\",Emission_Limits_Details!$C89)","v":""},null,{"$f":"T67&U67&V67","v":""},{"$f":"IF(COUNTIF(U$2:U67,U67)=1,U67,\"\")","v":""},{"$f":"+IFERROR(INDEX(T$2:T$955,MATCH(ROW()-ROW(X$1),S$2:S$955,0)),\"\")","v":""},{"$f":"+IFERROR(INDEX(U$2:U$955,MATCH(ROW()-ROW(X$1),S$2:S$955,0)),\"\")","v":""},{"$f":"+IFERROR(INDEX(V$2:V$955,MATCH(ROW()-ROW(Y$1),S$2:S$955,0)),\"\")","v":""},null,{"$f":"+IF(AH67=\"\",\"\",MAX(AC$1:AC66)+1)","v":""},{"$f":"IF(CMS_Detail!$B89=\"\",\"\",CMS_Detail!$B89)","v":""},{"$f":"IF(CMS_Detail!$C89=\"\",\"\",CMS_Detail!$C89)","v":""},null,{"$f":"AD67&AE67&AF67","v":""},{"$f":"IF(COUNTIF(AE$2:AE67,AE67)=1,AE67,\"\")","v":""},{"$f":"+IFERROR(INDEX(AD$2:AD$955,MATCH(ROW()-ROW(AH$1),AC$2:AC$955,0)),\"\")","v":""},{"$f":"+IFERROR(INDEX(AE$2:AE$955,MATCH(ROW()-ROW(AH$1),AC$2:AC$955,0)),\"\")","v":""},{"$f":"+IFERROR(INDEX(AF$2:AF$955,MATCH(ROW()-ROW(AI$1),AC$2:AC$955,0)),\"\")","v":""},null,{"$f":"+IF(AQ67=\"\",\"\",MAX(AM$1:AM66)+1)","v":""},{"$f":"IF(Operating_Limits_Details!$B89=\"\",\"\",Operating_Limits_Details!$B89)","v":""},{"$f":"IF(Operating_Limits_Details!$C89=\"\",\"\",Operating_Limits_Details!$C89)","v":""},{"$f":"AN67&AO67","v":""},{"$f":"IF(COUNTIF(AO$2:AO67,AO67)=1,AO67,\"\")","v":""},{"$f":"+IFERROR(INDEX(AN$2:AN$955,MATCH(ROW()-ROW(AQ$1),AM$2:AM$955,0)),\"\")","v":""},{"$f":"+IFERROR(INDEX(AO$2:AO$955,MATCH(ROW()-ROW(AQ$1),AM$2:AM$955,0)),\"\")","v":""}]
[{"$f":"+IF(D68=\"\",\"\",MAX(A$1:A67)+1)","v":""},{"$f":"IF(CMS_Identification!C90=\"\",\"\",CMS_Identification!C90)","v":""},"",{"$f":"IF(COUNTIF(B$1:B68,B68)=1,B68,\"\")","v":""},null,null,null,null,null,null,null,null,null,null,null,null,null,null,{"$f":"+IF(X68=\"\",\"\",MAX(S$1:S67)+1)","v":""},{"$f":"IF(Emission_Limits_Details!$B90=\"\",\"\",Emission_Limits_Details!$B90)","v":""},{"$f":"IF(Emission_Limits_Details!$C90=\"\",\"\",Emission_Limits_Details!$C90)","v":""},null,"",{"$f":"IF(COUNTIF(U$2:U68,U68)=1,U68,\"\")","v":""},"","","",null,{"$f":"+IF(AH68=\"\",\"\",MAX(AC$1:AC67)+1)","v":""},{"$f":"IF(CMS_Detail!$B90=\"\",\"\",CMS_Detail!$B90)","v":""},{"$f":"IF(CMS_Detail!$C90=\"\",\"\",CMS_Detail!$C90)","v":""},null,"",{"$f":"IF(COUNTIF(AE$2:AE68,AE68)=1,AE68,\"\")","v":""},"","","",null,{"$f":"+IF(AQ68=\"\",\"\",MAX(AM$1:AM67)+1)","v":""},{"$f":"IF(Operating_Limits_Details!$B90=\"\",\"\",Operating_Limits_Details!$B90)","v":""},{"$f":"IF(Operating_Limits_Details!$C90=\"\",\"\",Operating_Limits_Details!$C90)","v":""},"",{"$f":"IF(COUNTIF(AO$2:AO68,AO68)=1,AO68,\"\")","v":""},"",""]
[{"$f":"+IF(D69=\"\",\"\",MAX(A$1:A68)+1)","v":""},{"$f":"IF(CMS_Identification!C91=\"\",\"\",CMS_Identification!C91)","v":""},"",{"$f":"IF(COUNTIF(B$1:B69,B69)=1,B69,\"\")","v":""},null,null,null,null,null,null,null,null,null,null,null,null,null,null,{"$f":"+IF(X69=\"\",\"\",MAX(S$1:S68)+1)","v":""},{"$f":"IF(Emission_Limits_Details!$B91=\"\",\"\",Emission_Limits_Details!$B91)","v":""},{"$f":"IF(Emission_Limits_Details!$C91=\"\",\"\",Emission_Limits_Details!$C91)","v":""},null,"",{"$f":"IF(COUNTIF(U$2:U69,U69)=1,U69,\"\")","v":""},"","","",null,{"$f":"+IF(AH69=\"\",\"\",MAX(AC$1:AC68)+1)","v":""},{"$f":"IF(CMS_Detail!$B91=\"\",\"\",CMS_Detail!$B91)","v":""},{"$f":"IF(CMS_Detail!$C91=\"\",\"\",CMS_Detail!$C91)","v":""},null,"",{"$f":"IF(COUNTIF(AE$2:AE69,AE69)=1,AE69,\"\")","v":""},"","","",null,{"$f":"+IF(AQ69=\"\",\"\",MAX(AM$1:AM68)+1)","v":""},{"$f":"IF(Operating_Limits_Details!$B91=\"\",\"\",Operating_Limits_Details!$B91)","v":""},{"$f":"IF(Operating_Limits_Details!$C91=\"\",\"\",Operating_Limits_Details!$C91)","v":""},"",{"$f":"IF(COUNTIF(AO$2:AO69,AO69)=1,AO69,\"\")","v":""},"",""]
[{"$f":"+IF(D70=\"\",\"\",MAX(A$1:A69)+1)","v":""},{"$f":"IF(CMS_Identification!C92=\"\",\"\",CMS_Identification!C92)","v":""},"",{"$f":"IF(COUNTIF(B$1:B70,B70)=1,B70,\"\")","v":""},null,null,null,null,null,null,null,null,null,null,null,null,null,null,{"$f":"+IF(X70=\"\",\"\",MAX(S$1:S69)+1)","v":""},{"$f":"IF(Emission_Limits_Details!$B92=\"\",\"\",Emission_Limits_Details!$B92)","v":""},{"$f":"IF(Emission_Limits_Details!$C92=\"\",\"\",Emission_Limits_Details!$C92)","v":""},null,"",{"$f":"IF(COUNTIF(U$2:U70,U70)=1,U70,\"\")","v":""},"","","",null,{"$f":"+IF(AH70=\"\",\"\",MAX(AC$1:AC69)+1)","v":""},{"$f":"IF(CMS_Detail!$B92=\"\",\"\",CMS_Detail!$B92)","v":""},{"$f":"IF(CMS_Detail!$C92=\"\",\"\",CMS_Detail!$C92)","v":""},null,"",{"$f":"IF(COUNTIF(AE$2:AE70,AE70)=1,AE70,\"\")","v":""},"","","",null,{"$f":"+IF(AQ70=\"\",\"\",MAX(AM$1:AM69)+1)","v":""},{"$f":"IF(Operating_Limits_Details!$B92=\"\",\"\",Operating_Limits_Details!$B92)","v":""},{"$f":"IF(Operating_Limits_Details!$C92=\"\",\"\",Operating_Limits_Details!$C92)","v":""},"",{"$f":"IF(COUNTIF(AO$2:AO70,AO70)=1,AO70,\"\")","v":""},"",""]
[{"$f":"+IF(D71=\"\",\"\",MAX(A$1:A70)+1)","v":""},{"$f":"IF(CMS_Identification!C93=\"\",\"\",CMS_Identification!C93)","v":""},"",{"$f":"IF(COUNTIF(B$1:B71,B71)=1,B71,\"\")","v":""},null,null,null,null,null,null,null,null,null,null,null,null,null,null,{"$f":"+IF(X71=\"\",\"\",MAX(S$1:S70)+1)","v":""},{"$f":"IF(Emission_Limits_Details!$B93=\"\",\"\",Emission_Limits_Details!$B93)","v":""},{"$f":"IF(Emission_Limits_Details!$C93=\"\",\"\",Emission_Limits_Details!$C93)","v":""},null,"",{"$f":"IF(COUNTIF(U$2:U71,U71)=1,U71,\"\")","v":""},"","","",null,{"$f":"+IF(AH71=\"\",\"\",MAX(AC$1:AC70)+1)","v":""},{"$f":"IF(CMS_Detail!$B93=\"\",\"\",CMS_Detail!$B93)","v":""},{"$f":"IF(CMS_Detail!$C93=\"\",\"\",CMS_Detail!$C93)","v":""},null,"",{"$f":"IF(COUNTIF(AE$2:AE71,AE71)=1,AE71,\"\")","v":""},"","","",null,{"$f":"+IF(AQ71=\"\",\"\",MAX(AM$1:AM70)+1)","v":""},{"$f":"IF(Operating_Limits_Details!$B93=\"\",\"\",Operating_Limits_Details!$B93)","v":""},{"$f":"IF(Operating_Limits_Details!$C93=\"\",\"\",Operating_Limits_Details!$C93)","v":""},"",{"$f":"IF(COUNTIF(AO$2:AO71,AO71)=1,AO71,\"\")","v":""},"",""]
[{"$f":"+IF(D72=\"\",\"\",MAX(A$1:A71)+1)","v":""},{"$f":"IF(CMS_Identification!C94=\"\",\"\",CMS_Identification!C94)","v":""},"",{"$f":"IF(COUNTIF(B$1:B72,B72)=1,B72,\"\")","v":""},null,null,null,null,null,null,null,null,null,null,null,null,null,null,{"$f":"+IF(X72=\"\",\"\",MAX(S$1:S71)+1)","v":""},{"$f":"IF(Emission_Limits_Details!$B94=\"\",\"\",Emission_Limits_Details!$B94)","v":""},{"$f":"IF(Emission_Limits_Details!$C94=\"\",\"\",Emission_Limits_Details!$C94)","v":""},null,"",{"$f":"IF(COUNTIF(U$2:U72,U72)=1,U72,\"\")","v":""},"","","",null,{"$f":"+IF(AH72=\"\",\"\",MAX(AC$1:AC71)+1)","v":""},{"$f":"IF(CMS_Detail!$B94=\"\",\"\",CMS_Detail!$B94)","v":""},{"$f":"IF(CMS_Detail!$C94=\"\",\"\",CMS_Detail!$C94)","v":""},null,"",{"$f":"IF(COUNTIF(AE$2:AE72,AE72)=1,AE72,\"\")","v":""},"","","",null,{"$f":"+IF(AQ72=\"\",\"\",MAX(AM$1:AM71)+1)","v":""},{"$f":"IF(Operating_Limits_Details!$B94=\"\",\"\",Operating_Limits_Details!$B94)","v":""},{"$f":"IF(Operating_Limits_Details!$C94=\"\",\"\",Operating_Limits_Details!$C94)","v":""},"",{"$f":"IF(COUNTIF(AO$2:AO72,AO72)=1,AO72,\"\")","v":""},"",""]
[{"$f":"+IF(D73=\"\",\"\",MAX(A$1:A72)+1)","v":""},{"$f":"IF(CMS_Identification!C95=\"\",\"\",CMS_Identification!C95)","v":""},"",{"$f":"IF(COUNTIF(B$1:B73,B73)=1,B73,\"\")","v":""},null,null,null,null,null,null,null,null,null,null,null,null,null,null,{"$f":"+IF(X73=\"\",\"\",MAX(S$1:S72)+1)","v":""},{"$f":"IF(Emission_Limits_Details!$B95=\"\",\"\",Emission_Limits_Details!$B95)","v":""},{"$f":"IF(Emission_Limits_Details!$C95=\"\",\"\",Emission_Limits_Details!$C95)","v":""},null,"",{"$f":"IF(COUNTIF(U$2:U73,U73)=1,U73,\"\")","v":""},"","","",null,{"$f":"+IF(AH73=\"\",\"\",MAX(AC$1:AC72)+1)","v":""},{"$f":"IF(CMS_Detail!$B95=\"\",\"\",CMS_Detail!$B95)","v":""},{"$f":"IF(CMS_Detail!$C95=\"\",\"\",CMS_Detail!$C95)","v":""},null,"",{"$f":"IF(COUNTIF(AE$2:AE73,AE73)=1,AE73,\"\")","v":""},"","","",null,{"$f":"+IF(AQ73=\"\",\"\",MAX(AM$1:AM72)+1)","v":""},{"$f":"IF(Operating_Limits_Details!$B95=\"\",\"\",Operating_Limits_Details!$B95)","v":""},{"$f":"IF(Operating_Limits_Details!$C95=\"\",\"\",Operating_Limits_Details!$C95)","v":""},"",{"$f":"IF(COUNTIF(AO$2:AO73,AO73)=1,AO73,\"\")","v":""},"",""]
[{"$f":"+IF(D74=\"\",\"\",MAX(A$1:A73)+1)","v":""},{"$f":"IF(CMS_Identification!C96=\"\",\"\",CMS_Identification!C96)","v":""},"",{"$f":"IF(COUNTIF(B$1:B74,B74)=1,B74,\"\")","v":""},null,null,null,null,null,null,null,null,null,null,null,null,null,null,{"$f":"+IF(X74=\"\",\"\",MAX(S$1:S73)+1)","v":""},{"$f":"IF(Emission_Limits_Details!$B96=\"\",\"\",Emission_Limits_Details!$B96)","v":""},{"$f":"IF(Emission_Limits_Details!$C96=\"\",\"\",Emission_Limits_Details!$C96)","v":""},null,"",{"$f":"IF(COUNTIF(U$2:U74,U74)=1,U74,\"\")","v":""},"","","",null,{"$f":"+IF(AH74=\"\",\"\",MAX(AC$1:AC73)+1)","v":""},{"$f":"IF(CMS_Detail!$B96=\"\",\"\",CMS_Detail!$B96)","v":""},{"$f":"IF(CMS_Detail!$C96=\"\",\"\",CMS_Detail!$C96)","v":""},null,"",{"$f":"IF(COUNTIF(AE$2:AE74,AE74)=1,AE74,\"\")","v":""},"","","",null,{"$f":"+IF(AQ74=\"\",\"\",MAX(AM$1:AM73)+1)","v":""},{"$f":"IF(Operating_Limits_Details!$B96=\"\",\"\",Operating_Limits_Details!$B96)","v":""},{"$f":"IF(Operating_Limits_Details!$C96=\"\",\"\",Operating_Limits_Details!$C96)","v":""},"",{"$f":"IF(COUNTIF(AO$2:AO74,AO74)=1,AO74,\"\")","v":""},"",""]
[{"$f":"+IF(D75=\"\",\"\",MAX(A$1:A74)+1)","v":""},{"$f":"IF(CMS_Identification!C97=\"\",\"\",CMS_Identification!C97)","v":""},"",{"$f":"IF(COUNTIF(B$1:B75,B75)=1,B75,\"\")","v":""},null,null,null,null,null,null,null,null,null,null,null,null,null,null,{"$f":"+IF(X75=\"\",\"\",MAX(S$1:S74)+1)","v":""},{"$f":"IF(Emission_Limits_Details!$B97=\"\",\"\",Emission_Limits_Details!$B97)","v":""},{"$f":"IF(Emission_Limits_Details!$C97=\"\",\"\",Emission_Limits_Details!$C97)","v":""},null,"",{"$f":"IF(COUNTIF(U$2:U75,U75)=1,U75,\"\")","v":""},"","","",null,{"$f":"+IF(AH75=\"\",\"\",MAX(AC$1:AC74)+1)","v":""},{"$f":"IF(CMS_Detail!$B97=\"\",\"\",CMS_Detail!$B97)","v":""},{"$f":"IF(CMS_Detail!$C97=\"\",\"\",CMS_Detail!$C97)","v":""},null,"",{"$f":"IF(COUNTIF(AE$2:AE75,AE75)=1,AE75,\"\")","v":""},"","","",null,{"$f":"+IF(AQ75=\"\",\"\",MAX(AM$1:AM74)+1)","v":""},{"$f":"IF(Operating_Limits_Details!$B97=\"\",\"\",Operating_Limits_Details!$B97)","v":""},{"$f":"IF(Operating_Limits_Details!$C97=\"\",\"\",Operating_Limits_Details!$C97)","v":""},"",{"$f":"IF(COUNTIF(AO$2:AO75,AO75)=1,AO75,\"\")","v":""},"",""]
[{"$f":"+IF(D76=\"\",\"\",MAX(A$1:A75)+1)","v":""},{"$f":"IF(CMS_Identification!C98=\"\",\"\",CMS_Identification!C98)","v":""},"",{"$f":"IF(COUNTIF(B$1:B76,B76)=1,B76,\"\")","v":""},null,null,null,null,null,null,null,null,null,null,null,null,null,null,{"$f":"+IF(X76=\"\",\"\",MAX(S$1:S75)+1)","v":""},{"$f":"IF(Emission_Limits_Details!$B98=\"\",\"\",Emission_Limits_Details!$B98)","v":""},{"$f":"IF(Emission_Limits_Details!$C98=\"\",\"\",Emission_Limits_Details!$C98)","v":""},null,"",{"$f":"IF(COUNTIF(U$2:U76,U76)=1,U76,\"\")","v":""},"","","",null,{"$f":"+IF(AH76=\"\",\"\",MAX(AC$1:AC75)+1)","v":""},{"$f":"IF(CMS_Detail!$B98=\"\",\"\",CMS_Detail!$B98)","v":""},{"$f":"IF(CMS_Detail!$C98=\"\",\"\",CMS_Detail!$C98)","v":""},null,"",{"$f":"IF(COUNTIF(AE$2:AE76,AE76)=1,AE76,\"\")","v":""},"","","",null,{"$f":"+IF(AQ76=\"\",\"\",MAX(AM$1:AM75)+1)","v":""},{"$f":"IF(Operating_Limits_Details!$B98=\"\",\"\",Operating_Limits_Details!$B98)","v":""},{"$f":"IF(Operating_Limits_Details!$C98=\"\",\"\",Operating_Limits_Details!$C98)","v":""},"",{"$f":"IF(COUNTIF(AO$2:AO76,AO76)=1,AO76,\"\")","v":""},"",""]
[{"$f":"+IF(D77=\"\",\"\",MAX(A$1:A76)+1)","v":""},{"$f":"IF(CMS_Identification!C99=\"\",\"\",CMS_Identification!C99)","v":""},"",{"$f":"IF(COUNTIF(B$1:B77,B77)=1,B77,\"\")","v":""},null,null,null,null,null,null,null,null,null,null,null,null,null,null,{"$f":"+IF(X77=\"\",\"\",MAX(S$1:S76)+1)","v":""},{"$f":"IF(Emission_Limits_Details!$B99=\"\",\"\",Emission_Limits_Details!$B99)","v":""},{"$f":"IF(Emission_Limits_Details!$C99=\"\",\"\",Emission_Limits_Details!$C99)","v":""},null,"",{"$f":"IF(COUNTIF(U$2:U77,U77)=1,U77,\"\")","v":""},"","","",null,{"$f":"+IF(AH77=\"\",\"\",MAX(AC$1:AC76)+1)","v":""},{"$f":"IF(CMS_Detail!$B99=\"\",\"\",CMS_Detail!$B99)","v":""},{"$f":"IF(CMS_Detail!$C99=\"\",\"\",CMS_Detail!$C99)","v":""},null,"",{"$f":"IF(COUNTIF(AE$2:AE77,AE77)=1,AE77,\"\")","v":""},"","","",null,{"$f":"+IF(AQ77=\"\",\"\",MAX(AM$1:AM76)+1)","v":""},{"$f":"IF(Operating_Limits_Details!$B99=\"\",\"\",Operating_Limits_Details!$B99)","v":""},{"$f":"IF(Operating_Limits_Details!$C99=\"\",\"\",Operating_Limits_Details!$C99)","v":""},"",{"$f":"IF(COUNTIF(AO$2:AO77,AO77)=1,AO77,\"\")","v":""},"",""]
[{"$f":"+IF(D78=\"\",\"\",MAX(A$1:A77)+1)","v":""},{"$f":"IF(CMS_Identification!C100=\"\",\"\",CMS_Identification!C100)","v":""},"",{"$f":"IF(COUNTIF(B$1:B78,B78)=1,B78,\"\")","v":""},null,null,null,null,null,null,null,null,null,null,null,null,null,null,{"$f":"+IF(X78=\"\",\"\",MAX(S$1:S77)+1)","v":""},{"$f":"IF(Emission_Limits_Details!$B100=\"\",\"\",Emission_Limits_Details!$B100)","v":""},{"$f":"IF(Emission_Limits_Details!$C100=\"\",\"\",Emission_Limits_Details!$C100)","v":""},null,"",{"$f":"IF(COUNTIF(U$2:U78,U78)=1,U78,\"\")","v":""},"","","",null,{"$f":"+IF(AH78=\"\",\"\",MAX(AC$1:AC77)+1)","v":""},{"$f":"IF(CMS_Detail!$B100=\"\",\"\",CMS_Detail!$B100)","v":""},{"$f":"IF(CMS_Detail!$C100=\"\",\"\",CMS_Detail!$C100)","v":""},null,"",{"$f":"IF(COUNTIF(AE$2:AE78,AE78)=1,AE78,\"\")","v":""},"","","",null,{"$f":"+IF(AQ78=\"\",\"\",MAX(AM$1:AM77)+1)","v":""},{"$f":"IF(Operating_Limits_Details!$B100=\"\",\"\",Operating_Limits_Details!$B100)","v":""},{"$f":"IF(Operating_Limits_Details!$C100=\"\",\"\",Operating_Limits_Details!$C100)","v":""},"",{"$f":"IF(COUNTIF(AO$2:AO78,AO78)=1,AO78,\"\")","v":""},"",""]
[{"$f":"+IF(D79=\"\",\"\",MAX(A$1:A78)+1)","v":""},{"$f":"IF(CMS_Identification!C101=\"\",\"\",CMS_Identification!C101)","v":""},"",{"$f":"IF(COUNTIF(B$1:B79,B79)=1,B79,\"\")","v":""},null,null,null,null,null,null,null,null,null,null,null,null,null,null,{"$f":"+IF(X79=\"\",\"\",MAX(S$1:S78)+1)","v":""},{"$f":"IF(Emission_Limits_Details!$B101=\"\",\"\",Emission_Limits_Details!$B101)","v":""},{"$f":"IF(Emission_Limits_Details!$C101=\"\",\"\",Emission_Limits_Details!$C101)","v":""},null,"",{"$f":"IF(COUNTIF(U$2:U79,U79)=1,U79,\"\")","v":""},"","","",null,{"$f":"+IF(AH79=\"\",\"\",MAX(AC$1:AC78)+1)","v":""},{"$f":"IF(CMS_Detail!$B101=\"\",\"\",CMS_Detail!$B101)","v":""},{"$f":"IF(CMS_Detail!$C101=\"\",\"\",CMS_Detail!$C101)","v":""},null,"",{"$f":"IF(COUNTIF(AE$2:AE79,AE79)=1,AE79,\"\")","v":""},"","","",null,{"$f":"+IF(AQ79=\"\",\"\",MAX(AM$1:AM78)+1)","v":""},{"$f":"IF(Operating_Limits_Details!$B101=\"\",\"\",Operating_Limits_Details!$B101)","v":""},{"$f":"IF(Operating_Limits_Details!$C101=\"\",\"\",Operating_Limits_Details!$C101)","v":""},"",{"$f":"IF(COUNTIF(AO$2:AO79,AO79)=1,AO79,\"\")","v":""},"",""]
[{"$f":"+IF(D80=\"\",\"\",MAX(A$1:A79)+1)","v":""},{"$f":"IF(CMS_Identification!C102=\"\",\"\",CMS_Identification!C102)","v":""},"",{"$f":"IF(COUNTIF(B$1:B80,B80)=1,B80,\"\")","v":""},null,null,null,null,null,null,null,null,null,null,null,null,null,null,{"$f":"+IF(X80=\"\",\"\",MAX(S$1:S79)+1)","v":""},{"$f":"IF(Emission_Limits_Details!$B102=\"\",\"\",Emission_Limits_Details!$B102)","v":""},{"$f":"IF(Emission_Limits_Details!$C102=\"\",\"\",Emission_Limits_Details!$C102)","v":""},null,"",{"$f":"IF(COUNTIF(U$2:U80,U80)=1,U80,\"\")","v":""},"","","",null,{"$f":"+IF(AH80=\"\",\"\",MAX(AC$1:AC79)+1)","v":""},{"$f":"IF(CMS_Detail!$B102=\"\",\"\",CMS_Detail!$B102)","v":""},{"$f":"IF(CMS_Detail!$C102=\"\",\"\",CMS_Detail!$C102)","v":""},null,"",{"$f":"IF(COUNTIF(AE$2:AE80,AE80)=1,AE80,\"\")","v":""},"","","",null,{"$f":"+IF(AQ80=\"\",\"\",MAX(AM$1:AM79)+1)","v":""},{"$f":"IF(Operating_Limits_Details!$B102=\"\",\"\",Operating_Limits_Details!$B102)","v":""},{"$f":"IF(Operating_Limits_Details!$C102=\"\",\"\",Operating_Limits_Details!$C102)","v":""},"",{"$f":"IF(COUNTIF(AO$2:AO80,AO80)=1,AO80,\"\")","v":""},"",""]
[{"$f":"+IF(D81=\"\",\"\",MAX(A$1:A80)+1)","v":""},{"$f":"IF(CMS_Identification!C103=\"\",\"\",CMS_Identification!C103)","v":""},"",{"$f":"IF(COUNTIF(B$1:B81,B81)=1,B81,\"\")","v":""},null,null,null,null,null,null,null,null,null,null,null,null,null,null,{"$f":"+IF(X81=\"\",\"\",MAX(S$1:S80)+1)","v":""},{"$f":"IF(Emission_Limits_Details!$B103=\"\",\"\",Emission_Limits_Details!$B103)","v":""},{"$f":"IF(Emission_Limits_Details!$C103=\"\",\"\",Emission_Limits_Details!$C103)","v":""},null,"",{"$f":"IF(COUNTIF(U$2:U81,U81)=1,U81,\"\")","v":""},"","","",null,{"$f":"+IF(AH81=\"\",\"\",MAX(AC$1:AC80)+1)","v":""},{"$f":"IF(CMS_Detail!$B103=\"\",\"\",CMS_Detail!$B103)","v":""},{"$f":"IF(CMS_Detail!$C103=\"\",\"\",CMS_Detail!$C103)","v":""},null,"",{"$f":"IF(COUNTIF(AE$2:AE81,AE81)=1,AE81,\"\")","v":""},"","","",null,{"$f":"+IF(AQ81=\"\",\"\",MAX(AM$1:AM80)+1)","v":""},{"$f":"IF(Operating_Limits_Details!$B103=\"\",\"\",Operating_Limits_Details!$B103)","v":""},{"$f":"IF(Operating_Limits_Details!$C103=\"\",\"\",Operating_Limits_Details!$C103)","v":""},"",{"$f":"IF(COUNTIF(AO$2:AO81,AO81)=1,AO81,\"\")","v":""},"",""]
[{"$f":"+IF(D82=\"\",\"\",MAX(A$1:A81)+1)","v":""},{"$f":"IF(CMS_Identification!C104=\"\",\"\",CMS_Identification!C104)","v":""},"",{"$f":"IF(COUNTIF(B$1:B82,B82)=1,B82,\"\")","v":""},null,null,null,null,null,null,null,null,null,null,null,null,null,null,{"$f":"+IF(X82=\"\",\"\",MAX(S$1:S81)+1)","v":""},{"$f":"IF(Emission_Limits_Details!$B104=\"\",\"\",Emission_Limits_Details!$B104)","v":""},{"$f":"IF(Emission_Limits_Details!$C104=\"\",\"\",Emission_Limits_Details!$C104)","v":""},null,"",{"$f":"IF(COUNTIF(U$2:U82,U82)=1,U82,\"\")","v":""},"","","",null,{"$f":"+IF(AH82=\"\",\"\",MAX(AC$1:AC81)+1)","v":""},{"$f":"IF(CMS_Detail!$B104=\"\",\"\",CMS_Detail!$B104)","v":""},{"$f":"IF(CMS_Detail!$C104=\"\",\"\",CMS_Detail!$C104)","v":""},null,"",{"$f":"IF(COUNTIF(AE$2:AE82,AE82)=1,AE82,\"\")","v":""},"","","",null,{"$f":"+IF(AQ82=\"\",\"\",MAX(AM$1:AM81)+1)","v":""},{"$f":"IF(Operating_Limits_Details!$B104=\"\",\"\",Operating_Limits_Details!$B104)","v":""},{"$f":"IF(Operating_Limits_Details!$C104=\"\",\"\",Operating_Limits_Details!$C104)","v":""},"",{"$f":"IF(COUNTIF(AO$2:AO82,AO82)=1,AO82,\"\")","v":""},"",""]
[{"$f":"+IF(D83=\"\",\"\",MAX(A$1:A82)+1)","v":""},{"$f":"IF(CMS_Identification!C105=\"\",\"\",CMS_Identification!C105)","v":""},"",{"$f":"IF(COUNTIF(B$1:B83,B83)=1,B83,\"\")","v":""},null,null,null,null,null,null,null,null,null,null,null,null,null,null,{"$f":"+IF(X83=\"\",\"\",MAX(S$1:S82)+1)","v":""},{"$f":"IF(Emission_Limits_Details!$B105=\"\",\"\",Emission_Limits_Details!$B105)","v":""},{"$f":"IF(Emission_Limits_Details!$C105=\"\",\"\",Emission_Limits_Details!$C105)","v":""},null,"",{"$f":"IF(COUNTIF(U$2:U83,U83)=1,U83,\"\")","v":""},"","","",null,{"$f":"+IF(AH83=\"\",\"\",MAX(AC$1:AC82)+1)","v":""},{"$f":"IF(CMS_Detail!$B105=\"\",\"\",CMS_Detail!$B105)","v":""},{"$f":"IF(CMS_Detail!$C105=\"\",\"\",CMS_Detail!$C105)","v":""},null,"",{"$f":"IF(COUNTIF(AE$2:AE83,AE83)=1,AE83,\"\")","v":""},"","","",null,{"$f":"+IF(AQ83=\"\",\"\",MAX(AM$1:AM82)+1)","v":""},{"$f":"IF(Operating_Limits_Details!$B105=\"\",\"\",Operating_Limits_Details!$B105)","v":""},{"$f":"IF(Operating_Limits_Details!$C105=\"\",\"\",Operating_Limits_Details!$C105)","v":""},"",{"$f":"IF(COUNTIF(AO$2:AO83,AO83)=1,AO83,\"\")","v":""},"",""]
[{"$f":"+IF(D84=\"\",\"\",MAX(A$1:A83)+1)","v":""},{"$f":"IF(CMS_Identification!C106=\"\",\"\",CMS_Identification!C106)","v":""},"",{"$f":"IF(COUNTIF(B$1:B84,B84)=1,B84,\"\")","v":""},null,null,null,null,null,null,null,null,null,null,null,null,null,null,{"$f":"+IF(X84=\"\",\"\",MAX(S$1:S83)+1)","v":""},{"$f":"IF(Emission_Limits_Details!$B106=\"\",\"\",Emission_Limits_Details!$B106)","v":""},{"$f":"IF(Emission_Limits_Details!$C106=\"\",\"\",Emission_Limits_Details!$C106)","v":""},null,"",{"$f":"IF(COUNTIF(U$2:U84,U84)=1,U84,\"\")","v":""},"","","",null,{"$f":"+IF(AH84=\"\",\"\",MAX(AC$1:AC83)+1)","v":""},{"$f":"IF(CMS_Detail!$B106=\"\",\"\",CMS_Detail!$B106)","v":""},{"$f":"IF(CMS_Detail!$C106=\"\",\"\",CMS_Detail!$C106)","v":""},null,"",{"$f":"IF(COUNTIF(AE$2:AE84,AE84)=1,AE84,\"\")","v":""},"","","",null,{"$f":"+IF(AQ84=\"\",\"\",MAX(AM$1:AM83)+1)","v":""},{"$f":"IF(Operating_Limits_Details!$B106=\"\",\"\",Operating_Limits_Details!$B106)","v":""},{"$f":"IF(Operating_Limits_Details!$C106=\"\",\"\",Operating_Limits_Details!$C106)","v":""},"",{"$f":"IF(COUNTIF(AO$2:AO84,AO84)=1,AO84,\"\")","v":""},"",""]
[{"$f":"+IF(D85=\"\",\"\",MAX(A$1:A84)+1)","v":""},{"$f":"IF(CMS_Identification!C107=\"\",\"\",CMS_Identification!C107)","v":""},"",{"$f":"IF(COUNTIF(B$1:B85,B85)=1,B85,\"\")","v":""},null,null,null,null,null,null,null,null,null,null,null,null,null,null,{"$f":"+IF(X85=\"\",\"\",MAX(S$1:S84)+1)","v":""},{"$f":"IF(Emission_Limits_Details!$B107=\"\",\"\",Emission_Limits_Details!$B107)","v":""},{"$f":"IF(Emission_Limits_Details!$C107=\"\",\"\",Emission_Limits_Details!$C107)","v":""},null,"",{"$f":"IF(COUNTIF(U$2:U85,U85)=1,U85,\"\")","v":""},"","","",null,{"$f":"+IF(AH85=\"\",\"\",MAX(AC$1:AC84)+1)","v":""},{"$f":"IF(CMS_Detail!$B107=\"\",\"\",CMS_Detail!$B107)","v":""},{"$f":"IF(CMS_Detail!$C107=\"\",\"\",CMS_Detail!$C107)","v":""},null,"",{"$f":"IF(COUNTIF(AE$2:AE85,AE85)=1,AE85,\"\")","v":""},"","","",null,{"$f":"+IF(AQ85=\"\",\"\",MAX(AM$1:AM84)+1)","v":""},{"$f":"IF(Operating_Limits_Details!$B107=\"\",\"\",Operating_Limits_Details!$B107)","v":""},{"$f":"IF(Operating_Limits_Details!$C107=\"\",\"\",Operating_Limits_Details!$C107)","v":""},"",{"$f":"IF(COUNTIF(AO$2:AO85,AO85)=1,AO85,\"\")","v":""},"",""]
[{"$f":"+IF(D86=\"\",\"\",MAX(A$1:A85)+1)","v":""},{"$f":"IF(CMS_Identification!C108=\"\",\"\",CMS_Identification!C108)","v":""},"",{"$f":"IF(COUNTIF(B$1:B86,B86)=1,B86,\"\")","v":""},null,null,null,null,null,null,null,null,null,null,null,null,null,null,{"$f":"+IF(X86=\"\",\"\",MAX(S$1:S85)+1)","v":""},{"$f":"IF(Emission_Limits_Details!$B108=\"\",\"\",Emission_Limits_Details!$B108)","v":""},{"$f":"IF(Emission_Limits_Details!$C108=\"\",\"\",Emission_Limits_Details!$C108)","v":""},null,"",{"$f":"IF(COUNTIF(U$2:U86,U86)=1,U86,\"\")","v":""},"","","",null,{"$f":"+IF(AH86=\"\",\"\",MAX(AC$1:AC85)+1)","v":""},{"$f":"IF(CMS_Detail!$B108=\"\",\"\",CMS_Detail!$B108)","v":""},{"$f":"IF(CMS_Detail!$C108=\"\",\"\",CMS_Detail!$C108)","v":""},null,"",{"$f":"IF(COUNTIF(AE$2:AE86,AE86)=1,AE86,\"\")","v":""},"","","",null,{"$f":"+IF(AQ86=\"\",\"\",MAX(AM$1:AM85)+1)","v":""},{"$f":"IF(Operating_Limits_Details!$B108=\"\",\"\",Operating_Limits_Details!$B108)","v":""},{"$f":"IF(Operating_Limits_Details!$C108=\"\",\"\",Operating_Limits_Details!$C108)","v":""},"",{"$f":"IF(COUNTIF(AO$2:AO86,AO86)=1,AO86,\"\")","v":""},"",""]
[{"$f":"+IF(D87=\"\",\"\",MAX(A$1:A86)+1)","v":""},{"$f":"IF(CMS_Identification!C109=\"\",\"\",CMS_Identification!C109)","v":""},"",{"$f":"IF(COUNTIF(B$1:B87,B87)=1,B87,\"\")","v":""},null,null,null,null,null,null,null,null,null,null,null,null,null,null,{"$f":"+IF(X87=\"\",\"\",MAX(S$1:S86)+1)","v":""},{"$f":"IF(Emission_Limits_Details!$B109=\"\",\"\",Emission_Limits_Details!$B109)","v":""},{"$f":"IF(Emission_Limits_Details!$C109=\"\",\"\",Emission_Limits_Details!$C109)","v":""},null,"",{"$f":"IF(COUNTIF(U$2:U87,U87)=1,U87,\"\")","v":""},"","","",null,{"$f":"+IF(AH87=\"\",\"\",MAX(AC$1:AC86)+1)","v":""},{"$f":"IF(CMS_Detail!$B109=\"\",\"\",CMS_Detail!$B109)","v":""},{"$f":"IF(CMS_Detail!$C109=\"\",\"\",CMS_Detail!$C109)","v":""},null,"",{"$f":"IF(COUNTIF(AE$2:AE87,AE87)=1,AE87,\"\")","v":""},"","","",null,{"$f":"+IF(AQ87=\"\",\"\",MAX(AM$1:AM86)+1)","v":""},{"$f":"IF(Operating_Limits_Details!$B109=\"\",\"\",Operating_Limits_Details!$B109)","v":""},{"$f":"IF(Operating_Limits_Details!$C109=\"\",\"\",Operating_Limits_Details!$C109)","v":""},"",{"$f":"IF(COUNTIF(AO$2:AO87,AO87)=1,AO87,\"\")","v":""},"",""]
[{"$f":"+IF(D88=\"\",\"\",MAX(A$1:A87)+1)","v":""},{"$f":"IF(CMS_Identification!C110=\"\",\"\",CMS_Identification!C110)","v":""},"",{"$f":"IF(COUNTIF(B$1:B88,B88)=1,B88,\"\")","v":""},null,null,null,null,null,null,null,null,null,null,null,null,null,null,{"$f":"+IF(X88=\"\",\"\",MAX(S$1:S87)+1)","v":""},{"$f":"IF(Emission_Limits_Details!$B110=\"\",\"\",Emission_Limits_Details!$B110)","v":""},{"$f":"IF(Emission_Limits_Details!$C110=\"\",\"\",Emission_Limits_Details!$C110)","v":""},null,"",{"$f":"IF(COUNTIF(U$2:U88,U88)=1,U88,\"\")","v":""},"","","",null,{"$f":"+IF(AH88=\"\",\"\",MAX(AC$1:AC87)+1)","v":""},{"$f":"IF(CMS_Detail!$B110=\"\",\"\",CMS_Detail!$B110)","v":""},{"$f":"IF(CMS_Detail!$C110=\"\",\"\",CMS_Detail!$C110)","v":""},null,"",{"$f":"IF(COUNTIF(AE$2:AE88,AE88)=1,AE88,\"\")","v":""},"","","",null,{"$f":"+IF(AQ88=\"\",\"\",MAX(AM$1:AM87)+1)","v":""},{"$f":"IF(Operating_Limits_Details!$B110=\"\",\"\",Operating_Limits_Details!$B110)","v":""},{"$f":"IF(Operating_Limits_Details!$C110=\"\",\"\",Operating_Limits_Details!$C110)","v":""},"",{"$f":"IF(COUNTIF(AO$2:AO88,AO88)=1,AO88,\"\")","v":""},"",""]
[{"$f":"+IF(D89=\"\",\"\",MAX(A$1:A88)+1)","v":""},{"$f":"IF(CMS_Identification!C111=\"\",\"\",CMS_Identification!C111)","v":""},"",{"$f":"IF(COUNTIF(B$1:B89,B89)=1,B89,\"\")","v":""},null,null,null,null,null,null,null,null,null,null,null,null,null,null,{"$f":"+IF(X89=\"\",\"\",MAX(S$1:S88)+1)","v":""},{"$f":"IF(Emission_Limits_Details!$B111=\"\",\"\",Emission_Limits_Details!$B111)","v":""},{"$f":"IF(Emission_Limits_Details!$C111=\"\",\"\",Emission_Limits_Details!$C111)","v":""},null,"",{"$f":"IF(COUNTIF(U$2:U89,U89)=1,U89,\"\")","v":""},"","","",null,{"$f":"+IF(AH89=\"\",\"\",MAX(AC$1:AC88)+1)","v":""},{"$f":"IF(CMS_Detail!$B111=\"\",\"\",CMS_Detail!$B111)","v":""},{"$f":"IF(CMS_Detail!$C111=\"\",\"\",CMS_Detail!$C111)","v":""},null,"",{"$f":"IF(COUNTIF(AE$2:AE89,AE89)=1,AE89,\"\")","v":""},"","","",null,{"$f":"+IF(AQ89=\"\",\"\",MAX(AM$1:AM88)+1)","v":""},{"$f":"IF(Operating_Limits_Details!$B111=\"\",\"\",Operating_Limits_Details!$B111)","v":""},{"$f":"IF(Operating_Limits_Details!$C111=\"\",\"\",Operating_Limits_Details!$C111)","v":""},"",{"$f":"IF(COUNTIF(AO$2:AO89,AO89)=1,AO89,\"\")","v":""},"",""]
[{"$f":"+IF(D90=\"\",\"\",MAX(A$1:A89)+1)","v":""},{"$f":"IF(CMS_Identification!C112=\"\",\"\",CMS_Identification!C112)","v":""},"",{"$f":"IF(COUNTIF(B$1:B90,B90)=1,B90,\"\")","v":""},null,null,null,null,null,null,null,null,null,null,null,null,null,null,{"$f":"+IF(X90=\"\",\"\",MAX(S$1:S89)+1)","v":""},{"$f":"IF(Emission_Limits_Details!$B112=\"\",\"\",Emission_Limits_Details!$B112)","v":""},{"$f":"IF(Emission_Limits_Details!$C112=\"\",\"\",Emission_Limits_Details!$C112)","v":""},null,"",{"$f":"IF(COUNTIF(U$2:U90,U90)=1,U90,\"\")","v":""},"","","",null,{"$f":"+IF(AH90=\"\",\"\",MAX(AC$1:AC89)+1)","v":""},{"$f":"IF(CMS_Detail!$B112=\"\",\"\",CMS_Detail!$B112)","v":""},{"$f":"IF(CMS_Detail!$C112=\"\",\"\",CMS_Detail!$C112)","v":""},null,"",{"$f":"IF(COUNTIF(AE$2:AE90,AE90)=1,AE90,\"\")","v":""},"","","",null,{"$f":"+IF(AQ90=\"\",\"\",MAX(AM$1:AM89)+1)","v":""},{"$f":"IF(Operating_Limits_Details!$B112=\"\",\"\",Operating_Limits_Details!$B112)","v":""},{"$f":"IF(Operating_Limits_Details!$C112=\"\",\"\",Operating_Limits_Details!$C112)","v":""},"",{"$f":"IF(COUNTIF(AO$2:AO90,AO90)=1,AO90,\"\")","v":""},"",""]
[{"$f":"+IF(D91=\"\",\"\",MAX(A$1:A90)+1)","v":""},{"$f":"IF(CMS_Identification!C113=\"\",\"\",CMS_Identification!C113)","v":""},"",{"$f":"IF(COUNTIF(B$1:B91,B91)=1,B91,\"\")","v":""},null,null,null,null,null,null,null,null,null,null,null,null,null,null,{"$f":"+IF(X91=\"\",\"\",MAX(S$1:S90)+1)","v":""},{"$f":"IF(Emission_Limits_Details!$B113=\"\",\"\",Emission_Limits_Details!$B113)","v":""},{"$f":"IF(Emission_Limits_Details!$C113=\"\",\"\",Emission_Limits_Details!$C113)","v":""},null,"",{"$f":"IF(COUNTIF(U$2:U91,U91)=1,U91,\"\")","v":""},"","","",null,{"$f":"+IF(AH91=\"\",\"\",MAX(AC$1:AC90)+1)","v":""},{"$f":"IF(CMS_Detail!$B113=\"\",\"\",CMS_Detail!$B113)","v":""},{"$f":"IF(CMS_Detail!$C113=\"\",\"\",CMS_Detail!$C113)","v":""},null,"",{"$f":"IF(COUNTIF(AE$2:AE91,AE91)=1,AE91,\"\")","v":""},"","","",null,{"$f":"+IF(AQ91=\"\",\"\",MAX(AM$1:AM90)+1)","v":""},{"$f":"IF(Operating_Limits_Details!$B113=\"\",\"\",Operating_Limits_Details!$B113)","v":""},{"$f":"IF(Operating_Limits_Details!$C113=\"\",\"\",Operating_Limits_Details!$C113)","v":""},"",{"$f":"IF(COUNTIF(AO$2:AO91,AO91)=1,AO91,\"\")","v":""},"",""]
[{"$f":"+IF(D92=\"\",\"\",MAX(A$1:A91)+1)","v":""},{"$f":"IF(CMS_Identification!C114=\"\",\"\",CMS_Identification!C114)","v":""},"",{"$f":"IF(COUNTIF(B$1:B92,B92)=1,B92,\"\")","v":""},null,null,null,null,null,null,null,null,null,null,null,null,null,null,{"$f":"+IF(X92=\"\",\"\",MAX(S$1:S91)+1)","v":""},{"$f":"IF(Emission_Limits_Details!$B114=\"\",\"\",Emission_Limits_Details!$B114)","v":""},{"$f":"IF(Emission_Limits_Details!$C114=\"\",\"\",Emission_Limits_Details!$C114)","v":""},null,"",{"$f":"IF(COUNTIF(U$2:U92,U92)=1,U92,\"\")","v":""},"","","",null,{"$f":"+IF(AH92=\"\",\"\",MAX(AC$1:AC91)+1)","v":""},{"$f":"IF(CMS_Detail!$B114=\"\",\"\",CMS_Detail!$B114)","v":""},{"$f":"IF(CMS_Detail!$C114=\"\",\"\",CMS_Detail!$C114)","v":""},null,"",{"$f":"IF(COUNTIF(AE$2:AE92,AE92)=1,AE92,\"\")","v":""},"","","",null,{"$f":"+IF(AQ92=\"\",\"\",MAX(AM$1:AM91)+1)","v":""},{"$f":"IF(Operating_Limits_Details!$B114=\"\",\"\",Operating_Limits_Details!$B114)","v":""},{"$f":"IF(Operating_Limits_Details!$C114=\"\",\"\",Operating_Limits_Details!$C114)","v":""},"",{"$f":"IF(COUNTIF(AO$2:AO92,AO92)=1,AO92,\"\")","v":""},"",""]
[{"$f":"+IF(D93=\"\",\"\",MAX(A$1:A92)+1)","v":""},{"$f":"IF(CMS_Identification!C115=\"\",\"\",CMS_Identification!C115)","v":""},"",{"$f":"IF(COUNTIF(B$1:B93,B93)=1,B93,\"\")","v":""},null,null,null,null,null,null,null,null,null,null,null,null,null,null,{"$f":"+IF(X93=\"\",\"\",MAX(S$1:S92)+1)","v":""},{"$f":"IF(Emission_Limits_Details!$B115=\"\",\"\",Emission_Limits_Details!$B115)","v":""},{"$f":"IF(Emission_Limits_Details!$C115=\"\",\"\",Emission_Limits_Details!$C115)","v":""},null,"",{"$f":"IF(COUNTIF(U$2:U93,U93)=1,U93,\"\")","v":""},"","","",null,{"$f":"+IF(AH93=\"\",\"\",MAX(AC$1:AC92)+1)","v":""},{"$f":"IF(CMS_Detail!$B115=\"\",\"\",CMS_Detail!$B115)","v":""},{"$f":"IF(CMS_Detail!$C115=\"\",\"\",CMS_Detail!$C115)","v":""},null,"",{"$f":"IF(COUNTIF(AE$2:AE93,AE93)=1,AE93,\"\")","v":""},"","","",null,{"$f":"+IF(AQ93=\"\",\"\",MAX(AM$1:AM92)+1)","v":""},{"$f":"IF(Operating_Limits_Details!$B115=\"\",\"\",Operating_Limits_Details!$B115)","v":""},{"$f":"IF(Operating_Limits_Details!$C115=\"\",\"\",Operating_Limits_Details!$C115)","v":""},"",{"$f":"IF(COUNTIF(AO$2:AO93,AO93)=1,AO93,\"\")","v":""},"",""]
[{"$f":"+IF(D94=\"\",\"\",MAX(A$1:A93)+1)","v":""},{"$f":"IF(CMS_Identification!C116=\"\",\"\",CMS_Identification!C116)","v":""},"",{"$f":"IF(COUNTIF(B$1:B94,B94)=1,B94,\"\")","v":""},null,null,null,null,null,null,null,null,null,null,null,null,null,null,{"$f":"+IF(X94=\"\",\"\",MAX(S$1:S93)+1)","v":""},{"$f":"IF(Emission_Limits_Details!$B116=\"\",\"\",Emission_Limits_Details!$B116)","v":""},{"$f":"IF(Emission_Limits_Details!$C116=\"\",\"\",Emission_Limits_Details!$C116)","v":""},null,"",{"$f":"IF(COUNTIF(U$2:U94,U94)=1,U94,\"\")","v":""},"","","",null,{"$f":"+IF(AH94=\"\",\"\",MAX(AC$1:AC93)+1)","v":""},{"$f":"IF(CMS_Detail!$B116=\"\",\"\",CMS_Detail!$B116)","v":""},{"$f":"IF(CMS_Detail!$C116=\"\",\"\",CMS_Detail!$C116)","v":""},null,"",{"$f":"IF(COUNTIF(AE$2:AE94,AE94)=1,AE94,\"\")","v":""},"","","",null,{"$f":"+IF(AQ94=\"\",\"\",MAX(AM$1:AM93)+1)","v":""},{"$f":"IF(Operating_Limits_Details!$B116=\"\",\"\",Operating_Limits_Details!$B116)","v":""},{"$f":"IF(Operating_Limits_Details!$C116=\"\",\"\",Operating_Limits_Details!$C116)","v":""},"",{"$f":"IF(COUNTIF(AO$2:AO94,AO94)=1,AO94,\"\")","v":""},"",""]
[{"$f":"+IF(D95=\"\",\"\",MAX(A$1:A94)+1)","v":""},{"$f":"IF(CMS_Identification!C117=\"\",\"\",CMS_Identification!C117)","v":""},"",{"$f":"IF(COUNTIF(B$1:B95,B95)=1,B95,\"\")","v":""},null,null,null,null,null,null,null,null,null,null,null,null,null,null,{"$f":"+IF(X95=\"\",\"\",MAX(S$1:S94)+1)","v":""},{"$f":"IF(Emission_Limits_Details!$B117=\"\",\"\",Emission_Limits_Details!$B117)","v":""},{"$f":"IF(Emission_Limits_Details!$C117=\"\",\"\",Emission_Limits_Details!$C117)","v":""},null,"",{"$f":"IF(COUNTIF(U$2:U95,U95)=1,U95,\"\")","v":""},"","","",null,{"$f":"+IF(AH95=\"\",\"\",MAX(AC$1:AC94)+1)","v":""},{"$f":"IF(CMS_Detail!$B117=\"\",\"\",CMS_Detail!$B117)","v":""},{"$f":"IF(CMS_Detail!$C117=\"\",\"\",CMS_Detail!$C117)","v":""},null,"",{"$f":"IF(COUNTIF(AE$2:AE95,AE95)=1,AE95,\"\")","v":""},"","","",null,{"$f":"+IF(AQ95=\"\",\"\",MAX(AM$1:AM94)+1)","v":""},{"$f":"IF(Operating_Limits_Details!$B117=\"\",\"\",Operating_Limits_Details!$B117)","v":""},{"$f":"IF(Operating_Limits_Details!$C117=\"\",\"\",Operating_Limits_Details!$C117)","v":""},"",{"$f":"IF(COUNTIF(AO$2:AO95,AO95)=1,AO95,\"\")","v":""},"",""]
[{"$f":"+IF(D96=\"\",\"\",MAX(A$1:A95)+1)","v":""},{"$f":"IF(CMS_Identification!C118=\"\",\"\",CMS_Identification!C118)","v":""},"",{"$f":"IF(COUNTIF(B$1:B96,B96)=1,B96,\"\")","v":""},null,null,null,null,null,null,null,null,null,null,null,null,null,null,{"$f":"+IF(X96=\"\",\"\",MAX(S$1:S95)+1)","v":""},{"$f":"IF(Emission_Limits_Details!$B118=\"\",\"\",Emission_Limits_Details!$B118)","v":""},{"$f":"IF(Emission_Limits_Details!$C118=\"\",\"\",Emission_Limits_Details!$C118)","v":""},null,"",{"$f":"IF(COUNTIF(U$2:U96,U96)=1,U96,\"\")","v":""},"","","",null,{"$f":"+IF(AH96=\"\",\"\",MAX(AC$1:AC95)+1)","v":""},{"$f":"IF(CMS_Detail!$B118=\"\",\"\",CMS_Detail!$B118)","v":""},{"$f":"IF(CMS_Detail!$C118=\"\",\"\",CMS_Detail!$C118)","v":""},null,"",{"$f":"IF(COUNTIF(AE$2:AE96,AE96)=1,AE96,\"\")","v":""},"","","",null,{"$f":"+IF(AQ96=\"\",\"\",MAX(AM$1:AM95)+1)","v":""},{"$f":"IF(Operating_Limits_Details!$B118=\"\",\"\",Operating_Limits_Details!$B118)","v":""},{"$f":"IF(Operating_Limits_Details!$C118=\"\",\"\",Operating_Limits_Details!$C118)","v":""},"",{"$f":"IF(COUNTIF(AO$2:AO96,AO96)=1,AO96,\"\")","v":""},"",""]
[{"$f":"+IF(D97=\"\",\"\",MAX(A$1:A96)+1)","v":""},{"$f":"IF(CMS_Identification!C119=\"\",\"\",CMS_Identification!C119)","v":""},"",{"$f":"IF(COUNTIF(B$1:B97,B97)=1,B97,\"\")","v":""},null,null,null,null,null,null,null,null,null,null,null,null,null,null,{"$f":"+IF(X97=\"\",\"\",MAX(S$1:S96)+1)","v":""},{"$f":"IF(Emission_Limits_Details!$B119=\"\",\"\",Emission_Limits_Details!$B119)","v":""},{"$f":"IF(Emission_Limits_Details!$C119=\"\",\"\",Emission_Limits_Details!$C119)","v":""},null,"",{"$f":"IF(COUNTIF(U$2:U97,U97)=1,U97,\"\")","v":""},"","","",null,{"$f":"+IF(AH97=\"\",\"\",MAX(AC$1:AC96)+1)","v":""},{"$f":"IF(CMS_Detail!$B119=\"\",\"\",CMS_Detail!$B119)","v":""},{"$f":"IF(CMS_Detail!$C119=\"\",\"\",CMS_Detail!$C119)","v":""},null,"",{"$f":"IF(COUNTIF(AE$2:AE97,AE97)=1,AE97,\"\")","v":""},"","","",null,{"$f":"+IF(AQ97=\"\",\"\",MAX(AM$1:AM96)+1)","v":""},{"$f":"IF(Operating_Limits_Details!$B119=\"\",\"\",Operating_Limits_Details!$B119)","v":""},{"$f":"IF(Operating_Limits_Details!$C119=\"\",\"\",Operating_Limits_Details!$C119)","v":""},"",{"$f":"IF(COUNTIF(AO$2:AO97,AO97)=1,AO97,\"\")","v":""},"",""]
[{"$f":"+IF(D98=\"\",\"\",MAX(A$1:A97)+1)","v":""},{"$f":"IF(CMS_Identification!C120=\"\",\"\",CMS_Identification!C120)","v":""},"",{"$f":"IF(COUNTIF(B$1:B98,B98)=1,B98,\"\")","v":""},null,null,null,null,null,null,null,null,null,null,null,null,null,null,{"$f":"+IF(X98=\"\",\"\",MAX(S$1:S97)+1)","v":""},{"$f":"IF(Emission_Limits_Details!$B120=\"\",\"\",Emission_Limits_Details!$B120)","v":""},{"$f":"IF(Emission_Limits_Details!$C120=\"\",\"\",Emission_Limits_Details!$C120)","v":""},null,"",{"$f":"IF(COUNTIF(U$2:U98,U98)=1,U98,\"\")","v":""},"","","",null,{"$f":"+IF(AH98=\"\",\"\",MAX(AC$1:AC97)+1)","v":""},{"$f":"IF(CMS_Detail!$B120=\"\",\"\",CMS_Detail!$B120)","v":""},{"$f":"IF(CMS_Detail!$C120=\"\",\"\",CMS_Detail!$C120)","v":""},null,"",{"$f":"IF(COUNTIF(AE$2:AE98,AE98)=1,AE98,\"\")","v":""},"","","",null,{"$f":"+IF(AQ98=\"\",\"\",MAX(AM$1:AM97)+1)","v":""},{"$f":"IF(Operating_Limits_Details!$B120=\"\",\"\",Operating_Limits_Details!$B120)","v":""},{"$f":"IF(Operating_Limits_Details!$C120=\"\",\"\",Operating_Limits_Details!$C120)","v":""},"",{"$f":"IF(COUNTIF(AO$2:AO98,AO98)=1,AO98,\"\")","v":""},"",""]
[{"$f":"+IF(D99=\"\",\"\",MAX(A$1:A98)+1)","v":""},{"$f":"IF(CMS_Identification!C121=\"\",\"\",CMS_Identification!C121)","v":""},"",{"$f":"IF(COUNTIF(B$1:B99,B99)=1,B99,\"\")","v":""},null,null,null,null,null,null,null,null,null,null,null,null,null,null,{"$f":"+IF(X99=\"\",\"\",MAX(S$1:S98)+1)","v":""},{"$f":"IF(Emission_Limits_Details!$B121=\"\",\"\",Emission_Limits_Details!$B121)","v":""},{"$f":"IF(Emission_Limits_Details!$C121=\"\",\"\",Emission_Limits_Details!$C121)","v":""},null,"",{"$f":"IF(COUNTIF(U$2:U99,U99)=1,U99,\"\")","v":""},"","","",null,{"$f":"+IF(AH99=\"\",\"\",MAX(AC$1:AC98)+1)","v":""},{"$f":"IF(CMS_Detail!$B121=\"\",\"\",CMS_Detail!$B121)","v":""},{"$f":"IF(CMS_Detail!$C121=\"\",\"\",CMS_Detail!$C121)","v":""},null,"",{"$f":"IF(COUNTIF(AE$2:AE99,AE99)=1,AE99,\"\")","v":""},"","","",null,{"$f":"+IF(AQ99=\"\",\"\",MAX(AM$1:AM98)+1)","v":""},{"$f":"IF(Operating_Limits_Details!$B121=\"\",\"\",Operating_Limits_Details!$B121)","v":""},{"$f":"IF(Operating_Limits_Details!$C121=\"\",\"\",Operating_Limits_Details!$C121)","v":""},"",{"$f":"IF(COUNTIF(AO$2:AO99,AO99)=1,AO99,\"\")","v":""},"",""]
[{"$f":"+IF(D100=\"\",\"\",MAX(A$1:A99)+1)","v":""},{"$f":"IF(CMS_Identification!C122=\"\",\"\",CMS_Identification!C122)","v":""},"",{"$f":"IF(COUNTIF(B$1:B100,B100)=1,B100,\"\")","v":""},null,null,null,null,null,null,null,null,null,null,null,null,null,null,{"$f":"+IF(X100=\"\",\"\",MAX(S$1:S99)+1)","v":""},{"$f":"IF(Emission_Limits_Details!$B122=\"\",\"\",Emission_Limits_Details!$B122)","v":""},{"$f":"IF(Emission_Limits_Details!$C122=\"\",\"\",Emission_Limits_Details!$C122)","v":""},null,"",{"$f":"IF(COUNTIF(U$2:U100,U100)=1,U100,\"\")","v":""},"","","",null,{"$f":"+IF(AH100=\"\",\"\",MAX(AC$1:AC99)+1)","v":""},{"$f":"IF(CMS_Detail!$B122=\"\",\"\",CMS_Detail!$B122)","v":""},{"$f":"IF(CMS_Detail!$C122=\"\",\"\",CMS_Detail!$C122)","v":""},null,"",{"$f":"IF(COUNTIF(AE$2:AE100,AE100)=1,AE100,\"\")","v":""},"","","",null,{"$f":"+IF(AQ100=\"\",\"\",MAX(AM$1:AM99)+1)","v":""},{"$f":"IF(Operating_Limits_Details!$B122=\"\",\"\",Operating_Limits_Details!$B122)","v":""},{"$f":"IF(Operating_Limits_Details!$C122=\"\",\"\",Operating_Limits_Details!$C122)","v":""},"",{"$f":"IF(COUNTIF(AO$2:AO100,AO100)=1,AO100,\"\")","v":""},"",""]
[null,null,null,null,null,null,null,null,null,null,null,null,null,null,null,null,null,null,{"$f":"+IF(X101=\"\",\"\",MAX(S$1:S100)+1)","v":""},{"$f":"IF(Emission_Limits_Details!$B123=\"\",\"\",Emission_Limits_Details!$B123)","v":""},{"$f":"IF(Emission_Limits_Details!$C123=\"\",\"\",Emission_Limits_Details!$C123)","v":""},null,"",{"$f":"IF(COUNTIF(U$2:U101,U101)=1,U101,\"\")","v":""},"","","",null,{"$f":"+IF(AH101=\"\",\"\",MAX(AC$1:AC100)+1)","v":""},{"$f":"IF(CMS_Detail!$B123=\"\",\"\",CMS_Detail!$B123)","v":""},{"$f":"IF(CMS_Detail!$C123=\"\",\"\",CMS_Detail!$C123)","v":""},null,"",{"$f":"IF(COUNTIF(AE$2:AE101,AE101)=1,AE101,\"\")","v":""},"","","",null,{"$f":"+IF(AQ101=\"\",\"\",MAX(AM$1:AM100)+1)","v":""},{"$f":"IF(Operating_Limits_Details!$B123=\"\",\"\",Operating_Limits_Details!$B123)","v":""},{"$f":"IF(Operating_Limits_Details!$C123=\"\",\"\",Operating_Limits_Details!$C123)","v":""},{"$f":"AN101&AO101","v":""},{"$f":"IF(COUNTIF(AO$2:AO101,AO101)=1,AO101,\"\")","v":""},{"$f":"+IFERROR(INDEX(AN$2:AN$955,MATCH(ROW()-ROW(AQ$1),AM$2:AM$955,0)),\"\")","v":""},{"$f":"+IFERROR(INDEX(AO$2:AO$955,MATCH(ROW()-ROW(AQ$1),AM$2:AM$955,0)),\"\")","v":""}]
[null,null,null,null,null,null,null,null,null,null,null,null,null,null,null,null,null,null,{"$f":"+IF(X102=\"\",\"\",MAX(S$1:S101)+1)","v":""},{"$f":"IF(Emission_Limits_Details!$B124=\"\",\"\",Emission_Limits_Details!$B124)","v":""},{"$f":"IF(Emission_Limits_Details!$C124=\"\",\"\",Emission_Limits_Details!$C124)","v":""},null,"",{"$f":"IF(COUNTIF(U$2:U102,U102)=1,U102,\"\")","v":""},"","","",null,{"$f":"+IF(AH102=\"\",\"\",MAX(AC$1:AC101)+1)","v":""},{"$f":"IF(CMS_Detail!$B124=\"\",\"\",CMS_Detail!$B124)","v":""},{"$f":"IF(CMS_Detail!$C124=\"\",\"\",CMS_Detail!$C124)","v":""},null,"",{"$f":"IF(COUNTIF(AE$2:AE102,AE102)=1,AE102,\"\")","v":""},"","",""]
[null,null,null,null,null,null,null,null,null,null,null,null,null,null,null,null,null,null,{"$f":"+IF(X103=\"\",\"\",MAX(S$1:S102)+1)","v":""},{"$f":"IF(Emission_Limits_Details!$B125=\"\",\"\",Emission_Limits_Details!$B125)","v":""},{"$f":"IF(Emission_Limits_Details!$C125=\"\",\"\",Emission_Limits_Details!$C125)","v":""},null,"",{"$f":"IF(COUNTIF(U$2:U103,U103)=1,U103,\"\")","v":""},"","","",null,{"$f":"+IF(AH103=\"\",\"\",MAX(AC$1:AC102)+1)","v":""},{"$f":"IF(CMS_Detail!$B125=\"\",\"\",CMS_Detail!$B125)","v":""},{"$f":"IF(CMS_Detail!$C125=\"\",\"\",CMS_Detail!$C125)","v":""},null,"",{"$f":"IF(COUNTIF(AE$2:AE103,AE103)=1,AE103,\"\")","v":""},"","",""]
[null,null,null,null,null,null,null,null,null,null,null,null,null,null,null,null,null,null,{"$f":"+IF(X104=\"\",\"\",MAX(S$1:S103)+1)","v":""},{"$f":"IF(Emission_Limits_Details!$B126=\"\",\"\",Emission_Limits_Details!$B126)","v":""},{"$f":"IF(Emission_Limits_Details!$C126=\"\",\"\",Emission_Limits_Details!$C126)","v":""},null,"",{"$f":"IF(COUNTIF(U$2:U104,U104)=1,U104,\"\")","v":""},"","","",null,{"$f":"+IF(AH104=\"\",\"\",MAX(AC$1:AC103)+1)","v":""},{"$f":"IF(CMS_Detail!$B126=\"\",\"\",CMS_Detail!$B126)","v":""},{"$f":"IF(CMS_Detail!$C126=\"\",\"\",CMS_Detail!$C126)","v":""},null,"",{"$f":"IF(COUNTIF(AE$2:AE104,AE104)=1,AE104,\"\")","v":""},"","",""]
[null,null,null,null,null,null,null,null,null,null,null,null,null,null,null,null,null,null,{"$f":"+IF(X105=\"\",\"\",MAX(S$1:S104)+1)","v":""},{"$f":"IF(Emission_Limits_Details!$B127=\"\",\"\",Emission_Limits_Details!$B127)","v":""},{"$f":"IF(Emission_Limits_Details!$C127=\"\",\"\",Emission_Limits_Details!$C127)","v":""},null,"",{"$f":"IF(COUNTIF(U$2:U105,U105)=1,U105,\"\")","v":""},"","","",null,{"$f":"+IF(AH105=\"\",\"\",MAX(AC$1:AC104)+1)","v":""},{"$f":"IF(CMS_Detail!$B127=\"\",\"\",CMS_Detail!$B127)","v":""},{"$f":"IF(CMS_Detail!$C127=\"\",\"\",CMS_Detail!$C127)","v":""},null,"",{"$f":"IF(COUNTIF(AE$2:AE105,AE105)=1,AE105,\"\")","v":""},"","",""]
[null,null,null,null,null,null,null,null,null,null,null,null,null,null,null,null,null,null,{"$f":"+IF(X106=\"\",\"\",MAX(S$1:S105)+1)","v":""},{"$f":"IF(Emission_Limits_Details!$B128=\"\",\"\",Emission_Limits_Details!$B128)","v":""},{"$f":"IF(Emission_Limits_Details!$C128=\"\",\"\",Emission_Limits_Details!$C128)","v":""},null,"",{"$f":"IF(COUNTIF(U$2:U106,U106)=1,U106,\"\")","v":""},"","","",null,{"$f":"+IF(AH106=\"\",\"\",MAX(AC$1:AC105)+1)","v":""},{"$f":"IF(CMS_Detail!$B128=\"\",\"\",CMS_Detail!$B128)","v":""},{"$f":"IF(CMS_Detail!$C128=\"\",\"\",CMS_Detail!$C128)","v":""},null,"",{"$f":"IF(COUNTIF(AE$2:AE106,AE106)=1,AE106,\"\")","v":""},"","",""]
[null,null,null,null,null,null,null,null,null,null,null,null,null,null,null,null,null,null,{"$f":"+IF(X107=\"\",\"\",MAX(S$1:S106)+1)","v":""},{"$f":"IF(Emission_Limits_Details!$B129=\"\",\"\",Emission_Limits_Details!$B129)","v":""},{"$f":"IF(Emission_Limits_Details!$C129=\"\",\"\",Emission_Limits_Details!$C129)","v":""},null,"",{"$f":"IF(COUNTIF(U$2:U107,U107)=1,U107,\"\")","v":""},"","","",null,{"$f":"+IF(AH107=\"\",\"\",MAX(AC$1:AC106)+1)","v":""},{"$f":"IF(CMS_Detail!$B129=\"\",\"\",CMS_Detail!$B129)","v":""},{"$f":"IF(CMS_Detail!$C129=\"\",\"\",CMS_Detail!$C129)","v":""},null,"",{"$f":"IF(COUNTIF(AE$2:AE107,AE107)=1,AE107,\"\")","v":""},"","",""]
[null,null,null,null,null,null,null,null,null,null,null,null,null,null,null,null,null,null,{"$f":"+IF(X108=\"\",\"\",MAX(S$1:S107)+1)","v":""},{"$f":"IF(Emission_Limits_Details!$B130=\"\",\"\",Emission_Limits_Details!$B130)","v":""},{"$f":"IF(Emission_Limits_Details!$C130=\"\",\"\",Emission_Limits_Details!$C130)","v":""},null,"",{"$f":"IF(COUNTIF(U$2:U108,U108)=1,U108,\"\")","v":""},"","","",null,{"$f":"+IF(AH108=\"\",\"\",MAX(AC$1:AC107)+1)","v":""},{"$f":"IF(CMS_Detail!$B130=\"\",\"\",CMS_Detail!$B130)","v":""},{"$f":"IF(CMS_Detail!$C130=\"\",\"\",CMS_Detail!$C130)","v":""},null,"",{"$f":"IF(COUNTIF(AE$2:AE108,AE108)=1,AE108,\"\")","v":""},"","",""]
[null,null,null,null,null,null,null,null,null,null,null,null,null,null,null,null,null,null,{"$f":"+IF(X109=\"\",\"\",MAX(S$1:S108)+1)","v":""},{"$f":"IF(Emission_Limits_Details!$B131=\"\",\"\",Emission_Limits_Details!$B131)","v":""},{"$f":"IF(Emission_Limits_Details!$C131=\"\",\"\",Emission_Limits_Details!$C131)","v":""},null,"",{"$f":"IF(COUNTIF(U$2:U109,U109)=1,U109,\"\")","v":""},"","","",null,{"$f":"+IF(AH109=\"\",\"\",MAX(AC$1:AC108)+1)","v":""},{"$f":"IF(CMS_Detail!$B131=\"\",\"\",CMS_Detail!$B131)","v":""},{"$f":"IF(CMS_Detail!$C131=\"\",\"\",CMS_Detail!$C131)","v":""},null,"",{"$f":"IF(COUNTIF(AE$2:AE109,AE109)=1,AE109,\"\")","v":""},"","",""]
[null,null,null,null,null,null,null,null,null,null,null,null,null,null,null,null,null,null,{"$f":"+IF(X110=\"\",\"\",MAX(S$1:S109)+1)","v":""},{"$f":"IF(Emission_Limits_Details!$B132=\"\",\"\",Emission_Limits_Details!$B132)","v":""},{"$f":"IF(Emission_Limits_Details!$C132=\"\",\"\",Emission_Limits_Details!$C132)","v":""},null,"",{"$f":"IF(COUNTIF(U$2:U110,U110)=1,U110,\"\")","v":""},"","","",null,{"$f":"+IF(AH110=\"\",\"\",MAX(AC$1:AC109)+1)","v":""},{"$f":"IF(CMS_Detail!$B132=\"\",\"\",CMS_Detail!$B132)","v":""},{"$f":"IF(CMS_Detail!$C132=\"\",\"\",CMS_Detail!$C132)","v":""},null,"",{"$f":"IF(COUNTIF(AE$2:AE110,AE110)=1,AE110,\"\")","v":""},"","",""]
[null,null,null,null,null,null,null,null,null,null,null,null,null,null,null,null,null,null,{"$f":"+IF(X111=\"\",\"\",MAX(S$1:S110)+1)","v":""},{"$f":"IF(Emission_Limits_Details!$B133=\"\",\"\",Emission_Limits_Details!$B133)","v":""},{"$f":"IF(Emission_Limits_Details!$C133=\"\",\"\",Emission_Limits_Details!$C133)","v":""},null,"",{"$f":"IF(COUNTIF(U$2:U111,U111)=1,U111,\"\")","v":""},"","","",null,{"$f":"+IF(AH111=\"\",\"\",MAX(AC$1:AC110)+1)","v":""},{"$f":"IF(CMS_Detail!$B133=\"\",\"\",CMS_Detail!$B133)","v":""},{"$f":"IF(CMS_Detail!$C133=\"\",\"\",CMS_Detail!$C133)","v":""},null,"",{"$f":"IF(COUNTIF(AE$2:AE111,AE111)=1,AE111,\"\")","v":""},"","",""]
[null,null,null,null,null,null,null,null,null,null,null,null,null,null,null,null,null,null,{"$f":"+IF(X112=\"\",\"\",MAX(S$1:S111)+1)","v":""},{"$f":"IF(Emission_Limits_Details!$B134=\"\",\"\",Emission_Limits_Details!$B134)","v":""},{"$f":"IF(Emission_Limits_Details!$C134=\"\",\"\",Emission_Limits_Details!$C134)","v":""},null,"",{"$f":"IF(COUNTIF(U$2:U112,U112)=1,U112,\"\")","v":""},"","","",null,{"$f":"+IF(AH112=\"\",\"\",MAX(AC$1:AC111)+1)","v":""},{"$f":"IF(CMS_Detail!$B134=\"\",\"\",CMS_Detail!$B134)","v":""},{"$f":"IF(CMS_Detail!$C134=\"\",\"\",CMS_Detail!$C134)","v":""},null,"",{"$f":"IF(COUNTIF(AE$2:AE112,AE112)=1,AE112,\"\")","v":""},"","",""]
[null,null,null,null,null,null,null,null,null,null,null,null,null,null,null,null,null,null,{"$f":"+IF(X113=\"\",\"\",MAX(S$1:S112)+1)","v":""},{"$f":"IF(Emission_Limits_Details!$B135=\"\",\"\",Emission_Limits_Details!$B135)","v":""},{"$f":"IF(Emission_Limits_Details!$C135=\"\",\"\",Emission_Limits_Details!$C135)","v":""},null,"",{"$f":"IF(COUNTIF(U$2:U113,U113)=1,U113,\"\")","v":""},"","","",null,{"$f":"+IF(AH113=\"\",\"\",MAX(AC$1:AC112)+1)","v":""},{"$f":"IF(CMS_Detail!$B135=\"\",\"\",CMS_Detail!$B135)","v":""},{"$f":"IF(CMS_Detail!$C135=\"\",\"\",CMS_Detail!$C135)","v":""},null,"",{"$f":"IF(COUNTIF(AE$2:AE113,AE113)=1,AE113,\"\")","v":""},"","",""]
[null,null,null,null,null,null,null,null,null,null,null,null,null,null,null,null,null,null,{"$f":"+IF(X114=\"\",\"\",MAX(S$1:S113)+1)","v":""},{"$f":"IF(Emission_Limits_Details!$B136=\"\",\"\",Emission_Limits_Details!$B136)","v":""},{"$f":"IF(Emission_Limits_Details!$C136=\"\",\"\",Emission_Limits_Details!$C136)","v":""},null,"",{"$f":"IF(COUNTIF(U$2:U114,U114)=1,U114,\"\")","v":""},"","","",null,{"$f":"+IF(AH114=\"\",\"\",MAX(AC$1:AC113)+1)","v":""},{"$f":"IF(CMS_Detail!$B136=\"\",\"\",CMS_Detail!$B136)","v":""},{"$f":"IF(CMS_Detail!$C136=\"\",\"\",CMS_Detail!$C136)","v":""},null,"",{"$f":"IF(COUNTIF(AE$2:AE114,AE114)=1,AE114,\"\")","v":""},"","",""]
[null,null,null,null,null,null,null,null,null,null,null,null,null,null,null,null,null,null,{"$f":"+IF(X115=\"\",\"\",MAX(S$1:S114)+1)","v":""},{"$f":"IF(Emission_Limits_Details!$B137=\"\",\"\",Emission_Limits_Details!$B137)","v":""},{"$f":"IF(Emission_Limits_Details!$C137=\"\",\"\",Emission_Limits_Details!$C137)","v":""},null,"",{"$f":"IF(COUNTIF(U$2:U115,U115)=1,U115,\"\")","v":""},"","","",null,{"$f":"+IF(AH115=\"\",\"\",MAX(AC$1:AC114)+1)","v":""},{"$f":"IF(CMS_Detail!$B137=\"\",\"\",CMS_Detail!$B137)","v":""},{"$f":"IF(CMS_Detail!$C137=\"\",\"\",CMS_Detail!$C137)","v":""},null,"",{"$f":"IF(COUNTIF(AE$2:AE115,AE115)=1,AE115,\"\")","v":""},"","",""]
[null,null,null,null,null,null,null,null,null,null,null,null,null,null,null,null,null,null,{"$f":"+IF(X116=\"\",\"\",MAX(S$1:S115)+1)","v":""},{"$f":"IF(Emission_Limits_Details!$B138=\"\",\"\",Emission_Limits_Details!$B138)","v":""},{"$f":"IF(Emission_Limits_Details!$C138=\"\",\"\",Emission_Limits_Details!$C138)","v":""},null,"",{"$f":"IF(COUNTIF(U$2:U116,U116)=1,U116,\"\")","v":""},"","","",null,{"$f":"+IF(AH116=\"\",\"\",MAX(AC$1:AC115)+1)","v":""},{"$f":"IF(CMS_Detail!$B138=\"\",\"\",CMS_Detail!$B138)","v":""},{"$f":"IF(CMS_Detail!$C138=\"\",\"\",CMS_Detail!$C138)","v":""},null,"",{"$f":"IF(COUNTIF(AE$2:AE116,AE116)=1,AE116,\"\")","v":""},"","",""]
[null,null,null,null,null,null,null,null,null,null,null,null,null,null,null,null,null,null,{"$f":"+IF(X117=\"\",\"\",MAX(S$1:S116)+1)","v":""},{"$f":"IF(Emission_Limits_Details!$B139=\"\",\"\",Emission_Limits_Details!$B139)","v":""},{"$f":"IF(Emission_Limits_Details!$C139=\"\",\"\",Emission_Limits_Details!$C139)","v":""},null,"",{"$f":"IF(COUNTIF(U$2:U117,U117)=1,U117,\"\")","v":""},"","","",null,{"$f":"+IF(AH117=\"\",\"\",MAX(AC$1:AC116)+1)","v":""},{"$f":"IF(CMS_Detail!$B139=\"\",\"\",CMS_Detail!$B139)","v":""},{"$f":"IF(CMS_Detail!$C139=\"\",\"\",CMS_Detail!$C139)","v":""},null,"",{"$f":"IF(COUNTIF(AE$2:AE117,AE117)=1,AE117,\"\")","v":""},"","",""]
[null,null,null,null,null,null,null,null,null,null,null,null,null,null,null,null,null,null,{"$f":"+IF(X118=\"\",\"\",MAX(S$1:S117)+1)","v":""},{"$f":"IF(Emission_Limits_Details!$B140=\"\",\"\",Emission_Limits_Details!$B140)","v":""},{"$f":"IF(Emission_Limits_Details!$C140=\"\",\"\",Emission_Limits_Details!$C140)","v":""},null,"",{"$f":"IF(COUNTIF(U$2:U118,U118)=1,U118,\"\")","v":""},"","","",null,{"$f":"+IF(AH118=\"\",\"\",MAX(AC$1:AC117)+1)","v":""},{"$f":"IF(CMS_Detail!$B140=\"\",\"\",CMS_Detail!$B140)","v":""},{"$f":"IF(CMS_Detail!$C140=\"\",\"\",CMS_Detail!$C140)","v":""},null,"",{"$f":"IF(COUNTIF(AE$2:AE118,AE118)=1,AE118,\"\")","v":""},"","",""]
[null,null,null,null,null,null,null,null,null,null,null,null,null,null,null,null,null,null,{"$f":"+IF(X119=\"\",\"\",MAX(S$1:S118)+1)","v":""},{"$f":"IF(Emission_Limits_Details!$B141=\"\",\"\",Emission_Limits_Details!$B141)","v":""},{"$f":"IF(Emission_Limits_Details!$C141=\"\",\"\",Emission_Limits_Details!$C141)","v":""},null,"",{"$f":"IF(COUNTIF(U$2:U119,U119)=1,U119,\"\")","v":""},"","","",null,{"$f":"+IF(AH119=\"\",\"\",MAX(AC$1:AC118)+1)","v":""},{"$f":"IF(CMS_Detail!$B141=\"\",\"\",CMS_Detail!$B141)","v":""},{"$f":"IF(CMS_Detail!$C141=\"\",\"\",CMS_Detail!$C141)","v":""},null,"",{"$f":"IF(COUNTIF(AE$2:AE119,AE119)=1,AE119,\"\")","v":""},"","",""]
[null,null,null,null,null,null,null,null,null,null,null,null,null,null,null,null,null,null,{"$f":"+IF(X120=\"\",\"\",MAX(S$1:S119)+1)","v":""},{"$f":"IF(Emission_Limits_Details!$B142=\"\",\"\",Emission_Limits_Details!$B142)","v":""},{"$f":"IF(Emission_Limits_Details!$C142=\"\",\"\",Emission_Limits_Details!$C142)","v":""},null,"",{"$f":"IF(COUNTIF(U$2:U120,U120)=1,U120,\"\")","v":""},"","","",null,{"$f":"+IF(AH120=\"\",\"\",MAX(AC$1:AC119)+1)","v":""},{"$f":"IF(CMS_Detail!$B142=\"\",\"\",CMS_Detail!$B142)","v":""},{"$f":"IF(CMS_Detail!$C142=\"\",\"\",CMS_Detail!$C142)","v":""},null,"",{"$f":"IF(COUNTIF(AE$2:AE120,AE120)=1,AE120,\"\")","v":""},"","",""]
[null,null,null,null,null,null,null,null,null,null,null,null,null,null,null,null,null,null,{"$f":"+IF(X121=\"\",\"\",MAX(S$1:S120)+1)","v":""},{"$f":"IF(Emission_Limits_Details!$B143=\"\",\"\",Emission_Limits_Details!$B143)","v":""},{"$f":"IF(Emission_Limits_Details!$C143=\"\",\"\",Emission_Limits_Details!$C143)","v":""},null,"",{"$f":"IF(COUNTIF(U$2:U121,U121)=1,U121,\"\")","v":""},"","","",null,{"$f":"+IF(AH121=\"\",\"\",MAX(AC$1:AC120)+1)","v":""},{"$f":"IF(CMS_Detail!$B143=\"\",\"\",CMS_Detail!$B143)","v":""},{"$f":"IF(CMS_Detail!$C143=\"\",\"\",CMS_Detail!$C143)","v":""},null,"",{"$f":"IF(COUNTIF(AE$2:AE121,AE121)=1,AE121,\"\")","v":""},"","",""]
[null,null,null,null,null,null,null,null,null,null,null,null,null,null,null,null,null,null,{"$f":"+IF(X122=\"\",\"\",MAX(S$1:S121)+1)","v":""},{"$f":"IF(Emission_Limits_Details!$B144=\"\",\"\",Emission_Limits_Details!$B144)","v":""},{"$f":"IF(Emission_Limits_Details!$C144=\"\",\"\",Emission_Limits_Details!$C144)","v":""},null,"",{"$f":"IF(COUNTIF(U$2:U122,U122)=1,U122,\"\")","v":""},"","","",null,{"$f":"+IF(AH122=\"\",\"\",MAX(AC$1:AC121)+1)","v":""},{"$f":"IF(CMS_Detail!$B144=\"\",\"\",CMS_Detail!$B144)","v":""},{"$f":"IF(CMS_Detail!$C144=\"\",\"\",CMS_Detail!$C144)","v":""},null,"",{"$f":"IF(COUNTIF(AE$2:AE122,AE122)=1,AE122,\"\")","v":""},"","",""]
[null,null,null,null,null,null,null,null,null,null,null,null,null,null,null,null,null,null,{"$f":"+IF(X123=\"\",\"\",MAX(S$1:S122)+1)","v":""},{"$f":"IF(Emission_Limits_Details!$B145=\"\",\"\",Emission_Limits_Details!$B145)","v":""},{"$f":"IF(Emission_Limits_Details!$C145=\"\",\"\",Emission_Limits_Details!$C145)","v":""},null,"",{"$f":"IF(COUNTIF(U$2:U123,U123)=1,U123,\"\")","v":""},"","","",null,{"$f":"+IF(AH123=\"\",\"\",MAX(AC$1:AC122)+1)","v":""},{"$f":"IF(CMS_Detail!$B145=\"\",\"\",CMS_Detail!$B145)","v":""},{"$f":"IF(CMS_Detail!$C145=\"\",\"\",CMS_Detail!$C145)","v":""},null,"",{"$f":"IF(COUNTIF(AE$2:AE123,AE123)=1,AE123,\"\")","v":""},"","",""]
[null,null,null,null,null,null,null,null,null,null,null,null,null,null,null,null,null,null,{"$f":"+IF(X124=\"\",\"\",MAX(S$1:S123)+1)","v":""},{"$f":"IF(Emission_Limits_Details!$B146=\"\",\"\",Emission_Limits_Details!$B146)","v":""},{"$f":"IF(Emission_Limits_Details!$C146=\"\",\"\",Emission_Limits_Details!$C146)","v":""},null,"",{"$f":"IF(COUNTIF(U$2:U124,U124)=1,U124,\"\")","v":""},"","","",null,{"$f":"+IF(AH124=\"\",\"\",MAX(AC$1:AC123)+1)","v":""},{"$f":"IF(CMS_Detail!$B146=\"\",\"\",CMS_Detail!$B146)","v":""},{"$f":"IF(CMS_Detail!$C146=\"\",\"\",CMS_Detail!$C146)","v":""},null,"",{"$f":"IF(COUNTIF(AE$2:AE124,AE124)=1,AE124,\"\")","v":""},"","",""]
[null,null,null,null,null,null,null,null,null,null,null,null,null,null,null,null,null,null,{"$f":"+IF(X125=\"\",\"\",MAX(S$1:S124)+1)","v":""},{"$f":"IF(Emission_Limits_Details!$B147=\"\",\"\",Emission_Limits_Details!$B147)","v":""},{"$f":"IF(Emission_Limits_Details!$C147=\"\",\"\",Emission_Limits_Details!$C147)","v":""},null,"",{"$f":"IF(COUNTIF(U$2:U125,U125)=1,U125,\"\")","v":""},"","","",null,{"$f":"+IF(AH125=\"\",\"\",MAX(AC$1:AC124)+1)","v":""},{"$f":"IF(CMS_Detail!$B147=\"\",\"\",CMS_Detail!$B147)","v":""},{"$f":"IF(CMS_Detail!$C147=\"\",\"\",CMS_Detail!$C147)","v":""},null,"",{"$f":"IF(COUNTIF(AE$2:AE125,AE125)=1,AE125,\"\")","v":""},"","",""]
[null,null,null,null,null,null,null,null,null,null,null,null,null,null,null,null,null,null,{"$f":"+IF(X126=\"\",\"\",MAX(S$1:S125)+1)","v":""},{"$f":"IF(Emission_Limits_Details!$B148=\"\",\"\",Emission_Limits_Details!$B148)","v":""},{"$f":"IF(Emission_Limits_Details!$C148=\"\",\"\",Emission_Limits_Details!$C148)","v":""},null,"",{"$f":"IF(COUNTIF(U$2:U126,U126)=1,U126,\"\")","v":""},"","","",null,{"$f":"+IF(AH126=\"\",\"\",MAX(AC$1:AC125)+1)","v":""},{"$f":"IF(CMS_Detail!$B148=\"\",\"\",CMS_Detail!$B148)","v":""},{"$f":"IF(CMS_Detail!$C148=\"\",\"\",CMS_Detail!$C148)","v":""},null,"",{"$f":"IF(COUNTIF(AE$2:AE126,AE126)=1,AE126,\"\")","v":""},"","",""]
[null,null,null,null,null,null,null,null,null,null,null,null,null,null,null,null,null,null,{"$f":"+IF(X127=\"\",\"\",MAX(S$1:S126)+1)","v":""},{"$f":"IF(Emission_Limits_Details!$B149=\"\",\"\",Emission_Limits_Details!$B149)","v":""},{"$f":"IF(Emission_Limits_Details!$C149=\"\",\"\",Emission_Limits_Details!$C149)","v":""},null,"",{"$f":"IF(COUNTIF(U$2:U127,U127)=1,U127,\"\")","v":""},"","","",null,{"$f":"+IF(AH127=\"\",\"\",MAX(AC$1:AC126)+1)","v":""},{"$f":"IF(CMS_Detail!$B149=\"\",\"\",CMS_Detail!$B149)","v":""},{"$f":"IF(CMS_Detail!$C149=\"\",\"\",CMS_Detail!$C149)","v":""},null,"",{"$f":"IF(COUNTIF(AE$2:AE127,AE127)=1,AE127,\"\")","v":""},"","",""]
[null,null,null,null,null,null,null,null,null,null,null,null,null,null,null,null,null,null,{"$f":"+IF(X128=\"\",\"\",MAX(S$1:S127)+1)","v":""},{"$f":"IF(Emission_Limits_Details!$B150=\"\",\"\",Emission_Limits_Details!$B150)","v":""},{"$f":"IF(Emission_Limits_Details!$C150=\"\",\"\",Emission_Limits_Details!$C150)","v":""},null,"",{"$f":"IF(COUNTIF(U$2:U128,U128)=1,U128,\"\")","v":""},"","","",null,{"$f":"+IF(AH128=\"\",\"\",MAX(AC$1:AC127)+1)","v":""},{"$f":"IF(CMS_Detail!$B150=\"\",\"\",CMS_Detail!$B150)","v":""},{"$f":"IF(CMS_Detail!$C150=\"\",\"\",CMS_Detail!$C150)","v":""},null,"",{"$f":"IF(COUNTIF(AE$2:AE128,AE128)=1,AE128,\"\")","v":""},"","",""]
[null,null,null,null,null,null,null,null,null,null,null,null,null,null,null,null,null,null,{"$f":"+IF(X129=\"\",\"\",MAX(S$1:S128)+1)","v":""},{"$f":"IF(Emission_Limits_Details!$B151=\"\",\"\",Emission_Limits_Details!$B151)","v":""},{"$f":"IF(Emission_Limits_Details!$C151=\"\",\"\",Emission_Limits_Details!$C151)","v":""},null,"",{"$f":"IF(COUNTIF(U$2:U129,U129)=1,U129,\"\")","v":""},"","","",null,{"$f":"+IF(AH129=\"\",\"\",MAX(AC$1:AC128)+1)","v":""},{"$f":"IF(CMS_Detail!$B151=\"\",\"\",CMS_Detail!$B151)","v":""},{"$f":"IF(CMS_Detail!$C151=\"\",\"\",CMS_Detail!$C151)","v":""},null,"",{"$f":"IF(COUNTIF(AE$2:AE129,AE129)=1,AE129,\"\")","v":""},"","",""]
[null,null,null,null,null,null,null,null,null,null,null,null,null,null,null,null,null,null,{"$f":"+IF(X130=\"\",\"\",MAX(S$1:S129)+1)","v":""},{"$f":"IF(Emission_Limits_Details!$B152=\"\",\"\",Emission_Limits_Details!$B152)","v":""},{"$f":"IF(Emission_Limits_Details!$C152=\"\",\"\",Emission_Limits_Details!$C152)","v":""},null,"",{"$f":"IF(COUNTIF(U$2:U130,U130)=1,U130,\"\")","v":""},"","","",null,{"$f":"+IF(AH130=\"\",\"\",MAX(AC$1:AC129)+1)","v":""},{"$f":"IF(CMS_Detail!$B152=\"\",\"\",CMS_Detail!$B152)","v":""},{"$f":"IF(CMS_Detail!$C152=\"\",\"\",CMS_Detail!$C152)","v":""},null,"",{"$f":"IF(COUNTIF(AE$2:AE130,AE130)=1,AE130,\"\")","v":""},"","",""]
[null,null,null,null,null,null,null,null,null,null,null,null,null,null,null,null,null,null,{"$f":"+IF(X131=\"\",\"\",MAX(S$1:S130)+1)","v":""},{"$f":"IF(Emission_Limits_Details!$B153=\"\",\"\",Emission_Limits_Details!$B153)","v":""},{"$f":"IF(Emission_Limits_Details!$C153=\"\",\"\",Emission_Limits_Details!$C153)","v":""},null,{"$f":"T131&U131&V131","v":""},{"$f":"IF(COUNTIF(U$2:U131,U131)=1,U131,\"\")","v":""},{"$f":"+IFERROR(INDEX(T$2:T$955,MATCH(ROW()-ROW(X$1),S$2:S$955,0)),\"\")","v":""},{"$f":"+IFERROR(INDEX(U$2:U$955,MATCH(ROW()-ROW(X$1),S$2:S$955,0)),\"\")","v":""},{"$f":"+IFERROR(INDEX(V$2:V$955,MATCH(ROW()-ROW(Y$1),S$2:S$955,0)),\"\")","v":""},null,{"$f":"+IF(AH131=\"\",\"\",MAX(AC$1:AC130)+1)","v":""},{"$f":"IF(CMS_Detail!$B153=\"\",\"\",CMS_Detail!$B153)","v":""},{"$f":"IF(CMS_Detail!$C153=\"\",\"\",CMS_Detail!$C153)","v":""},null,{"$f":"AD131&AE131&AF131","v":""},{"$f":"IF(COUNTIF(AE$2:AE131,AE131)=1,AE131,\"\")","v":""},{"$f":"+IFERROR(INDEX(AD$2:AD$955,MATCH(ROW()-ROW(AH$1),AC$2:AC$955,0)),\"\")","v":""},{"$f":"+IFERROR(INDEX(AE$2:AE$955,MATCH(ROW()-ROW(AH$1),AC$2:AC$955,0)),\"\")","v":""},{"$f":"+IFERROR(INDEX(AF$2:AF$955,MATCH(ROW()-ROW(AI$1),AC$2:AC$955,0)),\"\")","v":""}]
[null,null,null,null,null,null,null,null,null,null,null,null,null,null,null,null,null,null,{"$f":"+IF(X132=\"\",\"\",MAX(S$1:S131)+1)","v":""},{"$f":"IF(Emission_Limits_Details!$B154=\"\",\"\",Emission_Limits_Details!$B154)","v":""},{"$f":"IF(Emission_Limits_Details!$C154=\"\",\"\",Emission_Limits_Details!$C154)","v":""},null,"",{"$f":"IF(COUNTIF(U$2:U132,U132)=1,U132,\"\")","v":""},"","","",null,{"$f":"+IF(AH132=\"\",\"\",MAX(AC$1:AC131)+1)","v":""},{"$f":"IF(CMS_Detail!$B154=\"\",\"\",CMS_Detail!$B154)","v":""},{"$f":"IF(CMS_Detail!$C154=\"\",\"\",CMS_Detail!$C154)","v":""},null,"",{"$f":"IF(COUNTIF(AE$2:AE132,AE132)=1,AE132,\"\")","v":""},"","",""]
[null,null,null,null,null,null,null,null,null,null,null,null,null,null,null,null,null,null,{"$f":"+IF(X133=\"\",\"\",MAX(S$1:S132)+1)","v":""},{"$f":"IF(Emission_Limits_Details!$B155=\"\",\"\",Emission_Limits_Details!$B155)","v":""},{"$f":"IF(Emission_Limits_Details!$C155=\"\",\"\",Emission_Limits_Details!$C155)","v":""},null,"",{"$f":"IF(COUNTIF(U$2:U133,U133)=1,U133,\"\")","v":""},"","","",null,{"$f":"+IF(AH133=\"\",\"\",MAX(AC$1:AC132)+1)","v":""},{"$f":"IF(CMS_Detail!$B155=\"\",\"\",CMS_Detail!$B155)","v":""},{"$f":"IF(CMS_Detail!$C155=\"\",\"\",CMS_Detail!$C155)","v":""},null,"",{"$f":"IF(COUNTIF(AE$2:AE133,AE133)=1,AE133,\"\")","v":""},"","",""]
[null,null,null,null,null,null,null,null,null,null,null,null,null,null,null,null,null,null,{"$f":"+IF(X134=\"\",\"\",MAX(S$1:S133)+1)","v":""},{"$f":"IF(Emission_Limits_Details!$B156=\"\",\"\",Emission_Limits_Details!$B156)","v":""},{"$f":"IF(Emission_Limits_Details!$C156=\"\",\"\",Emission_Limits_Details!$C156)","v":""},null,"",{"$f":"IF(COUNTIF(U$2:U134,U134)=1,U134,\"\")","v":""},"","","",null,{"$f":"+IF(AH134=\"\",\"\",MAX(AC$1:AC133)+1)","v":""},{"$f":"IF(CMS_Detail!$B156=\"\",\"\",CMS_Detail!$B156)","v":""},{"$f":"IF(CMS_Detail!$C156=\"\",\"\",CMS_Detail!$C156)","v":""},null,"",{"$f":"IF(COUNTIF(AE$2:AE134,AE134)=1,AE134,\"\")","v":""},"","",""]
[null,null,null,null,null,null,null,null,null,null,null,null,null,null,null,null,null,null,{"$f":"+IF(X135=\"\",\"\",MAX(S$1:S134)+1)","v":""},{"$f":"IF(Emission_Limits_Details!$B157=\"\",\"\",Emission_Limits_Details!$B157)","v":""},{"$f":"IF(Emission_Limits_Details!$C157=\"\",\"\",Emission_Limits_Details!$C157)","v":""},null,"",{"$f":"IF(COUNTIF(U$2:U135,U135)=1,U135,\"\")","v":""},"","","",null,{"$f":"+IF(AH135=\"\",\"\",MAX(AC$1:AC134)+1)","v":""},{"$f":"IF(CMS_Detail!$B157=\"\",\"\",CMS_Detail!$B157)","v":""},{"$f":"IF(CMS_Detail!$C157=\"\",\"\",CMS_Detail!$C157)","v":""},null,"",{"$f":"IF(COUNTIF(AE$2:AE135,AE135)=1,AE135,\"\")","v":""},"","",""]
[null,null,null,null,null,null,null,null,null,null,null,null,null,null,null,null,null,null,{"$f":"+IF(X136=\"\",\"\",MAX(S$1:S135)+1)","v":""},{"$f":"IF(Emission_Limits_Details!$B158=\"\",\"\",Emission_Limits_Details!$B158)","v":""},{"$f":"IF(Emission_Limits_Details!$C158=\"\",\"\",Emission_Limits_Details!$C158)","v":""},null,"",{"$f":"IF(COUNTIF(U$2:U136,U136)=1,U136,\"\")","v":""},"","","",null,{"$f":"+IF(AH136=\"\",\"\",MAX(AC$1:AC135)+1)","v":""},{"$f":"IF(CMS_Detail!$B158=\"\",\"\",CMS_Detail!$B158)","v":""},{"$f":"IF(CMS_Detail!$C158=\"\",\"\",CMS_Detail!$C158)","v":""},null,"",{"$f":"IF(COUNTIF(AE$2:AE136,AE136)=1,AE136,\"\")","v":""},"","",""]
[null,null,null,null,null,null,null,null,null,null,null,null,null,null,null,null,null,null,{"$f":"+IF(X137=\"\",\"\",MAX(S$1:S136)+1)","v":""},{"$f":"IF(Emission_Limits_Details!$B159=\"\",\"\",Emission_Limits_Details!$B159)","v":""},{"$f":"IF(Emission_Limits_Details!$C159=\"\",\"\",Emission_Limits_Details!$C159)","v":""},null,"",{"$f":"IF(COUNTIF(U$2:U137,U137)=1,U137,\"\")","v":""},"","","",null,{"$f":"+IF(AH137=\"\",\"\",MAX(AC$1:AC136)+1)","v":""},{"$f":"IF(CMS_Detail!$B159=\"\",\"\",CMS_Detail!$B159)","v":""},{"$f":"IF(CMS_Detail!$C159=\"\",\"\",CMS_Detail!$C159)","v":""},null,"",{"$f":"IF(COUNTIF(AE$2:AE137,AE137)=1,AE137,\"\")","v":""},"","",""]
[null,null,null,null,null,null,null,null,null,null,null,null,null,null,null,null,null,null,{"$f":"+IF(X138=\"\",\"\",MAX(S$1:S137)+1)","v":""},{"$f":"IF(Emission_Limits_Details!$B160=\"\",\"\",Emission_Limits_Details!$B160)","v":""},{"$f":"IF(Emission_Limits_Details!$C160=\"\",\"\",Emission_Limits_Details!$C160)","v":""},null,"",{"$f":"IF(COUNTIF(U$2:U138,U138)=1,U138,\"\")","v":""},"","","",null,{"$f":"+IF(AH138=\"\",\"\",MAX(AC$1:AC137)+1)","v":""},{"$f":"IF(CMS_Detail!$B160=\"\",\"\",CMS_Detail!$B160)","v":""},{"$f":"IF(CMS_Detail!$C160=\"\",\"\",CMS_Detail!$C160)","v":""},null,"",{"$f":"IF(COUNTIF(AE$2:AE138,AE138)=1,AE138,\"\")","v":""},"","",""]
[null,null,null,null,null,null,null,null,null,null,null,null,null,null,null,null,null,null,{"$f":"+IF(X139=\"\",\"\",MAX(S$1:S138)+1)","v":""},{"$f":"IF(Emission_Limits_Details!$B161=\"\",\"\",Emission_Limits_Details!$B161)","v":""},{"$f":"IF(Emission_Limits_Details!$C161=\"\",\"\",Emission_Limits_Details!$C161)","v":""},null,"",{"$f":"IF(COUNTIF(U$2:U139,U139)=1,U139,\"\")","v":""},"","","",null,{"$f":"+IF(AH139=\"\",\"\",MAX(AC$1:AC138)+1)","v":""},{"$f":"IF(CMS_Detail!$B161=\"\",\"\",CMS_Detail!$B161)","v":""},{"$f":"IF(CMS_Detail!$C161=\"\",\"\",CMS_Detail!$C161)","v":""},null,"",{"$f":"IF(COUNTIF(AE$2:AE139,AE139)=1,AE139,\"\")","v":""},"","",""]
[null,null,null,null,null,null,null,null,null,null,null,null,null,null,null,null,null,null,{"$f":"+IF(X140=\"\",\"\",MAX(S$1:S139)+1)","v":""},{"$f":"IF(Emission_Limits_Details!$B162=\"\",\"\",Emission_Limits_Details!$B162)","v":""},{"$f":"IF(Emission_Limits_Details!$C162=\"\",\"\",Emission_Limits_Details!$C162)","v":""},null,"",{"$f":"IF(COUNTIF(U$2:U140,U140)=1,U140,\"\")","v":""},"","","",null,{"$f":"+IF(AH140=\"\",\"\",MAX(AC$1:AC139)+1)","v":""},{"$f":"IF(CMS_Detail!$B162=\"\",\"\",CMS_Detail!$B162)","v":""},{"$f":"IF(CMS_Detail!$C162=\"\",\"\",CMS_Detail!$C162)","v":""},null,"",{"$f":"IF(COUNTIF(AE$2:AE140,AE140)=1,AE140,\"\")","v":""},"","",""]
[null,null,null,null,null,null,null,null,null,null,null,null,null,null,null,null,null,null,{"$f":"+IF(X141=\"\",\"\",MAX(S$1:S140)+1)","v":""},{"$f":"IF(Emission_Limits_Details!$B163=\"\",\"\",Emission_Limits_Details!$B163)","v":""},{"$f":"IF(Emission_Limits_Details!$C163=\"\",\"\",Emission_Limits_Details!$C163)","v":""},null,"",{"$f":"IF(COUNTIF(U$2:U141,U141)=1,U141,\"\")","v":""},"","","",null,{"$f":"+IF(AH141=\"\",\"\",MAX(AC$1:AC140)+1)","v":""},{"$f":"IF(CMS_Detail!$B163=\"\",\"\",CMS_Detail!$B163)","v":""},{"$f":"IF(CMS_Detail!$C163=\"\",\"\",CMS_Detail!$C163)","v":""},null,"",{"$f":"IF(COUNTIF(AE$2:AE141,AE141)=1,AE141,\"\")","v":""},"","",""]
[null,null,null,null,null,null,null,null,null,null,null,null,null,null,null,null,null,null,{"$f":"+IF(X142=\"\",\"\",MAX(S$1:S141)+1)","v":""},{"$f":"IF(Emission_Limits_Details!$B164=\"\",\"\",Emission_Limits_Details!$B164)","v":""},{"$f":"IF(Emission_Limits_Details!$C164=\"\",\"\",Emission_Limits_Details!$C164)","v":""},null,"",{"$f":"IF(COUNTIF(U$2:U142,U142)=1,U142,\"\")","v":""},"","","",null,{"$f":"+IF(AH142=\"\",\"\",MAX(AC$1:AC141)+1)","v":""},{"$f":"IF(CMS_Detail!$B164=\"\",\"\",CMS_Detail!$B164)","v":""},{"$f":"IF(CMS_Detail!$C164=\"\",\"\",CMS_Detail!$C164)","v":""},null,"",{"$f":"IF(COUNTIF(AE$2:AE142,AE142)=1,AE142,\"\")","v":""},"","",""]
[null,null,null,null,null,null,null,null,null,null,null,null,null,null,null,null,null,null,{"$f":"+IF(X143=\"\",\"\",MAX(S$1:S142)+1)","v":""},{"$f":"IF(Emission_Limits_Details!$B165=\"\",\"\",Emission_Limits_Details!$B165)","v":""},{"$f":"IF(Emission_Limits_Details!$C165=\"\",\"\",Emission_Limits_Details!$C165)","v":""},null,"",{"$f":"IF(COUNTIF(U$2:U143,U143)=1,U143,\"\")","v":""},"","","",null,{"$f":"+IF(AH143=\"\",\"\",MAX(AC$1:AC142)+1)","v":""},{"$f":"IF(CMS_Detail!$B165=\"\",\"\",CMS_Detail!$B165)","v":""},{"$f":"IF(CMS_Detail!$C165=\"\",\"\",CMS_Detail!$C165)","v":""},null,"",{"$f":"IF(COUNTIF(AE$2:AE143,AE143)=1,AE143,\"\")","v":""},"","",""]
[null,null,null,null,null,null,null,null,null,null,null,null,null,null,null,null,null,null,{"$f":"+IF(X144=\"\",\"\",MAX(S$1:S143)+1)","v":""},{"$f":"IF(Emission_Limits_Details!$B166=\"\",\"\",Emission_Limits_Details!$B166)","v":""},{"$f":"IF(Emission_Limits_Details!$C166=\"\",\"\",Emission_Limits_Details!$C166)","v":""},null,"",{"$f":"IF(COUNTIF(U$2:U144,U144)=1,U144,\"\")","v":""},"","","",null,{"$f":"+IF(AH144=\"\",\"\",MAX(AC$1:AC143)+1)","v":""},{"$f":"IF(CMS_Detail!$B166=\"\",\"\",CMS_Detail!$B166)","v":""},{"$f":"IF(CMS_Detail!$C166=\"\",\"\",CMS_Detail!$C166)","v":""},null,"",{"$f":"IF(COUNTIF(AE$2:AE144,AE144)=1,AE144,\"\")","v":""},"","",""]
[null,null,null,null,null,null,null,null,null,null,null,null,null,null,null,null,null,null,{"$f":"+IF(X145=\"\",\"\",MAX(S$1:S144)+1)","v":""},{"$f":"IF(Emission_Limits_Details!$B167=\"\",\"\",Emission_Limits_Details!$B167)","v":""},{"$f":"IF(Emission_Limits_Details!$C167=\"\",\"\",Emission_Limits_Details!$C167)","v":""},null,"",{"$f":"IF(COUNTIF(U$2:U145,U145)=1,U145,\"\")","v":""},"","","",null,{"$f":"+IF(AH145=\"\",\"\",MAX(AC$1:AC144)+1)","v":""},{"$f":"IF(CMS_Detail!$B167=\"\",\"\",CMS_Detail!$B167)","v":""},{"$f":"IF(CMS_Detail!$C167=\"\",\"\",CMS_Detail!$C167)","v":""},null,"",{"$f":"IF(COUNTIF(AE$2:AE145,AE145)=1,AE145,\"\")","v":""},"","",""]
[null,null,null,null,null,null,null,null,null,null,null,null,null,null,null,null,null,null,{"$f":"+IF(X146=\"\",\"\",MAX(S$1:S145)+1)","v":""},{"$f":"IF(Emission_Limits_Details!$B168=\"\",\"\",Emission_Limits_Details!$B168)","v":""},{"$f":"IF(Emission_Limits_Details!$C168=\"\",\"\",Emission_Limits_Details!$C168)","v":""},null,"",{"$f":"IF(COUNTIF(U$2:U146,U146)=1,U146,\"\")","v":""},"","","",null,{"$f":"+IF(AH146=\"\",\"\",MAX(AC$1:AC145)+1)","v":""},{"$f":"IF(CMS_Detail!$B168=\"\",\"\",CMS_Detail!$B168)","v":""},{"$f":"IF(CMS_Detail!$C168=\"\",\"\",CMS_Detail!$C168)","v":""},null,"",{"$f":"IF(COUNTIF(AE$2:AE146,AE146)=1,AE146,\"\")","v":""},"","",""]
[null,null,null,null,null,null,null,null,null,null,null,null,null,null,null,null,null,null,{"$f":"+IF(X147=\"\",\"\",MAX(S$1:S146)+1)","v":""},{"$f":"IF(Emission_Limits_Details!$B169=\"\",\"\",Emission_Limits_Details!$B169)","v":""},{"$f":"IF(Emission_Limits_Details!$C169=\"\",\"\",Emission_Limits_Details!$C169)","v":""},null,"",{"$f":"IF(COUNTIF(U$2:U147,U147)=1,U147,\"\")","v":""},"","","",null,{"$f":"+IF(AH147=\"\",\"\",MAX(AC$1:AC146)+1)","v":""},{"$f":"IF(CMS_Detail!$B169=\"\",\"\",CMS_Detail!$B169)","v":""},{"$f":"IF(CMS_Detail!$C169=\"\",\"\",CMS_Detail!$C169)","v":""},null,"",{"$f":"IF(COUNTIF(AE$2:AE147,AE147)=1,AE147,\"\")","v":""},"","",""]
[null,null,null,null,null,null,null,null,null,null,null,null,null,null,null,null,null,null,{"$f":"+IF(X148=\"\",\"\",MAX(S$1:S147)+1)","v":""},{"$f":"IF(Emission_Limits_Details!$B170=\"\",\"\",Emission_Limits_Details!$B170)","v":""},{"$f":"IF(Emission_Limits_Details!$C170=\"\",\"\",Emission_Limits_Details!$C170)","v":""},null,"",{"$f":"IF(COUNTIF(U$2:U148,U148)=1,U148,\"\")","v":""},"","","",null,{"$f":"+IF(AH148=\"\",\"\",MAX(AC$1:AC147)+1)","v":""},{"$f":"IF(CMS_Detail!$B170=\"\",\"\",CMS_Detail!$B170)","v":""},{"$f":"IF(CMS_Detail!$C170=\"\",\"\",CMS_Detail!$C170)","v":""},null,"",{"$f":"IF(COUNTIF(AE$2:AE148,AE148)=1,AE148,\"\")","v":""},"","",""]
[null,null,null,null,null,null,null,null,null,null,null,null,null,null,null,null,null,null,{"$f":"+IF(X149=\"\",\"\",MAX(S$1:S148)+1)","v":""},{"$f":"IF(Emission_Limits_Details!$B171=\"\",\"\",Emission_Limits_Details!$B171)","v":""},{"$f":"IF(Emission_Limits_Details!$C171=\"\",\"\",Emission_Limits_Details!$C171)","v":""},null,"",{"$f":"IF(COUNTIF(U$2:U149,U149)=1,U149,\"\")","v":""},"","","",null,{"$f":"+IF(AH149=\"\",\"\",MAX(AC$1:AC148)+1)","v":""},{"$f":"IF(CMS_Detail!$B171=\"\",\"\",CMS_Detail!$B171)","v":""},{"$f":"IF(CMS_Detail!$C171=\"\",\"\",CMS_Detail!$C171)","v":""},null,"",{"$f":"IF(COUNTIF(AE$2:AE149,AE149)=1,AE149,\"\")","v":""},"","",""]
[null,null,null,null,null,null,null,null,null,null,null,null,null,null,null,null,null,null,{"$f":"+IF(X150=\"\",\"\",MAX(S$1:S149)+1)","v":""},{"$f":"IF(Emission_Limits_Details!$B172=\"\",\"\",Emission_Limits_Details!$B172)","v":""},{"$f":"IF(Emission_Limits_Details!$C172=\"\",\"\",Emission_Limits_Details!$C172)","v":""},null,"",{"$f":"IF(COUNTIF(U$2:U150,U150)=1,U150,\"\")","v":""},"","","",null,{"$f":"+IF(AH150=\"\",\"\",MAX(AC$1:AC149)+1)","v":""},{"$f":"IF(CMS_Detail!$B172=\"\",\"\",CMS_Detail!$B172)","v":""},{"$f":"IF(CMS_Detail!$C172=\"\",\"\",CMS_Detail!$C172)","v":""},null,"",{"$f":"IF(COUNTIF(AE$2:AE150,AE150)=1,AE150,\"\")","v":""},"","",""]
[null,null,null,null,null,null,null,null,null,null,null,null,null,null,null,null,null,null,{"$f":"+IF(X151=\"\",\"\",MAX(S$1:S150)+1)","v":""},{"$f":"IF(Emission_Limits_Details!$B173=\"\",\"\",Emission_Limits_Details!$B173)","v":""},{"$f":"IF(Emission_Limits_Details!$C173=\"\",\"\",Emission_Limits_Details!$C173)","v":""},null,"",{"$f":"IF(COUNTIF(U$2:U151,U151)=1,U151,\"\")","v":""},"","","",null,{"$f":"+IF(AH151=\"\",\"\",MAX(AC$1:AC150)+1)","v":""},{"$f":"IF(CMS_Detail!$B173=\"\",\"\",CMS_Detail!$B173)","v":""},{"$f":"IF(CMS_Detail!$C173=\"\",\"\",CMS_Detail!$C173)","v":""},null,"",{"$f":"IF(COUNTIF(AE$2:AE151,AE151)=1,AE151,\"\")","v":""},"","",""]
[null,null,null,null,null,null,null,null,null,null,null,null,null,null,null,null,null,null,{"$f":"+IF(X152=\"\",\"\",MAX(S$1:S151)+1)","v":""},{"$f":"IF(Emission_Limits_Details!$B174=\"\",\"\",Emission_Limits_Details!$B174)","v":""},{"$f":"IF(Emission_Limits_Details!$C174=\"\",\"\",Emission_Limits_Details!$C174)","v":""},null,"",{"$f":"IF(COUNTIF(U$2:U152,U152)=1,U152,\"\")","v":""},"","","",null,{"$f":"+IF(AH152=\"\",\"\",MAX(AC$1:AC151)+1)","v":""},{"$f":"IF(CMS_Detail!$B174=\"\",\"\",CMS_Detail!$B174)","v":""},{"$f":"IF(CMS_Detail!$C174=\"\",\"\",CMS_Detail!$C174)","v":""},null,"",{"$f":"IF(COUNTIF(AE$2:AE152,AE152)=1,AE152,\"\")","v":""},"","",""]
[null,null,null,null,null,null,null,null,null,null,null,null,null,null,null,null,null,null,{"$f":"+IF(X153=\"\",\"\",MAX(S$1:S152)+1)","v":""},{"$f":"IF(Emission_Limits_Details!$B175=\"\",\"\",Emission_Limits_Details!$B175)","v":""},{"$f":"IF(Emission_Limits_Details!$C175=\"\",\"\",Emission_Limits_Details!$C175)","v":""},null,"",{"$f":"IF(COUNTIF(U$2:U153,U153)=1,U153,\"\")","v":""},"","","",null,{"$f":"+IF(AH153=\"\",\"\",MAX(AC$1:AC152)+1)","v":""},{"$f":"IF(CMS_Detail!$B175=\"\",\"\",CMS_Detail!$B175)","v":""},{"$f":"IF(CMS_Detail!$C175=\"\",\"\",CMS_Detail!$C175)","v":""},null,"",{"$f":"IF(COUNTIF(AE$2:AE153,AE153)=1,AE153,\"\")","v":""},"","",""]
[null,null,null,null,null,null,null,null,null,null,null,null,null,null,null,null,null,null,{"$f":"+IF(X154=\"\",\"\",MAX(S$1:S153)+1)","v":""},{"$f":"IF(Emission_Limits_Details!$B176=\"\",\"\",Emission_Limits_Details!$B176)","v":""},{"$f":"IF(Emission_Limits_Details!$C176=\"\",\"\",Emission_Limits_Details!$C176)","v":""},null,"",{"$f":"IF(COUNTIF(U$2:U154,U154)=1,U154,\"\")","v":""},"","","",null,{"$f":"+IF(AH154=\"\",\"\",MAX(AC$1:AC153)+1)","v":""},{"$f":"IF(CMS_Detail!$B176=\"\",\"\",CMS_Detail!$B176)","v":""},{"$f":"IF(CMS_Detail!$C176=\"\",\"\",CMS_Detail!$C176)","v":""},null,"",{"$f":"IF(COUNTIF(AE$2:AE154,AE154)=1,AE154,\"\")","v":""},"","",""]
[null,null,null,null,null,null,null,null,null,null,null,null,null,null,null,null,null,null,{"$f":"+IF(X155=\"\",\"\",MAX(S$1:S154)+1)","v":""},{"$f":"IF(Emission_Limits_Details!$B177=\"\",\"\",Emission_Limits_Details!$B177)","v":""},{"$f":"IF(Emission_Limits_Details!$C177=\"\",\"\",Emission_Limits_Details!$C177)","v":""},null,"",{"$f":"IF(COUNTIF(U$2:U155,U155)=1,U155,\"\")","v":""},"","","",null,{"$f":"+IF(AH155=\"\",\"\",MAX(AC$1:AC154)+1)","v":""},{"$f":"IF(CMS_Detail!$B177=\"\",\"\",CMS_Detail!$B177)","v":""},{"$f":"IF(CMS_Detail!$C177=\"\",\"\",CMS_Detail!$C177)","v":""},null,"",{"$f":"IF(COUNTIF(AE$2:AE155,AE155)=1,AE155,\"\")","v":""},"","",""]
[null,null,null,null,null,null,null,null,null,null,null,null,null,null,null,null,null,null,{"$f":"+IF(X156=\"\",\"\",MAX(S$1:S155)+1)","v":""},{"$f":"IF(Emission_Limits_Details!$B178=\"\",\"\",Emission_Limits_Details!$B178)","v":""},{"$f":"IF(Emission_Limits_Details!$C178=\"\",\"\",Emission_Limits_Details!$C178)","v":""},null,"",{"$f":"IF(COUNTIF(U$2:U156,U156)=1,U156,\"\")","v":""},"","","",null,{"$f":"+IF(AH156=\"\",\"\",MAX(AC$1:AC155)+1)","v":""},{"$f":"IF(CMS_Detail!$B178=\"\",\"\",CMS_Detail!$B178)","v":""},{"$f":"IF(CMS_Detail!$C178=\"\",\"\",CMS_Detail!$C178)","v":""},null,"",{"$f":"IF(COUNTIF(AE$2:AE156,AE156)=1,AE156,\"\")","v":""},"","",""]
[null,null,null,null,null,null,null,null,null,null,null,null,null,null,null,null,null,null,{"$f":"+IF(X157=\"\",\"\",MAX(S$1:S156)+1)","v":""},{"$f":"IF(Emission_Limits_Details!$B179=\"\",\"\",Emission_Limits_Details!$B179)","v":""},{"$f":"IF(Emission_Limits_Details!$C179=\"\",\"\",Emission_Limits_Details!$C179)","v":""},null,"",{"$f":"IF(COUNTIF(U$2:U157,U157)=1,U157,\"\")","v":""},"","","",null,{"$f":"+IF(AH157=\"\",\"\",MAX(AC$1:AC156)+1)","v":""},{"$f":"IF(CMS_Detail!$B179=\"\",\"\",CMS_Detail!$B179)","v":""},{"$f":"IF(CMS_Detail!$C179=\"\",\"\",CMS_Detail!$C179)","v":""},null,"",{"$f":"IF(COUNTIF(AE$2:AE157,AE157)=1,AE157,\"\")","v":""},"","",""]
[null,null,null,null,null,null,null,null,null,null,null,null,null,null,null,null,null,null,{"$f":"+IF(X158=\"\",\"\",MAX(S$1:S157)+1)","v":""},{"$f":"IF(Emission_Limits_Details!$B180=\"\",\"\",Emission_Limits_Details!$B180)","v":""},{"$f":"IF(Emission_Limits_Details!$C180=\"\",\"\",Emission_Limits_Details!$C180)","v":""},null,"",{"$f":"IF(COUNTIF(U$2:U158,U158)=1,U158,\"\")","v":""},"","","",null,{"$f":"+IF(AH158=\"\",\"\",MAX(AC$1:AC157)+1)","v":""},{"$f":"IF(CMS_Detail!$B180=\"\",\"\",CMS_Detail!$B180)","v":""},{"$f":"IF(CMS_Detail!$C180=\"\",\"\",CMS_Detail!$C180)","v":""},null,"",{"$f":"IF(COUNTIF(AE$2:AE158,AE158)=1,AE158,\"\")","v":""},"","",""]
[null,null,null,null,null,null,null,null,null,null,null,null,null,null,null,null,null,null,{"$f":"+IF(X159=\"\",\"\",MAX(S$1:S158)+1)","v":""},{"$f":"IF(Emission_Limits_Details!$B181=\"\",\"\",Emission_Limits_Details!$B181)","v":""},{"$f":"IF(Emission_Limits_Details!$C181=\"\",\"\",Emission_Limits_Details!$C181)","v":""},null,"",{"$f":"IF(COUNTIF(U$2:U159,U159)=1,U159,\"\")","v":""},"","","",null,{"$f":"+IF(AH159=\"\",\"\",MAX(AC$1:AC158)+1)","v":""},{"$f":"IF(CMS_Detail!$B181=\"\",\"\",CMS_Detail!$B181)","v":""},{"$f":"IF(CMS_Detail!$C181=\"\",\"\",CMS_Detail!$C181)","v":""},null,"",{"$f":"IF(COUNTIF(AE$2:AE159,AE159)=1,AE159,\"\")","v":""},"","",""]
[null,null,null,null,null,null,null,null,null,null,null,null,null,null,null,null,null,null,{"$f":"+IF(X160=\"\",\"\",MAX(S$1:S159)+1)","v":""},{"$f":"IF(Emission_Limits_Details!$B182=\"\",\"\",Emission_Limits_Details!$B182)","v":""},{"$f":"IF(Emission_Limits_Details!$C182=\"\",\"\",Emission_Limits_Details!$C182)","v":""},null,"",{"$f":"IF(COUNTIF(U$2:U160,U160)=1,U160,\"\")","v":""},"","","",null,{"$f":"+IF(AH160=\"\",\"\",MAX(AC$1:AC159)+1)","v":""},{"$f":"IF(CMS_Detail!$B182=\"\",\"\",CMS_Detail!$B182)","v":""},{"$f":"IF(CMS_Detail!$C182=\"\",\"\",CMS_Detail!$C182)","v":""},null,"",{"$f":"IF(COUNTIF(AE$2:AE160,AE160)=1,AE160,\"\")","v":""},"","",""]
[null,null,null,null,null,null,null,null,null,null,null,null,null,null,null,null,null,null,{"$f":"+IF(X161=\"\",\"\",MAX(S$1:S160)+1)","v":""},{"$f":"IF(Emission_Limits_Details!$B183=\"\",\"\",Emission_Limits_Details!$B183)","v":""},{"$f":"IF(Emission_Limits_Details!$C183=\"\",\"\",Emission_Limits_Details!$C183)","v":""},null,"",{"$f":"IF(COUNTIF(U$2:U161,U161)=1,U161,\"\")","v":""},"","","",null,{"$f":"+IF(AH161=\"\",\"\",MAX(AC$1:AC160)+1)","v":""},{"$f":"IF(CMS_Detail!$B183=\"\",\"\",CMS_Detail!$B183)","v":""},{"$f":"IF(CMS_Detail!$C183=\"\",\"\",CMS_Detail!$C183)","v":""},null,"",{"$f":"IF(COUNTIF(AE$2:AE161,AE161)=1,AE161,\"\")","v":""},"","",""]
[null,null,null,null,null,null,null,null,null,null,null,null,null,null,null,null,null,null,{"$f":"+IF(X162=\"\",\"\",MAX(S$1:S161)+1)","v":""},{"$f":"IF(Emission_Limits_Details!$B184=\"\",\"\",Emission_Limits_Details!$B184)","v":""},{"$f":"IF(Emission_Limits_Details!$C184=\"\",\"\",Emission_Limits_Details!$C184)","v":""},null,"",{"$f":"IF(COUNTIF(U$2:U162,U162)=1,U162,\"\")","v":""},"","","",null,{"$f":"+IF(AH162=\"\",\"\",MAX(AC$1:AC161)+1)","v":""},{"$f":"IF(CMS_Detail!$B184=\"\",\"\",CMS_Detail!$B184)","v":""},{"$f":"IF(CMS_Detail!$C184=\"\",\"\",CMS_Detail!$C184)","v":""},null,"",{"$f":"IF(COUNTIF(AE$2:AE162,AE162)=1,AE162,\"\")","v":""},"","",""]
[null,null,null,null,null,null,null,null,null,null,null,null,null,null,null,null,null,null,{"$f":"+IF(X163=\"\",\"\",MAX(S$1:S162)+1)","v":""},{"$f":"IF(Emission_Limits_Details!$B185=\"\",\"\",Emission_Limits_Details!$B185)","v":""},{"$f":"IF(Emission_Limits_Details!$C185=\"\",\"\",Emission_Limits_Details!$C185)","v":""},null,"",{"$f":"IF(COUNTIF(U$2:U163,U163)=1,U163,\"\")","v":""},"","","",null,{"$f":"+IF(AH163=\"\",\"\",MAX(AC$1:AC162)+1)","v":""},{"$f":"IF(CMS_Detail!$B185=\"\",\"\",CMS_Detail!$B185)","v":""},{"$f":"IF(CMS_Detail!$C185=\"\",\"\",CMS_Detail!$C185)","v":""},null,"",{"$f":"IF(COUNTIF(AE$2:AE163,AE163)=1,AE163,\"\")","v":""},"","",""]
[null,null,null,null,null,null,null,null,null,null,null,null,null,null,null,null,null,null,{"$f":"+IF(X164=\"\",\"\",MAX(S$1:S163)+1)","v":""},{"$f":"IF(Emission_Limits_Details!$B186=\"\",\"\",Emission_Limits_Details!$B186)","v":""},{"$f":"IF(Emission_Limits_Details!$C186=\"\",\"\",Emission_Limits_Details!$C186)","v":""},null,"",{"$f":"IF(COUNTIF(U$2:U164,U164)=1,U164,\"\")","v":""},"","","",null,{"$f":"+IF(AH164=\"\",\"\",MAX(AC$1:AC163)+1)","v":""},{"$f":"IF(CMS_Detail!$B186=\"\",\"\",CMS_Detail!$B186)","v":""},{"$f":"IF(CMS_Detail!$C186=\"\",\"\",CMS_Detail!$C186)","v":""},null,"",{"$f":"IF(COUNTIF(AE$2:AE164,AE164)=1,AE164,\"\")","v":""},"","",""]
[null,null,null,null,null,null,null,null,null,null,null,null,null,null,null,null,null,null,{"$f":"+IF(X165=\"\",\"\",MAX(S$1:S164)+1)","v":""},{"$f":"IF(Emission_Limits_Details!$B187=\"\",\"\",Emission_Limits_Details!$B187)","v":""},{"$f":"IF(Emission_Limits_Details!$C187=\"\",\"\",Emission_Limits_Details!$C187)","v":""},null,"",{"$f":"IF(COUNTIF(U$2:U165,U165)=1,U165,\"\")","v":""},"","","",null,{"$f":"+IF(AH165=\"\",\"\",MAX(AC$1:AC164)+1)","v":""},{"$f":"IF(CMS_Detail!$B187=\"\",\"\",CMS_Detail!$B187)","v":""},{"$f":"IF(CMS_Detail!$C187=\"\",\"\",CMS_Detail!$C187)","v":""},null,"",{"$f":"IF(COUNTIF(AE$2:AE165,AE165)=1,AE165,\"\")","v":""},"","",""]
[null,null,null,null,null,null,null,null,null,null,null,null,null,null,null,null,null,null,{"$f":"+IF(X166=\"\",\"\",MAX(S$1:S165)+1)","v":""},{"$f":"IF(Emission_Limits_Details!$B188=\"\",\"\",Emission_Limits_Details!$B188)","v":""},{"$f":"IF(Emission_Limits_Details!$C188=\"\",\"\",Emission_Limits_Details!$C188)","v":""},null,"",{"$f":"IF(COUNTIF(U$2:U166,U166)=1,U166,\"\")","v":""},"","","",null,{"$f":"+IF(AH166=\"\",\"\",MAX(AC$1:AC165)+1)","v":""},{"$f":"IF(CMS_Detail!$B188=\"\",\"\",CMS_Detail!$B188)","v":""},{"$f":"IF(CMS_Detail!$C188=\"\",\"\",CMS_Detail!$C188)","v":""},null,"",{"$f":"IF(COUNTIF(AE$2:AE166,AE166)=1,AE166,\"\")","v":""},"","",""]
[null,null,null,null,null,null,null,null,null,null,null,null,null,null,null,null,null,null,{"$f":"+IF(X167=\"\",\"\",MAX(S$1:S166)+1)","v":""},{"$f":"IF(Emission_Limits_Details!$B189=\"\",\"\",Emission_Limits_Details!$B189)","v":""},{"$f":"IF(Emission_Limits_Details!$C189=\"\",\"\",Emission_Limits_Details!$C189)","v":""},null,"",{"$f":"IF(COUNTIF(U$2:U167,U167)=1,U167,\"\")","v":""},"","","",null,{"$f":"+IF(AH167=\"\",\"\",MAX(AC$1:AC166)+1)","v":""},{"$f":"IF(CMS_Detail!$B189=\"\",\"\",CMS_Detail!$B189)","v":""},{"$f":"IF(CMS_Detail!$C189=\"\",\"\",CMS_Detail!$C189)","v":""},null,"",{"$f":"IF(COUNTIF(AE$2:AE167,AE167)=1,AE167,\"\")","v":""},"","",""]
[null,null,null,null,null,null,null,null,null,null,null,null,null,null,null,null,null,null,{"$f":"+IF(X168=\"\",\"\",MAX(S$1:S167)+1)","v":""},{"$f":"IF(Emission_Limits_Details!$B190=\"\",\"\",Emission_Limits_Details!$B190)","v":""},{"$f":"IF(Emission_Limits_Details!$C190=\"\",\"\",Emission_Limits_Details!$C190)","v":""},null,"",{"$f":"IF(COUNTIF(U$2:U168,U168)=1,U168,\"\")","v":""},"","","",null,{"$f":"+IF(AH168=\"\",\"\",MAX(AC$1:AC167)+1)","v":""},{"$f":"IF(CMS_Detail!$B190=\"\",\"\",CMS_Detail!$B190)","v":""},{"$f":"IF(CMS_Detail!$C190=\"\",\"\",CMS_Detail!$C190)","v":""},null,"",{"$f":"IF(COUNTIF(AE$2:AE168,AE168)=1,AE168,\"\")","v":""},"","",""]
[null,null,null,null,null,null,null,null,null,null,null,null,null,null,null,null,null,null,{"$f":"+IF(X169=\"\",\"\",MAX(S$1:S168)+1)","v":""},{"$f":"IF(Emission_Limits_Details!$B191=\"\",\"\",Emission_Limits_Details!$B191)","v":""},{"$f":"IF(Emission_Limits_Details!$C191=\"\",\"\",Emission_Limits_Details!$C191)","v":""},null,"",{"$f":"IF(COUNTIF(U$2:U169,U169)=1,U169,\"\")","v":""},"","","",null,{"$f":"+IF(AH169=\"\",\"\",MAX(AC$1:AC168)+1)","v":""},{"$f":"IF(CMS_Detail!$B191=\"\",\"\",CMS_Detail!$B191)","v":""},{"$f":"IF(CMS_Detail!$C191=\"\",\"\",CMS_Detail!$C191)","v":""},null,"",{"$f":"IF(COUNTIF(AE$2:AE169,AE169)=1,AE169,\"\")","v":""},"","",""]
[null,null,null,null,null,null,null,null,null,null,null,null,null,null,null,null,null,null,{"$f":"+IF(X170=\"\",\"\",MAX(S$1:S169)+1)","v":""},{"$f":"IF(Emission_Limits_Details!$B192=\"\",\"\",Emission_Limits_Details!$B192)","v":""},{"$f":"IF(Emission_Limits_Details!$C192=\"\",\"\",Emission_Limits_Details!$C192)","v":""},null,"",{"$f":"IF(COUNTIF(U$2:U170,U170)=1,U170,\"\")","v":""},"","","",null,{"$f":"+IF(AH170=\"\",\"\",MAX(AC$1:AC169)+1)","v":""},{"$f":"IF(CMS_Detail!$B192=\"\",\"\",CMS_Detail!$B192)","v":""},{"$f":"IF(CMS_Detail!$C192=\"\",\"\",CMS_Detail!$C192)","v":""},null,"",{"$f":"IF(COUNTIF(AE$2:AE170,AE170)=1,AE170,\"\")","v":""},"","",""]
[null,null,null,null,null,null,null,null,null,null,null,null,null,null,null,null,null,null,{"$f":"+IF(X171=\"\",\"\",MAX(S$1:S170)+1)","v":""},{"$f":"IF(Emission_Limits_Details!$B193=\"\",\"\",Emission_Limits_Details!$B193)","v":""},{"$f":"IF(Emission_Limits_Details!$C193=\"\",\"\",Emission_Limits_Details!$C193)","v":""},null,"",{"$f":"IF(COUNTIF(U$2:U171,U171)=1,U171,\"\")","v":""},"","","",null,{"$f":"+IF(AH171=\"\",\"\",MAX(AC$1:AC170)+1)","v":""},{"$f":"IF(CMS_Detail!$B193=\"\",\"\",CMS_Detail!$B193)","v":""},{"$f":"IF(CMS_Detail!$C193=\"\",\"\",CMS_Detail!$C193)","v":""},null,"",{"$f":"IF(COUNTIF(AE$2:AE171,AE171)=1,AE171,\"\")","v":""},"","",""]
[null,null,null,null,null,null,null,null,null,null,null,null,null,null,null,null,null,null,{"$f":"+IF(X172=\"\",\"\",MAX(S$1:S171)+1)","v":""},{"$f":"IF(Emission_Limits_Details!$B194=\"\",\"\",Emission_Limits_Details!$B194)","v":""},{"$f":"IF(Emission_Limits_Details!$C194=\"\",\"\",Emission_Limits_Details!$C194)","v":""},null,"",{"$f":"IF(COUNTIF(U$2:U172,U172)=1,U172,\"\")","v":""},"","","",null,{"$f":"+IF(AH172=\"\",\"\",MAX(AC$1:AC171)+1)","v":""},{"$f":"IF(CMS_Detail!$B194=\"\",\"\",CMS_Detail!$B194)","v":""},{"$f":"IF(CMS_Detail!$C194=\"\",\"\",CMS_Detail!$C194)","v":""},null,"",{"$f":"IF(COUNTIF(AE$2:AE172,AE172)=1,AE172,\"\")","v":""},"","",""]
[null,null,null,null,null,null,null,null,null,null,null,null,null,null,null,null,null,null,{"$f":"+IF(X173=\"\",\"\",MAX(S$1:S172)+1)","v":""},{"$f":"IF(Emission_Limits_Details!$B195=\"\",\"\",Emission_Limits_Details!$B195)","v":""},{"$f":"IF(Emission_Limits_Details!$C195=\"\",\"\",Emission_Limits_Details!$C195)","v":""},null,"",{"$f":"IF(COUNTIF(U$2:U173,U173)=1,U173,\"\")","v":""},"","","",null,{"$f":"+IF(AH173=\"\",\"\",MAX(AC$1:AC172)+1)","v":""},{"$f":"IF(CMS_Detail!$B195=\"\",\"\",CMS_Detail!$B195)","v":""},{"$f":"IF(CMS_Detail!$C195=\"\",\"\",CMS_Detail!$C195)","v":""},null,"",{"$f":"IF(COUNTIF(AE$2:AE173,AE173)=1,AE173,\"\")","v":""},"","",""]
[null,null,null,null,null,null,null,null,null,null,null,null,null,null,null,null,null,null,{"$f":"+IF(X174=\"\",\"\",MAX(S$1:S173)+1)","v":""},{"$f":"IF(Emission_Limits_Details!$B196=\"\",\"\",Emission_Limits_Details!$B196)","v":""},{"$f":"IF(Emission_Limits_Details!$C196=\"\",\"\",Emission_Limits_Details!$C196)","v":""},null,"",{"$f":"IF(COUNTIF(U$2:U174,U174)=1,U174,\"\")","v":""},"","","",null,{"$f":"+IF(AH174=\"\",\"\",MAX(AC$1:AC173)+1)","v":""},{"$f":"IF(CMS_Detail!$B196=\"\",\"\",CMS_Detail!$B196)","v":""},{"$f":"IF(CMS_Detail!$C196=\"\",\"\",CMS_Detail!$C196)","v":""},null,"",{"$f":"IF(COUNTIF(AE$2:AE174,AE174)=1,AE174,\"\")","v":""},"","",""]
[null,null,null,null,null,null,null,null,null,null,null,null,null,null,null,null,null,null,{"$f":"+IF(X175=\"\",\"\",MAX(S$1:S174)+1)","v":""},{"$f":"IF(Emission_Limits_Details!$B197=\"\",\"\",Emission_Limits_Details!$B197)","v":""},{"$f":"IF(Emission_Limits_Details!$C197=\"\",\"\",Emission_Limits_Details!$C197)","v":""},null,"",{"$f":"IF(COUNTIF(U$2:U175,U175)=1,U175,\"\")","v":""},"","","",null,{"$f":"+IF(AH175=\"\",\"\",MAX(AC$1:AC174)+1)","v":""},{"$f":"IF(CMS_Detail!$B197=\"\",\"\",CMS_Detail!$B197)","v":""},{"$f":"IF(CMS_Detail!$C197=\"\",\"\",CMS_Detail!$C197)","v":""},null,"",{"$f":"IF(COUNTIF(AE$2:AE175,AE175)=1,AE175,\"\")","v":""},"","",""]
[null,null,null,null,null,null,null,null,null,null,null,null,null,null,null,null,null,null,{"$f":"+IF(X176=\"\",\"\",MAX(S$1:S175)+1)","v":""},{"$f":"IF(Emission_Limits_Details!$B198=\"\",\"\",Emission_Limits_Details!$B198)","v":""},{"$f":"IF(Emission_Limits_Details!$C198=\"\",\"\",Emission_Limits_Details!$C198)","v":""},null,"",{"$f":"IF(COUNTIF(U$2:U176,U176)=1,U176,\"\")","v":""},"","","",null,{"$f":"+IF(AH176=\"\",\"\",MAX(AC$1:AC175)+1)","v":""},{"$f":"IF(CMS_Detail!$B198=\"\",\"\",CMS_Detail!$B198)","v":""},{"$f":"IF(CMS_Detail!$C198=\"\",\"\",CMS_Detail!$C198)","v":""},null,"",{"$f":"IF(COUNTIF(AE$2:AE176,AE176)=1,AE176,\"\")","v":""},"","",""]
[null,null,null,null,null,null,null,null,null,null,null,null,null,null,null,null,null,null,{"$f":"+IF(X177=\"\",\"\",MAX(S$1:S176)+1)","v":""},{"$f":"IF(Emission_Limits_Details!$B199=\"\",\"\",Emission_Limits_Details!$B199)","v":""},{"$f":"IF(Emission_Limits_Details!$C199=\"\",\"\",Emission_Limits_Details!$C199)","v":""},null,"",{"$f":"IF(COUNTIF(U$2:U177,U177)=1,U177,\"\")","v":""},"","","",null,{"$f":"+IF(AH177=\"\",\"\",MAX(AC$1:AC176)+1)","v":""},{"$f":"IF(CMS_Detail!$B199=\"\",\"\",CMS_Detail!$B199)","v":""},{"$f":"IF(CMS_Detail!$C199=\"\",\"\",CMS_Detail!$C199)","v":""},null,"",{"$f":"IF(COUNTIF(AE$2:AE177,AE177)=1,AE177,\"\")","v":""},"","",""]
[null,null,null,null,null,null,null,null,null,null,null,null,null,null,null,null,null,null,{"$f":"+IF(X178=\"\",\"\",MAX(S$1:S177)+1)","v":""},{"$f":"IF(Emission_Limits_Details!$B200=\"\",\"\",Emission_Limits_Details!$B200)","v":""},{"$f":"IF(Emission_Limits_Details!$C200=\"\",\"\",Emission_Limits_Details!$C200)","v":""},null,"",{"$f":"IF(COUNTIF(U$2:U178,U178)=1,U178,\"\")","v":""},"","","",null,{"$f":"+IF(AH178=\"\",\"\",MAX(AC$1:AC177)+1)","v":""},{"$f":"IF(CMS_Detail!$B200=\"\",\"\",CMS_Detail!$B200)","v":""},{"$f":"IF(CMS_Detail!$C200=\"\",\"\",CMS_Detail!$C200)","v":""},null,"",{"$f":"IF(COUNTIF(AE$2:AE178,AE178)=1,AE178,\"\")","v":""},"","",""]
[null,null,null,null,null,null,null,null,null,null,null,null,null,null,null,null,null,null,{"$f":"+IF(X179=\"\",\"\",MAX(S$1:S178)+1)","v":""},{"$f":"IF(Emission_Limits_Details!$B201=\"\",\"\",Emission_Limits_Details!$B201)","v":""},{"$f":"IF(Emission_Limits_Details!$C201=\"\",\"\",Emission_Limits_Details!$C201)","v":""},null,"",{"$f":"IF(COUNTIF(U$2:U179,U179)=1,U179,\"\")","v":""},"","","",null,{"$f":"+IF(AH179=\"\",\"\",MAX(AC$1:AC178)+1)","v":""},{"$f":"IF(CMS_Detail!$B201=\"\",\"\",CMS_Detail!$B201)","v":""},{"$f":"IF(CMS_Detail!$C201=\"\",\"\",CMS_Detail!$C201)","v":""},null,"",{"$f":"IF(COUNTIF(AE$2:AE179,AE179)=1,AE179,\"\")","v":""},"","",""]
[null,null,null,null,null,null,null,null,null,null,null,null,null,null,null,null,null,null,{"$f":"+IF(X180=\"\",\"\",MAX(S$1:S179)+1)","v":""},{"$f":"IF(Emission_Limits_Details!$B202=\"\",\"\",Emission_Limits_Details!$B202)","v":""},{"$f":"IF(Emission_Limits_Details!$C202=\"\",\"\",Emission_Limits_Details!$C202)","v":""},null,"",{"$f":"IF(COUNTIF(U$2:U180,U180)=1,U180,\"\")","v":""},"","","",null,{"$f":"+IF(AH180=\"\",\"\",MAX(AC$1:AC179)+1)","v":""},{"$f":"IF(CMS_Detail!$B202=\"\",\"\",CMS_Detail!$B202)","v":""},{"$f":"IF(CMS_Detail!$C202=\"\",\"\",CMS_Detail!$C202)","v":""},null,"",{"$f":"IF(COUNTIF(AE$2:AE180,AE180)=1,AE180,\"\")","v":""},"","",""]
[null,null,null,null,null,null,null,null,null,null,null,null,null,null,null,null,null,null,{"$f":"+IF(X181=\"\",\"\",MAX(S$1:S180)+1)","v":""},{"$f":"IF(Emission_Limits_Details!$B203=\"\",\"\",Emission_Limits_Details!$B203)","v":""},{"$f":"IF(Emission_Limits_Details!$C203=\"\",\"\",Emission_Limits_Details!$C203)","v":""},null,"",{"$f":"IF(COUNTIF(U$2:U181,U181)=1,U181,\"\")","v":""},"","","",null,{"$f":"+IF(AH181=\"\",\"\",MAX(AC$1:AC180)+1)","v":""},{"$f":"IF(CMS_Detail!$B203=\"\",\"\",CMS_Detail!$B203)","v":""},{"$f":"IF(CMS_Detail!$C203=\"\",\"\",CMS_Detail!$C203)","v":""},null,"",{"$f":"IF(COUNTIF(AE$2:AE181,AE181)=1,AE181,\"\")","v":""},"","",""]
[null,null,null,null,null,null,null,null,null,null,null,null,null,null,null,null,null,null,{"$f":"+IF(X182=\"\",\"\",MAX(S$1:S181)+1)","v":""},{"$f":"IF(Emission_Limits_Details!$B204=\"\",\"\",Emission_Limits_Details!$B204)","v":""},{"$f":"IF(Emission_Limits_Details!$C204=\"\",\"\",Emission_Limits_Details!$C204)","v":""},null,"",{"$f":"IF(COUNTIF(U$2:U182,U182)=1,U182,\"\")","v":""},"","","",null,{"$f":"+IF(AH182=\"\",\"\",MAX(AC$1:AC181)+1)","v":""},{"$f":"IF(CMS_Detail!$B204=\"\",\"\",CMS_Detail!$B204)","v":""},{"$f":"IF(CMS_Detail!$C204=\"\",\"\",CMS_Detail!$C204)","v":""},null,"",{"$f":"IF(COUNTIF(AE$2:AE182,AE182)=1,AE182,\"\")","v":""},"","",""]
[null,null,null,null,null,null,null,null,null,null,null,null,null,null,null,null,null,null,{"$f":"+IF(X183=\"\",\"\",MAX(S$1:S182)+1)","v":""},{"$f":"IF(Emission_Limits_Details!$B205=\"\",\"\",Emission_Limits_Details!$B205)","v":""},{"$f":"IF(Emission_Limits_Details!$C205=\"\",\"\",Emission_Limits_Details!$C205)","v":""},null,"",{"$f":"IF(COUNTIF(U$2:U183,U183)=1,U183,\"\")","v":""},"","","",null,{"$f":"+IF(AH183=\"\",\"\",MAX(AC$1:AC182)+1)","v":""},{"$f":"IF(CMS_Detail!$B205=\"\",\"\",CMS_Detail!$B205)","v":""},{"$f":"IF(CMS_Detail!$C205=\"\",\"\",CMS_Detail!$C205)","v":""},null,"",{"$f":"IF(COUNTIF(AE$2:AE183,AE183)=1,AE183,\"\")","v":""},"","",""]
[null,null,null,null,null,null,null,null,null,null,null,null,null,null,null,null,null,null,{"$f":"+IF(X184=\"\",\"\",MAX(S$1:S183)+1)","v":""},{"$f":"IF(Emission_Limits_Details!$B206=\"\",\"\",Emission_Limits_Details!$B206)","v":""},{"$f":"IF(Emission_Limits_Details!$C206=\"\",\"\",Emission_Limits_Details!$C206)","v":""},null,"",{"$f":"IF(COUNTIF(U$2:U184,U184)=1,U184,\"\")","v":""},"","","",null,{"$f":"+IF(AH184=\"\",\"\",MAX(AC$1:AC183)+1)","v":""},{"$f":"IF(CMS_Detail!$B206=\"\",\"\",CMS_Detail!$B206)","v":""},{"$f":"IF(CMS_Detail!$C206=\"\",\"\",CMS_Detail!$C206)","v":""},null,"",{"$f":"IF(COUNTIF(AE$2:AE184,AE184)=1,AE184,\"\")","v":""},"","",""]
[null,null,null,null,null,null,null,null,null,null,null,null,null,null,null,null,null,null,{"$f":"+IF(X185=\"\",\"\",MAX(S$1:S184)+1)","v":""},{"$f":"IF(Emission_Limits_Details!$B207=\"\",\"\",Emission_Limits_Details!$B207)","v":""},{"$f":"IF(Emission_Limits_Details!$C207=\"\",\"\",Emission_Limits_Details!$C207)","v":""},null,"",{"$f":"IF(COUNTIF(U$2:U185,U185)=1,U185,\"\")","v":""},"","","",null,{"$f":"+IF(AH185=\"\",\"\",MAX(AC$1:AC184)+1)","v":""},{"$f":"IF(CMS_Detail!$B207=\"\",\"\",CMS_Detail!$B207)","v":""},{"$f":"IF(CMS_Detail!$C207=\"\",\"\",CMS_Detail!$C207)","v":""},null,"",{"$f":"IF(COUNTIF(AE$2:AE185,AE185)=1,AE185,\"\")","v":""},"","",""]
[null,null,null,null,null,null,null,null,null,null,null,null,null,null,null,null,null,null,{"$f":"+IF(X186=\"\",\"\",MAX(S$1:S185)+1)","v":""},{"$f":"IF(Emission_Limits_Details!$B208=\"\",\"\",Emission_Limits_Details!$B208)","v":""},{"$f":"IF(Emission_Limits_Details!$C208=\"\",\"\",Emission_Limits_Details!$C208)","v":""},null,"",{"$f":"IF(COUNTIF(U$2:U186,U186)=1,U186,\"\")","v":""},"","","",null,{"$f":"+IF(AH186=\"\",\"\",MAX(AC$1:AC185)+1)","v":""},{"$f":"IF(CMS_Detail!$B208=\"\",\"\",CMS_Detail!$B208)","v":""},{"$f":"IF(CMS_Detail!$C208=\"\",\"\",CMS_Detail!$C208)","v":""},null,"",{"$f":"IF(COUNTIF(AE$2:AE186,AE186)=1,AE186,\"\")","v":""},"","",""]
[null,null,null,null,null,null,null,null,null,null,null,null,null,null,null,null,null,null,{"$f":"+IF(X187=\"\",\"\",MAX(S$1:S186)+1)","v":""},{"$f":"IF(Emission_Limits_Details!$B209=\"\",\"\",Emission_Limits_Details!$B209)","v":""},{"$f":"IF(Emission_Limits_Details!$C209=\"\",\"\",Emission_Limits_Details!$C209)","v":""},null,"",{"$f":"IF(COUNTIF(U$2:U187,U187)=1,U187,\"\")","v":""},"","","",null,{"$f":"+IF(AH187=\"\",\"\",MAX(AC$1:AC186)+1)","v":""},{"$f":"IF(CMS_Detail!$B209=\"\",\"\",CMS_Detail!$B209)","v":""},{"$f":"IF(CMS_Detail!$C209=\"\",\"\",CMS_Detail!$C209)","v":""},null,"",{"$f":"IF(COUNTIF(AE$2:AE187,AE187)=1,AE187,\"\")","v":""},"","",""]
[null,null,null,null,null,null,null,null,null,null,null,null,null,null,null,null,null,null,{"$f":"+IF(X188=\"\",\"\",MAX(S$1:S187)+1)","v":""},{"$f":"IF(Emission_Limits_Details!$B210=\"\",\"\",Emission_Limits_Details!$B210)","v":""},{"$f":"IF(Emission_Limits_Details!$C210=\"\",\"\",Emission_Limits_Details!$C210)","v":""},null,"",{"$f":"IF(COUNTIF(U$2:U188,U188)=1,U188,\"\")","v":""},"","","",null,{"$f":"+IF(AH188=\"\",\"\",MAX(AC$1:AC187)+1)","v":""},{"$f":"IF(CMS_Detail!$B210=\"\",\"\",CMS_Detail!$B210)","v":""},{"$f":"IF(CMS_Detail!$C210=\"\",\"\",CMS_Detail!$C210)","v":""},null,"",{"$f":"IF(COUNTIF(AE$2:AE188,AE188)=1,AE188,\"\")","v":""},"","",""]
[null,null,null,null,null,null,null,null,null,null,null,null,null,null,null,null,null,null,{"$f":"+IF(X189=\"\",\"\",MAX(S$1:S188)+1)","v":""},{"$f":"IF(Emission_Limits_Details!$B211=\"\",\"\",Emission_Limits_Details!$B211)","v":""},{"$f":"IF(Emission_Limits_Details!$C211=\"\",\"\",Emission_Limits_Details!$C211)","v":""},null,"",{"$f":"IF(COUNTIF(U$2:U189,U189)=1,U189,\"\")","v":""},"","","",null,{"$f":"+IF(AH189=\"\",\"\",MAX(AC$1:AC188)+1)","v":""},{"$f":"IF(CMS_Detail!$B211=\"\",\"\",CMS_Detail!$B211)","v":""},{"$f":"IF(CMS_Detail!$C211=\"\",\"\",CMS_Detail!$C211)","v":""},null,"",{"$f":"IF(COUNTIF(AE$2:AE189,AE189)=1,AE189,\"\")","v":""},"","",""]
[null,null,null,null,null,null,null,null,null,null,null,null,null,null,null,null,null,null,{"$f":"+IF(X190=\"\",\"\",MAX(S$1:S189)+1)","v":""},{"$f":"IF(Emission_Limits_Details!$B212=\"\",\"\",Emission_Limits_Details!$B212)","v":""},{"$f":"IF(Emission_Limits_Details!$C212=\"\",\"\",Emission_Limits_Details!$C212)","v":""},null,"",{"$f":"IF(COUNTIF(U$2:U190,U190)=1,U190,\"\")","v":""},"","","",null,{"$f":"+IF(AH190=\"\",\"\",MAX(AC$1:AC189)+1)","v":""},{"$f":"IF(CMS_Detail!$B212=\"\",\"\",CMS_Detail!$B212)","v":""},{"$f":"IF(CMS_Detail!$C212=\"\",\"\",CMS_Detail!$C212)","v":""},null,"",{"$f":"IF(COUNTIF(AE$2:AE190,AE190)=1,AE190,\"\")","v":""},"","",""]
[null,null,null,null,null,null,null,null,null,null,null,null,null,null,null,null,null,null,{"$f":"+IF(X191=\"\",\"\",MAX(S$1:S190)+1)","v":""},{"$f":"IF(Emission_Limits_Details!$B213=\"\",\"\",Emission_Limits_Details!$B213)","v":""},{"$f":"IF(Emission_Limits_Details!$C213=\"\",\"\",Emission_Limits_Details!$C213)","v":""},null,"",{"$f":"IF(COUNTIF(U$2:U191,U191)=1,U191,\"\")","v":""},"","","",null,{"$f":"+IF(AH191=\"\",\"\",MAX(AC$1:AC190)+1)","v":""},{"$f":"IF(CMS_Detail!$B213=\"\",\"\",CMS_Detail!$B213)","v":""},{"$f":"IF(CMS_Detail!$C213=\"\",\"\",CMS_Detail!$C213)","v":""},null,"",{"$f":"IF(COUNTIF(AE$2:AE191,AE191)=1,AE191,\"\")","v":""},"","",""]
[null,null,null,null,null,null,null,null,null,null,null,null,null,null,null,null,null,null,{"$f":"+IF(X192=\"\",\"\",MAX(S$1:S191)+1)","v":""},{"$f":"IF(Emission_Limits_Details!$B214=\"\",\"\",Emission_Limits_Details!$B214)","v":""},{"$f":"IF(Emission_Limits_Details!$C214=\"\",\"\",Emission_Limits_Details!$C214)","v":""},null,"",{"$f":"IF(COUNTIF(U$2:U192,U192)=1,U192,\"\")","v":""},"","","",null,{"$f":"+IF(AH192=\"\",\"\",MAX(AC$1:AC191)+1)","v":""},{"$f":"IF(CMS_Detail!$B214=\"\",\"\",CMS_Detail!$B214)","v":""},{"$f":"IF(CMS_Detail!$C214=\"\",\"\",CMS_Detail!$C214)","v":""},null,"",{"$f":"IF(COUNTIF(AE$2:AE192,AE192)=1,AE192,\"\")","v":""},"","",""]
[null,null,null,null,null,null,null,null,null,null,null,null,null,null,null,null,null,null,{"$f":"+IF(X193=\"\",\"\",MAX(S$1:S192)+1)","v":""},{"$f":"IF(Emission_Limits_Details!$B215=\"\",\"\",Emission_Limits_Details!$B215)","v":""},{"$f":"IF(Emission_Limits_Details!$C215=\"\",\"\",Emission_Limits_Details!$C215)","v":""},null,"",{"$f":"IF(COUNTIF(U$2:U193,U193)=1,U193,\"\")","v":""},"","","",null,{"$f":"+IF(AH193=\"\",\"\",MAX(AC$1:AC192)+1)","v":""},{"$f":"IF(CMS_Detail!$B215=\"\",\"\",CMS_Detail!$B215)","v":""},{"$f":"IF(CMS_Detail!$C215=\"\",\"\",CMS_Detail!$C215)","v":""},null,"",{"$f":"IF(COUNTIF(AE$2:AE193,AE193)=1,AE193,\"\")","v":""},"","",""]
[null,null,null,null,null,null,null,null,null,null,null,null,null,null,null,null,null,null,{"$f":"+IF(X194=\"\",\"\",MAX(S$1:S193)+1)","v":""},{"$f":"IF(Emission_Limits_Details!$B216=\"\",\"\",Emission_Limits_Details!$B216)","v":""},{"$f":"IF(Emission_Limits_Details!$C216=\"\",\"\",Emission_Limits_Details!$C216)","v":""},null,"",{"$f":"IF(COUNTIF(U$2:U194,U194)=1,U194,\"\")","v":""},"","","",null,{"$f":"+IF(AH194=\"\",\"\",MAX(AC$1:AC193)+1)","v":""},{"$f":"IF(CMS_Detail!$B216=\"\",\"\",CMS_Detail!$B216)","v":""},{"$f":"IF(CMS_Detail!$C216=\"\",\"\",CMS_Detail!$C216)","v":""},null,"",{"$f":"IF(COUNTIF(AE$2:AE194,AE194)=1,AE194,\"\")","v":""},"","",""]
[null,null,null,null,null,null,null,null,null,null,null,null,null,null,null,null,null,null,{"$f":"+IF(X195=\"\",\"\",MAX(S$1:S194)+1)","v":""},{"$f":"IF(Emission_Limits_Details!$B217=\"\",\"\",Emission_Limits_Details!$B217)","v":""},{"$f":"IF(Emission_Limits_Details!$C217=\"\",\"\",Emission_Limits_Details!$C217)","v":""},null,{"$f":"T195&U195&V195","v":""},{"$f":"IF(COUNTIF(U$2:U195,U195)=1,U195,\"\")","v":""},{"$f":"+IFERROR(INDEX(T$2:T$955,MATCH(ROW()-ROW(X$1),S$2:S$955,0)),\"\")","v":""},{"$f":"+IFERROR(INDEX(U$2:U$955,MATCH(ROW()-ROW(X$1),S$2:S$955,0)),\"\")","v":""},{"$f":"+IFERROR(INDEX(V$2:V$955,MATCH(ROW()-ROW(Y$1),S$2:S$955,0)),\"\")","v":""},null,{"$f":"+IF(AH195=\"\",\"\",MAX(AC$1:AC194)+1)","v":""},{"$f":"IF(CMS_Detail!$B217=\"\",\"\",CMS_Detail!$B217)","v":""},{"$f":"IF(CMS_Detail!$C217=\"\",\"\",CMS_Detail!$C217)","v":""},null,{"$f":"AD195&AE195&AF195","v":""},{"$f":"IF(COUNTIF(AE$2:AE195,AE195)=1,AE195,\"\")","v":""},{"$f":"+IFERROR(INDEX(AD$2:AD$955,MATCH(ROW()-ROW(AH$1),AC$2:AC$955,0)),\"\")","v":""},{"$f":"+IFERROR(INDEX(AE$2:AE$955,MATCH(ROW()-ROW(AH$1),AC$2:AC$955,0)),\"\")","v":""},{"$f":"+IFERROR(INDEX(AF$2:AF$955,MATCH(ROW()-ROW(AI$1),AC$2:AC$955,0)),\"\")","v":""}]
[null,null,null,null,null,null,null,null,null,null,null,null,null,null,null,null,null,null,{"$f":"+IF(X196=\"\",\"\",MAX(S$1:S195)+1)","v":""},{"$f":"IF(Emission_Limits_Details!$B218=\"\",\"\",Emission_Limits_Details!$B218)","v":""},{"$f":"IF(Emission_Limits_Details!$C218=\"\",\"\",Emission_Limits_Details!$C218)","v":""},null,"",{"$f":"IF(COUNTIF(U$2:U196,U196)=1,U196,\"\")","v":""},"","","",null,{"$f":"+IF(AH196=\"\",\"\",MAX(AC$1:AC195)+1)","v":""},{"$f":"IF(CMS_Detail!$B218=\"\",\"\",CMS_Detail!$B218)","v":""},{"$f":"IF(CMS_Detail!$C218=\"\",\"\",CMS_Detail!$C218)","v":""},null,"",{"$f":"IF(COUNTIF(AE$2:AE196,AE196)=1,AE196,\"\")","v":""},"","",""]
[null,null,null,null,null,null,null,null,null,null,null,null,null,null,null,null,null,null,{"$f":"+IF(X197=\"\",\"\",MAX(S$1:S196)+1)","v":""},{"$f":"IF(Emission_Limits_Details!$B219=\"\",\"\",Emission_Limits_Details!$B219)","v":""},{"$f":"IF(Emission_Limits_Details!$C219=\"\",\"\",Emission_Limits_Details!$C219)","v":""},null,"",{"$f":"IF(COUNTIF(U$2:U197,U197)=1,U197,\"\")","v":""},"","","",null,{"$f":"+IF(AH197=\"\",\"\",MAX(AC$1:AC196)+1)","v":""},{"$f":"IF(CMS_Detail!$B219=\"\",\"\",CMS_Detail!$B219)","v":""},{"$f":"IF(CMS_Detail!$C219=\"\",\"\",CMS_Detail!$C219)","v":""},null,"",{"$f":"IF(COUNTIF(AE$2:AE197,AE197)=1,AE197,\"\")","v":""},"","",""]
[null,null,null,null,null,null,null,null,null,null,null,null,null,null,null,null,null,null,{"$f":"+IF(X198=\"\",\"\",MAX(S$1:S197)+1)","v":""},{"$f":"IF(Emission_Limits_Details!$B220=\"\",\"\",Emission_Limits_Details!$B220)","v":""},{"$f":"IF(Emission_Limits_Details!$C220=\"\",\"\",Emission_Limits_Details!$C220)","v":""},null,"",{"$f":"IF(COUNTIF(U$2:U198,U198)=1,U198,\"\")","v":""},"","","",null,{"$f":"+IF(AH198=\"\",\"\",MAX(AC$1:AC197)+1)","v":""},{"$f":"IF(CMS_Detail!$B220=\"\",\"\",CMS_Detail!$B220)","v":""},{"$f":"IF(CMS_Detail!$C220=\"\",\"\",CMS_Detail!$C220)","v":""},null,"",{"$f":"IF(COUNTIF(AE$2:AE198,AE198)=1,AE198,\"\")","v":""},"","",""]
[null,null,null,null,null,null,null,null,null,null,null,null,null,null,null,null,null,null,{"$f":"+IF(X199=\"\",\"\",MAX(S$1:S198)+1)","v":""},{"$f":"IF(Emission_Limits_Details!$B221=\"\",\"\",Emission_Limits_Details!$B221)","v":""},{"$f":"IF(Emission_Limits_Details!$C221=\"\",\"\",Emission_Limits_Details!$C221)","v":""},null,"",{"$f":"IF(COUNTIF(U$2:U199,U199)=1,U199,\"\")","v":""},"","","",null,{"$f":"+IF(AH199=\"\",\"\",MAX(AC$1:AC198)+1)","v":""},{"$f":"IF(CMS_Detail!$B221=\"\",\"\",CMS_Detail!$B221)","v":""},{"$f":"IF(CMS_Detail!$C221=\"\",\"\",CMS_Detail!$C221)","v":""},null,"",{"$f":"IF(COUNTIF(AE$2:AE199,AE199)=1,AE199,\"\")","v":""},"","",""]
[null,null,null,null,null,null,null,null,null,null,null,null,null,null,null,null,null,null,{"$f":"+IF(X200=\"\",\"\",MAX(S$1:S199)+1)","v":""},{"$f":"IF(Emission_Limits_Details!$B222=\"\",\"\",Emission_Limits_Details!$B222)","v":""},{"$f":"IF(Emission_Limits_Details!$C222=\"\",\"\",Emission_Limits_Details!$C222)","v":""},null,"",{"$f":"IF(COUNTIF(U$2:U200,U200)=1,U200,\"\")","v":""},"","","",null,{"$f":"+IF(AH200=\"\",\"\",MAX(AC$1:AC199)+1)","v":""},{"$f":"IF(CMS_Detail!$B222=\"\",\"\",CMS_Detail!$B222)","v":""},{"$f":"IF(CMS_Detail!$C222=\"\",\"\",CMS_Detail!$C222)","v":""},null,"",{"$f":"IF(COUNTIF(AE$2:AE200,AE200)=1,AE200,\"\")","v":""},"","",""]
[null,null,null,null,null,null,null,null,null,null,null,null,null,null,null,null,null,null,{"$f":"+IF(X201=\"\",\"\",MAX(S$1:S200)+1)","v":""},{"$f":"IF(Emission_Limits_Details!$B223=\"\",\"\",Emission_Limits_Details!$B223)","v":""},{"$f":"IF(Emission_Limits_Details!$C223=\"\",\"\",Emission_Limits_Details!$C223)","v":""},null,"",{"$f":"IF(COUNTIF(U$2:U201,U201)=1,U201,\"\")","v":""},"","","",null,{"$f":"+IF(AH201=\"\",\"\",MAX(AC$1:AC200)+1)","v":""},{"$f":"IF(CMS_Detail!$B223=\"\",\"\",CMS_Detail!$B223)","v":""},{"$f":"IF(CMS_Detail!$C223=\"\",\"\",CMS_Detail!$C223)","v":""},null,"",{"$f":"IF(COUNTIF(AE$2:AE201,AE201)=1,AE201,\"\")","v":""},"","",""]
[null,null,null,null,null,null,null,null,null,null,null,null,null,null,null,null,null,null,{"$f":"+IF(X202=\"\",\"\",MAX(S$1:S201)+1)","v":""},{"$f":"IF(Emission_Limits_Details!$B224=\"\",\"\",Emission_Limits_Details!$B224)","v":""},{"$f":"IF(Emission_Limits_Details!$C224=\"\",\"\",Emission_Limits_Details!$C224)","v":""},null,"",{"$f":"IF(COUNTIF(U$2:U202,U202)=1,U202,\"\")","v":""},"","","",null,{"$f":"+IF(AH202=\"\",\"\",MAX(AC$1:AC201)+1)","v":""},{"$f":"IF(CMS_Detail!$B224=\"\",\"\",CMS_Detail!$B224)","v":""},{"$f":"IF(CMS_Detail!$C224=\"\",\"\",CMS_Detail!$C224)","v":""},null,"",{"$f":"IF(COUNTIF(AE$2:AE202,AE202)=1,AE202,\"\")","v":""},"","",""]
[null,null,null,null,null,null,null,null,null,null,null,null,null,null,null,null,null,null,{"$f":"+IF(X203=\"\",\"\",MAX(S$1:S202)+1)","v":""},{"$f":"IF(Emission_Limits_Details!$B225=\"\",\"\",Emission_Limits_Details!$B225)","v":""},{"$f":"IF(Emission_Limits_Details!$C225=\"\",\"\",Emission_Limits_Details!$C225)","v":""},null,"",{"$f":"IF(COUNTIF(U$2:U203,U203)=1,U203,\"\")","v":""},"","","",null,{"$f":"+IF(AH203=\"\",\"\",MAX(AC$1:AC202)+1)","v":""},{"$f":"IF(CMS_Detail!$B225=\"\",\"\",CMS_Detail!$B225)","v":""},{"$f":"IF(CMS_Detail!$C225=\"\",\"\",CMS_Detail!$C225)","v":""},null,"",{"$f":"IF(COUNTIF(AE$2:AE203,AE203)=1,AE203,\"\")","v":""},"","",""]
[null,null,null,null,null,null,null,null,null,null,null,null,null,null,null,null,null,null,{"$f":"+IF(X204=\"\",\"\",MAX(S$1:S203)+1)","v":""},{"$f":"IF(Emission_Limits_Details!$B226=\"\",\"\",Emission_Limits_Details!$B226)","v":""},{"$f":"IF(Emission_Limits_Details!$C226=\"\",\"\",Emission_Limits_Details!$C226)","v":""},null,"",{"$f":"IF(COUNTIF(U$2:U204,U204)=1,U204,\"\")","v":""},"","","",null,{"$f":"+IF(AH204=\"\",\"\",MAX(AC$1:AC203)+1)","v":""},{"$f":"IF(CMS_Detail!$B226=\"\",\"\",CMS_Detail!$B226)","v":""},{"$f":"IF(CMS_Detail!$C226=\"\",\"\",CMS_Detail!$C226)","v":""},null,"",{"$f":"IF(COUNTIF(AE$2:AE204,AE204)=1,AE204,\"\")","v":""},"","",""]
[null,null,null,null,null,null,null,null,null,null,null,null,null,null,null,null,null,null,{"$f":"+IF(X205=\"\",\"\",MAX(S$1:S204)+1)","v":""},{"$f":"IF(Emission_Limits_Details!$B227=\"\",\"\",Emission_Limits_Details!$B227)","v":""},{"$f":"IF(Emission_Limits_Details!$C227=\"\",\"\",Emission_Limits_Details!$C227)","v":""},null,"",{"$f":"IF(COUNTIF(U$2:U205,U205)=1,U205,\"\")","v":""},"","","",null,{"$f":"+IF(AH205=\"\",\"\",MAX(AC$1:AC204)+1)","v":""},{"$f":"IF(CMS_Detail!$B227=\"\",\"\",CMS_Detail!$B227)","v":""},{"$f":"IF(CMS_Detail!$C227=\"\",\"\",CMS_Detail!$C227)","v":""},null,"",{"$f":"IF(COUNTIF(AE$2:AE205,AE205)=1,AE205,\"\")","v":""},"","",""]
[null,null,null,null,null,null,null,null,null,null,null,null,null,null,null,null,null,null,{"$f":"+IF(X206=\"\",\"\",MAX(S$1:S205)+1)","v":""},{"$f":"IF(Emission_Limits_Details!$B228=\"\",\"\",Emission_Limits_Details!$B228)","v":""},{"$f":"IF(Emission_Limits_Details!$C228=\"\",\"\",Emission_Limits_Details!$C228)","v":""},null,"",{"$f":"IF(COUNTIF(U$2:U206,U206)=1,U206,\"\")","v":""},"","","",null,{"$f":"+IF(AH206=\"\",\"\",MAX(AC$1:AC205)+1)","v":""},{"$f":"IF(CMS_Detail!$B228=\"\",\"\",CMS_Detail!$B228)","v":""},{"$f":"IF(CMS_Detail!$C228=\"\",\"\",CMS_Detail!$C228)","v":""},null,"",{"$f":"IF(COUNTIF(AE$2:AE206,AE206)=1,AE206,\"\")","v":""},"","",""]
[null,null,null,null,null,null,null,null,null,null,null,null,null,null,null,null,null,null,{"$f":"+IF(X207=\"\",\"\",MAX(S$1:S206)+1)","v":""},{"$f":"IF(Emission_Limits_Details!$B229=\"\",\"\",Emission_Limits_Details!$B229)","v":""},{"$f":"IF(Emission_Limits_Details!$C229=\"\",\"\",Emission_Limits_Details!$C229)","v":""},null,"",{"$f":"IF(COUNTIF(U$2:U207,U207)=1,U207,\"\")","v":""},"","","",null,{"$f":"+IF(AH207=\"\",\"\",MAX(AC$1:AC206)+1)","v":""},{"$f":"IF(CMS_Detail!$B229=\"\",\"\",CMS_Detail!$B229)","v":""},{"$f":"IF(CMS_Detail!$C229=\"\",\"\",CMS_Detail!$C229)","v":""},null,"",{"$f":"IF(COUNTIF(AE$2:AE207,AE207)=1,AE207,\"\")","v":""},"","",""]
[null,null,null,null,null,null,null,null,null,null,null,null,null,null,null,null,null,null,{"$f":"+IF(X208=\"\",\"\",MAX(S$1:S207)+1)","v":""},{"$f":"IF(Emission_Limits_Details!$B230=\"\",\"\",Emission_Limits_Details!$B230)","v":""},{"$f":"IF(Emission_Limits_Details!$C230=\"\",\"\",Emission_Limits_Details!$C230)","v":""},null,"",{"$f":"IF(COUNTIF(U$2:U208,U208)=1,U208,\"\")","v":""},"","","",null,{"$f":"+IF(AH208=\"\",\"\",MAX(AC$1:AC207)+1)","v":""},{"$f":"IF(CMS_Detail!$B230=\"\",\"\",CMS_Detail!$B230)","v":""},{"$f":"IF(CMS_Detail!$C230=\"\",\"\",CMS_Detail!$C230)","v":""},null,"",{"$f":"IF(COUNTIF(AE$2:AE208,AE208)=1,AE208,\"\")","v":""},"","",""]
[null,null,null,null,null,null,null,null,null,null,null,null,null,null,null,null,null,null,{"$f":"+IF(X209=\"\",\"\",MAX(S$1:S208)+1)","v":""},{"$f":"IF(Emission_Limits_Details!$B231=\"\",\"\",Emission_Limits_Details!$B231)","v":""},{"$f":"IF(Emission_Limits_Details!$C231=\"\",\"\",Emission_Limits_Details!$C231)","v":""},null,"",{"$f":"IF(COUNTIF(U$2:U209,U209)=1,U209,\"\")","v":""},"","","",null,{"$f":"+IF(AH209=\"\",\"\",MAX(AC$1:AC208)+1)","v":""},{"$f":"IF(CMS_Detail!$B231=\"\",\"\",CMS_Detail!$B231)","v":""},{"$f":"IF(CMS_Detail!$C231=\"\",\"\",CMS_Detail!$C231)","v":""},null,"",{"$f":"IF(COUNTIF(AE$2:AE209,AE209)=1,AE209,\"\")","v":""},"","",""]
[null,null,null,null,null,null,null,null,null,null,null,null,null,null,null,null,null,null,{"$f":"+IF(X210=\"\",\"\",MAX(S$1:S209)+1)","v":""},{"$f":"IF(Emission_Limits_Details!$B232=\"\",\"\",Emission_Limits_Details!$B232)","v":""},{"$f":"IF(Emission_Limits_Details!$C232=\"\",\"\",Emission_Limits_Details!$C232)","v":""},null,"",{"$f":"IF(COUNTIF(U$2:U210,U210)=1,U210,\"\")","v":""},"","","",null,{"$f":"+IF(AH210=\"\",\"\",MAX(AC$1:AC209)+1)","v":""},{"$f":"IF(CMS_Detail!$B232=\"\",\"\",CMS_Detail!$B232)","v":""},{"$f":"IF(CMS_Detail!$C232=\"\",\"\",CMS_Detail!$C232)","v":""},null,"",{"$f":"IF(COUNTIF(AE$2:AE210,AE210)=1,AE210,\"\")","v":""},"","",""]
[null,null,null,null,null,null,null,null,null,null,null,null,null,null,null,null,null,null,{"$f":"+IF(X211=\"\",\"\",MAX(S$1:S210)+1)","v":""},{"$f":"IF(Emission_Limits_Details!$B233=\"\",\"\",Emission_Limits_Details!$B233)","v":""},{"$f":"IF(Emission_Limits_Details!$C233=\"\",\"\",Emission_Limits_Details!$C233)","v":""},null,"",{"$f":"IF(COUNTIF(U$2:U211,U211)=1,U211,\"\")","v":""},"","","",null,{"$f":"+IF(AH211=\"\",\"\",MAX(AC$1:AC210)+1)","v":""},{"$f":"IF(CMS_Detail!$B233=\"\",\"\",CMS_Detail!$B233)","v":""},{"$f":"IF(CMS_Detail!$C233=\"\",\"\",CMS_Detail!$C233)","v":""},null,"",{"$f":"IF(COUNTIF(AE$2:AE211,AE211)=1,AE211,\"\")","v":""},"","",""]
[null,null,null,null,null,null,null,null,null,null,null,null,null,null,null,null,null,null,{"$f":"+IF(X212=\"\",\"\",MAX(S$1:S211)+1)","v":""},{"$f":"IF(Emission_Limits_Details!$B234=\"\",\"\",Emission_Limits_Details!$B234)","v":""},{"$f":"IF(Emission_Limits_Details!$C234=\"\",\"\",Emission_Limits_Details!$C234)","v":""},null,"",{"$f":"IF(COUNTIF(U$2:U212,U212)=1,U212,\"\")","v":""},"","","",null,{"$f":"+IF(AH212=\"\",\"\",MAX(AC$1:AC211)+1)","v":""},{"$f":"IF(CMS_Detail!$B234=\"\",\"\",CMS_Detail!$B234)","v":""},{"$f":"IF(CMS_Detail!$C234=\"\",\"\",CMS_Detail!$C234)","v":""},null,"",{"$f":"IF(COUNTIF(AE$2:AE212,AE212)=1,AE212,\"\")","v":""},"","",""]
[null,null,null,null,null,null,null,null,null,null,null,null,null,null,null,null,null,null,{"$f":"+IF(X213=\"\",\"\",MAX(S$1:S212)+1)","v":""},{"$f":"IF(Emission_Limits_Details!$B235=\"\",\"\",Emission_Limits_Details!$B235)","v":""},{"$f":"IF(Emission_Limits_Details!$C235=\"\",\"\",Emission_Limits_Details!$C235)","v":""},null,"",{"$f":"IF(COUNTIF(U$2:U213,U213)=1,U213,\"\")","v":""},"","","",null,{"$f":"+IF(AH213=\"\",\"\",MAX(AC$1:AC212)+1)","v":""},{"$f":"IF(CMS_Detail!$B235=\"\",\"\",CMS_Detail!$B235)","v":""},{"$f":"IF(CMS_Detail!$C235=\"\",\"\",CMS_Detail!$C235)","v":""},null,"",{"$f":"IF(COUNTIF(AE$2:AE213,AE213)=1,AE213,\"\")","v":""},"","",""]
[null,null,null,null,null,null,null,null,null,null,null,null,null,null,null,null,null,null,{"$f":"+IF(X214=\"\",\"\",MAX(S$1:S213)+1)","v":""},{"$f":"IF(Emission_Limits_Details!$B236=\"\",\"\",Emission_Limits_Details!$B236)","v":""},{"$f":"IF(Emission_Limits_Details!$C236=\"\",\"\",Emission_Limits_Details!$C236)","v":""},null,"",{"$f":"IF(COUNTIF(U$2:U214,U214)=1,U214,\"\")","v":""},"","","",null,{"$f":"+IF(AH214=\"\",\"\",MAX(AC$1:AC213)+1)","v":""},{"$f":"IF(CMS_Detail!$B236=\"\",\"\",CMS_Detail!$B236)","v":""},{"$f":"IF(CMS_Detail!$C236=\"\",\"\",CMS_Detail!$C236)","v":""},null,"",{"$f":"IF(COUNTIF(AE$2:AE214,AE214)=1,AE214,\"\")","v":""},"","",""]
[null,null,null,null,null,null,null,null,null,null,null,null,null,null,null,null,null,null,{"$f":"+IF(X215=\"\",\"\",MAX(S$1:S214)+1)","v":""},{"$f":"IF(Emission_Limits_Details!$B237=\"\",\"\",Emission_Limits_Details!$B237)","v":""},{"$f":"IF(Emission_Limits_Details!$C237=\"\",\"\",Emission_Limits_Details!$C237)","v":""},null,"",{"$f":"IF(COUNTIF(U$2:U215,U215)=1,U215,\"\")","v":""},"","","",null,{"$f":"+IF(AH215=\"\",\"\",MAX(AC$1:AC214)+1)","v":""},{"$f":"IF(CMS_Detail!$B237=\"\",\"\",CMS_Detail!$B237)","v":""},{"$f":"IF(CMS_Detail!$C237=\"\",\"\",CMS_Detail!$C237)","v":""},null,"",{"$f":"IF(COUNTIF(AE$2:AE215,AE215)=1,AE215,\"\")","v":""},"","",""]
[null,null,null,null,null,null,null,null,null,null,null,null,null,null,null,null,null,null,{"$f":"+IF(X216=\"\",\"\",MAX(S$1:S215)+1)","v":""},{"$f":"IF(Emission_Limits_Details!$B238=\"\",\"\",Emission_Limits_Details!$B238)","v":""},{"$f":"IF(Emission_Limits_Details!$C238=\"\",\"\",Emission_Limits_Details!$C238)","v":""},null,"",{"$f":"IF(COUNTIF(U$2:U216,U216)=1,U216,\"\")","v":""},"","","",null,{"$f":"+IF(AH216=\"\",\"\",MAX(AC$1:AC215)+1)","v":""},{"$f":"IF(CMS_Detail!$B238=\"\",\"\",CMS_Detail!$B238)","v":""},{"$f":"IF(CMS_Detail!$C238=\"\",\"\",CMS_Detail!$C238)","v":""},null,"",{"$f":"IF(COUNTIF(AE$2:AE216,AE216)=1,AE216,\"\")","v":""},"","",""]
[null,null,null,null,null,null,null,null,null,null,null,null,null,null,null,null,null,null,{"$f":"+IF(X217=\"\",\"\",MAX(S$1:S216)+1)","v":""},{"$f":"IF(Emission_Limits_Details!$B239=\"\",\"\",Emission_Limits_Details!$B239)","v":""},{"$f":"IF(Emission_Limits_Details!$C239=\"\",\"\",Emission_Limits_Details!$C239)","v":""},null,"",{"$f":"IF(COUNTIF(U$2:U217,U217)=1,U217,\"\")","v":""},"","","",null,{"$f":"+IF(AH217=\"\",\"\",MAX(AC$1:AC216)+1)","v":""},{"$f":"IF(CMS_Detail!$B239=\"\",\"\",CMS_Detail!$B239)","v":""},{"$f":"IF(CMS_Detail!$C239=\"\",\"\",CMS_Detail!$C239)","v":""},null,"",{"$f":"IF(COUNTIF(AE$2:AE217,AE217)=1,AE217,\"\")","v":""},"","",""]
[null,null,null,null,null,null,null,null,null,null,null,null,null,null,null,null,null,null,{"$f":"+IF(X218=\"\",\"\",MAX(S$1:S217)+1)","v":""},{"$f":"IF(Emission_Limits_Details!$B240=\"\",\"\",Emission_Limits_Details!$B240)","v":""},{"$f":"IF(Emission_Limits_Details!$C240=\"\",\"\",Emission_Limits_Details!$C240)","v":""},null,"",{"$f":"IF(COUNTIF(U$2:U218,U218)=1,U218,\"\")","v":""},"","","",null,{"$f":"+IF(AH218=\"\",\"\",MAX(AC$1:AC217)+1)","v":""},{"$f":"IF(CMS_Detail!$B240=\"\",\"\",CMS_Detail!$B240)","v":""},{"$f":"IF(CMS_Detail!$C240=\"\",\"\",CMS_Detail!$C240)","v":""},null,"",{"$f":"IF(COUNTIF(AE$2:AE218,AE218)=1,AE218,\"\")","v":""},"","",""]
[null,null,null,null,null,null,null,null,null,null,null,null,null,null,null,null,null,null,{"$f":"+IF(X219=\"\",\"\",MAX(S$1:S218)+1)","v":""},{"$f":"IF(Emission_Limits_Details!$B241=\"\",\"\",Emission_Limits_Details!$B241)","v":""},{"$f":"IF(Emission_Limits_Details!$C241=\"\",\"\",Emission_Limits_Details!$C241)","v":""},null,"",{"$f":"IF(COUNTIF(U$2:U219,U219)=1,U219,\"\")","v":""},"","","",null,{"$f":"+IF(AH219=\"\",\"\",MAX(AC$1:AC218)+1)","v":""},{"$f":"IF(CMS_Detail!$B241=\"\",\"\",CMS_Detail!$B241)","v":""},{"$f":"IF(CMS_Detail!$C241=\"\",\"\",CMS_Detail!$C241)","v":""},null,"",{"$f":"IF(COUNTIF(AE$2:AE219,AE219)=1,AE219,\"\")","v":""},"","",""]
[null,null,null,null,null,null,null,null,null,null,null,null,null,null,null,null,null,null,{"$f":"+IF(X220=\"\",\"\",MAX(S$1:S219)+1)","v":""},{"$f":"IF(Emission_Limits_Details!$B242=\"\",\"\",Emission_Limits_Details!$B242)","v":""},{"$f":"IF(Emission_Limits_Details!$C242=\"\",\"\",Emission_Limits_Details!$C242)","v":""},null,"",{"$f":"IF(COUNTIF(U$2:U220,U220)=1,U220,\"\")","v":""},"","","",null,{"$f":"+IF(AH220=\"\",\"\",MAX(AC$1:AC219)+1)","v":""},{"$f":"IF(CMS_Detail!$B242=\"\",\"\",CMS_Detail!$B242)","v":""},{"$f":"IF(CMS_Detail!$C242=\"\",\"\",CMS_Detail!$C242)","v":""},null,"",{"$f":"IF(COUNTIF(AE$2:AE220,AE220)=1,AE220,\"\")","v":""},"","",""]
[null,null,null,null,null,null,null,null,null,null,null,null,null,null,null,null,null,null,{"$f":"+IF(X221=\"\",\"\",MAX(S$1:S220)+1)","v":""},{"$f":"IF(Emission_Limits_Details!$B243=\"\",\"\",Emission_Limits_Details!$B243)","v":""},{"$f":"IF(Emission_Limits_Details!$C243=\"\",\"\",Emission_Limits_Details!$C243)","v":""},null,"",{"$f":"IF(COUNTIF(U$2:U221,U221)=1,U221,\"\")","v":""},"","","",null,{"$f":"+IF(AH221=\"\",\"\",MAX(AC$1:AC220)+1)","v":""},{"$f":"IF(CMS_Detail!$B243=\"\",\"\",CMS_Detail!$B243)","v":""},{"$f":"IF(CMS_Detail!$C243=\"\",\"\",CMS_Detail!$C243)","v":""},null,"",{"$f":"IF(COUNTIF(AE$2:AE221,AE221)=1,AE221,\"\")","v":""},"","",""]
[null,null,null,null,null,null,null,null,null,null,null,null,null,null,null,null,null,null,{"$f":"+IF(X222=\"\",\"\",MAX(S$1:S221)+1)","v":""},{"$f":"IF(Emission_Limits_Details!$B244=\"\",\"\",Emission_Limits_Details!$B244)","v":""},{"$f":"IF(Emission_Limits_Details!$C244=\"\",\"\",Emission_Limits_Details!$C244)","v":""},null,"",{"$f":"IF(COUNTIF(U$2:U222,U222)=1,U222,\"\")","v":""},"","","",null,{"$f":"+IF(AH222=\"\",\"\",MAX(AC$1:AC221)+1)","v":""},{"$f":"IF(CMS_Detail!$B244=\"\",\"\",CMS_Detail!$B244)","v":""},{"$f":"IF(CMS_Detail!$C244=\"\",\"\",CMS_Detail!$C244)","v":""},null,"",{"$f":"IF(COUNTIF(AE$2:AE222,AE222)=1,AE222,\"\")","v":""},"","",""]
[null,null,null,null,null,null,null,null,null,null,null,null,null,null,null,null,null,null,{"$f":"+IF(X223=\"\",\"\",MAX(S$1:S222)+1)","v":""},{"$f":"IF(Emission_Limits_Details!$B245=\"\",\"\",Emission_Limits_Details!$B245)","v":""},{"$f":"IF(Emission_Limits_Details!$C245=\"\",\"\",Emission_Limits_Details!$C245)","v":""},null,"",{"$f":"IF(COUNTIF(U$2:U223,U223)=1,U223,\"\")","v":""},"","","",null,{"$f":"+IF(AH223=\"\",\"\",MAX(AC$1:AC222)+1)","v":""},{"$f":"IF(CMS_Detail!$B245=\"\",\"\",CMS_Detail!$B245)","v":""},{"$f":"IF(CMS_Detail!$C245=\"\",\"\",CMS_Detail!$C245)","v":""},null,"",{"$f":"IF(COUNTIF(AE$2:AE223,AE223)=1,AE223,\"\")","v":""},"","",""]
[null,null,null,null,null,null,null,null,null,null,null,null,null,null,null,null,null,null,{"$f":"+IF(X224=\"\",\"\",MAX(S$1:S223)+1)","v":""},{"$f":"IF(Emission_Limits_Details!$B246=\"\",\"\",Emission_Limits_Details!$B246)","v":""},{"$f":"IF(Emission_Limits_Details!$C246=\"\",\"\",Emission_Limits_Details!$C246)","v":""},null,"",{"$f":"IF(COUNTIF(U$2:U224,U224)=1,U224,\"\")","v":""},"","","",null,{"$f":"+IF(AH224=\"\",\"\",MAX(AC$1:AC223)+1)","v":""},{"$f":"IF(CMS_Detail!$B246=\"\",\"\",CMS_Detail!$B246)","v":""},{"$f":"IF(CMS_Detail!$C246=\"\",\"\",CMS_Detail!$C246)","v":""},null,"",{"$f":"IF(COUNTIF(AE$2:AE224,AE224)=1,AE224,\"\")","v":""},"","",""]
[null,null,null,null,null,null,null,null,null,null,null,null,null,null,null,null,null,null,{"$f":"+IF(X225=\"\",\"\",MAX(S$1:S224)+1)","v":""},{"$f":"IF(Emission_Limits_Details!$B247=\"\",\"\",Emission_Limits_Details!$B247)","v":""},{"$f":"IF(Emission_Limits_Details!$C247=\"\",\"\",Emission_Limits_Details!$C247)","v":""},null,"",{"$f":"IF(COUNTIF(U$2:U225,U225)=1,U225,\"\")","v":""},"","","",null,{"$f":"+IF(AH225=\"\",\"\",MAX(AC$1:AC224)+1)","v":""},{"$f":"IF(CMS_Detail!$B247=\"\",\"\",CMS_Detail!$B247)","v":""},{"$f":"IF(CMS_Detail!$C247=\"\",\"\",CMS_Detail!$C247)","v":""},null,"",{"$f":"IF(COUNTIF(AE$2:AE225,AE225)=1,AE225,\"\")","v":""},"","",""]
[null,null,null,null,null,null,null,null,null,null,null,null,null,null,null,null,null,null,{"$f":"+IF(X226=\"\",\"\",MAX(S$1:S225)+1)","v":""},{"$f":"IF(Emission_Limits_Details!$B248=\"\",\"\",Emission_Limits_Details!$B248)","v":""},{"$f":"IF(Emission_Limits_Details!$C248=\"\",\"\",Emission_Limits_Details!$C248)","v":""},null,"",{"$f":"IF(COUNTIF(U$2:U226,U226)=1,U226,\"\")","v":""},"","","",null,{"$f":"+IF(AH226=\"\",\"\",MAX(AC$1:AC225)+1)","v":""},{"$f":"IF(CMS_Detail!$B248=\"\",\"\",CMS_Detail!$B248)","v":""},{"$f":"IF(CMS_Detail!$C248=\"\",\"\",CMS_Detail!$C248)","v":""},null,"",{"$f":"IF(COUNTIF(AE$2:AE226,AE226)=1,AE226,\"\")","v":""},"","",""]
[null,null,null,null,null,null,null,null,null,null,null,null,null,null,null,null,null,null,{"$f":"+IF(X227=\"\",\"\",MAX(S$1:S226)+1)","v":""},{"$f":"IF(Emission_Limits_Details!$B249=\"\",\"\",Emission_Limits_Details!$B249)","v":""},{"$f":"IF(Emission_Limits_Details!$C249=\"\",\"\",Emission_Limits_Details!$C249)","v":""},null,"",{"$f":"IF(COUNTIF(U$2:U227,U227)=1,U227,\"\")","v":""},"","","",null,{"$f":"+IF(AH227=\"\",\"\",MAX(AC$1:AC226)+1)","v":""},{"$f":"IF(CMS_Detail!$B249=\"\",\"\",CMS_Detail!$B249)","v":""},{"$f":"IF(CMS_Detail!$C249=\"\",\"\",CMS_Detail!$C249)","v":""},null,"",{"$f":"IF(COUNTIF(AE$2:AE227,AE227)=1,AE227,\"\")","v":""},"","",""]
[null,null,null,null,null,null,null,null,null,null,null,null,null,null,null,null,null,null,{"$f":"+IF(X228=\"\",\"\",MAX(S$1:S227)+1)","v":""},{"$f":"IF(Emission_Limits_Details!$B250=\"\",\"\",Emission_Limits_Details!$B250)","v":""},{"$f":"IF(Emission_Limits_Details!$C250=\"\",\"\",Emission_Limits_Details!$C250)","v":""},null,"",{"$f":"IF(COUNTIF(U$2:U228,U228)=1,U228,\"\")","v":""},"","","",null,{"$f":"+IF(AH228=\"\",\"\",MAX(AC$1:AC227)+1)","v":""},{"$f":"IF(CMS_Detail!$B250=\"\",\"\",CMS_Detail!$B250)","v":""},{"$f":"IF(CMS_Detail!$C250=\"\",\"\",CMS_Detail!$C250)","v":""},null,"",{"$f":"IF(COUNTIF(AE$2:AE228,AE228)=1,AE228,\"\")","v":""},"","",""]
[null,null,null,null,null,null,null,null,null,null,null,null,null,null,null,null,null,null,{"$f":"+IF(X229=\"\",\"\",MAX(S$1:S228)+1)","v":""},{"$f":"IF(Emission_Limits_Details!$B251=\"\",\"\",Emission_Limits_Details!$B251)","v":""},{"$f":"IF(Emission_Limits_Details!$C251=\"\",\"\",Emission_Limits_Details!$C251)","v":""},null,"",{"$f":"IF(COUNTIF(U$2:U229,U229)=1,U229,\"\")","v":""},"","","",null,{"$f":"+IF(AH229=\"\",\"\",MAX(AC$1:AC228)+1)","v":""},{"$f":"IF(CMS_Detail!$B251=\"\",\"\",CMS_Detail!$B251)","v":""},{"$f":"IF(CMS_Detail!$C251=\"\",\"\",CMS_Detail!$C251)","v":""},null,"",{"$f":"IF(COUNTIF(AE$2:AE229,AE229)=1,AE229,\"\")","v":""},"","",""]
[null,null,null,null,null,null,null,null,null,null,null,null,null,null,null,null,null,null,{"$f":"+IF(X230=\"\",\"\",MAX(S$1:S229)+1)","v":""},{"$f":"IF(Emission_Limits_Details!$B252=\"\",\"\",Emission_Limits_Details!$B252)","v":""},{"$f":"IF(Emission_Limits_Details!$C252=\"\",\"\",Emission_Limits_Details!$C252)","v":""},null,"",{"$f":"IF(COUNTIF(U$2:U230,U230)=1,U230,\"\")","v":""},"","","",null,{"$f":"+IF(AH230=\"\",\"\",MAX(AC$1:AC229)+1)","v":""},{"$f":"IF(CMS_Detail!$B252=\"\",\"\",CMS_Detail!$B252)","v":""},{"$f":"IF(CMS_Detail!$C252=\"\",\"\",CMS_Detail!$C252)","v":""},null,"",{"$f":"IF(COUNTIF(AE$2:AE230,AE230)=1,AE230,\"\")","v":""},"","",""]
[null,null,null,null,null,null,null,null,null,null,null,null,null,null,null,null,null,null,{"$f":"+IF(X231=\"\",\"\",MAX(S$1:S230)+1)","v":""},{"$f":"IF(Emission_Limits_Details!$B253=\"\",\"\",Emission_Limits_Details!$B253)","v":""},{"$f":"IF(Emission_Limits_Details!$C253=\"\",\"\",Emission_Limits_Details!$C253)","v":""},null,"",{"$f":"IF(COUNTIF(U$2:U231,U231)=1,U231,\"\")","v":""},"","","",null,{"$f":"+IF(AH231=\"\",\"\",MAX(AC$1:AC230)+1)","v":""},{"$f":"IF(CMS_Detail!$B253=\"\",\"\",CMS_Detail!$B253)","v":""},{"$f":"IF(CMS_Detail!$C253=\"\",\"\",CMS_Detail!$C253)","v":""},null,"",{"$f":"IF(COUNTIF(AE$2:AE231,AE231)=1,AE231,\"\")","v":""},"","",""]
[null,null,null,null,null,null,null,null,null,null,null,null,null,null,null,null,null,null,{"$f":"+IF(X232=\"\",\"\",MAX(S$1:S231)+1)","v":""},{"$f":"IF(Emission_Limits_Details!$B254=\"\",\"\",Emission_Limits_Details!$B254)","v":""},{"$f":"IF(Emission_Limits_Details!$C254=\"\",\"\",Emission_Limits_Details!$C254)","v":""},null,"",{"$f":"IF(COUNTIF(U$2:U232,U232)=1,U232,\"\")","v":""},"","","",null,{"$f":"+IF(AH232=\"\",\"\",MAX(AC$1:AC231)+1)","v":""},{"$f":"IF(CMS_Detail!$B254=\"\",\"\",CMS_Detail!$B254)","v":""},{"$f":"IF(CMS_Detail!$C254=\"\",\"\",CMS_Detail!$C254)","v":""},null,"",{"$f":"IF(COUNTIF(AE$2:AE232,AE232)=1,AE232,\"\")","v":""},"","",""]
[null,null,null,null,null,null,null,null,null,null,null,null,null,null,null,null,null,null,{"$f":"+IF(X233=\"\",\"\",MAX(S$1:S232)+1)","v":""},{"$f":"IF(Emission_Limits_Details!$B255=\"\",\"\",Emission_Limits_Details!$B255)","v":""},{"$f":"IF(Emission_Limits_Details!$C255=\"\",\"\",Emission_Limits_Details!$C255)","v":""},null,"",{"$f":"IF(COUNTIF(U$2:U233,U233)=1,U233,\"\")","v":""},"","","",null,{"$f":"+IF(AH233=\"\",\"\",MAX(AC$1:AC232)+1)","v":""},{"$f":"IF(CMS_Detail!$B255=\"\",\"\",CMS_Detail!$B255)","v":""},{"$f":"IF(CMS_Detail!$C255=\"\",\"\",CMS_Detail!$C255)","v":""},null,"",{"$f":"IF(COUNTIF(AE$2:AE233,AE233)=1,AE233,\"\")","v":""},"","",""]
[null,null,null,null,null,null,null,null,null,null,null,null,null,null,null,null,null,null,{"$f":"+IF(X234=\"\",\"\",MAX(S$1:S233)+1)","v":""},{"$f":"IF(Emission_Limits_Details!$B256=\"\",\"\",Emission_Limits_Details!$B256)","v":""},{"$f":"IF(Emission_Limits_Details!$C256=\"\",\"\",Emission_Limits_Details!$C256)","v":""},null,"",{"$f":"IF(COUNTIF(U$2:U234,U234)=1,U234,\"\")","v":""},"","","",null,{"$f":"+IF(AH234=\"\",\"\",MAX(AC$1:AC233)+1)","v":""},{"$f":"IF(CMS_Detail!$B256=\"\",\"\",CMS_Detail!$B256)","v":""},{"$f":"IF(CMS_Detail!$C256=\"\",\"\",CMS_Detail!$C256)","v":""},null,"",{"$f":"IF(COUNTIF(AE$2:AE234,AE234)=1,AE234,\"\")","v":""},"","",""]
[null,null,null,null,null,null,null,null,null,null,null,null,null,null,null,null,null,null,{"$f":"+IF(X235=\"\",\"\",MAX(S$1:S234)+1)","v":""},{"$f":"IF(Emission_Limits_Details!$B257=\"\",\"\",Emission_Limits_Details!$B257)","v":""},{"$f":"IF(Emission_Limits_Details!$C257=\"\",\"\",Emission_Limits_Details!$C257)","v":""},null,"",{"$f":"IF(COUNTIF(U$2:U235,U235)=1,U235,\"\")","v":""},"","","",null,{"$f":"+IF(AH235=\"\",\"\",MAX(AC$1:AC234)+1)","v":""},{"$f":"IF(CMS_Detail!$B257=\"\",\"\",CMS_Detail!$B257)","v":""},{"$f":"IF(CMS_Detail!$C257=\"\",\"\",CMS_Detail!$C257)","v":""},null,"",{"$f":"IF(COUNTIF(AE$2:AE235,AE235)=1,AE235,\"\")","v":""},"","",""]
[null,null,null,null,null,null,null,null,null,null,null,null,null,null,null,null,null,null,{"$f":"+IF(X236=\"\",\"\",MAX(S$1:S235)+1)","v":""},{"$f":"IF(Emission_Limits_Details!$B258=\"\",\"\",Emission_Limits_Details!$B258)","v":""},{"$f":"IF(Emission_Limits_Details!$C258=\"\",\"\",Emission_Limits_Details!$C258)","v":""},null,"",{"$f":"IF(COUNTIF(U$2:U236,U236)=1,U236,\"\")","v":""},"","","",null,{"$f":"+IF(AH236=\"\",\"\",MAX(AC$1:AC235)+1)","v":""},{"$f":"IF(CMS_Detail!$B258=\"\",\"\",CMS_Detail!$B258)","v":""},{"$f":"IF(CMS_Detail!$C258=\"\",\"\",CMS_Detail!$C258)","v":""},null,"",{"$f":"IF(COUNTIF(AE$2:AE236,AE236)=1,AE236,\"\")","v":""},"","",""]
[null,null,null,null,null,null,null,null,null,null,null,null,null,null,null,null,null,null,{"$f":"+IF(X237=\"\",\"\",MAX(S$1:S236)+1)","v":""},{"$f":"IF(Emission_Limits_Details!$B259=\"\",\"\",Emission_Limits_Details!$B259)","v":""},{"$f":"IF(Emission_Limits_Details!$C259=\"\",\"\",Emission_Limits_Details!$C259)","v":""},null,"",{"$f":"IF(COUNTIF(U$2:U237,U237)=1,U237,\"\")","v":""},"","","",null,{"$f":"+IF(AH237=\"\",\"\",MAX(AC$1:AC236)+1)","v":""},{"$f":"IF(CMS_Detail!$B259=\"\",\"\",CMS_Detail!$B259)","v":""},{"$f":"IF(CMS_Detail!$C259=\"\",\"\",CMS_Detail!$C259)","v":""},null,"",{"$f":"IF(COUNTIF(AE$2:AE237,AE237)=1,AE237,\"\")","v":""},"","",""]
[null,null,null,null,null,null,null,null,null,null,null,null,null,null,null,null,null,null,{"$f":"+IF(X238=\"\",\"\",MAX(S$1:S237)+1)","v":""},{"$f":"IF(Emission_Limits_Details!$B260=\"\",\"\",Emission_Limits_Details!$B260)","v":""},{"$f":"IF(Emission_Limits_Details!$C260=\"\",\"\",Emission_Limits_Details!$C260)","v":""},null,"",{"$f":"IF(COUNTIF(U$2:U238,U238)=1,U238,\"\")","v":""},"","","",null,{"$f":"+IF(AH238=\"\",\"\",MAX(AC$1:AC237)+1)","v":""},{"$f":"IF(CMS_Detail!$B260=\"\",\"\",CMS_Detail!$B260)","v":""},{"$f":"IF(CMS_Detail!$C260=\"\",\"\",CMS_Detail!$C260)","v":""},null,"",{"$f":"IF(COUNTIF(AE$2:AE238,AE238)=1,AE238,\"\")","v":""},"","",""]
[null,null,null,null,null,null,null,null,null,null,null,null,null,null,null,null,null,null,{"$f":"+IF(X239=\"\",\"\",MAX(S$1:S238)+1)","v":""},{"$f":"IF(Emission_Limits_Details!$B261=\"\",\"\",Emission_Limits_Details!$B261)","v":""},{"$f":"IF(Emission_Limits_Details!$C261=\"\",\"\",Emission_Limits_Details!$C261)","v":""},null,"",{"$f":"IF(COUNTIF(U$2:U239,U239)=1,U239,\"\")","v":""},"","","",null,{"$f":"+IF(AH239=\"\",\"\",MAX(AC$1:AC238)+1)","v":""},{"$f":"IF(CMS_Detail!$B261=\"\",\"\",CMS_Detail!$B261)","v":""},{"$f":"IF(CMS_Detail!$C261=\"\",\"\",CMS_Detail!$C261)","v":""},null,"",{"$f":"IF(COUNTIF(AE$2:AE239,AE239)=1,AE239,\"\")","v":""},"","",""]
[null,null,null,null,null,null,null,null,null,null,null,null,null,null,null,null,null,null,{"$f":"+IF(X240=\"\",\"\",MAX(S$1:S239)+1)","v":""},{"$f":"IF(Emission_Limits_Details!$B262=\"\",\"\",Emission_Limits_Details!$B262)","v":""},{"$f":"IF(Emission_Limits_Details!$C262=\"\",\"\",Emission_Limits_Details!$C262)","v":""},null,"",{"$f":"IF(COUNTIF(U$2:U240,U240)=1,U240,\"\")","v":""},"","","",null,{"$f":"+IF(AH240=\"\",\"\",MAX(AC$1:AC239)+1)","v":""},{"$f":"IF(CMS_Detail!$B262=\"\",\"\",CMS_Detail!$B262)","v":""},{"$f":"IF(CMS_Detail!$C262=\"\",\"\",CMS_Detail!$C262)","v":""},null,"",{"$f":"IF(COUNTIF(AE$2:AE240,AE240)=1,AE240,\"\")","v":""},"","",""]
[null,null,null,null,null,null,null,null,null,null,null,null,null,null,null,null,null,null,{"$f":"+IF(X241=\"\",\"\",MAX(S$1:S240)+1)","v":""},{"$f":"IF(Emission_Limits_Details!$B263=\"\",\"\",Emission_Limits_Details!$B263)","v":""},{"$f":"IF(Emission_Limits_Details!$C263=\"\",\"\",Emission_Limits_Details!$C263)","v":""},null,"",{"$f":"IF(COUNTIF(U$2:U241,U241)=1,U241,\"\")","v":""},"","","",null,{"$f":"+IF(AH241=\"\",\"\",MAX(AC$1:AC240)+1)","v":""},{"$f":"IF(CMS_Detail!$B263=\"\",\"\",CMS_Detail!$B263)","v":""},{"$f":"IF(CMS_Detail!$C263=\"\",\"\",CMS_Detail!$C263)","v":""},null,"",{"$f":"IF(COUNTIF(AE$2:AE241,AE241)=1,AE241,\"\")","v":""},"","",""]
[null,null,null,null,null,null,null,null,null,null,null,null,null,null,null,null,null,null,{"$f":"+IF(X242=\"\",\"\",MAX(S$1:S241)+1)","v":""},{"$f":"IF(Emission_Limits_Details!$B264=\"\",\"\",Emission_Limits_Details!$B264)","v":""},{"$f":"IF(Emission_Limits_Details!$C264=\"\",\"\",Emission_Limits_Details!$C264)","v":""},null,"",{"$f":"IF(COUNTIF(U$2:U242,U242)=1,U242,\"\")","v":""},"","","",null,{"$f":"+IF(AH242=\"\",\"\",MAX(AC$1:AC241)+1)","v":""},{"$f":"IF(CMS_Detail!$B264=\"\",\"\",CMS_Detail!$B264)","v":""},{"$f":"IF(CMS_Detail!$C264=\"\",\"\",CMS_Detail!$C264)","v":""},null,"",{"$f":"IF(COUNTIF(AE$2:AE242,AE242)=1,AE242,\"\")","v":""},"","",""]
[null,null,null,null,null,null,null,null,null,null,null,null,null,null,null,null,null,null,{"$f":"+IF(X243=\"\",\"\",MAX(S$1:S242)+1)","v":""},{"$f":"IF(Emission_Limits_Details!$B265=\"\",\"\",Emission_Limits_Details!$B265)","v":""},{"$f":"IF(Emission_Limits_Details!$C265=\"\",\"\",Emission_Limits_Details!$C265)","v":""},null,"",{"$f":"IF(COUNTIF(U$2:U243,U243)=1,U243,\"\")","v":""},"","","",null,{"$f":"+IF(AH243=\"\",\"\",MAX(AC$1:AC242)+1)","v":""},{"$f":"IF(CMS_Detail!$B265=\"\",\"\",CMS_Detail!$B265)","v":""},{"$f":"IF(CMS_Detail!$C265=\"\",\"\",CMS_Detail!$C265)","v":""},null,"",{"$f":"IF(COUNTIF(AE$2:AE243,AE243)=1,AE243,\"\")","v":""},"","",""]
[null,null,null,null,null,null,null,null,null,null,null,null,null,null,null,null,null,null,{"$f":"+IF(X244=\"\",\"\",MAX(S$1:S243)+1)","v":""},{"$f":"IF(Emission_Limits_Details!$B266=\"\",\"\",Emission_Limits_Details!$B266)","v":""},{"$f":"IF(Emission_Limits_Details!$C266=\"\",\"\",Emission_Limits_Details!$C266)","v":""},null,"",{"$f":"IF(COUNTIF(U$2:U244,U244)=1,U244,\"\")","v":""},"","","",null,{"$f":"+IF(AH244=\"\",\"\",MAX(AC$1:AC243)+1)","v":""},{"$f":"IF(CMS_Detail!$B266=\"\",\"\",CMS_Detail!$B266)","v":""},{"$f":"IF(CMS_Detail!$C266=\"\",\"\",CMS_Detail!$C266)","v":""},null,"",{"$f":"IF(COUNTIF(AE$2:AE244,AE244)=1,AE244,\"\")","v":""},"","",""]
[null,null,null,null,null,null,null,null,null,null,null,null,null,null,null,null,null,null,{"$f":"+IF(X245=\"\",\"\",MAX(S$1:S244)+1)","v":""},{"$f":"IF(Emission_Limits_Details!$B267=\"\",\"\",Emission_Limits_Details!$B267)","v":""},{"$f":"IF(Emission_Limits_Details!$C267=\"\",\"\",Emission_Limits_Details!$C267)","v":""},null,"",{"$f":"IF(COUNTIF(U$2:U245,U245)=1,U245,\"\")","v":""},"","","",null,{"$f":"+IF(AH245=\"\",\"\",MAX(AC$1:AC244)+1)","v":""},{"$f":"IF(CMS_Detail!$B267=\"\",\"\",CMS_Detail!$B267)","v":""},{"$f":"IF(CMS_Detail!$C267=\"\",\"\",CMS_Detail!$C267)","v":""},null,"",{"$f":"IF(COUNTIF(AE$2:AE245,AE245)=1,AE245,\"\")","v":""},"","",""]
[null,null,null,null,null,null,null,null,null,null,null,null,null,null,null,null,null,null,{"$f":"+IF(X246=\"\",\"\",MAX(S$1:S245)+1)","v":""},{"$f":"IF(Emission_Limits_Details!$B268=\"\",\"\",Emission_Limits_Details!$B268)","v":""},{"$f":"IF(Emission_Limits_Details!$C268=\"\",\"\",Emission_Limits_Details!$C268)","v":""},null,"",{"$f":"IF(COUNTIF(U$2:U246,U246)=1,U246,\"\")","v":""},"","","",null,{"$f":"+IF(AH246=\"\",\"\",MAX(AC$1:AC245)+1)","v":""},{"$f":"IF(CMS_Detail!$B268=\"\",\"\",CMS_Detail!$B268)","v":""},{"$f":"IF(CMS_Detail!$C268=\"\",\"\",CMS_Detail!$C268)","v":""},null,"",{"$f":"IF(COUNTIF(AE$2:AE246,AE246)=1,AE246,\"\")","v":""},"","",""]
[null,null,null,null,null,null,null,null,null,null,null,null,null,null,null,null,null,null,{"$f":"+IF(X247=\"\",\"\",MAX(S$1:S246)+1)","v":""},{"$f":"IF(Emission_Limits_Details!$B269=\"\",\"\",Emission_Limits_Details!$B269)","v":""},{"$f":"IF(Emission_Limits_Details!$C269=\"\",\"\",Emission_Limits_Details!$C269)","v":""},null,"",{"$f":"IF(COUNTIF(U$2:U247,U247)=1,U247,\"\")","v":""},"","","",null,{"$f":"+IF(AH247=\"\",\"\",MAX(AC$1:AC246)+1)","v":""},{"$f":"IF(CMS_Detail!$B269=\"\",\"\",CMS_Detail!$B269)","v":""},{"$f":"IF(CMS_Detail!$C269=\"\",\"\",CMS_Detail!$C269)","v":""},null,"",{"$f":"IF(COUNTIF(AE$2:AE247,AE247)=1,AE247,\"\")","v":""},"","",""]
[null,null,null,null,null,null,null,null,null,null,null,null,null,null,null,null,null,null,{"$f":"+IF(X248=\"\",\"\",MAX(S$1:S247)+1)","v":""},{"$f":"IF(Emission_Limits_Details!$B270=\"\",\"\",Emission_Limits_Details!$B270)","v":""},{"$f":"IF(Emission_Limits_Details!$C270=\"\",\"\",Emission_Limits_Details!$C270)","v":""},null,"",{"$f":"IF(COUNTIF(U$2:U248,U248)=1,U248,\"\")","v":""},"","","",null,{"$f":"+IF(AH248=\"\",\"\",MAX(AC$1:AC247)+1)","v":""},{"$f":"IF(CMS_Detail!$B270=\"\",\"\",CMS_Detail!$B270)","v":""},{"$f":"IF(CMS_Detail!$C270=\"\",\"\",CMS_Detail!$C270)","v":""},null,"",{"$f":"IF(COUNTIF(AE$2:AE248,AE248)=1,AE248,\"\")","v":""},"","",""]
[null,null,null,null,null,null,null,null,null,null,null,null,null,null,null,null,null,null,{"$f":"+IF(X249=\"\",\"\",MAX(S$1:S248)+1)","v":""},{"$f":"IF(Emission_Limits_Details!$B271=\"\",\"\",Emission_Limits_Details!$B271)","v":""},{"$f":"IF(Emission_Limits_Details!$C271=\"\",\"\",Emission_Limits_Details!$C271)","v":""},null,"",{"$f":"IF(COUNTIF(U$2:U249,U249)=1,U249,\"\")","v":""},"","","",null,{"$f":"+IF(AH249=\"\",\"\",MAX(AC$1:AC248)+1)","v":""},{"$f":"IF(CMS_Detail!$B271=\"\",\"\",CMS_Detail!$B271)","v":""},{"$f":"IF(CMS_Detail!$C271=\"\",\"\",CMS_Detail!$C271)","v":""},null,"",{"$f":"IF(COUNTIF(AE$2:AE249,AE249)=1,AE249,\"\")","v":""},"","",""]
[null,null,null,null,null,null,null,null,null,null,null,null,null,null,null,null,null,null,{"$f":"+IF(X250=\"\",\"\",MAX(S$1:S249)+1)","v":""},{"$f":"IF(Emission_Limits_Details!$B272=\"\",\"\",Emission_Limits_Details!$B272)","v":""},{"$f":"IF(Emission_Limits_Details!$C272=\"\",\"\",Emission_Limits_Details!$C272)","v":""},null,"",{"$f":"IF(COUNTIF(U$2:U250,U250)=1,U250,\"\")","v":""},"","","",null,{"$f":"+IF(AH250=\"\",\"\",MAX(AC$1:AC249)+1)","v":""},{"$f":"IF(CMS_Detail!$B272=\"\",\"\",CMS_Detail!$B272)","v":""},{"$f":"IF(CMS_Detail!$C272=\"\",\"\",CMS_Detail!$C272)","v":""},null,"",{"$f":"IF(COUNTIF(AE$2:AE250,AE250)=1,AE250,\"\")","v":""},"","",""]
[null,null,null,null,null,null,null,null,null,null,null,null,null,null,null,null,null,null,{"$f":"+IF(X251=\"\",\"\",MAX(S$1:S250)+1)","v":""},{"$f":"IF(Emission_Limits_Details!$B273=\"\",\"\",Emission_Limits_Details!$B273)","v":""},{"$f":"IF(Emission_Limits_Details!$C273=\"\",\"\",Emission_Limits_Details!$C273)","v":""},null,"",{"$f":"IF(COUNTIF(U$2:U251,U251)=1,U251,\"\")","v":""},"","","",null,{"$f":"+IF(AH251=\"\",\"\",MAX(AC$1:AC250)+1)","v":""},{"$f":"IF(CMS_Detail!$B273=\"\",\"\",CMS_Detail!$B273)","v":""},{"$f":"IF(CMS_Detail!$C273=\"\",\"\",CMS_Detail!$C273)","v":""},null,"",{"$f":"IF(COUNTIF(AE$2:AE251,AE251)=1,AE251,\"\")","v":""},"","",""]
[null,null,null,null,null,null,null,null,null,null,null,null,null,null,null,null,null,null,{"$f":"+IF(X252=\"\",\"\",MAX(S$1:S251)+1)","v":""},{"$f":"IF(Emission_Limits_Details!$B274=\"\",\"\",Emission_Limits_Details!$B274)","v":""},{"$f":"IF(Emission_Limits_Details!$C274=\"\",\"\",Emission_Limits_Details!$C274)","v":""},null,"",{"$f":"IF(COUNTIF(U$2:U252,U252)=1,U252,\"\")","v":""},"","","",null,{"$f":"+IF(AH252=\"\",\"\",MAX(AC$1:AC251)+1)","v":""},{"$f":"IF(CMS_Detail!$B274=\"\",\"\",CMS_Detail!$B274)","v":""},{"$f":"IF(CMS_Detail!$C274=\"\",\"\",CMS_Detail!$C274)","v":""},null,"",{"$f":"IF(COUNTIF(AE$2:AE252,AE252)=1,AE252,\"\")","v":""},"","",""]
[null,null,null,null,null,null,null,null,null,null,null,null,null,null,null,null,null,null,{"$f":"+IF(X253=\"\",\"\",MAX(S$1:S252)+1)","v":""},{"$f":"IF(Emission_Limits_Details!$B275=\"\",\"\",Emission_Limits_Details!$B275)","v":""},{"$f":"IF(Emission_Limits_Details!$C275=\"\",\"\",Emission_Limits_Details!$C275)","v":""},null,"",{"$f":"IF(COUNTIF(U$2:U253,U253)=1,U253,\"\")","v":""},"","","",null,{"$f":"+IF(AH253=\"\",\"\",MAX(AC$1:AC252)+1)","v":""},{"$f":"IF(CMS_Detail!$B275=\"\",\"\",CMS_Detail!$B275)","v":""},{"$f":"IF(CMS_Detail!$C275=\"\",\"\",CMS_Detail!$C275)","v":""},null,"",{"$f":"IF(COUNTIF(AE$2:AE253,AE253)=1,AE253,\"\")","v":""},"","",""]
[null,null,null,null,null,null,null,null,null,null,null,null,null,null,null,null,null,null,{"$f":"+IF(X254=\"\",\"\",MAX(S$1:S253)+1)","v":""},{"$f":"IF(Emission_Limits_Details!$B276=\"\",\"\",Emission_Limits_Details!$B276)","v":""},{"$f":"IF(Emission_Limits_Details!$C276=\"\",\"\",Emission_Limits_Details!$C276)","v":""},null,"",{"$f":"IF(COUNTIF(U$2:U254,U254)=1,U254,\"\")","v":""},"","","",null,{"$f":"+IF(AH254=\"\",\"\",MAX(AC$1:AC253)+1)","v":""},{"$f":"IF(CMS_Detail!$B276=\"\",\"\",CMS_Detail!$B276)","v":""},{"$f":"IF(CMS_Detail!$C276=\"\",\"\",CMS_Detail!$C276)","v":""},null,"",{"$f":"IF(COUNTIF(AE$2:AE254,AE254)=1,AE254,\"\")","v":""},"","",""]
[null,null,null,null,null,null,null,null,null,null,null,null,null,null,null,null,null,null,{"$f":"+IF(X255=\"\",\"\",MAX(S$1:S254)+1)","v":""},{"$f":"IF(Emission_Limits_Details!$B277=\"\",\"\",Emission_Limits_Details!$B277)","v":""},{"$f":"IF(Emission_Limits_Details!$C277=\"\",\"\",Emission_Limits_Details!$C277)","v":""},null,"",{"$f":"IF(COUNTIF(U$2:U255,U255)=1,U255,\"\")","v":""},"","","",null,{"$f":"+IF(AH255=\"\",\"\",MAX(AC$1:AC254)+1)","v":""},{"$f":"IF(CMS_Detail!$B277=\"\",\"\",CMS_Detail!$B277)","v":""},{"$f":"IF(CMS_Detail!$C277=\"\",\"\",CMS_Detail!$C277)","v":""},null,"",{"$f":"IF(COUNTIF(AE$2:AE255,AE255)=1,AE255,\"\")","v":""},"","",""]
[null,null,null,null,null,null,null,null,null,null,null,null,null,null,null,null,null,null,{"$f":"+IF(X256=\"\",\"\",MAX(S$1:S255)+1)","v":""},{"$f":"IF(Emission_Limits_Details!$B278=\"\",\"\",Emission_Limits_Details!$B278)","v":""},{"$f":"IF(Emission_Limits_Details!$C278=\"\",\"\",Emission_Limits_Details!$C278)","v":""},null,"",{"$f":"IF(COUNTIF(U$2:U256,U256)=1,U256,\"\")","v":""},"","","",null,{"$f":"+IF(AH256=\"\",\"\",MAX(AC$1:AC255)+1)","v":""},{"$f":"IF(CMS_Detail!$B278=\"\",\"\",CMS_Detail!$B278)","v":""},{"$f":"IF(CMS_Detail!$C278=\"\",\"\",CMS_Detail!$C278)","v":""},null,"",{"$f":"IF(COUNTIF(AE$2:AE256,AE256)=1,AE256,\"\")","v":""},"","",""]
[null,null,null,null,null,null,null,null,null,null,null,null,null,null,null,null,null,null,{"$f":"+IF(X257=\"\",\"\",MAX(S$1:S256)+1)","v":""},{"$f":"IF(Emission_Limits_Details!$B279=\"\",\"\",Emission_Limits_Details!$B279)","v":""},{"$f":"IF(Emission_Limits_Details!$C279=\"\",\"\",Emission_Limits_Details!$C279)","v":""},null,"",{"$f":"IF(COUNTIF(U$2:U257,U257)=1,U257,\"\")","v":""},"","","",null,{"$f":"+IF(AH257=\"\",\"\",MAX(AC$1:AC256)+1)","v":""},{"$f":"IF(CMS_Detail!$B279=\"\",\"\",CMS_Detail!$B279)","v":""},{"$f":"IF(CMS_Detail!$C279=\"\",\"\",CMS_Detail!$C279)","v":""},null,"",{"$f":"IF(COUNTIF(AE$2:AE257,AE257)=1,AE257,\"\")","v":""},"","",""]
[null,null,null,null,null,null,null,null,null,null,null,null,null,null,null,null,null,null,{"$f":"+IF(X258=\"\",\"\",MAX(S$1:S257)+1)","v":""},{"$f":"IF(Emission_Limits_Details!$B280=\"\",\"\",Emission_Limits_Details!$B280)","v":""},{"$f":"IF(Emission_Limits_Details!$C280=\"\",\"\",Emission_Limits_Details!$C280)","v":""},null,"",{"$f":"IF(COUNTIF(U$2:U258,U258)=1,U258,\"\")","v":""},"","","",null,{"$f":"+IF(AH258=\"\",\"\",MAX(AC$1:AC257)+1)","v":""},{"$f":"IF(CMS_Detail!$B280=\"\",\"\",CMS_Detail!$B280)","v":""},{"$f":"IF(CMS_Detail!$C280=\"\",\"\",CMS_Detail!$C280)","v":""},null,"",{"$f":"IF(COUNTIF(AE$2:AE258,AE258)=1,AE258,\"\")","v":""},"","",""]
[null,null,null,null,null,null,null,null,null,null,null,null,null,null,null,null,null,null,{"$f":"+IF(X259=\"\",\"\",MAX(S$1:S258)+1)","v":""},{"$f":"IF(Emission_Limits_Details!$B281=\"\",\"\",Emission_Limits_Details!$B281)","v":""},{"$f":"IF(Emission_Limits_Details!$C281=\"\",\"\",Emission_Limits_Details!$C281)","v":""},null,{"$f":"T259&U259&V259","v":""},{"$f":"IF(COUNTIF(U$2:U259,U259)=1,U259,\"\")","v":""},{"$f":"+IFERROR(INDEX(T$2:T$955,MATCH(ROW()-ROW(X$1),S$2:S$955,0)),\"\")","v":""},{"$f":"+IFERROR(INDEX(U$2:U$955,MATCH(ROW()-ROW(X$1),S$2:S$955,0)),\"\")","v":""},{"$f":"+IFERROR(INDEX(V$2:V$955,MATCH(ROW()-ROW(Y$1),S$2:S$955,0)),\"\")","v":""},null,{"$f":"+IF(AH259=\"\",\"\",MAX(AC$1:AC258)+1)","v":""},{"$f":"IF(CMS_Detail!$B281=\"\",\"\",CMS_Detail!$B281)","v":""},{"$f":"IF(CMS_Detail!$C281=\"\",\"\",CMS_Detail!$C281)","v":""},null,{"$f":"AD259&AE259&AF259","v":""},{"$f":"IF(COUNTIF(AE$2:AE259,AE259)=1,AE259,\"\")","v":""},{"$f":"+IFERROR(INDEX(AD$2:AD$955,MATCH(ROW()-ROW(AH$1),AC$2:AC$955,0)),\"\")","v":""},{"$f":"+IFERROR(INDEX(AE$2:AE$955,MATCH(ROW()-ROW(AH$1),AC$2:AC$955,0)),\"\")","v":""},{"$f":"+IFERROR(INDEX(AF$2:AF$955,MATCH(ROW()-ROW(AI$1),AC$2:AC$955,0)),\"\")","v":""}]
[null,null,null,null,null,null,null,null,null,null,null,null,null,null,null,null,null,null,{"$f":"+IF(X260=\"\",\"\",MAX(S$1:S259)+1)","v":""},{"$f":"IF(Emission_Limits_Details!$B282=\"\",\"\",Emission_Limits_Details!$B282)","v":""},{"$f":"IF(Emission_Limits_Details!$C282=\"\",\"\",Emission_Limits_Details!$C282)","v":""},null,"",{"$f":"IF(COUNTIF(U$2:U260,U260)=1,U260,\"\")","v":""},"","","",null,{"$f":"+IF(AH260=\"\",\"\",MAX(AC$1:AC259)+1)","v":""},{"$f":"IF(CMS_Detail!$B282=\"\",\"\",CMS_Detail!$B282)","v":""},{"$f":"IF(CMS_Detail!$C282=\"\",\"\",CMS_Detail!$C282)","v":""},null,"",{"$f":"IF(COUNTIF(AE$2:AE260,AE260)=1,AE260,\"\")","v":""},"","",""]
[null,null,null,null,null,null,null,null,null,null,null,null,null,null,null,null,null,null,{"$f":"+IF(X261=\"\",\"\",MAX(S$1:S260)+1)","v":""},{"$f":"IF(Emission_Limits_Details!$B283=\"\",\"\",Emission_Limits_Details!$B283)","v":""},{"$f":"IF(Emission_Limits_Details!$C283=\"\",\"\",Emission_Limits_Details!$C283)","v":""},null,"",{"$f":"IF(COUNTIF(U$2:U261,U261)=1,U261,\"\")","v":""},"","","",null,{"$f":"+IF(AH261=\"\",\"\",MAX(AC$1:AC260)+1)","v":""},{"$f":"IF(CMS_Detail!$B283=\"\",\"\",CMS_Detail!$B283)","v":""},{"$f":"IF(CMS_Detail!$C283=\"\",\"\",CMS_Detail!$C283)","v":""},null,"",{"$f":"IF(COUNTIF(AE$2:AE261,AE261)=1,AE261,\"\")","v":""},"","",""]
[null,null,null,null,null,null,null,null,null,null,null,null,null,null,null,null,null,null,{"$f":"+IF(X262=\"\",\"\",MAX(S$1:S261)+1)","v":""},{"$f":"IF(Emission_Limits_Details!$B284=\"\",\"\",Emission_Limits_Details!$B284)","v":""},{"$f":"IF(Emission_Limits_Details!$C284=\"\",\"\",Emission_Limits_Details!$C284)","v":""},null,"",{"$f":"IF(COUNTIF(U$2:U262,U262)=1,U262,\"\")","v":""},"","","",null,{"$f":"+IF(AH262=\"\",\"\",MAX(AC$1:AC261)+1)","v":""},{"$f":"IF(CMS_Detail!$B284=\"\",\"\",CMS_Detail!$B284)","v":""},{"$f":"IF(CMS_Detail!$C284=\"\",\"\",CMS_Detail!$C284)","v":""},null,"",{"$f":"IF(COUNTIF(AE$2:AE262,AE262)=1,AE262,\"\")","v":""},"","",""]
[null,null,null,null,null,null,null,null,null,null,null,null,null,null,null,null,null,null,{"$f":"+IF(X263=\"\",\"\",MAX(S$1:S262)+1)","v":""},{"$f":"IF(Emission_Limits_Details!$B285=\"\",\"\",Emission_Limits_Details!$B285)","v":""},{"$f":"IF(Emission_Limits_Details!$C285=\"\",\"\",Emission_Limits_Details!$C285)","v":""},null,"",{"$f":"IF(COUNTIF(U$2:U263,U263)=1,U263,\"\")","v":""},"","","",null,{"$f":"+IF(AH263=\"\",\"\",MAX(AC$1:AC262)+1)","v":""},{"$f":"IF(CMS_Detail!$B285=\"\",\"\",CMS_Detail!$B285)","v":""},{"$f":"IF(CMS_Detail!$C285=\"\",\"\",CMS_Detail!$C285)","v":""},null,"",{"$f":"IF(COUNTIF(AE$2:AE263,AE263)=1,AE263,\"\")","v":""},"","",""]
[null,null,null,null,null,null,null,null,null,null,null,null,null,null,null,null,null,null,{"$f":"+IF(X264=\"\",\"\",MAX(S$1:S263)+1)","v":""},{"$f":"IF(Emission_Limits_Details!$B286=\"\",\"\",Emission_Limits_Details!$B286)","v":""},{"$f":"IF(Emission_Limits_Details!$C286=\"\",\"\",Emission_Limits_Details!$C286)","v":""},null,"",{"$f":"IF(COUNTIF(U$2:U264,U264)=1,U264,\"\")","v":""},"","","",null,{"$f":"+IF(AH264=\"\",\"\",MAX(AC$1:AC263)+1)","v":""},{"$f":"IF(CMS_Detail!$B286=\"\",\"\",CMS_Detail!$B286)","v":""},{"$f":"IF(CMS_Detail!$C286=\"\",\"\",CMS_Detail!$C286)","v":""},null,"",{"$f":"IF(COUNTIF(AE$2:AE264,AE264)=1,AE264,\"\")","v":""},"","",""]
[null,null,null,null,null,null,null,null,null,null,null,null,null,null,null,null,null,null,{"$f":"+IF(X265=\"\",\"\",MAX(S$1:S264)+1)","v":""},{"$f":"IF(Emission_Limits_Details!$B287=\"\",\"\",Emission_Limits_Details!$B287)","v":""},{"$f":"IF(Emission_Limits_Details!$C287=\"\",\"\",Emission_Limits_Details!$C287)","v":""},null,"",{"$f":"IF(COUNTIF(U$2:U265,U265)=1,U265,\"\")","v":""},"","","",null,{"$f":"+IF(AH265=\"\",\"\",MAX(AC$1:AC264)+1)","v":""},{"$f":"IF(CMS_Detail!$B287=\"\",\"\",CMS_Detail!$B287)","v":""},{"$f":"IF(CMS_Detail!$C287=\"\",\"\",CMS_Detail!$C287)","v":""},null,"",{"$f":"IF(COUNTIF(AE$2:AE265,AE265)=1,AE265,\"\")","v":""},"","",""]
[null,null,null,null,null,null,null,null,null,null,null,null,null,null,null,null,null,null,{"$f":"+IF(X266=\"\",\"\",MAX(S$1:S265)+1)","v":""},{"$f":"IF(Emission_Limits_Details!$B288=\"\",\"\",Emission_Limits_Details!$B288)","v":""},{"$f":"IF(Emission_Limits_Details!$C288=\"\",\"\",Emission_Limits_Details!$C288)","v":""},null,"",{"$f":"IF(COUNTIF(U$2:U266,U266)=1,U266,\"\")","v":""},"","","",null,{"$f":"+IF(AH266=\"\",\"\",MAX(AC$1:AC265)+1)","v":""},{"$f":"IF(CMS_Detail!$B288=\"\",\"\",CMS_Detail!$B288)","v":""},{"$f":"IF(CMS_Detail!$C288=\"\",\"\",CMS_Detail!$C288)","v":""},null,"",{"$f":"IF(COUNTIF(AE$2:AE266,AE266)=1,AE266,\"\")","v":""},"","",""]
[null,null,null,null,null,null,null,null,null,null,null,null,null,null,null,null,null,null,{"$f":"+IF(X267=\"\",\"\",MAX(S$1:S266)+1)","v":""},{"$f":"IF(Emission_Limits_Details!$B289=\"\",\"\",Emission_Limits_Details!$B289)","v":""},{"$f":"IF(Emission_Limits_Details!$C289=\"\",\"\",Emission_Limits_Details!$C289)","v":""},null,"",{"$f":"IF(COUNTIF(U$2:U267,U267)=1,U267,\"\")","v":""},"","","",null,{"$f":"+IF(AH267=\"\",\"\",MAX(AC$1:AC266)+1)","v":""},{"$f":"IF(CMS_Detail!$B289=\"\",\"\",CMS_Detail!$B289)","v":""},{"$f":"IF(CMS_Detail!$C289=\"\",\"\",CMS_Detail!$C289)","v":""},null,"",{"$f":"IF(COUNTIF(AE$2:AE267,AE267)=1,AE267,\"\")","v":""},"","",""]
[null,null,null,null,null,null,null,null,null,null,null,null,null,null,null,null,null,null,{"$f":"+IF(X268=\"\",\"\",MAX(S$1:S267)+1)","v":""},{"$f":"IF(Emission_Limits_Details!$B290=\"\",\"\",Emission_Limits_Details!$B290)","v":""},{"$f":"IF(Emission_Limits_Details!$C290=\"\",\"\",Emission_Limits_Details!$C290)","v":""},null,"",{"$f":"IF(COUNTIF(U$2:U268,U268)=1,U268,\"\")","v":""},"","","",null,{"$f":"+IF(AH268=\"\",\"\",MAX(AC$1:AC267)+1)","v":""},{"$f":"IF(CMS_Detail!$B290=\"\",\"\",CMS_Detail!$B290)","v":""},{"$f":"IF(CMS_Detail!$C290=\"\",\"\",CMS_Detail!$C290)","v":""},null,"",{"$f":"IF(COUNTIF(AE$2:AE268,AE268)=1,AE268,\"\")","v":""},"","",""]
[null,null,null,null,null,null,null,null,null,null,null,null,null,null,null,null,null,null,{"$f":"+IF(X269=\"\",\"\",MAX(S$1:S268)+1)","v":""},{"$f":"IF(Emission_Limits_Details!$B291=\"\",\"\",Emission_Limits_Details!$B291)","v":""},{"$f":"IF(Emission_Limits_Details!$C291=\"\",\"\",Emission_Limits_Details!$C291)","v":""},null,"",{"$f":"IF(COUNTIF(U$2:U269,U269)=1,U269,\"\")","v":""},"","","",null,{"$f":"+IF(AH269=\"\",\"\",MAX(AC$1:AC268)+1)","v":""},{"$f":"IF(CMS_Detail!$B291=\"\",\"\",CMS_Detail!$B291)","v":""},{"$f":"IF(CMS_Detail!$C291=\"\",\"\",CMS_Detail!$C291)","v":""},null,"",{"$f":"IF(COUNTIF(AE$2:AE269,AE269)=1,AE269,\"\")","v":""},"","",""]
[null,null,null,null,null,null,null,null,null,null,null,null,null,null,null,null,null,null,{"$f":"+IF(X270=\"\",\"\",MAX(S$1:S269)+1)","v":""},{"$f":"IF(Emission_Limits_Details!$B292=\"\",\"\",Emission_Limits_Details!$B292)","v":""},{"$f":"IF(Emission_Limits_Details!$C292=\"\",\"\",Emission_Limits_Details!$C292)","v":""},null,"",{"$f":"IF(COUNTIF(U$2:U270,U270)=1,U270,\"\")","v":""},"","","",null,{"$f":"+IF(AH270=\"\",\"\",MAX(AC$1:AC269)+1)","v":""},{"$f":"IF(CMS_Detail!$B292=\"\",\"\",CMS_Detail!$B292)","v":""},{"$f":"IF(CMS_Detail!$C292=\"\",\"\",CMS_Detail!$C292)","v":""},null,"",{"$f":"IF(COUNTIF(AE$2:AE270,AE270)=1,AE270,\"\")","v":""},"","",""]
[null,null,null,null,null,null,null,null,null,null,null,null,null,null,null,null,null,null,{"$f":"+IF(X271=\"\",\"\",MAX(S$1:S270)+1)","v":""},{"$f":"IF(Emission_Limits_Details!$B293=\"\",\"\",Emission_Limits_Details!$B293)","v":""},{"$f":"IF(Emission_Limits_Details!$C293=\"\",\"\",Emission_Limits_Details!$C293)","v":""},null,"",{"$f":"IF(COUNTIF(U$2:U271,U271)=1,U271,\"\")","v":""},"","","",null,{"$f":"+IF(AH271=\"\",\"\",MAX(AC$1:AC270)+1)","v":""},{"$f":"IF(CMS_Detail!$B293=\"\",\"\",CMS_Detail!$B293)","v":""},{"$f":"IF(CMS_Detail!$C293=\"\",\"\",CMS_Detail!$C293)","v":""},null,"",{"$f":"IF(COUNTIF(AE$2:AE271,AE271)=1,AE271,\"\")","v":""},"","",""]
[null,null,null,null,null,null,null,null,null,null,null,null,null,null,null,null,null,null,{"$f":"+IF(X272=\"\",\"\",MAX(S$1:S271)+1)","v":""},{"$f":"IF(Emission_Limits_Details!$B294=\"\",\"\",Emission_Limits_Details!$B294)","v":""},{"$f":"IF(Emission_Limits_Details!$C294=\"\",\"\",Emission_Limits_Details!$C294)","v":""},null,"",{"$f":"IF(COUNTIF(U$2:U272,U272)=1,U272,\"\")","v":""},"","","",null,{"$f":"+IF(AH272=\"\",\"\",MAX(AC$1:AC271)+1)","v":""},{"$f":"IF(CMS_Detail!$B294=\"\",\"\",CMS_Detail!$B294)","v":""},{"$f":"IF(CMS_Detail!$C294=\"\",\"\",CMS_Detail!$C294)","v":""},null,"",{"$f":"IF(COUNTIF(AE$2:AE272,AE272)=1,AE272,\"\")","v":""},"","",""]
[null,null,null,null,null,null,null,null,null,null,null,null,null,null,null,null,null,null,{"$f":"+IF(X273=\"\",\"\",MAX(S$1:S272)+1)","v":""},{"$f":"IF(Emission_Limits_Details!$B295=\"\",\"\",Emission_Limits_Details!$B295)","v":""},{"$f":"IF(Emission_Limits_Details!$C295=\"\",\"\",Emission_Limits_Details!$C295)","v":""},null,"",{"$f":"IF(COUNTIF(U$2:U273,U273)=1,U273,\"\")","v":""},"","","",null,{"$f":"+IF(AH273=\"\",\"\",MAX(AC$1:AC272)+1)","v":""},{"$f":"IF(CMS_Detail!$B295=\"\",\"\",CMS_Detail!$B295)","v":""},{"$f":"IF(CMS_Detail!$C295=\"\",\"\",CMS_Detail!$C295)","v":""},null,"",{"$f":"IF(COUNTIF(AE$2:AE273,AE273)=1,AE273,\"\")","v":""},"","",""]
[null,null,null,null,null,null,null,null,null,null,null,null,null,null,null,null,null,null,{"$f":"+IF(X274=\"\",\"\",MAX(S$1:S273)+1)","v":""},{"$f":"IF(Emission_Limits_Details!$B296=\"\",\"\",Emission_Limits_Details!$B296)","v":""},{"$f":"IF(Emission_Limits_Details!$C296=\"\",\"\",Emission_Limits_Details!$C296)","v":""},null,"",{"$f":"IF(COUNTIF(U$2:U274,U274)=1,U274,\"\")","v":""},"","","",null,{"$f":"+IF(AH274=\"\",\"\",MAX(AC$1:AC273)+1)","v":""},{"$f":"IF(CMS_Detail!$B296=\"\",\"\",CMS_Detail!$B296)","v":""},{"$f":"IF(CMS_Detail!$C296=\"\",\"\",CMS_Detail!$C296)","v":""},null,"",{"$f":"IF(COUNTIF(AE$2:AE274,AE274)=1,AE274,\"\")","v":""},"","",""]
[null,null,null,null,null,null,null,null,null,null,null,null,null,null,null,null,null,null,{"$f":"+IF(X275=\"\",\"\",MAX(S$1:S274)+1)","v":""},{"$f":"IF(Emission_Limits_Details!$B297=\"\",\"\",Emission_Limits_Details!$B297)","v":""},{"$f":"IF(Emission_Limits_Details!$C297=\"\",\"\",Emission_Limits_Details!$C297)","v":""},null,"",{"$f":"IF(COUNTIF(U$2:U275,U275)=1,U275,\"\")","v":""},"","","",null,{"$f":"+IF(AH275=\"\",\"\",MAX(AC$1:AC274)+1)","v":""},{"$f":"IF(CMS_Detail!$B297=\"\",\"\",CMS_Detail!$B297)","v":""},{"$f":"IF(CMS_Detail!$C297=\"\",\"\",CMS_Detail!$C297)","v":""},null,"",{"$f":"IF(COUNTIF(AE$2:AE275,AE275)=1,AE275,\"\")","v":""},"","",""]
[null,null,null,null,null,null,null,null,null,null,null,null,null,null,null,null,null,null,{"$f":"+IF(X276=\"\",\"\",MAX(S$1:S275)+1)","v":""},{"$f":"IF(Emission_Limits_Details!$B298=\"\",\"\",Emission_Limits_Details!$B298)","v":""},{"$f":"IF(Emission_Limits_Details!$C298=\"\",\"\",Emission_Limits_Details!$C298)","v":""},null,"",{"$f":"IF(COUNTIF(U$2:U276,U276)=1,U276,\"\")","v":""},"","","",null,{"$f":"+IF(AH276=\"\",\"\",MAX(AC$1:AC275)+1)","v":""},{"$f":"IF(CMS_Detail!$B298=\"\",\"\",CMS_Detail!$B298)","v":""},{"$f":"IF(CMS_Detail!$C298=\"\",\"\",CMS_Detail!$C298)","v":""},null,"",{"$f":"IF(COUNTIF(AE$2:AE276,AE276)=1,AE276,\"\")","v":""},"","",""]
[null,null,null,null,null,null,null,null,null,null,null,null,null,null,null,null,null,null,{"$f":"+IF(X277=\"\",\"\",MAX(S$1:S276)+1)","v":""},{"$f":"IF(Emission_Limits_Details!$B299=\"\",\"\",Emission_Limits_Details!$B299)","v":""},{"$f":"IF(Emission_Limits_Details!$C299=\"\",\"\",Emission_Limits_Details!$C299)","v":""},null,"",{"$f":"IF(COUNTIF(U$2:U277,U277)=1,U277,\"\")","v":""},"","","",null,{"$f":"+IF(AH277=\"\",\"\",MAX(AC$1:AC276)+1)","v":""},{"$f":"IF(CMS_Detail!$B299=\"\",\"\",CMS_Detail!$B299)","v":""},{"$f":"IF(CMS_Detail!$C299=\"\",\"\",CMS_Detail!$C299)","v":""},null,"",{"$f":"IF(COUNTIF(AE$2:AE277,AE277)=1,AE277,\"\")","v":""},"","",""]
[null,null,null,null,null,null,null,null,null,null,null,null,null,null,null,null,null,null,{"$f":"+IF(X278=\"\",\"\",MAX(S$1:S277)+1)","v":""},{"$f":"IF(Emission_Limits_Details!$B300=\"\",\"\",Emission_Limits_Details!$B300)","v":""},{"$f":"IF(Emission_Limits_Details!$C300=\"\",\"\",Emission_Limits_Details!$C300)","v":""},null,"",{"$f":"IF(COUNTIF(U$2:U278,U278)=1,U278,\"\")","v":""},"","","",null,{"$f":"+IF(AH278=\"\",\"\",MAX(AC$1:AC277)+1)","v":""},{"$f":"IF(CMS_Detail!$B300=\"\",\"\",CMS_Detail!$B300)","v":""},{"$f":"IF(CMS_Detail!$C300=\"\",\"\",CMS_Detail!$C300)","v":""},null,"",{"$f":"IF(COUNTIF(AE$2:AE278,AE278)=1,AE278,\"\")","v":""},"","",""]
[null,null,null,null,null,null,null,null,null,null,null,null,null,null,null,null,null,null,{"$f":"+IF(X279=\"\",\"\",MAX(S$1:S278)+1)","v":""},{"$f":"IF(Emission_Limits_Details!$B301=\"\",\"\",Emission_Limits_Details!$B301)","v":""},{"$f":"IF(Emission_Limits_Details!$C301=\"\",\"\",Emission_Limits_Details!$C301)","v":""},null,"",{"$f":"IF(COUNTIF(U$2:U279,U279)=1,U279,\"\")","v":""},"","","",null,{"$f":"+IF(AH279=\"\",\"\",MAX(AC$1:AC278)+1)","v":""},{"$f":"IF(CMS_Detail!$B301=\"\",\"\",CMS_Detail!$B301)","v":""},{"$f":"IF(CMS_Detail!$C301=\"\",\"\",CMS_Detail!$C301)","v":""},null,"",{"$f":"IF(COUNTIF(AE$2:AE279,AE279)=1,AE279,\"\")","v":""},"","",""]
[null,null,null,null,null,null,null,null,null,null,null,null,null,null,null,null,null,null,{"$f":"+IF(X280=\"\",\"\",MAX(S$1:S279)+1)","v":""},{"$f":"IF(Emission_Limits_Details!$B302=\"\",\"\",Emission_Limits_Details!$B302)","v":""},{"$f":"IF(Emission_Limits_Details!$C302=\"\",\"\",Emission_Limits_Details!$C302)","v":""},null,"",{"$f":"IF(COUNTIF(U$2:U280,U280)=1,U280,\"\")","v":""},"","","",null,{"$f":"+IF(AH280=\"\",\"\",MAX(AC$1:AC279)+1)","v":""},{"$f":"IF(CMS_Detail!$B302=\"\",\"\",CMS_Detail!$B302)","v":""},{"$f":"IF(CMS_Detail!$C302=\"\",\"\",CMS_Detail!$C302)","v":""},null,"",{"$f":"IF(COUNTIF(AE$2:AE280,AE280)=1,AE280,\"\")","v":""},"","",""]
[null,null,null,null,null,null,null,null,null,null,null,null,null,null,null,null,null,null,{"$f":"+IF(X281=\"\",\"\",MAX(S$1:S280)+1)","v":""},{"$f":"IF(Emission_Limits_Details!$B303=\"\",\"\",Emission_Limits_Details!$B303)","v":""},{"$f":"IF(Emission_Limits_Details!$C303=\"\",\"\",Emission_Limits_Details!$C303)","v":""},null,"",{"$f":"IF(COUNTIF(U$2:U281,U281)=1,U281,\"\")","v":""},"","","",null,{"$f":"+IF(AH281=\"\",\"\",MAX(AC$1:AC280)+1)","v":""},{"$f":"IF(CMS_Detail!$B303=\"\",\"\",CMS_Detail!$B303)","v":""},{"$f":"IF(CMS_Detail!$C303=\"\",\"\",CMS_Detail!$C303)","v":""},null,"",{"$f":"IF(COUNTIF(AE$2:AE281,AE281)=1,AE281,\"\")","v":""},"","",""]
[null,null,null,null,null,null,null,null,null,null,null,null,null,null,null,null,null,null,{"$f":"+IF(X282=\"\",\"\",MAX(S$1:S281)+1)","v":""},{"$f":"IF(Emission_Limits_Details!$B304=\"\",\"\",Emission_Limits_Details!$B304)","v":""},{"$f":"IF(Emission_Limits_Details!$C304=\"\",\"\",Emission_Limits_Details!$C304)","v":""},null,"",{"$f":"IF(COUNTIF(U$2:U282,U282)=1,U282,\"\")","v":""},"","","",null,{"$f":"+IF(AH282=\"\",\"\",MAX(AC$1:AC281)+1)","v":""},{"$f":"IF(CMS_Detail!$B304=\"\",\"\",CMS_Detail!$B304)","v":""},{"$f":"IF(CMS_Detail!$C304=\"\",\"\",CMS_Detail!$C304)","v":""},null,"",{"$f":"IF(COUNTIF(AE$2:AE282,AE282)=1,AE282,\"\")","v":""},"","",""]
[null,null,null,null,null,null,null,null,null,null,null,null,null,null,null,null,null,null,{"$f":"+IF(X283=\"\",\"\",MAX(S$1:S282)+1)","v":""},{"$f":"IF(Emission_Limits_Details!$B305=\"\",\"\",Emission_Limits_Details!$B305)","v":""},{"$f":"IF(Emission_Limits_Details!$C305=\"\",\"\",Emission_Limits_Details!$C305)","v":""},null,"",{"$f":"IF(COUNTIF(U$2:U283,U283)=1,U283,\"\")","v":""},"","","",null,{"$f":"+IF(AH283=\"\",\"\",MAX(AC$1:AC282)+1)","v":""},{"$f":"IF(CMS_Detail!$B305=\"\",\"\",CMS_Detail!$B305)","v":""},{"$f":"IF(CMS_Detail!$C305=\"\",\"\",CMS_Detail!$C305)","v":""},null,"",{"$f":"IF(COUNTIF(AE$2:AE283,AE283)=1,AE283,\"\")","v":""},"","",""]
[null,null,null,null,null,null,null,null,null,null,null,null,null,null,null,null,null,null,{"$f":"+IF(X284=\"\",\"\",MAX(S$1:S283)+1)","v":""},{"$f":"IF(Emission_Limits_Details!$B306=\"\",\"\",Emission_Limits_Details!$B306)","v":""},{"$f":"IF(Emission_Limits_Details!$C306=\"\",\"\",Emission_Limits_Details!$C306)","v":""},null,"",{"$f":"IF(COUNTIF(U$2:U284,U284)=1,U284,\"\")","v":""},"","","",null,{"$f":"+IF(AH284=\"\",\"\",MAX(AC$1:AC283)+1)","v":""},{"$f":"IF(CMS_Detail!$B306=\"\",\"\",CMS_Detail!$B306)","v":""},{"$f":"IF(CMS_Detail!$C306=\"\",\"\",CMS_Detail!$C306)","v":""},null,"",{"$f":"IF(COUNTIF(AE$2:AE284,AE284)=1,AE284,\"\")","v":""},"","",""]
[null,null,null,null,null,null,null,null,null,null,null,null,null,null,null,null,null,null,{"$f":"+IF(X285=\"\",\"\",MAX(S$1:S284)+1)","v":""},{"$f":"IF(Emission_Limits_Details!$B307=\"\",\"\",Emission_Limits_Details!$B307)","v":""},{"$f":"IF(Emission_Limits_Details!$C307=\"\",\"\",Emission_Limits_Details!$C307)","v":""},null,"",{"$f":"IF(COUNTIF(U$2:U285,U285)=1,U285,\"\")","v":""},"","","",null,{"$f":"+IF(AH285=\"\",\"\",MAX(AC$1:AC284)+1)","v":""},{"$f":"IF(CMS_Detail!$B307=\"\",\"\",CMS_Detail!$B307)","v":""},{"$f":"IF(CMS_Detail!$C307=\"\",\"\",CMS_Detail!$C307)","v":""},null,"",{"$f":"IF(COUNTIF(AE$2:AE285,AE285)=1,AE285,\"\")","v":""},"","",""]
[null,null,null,null,null,null,null,null,null,null,null,null,null,null,null,null,null,null,{"$f":"+IF(X286=\"\",\"\",MAX(S$1:S285)+1)","v":""},{"$f":"IF(Emission_Limits_Details!$B308=\"\",\"\",Emission_Limits_Details!$B308)","v":""},{"$f":"IF(Emission_Limits_Details!$C308=\"\",\"\",Emission_Limits_Details!$C308)","v":""},null,"",{"$f":"IF(COUNTIF(U$2:U286,U286)=1,U286,\"\")","v":""},"","","",null,{"$f":"+IF(AH286=\"\",\"\",MAX(AC$1:AC285)+1)","v":""},{"$f":"IF(CMS_Detail!$B308=\"\",\"\",CMS_Detail!$B308)","v":""},{"$f":"IF(CMS_Detail!$C308=\"\",\"\",CMS_Detail!$C308)","v":""},null,"",{"$f":"IF(COUNTIF(AE$2:AE286,AE286)=1,AE286,\"\")","v":""},"","",""]
[null,null,null,null,null,null,null,null,null,null,null,null,null,null,null,null,null,null,{"$f":"+IF(X287=\"\",\"\",MAX(S$1:S286)+1)","v":""},{"$f":"IF(Emission_Limits_Details!$B309=\"\",\"\",Emission_Limits_Details!$B309)","v":""},{"$f":"IF(Emission_Limits_Details!$C309=\"\",\"\",Emission_Limits_Details!$C309)","v":""},null,"",{"$f":"IF(COUNTIF(U$2:U287,U287)=1,U287,\"\")","v":""},"","","",null,{"$f":"+IF(AH287=\"\",\"\",MAX(AC$1:AC286)+1)","v":""},{"$f":"IF(CMS_Detail!$B309=\"\",\"\",CMS_Detail!$B309)","v":""},{"$f":"IF(CMS_Detail!$C309=\"\",\"\",CMS_Detail!$C309)","v":""},null,"",{"$f":"IF(COUNTIF(AE$2:AE287,AE287)=1,AE287,\"\")","v":""},"","",""]
[null,null,null,null,null,null,null,null,null,null,null,null,null,null,null,null,null,null,{"$f":"+IF(X288=\"\",\"\",MAX(S$1:S287)+1)","v":""},{"$f":"IF(Emission_Limits_Details!$B310=\"\",\"\",Emission_Limits_Details!$B310)","v":""},{"$f":"IF(Emission_Limits_Details!$C310=\"\",\"\",Emission_Limits_Details!$C310)","v":""},null,"",{"$f":"IF(COUNTIF(U$2:U288,U288)=1,U288,\"\")","v":""},"","","",null,{"$f":"+IF(AH288=\"\",\"\",MAX(AC$1:AC287)+1)","v":""},{"$f":"IF(CMS_Detail!$B310=\"\",\"\",CMS_Detail!$B310)","v":""},{"$f":"IF(CMS_Detail!$C310=\"\",\"\",CMS_Detail!$C310)","v":""},null,"",{"$f":"IF(COUNTIF(AE$2:AE288,AE288)=1,AE288,\"\")","v":""},"","",""]
[null,null,null,null,null,null,null,null,null,null,null,null,null,null,null,null,null,null,{"$f":"+IF(X289=\"\",\"\",MAX(S$1:S288)+1)","v":""},{"$f":"IF(Emission_Limits_Details!$B311=\"\",\"\",Emission_Limits_Details!$B311)","v":""},{"$f":"IF(Emission_Limits_Details!$C311=\"\",\"\",Emission_Limits_Details!$C311)","v":""},null,"",{"$f":"IF(COUNTIF(U$2:U289,U289)=1,U289,\"\")","v":""},"","","",null,{"$f":"+IF(AH289=\"\",\"\",MAX(AC$1:AC288)+1)","v":""},{"$f":"IF(CMS_Detail!$B311=\"\",\"\",CMS_Detail!$B311)","v":""},{"$f":"IF(CMS_Detail!$C311=\"\",\"\",CMS_Detail!$C311)","v":""},null,"",{"$f":"IF(COUNTIF(AE$2:AE289,AE289)=1,AE289,\"\")","v":""},"","",""]
[null,null,null,null,null,null,null,null,null,null,null,null,null,null,null,null,null,null,{"$f":"+IF(X290=\"\",\"\",MAX(S$1:S289)+1)","v":""},{"$f":"IF(Emission_Limits_Details!$B312=\"\",\"\",Emission_Limits_Details!$B312)","v":""},{"$f":"IF(Emission_Limits_Details!$C312=\"\",\"\",Emission_Limits_Details!$C312)","v":""},null,"",{"$f":"IF(COUNTIF(U$2:U290,U290)=1,U290,\"\")","v":""},"","","",null,{"$f":"+IF(AH290=\"\",\"\",MAX(AC$1:AC289)+1)","v":""},{"$f":"IF(CMS_Detail!$B312=\"\",\"\",CMS_Detail!$B312)","v":""},{"$f":"IF(CMS_Detail!$C312=\"\",\"\",CMS_Detail!$C312)","v":""},null,"",{"$f":"IF(COUNTIF(AE$2:AE290,AE290)=1,AE290,\"\")","v":""},"","",""]
[null,null,null,null,null,null,null,null,null,null,null,null,null,null,null,null,null,null,{"$f":"+IF(X291=\"\",\"\",MAX(S$1:S290)+1)","v":""},{"$f":"IF(Emission_Limits_Details!$B313=\"\",\"\",Emission_Limits_Details!$B313)","v":""},{"$f":"IF(Emission_Limits_Details!$C313=\"\",\"\",Emission_Limits_Details!$C313)","v":""},null,"",{"$f":"IF(COUNTIF(U$2:U291,U291)=1,U291,\"\")","v":""},"","","",null,{"$f":"+IF(AH291=\"\",\"\",MAX(AC$1:AC290)+1)","v":""},{"$f":"IF(CMS_Detail!$B313=\"\",\"\",CMS_Detail!$B313)","v":""},{"$f":"IF(CMS_Detail!$C313=\"\",\"\",CMS_Detail!$C313)","v":""},null,"",{"$f":"IF(COUNTIF(AE$2:AE291,AE291)=1,AE291,\"\")","v":""},"","",""]
[null,null,null,null,null,null,null,null,null,null,null,null,null,null,null,null,null,null,{"$f":"+IF(X292=\"\",\"\",MAX(S$1:S291)+1)","v":""},{"$f":"IF(Emission_Limits_Details!$B314=\"\",\"\",Emission_Limits_Details!$B314)","v":""},{"$f":"IF(Emission_Limits_Details!$C314=\"\",\"\",Emission_Limits_Details!$C314)","v":""},null,"",{"$f":"IF(COUNTIF(U$2:U292,U292)=1,U292,\"\")","v":""},"","","",null,{"$f":"+IF(AH292=\"\",\"\",MAX(AC$1:AC291)+1)","v":""},{"$f":"IF(CMS_Detail!$B314=\"\",\"\",CMS_Detail!$B314)","v":""},{"$f":"IF(CMS_Detail!$C314=\"\",\"\",CMS_Detail!$C314)","v":""},null,"",{"$f":"IF(COUNTIF(AE$2:AE292,AE292)=1,AE292,\"\")","v":""},"","",""]
[null,null,null,null,null,null,null,null,null,null,null,null,null,null,null,null,null,null,{"$f":"+IF(X293=\"\",\"\",MAX(S$1:S292)+1)","v":""},{"$f":"IF(Emission_Limits_Details!$B315=\"\",\"\",Emission_Limits_Details!$B315)","v":""},{"$f":"IF(Emission_Limits_Details!$C315=\"\",\"\",Emission_Limits_Details!$C315)","v":""},null,"",{"$f":"IF(COUNTIF(U$2:U293,U293)=1,U293,\"\")","v":""},"","","",null,{"$f":"+IF(AH293=\"\",\"\",MAX(AC$1:AC292)+1)","v":""},{"$f":"IF(CMS_Detail!$B315=\"\",\"\",CMS_Detail!$B315)","v":""},{"$f":"IF(CMS_Detail!$C315=\"\",\"\",CMS_Detail!$C315)","v":""},null,"",{"$f":"IF(COUNTIF(AE$2:AE293,AE293)=1,AE293,\"\")","v":""},"","",""]
[null,null,null,null,null,null,null,null,null,null,null,null,null,null,null,null,null,null,{"$f":"+IF(X294=\"\",\"\",MAX(S$1:S293)+1)","v":""},{"$f":"IF(Emission_Limits_Details!$B316=\"\",\"\",Emission_Limits_Details!$B316)","v":""},{"$f":"IF(Emission_Limits_Details!$C316=\"\",\"\",Emission_Limits_Details!$C316)","v":""},null,"",{"$f":"IF(COUNTIF(U$2:U294,U294)=1,U294,\"\")","v":""},"","","",null,{"$f":"+IF(AH294=\"\",\"\",MAX(AC$1:AC293)+1)","v":""},{"$f":"IF(CMS_Detail!$B316=\"\",\"\",CMS_Detail!$B316)","v":""},{"$f":"IF(CMS_Detail!$C316=\"\",\"\",CMS_Detail!$C316)","v":""},null,"",{"$f":"IF(COUNTIF(AE$2:AE294,AE294)=1,AE294,\"\")","v":""},"","",""]
[null,null,null,null,null,null,null,null,null,null,null,null,null,null,null,null,null,null,{"$f":"+IF(X295=\"\",\"\",MAX(S$1:S294)+1)","v":""},{"$f":"IF(Emission_Limits_Details!$B317=\"\",\"\",Emission_Limits_Details!$B317)","v":""},{"$f":"IF(Emission_Limits_Details!$C317=\"\",\"\",Emission_Limits_Details!$C317)","v":""},null,"",{"$f":"IF(COUNTIF(U$2:U295,U295)=1,U295,\"\")","v":""},"","","",null,{"$f":"+IF(AH295=\"\",\"\",MAX(AC$1:AC294)+1)","v":""},{"$f":"IF(CMS_Detail!$B317=\"\",\"\",CMS_Detail!$B317)","v":""},{"$f":"IF(CMS_Detail!$C317=\"\",\"\",CMS_Detail!$C317)","v":""},null,"",{"$f":"IF(COUNTIF(AE$2:AE295,AE295)=1,AE295,\"\")","v":""},"","",""]
[null,null,null,null,null,null,null,null,null,null,null,null,null,null,null,null,null,null,{"$f":"+IF(X296=\"\",\"\",MAX(S$1:S295)+1)","v":""},{"$f":"IF(Emission_Limits_Details!$B318=\"\",\"\",Emission_Limits_Details!$B318)","v":""},{"$f":"IF(Emission_Limits_Details!$C318=\"\",\"\",Emission_Limits_Details!$C318)","v":""},null,"",{"$f":"IF(COUNTIF(U$2:U296,U296)=1,U296,\"\")","v":""},"","","",null,{"$f":"+IF(AH296=\"\",\"\",MAX(AC$1:AC295)+1)","v":""},{"$f":"IF(CMS_Detail!$B318=\"\",\"\",CMS_Detail!$B318)","v":""},{"$f":"IF(CMS_Detail!$C318=\"\",\"\",CMS_Detail!$C318)","v":""},null,"",{"$f":"IF(COUNTIF(AE$2:AE296,AE296)=1,AE296,\"\")","v":""},"","",""]
[null,null,null,null,null,null,null,null,null,null,null,null,null,null,null,null,null,null,{"$f":"+IF(X297=\"\",\"\",MAX(S$1:S296)+1)","v":""},{"$f":"IF(Emission_Limits_Details!$B319=\"\",\"\",Emission_Limits_Details!$B319)","v":""},{"$f":"IF(Emission_Limits_Details!$C319=\"\",\"\",Emission_Limits_Details!$C319)","v":""},null,"",{"$f":"IF(COUNTIF(U$2:U297,U297)=1,U297,\"\")","v":""},"","","",null,{"$f":"+IF(AH297=\"\",\"\",MAX(AC$1:AC296)+1)","v":""},{"$f":"IF(CMS_Detail!$B319=\"\",\"\",CMS_Detail!$B319)","v":""},{"$f":"IF(CMS_Detail!$C319=\"\",\"\",CMS_Detail!$C319)","v":""},null,"",{"$f":"IF(COUNTIF(AE$2:AE297,AE297)=1,AE297,\"\")","v":""},"","",""]
[null,null,null,null,null,null,null,null,null,null,null,null,null,null,null,null,null,null,{"$f":"+IF(X298=\"\",\"\",MAX(S$1:S297)+1)","v":""},{"$f":"IF(Emission_Limits_Details!$B320=\"\",\"\",Emission_Limits_Details!$B320)","v":""},{"$f":"IF(Emission_Limits_Details!$C320=\"\",\"\",Emission_Limits_Details!$C320)","v":""},null,"",{"$f":"IF(COUNTIF(U$2:U298,U298)=1,U298,\"\")","v":""},"","","",null,{"$f":"+IF(AH298=\"\",\"\",MAX(AC$1:AC297)+1)","v":""},{"$f":"IF(CMS_Detail!$B320=\"\",\"\",CMS_Detail!$B320)","v":""},{"$f":"IF(CMS_Detail!$C320=\"\",\"\",CMS_Detail!$C320)","v":""},null,"",{"$f":"IF(COUNTIF(AE$2:AE298,AE298)=1,AE298,\"\")","v":""},"","",""]
[null,null,null,null,null,null,null,null,null,null,null,null,null,null,null,null,null,null,{"$f":"+IF(X299=\"\",\"\",MAX(S$1:S298)+1)","v":""},{"$f":"IF(Emission_Limits_Details!$B321=\"\",\"\",Emission_Limits_Details!$B321)","v":""},{"$f":"IF(Emission_Limits_Details!$C321=\"\",\"\",Emission_Limits_Details!$C321)","v":""},null,"",{"$f":"IF(COUNTIF(U$2:U299,U299)=1,U299,\"\")","v":""},"","","",null,{"$f":"+IF(AH299=\"\",\"\",MAX(AC$1:AC298)+1)","v":""},{"$f":"IF(CMS_Detail!$B321=\"\",\"\",CMS_Detail!$B321)","v":""},{"$f":"IF(CMS_Detail!$C321=\"\",\"\",CMS_Detail!$C321)","v":""},null,"",{"$f":"IF(COUNTIF(AE$2:AE299,AE299)=1,AE299,\"\")","v":""},"","",""]
[null,null,null,null,null,null,null,null,null,null,null,null,null,null,null,null,null,null,{"$f":"+IF(X300=\"\",\"\",MAX(S$1:S299)+1)","v":""},{"$f":"IF(Emission_Limits_Details!$B322=\"\",\"\",Emission_Limits_Details!$B322)","v":""},{"$f":"IF(Emission_Limits_Details!$C322=\"\",\"\",Emission_Limits_Details!$C322)","v":""},null,"",{"$f":"IF(COUNTIF(U$2:U300,U300)=1,U300,\"\")","v":""},"","","",null,{"$f":"+IF(AH300=\"\",\"\",MAX(AC$1:AC299)+1)","v":""},{"$f":"IF(CMS_Detail!$B322=\"\",\"\",CMS_Detail!$B322)","v":""},{"$f":"IF(CMS_Detail!$C322=\"\",\"\",CMS_Detail!$C322)","v":""},null,"",{"$f":"IF(COUNTIF(AE$2:AE300,AE300)=1,AE300,\"\")","v":""},"","",""]
[null,null,null,null,null,null,null,null,null,null,null,null,null,null,null,null,null,null,{"$f":"+IF(X301=\"\",\"\",MAX(S$1:S300)+1)","v":""},{"$f":"IF(Emission_Limits_Details!$B323=\"\",\"\",Emission_Limits_Details!$B323)","v":""},{"$f":"IF(Emission_Limits_Details!$C323=\"\",\"\",Emission_Limits_Details!$C323)","v":""},null,"",{"$f":"IF(COUNTIF(U$2:U301,U301)=1,U301,\"\")","v":""},"","","",null,{"$f":"+IF(AH301=\"\",\"\",MAX(AC$1:AC300)+1)","v":""},{"$f":"IF(CMS_Detail!$B323=\"\",\"\",CMS_Detail!$B323)","v":""},{"$f":"IF(CMS_Detail!$C323=\"\",\"\",CMS_Detail!$C323)","v":""},null,"",{"$f":"IF(COUNTIF(AE$2:AE301,AE301)=1,AE301,\"\")","v":""},"","",""]
[null,null,null,null,null,null,null,null,null,null,null,null,null,null,null,null,null,null,{"$f":"+IF(X302=\"\",\"\",MAX(S$1:S301)+1)","v":""},{"$f":"IF(Emission_Limits_Details!$B324=\"\",\"\",Emission_Limits_Details!$B324)","v":""},{"$f":"IF(Emission_Limits_Details!$C324=\"\",\"\",Emission_Limits_Details!$C324)","v":""},null,"",{"$f":"IF(COUNTIF(U$2:U302,U302)=1,U302,\"\")","v":""},"","","",null,{"$f":"+IF(AH302=\"\",\"\",MAX(AC$1:AC301)+1)","v":""},{"$f":"IF(CMS_Detail!$B324=\"\",\"\",CMS_Detail!$B324)","v":""},{"$f":"IF(CMS_Detail!$C324=\"\",\"\",CMS_Detail!$C324)","v":""},null,"",{"$f":"IF(COUNTIF(AE$2:AE302,AE302)=1,AE302,\"\")","v":""},"","",""]
[null,null,null,null,null,null,null,null,null,null,null,null,null,null,null,null,null,null,{"$f":"+IF(X303=\"\",\"\",MAX(S$1:S302)+1)","v":""},{"$f":"IF(Emission_Limits_Details!$B325=\"\",\"\",Emission_Limits_Details!$B325)","v":""},{"$f":"IF(Emission_Limits_Details!$C325=\"\",\"\",Emission_Limits_Details!$C325)","v":""},null,"",{"$f":"IF(COUNTIF(U$2:U303,U303)=1,U303,\"\")","v":""},"","","",null,{"$f":"+IF(AH303=\"\",\"\",MAX(AC$1:AC302)+1)","v":""},{"$f":"IF(CMS_Detail!$B325=\"\",\"\",CMS_Detail!$B325)","v":""},{"$f":"IF(CMS_Detail!$C325=\"\",\"\",CMS_Detail!$C325)","v":""},null,"",{"$f":"IF(COUNTIF(AE$2:AE303,AE303)=1,AE303,\"\")","v":""},"","",""]
[null,null,null,null,null,null,null,null,null,null,null,null,null,null,null,null,null,null,{"$f":"+IF(X304=\"\",\"\",MAX(S$1:S303)+1)","v":""},{"$f":"IF(Emission_Limits_Details!$B326=\"\",\"\",Emission_Limits_Details!$B326)","v":""},{"$f":"IF(Emission_Limits_Details!$C326=\"\",\"\",Emission_Limits_Details!$C326)","v":""},null,"",{"$f":"IF(COUNTIF(U$2:U304,U304)=1,U304,\"\")","v":""},"","","",null,{"$f":"+IF(AH304=\"\",\"\",MAX(AC$1:AC303)+1)","v":""},{"$f":"IF(CMS_Detail!$B326=\"\",\"\",CMS_Detail!$B326)","v":""},{"$f":"IF(CMS_Detail!$C326=\"\",\"\",CMS_Detail!$C326)","v":""},null,"",{"$f":"IF(COUNTIF(AE$2:AE304,AE304)=1,AE304,\"\")","v":""},"","",""]
[null,null,null,null,null,null,null,null,null,null,null,null,null,null,null,null,null,null,{"$f":"+IF(X305=\"\",\"\",MAX(S$1:S304)+1)","v":""},{"$f":"IF(Emission_Limits_Details!$B327=\"\",\"\",Emission_Limits_Details!$B327)","v":""},{"$f":"IF(Emission_Limits_Details!$C327=\"\",\"\",Emission_Limits_Details!$C327)","v":""},null,"",{"$f":"IF(COUNTIF(U$2:U305,U305)=1,U305,\"\")","v":""},"","","",null,{"$f":"+IF(AH305=\"\",\"\",MAX(AC$1:AC304)+1)","v":""},{"$f":"IF(CMS_Detail!$B327=\"\",\"\",CMS_Detail!$B327)","v":""},{"$f":"IF(CMS_Detail!$C327=\"\",\"\",CMS_Detail!$C327)","v":""},null,"",{"$f":"IF(COUNTIF(AE$2:AE305,AE305)=1,AE305,\"\")","v":""},"","",""]
[null,null,null,null,null,null,null,null,null,null,null,null,null,null,null,null,null,null,{"$f":"+IF(X306=\"\",\"\",MAX(S$1:S305)+1)","v":""},{"$f":"IF(Emission_Limits_Details!$B328=\"\",\"\",Emission_Limits_Details!$B328)","v":""},{"$f":"IF(Emission_Limits_Details!$C328=\"\",\"\",Emission_Limits_Details!$C328)","v":""},null,"",{"$f":"IF(COUNTIF(U$2:U306,U306)=1,U306,\"\")","v":""},"","","",null,{"$f":"+IF(AH306=\"\",\"\",MAX(AC$1:AC305)+1)","v":""},{"$f":"IF(CMS_Detail!$B328=\"\",\"\",CMS_Detail!$B328)","v":""},{"$f":"IF(CMS_Detail!$C328=\"\",\"\",CMS_Detail!$C328)","v":""},null,"",{"$f":"IF(COUNTIF(AE$2:AE306,AE306)=1,AE306,\"\")","v":""},"","",""]
[null,null,null,null,null,null,null,null,null,null,null,null,null,null,null,null,null,null,{"$f":"+IF(X307=\"\",\"\",MAX(S$1:S306)+1)","v":""},{"$f":"IF(Emission_Limits_Details!$B329=\"\",\"\",Emission_Limits_Details!$B329)","v":""},{"$f":"IF(Emission_Limits_Details!$C329=\"\",\"\",Emission_Limits_Details!$C329)","v":""},null,"",{"$f":"IF(COUNTIF(U$2:U307,U307)=1,U307,\"\")","v":""},"","","",null,{"$f":"+IF(AH307=\"\",\"\",MAX(AC$1:AC306)+1)","v":""},{"$f":"IF(CMS_Detail!$B329=\"\",\"\",CMS_Detail!$B329)","v":""},{"$f":"IF(CMS_Detail!$C329=\"\",\"\",CMS_Detail!$C329)","v":""},null,"",{"$f":"IF(COUNTIF(AE$2:AE307,AE307)=1,AE307,\"\")","v":""},"","",""]
[null,null,null,null,null,null,null,null,null,null,null,null,null,null,null,null,null,null,{"$f":"+IF(X308=\"\",\"\",MAX(S$1:S307)+1)","v":""},{"$f":"IF(Emission_Limits_Details!$B330=\"\",\"\",Emission_Limits_Details!$B330)","v":""},{"$f":"IF(Emission_Limits_Details!$C330=\"\",\"\",Emission_Limits_Details!$C330)","v":""},null,"",{"$f":"IF(COUNTIF(U$2:U308,U308)=1,U308,\"\")","v":""},"","","",null,{"$f":"+IF(AH308=\"\",\"\",MAX(AC$1:AC307)+1)","v":""},{"$f":"IF(CMS_Detail!$B330=\"\",\"\",CMS_Detail!$B330)","v":""},{"$f":"IF(CMS_Detail!$C330=\"\",\"\",CMS_Detail!$C330)","v":""},null,"",{"$f":"IF(COUNTIF(AE$2:AE308,AE308)=1,AE308,\"\")","v":""},"","",""]
[null,null,null,null,null,null,null,null,null,null,null,null,null,null,null,null,null,null,{"$f":"+IF(X309=\"\",\"\",MAX(S$1:S308)+1)","v":""},{"$f":"IF(Emission_Limits_Details!$B331=\"\",\"\",Emission_Limits_Details!$B331)","v":""},{"$f":"IF(Emission_Limits_Details!$C331=\"\",\"\",Emission_Limits_Details!$C331)","v":""},null,"",{"$f":"IF(COUNTIF(U$2:U309,U309)=1,U309,\"\")","v":""},"","","",null,{"$f":"+IF(AH309=\"\",\"\",MAX(AC$1:AC308)+1)","v":""},{"$f":"IF(CMS_Detail!$B331=\"\",\"\",CMS_Detail!$B331)","v":""},{"$f":"IF(CMS_Detail!$C331=\"\",\"\",CMS_Detail!$C331)","v":""},null,"",{"$f":"IF(COUNTIF(AE$2:AE309,AE309)=1,AE309,\"\")","v":""},"","",""]
[null,null,null,null,null,null,null,null,null,null,null,null,null,null,null,null,null,null,{"$f":"+IF(X310=\"\",\"\",MAX(S$1:S309)+1)","v":""},{"$f":"IF(Emission_Limits_Details!$B332=\"\",\"\",Emission_Limits_Details!$B332)","v":""},{"$f":"IF(Emission_Limits_Details!$C332=\"\",\"\",Emission_Limits_Details!$C332)","v":""},null,"",{"$f":"IF(COUNTIF(U$2:U310,U310)=1,U310,\"\")","v":""},"","","",null,{"$f":"+IF(AH310=\"\",\"\",MAX(AC$1:AC309)+1)","v":""},{"$f":"IF(CMS_Detail!$B332=\"\",\"\",CMS_Detail!$B332)","v":""},{"$f":"IF(CMS_Detail!$C332=\"\",\"\",CMS_Detail!$C332)","v":""},null,"",{"$f":"IF(COUNTIF(AE$2:AE310,AE310)=1,AE310,\"\")","v":""},"","",""]
[null,null,null,null,null,null,null,null,null,null,null,null,null,null,null,null,null,null,{"$f":"+IF(X311=\"\",\"\",MAX(S$1:S310)+1)","v":""},{"$f":"IF(Emission_Limits_Details!$B333=\"\",\"\",Emission_Limits_Details!$B333)","v":""},{"$f":"IF(Emission_Limits_Details!$C333=\"\",\"\",Emission_Limits_Details!$C333)","v":""},null,"",{"$f":"IF(COUNTIF(U$2:U311,U311)=1,U311,\"\")","v":""},"","","",null,{"$f":"+IF(AH311=\"\",\"\",MAX(AC$1:AC310)+1)","v":""},{"$f":"IF(CMS_Detail!$B333=\"\",\"\",CMS_Detail!$B333)","v":""},{"$f":"IF(CMS_Detail!$C333=\"\",\"\",CMS_Detail!$C333)","v":""},null,"",{"$f":"IF(COUNTIF(AE$2:AE311,AE311)=1,AE311,\"\")","v":""},"","",""]
[null,null,null,null,null,null,null,null,null,null,null,null,null,null,null,null,null,null,{"$f":"+IF(X312=\"\",\"\",MAX(S$1:S311)+1)","v":""},{"$f":"IF(Emission_Limits_Details!$B334=\"\",\"\",Emission_Limits_Details!$B334)","v":""},{"$f":"IF(Emission_Limits_Details!$C334=\"\",\"\",Emission_Limits_Details!$C334)","v":""},null,"",{"$f":"IF(COUNTIF(U$2:U312,U312)=1,U312,\"\")","v":""},"","","",null,{"$f":"+IF(AH312=\"\",\"\",MAX(AC$1:AC311)+1)","v":""},{"$f":"IF(CMS_Detail!$B334=\"\",\"\",CMS_Detail!$B334)","v":""},{"$f":"IF(CMS_Detail!$C334=\"\",\"\",CMS_Detail!$C334)","v":""},null,"",{"$f":"IF(COUNTIF(AE$2:AE312,AE312)=1,AE312,\"\")","v":""},"","",""]
[null,null,null,null,null,null,null,null,null,null,null,null,null,null,null,null,null,null,{"$f":"+IF(X313=\"\",\"\",MAX(S$1:S312)+1)","v":""},{"$f":"IF(Emission_Limits_Details!$B335=\"\",\"\",Emission_Limits_Details!$B335)","v":""},{"$f":"IF(Emission_Limits_Details!$C335=\"\",\"\",Emission_Limits_Details!$C335)","v":""},null,"",{"$f":"IF(COUNTIF(U$2:U313,U313)=1,U313,\"\")","v":""},"","","",null,{"$f":"+IF(AH313=\"\",\"\",MAX(AC$1:AC312)+1)","v":""},{"$f":"IF(CMS_Detail!$B335=\"\",\"\",CMS_Detail!$B335)","v":""},{"$f":"IF(CMS_Detail!$C335=\"\",\"\",CMS_Detail!$C335)","v":""},null,"",{"$f":"IF(COUNTIF(AE$2:AE313,AE313)=1,AE313,\"\")","v":""},"","",""]
[null,null,null,null,null,null,null,null,null,null,null,null,null,null,null,null,null,null,{"$f":"+IF(X314=\"\",\"\",MAX(S$1:S313)+1)","v":""},{"$f":"IF(Emission_Limits_Details!$B336=\"\",\"\",Emission_Limits_Details!$B336)","v":""},{"$f":"IF(Emission_Limits_Details!$C336=\"\",\"\",Emission_Limits_Details!$C336)","v":""},null,"",{"$f":"IF(COUNTIF(U$2:U314,U314)=1,U314,\"\")","v":""},"","","",null,{"$f":"+IF(AH314=\"\",\"\",MAX(AC$1:AC313)+1)","v":""},{"$f":"IF(CMS_Detail!$B336=\"\",\"\",CMS_Detail!$B336)","v":""},{"$f":"IF(CMS_Detail!$C336=\"\",\"\",CMS_Detail!$C336)","v":""},null,"",{"$f":"IF(COUNTIF(AE$2:AE314,AE314)=1,AE314,\"\")","v":""},"","",""]
[null,null,null,null,null,null,null,null,null,null,null,null,null,null,null,null,null,null,{"$f":"+IF(X315=\"\",\"\",MAX(S$1:S314)+1)","v":""},{"$f":"IF(Emission_Limits_Details!$B337=\"\",\"\",Emission_Limits_Details!$B337)","v":""},{"$f":"IF(Emission_Limits_Details!$C337=\"\",\"\",Emission_Limits_Details!$C337)","v":""},null,"",{"$f":"IF(COUNTIF(U$2:U315,U315)=1,U315,\"\")","v":""},"","","",null,{"$f":"+IF(AH315=\"\",\"\",MAX(AC$1:AC314)+1)","v":""},{"$f":"IF(CMS_Detail!$B337=\"\",\"\",CMS_Detail!$B337)","v":""},{"$f":"IF(CMS_Detail!$C337=\"\",\"\",CMS_Detail!$C337)","v":""},null,"",{"$f":"IF(COUNTIF(AE$2:AE315,AE315)=1,AE315,\"\")","v":""},"","",""]
[null,null,null,null,null,null,null,null,null,null,null,null,null,null,null,null,null,null,{"$f":"+IF(X316=\"\",\"\",MAX(S$1:S315)+1)","v":""},{"$f":"IF(Emission_Limits_Details!$B338=\"\",\"\",Emission_Limits_Details!$B338)","v":""},{"$f":"IF(Emission_Limits_Details!$C338=\"\",\"\",Emission_Limits_Details!$C338)","v":""},null,"",{"$f":"IF(COUNTIF(U$2:U316,U316)=1,U316,\"\")","v":""},"","","",null,{"$f":"+IF(AH316=\"\",\"\",MAX(AC$1:AC315)+1)","v":""},{"$f":"IF(CMS_Detail!$B338=\"\",\"\",CMS_Detail!$B338)","v":""},{"$f":"IF(CMS_Detail!$C338=\"\",\"\",CMS_Detail!$C338)","v":""},null,"",{"$f":"IF(COUNTIF(AE$2:AE316,AE316)=1,AE316,\"\")","v":""},"","",""]
[null,null,null,null,null,null,null,null,null,null,null,null,null,null,null,null,null,null,{"$f":"+IF(X317=\"\",\"\",MAX(S$1:S316)+1)","v":""},{"$f":"IF(Emission_Limits_Details!$B339=\"\",\"\",Emission_Limits_Details!$B339)","v":""},{"$f":"IF(Emission_Limits_Details!$C339=\"\",\"\",Emission_Limits_Details!$C339)","v":""},null,"",{"$f":"IF(COUNTIF(U$2:U317,U317)=1,U317,\"\")","v":""},"","","",null,{"$f":"+IF(AH317=\"\",\"\",MAX(AC$1:AC316)+1)","v":""},{"$f":"IF(CMS_Detail!$B339=\"\",\"\",CMS_Detail!$B339)","v":""},{"$f":"IF(CMS_Detail!$C339=\"\",\"\",CMS_Detail!$C339)","v":""},null,"",{"$f":"IF(COUNTIF(AE$2:AE317,AE317)=1,AE317,\"\")","v":""},"","",""]
[null,null,null,null,null,null,null,null,null,null,null,null,null,null,null,null,null,null,{"$f":"+IF(X318=\"\",\"\",MAX(S$1:S317)+1)","v":""},{"$f":"IF(Emission_Limits_Details!$B340=\"\",\"\",Emission_Limits_Details!$B340)","v":""},{"$f":"IF(Emission_Limits_Details!$C340=\"\",\"\",Emission_Limits_Details!$C340)","v":""},null,"",{"$f":"IF(COUNTIF(U$2:U318,U318)=1,U318,\"\")","v":""},"","","",null,{"$f":"+IF(AH318=\"\",\"\",MAX(AC$1:AC317)+1)","v":""},{"$f":"IF(CMS_Detail!$B340=\"\",\"\",CMS_Detail!$B340)","v":""},{"$f":"IF(CMS_Detail!$C340=\"\",\"\",CMS_Detail!$C340)","v":""},null,"",{"$f":"IF(COUNTIF(AE$2:AE318,AE318)=1,AE318,\"\")","v":""},"","",""]
[null,null,null,null,null,null,null,null,null,null,null,null,null,null,null,null,null,null,{"$f":"+IF(X319=\"\",\"\",MAX(S$1:S318)+1)","v":""},{"$f":"IF(Emission_Limits_Details!$B341=\"\",\"\",Emission_Limits_Details!$B341)","v":""},{"$f":"IF(Emission_Limits_Details!$C341=\"\",\"\",Emission_Limits_Details!$C341)","v":""},null,"",{"$f":"IF(COUNTIF(U$2:U319,U319)=1,U319,\"\")","v":""},"","","",null,{"$f":"+IF(AH319=\"\",\"\",MAX(AC$1:AC318)+1)","v":""},{"$f":"IF(CMS_Detail!$B341=\"\",\"\",CMS_Detail!$B341)","v":""},{"$f":"IF(CMS_Detail!$C341=\"\",\"\",CMS_Detail!$C341)","v":""},null,"",{"$f":"IF(COUNTIF(AE$2:AE319,AE319)=1,AE319,\"\")","v":""},"","",""]
[null,null,null,null,null,null,null,null,null,null,null,null,null,null,null,null,null,null,{"$f":"+IF(X320=\"\",\"\",MAX(S$1:S319)+1)","v":""},{"$f":"IF(Emission_Limits_Details!$B342=\"\",\"\",Emission_Limits_Details!$B342)","v":""},{"$f":"IF(Emission_Limits_Details!$C342=\"\",\"\",Emission_Limits_Details!$C342)","v":""},null,"",{"$f":"IF(COUNTIF(U$2:U320,U320)=1,U320,\"\")","v":""},"","","",null,{"$f":"+IF(AH320=\"\",\"\",MAX(AC$1:AC319)+1)","v":""},{"$f":"IF(CMS_Detail!$B342=\"\",\"\",CMS_Detail!$B342)","v":""},{"$f":"IF(CMS_Detail!$C342=\"\",\"\",CMS_Detail!$C342)","v":""},null,"",{"$f":"IF(COUNTIF(AE$2:AE320,AE320)=1,AE320,\"\")","v":""},"","",""]
[null,null,null,null,null,null,null,null,null,null,null,null,null,null,null,null,null,null,{"$f":"+IF(X321=\"\",\"\",MAX(S$1:S320)+1)","v":""},{"$f":"IF(Emission_Limits_Details!$B343=\"\",\"\",Emission_Limits_Details!$B343)","v":""},{"$f":"IF(Emission_Limits_Details!$C343=\"\",\"\",Emission_Limits_Details!$C343)","v":""},null,"",{"$f":"IF(COUNTIF(U$2:U321,U321)=1,U321,\"\")","v":""},"","","",null,{"$f":"+IF(AH321=\"\",\"\",MAX(AC$1:AC320)+1)","v":""},{"$f":"IF(CMS_Detail!$B343=\"\",\"\",CMS_Detail!$B343)","v":""},{"$f":"IF(CMS_Detail!$C343=\"\",\"\",CMS_Detail!$C343)","v":""},null,"",{"$f":"IF(COUNTIF(AE$2:AE321,AE321)=1,AE321,\"\")","v":""},"","",""]
[null,null,null,null,null,null,null,null,null,null,null,null,null,null,null,null,null,null,{"$f":"+IF(X322=\"\",\"\",MAX(S$1:S321)+1)","v":""},{"$f":"IF(Emission_Limits_Details!$B344=\"\",\"\",Emission_Limits_Details!$B344)","v":""},{"$f":"IF(Emission_Limits_Details!$C344=\"\",\"\",Emission_Limits_Details!$C344)","v":""},null,"",{"$f":"IF(COUNTIF(U$2:U322,U322)=1,U322,\"\")","v":""},"","","",null,{"$f":"+IF(AH322=\"\",\"\",MAX(AC$1:AC321)+1)","v":""},{"$f":"IF(CMS_Detail!$B344=\"\",\"\",CMS_Detail!$B344)","v":""},{"$f":"IF(CMS_Detail!$C344=\"\",\"\",CMS_Detail!$C344)","v":""},null,"",{"$f":"IF(COUNTIF(AE$2:AE322,AE322)=1,AE322,\"\")","v":""},"","",""]
[null,null,null,null,null,null,null,null,null,null,null,null,null,null,null,null,null,null,{"$f":"+IF(X323=\"\",\"\",MAX(S$1:S322)+1)","v":""},{"$f":"IF(Emission_Limits_Details!$B345=\"\",\"\",Emission_Limits_Details!$B345)","v":""},{"$f":"IF(Emission_Limits_Details!$C345=\"\",\"\",Emission_Limits_Details!$C345)","v":""},null,{"$f":"T323&U323&V323","v":""},{"$f":"IF(COUNTIF(U$2:U323,U323)=1,U323,\"\")","v":""},{"$f":"+IFERROR(INDEX(T$2:T$955,MATCH(ROW()-ROW(X$1),S$2:S$955,0)),\"\")","v":""},{"$f":"+IFERROR(INDEX(U$2:U$955,MATCH(ROW()-ROW(X$1),S$2:S$955,0)),\"\")","v":""},{"$f":"+IFERROR(INDEX(V$2:V$955,MATCH(ROW()-ROW(Y$1),S$2:S$955,0)),\"\")","v":""},null,{"$f":"+IF(AH323=\"\",\"\",MAX(AC$1:AC322)+1)","v":""},{"$f":"IF(CMS_Detail!$B345=\"\",\"\",CMS_Detail!$B345)","v":""},{"$f":"IF(CMS_Detail!$C345=\"\",\"\",CMS_Detail!$C345)","v":""},null,{"$f":"AD323&AE323&AF323","v":""},{"$f":"IF(COUNTIF(AE$2:AE323,AE323)=1,AE323,\"\")","v":""},{"$f":"+IFERROR(INDEX(AD$2:AD$955,MATCH(ROW()-ROW(AH$1),AC$2:AC$955,0)),\"\")","v":""},{"$f":"+IFERROR(INDEX(AE$2:AE$955,MATCH(ROW()-ROW(AH$1),AC$2:AC$955,0)),\"\")","v":""},{"$f":"+IFERROR(INDEX(AF$2:AF$955,MATCH(ROW()-ROW(AI$1),AC$2:AC$955,0)),\"\")","v":""}]
[null,null,null,null,null,null,null,null,null,null,null,null,null,null,null,null,null,null,{"$f":"+IF(X324=\"\",\"\",MAX(S$1:S323)+1)","v":""},{"$f":"IF(Emission_Limits_Details!$B346=\"\",\"\",Emission_Limits_Details!$B346)","v":""},{"$f":"IF(Emission_Limits_Details!$C346=\"\",\"\",Emission_Limits_Details!$C346)","v":""},null,"",{"$f":"IF(COUNTIF(U$2:U324,U324)=1,U324,\"\")","v":""},"","","",null,{"$f":"+IF(AH324=\"\",\"\",MAX(AC$1:AC323)+1)","v":""},{"$f":"IF(CMS_Detail!$B346=\"\",\"\",CMS_Detail!$B346)","v":""},{"$f":"IF(CMS_Detail!$C346=\"\",\"\",CMS_Detail!$C346)","v":""},null,"",{"$f":"IF(COUNTIF(AE$2:AE324,AE324)=1,AE324,\"\")","v":""},"","",""]
[null,null,null,null,null,null,null,null,null,null,null,null,null,null,null,null,null,null,{"$f":"+IF(X325=\"\",\"\",MAX(S$1:S324)+1)","v":""},{"$f":"IF(Emission_Limits_Details!$B347=\"\",\"\",Emission_Limits_Details!$B347)","v":""},{"$f":"IF(Emission_Limits_Details!$C347=\"\",\"\",Emission_Limits_Details!$C347)","v":""},null,"",{"$f":"IF(COUNTIF(U$2:U325,U325)=1,U325,\"\")","v":""},"","","",null,{"$f":"+IF(AH325=\"\",\"\",MAX(AC$1:AC324)+1)","v":""},{"$f":"IF(CMS_Detail!$B347=\"\",\"\",CMS_Detail!$B347)","v":""},{"$f":"IF(CMS_Detail!$C347=\"\",\"\",CMS_Detail!$C347)","v":""},null,"",{"$f":"IF(COUNTIF(AE$2:AE325,AE325)=1,AE325,\"\")","v":""},"","",""]
[null,null,null,null,null,null,null,null,null,null,null,null,null,null,null,null,null,null,{"$f":"+IF(X326=\"\",\"\",MAX(S$1:S325)+1)","v":""},{"$f":"IF(Emission_Limits_Details!$B348=\"\",\"\",Emission_Limits_Details!$B348)","v":""},{"$f":"IF(Emission_Limits_Details!$C348=\"\",\"\",Emission_Limits_Details!$C348)","v":""},null,"",{"$f":"IF(COUNTIF(U$2:U326,U326)=1,U326,\"\")","v":""},"","","",null,{"$f":"+IF(AH326=\"\",\"\",MAX(AC$1:AC325)+1)","v":""},{"$f":"IF(CMS_Detail!$B348=\"\",\"\",CMS_Detail!$B348)","v":""},{"$f":"IF(CMS_Detail!$C348=\"\",\"\",CMS_Detail!$C348)","v":""},null,"",{"$f":"IF(COUNTIF(AE$2:AE326,AE326)=1,AE326,\"\")","v":""},"","",""]
[null,null,null,null,null,null,null,null,null,null,null,null,null,null,null,null,null,null,{"$f":"+IF(X327=\"\",\"\",MAX(S$1:S326)+1)","v":""},{"$f":"IF(Emission_Limits_Details!$B349=\"\",\"\",Emission_Limits_Details!$B349)","v":""},{"$f":"IF(Emission_Limits_Details!$C349=\"\",\"\",Emission_Limits_Details!$C349)","v":""},null,"",{"$f":"IF(COUNTIF(U$2:U327,U327)=1,U327,\"\")","v":""},"","","",null,{"$f":"+IF(AH327=\"\",\"\",MAX(AC$1:AC326)+1)","v":""},{"$f":"IF(CMS_Detail!$B349=\"\",\"\",CMS_Detail!$B349)","v":""},{"$f":"IF(CMS_Detail!$C349=\"\",\"\",CMS_Detail!$C349)","v":""},null,"",{"$f":"IF(COUNTIF(AE$2:AE327,AE327)=1,AE327,\"\")","v":""},"","",""]
[null,null,null,null,null,null,null,null,null,null,null,null,null,null,null,null,null,null,{"$f":"+IF(X328=\"\",\"\",MAX(S$1:S327)+1)","v":""},{"$f":"IF(Emission_Limits_Details!$B350=\"\",\"\",Emission_Limits_Details!$B350)","v":""},{"$f":"IF(Emission_Limits_Details!$C350=\"\",\"\",Emission_Limits_Details!$C350)","v":""},null,"",{"$f":"IF(COUNTIF(U$2:U328,U328)=1,U328,\"\")","v":""},"","","",null,{"$f":"+IF(AH328=\"\",\"\",MAX(AC$1:AC327)+1)","v":""},{"$f":"IF(CMS_Detail!$B350=\"\",\"\",CMS_Detail!$B350)","v":""},{"$f":"IF(CMS_Detail!$C350=\"\",\"\",CMS_Detail!$C350)","v":""},null,"",{"$f":"IF(COUNTIF(AE$2:AE328,AE328)=1,AE328,\"\")","v":""},"","",""]
[null,null,null,null,null,null,null,null,null,null,null,null,null,null,null,null,null,null,{"$f":"+IF(X329=\"\",\"\",MAX(S$1:S328)+1)","v":""},{"$f":"IF(Emission_Limits_Details!$B351=\"\",\"\",Emission_Limits_Details!$B351)","v":""},{"$f":"IF(Emission_Limits_Details!$C351=\"\",\"\",Emission_Limits_Details!$C351)","v":""},null,"",{"$f":"IF(COUNTIF(U$2:U329,U329)=1,U329,\"\")","v":""},"","","",null,{"$f":"+IF(AH329=\"\",\"\",MAX(AC$1:AC328)+1)","v":""},{"$f":"IF(CMS_Detail!$B351=\"\",\"\",CMS_Detail!$B351)","v":""},{"$f":"IF(CMS_Detail!$C351=\"\",\"\",CMS_Detail!$C351)","v":""},null,"",{"$f":"IF(COUNTIF(AE$2:AE329,AE329)=1,AE329,\"\")","v":""},"","",""]
[null,null,null,null,null,null,null,null,null,null,null,null,null,null,null,null,null,null,{"$f":"+IF(X330=\"\",\"\",MAX(S$1:S329)+1)","v":""},{"$f":"IF(Emission_Limits_Details!$B352=\"\",\"\",Emission_Limits_Details!$B352)","v":""},{"$f":"IF(Emission_Limits_Details!$C352=\"\",\"\",Emission_Limits_Details!$C352)","v":""},null,"",{"$f":"IF(COUNTIF(U$2:U330,U330)=1,U330,\"\")","v":""},"","","",null,{"$f":"+IF(AH330=\"\",\"\",MAX(AC$1:AC329)+1)","v":""},{"$f":"IF(CMS_Detail!$B352=\"\",\"\",CMS_Detail!$B352)","v":""},{"$f":"IF(CMS_Detail!$C352=\"\",\"\",CMS_Detail!$C352)","v":""},null,"",{"$f":"IF(COUNTIF(AE$2:AE330,AE330)=1,AE330,\"\")","v":""},"","",""]
[null,null,null,null,null,null,null,null,null,null,null,null,null,null,null,null,null,null,{"$f":"+IF(X331=\"\",\"\",MAX(S$1:S330)+1)","v":""},{"$f":"IF(Emission_Limits_Details!$B353=\"\",\"\",Emission_Limits_Details!$B353)","v":""},{"$f":"IF(Emission_Limits_Details!$C353=\"\",\"\",Emission_Limits_Details!$C353)","v":""},null,"",{"$f":"IF(COUNTIF(U$2:U331,U331)=1,U331,\"\")","v":""},"","","",null,{"$f":"+IF(AH331=\"\",\"\",MAX(AC$1:AC330)+1)","v":""},{"$f":"IF(CMS_Detail!$B353=\"\",\"\",CMS_Detail!$B353)","v":""},{"$f":"IF(CMS_Detail!$C353=\"\",\"\",CMS_Detail!$C353)","v":""},null,"",{"$f":"IF(COUNTIF(AE$2:AE331,AE331)=1,AE331,\"\")","v":""},"","",""]
[null,null,null,null,null,null,null,null,null,null,null,null,null,null,null,null,null,null,{"$f":"+IF(X332=\"\",\"\",MAX(S$1:S331)+1)","v":""},{"$f":"IF(Emission_Limits_Details!$B354=\"\",\"\",Emission_Limits_Details!$B354)","v":""},{"$f":"IF(Emission_Limits_Details!$C354=\"\",\"\",Emission_Limits_Details!$C354)","v":""},null,"",{"$f":"IF(COUNTIF(U$2:U332,U332)=1,U332,\"\")","v":""},"","","",null,{"$f":"+IF(AH332=\"\",\"\",MAX(AC$1:AC331)+1)","v":""},{"$f":"IF(CMS_Detail!$B354=\"\",\"\",CMS_Detail!$B354)","v":""},{"$f":"IF(CMS_Detail!$C354=\"\",\"\",CMS_Detail!$C354)","v":""},null,"",{"$f":"IF(COUNTIF(AE$2:AE332,AE332)=1,AE332,\"\")","v":""},"","",""]
[null,null,null,null,null,null,null,null,null,null,null,null,null,null,null,null,null,null,{"$f":"+IF(X333=\"\",\"\",MAX(S$1:S332)+1)","v":""},{"$f":"IF(Emission_Limits_Details!$B355=\"\",\"\",Emission_Limits_Details!$B355)","v":""},{"$f":"IF(Emission_Limits_Details!$C355=\"\",\"\",Emission_Limits_Details!$C355)","v":""},null,"",{"$f":"IF(COUNTIF(U$2:U333,U333)=1,U333,\"\")","v":""},"","","",null,{"$f":"+IF(AH333=\"\",\"\",MAX(AC$1:AC332)+1)","v":""},{"$f":"IF(CMS_Detail!$B355=\"\",\"\",CMS_Detail!$B355)","v":""},{"$f":"IF(CMS_Detail!$C355=\"\",\"\",CMS_Detail!$C355)","v":""},null,"",{"$f":"IF(COUNTIF(AE$2:AE333,AE333)=1,AE333,\"\")","v":""},"","",""]
[null,null,null,null,null,null,null,null,null,null,null,null,null,null,null,null,null,null,{"$f":"+IF(X334=\"\",\"\",MAX(S$1:S333)+1)","v":""},{"$f":"IF(Emission_Limits_Details!$B356=\"\",\"\",Emission_Limits_Details!$B356)","v":""},{"$f":"IF(Emission_Limits_Details!$C356=\"\",\"\",Emission_Limits_Details!$C356)","v":""},null,"",{"$f":"IF(COUNTIF(U$2:U334,U334)=1,U334,\"\")","v":""},"","","",null,{"$f":"+IF(AH334=\"\",\"\",MAX(AC$1:AC333)+1)","v":""},{"$f":"IF(CMS_Detail!$B356=\"\",\"\",CMS_Detail!$B356)","v":""},{"$f":"IF(CMS_Detail!$C356=\"\",\"\",CMS_Detail!$C356)","v":""},null,"",{"$f":"IF(COUNTIF(AE$2:AE334,AE334)=1,AE334,\"\")","v":""},"","",""]
[null,null,null,null,null,null,null,null,null,null,null,null,null,null,null,null,null,null,{"$f":"+IF(X335=\"\",\"\",MAX(S$1:S334)+1)","v":""},{"$f":"IF(Emission_Limits_Details!$B357=\"\",\"\",Emission_Limits_Details!$B357)","v":""},{"$f":"IF(Emission_Limits_Details!$C357=\"\",\"\",Emission_Limits_Details!$C357)","v":""},null,"",{"$f":"IF(COUNTIF(U$2:U335,U335)=1,U335,\"\")","v":""},"","","",null,{"$f":"+IF(AH335=\"\",\"\",MAX(AC$1:AC334)+1)","v":""},{"$f":"IF(CMS_Detail!$B357=\"\",\"\",CMS_Detail!$B357)","v":""},{"$f":"IF(CMS_Detail!$C357=\"\",\"\",CMS_Detail!$C357)","v":""},null,"",{"$f":"IF(COUNTIF(AE$2:AE335,AE335)=1,AE335,\"\")","v":""},"","",""]
[null,null,null,null,null,null,null,null,null,null,null,null,null,null,null,null,null,null,{"$f":"+IF(X336=\"\",\"\",MAX(S$1:S335)+1)","v":""},{"$f":"IF(Emission_Limits_Details!$B358=\"\",\"\",Emission_Limits_Details!$B358)","v":""},{"$f":"IF(Emission_Limits_Details!$C358=\"\",\"\",Emission_Limits_Details!$C358)","v":""},null,"",{"$f":"IF(COUNTIF(U$2:U336,U336)=1,U336,\"\")","v":""},"","","",null,{"$f":"+IF(AH336=\"\",\"\",MAX(AC$1:AC335)+1)","v":""},{"$f":"IF(CMS_Detail!$B358=\"\",\"\",CMS_Detail!$B358)","v":""},{"$f":"IF(CMS_Detail!$C358=\"\",\"\",CMS_Detail!$C358)","v":""},null,"",{"$f":"IF(COUNTIF(AE$2:AE336,AE336)=1,AE336,\"\")","v":""},"","",""]
[null,null,null,null,null,null,null,null,null,null,null,null,null,null,null,null,null,null,{"$f":"+IF(X337=\"\",\"\",MAX(S$1:S336)+1)","v":""},{"$f":"IF(Emission_Limits_Details!$B359=\"\",\"\",Emission_Limits_Details!$B359)","v":""},{"$f":"IF(Emission_Limits_Details!$C359=\"\",\"\",Emission_Limits_Details!$C359)","v":""},null,"",{"$f":"IF(COUNTIF(U$2:U337,U337)=1,U337,\"\")","v":""},"","","",null,{"$f":"+IF(AH337=\"\",\"\",MAX(AC$1:AC336)+1)","v":""},{"$f":"IF(CMS_Detail!$B359=\"\",\"\",CMS_Detail!$B359)","v":""},{"$f":"IF(CMS_Detail!$C359=\"\",\"\",CMS_Detail!$C359)","v":""},null,"",{"$f":"IF(COUNTIF(AE$2:AE337,AE337)=1,AE337,\"\")","v":""},"","",""]
[null,null,null,null,null,null,null,null,null,null,null,null,null,null,null,null,null,null,{"$f":"+IF(X338=\"\",\"\",MAX(S$1:S337)+1)","v":""},{"$f":"IF(Emission_Limits_Details!$B360=\"\",\"\",Emission_Limits_Details!$B360)","v":""},{"$f":"IF(Emission_Limits_Details!$C360=\"\",\"\",Emission_Limits_Details!$C360)","v":""},null,"",{"$f":"IF(COUNTIF(U$2:U338,U338)=1,U338,\"\")","v":""},"","","",null,{"$f":"+IF(AH338=\"\",\"\",MAX(AC$1:AC337)+1)","v":""},{"$f":"IF(CMS_Detail!$B360=\"\",\"\",CMS_Detail!$B360)","v":""},{"$f":"IF(CMS_Detail!$C360=\"\",\"\",CMS_Detail!$C360)","v":""},null,"",{"$f":"IF(COUNTIF(AE$2:AE338,AE338)=1,AE338,\"\")","v":""},"","",""]
[null,null,null,null,null,null,null,null,null,null,null,null,null,null,null,null,null,null,{"$f":"+IF(X339=\"\",\"\",MAX(S$1:S338)+1)","v":""},{"$f":"IF(Emission_Limits_Details!$B361=\"\",\"\",Emission_Limits_Details!$B361)","v":""},{"$f":"IF(Emission_Limits_Details!$C361=\"\",\"\",Emission_Limits_Details!$C361)","v":""},null,"",{"$f":"IF(COUNTIF(U$2:U339,U339)=1,U339,\"\")","v":""},"","","",null,{"$f":"+IF(AH339=\"\",\"\",MAX(AC$1:AC338)+1)","v":""},{"$f":"IF(CMS_Detail!$B361=\"\",\"\",CMS_Detail!$B361)","v":""},{"$f":"IF(CMS_Detail!$C361=\"\",\"\",CMS_Detail!$C361)","v":""},null,"",{"$f":"IF(COUNTIF(AE$2:AE339,AE339)=1,AE339,\"\")","v":""},"","",""]
[null,null,null,null,null,null,null,null,null,null,null,null,null,null,null,null,null,null,{"$f":"+IF(X340=\"\",\"\",MAX(S$1:S339)+1)","v":""},{"$f":"IF(Emission_Limits_Details!$B362=\"\",\"\",Emission_Limits_Details!$B362)","v":""},{"$f":"IF(Emission_Limits_Details!$C362=\"\",\"\",Emission_Limits_Details!$C362)","v":""},null,"",{"$f":"IF(COUNTIF(U$2:U340,U340)=1,U340,\"\")","v":""},"","","",null,{"$f":"+IF(AH340=\"\",\"\",MAX(AC$1:AC339)+1)","v":""},{"$f":"IF(CMS_Detail!$B362=\"\",\"\",CMS_Detail!$B362)","v":""},{"$f":"IF(CMS_Detail!$C362=\"\",\"\",CMS_Detail!$C362)","v":""},null,"",{"$f":"IF(COUNTIF(AE$2:AE340,AE340)=1,AE340,\"\")","v":""},"","",""]
[null,null,null,null,null,null,null,null,null,null,null,null,null,null,null,null,null,null,{"$f":"+IF(X341=\"\",\"\",MAX(S$1:S340)+1)","v":""},{"$f":"IF(Emission_Limits_Details!$B363=\"\",\"\",Emission_Limits_Details!$B363)","v":""},{"$f":"IF(Emission_Limits_Details!$C363=\"\",\"\",Emission_Limits_Details!$C363)","v":""},null,"",{"$f":"IF(COUNTIF(U$2:U341,U341)=1,U341,\"\")","v":""},"","","",null,{"$f":"+IF(AH341=\"\",\"\",MAX(AC$1:AC340)+1)","v":""},{"$f":"IF(CMS_Detail!$B363=\"\",\"\",CMS_Detail!$B363)","v":""},{"$f":"IF(CMS_Detail!$C363=\"\",\"\",CMS_Detail!$C363)","v":""},null,"",{"$f":"IF(COUNTIF(AE$2:AE341,AE341)=1,AE341,\"\")","v":""},"","",""]
[null,null,null,null,null,null,null,null,null,null,null,null,null,null,null,null,null,null,{"$f":"+IF(X342=\"\",\"\",MAX(S$1:S341)+1)","v":""},{"$f":"IF(Emission_Limits_Details!$B364=\"\",\"\",Emission_Limits_Details!$B364)","v":""},{"$f":"IF(Emission_Limits_Details!$C364=\"\",\"\",Emission_Limits_Details!$C364)","v":""},null,"",{"$f":"IF(COUNTIF(U$2:U342,U342)=1,U342,\"\")","v":""},"","","",null,{"$f":"+IF(AH342=\"\",\"\",MAX(AC$1:AC341)+1)","v":""},{"$f":"IF(CMS_Detail!$B364=\"\",\"\",CMS_Detail!$B364)","v":""},{"$f":"IF(CMS_Detail!$C364=\"\",\"\",CMS_Detail!$C364)","v":""},null,"",{"$f":"IF(COUNTIF(AE$2:AE342,AE342)=1,AE342,\"\")","v":""},"","",""]
[null,null,null,null,null,null,null,null,null,null,null,null,null,null,null,null,null,null,{"$f":"+IF(X343=\"\",\"\",MAX(S$1:S342)+1)","v":""},{"$f":"IF(Emission_Limits_Details!$B365=\"\",\"\",Emission_Limits_Details!$B365)","v":""},{"$f":"IF(Emission_Limits_Details!$C365=\"\",\"\",Emission_Limits_Details!$C365)","v":""},null,"",{"$f":"IF(COUNTIF(U$2:U343,U343)=1,U343,\"\")","v":""},"","","",null,{"$f":"+IF(AH343=\"\",\"\",MAX(AC$1:AC342)+1)","v":""},{"$f":"IF(CMS_Detail!$B365=\"\",\"\",CMS_Detail!$B365)","v":""},{"$f":"IF(CMS_Detail!$C365=\"\",\"\",CMS_Detail!$C365)","v":""},null,"",{"$f":"IF(COUNTIF(AE$2:AE343,AE343)=1,AE343,\"\")","v":""},"","",""]
[null,null,null,null,null,null,null,null,null,null,null,null,null,null,null,null,null,null,{"$f":"+IF(X344=\"\",\"\",MAX(S$1:S343)+1)","v":""},{"$f":"IF(Emission_Limits_Details!$B366=\"\",\"\",Emission_Limits_Details!$B366)","v":""},{"$f":"IF(Emission_Limits_Details!$C366=\"\",\"\",Emission_Limits_Details!$C366)","v":""},null,"",{"$f":"IF(COUNTIF(U$2:U344,U344)=1,U344,\"\")","v":""},"","","",null,{"$f":"+IF(AH344=\"\",\"\",MAX(AC$1:AC343)+1)","v":""},{"$f":"IF(CMS_Detail!$B366=\"\",\"\",CMS_Detail!$B366)","v":""},{"$f":"IF(CMS_Detail!$C366=\"\",\"\",CMS_Detail!$C366)","v":""},null,"",{"$f":"IF(COUNTIF(AE$2:AE344,AE344)=1,AE344,\"\")","v":""},"","",""]
[null,null,null,null,null,null,null,null,null,null,null,null,null,null,null,null,null,null,{"$f":"+IF(X345=\"\",\"\",MAX(S$1:S344)+1)","v":""},{"$f":"IF(Emission_Limits_Details!$B367=\"\",\"\",Emission_Limits_Details!$B367)","v":""},{"$f":"IF(Emission_Limits_Details!$C367=\"\",\"\",Emission_Limits_Details!$C367)","v":""},null,"",{"$f":"IF(COUNTIF(U$2:U345,U345)=1,U345,\"\")","v":""},"","","",null,{"$f":"+IF(AH345=\"\",\"\",MAX(AC$1:AC344)+1)","v":""},{"$f":"IF(CMS_Detail!$B367=\"\",\"\",CMS_Detail!$B367)","v":""},{"$f":"IF(CMS_Detail!$C367=\"\",\"\",CMS_Detail!$C367)","v":""},null,"",{"$f":"IF(COUNTIF(AE$2:AE345,AE345)=1,AE345,\"\")","v":""},"","",""]
[null,null,null,null,null,null,null,null,null,null,null,null,null,null,null,null,null,null,{"$f":"+IF(X346=\"\",\"\",MAX(S$1:S345)+1)","v":""},{"$f":"IF(Emission_Limits_Details!$B368=\"\",\"\",Emission_Limits_Details!$B368)","v":""},{"$f":"IF(Emission_Limits_Details!$C368=\"\",\"\",Emission_Limits_Details!$C368)","v":""},null,"",{"$f":"IF(COUNTIF(U$2:U346,U346)=1,U346,\"\")","v":""},"","","",null,{"$f":"+IF(AH346=\"\",\"\",MAX(AC$1:AC345)+1)","v":""},{"$f":"IF(CMS_Detail!$B368=\"\",\"\",CMS_Detail!$B368)","v":""},{"$f":"IF(CMS_Detail!$C368=\"\",\"\",CMS_Detail!$C368)","v":""},null,"",{"$f":"IF(COUNTIF(AE$2:AE346,AE346)=1,AE346,\"\")","v":""},"","",""]
[null,null,null,null,null,null,null,null,null,null,null,null,null,null,null,null,null,null,{"$f":"+IF(X347=\"\",\"\",MAX(S$1:S346)+1)","v":""},{"$f":"IF(Emission_Limits_Details!$B369=\"\",\"\",Emission_Limits_Details!$B369)","v":""},{"$f":"IF(Emission_Limits_Details!$C369=\"\",\"\",Emission_Limits_Details!$C369)","v":""},null,"",{"$f":"IF(COUNTIF(U$2:U347,U347)=1,U347,\"\")","v":""},"","","",null,{"$f":"+IF(AH347=\"\",\"\",MAX(AC$1:AC346)+1)","v":""},{"$f":"IF(CMS_Detail!$B369=\"\",\"\",CMS_Detail!$B369)","v":""},{"$f":"IF(CMS_Detail!$C369=\"\",\"\",CMS_Detail!$C369)","v":""},null,"",{"$f":"IF(COUNTIF(AE$2:AE347,AE347)=1,AE347,\"\")","v":""},"","",""]
[null,null,null,null,null,null,null,null,null,null,null,null,null,null,null,null,null,null,{"$f":"+IF(X348=\"\",\"\",MAX(S$1:S347)+1)","v":""},{"$f":"IF(Emission_Limits_Details!$B370=\"\",\"\",Emission_Limits_Details!$B370)","v":""},{"$f":"IF(Emission_Limits_Details!$C370=\"\",\"\",Emission_Limits_Details!$C370)","v":""},null,"",{"$f":"IF(COUNTIF(U$2:U348,U348)=1,U348,\"\")","v":""},"","","",null,{"$f":"+IF(AH348=\"\",\"\",MAX(AC$1:AC347)+1)","v":""},{"$f":"IF(CMS_Detail!$B370=\"\",\"\",CMS_Detail!$B370)","v":""},{"$f":"IF(CMS_Detail!$C370=\"\",\"\",CMS_Detail!$C370)","v":""},null,"",{"$f":"IF(COUNTIF(AE$2:AE348,AE348)=1,AE348,\"\")","v":""},"","",""]
[null,null,null,null,null,null,null,null,null,null,null,null,null,null,null,null,null,null,{"$f":"+IF(X349=\"\",\"\",MAX(S$1:S348)+1)","v":""},{"$f":"IF(Emission_Limits_Details!$B371=\"\",\"\",Emission_Limits_Details!$B371)","v":""},{"$f":"IF(Emission_Limits_Details!$C371=\"\",\"\",Emission_Limits_Details!$C371)","v":""},null,"",{"$f":"IF(COUNTIF(U$2:U349,U349)=1,U349,\"\")","v":""},"","","",null,{"$f":"+IF(AH349=\"\",\"\",MAX(AC$1:AC348)+1)","v":""},{"$f":"IF(CMS_Detail!$B371=\"\",\"\",CMS_Detail!$B371)","v":""},{"$f":"IF(CMS_Detail!$C371=\"\",\"\",CMS_Detail!$C371)","v":""},null,"",{"$f":"IF(COUNTIF(AE$2:AE349,AE349)=1,AE349,\"\")","v":""},"","",""]
[null,null,null,null,null,null,null,null,null,null,null,null,null,null,null,null,null,null,{"$f":"+IF(X350=\"\",\"\",MAX(S$1:S349)+1)","v":""},{"$f":"IF(Emission_Limits_Details!$B372=\"\",\"\",Emission_Limits_Details!$B372)","v":""},{"$f":"IF(Emission_Limits_Details!$C372=\"\",\"\",Emission_Limits_Details!$C372)","v":""},null,"",{"$f":"IF(COUNTIF(U$2:U350,U350)=1,U350,\"\")","v":""},"","","",null,{"$f":"+IF(AH350=\"\",\"\",MAX(AC$1:AC349)+1)","v":""},{"$f":"IF(CMS_Detail!$B372=\"\",\"\",CMS_Detail!$B372)","v":""},{"$f":"IF(CMS_Detail!$C372=\"\",\"\",CMS_Detail!$C372)","v":""},null,"",{"$f":"IF(COUNTIF(AE$2:AE350,AE350)=1,AE350,\"\")","v":""},"","",""]
[null,null,null,null,null,null,null,null,null,null,null,null,null,null,null,null,null,null,{"$f":"+IF(X351=\"\",\"\",MAX(S$1:S350)+1)","v":""},{"$f":"IF(Emission_Limits_Details!$B373=\"\",\"\",Emission_Limits_Details!$B373)","v":""},{"$f":"IF(Emission_Limits_Details!$C373=\"\",\"\",Emission_Limits_Details!$C373)","v":""},null,"",{"$f":"IF(COUNTIF(U$2:U351,U351)=1,U351,\"\")","v":""},"","","",null,{"$f":"+IF(AH351=\"\",\"\",MAX(AC$1:AC350)+1)","v":""},{"$f":"IF(CMS_Detail!$B373=\"\",\"\",CMS_Detail!$B373)","v":""},{"$f":"IF(CMS_Detail!$C373=\"\",\"\",CMS_Detail!$C373)","v":""},null,"",{"$f":"IF(COUNTIF(AE$2:AE351,AE351)=1,AE351,\"\")","v":""},"","",""]
[null,null,null,null,null,null,null,null,null,null,null,null,null,null,null,null,null,null,{"$f":"+IF(X352=\"\",\"\",MAX(S$1:S351)+1)","v":""},{"$f":"IF(Emission_Limits_Details!$B374=\"\",\"\",Emission_Limits_Details!$B374)","v":""},{"$f":"IF(Emission_Limits_Details!$C374=\"\",\"\",Emission_Limits_Details!$C374)","v":""},null,"",{"$f":"IF(COUNTIF(U$2:U352,U352)=1,U352,\"\")","v":""},"","","",null,{"$f":"+IF(AH352=\"\",\"\",MAX(AC$1:AC351)+1)","v":""},{"$f":"IF(CMS_Detail!$B374=\"\",\"\",CMS_Detail!$B374)","v":""},{"$f":"IF(CMS_Detail!$C374=\"\",\"\",CMS_Detail!$C374)","v":""},null,"",{"$f":"IF(COUNTIF(AE$2:AE352,AE352)=1,AE352,\"\")","v":""},"","",""]
[null,null,null,null,null,null,null,null,null,null,null,null,null,null,null,null,null,null,{"$f":"+IF(X353=\"\",\"\",MAX(S$1:S352)+1)","v":""},{"$f":"IF(Emission_Limits_Details!$B375=\"\",\"\",Emission_Limits_Details!$B375)","v":""},{"$f":"IF(Emission_Limits_Details!$C375=\"\",\"\",Emission_Limits_Details!$C375)","v":""},null,"",{"$f":"IF(COUNTIF(U$2:U353,U353)=1,U353,\"\")","v":""},"","","",null,{"$f":"+IF(AH353=\"\",\"\",MAX(AC$1:AC352)+1)","v":""},{"$f":"IF(CMS_Detail!$B375=\"\",\"\",CMS_Detail!$B375)","v":""},{"$f":"IF(CMS_Detail!$C375=\"\",\"\",CMS_Detail!$C375)","v":""},null,"",{"$f":"IF(COUNTIF(AE$2:AE353,AE353)=1,AE353,\"\")","v":""},"","",""]
[null,null,null,null,null,null,null,null,null,null,null,null,null,null,null,null,null,null,{"$f":"+IF(X354=\"\",\"\",MAX(S$1:S353)+1)","v":""},{"$f":"IF(Emission_Limits_Details!$B376=\"\",\"\",Emission_Limits_Details!$B376)","v":""},{"$f":"IF(Emission_Limits_Details!$C376=\"\",\"\",Emission_Limits_Details!$C376)","v":""},null,"",{"$f":"IF(COUNTIF(U$2:U354,U354)=1,U354,\"\")","v":""},"","","",null,{"$f":"+IF(AH354=\"\",\"\",MAX(AC$1:AC353)+1)","v":""},{"$f":"IF(CMS_Detail!$B376=\"\",\"\",CMS_Detail!$B376)","v":""},{"$f":"IF(CMS_Detail!$C376=\"\",\"\",CMS_Detail!$C376)","v":""},null,"",{"$f":"IF(COUNTIF(AE$2:AE354,AE354)=1,AE354,\"\")","v":""},"","",""]
[null,null,null,null,null,null,null,null,null,null,null,null,null,null,null,null,null,null,{"$f":"+IF(X355=\"\",\"\",MAX(S$1:S354)+1)","v":""},{"$f":"IF(Emission_Limits_Details!$B377=\"\",\"\",Emission_Limits_Details!$B377)","v":""},{"$f":"IF(Emission_Limits_Details!$C377=\"\",\"\",Emission_Limits_Details!$C377)","v":""},null,"",{"$f":"IF(COUNTIF(U$2:U355,U355)=1,U355,\"\")","v":""},"","","",null,{"$f":"+IF(AH355=\"\",\"\",MAX(AC$1:AC354)+1)","v":""},{"$f":"IF(CMS_Detail!$B377=\"\",\"\",CMS_Detail!$B377)","v":""},{"$f":"IF(CMS_Detail!$C377=\"\",\"\",CMS_Detail!$C377)","v":""},null,"",{"$f":"IF(COUNTIF(AE$2:AE355,AE355)=1,AE355,\"\")","v":""},"","",""]
[null,null,null,null,null,null,null,null,null,null,null,null,null,null,null,null,null,null,{"$f":"+IF(X356=\"\",\"\",MAX(S$1:S355)+1)","v":""},{"$f":"IF(Emission_Limits_Details!$B378=\"\",\"\",Emission_Limits_Details!$B378)","v":""},{"$f":"IF(Emission_Limits_Details!$C378=\"\",\"\",Emission_Limits_Details!$C378)","v":""},null,"",{"$f":"IF(COUNTIF(U$2:U356,U356)=1,U356,\"\")","v":""},"","","",null,{"$f":"+IF(AH356=\"\",\"\",MAX(AC$1:AC355)+1)","v":""},{"$f":"IF(CMS_Detail!$B378=\"\",\"\",CMS_Detail!$B378)","v":""},{"$f":"IF(CMS_Detail!$C378=\"\",\"\",CMS_Detail!$C378)","v":""},null,"",{"$f":"IF(COUNTIF(AE$2:AE356,AE356)=1,AE356,\"\")","v":""},"","",""]
[null,null,null,null,null,null,null,null,null,null,null,null,null,null,null,null,null,null,{"$f":"+IF(X357=\"\",\"\",MAX(S$1:S356)+1)","v":""},{"$f":"IF(Emission_Limits_Details!$B379=\"\",\"\",Emission_Limits_Details!$B379)","v":""},{"$f":"IF(Emission_Limits_Details!$C379=\"\",\"\",Emission_Limits_Details!$C379)","v":""},null,"",{"$f":"IF(COUNTIF(U$2:U357,U357)=1,U357,\"\")","v":""},"","","",null,{"$f":"+IF(AH357=\"\",\"\",MAX(AC$1:AC356)+1)","v":""},{"$f":"IF(CMS_Detail!$B379=\"\",\"\",CMS_Detail!$B379)","v":""},{"$f":"IF(CMS_Detail!$C379=\"\",\"\",CMS_Detail!$C379)","v":""},null,"",{"$f":"IF(COUNTIF(AE$2:AE357,AE357)=1,AE357,\"\")","v":""},"","",""]
[null,null,null,null,null,null,null,null,null,null,null,null,null,null,null,null,null,null,{"$f":"+IF(X358=\"\",\"\",MAX(S$1:S357)+1)","v":""},{"$f":"IF(Emission_Limits_Details!$B380=\"\",\"\",Emission_Limits_Details!$B380)","v":""},{"$f":"IF(Emission_Limits_Details!$C380=\"\",\"\",Emission_Limits_Details!$C380)","v":""},null,"",{"$f":"IF(COUNTIF(U$2:U358,U358)=1,U358,\"\")","v":""},"","","",null,{"$f":"+IF(AH358=\"\",\"\",MAX(AC$1:AC357)+1)","v":""},{"$f":"IF(CMS_Detail!$B380=\"\",\"\",CMS_Detail!$B380)","v":""},{"$f":"IF(CMS_Detail!$C380=\"\",\"\",CMS_Detail!$C380)","v":""},null,"",{"$f":"IF(COUNTIF(AE$2:AE358,AE358)=1,AE358,\"\")","v":""},"","",""]
[null,null,null,null,null,null,null,null,null,null,null,null,null,null,null,null,null,null,{"$f":"+IF(X359=\"\",\"\",MAX(S$1:S358)+1)","v":""},{"$f":"IF(Emission_Limits_Details!$B381=\"\",\"\",Emission_Limits_Details!$B381)","v":""},{"$f":"IF(Emission_Limits_Details!$C381=\"\",\"\",Emission_Limits_Details!$C381)","v":""},null,"",{"$f":"IF(COUNTIF(U$2:U359,U359)=1,U359,\"\")","v":""},"","","",null,{"$f":"+IF(AH359=\"\",\"\",MAX(AC$1:AC358)+1)","v":""},{"$f":"IF(CMS_Detail!$B381=\"\",\"\",CMS_Detail!$B381)","v":""},{"$f":"IF(CMS_Detail!$C381=\"\",\"\",CMS_Detail!$C381)","v":""},null,"",{"$f":"IF(COUNTIF(AE$2:AE359,AE359)=1,AE359,\"\")","v":""},"","",""]
[null,null,null,null,null,null,null,null,null,null,null,null,null,null,null,null,null,null,{"$f":"+IF(X360=\"\",\"\",MAX(S$1:S359)+1)","v":""},{"$f":"IF(Emission_Limits_Details!$B382=\"\",\"\",Emission_Limits_Details!$B382)","v":""},{"$f":"IF(Emission_Limits_Details!$C382=\"\",\"\",Emission_Limits_Details!$C382)","v":""},null,"",{"$f":"IF(COUNTIF(U$2:U360,U360)=1,U360,\"\")","v":""},"","","",null,{"$f":"+IF(AH360=\"\",\"\",MAX(AC$1:AC359)+1)","v":""},{"$f":"IF(CMS_Detail!$B382=\"\",\"\",CMS_Detail!$B382)","v":""},{"$f":"IF(CMS_Detail!$C382=\"\",\"\",CMS_Detail!$C382)","v":""},null,"",{"$f":"IF(COUNTIF(AE$2:AE360,AE360)=1,AE360,\"\")","v":""},"","",""]
[null,null,null,null,null,null,null,null,null,null,null,null,null,null,null,null,null,null,{"$f":"+IF(X361=\"\",\"\",MAX(S$1:S360)+1)","v":""},{"$f":"IF(Emission_Limits_Details!$B383=\"\",\"\",Emission_Limits_Details!$B383)","v":""},{"$f":"IF(Emission_Limits_Details!$C383=\"\",\"\",Emission_Limits_Details!$C383)","v":""},null,"",{"$f":"IF(COUNTIF(U$2:U361,U361)=1,U361,\"\")","v":""},"","","",null,{"$f":"+IF(AH361=\"\",\"\",MAX(AC$1:AC360)+1)","v":""},{"$f":"IF(CMS_Detail!$B383=\"\",\"\",CMS_Detail!$B383)","v":""},{"$f":"IF(CMS_Detail!$C383=\"\",\"\",CMS_Detail!$C383)","v":""},null,"",{"$f":"IF(COUNTIF(AE$2:AE361,AE361)=1,AE361,\"\")","v":""},"","",""]
[null,null,null,null,null,null,null,null,null,null,null,null,null,null,null,null,null,null,{"$f":"+IF(X362=\"\",\"\",MAX(S$1:S361)+1)","v":""},{"$f":"IF(Emission_Limits_Details!$B384=\"\",\"\",Emission_Limits_Details!$B384)","v":""},{"$f":"IF(Emission_Limits_Details!$C384=\"\",\"\",Emission_Limits_Details!$C384)","v":""},null,"",{"$f":"IF(COUNTIF(U$2:U362,U362)=1,U362,\"\")","v":""},"","","",null,{"$f":"+IF(AH362=\"\",\"\",MAX(AC$1:AC361)+1)","v":""},{"$f":"IF(CMS_Detail!$B384=\"\",\"\",CMS_Detail!$B384)","v":""},{"$f":"IF(CMS_Detail!$C384=\"\",\"\",CMS_Detail!$C384)","v":""},null,"",{"$f":"IF(COUNTIF(AE$2:AE362,AE362)=1,AE362,\"\")","v":""},"","",""]
[null,null,null,null,null,null,null,null,null,null,null,null,null,null,null,null,null,null,{"$f":"+IF(X363=\"\",\"\",MAX(S$1:S362)+1)","v":""},{"$f":"IF(Emission_Limits_Details!$B385=\"\",\"\",Emission_Limits_Details!$B385)","v":""},{"$f":"IF(Emission_Limits_Details!$C385=\"\",\"\",Emission_Limits_Details!$C385)","v":""},null,"",{"$f":"IF(COUNTIF(U$2:U363,U363)=1,U363,\"\")","v":""},"","","",null,{"$f":"+IF(AH363=\"\",\"\",MAX(AC$1:AC362)+1)","v":""},{"$f":"IF(CMS_Detail!$B385=\"\",\"\",CMS_Detail!$B385)","v":""},{"$f":"IF(CMS_Detail!$C385=\"\",\"\",CMS_Detail!$C385)","v":""},null,"",{"$f":"IF(COUNTIF(AE$2:AE363,AE363)=1,AE363,\"\")","v":""},"","",""]
[null,null,null,null,null,null,null,null,null,null,null,null,null,null,null,null,null,null,{"$f":"+IF(X364=\"\",\"\",MAX(S$1:S363)+1)","v":""},{"$f":"IF(Emission_Limits_Details!$B386=\"\",\"\",Emission_Limits_Details!$B386)","v":""},{"$f":"IF(Emission_Limits_Details!$C386=\"\",\"\",Emission_Limits_Details!$C386)","v":""},null,"",{"$f":"IF(COUNTIF(U$2:U364,U364)=1,U364,\"\")","v":""},"","","",null,{"$f":"+IF(AH364=\"\",\"\",MAX(AC$1:AC363)+1)","v":""},{"$f":"IF(CMS_Detail!$B386=\"\",\"\",CMS_Detail!$B386)","v":""},{"$f":"IF(CMS_Detail!$C386=\"\",\"\",CMS_Detail!$C386)","v":""},null,"",{"$f":"IF(COUNTIF(AE$2:AE364,AE364)=1,AE364,\"\")","v":""},"","",""]
[null,null,null,null,null,null,null,null,null,null,null,null,null,null,null,null,null,null,{"$f":"+IF(X365=\"\",\"\",MAX(S$1:S364)+1)","v":""},{"$f":"IF(Emission_Limits_Details!$B387=\"\",\"\",Emission_Limits_Details!$B387)","v":""},{"$f":"IF(Emission_Limits_Details!$C387=\"\",\"\",Emission_Limits_Details!$C387)","v":""},null,"",{"$f":"IF(COUNTIF(U$2:U365,U365)=1,U365,\"\")","v":""},"","","",null,{"$f":"+IF(AH365=\"\",\"\",MAX(AC$1:AC364)+1)","v":""},{"$f":"IF(CMS_Detail!$B387=\"\",\"\",CMS_Detail!$B387)","v":""},{"$f":"IF(CMS_Detail!$C387=\"\",\"\",CMS_Detail!$C387)","v":""},null,"",{"$f":"IF(COUNTIF(AE$2:AE365,AE365)=1,AE365,\"\")","v":""},"","",""]
[null,null,null,null,null,null,null,null,null,null,null,null,null,null,null,null,null,null,{"$f":"+IF(X366=\"\",\"\",MAX(S$1:S365)+1)","v":""},{"$f":"IF(Emission_Limits_Details!$B388=\"\",\"\",Emission_Limits_Details!$B388)","v":""},{"$f":"IF(Emission_Limits_Details!$C388=\"\",\"\",Emission_Limits_Details!$C388)","v":""},null,"",{"$f":"IF(COUNTIF(U$2:U366,U366)=1,U366,\"\")","v":""},"","","",null,{"$f":"+IF(AH366=\"\",\"\",MAX(AC$1:AC365)+1)","v":""},{"$f":"IF(CMS_Detail!$B388=\"\",\"\",CMS_Detail!$B388)","v":""},{"$f":"IF(CMS_Detail!$C388=\"\",\"\",CMS_Detail!$C388)","v":""},null,"",{"$f":"IF(COUNTIF(AE$2:AE366,AE366)=1,AE366,\"\")","v":""},"","",""]
[null,null,null,null,null,null,null,null,null,null,null,null,null,null,null,null,null,null,{"$f":"+IF(X367=\"\",\"\",MAX(S$1:S366)+1)","v":""},{"$f":"IF(Emission_Limits_Details!$B389=\"\",\"\",Emission_Limits_Details!$B389)","v":""},{"$f":"IF(Emission_Limits_Details!$C389=\"\",\"\",Emission_Limits_Details!$C389)","v":""},null,"",{"$f":"IF(COUNTIF(U$2:U367,U367)=1,U367,\"\")","v":""},"","","",null,{"$f":"+IF(AH367=\"\",\"\",MAX(AC$1:AC366)+1)","v":""},{"$f":"IF(CMS_Detail!$B389=\"\",\"\",CMS_Detail!$B389)","v":""},{"$f":"IF(CMS_Detail!$C389=\"\",\"\",CMS_Detail!$C389)","v":""},null,"",{"$f":"IF(COUNTIF(AE$2:AE367,AE367)=1,AE367,\"\")","v":""},"","",""]
[null,null,null,null,null,null,null,null,null,null,null,null,null,null,null,null,null,null,{"$f":"+IF(X368=\"\",\"\",MAX(S$1:S367)+1)","v":""},{"$f":"IF(Emission_Limits_Details!$B390=\"\",\"\",Emission_Limits_Details!$B390)","v":""},{"$f":"IF(Emission_Limits_Details!$C390=\"\",\"\",Emission_Limits_Details!$C390)","v":""},null,"",{"$f":"IF(COUNTIF(U$2:U368,U368)=1,U368,\"\")","v":""},"","","",null,{"$f":"+IF(AH368=\"\",\"\",MAX(AC$1:AC367)+1)","v":""},{"$f":"IF(CMS_Detail!$B390=\"\",\"\",CMS_Detail!$B390)","v":""},{"$f":"IF(CMS_Detail!$C390=\"\",\"\",CMS_Detail!$C390)","v":""},null,"",{"$f":"IF(COUNTIF(AE$2:AE368,AE368)=1,AE368,\"\")","v":""},"","",""]
[null,null,null,null,null,null,null,null,null,null,null,null,null,null,null,null,null,null,{"$f":"+IF(X369=\"\",\"\",MAX(S$1:S368)+1)","v":""},{"$f":"IF(Emission_Limits_Details!$B391=\"\",\"\",Emission_Limits_Details!$B391)","v":""},{"$f":"IF(Emission_Limits_Details!$C391=\"\",\"\",Emission_Limits_Details!$C391)","v":""},null,"",{"$f":"IF(COUNTIF(U$2:U369,U369)=1,U369,\"\")","v":""},"","","",null,{"$f":"+IF(AH369=\"\",\"\",MAX(AC$1:AC368)+1)","v":""},{"$f":"IF(CMS_Detail!$B391=\"\",\"\",CMS_Detail!$B391)","v":""},{"$f":"IF(CMS_Detail!$C391=\"\",\"\",CMS_Detail!$C391)","v":""},null,"",{"$f":"IF(COUNTIF(AE$2:AE369,AE369)=1,AE369,\"\")","v":""},"","",""]
[null,null,null,null,null,null,null,null,null,null,null,null,null,null,null,null,null,null,{"$f":"+IF(X370=\"\",\"\",MAX(S$1:S369)+1)","v":""},{"$f":"IF(Emission_Limits_Details!$B392=\"\",\"\",Emission_Limits_Details!$B392)","v":""},{"$f":"IF(Emission_Limits_Details!$C392=\"\",\"\",Emission_Limits_Details!$C392)","v":""},null,"",{"$f":"IF(COUNTIF(U$2:U370,U370)=1,U370,\"\")","v":""},"","","",null,{"$f":"+IF(AH370=\"\",\"\",MAX(AC$1:AC369)+1)","v":""},{"$f":"IF(CMS_Detail!$B392=\"\",\"\",CMS_Detail!$B392)","v":""},{"$f":"IF(CMS_Detail!$C392=\"\",\"\",CMS_Detail!$C392)","v":""},null,"",{"$f":"IF(COUNTIF(AE$2:AE370,AE370)=1,AE370,\"\")","v":""},"","",""]
[null,null,null,null,null,null,null,null,null,null,null,null,null,null,null,null,null,null,{"$f":"+IF(X371=\"\",\"\",MAX(S$1:S370)+1)","v":""},{"$f":"IF(Emission_Limits_Details!$B393=\"\",\"\",Emission_Limits_Details!$B393)","v":""},{"$f":"IF(Emission_Limits_Details!$C393=\"\",\"\",Emission_Limits_Details!$C393)","v":""},null,"",{"$f":"IF(COUNTIF(U$2:U371,U371)=1,U371,\"\")","v":""},"","","",null,{"$f":"+IF(AH371=\"\",\"\",MAX(AC$1:AC370)+1)","v":""},{"$f":"IF(CMS_Detail!$B393=\"\",\"\",CMS_Detail!$B393)","v":""},{"$f":"IF(CMS_Detail!$C393=\"\",\"\",CMS_Detail!$C393)","v":""},null,"",{"$f":"IF(COUNTIF(AE$2:AE371,AE371)=1,AE371,\"\")","v":""},"","",""]
[null,null,null,null,null,null,null,null,null,null,null,null,null,null,null,null,null,null,{"$f":"+IF(X372=\"\",\"\",MAX(S$1:S371)+1)","v":""},{"$f":"IF(Emission_Limits_Details!$B394=\"\",\"\",Emission_Limits_Details!$B394)","v":""},{"$f":"IF(Emission_Limits_Details!$C394=\"\",\"\",Emission_Limits_Details!$C394)","v":""},null,"",{"$f":"IF(COUNTIF(U$2:U372,U372)=1,U372,\"\")","v":""},"","","",null,{"$f":"+IF(AH372=\"\",\"\",MAX(AC$1:AC371)+1)","v":""},{"$f":"IF(CMS_Detail!$B394=\"\",\"\",CMS_Detail!$B394)","v":""},{"$f":"IF(CMS_Detail!$C394=\"\",\"\",CMS_Detail!$C394)","v":""},null,"",{"$f":"IF(COUNTIF(AE$2:AE372,AE372)=1,AE372,\"\")","v":""},"","",""]
[null,null,null,null,null,null,null,null,null,null,null,null,null,null,null,null,null,null,{"$f":"+IF(X373=\"\",\"\",MAX(S$1:S372)+1)","v":""},{"$f":"IF(Emission_Limits_Details!$B395=\"\",\"\",Emission_Limits_Details!$B395)","v":""},{"$f":"IF(Emission_Limits_Details!$C395=\"\",\"\",Emission_Limits_Details!$C395)","v":""},null,"",{"$f":"IF(COUNTIF(U$2:U373,U373)=1,U373,\"\")","v":""},"","","",null,{"$f":"+IF(AH373=\"\",\"\",MAX(AC$1:AC372)+1)","v":""},{"$f":"IF(CMS_Detail!$B395=\"\",\"\",CMS_Detail!$B395)","v":""},{"$f":"IF(CMS_Detail!$C395=\"\",\"\",CMS_Detail!$C395)","v":""},null,"",{"$f":"IF(COUNTIF(AE$2:AE373,AE373)=1,AE373,\"\")","v":""},"","",""]
[null,null,null,null,null,null,null,null,null,null,null,null,null,null,null,null,null,null,{"$f":"+IF(X374=\"\",\"\",MAX(S$1:S373)+1)","v":""},{"$f":"IF(Emission_Limits_Details!$B396=\"\",\"\",Emission_Limits_Details!$B396)","v":""},{"$f":"IF(Emission_Limits_Details!$C396=\"\",\"\",Emission_Limits_Details!$C396)","v":""},null,"",{"$f":"IF(COUNTIF(U$2:U374,U374)=1,U374,\"\")","v":""},"","","",null,{"$f":"+IF(AH374=\"\",\"\",MAX(AC$1:AC373)+1)","v":""},{"$f":"IF(CMS_Detail!$B396=\"\",\"\",CMS_Detail!$B396)","v":""},{"$f":"IF(CMS_Detail!$C396=\"\",\"\",CMS_Detail!$C396)","v":""},null,"",{"$f":"IF(COUNTIF(AE$2:AE374,AE374)=1,AE374,\"\")","v":""},"","",""]
[null,null,null,null,null,null,null,null,null,null,null,null,null,null,null,null,null,null,{"$f":"+IF(X375=\"\",\"\",MAX(S$1:S374)+1)","v":""},{"$f":"IF(Emission_Limits_Details!$B397=\"\",\"\",Emission_Limits_Details!$B397)","v":""},{"$f":"IF(Emission_Limits_Details!$C397=\"\",\"\",Emission_Limits_Details!$C397)","v":""},null,"",{"$f":"IF(COUNTIF(U$2:U375,U375)=1,U375,\"\")","v":""},"","","",null,{"$f":"+IF(AH375=\"\",\"\",MAX(AC$1:AC374)+1)","v":""},{"$f":"IF(CMS_Detail!$B397=\"\",\"\",CMS_Detail!$B397)","v":""},{"$f":"IF(CMS_Detail!$C397=\"\",\"\",CMS_Detail!$C397)","v":""},null,"",{"$f":"IF(COUNTIF(AE$2:AE375,AE375)=1,AE375,\"\")","v":""},"","",""]
[null,null,null,null,null,null,null,null,null,null,null,null,null,null,null,null,null,null,{"$f":"+IF(X376=\"\",\"\",MAX(S$1:S375)+1)","v":""},{"$f":"IF(Emission_Limits_Details!$B398=\"\",\"\",Emission_Limits_Details!$B398)","v":""},{"$f":"IF(Emission_Limits_Details!$C398=\"\",\"\",Emission_Limits_Details!$C398)","v":""},null,"",{"$f":"IF(COUNTIF(U$2:U376,U376)=1,U376,\"\")","v":""},"","","",null,{"$f":"+IF(AH376=\"\",\"\",MAX(AC$1:AC375)+1)","v":""},{"$f":"IF(CMS_Detail!$B398=\"\",\"\",CMS_Detail!$B398)","v":""},{"$f":"IF(CMS_Detail!$C398=\"\",\"\",CMS_Detail!$C398)","v":""},null,"",{"$f":"IF(COUNTIF(AE$2:AE376,AE376)=1,AE376,\"\")","v":""},"","",""]
[null,null,null,null,null,null,null,null,null,null,null,null,null,null,null,null,null,null,{"$f":"+IF(X377=\"\",\"\",MAX(S$1:S376)+1)","v":""},{"$f":"IF(Emission_Limits_Details!$B399=\"\",\"\",Emission_Limits_Details!$B399)","v":""},{"$f":"IF(Emission_Limits_Details!$C399=\"\",\"\",Emission_Limits_Details!$C399)","v":""},null,"",{"$f":"IF(COUNTIF(U$2:U377,U377)=1,U377,\"\")","v":""},"","","",null,{"$f":"+IF(AH377=\"\",\"\",MAX(AC$1:AC376)+1)","v":""},{"$f":"IF(CMS_Detail!$B399=\"\",\"\",CMS_Detail!$B399)","v":""},{"$f":"IF(CMS_Detail!$C399=\"\",\"\",CMS_Detail!$C399)","v":""},null,"",{"$f":"IF(COUNTIF(AE$2:AE377,AE377)=1,AE377,\"\")","v":""},"","",""]
[null,null,null,null,null,null,null,null,null,null,null,null,null,null,null,null,null,null,{"$f":"+IF(X378=\"\",\"\",MAX(S$1:S377)+1)","v":""},{"$f":"IF(Emission_Limits_Details!$B400=\"\",\"\",Emission_Limits_Details!$B400)","v":""},{"$f":"IF(Emission_Limits_Details!$C400=\"\",\"\",Emission_Limits_Details!$C400)","v":""},null,"",{"$f":"IF(COUNTIF(U$2:U378,U378)=1,U378,\"\")","v":""},"","","",null,{"$f":"+IF(AH378=\"\",\"\",MAX(AC$1:AC377)+1)","v":""},{"$f":"IF(CMS_Detail!$B400=\"\",\"\",CMS_Detail!$B400)","v":""},{"$f":"IF(CMS_Detail!$C400=\"\",\"\",CMS_Detail!$C400)","v":""},null,"",{"$f":"IF(COUNTIF(AE$2:AE378,AE378)=1,AE378,\"\")","v":""},"","",""]
[null,null,null,null,null,null,null,null,null,null,null,null,null,null,null,null,null,null,{"$f":"+IF(X379=\"\",\"\",MAX(S$1:S378)+1)","v":""},{"$f":"IF(Emission_Limits_Details!$B401=\"\",\"\",Emission_Limits_Details!$B401)","v":""},{"$f":"IF(Emission_Limits_Details!$C401=\"\",\"\",Emission_Limits_Details!$C401)","v":""},null,"",{"$f":"IF(COUNTIF(U$2:U379,U379)=1,U379,\"\")","v":""},"","","",null,{"$f":"+IF(AH379=\"\",\"\",MAX(AC$1:AC378)+1)","v":""},{"$f":"IF(CMS_Detail!$B401=\"\",\"\",CMS_Detail!$B401)","v":""},{"$f":"IF(CMS_Detail!$C401=\"\",\"\",CMS_Detail!$C401)","v":""},null,"",{"$f":"IF(COUNTIF(AE$2:AE379,AE379)=1,AE379,\"\")","v":""},"","",""]
[null,null,null,null,null,null,null,null,null,null,null,null,null,null,null,null,null,null,{"$f":"+IF(X380=\"\",\"\",MAX(S$1:S379)+1)","v":""},{"$f":"IF(Emission_Limits_Details!$B402=\"\",\"\",Emission_Limits_Details!$B402)","v":""},{"$f":"IF(Emission_Limits_Details!$C402=\"\",\"\",Emission_Limits_Details!$C402)","v":""},null,"",{"$f":"IF(COUNTIF(U$2:U380,U380)=1,U380,\"\")","v":""},"","","",null,{"$f":"+IF(AH380=\"\",\"\",MAX(AC$1:AC379)+1)","v":""},{"$f":"IF(CMS_Detail!$B402=\"\",\"\",CMS_Detail!$B402)","v":""},{"$f":"IF(CMS_Detail!$C402=\"\",\"\",CMS_Detail!$C402)","v":""},null,"",{"$f":"IF(COUNTIF(AE$2:AE380,AE380)=1,AE380,\"\")","v":""},"","",""]
[null,null,null,null,null,null,null,null,null,null,null,null,null,null,null,null,null,null,{"$f":"+IF(X381=\"\",\"\",MAX(S$1:S380)+1)","v":""},{"$f":"IF(Emission_Limits_Details!$B403=\"\",\"\",Emission_Limits_Details!$B403)","v":""},{"$f":"IF(Emission_Limits_Details!$C403=\"\",\"\",Emission_Limits_Details!$C403)","v":""},null,"",{"$f":"IF(COUNTIF(U$2:U381,U381)=1,U381,\"\")","v":""},"","","",null,{"$f":"+IF(AH381=\"\",\"\",MAX(AC$1:AC380)+1)","v":""},{"$f":"IF(CMS_Detail!$B403=\"\",\"\",CMS_Detail!$B403)","v":""},{"$f":"IF(CMS_Detail!$C403=\"\",\"\",CMS_Detail!$C403)","v":""},null,"",{"$f":"IF(COUNTIF(AE$2:AE381,AE381)=1,AE381,\"\")","v":""},"","",""]
[null,null,null,null,null,null,null,null,null,null,null,null,null,null,null,null,null,null,{"$f":"+IF(X382=\"\",\"\",MAX(S$1:S381)+1)","v":""},{"$f":"IF(Emission_Limits_Details!$B404=\"\",\"\",Emission_Limits_Details!$B404)","v":""},{"$f":"IF(Emission_Limits_Details!$C404=\"\",\"\",Emission_Limits_Details!$C404)","v":""},null,"",{"$f":"IF(COUNTIF(U$2:U382,U382)=1,U382,\"\")","v":""},"","","",null,{"$f":"+IF(AH382=\"\",\"\",MAX(AC$1:AC381)+1)","v":""},{"$f":"IF(CMS_Detail!$B404=\"\",\"\",CMS_Detail!$B404)","v":""},{"$f":"IF(CMS_Detail!$C404=\"\",\"\",CMS_Detail!$C404)","v":""},null,"",{"$f":"IF(COUNTIF(AE$2:AE382,AE382)=1,AE382,\"\")","v":""},"","",""]
[null,null,null,null,null,null,null,null,null,null,null,null,null,null,null,null,null,null,{"$f":"+IF(X383=\"\",\"\",MAX(S$1:S382)+1)","v":""},{"$f":"IF(Emission_Limits_Details!$B405=\"\",\"\",Emission_Limits_Details!$B405)","v":""},{"$f":"IF(Emission_Limits_Details!$C405=\"\",\"\",Emission_Limits_Details!$C405)","v":""},null,"",{"$f":"IF(COUNTIF(U$2:U383,U383)=1,U383,\"\")","v":""},"","","",null,{"$f":"+IF(AH383=\"\",\"\",MAX(AC$1:AC382)+1)","v":""},{"$f":"IF(CMS_Detail!$B405=\"\",\"\",CMS_Detail!$B405)","v":""},{"$f":"IF(CMS_Detail!$C405=\"\",\"\",CMS_Detail!$C405)","v":""},null,"",{"$f":"IF(COUNTIF(AE$2:AE383,AE383)=1,AE383,\"\")","v":""},"","",""]
[null,null,null,null,null,null,null,null,null,null,null,null,null,null,null,null,null,null,{"$f":"+IF(X384=\"\",\"\",MAX(S$1:S383)+1)","v":""},{"$f":"IF(Emission_Limits_Details!$B406=\"\",\"\",Emission_Limits_Details!$B406)","v":""},{"$f":"IF(Emission_Limits_Details!$C406=\"\",\"\",Emission_Limits_Details!$C406)","v":""},null,"",{"$f":"IF(COUNTIF(U$2:U384,U384)=1,U384,\"\")","v":""},"","","",null,{"$f":"+IF(AH384=\"\",\"\",MAX(AC$1:AC383)+1)","v":""},{"$f":"IF(CMS_Detail!$B406=\"\",\"\",CMS_Detail!$B406)","v":""},{"$f":"IF(CMS_Detail!$C406=\"\",\"\",CMS_Detail!$C406)","v":""},null,"",{"$f":"IF(COUNTIF(AE$2:AE384,AE384)=1,AE384,\"\")","v":""},"","",""]
[null,null,null,null,null,null,null,null,null,null,null,null,null,null,null,null,null,null,{"$f":"+IF(X385=\"\",\"\",MAX(S$1:S384)+1)","v":""},{"$f":"IF(Emission_Limits_Details!$B407=\"\",\"\",Emission_Limits_Details!$B407)","v":""},{"$f":"IF(Emission_Limits_Details!$C407=\"\",\"\",Emission_Limits_Details!$C407)","v":""},null,"",{"$f":"IF(COUNTIF(U$2:U385,U385)=1,U385,\"\")","v":""},"","","",null,{"$f":"+IF(AH385=\"\",\"\",MAX(AC$1:AC384)+1)","v":""},{"$f":"IF(CMS_Detail!$B407=\"\",\"\",CMS_Detail!$B407)","v":""},{"$f":"IF(CMS_Detail!$C407=\"\",\"\",CMS_Detail!$C407)","v":""},null,"",{"$f":"IF(COUNTIF(AE$2:AE385,AE385)=1,AE385,\"\")","v":""},"","",""]
[null,null,null,null,null,null,null,null,null,null,null,null,null,null,null,null,null,null,{"$f":"+IF(X386=\"\",\"\",MAX(S$1:S385)+1)","v":""},{"$f":"IF(Emission_Limits_Details!$B408=\"\",\"\",Emission_Limits_Details!$B408)","v":""},{"$f":"IF(Emission_Limits_Details!$C408=\"\",\"\",Emission_Limits_Details!$C408)","v":""},null,"",{"$f":"IF(COUNTIF(U$2:U386,U386)=1,U386,\"\")","v":""},"","","",null,{"$f":"+IF(AH386=\"\",\"\",MAX(AC$1:AC385)+1)","v":""},{"$f":"IF(CMS_Detail!$B408=\"\",\"\",CMS_Detail!$B408)","v":""},{"$f":"IF(CMS_Detail!$C408=\"\",\"\",CMS_Detail!$C408)","v":""},null,"",{"$f":"IF(COUNTIF(AE$2:AE386,AE386)=1,AE386,\"\")","v":""},"","",""]
[null,null,null,null,null,null,null,null,null,null,null,null,null,null,null,null,null,null,{"$f":"+IF(X387=\"\",\"\",MAX(S$1:S386)+1)","v":""},{"$f":"IF(Emission_Limits_Details!$B409=\"\",\"\",Emission_Limits_Details!$B409)","v":""},{"$f":"IF(Emission_Limits_Details!$C409=\"\",\"\",Emission_Limits_Details!$C409)","v":""},null,{"$f":"T387&U387&V387","v":""},{"$f":"IF(COUNTIF(U$2:U387,U387)=1,U387,\"\")","v":""},{"$f":"+IFERROR(INDEX(T$2:T$955,MATCH(ROW()-ROW(X$1),S$2:S$955,0)),\"\")","v":""},{"$f":"+IFERROR(INDEX(U$2:U$955,MATCH(ROW()-ROW(X$1),S$2:S$955,0)),\"\")","v":""},{"$f":"+IFERROR(INDEX(V$2:V$955,MATCH(ROW()-ROW(Y$1),S$2:S$955,0)),\"\")","v":""},null,{"$f":"+IF(AH387=\"\",\"\",MAX(AC$1:AC386)+1)","v":""},{"$f":"IF(CMS_Detail!$B409=\"\",\"\",CMS_Detail!$B409)","v":""},{"$f":"IF(CMS_Detail!$C409=\"\",\"\",CMS_Detail!$C409)","v":""},null,{"$f":"AD387&AE387&AF387","v":""},{"$f":"IF(COUNTIF(AE$2:AE387,AE387)=1,AE387,\"\")","v":""},{"$f":"+IFERROR(INDEX(AD$2:AD$955,MATCH(ROW()-ROW(AH$1),AC$2:AC$955,0)),\"\")","v":""},{"$f":"+IFERROR(INDEX(AE$2:AE$955,MATCH(ROW()-ROW(AH$1),AC$2:AC$955,0)),\"\")","v":""},{"$f":"+IFERROR(INDEX(AF$2:AF$955,MATCH(ROW()-ROW(AI$1),AC$2:AC$955,0)),\"\")","v":""}]
[null,null,null,null,null,null,null,null,null,null,null,null,null,null,null,null,null,null,{"$f":"+IF(X388=\"\",\"\",MAX(S$1:S387)+1)","v":""},{"$f":"IF(Emission_Limits_Details!$B410=\"\",\"\",Emission_Limits_Details!$B410)","v":""},{"$f":"IF(Emission_Limits_Details!$C410=\"\",\"\",Emission_Limits_Details!$C410)","v":""},null,"",{"$f":"IF(COUNTIF(U$2:U388,U388)=1,U388,\"\")","v":""},"","","",null,{"$f":"+IF(AH388=\"\",\"\",MAX(AC$1:AC387)+1)","v":""},{"$f":"IF(CMS_Detail!$B410=\"\",\"\",CMS_Detail!$B410)","v":""},{"$f":"IF(CMS_Detail!$C410=\"\",\"\",CMS_Detail!$C410)","v":""},null,"",{"$f":"IF(COUNTIF(AE$2:AE388,AE388)=1,AE388,\"\")","v":""},"","",""]
[null,null,null,null,null,null,null,null,null,null,null,null,null,null,null,null,null,null,{"$f":"+IF(X389=\"\",\"\",MAX(S$1:S388)+1)","v":""},{"$f":"IF(Emission_Limits_Details!$B411=\"\",\"\",Emission_Limits_Details!$B411)","v":""},{"$f":"IF(Emission_Limits_Details!$C411=\"\",\"\",Emission_Limits_Details!$C411)","v":""},null,"",{"$f":"IF(COUNTIF(U$2:U389,U389)=1,U389,\"\")","v":""},"","","",null,{"$f":"+IF(AH389=\"\",\"\",MAX(AC$1:AC388)+1)","v":""},{"$f":"IF(CMS_Detail!$B411=\"\",\"\",CMS_Detail!$B411)","v":""},{"$f":"IF(CMS_Detail!$C411=\"\",\"\",CMS_Detail!$C411)","v":""},null,"",{"$f":"IF(COUNTIF(AE$2:AE389,AE389)=1,AE389,\"\")","v":""},"","",""]
[null,null,null,null,null,null,null,null,null,null,null,null,null,null,null,null,null,null,{"$f":"+IF(X390=\"\",\"\",MAX(S$1:S389)+1)","v":""},{"$f":"IF(Emission_Limits_Details!$B412=\"\",\"\",Emission_Limits_Details!$B412)","v":""},{"$f":"IF(Emission_Limits_Details!$C412=\"\",\"\",Emission_Limits_Details!$C412)","v":""},null,"",{"$f":"IF(COUNTIF(U$2:U390,U390)=1,U390,\"\")","v":""},"","","",null,{"$f":"+IF(AH390=\"\",\"\",MAX(AC$1:AC389)+1)","v":""},{"$f":"IF(CMS_Detail!$B412=\"\",\"\",CMS_Detail!$B412)","v":""},{"$f":"IF(CMS_Detail!$C412=\"\",\"\",CMS_Detail!$C412)","v":""},null,"",{"$f":"IF(COUNTIF(AE$2:AE390,AE390)=1,AE390,\"\")","v":""},"","",""]
[null,null,null,null,null,null,null,null,null,null,null,null,null,null,null,null,null,null,{"$f":"+IF(X391=\"\",\"\",MAX(S$1:S390)+1)","v":""},{"$f":"IF(Emission_Limits_Details!$B413=\"\",\"\",Emission_Limits_Details!$B413)","v":""},{"$f":"IF(Emission_Limits_Details!$C413=\"\",\"\",Emission_Limits_Details!$C413)","v":""},null,"",{"$f":"IF(COUNTIF(U$2:U391,U391)=1,U391,\"\")","v":""},"","","",null,{"$f":"+IF(AH391=\"\",\"\",MAX(AC$1:AC390)+1)","v":""},{"$f":"IF(CMS_Detail!$B413=\"\",\"\",CMS_Detail!$B413)","v":""},{"$f":"IF(CMS_Detail!$C413=\"\",\"\",CMS_Detail!$C413)","v":""},null,"",{"$f":"IF(COUNTIF(AE$2:AE391,AE391)=1,AE391,\"\")","v":""},"","",""]
[null,null,null,null,null,null,null,null,null,null,null,null,null,null,null,null,null,null,{"$f":"+IF(X392=\"\",\"\",MAX(S$1:S391)+1)","v":""},{"$f":"IF(Emission_Limits_Details!$B414=\"\",\"\",Emission_Limits_Details!$B414)","v":""},{"$f":"IF(Emission_Limits_Details!$C414=\"\",\"\",Emission_Limits_Details!$C414)","v":""},null,"",{"$f":"IF(COUNTIF(U$2:U392,U392)=1,U392,\"\")","v":""},"","","",null,{"$f":"+IF(AH392=\"\",\"\",MAX(AC$1:AC391)+1)","v":""},{"$f":"IF(CMS_Detail!$B414=\"\",\"\",CMS_Detail!$B414)","v":""},{"$f":"IF(CMS_Detail!$C414=\"\",\"\",CMS_Detail!$C414)","v":""},null,"",{"$f":"IF(COUNTIF(AE$2:AE392,AE392)=1,AE392,\"\")","v":""},"","",""]
[null,null,null,null,null,null,null,null,null,null,null,null,null,null,null,null,null,null,{"$f":"+IF(X393=\"\",\"\",MAX(S$1:S392)+1)","v":""},{"$f":"IF(Emission_Limits_Details!$B415=\"\",\"\",Emission_Limits_Details!$B415)","v":""},{"$f":"IF(Emission_Limits_Details!$C415=\"\",\"\",Emission_Limits_Details!$C415)","v":""},null,"",{"$f":"IF(COUNTIF(U$2:U393,U393)=1,U393,\"\")","v":""},"","","",null,{"$f":"+IF(AH393=\"\",\"\",MAX(AC$1:AC392)+1)","v":""},{"$f":"IF(CMS_Detail!$B415=\"\",\"\",CMS_Detail!$B415)","v":""},{"$f":"IF(CMS_Detail!$C415=\"\",\"\",CMS_Detail!$C415)","v":""},null,"",{"$f":"IF(COUNTIF(AE$2:AE393,AE393)=1,AE393,\"\")","v":""},"","",""]
[null,null,null,null,null,null,null,null,null,null,null,null,null,null,null,null,null,null,{"$f":"+IF(X394=\"\",\"\",MAX(S$1:S393)+1)","v":""},{"$f":"IF(Emission_Limits_Details!$B416=\"\",\"\",Emission_Limits_Details!$B416)","v":""},{"$f":"IF(Emission_Limits_Details!$C416=\"\",\"\",Emission_Limits_Details!$C416)","v":""},null,"",{"$f":"IF(COUNTIF(U$2:U394,U394)=1,U394,\"\")","v":""},"","","",null,{"$f":"+IF(AH394=\"\",\"\",MAX(AC$1:AC393)+1)","v":""},{"$f":"IF(CMS_Detail!$B416=\"\",\"\",CMS_Detail!$B416)","v":""},{"$f":"IF(CMS_Detail!$C416=\"\",\"\",CMS_Detail!$C416)","v":""},null,"",{"$f":"IF(COUNTIF(AE$2:AE394,AE394)=1,AE394,\"\")","v":""},"","",""]
[null,null,null,null,null,null,null,null,null,null,null,null,null,null,null,null,null,null,{"$f":"+IF(X395=\"\",\"\",MAX(S$1:S394)+1)","v":""},{"$f":"IF(Emission_Limits_Details!$B417=\"\",\"\",Emission_Limits_Details!$B417)","v":""},{"$f":"IF(Emission_Limits_Details!$C417=\"\",\"\",Emission_Limits_Details!$C417)","v":""},null,"",{"$f":"IF(COUNTIF(U$2:U395,U395)=1,U395,\"\")","v":""},"","","",null,{"$f":"+IF(AH395=\"\",\"\",MAX(AC$1:AC394)+1)","v":""},{"$f":"IF(CMS_Detail!$B417=\"\",\"\",CMS_Detail!$B417)","v":""},{"$f":"IF(CMS_Detail!$C417=\"\",\"\",CMS_Detail!$C417)","v":""},null,"",{"$f":"IF(COUNTIF(AE$2:AE395,AE395)=1,AE395,\"\")","v":""},"","",""]
[null,null,null,null,null,null,null,null,null,null,null,null,null,null,null,null,null,null,{"$f":"+IF(X396=\"\",\"\",MAX(S$1:S395)+1)","v":""},{"$f":"IF(Emission_Limits_Details!$B418=\"\",\"\",Emission_Limits_Details!$B418)","v":""},{"$f":"IF(Emission_Limits_Details!$C418=\"\",\"\",Emission_Limits_Details!$C418)","v":""},null,"",{"$f":"IF(COUNTIF(U$2:U396,U396)=1,U396,\"\")","v":""},"","","",null,{"$f":"+IF(AH396=\"\",\"\",MAX(AC$1:AC395)+1)","v":""},{"$f":"IF(CMS_Detail!$B418=\"\",\"\",CMS_Detail!$B418)","v":""},{"$f":"IF(CMS_Detail!$C418=\"\",\"\",CMS_Detail!$C418)","v":""},null,"",{"$f":"IF(COUNTIF(AE$2:AE396,AE396)=1,AE396,\"\")","v":""},"","",""]
[null,null,null,null,null,null,null,null,null,null,null,null,null,null,null,null,null,null,{"$f":"+IF(X397=\"\",\"\",MAX(S$1:S396)+1)","v":""},{"$f":"IF(Emission_Limits_Details!$B419=\"\",\"\",Emission_Limits_Details!$B419)","v":""},{"$f":"IF(Emission_Limits_Details!$C419=\"\",\"\",Emission_Limits_Details!$C419)","v":""},null,"",{"$f":"IF(COUNTIF(U$2:U397,U397)=1,U397,\"\")","v":""},"","","",null,{"$f":"+IF(AH397=\"\",\"\",MAX(AC$1:AC396)+1)","v":""},{"$f":"IF(CMS_Detail!$B419=\"\",\"\",CMS_Detail!$B419)","v":""},{"$f":"IF(CMS_Detail!$C419=\"\",\"\",CMS_Detail!$C419)","v":""},null,"",{"$f":"IF(COUNTIF(AE$2:AE397,AE397)=1,AE397,\"\")","v":""},"","",""]
[null,null,null,null,null,null,null,null,null,null,null,null,null,null,null,null,null,null,{"$f":"+IF(X398=\"\",\"\",MAX(S$1:S397)+1)","v":""},{"$f":"IF(Emission_Limits_Details!$B420=\"\",\"\",Emission_Limits_Details!$B420)","v":""},{"$f":"IF(Emission_Limits_Details!$C420=\"\",\"\",Emission_Limits_Details!$C420)","v":""},null,"",{"$f":"IF(COUNTIF(U$2:U398,U398)=1,U398,\"\")","v":""},"","","",null,{"$f":"+IF(AH398=\"\",\"\",MAX(AC$1:AC397)+1)","v":""},{"$f":"IF(CMS_Detail!$B420=\"\",\"\",CMS_Detail!$B420)","v":""},{"$f":"IF(CMS_Detail!$C420=\"\",\"\",CMS_Detail!$C420)","v":""},null,"",{"$f":"IF(COUNTIF(AE$2:AE398,AE398)=1,AE398,\"\")","v":""},"","",""]
[null,null,null,null,null,null,null,null,null,null,null,null,null,null,null,null,null,null,{"$f":"+IF(X399=\"\",\"\",MAX(S$1:S398)+1)","v":""},{"$f":"IF(Emission_Limits_Details!$B421=\"\",\"\",Emission_Limits_Details!$B421)","v":""},{"$f":"IF(Emission_Limits_Details!$C421=\"\",\"\",Emission_Limits_Details!$C421)","v":""},null,"",{"$f":"IF(COUNTIF(U$2:U399,U399)=1,U399,\"\")","v":""},"","","",null,{"$f":"+IF(AH399=\"\",\"\",MAX(AC$1:AC398)+1)","v":""},{"$f":"IF(CMS_Detail!$B421=\"\",\"\",CMS_Detail!$B421)","v":""},{"$f":"IF(CMS_Detail!$C421=\"\",\"\",CMS_Detail!$C421)","v":""},null,"",{"$f":"IF(COUNTIF(AE$2:AE399,AE399)=1,AE399,\"\")","v":""},"","",""]
[null,null,null,null,null,null,null,null,null,null,null,null,null,null,null,null,null,null,{"$f":"+IF(X400=\"\",\"\",MAX(S$1:S399)+1)","v":""},{"$f":"IF(Emission_Limits_Details!$B422=\"\",\"\",Emission_Limits_Details!$B422)","v":""},{"$f":"IF(Emission_Limits_Details!$C422=\"\",\"\",Emission_Limits_Details!$C422)","v":""},null,"",{"$f":"IF(COUNTIF(U$2:U400,U400)=1,U400,\"\")","v":""},"","","",null,{"$f":"+IF(AH400=\"\",\"\",MAX(AC$1:AC399)+1)","v":""},{"$f":"IF(CMS_Detail!$B422=\"\",\"\",CMS_Detail!$B422)","v":""},{"$f":"IF(CMS_Detail!$C422=\"\",\"\",CMS_Detail!$C422)","v":""},null,"",{"$f":"IF(COUNTIF(AE$2:AE400,AE400)=1,AE400,\"\")","v":""},"","",""]
[null,null,null,null,null,null,null,null,null,null,null,null,null,null,null,null,null,null,{"$f":"+IF(X401=\"\",\"\",MAX(S$1:S400)+1)","v":""},{"$f":"IF(Emission_Limits_Details!$B423=\"\",\"\",Emission_Limits_Details!$B423)","v":""},{"$f":"IF(Emission_Limits_Details!$C423=\"\",\"\",Emission_Limits_Details!$C423)","v":""},null,"",{"$f":"IF(COUNTIF(U$2:U401,U401)=1,U401,\"\")","v":""},"","","",null,{"$f":"+IF(AH401=\"\",\"\",MAX(AC$1:AC400)+1)","v":""},{"$f":"IF(CMS_Detail!$B423=\"\",\"\",CMS_Detail!$B423)","v":""},{"$f":"IF(CMS_Detail!$C423=\"\",\"\",CMS_Detail!$C423)","v":""},null,"",{"$f":"IF(COUNTIF(AE$2:AE401,AE401)=1,AE401,\"\")","v":""},"","",""]
[null,null,null,null,null,null,null,null,null,null,null,null,null,null,null,null,null,null,{"$f":"+IF(X402=\"\",\"\",MAX(S$1:S401)+1)","v":""},{"$f":"IF(Emission_Limits_Details!$B424=\"\",\"\",Emission_Limits_Details!$B424)","v":""},{"$f":"IF(Emission_Limits_Details!$C424=\"\",\"\",Emission_Limits_Details!$C424)","v":""},null,"",{"$f":"IF(COUNTIF(U$2:U402,U402)=1,U402,\"\")","v":""},"","","",null,{"$f":"+IF(AH402=\"\",\"\",MAX(AC$1:AC401)+1)","v":""},{"$f":"IF(CMS_Detail!$B424=\"\",\"\",CMS_Detail!$B424)","v":""},{"$f":"IF(CMS_Detail!$C424=\"\",\"\",CMS_Detail!$C424)","v":""},null,"",{"$f":"IF(COUNTIF(AE$2:AE402,AE402)=1,AE402,\"\")","v":""},"","",""]
[null,null,null,null,null,null,null,null,null,null,null,null,null,null,null,null,null,null,{"$f":"+IF(X403=\"\",\"\",MAX(S$1:S402)+1)","v":""},{"$f":"IF(Emission_Limits_Details!$B425=\"\",\"\",Emission_Limits_Details!$B425)","v":""},{"$f":"IF(Emission_Limits_Details!$C425=\"\",\"\",Emission_Limits_Details!$C425)","v":""},null,"",{"$f":"IF(COUNTIF(U$2:U403,U403)=1,U403,\"\")","v":""},"","","",null,{"$f":"+IF(AH403=\"\",\"\",MAX(AC$1:AC402)+1)","v":""},{"$f":"IF(CMS_Detail!$B425=\"\",\"\",CMS_Detail!$B425)","v":""},{"$f":"IF(CMS_Detail!$C425=\"\",\"\",CMS_Detail!$C425)","v":""},null,"",{"$f":"IF(COUNTIF(AE$2:AE403,AE403)=1,AE403,\"\")","v":""},"","",""]
[null,null,null,null,null,null,null,null,null,null,null,null,null,null,null,null,null,null,{"$f":"+IF(X404=\"\",\"\",MAX(S$1:S403)+1)","v":""},{"$f":"IF(Emission_Limits_Details!$B426=\"\",\"\",Emission_Limits_Details!$B426)","v":""},{"$f":"IF(Emission_Limits_Details!$C426=\"\",\"\",Emission_Limits_Details!$C426)","v":""},null,"",{"$f":"IF(COUNTIF(U$2:U404,U404)=1,U404,\"\")","v":""},"","","",null,{"$f":"+IF(AH404=\"\",\"\",MAX(AC$1:AC403)+1)","v":""},{"$f":"IF(CMS_Detail!$B426=\"\",\"\",CMS_Detail!$B426)","v":""},{"$f":"IF(CMS_Detail!$C426=\"\",\"\",CMS_Detail!$C426)","v":""},null,"",{"$f":"IF(COUNTIF(AE$2:AE404,AE404)=1,AE404,\"\")","v":""},"","",""]
[null,null,null,null,null,null,null,null,null,null,null,null,null,null,null,null,null,null,{"$f":"+IF(X405=\"\",\"\",MAX(S$1:S404)+1)","v":""},{"$f":"IF(Emission_Limits_Details!$B427=\"\",\"\",Emission_Limits_Details!$B427)","v":""},{"$f":"IF(Emission_Limits_Details!$C427=\"\",\"\",Emission_Limits_Details!$C427)","v":""},null,"",{"$f":"IF(COUNTIF(U$2:U405,U405)=1,U405,\"\")","v":""},"","","",null,{"$f":"+IF(AH405=\"\",\"\",MAX(AC$1:AC404)+1)","v":""},{"$f":"IF(CMS_Detail!$B427=\"\",\"\",CMS_Detail!$B427)","v":""},{"$f":"IF(CMS_Detail!$C427=\"\",\"\",CMS_Detail!$C427)","v":""},null,"",{"$f":"IF(COUNTIF(AE$2:AE405,AE405)=1,AE405,\"\")","v":""},"","",""]
[null,null,null,null,null,null,null,null,null,null,null,null,null,null,null,null,null,null,{"$f":"+IF(X406=\"\",\"\",MAX(S$1:S405)+1)","v":""},{"$f":"IF(Emission_Limits_Details!$B428=\"\",\"\",Emission_Limits_Details!$B428)","v":""},{"$f":"IF(Emission_Limits_Details!$C428=\"\",\"\",Emission_Limits_Details!$C428)","v":""},null,"",{"$f":"IF(COUNTIF(U$2:U406,U406)=1,U406,\"\")","v":""},"","","",null,{"$f":"+IF(AH406=\"\",\"\",MAX(AC$1:AC405)+1)","v":""},{"$f":"IF(CMS_Detail!$B428=\"\",\"\",CMS_Detail!$B428)","v":""},{"$f":"IF(CMS_Detail!$C428=\"\",\"\",CMS_Detail!$C428)","v":""},null,"",{"$f":"IF(COUNTIF(AE$2:AE406,AE406)=1,AE406,\"\")","v":""},"","",""]
[null,null,null,null,null,null,null,null,null,null,null,null,null,null,null,null,null,null,{"$f":"+IF(X407=\"\",\"\",MAX(S$1:S406)+1)","v":""},{"$f":"IF(Emission_Limits_Details!$B429=\"\",\"\",Emission_Limits_Details!$B429)","v":""},{"$f":"IF(Emission_Limits_Details!$C429=\"\",\"\",Emission_Limits_Details!$C429)","v":""},null,"",{"$f":"IF(COUNTIF(U$2:U407,U407)=1,U407,\"\")","v":""},"","","",null,{"$f":"+IF(AH407=\"\",\"\",MAX(AC$1:AC406)+1)","v":""},{"$f":"IF(CMS_Detail!$B429=\"\",\"\",CMS_Detail!$B429)","v":""},{"$f":"IF(CMS_Detail!$C429=\"\",\"\",CMS_Detail!$C429)","v":""},null,"",{"$f":"IF(COUNTIF(AE$2:AE407,AE407)=1,AE407,\"\")","v":""},"","",""]
[null,null,null,null,null,null,null,null,null,null,null,null,null,null,null,null,null,null,{"$f":"+IF(X408=\"\",\"\",MAX(S$1:S407)+1)","v":""},{"$f":"IF(Emission_Limits_Details!$B430=\"\",\"\",Emission_Limits_Details!$B430)","v":""},{"$f":"IF(Emission_Limits_Details!$C430=\"\",\"\",Emission_Limits_Details!$C430)","v":""},null,"",{"$f":"IF(COUNTIF(U$2:U408,U408)=1,U408,\"\")","v":""},"","","",null,{"$f":"+IF(AH408=\"\",\"\",MAX(AC$1:AC407)+1)","v":""},{"$f":"IF(CMS_Detail!$B430=\"\",\"\",CMS_Detail!$B430)","v":""},{"$f":"IF(CMS_Detail!$C430=\"\",\"\",CMS_Detail!$C430)","v":""},null,"",{"$f":"IF(COUNTIF(AE$2:AE408,AE408)=1,AE408,\"\")","v":""},"","",""]
[null,null,null,null,null,null,null,null,null,null,null,null,null,null,null,null,null,null,{"$f":"+IF(X409=\"\",\"\",MAX(S$1:S408)+1)","v":""},{"$f":"IF(Emission_Limits_Details!$B431=\"\",\"\",Emission_Limits_Details!$B431)","v":""},{"$f":"IF(Emission_Limits_Details!$C431=\"\",\"\",Emission_Limits_Details!$C431)","v":""},null,"",{"$f":"IF(COUNTIF(U$2:U409,U409)=1,U409,\"\")","v":""},"","","",null,{"$f":"+IF(AH409=\"\",\"\",MAX(AC$1:AC408)+1)","v":""},{"$f":"IF(CMS_Detail!$B431=\"\",\"\",CMS_Detail!$B431)","v":""},{"$f":"IF(CMS_Detail!$C431=\"\",\"\",CMS_Detail!$C431)","v":""},null,"",{"$f":"IF(COUNTIF(AE$2:AE409,AE409)=1,AE409,\"\")","v":""},"","",""]
[null,null,null,null,null,null,null,null,null,null,null,null,null,null,null,null,null,null,{"$f":"+IF(X410=\"\",\"\",MAX(S$1:S409)+1)","v":""},{"$f":"IF(Emission_Limits_Details!$B432=\"\",\"\",Emission_Limits_Details!$B432)","v":""},{"$f":"IF(Emission_Limits_Details!$C432=\"\",\"\",Emission_Limits_Details!$C432)","v":""},null,"",{"$f":"IF(COUNTIF(U$2:U410,U410)=1,U410,\"\")","v":""},"","","",null,{"$f":"+IF(AH410=\"\",\"\",MAX(AC$1:AC409)+1)","v":""},{"$f":"IF(CMS_Detail!$B432=\"\",\"\",CMS_Detail!$B432)","v":""},{"$f":"IF(CMS_Detail!$C432=\"\",\"\",CMS_Detail!$C432)","v":""},null,"",{"$f":"IF(COUNTIF(AE$2:AE410,AE410)=1,AE410,\"\")","v":""},"","",""]
[null,null,null,null,null,null,null,null,null,null,null,null,null,null,null,null,null,null,{"$f":"+IF(X411=\"\",\"\",MAX(S$1:S410)+1)","v":""},{"$f":"IF(Emission_Limits_Details!$B433=\"\",\"\",Emission_Limits_Details!$B433)","v":""},{"$f":"IF(Emission_Limits_Details!$C433=\"\",\"\",Emission_Limits_Details!$C433)","v":""},null,"",{"$f":"IF(COUNTIF(U$2:U411,U411)=1,U411,\"\")","v":""},"","","",null,{"$f":"+IF(AH411=\"\",\"\",MAX(AC$1:AC410)+1)","v":""},{"$f":"IF(CMS_Detail!$B433=\"\",\"\",CMS_Detail!$B433)","v":""},{"$f":"IF(CMS_Detail!$C433=\"\",\"\",CMS_Detail!$C433)","v":""},null,"",{"$f":"IF(COUNTIF(AE$2:AE411,AE411)=1,AE411,\"\")","v":""},"","",""]
[null,null,null,null,null,null,null,null,null,null,null,null,null,null,null,null,null,null,{"$f":"+IF(X412=\"\",\"\",MAX(S$1:S411)+1)","v":""},{"$f":"IF(Emission_Limits_Details!$B434=\"\",\"\",Emission_Limits_Details!$B434)","v":""},{"$f":"IF(Emission_Limits_Details!$C434=\"\",\"\",Emission_Limits_Details!$C434)","v":""},null,"",{"$f":"IF(COUNTIF(U$2:U412,U412)=1,U412,\"\")","v":""},"","","",null,{"$f":"+IF(AH412=\"\",\"\",MAX(AC$1:AC411)+1)","v":""},{"$f":"IF(CMS_Detail!$B434=\"\",\"\",CMS_Detail!$B434)","v":""},{"$f":"IF(CMS_Detail!$C434=\"\",\"\",CMS_Detail!$C434)","v":""},null,"",{"$f":"IF(COUNTIF(AE$2:AE412,AE412)=1,AE412,\"\")","v":""},"","",""]
[null,null,null,null,null,null,null,null,null,null,null,null,null,null,null,null,null,null,{"$f":"+IF(X413=\"\",\"\",MAX(S$1:S412)+1)","v":""},{"$f":"IF(Emission_Limits_Details!$B435=\"\",\"\",Emission_Limits_Details!$B435)","v":""},{"$f":"IF(Emission_Limits_Details!$C435=\"\",\"\",Emission_Limits_Details!$C435)","v":""},null,"",{"$f":"IF(COUNTIF(U$2:U413,U413)=1,U413,\"\")","v":""},"","","",null,{"$f":"+IF(AH413=\"\",\"\",MAX(AC$1:AC412)+1)","v":""},{"$f":"IF(CMS_Detail!$B435=\"\",\"\",CMS_Detail!$B435)","v":""},{"$f":"IF(CMS_Detail!$C435=\"\",\"\",CMS_Detail!$C435)","v":""},null,"",{"$f":"IF(COUNTIF(AE$2:AE413,AE413)=1,AE413,\"\")","v":""},"","",""]
[null,null,null,null,null,null,null,null,null,null,null,null,null,null,null,null,null,null,{"$f":"+IF(X414=\"\",\"\",MAX(S$1:S413)+1)","v":""},{"$f":"IF(Emission_Limits_Details!$B436=\"\",\"\",Emission_Limits_Details!$B436)","v":""},{"$f":"IF(Emission_Limits_Details!$C436=\"\",\"\",Emission_Limits_Details!$C436)","v":""},null,"",{"$f":"IF(COUNTIF(U$2:U414,U414)=1,U414,\"\")","v":""},"","","",null,{"$f":"+IF(AH414=\"\",\"\",MAX(AC$1:AC413)+1)","v":""},{"$f":"IF(CMS_Detail!$B436=\"\",\"\",CMS_Detail!$B436)","v":""},{"$f":"IF(CMS_Detail!$C436=\"\",\"\",CMS_Detail!$C436)","v":""},null,"",{"$f":"IF(COUNTIF(AE$2:AE414,AE414)=1,AE414,\"\")","v":""},"","",""]
[null,null,null,null,null,null,null,null,null,null,null,null,null,null,null,null,null,null,{"$f":"+IF(X415=\"\",\"\",MAX(S$1:S414)+1)","v":""},{"$f":"IF(Emission_Limits_Details!$B437=\"\",\"\",Emission_Limits_Details!$B437)","v":""},{"$f":"IF(Emission_Limits_Details!$C437=\"\",\"\",Emission_Limits_Details!$C437)","v":""},null,"",{"$f":"IF(COUNTIF(U$2:U415,U415)=1,U415,\"\")","v":""},"","","",null,{"$f":"+IF(AH415=\"\",\"\",MAX(AC$1:AC414)+1)","v":""},{"$f":"IF(CMS_Detail!$B437=\"\",\"\",CMS_Detail!$B437)","v":""},{"$f":"IF(CMS_Detail!$C437=\"\",\"\",CMS_Detail!$C437)","v":""},null,"",{"$f":"IF(COUNTIF(AE$2:AE415,AE415)=1,AE415,\"\")","v":""},"","",""]
[null,null,null,null,null,null,null,null,null,null,null,null,null,null,null,null,null,null,{"$f":"+IF(X416=\"\",\"\",MAX(S$1:S415)+1)","v":""},{"$f":"IF(Emission_Limits_Details!$B438=\"\",\"\",Emission_Limits_Details!$B438)","v":""},{"$f":"IF(Emission_Limits_Details!$C438=\"\",\"\",Emission_Limits_Details!$C438)","v":""},null,"",{"$f":"IF(COUNTIF(U$2:U416,U416)=1,U416,\"\")","v":""},"","","",null,{"$f":"+IF(AH416=\"\",\"\",MAX(AC$1:AC415)+1)","v":""},{"$f":"IF(CMS_Detail!$B438=\"\",\"\",CMS_Detail!$B438)","v":""},{"$f":"IF(CMS_Detail!$C438=\"\",\"\",CMS_Detail!$C438)","v":""},null,"",{"$f":"IF(COUNTIF(AE$2:AE416,AE416)=1,AE416,\"\")","v":""},"","",""]
[null,null,null,null,null,null,null,null,null,null,null,null,null,null,null,null,null,null,{"$f":"+IF(X417=\"\",\"\",MAX(S$1:S416)+1)","v":""},{"$f":"IF(Emission_Limits_Details!$B439=\"\",\"\",Emission_Limits_Details!$B439)","v":""},{"$f":"IF(Emission_Limits_Details!$C439=\"\",\"\",Emission_Limits_Details!$C439)","v":""},null,"",{"$f":"IF(COUNTIF(U$2:U417,U417)=1,U417,\"\")","v":""},"","","",null,{"$f":"+IF(AH417=\"\",\"\",MAX(AC$1:AC416)+1)","v":""},{"$f":"IF(CMS_Detail!$B439=\"\",\"\",CMS_Detail!$B439)","v":""},{"$f":"IF(CMS_Detail!$C439=\"\",\"\",CMS_Detail!$C439)","v":""},null,"",{"$f":"IF(COUNTIF(AE$2:AE417,AE417)=1,AE417,\"\")","v":""},"","",""]
[null,null,null,null,null,null,null,null,null,null,null,null,null,null,null,null,null,null,{"$f":"+IF(X418=\"\",\"\",MAX(S$1:S417)+1)","v":""},{"$f":"IF(Emission_Limits_Details!$B440=\"\",\"\",Emission_Limits_Details!$B440)","v":""},{"$f":"IF(Emission_Limits_Details!$C440=\"\",\"\",Emission_Limits_Details!$C440)","v":""},null,"",{"$f":"IF(COUNTIF(U$2:U418,U418)=1,U418,\"\")","v":""},"","","",null,{"$f":"+IF(AH418=\"\",\"\",MAX(AC$1:AC417)+1)","v":""},{"$f":"IF(CMS_Detail!$B440=\"\",\"\",CMS_Detail!$B440)","v":""},{"$f":"IF(CMS_Detail!$C440=\"\",\"\",CMS_Detail!$C440)","v":""},null,"",{"$f":"IF(COUNTIF(AE$2:AE418,AE418)=1,AE418,\"\")","v":""},"","",""]
[null,null,null,null,null,null,null,null,null,null,null,null,null,null,null,null,null,null,{"$f":"+IF(X419=\"\",\"\",MAX(S$1:S418)+1)","v":""},{"$f":"IF(Emission_Limits_Details!$B441=\"\",\"\",Emission_Limits_Details!$B441)","v":""},{"$f":"IF(Emission_Limits_Details!$C441=\"\",\"\",Emission_Limits_Details!$C441)","v":""},null,"",{"$f":"IF(COUNTIF(U$2:U419,U419)=1,U419,\"\")","v":""},"","","",null,{"$f":"+IF(AH419=\"\",\"\",MAX(AC$1:AC418)+1)","v":""},{"$f":"IF(CMS_Detail!$B441=\"\",\"\",CMS_Detail!$B441)","v":""},{"$f":"IF(CMS_Detail!$C441=\"\",\"\",CMS_Detail!$C441)","v":""},null,"",{"$f":"IF(COUNTIF(AE$2:AE419,AE419)=1,AE419,\"\")","v":""},"","",""]
[null,null,null,null,null,null,null,null,null,null,null,null,null,null,null,null,null,null,{"$f":"+IF(X420=\"\",\"\",MAX(S$1:S419)+1)","v":""},{"$f":"IF(Emission_Limits_Details!$B442=\"\",\"\",Emission_Limits_Details!$B442)","v":""},{"$f":"IF(Emission_Limits_Details!$C442=\"\",\"\",Emission_Limits_Details!$C442)","v":""},null,"",{"$f":"IF(COUNTIF(U$2:U420,U420)=1,U420,\"\")","v":""},"","","",null,{"$f":"+IF(AH420=\"\",\"\",MAX(AC$1:AC419)+1)","v":""},{"$f":"IF(CMS_Detail!$B442=\"\",\"\",CMS_Detail!$B442)","v":""},{"$f":"IF(CMS_Detail!$C442=\"\",\"\",CMS_Detail!$C442)","v":""},null,"",{"$f":"IF(COUNTIF(AE$2:AE420,AE420)=1,AE420,\"\")","v":""},"","",""]
[null,null,null,null,null,null,null,null,null,null,null,null,null,null,null,null,null,null,{"$f":"+IF(X421=\"\",\"\",MAX(S$1:S420)+1)","v":""},{"$f":"IF(Emission_Limits_Details!$B443=\"\",\"\",Emission_Limits_Details!$B443)","v":""},{"$f":"IF(Emission_Limits_Details!$C443=\"\",\"\",Emission_Limits_Details!$C443)","v":""},null,"",{"$f":"IF(COUNTIF(U$2:U421,U421)=1,U421,\"\")","v":""},"","","",null,{"$f":"+IF(AH421=\"\",\"\",MAX(AC$1:AC420)+1)","v":""},{"$f":"IF(CMS_Detail!$B443=\"\",\"\",CMS_Detail!$B443)","v":""},{"$f":"IF(CMS_Detail!$C443=\"\",\"\",CMS_Detail!$C443)","v":""},null,"",{"$f":"IF(COUNTIF(AE$2:AE421,AE421)=1,AE421,\"\")","v":""},"","",""]
[null,null,null,null,null,null,null,null,null,null,null,null,null,null,null,null,null,null,{"$f":"+IF(X422=\"\",\"\",MAX(S$1:S421)+1)","v":""},{"$f":"IF(Emission_Limits_Details!$B444=\"\",\"\",Emission_Limits_Details!$B444)","v":""},{"$f":"IF(Emission_Limits_Details!$C444=\"\",\"\",Emission_Limits_Details!$C444)","v":""},null,"",{"$f":"IF(COUNTIF(U$2:U422,U422)=1,U422,\"\")","v":""},"","","",null,{"$f":"+IF(AH422=\"\",\"\",MAX(AC$1:AC421)+1)","v":""},{"$f":"IF(CMS_Detail!$B444=\"\",\"\",CMS_Detail!$B444)","v":""},{"$f":"IF(CMS_Detail!$C444=\"\",\"\",CMS_Detail!$C444)","v":""},null,"",{"$f":"IF(COUNTIF(AE$2:AE422,AE422)=1,AE422,\"\")","v":""},"","",""]
[null,null,null,null,null,null,null,null,null,null,null,null,null,null,null,null,null,null,{"$f":"+IF(X423=\"\",\"\",MAX(S$1:S422)+1)","v":""},{"$f":"IF(Emission_Limits_Details!$B445=\"\",\"\",Emission_Limits_Details!$B445)","v":""},{"$f":"IF(Emission_Limits_Details!$C445=\"\",\"\",Emission_Limits_Details!$C445)","v":""},null,"",{"$f":"IF(COUNTIF(U$2:U423,U423)=1,U423,\"\")","v":""},"","","",null,{"$f":"+IF(AH423=\"\",\"\",MAX(AC$1:AC422)+1)","v":""},{"$f":"IF(CMS_Detail!$B445=\"\",\"\",CMS_Detail!$B445)","v":""},{"$f":"IF(CMS_Detail!$C445=\"\",\"\",CMS_Detail!$C445)","v":""},null,"",{"$f":"IF(COUNTIF(AE$2:AE423,AE423)=1,AE423,\"\")","v":""},"","",""]
[null,null,null,null,null,null,null,null,null,null,null,null,null,null,null,null,null,null,{"$f":"+IF(X424=\"\",\"\",MAX(S$1:S423)+1)","v":""},{"$f":"IF(Emission_Limits_Details!$B446=\"\",\"\",Emission_Limits_Details!$B446)","v":""},{"$f":"IF(Emission_Limits_Details!$C446=\"\",\"\",Emission_Limits_Details!$C446)","v":""},null,"",{"$f":"IF(COUNTIF(U$2:U424,U424)=1,U424,\"\")","v":""},"","","",null,{"$f":"+IF(AH424=\"\",\"\",MAX(AC$1:AC423)+1)","v":""},{"$f":"IF(CMS_Detail!$B446=\"\",\"\",CMS_Detail!$B446)","v":""},{"$f":"IF(CMS_Detail!$C446=\"\",\"\",CMS_Detail!$C446)","v":""},null,"",{"$f":"IF(COUNTIF(AE$2:AE424,AE424)=1,AE424,\"\")","v":""},"","",""]
[null,null,null,null,null,null,null,null,null,null,null,null,null,null,null,null,null,null,{"$f":"+IF(X425=\"\",\"\",MAX(S$1:S424)+1)","v":""},{"$f":"IF(Emission_Limits_Details!$B447=\"\",\"\",Emission_Limits_Details!$B447)","v":""},{"$f":"IF(Emission_Limits_Details!$C447=\"\",\"\",Emission_Limits_Details!$C447)","v":""},null,"",{"$f":"IF(COUNTIF(U$2:U425,U425)=1,U425,\"\")","v":""},"","","",null,{"$f":"+IF(AH425=\"\",\"\",MAX(AC$1:AC424)+1)","v":""},{"$f":"IF(CMS_Detail!$B447=\"\",\"\",CMS_Detail!$B447)","v":""},{"$f":"IF(CMS_Detail!$C447=\"\",\"\",CMS_Detail!$C447)","v":""},null,"",{"$f":"IF(COUNTIF(AE$2:AE425,AE425)=1,AE425,\"\")","v":""},"","",""]
[null,null,null,null,null,null,null,null,null,null,null,null,null,null,null,null,null,null,{"$f":"+IF(X426=\"\",\"\",MAX(S$1:S425)+1)","v":""},{"$f":"IF(Emission_Limits_Details!$B448=\"\",\"\",Emission_Limits_Details!$B448)","v":""},{"$f":"IF(Emission_Limits_Details!$C448=\"\",\"\",Emission_Limits_Details!$C448)","v":""},null,"",{"$f":"IF(COUNTIF(U$2:U426,U426)=1,U426,\"\")","v":""},"","","",null,{"$f":"+IF(AH426=\"\",\"\",MAX(AC$1:AC425)+1)","v":""},{"$f":"IF(CMS_Detail!$B448=\"\",\"\",CMS_Detail!$B448)","v":""},{"$f":"IF(CMS_Detail!$C448=\"\",\"\",CMS_Detail!$C448)","v":""},null,"",{"$f":"IF(COUNTIF(AE$2:AE426,AE426)=1,AE426,\"\")","v":""},"","",""]
[null,null,null,null,null,null,null,null,null,null,null,null,null,null,null,null,null,null,{"$f":"+IF(X427=\"\",\"\",MAX(S$1:S426)+1)","v":""},{"$f":"IF(Emission_Limits_Details!$B449=\"\",\"\",Emission_Limits_Details!$B449)","v":""},{"$f":"IF(Emission_Limits_Details!$C449=\"\",\"\",Emission_Limits_Details!$C449)","v":""},null,"",{"$f":"IF(COUNTIF(U$2:U427,U427)=1,U427,\"\")","v":""},"","","",null,{"$f":"+IF(AH427=\"\",\"\",MAX(AC$1:AC426)+1)","v":""},{"$f":"IF(CMS_Detail!$B449=\"\",\"\",CMS_Detail!$B449)","v":""},{"$f":"IF(CMS_Detail!$C449=\"\",\"\",CMS_Detail!$C449)","v":""},null,"",{"$f":"IF(COUNTIF(AE$2:AE427,AE427)=1,AE427,\"\")","v":""},"","",""]
[null,null,null,null,null,null,null,null,null,null,null,null,null,null,null,null,null,null,{"$f":"+IF(X428=\"\",\"\",MAX(S$1:S427)+1)","v":""},{"$f":"IF(Emission_Limits_Details!$B450=\"\",\"\",Emission_Limits_Details!$B450)","v":""},{"$f":"IF(Emission_Limits_Details!$C450=\"\",\"\",Emission_Limits_Details!$C450)","v":""},null,"",{"$f":"IF(COUNTIF(U$2:U428,U428)=1,U428,\"\")","v":""},"","","",null,{"$f":"+IF(AH428=\"\",\"\",MAX(AC$1:AC427)+1)","v":""},{"$f":"IF(CMS_Detail!$B450=\"\",\"\",CMS_Detail!$B450)","v":""},{"$f":"IF(CMS_Detail!$C450=\"\",\"\",CMS_Detail!$C450)","v":""},null,"",{"$f":"IF(COUNTIF(AE$2:AE428,AE428)=1,AE428,\"\")","v":""},"","",""]
[null,null,null,null,null,null,null,null,null,null,null,null,null,null,null,null,null,null,{"$f":"+IF(X429=\"\",\"\",MAX(S$1:S428)+1)","v":""},{"$f":"IF(Emission_Limits_Details!$B451=\"\",\"\",Emission_Limits_Details!$B451)","v":""},{"$f":"IF(Emission_Limits_Details!$C451=\"\",\"\",Emission_Limits_Details!$C451)","v":""},null,"",{"$f":"IF(COUNTIF(U$2:U429,U429)=1,U429,\"\")","v":""},"","","",null,{"$f":"+IF(AH429=\"\",\"\",MAX(AC$1:AC428)+1)","v":""},{"$f":"IF(CMS_Detail!$B451=\"\",\"\",CMS_Detail!$B451)","v":""},{"$f":"IF(CMS_Detail!$C451=\"\",\"\",CMS_Detail!$C451)","v":""},null,"",{"$f":"IF(COUNTIF(AE$2:AE429,AE429)=1,AE429,\"\")","v":""},"","",""]
[null,null,null,null,null,null,null,null,null,null,null,null,null,null,null,null,null,null,{"$f":"+IF(X430=\"\",\"\",MAX(S$1:S429)+1)","v":""},{"$f":"IF(Emission_Limits_Details!$B452=\"\",\"\",Emission_Limits_Details!$B452)","v":""},{"$f":"IF(Emission_Limits_Details!$C452=\"\",\"\",Emission_Limits_Details!$C452)","v":""},null,"",{"$f":"IF(COUNTIF(U$2:U430,U430)=1,U430,\"\")","v":""},"","","",null,{"$f":"+IF(AH430=\"\",\"\",MAX(AC$1:AC429)+1)","v":""},{"$f":"IF(CMS_Detail!$B452=\"\",\"\",CMS_Detail!$B452)","v":""},{"$f":"IF(CMS_Detail!$C452=\"\",\"\",CMS_Detail!$C452)","v":""},null,"",{"$f":"IF(COUNTIF(AE$2:AE430,AE430)=1,AE430,\"\")","v":""},"","",""]
[null,null,null,null,null,null,null,null,null,null,null,null,null,null,null,null,null,null,{"$f":"+IF(X431=\"\",\"\",MAX(S$1:S430)+1)","v":""},{"$f":"IF(Emission_Limits_Details!$B453=\"\",\"\",Emission_Limits_Details!$B453)","v":""},{"$f":"IF(Emission_Limits_Details!$C453=\"\",\"\",Emission_Limits_Details!$C453)","v":""},null,"",{"$f":"IF(COUNTIF(U$2:U431,U431)=1,U431,\"\")","v":""},"","","",null,{"$f":"+IF(AH431=\"\",\"\",MAX(AC$1:AC430)+1)","v":""},{"$f":"IF(CMS_Detail!$B453=\"\",\"\",CMS_Detail!$B453)","v":""},{"$f":"IF(CMS_Detail!$C453=\"\",\"\",CMS_Detail!$C453)","v":""},null,"",{"$f":"IF(COUNTIF(AE$2:AE431,AE431)=1,AE431,\"\")","v":""},"","",""]
[null,null,null,null,null,null,null,null,null,null,null,null,null,null,null,null,null,null,{"$f":"+IF(X432=\"\",\"\",MAX(S$1:S431)+1)","v":""},{"$f":"IF(Emission_Limits_Details!$B454=\"\",\"\",Emission_Limits_Details!$B454)","v":""},{"$f":"IF(Emission_Limits_Details!$C454=\"\",\"\",Emission_Limits_Details!$C454)","v":""},null,"",{"$f":"IF(COUNTIF(U$2:U432,U432)=1,U432,\"\")","v":""},"","","",null,{"$f":"+IF(AH432=\"\",\"\",MAX(AC$1:AC431)+1)","v":""},{"$f":"IF(CMS_Detail!$B454=\"\",\"\",CMS_Detail!$B454)","v":""},{"$f":"IF(CMS_Detail!$C454=\"\",\"\",CMS_Detail!$C454)","v":""},null,"",{"$f":"IF(COUNTIF(AE$2:AE432,AE432)=1,AE432,\"\")","v":""},"","",""]
[null,null,null,null,null,null,null,null,null,null,null,null,null,null,null,null,null,null,{"$f":"+IF(X433=\"\",\"\",MAX(S$1:S432)+1)","v":""},{"$f":"IF(Emission_Limits_Details!$B455=\"\",\"\",Emission_Limits_Details!$B455)","v":""},{"$f":"IF(Emission_Limits_Details!$C455=\"\",\"\",Emission_Limits_Details!$C455)","v":""},null,"",{"$f":"IF(COUNTIF(U$2:U433,U433)=1,U433,\"\")","v":""},"","","",null,{"$f":"+IF(AH433=\"\",\"\",MAX(AC$1:AC432)+1)","v":""},{"$f":"IF(CMS_Detail!$B455=\"\",\"\",CMS_Detail!$B455)","v":""},{"$f":"IF(CMS_Detail!$C455=\"\",\"\",CMS_Detail!$C455)","v":""},null,"",{"$f":"IF(COUNTIF(AE$2:AE433,AE433)=1,AE433,\"\")","v":""},"","",""]
[null,null,null,null,null,null,null,null,null,null,null,null,null,null,null,null,null,null,{"$f":"+IF(X434=\"\",\"\",MAX(S$1:S433)+1)","v":""},{"$f":"IF(Emission_Limits_Details!$B456=\"\",\"\",Emission_Limits_Details!$B456)","v":""},{"$f":"IF(Emission_Limits_Details!$C456=\"\",\"\",Emission_Limits_Details!$C456)","v":""},null,"",{"$f":"IF(COUNTIF(U$2:U434,U434)=1,U434,\"\")","v":""},"","","",null,{"$f":"+IF(AH434=\"\",\"\",MAX(AC$1:AC433)+1)","v":""},{"$f":"IF(CMS_Detail!$B456=\"\",\"\",CMS_Detail!$B456)","v":""},{"$f":"IF(CMS_Detail!$C456=\"\",\"\",CMS_Detail!$C456)","v":""},null,"",{"$f":"IF(COUNTIF(AE$2:AE434,AE434)=1,AE434,\"\")","v":""},"","",""]
[null,null,null,null,null,null,null,null,null,null,null,null,null,null,null,null,null,null,{"$f":"+IF(X435=\"\",\"\",MAX(S$1:S434)+1)","v":""},{"$f":"IF(Emission_Limits_Details!$B457=\"\",\"\",Emission_Limits_Details!$B457)","v":""},{"$f":"IF(Emission_Limits_Details!$C457=\"\",\"\",Emission_Limits_Details!$C457)","v":""},null,"",{"$f":"IF(COUNTIF(U$2:U435,U435)=1,U435,\"\")","v":""},"","","",null,{"$f":"+IF(AH435=\"\",\"\",MAX(AC$1:AC434)+1)","v":""},{"$f":"IF(CMS_Detail!$B457=\"\",\"\",CMS_Detail!$B457)","v":""},{"$f":"IF(CMS_Detail!$C457=\"\",\"\",CMS_Detail!$C457)","v":""},null,"",{"$f":"IF(COUNTIF(AE$2:AE435,AE435)=1,AE435,\"\")","v":""},"","",""]
[null,null,null,null,null,null,null,null,null,null,null,null,null,null,null,null,null,null,{"$f":"+IF(X436=\"\",\"\",MAX(S$1:S435)+1)","v":""},{"$f":"IF(Emission_Limits_Details!$B458=\"\",\"\",Emission_Limits_Details!$B458)","v":""},{"$f":"IF(Emission_Limits_Details!$C458=\"\",\"\",Emission_Limits_Details!$C458)","v":""},null,"",{"$f":"IF(COUNTIF(U$2:U436,U436)=1,U436,\"\")","v":""},"","","",null,{"$f":"+IF(AH436=\"\",\"\",MAX(AC$1:AC435)+1)","v":""},{"$f":"IF(CMS_Detail!$B458=\"\",\"\",CMS_Detail!$B458)","v":""},{"$f":"IF(CMS_Detail!$C458=\"\",\"\",CMS_Detail!$C458)","v":""},null,"",{"$f":"IF(COUNTIF(AE$2:AE436,AE436)=1,AE436,\"\")","v":""},"","",""]
[null,null,null,null,null,null,null,null,null,null,null,null,null,null,null,null,null,null,{"$f":"+IF(X437=\"\",\"\",MAX(S$1:S436)+1)","v":""},{"$f":"IF(Emission_Limits_Details!$B459=\"\",\"\",Emission_Limits_Details!$B459)","v":""},{"$f":"IF(Emission_Limits_Details!$C459=\"\",\"\",Emission_Limits_Details!$C459)","v":""},null,"",{"$f":"IF(COUNTIF(U$2:U437,U437)=1,U437,\"\")","v":""},"","","",null,{"$f":"+IF(AH437=\"\",\"\",MAX(AC$1:AC436)+1)","v":""},{"$f":"IF(CMS_Detail!$B459=\"\",\"\",CMS_Detail!$B459)","v":""},{"$f":"IF(CMS_Detail!$C459=\"\",\"\",CMS_Detail!$C459)","v":""},null,"",{"$f":"IF(COUNTIF(AE$2:AE437,AE437)=1,AE437,\"\")","v":""},"","",""]
[null,null,null,null,null,null,null,null,null,null,null,null,null,null,null,null,null,null,{"$f":"+IF(X438=\"\",\"\",MAX(S$1:S437)+1)","v":""},{"$f":"IF(Emission_Limits_Details!$B460=\"\",\"\",Emission_Limits_Details!$B460)","v":""},{"$f":"IF(Emission_Limits_Details!$C460=\"\",\"\",Emission_Limits_Details!$C460)","v":""},null,"",{"$f":"IF(COUNTIF(U$2:U438,U438)=1,U438,\"\")","v":""},"","","",null,{"$f":"+IF(AH438=\"\",\"\",MAX(AC$1:AC437)+1)","v":""},{"$f":"IF(CMS_Detail!$B460=\"\",\"\",CMS_Detail!$B460)","v":""},{"$f":"IF(CMS_Detail!$C460=\"\",\"\",CMS_Detail!$C460)","v":""},null,"",{"$f":"IF(COUNTIF(AE$2:AE438,AE438)=1,AE438,\"\")","v":""},"","",""]
[null,null,null,null,null,null,null,null,null,null,null,null,null,null,null,null,null,null,{"$f":"+IF(X439=\"\",\"\",MAX(S$1:S438)+1)","v":""},{"$f":"IF(Emission_Limits_Details!$B461=\"\",\"\",Emission_Limits_Details!$B461)","v":""},{"$f":"IF(Emission_Limits_Details!$C461=\"\",\"\",Emission_Limits_Details!$C461)","v":""},null,"",{"$f":"IF(COUNTIF(U$2:U439,U439)=1,U439,\"\")","v":""},"","","",null,{"$f":"+IF(AH439=\"\",\"\",MAX(AC$1:AC438)+1)","v":""},{"$f":"IF(CMS_Detail!$B461=\"\",\"\",CMS_Detail!$B461)","v":""},{"$f":"IF(CMS_Detail!$C461=\"\",\"\",CMS_Detail!$C461)","v":""},null,"",{"$f":"IF(COUNTIF(AE$2:AE439,AE439)=1,AE439,\"\")","v":""},"","",""]
[null,null,null,null,null,null,null,null,null,null,null,null,null,null,null,null,null,null,{"$f":"+IF(X440=\"\",\"\",MAX(S$1:S439)+1)","v":""},{"$f":"IF(Emission_Limits_Details!$B462=\"\",\"\",Emission_Limits_Details!$B462)","v":""},{"$f":"IF(Emission_Limits_Details!$C462=\"\",\"\",Emission_Limits_Details!$C462)","v":""},null,"",{"$f":"IF(COUNTIF(U$2:U440,U440)=1,U440,\"\")","v":""},"","","",null,{"$f":"+IF(AH440=\"\",\"\",MAX(AC$1:AC439)+1)","v":""},{"$f":"IF(CMS_Detail!$B462=\"\",\"\",CMS_Detail!$B462)","v":""},{"$f":"IF(CMS_Detail!$C462=\"\",\"\",CMS_Detail!$C462)","v":""},null,"",{"$f":"IF(COUNTIF(AE$2:AE440,AE440)=1,AE440,\"\")","v":""},"","",""]
[null,null,null,null,null,null,null,null,null,null,null,null,null,null,null,null,null,null,{"$f":"+IF(X441=\"\",\"\",MAX(S$1:S440)+1)","v":""},{"$f":"IF(Emission_Limits_Details!$B463=\"\",\"\",Emission_Limits_Details!$B463)","v":""},{"$f":"IF(Emission_Limits_Details!$C463=\"\",\"\",Emission_Limits_Details!$C463)","v":""},null,"",{"$f":"IF(COUNTIF(U$2:U441,U441)=1,U441,\"\")","v":""},"","","",null,{"$f":"+IF(AH441=\"\",\"\",MAX(AC$1:AC440)+1)","v":""},{"$f":"IF(CMS_Detail!$B463=\"\",\"\",CMS_Detail!$B463)","v":""},{"$f":"IF(CMS_Detail!$C463=\"\",\"\",CMS_Detail!$C463)","v":""},null,"",{"$f":"IF(COUNTIF(AE$2:AE441,AE441)=1,AE441,\"\")","v":""},"","",""]
[null,null,null,null,null,null,null,null,null,null,null,null,null,null,null,null,null,null,{"$f":"+IF(X442=\"\",\"\",MAX(S$1:S441)+1)","v":""},{"$f":"IF(Emission_Limits_Details!$B464=\"\",\"\",Emission_Limits_Details!$B464)","v":""},{"$f":"IF(Emission_Limits_Details!$C464=\"\",\"\",Emission_Limits_Details!$C464)","v":""},null,"",{"$f":"IF(COUNTIF(U$2:U442,U442)=1,U442,\"\")","v":""},"","","",null,{"$f":"+IF(AH442=\"\",\"\",MAX(AC$1:AC441)+1)","v":""},{"$f":"IF(CMS_Detail!$B464=\"\",\"\",CMS_Detail!$B464)","v":""},{"$f":"IF(CMS_Detail!$C464=\"\",\"\",CMS_Detail!$C464)","v":""},null,"",{"$f":"IF(COUNTIF(AE$2:AE442,AE442)=1,AE442,\"\")","v":""},"","",""]
[null,null,null,null,null,null,null,null,null,null,null,null,null,null,null,null,null,null,{"$f":"+IF(X443=\"\",\"\",MAX(S$1:S442)+1)","v":""},{"$f":"IF(Emission_Limits_Details!$B465=\"\",\"\",Emission_Limits_Details!$B465)","v":""},{"$f":"IF(Emission_Limits_Details!$C465=\"\",\"\",Emission_Limits_Details!$C465)","v":""},null,"",{"$f":"IF(COUNTIF(U$2:U443,U443)=1,U443,\"\")","v":""},"","","",null,{"$f":"+IF(AH443=\"\",\"\",MAX(AC$1:AC442)+1)","v":""},{"$f":"IF(CMS_Detail!$B465=\"\",\"\",CMS_Detail!$B465)","v":""},{"$f":"IF(CMS_Detail!$C465=\"\",\"\",CMS_Detail!$C465)","v":""},null,"",{"$f":"IF(COUNTIF(AE$2:AE443,AE443)=1,AE443,\"\")","v":""},"","",""]
[null,null,null,null,null,null,null,null,null,null,null,null,null,null,null,null,null,null,{"$f":"+IF(X444=\"\",\"\",MAX(S$1:S443)+1)","v":""},{"$f":"IF(Emission_Limits_Details!$B466=\"\",\"\",Emission_Limits_Details!$B466)","v":""},{"$f":"IF(Emission_Limits_Details!$C466=\"\",\"\",Emission_Limits_Details!$C466)","v":""},null,"",{"$f":"IF(COUNTIF(U$2:U444,U444)=1,U444,\"\")","v":""},"","","",null,{"$f":"+IF(AH444=\"\",\"\",MAX(AC$1:AC443)+1)","v":""},{"$f":"IF(CMS_Detail!$B466=\"\",\"\",CMS_Detail!$B466)","v":""},{"$f":"IF(CMS_Detail!$C466=\"\",\"\",CMS_Detail!$C466)","v":""},null,"",{"$f":"IF(COUNTIF(AE$2:AE444,AE444)=1,AE444,\"\")","v":""},"","",""]
[null,null,null,null,null,null,null,null,null,null,null,null,null,null,null,null,null,null,{"$f":"+IF(X445=\"\",\"\",MAX(S$1:S444)+1)","v":""},{"$f":"IF(Emission_Limits_Details!$B467=\"\",\"\",Emission_Limits_Details!$B467)","v":""},{"$f":"IF(Emission_Limits_Details!$C467=\"\",\"\",Emission_Limits_Details!$C467)","v":""},null,"",{"$f":"IF(COUNTIF(U$2:U445,U445)=1,U445,\"\")","v":""},"","","",null,{"$f":"+IF(AH445=\"\",\"\",MAX(AC$1:AC444)+1)","v":""},{"$f":"IF(CMS_Detail!$B467=\"\",\"\",CMS_Detail!$B467)","v":""},{"$f":"IF(CMS_Detail!$C467=\"\",\"\",CMS_Detail!$C467)","v":""},null,"",{"$f":"IF(COUNTIF(AE$2:AE445,AE445)=1,AE445,\"\")","v":""},"","",""]
[null,null,null,null,null,null,null,null,null,null,null,null,null,null,null,null,null,null,{"$f":"+IF(X446=\"\",\"\",MAX(S$1:S445)+1)","v":""},{"$f":"IF(Emission_Limits_Details!$B468=\"\",\"\",Emission_Limits_Details!$B468)","v":""},{"$f":"IF(Emission_Limits_Details!$C468=\"\",\"\",Emission_Limits_Details!$C468)","v":""},null,"",{"$f":"IF(COUNTIF(U$2:U446,U446)=1,U446,\"\")","v":""},"","","",null,{"$f":"+IF(AH446=\"\",\"\",MAX(AC$1:AC445)+1)","v":""},{"$f":"IF(CMS_Detail!$B468=\"\",\"\",CMS_Detail!$B468)","v":""},{"$f":"IF(CMS_Detail!$C468=\"\",\"\",CMS_Detail!$C468)","v":""},null,"",{"$f":"IF(COUNTIF(AE$2:AE446,AE446)=1,AE446,\"\")","v":""},"","",""]
[null,null,null,null,null,null,null,null,null,null,null,null,null,null,null,null,null,null,{"$f":"+IF(X447=\"\",\"\",MAX(S$1:S446)+1)","v":""},{"$f":"IF(Emission_Limits_Details!$B469=\"\",\"\",Emission_Limits_Details!$B469)","v":""},{"$f":"IF(Emission_Limits_Details!$C469=\"\",\"\",Emission_Limits_Details!$C469)","v":""},null,"",{"$f":"IF(COUNTIF(U$2:U447,U447)=1,U447,\"\")","v":""},"","","",null,{"$f":"+IF(AH447=\"\",\"\",MAX(AC$1:AC446)+1)","v":""},{"$f":"IF(CMS_Detail!$B469=\"\",\"\",CMS_Detail!$B469)","v":""},{"$f":"IF(CMS_Detail!$C469=\"\",\"\",CMS_Detail!$C469)","v":""},null,"",{"$f":"IF(COUNTIF(AE$2:AE447,AE447)=1,AE447,\"\")","v":""},"","",""]
[null,null,null,null,null,null,null,null,null,null,null,null,null,null,null,null,null,null,{"$f":"+IF(X448=\"\",\"\",MAX(S$1:S447)+1)","v":""},{"$f":"IF(Emission_Limits_Details!$B470=\"\",\"\",Emission_Limits_Details!$B470)","v":""},{"$f":"IF(Emission_Limits_Details!$C470=\"\",\"\",Emission_Limits_Details!$C470)","v":""},null,"",{"$f":"IF(COUNTIF(U$2:U448,U448)=1,U448,\"\")","v":""},"","","",null,{"$f":"+IF(AH448=\"\",\"\",MAX(AC$1:AC447)+1)","v":""},{"$f":"IF(CMS_Detail!$B470=\"\",\"\",CMS_Detail!$B470)","v":""},{"$f":"IF(CMS_Detail!$C470=\"\",\"\",CMS_Detail!$C470)","v":""},null,"",{"$f":"IF(COUNTIF(AE$2:AE448,AE448)=1,AE448,\"\")","v":""},"","",""]
[null,null,null,null,null,null,null,null,null,null,null,null,null,null,null,null,null,null,{"$f":"+IF(X449=\"\",\"\",MAX(S$1:S448)+1)","v":""},{"$f":"IF(Emission_Limits_Details!$B471=\"\",\"\",Emission_Limits_Details!$B471)","v":""},{"$f":"IF(Emission_Limits_Details!$C471=\"\",\"\",Emission_Limits_Details!$C471)","v":""},null,"",{"$f":"IF(COUNTIF(U$2:U449,U449)=1,U449,\"\")","v":""},"","","",null,{"$f":"+IF(AH449=\"\",\"\",MAX(AC$1:AC448)+1)","v":""},{"$f":"IF(CMS_Detail!$B471=\"\",\"\",CMS_Detail!$B471)","v":""},{"$f":"IF(CMS_Detail!$C471=\"\",\"\",CMS_Detail!$C471)","v":""},null,"",{"$f":"IF(COUNTIF(AE$2:AE449,AE449)=1,AE449,\"\")","v":""},"","",""]
[null,null,null,null,null,null,null,null,null,null,null,null,null,null,null,null,null,null,{"$f":"+IF(X450=\"\",\"\",MAX(S$1:S449)+1)","v":""},{"$f":"IF(Emission_Limits_Details!$B472=\"\",\"\",Emission_Limits_Details!$B472)","v":""},{"$f":"IF(Emission_Limits_Details!$C472=\"\",\"\",Emission_Limits_Details!$C472)","v":""},null,"",{"$f":"IF(COUNTIF(U$2:U450,U450)=1,U450,\"\")","v":""},"","","",null,{"$f":"+IF(AH450=\"\",\"\",MAX(AC$1:AC449)+1)","v":""},{"$f":"IF(CMS_Detail!$B472=\"\",\"\",CMS_Detail!$B472)","v":""},{"$f":"IF(CMS_Detail!$C472=\"\",\"\",CMS_Detail!$C472)","v":""},null,"",{"$f":"IF(COUNTIF(AE$2:AE450,AE450)=1,AE450,\"\")","v":""},"","",""]
[null,null,null,null,null,null,null,null,null,null,null,null,null,null,null,null,null,null,{"$f":"+IF(X451=\"\",\"\",MAX(S$1:S450)+1)","v":""},{"$f":"IF(Emission_Limits_Details!$B473=\"\",\"\",Emission_Limits_Details!$B473)","v":""},{"$f":"IF(Emission_Limits_Details!$C473=\"\",\"\",Emission_Limits_Details!$C473)","v":""},null,{"$f":"T451&U451&V451","v":""},{"$f":"IF(COUNTIF(U$2:U451,U451)=1,U451,\"\")","v":""},{"$f":"+IFERROR(INDEX(T$2:T$955,MATCH(ROW()-ROW(X$1),S$2:S$955,0)),\"\")","v":""},{"$f":"+IFERROR(INDEX(U$2:U$955,MATCH(ROW()-ROW(X$1),S$2:S$955,0)),\"\")","v":""},{"$f":"+IFERROR(INDEX(V$2:V$955,MATCH(ROW()-ROW(Y$1),S$2:S$955,0)),\"\")","v":""},null,{"$f":"+IF(AH451=\"\",\"\",MAX(AC$1:AC450)+1)","v":""},{"$f":"IF(CMS_Detail!$B473=\"\",\"\",CMS_Detail!$B473)","v":""},{"$f":"IF(CMS_Detail!$C473=\"\",\"\",CMS_Detail!$C473)","v":""},null,{"$f":"AD451&AE451&AF451","v":""},{"$f":"IF(COUNTIF(AE$2:AE451,AE451)=1,AE451,\"\")","v":""},{"$f":"+IFERROR(INDEX(AD$2:AD$955,MATCH(ROW()-ROW(AH$1),AC$2:AC$955,0)),\"\")","v":""},{"$f":"+IFERROR(INDEX(AE$2:AE$955,MATCH(ROW()-ROW(AH$1),AC$2:AC$955,0)),\"\")","v":""},{"$f":"+IFERROR(INDEX(AF$2:AF$955,MATCH(ROW()-ROW(AI$1),AC$2:AC$955,0)),\"\")","v":""}]
[null,null,null,null,null,null,null,null,null,null,null,null,null,null,null,null,null,null,{"$f":"+IF(X452=\"\",\"\",MAX(S$1:S451)+1)","v":""},{"$f":"IF(Emission_Limits_Details!$B474=\"\",\"\",Emission_Limits_Details!$B474)","v":""},{"$f":"IF(Emission_Limits_Details!$C474=\"\",\"\",Emission_Limits_Details!$C474)","v":""},null,"",{"$f":"IF(COUNTIF(U$2:U452,U452)=1,U452,\"\")","v":""},"","","",null,{"$f":"+IF(AH452=\"\",\"\",MAX(AC$1:AC451)+1)","v":""},{"$f":"IF(CMS_Detail!$B474=\"\",\"\",CMS_Detail!$B474)","v":""},{"$f":"IF(CMS_Detail!$C474=\"\",\"\",CMS_Detail!$C474)","v":""},null,"",{"$f":"IF(COUNTIF(AE$2:AE452,AE452)=1,AE452,\"\")","v":""},"","",""]
[null,null,null,null,null,null,null,null,null,null,null,null,null,null,null,null,null,null,{"$f":"+IF(X453=\"\",\"\",MAX(S$1:S452)+1)","v":""},{"$f":"IF(Emission_Limits_Details!$B475=\"\",\"\",Emission_Limits_Details!$B475)","v":""},{"$f":"IF(Emission_Limits_Details!$C475=\"\",\"\",Emission_Limits_Details!$C475)","v":""},null,"",{"$f":"IF(COUNTIF(U$2:U453,U453)=1,U453,\"\")","v":""},"","","",null,{"$f":"+IF(AH453=\"\",\"\",MAX(AC$1:AC452)+1)","v":""},{"$f":"IF(CMS_Detail!$B475=\"\",\"\",CMS_Detail!$B475)","v":""},{"$f":"IF(CMS_Detail!$C475=\"\",\"\",CMS_Detail!$C475)","v":""},null,"",{"$f":"IF(COUNTIF(AE$2:AE453,AE453)=1,AE453,\"\")","v":""},"","",""]
[null,null,null,null,null,null,null,null,null,null,null,null,null,null,null,null,null,null,{"$f":"+IF(X454=\"\",\"\",MAX(S$1:S453)+1)","v":""},{"$f":"IF(Emission_Limits_Details!$B476=\"\",\"\",Emission_Limits_Details!$B476)","v":""},{"$f":"IF(Emission_Limits_Details!$C476=\"\",\"\",Emission_Limits_Details!$C476)","v":""},null,"",{"$f":"IF(COUNTIF(U$2:U454,U454)=1,U454,\"\")","v":""},"","","",null,{"$f":"+IF(AH454=\"\",\"\",MAX(AC$1:AC453)+1)","v":""},{"$f":"IF(CMS_Detail!$B476=\"\",\"\",CMS_Detail!$B476)","v":""},{"$f":"IF(CMS_Detail!$C476=\"\",\"\",CMS_Detail!$C476)","v":""},null,"",{"$f":"IF(COUNTIF(AE$2:AE454,AE454)=1,AE454,\"\")","v":""},"","",""]
[null,null,null,null,null,null,null,null,null,null,null,null,null,null,null,null,null,null,{"$f":"+IF(X455=\"\",\"\",MAX(S$1:S454)+1)","v":""},{"$f":"IF(Emission_Limits_Details!$B477=\"\",\"\",Emission_Limits_Details!$B477)","v":""},{"$f":"IF(Emission_Limits_Details!$C477=\"\",\"\",Emission_Limits_Details!$C477)","v":""},null,"",{"$f":"IF(COUNTIF(U$2:U455,U455)=1,U455,\"\")","v":""},"","","",null,{"$f":"+IF(AH455=\"\",\"\",MAX(AC$1:AC454)+1)","v":""},{"$f":"IF(CMS_Detail!$B477=\"\",\"\",CMS_Detail!$B477)","v":""},{"$f":"IF(CMS_Detail!$C477=\"\",\"\",CMS_Detail!$C477)","v":""},null,"",{"$f":"IF(COUNTIF(AE$2:AE455,AE455)=1,AE455,\"\")","v":""},"","",""]
[null,null,null,null,null,null,null,null,null,null,null,null,null,null,null,null,null,null,{"$f":"+IF(X456=\"\",\"\",MAX(S$1:S455)+1)","v":""},{"$f":"IF(Emission_Limits_Details!$B478=\"\",\"\",Emission_Limits_Details!$B478)","v":""},{"$f":"IF(Emission_Limits_Details!$C478=\"\",\"\",Emission_Limits_Details!$C478)","v":""},null,"",{"$f":"IF(COUNTIF(U$2:U456,U456)=1,U456,\"\")","v":""},"","","",null,{"$f":"+IF(AH456=\"\",\"\",MAX(AC$1:AC455)+1)","v":""},{"$f":"IF(CMS_Detail!$B478=\"\",\"\",CMS_Detail!$B478)","v":""},{"$f":"IF(CMS_Detail!$C478=\"\",\"\",CMS_Detail!$C478)","v":""},null,"",{"$f":"IF(COUNTIF(AE$2:AE456,AE456)=1,AE456,\"\")","v":""},"","",""]
[null,null,null,null,null,null,null,null,null,null,null,null,null,null,null,null,null,null,{"$f":"+IF(X457=\"\",\"\",MAX(S$1:S456)+1)","v":""},{"$f":"IF(Emission_Limits_Details!$B479=\"\",\"\",Emission_Limits_Details!$B479)","v":""},{"$f":"IF(Emission_Limits_Details!$C479=\"\",\"\",Emission_Limits_Details!$C479)","v":""},null,"",{"$f":"IF(COUNTIF(U$2:U457,U457)=1,U457,\"\")","v":""},"","","",null,{"$f":"+IF(AH457=\"\",\"\",MAX(AC$1:AC456)+1)","v":""},{"$f":"IF(CMS_Detail!$B479=\"\",\"\",CMS_Detail!$B479)","v":""},{"$f":"IF(CMS_Detail!$C479=\"\",\"\",CMS_Detail!$C479)","v":""},null,"",{"$f":"IF(COUNTIF(AE$2:AE457,AE457)=1,AE457,\"\")","v":""},"","",""]
[null,null,null,null,null,null,null,null,null,null,null,null,null,null,null,null,null,null,{"$f":"+IF(X458=\"\",\"\",MAX(S$1:S457)+1)","v":""},{"$f":"IF(Emission_Limits_Details!$B480=\"\",\"\",Emission_Limits_Details!$B480)","v":""},{"$f":"IF(Emission_Limits_Details!$C480=\"\",\"\",Emission_Limits_Details!$C480)","v":""},null,"",{"$f":"IF(COUNTIF(U$2:U458,U458)=1,U458,\"\")","v":""},"","","",null,{"$f":"+IF(AH458=\"\",\"\",MAX(AC$1:AC457)+1)","v":""},{"$f":"IF(CMS_Detail!$B480=\"\",\"\",CMS_Detail!$B480)","v":""},{"$f":"IF(CMS_Detail!$C480=\"\",\"\",CMS_Detail!$C480)","v":""},null,"",{"$f":"IF(COUNTIF(AE$2:AE458,AE458)=1,AE458,\"\")","v":""},"","",""]
[null,null,null,null,null,null,null,null,null,null,null,null,null,null,null,null,null,null,{"$f":"+IF(X459=\"\",\"\",MAX(S$1:S458)+1)","v":""},{"$f":"IF(Emission_Limits_Details!$B481=\"\",\"\",Emission_Limits_Details!$B481)","v":""},{"$f":"IF(Emission_Limits_Details!$C481=\"\",\"\",Emission_Limits_Details!$C481)","v":""},null,"",{"$f":"IF(COUNTIF(U$2:U459,U459)=1,U459,\"\")","v":""},"","","",null,{"$f":"+IF(AH459=\"\",\"\",MAX(AC$1:AC458)+1)","v":""},{"$f":"IF(CMS_Detail!$B481=\"\",\"\",CMS_Detail!$B481)","v":""},{"$f":"IF(CMS_Detail!$C481=\"\",\"\",CMS_Detail!$C481)","v":""},null,"",{"$f":"IF(COUNTIF(AE$2:AE459,AE459)=1,AE459,\"\")","v":""},"","",""]
[null,null,null,null,null,null,null,null,null,null,null,null,null,null,null,null,null,null,{"$f":"+IF(X460=\"\",\"\",MAX(S$1:S459)+1)","v":""},{"$f":"IF(Emission_Limits_Details!$B482=\"\",\"\",Emission_Limits_Details!$B482)","v":""},{"$f":"IF(Emission_Limits_Details!$C482=\"\",\"\",Emission_Limits_Details!$C482)","v":""},null,"",{"$f":"IF(COUNTIF(U$2:U460,U460)=1,U460,\"\")","v":""},"","","",null,{"$f":"+IF(AH460=\"\",\"\",MAX(AC$1:AC459)+1)","v":""},{"$f":"IF(CMS_Detail!$B482=\"\",\"\",CMS_Detail!$B482)","v":""},{"$f":"IF(CMS_Detail!$C482=\"\",\"\",CMS_Detail!$C482)","v":""},null,"",{"$f":"IF(COUNTIF(AE$2:AE460,AE460)=1,AE460,\"\")","v":""},"","",""]
[null,null,null,null,null,null,null,null,null,null,null,null,null,null,null,null,null,null,{"$f":"+IF(X461=\"\",\"\",MAX(S$1:S460)+1)","v":""},{"$f":"IF(Emission_Limits_Details!$B483=\"\",\"\",Emission_Limits_Details!$B483)","v":""},{"$f":"IF(Emission_Limits_Details!$C483=\"\",\"\",Emission_Limits_Details!$C483)","v":""},null,"",{"$f":"IF(COUNTIF(U$2:U461,U461)=1,U461,\"\")","v":""},"","","",null,{"$f":"+IF(AH461=\"\",\"\",MAX(AC$1:AC460)+1)","v":""},{"$f":"IF(CMS_Detail!$B483=\"\",\"\",CMS_Detail!$B483)","v":""},{"$f":"IF(CMS_Detail!$C483=\"\",\"\",CMS_Detail!$C483)","v":""},null,"",{"$f":"IF(COUNTIF(AE$2:AE461,AE461)=1,AE461,\"\")","v":""},"","",""]
[null,null,null,null,null,null,null,null,null,null,null,null,null,null,null,null,null,null,{"$f":"+IF(X462=\"\",\"\",MAX(S$1:S461)+1)","v":""},{"$f":"IF(Emission_Limits_Details!$B484=\"\",\"\",Emission_Limits_Details!$B484)","v":""},{"$f":"IF(Emission_Limits_Details!$C484=\"\",\"\",Emission_Limits_Details!$C484)","v":""},null,"",{"$f":"IF(COUNTIF(U$2:U462,U462)=1,U462,\"\")","v":""},"","","",null,{"$f":"+IF(AH462=\"\",\"\",MAX(AC$1:AC461)+1)","v":""},{"$f":"IF(CMS_Detail!$B484=\"\",\"\",CMS_Detail!$B484)","v":""},{"$f":"IF(CMS_Detail!$C484=\"\",\"\",CMS_Detail!$C484)","v":""},null,"",{"$f":"IF(COUNTIF(AE$2:AE462,AE462)=1,AE462,\"\")","v":""},"","",""]
[null,null,null,null,null,null,null,null,null,null,null,null,null,null,null,null,null,null,{"$f":"+IF(X463=\"\",\"\",MAX(S$1:S462)+1)","v":""},{"$f":"IF(Emission_Limits_Details!$B485=\"\",\"\",Emission_Limits_Details!$B485)","v":""},{"$f":"IF(Emission_Limits_Details!$C485=\"\",\"\",Emission_Limits_Details!$C485)","v":""},null,"",{"$f":"IF(COUNTIF(U$2:U463,U463)=1,U463,\"\")","v":""},"","","",null,{"$f":"+IF(AH463=\"\",\"\",MAX(AC$1:AC462)+1)","v":""},{"$f":"IF(CMS_Detail!$B485=\"\",\"\",CMS_Detail!$B485)","v":""},{"$f":"IF(CMS_Detail!$C485=\"\",\"\",CMS_Detail!$C485)","v":""},null,"",{"$f":"IF(COUNTIF(AE$2:AE463,AE463)=1,AE463,\"\")","v":""},"","",""]
[null,null,null,null,null,null,null,null,null,null,null,null,null,null,null,null,null,null,{"$f":"+IF(X464=\"\",\"\",MAX(S$1:S463)+1)","v":""},{"$f":"IF(Emission_Limits_Details!$B486=\"\",\"\",Emission_Limits_Details!$B486)","v":""},{"$f":"IF(Emission_Limits_Details!$C486=\"\",\"\",Emission_Limits_Details!$C486)","v":""},null,"",{"$f":"IF(COUNTIF(U$2:U464,U464)=1,U464,\"\")","v":""},"","","",null,{"$f":"+IF(AH464=\"\",\"\",MAX(AC$1:AC463)+1)","v":""},{"$f":"IF(CMS_Detail!$B486=\"\",\"\",CMS_Detail!$B486)","v":""},{"$f":"IF(CMS_Detail!$C486=\"\",\"\",CMS_Detail!$C486)","v":""},null,"",{"$f":"IF(COUNTIF(AE$2:AE464,AE464)=1,AE464,\"\")","v":""},"","",""]
[null,null,null,null,null,null,null,null,null,null,null,null,null,null,null,null,null,null,{"$f":"+IF(X465=\"\",\"\",MAX(S$1:S464)+1)","v":""},{"$f":"IF(Emission_Limits_Details!$B487=\"\",\"\",Emission_Limits_Details!$B487)","v":""},{"$f":"IF(Emission_Limits_Details!$C487=\"\",\"\",Emission_Limits_Details!$C487)","v":""},null,"",{"$f":"IF(COUNTIF(U$2:U465,U465)=1,U465,\"\")","v":""},"","","",null,{"$f":"+IF(AH465=\"\",\"\",MAX(AC$1:AC464)+1)","v":""},{"$f":"IF(CMS_Detail!$B487=\"\",\"\",CMS_Detail!$B487)","v":""},{"$f":"IF(CMS_Detail!$C487=\"\",\"\",CMS_Detail!$C487)","v":""},null,"",{"$f":"IF(COUNTIF(AE$2:AE465,AE465)=1,AE465,\"\")","v":""},"","",""]
[null,null,null,null,null,null,null,null,null,null,null,null,null,null,null,null,null,null,{"$f":"+IF(X466=\"\",\"\",MAX(S$1:S465)+1)","v":""},{"$f":"IF(Emission_Limits_Details!$B488=\"\",\"\",Emission_Limits_Details!$B488)","v":""},{"$f":"IF(Emission_Limits_Details!$C488=\"\",\"\",Emission_Limits_Details!$C488)","v":""},null,"",{"$f":"IF(COUNTIF(U$2:U466,U466)=1,U466,\"\")","v":""},"","","",null,{"$f":"+IF(AH466=\"\",\"\",MAX(AC$1:AC465)+1)","v":""},{"$f":"IF(CMS_Detail!$B488=\"\",\"\",CMS_Detail!$B488)","v":""},{"$f":"IF(CMS_Detail!$C488=\"\",\"\",CMS_Detail!$C488)","v":""},null,"",{"$f":"IF(COUNTIF(AE$2:AE466,AE466)=1,AE466,\"\")","v":""},"","",""]
[null,null,null,null,null,null,null,null,null,null,null,null,null,null,null,null,null,null,{"$f":"+IF(X467=\"\",\"\",MAX(S$1:S466)+1)","v":""},{"$f":"IF(Emission_Limits_Details!$B489=\"\",\"\",Emission_Limits_Details!$B489)","v":""},{"$f":"IF(Emission_Limits_Details!$C489=\"\",\"\",Emission_Limits_Details!$C489)","v":""},null,"",{"$f":"IF(COUNTIF(U$2:U467,U467)=1,U467,\"\")","v":""},"","","",null,{"$f":"+IF(AH467=\"\",\"\",MAX(AC$1:AC466)+1)","v":""},{"$f":"IF(CMS_Detail!$B489=\"\",\"\",CMS_Detail!$B489)","v":""},{"$f":"IF(CMS_Detail!$C489=\"\",\"\",CMS_Detail!$C489)","v":""},null,"",{"$f":"IF(COUNTIF(AE$2:AE467,AE467)=1,AE467,\"\")","v":""},"","",""]
[null,null,null,null,null,null,null,null,null,null,null,null,null,null,null,null,null,null,{"$f":"+IF(X468=\"\",\"\",MAX(S$1:S467)+1)","v":""},{"$f":"IF(Emission_Limits_Details!$B490=\"\",\"\",Emission_Limits_Details!$B490)","v":""},{"$f":"IF(Emission_Limits_Details!$C490=\"\",\"\",Emission_Limits_Details!$C490)","v":""},null,"",{"$f":"IF(COUNTIF(U$2:U468,U468)=1,U468,\"\")","v":""},"","","",null,{"$f":"+IF(AH468=\"\",\"\",MAX(AC$1:AC467)+1)","v":""},{"$f":"IF(CMS_Detail!$B490=\"\",\"\",CMS_Detail!$B490)","v":""},{"$f":"IF(CMS_Detail!$C490=\"\",\"\",CMS_Detail!$C490)","v":""},null,"",{"$f":"IF(COUNTIF(AE$2:AE468,AE468)=1,AE468,\"\")","v":""},"","",""]
[null,null,null,null,null,null,null,null,null,null,null,null,null,null,null,null,null,null,{"$f":"+IF(X469=\"\",\"\",MAX(S$1:S468)+1)","v":""},{"$f":"IF(Emission_Limits_Details!$B491=\"\",\"\",Emission_Limits_Details!$B491)","v":""},{"$f":"IF(Emission_Limits_Details!$C491=\"\",\"\",Emission_Limits_Details!$C491)","v":""},null,"",{"$f":"IF(COUNTIF(U$2:U469,U469)=1,U469,\"\")","v":""},"","","",null,{"$f":"+IF(AH469=\"\",\"\",MAX(AC$1:AC468)+1)","v":""},{"$f":"IF(CMS_Detail!$B491=\"\",\"\",CMS_Detail!$B491)","v":""},{"$f":"IF(CMS_Detail!$C491=\"\",\"\",CMS_Detail!$C491)","v":""},null,"",{"$f":"IF(COUNTIF(AE$2:AE469,AE469)=1,AE469,\"\")","v":""},"","",""]
[null,null,null,null,null,null,null,null,null,null,null,null,null,null,null,null,null,null,{"$f":"+IF(X470=\"\",\"\",MAX(S$1:S469)+1)","v":""},{"$f":"IF(Emission_Limits_Details!$B492=\"\",\"\",Emission_Limits_Details!$B492)","v":""},{"$f":"IF(Emission_Limits_Details!$C492=\"\",\"\",Emission_Limits_Details!$C492)","v":""},null,"",{"$f":"IF(COUNTIF(U$2:U470,U470)=1,U470,\"\")","v":""},"","","",null,{"$f":"+IF(AH470=\"\",\"\",MAX(AC$1:AC469)+1)","v":""},{"$f":"IF(CMS_Detail!$B492=\"\",\"\",CMS_Detail!$B492)","v":""},{"$f":"IF(CMS_Detail!$C492=\"\",\"\",CMS_Detail!$C492)","v":""},null,"",{"$f":"IF(COUNTIF(AE$2:AE470,AE470)=1,AE470,\"\")","v":""},"","",""]
[null,null,null,null,null,null,null,null,null,null,null,null,null,null,null,null,null,null,{"$f":"+IF(X471=\"\",\"\",MAX(S$1:S470)+1)","v":""},{"$f":"IF(Emission_Limits_Details!$B493=\"\",\"\",Emission_Limits_Details!$B493)","v":""},{"$f":"IF(Emission_Limits_Details!$C493=\"\",\"\",Emission_Limits_Details!$C493)","v":""},null,"",{"$f":"IF(COUNTIF(U$2:U471,U471)=1,U471,\"\")","v":""},"","","",null,{"$f":"+IF(AH471=\"\",\"\",MAX(AC$1:AC470)+1)","v":""},{"$f":"IF(CMS_Detail!$B493=\"\",\"\",CMS_Detail!$B493)","v":""},{"$f":"IF(CMS_Detail!$C493=\"\",\"\",CMS_Detail!$C493)","v":""},null,"",{"$f":"IF(COUNTIF(AE$2:AE471,AE471)=1,AE471,\"\")","v":""},"","",""]
[null,null,null,null,null,null,null,null,null,null,null,null,null,null,null,null,null,null,{"$f":"+IF(X472=\"\",\"\",MAX(S$1:S471)+1)","v":""},{"$f":"IF(Emission_Limits_Details!$B494=\"\",\"\",Emission_Limits_Details!$B494)","v":""},{"$f":"IF(Emission_Limits_Details!$C494=\"\",\"\",Emission_Limits_Details!$C494)","v":""},null,"",{"$f":"IF(COUNTIF(U$2:U472,U472)=1,U472,\"\")","v":""},"","","",null,{"$f":"+IF(AH472=\"\",\"\",MAX(AC$1:AC471)+1)","v":""},{"$f":"IF(CMS_Detail!$B494=\"\",\"\",CMS_Detail!$B494)","v":""},{"$f":"IF(CMS_Detail!$C494=\"\",\"\",CMS_Detail!$C494)","v":""},null,"",{"$f":"IF(COUNTIF(AE$2:AE472,AE472)=1,AE472,\"\")","v":""},"","",""]
[null,null,null,null,null,null,null,null,null,null,null,null,null,null,null,null,null,null,{"$f":"+IF(X473=\"\",\"\",MAX(S$1:S472)+1)","v":""},{"$f":"IF(Emission_Limits_Details!$B495=\"\",\"\",Emission_Limits_Details!$B495)","v":""},{"$f":"IF(Emission_Limits_Details!$C495=\"\",\"\",Emission_Limits_Details!$C495)","v":""},null,"",{"$f":"IF(COUNTIF(U$2:U473,U473)=1,U473,\"\")","v":""},"","","",null,{"$f":"+IF(AH473=\"\",\"\",MAX(AC$1:AC472)+1)","v":""},{"$f":"IF(CMS_Detail!$B495=\"\",\"\",CMS_Detail!$B495)","v":""},{"$f":"IF(CMS_Detail!$C495=\"\",\"\",CMS_Detail!$C495)","v":""},null,"",{"$f":"IF(COUNTIF(AE$2:AE473,AE473)=1,AE473,\"\")","v":""},"","",""]
[null,null,null,null,null,null,null,null,null,null,null,null,null,null,null,null,null,null,{"$f":"+IF(X474=\"\",\"\",MAX(S$1:S473)+1)","v":""},{"$f":"IF(Emission_Limits_Details!$B496=\"\",\"\",Emission_Limits_Details!$B496)","v":""},{"$f":"IF(Emission_Limits_Details!$C496=\"\",\"\",Emission_Limits_Details!$C496)","v":""},null,"",{"$f":"IF(COUNTIF(U$2:U474,U474)=1,U474,\"\")","v":""},"","","",null,{"$f":"+IF(AH474=\"\",\"\",MAX(AC$1:AC473)+1)","v":""},{"$f":"IF(CMS_Detail!$B496=\"\",\"\",CMS_Detail!$B496)","v":""},{"$f":"IF(CMS_Detail!$C496=\"\",\"\",CMS_Detail!$C496)","v":""},null,"",{"$f":"IF(COUNTIF(AE$2:AE474,AE474)=1,AE474,\"\")","v":""},"","",""]
[null,null,null,null,null,null,null,null,null,null,null,null,null,null,null,null,null,null,{"$f":"+IF(X475=\"\",\"\",MAX(S$1:S474)+1)","v":""},{"$f":"IF(Emission_Limits_Details!$B497=\"\",\"\",Emission_Limits_Details!$B497)","v":""},{"$f":"IF(Emission_Limits_Details!$C497=\"\",\"\",Emission_Limits_Details!$C497)","v":""},null,"",{"$f":"IF(COUNTIF(U$2:U475,U475)=1,U475,\"\")","v":""},"","","",null,{"$f":"+IF(AH475=\"\",\"\",MAX(AC$1:AC474)+1)","v":""},{"$f":"IF(CMS_Detail!$B497=\"\",\"\",CMS_Detail!$B497)","v":""},{"$f":"IF(CMS_Detail!$C497=\"\",\"\",CMS_Detail!$C497)","v":""},null,"",{"$f":"IF(COUNTIF(AE$2:AE475,AE475)=1,AE475,\"\")","v":""},"","",""]
[null,null,null,null,null,null,null,null,null,null,null,null,null,null,null,null,null,null,{"$f":"+IF(X476=\"\",\"\",MAX(S$1:S475)+1)","v":""},{"$f":"IF(Emission_Limits_Details!$B498=\"\",\"\",Emission_Limits_Details!$B498)","v":""},{"$f":"IF(Emission_Limits_Details!$C498=\"\",\"\",Emission_Limits_Details!$C498)","v":""},null,"",{"$f":"IF(COUNTIF(U$2:U476,U476)=1,U476,\"\")","v":""},"","","",null,{"$f":"+IF(AH476=\"\",\"\",MAX(AC$1:AC475)+1)","v":""},{"$f":"IF(CMS_Detail!$B498=\"\",\"\",CMS_Detail!$B498)","v":""},{"$f":"IF(CMS_Detail!$C498=\"\",\"\",CMS_Detail!$C498)","v":""},null,"",{"$f":"IF(COUNTIF(AE$2:AE476,AE476)=1,AE476,\"\")","v":""},"","",""]
[null,null,null,null,null,null,null,null,null,null,null,null,null,null,null,null,null,null,{"$f":"+IF(X477=\"\",\"\",MAX(S$1:S476)+1)","v":""},{"$f":"IF(Emission_Limits_Details!$B499=\"\",\"\",Emission_Limits_Details!$B499)","v":""},{"$f":"IF(Emission_Limits_Details!$C499=\"\",\"\",Emission_Limits_Details!$C499)","v":""},null,"",{"$f":"IF(COUNTIF(U$2:U477,U477)=1,U477,\"\")","v":""},"","","",null,{"$f":"+IF(AH477=\"\",\"\",MAX(AC$1:AC476)+1)","v":""},{"$f":"IF(CMS_Detail!$B499=\"\",\"\",CMS_Detail!$B499)","v":""},{"$f":"IF(CMS_Detail!$C499=\"\",\"\",CMS_Detail!$C499)","v":""},null,"",{"$f":"IF(COUNTIF(AE$2:AE477,AE477)=1,AE477,\"\")","v":""},"","",""]
[null,null,null,null,null,null,null,null,null,null,null,null,null,null,null,null,null,null,{"$f":"+IF(X478=\"\",\"\",MAX(S$1:S477)+1)","v":""},{"$f":"IF(Emission_Limits_Details!$B500=\"\",\"\",Emission_Limits_Details!$B500)","v":""},{"$f":"IF(Emission_Limits_Details!$C500=\"\",\"\",Emission_Limits_Details!$C500)","v":""},null,"",{"$f":"IF(COUNTIF(U$2:U478,U478)=1,U478,\"\")","v":""},"","","",null,{"$f":"+IF(AH478=\"\",\"\",MAX(AC$1:AC477)+1)","v":""},{"$f":"IF(CMS_Detail!$B500=\"\",\"\",CMS_Detail!$B500)","v":""},{"$f":"IF(CMS_Detail!$C500=\"\",\"\",CMS_Detail!$C500)","v":""},null,"",{"$f":"IF(COUNTIF(AE$2:AE478,AE478)=1,AE478,\"\")","v":""},"","",""]

{"sheet":"Welcome","index":1,"n_rows":13,"n_cols":16384,"rows_kept":13,"cut":false,"hidden":false,"merged":[],"flags":["row_too_large"]}
["DO NOT REMOVE OR EDIT INFORMATION IN ROWS 1 THROUGH 5\nFOR INTERNAL USE ONLY"]
["Template Name","63.9350(a) Semiannual Compliance Report (Spreadsheet Template)"]
["CitationID","63.9350(a)"]
["Template Version","v3.01"]
["Last Updated Date",45391]
["Blank","OMB Control No.: 2060-0483"]
[null,"For further Paperwork Reduction Act information see: \nhttps://www.epa.gov/electronic-reporting-air-emissions/paperwork-reduction-act-pra-cedri-and-ert"]
["Blank","40 CFR Part 63, Subpart PPPPP National Emission Standards for Hazardous Air Pollutants for Engine Test Cells/Stands - \n§63.9350(a)  Semiannual Compliance Report Spreadsheet Template"]
["Blank","Instructions for Spreadsheet Template\n\nPurpose:\nThis spreadsheet template was designed by the U.S. EPA to facilitate Semiannual Compliance reporting for facilities subject under the 40 CFR part 63, subpart PPPPP National Emission Standard for Hazardous Air Pollutants for Engine Test Cells/Stands.  \n\nElectronic reporting:\nElectronic submission of Semiannual Compliance Reports through the EPA's Compliance and Emissions Data Reporting Interface (CEDRI) is required under §63.9350(a)(7). CEDRI is accessed through the EPA's Central Data Exchange (https://cdx.epa.gov).\n"]
[null,"\nThe CEDRI spreadsheet template upload feature allows you to submit data in a single report for a single company or multiple companies, as well as multiple sites, using this EPA provided Excel workbook.  Data for each company must be entered into the worksheet labeled \"Company Information\" in this Excel workbook.  Each row in the \"Company Information\" worksheet includes the data for a single company. The Company Record No. will be used to match the information on each tab to the appropriate company.  You may assign any value or text as a Company Record No. or allow the spreadsheet to assign a number.\n\n\nFor each facility record found in the \"Company Information\" worksheet, you may reference a single file attachment that includes additional information. "]
[{"$cut":{"chars":2175843,"head":""}}]
["Blank","IMPORTANT: The spreadsheet must be uploaded into CEDRI as a single ZIP file, which must include this Excel workbook and any related attachments that were referenced in the workbook (i.e., additional information file found in the \"Company Information\" worksheet).\n\nNote: If you are uploading file attachments for your report, the uploaded files may be in any format (e.g., zip, docx, PDF). If you would like to include an Excel file(s) as an attachment, you must first zip the excel file(s) into a separate ZIP file to the master ZIP file that will be uploaded into CEDRI.\n\nOnce all data have been entered in the worksheet, combine this Excel workbook and all attachment files (including any ZIP file containing separate excel file(s), if applicable) into a single ZIP file for upload to CEDRI.\n\nPlease ensure your report includes all of the required data elements found in the listed citations below for this spreadsheet upload submission."]
["Blank","Template Navigation and Tabs to Complete:\nGray Tab:  The gray tab (Company_Information) contains mostly general information that is likely to be unchanged from report to report.  After completing the gray tab, the workbook may be saved as a site specific template for use in subsequent reports to limit subsequent data entry.  The reporting period dates and the date of report will need to be changed each report. \n\nGreen Tabs:  Green tabs (Emission_Limits_Details, Summary_Report_EmissionLimits, CMS_Identification, CMS_Detail, Summary_Report_CMS, Operating_Limits_Details, Summary_Report_OperatingLimits, Description_of_Changes, and Certification) are to be completed as necessary to complete the Semiannual report.   Some cells are linked to previous tabs or are calculations dependent upon data entry.  Many cells have a dynamic dropdown which changes based upon entries in preceding tabs, these dropdown menus will be blank if the appropriate data has not been completed. The Certification tab must be completed for every report.\n\nWithin the tabs, example rows are colored light orange (rows 14 through 23), and the XML tags (row 13) are colored green.  These rows are locked; no data entry is made in these rows.  Locked columns containing calculations are colored light pink, no data entry is possible in these columns."]

{"sheet":"Company_Information","index":2,"n_rows":33,"n_cols":15,"rows_kept":33,"cut":false,"hidden":false,"merged":[]}
[null,"DO NOT REMOVE OR EDIT INFORMATION IN ROWS 1 THROUGH 5\nFOR INTERNAL USE ONLY"]
[null,"Template Name",{"$f":"+Welcome!B2","v":"63.9350(a) Semiannual Compliance Report (Spreadsheet Template)"}]
[null,"CitationID",{"$f":"+Welcome!B3","v":"63.9350(a)"}]
[null,"Template Version",{"$f":"+Welcome!B4","v":"v3.01"}]
[null,"Last Updated Date",{"$f":"+Welcome!B5","v":45391}]
[]
[null,"40 CFR Part 63, Subpart PPPPP National Emission Standards for Hazardous Air Pollutants for Engine Test Cells/Stands - §63.9350(a)  Semiannual Compliance Report Spreadsheet Template"]
[]
[]
[null,"* Required Field"]
[null,null,"SITE INFORMATION",null,null,null,null,null,null,null,"REPORTING PERIOD",null,null,"ADDITIONAL INFORMATION"]
[null,"Company Record No. *\n(Field value will automatically generate if a value is not entered.)","Company Name * \n(§63.9350(b)(1))","Address * \n(§63.9350(b)(1))","Address 2 ","City *\n(§63.9350(b)(1))","County","State Abbreviation *\n(§63.9350(b)(1))","Zip Code *\n(§63.9350(b)(1))","Responsible Agency Facility ID \n(State Facility Identifier)","Date of Report *\n(§63.9350(b)(3))","Beginning Date of Reporting Period  *\n(§63.9350(b)(3))","Ending Date of\n Reporting Period*\n(§63.9350(b)(3))","Please enter any additional information.","Enter associated file name reference. "]
[null,"RecordId","CompanyName","AddressLine1","AddressLine2","CityName","CountyName","StateName","ZIPCode","StateFacID","ReportDate","PeriodStartDate","PeriodEndDate","AddInfo","AddFile"]
[null,"e.g.: 1","e.g.: ABC Company","e.g.: 123 Main Street","e.g.: Suite 100","e.g.: Brooklyn","e.g.: Kings","e.g.: NY","e.g.: 11221","e.g.: 9145555555","e.g.: 7/15/2019","e.g.: 01/01/2020","e.g.: 6/30/2019",null,"e.g.: addlinfo.zip "]
[]
[]
[]
[]
[]
[]
[]
[]
[]
[null,{"$f":"IF(C24=\"\",\"\",ROW(B24)-23)","v":""}]
[null,""]
[null,""]
[null,""]
[null,""]
[null,""]
[null,""]
[null,""]
[null,""]
[null,""]

{"sheet":"Emission_Limits_Details","index":3,"n_rows":500,"n_cols":12,"rows_kept":500,"cut":false,"hidden":false,"merged":[]}
[null,"DO NOT REMOVE OR EDIT INFORMATION IN ROWS 1 THROUGH 5\nFOR INTERNAL USE ONLY"]
[null,"Template Name",{"$f":"+Welcome!B2","v":"63.9350(a) Semiannual Compliance Report (Spreadsheet Template)"}]
[null,"CitationID",{"$f":"+Welcome!B3","v":"63.9350(a)"}]
[null,"Template Version",{"$f":"+Welcome!B4","v":"v3.01"}]
[null,"Last Updated Date",{"$f":"+Welcome!B5","v":45391}]
[]
[null,"40 CFR Part 63, Subpart PPPPP National Emission Standards for Hazardous Air Pollutants for Engine Test Cells/Stands - §63.9350(a)  Semiannual Compliance Report Spreadsheet Template"]
[]
[]
[]
[null,"* Required Field"]
[null,"Company Record No.  *\n(Select from dropdown)","Emission Limit Deviated From *\n(§63.9350(c))\n(Select from dropdown)","Starting Date of Deviation *\n(§63.9350(c)(1))","Starting Time of \nDeviation *\n(§63.9350(c)(1))","Ending Date of Deviation *\n(§63.9350(c)(1))","Ending Time of \nDeviation *\n(§63.9350(c)(1))","Duration of Deviation \n(hours)  \n(Calculated value)","Cause of Deviation *\n(§63.9350(c)(4))\n(Select from dropdown)","Estimate of Emissions *\n(§63.9350(c)(5))","Units of Emissions Estimate *\n(§63.9350(c)(5))\n(Select from dropdown)","Method Used to Estimate Emissions *\n(§63.9350(c)(5))"]
[null,"RecordId","EmissionOperatingLimit","EmissionOutageStartDate","EmissionOutageStartTime","EmissionOutageEndDate","EmissionOutageEndTime","EmissionOutageDuration","DeviationCause","EmissionQuantity","EmissionUnits","EstimationMethod"]
[null,"e.g.: 1","e.g.:  CO Concentration 20 ppmvd at 15% Oxygen","e.g.: 2/12/2019","e.g.: 13:05","e.g.: 2/12/2019","e.g.: 19:05","e.g.: 6.00","e.g.: Control Equipment Problems","e.g.: 0.1","e.g.: tons","e.g.: Engineering calculations"]
[]
[]
[]
[]
[]
[]
[]
[]
[]
[null,null,null,null,null,null,null,{"$f":"IF(G24=\"\",\"\",(VALUE(TEXT(F24,\"m/dd/yy \")&TEXT(G24,\"hh:mm:ss\"))-(VALUE(TEXT(D24,\"m/dd/yy \")&TEXT(E24,\"hh:mm:ss\"))))*24)","v":""}]
[null,null,null,null,null,null,null,""]
[null,null,null,null,null,null,null,""]
[null,null,null,null,null,null,null,""]
[null,null,null,null,null,null,null,""]
[null,null,null,null,null,null,null,""]
[null,null,null,null,null,null,null,""]
[null,null,null,null,null,null,null,""]
[null,null,null,null,null,null,null,""]
[null,null,null,null,null,null,null,""]
[null,null,null,null,null,null,null,""]
[null,null,null,null,null,null,null,""]
[null,null,null,null,null,null,null,""]
[null,null,null,null,null,null,null,""]
[null,null,null,null,null,null,null,""]
[null,null,null,null,null,null,null,""]
[null,null,null,null,null,null,null,""]
[null,null,null,null,null,null,null,""]
[null,null,null,null,null,null,null,""]
[null,null,null,null,null,null,null,""]
[null,null,null,null,null,null,null,""]
[null,null,null,null,null,null,null,""]
[null,null,null,null,null,null,null,""]
[null,null,null,null,null,null,null,""]
[null,null,null,null,null,null,null,""]
[null,null,null,null,null,null,null,""]
[null,null,null,null,null,null,null,""]
[null,null,null,null,null,null,null,""]
[null,null,null,null,null,null,null,""]
[null,null,null,null,null,null,null,""]
[null,null,null,null,null,null,null,""]
[null,null,null,null,null,null,null,""]
[null,null,null,null,null,null,null,""]
[null,null,null,null,null,null,null,""]
[null,null,null,null,null,null,null,""]
[null,null,null,null,null,null,null,""]
[null,null,null,null,null,null,null,""]
[null,null,null,null,null,null,null,""]
[null,null,null,null,null,null,null,""]
[null,null,null,null,null,null,null,""]
[null,null,null,null,null,null,null,""]
[null,null,null,null,null,null,null,""]
[null,null,null,null,null,null,null,""]
[null,null,null,null,null,null,null,""]
[null,null,null,null,null,null,null,""]
[null,null,null,null,null,null,null,""]
[null,null,null,null,null,null,null,""]
[null,null,null,null,null,null,null,""]
[null,null,null,null,null,null,null,""]
[null,null,null,null,null,null,null,""]
[null,null,null,null,null,null,null,""]
[null,null,null,null,null,null,null,""]
[null,null,null,null,null,null,null,""]
[null,null,null,null,null,null,null,""]
[null,null,null,null,null,null,null,""]
[null,null,null,null,null,null,null,""]
[null,null,null,null,null,null,null,""]
[null,null,null,null,null,null,null,""]
[null,null,null,null,null,null,null,""]
[null,null,null,null,null,null,null,""]
[null,null,null,null,null,null,null,""]
[null,null,null,null,null,null,null,""]
[null,null,null,null,null,null,null,""]
[null,null,null,null,null,null,null,""]
[null,null,null,null,null,null,null,""]
[null,null,null,null,null,null,null,{"$f":"IF(G89=\"\",\"\",(VALUE(TEXT(F89,\"m/dd/yy \")&TEXT(G89,\"hh:mm:ss\"))-(VALUE(TEXT(D89,\"m/dd/yy \")&TEXT(E89,\"hh:mm:ss\"))))*24)","v":""}]
[null,null,null,null,null,null,null,""]
[null,null,null,null,null,null,null,""]
[null,null,null,null,null,null,null,""]
[null,null,null,null,null,null,null,""]
[null,null,null,null,null,null,null,""]
[null,null,null,null,null,null,null,""]
[null,null,null,null,null,null,null,""]
[null,null,null,null,null,null,null,""]
[null,null,null,null,null,null,null,""]
[null,null,null,null,null,null,null,""]
[null,null,null,null,null,null,null,""]
[null,null,null,null,null,null,null,""]
[null,null,null,null,null,null,null,""]
[null,null,null,null,null,null,null,""]
[null,null,null,null,null,null,null,""]
[null,null,null,null,null,null,null,""]
[null,null,null,null,null,null,null,""]
[null,null,null,null,null,null,null,""]
[null,null,null,null,null,null,null,""]
[null,null,null,null,null,null,null,""]
[null,null,null,null,null,null,null,""]
[null,null,null,null,null,null,null,""]
[null,null,null,null,null,null,null,""]
[null,null,null,null,null,null,null,""]
[null,null,null,null,null,null,null,""]
[null,null,null,null,null,null,null,""]
[null,null,null,null,null,null,null,""]
[null,null,null,null,null,null,null,""]
[null,null,null,null,null,null,null,""]
[null,null,null,null,null,null,null,""]
[null,null,null,null,null,null,null,""]
[null,null,null,null,null,null,null,""]
[null,null,null,null,null,null,null,""]
[null,null,null,null,null,null,null,""]
[null,null,null,null,null,null,null,""]
[null,null,null,null,null,null,null,""]
[null,null,null,null,null,null,null,""]
[null,null,null,null,null,null,null,""]
[null,null,null,null,null,null,null,""]
[null,null,null,null,null,null,null,""]
[null,null,null,null,null,null,null,""]
[null,null,null,null,null,null,null,""]
[null,null,null,null,null,null,null,""]
[null,null,null,null,null,null,null,""]
[null,null,null,null,null,null,null,""]
[null,null,null,null,null,null,null,""]
[null,null,null,null,null,null,null,""]
[null,null,null,null,null,null,null,""]
[null,null,null,null,null,null,null,""]
[null,null,null,null,null,null,null,""]
[null,null,null,null,null,null,null,""]
[null,null,null,null,null,null,null,""]
[null,null,null,null,null,null,null,""]
[null,null,null,null,null,null,null,""]
[null,null,null,null,null,null,null,""]
[null,null,null,null,null,null,null,""]
[null,null,null,null,null,null,null,""]
[null,null,null,null,null,null,null,""]
[null,null,null,null,null,null,null,""]
[null,null,null,null,null,null,null,""]
[null,null,null,null,null,null,null,""]
[null,null,null,null,null,null,null,""]
[null,null,null,null,null,null,null,""]
[null,null,null,null,null,null,null,{"$f":"IF(G153=\"\",\"\",(VALUE(TEXT(F153,\"m/dd/yy \")&TEXT(G153,\"hh:mm:ss\"))-(VALUE(TEXT(D153,\"m/dd/yy \")&TEXT(E153,\"hh:mm:ss\"))))*24)","v":""}]
[null,null,null,null,null,null,null,""]
[null,null,null,null,null,null,null,""]
[null,null,null,null,null,null,null,""]
[null,null,null,null,null,null,null,""]
[null,null,null,null,null,null,null,""]
[null,null,null,null,null,null,null,""]
[null,null,null,null,null,null,null,""]
[null,null,null,null,null,null,null,""]
[null,null,null,null,null,null,null,""]
[null,null,null,null,null,null,null,""]
[null,null,null,null,null,null,null,""]
[null,null,null,null,null,null,null,""]
[null,null,null,null,null,null,null,""]
[null,null,null,null,null,null,null,""]
[null,null,null,null,null,null,null,""]
[null,null,null,null,null,null,null,""]
[null,null,null,null,null,null,null,""]
[null,null,null,null,null,null,null,""]
[null,null,null,null,null,null,null,""]
[null,null,null,null,null,null,null,""]
[null,null,null,null,null,null,null,""]
[null,null,null,null,null,null,null,""]
[null,null,null,null,null,null,null,""]
[null,null,null,null,null,null,null,""]
[null,null,null,null,null,null,null,""]
[null,null,null,null,null,null,null,""]
[null,null,null,null,null,null,null,""]
[null,null,null,null,null,null,null,""]
[null,null,null,null,null,null,null,""]
[null,null,null,null,null,null,null,""]
[null,null,null,null,null,null,null,""]
[null,null,null,null,null,null,null,""]
[null,null,null,null,null,null,null,""]
[null,null,null,null,null,null,null,""]
[null,null,null,null,null,null,null,""]
[null,null,null,null,null,null,null,""]
[null,null,null,null,null,null,null,""]
[null,null,null,null,null,null,null,""]
[null,null,null,null,null,null,null,""]
[null,null,null,null,null,null,null,""]
[null,null,null,null,null,null,null,""]
[null,null,null,null,null,null,null,""]
[null,null,null,null,null,null,null,""]
[null,null,null,null,null,null,null,""]
[null,null,null,null,null,null,null,""]
[null,null,null,null,null,null,null,""]
[null,null,null,null,null,null,null,""]
[null,null,null,null,null,null,null,""]
[null,null,null,null,null,null,null,""]
[null,null,null,null,null,null,null,""]
[null,null,null,null,null,null,null,""]
[null,null,null,null,null,null,null,""]
[null,null,null,null,null,null,null,""]
[null,null,null,null,null,null,null,""]
[null,null,null,null,null,null,null,""]
[null,null,null,null,null,null,null,""]
[null,null,null,null,null,null,null,""]
[null,null,null,null,null,null,null,""]
[null,null,null,null,null,null,null,""]
[null,null,null,null,null,null,null,""]
[null,null,null,null,null,null,null,""]
[null,null,null,null,null,null,null,""]
[null,null,null,null,null,null,null,""]
[null,null,null,null,null,null,null,{"$f":"IF(G217=\"\",\"\",(VALUE(TEXT(F217,\"m/dd/yy \")&TEXT(G217,\"hh:mm:ss\"))-(VALUE(TEXT(D217,\"m/dd/yy \")&TEXT(E217,\"hh:mm:ss\"))))*24)","v":""}]
[null,null,null,null,null,null,null,""]
[null,null,null,null,null,null,null,""]
[null,null,null,null,null,null,null,""]
[null,null,null,null,null,null,null,""]
[null,null,null,null,null,null,null,""]
[null,null,null,null,null,null,null,""]
[null,null,null,null,null,null,null,""]
[null,null,null,null,null,null,null,""]
[null,null,null,null,null,null,null,""]
[null,null,null,null,null,null,null,""]
[null,null,null,null,null,null,null,""]
[null,null,null,null,null,null,null,""]
[null,null,null,null,null,null,null,""]
[null,null,null,null,null,null,null,""]
[null,null,null,null,null,null,null,""]
[null,null,null,null,null,null,null,""]
[null,null,null,null,null,null,null,""]
[null,null,null,null,null,null,null,""]
[null,null,null,null,null,null,null,""]
[null,null,null,null,null,null,null,""]
[null,null,null,null,null,null,null,""]
[null,null,null,null,null,null,null,""]
[null,null,null,null,null,null,null,""]
[null,null,null,null,null,null,null,""]
[null,null,null,null,null,null,null,""]
[null,null,null,null,null,null,null,""]
[null,null,null,null,null,null,null,""]
[null,null,null,null,null,null,null,""]
[null,null,null,null,null,null,null,""]
[null,null,null,null,null,null,null,""]
[null,null,null,null,null,null,null,""]
[null,null,null,null,null,null,null,""]
[null,null,null,null,null,null,null,""]
[null,null,null,null,null,null,null,""]
[null,null,null,null,null,null,null,""]
[null,null,null,null,null,null,null,""]
[null,null,null,null,null,null,null,""]
[null,null,null,null,null,null,null,""]
[null,null,null,null,null,null,null,""]
[null,null,null,null,null,null,null,""]
[null,null,null,null,null,null,null,""]
[null,null,null,null,null,null,null,""]
[null,null,null,null,null,null,null,""]
[null,null,null,null,null,null,null,""]
[null,null,null,null,null,null,null,""]
[null,null,null,null,null,null,null,""]
[null,null,null,null,null,null,null,""]
[null,null,null,null,null,null,null,""]
[null,null,null,null,null,null,null,""]
[null,null,null,null,null,null,null,""]
[null,null,null,null,null,null,null,""]
[null,null,null,null,null,null,null,""]
[null,null,null,null,null,null,null,""]
[null,null,null,null,null,null,null,""]
[null,null,null,null,null,null,null,""]
[null,null,null,null,null,null,null,""]
[null,null,null,null,null,null,null,""]
[null,null,null,null,null,null,null,""]
[null,null,null,null,null,null,null,""]
[null,null,null,null,null,null,null,""]
[null,null,null,null,null,null,null,""]
[null,null,null,null,null,null,null,""]
[null,null,null,null,null,null,null,""]
[null,null,null,null,null,null,null,{"$f":"IF(G281=\"\",\"\",(VALUE(TEXT(F281,\"m/dd/yy \")&TEXT(G281,\"hh:mm:ss\"))-(VALUE(TEXT(D281,\"m/dd/yy \")&TEXT(E281,\"hh:mm:ss\"))))*24)","v":""}]
[null,null,null,null,null,null,null,""]
[null,null,null,null,null,null,null,""]
[null,null,null,null,null,null,null,""]
[null,null,null,null,null,null,null,""]
[null,null,null,null,null,null,null,""]
[null,null,null,null,null,null,null,""]
[null,null,null,null,null,null,null,""]
[null,null,null,null,null,null,null,""]
[null,null,null,null,null,null,null,""]
[null,null,null,null,null,null,null,""]
[null,null,null,null,null,null,null,""]
[null,null,null,null,null,null,null,""]
[null,null,null,null,null,null,null,""]
[null,null,null,null,null,null,null,""]
[null,null,null,null,null,null,null,""]
[null,null,null,null,null,null,null,""]
[null,null,null,null,null,null,null,""]
[null,null,null,null,null,null,null,""]
[null,null,null,null,null,null,null,""]
[null,null,null,null,null,null,null,""]
[null,null,null,null,null,null,null,""]
[null,null,null,null,null,null,null,""]
[null,null,null,null,null,null,null,""]
[null,null,null,null,null,null,null,""]
[null,null,null,null,null,null,null,""]
[null,null,null,null,null,null,null,""]
[null,null,null,null,null,null,null,""]
[null,null,null,null,null,null,null,""]
[null,null,null,null,null,null,null,""]
[null,null,null,null,null,null,null,""]
[null,null,null,null,null,null,null,""]
[null,null,null,null,null,null,null,""]
[null,null,null,null,null,null,null,""]
[null,null,null,null,null,null,null,""]
[null,null,null,null,null,null,null,""]
[null,null,null,null,null,null,null,""]
[null,null,null,null,null,null,null,""]
[null,null,null,null,null,null,null,""]
[null,null,null,null,null,null,null,""]
[null,null,null,null,null,null,null,""]
[null,null,null,null,null,null,null,""]
[null,null,null,null,null,null,null,""]
[null,null,null,null,null,null,null,""]
[null,null,null,null,null,null,null,""]
[null,null,null,null,null,null,null,""]
[null,null,null,null,null,null,null,""]
[null,null,null,null,null,null,null,""]
[null,null,null,null,null,null,null,""]
[null,null,null,null,null,null,null,""]
[null,null,null,null,null,null,null,""]
[null,null,null,null,null,null,null,""]
[null,null,null,null,null,null,null,""]
[null,null,null,null,null,null,null,""]
[null,null,null,null,null,null,null,""]
[null,null,null,null,null,null,null,""]
[null,null,null,null,null,null,null,""]
[null,null,null,null,null,null,null,""]
[null,null,null,null,null,null,null,""]
[null,null,null,null,null,null,null,""]
[null,null,null,null,null,null,null,""]
[null,null,null,null,null,null,null,""]
[null,null,null,null,null,null,null,""]
[null,null,null,null,null,null,null,""]
[null,null,null,null,null,null,null,{"$f":"IF(G345=\"\",\"\",(VALUE(TEXT(F345,\"m/dd/yy \")&TEXT(G345,\"hh:mm:ss\"))-(VALUE(TEXT(D345,\"m/dd/yy \")&TEXT(E345,\"hh:mm:ss\"))))*24)","v":""}]
[null,null,null,null,null,null,null,""]
[null,null,null,null,null,null,null,""]
[null,null,null,null,null,null,null,""]
[null,null,null,null,null,null,null,""]
[null,null,null,null,null,null,null,""]
[null,null,null,null,null,null,null,""]
[null,null,null,null,null,null,null,""]
[null,null,null,null,null,null,null,""]
[null,null,null,null,null,null,null,""]
[null,null,null,null,null,null,null,""]
[null,null,null,null,null,null,null,""]
[null,null,null,null,null,null,null,""]
[null,null,null,null,null,null,null,""]
[null,null,null,null,null,null,null,""]
[null,null,null,null,null,null,null,""]
[null,null,null,null,null,null,null,""]
[null,null,null,null,null,null,null,""]
[null,null,null,null,null,null,null,""]
[null,null,null,null,null,null,null,""]
[null,null,null,null,null,null,null,""]
[null,null,null,null,null,null,null,""]
[null,null,null,null,null,null,null,""]
[null,null,null,null,null,null,null,""]
[null,null,null,null,null,null,null,""]
[null,null,null,null,null,null,null,""]
[null,null,null,null,null,null,null,""]
[null,null,null,null,null,null,null,""]
[null,null,null,null,null,null,null,""]
[null,null,null,null,null,null,null,""]
[null,null,null,null,null,null,null,""]
[null,null,null,null,null,null,null,""]
[null,null,null,null,null,null,null,""]
[null,null,null,null,null,null,null,""]
[null,null,null,null,null,null,null,""]
[null,null,null,null,null,null,null,""]
[null,null,null,null,null,null,null,""]
[null,null,null,null,null,null,null,""]
[null,null,null,null,null,null,null,""]
[null,null,null,null,null,null,null,""]
[null,null,null,null,null,null,null,""]
[null,null,null,null,null,null,null,""]
[null,null,null,null,null,null,null,""]
[null,null,null,null,null,null,null,""]
[null,null,null,null,null,null,null,""]
[null,null,null,null,null,null,null,""]
[null,null,null,null,null,null,null,""]
[null,null,null,null,null,null,null,""]
[null,null,null,null,null,null,null,""]
[null,null,null,null,null,null,null,""]
[null,null,null,null,null,null,null,""]
[null,null,null,null,null,null,null,""]
[null,null,null,null,null,null,null,""]
[null,null,null,null,null,null,null,""]
[null,null,null,null,null,null,null,""]
[null,null,null,null,null,null,null,""]
[null,null,null,null,null,null,null,""]
[null,null,null,null,null,null,null,""]
[null,null,null,null,null,null,null,""]
[null,null,null,null,null,null,null,""]
[null,null,null,null,null,null,null,""]
[null,null,null,null,null,null,null,""]
[null,null,null,null,null,null,null,""]
[null,null,null,null,null,null,null,""]
[null,null,null,null,null,null,null,{"$f":"IF(G409=\"\",\"\",(VALUE(TEXT(F409,\"m/dd/yy \")&TEXT(G409,\"hh:mm:ss\"))-(VALUE(TEXT(D409,\"m/dd/yy \")&TEXT(E409,\"hh:mm:ss\"))))*24)","v":""}]
[null,null,null,null,null,null,null,""]
[null,null,null,null,null,null,null,""]
[null,null,null,null,null,null,null,""]
[null,null,null,null,null,null,null,""]
[null,null,null,null,null,null,null,""]
[null,null,null,null,null,null,null,""]
[null,null,null,null,null,null,null,""]
[null,null,null,null,null,null,null,""]
[null,null,null,null,null,null,null,""]
[null,null,null,null,null,null,null,""]
[null,null,null,null,null,null,null,""]
[null,null,null,null,null,null,null,""]
[null,null,null,null,null,null,null,""]
[null,null,null,null,null,null,null,""]
[null,null,null,null,null,null,null,""]
[null,null,null,null,null,null,null,""]
[null,null,null,null,null,null,null,""]
[null,null,null,null,null,null,null,""]
[null,null,null,null,null,null,null,""]
[null,null,null,null,null,null,null,""]
[null,null,null,null,null,null,null,""]
[null,null,null,null,null,null,null,""]
[null,null,null,null,null,null,null,""]
[null,null,null,null,null,null,null,""]
[null,null,null,null,null,null,null,""]
[null,null,null,null,null,null,null,""]
[null,null,null,null,null,null,null,""]
[null,null,null,null,null,null,null,""]
[null,null,null,null,null,null,null,""]
[null,null,null,null,null,null,null,""]
[null,null,null,null,null,null,null,""]
[null,null,null,null,null,null,null,""]
[null,null,null,null,null,null,null,""]
[null,null,null,null,null,null,null,""]
[null,null,null,null,null,null,null,""]
[null,null,null,null,null,null,null,""]
[null,null,null,null,null,null,null,""]
[null,null,null,null,null,null,null,""]
[null,null,null,null,null,null,null,""]
[null,null,null,null,null,null,null,""]
[null,null,null,null,null,null,null,""]
[null,null,null,null,null,null,null,""]
[null,null,null,null,null,null,null,""]
[null,null,null,null,null,null,null,""]
[null,null,null,null,null,null,null,""]
[null,null,null,null,null,null,null,""]
[null,null,null,null,null,null,null,""]
[null,null,null,null,null,null,null,""]
[null,null,null,null,null,null,null,""]
[null,null,null,null,null,null,null,""]
[null,null,null,null,null,null,null,""]
[null,null,null,null,null,null,null,""]
[null,null,null,null,null,null,null,""]
[null,null,null,null,null,null,null,""]
[null,null,null,null,null,null,null,""]
[null,null,null,null,null,null,null,""]
[null,null,null,null,null,null,null,""]
[null,null,null,null,null,null,null,""]
[null,null,null,null,null,null,null,""]
[null,null,null,null,null,null,null,""]
[null,null,null,null,null,null,null,""]
[null,null,null,null,null,null,null,""]
[null,null,null,null,null,null,null,""]
[null,null,null,null,null,null,null,{"$f":"IF(G473=\"\",\"\",(VALUE(TEXT(F473,\"m/dd/yy \")&TEXT(G473,\"hh:mm:ss\"))-(VALUE(TEXT(D473,\"m/dd/yy \")&TEXT(E473,\"hh:mm:ss\"))))*24)","v":""}]
[null,null,null,null,null,null,null,""]
[null,null,null,null,null,null,null,""]
[null,null,null,null,null,null,null,""]
[null,null,null,null,null,null,null,""]
[null,null,null,null,null,null,null,""]
[null,null,null,null,null,null,null,""]
[null,null,null,null,null,null,null,""]
[null,null,null,null,null,null,null,""]
[null,null,null,null,null,null,null,""]
[null,null,null,null,null,null,null,""]
[null,null,null,null,null,null,null,""]
[null,null,null,null,null,null,null,""]
[null,null,null,null,null,null,null,""]
[null,null,null,null,null,null,null,""]
[null,null,null,null,null,null,null,""]
[null,null,null,null,null,null,null,""]
[null,null,null,null,null,null,null,""]
[null,null,null,null,null,null,null,""]
[null,null,null,null,null,null,null,""]
[null,null,null,null,null,null,null,""]
[null,null,null,null,null,null,null,""]
[null,null,null,null,null,null,null,""]
[null,null,null,null,null,null,null,""]
[null,null,null,null,null,null,null,""]
[null,null,null,null,null,null,null,""]
[null,null,null,null,null,null,null,""]
[null,null,null,null,null,null,null,""]

{"sheet":"Summary_Report_EmissionLimits","index":4,"n_rows":707,"n_cols":10,"rows_kept":707,"cut":false,"hidden":false,"merged":[]}
[null,"DO NOT REMOVE OR EDIT INFORMATION IN ROWS 1 THROUGH 5\nFOR INTERNAL USE ONLY"]
[null,"Template Name",{"$f":"+Welcome!B2","v":"63.9350(a) Semiannual Compliance Report (Spreadsheet Template)"}]
[null,"CitationID",{"$f":"+Welcome!B3","v":"63.9350(a)"}]
[null,"Template Version",{"$f":"+Welcome!B4","v":"v3.01"}]
[null,"Last Updated Date",{"$f":"+Welcome!B5","v":45391}]
[]
[null,"40 CFR Part 63, Subpart PPPPP National Emission Standards for Hazardous Air Pollutants for Engine Test Cells/Stands - §63.9350(a)  Semiannual Compliance Report Spreadsheet Template"]
[null,"§63.8693(c) Semiannual Compliance Report Spreadsheet Template"]
[]
[]
[null,"* Required Field"]
[null,"Company Record No. *\n(Select from dropdown)","Emission Limit Deviated From *\n(§63.9350(c))\n(Select from dropdown)","Total \nOperating Time *\n(hours)\n(§63.9350(c)(2))","Total Duration of \nDeviations from \nEmission Limits *\n(hours) \n(§63.9350(c)(3))\n(Calculated value)","Total Duration of \nDeviations from\nEmission Limits as a \npercent of \nTotal Source Operating Time *\n(§63.9350(c)(3))\n(Calculated value)","Total Duration of \nDeviations from \nEmission Limits Due to \nControl Equipment Problems *\n(hours)  \n(§63.9350(c)(4))\n(Calculated value)","Total Duration of \nDeviations from\nEmission Limits Due to \nProcess Problems *\n(hours)  \n(§63.9350(c)(4))\n(Calculated value)","Total Duration of\nDeviations from \nEmission Limits Due to \nOther Known Causes *\n(hours)  \n(§63.9350(c)(4))\n(Calculated value)","Total Duration of Deviations from Emission Limits Due to Other Unknown Causes * (hours)  \n(§63.9350(c)(4))\n(Calculated value)"]
[null,"RecordId","EmissionOperatingLimit","TotalOperatingTime","TotalDeviationDuration","TotalDeviationPercent","EquipmentCausedDeviation","ProcessCausedDeviation","OtherCausedDeviation","UnknownCausedDeviation"]
[null,"e.g.: 1","e.g.:  CO Concentration 20 ppmvd at 15% Oxygen","e.g.: 4310","e.g.: 6.00","e.g.: 0.14%","e.g.: 6.00","e.g.: 0.00","e.g.: 0.00","e.g.: 0.00"]
[]
[]
[]
[]
[]
[]
[]
[]
[]
[null,{"$f":"IF(Lists!Y2=\"\",\"\",Lists!Y2)","v":""},{"$f":"IF(Lists!Z2=\"\",\"\",Lists!Z2)","v":""},null,{"$f":"IF(D24=\"\",\"\",SUM(G24:J24))","v":""},{"$f":"IF($D24=\"\",\"\",IF(E24=0,\"N/A\",E24/$D24))","v":""},{"$f":"IF($D24=\"\",\"\",SUMIFS(Emission_Limits_Details!$H$24:$H$5800,Emission_Limits_Details!$B$24:$B$5800,B24,Emission_Limits_Details!$C$24:$C$5800,C24,Emission_Limits_Details!$I$24:$I$5800,\"Control Equipment Problems\"))","v":""},{"$f":"IF($D24=\"\",\"\",SUMIFS(Emission_Limits_Details!$H$24:$H$5800,Emission_Limits_Details!$B$24:$B$5800,B24,Emission_Limits_Details!$C$24:$C$5800,C24,Emission_Limits_Details!$I$24:$I$5800,\"Process Problems\"))","v":""},{"$f":"IF($D24=\"\",\"\",SUMIFS(Emission_Limits_Details!$H$24:$H$5800,Emission_Limits_Details!$B$24:$B$5800,B24,Emission_Limits_Details!$C$24:$C$5800,C24,Emission_Limits_Details!$I$24:$I$5800,\"Other Known Causes\"))","v":""},{"$f":"IF($D24=\"\",\"\",SUMIFS(Emission_Limits_Details!$H$24:$H$5800,Emission_Limits_Details!$B$24:$B$5800,B24,Emission_Limits_Details!$C$24:$C$5800,C24,Emission_Limits_Details!$I$24:$I$5800,\"Other Unknown Causes\"))","v":""}]
[null,{"$f":"IF(Lists!Y3=\"\",\"\",Lists!Y3)","v":""},{"$f":"IF(Lists!Z3=\"\",\"\",Lists!Z3)","v":""},null,{"$f":"IF(D25=\"\",\"\",SUM(G25:J25))","v":""},{"$f":"IF($D25=\"\",\"\",IF(E25=0,\"N/A\",E25/$D25))","v":""},{"$f":"IF($D25=\"\",\"\",SUMIFS(Emission_Limits_Details!$H$24:$H$5800,Emission_Limits_Details!$B$24:$B$5800,B25,Emission_Limits_Details!$C$24:$C$5800,C25,Emission_Limits_Details!$I$24:$I$5800,\"Control Equipment Problems\"))","v":""},{"$f":"IF($D25=\"\",\"\",SUMIFS(Emission_Limits_Details!$H$24:$H$5800,Emission_Limits_Details!$B$24:$B$5800,B25,Emission_Limits_Details!$C$24:$C$5800,C25,Emission_Limits_Details!$I$24:$I$5800,\"Process Problems\"))","v":""},{"$f":"IF($D25=\"\",\"\",SUMIFS(Emission_Limits_Details!$H$24:$H$5800,Emission_Limits_Details!$B$24:$B$5800,B25,Emission_Limits_Details!$C$24:$C$5800,C25,Emission_Limits_Details!$I$24:$I$5800,\"Other Known Causes\"))","v":""},{"$f":"IF($D25=\"\",\"\",SUMIFS(Emission_Limits_Details!$H$24:$H$5800,Emission_Limits_Details!$B$24:$B$5800,B25,Emission_Limits_Details!$C$24:$C$5800,C25,Emission_Limits_Details!$I$24:$I$5800,\"Other Unknown Causes\"))","v":""}]
[null,{"$f":"IF(Lists!Y4=\"\",\"\",Lists!Y4)","v":""},{"$f":"IF(Lists!Z4=\"\",\"\",Lists!Z4)","v":""},null,"","",{"$f":"IF($D26=\"\",\"\",SUMIFS(Emission_Limits_Details!$H$24:$H$5800,Emission_Limits_Details!$B$24:$B$5800,B26,Emission_Limits_Details!$C$24:$C$5800,C26,Emission_Limits_Details!$I$24:$I$5800,\"Control Equipment Problems\"))","v":""},{"$f":"IF($D26=\"\",\"\",SUMIFS(Emission_Limits_Details!$H$24:$H$5800,Emission_Limits_Details!$B$24:$B$5800,B26,Emission_Limits_Details!$C$24:$C$5800,C26,Emission_Limits_Details!$I$24:$I$5800,\"Process Problems\"))","v":""},{"$f":"IF($D26=\"\",\"\",SUMIFS(Emission_Limits_Details!$H$24:$H$5800,Emission_Limits_Details!$B$24:$B$5800,B26,Emission_Limits_Details!$C$24:$C$5800,C26,Emission_Limits_Details!$I$24:$I$5800,\"Other Known Causes\"))","v":""},{"$f":"IF($D26=\"\",\"\",SUMIFS(Emission_Limits_Details!$H$24:$H$5800,Emission_Limits_Details!$B$24:$B$5800,B26,Emission_Limits_Details!$C$24:$C$5800,C26,Emission_Limits_Details!$I$24:$I$5800,\"Other Unknown Causes\"))","v":""}]
[null,{"$f":"IF(Lists!Y5=\"\",\"\",Lists!Y5)","v":""},{"$f":"IF(Lists!Z5=\"\",\"\",Lists!Z5)","v":""},null,"","",{"$f":"IF($D27=\"\",\"\",SUMIFS(Emission_Limits_Details!$H$24:$H$5800,Emission_Limits_Details!$B$24:$B$5800,B27,Emission_Limits_Details!$C$24:$C$5800,C27,Emission_Limits_Details!$I$24:$I$5800,\"Control Equipment Problems\"))","v":""},{"$f":"IF($D27=\"\",\"\",SUMIFS(Emission_Limits_Details!$H$24:$H$5800,Emission_Limits_Details!$B$24:$B$5800,B27,Emission_Limits_Details!$C$24:$C$5800,C27,Emission_Limits_Details!$I$24:$I$5800,\"Process Problems\"))","v":""},{"$f":"IF($D27=\"\",\"\",SUMIFS(Emission_Limits_Details!$H$24:$H$5800,Emission_Limits_Details!$B$24:$B$5800,B27,Emission_Limits_Details!$C$24:$C$5800,C27,Emission_Limits_Details!$I$24:$I$5800,\"Other Known Causes\"))","v":""},{"$f":"IF($D27=\"\",\"\",SUMIFS(Emission_Limits_Details!$H$24:$H$5800,Emission_Limits_Details!$B$24:$B$5800,B27,Emission_Limits_Details!$C$24:$C$5800,C27,Emission_Limits_Details!$I$24:$I$5800,\"Other Unknown Causes\"))","v":""}]
[null,{"$f":"IF(Lists!Y6=\"\",\"\",Lists!Y6)","v":""},{"$f":"IF(Lists!Z6=\"\",\"\",Lists!Z6)","v":""},null,"","",{"$f":"IF($D28=\"\",\"\",SUMIFS(Emission_Limits_Details!$H$24:$H$5800,Emission_Limits_Details!$B$24:$B$5800,B28,Emission_Limits_Details!$C$24:$C$5800,C28,Emission_Limits_Details!$I$24:$I$5800,\"Control Equipment Problems\"))","v":""},{"$f":"IF($D28=\"\",\"\",SUMIFS(Emission_Limits_Details!$H$24:$H$5800,Emission_Limits_Details!$B$24:$B$5800,B28,Emission_Limits_Details!$C$24:$C$5800,C28,Emission_Limits_Details!$I$24:$I$5800,\"Process Problems\"))","v":""},{"$f":"IF($D28=\"\",\"\",SUMIFS(Emission_Limits_Details!$H$24:$H$5800,Emission_Limits_Details!$B$24:$B$5800,B28,Emission_Limits_Details!$C$24:$C$5800,C28,Emission_Limits_Details!$I$24:$I$5800,\"Other Known Causes\"))","v":""},{"$f":"IF($D28=\"\",\"\",SUMIFS(Emission_Limits_Details!$H$24:$H$5800,Emission_Limits_Details!$B$24:$B$5800,B28,Emission_Limits_Details!$C$24:$C$5800,C28,Emission_Limits_Details!$I$24:$I$5800,\"Other Unknown Causes\"))","v":""}]
[null,{"$f":"IF(Lists!Y7=\"\",\"\",Lists!Y7)","v":""},{"$f":"IF(Lists!Z7=\"\",\"\",Lists!Z7)","v":""},null,"","",{"$f":"IF($D29=\"\",\"\",SUMIFS(Emission_Limits_Details!$H$24:$H$5800,Emission_Limits_Details!$B$24:$B$5800,B29,Emission_Limits_Details!$C$24:$C$5800,C29,Emission_Limits_Details!$I$24:$I$5800,\"Control Equipment Problems\"))","v":""},{"$f":"IF($D29=\"\",\"\",SUMIFS(Emission_Limits_Details!$H$24:$H$5800,Emission_Limits_Details!$B$24:$B$5800,B29,Emission_Limits_Details!$C$24:$C$5800,C29,Emission_Limits_Details!$I$24:$I$5800,\"Process Problems\"))","v":""},{"$f":"IF($D29=\"\",\"\",SUMIFS(Emission_Limits_Details!$H$24:$H$5800,Emission_Limits_Details!$B$24:$B$5800,B29,Emission_Limits_Details!$C$24:$C$5800,C29,Emission_Limits_Details!$I$24:$I$5800,\"Other Known Causes\"))","v":""},{"$f":"IF($D29=\"\",\"\",SUMIFS(Emission_Limits_Details!$H$24:$H$5800,Emission_Limits_Details!$B$24:$B$5800,B29,Emission_Limits_Details!$C$24:$C$5800,C29,Emission_Limits_Details!$I$24:$I$5800,\"Other Unknown Causes\"))","v":""}]
[null,{"$f":"IF(Lists!Y8=\"\",\"\",Lists!Y8)","v":""},{"$f":"IF(Lists!Z8=\"\",\"\",Lists!Z8)","v":""},null,"","",{"$f":"IF($D30=\"\",\"\",SUMIFS(Emission_Limits_Details!$H$24:$H$5800,Emission_Limits_Details!$B$24:$B$5800,B30,Emission_Limits_Details!$C$24:$C$5800,C30,Emission_Limits_Details!$I$24:$I$5800,\"Control Equipment Problems\"))","v":""},{"$f":"IF($D30=\"\",\"\",SUMIFS(Emission_Limits_Details!$H$24:$H$5800,Emission_Limits_Details!$B$24:$B$5800,B30,Emission_Limits_Details!$C$24:$C$5800,C30,Emission_Limits_Details!$I$24:$I$5800,\"Process Problems\"))","v":""},{"$f":"IF($D30=\"\",\"\",SUMIFS(Emission_Limits_Details!$H$24:$H$5800,Emission_Limits_Details!$B$24:$B$5800,B30,Emission_Limits_Details!$C$24:$C$5800,C30,Emission_Limits_Details!$I$24:$I$5800,\"Other Known Causes\"))","v":""},{"$f":"IF($D30=\"\",\"\",SUMIFS(Emission_Limits_Details!$H$24:$H$5800,Emission_Limits_Details!$B$24:$B$5800,B30,Emission_Limits_Details!$C$24:$C$5800,C30,Emission_Limits_Details!$I$24:$I$5800,\"Other Unknown Causes\"))","v":""}]
[null,{"$f":"IF(Lists!Y9=\"\",\"\",Lists!Y9)","v":""},{"$f":"IF(Lists!Z9=\"\",\"\",Lists!Z9)","v":""},null,"","",{"$f":"IF($D31=\"\",\"\",SUMIFS(Emission_Limits_Details!$H$24:$H$5800,Emission_Limits_Details!$B$24:$B$5800,B31,Emission_Limits_Details!$C$24:$C$5800,C31,Emission_Limits_Details!$I$24:$I$5800,\"Control Equipment Problems\"))","v":""},{"$f":"IF($D31=\"\",\"\",SUMIFS(Emission_Limits_Details!$H$24:$H$5800,Emission_Limits_Details!$B$24:$B$5800,B31,Emission_Limits_Details!$C$24:$C$5800,C31,Emission_Limits_Details!$I$24:$I$5800,\"Process Problems\"))","v":""},{"$f":"IF($D31=\"\",\"\",SUMIFS(Emission_Limits_Details!$H$24:$H$5800,Emission_Limits_Details!$B$24:$B$5800,B31,Emission_Limits_Details!$C$24:$C$5800,C31,Emission_Limits_Details!$I$24:$I$5800,\"Other Known Causes\"))","v":""},{"$f":"IF($D31=\"\",\"\",SUMIFS(Emission_Limits_Details!$H$24:$H$5800,Emission_Limits_Details!$B$24:$B$5800,B31,Emission_Limits_Details!$C$24:$C$5800,C31,Emission_Limits_Details!$I$24:$I$5800,\"Other Unknown Causes\"))","v":""}]
[null,{"$f":"IF(Lists!Y10=\"\",\"\",Lists!Y10)","v":""},{"$f":"IF(Lists!Z10=\"\",\"\",Lists!Z10)","v":""},null,"","",{"$f":"IF($D32=\"\",\"\",SUMIFS(Emission_Limits_Details!$H$24:$H$5800,Emission_Limits_Details!$B$24:$B$5800,B32,Emission_Limits_Details!$C$24:$C$5800,C32,Emission_Limits_Details!$I$24:$I$5800,\"Control Equipment Problems\"))","v":""},{"$f":"IF($D32=\"\",\"\",SUMIFS(Emission_Limits_Details!$H$24:$H$5800,Emission_Limits_Details!$B$24:$B$5800,B32,Emission_Limits_Details!$C$24:$C$5800,C32,Emission_Limits_Details!$I$24:$I$5800,\"Process Problems\"))","v":""},{"$f":"IF($D32=\"\",\"\",SUMIFS(Emission_Limits_Details!$H$24:$H$5800,Emission_Limits_Details!$B$24:$B$5800,B32,Emission_Limits_Details!$C$24:$C$5800,C32,Emission_Limits_Details!$I$24:$I$5800,\"Other Known Causes\"))","v":""},{"$f":"IF($D32=\"\",\"\",SUMIFS(Emission_Limits_Details!$H$24:$H$5800,Emission_Limits_Details!$B$24:$B$5800,B32,Emission_Limits_Details!$C$24:$C$5800,C32,Emission_Limits_Details!$I$24:$I$5800,\"Other Unknown Causes\"))","v":""}]
[null,{"$f":"IF(Lists!Y11=\"\",\"\",Lists!Y11)","v":""},{"$f":"IF(Lists!Z11=\"\",\"\",Lists!Z11)","v":""},null,"","",{"$f":"IF($D33=\"\",\"\",SUMIFS(Emission_Limits_Details!$H$24:$H$5800,Emission_Limits_Details!$B$24:$B$5800,B33,Emission_Limits_Details!$C$24:$C$5800,C33,Emission_Limits_Details!$I$24:$I$5800,\"Control Equipment Problems\"))","v":""},{"$f":"IF($D33=\"\",\"\",SUMIFS(Emission_Limits_Details!$H$24:$H$5800,Emission_Limits_Details!$B$24:$B$5800,B33,Emission_Limits_Details!$C$24:$C$5800,C33,Emission_Limits_Details!$I$24:$I$5800,\"Process Problems\"))","v":""},{"$f":"IF($D33=\"\",\"\",SUMIFS(Emission_Limits_Details!$H$24:$H$5800,Emission_Limits_Details!$B$24:$B$5800,B33,Emission_Limits_Details!$C$24:$C$5800,C33,Emission_Limits_Details!$I$24:$I$5800,\"Other Known Causes\"))","v":""},{"$f":"IF($D33=\"\",\"\",SUMIFS(Emission_Limits_Details!$H$24:$H$5800,Emission_Limits_Details!$B$24:$B$5800,B33,Emission_Limits_Details!$C$24:$C$5800,C33,Emission_Limits_Details!$I$24:$I$5800,\"Other Unknown Causes\"))","v":""}]
[null,{"$f":"IF(Lists!Y12=\"\",\"\",Lists!Y12)","v":""},{"$f":"IF(Lists!Z12=\"\",\"\",Lists!Z12)","v":""},null,"","",{"$f":"IF($D34=\"\",\"\",SUMIFS(Emission_Limits_Details!$H$24:$H$5800,Emission_Limits_Details!$B$24:$B$5800,B34,Emission_Limits_Details!$C$24:$C$5800,C34,Emission_Limits_Details!$I$24:$I$5800,\"Control Equipment Problems\"))","v":""},{"$f":"IF($D34=\"\",\"\",SUMIFS(Emission_Limits_Details!$H$24:$H$5800,Emission_Limits_Details!$B$24:$B$5800,B34,Emission_Limits_Details!$C$24:$C$5800,C34,Emission_Limits_Details!$I$24:$I$5800,\"Process Problems\"))","v":""},{"$f":"IF($D34=\"\",\"\",SUMIFS(Emission_Limits_Details!$H$24:$H$5800,Emission_Limits_Details!$B$24:$B$5800,B34,Emission_Limits_Details!$C$24:$C$5800,C34,Emission_Limits_Details!$I$24:$I$5800,\"Other Known Causes\"))","v":""},{"$f":"IF($D34=\"\",\"\",SUMIFS(Emission_Limits_Details!$H$24:$H$5800,Emission_Limits_Details!$B$24:$B$5800,B34,Emission_Limits_Details!$C$24:$C$5800,C34,Emission_Limits_Details!$I$24:$I$5800,\"Other Unknown Causes\"))","v":""}]
[null,{"$f":"IF(Lists!Y13=\"\",\"\",Lists!Y13)","v":""},{"$f":"IF(Lists!Z13=\"\",\"\",Lists!Z13)","v":""},null,"","",{"$f":"IF($D35=\"\",\"\",SUMIFS(Emission_Limits_Details!$H$24:$H$5800,Emission_Limits_Details!$B$24:$B$5800,B35,Emission_Limits_Details!$C$24:$C$5800,C35,Emission_Limits_Details!$I$24:$I$5800,\"Control Equipment Problems\"))","v":""},{"$f":"IF($D35=\"\",\"\",SUMIFS(Emission_Limits_Details!$H$24:$H$5800,Emission_Limits_Details!$B$24:$B$5800,B35,Emission_Limits_Details!$C$24:$C$5800,C35,Emission_Limits_Details!$I$24:$I$5800,\"Process Problems\"))","v":""},{"$f":"IF($D35=\"\",\"\",SUMIFS(Emission_Limits_Details!$H$24:$H$5800,Emission_Limits_Details!$B$24:$B$5800,B35,Emission_Limits_Details!$C$24:$C$5800,C35,Emission_Limits_Details!$I$24:$I$5800,\"Other Known Causes\"))","v":""},{"$f":"IF($D35=\"\",\"\",SUMIFS(Emission_Limits_Details!$H$24:$H$5800,Emission_Limits_Details!$B$24:$B$5800,B35,Emission_Limits_Details!$C$24:$C$5800,C35,Emission_Limits_Details!$I$24:$I$5800,\"Other Unknown Causes\"))","v":""}]
[null,{"$f":"IF(Lists!Y14=\"\",\"\",Lists!Y14)","v":""},{"$f":"IF(Lists!Z14=\"\",\"\",Lists!Z14)","v":""},null,"","",{"$f":"IF($D36=\"\",\"\",SUMIFS(Emission_Limits_Details!$H$24:$H$5800,Emission_Limits_Details!$B$24:$B$5800,B36,Emission_Limits_Details!$C$24:$C$5800,C36,Emission_Limits_Details!$I$24:$I$5800,\"Control Equipment Problems\"))","v":""},{"$f":"IF($D36=\"\",\"\",SUMIFS(Emission_Limits_Details!$H$24:$H$5800,Emission_Limits_Details!$B$24:$B$5800,B36,Emission_Limits_Details!$C$24:$C$5800,C36,Emission_Limits_Details!$I$24:$I$5800,\"Process Problems\"))","v":""},{"$f":"IF($D36=\"\",\"\",SUMIFS(Emission_Limits_Details!$H$24:$H$5800,Emission_Limits_Details!$B$24:$B$5800,B36,Emission_Limits_Details!$C$24:$C$5800,C36,Emission_Limits_Details!$I$24:$I$5800,\"Other Known Causes\"))","v":""},{"$f":"IF($D36=\"\",\"\",SUMIFS(Emission_Limits_Details!$H$24:$H$5800,Emission_Limits_Details!$B$24:$B$5800,B36,Emission_Limits_Details!$C$24:$C$5800,C36,Emission_Limits_Details!$I$24:$I$5800,\"Other Unknown Causes\"))","v":""}]
[null,{"$f":"IF(Lists!Y15=\"\",\"\",Lists!Y15)","v":""},{"$f":"IF(Lists!Z15=\"\",\"\",Lists!Z15)","v":""},null,"","",{"$f":"IF($D37=\"\",\"\",SUMIFS(Emission_Limits_Details!$H$24:$H$5800,Emission_Limits_Details!$B$24:$B$5800,B37,Emission_Limits_Details!$C$24:$C$5800,C37,Emission_Limits_Details!$I$24:$I$5800,\"Control Equipment Problems\"))","v":""},{"$f":"IF($D37=\"\",\"\",SUMIFS(Emission_Limits_Details!$H$24:$H$5800,Emission_Limits_Details!$B$24:$B$5800,B37,Emission_Limits_Details!$C$24:$C$5800,C37,Emission_Limits_Details!$I$24:$I$5800,\"Process Problems\"))","v":""},{"$f":"IF($D37=\"\",\"\",SUMIFS(Emission_Limits_Details!$H$24:$H$5800,Emission_Limits_Details!$B$24:$B$5800,B37,Emission_Limits_Details!$C$24:$C$5800,C37,Emission_Limits_Details!$I$24:$I$5800,\"Other Known Causes\"))","v":""},{"$f":"IF($D37=\"\",\"\",SUMIFS(Emission_Limits_Details!$H$24:$H$5800,Emission_Limits_Details!$B$24:$B$5800,B37,Emission_Limits_Details!$C$24:$C$5800,C37,Emission_Limits_Details!$I$24:$I$5800,\"Other Unknown Causes\"))","v":""}]
[null,{"$f":"IF(Lists!Y16=\"\",\"\",Lists!Y16)","v":""},{"$f":"IF(Lists!Z16=\"\",\"\",Lists!Z16)","v":""},null,"","",{"$f":"IF($D38=\"\",\"\",SUMIFS(Emission_Limits_Details!$H$24:$H$5800,Emission_Limits_Details!$B$24:$B$5800,B38,Emission_Limits_Details!$C$24:$C$5800,C38,Emission_Limits_Details!$I$24:$I$5800,\"Control Equipment Problems\"))","v":""},{"$f":"IF($D38=\"\",\"\",SUMIFS(Emission_Limits_Details!$H$24:$H$5800,Emission_Limits_Details!$B$24:$B$5800,B38,Emission_Limits_Details!$C$24:$C$5800,C38,Emission_Limits_Details!$I$24:$I$5800,\"Process Problems\"))","v":""},{"$f":"IF($D38=\"\",\"\",SUMIFS(Emission_Limits_Details!$H$24:$H$5800,Emission_Limits_Details!$B$24:$B$5800,B38,Emission_Limits_Details!$C$24:$C$5800,C38,Emission_Limits_Details!$I$24:$I$5800,\"Other Known Causes\"))","v":""},{"$f":"IF($D38=\"\",\"\",SUMIFS(Emission_Limits_Details!$H$24:$H$5800,Emission_Limits_Details!$B$24:$B$5800,B38,Emission_Limits_Details!$C$24:$C$5800,C38,Emission_Limits_Details!$I$24:$I$5800,\"Other Unknown Causes\"))","v":""}]
[null,{"$f":"IF(Lists!Y17=\"\",\"\",Lists!Y17)","v":""},{"$f":"IF(Lists!Z17=\"\",\"\",Lists!Z17)","v":""},null,"","",{"$f":"IF($D39=\"\",\"\",SUMIFS(Emission_Limits_Details!$H$24:$H$5800,Emission_Limits_Details!$B$24:$B$5800,B39,Emission_Limits_Details!$C$24:$C$5800,C39,Emission_Limits_Details!$I$24:$I$5800,\"Control Equipment Problems\"))","v":""},{"$f":"IF($D39=\"\",\"\",SUMIFS(Emission_Limits_Details!$H$24:$H$5800,Emission_Limits_Details!$B$24:$B$5800,B39,Emission_Limits_Details!$C$24:$C$5800,C39,Emission_Limits_Details!$I$24:$I$5800,\"Process Problems\"))","v":""},{"$f":"IF($D39=\"\",\"\",SUMIFS(Emission_Limits_Details!$H$24:$H$5800,Emission_Limits_Details!$B$24:$B$5800,B39,Emission_Limits_Details!$C$24:$C$5800,C39,Emission_Limits_Details!$I$24:$I$5800,\"Other Known Causes\"))","v":""},{"$f":"IF($D39=\"\",\"\",SUMIFS(Emission_Limits_Details!$H$24:$H$5800,Emission_Limits_Details!$B$24:$B$5800,B39,Emission_Limits_Details!$C$24:$C$5800,C39,Emission_Limits_Details!$I$24:$I$5800,\"Other Unknown Causes\"))","v":""}]
[null,{"$f":"IF(Lists!Y18=\"\",\"\",Lists!Y18)","v":""},{"$f":"IF(Lists!Z18=\"\",\"\",Lists!Z18)","v":""},null,"","",{"$f":"IF($D40=\"\",\"\",SUMIFS(Emission_Limits_Details!$H$24:$H$5800,Emission_Limits_Details!$B$24:$B$5800,B40,Emission_Limits_Details!$C$24:$C$5800,C40,Emission_Limits_Details!$I$24:$I$5800,\"Control Equipment Problems\"))","v":""},{"$f":"IF($D40=\"\",\"\",SUMIFS(Emission_Limits_Details!$H$24:$H$5800,Emission_Limits_Details!$B$24:$B$5800,B40,Emission_Limits_Details!$C$24:$C$5800,C40,Emission_Limits_Details!$I$24:$I$5800,\"Process Problems\"))","v":""},{"$f":"IF($D40=\"\",\"\",SUMIFS(Emission_Limits_Details!$H$24:$H$5800,Emission_Limits_Details!$B$24:$B$5800,B40,Emission_Limits_Details!$C$24:$C$5800,C40,Emission_Limits_Details!$I$24:$I$5800,\"Other Known Causes\"))","v":""},{"$f":"IF($D40=\"\",\"\",SUMIFS(Emission_Limits_Details!$H$24:$H$5800,Emission_Limits_Details!$B$24:$B$5800,B40,Emission_Limits_Details!$C$24:$C$5800,C40,Emission_Limits_Details!$I$24:$I$5800,\"Other Unknown Causes\"))","v":""}]
[null,{"$f":"IF(Lists!Y19=\"\",\"\",Lists!Y19)","v":""},{"$f":"IF(Lists!Z19=\"\",\"\",Lists!Z19)","v":""},null,"","",{"$f":"IF($D41=\"\",\"\",SUMIFS(Emission_Limits_Details!$H$24:$H$5800,Emission_Limits_Details!$B$24:$B$5800,B41,Emission_Limits_Details!$C$24:$C$5800,C41,Emission_Limits_Details!$I$24:$I$5800,\"Control Equipment Problems\"))","v":""},{"$f":"IF($D41=\"\",\"\",SUMIFS(Emission_Limits_Details!$H$24:$H$5800,Emission_Limits_Details!$B$24:$B$5800,B41,Emission_Limits_Details!$C$24:$C$5800,C41,Emission_Limits_Details!$I$24:$I$5800,\"Process Problems\"))","v":""},{"$f":"IF($D41=\"\",\"\",SUMIFS(Emission_Limits_Details!$H$24:$H$5800,Emission_Limits_Details!$B$24:$B$5800,B41,Emission_Limits_Details!$C$24:$C$5800,C41,Emission_Limits_Details!$I$24:$I$5800,\"Other Known Causes\"))","v":""},{"$f":"IF($D41=\"\",\"\",SUMIFS(Emission_Limits_Details!$H$24:$H$5800,Emission_Limits_Details!$B$24:$B$5800,B41,Emission_Limits_Details!$C$24:$C$5800,C41,Emission_Limits_Details!$I$24:$I$5800,\"Other Unknown Causes\"))","v":""}]
[null,{"$f":"IF(Lists!Y20=\"\",\"\",Lists!Y20)","v":""},{"$f":"IF(Lists!Z20=\"\",\"\",Lists!Z20)","v":""},null,"","",{"$f":"IF($D42=\"\",\"\",SUMIFS(Emission_Limits_Details!$H$24:$H$5800,Emission_Limits_Details!$B$24:$B$5800,B42,Emission_Limits_Details!$C$24:$C$5800,C42,Emission_Limits_Details!$I$24:$I$5800,\"Control Equipment Problems\"))","v":""},{"$f":"IF($D42=\"\",\"\",SUMIFS(Emission_Limits_Details!$H$24:$H$5800,Emission_Limits_Details!$B$24:$B$5800,B42,Emission_Limits_Details!$C$24:$C$5800,C42,Emission_Limits_Details!$I$24:$I$5800,\"Process Problems\"))","v":""},{"$f":"IF($D42=\"\",\"\",SUMIFS(Emission_Limits_Details!$H$24:$H$5800,Emission_Limits_Details!$B$24:$B$5800,B42,Emission_Limits_Details!$C$24:$C$5800,C42,Emission_Limits_Details!$I$24:$I$5800,\"Other Known Causes\"))","v":""},{"$f":"IF($D42=\"\",\"\",SUMIFS(Emission_Limits_Details!$H$24:$H$5800,Emission_Limits_Details!$B$24:$B$5800,B42,Emission_Limits_Details!$C$24:$C$5800,C42,Emission_Limits_Details!$I$24:$I$5800,\"Other Unknown Causes\"))","v":""}]
[null,{"$f":"IF(Lists!Y21=\"\",\"\",Lists!Y21)","v":""},{"$f":"IF(Lists!Z21=\"\",\"\",Lists!Z21)","v":""},null,"","",{"$f":"IF($D43=\"\",\"\",SUMIFS(Emission_Limits_Details!$H$24:$H$5800,Emission_Limits_Details!$B$24:$B$5800,B43,Emission_Limits_Details!$C$24:$C$5800,C43,Emission_Limits_Details!$I$24:$I$5800,\"Control Equipment Problems\"))","v":""},{"$f":"IF($D43=\"\",\"\",SUMIFS(Emission_Limits_Details!$H$24:$H$5800,Emission_Limits_Details!$B$24:$B$5800,B43,Emission_Limits_Details!$C$24:$C$5800,C43,Emission_Limits_Details!$I$24:$I$5800,\"Process Problems\"))","v":""},{"$f":"IF($D43=\"\",\"\",SUMIFS(Emission_Limits_Details!$H$24:$H$5800,Emission_Limits_Details!$B$24:$B$5800,B43,Emission_Limits_Details!$C$24:$C$5800,C43,Emission_Limits_Details!$I$24:$I$5800,\"Other Known Causes\"))","v":""},{"$f":"IF($D43=\"\",\"\",SUMIFS(Emission_Limits_Details!$H$24:$H$5800,Emission_Limits_Details!$B$24:$B$5800,B43,Emission_Limits_Details!$C$24:$C$5800,C43,Emission_Limits_Details!$I$24:$I$5800,\"Other Unknown Causes\"))","v":""}]
[null,{"$f":"IF(Lists!Y22=\"\",\"\",Lists!Y22)","v":""},{"$f":"IF(Lists!Z22=\"\",\"\",Lists!Z22)","v":""},null,"","",{"$f":"IF($D44=\"\",\"\",SUMIFS(Emission_Limits_Details!$H$24:$H$5800,Emission_Limits_Details!$B$24:$B$5800,B44,Emission_Limits_Details!$C$24:$C$5800,C44,Emission_Limits_Details!$I$24:$I$5800,\"Control Equipment Problems\"))","v":""},{"$f":"IF($D44=\"\",\"\",SUMIFS(Emission_Limits_Details!$H$24:$H$5800,Emission_Limits_Details!$B$24:$B$5800,B44,Emission_Limits_Details!$C$24:$C$5800,C44,Emission_Limits_Details!$I$24:$I$5800,\"Process Problems\"))","v":""},{"$f":"IF($D44=\"\",\"\",SUMIFS(Emission_Limits_Details!$H$24:$H$5800,Emission_Limits_Details!$B$24:$B$5800,B44,Emission_Limits_Details!$C$24:$C$5800,C44,Emission_Limits_Details!$I$24:$I$5800,\"Other Known Causes\"))","v":""},{"$f":"IF($D44=\"\",\"\",SUMIFS(Emission_Limits_Details!$H$24:$H$5800,Emission_Limits_Details!$B$24:$B$5800,B44,Emission_Limits_Details!$C$24:$C$5800,C44,Emission_Limits_Details!$I$24:$I$5800,\"Other Unknown Causes\"))","v":""}]
[null,{"$f":"IF(Lists!Y23=\"\",\"\",Lists!Y23)","v":""},{"$f":"IF(Lists!Z23=\"\",\"\",Lists!Z23)","v":""},null,"","",{"$f":"IF($D45=\"\",\"\",SUMIFS(Emission_Limits_Details!$H$24:$H$5800,Emission_Limits_Details!$B$24:$B$5800,B45,Emission_Limits_Details!$C$24:$C$5800,C45,Emission_Limits_Details!$I$24:$I$5800,\"Control Equipment Problems\"))","v":""},{"$f":"IF($D45=\"\",\"\",SUMIFS(Emission_Limits_Details!$H$24:$H$5800,Emission_Limits_Details!$B$24:$B$5800,B45,Emission_Limits_Details!$C$24:$C$5800,C45,Emission_Limits_Details!$I$24:$I$5800,\"Process Problems\"))","v":""},{"$f":"IF($D45=\"\",\"\",SUMIFS(Emission_Limits_Details!$H$24:$H$5800,Emission_Limits_Details!$B$24:$B$5800,B45,Emission_Limits_Details!$C$24:$C$5800,C45,Emission_Limits_Details!$I$24:$I$5800,\"Other Known Causes\"))","v":""},{"$f":"IF($D45=\"\",\"\",SUMIFS(Emission_Limits_Details!$H$24:$H$5800,Emission_Limits_Details!$B$24:$B$5800,B45,Emission_Limits_Details!$C$24:$C$5800,C45,Emission_Limits_Details!$I$24:$I$5800,\"Other Unknown Causes\"))","v":""}]
[null,{"$f":"IF(Lists!Y24=\"\",\"\",Lists!Y24)","v":""},{"$f":"IF(Lists!Z24=\"\",\"\",Lists!Z24)","v":""},null,"","",{"$f":"IF($D46=\"\",\"\",SUMIFS(Emission_Limits_Details!$H$24:$H$5800,Emission_Limits_Details!$B$24:$B$5800,B46,Emission_Limits_Details!$C$24:$C$5800,C46,Emission_Limits_Details!$I$24:$I$5800,\"Control Equipment Problems\"))","v":""},{"$f":"IF($D46=\"\",\"\",SUMIFS(Emission_Limits_Details!$H$24:$H$5800,Emission_Limits_Details!$B$24:$B$5800,B46,Emission_Limits_Details!$C$24:$C$5800,C46,Emission_Limits_Details!$I$24:$I$5800,\"Process Problems\"))","v":""},{"$f":"IF($D46=\"\",\"\",SUMIFS(Emission_Limits_Details!$H$24:$H$5800,Emission_Limits_Details!$B$24:$B$5800,B46,Emission_Limits_Details!$C$24:$C$5800,C46,Emission_Limits_Details!$I$24:$I$5800,\"Other Known Causes\"))","v":""},{"$f":"IF($D46=\"\",\"\",SUMIFS(Emission_Limits_Details!$H$24:$H$5800,Emission_Limits_Details!$B$24:$B$5800,B46,Emission_Limits_Details!$C$24:$C$5800,C46,Emission_Limits_Details!$I$24:$I$5800,\"Other Unknown Causes\"))","v":""}]
[null,{"$f":"IF(Lists!Y25=\"\",\"\",Lists!Y25)","v":""},{"$f":"IF(Lists!Z25=\"\",\"\",Lists!Z25)","v":""},null,"","",{"$f":"IF($D47=\"\",\"\",SUMIFS(Emission_Limits_Details!$H$24:$H$5800,Emission_Limits_Details!$B$24:$B$5800,B47,Emission_Limits_Details!$C$24:$C$5800,C47,Emission_Limits_Details!$I$24:$I$5800,\"Control Equipment Problems\"))","v":""},{"$f":"IF($D47=\"\",\"\",SUMIFS(Emission_Limits_Details!$H$24:$H$5800,Emission_Limits_Details!$B$24:$B$5800,B47,Emission_Limits_Details!$C$24:$C$5800,C47,Emission_Limits_Details!$I$24:$I$5800,\"Process Problems\"))","v":""},{"$f":"IF($D47=\"\",\"\",SUMIFS(Emission_Limits_Details!$H$24:$H$5800,Emission_Limits_Details!$B$24:$B$5800,B47,Emission_Limits_Details!$C$24:$C$5800,C47,Emission_Limits_Details!$I$24:$I$5800,\"Other Known Causes\"))","v":""},{"$f":"IF($D47=\"\",\"\",SUMIFS(Emission_Limits_Details!$H$24:$H$5800,Emission_Limits_Details!$B$24:$B$5800,B47,Emission_Limits_Details!$C$24:$C$5800,C47,Emission_Limits_Details!$I$24:$I$5800,\"Other Unknown Causes\"))","v":""}]
[null,{"$f":"IF(Lists!Y26=\"\",\"\",Lists!Y26)","v":""},{"$f":"IF(Lists!Z26=\"\",\"\",Lists!Z26)","v":""},null,"","",{"$f":"IF($D48=\"\",\"\",SUMIFS(Emission_Limits_Details!$H$24:$H$5800,Emission_Limits_Details!$B$24:$B$5800,B48,Emission_Limits_Details!$C$24:$C$5800,C48,Emission_Limits_Details!$I$24:$I$5800,\"Control Equipment Problems\"))","v":""},{"$f":"IF($D48=\"\",\"\",SUMIFS(Emission_Limits_Details!$H$24:$H$5800,Emission_Limits_Details!$B$24:$B$5800,B48,Emission_Limits_Details!$C$24:$C$5800,C48,Emission_Limits_Details!$I$24:$I$5800,\"Process Problems\"))","v":""},{"$f":"IF($D48=\"\",\"\",SUMIFS(Emission_Limits_Details!$H$24:$H$5800,Emission_Limits_Details!$B$24:$B$5800,B48,Emission_Limits_Details!$C$24:$C$5800,C48,Emission_Limits_Details!$I$24:$I$5800,\"Other Known Causes\"))","v":""},{"$f":"IF($D48=\"\",\"\",SUMIFS(Emission_Limits_Details!$H$24:$H$5800,Emission_Limits_Details!$B$24:$B$5800,B48,Emission_Limits_Details!$C$24:$C$5800,C48,Emission_Limits_Details!$I$24:$I$5800,\"Other Unknown Causes\"))","v":""}]
[null,{"$f":"IF(Lists!Y27=\"\",\"\",Lists!Y27)","v":""},{"$f":"IF(Lists!Z27=\"\",\"\",Lists!Z27)","v":""},null,"","",{"$f":"IF($D49=\"\",\"\",SUMIFS(Emission_Limits_Details!$H$24:$H$5800,Emission_Limits_Details!$B$24:$B$5800,B49,Emission_Limits_Details!$C$24:$C$5800,C49,Emission_Limits_Details!$I$24:$I$5800,\"Control Equipment Problems\"))","v":""},{"$f":"IF($D49=\"\",\"\",SUMIFS(Emission_Limits_Details!$H$24:$H$5800,Emission_Limits_Details!$B$24:$B$5800,B49,Emission_Limits_Details!$C$24:$C$5800,C49,Emission_Limits_Details!$I$24:$I$5800,\"Process Problems\"))","v":""},{"$f":"IF($D49=\"\",\"\",SUMIFS(Emission_Limits_Details!$H$24:$H$5800,Emission_Limits_Details!$B$24:$B$5800,B49,Emission_Limits_Details!$C$24:$C$5800,C49,Emission_Limits_Details!$I$24:$I$5800,\"Other Known Causes\"))","v":""},{"$f":"IF($D49=\"\",\"\",SUMIFS(Emission_Limits_Details!$H$24:$H$5800,Emission_Limits_Details!$B$24:$B$5800,B49,Emission_Limits_Details!$C$24:$C$5800,C49,Emission_Limits_Details!$I$24:$I$5800,\"Other Unknown Causes\"))","v":""}]
[null,{"$f":"IF(Lists!Y28=\"\",\"\",Lists!Y28)","v":""},{"$f":"IF(Lists!Z28=\"\",\"\",Lists!Z28)","v":""},null,"","",{"$f":"IF($D50=\"\",\"\",SUMIFS(Emission_Limits_Details!$H$24:$H$5800,Emission_Limits_Details!$B$24:$B$5800,B50,Emission_Limits_Details!$C$24:$C$5800,C50,Emission_Limits_Details!$I$24:$I$5800,\"Control Equipment Problems\"))","v":""},{"$f":"IF($D50=\"\",\"\",SUMIFS(Emission_Limits_Details!$H$24:$H$5800,Emission_Limits_Details!$B$24:$B$5800,B50,Emission_Limits_Details!$C$24:$C$5800,C50,Emission_Limits_Details!$I$24:$I$5800,\"Process Problems\"))","v":""},{"$f":"IF($D50=\"\",\"\",SUMIFS(Emission_Limits_Details!$H$24:$H$5800,Emission_Limits_Details!$B$24:$B$5800,B50,Emission_Limits_Details!$C$24:$C$5800,C50,Emission_Limits_Details!$I$24:$I$5800,\"Other Known Causes\"))","v":""},{"$f":"IF($D50=\"\",\"\",SUMIFS(Emission_Limits_Details!$H$24:$H$5800,Emission_Limits_Details!$B$24:$B$5800,B50,Emission_Limits_Details!$C$24:$C$5800,C50,Emission_Limits_Details!$I$24:$I$5800,\"Other Unknown Causes\"))","v":""}]
[null,{"$f":"IF(Lists!Y29=\"\",\"\",Lists!Y29)","v":""},{"$f":"IF(Lists!Z29=\"\",\"\",Lists!Z29)","v":""},null,"","",{"$f":"IF($D51=\"\",\"\",SUMIFS(Emission_Limits_Details!$H$24:$H$5800,Emission_Limits_Details!$B$24:$B$5800,B51,Emission_Limits_Details!$C$24:$C$5800,C51,Emission_Limits_Details!$I$24:$I$5800,\"Control Equipment Problems\"))","v":""},{"$f":"IF($D51=\"\",\"\",SUMIFS(Emission_Limits_Details!$H$24:$H$5800,Emission_Limits_Details!$B$24:$B$5800,B51,Emission_Limits_Details!$C$24:$C$5800,C51,Emission_Limits_Details!$I$24:$I$5800,\"Process Problems\"))","v":""},{"$f":"IF($D51=\"\",\"\",SUMIFS(Emission_Limits_Details!$H$24:$H$5800,Emission_Limits_Details!$B$24:$B$5800,B51,Emission_Limits_Details!$C$24:$C$5800,C51,Emission_Limits_Details!$I$24:$I$5800,\"Other Known Causes\"))","v":""},{"$f":"IF($D51=\"\",\"\",SUMIFS(Emission_Limits_Details!$H$24:$H$5800,Emission_Limits_Details!$B$24:$B$5800,B51,Emission_Limits_Details!$C$24:$C$5800,C51,Emission_Limits_Details!$I$24:$I$5800,\"Other Unknown Causes\"))","v":""}]
[null,{"$f":"IF(Lists!Y30=\"\",\"\",Lists!Y30)","v":""},{"$f":"IF(Lists!Z30=\"\",\"\",Lists!Z30)","v":""},null,"","",{"$f":"IF($D52=\"\",\"\",SUMIFS(Emission_Limits_Details!$H$24:$H$5800,Emission_Limits_Details!$B$24:$B$5800,B52,Emission_Limits_Details!$C$24:$C$5800,C52,Emission_Limits_Details!$I$24:$I$5800,\"Control Equipment Problems\"))","v":""},{"$f":"IF($D52=\"\",\"\",SUMIFS(Emission_Limits_Details!$H$24:$H$5800,Emission_Limits_Details!$B$24:$B$5800,B52,Emission_Limits_Details!$C$24:$C$5800,C52,Emission_Limits_Details!$I$24:$I$5800,\"Process Problems\"))","v":""},{"$f":"IF($D52=\"\",\"\",SUMIFS(Emission_Limits_Details!$H$24:$H$5800,Emission_Limits_Details!$B$24:$B$5800,B52,Emission_Limits_Details!$C$24:$C$5800,C52,Emission_Limits_Details!$I$24:$I$5800,\"Other Known Causes\"))","v":""},{"$f":"IF($D52=\"\",\"\",SUMIFS(Emission_Limits_Details!$H$24:$H$5800,Emission_Limits_Details!$B$24:$B$5800,B52,Emission_Limits_Details!$C$24:$C$5800,C52,Emission_Limits_Details!$I$24:$I$5800,\"Other Unknown Causes\"))","v":""}]
[null,{"$f":"IF(Lists!Y31=\"\",\"\",Lists!Y31)","v":""},{"$f":"IF(Lists!Z31=\"\",\"\",Lists!Z31)","v":""},null,"","",{"$f":"IF($D53=\"\",\"\",SUMIFS(Emission_Limits_Details!$H$24:$H$5800,Emission_Limits_Details!$B$24:$B$5800,B53,Emission_Limits_Details!$C$24:$C$5800,C53,Emission_Limits_Details!$I$24:$I$5800,\"Control Equipment Problems\"))","v":""},{"$f":"IF($D53=\"\",\"\",SUMIFS(Emission_Limits_Details!$H$24:$H$5800,Emission_Limits_Details!$B$24:$B$5800,B53,Emission_Limits_Details!$C$24:$C$5800,C53,Emission_Limits_Details!$I$24:$I$5800,\"Process Problems\"))","v":""},{"$f":"IF($D53=\"\",\"\",SUMIFS(Emission_Limits_Details!$H$24:$H$5800,Emission_Limits_Details!$B$24:$B$5800,B53,Emission_Limits_Details!$C$24:$C$5800,C53,Emission_Limits_Details!$I$24:$I$5800,\"Other Known Causes\"))","v":""},{"$f":"IF($D53=\"\",\"\",SUMIFS(Emission_Limits_Details!$H$24:$H$5800,Emission_Limits_Details!$B$24:$B$5800,B53,Emission_Limits_Details!$C$24:$C$5800,C53,Emission_Limits_Details!$I$24:$I$5800,\"Other Unknown Causes\"))","v":""}]
[null,{"$f":"IF(Lists!Y32=\"\",\"\",Lists!Y32)","v":""},{"$f":"IF(Lists!Z32=\"\",\"\",Lists!Z32)","v":""},null,"","",{"$f":"IF($D54=\"\",\"\",SUMIFS(Emission_Limits_Details!$H$24:$H$5800,Emission_Limits_Details!$B$24:$B$5800,B54,Emission_Limits_Details!$C$24:$C$5800,C54,Emission_Limits_Details!$I$24:$I$5800,\"Control Equipment Problems\"))","v":""},{"$f":"IF($D54=\"\",\"\",SUMIFS(Emission_Limits_Details!$H$24:$H$5800,Emission_Limits_Details!$B$24:$B$5800,B54,Emission_Limits_Details!$C$24:$C$5800,C54,Emission_Limits_Details!$I$24:$I$5800,\"Process Problems\"))","v":""},{"$f":"IF($D54=\"\",\"\",SUMIFS(Emission_Limits_Details!$H$24:$H$5800,Emission_Limits_Details!$B$24:$B$5800,B54,Emission_Limits_Details!$C$24:$C$5800,C54,Emission_Limits_Details!$I$24:$I$5800,\"Other Known Causes\"))","v":""},{"$f":"IF($D54=\"\",\"\",SUMIFS(Emission_Limits_Details!$H$24:$H$5800,Emission_Limits_Details!$B$24:$B$5800,B54,Emission_Limits_Details!$C$24:$C$5800,C54,Emission_Limits_Details!$I$24:$I$5800,\"Other Unknown Causes\"))","v":""}]
[null,{"$f":"IF(Lists!Y33=\"\",\"\",Lists!Y33)","v":""},{"$f":"IF(Lists!Z33=\"\",\"\",Lists!Z33)","v":""},null,"","",{"$f":"IF($D55=\"\",\"\",SUMIFS(Emission_Limits_Details!$H$24:$H$5800,Emission_Limits_Details!$B$24:$B$5800,B55,Emission_Limits_Details!$C$24:$C$5800,C55,Emission_Limits_Details!$I$24:$I$5800,\"Control Equipment Problems\"))","v":""},{"$f":"IF($D55=\"\",\"\",SUMIFS(Emission_Limits_Details!$H$24:$H$5800,Emission_Limits_Details!$B$24:$B$5800,B55,Emission_Limits_Details!$C$24:$C$5800,C55,Emission_Limits_Details!$I$24:$I$5800,\"Process Problems\"))","v":""},{"$f":"IF($D55=\"\",\"\",SUMIFS(Emission_Limits_Details!$H$24:$H$5800,Emission_Limits_Details!$B$24:$B$5800,B55,Emission_Limits_Details!$C$24:$C$5800,C55,Emission_Limits_Details!$I$24:$I$5800,\"Other Known Causes\"))","v":""},{"$f":"IF($D55=\"\",\"\",SUMIFS(Emission_Limits_Details!$H$24:$H$5800,Emission_Limits_Details!$B$24:$B$5800,B55,Emission_Limits_Details!$C$24:$C$5800,C55,Emission_Limits_Details!$I$24:$I$5800,\"Other Unknown Causes\"))","v":""}]
[null,{"$f":"IF(Lists!Y34=\"\",\"\",Lists!Y34)","v":""},{"$f":"IF(Lists!Z34=\"\",\"\",Lists!Z34)","v":""},null,{"$f":"IF(D56=\"\",\"\",SUM(G56:J56))","v":""},"",{"$f":"IF($D56=\"\",\"\",SUMIFS(Emission_Limits_Details!$H$24:$H$5800,Emission_Limits_Details!$B$24:$B$5800,B56,Emission_Limits_Details!$C$24:$C$5800,C56,Emission_Limits_Details!$I$24:$I$5800,\"Control Equipment Problems\"))","v":""},{"$f":"IF($D56=\"\",\"\",SUMIFS(Emission_Limits_Details!$H$24:$H$5800,Emission_Limits_Details!$B$24:$B$5800,B56,Emission_Limits_Details!$C$24:$C$5800,C56,Emission_Limits_Details!$I$24:$I$5800,\"Process Problems\"))","v":""},{"$f":"IF($D56=\"\",\"\",SUMIFS(Emission_Limits_Details!$H$24:$H$5800,Emission_Limits_Details!$B$24:$B$5800,B56,Emission_Limits_Details!$C$24:$C$5800,C56,Emission_Limits_Details!$I$24:$I$5800,\"Other Known Causes\"))","v":""},{"$f":"IF($D56=\"\",\"\",SUMIFS(Emission_Limits_Details!$H$24:$H$5800,Emission_Limits_Details!$B$24:$B$5800,B56,Emission_Limits_Details!$C$24:$C$5800,C56,Emission_Limits_Details!$I$24:$I$5800,\"Other Unknown Causes\"))","v":""}]
[null,{"$f":"IF(Lists!Y35=\"\",\"\",Lists!Y35)","v":""},{"$f":"IF(Lists!Z35=\"\",\"\",Lists!Z35)","v":""},null,"","",{"$f":"IF($D57=\"\",\"\",SUMIFS(Emission_Limits_Details!$H$24:$H$5800,Emission_Limits_Details!$B$24:$B$5800,B57,Emission_Limits_Details!$C$24:$C$5800,C57,Emission_Limits_Details!$I$24:$I$5800,\"Control Equipment Problems\"))","v":""},{"$f":"IF($D57=\"\",\"\",SUMIFS(Emission_Limits_Details!$H$24:$H$5800,Emission_Limits_Details!$B$24:$B$5800,B57,Emission_Limits_Details!$C$24:$C$5800,C57,Emission_Limits_Details!$I$24:$I$5800,\"Process Problems\"))","v":""},{"$f":"IF($D57=\"\",\"\",SUMIFS(Emission_Limits_Details!$H$24:$H$5800,Emission_Limits_Details!$B$24:$B$5800,B57,Emission_Limits_Details!$C$24:$C$5800,C57,Emission_Limits_Details!$I$24:$I$5800,\"Other Known Causes\"))","v":""},{"$f":"IF($D57=\"\",\"\",SUMIFS(Emission_Limits_Details!$H$24:$H$5800,Emission_Limits_Details!$B$24:$B$5800,B57,Emission_Limits_Details!$C$24:$C$5800,C57,Emission_Limits_Details!$I$24:$I$5800,\"Other Unknown Causes\"))","v":""}]
[null,{"$f":"IF(Lists!Y36=\"\",\"\",Lists!Y36)","v":""},{"$f":"IF(Lists!Z36=\"\",\"\",Lists!Z36)","v":""},null,"","",{"$f":"IF($D58=\"\",\"\",SUMIFS(Emission_Limits_Details!$H$24:$H$5800,Emission_Limits_Details!$B$24:$B$5800,B58,Emission_Limits_Details!$C$24:$C$5800,C58,Emission_Limits_Details!$I$24:$I$5800,\"Control Equipment Problems\"))","v":""},{"$f":"IF($D58=\"\",\"\",SUMIFS(Emission_Limits_Details!$H$24:$H$5800,Emission_Limits_Details!$B$24:$B$5800,B58,Emission_Limits_Details!$C$24:$C$5800,C58,Emission_Limits_Details!$I$24:$I$5800,\"Process Problems\"))","v":""},{"$f":"IF($D58=\"\",\"\",SUMIFS(Emission_Limits_Details!$H$24:$H$5800,Emission_Limits_Details!$B$24:$B$5800,B58,Emission_Limits_Details!$C$24:$C$5800,C58,Emission_Limits_Details!$I$24:$I$5800,\"Other Known Causes\"))","v":""},{"$f":"IF($D58=\"\",\"\",SUMIFS(Emission_Limits_Details!$H$24:$H$5800,Emission_Limits_Details!$B$24:$B$5800,B58,Emission_Limits_Details!$C$24:$C$5800,C58,Emission_Limits_Details!$I$24:$I$5800,\"Other Unknown Causes\"))","v":""}]
[null,{"$f":"IF(Lists!Y37=\"\",\"\",Lists!Y37)","v":""},{"$f":"IF(Lists!Z37=\"\",\"\",Lists!Z37)","v":""},null,"","",{"$f":"IF($D59=\"\",\"\",SUMIFS(Emission_Limits_Details!$H$24:$H$5800,Emission_Limits_Details!$B$24:$B$5800,B59,Emission_Limits_Details!$C$24:$C$5800,C59,Emission_Limits_Details!$I$24:$I$5800,\"Control Equipment Problems\"))","v":""},{"$f":"IF($D59=\"\",\"\",SUMIFS(Emission_Limits_Details!$H$24:$H$5800,Emission_Limits_Details!$B$24:$B$5800,B59,Emission_Limits_Details!$C$24:$C$5800,C59,Emission_Limits_Details!$I$24:$I$5800,\"Process Problems\"))","v":""},{"$f":"IF($D59=\"\",\"\",SUMIFS(Emission_Limits_Details!$H$24:$H$5800,Emission_Limits_Details!$B$24:$B$5800,B59,Emission_Limits_Details!$C$24:$C$5800,C59,Emission_Limits_Details!$I$24:$I$5800,\"Other Known Causes\"))","v":""},{"$f":"IF($D59=\"\",\"\",SUMIFS(Emission_Limits_Details!$H$24:$H$5800,Emission_Limits_Details!$B$24:$B$5800,B59,Emission_Limits_Details!$C$24:$C$5800,C59,Emission_Limits_Details!$I$24:$I$5800,\"Other Unknown Causes\"))","v":""}]
[null,{"$f":"IF(Lists!Y38=\"\",\"\",Lists!Y38)","v":""},{"$f":"IF(Lists!Z38=\"\",\"\",Lists!Z38)","v":""},null,"","",{"$f":"IF($D60=\"\",\"\",SUMIFS(Emission_Limits_Details!$H$24:$H$5800,Emission_Limits_Details!$B$24:$B$5800,B60,Emission_Limits_Details!$C$24:$C$5800,C60,Emission_Limits_Details!$I$24:$I$5800,\"Control Equipment Problems\"))","v":""},{"$f":"IF($D60=\"\",\"\",SUMIFS(Emission_Limits_Details!$H$24:$H$5800,Emission_Limits_Details!$B$24:$B$5800,B60,Emission_Limits_Details!$C$24:$C$5800,C60,Emission_Limits_Details!$I$24:$I$5800,\"Process Problems\"))","v":""},{"$f":"IF($D60=\"\",\"\",SUMIFS(Emission_Limits_Details!$H$24:$H$5800,Emission_Limits_Details!$B$24:$B$5800,B60,Emission_Limits_Details!$C$24:$C$5800,C60,Emission_Limits_Details!$I$24:$I$5800,\"Other Known Causes\"))","v":""},{"$f":"IF($D60=\"\",\"\",SUMIFS(Emission_Limits_Details!$H$24:$H$5800,Emission_Limits_Details!$B$24:$B$5800,B60,Emission_Limits_Details!$C$24:$C$5800,C60,Emission_Limits_Details!$I$24:$I$5800,\"Other Unknown Causes\"))","v":""}]
[null,{"$f":"IF(Lists!Y39=\"\",\"\",Lists!Y39)","v":""},{"$f":"IF(Lists!Z39=\"\",\"\",Lists!Z39)","v":""},null,"","",{"$f":"IF($D61=\"\",\"\",SUMIFS(Emission_Limits_Details!$H$24:$H$5800,Emission_Limits_Details!$B$24:$B$5800,B61,Emission_Limits_Details!$C$24:$C$5800,C61,Emission_Limits_Details!$I$24:$I$5800,\"Control Equipment Problems\"))","v":""},{"$f":"IF($D61=\"\",\"\",SUMIFS(Emission_Limits_Details!$H$24:$H$5800,Emission_Limits_Details!$B$24:$B$5800,B61,Emission_Limits_Details!$C$24:$C$5800,C61,Emission_Limits_Details!$I$24:$I$5800,\"Process Problems\"))","v":""},{"$f":"IF($D61=\"\",\"\",SUMIFS(Emission_Limits_Details!$H$24:$H$5800,Emission_Limits_Details!$B$24:$B$5800,B61,Emission_Limits_Details!$C$24:$C$5800,C61,Emission_Limits_Details!$I$24:$I$5800,\"Other Known Causes\"))","v":""},{"$f":"IF($D61=\"\",\"\",SUMIFS(Emission_Limits_Details!$H$24:$H$5800,Emission_Limits_Details!$B$24:$B$5800,B61,Emission_Limits_Details!$C$24:$C$5800,C61,Emission_Limits_Details!$I$24:$I$5800,\"Other Unknown Causes\"))","v":""}]
[null,{"$f":"IF(Lists!Y40=\"\",\"\",Lists!Y40)","v":""},{"$f":"IF(Lists!Z40=\"\",\"\",Lists!Z40)","v":""},null,"","",{"$f":"IF($D62=\"\",\"\",SUMIFS(Emission_Limits_Details!$H$24:$H$5800,Emission_Limits_Details!$B$24:$B$5800,B62,Emission_Limits_Details!$C$24:$C$5800,C62,Emission_Limits_Details!$I$24:$I$5800,\"Control Equipment Problems\"))","v":""},{"$f":"IF($D62=\"\",\"\",SUMIFS(Emission_Limits_Details!$H$24:$H$5800,Emission_Limits_Details!$B$24:$B$5800,B62,Emission_Limits_Details!$C$24:$C$5800,C62,Emission_Limits_Details!$I$24:$I$5800,\"Process Problems\"))","v":""},{"$f":"IF($D62=\"\",\"\",SUMIFS(Emission_Limits_Details!$H$24:$H$5800,Emission_Limits_Details!$B$24:$B$5800,B62,Emission_Limits_Details!$C$24:$C$5800,C62,Emission_Limits_Details!$I$24:$I$5800,\"Other Known Causes\"))","v":""},{"$f":"IF($D62=\"\",\"\",SUMIFS(Emission_Limits_Details!$H$24:$H$5800,Emission_Limits_Details!$B$24:$B$5800,B62,Emission_Limits_Details!$C$24:$C$5800,C62,Emission_Limits_Details!$I$24:$I$5800,\"Other Unknown Causes\"))","v":""}]
[null,{"$f":"IF(Lists!Y41=\"\",\"\",Lists!Y41)","v":""},{"$f":"IF(Lists!Z41=\"\",\"\",Lists!Z41)","v":""},null,"","",{"$f":"IF($D63=\"\",\"\",SUMIFS(Emission_Limits_Details!$H$24:$H$5800,Emission_Limits_Details!$B$24:$B$5800,B63,Emission_Limits_Details!$C$24:$C$5800,C63,Emission_Limits_Details!$I$24:$I$5800,\"Control Equipment Problems\"))","v":""},{"$f":"IF($D63=\"\",\"\",SUMIFS(Emission_Limits_Details!$H$24:$H$5800,Emission_Limits_Details!$B$24:$B$5800,B63,Emission_Limits_Details!$C$24:$C$5800,C63,Emission_Limits_Details!$I$24:$I$5800,\"Process Problems\"))","v":""},{"$f":"IF($D63=\"\",\"\",SUMIFS(Emission_Limits_Details!$H$24:$H$5800,Emission_Limits_Details!$B$24:$B$5800,B63,Emission_Limits_Details!$C$24:$C$5800,C63,Emission_Limits_Details!$I$24:$I$5800,\"Other Known Causes\"))","v":""},{"$f":"IF($D63=\"\",\"\",SUMIFS(Emission_Limits_Details!$H$24:$H$5800,Emission_Limits_Details!$B$24:$B$5800,B63,Emission_Limits_Details!$C$24:$C$5800,C63,Emission_Limits_Details!$I$24:$I$5800,\"Other Unknown Causes\"))","v":""}]
[null,{"$f":"IF(Lists!Y42=\"\",\"\",Lists!Y42)","v":""},{"$f":"IF(Lists!Z42=\"\",\"\",Lists!Z42)","v":""},null,"","",{"$f":"IF($D64=\"\",\"\",SUMIFS(Emission_Limits_Details!$H$24:$H$5800,Emission_Limits_Details!$B$24:$B$5800,B64,Emission_Limits_Details!$C$24:$C$5800,C64,Emission_Limits_Details!$I$24:$I$5800,\"Control Equipment Problems\"))","v":""},{"$f":"IF($D64=\"\",\"\",SUMIFS(Emission_Limits_Details!$H$24:$H$5800,Emission_Limits_Details!$B$24:$B$5800,B64,Emission_Limits_Details!$C$24:$C$5800,C64,Emission_Limits_Details!$I$24:$I$5800,\"Process Problems\"))","v":""},{"$f":"IF($D64=\"\",\"\",SUMIFS(Emission_Limits_Details!$H$24:$H$5800,Emission_Limits_Details!$B$24:$B$5800,B64,Emission_Limits_Details!$C$24:$C$5800,C64,Emission_Limits_Details!$I$24:$I$5800,\"Other Known Causes\"))","v":""},{"$f":"IF($D64=\"\",\"\",SUMIFS(Emission_Limits_Details!$H$24:$H$5800,Emission_Limits_Details!$B$24:$B$5800,B64,Emission_Limits_Details!$C$24:$C$5800,C64,Emission_Limits_Details!$I$24:$I$5800,\"Other Unknown Causes\"))","v":""}]
[null,{"$f":"IF(Lists!Y43=\"\",\"\",Lists!Y43)","v":""},{"$f":"IF(Lists!Z43=\"\",\"\",Lists!Z43)","v":""},null,"","",{"$f":"IF($D65=\"\",\"\",SUMIFS(Emission_Limits_Details!$H$24:$H$5800,Emission_Limits_Details!$B$24:$B$5800,B65,Emission_Limits_Details!$C$24:$C$5800,C65,Emission_Limits_Details!$I$24:$I$5800,\"Control Equipment Problems\"))","v":""},{"$f":"IF($D65=\"\",\"\",SUMIFS(Emission_Limits_Details!$H$24:$H$5800,Emission_Limits_Details!$B$24:$B$5800,B65,Emission_Limits_Details!$C$24:$C$5800,C65,Emission_Limits_Details!$I$24:$I$5800,\"Process Problems\"))","v":""},{"$f":"IF($D65=\"\",\"\",SUMIFS(Emission_Limits_Details!$H$24:$H$5800,Emission_Limits_Details!$B$24:$B$5800,B65,Emission_Limits_Details!$C$24:$C$5800,C65,Emission_Limits_Details!$I$24:$I$5800,\"Other Known Causes\"))","v":""},{"$f":"IF($D65=\"\",\"\",SUMIFS(Emission_Limits_Details!$H$24:$H$5800,Emission_Limits_Details!$B$24:$B$5800,B65,Emission_Limits_Details!$C$24:$C$5800,C65,Emission_Limits_Details!$I$24:$I$5800,\"Other Unknown Causes\"))","v":""}]
[null,{"$f":"IF(Lists!Y44=\"\",\"\",Lists!Y44)","v":""},{"$f":"IF(Lists!Z44=\"\",\"\",Lists!Z44)","v":""},null,"","",{"$f":"IF($D66=\"\",\"\",SUMIFS(Emission_Limits_Details!$H$24:$H$5800,Emission_Limits_Details!$B$24:$B$5800,B66,Emission_Limits_Details!$C$24:$C$5800,C66,Emission_Limits_Details!$I$24:$I$5800,\"Control Equipment Problems\"))","v":""},{"$f":"IF($D66=\"\",\"\",SUMIFS(Emission_Limits_Details!$H$24:$H$5800,Emission_Limits_Details!$B$24:$B$5800,B66,Emission_Limits_Details!$C$24:$C$5800,C66,Emission_Limits_Details!$I$24:$I$5800,\"Process Problems\"))","v":""},{"$f":"IF($D66=\"\",\"\",SUMIFS(Emission_Limits_Details!$H$24:$H$5800,Emission_Limits_Details!$B$24:$B$5800,B66,Emission_Limits_Details!$C$24:$C$5800,C66,Emission_Limits_Details!$I$24:$I$5800,\"Other Known Causes\"))","v":""},{"$f":"IF($D66=\"\",\"\",SUMIFS(Emission_Limits_Details!$H$24:$H$5800,Emission_Limits_Details!$B$24:$B$5800,B66,Emission_Limits_Details!$C$24:$C$5800,C66,Emission_Limits_Details!$I$24:$I$5800,\"Other Unknown Causes\"))","v":""}]
[null,{"$f":"IF(Lists!Y45=\"\",\"\",Lists!Y45)","v":""},{"$f":"IF(Lists!Z45=\"\",\"\",Lists!Z45)","v":""},null,"","",{"$f":"IF($D67=\"\",\"\",SUMIFS(Emission_Limits_Details!$H$24:$H$5800,Emission_Limits_Details!$B$24:$B$5800,B67,Emission_Limits_Details!$C$24:$C$5800,C67,Emission_Limits_Details!$I$24:$I$5800,\"Control Equipment Problems\"))","v":""},{"$f":"IF($D67=\"\",\"\",SUMIFS(Emission_Limits_Details!$H$24:$H$5800,Emission_Limits_Details!$B$24:$B$5800,B67,Emission_Limits_Details!$C$24:$C$5800,C67,Emission_Limits_Details!$I$24:$I$5800,\"Process Problems\"))","v":""},{"$f":"IF($D67=\"\",\"\",SUMIFS(Emission_Limits_Details!$H$24:$H$5800,Emission_Limits_Details!$B$24:$B$5800,B67,Emission_Limits_Details!$C$24:$C$5800,C67,Emission_Limits_Details!$I$24:$I$5800,\"Other Known Causes\"))","v":""},{"$f":"IF($D67=\"\",\"\",SUMIFS(Emission_Limits_Details!$H$24:$H$5800,Emission_Limits_Details!$B$24:$B$5800,B67,Emission_Limits_Details!$C$24:$C$5800,C67,Emission_Limits_Details!$I$24:$I$5800,\"Other Unknown Causes\"))","v":""}]
[null,{"$f":"IF(Lists!Y46=\"\",\"\",Lists!Y46)","v":""},{"$f":"IF(Lists!Z46=\"\",\"\",Lists!Z46)","v":""},null,"","",{"$f":"IF($D68=\"\",\"\",SUMIFS(Emission_Limits_Details!$H$24:$H$5800,Emission_Limits_Details!$B$24:$B$5800,B68,Emission_Limits_Details!$C$24:$C$5800,C68,Emission_Limits_Details!$I$24:$I$5800,\"Control Equipment Problems\"))","v":""},{"$f":"IF($D68=\"\",\"\",SUMIFS(Emission_Limits_Details!$H$24:$H$5800,Emission_Limits_Details!$B$24:$B$5800,B68,Emission_Limits_Details!$C$24:$C$5800,C68,Emission_Limits_Details!$I$24:$I$5800,\"Process Problems\"))","v":""},{"$f":"IF($D68=\"\",\"\",SUMIFS(Emission_Limits_Details!$H$24:$H$5800,Emission_Limits_Details!$B$24:$B$5800,B68,Emission_Limits_Details!$C$24:$C$5800,C68,Emission_Limits_Details!$I$24:$I$5800,\"Other Known Causes\"))","v":""},{"$f":"IF($D68=\"\",\"\",SUMIFS(Emission_Limits_Details!$H$24:$H$5800,Emission_Limits_Details!$B$24:$B$5800,B68,Emission_Limits_Details!$C$24:$C$5800,C68,Emission_Limits_Details!$I$24:$I$5800,\"Other Unknown Causes\"))","v":""}]
[null,{"$f":"IF(Lists!Y47=\"\",\"\",Lists!Y47)","v":""},{"$f":"IF(Lists!Z47=\"\",\"\",Lists!Z47)","v":""},null,"","",{"$f":"IF($D69=\"\",\"\",SUMIFS(Emission_Limits_Details!$H$24:$H$5800,Emission_Limits_Details!$B$24:$B$5800,B69,Emission_Limits_Details!$C$24:$C$5800,C69,Emission_Limits_Details!$I$24:$I$5800,\"Control Equipment Problems\"))","v":""},{"$f":"IF($D69=\"\",\"\",SUMIFS(Emission_Limits_Details!$H$24:$H$5800,Emission_Limits_Details!$B$24:$B$5800,B69,Emission_Limits_Details!$C$24:$C$5800,C69,Emission_Limits_Details!$I$24:$I$5800,\"Process Problems\"))","v":""},{"$f":"IF($D69=\"\",\"\",SUMIFS(Emission_Limits_Details!$H$24:$H$5800,Emission_Limits_Details!$B$24:$B$5800,B69,Emission_Limits_Details!$C$24:$C$5800,C69,Emission_Limits_Details!$I$24:$I$5800,\"Other Known Causes\"))","v":""},{"$f":"IF($D69=\"\",\"\",SUMIFS(Emission_Limits_Details!$H$24:$H$5800,Emission_Limits_Details!$B$24:$B$5800,B69,Emission_Limits_Details!$C$24:$C$5800,C69,Emission_Limits_Details!$I$24:$I$5800,\"Other Unknown Causes\"))","v":""}]
[null,{"$f":"IF(Lists!Y48=\"\",\"\",Lists!Y48)","v":""},{"$f":"IF(Lists!Z48=\"\",\"\",Lists!Z48)","v":""},null,"","",{"$f":"IF($D70=\"\",\"\",SUMIFS(Emission_Limits_Details!$H$24:$H$5800,Emission_Limits_Details!$B$24:$B$5800,B70,Emission_Limits_Details!$C$24:$C$5800,C70,Emission_Limits_Details!$I$24:$I$5800,\"Control Equipment Problems\"))","v":""},{"$f":"IF($D70=\"\",\"\",SUMIFS(Emission_Limits_Details!$H$24:$H$5800,Emission_Limits_Details!$B$24:$B$5800,B70,Emission_Limits_Details!$C$24:$C$5800,C70,Emission_Limits_Details!$I$24:$I$5800,\"Process Problems\"))","v":""},{"$f":"IF($D70=\"\",\"\",SUMIFS(Emission_Limits_Details!$H$24:$H$5800,Emission_Limits_Details!$B$24:$B$5800,B70,Emission_Limits_Details!$C$24:$C$5800,C70,Emission_Limits_Details!$I$24:$I$5800,\"Other Known Causes\"))","v":""},{"$f":"IF($D70=\"\",\"\",SUMIFS(Emission_Limits_Details!$H$24:$H$5800,Emission_Limits_Details!$B$24:$B$5800,B70,Emission_Limits_Details!$C$24:$C$5800,C70,Emission_Limits_Details!$I$24:$I$5800,\"Other Unknown Causes\"))","v":""}]
[null,{"$f":"IF(Lists!Y49=\"\",\"\",Lists!Y49)","v":""},{"$f":"IF(Lists!Z49=\"\",\"\",Lists!Z49)","v":""},null,"","",{"$f":"IF($D71=\"\",\"\",SUMIFS(Emission_Limits_Details!$H$24:$H$5800,Emission_Limits_Details!$B$24:$B$5800,B71,Emission_Limits_Details!$C$24:$C$5800,C71,Emission_Limits_Details!$I$24:$I$5800,\"Control Equipment Problems\"))","v":""},{"$f":"IF($D71=\"\",\"\",SUMIFS(Emission_Limits_Details!$H$24:$H$5800,Emission_Limits_Details!$B$24:$B$5800,B71,Emission_Limits_Details!$C$24:$C$5800,C71,Emission_Limits_Details!$I$24:$I$5800,\"Process Problems\"))","v":""},{"$f":"IF($D71=\"\",\"\",SUMIFS(Emission_Limits_Details!$H$24:$H$5800,Emission_Limits_Details!$B$24:$B$5800,B71,Emission_Limits_Details!$C$24:$C$5800,C71,Emission_Limits_Details!$I$24:$I$5800,\"Other Known Causes\"))","v":""},{"$f":"IF($D71=\"\",\"\",SUMIFS(Emission_Limits_Details!$H$24:$H$5800,Emission_Limits_Details!$B$24:$B$5800,B71,Emission_Limits_Details!$C$24:$C$5800,C71,Emission_Limits_Details!$I$24:$I$5800,\"Other Unknown Causes\"))","v":""}]
[null,{"$f":"IF(Lists!Y50=\"\",\"\",Lists!Y50)","v":""},{"$f":"IF(Lists!Z50=\"\",\"\",Lists!Z50)","v":""},null,"","",{"$f":"IF($D72=\"\",\"\",SUMIFS(Emission_Limits_Details!$H$24:$H$5800,Emission_Limits_Details!$B$24:$B$5800,B72,Emission_Limits_Details!$C$24:$C$5800,C72,Emission_Limits_Details!$I$24:$I$5800,\"Control Equipment Problems\"))","v":""},{"$f":"IF($D72=\"\",\"\",SUMIFS(Emission_Limits_Details!$H$24:$H$5800,Emission_Limits_Details!$B$24:$B$5800,B72,Emission_Limits_Details!$C$24:$C$5800,C72,Emission_Limits_Details!$I$24:$I$5800,\"Process Problems\"))","v":""},{"$f":"IF($D72=\"\",\"\",SUMIFS(Emission_Limits_Details!$H$24:$H$5800,Emission_Limits_Details!$B$24:$B$5800,B72,Emission_Limits_Details!$C$24:$C$5800,C72,Emission_Limits_Details!$I$24:$I$5800,\"Other Known Causes\"))","v":""},{"$f":"IF($D72=\"\",\"\",SUMIFS(Emission_Limits_Details!$H$24:$H$5800,Emission_Limits_Details!$B$24:$B$5800,B72,Emission_Limits_Details!$C$24:$C$5800,C72,Emission_Limits_Details!$I$24:$I$5800,\"Other Unknown Causes\"))","v":""}]
[null,{"$f":"IF(Lists!Y51=\"\",\"\",Lists!Y51)","v":""},{"$f":"IF(Lists!Z51=\"\",\"\",Lists!Z51)","v":""},null,"","",{"$f":"IF($D73=\"\",\"\",SUMIFS(Emission_Limits_Details!$H$24:$H$5800,Emission_Limits_Details!$B$24:$B$5800,B73,Emission_Limits_Details!$C$24:$C$5800,C73,Emission_Limits_Details!$I$24:$I$5800,\"Control Equipment Problems\"))","v":""},{"$f":"IF($D73=\"\",\"\",SUMIFS(Emission_Limits_Details!$H$24:$H$5800,Emission_Limits_Details!$B$24:$B$5800,B73,Emission_Limits_Details!$C$24:$C$5800,C73,Emission_Limits_Details!$I$24:$I$5800,\"Process Problems\"))","v":""},{"$f":"IF($D73=\"\",\"\",SUMIFS(Emission_Limits_Details!$H$24:$H$5800,Emission_Limits_Details!$B$24:$B$5800,B73,Emission_Limits_Details!$C$24:$C$5800,C73,Emission_Limits_Details!$I$24:$I$5800,\"Other Known Causes\"))","v":""},{"$f":"IF($D73=\"\",\"\",SUMIFS(Emission_Limits_Details!$H$24:$H$5800,Emission_Limits_Details!$B$24:$B$5800,B73,Emission_Limits_Details!$C$24:$C$5800,C73,Emission_Limits_Details!$I$24:$I$5800,\"Other Unknown Causes\"))","v":""}]
[null,{"$f":"IF(Lists!Y52=\"\",\"\",Lists!Y52)","v":""},{"$f":"IF(Lists!Z52=\"\",\"\",Lists!Z52)","v":""},null,"","",{"$f":"IF($D74=\"\",\"\",SUMIFS(Emission_Limits_Details!$H$24:$H$5800,Emission_Limits_Details!$B$24:$B$5800,B74,Emission_Limits_Details!$C$24:$C$5800,C74,Emission_Limits_Details!$I$24:$I$5800,\"Control Equipment Problems\"))","v":""},{"$f":"IF($D74=\"\",\"\",SUMIFS(Emission_Limits_Details!$H$24:$H$5800,Emission_Limits_Details!$B$24:$B$5800,B74,Emission_Limits_Details!$C$24:$C$5800,C74,Emission_Limits_Details!$I$24:$I$5800,\"Process Problems\"))","v":""},{"$f":"IF($D74=\"\",\"\",SUMIFS(Emission_Limits_Details!$H$24:$H$5800,Emission_Limits_Details!$B$24:$B$5800,B74,Emission_Limits_Details!$C$24:$C$5800,C74,Emission_Limits_Details!$I$24:$I$5800,\"Other Known Causes\"))","v":""},{"$f":"IF($D74=\"\",\"\",SUMIFS(Emission_Limits_Details!$H$24:$H$5800,Emission_Limits_Details!$B$24:$B$5800,B74,Emission_Limits_Details!$C$24:$C$5800,C74,Emission_Limits_Details!$I$24:$I$5800,\"Other Unknown Causes\"))","v":""}]
[null,{"$f":"IF(Lists!Y53=\"\",\"\",Lists!Y53)","v":""},{"$f":"IF(Lists!Z53=\"\",\"\",Lists!Z53)","v":""},null,"","",{"$f":"IF($D75=\"\",\"\",SUMIFS(Emission_Limits_Details!$H$24:$H$5800,Emission_Limits_Details!$B$24:$B$5800,B75,Emission_Limits_Details!$C$24:$C$5800,C75,Emission_Limits_Details!$I$24:$I$5800,\"Control Equipment Problems\"))","v":""},{"$f":"IF($D75=\"\",\"\",SUMIFS(Emission_Limits_Details!$H$24:$H$5800,Emission_Limits_Details!$B$24:$B$5800,B75,Emission_Limits_Details!$C$24:$C$5800,C75,Emission_Limits_Details!$I$24:$I$5800,\"Process Problems\"))","v":""},{"$f":"IF($D75=\"\",\"\",SUMIFS(Emission_Limits_Details!$H$24:$H$5800,Emission_Limits_Details!$B$24:$B$5800,B75,Emission_Limits_Details!$C$24:$C$5800,C75,Emission_Limits_Details!$I$24:$I$5800,\"Other Known Causes\"))","v":""},{"$f":"IF($D75=\"\",\"\",SUMIFS(Emission_Limits_Details!$H$24:$H$5800,Emission_Limits_Details!$B$24:$B$5800,B75,Emission_Limits_Details!$C$24:$C$5800,C75,Emission_Limits_Details!$I$24:$I$5800,\"Other Unknown Causes\"))","v":""}]
[null,{"$f":"IF(Lists!Y54=\"\",\"\",Lists!Y54)","v":""},{"$f":"IF(Lists!Z54=\"\",\"\",Lists!Z54)","v":""},null,"","",{"$f":"IF($D76=\"\",\"\",SUMIFS(Emission_Limits_Details!$H$24:$H$5800,Emission_Limits_Details!$B$24:$B$5800,B76,Emission_Limits_Details!$C$24:$C$5800,C76,Emission_Limits_Details!$I$24:$I$5800,\"Control Equipment Problems\"))","v":""},{"$f":"IF($D76=\"\",\"\",SUMIFS(Emission_Limits_Details!$H$24:$H$5800,Emission_Limits_Details!$B$24:$B$5800,B76,Emission_Limits_Details!$C$24:$C$5800,C76,Emission_Limits_Details!$I$24:$I$5800,\"Process Problems\"))","v":""},{"$f":"IF($D76=\"\",\"\",SUMIFS(Emission_Limits_Details!$H$24:$H$5800,Emission_Limits_Details!$B$24:$B$5800,B76,Emission_Limits_Details!$C$24:$C$5800,C76,Emission_Limits_Details!$I$24:$I$5800,\"Other Known Causes\"))","v":""},{"$f":"IF($D76=\"\",\"\",SUMIFS(Emission_Limits_Details!$H$24:$H$5800,Emission_Limits_Details!$B$24:$B$5800,B76,Emission_Limits_Details!$C$24:$C$5800,C76,Emission_Limits_Details!$I$24:$I$5800,\"Other Unknown Causes\"))","v":""}]
[null,{"$f":"IF(Lists!Y55=\"\",\"\",Lists!Y55)","v":""},{"$f":"IF(Lists!Z55=\"\",\"\",Lists!Z55)","v":""},null,"","",{"$f":"IF($D77=\"\",\"\",SUMIFS(Emission_Limits_Details!$H$24:$H$5800,Emission_Limits_Details!$B$24:$B$5800,B77,Emission_Limits_Details!$C$24:$C$5800,C77,Emission_Limits_Details!$I$24:$I$5800,\"Control Equipment Problems\"))","v":""},{"$f":"IF($D77=\"\",\"\",SUMIFS(Emission_Limits_Details!$H$24:$H$5800,Emission_Limits_Details!$B$24:$B$5800,B77,Emission_Limits_Details!$C$24:$C$5800,C77,Emission_Limits_Details!$I$24:$I$5800,\"Process Problems\"))","v":""},{"$f":"IF($D77=\"\",\"\",SUMIFS(Emission_Limits_Details!$H$24:$H$5800,Emission_Limits_Details!$B$24:$B$5800,B77,Emission_Limits_Details!$C$24:$C$5800,C77,Emission_Limits_Details!$I$24:$I$5800,\"Other Known Causes\"))","v":""},{"$f":"IF($D77=\"\",\"\",SUMIFS(Emission_Limits_Details!$H$24:$H$5800,Emission_Limits_Details!$B$24:$B$5800,B77,Emission_Limits_Details!$C$24:$C$5800,C77,Emission_Limits_Details!$I$24:$I$5800,\"Other Unknown Causes\"))","v":""}]
[null,{"$f":"IF(Lists!Y56=\"\",\"\",Lists!Y56)","v":""},{"$f":"IF(Lists!Z56=\"\",\"\",Lists!Z56)","v":""},null,"","",{"$f":"IF($D78=\"\",\"\",SUMIFS(Emission_Limits_Details!$H$24:$H$5800,Emission_Limits_Details!$B$24:$B$5800,B78,Emission_Limits_Details!$C$24:$C$5800,C78,Emission_Limits_Details!$I$24:$I$5800,\"Control Equipment Problems\"))","v":""},{"$f":"IF($D78=\"\",\"\",SUMIFS(Emission_Limits_Details!$H$24:$H$5800,Emission_Limits_Details!$B$24:$B$5800,B78,Emission_Limits_Details!$C$24:$C$5800,C78,Emission_Limits_Details!$I$24:$I$5800,\"Process Problems\"))","v":""},{"$f":"IF($D78=\"\",\"\",SUMIFS(Emission_Limits_Details!$H$24:$H$5800,Emission_Limits_Details!$B$24:$B$5800,B78,Emission_Limits_Details!$C$24:$C$5800,C78,Emission_Limits_Details!$I$24:$I$5800,\"Other Known Causes\"))","v":""},{"$f":"IF($D78=\"\",\"\",SUMIFS(Emission_Limits_Details!$H$24:$H$5800,Emission_Limits_Details!$B$24:$B$5800,B78,Emission_Limits_Details!$C$24:$C$5800,C78,Emission_Limits_Details!$I$24:$I$5800,\"Other Unknown Causes\"))","v":""}]
[null,{"$f":"IF(Lists!Y57=\"\",\"\",Lists!Y57)","v":""},{"$f":"IF(Lists!Z57=\"\",\"\",Lists!Z57)","v":""},null,"","",{"$f":"IF($D79=\"\",\"\",SUMIFS(Emission_Limits_Details!$H$24:$H$5800,Emission_Limits_Details!$B$24:$B$5800,B79,Emission_Limits_Details!$C$24:$C$5800,C79,Emission_Limits_Details!$I$24:$I$5800,\"Control Equipment Problems\"))","v":""},{"$f":"IF($D79=\"\",\"\",SUMIFS(Emission_Limits_Details!$H$24:$H$5800,Emission_Limits_Details!$B$24:$B$5800,B79,Emission_Limits_Details!$C$24:$C$5800,C79,Emission_Limits_Details!$I$24:$I$5800,\"Process Problems\"))","v":""},{"$f":"IF($D79=\"\",\"\",SUMIFS(Emission_Limits_Details!$H$24:$H$5800,Emission_Limits_Details!$B$24:$B$5800,B79,Emission_Limits_Details!$C$24:$C$5800,C79,Emission_Limits_Details!$I$24:$I$5800,\"Other Known Causes\"))","v":""},{"$f":"IF($D79=\"\",\"\",SUMIFS(Emission_Limits_Details!$H$24:$H$5800,Emission_Limits_Details!$B$24:$B$5800,B79,Emission_Limits_Details!$C$24:$C$5800,C79,Emission_Limits_Details!$I$24:$I$5800,\"Other Unknown Causes\"))","v":""}]
[null,{"$f":"IF(Lists!Y58=\"\",\"\",Lists!Y58)","v":""},{"$f":"IF(Lists!Z58=\"\",\"\",Lists!Z58)","v":""},null,"","",{"$f":"IF($D80=\"\",\"\",SUMIFS(Emission_Limits_Details!$H$24:$H$5800,Emission_Limits_Details!$B$24:$B$5800,B80,Emission_Limits_Details!$C$24:$C$5800,C80,Emission_Limits_Details!$I$24:$I$5800,\"Control Equipment Problems\"))","v":""},{"$f":"IF($D80=\"\",\"\",SUMIFS(Emission_Limits_Details!$H$24:$H$5800,Emission_Limits_Details!$B$24:$B$5800,B80,Emission_Limits_Details!$C$24:$C$5800,C80,Emission_Limits_Details!$I$24:$I$5800,\"Process Problems\"))","v":""},{"$f":"IF($D80=\"\",\"\",SUMIFS(Emission_Limits_Details!$H$24:$H$5800,Emission_Limits_Details!$B$24:$B$5800,B80,Emission_Limits_Details!$C$24:$C$5800,C80,Emission_Limits_Details!$I$24:$I$5800,\"Other Known Causes\"))","v":""},{"$f":"IF($D80=\"\",\"\",SUMIFS(Emission_Limits_Details!$H$24:$H$5800,Emission_Limits_Details!$B$24:$B$5800,B80,Emission_Limits_Details!$C$24:$C$5800,C80,Emission_Limits_Details!$I$24:$I$5800,\"Other Unknown Causes\"))","v":""}]
[null,{"$f":"IF(Lists!Y59=\"\",\"\",Lists!Y59)","v":""},{"$f":"IF(Lists!Z59=\"\",\"\",Lists!Z59)","v":""},null,"","",{"$f":"IF($D81=\"\",\"\",SUMIFS(Emission_Limits_Details!$H$24:$H$5800,Emission_Limits_Details!$B$24:$B$5800,B81,Emission_Limits_Details!$C$24:$C$5800,C81,Emission_Limits_Details!$I$24:$I$5800,\"Control Equipment Problems\"))","v":""},{"$f":"IF($D81=\"\",\"\",SUMIFS(Emission_Limits_Details!$H$24:$H$5800,Emission_Limits_Details!$B$24:$B$5800,B81,Emission_Limits_Details!$C$24:$C$5800,C81,Emission_Limits_Details!$I$24:$I$5800,\"Process Problems\"))","v":""},{"$f":"IF($D81=\"\",\"\",SUMIFS(Emission_Limits_Details!$H$24:$H$5800,Emission_Limits_Details!$B$24:$B$5800,B81,Emission_Limits_Details!$C$24:$C$5800,C81,Emission_Limits_Details!$I$24:$I$5800,\"Other Known Causes\"))","v":""},{"$f":"IF($D81=\"\",\"\",SUMIFS(Emission_Limits_Details!$H$24:$H$5800,Emission_Limits_Details!$B$24:$B$5800,B81,Emission_Limits_Details!$C$24:$C$5800,C81,Emission_Limits_Details!$I$24:$I$5800,\"Other Unknown Causes\"))","v":""}]
[null,{"$f":"IF(Lists!Y60=\"\",\"\",Lists!Y60)","v":""},{"$f":"IF(Lists!Z60=\"\",\"\",Lists!Z60)","v":""},null,"","",{"$f":"IF($D82=\"\",\"\",SUMIFS(Emission_Limits_Details!$H$24:$H$5800,Emission_Limits_Details!$B$24:$B$5800,B82,Emission_Limits_Details!$C$24:$C$5800,C82,Emission_Limits_Details!$I$24:$I$5800,\"Control Equipment Problems\"))","v":""},{"$f":"IF($D82=\"\",\"\",SUMIFS(Emission_Limits_Details!$H$24:$H$5800,Emission_Limits_Details!$B$24:$B$5800,B82,Emission_Limits_Details!$C$24:$C$5800,C82,Emission_Limits_Details!$I$24:$I$5800,\"Process Problems\"))","v":""},{"$f":"IF($D82=\"\",\"\",SUMIFS(Emission_Limits_Details!$H$24:$H$5800,Emission_Limits_Details!$B$24:$B$5800,B82,Emission_Limits_Details!$C$24:$C$5800,C82,Emission_Limits_Details!$I$24:$I$5800,\"Other Known Causes\"))","v":""},{"$f":"IF($D82=\"\",\"\",SUMIFS(Emission_Limits_Details!$H$24:$H$5800,Emission_Limits_Details!$B$24:$B$5800,B82,Emission_Limits_Details!$C$24:$C$5800,C82,Emission_Limits_Details!$I$24:$I$5800,\"Other Unknown Causes\"))","v":""}]
[null,{"$f":"IF(Lists!Y61=\"\",\"\",Lists!Y61)","v":""},{"$f":"IF(Lists!Z61=\"\",\"\",Lists!Z61)","v":""},null,"","",{"$f":"IF($D83=\"\",\"\",SUMIFS(Emission_Limits_Details!$H$24:$H$5800,Emission_Limits_Details!$B$24:$B$5800,B83,Emission_Limits_Details!$C$24:$C$5800,C83,Emission_Limits_Details!$I$24:$I$5800,\"Control Equipment Problems\"))","v":""},{"$f":"IF($D83=\"\",\"\",SUMIFS(Emission_Limits_Details!$H$24:$H$5800,Emission_Limits_Details!$B$24:$B$5800,B83,Emission_Limits_Details!$C$24:$C$5800,C83,Emission_Limits_Details!$I$24:$I$5800,\"Process Problems\"))","v":""},{"$f":"IF($D83=\"\",\"\",SUMIFS(Emission_Limits_Details!$H$24:$H$5800,Emission_Limits_Details!$B$24:$B$5800,B83,Emission_Limits_Details!$C$24:$C$5800,C83,Emission_Limits_Details!$I$24:$I$5800,\"Other Known Causes\"))","v":""},{"$f":"IF($D83=\"\",\"\",SUMIFS(Emission_Limits_Details!$H$24:$H$5800,Emission_Limits_Details!$B$24:$B$5800,B83,Emission_Limits_Details!$C$24:$C$5800,C83,Emission_Limits_Details!$I$24:$I$5800,\"Other Unknown Causes\"))","v":""}]
[null,{"$f":"IF(Lists!Y62=\"\",\"\",Lists!Y62)","v":""},{"$f":"IF(Lists!Z62=\"\",\"\",Lists!Z62)","v":""},null,"","",{"$f":"IF($D84=\"\",\"\",SUMIFS(Emission_Limits_Details!$H$24:$H$5800,Emission_Limits_Details!$B$24:$B$5800,B84,Emission_Limits_Details!$C$24:$C$5800,C84,Emission_Limits_Details!$I$24:$I$5800,\"Control Equipment Problems\"))","v":""},{"$f":"IF($D84=\"\",\"\",SUMIFS(Emission_Limits_Details!$H$24:$H$5800,Emission_Limits_Details!$B$24:$B$5800,B84,Emission_Limits_Details!$C$24:$C$5800,C84,Emission_Limits_Details!$I$24:$I$5800,\"Process Problems\"))","v":""},{"$f":"IF($D84=\"\",\"\",SUMIFS(Emission_Limits_Details!$H$24:$H$5800,Emission_Limits_Details!$B$24:$B$5800,B84,Emission_Limits_Details!$C$24:$C$5800,C84,Emission_Limits_Details!$I$24:$I$5800,\"Other Known Causes\"))","v":""},{"$f":"IF($D84=\"\",\"\",SUMIFS(Emission_Limits_Details!$H$24:$H$5800,Emission_Limits_Details!$B$24:$B$5800,B84,Emission_Limits_Details!$C$24:$C$5800,C84,Emission_Limits_Details!$I$24:$I$5800,\"Other Unknown Causes\"))","v":""}]
[null,{"$f":"IF(Lists!Y63=\"\",\"\",Lists!Y63)","v":""},{"$f":"IF(Lists!Z63=\"\",\"\",Lists!Z63)","v":""},null,"","",{"$f":"IF($D85=\"\",\"\",SUMIFS(Emission_Limits_Details!$H$24:$H$5800,Emission_Limits_Details!$B$24:$B$5800,B85,Emission_Limits_Details!$C$24:$C$5800,C85,Emission_Limits_Details!$I$24:$I$5800,\"Control Equipment Problems\"))","v":""},{"$f":"IF($D85=\"\",\"\",SUMIFS(Emission_Limits_Details!$H$24:$H$5800,Emission_Limits_Details!$B$24:$B$5800,B85,Emission_Limits_Details!$C$24:$C$5800,C85,Emission_Limits_Details!$I$24:$I$5800,\"Process Problems\"))","v":""},{"$f":"IF($D85=\"\",\"\",SUMIFS(Emission_Limits_Details!$H$24:$H$5800,Emission_Limits_Details!$B$24:$B$5800,B85,Emission_Limits_Details!$C$24:$C$5800,C85,Emission_Limits_Details!$I$24:$I$5800,\"Other Known Causes\"))","v":""},{"$f":"IF($D85=\"\",\"\",SUMIFS(Emission_Limits_Details!$H$24:$H$5800,Emission_Limits_Details!$B$24:$B$5800,B85,Emission_Limits_Details!$C$24:$C$5800,C85,Emission_Limits_Details!$I$24:$I$5800,\"Other Unknown Causes\"))","v":""}]
[null,{"$f":"IF(Lists!Y64=\"\",\"\",Lists!Y64)","v":""},{"$f":"IF(Lists!Z64=\"\",\"\",Lists!Z64)","v":""},null,"","",{"$f":"IF($D86=\"\",\"\",SUMIFS(Emission_Limits_Details!$H$24:$H$5800,Emission_Limits_Details!$B$24:$B$5800,B86,Emission_Limits_Details!$C$24:$C$5800,C86,Emission_Limits_Details!$I$24:$I$5800,\"Control Equipment Problems\"))","v":""},{"$f":"IF($D86=\"\",\"\",SUMIFS(Emission_Limits_Details!$H$24:$H$5800,Emission_Limits_Details!$B$24:$B$5800,B86,Emission_Limits_Details!$C$24:$C$5800,C86,Emission_Limits_Details!$I$24:$I$5800,\"Process Problems\"))","v":""},{"$f":"IF($D86=\"\",\"\",SUMIFS(Emission_Limits_Details!$H$24:$H$5800,Emission_Limits_Details!$B$24:$B$5800,B86,Emission_Limits_Details!$C$24:$C$5800,C86,Emission_Limits_Details!$I$24:$I$5800,\"Other Known Causes\"))","v":""},{"$f":"IF($D86=\"\",\"\",SUMIFS(Emission_Limits_Details!$H$24:$H$5800,Emission_Limits_Details!$B$24:$B$5800,B86,Emission_Limits_Details!$C$24:$C$5800,C86,Emission_Limits_Details!$I$24:$I$5800,\"Other Unknown Causes\"))","v":""}]
[null,{"$f":"IF(Lists!Y65=\"\",\"\",Lists!Y65)","v":""},{"$f":"IF(Lists!Z65=\"\",\"\",Lists!Z65)","v":""},null,"","",{"$f":"IF($D87=\"\",\"\",SUMIFS(Emission_Limits_Details!$H$24:$H$5800,Emission_Limits_Details!$B$24:$B$5800,B87,Emission_Limits_Details!$C$24:$C$5800,C87,Emission_Limits_Details!$I$24:$I$5800,\"Control Equipment Problems\"))","v":""},{"$f":"IF($D87=\"\",\"\",SUMIFS(Emission_Limits_Details!$H$24:$H$5800,Emission_Limits_Details!$B$24:$B$5800,B87,Emission_Limits_Details!$C$24:$C$5800,C87,Emission_Limits_Details!$I$24:$I$5800,\"Process Problems\"))","v":""},{"$f":"IF($D87=\"\",\"\",SUMIFS(Emission_Limits_Details!$H$24:$H$5800,Emission_Limits_Details!$B$24:$B$5800,B87,Emission_Limits_Details!$C$24:$C$5800,C87,Emission_Limits_Details!$I$24:$I$5800,\"Other Known Causes\"))","v":""},{"$f":"IF($D87=\"\",\"\",SUMIFS(Emission_Limits_Details!$H$24:$H$5800,Emission_Limits_Details!$B$24:$B$5800,B87,Emission_Limits_Details!$C$24:$C$5800,C87,Emission_Limits_Details!$I$24:$I$5800,\"Other Unknown Causes\"))","v":""}]
[null,{"$f":"IF(Lists!Y66=\"\",\"\",Lists!Y66)","v":""},{"$f":"IF(Lists!Z66=\"\",\"\",Lists!Z66)","v":""},null,{"$f":"IF(D88=\"\",\"\",SUM(G88:J88))","v":""},"",{"$f":"IF($D88=\"\",\"\",SUMIFS(Emission_Limits_Details!$H$24:$H$5800,Emission_Limits_Details!$B$24:$B$5800,B88,Emission_Limits_Details!$C$24:$C$5800,C88,Emission_Limits_Details!$I$24:$I$5800,\"Control Equipment Problems\"))","v":""},{"$f":"IF($D88=\"\",\"\",SUMIFS(Emission_Limits_Details!$H$24:$H$5800,Emission_Limits_Details!$B$24:$B$5800,B88,Emission_Limits_Details!$C$24:$C$5800,C88,Emission_Limits_Details!$I$24:$I$5800,\"Process Problems\"))","v":""},{"$f":"IF($D88=\"\",\"\",SUMIFS(Emission_Limits_Details!$H$24:$H$5800,Emission_Limits_Details!$B$24:$B$5800,B88,Emission_Limits_Details!$C$24:$C$5800,C88,Emission_Limits_Details!$I$24:$I$5800,\"Other Known Causes\"))","v":""},{"$f":"IF($D88=\"\",\"\",SUMIFS(Emission_Limits_Details!$H$24:$H$5800,Emission_Limits_Details!$B$24:$B$5800,B88,Emission_Limits_Details!$C$24:$C$5800,C88,Emission_Limits_Details!$I$24:$I$5800,\"Other Unknown Causes\"))","v":""}]
[null,{"$f":"IF(Lists!Y67=\"\",\"\",Lists!Y67)","v":""},{"$f":"IF(Lists!Z67=\"\",\"\",Lists!Z67)","v":""},null,"",{"$f":"IF($D89=\"\",\"\",IF(E89=0,\"N/A\",E89/$D89))","v":""},{"$f":"IF($D89=\"\",\"\",SUMIFS(Emission_Limits_Details!$H$24:$H$5800,Emission_Limits_Details!$B$24:$B$5800,B89,Emission_Limits_Details!$C$24:$C$5800,C89,Emission_Limits_Details!$I$24:$I$5800,\"Control Equipment Problems\"))","v":""},{"$f":"IF($D89=\"\",\"\",SUMIFS(Emission_Limits_Details!$H$24:$H$5800,Emission_Limits_Details!$B$24:$B$5800,B89,Emission_Limits_Details!$C$24:$C$5800,C89,Emission_Limits_Details!$I$24:$I$5800,\"Process Problems\"))","v":""},{"$f":"IF($D89=\"\",\"\",SUMIFS(Emission_Limits_Details!$H$24:$H$5800,Emission_Limits_Details!$B$24:$B$5800,B89,Emission_Limits_Details!$C$24:$C$5800,C89,Emission_Limits_Details!$I$24:$I$5800,\"Other Known Causes\"))","v":""},{"$f":"IF($D89=\"\",\"\",SUMIFS(Emission_Limits_Details!$H$24:$H$5800,Emission_Limits_Details!$B$24:$B$5800,B89,Emission_Limits_Details!$C$24:$C$5800,C89,Emission_Limits_Details!$I$24:$I$5800,\"Other Unknown Causes\"))","v":""}]
[null,{"$f":"IF(Lists!Y68=\"\",\"\",Lists!Y68)","v":""},{"$f":"IF(Lists!Z68=\"\",\"\",Lists!Z68)","v":""},null,"","",{"$f":"IF($D90=\"\",\"\",SUMIFS(Emission_Limits_Details!$H$24:$H$5800,Emission_Limits_Details!$B$24:$B$5800,B90,Emission_Limits_Details!$C$24:$C$5800,C90,Emission_Limits_Details!$I$24:$I$5800,\"Control Equipment Problems\"))","v":""},{"$f":"IF($D90=\"\",\"\",SUMIFS(Emission_Limits_Details!$H$24:$H$5800,Emission_Limits_Details!$B$24:$B$5800,B90,Emission_Limits_Details!$C$24:$C$5800,C90,Emission_Limits_Details!$I$24:$I$5800,\"Process Problems\"))","v":""},{"$f":"IF($D90=\"\",\"\",SUMIFS(Emission_Limits_Details!$H$24:$H$5800,Emission_Limits_Details!$B$24:$B$5800,B90,Emission_Limits_Details!$C$24:$C$5800,C90,Emission_Limits_Details!$I$24:$I$5800,\"Other Known Causes\"))","v":""},{"$f":"IF($D90=\"\",\"\",SUMIFS(Emission_Limits_Details!$H$24:$H$5800,Emission_Limits_Details!$B$24:$B$5800,B90,Emission_Limits_Details!$C$24:$C$5800,C90,Emission_Limits_Details!$I$24:$I$5800,\"Other Unknown Causes\"))","v":""}]
[null,{"$f":"IF(Lists!Y69=\"\",\"\",Lists!Y69)","v":""},{"$f":"IF(Lists!Z69=\"\",\"\",Lists!Z69)","v":""},null,"","",{"$f":"IF($D91=\"\",\"\",SUMIFS(Emission_Limits_Details!$H$24:$H$5800,Emission_Limits_Details!$B$24:$B$5800,B91,Emission_Limits_Details!$C$24:$C$5800,C91,Emission_Limits_Details!$I$24:$I$5800,\"Control Equipment Problems\"))","v":""},{"$f":"IF($D91=\"\",\"\",SUMIFS(Emission_Limits_Details!$H$24:$H$5800,Emission_Limits_Details!$B$24:$B$5800,B91,Emission_Limits_Details!$C$24:$C$5800,C91,Emission_Limits_Details!$I$24:$I$5800,\"Process Problems\"))","v":""},{"$f":"IF($D91=\"\",\"\",SUMIFS(Emission_Limits_Details!$H$24:$H$5800,Emission_Limits_Details!$B$24:$B$5800,B91,Emission_Limits_Details!$C$24:$C$5800,C91,Emission_Limits_Details!$I$24:$I$5800,\"Other Known Causes\"))","v":""},{"$f":"IF($D91=\"\",\"\",SUMIFS(Emission_Limits_Details!$H$24:$H$5800,Emission_Limits_Details!$B$24:$B$5800,B91,Emission_Limits_Details!$C$24:$C$5800,C91,Emission_Limits_Details!$I$24:$I$5800,\"Other Unknown Causes\"))","v":""}]
[null,{"$f":"IF(Lists!Y70=\"\",\"\",Lists!Y70)","v":""},{"$f":"IF(Lists!Z70=\"\",\"\",Lists!Z70)","v":""},null,"","",{"$f":"IF($D92=\"\",\"\",SUMIFS(Emission_Limits_Details!$H$24:$H$5800,Emission_Limits_Details!$B$24:$B$5800,B92,Emission_Limits_Details!$C$24:$C$5800,C92,Emission_Limits_Details!$I$24:$I$5800,\"Control Equipment Problems\"))","v":""},{"$f":"IF($D92=\"\",\"\",SUMIFS(Emission_Limits_Details!$H$24:$H$5800,Emission_Limits_Details!$B$24:$B$5800,B92,Emission_Limits_Details!$C$24:$C$5800,C92,Emission_Limits_Details!$I$24:$I$5800,\"Process Problems\"))","v":""},{"$f":"IF($D92=\"\",\"\",SUMIFS(Emission_Limits_Details!$H$24:$H$5800,Emission_Limits_Details!$B$24:$B$5800,B92,Emission_Limits_Details!$C$24:$C$5800,C92,Emission_Limits_Details!$I$24:$I$5800,\"Other Known Causes\"))","v":""},{"$f":"IF($D92=\"\",\"\",SUMIFS(Emission_Limits_Details!$H$24:$H$5800,Emission_Limits_Details!$B$24:$B$5800,B92,Emission_Limits_Details!$C$24:$C$5800,C92,Emission_Limits_Details!$I$24:$I$5800,\"Other Unknown Causes\"))","v":""}]
[null,{"$f":"IF(Lists!Y71=\"\",\"\",Lists!Y71)","v":""},{"$f":"IF(Lists!Z71=\"\",\"\",Lists!Z71)","v":""},null,"","",{"$f":"IF($D93=\"\",\"\",SUMIFS(Emission_Limits_Details!$H$24:$H$5800,Emission_Limits_Details!$B$24:$B$5800,B93,Emission_Limits_Details!$C$24:$C$5800,C93,Emission_Limits_Details!$I$24:$I$5800,\"Control Equipment Problems\"))","v":""},{"$f":"IF($D93=\"\",\"\",SUMIFS(Emission_Limits_Details!$H$24:$H$5800,Emission_Limits_Details!$B$24:$B$5800,B93,Emission_Limits_Details!$C$24:$C$5800,C93,Emission_Limits_Details!$I$24:$I$5800,\"Process Problems\"))","v":""},{"$f":"IF($D93=\"\",\"\",SUMIFS(Emission_Limits_Details!$H$24:$H$5800,Emission_Limits_Details!$B$24:$B$5800,B93,Emission_Limits_Details!$C$24:$C$5800,C93,Emission_Limits_Details!$I$24:$I$5800,\"Other Known Causes\"))","v":""},{"$f":"IF($D93=\"\",\"\",SUMIFS(Emission_Limits_Details!$H$24:$H$5800,Emission_Limits_Details!$B$24:$B$5800,B93,Emission_Limits_Details!$C$24:$C$5800,C93,Emission_Limits_Details!$I$24:$I$5800,\"Other Unknown Causes\"))","v":""}]
[null,{"$f":"IF(Lists!Y72=\"\",\"\",Lists!Y72)","v":""},{"$f":"IF(Lists!Z72=\"\",\"\",Lists!Z72)","v":""},null,"","",{"$f":"IF($D94=\"\",\"\",SUMIFS(Emission_Limits_Details!$H$24:$H$5800,Emission_Limits_Details!$B$24:$B$5800,B94,Emission_Limits_Details!$C$24:$C$5800,C94,Emission_Limits_Details!$I$24:$I$5800,\"Control Equipment Problems\"))","v":""},{"$f":"IF($D94=\"\",\"\",SUMIFS(Emission_Limits_Details!$H$24:$H$5800,Emission_Limits_Details!$B$24:$B$5800,B94,Emission_Limits_Details!$C$24:$C$5800,C94,Emission_Limits_Details!$I$24:$I$5800,\"Process Problems\"))","v":""},{"$f":"IF($D94=\"\",\"\",SUMIFS(Emission_Limits_Details!$H$24:$H$5800,Emission_Limits_Details!$B$24:$B$5800,B94,Emission_Limits_Details!$C$24:$C$5800,C94,Emission_Limits_Details!$I$24:$I$5800,\"Other Known Causes\"))","v":""},{"$f":"IF($D94=\"\",\"\",SUMIFS(Emission_Limits_Details!$H$24:$H$5800,Emission_Limits_Details!$B$24:$B$5800,B94,Emission_Limits_Details!$C$24:$C$5800,C94,Emission_Limits_Details!$I$24:$I$5800,\"Other Unknown Causes\"))","v":""}]
[null,{"$f":"IF(Lists!Y73=\"\",\"\",Lists!Y73)","v":""},{"$f":"IF(Lists!Z73=\"\",\"\",Lists!Z73)","v":""},null,"","",{"$f":"IF($D95=\"\",\"\",SUMIFS(Emission_Limits_Details!$H$24:$H$5800,Emission_Limits_Details!$B$24:$B$5800,B95,Emission_Limits_Details!$C$24:$C$5800,C95,Emission_Limits_Details!$I$24:$I$5800,\"Control Equipment Problems\"))","v":""},{"$f":"IF($D95=\"\",\"\",SUMIFS(Emission_Limits_Details!$H$24:$H$5800,Emission_Limits_Details!$B$24:$B$5800,B95,Emission_Limits_Details!$C$24:$C$5800,C95,Emission_Limits_Details!$I$24:$I$5800,\"Process Problems\"))","v":""},{"$f":"IF($D95=\"\",\"\",SUMIFS(Emission_Limits_Details!$H$24:$H$5800,Emission_Limits_Details!$B$24:$B$5800,B95,Emission_Limits_Details!$C$24:$C$5800,C95,Emission_Limits_Details!$I$24:$I$5800,\"Other Known Causes\"))","v":""},{"$f":"IF($D95=\"\",\"\",SUMIFS(Emission_Limits_Details!$H$24:$H$5800,Emission_Limits_Details!$B$24:$B$5800,B95,Emission_Limits_Details!$C$24:$C$5800,C95,Emission_Limits_Details!$I$24:$I$5800,\"Other Unknown Causes\"))","v":""}]
[null,{"$f":"IF(Lists!Y74=\"\",\"\",Lists!Y74)","v":""},{"$f":"IF(Lists!Z74=\"\",\"\",Lists!Z74)","v":""},null,"","",{"$f":"IF($D96=\"\",\"\",SUMIFS(Emission_Limits_Details!$H$24:$H$5800,Emission_Limits_Details!$B$24:$B$5800,B96,Emission_Limits_Details!$C$24:$C$5800,C96,Emission_Limits_Details!$I$24:$I$5800,\"Control Equipment Problems\"))","v":""},{"$f":"IF($D96=\"\",\"\",SUMIFS(Emission_Limits_Details!$H$24:$H$5800,Emission_Limits_Details!$B$24:$B$5800,B96,Emission_Limits_Details!$C$24:$C$5800,C96,Emission_Limits_Details!$I$24:$I$5800,\"Process Problems\"))","v":""},{"$f":"IF($D96=\"\",\"\",SUMIFS(Emission_Limits_Details!$H$24:$H$5800,Emission_Limits_Details!$B$24:$B$5800,B96,Emission_Limits_Details!$C$24:$C$5800,C96,Emission_Limits_Details!$I$24:$I$5800,\"Other Known Causes\"))","v":""},{"$f":"IF($D96=\"\",\"\",SUMIFS(Emission_Limits_Details!$H$24:$H$5800,Emission_Limits_Details!$B$24:$B$5800,B96,Emission_Limits_Details!$C$24:$C$5800,C96,Emission_Limits_Details!$I$24:$I$5800,\"Other Unknown Causes\"))","v":""}]
[null,{"$f":"IF(Lists!Y75=\"\",\"\",Lists!Y75)","v":""},{"$f":"IF(Lists!Z75=\"\",\"\",Lists!Z75)","v":""},null,"","",{"$f":"IF($D97=\"\",\"\",SUMIFS(Emission_Limits_Details!$H$24:$H$5800,Emission_Limits_Details!$B$24:$B$5800,B97,Emission_Limits_Details!$C$24:$C$5800,C97,Emission_Limits_Details!$I$24:$I$5800,\"Control Equipment Problems\"))","v":""},{"$f":"IF($D97=\"\",\"\",SUMIFS(Emission_Limits_Details!$H$24:$H$5800,Emission_Limits_Details!$B$24:$B$5800,B97,Emission_Limits_Details!$C$24:$C$5800,C97,Emission_Limits_Details!$I$24:$I$5800,\"Process Problems\"))","v":""},{"$f":"IF($D97=\"\",\"\",SUMIFS(Emission_Limits_Details!$H$24:$H$5800,Emission_Limits_Details!$B$24:$B$5800,B97,Emission_Limits_Details!$C$24:$C$5800,C97,Emission_Limits_Details!$I$24:$I$5800,\"Other Known Causes\"))","v":""},{"$f":"IF($D97=\"\",\"\",SUMIFS(Emission_Limits_Details!$H$24:$H$5800,Emission_Limits_Details!$B$24:$B$5800,B97,Emission_Limits_Details!$C$24:$C$5800,C97,Emission_Limits_Details!$I$24:$I$5800,\"Other Unknown Causes\"))","v":""}]
[null,{"$f":"IF(Lists!Y76=\"\",\"\",Lists!Y76)","v":""},{"$f":"IF(Lists!Z76=\"\",\"\",Lists!Z76)","v":""},null,"","",{"$f":"IF($D98=\"\",\"\",SUMIFS(Emission_Limits_Details!$H$24:$H$5800,Emission_Limits_Details!$B$24:$B$5800,B98,Emission_Limits_Details!$C$24:$C$5800,C98,Emission_Limits_Details!$I$24:$I$5800,\"Control Equipment Problems\"))","v":""},{"$f":"IF($D98=\"\",\"\",SUMIFS(Emission_Limits_Details!$H$24:$H$5800,Emission_Limits_Details!$B$24:$B$5800,B98,Emission_Limits_Details!$C$24:$C$5800,C98,Emission_Limits_Details!$I$24:$I$5800,\"Process Problems\"))","v":""},{"$f":"IF($D98=\"\",\"\",SUMIFS(Emission_Limits_Details!$H$24:$H$5800,Emission_Limits_Details!$B$24:$B$5800,B98,Emission_Limits_Details!$C$24:$C$5800,C98,Emission_Limits_Details!$I$24:$I$5800,\"Other Known Causes\"))","v":""},{"$f":"IF($D98=\"\",\"\",SUMIFS(Emission_Limits_Details!$H$24:$H$5800,Emission_Limits_Details!$B$24:$B$5800,B98,Emission_Limits_Details!$C$24:$C$5800,C98,Emission_Limits_Details!$I$24:$I$5800,\"Other Unknown Causes\"))","v":""}]
[null,{"$f":"IF(Lists!Y77=\"\",\"\",Lists!Y77)","v":""},{"$f":"IF(Lists!Z77=\"\",\"\",Lists!Z77)","v":""},null,"","",{"$f":"IF($D99=\"\",\"\",SUMIFS(Emission_Limits_Details!$H$24:$H$5800,Emission_Limits_Details!$B$24:$B$5800,B99,Emission_Limits_Details!$C$24:$C$5800,C99,Emission_Limits_Details!$I$24:$I$5800,\"Control Equipment Problems\"))","v":""},{"$f":"IF($D99=\"\",\"\",SUMIFS(Emission_Limits_Details!$H$24:$H$5800,Emission_Limits_Details!$B$24:$B$5800,B99,Emission_Limits_Details!$C$24:$C$5800,C99,Emission_Limits_Details!$I$24:$I$5800,\"Process Problems\"))","v":""},{"$f":"IF($D99=\"\",\"\",SUMIFS(Emission_Limits_Details!$H$24:$H$5800,Emission_Limits_Details!$B$24:$B$5800,B99,Emission_Limits_Details!$C$24:$C$5800,C99,Emission_Limits_Details!$I$24:$I$5800,\"Other Known Causes\"))","v":""},{"$f":"IF($D99=\"\",\"\",SUMIFS(Emission_Limits_Details!$H$24:$H$5800,Emission_Limits_Details!$B$24:$B$5800,B99,Emission_Limits_Details!$C$24:$C$5800,C99,Emission_Limits_Details!$I$24:$I$5800,\"Other Unknown Causes\"))","v":""}]
[null,{"$f":"IF(Lists!Y78=\"\",\"\",Lists!Y78)","v":""},{"$f":"IF(Lists!Z78=\"\",\"\",Lists!Z78)","v":""},null,"","",{"$f":"IF($D100=\"\",\"\",SUMIFS(Emission_Limits_Details!$H$24:$H$5800,Emission_Limits_Details!$B$24:$B$5800,B100,Emission_Limits_Details!$C$24:$C$5800,C100,Emission_Limits_Details!$I$24:$I$5800,\"Control Equipment Problems\"))","v":""},{"$f":"IF($D100=\"\",\"\",SUMIFS(Emission_Limits_Details!$H$24:$H$5800,Emission_Limits_Details!$B$24:$B$5800,B100,Emission_Limits_Details!$C$24:$C$5800,C100,Emission_Limits_Details!$I$24:$I$5800,\"Process Problems\"))","v":""},{"$f":"IF($D100=\"\",\"\",SUMIFS(Emission_Limits_Details!$H$24:$H$5800,Emission_Limits_Details!$B$24:$B$5800,B100,Emission_Limits_Details!$C$24:$C$5800,C100,Emission_Limits_Details!$I$24:$I$5800,\"Other Known Causes\"))","v":""},{"$f":"IF($D100=\"\",\"\",SUMIFS(Emission_Limits_Details!$H$24:$H$5800,Emission_Limits_Details!$B$24:$B$5800,B100,Emission_Limits_Details!$C$24:$C$5800,C100,Emission_Limits_Details!$I$24:$I$5800,\"Other Unknown Causes\"))","v":""}]
[null,{"$f":"IF(E101=\"\",\"\",COUNT($E$24:$E$452)-COUNT(E102:$E$452))","v":""}]
[null,{"$f":"IF(E102=\"\",\"\",COUNT($E$24:$E$452)-COUNT(E103:$E$452))","v":""}]
[null,{"$f":"IF(E103=\"\",\"\",COUNT($E$24:$E$452)-COUNT(E104:$E$452))","v":""}]
[null,{"$f":"IF(E104=\"\",\"\",COUNT($E$24:$E$452)-COUNT(E105:$E$452))","v":""}]
[null,{"$f":"IF(E105=\"\",\"\",COUNT($E$24:$E$452)-COUNT(E106:$E$452))","v":""}]
[null,{"$f":"IF(E106=\"\",\"\",COUNT($E$24:$E$452)-COUNT(E107:$E$452))","v":""}]
[null,{"$f":"IF(E107=\"\",\"\",COUNT($E$24:$E$452)-COUNT(E108:$E$452))","v":""}]
[null,{"$f":"IF(E108=\"\",\"\",COUNT($E$24:$E$452)-COUNT(E109:$E$452))","v":""}]
[null,{"$f":"IF(E109=\"\",\"\",COUNT($E$24:$E$452)-COUNT(E110:$E$452))","v":""}]
[null,{"$f":"IF(E110=\"\",\"\",COUNT($E$24:$E$452)-COUNT(E111:$E$452))","v":""}]
[null,{"$f":"IF(E111=\"\",\"\",COUNT($E$24:$E$452)-COUNT(E112:$E$452))","v":""}]
[null,{"$f":"IF(E112=\"\",\"\",COUNT($E$24:$E$452)-COUNT(E113:$E$452))","v":""}]
[null,{"$f":"IF(E113=\"\",\"\",COUNT($E$24:$E$452)-COUNT(E114:$E$452))","v":""}]
[null,{"$f":"IF(E114=\"\",\"\",COUNT($E$24:$E$452)-COUNT(E115:$E$452))","v":""}]
[null,{"$f":"IF(E115=\"\",\"\",COUNT($E$24:$E$452)-COUNT(E116:$E$452))","v":""}]
[null,{"$f":"IF(E116=\"\",\"\",COUNT($E$24:$E$452)-COUNT(E117:$E$452))","v":""}]
[null,{"$f":"IF(E117=\"\",\"\",COUNT($E$24:$E$452)-COUNT(E118:$E$452))","v":""}]
[null,{"$f":"IF(E118=\"\",\"\",COUNT($E$24:$E$452)-COUNT(E119:$E$452))","v":""}]
[null,{"$f":"IF(E119=\"\",\"\",COUNT($E$24:$E$452)-COUNT(E120:$E$452))","v":""}]
[null,{"$f":"IF(E120=\"\",\"\",COUNT($E$24:$E$452)-COUNT(E121:$E$452))","v":""}]
[null,{"$f":"IF(E121=\"\",\"\",COUNT($E$24:$E$452)-COUNT(E122:$E$452))","v":""}]
[null,{"$f":"IF(E122=\"\",\"\",COUNT($E$24:$E$452)-COUNT(E123:$E$452))","v":""}]
[null,{"$f":"IF(E123=\"\",\"\",COUNT($E$24:$E$452)-COUNT(E124:$E$452))","v":""}]
[null,{"$f":"IF(E124=\"\",\"\",COUNT($E$24:$E$452)-COUNT(E125:$E$452))","v":""}]
[null,{"$f":"IF(E125=\"\",\"\",COUNT($E$24:$E$452)-COUNT(E126:$E$452))","v":""}]
[null,{"$f":"IF(E126=\"\",\"\",COUNT($E$24:$E$452)-COUNT(E127:$E$452))","v":""}]
[null,{"$f":"IF(E127=\"\",\"\",COUNT($E$24:$E$452)-COUNT(E128:$E$452))","v":""}]
[null,{"$f":"IF(E128=\"\",\"\",COUNT($E$24:$E$452)-COUNT(E129:$E$452))","v":""}]
[null,{"$f":"IF(E129=\"\",\"\",COUNT($E$24:$E$452)-COUNT(E130:$E$452))","v":""}]
[null,{"$f":"IF(E130=\"\",\"\",COUNT($E$24:$E$452)-COUNT(E131:$E$452))","v":""}]
[null,{"$f":"IF(E131=\"\",\"\",COUNT($E$24:$E$452)-COUNT(E132:$E$452))","v":""}]
[null,{"$f":"IF(E132=\"\",\"\",COUNT($E$24:$E$452)-COUNT(E133:$E$452))","v":""}]
[null,{"$f":"IF(E133=\"\",\"\",COUNT($E$24:$E$452)-COUNT(E134:$E$452))","v":""}]
[null,{"$f":"IF(E134=\"\",\"\",COUNT($E$24:$E$452)-COUNT(E135:$E$452))","v":""}]
[null,{"$f":"IF(E135=\"\",\"\",COUNT($E$24:$E$452)-COUNT(E136:$E$452))","v":""}]
[null,{"$f":"IF(E136=\"\",\"\",COUNT($E$24:$E$452)-COUNT(E137:$E$452))","v":""}]
[null,{"$f":"IF(E137=\"\",\"\",COUNT($E$24:$E$452)-COUNT(E138:$E$452))","v":""}]
[null,{"$f":"IF(E138=\"\",\"\",COUNT($E$24:$E$452)-COUNT(E139:$E$452))","v":""}]
[null,{"$f":"IF(E139=\"\",\"\",COUNT($E$24:$E$452)-COUNT(E140:$E$452))","v":""}]
[null,{"$f":"IF(E140=\"\",\"\",COUNT($E$24:$E$452)-COUNT(E141:$E$452))","v":""}]
[null,{"$f":"IF(E141=\"\",\"\",COUNT($E$24:$E$452)-COUNT(E142:$E$452))","v":""}]
[null,{"$f":"IF(E142=\"\",\"\",COUNT($E$24:$E$452)-COUNT(E143:$E$452))","v":""}]
[null,{"$f":"IF(E143=\"\",\"\",COUNT($E$24:$E$452)-COUNT(E144:$E$452))","v":""}]
[null,{"$f":"IF(E144=\"\",\"\",COUNT($E$24:$E$452)-COUNT(E145:$E$452))","v":""}]
[null,{"$f":"IF(E145=\"\",\"\",COUNT($E$24:$E$452)-COUNT(E146:$E$452))","v":""}]
[null,{"$f":"IF(E146=\"\",\"\",COUNT($E$24:$E$452)-COUNT(E147:$E$452))","v":""}]
[null,{"$f":"IF(E147=\"\",\"\",COUNT($E$24:$E$452)-COUNT(E148:$E$452))","v":""}]
[null,{"$f":"IF(E148=\"\",\"\",COUNT($E$24:$E$452)-COUNT(E149:$E$452))","v":""}]
[null,{"$f":"IF(E149=\"\",\"\",COUNT($E$24:$E$452)-COUNT(E150:$E$452))","v":""}]
[null,{"$f":"IF(E150=\"\",\"\",COUNT($E$24:$E$452)-COUNT(E151:$E$452))","v":""}]
[null,{"$f":"IF(E151=\"\",\"\",COUNT($E$24:$E$452)-COUNT(E152:$E$452))","v":""}]
[null,{"$f":"IF(E152=\"\",\"\",COUNT($E$24:$E$452)-COUNT(E153:$E$452))","v":""}]
[null,{"$f":"IF(E153=\"\",\"\",COUNT($E$24:$E$452)-COUNT(E154:$E$452))","v":""}]
[null,{"$f":"IF(E154=\"\",\"\",COUNT($E$24:$E$452)-COUNT(E155:$E$452))","v":""}]
[null,{"$f":"IF(E155=\"\",\"\",COUNT($E$24:$E$452)-COUNT(E156:$E$452))","v":""}]
[null,{"$f":"IF(E156=\"\",\"\",COUNT($E$24:$E$452)-COUNT(E157:$E$452))","v":""}]
[null,{"$f":"IF(E157=\"\",\"\",COUNT($E$24:$E$452)-COUNT(E158:$E$452))","v":""}]
[null,{"$f":"IF(E158=\"\",\"\",COUNT($E$24:$E$452)-COUNT(E159:$E$452))","v":""}]
[null,{"$f":"IF(E159=\"\",\"\",COUNT($E$24:$E$452)-COUNT(E160:$E$452))","v":""}]
[null,{"$f":"IF(E160=\"\",\"\",COUNT($E$24:$E$452)-COUNT(E161:$E$452))","v":""}]
[null,{"$f":"IF(E161=\"\",\"\",COUNT($E$24:$E$452)-COUNT(E162:$E$452))","v":""}]
[null,{"$f":"IF(E162=\"\",\"\",COUNT($E$24:$E$452)-COUNT(E163:$E$452))","v":""}]
[null,{"$f":"IF(E163=\"\",\"\",COUNT($E$24:$E$452)-COUNT(E164:$E$452))","v":""}]
[null,{"$f":"IF(E164=\"\",\"\",COUNT($E$24:$E$452)-COUNT(E165:$E$452))","v":""}]
[null,{"$f":"IF(E165=\"\",\"\",COUNT($E$24:$E$452)-COUNT(E166:$E$452))","v":""}]
[null,{"$f":"IF(E166=\"\",\"\",COUNT($E$24:$E$452)-COUNT(E167:$E$452))","v":""}]
[null,{"$f":"IF(E167=\"\",\"\",COUNT($E$24:$E$452)-COUNT(E168:$E$452))","v":""}]
[null,{"$f":"IF(E168=\"\",\"\",COUNT($E$24:$E$452)-COUNT(E169:$E$452))","v":""}]
[null,{"$f":"IF(E169=\"\",\"\",COUNT($E$24:$E$452)-COUNT(E170:$E$452))","v":""}]
[null,{"$f":"IF(E170=\"\",\"\",COUNT($E$24:$E$452)-COUNT(E171:$E$452))","v":""}]
[null,{"$f":"IF(E171=\"\",\"\",COUNT($E$24:$E$452)-COUNT(E172:$E$452))","v":""}]
[null,{"$f":"IF(E172=\"\",\"\",COUNT($E$24:$E$452)-COUNT(E173:$E$452))","v":""}]
[null,{"$f":"IF(E173=\"\",\"\",COUNT($E$24:$E$452)-COUNT(E174:$E$452))","v":""}]
[null,{"$f":"IF(E174=\"\",\"\",COUNT($E$24:$E$452)-COUNT(E175:$E$452))","v":""}]
[null,{"$f":"IF(E175=\"\",\"\",COUNT($E$24:$E$452)-COUNT(E176:$E$452))","v":""}]
[null,{"$f":"IF(E176=\"\",\"\",COUNT($E$24:$E$452)-COUNT(E177:$E$452))","v":""}]
[null,{"$f":"IF(E177=\"\",\"\",COUNT($E$24:$E$452)-COUNT(E178:$E$452))","v":""}]
[null,{"$f":"IF(E178=\"\",\"\",COUNT($E$24:$E$452)-COUNT(E179:$E$452))","v":""}]
[null,{"$f":"IF(E179=\"\",\"\",COUNT($E$24:$E$452)-COUNT(E180:$E$452))","v":""}]
[null,{"$f":"IF(E180=\"\",\"\",COUNT($E$24:$E$452)-COUNT(E181:$E$452))","v":""}]
[null,{"$f":"IF(E181=\"\",\"\",COUNT($E$24:$E$452)-COUNT(E182:$E$452))","v":""}]
[null,{"$f":"IF(E182=\"\",\"\",COUNT($E$24:$E$452)-COUNT(E183:$E$452))","v":""}]
[null,{"$f":"IF(E183=\"\",\"\",COUNT($E$24:$E$452)-COUNT(E184:$E$452))","v":""}]
[null,{"$f":"IF(E184=\"\",\"\",COUNT($E$24:$E$452)-COUNT(E185:$E$452))","v":""}]
[null,{"$f":"IF(E185=\"\",\"\",COUNT($E$24:$E$452)-COUNT(E186:$E$452))","v":""}]
[null,{"$f":"IF(E186=\"\",\"\",COUNT($E$24:$E$452)-COUNT(E187:$E$452))","v":""}]
[null,{"$f":"IF(E187=\"\",\"\",COUNT($E$24:$E$452)-COUNT(E188:$E$452))","v":""}]
[null,{"$f":"IF(E188=\"\",\"\",COUNT($E$24:$E$452)-COUNT(E189:$E$452))","v":""}]
[null,{"$f":"IF(E189=\"\",\"\",COUNT($E$24:$E$452)-COUNT(E190:$E$452))","v":""}]
[null,{"$f":"IF(E190=\"\",\"\",COUNT($E$24:$E$452)-COUNT(E191:$E$452))","v":""}]
[null,{"$f":"IF(E191=\"\",\"\",COUNT($E$24:$E$452)-COUNT(E192:$E$452))","v":""}]
[null,{"$f":"IF(E192=\"\",\"\",COUNT($E$24:$E$452)-COUNT(E193:$E$452))","v":""}]
[null,{"$f":"IF(E193=\"\",\"\",COUNT($E$24:$E$452)-COUNT(E194:$E$452))","v":""}]
[null,{"$f":"IF(E194=\"\",\"\",COUNT($E$24:$E$452)-COUNT(E195:$E$452))","v":""}]
[null,{"$f":"IF(E195=\"\",\"\",COUNT($E$24:$E$452)-COUNT(E196:$E$452))","v":""}]
[null,{"$f":"IF(E196=\"\",\"\",COUNT($E$24:$E$452)-COUNT(E197:$E$452))","v":""}]
[null,{"$f":"IF(E197=\"\",\"\",COUNT($E$24:$E$452)-COUNT(E198:$E$452))","v":""}]
[null,{"$f":"IF(E198=\"\",\"\",COUNT($E$24:$E$452)-COUNT(E199:$E$452))","v":""}]
[null,{"$f":"IF(E199=\"\",\"\",COUNT($E$24:$E$452)-COUNT(E200:$E$452))","v":""}]
[null,{"$f":"IF(E200=\"\",\"\",COUNT($E$24:$E$452)-COUNT(E201:$E$452))","v":""}]
[null,{"$f":"IF(E201=\"\",\"\",COUNT($E$24:$E$452)-COUNT(E202:$E$452))","v":""}]
[null,{"$f":"IF(E202=\"\",\"\",COUNT($E$24:$E$452)-COUNT(E203:$E$452))","v":""}]
[null,{"$f":"IF(E203=\"\",\"\",COUNT($E$24:$E$452)-COUNT(E204:$E$452))","v":""}]
[null,{"$f":"IF(E204=\"\",\"\",COUNT($E$24:$E$452)-COUNT(E205:$E$452))","v":""}]
[null,{"$f":"IF(E205=\"\",\"\",COUNT($E$24:$E$452)-COUNT(E206:$E$452))","v":""}]
[null,{"$f":"IF(E206=\"\",\"\",COUNT($E$24:$E$452)-COUNT(E207:$E$452))","v":""}]
[null,{"$f":"IF(E207=\"\",\"\",COUNT($E$24:$E$452)-COUNT(E208:$E$452))","v":""}]
[null,{"$f":"IF(E208=\"\",\"\",COUNT($E$24:$E$452)-COUNT(E209:$E$452))","v":""}]
[null,{"$f":"IF(E209=\"\",\"\",COUNT($E$24:$E$452)-COUNT(E210:$E$452))","v":""}]
[null,{"$f":"IF(E210=\"\",\"\",COUNT($E$24:$E$452)-COUNT(E211:$E$452))","v":""}]
[null,{"$f":"IF(E211=\"\",\"\",COUNT($E$24:$E$452)-COUNT(E212:$E$452))","v":""}]
[null,{"$f":"IF(E212=\"\",\"\",COUNT($E$24:$E$452)-COUNT(E213:$E$452))","v":""}]
[null,{"$f":"IF(E213=\"\",\"\",COUNT($E$24:$E$452)-COUNT(E214:$E$452))","v":""}]
[null,{"$f":"IF(E214=\"\",\"\",COUNT($E$24:$E$452)-COUNT(E215:$E$452))","v":""}]
[null,{"$f":"IF(E215=\"\",\"\",COUNT($E$24:$E$452)-COUNT(E216:$E$452))","v":""}]
[null,{"$f":"IF(E216=\"\",\"\",COUNT($E$24:$E$452)-COUNT(E217:$E$452))","v":""}]
[null,{"$f":"IF(E217=\"\",\"\",COUNT($E$24:$E$452)-COUNT(E218:$E$452))","v":""}]
[null,{"$f":"IF(E218=\"\",\"\",COUNT($E$24:$E$452)-COUNT(E219:$E$452))","v":""}]
[null,{"$f":"IF(E219=\"\",\"\",COUNT($E$24:$E$452)-COUNT(E220:$E$452))","v":""}]
[null,{"$f":"IF(E220=\"\",\"\",COUNT($E$24:$E$452)-COUNT(E221:$E$452))","v":""}]
[null,{"$f":"IF(E221=\"\",\"\",COUNT($E$24:$E$452)-COUNT(E222:$E$452))","v":""}]
[null,{"$f":"IF(E222=\"\",\"\",COUNT($E$24:$E$452)-COUNT(E223:$E$452))","v":""}]
[null,{"$f":"IF(E223=\"\",\"\",COUNT($E$24:$E$452)-COUNT(E224:$E$452))","v":""}]
[null,{"$f":"IF(E224=\"\",\"\",COUNT($E$24:$E$452)-COUNT(E225:$E$452))","v":""}]
[null,{"$f":"IF(E225=\"\",\"\",COUNT($E$24:$E$452)-COUNT(E226:$E$452))","v":""}]
[null,{"$f":"IF(E226=\"\",\"\",COUNT($E$24:$E$452)-COUNT(E227:$E$452))","v":""}]
[null,{"$f":"IF(E227=\"\",\"\",COUNT($E$24:$E$452)-COUNT(E228:$E$452))","v":""}]
[null,{"$f":"IF(E228=\"\",\"\",COUNT($E$24:$E$452)-COUNT(E229:$E$452))","v":""}]
[null,{"$f":"IF(E229=\"\",\"\",COUNT($E$24:$E$452)-COUNT(E230:$E$452))","v":""}]
[null,{"$f":"IF(E230=\"\",\"\",COUNT($E$24:$E$452)-COUNT(E231:$E$452))","v":""}]
[null,{"$f":"IF(E231=\"\",\"\",COUNT($E$24:$E$452)-COUNT(E232:$E$452))","v":""}]
[null,{"$f":"IF(E232=\"\",\"\",COUNT($E$24:$E$452)-COUNT(E233:$E$452))","v":""}]
[null,{"$f":"IF(E233=\"\",\"\",COUNT($E$24:$E$452)-COUNT(E234:$E$452))","v":""}]
[null,{"$f":"IF(E234=\"\",\"\",COUNT($E$24:$E$452)-COUNT(E235:$E$452))","v":""}]
[null,{"$f":"IF(E235=\"\",\"\",COUNT($E$24:$E$452)-COUNT(E236:$E$452))","v":""}]
[null,{"$f":"IF(E236=\"\",\"\",COUNT($E$24:$E$452)-COUNT(E237:$E$452))","v":""}]
[null,{"$f":"IF(E237=\"\",\"\",COUNT($E$24:$E$452)-COUNT(E238:$E$452))","v":""}]
[null,{"$f":"IF(E238=\"\",\"\",COUNT($E$24:$E$452)-COUNT(E239:$E$452))","v":""}]
[null,{"$f":"IF(E239=\"\",\"\",COUNT($E$24:$E$452)-COUNT(E240:$E$452))","v":""}]
[null,{"$f":"IF(E240=\"\",\"\",COUNT($E$24:$E$452)-COUNT(E241:$E$452))","v":""}]
[null,{"$f":"IF(E241=\"\",\"\",COUNT($E$24:$E$452)-COUNT(E242:$E$452))","v":""}]
[null,{"$f":"IF(E242=\"\",\"\",COUNT($E$24:$E$452)-COUNT(E243:$E$452))","v":""}]
[null,{"$f":"IF(E243=\"\",\"\",COUNT($E$24:$E$452)-COUNT(E244:$E$452))","v":""}]
[null,{"$f":"IF(E244=\"\",\"\",COUNT($E$24:$E$452)-COUNT(E245:$E$452))","v":""}]
[null,{"$f":"IF(E245=\"\",\"\",COUNT($E$24:$E$452)-COUNT(E246:$E$452))","v":""}]
[null,{"$f":"IF(E246=\"\",\"\",COUNT($E$24:$E$452)-COUNT(E247:$E$452))","v":""}]
[null,{"$f":"IF(E247=\"\",\"\",COUNT($E$24:$E$452)-COUNT(E248:$E$452))","v":""}]
[null,{"$f":"IF(E248=\"\",\"\",COUNT($E$24:$E$452)-COUNT(E249:$E$452))","v":""}]
[null,{"$f":"IF(E249=\"\",\"\",COUNT($E$24:$E$452)-COUNT(E250:$E$452))","v":""}]
[null,{"$f":"IF(E250=\"\",\"\",COUNT($E$24:$E$452)-COUNT(E251:$E$452))","v":""}]
[null,{"$f":"IF(E251=\"\",\"\",COUNT($E$24:$E$452)-COUNT(E252:$E$452))","v":""}]
[null,{"$f":"IF(E252=\"\",\"\",COUNT($E$24:$E$452)-COUNT(E253:$E$452))","v":""}]
[null,{"$f":"IF(E253=\"\",\"\",COUNT($E$24:$E$452)-COUNT(E254:$E$452))","v":""}]
[null,{"$f":"IF(E254=\"\",\"\",COUNT($E$24:$E$452)-COUNT(E255:$E$452))","v":""}]
[null,{"$f":"IF(E255=\"\",\"\",COUNT($E$24:$E$452)-COUNT(E256:$E$452))","v":""}]
[null,{"$f":"IF(E256=\"\",\"\",COUNT($E$24:$E$452)-COUNT(E257:$E$452))","v":""}]
[null,{"$f":"IF(E257=\"\",\"\",COUNT($E$24:$E$452)-COUNT(E258:$E$452))","v":""}]
[null,{"$f":"IF(E258=\"\",\"\",COUNT($E$24:$E$452)-COUNT(E259:$E$452))","v":""}]
[null,{"$f":"IF(E259=\"\",\"\",COUNT($E$24:$E$452)-COUNT(E260:$E$452))","v":""}]
[null,{"$f":"IF(E260=\"\",\"\",COUNT($E$24:$E$452)-COUNT(E261:$E$452))","v":""}]
[null,{"$f":"IF(E261=\"\",\"\",COUNT($E$24:$E$452)-COUNT(E262:$E$452))","v":""}]
[null,{"$f":"IF(E262=\"\",\"\",COUNT($E$24:$E$452)-COUNT(E263:$E$452))","v":""}]
[null,{"$f":"IF(E263=\"\",\"\",COUNT($E$24:$E$452)-COUNT(E264:$E$452))","v":""}]
[null,{"$f":"IF(E264=\"\",\"\",COUNT($E$24:$E$452)-COUNT(E265:$E$452))","v":""}]
[null,{"$f":"IF(E265=\"\",\"\",COUNT($E$24:$E$452)-COUNT(E266:$E$452))","v":""}]
[null,{"$f":"IF(E266=\"\",\"\",COUNT($E$24:$E$452)-COUNT(E267:$E$452))","v":""}]
[null,{"$f":"IF(E267=\"\",\"\",COUNT($E$24:$E$452)-COUNT(E268:$E$452))","v":""}]
[null,{"$f":"IF(E268=\"\",\"\",COUNT($E$24:$E$452)-COUNT(E269:$E$452))","v":""}]
[null,{"$f":"IF(E269=\"\",\"\",COUNT($E$24:$E$452)-COUNT(E270:$E$452))","v":""}]
[null,{"$f":"IF(E270=\"\",\"\",COUNT($E$24:$E$452)-COUNT(E271:$E$452))","v":""}]
[null,{"$f":"IF(E271=\"\",\"\",COUNT($E$24:$E$452)-COUNT(E272:$E$452))","v":""}]
[null,{"$f":"IF(E272=\"\",\"\",COUNT($E$24:$E$452)-COUNT(E273:$E$452))","v":""}]
[null,{"$f":"IF(E273=\"\",\"\",COUNT($E$24:$E$452)-COUNT(E274:$E$452))","v":""}]
[null,{"$f":"IF(E274=\"\",\"\",COUNT($E$24:$E$452)-COUNT(E275:$E$452))","v":""}]
[null,{"$f":"IF(E275=\"\",\"\",COUNT($E$24:$E$452)-COUNT(E276:$E$452))","v":""}]
[null,{"$f":"IF(E276=\"\",\"\",COUNT($E$24:$E$452)-COUNT(E277:$E$452))","v":""}]
[null,{"$f":"IF(E277=\"\",\"\",COUNT($E$24:$E$452)-COUNT(E278:$E$452))","v":""}]
[null,{"$f":"IF(E278=\"\",\"\",COUNT($E$24:$E$452)-COUNT(E279:$E$452))","v":""}]
[null,{"$f":"IF(E279=\"\",\"\",COUNT($E$24:$E$452)-COUNT(E280:$E$452))","v":""}]
[null,{"$f":"IF(E280=\"\",\"\",COUNT($E$24:$E$452)-COUNT(E281:$E$452))","v":""}]
[null,{"$f":"IF(E281=\"\",\"\",COUNT($E$24:$E$452)-COUNT(E282:$E$452))","v":""}]
[null,{"$f":"IF(E282=\"\",\"\",COUNT($E$24:$E$452)-COUNT(E283:$E$452))","v":""}]
[null,{"$f":"IF(E283=\"\",\"\",COUNT($E$24:$E$452)-COUNT(E284:$E$452))","v":""}]
[null,{"$f":"IF(E284=\"\",\"\",COUNT($E$24:$E$452)-COUNT(E285:$E$452))","v":""}]
[null,{"$f":"IF(E285=\"\",\"\",COUNT($E$24:$E$452)-COUNT(E286:$E$452))","v":""}]
[null,{"$f":"IF(E286=\"\",\"\",COUNT($E$24:$E$452)-COUNT(E287:$E$452))","v":""}]
[null,{"$f":"IF(E287=\"\",\"\",COUNT($E$24:$E$452)-COUNT(E288:$E$452))","v":""}]
[null,{"$f":"IF(E288=\"\",\"\",COUNT($E$24:$E$452)-COUNT(E289:$E$452))","v":""}]
[null,{"$f":"IF(E289=\"\",\"\",COUNT($E$24:$E$452)-COUNT(E290:$E$452))","v":""}]
[null,{"$f":"IF(E290=\"\",\"\",COUNT($E$24:$E$452)-COUNT(E291:$E$452))","v":""}]
[null,{"$f":"IF(E291=\"\",\"\",COUNT($E$24:$E$452)-COUNT(E292:$E$452))","v":""}]
[null,{"$f":"IF(E292=\"\",\"\",COUNT($E$24:$E$452)-COUNT(E293:$E$452))","v":""}]
[null,{"$f":"IF(E293=\"\",\"\",COUNT($E$24:$E$452)-COUNT(E294:$E$452))","v":""}]
[null,{"$f":"IF(E294=\"\",\"\",COUNT($E$24:$E$452)-COUNT(E295:$E$452))","v":""}]
[null,{"$f":"IF(E295=\"\",\"\",COUNT($E$24:$E$452)-COUNT(E296:$E$452))","v":""}]
[null,{"$f":"IF(E296=\"\",\"\",COUNT($E$24:$E$452)-COUNT(E297:$E$452))","v":""}]
[null,{"$f":"IF(E297=\"\",\"\",COUNT($E$24:$E$452)-COUNT(E298:$E$452))","v":""}]
[null,{"$f":"IF(E298=\"\",\"\",COUNT($E$24:$E$452)-COUNT(E299:$E$452))","v":""}]
[null,{"$f":"IF(E299=\"\",\"\",COUNT($E$24:$E$452)-COUNT(E300:$E$452))","v":""}]
[null,{"$f":"IF(E300=\"\",\"\",COUNT($E$24:$E$452)-COUNT(E301:$E$452))","v":""}]
[null,{"$f":"IF(E301=\"\",\"\",COUNT($E$24:$E$452)-COUNT(E302:$E$452))","v":""}]
[null,{"$f":"IF(E302=\"\",\"\",COUNT($E$24:$E$452)-COUNT(E303:$E$452))","v":""}]
[null,{"$f":"IF(E303=\"\",\"\",COUNT($E$24:$E$452)-COUNT(E304:$E$452))","v":""}]
[null,{"$f":"IF(E304=\"\",\"\",COUNT($E$24:$E$452)-COUNT(E305:$E$452))","v":""}]
[null,{"$f":"IF(E305=\"\",\"\",COUNT($E$24:$E$452)-COUNT(E306:$E$452))","v":""}]
[null,{"$f":"IF(E306=\"\",\"\",COUNT($E$24:$E$452)-COUNT(E307:$E$452))","v":""}]
[null,{"$f":"IF(E307=\"\",\"\",COUNT($E$24:$E$452)-COUNT(E308:$E$452))","v":""}]
[null,{"$f":"IF(E308=\"\",\"\",COUNT($E$24:$E$452)-COUNT(E309:$E$452))","v":""}]
[null,{"$f":"IF(E309=\"\",\"\",COUNT($E$24:$E$452)-COUNT(E310:$E$452))","v":""}]
[null,{"$f":"IF(E310=\"\",\"\",COUNT($E$24:$E$452)-COUNT(E311:$E$452))","v":""}]
[null,{"$f":"IF(E311=\"\",\"\",COUNT($E$24:$E$452)-COUNT(E312:$E$452))","v":""}]
[null,{"$f":"IF(E312=\"\",\"\",COUNT($E$24:$E$452)-COUNT(E313:$E$452))","v":""}]
[null,{"$f":"IF(E313=\"\",\"\",COUNT($E$24:$E$452)-COUNT(E314:$E$452))","v":""}]
[null,{"$f":"IF(E314=\"\",\"\",COUNT($E$24:$E$452)-COUNT(E315:$E$452))","v":""}]
[null,{"$f":"IF(E315=\"\",\"\",COUNT($E$24:$E$452)-COUNT(E316:$E$452))","v":""}]
[null,{"$f":"IF(E316=\"\",\"\",COUNT($E$24:$E$452)-COUNT(E317:$E$452))","v":""}]
[null,{"$f":"IF(E317=\"\",\"\",COUNT($E$24:$E$452)-COUNT(E318:$E$452))","v":""}]
[null,{"$f":"IF(E318=\"\",\"\",COUNT($E$24:$E$452)-COUNT(E319:$E$452))","v":""}]
[null,{"$f":"IF(E319=\"\",\"\",COUNT($E$24:$E$452)-COUNT(E320:$E$452))","v":""}]
[null,{"$f":"IF(E320=\"\",\"\",COUNT($E$24:$E$452)-COUNT(E321:$E$452))","v":""}]
[null,{"$f":"IF(E321=\"\",\"\",COUNT($E$24:$E$452)-COUNT(E322:$E$452))","v":""}]
[null,{"$f":"IF(E322=\"\",\"\",COUNT($E$24:$E$452)-COUNT(E323:$E$452))","v":""}]
[null,{"$f":"IF(E323=\"\",\"\",COUNT($E$24:$E$452)-COUNT(E324:$E$452))","v":""}]
[null,{"$f":"IF(E324=\"\",\"\",COUNT($E$24:$E$452)-COUNT(E325:$E$452))","v":""}]
[null,{"$f":"IF(E325=\"\",\"\",COUNT($E$24:$E$452)-COUNT(E326:$E$452))","v":""}]
[null,{"$f":"IF(E326=\"\",\"\",COUNT($E$24:$E$452)-COUNT(E327:$E$452))","v":""}]
[null,{"$f":"IF(E327=\"\",\"\",COUNT($E$24:$E$452)-COUNT(E328:$E$452))","v":""}]
[null,{"$f":"IF(E328=\"\",\"\",COUNT($E$24:$E$452)-COUNT(E329:$E$452))","v":""}]
[null,{"$f":"IF(E329=\"\",\"\",COUNT($E$24:$E$452)-COUNT(E330:$E$452))","v":""}]
[null,{"$f":"IF(E330=\"\",\"\",COUNT($E$24:$E$452)-COUNT(E331:$E$452))","v":""}]
[null,{"$f":"IF(E331=\"\",\"\",COUNT($E$24:$E$452)-COUNT(E332:$E$452))","v":""}]
[null,{"$f":"IF(E332=\"\",\"\",COUNT($E$24:$E$452)-COUNT(E333:$E$452))","v":""}]
[null,{"$f":"IF(E333=\"\",\"\",COUNT($E$24:$E$452)-COUNT(E334:$E$452))","v":""}]
[null,{"$f":"IF(E334=\"\",\"\",COUNT($E$24:$E$452)-COUNT(E335:$E$452))","v":""}]
[null,{"$f":"IF(E335=\"\",\"\",COUNT($E$24:$E$452)-COUNT(E336:$E$452))","v":""}]
[null,{"$f":"IF(E336=\"\",\"\",COUNT($E$24:$E$452)-COUNT(E337:$E$452))","v":""}]
[null,{"$f":"IF(E337=\"\",\"\",COUNT($E$24:$E$452)-COUNT(E338:$E$452))","v":""}]
[null,{"$f":"IF(E338=\"\",\"\",COUNT($E$24:$E$452)-COUNT(E339:$E$452))","v":""}]
[null,{"$f":"IF(E339=\"\",\"\",COUNT($E$24:$E$452)-COUNT(E340:$E$452))","v":""}]
[null,{"$f":"IF(E340=\"\",\"\",COUNT($E$24:$E$452)-COUNT(E341:$E$452))","v":""}]
[null,{"$f":"IF(E341=\"\",\"\",COUNT($E$24:$E$452)-COUNT(E342:$E$452))","v":""}]
[null,{"$f":"IF(E342=\"\",\"\",COUNT($E$24:$E$452)-COUNT(E343:$E$452))","v":""}]
[null,{"$f":"IF(E343=\"\",\"\",COUNT($E$24:$E$452)-COUNT(E344:$E$452))","v":""}]
[null,{"$f":"IF(E344=\"\",\"\",COUNT($E$24:$E$452)-COUNT(E345:$E$452))","v":""}]
[null,{"$f":"IF(E345=\"\",\"\",COUNT($E$24:$E$452)-COUNT(E346:$E$452))","v":""}]
[null,{"$f":"IF(E346=\"\",\"\",COUNT($E$24:$E$452)-COUNT(E347:$E$452))","v":""}]
[null,{"$f":"IF(E347=\"\",\"\",COUNT($E$24:$E$452)-COUNT(E348:$E$452))","v":""}]
[null,{"$f":"IF(E348=\"\",\"\",COUNT($E$24:$E$452)-COUNT(E349:$E$452))","v":""}]
[null,{"$f":"IF(E349=\"\",\"\",COUNT($E$24:$E$452)-COUNT(E350:$E$452))","v":""}]
[null,{"$f":"IF(E350=\"\",\"\",COUNT($E$24:$E$452)-COUNT(E351:$E$452))","v":""}]
[null,{"$f":"IF(E351=\"\",\"\",COUNT($E$24:$E$452)-COUNT(E352:$E$452))","v":""}]
[null,{"$f":"IF(E352=\"\",\"\",COUNT($E$24:$E$452)-COUNT(E353:$E$452))","v":""}]
[null,{"$f":"IF(E353=\"\",\"\",COUNT($E$24:$E$452)-COUNT(E354:$E$452))","v":""}]
[null,{"$f":"IF(E354=\"\",\"\",COUNT($E$24:$E$452)-COUNT(E355:$E$452))","v":""}]
[null,{"$f":"IF(E355=\"\",\"\",COUNT($E$24:$E$452)-COUNT(E356:$E$452))","v":""}]
[null,{"$f":"IF(E356=\"\",\"\",COUNT($E$24:$E$452)-COUNT(E357:$E$452))","v":""}]
[null,{"$f":"IF(E357=\"\",\"\",COUNT($E$24:$E$452)-COUNT(E358:$E$452))","v":""}]
[null,{"$f":"IF(E358=\"\",\"\",COUNT($E$24:$E$452)-COUNT(E359:$E$452))","v":""}]
[null,{"$f":"IF(E359=\"\",\"\",COUNT($E$24:$E$452)-COUNT(E360:$E$452))","v":""}]
[null,{"$f":"IF(E360=\"\",\"\",COUNT($E$24:$E$452)-COUNT(E361:$E$452))","v":""}]
[null,{"$f":"IF(E361=\"\",\"\",COUNT($E$24:$E$452)-COUNT(E362:$E$452))","v":""}]
[null,{"$f":"IF(E362=\"\",\"\",COUNT($E$24:$E$452)-COUNT(E363:$E$452))","v":""}]
[null,{"$f":"IF(E363=\"\",\"\",COUNT($E$24:$E$452)-COUNT(E364:$E$452))","v":""}]
[null,{"$f":"IF(E364=\"\",\"\",COUNT($E$24:$E$452)-COUNT(E365:$E$452))","v":""}]
[null,{"$f":"IF(E365=\"\",\"\",COUNT($E$24:$E$452)-COUNT(E366:$E$452))","v":""}]
[null,{"$f":"IF(E366=\"\",\"\",COUNT($E$24:$E$452)-COUNT(E367:$E$452))","v":""}]
[null,{"$f":"IF(E367=\"\",\"\",COUNT($E$24:$E$452)-COUNT(E368:$E$452))","v":""}]
[null,{"$f":"IF(E368=\"\",\"\",COUNT($E$24:$E$452)-COUNT(E369:$E$452))","v":""}]
[null,{"$f":"IF(E369=\"\",\"\",COUNT($E$24:$E$452)-COUNT(E370:$E$452))","v":""}]
[null,{"$f":"IF(E370=\"\",\"\",COUNT($E$24:$E$452)-COUNT(E371:$E$452))","v":""}]
[null,{"$f":"IF(E371=\"\",\"\",COUNT($E$24:$E$452)-COUNT(E372:$E$452))","v":""}]
[null,{"$f":"IF(E372=\"\",\"\",COUNT($E$24:$E$452)-COUNT(E373:$E$452))","v":""}]
[null,{"$f":"IF(E373=\"\",\"\",COUNT($E$24:$E$452)-COUNT(E374:$E$452))","v":""}]
[null,{"$f":"IF(E374=\"\",\"\",COUNT($E$24:$E$452)-COUNT(E375:$E$452))","v":""}]
[null,{"$f":"IF(E375=\"\",\"\",COUNT($E$24:$E$452)-COUNT(E376:$E$452))","v":""}]
[null,{"$f":"IF(E376=\"\",\"\",COUNT($E$24:$E$452)-COUNT(E377:$E$452))","v":""}]
[null,{"$f":"IF(E377=\"\",\"\",COUNT($E$24:$E$452)-COUNT(E378:$E$452))","v":""}]
[null,{"$f":"IF(E378=\"\",\"\",COUNT($E$24:$E$452)-COUNT(E379:$E$452))","v":""}]
[null,{"$f":"IF(E379=\"\",\"\",COUNT($E$24:$E$452)-COUNT(E380:$E$452))","v":""}]
[null,{"$f":"IF(E380=\"\",\"\",COUNT($E$24:$E$452)-COUNT(E381:$E$452))","v":""}]
[null,{"$f":"IF(E381=\"\",\"\",COUNT($E$24:$E$452)-COUNT(E382:$E$452))","v":""}]
[null,{"$f":"IF(E382=\"\",\"\",COUNT($E$24:$E$452)-COUNT(E383:$E$452))","v":""}]
[null,{"$f":"IF(E383=\"\",\"\",COUNT($E$24:$E$452)-COUNT(E384:$E$452))","v":""}]
[null,{"$f":"IF(E384=\"\",\"\",COUNT($E$24:$E$452)-COUNT(E385:$E$452))","v":""}]
[null,{"$f":"IF(E385=\"\",\"\",COUNT($E$24:$E$452)-COUNT(E386:$E$452))","v":""}]
[null,{"$f":"IF(E386=\"\",\"\",COUNT($E$24:$E$452)-COUNT(E387:$E$452))","v":""}]
[null,{"$f":"IF(E387=\"\",\"\",COUNT($E$24:$E$452)-COUNT(E388:$E$452))","v":""}]
[null,{"$f":"IF(E388=\"\",\"\",COUNT($E$24:$E$452)-COUNT(E389:$E$452))","v":""}]
[null,{"$f":"IF(E389=\"\",\"\",COUNT($E$24:$E$452)-COUNT(E390:$E$452))","v":""}]
[null,{"$f":"IF(E390=\"\",\"\",COUNT($E$24:$E$452)-COUNT(E391:$E$452))","v":""}]
[null,{"$f":"IF(E391=\"\",\"\",COUNT($E$24:$E$452)-COUNT(E392:$E$452))","v":""}]
[null,{"$f":"IF(E392=\"\",\"\",COUNT($E$24:$E$452)-COUNT(E393:$E$452))","v":""}]
[null,{"$f":"IF(E393=\"\",\"\",COUNT($E$24:$E$452)-COUNT(E394:$E$452))","v":""}]
[null,{"$f":"IF(E394=\"\",\"\",COUNT($E$24:$E$452)-COUNT(E395:$E$452))","v":""}]
[null,{"$f":"IF(E395=\"\",\"\",COUNT($E$24:$E$452)-COUNT(E396:$E$452))","v":""}]
[null,{"$f":"IF(E396=\"\",\"\",COUNT($E$24:$E$452)-COUNT(E397:$E$452))","v":""}]
[null,{"$f":"IF(E397=\"\",\"\",COUNT($E$24:$E$452)-COUNT(E398:$E$452))","v":""}]
[null,{"$f":"IF(E398=\"\",\"\",COUNT($E$24:$E$452)-COUNT(E399:$E$452))","v":""}]
[null,{"$f":"IF(E399=\"\",\"\",COUNT($E$24:$E$452)-COUNT(E400:$E$452))","v":""}]
[null,{"$f":"IF(E400=\"\",\"\",COUNT($E$24:$E$452)-COUNT(E401:$E$452))","v":""}]
[null,{"$f":"IF(E401=\"\",\"\",COUNT($E$24:$E$452)-COUNT(E402:$E$452))","v":""}]
[null,{"$f":"IF(E402=\"\",\"\",COUNT($E$24:$E$452)-COUNT(E403:$E$452))","v":""}]
[null,{"$f":"IF(E403=\"\",\"\",COUNT($E$24:$E$452)-COUNT(E404:$E$452))","v":""}]
[null,{"$f":"IF(E404=\"\",\"\",COUNT($E$24:$E$452)-COUNT(E405:$E$452))","v":""}]
[null,{"$f":"IF(E405=\"\",\"\",COUNT($E$24:$E$452)-COUNT(E406:$E$452))","v":""}]
[null,{"$f":"IF(E406=\"\",\"\",COUNT($E$24:$E$452)-COUNT(E407:$E$452))","v":""}]
[null,{"$f":"IF(E407=\"\",\"\",COUNT($E$24:$E$452)-COUNT(E408:$E$452))","v":""}]
[null,{"$f":"IF(E408=\"\",\"\",COUNT($E$24:$E$452)-COUNT(E409:$E$452))","v":""}]
[null,{"$f":"IF(E409=\"\",\"\",COUNT($E$24:$E$452)-COUNT(E410:$E$452))","v":""}]
[null,{"$f":"IF(E410=\"\",\"\",COUNT($E$24:$E$452)-COUNT(E411:$E$452))","v":""}]
[null,{"$f":"IF(E411=\"\",\"\",COUNT($E$24:$E$452)-COUNT(E412:$E$452))","v":""}]
[null,{"$f":"IF(E412=\"\",\"\",COUNT($E$24:$E$452)-COUNT(E413:$E$452))","v":""}]
[null,{"$f":"IF(E413=\"\",\"\",COUNT($E$24:$E$452)-COUNT(E414:$E$452))","v":""}]
[null,{"$f":"IF(E414=\"\",\"\",COUNT($E$24:$E$452)-COUNT(E415:$E$452))","v":""}]
[null,{"$f":"IF(E415=\"\",\"\",COUNT($E$24:$E$452)-COUNT(E416:$E$452))","v":""}]
[null,{"$f":"IF(E416=\"\",\"\",COUNT($E$24:$E$452)-COUNT(E417:$E$452))","v":""}]
[null,{"$f":"IF(E417=\"\",\"\",COUNT($E$24:$E$452)-COUNT(E418:$E$452))","v":""}]
[null,{"$f":"IF(E418=\"\",\"\",COUNT($E$24:$E$452)-COUNT(E419:$E$452))","v":""}]
[null,{"$f":"IF(E419=\"\",\"\",COUNT($E$24:$E$452)-COUNT(E420:$E$452))","v":""}]
[null,{"$f":"IF(E420=\"\",\"\",COUNT($E$24:$E$452)-COUNT(E421:$E$452))","v":""}]
[null,{"$f":"IF(E421=\"\",\"\",COUNT($E$24:$E$452)-COUNT(E422:$E$452))","v":""}]
[null,{"$f":"IF(E422=\"\",\"\",COUNT($E$24:$E$452)-COUNT(E423:$E$452))","v":""}]
[null,{"$f":"IF(E423=\"\",\"\",COUNT($E$24:$E$452)-COUNT(E424:$E$452))","v":""}]
[null,{"$f":"IF(E424=\"\",\"\",COUNT($E$24:$E$452)-COUNT(E425:$E$452))","v":""}]
[null,{"$f":"IF(E425=\"\",\"\",COUNT($E$24:$E$452)-COUNT(E426:$E$452))","v":""}]
[null,{"$f":"IF(E426=\"\",\"\",COUNT($E$24:$E$452)-COUNT(E427:$E$452))","v":""}]
[null,{"$f":"IF(E427=\"\",\"\",COUNT($E$24:$E$452)-COUNT(E428:$E$452))","v":""}]
[null,{"$f":"IF(E428=\"\",\"\",COUNT($E$24:$E$452)-COUNT(E429:$E$452))","v":""}]
[null,{"$f":"IF(E429=\"\",\"\",COUNT($E$24:$E$452)-COUNT(E430:$E$452))","v":""}]
[null,{"$f":"IF(E430=\"\",\"\",COUNT($E$24:$E$452)-COUNT(E431:$E$452))","v":""}]
[null,{"$f":"IF(E431=\"\",\"\",COUNT($E$24:$E$452)-COUNT(E432:$E$452))","v":""}]
[null,{"$f":"IF(E432=\"\",\"\",COUNT($E$24:$E$452)-COUNT(E433:$E$452))","v":""}]
[null,{"$f":"IF(E433=\"\",\"\",COUNT($E$24:$E$452)-COUNT(E434:$E$452))","v":""}]
[null,{"$f":"IF(E434=\"\",\"\",COUNT($E$24:$E$452)-COUNT(E435:$E$452))","v":""}]
[null,{"$f":"IF(E435=\"\",\"\",COUNT($E$24:$E$452)-COUNT(E436:$E$452))","v":""}]
[null,{"$f":"IF(E436=\"\",\"\",COUNT($E$24:$E$452)-COUNT(E437:$E$452))","v":""}]
[null,{"$f":"IF(E437=\"\",\"\",COUNT($E$24:$E$452)-COUNT(E438:$E$452))","v":""}]
[null,{"$f":"IF(E438=\"\",\"\",COUNT($E$24:$E$452)-COUNT(E439:$E$452))","v":""}]
[null,{"$f":"IF(E439=\"\",\"\",COUNT($E$24:$E$452)-COUNT(E440:$E$452))","v":""}]
[null,{"$f":"IF(E440=\"\",\"\",COUNT($E$24:$E$452)-COUNT(E441:$E$452))","v":""}]
[null,{"$f":"IF(E441=\"\",\"\",COUNT($E$24:$E$452)-COUNT(E442:$E$452))","v":""}]
[null,{"$f":"IF(E442=\"\",\"\",COUNT($E$24:$E$452)-COUNT(E443:$E$452))","v":""}]
[null,{"$f":"IF(E443=\"\",\"\",COUNT($E$24:$E$452)-COUNT(E444:$E$452))","v":""}]
[null,{"$f":"IF(E444=\"\",\"\",COUNT($E$24:$E$452)-COUNT(E445:$E$452))","v":""}]
[null,{"$f":"IF(E445=\"\",\"\",COUNT($E$24:$E$452)-COUNT(E446:$E$452))","v":""}]
[null,{"$f":"IF(E446=\"\",\"\",COUNT($E$24:$E$452)-COUNT(E447:$E$452))","v":""}]
[null,{"$f":"IF(E447=\"\",\"\",COUNT($E$24:$E$452)-COUNT(E448:$E$452))","v":""}]
[null,{"$f":"IF(E448=\"\",\"\",COUNT($E$24:$E$452)-COUNT(E449:$E$452))","v":""}]
[null,{"$f":"IF(E449=\"\",\"\",COUNT($E$24:$E$452)-COUNT(E450:$E$452))","v":""}]
[null,{"$f":"IF(E450=\"\",\"\",COUNT($E$24:$E$452)-COUNT(E451:$E$452))","v":""}]
[null,{"$f":"IF(E451=\"\",\"\",COUNT($E$24:$E$452)-COUNT(E$452:$E452))","v":""}]
[null,{"$f":"IF(E452=\"\",\"\",COUNT($E$24:$E$452)-COUNT(E$452:$E453))","v":""}]
[null,{"$f":"IF(E453=\"\",\"\",COUNT($E$24:$E$452)-COUNT(E$452:$E454))","v":""}]
[null,{"$f":"IF(E454=\"\",\"\",COUNT($E$24:$E$452)-COUNT(E$452:$E455))","v":""}]
[null,{"$f":"IF(E455=\"\",\"\",COUNT($E$24:$E$452)-COUNT(E$452:$E456))","v":""}]
[null,{"$f":"IF(E456=\"\",\"\",COUNT($E$24:$E$452)-COUNT(E$452:$E457))","v":""}]
[null,{"$f":"IF(E457=\"\",\"\",COUNT($E$24:$E$452)-COUNT(E$452:$E458))","v":""}]
[null,{"$f":"IF(E458=\"\",\"\",COUNT($E$24:$E$452)-COUNT(E$452:$E459))","v":""}]
[null,{"$f":"IF(E459=\"\",\"\",COUNT($E$24:$E$452)-COUNT(E$452:$E460))","v":""}]
[null,{"$f":"IF(E460=\"\",\"\",COUNT($E$24:$E$452)-COUNT(E$452:$E461))","v":""}]
[null,{"$f":"IF(E461=\"\",\"\",COUNT($E$24:$E$452)-COUNT(E$452:$E462))","v":""}]
[null,{"$f":"IF(E462=\"\",\"\",COUNT($E$24:$E$452)-COUNT(E$452:$E463))","v":""}]
[null,{"$f":"IF(E463=\"\",\"\",COUNT($E$24:$E$452)-COUNT(E$452:$E464))","v":""}]
[null,{"$f":"IF(E464=\"\",\"\",COUNT($E$24:$E$452)-COUNT(E$452:$E465))","v":""}]
[null,{"$f":"IF(E465=\"\",\"\",COUNT($E$24:$E$452)-COUNT(E$452:$E466))","v":""}]
[null,{"$f":"IF(E466=\"\",\"\",COUNT($E$24:$E$452)-COUNT(E$452:$E467))","v":""}]
[null,{"$f":"IF(E467=\"\",\"\",COUNT($E$24:$E$452)-COUNT(E$452:$E468))","v":""}]
[null,{"$f":"IF(E468=\"\",\"\",COUNT($E$24:$E$452)-COUNT(E$452:$E469))","v":""}]
[null,{"$f":"IF(E469=\"\",\"\",COUNT($E$24:$E$452)-COUNT(E$452:$E470))","v":""}]
[null,{"$f":"IF(E470=\"\",\"\",COUNT($E$24:$E$452)-COUNT(E$452:$E471))","v":""}]
[null,{"$f":"IF(E471=\"\",\"\",COUNT($E$24:$E$452)-COUNT(E$452:$E472))","v":""}]
[null,{"$f":"IF(E472=\"\",\"\",COUNT($E$24:$E$452)-COUNT(E$452:$E473))","v":""}]
[null,{"$f":"IF(E473=\"\",\"\",COUNT($E$24:$E$452)-COUNT(E$452:$E474))","v":""}]
[null,{"$f":"IF(E474=\"\",\"\",COUNT($E$24:$E$452)-COUNT(E$452:$E475))","v":""}]
[null,{"$f":"IF(E475=\"\",\"\",COUNT($E$24:$E$452)-COUNT(E$452:$E476))","v":""}]
[null,{"$f":"IF(E476=\"\",\"\",COUNT($E$24:$E$452)-COUNT(E$452:$E477))","v":""}]
[null,{"$f":"IF(E477=\"\",\"\",COUNT($E$24:$E$452)-COUNT(E$452:$E478))","v":""}]
[null,{"$f":"IF(E478=\"\",\"\",COUNT($E$24:$E$452)-COUNT(E$452:$E479))","v":""}]
[null,{"$f":"IF(E479=\"\",\"\",COUNT($E$24:$E$452)-COUNT(E$452:$E480))","v":""}]
[null,{"$f":"IF(E480=\"\",\"\",COUNT($E$24:$E$452)-COUNT(E$452:$E481))","v":""}]
[null,{"$f":"IF(E481=\"\",\"\",COUNT($E$24:$E$452)-COUNT(E$452:$E482))","v":""}]
[null,{"$f":"IF(E482=\"\",\"\",COUNT($E$24:$E$452)-COUNT(E$452:$E483))","v":""}]
[null,{"$f":"IF(E483=\"\",\"\",COUNT($E$24:$E$452)-COUNT(E$452:$E484))","v":""}]
[null,{"$f":"IF(E484=\"\",\"\",COUNT($E$24:$E$452)-COUNT(E$452:$E485))","v":""}]
[null,{"$f":"IF(E485=\"\",\"\",COUNT($E$24:$E$452)-COUNT(E$452:$E486))","v":""}]
[null,{"$f":"IF(E486=\"\",\"\",COUNT($E$24:$E$452)-COUNT(E$452:$E487))","v":""}]
[null,{"$f":"IF(E487=\"\",\"\",COUNT($E$24:$E$452)-COUNT(E$452:$E488))","v":""}]
[null,{"$f":"IF(E488=\"\",\"\",COUNT($E$24:$E$452)-COUNT(E$452:$E489))","v":""}]
[null,{"$f":"IF(E489=\"\",\"\",COUNT($E$24:$E$452)-COUNT(E$452:$E490))","v":""}]
[null,{"$f":"IF(E490=\"\",\"\",COUNT($E$24:$E$452)-COUNT(E$452:$E491))","v":""}]
[null,{"$f":"IF(E491=\"\",\"\",COUNT($E$24:$E$452)-COUNT(E$452:$E492))","v":""}]
[null,{"$f":"IF(E492=\"\",\"\",COUNT($E$24:$E$452)-COUNT(E$452:$E493))","v":""}]
[null,{"$f":"IF(E493=\"\",\"\",COUNT($E$24:$E$452)-COUNT(E$452:$E494))","v":""}]
[null,{"$f":"IF(E494=\"\",\"\",COUNT($E$24:$E$452)-COUNT(E$452:$E495))","v":""}]
[null,{"$f":"IF(E495=\"\",\"\",COUNT($E$24:$E$452)-COUNT(E$452:$E496))","v":""}]
[null,{"$f":"IF(E496=\"\",\"\",COUNT($E$24:$E$452)-COUNT(E$452:$E497))","v":""}]
[null,{"$f":"IF(E497=\"\",\"\",COUNT($E$24:$E$452)-COUNT(E$452:$E498))","v":""}]
[null,{"$f":"IF(E498=\"\",\"\",COUNT($E$24:$E$452)-COUNT(E$452:$E499))","v":""}]
[null,{"$f":"IF(E499=\"\",\"\",COUNT($E$24:$E$452)-COUNT(E$452:$E500))","v":""}]
[null,{"$f":"IF(E500=\"\",\"\",COUNT($E$24:$E$452)-COUNT(E$452:$E501))","v":""}]
[null,{"$f":"IF(E501=\"\",\"\",COUNT($E$24:$E$452)-COUNT(E$452:$E502))","v":""}]
[null,{"$f":"IF(E502=\"\",\"\",COUNT($E$24:$E$452)-COUNT(E$452:$E503))","v":""}]
[null,{"$f":"IF(E503=\"\",\"\",COUNT($E$24:$E$452)-COUNT(E$452:$E504))","v":""}]
[null,{"$f":"IF(E504=\"\",\"\",COUNT($E$24:$E$452)-COUNT(E$452:$E505))","v":""}]
[null,{"$f":"IF(E505=\"\",\"\",COUNT($E$24:$E$452)-COUNT(E$452:$E506))","v":""}]
[null,{"$f":"IF(E506=\"\",\"\",COUNT($E$24:$E$452)-COUNT(E$452:$E507))","v":""}]
[null,{"$f":"IF(E507=\"\",\"\",COUNT($E$24:$E$452)-COUNT(E$452:$E508))","v":""}]
[null,{"$f":"IF(E508=\"\",\"\",COUNT($E$24:$E$452)-COUNT(E$452:$E509))","v":""}]
[null,{"$f":"IF(E509=\"\",\"\",COUNT($E$24:$E$452)-COUNT(E$452:$E510))","v":""}]
[null,{"$f":"IF(E510=\"\",\"\",COUNT($E$24:$E$452)-COUNT(E$452:$E511))","v":""}]
[null,{"$f":"IF(E511=\"\",\"\",COUNT($E$24:$E$452)-COUNT(E$452:$E512))","v":""}]
[null,{"$f":"IF(E512=\"\",\"\",COUNT($E$24:$E$452)-COUNT(E$452:$E513))","v":""}]
[null,{"$f":"IF(E513=\"\",\"\",COUNT($E$24:$E$452)-COUNT(E$452:$E514))","v":""}]
[null,{"$f":"IF(E514=\"\",\"\",COUNT($E$24:$E$452)-COUNT(E$452:$E515))","v":""}]
[null,{"$f":"IF(E515=\"\",\"\",COUNT($E$24:$E$452)-COUNT(E$452:$E516))","v":""}]
[null,{"$f":"IF(E516=\"\",\"\",COUNT($E$24:$E$452)-COUNT(E$452:$E517))","v":""}]
[null,{"$f":"IF(E517=\"\",\"\",COUNT($E$24:$E$452)-COUNT(E$452:$E518))","v":""}]
[null,{"$f":"IF(E518=\"\",\"\",COUNT($E$24:$E$452)-COUNT(E$452:$E519))","v":""}]
[null,{"$f":"IF(E519=\"\",\"\",COUNT($E$24:$E$452)-COUNT(E$452:$E520))","v":""}]
[null,{"$f":"IF(E520=\"\",\"\",COUNT($E$24:$E$452)-COUNT(E$452:$E521))","v":""}]
[null,{"$f":"IF(E521=\"\",\"\",COUNT($E$24:$E$452)-COUNT(E$452:$E522))","v":""}]
[null,{"$f":"IF(E522=\"\",\"\",COUNT($E$24:$E$452)-COUNT(E$452:$E523))","v":""}]
[null,{"$f":"IF(E523=\"\",\"\",COUNT($E$24:$E$452)-COUNT(E$452:$E524))","v":""}]
[null,{"$f":"IF(E524=\"\",\"\",COUNT($E$24:$E$452)-COUNT(E$452:$E525))","v":""}]
[null,{"$f":"IF(E525=\"\",\"\",COUNT($E$24:$E$452)-COUNT(E$452:$E526))","v":""}]
[null,{"$f":"IF(E526=\"\",\"\",COUNT($E$24:$E$452)-COUNT(E$452:$E527))","v":""}]
[null,{"$f":"IF(E527=\"\",\"\",COUNT($E$24:$E$452)-COUNT(E$452:$E528))","v":""}]
[null,{"$f":"IF(E528=\"\",\"\",COUNT($E$24:$E$452)-COUNT(E$452:$E529))","v":""}]
[null,{"$f":"IF(E529=\"\",\"\",COUNT($E$24:$E$452)-COUNT(E$452:$E530))","v":""}]
[null,{"$f":"IF(E530=\"\",\"\",COUNT($E$24:$E$452)-COUNT(E$452:$E531))","v":""}]
[null,{"$f":"IF(E531=\"\",\"\",COUNT($E$24:$E$452)-COUNT(E$452:$E532))","v":""}]
[null,{"$f":"IF(E532=\"\",\"\",COUNT($E$24:$E$452)-COUNT(E$452:$E533))","v":""}]
[null,{"$f":"IF(E533=\"\",\"\",COUNT($E$24:$E$452)-COUNT(E$452:$E534))","v":""}]
[null,{"$f":"IF(E534=\"\",\"\",COUNT($E$24:$E$452)-COUNT(E$452:$E535))","v":""}]
[null,{"$f":"IF(E535=\"\",\"\",COUNT($E$24:$E$452)-COUNT(E$452:$E536))","v":""}]
[null,{"$f":"IF(E536=\"\",\"\",COUNT($E$24:$E$452)-COUNT(E$452:$E537))","v":""}]
[null,{"$f":"IF(E537=\"\",\"\",COUNT($E$24:$E$452)-COUNT(E$452:$E538))","v":""}]
[null,{"$f":"IF(E538=\"\",\"\",COUNT($E$24:$E$452)-COUNT(E$452:$E539))","v":""}]
[null,{"$f":"IF(E539=\"\",\"\",COUNT($E$24:$E$452)-COUNT(E$452:$E540))","v":""}]
[null,{"$f":"IF(E540=\"\",\"\",COUNT($E$24:$E$452)-COUNT(E$452:$E541))","v":""}]
[null,{"$f":"IF(E541=\"\",\"\",COUNT($E$24:$E$452)-COUNT(E$452:$E542))","v":""}]
[null,{"$f":"IF(E542=\"\",\"\",COUNT($E$24:$E$452)-COUNT(E$452:$E543))","v":""}]
[null,{"$f":"IF(E543=\"\",\"\",COUNT($E$24:$E$452)-COUNT(E$452:$E544))","v":""}]
[null,{"$f":"IF(E544=\"\",\"\",COUNT($E$24:$E$452)-COUNT(E$452:$E545))","v":""}]
[null,{"$f":"IF(E545=\"\",\"\",COUNT($E$24:$E$452)-COUNT(E$452:$E546))","v":""}]
[null,{"$f":"IF(E546=\"\",\"\",COUNT($E$24:$E$452)-COUNT(E$452:$E547))","v":""}]
[null,{"$f":"IF(E547=\"\",\"\",COUNT($E$24:$E$452)-COUNT(E$452:$E548))","v":""}]
[null,{"$f":"IF(E548=\"\",\"\",COUNT($E$24:$E$452)-COUNT(E$452:$E549))","v":""}]
[null,{"$f":"IF(E549=\"\",\"\",COUNT($E$24:$E$452)-COUNT(E$452:$E550))","v":""}]
[null,{"$f":"IF(E550=\"\",\"\",COUNT($E$24:$E$452)-COUNT(E$452:$E551))","v":""}]
[null,{"$f":"IF(E551=\"\",\"\",COUNT($E$24:$E$452)-COUNT(E$452:$E552))","v":""}]
[null,{"$f":"IF(E552=\"\",\"\",COUNT($E$24:$E$452)-COUNT(E$452:$E553))","v":""}]
[null,{"$f":"IF(E553=\"\",\"\",COUNT($E$24:$E$452)-COUNT(E$452:$E554))","v":""}]
[null,{"$f":"IF(E554=\"\",\"\",COUNT($E$24:$E$452)-COUNT(E$452:$E555))","v":""}]
[null,{"$f":"IF(E555=\"\",\"\",COUNT($E$24:$E$452)-COUNT(E$452:$E556))","v":""}]
[null,{"$f":"IF(E556=\"\",\"\",COUNT($E$24:$E$452)-COUNT(E$452:$E557))","v":""}]
[null,{"$f":"IF(E557=\"\",\"\",COUNT($E$24:$E$452)-COUNT(E$452:$E558))","v":""}]
[null,{"$f":"IF(E558=\"\",\"\",COUNT($E$24:$E$452)-COUNT(E$452:$E559))","v":""}]
[null,{"$f":"IF(E559=\"\",\"\",COUNT($E$24:$E$452)-COUNT(E$452:$E560))","v":""}]
[null,{"$f":"IF(E560=\"\",\"\",COUNT($E$24:$E$452)-COUNT(E$452:$E561))","v":""}]
[null,{"$f":"IF(E561=\"\",\"\",COUNT($E$24:$E$452)-COUNT(E$452:$E562))","v":""}]
[null,{"$f":"IF(E562=\"\",\"\",COUNT($E$24:$E$452)-COUNT(E$452:$E563))","v":""}]
[null,{"$f":"IF(E563=\"\",\"\",COUNT($E$24:$E$452)-COUNT(E$452:$E564))","v":""}]
[null,{"$f":"IF(E564=\"\",\"\",COUNT($E$24:$E$452)-COUNT(E$452:$E565))","v":""}]
[null,{"$f":"IF(E565=\"\",\"\",COUNT($E$24:$E$452)-COUNT(E$452:$E566))","v":""}]
[null,{"$f":"IF(E566=\"\",\"\",COUNT($E$24:$E$452)-COUNT(E$452:$E567))","v":""}]
[null,{"$f":"IF(E567=\"\",\"\",COUNT($E$24:$E$452)-COUNT(E$452:$E568))","v":""}]
[null,{"$f":"IF(E568=\"\",\"\",COUNT($E$24:$E$452)-COUNT(E$452:$E569))","v":""}]
[null,{"$f":"IF(E569=\"\",\"\",COUNT($E$24:$E$452)-COUNT(E$452:$E570))","v":""}]
[null,{"$f":"IF(E570=\"\",\"\",COUNT($E$24:$E$452)-COUNT(E$452:$E571))","v":""}]
[null,{"$f":"IF(E571=\"\",\"\",COUNT($E$24:$E$452)-COUNT(E$452:$E572))","v":""}]
[null,{"$f":"IF(E572=\"\",\"\",COUNT($E$24:$E$452)-COUNT(E$452:$E573))","v":""}]
[null,{"$f":"IF(E573=\"\",\"\",COUNT($E$24:$E$452)-COUNT(E$452:$E574))","v":""}]
[null,{"$f":"IF(E574=\"\",\"\",COUNT($E$24:$E$452)-COUNT(E$452:$E575))","v":""}]
[null,{"$f":"IF(E575=\"\",\"\",COUNT($E$24:$E$452)-COUNT(E$452:$E576))","v":""}]
[null,{"$f":"IF(E576=\"\",\"\",COUNT($E$24:$E$452)-COUNT(E$452:$E577))","v":""}]
[null,{"$f":"IF(E577=\"\",\"\",COUNT($E$24:$E$452)-COUNT(E$452:$E578))","v":""}]
[null,{"$f":"IF(E578=\"\",\"\",COUNT($E$24:$E$452)-COUNT(E$452:$E579))","v":""}]
[null,{"$f":"IF(E579=\"\",\"\",COUNT($E$24:$E$452)-COUNT(E$452:$E580))","v":""}]
[null,{"$f":"IF(E580=\"\",\"\",COUNT($E$24:$E$452)-COUNT(E$452:$E581))","v":""}]
[null,{"$f":"IF(E581=\"\",\"\",COUNT($E$24:$E$452)-COUNT(E$452:$E582))","v":""}]
[null,{"$f":"IF(E582=\"\",\"\",COUNT($E$24:$E$452)-COUNT(E$452:$E583))","v":""}]
[null,{"$f":"IF(E583=\"\",\"\",COUNT($E$24:$E$452)-COUNT(E$452:$E584))","v":""}]
[null,{"$f":"IF(E584=\"\",\"\",COUNT($E$24:$E$452)-COUNT(E$452:$E585))","v":""}]
[null,{"$f":"IF(E585=\"\",\"\",COUNT($E$24:$E$452)-COUNT(E$452:$E586))","v":""}]
[null,{"$f":"IF(E586=\"\",\"\",COUNT($E$24:$E$452)-COUNT(E$452:$E587))","v":""}]
[null,{"$f":"IF(E587=\"\",\"\",COUNT($E$24:$E$452)-COUNT(E$452:$E588))","v":""}]
[null,{"$f":"IF(E588=\"\",\"\",COUNT($E$24:$E$452)-COUNT(E$452:$E589))","v":""}]
[null,{"$f":"IF(E589=\"\",\"\",COUNT($E$24:$E$452)-COUNT(E$452:$E590))","v":""}]
[null,{"$f":"IF(E590=\"\",\"\",COUNT($E$24:$E$452)-COUNT(E$452:$E591))","v":""}]
[null,{"$f":"IF(E591=\"\",\"\",COUNT($E$24:$E$452)-COUNT(E$452:$E592))","v":""}]
[null,{"$f":"IF(E592=\"\",\"\",COUNT($E$24:$E$452)-COUNT(E$452:$E593))","v":""}]
[null,{"$f":"IF(E593=\"\",\"\",COUNT($E$24:$E$452)-COUNT(E$452:$E594))","v":""}]
[null,{"$f":"IF(E594=\"\",\"\",COUNT($E$24:$E$452)-COUNT(E$452:$E595))","v":""}]
[null,{"$f":"IF(E595=\"\",\"\",COUNT($E$24:$E$452)-COUNT(E$452:$E596))","v":""}]
[null,{"$f":"IF(E596=\"\",\"\",COUNT($E$24:$E$452)-COUNT(E$452:$E597))","v":""}]
[null,{"$f":"IF(E597=\"\",\"\",COUNT($E$24:$E$452)-COUNT(E$452:$E598))","v":""}]
[null,{"$f":"IF(E598=\"\",\"\",COUNT($E$24:$E$452)-COUNT(E$452:$E599))","v":""}]
[null,{"$f":"IF(E599=\"\",\"\",COUNT($E$24:$E$452)-COUNT(E$452:$E600))","v":""}]
[null,{"$f":"IF(E600=\"\",\"\",COUNT($E$24:$E$452)-COUNT(E$452:$E601))","v":""}]
[null,{"$f":"IF(E601=\"\",\"\",COUNT($E$24:$E$452)-COUNT(E$452:$E602))","v":""}]
[null,{"$f":"IF(E602=\"\",\"\",COUNT($E$24:$E$452)-COUNT(E$452:$E603))","v":""}]
[null,{"$f":"IF(E603=\"\",\"\",COUNT($E$24:$E$452)-COUNT(E$452:$E604))","v":""}]
[null,{"$f":"IF(E604=\"\",\"\",COUNT($E$24:$E$452)-COUNT(E$452:$E605))","v":""}]
[null,{"$f":"IF(E605=\"\",\"\",COUNT($E$24:$E$452)-COUNT(E$452:$E606))","v":""}]
[null,{"$f":"IF(E606=\"\",\"\",COUNT($E$24:$E$452)-COUNT(E$452:$E607))","v":""}]
[null,{"$f":"IF(E607=\"\",\"\",COUNT($E$24:$E$452)-COUNT(E$452:$E608))","v":""}]
[null,{"$f":"IF(E608=\"\",\"\",COUNT($E$24:$E$452)-COUNT(E$452:$E609))","v":""}]
[null,{"$f":"IF(E609=\"\",\"\",COUNT($E$24:$E$452)-COUNT(E$452:$E610))","v":""}]
[null,{"$f":"IF(E610=\"\",\"\",COUNT($E$24:$E$452)-COUNT(E$452:$E611))","v":""}]
[null,{"$f":"IF(E611=\"\",\"\",COUNT($E$24:$E$452)-COUNT(E$452:$E612))","v":""}]
[null,{"$f":"IF(E612=\"\",\"\",COUNT($E$24:$E$452)-COUNT(E$452:$E613))","v":""}]
[null,{"$f":"IF(E613=\"\",\"\",COUNT($E$24:$E$452)-COUNT(E$452:$E614))","v":""}]
[null,{"$f":"IF(E614=\"\",\"\",COUNT($E$24:$E$452)-COUNT(E$452:$E615))","v":""}]
[null,{"$f":"IF(E615=\"\",\"\",COUNT($E$24:$E$452)-COUNT(E$452:$E616))","v":""}]
[null,{"$f":"IF(E616=\"\",\"\",COUNT($E$24:$E$452)-COUNT(E$452:$E617))","v":""}]
[null,{"$f":"IF(E617=\"\",\"\",COUNT($E$24:$E$452)-COUNT(E$452:$E618))","v":""}]
[null,{"$f":"IF(E618=\"\",\"\",COUNT($E$24:$E$452)-COUNT(E$452:$E619))","v":""}]
[null,{"$f":"IF(E619=\"\",\"\",COUNT($E$24:$E$452)-COUNT(E$452:$E620))","v":""}]
[null,{"$f":"IF(E620=\"\",\"\",COUNT($E$24:$E$452)-COUNT(E$452:$E621))","v":""}]
[null,{"$f":"IF(E621=\"\",\"\",COUNT($E$24:$E$452)-COUNT(E$452:$E622))","v":""}]
[null,{"$f":"IF(E622=\"\",\"\",COUNT($E$24:$E$452)-COUNT(E$452:$E623))","v":""}]
[null,{"$f":"IF(E623=\"\",\"\",COUNT($E$24:$E$452)-COUNT(E$452:$E624))","v":""}]
[null,{"$f":"IF(E624=\"\",\"\",COUNT($E$24:$E$452)-COUNT(E$452:$E625))","v":""}]
[null,{"$f":"IF(E625=\"\",\"\",COUNT($E$24:$E$452)-COUNT(E$452:$E626))","v":""}]
[null,{"$f":"IF(E626=\"\",\"\",COUNT($E$24:$E$452)-COUNT(E$452:$E627))","v":""}]
[null,{"$f":"IF(E627=\"\",\"\",COUNT($E$24:$E$452)-COUNT(E$452:$E628))","v":""}]
[null,{"$f":"IF(E628=\"\",\"\",COUNT($E$24:$E$452)-COUNT(E$452:$E629))","v":""}]
[null,{"$f":"IF(E629=\"\",\"\",COUNT($E$24:$E$452)-COUNT(E$452:$E630))","v":""}]
[null,{"$f":"IF(E630=\"\",\"\",COUNT($E$24:$E$452)-COUNT(E$452:$E631))","v":""}]
[null,{"$f":"IF(E631=\"\",\"\",COUNT($E$24:$E$452)-COUNT(E$452:$E632))","v":""}]
[null,{"$f":"IF(E632=\"\",\"\",COUNT($E$24:$E$452)-COUNT(E$452:$E633))","v":""}]
[null,{"$f":"IF(E633=\"\",\"\",COUNT($E$24:$E$452)-COUNT(E$452:$E634))","v":""}]
[null,{"$f":"IF(E634=\"\",\"\",COUNT($E$24:$E$452)-COUNT(E$452:$E635))","v":""}]
[null,{"$f":"IF(E635=\"\",\"\",COUNT($E$24:$E$452)-COUNT(E$452:$E636))","v":""}]
[null,{"$f":"IF(E636=\"\",\"\",COUNT($E$24:$E$452)-COUNT(E$452:$E637))","v":""}]
[null,{"$f":"IF(E637=\"\",\"\",COUNT($E$24:$E$452)-COUNT(E$452:$E638))","v":""}]
[null,{"$f":"IF(E638=\"\",\"\",COUNT($E$24:$E$452)-COUNT(E$452:$E639))","v":""}]
[null,{"$f":"IF(E639=\"\",\"\",COUNT($E$24:$E$452)-COUNT(E$452:$E640))","v":""}]
[null,{"$f":"IF(E640=\"\",\"\",COUNT($E$24:$E$452)-COUNT(E$452:$E641))","v":""}]
[null,{"$f":"IF(E641=\"\",\"\",COUNT($E$24:$E$452)-COUNT(E$452:$E642))","v":""}]
[null,{"$f":"IF(E642=\"\",\"\",COUNT($E$24:$E$452)-COUNT(E$452:$E643))","v":""}]
[null,{"$f":"IF(E643=\"\",\"\",COUNT($E$24:$E$452)-COUNT(E$452:$E644))","v":""}]
[null,{"$f":"IF(E644=\"\",\"\",COUNT($E$24:$E$452)-COUNT(E$452:$E645))","v":""}]
[null,{"$f":"IF(E645=\"\",\"\",COUNT($E$24:$E$452)-COUNT(E$452:$E646))","v":""}]
[null,{"$f":"IF(E646=\"\",\"\",COUNT($E$24:$E$452)-COUNT(E$452:$E647))","v":""}]
[null,{"$f":"IF(E647=\"\",\"\",COUNT($E$24:$E$452)-COUNT(E$452:$E648))","v":""}]
[null,{"$f":"IF(E648=\"\",\"\",COUNT($E$24:$E$452)-COUNT(E$452:$E649))","v":""}]
[null,{"$f":"IF(E649=\"\",\"\",COUNT($E$24:$E$452)-COUNT(E$452:$E650))","v":""}]
[null,{"$f":"IF(E650=\"\",\"\",COUNT($E$24:$E$452)-COUNT(E$452:$E651))","v":""}]
[null,{"$f":"IF(E651=\"\",\"\",COUNT($E$24:$E$452)-COUNT(E$452:$E652))","v":""}]
[null,{"$f":"IF(E652=\"\",\"\",COUNT($E$24:$E$452)-COUNT(E$452:$E653))","v":""}]
[null,{"$f":"IF(E653=\"\",\"\",COUNT($E$24:$E$452)-COUNT(E$452:$E654))","v":""}]
[null,{"$f":"IF(E654=\"\",\"\",COUNT($E$24:$E$452)-COUNT(E$452:$E655))","v":""}]
[null,{"$f":"IF(E655=\"\",\"\",COUNT($E$24:$E$452)-COUNT(E$452:$E656))","v":""}]
[null,{"$f":"IF(E656=\"\",\"\",COUNT($E$24:$E$452)-COUNT(E$452:$E657))","v":""}]
[null,{"$f":"IF(E657=\"\",\"\",COUNT($E$24:$E$452)-COUNT(E$452:$E658))","v":""}]
[null,{"$f":"IF(E658=\"\",\"\",COUNT($E$24:$E$452)-COUNT(E$452:$E659))","v":""}]
[null,{"$f":"IF(E659=\"\",\"\",COUNT($E$24:$E$452)-COUNT(E$452:$E660))","v":""}]
[null,{"$f":"IF(E660=\"\",\"\",COUNT($E$24:$E$452)-COUNT(E$452:$E661))","v":""}]
[null,{"$f":"IF(E661=\"\",\"\",COUNT($E$24:$E$452)-COUNT(E$452:$E662))","v":""}]
[null,{"$f":"IF(E662=\"\",\"\",COUNT($E$24:$E$452)-COUNT(E$452:$E663))","v":""}]
[null,{"$f":"IF(E663=\"\",\"\",COUNT($E$24:$E$452)-COUNT(E$452:$E664))","v":""}]
[null,{"$f":"IF(E664=\"\",\"\",COUNT($E$24:$E$452)-COUNT(E$452:$E665))","v":""}]
[null,{"$f":"IF(E665=\"\",\"\",COUNT($E$24:$E$452)-COUNT(E$452:$E666))","v":""}]
[null,{"$f":"IF(E666=\"\",\"\",COUNT($E$24:$E$452)-COUNT(E$452:$E667))","v":""}]
[null,{"$f":"IF(E667=\"\",\"\",COUNT($E$24:$E$452)-COUNT(E$452:$E668))","v":""}]
[null,{"$f":"IF(E668=\"\",\"\",COUNT($E$24:$E$452)-COUNT(E$452:$E669))","v":""}]
[null,{"$f":"IF(E669=\"\",\"\",COUNT($E$24:$E$452)-COUNT(E$452:$E670))","v":""}]
[null,{"$f":"IF(E670=\"\",\"\",COUNT($E$24:$E$452)-COUNT(E$452:$E671))","v":""}]
[null,{"$f":"IF(E671=\"\",\"\",COUNT($E$24:$E$452)-COUNT(E$452:$E672))","v":""}]
[null,{"$f":"IF(E672=\"\",\"\",COUNT($E$24:$E$452)-COUNT(E$452:$E673))","v":""}]
[null,{"$f":"IF(E673=\"\",\"\",COUNT($E$24:$E$452)-COUNT(E$452:$E674))","v":""}]
[null,{"$f":"IF(E674=\"\",\"\",COUNT($E$24:$E$452)-COUNT(E$452:$E675))","v":""}]
[null,{"$f":"IF(E675=\"\",\"\",COUNT($E$24:$E$452)-COUNT(E$452:$E676))","v":""}]
[null,{"$f":"IF(E676=\"\",\"\",COUNT($E$24:$E$452)-COUNT(E$452:$E677))","v":""}]
[null,{"$f":"IF(E677=\"\",\"\",COUNT($E$24:$E$452)-COUNT(E$452:$E678))","v":""}]
[null,{"$f":"IF(E678=\"\",\"\",COUNT($E$24:$E$452)-COUNT(E$452:$E679))","v":""}]
[null,{"$f":"IF(E679=\"\",\"\",COUNT($E$24:$E$452)-COUNT(E$452:$E680))","v":""}]
[null,{"$f":"IF(E680=\"\",\"\",COUNT($E$24:$E$452)-COUNT(E$452:$E681))","v":""}]
[null,{"$f":"IF(E681=\"\",\"\",COUNT($E$24:$E$452)-COUNT(E$452:$E682))","v":""}]
[null,{"$f":"IF(E682=\"\",\"\",COUNT($E$24:$E$452)-COUNT(E$452:$E683))","v":""}]
[null,{"$f":"IF(E683=\"\",\"\",COUNT($E$24:$E$452)-COUNT(E$452:$E684))","v":""}]
[null,{"$f":"IF(E684=\"\",\"\",COUNT($E$24:$E$452)-COUNT(E$452:$E685))","v":""}]
[null,{"$f":"IF(E685=\"\",\"\",COUNT($E$24:$E$452)-COUNT(E$452:$E686))","v":""}]
[null,{"$f":"IF(E686=\"\",\"\",COUNT($E$24:$E$452)-COUNT(E$452:$E687))","v":""}]
[null,{"$f":"IF(E687=\"\",\"\",COUNT($E$24:$E$452)-COUNT(E$452:$E688))","v":""}]
[null,{"$f":"IF(E688=\"\",\"\",COUNT($E$24:$E$452)-COUNT(E$452:$E689))","v":""}]
[null,{"$f":"IF(E689=\"\",\"\",COUNT($E$24:$E$452)-COUNT(E$452:$E690))","v":""}]
[null,{"$f":"IF(E690=\"\",\"\",COUNT($E$24:$E$452)-COUNT(E$452:$E691))","v":""}]
[null,{"$f":"IF(E691=\"\",\"\",COUNT($E$24:$E$452)-COUNT(E$452:$E692))","v":""}]
[null,{"$f":"IF(E692=\"\",\"\",COUNT($E$24:$E$452)-COUNT(E$452:$E693))","v":""}]
[null,{"$f":"IF(E693=\"\",\"\",COUNT($E$24:$E$452)-COUNT(E$452:$E694))","v":""}]
[null,{"$f":"IF(E694=\"\",\"\",COUNT($E$24:$E$452)-COUNT(E$452:$E695))","v":""}]
[null,{"$f":"IF(E695=\"\",\"\",COUNT($E$24:$E$452)-COUNT(E$452:$E696))","v":""}]
[null,{"$f":"IF(E696=\"\",\"\",COUNT($E$24:$E$452)-COUNT(E$452:$E697))","v":""}]
[null,{"$f":"IF(E697=\"\",\"\",COUNT($E$24:$E$452)-COUNT(E$452:$E698))","v":""}]
[null,{"$f":"IF(E698=\"\",\"\",COUNT($E$24:$E$452)-COUNT(E$452:$E699))","v":""}]
[null,{"$f":"IF(E699=\"\",\"\",COUNT($E$24:$E$452)-COUNT(E$452:$E700))","v":""}]
[null,{"$f":"IF(E700=\"\",\"\",COUNT($E$24:$E$452)-COUNT(E$452:$E701))","v":""}]
[null,{"$f":"IF(E701=\"\",\"\",COUNT($E$24:$E$452)-COUNT(E$452:$E702))","v":""}]
[null,{"$f":"IF(E702=\"\",\"\",COUNT($E$24:$E$452)-COUNT(E$452:$E703))","v":""}]
[null,{"$f":"IF(E703=\"\",\"\",COUNT($E$24:$E$452)-COUNT(E$452:$E704))","v":""}]
[null,{"$f":"IF(E704=\"\",\"\",COUNT($E$24:$E$452)-COUNT(E$452:$E705))","v":""}]
[null,{"$f":"IF(E705=\"\",\"\",COUNT($E$24:$E$452)-COUNT(E$452:$E706))","v":""}]
[null,{"$f":"IF(E706=\"\",\"\",COUNT($E$24:$E$452)-COUNT(E$452:$E707))","v":""}]
[null,{"$f":"IF(E707=\"\",\"\",COUNT($E$24:$E$452)-COUNT(E$452:$E708))","v":""}]

{"sheet":"CMS_Identification","index":5,"n_rows":14,"n_cols":4,"rows_kept":14,"cut":false,"hidden":false,"merged":[]}
[null,"DO NOT REMOVE OR EDIT INFORMATION IN ROWS 1 THROUGH 5\nFOR INTERNAL USE ONLY"]
[null,"Template Name",{"$f":"+Welcome!B2","v":"63.9350(a) Semiannual Compliance Report (Spreadsheet Template)"}]
[null,"CitationID",{"$f":"+Welcome!B3","v":"63.9350(a)"}]
[null,"Template Version",{"$f":"+Welcome!B4","v":"v3.01"}]
[null,"Last Updated Date",{"$f":"+Welcome!B5","v":45391}]
[]
[null,"40 CFR Part 63, Subpart PPPPP National Emission Standards for Hazardous Air Pollutants for Engine Test Cells/Stands - "]
[null,"§63.9350(a)  Semiannual Compliance Report Spreadsheet Template"]
[]
[]
[null,"* Required Field"]
[null,"Company Record No. *\n(Select from dropdown)","Monitoring Equipment Manufacturer and Model Number *\n(§63.9350(d)(5))","Date of Last CPMS or CEMS Certification or Audit *\n(§63.9350(d)(6))"]
[null,"RecordId","MonitorEqDesc","CPMSAuditDate"]
[null,"e.g.: 1","e.g.: TC1792 PM Filter Bank Inlet Temperature","e.g.: 2/2/2019"]

{"sheet":"CMS_Detail","index":6,"n_rows":500,"n_cols":10,"rows_kept":500,"cut":false,"hidden":false,"merged":[]}
[null,"DO NOT REMOVE OR EDIT INFORMATION IN ROWS 1 THROUGH 5\nFOR INTERNAL USE ONLY"]
[null,"Template Name",{"$f":"+Welcome!B2","v":"63.9350(a) Semiannual Compliance Report (Spreadsheet Template)"}]
[null,"CitationID",{"$f":"+Welcome!B3","v":"63.9350(a)"}]
[null,"Template Version",{"$f":"+Welcome!B4","v":"v3.01"}]
[null,"Last Updated Date",{"$f":"+Welcome!B5","v":45391}]
[]
[null,"40 CFR Part 63, Subpart PPPPP National Emission Standards for Hazardous Air Pollutants for Engine Test Cells/Stands - "]
[null,"§63.9350(a)  Semiannual Compliance Report Spreadsheet Template"]
[]
[]
[null,"* Required Field"]
[null,"Company Record No. *\n(Select from dropdown)","Monitoring Equipment Manufacturer and Model Number *\n(§63.9350(d)(5))\n(Select from dropdown)","CMS Inoperative or \nOut of Control *\n(Select from dropdown)","Starting Date CMS \nInoperative or Out of Control *\n(§63.9350(d)(1) or (2))","Starting Time CMS Inoperative or Out of Control *\n(§63.9350(d)(1) or (2))","Ending Date CMS \nInoperative or Out of Control *\n(§63.9350(d)(1) or (2))","Ending Time CMS Inoperative or Out of Control *\n(§63.9350(d)(1) or (2))","Duration CMS Inoperative \nor Out of Control (hours)\n(Calculated value used in calculations on Summary_Report_CMS tab)","Cause of Deviation *\n(§63.9350(d)(4))"]
[null,"RecordId","MonitorEqDesc","CPMSOutageDescription","CPMSOutageStartDate","CPMSOutageStartTime","CPMSOutageEndDate","CPMSOutageEndTime","CPMSOutageDuration","CPMSOutageCause"]
[null,"e.g.: 1","e.g.: TC1792 PM Filter Bank Inlet Temperature","e.g. Inoperative","e.g.: 3/2/2019","e.g.: 15:52","3/5/2019","e.g.: 15:52","e.g.: 72.0","e.g.: Monitoring Equipment Malfunction"]
[]
[]
[]
[]
[]
[]
[]
[]
[]
[null,null,null,null,null,null,null,null,{"$f":"IF(H24=\"\",\"\",(VALUE(TEXT(G24,\"m/dd/yy \")&TEXT(H24,\"hh:mm:ss\"))-(VALUE(TEXT(E24,\"m/dd/yy \")&TEXT(F24,\"hh:mm:ss\"))))*24)","v":""}]
[null,null,"",null,null,null,null,null,""]
[null,null,null,null,null,null,null,null,""]
[null,null,null,null,null,null,null,null,""]
[null,null,null,null,null,null,null,null,""]
[null,null,null,null,null,null,null,null,""]
[null,null,null,null,null,null,null,null,""]
[null,null,null,null,null,null,null,null,""]
[null,null,null,null,null,null,null,null,""]
[null,null,null,null,null,null,null,null,""]
[null,null,null,null,null,null,null,null,""]
[null,null,null,null,null,null,null,null,""]
[null,null,null,null,null,null,null,null,""]
[null,null,null,null,null,null,null,null,""]
[null,null,null,null,null,null,null,null,""]
[null,null,null,null,null,null,null,null,""]
[null,null,null,null,null,null,null,null,""]
[null,null,null,null,null,null,null,null,""]
[null,null,null,null,null,null,null,null,""]
[null,null,null,null,null,null,null,null,""]
[null,null,null,null,null,null,null,null,""]
[null,null,null,null,null,null,null,null,""]
[null,null,null,null,null,null,null,null,""]
[null,null,null,null,null,null,null,null,""]
[null,null,null,null,null,null,null,null,""]
[null,null,null,null,null,null,null,null,""]
[null,null,null,null,null,null,null,null,""]
[null,null,null,null,null,null,null,null,""]
[null,null,null,null,null,null,null,null,""]
[null,null,null,null,null,null,null,null,""]
[null,null,null,null,null,null,null,null,""]
[null,null,null,null,null,null,null,null,""]
[null,null,null,null,null,null,null,null,""]
[null,null,null,null,null,null,null,null,""]
[null,null,null,null,null,null,null,null,""]
[null,null,null,null,null,null,null,null,""]
[null,null,null,null,null,null,null,null,""]
[null,null,null,null,null,null,null,null,""]
[null,null,null,null,null,null,null,null,""]
[null,null,null,null,null,null,null,null,""]
[null,null,null,null,null,null,null,null,""]
[null,null,null,null,null,null,null,null,""]
[null,null,null,null,null,null,null,null,""]
[null,null,null,null,null,null,null,null,""]
[null,null,null,null,null,null,null,null,""]
[null,null,null,null,null,null,null,null,""]
[null,null,null,null,null,null,null,null,""]
[null,null,null,null,null,null,null,null,""]
[null,null,null,null,null,null,null,null,""]
[null,null,null,null,null,null,null,null,""]
[null,null,null,null,null,null,null,null,""]
[null,null,null,null,null,null,null,null,""]
[null,null,null,null,null,null,null,null,""]
[null,null,null,null,null,null,null,null,""]
[null,null,null,null,null,null,null,null,""]
[null,null,null,null,null,null,null,null,""]
[null,null,null,null,null,null,null,null,""]
[null,null,null,null,null,null,null,null,""]
[null,null,null,null,null,null,null,null,""]
[null,null,null,null,null,null,null,null,""]
[null,null,null,null,null,null,null,null,""]
[null,null,null,null,null,null,null,null,""]
[null,null,null,null,null,null,null,null,""]
[null,null,null,null,null,null,null,null,""]
[null,null,null,null,null,null,null,null,""]
[null,null,null,null,null,null,null,null,{"$f":"IF(H89=\"\",\"\",(VALUE(TEXT(G89,\"m/dd/yy \")&TEXT(H89,\"hh:mm:ss\"))-(VALUE(TEXT(E89,\"m/dd/yy \")&TEXT(F89,\"hh:mm:ss\"))))*24)","v":""}]
[null,null,null,null,null,null,null,null,""]
[null,null,null,null,null,null,null,null,""]
[null,null,null,null,null,null,null,null,""]
[null,null,null,null,null,null,null,null,""]
[null,null,null,null,null,null,null,null,""]
[null,null,null,null,null,null,null,null,""]
[null,null,null,null,null,null,null,null,""]
[null,null,null,null,null,null,null,null,""]
[null,null,null,null,null,null,null,null,""]
[null,null,null,null,null,null,null,null,""]
[null,null,null,null,null,null,null,null,""]
[null,null,null,null,null,null,null,null,""]
[null,null,null,null,null,null,null,null,""]
[null,null,null,null,null,null,null,null,""]
[null,null,null,null,null,null,null,null,""]
[null,null,null,null,null,null,null,null,""]
[null,null,null,null,null,null,null,null,""]
[null,null,null,null,null,null,null,null,""]
[null,null,null,null,null,null,null,null,""]
[null,null,null,null,null,null,null,null,""]
[null,null,null,null,null,null,null,null,""]
[null,null,null,null,null,null,null,null,""]
[null,null,null,null,null,null,null,null,""]
[null,null,null,null,null,null,null,null,""]
[null,null,null,null,null,null,null,null,""]
[null,null,null,null,null,null,null,null,""]
[null,null,null,null,null,null,null,null,""]
[null,null,null,null,null,null,null,null,""]
[null,null,null,null,null,null,null,null,""]
[null,null,null,null,null,null,null,null,""]
[null,null,null,null,null,null,null,null,""]
[null,null,null,null,null,null,null,null,""]
[null,null,null,null,null,null,null,null,""]
[null,null,null,null,null,null,null,null,""]
[null,null,null,null,null,null,null,null,""]
[null,null,null,null,null,null,null,null,""]
[null,null,null,null,null,null,null,null,""]
[null,null,null,null,null,null,null,null,""]
[null,null,null,null,null,null,null,null,""]
[null,null,null,null,null,null,null,null,""]
[null,null,null,null,null,null,null,null,""]
[null,null,null,null,null,null,null,null,""]
[null,null,null,null,null,null,null,null,""]
[null,null,null,null,null,null,null,null,""]
[null,null,null,null,null,null,null,null,""]
[null,null,null,null,null,null,null,null,""]
[null,null,null,null,null,null,null,null,""]
[null,null,null,null,null,null,null,null,""]
[null,null,null,null,null,null,null,null,""]
[null,null,null,null,null,null,null,null,""]
[null,null,null,null,null,null,null,null,""]
[null,null,null,null,null,null,null,null,""]
[null,null,null,null,null,null,null,null,""]
[null,null,null,null,null,null,null,null,""]
[null,null,null,null,null,null,null,null,""]
[null,null,null,null,null,null,null,null,""]
[null,null,null,null,null,null,null,null,""]
[null,null,null,null,null,null,null,null,""]
[null,null,null,null,null,null,null,null,""]
[null,null,null,null,null,null,null,null,""]
[null,null,null,null,null,null,null,null,""]
[null,null,null,null,null,null,null,null,""]
[null,null,null,null,null,null,null,null,""]
[null,null,null,null,null,null,null,null,{"$f":"IF(H153=\"\",\"\",(VALUE(TEXT(G153,\"m/dd/yy \")&TEXT(H153,\"hh:mm:ss\"))-(VALUE(TEXT(E153,\"m/dd/yy \")&TEXT(F153,\"hh:mm:ss\"))))*24)","v":""}]
[null,null,null,null,null,null,null,null,""]
[null,null,null,null,null,null,null,null,""]
[null,null,null,null,null,null,null,null,""]
[null,null,null,null,null,null,null,null,""]
[null,null,null,null,null,null,null,null,""]
[null,null,null,null,null,null,null,null,""]
[null,null,null,null,null,null,null,null,""]
[null,null,null,null,null,null,null,null,""]
[null,null,null,null,null,null,null,null,""]
[null,null,null,null,null,null,null,null,""]
[null,null,null,null,null,null,null,null,""]
[null,null,null,null,null,null,null,null,""]
[null,null,null,null,null,null,null,null,""]
[null,null,null,null,null,null,null,null,""]
[null,null,null,null,null,null,null,null,""]
[null,null,null,null,null,null,null,null,""]
[null,null,null,null,null,null,null,null,""]
[null,null,null,null,null,null,null,null,""]
[null,null,null,null,null,null,null,null,""]
[null,null,null,null,null,null,null,null,""]
[null,null,null,null,null,null,null,null,""]
[null,null,null,null,null,null,null,null,""]
[null,null,null,null,null,null,null,null,""]
[null,null,null,null,null,null,null,null,""]
[null,null,null,null,null,null,null,null,""]
[null,null,null,null,null,null,null,null,""]
[null,null,null,null,null,null,null,null,""]
[null,null,null,null,null,null,null,null,""]
[null,null,null,null,null,null,null,null,""]
[null,null,null,null,null,null,null,null,""]
[null,null,null,null,null,null,null,null,""]
[null,null,null,null,null,null,null,null,""]
[null,null,null,null,null,null,null,null,""]
[null,null,null,null,null,null,null,null,""]
[null,null,null,null,null,null,null,null,""]
[null,null,null,null,null,null,null,null,""]
[null,null,null,null,null,null,null,null,""]
[null,null,null,null,null,null,null,null,""]
[null,null,null,null,null,null,null,null,""]
[null,null,null,null,null,null,null,null,""]
[null,null,null,null,null,null,null,null,""]
[null,null,null,null,null,null,null,null,""]
[null,null,null,null,null,null,null,null,""]
[null,null,null,null,null,null,null,null,""]
[null,null,null,null,null,null,null,null,""]
[null,null,null,null,null,null,null,null,""]
[null,null,null,null,null,null,null,null,""]
[null,null,null,null,null,null,null,null,""]
[null,null,null,null,null,null,null,null,""]
[null,null,null,null,null,null,null,null,""]
[null,null,null,null,null,null,null,null,""]
[null,null,null,null,null,null,null,null,""]
[null,null,null,null,null,null,null,null,""]
[null,null,null,null,null,null,null,null,""]
[null,null,null,null,null,null,null,null,""]
[null,null,null,null,null,null,null,null,""]
[null,null,null,null,null,null,null,null,""]
[null,null,null,null,null,null,null,null,""]
[null,null,null,null,null,null,null,null,""]
[null,null,null,null,null,null,null,null,""]
[null,null,null,null,null,null,null,null,""]
[null,null,null,null,null,null,null,null,""]
[null,null,null,null,null,null,null,null,""]
[null,null,null,null,null,null,null,null,{"$f":"IF(H217=\"\",\"\",(VALUE(TEXT(G217,\"m/dd/yy \")&TEXT(H217,\"hh:mm:ss\"))-(VALUE(TEXT(E217,\"m/dd/yy \")&TEXT(F217,\"hh:mm:ss\"))))*24)","v":""}]
[null,null,null,null,null,null,null,null,""]
[null,null,null,null,null,null,null,null,""]
[null,null,null,null,null,null,null,null,""]
[null,null,null,null,null,null,null,null,""]
[null,null,null,null,null,null,null,null,""]
[null,null,null,null,null,null,null,null,""]
[null,null,null,null,null,null,null,null,""]
[null,null,null,null,null,null,null,null,""]
[null,null,null,null,null,null,null,null,""]
[null,null,null,null,null,null,null,null,""]
[null,null,null,null,null,null,null,null,""]
[null,null,null,null,null,null,null,null,""]
[null,null,null,null,null,null,null,null,""]
[null,null,null,null,null,null,null,null,""]
[null,null,null,null,null,null,null,null,""]
[null,null,null,null,null,null,null,null,""]
[null,null,null,null,null,null,null,null,""]
[null,null,null,null,null,null,null,null,""]
[null,null,null,null,null,null,null,null,""]
[null,null,null,null,null,null,null,null,""]
[null,null,null,null,null,null,null,null,""]
[null,null,null,null,null,null,null,null,""]
[null,null,null,null,null,null,null,null,""]
[null,null,null,null,null,null,null,null,""]
[null,null,null,null,null,null,null,null,""]
[null,null,null,null,null,null,null,null,""]
[null,null,null,null,null,null,null,null,""]
[null,null,null,null,null,null,null,null,""]
[null,null,null,null,null,null,null,null,""]
[null,null,null,null,null,null,null,null,""]
[null,null,null,null,null,null,null,null,""]
[null,null,null,null,null,null,null,null,""]
[null,null,null,null,null,null,null,null,""]
[null,null,null,null,null,null,null,null,""]
[null,null,null,null,null,null,null,null,""]
[null,null,null,null,null,null,null,null,""]
[null,null,null,null,null,null,null,null,""]
[null,null,null,null,null,null,null,null,""]
[null,null,null,null,null,null,null,null,""]
[null,null,null,null,null,null,null,null,""]
[null,null,null,null,null,null,null,null,""]
[null,null,null,null,null,null,null,null,""]
[null,null,null,null,null,null,null,null,""]
[null,null,null,null,null,null,null,null,""]
[null,null,null,null,null,null,null,null,""]
[null,null,null,null,null,null,null,null,""]
[null,null,null,null,null,null,null,null,""]
[null,null,null,null,null,null,null,null,""]
[null,null,null,null,null,null,null,null,""]
[null,null,null,null,null,null,null,null,""]
[null,null,null,null,null,null,null,null,""]
[null,null,null,null,null,null,null,null,""]
[null,null,null,null,null,null,null,null,""]
[null,null,null,null,null,null,null,null,""]
[null,null,null,null,null,null,null,null,""]
[null,null,null,null,null,null,null,null,""]
[null,null,null,null,null,null,null,null,""]
[null,null,null,null,null,null,null,null,""]
[null,null,null,null,null,null,null,null,""]
[null,null,null,null,null,null,null,null,""]
[null,null,null,null,null,null,null,null,""]
[null,null,null,null,null,null,null,null,""]
[null,null,null,null,null,null,null,null,""]
[null,null,null,null,null,null,null,null,{"$f":"IF(H281=\"\",\"\",(VALUE(TEXT(G281,\"m/dd/yy \")&TEXT(H281,\"hh:mm:ss\"))-(VALUE(TEXT(E281,\"m/dd/yy \")&TEXT(F281,\"hh:mm:ss\"))))*24)","v":""}]
[null,null,null,null,null,null,null,null,""]
[null,null,null,null,null,null,null,null,""]
[null,null,null,null,null,null,null,null,""]
[null,null,null,null,null,null,null,null,""]
[null,null,null,null,null,null,null,null,""]
[null,null,null,null,null,null,null,null,""]
[null,null,null,null,null,null,null,null,""]
[null,null,null,null,null,null,null,null,""]
[null,null,null,null,null,null,null,null,""]
[null,null,null,null,null,null,null,null,""]
[null,null,null,null,null,null,null,null,""]
[null,null,null,null,null,null,null,null,""]
[null,null,null,null,null,null,null,null,""]
[null,null,null,null,null,null,null,null,""]
[null,null,null,null,null,null,null,null,""]
[null,null,null,null,null,null,null,null,""]
[null,null,null,null,null,null,null,null,""]
[null,null,null,null,null,null,null,null,""]
[null,null,null,null,null,null,null,null,""]
[null,null,null,null,null,null,null,null,""]
[null,null,null,null,null,null,null,null,""]
[null,null,null,null,null,null,null,null,""]
[null,null,null,null,null,null,null,null,""]
[null,null,null,null,null,null,null,null,""]
[null,null,null,null,null,null,null,null,""]
[null,null,null,null,null,null,null,null,""]
[null,null,null,null,null,null,null,null,""]
[null,null,null,null,null,null,null,null,""]
[null,null,null,null,null,null,null,null,""]
[null,null,null,null,null,null,null,null,""]
[null,null,null,null,null,null,null,null,""]
[null,null,null,null,null,null,null,null,""]
[null,null,null,null,null,null,null,null,""]
[null,null,null,null,null,null,null,null,""]
[null,null,null,null,null,null,null,null,""]
[null,null,null,null,null,null,null,null,""]
[null,null,null,null,null,null,null,null,""]
[null,null,null,null,null,null,null,null,""]
[null,null,null,null,null,null,null,null,""]
[null,null,null,null,null,null,null,null,""]
[null,null,null,null,null,null,null,null,""]
[null,null,null,null,null,null,null,null,""]
[null,null,null,null,null,null,null,null,""]
[null,null,null,null,null,null,null,null,""]
[null,null,null,null,null,null,null,null,""]
[null,null,null,null,null,null,null,null,""]
[null,null,null,null,null,null,null,null,""]
[null,null,null,null,null,null,null,null,""]
[null,null,null,null,null,null,null,null,""]
[null,null,null,null,null,null,null,null,""]
[null,null,null,null,null,null,null,null,""]
[null,null,null,null,null,null,null,null,""]
[null,null,null,null,null,null,null,null,""]
[null,null,null,null,null,null,null,null,""]
[null,null,null,null,null,null,null,null,""]
[null,null,null,null,null,null,null,null,""]
[null,null,null,null,null,null,null,null,""]
[null,null,null,null,null,null,null,null,""]
[null,null,null,null,null,null,null,null,""]
[null,null,null,null,null,null,null,null,""]
[null,null,null,null,null,null,null,null,""]
[null,null,null,null,null,null,null,null,""]
[null,null,null,null,null,null,null,null,""]
[null,null,null,null,null,null,null,null,{"$f":"IF(H345=\"\",\"\",(VALUE(TEXT(G345,\"m/dd/yy \")&TEXT(H345,\"hh:mm:ss\"))-(VALUE(TEXT(E345,\"m/dd/yy \")&TEXT(F345,\"hh:mm:ss\"))))*24)","v":""}]
[null,null,null,null,null,null,null,null,""]
[null,null,null,null,null,null,null,null,""]
[null,null,null,null,null,null,null,null,""]
[null,null,null,null,null,null,null,null,""]
[null,null,null,null,null,null,null,null,""]
[null,null,null,null,null,null,null,null,""]
[null,null,null,null,null,null,null,null,""]
[null,null,null,null,null,null,null,null,""]
[null,null,null,null,null,null,null,null,""]
[null,null,null,null,null,null,null,null,""]
[null,null,null,null,null,null,null,null,""]
[null,null,null,null,null,null,null,null,""]
[null,null,null,null,null,null,null,null,""]
[null,null,null,null,null,null,null,null,""]
[null,null,null,null,null,null,null,null,""]
[null,null,null,null,null,null,null,null,""]
[null,null,null,null,null,null,null,null,""]
[null,null,null,null,null,null,null,null,""]
[null,null,null,null,null,null,null,null,""]
[null,null,null,null,null,null,null,null,""]
[null,null,null,null,null,null,null,null,""]
[null,null,null,null,null,null,null,null,""]
[null,null,null,null,null,null,null,null,""]
[null,null,null,null,null,null,null,null,""]
[null,null,null,null,null,null,null,null,""]
[null,null,null,null,null,null,null,null,""]
[null,null,null,null,null,null,null,null,""]
[null,null,null,null,null,null,null,null,""]
[null,null,null,null,null,null,null,null,""]
[null,null,null,null,null,null,null,null,""]
[null,null,null,null,null,null,null,null,""]
[null,null,null,null,null,null,null,null,""]
[null,null,null,null,null,null,null,null,""]
[null,null,null,null,null,null,null,null,""]
[null,null,null,null,null,null,null,null,""]
[null,null,null,null,null,null,null,null,""]
[null,null,null,null,null,null,null,null,""]
[null,null,null,null,null,null,null,null,""]
[null,null,null,null,null,null,null,null,""]
[null,null,null,null,null,null,null,null,""]
[null,null,null,null,null,null,null,null,""]
[null,null,null,null,null,null,null,null,""]
[null,null,null,null,null,null,null,null,""]
[null,null,null,null,null,null,null,null,""]
[null,null,null,null,null,null,null,null,""]
[null,null,null,null,null,null,null,null,""]
[null,null,null,null,null,null,null,null,""]
[null,null,null,null,null,null,null,null,""]
[null,null,null,null,null,null,null,null,""]
[null,null,null,null,null,null,null,null,""]
[null,null,null,null,null,null,null,null,""]
[null,null,null,null,null,null,null,null,""]
[null,null,null,null,null,null,null,null,""]
[null,null,null,null,null,null,null,null,""]
[null,null,null,null,null,null,null,null,""]
[null,null,null,null,null,null,null,null,""]
[null,null,null,null,null,null,null,null,""]
[null,null,null,null,null,null,null,null,""]
[null,null,null,null,null,null,null,null,""]
[null,null,null,null,null,null,null,null,""]
[null,null,null,null,null,null,null,null,""]
[null,null,null,null,null,null,null,null,""]
[null,null,null,null,null,null,null,null,""]
[null,null,null,null,null,null,null,null,{"$f":"IF(H409=\"\",\"\",(VALUE(TEXT(G409,\"m/dd/yy \")&TEXT(H409,\"hh:mm:ss\"))-(VALUE(TEXT(E409,\"m/dd/yy \")&TEXT(F409,\"hh:mm:ss\"))))*24)","v":""}]
[null,null,null,null,null,null,null,null,""]
[null,null,null,null,null,null,null,null,""]
[null,null,null,null,null,null,null,null,""]
[null,null,null,null,null,null,null,null,""]
[null,null,null,null,null,null,null,null,""]
[null,null,null,null,null,null,null,null,""]
[null,null,null,null,null,null,null,null,""]
[null,null,null,null,null,null,null,null,""]
[null,null,null,null,null,null,null,null,""]
[null,null,null,null,null,null,null,null,""]
[null,null,null,null,null,null,null,null,""]
[null,null,null,null,null,null,null,null,""]
[null,null,null,null,null,null,null,null,""]
[null,null,null,null,null,null,null,null,""]
[null,null,null,null,null,null,null,null,""]
[null,null,null,null,null,null,null,null,""]
[null,null,null,null,null,null,null,null,""]
[null,null,null,null,null,null,null,null,""]
[null,null,null,null,null,null,null,null,""]
[null,null,null,null,null,null,null,null,""]
[null,null,null,null,null,null,null,null,""]
[null,null,null,null,null,null,null,null,""]
[null,null,null,null,null,null,null,null,""]
[null,null,null,null,null,null,null,null,""]
[null,null,null,null,null,null,null,null,""]
[null,null,null,null,null,null,null,null,""]
[null,null,null,null,null,null,null,null,""]
[null,null,null,null,null,null,null,null,""]
[null,null,null,null,null,null,null,null,""]
[null,null,null,null,null,null,null,null,""]
[null,null,null,null,null,null,null,null,""]
[null,null,null,null,null,null,null,null,""]
[null,null,null,null,null,null,null,null,""]
[null,null,null,null,null,null,null,null,""]
[null,null,null,null,null,null,null,null,""]
[null,null,null,null,null,null,null,null,""]
[null,null,null,null,null,null,null,null,""]
[null,null,null,null,null,null,null,null,""]
[null,null,null,null,null,null,null,null,""]
[null,null,null,null,null,null,null,null,""]
[null,null,null,null,null,null,null,null,""]
[null,null,null,null,null,null,null,null,""]
[null,null,null,null,null,null,null,null,""]
[null,null,null,null,null,null,null,null,""]
[null,null,null,null,null,null,null,null,""]
[null,null,null,null,null,null,null,null,""]
[null,null,null,null,null,null,null,null,""]
[null,null,null,null,null,null,null,null,""]
[null,null,null,null,null,null,null,null,""]
[null,null,null,null,null,null,null,null,""]
[null,null,null,null,null,null,null,null,""]
[null,null,null,null,null,null,null,null,""]
[null,null,null,null,null,null,null,null,""]
[null,null,null,null,null,null,null,null,""]
[null,null,null,null,null,null,null,null,""]
[null,null,null,null,null,null,null,null,""]
[null,null,null,null,null,null,null,null,""]
[null,null,null,null,null,null,null,null,""]
[null,null,null,null,null,null,null,null,""]
[null,null,null,null,null,null,null,null,""]
[null,null,null,null,null,null,null,null,""]
[null,null,null,null,null,null,null,null,""]
[null,null,null,null,null,null,null,null,""]
[null,null,null,null,null,null,null,null,{"$f":"IF(H473=\"\",\"\",(VALUE(TEXT(G473,\"m/dd/yy \")&TEXT(H473,\"hh:mm:ss\"))-(VALUE(TEXT(E473,\"m/dd/yy \")&TEXT(F473,\"hh:mm:ss\"))))*24)","v":""}]
[null,null,null,null,null,null,null,null,""]
[null,null,null,null,null,null,null,null,""]
[null,null,null,null,null,null,null,null,""]
[null,null,null,null,null,null,null,null,""]
[null,null,null,null,null,null,null,null,""]
[null,null,null,null,null,null,null,null,""]
[null,null,null,null,null,null,null,null,""]
[null,null,null,null,null,null,null,null,""]
[null,null,null,null,null,null,null,null,""]
[null,null,null,null,null,null,null,null,""]
[null,null,null,null,null,null,null,null,""]
[null,null,null,null,null,null,null,null,""]
[null,null,null,null,null,null,null,null,""]
[null,null,null,null,null,null,null,null,""]
[null,null,null,null,null,null,null,null,""]
[null,null,null,null,null,null,null,null,""]
[null,null,null,null,null,null,null,null,""]
[null,null,null,null,null,null,null,null,""]
[null,null,null,null,null,null,null,null,""]
[null,null,null,null,null,null,null,null,""]
[null,null,null,null,null,null,null,null,""]
[null,null,null,null,null,null,null,null,""]
[null,null,null,null,null,null,null,null,""]
[null,null,null,null,null,null,null,null,""]
[null,null,null,null,null,null,null,null,""]
[null,null,null,null,null,null,null,null,""]
[null,null,null,null,null,null,null,null,""]

{"sheet":"Summary_Report_CMS","index":7,"n_rows":100,"n_cols":11,"rows_kept":100,"cut":false,"hidden":false,"merged":[]}
[null,"DO NOT REMOVE OR EDIT INFORMATION IN ROWS 1 THROUGH 5\nFOR INTERNAL USE ONLY"]
[null,"Template Name",{"$f":"+Welcome!B2","v":"63.9350(a) Semiannual Compliance Report (Spreadsheet Template)"}]
[null,"CitationID",{"$f":"+Welcome!B3","v":"63.9350(a)"}]
[null,"Template Version",{"$f":"+Welcome!B4","v":"v3.01"}]
[null,"Last Updated Date",{"$f":"+Welcome!B5","v":45391}]
[]
[null,"40 CFR Part 63, Subpart PPPPP National Emission Standards for Hazardous Air Pollutants for Engine Test Cells/Stands - "]
[null,"§63.9350(a)  Semiannual Compliance Report Spreadsheet Template"]
[]
[]
[null,"* Required Field"]
[null,"Company Record No. *\n(Autocompleted)","Monitoring Equipment Manufacturer and Model Number *\n(§63.9350(d)(5))\n(Autocompleted)","Total \nOperating Time *\n(hours)\n(§63.9350(d)(11))","Total Duration of CMS\n Downtime * (hours) \n(§63.9350(d)(3))\n(Calculated value)","Total Duration of\n CMS Downtime as\n a percent of Total\n Source Operating Time *\n(§63.9350(d)(3))\n(Calculated value)","Total Duration of\n CMS Downtime Due\n to Monitoring Equipment\n Malfunctions * (hours)   \n(§63.9350(d)(4))\n(Calculated value)","Total Duration of\n CMS Downtime\n Due to Nonmonitoring Equipment Malfunctions * (hours)  \n(§63.9350(d)(4))\n(Calculated value)","Total Duration of\n CMS Downtime\n Due to Quality Assurance/Quality Control Calibrations * (hours)  \n(§63.9350(d)(4))\n(Calculated value)","Total Duration of \nCMS Downtime \nDue to Other Known \nCauses * (hours)   \n(§63.9350(d)(4))\n(Calculated value)","Total Duration of\n CMS Downtime \nDue to Other Unknown\n Causes * (hours)   \n(§63.9350(d)(4))\n(Calculated value)"]
[null,"RecordId","MonitorEqDesc","TotalOperatingTime","CPMSDowntimeDuration","CPMSDowntimePercent","CPMSDowntimeMonitoringMal","CPMSDowntimeNonmonitoringMal","CPMSDowntimeCalibrations","CPMSDowntimeOtherKnown","CPMSDowntimeOtherUnknown"]
[null,"e.g.: 1","e.g.: TC1792 PM Filter Bank Inlet Temperature","e.g.: 4310","e.g.: 0.00","e.g.: N/A","e.g.: 0.00","e.g.: 0.00","e.g.: 0.00","e.g.: 0.00","e.g.: 0.00"]
[]
[]
[]
[]
[]
[]
[]
[]
[]
[null,{"$f":"IF(Lists!AI2=\"\",\"\",Lists!AI2)","v":""},{"$f":"IF(Lists!AJ2=\"\",\"\",Lists!AJ2)","v":""},null,{"$f":"IF($D24=\"\",\"\",SUMIFS(CMS_Detail!$I$24:$I$5400,CMS_Detail!$B$24:$B$5400,B24,CMS_Detail!$C$24:$C$5400,C24))","v":""},{"$f":"IF($D24=\"\",\"\",IF(E24=0,\"N/A\",E24/$D24))","v":""},{"$f":"IF(Summary_Report_CMS!$D24=\"\",\"\",SUMIFS(CMS_Detail!$I$24:$I$500,CMS_Detail!$B$24:$B$500,Summary_Report_CMS!B24,CMS_Detail!$C$24:$C$500,Summary_Report_CMS!C24,CMS_Detail!$J$24:$J$500,\"Monitoring Equipment Malfunctions\"))","v":""},{"$f":"IF(Summary_Report_CMS!$D24=\"\",\"\",SUMIFS(CMS_Detail!$I$24:$I$500,CMS_Detail!$B$24:$B$500,B24,CMS_Detail!$C$24:$C$500,Summary_Report_CMS!C24,CMS_Detail!$J$24:$J$500,\"Nonmonitoring Equipment Malfunctions\"))","v":""},{"$f":"IF(Summary_Report_CMS!$D24=\"\",\"\",SUMIFS(CMS_Detail!$I$24:$I$500,CMS_Detail!$B$24:$B$500,B24,CMS_Detail!$C$24:$C$500,Summary_Report_CMS!C24,CMS_Detail!$J$24:$J$500,\"Quality Assurance/Quality Control Calibrations\"))","v":""},{"$f":"IF(Summary_Report_CMS!$D24=\"\",\"\",SUMIFS(CMS_Detail!$I$24:$I$500,CMS_Detail!$B$24:$B$500,B24,CMS_Detail!$C$24:$C$500,Summary_Report_CMS!C24,CMS_Detail!$J$24:$J$500,\"Other Known Causes\"))","v":""},{"$f":"IF(Summary_Report_CMS!$D24=\"\",\"\",SUMIFS(CMS_Detail!$I$24:$I$500,CMS_Detail!$B$24:$B$500,B24,CMS_Detail!$C$24:$C$500,Summary_Report_CMS!C24,CMS_Detail!$J$24:$J$500,\"Other Unknown Causes\"))","v":""}]
[null,{"$f":"IF(Lists!AI3=\"\",\"\",Lists!AI3)","v":""},{"$f":"IF(Lists!AJ3=\"\",\"\",Lists!AJ3)","v":""},null,{"$f":"IF($D25=\"\",\"\",SUMIFS(CMS_Detail!$I$24:$I$5400,CMS_Detail!$B$24:$B$5400,B25,CMS_Detail!$C$24:$C$5400,C25))","v":""},{"$f":"IF($D25=\"\",\"\",IF(E25=0,\"N/A\",E25/$D25))","v":""},{"$f":"IF(Summary_Report_CMS!$D25=\"\",\"\",SUMIFS(CMS_Detail!$I$24:$I$500,CMS_Detail!$B$24:$B$500,Summary_Report_CMS!B25,CMS_Detail!$C$24:$C$500,Summary_Report_CMS!C25,CMS_Detail!$J$24:$J$500,\"Monitoring Equipment Malfunctions\"))","v":""},{"$f":"IF(Summary_Report_CMS!$D25=\"\",\"\",SUMIFS(CMS_Detail!$I$24:$I$500,CMS_Detail!$B$24:$B$500,B25,CMS_Detail!$C$24:$C$500,Summary_Report_CMS!C25,CMS_Detail!$J$24:$J$500,\"Nonmonitoring Equipment Malfunctions\"))","v":""},{"$f":"IF(Summary_Report_CMS!$D25=\"\",\"\",SUMIFS(CMS_Detail!$I$24:$I$500,CMS_Detail!$B$24:$B$500,B25,CMS_Detail!$C$24:$C$500,Summary_Report_CMS!C25,CMS_Detail!$J$24:$J$500,\"Quality Assurance/Quality Control Calibrations\"))","v":""},{"$f":"IF(Summary_Report_CMS!$D25=\"\",\"\",SUMIFS(CMS_Detail!$I$24:$I$500,CMS_Detail!$B$24:$B$500,B25,CMS_Detail!$C$24:$C$500,Summary_Report_CMS!C25,CMS_Detail!$J$24:$J$500,\"Other Known Causes\"))","v":""},{"$f":"IF(Summary_Report_CMS!$D25=\"\",\"\",SUMIFS(CMS_Detail!$I$24:$I$500,CMS_Detail!$B$24:$B$500,B25,CMS_Detail!$C$24:$C$500,Summary_Report_CMS!C25,CMS_Detail!$J$24:$J$500,\"Other Unknown Causes\"))","v":""}]
[null,{"$f":"IF(Lists!AI4=\"\",\"\",Lists!AI4)","v":""},{"$f":"IF(Lists!AJ4=\"\",\"\",Lists!AJ4)","v":""},null,{"$f":"IF($D26=\"\",\"\",SUMIFS(CMS_Detail!$I$24:$I$5400,CMS_Detail!$B$24:$B$5400,B26,CMS_Detail!$C$24:$C$5400,C26))","v":""},"",{"$f":"IF(Summary_Report_CMS!$D26=\"\",\"\",SUMIFS(CMS_Detail!$I$24:$I$500,CMS_Detail!$B$24:$B$500,Summary_Report_CMS!B26,CMS_Detail!$C$24:$C$500,Summary_Report_CMS!C26,CMS_Detail!$J$24:$J$500,\"Monitoring Equipment Malfunctions\"))","v":""},{"$f":"IF(Summary_Report_CMS!$D26=\"\",\"\",SUMIFS(CMS_Detail!$I$24:$I$500,CMS_Detail!$B$24:$B$500,B26,CMS_Detail!$C$24:$C$500,Summary_Report_CMS!C26,CMS_Detail!$J$24:$J$500,\"Nonmonitoring Equipment Malfunctions\"))","v":""},{"$f":"IF(Summary_Report_CMS!$D26=\"\",\"\",SUMIFS(CMS_Detail!$I$24:$I$500,CMS_Detail!$B$24:$B$500,B26,CMS_Detail!$C$24:$C$500,Summary_Report_CMS!C26,CMS_Detail!$J$24:$J$500,\"Quality Assurance/Quality Control Calibrations\"))","v":""},{"$f":"IF(Summary_Report_CMS!$D26=\"\",\"\",SUMIFS(CMS_Detail!$I$24:$I$500,CMS_Detail!$B$24:$B$500,B26,CMS_Detail!$C$24:$C$500,Summary_Report_CMS!C26,CMS_Detail!$J$24:$J$500,\"Other Known Causes\"))","v":""},{"$f":"IF(Summary_Report_CMS!$D26=\"\",\"\",SUMIFS(CMS_Detail!$I$24:$I$500,CMS_Detail!$B$24:$B$500,B26,CMS_Detail!$C$24:$C$500,Summary_Report_CMS!C26,CMS_Detail!$J$24:$J$500,\"Other Unknown Causes\"))","v":""}]
[null,{"$f":"IF(Lists!AI5=\"\",\"\",Lists!AI5)","v":""},{"$f":"IF(Lists!AJ5=\"\",\"\",Lists!AJ5)","v":""},null,{"$f":"IF($D27=\"\",\"\",SUMIFS(CMS_Detail!$I$24:$I$5400,CMS_Detail!$B$24:$B$5400,B27,CMS_Detail!$C$24:$C$5400,C27))","v":""},"",{"$f":"IF(Summary_Report_CMS!$D27=\"\",\"\",SUMIFS(CMS_Detail!$I$24:$I$500,CMS_Detail!$B$24:$B$500,Summary_Report_CMS!B27,CMS_Detail!$C$24:$C$500,Summary_Report_CMS!C27,CMS_Detail!$J$24:$J$500,\"Monitoring Equipment Malfunctions\"))","v":""},{"$f":"IF(Summary_Report_CMS!$D27=\"\",\"\",SUMIFS(CMS_Detail!$I$24:$I$500,CMS_Detail!$B$24:$B$500,B27,CMS_Detail!$C$24:$C$500,Summary_Report_CMS!C27,CMS_Detail!$J$24:$J$500,\"Nonmonitoring Equipment Malfunctions\"))","v":""},{"$f":"IF(Summary_Report_CMS!$D27=\"\",\"\",SUMIFS(CMS_Detail!$I$24:$I$500,CMS_Detail!$B$24:$B$500,B27,CMS_Detail!$C$24:$C$500,Summary_Report_CMS!C27,CMS_Detail!$J$24:$J$500,\"Quality Assurance/Quality Control Calibrations\"))","v":""},{"$f":"IF(Summary_Report_CMS!$D27=\"\",\"\",SUMIFS(CMS_Detail!$I$24:$I$500,CMS_Detail!$B$24:$B$500,B27,CMS_Detail!$C$24:$C$500,Summary_Report_CMS!C27,CMS_Detail!$J$24:$J$500,\"Other Known Causes\"))","v":""},{"$f":"IF(Summary_Report_CMS!$D27=\"\",\"\",SUMIFS(CMS_Detail!$I$24:$I$500,CMS_Detail!$B$24:$B$500,B27,CMS_Detail!$C$24:$C$500,Summary_Report_CMS!C27,CMS_Detail!$J$24:$J$500,\"Other Unknown Causes\"))","v":""}]
[null,{"$f":"IF(Lists!AI6=\"\",\"\",Lists!AI6)","v":""},{"$f":"IF(Lists!AJ6=\"\",\"\",Lists!AJ6)","v":""},null,{"$f":"IF($D28=\"\",\"\",SUMIFS(CMS_Detail!$I$24:$I$5400,CMS_Detail!$B$24:$B$5400,B28,CMS_Detail!$C$24:$C$5400,C28))","v":""},"",{"$f":"IF(Summary_Report_CMS!$D28=\"\",\"\",SUMIFS(CMS_Detail!$I$24:$I$500,CMS_Detail!$B$24:$B$500,Summary_Report_CMS!B28,CMS_Detail!$C$24:$C$500,Summary_Report_CMS!C28,CMS_Detail!$J$24:$J$500,\"Monitoring Equipment Malfunctions\"))","v":""},{"$f":"IF(Summary_Report_CMS!$D28=\"\",\"\",SUMIFS(CMS_Detail!$I$24:$I$500,CMS_Detail!$B$24:$B$500,B28,CMS_Detail!$C$24:$C$500,Summary_Report_CMS!C28,CMS_Detail!$J$24:$J$500,\"Nonmonitoring Equipment Malfunctions\"))","v":""},{"$f":"IF(Summary_Report_CMS!$D28=\"\",\"\",SUMIFS(CMS_Detail!$I$24:$I$500,CMS_Detail!$B$24:$B$500,B28,CMS_Detail!$C$24:$C$500,Summary_Report_CMS!C28,CMS_Detail!$J$24:$J$500,\"Quality Assurance/Quality Control Calibrations\"))","v":""},{"$f":"IF(Summary_Report_CMS!$D28=\"\",\"\",SUMIFS(CMS_Detail!$I$24:$I$500,CMS_Detail!$B$24:$B$500,B28,CMS_Detail!$C$24:$C$500,Summary_Report_CMS!C28,CMS_Detail!$J$24:$J$500,\"Other Known Causes\"))","v":""},{"$f":"IF(Summary_Report_CMS!$D28=\"\",\"\",SUMIFS(CMS_Detail!$I$24:$I$500,CMS_Detail!$B$24:$B$500,B28,CMS_Detail!$C$24:$C$500,Summary_Report_CMS!C28,CMS_Detail!$J$24:$J$500,\"Other Unknown Causes\"))","v":""}]
[null,{"$f":"IF(Lists!AI7=\"\",\"\",Lists!AI7)","v":""},{"$f":"IF(Lists!AJ7=\"\",\"\",Lists!AJ7)","v":""},null,{"$f":"IF($D29=\"\",\"\",SUMIFS(CMS_Detail!$I$24:$I$5400,CMS_Detail!$B$24:$B$5400,B29,CMS_Detail!$C$24:$C$5400,C29))","v":""},"",{"$f":"IF(Summary_Report_CMS!$D29=\"\",\"\",SUMIFS(CMS_Detail!$I$24:$I$500,CMS_Detail!$B$24:$B$500,Summary_Report_CMS!B29,CMS_Detail!$C$24:$C$500,Summary_Report_CMS!C29,CMS_Detail!$J$24:$J$500,\"Monitoring Equipment Malfunctions\"))","v":""},{"$f":"IF(Summary_Report_CMS!$D29=\"\",\"\",SUMIFS(CMS_Detail!$I$24:$I$500,CMS_Detail!$B$24:$B$500,B29,CMS_Detail!$C$24:$C$500,Summary_Report_CMS!C29,CMS_Detail!$J$24:$J$500,\"Nonmonitoring Equipment Malfunctions\"))","v":""},{"$f":"IF(Summary_Report_CMS!$D29=\"\",\"\",SUMIFS(CMS_Detail!$I$24:$I$500,CMS_Detail!$B$24:$B$500,B29,CMS_Detail!$C$24:$C$500,Summary_Report_CMS!C29,CMS_Detail!$J$24:$J$500,\"Quality Assurance/Quality Control Calibrations\"))","v":""},{"$f":"IF(Summary_Report_CMS!$D29=\"\",\"\",SUMIFS(CMS_Detail!$I$24:$I$500,CMS_Detail!$B$24:$B$500,B29,CMS_Detail!$C$24:$C$500,Summary_Report_CMS!C29,CMS_Detail!$J$24:$J$500,\"Other Known Causes\"))","v":""},{"$f":"IF(Summary_Report_CMS!$D29=\"\",\"\",SUMIFS(CMS_Detail!$I$24:$I$500,CMS_Detail!$B$24:$B$500,B29,CMS_Detail!$C$24:$C$500,Summary_Report_CMS!C29,CMS_Detail!$J$24:$J$500,\"Other Unknown Causes\"))","v":""}]
[null,{"$f":"IF(Lists!AI8=\"\",\"\",Lists!AI8)","v":""},{"$f":"IF(Lists!AJ8=\"\",\"\",Lists!AJ8)","v":""},null,{"$f":"IF($D30=\"\",\"\",SUMIFS(CMS_Detail!$I$24:$I$5400,CMS_Detail!$B$24:$B$5400,B30,CMS_Detail!$C$24:$C$5400,C30))","v":""},"",{"$f":"IF(Summary_Report_CMS!$D30=\"\",\"\",SUMIFS(CMS_Detail!$I$24:$I$500,CMS_Detail!$B$24:$B$500,Summary_Report_CMS!B30,CMS_Detail!$C$24:$C$500,Summary_Report_CMS!C30,CMS_Detail!$J$24:$J$500,\"Monitoring Equipment Malfunctions\"))","v":""},{"$f":"IF(Summary_Report_CMS!$D30=\"\",\"\",SUMIFS(CMS_Detail!$I$24:$I$500,CMS_Detail!$B$24:$B$500,B30,CMS_Detail!$C$24:$C$500,Summary_Report_CMS!C30,CMS_Detail!$J$24:$J$500,\"Nonmonitoring Equipment Malfunctions\"))","v":""},{"$f":"IF(Summary_Report_CMS!$D30=\"\",\"\",SUMIFS(CMS_Detail!$I$24:$I$500,CMS_Detail!$B$24:$B$500,B30,CMS_Detail!$C$24:$C$500,Summary_Report_CMS!C30,CMS_Detail!$J$24:$J$500,\"Quality Assurance/Quality Control Calibrations\"))","v":""},{"$f":"IF(Summary_Report_CMS!$D30=\"\",\"\",SUMIFS(CMS_Detail!$I$24:$I$500,CMS_Detail!$B$24:$B$500,B30,CMS_Detail!$C$24:$C$500,Summary_Report_CMS!C30,CMS_Detail!$J$24:$J$500,\"Other Known Causes\"))","v":""},{"$f":"IF(Summary_Report_CMS!$D30=\"\",\"\",SUMIFS(CMS_Detail!$I$24:$I$500,CMS_Detail!$B$24:$B$500,B30,CMS_Detail!$C$24:$C$500,Summary_Report_CMS!C30,CMS_Detail!$J$24:$J$500,\"Other Unknown Causes\"))","v":""}]
[null,{"$f":"IF(Lists!AI9=\"\",\"\",Lists!AI9)","v":""},{"$f":"IF(Lists!AJ9=\"\",\"\",Lists!AJ9)","v":""},null,{"$f":"IF($D31=\"\",\"\",SUMIFS(CMS_Detail!$I$24:$I$5400,CMS_Detail!$B$24:$B$5400,B31,CMS_Detail!$C$24:$C$5400,C31))","v":""},"",{"$f":"IF(Summary_Report_CMS!$D31=\"\",\"\",SUMIFS(CMS_Detail!$I$24:$I$500,CMS_Detail!$B$24:$B$500,Summary_Report_CMS!B31,CMS_Detail!$C$24:$C$500,Summary_Report_CMS!C31,CMS_Detail!$J$24:$J$500,\"Monitoring Equipment Malfunctions\"))","v":""},{"$f":"IF(Summary_Report_CMS!$D31=\"\",\"\",SUMIFS(CMS_Detail!$I$24:$I$500,CMS_Detail!$B$24:$B$500,B31,CMS_Detail!$C$24:$C$500,Summary_Report_CMS!C31,CMS_Detail!$J$24:$J$500,\"Nonmonitoring Equipment Malfunctions\"))","v":""},{"$f":"IF(Summary_Report_CMS!$D31=\"\",\"\",SUMIFS(CMS_Detail!$I$24:$I$500,CMS_Detail!$B$24:$B$500,B31,CMS_Detail!$C$24:$C$500,Summary_Report_CMS!C31,CMS_Detail!$J$24:$J$500,\"Quality Assurance/Quality Control Calibrations\"))","v":""},{"$f":"IF(Summary_Report_CMS!$D31=\"\",\"\",SUMIFS(CMS_Detail!$I$24:$I$500,CMS_Detail!$B$24:$B$500,B31,CMS_Detail!$C$24:$C$500,Summary_Report_CMS!C31,CMS_Detail!$J$24:$J$500,\"Other Known Causes\"))","v":""},{"$f":"IF(Summary_Report_CMS!$D31=\"\",\"\",SUMIFS(CMS_Detail!$I$24:$I$500,CMS_Detail!$B$24:$B$500,B31,CMS_Detail!$C$24:$C$500,Summary_Report_CMS!C31,CMS_Detail!$J$24:$J$500,\"Other Unknown Causes\"))","v":""}]
[null,{"$f":"IF(Lists!AI10=\"\",\"\",Lists!AI10)","v":""},{"$f":"IF(Lists!AJ10=\"\",\"\",Lists!AJ10)","v":""},null,{"$f":"IF($D32=\"\",\"\",SUMIFS(CMS_Detail!$I$24:$I$5400,CMS_Detail!$B$24:$B$5400,B32,CMS_Detail!$C$24:$C$5400,C32))","v":""},"",{"$f":"IF(Summary_Report_CMS!$D32=\"\",\"\",SUMIFS(CMS_Detail!$I$24:$I$500,CMS_Detail!$B$24:$B$500,Summary_Report_CMS!B32,CMS_Detail!$C$24:$C$500,Summary_Report_CMS!C32,CMS_Detail!$J$24:$J$500,\"Monitoring Equipment Malfunctions\"))","v":""},{"$f":"IF(Summary_Report_CMS!$D32=\"\",\"\",SUMIFS(CMS_Detail!$I$24:$I$500,CMS_Detail!$B$24:$B$500,B32,CMS_Detail!$C$24:$C$500,Summary_Report_CMS!C32,CMS_Detail!$J$24:$J$500,\"Nonmonitoring Equipment Malfunctions\"))","v":""},{"$f":"IF(Summary_Report_CMS!$D32=\"\",\"\",SUMIFS(CMS_Detail!$I$24:$I$500,CMS_Detail!$B$24:$B$500,B32,CMS_Detail!$C$24:$C$500,Summary_Report_CMS!C32,CMS_Detail!$J$24:$J$500,\"Quality Assurance/Quality Control Calibrations\"))","v":""},{"$f":"IF(Summary_Report_CMS!$D32=\"\",\"\",SUMIFS(CMS_Detail!$I$24:$I$500,CMS_Detail!$B$24:$B$500,B32,CMS_Detail!$C$24:$C$500,Summary_Report_CMS!C32,CMS_Detail!$J$24:$J$500,\"Other Known Causes\"))","v":""},{"$f":"IF(Summary_Report_CMS!$D32=\"\",\"\",SUMIFS(CMS_Detail!$I$24:$I$500,CMS_Detail!$B$24:$B$500,B32,CMS_Detail!$C$24:$C$500,Summary_Report_CMS!C32,CMS_Detail!$J$24:$J$500,\"Other Unknown Causes\"))","v":""}]
[null,{"$f":"IF(Lists!AI11=\"\",\"\",Lists!AI11)","v":""},{"$f":"IF(Lists!AJ11=\"\",\"\",Lists!AJ11)","v":""},null,{"$f":"IF($D33=\"\",\"\",SUMIFS(CMS_Detail!$I$24:$I$5400,CMS_Detail!$B$24:$B$5400,B33,CMS_Detail!$C$24:$C$5400,C33))","v":""},"",{"$f":"IF(Summary_Report_CMS!$D33=\"\",\"\",SUMIFS(CMS_Detail!$I$24:$I$500,CMS_Detail!$B$24:$B$500,Summary_Report_CMS!B33,CMS_Detail!$C$24:$C$500,Summary_Report_CMS!C33,CMS_Detail!$J$24:$J$500,\"Monitoring Equipment Malfunctions\"))","v":""},{"$f":"IF(Summary_Report_CMS!$D33=\"\",\"\",SUMIFS(CMS_Detail!$I$24:$I$500,CMS_Detail!$B$24:$B$500,B33,CMS_Detail!$C$24:$C$500,Summary_Report_CMS!C33,CMS_Detail!$J$24:$J$500,\"Nonmonitoring Equipment Malfunctions\"))","v":""},{"$f":"IF(Summary_Report_CMS!$D33=\"\",\"\",SUMIFS(CMS_Detail!$I$24:$I$500,CMS_Detail!$B$24:$B$500,B33,CMS_Detail!$C$24:$C$500,Summary_Report_CMS!C33,CMS_Detail!$J$24:$J$500,\"Quality Assurance/Quality Control Calibrations\"))","v":""},{"$f":"IF(Summary_Report_CMS!$D33=\"\",\"\",SUMIFS(CMS_Detail!$I$24:$I$500,CMS_Detail!$B$24:$B$500,B33,CMS_Detail!$C$24:$C$500,Summary_Report_CMS!C33,CMS_Detail!$J$24:$J$500,\"Other Known Causes\"))","v":""},{"$f":"IF(Summary_Report_CMS!$D33=\"\",\"\",SUMIFS(CMS_Detail!$I$24:$I$500,CMS_Detail!$B$24:$B$500,B33,CMS_Detail!$C$24:$C$500,Summary_Report_CMS!C33,CMS_Detail!$J$24:$J$500,\"Other Unknown Causes\"))","v":""}]
[null,{"$f":"IF(Lists!AI12=\"\",\"\",Lists!AI12)","v":""},{"$f":"IF(Lists!AJ12=\"\",\"\",Lists!AJ12)","v":""},null,{"$f":"IF($D34=\"\",\"\",SUMIFS(CMS_Detail!$I$24:$I$5400,CMS_Detail!$B$24:$B$5400,B34,CMS_Detail!$C$24:$C$5400,C34))","v":""},"",{"$f":"IF(Summary_Report_CMS!$D34=\"\",\"\",SUMIFS(CMS_Detail!$I$24:$I$500,CMS_Detail!$B$24:$B$500,Summary_Report_CMS!B34,CMS_Detail!$C$24:$C$500,Summary_Report_CMS!C34,CMS_Detail!$J$24:$J$500,\"Monitoring Equipment Malfunctions\"))","v":""},{"$f":"IF(Summary_Report_CMS!$D34=\"\",\"\",SUMIFS(CMS_Detail!$I$24:$I$500,CMS_Detail!$B$24:$B$500,B34,CMS_Detail!$C$24:$C$500,Summary_Report_CMS!C34,CMS_Detail!$J$24:$J$500,\"Nonmonitoring Equipment Malfunctions\"))","v":""},{"$f":"IF(Summary_Report_CMS!$D34=\"\",\"\",SUMIFS(CMS_Detail!$I$24:$I$500,CMS_Detail!$B$24:$B$500,B34,CMS_Detail!$C$24:$C$500,Summary_Report_CMS!C34,CMS_Detail!$J$24:$J$500,\"Quality Assurance/Quality Control Calibrations\"))","v":""},{"$f":"IF(Summary_Report_CMS!$D34=\"\",\"\",SUMIFS(CMS_Detail!$I$24:$I$500,CMS_Detail!$B$24:$B$500,B34,CMS_Detail!$C$24:$C$500,Summary_Report_CMS!C34,CMS_Detail!$J$24:$J$500,\"Other Known Causes\"))","v":""},{"$f":"IF(Summary_Report_CMS!$D34=\"\",\"\",SUMIFS(CMS_Detail!$I$24:$I$500,CMS_Detail!$B$24:$B$500,B34,CMS_Detail!$C$24:$C$500,Summary_Report_CMS!C34,CMS_Detail!$J$24:$J$500,\"Other Unknown Causes\"))","v":""}]
[null,{"$f":"IF(Lists!AI13=\"\",\"\",Lists!AI13)","v":""},{"$f":"IF(Lists!AJ13=\"\",\"\",Lists!AJ13)","v":""},null,{"$f":"IF($D35=\"\",\"\",SUMIFS(CMS_Detail!$I$24:$I$5400,CMS_Detail!$B$24:$B$5400,B35,CMS_Detail!$C$24:$C$5400,C35))","v":""},"",{"$f":"IF(Summary_Report_CMS!$D35=\"\",\"\",SUMIFS(CMS_Detail!$I$24:$I$500,CMS_Detail!$B$24:$B$500,Summary_Report_CMS!B35,CMS_Detail!$C$24:$C$500,Summary_Report_CMS!C35,CMS_Detail!$J$24:$J$500,\"Monitoring Equipment Malfunctions\"))","v":""},{"$f":"IF(Summary_Report_CMS!$D35=\"\",\"\",SUMIFS(CMS_Detail!$I$24:$I$500,CMS_Detail!$B$24:$B$500,B35,CMS_Detail!$C$24:$C$500,Summary_Report_CMS!C35,CMS_Detail!$J$24:$J$500,\"Nonmonitoring Equipment Malfunctions\"))","v":""},{"$f":"IF(Summary_Report_CMS!$D35=\"\",\"\",SUMIFS(CMS_Detail!$I$24:$I$500,CMS_Detail!$B$24:$B$500,B35,CMS_Detail!$C$24:$C$500,Summary_Report_CMS!C35,CMS_Detail!$J$24:$J$500,\"Quality Assurance/Quality Control Calibrations\"))","v":""},{"$f":"IF(Summary_Report_CMS!$D35=\"\",\"\",SUMIFS(CMS_Detail!$I$24:$I$500,CMS_Detail!$B$24:$B$500,B35,CMS_Detail!$C$24:$C$500,Summary_Report_CMS!C35,CMS_Detail!$J$24:$J$500,\"Other Known Causes\"))","v":""},{"$f":"IF(Summary_Report_CMS!$D35=\"\",\"\",SUMIFS(CMS_Detail!$I$24:$I$500,CMS_Detail!$B$24:$B$500,B35,CMS_Detail!$C$24:$C$500,Summary_Report_CMS!C35,CMS_Detail!$J$24:$J$500,\"Other Unknown Causes\"))","v":""}]
[null,{"$f":"IF(Lists!AI14=\"\",\"\",Lists!AI14)","v":""},{"$f":"IF(Lists!AJ14=\"\",\"\",Lists!AJ14)","v":""},null,{"$f":"IF($D36=\"\",\"\",SUMIFS(CMS_Detail!$I$24:$I$5400,CMS_Detail!$B$24:$B$5400,B36,CMS_Detail!$C$24:$C$5400,C36))","v":""},"",{"$f":"IF(Summary_Report_CMS!$D36=\"\",\"\",SUMIFS(CMS_Detail!$I$24:$I$500,CMS_Detail!$B$24:$B$500,Summary_Report_CMS!B36,CMS_Detail!$C$24:$C$500,Summary_Report_CMS!C36,CMS_Detail!$J$24:$J$500,\"Monitoring Equipment Malfunctions\"))","v":""},{"$f":"IF(Summary_Report_CMS!$D36=\"\",\"\",SUMIFS(CMS_Detail!$I$24:$I$500,CMS_Detail!$B$24:$B$500,B36,CMS_Detail!$C$24:$C$500,Summary_Report_CMS!C36,CMS_Detail!$J$24:$J$500,\"Nonmonitoring Equipment Malfunctions\"))","v":""},{"$f":"IF(Summary_Report_CMS!$D36=\"\",\"\",SUMIFS(CMS_Detail!$I$24:$I$500,CMS_Detail!$B$24:$B$500,B36,CMS_Detail!$C$24:$C$500,Summary_Report_CMS!C36,CMS_Detail!$J$24:$J$500,\"Quality Assurance/Quality Control Calibrations\"))","v":""},{"$f":"IF(Summary_Report_CMS!$D36=\"\",\"\",SUMIFS(CMS_Detail!$I$24:$I$500,CMS_Detail!$B$24:$B$500,B36,CMS_Detail!$C$24:$C$500,Summary_Report_CMS!C36,CMS_Detail!$J$24:$J$500,\"Other Known Causes\"))","v":""},{"$f":"IF(Summary_Report_CMS!$D36=\"\",\"\",SUMIFS(CMS_Detail!$I$24:$I$500,CMS_Detail!$B$24:$B$500,B36,CMS_Detail!$C$24:$C$500,Summary_Report_CMS!C36,CMS_Detail!$J$24:$J$500,\"Other Unknown Causes\"))","v":""}]
[null,{"$f":"IF(Lists!AI15=\"\",\"\",Lists!AI15)","v":""},{"$f":"IF(Lists!AJ15=\"\",\"\",Lists!AJ15)","v":""},null,{"$f":"IF($D37=\"\",\"\",SUMIFS(CMS_Detail!$I$24:$I$5400,CMS_Detail!$B$24:$B$5400,B37,CMS_Detail!$C$24:$C$5400,C37))","v":""},"",{"$f":"IF(Summary_Report_CMS!$D37=\"\",\"\",SUMIFS(CMS_Detail!$I$24:$I$500,CMS_Detail!$B$24:$B$500,Summary_Report_CMS!B37,CMS_Detail!$C$24:$C$500,Summary_Report_CMS!C37,CMS_Detail!$J$24:$J$500,\"Monitoring Equipment Malfunctions\"))","v":""},{"$f":"IF(Summary_Report_CMS!$D37=\"\",\"\",SUMIFS(CMS_Detail!$I$24:$I$500,CMS_Detail!$B$24:$B$500,B37,CMS_Detail!$C$24:$C$500,Summary_Report_CMS!C37,CMS_Detail!$J$24:$J$500,\"Nonmonitoring Equipment Malfunctions\"))","v":""},{"$f":"IF(Summary_Report_CMS!$D37=\"\",\"\",SUMIFS(CMS_Detail!$I$24:$I$500,CMS_Detail!$B$24:$B$500,B37,CMS_Detail!$C$24:$C$500,Summary_Report_CMS!C37,CMS_Detail!$J$24:$J$500,\"Quality Assurance/Quality Control Calibrations\"))","v":""},{"$f":"IF(Summary_Report_CMS!$D37=\"\",\"\",SUMIFS(CMS_Detail!$I$24:$I$500,CMS_Detail!$B$24:$B$500,B37,CMS_Detail!$C$24:$C$500,Summary_Report_CMS!C37,CMS_Detail!$J$24:$J$500,\"Other Known Causes\"))","v":""},{"$f":"IF(Summary_Report_CMS!$D37=\"\",\"\",SUMIFS(CMS_Detail!$I$24:$I$500,CMS_Detail!$B$24:$B$500,B37,CMS_Detail!$C$24:$C$500,Summary_Report_CMS!C37,CMS_Detail!$J$24:$J$500,\"Other Unknown Causes\"))","v":""}]
[null,{"$f":"IF(Lists!AI16=\"\",\"\",Lists!AI16)","v":""},{"$f":"IF(Lists!AJ16=\"\",\"\",Lists!AJ16)","v":""},null,{"$f":"IF($D38=\"\",\"\",SUMIFS(CMS_Detail!$I$24:$I$5400,CMS_Detail!$B$24:$B$5400,B38,CMS_Detail!$C$24:$C$5400,C38))","v":""},"",{"$f":"IF(Summary_Report_CMS!$D38=\"\",\"\",SUMIFS(CMS_Detail!$I$24:$I$500,CMS_Detail!$B$24:$B$500,Summary_Report_CMS!B38,CMS_Detail!$C$24:$C$500,Summary_Report_CMS!C38,CMS_Detail!$J$24:$J$500,\"Monitoring Equipment Malfunctions\"))","v":""},{"$f":"IF(Summary_Report_CMS!$D38=\"\",\"\",SUMIFS(CMS_Detail!$I$24:$I$500,CMS_Detail!$B$24:$B$500,B38,CMS_Detail!$C$24:$C$500,Summary_Report_CMS!C38,CMS_Detail!$J$24:$J$500,\"Nonmonitoring Equipment Malfunctions\"))","v":""},{"$f":"IF(Summary_Report_CMS!$D38=\"\",\"\",SUMIFS(CMS_Detail!$I$24:$I$500,CMS_Detail!$B$24:$B$500,B38,CMS_Detail!$C$24:$C$500,Summary_Report_CMS!C38,CMS_Detail!$J$24:$J$500,\"Quality Assurance/Quality Control Calibrations\"))","v":""},{"$f":"IF(Summary_Report_CMS!$D38=\"\",\"\",SUMIFS(CMS_Detail!$I$24:$I$500,CMS_Detail!$B$24:$B$500,B38,CMS_Detail!$C$24:$C$500,Summary_Report_CMS!C38,CMS_Detail!$J$24:$J$500,\"Other Known Causes\"))","v":""},{"$f":"IF(Summary_Report_CMS!$D38=\"\",\"\",SUMIFS(CMS_Detail!$I$24:$I$500,CMS_Detail!$B$24:$B$500,B38,CMS_Detail!$C$24:$C$500,Summary_Report_CMS!C38,CMS_Detail!$J$24:$J$500,\"Other Unknown Causes\"))","v":""}]
[null,{"$f":"IF(Lists!AI17=\"\",\"\",Lists!AI17)","v":""},{"$f":"IF(Lists!AJ17=\"\",\"\",Lists!AJ17)","v":""},null,{"$f":"IF($D39=\"\",\"\",SUMIFS(CMS_Detail!$I$24:$I$5400,CMS_Detail!$B$24:$B$5400,B39,CMS_Detail!$C$24:$C$5400,C39))","v":""},"",{"$f":"IF(Summary_Report_CMS!$D39=\"\",\"\",SUMIFS(CMS_Detail!$I$24:$I$500,CMS_Detail!$B$24:$B$500,Summary_Report_CMS!B39,CMS_Detail!$C$24:$C$500,Summary_Report_CMS!C39,CMS_Detail!$J$24:$J$500,\"Monitoring Equipment Malfunctions\"))","v":""},{"$f":"IF(Summary_Report_CMS!$D39=\"\",\"\",SUMIFS(CMS_Detail!$I$24:$I$500,CMS_Detail!$B$24:$B$500,B39,CMS_Detail!$C$24:$C$500,Summary_Report_CMS!C39,CMS_Detail!$J$24:$J$500,\"Nonmonitoring Equipment Malfunctions\"))","v":""},{"$f":"IF(Summary_Report_CMS!$D39=\"\",\"\",SUMIFS(CMS_Detail!$I$24:$I$500,CMS_Detail!$B$24:$B$500,B39,CMS_Detail!$C$24:$C$500,Summary_Report_CMS!C39,CMS_Detail!$J$24:$J$500,\"Quality Assurance/Quality Control Calibrations\"))","v":""},{"$f":"IF(Summary_Report_CMS!$D39=\"\",\"\",SUMIFS(CMS_Detail!$I$24:$I$500,CMS_Detail!$B$24:$B$500,B39,CMS_Detail!$C$24:$C$500,Summary_Report_CMS!C39,CMS_Detail!$J$24:$J$500,\"Other Known Causes\"))","v":""},{"$f":"IF(Summary_Report_CMS!$D39=\"\",\"\",SUMIFS(CMS_Detail!$I$24:$I$500,CMS_Detail!$B$24:$B$500,B39,CMS_Detail!$C$24:$C$500,Summary_Report_CMS!C39,CMS_Detail!$J$24:$J$500,\"Other Unknown Causes\"))","v":""}]
[null,{"$f":"IF(Lists!AI18=\"\",\"\",Lists!AI18)","v":""},{"$f":"IF(Lists!AJ18=\"\",\"\",Lists!AJ18)","v":""},null,{"$f":"IF($D40=\"\",\"\",SUMIFS(CMS_Detail!$I$24:$I$5400,CMS_Detail!$B$24:$B$5400,B40,CMS_Detail!$C$24:$C$5400,C40))","v":""},"",{"$f":"IF(Summary_Report_CMS!$D40=\"\",\"\",SUMIFS(CMS_Detail!$I$24:$I$500,CMS_Detail!$B$24:$B$500,Summary_Report_CMS!B40,CMS_Detail!$C$24:$C$500,Summary_Report_CMS!C40,CMS_Detail!$J$24:$J$500,\"Monitoring Equipment Malfunctions\"))","v":""},{"$f":"IF(Summary_Report_CMS!$D40=\"\",\"\",SUMIFS(CMS_Detail!$I$24:$I$500,CMS_Detail!$B$24:$B$500,B40,CMS_Detail!$C$24:$C$500,Summary_Report_CMS!C40,CMS_Detail!$J$24:$J$500,\"Nonmonitoring Equipment Malfunctions\"))","v":""},{"$f":"IF(Summary_Report_CMS!$D40=\"\",\"\",SUMIFS(CMS_Detail!$I$24:$I$500,CMS_Detail!$B$24:$B$500,B40,CMS_Detail!$C$24:$C$500,Summary_Report_CMS!C40,CMS_Detail!$J$24:$J$500,\"Quality Assurance/Quality Control Calibrations\"))","v":""},{"$f":"IF(Summary_Report_CMS!$D40=\"\",\"\",SUMIFS(CMS_Detail!$I$24:$I$500,CMS_Detail!$B$24:$B$500,B40,CMS_Detail!$C$24:$C$500,Summary_Report_CMS!C40,CMS_Detail!$J$24:$J$500,\"Other Known Causes\"))","v":""},{"$f":"IF(Summary_Report_CMS!$D40=\"\",\"\",SUMIFS(CMS_Detail!$I$24:$I$500,CMS_Detail!$B$24:$B$500,B40,CMS_Detail!$C$24:$C$500,Summary_Report_CMS!C40,CMS_Detail!$J$24:$J$500,\"Other Unknown Causes\"))","v":""}]
[null,{"$f":"IF(Lists!AI19=\"\",\"\",Lists!AI19)","v":""},{"$f":"IF(Lists!AJ19=\"\",\"\",Lists!AJ19)","v":""},null,{"$f":"IF($D41=\"\",\"\",SUMIFS(CMS_Detail!$I$24:$I$5400,CMS_Detail!$B$24:$B$5400,B41,CMS_Detail!$C$24:$C$5400,C41))","v":""},"",{"$f":"IF(Summary_Report_CMS!$D41=\"\",\"\",SUMIFS(CMS_Detail!$I$24:$I$500,CMS_Detail!$B$24:$B$500,Summary_Report_CMS!B41,CMS_Detail!$C$24:$C$500,Summary_Report_CMS!C41,CMS_Detail!$J$24:$J$500,\"Monitoring Equipment Malfunctions\"))","v":""},{"$f":"IF(Summary_Report_CMS!$D41=\"\",\"\",SUMIFS(CMS_Detail!$I$24:$I$500,CMS_Detail!$B$24:$B$500,B41,CMS_Detail!$C$24:$C$500,Summary_Report_CMS!C41,CMS_Detail!$J$24:$J$500,\"Nonmonitoring Equipment Malfunctions\"))","v":""},{"$f":"IF(Summary_Report_CMS!$D41=\"\",\"\",SUMIFS(CMS_Detail!$I$24:$I$500,CMS_Detail!$B$24:$B$500,B41,CMS_Detail!$C$24:$C$500,Summary_Report_CMS!C41,CMS_Detail!$J$24:$J$500,\"Quality Assurance/Quality Control Calibrations\"))","v":""},{"$f":"IF(Summary_Report_CMS!$D41=\"\",\"\",SUMIFS(CMS_Detail!$I$24:$I$500,CMS_Detail!$B$24:$B$500,B41,CMS_Detail!$C$24:$C$500,Summary_Report_CMS!C41,CMS_Detail!$J$24:$J$500,\"Other Known Causes\"))","v":""},{"$f":"IF(Summary_Report_CMS!$D41=\"\",\"\",SUMIFS(CMS_Detail!$I$24:$I$500,CMS_Detail!$B$24:$B$500,B41,CMS_Detail!$C$24:$C$500,Summary_Report_CMS!C41,CMS_Detail!$J$24:$J$500,\"Other Unknown Causes\"))","v":""}]
[null,{"$f":"IF(Lists!AI20=\"\",\"\",Lists!AI20)","v":""},{"$f":"IF(Lists!AJ20=\"\",\"\",Lists!AJ20)","v":""},null,{"$f":"IF($D42=\"\",\"\",SUMIFS(CMS_Detail!$I$24:$I$5400,CMS_Detail!$B$24:$B$5400,B42,CMS_Detail!$C$24:$C$5400,C42))","v":""},"",{"$f":"IF(Summary_Report_CMS!$D42=\"\",\"\",SUMIFS(CMS_Detail!$I$24:$I$500,CMS_Detail!$B$24:$B$500,Summary_Report_CMS!B42,CMS_Detail!$C$24:$C$500,Summary_Report_CMS!C42,CMS_Detail!$J$24:$J$500,\"Monitoring Equipment Malfunctions\"))","v":""},{"$f":"IF(Summary_Report_CMS!$D42=\"\",\"\",SUMIFS(CMS_Detail!$I$24:$I$500,CMS_Detail!$B$24:$B$500,B42,CMS_Detail!$C$24:$C$500,Summary_Report_CMS!C42,CMS_Detail!$J$24:$J$500,\"Nonmonitoring Equipment Malfunctions\"))","v":""},{"$f":"IF(Summary_Report_CMS!$D42=\"\",\"\",SUMIFS(CMS_Detail!$I$24:$I$500,CMS_Detail!$B$24:$B$500,B42,CMS_Detail!$C$24:$C$500,Summary_Report_CMS!C42,CMS_Detail!$J$24:$J$500,\"Quality Assurance/Quality Control Calibrations\"))","v":""},{"$f":"IF(Summary_Report_CMS!$D42=\"\",\"\",SUMIFS(CMS_Detail!$I$24:$I$500,CMS_Detail!$B$24:$B$500,B42,CMS_Detail!$C$24:$C$500,Summary_Report_CMS!C42,CMS_Detail!$J$24:$J$500,\"Other Known Causes\"))","v":""},{"$f":"IF(Summary_Report_CMS!$D42=\"\",\"\",SUMIFS(CMS_Detail!$I$24:$I$500,CMS_Detail!$B$24:$B$500,B42,CMS_Detail!$C$24:$C$500,Summary_Report_CMS!C42,CMS_Detail!$J$24:$J$500,\"Other Unknown Causes\"))","v":""}]
[null,{"$f":"IF(Lists!AI21=\"\",\"\",Lists!AI21)","v":""},{"$f":"IF(Lists!AJ21=\"\",\"\",Lists!AJ21)","v":""},null,{"$f":"IF($D43=\"\",\"\",SUMIFS(CMS_Detail!$I$24:$I$5400,CMS_Detail!$B$24:$B$5400,B43,CMS_Detail!$C$24:$C$5400,C43))","v":""},"",{"$f":"IF(Summary_Report_CMS!$D43=\"\",\"\",SUMIFS(CMS_Detail!$I$24:$I$500,CMS_Detail!$B$24:$B$500,Summary_Report_CMS!B43,CMS_Detail!$C$24:$C$500,Summary_Report_CMS!C43,CMS_Detail!$J$24:$J$500,\"Monitoring Equipment Malfunctions\"))","v":""},{"$f":"IF(Summary_Report_CMS!$D43=\"\",\"\",SUMIFS(CMS_Detail!$I$24:$I$500,CMS_Detail!$B$24:$B$500,B43,CMS_Detail!$C$24:$C$500,Summary_Report_CMS!C43,CMS_Detail!$J$24:$J$500,\"Nonmonitoring Equipment Malfunctions\"))","v":""},{"$f":"IF(Summary_Report_CMS!$D43=\"\",\"\",SUMIFS(CMS_Detail!$I$24:$I$500,CMS_Detail!$B$24:$B$500,B43,CMS_Detail!$C$24:$C$500,Summary_Report_CMS!C43,CMS_Detail!$J$24:$J$500,\"Quality Assurance/Quality Control Calibrations\"))","v":""},{"$f":"IF(Summary_Report_CMS!$D43=\"\",\"\",SUMIFS(CMS_Detail!$I$24:$I$500,CMS_Detail!$B$24:$B$500,B43,CMS_Detail!$C$24:$C$500,Summary_Report_CMS!C43,CMS_Detail!$J$24:$J$500,\"Other Known Causes\"))","v":""},{"$f":"IF(Summary_Report_CMS!$D43=\"\",\"\",SUMIFS(CMS_Detail!$I$24:$I$500,CMS_Detail!$B$24:$B$500,B43,CMS_Detail!$C$24:$C$500,Summary_Report_CMS!C43,CMS_Detail!$J$24:$J$500,\"Other Unknown Causes\"))","v":""}]
[null,{"$f":"IF(Lists!AI22=\"\",\"\",Lists!AI22)","v":""},{"$f":"IF(Lists!AJ22=\"\",\"\",Lists!AJ22)","v":""},null,{"$f":"IF($D44=\"\",\"\",SUMIFS(CMS_Detail!$I$24:$I$5400,CMS_Detail!$B$24:$B$5400,B44,CMS_Detail!$C$24:$C$5400,C44))","v":""},"",{"$f":"IF(Summary_Report_CMS!$D44=\"\",\"\",SUMIFS(CMS_Detail!$I$24:$I$500,CMS_Detail!$B$24:$B$500,Summary_Report_CMS!B44,CMS_Detail!$C$24:$C$500,Summary_Report_CMS!C44,CMS_Detail!$J$24:$J$500,\"Monitoring Equipment Malfunctions\"))","v":""},{"$f":"IF(Summary_Report_CMS!$D44=\"\",\"\",SUMIFS(CMS_Detail!$I$24:$I$500,CMS_Detail!$B$24:$B$500,B44,CMS_Detail!$C$24:$C$500,Summary_Report_CMS!C44,CMS_Detail!$J$24:$J$500,\"Nonmonitoring Equipment Malfunctions\"))","v":""},{"$f":"IF(Summary_Report_CMS!$D44=\"\",\"\",SUMIFS(CMS_Detail!$I$24:$I$500,CMS_Detail!$B$24:$B$500,B44,CMS_Detail!$C$24:$C$500,Summary_Report_CMS!C44,CMS_Detail!$J$24:$J$500,\"Quality Assurance/Quality Control Calibrations\"))","v":""},{"$f":"IF(Summary_Report_CMS!$D44=\"\",\"\",SUMIFS(CMS_Detail!$I$24:$I$500,CMS_Detail!$B$24:$B$500,B44,CMS_Detail!$C$24:$C$500,Summary_Report_CMS!C44,CMS_Detail!$J$24:$J$500,\"Other Known Causes\"))","v":""},{"$f":"IF(Summary_Report_CMS!$D44=\"\",\"\",SUMIFS(CMS_Detail!$I$24:$I$500,CMS_Detail!$B$24:$B$500,B44,CMS_Detail!$C$24:$C$500,Summary_Report_CMS!C44,CMS_Detail!$J$24:$J$500,\"Other Unknown Causes\"))","v":""}]
[null,{"$f":"IF(Lists!AI23=\"\",\"\",Lists!AI23)","v":""},{"$f":"IF(Lists!AJ23=\"\",\"\",Lists!AJ23)","v":""},null,{"$f":"IF($D45=\"\",\"\",SUMIFS(CMS_Detail!$I$24:$I$5400,CMS_Detail!$B$24:$B$5400,B45,CMS_Detail!$C$24:$C$5400,C45))","v":""},"",{"$f":"IF(Summary_Report_CMS!$D45=\"\",\"\",SUMIFS(CMS_Detail!$I$24:$I$500,CMS_Detail!$B$24:$B$500,Summary_Report_CMS!B45,CMS_Detail!$C$24:$C$500,Summary_Report_CMS!C45,CMS_Detail!$J$24:$J$500,\"Monitoring Equipment Malfunctions\"))","v":""},{"$f":"IF(Summary_Report_CMS!$D45=\"\",\"\",SUMIFS(CMS_Detail!$I$24:$I$500,CMS_Detail!$B$24:$B$500,B45,CMS_Detail!$C$24:$C$500,Summary_Report_CMS!C45,CMS_Detail!$J$24:$J$500,\"Nonmonitoring Equipment Malfunctions\"))","v":""},{"$f":"IF(Summary_Report_CMS!$D45=\"\",\"\",SUMIFS(CMS_Detail!$I$24:$I$500,CMS_Detail!$B$24:$B$500,B45,CMS_Detail!$C$24:$C$500,Summary_Report_CMS!C45,CMS_Detail!$J$24:$J$500,\"Quality Assurance/Quality Control Calibrations\"))","v":""},{"$f":"IF(Summary_Report_CMS!$D45=\"\",\"\",SUMIFS(CMS_Detail!$I$24:$I$500,CMS_Detail!$B$24:$B$500,B45,CMS_Detail!$C$24:$C$500,Summary_Report_CMS!C45,CMS_Detail!$J$24:$J$500,\"Other Known Causes\"))","v":""},{"$f":"IF(Summary_Report_CMS!$D45=\"\",\"\",SUMIFS(CMS_Detail!$I$24:$I$500,CMS_Detail!$B$24:$B$500,B45,CMS_Detail!$C$24:$C$500,Summary_Report_CMS!C45,CMS_Detail!$J$24:$J$500,\"Other Unknown Causes\"))","v":""}]
[null,{"$f":"IF(Lists!AI24=\"\",\"\",Lists!AI24)","v":""},{"$f":"IF(Lists!AJ24=\"\",\"\",Lists!AJ24)","v":""},null,{"$f":"IF($D46=\"\",\"\",SUMIFS(CMS_Detail!$I$24:$I$5400,CMS_Detail!$B$24:$B$5400,B46,CMS_Detail!$C$24:$C$5400,C46))","v":""},"",{"$f":"IF(Summary_Report_CMS!$D46=\"\",\"\",SUMIFS(CMS_Detail!$I$24:$I$500,CMS_Detail!$B$24:$B$500,Summary_Report_CMS!B46,CMS_Detail!$C$24:$C$500,Summary_Report_CMS!C46,CMS_Detail!$J$24:$J$500,\"Monitoring Equipment Malfunctions\"))","v":""},{"$f":"IF(Summary_Report_CMS!$D46=\"\",\"\",SUMIFS(CMS_Detail!$I$24:$I$500,CMS_Detail!$B$24:$B$500,B46,CMS_Detail!$C$24:$C$500,Summary_Report_CMS!C46,CMS_Detail!$J$24:$J$500,\"Nonmonitoring Equipment Malfunctions\"))","v":""},{"$f":"IF(Summary_Report_CMS!$D46=\"\",\"\",SUMIFS(CMS_Detail!$I$24:$I$500,CMS_Detail!$B$24:$B$500,B46,CMS_Detail!$C$24:$C$500,Summary_Report_CMS!C46,CMS_Detail!$J$24:$J$500,\"Quality Assurance/Quality Control Calibrations\"))","v":""},{"$f":"IF(Summary_Report_CMS!$D46=\"\",\"\",SUMIFS(CMS_Detail!$I$24:$I$500,CMS_Detail!$B$24:$B$500,B46,CMS_Detail!$C$24:$C$500,Summary_Report_CMS!C46,CMS_Detail!$J$24:$J$500,\"Other Known Causes\"))","v":""},{"$f":"IF(Summary_Report_CMS!$D46=\"\",\"\",SUMIFS(CMS_Detail!$I$24:$I$500,CMS_Detail!$B$24:$B$500,B46,CMS_Detail!$C$24:$C$500,Summary_Report_CMS!C46,CMS_Detail!$J$24:$J$500,\"Other Unknown Causes\"))","v":""}]
[null,{"$f":"IF(Lists!AI25=\"\",\"\",Lists!AI25)","v":""},{"$f":"IF(Lists!AJ25=\"\",\"\",Lists!AJ25)","v":""},null,{"$f":"IF($D47=\"\",\"\",SUMIFS(CMS_Detail!$I$24:$I$5400,CMS_Detail!$B$24:$B$5400,B47,CMS_Detail!$C$24:$C$5400,C47))","v":""},"",{"$f":"IF(Summary_Report_CMS!$D47=\"\",\"\",SUMIFS(CMS_Detail!$I$24:$I$500,CMS_Detail!$B$24:$B$500,Summary_Report_CMS!B47,CMS_Detail!$C$24:$C$500,Summary_Report_CMS!C47,CMS_Detail!$J$24:$J$500,\"Monitoring Equipment Malfunctions\"))","v":""},{"$f":"IF(Summary_Report_CMS!$D47=\"\",\"\",SUMIFS(CMS_Detail!$I$24:$I$500,CMS_Detail!$B$24:$B$500,B47,CMS_Detail!$C$24:$C$500,Summary_Report_CMS!C47,CMS_Detail!$J$24:$J$500,\"Nonmonitoring Equipment Malfunctions\"))","v":""},{"$f":"IF(Summary_Report_CMS!$D47=\"\",\"\",SUMIFS(CMS_Detail!$I$24:$I$500,CMS_Detail!$B$24:$B$500,B47,CMS_Detail!$C$24:$C$500,Summary_Report_CMS!C47,CMS_Detail!$J$24:$J$500,\"Quality Assurance/Quality Control Calibrations\"))","v":""},{"$f":"IF(Summary_Report_CMS!$D47=\"\",\"\",SUMIFS(CMS_Detail!$I$24:$I$500,CMS_Detail!$B$24:$B$500,B47,CMS_Detail!$C$24:$C$500,Summary_Report_CMS!C47,CMS_Detail!$J$24:$J$500,\"Other Known Causes\"))","v":""},{"$f":"IF(Summary_Report_CMS!$D47=\"\",\"\",SUMIFS(CMS_Detail!$I$24:$I$500,CMS_Detail!$B$24:$B$500,B47,CMS_Detail!$C$24:$C$500,Summary_Report_CMS!C47,CMS_Detail!$J$24:$J$500,\"Other Unknown Causes\"))","v":""}]
[null,{"$f":"IF(Lists!AI26=\"\",\"\",Lists!AI26)","v":""},{"$f":"IF(Lists!AJ26=\"\",\"\",Lists!AJ26)","v":""},null,{"$f":"IF($D48=\"\",\"\",SUMIFS(CMS_Detail!$I$24:$I$5400,CMS_Detail!$B$24:$B$5400,B48,CMS_Detail!$C$24:$C$5400,C48))","v":""},"",{"$f":"IF(Summary_Report_CMS!$D48=\"\",\"\",SUMIFS(CMS_Detail!$I$24:$I$500,CMS_Detail!$B$24:$B$500,Summary_Report_CMS!B48,CMS_Detail!$C$24:$C$500,Summary_Report_CMS!C48,CMS_Detail!$J$24:$J$500,\"Monitoring Equipment Malfunctions\"))","v":""},{"$f":"IF(Summary_Report_CMS!$D48=\"\",\"\",SUMIFS(CMS_Detail!$I$24:$I$500,CMS_Detail!$B$24:$B$500,B48,CMS_Detail!$C$24:$C$500,Summary_Report_CMS!C48,CMS_Detail!$J$24:$J$500,\"Nonmonitoring Equipment Malfunctions\"))","v":""},{"$f":"IF(Summary_Report_CMS!$D48=\"\",\"\",SUMIFS(CMS_Detail!$I$24:$I$500,CMS_Detail!$B$24:$B$500,B48,CMS_Detail!$C$24:$C$500,Summary_Report_CMS!C48,CMS_Detail!$J$24:$J$500,\"Quality Assurance/Quality Control Calibrations\"))","v":""},{"$f":"IF(Summary_Report_CMS!$D48=\"\",\"\",SUMIFS(CMS_Detail!$I$24:$I$500,CMS_Detail!$B$24:$B$500,B48,CMS_Detail!$C$24:$C$500,Summary_Report_CMS!C48,CMS_Detail!$J$24:$J$500,\"Other Known Causes\"))","v":""},{"$f":"IF(Summary_Report_CMS!$D48=\"\",\"\",SUMIFS(CMS_Detail!$I$24:$I$500,CMS_Detail!$B$24:$B$500,B48,CMS_Detail!$C$24:$C$500,Summary_Report_CMS!C48,CMS_Detail!$J$24:$J$500,\"Other Unknown Causes\"))","v":""}]
[null,{"$f":"IF(Lists!AI27=\"\",\"\",Lists!AI27)","v":""},{"$f":"IF(Lists!AJ27=\"\",\"\",Lists!AJ27)","v":""},null,{"$f":"IF($D49=\"\",\"\",SUMIFS(CMS_Detail!$I$24:$I$5400,CMS_Detail!$B$24:$B$5400,B49,CMS_Detail!$C$24:$C$5400,C49))","v":""},"",{"$f":"IF(Summary_Report_CMS!$D49=\"\",\"\",SUMIFS(CMS_Detail!$I$24:$I$500,CMS_Detail!$B$24:$B$500,Summary_Report_CMS!B49,CMS_Detail!$C$24:$C$500,Summary_Report_CMS!C49,CMS_Detail!$J$24:$J$500,\"Monitoring Equipment Malfunctions\"))","v":""},{"$f":"IF(Summary_Report_CMS!$D49=\"\",\"\",SUMIFS(CMS_Detail!$I$24:$I$500,CMS_Detail!$B$24:$B$500,B49,CMS_Detail!$C$24:$C$500,Summary_Report_CMS!C49,CMS_Detail!$J$24:$J$500,\"Nonmonitoring Equipment Malfunctions\"))","v":""},{"$f":"IF(Summary_Report_CMS!$D49=\"\",\"\",SUMIFS(CMS_Detail!$I$24:$I$500,CMS_Detail!$B$24:$B$500,B49,CMS_Detail!$C$24:$C$500,Summary_Report_CMS!C49,CMS_Detail!$J$24:$J$500,\"Quality Assurance/Quality Control Calibrations\"))","v":""},{"$f":"IF(Summary_Report_CMS!$D49=\"\",\"\",SUMIFS(CMS_Detail!$I$24:$I$500,CMS_Detail!$B$24:$B$500,B49,CMS_Detail!$C$24:$C$500,Summary_Report_CMS!C49,CMS_Detail!$J$24:$J$500,\"Other Known Causes\"))","v":""},{"$f":"IF(Summary_Report_CMS!$D49=\"\",\"\",SUMIFS(CMS_Detail!$I$24:$I$500,CMS_Detail!$B$24:$B$500,B49,CMS_Detail!$C$24:$C$500,Summary_Report_CMS!C49,CMS_Detail!$J$24:$J$500,\"Other Unknown Causes\"))","v":""}]
[null,{"$f":"IF(Lists!AI28=\"\",\"\",Lists!AI28)","v":""},{"$f":"IF(Lists!AJ28=\"\",\"\",Lists!AJ28)","v":""},null,{"$f":"IF($D50=\"\",\"\",SUMIFS(CMS_Detail!$I$24:$I$5400,CMS_Detail!$B$24:$B$5400,B50,CMS_Detail!$C$24:$C$5400,C50))","v":""},"",{"$f":"IF(Summary_Report_CMS!$D50=\"\",\"\",SUMIFS(CMS_Detail!$I$24:$I$500,CMS_Detail!$B$24:$B$500,Summary_Report_CMS!B50,CMS_Detail!$C$24:$C$500,Summary_Report_CMS!C50,CMS_Detail!$J$24:$J$500,\"Monitoring Equipment Malfunctions\"))","v":""},{"$f":"IF(Summary_Report_CMS!$D50=\"\",\"\",SUMIFS(CMS_Detail!$I$24:$I$500,CMS_Detail!$B$24:$B$500,B50,CMS_Detail!$C$24:$C$500,Summary_Report_CMS!C50,CMS_Detail!$J$24:$J$500,\"Nonmonitoring Equipment Malfunctions\"))","v":""},{"$f":"IF(Summary_Report_CMS!$D50=\"\",\"\",SUMIFS(CMS_Detail!$I$24:$I$500,CMS_Detail!$B$24:$B$500,B50,CMS_Detail!$C$24:$C$500,Summary_Report_CMS!C50,CMS_Detail!$J$24:$J$500,\"Quality Assurance/Quality Control Calibrations\"))","v":""},{"$f":"IF(Summary_Report_CMS!$D50=\"\",\"\",SUMIFS(CMS_Detail!$I$24:$I$500,CMS_Detail!$B$24:$B$500,B50,CMS_Detail!$C$24:$C$500,Summary_Report_CMS!C50,CMS_Detail!$J$24:$J$500,\"Other Known Causes\"))","v":""},{"$f":"IF(Summary_Report_CMS!$D50=\"\",\"\",SUMIFS(CMS_Detail!$I$24:$I$500,CMS_Detail!$B$24:$B$500,B50,CMS_Detail!$C$24:$C$500,Summary_Report_CMS!C50,CMS_Detail!$J$24:$J$500,\"Other Unknown Causes\"))","v":""}]
[null,{"$f":"IF(Lists!AI29=\"\",\"\",Lists!AI29)","v":""},{"$f":"IF(Lists!AJ29=\"\",\"\",Lists!AJ29)","v":""},null,{"$f":"IF($D51=\"\",\"\",SUMIFS(CMS_Detail!$I$24:$I$5400,CMS_Detail!$B$24:$B$5400,B51,CMS_Detail!$C$24:$C$5400,C51))","v":""},"",{"$f":"IF(Summary_Report_CMS!$D51=\"\",\"\",SUMIFS(CMS_Detail!$I$24:$I$500,CMS_Detail!$B$24:$B$500,Summary_Report_CMS!B51,CMS_Detail!$C$24:$C$500,Summary_Report_CMS!C51,CMS_Detail!$J$24:$J$500,\"Monitoring Equipment Malfunctions\"))","v":""},{"$f":"IF(Summary_Report_CMS!$D51=\"\",\"\",SUMIFS(CMS_Detail!$I$24:$I$500,CMS_Detail!$B$24:$B$500,B51,CMS_Detail!$C$24:$C$500,Summary_Report_CMS!C51,CMS_Detail!$J$24:$J$500,\"Nonmonitoring Equipment Malfunctions\"))","v":""},{"$f":"IF(Summary_Report_CMS!$D51=\"\",\"\",SUMIFS(CMS_Detail!$I$24:$I$500,CMS_Detail!$B$24:$B$500,B51,CMS_Detail!$C$24:$C$500,Summary_Report_CMS!C51,CMS_Detail!$J$24:$J$500,\"Quality Assurance/Quality Control Calibrations\"))","v":""},{"$f":"IF(Summary_Report_CMS!$D51=\"\",\"\",SUMIFS(CMS_Detail!$I$24:$I$500,CMS_Detail!$B$24:$B$500,B51,CMS_Detail!$C$24:$C$500,Summary_Report_CMS!C51,CMS_Detail!$J$24:$J$500,\"Other Known Causes\"))","v":""},{"$f":"IF(Summary_Report_CMS!$D51=\"\",\"\",SUMIFS(CMS_Detail!$I$24:$I$500,CMS_Detail!$B$24:$B$500,B51,CMS_Detail!$C$24:$C$500,Summary_Report_CMS!C51,CMS_Detail!$J$24:$J$500,\"Other Unknown Causes\"))","v":""}]
[null,{"$f":"IF(Lists!AI30=\"\",\"\",Lists!AI30)","v":""},{"$f":"IF(Lists!AJ30=\"\",\"\",Lists!AJ30)","v":""},null,{"$f":"IF($D52=\"\",\"\",SUMIFS(CMS_Detail!$I$24:$I$5400,CMS_Detail!$B$24:$B$5400,B52,CMS_Detail!$C$24:$C$5400,C52))","v":""},"",{"$f":"IF(Summary_Report_CMS!$D52=\"\",\"\",SUMIFS(CMS_Detail!$I$24:$I$500,CMS_Detail!$B$24:$B$500,Summary_Report_CMS!B52,CMS_Detail!$C$24:$C$500,Summary_Report_CMS!C52,CMS_Detail!$J$24:$J$500,\"Monitoring Equipment Malfunctions\"))","v":""},{"$f":"IF(Summary_Report_CMS!$D52=\"\",\"\",SUMIFS(CMS_Detail!$I$24:$I$500,CMS_Detail!$B$24:$B$500,B52,CMS_Detail!$C$24:$C$500,Summary_Report_CMS!C52,CMS_Detail!$J$24:$J$500,\"Nonmonitoring Equipment Malfunctions\"))","v":""},{"$f":"IF(Summary_Report_CMS!$D52=\"\",\"\",SUMIFS(CMS_Detail!$I$24:$I$500,CMS_Detail!$B$24:$B$500,B52,CMS_Detail!$C$24:$C$500,Summary_Report_CMS!C52,CMS_Detail!$J$24:$J$500,\"Quality Assurance/Quality Control Calibrations\"))","v":""},{"$f":"IF(Summary_Report_CMS!$D52=\"\",\"\",SUMIFS(CMS_Detail!$I$24:$I$500,CMS_Detail!$B$24:$B$500,B52,CMS_Detail!$C$24:$C$500,Summary_Report_CMS!C52,CMS_Detail!$J$24:$J$500,\"Other Known Causes\"))","v":""},{"$f":"IF(Summary_Report_CMS!$D52=\"\",\"\",SUMIFS(CMS_Detail!$I$24:$I$500,CMS_Detail!$B$24:$B$500,B52,CMS_Detail!$C$24:$C$500,Summary_Report_CMS!C52,CMS_Detail!$J$24:$J$500,\"Other Unknown Causes\"))","v":""}]
[null,{"$f":"IF(Lists!AI31=\"\",\"\",Lists!AI31)","v":""},{"$f":"IF(Lists!AJ31=\"\",\"\",Lists!AJ31)","v":""},null,{"$f":"IF($D53=\"\",\"\",SUMIFS(CMS_Detail!$I$24:$I$5400,CMS_Detail!$B$24:$B$5400,B53,CMS_Detail!$C$24:$C$5400,C53))","v":""},"",{"$f":"IF(Summary_Report_CMS!$D53=\"\",\"\",SUMIFS(CMS_Detail!$I$24:$I$500,CMS_Detail!$B$24:$B$500,Summary_Report_CMS!B53,CMS_Detail!$C$24:$C$500,Summary_Report_CMS!C53,CMS_Detail!$J$24:$J$500,\"Monitoring Equipment Malfunctions\"))","v":""},{"$f":"IF(Summary_Report_CMS!$D53=\"\",\"\",SUMIFS(CMS_Detail!$I$24:$I$500,CMS_Detail!$B$24:$B$500,B53,CMS_Detail!$C$24:$C$500,Summary_Report_CMS!C53,CMS_Detail!$J$24:$J$500,\"Nonmonitoring Equipment Malfunctions\"))","v":""},{"$f":"IF(Summary_Report_CMS!$D53=\"\",\"\",SUMIFS(CMS_Detail!$I$24:$I$500,CMS_Detail!$B$24:$B$500,B53,CMS_Detail!$C$24:$C$500,Summary_Report_CMS!C53,CMS_Detail!$J$24:$J$500,\"Quality Assurance/Quality Control Calibrations\"))","v":""},{"$f":"IF(Summary_Report_CMS!$D53=\"\",\"\",SUMIFS(CMS_Detail!$I$24:$I$500,CMS_Detail!$B$24:$B$500,B53,CMS_Detail!$C$24:$C$500,Summary_Report_CMS!C53,CMS_Detail!$J$24:$J$500,\"Other Known Causes\"))","v":""},{"$f":"IF(Summary_Report_CMS!$D53=\"\",\"\",SUMIFS(CMS_Detail!$I$24:$I$500,CMS_Detail!$B$24:$B$500,B53,CMS_Detail!$C$24:$C$500,Summary_Report_CMS!C53,CMS_Detail!$J$24:$J$500,\"Other Unknown Causes\"))","v":""}]
[null,{"$f":"IF(Lists!AI32=\"\",\"\",Lists!AI32)","v":""},{"$f":"IF(Lists!AJ32=\"\",\"\",Lists!AJ32)","v":""},null,{"$f":"IF($D54=\"\",\"\",SUMIFS(CMS_Detail!$I$24:$I$5400,CMS_Detail!$B$24:$B$5400,B54,CMS_Detail!$C$24:$C$5400,C54))","v":""},"",{"$f":"IF(Summary_Report_CMS!$D54=\"\",\"\",SUMIFS(CMS_Detail!$I$24:$I$500,CMS_Detail!$B$24:$B$500,Summary_Report_CMS!B54,CMS_Detail!$C$24:$C$500,Summary_Report_CMS!C54,CMS_Detail!$J$24:$J$500,\"Monitoring Equipment Malfunctions\"))","v":""},{"$f":"IF(Summary_Report_CMS!$D54=\"\",\"\",SUMIFS(CMS_Detail!$I$24:$I$500,CMS_Detail!$B$24:$B$500,B54,CMS_Detail!$C$24:$C$500,Summary_Report_CMS!C54,CMS_Detail!$J$24:$J$500,\"Nonmonitoring Equipment Malfunctions\"))","v":""},{"$f":"IF(Summary_Report_CMS!$D54=\"\",\"\",SUMIFS(CMS_Detail!$I$24:$I$500,CMS_Detail!$B$24:$B$500,B54,CMS_Detail!$C$24:$C$500,Summary_Report_CMS!C54,CMS_Detail!$J$24:$J$500,\"Quality Assurance/Quality Control Calibrations\"))","v":""},{"$f":"IF(Summary_Report_CMS!$D54=\"\",\"\",SUMIFS(CMS_Detail!$I$24:$I$500,CMS_Detail!$B$24:$B$500,B54,CMS_Detail!$C$24:$C$500,Summary_Report_CMS!C54,CMS_Detail!$J$24:$J$500,\"Other Known Causes\"))","v":""},{"$f":"IF(Summary_Report_CMS!$D54=\"\",\"\",SUMIFS(CMS_Detail!$I$24:$I$500,CMS_Detail!$B$24:$B$500,B54,CMS_Detail!$C$24:$C$500,Summary_Report_CMS!C54,CMS_Detail!$J$24:$J$500,\"Other Unknown Causes\"))","v":""}]
[null,{"$f":"IF(Lists!AI33=\"\",\"\",Lists!AI33)","v":""},{"$f":"IF(Lists!AJ33=\"\",\"\",Lists!AJ33)","v":""},null,{"$f":"IF($D55=\"\",\"\",SUMIFS(CMS_Detail!$I$24:$I$5400,CMS_Detail!$B$24:$B$5400,B55,CMS_Detail!$C$24:$C$5400,C55))","v":""},"",{"$f":"IF(Summary_Report_CMS!$D55=\"\",\"\",SUMIFS(CMS_Detail!$I$24:$I$500,CMS_Detail!$B$24:$B$500,Summary_Report_CMS!B55,CMS_Detail!$C$24:$C$500,Summary_Report_CMS!C55,CMS_Detail!$J$24:$J$500,\"Monitoring Equipment Malfunctions\"))","v":""},{"$f":"IF(Summary_Report_CMS!$D55=\"\",\"\",SUMIFS(CMS_Detail!$I$24:$I$500,CMS_Detail!$B$24:$B$500,B55,CMS_Detail!$C$24:$C$500,Summary_Report_CMS!C55,CMS_Detail!$J$24:$J$500,\"Nonmonitoring Equipment Malfunctions\"))","v":""},{"$f":"IF(Summary_Report_CMS!$D55=\"\",\"\",SUMIFS(CMS_Detail!$I$24:$I$500,CMS_Detail!$B$24:$B$500,B55,CMS_Detail!$C$24:$C$500,Summary_Report_CMS!C55,CMS_Detail!$J$24:$J$500,\"Quality Assurance/Quality Control Calibrations\"))","v":""},{"$f":"IF(Summary_Report_CMS!$D55=\"\",\"\",SUMIFS(CMS_Detail!$I$24:$I$500,CMS_Detail!$B$24:$B$500,B55,CMS_Detail!$C$24:$C$500,Summary_Report_CMS!C55,CMS_Detail!$J$24:$J$500,\"Other Known Causes\"))","v":""},{"$f":"IF(Summary_Report_CMS!$D55=\"\",\"\",SUMIFS(CMS_Detail!$I$24:$I$500,CMS_Detail!$B$24:$B$500,B55,CMS_Detail!$C$24:$C$500,Summary_Report_CMS!C55,CMS_Detail!$J$24:$J$500,\"Other Unknown Causes\"))","v":""}]
[null,{"$f":"IF(Lists!AI34=\"\",\"\",Lists!AI34)","v":""},{"$f":"IF(Lists!AJ34=\"\",\"\",Lists!AJ34)","v":""},null,{"$f":"IF($D56=\"\",\"\",SUMIFS(CMS_Detail!$I$24:$I$5400,CMS_Detail!$B$24:$B$5400,B56,CMS_Detail!$C$24:$C$5400,C56))","v":""},"",{"$f":"IF(Summary_Report_CMS!$D56=\"\",\"\",SUMIFS(CMS_Detail!$I$24:$I$500,CMS_Detail!$B$24:$B$500,Summary_Report_CMS!B56,CMS_Detail!$C$24:$C$500,Summary_Report_CMS!C56,CMS_Detail!$J$24:$J$500,\"Monitoring Equipment Malfunctions\"))","v":""},{"$f":"IF(Summary_Report_CMS!$D56=\"\",\"\",SUMIFS(CMS_Detail!$I$24:$I$500,CMS_Detail!$B$24:$B$500,B56,CMS_Detail!$C$24:$C$500,Summary_Report_CMS!C56,CMS_Detail!$J$24:$J$500,\"Nonmonitoring Equipment Malfunctions\"))","v":""},{"$f":"IF(Summary_Report_CMS!$D56=\"\",\"\",SUMIFS(CMS_Detail!$I$24:$I$500,CMS_Detail!$B$24:$B$500,B56,CMS_Detail!$C$24:$C$500,Summary_Report_CMS!C56,CMS_Detail!$J$24:$J$500,\"Quality Assurance/Quality Control Calibrations\"))","v":""},{"$f":"IF(Summary_Report_CMS!$D56=\"\",\"\",SUMIFS(CMS_Detail!$I$24:$I$500,CMS_Detail!$B$24:$B$500,B56,CMS_Detail!$C$24:$C$500,Summary_Report_CMS!C56,CMS_Detail!$J$24:$J$500,\"Other Known Causes\"))","v":""},{"$f":"IF(Summary_Report_CMS!$D56=\"\",\"\",SUMIFS(CMS_Detail!$I$24:$I$500,CMS_Detail!$B$24:$B$500,B56,CMS_Detail!$C$24:$C$500,Summary_Report_CMS!C56,CMS_Detail!$J$24:$J$500,\"Other Unknown Causes\"))","v":""}]
[null,{"$f":"IF(Lists!AI35=\"\",\"\",Lists!AI35)","v":""},{"$f":"IF(Lists!AJ35=\"\",\"\",Lists!AJ35)","v":""},null,{"$f":"IF($D57=\"\",\"\",SUMIFS(CMS_Detail!$I$24:$I$5400,CMS_Detail!$B$24:$B$5400,B57,CMS_Detail!$C$24:$C$5400,C57))","v":""},"",{"$f":"IF(Summary_Report_CMS!$D57=\"\",\"\",SUMIFS(CMS_Detail!$I$24:$I$500,CMS_Detail!$B$24:$B$500,Summary_Report_CMS!B57,CMS_Detail!$C$24:$C$500,Summary_Report_CMS!C57,CMS_Detail!$J$24:$J$500,\"Monitoring Equipment Malfunctions\"))","v":""},{"$f":"IF(Summary_Report_CMS!$D57=\"\",\"\",SUMIFS(CMS_Detail!$I$24:$I$500,CMS_Detail!$B$24:$B$500,B57,CMS_Detail!$C$24:$C$500,Summary_Report_CMS!C57,CMS_Detail!$J$24:$J$500,\"Nonmonitoring Equipment Malfunctions\"))","v":""},{"$f":"IF(Summary_Report_CMS!$D57=\"\",\"\",SUMIFS(CMS_Detail!$I$24:$I$500,CMS_Detail!$B$24:$B$500,B57,CMS_Detail!$C$24:$C$500,Summary_Report_CMS!C57,CMS_Detail!$J$24:$J$500,\"Quality Assurance/Quality Control Calibrations\"))","v":""},{"$f":"IF(Summary_Report_CMS!$D57=\"\",\"\",SUMIFS(CMS_Detail!$I$24:$I$500,CMS_Detail!$B$24:$B$500,B57,CMS_Detail!$C$24:$C$500,Summary_Report_CMS!C57,CMS_Detail!$J$24:$J$500,\"Other Known Causes\"))","v":""},{"$f":"IF(Summary_Report_CMS!$D57=\"\",\"\",SUMIFS(CMS_Detail!$I$24:$I$500,CMS_Detail!$B$24:$B$500,B57,CMS_Detail!$C$24:$C$500,Summary_Report_CMS!C57,CMS_Detail!$J$24:$J$500,\"Other Unknown Causes\"))","v":""}]
[null,{"$f":"IF(Lists!AI36=\"\",\"\",Lists!AI36)","v":""},{"$f":"IF(Lists!AJ36=\"\",\"\",Lists!AJ36)","v":""},null,{"$f":"IF($D58=\"\",\"\",SUMIFS(CMS_Detail!$I$24:$I$5400,CMS_Detail!$B$24:$B$5400,B58,CMS_Detail!$C$24:$C$5400,C58))","v":""},"",{"$f":"IF(Summary_Report_CMS!$D58=\"\",\"\",SUMIFS(CMS_Detail!$I$24:$I$500,CMS_Detail!$B$24:$B$500,Summary_Report_CMS!B58,CMS_Detail!$C$24:$C$500,Summary_Report_CMS!C58,CMS_Detail!$J$24:$J$500,\"Monitoring Equipment Malfunctions\"))","v":""},{"$f":"IF(Summary_Report_CMS!$D58=\"\",\"\",SUMIFS(CMS_Detail!$I$24:$I$500,CMS_Detail!$B$24:$B$500,B58,CMS_Detail!$C$24:$C$500,Summary_Report_CMS!C58,CMS_Detail!$J$24:$J$500,\"Nonmonitoring Equipment Malfunctions\"))","v":""},{"$f":"IF(Summary_Report_CMS!$D58=\"\",\"\",SUMIFS(CMS_Detail!$I$24:$I$500,CMS_Detail!$B$24:$B$500,B58,CMS_Detail!$C$24:$C$500,Summary_Report_CMS!C58,CMS_Detail!$J$24:$J$500,\"Quality Assurance/Quality Control Calibrations\"))","v":""},{"$f":"IF(Summary_Report_CMS!$D58=\"\",\"\",SUMIFS(CMS_Detail!$I$24:$I$500,CMS_Detail!$B$24:$B$500,B58,CMS_Detail!$C$24:$C$500,Summary_Report_CMS!C58,CMS_Detail!$J$24:$J$500,\"Other Known Causes\"))","v":""},{"$f":"IF(Summary_Report_CMS!$D58=\"\",\"\",SUMIFS(CMS_Detail!$I$24:$I$500,CMS_Detail!$B$24:$B$500,B58,CMS_Detail!$C$24:$C$500,Summary_Report_CMS!C58,CMS_Detail!$J$24:$J$500,\"Other Unknown Causes\"))","v":""}]
[null,{"$f":"IF(Lists!AI37=\"\",\"\",Lists!AI37)","v":""},{"$f":"IF(Lists!AJ37=\"\",\"\",Lists!AJ37)","v":""},null,{"$f":"IF($D59=\"\",\"\",SUMIFS(CMS_Detail!$I$24:$I$5400,CMS_Detail!$B$24:$B$5400,B59,CMS_Detail!$C$24:$C$5400,C59))","v":""},"",{"$f":"IF(Summary_Report_CMS!$D59=\"\",\"\",SUMIFS(CMS_Detail!$I$24:$I$500,CMS_Detail!$B$24:$B$500,Summary_Report_CMS!B59,CMS_Detail!$C$24:$C$500,Summary_Report_CMS!C59,CMS_Detail!$J$24:$J$500,\"Monitoring Equipment Malfunctions\"))","v":""},{"$f":"IF(Summary_Report_CMS!$D59=\"\",\"\",SUMIFS(CMS_Detail!$I$24:$I$500,CMS_Detail!$B$24:$B$500,B59,CMS_Detail!$C$24:$C$500,Summary_Report_CMS!C59,CMS_Detail!$J$24:$J$500,\"Nonmonitoring Equipment Malfunctions\"))","v":""},{"$f":"IF(Summary_Report_CMS!$D59=\"\",\"\",SUMIFS(CMS_Detail!$I$24:$I$500,CMS_Detail!$B$24:$B$500,B59,CMS_Detail!$C$24:$C$500,Summary_Report_CMS!C59,CMS_Detail!$J$24:$J$500,\"Quality Assurance/Quality Control Calibrations\"))","v":""},{"$f":"IF(Summary_Report_CMS!$D59=\"\",\"\",SUMIFS(CMS_Detail!$I$24:$I$500,CMS_Detail!$B$24:$B$500,B59,CMS_Detail!$C$24:$C$500,Summary_Report_CMS!C59,CMS_Detail!$J$24:$J$500,\"Other Known Causes\"))","v":""},{"$f":"IF(Summary_Report_CMS!$D59=\"\",\"\",SUMIFS(CMS_Detail!$I$24:$I$500,CMS_Detail!$B$24:$B$500,B59,CMS_Detail!$C$24:$C$500,Summary_Report_CMS!C59,CMS_Detail!$J$24:$J$500,\"Other Unknown Causes\"))","v":""}]
[null,{"$f":"IF(Lists!AI38=\"\",\"\",Lists!AI38)","v":""},{"$f":"IF(Lists!AJ38=\"\",\"\",Lists!AJ38)","v":""},null,{"$f":"IF($D60=\"\",\"\",SUMIFS(CMS_Detail!$I$24:$I$5400,CMS_Detail!$B$24:$B$5400,B60,CMS_Detail!$C$24:$C$5400,C60))","v":""},"",{"$f":"IF(Summary_Report_CMS!$D60=\"\",\"\",SUMIFS(CMS_Detail!$I$24:$I$500,CMS_Detail!$B$24:$B$500,Summary_Report_CMS!B60,CMS_Detail!$C$24:$C$500,Summary_Report_CMS!C60,CMS_Detail!$J$24:$J$500,\"Monitoring Equipment Malfunctions\"))","v":""},{"$f":"IF(Summary_Report_CMS!$D60=\"\",\"\",SUMIFS(CMS_Detail!$I$24:$I$500,CMS_Detail!$B$24:$B$500,B60,CMS_Detail!$C$24:$C$500,Summary_Report_CMS!C60,CMS_Detail!$J$24:$J$500,\"Nonmonitoring Equipment Malfunctions\"))","v":""},{"$f":"IF(Summary_Report_CMS!$D60=\"\",\"\",SUMIFS(CMS_Detail!$I$24:$I$500,CMS_Detail!$B$24:$B$500,B60,CMS_Detail!$C$24:$C$500,Summary_Report_CMS!C60,CMS_Detail!$J$24:$J$500,\"Quality Assurance/Quality Control Calibrations\"))","v":""},{"$f":"IF(Summary_Report_CMS!$D60=\"\",\"\",SUMIFS(CMS_Detail!$I$24:$I$500,CMS_Detail!$B$24:$B$500,B60,CMS_Detail!$C$24:$C$500,Summary_Report_CMS!C60,CMS_Detail!$J$24:$J$500,\"Other Known Causes\"))","v":""},{"$f":"IF(Summary_Report_CMS!$D60=\"\",\"\",SUMIFS(CMS_Detail!$I$24:$I$500,CMS_Detail!$B$24:$B$500,B60,CMS_Detail!$C$24:$C$500,Summary_Report_CMS!C60,CMS_Detail!$J$24:$J$500,\"Other Unknown Causes\"))","v":""}]
[null,{"$f":"IF(Lists!AI39=\"\",\"\",Lists!AI39)","v":""},{"$f":"IF(Lists!AJ39=\"\",\"\",Lists!AJ39)","v":""},null,{"$f":"IF($D61=\"\",\"\",SUMIFS(CMS_Detail!$I$24:$I$5400,CMS_Detail!$B$24:$B$5400,B61,CMS_Detail!$C$24:$C$5400,C61))","v":""},"",{"$f":"IF(Summary_Report_CMS!$D61=\"\",\"\",SUMIFS(CMS_Detail!$I$24:$I$500,CMS_Detail!$B$24:$B$500,Summary_Report_CMS!B61,CMS_Detail!$C$24:$C$500,Summary_Report_CMS!C61,CMS_Detail!$J$24:$J$500,\"Monitoring Equipment Malfunctions\"))","v":""},{"$f":"IF(Summary_Report_CMS!$D61=\"\",\"\",SUMIFS(CMS_Detail!$I$24:$I$500,CMS_Detail!$B$24:$B$500,B61,CMS_Detail!$C$24:$C$500,Summary_Report_CMS!C61,CMS_Detail!$J$24:$J$500,\"Nonmonitoring Equipment Malfunctions\"))","v":""},{"$f":"IF(Summary_Report_CMS!$D61=\"\",\"\",SUMIFS(CMS_Detail!$I$24:$I$500,CMS_Detail!$B$24:$B$500,B61,CMS_Detail!$C$24:$C$500,Summary_Report_CMS!C61,CMS_Detail!$J$24:$J$500,\"Quality Assurance/Quality Control Calibrations\"))","v":""},{"$f":"IF(Summary_Report_CMS!$D61=\"\",\"\",SUMIFS(CMS_Detail!$I$24:$I$500,CMS_Detail!$B$24:$B$500,B61,CMS_Detail!$C$24:$C$500,Summary_Report_CMS!C61,CMS_Detail!$J$24:$J$500,\"Other Known Causes\"))","v":""},{"$f":"IF(Summary_Report_CMS!$D61=\"\",\"\",SUMIFS(CMS_Detail!$I$24:$I$500,CMS_Detail!$B$24:$B$500,B61,CMS_Detail!$C$24:$C$500,Summary_Report_CMS!C61,CMS_Detail!$J$24:$J$500,\"Other Unknown Causes\"))","v":""}]
[null,{"$f":"IF(Lists!AI40=\"\",\"\",Lists!AI40)","v":""},{"$f":"IF(Lists!AJ40=\"\",\"\",Lists!AJ40)","v":""},null,{"$f":"IF($D62=\"\",\"\",SUMIFS(CMS_Detail!$I$24:$I$5400,CMS_Detail!$B$24:$B$5400,B62,CMS_Detail!$C$24:$C$5400,C62))","v":""},"",{"$f":"IF(Summary_Report_CMS!$D62=\"\",\"\",SUMIFS(CMS_Detail!$I$24:$I$500,CMS_Detail!$B$24:$B$500,Summary_Report_CMS!B62,CMS_Detail!$C$24:$C$500,Summary_Report_CMS!C62,CMS_Detail!$J$24:$J$500,\"Monitoring Equipment Malfunctions\"))","v":""},{"$f":"IF(Summary_Report_CMS!$D62=\"\",\"\",SUMIFS(CMS_Detail!$I$24:$I$500,CMS_Detail!$B$24:$B$500,B62,CMS_Detail!$C$24:$C$500,Summary_Report_CMS!C62,CMS_Detail!$J$24:$J$500,\"Nonmonitoring Equipment Malfunctions\"))","v":""},{"$f":"IF(Summary_Report_CMS!$D62=\"\",\"\",SUMIFS(CMS_Detail!$I$24:$I$500,CMS_Detail!$B$24:$B$500,B62,CMS_Detail!$C$24:$C$500,Summary_Report_CMS!C62,CMS_Detail!$J$24:$J$500,\"Quality Assurance/Quality Control Calibrations\"))","v":""},{"$f":"IF(Summary_Report_CMS!$D62=\"\",\"\",SUMIFS(CMS_Detail!$I$24:$I$500,CMS_Detail!$B$24:$B$500,B62,CMS_Detail!$C$24:$C$500,Summary_Report_CMS!C62,CMS_Detail!$J$24:$J$500,\"Other Known Causes\"))","v":""},{"$f":"IF(Summary_Report_CMS!$D62=\"\",\"\",SUMIFS(CMS_Detail!$I$24:$I$500,CMS_Detail!$B$24:$B$500,B62,CMS_Detail!$C$24:$C$500,Summary_Report_CMS!C62,CMS_Detail!$J$24:$J$500,\"Other Unknown Causes\"))","v":""}]
[null,{"$f":"IF(Lists!AI41=\"\",\"\",Lists!AI41)","v":""},{"$f":"IF(Lists!AJ41=\"\",\"\",Lists!AJ41)","v":""},null,{"$f":"IF($D63=\"\",\"\",SUMIFS(CMS_Detail!$I$24:$I$5400,CMS_Detail!$B$24:$B$5400,B63,CMS_Detail!$C$24:$C$5400,C63))","v":""},"",{"$f":"IF(Summary_Report_CMS!$D63=\"\",\"\",SUMIFS(CMS_Detail!$I$24:$I$500,CMS_Detail!$B$24:$B$500,Summary_Report_CMS!B63,CMS_Detail!$C$24:$C$500,Summary_Report_CMS!C63,CMS_Detail!$J$24:$J$500,\"Monitoring Equipment Malfunctions\"))","v":""},{"$f":"IF(Summary_Report_CMS!$D63=\"\",\"\",SUMIFS(CMS_Detail!$I$24:$I$500,CMS_Detail!$B$24:$B$500,B63,CMS_Detail!$C$24:$C$500,Summary_Report_CMS!C63,CMS_Detail!$J$24:$J$500,\"Nonmonitoring Equipment Malfunctions\"))","v":""},{"$f":"IF(Summary_Report_CMS!$D63=\"\",\"\",SUMIFS(CMS_Detail!$I$24:$I$500,CMS_Detail!$B$24:$B$500,B63,CMS_Detail!$C$24:$C$500,Summary_Report_CMS!C63,CMS_Detail!$J$24:$J$500,\"Quality Assurance/Quality Control Calibrations\"))","v":""},{"$f":"IF(Summary_Report_CMS!$D63=\"\",\"\",SUMIFS(CMS_Detail!$I$24:$I$500,CMS_Detail!$B$24:$B$500,B63,CMS_Detail!$C$24:$C$500,Summary_Report_CMS!C63,CMS_Detail!$J$24:$J$500,\"Other Known Causes\"))","v":""},{"$f":"IF(Summary_Report_CMS!$D63=\"\",\"\",SUMIFS(CMS_Detail!$I$24:$I$500,CMS_Detail!$B$24:$B$500,B63,CMS_Detail!$C$24:$C$500,Summary_Report_CMS!C63,CMS_Detail!$J$24:$J$500,\"Other Unknown Causes\"))","v":""}]
[null,{"$f":"IF(Lists!AI42=\"\",\"\",Lists!AI42)","v":""},{"$f":"IF(Lists!AJ42=\"\",\"\",Lists!AJ42)","v":""},null,{"$f":"IF($D64=\"\",\"\",SUMIFS(CMS_Detail!$I$24:$I$5400,CMS_Detail!$B$24:$B$5400,B64,CMS_Detail!$C$24:$C$5400,C64))","v":""},"",{"$f":"IF(Summary_Report_CMS!$D64=\"\",\"\",SUMIFS(CMS_Detail!$I$24:$I$500,CMS_Detail!$B$24:$B$500,Summary_Report_CMS!B64,CMS_Detail!$C$24:$C$500,Summary_Report_CMS!C64,CMS_Detail!$J$24:$J$500,\"Monitoring Equipment Malfunctions\"))","v":""},{"$f":"IF(Summary_Report_CMS!$D64=\"\",\"\",SUMIFS(CMS_Detail!$I$24:$I$500,CMS_Detail!$B$24:$B$500,B64,CMS_Detail!$C$24:$C$500,Summary_Report_CMS!C64,CMS_Detail!$J$24:$J$500,\"Nonmonitoring Equipment Malfunctions\"))","v":""},{"$f":"IF(Summary_Report_CMS!$D64=\"\",\"\",SUMIFS(CMS_Detail!$I$24:$I$500,CMS_Detail!$B$24:$B$500,B64,CMS_Detail!$C$24:$C$500,Summary_Report_CMS!C64,CMS_Detail!$J$24:$J$500,\"Quality Assurance/Quality Control Calibrations\"))","v":""},{"$f":"IF(Summary_Report_CMS!$D64=\"\",\"\",SUMIFS(CMS_Detail!$I$24:$I$500,CMS_Detail!$B$24:$B$500,B64,CMS_Detail!$C$24:$C$500,Summary_Report_CMS!C64,CMS_Detail!$J$24:$J$500,\"Other Known Causes\"))","v":""},{"$f":"IF(Summary_Report_CMS!$D64=\"\",\"\",SUMIFS(CMS_Detail!$I$24:$I$500,CMS_Detail!$B$24:$B$500,B64,CMS_Detail!$C$24:$C$500,Summary_Report_CMS!C64,CMS_Detail!$J$24:$J$500,\"Other Unknown Causes\"))","v":""}]
[null,{"$f":"IF(Lists!AI43=\"\",\"\",Lists!AI43)","v":""},{"$f":"IF(Lists!AJ43=\"\",\"\",Lists!AJ43)","v":""},null,{"$f":"IF($D65=\"\",\"\",SUMIFS(CMS_Detail!$I$24:$I$5400,CMS_Detail!$B$24:$B$5400,B65,CMS_Detail!$C$24:$C$5400,C65))","v":""},"",{"$f":"IF(Summary_Report_CMS!$D65=\"\",\"\",SUMIFS(CMS_Detail!$I$24:$I$500,CMS_Detail!$B$24:$B$500,Summary_Report_CMS!B65,CMS_Detail!$C$24:$C$500,Summary_Report_CMS!C65,CMS_Detail!$J$24:$J$500,\"Monitoring Equipment Malfunctions\"))","v":""},{"$f":"IF(Summary_Report_CMS!$D65=\"\",\"\",SUMIFS(CMS_Detail!$I$24:$I$500,CMS_Detail!$B$24:$B$500,B65,CMS_Detail!$C$24:$C$500,Summary_Report_CMS!C65,CMS_Detail!$J$24:$J$500,\"Nonmonitoring Equipment Malfunctions\"))","v":""},{"$f":"IF(Summary_Report_CMS!$D65=\"\",\"\",SUMIFS(CMS_Detail!$I$24:$I$500,CMS_Detail!$B$24:$B$500,B65,CMS_Detail!$C$24:$C$500,Summary_Report_CMS!C65,CMS_Detail!$J$24:$J$500,\"Quality Assurance/Quality Control Calibrations\"))","v":""},{"$f":"IF(Summary_Report_CMS!$D65=\"\",\"\",SUMIFS(CMS_Detail!$I$24:$I$500,CMS_Detail!$B$24:$B$500,B65,CMS_Detail!$C$24:$C$500,Summary_Report_CMS!C65,CMS_Detail!$J$24:$J$500,\"Other Known Causes\"))","v":""},{"$f":"IF(Summary_Report_CMS!$D65=\"\",\"\",SUMIFS(CMS_Detail!$I$24:$I$500,CMS_Detail!$B$24:$B$500,B65,CMS_Detail!$C$24:$C$500,Summary_Report_CMS!C65,CMS_Detail!$J$24:$J$500,\"Other Unknown Causes\"))","v":""}]
[null,{"$f":"IF(Lists!AI44=\"\",\"\",Lists!AI44)","v":""},{"$f":"IF(Lists!AJ44=\"\",\"\",Lists!AJ44)","v":""},null,{"$f":"IF($D66=\"\",\"\",SUMIFS(CMS_Detail!$I$24:$I$5400,CMS_Detail!$B$24:$B$5400,B66,CMS_Detail!$C$24:$C$5400,C66))","v":""},"",{"$f":"IF(Summary_Report_CMS!$D66=\"\",\"\",SUMIFS(CMS_Detail!$I$24:$I$500,CMS_Detail!$B$24:$B$500,Summary_Report_CMS!B66,CMS_Detail!$C$24:$C$500,Summary_Report_CMS!C66,CMS_Detail!$J$24:$J$500,\"Monitoring Equipment Malfunctions\"))","v":""},{"$f":"IF(Summary_Report_CMS!$D66=\"\",\"\",SUMIFS(CMS_Detail!$I$24:$I$500,CMS_Detail!$B$24:$B$500,B66,CMS_Detail!$C$24:$C$500,Summary_Report_CMS!C66,CMS_Detail!$J$24:$J$500,\"Nonmonitoring Equipment Malfunctions\"))","v":""},{"$f":"IF(Summary_Report_CMS!$D66=\"\",\"\",SUMIFS(CMS_Detail!$I$24:$I$500,CMS_Detail!$B$24:$B$500,B66,CMS_Detail!$C$24:$C$500,Summary_Report_CMS!C66,CMS_Detail!$J$24:$J$500,\"Quality Assurance/Quality Control Calibrations\"))","v":""},{"$f":"IF(Summary_Report_CMS!$D66=\"\",\"\",SUMIFS(CMS_Detail!$I$24:$I$500,CMS_Detail!$B$24:$B$500,B66,CMS_Detail!$C$24:$C$500,Summary_Report_CMS!C66,CMS_Detail!$J$24:$J$500,\"Other Known Causes\"))","v":""},{"$f":"IF(Summary_Report_CMS!$D66=\"\",\"\",SUMIFS(CMS_Detail!$I$24:$I$500,CMS_Detail!$B$24:$B$500,B66,CMS_Detail!$C$24:$C$500,Summary_Report_CMS!C66,CMS_Detail!$J$24:$J$500,\"Other Unknown Causes\"))","v":""}]
[null,{"$f":"IF(Lists!AI45=\"\",\"\",Lists!AI45)","v":""},{"$f":"IF(Lists!AJ45=\"\",\"\",Lists!AJ45)","v":""},null,{"$f":"IF($D67=\"\",\"\",SUMIFS(CMS_Detail!$I$24:$I$5400,CMS_Detail!$B$24:$B$5400,B67,CMS_Detail!$C$24:$C$5400,C67))","v":""},"",{"$f":"IF(Summary_Report_CMS!$D67=\"\",\"\",SUMIFS(CMS_Detail!$I$24:$I$500,CMS_Detail!$B$24:$B$500,Summary_Report_CMS!B67,CMS_Detail!$C$24:$C$500,Summary_Report_CMS!C67,CMS_Detail!$J$24:$J$500,\"Monitoring Equipment Malfunctions\"))","v":""},{"$f":"IF(Summary_Report_CMS!$D67=\"\",\"\",SUMIFS(CMS_Detail!$I$24:$I$500,CMS_Detail!$B$24:$B$500,B67,CMS_Detail!$C$24:$C$500,Summary_Report_CMS!C67,CMS_Detail!$J$24:$J$500,\"Nonmonitoring Equipment Malfunctions\"))","v":""},{"$f":"IF(Summary_Report_CMS!$D67=\"\",\"\",SUMIFS(CMS_Detail!$I$24:$I$500,CMS_Detail!$B$24:$B$500,B67,CMS_Detail!$C$24:$C$500,Summary_Report_CMS!C67,CMS_Detail!$J$24:$J$500,\"Quality Assurance/Quality Control Calibrations\"))","v":""},{"$f":"IF(Summary_Report_CMS!$D67=\"\",\"\",SUMIFS(CMS_Detail!$I$24:$I$500,CMS_Detail!$B$24:$B$500,B67,CMS_Detail!$C$24:$C$500,Summary_Report_CMS!C67,CMS_Detail!$J$24:$J$500,\"Other Known Causes\"))","v":""},{"$f":"IF(Summary_Report_CMS!$D67=\"\",\"\",SUMIFS(CMS_Detail!$I$24:$I$500,CMS_Detail!$B$24:$B$500,B67,CMS_Detail!$C$24:$C$500,Summary_Report_CMS!C67,CMS_Detail!$J$24:$J$500,\"Other Unknown Causes\"))","v":""}]
[null,{"$f":"IF(Lists!AI46=\"\",\"\",Lists!AI46)","v":""},{"$f":"IF(Lists!AJ46=\"\",\"\",Lists!AJ46)","v":""},null,{"$f":"IF($D68=\"\",\"\",SUMIFS(CMS_Detail!$I$24:$I$5400,CMS_Detail!$B$24:$B$5400,B68,CMS_Detail!$C$24:$C$5400,C68))","v":""},"",{"$f":"IF(Summary_Report_CMS!$D68=\"\",\"\",SUMIFS(CMS_Detail!$I$24:$I$500,CMS_Detail!$B$24:$B$500,Summary_Report_CMS!B68,CMS_Detail!$C$24:$C$500,Summary_Report_CMS!C68,CMS_Detail!$J$24:$J$500,\"Monitoring Equipment Malfunctions\"))","v":""},{"$f":"IF(Summary_Report_CMS!$D68=\"\",\"\",SUMIFS(CMS_Detail!$I$24:$I$500,CMS_Detail!$B$24:$B$500,B68,CMS_Detail!$C$24:$C$500,Summary_Report_CMS!C68,CMS_Detail!$J$24:$J$500,\"Nonmonitoring Equipment Malfunctions\"))","v":""},{"$f":"IF(Summary_Report_CMS!$D68=\"\",\"\",SUMIFS(CMS_Detail!$I$24:$I$500,CMS_Detail!$B$24:$B$500,B68,CMS_Detail!$C$24:$C$500,Summary_Report_CMS!C68,CMS_Detail!$J$24:$J$500,\"Quality Assurance/Quality Control Calibrations\"))","v":""},{"$f":"IF(Summary_Report_CMS!$D68=\"\",\"\",SUMIFS(CMS_Detail!$I$24:$I$500,CMS_Detail!$B$24:$B$500,B68,CMS_Detail!$C$24:$C$500,Summary_Report_CMS!C68,CMS_Detail!$J$24:$J$500,\"Other Known Causes\"))","v":""},{"$f":"IF(Summary_Report_CMS!$D68=\"\",\"\",SUMIFS(CMS_Detail!$I$24:$I$500,CMS_Detail!$B$24:$B$500,B68,CMS_Detail!$C$24:$C$500,Summary_Report_CMS!C68,CMS_Detail!$J$24:$J$500,\"Other Unknown Causes\"))","v":""}]
[null,{"$f":"IF(Lists!AI47=\"\",\"\",Lists!AI47)","v":""},{"$f":"IF(Lists!AJ47=\"\",\"\",Lists!AJ47)","v":""},null,{"$f":"IF($D69=\"\",\"\",SUMIFS(CMS_Detail!$I$24:$I$5400,CMS_Detail!$B$24:$B$5400,B69,CMS_Detail!$C$24:$C$5400,C69))","v":""},"",{"$f":"IF(Summary_Report_CMS!$D69=\"\",\"\",SUMIFS(CMS_Detail!$I$24:$I$500,CMS_Detail!$B$24:$B$500,Summary_Report_CMS!B69,CMS_Detail!$C$24:$C$500,Summary_Report_CMS!C69,CMS_Detail!$J$24:$J$500,\"Monitoring Equipment Malfunctions\"))","v":""},{"$f":"IF(Summary_Report_CMS!$D69=\"\",\"\",SUMIFS(CMS_Detail!$I$24:$I$500,CMS_Detail!$B$24:$B$500,B69,CMS_Detail!$C$24:$C$500,Summary_Report_CMS!C69,CMS_Detail!$J$24:$J$500,\"Nonmonitoring Equipment Malfunctions\"))","v":""},{"$f":"IF(Summary_Report_CMS!$D69=\"\",\"\",SUMIFS(CMS_Detail!$I$24:$I$500,CMS_Detail!$B$24:$B$500,B69,CMS_Detail!$C$24:$C$500,Summary_Report_CMS!C69,CMS_Detail!$J$24:$J$500,\"Quality Assurance/Quality Control Calibrations\"))","v":""},{"$f":"IF(Summary_Report_CMS!$D69=\"\",\"\",SUMIFS(CMS_Detail!$I$24:$I$500,CMS_Detail!$B$24:$B$500,B69,CMS_Detail!$C$24:$C$500,Summary_Report_CMS!C69,CMS_Detail!$J$24:$J$500,\"Other Known Causes\"))","v":""},{"$f":"IF(Summary_Report_CMS!$D69=\"\",\"\",SUMIFS(CMS_Detail!$I$24:$I$500,CMS_Detail!$B$24:$B$500,B69,CMS_Detail!$C$24:$C$500,Summary_Report_CMS!C69,CMS_Detail!$J$24:$J$500,\"Other Unknown Causes\"))","v":""}]
[null,{"$f":"IF(Lists!AI48=\"\",\"\",Lists!AI48)","v":""},{"$f":"IF(Lists!AJ48=\"\",\"\",Lists!AJ48)","v":""},null,{"$f":"IF($D70=\"\",\"\",SUMIFS(CMS_Detail!$I$24:$I$5400,CMS_Detail!$B$24:$B$5400,B70,CMS_Detail!$C$24:$C$5400,C70))","v":""},"",{"$f":"IF(Summary_Report_CMS!$D70=\"\",\"\",SUMIFS(CMS_Detail!$I$24:$I$500,CMS_Detail!$B$24:$B$500,Summary_Report_CMS!B70,CMS_Detail!$C$24:$C$500,Summary_Report_CMS!C70,CMS_Detail!$J$24:$J$500,\"Monitoring Equipment Malfunctions\"))","v":""},{"$f":"IF(Summary_Report_CMS!$D70=\"\",\"\",SUMIFS(CMS_Detail!$I$24:$I$500,CMS_Detail!$B$24:$B$500,B70,CMS_Detail!$C$24:$C$500,Summary_Report_CMS!C70,CMS_Detail!$J$24:$J$500,\"Nonmonitoring Equipment Malfunctions\"))","v":""},{"$f":"IF(Summary_Report_CMS!$D70=\"\",\"\",SUMIFS(CMS_Detail!$I$24:$I$500,CMS_Detail!$B$24:$B$500,B70,CMS_Detail!$C$24:$C$500,Summary_Report_CMS!C70,CMS_Detail!$J$24:$J$500,\"Quality Assurance/Quality Control Calibrations\"))","v":""},{"$f":"IF(Summary_Report_CMS!$D70=\"\",\"\",SUMIFS(CMS_Detail!$I$24:$I$500,CMS_Detail!$B$24:$B$500,B70,CMS_Detail!$C$24:$C$500,Summary_Report_CMS!C70,CMS_Detail!$J$24:$J$500,\"Other Known Causes\"))","v":""},{"$f":"IF(Summary_Report_CMS!$D70=\"\",\"\",SUMIFS(CMS_Detail!$I$24:$I$500,CMS_Detail!$B$24:$B$500,B70,CMS_Detail!$C$24:$C$500,Summary_Report_CMS!C70,CMS_Detail!$J$24:$J$500,\"Other Unknown Causes\"))","v":""}]
[null,{"$f":"IF(Lists!AI49=\"\",\"\",Lists!AI49)","v":""},{"$f":"IF(Lists!AJ49=\"\",\"\",Lists!AJ49)","v":""},null,{"$f":"IF($D71=\"\",\"\",SUMIFS(CMS_Detail!$I$24:$I$5400,CMS_Detail!$B$24:$B$5400,B71,CMS_Detail!$C$24:$C$5400,C71))","v":""},"",{"$f":"IF(Summary_Report_CMS!$D71=\"\",\"\",SUMIFS(CMS_Detail!$I$24:$I$500,CMS_Detail!$B$24:$B$500,Summary_Report_CMS!B71,CMS_Detail!$C$24:$C$500,Summary_Report_CMS!C71,CMS_Detail!$J$24:$J$500,\"Monitoring Equipment Malfunctions\"))","v":""},{"$f":"IF(Summary_Report_CMS!$D71=\"\",\"\",SUMIFS(CMS_Detail!$I$24:$I$500,CMS_Detail!$B$24:$B$500,B71,CMS_Detail!$C$24:$C$500,Summary_Report_CMS!C71,CMS_Detail!$J$24:$J$500,\"Nonmonitoring Equipment Malfunctions\"))","v":""},{"$f":"IF(Summary_Report_CMS!$D71=\"\",\"\",SUMIFS(CMS_Detail!$I$24:$I$500,CMS_Detail!$B$24:$B$500,B71,CMS_Detail!$C$24:$C$500,Summary_Report_CMS!C71,CMS_Detail!$J$24:$J$500,\"Quality Assurance/Quality Control Calibrations\"))","v":""},{"$f":"IF(Summary_Report_CMS!$D71=\"\",\"\",SUMIFS(CMS_Detail!$I$24:$I$500,CMS_Detail!$B$24:$B$500,B71,CMS_Detail!$C$24:$C$500,Summary_Report_CMS!C71,CMS_Detail!$J$24:$J$500,\"Other Known Causes\"))","v":""},{"$f":"IF(Summary_Report_CMS!$D71=\"\",\"\",SUMIFS(CMS_Detail!$I$24:$I$500,CMS_Detail!$B$24:$B$500,B71,CMS_Detail!$C$24:$C$500,Summary_Report_CMS!C71,CMS_Detail!$J$24:$J$500,\"Other Unknown Causes\"))","v":""}]
[null,{"$f":"IF(Lists!AI50=\"\",\"\",Lists!AI50)","v":""},{"$f":"IF(Lists!AJ50=\"\",\"\",Lists!AJ50)","v":""},null,{"$f":"IF($D72=\"\",\"\",SUMIFS(CMS_Detail!$I$24:$I$5400,CMS_Detail!$B$24:$B$5400,B72,CMS_Detail!$C$24:$C$5400,C72))","v":""},"",{"$f":"IF(Summary_Report_CMS!$D72=\"\",\"\",SUMIFS(CMS_Detail!$I$24:$I$500,CMS_Detail!$B$24:$B$500,Summary_Report_CMS!B72,CMS_Detail!$C$24:$C$500,Summary_Report_CMS!C72,CMS_Detail!$J$24:$J$500,\"Monitoring Equipment Malfunctions\"))","v":""},{"$f":"IF(Summary_Report_CMS!$D72=\"\",\"\",SUMIFS(CMS_Detail!$I$24:$I$500,CMS_Detail!$B$24:$B$500,B72,CMS_Detail!$C$24:$C$500,Summary_Report_CMS!C72,CMS_Detail!$J$24:$J$500,\"Nonmonitoring Equipment Malfunctions\"))","v":""},{"$f":"IF(Summary_Report_CMS!$D72=\"\",\"\",SUMIFS(CMS_Detail!$I$24:$I$500,CMS_Detail!$B$24:$B$500,B72,CMS_Detail!$C$24:$C$500,Summary_Report_CMS!C72,CMS_Detail!$J$24:$J$500,\"Quality Assurance/Quality Control Calibrations\"))","v":""},{"$f":"IF(Summary_Report_CMS!$D72=\"\",\"\",SUMIFS(CMS_Detail!$I$24:$I$500,CMS_Detail!$B$24:$B$500,B72,CMS_Detail!$C$24:$C$500,Summary_Report_CMS!C72,CMS_Detail!$J$24:$J$500,\"Other Known Causes\"))","v":""},{"$f":"IF(Summary_Report_CMS!$D72=\"\",\"\",SUMIFS(CMS_Detail!$I$24:$I$500,CMS_Detail!$B$24:$B$500,B72,CMS_Detail!$C$24:$C$500,Summary_Report_CMS!C72,CMS_Detail!$J$24:$J$500,\"Other Unknown Causes\"))","v":""}]
[null,{"$f":"IF(Lists!AI51=\"\",\"\",Lists!AI51)","v":""},{"$f":"IF(Lists!AJ51=\"\",\"\",Lists!AJ51)","v":""},null,{"$f":"IF($D73=\"\",\"\",SUMIFS(CMS_Detail!$I$24:$I$5400,CMS_Detail!$B$24:$B$5400,B73,CMS_Detail!$C$24:$C$5400,C73))","v":""},"",{"$f":"IF(Summary_Report_CMS!$D73=\"\",\"\",SUMIFS(CMS_Detail!$I$24:$I$500,CMS_Detail!$B$24:$B$500,Summary_Report_CMS!B73,CMS_Detail!$C$24:$C$500,Summary_Report_CMS!C73,CMS_Detail!$J$24:$J$500,\"Monitoring Equipment Malfunctions\"))","v":""},{"$f":"IF(Summary_Report_CMS!$D73=\"\",\"\",SUMIFS(CMS_Detail!$I$24:$I$500,CMS_Detail!$B$24:$B$500,B73,CMS_Detail!$C$24:$C$500,Summary_Report_CMS!C73,CMS_Detail!$J$24:$J$500,\"Nonmonitoring Equipment Malfunctions\"))","v":""},{"$f":"IF(Summary_Report_CMS!$D73=\"\",\"\",SUMIFS(CMS_Detail!$I$24:$I$500,CMS_Detail!$B$24:$B$500,B73,CMS_Detail!$C$24:$C$500,Summary_Report_CMS!C73,CMS_Detail!$J$24:$J$500,\"Quality Assurance/Quality Control Calibrations\"))","v":""},{"$f":"IF(Summary_Report_CMS!$D73=\"\",\"\",SUMIFS(CMS_Detail!$I$24:$I$500,CMS_Detail!$B$24:$B$500,B73,CMS_Detail!$C$24:$C$500,Summary_Report_CMS!C73,CMS_Detail!$J$24:$J$500,\"Other Known Causes\"))","v":""},{"$f":"IF(Summary_Report_CMS!$D73=\"\",\"\",SUMIFS(CMS_Detail!$I$24:$I$500,CMS_Detail!$B$24:$B$500,B73,CMS_Detail!$C$24:$C$500,Summary_Report_CMS!C73,CMS_Detail!$J$24:$J$500,\"Other Unknown Causes\"))","v":""}]
[null,{"$f":"IF(Lists!AI52=\"\",\"\",Lists!AI52)","v":""},{"$f":"IF(Lists!AJ52=\"\",\"\",Lists!AJ52)","v":""},null,{"$f":"IF($D74=\"\",\"\",SUMIFS(CMS_Detail!$I$24:$I$5400,CMS_Detail!$B$24:$B$5400,B74,CMS_Detail!$C$24:$C$5400,C74))","v":""},"",{"$f":"IF(Summary_Report_CMS!$D74=\"\",\"\",SUMIFS(CMS_Detail!$I$24:$I$500,CMS_Detail!$B$24:$B$500,Summary_Report_CMS!B74,CMS_Detail!$C$24:$C$500,Summary_Report_CMS!C74,CMS_Detail!$J$24:$J$500,\"Monitoring Equipment Malfunctions\"))","v":""},{"$f":"IF(Summary_Report_CMS!$D74=\"\",\"\",SUMIFS(CMS_Detail!$I$24:$I$500,CMS_Detail!$B$24:$B$500,B74,CMS_Detail!$C$24:$C$500,Summary_Report_CMS!C74,CMS_Detail!$J$24:$J$500,\"Nonmonitoring Equipment Malfunctions\"))","v":""},{"$f":"IF(Summary_Report_CMS!$D74=\"\",\"\",SUMIFS(CMS_Detail!$I$24:$I$500,CMS_Detail!$B$24:$B$500,B74,CMS_Detail!$C$24:$C$500,Summary_Report_CMS!C74,CMS_Detail!$J$24:$J$500,\"Quality Assurance/Quality Control Calibrations\"))","v":""},{"$f":"IF(Summary_Report_CMS!$D74=\"\",\"\",SUMIFS(CMS_Detail!$I$24:$I$500,CMS_Detail!$B$24:$B$500,B74,CMS_Detail!$C$24:$C$500,Summary_Report_CMS!C74,CMS_Detail!$J$24:$J$500,\"Other Known Causes\"))","v":""},{"$f":"IF(Summary_Report_CMS!$D74=\"\",\"\",SUMIFS(CMS_Detail!$I$24:$I$500,CMS_Detail!$B$24:$B$500,B74,CMS_Detail!$C$24:$C$500,Summary_Report_CMS!C74,CMS_Detail!$J$24:$J$500,\"Other Unknown Causes\"))","v":""}]
[null,{"$f":"IF(Lists!AI53=\"\",\"\",Lists!AI53)","v":""},{"$f":"IF(Lists!AJ53=\"\",\"\",Lists!AJ53)","v":""},null,{"$f":"IF($D75=\"\",\"\",SUMIFS(CMS_Detail!$I$24:$I$5400,CMS_Detail!$B$24:$B$5400,B75,CMS_Detail!$C$24:$C$5400,C75))","v":""},"",{"$f":"IF(Summary_Report_CMS!$D75=\"\",\"\",SUMIFS(CMS_Detail!$I$24:$I$500,CMS_Detail!$B$24:$B$500,Summary_Report_CMS!B75,CMS_Detail!$C$24:$C$500,Summary_Report_CMS!C75,CMS_Detail!$J$24:$J$500,\"Monitoring Equipment Malfunctions\"))","v":""},{"$f":"IF(Summary_Report_CMS!$D75=\"\",\"\",SUMIFS(CMS_Detail!$I$24:$I$500,CMS_Detail!$B$24:$B$500,B75,CMS_Detail!$C$24:$C$500,Summary_Report_CMS!C75,CMS_Detail!$J$24:$J$500,\"Nonmonitoring Equipment Malfunctions\"))","v":""},{"$f":"IF(Summary_Report_CMS!$D75=\"\",\"\",SUMIFS(CMS_Detail!$I$24:$I$500,CMS_Detail!$B$24:$B$500,B75,CMS_Detail!$C$24:$C$500,Summary_Report_CMS!C75,CMS_Detail!$J$24:$J$500,\"Quality Assurance/Quality Control Calibrations\"))","v":""},{"$f":"IF(Summary_Report_CMS!$D75=\"\",\"\",SUMIFS(CMS_Detail!$I$24:$I$500,CMS_Detail!$B$24:$B$500,B75,CMS_Detail!$C$24:$C$500,Summary_Report_CMS!C75,CMS_Detail!$J$24:$J$500,\"Other Known Causes\"))","v":""},{"$f":"IF(Summary_Report_CMS!$D75=\"\",\"\",SUMIFS(CMS_Detail!$I$24:$I$500,CMS_Detail!$B$24:$B$500,B75,CMS_Detail!$C$24:$C$500,Summary_Report_CMS!C75,CMS_Detail!$J$24:$J$500,\"Other Unknown Causes\"))","v":""}]
[null,{"$f":"IF(Lists!AI54=\"\",\"\",Lists!AI54)","v":""},{"$f":"IF(Lists!AJ54=\"\",\"\",Lists!AJ54)","v":""},null,{"$f":"IF($D76=\"\",\"\",SUMIFS(CMS_Detail!$I$24:$I$5400,CMS_Detail!$B$24:$B$5400,B76,CMS_Detail!$C$24:$C$5400,C76))","v":""},"",{"$f":"IF(Summary_Report_CMS!$D76=\"\",\"\",SUMIFS(CMS_Detail!$I$24:$I$500,CMS_Detail!$B$24:$B$500,Summary_Report_CMS!B76,CMS_Detail!$C$24:$C$500,Summary_Report_CMS!C76,CMS_Detail!$J$24:$J$500,\"Monitoring Equipment Malfunctions\"))","v":""},{"$f":"IF(Summary_Report_CMS!$D76=\"\",\"\",SUMIFS(CMS_Detail!$I$24:$I$500,CMS_Detail!$B$24:$B$500,B76,CMS_Detail!$C$24:$C$500,Summary_Report_CMS!C76,CMS_Detail!$J$24:$J$500,\"Nonmonitoring Equipment Malfunctions\"))","v":""},{"$f":"IF(Summary_Report_CMS!$D76=\"\",\"\",SUMIFS(CMS_Detail!$I$24:$I$500,CMS_Detail!$B$24:$B$500,B76,CMS_Detail!$C$24:$C$500,Summary_Report_CMS!C76,CMS_Detail!$J$24:$J$500,\"Quality Assurance/Quality Control Calibrations\"))","v":""},{"$f":"IF(Summary_Report_CMS!$D76=\"\",\"\",SUMIFS(CMS_Detail!$I$24:$I$500,CMS_Detail!$B$24:$B$500,B76,CMS_Detail!$C$24:$C$500,Summary_Report_CMS!C76,CMS_Detail!$J$24:$J$500,\"Other Known Causes\"))","v":""},{"$f":"IF(Summary_Report_CMS!$D76=\"\",\"\",SUMIFS(CMS_Detail!$I$24:$I$500,CMS_Detail!$B$24:$B$500,B76,CMS_Detail!$C$24:$C$500,Summary_Report_CMS!C76,CMS_Detail!$J$24:$J$500,\"Other Unknown Causes\"))","v":""}]
[null,{"$f":"IF(Lists!AI55=\"\",\"\",Lists!AI55)","v":""},{"$f":"IF(Lists!AJ55=\"\",\"\",Lists!AJ55)","v":""},null,{"$f":"IF($D77=\"\",\"\",SUMIFS(CMS_Detail!$I$24:$I$5400,CMS_Detail!$B$24:$B$5400,B77,CMS_Detail!$C$24:$C$5400,C77))","v":""},"",{"$f":"IF(Summary_Report_CMS!$D77=\"\",\"\",SUMIFS(CMS_Detail!$I$24:$I$500,CMS_Detail!$B$24:$B$500,Summary_Report_CMS!B77,CMS_Detail!$C$24:$C$500,Summary_Report_CMS!C77,CMS_Detail!$J$24:$J$500,\"Monitoring Equipment Malfunctions\"))","v":""},{"$f":"IF(Summary_Report_CMS!$D77=\"\",\"\",SUMIFS(CMS_Detail!$I$24:$I$500,CMS_Detail!$B$24:$B$500,B77,CMS_Detail!$C$24:$C$500,Summary_Report_CMS!C77,CMS_Detail!$J$24:$J$500,\"Nonmonitoring Equipment Malfunctions\"))","v":""},{"$f":"IF(Summary_Report_CMS!$D77=\"\",\"\",SUMIFS(CMS_Detail!$I$24:$I$500,CMS_Detail!$B$24:$B$500,B77,CMS_Detail!$C$24:$C$500,Summary_Report_CMS!C77,CMS_Detail!$J$24:$J$500,\"Quality Assurance/Quality Control Calibrations\"))","v":""},{"$f":"IF(Summary_Report_CMS!$D77=\"\",\"\",SUMIFS(CMS_Detail!$I$24:$I$500,CMS_Detail!$B$24:$B$500,B77,CMS_Detail!$C$24:$C$500,Summary_Report_CMS!C77,CMS_Detail!$J$24:$J$500,\"Other Known Causes\"))","v":""},{"$f":"IF(Summary_Report_CMS!$D77=\"\",\"\",SUMIFS(CMS_Detail!$I$24:$I$500,CMS_Detail!$B$24:$B$500,B77,CMS_Detail!$C$24:$C$500,Summary_Report_CMS!C77,CMS_Detail!$J$24:$J$500,\"Other Unknown Causes\"))","v":""}]
[null,{"$f":"IF(Lists!AI56=\"\",\"\",Lists!AI56)","v":""},{"$f":"IF(Lists!AJ56=\"\",\"\",Lists!AJ56)","v":""},null,{"$f":"IF($D78=\"\",\"\",SUMIFS(CMS_Detail!$I$24:$I$5400,CMS_Detail!$B$24:$B$5400,B78,CMS_Detail!$C$24:$C$5400,C78))","v":""},"",{"$f":"IF(Summary_Report_CMS!$D78=\"\",\"\",SUMIFS(CMS_Detail!$I$24:$I$500,CMS_Detail!$B$24:$B$500,Summary_Report_CMS!B78,CMS_Detail!$C$24:$C$500,Summary_Report_CMS!C78,CMS_Detail!$J$24:$J$500,\"Monitoring Equipment Malfunctions\"))","v":""},{"$f":"IF(Summary_Report_CMS!$D78=\"\",\"\",SUMIFS(CMS_Detail!$I$24:$I$500,CMS_Detail!$B$24:$B$500,B78,CMS_Detail!$C$24:$C$500,Summary_Report_CMS!C78,CMS_Detail!$J$24:$J$500,\"Nonmonitoring Equipment Malfunctions\"))","v":""},{"$f":"IF(Summary_Report_CMS!$D78=\"\",\"\",SUMIFS(CMS_Detail!$I$24:$I$500,CMS_Detail!$B$24:$B$500,B78,CMS_Detail!$C$24:$C$500,Summary_Report_CMS!C78,CMS_Detail!$J$24:$J$500,\"Quality Assurance/Quality Control Calibrations\"))","v":""},{"$f":"IF(Summary_Report_CMS!$D78=\"\",\"\",SUMIFS(CMS_Detail!$I$24:$I$500,CMS_Detail!$B$24:$B$500,B78,CMS_Detail!$C$24:$C$500,Summary_Report_CMS!C78,CMS_Detail!$J$24:$J$500,\"Other Known Causes\"))","v":""},{"$f":"IF(Summary_Report_CMS!$D78=\"\",\"\",SUMIFS(CMS_Detail!$I$24:$I$500,CMS_Detail!$B$24:$B$500,B78,CMS_Detail!$C$24:$C$500,Summary_Report_CMS!C78,CMS_Detail!$J$24:$J$500,\"Other Unknown Causes\"))","v":""}]
[null,{"$f":"IF(Lists!AI57=\"\",\"\",Lists!AI57)","v":""},{"$f":"IF(Lists!AJ57=\"\",\"\",Lists!AJ57)","v":""},null,{"$f":"IF($D79=\"\",\"\",SUMIFS(CMS_Detail!$I$24:$I$5400,CMS_Detail!$B$24:$B$5400,B79,CMS_Detail!$C$24:$C$5400,C79))","v":""},"",{"$f":"IF(Summary_Report_CMS!$D79=\"\",\"\",SUMIFS(CMS_Detail!$I$24:$I$500,CMS_Detail!$B$24:$B$500,Summary_Report_CMS!B79,CMS_Detail!$C$24:$C$500,Summary_Report_CMS!C79,CMS_Detail!$J$24:$J$500,\"Monitoring Equipment Malfunctions\"))","v":""},{"$f":"IF(Summary_Report_CMS!$D79=\"\",\"\",SUMIFS(CMS_Detail!$I$24:$I$500,CMS_Detail!$B$24:$B$500,B79,CMS_Detail!$C$24:$C$500,Summary_Report_CMS!C79,CMS_Detail!$J$24:$J$500,\"Nonmonitoring Equipment Malfunctions\"))","v":""},{"$f":"IF(Summary_Report_CMS!$D79=\"\",\"\",SUMIFS(CMS_Detail!$I$24:$I$500,CMS_Detail!$B$24:$B$500,B79,CMS_Detail!$C$24:$C$500,Summary_Report_CMS!C79,CMS_Detail!$J$24:$J$500,\"Quality Assurance/Quality Control Calibrations\"))","v":""},{"$f":"IF(Summary_Report_CMS!$D79=\"\",\"\",SUMIFS(CMS_Detail!$I$24:$I$500,CMS_Detail!$B$24:$B$500,B79,CMS_Detail!$C$24:$C$500,Summary_Report_CMS!C79,CMS_Detail!$J$24:$J$500,\"Other Known Causes\"))","v":""},{"$f":"IF(Summary_Report_CMS!$D79=\"\",\"\",SUMIFS(CMS_Detail!$I$24:$I$500,CMS_Detail!$B$24:$B$500,B79,CMS_Detail!$C$24:$C$500,Summary_Report_CMS!C79,CMS_Detail!$J$24:$J$500,\"Other Unknown Causes\"))","v":""}]
[null,{"$f":"IF(Lists!AI58=\"\",\"\",Lists!AI58)","v":""},{"$f":"IF(Lists!AJ58=\"\",\"\",Lists!AJ58)","v":""},null,{"$f":"IF($D80=\"\",\"\",SUMIFS(CMS_Detail!$I$24:$I$5400,CMS_Detail!$B$24:$B$5400,B80,CMS_Detail!$C$24:$C$5400,C80))","v":""},"",{"$f":"IF(Summary_Report_CMS!$D80=\"\",\"\",SUMIFS(CMS_Detail!$I$24:$I$500,CMS_Detail!$B$24:$B$500,Summary_Report_CMS!B80,CMS_Detail!$C$24:$C$500,Summary_Report_CMS!C80,CMS_Detail!$J$24:$J$500,\"Monitoring Equipment Malfunctions\"))","v":""},{"$f":"IF(Summary_Report_CMS!$D80=\"\",\"\",SUMIFS(CMS_Detail!$I$24:$I$500,CMS_Detail!$B$24:$B$500,B80,CMS_Detail!$C$24:$C$500,Summary_Report_CMS!C80,CMS_Detail!$J$24:$J$500,\"Nonmonitoring Equipment Malfunctions\"))","v":""},{"$f":"IF(Summary_Report_CMS!$D80=\"\",\"\",SUMIFS(CMS_Detail!$I$24:$I$500,CMS_Detail!$B$24:$B$500,B80,CMS_Detail!$C$24:$C$500,Summary_Report_CMS!C80,CMS_Detail!$J$24:$J$500,\"Quality Assurance/Quality Control Calibrations\"))","v":""},{"$f":"IF(Summary_Report_CMS!$D80=\"\",\"\",SUMIFS(CMS_Detail!$I$24:$I$500,CMS_Detail!$B$24:$B$500,B80,CMS_Detail!$C$24:$C$500,Summary_Report_CMS!C80,CMS_Detail!$J$24:$J$500,\"Other Known Causes\"))","v":""},{"$f":"IF(Summary_Report_CMS!$D80=\"\",\"\",SUMIFS(CMS_Detail!$I$24:$I$500,CMS_Detail!$B$24:$B$500,B80,CMS_Detail!$C$24:$C$500,Summary_Report_CMS!C80,CMS_Detail!$J$24:$J$500,\"Other Unknown Causes\"))","v":""}]
[null,{"$f":"IF(Lists!AI59=\"\",\"\",Lists!AI59)","v":""},{"$f":"IF(Lists!AJ59=\"\",\"\",Lists!AJ59)","v":""},null,{"$f":"IF($D81=\"\",\"\",SUMIFS(CMS_Detail!$I$24:$I$5400,CMS_Detail!$B$24:$B$5400,B81,CMS_Detail!$C$24:$C$5400,C81))","v":""},"",{"$f":"IF(Summary_Report_CMS!$D81=\"\",\"\",SUMIFS(CMS_Detail!$I$24:$I$500,CMS_Detail!$B$24:$B$500,Summary_Report_CMS!B81,CMS_Detail!$C$24:$C$500,Summary_Report_CMS!C81,CMS_Detail!$J$24:$J$500,\"Monitoring Equipment Malfunctions\"))","v":""},{"$f":"IF(Summary_Report_CMS!$D81=\"\",\"\",SUMIFS(CMS_Detail!$I$24:$I$500,CMS_Detail!$B$24:$B$500,B81,CMS_Detail!$C$24:$C$500,Summary_Report_CMS!C81,CMS_Detail!$J$24:$J$500,\"Nonmonitoring Equipment Malfunctions\"))","v":""},{"$f":"IF(Summary_Report_CMS!$D81=\"\",\"\",SUMIFS(CMS_Detail!$I$24:$I$500,CMS_Detail!$B$24:$B$500,B81,CMS_Detail!$C$24:$C$500,Summary_Report_CMS!C81,CMS_Detail!$J$24:$J$500,\"Quality Assurance/Quality Control Calibrations\"))","v":""},{"$f":"IF(Summary_Report_CMS!$D81=\"\",\"\",SUMIFS(CMS_Detail!$I$24:$I$500,CMS_Detail!$B$24:$B$500,B81,CMS_Detail!$C$24:$C$500,Summary_Report_CMS!C81,CMS_Detail!$J$24:$J$500,\"Other Known Causes\"))","v":""},{"$f":"IF(Summary_Report_CMS!$D81=\"\",\"\",SUMIFS(CMS_Detail!$I$24:$I$500,CMS_Detail!$B$24:$B$500,B81,CMS_Detail!$C$24:$C$500,Summary_Report_CMS!C81,CMS_Detail!$J$24:$J$500,\"Other Unknown Causes\"))","v":""}]
[null,{"$f":"IF(Lists!AI60=\"\",\"\",Lists!AI60)","v":""},{"$f":"IF(Lists!AJ60=\"\",\"\",Lists!AJ60)","v":""},null,{"$f":"IF($D82=\"\",\"\",SUMIFS(CMS_Detail!$I$24:$I$5400,CMS_Detail!$B$24:$B$5400,B82,CMS_Detail!$C$24:$C$5400,C82))","v":""},"",{"$f":"IF(Summary_Report_CMS!$D82=\"\",\"\",SUMIFS(CMS_Detail!$I$24:$I$500,CMS_Detail!$B$24:$B$500,Summary_Report_CMS!B82,CMS_Detail!$C$24:$C$500,Summary_Report_CMS!C82,CMS_Detail!$J$24:$J$500,\"Monitoring Equipment Malfunctions\"))","v":""},{"$f":"IF(Summary_Report_CMS!$D82=\"\",\"\",SUMIFS(CMS_Detail!$I$24:$I$500,CMS_Detail!$B$24:$B$500,B82,CMS_Detail!$C$24:$C$500,Summary_Report_CMS!C82,CMS_Detail!$J$24:$J$500,\"Nonmonitoring Equipment Malfunctions\"))","v":""},{"$f":"IF(Summary_Report_CMS!$D82=\"\",\"\",SUMIFS(CMS_Detail!$I$24:$I$500,CMS_Detail!$B$24:$B$500,B82,CMS_Detail!$C$24:$C$500,Summary_Report_CMS!C82,CMS_Detail!$J$24:$J$500,\"Quality Assurance/Quality Control Calibrations\"))","v":""},{"$f":"IF(Summary_Report_CMS!$D82=\"\",\"\",SUMIFS(CMS_Detail!$I$24:$I$500,CMS_Detail!$B$24:$B$500,B82,CMS_Detail!$C$24:$C$500,Summary_Report_CMS!C82,CMS_Detail!$J$24:$J$500,\"Other Known Causes\"))","v":""},{"$f":"IF(Summary_Report_CMS!$D82=\"\",\"\",SUMIFS(CMS_Detail!$I$24:$I$500,CMS_Detail!$B$24:$B$500,B82,CMS_Detail!$C$24:$C$500,Summary_Report_CMS!C82,CMS_Detail!$J$24:$J$500,\"Other Unknown Causes\"))","v":""}]
[null,{"$f":"IF(Lists!AI61=\"\",\"\",Lists!AI61)","v":""},{"$f":"IF(Lists!AJ61=\"\",\"\",Lists!AJ61)","v":""},null,{"$f":"IF($D83=\"\",\"\",SUMIFS(CMS_Detail!$I$24:$I$5400,CMS_Detail!$B$24:$B$5400,B83,CMS_Detail!$C$24:$C$5400,C83))","v":""},"",{"$f":"IF(Summary_Report_CMS!$D83=\"\",\"\",SUMIFS(CMS_Detail!$I$24:$I$500,CMS_Detail!$B$24:$B$500,Summary_Report_CMS!B83,CMS_Detail!$C$24:$C$500,Summary_Report_CMS!C83,CMS_Detail!$J$24:$J$500,\"Monitoring Equipment Malfunctions\"))","v":""},{"$f":"IF(Summary_Report_CMS!$D83=\"\",\"\",SUMIFS(CMS_Detail!$I$24:$I$500,CMS_Detail!$B$24:$B$500,B83,CMS_Detail!$C$24:$C$500,Summary_Report_CMS!C83,CMS_Detail!$J$24:$J$500,\"Nonmonitoring Equipment Malfunctions\"))","v":""},{"$f":"IF(Summary_Report_CMS!$D83=\"\",\"\",SUMIFS(CMS_Detail!$I$24:$I$500,CMS_Detail!$B$24:$B$500,B83,CMS_Detail!$C$24:$C$500,Summary_Report_CMS!C83,CMS_Detail!$J$24:$J$500,\"Quality Assurance/Quality Control Calibrations\"))","v":""},{"$f":"IF(Summary_Report_CMS!$D83=\"\",\"\",SUMIFS(CMS_Detail!$I$24:$I$500,CMS_Detail!$B$24:$B$500,B83,CMS_Detail!$C$24:$C$500,Summary_Report_CMS!C83,CMS_Detail!$J$24:$J$500,\"Other Known Causes\"))","v":""},{"$f":"IF(Summary_Report_CMS!$D83=\"\",\"\",SUMIFS(CMS_Detail!$I$24:$I$500,CMS_Detail!$B$24:$B$500,B83,CMS_Detail!$C$24:$C$500,Summary_Report_CMS!C83,CMS_Detail!$J$24:$J$500,\"Other Unknown Causes\"))","v":""}]
[null,{"$f":"IF(Lists!AI62=\"\",\"\",Lists!AI62)","v":""},{"$f":"IF(Lists!AJ62=\"\",\"\",Lists!AJ62)","v":""},null,{"$f":"IF($D84=\"\",\"\",SUMIFS(CMS_Detail!$I$24:$I$5400,CMS_Detail!$B$24:$B$5400,B84,CMS_Detail!$C$24:$C$5400,C84))","v":""},"",{"$f":"IF(Summary_Report_CMS!$D84=\"\",\"\",SUMIFS(CMS_Detail!$I$24:$I$500,CMS_Detail!$B$24:$B$500,Summary_Report_CMS!B84,CMS_Detail!$C$24:$C$500,Summary_Report_CMS!C84,CMS_Detail!$J$24:$J$500,\"Monitoring Equipment Malfunctions\"))","v":""},{"$f":"IF(Summary_Report_CMS!$D84=\"\",\"\",SUMIFS(CMS_Detail!$I$24:$I$500,CMS_Detail!$B$24:$B$500,B84,CMS_Detail!$C$24:$C$500,Summary_Report_CMS!C84,CMS_Detail!$J$24:$J$500,\"Nonmonitoring Equipment Malfunctions\"))","v":""},{"$f":"IF(Summary_Report_CMS!$D84=\"\",\"\",SUMIFS(CMS_Detail!$I$24:$I$500,CMS_Detail!$B$24:$B$500,B84,CMS_Detail!$C$24:$C$500,Summary_Report_CMS!C84,CMS_Detail!$J$24:$J$500,\"Quality Assurance/Quality Control Calibrations\"))","v":""},{"$f":"IF(Summary_Report_CMS!$D84=\"\",\"\",SUMIFS(CMS_Detail!$I$24:$I$500,CMS_Detail!$B$24:$B$500,B84,CMS_Detail!$C$24:$C$500,Summary_Report_CMS!C84,CMS_Detail!$J$24:$J$500,\"Other Known Causes\"))","v":""},{"$f":"IF(Summary_Report_CMS!$D84=\"\",\"\",SUMIFS(CMS_Detail!$I$24:$I$500,CMS_Detail!$B$24:$B$500,B84,CMS_Detail!$C$24:$C$500,Summary_Report_CMS!C84,CMS_Detail!$J$24:$J$500,\"Other Unknown Causes\"))","v":""}]
[null,{"$f":"IF(Lists!AI63=\"\",\"\",Lists!AI63)","v":""},{"$f":"IF(Lists!AJ63=\"\",\"\",Lists!AJ63)","v":""},null,{"$f":"IF($D85=\"\",\"\",SUMIFS(CMS_Detail!$I$24:$I$5400,CMS_Detail!$B$24:$B$5400,B85,CMS_Detail!$C$24:$C$5400,C85))","v":""},"",{"$f":"IF(Summary_Report_CMS!$D85=\"\",\"\",SUMIFS(CMS_Detail!$I$24:$I$500,CMS_Detail!$B$24:$B$500,Summary_Report_CMS!B85,CMS_Detail!$C$24:$C$500,Summary_Report_CMS!C85,CMS_Detail!$J$24:$J$500,\"Monitoring Equipment Malfunctions\"))","v":""},{"$f":"IF(Summary_Report_CMS!$D85=\"\",\"\",SUMIFS(CMS_Detail!$I$24:$I$500,CMS_Detail!$B$24:$B$500,B85,CMS_Detail!$C$24:$C$500,Summary_Report_CMS!C85,CMS_Detail!$J$24:$J$500,\"Nonmonitoring Equipment Malfunctions\"))","v":""},{"$f":"IF(Summary_Report_CMS!$D85=\"\",\"\",SUMIFS(CMS_Detail!$I$24:$I$500,CMS_Detail!$B$24:$B$500,B85,CMS_Detail!$C$24:$C$500,Summary_Report_CMS!C85,CMS_Detail!$J$24:$J$500,\"Quality Assurance/Quality Control Calibrations\"))","v":""},{"$f":"IF(Summary_Report_CMS!$D85=\"\",\"\",SUMIFS(CMS_Detail!$I$24:$I$500,CMS_Detail!$B$24:$B$500,B85,CMS_Detail!$C$24:$C$500,Summary_Report_CMS!C85,CMS_Detail!$J$24:$J$500,\"Other Known Causes\"))","v":""},{"$f":"IF(Summary_Report_CMS!$D85=\"\",\"\",SUMIFS(CMS_Detail!$I$24:$I$500,CMS_Detail!$B$24:$B$500,B85,CMS_Detail!$C$24:$C$500,Summary_Report_CMS!C85,CMS_Detail!$J$24:$J$500,\"Other Unknown Causes\"))","v":""}]
[null,{"$f":"IF(Lists!AI64=\"\",\"\",Lists!AI64)","v":""},{"$f":"IF(Lists!AJ64=\"\",\"\",Lists!AJ64)","v":""},null,{"$f":"IF($D86=\"\",\"\",SUMIFS(CMS_Detail!$I$24:$I$5400,CMS_Detail!$B$24:$B$5400,B86,CMS_Detail!$C$24:$C$5400,C86))","v":""},"",{"$f":"IF(Summary_Report_CMS!$D86=\"\",\"\",SUMIFS(CMS_Detail!$I$24:$I$500,CMS_Detail!$B$24:$B$500,Summary_Report_CMS!B86,CMS_Detail!$C$24:$C$500,Summary_Report_CMS!C86,CMS_Detail!$J$24:$J$500,\"Monitoring Equipment Malfunctions\"))","v":""},{"$f":"IF(Summary_Report_CMS!$D86=\"\",\"\",SUMIFS(CMS_Detail!$I$24:$I$500,CMS_Detail!$B$24:$B$500,B86,CMS_Detail!$C$24:$C$500,Summary_Report_CMS!C86,CMS_Detail!$J$24:$J$500,\"Nonmonitoring Equipment Malfunctions\"))","v":""},{"$f":"IF(Summary_Report_CMS!$D86=\"\",\"\",SUMIFS(CMS_Detail!$I$24:$I$500,CMS_Detail!$B$24:$B$500,B86,CMS_Detail!$C$24:$C$500,Summary_Report_CMS!C86,CMS_Detail!$J$24:$J$500,\"Quality Assurance/Quality Control Calibrations\"))","v":""},{"$f":"IF(Summary_Report_CMS!$D86=\"\",\"\",SUMIFS(CMS_Detail!$I$24:$I$500,CMS_Detail!$B$24:$B$500,B86,CMS_Detail!$C$24:$C$500,Summary_Report_CMS!C86,CMS_Detail!$J$24:$J$500,\"Other Known Causes\"))","v":""},{"$f":"IF(Summary_Report_CMS!$D86=\"\",\"\",SUMIFS(CMS_Detail!$I$24:$I$500,CMS_Detail!$B$24:$B$500,B86,CMS_Detail!$C$24:$C$500,Summary_Report_CMS!C86,CMS_Detail!$J$24:$J$500,\"Other Unknown Causes\"))","v":""}]
[null,{"$f":"IF(Lists!AI65=\"\",\"\",Lists!AI65)","v":""},{"$f":"IF(Lists!AJ65=\"\",\"\",Lists!AJ65)","v":""},null,{"$f":"IF($D87=\"\",\"\",SUMIFS(CMS_Detail!$I$24:$I$5400,CMS_Detail!$B$24:$B$5400,B87,CMS_Detail!$C$24:$C$5400,C87))","v":""},"",{"$f":"IF(Summary_Report_CMS!$D87=\"\",\"\",SUMIFS(CMS_Detail!$I$24:$I$500,CMS_Detail!$B$24:$B$500,Summary_Report_CMS!B87,CMS_Detail!$C$24:$C$500,Summary_Report_CMS!C87,CMS_Detail!$J$24:$J$500,\"Monitoring Equipment Malfunctions\"))","v":""},{"$f":"IF(Summary_Report_CMS!$D87=\"\",\"\",SUMIFS(CMS_Detail!$I$24:$I$500,CMS_Detail!$B$24:$B$500,B87,CMS_Detail!$C$24:$C$500,Summary_Report_CMS!C87,CMS_Detail!$J$24:$J$500,\"Nonmonitoring Equipment Malfunctions\"))","v":""},{"$f":"IF(Summary_Report_CMS!$D87=\"\",\"\",SUMIFS(CMS_Detail!$I$24:$I$500,CMS_Detail!$B$24:$B$500,B87,CMS_Detail!$C$24:$C$500,Summary_Report_CMS!C87,CMS_Detail!$J$24:$J$500,\"Quality Assurance/Quality Control Calibrations\"))","v":""},{"$f":"IF(Summary_Report_CMS!$D87=\"\",\"\",SUMIFS(CMS_Detail!$I$24:$I$500,CMS_Detail!$B$24:$B$500,B87,CMS_Detail!$C$24:$C$500,Summary_Report_CMS!C87,CMS_Detail!$J$24:$J$500,\"Other Known Causes\"))","v":""},{"$f":"IF(Summary_Report_CMS!$D87=\"\",\"\",SUMIFS(CMS_Detail!$I$24:$I$500,CMS_Detail!$B$24:$B$500,B87,CMS_Detail!$C$24:$C$500,Summary_Report_CMS!C87,CMS_Detail!$J$24:$J$500,\"Other Unknown Causes\"))","v":""}]
[null,{"$f":"IF(Lists!AI66=\"\",\"\",Lists!AI66)","v":""},{"$f":"IF(Lists!AJ66=\"\",\"\",Lists!AJ66)","v":""},null,{"$f":"IF($D88=\"\",\"\",SUMIFS(CMS_Detail!$I$24:$I$5400,CMS_Detail!$B$24:$B$5400,B88,CMS_Detail!$C$24:$C$5400,C88))","v":""},"",{"$f":"IF(Summary_Report_CMS!$D88=\"\",\"\",SUMIFS(CMS_Detail!$I$24:$I$500,CMS_Detail!$B$24:$B$500,Summary_Report_CMS!B88,CMS_Detail!$C$24:$C$500,Summary_Report_CMS!C88,CMS_Detail!$J$24:$J$500,\"Monitoring Equipment Malfunctions\"))","v":""},{"$f":"IF(Summary_Report_CMS!$D88=\"\",\"\",SUMIFS(CMS_Detail!$I$24:$I$500,CMS_Detail!$B$24:$B$500,B88,CMS_Detail!$C$24:$C$500,Summary_Report_CMS!C88,CMS_Detail!$J$24:$J$500,\"Nonmonitoring Equipment Malfunctions\"))","v":""},{"$f":"IF(Summary_Report_CMS!$D88=\"\",\"\",SUMIFS(CMS_Detail!$I$24:$I$500,CMS_Detail!$B$24:$B$500,B88,CMS_Detail!$C$24:$C$500,Summary_Report_CMS!C88,CMS_Detail!$J$24:$J$500,\"Quality Assurance/Quality Control Calibrations\"))","v":""},{"$f":"IF(Summary_Report_CMS!$D88=\"\",\"\",SUMIFS(CMS_Detail!$I$24:$I$500,CMS_Detail!$B$24:$B$500,B88,CMS_Detail!$C$24:$C$500,Summary_Report_CMS!C88,CMS_Detail!$J$24:$J$500,\"Other Known Causes\"))","v":""},{"$f":"IF(Summary_Report_CMS!$D88=\"\",\"\",SUMIFS(CMS_Detail!$I$24:$I$500,CMS_Detail!$B$24:$B$500,B88,CMS_Detail!$C$24:$C$500,Summary_Report_CMS!C88,CMS_Detail!$J$24:$J$500,\"Other Unknown Causes\"))","v":""}]
[null,{"$f":"IF(Lists!AI67=\"\",\"\",Lists!AI67)","v":""},{"$f":"IF(Lists!AJ67=\"\",\"\",Lists!AJ67)","v":""},null,{"$f":"IF($D89=\"\",\"\",SUMIFS(CMS_Detail!$I$24:$I$5400,CMS_Detail!$B$24:$B$5400,B89,CMS_Detail!$C$24:$C$5400,C89))","v":""},{"$f":"IF($D89=\"\",\"\",IF(E89=0,\"N/A\",E89/$D89))","v":""},{"$f":"IF(Summary_Report_CMS!$D89=\"\",\"\",SUMIFS(CMS_Detail!$I$24:$I$500,CMS_Detail!$B$24:$B$500,Summary_Report_CMS!B89,CMS_Detail!$C$24:$C$500,Summary_Report_CMS!C89,CMS_Detail!$J$24:$J$500,\"Monitoring Equipment Malfunctions\"))","v":""},{"$f":"IF(Summary_Report_CMS!$D89=\"\",\"\",SUMIFS(CMS_Detail!$I$24:$I$500,CMS_Detail!$B$24:$B$500,B89,CMS_Detail!$C$24:$C$500,Summary_Report_CMS!C89,CMS_Detail!$J$24:$J$500,\"Nonmonitoring Equipment Malfunctions\"))","v":""},{"$f":"IF(Summary_Report_CMS!$D89=\"\",\"\",SUMIFS(CMS_Detail!$I$24:$I$500,CMS_Detail!$B$24:$B$500,B89,CMS_Detail!$C$24:$C$500,Summary_Report_CMS!C89,CMS_Detail!$J$24:$J$500,\"Quality Assurance/Quality Control Calibrations\"))","v":""},{"$f":"IF(Summary_Report_CMS!$D89=\"\",\"\",SUMIFS(CMS_Detail!$I$24:$I$500,CMS_Detail!$B$24:$B$500,B89,CMS_Detail!$C$24:$C$500,Summary_Report_CMS!C89,CMS_Detail!$J$24:$J$500,\"Other Known Causes\"))","v":""},{"$f":"IF(Summary_Report_CMS!$D89=\"\",\"\",SUMIFS(CMS_Detail!$I$24:$I$500,CMS_Detail!$B$24:$B$500,B89,CMS_Detail!$C$24:$C$500,Summary_Report_CMS!C89,CMS_Detail!$J$24:$J$500,\"Other Unknown Causes\"))","v":""}]
[null,{"$f":"IF(Lists!AI68=\"\",\"\",Lists!AI68)","v":""},{"$f":"IF(Lists!AJ68=\"\",\"\",Lists!AJ68)","v":""},null,{"$f":"IF($D90=\"\",\"\",SUMIFS(CMS_Detail!$I$24:$I$5400,CMS_Detail!$B$24:$B$5400,B90,CMS_Detail!$C$24:$C$5400,C90))","v":""},"",{"$f":"IF(Summary_Report_CMS!$D90=\"\",\"\",SUMIFS(CMS_Detail!$I$24:$I$500,CMS_Detail!$B$24:$B$500,Summary_Report_CMS!B90,CMS_Detail!$C$24:$C$500,Summary_Report_CMS!C90,CMS_Detail!$J$24:$J$500,\"Monitoring Equipment Malfunctions\"))","v":""},{"$f":"IF(Summary_Report_CMS!$D90=\"\",\"\",SUMIFS(CMS_Detail!$I$24:$I$500,CMS_Detail!$B$24:$B$500,B90,CMS_Detail!$C$24:$C$500,Summary_Report_CMS!C90,CMS_Detail!$J$24:$J$500,\"Nonmonitoring Equipment Malfunctions\"))","v":""},{"$f":"IF(Summary_Report_CMS!$D90=\"\",\"\",SUMIFS(CMS_Detail!$I$24:$I$500,CMS_Detail!$B$24:$B$500,B90,CMS_Detail!$C$24:$C$500,Summary_Report_CMS!C90,CMS_Detail!$J$24:$J$500,\"Quality Assurance/Quality Control Calibrations\"))","v":""},{"$f":"IF(Summary_Report_CMS!$D90=\"\",\"\",SUMIFS(CMS_Detail!$I$24:$I$500,CMS_Detail!$B$24:$B$500,B90,CMS_Detail!$C$24:$C$500,Summary_Report_CMS!C90,CMS_Detail!$J$24:$J$500,\"Other Known Causes\"))","v":""},{"$f":"IF(Summary_Report_CMS!$D90=\"\",\"\",SUMIFS(CMS_Detail!$I$24:$I$500,CMS_Detail!$B$24:$B$500,B90,CMS_Detail!$C$24:$C$500,Summary_Report_CMS!C90,CMS_Detail!$J$24:$J$500,\"Other Unknown Causes\"))","v":""}]
[null,{"$f":"IF(Lists!AI69=\"\",\"\",Lists!AI69)","v":""},{"$f":"IF(Lists!AJ69=\"\",\"\",Lists!AJ69)","v":""},null,{"$f":"IF($D91=\"\",\"\",SUMIFS(CMS_Detail!$I$24:$I$5400,CMS_Detail!$B$24:$B$5400,B91,CMS_Detail!$C$24:$C$5400,C91))","v":""},"",{"$f":"IF(Summary_Report_CMS!$D91=\"\",\"\",SUMIFS(CMS_Detail!$I$24:$I$500,CMS_Detail!$B$24:$B$500,Summary_Report_CMS!B91,CMS_Detail!$C$24:$C$500,Summary_Report_CMS!C91,CMS_Detail!$J$24:$J$500,\"Monitoring Equipment Malfunctions\"))","v":""},{"$f":"IF(Summary_Report_CMS!$D91=\"\",\"\",SUMIFS(CMS_Detail!$I$24:$I$500,CMS_Detail!$B$24:$B$500,B91,CMS_Detail!$C$24:$C$500,Summary_Report_CMS!C91,CMS_Detail!$J$24:$J$500,\"Nonmonitoring Equipment Malfunctions\"))","v":""},{"$f":"IF(Summary_Report_CMS!$D91=\"\",\"\",SUMIFS(CMS_Detail!$I$24:$I$500,CMS_Detail!$B$24:$B$500,B91,CMS_Detail!$C$24:$C$500,Summary_Report_CMS!C91,CMS_Detail!$J$24:$J$500,\"Quality Assurance/Quality Control Calibrations\"))","v":""},{"$f":"IF(Summary_Report_CMS!$D91=\"\",\"\",SUMIFS(CMS_Detail!$I$24:$I$500,CMS_Detail!$B$24:$B$500,B91,CMS_Detail!$C$24:$C$500,Summary_Report_CMS!C91,CMS_Detail!$J$24:$J$500,\"Other Known Causes\"))","v":""},{"$f":"IF(Summary_Report_CMS!$D91=\"\",\"\",SUMIFS(CMS_Detail!$I$24:$I$500,CMS_Detail!$B$24:$B$500,B91,CMS_Detail!$C$24:$C$500,Summary_Report_CMS!C91,CMS_Detail!$J$24:$J$500,\"Other Unknown Causes\"))","v":""}]
[null,{"$f":"IF(Lists!AI70=\"\",\"\",Lists!AI70)","v":""},{"$f":"IF(Lists!AJ70=\"\",\"\",Lists!AJ70)","v":""},null,{"$f":"IF($D92=\"\",\"\",SUMIFS(CMS_Detail!$I$24:$I$5400,CMS_Detail!$B$24:$B$5400,B92,CMS_Detail!$C$24:$C$5400,C92))","v":""},"",{"$f":"IF(Summary_Report_CMS!$D92=\"\",\"\",SUMIFS(CMS_Detail!$I$24:$I$500,CMS_Detail!$B$24:$B$500,Summary_Report_CMS!B92,CMS_Detail!$C$24:$C$500,Summary_Report_CMS!C92,CMS_Detail!$J$24:$J$500,\"Monitoring Equipment Malfunctions\"))","v":""},{"$f":"IF(Summary_Report_CMS!$D92=\"\",\"\",SUMIFS(CMS_Detail!$I$24:$I$500,CMS_Detail!$B$24:$B$500,B92,CMS_Detail!$C$24:$C$500,Summary_Report_CMS!C92,CMS_Detail!$J$24:$J$500,\"Nonmonitoring Equipment Malfunctions\"))","v":""},{"$f":"IF(Summary_Report_CMS!$D92=\"\",\"\",SUMIFS(CMS_Detail!$I$24:$I$500,CMS_Detail!$B$24:$B$500,B92,CMS_Detail!$C$24:$C$500,Summary_Report_CMS!C92,CMS_Detail!$J$24:$J$500,\"Quality Assurance/Quality Control Calibrations\"))","v":""},{"$f":"IF(Summary_Report_CMS!$D92=\"\",\"\",SUMIFS(CMS_Detail!$I$24:$I$500,CMS_Detail!$B$24:$B$500,B92,CMS_Detail!$C$24:$C$500,Summary_Report_CMS!C92,CMS_Detail!$J$24:$J$500,\"Other Known Causes\"))","v":""},{"$f":"IF(Summary_Report_CMS!$D92=\"\",\"\",SUMIFS(CMS_Detail!$I$24:$I$500,CMS_Detail!$B$24:$B$500,B92,CMS_Detail!$C$24:$C$500,Summary_Report_CMS!C92,CMS_Detail!$J$24:$J$500,\"Other Unknown Causes\"))","v":""}]
[null,{"$f":"IF(Lists!AI71=\"\",\"\",Lists!AI71)","v":""},{"$f":"IF(Lists!AJ71=\"\",\"\",Lists!AJ71)","v":""},null,{"$f":"IF($D93=\"\",\"\",SUMIFS(CMS_Detail!$I$24:$I$5400,CMS_Detail!$B$24:$B$5400,B93,CMS_Detail!$C$24:$C$5400,C93))","v":""},"",{"$f":"IF(Summary_Report_CMS!$D93=\"\",\"\",SUMIFS(CMS_Detail!$I$24:$I$500,CMS_Detail!$B$24:$B$500,Summary_Report_CMS!B93,CMS_Detail!$C$24:$C$500,Summary_Report_CMS!C93,CMS_Detail!$J$24:$J$500,\"Monitoring Equipment Malfunctions\"))","v":""},{"$f":"IF(Summary_Report_CMS!$D93=\"\",\"\",SUMIFS(CMS_Detail!$I$24:$I$500,CMS_Detail!$B$24:$B$500,B93,CMS_Detail!$C$24:$C$500,Summary_Report_CMS!C93,CMS_Detail!$J$24:$J$500,\"Nonmonitoring Equipment Malfunctions\"))","v":""},{"$f":"IF(Summary_Report_CMS!$D93=\"\",\"\",SUMIFS(CMS_Detail!$I$24:$I$500,CMS_Detail!$B$24:$B$500,B93,CMS_Detail!$C$24:$C$500,Summary_Report_CMS!C93,CMS_Detail!$J$24:$J$500,\"Quality Assurance/Quality Control Calibrations\"))","v":""},{"$f":"IF(Summary_Report_CMS!$D93=\"\",\"\",SUMIFS(CMS_Detail!$I$24:$I$500,CMS_Detail!$B$24:$B$500,B93,CMS_Detail!$C$24:$C$500,Summary_Report_CMS!C93,CMS_Detail!$J$24:$J$500,\"Other Known Causes\"))","v":""},{"$f":"IF(Summary_Report_CMS!$D93=\"\",\"\",SUMIFS(CMS_Detail!$I$24:$I$500,CMS_Detail!$B$24:$B$500,B93,CMS_Detail!$C$24:$C$500,Summary_Report_CMS!C93,CMS_Detail!$J$24:$J$500,\"Other Unknown Causes\"))","v":""}]
[null,{"$f":"IF(Lists!AI72=\"\",\"\",Lists!AI72)","v":""},{"$f":"IF(Lists!AJ72=\"\",\"\",Lists!AJ72)","v":""},null,{"$f":"IF($D94=\"\",\"\",SUMIFS(CMS_Detail!$I$24:$I$5400,CMS_Detail!$B$24:$B$5400,B94,CMS_Detail!$C$24:$C$5400,C94))","v":""},"",{"$f":"IF(Summary_Report_CMS!$D94=\"\",\"\",SUMIFS(CMS_Detail!$I$24:$I$500,CMS_Detail!$B$24:$B$500,Summary_Report_CMS!B94,CMS_Detail!$C$24:$C$500,Summary_Report_CMS!C94,CMS_Detail!$J$24:$J$500,\"Monitoring Equipment Malfunctions\"))","v":""},{"$f":"IF(Summary_Report_CMS!$D94=\"\",\"\",SUMIFS(CMS_Detail!$I$24:$I$500,CMS_Detail!$B$24:$B$500,B94,CMS_Detail!$C$24:$C$500,Summary_Report_CMS!C94,CMS_Detail!$J$24:$J$500,\"Nonmonitoring Equipment Malfunctions\"))","v":""},{"$f":"IF(Summary_Report_CMS!$D94=\"\",\"\",SUMIFS(CMS_Detail!$I$24:$I$500,CMS_Detail!$B$24:$B$500,B94,CMS_Detail!$C$24:$C$500,Summary_Report_CMS!C94,CMS_Detail!$J$24:$J$500,\"Quality Assurance/Quality Control Calibrations\"))","v":""},{"$f":"IF(Summary_Report_CMS!$D94=\"\",\"\",SUMIFS(CMS_Detail!$I$24:$I$500,CMS_Detail!$B$24:$B$500,B94,CMS_Detail!$C$24:$C$500,Summary_Report_CMS!C94,CMS_Detail!$J$24:$J$500,\"Other Known Causes\"))","v":""},{"$f":"IF(Summary_Report_CMS!$D94=\"\",\"\",SUMIFS(CMS_Detail!$I$24:$I$500,CMS_Detail!$B$24:$B$500,B94,CMS_Detail!$C$24:$C$500,Summary_Report_CMS!C94,CMS_Detail!$J$24:$J$500,\"Other Unknown Causes\"))","v":""}]
[null,{"$f":"IF(Lists!AI73=\"\",\"\",Lists!AI73)","v":""},{"$f":"IF(Lists!AJ73=\"\",\"\",Lists!AJ73)","v":""},null,{"$f":"IF($D95=\"\",\"\",SUMIFS(CMS_Detail!$I$24:$I$5400,CMS_Detail!$B$24:$B$5400,B95,CMS_Detail!$C$24:$C$5400,C95))","v":""},"",{"$f":"IF(Summary_Report_CMS!$D95=\"\",\"\",SUMIFS(CMS_Detail!$I$24:$I$500,CMS_Detail!$B$24:$B$500,Summary_Report_CMS!B95,CMS_Detail!$C$24:$C$500,Summary_Report_CMS!C95,CMS_Detail!$J$24:$J$500,\"Monitoring Equipment Malfunctions\"))","v":""},{"$f":"IF(Summary_Report_CMS!$D95=\"\",\"\",SUMIFS(CMS_Detail!$I$24:$I$500,CMS_Detail!$B$24:$B$500,B95,CMS_Detail!$C$24:$C$500,Summary_Report_CMS!C95,CMS_Detail!$J$24:$J$500,\"Nonmonitoring Equipment Malfunctions\"))","v":""},{"$f":"IF(Summary_Report_CMS!$D95=\"\",\"\",SUMIFS(CMS_Detail!$I$24:$I$500,CMS_Detail!$B$24:$B$500,B95,CMS_Detail!$C$24:$C$500,Summary_Report_CMS!C95,CMS_Detail!$J$24:$J$500,\"Quality Assurance/Quality Control Calibrations\"))","v":""},{"$f":"IF(Summary_Report_CMS!$D95=\"\",\"\",SUMIFS(CMS_Detail!$I$24:$I$500,CMS_Detail!$B$24:$B$500,B95,CMS_Detail!$C$24:$C$500,Summary_Report_CMS!C95,CMS_Detail!$J$24:$J$500,\"Other Known Causes\"))","v":""},{"$f":"IF(Summary_Report_CMS!$D95=\"\",\"\",SUMIFS(CMS_Detail!$I$24:$I$500,CMS_Detail!$B$24:$B$500,B95,CMS_Detail!$C$24:$C$500,Summary_Report_CMS!C95,CMS_Detail!$J$24:$J$500,\"Other Unknown Causes\"))","v":""}]
[null,{"$f":"IF(Lists!AI74=\"\",\"\",Lists!AI74)","v":""},{"$f":"IF(Lists!AJ74=\"\",\"\",Lists!AJ74)","v":""},null,{"$f":"IF($D96=\"\",\"\",SUMIFS(CMS_Detail!$I$24:$I$5400,CMS_Detail!$B$24:$B$5400,B96,CMS_Detail!$C$24:$C$5400,C96))","v":""},"",{"$f":"IF(Summary_Report_CMS!$D96=\"\",\"\",SUMIFS(CMS_Detail!$I$24:$I$500,CMS_Detail!$B$24:$B$500,Summary_Report_CMS!B96,CMS_Detail!$C$24:$C$500,Summary_Report_CMS!C96,CMS_Detail!$J$24:$J$500,\"Monitoring Equipment Malfunctions\"))","v":""},{"$f":"IF(Summary_Report_CMS!$D96=\"\",\"\",SUMIFS(CMS_Detail!$I$24:$I$500,CMS_Detail!$B$24:$B$500,B96,CMS_Detail!$C$24:$C$500,Summary_Report_CMS!C96,CMS_Detail!$J$24:$J$500,\"Nonmonitoring Equipment Malfunctions\"))","v":""},{"$f":"IF(Summary_Report_CMS!$D96=\"\",\"\",SUMIFS(CMS_Detail!$I$24:$I$500,CMS_Detail!$B$24:$B$500,B96,CMS_Detail!$C$24:$C$500,Summary_Report_CMS!C96,CMS_Detail!$J$24:$J$500,\"Quality Assurance/Quality Control Calibrations\"))","v":""},{"$f":"IF(Summary_Report_CMS!$D96=\"\",\"\",SUMIFS(CMS_Detail!$I$24:$I$500,CMS_Detail!$B$24:$B$500,B96,CMS_Detail!$C$24:$C$500,Summary_Report_CMS!C96,CMS_Detail!$J$24:$J$500,\"Other Known Causes\"))","v":""},{"$f":"IF(Summary_Report_CMS!$D96=\"\",\"\",SUMIFS(CMS_Detail!$I$24:$I$500,CMS_Detail!$B$24:$B$500,B96,CMS_Detail!$C$24:$C$500,Summary_Report_CMS!C96,CMS_Detail!$J$24:$J$500,\"Other Unknown Causes\"))","v":""}]
[null,{"$f":"IF(Lists!AI75=\"\",\"\",Lists!AI75)","v":""},{"$f":"IF(Lists!AJ75=\"\",\"\",Lists!AJ75)","v":""},null,{"$f":"IF($D97=\"\",\"\",SUMIFS(CMS_Detail!$I$24:$I$5400,CMS_Detail!$B$24:$B$5400,B97,CMS_Detail!$C$24:$C$5400,C97))","v":""},"",{"$f":"IF(Summary_Report_CMS!$D97=\"\",\"\",SUMIFS(CMS_Detail!$I$24:$I$500,CMS_Detail!$B$24:$B$500,Summary_Report_CMS!B97,CMS_Detail!$C$24:$C$500,Summary_Report_CMS!C97,CMS_Detail!$J$24:$J$500,\"Monitoring Equipment Malfunctions\"))","v":""},{"$f":"IF(Summary_Report_CMS!$D97=\"\",\"\",SUMIFS(CMS_Detail!$I$24:$I$500,CMS_Detail!$B$24:$B$500,B97,CMS_Detail!$C$24:$C$500,Summary_Report_CMS!C97,CMS_Detail!$J$24:$J$500,\"Nonmonitoring Equipment Malfunctions\"))","v":""},{"$f":"IF(Summary_Report_CMS!$D97=\"\",\"\",SUMIFS(CMS_Detail!$I$24:$I$500,CMS_Detail!$B$24:$B$500,B97,CMS_Detail!$C$24:$C$500,Summary_Report_CMS!C97,CMS_Detail!$J$24:$J$500,\"Quality Assurance/Quality Control Calibrations\"))","v":""},{"$f":"IF(Summary_Report_CMS!$D97=\"\",\"\",SUMIFS(CMS_Detail!$I$24:$I$500,CMS_Detail!$B$24:$B$500,B97,CMS_Detail!$C$24:$C$500,Summary_Report_CMS!C97,CMS_Detail!$J$24:$J$500,\"Other Known Causes\"))","v":""},{"$f":"IF(Summary_Report_CMS!$D97=\"\",\"\",SUMIFS(CMS_Detail!$I$24:$I$500,CMS_Detail!$B$24:$B$500,B97,CMS_Detail!$C$24:$C$500,Summary_Report_CMS!C97,CMS_Detail!$J$24:$J$500,\"Other Unknown Causes\"))","v":""}]
[null,{"$f":"IF(Lists!AI76=\"\",\"\",Lists!AI76)","v":""},{"$f":"IF(Lists!AJ76=\"\",\"\",Lists!AJ76)","v":""},null,{"$f":"IF($D98=\"\",\"\",SUMIFS(CMS_Detail!$I$24:$I$5400,CMS_Detail!$B$24:$B$5400,B98,CMS_Detail!$C$24:$C$5400,C98))","v":""},"",{"$f":"IF(Summary_Report_CMS!$D98=\"\",\"\",SUMIFS(CMS_Detail!$I$24:$I$500,CMS_Detail!$B$24:$B$500,Summary_Report_CMS!B98,CMS_Detail!$C$24:$C$500,Summary_Report_CMS!C98,CMS_Detail!$J$24:$J$500,\"Monitoring Equipment Malfunctions\"))","v":""},{"$f":"IF(Summary_Report_CMS!$D98=\"\",\"\",SUMIFS(CMS_Detail!$I$24:$I$500,CMS_Detail!$B$24:$B$500,B98,CMS_Detail!$C$24:$C$500,Summary_Report_CMS!C98,CMS_Detail!$J$24:$J$500,\"Nonmonitoring Equipment Malfunctions\"))","v":""},{"$f":"IF(Summary_Report_CMS!$D98=\"\",\"\",SUMIFS(CMS_Detail!$I$24:$I$500,CMS_Detail!$B$24:$B$500,B98,CMS_Detail!$C$24:$C$500,Summary_Report_CMS!C98,CMS_Detail!$J$24:$J$500,\"Quality Assurance/Quality Control Calibrations\"))","v":""},{"$f":"IF(Summary_Report_CMS!$D98=\"\",\"\",SUMIFS(CMS_Detail!$I$24:$I$500,CMS_Detail!$B$24:$B$500,B98,CMS_Detail!$C$24:$C$500,Summary_Report_CMS!C98,CMS_Detail!$J$24:$J$500,\"Other Known Causes\"))","v":""},{"$f":"IF(Summary_Report_CMS!$D98=\"\",\"\",SUMIFS(CMS_Detail!$I$24:$I$500,CMS_Detail!$B$24:$B$500,B98,CMS_Detail!$C$24:$C$500,Summary_Report_CMS!C98,CMS_Detail!$J$24:$J$500,\"Other Unknown Causes\"))","v":""}]
[null,{"$f":"IF(Lists!AI77=\"\",\"\",Lists!AI77)","v":""},{"$f":"IF(Lists!AJ77=\"\",\"\",Lists!AJ77)","v":""},null,{"$f":"IF($D99=\"\",\"\",SUMIFS(CMS_Detail!$I$24:$I$5400,CMS_Detail!$B$24:$B$5400,B99,CMS_Detail!$C$24:$C$5400,C99))","v":""},"",{"$f":"IF(Summary_Report_CMS!$D99=\"\",\"\",SUMIFS(CMS_Detail!$I$24:$I$500,CMS_Detail!$B$24:$B$500,Summary_Report_CMS!B99,CMS_Detail!$C$24:$C$500,Summary_Report_CMS!C99,CMS_Detail!$J$24:$J$500,\"Monitoring Equipment Malfunctions\"))","v":""},{"$f":"IF(Summary_Report_CMS!$D99=\"\",\"\",SUMIFS(CMS_Detail!$I$24:$I$500,CMS_Detail!$B$24:$B$500,B99,CMS_Detail!$C$24:$C$500,Summary_Report_CMS!C99,CMS_Detail!$J$24:$J$500,\"Nonmonitoring Equipment Malfunctions\"))","v":""},{"$f":"IF(Summary_Report_CMS!$D99=\"\",\"\",SUMIFS(CMS_Detail!$I$24:$I$500,CMS_Detail!$B$24:$B$500,B99,CMS_Detail!$C$24:$C$500,Summary_Report_CMS!C99,CMS_Detail!$J$24:$J$500,\"Quality Assurance/Quality Control Calibrations\"))","v":""},{"$f":"IF(Summary_Report_CMS!$D99=\"\",\"\",SUMIFS(CMS_Detail!$I$24:$I$500,CMS_Detail!$B$24:$B$500,B99,CMS_Detail!$C$24:$C$500,Summary_Report_CMS!C99,CMS_Detail!$J$24:$J$500,\"Other Known Causes\"))","v":""},{"$f":"IF(Summary_Report_CMS!$D99=\"\",\"\",SUMIFS(CMS_Detail!$I$24:$I$500,CMS_Detail!$B$24:$B$500,B99,CMS_Detail!$C$24:$C$500,Summary_Report_CMS!C99,CMS_Detail!$J$24:$J$500,\"Other Unknown Causes\"))","v":""}]
[null,{"$f":"IF(Lists!AI78=\"\",\"\",Lists!AI78)","v":""},{"$f":"IF(Lists!AJ78=\"\",\"\",Lists!AJ78)","v":""},null,{"$f":"IF($D100=\"\",\"\",SUMIFS(CMS_Detail!$I$24:$I$5400,CMS_Detail!$B$24:$B$5400,B100,CMS_Detail!$C$24:$C$5400,C100))","v":""},"",{"$f":"IF(Summary_Report_CMS!$D100=\"\",\"\",SUMIFS(CMS_Detail!$I$24:$I$500,CMS_Detail!$B$24:$B$500,Summary_Report_CMS!B100,CMS_Detail!$C$24:$C$500,Summary_Report_CMS!C100,CMS_Detail!$J$24:$J$500,\"Monitoring Equipment Malfunctions\"))","v":""},{"$f":"IF(Summary_Report_CMS!$D100=\"\",\"\",SUMIFS(CMS_Detail!$I$24:$I$500,CMS_Detail!$B$24:$B$500,B100,CMS_Detail!$C$24:$C$500,Summary_Report_CMS!C100,CMS_Detail!$J$24:$J$500,\"Nonmonitoring Equipment Malfunctions\"))","v":""},{"$f":"IF(Summary_Report_CMS!$D100=\"\",\"\",SUMIFS(CMS_Detail!$I$24:$I$500,CMS_Detail!$B$24:$B$500,B100,CMS_Detail!$C$24:$C$500,Summary_Report_CMS!C100,CMS_Detail!$J$24:$J$500,\"Quality Assurance/Quality Control Calibrations\"))","v":""},{"$f":"IF(Summary_Report_CMS!$D100=\"\",\"\",SUMIFS(CMS_Detail!$I$24:$I$500,CMS_Detail!$B$24:$B$500,B100,CMS_Detail!$C$24:$C$500,Summary_Report_CMS!C100,CMS_Detail!$J$24:$J$500,\"Other Known Causes\"))","v":""},{"$f":"IF(Summary_Report_CMS!$D100=\"\",\"\",SUMIFS(CMS_Detail!$I$24:$I$500,CMS_Detail!$B$24:$B$500,B100,CMS_Detail!$C$24:$C$500,Summary_Report_CMS!C100,CMS_Detail!$J$24:$J$500,\"Other Unknown Causes\"))","v":""}]

{"sheet":"Operating_Limits_Details","index":8,"n_rows":500,"n_cols":10,"rows_kept":500,"cut":false,"hidden":false,"merged":[]}
[null,"DO NOT REMOVE OR EDIT INFORMATION IN ROWS 1 THROUGH 5\nFOR INTERNAL USE ONLY"]
[null,"Template Name",{"$f":"+Welcome!B2","v":"63.9350(a) Semiannual Compliance Report (Spreadsheet Template)"}]
[null,"CitationID",{"$f":"+Welcome!B3","v":"63.9350(a)"}]
[null,"Template Version",{"$f":"+Welcome!B4","v":"v3.01"}]
[null,"Last Updated Date",{"$f":"+Welcome!B5","v":45391}]
[]
[null,"40 CFR Part 63, Subpart PPPPP National Emission Standards for Hazardous Air Pollutants for Engine Test Cells/Stands - §63.9350(a)  Semiannual Compliance Report Spreadsheet Template"]
[]
[]
[]
[null,"* Required Field"]
[null,"Company Record No.  *\n(Select from dropdown)","Deviation from Operating Limit or \nBypass of Control Device *\n(§63.9350(d)(7))\n(Select from dropdown)","During Startup, Shutdown, Malfunction, or Other Period\n(§63.9350(d)(7))\n(Select from dropdown)","Starting Date of Deviation *\n(§63.9350(d)(7))","Starting Time of \nDeviation *\n(§63.9350(d)(7))","Ending Date of Deviation *\n(§63.9350(d)(7))","Ending Time of \nDeviation *\n(§63.9350(d)(7))","Duration of Deviation \n(hours)  \n(Calculated value used in calculations on Summary_Report_OperatingLimits)","Cause of Deviation *\n(§63.9350(d)(9))\n(Select from dropdown)"]
[null,"RecordId","DeviceDeviationBypass","SSMorOther","DeviationStartDate","DeviationStartTime","DeviationEndDate","DeviationEndTime","DeviationDuration","DeviationCause"]
[null,"e.g.: 1","e.g.: Catalytic Oxidizer Minimum Catalyst Bed Temperature","e.g.: Other Period","e.g.: 2/12/2019","e.g.: 13:05","e.g.: 2/12/2019","e.g.: 19:05","e.g.: 6.00","e.g.: Control Equipment Problems"]
[]
[]
[]
[]
[]
[]
[]
[]
[]
[null,null,null,null,null,null,null,null,{"$f":"IF(H24=\"\",\"\",(VALUE(TEXT(G24,\"m/dd/yy \")&TEXT(H24,\"hh:mm:ss\"))-(VALUE(TEXT(E24,\"m/dd/yy \")&TEXT(F24,\"hh:mm:ss\"))))*24)","v":""}]
[null,null,null,null,null,null,null,null,{"$f":"IF(H25=\"\",\"\",(VALUE(TEXT(G25,\"m/dd/yy \")&TEXT(H25,\"hh:mm:ss\"))-(VALUE(TEXT(E25,\"m/dd/yy \")&TEXT(F25,\"hh:mm:ss\"))))*24)","v":""}]
[null,null,null,null,null,null,null,null,{"$f":"IF(H26=\"\",\"\",(VALUE(TEXT(G26,\"m/dd/yy \")&TEXT(H26,\"hh:mm:ss\"))-(VALUE(TEXT(E26,\"m/dd/yy \")&TEXT(F26,\"hh:mm:ss\"))))*24)","v":""}]
[null,null,null,null,null,null,null,null,""]
[null,null,null,null,null,null,null,null,""]
[null,null,null,null,null,null,null,null,""]
[null,null,null,null,null,null,null,null,""]
[null,null,null,null,null,null,null,null,""]
[null,null,null,null,null,null,null,null,""]
[null,null,null,null,null,null,null,null,""]
[null,null,null,null,null,null,null,null,""]
[null,null,null,null,null,null,null,null,""]
[null,null,null,null,null,null,null,null,""]
[null,null,null,null,null,null,null,null,""]
[null,null,null,null,null,null,null,null,""]
[null,null,null,null,null,null,null,null,""]
[null,null,null,null,null,null,null,null,""]
[null,null,null,null,null,null,null,null,""]
[null,null,null,null,null,null,null,null,""]
[null,null,null,null,null,null,null,null,""]
[null,null,null,null,null,null,null,null,""]
[null,null,null,null,null,null,null,null,""]
[null,null,null,null,null,null,null,null,""]
[null,null,null,null,null,null,null,null,""]
[null,null,null,null,null,null,null,null,""]
[null,null,null,null,null,null,null,null,""]
[null,null,null,null,null,null,null,null,""]
[null,null,null,null,null,null,null,null,""]
[null,null,null,null,null,null,null,null,""]
[null,null,null,null,null,null,null,null,""]
[null,null,null,null,null,null,null,null,""]
[null,null,null,null,null,null,null,null,""]
[null,null,null,null,null,null,null,null,""]
[null,null,null,null,null,null,null,null,""]
[null,null,null,null,null,null,null,null,""]
[null,null,null,null,null,null,null,null,""]
[null,null,null,null,null,null,null,null,""]
[null,null,null,null,null,null,null,null,""]
[null,null,null,null,null,null,null,null,""]
[null,null,null,null,null,null,null,null,""]
[null,null,null,null,null,null,null,null,""]
[null,null,null,null,null,null,null,null,""]
[null,null,null,null,null,null,null,null,""]
[null,null,null,null,null,null,null,null,""]
[null,null,null,null,null,null,null,null,""]
[null,null,null,null,null,null,null,null,""]
[null,null,null,null,null,null,null,null,""]
[null,null,null,null,null,null,null,null,""]
[null,null,null,null,null,null,null,null,""]
[null,null,null,null,null,null,null,null,""]
[null,null,null,null,null,null,null,null,""]
[null,null,null,null,null,null,null,null,""]
[null,null,null,null,null,null,null,null,""]
[null,null,null,null,null,null,null,null,""]
[null,null,null,null,null,null,null,null,""]
[null,null,null,null,null,null,null,null,""]
[null,null,null,null,null,null,null,null,""]
[null,null,null,null,null,null,null,null,""]
[null,null,null,null,null,null,null,null,""]
[null,null,null,null,null,null,null,null,""]
[null,null,null,null,null,null,null,null,""]
[null,null,null,null,null,null,null,null,""]
[null,null,null,null,null,null,null,null,""]
[null,null,null,null,null,null,null,null,""]
[null,null,null,null,null,null,null,null,""]
[null,null,null,null,null,null,null,null,{"$f":"IF(H89=\"\",\"\",(VALUE(TEXT(G89,\"m/dd/yy \")&TEXT(H89,\"hh:mm:ss\"))-(VALUE(TEXT(E89,\"m/dd/yy \")&TEXT(F89,\"hh:mm:ss\"))))*24)","v":""}]
[null,null,null,null,null,null,null,null,""]
[null,null,null,null,null,null,null,null,""]
[null,null,null,null,null,null,null,null,""]
[null,null,null,null,null,null,null,null,""]
[null,null,null,null,null,null,null,null,""]
[null,null,null,null,null,null,null,null,""]
[null,null,null,null,null,null,null,null,""]
[null,null,null,null,null,null,null,null,""]
[null,null,null,null,null,null,null,null,""]
[null,null,null,null,null,null,null,null,""]
[null,null,null,null,null,null,null,null,""]
[null,null,null,null,null,null,null,null,""]
[null,null,null,null,null,null,null,null,""]
[null,null,null,null,null,null,null,null,""]
[null,null,null,null,null,null,null,null,""]
[null,null,null,null,null,null,null,null,""]
[null,null,null,null,null,null,null,null,""]
[null,null,null,null,null,null,null,null,""]
[null,null,null,null,null,null,null,null,""]
[null,null,null,null,null,null,null,null,""]
[null,null,null,null,null,null,null,null,""]
[null,null,null,null,null,null,null,null,""]
[null,null,null,null,null,null,null,null,""]
[null,null,null,null,null,null,null,null,""]
[null,null,null,null,null,null,null,null,""]
[null,null,null,null,null,null,null,null,""]
[null,null,null,null,null,null,null,null,""]
[null,null,null,null,null,null,null,null,""]
[null,null,null,null,null,null,null,null,""]
[null,null,null,null,null,null,null,null,""]
[null,null,null,null,null,null,null,null,""]
[null,null,null,null,null,null,null,null,""]
[null,null,null,null,null,null,null,null,""]
[null,null,null,null,null,null,null,null,""]
[null,null,null,null,null,null,null,null,""]
[null,null,null,null,null,null,null,null,""]
[null,null,null,null,null,null,null,null,""]
[null,null,null,null,null,null,null,null,""]
[null,null,null,null,null,null,null,null,""]
[null,null,null,null,null,null,null,null,""]
[null,null,null,null,null,null,null,null,""]
[null,null,null,null,null,null,null,null,""]
[null,null,null,null,null,null,null,null,""]
[null,null,null,null,null,null,null,null,""]
[null,null,null,null,null,null,null,null,""]
[null,null,null,null,null,null,null,null,""]
[null,null,null,null,null,null,null,null,""]
[null,null,null,null,null,null,null,null,""]
[null,null,null,null,null,null,null,null,""]
[null,null,null,null,null,null,null,null,""]
[null,null,null,null,null,null,null,null,""]
[null,null,null,null,null,null,null,null,""]
[null,null,null,null,null,null,null,null,""]
[null,null,null,null,null,null,null,null,""]
[null,null,null,null,null,null,null,null,""]
[null,null,null,null,null,null,null,null,""]
[null,null,null,null,null,null,null,null,""]
[null,null,null,null,null,null,null,null,""]
[null,null,null,null,null,null,null,null,""]
[null,null,null,null,null,null,null,null,""]
[null,null,null,null,null,null,null,null,""]
[null,null,null,null,null,null,null,null,""]
[null,null,null,null,null,null,null,null,""]
[null,null,null,null,null,null,null,null,{"$f":"IF(H153=\"\",\"\",(VALUE(TEXT(G153,\"m/dd/yy \")&TEXT(H153,\"hh:mm:ss\"))-(VALUE(TEXT(E153,\"m/dd/yy \")&TEXT(F153,\"hh:mm:ss\"))))*24)","v":""}]
[null,null,null,null,null,null,null,null,""]
[null,null,null,null,null,null,null,null,""]
[null,null,null,null,null,null,null,null,""]
[null,null,null,null,null,null,null,null,""]
[null,null,null,null,null,null,null,null,""]
[null,null,null,null,null,null,null,null,""]
[null,null,null,null,null,null,null,null,""]
[null,null,null,null,null,null,null,null,""]
[null,null,null,null,null,null,null,null,""]
[null,null,null,null,null,null,null,null,""]
[null,null,null,null,null,null,null,null,""]
[null,null,null,null,null,null,null,null,""]
[null,null,null,null,null,null,null,null,""]
[null,null,null,null,null,null,null,null,""]
[null,null,null,null,null,null,null,null,""]
[null,null,null,null,null,null,null,null,""]
[null,null,null,null,null,null,null,null,""]
[null,null,null,null,null,null,null,null,""]
[null,null,null,null,null,null,null,null,""]
[null,null,null,null,null,null,null,null,""]
[null,null,null,null,null,null,null,null,""]
[null,null,null,null,null,null,null,null,""]
[null,null,null,null,null,null,null,null,""]
[null,null,null,null,null,null,null,null,""]
[null,null,null,null,null,null,null,null,""]
[null,null,null,null,null,null,null,null,""]
[null,null,null,null,null,null,null,null,""]
[null,null,null,null,null,null,null,null,""]
[null,null,null,null,null,null,null,null,""]
[null,null,null,null,null,null,null,null,""]
[null,null,null,null,null,null,null,null,""]
[null,null,null,null,null,null,null,null,""]
[null,null,null,null,null,null,null,null,""]
[null,null,null,null,null,null,null,null,""]
[null,null,null,null,null,null,null,null,""]
[null,null,null,null,null,null,null,null,""]
[null,null,null,null,null,null,null,null,""]
[null,null,null,null,null,null,null,null,""]
[null,null,null,null,null,null,null,null,""]
[null,null,null,null,null,null,null,null,""]
[null,null,null,null,null,null,null,null,""]
[null,null,null,null,null,null,null,null,""]
[null,null,null,null,null,null,null,null,""]
[null,null,null,null,null,null,null,null,""]
[null,null,null,null,null,null,null,null,""]
[null,null,null,null,null,null,null,null,""]
[null,null,null,null,null,null,null,null,""]
[null,null,null,null,null,null,null,null,""]
[null,null,null,null,null,null,null,null,""]
[null,null,null,null,null,null,null,null,""]
[null,null,null,null,null,null,null,null,""]
[null,null,null,null,null,null,null,null,""]
[null,null,null,null,null,null,null,null,""]
[null,null,null,null,null,null,null,null,""]
[null,null,null,null,null,null,null,null,""]
[null,null,null,null,null,null,null,null,""]
[null,null,null,null,null,null,null,null,""]
[null,null,null,null,null,null,null,null,""]
[null,null,null,null,null,null,null,null,""]
[null,null,null,null,null,null,null,null,""]
[null,null,null,null,null,null,null,null,""]
[null,null,null,null,null,null,null,null,""]
[null,null,null,null,null,null,null,null,""]
[null,null,null,null,null,null,null,null,{"$f":"IF(H217=\"\",\"\",(VALUE(TEXT(G217,\"m/dd/yy \")&TEXT(H217,\"hh:mm:ss\"))-(VALUE(TEXT(E217,\"m/dd/yy \")&TEXT(F217,\"hh:mm:ss\"))))*24)","v":""}]
[null,null,null,null,null,null,null,null,""]
[null,null,null,null,null,null,null,null,""]
[null,null,null,null,null,null,null,null,""]
[null,null,null,null,null,null,null,null,""]
[null,null,null,null,null,null,null,null,""]
[null,null,null,null,null,null,null,null,""]
[null,null,null,null,null,null,null,null,""]
[null,null,null,null,null,null,null,null,""]
[null,null,null,null,null,null,null,null,""]
[null,null,null,null,null,null,null,null,""]
[null,null,null,null,null,null,null,null,""]
[null,null,null,null,null,null,null,null,""]
[null,null,null,null,null,null,null,null,""]
[null,null,null,null,null,null,null,null,""]
[null,null,null,null,null,null,null,null,""]
[null,null,null,null,null,null,null,null,""]
[null,null,null,null,null,null,null,null,""]
[null,null,null,null,null,null,null,null,""]
[null,null,null,null,null,null,null,null,""]
[null,null,null,null,null,null,null,null,""]
[null,null,null,null,null,null,null,null,""]
[null,null,null,null,null,null,null,null,""]
[null,null,null,null,null,null,null,null,""]
[null,null,null,null,null,null,null,null,""]
[null,null,null,null,null,null,null,null,""]
[null,null,null,null,null,null,null,null,""]
[null,null,null,null,null,null,null,null,""]
[null,null,null,null,null,null,null,null,""]
[null,null,null,null,null,null,null,null,""]
[null,null,null,null,null,null,null,null,""]
[null,null,null,null,null,null,null,null,""]
[null,null,null,null,null,null,null,null,""]
[null,null,null,null,null,null,null,null,""]
[null,null,null,null,null,null,null,null,""]
[null,null,null,null,null,null,null,null,""]
[null,null,null,null,null,null,null,null,""]
[null,null,null,null,null,null,null,null,""]
[null,null,null,null,null,null,null,null,""]
[null,null,null,null,null,null,null,null,""]
[null,null,null,null,null,null,null,null,""]
[null,null,null,null,null,null,null,null,""]
[null,null,null,null,null,null,null,null,""]
[null,null,null,null,null,null,null,null,""]
[null,null,null,null,null,null,null,null,""]
[null,null,null,null,null,null,null,null,""]
[null,null,null,null,null,null,null,null,""]
[null,null,null,null,null,null,null,null,""]
[null,null,null,null,null,null,null,null,""]
[null,null,null,null,null,null,null,null,""]
[null,null,null,null,null,null,null,null,""]
[null,null,null,null,null,null,null,null,""]
[null,null,null,null,null,null,null,null,""]
[null,null,null,null,null,null,null,null,""]
[null,null,null,null,null,null,null,null,""]
[null,null,null,null,null,null,null,null,""]
[null,null,null,null,null,null,null,null,""]
[null,null,null,null,null,null,null,null,""]
[null,null,null,null,null,null,null,null,""]
[null,null,null,null,null,null,null,null,""]
[null,null,null,null,null,null,null,null,""]
[null,null,null,null,null,null,null,null,""]
[null,null,null,null,null,null,null,null,""]
[null,null,null,null,null,null,null,null,""]
[null,null,null,null,null,null,null,null,{"$f":"IF(H281=\"\",\"\",(VALUE(TEXT(G281,\"m/dd/yy \")&TEXT(H281,\"hh:mm:ss\"))-(VALUE(TEXT(E281,\"m/dd/yy \")&TEXT(F281,\"hh:mm:ss\"))))*24)","v":""}]
[null,null,null,null,null,null,null,null,""]
[null,null,null,null,null,null,null,null,""]
[null,null,null,null,null,null,null,null,""]
[null,null,null,null,null,null,null,null,""]
[null,null,null,null,null,null,null,null,""]
[null,null,null,null,null,null,null,null,""]
[null,null,null,null,null,null,null,null,""]
[null,null,null,null,null,null,null,null,""]
[null,null,null,null,null,null,null,null,""]
[null,null,null,null,null,null,null,null,""]
[null,null,null,null,null,null,null,null,""]
[null,null,null,null,null,null,null,null,""]
[null,null,null,null,null,null,null,null,""]
[null,null,null,null,null,null,null,null,""]
[null,null,null,null,null,null,null,null,""]
[null,null,null,null,null,null,null,null,""]
[null,null,null,null,null,null,null,null,""]
[null,null,null,null,null,null,null,null,""]
[null,null,null,null,null,null,null,null,""]
[null,null,null,null,null,null,null,null,""]
[null,null,null,null,null,null,null,null,""]
[null,null,null,null,null,null,null,null,""]
[null,null,null,null,null,null,null,null,""]
[null,null,null,null,null,null,null,null,""]
[null,null,null,null,null,null,null,null,""]
[null,null,null,null,null,null,null,null,""]
[null,null,null,null,null,null,null,null,""]
[null,null,null,null,null,null,null,null,""]
[null,null,null,null,null,null,null,null,""]
[null,null,null,null,null,null,null,null,""]
[null,null,null,null,null,null,null,null,""]
[null,null,null,null,null,null,null,null,""]
[null,null,null,null,null,null,null,null,""]
[null,null,null,null,null,null,null,null,""]
[null,null,null,null,null,null,null,null,""]
[null,null,null,null,null,null,null,null,""]
[null,null,null,null,null,null,null,null,""]
[null,null,null,null,null,null,null,null,""]
[null,null,null,null,null,null,null,null,""]
[null,null,null,null,null,null,null,null,""]
[null,null,null,null,null,null,null,null,""]
[null,null,null,null,null,null,null,null,""]
[null,null,null,null,null,null,null,null,""]
[null,null,null,null,null,null,null,null,""]
[null,null,null,null,null,null,null,null,""]
[null,null,null,null,null,null,null,null,""]
[null,null,null,null,null,null,null,null,""]
[null,null,null,null,null,null,null,null,""]
[null,null,null,null,null,null,null,null,""]
[null,null,null,null,null,null,null,null,""]
[null,null,null,null,null,null,null,null,""]
[null,null,null,null,null,null,null,null,""]
[null,null,null,null,null,null,null,null,""]
[null,null,null,null,null,null,null,null,""]
[null,null,null,null,null,null,null,null,""]
[null,null,null,null,null,null,null,null,""]
[null,null,null,null,null,null,null,null,""]
[null,null,null,null,null,null,null,null,""]
[null,null,null,null,null,null,null,null,""]
[null,null,null,null,null,null,null,null,""]
[null,null,null,null,null,null,null,null,""]
[null,null,null,null,null,null,null,null,""]
[null,null,null,null,null,null,null,null,""]
[null,null,null,null,null,null,null,null,{"$f":"IF(H345=\"\",\"\",(VALUE(TEXT(G345,\"m/dd/yy \")&TEXT(H345,\"hh:mm:ss\"))-(VALUE(TEXT(E345,\"m/dd/yy \")&TEXT(F345,\"hh:mm:ss\"))))*24)","v":""}]
[null,null,null,null,null,null,null,null,""]
[null,null,null,null,null,null,null,null,""]
[null,null,null,null,null,null,null,null,""]
[null,null,null,null,null,null,null,null,""]
[null,null,null,null,null,null,null,null,""]
[null,null,null,null,null,null,null,null,""]
[null,null,null,null,null,null,null,null,""]
[null,null,null,null,null,null,null,null,""]
[null,null,null,null,null,null,null,null,""]
[null,null,null,null,null,null,null,null,""]
[null,null,null,null,null,null,null,null,""]
[null,null,null,null,null,null,null,null,""]
[null,null,null,null,null,null,null,null,""]
[null,null,null,null,null,null,null,null,""]
[null,null,null,null,null,null,null,null,""]
[null,null,null,null,null,null,null,null,""]
[null,null,null,null,null,null,null,null,""]
[null,null,null,null,null,null,null,null,""]
[null,null,null,null,null,null,null,null,""]
[null,null,null,null,null,null,null,null,""]
[null,null,null,null,null,null,null,null,""]
[null,null,null,null,null,null,null,null,""]
[null,null,null,null,null,null,null,null,""]
[null,null,null,null,null,null,null,null,""]
[null,null,null,null,null,null,null,null,""]
[null,null,null,null,null,null,null,null,""]
[null,null,null,null,null,null,null,null,""]
[null,null,null,null,null,null,null,null,""]
[null,null,null,null,null,null,null,null,""]
[null,null,null,null,null,null,null,null,""]
[null,null,null,null,null,null,null,null,""]
[null,null,null,null,null,null,null,null,""]
[null,null,null,null,null,null,null,null,""]
[null,null,null,null,null,null,null,null,""]
[null,null,null,null,null,null,null,null,""]
[null,null,null,null,null,null,null,null,""]
[null,null,null,null,null,null,null,null,""]
[null,null,null,null,null,null,null,null,""]
[null,null,null,null,null,null,null,null,""]
[null,null,null,null,null,null,null,null,""]
[null,null,null,null,null,null,null,null,""]
[null,null,null,null,null,null,null,null,""]
[null,null,null,null,null,null,null,null,""]
[null,null,null,null,null,null,null,null,""]
[null,null,null,null,null,null,null,null,""]
[null,null,null,null,null,null,null,null,""]
[null,null,null,null,null,null,null,null,""]
[null,null,null,null,null,null,null,null,""]
[null,null,null,null,null,null,null,null,""]
[null,null,null,null,null,null,null,null,""]
[null,null,null,null,null,null,null,null,""]
[null,null,null,null,null,null,null,null,""]
[null,null,null,null,null,null,null,null,""]
[null,null,null,null,null,null,null,null,""]
[null,null,null,null,null,null,null,null,""]
[null,null,null,null,null,null,null,null,""]
[null,null,null,null,null,null,null,null,""]
[null,null,null,null,null,null,null,null,""]
[null,null,null,null,null,null,null,null,""]
[null,null,null,null,null,null,null,null,""]
[null,null,null,null,null,null,null,null,""]
[null,null,null,null,null,null,null,null,""]
[null,null,null,null,null,null,null,null,""]
[null,null,null,null,null,null,null,null,{"$f":"IF(H409=\"\",\"\",(VALUE(TEXT(G409,\"m/dd/yy \")&TEXT(H409,\"hh:mm:ss\"))-(VALUE(TEXT(E409,\"m/dd/yy \")&TEXT(F409,\"hh:mm:ss\"))))*24)","v":""}]
[null,null,null,null,null,null,null,null,""]
[null,null,null,null,null,null,null,null,""]
[null,null,null,null,null,null,null,null,""]
[null,null,null,null,null,null,null,null,""]
[null,null,null,null,null,null,null,null,""]
[null,null,null,null,null,null,null,null,""]
[null,null,null,null,null,null,null,null,""]
[null,null,null,null,null,null,null,null,""]
[null,null,null,null,null,null,null,null,""]
[null,null,null,null,null,null,null,null,""]
[null,null,null,null,null,null,null,null,""]
[null,null,null,null,null,null,null,null,""]
[null,null,null,null,null,null,null,null,""]
[null,null,null,null,null,null,null,null,""]
[null,null,null,null,null,null,null,null,""]
[null,null,null,null,null,null,null,null,""]
[null,null,null,null,null,null,null,null,""]
[null,null,null,null,null,null,null,null,""]
[null,null,null,null,null,null,null,null,""]
[null,null,null,null,null,null,null,null,""]
[null,null,null,null,null,null,null,null,""]
[null,null,null,null,null,null,null,null,""]
[null,null,null,null,null,null,null,null,""]
[null,null,null,null,null,null,null,null,""]
[null,null,null,null,null,null,null,null,""]
[null,null,null,null,null,null,null,null,""]
[null,null,null,null,null,null,null,null,""]
[null,null,null,null,null,null,null,null,""]
[null,null,null,null,null,null,null,null,""]
[null,null,null,null,null,null,null,null,""]
[null,null,null,null,null,null,null,null,""]
[null,null,null,null,null,null,null,null,""]
[null,null,null,null,null,null,null,null,""]
[null,null,null,null,null,null,null,null,""]
[null,null,null,null,null,null,null,null,""]
[null,null,null,null,null,null,null,null,""]
[null,null,null,null,null,null,null,null,""]
[null,null,null,null,null,null,null,null,""]
[null,null,null,null,null,null,null,null,""]
[null,null,null,null,null,null,null,null,""]
[null,null,null,null,null,null,null,null,""]
[null,null,null,null,null,null,null,null,""]
[null,null,null,null,null,null,null,null,""]
[null,null,null,null,null,null,null,null,""]
[null,null,null,null,null,null,null,null,""]
[null,null,null,null,null,null,null,null,""]
[null,null,null,null,null,null,null,null,""]
[null,null,null,null,null,null,null,null,""]
[null,null,null,null,null,null,null,null,""]
[null,null,null,null,null,null,null,null,""]
[null,null,null,null,null,null,null,null,""]
[null,null,null,null,null,null,null,null,""]
[null,null,null,null,null,null,null,null,""]
[null,null,null,null,null,null,null,null,""]
[null,null,null,null,null,null,null,null,""]
[null,null,null,null,null,null,null,null,""]
[null,null,null,null,null,null,null,null,""]
[null,null,null,null,null,null,null,null,""]
[null,null,null,null,null,null,null,null,""]
[null,null,null,null,null,null,null,null,""]
[null,null,null,null,null,null,null,null,""]
[null,null,null,null,null,null,null,null,""]
[null,null,null,null,null,null,null,null,""]
[null,null,null,null,null,null,null,null,{"$f":"IF(H473=\"\",\"\",(VALUE(TEXT(G473,\"m/dd/yy \")&TEXT(H473,\"hh:mm:ss\"))-(VALUE(TEXT(E473,\"m/dd/yy \")&TEXT(F473,\"hh:mm:ss\"))))*24)","v":""}]
[null,null,null,null,null,null,null,null,""]
[null,null,null,null,null,null,null,null,""]
[null,null,null,null,null,null,null,null,""]
[null,null,null,null,null,null,null,null,""]
[null,null,null,null,null,null,null,null,""]
[null,null,null,null,null,null,null,null,""]
[null,null,null,null,null,null,null,null,""]
[null,null,null,null,null,null,null,null,""]
[null,null,null,null,null,null,null,null,""]
[null,null,null,null,null,null,null,null,""]
[null,null,null,null,null,null,null,null,""]
[null,null,null,null,null,null,null,null,""]
[null,null,null,null,null,null,null,null,""]
[null,null,null,null,null,null,null,null,""]
[null,null,null,null,null,null,null,null,""]
[null,null,null,null,null,null,null,null,""]
[null,null,null,null,null,null,null,null,""]
[null,null,null,null,null,null,null,null,""]
[null,null,null,null,null,null,null,null,""]
[null,null,null,null,null,null,null,null,""]
[null,null,null,null,null,null,null,null,""]
[null,null,null,null,null,null,null,null,""]
[null,null,null,null,null,null,null,null,""]
[null,null,null,null,null,null,null,null,""]
[null,null,null,null,null,null,null,null,""]
[null,null,null,null,null,null,null,null,""]
[null,null,null,null,null,null,null,null,""]

{"sheet":"Summary_Report_OperatingLimits","index":9,"n_rows":707,"n_cols":12,"rows_kept":707,"cut":false,"hidden":false,"merged":[]}
[null,"DO NOT REMOVE OR EDIT INFORMATION IN ROWS 1 THROUGH 5\nFOR INTERNAL USE ONLY"]
[null,"Template Name",{"$f":"+Welcome!B2","v":"63.9350(a) Semiannual Compliance Report (Spreadsheet Template)"}]
[null,"CitationID",{"$f":"+Welcome!B3","v":"63.9350(a)"}]
[null,"Template Version",{"$f":"+Welcome!B4","v":"v3.01"}]
[null,"Last Updated Date",{"$f":"+Welcome!B5","v":45391}]
[]
[null,"40 CFR Part 63, Subpart PPPPP National Emission Standards for Hazardous Air Pollutants for Engine Test Cells/Stands - §63.9350(a)  Semiannual Compliance Report Spreadsheet Template"]
[]
[]
[]
[null,"* Required Field"]
[null,"Company Record No. *\n(Autocompleted)","Deviation from Operating Limit or \nBypass of Control Device *\n(§63.9350(d)(7))\n(Autocompleted)","Total \nOperating Time *\n(hours)\n(§63.9350(d)(11))","Total Duration of \nDeviations from Operating Limit or \nBypass of Control Device *\n(hours) \n(§63.9350(d)(8))\n(Calculated value)","Total Duration of \nDeviations from\nOperating Limit or \nBypass of Control Device as a \npercent of \nTotal Source Operating Time *\n(§63.9350(d)(8))\n(Calculated value)","Total Duration of \nDeviations from\nOperating Limit or \nBypass of Control Device Due to \nStartup *\n(hours)  \n(§63.9350(d)(9))\n(Calculated value)","Total Duration of\nDeviations from \nOperating Limit or \nBypass of Control Device Due to \nShutdown *\n(hours)  \n(§63.9350(d)(9))\n(Calculated value)","Total Duration of \nDeviations from \nOperating Limit or \nBypass of Control Device Due to \nControl Equipment Problems *\n(hours)  \n(§63.9350(d)(9))\n(Calculated value)","Total Duration of \nDeviations from\nOperating Limit or \nBypass of Control Device Due to \nProcess Problems *\n(hours)  \n(§63.9350(d)(9)))\n(Calculated value)","Total Duration of\nDeviations from \nOperating Limit or \nBypass of Control Device Due to \nOther Known Causes *\n(hours)  \n(§63.9350(d)(9)))\n(Calculated value)","Total Duration of Deviations from Operating Limit or \nBypass of Control Device Due to Other Unknown Causes * (hours)  \n(§63.9350(d)(9)))\n(Calculated value)"]
[null,"RecordId","DeviceDeviationBypass","TotalOperatingTime","TotalDeviationDuration","TotalDeviationPercent","StartupCausedDeviation","ShutdownCausedDeviation","EquipmentCausedDeviation","ProcessCausedDeviation","OtherCausedDeviation","UnknownCausedDeviation"]
[null,"e.g.: 1","e.g.: Catalytic Oxidizer Minimum Catalyst Bed Temperature","e.g.: 4310","e.g.: 6.00","e.g.: 0.14%","e.g.: 0.00","e.g.: 0.00","e.g.: 6.00","e.g.: 0.00","e.g.: 0.00","e.g.: 0.00"]
[]
[]
[]
[]
[]
[]
[]
[]
[]
[null,{"$f":"IF(Lists!AR2=\"\",\"\",Lists!AR2)","v":""},{"$f":"IF(Lists!AS2=\"\",\"\",Lists!AS2)","v":""},null,{"$f":"IF(D24=\"\",\"\",SUM(G24:L24))","v":""},{"$f":"IF($D24=\"\",\"\",IF(E24=0,\"N/A\",E24/$D24))","v":""},{"$f":"IF($D24=\"\",\"\",SUMIFS(Operating_Limits_Details!$I$24:$I$5800,Operating_Limits_Details!$B$24:$B$5800,B24,Operating_Limits_Details!$C$24:$C$5800,C24,Operating_Limits_Details!$J$24:$J$5800,\"Startup\"))","v":""},{"$f":"IF($D24=\"\",\"\",SUMIFS(Operating_Limits_Details!$I$24:$I$5800,Operating_Limits_Details!$B$24:$B$5800,B24,Operating_Limits_Details!$C$24:$C$5800,C24,Operating_Limits_Details!$J$24:$J$5800,\"Shutdown\"))","v":""},{"$f":"IF($D24=\"\",\"\",SUMIFS(Operating_Limits_Details!$I$24:$I$5800,Operating_Limits_Details!$B$24:$B$5800,B24,Operating_Limits_Details!$C$24:$C$5800,C24,Operating_Limits_Details!$J$24:$J$5800,\"Control Equipment Problems\"))","v":""},{"$f":"IF($D24=\"\",\"\",SUMIFS(Operating_Limits_Details!$I$24:$I$5800,Operating_Limits_Details!$B$24:$B$5800,B24,Operating_Limits_Details!$C$24:$C$5800,C24,Operating_Limits_Details!$J$24:$J$5800,\"Process Problems\"))","v":""},{"$f":"IF($D24=\"\",\"\",SUMIFS(Operating_Limits_Details!$I$24:$I$5800,Operating_Limits_Details!$B$24:$B$5800,B24,Operating_Limits_Details!$C$24:$C$5800,C24,Operating_Limits_Details!$J$24:$J$5800,\"Other Known Causes\"))","v":""},{"$f":"IF($D24=\"\",\"\",SUMIFS(Operating_Limits_Details!$I$24:$I$5800,Operating_Limits_Details!$B$24:$B$5800,B24,Operating_Limits_Details!$C$24:$C$5800,C24,Operating_Limits_Details!$J$24:$J$5800,\"Other Unknown Causes\"))","v":""}]
[null,{"$f":"IF(Lists!AR3=\"\",\"\",Lists!AR3)","v":""},{"$f":"IF(Lists!AS3=\"\",\"\",Lists!AS3)","v":""},null,{"$f":"IF(D25=\"\",\"\",SUM(G25:L25))","v":""},{"$f":"IF($D25=\"\",\"\",IF(E25=0,\"N/A\",E25/$D25))","v":""},{"$f":"IF($D25=\"\",\"\",SUMIFS(Operating_Limits_Details!$I$24:$I$5800,Operating_Limits_Details!$B$24:$B$5800,B25,Operating_Limits_Details!$C$24:$C$5800,C25,Operating_Limits_Details!$J$24:$J$5800,\"Startup\"))","v":""},{"$f":"IF($D25=\"\",\"\",SUMIFS(Operating_Limits_Details!$I$24:$I$5800,Operating_Limits_Details!$B$24:$B$5800,B25,Operating_Limits_Details!$C$24:$C$5800,C25,Operating_Limits_Details!$J$24:$J$5800,\"Shutdown\"))","v":""},{"$f":"IF($D25=\"\",\"\",SUMIFS(Operating_Limits_Details!$I$24:$I$5800,Operating_Limits_Details!$B$24:$B$5800,B25,Operating_Limits_Details!$C$24:$C$5800,C25,Operating_Limits_Details!$J$24:$J$5800,\"Control Equipment Problems\"))","v":""},{"$f":"IF($D25=\"\",\"\",SUMIFS(Operating_Limits_Details!$I$24:$I$5800,Operating_Limits_Details!$B$24:$B$5800,B25,Operating_Limits_Details!$C$24:$C$5800,C25,Operating_Limits_Details!$J$24:$J$5800,\"Process Problems\"))","v":""},{"$f":"IF($D25=\"\",\"\",SUMIFS(Operating_Limits_Details!$I$24:$I$5800,Operating_Limits_Details!$B$24:$B$5800,B25,Operating_Limits_Details!$C$24:$C$5800,C25,Operating_Limits_Details!$J$24:$J$5800,\"Other Known Causes\"))","v":""},{"$f":"IF($D25=\"\",\"\",SUMIFS(Operating_Limits_Details!$I$24:$I$5800,Operating_Limits_Details!$B$24:$B$5800,B25,Operating_Limits_Details!$C$24:$C$5800,C25,Operating_Limits_Details!$J$24:$J$5800,\"Other Unknown Causes\"))","v":""}]
[null,{"$f":"IF(Lists!AR4=\"\",\"\",Lists!AR4)","v":""},{"$f":"IF(Lists!AS4=\"\",\"\",Lists!AS4)","v":""},null,"","",{"$f":"IF($D26=\"\",\"\",SUMIFS(Operating_Limits_Details!$I$24:$I$5800,Operating_Limits_Details!$B$24:$B$5800,B26,Operating_Limits_Details!$C$24:$C$5800,C26,Operating_Limits_Details!$J$24:$J$5800,\"Startup\"))","v":""},{"$f":"IF($D26=\"\",\"\",SUMIFS(Operating_Limits_Details!$I$24:$I$5800,Operating_Limits_Details!$B$24:$B$5800,B26,Operating_Limits_Details!$C$24:$C$5800,C26,Operating_Limits_Details!$J$24:$J$5800,\"Shutdown\"))","v":""},{"$f":"IF($D26=\"\",\"\",SUMIFS(Operating_Limits_Details!$I$24:$I$5800,Operating_Limits_Details!$B$24:$B$5800,B26,Operating_Limits_Details!$C$24:$C$5800,C26,Operating_Limits_Details!$J$24:$J$5800,\"Control Equipment Problems\"))","v":""},{"$f":"IF($D26=\"\",\"\",SUMIFS(Operating_Limits_Details!$I$24:$I$5800,Operating_Limits_Details!$B$24:$B$5800,B26,Operating_Limits_Details!$C$24:$C$5800,C26,Operating_Limits_Details!$J$24:$J$5800,\"Process Problems\"))","v":""},{"$f":"IF($D26=\"\",\"\",SUMIFS(Operating_Limits_Details!$I$24:$I$5800,Operating_Limits_Details!$B$24:$B$5800,B26,Operating_Limits_Details!$C$24:$C$5800,C26,Operating_Limits_Details!$J$24:$J$5800,\"Other Known Causes\"))","v":""},{"$f":"IF($D26=\"\",\"\",SUMIFS(Operating_Limits_Details!$I$24:$I$5800,Operating_Limits_Details!$B$24:$B$5800,B26,Operating_Limits_Details!$C$24:$C$5800,C26,Operating_Limits_Details!$J$24:$J$5800,\"Other Unknown Causes\"))","v":""}]
[null,{"$f":"IF(Lists!AR5=\"\",\"\",Lists!AR5)","v":""},{"$f":"IF(Lists!AS5=\"\",\"\",Lists!AS5)","v":""},null,"","",{"$f":"IF($D27=\"\",\"\",SUMIFS(Operating_Limits_Details!$I$24:$I$5800,Operating_Limits_Details!$B$24:$B$5800,B27,Operating_Limits_Details!$C$24:$C$5800,C27,Operating_Limits_Details!$J$24:$J$5800,\"Startup\"))","v":""},{"$f":"IF($D27=\"\",\"\",SUMIFS(Operating_Limits_Details!$I$24:$I$5800,Operating_Limits_Details!$B$24:$B$5800,B27,Operating_Limits_Details!$C$24:$C$5800,C27,Operating_Limits_Details!$J$24:$J$5800,\"Shutdown\"))","v":""},{"$f":"IF($D27=\"\",\"\",SUMIFS(Operating_Limits_Details!$I$24:$I$5800,Operating_Limits_Details!$B$24:$B$5800,B27,Operating_Limits_Details!$C$24:$C$5800,C27,Operating_Limits_Details!$J$24:$J$5800,\"Control Equipment Problems\"))","v":""},{"$f":"IF($D27=\"\",\"\",SUMIFS(Operating_Limits_Details!$I$24:$I$5800,Operating_Limits_Details!$B$24:$B$5800,B27,Operating_Limits_Details!$C$24:$C$5800,C27,Operating_Limits_Details!$J$24:$J$5800,\"Process Problems\"))","v":""},{"$f":"IF($D27=\"\",\"\",SUMIFS(Operating_Limits_Details!$I$24:$I$5800,Operating_Limits_Details!$B$24:$B$5800,B27,Operating_Limits_Details!$C$24:$C$5800,C27,Operating_Limits_Details!$J$24:$J$5800,\"Other Known Causes\"))","v":""},{"$f":"IF($D27=\"\",\"\",SUMIFS(Operating_Limits_Details!$I$24:$I$5800,Operating_Limits_Details!$B$24:$B$5800,B27,Operating_Limits_Details!$C$24:$C$5800,C27,Operating_Limits_Details!$J$24:$J$5800,\"Other Unknown Causes\"))","v":""}]
[null,{"$f":"IF(Lists!AR6=\"\",\"\",Lists!AR6)","v":""},{"$f":"IF(Lists!AS6=\"\",\"\",Lists!AS6)","v":""},null,"","",{"$f":"IF($D28=\"\",\"\",SUMIFS(Operating_Limits_Details!$I$24:$I$5800,Operating_Limits_Details!$B$24:$B$5800,B28,Operating_Limits_Details!$C$24:$C$5800,C28,Operating_Limits_Details!$J$24:$J$5800,\"Startup\"))","v":""},{"$f":"IF($D28=\"\",\"\",SUMIFS(Operating_Limits_Details!$I$24:$I$5800,Operating_Limits_Details!$B$24:$B$5800,B28,Operating_Limits_Details!$C$24:$C$5800,C28,Operating_Limits_Details!$J$24:$J$5800,\"Shutdown\"))","v":""},{"$f":"IF($D28=\"\",\"\",SUMIFS(Operating_Limits_Details!$I$24:$I$5800,Operating_Limits_Details!$B$24:$B$5800,B28,Operating_Limits_Details!$C$24:$C$5800,C28,Operating_Limits_Details!$J$24:$J$5800,\"Control Equipment Problems\"))","v":""},{"$f":"IF($D28=\"\",\"\",SUMIFS(Operating_Limits_Details!$I$24:$I$5800,Operating_Limits_Details!$B$24:$B$5800,B28,Operating_Limits_Details!$C$24:$C$5800,C28,Operating_Limits_Details!$J$24:$J$5800,\"Process Problems\"))","v":""},{"$f":"IF($D28=\"\",\"\",SUMIFS(Operating_Limits_Details!$I$24:$I$5800,Operating_Limits_Details!$B$24:$B$5800,B28,Operating_Limits_Details!$C$24:$C$5800,C28,Operating_Limits_Details!$J$24:$J$5800,\"Other Known Causes\"))","v":""},{"$f":"IF($D28=\"\",\"\",SUMIFS(Operating_Limits_Details!$I$24:$I$5800,Operating_Limits_Details!$B$24:$B$5800,B28,Operating_Limits_Details!$C$24:$C$5800,C28,Operating_Limits_Details!$J$24:$J$5800,\"Other Unknown Causes\"))","v":""}]
[null,{"$f":"IF(Lists!AR7=\"\",\"\",Lists!AR7)","v":""},{"$f":"IF(Lists!AS7=\"\",\"\",Lists!AS7)","v":""},null,"","",{"$f":"IF($D29=\"\",\"\",SUMIFS(Operating_Limits_Details!$I$24:$I$5800,Operating_Limits_Details!$B$24:$B$5800,B29,Operating_Limits_Details!$C$24:$C$5800,C29,Operating_Limits_Details!$J$24:$J$5800,\"Startup\"))","v":""},{"$f":"IF($D29=\"\",\"\",SUMIFS(Operating_Limits_Details!$I$24:$I$5800,Operating_Limits_Details!$B$24:$B$5800,B29,Operating_Limits_Details!$C$24:$C$5800,C29,Operating_Limits_Details!$J$24:$J$5800,\"Shutdown\"))","v":""},{"$f":"IF($D29=\"\",\"\",SUMIFS(Operating_Limits_Details!$I$24:$I$5800,Operating_Limits_Details!$B$24:$B$5800,B29,Operating_Limits_Details!$C$24:$C$5800,C29,Operating_Limits_Details!$J$24:$J$5800,\"Control Equipment Problems\"))","v":""},{"$f":"IF($D29=\"\",\"\",SUMIFS(Operating_Limits_Details!$I$24:$I$5800,Operating_Limits_Details!$B$24:$B$5800,B29,Operating_Limits_Details!$C$24:$C$5800,C29,Operating_Limits_Details!$J$24:$J$5800,\"Process Problems\"))","v":""},{"$f":"IF($D29=\"\",\"\",SUMIFS(Operating_Limits_Details!$I$24:$I$5800,Operating_Limits_Details!$B$24:$B$5800,B29,Operating_Limits_Details!$C$24:$C$5800,C29,Operating_Limits_Details!$J$24:$J$5800,\"Other Known Causes\"))","v":""},{"$f":"IF($D29=\"\",\"\",SUMIFS(Operating_Limits_Details!$I$24:$I$5800,Operating_Limits_Details!$B$24:$B$5800,B29,Operating_Limits_Details!$C$24:$C$5800,C29,Operating_Limits_Details!$J$24:$J$5800,\"Other Unknown Causes\"))","v":""}]
[null,{"$f":"IF(Lists!AR8=\"\",\"\",Lists!AR8)","v":""},{"$f":"IF(Lists!AS8=\"\",\"\",Lists!AS8)","v":""},null,"","",{"$f":"IF($D30=\"\",\"\",SUMIFS(Operating_Limits_Details!$I$24:$I$5800,Operating_Limits_Details!$B$24:$B$5800,B30,Operating_Limits_Details!$C$24:$C$5800,C30,Operating_Limits_Details!$J$24:$J$5800,\"Startup\"))","v":""},{"$f":"IF($D30=\"\",\"\",SUMIFS(Operating_Limits_Details!$I$24:$I$5800,Operating_Limits_Details!$B$24:$B$5800,B30,Operating_Limits_Details!$C$24:$C$5800,C30,Operating_Limits_Details!$J$24:$J$5800,\"Shutdown\"))","v":""},{"$f":"IF($D30=\"\",\"\",SUMIFS(Operating_Limits_Details!$I$24:$I$5800,Operating_Limits_Details!$B$24:$B$5800,B30,Operating_Limits_Details!$C$24:$C$5800,C30,Operating_Limits_Details!$J$24:$J$5800,\"Control Equipment Problems\"))","v":""},{"$f":"IF($D30=\"\",\"\",SUMIFS(Operating_Limits_Details!$I$24:$I$5800,Operating_Limits_Details!$B$24:$B$5800,B30,Operating_Limits_Details!$C$24:$C$5800,C30,Operating_Limits_Details!$J$24:$J$5800,\"Process Problems\"))","v":""},{"$f":"IF($D30=\"\",\"\",SUMIFS(Operating_Limits_Details!$I$24:$I$5800,Operating_Limits_Details!$B$24:$B$5800,B30,Operating_Limits_Details!$C$24:$C$5800,C30,Operating_Limits_Details!$J$24:$J$5800,\"Other Known Causes\"))","v":""},{"$f":"IF($D30=\"\",\"\",SUMIFS(Operating_Limits_Details!$I$24:$I$5800,Operating_Limits_Details!$B$24:$B$5800,B30,Operating_Limits_Details!$C$24:$C$5800,C30,Operating_Limits_Details!$J$24:$J$5800,\"Other Unknown Causes\"))","v":""}]
[null,{"$f":"IF(Lists!AR9=\"\",\"\",Lists!AR9)","v":""},{"$f":"IF(Lists!AS9=\"\",\"\",Lists!AS9)","v":""},null,"","",{"$f":"IF($D31=\"\",\"\",SUMIFS(Operating_Limits_Details!$I$24:$I$5800,Operating_Limits_Details!$B$24:$B$5800,B31,Operating_Limits_Details!$C$24:$C$5800,C31,Operating_Limits_Details!$J$24:$J$5800,\"Startup\"))","v":""},{"$f":"IF($D31=\"\",\"\",SUMIFS(Operating_Limits_Details!$I$24:$I$5800,Operating_Limits_Details!$B$24:$B$5800,B31,Operating_Limits_Details!$C$24:$C$5800,C31,Operating_Limits_Details!$J$24:$J$5800,\"Shutdown\"))","v":""},{"$f":"IF($D31=\"\",\"\",SUMIFS(Operating_Limits_Details!$I$24:$I$5800,Operating_Limits_Details!$B$24:$B$5800,B31,Operating_Limits_Details!$C$24:$C$5800,C31,Operating_Limits_Details!$J$24:$J$5800,\"Control Equipment Problems\"))","v":""},{"$f":"IF($D31=\"\",\"\",SUMIFS(Operating_Limits_Details!$I$24:$I$5800,Operating_Limits_Details!$B$24:$B$5800,B31,Operating_Limits_Details!$C$24:$C$5800,C31,Operating_Limits_Details!$J$24:$J$5800,\"Process Problems\"))","v":""},{"$f":"IF($D31=\"\",\"\",SUMIFS(Operating_Limits_Details!$I$24:$I$5800,Operating_Limits_Details!$B$24:$B$5800,B31,Operating_Limits_Details!$C$24:$C$5800,C31,Operating_Limits_Details!$J$24:$J$5800,\"Other Known Causes\"))","v":""},{"$f":"IF($D31=\"\",\"\",SUMIFS(Operating_Limits_Details!$I$24:$I$5800,Operating_Limits_Details!$B$24:$B$5800,B31,Operating_Limits_Details!$C$24:$C$5800,C31,Operating_Limits_Details!$J$24:$J$5800,\"Other Unknown Causes\"))","v":""}]
[null,{"$f":"IF(Lists!AR10=\"\",\"\",Lists!AR10)","v":""},{"$f":"IF(Lists!AS10=\"\",\"\",Lists!AS10)","v":""},null,"","",{"$f":"IF($D32=\"\",\"\",SUMIFS(Operating_Limits_Details!$I$24:$I$5800,Operating_Limits_Details!$B$24:$B$5800,B32,Operating_Limits_Details!$C$24:$C$5800,C32,Operating_Limits_Details!$J$24:$J$5800,\"Startup\"))","v":""},{"$f":"IF($D32=\"\",\"\",SUMIFS(Operating_Limits_Details!$I$24:$I$5800,Operating_Limits_Details!$B$24:$B$5800,B32,Operating_Limits_Details!$C$24:$C$5800,C32,Operating_Limits_Details!$J$24:$J$5800,\"Shutdown\"))","v":""},{"$f":"IF($D32=\"\",\"\",SUMIFS(Operating_Limits_Details!$I$24:$I$5800,Operating_Limits_Details!$B$24:$B$5800,B32,Operating_Limits_Details!$C$24:$C$5800,C32,Operating_Limits_Details!$J$24:$J$5800,\"Control Equipment Problems\"))","v":""},{"$f":"IF($D32=\"\",\"\",SUMIFS(Operating_Limits_Details!$I$24:$I$5800,Operating_Limits_Details!$B$24:$B$5800,B32,Operating_Limits_Details!$C$24:$C$5800,C32,Operating_Limits_Details!$J$24:$J$5800,\"Process Problems\"))","v":""},{"$f":"IF($D32=\"\",\"\",SUMIFS(Operating_Limits_Details!$I$24:$I$5800,Operating_Limits_Details!$B$24:$B$5800,B32,Operating_Limits_Details!$C$24:$C$5800,C32,Operating_Limits_Details!$J$24:$J$5800,\"Other Known Causes\"))","v":""},{"$f":"IF($D32=\"\",\"\",SUMIFS(Operating_Limits_Details!$I$24:$I$5800,Operating_Limits_Details!$B$24:$B$5800,B32,Operating_Limits_Details!$C$24:$C$5800,C32,Operating_Limits_Details!$J$24:$J$5800,\"Other Unknown Causes\"))","v":""}]
[null,{"$f":"IF(Lists!AR11=\"\",\"\",Lists!AR11)","v":""},{"$f":"IF(Lists!AS11=\"\",\"\",Lists!AS11)","v":""},null,"","",{"$f":"IF($D33=\"\",\"\",SUMIFS(Operating_Limits_Details!$I$24:$I$5800,Operating_Limits_Details!$B$24:$B$5800,B33,Operating_Limits_Details!$C$24:$C$5800,C33,Operating_Limits_Details!$J$24:$J$5800,\"Startup\"))","v":""},{"$f":"IF($D33=\"\",\"\",SUMIFS(Operating_Limits_Details!$I$24:$I$5800,Operating_Limits_Details!$B$24:$B$5800,B33,Operating_Limits_Details!$C$24:$C$5800,C33,Operating_Limits_Details!$J$24:$J$5800,\"Shutdown\"))","v":""},{"$f":"IF($D33=\"\",\"\",SUMIFS(Operating_Limits_Details!$I$24:$I$5800,Operating_Limits_Details!$B$24:$B$5800,B33,Operating_Limits_Details!$C$24:$C$5800,C33,Operating_Limits_Details!$J$24:$J$5800,\"Control Equipment Problems\"))","v":""},{"$f":"IF($D33=\"\",\"\",SUMIFS(Operating_Limits_Details!$I$24:$I$5800,Operating_Limits_Details!$B$24:$B$5800,B33,Operating_Limits_Details!$C$24:$C$5800,C33,Operating_Limits_Details!$J$24:$J$5800,\"Process Problems\"))","v":""},{"$f":"IF($D33=\"\",\"\",SUMIFS(Operating_Limits_Details!$I$24:$I$5800,Operating_Limits_Details!$B$24:$B$5800,B33,Operating_Limits_Details!$C$24:$C$5800,C33,Operating_Limits_Details!$J$24:$J$5800,\"Other Known Causes\"))","v":""},{"$f":"IF($D33=\"\",\"\",SUMIFS(Operating_Limits_Details!$I$24:$I$5800,Operating_Limits_Details!$B$24:$B$5800,B33,Operating_Limits_Details!$C$24:$C$5800,C33,Operating_Limits_Details!$J$24:$J$5800,\"Other Unknown Causes\"))","v":""}]
[null,{"$f":"IF(Lists!AR12=\"\",\"\",Lists!AR12)","v":""},{"$f":"IF(Lists!AS12=\"\",\"\",Lists!AS12)","v":""},null,"","",{"$f":"IF($D34=\"\",\"\",SUMIFS(Operating_Limits_Details!$I$24:$I$5800,Operating_Limits_Details!$B$24:$B$5800,B34,Operating_Limits_Details!$C$24:$C$5800,C34,Operating_Limits_Details!$J$24:$J$5800,\"Startup\"))","v":""},{"$f":"IF($D34=\"\",\"\",SUMIFS(Operating_Limits_Details!$I$24:$I$5800,Operating_Limits_Details!$B$24:$B$5800,B34,Operating_Limits_Details!$C$24:$C$5800,C34,Operating_Limits_Details!$J$24:$J$5800,\"Shutdown\"))","v":""},{"$f":"IF($D34=\"\",\"\",SUMIFS(Operating_Limits_Details!$I$24:$I$5800,Operating_Limits_Details!$B$24:$B$5800,B34,Operating_Limits_Details!$C$24:$C$5800,C34,Operating_Limits_Details!$J$24:$J$5800,\"Control Equipment Problems\"))","v":""},{"$f":"IF($D34=\"\",\"\",SUMIFS(Operating_Limits_Details!$I$24:$I$5800,Operating_Limits_Details!$B$24:$B$5800,B34,Operating_Limits_Details!$C$24:$C$5800,C34,Operating_Limits_Details!$J$24:$J$5800,\"Process Problems\"))","v":""},{"$f":"IF($D34=\"\",\"\",SUMIFS(Operating_Limits_Details!$I$24:$I$5800,Operating_Limits_Details!$B$24:$B$5800,B34,Operating_Limits_Details!$C$24:$C$5800,C34,Operating_Limits_Details!$J$24:$J$5800,\"Other Known Causes\"))","v":""},{"$f":"IF($D34=\"\",\"\",SUMIFS(Operating_Limits_Details!$I$24:$I$5800,Operating_Limits_Details!$B$24:$B$5800,B34,Operating_Limits_Details!$C$24:$C$5800,C34,Operating_Limits_Details!$J$24:$J$5800,\"Other Unknown Causes\"))","v":""}]
[null,{"$f":"IF(Lists!AR13=\"\",\"\",Lists!AR13)","v":""},{"$f":"IF(Lists!AS13=\"\",\"\",Lists!AS13)","v":""},null,"","",{"$f":"IF($D35=\"\",\"\",SUMIFS(Operating_Limits_Details!$I$24:$I$5800,Operating_Limits_Details!$B$24:$B$5800,B35,Operating_Limits_Details!$C$24:$C$5800,C35,Operating_Limits_Details!$J$24:$J$5800,\"Startup\"))","v":""},{"$f":"IF($D35=\"\",\"\",SUMIFS(Operating_Limits_Details!$I$24:$I$5800,Operating_Limits_Details!$B$24:$B$5800,B35,Operating_Limits_Details!$C$24:$C$5800,C35,Operating_Limits_Details!$J$24:$J$5800,\"Shutdown\"))","v":""},{"$f":"IF($D35=\"\",\"\",SUMIFS(Operating_Limits_Details!$I$24:$I$5800,Operating_Limits_Details!$B$24:$B$5800,B35,Operating_Limits_Details!$C$24:$C$5800,C35,Operating_Limits_Details!$J$24:$J$5800,\"Control Equipment Problems\"))","v":""},{"$f":"IF($D35=\"\",\"\",SUMIFS(Operating_Limits_Details!$I$24:$I$5800,Operating_Limits_Details!$B$24:$B$5800,B35,Operating_Limits_Details!$C$24:$C$5800,C35,Operating_Limits_Details!$J$24:$J$5800,\"Process Problems\"))","v":""},{"$f":"IF($D35=\"\",\"\",SUMIFS(Operating_Limits_Details!$I$24:$I$5800,Operating_Limits_Details!$B$24:$B$5800,B35,Operating_Limits_Details!$C$24:$C$5800,C35,Operating_Limits_Details!$J$24:$J$5800,\"Other Known Causes\"))","v":""},{"$f":"IF($D35=\"\",\"\",SUMIFS(Operating_Limits_Details!$I$24:$I$5800,Operating_Limits_Details!$B$24:$B$5800,B35,Operating_Limits_Details!$C$24:$C$5800,C35,Operating_Limits_Details!$J$24:$J$5800,\"Other Unknown Causes\"))","v":""}]
[null,{"$f":"IF(Lists!AR14=\"\",\"\",Lists!AR14)","v":""},{"$f":"IF(Lists!AS14=\"\",\"\",Lists!AS14)","v":""},null,"","",{"$f":"IF($D36=\"\",\"\",SUMIFS(Operating_Limits_Details!$I$24:$I$5800,Operating_Limits_Details!$B$24:$B$5800,B36,Operating_Limits_Details!$C$24:$C$5800,C36,Operating_Limits_Details!$J$24:$J$5800,\"Startup\"))","v":""},{"$f":"IF($D36=\"\",\"\",SUMIFS(Operating_Limits_Details!$I$24:$I$5800,Operating_Limits_Details!$B$24:$B$5800,B36,Operating_Limits_Details!$C$24:$C$5800,C36,Operating_Limits_Details!$J$24:$J$5800,\"Shutdown\"))","v":""},{"$f":"IF($D36=\"\",\"\",SUMIFS(Operating_Limits_Details!$I$24:$I$5800,Operating_Limits_Details!$B$24:$B$5800,B36,Operating_Limits_Details!$C$24:$C$5800,C36,Operating_Limits_Details!$J$24:$J$5800,\"Control Equipment Problems\"))","v":""},{"$f":"IF($D36=\"\",\"\",SUMIFS(Operating_Limits_Details!$I$24:$I$5800,Operating_Limits_Details!$B$24:$B$5800,B36,Operating_Limits_Details!$C$24:$C$5800,C36,Operating_Limits_Details!$J$24:$J$5800,\"Process Problems\"))","v":""},{"$f":"IF($D36=\"\",\"\",SUMIFS(Operating_Limits_Details!$I$24:$I$5800,Operating_Limits_Details!$B$24:$B$5800,B36,Operating_Limits_Details!$C$24:$C$5800,C36,Operating_Limits_Details!$J$24:$J$5800,\"Other Known Causes\"))","v":""},{"$f":"IF($D36=\"\",\"\",SUMIFS(Operating_Limits_Details!$I$24:$I$5800,Operating_Limits_Details!$B$24:$B$5800,B36,Operating_Limits_Details!$C$24:$C$5800,C36,Operating_Limits_Details!$J$24:$J$5800,\"Other Unknown Causes\"))","v":""}]
[null,{"$f":"IF(Lists!AR15=\"\",\"\",Lists!AR15)","v":""},{"$f":"IF(Lists!AS15=\"\",\"\",Lists!AS15)","v":""},null,"","",{"$f":"IF($D37=\"\",\"\",SUMIFS(Operating_Limits_Details!$I$24:$I$5800,Operating_Limits_Details!$B$24:$B$5800,B37,Operating_Limits_Details!$C$24:$C$5800,C37,Operating_Limits_Details!$J$24:$J$5800,\"Startup\"))","v":""},{"$f":"IF($D37=\"\",\"\",SUMIFS(Operating_Limits_Details!$I$24:$I$5800,Operating_Limits_Details!$B$24:$B$5800,B37,Operating_Limits_Details!$C$24:$C$5800,C37,Operating_Limits_Details!$J$24:$J$5800,\"Shutdown\"))","v":""},{"$f":"IF($D37=\"\",\"\",SUMIFS(Operating_Limits_Details!$I$24:$I$5800,Operating_Limits_Details!$B$24:$B$5800,B37,Operating_Limits_Details!$C$24:$C$5800,C37,Operating_Limits_Details!$J$24:$J$5800,\"Control Equipment Problems\"))","v":""},{"$f":"IF($D37=\"\",\"\",SUMIFS(Operating_Limits_Details!$I$24:$I$5800,Operating_Limits_Details!$B$24:$B$5800,B37,Operating_Limits_Details!$C$24:$C$5800,C37,Operating_Limits_Details!$J$24:$J$5800,\"Process Problems\"))","v":""},{"$f":"IF($D37=\"\",\"\",SUMIFS(Operating_Limits_Details!$I$24:$I$5800,Operating_Limits_Details!$B$24:$B$5800,B37,Operating_Limits_Details!$C$24:$C$5800,C37,Operating_Limits_Details!$J$24:$J$5800,\"Other Known Causes\"))","v":""},{"$f":"IF($D37=\"\",\"\",SUMIFS(Operating_Limits_Details!$I$24:$I$5800,Operating_Limits_Details!$B$24:$B$5800,B37,Operating_Limits_Details!$C$24:$C$5800,C37,Operating_Limits_Details!$J$24:$J$5800,\"Other Unknown Causes\"))","v":""}]
[null,{"$f":"IF(Lists!AR16=\"\",\"\",Lists!AR16)","v":""},{"$f":"IF(Lists!AS16=\"\",\"\",Lists!AS16)","v":""},null,"","",{"$f":"IF($D38=\"\",\"\",SUMIFS(Operating_Limits_Details!$I$24:$I$5800,Operating_Limits_Details!$B$24:$B$5800,B38,Operating_Limits_Details!$C$24:$C$5800,C38,Operating_Limits_Details!$J$24:$J$5800,\"Startup\"))","v":""},{"$f":"IF($D38=\"\",\"\",SUMIFS(Operating_Limits_Details!$I$24:$I$5800,Operating_Limits_Details!$B$24:$B$5800,B38,Operating_Limits_Details!$C$24:$C$5800,C38,Operating_Limits_Details!$J$24:$J$5800,\"Shutdown\"))","v":""},{"$f":"IF($D38=\"\",\"\",SUMIFS(Operating_Limits_Details!$I$24:$I$5800,Operating_Limits_Details!$B$24:$B$5800,B38,Operating_Limits_Details!$C$24:$C$5800,C38,Operating_Limits_Details!$J$24:$J$5800,\"Control Equipment Problems\"))","v":""},{"$f":"IF($D38=\"\",\"\",SUMIFS(Operating_Limits_Details!$I$24:$I$5800,Operating_Limits_Details!$B$24:$B$5800,B38,Operating_Limits_Details!$C$24:$C$5800,C38,Operating_Limits_Details!$J$24:$J$5800,\"Process Problems\"))","v":""},{"$f":"IF($D38=\"\",\"\",SUMIFS(Operating_Limits_Details!$I$24:$I$5800,Operating_Limits_Details!$B$24:$B$5800,B38,Operating_Limits_Details!$C$24:$C$5800,C38,Operating_Limits_Details!$J$24:$J$5800,\"Other Known Causes\"))","v":""},{"$f":"IF($D38=\"\",\"\",SUMIFS(Operating_Limits_Details!$I$24:$I$5800,Operating_Limits_Details!$B$24:$B$5800,B38,Operating_Limits_Details!$C$24:$C$5800,C38,Operating_Limits_Details!$J$24:$J$5800,\"Other Unknown Causes\"))","v":""}]
[null,{"$f":"IF(Lists!AR17=\"\",\"\",Lists!AR17)","v":""},{"$f":"IF(Lists!AS17=\"\",\"\",Lists!AS17)","v":""},null,"","",{"$f":"IF($D39=\"\",\"\",SUMIFS(Operating_Limits_Details!$I$24:$I$5800,Operating_Limits_Details!$B$24:$B$5800,B39,Operating_Limits_Details!$C$24:$C$5800,C39,Operating_Limits_Details!$J$24:$J$5800,\"Startup\"))","v":""},{"$f":"IF($D39=\"\",\"\",SUMIFS(Operating_Limits_Details!$I$24:$I$5800,Operating_Limits_Details!$B$24:$B$5800,B39,Operating_Limits_Details!$C$24:$C$5800,C39,Operating_Limits_Details!$J$24:$J$5800,\"Shutdown\"))","v":""},{"$f":"IF($D39=\"\",\"\",SUMIFS(Operating_Limits_Details!$I$24:$I$5800,Operating_Limits_Details!$B$24:$B$5800,B39,Operating_Limits_Details!$C$24:$C$5800,C39,Operating_Limits_Details!$J$24:$J$5800,\"Control Equipment Problems\"))","v":""},{"$f":"IF($D39=\"\",\"\",SUMIFS(Operating_Limits_Details!$I$24:$I$5800,Operating_Limits_Details!$B$24:$B$5800,B39,Operating_Limits_Details!$C$24:$C$5800,C39,Operating_Limits_Details!$J$24:$J$5800,\"Process Problems\"))","v":""},{"$f":"IF($D39=\"\",\"\",SUMIFS(Operating_Limits_Details!$I$24:$I$5800,Operating_Limits_Details!$B$24:$B$5800,B39,Operating_Limits_Details!$C$24:$C$5800,C39,Operating_Limits_Details!$J$24:$J$5800,\"Other Known Causes\"))","v":""},{"$f":"IF($D39=\"\",\"\",SUMIFS(Operating_Limits_Details!$I$24:$I$5800,Operating_Limits_Details!$B$24:$B$5800,B39,Operating_Limits_Details!$C$24:$C$5800,C39,Operating_Limits_Details!$J$24:$J$5800,\"Other Unknown Causes\"))","v":""}]
[null,{"$f":"IF(Lists!AR18=\"\",\"\",Lists!AR18)","v":""},{"$f":"IF(Lists!AS18=\"\",\"\",Lists!AS18)","v":""},null,"","",{"$f":"IF($D40=\"\",\"\",SUMIFS(Operating_Limits_Details!$I$24:$I$5800,Operating_Limits_Details!$B$24:$B$5800,B40,Operating_Limits_Details!$C$24:$C$5800,C40,Operating_Limits_Details!$J$24:$J$5800,\"Startup\"))","v":""},{"$f":"IF($D40=\"\",\"\",SUMIFS(Operating_Limits_Details!$I$24:$I$5800,Operating_Limits_Details!$B$24:$B$5800,B40,Operating_Limits_Details!$C$24:$C$5800,C40,Operating_Limits_Details!$J$24:$J$5800,\"Shutdown\"))","v":""},{"$f":"IF($D40=\"\",\"\",SUMIFS(Operating_Limits_Details!$I$24:$I$5800,Operating_Limits_Details!$B$24:$B$5800,B40,Operating_Limits_Details!$C$24:$C$5800,C40,Operating_Limits_Details!$J$24:$J$5800,\"Control Equipment Problems\"))","v":""},{"$f":"IF($D40=\"\",\"\",SUMIFS(Operating_Limits_Details!$I$24:$I$5800,Operating_Limits_Details!$B$24:$B$5800,B40,Operating_Limits_Details!$C$24:$C$5800,C40,Operating_Limits_Details!$J$24:$J$5800,\"Process Problems\"))","v":""},{"$f":"IF($D40=\"\",\"\",SUMIFS(Operating_Limits_Details!$I$24:$I$5800,Operating_Limits_Details!$B$24:$B$5800,B40,Operating_Limits_Details!$C$24:$C$5800,C40,Operating_Limits_Details!$J$24:$J$5800,\"Other Known Causes\"))","v":""},{"$f":"IF($D40=\"\",\"\",SUMIFS(Operating_Limits_Details!$I$24:$I$5800,Operating_Limits_Details!$B$24:$B$5800,B40,Operating_Limits_Details!$C$24:$C$5800,C40,Operating_Limits_Details!$J$24:$J$5800,\"Other Unknown Causes\"))","v":""}]
[null,{"$f":"IF(Lists!AR19=\"\",\"\",Lists!AR19)","v":""},{"$f":"IF(Lists!AS19=\"\",\"\",Lists!AS19)","v":""},null,"","",{"$f":"IF($D41=\"\",\"\",SUMIFS(Operating_Limits_Details!$I$24:$I$5800,Operating_Limits_Details!$B$24:$B$5800,B41,Operating_Limits_Details!$C$24:$C$5800,C41,Operating_Limits_Details!$J$24:$J$5800,\"Startup\"))","v":""},{"$f":"IF($D41=\"\",\"\",SUMIFS(Operating_Limits_Details!$I$24:$I$5800,Operating_Limits_Details!$B$24:$B$5800,B41,Operating_Limits_Details!$C$24:$C$5800,C41,Operating_Limits_Details!$J$24:$J$5800,\"Shutdown\"))","v":""},{"$f":"IF($D41=\"\",\"\",SUMIFS(Operating_Limits_Details!$I$24:$I$5800,Operating_Limits_Details!$B$24:$B$5800,B41,Operating_Limits_Details!$C$24:$C$5800,C41,Operating_Limits_Details!$J$24:$J$5800,\"Control Equipment Problems\"))","v":""},{"$f":"IF($D41=\"\",\"\",SUMIFS(Operating_Limits_Details!$I$24:$I$5800,Operating_Limits_Details!$B$24:$B$5800,B41,Operating_Limits_Details!$C$24:$C$5800,C41,Operating_Limits_Details!$J$24:$J$5800,\"Process Problems\"))","v":""},{"$f":"IF($D41=\"\",\"\",SUMIFS(Operating_Limits_Details!$I$24:$I$5800,Operating_Limits_Details!$B$24:$B$5800,B41,Operating_Limits_Details!$C$24:$C$5800,C41,Operating_Limits_Details!$J$24:$J$5800,\"Other Known Causes\"))","v":""},{"$f":"IF($D41=\"\",\"\",SUMIFS(Operating_Limits_Details!$I$24:$I$5800,Operating_Limits_Details!$B$24:$B$5800,B41,Operating_Limits_Details!$C$24:$C$5800,C41,Operating_Limits_Details!$J$24:$J$5800,\"Other Unknown Causes\"))","v":""}]
[null,{"$f":"IF(Lists!AR20=\"\",\"\",Lists!AR20)","v":""},{"$f":"IF(Lists!AS20=\"\",\"\",Lists!AS20)","v":""},null,"","",{"$f":"IF($D42=\"\",\"\",SUMIFS(Operating_Limits_Details!$I$24:$I$5800,Operating_Limits_Details!$B$24:$B$5800,B42,Operating_Limits_Details!$C$24:$C$5800,C42,Operating_Limits_Details!$J$24:$J$5800,\"Startup\"))","v":""},{"$f":"IF($D42=\"\",\"\",SUMIFS(Operating_Limits_Details!$I$24:$I$5800,Operating_Limits_Details!$B$24:$B$5800,B42,Operating_Limits_Details!$C$24:$C$5800,C42,Operating_Limits_Details!$J$24:$J$5800,\"Shutdown\"))","v":""},{"$f":"IF($D42=\"\",\"\",SUMIFS(Operating_Limits_Details!$I$24:$I$5800,Operating_Limits_Details!$B$24:$B$5800,B42,Operating_Limits_Details!$C$24:$C$5800,C42,Operating_Limits_Details!$J$24:$J$5800,\"Control Equipment Problems\"))","v":""},{"$f":"IF($D42=\"\",\"\",SUMIFS(Operating_Limits_Details!$I$24:$I$5800,Operating_Limits_Details!$B$24:$B$5800,B42,Operating_Limits_Details!$C$24:$C$5800,C42,Operating_Limits_Details!$J$24:$J$5800,\"Process Problems\"))","v":""},{"$f":"IF($D42=\"\",\"\",SUMIFS(Operating_Limits_Details!$I$24:$I$5800,Operating_Limits_Details!$B$24:$B$5800,B42,Operating_Limits_Details!$C$24:$C$5800,C42,Operating_Limits_Details!$J$24:$J$5800,\"Other Known Causes\"))","v":""},{"$f":"IF($D42=\"\",\"\",SUMIFS(Operating_Limits_Details!$I$24:$I$5800,Operating_Limits_Details!$B$24:$B$5800,B42,Operating_Limits_Details!$C$24:$C$5800,C42,Operating_Limits_Details!$J$24:$J$5800,\"Other Unknown Causes\"))","v":""}]
[null,{"$f":"IF(Lists!AR21=\"\",\"\",Lists!AR21)","v":""},{"$f":"IF(Lists!AS21=\"\",\"\",Lists!AS21)","v":""},null,"","",{"$f":"IF($D43=\"\",\"\",SUMIFS(Operating_Limits_Details!$I$24:$I$5800,Operating_Limits_Details!$B$24:$B$5800,B43,Operating_Limits_Details!$C$24:$C$5800,C43,Operating_Limits_Details!$J$24:$J$5800,\"Startup\"))","v":""},{"$f":"IF($D43=\"\",\"\",SUMIFS(Operating_Limits_Details!$I$24:$I$5800,Operating_Limits_Details!$B$24:$B$5800,B43,Operating_Limits_Details!$C$24:$C$5800,C43,Operating_Limits_Details!$J$24:$J$5800,\"Shutdown\"))","v":""},{"$f":"IF($D43=\"\",\"\",SUMIFS(Operating_Limits_Details!$I$24:$I$5800,Operating_Limits_Details!$B$24:$B$5800,B43,Operating_Limits_Details!$C$24:$C$5800,C43,Operating_Limits_Details!$J$24:$J$5800,\"Control Equipment Problems\"))","v":""},{"$f":"IF($D43=\"\",\"\",SUMIFS(Operating_Limits_Details!$I$24:$I$5800,Operating_Limits_Details!$B$24:$B$5800,B43,Operating_Limits_Details!$C$24:$C$5800,C43,Operating_Limits_Details!$J$24:$J$5800,\"Process Problems\"))","v":""},{"$f":"IF($D43=\"\",\"\",SUMIFS(Operating_Limits_Details!$I$24:$I$5800,Operating_Limits_Details!$B$24:$B$5800,B43,Operating_Limits_Details!$C$24:$C$5800,C43,Operating_Limits_Details!$J$24:$J$5800,\"Other Known Causes\"))","v":""},{"$f":"IF($D43=\"\",\"\",SUMIFS(Operating_Limits_Details!$I$24:$I$5800,Operating_Limits_Details!$B$24:$B$5800,B43,Operating_Limits_Details!$C$24:$C$5800,C43,Operating_Limits_Details!$J$24:$J$5800,\"Other Unknown Causes\"))","v":""}]
[null,{"$f":"IF(Lists!AR22=\"\",\"\",Lists!AR22)","v":""},{"$f":"IF(Lists!AS22=\"\",\"\",Lists!AS22)","v":""},null,"","",{"$f":"IF($D44=\"\",\"\",SUMIFS(Operating_Limits_Details!$I$24:$I$5800,Operating_Limits_Details!$B$24:$B$5800,B44,Operating_Limits_Details!$C$24:$C$5800,C44,Operating_Limits_Details!$J$24:$J$5800,\"Startup\"))","v":""},{"$f":"IF($D44=\"\",\"\",SUMIFS(Operating_Limits_Details!$I$24:$I$5800,Operating_Limits_Details!$B$24:$B$5800,B44,Operating_Limits_Details!$C$24:$C$5800,C44,Operating_Limits_Details!$J$24:$J$5800,\"Shutdown\"))","v":""},{"$f":"IF($D44=\"\",\"\",SUMIFS(Operating_Limits_Details!$I$24:$I$5800,Operating_Limits_Details!$B$24:$B$5800,B44,Operating_Limits_Details!$C$24:$C$5800,C44,Operating_Limits_Details!$J$24:$J$5800,\"Control Equipment Problems\"))","v":""},{"$f":"IF($D44=\"\",\"\",SUMIFS(Operating_Limits_Details!$I$24:$I$5800,Operating_Limits_Details!$B$24:$B$5800,B44,Operating_Limits_Details!$C$24:$C$5800,C44,Operating_Limits_Details!$J$24:$J$5800,\"Process Problems\"))","v":""},{"$f":"IF($D44=\"\",\"\",SUMIFS(Operating_Limits_Details!$I$24:$I$5800,Operating_Limits_Details!$B$24:$B$5800,B44,Operating_Limits_Details!$C$24:$C$5800,C44,Operating_Limits_Details!$J$24:$J$5800,\"Other Known Causes\"))","v":""},{"$f":"IF($D44=\"\",\"\",SUMIFS(Operating_Limits_Details!$I$24:$I$5800,Operating_Limits_Details!$B$24:$B$5800,B44,Operating_Limits_Details!$C$24:$C$5800,C44,Operating_Limits_Details!$J$24:$J$5800,\"Other Unknown Causes\"))","v":""}]
[null,{"$f":"IF(Lists!AR23=\"\",\"\",Lists!AR23)","v":""},{"$f":"IF(Lists!AS23=\"\",\"\",Lists!AS23)","v":""},null,"","",{"$f":"IF($D45=\"\",\"\",SUMIFS(Operating_Limits_Details!$I$24:$I$5800,Operating_Limits_Details!$B$24:$B$5800,B45,Operating_Limits_Details!$C$24:$C$5800,C45,Operating_Limits_Details!$J$24:$J$5800,\"Startup\"))","v":""},{"$f":"IF($D45=\"\",\"\",SUMIFS(Operating_Limits_Details!$I$24:$I$5800,Operating_Limits_Details!$B$24:$B$5800,B45,Operating_Limits_Details!$C$24:$C$5800,C45,Operating_Limits_Details!$J$24:$J$5800,\"Shutdown\"))","v":""},{"$f":"IF($D45=\"\",\"\",SUMIFS(Operating_Limits_Details!$I$24:$I$5800,Operating_Limits_Details!$B$24:$B$5800,B45,Operating_Limits_Details!$C$24:$C$5800,C45,Operating_Limits_Details!$J$24:$J$5800,\"Control Equipment Problems\"))","v":""},{"$f":"IF($D45=\"\",\"\",SUMIFS(Operating_Limits_Details!$I$24:$I$5800,Operating_Limits_Details!$B$24:$B$5800,B45,Operating_Limits_Details!$C$24:$C$5800,C45,Operating_Limits_Details!$J$24:$J$5800,\"Process Problems\"))","v":""},{"$f":"IF($D45=\"\",\"\",SUMIFS(Operating_Limits_Details!$I$24:$I$5800,Operating_Limits_Details!$B$24:$B$5800,B45,Operating_Limits_Details!$C$24:$C$5800,C45,Operating_Limits_Details!$J$24:$J$5800,\"Other Known Causes\"))","v":""},{"$f":"IF($D45=\"\",\"\",SUMIFS(Operating_Limits_Details!$I$24:$I$5800,Operating_Limits_Details!$B$24:$B$5800,B45,Operating_Limits_Details!$C$24:$C$5800,C45,Operating_Limits_Details!$J$24:$J$5800,\"Other Unknown Causes\"))","v":""}]
[null,{"$f":"IF(Lists!AR24=\"\",\"\",Lists!AR24)","v":""},{"$f":"IF(Lists!AS24=\"\",\"\",Lists!AS24)","v":""},null,"","",{"$f":"IF($D46=\"\",\"\",SUMIFS(Operating_Limits_Details!$I$24:$I$5800,Operating_Limits_Details!$B$24:$B$5800,B46,Operating_Limits_Details!$C$24:$C$5800,C46,Operating_Limits_Details!$J$24:$J$5800,\"Startup\"))","v":""},{"$f":"IF($D46=\"\",\"\",SUMIFS(Operating_Limits_Details!$I$24:$I$5800,Operating_Limits_Details!$B$24:$B$5800,B46,Operating_Limits_Details!$C$24:$C$5800,C46,Operating_Limits_Details!$J$24:$J$5800,\"Shutdown\"))","v":""},{"$f":"IF($D46=\"\",\"\",SUMIFS(Operating_Limits_Details!$I$24:$I$5800,Operating_Limits_Details!$B$24:$B$5800,B46,Operating_Limits_Details!$C$24:$C$5800,C46,Operating_Limits_Details!$J$24:$J$5800,\"Control Equipment Problems\"))","v":""},{"$f":"IF($D46=\"\",\"\",SUMIFS(Operating_Limits_Details!$I$24:$I$5800,Operating_Limits_Details!$B$24:$B$5800,B46,Operating_Limits_Details!$C$24:$C$5800,C46,Operating_Limits_Details!$J$24:$J$5800,\"Process Problems\"))","v":""},{"$f":"IF($D46=\"\",\"\",SUMIFS(Operating_Limits_Details!$I$24:$I$5800,Operating_Limits_Details!$B$24:$B$5800,B46,Operating_Limits_Details!$C$24:$C$5800,C46,Operating_Limits_Details!$J$24:$J$5800,\"Other Known Causes\"))","v":""},{"$f":"IF($D46=\"\",\"\",SUMIFS(Operating_Limits_Details!$I$24:$I$5800,Operating_Limits_Details!$B$24:$B$5800,B46,Operating_Limits_Details!$C$24:$C$5800,C46,Operating_Limits_Details!$J$24:$J$5800,\"Other Unknown Causes\"))","v":""}]
[null,{"$f":"IF(Lists!AR25=\"\",\"\",Lists!AR25)","v":""},{"$f":"IF(Lists!AS25=\"\",\"\",Lists!AS25)","v":""},null,"","",{"$f":"IF($D47=\"\",\"\",SUMIFS(Operating_Limits_Details!$I$24:$I$5800,Operating_Limits_Details!$B$24:$B$5800,B47,Operating_Limits_Details!$C$24:$C$5800,C47,Operating_Limits_Details!$J$24:$J$5800,\"Startup\"))","v":""},{"$f":"IF($D47=\"\",\"\",SUMIFS(Operating_Limits_Details!$I$24:$I$5800,Operating_Limits_Details!$B$24:$B$5800,B47,Operating_Limits_Details!$C$24:$C$5800,C47,Operating_Limits_Details!$J$24:$J$5800,\"Shutdown\"))","v":""},{"$f":"IF($D47=\"\",\"\",SUMIFS(Operating_Limits_Details!$I$24:$I$5800,Operating_Limits_Details!$B$24:$B$5800,B47,Operating_Limits_Details!$C$24:$C$5800,C47,Operating_Limits_Details!$J$24:$J$5800,\"Control Equipment Problems\"))","v":""},{"$f":"IF($D47=\"\",\"\",SUMIFS(Operating_Limits_Details!$I$24:$I$5800,Operating_Limits_Details!$B$24:$B$5800,B47,Operating_Limits_Details!$C$24:$C$5800,C47,Operating_Limits_Details!$J$24:$J$5800,\"Process Problems\"))","v":""},{"$f":"IF($D47=\"\",\"\",SUMIFS(Operating_Limits_Details!$I$24:$I$5800,Operating_Limits_Details!$B$24:$B$5800,B47,Operating_Limits_Details!$C$24:$C$5800,C47,Operating_Limits_Details!$J$24:$J$5800,\"Other Known Causes\"))","v":""},{"$f":"IF($D47=\"\",\"\",SUMIFS(Operating_Limits_Details!$I$24:$I$5800,Operating_Limits_Details!$B$24:$B$5800,B47,Operating_Limits_Details!$C$24:$C$5800,C47,Operating_Limits_Details!$J$24:$J$5800,\"Other Unknown Causes\"))","v":""}]
[null,{"$f":"IF(Lists!AR26=\"\",\"\",Lists!AR26)","v":""},{"$f":"IF(Lists!AS26=\"\",\"\",Lists!AS26)","v":""},null,"","",{"$f":"IF($D48=\"\",\"\",SUMIFS(Operating_Limits_Details!$I$24:$I$5800,Operating_Limits_Details!$B$24:$B$5800,B48,Operating_Limits_Details!$C$24:$C$5800,C48,Operating_Limits_Details!$J$24:$J$5800,\"Startup\"))","v":""},{"$f":"IF($D48=\"\",\"\",SUMIFS(Operating_Limits_Details!$I$24:$I$5800,Operating_Limits_Details!$B$24:$B$5800,B48,Operating_Limits_Details!$C$24:$C$5800,C48,Operating_Limits_Details!$J$24:$J$5800,\"Shutdown\"))","v":""},{"$f":"IF($D48=\"\",\"\",SUMIFS(Operating_Limits_Details!$I$24:$I$5800,Operating_Limits_Details!$B$24:$B$5800,B48,Operating_Limits_Details!$C$24:$C$5800,C48,Operating_Limits_Details!$J$24:$J$5800,\"Control Equipment Problems\"))","v":""},{"$f":"IF($D48=\"\",\"\",SUMIFS(Operating_Limits_Details!$I$24:$I$5800,Operating_Limits_Details!$B$24:$B$5800,B48,Operating_Limits_Details!$C$24:$C$5800,C48,Operating_Limits_Details!$J$24:$J$5800,\"Process Problems\"))","v":""},{"$f":"IF($D48=\"\",\"\",SUMIFS(Operating_Limits_Details!$I$24:$I$5800,Operating_Limits_Details!$B$24:$B$5800,B48,Operating_Limits_Details!$C$24:$C$5800,C48,Operating_Limits_Details!$J$24:$J$5800,\"Other Known Causes\"))","v":""},{"$f":"IF($D48=\"\",\"\",SUMIFS(Operating_Limits_Details!$I$24:$I$5800,Operating_Limits_Details!$B$24:$B$5800,B48,Operating_Limits_Details!$C$24:$C$5800,C48,Operating_Limits_Details!$J$24:$J$5800,\"Other Unknown Causes\"))","v":""}]
[null,{"$f":"IF(Lists!AR27=\"\",\"\",Lists!AR27)","v":""},{"$f":"IF(Lists!AS27=\"\",\"\",Lists!AS27)","v":""},null,"","",{"$f":"IF($D49=\"\",\"\",SUMIFS(Operating_Limits_Details!$I$24:$I$5800,Operating_Limits_Details!$B$24:$B$5800,B49,Operating_Limits_Details!$C$24:$C$5800,C49,Operating_Limits_Details!$J$24:$J$5800,\"Startup\"))","v":""},{"$f":"IF($D49=\"\",\"\",SUMIFS(Operating_Limits_Details!$I$24:$I$5800,Operating_Limits_Details!$B$24:$B$5800,B49,Operating_Limits_Details!$C$24:$C$5800,C49,Operating_Limits_Details!$J$24:$J$5800,\"Shutdown\"))","v":""},{"$f":"IF($D49=\"\",\"\",SUMIFS(Operating_Limits_Details!$I$24:$I$5800,Operating_Limits_Details!$B$24:$B$5800,B49,Operating_Limits_Details!$C$24:$C$5800,C49,Operating_Limits_Details!$J$24:$J$5800,\"Control Equipment Problems\"))","v":""},{"$f":"IF($D49=\"\",\"\",SUMIFS(Operating_Limits_Details!$I$24:$I$5800,Operating_Limits_Details!$B$24:$B$5800,B49,Operating_Limits_Details!$C$24:$C$5800,C49,Operating_Limits_Details!$J$24:$J$5800,\"Process Problems\"))","v":""},{"$f":"IF($D49=\"\",\"\",SUMIFS(Operating_Limits_Details!$I$24:$I$5800,Operating_Limits_Details!$B$24:$B$5800,B49,Operating_Limits_Details!$C$24:$C$5800,C49,Operating_Limits_Details!$J$24:$J$5800,\"Other Known Causes\"))","v":""},{"$f":"IF($D49=\"\",\"\",SUMIFS(Operating_Limits_Details!$I$24:$I$5800,Operating_Limits_Details!$B$24:$B$5800,B49,Operating_Limits_Details!$C$24:$C$5800,C49,Operating_Limits_Details!$J$24:$J$5800,\"Other Unknown Causes\"))","v":""}]
[null,{"$f":"IF(Lists!AR28=\"\",\"\",Lists!AR28)","v":""},{"$f":"IF(Lists!AS28=\"\",\"\",Lists!AS28)","v":""},null,"","",{"$f":"IF($D50=\"\",\"\",SUMIFS(Operating_Limits_Details!$I$24:$I$5800,Operating_Limits_Details!$B$24:$B$5800,B50,Operating_Limits_Details!$C$24:$C$5800,C50,Operating_Limits_Details!$J$24:$J$5800,\"Startup\"))","v":""},{"$f":"IF($D50=\"\",\"\",SUMIFS(Operating_Limits_Details!$I$24:$I$5800,Operating_Limits_Details!$B$24:$B$5800,B50,Operating_Limits_Details!$C$24:$C$5800,C50,Operating_Limits_Details!$J$24:$J$5800,\"Shutdown\"))","v":""},{"$f":"IF($D50=\"\",\"\",SUMIFS(Operating_Limits_Details!$I$24:$I$5800,Operating_Limits_Details!$B$24:$B$5800,B50,Operating_Limits_Details!$C$24:$C$5800,C50,Operating_Limits_Details!$J$24:$J$5800,\"Control Equipment Problems\"))","v":""},{"$f":"IF($D50=\"\",\"\",SUMIFS(Operating_Limits_Details!$I$24:$I$5800,Operating_Limits_Details!$B$24:$B$5800,B50,Operating_Limits_Details!$C$24:$C$5800,C50,Operating_Limits_Details!$J$24:$J$5800,\"Process Problems\"))","v":""},{"$f":"IF($D50=\"\",\"\",SUMIFS(Operating_Limits_Details!$I$24:$I$5800,Operating_Limits_Details!$B$24:$B$5800,B50,Operating_Limits_Details!$C$24:$C$5800,C50,Operating_Limits_Details!$J$24:$J$5800,\"Other Known Causes\"))","v":""},{"$f":"IF($D50=\"\",\"\",SUMIFS(Operating_Limits_Details!$I$24:$I$5800,Operating_Limits_Details!$B$24:$B$5800,B50,Operating_Limits_Details!$C$24:$C$5800,C50,Operating_Limits_Details!$J$24:$J$5800,\"Other Unknown Causes\"))","v":""}]
[null,{"$f":"IF(Lists!AR29=\"\",\"\",Lists!AR29)","v":""},{"$f":"IF(Lists!AS29=\"\",\"\",Lists!AS29)","v":""},null,"","",{"$f":"IF($D51=\"\",\"\",SUMIFS(Operating_Limits_Details!$I$24:$I$5800,Operating_Limits_Details!$B$24:$B$5800,B51,Operating_Limits_Details!$C$24:$C$5800,C51,Operating_Limits_Details!$J$24:$J$5800,\"Startup\"))","v":""},{"$f":"IF($D51=\"\",\"\",SUMIFS(Operating_Limits_Details!$I$24:$I$5800,Operating_Limits_Details!$B$24:$B$5800,B51,Operating_Limits_Details!$C$24:$C$5800,C51,Operating_Limits_Details!$J$24:$J$5800,\"Shutdown\"))","v":""},{"$f":"IF($D51=\"\",\"\",SUMIFS(Operating_Limits_Details!$I$24:$I$5800,Operating_Limits_Details!$B$24:$B$5800,B51,Operating_Limits_Details!$C$24:$C$5800,C51,Operating_Limits_Details!$J$24:$J$5800,\"Control Equipment Problems\"))","v":""},{"$f":"IF($D51=\"\",\"\",SUMIFS(Operating_Limits_Details!$I$24:$I$5800,Operating_Limits_Details!$B$24:$B$5800,B51,Operating_Limits_Details!$C$24:$C$5800,C51,Operating_Limits_Details!$J$24:$J$5800,\"Process Problems\"))","v":""},{"$f":"IF($D51=\"\",\"\",SUMIFS(Operating_Limits_Details!$I$24:$I$5800,Operating_Limits_Details!$B$24:$B$5800,B51,Operating_Limits_Details!$C$24:$C$5800,C51,Operating_Limits_Details!$J$24:$J$5800,\"Other Known Causes\"))","v":""},{"$f":"IF($D51=\"\",\"\",SUMIFS(Operating_Limits_Details!$I$24:$I$5800,Operating_Limits_Details!$B$24:$B$5800,B51,Operating_Limits_Details!$C$24:$C$5800,C51,Operating_Limits_Details!$J$24:$J$5800,\"Other Unknown Causes\"))","v":""}]
[null,{"$f":"IF(Lists!AR30=\"\",\"\",Lists!AR30)","v":""},{"$f":"IF(Lists!AS30=\"\",\"\",Lists!AS30)","v":""},null,"","",{"$f":"IF($D52=\"\",\"\",SUMIFS(Operating_Limits_Details!$I$24:$I$5800,Operating_Limits_Details!$B$24:$B$5800,B52,Operating_Limits_Details!$C$24:$C$5800,C52,Operating_Limits_Details!$J$24:$J$5800,\"Startup\"))","v":""},{"$f":"IF($D52=\"\",\"\",SUMIFS(Operating_Limits_Details!$I$24:$I$5800,Operating_Limits_Details!$B$24:$B$5800,B52,Operating_Limits_Details!$C$24:$C$5800,C52,Operating_Limits_Details!$J$24:$J$5800,\"Shutdown\"))","v":""},{"$f":"IF($D52=\"\",\"\",SUMIFS(Operating_Limits_Details!$I$24:$I$5800,Operating_Limits_Details!$B$24:$B$5800,B52,Operating_Limits_Details!$C$24:$C$5800,C52,Operating_Limits_Details!$J$24:$J$5800,\"Control Equipment Problems\"))","v":""},{"$f":"IF($D52=\"\",\"\",SUMIFS(Operating_Limits_Details!$I$24:$I$5800,Operating_Limits_Details!$B$24:$B$5800,B52,Operating_Limits_Details!$C$24:$C$5800,C52,Operating_Limits_Details!$J$24:$J$5800,\"Process Problems\"))","v":""},{"$f":"IF($D52=\"\",\"\",SUMIFS(Operating_Limits_Details!$I$24:$I$5800,Operating_Limits_Details!$B$24:$B$5800,B52,Operating_Limits_Details!$C$24:$C$5800,C52,Operating_Limits_Details!$J$24:$J$5800,\"Other Known Causes\"))","v":""},{"$f":"IF($D52=\"\",\"\",SUMIFS(Operating_Limits_Details!$I$24:$I$5800,Operating_Limits_Details!$B$24:$B$5800,B52,Operating_Limits_Details!$C$24:$C$5800,C52,Operating_Limits_Details!$J$24:$J$5800,\"Other Unknown Causes\"))","v":""}]
[null,{"$f":"IF(Lists!AR31=\"\",\"\",Lists!AR31)","v":""},{"$f":"IF(Lists!AS31=\"\",\"\",Lists!AS31)","v":""},null,"","",{"$f":"IF($D53=\"\",\"\",SUMIFS(Operating_Limits_Details!$I$24:$I$5800,Operating_Limits_Details!$B$24:$B$5800,B53,Operating_Limits_Details!$C$24:$C$5800,C53,Operating_Limits_Details!$J$24:$J$5800,\"Startup\"))","v":""},{"$f":"IF($D53=\"\",\"\",SUMIFS(Operating_Limits_Details!$I$24:$I$5800,Operating_Limits_Details!$B$24:$B$5800,B53,Operating_Limits_Details!$C$24:$C$5800,C53,Operating_Limits_Details!$J$24:$J$5800,\"Shutdown\"))","v":""},{"$f":"IF($D53=\"\",\"\",SUMIFS(Operating_Limits_Details!$I$24:$I$5800,Operating_Limits_Details!$B$24:$B$5800,B53,Operating_Limits_Details!$C$24:$C$5800,C53,Operating_Limits_Details!$J$24:$J$5800,\"Control Equipment Problems\"))","v":""},{"$f":"IF($D53=\"\",\"\",SUMIFS(Operating_Limits_Details!$I$24:$I$5800,Operating_Limits_Details!$B$24:$B$5800,B53,Operating_Limits_Details!$C$24:$C$5800,C53,Operating_Limits_Details!$J$24:$J$5800,\"Process Problems\"))","v":""},{"$f":"IF($D53=\"\",\"\",SUMIFS(Operating_Limits_Details!$I$24:$I$5800,Operating_Limits_Details!$B$24:$B$5800,B53,Operating_Limits_Details!$C$24:$C$5800,C53,Operating_Limits_Details!$J$24:$J$5800,\"Other Known Causes\"))","v":""},{"$f":"IF($D53=\"\",\"\",SUMIFS(Operating_Limits_Details!$I$24:$I$5800,Operating_Limits_Details!$B$24:$B$5800,B53,Operating_Limits_Details!$C$24:$C$5800,C53,Operating_Limits_Details!$J$24:$J$5800,\"Other Unknown Causes\"))","v":""}]
[null,{"$f":"IF(Lists!AR32=\"\",\"\",Lists!AR32)","v":""},{"$f":"IF(Lists!AS32=\"\",\"\",Lists!AS32)","v":""},null,"","",{"$f":"IF($D54=\"\",\"\",SUMIFS(Operating_Limits_Details!$I$24:$I$5800,Operating_Limits_Details!$B$24:$B$5800,B54,Operating_Limits_Details!$C$24:$C$5800,C54,Operating_Limits_Details!$J$24:$J$5800,\"Startup\"))","v":""},{"$f":"IF($D54=\"\",\"\",SUMIFS(Operating_Limits_Details!$I$24:$I$5800,Operating_Limits_Details!$B$24:$B$5800,B54,Operating_Limits_Details!$C$24:$C$5800,C54,Operating_Limits_Details!$J$24:$J$5800,\"Shutdown\"))","v":""},{"$f":"IF($D54=\"\",\"\",SUMIFS(Operating_Limits_Details!$I$24:$I$5800,Operating_Limits_Details!$B$24:$B$5800,B54,Operating_Limits_Details!$C$24:$C$5800,C54,Operating_Limits_Details!$J$24:$J$5800,\"Control Equipment Problems\"))","v":""},{"$f":"IF($D54=\"\",\"\",SUMIFS(Operating_Limits_Details!$I$24:$I$5800,Operating_Limits_Details!$B$24:$B$5800,B54,Operating_Limits_Details!$C$24:$C$5800,C54,Operating_Limits_Details!$J$24:$J$5800,\"Process Problems\"))","v":""},{"$f":"IF($D54=\"\",\"\",SUMIFS(Operating_Limits_Details!$I$24:$I$5800,Operating_Limits_Details!$B$24:$B$5800,B54,Operating_Limits_Details!$C$24:$C$5800,C54,Operating_Limits_Details!$J$24:$J$5800,\"Other Known Causes\"))","v":""},{"$f":"IF($D54=\"\",\"\",SUMIFS(Operating_Limits_Details!$I$24:$I$5800,Operating_Limits_Details!$B$24:$B$5800,B54,Operating_Limits_Details!$C$24:$C$5800,C54,Operating_Limits_Details!$J$24:$J$5800,\"Other Unknown Causes\"))","v":""}]
[null,{"$f":"IF(Lists!AR33=\"\",\"\",Lists!AR33)","v":""},{"$f":"IF(Lists!AS33=\"\",\"\",Lists!AS33)","v":""},null,"","",{"$f":"IF($D55=\"\",\"\",SUMIFS(Operating_Limits_Details!$I$24:$I$5800,Operating_Limits_Details!$B$24:$B$5800,B55,Operating_Limits_Details!$C$24:$C$5800,C55,Operating_Limits_Details!$J$24:$J$5800,\"Startup\"))","v":""},{"$f":"IF($D55=\"\",\"\",SUMIFS(Operating_Limits_Details!$I$24:$I$5800,Operating_Limits_Details!$B$24:$B$5800,B55,Operating_Limits_Details!$C$24:$C$5800,C55,Operating_Limits_Details!$J$24:$J$5800,\"Shutdown\"))","v":""},{"$f":"IF($D55=\"\",\"\",SUMIFS(Operating_Limits_Details!$I$24:$I$5800,Operating_Limits_Details!$B$24:$B$5800,B55,Operating_Limits_Details!$C$24:$C$5800,C55,Operating_Limits_Details!$J$24:$J$5800,\"Control Equipment Problems\"))","v":""},{"$f":"IF($D55=\"\",\"\",SUMIFS(Operating_Limits_Details!$I$24:$I$5800,Operating_Limits_Details!$B$24:$B$5800,B55,Operating_Limits_Details!$C$24:$C$5800,C55,Operating_Limits_Details!$J$24:$J$5800,\"Process Problems\"))","v":""},{"$f":"IF($D55=\"\",\"\",SUMIFS(Operating_Limits_Details!$I$24:$I$5800,Operating_Limits_Details!$B$24:$B$5800,B55,Operating_Limits_Details!$C$24:$C$5800,C55,Operating_Limits_Details!$J$24:$J$5800,\"Other Known Causes\"))","v":""},{"$f":"IF($D55=\"\",\"\",SUMIFS(Operating_Limits_Details!$I$24:$I$5800,Operating_Limits_Details!$B$24:$B$5800,B55,Operating_Limits_Details!$C$24:$C$5800,C55,Operating_Limits_Details!$J$24:$J$5800,\"Other Unknown Causes\"))","v":""}]
[null,{"$f":"IF(Lists!AR34=\"\",\"\",Lists!AR34)","v":""},{"$f":"IF(Lists!AS34=\"\",\"\",Lists!AS34)","v":""},null,"","",{"$f":"IF($D56=\"\",\"\",SUMIFS(Operating_Limits_Details!$I$24:$I$5800,Operating_Limits_Details!$B$24:$B$5800,B56,Operating_Limits_Details!$C$24:$C$5800,C56,Operating_Limits_Details!$J$24:$J$5800,\"Startup\"))","v":""},{"$f":"IF($D56=\"\",\"\",SUMIFS(Operating_Limits_Details!$I$24:$I$5800,Operating_Limits_Details!$B$24:$B$5800,B56,Operating_Limits_Details!$C$24:$C$5800,C56,Operating_Limits_Details!$J$24:$J$5800,\"Shutdown\"))","v":""},{"$f":"IF($D56=\"\",\"\",SUMIFS(Operating_Limits_Details!$I$24:$I$5800,Operating_Limits_Details!$B$24:$B$5800,B56,Operating_Limits_Details!$C$24:$C$5800,C56,Operating_Limits_Details!$J$24:$J$5800,\"Control Equipment Problems\"))","v":""},{"$f":"IF($D56=\"\",\"\",SUMIFS(Operating_Limits_Details!$I$24:$I$5800,Operating_Limits_Details!$B$24:$B$5800,B56,Operating_Limits_Details!$C$24:$C$5800,C56,Operating_Limits_Details!$J$24:$J$5800,\"Process Problems\"))","v":""},{"$f":"IF($D56=\"\",\"\",SUMIFS(Operating_Limits_Details!$I$24:$I$5800,Operating_Limits_Details!$B$24:$B$5800,B56,Operating_Limits_Details!$C$24:$C$5800,C56,Operating_Limits_Details!$J$24:$J$5800,\"Other Known Causes\"))","v":""},{"$f":"IF($D56=\"\",\"\",SUMIFS(Operating_Limits_Details!$I$24:$I$5800,Operating_Limits_Details!$B$24:$B$5800,B56,Operating_Limits_Details!$C$24:$C$5800,C56,Operating_Limits_Details!$J$24:$J$5800,\"Other Unknown Causes\"))","v":""}]
[null,{"$f":"IF(Lists!AR35=\"\",\"\",Lists!AR35)","v":""},{"$f":"IF(Lists!AS35=\"\",\"\",Lists!AS35)","v":""},null,"","",{"$f":"IF($D57=\"\",\"\",SUMIFS(Operating_Limits_Details!$I$24:$I$5800,Operating_Limits_Details!$B$24:$B$5800,B57,Operating_Limits_Details!$C$24:$C$5800,C57,Operating_Limits_Details!$J$24:$J$5800,\"Startup\"))","v":""},{"$f":"IF($D57=\"\",\"\",SUMIFS(Operating_Limits_Details!$I$24:$I$5800,Operating_Limits_Details!$B$24:$B$5800,B57,Operating_Limits_Details!$C$24:$C$5800,C57,Operating_Limits_Details!$J$24:$J$5800,\"Shutdown\"))","v":""},{"$f":"IF($D57=\"\",\"\",SUMIFS(Operating_Limits_Details!$I$24:$I$5800,Operating_Limits_Details!$B$24:$B$5800,B57,Operating_Limits_Details!$C$24:$C$5800,C57,Operating_Limits_Details!$J$24:$J$5800,\"Control Equipment Problems\"))","v":""},{"$f":"IF($D57=\"\",\"\",SUMIFS(Operating_Limits_Details!$I$24:$I$5800,Operating_Limits_Details!$B$24:$B$5800,B57,Operating_Limits_Details!$C$24:$C$5800,C57,Operating_Limits_Details!$J$24:$J$5800,\"Process Problems\"))","v":""},{"$f":"IF($D57=\"\",\"\",SUMIFS(Operating_Limits_Details!$I$24:$I$5800,Operating_Limits_Details!$B$24:$B$5800,B57,Operating_Limits_Details!$C$24:$C$5800,C57,Operating_Limits_Details!$J$24:$J$5800,\"Other Known Causes\"))","v":""},{"$f":"IF($D57=\"\",\"\",SUMIFS(Operating_Limits_Details!$I$24:$I$5800,Operating_Limits_Details!$B$24:$B$5800,B57,Operating_Limits_Details!$C$24:$C$5800,C57,Operating_Limits_Details!$J$24:$J$5800,\"Other Unknown Causes\"))","v":""}]
[null,{"$f":"IF(Lists!AR36=\"\",\"\",Lists!AR36)","v":""},{"$f":"IF(Lists!AS36=\"\",\"\",Lists!AS36)","v":""},null,"","",{"$f":"IF($D58=\"\",\"\",SUMIFS(Operating_Limits_Details!$I$24:$I$5800,Operating_Limits_Details!$B$24:$B$5800,B58,Operating_Limits_Details!$C$24:$C$5800,C58,Operating_Limits_Details!$J$24:$J$5800,\"Startup\"))","v":""},{"$f":"IF($D58=\"\",\"\",SUMIFS(Operating_Limits_Details!$I$24:$I$5800,Operating_Limits_Details!$B$24:$B$5800,B58,Operating_Limits_Details!$C$24:$C$5800,C58,Operating_Limits_Details!$J$24:$J$5800,\"Shutdown\"))","v":""},{"$f":"IF($D58=\"\",\"\",SUMIFS(Operating_Limits_Details!$I$24:$I$5800,Operating_Limits_Details!$B$24:$B$5800,B58,Operating_Limits_Details!$C$24:$C$5800,C58,Operating_Limits_Details!$J$24:$J$5800,\"Control Equipment Problems\"))","v":""},{"$f":"IF($D58=\"\",\"\",SUMIFS(Operating_Limits_Details!$I$24:$I$5800,Operating_Limits_Details!$B$24:$B$5800,B58,Operating_Limits_Details!$C$24:$C$5800,C58,Operating_Limits_Details!$J$24:$J$5800,\"Process Problems\"))","v":""},{"$f":"IF($D58=\"\",\"\",SUMIFS(Operating_Limits_Details!$I$24:$I$5800,Operating_Limits_Details!$B$24:$B$5800,B58,Operating_Limits_Details!$C$24:$C$5800,C58,Operating_Limits_Details!$J$24:$J$5800,\"Other Known Causes\"))","v":""},{"$f":"IF($D58=\"\",\"\",SUMIFS(Operating_Limits_Details!$I$24:$I$5800,Operating_Limits_Details!$B$24:$B$5800,B58,Operating_Limits_Details!$C$24:$C$5800,C58,Operating_Limits_Details!$J$24:$J$5800,\"Other Unknown Causes\"))","v":""}]
[null,{"$f":"IF(Lists!AR37=\"\",\"\",Lists!AR37)","v":""},{"$f":"IF(Lists!AS37=\"\",\"\",Lists!AS37)","v":""},null,"","",{"$f":"IF($D59=\"\",\"\",SUMIFS(Operating_Limits_Details!$I$24:$I$5800,Operating_Limits_Details!$B$24:$B$5800,B59,Operating_Limits_Details!$C$24:$C$5800,C59,Operating_Limits_Details!$J$24:$J$5800,\"Startup\"))","v":""},{"$f":"IF($D59=\"\",\"\",SUMIFS(Operating_Limits_Details!$I$24:$I$5800,Operating_Limits_Details!$B$24:$B$5800,B59,Operating_Limits_Details!$C$24:$C$5800,C59,Operating_Limits_Details!$J$24:$J$5800,\"Shutdown\"))","v":""},{"$f":"IF($D59=\"\",\"\",SUMIFS(Operating_Limits_Details!$I$24:$I$5800,Operating_Limits_Details!$B$24:$B$5800,B59,Operating_Limits_Details!$C$24:$C$5800,C59,Operating_Limits_Details!$J$24:$J$5800,\"Control Equipment Problems\"))","v":""},{"$f":"IF($D59=\"\",\"\",SUMIFS(Operating_Limits_Details!$I$24:$I$5800,Operating_Limits_Details!$B$24:$B$5800,B59,Operating_Limits_Details!$C$24:$C$5800,C59,Operating_Limits_Details!$J$24:$J$5800,\"Process Problems\"))","v":""},{"$f":"IF($D59=\"\",\"\",SUMIFS(Operating_Limits_Details!$I$24:$I$5800,Operating_Limits_Details!$B$24:$B$5800,B59,Operating_Limits_Details!$C$24:$C$5800,C59,Operating_Limits_Details!$J$24:$J$5800,\"Other Known Causes\"))","v":""},{"$f":"IF($D59=\"\",\"\",SUMIFS(Operating_Limits_Details!$I$24:$I$5800,Operating_Limits_Details!$B$24:$B$5800,B59,Operating_Limits_Details!$C$24:$C$5800,C59,Operating_Limits_Details!$J$24:$J$5800,\"Other Unknown Causes\"))","v":""}]
[null,{"$f":"IF(Lists!AR38=\"\",\"\",Lists!AR38)","v":""},{"$f":"IF(Lists!AS38=\"\",\"\",Lists!AS38)","v":""},null,"","",{"$f":"IF($D60=\"\",\"\",SUMIFS(Operating_Limits_Details!$I$24:$I$5800,Operating_Limits_Details!$B$24:$B$5800,B60,Operating_Limits_Details!$C$24:$C$5800,C60,Operating_Limits_Details!$J$24:$J$5800,\"Startup\"))","v":""},{"$f":"IF($D60=\"\",\"\",SUMIFS(Operating_Limits_Details!$I$24:$I$5800,Operating_Limits_Details!$B$24:$B$5800,B60,Operating_Limits_Details!$C$24:$C$5800,C60,Operating_Limits_Details!$J$24:$J$5800,\"Shutdown\"))","v":""},{"$f":"IF($D60=\"\",\"\",SUMIFS(Operating_Limits_Details!$I$24:$I$5800,Operating_Limits_Details!$B$24:$B$5800,B60,Operating_Limits_Details!$C$24:$C$5800,C60,Operating_Limits_Details!$J$24:$J$5800,\"Control Equipment Problems\"))","v":""},{"$f":"IF($D60=\"\",\"\",SUMIFS(Operating_Limits_Details!$I$24:$I$5800,Operating_Limits_Details!$B$24:$B$5800,B60,Operating_Limits_Details!$C$24:$C$5800,C60,Operating_Limits_Details!$J$24:$J$5800,\"Process Problems\"))","v":""},{"$f":"IF($D60=\"\",\"\",SUMIFS(Operating_Limits_Details!$I$24:$I$5800,Operating_Limits_Details!$B$24:$B$5800,B60,Operating_Limits_Details!$C$24:$C$5800,C60,Operating_Limits_Details!$J$24:$J$5800,\"Other Known Causes\"))","v":""},{"$f":"IF($D60=\"\",\"\",SUMIFS(Operating_Limits_Details!$I$24:$I$5800,Operating_Limits_Details!$B$24:$B$5800,B60,Operating_Limits_Details!$C$24:$C$5800,C60,Operating_Limits_Details!$J$24:$J$5800,\"Other Unknown Causes\"))","v":""}]
[null,{"$f":"IF(Lists!AR39=\"\",\"\",Lists!AR39)","v":""},{"$f":"IF(Lists!AS39=\"\",\"\",Lists!AS39)","v":""},null,"","",{"$f":"IF($D61=\"\",\"\",SUMIFS(Operating_Limits_Details!$I$24:$I$5800,Operating_Limits_Details!$B$24:$B$5800,B61,Operating_Limits_Details!$C$24:$C$5800,C61,Operating_Limits_Details!$J$24:$J$5800,\"Startup\"))","v":""},{"$f":"IF($D61=\"\",\"\",SUMIFS(Operating_Limits_Details!$I$24:$I$5800,Operating_Limits_Details!$B$24:$B$5800,B61,Operating_Limits_Details!$C$24:$C$5800,C61,Operating_Limits_Details!$J$24:$J$5800,\"Shutdown\"))","v":""},{"$f":"IF($D61=\"\",\"\",SUMIFS(Operating_Limits_Details!$I$24:$I$5800,Operating_Limits_Details!$B$24:$B$5800,B61,Operating_Limits_Details!$C$24:$C$5800,C61,Operating_Limits_Details!$J$24:$J$5800,\"Control Equipment Problems\"))","v":""},{"$f":"IF($D61=\"\",\"\",SUMIFS(Operating_Limits_Details!$I$24:$I$5800,Operating_Limits_Details!$B$24:$B$5800,B61,Operating_Limits_Details!$C$24:$C$5800,C61,Operating_Limits_Details!$J$24:$J$5800,\"Process Problems\"))","v":""},{"$f":"IF($D61=\"\",\"\",SUMIFS(Operating_Limits_Details!$I$24:$I$5800,Operating_Limits_Details!$B$24:$B$5800,B61,Operating_Limits_Details!$C$24:$C$5800,C61,Operating_Limits_Details!$J$24:$J$5800,\"Other Known Causes\"))","v":""},{"$f":"IF($D61=\"\",\"\",SUMIFS(Operating_Limits_Details!$I$24:$I$5800,Operating_Limits_Details!$B$24:$B$5800,B61,Operating_Limits_Details!$C$24:$C$5800,C61,Operating_Limits_Details!$J$24:$J$5800,\"Other Unknown Causes\"))","v":""}]
[null,{"$f":"IF(Lists!AR40=\"\",\"\",Lists!AR40)","v":""},{"$f":"IF(Lists!AS40=\"\",\"\",Lists!AS40)","v":""},null,"","",{"$f":"IF($D62=\"\",\"\",SUMIFS(Operating_Limits_Details!$I$24:$I$5800,Operating_Limits_Details!$B$24:$B$5800,B62,Operating_Limits_Details!$C$24:$C$5800,C62,Operating_Limits_Details!$J$24:$J$5800,\"Startup\"))","v":""},{"$f":"IF($D62=\"\",\"\",SUMIFS(Operating_Limits_Details!$I$24:$I$5800,Operating_Limits_Details!$B$24:$B$5800,B62,Operating_Limits_Details!$C$24:$C$5800,C62,Operating_Limits_Details!$J$24:$J$5800,\"Shutdown\"))","v":""},{"$f":"IF($D62=\"\",\"\",SUMIFS(Operating_Limits_Details!$I$24:$I$5800,Operating_Limits_Details!$B$24:$B$5800,B62,Operating_Limits_Details!$C$24:$C$5800,C62,Operating_Limits_Details!$J$24:$J$5800,\"Control Equipment Problems\"))","v":""},{"$f":"IF($D62=\"\",\"\",SUMIFS(Operating_Limits_Details!$I$24:$I$5800,Operating_Limits_Details!$B$24:$B$5800,B62,Operating_Limits_Details!$C$24:$C$5800,C62,Operating_Limits_Details!$J$24:$J$5800,\"Process Problems\"))","v":""},{"$f":"IF($D62=\"\",\"\",SUMIFS(Operating_Limits_Details!$I$24:$I$5800,Operating_Limits_Details!$B$24:$B$5800,B62,Operating_Limits_Details!$C$24:$C$5800,C62,Operating_Limits_Details!$J$24:$J$5800,\"Other Known Causes\"))","v":""},{"$f":"IF($D62=\"\",\"\",SUMIFS(Operating_Limits_Details!$I$24:$I$5800,Operating_Limits_Details!$B$24:$B$5800,B62,Operating_Limits_Details!$C$24:$C$5800,C62,Operating_Limits_Details!$J$24:$J$5800,\"Other Unknown Causes\"))","v":""}]
[null,{"$f":"IF(Lists!AR41=\"\",\"\",Lists!AR41)","v":""},{"$f":"IF(Lists!AS41=\"\",\"\",Lists!AS41)","v":""},null,"","",{"$f":"IF($D63=\"\",\"\",SUMIFS(Operating_Limits_Details!$I$24:$I$5800,Operating_Limits_Details!$B$24:$B$5800,B63,Operating_Limits_Details!$C$24:$C$5800,C63,Operating_Limits_Details!$J$24:$J$5800,\"Startup\"))","v":""},{"$f":"IF($D63=\"\",\"\",SUMIFS(Operating_Limits_Details!$I$24:$I$5800,Operating_Limits_Details!$B$24:$B$5800,B63,Operating_Limits_Details!$C$24:$C$5800,C63,Operating_Limits_Details!$J$24:$J$5800,\"Shutdown\"))","v":""},{"$f":"IF($D63=\"\",\"\",SUMIFS(Operating_Limits_Details!$I$24:$I$5800,Operating_Limits_Details!$B$24:$B$5800,B63,Operating_Limits_Details!$C$24:$C$5800,C63,Operating_Limits_Details!$J$24:$J$5800,\"Control Equipment Problems\"))","v":""},{"$f":"IF($D63=\"\",\"\",SUMIFS(Operating_Limits_Details!$I$24:$I$5800,Operating_Limits_Details!$B$24:$B$5800,B63,Operating_Limits_Details!$C$24:$C$5800,C63,Operating_Limits_Details!$J$24:$J$5800,\"Process Problems\"))","v":""},{"$f":"IF($D63=\"\",\"\",SUMIFS(Operating_Limits_Details!$I$24:$I$5800,Operating_Limits_Details!$B$24:$B$5800,B63,Operating_Limits_Details!$C$24:$C$5800,C63,Operating_Limits_Details!$J$24:$J$5800,\"Other Known Causes\"))","v":""},{"$f":"IF($D63=\"\",\"\",SUMIFS(Operating_Limits_Details!$I$24:$I$5800,Operating_Limits_Details!$B$24:$B$5800,B63,Operating_Limits_Details!$C$24:$C$5800,C63,Operating_Limits_Details!$J$24:$J$5800,\"Other Unknown Causes\"))","v":""}]
[null,{"$f":"IF(Lists!AR42=\"\",\"\",Lists!AR42)","v":""},{"$f":"IF(Lists!AS42=\"\",\"\",Lists!AS42)","v":""},null,"","",{"$f":"IF($D64=\"\",\"\",SUMIFS(Operating_Limits_Details!$I$24:$I$5800,Operating_Limits_Details!$B$24:$B$5800,B64,Operating_Limits_Details!$C$24:$C$5800,C64,Operating_Limits_Details!$J$24:$J$5800,\"Startup\"))","v":""},{"$f":"IF($D64=\"\",\"\",SUMIFS(Operating_Limits_Details!$I$24:$I$5800,Operating_Limits_Details!$B$24:$B$5800,B64,Operating_Limits_Details!$C$24:$C$5800,C64,Operating_Limits_Details!$J$24:$J$5800,\"Shutdown\"))","v":""},{"$f":"IF($D64=\"\",\"\",SUMIFS(Operating_Limits_Details!$I$24:$I$5800,Operating_Limits_Details!$B$24:$B$5800,B64,Operating_Limits_Details!$C$24:$C$5800,C64,Operating_Limits_Details!$J$24:$J$5800,\"Control Equipment Problems\"))","v":""},{"$f":"IF($D64=\"\",\"\",SUMIFS(Operating_Limits_Details!$I$24:$I$5800,Operating_Limits_Details!$B$24:$B$5800,B64,Operating_Limits_Details!$C$24:$C$5800,C64,Operating_Limits_Details!$J$24:$J$5800,\"Process Problems\"))","v":""},{"$f":"IF($D64=\"\",\"\",SUMIFS(Operating_Limits_Details!$I$24:$I$5800,Operating_Limits_Details!$B$24:$B$5800,B64,Operating_Limits_Details!$C$24:$C$5800,C64,Operating_Limits_Details!$J$24:$J$5800,\"Other Known Causes\"))","v":""},{"$f":"IF($D64=\"\",\"\",SUMIFS(Operating_Limits_Details!$I$24:$I$5800,Operating_Limits_Details!$B$24:$B$5800,B64,Operating_Limits_Details!$C$24:$C$5800,C64,Operating_Limits_Details!$J$24:$J$5800,\"Other Unknown Causes\"))","v":""}]
[null,{"$f":"IF(Lists!AR43=\"\",\"\",Lists!AR43)","v":""},{"$f":"IF(Lists!AS43=\"\",\"\",Lists!AS43)","v":""},null,"","",{"$f":"IF($D65=\"\",\"\",SUMIFS(Operating_Limits_Details!$I$24:$I$5800,Operating_Limits_Details!$B$24:$B$5800,B65,Operating_Limits_Details!$C$24:$C$5800,C65,Operating_Limits_Details!$J$24:$J$5800,\"Startup\"))","v":""},{"$f":"IF($D65=\"\",\"\",SUMIFS(Operating_Limits_Details!$I$24:$I$5800,Operating_Limits_Details!$B$24:$B$5800,B65,Operating_Limits_Details!$C$24:$C$5800,C65,Operating_Limits_Details!$J$24:$J$5800,\"Shutdown\"))","v":""},{"$f":"IF($D65=\"\",\"\",SUMIFS(Operating_Limits_Details!$I$24:$I$5800,Operating_Limits_Details!$B$24:$B$5800,B65,Operating_Limits_Details!$C$24:$C$5800,C65,Operating_Limits_Details!$J$24:$J$5800,\"Control Equipment Problems\"))","v":""},{"$f":"IF($D65=\"\",\"\",SUMIFS(Operating_Limits_Details!$I$24:$I$5800,Operating_Limits_Details!$B$24:$B$5800,B65,Operating_Limits_Details!$C$24:$C$5800,C65,Operating_Limits_Details!$J$24:$J$5800,\"Process Problems\"))","v":""},{"$f":"IF($D65=\"\",\"\",SUMIFS(Operating_Limits_Details!$I$24:$I$5800,Operating_Limits_Details!$B$24:$B$5800,B65,Operating_Limits_Details!$C$24:$C$5800,C65,Operating_Limits_Details!$J$24:$J$5800,\"Other Known Causes\"))","v":""},{"$f":"IF($D65=\"\",\"\",SUMIFS(Operating_Limits_Details!$I$24:$I$5800,Operating_Limits_Details!$B$24:$B$5800,B65,Operating_Limits_Details!$C$24:$C$5800,C65,Operating_Limits_Details!$J$24:$J$5800,\"Other Unknown Causes\"))","v":""}]
[null,{"$f":"IF(Lists!AR44=\"\",\"\",Lists!AR44)","v":""},{"$f":"IF(Lists!AS44=\"\",\"\",Lists!AS44)","v":""},null,"","",{"$f":"IF($D66=\"\",\"\",SUMIFS(Operating_Limits_Details!$I$24:$I$5800,Operating_Limits_Details!$B$24:$B$5800,B66,Operating_Limits_Details!$C$24:$C$5800,C66,Operating_Limits_Details!$J$24:$J$5800,\"Startup\"))","v":""},{"$f":"IF($D66=\"\",\"\",SUMIFS(Operating_Limits_Details!$I$24:$I$5800,Operating_Limits_Details!$B$24:$B$5800,B66,Operating_Limits_Details!$C$24:$C$5800,C66,Operating_Limits_Details!$J$24:$J$5800,\"Shutdown\"))","v":""},{"$f":"IF($D66=\"\",\"\",SUMIFS(Operating_Limits_Details!$I$24:$I$5800,Operating_Limits_Details!$B$24:$B$5800,B66,Operating_Limits_Details!$C$24:$C$5800,C66,Operating_Limits_Details!$J$24:$J$5800,\"Control Equipment Problems\"))","v":""},{"$f":"IF($D66=\"\",\"\",SUMIFS(Operating_Limits_Details!$I$24:$I$5800,Operating_Limits_Details!$B$24:$B$5800,B66,Operating_Limits_Details!$C$24:$C$5800,C66,Operating_Limits_Details!$J$24:$J$5800,\"Process Problems\"))","v":""},{"$f":"IF($D66=\"\",\"\",SUMIFS(Operating_Limits_Details!$I$24:$I$5800,Operating_Limits_Details!$B$24:$B$5800,B66,Operating_Limits_Details!$C$24:$C$5800,C66,Operating_Limits_Details!$J$24:$J$5800,\"Other Known Causes\"))","v":""},{"$f":"IF($D66=\"\",\"\",SUMIFS(Operating_Limits_Details!$I$24:$I$5800,Operating_Limits_Details!$B$24:$B$5800,B66,Operating_Limits_Details!$C$24:$C$5800,C66,Operating_Limits_Details!$J$24:$J$5800,\"Other Unknown Causes\"))","v":""}]
[null,{"$f":"IF(Lists!AR45=\"\",\"\",Lists!AR45)","v":""},{"$f":"IF(Lists!AS45=\"\",\"\",Lists!AS45)","v":""},null,"","",{"$f":"IF($D67=\"\",\"\",SUMIFS(Operating_Limits_Details!$I$24:$I$5800,Operating_Limits_Details!$B$24:$B$5800,B67,Operating_Limits_Details!$C$24:$C$5800,C67,Operating_Limits_Details!$J$24:$J$5800,\"Startup\"))","v":""},{"$f":"IF($D67=\"\",\"\",SUMIFS(Operating_Limits_Details!$I$24:$I$5800,Operating_Limits_Details!$B$24:$B$5800,B67,Operating_Limits_Details!$C$24:$C$5800,C67,Operating_Limits_Details!$J$24:$J$5800,\"Shutdown\"))","v":""},{"$f":"IF($D67=\"\",\"\",SUMIFS(Operating_Limits_Details!$I$24:$I$5800,Operating_Limits_Details!$B$24:$B$5800,B67,Operating_Limits_Details!$C$24:$C$5800,C67,Operating_Limits_Details!$J$24:$J$5800,\"Control Equipment Problems\"))","v":""},{"$f":"IF($D67=\"\",\"\",SUMIFS(Operating_Limits_Details!$I$24:$I$5800,Operating_Limits_Details!$B$24:$B$5800,B67,Operating_Limits_Details!$C$24:$C$5800,C67,Operating_Limits_Details!$J$24:$J$5800,\"Process Problems\"))","v":""},{"$f":"IF($D67=\"\",\"\",SUMIFS(Operating_Limits_Details!$I$24:$I$5800,Operating_Limits_Details!$B$24:$B$5800,B67,Operating_Limits_Details!$C$24:$C$5800,C67,Operating_Limits_Details!$J$24:$J$5800,\"Other Known Causes\"))","v":""},{"$f":"IF($D67=\"\",\"\",SUMIFS(Operating_Limits_Details!$I$24:$I$5800,Operating_Limits_Details!$B$24:$B$5800,B67,Operating_Limits_Details!$C$24:$C$5800,C67,Operating_Limits_Details!$J$24:$J$5800,\"Other Unknown Causes\"))","v":""}]
[null,{"$f":"IF(Lists!AR46=\"\",\"\",Lists!AR46)","v":""},{"$f":"IF(Lists!AS46=\"\",\"\",Lists!AS46)","v":""},null,"","",{"$f":"IF($D68=\"\",\"\",SUMIFS(Operating_Limits_Details!$I$24:$I$5800,Operating_Limits_Details!$B$24:$B$5800,B68,Operating_Limits_Details!$C$24:$C$5800,C68,Operating_Limits_Details!$J$24:$J$5800,\"Startup\"))","v":""},{"$f":"IF($D68=\"\",\"\",SUMIFS(Operating_Limits_Details!$I$24:$I$5800,Operating_Limits_Details!$B$24:$B$5800,B68,Operating_Limits_Details!$C$24:$C$5800,C68,Operating_Limits_Details!$J$24:$J$5800,\"Shutdown\"))","v":""},{"$f":"IF($D68=\"\",\"\",SUMIFS(Operating_Limits_Details!$I$24:$I$5800,Operating_Limits_Details!$B$24:$B$5800,B68,Operating_Limits_Details!$C$24:$C$5800,C68,Operating_Limits_Details!$J$24:$J$5800,\"Control Equipment Problems\"))","v":""},{"$f":"IF($D68=\"\",\"\",SUMIFS(Operating_Limits_Details!$I$24:$I$5800,Operating_Limits_Details!$B$24:$B$5800,B68,Operating_Limits_Details!$C$24:$C$5800,C68,Operating_Limits_Details!$J$24:$J$5800,\"Process Problems\"))","v":""},{"$f":"IF($D68=\"\",\"\",SUMIFS(Operating_Limits_Details!$I$24:$I$5800,Operating_Limits_Details!$B$24:$B$5800,B68,Operating_Limits_Details!$C$24:$C$5800,C68,Operating_Limits_Details!$J$24:$J$5800,\"Other Known Causes\"))","v":""},{"$f":"IF($D68=\"\",\"\",SUMIFS(Operating_Limits_Details!$I$24:$I$5800,Operating_Limits_Details!$B$24:$B$5800,B68,Operating_Limits_Details!$C$24:$C$5800,C68,Operating_Limits_Details!$J$24:$J$5800,\"Other Unknown Causes\"))","v":""}]
[null,{"$f":"IF(Lists!AR47=\"\",\"\",Lists!AR47)","v":""},{"$f":"IF(Lists!AS47=\"\",\"\",Lists!AS47)","v":""},null,"","",{"$f":"IF($D69=\"\",\"\",SUMIFS(Operating_Limits_Details!$I$24:$I$5800,Operating_Limits_Details!$B$24:$B$5800,B69,Operating_Limits_Details!$C$24:$C$5800,C69,Operating_Limits_Details!$J$24:$J$5800,\"Startup\"))","v":""},{"$f":"IF($D69=\"\",\"\",SUMIFS(Operating_Limits_Details!$I$24:$I$5800,Operating_Limits_Details!$B$24:$B$5800,B69,Operating_Limits_Details!$C$24:$C$5800,C69,Operating_Limits_Details!$J$24:$J$5800,\"Shutdown\"))","v":""},{"$f":"IF($D69=\"\",\"\",SUMIFS(Operating_Limits_Details!$I$24:$I$5800,Operating_Limits_Details!$B$24:$B$5800,B69,Operating_Limits_Details!$C$24:$C$5800,C69,Operating_Limits_Details!$J$24:$J$5800,\"Control Equipment Problems\"))","v":""},{"$f":"IF($D69=\"\",\"\",SUMIFS(Operating_Limits_Details!$I$24:$I$5800,Operating_Limits_Details!$B$24:$B$5800,B69,Operating_Limits_Details!$C$24:$C$5800,C69,Operating_Limits_Details!$J$24:$J$5800,\"Process Problems\"))","v":""},{"$f":"IF($D69=\"\",\"\",SUMIFS(Operating_Limits_Details!$I$24:$I$5800,Operating_Limits_Details!$B$24:$B$5800,B69,Operating_Limits_Details!$C$24:$C$5800,C69,Operating_Limits_Details!$J$24:$J$5800,\"Other Known Causes\"))","v":""},{"$f":"IF($D69=\"\",\"\",SUMIFS(Operating_Limits_Details!$I$24:$I$5800,Operating_Limits_Details!$B$24:$B$5800,B69,Operating_Limits_Details!$C$24:$C$5800,C69,Operating_Limits_Details!$J$24:$J$5800,\"Other Unknown Causes\"))","v":""}]
[null,{"$f":"IF(Lists!AR48=\"\",\"\",Lists!AR48)","v":""},{"$f":"IF(Lists!AS48=\"\",\"\",Lists!AS48)","v":""},null,"","",{"$f":"IF($D70=\"\",\"\",SUMIFS(Operating_Limits_Details!$I$24:$I$5800,Operating_Limits_Details!$B$24:$B$5800,B70,Operating_Limits_Details!$C$24:$C$5800,C70,Operating_Limits_Details!$J$24:$J$5800,\"Startup\"))","v":""},{"$f":"IF($D70=\"\",\"\",SUMIFS(Operating_Limits_Details!$I$24:$I$5800,Operating_Limits_Details!$B$24:$B$5800,B70,Operating_Limits_Details!$C$24:$C$5800,C70,Operating_Limits_Details!$J$24:$J$5800,\"Shutdown\"))","v":""},{"$f":"IF($D70=\"\",\"\",SUMIFS(Operating_Limits_Details!$I$24:$I$5800,Operating_Limits_Details!$B$24:$B$5800,B70,Operating_Limits_Details!$C$24:$C$5800,C70,Operating_Limits_Details!$J$24:$J$5800,\"Control Equipment Problems\"))","v":""},{"$f":"IF($D70=\"\",\"\",SUMIFS(Operating_Limits_Details!$I$24:$I$5800,Operating_Limits_Details!$B$24:$B$5800,B70,Operating_Limits_Details!$C$24:$C$5800,C70,Operating_Limits_Details!$J$24:$J$5800,\"Process Problems\"))","v":""},{"$f":"IF($D70=\"\",\"\",SUMIFS(Operating_Limits_Details!$I$24:$I$5800,Operating_Limits_Details!$B$24:$B$5800,B70,Operating_Limits_Details!$C$24:$C$5800,C70,Operating_Limits_Details!$J$24:$J$5800,\"Other Known Causes\"))","v":""},{"$f":"IF($D70=\"\",\"\",SUMIFS(Operating_Limits_Details!$I$24:$I$5800,Operating_Limits_Details!$B$24:$B$5800,B70,Operating_Limits_Details!$C$24:$C$5800,C70,Operating_Limits_Details!$J$24:$J$5800,\"Other Unknown Causes\"))","v":""}]
[null,{"$f":"IF(Lists!AR49=\"\",\"\",Lists!AR49)","v":""},{"$f":"IF(Lists!AS49=\"\",\"\",Lists!AS49)","v":""},null,"","",{"$f":"IF($D71=\"\",\"\",SUMIFS(Operating_Limits_Details!$I$24:$I$5800,Operating_Limits_Details!$B$24:$B$5800,B71,Operating_Limits_Details!$C$24:$C$5800,C71,Operating_Limits_Details!$J$24:$J$5800,\"Startup\"))","v":""},{"$f":"IF($D71=\"\",\"\",SUMIFS(Operating_Limits_Details!$I$24:$I$5800,Operating_Limits_Details!$B$24:$B$5800,B71,Operating_Limits_Details!$C$24:$C$5800,C71,Operating_Limits_Details!$J$24:$J$5800,\"Shutdown\"))","v":""},{"$f":"IF($D71=\"\",\"\",SUMIFS(Operating_Limits_Details!$I$24:$I$5800,Operating_Limits_Details!$B$24:$B$5800,B71,Operating_Limits_Details!$C$24:$C$5800,C71,Operating_Limits_Details!$J$24:$J$5800,\"Control Equipment Problems\"))","v":""},{"$f":"IF($D71=\"\",\"\",SUMIFS(Operating_Limits_Details!$I$24:$I$5800,Operating_Limits_Details!$B$24:$B$5800,B71,Operating_Limits_Details!$C$24:$C$5800,C71,Operating_Limits_Details!$J$24:$J$5800,\"Process Problems\"))","v":""},{"$f":"IF($D71=\"\",\"\",SUMIFS(Operating_Limits_Details!$I$24:$I$5800,Operating_Limits_Details!$B$24:$B$5800,B71,Operating_Limits_Details!$C$24:$C$5800,C71,Operating_Limits_Details!$J$24:$J$5800,\"Other Known Causes\"))","v":""},{"$f":"IF($D71=\"\",\"\",SUMIFS(Operating_Limits_Details!$I$24:$I$5800,Operating_Limits_Details!$B$24:$B$5800,B71,Operating_Limits_Details!$C$24:$C$5800,C71,Operating_Limits_Details!$J$24:$J$5800,\"Other Unknown Causes\"))","v":""}]
[null,{"$f":"IF(Lists!AR50=\"\",\"\",Lists!AR50)","v":""},{"$f":"IF(Lists!AS50=\"\",\"\",Lists!AS50)","v":""},null,"","",{"$f":"IF($D72=\"\",\"\",SUMIFS(Operating_Limits_Details!$I$24:$I$5800,Operating_Limits_Details!$B$24:$B$5800,B72,Operating_Limits_Details!$C$24:$C$5800,C72,Operating_Limits_Details!$J$24:$J$5800,\"Startup\"))","v":""},{"$f":"IF($D72=\"\",\"\",SUMIFS(Operating_Limits_Details!$I$24:$I$5800,Operating_Limits_Details!$B$24:$B$5800,B72,Operating_Limits_Details!$C$24:$C$5800,C72,Operating_Limits_Details!$J$24:$J$5800,\"Shutdown\"))","v":""},{"$f":"IF($D72=\"\",\"\",SUMIFS(Operating_Limits_Details!$I$24:$I$5800,Operating_Limits_Details!$B$24:$B$5800,B72,Operating_Limits_Details!$C$24:$C$5800,C72,Operating_Limits_Details!$J$24:$J$5800,\"Control Equipment Problems\"))","v":""},{"$f":"IF($D72=\"\",\"\",SUMIFS(Operating_Limits_Details!$I$24:$I$5800,Operating_Limits_Details!$B$24:$B$5800,B72,Operating_Limits_Details!$C$24:$C$5800,C72,Operating_Limits_Details!$J$24:$J$5800,\"Process Problems\"))","v":""},{"$f":"IF($D72=\"\",\"\",SUMIFS(Operating_Limits_Details!$I$24:$I$5800,Operating_Limits_Details!$B$24:$B$5800,B72,Operating_Limits_Details!$C$24:$C$5800,C72,Operating_Limits_Details!$J$24:$J$5800,\"Other Known Causes\"))","v":""},{"$f":"IF($D72=\"\",\"\",SUMIFS(Operating_Limits_Details!$I$24:$I$5800,Operating_Limits_Details!$B$24:$B$5800,B72,Operating_Limits_Details!$C$24:$C$5800,C72,Operating_Limits_Details!$J$24:$J$5800,\"Other Unknown Causes\"))","v":""}]
[null,{"$f":"IF(Lists!AR51=\"\",\"\",Lists!AR51)","v":""},{"$f":"IF(Lists!AS51=\"\",\"\",Lists!AS51)","v":""},null,"","",{"$f":"IF($D73=\"\",\"\",SUMIFS(Operating_Limits_Details!$I$24:$I$5800,Operating_Limits_Details!$B$24:$B$5800,B73,Operating_Limits_Details!$C$24:$C$5800,C73,Operating_Limits_Details!$J$24:$J$5800,\"Startup\"))","v":""},{"$f":"IF($D73=\"\",\"\",SUMIFS(Operating_Limits_Details!$I$24:$I$5800,Operating_Limits_Details!$B$24:$B$5800,B73,Operating_Limits_Details!$C$24:$C$5800,C73,Operating_Limits_Details!$J$24:$J$5800,\"Shutdown\"))","v":""},{"$f":"IF($D73=\"\",\"\",SUMIFS(Operating_Limits_Details!$I$24:$I$5800,Operating_Limits_Details!$B$24:$B$5800,B73,Operating_Limits_Details!$C$24:$C$5800,C73,Operating_Limits_Details!$J$24:$J$5800,\"Control Equipment Problems\"))","v":""},{"$f":"IF($D73=\"\",\"\",SUMIFS(Operating_Limits_Details!$I$24:$I$5800,Operating_Limits_Details!$B$24:$B$5800,B73,Operating_Limits_Details!$C$24:$C$5800,C73,Operating_Limits_Details!$J$24:$J$5800,\"Process Problems\"))","v":""},{"$f":"IF($D73=\"\",\"\",SUMIFS(Operating_Limits_Details!$I$24:$I$5800,Operating_Limits_Details!$B$24:$B$5800,B73,Operating_Limits_Details!$C$24:$C$5800,C73,Operating_Limits_Details!$J$24:$J$5800,\"Other Known Causes\"))","v":""},{"$f":"IF($D73=\"\",\"\",SUMIFS(Operating_Limits_Details!$I$24:$I$5800,Operating_Limits_Details!$B$24:$B$5800,B73,Operating_Limits_Details!$C$24:$C$5800,C73,Operating_Limits_Details!$J$24:$J$5800,\"Other Unknown Causes\"))","v":""}]
[null,{"$f":"IF(Lists!AR52=\"\",\"\",Lists!AR52)","v":""},{"$f":"IF(Lists!AS52=\"\",\"\",Lists!AS52)","v":""},null,"","",{"$f":"IF($D74=\"\",\"\",SUMIFS(Operating_Limits_Details!$I$24:$I$5800,Operating_Limits_Details!$B$24:$B$5800,B74,Operating_Limits_Details!$C$24:$C$5800,C74,Operating_Limits_Details!$J$24:$J$5800,\"Startup\"))","v":""},{"$f":"IF($D74=\"\",\"\",SUMIFS(Operating_Limits_Details!$I$24:$I$5800,Operating_Limits_Details!$B$24:$B$5800,B74,Operating_Limits_Details!$C$24:$C$5800,C74,Operating_Limits_Details!$J$24:$J$5800,\"Shutdown\"))","v":""},{"$f":"IF($D74=\"\",\"\",SUMIFS(Operating_Limits_Details!$I$24:$I$5800,Operating_Limits_Details!$B$24:$B$5800,B74,Operating_Limits_Details!$C$24:$C$5800,C74,Operating_Limits_Details!$J$24:$J$5800,\"Control Equipment Problems\"))","v":""},{"$f":"IF($D74=\"\",\"\",SUMIFS(Operating_Limits_Details!$I$24:$I$5800,Operating_Limits_Details!$B$24:$B$5800,B74,Operating_Limits_Details!$C$24:$C$5800,C74,Operating_Limits_Details!$J$24:$J$5800,\"Process Problems\"))","v":""},{"$f":"IF($D74=\"\",\"\",SUMIFS(Operating_Limits_Details!$I$24:$I$5800,Operating_Limits_Details!$B$24:$B$5800,B74,Operating_Limits_Details!$C$24:$C$5800,C74,Operating_Limits_Details!$J$24:$J$5800,\"Other Known Causes\"))","v":""},{"$f":"IF($D74=\"\",\"\",SUMIFS(Operating_Limits_Details!$I$24:$I$5800,Operating_Limits_Details!$B$24:$B$5800,B74,Operating_Limits_Details!$C$24:$C$5800,C74,Operating_Limits_Details!$J$24:$J$5800,\"Other Unknown Causes\"))","v":""}]
[null,{"$f":"IF(Lists!AR53=\"\",\"\",Lists!AR53)","v":""},{"$f":"IF(Lists!AS53=\"\",\"\",Lists!AS53)","v":""},null,"","",{"$f":"IF($D75=\"\",\"\",SUMIFS(Operating_Limits_Details!$I$24:$I$5800,Operating_Limits_Details!$B$24:$B$5800,B75,Operating_Limits_Details!$C$24:$C$5800,C75,Operating_Limits_Details!$J$24:$J$5800,\"Startup\"))","v":""},{"$f":"IF($D75=\"\",\"\",SUMIFS(Operating_Limits_Details!$I$24:$I$5800,Operating_Limits_Details!$B$24:$B$5800,B75,Operating_Limits_Details!$C$24:$C$5800,C75,Operating_Limits_Details!$J$24:$J$5800,\"Shutdown\"))","v":""},{"$f":"IF($D75=\"\",\"\",SUMIFS(Operating_Limits_Details!$I$24:$I$5800,Operating_Limits_Details!$B$24:$B$5800,B75,Operating_Limits_Details!$C$24:$C$5800,C75,Operating_Limits_Details!$J$24:$J$5800,\"Control Equipment Problems\"))","v":""},{"$f":"IF($D75=\"\",\"\",SUMIFS(Operating_Limits_Details!$I$24:$I$5800,Operating_Limits_Details!$B$24:$B$5800,B75,Operating_Limits_Details!$C$24:$C$5800,C75,Operating_Limits_Details!$J$24:$J$5800,\"Process Problems\"))","v":""},{"$f":"IF($D75=\"\",\"\",SUMIFS(Operating_Limits_Details!$I$24:$I$5800,Operating_Limits_Details!$B$24:$B$5800,B75,Operating_Limits_Details!$C$24:$C$5800,C75,Operating_Limits_Details!$J$24:$J$5800,\"Other Known Causes\"))","v":""},{"$f":"IF($D75=\"\",\"\",SUMIFS(Operating_Limits_Details!$I$24:$I$5800,Operating_Limits_Details!$B$24:$B$5800,B75,Operating_Limits_Details!$C$24:$C$5800,C75,Operating_Limits_Details!$J$24:$J$5800,\"Other Unknown Causes\"))","v":""}]
[null,{"$f":"IF(Lists!AR54=\"\",\"\",Lists!AR54)","v":""},{"$f":"IF(Lists!AS54=\"\",\"\",Lists!AS54)","v":""},null,"","",{"$f":"IF($D76=\"\",\"\",SUMIFS(Operating_Limits_Details!$I$24:$I$5800,Operating_Limits_Details!$B$24:$B$5800,B76,Operating_Limits_Details!$C$24:$C$5800,C76,Operating_Limits_Details!$J$24:$J$5800,\"Startup\"))","v":""},{"$f":"IF($D76=\"\",\"\",SUMIFS(Operating_Limits_Details!$I$24:$I$5800,Operating_Limits_Details!$B$24:$B$5800,B76,Operating_Limits_Details!$C$24:$C$5800,C76,Operating_Limits_Details!$J$24:$J$5800,\"Shutdown\"))","v":""},{"$f":"IF($D76=\"\",\"\",SUMIFS(Operating_Limits_Details!$I$24:$I$5800,Operating_Limits_Details!$B$24:$B$5800,B76,Operating_Limits_Details!$C$24:$C$5800,C76,Operating_Limits_Details!$J$24:$J$5800,\"Control Equipment Problems\"))","v":""},{"$f":"IF($D76=\"\",\"\",SUMIFS(Operating_Limits_Details!$I$24:$I$5800,Operating_Limits_Details!$B$24:$B$5800,B76,Operating_Limits_Details!$C$24:$C$5800,C76,Operating_Limits_Details!$J$24:$J$5800,\"Process Problems\"))","v":""},{"$f":"IF($D76=\"\",\"\",SUMIFS(Operating_Limits_Details!$I$24:$I$5800,Operating_Limits_Details!$B$24:$B$5800,B76,Operating_Limits_Details!$C$24:$C$5800,C76,Operating_Limits_Details!$J$24:$J$5800,\"Other Known Causes\"))","v":""},{"$f":"IF($D76=\"\",\"\",SUMIFS(Operating_Limits_Details!$I$24:$I$5800,Operating_Limits_Details!$B$24:$B$5800,B76,Operating_Limits_Details!$C$24:$C$5800,C76,Operating_Limits_Details!$J$24:$J$5800,\"Other Unknown Causes\"))","v":""}]
[null,{"$f":"IF(Lists!AR55=\"\",\"\",Lists!AR55)","v":""},{"$f":"IF(Lists!AS55=\"\",\"\",Lists!AS55)","v":""},null,"","",{"$f":"IF($D77=\"\",\"\",SUMIFS(Operating_Limits_Details!$I$24:$I$5800,Operating_Limits_Details!$B$24:$B$5800,B77,Operating_Limits_Details!$C$24:$C$5800,C77,Operating_Limits_Details!$J$24:$J$5800,\"Startup\"))","v":""},{"$f":"IF($D77=\"\",\"\",SUMIFS(Operating_Limits_Details!$I$24:$I$5800,Operating_Limits_Details!$B$24:$B$5800,B77,Operating_Limits_Details!$C$24:$C$5800,C77,Operating_Limits_Details!$J$24:$J$5800,\"Shutdown\"))","v":""},{"$f":"IF($D77=\"\",\"\",SUMIFS(Operating_Limits_Details!$I$24:$I$5800,Operating_Limits_Details!$B$24:$B$5800,B77,Operating_Limits_Details!$C$24:$C$5800,C77,Operating_Limits_Details!$J$24:$J$5800,\"Control Equipment Problems\"))","v":""},{"$f":"IF($D77=\"\",\"\",SUMIFS(Operating_Limits_Details!$I$24:$I$5800,Operating_Limits_Details!$B$24:$B$5800,B77,Operating_Limits_Details!$C$24:$C$5800,C77,Operating_Limits_Details!$J$24:$J$5800,\"Process Problems\"))","v":""},{"$f":"IF($D77=\"\",\"\",SUMIFS(Operating_Limits_Details!$I$24:$I$5800,Operating_Limits_Details!$B$24:$B$5800,B77,Operating_Limits_Details!$C$24:$C$5800,C77,Operating_Limits_Details!$J$24:$J$5800,\"Other Known Causes\"))","v":""},{"$f":"IF($D77=\"\",\"\",SUMIFS(Operating_Limits_Details!$I$24:$I$5800,Operating_Limits_Details!$B$24:$B$5800,B77,Operating_Limits_Details!$C$24:$C$5800,C77,Operating_Limits_Details!$J$24:$J$5800,\"Other Unknown Causes\"))","v":""}]
[null,{"$f":"IF(Lists!AR56=\"\",\"\",Lists!AR56)","v":""},{"$f":"IF(Lists!AS56=\"\",\"\",Lists!AS56)","v":""},null,"","",{"$f":"IF($D78=\"\",\"\",SUMIFS(Operating_Limits_Details!$I$24:$I$5800,Operating_Limits_Details!$B$24:$B$5800,B78,Operating_Limits_Details!$C$24:$C$5800,C78,Operating_Limits_Details!$J$24:$J$5800,\"Startup\"))","v":""},{"$f":"IF($D78=\"\",\"\",SUMIFS(Operating_Limits_Details!$I$24:$I$5800,Operating_Limits_Details!$B$24:$B$5800,B78,Operating_Limits_Details!$C$24:$C$5800,C78,Operating_Limits_Details!$J$24:$J$5800,\"Shutdown\"))","v":""},{"$f":"IF($D78=\"\",\"\",SUMIFS(Operating_Limits_Details!$I$24:$I$5800,Operating_Limits_Details!$B$24:$B$5800,B78,Operating_Limits_Details!$C$24:$C$5800,C78,Operating_Limits_Details!$J$24:$J$5800,\"Control Equipment Problems\"))","v":""},{"$f":"IF($D78=\"\",\"\",SUMIFS(Operating_Limits_Details!$I$24:$I$5800,Operating_Limits_Details!$B$24:$B$5800,B78,Operating_Limits_Details!$C$24:$C$5800,C78,Operating_Limits_Details!$J$24:$J$5800,\"Process Problems\"))","v":""},{"$f":"IF($D78=\"\",\"\",SUMIFS(Operating_Limits_Details!$I$24:$I$5800,Operating_Limits_Details!$B$24:$B$5800,B78,Operating_Limits_Details!$C$24:$C$5800,C78,Operating_Limits_Details!$J$24:$J$5800,\"Other Known Causes\"))","v":""},{"$f":"IF($D78=\"\",\"\",SUMIFS(Operating_Limits_Details!$I$24:$I$5800,Operating_Limits_Details!$B$24:$B$5800,B78,Operating_Limits_Details!$C$24:$C$5800,C78,Operating_Limits_Details!$J$24:$J$5800,\"Other Unknown Causes\"))","v":""}]
[null,{"$f":"IF(Lists!AR57=\"\",\"\",Lists!AR57)","v":""},{"$f":"IF(Lists!AS57=\"\",\"\",Lists!AS57)","v":""},null,"","",{"$f":"IF($D79=\"\",\"\",SUMIFS(Operating_Limits_Details!$I$24:$I$5800,Operating_Limits_Details!$B$24:$B$5800,B79,Operating_Limits_Details!$C$24:$C$5800,C79,Operating_Limits_Details!$J$24:$J$5800,\"Startup\"))","v":""},{"$f":"IF($D79=\"\",\"\",SUMIFS(Operating_Limits_Details!$I$24:$I$5800,Operating_Limits_Details!$B$24:$B$5800,B79,Operating_Limits_Details!$C$24:$C$5800,C79,Operating_Limits_Details!$J$24:$J$5800,\"Shutdown\"))","v":""},{"$f":"IF($D79=\"\",\"\",SUMIFS(Operating_Limits_Details!$I$24:$I$5800,Operating_Limits_Details!$B$24:$B$5800,B79,Operating_Limits_Details!$C$24:$C$5800,C79,Operating_Limits_Details!$J$24:$J$5800,\"Control Equipment Problems\"))","v":""},{"$f":"IF($D79=\"\",\"\",SUMIFS(Operating_Limits_Details!$I$24:$I$5800,Operating_Limits_Details!$B$24:$B$5800,B79,Operating_Limits_Details!$C$24:$C$5800,C79,Operating_Limits_Details!$J$24:$J$5800,\"Process Problems\"))","v":""},{"$f":"IF($D79=\"\",\"\",SUMIFS(Operating_Limits_Details!$I$24:$I$5800,Operating_Limits_Details!$B$24:$B$5800,B79,Operating_Limits_Details!$C$24:$C$5800,C79,Operating_Limits_Details!$J$24:$J$5800,\"Other Known Causes\"))","v":""},{"$f":"IF($D79=\"\",\"\",SUMIFS(Operating_Limits_Details!$I$24:$I$5800,Operating_Limits_Details!$B$24:$B$5800,B79,Operating_Limits_Details!$C$24:$C$5800,C79,Operating_Limits_Details!$J$24:$J$5800,\"Other Unknown Causes\"))","v":""}]
[null,{"$f":"IF(Lists!AR58=\"\",\"\",Lists!AR58)","v":""},{"$f":"IF(Lists!AS58=\"\",\"\",Lists!AS58)","v":""},null,"","",{"$f":"IF($D80=\"\",\"\",SUMIFS(Operating_Limits_Details!$I$24:$I$5800,Operating_Limits_Details!$B$24:$B$5800,B80,Operating_Limits_Details!$C$24:$C$5800,C80,Operating_Limits_Details!$J$24:$J$5800,\"Startup\"))","v":""},{"$f":"IF($D80=\"\",\"\",SUMIFS(Operating_Limits_Details!$I$24:$I$5800,Operating_Limits_Details!$B$24:$B$5800,B80,Operating_Limits_Details!$C$24:$C$5800,C80,Operating_Limits_Details!$J$24:$J$5800,\"Shutdown\"))","v":""},{"$f":"IF($D80=\"\",\"\",SUMIFS(Operating_Limits_Details!$I$24:$I$5800,Operating_Limits_Details!$B$24:$B$5800,B80,Operating_Limits_Details!$C$24:$C$5800,C80,Operating_Limits_Details!$J$24:$J$5800,\"Control Equipment Problems\"))","v":""},{"$f":"IF($D80=\"\",\"\",SUMIFS(Operating_Limits_Details!$I$24:$I$5800,Operating_Limits_Details!$B$24:$B$5800,B80,Operating_Limits_Details!$C$24:$C$5800,C80,Operating_Limits_Details!$J$24:$J$5800,\"Process Problems\"))","v":""},{"$f":"IF($D80=\"\",\"\",SUMIFS(Operating_Limits_Details!$I$24:$I$5800,Operating_Limits_Details!$B$24:$B$5800,B80,Operating_Limits_Details!$C$24:$C$5800,C80,Operating_Limits_Details!$J$24:$J$5800,\"Other Known Causes\"))","v":""},{"$f":"IF($D80=\"\",\"\",SUMIFS(Operating_Limits_Details!$I$24:$I$5800,Operating_Limits_Details!$B$24:$B$5800,B80,Operating_Limits_Details!$C$24:$C$5800,C80,Operating_Limits_Details!$J$24:$J$5800,\"Other Unknown Causes\"))","v":""}]
[null,{"$f":"IF(Lists!AR59=\"\",\"\",Lists!AR59)","v":""},{"$f":"IF(Lists!AS59=\"\",\"\",Lists!AS59)","v":""},null,"","",{"$f":"IF($D81=\"\",\"\",SUMIFS(Operating_Limits_Details!$I$24:$I$5800,Operating_Limits_Details!$B$24:$B$5800,B81,Operating_Limits_Details!$C$24:$C$5800,C81,Operating_Limits_Details!$J$24:$J$5800,\"Startup\"))","v":""},{"$f":"IF($D81=\"\",\"\",SUMIFS(Operating_Limits_Details!$I$24:$I$5800,Operating_Limits_Details!$B$24:$B$5800,B81,Operating_Limits_Details!$C$24:$C$5800,C81,Operating_Limits_Details!$J$24:$J$5800,\"Shutdown\"))","v":""},{"$f":"IF($D81=\"\",\"\",SUMIFS(Operating_Limits_Details!$I$24:$I$5800,Operating_Limits_Details!$B$24:$B$5800,B81,Operating_Limits_Details!$C$24:$C$5800,C81,Operating_Limits_Details!$J$24:$J$5800,\"Control Equipment Problems\"))","v":""},{"$f":"IF($D81=\"\",\"\",SUMIFS(Operating_Limits_Details!$I$24:$I$5800,Operating_Limits_Details!$B$24:$B$5800,B81,Operating_Limits_Details!$C$24:$C$5800,C81,Operating_Limits_Details!$J$24:$J$5800,\"Process Problems\"))","v":""},{"$f":"IF($D81=\"\",\"\",SUMIFS(Operating_Limits_Details!$I$24:$I$5800,Operating_Limits_Details!$B$24:$B$5800,B81,Operating_Limits_Details!$C$24:$C$5800,C81,Operating_Limits_Details!$J$24:$J$5800,\"Other Known Causes\"))","v":""},{"$f":"IF($D81=\"\",\"\",SUMIFS(Operating_Limits_Details!$I$24:$I$5800,Operating_Limits_Details!$B$24:$B$5800,B81,Operating_Limits_Details!$C$24:$C$5800,C81,Operating_Limits_Details!$J$24:$J$5800,\"Other Unknown Causes\"))","v":""}]
[null,{"$f":"IF(Lists!AR60=\"\",\"\",Lists!AR60)","v":""},{"$f":"IF(Lists!AS60=\"\",\"\",Lists!AS60)","v":""},null,"","",{"$f":"IF($D82=\"\",\"\",SUMIFS(Operating_Limits_Details!$I$24:$I$5800,Operating_Limits_Details!$B$24:$B$5800,B82,Operating_Limits_Details!$C$24:$C$5800,C82,Operating_Limits_Details!$J$24:$J$5800,\"Startup\"))","v":""},{"$f":"IF($D82=\"\",\"\",SUMIFS(Operating_Limits_Details!$I$24:$I$5800,Operating_Limits_Details!$B$24:$B$5800,B82,Operating_Limits_Details!$C$24:$C$5800,C82,Operating_Limits_Details!$J$24:$J$5800,\"Shutdown\"))","v":""},{"$f":"IF($D82=\"\",\"\",SUMIFS(Operating_Limits_Details!$I$24:$I$5800,Operating_Limits_Details!$B$24:$B$5800,B82,Operating_Limits_Details!$C$24:$C$5800,C82,Operating_Limits_Details!$J$24:$J$5800,\"Control Equipment Problems\"))","v":""},{"$f":"IF($D82=\"\",\"\",SUMIFS(Operating_Limits_Details!$I$24:$I$5800,Operating_Limits_Details!$B$24:$B$5800,B82,Operating_Limits_Details!$C$24:$C$5800,C82,Operating_Limits_Details!$J$24:$J$5800,\"Process Problems\"))","v":""},{"$f":"IF($D82=\"\",\"\",SUMIFS(Operating_Limits_Details!$I$24:$I$5800,Operating_Limits_Details!$B$24:$B$5800,B82,Operating_Limits_Details!$C$24:$C$5800,C82,Operating_Limits_Details!$J$24:$J$5800,\"Other Known Causes\"))","v":""},{"$f":"IF($D82=\"\",\"\",SUMIFS(Operating_Limits_Details!$I$24:$I$5800,Operating_Limits_Details!$B$24:$B$5800,B82,Operating_Limits_Details!$C$24:$C$5800,C82,Operating_Limits_Details!$J$24:$J$5800,\"Other Unknown Causes\"))","v":""}]
[null,{"$f":"IF(Lists!AR61=\"\",\"\",Lists!AR61)","v":""},{"$f":"IF(Lists!AS61=\"\",\"\",Lists!AS61)","v":""},null,"","",{"$f":"IF($D83=\"\",\"\",SUMIFS(Operating_Limits_Details!$I$24:$I$5800,Operating_Limits_Details!$B$24:$B$5800,B83,Operating_Limits_Details!$C$24:$C$5800,C83,Operating_Limits_Details!$J$24:$J$5800,\"Startup\"))","v":""},{"$f":"IF($D83=\"\",\"\",SUMIFS(Operating_Limits_Details!$I$24:$I$5800,Operating_Limits_Details!$B$24:$B$5800,B83,Operating_Limits_Details!$C$24:$C$5800,C83,Operating_Limits_Details!$J$24:$J$5800,\"Shutdown\"))","v":""},{"$f":"IF($D83=\"\",\"\",SUMIFS(Operating_Limits_Details!$I$24:$I$5800,Operating_Limits_Details!$B$24:$B$5800,B83,Operating_Limits_Details!$C$24:$C$5800,C83,Operating_Limits_Details!$J$24:$J$5800,\"Control Equipment Problems\"))","v":""},{"$f":"IF($D83=\"\",\"\",SUMIFS(Operating_Limits_Details!$I$24:$I$5800,Operating_Limits_Details!$B$24:$B$5800,B83,Operating_Limits_Details!$C$24:$C$5800,C83,Operating_Limits_Details!$J$24:$J$5800,\"Process Problems\"))","v":""},{"$f":"IF($D83=\"\",\"\",SUMIFS(Operating_Limits_Details!$I$24:$I$5800,Operating_Limits_Details!$B$24:$B$5800,B83,Operating_Limits_Details!$C$24:$C$5800,C83,Operating_Limits_Details!$J$24:$J$5800,\"Other Known Causes\"))","v":""},{"$f":"IF($D83=\"\",\"\",SUMIFS(Operating_Limits_Details!$I$24:$I$5800,Operating_Limits_Details!$B$24:$B$5800,B83,Operating_Limits_Details!$C$24:$C$5800,C83,Operating_Limits_Details!$J$24:$J$5800,\"Other Unknown Causes\"))","v":""}]
[null,{"$f":"IF(Lists!AR62=\"\",\"\",Lists!AR62)","v":""},{"$f":"IF(Lists!AS62=\"\",\"\",Lists!AS62)","v":""},null,"","",{"$f":"IF($D84=\"\",\"\",SUMIFS(Operating_Limits_Details!$I$24:$I$5800,Operating_Limits_Details!$B$24:$B$5800,B84,Operating_Limits_Details!$C$24:$C$5800,C84,Operating_Limits_Details!$J$24:$J$5800,\"Startup\"))","v":""},{"$f":"IF($D84=\"\",\"\",SUMIFS(Operating_Limits_Details!$I$24:$I$5800,Operating_Limits_Details!$B$24:$B$5800,B84,Operating_Limits_Details!$C$24:$C$5800,C84,Operating_Limits_Details!$J$24:$J$5800,\"Shutdown\"))","v":""},{"$f":"IF($D84=\"\",\"\",SUMIFS(Operating_Limits_Details!$I$24:$I$5800,Operating_Limits_Details!$B$24:$B$5800,B84,Operating_Limits_Details!$C$24:$C$5800,C84,Operating_Limits_Details!$J$24:$J$5800,\"Control Equipment Problems\"))","v":""},{"$f":"IF($D84=\"\",\"\",SUMIFS(Operating_Limits_Details!$I$24:$I$5800,Operating_Limits_Details!$B$24:$B$5800,B84,Operating_Limits_Details!$C$24:$C$5800,C84,Operating_Limits_Details!$J$24:$J$5800,\"Process Problems\"))","v":""},{"$f":"IF($D84=\"\",\"\",SUMIFS(Operating_Limits_Details!$I$24:$I$5800,Operating_Limits_Details!$B$24:$B$5800,B84,Operating_Limits_Details!$C$24:$C$5800,C84,Operating_Limits_Details!$J$24:$J$5800,\"Other Known Causes\"))","v":""},{"$f":"IF($D84=\"\",\"\",SUMIFS(Operating_Limits_Details!$I$24:$I$5800,Operating_Limits_Details!$B$24:$B$5800,B84,Operating_Limits_Details!$C$24:$C$5800,C84,Operating_Limits_Details!$J$24:$J$5800,\"Other Unknown Causes\"))","v":""}]
[null,{"$f":"IF(Lists!AR63=\"\",\"\",Lists!AR63)","v":""},{"$f":"IF(Lists!AS63=\"\",\"\",Lists!AS63)","v":""},null,"","",{"$f":"IF($D85=\"\",\"\",SUMIFS(Operating_Limits_Details!$I$24:$I$5800,Operating_Limits_Details!$B$24:$B$5800,B85,Operating_Limits_Details!$C$24:$C$5800,C85,Operating_Limits_Details!$J$24:$J$5800,\"Startup\"))","v":""},{"$f":"IF($D85=\"\",\"\",SUMIFS(Operating_Limits_Details!$I$24:$I$5800,Operating_Limits_Details!$B$24:$B$5800,B85,Operating_Limits_Details!$C$24:$C$5800,C85,Operating_Limits_Details!$J$24:$J$5800,\"Shutdown\"))","v":""},{"$f":"IF($D85=\"\",\"\",SUMIFS(Operating_Limits_Details!$I$24:$I$5800,Operating_Limits_Details!$B$24:$B$5800,B85,Operating_Limits_Details!$C$24:$C$5800,C85,Operating_Limits_Details!$J$24:$J$5800,\"Control Equipment Problems\"))","v":""},{"$f":"IF($D85=\"\",\"\",SUMIFS(Operating_Limits_Details!$I$24:$I$5800,Operating_Limits_Details!$B$24:$B$5800,B85,Operating_Limits_Details!$C$24:$C$5800,C85,Operating_Limits_Details!$J$24:$J$5800,\"Process Problems\"))","v":""},{"$f":"IF($D85=\"\",\"\",SUMIFS(Operating_Limits_Details!$I$24:$I$5800,Operating_Limits_Details!$B$24:$B$5800,B85,Operating_Limits_Details!$C$24:$C$5800,C85,Operating_Limits_Details!$J$24:$J$5800,\"Other Known Causes\"))","v":""},{"$f":"IF($D85=\"\",\"\",SUMIFS(Operating_Limits_Details!$I$24:$I$5800,Operating_Limits_Details!$B$24:$B$5800,B85,Operating_Limits_Details!$C$24:$C$5800,C85,Operating_Limits_Details!$J$24:$J$5800,\"Other Unknown Causes\"))","v":""}]
[null,{"$f":"IF(Lists!AR64=\"\",\"\",Lists!AR64)","v":""},{"$f":"IF(Lists!AS64=\"\",\"\",Lists!AS64)","v":""},null,"","",{"$f":"IF($D86=\"\",\"\",SUMIFS(Operating_Limits_Details!$I$24:$I$5800,Operating_Limits_Details!$B$24:$B$5800,B86,Operating_Limits_Details!$C$24:$C$5800,C86,Operating_Limits_Details!$J$24:$J$5800,\"Startup\"))","v":""},{"$f":"IF($D86=\"\",\"\",SUMIFS(Operating_Limits_Details!$I$24:$I$5800,Operating_Limits_Details!$B$24:$B$5800,B86,Operating_Limits_Details!$C$24:$C$5800,C86,Operating_Limits_Details!$J$24:$J$5800,\"Shutdown\"))","v":""},{"$f":"IF($D86=\"\",\"\",SUMIFS(Operating_Limits_Details!$I$24:$I$5800,Operating_Limits_Details!$B$24:$B$5800,B86,Operating_Limits_Details!$C$24:$C$5800,C86,Operating_Limits_Details!$J$24:$J$5800,\"Control Equipment Problems\"))","v":""},{"$f":"IF($D86=\"\",\"\",SUMIFS(Operating_Limits_Details!$I$24:$I$5800,Operating_Limits_Details!$B$24:$B$5800,B86,Operating_Limits_Details!$C$24:$C$5800,C86,Operating_Limits_Details!$J$24:$J$5800,\"Process Problems\"))","v":""},{"$f":"IF($D86=\"\",\"\",SUMIFS(Operating_Limits_Details!$I$24:$I$5800,Operating_Limits_Details!$B$24:$B$5800,B86,Operating_Limits_Details!$C$24:$C$5800,C86,Operating_Limits_Details!$J$24:$J$5800,\"Other Known Causes\"))","v":""},{"$f":"IF($D86=\"\",\"\",SUMIFS(Operating_Limits_Details!$I$24:$I$5800,Operating_Limits_Details!$B$24:$B$5800,B86,Operating_Limits_Details!$C$24:$C$5800,C86,Operating_Limits_Details!$J$24:$J$5800,\"Other Unknown Causes\"))","v":""}]
[null,{"$f":"IF(Lists!AR65=\"\",\"\",Lists!AR65)","v":""},{"$f":"IF(Lists!AS65=\"\",\"\",Lists!AS65)","v":""},null,"","",{"$f":"IF($D87=\"\",\"\",SUMIFS(Operating_Limits_Details!$I$24:$I$5800,Operating_Limits_Details!$B$24:$B$5800,B87,Operating_Limits_Details!$C$24:$C$5800,C87,Operating_Limits_Details!$J$24:$J$5800,\"Startup\"))","v":""},{"$f":"IF($D87=\"\",\"\",SUMIFS(Operating_Limits_Details!$I$24:$I$5800,Operating_Limits_Details!$B$24:$B$5800,B87,Operating_Limits_Details!$C$24:$C$5800,C87,Operating_Limits_Details!$J$24:$J$5800,\"Shutdown\"))","v":""},{"$f":"IF($D87=\"\",\"\",SUMIFS(Operating_Limits_Details!$I$24:$I$5800,Operating_Limits_Details!$B$24:$B$5800,B87,Operating_Limits_Details!$C$24:$C$5800,C87,Operating_Limits_Details!$J$24:$J$5800,\"Control Equipment Problems\"))","v":""},{"$f":"IF($D87=\"\",\"\",SUMIFS(Operating_Limits_Details!$I$24:$I$5800,Operating_Limits_Details!$B$24:$B$5800,B87,Operating_Limits_Details!$C$24:$C$5800,C87,Operating_Limits_Details!$J$24:$J$5800,\"Process Problems\"))","v":""},{"$f":"IF($D87=\"\",\"\",SUMIFS(Operating_Limits_Details!$I$24:$I$5800,Operating_Limits_Details!$B$24:$B$5800,B87,Operating_Limits_Details!$C$24:$C$5800,C87,Operating_Limits_Details!$J$24:$J$5800,\"Other Known Causes\"))","v":""},{"$f":"IF($D87=\"\",\"\",SUMIFS(Operating_Limits_Details!$I$24:$I$5800,Operating_Limits_Details!$B$24:$B$5800,B87,Operating_Limits_Details!$C$24:$C$5800,C87,Operating_Limits_Details!$J$24:$J$5800,\"Other Unknown Causes\"))","v":""}]
[null,{"$f":"IF(Lists!AR66=\"\",\"\",Lists!AR66)","v":""},{"$f":"IF(Lists!AS66=\"\",\"\",Lists!AS66)","v":""},null,"","",{"$f":"IF($D88=\"\",\"\",SUMIFS(Operating_Limits_Details!$I$24:$I$5800,Operating_Limits_Details!$B$24:$B$5800,B88,Operating_Limits_Details!$C$24:$C$5800,C88,Operating_Limits_Details!$J$24:$J$5800,\"Startup\"))","v":""},{"$f":"IF($D88=\"\",\"\",SUMIFS(Operating_Limits_Details!$I$24:$I$5800,Operating_Limits_Details!$B$24:$B$5800,B88,Operating_Limits_Details!$C$24:$C$5800,C88,Operating_Limits_Details!$J$24:$J$5800,\"Shutdown\"))","v":""},{"$f":"IF($D88=\"\",\"\",SUMIFS(Operating_Limits_Details!$I$24:$I$5800,Operating_Limits_Details!$B$24:$B$5800,B88,Operating_Limits_Details!$C$24:$C$5800,C88,Operating_Limits_Details!$J$24:$J$5800,\"Control Equipment Problems\"))","v":""},{"$f":"IF($D88=\"\",\"\",SUMIFS(Operating_Limits_Details!$I$24:$I$5800,Operating_Limits_Details!$B$24:$B$5800,B88,Operating_Limits_Details!$C$24:$C$5800,C88,Operating_Limits_Details!$J$24:$J$5800,\"Process Problems\"))","v":""},{"$f":"IF($D88=\"\",\"\",SUMIFS(Operating_Limits_Details!$I$24:$I$5800,Operating_Limits_Details!$B$24:$B$5800,B88,Operating_Limits_Details!$C$24:$C$5800,C88,Operating_Limits_Details!$J$24:$J$5800,\"Other Known Causes\"))","v":""},{"$f":"IF($D88=\"\",\"\",SUMIFS(Operating_Limits_Details!$I$24:$I$5800,Operating_Limits_Details!$B$24:$B$5800,B88,Operating_Limits_Details!$C$24:$C$5800,C88,Operating_Limits_Details!$J$24:$J$5800,\"Other Unknown Causes\"))","v":""}]
[null,{"$f":"IF(Lists!AR67=\"\",\"\",Lists!AR67)","v":""},{"$f":"IF(Lists!AS67=\"\",\"\",Lists!AS67)","v":""},null,{"$f":"IF(D89=\"\",\"\",SUM(G89:L89))","v":""},{"$f":"IF($D89=\"\",\"\",IF(E89=0,\"N/A\",E89/$D89))","v":""},{"$f":"IF($D89=\"\",\"\",SUMIFS(Operating_Limits_Details!$I$24:$I$5800,Operating_Limits_Details!$B$24:$B$5800,B89,Operating_Limits_Details!$C$24:$C$5800,C89,Operating_Limits_Details!$J$24:$J$5800,\"Startup\"))","v":""},{"$f":"IF($D89=\"\",\"\",SUMIFS(Operating_Limits_Details!$I$24:$I$5800,Operating_Limits_Details!$B$24:$B$5800,B89,Operating_Limits_Details!$C$24:$C$5800,C89,Operating_Limits_Details!$J$24:$J$5800,\"Shutdown\"))","v":""},{"$f":"IF($D89=\"\",\"\",SUMIFS(Operating_Limits_Details!$I$24:$I$5800,Operating_Limits_Details!$B$24:$B$5800,B89,Operating_Limits_Details!$C$24:$C$5800,C89,Operating_Limits_Details!$J$24:$J$5800,\"Control Equipment Problems\"))","v":""},{"$f":"IF($D89=\"\",\"\",SUMIFS(Operating_Limits_Details!$I$24:$I$5800,Operating_Limits_Details!$B$24:$B$5800,B89,Operating_Limits_Details!$C$24:$C$5800,C89,Operating_Limits_Details!$J$24:$J$5800,\"Process Problems\"))","v":""},{"$f":"IF($D89=\"\",\"\",SUMIFS(Operating_Limits_Details!$I$24:$I$5800,Operating_Limits_Details!$B$24:$B$5800,B89,Operating_Limits_Details!$C$24:$C$5800,C89,Operating_Limits_Details!$J$24:$J$5800,\"Other Known Causes\"))","v":""},{"$f":"IF($D89=\"\",\"\",SUMIFS(Operating_Limits_Details!$I$24:$I$5800,Operating_Limits_Details!$B$24:$B$5800,B89,Operating_Limits_Details!$C$24:$C$5800,C89,Operating_Limits_Details!$J$24:$J$5800,\"Other Unknown Causes\"))","v":""}]
[null,{"$f":"IF(Lists!AR68=\"\",\"\",Lists!AR68)","v":""},{"$f":"IF(Lists!AS68=\"\",\"\",Lists!AS68)","v":""},null,"","",{"$f":"IF($D90=\"\",\"\",SUMIFS(Operating_Limits_Details!$I$24:$I$5800,Operating_Limits_Details!$B$24:$B$5800,B90,Operating_Limits_Details!$C$24:$C$5800,C90,Operating_Limits_Details!$J$24:$J$5800,\"Startup\"))","v":""},{"$f":"IF($D90=\"\",\"\",SUMIFS(Operating_Limits_Details!$I$24:$I$5800,Operating_Limits_Details!$B$24:$B$5800,B90,Operating_Limits_Details!$C$24:$C$5800,C90,Operating_Limits_Details!$J$24:$J$5800,\"Shutdown\"))","v":""},{"$f":"IF($D90=\"\",\"\",SUMIFS(Operating_Limits_Details!$I$24:$I$5800,Operating_Limits_Details!$B$24:$B$5800,B90,Operating_Limits_Details!$C$24:$C$5800,C90,Operating_Limits_Details!$J$24:$J$5800,\"Control Equipment Problems\"))","v":""},{"$f":"IF($D90=\"\",\"\",SUMIFS(Operating_Limits_Details!$I$24:$I$5800,Operating_Limits_Details!$B$24:$B$5800,B90,Operating_Limits_Details!$C$24:$C$5800,C90,Operating_Limits_Details!$J$24:$J$5800,\"Process Problems\"))","v":""},{"$f":"IF($D90=\"\",\"\",SUMIFS(Operating_Limits_Details!$I$24:$I$5800,Operating_Limits_Details!$B$24:$B$5800,B90,Operating_Limits_Details!$C$24:$C$5800,C90,Operating_Limits_Details!$J$24:$J$5800,\"Other Known Causes\"))","v":""},{"$f":"IF($D90=\"\",\"\",SUMIFS(Operating_Limits_Details!$I$24:$I$5800,Operating_Limits_Details!$B$24:$B$5800,B90,Operating_Limits_Details!$C$24:$C$5800,C90,Operating_Limits_Details!$J$24:$J$5800,\"Other Unknown Causes\"))","v":""}]
[null,{"$f":"IF(Lists!AR69=\"\",\"\",Lists!AR69)","v":""},{"$f":"IF(Lists!AS69=\"\",\"\",Lists!AS69)","v":""},null,"","",{"$f":"IF($D91=\"\",\"\",SUMIFS(Operating_Limits_Details!$I$24:$I$5800,Operating_Limits_Details!$B$24:$B$5800,B91,Operating_Limits_Details!$C$24:$C$5800,C91,Operating_Limits_Details!$J$24:$J$5800,\"Startup\"))","v":""},{"$f":"IF($D91=\"\",\"\",SUMIFS(Operating_Limits_Details!$I$24:$I$5800,Operating_Limits_Details!$B$24:$B$5800,B91,Operating_Limits_Details!$C$24:$C$5800,C91,Operating_Limits_Details!$J$24:$J$5800,\"Shutdown\"))","v":""},{"$f":"IF($D91=\"\",\"\",SUMIFS(Operating_Limits_Details!$I$24:$I$5800,Operating_Limits_Details!$B$24:$B$5800,B91,Operating_Limits_Details!$C$24:$C$5800,C91,Operating_Limits_Details!$J$24:$J$5800,\"Control Equipment Problems\"))","v":""},{"$f":"IF($D91=\"\",\"\",SUMIFS(Operating_Limits_Details!$I$24:$I$5800,Operating_Limits_Details!$B$24:$B$5800,B91,Operating_Limits_Details!$C$24:$C$5800,C91,Operating_Limits_Details!$J$24:$J$5800,\"Process Problems\"))","v":""},{"$f":"IF($D91=\"\",\"\",SUMIFS(Operating_Limits_Details!$I$24:$I$5800,Operating_Limits_Details!$B$24:$B$5800,B91,Operating_Limits_Details!$C$24:$C$5800,C91,Operating_Limits_Details!$J$24:$J$5800,\"Other Known Causes\"))","v":""},{"$f":"IF($D91=\"\",\"\",SUMIFS(Operating_Limits_Details!$I$24:$I$5800,Operating_Limits_Details!$B$24:$B$5800,B91,Operating_Limits_Details!$C$24:$C$5800,C91,Operating_Limits_Details!$J$24:$J$5800,\"Other Unknown Causes\"))","v":""}]
[null,{"$f":"IF(Lists!AR70=\"\",\"\",Lists!AR70)","v":""},{"$f":"IF(Lists!AS70=\"\",\"\",Lists!AS70)","v":""},null,"","",{"$f":"IF($D92=\"\",\"\",SUMIFS(Operating_Limits_Details!$I$24:$I$5800,Operating_Limits_Details!$B$24:$B$5800,B92,Operating_Limits_Details!$C$24:$C$5800,C92,Operating_Limits_Details!$J$24:$J$5800,\"Startup\"))","v":""},{"$f":"IF($D92=\"\",\"\",SUMIFS(Operating_Limits_Details!$I$24:$I$5800,Operating_Limits_Details!$B$24:$B$5800,B92,Operating_Limits_Details!$C$24:$C$5800,C92,Operating_Limits_Details!$J$24:$J$5800,\"Shutdown\"))","v":""},{"$f":"IF($D92=\"\",\"\",SUMIFS(Operating_Limits_Details!$I$24:$I$5800,Operating_Limits_Details!$B$24:$B$5800,B92,Operating_Limits_Details!$C$24:$C$5800,C92,Operating_Limits_Details!$J$24:$J$5800,\"Control Equipment Problems\"))","v":""},{"$f":"IF($D92=\"\",\"\",SUMIFS(Operating_Limits_Details!$I$24:$I$5800,Operating_Limits_Details!$B$24:$B$5800,B92,Operating_Limits_Details!$C$24:$C$5800,C92,Operating_Limits_Details!$J$24:$J$5800,\"Process Problems\"))","v":""},{"$f":"IF($D92=\"\",\"\",SUMIFS(Operating_Limits_Details!$I$24:$I$5800,Operating_Limits_Details!$B$24:$B$5800,B92,Operating_Limits_Details!$C$24:$C$5800,C92,Operating_Limits_Details!$J$24:$J$5800,\"Other Known Causes\"))","v":""},{"$f":"IF($D92=\"\",\"\",SUMIFS(Operating_Limits_Details!$I$24:$I$5800,Operating_Limits_Details!$B$24:$B$5800,B92,Operating_Limits_Details!$C$24:$C$5800,C92,Operating_Limits_Details!$J$24:$J$5800,\"Other Unknown Causes\"))","v":""}]
[null,{"$f":"IF(Lists!AR71=\"\",\"\",Lists!AR71)","v":""},{"$f":"IF(Lists!AS71=\"\",\"\",Lists!AS71)","v":""},null,"","",{"$f":"IF($D93=\"\",\"\",SUMIFS(Operating_Limits_Details!$I$24:$I$5800,Operating_Limits_Details!$B$24:$B$5800,B93,Operating_Limits_Details!$C$24:$C$5800,C93,Operating_Limits_Details!$J$24:$J$5800,\"Startup\"))","v":""},{"$f":"IF($D93=\"\",\"\",SUMIFS(Operating_Limits_Details!$I$24:$I$5800,Operating_Limits_Details!$B$24:$B$5800,B93,Operating_Limits_Details!$C$24:$C$5800,C93,Operating_Limits_Details!$J$24:$J$5800,\"Shutdown\"))","v":""},{"$f":"IF($D93=\"\",\"\",SUMIFS(Operating_Limits_Details!$I$24:$I$5800,Operating_Limits_Details!$B$24:$B$5800,B93,Operating_Limits_Details!$C$24:$C$5800,C93,Operating_Limits_Details!$J$24:$J$5800,\"Control Equipment Problems\"))","v":""},{"$f":"IF($D93=\"\",\"\",SUMIFS(Operating_Limits_Details!$I$24:$I$5800,Operating_Limits_Details!$B$24:$B$5800,B93,Operating_Limits_Details!$C$24:$C$5800,C93,Operating_Limits_Details!$J$24:$J$5800,\"Process Problems\"))","v":""},{"$f":"IF($D93=\"\",\"\",SUMIFS(Operating_Limits_Details!$I$24:$I$5800,Operating_Limits_Details!$B$24:$B$5800,B93,Operating_Limits_Details!$C$24:$C$5800,C93,Operating_Limits_Details!$J$24:$J$5800,\"Other Known Causes\"))","v":""},{"$f":"IF($D93=\"\",\"\",SUMIFS(Operating_Limits_Details!$I$24:$I$5800,Operating_Limits_Details!$B$24:$B$5800,B93,Operating_Limits_Details!$C$24:$C$5800,C93,Operating_Limits_Details!$J$24:$J$5800,\"Other Unknown Causes\"))","v":""}]
[null,{"$f":"IF(Lists!AR72=\"\",\"\",Lists!AR72)","v":""},{"$f":"IF(Lists!AS72=\"\",\"\",Lists!AS72)","v":""},null,"","",{"$f":"IF($D94=\"\",\"\",SUMIFS(Operating_Limits_Details!$I$24:$I$5800,Operating_Limits_Details!$B$24:$B$5800,B94,Operating_Limits_Details!$C$24:$C$5800,C94,Operating_Limits_Details!$J$24:$J$5800,\"Startup\"))","v":""},{"$f":"IF($D94=\"\",\"\",SUMIFS(Operating_Limits_Details!$I$24:$I$5800,Operating_Limits_Details!$B$24:$B$5800,B94,Operating_Limits_Details!$C$24:$C$5800,C94,Operating_Limits_Details!$J$24:$J$5800,\"Shutdown\"))","v":""},{"$f":"IF($D94=\"\",\"\",SUMIFS(Operating_Limits_Details!$I$24:$I$5800,Operating_Limits_Details!$B$24:$B$5800,B94,Operating_Limits_Details!$C$24:$C$5800,C94,Operating_Limits_Details!$J$24:$J$5800,\"Control Equipment Problems\"))","v":""},{"$f":"IF($D94=\"\",\"\",SUMIFS(Operating_Limits_Details!$I$24:$I$5800,Operating_Limits_Details!$B$24:$B$5800,B94,Operating_Limits_Details!$C$24:$C$5800,C94,Operating_Limits_Details!$J$24:$J$5800,\"Process Problems\"))","v":""},{"$f":"IF($D94=\"\",\"\",SUMIFS(Operating_Limits_Details!$I$24:$I$5800,Operating_Limits_Details!$B$24:$B$5800,B94,Operating_Limits_Details!$C$24:$C$5800,C94,Operating_Limits_Details!$J$24:$J$5800,\"Other Known Causes\"))","v":""},{"$f":"IF($D94=\"\",\"\",SUMIFS(Operating_Limits_Details!$I$24:$I$5800,Operating_Limits_Details!$B$24:$B$5800,B94,Operating_Limits_Details!$C$24:$C$5800,C94,Operating_Limits_Details!$J$24:$J$5800,\"Other Unknown Causes\"))","v":""}]
[null,{"$f":"IF(Lists!AR73=\"\",\"\",Lists!AR73)","v":""},{"$f":"IF(Lists!AS73=\"\",\"\",Lists!AS73)","v":""},null,"","",{"$f":"IF($D95=\"\",\"\",SUMIFS(Operating_Limits_Details!$I$24:$I$5800,Operating_Limits_Details!$B$24:$B$5800,B95,Operating_Limits_Details!$C$24:$C$5800,C95,Operating_Limits_Details!$J$24:$J$5800,\"Startup\"))","v":""},{"$f":"IF($D95=\"\",\"\",SUMIFS(Operating_Limits_Details!$I$24:$I$5800,Operating_Limits_Details!$B$24:$B$5800,B95,Operating_Limits_Details!$C$24:$C$5800,C95,Operating_Limits_Details!$J$24:$J$5800,\"Shutdown\"))","v":""},{"$f":"IF($D95=\"\",\"\",SUMIFS(Operating_Limits_Details!$I$24:$I$5800,Operating_Limits_Details!$B$24:$B$5800,B95,Operating_Limits_Details!$C$24:$C$5800,C95,Operating_Limits_Details!$J$24:$J$5800,\"Control Equipment Problems\"))","v":""},{"$f":"IF($D95=\"\",\"\",SUMIFS(Operating_Limits_Details!$I$24:$I$5800,Operating_Limits_Details!$B$24:$B$5800,B95,Operating_Limits_Details!$C$24:$C$5800,C95,Operating_Limits_Details!$J$24:$J$5800,\"Process Problems\"))","v":""},{"$f":"IF($D95=\"\",\"\",SUMIFS(Operating_Limits_Details!$I$24:$I$5800,Operating_Limits_Details!$B$24:$B$5800,B95,Operating_Limits_Details!$C$24:$C$5800,C95,Operating_Limits_Details!$J$24:$J$5800,\"Other Known Causes\"))","v":""},{"$f":"IF($D95=\"\",\"\",SUMIFS(Operating_Limits_Details!$I$24:$I$5800,Operating_Limits_Details!$B$24:$B$5800,B95,Operating_Limits_Details!$C$24:$C$5800,C95,Operating_Limits_Details!$J$24:$J$5800,\"Other Unknown Causes\"))","v":""}]
[null,{"$f":"IF(Lists!AR74=\"\",\"\",Lists!AR74)","v":""},{"$f":"IF(Lists!AS74=\"\",\"\",Lists!AS74)","v":""},null,"","",{"$f":"IF($D96=\"\",\"\",SUMIFS(Operating_Limits_Details!$I$24:$I$5800,Operating_Limits_Details!$B$24:$B$5800,B96,Operating_Limits_Details!$C$24:$C$5800,C96,Operating_Limits_Details!$J$24:$J$5800,\"Startup\"))","v":""},{"$f":"IF($D96=\"\",\"\",SUMIFS(Operating_Limits_Details!$I$24:$I$5800,Operating_Limits_Details!$B$24:$B$5800,B96,Operating_Limits_Details!$C$24:$C$5800,C96,Operating_Limits_Details!$J$24:$J$5800,\"Shutdown\"))","v":""},{"$f":"IF($D96=\"\",\"\",SUMIFS(Operating_Limits_Details!$I$24:$I$5800,Operating_Limits_Details!$B$24:$B$5800,B96,Operating_Limits_Details!$C$24:$C$5800,C96,Operating_Limits_Details!$J$24:$J$5800,\"Control Equipment Problems\"))","v":""},{"$f":"IF($D96=\"\",\"\",SUMIFS(Operating_Limits_Details!$I$24:$I$5800,Operating_Limits_Details!$B$24:$B$5800,B96,Operating_Limits_Details!$C$24:$C$5800,C96,Operating_Limits_Details!$J$24:$J$5800,\"Process Problems\"))","v":""},{"$f":"IF($D96=\"\",\"\",SUMIFS(Operating_Limits_Details!$I$24:$I$5800,Operating_Limits_Details!$B$24:$B$5800,B96,Operating_Limits_Details!$C$24:$C$5800,C96,Operating_Limits_Details!$J$24:$J$5800,\"Other Known Causes\"))","v":""},{"$f":"IF($D96=\"\",\"\",SUMIFS(Operating_Limits_Details!$I$24:$I$5800,Operating_Limits_Details!$B$24:$B$5800,B96,Operating_Limits_Details!$C$24:$C$5800,C96,Operating_Limits_Details!$J$24:$J$5800,\"Other Unknown Causes\"))","v":""}]
[null,{"$f":"IF(Lists!AR75=\"\",\"\",Lists!AR75)","v":""},{"$f":"IF(Lists!AS75=\"\",\"\",Lists!AS75)","v":""},null,"","",{"$f":"IF($D97=\"\",\"\",SUMIFS(Operating_Limits_Details!$I$24:$I$5800,Operating_Limits_Details!$B$24:$B$5800,B97,Operating_Limits_Details!$C$24:$C$5800,C97,Operating_Limits_Details!$J$24:$J$5800,\"Startup\"))","v":""},{"$f":"IF($D97=\"\",\"\",SUMIFS(Operating_Limits_Details!$I$24:$I$5800,Operating_Limits_Details!$B$24:$B$5800,B97,Operating_Limits_Details!$C$24:$C$5800,C97,Operating_Limits_Details!$J$24:$J$5800,\"Shutdown\"))","v":""},{"$f":"IF($D97=\"\",\"\",SUMIFS(Operating_Limits_Details!$I$24:$I$5800,Operating_Limits_Details!$B$24:$B$5800,B97,Operating_Limits_Details!$C$24:$C$5800,C97,Operating_Limits_Details!$J$24:$J$5800,\"Control Equipment Problems\"))","v":""},{"$f":"IF($D97=\"\",\"\",SUMIFS(Operating_Limits_Details!$I$24:$I$5800,Operating_Limits_Details!$B$24:$B$5800,B97,Operating_Limits_Details!$C$24:$C$5800,C97,Operating_Limits_Details!$J$24:$J$5800,\"Process Problems\"))","v":""},{"$f":"IF($D97=\"\",\"\",SUMIFS(Operating_Limits_Details!$I$24:$I$5800,Operating_Limits_Details!$B$24:$B$5800,B97,Operating_Limits_Details!$C$24:$C$5800,C97,Operating_Limits_Details!$J$24:$J$5800,\"Other Known Causes\"))","v":""},{"$f":"IF($D97=\"\",\"\",SUMIFS(Operating_Limits_Details!$I$24:$I$5800,Operating_Limits_Details!$B$24:$B$5800,B97,Operating_Limits_Details!$C$24:$C$5800,C97,Operating_Limits_Details!$J$24:$J$5800,\"Other Unknown Causes\"))","v":""}]
[null,{"$f":"IF(Lists!AR76=\"\",\"\",Lists!AR76)","v":""},{"$f":"IF(Lists!AS76=\"\",\"\",Lists!AS76)","v":""},null,"","",{"$f":"IF($D98=\"\",\"\",SUMIFS(Operating_Limits_Details!$I$24:$I$5800,Operating_Limits_Details!$B$24:$B$5800,B98,Operating_Limits_Details!$C$24:$C$5800,C98,Operating_Limits_Details!$J$24:$J$5800,\"Startup\"))","v":""},{"$f":"IF($D98=\"\",\"\",SUMIFS(Operating_Limits_Details!$I$24:$I$5800,Operating_Limits_Details!$B$24:$B$5800,B98,Operating_Limits_Details!$C$24:$C$5800,C98,Operating_Limits_Details!$J$24:$J$5800,\"Shutdown\"))","v":""},{"$f":"IF($D98=\"\",\"\",SUMIFS(Operating_Limits_Details!$I$24:$I$5800,Operating_Limits_Details!$B$24:$B$5800,B98,Operating_Limits_Details!$C$24:$C$5800,C98,Operating_Limits_Details!$J$24:$J$5800,\"Control Equipment Problems\"))","v":""},{"$f":"IF($D98=\"\",\"\",SUMIFS(Operating_Limits_Details!$I$24:$I$5800,Operating_Limits_Details!$B$24:$B$5800,B98,Operating_Limits_Details!$C$24:$C$5800,C98,Operating_Limits_Details!$J$24:$J$5800,\"Process Problems\"))","v":""},{"$f":"IF($D98=\"\",\"\",SUMIFS(Operating_Limits_Details!$I$24:$I$5800,Operating_Limits_Details!$B$24:$B$5800,B98,Operating_Limits_Details!$C$24:$C$5800,C98,Operating_Limits_Details!$J$24:$J$5800,\"Other Known Causes\"))","v":""},{"$f":"IF($D98=\"\",\"\",SUMIFS(Operating_Limits_Details!$I$24:$I$5800,Operating_Limits_Details!$B$24:$B$5800,B98,Operating_Limits_Details!$C$24:$C$5800,C98,Operating_Limits_Details!$J$24:$J$5800,\"Other Unknown Causes\"))","v":""}]
[null,{"$f":"IF(Lists!AR77=\"\",\"\",Lists!AR77)","v":""},{"$f":"IF(Lists!AS77=\"\",\"\",Lists!AS77)","v":""},null,"","",{"$f":"IF($D99=\"\",\"\",SUMIFS(Operating_Limits_Details!$I$24:$I$5800,Operating_Limits_Details!$B$24:$B$5800,B99,Operating_Limits_Details!$C$24:$C$5800,C99,Operating_Limits_Details!$J$24:$J$5800,\"Startup\"))","v":""},{"$f":"IF($D99=\"\",\"\",SUMIFS(Operating_Limits_Details!$I$24:$I$5800,Operating_Limits_Details!$B$24:$B$5800,B99,Operating_Limits_Details!$C$24:$C$5800,C99,Operating_Limits_Details!$J$24:$J$5800,\"Shutdown\"))","v":""},{"$f":"IF($D99=\"\",\"\",SUMIFS(Operating_Limits_Details!$I$24:$I$5800,Operating_Limits_Details!$B$24:$B$5800,B99,Operating_Limits_Details!$C$24:$C$5800,C99,Operating_Limits_Details!$J$24:$J$5800,\"Control Equipment Problems\"))","v":""},{"$f":"IF($D99=\"\",\"\",SUMIFS(Operating_Limits_Details!$I$24:$I$5800,Operating_Limits_Details!$B$24:$B$5800,B99,Operating_Limits_Details!$C$24:$C$5800,C99,Operating_Limits_Details!$J$24:$J$5800,\"Process Problems\"))","v":""},{"$f":"IF($D99=\"\",\"\",SUMIFS(Operating_Limits_Details!$I$24:$I$5800,Operating_Limits_Details!$B$24:$B$5800,B99,Operating_Limits_Details!$C$24:$C$5800,C99,Operating_Limits_Details!$J$24:$J$5800,\"Other Known Causes\"))","v":""},{"$f":"IF($D99=\"\",\"\",SUMIFS(Operating_Limits_Details!$I$24:$I$5800,Operating_Limits_Details!$B$24:$B$5800,B99,Operating_Limits_Details!$C$24:$C$5800,C99,Operating_Limits_Details!$J$24:$J$5800,\"Other Unknown Causes\"))","v":""}]
[null,{"$f":"IF(Lists!AR78=\"\",\"\",Lists!AR78)","v":""},{"$f":"IF(Lists!AS78=\"\",\"\",Lists!AS78)","v":""},null,"","",{"$f":"IF($D100=\"\",\"\",SUMIFS(Operating_Limits_Details!$I$24:$I$5800,Operating_Limits_Details!$B$24:$B$5800,B100,Operating_Limits_Details!$C$24:$C$5800,C100,Operating_Limits_Details!$J$24:$J$5800,\"Startup\"))","v":""},{"$f":"IF($D100=\"\",\"\",SUMIFS(Operating_Limits_Details!$I$24:$I$5800,Operating_Limits_Details!$B$24:$B$5800,B100,Operating_Limits_Details!$C$24:$C$5800,C100,Operating_Limits_Details!$J$24:$J$5800,\"Shutdown\"))","v":""},{"$f":"IF($D100=\"\",\"\",SUMIFS(Operating_Limits_Details!$I$24:$I$5800,Operating_Limits_Details!$B$24:$B$5800,B100,Operating_Limits_Details!$C$24:$C$5800,C100,Operating_Limits_Details!$J$24:$J$5800,\"Control Equipment Problems\"))","v":""},{"$f":"IF($D100=\"\",\"\",SUMIFS(Operating_Limits_Details!$I$24:$I$5800,Operating_Limits_Details!$B$24:$B$5800,B100,Operating_Limits_Details!$C$24:$C$5800,C100,Operating_Limits_Details!$J$24:$J$5800,\"Process Problems\"))","v":""},{"$f":"IF($D100=\"\",\"\",SUMIFS(Operating_Limits_Details!$I$24:$I$5800,Operating_Limits_Details!$B$24:$B$5800,B100,Operating_Limits_Details!$C$24:$C$5800,C100,Operating_Limits_Details!$J$24:$J$5800,\"Other Known Causes\"))","v":""},{"$f":"IF($D100=\"\",\"\",SUMIFS(Operating_Limits_Details!$I$24:$I$5800,Operating_Limits_Details!$B$24:$B$5800,B100,Operating_Limits_Details!$C$24:$C$5800,C100,Operating_Limits_Details!$J$24:$J$5800,\"Other Unknown Causes\"))","v":""}]
[null,{"$f":"IF(E101=\"\",\"\",COUNT($E$24:$E$452)-COUNT(E102:$E$452))","v":""}]
[null,{"$f":"IF(E102=\"\",\"\",COUNT($E$24:$E$452)-COUNT(E103:$E$452))","v":""}]
[null,{"$f":"IF(E103=\"\",\"\",COUNT($E$24:$E$452)-COUNT(E104:$E$452))","v":""}]
[null,{"$f":"IF(E104=\"\",\"\",COUNT($E$24:$E$452)-COUNT(E105:$E$452))","v":""}]
[null,{"$f":"IF(E105=\"\",\"\",COUNT($E$24:$E$452)-COUNT(E106:$E$452))","v":""}]
[null,{"$f":"IF(E106=\"\",\"\",COUNT($E$24:$E$452)-COUNT(E107:$E$452))","v":""}]
[null,{"$f":"IF(E107=\"\",\"\",COUNT($E$24:$E$452)-COUNT(E108:$E$452))","v":""}]
[null,{"$f":"IF(E108=\"\",\"\",COUNT($E$24:$E$452)-COUNT(E109:$E$452))","v":""}]
[null,{"$f":"IF(E109=\"\",\"\",COUNT($E$24:$E$452)-COUNT(E110:$E$452))","v":""}]
[null,{"$f":"IF(E110=\"\",\"\",COUNT($E$24:$E$452)-COUNT(E111:$E$452))","v":""}]
[null,{"$f":"IF(E111=\"\",\"\",COUNT($E$24:$E$452)-COUNT(E112:$E$452))","v":""}]
[null,{"$f":"IF(E112=\"\",\"\",COUNT($E$24:$E$452)-COUNT(E113:$E$452))","v":""}]
[null,{"$f":"IF(E113=\"\",\"\",COUNT($E$24:$E$452)-COUNT(E114:$E$452))","v":""}]
[null,{"$f":"IF(E114=\"\",\"\",COUNT($E$24:$E$452)-COUNT(E115:$E$452))","v":""}]
[null,{"$f":"IF(E115=\"\",\"\",COUNT($E$24:$E$452)-COUNT(E116:$E$452))","v":""}]
[null,{"$f":"IF(E116=\"\",\"\",COUNT($E$24:$E$452)-COUNT(E117:$E$452))","v":""}]
[null,{"$f":"IF(E117=\"\",\"\",COUNT($E$24:$E$452)-COUNT(E118:$E$452))","v":""}]
[null,{"$f":"IF(E118=\"\",\"\",COUNT($E$24:$E$452)-COUNT(E119:$E$452))","v":""}]
[null,{"$f":"IF(E119=\"\",\"\",COUNT($E$24:$E$452)-COUNT(E120:$E$452))","v":""}]
[null,{"$f":"IF(E120=\"\",\"\",COUNT($E$24:$E$452)-COUNT(E121:$E$452))","v":""}]
[null,{"$f":"IF(E121=\"\",\"\",COUNT($E$24:$E$452)-COUNT(E122:$E$452))","v":""}]
[null,{"$f":"IF(E122=\"\",\"\",COUNT($E$24:$E$452)-COUNT(E123:$E$452))","v":""}]
[null,{"$f":"IF(E123=\"\",\"\",COUNT($E$24:$E$452)-COUNT(E124:$E$452))","v":""}]
[null,{"$f":"IF(E124=\"\",\"\",COUNT($E$24:$E$452)-COUNT(E125:$E$452))","v":""}]
[null,{"$f":"IF(E125=\"\",\"\",COUNT($E$24:$E$452)-COUNT(E126:$E$452))","v":""}]
[null,{"$f":"IF(E126=\"\",\"\",COUNT($E$24:$E$452)-COUNT(E127:$E$452))","v":""}]
[null,{"$f":"IF(E127=\"\",\"\",COUNT($E$24:$E$452)-COUNT(E128:$E$452))","v":""}]
[null,{"$f":"IF(E128=\"\",\"\",COUNT($E$24:$E$452)-COUNT(E129:$E$452))","v":""}]
[null,{"$f":"IF(E129=\"\",\"\",COUNT($E$24:$E$452)-COUNT(E130:$E$452))","v":""}]
[null,{"$f":"IF(E130=\"\",\"\",COUNT($E$24:$E$452)-COUNT(E131:$E$452))","v":""}]
[null,{"$f":"IF(E131=\"\",\"\",COUNT($E$24:$E$452)-COUNT(E132:$E$452))","v":""}]
[null,{"$f":"IF(E132=\"\",\"\",COUNT($E$24:$E$452)-COUNT(E133:$E$452))","v":""}]
[null,{"$f":"IF(E133=\"\",\"\",COUNT($E$24:$E$452)-COUNT(E134:$E$452))","v":""}]
[null,{"$f":"IF(E134=\"\",\"\",COUNT($E$24:$E$452)-COUNT(E135:$E$452))","v":""}]
[null,{"$f":"IF(E135=\"\",\"\",COUNT($E$24:$E$452)-COUNT(E136:$E$452))","v":""}]
[null,{"$f":"IF(E136=\"\",\"\",COUNT($E$24:$E$452)-COUNT(E137:$E$452))","v":""}]
[null,{"$f":"IF(E137=\"\",\"\",COUNT($E$24:$E$452)-COUNT(E138:$E$452))","v":""}]
[null,{"$f":"IF(E138=\"\",\"\",COUNT($E$24:$E$452)-COUNT(E139:$E$452))","v":""}]
[null,{"$f":"IF(E139=\"\",\"\",COUNT($E$24:$E$452)-COUNT(E140:$E$452))","v":""}]
[null,{"$f":"IF(E140=\"\",\"\",COUNT($E$24:$E$452)-COUNT(E141:$E$452))","v":""}]
[null,{"$f":"IF(E141=\"\",\"\",COUNT($E$24:$E$452)-COUNT(E142:$E$452))","v":""}]
[null,{"$f":"IF(E142=\"\",\"\",COUNT($E$24:$E$452)-COUNT(E143:$E$452))","v":""}]
[null,{"$f":"IF(E143=\"\",\"\",COUNT($E$24:$E$452)-COUNT(E144:$E$452))","v":""}]
[null,{"$f":"IF(E144=\"\",\"\",COUNT($E$24:$E$452)-COUNT(E145:$E$452))","v":""}]
[null,{"$f":"IF(E145=\"\",\"\",COUNT($E$24:$E$452)-COUNT(E146:$E$452))","v":""}]
[null,{"$f":"IF(E146=\"\",\"\",COUNT($E$24:$E$452)-COUNT(E147:$E$452))","v":""}]
[null,{"$f":"IF(E147=\"\",\"\",COUNT($E$24:$E$452)-COUNT(E148:$E$452))","v":""}]
[null,{"$f":"IF(E148=\"\",\"\",COUNT($E$24:$E$452)-COUNT(E149:$E$452))","v":""}]
[null,{"$f":"IF(E149=\"\",\"\",COUNT($E$24:$E$452)-COUNT(E150:$E$452))","v":""}]
[null,{"$f":"IF(E150=\"\",\"\",COUNT($E$24:$E$452)-COUNT(E151:$E$452))","v":""}]
[null,{"$f":"IF(E151=\"\",\"\",COUNT($E$24:$E$452)-COUNT(E152:$E$452))","v":""}]
[null,{"$f":"IF(E152=\"\",\"\",COUNT($E$24:$E$452)-COUNT(E153:$E$452))","v":""}]
[null,{"$f":"IF(E153=\"\",\"\",COUNT($E$24:$E$452)-COUNT(E154:$E$452))","v":""}]
[null,{"$f":"IF(E154=\"\",\"\",COUNT($E$24:$E$452)-COUNT(E155:$E$452))","v":""}]
[null,{"$f":"IF(E155=\"\",\"\",COUNT($E$24:$E$452)-COUNT(E156:$E$452))","v":""}]
[null,{"$f":"IF(E156=\"\",\"\",COUNT($E$24:$E$452)-COUNT(E157:$E$452))","v":""}]
[null,{"$f":"IF(E157=\"\",\"\",COUNT($E$24:$E$452)-COUNT(E158:$E$452))","v":""}]
[null,{"$f":"IF(E158=\"\",\"\",COUNT($E$24:$E$452)-COUNT(E159:$E$452))","v":""}]
[null,{"$f":"IF(E159=\"\",\"\",COUNT($E$24:$E$452)-COUNT(E160:$E$452))","v":""}]
[null,{"$f":"IF(E160=\"\",\"\",COUNT($E$24:$E$452)-COUNT(E161:$E$452))","v":""}]
[null,{"$f":"IF(E161=\"\",\"\",COUNT($E$24:$E$452)-COUNT(E162:$E$452))","v":""}]
[null,{"$f":"IF(E162=\"\",\"\",COUNT($E$24:$E$452)-COUNT(E163:$E$452))","v":""}]
[null,{"$f":"IF(E163=\"\",\"\",COUNT($E$24:$E$452)-COUNT(E164:$E$452))","v":""}]
[null,{"$f":"IF(E164=\"\",\"\",COUNT($E$24:$E$452)-COUNT(E165:$E$452))","v":""}]
[null,{"$f":"IF(E165=\"\",\"\",COUNT($E$24:$E$452)-COUNT(E166:$E$452))","v":""}]
[null,{"$f":"IF(E166=\"\",\"\",COUNT($E$24:$E$452)-COUNT(E167:$E$452))","v":""}]
[null,{"$f":"IF(E167=\"\",\"\",COUNT($E$24:$E$452)-COUNT(E168:$E$452))","v":""}]
[null,{"$f":"IF(E168=\"\",\"\",COUNT($E$24:$E$452)-COUNT(E169:$E$452))","v":""}]
[null,{"$f":"IF(E169=\"\",\"\",COUNT($E$24:$E$452)-COUNT(E170:$E$452))","v":""}]
[null,{"$f":"IF(E170=\"\",\"\",COUNT($E$24:$E$452)-COUNT(E171:$E$452))","v":""}]
[null,{"$f":"IF(E171=\"\",\"\",COUNT($E$24:$E$452)-COUNT(E172:$E$452))","v":""}]
[null,{"$f":"IF(E172=\"\",\"\",COUNT($E$24:$E$452)-COUNT(E173:$E$452))","v":""}]
[null,{"$f":"IF(E173=\"\",\"\",COUNT($E$24:$E$452)-COUNT(E174:$E$452))","v":""}]
[null,{"$f":"IF(E174=\"\",\"\",COUNT($E$24:$E$452)-COUNT(E175:$E$452))","v":""}]
[null,{"$f":"IF(E175=\"\",\"\",COUNT($E$24:$E$452)-COUNT(E176:$E$452))","v":""}]
[null,{"$f":"IF(E176=\"\",\"\",COUNT($E$24:$E$452)-COUNT(E177:$E$452))","v":""}]
[null,{"$f":"IF(E177=\"\",\"\",COUNT($E$24:$E$452)-COUNT(E178:$E$452))","v":""}]
[null,{"$f":"IF(E178=\"\",\"\",COUNT($E$24:$E$452)-COUNT(E179:$E$452))","v":""}]
[null,{"$f":"IF(E179=\"\",\"\",COUNT($E$24:$E$452)-COUNT(E180:$E$452))","v":""}]
[null,{"$f":"IF(E180=\"\",\"\",COUNT($E$24:$E$452)-COUNT(E181:$E$452))","v":""}]
[null,{"$f":"IF(E181=\"\",\"\",COUNT($E$24:$E$452)-COUNT(E182:$E$452))","v":""}]
[null,{"$f":"IF(E182=\"\",\"\",COUNT($E$24:$E$452)-COUNT(E183:$E$452))","v":""}]
[null,{"$f":"IF(E183=\"\",\"\",COUNT($E$24:$E$452)-COUNT(E184:$E$452))","v":""}]
[null,{"$f":"IF(E184=\"\",\"\",COUNT($E$24:$E$452)-COUNT(E185:$E$452))","v":""}]
[null,{"$f":"IF(E185=\"\",\"\",COUNT($E$24:$E$452)-COUNT(E186:$E$452))","v":""}]
[null,{"$f":"IF(E186=\"\",\"\",COUNT($E$24:$E$452)-COUNT(E187:$E$452))","v":""}]
[null,{"$f":"IF(E187=\"\",\"\",COUNT($E$24:$E$452)-COUNT(E188:$E$452))","v":""}]
[null,{"$f":"IF(E188=\"\",\"\",COUNT($E$24:$E$452)-COUNT(E189:$E$452))","v":""}]
[null,{"$f":"IF(E189=\"\",\"\",COUNT($E$24:$E$452)-COUNT(E190:$E$452))","v":""}]
[null,{"$f":"IF(E190=\"\",\"\",COUNT($E$24:$E$452)-COUNT(E191:$E$452))","v":""}]
[null,{"$f":"IF(E191=\"\",\"\",COUNT($E$24:$E$452)-COUNT(E192:$E$452))","v":""}]
[null,{"$f":"IF(E192=\"\",\"\",COUNT($E$24:$E$452)-COUNT(E193:$E$452))","v":""}]
[null,{"$f":"IF(E193=\"\",\"\",COUNT($E$24:$E$452)-COUNT(E194:$E$452))","v":""}]
[null,{"$f":"IF(E194=\"\",\"\",COUNT($E$24:$E$452)-COUNT(E195:$E$452))","v":""}]
[null,{"$f":"IF(E195=\"\",\"\",COUNT($E$24:$E$452)-COUNT(E196:$E$452))","v":""}]
[null,{"$f":"IF(E196=\"\",\"\",COUNT($E$24:$E$452)-COUNT(E197:$E$452))","v":""}]
[null,{"$f":"IF(E197=\"\",\"\",COUNT($E$24:$E$452)-COUNT(E198:$E$452))","v":""}]
[null,{"$f":"IF(E198=\"\",\"\",COUNT($E$24:$E$452)-COUNT(E199:$E$452))","v":""}]
[null,{"$f":"IF(E199=\"\",\"\",COUNT($E$24:$E$452)-COUNT(E200:$E$452))","v":""}]
[null,{"$f":"IF(E200=\"\",\"\",COUNT($E$24:$E$452)-COUNT(E201:$E$452))","v":""}]
[null,{"$f":"IF(E201=\"\",\"\",COUNT($E$24:$E$452)-COUNT(E202:$E$452))","v":""}]
[null,{"$f":"IF(E202=\"\",\"\",COUNT($E$24:$E$452)-COUNT(E203:$E$452))","v":""}]
[null,{"$f":"IF(E203=\"\",\"\",COUNT($E$24:$E$452)-COUNT(E204:$E$452))","v":""}]
[null,{"$f":"IF(E204=\"\",\"\",COUNT($E$24:$E$452)-COUNT(E205:$E$452))","v":""}]
[null,{"$f":"IF(E205=\"\",\"\",COUNT($E$24:$E$452)-COUNT(E206:$E$452))","v":""}]
[null,{"$f":"IF(E206=\"\",\"\",COUNT($E$24:$E$452)-COUNT(E207:$E$452))","v":""}]
[null,{"$f":"IF(E207=\"\",\"\",COUNT($E$24:$E$452)-COUNT(E208:$E$452))","v":""}]
[null,{"$f":"IF(E208=\"\",\"\",COUNT($E$24:$E$452)-COUNT(E209:$E$452))","v":""}]
[null,{"$f":"IF(E209=\"\",\"\",COUNT($E$24:$E$452)-COUNT(E210:$E$452))","v":""}]
[null,{"$f":"IF(E210=\"\",\"\",COUNT($E$24:$E$452)-COUNT(E211:$E$452))","v":""}]
[null,{"$f":"IF(E211=\"\",\"\",COUNT($E$24:$E$452)-COUNT(E212:$E$452))","v":""}]
[null,{"$f":"IF(E212=\"\",\"\",COUNT($E$24:$E$452)-COUNT(E213:$E$452))","v":""}]
[null,{"$f":"IF(E213=\"\",\"\",COUNT($E$24:$E$452)-COUNT(E214:$E$452))","v":""}]
[null,{"$f":"IF(E214=\"\",\"\",COUNT($E$24:$E$452)-COUNT(E215:$E$452))","v":""}]
[null,{"$f":"IF(E215=\"\",\"\",COUNT($E$24:$E$452)-COUNT(E216:$E$452))","v":""}]
[null,{"$f":"IF(E216=\"\",\"\",COUNT($E$24:$E$452)-COUNT(E217:$E$452))","v":""}]
[null,{"$f":"IF(E217=\"\",\"\",COUNT($E$24:$E$452)-COUNT(E218:$E$452))","v":""}]
[null,{"$f":"IF(E218=\"\",\"\",COUNT($E$24:$E$452)-COUNT(E219:$E$452))","v":""}]
[null,{"$f":"IF(E219=\"\",\"\",COUNT($E$24:$E$452)-COUNT(E220:$E$452))","v":""}]
[null,{"$f":"IF(E220=\"\",\"\",COUNT($E$24:$E$452)-COUNT(E221:$E$452))","v":""}]
[null,{"$f":"IF(E221=\"\",\"\",COUNT($E$24:$E$452)-COUNT(E222:$E$452))","v":""}]
[null,{"$f":"IF(E222=\"\",\"\",COUNT($E$24:$E$452)-COUNT(E223:$E$452))","v":""}]
[null,{"$f":"IF(E223=\"\",\"\",COUNT($E$24:$E$452)-COUNT(E224:$E$452))","v":""}]
[null,{"$f":"IF(E224=\"\",\"\",COUNT($E$24:$E$452)-COUNT(E225:$E$452))","v":""}]
[null,{"$f":"IF(E225=\"\",\"\",COUNT($E$24:$E$452)-COUNT(E226:$E$452))","v":""}]
[null,{"$f":"IF(E226=\"\",\"\",COUNT($E$24:$E$452)-COUNT(E227:$E$452))","v":""}]
[null,{"$f":"IF(E227=\"\",\"\",COUNT($E$24:$E$452)-COUNT(E228:$E$452))","v":""}]
[null,{"$f":"IF(E228=\"\",\"\",COUNT($E$24:$E$452)-COUNT(E229:$E$452))","v":""}]
[null,{"$f":"IF(E229=\"\",\"\",COUNT($E$24:$E$452)-COUNT(E230:$E$452))","v":""}]
[null,{"$f":"IF(E230=\"\",\"\",COUNT($E$24:$E$452)-COUNT(E231:$E$452))","v":""}]
[null,{"$f":"IF(E231=\"\",\"\",COUNT($E$24:$E$452)-COUNT(E232:$E$452))","v":""}]
[null,{"$f":"IF(E232=\"\",\"\",COUNT($E$24:$E$452)-COUNT(E233:$E$452))","v":""}]
[null,{"$f":"IF(E233=\"\",\"\",COUNT($E$24:$E$452)-COUNT(E234:$E$452))","v":""}]
[null,{"$f":"IF(E234=\"\",\"\",COUNT($E$24:$E$452)-COUNT(E235:$E$452))","v":""}]
[null,{"$f":"IF(E235=\"\",\"\",COUNT($E$24:$E$452)-COUNT(E236:$E$452))","v":""}]
[null,{"$f":"IF(E236=\"\",\"\",COUNT($E$24:$E$452)-COUNT(E237:$E$452))","v":""}]
[null,{"$f":"IF(E237=\"\",\"\",COUNT($E$24:$E$452)-COUNT(E238:$E$452))","v":""}]
[null,{"$f":"IF(E238=\"\",\"\",COUNT($E$24:$E$452)-COUNT(E239:$E$452))","v":""}]
[null,{"$f":"IF(E239=\"\",\"\",COUNT($E$24:$E$452)-COUNT(E240:$E$452))","v":""}]
[null,{"$f":"IF(E240=\"\",\"\",COUNT($E$24:$E$452)-COUNT(E241:$E$452))","v":""}]
[null,{"$f":"IF(E241=\"\",\"\",COUNT($E$24:$E$452)-COUNT(E242:$E$452))","v":""}]
[null,{"$f":"IF(E242=\"\",\"\",COUNT($E$24:$E$452)-COUNT(E243:$E$452))","v":""}]
[null,{"$f":"IF(E243=\"\",\"\",COUNT($E$24:$E$452)-COUNT(E244:$E$452))","v":""}]
[null,{"$f":"IF(E244=\"\",\"\",COUNT($E$24:$E$452)-COUNT(E245:$E$452))","v":""}]
[null,{"$f":"IF(E245=\"\",\"\",COUNT($E$24:$E$452)-COUNT(E246:$E$452))","v":""}]
[null,{"$f":"IF(E246=\"\",\"\",COUNT($E$24:$E$452)-COUNT(E247:$E$452))","v":""}]
[null,{"$f":"IF(E247=\"\",\"\",COUNT($E$24:$E$452)-COUNT(E248:$E$452))","v":""}]
[null,{"$f":"IF(E248=\"\",\"\",COUNT($E$24:$E$452)-COUNT(E249:$E$452))","v":""}]
[null,{"$f":"IF(E249=\"\",\"\",COUNT($E$24:$E$452)-COUNT(E250:$E$452))","v":""}]
[null,{"$f":"IF(E250=\"\",\"\",COUNT($E$24:$E$452)-COUNT(E251:$E$452))","v":""}]
[null,{"$f":"IF(E251=\"\",\"\",COUNT($E$24:$E$452)-COUNT(E252:$E$452))","v":""}]
[null,{"$f":"IF(E252=\"\",\"\",COUNT($E$24:$E$452)-COUNT(E253:$E$452))","v":""}]
[null,{"$f":"IF(E253=\"\",\"\",COUNT($E$24:$E$452)-COUNT(E254:$E$452))","v":""}]
[null,{"$f":"IF(E254=\"\",\"\",COUNT($E$24:$E$452)-COUNT(E255:$E$452))","v":""}]
[null,{"$f":"IF(E255=\"\",\"\",COUNT($E$24:$E$452)-COUNT(E256:$E$452))","v":""}]
[null,{"$f":"IF(E256=\"\",\"\",COUNT($E$24:$E$452)-COUNT(E257:$E$452))","v":""}]
[null,{"$f":"IF(E257=\"\",\"\",COUNT($E$24:$E$452)-COUNT(E258:$E$452))","v":""}]
[null,{"$f":"IF(E258=\"\",\"\",COUNT($E$24:$E$452)-COUNT(E259:$E$452))","v":""}]
[null,{"$f":"IF(E259=\"\",\"\",COUNT($E$24:$E$452)-COUNT(E260:$E$452))","v":""}]
[null,{"$f":"IF(E260=\"\",\"\",COUNT($E$24:$E$452)-COUNT(E261:$E$452))","v":""}]
[null,{"$f":"IF(E261=\"\",\"\",COUNT($E$24:$E$452)-COUNT(E262:$E$452))","v":""}]
[null,{"$f":"IF(E262=\"\",\"\",COUNT($E$24:$E$452)-COUNT(E263:$E$452))","v":""}]
[null,{"$f":"IF(E263=\"\",\"\",COUNT($E$24:$E$452)-COUNT(E264:$E$452))","v":""}]
[null,{"$f":"IF(E264=\"\",\"\",COUNT($E$24:$E$452)-COUNT(E265:$E$452))","v":""}]
[null,{"$f":"IF(E265=\"\",\"\",COUNT($E$24:$E$452)-COUNT(E266:$E$452))","v":""}]
[null,{"$f":"IF(E266=\"\",\"\",COUNT($E$24:$E$452)-COUNT(E267:$E$452))","v":""}]
[null,{"$f":"IF(E267=\"\",\"\",COUNT($E$24:$E$452)-COUNT(E268:$E$452))","v":""}]
[null,{"$f":"IF(E268=\"\",\"\",COUNT($E$24:$E$452)-COUNT(E269:$E$452))","v":""}]
[null,{"$f":"IF(E269=\"\",\"\",COUNT($E$24:$E$452)-COUNT(E270:$E$452))","v":""}]
[null,{"$f":"IF(E270=\"\",\"\",COUNT($E$24:$E$452)-COUNT(E271:$E$452))","v":""}]
[null,{"$f":"IF(E271=\"\",\"\",COUNT($E$24:$E$452)-COUNT(E272:$E$452))","v":""}]
[null,{"$f":"IF(E272=\"\",\"\",COUNT($E$24:$E$452)-COUNT(E273:$E$452))","v":""}]
[null,{"$f":"IF(E273=\"\",\"\",COUNT($E$24:$E$452)-COUNT(E274:$E$452))","v":""}]
[null,{"$f":"IF(E274=\"\",\"\",COUNT($E$24:$E$452)-COUNT(E275:$E$452))","v":""}]
[null,{"$f":"IF(E275=\"\",\"\",COUNT($E$24:$E$452)-COUNT(E276:$E$452))","v":""}]
[null,{"$f":"IF(E276=\"\",\"\",COUNT($E$24:$E$452)-COUNT(E277:$E$452))","v":""}]
[null,{"$f":"IF(E277=\"\",\"\",COUNT($E$24:$E$452)-COUNT(E278:$E$452))","v":""}]
[null,{"$f":"IF(E278=\"\",\"\",COUNT($E$24:$E$452)-COUNT(E279:$E$452))","v":""}]
[null,{"$f":"IF(E279=\"\",\"\",COUNT($E$24:$E$452)-COUNT(E280:$E$452))","v":""}]
[null,{"$f":"IF(E280=\"\",\"\",COUNT($E$24:$E$452)-COUNT(E281:$E$452))","v":""}]
[null,{"$f":"IF(E281=\"\",\"\",COUNT($E$24:$E$452)-COUNT(E282:$E$452))","v":""}]
[null,{"$f":"IF(E282=\"\",\"\",COUNT($E$24:$E$452)-COUNT(E283:$E$452))","v":""}]
[null,{"$f":"IF(E283=\"\",\"\",COUNT($E$24:$E$452)-COUNT(E284:$E$452))","v":""}]
[null,{"$f":"IF(E284=\"\",\"\",COUNT($E$24:$E$452)-COUNT(E285:$E$452))","v":""}]
[null,{"$f":"IF(E285=\"\",\"\",COUNT($E$24:$E$452)-COUNT(E286:$E$452))","v":""}]
[null,{"$f":"IF(E286=\"\",\"\",COUNT($E$24:$E$452)-COUNT(E287:$E$452))","v":""}]
[null,{"$f":"IF(E287=\"\",\"\",COUNT($E$24:$E$452)-COUNT(E288:$E$452))","v":""}]
[null,{"$f":"IF(E288=\"\",\"\",COUNT($E$24:$E$452)-COUNT(E289:$E$452))","v":""}]
[null,{"$f":"IF(E289=\"\",\"\",COUNT($E$24:$E$452)-COUNT(E290:$E$452))","v":""}]
[null,{"$f":"IF(E290=\"\",\"\",COUNT($E$24:$E$452)-COUNT(E291:$E$452))","v":""}]
[null,{"$f":"IF(E291=\"\",\"\",COUNT($E$24:$E$452)-COUNT(E292:$E$452))","v":""}]
[null,{"$f":"IF(E292=\"\",\"\",COUNT($E$24:$E$452)-COUNT(E293:$E$452))","v":""}]
[null,{"$f":"IF(E293=\"\",\"\",COUNT($E$24:$E$452)-COUNT(E294:$E$452))","v":""}]
[null,{"$f":"IF(E294=\"\",\"\",COUNT($E$24:$E$452)-COUNT(E295:$E$452))","v":""}]
[null,{"$f":"IF(E295=\"\",\"\",COUNT($E$24:$E$452)-COUNT(E296:$E$452))","v":""}]
[null,{"$f":"IF(E296=\"\",\"\",COUNT($E$24:$E$452)-COUNT(E297:$E$452))","v":""}]
[null,{"$f":"IF(E297=\"\",\"\",COUNT($E$24:$E$452)-COUNT(E298:$E$452))","v":""}]
[null,{"$f":"IF(E298=\"\",\"\",COUNT($E$24:$E$452)-COUNT(E299:$E$452))","v":""}]
[null,{"$f":"IF(E299=\"\",\"\",COUNT($E$24:$E$452)-COUNT(E300:$E$452))","v":""}]
[null,{"$f":"IF(E300=\"\",\"\",COUNT($E$24:$E$452)-COUNT(E301:$E$452))","v":""}]
[null,{"$f":"IF(E301=\"\",\"\",COUNT($E$24:$E$452)-COUNT(E302:$E$452))","v":""}]
[null,{"$f":"IF(E302=\"\",\"\",COUNT($E$24:$E$452)-COUNT(E303:$E$452))","v":""}]
[null,{"$f":"IF(E303=\"\",\"\",COUNT($E$24:$E$452)-COUNT(E304:$E$452))","v":""}]
[null,{"$f":"IF(E304=\"\",\"\",COUNT($E$24:$E$452)-COUNT(E305:$E$452))","v":""}]
[null,{"$f":"IF(E305=\"\",\"\",COUNT($E$24:$E$452)-COUNT(E306:$E$452))","v":""}]
[null,{"$f":"IF(E306=\"\",\"\",COUNT($E$24:$E$452)-COUNT(E307:$E$452))","v":""}]
[null,{"$f":"IF(E307=\"\",\"\",COUNT($E$24:$E$452)-COUNT(E308:$E$452))","v":""}]
[null,{"$f":"IF(E308=\"\",\"\",COUNT($E$24:$E$452)-COUNT(E309:$E$452))","v":""}]
[null,{"$f":"IF(E309=\"\",\"\",COUNT($E$24:$E$452)-COUNT(E310:$E$452))","v":""}]
[null,{"$f":"IF(E310=\"\",\"\",COUNT($E$24:$E$452)-COUNT(E311:$E$452))","v":""}]
[null,{"$f":"IF(E311=\"\",\"\",COUNT($E$24:$E$452)-COUNT(E312:$E$452))","v":""}]
[null,{"$f":"IF(E312=\"\",\"\",COUNT($E$24:$E$452)-COUNT(E313:$E$452))","v":""}]
[null,{"$f":"IF(E313=\"\",\"\",COUNT($E$24:$E$452)-COUNT(E314:$E$452))","v":""}]
[null,{"$f":"IF(E314=\"\",\"\",COUNT($E$24:$E$452)-COUNT(E315:$E$452))","v":""}]
[null,{"$f":"IF(E315=\"\",\"\",COUNT($E$24:$E$452)-COUNT(E316:$E$452))","v":""}]
[null,{"$f":"IF(E316=\"\",\"\",COUNT($E$24:$E$452)-COUNT(E317:$E$452))","v":""}]
[null,{"$f":"IF(E317=\"\",\"\",COUNT($E$24:$E$452)-COUNT(E318:$E$452))","v":""}]
[null,{"$f":"IF(E318=\"\",\"\",COUNT($E$24:$E$452)-COUNT(E319:$E$452))","v":""}]
[null,{"$f":"IF(E319=\"\",\"\",COUNT($E$24:$E$452)-COUNT(E320:$E$452))","v":""}]
[null,{"$f":"IF(E320=\"\",\"\",COUNT($E$24:$E$452)-COUNT(E321:$E$452))","v":""}]
[null,{"$f":"IF(E321=\"\",\"\",COUNT($E$24:$E$452)-COUNT(E322:$E$452))","v":""}]
[null,{"$f":"IF(E322=\"\",\"\",COUNT($E$24:$E$452)-COUNT(E323:$E$452))","v":""}]
[null,{"$f":"IF(E323=\"\",\"\",COUNT($E$24:$E$452)-COUNT(E324:$E$452))","v":""}]
[null,{"$f":"IF(E324=\"\",\"\",COUNT($E$24:$E$452)-COUNT(E325:$E$452))","v":""}]
[null,{"$f":"IF(E325=\"\",\"\",COUNT($E$24:$E$452)-COUNT(E326:$E$452))","v":""}]
[null,{"$f":"IF(E326=\"\",\"\",COUNT($E$24:$E$452)-COUNT(E327:$E$452))","v":""}]
[null,{"$f":"IF(E327=\"\",\"\",COUNT($E$24:$E$452)-COUNT(E328:$E$452))","v":""}]
[null,{"$f":"IF(E328=\"\",\"\",COUNT($E$24:$E$452)-COUNT(E329:$E$452))","v":""}]
[null,{"$f":"IF(E329=\"\",\"\",COUNT($E$24:$E$452)-COUNT(E330:$E$452))","v":""}]
[null,{"$f":"IF(E330=\"\",\"\",COUNT($E$24:$E$452)-COUNT(E331:$E$452))","v":""}]
[null,{"$f":"IF(E331=\"\",\"\",COUNT($E$24:$E$452)-COUNT(E332:$E$452))","v":""}]
[null,{"$f":"IF(E332=\"\",\"\",COUNT($E$24:$E$452)-COUNT(E333:$E$452))","v":""}]
[null,{"$f":"IF(E333=\"\",\"\",COUNT($E$24:$E$452)-COUNT(E334:$E$452))","v":""}]
[null,{"$f":"IF(E334=\"\",\"\",COUNT($E$24:$E$452)-COUNT(E335:$E$452))","v":""}]
[null,{"$f":"IF(E335=\"\",\"\",COUNT($E$24:$E$452)-COUNT(E336:$E$452))","v":""}]
[null,{"$f":"IF(E336=\"\",\"\",COUNT($E$24:$E$452)-COUNT(E337:$E$452))","v":""}]
[null,{"$f":"IF(E337=\"\",\"\",COUNT($E$24:$E$452)-COUNT(E338:$E$452))","v":""}]
[null,{"$f":"IF(E338=\"\",\"\",COUNT($E$24:$E$452)-COUNT(E339:$E$452))","v":""}]
[null,{"$f":"IF(E339=\"\",\"\",COUNT($E$24:$E$452)-COUNT(E340:$E$452))","v":""}]
[null,{"$f":"IF(E340=\"\",\"\",COUNT($E$24:$E$452)-COUNT(E341:$E$452))","v":""}]
[null,{"$f":"IF(E341=\"\",\"\",COUNT($E$24:$E$452)-COUNT(E342:$E$452))","v":""}]
[null,{"$f":"IF(E342=\"\",\"\",COUNT($E$24:$E$452)-COUNT(E343:$E$452))","v":""}]
[null,{"$f":"IF(E343=\"\",\"\",COUNT($E$24:$E$452)-COUNT(E344:$E$452))","v":""}]
[null,{"$f":"IF(E344=\"\",\"\",COUNT($E$24:$E$452)-COUNT(E345:$E$452))","v":""}]
[null,{"$f":"IF(E345=\"\",\"\",COUNT($E$24:$E$452)-COUNT(E346:$E$452))","v":""}]
[null,{"$f":"IF(E346=\"\",\"\",COUNT($E$24:$E$452)-COUNT(E347:$E$452))","v":""}]
[null,{"$f":"IF(E347=\"\",\"\",COUNT($E$24:$E$452)-COUNT(E348:$E$452))","v":""}]
[null,{"$f":"IF(E348=\"\",\"\",COUNT($E$24:$E$452)-COUNT(E349:$E$452))","v":""}]
[null,{"$f":"IF(E349=\"\",\"\",COUNT($E$24:$E$452)-COUNT(E350:$E$452))","v":""}]
[null,{"$f":"IF(E350=\"\",\"\",COUNT($E$24:$E$452)-COUNT(E351:$E$452))","v":""}]
[null,{"$f":"IF(E351=\"\",\"\",COUNT($E$24:$E$452)-COUNT(E352:$E$452))","v":""}]
[null,{"$f":"IF(E352=\"\",\"\",COUNT($E$24:$E$452)-COUNT(E353:$E$452))","v":""}]
[null,{"$f":"IF(E353=\"\",\"\",COUNT($E$24:$E$452)-COUNT(E354:$E$452))","v":""}]
[null,{"$f":"IF(E354=\"\",\"\",COUNT($E$24:$E$452)-COUNT(E355:$E$452))","v":""}]
[null,{"$f":"IF(E355=\"\",\"\",COUNT($E$24:$E$452)-COUNT(E356:$E$452))","v":""}]
[null,{"$f":"IF(E356=\"\",\"\",COUNT($E$24:$E$452)-COUNT(E357:$E$452))","v":""}]
[null,{"$f":"IF(E357=\"\",\"\",COUNT($E$24:$E$452)-COUNT(E358:$E$452))","v":""}]
[null,{"$f":"IF(E358=\"\",\"\",COUNT($E$24:$E$452)-COUNT(E359:$E$452))","v":""}]
[null,{"$f":"IF(E359=\"\",\"\",COUNT($E$24:$E$452)-COUNT(E360:$E$452))","v":""}]
[null,{"$f":"IF(E360=\"\",\"\",COUNT($E$24:$E$452)-COUNT(E361:$E$452))","v":""}]
[null,{"$f":"IF(E361=\"\",\"\",COUNT($E$24:$E$452)-COUNT(E362:$E$452))","v":""}]
[null,{"$f":"IF(E362=\"\",\"\",COUNT($E$24:$E$452)-COUNT(E363:$E$452))","v":""}]
[null,{"$f":"IF(E363=\"\",\"\",COUNT($E$24:$E$452)-COUNT(E364:$E$452))","v":""}]
[null,{"$f":"IF(E364=\"\",\"\",COUNT($E$24:$E$452)-COUNT(E365:$E$452))","v":""}]
[null,{"$f":"IF(E365=\"\",\"\",COUNT($E$24:$E$452)-COUNT(E366:$E$452))","v":""}]
[null,{"$f":"IF(E366=\"\",\"\",COUNT($E$24:$E$452)-COUNT(E367:$E$452))","v":""}]
[null,{"$f":"IF(E367=\"\",\"\",COUNT($E$24:$E$452)-COUNT(E368:$E$452))","v":""}]
[null,{"$f":"IF(E368=\"\",\"\",COUNT($E$24:$E$452)-COUNT(E369:$E$452))","v":""}]
[null,{"$f":"IF(E369=\"\",\"\",COUNT($E$24:$E$452)-COUNT(E370:$E$452))","v":""}]
[null,{"$f":"IF(E370=\"\",\"\",COUNT($E$24:$E$452)-COUNT(E371:$E$452))","v":""}]
[null,{"$f":"IF(E371=\"\",\"\",COUNT($E$24:$E$452)-COUNT(E372:$E$452))","v":""}]
[null,{"$f":"IF(E372=\"\",\"\",COUNT($E$24:$E$452)-COUNT(E373:$E$452))","v":""}]
[null,{"$f":"IF(E373=\"\",\"\",COUNT($E$24:$E$452)-COUNT(E374:$E$452))","v":""}]
[null,{"$f":"IF(E374=\"\",\"\",COUNT($E$24:$E$452)-COUNT(E375:$E$452))","v":""}]
[null,{"$f":"IF(E375=\"\",\"\",COUNT($E$24:$E$452)-COUNT(E376:$E$452))","v":""}]
[null,{"$f":"IF(E376=\"\",\"\",COUNT($E$24:$E$452)-COUNT(E377:$E$452))","v":""}]
[null,{"$f":"IF(E377=\"\",\"\",COUNT($E$24:$E$452)-COUNT(E378:$E$452))","v":""}]
[null,{"$f":"IF(E378=\"\",\"\",COUNT($E$24:$E$452)-COUNT(E379:$E$452))","v":""}]
[null,{"$f":"IF(E379=\"\",\"\",COUNT($E$24:$E$452)-COUNT(E380:$E$452))","v":""}]
[null,{"$f":"IF(E380=\"\",\"\",COUNT($E$24:$E$452)-COUNT(E381:$E$452))","v":""}]
[null,{"$f":"IF(E381=\"\",\"\",COUNT($E$24:$E$452)-COUNT(E382:$E$452))","v":""}]
[null,{"$f":"IF(E382=\"\",\"\",COUNT($E$24:$E$452)-COUNT(E383:$E$452))","v":""}]
[null,{"$f":"IF(E383=\"\",\"\",COUNT($E$24:$E$452)-COUNT(E384:$E$452))","v":""}]
[null,{"$f":"IF(E384=\"\",\"\",COUNT($E$24:$E$452)-COUNT(E385:$E$452))","v":""}]
[null,{"$f":"IF(E385=\"\",\"\",COUNT($E$24:$E$452)-COUNT(E386:$E$452))","v":""}]
[null,{"$f":"IF(E386=\"\",\"\",COUNT($E$24:$E$452)-COUNT(E387:$E$452))","v":""}]
[null,{"$f":"IF(E387=\"\",\"\",COUNT($E$24:$E$452)-COUNT(E388:$E$452))","v":""}]
[null,{"$f":"IF(E388=\"\",\"\",COUNT($E$24:$E$452)-COUNT(E389:$E$452))","v":""}]
[null,{"$f":"IF(E389=\"\",\"\",COUNT($E$24:$E$452)-COUNT(E390:$E$452))","v":""}]
[null,{"$f":"IF(E390=\"\",\"\",COUNT($E$24:$E$452)-COUNT(E391:$E$452))","v":""}]
[null,{"$f":"IF(E391=\"\",\"\",COUNT($E$24:$E$452)-COUNT(E392:$E$452))","v":""}]
[null,{"$f":"IF(E392=\"\",\"\",COUNT($E$24:$E$452)-COUNT(E393:$E$452))","v":""}]
[null,{"$f":"IF(E393=\"\",\"\",COUNT($E$24:$E$452)-COUNT(E394:$E$452))","v":""}]
[null,{"$f":"IF(E394=\"\",\"\",COUNT($E$24:$E$452)-COUNT(E395:$E$452))","v":""}]
[null,{"$f":"IF(E395=\"\",\"\",COUNT($E$24:$E$452)-COUNT(E396:$E$452))","v":""}]
[null,{"$f":"IF(E396=\"\",\"\",COUNT($E$24:$E$452)-COUNT(E397:$E$452))","v":""}]
[null,{"$f":"IF(E397=\"\",\"\",COUNT($E$24:$E$452)-COUNT(E398:$E$452))","v":""}]
[null,{"$f":"IF(E398=\"\",\"\",COUNT($E$24:$E$452)-COUNT(E399:$E$452))","v":""}]
[null,{"$f":"IF(E399=\"\",\"\",COUNT($E$24:$E$452)-COUNT(E400:$E$452))","v":""}]
[null,{"$f":"IF(E400=\"\",\"\",COUNT($E$24:$E$452)-COUNT(E401:$E$452))","v":""}]
[null,{"$f":"IF(E401=\"\",\"\",COUNT($E$24:$E$452)-COUNT(E402:$E$452))","v":""}]
[null,{"$f":"IF(E402=\"\",\"\",COUNT($E$24:$E$452)-COUNT(E403:$E$452))","v":""}]
[null,{"$f":"IF(E403=\"\",\"\",COUNT($E$24:$E$452)-COUNT(E404:$E$452))","v":""}]
[null,{"$f":"IF(E404=\"\",\"\",COUNT($E$24:$E$452)-COUNT(E405:$E$452))","v":""}]
[null,{"$f":"IF(E405=\"\",\"\",COUNT($E$24:$E$452)-COUNT(E406:$E$452))","v":""}]
[null,{"$f":"IF(E406=\"\",\"\",COUNT($E$24:$E$452)-COUNT(E407:$E$452))","v":""}]
[null,{"$f":"IF(E407=\"\",\"\",COUNT($E$24:$E$452)-COUNT(E408:$E$452))","v":""}]
[null,{"$f":"IF(E408=\"\",\"\",COUNT($E$24:$E$452)-COUNT(E409:$E$452))","v":""}]
[null,{"$f":"IF(E409=\"\",\"\",COUNT($E$24:$E$452)-COUNT(E410:$E$452))","v":""}]
[null,{"$f":"IF(E410=\"\",\"\",COUNT($E$24:$E$452)-COUNT(E411:$E$452))","v":""}]
[null,{"$f":"IF(E411=\"\",\"\",COUNT($E$24:$E$452)-COUNT(E412:$E$452))","v":""}]
[null,{"$f":"IF(E412=\"\",\"\",COUNT($E$24:$E$452)-COUNT(E413:$E$452))","v":""}]
[null,{"$f":"IF(E413=\"\",\"\",COUNT($E$24:$E$452)-COUNT(E414:$E$452))","v":""}]
[null,{"$f":"IF(E414=\"\",\"\",COUNT($E$24:$E$452)-COUNT(E415:$E$452))","v":""}]
[null,{"$f":"IF(E415=\"\",\"\",COUNT($E$24:$E$452)-COUNT(E416:$E$452))","v":""}]
[null,{"$f":"IF(E416=\"\",\"\",COUNT($E$24:$E$452)-COUNT(E417:$E$452))","v":""}]
[null,{"$f":"IF(E417=\"\",\"\",COUNT($E$24:$E$452)-COUNT(E418:$E$452))","v":""}]
[null,{"$f":"IF(E418=\"\",\"\",COUNT($E$24:$E$452)-COUNT(E419:$E$452))","v":""}]
[null,{"$f":"IF(E419=\"\",\"\",COUNT($E$24:$E$452)-COUNT(E420:$E$452))","v":""}]
[null,{"$f":"IF(E420=\"\",\"\",COUNT($E$24:$E$452)-COUNT(E421:$E$452))","v":""}]
[null,{"$f":"IF(E421=\"\",\"\",COUNT($E$24:$E$452)-COUNT(E422:$E$452))","v":""}]
[null,{"$f":"IF(E422=\"\",\"\",COUNT($E$24:$E$452)-COUNT(E423:$E$452))","v":""}]
[null,{"$f":"IF(E423=\"\",\"\",COUNT($E$24:$E$452)-COUNT(E424:$E$452))","v":""}]
[null,{"$f":"IF(E424=\"\",\"\",COUNT($E$24:$E$452)-COUNT(E425:$E$452))","v":""}]
[null,{"$f":"IF(E425=\"\",\"\",COUNT($E$24:$E$452)-COUNT(E426:$E$452))","v":""}]
[null,{"$f":"IF(E426=\"\",\"\",COUNT($E$24:$E$452)-COUNT(E427:$E$452))","v":""}]
[null,{"$f":"IF(E427=\"\",\"\",COUNT($E$24:$E$452)-COUNT(E428:$E$452))","v":""}]
[null,{"$f":"IF(E428=\"\",\"\",COUNT($E$24:$E$452)-COUNT(E429:$E$452))","v":""}]
[null,{"$f":"IF(E429=\"\",\"\",COUNT($E$24:$E$452)-COUNT(E430:$E$452))","v":""}]
[null,{"$f":"IF(E430=\"\",\"\",COUNT($E$24:$E$452)-COUNT(E431:$E$452))","v":""}]
[null,{"$f":"IF(E431=\"\",\"\",COUNT($E$24:$E$452)-COUNT(E432:$E$452))","v":""}]
[null,{"$f":"IF(E432=\"\",\"\",COUNT($E$24:$E$452)-COUNT(E433:$E$452))","v":""}]
[null,{"$f":"IF(E433=\"\",\"\",COUNT($E$24:$E$452)-COUNT(E434:$E$452))","v":""}]
[null,{"$f":"IF(E434=\"\",\"\",COUNT($E$24:$E$452)-COUNT(E435:$E$452))","v":""}]
[null,{"$f":"IF(E435=\"\",\"\",COUNT($E$24:$E$452)-COUNT(E436:$E$452))","v":""}]
[null,{"$f":"IF(E436=\"\",\"\",COUNT($E$24:$E$452)-COUNT(E437:$E$452))","v":""}]
[null,{"$f":"IF(E437=\"\",\"\",COUNT($E$24:$E$452)-COUNT(E438:$E$452))","v":""}]
[null,{"$f":"IF(E438=\"\",\"\",COUNT($E$24:$E$452)-COUNT(E439:$E$452))","v":""}]
[null,{"$f":"IF(E439=\"\",\"\",COUNT($E$24:$E$452)-COUNT(E440:$E$452))","v":""}]
[null,{"$f":"IF(E440=\"\",\"\",COUNT($E$24:$E$452)-COUNT(E441:$E$452))","v":""}]
[null,{"$f":"IF(E441=\"\",\"\",COUNT($E$24:$E$452)-COUNT(E442:$E$452))","v":""}]
[null,{"$f":"IF(E442=\"\",\"\",COUNT($E$24:$E$452)-COUNT(E443:$E$452))","v":""}]
[null,{"$f":"IF(E443=\"\",\"\",COUNT($E$24:$E$452)-COUNT(E444:$E$452))","v":""}]
[null,{"$f":"IF(E444=\"\",\"\",COUNT($E$24:$E$452)-COUNT(E445:$E$452))","v":""}]
[null,{"$f":"IF(E445=\"\",\"\",COUNT($E$24:$E$452)-COUNT(E446:$E$452))","v":""}]
[null,{"$f":"IF(E446=\"\",\"\",COUNT($E$24:$E$452)-COUNT(E447:$E$452))","v":""}]
[null,{"$f":"IF(E447=\"\",\"\",COUNT($E$24:$E$452)-COUNT(E448:$E$452))","v":""}]
[null,{"$f":"IF(E448=\"\",\"\",COUNT($E$24:$E$452)-COUNT(E449:$E$452))","v":""}]
[null,{"$f":"IF(E449=\"\",\"\",COUNT($E$24:$E$452)-COUNT(E450:$E$452))","v":""}]
[null,{"$f":"IF(E450=\"\",\"\",COUNT($E$24:$E$452)-COUNT(E451:$E$452))","v":""}]
[null,{"$f":"IF(E451=\"\",\"\",COUNT($E$24:$E$452)-COUNT(E$452:$E452))","v":""}]
[null,{"$f":"IF(E452=\"\",\"\",COUNT($E$24:$E$452)-COUNT(E$452:$E453))","v":""}]
[null,{"$f":"IF(E453=\"\",\"\",COUNT($E$24:$E$452)-COUNT(E$452:$E454))","v":""}]
[null,{"$f":"IF(E454=\"\",\"\",COUNT($E$24:$E$452)-COUNT(E$452:$E455))","v":""}]
[null,{"$f":"IF(E455=\"\",\"\",COUNT($E$24:$E$452)-COUNT(E$452:$E456))","v":""}]
[null,{"$f":"IF(E456=\"\",\"\",COUNT($E$24:$E$452)-COUNT(E$452:$E457))","v":""}]
[null,{"$f":"IF(E457=\"\",\"\",COUNT($E$24:$E$452)-COUNT(E$452:$E458))","v":""}]
[null,{"$f":"IF(E458=\"\",\"\",COUNT($E$24:$E$452)-COUNT(E$452:$E459))","v":""}]
[null,{"$f":"IF(E459=\"\",\"\",COUNT($E$24:$E$452)-COUNT(E$452:$E460))","v":""}]
[null,{"$f":"IF(E460=\"\",\"\",COUNT($E$24:$E$452)-COUNT(E$452:$E461))","v":""}]
[null,{"$f":"IF(E461=\"\",\"\",COUNT($E$24:$E$452)-COUNT(E$452:$E462))","v":""}]
[null,{"$f":"IF(E462=\"\",\"\",COUNT($E$24:$E$452)-COUNT(E$452:$E463))","v":""}]
[null,{"$f":"IF(E463=\"\",\"\",COUNT($E$24:$E$452)-COUNT(E$452:$E464))","v":""}]
[null,{"$f":"IF(E464=\"\",\"\",COUNT($E$24:$E$452)-COUNT(E$452:$E465))","v":""}]
[null,{"$f":"IF(E465=\"\",\"\",COUNT($E$24:$E$452)-COUNT(E$452:$E466))","v":""}]
[null,{"$f":"IF(E466=\"\",\"\",COUNT($E$24:$E$452)-COUNT(E$452:$E467))","v":""}]
[null,{"$f":"IF(E467=\"\",\"\",COUNT($E$24:$E$452)-COUNT(E$452:$E468))","v":""}]
[null,{"$f":"IF(E468=\"\",\"\",COUNT($E$24:$E$452)-COUNT(E$452:$E469))","v":""}]
[null,{"$f":"IF(E469=\"\",\"\",COUNT($E$24:$E$452)-COUNT(E$452:$E470))","v":""}]
[null,{"$f":"IF(E470=\"\",\"\",COUNT($E$24:$E$452)-COUNT(E$452:$E471))","v":""}]
[null,{"$f":"IF(E471=\"\",\"\",COUNT($E$24:$E$452)-COUNT(E$452:$E472))","v":""}]
[null,{"$f":"IF(E472=\"\",\"\",COUNT($E$24:$E$452)-COUNT(E$452:$E473))","v":""}]
[null,{"$f":"IF(E473=\"\",\"\",COUNT($E$24:$E$452)-COUNT(E$452:$E474))","v":""}]
[null,{"$f":"IF(E474=\"\",\"\",COUNT($E$24:$E$452)-COUNT(E$452:$E475))","v":""}]
[null,{"$f":"IF(E475=\"\",\"\",COUNT($E$24:$E$452)-COUNT(E$452:$E476))","v":""}]
[null,{"$f":"IF(E476=\"\",\"\",COUNT($E$24:$E$452)-COUNT(E$452:$E477))","v":""}]
[null,{"$f":"IF(E477=\"\",\"\",COUNT($E$24:$E$452)-COUNT(E$452:$E478))","v":""}]
[null,{"$f":"IF(E478=\"\",\"\",COUNT($E$24:$E$452)-COUNT(E$452:$E479))","v":""}]
[null,{"$f":"IF(E479=\"\",\"\",COUNT($E$24:$E$452)-COUNT(E$452:$E480))","v":""}]
[null,{"$f":"IF(E480=\"\",\"\",COUNT($E$24:$E$452)-COUNT(E$452:$E481))","v":""}]
[null,{"$f":"IF(E481=\"\",\"\",COUNT($E$24:$E$452)-COUNT(E$452:$E482))","v":""}]
[null,{"$f":"IF(E482=\"\",\"\",COUNT($E$24:$E$452)-COUNT(E$452:$E483))","v":""}]
[null,{"$f":"IF(E483=\"\",\"\",COUNT($E$24:$E$452)-COUNT(E$452:$E484))","v":""}]
[null,{"$f":"IF(E484=\"\",\"\",COUNT($E$24:$E$452)-COUNT(E$452:$E485))","v":""}]
[null,{"$f":"IF(E485=\"\",\"\",COUNT($E$24:$E$452)-COUNT(E$452:$E486))","v":""}]
[null,{"$f":"IF(E486=\"\",\"\",COUNT($E$24:$E$452)-COUNT(E$452:$E487))","v":""}]
[null,{"$f":"IF(E487=\"\",\"\",COUNT($E$24:$E$452)-COUNT(E$452:$E488))","v":""}]
[null,{"$f":"IF(E488=\"\",\"\",COUNT($E$24:$E$452)-COUNT(E$452:$E489))","v":""}]
[null,{"$f":"IF(E489=\"\",\"\",COUNT($E$24:$E$452)-COUNT(E$452:$E490))","v":""}]
[null,{"$f":"IF(E490=\"\",\"\",COUNT($E$24:$E$452)-COUNT(E$452:$E491))","v":""}]
[null,{"$f":"IF(E491=\"\",\"\",COUNT($E$24:$E$452)-COUNT(E$452:$E492))","v":""}]
[null,{"$f":"IF(E492=\"\",\"\",COUNT($E$24:$E$452)-COUNT(E$452:$E493))","v":""}]
[null,{"$f":"IF(E493=\"\",\"\",COUNT($E$24:$E$452)-COUNT(E$452:$E494))","v":""}]
[null,{"$f":"IF(E494=\"\",\"\",COUNT($E$24:$E$452)-COUNT(E$452:$E495))","v":""}]
[null,{"$f":"IF(E495=\"\",\"\",COUNT($E$24:$E$452)-COUNT(E$452:$E496))","v":""}]
[null,{"$f":"IF(E496=\"\",\"\",COUNT($E$24:$E$452)-COUNT(E$452:$E497))","v":""}]
[null,{"$f":"IF(E497=\"\",\"\",COUNT($E$24:$E$452)-COUNT(E$452:$E498))","v":""}]
[null,{"$f":"IF(E498=\"\",\"\",COUNT($E$24:$E$452)-COUNT(E$452:$E499))","v":""}]
[null,{"$f":"IF(E499=\"\",\"\",COUNT($E$24:$E$452)-COUNT(E$452:$E500))","v":""}]
[null,{"$f":"IF(E500=\"\",\"\",COUNT($E$24:$E$452)-COUNT(E$452:$E501))","v":""}]
[null,{"$f":"IF(E501=\"\",\"\",COUNT($E$24:$E$452)-COUNT(E$452:$E502))","v":""}]
[null,{"$f":"IF(E502=\"\",\"\",COUNT($E$24:$E$452)-COUNT(E$452:$E503))","v":""}]
[null,{"$f":"IF(E503=\"\",\"\",COUNT($E$24:$E$452)-COUNT(E$452:$E504))","v":""}]
[null,{"$f":"IF(E504=\"\",\"\",COUNT($E$24:$E$452)-COUNT(E$452:$E505))","v":""}]
[null,{"$f":"IF(E505=\"\",\"\",COUNT($E$24:$E$452)-COUNT(E$452:$E506))","v":""}]
[null,{"$f":"IF(E506=\"\",\"\",COUNT($E$24:$E$452)-COUNT(E$452:$E507))","v":""}]
[null,{"$f":"IF(E507=\"\",\"\",COUNT($E$24:$E$452)-COUNT(E$452:$E508))","v":""}]
[null,{"$f":"IF(E508=\"\",\"\",COUNT($E$24:$E$452)-COUNT(E$452:$E509))","v":""}]
[null,{"$f":"IF(E509=\"\",\"\",COUNT($E$24:$E$452)-COUNT(E$452:$E510))","v":""}]
[null,{"$f":"IF(E510=\"\",\"\",COUNT($E$24:$E$452)-COUNT(E$452:$E511))","v":""}]
[null,{"$f":"IF(E511=\"\",\"\",COUNT($E$24:$E$452)-COUNT(E$452:$E512))","v":""}]
[null,{"$f":"IF(E512=\"\",\"\",COUNT($E$24:$E$452)-COUNT(E$452:$E513))","v":""}]
[null,{"$f":"IF(E513=\"\",\"\",COUNT($E$24:$E$452)-COUNT(E$452:$E514))","v":""}]
[null,{"$f":"IF(E514=\"\",\"\",COUNT($E$24:$E$452)-COUNT(E$452:$E515))","v":""}]
[null,{"$f":"IF(E515=\"\",\"\",COUNT($E$24:$E$452)-COUNT(E$452:$E516))","v":""}]
[null,{"$f":"IF(E516=\"\",\"\",COUNT($E$24:$E$452)-COUNT(E$452:$E517))","v":""}]
[null,{"$f":"IF(E517=\"\",\"\",COUNT($E$24:$E$452)-COUNT(E$452:$E518))","v":""}]
[null,{"$f":"IF(E518=\"\",\"\",COUNT($E$24:$E$452)-COUNT(E$452:$E519))","v":""}]
[null,{"$f":"IF(E519=\"\",\"\",COUNT($E$24:$E$452)-COUNT(E$452:$E520))","v":""}]
[null,{"$f":"IF(E520=\"\",\"\",COUNT($E$24:$E$452)-COUNT(E$452:$E521))","v":""}]
[null,{"$f":"IF(E521=\"\",\"\",COUNT($E$24:$E$452)-COUNT(E$452:$E522))","v":""}]
[null,{"$f":"IF(E522=\"\",\"\",COUNT($E$24:$E$452)-COUNT(E$452:$E523))","v":""}]
[null,{"$f":"IF(E523=\"\",\"\",COUNT($E$24:$E$452)-COUNT(E$452:$E524))","v":""}]
[null,{"$f":"IF(E524=\"\",\"\",COUNT($E$24:$E$452)-COUNT(E$452:$E525))","v":""}]
[null,{"$f":"IF(E525=\"\",\"\",COUNT($E$24:$E$452)-COUNT(E$452:$E526))","v":""}]
[null,{"$f":"IF(E526=\"\",\"\",COUNT($E$24:$E$452)-COUNT(E$452:$E527))","v":""}]
[null,{"$f":"IF(E527=\"\",\"\",COUNT($E$24:$E$452)-COUNT(E$452:$E528))","v":""}]
[null,{"$f":"IF(E528=\"\",\"\",COUNT($E$24:$E$452)-COUNT(E$452:$E529))","v":""}]
[null,{"$f":"IF(E529=\"\",\"\",COUNT($E$24:$E$452)-COUNT(E$452:$E530))","v":""}]
[null,{"$f":"IF(E530=\"\",\"\",COUNT($E$24:$E$452)-COUNT(E$452:$E531))","v":""}]
[null,{"$f":"IF(E531=\"\",\"\",COUNT($E$24:$E$452)-COUNT(E$452:$E532))","v":""}]
[null,{"$f":"IF(E532=\"\",\"\",COUNT($E$24:$E$452)-COUNT(E$452:$E533))","v":""}]
[null,{"$f":"IF(E533=\"\",\"\",COUNT($E$24:$E$452)-COUNT(E$452:$E534))","v":""}]
[null,{"$f":"IF(E534=\"\",\"\",COUNT($E$24:$E$452)-COUNT(E$452:$E535))","v":""}]
[null,{"$f":"IF(E535=\"\",\"\",COUNT($E$24:$E$452)-COUNT(E$452:$E536))","v":""}]
[null,{"$f":"IF(E536=\"\",\"\",COUNT($E$24:$E$452)-COUNT(E$452:$E537))","v":""}]
[null,{"$f":"IF(E537=\"\",\"\",COUNT($E$24:$E$452)-COUNT(E$452:$E538))","v":""}]
[null,{"$f":"IF(E538=\"\",\"\",COUNT($E$24:$E$452)-COUNT(E$452:$E539))","v":""}]
[null,{"$f":"IF(E539=\"\",\"\",COUNT($E$24:$E$452)-COUNT(E$452:$E540))","v":""}]
[null,{"$f":"IF(E540=\"\",\"\",COUNT($E$24:$E$452)-COUNT(E$452:$E541))","v":""}]
[null,{"$f":"IF(E541=\"\",\"\",COUNT($E$24:$E$452)-COUNT(E$452:$E542))","v":""}]
[null,{"$f":"IF(E542=\"\",\"\",COUNT($E$24:$E$452)-COUNT(E$452:$E543))","v":""}]
[null,{"$f":"IF(E543=\"\",\"\",COUNT($E$24:$E$452)-COUNT(E$452:$E544))","v":""}]
[null,{"$f":"IF(E544=\"\",\"\",COUNT($E$24:$E$452)-COUNT(E$452:$E545))","v":""}]
[null,{"$f":"IF(E545=\"\",\"\",COUNT($E$24:$E$452)-COUNT(E$452:$E546))","v":""}]
[null,{"$f":"IF(E546=\"\",\"\",COUNT($E$24:$E$452)-COUNT(E$452:$E547))","v":""}]
[null,{"$f":"IF(E547=\"\",\"\",COUNT($E$24:$E$452)-COUNT(E$452:$E548))","v":""}]
[null,{"$f":"IF(E548=\"\",\"\",COUNT($E$24:$E$452)-COUNT(E$452:$E549))","v":""}]
[null,{"$f":"IF(E549=\"\",\"\",COUNT($E$24:$E$452)-COUNT(E$452:$E550))","v":""}]
[null,{"$f":"IF(E550=\"\",\"\",COUNT($E$24:$E$452)-COUNT(E$452:$E551))","v":""}]
[null,{"$f":"IF(E551=\"\",\"\",COUNT($E$24:$E$452)-COUNT(E$452:$E552))","v":""}]
[null,{"$f":"IF(E552=\"\",\"\",COUNT($E$24:$E$452)-COUNT(E$452:$E553))","v":""}]
[null,{"$f":"IF(E553=\"\",\"\",COUNT($E$24:$E$452)-COUNT(E$452:$E554))","v":""}]
[null,{"$f":"IF(E554=\"\",\"\",COUNT($E$24:$E$452)-COUNT(E$452:$E555))","v":""}]
[null,{"$f":"IF(E555=\"\",\"\",COUNT($E$24:$E$452)-COUNT(E$452:$E556))","v":""}]
[null,{"$f":"IF(E556=\"\",\"\",COUNT($E$24:$E$452)-COUNT(E$452:$E557))","v":""}]
[null,{"$f":"IF(E557=\"\",\"\",COUNT($E$24:$E$452)-COUNT(E$452:$E558))","v":""}]
[null,{"$f":"IF(E558=\"\",\"\",COUNT($E$24:$E$452)-COUNT(E$452:$E559))","v":""}]
[null,{"$f":"IF(E559=\"\",\"\",COUNT($E$24:$E$452)-COUNT(E$452:$E560))","v":""}]
[null,{"$f":"IF(E560=\"\",\"\",COUNT($E$24:$E$452)-COUNT(E$452:$E561))","v":""}]
[null,{"$f":"IF(E561=\"\",\"\",COUNT($E$24:$E$452)-COUNT(E$452:$E562))","v":""}]
[null,{"$f":"IF(E562=\"\",\"\",COUNT($E$24:$E$452)-COUNT(E$452:$E563))","v":""}]
[null,{"$f":"IF(E563=\"\",\"\",COUNT($E$24:$E$452)-COUNT(E$452:$E564))","v":""}]
[null,{"$f":"IF(E564=\"\",\"\",COUNT($E$24:$E$452)-COUNT(E$452:$E565))","v":""}]
[null,{"$f":"IF(E565=\"\",\"\",COUNT($E$24:$E$452)-COUNT(E$452:$E566))","v":""}]
[null,{"$f":"IF(E566=\"\",\"\",COUNT($E$24:$E$452)-COUNT(E$452:$E567))","v":""}]
[null,{"$f":"IF(E567=\"\",\"\",COUNT($E$24:$E$452)-COUNT(E$452:$E568))","v":""}]
[null,{"$f":"IF(E568=\"\",\"\",COUNT($E$24:$E$452)-COUNT(E$452:$E569))","v":""}]
[null,{"$f":"IF(E569=\"\",\"\",COUNT($E$24:$E$452)-COUNT(E$452:$E570))","v":""}]
[null,{"$f":"IF(E570=\"\",\"\",COUNT($E$24:$E$452)-COUNT(E$452:$E571))","v":""}]
[null,{"$f":"IF(E571=\"\",\"\",COUNT($E$24:$E$452)-COUNT(E$452:$E572))","v":""}]
[null,{"$f":"IF(E572=\"\",\"\",COUNT($E$24:$E$452)-COUNT(E$452:$E573))","v":""}]
[null,{"$f":"IF(E573=\"\",\"\",COUNT($E$24:$E$452)-COUNT(E$452:$E574))","v":""}]
[null,{"$f":"IF(E574=\"\",\"\",COUNT($E$24:$E$452)-COUNT(E$452:$E575))","v":""}]
[null,{"$f":"IF(E575=\"\",\"\",COUNT($E$24:$E$452)-COUNT(E$452:$E576))","v":""}]
[null,{"$f":"IF(E576=\"\",\"\",COUNT($E$24:$E$452)-COUNT(E$452:$E577))","v":""}]
[null,{"$f":"IF(E577=\"\",\"\",COUNT($E$24:$E$452)-COUNT(E$452:$E578))","v":""}]
[null,{"$f":"IF(E578=\"\",\"\",COUNT($E$24:$E$452)-COUNT(E$452:$E579))","v":""}]
[null,{"$f":"IF(E579=\"\",\"\",COUNT($E$24:$E$452)-COUNT(E$452:$E580))","v":""}]
[null,{"$f":"IF(E580=\"\",\"\",COUNT($E$24:$E$452)-COUNT(E$452:$E581))","v":""}]
[null,{"$f":"IF(E581=\"\",\"\",COUNT($E$24:$E$452)-COUNT(E$452:$E582))","v":""}]
[null,{"$f":"IF(E582=\"\",\"\",COUNT($E$24:$E$452)-COUNT(E$452:$E583))","v":""}]
[null,{"$f":"IF(E583=\"\",\"\",COUNT($E$24:$E$452)-COUNT(E$452:$E584))","v":""}]
[null,{"$f":"IF(E584=\"\",\"\",COUNT($E$24:$E$452)-COUNT(E$452:$E585))","v":""}]
[null,{"$f":"IF(E585=\"\",\"\",COUNT($E$24:$E$452)-COUNT(E$452:$E586))","v":""}]
[null,{"$f":"IF(E586=\"\",\"\",COUNT($E$24:$E$452)-COUNT(E$452:$E587))","v":""}]
[null,{"$f":"IF(E587=\"\",\"\",COUNT($E$24:$E$452)-COUNT(E$452:$E588))","v":""}]
[null,{"$f":"IF(E588=\"\",\"\",COUNT($E$24:$E$452)-COUNT(E$452:$E589))","v":""}]
[null,{"$f":"IF(E589=\"\",\"\",COUNT($E$24:$E$452)-COUNT(E$452:$E590))","v":""}]
[null,{"$f":"IF(E590=\"\",\"\",COUNT($E$24:$E$452)-COUNT(E$452:$E591))","v":""}]
[null,{"$f":"IF(E591=\"\",\"\",COUNT($E$24:$E$452)-COUNT(E$452:$E592))","v":""}]
[null,{"$f":"IF(E592=\"\",\"\",COUNT($E$24:$E$452)-COUNT(E$452:$E593))","v":""}]
[null,{"$f":"IF(E593=\"\",\"\",COUNT($E$24:$E$452)-COUNT(E$452:$E594))","v":""}]
[null,{"$f":"IF(E594=\"\",\"\",COUNT($E$24:$E$452)-COUNT(E$452:$E595))","v":""}]
[null,{"$f":"IF(E595=\"\",\"\",COUNT($E$24:$E$452)-COUNT(E$452:$E596))","v":""}]
[null,{"$f":"IF(E596=\"\",\"\",COUNT($E$24:$E$452)-COUNT(E$452:$E597))","v":""}]
[null,{"$f":"IF(E597=\"\",\"\",COUNT($E$24:$E$452)-COUNT(E$452:$E598))","v":""}]
[null,{"$f":"IF(E598=\"\",\"\",COUNT($E$24:$E$452)-COUNT(E$452:$E599))","v":""}]
[null,{"$f":"IF(E599=\"\",\"\",COUNT($E$24:$E$452)-COUNT(E$452:$E600))","v":""}]
[null,{"$f":"IF(E600=\"\",\"\",COUNT($E$24:$E$452)-COUNT(E$452:$E601))","v":""}]
[null,{"$f":"IF(E601=\"\",\"\",COUNT($E$24:$E$452)-COUNT(E$452:$E602))","v":""}]
[null,{"$f":"IF(E602=\"\",\"\",COUNT($E$24:$E$452)-COUNT(E$452:$E603))","v":""}]
[null,{"$f":"IF(E603=\"\",\"\",COUNT($E$24:$E$452)-COUNT(E$452:$E604))","v":""}]
[null,{"$f":"IF(E604=\"\",\"\",COUNT($E$24:$E$452)-COUNT(E$452:$E605))","v":""}]
[null,{"$f":"IF(E605=\"\",\"\",COUNT($E$24:$E$452)-COUNT(E$452:$E606))","v":""}]
[null,{"$f":"IF(E606=\"\",\"\",COUNT($E$24:$E$452)-COUNT(E$452:$E607))","v":""}]
[null,{"$f":"IF(E607=\"\",\"\",COUNT($E$24:$E$452)-COUNT(E$452:$E608))","v":""}]
[null,{"$f":"IF(E608=\"\",\"\",COUNT($E$24:$E$452)-COUNT(E$452:$E609))","v":""}]
[null,{"$f":"IF(E609=\"\",\"\",COUNT($E$24:$E$452)-COUNT(E$452:$E610))","v":""}]
[null,{"$f":"IF(E610=\"\",\"\",COUNT($E$24:$E$452)-COUNT(E$452:$E611))","v":""}]
[null,{"$f":"IF(E611=\"\",\"\",COUNT($E$24:$E$452)-COUNT(E$452:$E612))","v":""}]
[null,{"$f":"IF(E612=\"\",\"\",COUNT($E$24:$E$452)-COUNT(E$452:$E613))","v":""}]
[null,{"$f":"IF(E613=\"\",\"\",COUNT($E$24:$E$452)-COUNT(E$452:$E614))","v":""}]
[null,{"$f":"IF(E614=\"\",\"\",COUNT($E$24:$E$452)-COUNT(E$452:$E615))","v":""}]
[null,{"$f":"IF(E615=\"\",\"\",COUNT($E$24:$E$452)-COUNT(E$452:$E616))","v":""}]
[null,{"$f":"IF(E616=\"\",\"\",COUNT($E$24:$E$452)-COUNT(E$452:$E617))","v":""}]
[null,{"$f":"IF(E617=\"\",\"\",COUNT($E$24:$E$452)-COUNT(E$452:$E618))","v":""}]
[null,{"$f":"IF(E618=\"\",\"\",COUNT($E$24:$E$452)-COUNT(E$452:$E619))","v":""}]
[null,{"$f":"IF(E619=\"\",\"\",COUNT($E$24:$E$452)-COUNT(E$452:$E620))","v":""}]
[null,{"$f":"IF(E620=\"\",\"\",COUNT($E$24:$E$452)-COUNT(E$452:$E621))","v":""}]
[null,{"$f":"IF(E621=\"\",\"\",COUNT($E$24:$E$452)-COUNT(E$452:$E622))","v":""}]
[null,{"$f":"IF(E622=\"\",\"\",COUNT($E$24:$E$452)-COUNT(E$452:$E623))","v":""}]
[null,{"$f":"IF(E623=\"\",\"\",COUNT($E$24:$E$452)-COUNT(E$452:$E624))","v":""}]
[null,{"$f":"IF(E624=\"\",\"\",COUNT($E$24:$E$452)-COUNT(E$452:$E625))","v":""}]
[null,{"$f":"IF(E625=\"\",\"\",COUNT($E$24:$E$452)-COUNT(E$452:$E626))","v":""}]
[null,{"$f":"IF(E626=\"\",\"\",COUNT($E$24:$E$452)-COUNT(E$452:$E627))","v":""}]
[null,{"$f":"IF(E627=\"\",\"\",COUNT($E$24:$E$452)-COUNT(E$452:$E628))","v":""}]
[null,{"$f":"IF(E628=\"\",\"\",COUNT($E$24:$E$452)-COUNT(E$452:$E629))","v":""}]
[null,{"$f":"IF(E629=\"\",\"\",COUNT($E$24:$E$452)-COUNT(E$452:$E630))","v":""}]
[null,{"$f":"IF(E630=\"\",\"\",COUNT($E$24:$E$452)-COUNT(E$452:$E631))","v":""}]
[null,{"$f":"IF(E631=\"\",\"\",COUNT($E$24:$E$452)-COUNT(E$452:$E632))","v":""}]
[null,{"$f":"IF(E632=\"\",\"\",COUNT($E$24:$E$452)-COUNT(E$452:$E633))","v":""}]
[null,{"$f":"IF(E633=\"\",\"\",COUNT($E$24:$E$452)-COUNT(E$452:$E634))","v":""}]
[null,{"$f":"IF(E634=\"\",\"\",COUNT($E$24:$E$452)-COUNT(E$452:$E635))","v":""}]
[null,{"$f":"IF(E635=\"\",\"\",COUNT($E$24:$E$452)-COUNT(E$452:$E636))","v":""}]
[null,{"$f":"IF(E636=\"\",\"\",COUNT($E$24:$E$452)-COUNT(E$452:$E637))","v":""}]
[null,{"$f":"IF(E637=\"\",\"\",COUNT($E$24:$E$452)-COUNT(E$452:$E638))","v":""}]
[null,{"$f":"IF(E638=\"\",\"\",COUNT($E$24:$E$452)-COUNT(E$452:$E639))","v":""}]
[null,{"$f":"IF(E639=\"\",\"\",COUNT($E$24:$E$452)-COUNT(E$452:$E640))","v":""}]
[null,{"$f":"IF(E640=\"\",\"\",COUNT($E$24:$E$452)-COUNT(E$452:$E641))","v":""}]
[null,{"$f":"IF(E641=\"\",\"\",COUNT($E$24:$E$452)-COUNT(E$452:$E642))","v":""}]
[null,{"$f":"IF(E642=\"\",\"\",COUNT($E$24:$E$452)-COUNT(E$452:$E643))","v":""}]
[null,{"$f":"IF(E643=\"\",\"\",COUNT($E$24:$E$452)-COUNT(E$452:$E644))","v":""}]
[null,{"$f":"IF(E644=\"\",\"\",COUNT($E$24:$E$452)-COUNT(E$452:$E645))","v":""}]
[null,{"$f":"IF(E645=\"\",\"\",COUNT($E$24:$E$452)-COUNT(E$452:$E646))","v":""}]
[null,{"$f":"IF(E646=\"\",\"\",COUNT($E$24:$E$452)-COUNT(E$452:$E647))","v":""}]
[null,{"$f":"IF(E647=\"\",\"\",COUNT($E$24:$E$452)-COUNT(E$452:$E648))","v":""}]
[null,{"$f":"IF(E648=\"\",\"\",COUNT($E$24:$E$452)-COUNT(E$452:$E649))","v":""}]
[null,{"$f":"IF(E649=\"\",\"\",COUNT($E$24:$E$452)-COUNT(E$452:$E650))","v":""}]
[null,{"$f":"IF(E650=\"\",\"\",COUNT($E$24:$E$452)-COUNT(E$452:$E651))","v":""}]
[null,{"$f":"IF(E651=\"\",\"\",COUNT($E$24:$E$452)-COUNT(E$452:$E652))","v":""}]
[null,{"$f":"IF(E652=\"\",\"\",COUNT($E$24:$E$452)-COUNT(E$452:$E653))","v":""}]
[null,{"$f":"IF(E653=\"\",\"\",COUNT($E$24:$E$452)-COUNT(E$452:$E654))","v":""}]
[null,{"$f":"IF(E654=\"\",\"\",COUNT($E$24:$E$452)-COUNT(E$452:$E655))","v":""}]
[null,{"$f":"IF(E655=\"\",\"\",COUNT($E$24:$E$452)-COUNT(E$452:$E656))","v":""}]
[null,{"$f":"IF(E656=\"\",\"\",COUNT($E$24:$E$452)-COUNT(E$452:$E657))","v":""}]
[null,{"$f":"IF(E657=\"\",\"\",COUNT($E$24:$E$452)-COUNT(E$452:$E658))","v":""}]
[null,{"$f":"IF(E658=\"\",\"\",COUNT($E$24:$E$452)-COUNT(E$452:$E659))","v":""}]
[null,{"$f":"IF(E659=\"\",\"\",COUNT($E$24:$E$452)-COUNT(E$452:$E660))","v":""}]
[null,{"$f":"IF(E660=\"\",\"\",COUNT($E$24:$E$452)-COUNT(E$452:$E661))","v":""}]
[null,{"$f":"IF(E661=\"\",\"\",COUNT($E$24:$E$452)-COUNT(E$452:$E662))","v":""}]
[null,{"$f":"IF(E662=\"\",\"\",COUNT($E$24:$E$452)-COUNT(E$452:$E663))","v":""}]
[null,{"$f":"IF(E663=\"\",\"\",COUNT($E$24:$E$452)-COUNT(E$452:$E664))","v":""}]
[null,{"$f":"IF(E664=\"\",\"\",COUNT($E$24:$E$452)-COUNT(E$452:$E665))","v":""}]
[null,{"$f":"IF(E665=\"\",\"\",COUNT($E$24:$E$452)-COUNT(E$452:$E666))","v":""}]
[null,{"$f":"IF(E666=\"\",\"\",COUNT($E$24:$E$452)-COUNT(E$452:$E667))","v":""}]
[null,{"$f":"IF(E667=\"\",\"\",COUNT($E$24:$E$452)-COUNT(E$452:$E668))","v":""}]
[null,{"$f":"IF(E668=\"\",\"\",COUNT($E$24:$E$452)-COUNT(E$452:$E669))","v":""}]
[null,{"$f":"IF(E669=\"\",\"\",COUNT($E$24:$E$452)-COUNT(E$452:$E670))","v":""}]
[null,{"$f":"IF(E670=\"\",\"\",COUNT($E$24:$E$452)-COUNT(E$452:$E671))","v":""}]
[null,{"$f":"IF(E671=\"\",\"\",COUNT($E$24:$E$452)-COUNT(E$452:$E672))","v":""}]
[null,{"$f":"IF(E672=\"\",\"\",COUNT($E$24:$E$452)-COUNT(E$452:$E673))","v":""}]
[null,{"$f":"IF(E673=\"\",\"\",COUNT($E$24:$E$452)-COUNT(E$452:$E674))","v":""}]
[null,{"$f":"IF(E674=\"\",\"\",COUNT($E$24:$E$452)-COUNT(E$452:$E675))","v":""}]
[null,{"$f":"IF(E675=\"\",\"\",COUNT($E$24:$E$452)-COUNT(E$452:$E676))","v":""}]
[null,{"$f":"IF(E676=\"\",\"\",COUNT($E$24:$E$452)-COUNT(E$452:$E677))","v":""}]
[null,{"$f":"IF(E677=\"\",\"\",COUNT($E$24:$E$452)-COUNT(E$452:$E678))","v":""}]
[null,{"$f":"IF(E678=\"\",\"\",COUNT($E$24:$E$452)-COUNT(E$452:$E679))","v":""}]
[null,{"$f":"IF(E679=\"\",\"\",COUNT($E$24:$E$452)-COUNT(E$452:$E680))","v":""}]
[null,{"$f":"IF(E680=\"\",\"\",COUNT($E$24:$E$452)-COUNT(E$452:$E681))","v":""}]
[null,{"$f":"IF(E681=\"\",\"\",COUNT($E$24:$E$452)-COUNT(E$452:$E682))","v":""}]
[null,{"$f":"IF(E682=\"\",\"\",COUNT($E$24:$E$452)-COUNT(E$452:$E683))","v":""}]
[null,{"$f":"IF(E683=\"\",\"\",COUNT($E$24:$E$452)-COUNT(E$452:$E684))","v":""}]
[null,{"$f":"IF(E684=\"\",\"\",COUNT($E$24:$E$452)-COUNT(E$452:$E685))","v":""}]
[null,{"$f":"IF(E685=\"\",\"\",COUNT($E$24:$E$452)-COUNT(E$452:$E686))","v":""}]
[null,{"$f":"IF(E686=\"\",\"\",COUNT($E$24:$E$452)-COUNT(E$452:$E687))","v":""}]
[null,{"$f":"IF(E687=\"\",\"\",COUNT($E$24:$E$452)-COUNT(E$452:$E688))","v":""}]
[null,{"$f":"IF(E688=\"\",\"\",COUNT($E$24:$E$452)-COUNT(E$452:$E689))","v":""}]
[null,{"$f":"IF(E689=\"\",\"\",COUNT($E$24:$E$452)-COUNT(E$452:$E690))","v":""}]
[null,{"$f":"IF(E690=\"\",\"\",COUNT($E$24:$E$452)-COUNT(E$452:$E691))","v":""}]
[null,{"$f":"IF(E691=\"\",\"\",COUNT($E$24:$E$452)-COUNT(E$452:$E692))","v":""}]
[null,{"$f":"IF(E692=\"\",\"\",COUNT($E$24:$E$452)-COUNT(E$452:$E693))","v":""}]
[null,{"$f":"IF(E693=\"\",\"\",COUNT($E$24:$E$452)-COUNT(E$452:$E694))","v":""}]
[null,{"$f":"IF(E694=\"\",\"\",COUNT($E$24:$E$452)-COUNT(E$452:$E695))","v":""}]
[null,{"$f":"IF(E695=\"\",\"\",COUNT($E$24:$E$452)-COUNT(E$452:$E696))","v":""}]
[null,{"$f":"IF(E696=\"\",\"\",COUNT($E$24:$E$452)-COUNT(E$452:$E697))","v":""}]
[null,{"$f":"IF(E697=\"\",\"\",COUNT($E$24:$E$452)-COUNT(E$452:$E698))","v":""}]
[null,{"$f":"IF(E698=\"\",\"\",COUNT($E$24:$E$452)-COUNT(E$452:$E699))","v":""}]
[null,{"$f":"IF(E699=\"\",\"\",COUNT($E$24:$E$452)-COUNT(E$452:$E700))","v":""}]
[null,{"$f":"IF(E700=\"\",\"\",COUNT($E$24:$E$452)-COUNT(E$452:$E701))","v":""}]
[null,{"$f":"IF(E701=\"\",\"\",COUNT($E$24:$E$452)-COUNT(E$452:$E702))","v":""}]
[null,{"$f":"IF(E702=\"\",\"\",COUNT($E$24:$E$452)-COUNT(E$452:$E703))","v":""}]
[null,{"$f":"IF(E703=\"\",\"\",COUNT($E$24:$E$452)-COUNT(E$452:$E704))","v":""}]
[null,{"$f":"IF(E704=\"\",\"\",COUNT($E$24:$E$452)-COUNT(E$452:$E705))","v":""}]
[null,{"$f":"IF(E705=\"\",\"\",COUNT($E$24:$E$452)-COUNT(E$452:$E706))","v":""}]
[null,{"$f":"IF(E706=\"\",\"\",COUNT($E$24:$E$452)-COUNT(E$452:$E707))","v":""}]
[null,{"$f":"IF(E707=\"\",\"\",COUNT($E$24:$E$452)-COUNT(E$452:$E708))","v":""}]

{"sheet":"Description_of_Changes","index":10,"n_rows":14,"n_cols":3,"rows_kept":14,"cut":false,"hidden":false,"merged":[]}
[null,"DO NOT REMOVE OR EDIT INFORMATION IN ROWS 1 THROUGH 5\nFOR INTERNAL USE ONLY"]
[null,"Template Name",{"$f":"+Welcome!B2","v":"63.9350(a) Semiannual Compliance Report (Spreadsheet Template)"}]
[null,"CitationID",{"$f":"+Welcome!B3","v":"63.9350(a)"}]
[null,"Template Version",{"$f":"+Welcome!B4","v":"v3.01"}]
[null,"Last Updated Date",{"$f":"+Welcome!B5","v":45391}]
[null,"Intentionally Blank"]
[null,"40 CFR Part 63, Subpart PPPPP National Emission Standards for Hazardous Air Pollutants for Engine Test Cells/Stands - "]
[null,"§63.9350(a)  Semiannual Compliance Report Spreadsheet Template"]
[null,"CPMS, CEMS, Processes, or Control Changes"]
[null,"A description of any changes in the CEMS, CPMS, or controls since the last semiannual reporting period."]
[null,"* Required Field"]
[null,"Company Record No. *\n(Select from dropdown)","Description of any changes in CEMS, CPMS, or controls which have occurred since the last reporting period \n(§63.9350(d)(10))"]
[null,"RecordId","PeriodChangeDesc"]
[null,"e.g.: 1"]

{"sheet":"Certification","index":11,"n_rows":33,"n_cols":3,"rows_kept":33,"cut":false,"hidden":false,"merged":[]}
[null,"DO NOT REMOVE OR EDIT INFORMATION IN ROWS 1 THROUGH 5\nFOR INTERNAL USE ONLY"]
[null,"Template Name",{"$f":"+Welcome!B2","v":"63.9350(a) Semiannual Compliance Report (Spreadsheet Template)"}]
[null,"CitationID",{"$f":"+Welcome!B3","v":"63.9350(a)"}]
[null,"Template Version",{"$f":"+Welcome!B4","v":"v3.01"}]
[null,"Last Updated Date",{"$f":"+Welcome!B5","v":45391}]
[]
[null,"40 CFR Part 63, Subpart PPPPP National Emission Standards for Hazardous Air Pollutants"]
[null," for Engine Test Cells/Stands - "]
[null,"§63.9350(a)  Semiannual Compliance Report Spreadsheet Template"]
[null,"Complete this form when you have completed the semiannual compliance report."]
[null,"* Required Field"]
[null,"Company Record No. *\n(Autocompleted)","Does the statement \"There were no deviations from the emission limit and no CEM or CPMS was out of control as specified in §63.8(c)(7) during this reporting period\" apply?  * §63.9350(b)(4) \n(Select from dropdown)"]
[null,"RecordId","DeviationControlFlag"]
[null,"e.g.: 1"]
[]
[]
[]
[]
[]
[]
[]
[]
[]
[]
[null,{"$f":"IF(Lists!H3=\"\",\"\",Lists!H3)","v":""}]
[null,{"$f":"IF(Lists!H4=\"\",\"\",Lists!H4)","v":""}]
[null,{"$f":"IF(Lists!H5=\"\",\"\",Lists!H5)","v":""}]
[null,{"$f":"IF(Lists!H6=\"\",\"\",Lists!H6)","v":""}]
[null,{"$f":"IF(Lists!H7=\"\",\"\",Lists!H7)","v":""}]
[null,{"$f":"IF(Lists!H8=\"\",\"\",Lists!H8)","v":""}]
[null,{"$f":"IF(Lists!H9=\"\",\"\",Lists!H9)","v":""}]
[null,{"$f":"IF(Lists!H10=\"\",\"\",Lists!H10)","v":""}]
[null,{"$f":"IF(Lists!H11=\"\",\"\",Lists!H11)","v":""}]

{"sheet":"Version","index":12,"n_rows":5,"n_cols":3,"rows_kept":5,"cut":false,"hidden":false,"merged":[]}
["Version Number","Date","Description"]
[1,43902,"Initial Release Version"]
[2,44019,"Inserted a column before column A on each data entry tab, added a Mapping worksheet, updated column headers to remove COMS throughout, Corrected Title on Summary_Report_EmissionLimits tab, Replaced CPMS on the CMS_Detail and Summary_Report_CMS tabs with CMS to clarify that CEMs and CPMS are included, added clarifying statement to the calculated duration column on CMS_Detail and Operating_Limits_Details, clarified the certifying statement on Certification, updated the Welcome page and CBI disclaimer, and corrected several spelling errors."]
[3,44032,"Corrected cells B24 of Company_Information, H24 of Emission_Limit_Details and I24 of CMS_Detail and Operating_Limits_Details, where the calculation was missing and Row 24 of Summary_Report_EmissionLimits, Summary_Report_CMS, and Summary_Report_Operating Limits which were also missing the formulas"]
[3.01,45391,"Updated Welcome tab"]

{"sheet":"Worksheet Map","index":13,"n_rows":11,"n_cols":5,"rows_kept":11,"cut":false,"hidden":true,"merged":[]}
["Worksheet Name","Parent","JSON Key","Parent Primary Key","Child Foreign Key"]
["Company_Information",null,"records"]
["Emission_Limits_Details","records","EmissionLimitsDetails","RecordId","RecordId"]
["Summary_Report_EmissionLimits","records","SummaryReportEmissionLimits","RecordId","RecordId"]
["CMS_Identification","records","CMSIdentification","RecordId","RecordId"]
["CMS_Detail","records","CMSDetail","RecordId","RecordId"]
["Summary_Report_CMS","records","SummaryReportCMS","RecordId","RecordId"]
["Operating_Limits_Details","records","OperatingLimitsDetails","RecordId","RecordId"]
["Summary_Report_OperatingLimits","records","SummaryReportOperatingLimits","RecordId","RecordId"]
["Description_of_Changes","records","DescriptionOfChanges","RecordId","RecordId"]
["Certification","records","Certification","RecordId","RecordId"]