{"text_format":"1","workbook":"xlsx","n_sheets":14,"sheets":["Welcome","Company_Information","Lists","CEM_COM_CPMS_Identification","CEM_COM_CPMS_Detail","CPMS_Summary_Report","Limits_Details","Limits_Summary_Report","Number_of_Deviations","Malfunction","Description_of_Changes","Certification","Revisions","Worksheet Map"],"not_rendered":{"charts":0,"images":1,"macros":1,"external_links":0,"defined_names":5,"comments":0,"pivot_tables":0},"unopened":[],"bounds":{"document_bytes":16777216,"sheet_cells":100000,"rows_first":2000,"rows_last":500,"rows_between":2000,"halvings":0,"cell_chars":16384,"cell_head_chars":4096},"cells_cut":0,"cells_raw":0,"read":"whole","date_system":"1900"}

{"sheet":"Welcome","index":0,"n_rows":13,"n_cols":16384,"rows_kept":13,"cut":false,"hidden":false,"merged":[],"flags":["row_too_large"]}
["DO NOT REMOVE OR EDIT INFORMATION IN ROWS 1 THROUGH 5\nFOR INTERNAL USE ONLY"]
["Template Name","63.8693(c) Semiannual Compliance Report (Spreadsheet Template)"]
["CitationID","63.8693(c)"]
["Template Version","v2.01"]
["Last Updated Date",45397]
["Blank","OMB Control No.: 2060-0520 "]
[null,"For further Paperwork Reduction Act information see:                                                                                                                                                                                                                                                                                                                                                                                                                                                                                                                                      https://www.epa.gov/electronic-reporting-air-emissions/paperwork-reduction-act-pra-cedri-and-ert"]
["Blank","40 CFR Part 63, Subpart LLLLL National Emission Standards for Hazardous Air Pollutants: Asphalt Processing and Asphalt Roofing Manufacturing - \n§63.8693(c)  Semiannual Compliance Report Spreadsheet Template"]
[null,"Instructions for Spreadsheet Template\n\nPurpose:\nThis spreadsheet template was designed by the U.S. EPA to facilitate Semiannual Compliance reporting for facilities subject under the 40 CFR part 63, subpart LLLLL National Emission Standard for Hazardous Air Pollutants: Asphalt Processing and Asphalt Roofing Manufacturing.  \n\nElectronic reporting:\nElectronic submission of Semiannual Compliance Reports through the EPA's Compliance and Emissions Data Reporting Interface (CEDRI) is required under §63.8693(b)(6). CEDRI is accessed through the EPA's Central Data Exchange (https://cdx.epa.gov).\n"]
["Blank","\nThe CEDRI spreadsheet template upload feature allows you to submit data in a single report for a single company or multiple companies, as well as multiple sites, using this EPA provided Excel workbook.  Data for each company must be entered into the worksheet labeled \"Company Information\" in this Excel workbook.  Each row in the \"Company Information\" worksheet includes the data for a single company/facility. The Company Record No. will be used to match the information on each tab to the appropriate company/facility. \n\nFor each facility record found in the \"Company Information\" worksheet, you may reference a single file attachment that includes additional information. "]
[{"$cut":{"chars":2175843,"head":""}}]
["Blank","IMPORTANT: The spreadsheet must be uploaded into CEDRI as a single ZIP file, which must include this Excel workbook and any related attachments that were referenced in the workbook (i.e., additional information file found in the \"Company Information\" worksheet).\n\nNote: If you are uploading file attachments for your report, the uploaded files may be in any format (e.g., zip, docx, PDF). If you would like to include an Excel file(s) as an attachment, you must first zip the excel file(s) into a separate ZIP file to the master ZIP file that will be uploaded into CEDRI.\n\nOnce all data have been entered in the worksheet, combine this Excel workbook and all attachment files (including any ZIP file containing separate excel file(s), if applicable) into a single ZIP file for upload to CEDRI.\n\nPlease ensure your report includes all of the required data elements found in the listed citations for this spreadsheet upload submission."]
["Blank","Template Navigation and Tabs to Complete:\nGray Tabs:  The gray tab (Company_Information) contains general information that is likely to be minimally changed from report to report, this tab does contain reporting dates which must be changed from report to report.  After completing the gray tab, the workbook may be saved as a site specific template for use in subsequent reporting to minimize data entry.  \n\nGreen Tabs:  Green tabs (CEM_COM_CPMS_Identification, CEM_COM_CPMS_Detail, CPMS_Summary_Report, Limits_Detail, Limits_Summary_Report, Malfunction, and Certification) are to be completed as necessary to complete the Semiannual report. Some cells are linked to previous tabs, are calculations dependent upon data entry, or contain dynamic dropdown menus which will only be accessible if the preceding sheets are completed. The Number_of_Deviations tab is autocompleted based upon entry in the Limits_Details tab. \n\nThe Certification tab must be completed for every report.\n\nWithin the tabs, example rows are colored light red (rows 14 through 23), and the XML tags (row 13) are colored green.  These rows are locked; no data entry is made in these rows. Cells with calculated values are locked and are colored a light pink."]

{"sheet":"Company_Information","index":1,"n_rows":33,"n_cols":15,"rows_kept":33,"cut":false,"hidden":false,"merged":[]}
[null,"DO NOT REMOVE OR EDIT INFORMATION IN ROWS 1 THROUGH 5\nFOR INTERNAL USE ONLY"]
[null,"Template Name",{"$f":"+Welcome!B2","v":"63.8693(c) Semiannual Compliance Report (Spreadsheet Template)"}]
[null,"CitationID",{"$f":"+Welcome!B3","v":"63.8693(c)"}]
[null,"Template Version",{"$f":"+Welcome!B4","v":"v2.01"}]
[null,"Last Updated Date",{"$f":"+Welcome!B5","v":45397}]
[]
[null,"40 CFR Part 63, Subpart LLLLL National Emission Standards for Hazardous Air Pollutants: Asphalt Processing and Asphalt Roofing Manufacturing - "]
[null,"§63.8693(c) Semiannual Compliance Report Spreadsheet Template"]
[]
[null,"* Required Field"]
[null,null,"SITE INFORMATION",null,null,null,null,null,null,null,"REPORTING PERIOD",null,null,"ADDITIONAL INFORMATION"]
[null,"Company Record No. *\n(Field value will automatically generate if a value is not entered.)","Company Name * \n(§63.8693(c)(1))","Address * \n(§63.8693(c)(1))","Address 2 ","City *\n(§63.8693(c)(1))","County","State Abbreviation *\n(§63.8693(c)(1))","Zip Code *\n(§63.8693(c)(1))","Responsible Agency Facility ID \n(State Facility Identifier)","Date of Report *\n(§63.8693(c)(3))","Beginning Date of Reporting Period  *\n(§63.8693(c)(3))","Ending Date of\n Reporting Period*\n(§63.8693(c)(3))","Please enter any additional information.","Enter associated file name reference. "]
[null,"RecordId","CompanyName","AddressLine1","AddressLine2","CityName","CountyName","StateName","ZIPCode","StateFacID","ReportDate","PeriodStartDate","PeriodEndDate","AddInfo","AddFile"]
[null,"e.g.: 1","e.g.: ABC Company","e.g.: 123 Main Street","e.g.: Suite 100","e.g.: Brooklyn","e.g.: Kings","e.g.: NY","e.g.: 11221","e.g.: 9145555555","e.g.: 7/15/2017","e.g.: 01/01/2017","e.g.: 6/30/2017",null,"e.g.: addlinfo.zip "]
[]
[]
[]
[]
[]
[]
[]
[]
[]
[null,{"$f":"IF(C24=\"\",\"\",MAX($B$23:B23)+1)","v":""}]
[null,{"$f":"IF(C25=\"\",\"\",MAX($B$23:B24)+1)","v":""}]
[null,{"$f":"IF(C26=\"\",\"\",MAX($B$23:B25)+1)","v":""}]
[null,{"$f":"IF(C27=\"\",\"\",MAX($B$23:B26)+1)","v":""}]
[null,{"$f":"IF(C28=\"\",\"\",MAX($B$23:B27)+1)","v":""}]
[null,{"$f":"IF(C29=\"\",\"\",MAX($B$23:B28)+1)","v":""}]
[null,{"$f":"IF(C30=\"\",\"\",MAX($B$23:B29)+1)","v":""}]
[null,{"$f":"IF(C31=\"\",\"\",MAX($B$23:B30)+1)","v":""}]
[null,{"$f":"IF(C32=\"\",\"\",MAX($B$23:B31)+1)","v":""}]
[null,{"$f":"IF(C33=\"\",\"\",MAX($B$23:B32)+1)","v":""}]

{"sheet":"Lists","index":2,"n_rows":500,"n_cols":47,"rows_kept":500,"cut":false,"hidden":true,"merged":[]}
["Rank","Name","Unitlist","Column1",null,"Column2","Column1","Companylist","Column3",null,"Rank","Cem","CEMName","Column1",null,"CMSCauseList",null,"Limits","Column5","Column1","Column2","Column3","Column4","Column42","Column43",null,"States",null,"Index","Company Name","Process Unit","Limit","Unique Name","Count","Sorted Company Name","Sorted Process Unit","Sorted Limit",null,"Index","Company Name","Process Unit","CEM","Unique Name","Count","Sorted Company Name","Sorted Process Unit","Sorted CEM"]
[{"$f":"+IF(D2=\"\",\"\",MAX(A1:A$1)+1)","v":""},{"$f":"IF(CEM_COM_CPMS_Identification!C24=\"\",\"\",CEM_COM_CPMS_Identification!C24)","v":""},{"$f":"+IFERROR(INDEX(B$2:B$501,MATCH(ROW()-ROW($C$1),A$2:A$501,0)),\"\")","v":""},{"$f":"IF(COUNTIF(B$2:B2,B2)=1,B2,\"\")","v":""},null,{"$f":"+IF(I2=\"\",\"\",MAX(F1:F$1)+1)","v":""},{"$f":"+IF(Company_Information!B24=\"\",\"\",Company_Information!B24)","v":""},{"$f":"+IFERROR(INDEX(G$2:G$501,MATCH(ROW()-ROW($H$1),F$2:F$501,0)),\"\")","v":""},{"$f":"IF(COUNTIF(G$2:G2,G2)=1,G2,\"\")","v":""},null,{"$f":"+IF(N2=\"\",\"\",MAX(K1:K$1)+1)","v":""},{"$f":"IF(CEM_COM_CPMS_Identification!D24=\"\",\"\",CEM_COM_CPMS_Identification!D24)","v":""},{"$f":"+IFERROR(INDEX(L$2:L$501,MATCH(ROW()-ROW($M$1),K$2:K$501,0)),\"\")","v":""},{"$f":"IF(COUNTIF(L$2:L2,L2)=1,L2,\"\")","v":""},null,"Monitoring Equipment Malfunctions",null,"Total Hydrocarbons Emissions",{"$f":"+IF(W2=\"\",\"\",MAX(S1:S$1)+1)","v":""},{"$f":"IF(Limits_Details!$B24=\"\",\"\",Limits_Details!$B24)","v":""},{"$f":"IF(Limits_Details!$C24=\"\",\"\",Limits_Details!$C24)","v":""},{"$f":"T2&U2","v":""},{"$f":"IF(COUNTIF(V$2:V2,V2)=1,V2,\"\")","v":""},{"$f":"+IFERROR(INDEX(T$2:T$955,MATCH(ROW()-ROW(X$1),S$2:S$955,0)),\"\")","v":""},{"$f":"+IFERROR(INDEX(U$2:U$955,MATCH(ROW()-ROW(X$1),S$2:S$955,0)),\"\")","v":""},null,"AK",null,{"$f":"+IF(AH2=\"\",\"\",MAX(AC1:AC$1)+1)","v":""},{"$f":"IF(Limits_Details!$B24=\"\",\"\",Limits_Details!$B24)","v":""},{"$f":"IF(Limits_Details!$C24=\"\",\"\",Limits_Details!$C24)","v":""},{"$f":"IF(Limits_Details!$D24=\"\",\"\",Limits_Details!$D24)","v":""},{"$f":"AD2&AE2&AF2","v":""},{"$f":"IF(COUNTIF(AG$2:AG2,AG2)=1,AG2,\"\")","v":""},{"$f":"+IFERROR(INDEX(AD$2:AD$955,MATCH(ROW()-ROW(AH$1),AC$2:AC$955,0)),\"\")","v":""},{"$f":"+IFERROR(INDEX(AE$2:AE$955,MATCH(ROW()-ROW(AH$1),AC$2:AC$955,0)),\"\")","v":""},{"$f":"+IFERROR(INDEX(AF$2:AF$955,MATCH(ROW()-ROW(AI$1),AC$2:AC$955,0)),\"\")","v":""},null,{"$f":"+IF(AR2=\"\",\"\",MAX(AM1:AM$1)+1)","v":""},{"$f":"IF(CEM_COM_CPMS_Detail!$B24=\"\",\"\",CEM_COM_CPMS_Detail!$B24)","v":""},{"$f":"IF(CEM_COM_CPMS_Detail!$C24=\"\",\"\",CEM_COM_CPMS_Detail!$C24)","v":""},{"$f":"IF(CEM_COM_CPMS_Detail!$D24=\"\",\"\",CEM_COM_CPMS_Detail!$D24)","v":""},{"$f":"AN2&AO2&AP2","v":""},{"$f":"IF(COUNTIF(AQ$2:AQ2,AQ2)=1,AQ2,\"\")","v":""},{"$f":"+IFERROR(INDEX(AN$2:AN$955,MATCH(ROW()-ROW(AR$1),AM$2:AM$955,0)),\"\")","v":""},{"$f":"+IFERROR(INDEX(AO$2:AO$955,MATCH(ROW()-ROW(AR$1),AM$2:AM$955,0)),\"\")","v":""},{"$f":"+IFERROR(INDEX(AP$2:AP$955,MATCH(ROW()-ROW(AS$1),AM$2:AM$955,0)),\"\")","v":""}]
[{"$f":"+IF(D3=\"\",\"\",MAX(A$1:A2)+1)","v":""},{"$f":"IF(CEM_COM_CPMS_Identification!C25=\"\",\"\",CEM_COM_CPMS_Identification!C25)","v":""},"",{"$f":"IF(COUNTIF(B$2:B3,B3)=1,B3,\"\")","v":""},null,{"$f":"+IF(I3=\"\",\"\",MAX(F$1:F2)+1)","v":""},{"$f":"+IF(Company_Information!B25=\"\",\"\",Company_Information!B25)","v":""},"",{"$f":"IF(COUNTIF(G$2:G3,G3)=1,G3,\"\")","v":""},null,{"$f":"+IF(N3=\"\",\"\",MAX(K$1:K2)+1)","v":""},{"$f":"IF(CEM_COM_CPMS_Identification!D25=\"\",\"\",CEM_COM_CPMS_Identification!D25)","v":""},{"$f":"+IFERROR(INDEX(L$2:L$501,MATCH(ROW()-ROW($M$1),K$2:K$501,0)),\"\")","v":""},{"$f":"IF(COUNTIF(L$2:L3,L3)=1,L3,\"\")","v":""},null,"Nonmonitoring Equipment Malfunctions",null,"Bypass of Control Device",{"$f":"+IF(W3=\"\",\"\",MAX(S$1:S2)+1)","v":""},{"$f":"IF(Limits_Details!$B25=\"\",\"\",Limits_Details!$B25)","v":""},{"$f":"IF(Limits_Details!$C25=\"\",\"\",Limits_Details!$C25)","v":""},{"$f":"T3&U3","v":""},{"$f":"IF(COUNTIF(V$2:V3,V3)=1,V3,\"\")","v":""},"","",null,"AL",null,{"$f":"+IF(AH3=\"\",\"\",MAX(AC$1:AC2)+1)","v":""},{"$f":"IF(Limits_Details!$B25=\"\",\"\",Limits_Details!$B25)","v":""},{"$f":"IF(Limits_Details!$C25=\"\",\"\",Limits_Details!$C25)","v":""},{"$f":"IF(Limits_Details!$D25=\"\",\"\",Limits_Details!$D25)","v":""},{"$f":"AD3&AE3&AF3","v":""},{"$f":"IF(COUNTIF(AG$2:AG3,AG3)=1,AG3,\"\")","v":""},{"$f":"+IFERROR(INDEX(AD$2:AD$955,MATCH(ROW()-ROW(AH$1),AC$2:AC$955,0)),\"\")","v":""},{"$f":"+IFERROR(INDEX(AE$2:AE$955,MATCH(ROW()-ROW(AH$1),AC$2:AC$955,0)),\"\")","v":""},{"$f":"+IFERROR(INDEX(AF$2:AF$955,MATCH(ROW()-ROW(AI$1),AC$2:AC$955,0)),\"\")","v":""},null,{"$f":"+IF(AR3=\"\",\"\",MAX(AM$1:AM2)+1)","v":""},{"$f":"IF(CEM_COM_CPMS_Detail!$B25=\"\",\"\",CEM_COM_CPMS_Detail!$B25)","v":""},{"$f":"IF(CEM_COM_CPMS_Detail!$C25=\"\",\"\",CEM_COM_CPMS_Detail!$C25)","v":""},{"$f":"IF(CEM_COM_CPMS_Detail!$D25=\"\",\"\",CEM_COM_CPMS_Detail!$D25)","v":""},{"$f":"AN3&AO3&AP3","v":""},{"$f":"IF(COUNTIF(AQ$2:AQ3,AQ3)=1,AQ3,\"\")","v":""},{"$f":"+IFERROR(INDEX(AN$2:AN$955,MATCH(ROW()-ROW(AR$1),AM$2:AM$955,0)),\"\")","v":""},{"$f":"+IFERROR(INDEX(AO$2:AO$955,MATCH(ROW()-ROW(AR$1),AM$2:AM$955,0)),\"\")","v":""},{"$f":"+IFERROR(INDEX(AP$2:AP$955,MATCH(ROW()-ROW(AS$1),AM$2:AM$955,0)),\"\")","v":""}]
[{"$f":"+IF(D4=\"\",\"\",MAX(A$1:A3)+1)","v":""},{"$f":"IF(CEM_COM_CPMS_Identification!C26=\"\",\"\",CEM_COM_CPMS_Identification!C26)","v":""},"",{"$f":"IF(COUNTIF(B$2:B4,B4)=1,B4,\"\")","v":""},null,{"$f":"+IF(I4=\"\",\"\",MAX(F$1:F3)+1)","v":""},{"$f":"+IF(Company_Information!B26=\"\",\"\",Company_Information!B26)","v":""},"",{"$f":"IF(COUNTIF(G$2:G4,G4)=1,G4,\"\")","v":""},null,{"$f":"+IF(N4=\"\",\"\",MAX(K$1:K3)+1)","v":""},{"$f":"IF(CEM_COM_CPMS_Identification!D26=\"\",\"\",CEM_COM_CPMS_Identification!D26)","v":""},"",{"$f":"IF(COUNTIF(L$2:L4,L4)=1,L4,\"\")","v":""},null,"Quality Assurance/Quality Control Calibrations",null,"Particulate Matter Emissions",{"$f":"+IF(W4=\"\",\"\",MAX(S$1:S3)+1)","v":""},{"$f":"IF(Limits_Details!$B26=\"\",\"\",Limits_Details!$B26)","v":""},{"$f":"IF(Limits_Details!$C26=\"\",\"\",Limits_Details!$C26)","v":""},"",{"$f":"IF(COUNTIF(V$2:V4,V4)=1,V4,\"\")","v":""},"","",null,"AR",null,{"$f":"+IF(AH4=\"\",\"\",MAX(AC$1:AC3)+1)","v":""},{"$f":"IF(Limits_Details!$B26=\"\",\"\",Limits_Details!$B26)","v":""},{"$f":"IF(Limits_Details!$C26=\"\",\"\",Limits_Details!$C26)","v":""},{"$f":"IF(Limits_Details!$D26=\"\",\"\",Limits_Details!$D26)","v":""},"",{"$f":"IF(COUNTIF(AG$2:AG4,AG4)=1,AG4,\"\")","v":""},"","","",null,{"$f":"+IF(AR4=\"\",\"\",MAX(AM$1:AM3)+1)","v":""},{"$f":"IF(CEM_COM_CPMS_Detail!$B26=\"\",\"\",CEM_COM_CPMS_Detail!$B26)","v":""},{"$f":"IF(CEM_COM_CPMS_Detail!$C26=\"\",\"\",CEM_COM_CPMS_Detail!$C26)","v":""},{"$f":"IF(CEM_COM_CPMS_Detail!$D26=\"\",\"\",CEM_COM_CPMS_Detail!$D26)","v":""},"",{"$f":"IF(COUNTIF(AQ$2:AQ4,AQ4)=1,AQ4,\"\")","v":""},"","",""]
[{"$f":"+IF(D5=\"\",\"\",MAX(A$1:A4)+1)","v":""},{"$f":"IF(CEM_COM_CPMS_Identification!C27=\"\",\"\",CEM_COM_CPMS_Identification!C27)","v":""},"",{"$f":"IF(COUNTIF(B$2:B5,B5)=1,B5,\"\")","v":""},null,{"$f":"+IF(I5=\"\",\"\",MAX(F$1:F4)+1)","v":""},{"$f":"+IF(Company_Information!B27=\"\",\"\",Company_Information!B27)","v":""},"",{"$f":"IF(COUNTIF(G$2:G5,G5)=1,G5,\"\")","v":""},null,{"$f":"+IF(N5=\"\",\"\",MAX(K$1:K4)+1)","v":""},{"$f":"IF(CEM_COM_CPMS_Identification!D27=\"\",\"\",CEM_COM_CPMS_Identification!D27)","v":""},"",{"$f":"IF(COUNTIF(L$2:L5,L5)=1,L5,\"\")","v":""},null,"Other Known Causes (Type Here)",null,"Opacity",{"$f":"+IF(W5=\"\",\"\",MAX(S$1:S4)+1)","v":""},{"$f":"IF(Limits_Details!$B27=\"\",\"\",Limits_Details!$B27)","v":""},{"$f":"IF(Limits_Details!$C27=\"\",\"\",Limits_Details!$C27)","v":""},"",{"$f":"IF(COUNTIF(V$2:V5,V5)=1,V5,\"\")","v":""},"","",null,"AS",null,{"$f":"+IF(AH5=\"\",\"\",MAX(AC$1:AC4)+1)","v":""},{"$f":"IF(Limits_Details!$B27=\"\",\"\",Limits_Details!$B27)","v":""},{"$f":"IF(Limits_Details!$C27=\"\",\"\",Limits_Details!$C27)","v":""},{"$f":"IF(Limits_Details!$D27=\"\",\"\",Limits_Details!$D27)","v":""},"",{"$f":"IF(COUNTIF(AG$2:AG5,AG5)=1,AG5,\"\")","v":""},"","","",null,{"$f":"+IF(AR5=\"\",\"\",MAX(AM$1:AM4)+1)","v":""},{"$f":"IF(CEM_COM_CPMS_Detail!$B27=\"\",\"\",CEM_COM_CPMS_Detail!$B27)","v":""},{"$f":"IF(CEM_COM_CPMS_Detail!$C27=\"\",\"\",CEM_COM_CPMS_Detail!$C27)","v":""},{"$f":"IF(CEM_COM_CPMS_Detail!$D27=\"\",\"\",CEM_COM_CPMS_Detail!$D27)","v":""},"",{"$f":"IF(COUNTIF(AQ$2:AQ5,AQ5)=1,AQ5,\"\")","v":""},"","",""]
[{"$f":"+IF(D6=\"\",\"\",MAX(A$1:A5)+1)","v":""},{"$f":"IF(CEM_COM_CPMS_Identification!C28=\"\",\"\",CEM_COM_CPMS_Identification!C28)","v":""},"",{"$f":"IF(COUNTIF(B$2:B6,B6)=1,B6,\"\")","v":""},null,{"$f":"+IF(I6=\"\",\"\",MAX(F$1:F5)+1)","v":""},{"$f":"+IF(Company_Information!B28=\"\",\"\",Company_Information!B28)","v":""},"",{"$f":"IF(COUNTIF(G$2:G6,G6)=1,G6,\"\")","v":""},null,{"$f":"+IF(N6=\"\",\"\",MAX(K$1:K5)+1)","v":""},{"$f":"IF(CEM_COM_CPMS_Identification!D28=\"\",\"\",CEM_COM_CPMS_Identification!D28)","v":""},"",{"$f":"IF(COUNTIF(L$2:L6,L6)=1,L6,\"\")","v":""},null,"Other Unknown Causes",null,"Combustion Zone Temperature",{"$f":"+IF(W6=\"\",\"\",MAX(S$1:S5)+1)","v":""},{"$f":"IF(Limits_Details!$B28=\"\",\"\",Limits_Details!$B28)","v":""},{"$f":"IF(Limits_Details!$C28=\"\",\"\",Limits_Details!$C28)","v":""},"",{"$f":"IF(COUNTIF(V$2:V6,V6)=1,V6,\"\")","v":""},"","",null,"AZ",null,{"$f":"+IF(AH6=\"\",\"\",MAX(AC$1:AC5)+1)","v":""},{"$f":"IF(Limits_Details!$B28=\"\",\"\",Limits_Details!$B28)","v":""},{"$f":"IF(Limits_Details!$C28=\"\",\"\",Limits_Details!$C28)","v":""},{"$f":"IF(Limits_Details!$D28=\"\",\"\",Limits_Details!$D28)","v":""},"",{"$f":"IF(COUNTIF(AG$2:AG6,AG6)=1,AG6,\"\")","v":""},"","","",null,{"$f":"+IF(AR6=\"\",\"\",MAX(AM$1:AM5)+1)","v":""},{"$f":"IF(CEM_COM_CPMS_Detail!$B28=\"\",\"\",CEM_COM_CPMS_Detail!$B28)","v":""},{"$f":"IF(CEM_COM_CPMS_Detail!$C28=\"\",\"\",CEM_COM_CPMS_Detail!$C28)","v":""},{"$f":"IF(CEM_COM_CPMS_Detail!$D28=\"\",\"\",CEM_COM_CPMS_Detail!$D28)","v":""},"",{"$f":"IF(COUNTIF(AQ$2:AQ6,AQ6)=1,AQ6,\"\")","v":""},"","",""]
[{"$f":"+IF(D7=\"\",\"\",MAX(A$1:A6)+1)","v":""},{"$f":"IF(CEM_COM_CPMS_Identification!C29=\"\",\"\",CEM_COM_CPMS_Identification!C29)","v":""},"",{"$f":"IF(COUNTIF(B$2:B7,B7)=1,B7,\"\")","v":""},null,{"$f":"+IF(I7=\"\",\"\",MAX(F$1:F6)+1)","v":""},{"$f":"+IF(Company_Information!B29=\"\",\"\",Company_Information!B29)","v":""},"",{"$f":"IF(COUNTIF(G$2:G7,G7)=1,G7,\"\")","v":""},null,{"$f":"+IF(N7=\"\",\"\",MAX(K$1:K6)+1)","v":""},{"$f":"IF(CEM_COM_CPMS_Identification!D29=\"\",\"\",CEM_COM_CPMS_Identification!D29)","v":""},"",{"$f":"IF(COUNTIF(L$2:L7,L7)=1,L7,\"\")","v":""},null,null,null,"PM Control Device Inlet Gas Temperature ",{"$f":"+IF(W7=\"\",\"\",MAX(S$1:S6)+1)","v":""},{"$f":"IF(Limits_Details!$B29=\"\",\"\",Limits_Details!$B29)","v":""},{"$f":"IF(Limits_Details!$C29=\"\",\"\",Limits_Details!$C29)","v":""},"",{"$f":"IF(COUNTIF(V$2:V7,V7)=1,V7,\"\")","v":""},"","",null,"CA",null,{"$f":"+IF(AH7=\"\",\"\",MAX(AC$1:AC6)+1)","v":""},{"$f":"IF(Limits_Details!$B29=\"\",\"\",Limits_Details!$B29)","v":""},{"$f":"IF(Limits_Details!$C29=\"\",\"\",Limits_Details!$C29)","v":""},{"$f":"IF(Limits_Details!$D29=\"\",\"\",Limits_Details!$D29)","v":""},"",{"$f":"IF(COUNTIF(AG$2:AG7,AG7)=1,AG7,\"\")","v":""},"","","",null,{"$f":"+IF(AR7=\"\",\"\",MAX(AM$1:AM6)+1)","v":""},{"$f":"IF(CEM_COM_CPMS_Detail!$B29=\"\",\"\",CEM_COM_CPMS_Detail!$B29)","v":""},{"$f":"IF(CEM_COM_CPMS_Detail!$C29=\"\",\"\",CEM_COM_CPMS_Detail!$C29)","v":""},{"$f":"IF(CEM_COM_CPMS_Detail!$D29=\"\",\"\",CEM_COM_CPMS_Detail!$D29)","v":""},"",{"$f":"IF(COUNTIF(AQ$2:AQ7,AQ7)=1,AQ7,\"\")","v":""},"","",""]
[{"$f":"+IF(D8=\"\",\"\",MAX(A$1:A7)+1)","v":""},{"$f":"IF(CEM_COM_CPMS_Identification!C30=\"\",\"\",CEM_COM_CPMS_Identification!C30)","v":""},"",{"$f":"IF(COUNTIF(B$2:B8,B8)=1,B8,\"\")","v":""},null,{"$f":"+IF(I8=\"\",\"\",MAX(F$1:F7)+1)","v":""},{"$f":"+IF(Company_Information!B30=\"\",\"\",Company_Information!B30)","v":""},"",{"$f":"IF(COUNTIF(G$2:G8,G8)=1,G8,\"\")","v":""},null,{"$f":"+IF(N8=\"\",\"\",MAX(K$1:K7)+1)","v":""},{"$f":"IF(CEM_COM_CPMS_Identification!D30=\"\",\"\",CEM_COM_CPMS_Identification!D30)","v":""},"",{"$f":"IF(COUNTIF(L$2:L8,L8)=1,L8,\"\")","v":""},null,null,null,"PM Control Device Pressure Drop",{"$f":"+IF(W8=\"\",\"\",MAX(S$1:S7)+1)","v":""},{"$f":"IF(Limits_Details!$B30=\"\",\"\",Limits_Details!$B30)","v":""},{"$f":"IF(Limits_Details!$C30=\"\",\"\",Limits_Details!$C30)","v":""},"",{"$f":"IF(COUNTIF(V$2:V8,V8)=1,V8,\"\")","v":""},"","",null,"CO",null,{"$f":"+IF(AH8=\"\",\"\",MAX(AC$1:AC7)+1)","v":""},{"$f":"IF(Limits_Details!$B30=\"\",\"\",Limits_Details!$B30)","v":""},{"$f":"IF(Limits_Details!$C30=\"\",\"\",Limits_Details!$C30)","v":""},{"$f":"IF(Limits_Details!$D30=\"\",\"\",Limits_Details!$D30)","v":""},"",{"$f":"IF(COUNTIF(AG$2:AG8,AG8)=1,AG8,\"\")","v":""},"","","",null,{"$f":"+IF(AR8=\"\",\"\",MAX(AM$1:AM7)+1)","v":""},{"$f":"IF(CEM_COM_CPMS_Detail!$B30=\"\",\"\",CEM_COM_CPMS_Detail!$B30)","v":""},{"$f":"IF(CEM_COM_CPMS_Detail!$C30=\"\",\"\",CEM_COM_CPMS_Detail!$C30)","v":""},{"$f":"IF(CEM_COM_CPMS_Detail!$D30=\"\",\"\",CEM_COM_CPMS_Detail!$D30)","v":""},"",{"$f":"IF(COUNTIF(AQ$2:AQ8,AQ8)=1,AQ8,\"\")","v":""},"","",""]
[{"$f":"+IF(D9=\"\",\"\",MAX(A$1:A8)+1)","v":""},{"$f":"IF(CEM_COM_CPMS_Identification!C31=\"\",\"\",CEM_COM_CPMS_Identification!C31)","v":""},"",{"$f":"IF(COUNTIF(B$2:B9,B9)=1,B9,\"\")","v":""},null,{"$f":"+IF(I9=\"\",\"\",MAX(F$1:F8)+1)","v":""},{"$f":"+IF(Company_Information!B31=\"\",\"\",Company_Information!B31)","v":""},"",{"$f":"IF(COUNTIF(G$2:G9,G9)=1,G9,\"\")","v":""},null,{"$f":"+IF(N9=\"\",\"\",MAX(K$1:K8)+1)","v":""},{"$f":"IF(CEM_COM_CPMS_Identification!D31=\"\",\"\",CEM_COM_CPMS_Identification!D31)","v":""},"",{"$f":"IF(COUNTIF(L$2:L9,L9)=1,L9,\"\")","v":""},null,null,null,"Other Control Device Operating Parameter",{"$f":"+IF(W9=\"\",\"\",MAX(S$1:S8)+1)","v":""},{"$f":"IF(Limits_Details!$B31=\"\",\"\",Limits_Details!$B31)","v":""},{"$f":"IF(Limits_Details!$C31=\"\",\"\",Limits_Details!$C31)","v":""},"",{"$f":"IF(COUNTIF(V$2:V9,V9)=1,V9,\"\")","v":""},"","",null,"CT",null,{"$f":"+IF(AH9=\"\",\"\",MAX(AC$1:AC8)+1)","v":""},{"$f":"IF(Limits_Details!$B31=\"\",\"\",Limits_Details!$B31)","v":""},{"$f":"IF(Limits_Details!$C31=\"\",\"\",Limits_Details!$C31)","v":""},{"$f":"IF(Limits_Details!$D31=\"\",\"\",Limits_Details!$D31)","v":""},"",{"$f":"IF(COUNTIF(AG$2:AG9,AG9)=1,AG9,\"\")","v":""},"","","",null,{"$f":"+IF(AR9=\"\",\"\",MAX(AM$1:AM8)+1)","v":""},{"$f":"IF(CEM_COM_CPMS_Detail!$B31=\"\",\"\",CEM_COM_CPMS_Detail!$B31)","v":""},{"$f":"IF(CEM_COM_CPMS_Detail!$C31=\"\",\"\",CEM_COM_CPMS_Detail!$C31)","v":""},{"$f":"IF(CEM_COM_CPMS_Detail!$D31=\"\",\"\",CEM_COM_CPMS_Detail!$D31)","v":""},"",{"$f":"IF(COUNTIF(AQ$2:AQ9,AQ9)=1,AQ9,\"\")","v":""},"","",""]
[{"$f":"+IF(D10=\"\",\"\",MAX(A$1:A9)+1)","v":""},{"$f":"IF(CEM_COM_CPMS_Identification!C32=\"\",\"\",CEM_COM_CPMS_Identification!C32)","v":""},"",{"$f":"IF(COUNTIF(B$2:B10,B10)=1,B10,\"\")","v":""},null,{"$f":"+IF(I10=\"\",\"\",MAX(F$1:F9)+1)","v":""},{"$f":"+IF(Company_Information!B32=\"\",\"\",Company_Information!B32)","v":""},"",{"$f":"IF(COUNTIF(G$2:G10,G10)=1,G10,\"\")","v":""},null,{"$f":"+IF(N10=\"\",\"\",MAX(K$1:K9)+1)","v":""},{"$f":"IF(CEM_COM_CPMS_Identification!D32=\"\",\"\",CEM_COM_CPMS_Identification!D32)","v":""},"",{"$f":"IF(COUNTIF(L$2:L10,L10)=1,L10,\"\")","v":""},null,null,null,null,{"$f":"+IF(W10=\"\",\"\",MAX(S$1:S9)+1)","v":""},{"$f":"IF(Limits_Details!$B32=\"\",\"\",Limits_Details!$B32)","v":""},{"$f":"IF(Limits_Details!$C32=\"\",\"\",Limits_Details!$C32)","v":""},"",{"$f":"IF(COUNTIF(V$2:V10,V10)=1,V10,\"\")","v":""},"","",null,"DC",null,{"$f":"+IF(AH10=\"\",\"\",MAX(AC$1:AC9)+1)","v":""},{"$f":"IF(Limits_Details!$B32=\"\",\"\",Limits_Details!$B32)","v":""},{"$f":"IF(Limits_Details!$C32=\"\",\"\",Limits_Details!$C32)","v":""},{"$f":"IF(Limits_Details!$D32=\"\",\"\",Limits_Details!$D32)","v":""},"",{"$f":"IF(COUNTIF(AG$2:AG10,AG10)=1,AG10,\"\")","v":""},"","","",null,{"$f":"+IF(AR10=\"\",\"\",MAX(AM$1:AM9)+1)","v":""},{"$f":"IF(CEM_COM_CPMS_Detail!$B32=\"\",\"\",CEM_COM_CPMS_Detail!$B32)","v":""},{"$f":"IF(CEM_COM_CPMS_Detail!$C32=\"\",\"\",CEM_COM_CPMS_Detail!$C32)","v":""},{"$f":"IF(CEM_COM_CPMS_Detail!$D32=\"\",\"\",CEM_COM_CPMS_Detail!$D32)","v":""},"",{"$f":"IF(COUNTIF(AQ$2:AQ10,AQ10)=1,AQ10,\"\")","v":""},"","",""]
[{"$f":"+IF(D11=\"\",\"\",MAX(A$1:A10)+1)","v":""},{"$f":"IF(CEM_COM_CPMS_Identification!C33=\"\",\"\",CEM_COM_CPMS_Identification!C33)","v":""},"",{"$f":"IF(COUNTIF(B$2:B11,B11)=1,B11,\"\")","v":""},null,{"$f":"+IF(I11=\"\",\"\",MAX(F$1:F10)+1)","v":""},{"$f":"+IF(Company_Information!B33=\"\",\"\",Company_Information!B33)","v":""},"",{"$f":"IF(COUNTIF(G$2:G11,G11)=1,G11,\"\")","v":""},null,{"$f":"+IF(N11=\"\",\"\",MAX(K$1:K10)+1)","v":""},{"$f":"IF(CEM_COM_CPMS_Identification!D33=\"\",\"\",CEM_COM_CPMS_Identification!D33)","v":""},"",{"$f":"IF(COUNTIF(L$2:L11,L11)=1,L11,\"\")","v":""},null,null,null,null,{"$f":"+IF(W11=\"\",\"\",MAX(S$1:S10)+1)","v":""},{"$f":"IF(Limits_Details!$B33=\"\",\"\",Limits_Details!$B33)","v":""},{"$f":"IF(Limits_Details!$C33=\"\",\"\",Limits_Details!$C33)","v":""},"",{"$f":"IF(COUNTIF(V$2:V11,V11)=1,V11,\"\")","v":""},"","",null,"DE",null,{"$f":"+IF(AH11=\"\",\"\",MAX(AC$1:AC10)+1)","v":""},{"$f":"IF(Limits_Details!$B33=\"\",\"\",Limits_Details!$B33)","v":""},{"$f":"IF(Limits_Details!$C33=\"\",\"\",Limits_Details!$C33)","v":""},{"$f":"IF(Limits_Details!$D33=\"\",\"\",Limits_Details!$D33)","v":""},"",{"$f":"IF(COUNTIF(AG$2:AG11,AG11)=1,AG11,\"\")","v":""},"","","",null,{"$f":"+IF(AR11=\"\",\"\",MAX(AM$1:AM10)+1)","v":""},{"$f":"IF(CEM_COM_CPMS_Detail!$B33=\"\",\"\",CEM_COM_CPMS_Detail!$B33)","v":""},{"$f":"IF(CEM_COM_CPMS_Detail!$C33=\"\",\"\",CEM_COM_CPMS_Detail!$C33)","v":""},{"$f":"IF(CEM_COM_CPMS_Detail!$D33=\"\",\"\",CEM_COM_CPMS_Detail!$D33)","v":""},"",{"$f":"IF(COUNTIF(AQ$2:AQ11,AQ11)=1,AQ11,\"\")","v":""},"","",""]
[{"$f":"+IF(D12=\"\",\"\",MAX(A$1:A11)+1)","v":""},{"$f":"IF(CEM_COM_CPMS_Identification!C34=\"\",\"\",CEM_COM_CPMS_Identification!C34)","v":""},"",{"$f":"IF(COUNTIF(B$2:B12,B12)=1,B12,\"\")","v":""},null,null,null,null,null,null,{"$f":"+IF(N12=\"\",\"\",MAX(K$1:K11)+1)","v":""},{"$f":"IF(CEM_COM_CPMS_Identification!D34=\"\",\"\",CEM_COM_CPMS_Identification!D34)","v":""},"",{"$f":"IF(COUNTIF(L$2:L12,L12)=1,L12,\"\")","v":""},null,null,null,null,{"$f":"+IF(W12=\"\",\"\",MAX(S$1:S11)+1)","v":""},{"$f":"IF(Limits_Details!$B34=\"\",\"\",Limits_Details!$B34)","v":""},{"$f":"IF(Limits_Details!$C34=\"\",\"\",Limits_Details!$C34)","v":""},"",{"$f":"IF(COUNTIF(V$2:V12,V12)=1,V12,\"\")","v":""},"","",null,"FL",null,{"$f":"+IF(AH12=\"\",\"\",MAX(AC$1:AC11)+1)","v":""},{"$f":"IF(Limits_Details!$B34=\"\",\"\",Limits_Details!$B34)","v":""},{"$f":"IF(Limits_Details!$C34=\"\",\"\",Limits_Details!$C34)","v":""},{"$f":"IF(Limits_Details!$D34=\"\",\"\",Limits_Details!$D34)","v":""},"",{"$f":"IF(COUNTIF(AG$2:AG12,AG12)=1,AG12,\"\")","v":""},"","","",null,{"$f":"+IF(AR12=\"\",\"\",MAX(AM$1:AM11)+1)","v":""},{"$f":"IF(CEM_COM_CPMS_Detail!$B34=\"\",\"\",CEM_COM_CPMS_Detail!$B34)","v":""},{"$f":"IF(CEM_COM_CPMS_Detail!$C34=\"\",\"\",CEM_COM_CPMS_Detail!$C34)","v":""},{"$f":"IF(CEM_COM_CPMS_Detail!$D34=\"\",\"\",CEM_COM_CPMS_Detail!$D34)","v":""},"",{"$f":"IF(COUNTIF(AQ$2:AQ12,AQ12)=1,AQ12,\"\")","v":""},"","",""]
[{"$f":"+IF(D13=\"\",\"\",MAX(A$1:A12)+1)","v":""},{"$f":"IF(CEM_COM_CPMS_Identification!C35=\"\",\"\",CEM_COM_CPMS_Identification!C35)","v":""},"",{"$f":"IF(COUNTIF(B$2:B13,B13)=1,B13,\"\")","v":""},null,null,null,null,null,null,{"$f":"+IF(N13=\"\",\"\",MAX(K$1:K12)+1)","v":""},{"$f":"IF(CEM_COM_CPMS_Identification!D35=\"\",\"\",CEM_COM_CPMS_Identification!D35)","v":""},"",{"$f":"IF(COUNTIF(L$2:L13,L13)=1,L13,\"\")","v":""},null,null,null,null,{"$f":"+IF(W13=\"\",\"\",MAX(S$1:S12)+1)","v":""},{"$f":"IF(Limits_Details!$B35=\"\",\"\",Limits_Details!$B35)","v":""},{"$f":"IF(Limits_Details!$C35=\"\",\"\",Limits_Details!$C35)","v":""},"",{"$f":"IF(COUNTIF(V$2:V13,V13)=1,V13,\"\")","v":""},"","",null,"GA",null,{"$f":"+IF(AH13=\"\",\"\",MAX(AC$1:AC12)+1)","v":""},{"$f":"IF(Limits_Details!$B35=\"\",\"\",Limits_Details!$B35)","v":""},{"$f":"IF(Limits_Details!$C35=\"\",\"\",Limits_Details!$C35)","v":""},{"$f":"IF(Limits_Details!$D35=\"\",\"\",Limits_Details!$D35)","v":""},"",{"$f":"IF(COUNTIF(AG$2:AG13,AG13)=1,AG13,\"\")","v":""},"","","",null,{"$f":"+IF(AR13=\"\",\"\",MAX(AM$1:AM12)+1)","v":""},{"$f":"IF(CEM_COM_CPMS_Detail!$B35=\"\",\"\",CEM_COM_CPMS_Detail!$B35)","v":""},{"$f":"IF(CEM_COM_CPMS_Detail!$C35=\"\",\"\",CEM_COM_CPMS_Detail!$C35)","v":""},{"$f":"IF(CEM_COM_CPMS_Detail!$D35=\"\",\"\",CEM_COM_CPMS_Detail!$D35)","v":""},"",{"$f":"IF(COUNTIF(AQ$2:AQ13,AQ13)=1,AQ13,\"\")","v":""},"","",""]
[{"$f":"+IF(D14=\"\",\"\",MAX(A$1:A13)+1)","v":""},{"$f":"IF(CEM_COM_CPMS_Identification!C36=\"\",\"\",CEM_COM_CPMS_Identification!C36)","v":""},"",{"$f":"IF(COUNTIF(B$2:B14,B14)=1,B14,\"\")","v":""},null,null,null,null,null,null,{"$f":"+IF(N14=\"\",\"\",MAX(K$1:K13)+1)","v":""},{"$f":"IF(CEM_COM_CPMS_Identification!D36=\"\",\"\",CEM_COM_CPMS_Identification!D36)","v":""},"",{"$f":"IF(COUNTIF(L$2:L14,L14)=1,L14,\"\")","v":""},null,null,null,null,{"$f":"+IF(W14=\"\",\"\",MAX(S$1:S13)+1)","v":""},{"$f":"IF(Limits_Details!$B36=\"\",\"\",Limits_Details!$B36)","v":""},{"$f":"IF(Limits_Details!$C36=\"\",\"\",Limits_Details!$C36)","v":""},"",{"$f":"IF(COUNTIF(V$2:V14,V14)=1,V14,\"\")","v":""},"","",null,"GU",null,{"$f":"+IF(AH14=\"\",\"\",MAX(AC$1:AC13)+1)","v":""},{"$f":"IF(Limits_Details!$B36=\"\",\"\",Limits_Details!$B36)","v":""},{"$f":"IF(Limits_Details!$C36=\"\",\"\",Limits_Details!$C36)","v":""},{"$f":"IF(Limits_Details!$D36=\"\",\"\",Limits_Details!$D36)","v":""},"",{"$f":"IF(COUNTIF(AG$2:AG14,AG14)=1,AG14,\"\")","v":""},"","","",null,{"$f":"+IF(AR14=\"\",\"\",MAX(AM$1:AM13)+1)","v":""},{"$f":"IF(CEM_COM_CPMS_Detail!$B36=\"\",\"\",CEM_COM_CPMS_Detail!$B36)","v":""},{"$f":"IF(CEM_COM_CPMS_Detail!$C36=\"\",\"\",CEM_COM_CPMS_Detail!$C36)","v":""},{"$f":"IF(CEM_COM_CPMS_Detail!$D36=\"\",\"\",CEM_COM_CPMS_Detail!$D36)","v":""},"",{"$f":"IF(COUNTIF(AQ$2:AQ14,AQ14)=1,AQ14,\"\")","v":""},"","",""]
[{"$f":"+IF(D15=\"\",\"\",MAX(A$1:A14)+1)","v":""},{"$f":"IF(CEM_COM_CPMS_Identification!C37=\"\",\"\",CEM_COM_CPMS_Identification!C37)","v":""},"",{"$f":"IF(COUNTIF(B$2:B15,B15)=1,B15,\"\")","v":""},null,null,null,null,null,null,{"$f":"+IF(N15=\"\",\"\",MAX(K$1:K14)+1)","v":""},{"$f":"IF(CEM_COM_CPMS_Identification!D37=\"\",\"\",CEM_COM_CPMS_Identification!D37)","v":""},"",{"$f":"IF(COUNTIF(L$2:L15,L15)=1,L15,\"\")","v":""},null,null,null,null,{"$f":"+IF(W15=\"\",\"\",MAX(S$1:S14)+1)","v":""},{"$f":"IF(Limits_Details!$B37=\"\",\"\",Limits_Details!$B37)","v":""},{"$f":"IF(Limits_Details!$C37=\"\",\"\",Limits_Details!$C37)","v":""},"",{"$f":"IF(COUNTIF(V$2:V15,V15)=1,V15,\"\")","v":""},"","",null,"HI",null,{"$f":"+IF(AH15=\"\",\"\",MAX(AC$1:AC14)+1)","v":""},{"$f":"IF(Limits_Details!$B37=\"\",\"\",Limits_Details!$B37)","v":""},{"$f":"IF(Limits_Details!$C37=\"\",\"\",Limits_Details!$C37)","v":""},{"$f":"IF(Limits_Details!$D37=\"\",\"\",Limits_Details!$D37)","v":""},"",{"$f":"IF(COUNTIF(AG$2:AG15,AG15)=1,AG15,\"\")","v":""},"","","",null,{"$f":"+IF(AR15=\"\",\"\",MAX(AM$1:AM14)+1)","v":""},{"$f":"IF(CEM_COM_CPMS_Detail!$B37=\"\",\"\",CEM_COM_CPMS_Detail!$B37)","v":""},{"$f":"IF(CEM_COM_CPMS_Detail!$C37=\"\",\"\",CEM_COM_CPMS_Detail!$C37)","v":""},{"$f":"IF(CEM_COM_CPMS_Detail!$D37=\"\",\"\",CEM_COM_CPMS_Detail!$D37)","v":""},"",{"$f":"IF(COUNTIF(AQ$2:AQ15,AQ15)=1,AQ15,\"\")","v":""},"","",""]
[{"$f":"+IF(D16=\"\",\"\",MAX(A$1:A15)+1)","v":""},{"$f":"IF(CEM_COM_CPMS_Identification!C38=\"\",\"\",CEM_COM_CPMS_Identification!C38)","v":""},"",{"$f":"IF(COUNTIF(B$2:B16,B16)=1,B16,\"\")","v":""},null,null,null,null,null,null,{"$f":"+IF(N16=\"\",\"\",MAX(K$1:K15)+1)","v":""},{"$f":"IF(CEM_COM_CPMS_Identification!D38=\"\",\"\",CEM_COM_CPMS_Identification!D38)","v":""},"",{"$f":"IF(COUNTIF(L$2:L16,L16)=1,L16,\"\")","v":""},null,null,null,null,{"$f":"+IF(W16=\"\",\"\",MAX(S$1:S15)+1)","v":""},{"$f":"IF(Limits_Details!$B38=\"\",\"\",Limits_Details!$B38)","v":""},{"$f":"IF(Limits_Details!$C38=\"\",\"\",Limits_Details!$C38)","v":""},"",{"$f":"IF(COUNTIF(V$2:V16,V16)=1,V16,\"\")","v":""},"","",null,"IA",null,{"$f":"+IF(AH16=\"\",\"\",MAX(AC$1:AC15)+1)","v":""},{"$f":"IF(Limits_Details!$B38=\"\",\"\",Limits_Details!$B38)","v":""},{"$f":"IF(Limits_Details!$C38=\"\",\"\",Limits_Details!$C38)","v":""},{"$f":"IF(Limits_Details!$D38=\"\",\"\",Limits_Details!$D38)","v":""},"",{"$f":"IF(COUNTIF(AG$2:AG16,AG16)=1,AG16,\"\")","v":""},"","","",null,{"$f":"+IF(AR16=\"\",\"\",MAX(AM$1:AM15)+1)","v":""},{"$f":"IF(CEM_COM_CPMS_Detail!$B38=\"\",\"\",CEM_COM_CPMS_Detail!$B38)","v":""},{"$f":"IF(CEM_COM_CPMS_Detail!$C38=\"\",\"\",CEM_COM_CPMS_Detail!$C38)","v":""},{"$f":"IF(CEM_COM_CPMS_Detail!$D38=\"\",\"\",CEM_COM_CPMS_Detail!$D38)","v":""},"",{"$f":"IF(COUNTIF(AQ$2:AQ16,AQ16)=1,AQ16,\"\")","v":""},"","",""]
[{"$f":"+IF(D17=\"\",\"\",MAX(A$1:A16)+1)","v":""},{"$f":"IF(CEM_COM_CPMS_Identification!C39=\"\",\"\",CEM_COM_CPMS_Identification!C39)","v":""},"",{"$f":"IF(COUNTIF(B$2:B17,B17)=1,B17,\"\")","v":""},null,null,null,null,null,null,{"$f":"+IF(N17=\"\",\"\",MAX(K$1:K16)+1)","v":""},{"$f":"IF(CEM_COM_CPMS_Identification!D39=\"\",\"\",CEM_COM_CPMS_Identification!D39)","v":""},"",{"$f":"IF(COUNTIF(L$2:L17,L17)=1,L17,\"\")","v":""},null,null,null,null,{"$f":"+IF(W17=\"\",\"\",MAX(S$1:S16)+1)","v":""},{"$f":"IF(Limits_Details!$B39=\"\",\"\",Limits_Details!$B39)","v":""},{"$f":"IF(Limits_Details!$C39=\"\",\"\",Limits_Details!$C39)","v":""},"",{"$f":"IF(COUNTIF(V$2:V17,V17)=1,V17,\"\")","v":""},"","",null,"ID",null,{"$f":"+IF(AH17=\"\",\"\",MAX(AC$1:AC16)+1)","v":""},{"$f":"IF(Limits_Details!$B39=\"\",\"\",Limits_Details!$B39)","v":""},{"$f":"IF(Limits_Details!$C39=\"\",\"\",Limits_Details!$C39)","v":""},{"$f":"IF(Limits_Details!$D39=\"\",\"\",Limits_Details!$D39)","v":""},"",{"$f":"IF(COUNTIF(AG$2:AG17,AG17)=1,AG17,\"\")","v":""},"","","",null,{"$f":"+IF(AR17=\"\",\"\",MAX(AM$1:AM16)+1)","v":""},{"$f":"IF(CEM_COM_CPMS_Detail!$B39=\"\",\"\",CEM_COM_CPMS_Detail!$B39)","v":""},{"$f":"IF(CEM_COM_CPMS_Detail!$C39=\"\",\"\",CEM_COM_CPMS_Detail!$C39)","v":""},{"$f":"IF(CEM_COM_CPMS_Detail!$D39=\"\",\"\",CEM_COM_CPMS_Detail!$D39)","v":""},"",{"$f":"IF(COUNTIF(AQ$2:AQ17,AQ17)=1,AQ17,\"\")","v":""},"","",""]
[{"$f":"+IF(D18=\"\",\"\",MAX(A$1:A17)+1)","v":""},{"$f":"IF(CEM_COM_CPMS_Identification!C40=\"\",\"\",CEM_COM_CPMS_Identification!C40)","v":""},"",{"$f":"IF(COUNTIF(B$2:B18,B18)=1,B18,\"\")","v":""},null,null,null,null,null,null,{"$f":"+IF(N18=\"\",\"\",MAX(K$1:K17)+1)","v":""},{"$f":"IF(CEM_COM_CPMS_Identification!D40=\"\",\"\",CEM_COM_CPMS_Identification!D40)","v":""},"",{"$f":"IF(COUNTIF(L$2:L18,L18)=1,L18,\"\")","v":""},null,null,null,null,{"$f":"+IF(W18=\"\",\"\",MAX(S$1:S17)+1)","v":""},{"$f":"IF(Limits_Details!$B40=\"\",\"\",Limits_Details!$B40)","v":""},{"$f":"IF(Limits_Details!$C40=\"\",\"\",Limits_Details!$C40)","v":""},"",{"$f":"IF(COUNTIF(V$2:V18,V18)=1,V18,\"\")","v":""},"","",null,"IL",null,{"$f":"+IF(AH18=\"\",\"\",MAX(AC$1:AC17)+1)","v":""},{"$f":"IF(Limits_Details!$B40=\"\",\"\",Limits_Details!$B40)","v":""},{"$f":"IF(Limits_Details!$C40=\"\",\"\",Limits_Details!$C40)","v":""},{"$f":"IF(Limits_Details!$D40=\"\",\"\",Limits_Details!$D40)","v":""},"",{"$f":"IF(COUNTIF(AG$2:AG18,AG18)=1,AG18,\"\")","v":""},"","","",null,{"$f":"+IF(AR18=\"\",\"\",MAX(AM$1:AM17)+1)","v":""},{"$f":"IF(CEM_COM_CPMS_Detail!$B40=\"\",\"\",CEM_COM_CPMS_Detail!$B40)","v":""},{"$f":"IF(CEM_COM_CPMS_Detail!$C40=\"\",\"\",CEM_COM_CPMS_Detail!$C40)","v":""},{"$f":"IF(CEM_COM_CPMS_Detail!$D40=\"\",\"\",CEM_COM_CPMS_Detail!$D40)","v":""},"",{"$f":"IF(COUNTIF(AQ$2:AQ18,AQ18)=1,AQ18,\"\")","v":""},"","",""]
[{"$f":"+IF(D19=\"\",\"\",MAX(A$1:A18)+1)","v":""},{"$f":"IF(CEM_COM_CPMS_Identification!C41=\"\",\"\",CEM_COM_CPMS_Identification!C41)","v":""},"",{"$f":"IF(COUNTIF(B$2:B19,B19)=1,B19,\"\")","v":""},null,null,null,null,null,null,{"$f":"+IF(N19=\"\",\"\",MAX(K$1:K18)+1)","v":""},{"$f":"IF(CEM_COM_CPMS_Identification!D41=\"\",\"\",CEM_COM_CPMS_Identification!D41)","v":""},"",{"$f":"IF(COUNTIF(L$2:L19,L19)=1,L19,\"\")","v":""},null,null,null,null,{"$f":"+IF(W19=\"\",\"\",MAX(S$1:S18)+1)","v":""},{"$f":"IF(Limits_Details!$B41=\"\",\"\",Limits_Details!$B41)","v":""},{"$f":"IF(Limits_Details!$C41=\"\",\"\",Limits_Details!$C41)","v":""},"",{"$f":"IF(COUNTIF(V$2:V19,V19)=1,V19,\"\")","v":""},"","",null,"IN",null,{"$f":"+IF(AH19=\"\",\"\",MAX(AC$1:AC18)+1)","v":""},{"$f":"IF(Limits_Details!$B41=\"\",\"\",Limits_Details!$B41)","v":""},{"$f":"IF(Limits_Details!$C41=\"\",\"\",Limits_Details!$C41)","v":""},{"$f":"IF(Limits_Details!$D41=\"\",\"\",Limits_Details!$D41)","v":""},"",{"$f":"IF(COUNTIF(AG$2:AG19,AG19)=1,AG19,\"\")","v":""},"","","",null,{"$f":"+IF(AR19=\"\",\"\",MAX(AM$1:AM18)+1)","v":""},{"$f":"IF(CEM_COM_CPMS_Detail!$B41=\"\",\"\",CEM_COM_CPMS_Detail!$B41)","v":""},{"$f":"IF(CEM_COM_CPMS_Detail!$C41=\"\",\"\",CEM_COM_CPMS_Detail!$C41)","v":""},{"$f":"IF(CEM_COM_CPMS_Detail!$D41=\"\",\"\",CEM_COM_CPMS_Detail!$D41)","v":""},"",{"$f":"IF(COUNTIF(AQ$2:AQ19,AQ19)=1,AQ19,\"\")","v":""},"","",""]
[{"$f":"+IF(D20=\"\",\"\",MAX(A$1:A19)+1)","v":""},{"$f":"IF(CEM_COM_CPMS_Identification!C42=\"\",\"\",CEM_COM_CPMS_Identification!C42)","v":""},"",{"$f":"IF(COUNTIF(B$2:B20,B20)=1,B20,\"\")","v":""},null,null,null,null,null,null,{"$f":"+IF(N20=\"\",\"\",MAX(K$1:K19)+1)","v":""},{"$f":"IF(CEM_COM_CPMS_Identification!D42=\"\",\"\",CEM_COM_CPMS_Identification!D42)","v":""},"",{"$f":"IF(COUNTIF(L$2:L20,L20)=1,L20,\"\")","v":""},null,null,null,null,{"$f":"+IF(W20=\"\",\"\",MAX(S$1:S19)+1)","v":""},{"$f":"IF(Limits_Details!$B42=\"\",\"\",Limits_Details!$B42)","v":""},{"$f":"IF(Limits_Details!$C42=\"\",\"\",Limits_Details!$C42)","v":""},"",{"$f":"IF(COUNTIF(V$2:V20,V20)=1,V20,\"\")","v":""},"","",null,"KS",null,{"$f":"+IF(AH20=\"\",\"\",MAX(AC$1:AC19)+1)","v":""},{"$f":"IF(Limits_Details!$B42=\"\",\"\",Limits_Details!$B42)","v":""},{"$f":"IF(Limits_Details!$C42=\"\",\"\",Limits_Details!$C42)","v":""},{"$f":"IF(Limits_Details!$D42=\"\",\"\",Limits_Details!$D42)","v":""},"",{"$f":"IF(COUNTIF(AG$2:AG20,AG20)=1,AG20,\"\")","v":""},"","","",null,{"$f":"+IF(AR20=\"\",\"\",MAX(AM$1:AM19)+1)","v":""},{"$f":"IF(CEM_COM_CPMS_Detail!$B42=\"\",\"\",CEM_COM_CPMS_Detail!$B42)","v":""},{"$f":"IF(CEM_COM_CPMS_Detail!$C42=\"\",\"\",CEM_COM_CPMS_Detail!$C42)","v":""},{"$f":"IF(CEM_COM_CPMS_Detail!$D42=\"\",\"\",CEM_COM_CPMS_Detail!$D42)","v":""},"",{"$f":"IF(COUNTIF(AQ$2:AQ20,AQ20)=1,AQ20,\"\")","v":""},"","",""]
[{"$f":"+IF(D21=\"\",\"\",MAX(A$1:A20)+1)","v":""},{"$f":"IF(CEM_COM_CPMS_Identification!C43=\"\",\"\",CEM_COM_CPMS_Identification!C43)","v":""},"",{"$f":"IF(COUNTIF(B$2:B21,B21)=1,B21,\"\")","v":""},null,null,null,null,null,null,{"$f":"+IF(N21=\"\",\"\",MAX(K$1:K20)+1)","v":""},{"$f":"IF(CEM_COM_CPMS_Identification!D43=\"\",\"\",CEM_COM_CPMS_Identification!D43)","v":""},"",{"$f":"IF(COUNTIF(L$2:L21,L21)=1,L21,\"\")","v":""},null,null,null,null,{"$f":"+IF(W21=\"\",\"\",MAX(S$1:S20)+1)","v":""},{"$f":"IF(Limits_Details!$B43=\"\",\"\",Limits_Details!$B43)","v":""},{"$f":"IF(Limits_Details!$C43=\"\",\"\",Limits_Details!$C43)","v":""},"",{"$f":"IF(COUNTIF(V$2:V21,V21)=1,V21,\"\")","v":""},"","",null,"KY",null,{"$f":"+IF(AH21=\"\",\"\",MAX(AC$1:AC20)+1)","v":""},{"$f":"IF(Limits_Details!$B43=\"\",\"\",Limits_Details!$B43)","v":""},{"$f":"IF(Limits_Details!$C43=\"\",\"\",Limits_Details!$C43)","v":""},{"$f":"IF(Limits_Details!$D43=\"\",\"\",Limits_Details!$D43)","v":""},"",{"$f":"IF(COUNTIF(AG$2:AG21,AG21)=1,AG21,\"\")","v":""},"","","",null,{"$f":"+IF(AR21=\"\",\"\",MAX(AM$1:AM20)+1)","v":""},{"$f":"IF(CEM_COM_CPMS_Detail!$B43=\"\",\"\",CEM_COM_CPMS_Detail!$B43)","v":""},{"$f":"IF(CEM_COM_CPMS_Detail!$C43=\"\",\"\",CEM_COM_CPMS_Detail!$C43)","v":""},{"$f":"IF(CEM_COM_CPMS_Detail!$D43=\"\",\"\",CEM_COM_CPMS_Detail!$D43)","v":""},"",{"$f":"IF(COUNTIF(AQ$2:AQ21,AQ21)=1,AQ21,\"\")","v":""},"","",""]
[{"$f":"+IF(D22=\"\",\"\",MAX(A$1:A21)+1)","v":""},{"$f":"IF(CEM_COM_CPMS_Identification!C44=\"\",\"\",CEM_COM_CPMS_Identification!C44)","v":""},"",{"$f":"IF(COUNTIF(B$2:B22,B22)=1,B22,\"\")","v":""},null,null,null,null,null,null,{"$f":"+IF(N22=\"\",\"\",MAX(K$1:K21)+1)","v":""},{"$f":"IF(CEM_COM_CPMS_Identification!D44=\"\",\"\",CEM_COM_CPMS_Identification!D44)","v":""},"",{"$f":"IF(COUNTIF(L$2:L22,L22)=1,L22,\"\")","v":""},null,null,null,null,{"$f":"+IF(W22=\"\",\"\",MAX(S$1:S21)+1)","v":""},{"$f":"IF(Limits_Details!$B44=\"\",\"\",Limits_Details!$B44)","v":""},{"$f":"IF(Limits_Details!$C44=\"\",\"\",Limits_Details!$C44)","v":""},"",{"$f":"IF(COUNTIF(V$2:V22,V22)=1,V22,\"\")","v":""},"","",null,"LA",null,{"$f":"+IF(AH22=\"\",\"\",MAX(AC$1:AC21)+1)","v":""},{"$f":"IF(Limits_Details!$B44=\"\",\"\",Limits_Details!$B44)","v":""},{"$f":"IF(Limits_Details!$C44=\"\",\"\",Limits_Details!$C44)","v":""},{"$f":"IF(Limits_Details!$D44=\"\",\"\",Limits_Details!$D44)","v":""},"",{"$f":"IF(COUNTIF(AG$2:AG22,AG22)=1,AG22,\"\")","v":""},"","","",null,{"$f":"+IF(AR22=\"\",\"\",MAX(AM$1:AM21)+1)","v":""},{"$f":"IF(CEM_COM_CPMS_Detail!$B44=\"\",\"\",CEM_COM_CPMS_Detail!$B44)","v":""},{"$f":"IF(CEM_COM_CPMS_Detail!$C44=\"\",\"\",CEM_COM_CPMS_Detail!$C44)","v":""},{"$f":"IF(CEM_COM_CPMS_Detail!$D44=\"\",\"\",CEM_COM_CPMS_Detail!$D44)","v":""},"",{"$f":"IF(COUNTIF(AQ$2:AQ22,AQ22)=1,AQ22,\"\")","v":""},"","",""]
[{"$f":"+IF(D23=\"\",\"\",MAX(A$1:A22)+1)","v":""},{"$f":"IF(CEM_COM_CPMS_Identification!C45=\"\",\"\",CEM_COM_CPMS_Identification!C45)","v":""},"",{"$f":"IF(COUNTIF(B$2:B23,B23)=1,B23,\"\")","v":""},null,null,null,null,null,null,{"$f":"+IF(N23=\"\",\"\",MAX(K$1:K22)+1)","v":""},{"$f":"IF(CEM_COM_CPMS_Identification!D45=\"\",\"\",CEM_COM_CPMS_Identification!D45)","v":""},"",{"$f":"IF(COUNTIF(L$2:L23,L23)=1,L23,\"\")","v":""},null,null,null,null,{"$f":"+IF(W23=\"\",\"\",MAX(S$1:S22)+1)","v":""},{"$f":"IF(Limits_Details!$B45=\"\",\"\",Limits_Details!$B45)","v":""},{"$f":"IF(Limits_Details!$C45=\"\",\"\",Limits_Details!$C45)","v":""},"",{"$f":"IF(COUNTIF(V$2:V23,V23)=1,V23,\"\")","v":""},"","",null,"MA",null,{"$f":"+IF(AH23=\"\",\"\",MAX(AC$1:AC22)+1)","v":""},{"$f":"IF(Limits_Details!$B45=\"\",\"\",Limits_Details!$B45)","v":""},{"$f":"IF(Limits_Details!$C45=\"\",\"\",Limits_Details!$C45)","v":""},{"$f":"IF(Limits_Details!$D45=\"\",\"\",Limits_Details!$D45)","v":""},"",{"$f":"IF(COUNTIF(AG$2:AG23,AG23)=1,AG23,\"\")","v":""},"","","",null,{"$f":"+IF(AR23=\"\",\"\",MAX(AM$1:AM22)+1)","v":""},{"$f":"IF(CEM_COM_CPMS_Detail!$B45=\"\",\"\",CEM_COM_CPMS_Detail!$B45)","v":""},{"$f":"IF(CEM_COM_CPMS_Detail!$C45=\"\",\"\",CEM_COM_CPMS_Detail!$C45)","v":""},{"$f":"IF(CEM_COM_CPMS_Detail!$D45=\"\",\"\",CEM_COM_CPMS_Detail!$D45)","v":""},"",{"$f":"IF(COUNTIF(AQ$2:AQ23,AQ23)=1,AQ23,\"\")","v":""},"","",""]
[{"$f":"+IF(D24=\"\",\"\",MAX(A$1:A23)+1)","v":""},{"$f":"IF(CEM_COM_CPMS_Identification!C46=\"\",\"\",CEM_COM_CPMS_Identification!C46)","v":""},"",{"$f":"IF(COUNTIF(B$2:B24,B24)=1,B24,\"\")","v":""},null,null,null,null,null,null,{"$f":"+IF(N24=\"\",\"\",MAX(K$1:K23)+1)","v":""},{"$f":"IF(CEM_COM_CPMS_Identification!D46=\"\",\"\",CEM_COM_CPMS_Identification!D46)","v":""},"",{"$f":"IF(COUNTIF(L$2:L24,L24)=1,L24,\"\")","v":""},null,null,null,null,{"$f":"+IF(W24=\"\",\"\",MAX(S$1:S23)+1)","v":""},{"$f":"IF(Limits_Details!$B46=\"\",\"\",Limits_Details!$B46)","v":""},{"$f":"IF(Limits_Details!$C46=\"\",\"\",Limits_Details!$C46)","v":""},"",{"$f":"IF(COUNTIF(V$2:V24,V24)=1,V24,\"\")","v":""},"","",null,"MD",null,{"$f":"+IF(AH24=\"\",\"\",MAX(AC$1:AC23)+1)","v":""},{"$f":"IF(Limits_Details!$B46=\"\",\"\",Limits_Details!$B46)","v":""},{"$f":"IF(Limits_Details!$C46=\"\",\"\",Limits_Details!$C46)","v":""},{"$f":"IF(Limits_Details!$D46=\"\",\"\",Limits_Details!$D46)","v":""},"",{"$f":"IF(COUNTIF(AG$2:AG24,AG24)=1,AG24,\"\")","v":""},"","","",null,{"$f":"+IF(AR24=\"\",\"\",MAX(AM$1:AM23)+1)","v":""},{"$f":"IF(CEM_COM_CPMS_Detail!$B46=\"\",\"\",CEM_COM_CPMS_Detail!$B46)","v":""},{"$f":"IF(CEM_COM_CPMS_Detail!$C46=\"\",\"\",CEM_COM_CPMS_Detail!$C46)","v":""},{"$f":"IF(CEM_COM_CPMS_Detail!$D46=\"\",\"\",CEM_COM_CPMS_Detail!$D46)","v":""},"",{"$f":"IF(COUNTIF(AQ$2:AQ24,AQ24)=1,AQ24,\"\")","v":""},"","",""]
[{"$f":"+IF(D25=\"\",\"\",MAX(A$1:A24)+1)","v":""},{"$f":"IF(CEM_COM_CPMS_Identification!C47=\"\",\"\",CEM_COM_CPMS_Identification!C47)","v":""},"",{"$f":"IF(COUNTIF(B$2:B25,B25)=1,B25,\"\")","v":""},null,null,null,null,null,null,{"$f":"+IF(N25=\"\",\"\",MAX(K$1:K24)+1)","v":""},{"$f":"IF(CEM_COM_CPMS_Identification!D47=\"\",\"\",CEM_COM_CPMS_Identification!D47)","v":""},"",{"$f":"IF(COUNTIF(L$2:L25,L25)=1,L25,\"\")","v":""},null,null,null,null,{"$f":"+IF(W25=\"\",\"\",MAX(S$1:S24)+1)","v":""},{"$f":"IF(Limits_Details!$B47=\"\",\"\",Limits_Details!$B47)","v":""},{"$f":"IF(Limits_Details!$C47=\"\",\"\",Limits_Details!$C47)","v":""},"",{"$f":"IF(COUNTIF(V$2:V25,V25)=1,V25,\"\")","v":""},"","",null,"ME",null,{"$f":"+IF(AH25=\"\",\"\",MAX(AC$1:AC24)+1)","v":""},{"$f":"IF(Limits_Details!$B47=\"\",\"\",Limits_Details!$B47)","v":""},{"$f":"IF(Limits_Details!$C47=\"\",\"\",Limits_Details!$C47)","v":""},{"$f":"IF(Limits_Details!$D47=\"\",\"\",Limits_Details!$D47)","v":""},"",{"$f":"IF(COUNTIF(AG$2:AG25,AG25)=1,AG25,\"\")","v":""},"","","",null,{"$f":"+IF(AR25=\"\",\"\",MAX(AM$1:AM24)+1)","v":""},{"$f":"IF(CEM_COM_CPMS_Detail!$B47=\"\",\"\",CEM_COM_CPMS_Detail!$B47)","v":""},{"$f":"IF(CEM_COM_CPMS_Detail!$C47=\"\",\"\",CEM_COM_CPMS_Detail!$C47)","v":""},{"$f":"IF(CEM_COM_CPMS_Detail!$D47=\"\",\"\",CEM_COM_CPMS_Detail!$D47)","v":""},"",{"$f":"IF(COUNTIF(AQ$2:AQ25,AQ25)=1,AQ25,\"\")","v":""},"","",""]
[{"$f":"+IF(D26=\"\",\"\",MAX(A$1:A25)+1)","v":""},{"$f":"IF(CEM_COM_CPMS_Identification!C48=\"\",\"\",CEM_COM_CPMS_Identification!C48)","v":""},"",{"$f":"IF(COUNTIF(B$2:B26,B26)=1,B26,\"\")","v":""},null,null,null,null,null,null,{"$f":"+IF(N26=\"\",\"\",MAX(K$1:K25)+1)","v":""},{"$f":"IF(CEM_COM_CPMS_Identification!D48=\"\",\"\",CEM_COM_CPMS_Identification!D48)","v":""},"",{"$f":"IF(COUNTIF(L$2:L26,L26)=1,L26,\"\")","v":""},null,null,null,null,{"$f":"+IF(W26=\"\",\"\",MAX(S$1:S25)+1)","v":""},{"$f":"IF(Limits_Details!$B48=\"\",\"\",Limits_Details!$B48)","v":""},{"$f":"IF(Limits_Details!$C48=\"\",\"\",Limits_Details!$C48)","v":""},"",{"$f":"IF(COUNTIF(V$2:V26,V26)=1,V26,\"\")","v":""},"","",null,"MI",null,{"$f":"+IF(AH26=\"\",\"\",MAX(AC$1:AC25)+1)","v":""},{"$f":"IF(Limits_Details!$B48=\"\",\"\",Limits_Details!$B48)","v":""},{"$f":"IF(Limits_Details!$C48=\"\",\"\",Limits_Details!$C48)","v":""},{"$f":"IF(Limits_Details!$D48=\"\",\"\",Limits_Details!$D48)","v":""},"",{"$f":"IF(COUNTIF(AG$2:AG26,AG26)=1,AG26,\"\")","v":""},"","","",null,{"$f":"+IF(AR26=\"\",\"\",MAX(AM$1:AM25)+1)","v":""},{"$f":"IF(CEM_COM_CPMS_Detail!$B48=\"\",\"\",CEM_COM_CPMS_Detail!$B48)","v":""},{"$f":"IF(CEM_COM_CPMS_Detail!$C48=\"\",\"\",CEM_COM_CPMS_Detail!$C48)","v":""},{"$f":"IF(CEM_COM_CPMS_Detail!$D48=\"\",\"\",CEM_COM_CPMS_Detail!$D48)","v":""},"",{"$f":"IF(COUNTIF(AQ$2:AQ26,AQ26)=1,AQ26,\"\")","v":""},"","",""]
[{"$f":"+IF(D27=\"\",\"\",MAX(A$1:A26)+1)","v":""},{"$f":"IF(CEM_COM_CPMS_Identification!C49=\"\",\"\",CEM_COM_CPMS_Identification!C49)","v":""},"",{"$f":"IF(COUNTIF(B$2:B27,B27)=1,B27,\"\")","v":""},null,null,null,null,null,null,{"$f":"+IF(N27=\"\",\"\",MAX(K$1:K26)+1)","v":""},{"$f":"IF(CEM_COM_CPMS_Identification!D49=\"\",\"\",CEM_COM_CPMS_Identification!D49)","v":""},"",{"$f":"IF(COUNTIF(L$2:L27,L27)=1,L27,\"\")","v":""},null,null,null,null,{"$f":"+IF(W27=\"\",\"\",MAX(S$1:S26)+1)","v":""},{"$f":"IF(Limits_Details!$B49=\"\",\"\",Limits_Details!$B49)","v":""},{"$f":"IF(Limits_Details!$C49=\"\",\"\",Limits_Details!$C49)","v":""},"",{"$f":"IF(COUNTIF(V$2:V27,V27)=1,V27,\"\")","v":""},"","",null,"MN",null,{"$f":"+IF(AH27=\"\",\"\",MAX(AC$1:AC26)+1)","v":""},{"$f":"IF(Limits_Details!$B49=\"\",\"\",Limits_Details!$B49)","v":""},{"$f":"IF(Limits_Details!$C49=\"\",\"\",Limits_Details!$C49)","v":""},{"$f":"IF(Limits_Details!$D49=\"\",\"\",Limits_Details!$D49)","v":""},"",{"$f":"IF(COUNTIF(AG$2:AG27,AG27)=1,AG27,\"\")","v":""},"","","",null,{"$f":"+IF(AR27=\"\",\"\",MAX(AM$1:AM26)+1)","v":""},{"$f":"IF(CEM_COM_CPMS_Detail!$B49=\"\",\"\",CEM_COM_CPMS_Detail!$B49)","v":""},{"$f":"IF(CEM_COM_CPMS_Detail!$C49=\"\",\"\",CEM_COM_CPMS_Detail!$C49)","v":""},{"$f":"IF(CEM_COM_CPMS_Detail!$D49=\"\",\"\",CEM_COM_CPMS_Detail!$D49)","v":""},"",{"$f":"IF(COUNTIF(AQ$2:AQ27,AQ27)=1,AQ27,\"\")","v":""},"","",""]
[{"$f":"+IF(D28=\"\",\"\",MAX(A$1:A27)+1)","v":""},{"$f":"IF(CEM_COM_CPMS_Identification!C50=\"\",\"\",CEM_COM_CPMS_Identification!C50)","v":""},"",{"$f":"IF(COUNTIF(B$2:B28,B28)=1,B28,\"\")","v":""},null,null,null,null,null,null,{"$f":"+IF(N28=\"\",\"\",MAX(K$1:K27)+1)","v":""},{"$f":"IF(CEM_COM_CPMS_Identification!D50=\"\",\"\",CEM_COM_CPMS_Identification!D50)","v":""},"",{"$f":"IF(COUNTIF(L$2:L28,L28)=1,L28,\"\")","v":""},null,null,null,null,{"$f":"+IF(W28=\"\",\"\",MAX(S$1:S27)+1)","v":""},{"$f":"IF(Limits_Details!$B50=\"\",\"\",Limits_Details!$B50)","v":""},{"$f":"IF(Limits_Details!$C50=\"\",\"\",Limits_Details!$C50)","v":""},"",{"$f":"IF(COUNTIF(V$2:V28,V28)=1,V28,\"\")","v":""},"","",null,"MO",null,{"$f":"+IF(AH28=\"\",\"\",MAX(AC$1:AC27)+1)","v":""},{"$f":"IF(Limits_Details!$B50=\"\",\"\",Limits_Details!$B50)","v":""},{"$f":"IF(Limits_Details!$C50=\"\",\"\",Limits_Details!$C50)","v":""},{"$f":"IF(Limits_Details!$D50=\"\",\"\",Limits_Details!$D50)","v":""},"",{"$f":"IF(COUNTIF(AG$2:AG28,AG28)=1,AG28,\"\")","v":""},"","","",null,{"$f":"+IF(AR28=\"\",\"\",MAX(AM$1:AM27)+1)","v":""},{"$f":"IF(CEM_COM_CPMS_Detail!$B50=\"\",\"\",CEM_COM_CPMS_Detail!$B50)","v":""},{"$f":"IF(CEM_COM_CPMS_Detail!$C50=\"\",\"\",CEM_COM_CPMS_Detail!$C50)","v":""},{"$f":"IF(CEM_COM_CPMS_Detail!$D50=\"\",\"\",CEM_COM_CPMS_Detail!$D50)","v":""},"",{"$f":"IF(COUNTIF(AQ$2:AQ28,AQ28)=1,AQ28,\"\")","v":""},"","",""]
[{"$f":"+IF(D29=\"\",\"\",MAX(A$1:A28)+1)","v":""},{"$f":"IF(CEM_COM_CPMS_Identification!C51=\"\",\"\",CEM_COM_CPMS_Identification!C51)","v":""},"",{"$f":"IF(COUNTIF(B$2:B29,B29)=1,B29,\"\")","v":""},null,null,null,null,null,null,{"$f":"+IF(N29=\"\",\"\",MAX(K$1:K28)+1)","v":""},{"$f":"IF(CEM_COM_CPMS_Identification!D51=\"\",\"\",CEM_COM_CPMS_Identification!D51)","v":""},"",{"$f":"IF(COUNTIF(L$2:L29,L29)=1,L29,\"\")","v":""},null,null,null,null,{"$f":"+IF(W29=\"\",\"\",MAX(S$1:S28)+1)","v":""},{"$f":"IF(Limits_Details!$B51=\"\",\"\",Limits_Details!$B51)","v":""},{"$f":"IF(Limits_Details!$C51=\"\",\"\",Limits_Details!$C51)","v":""},"",{"$f":"IF(COUNTIF(V$2:V29,V29)=1,V29,\"\")","v":""},"","",null,"MP",null,{"$f":"+IF(AH29=\"\",\"\",MAX(AC$1:AC28)+1)","v":""},{"$f":"IF(Limits_Details!$B51=\"\",\"\",Limits_Details!$B51)","v":""},{"$f":"IF(Limits_Details!$C51=\"\",\"\",Limits_Details!$C51)","v":""},{"$f":"IF(Limits_Details!$D51=\"\",\"\",Limits_Details!$D51)","v":""},"",{"$f":"IF(COUNTIF(AG$2:AG29,AG29)=1,AG29,\"\")","v":""},"","","",null,{"$f":"+IF(AR29=\"\",\"\",MAX(AM$1:AM28)+1)","v":""},{"$f":"IF(CEM_COM_CPMS_Detail!$B51=\"\",\"\",CEM_COM_CPMS_Detail!$B51)","v":""},{"$f":"IF(CEM_COM_CPMS_Detail!$C51=\"\",\"\",CEM_COM_CPMS_Detail!$C51)","v":""},{"$f":"IF(CEM_COM_CPMS_Detail!$D51=\"\",\"\",CEM_COM_CPMS_Detail!$D51)","v":""},"",{"$f":"IF(COUNTIF(AQ$2:AQ29,AQ29)=1,AQ29,\"\")","v":""},"","",""]
[{"$f":"+IF(D30=\"\",\"\",MAX(A$1:A29)+1)","v":""},{"$f":"IF(CEM_COM_CPMS_Identification!C52=\"\",\"\",CEM_COM_CPMS_Identification!C52)","v":""},"",{"$f":"IF(COUNTIF(B$2:B30,B30)=1,B30,\"\")","v":""},null,null,null,null,null,null,{"$f":"+IF(N30=\"\",\"\",MAX(K$1:K29)+1)","v":""},{"$f":"IF(CEM_COM_CPMS_Identification!D52=\"\",\"\",CEM_COM_CPMS_Identification!D52)","v":""},"",{"$f":"IF(COUNTIF(L$2:L30,L30)=1,L30,\"\")","v":""},null,null,null,null,{"$f":"+IF(W30=\"\",\"\",MAX(S$1:S29)+1)","v":""},{"$f":"IF(Limits_Details!$B52=\"\",\"\",Limits_Details!$B52)","v":""},{"$f":"IF(Limits_Details!$C52=\"\",\"\",Limits_Details!$C52)","v":""},"",{"$f":"IF(COUNTIF(V$2:V30,V30)=1,V30,\"\")","v":""},"","",null,"MS",null,{"$f":"+IF(AH30=\"\",\"\",MAX(AC$1:AC29)+1)","v":""},{"$f":"IF(Limits_Details!$B52=\"\",\"\",Limits_Details!$B52)","v":""},{"$f":"IF(Limits_Details!$C52=\"\",\"\",Limits_Details!$C52)","v":""},{"$f":"IF(Limits_Details!$D52=\"\",\"\",Limits_Details!$D52)","v":""},"",{"$f":"IF(COUNTIF(AG$2:AG30,AG30)=1,AG30,\"\")","v":""},"","","",null,{"$f":"+IF(AR30=\"\",\"\",MAX(AM$1:AM29)+1)","v":""},{"$f":"IF(CEM_COM_CPMS_Detail!$B52=\"\",\"\",CEM_COM_CPMS_Detail!$B52)","v":""},{"$f":"IF(CEM_COM_CPMS_Detail!$C52=\"\",\"\",CEM_COM_CPMS_Detail!$C52)","v":""},{"$f":"IF(CEM_COM_CPMS_Detail!$D52=\"\",\"\",CEM_COM_CPMS_Detail!$D52)","v":""},"",{"$f":"IF(COUNTIF(AQ$2:AQ30,AQ30)=1,AQ30,\"\")","v":""},"","",""]
[{"$f":"+IF(D31=\"\",\"\",MAX(A$1:A30)+1)","v":""},{"$f":"IF(CEM_COM_CPMS_Identification!C53=\"\",\"\",CEM_COM_CPMS_Identification!C53)","v":""},"",{"$f":"IF(COUNTIF(B$2:B31,B31)=1,B31,\"\")","v":""},null,null,null,null,null,null,{"$f":"+IF(N31=\"\",\"\",MAX(K$1:K30)+1)","v":""},{"$f":"IF(CEM_COM_CPMS_Identification!D53=\"\",\"\",CEM_COM_CPMS_Identification!D53)","v":""},"",{"$f":"IF(COUNTIF(L$2:L31,L31)=1,L31,\"\")","v":""},null,null,null,null,{"$f":"+IF(W31=\"\",\"\",MAX(S$1:S30)+1)","v":""},{"$f":"IF(Limits_Details!$B53=\"\",\"\",Limits_Details!$B53)","v":""},{"$f":"IF(Limits_Details!$C53=\"\",\"\",Limits_Details!$C53)","v":""},"",{"$f":"IF(COUNTIF(V$2:V31,V31)=1,V31,\"\")","v":""},"","",null,"MT",null,{"$f":"+IF(AH31=\"\",\"\",MAX(AC$1:AC30)+1)","v":""},{"$f":"IF(Limits_Details!$B53=\"\",\"\",Limits_Details!$B53)","v":""},{"$f":"IF(Limits_Details!$C53=\"\",\"\",Limits_Details!$C53)","v":""},{"$f":"IF(Limits_Details!$D53=\"\",\"\",Limits_Details!$D53)","v":""},"",{"$f":"IF(COUNTIF(AG$2:AG31,AG31)=1,AG31,\"\")","v":""},"","","",null,{"$f":"+IF(AR31=\"\",\"\",MAX(AM$1:AM30)+1)","v":""},{"$f":"IF(CEM_COM_CPMS_Detail!$B53=\"\",\"\",CEM_COM_CPMS_Detail!$B53)","v":""},{"$f":"IF(CEM_COM_CPMS_Detail!$C53=\"\",\"\",CEM_COM_CPMS_Detail!$C53)","v":""},{"$f":"IF(CEM_COM_CPMS_Detail!$D53=\"\",\"\",CEM_COM_CPMS_Detail!$D53)","v":""},"",{"$f":"IF(COUNTIF(AQ$2:AQ31,AQ31)=1,AQ31,\"\")","v":""},"","",""]
[{"$f":"+IF(D32=\"\",\"\",MAX(A$1:A31)+1)","v":""},{"$f":"IF(CEM_COM_CPMS_Identification!C54=\"\",\"\",CEM_COM_CPMS_Identification!C54)","v":""},"",{"$f":"IF(COUNTIF(B$2:B32,B32)=1,B32,\"\")","v":""},null,null,null,null,null,null,{"$f":"+IF(N32=\"\",\"\",MAX(K$1:K31)+1)","v":""},{"$f":"IF(CEM_COM_CPMS_Identification!D54=\"\",\"\",CEM_COM_CPMS_Identification!D54)","v":""},"",{"$f":"IF(COUNTIF(L$2:L32,L32)=1,L32,\"\")","v":""},null,null,null,null,{"$f":"+IF(W32=\"\",\"\",MAX(S$1:S31)+1)","v":""},{"$f":"IF(Limits_Details!$B54=\"\",\"\",Limits_Details!$B54)","v":""},{"$f":"IF(Limits_Details!$C54=\"\",\"\",Limits_Details!$C54)","v":""},"",{"$f":"IF(COUNTIF(V$2:V32,V32)=1,V32,\"\")","v":""},"","",null,"NC",null,{"$f":"+IF(AH32=\"\",\"\",MAX(AC$1:AC31)+1)","v":""},{"$f":"IF(Limits_Details!$B54=\"\",\"\",Limits_Details!$B54)","v":""},{"$f":"IF(Limits_Details!$C54=\"\",\"\",Limits_Details!$C54)","v":""},{"$f":"IF(Limits_Details!$D54=\"\",\"\",Limits_Details!$D54)","v":""},"",{"$f":"IF(COUNTIF(AG$2:AG32,AG32)=1,AG32,\"\")","v":""},"","","",null,{"$f":"+IF(AR32=\"\",\"\",MAX(AM$1:AM31)+1)","v":""},{"$f":"IF(CEM_COM_CPMS_Detail!$B54=\"\",\"\",CEM_COM_CPMS_Detail!$B54)","v":""},{"$f":"IF(CEM_COM_CPMS_Detail!$C54=\"\",\"\",CEM_COM_CPMS_Detail!$C54)","v":""},{"$f":"IF(CEM_COM_CPMS_Detail!$D54=\"\",\"\",CEM_COM_CPMS_Detail!$D54)","v":""},"",{"$f":"IF(COUNTIF(AQ$2:AQ32,AQ32)=1,AQ32,\"\")","v":""},"","",""]
[{"$f":"+IF(D33=\"\",\"\",MAX(A$1:A32)+1)","v":""},{"$f":"IF(CEM_COM_CPMS_Identification!C55=\"\",\"\",CEM_COM_CPMS_Identification!C55)","v":""},"",{"$f":"IF(COUNTIF(B$2:B33,B33)=1,B33,\"\")","v":""},null,null,null,null,null,null,{"$f":"+IF(N33=\"\",\"\",MAX(K$1:K32)+1)","v":""},{"$f":"IF(CEM_COM_CPMS_Identification!D55=\"\",\"\",CEM_COM_CPMS_Identification!D55)","v":""},"",{"$f":"IF(COUNTIF(L$2:L33,L33)=1,L33,\"\")","v":""},null,null,null,null,{"$f":"+IF(W33=\"\",\"\",MAX(S$1:S32)+1)","v":""},{"$f":"IF(Limits_Details!$B55=\"\",\"\",Limits_Details!$B55)","v":""},{"$f":"IF(Limits_Details!$C55=\"\",\"\",Limits_Details!$C55)","v":""},"",{"$f":"IF(COUNTIF(V$2:V33,V33)=1,V33,\"\")","v":""},"","",null,"ND",null,{"$f":"+IF(AH33=\"\",\"\",MAX(AC$1:AC32)+1)","v":""},{"$f":"IF(Limits_Details!$B55=\"\",\"\",Limits_Details!$B55)","v":""},{"$f":"IF(Limits_Details!$C55=\"\",\"\",Limits_Details!$C55)","v":""},{"$f":"IF(Limits_Details!$D55=\"\",\"\",Limits_Details!$D55)","v":""},"",{"$f":"IF(COUNTIF(AG$2:AG33,AG33)=1,AG33,\"\")","v":""},"","","",null,{"$f":"+IF(AR33=\"\",\"\",MAX(AM$1:AM32)+1)","v":""},{"$f":"IF(CEM_COM_CPMS_Detail!$B55=\"\",\"\",CEM_COM_CPMS_Detail!$B55)","v":""},{"$f":"IF(CEM_COM_CPMS_Detail!$C55=\"\",\"\",CEM_COM_CPMS_Detail!$C55)","v":""},{"$f":"IF(CEM_COM_CPMS_Detail!$D55=\"\",\"\",CEM_COM_CPMS_Detail!$D55)","v":""},"",{"$f":"IF(COUNTIF(AQ$2:AQ33,AQ33)=1,AQ33,\"\")","v":""},"","",""]
[{"$f":"+IF(D34=\"\",\"\",MAX(A$1:A33)+1)","v":""},{"$f":"IF(CEM_COM_CPMS_Identification!C56=\"\",\"\",CEM_COM_CPMS_Identification!C56)","v":""},"",{"$f":"IF(COUNTIF(B$2:B34,B34)=1,B34,\"\")","v":""},null,null,null,null,null,null,{"$f":"+IF(N34=\"\",\"\",MAX(K$1:K33)+1)","v":""},{"$f":"IF(CEM_COM_CPMS_Identification!D56=\"\",\"\",CEM_COM_CPMS_Identification!D56)","v":""},"",{"$f":"IF(COUNTIF(L$2:L34,L34)=1,L34,\"\")","v":""},null,null,null,null,{"$f":"+IF(W34=\"\",\"\",MAX(S$1:S33)+1)","v":""},{"$f":"IF(Limits_Details!$B56=\"\",\"\",Limits_Details!$B56)","v":""},{"$f":"IF(Limits_Details!$C56=\"\",\"\",Limits_Details!$C56)","v":""},"",{"$f":"IF(COUNTIF(V$2:V34,V34)=1,V34,\"\")","v":""},"","",null,"NE",null,{"$f":"+IF(AH34=\"\",\"\",MAX(AC$1:AC33)+1)","v":""},{"$f":"IF(Limits_Details!$B56=\"\",\"\",Limits_Details!$B56)","v":""},{"$f":"IF(Limits_Details!$C56=\"\",\"\",Limits_Details!$C56)","v":""},{"$f":"IF(Limits_Details!$D56=\"\",\"\",Limits_Details!$D56)","v":""},"",{"$f":"IF(COUNTIF(AG$2:AG34,AG34)=1,AG34,\"\")","v":""},"","","",null,{"$f":"+IF(AR34=\"\",\"\",MAX(AM$1:AM33)+1)","v":""},{"$f":"IF(CEM_COM_CPMS_Detail!$B56=\"\",\"\",CEM_COM_CPMS_Detail!$B56)","v":""},{"$f":"IF(CEM_COM_CPMS_Detail!$C56=\"\",\"\",CEM_COM_CPMS_Detail!$C56)","v":""},{"$f":"IF(CEM_COM_CPMS_Detail!$D56=\"\",\"\",CEM_COM_CPMS_Detail!$D56)","v":""},"",{"$f":"IF(COUNTIF(AQ$2:AQ34,AQ34)=1,AQ34,\"\")","v":""},"","",""]
[{"$f":"+IF(D35=\"\",\"\",MAX(A$1:A34)+1)","v":""},{"$f":"IF(CEM_COM_CPMS_Identification!C57=\"\",\"\",CEM_COM_CPMS_Identification!C57)","v":""},"",{"$f":"IF(COUNTIF(B$2:B35,B35)=1,B35,\"\")","v":""},null,null,null,null,null,null,{"$f":"+IF(N35=\"\",\"\",MAX(K$1:K34)+1)","v":""},{"$f":"IF(CEM_COM_CPMS_Identification!D57=\"\",\"\",CEM_COM_CPMS_Identification!D57)","v":""},"",{"$f":"IF(COUNTIF(L$2:L35,L35)=1,L35,\"\")","v":""},null,null,null,null,{"$f":"+IF(W35=\"\",\"\",MAX(S$1:S34)+1)","v":""},{"$f":"IF(Limits_Details!$B57=\"\",\"\",Limits_Details!$B57)","v":""},{"$f":"IF(Limits_Details!$C57=\"\",\"\",Limits_Details!$C57)","v":""},"",{"$f":"IF(COUNTIF(V$2:V35,V35)=1,V35,\"\")","v":""},"","",null,"NH",null,{"$f":"+IF(AH35=\"\",\"\",MAX(AC$1:AC34)+1)","v":""},{"$f":"IF(Limits_Details!$B57=\"\",\"\",Limits_Details!$B57)","v":""},{"$f":"IF(Limits_Details!$C57=\"\",\"\",Limits_Details!$C57)","v":""},{"$f":"IF(Limits_Details!$D57=\"\",\"\",Limits_Details!$D57)","v":""},"",{"$f":"IF(COUNTIF(AG$2:AG35,AG35)=1,AG35,\"\")","v":""},"","","",null,{"$f":"+IF(AR35=\"\",\"\",MAX(AM$1:AM34)+1)","v":""},{"$f":"IF(CEM_COM_CPMS_Detail!$B57=\"\",\"\",CEM_COM_CPMS_Detail!$B57)","v":""},{"$f":"IF(CEM_COM_CPMS_Detail!$C57=\"\",\"\",CEM_COM_CPMS_Detail!$C57)","v":""},{"$f":"IF(CEM_COM_CPMS_Detail!$D57=\"\",\"\",CEM_COM_CPMS_Detail!$D57)","v":""},"",{"$f":"IF(COUNTIF(AQ$2:AQ35,AQ35)=1,AQ35,\"\")","v":""},"","",""]
[{"$f":"+IF(D36=\"\",\"\",MAX(A$1:A35)+1)","v":""},{"$f":"IF(CEM_COM_CPMS_Identification!C58=\"\",\"\",CEM_COM_CPMS_Identification!C58)","v":""},"",{"$f":"IF(COUNTIF(B$2:B36,B36)=1,B36,\"\")","v":""},null,null,null,null,null,null,{"$f":"+IF(N36=\"\",\"\",MAX(K$1:K35)+1)","v":""},{"$f":"IF(CEM_COM_CPMS_Identification!D58=\"\",\"\",CEM_COM_CPMS_Identification!D58)","v":""},"",{"$f":"IF(COUNTIF(L$2:L36,L36)=1,L36,\"\")","v":""},null,null,null,null,{"$f":"+IF(W36=\"\",\"\",MAX(S$1:S35)+1)","v":""},{"$f":"IF(Limits_Details!$B58=\"\",\"\",Limits_Details!$B58)","v":""},{"$f":"IF(Limits_Details!$C58=\"\",\"\",Limits_Details!$C58)","v":""},"",{"$f":"IF(COUNTIF(V$2:V36,V36)=1,V36,\"\")","v":""},"","",null,"NJ",null,{"$f":"+IF(AH36=\"\",\"\",MAX(AC$1:AC35)+1)","v":""},{"$f":"IF(Limits_Details!$B58=\"\",\"\",Limits_Details!$B58)","v":""},{"$f":"IF(Limits_Details!$C58=\"\",\"\",Limits_Details!$C58)","v":""},{"$f":"IF(Limits_Details!$D58=\"\",\"\",Limits_Details!$D58)","v":""},"",{"$f":"IF(COUNTIF(AG$2:AG36,AG36)=1,AG36,\"\")","v":""},"","","",null,{"$f":"+IF(AR36=\"\",\"\",MAX(AM$1:AM35)+1)","v":""},{"$f":"IF(CEM_COM_CPMS_Detail!$B58=\"\",\"\",CEM_COM_CPMS_Detail!$B58)","v":""},{"$f":"IF(CEM_COM_CPMS_Detail!$C58=\"\",\"\",CEM_COM_CPMS_Detail!$C58)","v":""},{"$f":"IF(CEM_COM_CPMS_Detail!$D58=\"\",\"\",CEM_COM_CPMS_Detail!$D58)","v":""},"",{"$f":"IF(COUNTIF(AQ$2:AQ36,AQ36)=1,AQ36,\"\")","v":""},"","",""]
[{"$f":"+IF(D37=\"\",\"\",MAX(A$1:A36)+1)","v":""},{"$f":"IF(CEM_COM_CPMS_Identification!C59=\"\",\"\",CEM_COM_CPMS_Identification!C59)","v":""},"",{"$f":"IF(COUNTIF(B$2:B37,B37)=1,B37,\"\")","v":""},null,null,null,null,null,null,{"$f":"+IF(N37=\"\",\"\",MAX(K$1:K36)+1)","v":""},{"$f":"IF(CEM_COM_CPMS_Identification!D59=\"\",\"\",CEM_COM_CPMS_Identification!D59)","v":""},"",{"$f":"IF(COUNTIF(L$2:L37,L37)=1,L37,\"\")","v":""},null,null,null,null,{"$f":"+IF(W37=\"\",\"\",MAX(S$1:S36)+1)","v":""},{"$f":"IF(Limits_Details!$B59=\"\",\"\",Limits_Details!$B59)","v":""},{"$f":"IF(Limits_Details!$C59=\"\",\"\",Limits_Details!$C59)","v":""},"",{"$f":"IF(COUNTIF(V$2:V37,V37)=1,V37,\"\")","v":""},"","",null,"NM",null,{"$f":"+IF(AH37=\"\",\"\",MAX(AC$1:AC36)+1)","v":""},{"$f":"IF(Limits_Details!$B59=\"\",\"\",Limits_Details!$B59)","v":""},{"$f":"IF(Limits_Details!$C59=\"\",\"\",Limits_Details!$C59)","v":""},{"$f":"IF(Limits_Details!$D59=\"\",\"\",Limits_Details!$D59)","v":""},"",{"$f":"IF(COUNTIF(AG$2:AG37,AG37)=1,AG37,\"\")","v":""},"","","",null,{"$f":"+IF(AR37=\"\",\"\",MAX(AM$1:AM36)+1)","v":""},{"$f":"IF(CEM_COM_CPMS_Detail!$B59=\"\",\"\",CEM_COM_CPMS_Detail!$B59)","v":""},{"$f":"IF(CEM_COM_CPMS_Detail!$C59=\"\",\"\",CEM_COM_CPMS_Detail!$C59)","v":""},{"$f":"IF(CEM_COM_CPMS_Detail!$D59=\"\",\"\",CEM_COM_CPMS_Detail!$D59)","v":""},"",{"$f":"IF(COUNTIF(AQ$2:AQ37,AQ37)=1,AQ37,\"\")","v":""},"","",""]
[{"$f":"+IF(D38=\"\",\"\",MAX(A$1:A37)+1)","v":""},{"$f":"IF(CEM_COM_CPMS_Identification!C60=\"\",\"\",CEM_COM_CPMS_Identification!C60)","v":""},"",{"$f":"IF(COUNTIF(B$2:B38,B38)=1,B38,\"\")","v":""},null,null,null,null,null,null,{"$f":"+IF(N38=\"\",\"\",MAX(K$1:K37)+1)","v":""},{"$f":"IF(CEM_COM_CPMS_Identification!D60=\"\",\"\",CEM_COM_CPMS_Identification!D60)","v":""},"",{"$f":"IF(COUNTIF(L$2:L38,L38)=1,L38,\"\")","v":""},null,null,null,null,{"$f":"+IF(W38=\"\",\"\",MAX(S$1:S37)+1)","v":""},{"$f":"IF(Limits_Details!$B60=\"\",\"\",Limits_Details!$B60)","v":""},{"$f":"IF(Limits_Details!$C60=\"\",\"\",Limits_Details!$C60)","v":""},"",{"$f":"IF(COUNTIF(V$2:V38,V38)=1,V38,\"\")","v":""},"","",null,"NV",null,{"$f":"+IF(AH38=\"\",\"\",MAX(AC$1:AC37)+1)","v":""},{"$f":"IF(Limits_Details!$B60=\"\",\"\",Limits_Details!$B60)","v":""},{"$f":"IF(Limits_Details!$C60=\"\",\"\",Limits_Details!$C60)","v":""},{"$f":"IF(Limits_Details!$D60=\"\",\"\",Limits_Details!$D60)","v":""},"",{"$f":"IF(COUNTIF(AG$2:AG38,AG38)=1,AG38,\"\")","v":""},"","","",null,{"$f":"+IF(AR38=\"\",\"\",MAX(AM$1:AM37)+1)","v":""},{"$f":"IF(CEM_COM_CPMS_Detail!$B60=\"\",\"\",CEM_COM_CPMS_Detail!$B60)","v":""},{"$f":"IF(CEM_COM_CPMS_Detail!$C60=\"\",\"\",CEM_COM_CPMS_Detail!$C60)","v":""},{"$f":"IF(CEM_COM_CPMS_Detail!$D60=\"\",\"\",CEM_COM_CPMS_Detail!$D60)","v":""},"",{"$f":"IF(COUNTIF(AQ$2:AQ38,AQ38)=1,AQ38,\"\")","v":""},"","",""]
[{"$f":"+IF(D39=\"\",\"\",MAX(A$1:A38)+1)","v":""},{"$f":"IF(CEM_COM_CPMS_Identification!C61=\"\",\"\",CEM_COM_CPMS_Identification!C61)","v":""},"",{"$f":"IF(COUNTIF(B$2:B39,B39)=1,B39,\"\")","v":""},null,null,null,null,null,null,{"$f":"+IF(N39=\"\",\"\",MAX(K$1:K38)+1)","v":""},{"$f":"IF(CEM_COM_CPMS_Identification!D61=\"\",\"\",CEM_COM_CPMS_Identification!D61)","v":""},"",{"$f":"IF(COUNTIF(L$2:L39,L39)=1,L39,\"\")","v":""},null,null,null,null,{"$f":"+IF(W39=\"\",\"\",MAX(S$1:S38)+1)","v":""},{"$f":"IF(Limits_Details!$B61=\"\",\"\",Limits_Details!$B61)","v":""},{"$f":"IF(Limits_Details!$C61=\"\",\"\",Limits_Details!$C61)","v":""},"",{"$f":"IF(COUNTIF(V$2:V39,V39)=1,V39,\"\")","v":""},"","",null,"NY",null,{"$f":"+IF(AH39=\"\",\"\",MAX(AC$1:AC38)+1)","v":""},{"$f":"IF(Limits_Details!$B61=\"\",\"\",Limits_Details!$B61)","v":""},{"$f":"IF(Limits_Details!$C61=\"\",\"\",Limits_Details!$C61)","v":""},{"$f":"IF(Limits_Details!$D61=\"\",\"\",Limits_Details!$D61)","v":""},"",{"$f":"IF(COUNTIF(AG$2:AG39,AG39)=1,AG39,\"\")","v":""},"","","",null,{"$f":"+IF(AR39=\"\",\"\",MAX(AM$1:AM38)+1)","v":""},{"$f":"IF(CEM_COM_CPMS_Detail!$B61=\"\",\"\",CEM_COM_CPMS_Detail!$B61)","v":""},{"$f":"IF(CEM_COM_CPMS_Detail!$C61=\"\",\"\",CEM_COM_CPMS_Detail!$C61)","v":""},{"$f":"IF(CEM_COM_CPMS_Detail!$D61=\"\",\"\",CEM_COM_CPMS_Detail!$D61)","v":""},"",{"$f":"IF(COUNTIF(AQ$2:AQ39,AQ39)=1,AQ39,\"\")","v":""},"","",""]
[{"$f":"+IF(D40=\"\",\"\",MAX(A$1:A39)+1)","v":""},{"$f":"IF(CEM_COM_CPMS_Identification!C62=\"\",\"\",CEM_COM_CPMS_Identification!C62)","v":""},"",{"$f":"IF(COUNTIF(B$2:B40,B40)=1,B40,\"\")","v":""},null,null,null,null,null,null,{"$f":"+IF(N40=\"\",\"\",MAX(K$1:K39)+1)","v":""},{"$f":"IF(CEM_COM_CPMS_Identification!D62=\"\",\"\",CEM_COM_CPMS_Identification!D62)","v":""},"",{"$f":"IF(COUNTIF(L$2:L40,L40)=1,L40,\"\")","v":""},null,null,null,null,{"$f":"+IF(W40=\"\",\"\",MAX(S$1:S39)+1)","v":""},{"$f":"IF(Limits_Details!$B62=\"\",\"\",Limits_Details!$B62)","v":""},{"$f":"IF(Limits_Details!$C62=\"\",\"\",Limits_Details!$C62)","v":""},"",{"$f":"IF(COUNTIF(V$2:V40,V40)=1,V40,\"\")","v":""},"","",null,"OH",null,{"$f":"+IF(AH40=\"\",\"\",MAX(AC$1:AC39)+1)","v":""},{"$f":"IF(Limits_Details!$B62=\"\",\"\",Limits_Details!$B62)","v":""},{"$f":"IF(Limits_Details!$C62=\"\",\"\",Limits_Details!$C62)","v":""},{"$f":"IF(Limits_Details!$D62=\"\",\"\",Limits_Details!$D62)","v":""},"",{"$f":"IF(COUNTIF(AG$2:AG40,AG40)=1,AG40,\"\")","v":""},"","","",null,{"$f":"+IF(AR40=\"\",\"\",MAX(AM$1:AM39)+1)","v":""},{"$f":"IF(CEM_COM_CPMS_Detail!$B62=\"\",\"\",CEM_COM_CPMS_Detail!$B62)","v":""},{"$f":"IF(CEM_COM_CPMS_Detail!$C62=\"\",\"\",CEM_COM_CPMS_Detail!$C62)","v":""},{"$f":"IF(CEM_COM_CPMS_Detail!$D62=\"\",\"\",CEM_COM_CPMS_Detail!$D62)","v":""},"",{"$f":"IF(COUNTIF(AQ$2:AQ40,AQ40)=1,AQ40,\"\")","v":""},"","",""]
[{"$f":"+IF(D41=\"\",\"\",MAX(A$1:A40)+1)","v":""},{"$f":"IF(CEM_COM_CPMS_Identification!C63=\"\",\"\",CEM_COM_CPMS_Identification!C63)","v":""},"",{"$f":"IF(COUNTIF(B$2:B41,B41)=1,B41,\"\")","v":""},null,null,null,null,null,null,{"$f":"+IF(N41=\"\",\"\",MAX(K$1:K40)+1)","v":""},{"$f":"IF(CEM_COM_CPMS_Identification!D63=\"\",\"\",CEM_COM_CPMS_Identification!D63)","v":""},"",{"$f":"IF(COUNTIF(L$2:L41,L41)=1,L41,\"\")","v":""},null,null,null,null,{"$f":"+IF(W41=\"\",\"\",MAX(S$1:S40)+1)","v":""},{"$f":"IF(Limits_Details!$B63=\"\",\"\",Limits_Details!$B63)","v":""},{"$f":"IF(Limits_Details!$C63=\"\",\"\",Limits_Details!$C63)","v":""},"",{"$f":"IF(COUNTIF(V$2:V41,V41)=1,V41,\"\")","v":""},"","",null,"OK",null,{"$f":"+IF(AH41=\"\",\"\",MAX(AC$1:AC40)+1)","v":""},{"$f":"IF(Limits_Details!$B63=\"\",\"\",Limits_Details!$B63)","v":""},{"$f":"IF(Limits_Details!$C63=\"\",\"\",Limits_Details!$C63)","v":""},{"$f":"IF(Limits_Details!$D63=\"\",\"\",Limits_Details!$D63)","v":""},"",{"$f":"IF(COUNTIF(AG$2:AG41,AG41)=1,AG41,\"\")","v":""},"","","",null,{"$f":"+IF(AR41=\"\",\"\",MAX(AM$1:AM40)+1)","v":""},{"$f":"IF(CEM_COM_CPMS_Detail!$B63=\"\",\"\",CEM_COM_CPMS_Detail!$B63)","v":""},{"$f":"IF(CEM_COM_CPMS_Detail!$C63=\"\",\"\",CEM_COM_CPMS_Detail!$C63)","v":""},{"$f":"IF(CEM_COM_CPMS_Detail!$D63=\"\",\"\",CEM_COM_CPMS_Detail!$D63)","v":""},"",{"$f":"IF(COUNTIF(AQ$2:AQ41,AQ41)=1,AQ41,\"\")","v":""},"","",""]
[{"$f":"+IF(D42=\"\",\"\",MAX(A$1:A41)+1)","v":""},{"$f":"IF(CEM_COM_CPMS_Identification!C64=\"\",\"\",CEM_COM_CPMS_Identification!C64)","v":""},"",{"$f":"IF(COUNTIF(B$2:B42,B42)=1,B42,\"\")","v":""},null,null,null,null,null,null,{"$f":"+IF(N42=\"\",\"\",MAX(K$1:K41)+1)","v":""},{"$f":"IF(CEM_COM_CPMS_Identification!D64=\"\",\"\",CEM_COM_CPMS_Identification!D64)","v":""},"",{"$f":"IF(COUNTIF(L$2:L42,L42)=1,L42,\"\")","v":""},null,null,null,null,{"$f":"+IF(W42=\"\",\"\",MAX(S$1:S41)+1)","v":""},{"$f":"IF(Limits_Details!$B64=\"\",\"\",Limits_Details!$B64)","v":""},{"$f":"IF(Limits_Details!$C64=\"\",\"\",Limits_Details!$C64)","v":""},"",{"$f":"IF(COUNTIF(V$2:V42,V42)=1,V42,\"\")","v":""},"","",null,"OR",null,{"$f":"+IF(AH42=\"\",\"\",MAX(AC$1:AC41)+1)","v":""},{"$f":"IF(Limits_Details!$B64=\"\",\"\",Limits_Details!$B64)","v":""},{"$f":"IF(Limits_Details!$C64=\"\",\"\",Limits_Details!$C64)","v":""},{"$f":"IF(Limits_Details!$D64=\"\",\"\",Limits_Details!$D64)","v":""},"",{"$f":"IF(COUNTIF(AG$2:AG42,AG42)=1,AG42,\"\")","v":""},"","","",null,{"$f":"+IF(AR42=\"\",\"\",MAX(AM$1:AM41)+1)","v":""},{"$f":"IF(CEM_COM_CPMS_Detail!$B64=\"\",\"\",CEM_COM_CPMS_Detail!$B64)","v":""},{"$f":"IF(CEM_COM_CPMS_Detail!$C64=\"\",\"\",CEM_COM_CPMS_Detail!$C64)","v":""},{"$f":"IF(CEM_COM_CPMS_Detail!$D64=\"\",\"\",CEM_COM_CPMS_Detail!$D64)","v":""},"",{"$f":"IF(COUNTIF(AQ$2:AQ42,AQ42)=1,AQ42,\"\")","v":""},"","",""]
[{"$f":"+IF(D43=\"\",\"\",MAX(A$1:A42)+1)","v":""},{"$f":"IF(CEM_COM_CPMS_Identification!C65=\"\",\"\",CEM_COM_CPMS_Identification!C65)","v":""},"",{"$f":"IF(COUNTIF(B$2:B43,B43)=1,B43,\"\")","v":""},null,null,null,null,null,null,{"$f":"+IF(N43=\"\",\"\",MAX(K$1:K42)+1)","v":""},{"$f":"IF(CEM_COM_CPMS_Identification!D65=\"\",\"\",CEM_COM_CPMS_Identification!D65)","v":""},"",{"$f":"IF(COUNTIF(L$2:L43,L43)=1,L43,\"\")","v":""},null,null,null,null,{"$f":"+IF(W43=\"\",\"\",MAX(S$1:S42)+1)","v":""},{"$f":"IF(Limits_Details!$B65=\"\",\"\",Limits_Details!$B65)","v":""},{"$f":"IF(Limits_Details!$C65=\"\",\"\",Limits_Details!$C65)","v":""},"",{"$f":"IF(COUNTIF(V$2:V43,V43)=1,V43,\"\")","v":""},"","",null,"PA",null,{"$f":"+IF(AH43=\"\",\"\",MAX(AC$1:AC42)+1)","v":""},{"$f":"IF(Limits_Details!$B65=\"\",\"\",Limits_Details!$B65)","v":""},{"$f":"IF(Limits_Details!$C65=\"\",\"\",Limits_Details!$C65)","v":""},{"$f":"IF(Limits_Details!$D65=\"\",\"\",Limits_Details!$D65)","v":""},"",{"$f":"IF(COUNTIF(AG$2:AG43,AG43)=1,AG43,\"\")","v":""},"","","",null,{"$f":"+IF(AR43=\"\",\"\",MAX(AM$1:AM42)+1)","v":""},{"$f":"IF(CEM_COM_CPMS_Detail!$B65=\"\",\"\",CEM_COM_CPMS_Detail!$B65)","v":""},{"$f":"IF(CEM_COM_CPMS_Detail!$C65=\"\",\"\",CEM_COM_CPMS_Detail!$C65)","v":""},{"$f":"IF(CEM_COM_CPMS_Detail!$D65=\"\",\"\",CEM_COM_CPMS_Detail!$D65)","v":""},"",{"$f":"IF(COUNTIF(AQ$2:AQ43,AQ43)=1,AQ43,\"\")","v":""},"","",""]
[{"$f":"+IF(D44=\"\",\"\",MAX(A$1:A43)+1)","v":""},{"$f":"IF(CEM_COM_CPMS_Identification!C66=\"\",\"\",CEM_COM_CPMS_Identification!C66)","v":""},"",{"$f":"IF(COUNTIF(B$2:B44,B44)=1,B44,\"\")","v":""},null,null,null,null,null,null,{"$f":"+IF(N44=\"\",\"\",MAX(K$1:K43)+1)","v":""},{"$f":"IF(CEM_COM_CPMS_Identification!D66=\"\",\"\",CEM_COM_CPMS_Identification!D66)","v":""},"",{"$f":"IF(COUNTIF(L$2:L44,L44)=1,L44,\"\")","v":""},null,null,null,null,{"$f":"+IF(W44=\"\",\"\",MAX(S$1:S43)+1)","v":""},{"$f":"IF(Limits_Details!$B66=\"\",\"\",Limits_Details!$B66)","v":""},{"$f":"IF(Limits_Details!$C66=\"\",\"\",Limits_Details!$C66)","v":""},"",{"$f":"IF(COUNTIF(V$2:V44,V44)=1,V44,\"\")","v":""},"","",null,"PR",null,{"$f":"+IF(AH44=\"\",\"\",MAX(AC$1:AC43)+1)","v":""},{"$f":"IF(Limits_Details!$B66=\"\",\"\",Limits_Details!$B66)","v":""},{"$f":"IF(Limits_Details!$C66=\"\",\"\",Limits_Details!$C66)","v":""},{"$f":"IF(Limits_Details!$D66=\"\",\"\",Limits_Details!$D66)","v":""},"",{"$f":"IF(COUNTIF(AG$2:AG44,AG44)=1,AG44,\"\")","v":""},"","","",null,{"$f":"+IF(AR44=\"\",\"\",MAX(AM$1:AM43)+1)","v":""},{"$f":"IF(CEM_COM_CPMS_Detail!$B66=\"\",\"\",CEM_COM_CPMS_Detail!$B66)","v":""},{"$f":"IF(CEM_COM_CPMS_Detail!$C66=\"\",\"\",CEM_COM_CPMS_Detail!$C66)","v":""},{"$f":"IF(CEM_COM_CPMS_Detail!$D66=\"\",\"\",CEM_COM_CPMS_Detail!$D66)","v":""},"",{"$f":"IF(COUNTIF(AQ$2:AQ44,AQ44)=1,AQ44,\"\")","v":""},"","",""]
[{"$f":"+IF(D45=\"\",\"\",MAX(A$1:A44)+1)","v":""},{"$f":"IF(CEM_COM_CPMS_Identification!C67=\"\",\"\",CEM_COM_CPMS_Identification!C67)","v":""},"",{"$f":"IF(COUNTIF(B$2:B45,B45)=1,B45,\"\")","v":""},null,null,null,null,null,null,{"$f":"+IF(N45=\"\",\"\",MAX(K$1:K44)+1)","v":""},{"$f":"IF(CEM_COM_CPMS_Identification!D67=\"\",\"\",CEM_COM_CPMS_Identification!D67)","v":""},"",{"$f":"IF(COUNTIF(L$2:L45,L45)=1,L45,\"\")","v":""},null,null,null,null,{"$f":"+IF(W45=\"\",\"\",MAX(S$1:S44)+1)","v":""},{"$f":"IF(Limits_Details!$B67=\"\",\"\",Limits_Details!$B67)","v":""},{"$f":"IF(Limits_Details!$C67=\"\",\"\",Limits_Details!$C67)","v":""},"",{"$f":"IF(COUNTIF(V$2:V45,V45)=1,V45,\"\")","v":""},"","",null,"RI",null,{"$f":"+IF(AH45=\"\",\"\",MAX(AC$1:AC44)+1)","v":""},{"$f":"IF(Limits_Details!$B67=\"\",\"\",Limits_Details!$B67)","v":""},{"$f":"IF(Limits_Details!$C67=\"\",\"\",Limits_Details!$C67)","v":""},{"$f":"IF(Limits_Details!$D67=\"\",\"\",Limits_Details!$D67)","v":""},"",{"$f":"IF(COUNTIF(AG$2:AG45,AG45)=1,AG45,\"\")","v":""},"","","",null,{"$f":"+IF(AR45=\"\",\"\",MAX(AM$1:AM44)+1)","v":""},{"$f":"IF(CEM_COM_CPMS_Detail!$B67=\"\",\"\",CEM_COM_CPMS_Detail!$B67)","v":""},{"$f":"IF(CEM_COM_CPMS_Detail!$C67=\"\",\"\",CEM_COM_CPMS_Detail!$C67)","v":""},{"$f":"IF(CEM_COM_CPMS_Detail!$D67=\"\",\"\",CEM_COM_CPMS_Detail!$D67)","v":""},"",{"$f":"IF(COUNTIF(AQ$2:AQ45,AQ45)=1,AQ45,\"\")","v":""},"","",""]
[{"$f":"+IF(D46=\"\",\"\",MAX(A$1:A45)+1)","v":""},{"$f":"IF(CEM_COM_CPMS_Identification!C68=\"\",\"\",CEM_COM_CPMS_Identification!C68)","v":""},"",{"$f":"IF(COUNTIF(B$2:B46,B46)=1,B46,\"\")","v":""},null,null,null,null,null,null,{"$f":"+IF(N46=\"\",\"\",MAX(K$1:K45)+1)","v":""},{"$f":"IF(CEM_COM_CPMS_Identification!D68=\"\",\"\",CEM_COM_CPMS_Identification!D68)","v":""},"",{"$f":"IF(COUNTIF(L$2:L46,L46)=1,L46,\"\")","v":""},null,null,null,null,{"$f":"+IF(W46=\"\",\"\",MAX(S$1:S45)+1)","v":""},{"$f":"IF(Limits_Details!$B68=\"\",\"\",Limits_Details!$B68)","v":""},{"$f":"IF(Limits_Details!$C68=\"\",\"\",Limits_Details!$C68)","v":""},"",{"$f":"IF(COUNTIF(V$2:V46,V46)=1,V46,\"\")","v":""},"","",null,"SC",null,{"$f":"+IF(AH46=\"\",\"\",MAX(AC$1:AC45)+1)","v":""},{"$f":"IF(Limits_Details!$B68=\"\",\"\",Limits_Details!$B68)","v":""},{"$f":"IF(Limits_Details!$C68=\"\",\"\",Limits_Details!$C68)","v":""},{"$f":"IF(Limits_Details!$D68=\"\",\"\",Limits_Details!$D68)","v":""},"",{"$f":"IF(COUNTIF(AG$2:AG46,AG46)=1,AG46,\"\")","v":""},"","","",null,{"$f":"+IF(AR46=\"\",\"\",MAX(AM$1:AM45)+1)","v":""},{"$f":"IF(CEM_COM_CPMS_Detail!$B68=\"\",\"\",CEM_COM_CPMS_Detail!$B68)","v":""},{"$f":"IF(CEM_COM_CPMS_Detail!$C68=\"\",\"\",CEM_COM_CPMS_Detail!$C68)","v":""},{"$f":"IF(CEM_COM_CPMS_Detail!$D68=\"\",\"\",CEM_COM_CPMS_Detail!$D68)","v":""},"",{"$f":"IF(COUNTIF(AQ$2:AQ46,AQ46)=1,AQ46,\"\")","v":""},"","",""]
[{"$f":"+IF(D47=\"\",\"\",MAX(A$1:A46)+1)","v":""},{"$f":"IF(CEM_COM_CPMS_Identification!C69=\"\",\"\",CEM_COM_CPMS_Identification!C69)","v":""},"",{"$f":"IF(COUNTIF(B$2:B47,B47)=1,B47,\"\")","v":""},null,null,null,null,null,null,{"$f":"+IF(N47=\"\",\"\",MAX(K$1:K46)+1)","v":""},{"$f":"IF(CEM_COM_CPMS_Identification!D69=\"\",\"\",CEM_COM_CPMS_Identification!D69)","v":""},"",{"$f":"IF(COUNTIF(L$2:L47,L47)=1,L47,\"\")","v":""},null,null,null,null,{"$f":"+IF(W47=\"\",\"\",MAX(S$1:S46)+1)","v":""},{"$f":"IF(Limits_Details!$B69=\"\",\"\",Limits_Details!$B69)","v":""},{"$f":"IF(Limits_Details!$C69=\"\",\"\",Limits_Details!$C69)","v":""},"",{"$f":"IF(COUNTIF(V$2:V47,V47)=1,V47,\"\")","v":""},"","",null,"SD",null,{"$f":"+IF(AH47=\"\",\"\",MAX(AC$1:AC46)+1)","v":""},{"$f":"IF(Limits_Details!$B69=\"\",\"\",Limits_Details!$B69)","v":""},{"$f":"IF(Limits_Details!$C69=\"\",\"\",Limits_Details!$C69)","v":""},{"$f":"IF(Limits_Details!$D69=\"\",\"\",Limits_Details!$D69)","v":""},"",{"$f":"IF(COUNTIF(AG$2:AG47,AG47)=1,AG47,\"\")","v":""},"","","",null,{"$f":"+IF(AR47=\"\",\"\",MAX(AM$1:AM46)+1)","v":""},{"$f":"IF(CEM_COM_CPMS_Detail!$B69=\"\",\"\",CEM_COM_CPMS_Detail!$B69)","v":""},{"$f":"IF(CEM_COM_CPMS_Detail!$C69=\"\",\"\",CEM_COM_CPMS_Detail!$C69)","v":""},{"$f":"IF(CEM_COM_CPMS_Detail!$D69=\"\",\"\",CEM_COM_CPMS_Detail!$D69)","v":""},"",{"$f":"IF(COUNTIF(AQ$2:AQ47,AQ47)=1,AQ47,\"\")","v":""},"","",""]
[{"$f":"+IF(D48=\"\",\"\",MAX(A$1:A47)+1)","v":""},{"$f":"IF(CEM_COM_CPMS_Identification!C70=\"\",\"\",CEM_COM_CPMS_Identification!C70)","v":""},"",{"$f":"IF(COUNTIF(B$2:B48,B48)=1,B48,\"\")","v":""},null,null,null,null,null,null,{"$f":"+IF(N48=\"\",\"\",MAX(K$1:K47)+1)","v":""},{"$f":"IF(CEM_COM_CPMS_Identification!D70=\"\",\"\",CEM_COM_CPMS_Identification!D70)","v":""},"",{"$f":"IF(COUNTIF(L$2:L48,L48)=1,L48,\"\")","v":""},null,null,null,null,{"$f":"+IF(W48=\"\",\"\",MAX(S$1:S47)+1)","v":""},{"$f":"IF(Limits_Details!$B70=\"\",\"\",Limits_Details!$B70)","v":""},{"$f":"IF(Limits_Details!$C70=\"\",\"\",Limits_Details!$C70)","v":""},"",{"$f":"IF(COUNTIF(V$2:V48,V48)=1,V48,\"\")","v":""},"","",null,"TN",null,{"$f":"+IF(AH48=\"\",\"\",MAX(AC$1:AC47)+1)","v":""},{"$f":"IF(Limits_Details!$B70=\"\",\"\",Limits_Details!$B70)","v":""},{"$f":"IF(Limits_Details!$C70=\"\",\"\",Limits_Details!$C70)","v":""},{"$f":"IF(Limits_Details!$D70=\"\",\"\",Limits_Details!$D70)","v":""},"",{"$f":"IF(COUNTIF(AG$2:AG48,AG48)=1,AG48,\"\")","v":""},"","","",null,{"$f":"+IF(AR48=\"\",\"\",MAX(AM$1:AM47)+1)","v":""},{"$f":"IF(CEM_COM_CPMS_Detail!$B70=\"\",\"\",CEM_COM_CPMS_Detail!$B70)","v":""},{"$f":"IF(CEM_COM_CPMS_Detail!$C70=\"\",\"\",CEM_COM_CPMS_Detail!$C70)","v":""},{"$f":"IF(CEM_COM_CPMS_Detail!$D70=\"\",\"\",CEM_COM_CPMS_Detail!$D70)","v":""},"",{"$f":"IF(COUNTIF(AQ$2:AQ48,AQ48)=1,AQ48,\"\")","v":""},"","",""]
[{"$f":"+IF(D49=\"\",\"\",MAX(A$1:A48)+1)","v":""},{"$f":"IF(CEM_COM_CPMS_Identification!C71=\"\",\"\",CEM_COM_CPMS_Identification!C71)","v":""},"",{"$f":"IF(COUNTIF(B$2:B49,B49)=1,B49,\"\")","v":""},null,null,null,null,null,null,{"$f":"+IF(N49=\"\",\"\",MAX(K$1:K48)+1)","v":""},{"$f":"IF(CEM_COM_CPMS_Identification!D71=\"\",\"\",CEM_COM_CPMS_Identification!D71)","v":""},"",{"$f":"IF(COUNTIF(L$2:L49,L49)=1,L49,\"\")","v":""},null,null,null,null,{"$f":"+IF(W49=\"\",\"\",MAX(S$1:S48)+1)","v":""},{"$f":"IF(Limits_Details!$B71=\"\",\"\",Limits_Details!$B71)","v":""},{"$f":"IF(Limits_Details!$C71=\"\",\"\",Limits_Details!$C71)","v":""},"",{"$f":"IF(COUNTIF(V$2:V49,V49)=1,V49,\"\")","v":""},"","",null,"TX",null,{"$f":"+IF(AH49=\"\",\"\",MAX(AC$1:AC48)+1)","v":""},{"$f":"IF(Limits_Details!$B71=\"\",\"\",Limits_Details!$B71)","v":""},{"$f":"IF(Limits_Details!$C71=\"\",\"\",Limits_Details!$C71)","v":""},{"$f":"IF(Limits_Details!$D71=\"\",\"\",Limits_Details!$D71)","v":""},"",{"$f":"IF(COUNTIF(AG$2:AG49,AG49)=1,AG49,\"\")","v":""},"","","",null,{"$f":"+IF(AR49=\"\",\"\",MAX(AM$1:AM48)+1)","v":""},{"$f":"IF(CEM_COM_CPMS_Detail!$B71=\"\",\"\",CEM_COM_CPMS_Detail!$B71)","v":""},{"$f":"IF(CEM_COM_CPMS_Detail!$C71=\"\",\"\",CEM_COM_CPMS_Detail!$C71)","v":""},{"$f":"IF(CEM_COM_CPMS_Detail!$D71=\"\",\"\",CEM_COM_CPMS_Detail!$D71)","v":""},"",{"$f":"IF(COUNTIF(AQ$2:AQ49,AQ49)=1,AQ49,\"\")","v":""},"","",""]
[{"$f":"+IF(D50=\"\",\"\",MAX(A$1:A49)+1)","v":""},{"$f":"IF(CEM_COM_CPMS_Identification!C72=\"\",\"\",CEM_COM_CPMS_Identification!C72)","v":""},"",{"$f":"IF(COUNTIF(B$2:B50,B50)=1,B50,\"\")","v":""},null,null,null,null,null,null,{"$f":"+IF(N50=\"\",\"\",MAX(K$1:K49)+1)","v":""},{"$f":"IF(CEM_COM_CPMS_Identification!D72=\"\",\"\",CEM_COM_CPMS_Identification!D72)","v":""},"",{"$f":"IF(COUNTIF(L$2:L50,L50)=1,L50,\"\")","v":""},null,null,null,null,{"$f":"+IF(W50=\"\",\"\",MAX(S$1:S49)+1)","v":""},{"$f":"IF(Limits_Details!$B72=\"\",\"\",Limits_Details!$B72)","v":""},{"$f":"IF(Limits_Details!$C72=\"\",\"\",Limits_Details!$C72)","v":""},"",{"$f":"IF(COUNTIF(V$2:V50,V50)=1,V50,\"\")","v":""},"","",null,"UT",null,{"$f":"+IF(AH50=\"\",\"\",MAX(AC$1:AC49)+1)","v":""},{"$f":"IF(Limits_Details!$B72=\"\",\"\",Limits_Details!$B72)","v":""},{"$f":"IF(Limits_Details!$C72=\"\",\"\",Limits_Details!$C72)","v":""},{"$f":"IF(Limits_Details!$D72=\"\",\"\",Limits_Details!$D72)","v":""},"",{"$f":"IF(COUNTIF(AG$2:AG50,AG50)=1,AG50,\"\")","v":""},"","","",null,{"$f":"+IF(AR50=\"\",\"\",MAX(AM$1:AM49)+1)","v":""},{"$f":"IF(CEM_COM_CPMS_Detail!$B72=\"\",\"\",CEM_COM_CPMS_Detail!$B72)","v":""},{"$f":"IF(CEM_COM_CPMS_Detail!$C72=\"\",\"\",CEM_COM_CPMS_Detail!$C72)","v":""},{"$f":"IF(CEM_COM_CPMS_Detail!$D72=\"\",\"\",CEM_COM_CPMS_Detail!$D72)","v":""},"",{"$f":"IF(COUNTIF(AQ$2:AQ50,AQ50)=1,AQ50,\"\")","v":""},"","",""]
[{"$f":"+IF(D51=\"\",\"\",MAX(A$1:A50)+1)","v":""},{"$f":"IF(CEM_COM_CPMS_Identification!C73=\"\",\"\",CEM_COM_CPMS_Identification!C73)","v":""},"",{"$f":"IF(COUNTIF(B$2:B51,B51)=1,B51,\"\")","v":""},null,null,null,null,null,null,{"$f":"+IF(N51=\"\",\"\",MAX(K$1:K50)+1)","v":""},{"$f":"IF(CEM_COM_CPMS_Identification!D73=\"\",\"\",CEM_COM_CPMS_Identification!D73)","v":""},"",{"$f":"IF(COUNTIF(L$2:L51,L51)=1,L51,\"\")","v":""},null,null,null,null,{"$f":"+IF(W51=\"\",\"\",MAX(S$1:S50)+1)","v":""},{"$f":"IF(Limits_Details!$B73=\"\",\"\",Limits_Details!$B73)","v":""},{"$f":"IF(Limits_Details!$C73=\"\",\"\",Limits_Details!$C73)","v":""},"",{"$f":"IF(COUNTIF(V$2:V51,V51)=1,V51,\"\")","v":""},"","",null,"VA",null,{"$f":"+IF(AH51=\"\",\"\",MAX(AC$1:AC50)+1)","v":""},{"$f":"IF(Limits_Details!$B73=\"\",\"\",Limits_Details!$B73)","v":""},{"$f":"IF(Limits_Details!$C73=\"\",\"\",Limits_Details!$C73)","v":""},{"$f":"IF(Limits_Details!$D73=\"\",\"\",Limits_Details!$D73)","v":""},"",{"$f":"IF(COUNTIF(AG$2:AG51,AG51)=1,AG51,\"\")","v":""},"","","",null,{"$f":"+IF(AR51=\"\",\"\",MAX(AM$1:AM50)+1)","v":""},{"$f":"IF(CEM_COM_CPMS_Detail!$B73=\"\",\"\",CEM_COM_CPMS_Detail!$B73)","v":""},{"$f":"IF(CEM_COM_CPMS_Detail!$C73=\"\",\"\",CEM_COM_CPMS_Detail!$C73)","v":""},{"$f":"IF(CEM_COM_CPMS_Detail!$D73=\"\",\"\",CEM_COM_CPMS_Detail!$D73)","v":""},"",{"$f":"IF(COUNTIF(AQ$2:AQ51,AQ51)=1,AQ51,\"\")","v":""},"","",""]
[{"$f":"+IF(D52=\"\",\"\",MAX(A$1:A51)+1)","v":""},{"$f":"IF(CEM_COM_CPMS_Identification!C74=\"\",\"\",CEM_COM_CPMS_Identification!C74)","v":""},"",{"$f":"IF(COUNTIF(B$2:B52,B52)=1,B52,\"\")","v":""},null,null,null,null,null,null,{"$f":"+IF(N52=\"\",\"\",MAX(K$1:K51)+1)","v":""},{"$f":"IF(CEM_COM_CPMS_Identification!D74=\"\",\"\",CEM_COM_CPMS_Identification!D74)","v":""},"",{"$f":"IF(COUNTIF(L$2:L52,L52)=1,L52,\"\")","v":""},null,null,null,null,{"$f":"+IF(W52=\"\",\"\",MAX(S$1:S51)+1)","v":""},{"$f":"IF(Limits_Details!$B74=\"\",\"\",Limits_Details!$B74)","v":""},{"$f":"IF(Limits_Details!$C74=\"\",\"\",Limits_Details!$C74)","v":""},"",{"$f":"IF(COUNTIF(V$2:V52,V52)=1,V52,\"\")","v":""},"","",null,"VI",null,{"$f":"+IF(AH52=\"\",\"\",MAX(AC$1:AC51)+1)","v":""},{"$f":"IF(Limits_Details!$B74=\"\",\"\",Limits_Details!$B74)","v":""},{"$f":"IF(Limits_Details!$C74=\"\",\"\",Limits_Details!$C74)","v":""},{"$f":"IF(Limits_Details!$D74=\"\",\"\",Limits_Details!$D74)","v":""},"",{"$f":"IF(COUNTIF(AG$2:AG52,AG52)=1,AG52,\"\")","v":""},"","","",null,{"$f":"+IF(AR52=\"\",\"\",MAX(AM$1:AM51)+1)","v":""},{"$f":"IF(CEM_COM_CPMS_Detail!$B74=\"\",\"\",CEM_COM_CPMS_Detail!$B74)","v":""},{"$f":"IF(CEM_COM_CPMS_Detail!$C74=\"\",\"\",CEM_COM_CPMS_Detail!$C74)","v":""},{"$f":"IF(CEM_COM_CPMS_Detail!$D74=\"\",\"\",CEM_COM_CPMS_Detail!$D74)","v":""},"",{"$f":"IF(COUNTIF(AQ$2:AQ52,AQ52)=1,AQ52,\"\")","v":""},"","",""]
[{"$f":"+IF(D53=\"\",\"\",MAX(A$1:A52)+1)","v":""},{"$f":"IF(CEM_COM_CPMS_Identification!C75=\"\",\"\",CEM_COM_CPMS_Identification!C75)","v":""},"",{"$f":"IF(COUNTIF(B$2:B53,B53)=1,B53,\"\")","v":""},null,null,null,null,null,null,{"$f":"+IF(N53=\"\",\"\",MAX(K$1:K52)+1)","v":""},{"$f":"IF(CEM_COM_CPMS_Identification!D75=\"\",\"\",CEM_COM_CPMS_Identification!D75)","v":""},"",{"$f":"IF(COUNTIF(L$2:L53,L53)=1,L53,\"\")","v":""},null,null,null,null,{"$f":"+IF(W53=\"\",\"\",MAX(S$1:S52)+1)","v":""},{"$f":"IF(Limits_Details!$B75=\"\",\"\",Limits_Details!$B75)","v":""},{"$f":"IF(Limits_Details!$C75=\"\",\"\",Limits_Details!$C75)","v":""},"",{"$f":"IF(COUNTIF(V$2:V53,V53)=1,V53,\"\")","v":""},"","",null,"VT",null,{"$f":"+IF(AH53=\"\",\"\",MAX(AC$1:AC52)+1)","v":""},{"$f":"IF(Limits_Details!$B75=\"\",\"\",Limits_Details!$B75)","v":""},{"$f":"IF(Limits_Details!$C75=\"\",\"\",Limits_Details!$C75)","v":""},{"$f":"IF(Limits_Details!$D75=\"\",\"\",Limits_Details!$D75)","v":""},"",{"$f":"IF(COUNTIF(AG$2:AG53,AG53)=1,AG53,\"\")","v":""},"","","",null,{"$f":"+IF(AR53=\"\",\"\",MAX(AM$1:AM52)+1)","v":""},{"$f":"IF(CEM_COM_CPMS_Detail!$B75=\"\",\"\",CEM_COM_CPMS_Detail!$B75)","v":""},{"$f":"IF(CEM_COM_CPMS_Detail!$C75=\"\",\"\",CEM_COM_CPMS_Detail!$C75)","v":""},{"$f":"IF(CEM_COM_CPMS_Detail!$D75=\"\",\"\",CEM_COM_CPMS_Detail!$D75)","v":""},"",{"$f":"IF(COUNTIF(AQ$2:AQ53,AQ53)=1,AQ53,\"\")","v":""},"","",""]
[{"$f":"+IF(D54=\"\",\"\",MAX(A$1:A53)+1)","v":""},{"$f":"IF(CEM_COM_CPMS_Identification!C76=\"\",\"\",CEM_COM_CPMS_Identification!C76)","v":""},"",{"$f":"IF(COUNTIF(B$2:B54,B54)=1,B54,\"\")","v":""},null,null,null,null,null,null,{"$f":"+IF(N54=\"\",\"\",MAX(K$1:K53)+1)","v":""},{"$f":"IF(CEM_COM_CPMS_Identification!D76=\"\",\"\",CEM_COM_CPMS_Identification!D76)","v":""},"",{"$f":"IF(COUNTIF(L$2:L54,L54)=1,L54,\"\")","v":""},null,null,null,null,{"$f":"+IF(W54=\"\",\"\",MAX(S$1:S53)+1)","v":""},{"$f":"IF(Limits_Details!$B76=\"\",\"\",Limits_Details!$B76)","v":""},{"$f":"IF(Limits_Details!$C76=\"\",\"\",Limits_Details!$C76)","v":""},"",{"$f":"IF(COUNTIF(V$2:V54,V54)=1,V54,\"\")","v":""},"","",null,"WA",null,{"$f":"+IF(AH54=\"\",\"\",MAX(AC$1:AC53)+1)","v":""},{"$f":"IF(Limits_Details!$B76=\"\",\"\",Limits_Details!$B76)","v":""},{"$f":"IF(Limits_Details!$C76=\"\",\"\",Limits_Details!$C76)","v":""},{"$f":"IF(Limits_Details!$D76=\"\",\"\",Limits_Details!$D76)","v":""},"",{"$f":"IF(COUNTIF(AG$2:AG54,AG54)=1,AG54,\"\")","v":""},"","","",null,{"$f":"+IF(AR54=\"\",\"\",MAX(AM$1:AM53)+1)","v":""},{"$f":"IF(CEM_COM_CPMS_Detail!$B76=\"\",\"\",CEM_COM_CPMS_Detail!$B76)","v":""},{"$f":"IF(CEM_COM_CPMS_Detail!$C76=\"\",\"\",CEM_COM_CPMS_Detail!$C76)","v":""},{"$f":"IF(CEM_COM_CPMS_Detail!$D76=\"\",\"\",CEM_COM_CPMS_Detail!$D76)","v":""},"",{"$f":"IF(COUNTIF(AQ$2:AQ54,AQ54)=1,AQ54,\"\")","v":""},"","",""]
[{"$f":"+IF(D55=\"\",\"\",MAX(A$1:A54)+1)","v":""},{"$f":"IF(CEM_COM_CPMS_Identification!C77=\"\",\"\",CEM_COM_CPMS_Identification!C77)","v":""},"",{"$f":"IF(COUNTIF(B$2:B55,B55)=1,B55,\"\")","v":""},null,null,null,null,null,null,{"$f":"+IF(N55=\"\",\"\",MAX(K$1:K54)+1)","v":""},{"$f":"IF(CEM_COM_CPMS_Identification!D77=\"\",\"\",CEM_COM_CPMS_Identification!D77)","v":""},"",{"$f":"IF(COUNTIF(L$2:L55,L55)=1,L55,\"\")","v":""},null,null,null,null,{"$f":"+IF(W55=\"\",\"\",MAX(S$1:S54)+1)","v":""},{"$f":"IF(Limits_Details!$B77=\"\",\"\",Limits_Details!$B77)","v":""},{"$f":"IF(Limits_Details!$C77=\"\",\"\",Limits_Details!$C77)","v":""},"",{"$f":"IF(COUNTIF(V$2:V55,V55)=1,V55,\"\")","v":""},"","",null,"WI",null,{"$f":"+IF(AH55=\"\",\"\",MAX(AC$1:AC54)+1)","v":""},{"$f":"IF(Limits_Details!$B77=\"\",\"\",Limits_Details!$B77)","v":""},{"$f":"IF(Limits_Details!$C77=\"\",\"\",Limits_Details!$C77)","v":""},{"$f":"IF(Limits_Details!$D77=\"\",\"\",Limits_Details!$D77)","v":""},"",{"$f":"IF(COUNTIF(AG$2:AG55,AG55)=1,AG55,\"\")","v":""},"","","",null,{"$f":"+IF(AR55=\"\",\"\",MAX(AM$1:AM54)+1)","v":""},{"$f":"IF(CEM_COM_CPMS_Detail!$B77=\"\",\"\",CEM_COM_CPMS_Detail!$B77)","v":""},{"$f":"IF(CEM_COM_CPMS_Detail!$C77=\"\",\"\",CEM_COM_CPMS_Detail!$C77)","v":""},{"$f":"IF(CEM_COM_CPMS_Detail!$D77=\"\",\"\",CEM_COM_CPMS_Detail!$D77)","v":""},"",{"$f":"IF(COUNTIF(AQ$2:AQ55,AQ55)=1,AQ55,\"\")","v":""},"","",""]
[{"$f":"+IF(D56=\"\",\"\",MAX(A$1:A55)+1)","v":""},{"$f":"IF(CEM_COM_CPMS_Identification!C78=\"\",\"\",CEM_COM_CPMS_Identification!C78)","v":""},"",{"$f":"IF(COUNTIF(B$2:B56,B56)=1,B56,\"\")","v":""},null,null,null,null,null,null,{"$f":"+IF(N56=\"\",\"\",MAX(K$1:K55)+1)","v":""},{"$f":"IF(CEM_COM_CPMS_Identification!D78=\"\",\"\",CEM_COM_CPMS_Identification!D78)","v":""},"",{"$f":"IF(COUNTIF(L$2:L56,L56)=1,L56,\"\")","v":""},null,null,null,null,{"$f":"+IF(W56=\"\",\"\",MAX(S$1:S55)+1)","v":""},{"$f":"IF(Limits_Details!$B78=\"\",\"\",Limits_Details!$B78)","v":""},{"$f":"IF(Limits_Details!$C78=\"\",\"\",Limits_Details!$C78)","v":""},"",{"$f":"IF(COUNTIF(V$2:V56,V56)=1,V56,\"\")","v":""},"","",null,"WV",null,{"$f":"+IF(AH56=\"\",\"\",MAX(AC$1:AC55)+1)","v":""},{"$f":"IF(Limits_Details!$B78=\"\",\"\",Limits_Details!$B78)","v":""},{"$f":"IF(Limits_Details!$C78=\"\",\"\",Limits_Details!$C78)","v":""},{"$f":"IF(Limits_Details!$D78=\"\",\"\",Limits_Details!$D78)","v":""},"",{"$f":"IF(COUNTIF(AG$2:AG56,AG56)=1,AG56,\"\")","v":""},"","","",null,{"$f":"+IF(AR56=\"\",\"\",MAX(AM$1:AM55)+1)","v":""},{"$f":"IF(CEM_COM_CPMS_Detail!$B78=\"\",\"\",CEM_COM_CPMS_Detail!$B78)","v":""},{"$f":"IF(CEM_COM_CPMS_Detail!$C78=\"\",\"\",CEM_COM_CPMS_Detail!$C78)","v":""},{"$f":"IF(CEM_COM_CPMS_Detail!$D78=\"\",\"\",CEM_COM_CPMS_Detail!$D78)","v":""},"",{"$f":"IF(COUNTIF(AQ$2:AQ56,AQ56)=1,AQ56,\"\")","v":""},"","",""]
[{"$f":"+IF(D57=\"\",\"\",MAX(A$1:A56)+1)","v":""},{"$f":"IF(CEM_COM_CPMS_Identification!C79=\"\",\"\",CEM_COM_CPMS_Identification!C79)","v":""},"",{"$f":"IF(COUNTIF(B$2:B57,B57)=1,B57,\"\")","v":""},null,null,null,null,null,null,{"$f":"+IF(N57=\"\",\"\",MAX(K$1:K56)+1)","v":""},{"$f":"IF(CEM_COM_CPMS_Identification!D79=\"\",\"\",CEM_COM_CPMS_Identification!D79)","v":""},"",{"$f":"IF(COUNTIF(L$2:L57,L57)=1,L57,\"\")","v":""},null,null,null,null,{"$f":"+IF(W57=\"\",\"\",MAX(S$1:S56)+1)","v":""},{"$f":"IF(Limits_Details!$B79=\"\",\"\",Limits_Details!$B79)","v":""},{"$f":"IF(Limits_Details!$C79=\"\",\"\",Limits_Details!$C79)","v":""},"",{"$f":"IF(COUNTIF(V$2:V57,V57)=1,V57,\"\")","v":""},"","",null,"WY",null,{"$f":"+IF(AH57=\"\",\"\",MAX(AC$1:AC56)+1)","v":""},{"$f":"IF(Limits_Details!$B79=\"\",\"\",Limits_Details!$B79)","v":""},{"$f":"IF(Limits_Details!$C79=\"\",\"\",Limits_Details!$C79)","v":""},{"$f":"IF(Limits_Details!$D79=\"\",\"\",Limits_Details!$D79)","v":""},"",{"$f":"IF(COUNTIF(AG$2:AG57,AG57)=1,AG57,\"\")","v":""},"","","",null,{"$f":"+IF(AR57=\"\",\"\",MAX(AM$1:AM56)+1)","v":""},{"$f":"IF(CEM_COM_CPMS_Detail!$B79=\"\",\"\",CEM_COM_CPMS_Detail!$B79)","v":""},{"$f":"IF(CEM_COM_CPMS_Detail!$C79=\"\",\"\",CEM_COM_CPMS_Detail!$C79)","v":""},{"$f":"IF(CEM_COM_CPMS_Detail!$D79=\"\",\"\",CEM_COM_CPMS_Detail!$D79)","v":""},"",{"$f":"IF(COUNTIF(AQ$2:AQ57,AQ57)=1,AQ57,\"\")","v":""},"","",""]
[{"$f":"+IF(D58=\"\",\"\",MAX(A$1:A57)+1)","v":""},{"$f":"IF(CEM_COM_CPMS_Identification!C80=\"\",\"\",CEM_COM_CPMS_Identification!C80)","v":""},"",{"$f":"IF(COUNTIF(B$2:B58,B58)=1,B58,\"\")","v":""},null,null,null,null,null,null,{"$f":"+IF(N58=\"\",\"\",MAX(K$1:K57)+1)","v":""},{"$f":"IF(CEM_COM_CPMS_Identification!D80=\"\",\"\",CEM_COM_CPMS_Identification!D80)","v":""},"",{"$f":"IF(COUNTIF(L$2:L58,L58)=1,L58,\"\")","v":""},null,null,null,null,{"$f":"+IF(W58=\"\",\"\",MAX(S$1:S57)+1)","v":""},{"$f":"IF(Limits_Details!$B80=\"\",\"\",Limits_Details!$B80)","v":""},{"$f":"IF(Limits_Details!$C80=\"\",\"\",Limits_Details!$C80)","v":""},"",{"$f":"IF(COUNTIF(V$2:V58,V58)=1,V58,\"\")","v":""},"","",null,null,null,{"$f":"+IF(AH58=\"\",\"\",MAX(AC$1:AC57)+1)","v":""},{"$f":"IF(Limits_Details!$B80=\"\",\"\",Limits_Details!$B80)","v":""},{"$f":"IF(Limits_Details!$C80=\"\",\"\",Limits_Details!$C80)","v":""},{"$f":"IF(Limits_Details!$D80=\"\",\"\",Limits_Details!$D80)","v":""},"",{"$f":"IF(COUNTIF(AG$2:AG58,AG58)=1,AG58,\"\")","v":""},"","","",null,{"$f":"+IF(AR58=\"\",\"\",MAX(AM$1:AM57)+1)","v":""},{"$f":"IF(CEM_COM_CPMS_Detail!$B80=\"\",\"\",CEM_COM_CPMS_Detail!$B80)","v":""},{"$f":"IF(CEM_COM_CPMS_Detail!$C80=\"\",\"\",CEM_COM_CPMS_Detail!$C80)","v":""},{"$f":"IF(CEM_COM_CPMS_Detail!$D80=\"\",\"\",CEM_COM_CPMS_Detail!$D80)","v":""},"",{"$f":"IF(COUNTIF(AQ$2:AQ58,AQ58)=1,AQ58,\"\")","v":""},"","",""]
[{"$f":"+IF(D59=\"\",\"\",MAX(A$1:A58)+1)","v":""},{"$f":"IF(CEM_COM_CPMS_Identification!C81=\"\",\"\",CEM_COM_CPMS_Identification!C81)","v":""},"",{"$f":"IF(COUNTIF(B$2:B59,B59)=1,B59,\"\")","v":""},null,null,null,null,null,null,{"$f":"+IF(N59=\"\",\"\",MAX(K$1:K58)+1)","v":""},{"$f":"IF(CEM_COM_CPMS_Identification!D81=\"\",\"\",CEM_COM_CPMS_Identification!D81)","v":""},"",{"$f":"IF(COUNTIF(L$2:L59,L59)=1,L59,\"\")","v":""},null,null,null,null,{"$f":"+IF(W59=\"\",\"\",MAX(S$1:S58)+1)","v":""},{"$f":"IF(Limits_Details!$B81=\"\",\"\",Limits_Details!$B81)","v":""},{"$f":"IF(Limits_Details!$C81=\"\",\"\",Limits_Details!$C81)","v":""},"",{"$f":"IF(COUNTIF(V$2:V59,V59)=1,V59,\"\")","v":""},"","",null,null,null,{"$f":"+IF(AH59=\"\",\"\",MAX(AC$1:AC58)+1)","v":""},{"$f":"IF(Limits_Details!$B81=\"\",\"\",Limits_Details!$B81)","v":""},{"$f":"IF(Limits_Details!$C81=\"\",\"\",Limits_Details!$C81)","v":""},{"$f":"IF(Limits_Details!$D81=\"\",\"\",Limits_Details!$D81)","v":""},"",{"$f":"IF(COUNTIF(AG$2:AG59,AG59)=1,AG59,\"\")","v":""},"","","",null,{"$f":"+IF(AR59=\"\",\"\",MAX(AM$1:AM58)+1)","v":""},{"$f":"IF(CEM_COM_CPMS_Detail!$B81=\"\",\"\",CEM_COM_CPMS_Detail!$B81)","v":""},{"$f":"IF(CEM_COM_CPMS_Detail!$C81=\"\",\"\",CEM_COM_CPMS_Detail!$C81)","v":""},{"$f":"IF(CEM_COM_CPMS_Detail!$D81=\"\",\"\",CEM_COM_CPMS_Detail!$D81)","v":""},"",{"$f":"IF(COUNTIF(AQ$2:AQ59,AQ59)=1,AQ59,\"\")","v":""},"","",""]
[{"$f":"+IF(D60=\"\",\"\",MAX(A$1:A59)+1)","v":""},{"$f":"IF(CEM_COM_CPMS_Identification!C82=\"\",\"\",CEM_COM_CPMS_Identification!C82)","v":""},"",{"$f":"IF(COUNTIF(B$2:B60,B60)=1,B60,\"\")","v":""},null,null,null,null,null,null,{"$f":"+IF(N60=\"\",\"\",MAX(K$1:K59)+1)","v":""},{"$f":"IF(CEM_COM_CPMS_Identification!D82=\"\",\"\",CEM_COM_CPMS_Identification!D82)","v":""},"",{"$f":"IF(COUNTIF(L$2:L60,L60)=1,L60,\"\")","v":""},null,null,null,null,{"$f":"+IF(W60=\"\",\"\",MAX(S$1:S59)+1)","v":""},{"$f":"IF(Limits_Details!$B82=\"\",\"\",Limits_Details!$B82)","v":""},{"$f":"IF(Limits_Details!$C82=\"\",\"\",Limits_Details!$C82)","v":""},"",{"$f":"IF(COUNTIF(V$2:V60,V60)=1,V60,\"\")","v":""},"","",null,null,null,{"$f":"+IF(AH60=\"\",\"\",MAX(AC$1:AC59)+1)","v":""},{"$f":"IF(Limits_Details!$B82=\"\",\"\",Limits_Details!$B82)","v":""},{"$f":"IF(Limits_Details!$C82=\"\",\"\",Limits_Details!$C82)","v":""},{"$f":"IF(Limits_Details!$D82=\"\",\"\",Limits_Details!$D82)","v":""},"",{"$f":"IF(COUNTIF(AG$2:AG60,AG60)=1,AG60,\"\")","v":""},"","","",null,{"$f":"+IF(AR60=\"\",\"\",MAX(AM$1:AM59)+1)","v":""},{"$f":"IF(CEM_COM_CPMS_Detail!$B82=\"\",\"\",CEM_COM_CPMS_Detail!$B82)","v":""},{"$f":"IF(CEM_COM_CPMS_Detail!$C82=\"\",\"\",CEM_COM_CPMS_Detail!$C82)","v":""},{"$f":"IF(CEM_COM_CPMS_Detail!$D82=\"\",\"\",CEM_COM_CPMS_Detail!$D82)","v":""},"",{"$f":"IF(COUNTIF(AQ$2:AQ60,AQ60)=1,AQ60,\"\")","v":""},"","",""]
[{"$f":"+IF(D61=\"\",\"\",MAX(A$1:A60)+1)","v":""},{"$f":"IF(CEM_COM_CPMS_Identification!C83=\"\",\"\",CEM_COM_CPMS_Identification!C83)","v":""},"",{"$f":"IF(COUNTIF(B$2:B61,B61)=1,B61,\"\")","v":""},null,null,null,null,null,null,{"$f":"+IF(N61=\"\",\"\",MAX(K$1:K60)+1)","v":""},{"$f":"IF(CEM_COM_CPMS_Identification!D83=\"\",\"\",CEM_COM_CPMS_Identification!D83)","v":""},"",{"$f":"IF(COUNTIF(L$2:L61,L61)=1,L61,\"\")","v":""},null,null,null,null,{"$f":"+IF(W61=\"\",\"\",MAX(S$1:S60)+1)","v":""},{"$f":"IF(Limits_Details!$B83=\"\",\"\",Limits_Details!$B83)","v":""},{"$f":"IF(Limits_Details!$C83=\"\",\"\",Limits_Details!$C83)","v":""},"",{"$f":"IF(COUNTIF(V$2:V61,V61)=1,V61,\"\")","v":""},"","",null,null,null,{"$f":"+IF(AH61=\"\",\"\",MAX(AC$1:AC60)+1)","v":""},{"$f":"IF(Limits_Details!$B83=\"\",\"\",Limits_Details!$B83)","v":""},{"$f":"IF(Limits_Details!$C83=\"\",\"\",Limits_Details!$C83)","v":""},{"$f":"IF(Limits_Details!$D83=\"\",\"\",Limits_Details!$D83)","v":""},"",{"$f":"IF(COUNTIF(AG$2:AG61,AG61)=1,AG61,\"\")","v":""},"","","",null,{"$f":"+IF(AR61=\"\",\"\",MAX(AM$1:AM60)+1)","v":""},{"$f":"IF(CEM_COM_CPMS_Detail!$B83=\"\",\"\",CEM_COM_CPMS_Detail!$B83)","v":""},{"$f":"IF(CEM_COM_CPMS_Detail!$C83=\"\",\"\",CEM_COM_CPMS_Detail!$C83)","v":""},{"$f":"IF(CEM_COM_CPMS_Detail!$D83=\"\",\"\",CEM_COM_CPMS_Detail!$D83)","v":""},"",{"$f":"IF(COUNTIF(AQ$2:AQ61,AQ61)=1,AQ61,\"\")","v":""},"","",""]
[{"$f":"+IF(D62=\"\",\"\",MAX(A$1:A61)+1)","v":""},{"$f":"IF(CEM_COM_CPMS_Identification!C84=\"\",\"\",CEM_COM_CPMS_Identification!C84)","v":""},"",{"$f":"IF(COUNTIF(B$2:B62,B62)=1,B62,\"\")","v":""},null,null,null,null,null,null,{"$f":"+IF(N62=\"\",\"\",MAX(K$1:K61)+1)","v":""},{"$f":"IF(CEM_COM_CPMS_Identification!D84=\"\",\"\",CEM_COM_CPMS_Identification!D84)","v":""},"",{"$f":"IF(COUNTIF(L$2:L62,L62)=1,L62,\"\")","v":""},null,null,null,null,{"$f":"+IF(W62=\"\",\"\",MAX(S$1:S61)+1)","v":""},{"$f":"IF(Limits_Details!$B84=\"\",\"\",Limits_Details!$B84)","v":""},{"$f":"IF(Limits_Details!$C84=\"\",\"\",Limits_Details!$C84)","v":""},"",{"$f":"IF(COUNTIF(V$2:V62,V62)=1,V62,\"\")","v":""},"","",null,null,null,{"$f":"+IF(AH62=\"\",\"\",MAX(AC$1:AC61)+1)","v":""},{"$f":"IF(Limits_Details!$B84=\"\",\"\",Limits_Details!$B84)","v":""},{"$f":"IF(Limits_Details!$C84=\"\",\"\",Limits_Details!$C84)","v":""},{"$f":"IF(Limits_Details!$D84=\"\",\"\",Limits_Details!$D84)","v":""},"",{"$f":"IF(COUNTIF(AG$2:AG62,AG62)=1,AG62,\"\")","v":""},"","","",null,{"$f":"+IF(AR62=\"\",\"\",MAX(AM$1:AM61)+1)","v":""},{"$f":"IF(CEM_COM_CPMS_Detail!$B84=\"\",\"\",CEM_COM_CPMS_Detail!$B84)","v":""},{"$f":"IF(CEM_COM_CPMS_Detail!$C84=\"\",\"\",CEM_COM_CPMS_Detail!$C84)","v":""},{"$f":"IF(CEM_COM_CPMS_Detail!$D84=\"\",\"\",CEM_COM_CPMS_Detail!$D84)","v":""},"",{"$f":"IF(COUNTIF(AQ$2:AQ62,AQ62)=1,AQ62,\"\")","v":""},"","",""]
[{"$f":"+IF(D63=\"\",\"\",MAX(A$1:A62)+1)","v":""},{"$f":"IF(CEM_COM_CPMS_Identification!C85=\"\",\"\",CEM_COM_CPMS_Identification!C85)","v":""},"",{"$f":"IF(COUNTIF(B$2:B63,B63)=1,B63,\"\")","v":""},null,null,null,null,null,null,{"$f":"+IF(N63=\"\",\"\",MAX(K$1:K62)+1)","v":""},{"$f":"IF(CEM_COM_CPMS_Identification!D85=\"\",\"\",CEM_COM_CPMS_Identification!D85)","v":""},"",{"$f":"IF(COUNTIF(L$2:L63,L63)=1,L63,\"\")","v":""},null,null,null,null,{"$f":"+IF(W63=\"\",\"\",MAX(S$1:S62)+1)","v":""},{"$f":"IF(Limits_Details!$B85=\"\",\"\",Limits_Details!$B85)","v":""},{"$f":"IF(Limits_Details!$C85=\"\",\"\",Limits_Details!$C85)","v":""},"",{"$f":"IF(COUNTIF(V$2:V63,V63)=1,V63,\"\")","v":""},"","",null,null,null,{"$f":"+IF(AH63=\"\",\"\",MAX(AC$1:AC62)+1)","v":""},{"$f":"IF(Limits_Details!$B85=\"\",\"\",Limits_Details!$B85)","v":""},{"$f":"IF(Limits_Details!$C85=\"\",\"\",Limits_Details!$C85)","v":""},{"$f":"IF(Limits_Details!$D85=\"\",\"\",Limits_Details!$D85)","v":""},"",{"$f":"IF(COUNTIF(AG$2:AG63,AG63)=1,AG63,\"\")","v":""},"","","",null,{"$f":"+IF(AR63=\"\",\"\",MAX(AM$1:AM62)+1)","v":""},{"$f":"IF(CEM_COM_CPMS_Detail!$B85=\"\",\"\",CEM_COM_CPMS_Detail!$B85)","v":""},{"$f":"IF(CEM_COM_CPMS_Detail!$C85=\"\",\"\",CEM_COM_CPMS_Detail!$C85)","v":""},{"$f":"IF(CEM_COM_CPMS_Detail!$D85=\"\",\"\",CEM_COM_CPMS_Detail!$D85)","v":""},"",{"$f":"IF(COUNTIF(AQ$2:AQ63,AQ63)=1,AQ63,\"\")","v":""},"","",""]
[{"$f":"+IF(D64=\"\",\"\",MAX(A$1:A63)+1)","v":""},{"$f":"IF(CEM_COM_CPMS_Identification!C86=\"\",\"\",CEM_COM_CPMS_Identification!C86)","v":""},"",{"$f":"IF(COUNTIF(B$2:B64,B64)=1,B64,\"\")","v":""},null,null,null,null,null,null,{"$f":"+IF(N64=\"\",\"\",MAX(K$1:K63)+1)","v":""},{"$f":"IF(CEM_COM_CPMS_Identification!D86=\"\",\"\",CEM_COM_CPMS_Identification!D86)","v":""},"",{"$f":"IF(COUNTIF(L$2:L64,L64)=1,L64,\"\")","v":""},null,null,null,null,{"$f":"+IF(W64=\"\",\"\",MAX(S$1:S63)+1)","v":""},{"$f":"IF(Limits_Details!$B86=\"\",\"\",Limits_Details!$B86)","v":""},{"$f":"IF(Limits_Details!$C86=\"\",\"\",Limits_Details!$C86)","v":""},"",{"$f":"IF(COUNTIF(V$2:V64,V64)=1,V64,\"\")","v":""},"","",null,null,null,{"$f":"+IF(AH64=\"\",\"\",MAX(AC$1:AC63)+1)","v":""},{"$f":"IF(Limits_Details!$B86=\"\",\"\",Limits_Details!$B86)","v":""},{"$f":"IF(Limits_Details!$C86=\"\",\"\",Limits_Details!$C86)","v":""},{"$f":"IF(Limits_Details!$D86=\"\",\"\",Limits_Details!$D86)","v":""},"",{"$f":"IF(COUNTIF(AG$2:AG64,AG64)=1,AG64,\"\")","v":""},"","","",null,{"$f":"+IF(AR64=\"\",\"\",MAX(AM$1:AM63)+1)","v":""},{"$f":"IF(CEM_COM_CPMS_Detail!$B86=\"\",\"\",CEM_COM_CPMS_Detail!$B86)","v":""},{"$f":"IF(CEM_COM_CPMS_Detail!$C86=\"\",\"\",CEM_COM_CPMS_Detail!$C86)","v":""},{"$f":"IF(CEM_COM_CPMS_Detail!$D86=\"\",\"\",CEM_COM_CPMS_Detail!$D86)","v":""},"",{"$f":"IF(COUNTIF(AQ$2:AQ64,AQ64)=1,AQ64,\"\")","v":""},"","",""]
[{"$f":"+IF(D65=\"\",\"\",MAX(A$1:A64)+1)","v":""},{"$f":"IF(CEM_COM_CPMS_Identification!C87=\"\",\"\",CEM_COM_CPMS_Identification!C87)","v":""},"",{"$f":"IF(COUNTIF(B$2:B65,B65)=1,B65,\"\")","v":""},null,null,null,null,null,null,{"$f":"+IF(N65=\"\",\"\",MAX(K$1:K64)+1)","v":""},{"$f":"IF(CEM_COM_CPMS_Identification!D87=\"\",\"\",CEM_COM_CPMS_Identification!D87)","v":""},"",{"$f":"IF(COUNTIF(L$2:L65,L65)=1,L65,\"\")","v":""},null,null,null,null,{"$f":"+IF(W65=\"\",\"\",MAX(S$1:S64)+1)","v":""},{"$f":"IF(Limits_Details!$B87=\"\",\"\",Limits_Details!$B87)","v":""},{"$f":"IF(Limits_Details!$C87=\"\",\"\",Limits_Details!$C87)","v":""},"",{"$f":"IF(COUNTIF(V$2:V65,V65)=1,V65,\"\")","v":""},"","",null,null,null,{"$f":"+IF(AH65=\"\",\"\",MAX(AC$1:AC64)+1)","v":""},{"$f":"IF(Limits_Details!$B87=\"\",\"\",Limits_Details!$B87)","v":""},{"$f":"IF(Limits_Details!$C87=\"\",\"\",Limits_Details!$C87)","v":""},{"$f":"IF(Limits_Details!$D87=\"\",\"\",Limits_Details!$D87)","v":""},"",{"$f":"IF(COUNTIF(AG$2:AG65,AG65)=1,AG65,\"\")","v":""},"","","",null,{"$f":"+IF(AR65=\"\",\"\",MAX(AM$1:AM64)+1)","v":""},{"$f":"IF(CEM_COM_CPMS_Detail!$B87=\"\",\"\",CEM_COM_CPMS_Detail!$B87)","v":""},{"$f":"IF(CEM_COM_CPMS_Detail!$C87=\"\",\"\",CEM_COM_CPMS_Detail!$C87)","v":""},{"$f":"IF(CEM_COM_CPMS_Detail!$D87=\"\",\"\",CEM_COM_CPMS_Detail!$D87)","v":""},"",{"$f":"IF(COUNTIF(AQ$2:AQ65,AQ65)=1,AQ65,\"\")","v":""},"","",""]
[{"$f":"+IF(D66=\"\",\"\",MAX(A$1:A65)+1)","v":""},{"$f":"IF(CEM_COM_CPMS_Identification!C88=\"\",\"\",CEM_COM_CPMS_Identification!C88)","v":""},{"$f":"+IFERROR(INDEX(B$2:B$501,MATCH(ROW()-ROW($C$1),A$2:A$501,0)),\"\")","v":""},{"$f":"IF(COUNTIF(B$2:B66,B66)=1,B66,\"\")","v":""},null,null,null,null,null,null,{"$f":"+IF(N66=\"\",\"\",MAX(K$1:K65)+1)","v":""},{"$f":"IF(CEM_COM_CPMS_Identification!D88=\"\",\"\",CEM_COM_CPMS_Identification!D88)","v":""},"",{"$f":"IF(COUNTIF(L$2:L66,L66)=1,L66,\"\")","v":""},null,null,null,null,{"$f":"+IF(W66=\"\",\"\",MAX(S$1:S65)+1)","v":""},{"$f":"IF(Limits_Details!$B88=\"\",\"\",Limits_Details!$B88)","v":""},{"$f":"IF(Limits_Details!$C88=\"\",\"\",Limits_Details!$C88)","v":""},"",{"$f":"IF(COUNTIF(V$2:V66,V66)=1,V66,\"\")","v":""},{"$f":"+IFERROR(INDEX(T$2:T$955,MATCH(ROW()-ROW(X$1),S$2:S$955,0)),\"\")","v":""},{"$f":"+IFERROR(INDEX(U$2:U$955,MATCH(ROW()-ROW(X$1),S$2:S$955,0)),\"\")","v":""},null,null,null,{"$f":"+IF(AH66=\"\",\"\",MAX(AC$1:AC65)+1)","v":""},{"$f":"IF(Limits_Details!$B88=\"\",\"\",Limits_Details!$B88)","v":""},{"$f":"IF(Limits_Details!$C88=\"\",\"\",Limits_Details!$C88)","v":""},{"$f":"IF(Limits_Details!$D88=\"\",\"\",Limits_Details!$D88)","v":""},"",{"$f":"IF(COUNTIF(AG$2:AG66,AG66)=1,AG66,\"\")","v":""},"","","",null,{"$f":"+IF(AR66=\"\",\"\",MAX(AM$1:AM65)+1)","v":""},{"$f":"IF(CEM_COM_CPMS_Detail!$B88=\"\",\"\",CEM_COM_CPMS_Detail!$B88)","v":""},{"$f":"IF(CEM_COM_CPMS_Detail!$C88=\"\",\"\",CEM_COM_CPMS_Detail!$C88)","v":""},{"$f":"IF(CEM_COM_CPMS_Detail!$D88=\"\",\"\",CEM_COM_CPMS_Detail!$D88)","v":""},"",{"$f":"IF(COUNTIF(AQ$2:AQ66,AQ66)=1,AQ66,\"\")","v":""},"","",""]
[{"$f":"+IF(D67=\"\",\"\",MAX(A$1:A66)+1)","v":""},{"$f":"IF(CEM_COM_CPMS_Identification!C89=\"\",\"\",CEM_COM_CPMS_Identification!C89)","v":""},"",{"$f":"IF(COUNTIF(B$2:B67,B67)=1,B67,\"\")","v":""},null,null,null,null,null,null,{"$f":"+IF(N67=\"\",\"\",MAX(K$1:K66)+1)","v":""},{"$f":"IF(CEM_COM_CPMS_Identification!D89=\"\",\"\",CEM_COM_CPMS_Identification!D89)","v":""},{"$f":"+IFERROR(INDEX(L$2:L$501,MATCH(ROW()-ROW($M$1),K$2:K$501,0)),\"\")","v":""},{"$f":"IF(COUNTIF(L$2:L67,L67)=1,L67,\"\")","v":""},null,null,null,null,{"$f":"+IF(W67=\"\",\"\",MAX(S$1:S66)+1)","v":""},{"$f":"IF(Limits_Details!$B89=\"\",\"\",Limits_Details!$B89)","v":""},{"$f":"IF(Limits_Details!$C89=\"\",\"\",Limits_Details!$C89)","v":""},{"$f":"T67&U67","v":""},{"$f":"IF(COUNTIF(V$2:V67,V67)=1,V67,\"\")","v":""},"","",null,null,null,{"$f":"+IF(AH67=\"\",\"\",MAX(AC$1:AC66)+1)","v":""},{"$f":"IF(Limits_Details!$B89=\"\",\"\",Limits_Details!$B89)","v":""},{"$f":"IF(Limits_Details!$C89=\"\",\"\",Limits_Details!$C89)","v":""},{"$f":"IF(Limits_Details!$D89=\"\",\"\",Limits_Details!$D89)","v":""},{"$f":"AD67&AE67&AF67","v":""},{"$f":"IF(COUNTIF(AG$2:AG67,AG67)=1,AG67,\"\")","v":""},{"$f":"+IFERROR(INDEX(AD$2:AD$955,MATCH(ROW()-ROW(AH$1),AC$2:AC$955,0)),\"\")","v":""},{"$f":"+IFERROR(INDEX(AE$2:AE$955,MATCH(ROW()-ROW(AH$1),AC$2:AC$955,0)),\"\")","v":""},{"$f":"+IFERROR(INDEX(AF$2:AF$955,MATCH(ROW()-ROW(AI$1),AC$2:AC$955,0)),\"\")","v":""},null,{"$f":"+IF(AR67=\"\",\"\",MAX(AM$1:AM66)+1)","v":""},{"$f":"IF(CEM_COM_CPMS_Detail!$B89=\"\",\"\",CEM_COM_CPMS_Detail!$B89)","v":""},{"$f":"IF(CEM_COM_CPMS_Detail!$C89=\"\",\"\",CEM_COM_CPMS_Detail!$C89)","v":""},{"$f":"IF(CEM_COM_CPMS_Detail!$D89=\"\",\"\",CEM_COM_CPMS_Detail!$D89)","v":""},{"$f":"AN67&AO67&AP67","v":""},{"$f":"IF(COUNTIF(AQ$2:AQ67,AQ67)=1,AQ67,\"\")","v":""},{"$f":"+IFERROR(INDEX(AN$2:AN$955,MATCH(ROW()-ROW(AR$1),AM$2:AM$955,0)),\"\")","v":""},{"$f":"+IFERROR(INDEX(AO$2:AO$955,MATCH(ROW()-ROW(AR$1),AM$2:AM$955,0)),\"\")","v":""},{"$f":"+IFERROR(INDEX(AP$2:AP$955,MATCH(ROW()-ROW(AS$1),AM$2:AM$955,0)),\"\")","v":""}]
[{"$f":"+IF(D68=\"\",\"\",MAX(A$1:A67)+1)","v":""},{"$f":"IF(CEM_COM_CPMS_Identification!C90=\"\",\"\",CEM_COM_CPMS_Identification!C90)","v":""},"",{"$f":"IF(COUNTIF(B$2:B68,B68)=1,B68,\"\")","v":""},null,null,null,null,null,null,{"$f":"+IF(N68=\"\",\"\",MAX(K$1:K67)+1)","v":""},{"$f":"IF(CEM_COM_CPMS_Identification!D90=\"\",\"\",CEM_COM_CPMS_Identification!D90)","v":""},"",{"$f":"IF(COUNTIF(L$2:L68,L68)=1,L68,\"\")","v":""},null,null,null,null,{"$f":"+IF(W68=\"\",\"\",MAX(S$1:S67)+1)","v":""},{"$f":"IF(Limits_Details!$B90=\"\",\"\",Limits_Details!$B90)","v":""},{"$f":"IF(Limits_Details!$C90=\"\",\"\",Limits_Details!$C90)","v":""},"",{"$f":"IF(COUNTIF(V$2:V68,V68)=1,V68,\"\")","v":""},"","",null,null,null,{"$f":"+IF(AH68=\"\",\"\",MAX(AC$1:AC67)+1)","v":""},{"$f":"IF(Limits_Details!$B90=\"\",\"\",Limits_Details!$B90)","v":""},{"$f":"IF(Limits_Details!$C90=\"\",\"\",Limits_Details!$C90)","v":""},{"$f":"IF(Limits_Details!$D90=\"\",\"\",Limits_Details!$D90)","v":""},"",{"$f":"IF(COUNTIF(AG$2:AG68,AG68)=1,AG68,\"\")","v":""},"","","",null,{"$f":"+IF(AR68=\"\",\"\",MAX(AM$1:AM67)+1)","v":""},{"$f":"IF(CEM_COM_CPMS_Detail!$B90=\"\",\"\",CEM_COM_CPMS_Detail!$B90)","v":""},{"$f":"IF(CEM_COM_CPMS_Detail!$C90=\"\",\"\",CEM_COM_CPMS_Detail!$C90)","v":""},{"$f":"IF(CEM_COM_CPMS_Detail!$D90=\"\",\"\",CEM_COM_CPMS_Detail!$D90)","v":""},"",{"$f":"IF(COUNTIF(AQ$2:AQ68,AQ68)=1,AQ68,\"\")","v":""},"","",""]
[{"$f":"+IF(D69=\"\",\"\",MAX(A$1:A68)+1)","v":""},{"$f":"IF(CEM_COM_CPMS_Identification!C91=\"\",\"\",CEM_COM_CPMS_Identification!C91)","v":""},"",{"$f":"IF(COUNTIF(B$2:B69,B69)=1,B69,\"\")","v":""},null,null,null,null,null,null,{"$f":"+IF(N69=\"\",\"\",MAX(K$1:K68)+1)","v":""},{"$f":"IF(CEM_COM_CPMS_Identification!D91=\"\",\"\",CEM_COM_CPMS_Identification!D91)","v":""},"",{"$f":"IF(COUNTIF(L$2:L69,L69)=1,L69,\"\")","v":""},null,null,null,null,{"$f":"+IF(W69=\"\",\"\",MAX(S$1:S68)+1)","v":""},{"$f":"IF(Limits_Details!$B91=\"\",\"\",Limits_Details!$B91)","v":""},{"$f":"IF(Limits_Details!$C91=\"\",\"\",Limits_Details!$C91)","v":""},"",{"$f":"IF(COUNTIF(V$2:V69,V69)=1,V69,\"\")","v":""},"","",null,null,null,{"$f":"+IF(AH69=\"\",\"\",MAX(AC$1:AC68)+1)","v":""},{"$f":"IF(Limits_Details!$B91=\"\",\"\",Limits_Details!$B91)","v":""},{"$f":"IF(Limits_Details!$C91=\"\",\"\",Limits_Details!$C91)","v":""},{"$f":"IF(Limits_Details!$D91=\"\",\"\",Limits_Details!$D91)","v":""},"",{"$f":"IF(COUNTIF(AG$2:AG69,AG69)=1,AG69,\"\")","v":""},"","","",null,{"$f":"+IF(AR69=\"\",\"\",MAX(AM$1:AM68)+1)","v":""},{"$f":"IF(CEM_COM_CPMS_Detail!$B91=\"\",\"\",CEM_COM_CPMS_Detail!$B91)","v":""},{"$f":"IF(CEM_COM_CPMS_Detail!$C91=\"\",\"\",CEM_COM_CPMS_Detail!$C91)","v":""},{"$f":"IF(CEM_COM_CPMS_Detail!$D91=\"\",\"\",CEM_COM_CPMS_Detail!$D91)","v":""},"",{"$f":"IF(COUNTIF(AQ$2:AQ69,AQ69)=1,AQ69,\"\")","v":""},"","",""]
[{"$f":"+IF(D70=\"\",\"\",MAX(A$1:A69)+1)","v":""},{"$f":"IF(CEM_COM_CPMS_Identification!C92=\"\",\"\",CEM_COM_CPMS_Identification!C92)","v":""},"",{"$f":"IF(COUNTIF(B$2:B70,B70)=1,B70,\"\")","v":""},null,null,null,null,null,null,{"$f":"+IF(N70=\"\",\"\",MAX(K$1:K69)+1)","v":""},{"$f":"IF(CEM_COM_CPMS_Identification!D92=\"\",\"\",CEM_COM_CPMS_Identification!D92)","v":""},"",{"$f":"IF(COUNTIF(L$2:L70,L70)=1,L70,\"\")","v":""},null,null,null,null,{"$f":"+IF(W70=\"\",\"\",MAX(S$1:S69)+1)","v":""},{"$f":"IF(Limits_Details!$B92=\"\",\"\",Limits_Details!$B92)","v":""},{"$f":"IF(Limits_Details!$C92=\"\",\"\",Limits_Details!$C92)","v":""},"",{"$f":"IF(COUNTIF(V$2:V70,V70)=1,V70,\"\")","v":""},"","",null,null,null,{"$f":"+IF(AH70=\"\",\"\",MAX(AC$1:AC69)+1)","v":""},{"$f":"IF(Limits_Details!$B92=\"\",\"\",Limits_Details!$B92)","v":""},{"$f":"IF(Limits_Details!$C92=\"\",\"\",Limits_Details!$C92)","v":""},{"$f":"IF(Limits_Details!$D92=\"\",\"\",Limits_Details!$D92)","v":""},"",{"$f":"IF(COUNTIF(AG$2:AG70,AG70)=1,AG70,\"\")","v":""},"","","",null,{"$f":"+IF(AR70=\"\",\"\",MAX(AM$1:AM69)+1)","v":""},{"$f":"IF(CEM_COM_CPMS_Detail!$B92=\"\",\"\",CEM_COM_CPMS_Detail!$B92)","v":""},{"$f":"IF(CEM_COM_CPMS_Detail!$C92=\"\",\"\",CEM_COM_CPMS_Detail!$C92)","v":""},{"$f":"IF(CEM_COM_CPMS_Detail!$D92=\"\",\"\",CEM_COM_CPMS_Detail!$D92)","v":""},"",{"$f":"IF(COUNTIF(AQ$2:AQ70,AQ70)=1,AQ70,\"\")","v":""},"","",""]
[{"$f":"+IF(D71=\"\",\"\",MAX(A$1:A70)+1)","v":""},{"$f":"IF(CEM_COM_CPMS_Identification!C93=\"\",\"\",CEM_COM_CPMS_Identification!C93)","v":""},"",{"$f":"IF(COUNTIF(B$2:B71,B71)=1,B71,\"\")","v":""},null,null,null,null,null,null,{"$f":"+IF(N71=\"\",\"\",MAX(K$1:K70)+1)","v":""},{"$f":"IF(CEM_COM_CPMS_Identification!D93=\"\",\"\",CEM_COM_CPMS_Identification!D93)","v":""},"",{"$f":"IF(COUNTIF(L$2:L71,L71)=1,L71,\"\")","v":""},null,null,null,null,{"$f":"+IF(W71=\"\",\"\",MAX(S$1:S70)+1)","v":""},{"$f":"IF(Limits_Details!$B93=\"\",\"\",Limits_Details!$B93)","v":""},{"$f":"IF(Limits_Details!$C93=\"\",\"\",Limits_Details!$C93)","v":""},"",{"$f":"IF(COUNTIF(V$2:V71,V71)=1,V71,\"\")","v":""},"","",null,null,null,{"$f":"+IF(AH71=\"\",\"\",MAX(AC$1:AC70)+1)","v":""},{"$f":"IF(Limits_Details!$B93=\"\",\"\",Limits_Details!$B93)","v":""},{"$f":"IF(Limits_Details!$C93=\"\",\"\",Limits_Details!$C93)","v":""},{"$f":"IF(Limits_Details!$D93=\"\",\"\",Limits_Details!$D93)","v":""},"",{"$f":"IF(COUNTIF(AG$2:AG71,AG71)=1,AG71,\"\")","v":""},"","","",null,{"$f":"+IF(AR71=\"\",\"\",MAX(AM$1:AM70)+1)","v":""},{"$f":"IF(CEM_COM_CPMS_Detail!$B93=\"\",\"\",CEM_COM_CPMS_Detail!$B93)","v":""},{"$f":"IF(CEM_COM_CPMS_Detail!$C93=\"\",\"\",CEM_COM_CPMS_Detail!$C93)","v":""},{"$f":"IF(CEM_COM_CPMS_Detail!$D93=\"\",\"\",CEM_COM_CPMS_Detail!$D93)","v":""},"",{"$f":"IF(COUNTIF(AQ$2:AQ71,AQ71)=1,AQ71,\"\")","v":""},"","",""]
[{"$f":"+IF(D72=\"\",\"\",MAX(A$1:A71)+1)","v":""},{"$f":"IF(CEM_COM_CPMS_Identification!C94=\"\",\"\",CEM_COM_CPMS_Identification!C94)","v":""},"",{"$f":"IF(COUNTIF(B$2:B72,B72)=1,B72,\"\")","v":""},null,null,null,null,null,null,{"$f":"+IF(N72=\"\",\"\",MAX(K$1:K71)+1)","v":""},{"$f":"IF(CEM_COM_CPMS_Identification!D94=\"\",\"\",CEM_COM_CPMS_Identification!D94)","v":""},"",{"$f":"IF(COUNTIF(L$2:L72,L72)=1,L72,\"\")","v":""},null,null,null,null,{"$f":"+IF(W72=\"\",\"\",MAX(S$1:S71)+1)","v":""},{"$f":"IF(Limits_Details!$B94=\"\",\"\",Limits_Details!$B94)","v":""},{"$f":"IF(Limits_Details!$C94=\"\",\"\",Limits_Details!$C94)","v":""},"",{"$f":"IF(COUNTIF(V$2:V72,V72)=1,V72,\"\")","v":""},"","",null,null,null,{"$f":"+IF(AH72=\"\",\"\",MAX(AC$1:AC71)+1)","v":""},{"$f":"IF(Limits_Details!$B94=\"\",\"\",Limits_Details!$B94)","v":""},{"$f":"IF(Limits_Details!$C94=\"\",\"\",Limits_Details!$C94)","v":""},{"$f":"IF(Limits_Details!$D94=\"\",\"\",Limits_Details!$D94)","v":""},"",{"$f":"IF(COUNTIF(AG$2:AG72,AG72)=1,AG72,\"\")","v":""},"","","",null,{"$f":"+IF(AR72=\"\",\"\",MAX(AM$1:AM71)+1)","v":""},{"$f":"IF(CEM_COM_CPMS_Detail!$B94=\"\",\"\",CEM_COM_CPMS_Detail!$B94)","v":""},{"$f":"IF(CEM_COM_CPMS_Detail!$C94=\"\",\"\",CEM_COM_CPMS_Detail!$C94)","v":""},{"$f":"IF(CEM_COM_CPMS_Detail!$D94=\"\",\"\",CEM_COM_CPMS_Detail!$D94)","v":""},"",{"$f":"IF(COUNTIF(AQ$2:AQ72,AQ72)=1,AQ72,\"\")","v":""},"","",""]
[{"$f":"+IF(D73=\"\",\"\",MAX(A$1:A72)+1)","v":""},{"$f":"IF(CEM_COM_CPMS_Identification!C95=\"\",\"\",CEM_COM_CPMS_Identification!C95)","v":""},"",{"$f":"IF(COUNTIF(B$2:B73,B73)=1,B73,\"\")","v":""},null,null,null,null,null,null,{"$f":"+IF(N73=\"\",\"\",MAX(K$1:K72)+1)","v":""},{"$f":"IF(CEM_COM_CPMS_Identification!D95=\"\",\"\",CEM_COM_CPMS_Identification!D95)","v":""},"",{"$f":"IF(COUNTIF(L$2:L73,L73)=1,L73,\"\")","v":""},null,null,null,null,{"$f":"+IF(W73=\"\",\"\",MAX(S$1:S72)+1)","v":""},{"$f":"IF(Limits_Details!$B95=\"\",\"\",Limits_Details!$B95)","v":""},{"$f":"IF(Limits_Details!$C95=\"\",\"\",Limits_Details!$C95)","v":""},"",{"$f":"IF(COUNTIF(V$2:V73,V73)=1,V73,\"\")","v":""},"","",null,null,null,{"$f":"+IF(AH73=\"\",\"\",MAX(AC$1:AC72)+1)","v":""},{"$f":"IF(Limits_Details!$B95=\"\",\"\",Limits_Details!$B95)","v":""},{"$f":"IF(Limits_Details!$C95=\"\",\"\",Limits_Details!$C95)","v":""},{"$f":"IF(Limits_Details!$D95=\"\",\"\",Limits_Details!$D95)","v":""},"",{"$f":"IF(COUNTIF(AG$2:AG73,AG73)=1,AG73,\"\")","v":""},"","","",null,{"$f":"+IF(AR73=\"\",\"\",MAX(AM$1:AM72)+1)","v":""},{"$f":"IF(CEM_COM_CPMS_Detail!$B95=\"\",\"\",CEM_COM_CPMS_Detail!$B95)","v":""},{"$f":"IF(CEM_COM_CPMS_Detail!$C95=\"\",\"\",CEM_COM_CPMS_Detail!$C95)","v":""},{"$f":"IF(CEM_COM_CPMS_Detail!$D95=\"\",\"\",CEM_COM_CPMS_Detail!$D95)","v":""},"",{"$f":"IF(COUNTIF(AQ$2:AQ73,AQ73)=1,AQ73,\"\")","v":""},"","",""]
[{"$f":"+IF(D74=\"\",\"\",MAX(A$1:A73)+1)","v":""},{"$f":"IF(CEM_COM_CPMS_Identification!C96=\"\",\"\",CEM_COM_CPMS_Identification!C96)","v":""},"",{"$f":"IF(COUNTIF(B$2:B74,B74)=1,B74,\"\")","v":""},null,null,null,null,null,null,{"$f":"+IF(N74=\"\",\"\",MAX(K$1:K73)+1)","v":""},{"$f":"IF(CEM_COM_CPMS_Identification!D96=\"\",\"\",CEM_COM_CPMS_Identification!D96)","v":""},"",{"$f":"IF(COUNTIF(L$2:L74,L74)=1,L74,\"\")","v":""},null,null,null,null,{"$f":"+IF(W74=\"\",\"\",MAX(S$1:S73)+1)","v":""},{"$f":"IF(Limits_Details!$B96=\"\",\"\",Limits_Details!$B96)","v":""},{"$f":"IF(Limits_Details!$C96=\"\",\"\",Limits_Details!$C96)","v":""},"",{"$f":"IF(COUNTIF(V$2:V74,V74)=1,V74,\"\")","v":""},"","",null,null,null,{"$f":"+IF(AH74=\"\",\"\",MAX(AC$1:AC73)+1)","v":""},{"$f":"IF(Limits_Details!$B96=\"\",\"\",Limits_Details!$B96)","v":""},{"$f":"IF(Limits_Details!$C96=\"\",\"\",Limits_Details!$C96)","v":""},{"$f":"IF(Limits_Details!$D96=\"\",\"\",Limits_Details!$D96)","v":""},"",{"$f":"IF(COUNTIF(AG$2:AG74,AG74)=1,AG74,\"\")","v":""},"","","",null,{"$f":"+IF(AR74=\"\",\"\",MAX(AM$1:AM73)+1)","v":""},{"$f":"IF(CEM_COM_CPMS_Detail!$B96=\"\",\"\",CEM_COM_CPMS_Detail!$B96)","v":""},{"$f":"IF(CEM_COM_CPMS_Detail!$C96=\"\",\"\",CEM_COM_CPMS_Detail!$C96)","v":""},{"$f":"IF(CEM_COM_CPMS_Detail!$D96=\"\",\"\",CEM_COM_CPMS_Detail!$D96)","v":""},"",{"$f":"IF(COUNTIF(AQ$2:AQ74,AQ74)=1,AQ74,\"\")","v":""},"","",""]
[{"$f":"+IF(D75=\"\",\"\",MAX(A$1:A74)+1)","v":""},{"$f":"IF(CEM_COM_CPMS_Identification!C97=\"\",\"\",CEM_COM_CPMS_Identification!C97)","v":""},"",{"$f":"IF(COUNTIF(B$2:B75,B75)=1,B75,\"\")","v":""},null,null,null,null,null,null,{"$f":"+IF(N75=\"\",\"\",MAX(K$1:K74)+1)","v":""},{"$f":"IF(CEM_COM_CPMS_Identification!D97=\"\",\"\",CEM_COM_CPMS_Identification!D97)","v":""},"",{"$f":"IF(COUNTIF(L$2:L75,L75)=1,L75,\"\")","v":""},null,null,null,null,{"$f":"+IF(W75=\"\",\"\",MAX(S$1:S74)+1)","v":""},{"$f":"IF(Limits_Details!$B97=\"\",\"\",Limits_Details!$B97)","v":""},{"$f":"IF(Limits_Details!$C97=\"\",\"\",Limits_Details!$C97)","v":""},"",{"$f":"IF(COUNTIF(V$2:V75,V75)=1,V75,\"\")","v":""},"","",null,null,null,{"$f":"+IF(AH75=\"\",\"\",MAX(AC$1:AC74)+1)","v":""},{"$f":"IF(Limits_Details!$B97=\"\",\"\",Limits_Details!$B97)","v":""},{"$f":"IF(Limits_Details!$C97=\"\",\"\",Limits_Details!$C97)","v":""},{"$f":"IF(Limits_Details!$D97=\"\",\"\",Limits_Details!$D97)","v":""},"",{"$f":"IF(COUNTIF(AG$2:AG75,AG75)=1,AG75,\"\")","v":""},"","","",null,{"$f":"+IF(AR75=\"\",\"\",MAX(AM$1:AM74)+1)","v":""},{"$f":"IF(CEM_COM_CPMS_Detail!$B97=\"\",\"\",CEM_COM_CPMS_Detail!$B97)","v":""},{"$f":"IF(CEM_COM_CPMS_Detail!$C97=\"\",\"\",CEM_COM_CPMS_Detail!$C97)","v":""},{"$f":"IF(CEM_COM_CPMS_Detail!$D97=\"\",\"\",CEM_COM_CPMS_Detail!$D97)","v":""},"",{"$f":"IF(COUNTIF(AQ$2:AQ75,AQ75)=1,AQ75,\"\")","v":""},"","",""]
[{"$f":"+IF(D76=\"\",\"\",MAX(A$1:A75)+1)","v":""},{"$f":"IF(CEM_COM_CPMS_Identification!C98=\"\",\"\",CEM_COM_CPMS_Identification!C98)","v":""},"",{"$f":"IF(COUNTIF(B$2:B76,B76)=1,B76,\"\")","v":""},null,null,null,null,null,null,{"$f":"+IF(N76=\"\",\"\",MAX(K$1:K75)+1)","v":""},{"$f":"IF(CEM_COM_CPMS_Identification!D98=\"\",\"\",CEM_COM_CPMS_Identification!D98)","v":""},"",{"$f":"IF(COUNTIF(L$2:L76,L76)=1,L76,\"\")","v":""},null,null,null,null,{"$f":"+IF(W76=\"\",\"\",MAX(S$1:S75)+1)","v":""},{"$f":"IF(Limits_Details!$B98=\"\",\"\",Limits_Details!$B98)","v":""},{"$f":"IF(Limits_Details!$C98=\"\",\"\",Limits_Details!$C98)","v":""},"",{"$f":"IF(COUNTIF(V$2:V76,V76)=1,V76,\"\")","v":""},"","",null,null,null,{"$f":"+IF(AH76=\"\",\"\",MAX(AC$1:AC75)+1)","v":""},{"$f":"IF(Limits_Details!$B98=\"\",\"\",Limits_Details!$B98)","v":""},{"$f":"IF(Limits_Details!$C98=\"\",\"\",Limits_Details!$C98)","v":""},{"$f":"IF(Limits_Details!$D98=\"\",\"\",Limits_Details!$D98)","v":""},"",{"$f":"IF(COUNTIF(AG$2:AG76,AG76)=1,AG76,\"\")","v":""},"","","",null,{"$f":"+IF(AR76=\"\",\"\",MAX(AM$1:AM75)+1)","v":""},{"$f":"IF(CEM_COM_CPMS_Detail!$B98=\"\",\"\",CEM_COM_CPMS_Detail!$B98)","v":""},{"$f":"IF(CEM_COM_CPMS_Detail!$C98=\"\",\"\",CEM_COM_CPMS_Detail!$C98)","v":""},{"$f":"IF(CEM_COM_CPMS_Detail!$D98=\"\",\"\",CEM_COM_CPMS_Detail!$D98)","v":""},"",{"$f":"IF(COUNTIF(AQ$2:AQ76,AQ76)=1,AQ76,\"\")","v":""},"","",""]
[{"$f":"+IF(D77=\"\",\"\",MAX(A$1:A76)+1)","v":""},{"$f":"IF(CEM_COM_CPMS_Identification!C99=\"\",\"\",CEM_COM_CPMS_Identification!C99)","v":""},"",{"$f":"IF(COUNTIF(B$2:B77,B77)=1,B77,\"\")","v":""},null,null,null,null,null,null,{"$f":"+IF(N77=\"\",\"\",MAX(K$1:K76)+1)","v":""},{"$f":"IF(CEM_COM_CPMS_Identification!D99=\"\",\"\",CEM_COM_CPMS_Identification!D99)","v":""},"",{"$f":"IF(COUNTIF(L$2:L77,L77)=1,L77,\"\")","v":""},null,null,null,null,{"$f":"+IF(W77=\"\",\"\",MAX(S$1:S76)+1)","v":""},{"$f":"IF(Limits_Details!$B99=\"\",\"\",Limits_Details!$B99)","v":""},{"$f":"IF(Limits_Details!$C99=\"\",\"\",Limits_Details!$C99)","v":""},"",{"$f":"IF(COUNTIF(V$2:V77,V77)=1,V77,\"\")","v":""},"","",null,null,null,{"$f":"+IF(AH77=\"\",\"\",MAX(AC$1:AC76)+1)","v":""},{"$f":"IF(Limits_Details!$B99=\"\",\"\",Limits_Details!$B99)","v":""},{"$f":"IF(Limits_Details!$C99=\"\",\"\",Limits_Details!$C99)","v":""},{"$f":"IF(Limits_Details!$D99=\"\",\"\",Limits_Details!$D99)","v":""},"",{"$f":"IF(COUNTIF(AG$2:AG77,AG77)=1,AG77,\"\")","v":""},"","","",null,{"$f":"+IF(AR77=\"\",\"\",MAX(AM$1:AM76)+1)","v":""},{"$f":"IF(CEM_COM_CPMS_Detail!$B99=\"\",\"\",CEM_COM_CPMS_Detail!$B99)","v":""},{"$f":"IF(CEM_COM_CPMS_Detail!$C99=\"\",\"\",CEM_COM_CPMS_Detail!$C99)","v":""},{"$f":"IF(CEM_COM_CPMS_Detail!$D99=\"\",\"\",CEM_COM_CPMS_Detail!$D99)","v":""},"",{"$f":"IF(COUNTIF(AQ$2:AQ77,AQ77)=1,AQ77,\"\")","v":""},"","",""]
[{"$f":"+IF(D78=\"\",\"\",MAX(A$1:A77)+1)","v":""},{"$f":"IF(CEM_COM_CPMS_Identification!C100=\"\",\"\",CEM_COM_CPMS_Identification!C100)","v":""},"",{"$f":"IF(COUNTIF(B$2:B78,B78)=1,B78,\"\")","v":""},null,null,null,null,null,null,{"$f":"+IF(N78=\"\",\"\",MAX(K$1:K77)+1)","v":""},{"$f":"IF(CEM_COM_CPMS_Identification!D100=\"\",\"\",CEM_COM_CPMS_Identification!D100)","v":""},"",{"$f":"IF(COUNTIF(L$2:L78,L78)=1,L78,\"\")","v":""},null,null,null,null,{"$f":"+IF(W78=\"\",\"\",MAX(S$1:S77)+1)","v":""},{"$f":"IF(Limits_Details!$B100=\"\",\"\",Limits_Details!$B100)","v":""},{"$f":"IF(Limits_Details!$C100=\"\",\"\",Limits_Details!$C100)","v":""},"",{"$f":"IF(COUNTIF(V$2:V78,V78)=1,V78,\"\")","v":""},"","",null,null,null,{"$f":"+IF(AH78=\"\",\"\",MAX(AC$1:AC77)+1)","v":""},{"$f":"IF(Limits_Details!$B100=\"\",\"\",Limits_Details!$B100)","v":""},{"$f":"IF(Limits_Details!$C100=\"\",\"\",Limits_Details!$C100)","v":""},{"$f":"IF(Limits_Details!$D100=\"\",\"\",Limits_Details!$D100)","v":""},"",{"$f":"IF(COUNTIF(AG$2:AG78,AG78)=1,AG78,\"\")","v":""},"","","",null,{"$f":"+IF(AR78=\"\",\"\",MAX(AM$1:AM77)+1)","v":""},{"$f":"IF(CEM_COM_CPMS_Detail!$B100=\"\",\"\",CEM_COM_CPMS_Detail!$B100)","v":""},{"$f":"IF(CEM_COM_CPMS_Detail!$C100=\"\",\"\",CEM_COM_CPMS_Detail!$C100)","v":""},{"$f":"IF(CEM_COM_CPMS_Detail!$D100=\"\",\"\",CEM_COM_CPMS_Detail!$D100)","v":""},"",{"$f":"IF(COUNTIF(AQ$2:AQ78,AQ78)=1,AQ78,\"\")","v":""},"","",""]
[{"$f":"+IF(D79=\"\",\"\",MAX(A$1:A78)+1)","v":""},{"$f":"IF(CEM_COM_CPMS_Identification!C101=\"\",\"\",CEM_COM_CPMS_Identification!C101)","v":""},"",{"$f":"IF(COUNTIF(B$2:B79,B79)=1,B79,\"\")","v":""},null,null,null,null,null,null,{"$f":"+IF(N79=\"\",\"\",MAX(K$1:K78)+1)","v":""},{"$f":"IF(CEM_COM_CPMS_Identification!D101=\"\",\"\",CEM_COM_CPMS_Identification!D101)","v":""},"",{"$f":"IF(COUNTIF(L$2:L79,L79)=1,L79,\"\")","v":""},null,null,null,null,{"$f":"+IF(W79=\"\",\"\",MAX(S$1:S78)+1)","v":""},{"$f":"IF(Limits_Details!$B101=\"\",\"\",Limits_Details!$B101)","v":""},{"$f":"IF(Limits_Details!$C101=\"\",\"\",Limits_Details!$C101)","v":""},"",{"$f":"IF(COUNTIF(V$2:V79,V79)=1,V79,\"\")","v":""},"","",null,null,null,{"$f":"+IF(AH79=\"\",\"\",MAX(AC$1:AC78)+1)","v":""},{"$f":"IF(Limits_Details!$B101=\"\",\"\",Limits_Details!$B101)","v":""},{"$f":"IF(Limits_Details!$C101=\"\",\"\",Limits_Details!$C101)","v":""},{"$f":"IF(Limits_Details!$D101=\"\",\"\",Limits_Details!$D101)","v":""},"",{"$f":"IF(COUNTIF(AG$2:AG79,AG79)=1,AG79,\"\")","v":""},"","","",null,{"$f":"+IF(AR79=\"\",\"\",MAX(AM$1:AM78)+1)","v":""},{"$f":"IF(CEM_COM_CPMS_Detail!$B101=\"\",\"\",CEM_COM_CPMS_Detail!$B101)","v":""},{"$f":"IF(CEM_COM_CPMS_Detail!$C101=\"\",\"\",CEM_COM_CPMS_Detail!$C101)","v":""},{"$f":"IF(CEM_COM_CPMS_Detail!$D101=\"\",\"\",CEM_COM_CPMS_Detail!$D101)","v":""},"",{"$f":"IF(COUNTIF(AQ$2:AQ79,AQ79)=1,AQ79,\"\")","v":""},"","",""]
[{"$f":"+IF(D80=\"\",\"\",MAX(A$1:A79)+1)","v":""},{"$f":"IF(CEM_COM_CPMS_Identification!C102=\"\",\"\",CEM_COM_CPMS_Identification!C102)","v":""},"",{"$f":"IF(COUNTIF(B$2:B80,B80)=1,B80,\"\")","v":""},null,null,null,null,null,null,{"$f":"+IF(N80=\"\",\"\",MAX(K$1:K79)+1)","v":""},{"$f":"IF(CEM_COM_CPMS_Identification!D102=\"\",\"\",CEM_COM_CPMS_Identification!D102)","v":""},"",{"$f":"IF(COUNTIF(L$2:L80,L80)=1,L80,\"\")","v":""},null,null,null,null,{"$f":"+IF(W80=\"\",\"\",MAX(S$1:S79)+1)","v":""},{"$f":"IF(Limits_Details!$B102=\"\",\"\",Limits_Details!$B102)","v":""},{"$f":"IF(Limits_Details!$C102=\"\",\"\",Limits_Details!$C102)","v":""},"",{"$f":"IF(COUNTIF(V$2:V80,V80)=1,V80,\"\")","v":""},"","",null,null,null,{"$f":"+IF(AH80=\"\",\"\",MAX(AC$1:AC79)+1)","v":""},{"$f":"IF(Limits_Details!$B102=\"\",\"\",Limits_Details!$B102)","v":""},{"$f":"IF(Limits_Details!$C102=\"\",\"\",Limits_Details!$C102)","v":""},{"$f":"IF(Limits_Details!$D102=\"\",\"\",Limits_Details!$D102)","v":""},"",{"$f":"IF(COUNTIF(AG$2:AG80,AG80)=1,AG80,\"\")","v":""},"","","",null,{"$f":"+IF(AR80=\"\",\"\",MAX(AM$1:AM79)+1)","v":""},{"$f":"IF(CEM_COM_CPMS_Detail!$B102=\"\",\"\",CEM_COM_CPMS_Detail!$B102)","v":""},{"$f":"IF(CEM_COM_CPMS_Detail!$C102=\"\",\"\",CEM_COM_CPMS_Detail!$C102)","v":""},{"$f":"IF(CEM_COM_CPMS_Detail!$D102=\"\",\"\",CEM_COM_CPMS_Detail!$D102)","v":""},"",{"$f":"IF(COUNTIF(AQ$2:AQ80,AQ80)=1,AQ80,\"\")","v":""},"","",""]
[{"$f":"+IF(D81=\"\",\"\",MAX(A$1:A80)+1)","v":""},{"$f":"IF(CEM_COM_CPMS_Identification!C103=\"\",\"\",CEM_COM_CPMS_Identification!C103)","v":""},"",{"$f":"IF(COUNTIF(B$2:B81,B81)=1,B81,\"\")","v":""},null,null,null,null,null,null,{"$f":"+IF(N81=\"\",\"\",MAX(K$1:K80)+1)","v":""},{"$f":"IF(CEM_COM_CPMS_Identification!D103=\"\",\"\",CEM_COM_CPMS_Identification!D103)","v":""},"",{"$f":"IF(COUNTIF(L$2:L81,L81)=1,L81,\"\")","v":""},null,null,null,null,{"$f":"+IF(W81=\"\",\"\",MAX(S$1:S80)+1)","v":""},{"$f":"IF(Limits_Details!$B103=\"\",\"\",Limits_Details!$B103)","v":""},{"$f":"IF(Limits_Details!$C103=\"\",\"\",Limits_Details!$C103)","v":""},"",{"$f":"IF(COUNTIF(V$2:V81,V81)=1,V81,\"\")","v":""},"","",null,null,null,{"$f":"+IF(AH81=\"\",\"\",MAX(AC$1:AC80)+1)","v":""},{"$f":"IF(Limits_Details!$B103=\"\",\"\",Limits_Details!$B103)","v":""},{"$f":"IF(Limits_Details!$C103=\"\",\"\",Limits_Details!$C103)","v":""},{"$f":"IF(Limits_Details!$D103=\"\",\"\",Limits_Details!$D103)","v":""},"",{"$f":"IF(COUNTIF(AG$2:AG81,AG81)=1,AG81,\"\")","v":""},"","","",null,{"$f":"+IF(AR81=\"\",\"\",MAX(AM$1:AM80)+1)","v":""},{"$f":"IF(CEM_COM_CPMS_Detail!$B103=\"\",\"\",CEM_COM_CPMS_Detail!$B103)","v":""},{"$f":"IF(CEM_COM_CPMS_Detail!$C103=\"\",\"\",CEM_COM_CPMS_Detail!$C103)","v":""},{"$f":"IF(CEM_COM_CPMS_Detail!$D103=\"\",\"\",CEM_COM_CPMS_Detail!$D103)","v":""},"",{"$f":"IF(COUNTIF(AQ$2:AQ81,AQ81)=1,AQ81,\"\")","v":""},"","",""]
[{"$f":"+IF(D82=\"\",\"\",MAX(A$1:A81)+1)","v":""},{"$f":"IF(CEM_COM_CPMS_Identification!C104=\"\",\"\",CEM_COM_CPMS_Identification!C104)","v":""},"",{"$f":"IF(COUNTIF(B$2:B82,B82)=1,B82,\"\")","v":""},null,null,null,null,null,null,{"$f":"+IF(N82=\"\",\"\",MAX(K$1:K81)+1)","v":""},{"$f":"IF(CEM_COM_CPMS_Identification!D104=\"\",\"\",CEM_COM_CPMS_Identification!D104)","v":""},"",{"$f":"IF(COUNTIF(L$2:L82,L82)=1,L82,\"\")","v":""},null,null,null,null,{"$f":"+IF(W82=\"\",\"\",MAX(S$1:S81)+1)","v":""},{"$f":"IF(Limits_Details!$B104=\"\",\"\",Limits_Details!$B104)","v":""},{"$f":"IF(Limits_Details!$C104=\"\",\"\",Limits_Details!$C104)","v":""},"",{"$f":"IF(COUNTIF(V$2:V82,V82)=1,V82,\"\")","v":""},"","",null,null,null,{"$f":"+IF(AH82=\"\",\"\",MAX(AC$1:AC81)+1)","v":""},{"$f":"IF(Limits_Details!$B104=\"\",\"\",Limits_Details!$B104)","v":""},{"$f":"IF(Limits_Details!$C104=\"\",\"\",Limits_Details!$C104)","v":""},{"$f":"IF(Limits_Details!$D104=\"\",\"\",Limits_Details!$D104)","v":""},"",{"$f":"IF(COUNTIF(AG$2:AG82,AG82)=1,AG82,\"\")","v":""},"","","",null,{"$f":"+IF(AR82=\"\",\"\",MAX(AM$1:AM81)+1)","v":""},{"$f":"IF(CEM_COM_CPMS_Detail!$B104=\"\",\"\",CEM_COM_CPMS_Detail!$B104)","v":""},{"$f":"IF(CEM_COM_CPMS_Detail!$C104=\"\",\"\",CEM_COM_CPMS_Detail!$C104)","v":""},{"$f":"IF(CEM_COM_CPMS_Detail!$D104=\"\",\"\",CEM_COM_CPMS_Detail!$D104)","v":""},"",{"$f":"IF(COUNTIF(AQ$2:AQ82,AQ82)=1,AQ82,\"\")","v":""},"","",""]
[{"$f":"+IF(D83=\"\",\"\",MAX(A$1:A82)+1)","v":""},{"$f":"IF(CEM_COM_CPMS_Identification!C105=\"\",\"\",CEM_COM_CPMS_Identification!C105)","v":""},"",{"$f":"IF(COUNTIF(B$2:B83,B83)=1,B83,\"\")","v":""},null,null,null,null,null,null,{"$f":"+IF(N83=\"\",\"\",MAX(K$1:K82)+1)","v":""},{"$f":"IF(CEM_COM_CPMS_Identification!D105=\"\",\"\",CEM_COM_CPMS_Identification!D105)","v":""},"",{"$f":"IF(COUNTIF(L$2:L83,L83)=1,L83,\"\")","v":""},null,null,null,null,{"$f":"+IF(W83=\"\",\"\",MAX(S$1:S82)+1)","v":""},{"$f":"IF(Limits_Details!$B105=\"\",\"\",Limits_Details!$B105)","v":""},{"$f":"IF(Limits_Details!$C105=\"\",\"\",Limits_Details!$C105)","v":""},"",{"$f":"IF(COUNTIF(V$2:V83,V83)=1,V83,\"\")","v":""},"","",null,null,null,{"$f":"+IF(AH83=\"\",\"\",MAX(AC$1:AC82)+1)","v":""},{"$f":"IF(Limits_Details!$B105=\"\",\"\",Limits_Details!$B105)","v":""},{"$f":"IF(Limits_Details!$C105=\"\",\"\",Limits_Details!$C105)","v":""},{"$f":"IF(Limits_Details!$D105=\"\",\"\",Limits_Details!$D105)","v":""},"",{"$f":"IF(COUNTIF(AG$2:AG83,AG83)=1,AG83,\"\")","v":""},"","","",null,{"$f":"+IF(AR83=\"\",\"\",MAX(AM$1:AM82)+1)","v":""},{"$f":"IF(CEM_COM_CPMS_Detail!$B105=\"\",\"\",CEM_COM_CPMS_Detail!$B105)","v":""},{"$f":"IF(CEM_COM_CPMS_Detail!$C105=\"\",\"\",CEM_COM_CPMS_Detail!$C105)","v":""},{"$f":"IF(CEM_COM_CPMS_Detail!$D105=\"\",\"\",CEM_COM_CPMS_Detail!$D105)","v":""},"",{"$f":"IF(COUNTIF(AQ$2:AQ83,AQ83)=1,AQ83,\"\")","v":""},"","",""]
[{"$f":"+IF(D84=\"\",\"\",MAX(A$1:A83)+1)","v":""},{"$f":"IF(CEM_COM_CPMS_Identification!C106=\"\",\"\",CEM_COM_CPMS_Identification!C106)","v":""},"",{"$f":"IF(COUNTIF(B$2:B84,B84)=1,B84,\"\")","v":""},null,null,null,null,null,null,{"$f":"+IF(N84=\"\",\"\",MAX(K$1:K83)+1)","v":""},{"$f":"IF(CEM_COM_CPMS_Identification!D106=\"\",\"\",CEM_COM_CPMS_Identification!D106)","v":""},"",{"$f":"IF(COUNTIF(L$2:L84,L84)=1,L84,\"\")","v":""},null,null,null,null,{"$f":"+IF(W84=\"\",\"\",MAX(S$1:S83)+1)","v":""},{"$f":"IF(Limits_Details!$B106=\"\",\"\",Limits_Details!$B106)","v":""},{"$f":"IF(Limits_Details!$C106=\"\",\"\",Limits_Details!$C106)","v":""},"",{"$f":"IF(COUNTIF(V$2:V84,V84)=1,V84,\"\")","v":""},"","",null,null,null,{"$f":"+IF(AH84=\"\",\"\",MAX(AC$1:AC83)+1)","v":""},{"$f":"IF(Limits_Details!$B106=\"\",\"\",Limits_Details!$B106)","v":""},{"$f":"IF(Limits_Details!$C106=\"\",\"\",Limits_Details!$C106)","v":""},{"$f":"IF(Limits_Details!$D106=\"\",\"\",Limits_Details!$D106)","v":""},"",{"$f":"IF(COUNTIF(AG$2:AG84,AG84)=1,AG84,\"\")","v":""},"","","",null,{"$f":"+IF(AR84=\"\",\"\",MAX(AM$1:AM83)+1)","v":""},{"$f":"IF(CEM_COM_CPMS_Detail!$B106=\"\",\"\",CEM_COM_CPMS_Detail!$B106)","v":""},{"$f":"IF(CEM_COM_CPMS_Detail!$C106=\"\",\"\",CEM_COM_CPMS_Detail!$C106)","v":""},{"$f":"IF(CEM_COM_CPMS_Detail!$D106=\"\",\"\",CEM_COM_CPMS_Detail!$D106)","v":""},"",{"$f":"IF(COUNTIF(AQ$2:AQ84,AQ84)=1,AQ84,\"\")","v":""},"","",""]
[{"$f":"+IF(D85=\"\",\"\",MAX(A$1:A84)+1)","v":""},{"$f":"IF(CEM_COM_CPMS_Identification!C107=\"\",\"\",CEM_COM_CPMS_Identification!C107)","v":""},"",{"$f":"IF(COUNTIF(B$2:B85,B85)=1,B85,\"\")","v":""},null,null,null,null,null,null,{"$f":"+IF(N85=\"\",\"\",MAX(K$1:K84)+1)","v":""},{"$f":"IF(CEM_COM_CPMS_Identification!D107=\"\",\"\",CEM_COM_CPMS_Identification!D107)","v":""},"",{"$f":"IF(COUNTIF(L$2:L85,L85)=1,L85,\"\")","v":""},null,null,null,null,{"$f":"+IF(W85=\"\",\"\",MAX(S$1:S84)+1)","v":""},{"$f":"IF(Limits_Details!$B107=\"\",\"\",Limits_Details!$B107)","v":""},{"$f":"IF(Limits_Details!$C107=\"\",\"\",Limits_Details!$C107)","v":""},"",{"$f":"IF(COUNTIF(V$2:V85,V85)=1,V85,\"\")","v":""},"","",null,null,null,{"$f":"+IF(AH85=\"\",\"\",MAX(AC$1:AC84)+1)","v":""},{"$f":"IF(Limits_Details!$B107=\"\",\"\",Limits_Details!$B107)","v":""},{"$f":"IF(Limits_Details!$C107=\"\",\"\",Limits_Details!$C107)","v":""},{"$f":"IF(Limits_Details!$D107=\"\",\"\",Limits_Details!$D107)","v":""},"",{"$f":"IF(COUNTIF(AG$2:AG85,AG85)=1,AG85,\"\")","v":""},"","","",null,{"$f":"+IF(AR85=\"\",\"\",MAX(AM$1:AM84)+1)","v":""},{"$f":"IF(CEM_COM_CPMS_Detail!$B107=\"\",\"\",CEM_COM_CPMS_Detail!$B107)","v":""},{"$f":"IF(CEM_COM_CPMS_Detail!$C107=\"\",\"\",CEM_COM_CPMS_Detail!$C107)","v":""},{"$f":"IF(CEM_COM_CPMS_Detail!$D107=\"\",\"\",CEM_COM_CPMS_Detail!$D107)","v":""},"",{"$f":"IF(COUNTIF(AQ$2:AQ85,AQ85)=1,AQ85,\"\")","v":""},"","",""]
[{"$f":"+IF(D86=\"\",\"\",MAX(A$1:A85)+1)","v":""},{"$f":"IF(CEM_COM_CPMS_Identification!C108=\"\",\"\",CEM_COM_CPMS_Identification!C108)","v":""},"",{"$f":"IF(COUNTIF(B$2:B86,B86)=1,B86,\"\")","v":""},null,null,null,null,null,null,{"$f":"+IF(N86=\"\",\"\",MAX(K$1:K85)+1)","v":""},{"$f":"IF(CEM_COM_CPMS_Identification!D108=\"\",\"\",CEM_COM_CPMS_Identification!D108)","v":""},"",{"$f":"IF(COUNTIF(L$2:L86,L86)=1,L86,\"\")","v":""},null,null,null,null,{"$f":"+IF(W86=\"\",\"\",MAX(S$1:S85)+1)","v":""},{"$f":"IF(Limits_Details!$B108=\"\",\"\",Limits_Details!$B108)","v":""},{"$f":"IF(Limits_Details!$C108=\"\",\"\",Limits_Details!$C108)","v":""},"",{"$f":"IF(COUNTIF(V$2:V86,V86)=1,V86,\"\")","v":""},"","",null,null,null,{"$f":"+IF(AH86=\"\",\"\",MAX(AC$1:AC85)+1)","v":""},{"$f":"IF(Limits_Details!$B108=\"\",\"\",Limits_Details!$B108)","v":""},{"$f":"IF(Limits_Details!$C108=\"\",\"\",Limits_Details!$C108)","v":""},{"$f":"IF(Limits_Details!$D108=\"\",\"\",Limits_Details!$D108)","v":""},"",{"$f":"IF(COUNTIF(AG$2:AG86,AG86)=1,AG86,\"\")","v":""},"","","",null,{"$f":"+IF(AR86=\"\",\"\",MAX(AM$1:AM85)+1)","v":""},{"$f":"IF(CEM_COM_CPMS_Detail!$B108=\"\",\"\",CEM_COM_CPMS_Detail!$B108)","v":""},{"$f":"IF(CEM_COM_CPMS_Detail!$C108=\"\",\"\",CEM_COM_CPMS_Detail!$C108)","v":""},{"$f":"IF(CEM_COM_CPMS_Detail!$D108=\"\",\"\",CEM_COM_CPMS_Detail!$D108)","v":""},"",{"$f":"IF(COUNTIF(AQ$2:AQ86,AQ86)=1,AQ86,\"\")","v":""},"","",""]
[{"$f":"+IF(D87=\"\",\"\",MAX(A$1:A86)+1)","v":""},{"$f":"IF(CEM_COM_CPMS_Identification!C109=\"\",\"\",CEM_COM_CPMS_Identification!C109)","v":""},"",{"$f":"IF(COUNTIF(B$2:B87,B87)=1,B87,\"\")","v":""},null,null,null,null,null,null,{"$f":"+IF(N87=\"\",\"\",MAX(K$1:K86)+1)","v":""},{"$f":"IF(CEM_COM_CPMS_Identification!D109=\"\",\"\",CEM_COM_CPMS_Identification!D109)","v":""},"",{"$f":"IF(COUNTIF(L$2:L87,L87)=1,L87,\"\")","v":""},null,null,null,null,{"$f":"+IF(W87=\"\",\"\",MAX(S$1:S86)+1)","v":""},{"$f":"IF(Limits_Details!$B109=\"\",\"\",Limits_Details!$B109)","v":""},{"$f":"IF(Limits_Details!$C109=\"\",\"\",Limits_Details!$C109)","v":""},"",{"$f":"IF(COUNTIF(V$2:V87,V87)=1,V87,\"\")","v":""},"","",null,null,null,{"$f":"+IF(AH87=\"\",\"\",MAX(AC$1:AC86)+1)","v":""},{"$f":"IF(Limits_Details!$B109=\"\",\"\",Limits_Details!$B109)","v":""},{"$f":"IF(Limits_Details!$C109=\"\",\"\",Limits_Details!$C109)","v":""},{"$f":"IF(Limits_Details!$D109=\"\",\"\",Limits_Details!$D109)","v":""},"",{"$f":"IF(COUNTIF(AG$2:AG87,AG87)=1,AG87,\"\")","v":""},"","","",null,{"$f":"+IF(AR87=\"\",\"\",MAX(AM$1:AM86)+1)","v":""},{"$f":"IF(CEM_COM_CPMS_Detail!$B109=\"\",\"\",CEM_COM_CPMS_Detail!$B109)","v":""},{"$f":"IF(CEM_COM_CPMS_Detail!$C109=\"\",\"\",CEM_COM_CPMS_Detail!$C109)","v":""},{"$f":"IF(CEM_COM_CPMS_Detail!$D109=\"\",\"\",CEM_COM_CPMS_Detail!$D109)","v":""},"",{"$f":"IF(COUNTIF(AQ$2:AQ87,AQ87)=1,AQ87,\"\")","v":""},"","",""]
[{"$f":"+IF(D88=\"\",\"\",MAX(A$1:A87)+1)","v":""},{"$f":"IF(CEM_COM_CPMS_Identification!C110=\"\",\"\",CEM_COM_CPMS_Identification!C110)","v":""},"",{"$f":"IF(COUNTIF(B$2:B88,B88)=1,B88,\"\")","v":""},null,null,null,null,null,null,{"$f":"+IF(N88=\"\",\"\",MAX(K$1:K87)+1)","v":""},{"$f":"IF(CEM_COM_CPMS_Identification!D110=\"\",\"\",CEM_COM_CPMS_Identification!D110)","v":""},"",{"$f":"IF(COUNTIF(L$2:L88,L88)=1,L88,\"\")","v":""},null,null,null,null,{"$f":"+IF(W88=\"\",\"\",MAX(S$1:S87)+1)","v":""},{"$f":"IF(Limits_Details!$B110=\"\",\"\",Limits_Details!$B110)","v":""},{"$f":"IF(Limits_Details!$C110=\"\",\"\",Limits_Details!$C110)","v":""},"",{"$f":"IF(COUNTIF(V$2:V88,V88)=1,V88,\"\")","v":""},"","",null,null,null,{"$f":"+IF(AH88=\"\",\"\",MAX(AC$1:AC87)+1)","v":""},{"$f":"IF(Limits_Details!$B110=\"\",\"\",Limits_Details!$B110)","v":""},{"$f":"IF(Limits_Details!$C110=\"\",\"\",Limits_Details!$C110)","v":""},{"$f":"IF(Limits_Details!$D110=\"\",\"\",Limits_Details!$D110)","v":""},"",{"$f":"IF(COUNTIF(AG$2:AG88,AG88)=1,AG88,\"\")","v":""},"","","",null,{"$f":"+IF(AR88=\"\",\"\",MAX(AM$1:AM87)+1)","v":""},{"$f":"IF(CEM_COM_CPMS_Detail!$B110=\"\",\"\",CEM_COM_CPMS_Detail!$B110)","v":""},{"$f":"IF(CEM_COM_CPMS_Detail!$C110=\"\",\"\",CEM_COM_CPMS_Detail!$C110)","v":""},{"$f":"IF(CEM_COM_CPMS_Detail!$D110=\"\",\"\",CEM_COM_CPMS_Detail!$D110)","v":""},"",{"$f":"IF(COUNTIF(AQ$2:AQ88,AQ88)=1,AQ88,\"\")","v":""},"","",""]
[{"$f":"+IF(D89=\"\",\"\",MAX(A$1:A88)+1)","v":""},{"$f":"IF(CEM_COM_CPMS_Identification!C111=\"\",\"\",CEM_COM_CPMS_Identification!C111)","v":""},"",{"$f":"IF(COUNTIF(B$2:B89,B89)=1,B89,\"\")","v":""},null,null,null,null,null,null,{"$f":"+IF(N89=\"\",\"\",MAX(K$1:K88)+1)","v":""},{"$f":"IF(CEM_COM_CPMS_Identification!D111=\"\",\"\",CEM_COM_CPMS_Identification!D111)","v":""},"",{"$f":"IF(COUNTIF(L$2:L89,L89)=1,L89,\"\")","v":""},null,null,null,null,{"$f":"+IF(W89=\"\",\"\",MAX(S$1:S88)+1)","v":""},{"$f":"IF(Limits_Details!$B111=\"\",\"\",Limits_Details!$B111)","v":""},{"$f":"IF(Limits_Details!$C111=\"\",\"\",Limits_Details!$C111)","v":""},"",{"$f":"IF(COUNTIF(V$2:V89,V89)=1,V89,\"\")","v":""},"","",null,null,null,{"$f":"+IF(AH89=\"\",\"\",MAX(AC$1:AC88)+1)","v":""},{"$f":"IF(Limits_Details!$B111=\"\",\"\",Limits_Details!$B111)","v":""},{"$f":"IF(Limits_Details!$C111=\"\",\"\",Limits_Details!$C111)","v":""},{"$f":"IF(Limits_Details!$D111=\"\",\"\",Limits_Details!$D111)","v":""},"",{"$f":"IF(COUNTIF(AG$2:AG89,AG89)=1,AG89,\"\")","v":""},"","","",null,{"$f":"+IF(AR89=\"\",\"\",MAX(AM$1:AM88)+1)","v":""},{"$f":"IF(CEM_COM_CPMS_Detail!$B111=\"\",\"\",CEM_COM_CPMS_Detail!$B111)","v":""},{"$f":"IF(CEM_COM_CPMS_Detail!$C111=\"\",\"\",CEM_COM_CPMS_Detail!$C111)","v":""},{"$f":"IF(CEM_COM_CPMS_Detail!$D111=\"\",\"\",CEM_COM_CPMS_Detail!$D111)","v":""},"",{"$f":"IF(COUNTIF(AQ$2:AQ89,AQ89)=1,AQ89,\"\")","v":""},"","",""]
[{"$f":"+IF(D90=\"\",\"\",MAX(A$1:A89)+1)","v":""},{"$f":"IF(CEM_COM_CPMS_Identification!C112=\"\",\"\",CEM_COM_CPMS_Identification!C112)","v":""},"",{"$f":"IF(COUNTIF(B$2:B90,B90)=1,B90,\"\")","v":""},null,null,null,null,null,null,{"$f":"+IF(N90=\"\",\"\",MAX(K$1:K89)+1)","v":""},{"$f":"IF(CEM_COM_CPMS_Identification!D112=\"\",\"\",CEM_COM_CPMS_Identification!D112)","v":""},"",{"$f":"IF(COUNTIF(L$2:L90,L90)=1,L90,\"\")","v":""},null,null,null,null,{"$f":"+IF(W90=\"\",\"\",MAX(S$1:S89)+1)","v":""},{"$f":"IF(Limits_Details!$B112=\"\",\"\",Limits_Details!$B112)","v":""},{"$f":"IF(Limits_Details!$C112=\"\",\"\",Limits_Details!$C112)","v":""},"",{"$f":"IF(COUNTIF(V$2:V90,V90)=1,V90,\"\")","v":""},"","",null,null,null,{"$f":"+IF(AH90=\"\",\"\",MAX(AC$1:AC89)+1)","v":""},{"$f":"IF(Limits_Details!$B112=\"\",\"\",Limits_Details!$B112)","v":""},{"$f":"IF(Limits_Details!$C112=\"\",\"\",Limits_Details!$C112)","v":""},{"$f":"IF(Limits_Details!$D112=\"\",\"\",Limits_Details!$D112)","v":""},"",{"$f":"IF(COUNTIF(AG$2:AG90,AG90)=1,AG90,\"\")","v":""},"","","",null,{"$f":"+IF(AR90=\"\",\"\",MAX(AM$1:AM89)+1)","v":""},{"$f":"IF(CEM_COM_CPMS_Detail!$B112=\"\",\"\",CEM_COM_CPMS_Detail!$B112)","v":""},{"$f":"IF(CEM_COM_CPMS_Detail!$C112=\"\",\"\",CEM_COM_CPMS_Detail!$C112)","v":""},{"$f":"IF(CEM_COM_CPMS_Detail!$D112=\"\",\"\",CEM_COM_CPMS_Detail!$D112)","v":""},"",{"$f":"IF(COUNTIF(AQ$2:AQ90,AQ90)=1,AQ90,\"\")","v":""},"","",""]
[{"$f":"+IF(D91=\"\",\"\",MAX(A$1:A90)+1)","v":""},{"$f":"IF(CEM_COM_CPMS_Identification!C113=\"\",\"\",CEM_COM_CPMS_Identification!C113)","v":""},"",{"$f":"IF(COUNTIF(B$2:B91,B91)=1,B91,\"\")","v":""},null,null,null,null,null,null,{"$f":"+IF(N91=\"\",\"\",MAX(K$1:K90)+1)","v":""},{"$f":"IF(CEM_COM_CPMS_Identification!D113=\"\",\"\",CEM_COM_CPMS_Identification!D113)","v":""},"",{"$f":"IF(COUNTIF(L$2:L91,L91)=1,L91,\"\")","v":""},null,null,null,null,{"$f":"+IF(W91=\"\",\"\",MAX(S$1:S90)+1)","v":""},{"$f":"IF(Limits_Details!$B113=\"\",\"\",Limits_Details!$B113)","v":""},{"$f":"IF(Limits_Details!$C113=\"\",\"\",Limits_Details!$C113)","v":""},"",{"$f":"IF(COUNTIF(V$2:V91,V91)=1,V91,\"\")","v":""},"","",null,null,null,{"$f":"+IF(AH91=\"\",\"\",MAX(AC$1:AC90)+1)","v":""},{"$f":"IF(Limits_Details!$B113=\"\",\"\",Limits_Details!$B113)","v":""},{"$f":"IF(Limits_Details!$C113=\"\",\"\",Limits_Details!$C113)","v":""},{"$f":"IF(Limits_Details!$D113=\"\",\"\",Limits_Details!$D113)","v":""},"",{"$f":"IF(COUNTIF(AG$2:AG91,AG91)=1,AG91,\"\")","v":""},"","","",null,{"$f":"+IF(AR91=\"\",\"\",MAX(AM$1:AM90)+1)","v":""},{"$f":"IF(CEM_COM_CPMS_Detail!$B113=\"\",\"\",CEM_COM_CPMS_Detail!$B113)","v":""},{"$f":"IF(CEM_COM_CPMS_Detail!$C113=\"\",\"\",CEM_COM_CPMS_Detail!$C113)","v":""},{"$f":"IF(CEM_COM_CPMS_Detail!$D113=\"\",\"\",CEM_COM_CPMS_Detail!$D113)","v":""},"",{"$f":"IF(COUNTIF(AQ$2:AQ91,AQ91)=1,AQ91,\"\")","v":""},"","",""]
[{"$f":"+IF(D92=\"\",\"\",MAX(A$1:A91)+1)","v":""},{"$f":"IF(CEM_COM_CPMS_Identification!C114=\"\",\"\",CEM_COM_CPMS_Identification!C114)","v":""},"",{"$f":"IF(COUNTIF(B$2:B92,B92)=1,B92,\"\")","v":""},null,null,null,null,null,null,{"$f":"+IF(N92=\"\",\"\",MAX(K$1:K91)+1)","v":""},{"$f":"IF(CEM_COM_CPMS_Identification!D114=\"\",\"\",CEM_COM_CPMS_Identification!D114)","v":""},"",{"$f":"IF(COUNTIF(L$2:L92,L92)=1,L92,\"\")","v":""},null,null,null,null,{"$f":"+IF(W92=\"\",\"\",MAX(S$1:S91)+1)","v":""},{"$f":"IF(Limits_Details!$B114=\"\",\"\",Limits_Details!$B114)","v":""},{"$f":"IF(Limits_Details!$C114=\"\",\"\",Limits_Details!$C114)","v":""},"",{"$f":"IF(COUNTIF(V$2:V92,V92)=1,V92,\"\")","v":""},"","",null,null,null,{"$f":"+IF(AH92=\"\",\"\",MAX(AC$1:AC91)+1)","v":""},{"$f":"IF(Limits_Details!$B114=\"\",\"\",Limits_Details!$B114)","v":""},{"$f":"IF(Limits_Details!$C114=\"\",\"\",Limits_Details!$C114)","v":""},{"$f":"IF(Limits_Details!$D114=\"\",\"\",Limits_Details!$D114)","v":""},"",{"$f":"IF(COUNTIF(AG$2:AG92,AG92)=1,AG92,\"\")","v":""},"","","",null,{"$f":"+IF(AR92=\"\",\"\",MAX(AM$1:AM91)+1)","v":""},{"$f":"IF(CEM_COM_CPMS_Detail!$B114=\"\",\"\",CEM_COM_CPMS_Detail!$B114)","v":""},{"$f":"IF(CEM_COM_CPMS_Detail!$C114=\"\",\"\",CEM_COM_CPMS_Detail!$C114)","v":""},{"$f":"IF(CEM_COM_CPMS_Detail!$D114=\"\",\"\",CEM_COM_CPMS_Detail!$D114)","v":""},"",{"$f":"IF(COUNTIF(AQ$2:AQ92,AQ92)=1,AQ92,\"\")","v":""},"","",""]
[{"$f":"+IF(D93=\"\",\"\",MAX(A$1:A92)+1)","v":""},{"$f":"IF(CEM_COM_CPMS_Identification!C115=\"\",\"\",CEM_COM_CPMS_Identification!C115)","v":""},"",{"$f":"IF(COUNTIF(B$2:B93,B93)=1,B93,\"\")","v":""},null,null,null,null,null,null,{"$f":"+IF(N93=\"\",\"\",MAX(K$1:K92)+1)","v":""},{"$f":"IF(CEM_COM_CPMS_Identification!D115=\"\",\"\",CEM_COM_CPMS_Identification!D115)","v":""},"",{"$f":"IF(COUNTIF(L$2:L93,L93)=1,L93,\"\")","v":""},null,null,null,null,{"$f":"+IF(W93=\"\",\"\",MAX(S$1:S92)+1)","v":""},{"$f":"IF(Limits_Details!$B115=\"\",\"\",Limits_Details!$B115)","v":""},{"$f":"IF(Limits_Details!$C115=\"\",\"\",Limits_Details!$C115)","v":""},"",{"$f":"IF(COUNTIF(V$2:V93,V93)=1,V93,\"\")","v":""},"","",null,null,null,{"$f":"+IF(AH93=\"\",\"\",MAX(AC$1:AC92)+1)","v":""},{"$f":"IF(Limits_Details!$B115=\"\",\"\",Limits_Details!$B115)","v":""},{"$f":"IF(Limits_Details!$C115=\"\",\"\",Limits_Details!$C115)","v":""},{"$f":"IF(Limits_Details!$D115=\"\",\"\",Limits_Details!$D115)","v":""},"",{"$f":"IF(COUNTIF(AG$2:AG93,AG93)=1,AG93,\"\")","v":""},"","","",null,{"$f":"+IF(AR93=\"\",\"\",MAX(AM$1:AM92)+1)","v":""},{"$f":"IF(CEM_COM_CPMS_Detail!$B115=\"\",\"\",CEM_COM_CPMS_Detail!$B115)","v":""},{"$f":"IF(CEM_COM_CPMS_Detail!$C115=\"\",\"\",CEM_COM_CPMS_Detail!$C115)","v":""},{"$f":"IF(CEM_COM_CPMS_Detail!$D115=\"\",\"\",CEM_COM_CPMS_Detail!$D115)","v":""},"",{"$f":"IF(COUNTIF(AQ$2:AQ93,AQ93)=1,AQ93,\"\")","v":""},"","",""]
[{"$f":"+IF(D94=\"\",\"\",MAX(A$1:A93)+1)","v":""},{"$f":"IF(CEM_COM_CPMS_Identification!C116=\"\",\"\",CEM_COM_CPMS_Identification!C116)","v":""},"",{"$f":"IF(COUNTIF(B$2:B94,B94)=1,B94,\"\")","v":""},null,null,null,null,null,null,{"$f":"+IF(N94=\"\",\"\",MAX(K$1:K93)+1)","v":""},{"$f":"IF(CEM_COM_CPMS_Identification!D116=\"\",\"\",CEM_COM_CPMS_Identification!D116)","v":""},"",{"$f":"IF(COUNTIF(L$2:L94,L94)=1,L94,\"\")","v":""},null,null,null,null,{"$f":"+IF(W94=\"\",\"\",MAX(S$1:S93)+1)","v":""},{"$f":"IF(Limits_Details!$B116=\"\",\"\",Limits_Details!$B116)","v":""},{"$f":"IF(Limits_Details!$C116=\"\",\"\",Limits_Details!$C116)","v":""},"",{"$f":"IF(COUNTIF(V$2:V94,V94)=1,V94,\"\")","v":""},"","",null,null,null,{"$f":"+IF(AH94=\"\",\"\",MAX(AC$1:AC93)+1)","v":""},{"$f":"IF(Limits_Details!$B116=\"\",\"\",Limits_Details!$B116)","v":""},{"$f":"IF(Limits_Details!$C116=\"\",\"\",Limits_Details!$C116)","v":""},{"$f":"IF(Limits_Details!$D116=\"\",\"\",Limits_Details!$D116)","v":""},"",{"$f":"IF(COUNTIF(AG$2:AG94,AG94)=1,AG94,\"\")","v":""},"","","",null,{"$f":"+IF(AR94=\"\",\"\",MAX(AM$1:AM93)+1)","v":""},{"$f":"IF(CEM_COM_CPMS_Detail!$B116=\"\",\"\",CEM_COM_CPMS_Detail!$B116)","v":""},{"$f":"IF(CEM_COM_CPMS_Detail!$C116=\"\",\"\",CEM_COM_CPMS_Detail!$C116)","v":""},{"$f":"IF(CEM_COM_CPMS_Detail!$D116=\"\",\"\",CEM_COM_CPMS_Detail!$D116)","v":""},"",{"$f":"IF(COUNTIF(AQ$2:AQ94,AQ94)=1,AQ94,\"\")","v":""},"","",""]
[{"$f":"+IF(D95=\"\",\"\",MAX(A$1:A94)+1)","v":""},{"$f":"IF(CEM_COM_CPMS_Identification!C117=\"\",\"\",CEM_COM_CPMS_Identification!C117)","v":""},"",{"$f":"IF(COUNTIF(B$2:B95,B95)=1,B95,\"\")","v":""},null,null,null,null,null,null,{"$f":"+IF(N95=\"\",\"\",MAX(K$1:K94)+1)","v":""},{"$f":"IF(CEM_COM_CPMS_Identification!D117=\"\",\"\",CEM_COM_CPMS_Identification!D117)","v":""},"",{"$f":"IF(COUNTIF(L$2:L95,L95)=1,L95,\"\")","v":""},null,null,null,null,{"$f":"+IF(W95=\"\",\"\",MAX(S$1:S94)+1)","v":""},{"$f":"IF(Limits_Details!$B117=\"\",\"\",Limits_Details!$B117)","v":""},{"$f":"IF(Limits_Details!$C117=\"\",\"\",Limits_Details!$C117)","v":""},"",{"$f":"IF(COUNTIF(V$2:V95,V95)=1,V95,\"\")","v":""},"","",null,null,null,{"$f":"+IF(AH95=\"\",\"\",MAX(AC$1:AC94)+1)","v":""},{"$f":"IF(Limits_Details!$B117=\"\",\"\",Limits_Details!$B117)","v":""},{"$f":"IF(Limits_Details!$C117=\"\",\"\",Limits_Details!$C117)","v":""},{"$f":"IF(Limits_Details!$D117=\"\",\"\",Limits_Details!$D117)","v":""},"",{"$f":"IF(COUNTIF(AG$2:AG95,AG95)=1,AG95,\"\")","v":""},"","","",null,{"$f":"+IF(AR95=\"\",\"\",MAX(AM$1:AM94)+1)","v":""},{"$f":"IF(CEM_COM_CPMS_Detail!$B117=\"\",\"\",CEM_COM_CPMS_Detail!$B117)","v":""},{"$f":"IF(CEM_COM_CPMS_Detail!$C117=\"\",\"\",CEM_COM_CPMS_Detail!$C117)","v":""},{"$f":"IF(CEM_COM_CPMS_Detail!$D117=\"\",\"\",CEM_COM_CPMS_Detail!$D117)","v":""},"",{"$f":"IF(COUNTIF(AQ$2:AQ95,AQ95)=1,AQ95,\"\")","v":""},"","",""]
[{"$f":"+IF(D96=\"\",\"\",MAX(A$1:A95)+1)","v":""},{"$f":"IF(CEM_COM_CPMS_Identification!C118=\"\",\"\",CEM_COM_CPMS_Identification!C118)","v":""},"",{"$f":"IF(COUNTIF(B$2:B96,B96)=1,B96,\"\")","v":""},null,null,null,null,null,null,{"$f":"+IF(N96=\"\",\"\",MAX(K$1:K95)+1)","v":""},{"$f":"IF(CEM_COM_CPMS_Identification!D118=\"\",\"\",CEM_COM_CPMS_Identification!D118)","v":""},"",{"$f":"IF(COUNTIF(L$2:L96,L96)=1,L96,\"\")","v":""},null,null,null,null,{"$f":"+IF(W96=\"\",\"\",MAX(S$1:S95)+1)","v":""},{"$f":"IF(Limits_Details!$B118=\"\",\"\",Limits_Details!$B118)","v":""},{"$f":"IF(Limits_Details!$C118=\"\",\"\",Limits_Details!$C118)","v":""},"",{"$f":"IF(COUNTIF(V$2:V96,V96)=1,V96,\"\")","v":""},"","",null,null,null,{"$f":"+IF(AH96=\"\",\"\",MAX(AC$1:AC95)+1)","v":""},{"$f":"IF(Limits_Details!$B118=\"\",\"\",Limits_Details!$B118)","v":""},{"$f":"IF(Limits_Details!$C118=\"\",\"\",Limits_Details!$C118)","v":""},{"$f":"IF(Limits_Details!$D118=\"\",\"\",Limits_Details!$D118)","v":""},"",{"$f":"IF(COUNTIF(AG$2:AG96,AG96)=1,AG96,\"\")","v":""},"","","",null,{"$f":"+IF(AR96=\"\",\"\",MAX(AM$1:AM95)+1)","v":""},{"$f":"IF(CEM_COM_CPMS_Detail!$B118=\"\",\"\",CEM_COM_CPMS_Detail!$B118)","v":""},{"$f":"IF(CEM_COM_CPMS_Detail!$C118=\"\",\"\",CEM_COM_CPMS_Detail!$C118)","v":""},{"$f":"IF(CEM_COM_CPMS_Detail!$D118=\"\",\"\",CEM_COM_CPMS_Detail!$D118)","v":""},"",{"$f":"IF(COUNTIF(AQ$2:AQ96,AQ96)=1,AQ96,\"\")","v":""},"","",""]
[{"$f":"+IF(D97=\"\",\"\",MAX(A$1:A96)+1)","v":""},{"$f":"IF(CEM_COM_CPMS_Identification!C119=\"\",\"\",CEM_COM_CPMS_Identification!C119)","v":""},"",{"$f":"IF(COUNTIF(B$2:B97,B97)=1,B97,\"\")","v":""},null,null,null,null,null,null,{"$f":"+IF(N97=\"\",\"\",MAX(K$1:K96)+1)","v":""},{"$f":"IF(CEM_COM_CPMS_Identification!D119=\"\",\"\",CEM_COM_CPMS_Identification!D119)","v":""},"",{"$f":"IF(COUNTIF(L$2:L97,L97)=1,L97,\"\")","v":""},null,null,null,null,{"$f":"+IF(W97=\"\",\"\",MAX(S$1:S96)+1)","v":""},{"$f":"IF(Limits_Details!$B119=\"\",\"\",Limits_Details!$B119)","v":""},{"$f":"IF(Limits_Details!$C119=\"\",\"\",Limits_Details!$C119)","v":""},"",{"$f":"IF(COUNTIF(V$2:V97,V97)=1,V97,\"\")","v":""},"","",null,null,null,{"$f":"+IF(AH97=\"\",\"\",MAX(AC$1:AC96)+1)","v":""},{"$f":"IF(Limits_Details!$B119=\"\",\"\",Limits_Details!$B119)","v":""},{"$f":"IF(Limits_Details!$C119=\"\",\"\",Limits_Details!$C119)","v":""},{"$f":"IF(Limits_Details!$D119=\"\",\"\",Limits_Details!$D119)","v":""},"",{"$f":"IF(COUNTIF(AG$2:AG97,AG97)=1,AG97,\"\")","v":""},"","","",null,{"$f":"+IF(AR97=\"\",\"\",MAX(AM$1:AM96)+1)","v":""},{"$f":"IF(CEM_COM_CPMS_Detail!$B119=\"\",\"\",CEM_COM_CPMS_Detail!$B119)","v":""},{"$f":"IF(CEM_COM_CPMS_Detail!$C119=\"\",\"\",CEM_COM_CPMS_Detail!$C119)","v":""},{"$f":"IF(CEM_COM_CPMS_Detail!$D119=\"\",\"\",CEM_COM_CPMS_Detail!$D119)","v":""},"",{"$f":"IF(COUNTIF(AQ$2:AQ97,AQ97)=1,AQ97,\"\")","v":""},"","",""]
[{"$f":"+IF(D98=\"\",\"\",MAX(A$1:A97)+1)","v":""},{"$f":"IF(CEM_COM_CPMS_Identification!C120=\"\",\"\",CEM_COM_CPMS_Identification!C120)","v":""},"",{"$f":"IF(COUNTIF(B$2:B98,B98)=1,B98,\"\")","v":""},null,null,null,null,null,null,{"$f":"+IF(N98=\"\",\"\",MAX(K$1:K97)+1)","v":""},{"$f":"IF(CEM_COM_CPMS_Identification!D120=\"\",\"\",CEM_COM_CPMS_Identification!D120)","v":""},"",{"$f":"IF(COUNTIF(L$2:L98,L98)=1,L98,\"\")","v":""},null,null,null,null,{"$f":"+IF(W98=\"\",\"\",MAX(S$1:S97)+1)","v":""},{"$f":"IF(Limits_Details!$B120=\"\",\"\",Limits_Details!$B120)","v":""},{"$f":"IF(Limits_Details!$C120=\"\",\"\",Limits_Details!$C120)","v":""},"",{"$f":"IF(COUNTIF(V$2:V98,V98)=1,V98,\"\")","v":""},"","",null,null,null,{"$f":"+IF(AH98=\"\",\"\",MAX(AC$1:AC97)+1)","v":""},{"$f":"IF(Limits_Details!$B120=\"\",\"\",Limits_Details!$B120)","v":""},{"$f":"IF(Limits_Details!$C120=\"\",\"\",Limits_Details!$C120)","v":""},{"$f":"IF(Limits_Details!$D120=\"\",\"\",Limits_Details!$D120)","v":""},"",{"$f":"IF(COUNTIF(AG$2:AG98,AG98)=1,AG98,\"\")","v":""},"","","",null,{"$f":"+IF(AR98=\"\",\"\",MAX(AM$1:AM97)+1)","v":""},{"$f":"IF(CEM_COM_CPMS_Detail!$B120=\"\",\"\",CEM_COM_CPMS_Detail!$B120)","v":""},{"$f":"IF(CEM_COM_CPMS_Detail!$C120=\"\",\"\",CEM_COM_CPMS_Detail!$C120)","v":""},{"$f":"IF(CEM_COM_CPMS_Detail!$D120=\"\",\"\",CEM_COM_CPMS_Detail!$D120)","v":""},"",{"$f":"IF(COUNTIF(AQ$2:AQ98,AQ98)=1,AQ98,\"\")","v":""},"","",""]
[{"$f":"+IF(D99=\"\",\"\",MAX(A$1:A98)+1)","v":""},{"$f":"IF(CEM_COM_CPMS_Identification!C121=\"\",\"\",CEM_COM_CPMS_Identification!C121)","v":""},"",{"$f":"IF(COUNTIF(B$2:B99,B99)=1,B99,\"\")","v":""},null,null,null,null,null,null,{"$f":"+IF(N99=\"\",\"\",MAX(K$1:K98)+1)","v":""},{"$f":"IF(CEM_COM_CPMS_Identification!D121=\"\",\"\",CEM_COM_CPMS_Identification!D121)","v":""},"",{"$f":"IF(COUNTIF(L$2:L99,L99)=1,L99,\"\")","v":""},null,null,null,null,{"$f":"+IF(W99=\"\",\"\",MAX(S$1:S98)+1)","v":""},{"$f":"IF(Limits_Details!$B121=\"\",\"\",Limits_Details!$B121)","v":""},{"$f":"IF(Limits_Details!$C121=\"\",\"\",Limits_Details!$C121)","v":""},"",{"$f":"IF(COUNTIF(V$2:V99,V99)=1,V99,\"\")","v":""},"","",null,null,null,{"$f":"+IF(AH99=\"\",\"\",MAX(AC$1:AC98)+1)","v":""},{"$f":"IF(Limits_Details!$B121=\"\",\"\",Limits_Details!$B121)","v":""},{"$f":"IF(Limits_Details!$C121=\"\",\"\",Limits_Details!$C121)","v":""},{"$f":"IF(Limits_Details!$D121=\"\",\"\",Limits_Details!$D121)","v":""},"",{"$f":"IF(COUNTIF(AG$2:AG99,AG99)=1,AG99,\"\")","v":""},"","","",null,{"$f":"+IF(AR99=\"\",\"\",MAX(AM$1:AM98)+1)","v":""},{"$f":"IF(CEM_COM_CPMS_Detail!$B121=\"\",\"\",CEM_COM_CPMS_Detail!$B121)","v":""},{"$f":"IF(CEM_COM_CPMS_Detail!$C121=\"\",\"\",CEM_COM_CPMS_Detail!$C121)","v":""},{"$f":"IF(CEM_COM_CPMS_Detail!$D121=\"\",\"\",CEM_COM_CPMS_Detail!$D121)","v":""},"",{"$f":"IF(COUNTIF(AQ$2:AQ99,AQ99)=1,AQ99,\"\")","v":""},"","",""]
[{"$f":"+IF(D100=\"\",\"\",MAX(A$1:A99)+1)","v":""},{"$f":"IF(CEM_COM_CPMS_Identification!C122=\"\",\"\",CEM_COM_CPMS_Identification!C122)","v":""},"",{"$f":"IF(COUNTIF(B$2:B100,B100)=1,B100,\"\")","v":""},null,null,null,null,null,null,{"$f":"+IF(N100=\"\",\"\",MAX(K$1:K99)+1)","v":""},{"$f":"IF(CEM_COM_CPMS_Identification!D122=\"\",\"\",CEM_COM_CPMS_Identification!D122)","v":""},"",{"$f":"IF(COUNTIF(L$2:L100,L100)=1,L100,\"\")","v":""},null,null,null,null,{"$f":"+IF(W100=\"\",\"\",MAX(S$1:S99)+1)","v":""},{"$f":"IF(Limits_Details!$B122=\"\",\"\",Limits_Details!$B122)","v":""},{"$f":"IF(Limits_Details!$C122=\"\",\"\",Limits_Details!$C122)","v":""},"",{"$f":"IF(COUNTIF(V$2:V100,V100)=1,V100,\"\")","v":""},"","",null,null,null,{"$f":"+IF(AH100=\"\",\"\",MAX(AC$1:AC99)+1)","v":""},{"$f":"IF(Limits_Details!$B122=\"\",\"\",Limits_Details!$B122)","v":""},{"$f":"IF(Limits_Details!$C122=\"\",\"\",Limits_Details!$C122)","v":""},{"$f":"IF(Limits_Details!$D122=\"\",\"\",Limits_Details!$D122)","v":""},"",{"$f":"IF(COUNTIF(AG$2:AG100,AG100)=1,AG100,\"\")","v":""},"","","",null,{"$f":"+IF(AR100=\"\",\"\",MAX(AM$1:AM99)+1)","v":""},{"$f":"IF(CEM_COM_CPMS_Detail!$B122=\"\",\"\",CEM_COM_CPMS_Detail!$B122)","v":""},{"$f":"IF(CEM_COM_CPMS_Detail!$C122=\"\",\"\",CEM_COM_CPMS_Detail!$C122)","v":""},{"$f":"IF(CEM_COM_CPMS_Detail!$D122=\"\",\"\",CEM_COM_CPMS_Detail!$D122)","v":""},"",{"$f":"IF(COUNTIF(AQ$2:AQ100,AQ100)=1,AQ100,\"\")","v":""},"","",""]
[{"$f":"+IF(D101=\"\",\"\",MAX(A$1:A100)+1)","v":""},{"$f":"IF(CEM_COM_CPMS_Identification!C123=\"\",\"\",CEM_COM_CPMS_Identification!C123)","v":""},"",{"$f":"IF(COUNTIF(B$2:B101,B101)=1,B101,\"\")","v":""},null,null,null,null,null,null,{"$f":"+IF(N101=\"\",\"\",MAX(K$1:K100)+1)","v":""},{"$f":"IF(CEM_COM_CPMS_Identification!D123=\"\",\"\",CEM_COM_CPMS_Identification!D123)","v":""},"",{"$f":"IF(COUNTIF(L$2:L101,L101)=1,L101,\"\")","v":""},null,null,null,null,{"$f":"+IF(W101=\"\",\"\",MAX(S$1:S100)+1)","v":""},{"$f":"IF(Limits_Details!$B123=\"\",\"\",Limits_Details!$B123)","v":""},{"$f":"IF(Limits_Details!$C123=\"\",\"\",Limits_Details!$C123)","v":""},"",{"$f":"IF(COUNTIF(V$2:V101,V101)=1,V101,\"\")","v":""},"","",null,null,null,{"$f":"+IF(AH101=\"\",\"\",MAX(AC$1:AC100)+1)","v":""},{"$f":"IF(Limits_Details!$B123=\"\",\"\",Limits_Details!$B123)","v":""},{"$f":"IF(Limits_Details!$C123=\"\",\"\",Limits_Details!$C123)","v":""},{"$f":"IF(Limits_Details!$D123=\"\",\"\",Limits_Details!$D123)","v":""},"",{"$f":"IF(COUNTIF(AG$2:AG101,AG101)=1,AG101,\"\")","v":""},"","","",null,{"$f":"+IF(AR101=\"\",\"\",MAX(AM$1:AM100)+1)","v":""},{"$f":"IF(CEM_COM_CPMS_Detail!$B123=\"\",\"\",CEM_COM_CPMS_Detail!$B123)","v":""},{"$f":"IF(CEM_COM_CPMS_Detail!$C123=\"\",\"\",CEM_COM_CPMS_Detail!$C123)","v":""},{"$f":"IF(CEM_COM_CPMS_Detail!$D123=\"\",\"\",CEM_COM_CPMS_Detail!$D123)","v":""},"",{"$f":"IF(COUNTIF(AQ$2:AQ101,AQ101)=1,AQ101,\"\")","v":""},"","",""]
[{"$f":"+IF(D102=\"\",\"\",MAX(A$1:A101)+1)","v":""},{"$f":"IF(CEM_COM_CPMS_Identification!C124=\"\",\"\",CEM_COM_CPMS_Identification!C124)","v":""},"",{"$f":"IF(COUNTIF(B$2:B102,B102)=1,B102,\"\")","v":""},null,null,null,null,null,null,null,null,null,null,null,null,null,null,{"$f":"+IF(W102=\"\",\"\",MAX(S$1:S101)+1)","v":""},{"$f":"IF(Limits_Details!$B124=\"\",\"\",Limits_Details!$B124)","v":""},{"$f":"IF(Limits_Details!$C124=\"\",\"\",Limits_Details!$C124)","v":""},"",{"$f":"IF(COUNTIF(V$2:V102,V102)=1,V102,\"\")","v":""},"","",null,null,null,{"$f":"+IF(AH102=\"\",\"\",MAX(AC$1:AC101)+1)","v":""},{"$f":"IF(Limits_Details!$B124=\"\",\"\",Limits_Details!$B124)","v":""},{"$f":"IF(Limits_Details!$C124=\"\",\"\",Limits_Details!$C124)","v":""},{"$f":"IF(Limits_Details!$D124=\"\",\"\",Limits_Details!$D124)","v":""},"",{"$f":"IF(COUNTIF(AG$2:AG102,AG102)=1,AG102,\"\")","v":""},"","","",null,{"$f":"+IF(AR102=\"\",\"\",MAX(AM$1:AM101)+1)","v":""},{"$f":"IF(CEM_COM_CPMS_Detail!$B124=\"\",\"\",CEM_COM_CPMS_Detail!$B124)","v":""},{"$f":"IF(CEM_COM_CPMS_Detail!$C124=\"\",\"\",CEM_COM_CPMS_Detail!$C124)","v":""},{"$f":"IF(CEM_COM_CPMS_Detail!$D124=\"\",\"\",CEM_COM_CPMS_Detail!$D124)","v":""},"",{"$f":"IF(COUNTIF(AQ$2:AQ102,AQ102)=1,AQ102,\"\")","v":""},"","",""]
[{"$f":"+IF(D103=\"\",\"\",MAX(A$1:A102)+1)","v":""},{"$f":"IF(CEM_COM_CPMS_Identification!C125=\"\",\"\",CEM_COM_CPMS_Identification!C125)","v":""},"",{"$f":"IF(COUNTIF(B$2:B103,B103)=1,B103,\"\")","v":""},null,null,null,null,null,null,null,null,null,null,null,null,null,null,{"$f":"+IF(W103=\"\",\"\",MAX(S$1:S102)+1)","v":""},{"$f":"IF(Limits_Details!$B125=\"\",\"\",Limits_Details!$B125)","v":""},{"$f":"IF(Limits_Details!$C125=\"\",\"\",Limits_Details!$C125)","v":""},"",{"$f":"IF(COUNTIF(V$2:V103,V103)=1,V103,\"\")","v":""},"","",null,null,null,{"$f":"+IF(AH103=\"\",\"\",MAX(AC$1:AC102)+1)","v":""},{"$f":"IF(Limits_Details!$B125=\"\",\"\",Limits_Details!$B125)","v":""},{"$f":"IF(Limits_Details!$C125=\"\",\"\",Limits_Details!$C125)","v":""},{"$f":"IF(Limits_Details!$D125=\"\",\"\",Limits_Details!$D125)","v":""},"",{"$f":"IF(COUNTIF(AG$2:AG103,AG103)=1,AG103,\"\")","v":""},"","","",null,{"$f":"+IF(AR103=\"\",\"\",MAX(AM$1:AM102)+1)","v":""},{"$f":"IF(CEM_COM_CPMS_Detail!$B125=\"\",\"\",CEM_COM_CPMS_Detail!$B125)","v":""},{"$f":"IF(CEM_COM_CPMS_Detail!$C125=\"\",\"\",CEM_COM_CPMS_Detail!$C125)","v":""},{"$f":"IF(CEM_COM_CPMS_Detail!$D125=\"\",\"\",CEM_COM_CPMS_Detail!$D125)","v":""},"",{"$f":"IF(COUNTIF(AQ$2:AQ103,AQ103)=1,AQ103,\"\")","v":""},"","",""]
[{"$f":"+IF(D104=\"\",\"\",MAX(A$1:A103)+1)","v":""},{"$f":"IF(CEM_COM_CPMS_Identification!C126=\"\",\"\",CEM_COM_CPMS_Identification!C126)","v":""},"",{"$f":"IF(COUNTIF(B$2:B104,B104)=1,B104,\"\")","v":""},null,null,null,null,null,null,null,null,null,null,null,null,null,null,{"$f":"+IF(W104=\"\",\"\",MAX(S$1:S103)+1)","v":""},{"$f":"IF(Limits_Details!$B126=\"\",\"\",Limits_Details!$B126)","v":""},{"$f":"IF(Limits_Details!$C126=\"\",\"\",Limits_Details!$C126)","v":""},"",{"$f":"IF(COUNTIF(V$2:V104,V104)=1,V104,\"\")","v":""},"","",null,null,null,{"$f":"+IF(AH104=\"\",\"\",MAX(AC$1:AC103)+1)","v":""},{"$f":"IF(Limits_Details!$B126=\"\",\"\",Limits_Details!$B126)","v":""},{"$f":"IF(Limits_Details!$C126=\"\",\"\",Limits_Details!$C126)","v":""},{"$f":"IF(Limits_Details!$D126=\"\",\"\",Limits_Details!$D126)","v":""},"",{"$f":"IF(COUNTIF(AG$2:AG104,AG104)=1,AG104,\"\")","v":""},"","","",null,{"$f":"+IF(AR104=\"\",\"\",MAX(AM$1:AM103)+1)","v":""},{"$f":"IF(CEM_COM_CPMS_Detail!$B126=\"\",\"\",CEM_COM_CPMS_Detail!$B126)","v":""},{"$f":"IF(CEM_COM_CPMS_Detail!$C126=\"\",\"\",CEM_COM_CPMS_Detail!$C126)","v":""},{"$f":"IF(CEM_COM_CPMS_Detail!$D126=\"\",\"\",CEM_COM_CPMS_Detail!$D126)","v":""},"",{"$f":"IF(COUNTIF(AQ$2:AQ104,AQ104)=1,AQ104,\"\")","v":""},"","",""]
[{"$f":"+IF(D105=\"\",\"\",MAX(A$1:A104)+1)","v":""},{"$f":"IF(CEM_COM_CPMS_Identification!C127=\"\",\"\",CEM_COM_CPMS_Identification!C127)","v":""},"",{"$f":"IF(COUNTIF(B$2:B105,B105)=1,B105,\"\")","v":""},null,null,null,null,null,null,null,null,null,null,null,null,null,null,{"$f":"+IF(W105=\"\",\"\",MAX(S$1:S104)+1)","v":""},{"$f":"IF(Limits_Details!$B127=\"\",\"\",Limits_Details!$B127)","v":""},{"$f":"IF(Limits_Details!$C127=\"\",\"\",Limits_Details!$C127)","v":""},"",{"$f":"IF(COUNTIF(V$2:V105,V105)=1,V105,\"\")","v":""},"","",null,null,null,{"$f":"+IF(AH105=\"\",\"\",MAX(AC$1:AC104)+1)","v":""},{"$f":"IF(Limits_Details!$B127=\"\",\"\",Limits_Details!$B127)","v":""},{"$f":"IF(Limits_Details!$C127=\"\",\"\",Limits_Details!$C127)","v":""},{"$f":"IF(Limits_Details!$D127=\"\",\"\",Limits_Details!$D127)","v":""},"",{"$f":"IF(COUNTIF(AG$2:AG105,AG105)=1,AG105,\"\")","v":""},"","","",null,{"$f":"+IF(AR105=\"\",\"\",MAX(AM$1:AM104)+1)","v":""},{"$f":"IF(CEM_COM_CPMS_Detail!$B127=\"\",\"\",CEM_COM_CPMS_Detail!$B127)","v":""},{"$f":"IF(CEM_COM_CPMS_Detail!$C127=\"\",\"\",CEM_COM_CPMS_Detail!$C127)","v":""},{"$f":"IF(CEM_COM_CPMS_Detail!$D127=\"\",\"\",CEM_COM_CPMS_Detail!$D127)","v":""},"",{"$f":"IF(COUNTIF(AQ$2:AQ105,AQ105)=1,AQ105,\"\")","v":""},"","",""]
[{"$f":"+IF(D106=\"\",\"\",MAX(A$1:A105)+1)","v":""},{"$f":"IF(CEM_COM_CPMS_Identification!C128=\"\",\"\",CEM_COM_CPMS_Identification!C128)","v":""},"",{"$f":"IF(COUNTIF(B$2:B106,B106)=1,B106,\"\")","v":""},null,null,null,null,null,null,null,null,null,null,null,null,null,null,{"$f":"+IF(W106=\"\",\"\",MAX(S$1:S105)+1)","v":""},{"$f":"IF(Limits_Details!$B128=\"\",\"\",Limits_Details!$B128)","v":""},{"$f":"IF(Limits_Details!$C128=\"\",\"\",Limits_Details!$C128)","v":""},"",{"$f":"IF(COUNTIF(V$2:V106,V106)=1,V106,\"\")","v":""},"","",null,null,null,{"$f":"+IF(AH106=\"\",\"\",MAX(AC$1:AC105)+1)","v":""},{"$f":"IF(Limits_Details!$B128=\"\",\"\",Limits_Details!$B128)","v":""},{"$f":"IF(Limits_Details!$C128=\"\",\"\",Limits_Details!$C128)","v":""},{"$f":"IF(Limits_Details!$D128=\"\",\"\",Limits_Details!$D128)","v":""},"",{"$f":"IF(COUNTIF(AG$2:AG106,AG106)=1,AG106,\"\")","v":""},"","","",null,{"$f":"+IF(AR106=\"\",\"\",MAX(AM$1:AM105)+1)","v":""},{"$f":"IF(CEM_COM_CPMS_Detail!$B128=\"\",\"\",CEM_COM_CPMS_Detail!$B128)","v":""},{"$f":"IF(CEM_COM_CPMS_Detail!$C128=\"\",\"\",CEM_COM_CPMS_Detail!$C128)","v":""},{"$f":"IF(CEM_COM_CPMS_Detail!$D128=\"\",\"\",CEM_COM_CPMS_Detail!$D128)","v":""},"",{"$f":"IF(COUNTIF(AQ$2:AQ106,AQ106)=1,AQ106,\"\")","v":""},"","",""]
[{"$f":"+IF(D107=\"\",\"\",MAX(A$1:A106)+1)","v":""},{"$f":"IF(CEM_COM_CPMS_Identification!C129=\"\",\"\",CEM_COM_CPMS_Identification!C129)","v":""},"",{"$f":"IF(COUNTIF(B$2:B107,B107)=1,B107,\"\")","v":""},null,null,null,null,null,null,null,null,null,null,null,null,null,null,{"$f":"+IF(W107=\"\",\"\",MAX(S$1:S106)+1)","v":""},{"$f":"IF(Limits_Details!$B129=\"\",\"\",Limits_Details!$B129)","v":""},{"$f":"IF(Limits_Details!$C129=\"\",\"\",Limits_Details!$C129)","v":""},"",{"$f":"IF(COUNTIF(V$2:V107,V107)=1,V107,\"\")","v":""},"","",null,null,null,{"$f":"+IF(AH107=\"\",\"\",MAX(AC$1:AC106)+1)","v":""},{"$f":"IF(Limits_Details!$B129=\"\",\"\",Limits_Details!$B129)","v":""},{"$f":"IF(Limits_Details!$C129=\"\",\"\",Limits_Details!$C129)","v":""},{"$f":"IF(Limits_Details!$D129=\"\",\"\",Limits_Details!$D129)","v":""},"",{"$f":"IF(COUNTIF(AG$2:AG107,AG107)=1,AG107,\"\")","v":""},"","","",null,{"$f":"+IF(AR107=\"\",\"\",MAX(AM$1:AM106)+1)","v":""},{"$f":"IF(CEM_COM_CPMS_Detail!$B129=\"\",\"\",CEM_COM_CPMS_Detail!$B129)","v":""},{"$f":"IF(CEM_COM_CPMS_Detail!$C129=\"\",\"\",CEM_COM_CPMS_Detail!$C129)","v":""},{"$f":"IF(CEM_COM_CPMS_Detail!$D129=\"\",\"\",CEM_COM_CPMS_Detail!$D129)","v":""},"",{"$f":"IF(COUNTIF(AQ$2:AQ107,AQ107)=1,AQ107,\"\")","v":""},"","",""]
[{"$f":"+IF(D108=\"\",\"\",MAX(A$1:A107)+1)","v":""},{"$f":"IF(CEM_COM_CPMS_Identification!C130=\"\",\"\",CEM_COM_CPMS_Identification!C130)","v":""},"",{"$f":"IF(COUNTIF(B$2:B108,B108)=1,B108,\"\")","v":""},null,null,null,null,null,null,null,null,null,null,null,null,null,null,{"$f":"+IF(W108=\"\",\"\",MAX(S$1:S107)+1)","v":""},{"$f":"IF(Limits_Details!$B130=\"\",\"\",Limits_Details!$B130)","v":""},{"$f":"IF(Limits_Details!$C130=\"\",\"\",Limits_Details!$C130)","v":""},"",{"$f":"IF(COUNTIF(V$2:V108,V108)=1,V108,\"\")","v":""},"","",null,null,null,{"$f":"+IF(AH108=\"\",\"\",MAX(AC$1:AC107)+1)","v":""},{"$f":"IF(Limits_Details!$B130=\"\",\"\",Limits_Details!$B130)","v":""},{"$f":"IF(Limits_Details!$C130=\"\",\"\",Limits_Details!$C130)","v":""},{"$f":"IF(Limits_Details!$D130=\"\",\"\",Limits_Details!$D130)","v":""},"",{"$f":"IF(COUNTIF(AG$2:AG108,AG108)=1,AG108,\"\")","v":""},"","","",null,{"$f":"+IF(AR108=\"\",\"\",MAX(AM$1:AM107)+1)","v":""},{"$f":"IF(CEM_COM_CPMS_Detail!$B130=\"\",\"\",CEM_COM_CPMS_Detail!$B130)","v":""},{"$f":"IF(CEM_COM_CPMS_Detail!$C130=\"\",\"\",CEM_COM_CPMS_Detail!$C130)","v":""},{"$f":"IF(CEM_COM_CPMS_Detail!$D130=\"\",\"\",CEM_COM_CPMS_Detail!$D130)","v":""},"",{"$f":"IF(COUNTIF(AQ$2:AQ108,AQ108)=1,AQ108,\"\")","v":""},"","",""]
[{"$f":"+IF(D109=\"\",\"\",MAX(A$1:A108)+1)","v":""},{"$f":"IF(CEM_COM_CPMS_Identification!C131=\"\",\"\",CEM_COM_CPMS_Identification!C131)","v":""},"",{"$f":"IF(COUNTIF(B$2:B109,B109)=1,B109,\"\")","v":""},null,null,null,null,null,null,null,null,null,null,null,null,null,null,{"$f":"+IF(W109=\"\",\"\",MAX(S$1:S108)+1)","v":""},{"$f":"IF(Limits_Details!$B131=\"\",\"\",Limits_Details!$B131)","v":""},{"$f":"IF(Limits_Details!$C131=\"\",\"\",Limits_Details!$C131)","v":""},"",{"$f":"IF(COUNTIF(V$2:V109,V109)=1,V109,\"\")","v":""},"","",null,null,null,{"$f":"+IF(AH109=\"\",\"\",MAX(AC$1:AC108)+1)","v":""},{"$f":"IF(Limits_Details!$B131=\"\",\"\",Limits_Details!$B131)","v":""},{"$f":"IF(Limits_Details!$C131=\"\",\"\",Limits_Details!$C131)","v":""},{"$f":"IF(Limits_Details!$D131=\"\",\"\",Limits_Details!$D131)","v":""},"",{"$f":"IF(COUNTIF(AG$2:AG109,AG109)=1,AG109,\"\")","v":""},"","","",null,{"$f":"+IF(AR109=\"\",\"\",MAX(AM$1:AM108)+1)","v":""},{"$f":"IF(CEM_COM_CPMS_Detail!$B131=\"\",\"\",CEM_COM_CPMS_Detail!$B131)","v":""},{"$f":"IF(CEM_COM_CPMS_Detail!$C131=\"\",\"\",CEM_COM_CPMS_Detail!$C131)","v":""},{"$f":"IF(CEM_COM_CPMS_Detail!$D131=\"\",\"\",CEM_COM_CPMS_Detail!$D131)","v":""},"",{"$f":"IF(COUNTIF(AQ$2:AQ109,AQ109)=1,AQ109,\"\")","v":""},"","",""]
[{"$f":"+IF(D110=\"\",\"\",MAX(A$1:A109)+1)","v":""},{"$f":"IF(CEM_COM_CPMS_Identification!C132=\"\",\"\",CEM_COM_CPMS_Identification!C132)","v":""},"",{"$f":"IF(COUNTIF(B$2:B110,B110)=1,B110,\"\")","v":""},null,null,null,null,null,null,null,null,null,null,null,null,null,null,{"$f":"+IF(W110=\"\",\"\",MAX(S$1:S109)+1)","v":""},{"$f":"IF(Limits_Details!$B132=\"\",\"\",Limits_Details!$B132)","v":""},{"$f":"IF(Limits_Details!$C132=\"\",\"\",Limits_Details!$C132)","v":""},"",{"$f":"IF(COUNTIF(V$2:V110,V110)=1,V110,\"\")","v":""},"","",null,null,null,{"$f":"+IF(AH110=\"\",\"\",MAX(AC$1:AC109)+1)","v":""},{"$f":"IF(Limits_Details!$B132=\"\",\"\",Limits_Details!$B132)","v":""},{"$f":"IF(Limits_Details!$C132=\"\",\"\",Limits_Details!$C132)","v":""},{"$f":"IF(Limits_Details!$D132=\"\",\"\",Limits_Details!$D132)","v":""},"",{"$f":"IF(COUNTIF(AG$2:AG110,AG110)=1,AG110,\"\")","v":""},"","","",null,{"$f":"+IF(AR110=\"\",\"\",MAX(AM$1:AM109)+1)","v":""},{"$f":"IF(CEM_COM_CPMS_Detail!$B132=\"\",\"\",CEM_COM_CPMS_Detail!$B132)","v":""},{"$f":"IF(CEM_COM_CPMS_Detail!$C132=\"\",\"\",CEM_COM_CPMS_Detail!$C132)","v":""},{"$f":"IF(CEM_COM_CPMS_Detail!$D132=\"\",\"\",CEM_COM_CPMS_Detail!$D132)","v":""},"",{"$f":"IF(COUNTIF(AQ$2:AQ110,AQ110)=1,AQ110,\"\")","v":""},"","",""]
[{"$f":"+IF(D111=\"\",\"\",MAX(A$1:A110)+1)","v":""},{"$f":"IF(CEM_COM_CPMS_Identification!C133=\"\",\"\",CEM_COM_CPMS_Identification!C133)","v":""},"",{"$f":"IF(COUNTIF(B$2:B111,B111)=1,B111,\"\")","v":""},null,null,null,null,null,null,null,null,null,null,null,null,null,null,{"$f":"+IF(W111=\"\",\"\",MAX(S$1:S110)+1)","v":""},{"$f":"IF(Limits_Details!$B133=\"\",\"\",Limits_Details!$B133)","v":""},{"$f":"IF(Limits_Details!$C133=\"\",\"\",Limits_Details!$C133)","v":""},"",{"$f":"IF(COUNTIF(V$2:V111,V111)=1,V111,\"\")","v":""},"","",null,null,null,{"$f":"+IF(AH111=\"\",\"\",MAX(AC$1:AC110)+1)","v":""},{"$f":"IF(Limits_Details!$B133=\"\",\"\",Limits_Details!$B133)","v":""},{"$f":"IF(Limits_Details!$C133=\"\",\"\",Limits_Details!$C133)","v":""},{"$f":"IF(Limits_Details!$D133=\"\",\"\",Limits_Details!$D133)","v":""},"",{"$f":"IF(COUNTIF(AG$2:AG111,AG111)=1,AG111,\"\")","v":""},"","","",null,{"$f":"+IF(AR111=\"\",\"\",MAX(AM$1:AM110)+1)","v":""},{"$f":"IF(CEM_COM_CPMS_Detail!$B133=\"\",\"\",CEM_COM_CPMS_Detail!$B133)","v":""},{"$f":"IF(CEM_COM_CPMS_Detail!$C133=\"\",\"\",CEM_COM_CPMS_Detail!$C133)","v":""},{"$f":"IF(CEM_COM_CPMS_Detail!$D133=\"\",\"\",CEM_COM_CPMS_Detail!$D133)","v":""},"",{"$f":"IF(COUNTIF(AQ$2:AQ111,AQ111)=1,AQ111,\"\")","v":""},"","",""]
[{"$f":"+IF(D112=\"\",\"\",MAX(A$1:A111)+1)","v":""},{"$f":"IF(CEM_COM_CPMS_Identification!C134=\"\",\"\",CEM_COM_CPMS_Identification!C134)","v":""},"",{"$f":"IF(COUNTIF(B$2:B112,B112)=1,B112,\"\")","v":""},null,null,null,null,null,null,null,null,null,null,null,null,null,null,{"$f":"+IF(W112=\"\",\"\",MAX(S$1:S111)+1)","v":""},{"$f":"IF(Limits_Details!$B134=\"\",\"\",Limits_Details!$B134)","v":""},{"$f":"IF(Limits_Details!$C134=\"\",\"\",Limits_Details!$C134)","v":""},"",{"$f":"IF(COUNTIF(V$2:V112,V112)=1,V112,\"\")","v":""},"","",null,null,null,{"$f":"+IF(AH112=\"\",\"\",MAX(AC$1:AC111)+1)","v":""},{"$f":"IF(Limits_Details!$B134=\"\",\"\",Limits_Details!$B134)","v":""},{"$f":"IF(Limits_Details!$C134=\"\",\"\",Limits_Details!$C134)","v":""},{"$f":"IF(Limits_Details!$D134=\"\",\"\",Limits_Details!$D134)","v":""},"",{"$f":"IF(COUNTIF(AG$2:AG112,AG112)=1,AG112,\"\")","v":""},"","","",null,{"$f":"+IF(AR112=\"\",\"\",MAX(AM$1:AM111)+1)","v":""},{"$f":"IF(CEM_COM_CPMS_Detail!$B134=\"\",\"\",CEM_COM_CPMS_Detail!$B134)","v":""},{"$f":"IF(CEM_COM_CPMS_Detail!$C134=\"\",\"\",CEM_COM_CPMS_Detail!$C134)","v":""},{"$f":"IF(CEM_COM_CPMS_Detail!$D134=\"\",\"\",CEM_COM_CPMS_Detail!$D134)","v":""},"",{"$f":"IF(COUNTIF(AQ$2:AQ112,AQ112)=1,AQ112,\"\")","v":""},"","",""]
[{"$f":"+IF(D113=\"\",\"\",MAX(A$1:A112)+1)","v":""},{"$f":"IF(CEM_COM_CPMS_Identification!C135=\"\",\"\",CEM_COM_CPMS_Identification!C135)","v":""},"",{"$f":"IF(COUNTIF(B$2:B113,B113)=1,B113,\"\")","v":""},null,null,null,null,null,null,null,null,null,null,null,null,null,null,{"$f":"+IF(W113=\"\",\"\",MAX(S$1:S112)+1)","v":""},{"$f":"IF(Limits_Details!$B135=\"\",\"\",Limits_Details!$B135)","v":""},{"$f":"IF(Limits_Details!$C135=\"\",\"\",Limits_Details!$C135)","v":""},"",{"$f":"IF(COUNTIF(V$2:V113,V113)=1,V113,\"\")","v":""},"","",null,null,null,{"$f":"+IF(AH113=\"\",\"\",MAX(AC$1:AC112)+1)","v":""},{"$f":"IF(Limits_Details!$B135=\"\",\"\",Limits_Details!$B135)","v":""},{"$f":"IF(Limits_Details!$C135=\"\",\"\",Limits_Details!$C135)","v":""},{"$f":"IF(Limits_Details!$D135=\"\",\"\",Limits_Details!$D135)","v":""},"",{"$f":"IF(COUNTIF(AG$2:AG113,AG113)=1,AG113,\"\")","v":""},"","","",null,{"$f":"+IF(AR113=\"\",\"\",MAX(AM$1:AM112)+1)","v":""},{"$f":"IF(CEM_COM_CPMS_Detail!$B135=\"\",\"\",CEM_COM_CPMS_Detail!$B135)","v":""},{"$f":"IF(CEM_COM_CPMS_Detail!$C135=\"\",\"\",CEM_COM_CPMS_Detail!$C135)","v":""},{"$f":"IF(CEM_COM_CPMS_Detail!$D135=\"\",\"\",CEM_COM_CPMS_Detail!$D135)","v":""},"",{"$f":"IF(COUNTIF(AQ$2:AQ113,AQ113)=1,AQ113,\"\")","v":""},"","",""]
[{"$f":"+IF(D114=\"\",\"\",MAX(A$1:A113)+1)","v":""},{"$f":"IF(CEM_COM_CPMS_Identification!C136=\"\",\"\",CEM_COM_CPMS_Identification!C136)","v":""},"",{"$f":"IF(COUNTIF(B$2:B114,B114)=1,B114,\"\")","v":""},null,null,null,null,null,null,null,null,null,null,null,null,null,null,{"$f":"+IF(W114=\"\",\"\",MAX(S$1:S113)+1)","v":""},{"$f":"IF(Limits_Details!$B136=\"\",\"\",Limits_Details!$B136)","v":""},{"$f":"IF(Limits_Details!$C136=\"\",\"\",Limits_Details!$C136)","v":""},"",{"$f":"IF(COUNTIF(V$2:V114,V114)=1,V114,\"\")","v":""},"","",null,null,null,{"$f":"+IF(AH114=\"\",\"\",MAX(AC$1:AC113)+1)","v":""},{"$f":"IF(Limits_Details!$B136=\"\",\"\",Limits_Details!$B136)","v":""},{"$f":"IF(Limits_Details!$C136=\"\",\"\",Limits_Details!$C136)","v":""},{"$f":"IF(Limits_Details!$D136=\"\",\"\",Limits_Details!$D136)","v":""},"",{"$f":"IF(COUNTIF(AG$2:AG114,AG114)=1,AG114,\"\")","v":""},"","","",null,{"$f":"+IF(AR114=\"\",\"\",MAX(AM$1:AM113)+1)","v":""},{"$f":"IF(CEM_COM_CPMS_Detail!$B136=\"\",\"\",CEM_COM_CPMS_Detail!$B136)","v":""},{"$f":"IF(CEM_COM_CPMS_Detail!$C136=\"\",\"\",CEM_COM_CPMS_Detail!$C136)","v":""},{"$f":"IF(CEM_COM_CPMS_Detail!$D136=\"\",\"\",CEM_COM_CPMS_Detail!$D136)","v":""},"",{"$f":"IF(COUNTIF(AQ$2:AQ114,AQ114)=1,AQ114,\"\")","v":""},"","",""]
[{"$f":"+IF(D115=\"\",\"\",MAX(A$1:A114)+1)","v":""},{"$f":"IF(CEM_COM_CPMS_Identification!C137=\"\",\"\",CEM_COM_CPMS_Identification!C137)","v":""},"",{"$f":"IF(COUNTIF(B$2:B115,B115)=1,B115,\"\")","v":""},null,null,null,null,null,null,null,null,null,null,null,null,null,null,{"$f":"+IF(W115=\"\",\"\",MAX(S$1:S114)+1)","v":""},{"$f":"IF(Limits_Details!$B137=\"\",\"\",Limits_Details!$B137)","v":""},{"$f":"IF(Limits_Details!$C137=\"\",\"\",Limits_Details!$C137)","v":""},"",{"$f":"IF(COUNTIF(V$2:V115,V115)=1,V115,\"\")","v":""},"","",null,null,null,{"$f":"+IF(AH115=\"\",\"\",MAX(AC$1:AC114)+1)","v":""},{"$f":"IF(Limits_Details!$B137=\"\",\"\",Limits_Details!$B137)","v":""},{"$f":"IF(Limits_Details!$C137=\"\",\"\",Limits_Details!$C137)","v":""},{"$f":"IF(Limits_Details!$D137=\"\",\"\",Limits_Details!$D137)","v":""},"",{"$f":"IF(COUNTIF(AG$2:AG115,AG115)=1,AG115,\"\")","v":""},"","","",null,{"$f":"+IF(AR115=\"\",\"\",MAX(AM$1:AM114)+1)","v":""},{"$f":"IF(CEM_COM_CPMS_Detail!$B137=\"\",\"\",CEM_COM_CPMS_Detail!$B137)","v":""},{"$f":"IF(CEM_COM_CPMS_Detail!$C137=\"\",\"\",CEM_COM_CPMS_Detail!$C137)","v":""},{"$f":"IF(CEM_COM_CPMS_Detail!$D137=\"\",\"\",CEM_COM_CPMS_Detail!$D137)","v":""},"",{"$f":"IF(COUNTIF(AQ$2:AQ115,AQ115)=1,AQ115,\"\")","v":""},"","",""]
[{"$f":"+IF(D116=\"\",\"\",MAX(A$1:A115)+1)","v":""},{"$f":"IF(CEM_COM_CPMS_Identification!C138=\"\",\"\",CEM_COM_CPMS_Identification!C138)","v":""},"",{"$f":"IF(COUNTIF(B$2:B116,B116)=1,B116,\"\")","v":""},null,null,null,null,null,null,null,null,null,null,null,null,null,null,{"$f":"+IF(W116=\"\",\"\",MAX(S$1:S115)+1)","v":""},{"$f":"IF(Limits_Details!$B138=\"\",\"\",Limits_Details!$B138)","v":""},{"$f":"IF(Limits_Details!$C138=\"\",\"\",Limits_Details!$C138)","v":""},"",{"$f":"IF(COUNTIF(V$2:V116,V116)=1,V116,\"\")","v":""},"","",null,null,null,{"$f":"+IF(AH116=\"\",\"\",MAX(AC$1:AC115)+1)","v":""},{"$f":"IF(Limits_Details!$B138=\"\",\"\",Limits_Details!$B138)","v":""},{"$f":"IF(Limits_Details!$C138=\"\",\"\",Limits_Details!$C138)","v":""},{"$f":"IF(Limits_Details!$D138=\"\",\"\",Limits_Details!$D138)","v":""},"",{"$f":"IF(COUNTIF(AG$2:AG116,AG116)=1,AG116,\"\")","v":""},"","","",null,{"$f":"+IF(AR116=\"\",\"\",MAX(AM$1:AM115)+1)","v":""},{"$f":"IF(CEM_COM_CPMS_Detail!$B138=\"\",\"\",CEM_COM_CPMS_Detail!$B138)","v":""},{"$f":"IF(CEM_COM_CPMS_Detail!$C138=\"\",\"\",CEM_COM_CPMS_Detail!$C138)","v":""},{"$f":"IF(CEM_COM_CPMS_Detail!$D138=\"\",\"\",CEM_COM_CPMS_Detail!$D138)","v":""},"",{"$f":"IF(COUNTIF(AQ$2:AQ116,AQ116)=1,AQ116,\"\")","v":""},"","",""]
[{"$f":"+IF(D117=\"\",\"\",MAX(A$1:A116)+1)","v":""},{"$f":"IF(CEM_COM_CPMS_Identification!C139=\"\",\"\",CEM_COM_CPMS_Identification!C139)","v":""},"",{"$f":"IF(COUNTIF(B$2:B117,B117)=1,B117,\"\")","v":""},null,null,null,null,null,null,null,null,null,null,null,null,null,null,{"$f":"+IF(W117=\"\",\"\",MAX(S$1:S116)+1)","v":""},{"$f":"IF(Limits_Details!$B139=\"\",\"\",Limits_Details!$B139)","v":""},{"$f":"IF(Limits_Details!$C139=\"\",\"\",Limits_Details!$C139)","v":""},"",{"$f":"IF(COUNTIF(V$2:V117,V117)=1,V117,\"\")","v":""},"","",null,null,null,{"$f":"+IF(AH117=\"\",\"\",MAX(AC$1:AC116)+1)","v":""},{"$f":"IF(Limits_Details!$B139=\"\",\"\",Limits_Details!$B139)","v":""},{"$f":"IF(Limits_Details!$C139=\"\",\"\",Limits_Details!$C139)","v":""},{"$f":"IF(Limits_Details!$D139=\"\",\"\",Limits_Details!$D139)","v":""},"",{"$f":"IF(COUNTIF(AG$2:AG117,AG117)=1,AG117,\"\")","v":""},"","","",null,{"$f":"+IF(AR117=\"\",\"\",MAX(AM$1:AM116)+1)","v":""},{"$f":"IF(CEM_COM_CPMS_Detail!$B139=\"\",\"\",CEM_COM_CPMS_Detail!$B139)","v":""},{"$f":"IF(CEM_COM_CPMS_Detail!$C139=\"\",\"\",CEM_COM_CPMS_Detail!$C139)","v":""},{"$f":"IF(CEM_COM_CPMS_Detail!$D139=\"\",\"\",CEM_COM_CPMS_Detail!$D139)","v":""},"",{"$f":"IF(COUNTIF(AQ$2:AQ117,AQ117)=1,AQ117,\"\")","v":""},"","",""]
[{"$f":"+IF(D118=\"\",\"\",MAX(A$1:A117)+1)","v":""},{"$f":"IF(CEM_COM_CPMS_Identification!C140=\"\",\"\",CEM_COM_CPMS_Identification!C140)","v":""},"",{"$f":"IF(COUNTIF(B$2:B118,B118)=1,B118,\"\")","v":""},null,null,null,null,null,null,null,null,null,null,null,null,null,null,{"$f":"+IF(W118=\"\",\"\",MAX(S$1:S117)+1)","v":""},{"$f":"IF(Limits_Details!$B140=\"\",\"\",Limits_Details!$B140)","v":""},{"$f":"IF(Limits_Details!$C140=\"\",\"\",Limits_Details!$C140)","v":""},"",{"$f":"IF(COUNTIF(V$2:V118,V118)=1,V118,\"\")","v":""},"","",null,null,null,{"$f":"+IF(AH118=\"\",\"\",MAX(AC$1:AC117)+1)","v":""},{"$f":"IF(Limits_Details!$B140=\"\",\"\",Limits_Details!$B140)","v":""},{"$f":"IF(Limits_Details!$C140=\"\",\"\",Limits_Details!$C140)","v":""},{"$f":"IF(Limits_Details!$D140=\"\",\"\",Limits_Details!$D140)","v":""},"",{"$f":"IF(COUNTIF(AG$2:AG118,AG118)=1,AG118,\"\")","v":""},"","","",null,{"$f":"+IF(AR118=\"\",\"\",MAX(AM$1:AM117)+1)","v":""},{"$f":"IF(CEM_COM_CPMS_Detail!$B140=\"\",\"\",CEM_COM_CPMS_Detail!$B140)","v":""},{"$f":"IF(CEM_COM_CPMS_Detail!$C140=\"\",\"\",CEM_COM_CPMS_Detail!$C140)","v":""},{"$f":"IF(CEM_COM_CPMS_Detail!$D140=\"\",\"\",CEM_COM_CPMS_Detail!$D140)","v":""},"",{"$f":"IF(COUNTIF(AQ$2:AQ118,AQ118)=1,AQ118,\"\")","v":""},"","",""]
[{"$f":"+IF(D119=\"\",\"\",MAX(A$1:A118)+1)","v":""},{"$f":"IF(CEM_COM_CPMS_Identification!C141=\"\",\"\",CEM_COM_CPMS_Identification!C141)","v":""},"",{"$f":"IF(COUNTIF(B$2:B119,B119)=1,B119,\"\")","v":""},null,null,null,null,null,null,null,null,null,null,null,null,null,null,{"$f":"+IF(W119=\"\",\"\",MAX(S$1:S118)+1)","v":""},{"$f":"IF(Limits_Details!$B141=\"\",\"\",Limits_Details!$B141)","v":""},{"$f":"IF(Limits_Details!$C141=\"\",\"\",Limits_Details!$C141)","v":""},"",{"$f":"IF(COUNTIF(V$2:V119,V119)=1,V119,\"\")","v":""},"","",null,null,null,{"$f":"+IF(AH119=\"\",\"\",MAX(AC$1:AC118)+1)","v":""},{"$f":"IF(Limits_Details!$B141=\"\",\"\",Limits_Details!$B141)","v":""},{"$f":"IF(Limits_Details!$C141=\"\",\"\",Limits_Details!$C141)","v":""},{"$f":"IF(Limits_Details!$D141=\"\",\"\",Limits_Details!$D141)","v":""},"",{"$f":"IF(COUNTIF(AG$2:AG119,AG119)=1,AG119,\"\")","v":""},"","","",null,{"$f":"+IF(AR119=\"\",\"\",MAX(AM$1:AM118)+1)","v":""},{"$f":"IF(CEM_COM_CPMS_Detail!$B141=\"\",\"\",CEM_COM_CPMS_Detail!$B141)","v":""},{"$f":"IF(CEM_COM_CPMS_Detail!$C141=\"\",\"\",CEM_COM_CPMS_Detail!$C141)","v":""},{"$f":"IF(CEM_COM_CPMS_Detail!$D141=\"\",\"\",CEM_COM_CPMS_Detail!$D141)","v":""},"",{"$f":"IF(COUNTIF(AQ$2:AQ119,AQ119)=1,AQ119,\"\")","v":""},"","",""]
[{"$f":"+IF(D120=\"\",\"\",MAX(A$1:A119)+1)","v":""},{"$f":"IF(CEM_COM_CPMS_Identification!C142=\"\",\"\",CEM_COM_CPMS_Identification!C142)","v":""},"",{"$f":"IF(COUNTIF(B$2:B120,B120)=1,B120,\"\")","v":""},null,null,null,null,null,null,null,null,null,null,null,null,null,null,{"$f":"+IF(W120=\"\",\"\",MAX(S$1:S119)+1)","v":""},{"$f":"IF(Limits_Details!$B142=\"\",\"\",Limits_Details!$B142)","v":""},{"$f":"IF(Limits_Details!$C142=\"\",\"\",Limits_Details!$C142)","v":""},"",{"$f":"IF(COUNTIF(V$2:V120,V120)=1,V120,\"\")","v":""},"","",null,null,null,{"$f":"+IF(AH120=\"\",\"\",MAX(AC$1:AC119)+1)","v":""},{"$f":"IF(Limits_Details!$B142=\"\",\"\",Limits_Details!$B142)","v":""},{"$f":"IF(Limits_Details!$C142=\"\",\"\",Limits_Details!$C142)","v":""},{"$f":"IF(Limits_Details!$D142=\"\",\"\",Limits_Details!$D142)","v":""},"",{"$f":"IF(COUNTIF(AG$2:AG120,AG120)=1,AG120,\"\")","v":""},"","","",null,{"$f":"+IF(AR120=\"\",\"\",MAX(AM$1:AM119)+1)","v":""},{"$f":"IF(CEM_COM_CPMS_Detail!$B142=\"\",\"\",CEM_COM_CPMS_Detail!$B142)","v":""},{"$f":"IF(CEM_COM_CPMS_Detail!$C142=\"\",\"\",CEM_COM_CPMS_Detail!$C142)","v":""},{"$f":"IF(CEM_COM_CPMS_Detail!$D142=\"\",\"\",CEM_COM_CPMS_Detail!$D142)","v":""},"",{"$f":"IF(COUNTIF(AQ$2:AQ120,AQ120)=1,AQ120,\"\")","v":""},"","",""]
[{"$f":"+IF(D121=\"\",\"\",MAX(A$1:A120)+1)","v":""},{"$f":"IF(CEM_COM_CPMS_Identification!C143=\"\",\"\",CEM_COM_CPMS_Identification!C143)","v":""},"",{"$f":"IF(COUNTIF(B$2:B121,B121)=1,B121,\"\")","v":""},null,null,null,null,null,null,null,null,null,null,null,null,null,null,{"$f":"+IF(W121=\"\",\"\",MAX(S$1:S120)+1)","v":""},{"$f":"IF(Limits_Details!$B143=\"\",\"\",Limits_Details!$B143)","v":""},{"$f":"IF(Limits_Details!$C143=\"\",\"\",Limits_Details!$C143)","v":""},"",{"$f":"IF(COUNTIF(V$2:V121,V121)=1,V121,\"\")","v":""},"","",null,null,null,{"$f":"+IF(AH121=\"\",\"\",MAX(AC$1:AC120)+1)","v":""},{"$f":"IF(Limits_Details!$B143=\"\",\"\",Limits_Details!$B143)","v":""},{"$f":"IF(Limits_Details!$C143=\"\",\"\",Limits_Details!$C143)","v":""},{"$f":"IF(Limits_Details!$D143=\"\",\"\",Limits_Details!$D143)","v":""},"",{"$f":"IF(COUNTIF(AG$2:AG121,AG121)=1,AG121,\"\")","v":""},"","","",null,{"$f":"+IF(AR121=\"\",\"\",MAX(AM$1:AM120)+1)","v":""},{"$f":"IF(CEM_COM_CPMS_Detail!$B143=\"\",\"\",CEM_COM_CPMS_Detail!$B143)","v":""},{"$f":"IF(CEM_COM_CPMS_Detail!$C143=\"\",\"\",CEM_COM_CPMS_Detail!$C143)","v":""},{"$f":"IF(CEM_COM_CPMS_Detail!$D143=\"\",\"\",CEM_COM_CPMS_Detail!$D143)","v":""},"",{"$f":"IF(COUNTIF(AQ$2:AQ121,AQ121)=1,AQ121,\"\")","v":""},"","",""]
[{"$f":"+IF(D122=\"\",\"\",MAX(A$1:A121)+1)","v":""},{"$f":"IF(CEM_COM_CPMS_Identification!C144=\"\",\"\",CEM_COM_CPMS_Identification!C144)","v":""},"",{"$f":"IF(COUNTIF(B$2:B122,B122)=1,B122,\"\")","v":""},null,null,null,null,null,null,null,null,null,null,null,null,null,null,{"$f":"+IF(W122=\"\",\"\",MAX(S$1:S121)+1)","v":""},{"$f":"IF(Limits_Details!$B144=\"\",\"\",Limits_Details!$B144)","v":""},{"$f":"IF(Limits_Details!$C144=\"\",\"\",Limits_Details!$C144)","v":""},"",{"$f":"IF(COUNTIF(V$2:V122,V122)=1,V122,\"\")","v":""},"","",null,null,null,{"$f":"+IF(AH122=\"\",\"\",MAX(AC$1:AC121)+1)","v":""},{"$f":"IF(Limits_Details!$B144=\"\",\"\",Limits_Details!$B144)","v":""},{"$f":"IF(Limits_Details!$C144=\"\",\"\",Limits_Details!$C144)","v":""},{"$f":"IF(Limits_Details!$D144=\"\",\"\",Limits_Details!$D144)","v":""},"",{"$f":"IF(COUNTIF(AG$2:AG122,AG122)=1,AG122,\"\")","v":""},"","","",null,{"$f":"+IF(AR122=\"\",\"\",MAX(AM$1:AM121)+1)","v":""},{"$f":"IF(CEM_COM_CPMS_Detail!$B144=\"\",\"\",CEM_COM_CPMS_Detail!$B144)","v":""},{"$f":"IF(CEM_COM_CPMS_Detail!$C144=\"\",\"\",CEM_COM_CPMS_Detail!$C144)","v":""},{"$f":"IF(CEM_COM_CPMS_Detail!$D144=\"\",\"\",CEM_COM_CPMS_Detail!$D144)","v":""},"",{"$f":"IF(COUNTIF(AQ$2:AQ122,AQ122)=1,AQ122,\"\")","v":""},"","",""]
[{"$f":"+IF(D123=\"\",\"\",MAX(A$1:A122)+1)","v":""},{"$f":"IF(CEM_COM_CPMS_Identification!C145=\"\",\"\",CEM_COM_CPMS_Identification!C145)","v":""},"",{"$f":"IF(COUNTIF(B$2:B123,B123)=1,B123,\"\")","v":""},null,null,null,null,null,null,null,null,null,null,null,null,null,null,{"$f":"+IF(W123=\"\",\"\",MAX(S$1:S122)+1)","v":""},{"$f":"IF(Limits_Details!$B145=\"\",\"\",Limits_Details!$B145)","v":""},{"$f":"IF(Limits_Details!$C145=\"\",\"\",Limits_Details!$C145)","v":""},"",{"$f":"IF(COUNTIF(V$2:V123,V123)=1,V123,\"\")","v":""},"","",null,null,null,{"$f":"+IF(AH123=\"\",\"\",MAX(AC$1:AC122)+1)","v":""},{"$f":"IF(Limits_Details!$B145=\"\",\"\",Limits_Details!$B145)","v":""},{"$f":"IF(Limits_Details!$C145=\"\",\"\",Limits_Details!$C145)","v":""},{"$f":"IF(Limits_Details!$D145=\"\",\"\",Limits_Details!$D145)","v":""},"",{"$f":"IF(COUNTIF(AG$2:AG123,AG123)=1,AG123,\"\")","v":""},"","","",null,{"$f":"+IF(AR123=\"\",\"\",MAX(AM$1:AM122)+1)","v":""},{"$f":"IF(CEM_COM_CPMS_Detail!$B145=\"\",\"\",CEM_COM_CPMS_Detail!$B145)","v":""},{"$f":"IF(CEM_COM_CPMS_Detail!$C145=\"\",\"\",CEM_COM_CPMS_Detail!$C145)","v":""},{"$f":"IF(CEM_COM_CPMS_Detail!$D145=\"\",\"\",CEM_COM_CPMS_Detail!$D145)","v":""},"",{"$f":"IF(COUNTIF(AQ$2:AQ123,AQ123)=1,AQ123,\"\")","v":""},"","",""]
[{"$f":"+IF(D124=\"\",\"\",MAX(A$1:A123)+1)","v":""},{"$f":"IF(CEM_COM_CPMS_Identification!C146=\"\",\"\",CEM_COM_CPMS_Identification!C146)","v":""},"",{"$f":"IF(COUNTIF(B$2:B124,B124)=1,B124,\"\")","v":""},null,null,null,null,null,null,null,null,null,null,null,null,null,null,{"$f":"+IF(W124=\"\",\"\",MAX(S$1:S123)+1)","v":""},{"$f":"IF(Limits_Details!$B146=\"\",\"\",Limits_Details!$B146)","v":""},{"$f":"IF(Limits_Details!$C146=\"\",\"\",Limits_Details!$C146)","v":""},"",{"$f":"IF(COUNTIF(V$2:V124,V124)=1,V124,\"\")","v":""},"","",null,null,null,{"$f":"+IF(AH124=\"\",\"\",MAX(AC$1:AC123)+1)","v":""},{"$f":"IF(Limits_Details!$B146=\"\",\"\",Limits_Details!$B146)","v":""},{"$f":"IF(Limits_Details!$C146=\"\",\"\",Limits_Details!$C146)","v":""},{"$f":"IF(Limits_Details!$D146=\"\",\"\",Limits_Details!$D146)","v":""},"",{"$f":"IF(COUNTIF(AG$2:AG124,AG124)=1,AG124,\"\")","v":""},"","","",null,{"$f":"+IF(AR124=\"\",\"\",MAX(AM$1:AM123)+1)","v":""},{"$f":"IF(CEM_COM_CPMS_Detail!$B146=\"\",\"\",CEM_COM_CPMS_Detail!$B146)","v":""},{"$f":"IF(CEM_COM_CPMS_Detail!$C146=\"\",\"\",CEM_COM_CPMS_Detail!$C146)","v":""},{"$f":"IF(CEM_COM_CPMS_Detail!$D146=\"\",\"\",CEM_COM_CPMS_Detail!$D146)","v":""},"",{"$f":"IF(COUNTIF(AQ$2:AQ124,AQ124)=1,AQ124,\"\")","v":""},"","",""]
[{"$f":"+IF(D125=\"\",\"\",MAX(A$1:A124)+1)","v":""},{"$f":"IF(CEM_COM_CPMS_Identification!C147=\"\",\"\",CEM_COM_CPMS_Identification!C147)","v":""},"",{"$f":"IF(COUNTIF(B$2:B125,B125)=1,B125,\"\")","v":""},null,null,null,null,null,null,null,null,null,null,null,null,null,null,{"$f":"+IF(W125=\"\",\"\",MAX(S$1:S124)+1)","v":""},{"$f":"IF(Limits_Details!$B147=\"\",\"\",Limits_Details!$B147)","v":""},{"$f":"IF(Limits_Details!$C147=\"\",\"\",Limits_Details!$C147)","v":""},"",{"$f":"IF(COUNTIF(V$2:V125,V125)=1,V125,\"\")","v":""},"","",null,null,null,{"$f":"+IF(AH125=\"\",\"\",MAX(AC$1:AC124)+1)","v":""},{"$f":"IF(Limits_Details!$B147=\"\",\"\",Limits_Details!$B147)","v":""},{"$f":"IF(Limits_Details!$C147=\"\",\"\",Limits_Details!$C147)","v":""},{"$f":"IF(Limits_Details!$D147=\"\",\"\",Limits_Details!$D147)","v":""},"",{"$f":"IF(COUNTIF(AG$2:AG125,AG125)=1,AG125,\"\")","v":""},"","","",null,{"$f":"+IF(AR125=\"\",\"\",MAX(AM$1:AM124)+1)","v":""},{"$f":"IF(CEM_COM_CPMS_Detail!$B147=\"\",\"\",CEM_COM_CPMS_Detail!$B147)","v":""},{"$f":"IF(CEM_COM_CPMS_Detail!$C147=\"\",\"\",CEM_COM_CPMS_Detail!$C147)","v":""},{"$f":"IF(CEM_COM_CPMS_Detail!$D147=\"\",\"\",CEM_COM_CPMS_Detail!$D147)","v":""},"",{"$f":"IF(COUNTIF(AQ$2:AQ125,AQ125)=1,AQ125,\"\")","v":""},"","",""]
[{"$f":"+IF(D126=\"\",\"\",MAX(A$1:A125)+1)","v":""},{"$f":"IF(CEM_COM_CPMS_Identification!C148=\"\",\"\",CEM_COM_CPMS_Identification!C148)","v":""},"",{"$f":"IF(COUNTIF(B$2:B126,B126)=1,B126,\"\")","v":""},null,null,null,null,null,null,null,null,null,null,null,null,null,null,{"$f":"+IF(W126=\"\",\"\",MAX(S$1:S125)+1)","v":""},{"$f":"IF(Limits_Details!$B148=\"\",\"\",Limits_Details!$B148)","v":""},{"$f":"IF(Limits_Details!$C148=\"\",\"\",Limits_Details!$C148)","v":""},"",{"$f":"IF(COUNTIF(V$2:V126,V126)=1,V126,\"\")","v":""},"","",null,null,null,{"$f":"+IF(AH126=\"\",\"\",MAX(AC$1:AC125)+1)","v":""},{"$f":"IF(Limits_Details!$B148=\"\",\"\",Limits_Details!$B148)","v":""},{"$f":"IF(Limits_Details!$C148=\"\",\"\",Limits_Details!$C148)","v":""},{"$f":"IF(Limits_Details!$D148=\"\",\"\",Limits_Details!$D148)","v":""},"",{"$f":"IF(COUNTIF(AG$2:AG126,AG126)=1,AG126,\"\")","v":""},"","","",null,{"$f":"+IF(AR126=\"\",\"\",MAX(AM$1:AM125)+1)","v":""},{"$f":"IF(CEM_COM_CPMS_Detail!$B148=\"\",\"\",CEM_COM_CPMS_Detail!$B148)","v":""},{"$f":"IF(CEM_COM_CPMS_Detail!$C148=\"\",\"\",CEM_COM_CPMS_Detail!$C148)","v":""},{"$f":"IF(CEM_COM_CPMS_Detail!$D148=\"\",\"\",CEM_COM_CPMS_Detail!$D148)","v":""},"",{"$f":"IF(COUNTIF(AQ$2:AQ126,AQ126)=1,AQ126,\"\")","v":""},"","",""]
[{"$f":"+IF(D127=\"\",\"\",MAX(A$1:A126)+1)","v":""},{"$f":"IF(CEM_COM_CPMS_Identification!C149=\"\",\"\",CEM_COM_CPMS_Identification!C149)","v":""},"",{"$f":"IF(COUNTIF(B$2:B127,B127)=1,B127,\"\")","v":""},null,null,null,null,null,null,null,null,null,null,null,null,null,null,{"$f":"+IF(W127=\"\",\"\",MAX(S$1:S126)+1)","v":""},{"$f":"IF(Limits_Details!$B149=\"\",\"\",Limits_Details!$B149)","v":""},{"$f":"IF(Limits_Details!$C149=\"\",\"\",Limits_Details!$C149)","v":""},"",{"$f":"IF(COUNTIF(V$2:V127,V127)=1,V127,\"\")","v":""},"","",null,null,null,{"$f":"+IF(AH127=\"\",\"\",MAX(AC$1:AC126)+1)","v":""},{"$f":"IF(Limits_Details!$B149=\"\",\"\",Limits_Details!$B149)","v":""},{"$f":"IF(Limits_Details!$C149=\"\",\"\",Limits_Details!$C149)","v":""},{"$f":"IF(Limits_Details!$D149=\"\",\"\",Limits_Details!$D149)","v":""},"",{"$f":"IF(COUNTIF(AG$2:AG127,AG127)=1,AG127,\"\")","v":""},"","","",null,{"$f":"+IF(AR127=\"\",\"\",MAX(AM$1:AM126)+1)","v":""},{"$f":"IF(CEM_COM_CPMS_Detail!$B149=\"\",\"\",CEM_COM_CPMS_Detail!$B149)","v":""},{"$f":"IF(CEM_COM_CPMS_Detail!$C149=\"\",\"\",CEM_COM_CPMS_Detail!$C149)","v":""},{"$f":"IF(CEM_COM_CPMS_Detail!$D149=\"\",\"\",CEM_COM_CPMS_Detail!$D149)","v":""},"",{"$f":"IF(COUNTIF(AQ$2:AQ127,AQ127)=1,AQ127,\"\")","v":""},"","",""]
[{"$f":"+IF(D128=\"\",\"\",MAX(A$1:A127)+1)","v":""},{"$f":"IF(CEM_COM_CPMS_Identification!C150=\"\",\"\",CEM_COM_CPMS_Identification!C150)","v":""},"",{"$f":"IF(COUNTIF(B$2:B128,B128)=1,B128,\"\")","v":""},null,null,null,null,null,null,null,null,null,null,null,null,null,null,{"$f":"+IF(W128=\"\",\"\",MAX(S$1:S127)+1)","v":""},{"$f":"IF(Limits_Details!$B150=\"\",\"\",Limits_Details!$B150)","v":""},{"$f":"IF(Limits_Details!$C150=\"\",\"\",Limits_Details!$C150)","v":""},"",{"$f":"IF(COUNTIF(V$2:V128,V128)=1,V128,\"\")","v":""},"","",null,null,null,{"$f":"+IF(AH128=\"\",\"\",MAX(AC$1:AC127)+1)","v":""},{"$f":"IF(Limits_Details!$B150=\"\",\"\",Limits_Details!$B150)","v":""},{"$f":"IF(Limits_Details!$C150=\"\",\"\",Limits_Details!$C150)","v":""},{"$f":"IF(Limits_Details!$D150=\"\",\"\",Limits_Details!$D150)","v":""},"",{"$f":"IF(COUNTIF(AG$2:AG128,AG128)=1,AG128,\"\")","v":""},"","","",null,{"$f":"+IF(AR128=\"\",\"\",MAX(AM$1:AM127)+1)","v":""},{"$f":"IF(CEM_COM_CPMS_Detail!$B150=\"\",\"\",CEM_COM_CPMS_Detail!$B150)","v":""},{"$f":"IF(CEM_COM_CPMS_Detail!$C150=\"\",\"\",CEM_COM_CPMS_Detail!$C150)","v":""},{"$f":"IF(CEM_COM_CPMS_Detail!$D150=\"\",\"\",CEM_COM_CPMS_Detail!$D150)","v":""},"",{"$f":"IF(COUNTIF(AQ$2:AQ128,AQ128)=1,AQ128,\"\")","v":""},"","",""]
[{"$f":"+IF(D129=\"\",\"\",MAX(A$1:A128)+1)","v":""},{"$f":"IF(CEM_COM_CPMS_Identification!C151=\"\",\"\",CEM_COM_CPMS_Identification!C151)","v":""},"",{"$f":"IF(COUNTIF(B$2:B129,B129)=1,B129,\"\")","v":""},null,null,null,null,null,null,null,null,null,null,null,null,null,null,{"$f":"+IF(W129=\"\",\"\",MAX(S$1:S128)+1)","v":""},{"$f":"IF(Limits_Details!$B151=\"\",\"\",Limits_Details!$B151)","v":""},{"$f":"IF(Limits_Details!$C151=\"\",\"\",Limits_Details!$C151)","v":""},"",{"$f":"IF(COUNTIF(V$2:V129,V129)=1,V129,\"\")","v":""},"","",null,null,null,{"$f":"+IF(AH129=\"\",\"\",MAX(AC$1:AC128)+1)","v":""},{"$f":"IF(Limits_Details!$B151=\"\",\"\",Limits_Details!$B151)","v":""},{"$f":"IF(Limits_Details!$C151=\"\",\"\",Limits_Details!$C151)","v":""},{"$f":"IF(Limits_Details!$D151=\"\",\"\",Limits_Details!$D151)","v":""},"",{"$f":"IF(COUNTIF(AG$2:AG129,AG129)=1,AG129,\"\")","v":""},"","","",null,{"$f":"+IF(AR129=\"\",\"\",MAX(AM$1:AM128)+1)","v":""},{"$f":"IF(CEM_COM_CPMS_Detail!$B151=\"\",\"\",CEM_COM_CPMS_Detail!$B151)","v":""},{"$f":"IF(CEM_COM_CPMS_Detail!$C151=\"\",\"\",CEM_COM_CPMS_Detail!$C151)","v":""},{"$f":"IF(CEM_COM_CPMS_Detail!$D151=\"\",\"\",CEM_COM_CPMS_Detail!$D151)","v":""},"",{"$f":"IF(COUNTIF(AQ$2:AQ129,AQ129)=1,AQ129,\"\")","v":""},"","",""]
[{"$f":"+IF(D130=\"\",\"\",MAX(A$1:A129)+1)","v":""},{"$f":"IF(CEM_COM_CPMS_Identification!C152=\"\",\"\",CEM_COM_CPMS_Identification!C152)","v":""},{"$f":"+IFERROR(INDEX(B$2:B$501,MATCH(ROW()-ROW($C$1),A$2:A$501,0)),\"\")","v":""},{"$f":"IF(COUNTIF(B$2:B130,B130)=1,B130,\"\")","v":""},null,null,null,null,null,null,null,null,null,null,null,null,null,null,{"$f":"+IF(W130=\"\",\"\",MAX(S$1:S129)+1)","v":""},{"$f":"IF(Limits_Details!$B152=\"\",\"\",Limits_Details!$B152)","v":""},{"$f":"IF(Limits_Details!$C152=\"\",\"\",Limits_Details!$C152)","v":""},"",{"$f":"IF(COUNTIF(V$2:V130,V130)=1,V130,\"\")","v":""},{"$f":"+IFERROR(INDEX(T$2:T$955,MATCH(ROW()-ROW(X$1),S$2:S$955,0)),\"\")","v":""},{"$f":"+IFERROR(INDEX(U$2:U$955,MATCH(ROW()-ROW(X$1),S$2:S$955,0)),\"\")","v":""},null,null,null,{"$f":"+IF(AH130=\"\",\"\",MAX(AC$1:AC129)+1)","v":""},{"$f":"IF(Limits_Details!$B152=\"\",\"\",Limits_Details!$B152)","v":""},{"$f":"IF(Limits_Details!$C152=\"\",\"\",Limits_Details!$C152)","v":""},{"$f":"IF(Limits_Details!$D152=\"\",\"\",Limits_Details!$D152)","v":""},"",{"$f":"IF(COUNTIF(AG$2:AG130,AG130)=1,AG130,\"\")","v":""},"","","",null,{"$f":"+IF(AR130=\"\",\"\",MAX(AM$1:AM129)+1)","v":""},{"$f":"IF(CEM_COM_CPMS_Detail!$B152=\"\",\"\",CEM_COM_CPMS_Detail!$B152)","v":""},{"$f":"IF(CEM_COM_CPMS_Detail!$C152=\"\",\"\",CEM_COM_CPMS_Detail!$C152)","v":""},{"$f":"IF(CEM_COM_CPMS_Detail!$D152=\"\",\"\",CEM_COM_CPMS_Detail!$D152)","v":""},"",{"$f":"IF(COUNTIF(AQ$2:AQ130,AQ130)=1,AQ130,\"\")","v":""},"","",""]
[{"$f":"+IF(D131=\"\",\"\",MAX(A$1:A130)+1)","v":""},{"$f":"IF(CEM_COM_CPMS_Identification!C153=\"\",\"\",CEM_COM_CPMS_Identification!C153)","v":""},"",{"$f":"IF(COUNTIF(B$2:B131,B131)=1,B131,\"\")","v":""},null,null,null,null,null,null,null,null,null,null,null,null,null,null,{"$f":"+IF(W131=\"\",\"\",MAX(S$1:S130)+1)","v":""},{"$f":"IF(Limits_Details!$B153=\"\",\"\",Limits_Details!$B153)","v":""},{"$f":"IF(Limits_Details!$C153=\"\",\"\",Limits_Details!$C153)","v":""},{"$f":"T131&U131","v":""},{"$f":"IF(COUNTIF(V$2:V131,V131)=1,V131,\"\")","v":""},"","",null,null,null,{"$f":"+IF(AH131=\"\",\"\",MAX(AC$1:AC130)+1)","v":""},{"$f":"IF(Limits_Details!$B153=\"\",\"\",Limits_Details!$B153)","v":""},{"$f":"IF(Limits_Details!$C153=\"\",\"\",Limits_Details!$C153)","v":""},{"$f":"IF(Limits_Details!$D153=\"\",\"\",Limits_Details!$D153)","v":""},{"$f":"AD131&AE131&AF131","v":""},{"$f":"IF(COUNTIF(AG$2:AG131,AG131)=1,AG131,\"\")","v":""},{"$f":"+IFERROR(INDEX(AD$2:AD$955,MATCH(ROW()-ROW(AH$1),AC$2:AC$955,0)),\"\")","v":""},{"$f":"+IFERROR(INDEX(AE$2:AE$955,MATCH(ROW()-ROW(AH$1),AC$2:AC$955,0)),\"\")","v":""},{"$f":"+IFERROR(INDEX(AF$2:AF$955,MATCH(ROW()-ROW(AI$1),AC$2:AC$955,0)),\"\")","v":""},null,{"$f":"+IF(AR131=\"\",\"\",MAX(AM$1:AM130)+1)","v":""},{"$f":"IF(CEM_COM_CPMS_Detail!$B153=\"\",\"\",CEM_COM_CPMS_Detail!$B153)","v":""},{"$f":"IF(CEM_COM_CPMS_Detail!$C153=\"\",\"\",CEM_COM_CPMS_Detail!$C153)","v":""},{"$f":"IF(CEM_COM_CPMS_Detail!$D153=\"\",\"\",CEM_COM_CPMS_Detail!$D153)","v":""},{"$f":"AN131&AO131&AP131","v":""},{"$f":"IF(COUNTIF(AQ$2:AQ131,AQ131)=1,AQ131,\"\")","v":""},{"$f":"+IFERROR(INDEX(AN$2:AN$955,MATCH(ROW()-ROW(AR$1),AM$2:AM$955,0)),\"\")","v":""},{"$f":"+IFERROR(INDEX(AO$2:AO$955,MATCH(ROW()-ROW(AR$1),AM$2:AM$955,0)),\"\")","v":""},{"$f":"+IFERROR(INDEX(AP$2:AP$955,MATCH(ROW()-ROW(AS$1),AM$2:AM$955,0)),\"\")","v":""}]
[{"$f":"+IF(D132=\"\",\"\",MAX(A$1:A131)+1)","v":""},{"$f":"IF(CEM_COM_CPMS_Identification!C154=\"\",\"\",CEM_COM_CPMS_Identification!C154)","v":""},"",{"$f":"IF(COUNTIF(B$2:B132,B132)=1,B132,\"\")","v":""},null,null,null,null,null,null,null,null,null,null,null,null,null,null,{"$f":"+IF(W132=\"\",\"\",MAX(S$1:S131)+1)","v":""},{"$f":"IF(Limits_Details!$B154=\"\",\"\",Limits_Details!$B154)","v":""},{"$f":"IF(Limits_Details!$C154=\"\",\"\",Limits_Details!$C154)","v":""},"",{"$f":"IF(COUNTIF(V$2:V132,V132)=1,V132,\"\")","v":""},"","",null,null,null,{"$f":"+IF(AH132=\"\",\"\",MAX(AC$1:AC131)+1)","v":""},{"$f":"IF(Limits_Details!$B154=\"\",\"\",Limits_Details!$B154)","v":""},{"$f":"IF(Limits_Details!$C154=\"\",\"\",Limits_Details!$C154)","v":""},{"$f":"IF(Limits_Details!$D154=\"\",\"\",Limits_Details!$D154)","v":""},"",{"$f":"IF(COUNTIF(AG$2:AG132,AG132)=1,AG132,\"\")","v":""},"","","",null,{"$f":"+IF(AR132=\"\",\"\",MAX(AM$1:AM131)+1)","v":""},{"$f":"IF(CEM_COM_CPMS_Detail!$B154=\"\",\"\",CEM_COM_CPMS_Detail!$B154)","v":""},{"$f":"IF(CEM_COM_CPMS_Detail!$C154=\"\",\"\",CEM_COM_CPMS_Detail!$C154)","v":""},{"$f":"IF(CEM_COM_CPMS_Detail!$D154=\"\",\"\",CEM_COM_CPMS_Detail!$D154)","v":""},"",{"$f":"IF(COUNTIF(AQ$2:AQ132,AQ132)=1,AQ132,\"\")","v":""},"","",""]
[{"$f":"+IF(D133=\"\",\"\",MAX(A$1:A132)+1)","v":""},{"$f":"IF(CEM_COM_CPMS_Identification!C155=\"\",\"\",CEM_COM_CPMS_Identification!C155)","v":""},"",{"$f":"IF(COUNTIF(B$2:B133,B133)=1,B133,\"\")","v":""},null,null,null,null,null,null,null,null,null,null,null,null,null,null,{"$f":"+IF(W133=\"\",\"\",MAX(S$1:S132)+1)","v":""},{"$f":"IF(Limits_Details!$B155=\"\",\"\",Limits_Details!$B155)","v":""},{"$f":"IF(Limits_Details!$C155=\"\",\"\",Limits_Details!$C155)","v":""},"",{"$f":"IF(COUNTIF(V$2:V133,V133)=1,V133,\"\")","v":""},"","",null,null,null,{"$f":"+IF(AH133=\"\",\"\",MAX(AC$1:AC132)+1)","v":""},{"$f":"IF(Limits_Details!$B155=\"\",\"\",Limits_Details!$B155)","v":""},{"$f":"IF(Limits_Details!$C155=\"\",\"\",Limits_Details!$C155)","v":""},{"$f":"IF(Limits_Details!$D155=\"\",\"\",Limits_Details!$D155)","v":""},"",{"$f":"IF(COUNTIF(AG$2:AG133,AG133)=1,AG133,\"\")","v":""},"","","",null,{"$f":"+IF(AR133=\"\",\"\",MAX(AM$1:AM132)+1)","v":""},{"$f":"IF(CEM_COM_CPMS_Detail!$B155=\"\",\"\",CEM_COM_CPMS_Detail!$B155)","v":""},{"$f":"IF(CEM_COM_CPMS_Detail!$C155=\"\",\"\",CEM_COM_CPMS_Detail!$C155)","v":""},{"$f":"IF(CEM_COM_CPMS_Detail!$D155=\"\",\"\",CEM_COM_CPMS_Detail!$D155)","v":""},"",{"$f":"IF(COUNTIF(AQ$2:AQ133,AQ133)=1,AQ133,\"\")","v":""},"","",""]
[{"$f":"+IF(D134=\"\",\"\",MAX(A$1:A133)+1)","v":""},{"$f":"IF(CEM_COM_CPMS_Identification!C156=\"\",\"\",CEM_COM_CPMS_Identification!C156)","v":""},"",{"$f":"IF(COUNTIF(B$2:B134,B134)=1,B134,\"\")","v":""},null,null,null,null,null,null,null,null,null,null,null,null,null,null,{"$f":"+IF(W134=\"\",\"\",MAX(S$1:S133)+1)","v":""},{"$f":"IF(Limits_Details!$B156=\"\",\"\",Limits_Details!$B156)","v":""},{"$f":"IF(Limits_Details!$C156=\"\",\"\",Limits_Details!$C156)","v":""},"",{"$f":"IF(COUNTIF(V$2:V134,V134)=1,V134,\"\")","v":""},"","",null,null,null,{"$f":"+IF(AH134=\"\",\"\",MAX(AC$1:AC133)+1)","v":""},{"$f":"IF(Limits_Details!$B156=\"\",\"\",Limits_Details!$B156)","v":""},{"$f":"IF(Limits_Details!$C156=\"\",\"\",Limits_Details!$C156)","v":""},{"$f":"IF(Limits_Details!$D156=\"\",\"\",Limits_Details!$D156)","v":""},"",{"$f":"IF(COUNTIF(AG$2:AG134,AG134)=1,AG134,\"\")","v":""},"","","",null,{"$f":"+IF(AR134=\"\",\"\",MAX(AM$1:AM133)+1)","v":""},{"$f":"IF(CEM_COM_CPMS_Detail!$B156=\"\",\"\",CEM_COM_CPMS_Detail!$B156)","v":""},{"$f":"IF(CEM_COM_CPMS_Detail!$C156=\"\",\"\",CEM_COM_CPMS_Detail!$C156)","v":""},{"$f":"IF(CEM_COM_CPMS_Detail!$D156=\"\",\"\",CEM_COM_CPMS_Detail!$D156)","v":""},"",{"$f":"IF(COUNTIF(AQ$2:AQ134,AQ134)=1,AQ134,\"\")","v":""},"","",""]
[{"$f":"+IF(D135=\"\",\"\",MAX(A$1:A134)+1)","v":""},{"$f":"IF(CEM_COM_CPMS_Identification!C157=\"\",\"\",CEM_COM_CPMS_Identification!C157)","v":""},"",{"$f":"IF(COUNTIF(B$2:B135,B135)=1,B135,\"\")","v":""},null,null,null,null,null,null,null,null,null,null,null,null,null,null,{"$f":"+IF(W135=\"\",\"\",MAX(S$1:S134)+1)","v":""},{"$f":"IF(Limits_Details!$B157=\"\",\"\",Limits_Details!$B157)","v":""},{"$f":"IF(Limits_Details!$C157=\"\",\"\",Limits_Details!$C157)","v":""},"",{"$f":"IF(COUNTIF(V$2:V135,V135)=1,V135,\"\")","v":""},"","",null,null,null,{"$f":"+IF(AH135=\"\",\"\",MAX(AC$1:AC134)+1)","v":""},{"$f":"IF(Limits_Details!$B157=\"\",\"\",Limits_Details!$B157)","v":""},{"$f":"IF(Limits_Details!$C157=\"\",\"\",Limits_Details!$C157)","v":""},{"$f":"IF(Limits_Details!$D157=\"\",\"\",Limits_Details!$D157)","v":""},"",{"$f":"IF(COUNTIF(AG$2:AG135,AG135)=1,AG135,\"\")","v":""},"","","",null,{"$f":"+IF(AR135=\"\",\"\",MAX(AM$1:AM134)+1)","v":""},{"$f":"IF(CEM_COM_CPMS_Detail!$B157=\"\",\"\",CEM_COM_CPMS_Detail!$B157)","v":""},{"$f":"IF(CEM_COM_CPMS_Detail!$C157=\"\",\"\",CEM_COM_CPMS_Detail!$C157)","v":""},{"$f":"IF(CEM_COM_CPMS_Detail!$D157=\"\",\"\",CEM_COM_CPMS_Detail!$D157)","v":""},"",{"$f":"IF(COUNTIF(AQ$2:AQ135,AQ135)=1,AQ135,\"\")","v":""},"","",""]
[{"$f":"+IF(D136=\"\",\"\",MAX(A$1:A135)+1)","v":""},{"$f":"IF(CEM_COM_CPMS_Identification!C158=\"\",\"\",CEM_COM_CPMS_Identification!C158)","v":""},"",{"$f":"IF(COUNTIF(B$2:B136,B136)=1,B136,\"\")","v":""},null,null,null,null,null,null,null,null,null,null,null,null,null,null,{"$f":"+IF(W136=\"\",\"\",MAX(S$1:S135)+1)","v":""},{"$f":"IF(Limits_Details!$B158=\"\",\"\",Limits_Details!$B158)","v":""},{"$f":"IF(Limits_Details!$C158=\"\",\"\",Limits_Details!$C158)","v":""},"",{"$f":"IF(COUNTIF(V$2:V136,V136)=1,V136,\"\")","v":""},"","",null,null,null,{"$f":"+IF(AH136=\"\",\"\",MAX(AC$1:AC135)+1)","v":""},{"$f":"IF(Limits_Details!$B158=\"\",\"\",Limits_Details!$B158)","v":""},{"$f":"IF(Limits_Details!$C158=\"\",\"\",Limits_Details!$C158)","v":""},{"$f":"IF(Limits_Details!$D158=\"\",\"\",Limits_Details!$D158)","v":""},"",{"$f":"IF(COUNTIF(AG$2:AG136,AG136)=1,AG136,\"\")","v":""},"","","",null,{"$f":"+IF(AR136=\"\",\"\",MAX(AM$1:AM135)+1)","v":""},{"$f":"IF(CEM_COM_CPMS_Detail!$B158=\"\",\"\",CEM_COM_CPMS_Detail!$B158)","v":""},{"$f":"IF(CEM_COM_CPMS_Detail!$C158=\"\",\"\",CEM_COM_CPMS_Detail!$C158)","v":""},{"$f":"IF(CEM_COM_CPMS_Detail!$D158=\"\",\"\",CEM_COM_CPMS_Detail!$D158)","v":""},"",{"$f":"IF(COUNTIF(AQ$2:AQ136,AQ136)=1,AQ136,\"\")","v":""},"","",""]
[{"$f":"+IF(D137=\"\",\"\",MAX(A$1:A136)+1)","v":""},{"$f":"IF(CEM_COM_CPMS_Identification!C159=\"\",\"\",CEM_COM_CPMS_Identification!C159)","v":""},"",{"$f":"IF(COUNTIF(B$2:B137,B137)=1,B137,\"\")","v":""},null,null,null,null,null,null,null,null,null,null,null,null,null,null,{"$f":"+IF(W137=\"\",\"\",MAX(S$1:S136)+1)","v":""},{"$f":"IF(Limits_Details!$B159=\"\",\"\",Limits_Details!$B159)","v":""},{"$f":"IF(Limits_Details!$C159=\"\",\"\",Limits_Details!$C159)","v":""},"",{"$f":"IF(COUNTIF(V$2:V137,V137)=1,V137,\"\")","v":""},"","",null,null,null,{"$f":"+IF(AH137=\"\",\"\",MAX(AC$1:AC136)+1)","v":""},{"$f":"IF(Limits_Details!$B159=\"\",\"\",Limits_Details!$B159)","v":""},{"$f":"IF(Limits_Details!$C159=\"\",\"\",Limits_Details!$C159)","v":""},{"$f":"IF(Limits_Details!$D159=\"\",\"\",Limits_Details!$D159)","v":""},"",{"$f":"IF(COUNTIF(AG$2:AG137,AG137)=1,AG137,\"\")","v":""},"","","",null,{"$f":"+IF(AR137=\"\",\"\",MAX(AM$1:AM136)+1)","v":""},{"$f":"IF(CEM_COM_CPMS_Detail!$B159=\"\",\"\",CEM_COM_CPMS_Detail!$B159)","v":""},{"$f":"IF(CEM_COM_CPMS_Detail!$C159=\"\",\"\",CEM_COM_CPMS_Detail!$C159)","v":""},{"$f":"IF(CEM_COM_CPMS_Detail!$D159=\"\",\"\",CEM_COM_CPMS_Detail!$D159)","v":""},"",{"$f":"IF(COUNTIF(AQ$2:AQ137,AQ137)=1,AQ137,\"\")","v":""},"","",""]
[{"$f":"+IF(D138=\"\",\"\",MAX(A$1:A137)+1)","v":""},{"$f":"IF(CEM_COM_CPMS_Identification!C160=\"\",\"\",CEM_COM_CPMS_Identification!C160)","v":""},"",{"$f":"IF(COUNTIF(B$2:B138,B138)=1,B138,\"\")","v":""},null,null,null,null,null,null,null,null,null,null,null,null,null,null,{"$f":"+IF(W138=\"\",\"\",MAX(S$1:S137)+1)","v":""},{"$f":"IF(Limits_Details!$B160=\"\",\"\",Limits_Details!$B160)","v":""},{"$f":"IF(Limits_Details!$C160=\"\",\"\",Limits_Details!$C160)","v":""},"",{"$f":"IF(COUNTIF(V$2:V138,V138)=1,V138,\"\")","v":""},"","",null,null,null,{"$f":"+IF(AH138=\"\",\"\",MAX(AC$1:AC137)+1)","v":""},{"$f":"IF(Limits_Details!$B160=\"\",\"\",Limits_Details!$B160)","v":""},{"$f":"IF(Limits_Details!$C160=\"\",\"\",Limits_Details!$C160)","v":""},{"$f":"IF(Limits_Details!$D160=\"\",\"\",Limits_Details!$D160)","v":""},"",{"$f":"IF(COUNTIF(AG$2:AG138,AG138)=1,AG138,\"\")","v":""},"","","",null,{"$f":"+IF(AR138=\"\",\"\",MAX(AM$1:AM137)+1)","v":""},{"$f":"IF(CEM_COM_CPMS_Detail!$B160=\"\",\"\",CEM_COM_CPMS_Detail!$B160)","v":""},{"$f":"IF(CEM_COM_CPMS_Detail!$C160=\"\",\"\",CEM_COM_CPMS_Detail!$C160)","v":""},{"$f":"IF(CEM_COM_CPMS_Detail!$D160=\"\",\"\",CEM_COM_CPMS_Detail!$D160)","v":""},"",{"$f":"IF(COUNTIF(AQ$2:AQ138,AQ138)=1,AQ138,\"\")","v":""},"","",""]
[{"$f":"+IF(D139=\"\",\"\",MAX(A$1:A138)+1)","v":""},{"$f":"IF(CEM_COM_CPMS_Identification!C161=\"\",\"\",CEM_COM_CPMS_Identification!C161)","v":""},"",{"$f":"IF(COUNTIF(B$2:B139,B139)=1,B139,\"\")","v":""},null,null,null,null,null,null,null,null,null,null,null,null,null,null,{"$f":"+IF(W139=\"\",\"\",MAX(S$1:S138)+1)","v":""},{"$f":"IF(Limits_Details!$B161=\"\",\"\",Limits_Details!$B161)","v":""},{"$f":"IF(Limits_Details!$C161=\"\",\"\",Limits_Details!$C161)","v":""},"",{"$f":"IF(COUNTIF(V$2:V139,V139)=1,V139,\"\")","v":""},"","",null,null,null,{"$f":"+IF(AH139=\"\",\"\",MAX(AC$1:AC138)+1)","v":""},{"$f":"IF(Limits_Details!$B161=\"\",\"\",Limits_Details!$B161)","v":""},{"$f":"IF(Limits_Details!$C161=\"\",\"\",Limits_Details!$C161)","v":""},{"$f":"IF(Limits_Details!$D161=\"\",\"\",Limits_Details!$D161)","v":""},"",{"$f":"IF(COUNTIF(AG$2:AG139,AG139)=1,AG139,\"\")","v":""},"","","",null,{"$f":"+IF(AR139=\"\",\"\",MAX(AM$1:AM138)+1)","v":""},{"$f":"IF(CEM_COM_CPMS_Detail!$B161=\"\",\"\",CEM_COM_CPMS_Detail!$B161)","v":""},{"$f":"IF(CEM_COM_CPMS_Detail!$C161=\"\",\"\",CEM_COM_CPMS_Detail!$C161)","v":""},{"$f":"IF(CEM_COM_CPMS_Detail!$D161=\"\",\"\",CEM_COM_CPMS_Detail!$D161)","v":""},"",{"$f":"IF(COUNTIF(AQ$2:AQ139,AQ139)=1,AQ139,\"\")","v":""},"","",""]
[{"$f":"+IF(D140=\"\",\"\",MAX(A$1:A139)+1)","v":""},{"$f":"IF(CEM_COM_CPMS_Identification!C162=\"\",\"\",CEM_COM_CPMS_Identification!C162)","v":""},"",{"$f":"IF(COUNTIF(B$2:B140,B140)=1,B140,\"\")","v":""},null,null,null,null,null,null,null,null,null,null,null,null,null,null,{"$f":"+IF(W140=\"\",\"\",MAX(S$1:S139)+1)","v":""},{"$f":"IF(Limits_Details!$B162=\"\",\"\",Limits_Details!$B162)","v":""},{"$f":"IF(Limits_Details!$C162=\"\",\"\",Limits_Details!$C162)","v":""},"",{"$f":"IF(COUNTIF(V$2:V140,V140)=1,V140,\"\")","v":""},"","",null,null,null,{"$f":"+IF(AH140=\"\",\"\",MAX(AC$1:AC139)+1)","v":""},{"$f":"IF(Limits_Details!$B162=\"\",\"\",Limits_Details!$B162)","v":""},{"$f":"IF(Limits_Details!$C162=\"\",\"\",Limits_Details!$C162)","v":""},{"$f":"IF(Limits_Details!$D162=\"\",\"\",Limits_Details!$D162)","v":""},"",{"$f":"IF(COUNTIF(AG$2:AG140,AG140)=1,AG140,\"\")","v":""},"","","",null,{"$f":"+IF(AR140=\"\",\"\",MAX(AM$1:AM139)+1)","v":""},{"$f":"IF(CEM_COM_CPMS_Detail!$B162=\"\",\"\",CEM_COM_CPMS_Detail!$B162)","v":""},{"$f":"IF(CEM_COM_CPMS_Detail!$C162=\"\",\"\",CEM_COM_CPMS_Detail!$C162)","v":""},{"$f":"IF(CEM_COM_CPMS_Detail!$D162=\"\",\"\",CEM_COM_CPMS_Detail!$D162)","v":""},"",{"$f":"IF(COUNTIF(AQ$2:AQ140,AQ140)=1,AQ140,\"\")","v":""},"","",""]
[{"$f":"+IF(D141=\"\",\"\",MAX(A$1:A140)+1)","v":""},{"$f":"IF(CEM_COM_CPMS_Identification!C163=\"\",\"\",CEM_COM_CPMS_Identification!C163)","v":""},"",{"$f":"IF(COUNTIF(B$2:B141,B141)=1,B141,\"\")","v":""},null,null,null,null,null,null,null,null,null,null,null,null,null,null,{"$f":"+IF(W141=\"\",\"\",MAX(S$1:S140)+1)","v":""},{"$f":"IF(Limits_Details!$B163=\"\",\"\",Limits_Details!$B163)","v":""},{"$f":"IF(Limits_Details!$C163=\"\",\"\",Limits_Details!$C163)","v":""},"",{"$f":"IF(COUNTIF(V$2:V141,V141)=1,V141,\"\")","v":""},"","",null,null,null,{"$f":"+IF(AH141=\"\",\"\",MAX(AC$1:AC140)+1)","v":""},{"$f":"IF(Limits_Details!$B163=\"\",\"\",Limits_Details!$B163)","v":""},{"$f":"IF(Limits_Details!$C163=\"\",\"\",Limits_Details!$C163)","v":""},{"$f":"IF(Limits_Details!$D163=\"\",\"\",Limits_Details!$D163)","v":""},"",{"$f":"IF(COUNTIF(AG$2:AG141,AG141)=1,AG141,\"\")","v":""},"","","",null,{"$f":"+IF(AR141=\"\",\"\",MAX(AM$1:AM140)+1)","v":""},{"$f":"IF(CEM_COM_CPMS_Detail!$B163=\"\",\"\",CEM_COM_CPMS_Detail!$B163)","v":""},{"$f":"IF(CEM_COM_CPMS_Detail!$C163=\"\",\"\",CEM_COM_CPMS_Detail!$C163)","v":""},{"$f":"IF(CEM_COM_CPMS_Detail!$D163=\"\",\"\",CEM_COM_CPMS_Detail!$D163)","v":""},"",{"$f":"IF(COUNTIF(AQ$2:AQ141,AQ141)=1,AQ141,\"\")","v":""},"","",""]
[{"$f":"+IF(D142=\"\",\"\",MAX(A$1:A141)+1)","v":""},{"$f":"IF(CEM_COM_CPMS_Identification!C164=\"\",\"\",CEM_COM_CPMS_Identification!C164)","v":""},"",{"$f":"IF(COUNTIF(B$2:B142,B142)=1,B142,\"\")","v":""},null,null,null,null,null,null,null,null,null,null,null,null,null,null,{"$f":"+IF(W142=\"\",\"\",MAX(S$1:S141)+1)","v":""},{"$f":"IF(Limits_Details!$B164=\"\",\"\",Limits_Details!$B164)","v":""},{"$f":"IF(Limits_Details!$C164=\"\",\"\",Limits_Details!$C164)","v":""},"",{"$f":"IF(COUNTIF(V$2:V142,V142)=1,V142,\"\")","v":""},"","",null,null,null,{"$f":"+IF(AH142=\"\",\"\",MAX(AC$1:AC141)+1)","v":""},{"$f":"IF(Limits_Details!$B164=\"\",\"\",Limits_Details!$B164)","v":""},{"$f":"IF(Limits_Details!$C164=\"\",\"\",Limits_Details!$C164)","v":""},{"$f":"IF(Limits_Details!$D164=\"\",\"\",Limits_Details!$D164)","v":""},"",{"$f":"IF(COUNTIF(AG$2:AG142,AG142)=1,AG142,\"\")","v":""},"","","",null,{"$f":"+IF(AR142=\"\",\"\",MAX(AM$1:AM141)+1)","v":""},{"$f":"IF(CEM_COM_CPMS_Detail!$B164=\"\",\"\",CEM_COM_CPMS_Detail!$B164)","v":""},{"$f":"IF(CEM_COM_CPMS_Detail!$C164=\"\",\"\",CEM_COM_CPMS_Detail!$C164)","v":""},{"$f":"IF(CEM_COM_CPMS_Detail!$D164=\"\",\"\",CEM_COM_CPMS_Detail!$D164)","v":""},"",{"$f":"IF(COUNTIF(AQ$2:AQ142,AQ142)=1,AQ142,\"\")","v":""},"","",""]
[{"$f":"+IF(D143=\"\",\"\",MAX(A$1:A142)+1)","v":""},{"$f":"IF(CEM_COM_CPMS_Identification!C165=\"\",\"\",CEM_COM_CPMS_Identification!C165)","v":""},"",{"$f":"IF(COUNTIF(B$2:B143,B143)=1,B143,\"\")","v":""},null,null,null,null,null,null,null,null,null,null,null,null,null,null,{"$f":"+IF(W143=\"\",\"\",MAX(S$1:S142)+1)","v":""},{"$f":"IF(Limits_Details!$B165=\"\",\"\",Limits_Details!$B165)","v":""},{"$f":"IF(Limits_Details!$C165=\"\",\"\",Limits_Details!$C165)","v":""},"",{"$f":"IF(COUNTIF(V$2:V143,V143)=1,V143,\"\")","v":""},"","",null,null,null,{"$f":"+IF(AH143=\"\",\"\",MAX(AC$1:AC142)+1)","v":""},{"$f":"IF(Limits_Details!$B165=\"\",\"\",Limits_Details!$B165)","v":""},{"$f":"IF(Limits_Details!$C165=\"\",\"\",Limits_Details!$C165)","v":""},{"$f":"IF(Limits_Details!$D165=\"\",\"\",Limits_Details!$D165)","v":""},"",{"$f":"IF(COUNTIF(AG$2:AG143,AG143)=1,AG143,\"\")","v":""},"","","",null,{"$f":"+IF(AR143=\"\",\"\",MAX(AM$1:AM142)+1)","v":""},{"$f":"IF(CEM_COM_CPMS_Detail!$B165=\"\",\"\",CEM_COM_CPMS_Detail!$B165)","v":""},{"$f":"IF(CEM_COM_CPMS_Detail!$C165=\"\",\"\",CEM_COM_CPMS_Detail!$C165)","v":""},{"$f":"IF(CEM_COM_CPMS_Detail!$D165=\"\",\"\",CEM_COM_CPMS_Detail!$D165)","v":""},"",{"$f":"IF(COUNTIF(AQ$2:AQ143,AQ143)=1,AQ143,\"\")","v":""},"","",""]
[{"$f":"+IF(D144=\"\",\"\",MAX(A$1:A143)+1)","v":""},{"$f":"IF(CEM_COM_CPMS_Identification!C166=\"\",\"\",CEM_COM_CPMS_Identification!C166)","v":""},"",{"$f":"IF(COUNTIF(B$2:B144,B144)=1,B144,\"\")","v":""},null,null,null,null,null,null,null,null,null,null,null,null,null,null,{"$f":"+IF(W144=\"\",\"\",MAX(S$1:S143)+1)","v":""},{"$f":"IF(Limits_Details!$B166=\"\",\"\",Limits_Details!$B166)","v":""},{"$f":"IF(Limits_Details!$C166=\"\",\"\",Limits_Details!$C166)","v":""},"",{"$f":"IF(COUNTIF(V$2:V144,V144)=1,V144,\"\")","v":""},"","",null,null,null,{"$f":"+IF(AH144=\"\",\"\",MAX(AC$1:AC143)+1)","v":""},{"$f":"IF(Limits_Details!$B166=\"\",\"\",Limits_Details!$B166)","v":""},{"$f":"IF(Limits_Details!$C166=\"\",\"\",Limits_Details!$C166)","v":""},{"$f":"IF(Limits_Details!$D166=\"\",\"\",Limits_Details!$D166)","v":""},"",{"$f":"IF(COUNTIF(AG$2:AG144,AG144)=1,AG144,\"\")","v":""},"","","",null,{"$f":"+IF(AR144=\"\",\"\",MAX(AM$1:AM143)+1)","v":""},{"$f":"IF(CEM_COM_CPMS_Detail!$B166=\"\",\"\",CEM_COM_CPMS_Detail!$B166)","v":""},{"$f":"IF(CEM_COM_CPMS_Detail!$C166=\"\",\"\",CEM_COM_CPMS_Detail!$C166)","v":""},{"$f":"IF(CEM_COM_CPMS_Detail!$D166=\"\",\"\",CEM_COM_CPMS_Detail!$D166)","v":""},"",{"$f":"IF(COUNTIF(AQ$2:AQ144,AQ144)=1,AQ144,\"\")","v":""},"","",""]
[{"$f":"+IF(D145=\"\",\"\",MAX(A$1:A144)+1)","v":""},{"$f":"IF(CEM_COM_CPMS_Identification!C167=\"\",\"\",CEM_COM_CPMS_Identification!C167)","v":""},"",{"$f":"IF(COUNTIF(B$2:B145,B145)=1,B145,\"\")","v":""},null,null,null,null,null,null,null,null,null,null,null,null,null,null,{"$f":"+IF(W145=\"\",\"\",MAX(S$1:S144)+1)","v":""},{"$f":"IF(Limits_Details!$B167=\"\",\"\",Limits_Details!$B167)","v":""},{"$f":"IF(Limits_Details!$C167=\"\",\"\",Limits_Details!$C167)","v":""},"",{"$f":"IF(COUNTIF(V$2:V145,V145)=1,V145,\"\")","v":""},"","",null,null,null,{"$f":"+IF(AH145=\"\",\"\",MAX(AC$1:AC144)+1)","v":""},{"$f":"IF(Limits_Details!$B167=\"\",\"\",Limits_Details!$B167)","v":""},{"$f":"IF(Limits_Details!$C167=\"\",\"\",Limits_Details!$C167)","v":""},{"$f":"IF(Limits_Details!$D167=\"\",\"\",Limits_Details!$D167)","v":""},"",{"$f":"IF(COUNTIF(AG$2:AG145,AG145)=1,AG145,\"\")","v":""},"","","",null,{"$f":"+IF(AR145=\"\",\"\",MAX(AM$1:AM144)+1)","v":""},{"$f":"IF(CEM_COM_CPMS_Detail!$B167=\"\",\"\",CEM_COM_CPMS_Detail!$B167)","v":""},{"$f":"IF(CEM_COM_CPMS_Detail!$C167=\"\",\"\",CEM_COM_CPMS_Detail!$C167)","v":""},{"$f":"IF(CEM_COM_CPMS_Detail!$D167=\"\",\"\",CEM_COM_CPMS_Detail!$D167)","v":""},"",{"$f":"IF(COUNTIF(AQ$2:AQ145,AQ145)=1,AQ145,\"\")","v":""},"","",""]
[{"$f":"+IF(D146=\"\",\"\",MAX(A$1:A145)+1)","v":""},{"$f":"IF(CEM_COM_CPMS_Identification!C168=\"\",\"\",CEM_COM_CPMS_Identification!C168)","v":""},"",{"$f":"IF(COUNTIF(B$2:B146,B146)=1,B146,\"\")","v":""},null,null,null,null,null,null,null,null,null,null,null,null,null,null,{"$f":"+IF(W146=\"\",\"\",MAX(S$1:S145)+1)","v":""},{"$f":"IF(Limits_Details!$B168=\"\",\"\",Limits_Details!$B168)","v":""},{"$f":"IF(Limits_Details!$C168=\"\",\"\",Limits_Details!$C168)","v":""},"",{"$f":"IF(COUNTIF(V$2:V146,V146)=1,V146,\"\")","v":""},"","",null,null,null,{"$f":"+IF(AH146=\"\",\"\",MAX(AC$1:AC145)+1)","v":""},{"$f":"IF(Limits_Details!$B168=\"\",\"\",Limits_Details!$B168)","v":""},{"$f":"IF(Limits_Details!$C168=\"\",\"\",Limits_Details!$C168)","v":""},{"$f":"IF(Limits_Details!$D168=\"\",\"\",Limits_Details!$D168)","v":""},"",{"$f":"IF(COUNTIF(AG$2:AG146,AG146)=1,AG146,\"\")","v":""},"","","",null,{"$f":"+IF(AR146=\"\",\"\",MAX(AM$1:AM145)+1)","v":""},{"$f":"IF(CEM_COM_CPMS_Detail!$B168=\"\",\"\",CEM_COM_CPMS_Detail!$B168)","v":""},{"$f":"IF(CEM_COM_CPMS_Detail!$C168=\"\",\"\",CEM_COM_CPMS_Detail!$C168)","v":""},{"$f":"IF(CEM_COM_CPMS_Detail!$D168=\"\",\"\",CEM_COM_CPMS_Detail!$D168)","v":""},"",{"$f":"IF(COUNTIF(AQ$2:AQ146,AQ146)=1,AQ146,\"\")","v":""},"","",""]
[{"$f":"+IF(D147=\"\",\"\",MAX(A$1:A146)+1)","v":""},{"$f":"IF(CEM_COM_CPMS_Identification!C169=\"\",\"\",CEM_COM_CPMS_Identification!C169)","v":""},"",{"$f":"IF(COUNTIF(B$2:B147,B147)=1,B147,\"\")","v":""},null,null,null,null,null,null,null,null,null,null,null,null,null,null,{"$f":"+IF(W147=\"\",\"\",MAX(S$1:S146)+1)","v":""},{"$f":"IF(Limits_Details!$B169=\"\",\"\",Limits_Details!$B169)","v":""},{"$f":"IF(Limits_Details!$C169=\"\",\"\",Limits_Details!$C169)","v":""},"",{"$f":"IF(COUNTIF(V$2:V147,V147)=1,V147,\"\")","v":""},"","",null,null,null,{"$f":"+IF(AH147=\"\",\"\",MAX(AC$1:AC146)+1)","v":""},{"$f":"IF(Limits_Details!$B169=\"\",\"\",Limits_Details!$B169)","v":""},{"$f":"IF(Limits_Details!$C169=\"\",\"\",Limits_Details!$C169)","v":""},{"$f":"IF(Limits_Details!$D169=\"\",\"\",Limits_Details!$D169)","v":""},"",{"$f":"IF(COUNTIF(AG$2:AG147,AG147)=1,AG147,\"\")","v":""},"","","",null,{"$f":"+IF(AR147=\"\",\"\",MAX(AM$1:AM146)+1)","v":""},{"$f":"IF(CEM_COM_CPMS_Detail!$B169=\"\",\"\",CEM_COM_CPMS_Detail!$B169)","v":""},{"$f":"IF(CEM_COM_CPMS_Detail!$C169=\"\",\"\",CEM_COM_CPMS_Detail!$C169)","v":""},{"$f":"IF(CEM_COM_CPMS_Detail!$D169=\"\",\"\",CEM_COM_CPMS_Detail!$D169)","v":""},"",{"$f":"IF(COUNTIF(AQ$2:AQ147,AQ147)=1,AQ147,\"\")","v":""},"","",""]
[{"$f":"+IF(D148=\"\",\"\",MAX(A$1:A147)+1)","v":""},{"$f":"IF(CEM_COM_CPMS_Identification!C170=\"\",\"\",CEM_COM_CPMS_Identification!C170)","v":""},"",{"$f":"IF(COUNTIF(B$2:B148,B148)=1,B148,\"\")","v":""},null,null,null,null,null,null,null,null,null,null,null,null,null,null,{"$f":"+IF(W148=\"\",\"\",MAX(S$1:S147)+1)","v":""},{"$f":"IF(Limits_Details!$B170=\"\",\"\",Limits_Details!$B170)","v":""},{"$f":"IF(Limits_Details!$C170=\"\",\"\",Limits_Details!$C170)","v":""},"",{"$f":"IF(COUNTIF(V$2:V148,V148)=1,V148,\"\")","v":""},"","",null,null,null,{"$f":"+IF(AH148=\"\",\"\",MAX(AC$1:AC147)+1)","v":""},{"$f":"IF(Limits_Details!$B170=\"\",\"\",Limits_Details!$B170)","v":""},{"$f":"IF(Limits_Details!$C170=\"\",\"\",Limits_Details!$C170)","v":""},{"$f":"IF(Limits_Details!$D170=\"\",\"\",Limits_Details!$D170)","v":""},"",{"$f":"IF(COUNTIF(AG$2:AG148,AG148)=1,AG148,\"\")","v":""},"","","",null,{"$f":"+IF(AR148=\"\",\"\",MAX(AM$1:AM147)+1)","v":""},{"$f":"IF(CEM_COM_CPMS_Detail!$B170=\"\",\"\",CEM_COM_CPMS_Detail!$B170)","v":""},{"$f":"IF(CEM_COM_CPMS_Detail!$C170=\"\",\"\",CEM_COM_CPMS_Detail!$C170)","v":""},{"$f":"IF(CEM_COM_CPMS_Detail!$D170=\"\",\"\",CEM_COM_CPMS_Detail!$D170)","v":""},"",{"$f":"IF(COUNTIF(AQ$2:AQ148,AQ148)=1,AQ148,\"\")","v":""},"","",""]
[{"$f":"+IF(D149=\"\",\"\",MAX(A$1:A148)+1)","v":""},{"$f":"IF(CEM_COM_CPMS_Identification!C171=\"\",\"\",CEM_COM_CPMS_Identification!C171)","v":""},"",{"$f":"IF(COUNTIF(B$2:B149,B149)=1,B149,\"\")","v":""},null,null,null,null,null,null,null,null,null,null,null,null,null,null,{"$f":"+IF(W149=\"\",\"\",MAX(S$1:S148)+1)","v":""},{"$f":"IF(Limits_Details!$B171=\"\",\"\",Limits_Details!$B171)","v":""},{"$f":"IF(Limits_Details!$C171=\"\",\"\",Limits_Details!$C171)","v":""},"",{"$f":"IF(COUNTIF(V$2:V149,V149)=1,V149,\"\")","v":""},"","",null,null,null,{"$f":"+IF(AH149=\"\",\"\",MAX(AC$1:AC148)+1)","v":""},{"$f":"IF(Limits_Details!$B171=\"\",\"\",Limits_Details!$B171)","v":""},{"$f":"IF(Limits_Details!$C171=\"\",\"\",Limits_Details!$C171)","v":""},{"$f":"IF(Limits_Details!$D171=\"\",\"\",Limits_Details!$D171)","v":""},"",{"$f":"IF(COUNTIF(AG$2:AG149,AG149)=1,AG149,\"\")","v":""},"","","",null,{"$f":"+IF(AR149=\"\",\"\",MAX(AM$1:AM148)+1)","v":""},{"$f":"IF(CEM_COM_CPMS_Detail!$B171=\"\",\"\",CEM_COM_CPMS_Detail!$B171)","v":""},{"$f":"IF(CEM_COM_CPMS_Detail!$C171=\"\",\"\",CEM_COM_CPMS_Detail!$C171)","v":""},{"$f":"IF(CEM_COM_CPMS_Detail!$D171=\"\",\"\",CEM_COM_CPMS_Detail!$D171)","v":""},"",{"$f":"IF(COUNTIF(AQ$2:AQ149,AQ149)=1,AQ149,\"\")","v":""},"","",""]
[{"$f":"+IF(D150=\"\",\"\",MAX(A$1:A149)+1)","v":""},{"$f":"IF(CEM_COM_CPMS_Identification!C172=\"\",\"\",CEM_COM_CPMS_Identification!C172)","v":""},"",{"$f":"IF(COUNTIF(B$2:B150,B150)=1,B150,\"\")","v":""},null,null,null,null,null,null,null,null,null,null,null,null,null,null,{"$f":"+IF(W150=\"\",\"\",MAX(S$1:S149)+1)","v":""},{"$f":"IF(Limits_Details!$B172=\"\",\"\",Limits_Details!$B172)","v":""},{"$f":"IF(Limits_Details!$C172=\"\",\"\",Limits_Details!$C172)","v":""},"",{"$f":"IF(COUNTIF(V$2:V150,V150)=1,V150,\"\")","v":""},"","",null,null,null,{"$f":"+IF(AH150=\"\",\"\",MAX(AC$1:AC149)+1)","v":""},{"$f":"IF(Limits_Details!$B172=\"\",\"\",Limits_Details!$B172)","v":""},{"$f":"IF(Limits_Details!$C172=\"\",\"\",Limits_Details!$C172)","v":""},{"$f":"IF(Limits_Details!$D172=\"\",\"\",Limits_Details!$D172)","v":""},"",{"$f":"IF(COUNTIF(AG$2:AG150,AG150)=1,AG150,\"\")","v":""},"","","",null,{"$f":"+IF(AR150=\"\",\"\",MAX(AM$1:AM149)+1)","v":""},{"$f":"IF(CEM_COM_CPMS_Detail!$B172=\"\",\"\",CEM_COM_CPMS_Detail!$B172)","v":""},{"$f":"IF(CEM_COM_CPMS_Detail!$C172=\"\",\"\",CEM_COM_CPMS_Detail!$C172)","v":""},{"$f":"IF(CEM_COM_CPMS_Detail!$D172=\"\",\"\",CEM_COM_CPMS_Detail!$D172)","v":""},"",{"$f":"IF(COUNTIF(AQ$2:AQ150,AQ150)=1,AQ150,\"\")","v":""},"","",""]
[{"$f":"+IF(D151=\"\",\"\",MAX(A$1:A150)+1)","v":""},{"$f":"IF(CEM_COM_CPMS_Identification!C173=\"\",\"\",CEM_COM_CPMS_Identification!C173)","v":""},"",{"$f":"IF(COUNTIF(B$2:B151,B151)=1,B151,\"\")","v":""},null,null,null,null,null,null,null,null,null,null,null,null,null,null,{"$f":"+IF(W151=\"\",\"\",MAX(S$1:S150)+1)","v":""},{"$f":"IF(Limits_Details!$B173=\"\",\"\",Limits_Details!$B173)","v":""},{"$f":"IF(Limits_Details!$C173=\"\",\"\",Limits_Details!$C173)","v":""},"",{"$f":"IF(COUNTIF(V$2:V151,V151)=1,V151,\"\")","v":""},"","",null,null,null,{"$f":"+IF(AH151=\"\",\"\",MAX(AC$1:AC150)+1)","v":""},{"$f":"IF(Limits_Details!$B173=\"\",\"\",Limits_Details!$B173)","v":""},{"$f":"IF(Limits_Details!$C173=\"\",\"\",Limits_Details!$C173)","v":""},{"$f":"IF(Limits_Details!$D173=\"\",\"\",Limits_Details!$D173)","v":""},"",{"$f":"IF(COUNTIF(AG$2:AG151,AG151)=1,AG151,\"\")","v":""},"","","",null,{"$f":"+IF(AR151=\"\",\"\",MAX(AM$1:AM150)+1)","v":""},{"$f":"IF(CEM_COM_CPMS_Detail!$B173=\"\",\"\",CEM_COM_CPMS_Detail!$B173)","v":""},{"$f":"IF(CEM_COM_CPMS_Detail!$C173=\"\",\"\",CEM_COM_CPMS_Detail!$C173)","v":""},{"$f":"IF(CEM_COM_CPMS_Detail!$D173=\"\",\"\",CEM_COM_CPMS_Detail!$D173)","v":""},"",{"$f":"IF(COUNTIF(AQ$2:AQ151,AQ151)=1,AQ151,\"\")","v":""},"","",""]
[{"$f":"+IF(D152=\"\",\"\",MAX(A$1:A151)+1)","v":""},{"$f":"IF(CEM_COM_CPMS_Identification!C174=\"\",\"\",CEM_COM_CPMS_Identification!C174)","v":""},"",{"$f":"IF(COUNTIF(B$2:B152,B152)=1,B152,\"\")","v":""},null,null,null,null,null,null,null,null,null,null,null,null,null,null,{"$f":"+IF(W152=\"\",\"\",MAX(S$1:S151)+1)","v":""},{"$f":"IF(Limits_Details!$B174=\"\",\"\",Limits_Details!$B174)","v":""},{"$f":"IF(Limits_Details!$C174=\"\",\"\",Limits_Details!$C174)","v":""},"",{"$f":"IF(COUNTIF(V$2:V152,V152)=1,V152,\"\")","v":""},"","",null,null,null,{"$f":"+IF(AH152=\"\",\"\",MAX(AC$1:AC151)+1)","v":""},{"$f":"IF(Limits_Details!$B174=\"\",\"\",Limits_Details!$B174)","v":""},{"$f":"IF(Limits_Details!$C174=\"\",\"\",Limits_Details!$C174)","v":""},{"$f":"IF(Limits_Details!$D174=\"\",\"\",Limits_Details!$D174)","v":""},"",{"$f":"IF(COUNTIF(AG$2:AG152,AG152)=1,AG152,\"\")","v":""},"","","",null,{"$f":"+IF(AR152=\"\",\"\",MAX(AM$1:AM151)+1)","v":""},{"$f":"IF(CEM_COM_CPMS_Detail!$B174=\"\",\"\",CEM_COM_CPMS_Detail!$B174)","v":""},{"$f":"IF(CEM_COM_CPMS_Detail!$C174=\"\",\"\",CEM_COM_CPMS_Detail!$C174)","v":""},{"$f":"IF(CEM_COM_CPMS_Detail!$D174=\"\",\"\",CEM_COM_CPMS_Detail!$D174)","v":""},"",{"$f":"IF(COUNTIF(AQ$2:AQ152,AQ152)=1,AQ152,\"\")","v":""},"","",""]
[{"$f":"+IF(D153=\"\",\"\",MAX(A$1:A152)+1)","v":""},{"$f":"IF(CEM_COM_CPMS_Identification!C175=\"\",\"\",CEM_COM_CPMS_Identification!C175)","v":""},"",{"$f":"IF(COUNTIF(B$2:B153,B153)=1,B153,\"\")","v":""},null,null,null,null,null,null,null,null,null,null,null,null,null,null,{"$f":"+IF(W153=\"\",\"\",MAX(S$1:S152)+1)","v":""},{"$f":"IF(Limits_Details!$B175=\"\",\"\",Limits_Details!$B175)","v":""},{"$f":"IF(Limits_Details!$C175=\"\",\"\",Limits_Details!$C175)","v":""},"",{"$f":"IF(COUNTIF(V$2:V153,V153)=1,V153,\"\")","v":""},"","",null,null,null,{"$f":"+IF(AH153=\"\",\"\",MAX(AC$1:AC152)+1)","v":""},{"$f":"IF(Limits_Details!$B175=\"\",\"\",Limits_Details!$B175)","v":""},{"$f":"IF(Limits_Details!$C175=\"\",\"\",Limits_Details!$C175)","v":""},{"$f":"IF(Limits_Details!$D175=\"\",\"\",Limits_Details!$D175)","v":""},"",{"$f":"IF(COUNTIF(AG$2:AG153,AG153)=1,AG153,\"\")","v":""},"","","",null,{"$f":"+IF(AR153=\"\",\"\",MAX(AM$1:AM152)+1)","v":""},{"$f":"IF(CEM_COM_CPMS_Detail!$B175=\"\",\"\",CEM_COM_CPMS_Detail!$B175)","v":""},{"$f":"IF(CEM_COM_CPMS_Detail!$C175=\"\",\"\",CEM_COM_CPMS_Detail!$C175)","v":""},{"$f":"IF(CEM_COM_CPMS_Detail!$D175=\"\",\"\",CEM_COM_CPMS_Detail!$D175)","v":""},"",{"$f":"IF(COUNTIF(AQ$2:AQ153,AQ153)=1,AQ153,\"\")","v":""},"","",""]
[{"$f":"+IF(D154=\"\",\"\",MAX(A$1:A153)+1)","v":""},{"$f":"IF(CEM_COM_CPMS_Identification!C176=\"\",\"\",CEM_COM_CPMS_Identification!C176)","v":""},"",{"$f":"IF(COUNTIF(B$2:B154,B154)=1,B154,\"\")","v":""},null,null,null,null,null,null,null,null,null,null,null,null,null,null,{"$f":"+IF(W154=\"\",\"\",MAX(S$1:S153)+1)","v":""},{"$f":"IF(Limits_Details!$B176=\"\",\"\",Limits_Details!$B176)","v":""},{"$f":"IF(Limits_Details!$C176=\"\",\"\",Limits_Details!$C176)","v":""},"",{"$f":"IF(COUNTIF(V$2:V154,V154)=1,V154,\"\")","v":""},"","",null,null,null,{"$f":"+IF(AH154=\"\",\"\",MAX(AC$1:AC153)+1)","v":""},{"$f":"IF(Limits_Details!$B176=\"\",\"\",Limits_Details!$B176)","v":""},{"$f":"IF(Limits_Details!$C176=\"\",\"\",Limits_Details!$C176)","v":""},{"$f":"IF(Limits_Details!$D176=\"\",\"\",Limits_Details!$D176)","v":""},"",{"$f":"IF(COUNTIF(AG$2:AG154,AG154)=1,AG154,\"\")","v":""},"","","",null,{"$f":"+IF(AR154=\"\",\"\",MAX(AM$1:AM153)+1)","v":""},{"$f":"IF(CEM_COM_CPMS_Detail!$B176=\"\",\"\",CEM_COM_CPMS_Detail!$B176)","v":""},{"$f":"IF(CEM_COM_CPMS_Detail!$C176=\"\",\"\",CEM_COM_CPMS_Detail!$C176)","v":""},{"$f":"IF(CEM_COM_CPMS_Detail!$D176=\"\",\"\",CEM_COM_CPMS_Detail!$D176)","v":""},"",{"$f":"IF(COUNTIF(AQ$2:AQ154,AQ154)=1,AQ154,\"\")","v":""},"","",""]
[{"$f":"+IF(D155=\"\",\"\",MAX(A$1:A154)+1)","v":""},{"$f":"IF(CEM_COM_CPMS_Identification!C177=\"\",\"\",CEM_COM_CPMS_Identification!C177)","v":""},"",{"$f":"IF(COUNTIF(B$2:B155,B155)=1,B155,\"\")","v":""},null,null,null,null,null,null,null,null,null,null,null,null,null,null,{"$f":"+IF(W155=\"\",\"\",MAX(S$1:S154)+1)","v":""},{"$f":"IF(Limits_Details!$B177=\"\",\"\",Limits_Details!$B177)","v":""},{"$f":"IF(Limits_Details!$C177=\"\",\"\",Limits_Details!$C177)","v":""},"",{"$f":"IF(COUNTIF(V$2:V155,V155)=1,V155,\"\")","v":""},"","",null,null,null,{"$f":"+IF(AH155=\"\",\"\",MAX(AC$1:AC154)+1)","v":""},{"$f":"IF(Limits_Details!$B177=\"\",\"\",Limits_Details!$B177)","v":""},{"$f":"IF(Limits_Details!$C177=\"\",\"\",Limits_Details!$C177)","v":""},{"$f":"IF(Limits_Details!$D177=\"\",\"\",Limits_Details!$D177)","v":""},"",{"$f":"IF(COUNTIF(AG$2:AG155,AG155)=1,AG155,\"\")","v":""},"","","",null,{"$f":"+IF(AR155=\"\",\"\",MAX(AM$1:AM154)+1)","v":""},{"$f":"IF(CEM_COM_CPMS_Detail!$B177=\"\",\"\",CEM_COM_CPMS_Detail!$B177)","v":""},{"$f":"IF(CEM_COM_CPMS_Detail!$C177=\"\",\"\",CEM_COM_CPMS_Detail!$C177)","v":""},{"$f":"IF(CEM_COM_CPMS_Detail!$D177=\"\",\"\",CEM_COM_CPMS_Detail!$D177)","v":""},"",{"$f":"IF(COUNTIF(AQ$2:AQ155,AQ155)=1,AQ155,\"\")","v":""},"","",""]
[{"$f":"+IF(D156=\"\",\"\",MAX(A$1:A155)+1)","v":""},{"$f":"IF(CEM_COM_CPMS_Identification!C178=\"\",\"\",CEM_COM_CPMS_Identification!C178)","v":""},"",{"$f":"IF(COUNTIF(B$2:B156,B156)=1,B156,\"\")","v":""},null,null,null,null,null,null,null,null,null,null,null,null,null,null,{"$f":"+IF(W156=\"\",\"\",MAX(S$1:S155)+1)","v":""},{"$f":"IF(Limits_Details!$B178=\"\",\"\",Limits_Details!$B178)","v":""},{"$f":"IF(Limits_Details!$C178=\"\",\"\",Limits_Details!$C178)","v":""},"",{"$f":"IF(COUNTIF(V$2:V156,V156)=1,V156,\"\")","v":""},"","",null,null,null,{"$f":"+IF(AH156=\"\",\"\",MAX(AC$1:AC155)+1)","v":""},{"$f":"IF(Limits_Details!$B178=\"\",\"\",Limits_Details!$B178)","v":""},{"$f":"IF(Limits_Details!$C178=\"\",\"\",Limits_Details!$C178)","v":""},{"$f":"IF(Limits_Details!$D178=\"\",\"\",Limits_Details!$D178)","v":""},"",{"$f":"IF(COUNTIF(AG$2:AG156,AG156)=1,AG156,\"\")","v":""},"","","",null,{"$f":"+IF(AR156=\"\",\"\",MAX(AM$1:AM155)+1)","v":""},{"$f":"IF(CEM_COM_CPMS_Detail!$B178=\"\",\"\",CEM_COM_CPMS_Detail!$B178)","v":""},{"$f":"IF(CEM_COM_CPMS_Detail!$C178=\"\",\"\",CEM_COM_CPMS_Detail!$C178)","v":""},{"$f":"IF(CEM_COM_CPMS_Detail!$D178=\"\",\"\",CEM_COM_CPMS_Detail!$D178)","v":""},"",{"$f":"IF(COUNTIF(AQ$2:AQ156,AQ156)=1,AQ156,\"\")","v":""},"","",""]
[{"$f":"+IF(D157=\"\",\"\",MAX(A$1:A156)+1)","v":""},{"$f":"IF(CEM_COM_CPMS_Identification!C179=\"\",\"\",CEM_COM_CPMS_Identification!C179)","v":""},"",{"$f":"IF(COUNTIF(B$2:B157,B157)=1,B157,\"\")","v":""},null,null,null,null,null,null,null,null,null,null,null,null,null,null,{"$f":"+IF(W157=\"\",\"\",MAX(S$1:S156)+1)","v":""},{"$f":"IF(Limits_Details!$B179=\"\",\"\",Limits_Details!$B179)","v":""},{"$f":"IF(Limits_Details!$C179=\"\",\"\",Limits_Details!$C179)","v":""},"",{"$f":"IF(COUNTIF(V$2:V157,V157)=1,V157,\"\")","v":""},"","",null,null,null,{"$f":"+IF(AH157=\"\",\"\",MAX(AC$1:AC156)+1)","v":""},{"$f":"IF(Limits_Details!$B179=\"\",\"\",Limits_Details!$B179)","v":""},{"$f":"IF(Limits_Details!$C179=\"\",\"\",Limits_Details!$C179)","v":""},{"$f":"IF(Limits_Details!$D179=\"\",\"\",Limits_Details!$D179)","v":""},"",{"$f":"IF(COUNTIF(AG$2:AG157,AG157)=1,AG157,\"\")","v":""},"","","",null,{"$f":"+IF(AR157=\"\",\"\",MAX(AM$1:AM156)+1)","v":""},{"$f":"IF(CEM_COM_CPMS_Detail!$B179=\"\",\"\",CEM_COM_CPMS_Detail!$B179)","v":""},{"$f":"IF(CEM_COM_CPMS_Detail!$C179=\"\",\"\",CEM_COM_CPMS_Detail!$C179)","v":""},{"$f":"IF(CEM_COM_CPMS_Detail!$D179=\"\",\"\",CEM_COM_CPMS_Detail!$D179)","v":""},"",{"$f":"IF(COUNTIF(AQ$2:AQ157,AQ157)=1,AQ157,\"\")","v":""},"","",""]
[{"$f":"+IF(D158=\"\",\"\",MAX(A$1:A157)+1)","v":""},{"$f":"IF(CEM_COM_CPMS_Identification!C180=\"\",\"\",CEM_COM_CPMS_Identification!C180)","v":""},"",{"$f":"IF(COUNTIF(B$2:B158,B158)=1,B158,\"\")","v":""},null,null,null,null,null,null,null,null,null,null,null,null,null,null,{"$f":"+IF(W158=\"\",\"\",MAX(S$1:S157)+1)","v":""},{"$f":"IF(Limits_Details!$B180=\"\",\"\",Limits_Details!$B180)","v":""},{"$f":"IF(Limits_Details!$C180=\"\",\"\",Limits_Details!$C180)","v":""},"",{"$f":"IF(COUNTIF(V$2:V158,V158)=1,V158,\"\")","v":""},"","",null,null,null,{"$f":"+IF(AH158=\"\",\"\",MAX(AC$1:AC157)+1)","v":""},{"$f":"IF(Limits_Details!$B180=\"\",\"\",Limits_Details!$B180)","v":""},{"$f":"IF(Limits_Details!$C180=\"\",\"\",Limits_Details!$C180)","v":""},{"$f":"IF(Limits_Details!$D180=\"\",\"\",Limits_Details!$D180)","v":""},"",{"$f":"IF(COUNTIF(AG$2:AG158,AG158)=1,AG158,\"\")","v":""},"","","",null,{"$f":"+IF(AR158=\"\",\"\",MAX(AM$1:AM157)+1)","v":""},{"$f":"IF(CEM_COM_CPMS_Detail!$B180=\"\",\"\",CEM_COM_CPMS_Detail!$B180)","v":""},{"$f":"IF(CEM_COM_CPMS_Detail!$C180=\"\",\"\",CEM_COM_CPMS_Detail!$C180)","v":""},{"$f":"IF(CEM_COM_CPMS_Detail!$D180=\"\",\"\",CEM_COM_CPMS_Detail!$D180)","v":""},"",{"$f":"IF(COUNTIF(AQ$2:AQ158,AQ158)=1,AQ158,\"\")","v":""},"","",""]
[{"$f":"+IF(D159=\"\",\"\",MAX(A$1:A158)+1)","v":""},{"$f":"IF(CEM_COM_CPMS_Identification!C181=\"\",\"\",CEM_COM_CPMS_Identification!C181)","v":""},"",{"$f":"IF(COUNTIF(B$2:B159,B159)=1,B159,\"\")","v":""},null,null,null,null,null,null,null,null,null,null,null,null,null,null,{"$f":"+IF(W159=\"\",\"\",MAX(S$1:S158)+1)","v":""},{"$f":"IF(Limits_Details!$B181=\"\",\"\",Limits_Details!$B181)","v":""},{"$f":"IF(Limits_Details!$C181=\"\",\"\",Limits_Details!$C181)","v":""},"",{"$f":"IF(COUNTIF(V$2:V159,V159)=1,V159,\"\")","v":""},"","",null,null,null,{"$f":"+IF(AH159=\"\",\"\",MAX(AC$1:AC158)+1)","v":""},{"$f":"IF(Limits_Details!$B181=\"\",\"\",Limits_Details!$B181)","v":""},{"$f":"IF(Limits_Details!$C181=\"\",\"\",Limits_Details!$C181)","v":""},{"$f":"IF(Limits_Details!$D181=\"\",\"\",Limits_Details!$D181)","v":""},"",{"$f":"IF(COUNTIF(AG$2:AG159,AG159)=1,AG159,\"\")","v":""},"","","",null,{"$f":"+IF(AR159=\"\",\"\",MAX(AM$1:AM158)+1)","v":""},{"$f":"IF(CEM_COM_CPMS_Detail!$B181=\"\",\"\",CEM_COM_CPMS_Detail!$B181)","v":""},{"$f":"IF(CEM_COM_CPMS_Detail!$C181=\"\",\"\",CEM_COM_CPMS_Detail!$C181)","v":""},{"$f":"IF(CEM_COM_CPMS_Detail!$D181=\"\",\"\",CEM_COM_CPMS_Detail!$D181)","v":""},"",{"$f":"IF(COUNTIF(AQ$2:AQ159,AQ159)=1,AQ159,\"\")","v":""},"","",""]
[{"$f":"+IF(D160=\"\",\"\",MAX(A$1:A159)+1)","v":""},{"$f":"IF(CEM_COM_CPMS_Identification!C182=\"\",\"\",CEM_COM_CPMS_Identification!C182)","v":""},"",{"$f":"IF(COUNTIF(B$2:B160,B160)=1,B160,\"\")","v":""},null,null,null,null,null,null,null,null,null,null,null,null,null,null,{"$f":"+IF(W160=\"\",\"\",MAX(S$1:S159)+1)","v":""},{"$f":"IF(Limits_Details!$B182=\"\",\"\",Limits_Details!$B182)","v":""},{"$f":"IF(Limits_Details!$C182=\"\",\"\",Limits_Details!$C182)","v":""},"",{"$f":"IF(COUNTIF(V$2:V160,V160)=1,V160,\"\")","v":""},"","",null,null,null,{"$f":"+IF(AH160=\"\",\"\",MAX(AC$1:AC159)+1)","v":""},{"$f":"IF(Limits_Details!$B182=\"\",\"\",Limits_Details!$B182)","v":""},{"$f":"IF(Limits_Details!$C182=\"\",\"\",Limits_Details!$C182)","v":""},{"$f":"IF(Limits_Details!$D182=\"\",\"\",Limits_Details!$D182)","v":""},"",{"$f":"IF(COUNTIF(AG$2:AG160,AG160)=1,AG160,\"\")","v":""},"","","",null,{"$f":"+IF(AR160=\"\",\"\",MAX(AM$1:AM159)+1)","v":""},{"$f":"IF(CEM_COM_CPMS_Detail!$B182=\"\",\"\",CEM_COM_CPMS_Detail!$B182)","v":""},{"$f":"IF(CEM_COM_CPMS_Detail!$C182=\"\",\"\",CEM_COM_CPMS_Detail!$C182)","v":""},{"$f":"IF(CEM_COM_CPMS_Detail!$D182=\"\",\"\",CEM_COM_CPMS_Detail!$D182)","v":""},"",{"$f":"IF(COUNTIF(AQ$2:AQ160,AQ160)=1,AQ160,\"\")","v":""},"","",""]
[{"$f":"+IF(D161=\"\",\"\",MAX(A$1:A160)+1)","v":""},{"$f":"IF(CEM_COM_CPMS_Identification!C183=\"\",\"\",CEM_COM_CPMS_Identification!C183)","v":""},"",{"$f":"IF(COUNTIF(B$2:B161,B161)=1,B161,\"\")","v":""},null,null,null,null,null,null,null,null,null,null,null,null,null,null,{"$f":"+IF(W161=\"\",\"\",MAX(S$1:S160)+1)","v":""},{"$f":"IF(Limits_Details!$B183=\"\",\"\",Limits_Details!$B183)","v":""},{"$f":"IF(Limits_Details!$C183=\"\",\"\",Limits_Details!$C183)","v":""},"",{"$f":"IF(COUNTIF(V$2:V161,V161)=1,V161,\"\")","v":""},"","",null,null,null,{"$f":"+IF(AH161=\"\",\"\",MAX(AC$1:AC160)+1)","v":""},{"$f":"IF(Limits_Details!$B183=\"\",\"\",Limits_Details!$B183)","v":""},{"$f":"IF(Limits_Details!$C183=\"\",\"\",Limits_Details!$C183)","v":""},{"$f":"IF(Limits_Details!$D183=\"\",\"\",Limits_Details!$D183)","v":""},"",{"$f":"IF(COUNTIF(AG$2:AG161,AG161)=1,AG161,\"\")","v":""},"","","",null,{"$f":"+IF(AR161=\"\",\"\",MAX(AM$1:AM160)+1)","v":""},{"$f":"IF(CEM_COM_CPMS_Detail!$B183=\"\",\"\",CEM_COM_CPMS_Detail!$B183)","v":""},{"$f":"IF(CEM_COM_CPMS_Detail!$C183=\"\",\"\",CEM_COM_CPMS_Detail!$C183)","v":""},{"$f":"IF(CEM_COM_CPMS_Detail!$D183=\"\",\"\",CEM_COM_CPMS_Detail!$D183)","v":""},"",{"$f":"IF(COUNTIF(AQ$2:AQ161,AQ161)=1,AQ161,\"\")","v":""},"","",""]
[{"$f":"+IF(D162=\"\",\"\",MAX(A$1:A161)+1)","v":""},{"$f":"IF(CEM_COM_CPMS_Identification!C184=\"\",\"\",CEM_COM_CPMS_Identification!C184)","v":""},"",{"$f":"IF(COUNTIF(B$2:B162,B162)=1,B162,\"\")","v":""},null,null,null,null,null,null,null,null,null,null,null,null,null,null,{"$f":"+IF(W162=\"\",\"\",MAX(S$1:S161)+1)","v":""},{"$f":"IF(Limits_Details!$B184=\"\",\"\",Limits_Details!$B184)","v":""},{"$f":"IF(Limits_Details!$C184=\"\",\"\",Limits_Details!$C184)","v":""},"",{"$f":"IF(COUNTIF(V$2:V162,V162)=1,V162,\"\")","v":""},"","",null,null,null,{"$f":"+IF(AH162=\"\",\"\",MAX(AC$1:AC161)+1)","v":""},{"$f":"IF(Limits_Details!$B184=\"\",\"\",Limits_Details!$B184)","v":""},{"$f":"IF(Limits_Details!$C184=\"\",\"\",Limits_Details!$C184)","v":""},{"$f":"IF(Limits_Details!$D184=\"\",\"\",Limits_Details!$D184)","v":""},"",{"$f":"IF(COUNTIF(AG$2:AG162,AG162)=1,AG162,\"\")","v":""},"","","",null,{"$f":"+IF(AR162=\"\",\"\",MAX(AM$1:AM161)+1)","v":""},{"$f":"IF(CEM_COM_CPMS_Detail!$B184=\"\",\"\",CEM_COM_CPMS_Detail!$B184)","v":""},{"$f":"IF(CEM_COM_CPMS_Detail!$C184=\"\",\"\",CEM_COM_CPMS_Detail!$C184)","v":""},{"$f":"IF(CEM_COM_CPMS_Detail!$D184=\"\",\"\",CEM_COM_CPMS_Detail!$D184)","v":""},"",{"$f":"IF(COUNTIF(AQ$2:AQ162,AQ162)=1,AQ162,\"\")","v":""},"","",""]
[{"$f":"+IF(D163=\"\",\"\",MAX(A$1:A162)+1)","v":""},{"$f":"IF(CEM_COM_CPMS_Identification!C185=\"\",\"\",CEM_COM_CPMS_Identification!C185)","v":""},"",{"$f":"IF(COUNTIF(B$2:B163,B163)=1,B163,\"\")","v":""},null,null,null,null,null,null,null,null,null,null,null,null,null,null,{"$f":"+IF(W163=\"\",\"\",MAX(S$1:S162)+1)","v":""},{"$f":"IF(Limits_Details!$B185=\"\",\"\",Limits_Details!$B185)","v":""},{"$f":"IF(Limits_Details!$C185=\"\",\"\",Limits_Details!$C185)","v":""},"",{"$f":"IF(COUNTIF(V$2:V163,V163)=1,V163,\"\")","v":""},"","",null,null,null,{"$f":"+IF(AH163=\"\",\"\",MAX(AC$1:AC162)+1)","v":""},{"$f":"IF(Limits_Details!$B185=\"\",\"\",Limits_Details!$B185)","v":""},{"$f":"IF(Limits_Details!$C185=\"\",\"\",Limits_Details!$C185)","v":""},{"$f":"IF(Limits_Details!$D185=\"\",\"\",Limits_Details!$D185)","v":""},"",{"$f":"IF(COUNTIF(AG$2:AG163,AG163)=1,AG163,\"\")","v":""},"","","",null,{"$f":"+IF(AR163=\"\",\"\",MAX(AM$1:AM162)+1)","v":""},{"$f":"IF(CEM_COM_CPMS_Detail!$B185=\"\",\"\",CEM_COM_CPMS_Detail!$B185)","v":""},{"$f":"IF(CEM_COM_CPMS_Detail!$C185=\"\",\"\",CEM_COM_CPMS_Detail!$C185)","v":""},{"$f":"IF(CEM_COM_CPMS_Detail!$D185=\"\",\"\",CEM_COM_CPMS_Detail!$D185)","v":""},"",{"$f":"IF(COUNTIF(AQ$2:AQ163,AQ163)=1,AQ163,\"\")","v":""},"","",""]
[{"$f":"+IF(D164=\"\",\"\",MAX(A$1:A163)+1)","v":""},{"$f":"IF(CEM_COM_CPMS_Identification!C186=\"\",\"\",CEM_COM_CPMS_Identification!C186)","v":""},"",{"$f":"IF(COUNTIF(B$2:B164,B164)=1,B164,\"\")","v":""},null,null,null,null,null,null,null,null,null,null,null,null,null,null,{"$f":"+IF(W164=\"\",\"\",MAX(S$1:S163)+1)","v":""},{"$f":"IF(Limits_Details!$B186=\"\",\"\",Limits_Details!$B186)","v":""},{"$f":"IF(Limits_Details!$C186=\"\",\"\",Limits_Details!$C186)","v":""},"",{"$f":"IF(COUNTIF(V$2:V164,V164)=1,V164,\"\")","v":""},"","",null,null,null,{"$f":"+IF(AH164=\"\",\"\",MAX(AC$1:AC163)+1)","v":""},{"$f":"IF(Limits_Details!$B186=\"\",\"\",Limits_Details!$B186)","v":""},{"$f":"IF(Limits_Details!$C186=\"\",\"\",Limits_Details!$C186)","v":""},{"$f":"IF(Limits_Details!$D186=\"\",\"\",Limits_Details!$D186)","v":""},"",{"$f":"IF(COUNTIF(AG$2:AG164,AG164)=1,AG164,\"\")","v":""},"","","",null,{"$f":"+IF(AR164=\"\",\"\",MAX(AM$1:AM163)+1)","v":""},{"$f":"IF(CEM_COM_CPMS_Detail!$B186=\"\",\"\",CEM_COM_CPMS_Detail!$B186)","v":""},{"$f":"IF(CEM_COM_CPMS_Detail!$C186=\"\",\"\",CEM_COM_CPMS_Detail!$C186)","v":""},{"$f":"IF(CEM_COM_CPMS_Detail!$D186=\"\",\"\",CEM_COM_CPMS_Detail!$D186)","v":""},"",{"$f":"IF(COUNTIF(AQ$2:AQ164,AQ164)=1,AQ164,\"\")","v":""},"","",""]
[{"$f":"+IF(D165=\"\",\"\",MAX(A$1:A164)+1)","v":""},{"$f":"IF(CEM_COM_CPMS_Identification!C187=\"\",\"\",CEM_COM_CPMS_Identification!C187)","v":""},"",{"$f":"IF(COUNTIF(B$2:B165,B165)=1,B165,\"\")","v":""},null,null,null,null,null,null,null,null,null,null,null,null,null,null,{"$f":"+IF(W165=\"\",\"\",MAX(S$1:S164)+1)","v":""},{"$f":"IF(Limits_Details!$B187=\"\",\"\",Limits_Details!$B187)","v":""},{"$f":"IF(Limits_Details!$C187=\"\",\"\",Limits_Details!$C187)","v":""},"",{"$f":"IF(COUNTIF(V$2:V165,V165)=1,V165,\"\")","v":""},"","",null,null,null,{"$f":"+IF(AH165=\"\",\"\",MAX(AC$1:AC164)+1)","v":""},{"$f":"IF(Limits_Details!$B187=\"\",\"\",Limits_Details!$B187)","v":""},{"$f":"IF(Limits_Details!$C187=\"\",\"\",Limits_Details!$C187)","v":""},{"$f":"IF(Limits_Details!$D187=\"\",\"\",Limits_Details!$D187)","v":""},"",{"$f":"IF(COUNTIF(AG$2:AG165,AG165)=1,AG165,\"\")","v":""},"","","",null,{"$f":"+IF(AR165=\"\",\"\",MAX(AM$1:AM164)+1)","v":""},{"$f":"IF(CEM_COM_CPMS_Detail!$B187=\"\",\"\",CEM_COM_CPMS_Detail!$B187)","v":""},{"$f":"IF(CEM_COM_CPMS_Detail!$C187=\"\",\"\",CEM_COM_CPMS_Detail!$C187)","v":""},{"$f":"IF(CEM_COM_CPMS_Detail!$D187=\"\",\"\",CEM_COM_CPMS_Detail!$D187)","v":""},"",{"$f":"IF(COUNTIF(AQ$2:AQ165,AQ165)=1,AQ165,\"\")","v":""},"","",""]
[{"$f":"+IF(D166=\"\",\"\",MAX(A$1:A165)+1)","v":""},{"$f":"IF(CEM_COM_CPMS_Identification!C188=\"\",\"\",CEM_COM_CPMS_Identification!C188)","v":""},"",{"$f":"IF(COUNTIF(B$2:B166,B166)=1,B166,\"\")","v":""},null,null,null,null,null,null,null,null,null,null,null,null,null,null,{"$f":"+IF(W166=\"\",\"\",MAX(S$1:S165)+1)","v":""},{"$f":"IF(Limits_Details!$B188=\"\",\"\",Limits_Details!$B188)","v":""},{"$f":"IF(Limits_Details!$C188=\"\",\"\",Limits_Details!$C188)","v":""},"",{"$f":"IF(COUNTIF(V$2:V166,V166)=1,V166,\"\")","v":""},"","",null,null,null,{"$f":"+IF(AH166=\"\",\"\",MAX(AC$1:AC165)+1)","v":""},{"$f":"IF(Limits_Details!$B188=\"\",\"\",Limits_Details!$B188)","v":""},{"$f":"IF(Limits_Details!$C188=\"\",\"\",Limits_Details!$C188)","v":""},{"$f":"IF(Limits_Details!$D188=\"\",\"\",Limits_Details!$D188)","v":""},"",{"$f":"IF(COUNTIF(AG$2:AG166,AG166)=1,AG166,\"\")","v":""},"","","",null,{"$f":"+IF(AR166=\"\",\"\",MAX(AM$1:AM165)+1)","v":""},{"$f":"IF(CEM_COM_CPMS_Detail!$B188=\"\",\"\",CEM_COM_CPMS_Detail!$B188)","v":""},{"$f":"IF(CEM_COM_CPMS_Detail!$C188=\"\",\"\",CEM_COM_CPMS_Detail!$C188)","v":""},{"$f":"IF(CEM_COM_CPMS_Detail!$D188=\"\",\"\",CEM_COM_CPMS_Detail!$D188)","v":""},"",{"$f":"IF(COUNTIF(AQ$2:AQ166,AQ166)=1,AQ166,\"\")","v":""},"","",""]
[{"$f":"+IF(D167=\"\",\"\",MAX(A$1:A166)+1)","v":""},{"$f":"IF(CEM_COM_CPMS_Identification!C189=\"\",\"\",CEM_COM_CPMS_Identification!C189)","v":""},"",{"$f":"IF(COUNTIF(B$2:B167,B167)=1,B167,\"\")","v":""},null,null,null,null,null,null,null,null,null,null,null,null,null,null,{"$f":"+IF(W167=\"\",\"\",MAX(S$1:S166)+1)","v":""},{"$f":"IF(Limits_Details!$B189=\"\",\"\",Limits_Details!$B189)","v":""},{"$f":"IF(Limits_Details!$C189=\"\",\"\",Limits_Details!$C189)","v":""},"",{"$f":"IF(COUNTIF(V$2:V167,V167)=1,V167,\"\")","v":""},"","",null,null,null,{"$f":"+IF(AH167=\"\",\"\",MAX(AC$1:AC166)+1)","v":""},{"$f":"IF(Limits_Details!$B189=\"\",\"\",Limits_Details!$B189)","v":""},{"$f":"IF(Limits_Details!$C189=\"\",\"\",Limits_Details!$C189)","v":""},{"$f":"IF(Limits_Details!$D189=\"\",\"\",Limits_Details!$D189)","v":""},"",{"$f":"IF(COUNTIF(AG$2:AG167,AG167)=1,AG167,\"\")","v":""},"","","",null,{"$f":"+IF(AR167=\"\",\"\",MAX(AM$1:AM166)+1)","v":""},{"$f":"IF(CEM_COM_CPMS_Detail!$B189=\"\",\"\",CEM_COM_CPMS_Detail!$B189)","v":""},{"$f":"IF(CEM_COM_CPMS_Detail!$C189=\"\",\"\",CEM_COM_CPMS_Detail!$C189)","v":""},{"$f":"IF(CEM_COM_CPMS_Detail!$D189=\"\",\"\",CEM_COM_CPMS_Detail!$D189)","v":""},"",{"$f":"IF(COUNTIF(AQ$2:AQ167,AQ167)=1,AQ167,\"\")","v":""},"","",""]
[{"$f":"+IF(D168=\"\",\"\",MAX(A$1:A167)+1)","v":""},{"$f":"IF(CEM_COM_CPMS_Identification!C190=\"\",\"\",CEM_COM_CPMS_Identification!C190)","v":""},"",{"$f":"IF(COUNTIF(B$2:B168,B168)=1,B168,\"\")","v":""},null,null,null,null,null,null,null,null,null,null,null,null,null,null,{"$f":"+IF(W168=\"\",\"\",MAX(S$1:S167)+1)","v":""},{"$f":"IF(Limits_Details!$B190=\"\",\"\",Limits_Details!$B190)","v":""},{"$f":"IF(Limits_Details!$C190=\"\",\"\",Limits_Details!$C190)","v":""},"",{"$f":"IF(COUNTIF(V$2:V168,V168)=1,V168,\"\")","v":""},"","",null,null,null,{"$f":"+IF(AH168=\"\",\"\",MAX(AC$1:AC167)+1)","v":""},{"$f":"IF(Limits_Details!$B190=\"\",\"\",Limits_Details!$B190)","v":""},{"$f":"IF(Limits_Details!$C190=\"\",\"\",Limits_Details!$C190)","v":""},{"$f":"IF(Limits_Details!$D190=\"\",\"\",Limits_Details!$D190)","v":""},"",{"$f":"IF(COUNTIF(AG$2:AG168,AG168)=1,AG168,\"\")","v":""},"","","",null,{"$f":"+IF(AR168=\"\",\"\",MAX(AM$1:AM167)+1)","v":""},{"$f":"IF(CEM_COM_CPMS_Detail!$B190=\"\",\"\",CEM_COM_CPMS_Detail!$B190)","v":""},{"$f":"IF(CEM_COM_CPMS_Detail!$C190=\"\",\"\",CEM_COM_CPMS_Detail!$C190)","v":""},{"$f":"IF(CEM_COM_CPMS_Detail!$D190=\"\",\"\",CEM_COM_CPMS_Detail!$D190)","v":""},"",{"$f":"IF(COUNTIF(AQ$2:AQ168,AQ168)=1,AQ168,\"\")","v":""},"","",""]
[{"$f":"+IF(D169=\"\",\"\",MAX(A$1:A168)+1)","v":""},{"$f":"IF(CEM_COM_CPMS_Identification!C191=\"\",\"\",CEM_COM_CPMS_Identification!C191)","v":""},"",{"$f":"IF(COUNTIF(B$2:B169,B169)=1,B169,\"\")","v":""},null,null,null,null,null,null,null,null,null,null,null,null,null,null,{"$f":"+IF(W169=\"\",\"\",MAX(S$1:S168)+1)","v":""},{"$f":"IF(Limits_Details!$B191=\"\",\"\",Limits_Details!$B191)","v":""},{"$f":"IF(Limits_Details!$C191=\"\",\"\",Limits_Details!$C191)","v":""},"",{"$f":"IF(COUNTIF(V$2:V169,V169)=1,V169,\"\")","v":""},"","",null,null,null,{"$f":"+IF(AH169=\"\",\"\",MAX(AC$1:AC168)+1)","v":""},{"$f":"IF(Limits_Details!$B191=\"\",\"\",Limits_Details!$B191)","v":""},{"$f":"IF(Limits_Details!$C191=\"\",\"\",Limits_Details!$C191)","v":""},{"$f":"IF(Limits_Details!$D191=\"\",\"\",Limits_Details!$D191)","v":""},"",{"$f":"IF(COUNTIF(AG$2:AG169,AG169)=1,AG169,\"\")","v":""},"","","",null,{"$f":"+IF(AR169=\"\",\"\",MAX(AM$1:AM168)+1)","v":""},{"$f":"IF(CEM_COM_CPMS_Detail!$B191=\"\",\"\",CEM_COM_CPMS_Detail!$B191)","v":""},{"$f":"IF(CEM_COM_CPMS_Detail!$C191=\"\",\"\",CEM_COM_CPMS_Detail!$C191)","v":""},{"$f":"IF(CEM_COM_CPMS_Detail!$D191=\"\",\"\",CEM_COM_CPMS_Detail!$D191)","v":""},"",{"$f":"IF(COUNTIF(AQ$2:AQ169,AQ169)=1,AQ169,\"\")","v":""},"","",""]
[{"$f":"+IF(D170=\"\",\"\",MAX(A$1:A169)+1)","v":""},{"$f":"IF(CEM_COM_CPMS_Identification!C192=\"\",\"\",CEM_COM_CPMS_Identification!C192)","v":""},"",{"$f":"IF(COUNTIF(B$2:B170,B170)=1,B170,\"\")","v":""},null,null,null,null,null,null,null,null,null,null,null,null,null,null,{"$f":"+IF(W170=\"\",\"\",MAX(S$1:S169)+1)","v":""},{"$f":"IF(Limits_Details!$B192=\"\",\"\",Limits_Details!$B192)","v":""},{"$f":"IF(Limits_Details!$C192=\"\",\"\",Limits_Details!$C192)","v":""},"",{"$f":"IF(COUNTIF(V$2:V170,V170)=1,V170,\"\")","v":""},"","",null,null,null,{"$f":"+IF(AH170=\"\",\"\",MAX(AC$1:AC169)+1)","v":""},{"$f":"IF(Limits_Details!$B192=\"\",\"\",Limits_Details!$B192)","v":""},{"$f":"IF(Limits_Details!$C192=\"\",\"\",Limits_Details!$C192)","v":""},{"$f":"IF(Limits_Details!$D192=\"\",\"\",Limits_Details!$D192)","v":""},"",{"$f":"IF(COUNTIF(AG$2:AG170,AG170)=1,AG170,\"\")","v":""},"","","",null,{"$f":"+IF(AR170=\"\",\"\",MAX(AM$1:AM169)+1)","v":""},{"$f":"IF(CEM_COM_CPMS_Detail!$B192=\"\",\"\",CEM_COM_CPMS_Detail!$B192)","v":""},{"$f":"IF(CEM_COM_CPMS_Detail!$C192=\"\",\"\",CEM_COM_CPMS_Detail!$C192)","v":""},{"$f":"IF(CEM_COM_CPMS_Detail!$D192=\"\",\"\",CEM_COM_CPMS_Detail!$D192)","v":""},"",{"$f":"IF(COUNTIF(AQ$2:AQ170,AQ170)=1,AQ170,\"\")","v":""},"","",""]
[{"$f":"+IF(D171=\"\",\"\",MAX(A$1:A170)+1)","v":""},{"$f":"IF(CEM_COM_CPMS_Identification!C193=\"\",\"\",CEM_COM_CPMS_Identification!C193)","v":""},"",{"$f":"IF(COUNTIF(B$2:B171,B171)=1,B171,\"\")","v":""},null,null,null,null,null,null,null,null,null,null,null,null,null,null,{"$f":"+IF(W171=\"\",\"\",MAX(S$1:S170)+1)","v":""},{"$f":"IF(Limits_Details!$B193=\"\",\"\",Limits_Details!$B193)","v":""},{"$f":"IF(Limits_Details!$C193=\"\",\"\",Limits_Details!$C193)","v":""},"",{"$f":"IF(COUNTIF(V$2:V171,V171)=1,V171,\"\")","v":""},"","",null,null,null,{"$f":"+IF(AH171=\"\",\"\",MAX(AC$1:AC170)+1)","v":""},{"$f":"IF(Limits_Details!$B193=\"\",\"\",Limits_Details!$B193)","v":""},{"$f":"IF(Limits_Details!$C193=\"\",\"\",Limits_Details!$C193)","v":""},{"$f":"IF(Limits_Details!$D193=\"\",\"\",Limits_Details!$D193)","v":""},"",{"$f":"IF(COUNTIF(AG$2:AG171,AG171)=1,AG171,\"\")","v":""},"","","",null,{"$f":"+IF(AR171=\"\",\"\",MAX(AM$1:AM170)+1)","v":""},{"$f":"IF(CEM_COM_CPMS_Detail!$B193=\"\",\"\",CEM_COM_CPMS_Detail!$B193)","v":""},{"$f":"IF(CEM_COM_CPMS_Detail!$C193=\"\",\"\",CEM_COM_CPMS_Detail!$C193)","v":""},{"$f":"IF(CEM_COM_CPMS_Detail!$D193=\"\",\"\",CEM_COM_CPMS_Detail!$D193)","v":""},"",{"$f":"IF(COUNTIF(AQ$2:AQ171,AQ171)=1,AQ171,\"\")","v":""},"","",""]
[{"$f":"+IF(D172=\"\",\"\",MAX(A$1:A171)+1)","v":""},{"$f":"IF(CEM_COM_CPMS_Identification!C194=\"\",\"\",CEM_COM_CPMS_Identification!C194)","v":""},"",{"$f":"IF(COUNTIF(B$2:B172,B172)=1,B172,\"\")","v":""},null,null,null,null,null,null,null,null,null,null,null,null,null,null,{"$f":"+IF(W172=\"\",\"\",MAX(S$1:S171)+1)","v":""},{"$f":"IF(Limits_Details!$B194=\"\",\"\",Limits_Details!$B194)","v":""},{"$f":"IF(Limits_Details!$C194=\"\",\"\",Limits_Details!$C194)","v":""},"",{"$f":"IF(COUNTIF(V$2:V172,V172)=1,V172,\"\")","v":""},"","",null,null,null,{"$f":"+IF(AH172=\"\",\"\",MAX(AC$1:AC171)+1)","v":""},{"$f":"IF(Limits_Details!$B194=\"\",\"\",Limits_Details!$B194)","v":""},{"$f":"IF(Limits_Details!$C194=\"\",\"\",Limits_Details!$C194)","v":""},{"$f":"IF(Limits_Details!$D194=\"\",\"\",Limits_Details!$D194)","v":""},"",{"$f":"IF(COUNTIF(AG$2:AG172,AG172)=1,AG172,\"\")","v":""},"","","",null,{"$f":"+IF(AR172=\"\",\"\",MAX(AM$1:AM171)+1)","v":""},{"$f":"IF(CEM_COM_CPMS_Detail!$B194=\"\",\"\",CEM_COM_CPMS_Detail!$B194)","v":""},{"$f":"IF(CEM_COM_CPMS_Detail!$C194=\"\",\"\",CEM_COM_CPMS_Detail!$C194)","v":""},{"$f":"IF(CEM_COM_CPMS_Detail!$D194=\"\",\"\",CEM_COM_CPMS_Detail!$D194)","v":""},"",{"$f":"IF(COUNTIF(AQ$2:AQ172,AQ172)=1,AQ172,\"\")","v":""},"","",""]
[{"$f":"+IF(D173=\"\",\"\",MAX(A$1:A172)+1)","v":""},{"$f":"IF(CEM_COM_CPMS_Identification!C195=\"\",\"\",CEM_COM_CPMS_Identification!C195)","v":""},"",{"$f":"IF(COUNTIF(B$2:B173,B173)=1,B173,\"\")","v":""},null,null,null,null,null,null,null,null,null,null,null,null,null,null,{"$f":"+IF(W173=\"\",\"\",MAX(S$1:S172)+1)","v":""},{"$f":"IF(Limits_Details!$B195=\"\",\"\",Limits_Details!$B195)","v":""},{"$f":"IF(Limits_Details!$C195=\"\",\"\",Limits_Details!$C195)","v":""},"",{"$f":"IF(COUNTIF(V$2:V173,V173)=1,V173,\"\")","v":""},"","",null,null,null,{"$f":"+IF(AH173=\"\",\"\",MAX(AC$1:AC172)+1)","v":""},{"$f":"IF(Limits_Details!$B195=\"\",\"\",Limits_Details!$B195)","v":""},{"$f":"IF(Limits_Details!$C195=\"\",\"\",Limits_Details!$C195)","v":""},{"$f":"IF(Limits_Details!$D195=\"\",\"\",Limits_Details!$D195)","v":""},"",{"$f":"IF(COUNTIF(AG$2:AG173,AG173)=1,AG173,\"\")","v":""},"","","",null,{"$f":"+IF(AR173=\"\",\"\",MAX(AM$1:AM172)+1)","v":""},{"$f":"IF(CEM_COM_CPMS_Detail!$B195=\"\",\"\",CEM_COM_CPMS_Detail!$B195)","v":""},{"$f":"IF(CEM_COM_CPMS_Detail!$C195=\"\",\"\",CEM_COM_CPMS_Detail!$C195)","v":""},{"$f":"IF(CEM_COM_CPMS_Detail!$D195=\"\",\"\",CEM_COM_CPMS_Detail!$D195)","v":""},"",{"$f":"IF(COUNTIF(AQ$2:AQ173,AQ173)=1,AQ173,\"\")","v":""},"","",""]
[{"$f":"+IF(D174=\"\",\"\",MAX(A$1:A173)+1)","v":""},{"$f":"IF(CEM_COM_CPMS_Identification!C196=\"\",\"\",CEM_COM_CPMS_Identification!C196)","v":""},"",{"$f":"IF(COUNTIF(B$2:B174,B174)=1,B174,\"\")","v":""},null,null,null,null,null,null,null,null,null,null,null,null,null,null,{"$f":"+IF(W174=\"\",\"\",MAX(S$1:S173)+1)","v":""},{"$f":"IF(Limits_Details!$B196=\"\",\"\",Limits_Details!$B196)","v":""},{"$f":"IF(Limits_Details!$C196=\"\",\"\",Limits_Details!$C196)","v":""},"",{"$f":"IF(COUNTIF(V$2:V174,V174)=1,V174,\"\")","v":""},"","",null,null,null,{"$f":"+IF(AH174=\"\",\"\",MAX(AC$1:AC173)+1)","v":""},{"$f":"IF(Limits_Details!$B196=\"\",\"\",Limits_Details!$B196)","v":""},{"$f":"IF(Limits_Details!$C196=\"\",\"\",Limits_Details!$C196)","v":""},{"$f":"IF(Limits_Details!$D196=\"\",\"\",Limits_Details!$D196)","v":""},"",{"$f":"IF(COUNTIF(AG$2:AG174,AG174)=1,AG174,\"\")","v":""},"","","",null,{"$f":"+IF(AR174=\"\",\"\",MAX(AM$1:AM173)+1)","v":""},{"$f":"IF(CEM_COM_CPMS_Detail!$B196=\"\",\"\",CEM_COM_CPMS_Detail!$B196)","v":""},{"$f":"IF(CEM_COM_CPMS_Detail!$C196=\"\",\"\",CEM_COM_CPMS_Detail!$C196)","v":""},{"$f":"IF(CEM_COM_CPMS_Detail!$D196=\"\",\"\",CEM_COM_CPMS_Detail!$D196)","v":""},"",{"$f":"IF(COUNTIF(AQ$2:AQ174,AQ174)=1,AQ174,\"\")","v":""},"","",""]
[{"$f":"+IF(D175=\"\",\"\",MAX(A$1:A174)+1)","v":""},{"$f":"IF(CEM_COM_CPMS_Identification!C197=\"\",\"\",CEM_COM_CPMS_Identification!C197)","v":""},"",{"$f":"IF(COUNTIF(B$2:B175,B175)=1,B175,\"\")","v":""},null,null,null,null,null,null,null,null,null,null,null,null,null,null,{"$f":"+IF(W175=\"\",\"\",MAX(S$1:S174)+1)","v":""},{"$f":"IF(Limits_Details!$B197=\"\",\"\",Limits_Details!$B197)","v":""},{"$f":"IF(Limits_Details!$C197=\"\",\"\",Limits_Details!$C197)","v":""},"",{"$f":"IF(COUNTIF(V$2:V175,V175)=1,V175,\"\")","v":""},"","",null,null,null,{"$f":"+IF(AH175=\"\",\"\",MAX(AC$1:AC174)+1)","v":""},{"$f":"IF(Limits_Details!$B197=\"\",\"\",Limits_Details!$B197)","v":""},{"$f":"IF(Limits_Details!$C197=\"\",\"\",Limits_Details!$C197)","v":""},{"$f":"IF(Limits_Details!$D197=\"\",\"\",Limits_Details!$D197)","v":""},"",{"$f":"IF(COUNTIF(AG$2:AG175,AG175)=1,AG175,\"\")","v":""},"","","",null,{"$f":"+IF(AR175=\"\",\"\",MAX(AM$1:AM174)+1)","v":""},{"$f":"IF(CEM_COM_CPMS_Detail!$B197=\"\",\"\",CEM_COM_CPMS_Detail!$B197)","v":""},{"$f":"IF(CEM_COM_CPMS_Detail!$C197=\"\",\"\",CEM_COM_CPMS_Detail!$C197)","v":""},{"$f":"IF(CEM_COM_CPMS_Detail!$D197=\"\",\"\",CEM_COM_CPMS_Detail!$D197)","v":""},"",{"$f":"IF(COUNTIF(AQ$2:AQ175,AQ175)=1,AQ175,\"\")","v":""},"","",""]
[{"$f":"+IF(D176=\"\",\"\",MAX(A$1:A175)+1)","v":""},{"$f":"IF(CEM_COM_CPMS_Identification!C198=\"\",\"\",CEM_COM_CPMS_Identification!C198)","v":""},"",{"$f":"IF(COUNTIF(B$2:B176,B176)=1,B176,\"\")","v":""},null,null,null,null,null,null,null,null,null,null,null,null,null,null,{"$f":"+IF(W176=\"\",\"\",MAX(S$1:S175)+1)","v":""},{"$f":"IF(Limits_Details!$B198=\"\",\"\",Limits_Details!$B198)","v":""},{"$f":"IF(Limits_Details!$C198=\"\",\"\",Limits_Details!$C198)","v":""},"",{"$f":"IF(COUNTIF(V$2:V176,V176)=1,V176,\"\")","v":""},"","",null,null,null,{"$f":"+IF(AH176=\"\",\"\",MAX(AC$1:AC175)+1)","v":""},{"$f":"IF(Limits_Details!$B198=\"\",\"\",Limits_Details!$B198)","v":""},{"$f":"IF(Limits_Details!$C198=\"\",\"\",Limits_Details!$C198)","v":""},{"$f":"IF(Limits_Details!$D198=\"\",\"\",Limits_Details!$D198)","v":""},"",{"$f":"IF(COUNTIF(AG$2:AG176,AG176)=1,AG176,\"\")","v":""},"","","",null,{"$f":"+IF(AR176=\"\",\"\",MAX(AM$1:AM175)+1)","v":""},{"$f":"IF(CEM_COM_CPMS_Detail!$B198=\"\",\"\",CEM_COM_CPMS_Detail!$B198)","v":""},{"$f":"IF(CEM_COM_CPMS_Detail!$C198=\"\",\"\",CEM_COM_CPMS_Detail!$C198)","v":""},{"$f":"IF(CEM_COM_CPMS_Detail!$D198=\"\",\"\",CEM_COM_CPMS_Detail!$D198)","v":""},"",{"$f":"IF(COUNTIF(AQ$2:AQ176,AQ176)=1,AQ176,\"\")","v":""},"","",""]
[{"$f":"+IF(D177=\"\",\"\",MAX(A$1:A176)+1)","v":""},{"$f":"IF(CEM_COM_CPMS_Identification!C199=\"\",\"\",CEM_COM_CPMS_Identification!C199)","v":""},"",{"$f":"IF(COUNTIF(B$2:B177,B177)=1,B177,\"\")","v":""},null,null,null,null,null,null,null,null,null,null,null,null,null,null,{"$f":"+IF(W177=\"\",\"\",MAX(S$1:S176)+1)","v":""},{"$f":"IF(Limits_Details!$B199=\"\",\"\",Limits_Details!$B199)","v":""},{"$f":"IF(Limits_Details!$C199=\"\",\"\",Limits_Details!$C199)","v":""},"",{"$f":"IF(COUNTIF(V$2:V177,V177)=1,V177,\"\")","v":""},"","",null,null,null,{"$f":"+IF(AH177=\"\",\"\",MAX(AC$1:AC176)+1)","v":""},{"$f":"IF(Limits_Details!$B199=\"\",\"\",Limits_Details!$B199)","v":""},{"$f":"IF(Limits_Details!$C199=\"\",\"\",Limits_Details!$C199)","v":""},{"$f":"IF(Limits_Details!$D199=\"\",\"\",Limits_Details!$D199)","v":""},"",{"$f":"IF(COUNTIF(AG$2:AG177,AG177)=1,AG177,\"\")","v":""},"","","",null,{"$f":"+IF(AR177=\"\",\"\",MAX(AM$1:AM176)+1)","v":""},{"$f":"IF(CEM_COM_CPMS_Detail!$B199=\"\",\"\",CEM_COM_CPMS_Detail!$B199)","v":""},{"$f":"IF(CEM_COM_CPMS_Detail!$C199=\"\",\"\",CEM_COM_CPMS_Detail!$C199)","v":""},{"$f":"IF(CEM_COM_CPMS_Detail!$D199=\"\",\"\",CEM_COM_CPMS_Detail!$D199)","v":""},"",{"$f":"IF(COUNTIF(AQ$2:AQ177,AQ177)=1,AQ177,\"\")","v":""},"","",""]
[{"$f":"+IF(D178=\"\",\"\",MAX(A$1:A177)+1)","v":""},{"$f":"IF(CEM_COM_CPMS_Identification!C200=\"\",\"\",CEM_COM_CPMS_Identification!C200)","v":""},"",{"$f":"IF(COUNTIF(B$2:B178,B178)=1,B178,\"\")","v":""},null,null,null,null,null,null,null,null,null,null,null,null,null,null,{"$f":"+IF(W178=\"\",\"\",MAX(S$1:S177)+1)","v":""},{"$f":"IF(Limits_Details!$B200=\"\",\"\",Limits_Details!$B200)","v":""},{"$f":"IF(Limits_Details!$C200=\"\",\"\",Limits_Details!$C200)","v":""},"",{"$f":"IF(COUNTIF(V$2:V178,V178)=1,V178,\"\")","v":""},"","",null,null,null,{"$f":"+IF(AH178=\"\",\"\",MAX(AC$1:AC177)+1)","v":""},{"$f":"IF(Limits_Details!$B200=\"\",\"\",Limits_Details!$B200)","v":""},{"$f":"IF(Limits_Details!$C200=\"\",\"\",Limits_Details!$C200)","v":""},{"$f":"IF(Limits_Details!$D200=\"\",\"\",Limits_Details!$D200)","v":""},"",{"$f":"IF(COUNTIF(AG$2:AG178,AG178)=1,AG178,\"\")","v":""},"","","",null,{"$f":"+IF(AR178=\"\",\"\",MAX(AM$1:AM177)+1)","v":""},{"$f":"IF(CEM_COM_CPMS_Detail!$B200=\"\",\"\",CEM_COM_CPMS_Detail!$B200)","v":""},{"$f":"IF(CEM_COM_CPMS_Detail!$C200=\"\",\"\",CEM_COM_CPMS_Detail!$C200)","v":""},{"$f":"IF(CEM_COM_CPMS_Detail!$D200=\"\",\"\",CEM_COM_CPMS_Detail!$D200)","v":""},"",{"$f":"IF(COUNTIF(AQ$2:AQ178,AQ178)=1,AQ178,\"\")","v":""},"","",""]
[{"$f":"+IF(D179=\"\",\"\",MAX(A$1:A178)+1)","v":""},{"$f":"IF(CEM_COM_CPMS_Identification!C201=\"\",\"\",CEM_COM_CPMS_Identification!C201)","v":""},"",{"$f":"IF(COUNTIF(B$2:B179,B179)=1,B179,\"\")","v":""},null,null,null,null,null,null,null,null,null,null,null,null,null,null,{"$f":"+IF(W179=\"\",\"\",MAX(S$1:S178)+1)","v":""},{"$f":"IF(Limits_Details!$B201=\"\",\"\",Limits_Details!$B201)","v":""},{"$f":"IF(Limits_Details!$C201=\"\",\"\",Limits_Details!$C201)","v":""},"",{"$f":"IF(COUNTIF(V$2:V179,V179)=1,V179,\"\")","v":""},"","",null,null,null,{"$f":"+IF(AH179=\"\",\"\",MAX(AC$1:AC178)+1)","v":""},{"$f":"IF(Limits_Details!$B201=\"\",\"\",Limits_Details!$B201)","v":""},{"$f":"IF(Limits_Details!$C201=\"\",\"\",Limits_Details!$C201)","v":""},{"$f":"IF(Limits_Details!$D201=\"\",\"\",Limits_Details!$D201)","v":""},"",{"$f":"IF(COUNTIF(AG$2:AG179,AG179)=1,AG179,\"\")","v":""},"","","",null,{"$f":"+IF(AR179=\"\",\"\",MAX(AM$1:AM178)+1)","v":""},{"$f":"IF(CEM_COM_CPMS_Detail!$B201=\"\",\"\",CEM_COM_CPMS_Detail!$B201)","v":""},{"$f":"IF(CEM_COM_CPMS_Detail!$C201=\"\",\"\",CEM_COM_CPMS_Detail!$C201)","v":""},{"$f":"IF(CEM_COM_CPMS_Detail!$D201=\"\",\"\",CEM_COM_CPMS_Detail!$D201)","v":""},"",{"$f":"IF(COUNTIF(AQ$2:AQ179,AQ179)=1,AQ179,\"\")","v":""},"","",""]
[{"$f":"+IF(D180=\"\",\"\",MAX(A$1:A179)+1)","v":""},{"$f":"IF(CEM_COM_CPMS_Identification!C202=\"\",\"\",CEM_COM_CPMS_Identification!C202)","v":""},"",{"$f":"IF(COUNTIF(B$2:B180,B180)=1,B180,\"\")","v":""},null,null,null,null,null,null,null,null,null,null,null,null,null,null,{"$f":"+IF(W180=\"\",\"\",MAX(S$1:S179)+1)","v":""},{"$f":"IF(Limits_Details!$B202=\"\",\"\",Limits_Details!$B202)","v":""},{"$f":"IF(Limits_Details!$C202=\"\",\"\",Limits_Details!$C202)","v":""},"",{"$f":"IF(COUNTIF(V$2:V180,V180)=1,V180,\"\")","v":""},"","",null,null,null,{"$f":"+IF(AH180=\"\",\"\",MAX(AC$1:AC179)+1)","v":""},{"$f":"IF(Limits_Details!$B202=\"\",\"\",Limits_Details!$B202)","v":""},{"$f":"IF(Limits_Details!$C202=\"\",\"\",Limits_Details!$C202)","v":""},{"$f":"IF(Limits_Details!$D202=\"\",\"\",Limits_Details!$D202)","v":""},"",{"$f":"IF(COUNTIF(AG$2:AG180,AG180)=1,AG180,\"\")","v":""},"","","",null,{"$f":"+IF(AR180=\"\",\"\",MAX(AM$1:AM179)+1)","v":""},{"$f":"IF(CEM_COM_CPMS_Detail!$B202=\"\",\"\",CEM_COM_CPMS_Detail!$B202)","v":""},{"$f":"IF(CEM_COM_CPMS_Detail!$C202=\"\",\"\",CEM_COM_CPMS_Detail!$C202)","v":""},{"$f":"IF(CEM_COM_CPMS_Detail!$D202=\"\",\"\",CEM_COM_CPMS_Detail!$D202)","v":""},"",{"$f":"IF(COUNTIF(AQ$2:AQ180,AQ180)=1,AQ180,\"\")","v":""},"","",""]
[{"$f":"+IF(D181=\"\",\"\",MAX(A$1:A180)+1)","v":""},{"$f":"IF(CEM_COM_CPMS_Identification!C203=\"\",\"\",CEM_COM_CPMS_Identification!C203)","v":""},"",{"$f":"IF(COUNTIF(B$2:B181,B181)=1,B181,\"\")","v":""},null,null,null,null,null,null,null,null,null,null,null,null,null,null,{"$f":"+IF(W181=\"\",\"\",MAX(S$1:S180)+1)","v":""},{"$f":"IF(Limits_Details!$B203=\"\",\"\",Limits_Details!$B203)","v":""},{"$f":"IF(Limits_Details!$C203=\"\",\"\",Limits_Details!$C203)","v":""},"",{"$f":"IF(COUNTIF(V$2:V181,V181)=1,V181,\"\")","v":""},"","",null,null,null,{"$f":"+IF(AH181=\"\",\"\",MAX(AC$1:AC180)+1)","v":""},{"$f":"IF(Limits_Details!$B203=\"\",\"\",Limits_Details!$B203)","v":""},{"$f":"IF(Limits_Details!$C203=\"\",\"\",Limits_Details!$C203)","v":""},{"$f":"IF(Limits_Details!$D203=\"\",\"\",Limits_Details!$D203)","v":""},"",{"$f":"IF(COUNTIF(AG$2:AG181,AG181)=1,AG181,\"\")","v":""},"","","",null,{"$f":"+IF(AR181=\"\",\"\",MAX(AM$1:AM180)+1)","v":""},{"$f":"IF(CEM_COM_CPMS_Detail!$B203=\"\",\"\",CEM_COM_CPMS_Detail!$B203)","v":""},{"$f":"IF(CEM_COM_CPMS_Detail!$C203=\"\",\"\",CEM_COM_CPMS_Detail!$C203)","v":""},{"$f":"IF(CEM_COM_CPMS_Detail!$D203=\"\",\"\",CEM_COM_CPMS_Detail!$D203)","v":""},"",{"$f":"IF(COUNTIF(AQ$2:AQ181,AQ181)=1,AQ181,\"\")","v":""},"","",""]
[{"$f":"+IF(D182=\"\",\"\",MAX(A$1:A181)+1)","v":""},{"$f":"IF(CEM_COM_CPMS_Identification!C204=\"\",\"\",CEM_COM_CPMS_Identification!C204)","v":""},"",{"$f":"IF(COUNTIF(B$2:B182,B182)=1,B182,\"\")","v":""},null,null,null,null,null,null,null,null,null,null,null,null,null,null,{"$f":"+IF(W182=\"\",\"\",MAX(S$1:S181)+1)","v":""},{"$f":"IF(Limits_Details!$B204=\"\",\"\",Limits_Details!$B204)","v":""},{"$f":"IF(Limits_Details!$C204=\"\",\"\",Limits_Details!$C204)","v":""},"",{"$f":"IF(COUNTIF(V$2:V182,V182)=1,V182,\"\")","v":""},"","",null,null,null,{"$f":"+IF(AH182=\"\",\"\",MAX(AC$1:AC181)+1)","v":""},{"$f":"IF(Limits_Details!$B204=\"\",\"\",Limits_Details!$B204)","v":""},{"$f":"IF(Limits_Details!$C204=\"\",\"\",Limits_Details!$C204)","v":""},{"$f":"IF(Limits_Details!$D204=\"\",\"\",Limits_Details!$D204)","v":""},"",{"$f":"IF(COUNTIF(AG$2:AG182,AG182)=1,AG182,\"\")","v":""},"","","",null,{"$f":"+IF(AR182=\"\",\"\",MAX(AM$1:AM181)+1)","v":""},{"$f":"IF(CEM_COM_CPMS_Detail!$B204=\"\",\"\",CEM_COM_CPMS_Detail!$B204)","v":""},{"$f":"IF(CEM_COM_CPMS_Detail!$C204=\"\",\"\",CEM_COM_CPMS_Detail!$C204)","v":""},{"$f":"IF(CEM_COM_CPMS_Detail!$D204=\"\",\"\",CEM_COM_CPMS_Detail!$D204)","v":""},"",{"$f":"IF(COUNTIF(AQ$2:AQ182,AQ182)=1,AQ182,\"\")","v":""},"","",""]
[{"$f":"+IF(D183=\"\",\"\",MAX(A$1:A182)+1)","v":""},{"$f":"IF(CEM_COM_CPMS_Identification!C205=\"\",\"\",CEM_COM_CPMS_Identification!C205)","v":""},"",{"$f":"IF(COUNTIF(B$2:B183,B183)=1,B183,\"\")","v":""},null,null,null,null,null,null,null,null,null,null,null,null,null,null,{"$f":"+IF(W183=\"\",\"\",MAX(S$1:S182)+1)","v":""},{"$f":"IF(Limits_Details!$B205=\"\",\"\",Limits_Details!$B205)","v":""},{"$f":"IF(Limits_Details!$C205=\"\",\"\",Limits_Details!$C205)","v":""},"",{"$f":"IF(COUNTIF(V$2:V183,V183)=1,V183,\"\")","v":""},"","",null,null,null,{"$f":"+IF(AH183=\"\",\"\",MAX(AC$1:AC182)+1)","v":""},{"$f":"IF(Limits_Details!$B205=\"\",\"\",Limits_Details!$B205)","v":""},{"$f":"IF(Limits_Details!$C205=\"\",\"\",Limits_Details!$C205)","v":""},{"$f":"IF(Limits_Details!$D205=\"\",\"\",Limits_Details!$D205)","v":""},"",{"$f":"IF(COUNTIF(AG$2:AG183,AG183)=1,AG183,\"\")","v":""},"","","",null,{"$f":"+IF(AR183=\"\",\"\",MAX(AM$1:AM182)+1)","v":""},{"$f":"IF(CEM_COM_CPMS_Detail!$B205=\"\",\"\",CEM_COM_CPMS_Detail!$B205)","v":""},{"$f":"IF(CEM_COM_CPMS_Detail!$C205=\"\",\"\",CEM_COM_CPMS_Detail!$C205)","v":""},{"$f":"IF(CEM_COM_CPMS_Detail!$D205=\"\",\"\",CEM_COM_CPMS_Detail!$D205)","v":""},"",{"$f":"IF(COUNTIF(AQ$2:AQ183,AQ183)=1,AQ183,\"\")","v":""},"","",""]
[{"$f":"+IF(D184=\"\",\"\",MAX(A$1:A183)+1)","v":""},{"$f":"IF(CEM_COM_CPMS_Identification!C206=\"\",\"\",CEM_COM_CPMS_Identification!C206)","v":""},"",{"$f":"IF(COUNTIF(B$2:B184,B184)=1,B184,\"\")","v":""},null,null,null,null,null,null,null,null,null,null,null,null,null,null,{"$f":"+IF(W184=\"\",\"\",MAX(S$1:S183)+1)","v":""},{"$f":"IF(Limits_Details!$B206=\"\",\"\",Limits_Details!$B206)","v":""},{"$f":"IF(Limits_Details!$C206=\"\",\"\",Limits_Details!$C206)","v":""},"",{"$f":"IF(COUNTIF(V$2:V184,V184)=1,V184,\"\")","v":""},"","",null,null,null,{"$f":"+IF(AH184=\"\",\"\",MAX(AC$1:AC183)+1)","v":""},{"$f":"IF(Limits_Details!$B206=\"\",\"\",Limits_Details!$B206)","v":""},{"$f":"IF(Limits_Details!$C206=\"\",\"\",Limits_Details!$C206)","v":""},{"$f":"IF(Limits_Details!$D206=\"\",\"\",Limits_Details!$D206)","v":""},"",{"$f":"IF(COUNTIF(AG$2:AG184,AG184)=1,AG184,\"\")","v":""},"","","",null,{"$f":"+IF(AR184=\"\",\"\",MAX(AM$1:AM183)+1)","v":""},{"$f":"IF(CEM_COM_CPMS_Detail!$B206=\"\",\"\",CEM_COM_CPMS_Detail!$B206)","v":""},{"$f":"IF(CEM_COM_CPMS_Detail!$C206=\"\",\"\",CEM_COM_CPMS_Detail!$C206)","v":""},{"$f":"IF(CEM_COM_CPMS_Detail!$D206=\"\",\"\",CEM_COM_CPMS_Detail!$D206)","v":""},"",{"$f":"IF(COUNTIF(AQ$2:AQ184,AQ184)=1,AQ184,\"\")","v":""},"","",""]
[{"$f":"+IF(D185=\"\",\"\",MAX(A$1:A184)+1)","v":""},{"$f":"IF(CEM_COM_CPMS_Identification!C207=\"\",\"\",CEM_COM_CPMS_Identification!C207)","v":""},"",{"$f":"IF(COUNTIF(B$2:B185,B185)=1,B185,\"\")","v":""},null,null,null,null,null,null,null,null,null,null,null,null,null,null,{"$f":"+IF(W185=\"\",\"\",MAX(S$1:S184)+1)","v":""},{"$f":"IF(Limits_Details!$B207=\"\",\"\",Limits_Details!$B207)","v":""},{"$f":"IF(Limits_Details!$C207=\"\",\"\",Limits_Details!$C207)","v":""},"",{"$f":"IF(COUNTIF(V$2:V185,V185)=1,V185,\"\")","v":""},"","",null,null,null,{"$f":"+IF(AH185=\"\",\"\",MAX(AC$1:AC184)+1)","v":""},{"$f":"IF(Limits_Details!$B207=\"\",\"\",Limits_Details!$B207)","v":""},{"$f":"IF(Limits_Details!$C207=\"\",\"\",Limits_Details!$C207)","v":""},{"$f":"IF(Limits_Details!$D207=\"\",\"\",Limits_Details!$D207)","v":""},"",{"$f":"IF(COUNTIF(AG$2:AG185,AG185)=1,AG185,\"\")","v":""},"","","",null,{"$f":"+IF(AR185=\"\",\"\",MAX(AM$1:AM184)+1)","v":""},{"$f":"IF(CEM_COM_CPMS_Detail!$B207=\"\",\"\",CEM_COM_CPMS_Detail!$B207)","v":""},{"$f":"IF(CEM_COM_CPMS_Detail!$C207=\"\",\"\",CEM_COM_CPMS_Detail!$C207)","v":""},{"$f":"IF(CEM_COM_CPMS_Detail!$D207=\"\",\"\",CEM_COM_CPMS_Detail!$D207)","v":""},"",{"$f":"IF(COUNTIF(AQ$2:AQ185,AQ185)=1,AQ185,\"\")","v":""},"","",""]
[{"$f":"+IF(D186=\"\",\"\",MAX(A$1:A185)+1)","v":""},{"$f":"IF(CEM_COM_CPMS_Identification!C208=\"\",\"\",CEM_COM_CPMS_Identification!C208)","v":""},"",{"$f":"IF(COUNTIF(B$2:B186,B186)=1,B186,\"\")","v":""},null,null,null,null,null,null,null,null,null,null,null,null,null,null,{"$f":"+IF(W186=\"\",\"\",MAX(S$1:S185)+1)","v":""},{"$f":"IF(Limits_Details!$B208=\"\",\"\",Limits_Details!$B208)","v":""},{"$f":"IF(Limits_Details!$C208=\"\",\"\",Limits_Details!$C208)","v":""},"",{"$f":"IF(COUNTIF(V$2:V186,V186)=1,V186,\"\")","v":""},"","",null,null,null,{"$f":"+IF(AH186=\"\",\"\",MAX(AC$1:AC185)+1)","v":""},{"$f":"IF(Limits_Details!$B208=\"\",\"\",Limits_Details!$B208)","v":""},{"$f":"IF(Limits_Details!$C208=\"\",\"\",Limits_Details!$C208)","v":""},{"$f":"IF(Limits_Details!$D208=\"\",\"\",Limits_Details!$D208)","v":""},"",{"$f":"IF(COUNTIF(AG$2:AG186,AG186)=1,AG186,\"\")","v":""},"","","",null,{"$f":"+IF(AR186=\"\",\"\",MAX(AM$1:AM185)+1)","v":""},{"$f":"IF(CEM_COM_CPMS_Detail!$B208=\"\",\"\",CEM_COM_CPMS_Detail!$B208)","v":""},{"$f":"IF(CEM_COM_CPMS_Detail!$C208=\"\",\"\",CEM_COM_CPMS_Detail!$C208)","v":""},{"$f":"IF(CEM_COM_CPMS_Detail!$D208=\"\",\"\",CEM_COM_CPMS_Detail!$D208)","v":""},"",{"$f":"IF(COUNTIF(AQ$2:AQ186,AQ186)=1,AQ186,\"\")","v":""},"","",""]
[{"$f":"+IF(D187=\"\",\"\",MAX(A$1:A186)+1)","v":""},{"$f":"IF(CEM_COM_CPMS_Identification!C209=\"\",\"\",CEM_COM_CPMS_Identification!C209)","v":""},"",{"$f":"IF(COUNTIF(B$2:B187,B187)=1,B187,\"\")","v":""},null,null,null,null,null,null,null,null,null,null,null,null,null,null,{"$f":"+IF(W187=\"\",\"\",MAX(S$1:S186)+1)","v":""},{"$f":"IF(Limits_Details!$B209=\"\",\"\",Limits_Details!$B209)","v":""},{"$f":"IF(Limits_Details!$C209=\"\",\"\",Limits_Details!$C209)","v":""},"",{"$f":"IF(COUNTIF(V$2:V187,V187)=1,V187,\"\")","v":""},"","",null,null,null,{"$f":"+IF(AH187=\"\",\"\",MAX(AC$1:AC186)+1)","v":""},{"$f":"IF(Limits_Details!$B209=\"\",\"\",Limits_Details!$B209)","v":""},{"$f":"IF(Limits_Details!$C209=\"\",\"\",Limits_Details!$C209)","v":""},{"$f":"IF(Limits_Details!$D209=\"\",\"\",Limits_Details!$D209)","v":""},"",{"$f":"IF(COUNTIF(AG$2:AG187,AG187)=1,AG187,\"\")","v":""},"","","",null,{"$f":"+IF(AR187=\"\",\"\",MAX(AM$1:AM186)+1)","v":""},{"$f":"IF(CEM_COM_CPMS_Detail!$B209=\"\",\"\",CEM_COM_CPMS_Detail!$B209)","v":""},{"$f":"IF(CEM_COM_CPMS_Detail!$C209=\"\",\"\",CEM_COM_CPMS_Detail!$C209)","v":""},{"$f":"IF(CEM_COM_CPMS_Detail!$D209=\"\",\"\",CEM_COM_CPMS_Detail!$D209)","v":""},"",{"$f":"IF(COUNTIF(AQ$2:AQ187,AQ187)=1,AQ187,\"\")","v":""},"","",""]
[{"$f":"+IF(D188=\"\",\"\",MAX(A$1:A187)+1)","v":""},{"$f":"IF(CEM_COM_CPMS_Identification!C210=\"\",\"\",CEM_COM_CPMS_Identification!C210)","v":""},"",{"$f":"IF(COUNTIF(B$2:B188,B188)=1,B188,\"\")","v":""},null,null,null,null,null,null,null,null,null,null,null,null,null,null,{"$f":"+IF(W188=\"\",\"\",MAX(S$1:S187)+1)","v":""},{"$f":"IF(Limits_Details!$B210=\"\",\"\",Limits_Details!$B210)","v":""},{"$f":"IF(Limits_Details!$C210=\"\",\"\",Limits_Details!$C210)","v":""},"",{"$f":"IF(COUNTIF(V$2:V188,V188)=1,V188,\"\")","v":""},"","",null,null,null,{"$f":"+IF(AH188=\"\",\"\",MAX(AC$1:AC187)+1)","v":""},{"$f":"IF(Limits_Details!$B210=\"\",\"\",Limits_Details!$B210)","v":""},{"$f":"IF(Limits_Details!$C210=\"\",\"\",Limits_Details!$C210)","v":""},{"$f":"IF(Limits_Details!$D210=\"\",\"\",Limits_Details!$D210)","v":""},"",{"$f":"IF(COUNTIF(AG$2:AG188,AG188)=1,AG188,\"\")","v":""},"","","",null,{"$f":"+IF(AR188=\"\",\"\",MAX(AM$1:AM187)+1)","v":""},{"$f":"IF(CEM_COM_CPMS_Detail!$B210=\"\",\"\",CEM_COM_CPMS_Detail!$B210)","v":""},{"$f":"IF(CEM_COM_CPMS_Detail!$C210=\"\",\"\",CEM_COM_CPMS_Detail!$C210)","v":""},{"$f":"IF(CEM_COM_CPMS_Detail!$D210=\"\",\"\",CEM_COM_CPMS_Detail!$D210)","v":""},"",{"$f":"IF(COUNTIF(AQ$2:AQ188,AQ188)=1,AQ188,\"\")","v":""},"","",""]
[{"$f":"+IF(D189=\"\",\"\",MAX(A$1:A188)+1)","v":""},{"$f":"IF(CEM_COM_CPMS_Identification!C211=\"\",\"\",CEM_COM_CPMS_Identification!C211)","v":""},"",{"$f":"IF(COUNTIF(B$2:B189,B189)=1,B189,\"\")","v":""},null,null,null,null,null,null,null,null,null,null,null,null,null,null,{"$f":"+IF(W189=\"\",\"\",MAX(S$1:S188)+1)","v":""},{"$f":"IF(Limits_Details!$B211=\"\",\"\",Limits_Details!$B211)","v":""},{"$f":"IF(Limits_Details!$C211=\"\",\"\",Limits_Details!$C211)","v":""},"",{"$f":"IF(COUNTIF(V$2:V189,V189)=1,V189,\"\")","v":""},"","",null,null,null,{"$f":"+IF(AH189=\"\",\"\",MAX(AC$1:AC188)+1)","v":""},{"$f":"IF(Limits_Details!$B211=\"\",\"\",Limits_Details!$B211)","v":""},{"$f":"IF(Limits_Details!$C211=\"\",\"\",Limits_Details!$C211)","v":""},{"$f":"IF(Limits_Details!$D211=\"\",\"\",Limits_Details!$D211)","v":""},"",{"$f":"IF(COUNTIF(AG$2:AG189,AG189)=1,AG189,\"\")","v":""},"","","",null,{"$f":"+IF(AR189=\"\",\"\",MAX(AM$1:AM188)+1)","v":""},{"$f":"IF(CEM_COM_CPMS_Detail!$B211=\"\",\"\",CEM_COM_CPMS_Detail!$B211)","v":""},{"$f":"IF(CEM_COM_CPMS_Detail!$C211=\"\",\"\",CEM_COM_CPMS_Detail!$C211)","v":""},{"$f":"IF(CEM_COM_CPMS_Detail!$D211=\"\",\"\",CEM_COM_CPMS_Detail!$D211)","v":""},"",{"$f":"IF(COUNTIF(AQ$2:AQ189,AQ189)=1,AQ189,\"\")","v":""},"","",""]
[{"$f":"+IF(D190=\"\",\"\",MAX(A$1:A189)+1)","v":""},{"$f":"IF(CEM_COM_CPMS_Identification!C212=\"\",\"\",CEM_COM_CPMS_Identification!C212)","v":""},"",{"$f":"IF(COUNTIF(B$2:B190,B190)=1,B190,\"\")","v":""},null,null,null,null,null,null,null,null,null,null,null,null,null,null,{"$f":"+IF(W190=\"\",\"\",MAX(S$1:S189)+1)","v":""},{"$f":"IF(Limits_Details!$B212=\"\",\"\",Limits_Details!$B212)","v":""},{"$f":"IF(Limits_Details!$C212=\"\",\"\",Limits_Details!$C212)","v":""},"",{"$f":"IF(COUNTIF(V$2:V190,V190)=1,V190,\"\")","v":""},"","",null,null,null,{"$f":"+IF(AH190=\"\",\"\",MAX(AC$1:AC189)+1)","v":""},{"$f":"IF(Limits_Details!$B212=\"\",\"\",Limits_Details!$B212)","v":""},{"$f":"IF(Limits_Details!$C212=\"\",\"\",Limits_Details!$C212)","v":""},{"$f":"IF(Limits_Details!$D212=\"\",\"\",Limits_Details!$D212)","v":""},"",{"$f":"IF(COUNTIF(AG$2:AG190,AG190)=1,AG190,\"\")","v":""},"","","",null,{"$f":"+IF(AR190=\"\",\"\",MAX(AM$1:AM189)+1)","v":""},{"$f":"IF(CEM_COM_CPMS_Detail!$B212=\"\",\"\",CEM_COM_CPMS_Detail!$B212)","v":""},{"$f":"IF(CEM_COM_CPMS_Detail!$C212=\"\",\"\",CEM_COM_CPMS_Detail!$C212)","v":""},{"$f":"IF(CEM_COM_CPMS_Detail!$D212=\"\",\"\",CEM_COM_CPMS_Detail!$D212)","v":""},"",{"$f":"IF(COUNTIF(AQ$2:AQ190,AQ190)=1,AQ190,\"\")","v":""},"","",""]
[{"$f":"+IF(D191=\"\",\"\",MAX(A$1:A190)+1)","v":""},{"$f":"IF(CEM_COM_CPMS_Identification!C213=\"\",\"\",CEM_COM_CPMS_Identification!C213)","v":""},"",{"$f":"IF(COUNTIF(B$2:B191,B191)=1,B191,\"\")","v":""},null,null,null,null,null,null,null,null,null,null,null,null,null,null,{"$f":"+IF(W191=\"\",\"\",MAX(S$1:S190)+1)","v":""},{"$f":"IF(Limits_Details!$B213=\"\",\"\",Limits_Details!$B213)","v":""},{"$f":"IF(Limits_Details!$C213=\"\",\"\",Limits_Details!$C213)","v":""},"",{"$f":"IF(COUNTIF(V$2:V191,V191)=1,V191,\"\")","v":""},"","",null,null,null,{"$f":"+IF(AH191=\"\",\"\",MAX(AC$1:AC190)+1)","v":""},{"$f":"IF(Limits_Details!$B213=\"\",\"\",Limits_Details!$B213)","v":""},{"$f":"IF(Limits_Details!$C213=\"\",\"\",Limits_Details!$C213)","v":""},{"$f":"IF(Limits_Details!$D213=\"\",\"\",Limits_Details!$D213)","v":""},"",{"$f":"IF(COUNTIF(AG$2:AG191,AG191)=1,AG191,\"\")","v":""},"","","",null,{"$f":"+IF(AR191=\"\",\"\",MAX(AM$1:AM190)+1)","v":""},{"$f":"IF(CEM_COM_CPMS_Detail!$B213=\"\",\"\",CEM_COM_CPMS_Detail!$B213)","v":""},{"$f":"IF(CEM_COM_CPMS_Detail!$C213=\"\",\"\",CEM_COM_CPMS_Detail!$C213)","v":""},{"$f":"IF(CEM_COM_CPMS_Detail!$D213=\"\",\"\",CEM_COM_CPMS_Detail!$D213)","v":""},"",{"$f":"IF(COUNTIF(AQ$2:AQ191,AQ191)=1,AQ191,\"\")","v":""},"","",""]
[{"$f":"+IF(D192=\"\",\"\",MAX(A$1:A191)+1)","v":""},{"$f":"IF(CEM_COM_CPMS_Identification!C214=\"\",\"\",CEM_COM_CPMS_Identification!C214)","v":""},"",{"$f":"IF(COUNTIF(B$2:B192,B192)=1,B192,\"\")","v":""},null,null,null,null,null,null,null,null,null,null,null,null,null,null,{"$f":"+IF(W192=\"\",\"\",MAX(S$1:S191)+1)","v":""},{"$f":"IF(Limits_Details!$B214=\"\",\"\",Limits_Details!$B214)","v":""},{"$f":"IF(Limits_Details!$C214=\"\",\"\",Limits_Details!$C214)","v":""},"",{"$f":"IF(COUNTIF(V$2:V192,V192)=1,V192,\"\")","v":""},"","",null,null,null,{"$f":"+IF(AH192=\"\",\"\",MAX(AC$1:AC191)+1)","v":""},{"$f":"IF(Limits_Details!$B214=\"\",\"\",Limits_Details!$B214)","v":""},{"$f":"IF(Limits_Details!$C214=\"\",\"\",Limits_Details!$C214)","v":""},{"$f":"IF(Limits_Details!$D214=\"\",\"\",Limits_Details!$D214)","v":""},"",{"$f":"IF(COUNTIF(AG$2:AG192,AG192)=1,AG192,\"\")","v":""},"","","",null,{"$f":"+IF(AR192=\"\",\"\",MAX(AM$1:AM191)+1)","v":""},{"$f":"IF(CEM_COM_CPMS_Detail!$B214=\"\",\"\",CEM_COM_CPMS_Detail!$B214)","v":""},{"$f":"IF(CEM_COM_CPMS_Detail!$C214=\"\",\"\",CEM_COM_CPMS_Detail!$C214)","v":""},{"$f":"IF(CEM_COM_CPMS_Detail!$D214=\"\",\"\",CEM_COM_CPMS_Detail!$D214)","v":""},"",{"$f":"IF(COUNTIF(AQ$2:AQ192,AQ192)=1,AQ192,\"\")","v":""},"","",""]
[{"$f":"+IF(D193=\"\",\"\",MAX(A$1:A192)+1)","v":""},{"$f":"IF(CEM_COM_CPMS_Identification!C215=\"\",\"\",CEM_COM_CPMS_Identification!C215)","v":""},"",{"$f":"IF(COUNTIF(B$2:B193,B193)=1,B193,\"\")","v":""},null,null,null,null,null,null,null,null,null,null,null,null,null,null,{"$f":"+IF(W193=\"\",\"\",MAX(S$1:S192)+1)","v":""},{"$f":"IF(Limits_Details!$B215=\"\",\"\",Limits_Details!$B215)","v":""},{"$f":"IF(Limits_Details!$C215=\"\",\"\",Limits_Details!$C215)","v":""},"",{"$f":"IF(COUNTIF(V$2:V193,V193)=1,V193,\"\")","v":""},"","",null,null,null,{"$f":"+IF(AH193=\"\",\"\",MAX(AC$1:AC192)+1)","v":""},{"$f":"IF(Limits_Details!$B215=\"\",\"\",Limits_Details!$B215)","v":""},{"$f":"IF(Limits_Details!$C215=\"\",\"\",Limits_Details!$C215)","v":""},{"$f":"IF(Limits_Details!$D215=\"\",\"\",Limits_Details!$D215)","v":""},"",{"$f":"IF(COUNTIF(AG$2:AG193,AG193)=1,AG193,\"\")","v":""},"","","",null,{"$f":"+IF(AR193=\"\",\"\",MAX(AM$1:AM192)+1)","v":""},{"$f":"IF(CEM_COM_CPMS_Detail!$B215=\"\",\"\",CEM_COM_CPMS_Detail!$B215)","v":""},{"$f":"IF(CEM_COM_CPMS_Detail!$C215=\"\",\"\",CEM_COM_CPMS_Detail!$C215)","v":""},{"$f":"IF(CEM_COM_CPMS_Detail!$D215=\"\",\"\",CEM_COM_CPMS_Detail!$D215)","v":""},"",{"$f":"IF(COUNTIF(AQ$2:AQ193,AQ193)=1,AQ193,\"\")","v":""},"","",""]
[{"$f":"+IF(D194=\"\",\"\",MAX(A$1:A193)+1)","v":""},{"$f":"IF(CEM_COM_CPMS_Identification!C216=\"\",\"\",CEM_COM_CPMS_Identification!C216)","v":""},{"$f":"+IFERROR(INDEX(B$2:B$501,MATCH(ROW()-ROW($C$1),A$2:A$501,0)),\"\")","v":""},{"$f":"IF(COUNTIF(B$2:B194,B194)=1,B194,\"\")","v":""},null,null,null,null,null,null,null,null,null,null,null,null,null,null,{"$f":"+IF(W194=\"\",\"\",MAX(S$1:S193)+1)","v":""},{"$f":"IF(Limits_Details!$B216=\"\",\"\",Limits_Details!$B216)","v":""},{"$f":"IF(Limits_Details!$C216=\"\",\"\",Limits_Details!$C216)","v":""},"",{"$f":"IF(COUNTIF(V$2:V194,V194)=1,V194,\"\")","v":""},{"$f":"+IFERROR(INDEX(T$2:T$955,MATCH(ROW()-ROW(X$1),S$2:S$955,0)),\"\")","v":""},{"$f":"+IFERROR(INDEX(U$2:U$955,MATCH(ROW()-ROW(X$1),S$2:S$955,0)),\"\")","v":""},null,null,null,{"$f":"+IF(AH194=\"\",\"\",MAX(AC$1:AC193)+1)","v":""},{"$f":"IF(Limits_Details!$B216=\"\",\"\",Limits_Details!$B216)","v":""},{"$f":"IF(Limits_Details!$C216=\"\",\"\",Limits_Details!$C216)","v":""},{"$f":"IF(Limits_Details!$D216=\"\",\"\",Limits_Details!$D216)","v":""},"",{"$f":"IF(COUNTIF(AG$2:AG194,AG194)=1,AG194,\"\")","v":""},"","","",null,{"$f":"+IF(AR194=\"\",\"\",MAX(AM$1:AM193)+1)","v":""},{"$f":"IF(CEM_COM_CPMS_Detail!$B216=\"\",\"\",CEM_COM_CPMS_Detail!$B216)","v":""},{"$f":"IF(CEM_COM_CPMS_Detail!$C216=\"\",\"\",CEM_COM_CPMS_Detail!$C216)","v":""},{"$f":"IF(CEM_COM_CPMS_Detail!$D216=\"\",\"\",CEM_COM_CPMS_Detail!$D216)","v":""},"",{"$f":"IF(COUNTIF(AQ$2:AQ194,AQ194)=1,AQ194,\"\")","v":""},"","",""]
[{"$f":"+IF(D195=\"\",\"\",MAX(A$1:A194)+1)","v":""},{"$f":"IF(CEM_COM_CPMS_Identification!C217=\"\",\"\",CEM_COM_CPMS_Identification!C217)","v":""},"",{"$f":"IF(COUNTIF(B$2:B195,B195)=1,B195,\"\")","v":""},null,null,null,null,null,null,null,null,null,null,null,null,null,null,{"$f":"+IF(W195=\"\",\"\",MAX(S$1:S194)+1)","v":""},{"$f":"IF(Limits_Details!$B217=\"\",\"\",Limits_Details!$B217)","v":""},{"$f":"IF(Limits_Details!$C217=\"\",\"\",Limits_Details!$C217)","v":""},{"$f":"T195&U195","v":""},{"$f":"IF(COUNTIF(V$2:V195,V195)=1,V195,\"\")","v":""},"","",null,null,null,{"$f":"+IF(AH195=\"\",\"\",MAX(AC$1:AC194)+1)","v":""},{"$f":"IF(Limits_Details!$B217=\"\",\"\",Limits_Details!$B217)","v":""},{"$f":"IF(Limits_Details!$C217=\"\",\"\",Limits_Details!$C217)","v":""},{"$f":"IF(Limits_Details!$D217=\"\",\"\",Limits_Details!$D217)","v":""},{"$f":"AD195&AE195&AF195","v":""},{"$f":"IF(COUNTIF(AG$2:AG195,AG195)=1,AG195,\"\")","v":""},{"$f":"+IFERROR(INDEX(AD$2:AD$955,MATCH(ROW()-ROW(AH$1),AC$2:AC$955,0)),\"\")","v":""},{"$f":"+IFERROR(INDEX(AE$2:AE$955,MATCH(ROW()-ROW(AH$1),AC$2:AC$955,0)),\"\")","v":""},{"$f":"+IFERROR(INDEX(AF$2:AF$955,MATCH(ROW()-ROW(AI$1),AC$2:AC$955,0)),\"\")","v":""},null,{"$f":"+IF(AR195=\"\",\"\",MAX(AM$1:AM194)+1)","v":""},{"$f":"IF(CEM_COM_CPMS_Detail!$B217=\"\",\"\",CEM_COM_CPMS_Detail!$B217)","v":""},{"$f":"IF(CEM_COM_CPMS_Detail!$C217=\"\",\"\",CEM_COM_CPMS_Detail!$C217)","v":""},{"$f":"IF(CEM_COM_CPMS_Detail!$D217=\"\",\"\",CEM_COM_CPMS_Detail!$D217)","v":""},{"$f":"AN195&AO195&AP195","v":""},{"$f":"IF(COUNTIF(AQ$2:AQ195,AQ195)=1,AQ195,\"\")","v":""},{"$f":"+IFERROR(INDEX(AN$2:AN$955,MATCH(ROW()-ROW(AR$1),AM$2:AM$955,0)),\"\")","v":""},{"$f":"+IFERROR(INDEX(AO$2:AO$955,MATCH(ROW()-ROW(AR$1),AM$2:AM$955,0)),\"\")","v":""},{"$f":"+IFERROR(INDEX(AP$2:AP$955,MATCH(ROW()-ROW(AS$1),AM$2:AM$955,0)),\"\")","v":""}]
[{"$f":"+IF(D196=\"\",\"\",MAX(A$1:A195)+1)","v":""},{"$f":"IF(CEM_COM_CPMS_Identification!C218=\"\",\"\",CEM_COM_CPMS_Identification!C218)","v":""},"",{"$f":"IF(COUNTIF(B$2:B196,B196)=1,B196,\"\")","v":""},null,null,null,null,null,null,null,null,null,null,null,null,null,null,{"$f":"+IF(W196=\"\",\"\",MAX(S$1:S195)+1)","v":""},{"$f":"IF(Limits_Details!$B218=\"\",\"\",Limits_Details!$B218)","v":""},{"$f":"IF(Limits_Details!$C218=\"\",\"\",Limits_Details!$C218)","v":""},"",{"$f":"IF(COUNTIF(V$2:V196,V196)=1,V196,\"\")","v":""},"","",null,null,null,{"$f":"+IF(AH196=\"\",\"\",MAX(AC$1:AC195)+1)","v":""},{"$f":"IF(Limits_Details!$B218=\"\",\"\",Limits_Details!$B218)","v":""},{"$f":"IF(Limits_Details!$C218=\"\",\"\",Limits_Details!$C218)","v":""},{"$f":"IF(Limits_Details!$D218=\"\",\"\",Limits_Details!$D218)","v":""},"",{"$f":"IF(COUNTIF(AG$2:AG196,AG196)=1,AG196,\"\")","v":""},"","","",null,{"$f":"+IF(AR196=\"\",\"\",MAX(AM$1:AM195)+1)","v":""},{"$f":"IF(CEM_COM_CPMS_Detail!$B218=\"\",\"\",CEM_COM_CPMS_Detail!$B218)","v":""},{"$f":"IF(CEM_COM_CPMS_Detail!$C218=\"\",\"\",CEM_COM_CPMS_Detail!$C218)","v":""},{"$f":"IF(CEM_COM_CPMS_Detail!$D218=\"\",\"\",CEM_COM_CPMS_Detail!$D218)","v":""},"",{"$f":"IF(COUNTIF(AQ$2:AQ196,AQ196)=1,AQ196,\"\")","v":""},"","",""]
[{"$f":"+IF(D197=\"\",\"\",MAX(A$1:A196)+1)","v":""},{"$f":"IF(CEM_COM_CPMS_Identification!C219=\"\",\"\",CEM_COM_CPMS_Identification!C219)","v":""},"",{"$f":"IF(COUNTIF(B$2:B197,B197)=1,B197,\"\")","v":""},null,null,null,null,null,null,null,null,null,null,null,null,null,null,{"$f":"+IF(W197=\"\",\"\",MAX(S$1:S196)+1)","v":""},{"$f":"IF(Limits_Details!$B219=\"\",\"\",Limits_Details!$B219)","v":""},{"$f":"IF(Limits_Details!$C219=\"\",\"\",Limits_Details!$C219)","v":""},"",{"$f":"IF(COUNTIF(V$2:V197,V197)=1,V197,\"\")","v":""},"","",null,null,null,{"$f":"+IF(AH197=\"\",\"\",MAX(AC$1:AC196)+1)","v":""},{"$f":"IF(Limits_Details!$B219=\"\",\"\",Limits_Details!$B219)","v":""},{"$f":"IF(Limits_Details!$C219=\"\",\"\",Limits_Details!$C219)","v":""},{"$f":"IF(Limits_Details!$D219=\"\",\"\",Limits_Details!$D219)","v":""},"",{"$f":"IF(COUNTIF(AG$2:AG197,AG197)=1,AG197,\"\")","v":""},"","","",null,{"$f":"+IF(AR197=\"\",\"\",MAX(AM$1:AM196)+1)","v":""},{"$f":"IF(CEM_COM_CPMS_Detail!$B219=\"\",\"\",CEM_COM_CPMS_Detail!$B219)","v":""},{"$f":"IF(CEM_COM_CPMS_Detail!$C219=\"\",\"\",CEM_COM_CPMS_Detail!$C219)","v":""},{"$f":"IF(CEM_COM_CPMS_Detail!$D219=\"\",\"\",CEM_COM_CPMS_Detail!$D219)","v":""},"",{"$f":"IF(COUNTIF(AQ$2:AQ197,AQ197)=1,AQ197,\"\")","v":""},"","",""]
[{"$f":"+IF(D198=\"\",\"\",MAX(A$1:A197)+1)","v":""},{"$f":"IF(CEM_COM_CPMS_Identification!C220=\"\",\"\",CEM_COM_CPMS_Identification!C220)","v":""},"",{"$f":"IF(COUNTIF(B$2:B198,B198)=1,B198,\"\")","v":""},null,null,null,null,null,null,null,null,null,null,null,null,null,null,{"$f":"+IF(W198=\"\",\"\",MAX(S$1:S197)+1)","v":""},{"$f":"IF(Limits_Details!$B220=\"\",\"\",Limits_Details!$B220)","v":""},{"$f":"IF(Limits_Details!$C220=\"\",\"\",Limits_Details!$C220)","v":""},"",{"$f":"IF(COUNTIF(V$2:V198,V198)=1,V198,\"\")","v":""},"","",null,null,null,{"$f":"+IF(AH198=\"\",\"\",MAX(AC$1:AC197)+1)","v":""},{"$f":"IF(Limits_Details!$B220=\"\",\"\",Limits_Details!$B220)","v":""},{"$f":"IF(Limits_Details!$C220=\"\",\"\",Limits_Details!$C220)","v":""},{"$f":"IF(Limits_Details!$D220=\"\",\"\",Limits_Details!$D220)","v":""},"",{"$f":"IF(COUNTIF(AG$2:AG198,AG198)=1,AG198,\"\")","v":""},"","","",null,{"$f":"+IF(AR198=\"\",\"\",MAX(AM$1:AM197)+1)","v":""},{"$f":"IF(CEM_COM_CPMS_Detail!$B220=\"\",\"\",CEM_COM_CPMS_Detail!$B220)","v":""},{"$f":"IF(CEM_COM_CPMS_Detail!$C220=\"\",\"\",CEM_COM_CPMS_Detail!$C220)","v":""},{"$f":"IF(CEM_COM_CPMS_Detail!$D220=\"\",\"\",CEM_COM_CPMS_Detail!$D220)","v":""},"",{"$f":"IF(COUNTIF(AQ$2:AQ198,AQ198)=1,AQ198,\"\")","v":""},"","",""]
[{"$f":"+IF(D199=\"\",\"\",MAX(A$1:A198)+1)","v":""},{"$f":"IF(CEM_COM_CPMS_Identification!C221=\"\",\"\",CEM_COM_CPMS_Identification!C221)","v":""},"",{"$f":"IF(COUNTIF(B$2:B199,B199)=1,B199,\"\")","v":""},null,null,null,null,null,null,null,null,null,null,null,null,null,null,{"$f":"+IF(W199=\"\",\"\",MAX(S$1:S198)+1)","v":""},{"$f":"IF(Limits_Details!$B221=\"\",\"\",Limits_Details!$B221)","v":""},{"$f":"IF(Limits_Details!$C221=\"\",\"\",Limits_Details!$C221)","v":""},"",{"$f":"IF(COUNTIF(V$2:V199,V199)=1,V199,\"\")","v":""},"","",null,null,null,{"$f":"+IF(AH199=\"\",\"\",MAX(AC$1:AC198)+1)","v":""},{"$f":"IF(Limits_Details!$B221=\"\",\"\",Limits_Details!$B221)","v":""},{"$f":"IF(Limits_Details!$C221=\"\",\"\",Limits_Details!$C221)","v":""},{"$f":"IF(Limits_Details!$D221=\"\",\"\",Limits_Details!$D221)","v":""},"",{"$f":"IF(COUNTIF(AG$2:AG199,AG199)=1,AG199,\"\")","v":""},"","","",null,{"$f":"+IF(AR199=\"\",\"\",MAX(AM$1:AM198)+1)","v":""},{"$f":"IF(CEM_COM_CPMS_Detail!$B221=\"\",\"\",CEM_COM_CPMS_Detail!$B221)","v":""},{"$f":"IF(CEM_COM_CPMS_Detail!$C221=\"\",\"\",CEM_COM_CPMS_Detail!$C221)","v":""},{"$f":"IF(CEM_COM_CPMS_Detail!$D221=\"\",\"\",CEM_COM_CPMS_Detail!$D221)","v":""},"",{"$f":"IF(COUNTIF(AQ$2:AQ199,AQ199)=1,AQ199,\"\")","v":""},"","",""]
[{"$f":"+IF(D200=\"\",\"\",MAX(A$1:A199)+1)","v":""},{"$f":"IF(CEM_COM_CPMS_Identification!C222=\"\",\"\",CEM_COM_CPMS_Identification!C222)","v":""},"",{"$f":"IF(COUNTIF(B$2:B200,B200)=1,B200,\"\")","v":""},null,null,null,null,null,null,null,null,null,null,null,null,null,null,{"$f":"+IF(W200=\"\",\"\",MAX(S$1:S199)+1)","v":""},{"$f":"IF(Limits_Details!$B222=\"\",\"\",Limits_Details!$B222)","v":""},{"$f":"IF(Limits_Details!$C222=\"\",\"\",Limits_Details!$C222)","v":""},"",{"$f":"IF(COUNTIF(V$2:V200,V200)=1,V200,\"\")","v":""},"","",null,null,null,{"$f":"+IF(AH200=\"\",\"\",MAX(AC$1:AC199)+1)","v":""},{"$f":"IF(Limits_Details!$B222=\"\",\"\",Limits_Details!$B222)","v":""},{"$f":"IF(Limits_Details!$C222=\"\",\"\",Limits_Details!$C222)","v":""},{"$f":"IF(Limits_Details!$D222=\"\",\"\",Limits_Details!$D222)","v":""},"",{"$f":"IF(COUNTIF(AG$2:AG200,AG200)=1,AG200,\"\")","v":""},"","","",null,{"$f":"+IF(AR200=\"\",\"\",MAX(AM$1:AM199)+1)","v":""},{"$f":"IF(CEM_COM_CPMS_Detail!$B222=\"\",\"\",CEM_COM_CPMS_Detail!$B222)","v":""},{"$f":"IF(CEM_COM_CPMS_Detail!$C222=\"\",\"\",CEM_COM_CPMS_Detail!$C222)","v":""},{"$f":"IF(CEM_COM_CPMS_Detail!$D222=\"\",\"\",CEM_COM_CPMS_Detail!$D222)","v":""},"",{"$f":"IF(COUNTIF(AQ$2:AQ200,AQ200)=1,AQ200,\"\")","v":""},"","",""]
[{"$f":"+IF(D201=\"\",\"\",MAX(A$1:A200)+1)","v":""},{"$f":"IF(CEM_COM_CPMS_Identification!C223=\"\",\"\",CEM_COM_CPMS_Identification!C223)","v":""},"",{"$f":"IF(COUNTIF(B$2:B201,B201)=1,B201,\"\")","v":""},null,null,null,null,null,null,null,null,null,null,null,null,null,null,{"$f":"+IF(W201=\"\",\"\",MAX(S$1:S200)+1)","v":""},{"$f":"IF(Limits_Details!$B223=\"\",\"\",Limits_Details!$B223)","v":""},{"$f":"IF(Limits_Details!$C223=\"\",\"\",Limits_Details!$C223)","v":""},"",{"$f":"IF(COUNTIF(V$2:V201,V201)=1,V201,\"\")","v":""},"","",null,null,null,{"$f":"+IF(AH201=\"\",\"\",MAX(AC$1:AC200)+1)","v":""},{"$f":"IF(Limits_Details!$B223=\"\",\"\",Limits_Details!$B223)","v":""},{"$f":"IF(Limits_Details!$C223=\"\",\"\",Limits_Details!$C223)","v":""},{"$f":"IF(Limits_Details!$D223=\"\",\"\",Limits_Details!$D223)","v":""},"",{"$f":"IF(COUNTIF(AG$2:AG201,AG201)=1,AG201,\"\")","v":""},"","","",null,{"$f":"+IF(AR201=\"\",\"\",MAX(AM$1:AM200)+1)","v":""},{"$f":"IF(CEM_COM_CPMS_Detail!$B223=\"\",\"\",CEM_COM_CPMS_Detail!$B223)","v":""},{"$f":"IF(CEM_COM_CPMS_Detail!$C223=\"\",\"\",CEM_COM_CPMS_Detail!$C223)","v":""},{"$f":"IF(CEM_COM_CPMS_Detail!$D223=\"\",\"\",CEM_COM_CPMS_Detail!$D223)","v":""},"",{"$f":"IF(COUNTIF(AQ$2:AQ201,AQ201)=1,AQ201,\"\")","v":""},"","",""]
[{"$f":"+IF(D202=\"\",\"\",MAX(A$1:A201)+1)","v":""},{"$f":"IF(CEM_COM_CPMS_Identification!C224=\"\",\"\",CEM_COM_CPMS_Identification!C224)","v":""},"",{"$f":"IF(COUNTIF(B$2:B202,B202)=1,B202,\"\")","v":""},null,null,null,null,null,null,null,null,null,null,null,null,null,null,{"$f":"+IF(W202=\"\",\"\",MAX(S$1:S201)+1)","v":""},{"$f":"IF(Limits_Details!$B224=\"\",\"\",Limits_Details!$B224)","v":""},{"$f":"IF(Limits_Details!$C224=\"\",\"\",Limits_Details!$C224)","v":""},"",{"$f":"IF(COUNTIF(V$2:V202,V202)=1,V202,\"\")","v":""},"","",null,null,null,{"$f":"+IF(AH202=\"\",\"\",MAX(AC$1:AC201)+1)","v":""},{"$f":"IF(Limits_Details!$B224=\"\",\"\",Limits_Details!$B224)","v":""},{"$f":"IF(Limits_Details!$C224=\"\",\"\",Limits_Details!$C224)","v":""},{"$f":"IF(Limits_Details!$D224=\"\",\"\",Limits_Details!$D224)","v":""},"",{"$f":"IF(COUNTIF(AG$2:AG202,AG202)=1,AG202,\"\")","v":""},"","","",null,{"$f":"+IF(AR202=\"\",\"\",MAX(AM$1:AM201)+1)","v":""},{"$f":"IF(CEM_COM_CPMS_Detail!$B224=\"\",\"\",CEM_COM_CPMS_Detail!$B224)","v":""},{"$f":"IF(CEM_COM_CPMS_Detail!$C224=\"\",\"\",CEM_COM_CPMS_Detail!$C224)","v":""},{"$f":"IF(CEM_COM_CPMS_Detail!$D224=\"\",\"\",CEM_COM_CPMS_Detail!$D224)","v":""},"",{"$f":"IF(COUNTIF(AQ$2:AQ202,AQ202)=1,AQ202,\"\")","v":""},"","",""]
[{"$f":"+IF(D203=\"\",\"\",MAX(A$1:A202)+1)","v":""},{"$f":"IF(CEM_COM_CPMS_Identification!C225=\"\",\"\",CEM_COM_CPMS_Identification!C225)","v":""},"",{"$f":"IF(COUNTIF(B$2:B203,B203)=1,B203,\"\")","v":""},null,null,null,null,null,null,null,null,null,null,null,null,null,null,{"$f":"+IF(W203=\"\",\"\",MAX(S$1:S202)+1)","v":""},{"$f":"IF(Limits_Details!$B225=\"\",\"\",Limits_Details!$B225)","v":""},{"$f":"IF(Limits_Details!$C225=\"\",\"\",Limits_Details!$C225)","v":""},"",{"$f":"IF(COUNTIF(V$2:V203,V203)=1,V203,\"\")","v":""},"","",null,null,null,{"$f":"+IF(AH203=\"\",\"\",MAX(AC$1:AC202)+1)","v":""},{"$f":"IF(Limits_Details!$B225=\"\",\"\",Limits_Details!$B225)","v":""},{"$f":"IF(Limits_Details!$C225=\"\",\"\",Limits_Details!$C225)","v":""},{"$f":"IF(Limits_Details!$D225=\"\",\"\",Limits_Details!$D225)","v":""},"",{"$f":"IF(COUNTIF(AG$2:AG203,AG203)=1,AG203,\"\")","v":""},"","","",null,{"$f":"+IF(AR203=\"\",\"\",MAX(AM$1:AM202)+1)","v":""},{"$f":"IF(CEM_COM_CPMS_Detail!$B225=\"\",\"\",CEM_COM_CPMS_Detail!$B225)","v":""},{"$f":"IF(CEM_COM_CPMS_Detail!$C225=\"\",\"\",CEM_COM_CPMS_Detail!$C225)","v":""},{"$f":"IF(CEM_COM_CPMS_Detail!$D225=\"\",\"\",CEM_COM_CPMS_Detail!$D225)","v":""},"",{"$f":"IF(COUNTIF(AQ$2:AQ203,AQ203)=1,AQ203,\"\")","v":""},"","",""]
[{"$f":"+IF(D204=\"\",\"\",MAX(A$1:A203)+1)","v":""},{"$f":"IF(CEM_COM_CPMS_Identification!C226=\"\",\"\",CEM_COM_CPMS_Identification!C226)","v":""},"",{"$f":"IF(COUNTIF(B$2:B204,B204)=1,B204,\"\")","v":""},null,null,null,null,null,null,null,null,null,null,null,null,null,null,{"$f":"+IF(W204=\"\",\"\",MAX(S$1:S203)+1)","v":""},{"$f":"IF(Limits_Details!$B226=\"\",\"\",Limits_Details!$B226)","v":""},{"$f":"IF(Limits_Details!$C226=\"\",\"\",Limits_Details!$C226)","v":""},"",{"$f":"IF(COUNTIF(V$2:V204,V204)=1,V204,\"\")","v":""},"","",null,null,null,{"$f":"+IF(AH204=\"\",\"\",MAX(AC$1:AC203)+1)","v":""},{"$f":"IF(Limits_Details!$B226=\"\",\"\",Limits_Details!$B226)","v":""},{"$f":"IF(Limits_Details!$C226=\"\",\"\",Limits_Details!$C226)","v":""},{"$f":"IF(Limits_Details!$D226=\"\",\"\",Limits_Details!$D226)","v":""},"",{"$f":"IF(COUNTIF(AG$2:AG204,AG204)=1,AG204,\"\")","v":""},"","","",null,{"$f":"+IF(AR204=\"\",\"\",MAX(AM$1:AM203)+1)","v":""},{"$f":"IF(CEM_COM_CPMS_Detail!$B226=\"\",\"\",CEM_COM_CPMS_Detail!$B226)","v":""},{"$f":"IF(CEM_COM_CPMS_Detail!$C226=\"\",\"\",CEM_COM_CPMS_Detail!$C226)","v":""},{"$f":"IF(CEM_COM_CPMS_Detail!$D226=\"\",\"\",CEM_COM_CPMS_Detail!$D226)","v":""},"",{"$f":"IF(COUNTIF(AQ$2:AQ204,AQ204)=1,AQ204,\"\")","v":""},"","",""]
[{"$f":"+IF(D205=\"\",\"\",MAX(A$1:A204)+1)","v":""},{"$f":"IF(CEM_COM_CPMS_Identification!C227=\"\",\"\",CEM_COM_CPMS_Identification!C227)","v":""},"",{"$f":"IF(COUNTIF(B$2:B205,B205)=1,B205,\"\")","v":""},null,null,null,null,null,null,null,null,null,null,null,null,null,null,{"$f":"+IF(W205=\"\",\"\",MAX(S$1:S204)+1)","v":""},{"$f":"IF(Limits_Details!$B227=\"\",\"\",Limits_Details!$B227)","v":""},{"$f":"IF(Limits_Details!$C227=\"\",\"\",Limits_Details!$C227)","v":""},"",{"$f":"IF(COUNTIF(V$2:V205,V205)=1,V205,\"\")","v":""},"","",null,null,null,{"$f":"+IF(AH205=\"\",\"\",MAX(AC$1:AC204)+1)","v":""},{"$f":"IF(Limits_Details!$B227=\"\",\"\",Limits_Details!$B227)","v":""},{"$f":"IF(Limits_Details!$C227=\"\",\"\",Limits_Details!$C227)","v":""},{"$f":"IF(Limits_Details!$D227=\"\",\"\",Limits_Details!$D227)","v":""},"",{"$f":"IF(COUNTIF(AG$2:AG205,AG205)=1,AG205,\"\")","v":""},"","","",null,{"$f":"+IF(AR205=\"\",\"\",MAX(AM$1:AM204)+1)","v":""},{"$f":"IF(CEM_COM_CPMS_Detail!$B227=\"\",\"\",CEM_COM_CPMS_Detail!$B227)","v":""},{"$f":"IF(CEM_COM_CPMS_Detail!$C227=\"\",\"\",CEM_COM_CPMS_Detail!$C227)","v":""},{"$f":"IF(CEM_COM_CPMS_Detail!$D227=\"\",\"\",CEM_COM_CPMS_Detail!$D227)","v":""},"",{"$f":"IF(COUNTIF(AQ$2:AQ205,AQ205)=1,AQ205,\"\")","v":""},"","",""]
[{"$f":"+IF(D206=\"\",\"\",MAX(A$1:A205)+1)","v":""},{"$f":"IF(CEM_COM_CPMS_Identification!C228=\"\",\"\",CEM_COM_CPMS_Identification!C228)","v":""},"",{"$f":"IF(COUNTIF(B$2:B206,B206)=1,B206,\"\")","v":""},null,null,null,null,null,null,null,null,null,null,null,null,null,null,{"$f":"+IF(W206=\"\",\"\",MAX(S$1:S205)+1)","v":""},{"$f":"IF(Limits_Details!$B228=\"\",\"\",Limits_Details!$B228)","v":""},{"$f":"IF(Limits_Details!$C228=\"\",\"\",Limits_Details!$C228)","v":""},"",{"$f":"IF(COUNTIF(V$2:V206,V206)=1,V206,\"\")","v":""},"","",null,null,null,{"$f":"+IF(AH206=\"\",\"\",MAX(AC$1:AC205)+1)","v":""},{"$f":"IF(Limits_Details!$B228=\"\",\"\",Limits_Details!$B228)","v":""},{"$f":"IF(Limits_Details!$C228=\"\",\"\",Limits_Details!$C228)","v":""},{"$f":"IF(Limits_Details!$D228=\"\",\"\",Limits_Details!$D228)","v":""},"",{"$f":"IF(COUNTIF(AG$2:AG206,AG206)=1,AG206,\"\")","v":""},"","","",null,{"$f":"+IF(AR206=\"\",\"\",MAX(AM$1:AM205)+1)","v":""},{"$f":"IF(CEM_COM_CPMS_Detail!$B228=\"\",\"\",CEM_COM_CPMS_Detail!$B228)","v":""},{"$f":"IF(CEM_COM_CPMS_Detail!$C228=\"\",\"\",CEM_COM_CPMS_Detail!$C228)","v":""},{"$f":"IF(CEM_COM_CPMS_Detail!$D228=\"\",\"\",CEM_COM_CPMS_Detail!$D228)","v":""},"",{"$f":"IF(COUNTIF(AQ$2:AQ206,AQ206)=1,AQ206,\"\")","v":""},"","",""]
[{"$f":"+IF(D207=\"\",\"\",MAX(A$1:A206)+1)","v":""},{"$f":"IF(CEM_COM_CPMS_Identification!C229=\"\",\"\",CEM_COM_CPMS_Identification!C229)","v":""},"",{"$f":"IF(COUNTIF(B$2:B207,B207)=1,B207,\"\")","v":""},null,null,null,null,null,null,null,null,null,null,null,null,null,null,{"$f":"+IF(W207=\"\",\"\",MAX(S$1:S206)+1)","v":""},{"$f":"IF(Limits_Details!$B229=\"\",\"\",Limits_Details!$B229)","v":""},{"$f":"IF(Limits_Details!$C229=\"\",\"\",Limits_Details!$C229)","v":""},"",{"$f":"IF(COUNTIF(V$2:V207,V207)=1,V207,\"\")","v":""},"","",null,null,null,{"$f":"+IF(AH207=\"\",\"\",MAX(AC$1:AC206)+1)","v":""},{"$f":"IF(Limits_Details!$B229=\"\",\"\",Limits_Details!$B229)","v":""},{"$f":"IF(Limits_Details!$C229=\"\",\"\",Limits_Details!$C229)","v":""},{"$f":"IF(Limits_Details!$D229=\"\",\"\",Limits_Details!$D229)","v":""},"",{"$f":"IF(COUNTIF(AG$2:AG207,AG207)=1,AG207,\"\")","v":""},"","","",null,{"$f":"+IF(AR207=\"\",\"\",MAX(AM$1:AM206)+1)","v":""},{"$f":"IF(CEM_COM_CPMS_Detail!$B229=\"\",\"\",CEM_COM_CPMS_Detail!$B229)","v":""},{"$f":"IF(CEM_COM_CPMS_Detail!$C229=\"\",\"\",CEM_COM_CPMS_Detail!$C229)","v":""},{"$f":"IF(CEM_COM_CPMS_Detail!$D229=\"\",\"\",CEM_COM_CPMS_Detail!$D229)","v":""},"",{"$f":"IF(COUNTIF(AQ$2:AQ207,AQ207)=1,AQ207,\"\")","v":""},"","",""]
[{"$f":"+IF(D208=\"\",\"\",MAX(A$1:A207)+1)","v":""},{"$f":"IF(CEM_COM_CPMS_Identification!C230=\"\",\"\",CEM_COM_CPMS_Identification!C230)","v":""},"",{"$f":"IF(COUNTIF(B$2:B208,B208)=1,B208,\"\")","v":""},null,null,null,null,null,null,null,null,null,null,null,null,null,null,{"$f":"+IF(W208=\"\",\"\",MAX(S$1:S207)+1)","v":""},{"$f":"IF(Limits_Details!$B230=\"\",\"\",Limits_Details!$B230)","v":""},{"$f":"IF(Limits_Details!$C230=\"\",\"\",Limits_Details!$C230)","v":""},"",{"$f":"IF(COUNTIF(V$2:V208,V208)=1,V208,\"\")","v":""},"","",null,null,null,{"$f":"+IF(AH208=\"\",\"\",MAX(AC$1:AC207)+1)","v":""},{"$f":"IF(Limits_Details!$B230=\"\",\"\",Limits_Details!$B230)","v":""},{"$f":"IF(Limits_Details!$C230=\"\",\"\",Limits_Details!$C230)","v":""},{"$f":"IF(Limits_Details!$D230=\"\",\"\",Limits_Details!$D230)","v":""},"",{"$f":"IF(COUNTIF(AG$2:AG208,AG208)=1,AG208,\"\")","v":""},"","","",null,{"$f":"+IF(AR208=\"\",\"\",MAX(AM$1:AM207)+1)","v":""},{"$f":"IF(CEM_COM_CPMS_Detail!$B230=\"\",\"\",CEM_COM_CPMS_Detail!$B230)","v":""},{"$f":"IF(CEM_COM_CPMS_Detail!$C230=\"\",\"\",CEM_COM_CPMS_Detail!$C230)","v":""},{"$f":"IF(CEM_COM_CPMS_Detail!$D230=\"\",\"\",CEM_COM_CPMS_Detail!$D230)","v":""},"",{"$f":"IF(COUNTIF(AQ$2:AQ208,AQ208)=1,AQ208,\"\")","v":""},"","",""]
[{"$f":"+IF(D209=\"\",\"\",MAX(A$1:A208)+1)","v":""},{"$f":"IF(CEM_COM_CPMS_Identification!C231=\"\",\"\",CEM_COM_CPMS_Identification!C231)","v":""},"",{"$f":"IF(COUNTIF(B$2:B209,B209)=1,B209,\"\")","v":""},null,null,null,null,null,null,null,null,null,null,null,null,null,null,{"$f":"+IF(W209=\"\",\"\",MAX(S$1:S208)+1)","v":""},{"$f":"IF(Limits_Details!$B231=\"\",\"\",Limits_Details!$B231)","v":""},{"$f":"IF(Limits_Details!$C231=\"\",\"\",Limits_Details!$C231)","v":""},"",{"$f":"IF(COUNTIF(V$2:V209,V209)=1,V209,\"\")","v":""},"","",null,null,null,{"$f":"+IF(AH209=\"\",\"\",MAX(AC$1:AC208)+1)","v":""},{"$f":"IF(Limits_Details!$B231=\"\",\"\",Limits_Details!$B231)","v":""},{"$f":"IF(Limits_Details!$C231=\"\",\"\",Limits_Details!$C231)","v":""},{"$f":"IF(Limits_Details!$D231=\"\",\"\",Limits_Details!$D231)","v":""},"",{"$f":"IF(COUNTIF(AG$2:AG209,AG209)=1,AG209,\"\")","v":""},"","","",null,{"$f":"+IF(AR209=\"\",\"\",MAX(AM$1:AM208)+1)","v":""},{"$f":"IF(CEM_COM_CPMS_Detail!$B231=\"\",\"\",CEM_COM_CPMS_Detail!$B231)","v":""},{"$f":"IF(CEM_COM_CPMS_Detail!$C231=\"\",\"\",CEM_COM_CPMS_Detail!$C231)","v":""},{"$f":"IF(CEM_COM_CPMS_Detail!$D231=\"\",\"\",CEM_COM_CPMS_Detail!$D231)","v":""},"",{"$f":"IF(COUNTIF(AQ$2:AQ209,AQ209)=1,AQ209,\"\")","v":""},"","",""]
[{"$f":"+IF(D210=\"\",\"\",MAX(A$1:A209)+1)","v":""},{"$f":"IF(CEM_COM_CPMS_Identification!C232=\"\",\"\",CEM_COM_CPMS_Identification!C232)","v":""},"",{"$f":"IF(COUNTIF(B$2:B210,B210)=1,B210,\"\")","v":""},null,null,null,null,null,null,null,null,null,null,null,null,null,null,{"$f":"+IF(W210=\"\",\"\",MAX(S$1:S209)+1)","v":""},{"$f":"IF(Limits_Details!$B232=\"\",\"\",Limits_Details!$B232)","v":""},{"$f":"IF(Limits_Details!$C232=\"\",\"\",Limits_Details!$C232)","v":""},"",{"$f":"IF(COUNTIF(V$2:V210,V210)=1,V210,\"\")","v":""},"","",null,null,null,{"$f":"+IF(AH210=\"\",\"\",MAX(AC$1:AC209)+1)","v":""},{"$f":"IF(Limits_Details!$B232=\"\",\"\",Limits_Details!$B232)","v":""},{"$f":"IF(Limits_Details!$C232=\"\",\"\",Limits_Details!$C232)","v":""},{"$f":"IF(Limits_Details!$D232=\"\",\"\",Limits_Details!$D232)","v":""},"",{"$f":"IF(COUNTIF(AG$2:AG210,AG210)=1,AG210,\"\")","v":""},"","","",null,{"$f":"+IF(AR210=\"\",\"\",MAX(AM$1:AM209)+1)","v":""},{"$f":"IF(CEM_COM_CPMS_Detail!$B232=\"\",\"\",CEM_COM_CPMS_Detail!$B232)","v":""},{"$f":"IF(CEM_COM_CPMS_Detail!$C232=\"\",\"\",CEM_COM_CPMS_Detail!$C232)","v":""},{"$f":"IF(CEM_COM_CPMS_Detail!$D232=\"\",\"\",CEM_COM_CPMS_Detail!$D232)","v":""},"",{"$f":"IF(COUNTIF(AQ$2:AQ210,AQ210)=1,AQ210,\"\")","v":""},"","",""]
[{"$f":"+IF(D211=\"\",\"\",MAX(A$1:A210)+1)","v":""},{"$f":"IF(CEM_COM_CPMS_Identification!C233=\"\",\"\",CEM_COM_CPMS_Identification!C233)","v":""},"",{"$f":"IF(COUNTIF(B$2:B211,B211)=1,B211,\"\")","v":""},null,null,null,null,null,null,null,null,null,null,null,null,null,null,{"$f":"+IF(W211=\"\",\"\",MAX(S$1:S210)+1)","v":""},{"$f":"IF(Limits_Details!$B233=\"\",\"\",Limits_Details!$B233)","v":""},{"$f":"IF(Limits_Details!$C233=\"\",\"\",Limits_Details!$C233)","v":""},"",{"$f":"IF(COUNTIF(V$2:V211,V211)=1,V211,\"\")","v":""},"","",null,null,null,{"$f":"+IF(AH211=\"\",\"\",MAX(AC$1:AC210)+1)","v":""},{"$f":"IF(Limits_Details!$B233=\"\",\"\",Limits_Details!$B233)","v":""},{"$f":"IF(Limits_Details!$C233=\"\",\"\",Limits_Details!$C233)","v":""},{"$f":"IF(Limits_Details!$D233=\"\",\"\",Limits_Details!$D233)","v":""},"",{"$f":"IF(COUNTIF(AG$2:AG211,AG211)=1,AG211,\"\")","v":""},"","","",null,{"$f":"+IF(AR211=\"\",\"\",MAX(AM$1:AM210)+1)","v":""},{"$f":"IF(CEM_COM_CPMS_Detail!$B233=\"\",\"\",CEM_COM_CPMS_Detail!$B233)","v":""},{"$f":"IF(CEM_COM_CPMS_Detail!$C233=\"\",\"\",CEM_COM_CPMS_Detail!$C233)","v":""},{"$f":"IF(CEM_COM_CPMS_Detail!$D233=\"\",\"\",CEM_COM_CPMS_Detail!$D233)","v":""},"",{"$f":"IF(COUNTIF(AQ$2:AQ211,AQ211)=1,AQ211,\"\")","v":""},"","",""]
[{"$f":"+IF(D212=\"\",\"\",MAX(A$1:A211)+1)","v":""},{"$f":"IF(CEM_COM_CPMS_Identification!C234=\"\",\"\",CEM_COM_CPMS_Identification!C234)","v":""},"",{"$f":"IF(COUNTIF(B$2:B212,B212)=1,B212,\"\")","v":""},null,null,null,null,null,null,null,null,null,null,null,null,null,null,{"$f":"+IF(W212=\"\",\"\",MAX(S$1:S211)+1)","v":""},{"$f":"IF(Limits_Details!$B234=\"\",\"\",Limits_Details!$B234)","v":""},{"$f":"IF(Limits_Details!$C234=\"\",\"\",Limits_Details!$C234)","v":""},"",{"$f":"IF(COUNTIF(V$2:V212,V212)=1,V212,\"\")","v":""},"","",null,null,null,{"$f":"+IF(AH212=\"\",\"\",MAX(AC$1:AC211)+1)","v":""},{"$f":"IF(Limits_Details!$B234=\"\",\"\",Limits_Details!$B234)","v":""},{"$f":"IF(Limits_Details!$C234=\"\",\"\",Limits_Details!$C234)","v":""},{"$f":"IF(Limits_Details!$D234=\"\",\"\",Limits_Details!$D234)","v":""},"",{"$f":"IF(COUNTIF(AG$2:AG212,AG212)=1,AG212,\"\")","v":""},"","","",null,{"$f":"+IF(AR212=\"\",\"\",MAX(AM$1:AM211)+1)","v":""},{"$f":"IF(CEM_COM_CPMS_Detail!$B234=\"\",\"\",CEM_COM_CPMS_Detail!$B234)","v":""},{"$f":"IF(CEM_COM_CPMS_Detail!$C234=\"\",\"\",CEM_COM_CPMS_Detail!$C234)","v":""},{"$f":"IF(CEM_COM_CPMS_Detail!$D234=\"\",\"\",CEM_COM_CPMS_Detail!$D234)","v":""},"",{"$f":"IF(COUNTIF(AQ$2:AQ212,AQ212)=1,AQ212,\"\")","v":""},"","",""]
[{"$f":"+IF(D213=\"\",\"\",MAX(A$1:A212)+1)","v":""},{"$f":"IF(CEM_COM_CPMS_Identification!C235=\"\",\"\",CEM_COM_CPMS_Identification!C235)","v":""},"",{"$f":"IF(COUNTIF(B$2:B213,B213)=1,B213,\"\")","v":""},null,null,null,null,null,null,null,null,null,null,null,null,null,null,{"$f":"+IF(W213=\"\",\"\",MAX(S$1:S212)+1)","v":""},{"$f":"IF(Limits_Details!$B235=\"\",\"\",Limits_Details!$B235)","v":""},{"$f":"IF(Limits_Details!$C235=\"\",\"\",Limits_Details!$C235)","v":""},"",{"$f":"IF(COUNTIF(V$2:V213,V213)=1,V213,\"\")","v":""},"","",null,null,null,{"$f":"+IF(AH213=\"\",\"\",MAX(AC$1:AC212)+1)","v":""},{"$f":"IF(Limits_Details!$B235=\"\",\"\",Limits_Details!$B235)","v":""},{"$f":"IF(Limits_Details!$C235=\"\",\"\",Limits_Details!$C235)","v":""},{"$f":"IF(Limits_Details!$D235=\"\",\"\",Limits_Details!$D235)","v":""},"",{"$f":"IF(COUNTIF(AG$2:AG213,AG213)=1,AG213,\"\")","v":""},"","","",null,{"$f":"+IF(AR213=\"\",\"\",MAX(AM$1:AM212)+1)","v":""},{"$f":"IF(CEM_COM_CPMS_Detail!$B235=\"\",\"\",CEM_COM_CPMS_Detail!$B235)","v":""},{"$f":"IF(CEM_COM_CPMS_Detail!$C235=\"\",\"\",CEM_COM_CPMS_Detail!$C235)","v":""},{"$f":"IF(CEM_COM_CPMS_Detail!$D235=\"\",\"\",CEM_COM_CPMS_Detail!$D235)","v":""},"",{"$f":"IF(COUNTIF(AQ$2:AQ213,AQ213)=1,AQ213,\"\")","v":""},"","",""]
[{"$f":"+IF(D214=\"\",\"\",MAX(A$1:A213)+1)","v":""},{"$f":"IF(CEM_COM_CPMS_Identification!C236=\"\",\"\",CEM_COM_CPMS_Identification!C236)","v":""},"",{"$f":"IF(COUNTIF(B$2:B214,B214)=1,B214,\"\")","v":""},null,null,null,null,null,null,null,null,null,null,null,null,null,null,{"$f":"+IF(W214=\"\",\"\",MAX(S$1:S213)+1)","v":""},{"$f":"IF(Limits_Details!$B236=\"\",\"\",Limits_Details!$B236)","v":""},{"$f":"IF(Limits_Details!$C236=\"\",\"\",Limits_Details!$C236)","v":""},"",{"$f":"IF(COUNTIF(V$2:V214,V214)=1,V214,\"\")","v":""},"","",null,null,null,{"$f":"+IF(AH214=\"\",\"\",MAX(AC$1:AC213)+1)","v":""},{"$f":"IF(Limits_Details!$B236=\"\",\"\",Limits_Details!$B236)","v":""},{"$f":"IF(Limits_Details!$C236=\"\",\"\",Limits_Details!$C236)","v":""},{"$f":"IF(Limits_Details!$D236=\"\",\"\",Limits_Details!$D236)","v":""},"",{"$f":"IF(COUNTIF(AG$2:AG214,AG214)=1,AG214,\"\")","v":""},"","","",null,{"$f":"+IF(AR214=\"\",\"\",MAX(AM$1:AM213)+1)","v":""},{"$f":"IF(CEM_COM_CPMS_Detail!$B236=\"\",\"\",CEM_COM_CPMS_Detail!$B236)","v":""},{"$f":"IF(CEM_COM_CPMS_Detail!$C236=\"\",\"\",CEM_COM_CPMS_Detail!$C236)","v":""},{"$f":"IF(CEM_COM_CPMS_Detail!$D236=\"\",\"\",CEM_COM_CPMS_Detail!$D236)","v":""},"",{"$f":"IF(COUNTIF(AQ$2:AQ214,AQ214)=1,AQ214,\"\")","v":""},"","",""]
[{"$f":"+IF(D215=\"\",\"\",MAX(A$1:A214)+1)","v":""},{"$f":"IF(CEM_COM_CPMS_Identification!C237=\"\",\"\",CEM_COM_CPMS_Identification!C237)","v":""},"",{"$f":"IF(COUNTIF(B$2:B215,B215)=1,B215,\"\")","v":""},null,null,null,null,null,null,null,null,null,null,null,null,null,null,{"$f":"+IF(W215=\"\",\"\",MAX(S$1:S214)+1)","v":""},{"$f":"IF(Limits_Details!$B237=\"\",\"\",Limits_Details!$B237)","v":""},{"$f":"IF(Limits_Details!$C237=\"\",\"\",Limits_Details!$C237)","v":""},"",{"$f":"IF(COUNTIF(V$2:V215,V215)=1,V215,\"\")","v":""},"","",null,null,null,{"$f":"+IF(AH215=\"\",\"\",MAX(AC$1:AC214)+1)","v":""},{"$f":"IF(Limits_Details!$B237=\"\",\"\",Limits_Details!$B237)","v":""},{"$f":"IF(Limits_Details!$C237=\"\",\"\",Limits_Details!$C237)","v":""},{"$f":"IF(Limits_Details!$D237=\"\",\"\",Limits_Details!$D237)","v":""},"",{"$f":"IF(COUNTIF(AG$2:AG215,AG215)=1,AG215,\"\")","v":""},"","","",null,{"$f":"+IF(AR215=\"\",\"\",MAX(AM$1:AM214)+1)","v":""},{"$f":"IF(CEM_COM_CPMS_Detail!$B237=\"\",\"\",CEM_COM_CPMS_Detail!$B237)","v":""},{"$f":"IF(CEM_COM_CPMS_Detail!$C237=\"\",\"\",CEM_COM_CPMS_Detail!$C237)","v":""},{"$f":"IF(CEM_COM_CPMS_Detail!$D237=\"\",\"\",CEM_COM_CPMS_Detail!$D237)","v":""},"",{"$f":"IF(COUNTIF(AQ$2:AQ215,AQ215)=1,AQ215,\"\")","v":""},"","",""]
[{"$f":"+IF(D216=\"\",\"\",MAX(A$1:A215)+1)","v":""},{"$f":"IF(CEM_COM_CPMS_Identification!C238=\"\",\"\",CEM_COM_CPMS_Identification!C238)","v":""},"",{"$f":"IF(COUNTIF(B$2:B216,B216)=1,B216,\"\")","v":""},null,null,null,null,null,null,null,null,null,null,null,null,null,null,{"$f":"+IF(W216=\"\",\"\",MAX(S$1:S215)+1)","v":""},{"$f":"IF(Limits_Details!$B238=\"\",\"\",Limits_Details!$B238)","v":""},{"$f":"IF(Limits_Details!$C238=\"\",\"\",Limits_Details!$C238)","v":""},"",{"$f":"IF(COUNTIF(V$2:V216,V216)=1,V216,\"\")","v":""},"","",null,null,null,{"$f":"+IF(AH216=\"\",\"\",MAX(AC$1:AC215)+1)","v":""},{"$f":"IF(Limits_Details!$B238=\"\",\"\",Limits_Details!$B238)","v":""},{"$f":"IF(Limits_Details!$C238=\"\",\"\",Limits_Details!$C238)","v":""},{"$f":"IF(Limits_Details!$D238=\"\",\"\",Limits_Details!$D238)","v":""},"",{"$f":"IF(COUNTIF(AG$2:AG216,AG216)=1,AG216,\"\")","v":""},"","","",null,{"$f":"+IF(AR216=\"\",\"\",MAX(AM$1:AM215)+1)","v":""},{"$f":"IF(CEM_COM_CPMS_Detail!$B238=\"\",\"\",CEM_COM_CPMS_Detail!$B238)","v":""},{"$f":"IF(CEM_COM_CPMS_Detail!$C238=\"\",\"\",CEM_COM_CPMS_Detail!$C238)","v":""},{"$f":"IF(CEM_COM_CPMS_Detail!$D238=\"\",\"\",CEM_COM_CPMS_Detail!$D238)","v":""},"",{"$f":"IF(COUNTIF(AQ$2:AQ216,AQ216)=1,AQ216,\"\")","v":""},"","",""]
[{"$f":"+IF(D217=\"\",\"\",MAX(A$1:A216)+1)","v":""},{"$f":"IF(CEM_COM_CPMS_Identification!C239=\"\",\"\",CEM_COM_CPMS_Identification!C239)","v":""},"",{"$f":"IF(COUNTIF(B$2:B217,B217)=1,B217,\"\")","v":""},null,null,null,null,null,null,null,null,null,null,null,null,null,null,{"$f":"+IF(W217=\"\",\"\",MAX(S$1:S216)+1)","v":""},{"$f":"IF(Limits_Details!$B239=\"\",\"\",Limits_Details!$B239)","v":""},{"$f":"IF(Limits_Details!$C239=\"\",\"\",Limits_Details!$C239)","v":""},"",{"$f":"IF(COUNTIF(V$2:V217,V217)=1,V217,\"\")","v":""},"","",null,null,null,{"$f":"+IF(AH217=\"\",\"\",MAX(AC$1:AC216)+1)","v":""},{"$f":"IF(Limits_Details!$B239=\"\",\"\",Limits_Details!$B239)","v":""},{"$f":"IF(Limits_Details!$C239=\"\",\"\",Limits_Details!$C239)","v":""},{"$f":"IF(Limits_Details!$D239=\"\",\"\",Limits_Details!$D239)","v":""},"",{"$f":"IF(COUNTIF(AG$2:AG217,AG217)=1,AG217,\"\")","v":""},"","","",null,{"$f":"+IF(AR217=\"\",\"\",MAX(AM$1:AM216)+1)","v":""},{"$f":"IF(CEM_COM_CPMS_Detail!$B239=\"\",\"\",CEM_COM_CPMS_Detail!$B239)","v":""},{"$f":"IF(CEM_COM_CPMS_Detail!$C239=\"\",\"\",CEM_COM_CPMS_Detail!$C239)","v":""},{"$f":"IF(CEM_COM_CPMS_Detail!$D239=\"\",\"\",CEM_COM_CPMS_Detail!$D239)","v":""},"",{"$f":"IF(COUNTIF(AQ$2:AQ217,AQ217)=1,AQ217,\"\")","v":""},"","",""]
[{"$f":"+IF(D218=\"\",\"\",MAX(A$1:A217)+1)","v":""},{"$f":"IF(CEM_COM_CPMS_Identification!C240=\"\",\"\",CEM_COM_CPMS_Identification!C240)","v":""},"",{"$f":"IF(COUNTIF(B$2:B218,B218)=1,B218,\"\")","v":""},null,null,null,null,null,null,null,null,null,null,null,null,null,null,{"$f":"+IF(W218=\"\",\"\",MAX(S$1:S217)+1)","v":""},{"$f":"IF(Limits_Details!$B240=\"\",\"\",Limits_Details!$B240)","v":""},{"$f":"IF(Limits_Details!$C240=\"\",\"\",Limits_Details!$C240)","v":""},"",{"$f":"IF(COUNTIF(V$2:V218,V218)=1,V218,\"\")","v":""},"","",null,null,null,{"$f":"+IF(AH218=\"\",\"\",MAX(AC$1:AC217)+1)","v":""},{"$f":"IF(Limits_Details!$B240=\"\",\"\",Limits_Details!$B240)","v":""},{"$f":"IF(Limits_Details!$C240=\"\",\"\",Limits_Details!$C240)","v":""},{"$f":"IF(Limits_Details!$D240=\"\",\"\",Limits_Details!$D240)","v":""},"",{"$f":"IF(COUNTIF(AG$2:AG218,AG218)=1,AG218,\"\")","v":""},"","","",null,{"$f":"+IF(AR218=\"\",\"\",MAX(AM$1:AM217)+1)","v":""},{"$f":"IF(CEM_COM_CPMS_Detail!$B240=\"\",\"\",CEM_COM_CPMS_Detail!$B240)","v":""},{"$f":"IF(CEM_COM_CPMS_Detail!$C240=\"\",\"\",CEM_COM_CPMS_Detail!$C240)","v":""},{"$f":"IF(CEM_COM_CPMS_Detail!$D240=\"\",\"\",CEM_COM_CPMS_Detail!$D240)","v":""},"",{"$f":"IF(COUNTIF(AQ$2:AQ218,AQ218)=1,AQ218,\"\")","v":""},"","",""]
[{"$f":"+IF(D219=\"\",\"\",MAX(A$1:A218)+1)","v":""},{"$f":"IF(CEM_COM_CPMS_Identification!C241=\"\",\"\",CEM_COM_CPMS_Identification!C241)","v":""},"",{"$f":"IF(COUNTIF(B$2:B219,B219)=1,B219,\"\")","v":""},null,null,null,null,null,null,null,null,null,null,null,null,null,null,{"$f":"+IF(W219=\"\",\"\",MAX(S$1:S218)+1)","v":""},{"$f":"IF(Limits_Details!$B241=\"\",\"\",Limits_Details!$B241)","v":""},{"$f":"IF(Limits_Details!$C241=\"\",\"\",Limits_Details!$C241)","v":""},"",{"$f":"IF(COUNTIF(V$2:V219,V219)=1,V219,\"\")","v":""},"","",null,null,null,{"$f":"+IF(AH219=\"\",\"\",MAX(AC$1:AC218)+1)","v":""},{"$f":"IF(Limits_Details!$B241=\"\",\"\",Limits_Details!$B241)","v":""},{"$f":"IF(Limits_Details!$C241=\"\",\"\",Limits_Details!$C241)","v":""},{"$f":"IF(Limits_Details!$D241=\"\",\"\",Limits_Details!$D241)","v":""},"",{"$f":"IF(COUNTIF(AG$2:AG219,AG219)=1,AG219,\"\")","v":""},"","","",null,{"$f":"+IF(AR219=\"\",\"\",MAX(AM$1:AM218)+1)","v":""},{"$f":"IF(CEM_COM_CPMS_Detail!$B241=\"\",\"\",CEM_COM_CPMS_Detail!$B241)","v":""},{"$f":"IF(CEM_COM_CPMS_Detail!$C241=\"\",\"\",CEM_COM_CPMS_Detail!$C241)","v":""},{"$f":"IF(CEM_COM_CPMS_Detail!$D241=\"\",\"\",CEM_COM_CPMS_Detail!$D241)","v":""},"",{"$f":"IF(COUNTIF(AQ$2:AQ219,AQ219)=1,AQ219,\"\")","v":""},"","",""]
[{"$f":"+IF(D220=\"\",\"\",MAX(A$1:A219)+1)","v":""},{"$f":"IF(CEM_COM_CPMS_Identification!C242=\"\",\"\",CEM_COM_CPMS_Identification!C242)","v":""},"",{"$f":"IF(COUNTIF(B$2:B220,B220)=1,B220,\"\")","v":""},null,null,null,null,null,null,null,null,null,null,null,null,null,null,{"$f":"+IF(W220=\"\",\"\",MAX(S$1:S219)+1)","v":""},{"$f":"IF(Limits_Details!$B242=\"\",\"\",Limits_Details!$B242)","v":""},{"$f":"IF(Limits_Details!$C242=\"\",\"\",Limits_Details!$C242)","v":""},"",{"$f":"IF(COUNTIF(V$2:V220,V220)=1,V220,\"\")","v":""},"","",null,null,null,{"$f":"+IF(AH220=\"\",\"\",MAX(AC$1:AC219)+1)","v":""},{"$f":"IF(Limits_Details!$B242=\"\",\"\",Limits_Details!$B242)","v":""},{"$f":"IF(Limits_Details!$C242=\"\",\"\",Limits_Details!$C242)","v":""},{"$f":"IF(Limits_Details!$D242=\"\",\"\",Limits_Details!$D242)","v":""},"",{"$f":"IF(COUNTIF(AG$2:AG220,AG220)=1,AG220,\"\")","v":""},"","","",null,{"$f":"+IF(AR220=\"\",\"\",MAX(AM$1:AM219)+1)","v":""},{"$f":"IF(CEM_COM_CPMS_Detail!$B242=\"\",\"\",CEM_COM_CPMS_Detail!$B242)","v":""},{"$f":"IF(CEM_COM_CPMS_Detail!$C242=\"\",\"\",CEM_COM_CPMS_Detail!$C242)","v":""},{"$f":"IF(CEM_COM_CPMS_Detail!$D242=\"\",\"\",CEM_COM_CPMS_Detail!$D242)","v":""},"",{"$f":"IF(COUNTIF(AQ$2:AQ220,AQ220)=1,AQ220,\"\")","v":""},"","",""]
[{"$f":"+IF(D221=\"\",\"\",MAX(A$1:A220)+1)","v":""},{"$f":"IF(CEM_COM_CPMS_Identification!C243=\"\",\"\",CEM_COM_CPMS_Identification!C243)","v":""},"",{"$f":"IF(COUNTIF(B$2:B221,B221)=1,B221,\"\")","v":""},null,null,null,null,null,null,null,null,null,null,null,null,null,null,{"$f":"+IF(W221=\"\",\"\",MAX(S$1:S220)+1)","v":""},{"$f":"IF(Limits_Details!$B243=\"\",\"\",Limits_Details!$B243)","v":""},{"$f":"IF(Limits_Details!$C243=\"\",\"\",Limits_Details!$C243)","v":""},"",{"$f":"IF(COUNTIF(V$2:V221,V221)=1,V221,\"\")","v":""},"","",null,null,null,{"$f":"+IF(AH221=\"\",\"\",MAX(AC$1:AC220)+1)","v":""},{"$f":"IF(Limits_Details!$B243=\"\",\"\",Limits_Details!$B243)","v":""},{"$f":"IF(Limits_Details!$C243=\"\",\"\",Limits_Details!$C243)","v":""},{"$f":"IF(Limits_Details!$D243=\"\",\"\",Limits_Details!$D243)","v":""},"",{"$f":"IF(COUNTIF(AG$2:AG221,AG221)=1,AG221,\"\")","v":""},"","","",null,{"$f":"+IF(AR221=\"\",\"\",MAX(AM$1:AM220)+1)","v":""},{"$f":"IF(CEM_COM_CPMS_Detail!$B243=\"\",\"\",CEM_COM_CPMS_Detail!$B243)","v":""},{"$f":"IF(CEM_COM_CPMS_Detail!$C243=\"\",\"\",CEM_COM_CPMS_Detail!$C243)","v":""},{"$f":"IF(CEM_COM_CPMS_Detail!$D243=\"\",\"\",CEM_COM_CPMS_Detail!$D243)","v":""},"",{"$f":"IF(COUNTIF(AQ$2:AQ221,AQ221)=1,AQ221,\"\")","v":""},"","",""]
[{"$f":"+IF(D222=\"\",\"\",MAX(A$1:A221)+1)","v":""},{"$f":"IF(CEM_COM_CPMS_Identification!C244=\"\",\"\",CEM_COM_CPMS_Identification!C244)","v":""},"",{"$f":"IF(COUNTIF(B$2:B222,B222)=1,B222,\"\")","v":""},null,null,null,null,null,null,null,null,null,null,null,null,null,null,{"$f":"+IF(W222=\"\",\"\",MAX(S$1:S221)+1)","v":""},{"$f":"IF(Limits_Details!$B244=\"\",\"\",Limits_Details!$B244)","v":""},{"$f":"IF(Limits_Details!$C244=\"\",\"\",Limits_Details!$C244)","v":""},"",{"$f":"IF(COUNTIF(V$2:V222,V222)=1,V222,\"\")","v":""},"","",null,null,null,{"$f":"+IF(AH222=\"\",\"\",MAX(AC$1:AC221)+1)","v":""},{"$f":"IF(Limits_Details!$B244=\"\",\"\",Limits_Details!$B244)","v":""},{"$f":"IF(Limits_Details!$C244=\"\",\"\",Limits_Details!$C244)","v":""},{"$f":"IF(Limits_Details!$D244=\"\",\"\",Limits_Details!$D244)","v":""},"",{"$f":"IF(COUNTIF(AG$2:AG222,AG222)=1,AG222,\"\")","v":""},"","","",null,{"$f":"+IF(AR222=\"\",\"\",MAX(AM$1:AM221)+1)","v":""},{"$f":"IF(CEM_COM_CPMS_Detail!$B244=\"\",\"\",CEM_COM_CPMS_Detail!$B244)","v":""},{"$f":"IF(CEM_COM_CPMS_Detail!$C244=\"\",\"\",CEM_COM_CPMS_Detail!$C244)","v":""},{"$f":"IF(CEM_COM_CPMS_Detail!$D244=\"\",\"\",CEM_COM_CPMS_Detail!$D244)","v":""},"",{"$f":"IF(COUNTIF(AQ$2:AQ222,AQ222)=1,AQ222,\"\")","v":""},"","",""]
[{"$f":"+IF(D223=\"\",\"\",MAX(A$1:A222)+1)","v":""},{"$f":"IF(CEM_COM_CPMS_Identification!C245=\"\",\"\",CEM_COM_CPMS_Identification!C245)","v":""},"",{"$f":"IF(COUNTIF(B$2:B223,B223)=1,B223,\"\")","v":""},null,null,null,null,null,null,null,null,null,null,null,null,null,null,{"$f":"+IF(W223=\"\",\"\",MAX(S$1:S222)+1)","v":""},{"$f":"IF(Limits_Details!$B245=\"\",\"\",Limits_Details!$B245)","v":""},{"$f":"IF(Limits_Details!$C245=\"\",\"\",Limits_Details!$C245)","v":""},"",{"$f":"IF(COUNTIF(V$2:V223,V223)=1,V223,\"\")","v":""},"","",null,null,null,{"$f":"+IF(AH223=\"\",\"\",MAX(AC$1:AC222)+1)","v":""},{"$f":"IF(Limits_Details!$B245=\"\",\"\",Limits_Details!$B245)","v":""},{"$f":"IF(Limits_Details!$C245=\"\",\"\",Limits_Details!$C245)","v":""},{"$f":"IF(Limits_Details!$D245=\"\",\"\",Limits_Details!$D245)","v":""},"",{"$f":"IF(COUNTIF(AG$2:AG223,AG223)=1,AG223,\"\")","v":""},"","","",null,{"$f":"+IF(AR223=\"\",\"\",MAX(AM$1:AM222)+1)","v":""},{"$f":"IF(CEM_COM_CPMS_Detail!$B245=\"\",\"\",CEM_COM_CPMS_Detail!$B245)","v":""},{"$f":"IF(CEM_COM_CPMS_Detail!$C245=\"\",\"\",CEM_COM_CPMS_Detail!$C245)","v":""},{"$f":"IF(CEM_COM_CPMS_Detail!$D245=\"\",\"\",CEM_COM_CPMS_Detail!$D245)","v":""},"",{"$f":"IF(COUNTIF(AQ$2:AQ223,AQ223)=1,AQ223,\"\")","v":""},"","",""]
[{"$f":"+IF(D224=\"\",\"\",MAX(A$1:A223)+1)","v":""},{"$f":"IF(CEM_COM_CPMS_Identification!C246=\"\",\"\",CEM_COM_CPMS_Identification!C246)","v":""},"",{"$f":"IF(COUNTIF(B$2:B224,B224)=1,B224,\"\")","v":""},null,null,null,null,null,null,null,null,null,null,null,null,null,null,{"$f":"+IF(W224=\"\",\"\",MAX(S$1:S223)+1)","v":""},{"$f":"IF(Limits_Details!$B246=\"\",\"\",Limits_Details!$B246)","v":""},{"$f":"IF(Limits_Details!$C246=\"\",\"\",Limits_Details!$C246)","v":""},"",{"$f":"IF(COUNTIF(V$2:V224,V224)=1,V224,\"\")","v":""},"","",null,null,null,{"$f":"+IF(AH224=\"\",\"\",MAX(AC$1:AC223)+1)","v":""},{"$f":"IF(Limits_Details!$B246=\"\",\"\",Limits_Details!$B246)","v":""},{"$f":"IF(Limits_Details!$C246=\"\",\"\",Limits_Details!$C246)","v":""},{"$f":"IF(Limits_Details!$D246=\"\",\"\",Limits_Details!$D246)","v":""},"",{"$f":"IF(COUNTIF(AG$2:AG224,AG224)=1,AG224,\"\")","v":""},"","","",null,{"$f":"+IF(AR224=\"\",\"\",MAX(AM$1:AM223)+1)","v":""},{"$f":"IF(CEM_COM_CPMS_Detail!$B246=\"\",\"\",CEM_COM_CPMS_Detail!$B246)","v":""},{"$f":"IF(CEM_COM_CPMS_Detail!$C246=\"\",\"\",CEM_COM_CPMS_Detail!$C246)","v":""},{"$f":"IF(CEM_COM_CPMS_Detail!$D246=\"\",\"\",CEM_COM_CPMS_Detail!$D246)","v":""},"",{"$f":"IF(COUNTIF(AQ$2:AQ224,AQ224)=1,AQ224,\"\")","v":""},"","",""]
[{"$f":"+IF(D225=\"\",\"\",MAX(A$1:A224)+1)","v":""},{"$f":"IF(CEM_COM_CPMS_Identification!C247=\"\",\"\",CEM_COM_CPMS_Identification!C247)","v":""},"",{"$f":"IF(COUNTIF(B$2:B225,B225)=1,B225,\"\")","v":""},null,null,null,null,null,null,null,null,null,null,null,null,null,null,{"$f":"+IF(W225=\"\",\"\",MAX(S$1:S224)+1)","v":""},{"$f":"IF(Limits_Details!$B247=\"\",\"\",Limits_Details!$B247)","v":""},{"$f":"IF(Limits_Details!$C247=\"\",\"\",Limits_Details!$C247)","v":""},"",{"$f":"IF(COUNTIF(V$2:V225,V225)=1,V225,\"\")","v":""},"","",null,null,null,{"$f":"+IF(AH225=\"\",\"\",MAX(AC$1:AC224)+1)","v":""},{"$f":"IF(Limits_Details!$B247=\"\",\"\",Limits_Details!$B247)","v":""},{"$f":"IF(Limits_Details!$C247=\"\",\"\",Limits_Details!$C247)","v":""},{"$f":"IF(Limits_Details!$D247=\"\",\"\",Limits_Details!$D247)","v":""},"",{"$f":"IF(COUNTIF(AG$2:AG225,AG225)=1,AG225,\"\")","v":""},"","","",null,{"$f":"+IF(AR225=\"\",\"\",MAX(AM$1:AM224)+1)","v":""},{"$f":"IF(CEM_COM_CPMS_Detail!$B247=\"\",\"\",CEM_COM_CPMS_Detail!$B247)","v":""},{"$f":"IF(CEM_COM_CPMS_Detail!$C247=\"\",\"\",CEM_COM_CPMS_Detail!$C247)","v":""},{"$f":"IF(CEM_COM_CPMS_Detail!$D247=\"\",\"\",CEM_COM_CPMS_Detail!$D247)","v":""},"",{"$f":"IF(COUNTIF(AQ$2:AQ225,AQ225)=1,AQ225,\"\")","v":""},"","",""]
[{"$f":"+IF(D226=\"\",\"\",MAX(A$1:A225)+1)","v":""},{"$f":"IF(CEM_COM_CPMS_Identification!C248=\"\",\"\",CEM_COM_CPMS_Identification!C248)","v":""},"",{"$f":"IF(COUNTIF(B$2:B226,B226)=1,B226,\"\")","v":""},null,null,null,null,null,null,null,null,null,null,null,null,null,null,{"$f":"+IF(W226=\"\",\"\",MAX(S$1:S225)+1)","v":""},{"$f":"IF(Limits_Details!$B248=\"\",\"\",Limits_Details!$B248)","v":""},{"$f":"IF(Limits_Details!$C248=\"\",\"\",Limits_Details!$C248)","v":""},"",{"$f":"IF(COUNTIF(V$2:V226,V226)=1,V226,\"\")","v":""},"","",null,null,null,{"$f":"+IF(AH226=\"\",\"\",MAX(AC$1:AC225)+1)","v":""},{"$f":"IF(Limits_Details!$B248=\"\",\"\",Limits_Details!$B248)","v":""},{"$f":"IF(Limits_Details!$C248=\"\",\"\",Limits_Details!$C248)","v":""},{"$f":"IF(Limits_Details!$D248=\"\",\"\",Limits_Details!$D248)","v":""},"",{"$f":"IF(COUNTIF(AG$2:AG226,AG226)=1,AG226,\"\")","v":""},"","","",null,{"$f":"+IF(AR226=\"\",\"\",MAX(AM$1:AM225)+1)","v":""},{"$f":"IF(CEM_COM_CPMS_Detail!$B248=\"\",\"\",CEM_COM_CPMS_Detail!$B248)","v":""},{"$f":"IF(CEM_COM_CPMS_Detail!$C248=\"\",\"\",CEM_COM_CPMS_Detail!$C248)","v":""},{"$f":"IF(CEM_COM_CPMS_Detail!$D248=\"\",\"\",CEM_COM_CPMS_Detail!$D248)","v":""},"",{"$f":"IF(COUNTIF(AQ$2:AQ226,AQ226)=1,AQ226,\"\")","v":""},"","",""]
[{"$f":"+IF(D227=\"\",\"\",MAX(A$1:A226)+1)","v":""},{"$f":"IF(CEM_COM_CPMS_Identification!C249=\"\",\"\",CEM_COM_CPMS_Identification!C249)","v":""},"",{"$f":"IF(COUNTIF(B$2:B227,B227)=1,B227,\"\")","v":""},null,null,null,null,null,null,null,null,null,null,null,null,null,null,{"$f":"+IF(W227=\"\",\"\",MAX(S$1:S226)+1)","v":""},{"$f":"IF(Limits_Details!$B249=\"\",\"\",Limits_Details!$B249)","v":""},{"$f":"IF(Limits_Details!$C249=\"\",\"\",Limits_Details!$C249)","v":""},"",{"$f":"IF(COUNTIF(V$2:V227,V227)=1,V227,\"\")","v":""},"","",null,null,null,{"$f":"+IF(AH227=\"\",\"\",MAX(AC$1:AC226)+1)","v":""},{"$f":"IF(Limits_Details!$B249=\"\",\"\",Limits_Details!$B249)","v":""},{"$f":"IF(Limits_Details!$C249=\"\",\"\",Limits_Details!$C249)","v":""},{"$f":"IF(Limits_Details!$D249=\"\",\"\",Limits_Details!$D249)","v":""},"",{"$f":"IF(COUNTIF(AG$2:AG227,AG227)=1,AG227,\"\")","v":""},"","","",null,{"$f":"+IF(AR227=\"\",\"\",MAX(AM$1:AM226)+1)","v":""},{"$f":"IF(CEM_COM_CPMS_Detail!$B249=\"\",\"\",CEM_COM_CPMS_Detail!$B249)","v":""},{"$f":"IF(CEM_COM_CPMS_Detail!$C249=\"\",\"\",CEM_COM_CPMS_Detail!$C249)","v":""},{"$f":"IF(CEM_COM_CPMS_Detail!$D249=\"\",\"\",CEM_COM_CPMS_Detail!$D249)","v":""},"",{"$f":"IF(COUNTIF(AQ$2:AQ227,AQ227)=1,AQ227,\"\")","v":""},"","",""]
[{"$f":"+IF(D228=\"\",\"\",MAX(A$1:A227)+1)","v":""},{"$f":"IF(CEM_COM_CPMS_Identification!C250=\"\",\"\",CEM_COM_CPMS_Identification!C250)","v":""},"",{"$f":"IF(COUNTIF(B$2:B228,B228)=1,B228,\"\")","v":""},null,null,null,null,null,null,null,null,null,null,null,null,null,null,{"$f":"+IF(W228=\"\",\"\",MAX(S$1:S227)+1)","v":""},{"$f":"IF(Limits_Details!$B250=\"\",\"\",Limits_Details!$B250)","v":""},{"$f":"IF(Limits_Details!$C250=\"\",\"\",Limits_Details!$C250)","v":""},"",{"$f":"IF(COUNTIF(V$2:V228,V228)=1,V228,\"\")","v":""},"","",null,null,null,{"$f":"+IF(AH228=\"\",\"\",MAX(AC$1:AC227)+1)","v":""},{"$f":"IF(Limits_Details!$B250=\"\",\"\",Limits_Details!$B250)","v":""},{"$f":"IF(Limits_Details!$C250=\"\",\"\",Limits_Details!$C250)","v":""},{"$f":"IF(Limits_Details!$D250=\"\",\"\",Limits_Details!$D250)","v":""},"",{"$f":"IF(COUNTIF(AG$2:AG228,AG228)=1,AG228,\"\")","v":""},"","","",null,{"$f":"+IF(AR228=\"\",\"\",MAX(AM$1:AM227)+1)","v":""},{"$f":"IF(CEM_COM_CPMS_Detail!$B250=\"\",\"\",CEM_COM_CPMS_Detail!$B250)","v":""},{"$f":"IF(CEM_COM_CPMS_Detail!$C250=\"\",\"\",CEM_COM_CPMS_Detail!$C250)","v":""},{"$f":"IF(CEM_COM_CPMS_Detail!$D250=\"\",\"\",CEM_COM_CPMS_Detail!$D250)","v":""},"",{"$f":"IF(COUNTIF(AQ$2:AQ228,AQ228)=1,AQ228,\"\")","v":""},"","",""]
[{"$f":"+IF(D229=\"\",\"\",MAX(A$1:A228)+1)","v":""},{"$f":"IF(CEM_COM_CPMS_Identification!C251=\"\",\"\",CEM_COM_CPMS_Identification!C251)","v":""},"",{"$f":"IF(COUNTIF(B$2:B229,B229)=1,B229,\"\")","v":""},null,null,null,null,null,null,null,null,null,null,null,null,null,null,{"$f":"+IF(W229=\"\",\"\",MAX(S$1:S228)+1)","v":""},{"$f":"IF(Limits_Details!$B251=\"\",\"\",Limits_Details!$B251)","v":""},{"$f":"IF(Limits_Details!$C251=\"\",\"\",Limits_Details!$C251)","v":""},"",{"$f":"IF(COUNTIF(V$2:V229,V229)=1,V229,\"\")","v":""},"","",null,null,null,{"$f":"+IF(AH229=\"\",\"\",MAX(AC$1:AC228)+1)","v":""},{"$f":"IF(Limits_Details!$B251=\"\",\"\",Limits_Details!$B251)","v":""},{"$f":"IF(Limits_Details!$C251=\"\",\"\",Limits_Details!$C251)","v":""},{"$f":"IF(Limits_Details!$D251=\"\",\"\",Limits_Details!$D251)","v":""},"",{"$f":"IF(COUNTIF(AG$2:AG229,AG229)=1,AG229,\"\")","v":""},"","","",null,{"$f":"+IF(AR229=\"\",\"\",MAX(AM$1:AM228)+1)","v":""},{"$f":"IF(CEM_COM_CPMS_Detail!$B251=\"\",\"\",CEM_COM_CPMS_Detail!$B251)","v":""},{"$f":"IF(CEM_COM_CPMS_Detail!$C251=\"\",\"\",CEM_COM_CPMS_Detail!$C251)","v":""},{"$f":"IF(CEM_COM_CPMS_Detail!$D251=\"\",\"\",CEM_COM_CPMS_Detail!$D251)","v":""},"",{"$f":"IF(COUNTIF(AQ$2:AQ229,AQ229)=1,AQ229,\"\")","v":""},"","",""]
[{"$f":"+IF(D230=\"\",\"\",MAX(A$1:A229)+1)","v":""},{"$f":"IF(CEM_COM_CPMS_Identification!C252=\"\",\"\",CEM_COM_CPMS_Identification!C252)","v":""},"",{"$f":"IF(COUNTIF(B$2:B230,B230)=1,B230,\"\")","v":""},null,null,null,null,null,null,null,null,null,null,null,null,null,null,{"$f":"+IF(W230=\"\",\"\",MAX(S$1:S229)+1)","v":""},{"$f":"IF(Limits_Details!$B252=\"\",\"\",Limits_Details!$B252)","v":""},{"$f":"IF(Limits_Details!$C252=\"\",\"\",Limits_Details!$C252)","v":""},"",{"$f":"IF(COUNTIF(V$2:V230,V230)=1,V230,\"\")","v":""},"","",null,null,null,{"$f":"+IF(AH230=\"\",\"\",MAX(AC$1:AC229)+1)","v":""},{"$f":"IF(Limits_Details!$B252=\"\",\"\",Limits_Details!$B252)","v":""},{"$f":"IF(Limits_Details!$C252=\"\",\"\",Limits_Details!$C252)","v":""},{"$f":"IF(Limits_Details!$D252=\"\",\"\",Limits_Details!$D252)","v":""},"",{"$f":"IF(COUNTIF(AG$2:AG230,AG230)=1,AG230,\"\")","v":""},"","","",null,{"$f":"+IF(AR230=\"\",\"\",MAX(AM$1:AM229)+1)","v":""},{"$f":"IF(CEM_COM_CPMS_Detail!$B252=\"\",\"\",CEM_COM_CPMS_Detail!$B252)","v":""},{"$f":"IF(CEM_COM_CPMS_Detail!$C252=\"\",\"\",CEM_COM_CPMS_Detail!$C252)","v":""},{"$f":"IF(CEM_COM_CPMS_Detail!$D252=\"\",\"\",CEM_COM_CPMS_Detail!$D252)","v":""},"",{"$f":"IF(COUNTIF(AQ$2:AQ230,AQ230)=1,AQ230,\"\")","v":""},"","",""]
[{"$f":"+IF(D231=\"\",\"\",MAX(A$1:A230)+1)","v":""},{"$f":"IF(CEM_COM_CPMS_Identification!C253=\"\",\"\",CEM_COM_CPMS_Identification!C253)","v":""},"",{"$f":"IF(COUNTIF(B$2:B231,B231)=1,B231,\"\")","v":""},null,null,null,null,null,null,null,null,null,null,null,null,null,null,{"$f":"+IF(W231=\"\",\"\",MAX(S$1:S230)+1)","v":""},{"$f":"IF(Limits_Details!$B253=\"\",\"\",Limits_Details!$B253)","v":""},{"$f":"IF(Limits_Details!$C253=\"\",\"\",Limits_Details!$C253)","v":""},"",{"$f":"IF(COUNTIF(V$2:V231,V231)=1,V231,\"\")","v":""},"","",null,null,null,{"$f":"+IF(AH231=\"\",\"\",MAX(AC$1:AC230)+1)","v":""},{"$f":"IF(Limits_Details!$B253=\"\",\"\",Limits_Details!$B253)","v":""},{"$f":"IF(Limits_Details!$C253=\"\",\"\",Limits_Details!$C253)","v":""},{"$f":"IF(Limits_Details!$D253=\"\",\"\",Limits_Details!$D253)","v":""},"",{"$f":"IF(COUNTIF(AG$2:AG231,AG231)=1,AG231,\"\")","v":""},"","","",null,{"$f":"+IF(AR231=\"\",\"\",MAX(AM$1:AM230)+1)","v":""},{"$f":"IF(CEM_COM_CPMS_Detail!$B253=\"\",\"\",CEM_COM_CPMS_Detail!$B253)","v":""},{"$f":"IF(CEM_COM_CPMS_Detail!$C253=\"\",\"\",CEM_COM_CPMS_Detail!$C253)","v":""},{"$f":"IF(CEM_COM_CPMS_Detail!$D253=\"\",\"\",CEM_COM_CPMS_Detail!$D253)","v":""},"",{"$f":"IF(COUNTIF(AQ$2:AQ231,AQ231)=1,AQ231,\"\")","v":""},"","",""]
[{"$f":"+IF(D232=\"\",\"\",MAX(A$1:A231)+1)","v":""},{"$f":"IF(CEM_COM_CPMS_Identification!C254=\"\",\"\",CEM_COM_CPMS_Identification!C254)","v":""},"",{"$f":"IF(COUNTIF(B$2:B232,B232)=1,B232,\"\")","v":""},null,null,null,null,null,null,null,null,null,null,null,null,null,null,{"$f":"+IF(W232=\"\",\"\",MAX(S$1:S231)+1)","v":""},{"$f":"IF(Limits_Details!$B254=\"\",\"\",Limits_Details!$B254)","v":""},{"$f":"IF(Limits_Details!$C254=\"\",\"\",Limits_Details!$C254)","v":""},"",{"$f":"IF(COUNTIF(V$2:V232,V232)=1,V232,\"\")","v":""},"","",null,null,null,{"$f":"+IF(AH232=\"\",\"\",MAX(AC$1:AC231)+1)","v":""},{"$f":"IF(Limits_Details!$B254=\"\",\"\",Limits_Details!$B254)","v":""},{"$f":"IF(Limits_Details!$C254=\"\",\"\",Limits_Details!$C254)","v":""},{"$f":"IF(Limits_Details!$D254=\"\",\"\",Limits_Details!$D254)","v":""},"",{"$f":"IF(COUNTIF(AG$2:AG232,AG232)=1,AG232,\"\")","v":""},"","","",null,{"$f":"+IF(AR232=\"\",\"\",MAX(AM$1:AM231)+1)","v":""},{"$f":"IF(CEM_COM_CPMS_Detail!$B254=\"\",\"\",CEM_COM_CPMS_Detail!$B254)","v":""},{"$f":"IF(CEM_COM_CPMS_Detail!$C254=\"\",\"\",CEM_COM_CPMS_Detail!$C254)","v":""},{"$f":"IF(CEM_COM_CPMS_Detail!$D254=\"\",\"\",CEM_COM_CPMS_Detail!$D254)","v":""},"",{"$f":"IF(COUNTIF(AQ$2:AQ232,AQ232)=1,AQ232,\"\")","v":""},"","",""]
[{"$f":"+IF(D233=\"\",\"\",MAX(A$1:A232)+1)","v":""},{"$f":"IF(CEM_COM_CPMS_Identification!C255=\"\",\"\",CEM_COM_CPMS_Identification!C255)","v":""},"",{"$f":"IF(COUNTIF(B$2:B233,B233)=1,B233,\"\")","v":""},null,null,null,null,null,null,null,null,null,null,null,null,null,null,{"$f":"+IF(W233=\"\",\"\",MAX(S$1:S232)+1)","v":""},{"$f":"IF(Limits_Details!$B255=\"\",\"\",Limits_Details!$B255)","v":""},{"$f":"IF(Limits_Details!$C255=\"\",\"\",Limits_Details!$C255)","v":""},"",{"$f":"IF(COUNTIF(V$2:V233,V233)=1,V233,\"\")","v":""},"","",null,null,null,{"$f":"+IF(AH233=\"\",\"\",MAX(AC$1:AC232)+1)","v":""},{"$f":"IF(Limits_Details!$B255=\"\",\"\",Limits_Details!$B255)","v":""},{"$f":"IF(Limits_Details!$C255=\"\",\"\",Limits_Details!$C255)","v":""},{"$f":"IF(Limits_Details!$D255=\"\",\"\",Limits_Details!$D255)","v":""},"",{"$f":"IF(COUNTIF(AG$2:AG233,AG233)=1,AG233,\"\")","v":""},"","","",null,{"$f":"+IF(AR233=\"\",\"\",MAX(AM$1:AM232)+1)","v":""},{"$f":"IF(CEM_COM_CPMS_Detail!$B255=\"\",\"\",CEM_COM_CPMS_Detail!$B255)","v":""},{"$f":"IF(CEM_COM_CPMS_Detail!$C255=\"\",\"\",CEM_COM_CPMS_Detail!$C255)","v":""},{"$f":"IF(CEM_COM_CPMS_Detail!$D255=\"\",\"\",CEM_COM_CPMS_Detail!$D255)","v":""},"",{"$f":"IF(COUNTIF(AQ$2:AQ233,AQ233)=1,AQ233,\"\")","v":""},"","",""]
[{"$f":"+IF(D234=\"\",\"\",MAX(A$1:A233)+1)","v":""},{"$f":"IF(CEM_COM_CPMS_Identification!C256=\"\",\"\",CEM_COM_CPMS_Identification!C256)","v":""},"",{"$f":"IF(COUNTIF(B$2:B234,B234)=1,B234,\"\")","v":""},null,null,null,null,null,null,null,null,null,null,null,null,null,null,{"$f":"+IF(W234=\"\",\"\",MAX(S$1:S233)+1)","v":""},{"$f":"IF(Limits_Details!$B256=\"\",\"\",Limits_Details!$B256)","v":""},{"$f":"IF(Limits_Details!$C256=\"\",\"\",Limits_Details!$C256)","v":""},"",{"$f":"IF(COUNTIF(V$2:V234,V234)=1,V234,\"\")","v":""},"","",null,null,null,{"$f":"+IF(AH234=\"\",\"\",MAX(AC$1:AC233)+1)","v":""},{"$f":"IF(Limits_Details!$B256=\"\",\"\",Limits_Details!$B256)","v":""},{"$f":"IF(Limits_Details!$C256=\"\",\"\",Limits_Details!$C256)","v":""},{"$f":"IF(Limits_Details!$D256=\"\",\"\",Limits_Details!$D256)","v":""},"",{"$f":"IF(COUNTIF(AG$2:AG234,AG234)=1,AG234,\"\")","v":""},"","","",null,{"$f":"+IF(AR234=\"\",\"\",MAX(AM$1:AM233)+1)","v":""},{"$f":"IF(CEM_COM_CPMS_Detail!$B256=\"\",\"\",CEM_COM_CPMS_Detail!$B256)","v":""},{"$f":"IF(CEM_COM_CPMS_Detail!$C256=\"\",\"\",CEM_COM_CPMS_Detail!$C256)","v":""},{"$f":"IF(CEM_COM_CPMS_Detail!$D256=\"\",\"\",CEM_COM_CPMS_Detail!$D256)","v":""},"",{"$f":"IF(COUNTIF(AQ$2:AQ234,AQ234)=1,AQ234,\"\")","v":""},"","",""]
[{"$f":"+IF(D235=\"\",\"\",MAX(A$1:A234)+1)","v":""},{"$f":"IF(CEM_COM_CPMS_Identification!C257=\"\",\"\",CEM_COM_CPMS_Identification!C257)","v":""},"",{"$f":"IF(COUNTIF(B$2:B235,B235)=1,B235,\"\")","v":""},null,null,null,null,null,null,null,null,null,null,null,null,null,null,{"$f":"+IF(W235=\"\",\"\",MAX(S$1:S234)+1)","v":""},{"$f":"IF(Limits_Details!$B257=\"\",\"\",Limits_Details!$B257)","v":""},{"$f":"IF(Limits_Details!$C257=\"\",\"\",Limits_Details!$C257)","v":""},"",{"$f":"IF(COUNTIF(V$2:V235,V235)=1,V235,\"\")","v":""},"","",null,null,null,{"$f":"+IF(AH235=\"\",\"\",MAX(AC$1:AC234)+1)","v":""},{"$f":"IF(Limits_Details!$B257=\"\",\"\",Limits_Details!$B257)","v":""},{"$f":"IF(Limits_Details!$C257=\"\",\"\",Limits_Details!$C257)","v":""},{"$f":"IF(Limits_Details!$D257=\"\",\"\",Limits_Details!$D257)","v":""},"",{"$f":"IF(COUNTIF(AG$2:AG235,AG235)=1,AG235,\"\")","v":""},"","","",null,{"$f":"+IF(AR235=\"\",\"\",MAX(AM$1:AM234)+1)","v":""},{"$f":"IF(CEM_COM_CPMS_Detail!$B257=\"\",\"\",CEM_COM_CPMS_Detail!$B257)","v":""},{"$f":"IF(CEM_COM_CPMS_Detail!$C257=\"\",\"\",CEM_COM_CPMS_Detail!$C257)","v":""},{"$f":"IF(CEM_COM_CPMS_Detail!$D257=\"\",\"\",CEM_COM_CPMS_Detail!$D257)","v":""},"",{"$f":"IF(COUNTIF(AQ$2:AQ235,AQ235)=1,AQ235,\"\")","v":""},"","",""]
[{"$f":"+IF(D236=\"\",\"\",MAX(A$1:A235)+1)","v":""},{"$f":"IF(CEM_COM_CPMS_Identification!C258=\"\",\"\",CEM_COM_CPMS_Identification!C258)","v":""},"",{"$f":"IF(COUNTIF(B$2:B236,B236)=1,B236,\"\")","v":""},null,null,null,null,null,null,null,null,null,null,null,null,null,null,{"$f":"+IF(W236=\"\",\"\",MAX(S$1:S235)+1)","v":""},{"$f":"IF(Limits_Details!$B258=\"\",\"\",Limits_Details!$B258)","v":""},{"$f":"IF(Limits_Details!$C258=\"\",\"\",Limits_Details!$C258)","v":""},"",{"$f":"IF(COUNTIF(V$2:V236,V236)=1,V236,\"\")","v":""},"","",null,null,null,{"$f":"+IF(AH236=\"\",\"\",MAX(AC$1:AC235)+1)","v":""},{"$f":"IF(Limits_Details!$B258=\"\",\"\",Limits_Details!$B258)","v":""},{"$f":"IF(Limits_Details!$C258=\"\",\"\",Limits_Details!$C258)","v":""},{"$f":"IF(Limits_Details!$D258=\"\",\"\",Limits_Details!$D258)","v":""},"",{"$f":"IF(COUNTIF(AG$2:AG236,AG236)=1,AG236,\"\")","v":""},"","","",null,{"$f":"+IF(AR236=\"\",\"\",MAX(AM$1:AM235)+1)","v":""},{"$f":"IF(CEM_COM_CPMS_Detail!$B258=\"\",\"\",CEM_COM_CPMS_Detail!$B258)","v":""},{"$f":"IF(CEM_COM_CPMS_Detail!$C258=\"\",\"\",CEM_COM_CPMS_Detail!$C258)","v":""},{"$f":"IF(CEM_COM_CPMS_Detail!$D258=\"\",\"\",CEM_COM_CPMS_Detail!$D258)","v":""},"",{"$f":"IF(COUNTIF(AQ$2:AQ236,AQ236)=1,AQ236,\"\")","v":""},"","",""]
[{"$f":"+IF(D237=\"\",\"\",MAX(A$1:A236)+1)","v":""},{"$f":"IF(CEM_COM_CPMS_Identification!C259=\"\",\"\",CEM_COM_CPMS_Identification!C259)","v":""},"",{"$f":"IF(COUNTIF(B$2:B237,B237)=1,B237,\"\")","v":""},null,null,null,null,null,null,null,null,null,null,null,null,null,null,{"$f":"+IF(W237=\"\",\"\",MAX(S$1:S236)+1)","v":""},{"$f":"IF(Limits_Details!$B259=\"\",\"\",Limits_Details!$B259)","v":""},{"$f":"IF(Limits_Details!$C259=\"\",\"\",Limits_Details!$C259)","v":""},"",{"$f":"IF(COUNTIF(V$2:V237,V237)=1,V237,\"\")","v":""},"","",null,null,null,{"$f":"+IF(AH237=\"\",\"\",MAX(AC$1:AC236)+1)","v":""},{"$f":"IF(Limits_Details!$B259=\"\",\"\",Limits_Details!$B259)","v":""},{"$f":"IF(Limits_Details!$C259=\"\",\"\",Limits_Details!$C259)","v":""},{"$f":"IF(Limits_Details!$D259=\"\",\"\",Limits_Details!$D259)","v":""},"",{"$f":"IF(COUNTIF(AG$2:AG237,AG237)=1,AG237,\"\")","v":""},"","","",null,{"$f":"+IF(AR237=\"\",\"\",MAX(AM$1:AM236)+1)","v":""},{"$f":"IF(CEM_COM_CPMS_Detail!$B259=\"\",\"\",CEM_COM_CPMS_Detail!$B259)","v":""},{"$f":"IF(CEM_COM_CPMS_Detail!$C259=\"\",\"\",CEM_COM_CPMS_Detail!$C259)","v":""},{"$f":"IF(CEM_COM_CPMS_Detail!$D259=\"\",\"\",CEM_COM_CPMS_Detail!$D259)","v":""},"",{"$f":"IF(COUNTIF(AQ$2:AQ237,AQ237)=1,AQ237,\"\")","v":""},"","",""]
[{"$f":"+IF(D238=\"\",\"\",MAX(A$1:A237)+1)","v":""},{"$f":"IF(CEM_COM_CPMS_Identification!C260=\"\",\"\",CEM_COM_CPMS_Identification!C260)","v":""},"",{"$f":"IF(COUNTIF(B$2:B238,B238)=1,B238,\"\")","v":""},null,null,null,null,null,null,null,null,null,null,null,null,null,null,{"$f":"+IF(W238=\"\",\"\",MAX(S$1:S237)+1)","v":""},{"$f":"IF(Limits_Details!$B260=\"\",\"\",Limits_Details!$B260)","v":""},{"$f":"IF(Limits_Details!$C260=\"\",\"\",Limits_Details!$C260)","v":""},"",{"$f":"IF(COUNTIF(V$2:V238,V238)=1,V238,\"\")","v":""},"","",null,null,null,{"$f":"+IF(AH238=\"\",\"\",MAX(AC$1:AC237)+1)","v":""},{"$f":"IF(Limits_Details!$B260=\"\",\"\",Limits_Details!$B260)","v":""},{"$f":"IF(Limits_Details!$C260=\"\",\"\",Limits_Details!$C260)","v":""},{"$f":"IF(Limits_Details!$D260=\"\",\"\",Limits_Details!$D260)","v":""},"",{"$f":"IF(COUNTIF(AG$2:AG238,AG238)=1,AG238,\"\")","v":""},"","","",null,{"$f":"+IF(AR238=\"\",\"\",MAX(AM$1:AM237)+1)","v":""},{"$f":"IF(CEM_COM_CPMS_Detail!$B260=\"\",\"\",CEM_COM_CPMS_Detail!$B260)","v":""},{"$f":"IF(CEM_COM_CPMS_Detail!$C260=\"\",\"\",CEM_COM_CPMS_Detail!$C260)","v":""},{"$f":"IF(CEM_COM_CPMS_Detail!$D260=\"\",\"\",CEM_COM_CPMS_Detail!$D260)","v":""},"",{"$f":"IF(COUNTIF(AQ$2:AQ238,AQ238)=1,AQ238,\"\")","v":""},"","",""]
[{"$f":"+IF(D239=\"\",\"\",MAX(A$1:A238)+1)","v":""},{"$f":"IF(CEM_COM_CPMS_Identification!C261=\"\",\"\",CEM_COM_CPMS_Identification!C261)","v":""},"",{"$f":"IF(COUNTIF(B$2:B239,B239)=1,B239,\"\")","v":""},null,null,null,null,null,null,null,null,null,null,null,null,null,null,{"$f":"+IF(W239=\"\",\"\",MAX(S$1:S238)+1)","v":""},{"$f":"IF(Limits_Details!$B261=\"\",\"\",Limits_Details!$B261)","v":""},{"$f":"IF(Limits_Details!$C261=\"\",\"\",Limits_Details!$C261)","v":""},"",{"$f":"IF(COUNTIF(V$2:V239,V239)=1,V239,\"\")","v":""},"","",null,null,null,{"$f":"+IF(AH239=\"\",\"\",MAX(AC$1:AC238)+1)","v":""},{"$f":"IF(Limits_Details!$B261=\"\",\"\",Limits_Details!$B261)","v":""},{"$f":"IF(Limits_Details!$C261=\"\",\"\",Limits_Details!$C261)","v":""},{"$f":"IF(Limits_Details!$D261=\"\",\"\",Limits_Details!$D261)","v":""},"",{"$f":"IF(COUNTIF(AG$2:AG239,AG239)=1,AG239,\"\")","v":""},"","","",null,{"$f":"+IF(AR239=\"\",\"\",MAX(AM$1:AM238)+1)","v":""},{"$f":"IF(CEM_COM_CPMS_Detail!$B261=\"\",\"\",CEM_COM_CPMS_Detail!$B261)","v":""},{"$f":"IF(CEM_COM_CPMS_Detail!$C261=\"\",\"\",CEM_COM_CPMS_Detail!$C261)","v":""},{"$f":"IF(CEM_COM_CPMS_Detail!$D261=\"\",\"\",CEM_COM_CPMS_Detail!$D261)","v":""},"",{"$f":"IF(COUNTIF(AQ$2:AQ239,AQ239)=1,AQ239,\"\")","v":""},"","",""]
[{"$f":"+IF(D240=\"\",\"\",MAX(A$1:A239)+1)","v":""},{"$f":"IF(CEM_COM_CPMS_Identification!C262=\"\",\"\",CEM_COM_CPMS_Identification!C262)","v":""},"",{"$f":"IF(COUNTIF(B$2:B240,B240)=1,B240,\"\")","v":""},null,null,null,null,null,null,null,null,null,null,null,null,null,null,{"$f":"+IF(W240=\"\",\"\",MAX(S$1:S239)+1)","v":""},{"$f":"IF(Limits_Details!$B262=\"\",\"\",Limits_Details!$B262)","v":""},{"$f":"IF(Limits_Details!$C262=\"\",\"\",Limits_Details!$C262)","v":""},"",{"$f":"IF(COUNTIF(V$2:V240,V240)=1,V240,\"\")","v":""},"","",null,null,null,{"$f":"+IF(AH240=\"\",\"\",MAX(AC$1:AC239)+1)","v":""},{"$f":"IF(Limits_Details!$B262=\"\",\"\",Limits_Details!$B262)","v":""},{"$f":"IF(Limits_Details!$C262=\"\",\"\",Limits_Details!$C262)","v":""},{"$f":"IF(Limits_Details!$D262=\"\",\"\",Limits_Details!$D262)","v":""},"",{"$f":"IF(COUNTIF(AG$2:AG240,AG240)=1,AG240,\"\")","v":""},"","","",null,{"$f":"+IF(AR240=\"\",\"\",MAX(AM$1:AM239)+1)","v":""},{"$f":"IF(CEM_COM_CPMS_Detail!$B262=\"\",\"\",CEM_COM_CPMS_Detail!$B262)","v":""},{"$f":"IF(CEM_COM_CPMS_Detail!$C262=\"\",\"\",CEM_COM_CPMS_Detail!$C262)","v":""},{"$f":"IF(CEM_COM_CPMS_Detail!$D262=\"\",\"\",CEM_COM_CPMS_Detail!$D262)","v":""},"",{"$f":"IF(COUNTIF(AQ$2:AQ240,AQ240)=1,AQ240,\"\")","v":""},"","",""]
[{"$f":"+IF(D241=\"\",\"\",MAX(A$1:A240)+1)","v":""},{"$f":"IF(CEM_COM_CPMS_Identification!C263=\"\",\"\",CEM_COM_CPMS_Identification!C263)","v":""},"",{"$f":"IF(COUNTIF(B$2:B241,B241)=1,B241,\"\")","v":""},null,null,null,null,null,null,null,null,null,null,null,null,null,null,{"$f":"+IF(W241=\"\",\"\",MAX(S$1:S240)+1)","v":""},{"$f":"IF(Limits_Details!$B263=\"\",\"\",Limits_Details!$B263)","v":""},{"$f":"IF(Limits_Details!$C263=\"\",\"\",Limits_Details!$C263)","v":""},"",{"$f":"IF(COUNTIF(V$2:V241,V241)=1,V241,\"\")","v":""},"","",null,null,null,{"$f":"+IF(AH241=\"\",\"\",MAX(AC$1:AC240)+1)","v":""},{"$f":"IF(Limits_Details!$B263=\"\",\"\",Limits_Details!$B263)","v":""},{"$f":"IF(Limits_Details!$C263=\"\",\"\",Limits_Details!$C263)","v":""},{"$f":"IF(Limits_Details!$D263=\"\",\"\",Limits_Details!$D263)","v":""},"",{"$f":"IF(COUNTIF(AG$2:AG241,AG241)=1,AG241,\"\")","v":""},"","","",null,{"$f":"+IF(AR241=\"\",\"\",MAX(AM$1:AM240)+1)","v":""},{"$f":"IF(CEM_COM_CPMS_Detail!$B263=\"\",\"\",CEM_COM_CPMS_Detail!$B263)","v":""},{"$f":"IF(CEM_COM_CPMS_Detail!$C263=\"\",\"\",CEM_COM_CPMS_Detail!$C263)","v":""},{"$f":"IF(CEM_COM_CPMS_Detail!$D263=\"\",\"\",CEM_COM_CPMS_Detail!$D263)","v":""},"",{"$f":"IF(COUNTIF(AQ$2:AQ241,AQ241)=1,AQ241,\"\")","v":""},"","",""]
[{"$f":"+IF(D242=\"\",\"\",MAX(A$1:A241)+1)","v":""},{"$f":"IF(CEM_COM_CPMS_Identification!C264=\"\",\"\",CEM_COM_CPMS_Identification!C264)","v":""},"",{"$f":"IF(COUNTIF(B$2:B242,B242)=1,B242,\"\")","v":""},null,null,null,null,null,null,null,null,null,null,null,null,null,null,{"$f":"+IF(W242=\"\",\"\",MAX(S$1:S241)+1)","v":""},{"$f":"IF(Limits_Details!$B264=\"\",\"\",Limits_Details!$B264)","v":""},{"$f":"IF(Limits_Details!$C264=\"\",\"\",Limits_Details!$C264)","v":""},"",{"$f":"IF(COUNTIF(V$2:V242,V242)=1,V242,\"\")","v":""},"","",null,null,null,{"$f":"+IF(AH242=\"\",\"\",MAX(AC$1:AC241)+1)","v":""},{"$f":"IF(Limits_Details!$B264=\"\",\"\",Limits_Details!$B264)","v":""},{"$f":"IF(Limits_Details!$C264=\"\",\"\",Limits_Details!$C264)","v":""},{"$f":"IF(Limits_Details!$D264=\"\",\"\",Limits_Details!$D264)","v":""},"",{"$f":"IF(COUNTIF(AG$2:AG242,AG242)=1,AG242,\"\")","v":""},"","","",null,{"$f":"+IF(AR242=\"\",\"\",MAX(AM$1:AM241)+1)","v":""},{"$f":"IF(CEM_COM_CPMS_Detail!$B264=\"\",\"\",CEM_COM_CPMS_Detail!$B264)","v":""},{"$f":"IF(CEM_COM_CPMS_Detail!$C264=\"\",\"\",CEM_COM_CPMS_Detail!$C264)","v":""},{"$f":"IF(CEM_COM_CPMS_Detail!$D264=\"\",\"\",CEM_COM_CPMS_Detail!$D264)","v":""},"",{"$f":"IF(COUNTIF(AQ$2:AQ242,AQ242)=1,AQ242,\"\")","v":""},"","",""]
[{"$f":"+IF(D243=\"\",\"\",MAX(A$1:A242)+1)","v":""},{"$f":"IF(CEM_COM_CPMS_Identification!C265=\"\",\"\",CEM_COM_CPMS_Identification!C265)","v":""},"",{"$f":"IF(COUNTIF(B$2:B243,B243)=1,B243,\"\")","v":""},null,null,null,null,null,null,null,null,null,null,null,null,null,null,{"$f":"+IF(W243=\"\",\"\",MAX(S$1:S242)+1)","v":""},{"$f":"IF(Limits_Details!$B265=\"\",\"\",Limits_Details!$B265)","v":""},{"$f":"IF(Limits_Details!$C265=\"\",\"\",Limits_Details!$C265)","v":""},"",{"$f":"IF(COUNTIF(V$2:V243,V243)=1,V243,\"\")","v":""},"","",null,null,null,{"$f":"+IF(AH243=\"\",\"\",MAX(AC$1:AC242)+1)","v":""},{"$f":"IF(Limits_Details!$B265=\"\",\"\",Limits_Details!$B265)","v":""},{"$f":"IF(Limits_Details!$C265=\"\",\"\",Limits_Details!$C265)","v":""},{"$f":"IF(Limits_Details!$D265=\"\",\"\",Limits_Details!$D265)","v":""},"",{"$f":"IF(COUNTIF(AG$2:AG243,AG243)=1,AG243,\"\")","v":""},"","","",null,{"$f":"+IF(AR243=\"\",\"\",MAX(AM$1:AM242)+1)","v":""},{"$f":"IF(CEM_COM_CPMS_Detail!$B265=\"\",\"\",CEM_COM_CPMS_Detail!$B265)","v":""},{"$f":"IF(CEM_COM_CPMS_Detail!$C265=\"\",\"\",CEM_COM_CPMS_Detail!$C265)","v":""},{"$f":"IF(CEM_COM_CPMS_Detail!$D265=\"\",\"\",CEM_COM_CPMS_Detail!$D265)","v":""},"",{"$f":"IF(COUNTIF(AQ$2:AQ243,AQ243)=1,AQ243,\"\")","v":""},"","",""]
[{"$f":"+IF(D244=\"\",\"\",MAX(A$1:A243)+1)","v":""},{"$f":"IF(CEM_COM_CPMS_Identification!C266=\"\",\"\",CEM_COM_CPMS_Identification!C266)","v":""},"",{"$f":"IF(COUNTIF(B$2:B244,B244)=1,B244,\"\")","v":""},null,null,null,null,null,null,null,null,null,null,null,null,null,null,{"$f":"+IF(W244=\"\",\"\",MAX(S$1:S243)+1)","v":""},{"$f":"IF(Limits_Details!$B266=\"\",\"\",Limits_Details!$B266)","v":""},{"$f":"IF(Limits_Details!$C266=\"\",\"\",Limits_Details!$C266)","v":""},"",{"$f":"IF(COUNTIF(V$2:V244,V244)=1,V244,\"\")","v":""},"","",null,null,null,{"$f":"+IF(AH244=\"\",\"\",MAX(AC$1:AC243)+1)","v":""},{"$f":"IF(Limits_Details!$B266=\"\",\"\",Limits_Details!$B266)","v":""},{"$f":"IF(Limits_Details!$C266=\"\",\"\",Limits_Details!$C266)","v":""},{"$f":"IF(Limits_Details!$D266=\"\",\"\",Limits_Details!$D266)","v":""},"",{"$f":"IF(COUNTIF(AG$2:AG244,AG244)=1,AG244,\"\")","v":""},"","","",null,{"$f":"+IF(AR244=\"\",\"\",MAX(AM$1:AM243)+1)","v":""},{"$f":"IF(CEM_COM_CPMS_Detail!$B266=\"\",\"\",CEM_COM_CPMS_Detail!$B266)","v":""},{"$f":"IF(CEM_COM_CPMS_Detail!$C266=\"\",\"\",CEM_COM_CPMS_Detail!$C266)","v":""},{"$f":"IF(CEM_COM_CPMS_Detail!$D266=\"\",\"\",CEM_COM_CPMS_Detail!$D266)","v":""},"",{"$f":"IF(COUNTIF(AQ$2:AQ244,AQ244)=1,AQ244,\"\")","v":""},"","",""]
[{"$f":"+IF(D245=\"\",\"\",MAX(A$1:A244)+1)","v":""},{"$f":"IF(CEM_COM_CPMS_Identification!C267=\"\",\"\",CEM_COM_CPMS_Identification!C267)","v":""},"",{"$f":"IF(COUNTIF(B$2:B245,B245)=1,B245,\"\")","v":""},null,null,null,null,null,null,null,null,null,null,null,null,null,null,{"$f":"+IF(W245=\"\",\"\",MAX(S$1:S244)+1)","v":""},{"$f":"IF(Limits_Details!$B267=\"\",\"\",Limits_Details!$B267)","v":""},{"$f":"IF(Limits_Details!$C267=\"\",\"\",Limits_Details!$C267)","v":""},"",{"$f":"IF(COUNTIF(V$2:V245,V245)=1,V245,\"\")","v":""},"","",null,null,null,{"$f":"+IF(AH245=\"\",\"\",MAX(AC$1:AC244)+1)","v":""},{"$f":"IF(Limits_Details!$B267=\"\",\"\",Limits_Details!$B267)","v":""},{"$f":"IF(Limits_Details!$C267=\"\",\"\",Limits_Details!$C267)","v":""},{"$f":"IF(Limits_Details!$D267=\"\",\"\",Limits_Details!$D267)","v":""},"",{"$f":"IF(COUNTIF(AG$2:AG245,AG245)=1,AG245,\"\")","v":""},"","","",null,{"$f":"+IF(AR245=\"\",\"\",MAX(AM$1:AM244)+1)","v":""},{"$f":"IF(CEM_COM_CPMS_Detail!$B267=\"\",\"\",CEM_COM_CPMS_Detail!$B267)","v":""},{"$f":"IF(CEM_COM_CPMS_Detail!$C267=\"\",\"\",CEM_COM_CPMS_Detail!$C267)","v":""},{"$f":"IF(CEM_COM_CPMS_Detail!$D267=\"\",\"\",CEM_COM_CPMS_Detail!$D267)","v":""},"",{"$f":"IF(COUNTIF(AQ$2:AQ245,AQ245)=1,AQ245,\"\")","v":""},"","",""]
[{"$f":"+IF(D246=\"\",\"\",MAX(A$1:A245)+1)","v":""},{"$f":"IF(CEM_COM_CPMS_Identification!C268=\"\",\"\",CEM_COM_CPMS_Identification!C268)","v":""},"",{"$f":"IF(COUNTIF(B$2:B246,B246)=1,B246,\"\")","v":""},null,null,null,null,null,null,null,null,null,null,null,null,null,null,{"$f":"+IF(W246=\"\",\"\",MAX(S$1:S245)+1)","v":""},{"$f":"IF(Limits_Details!$B268=\"\",\"\",Limits_Details!$B268)","v":""},{"$f":"IF(Limits_Details!$C268=\"\",\"\",Limits_Details!$C268)","v":""},"",{"$f":"IF(COUNTIF(V$2:V246,V246)=1,V246,\"\")","v":""},"","",null,null,null,{"$f":"+IF(AH246=\"\",\"\",MAX(AC$1:AC245)+1)","v":""},{"$f":"IF(Limits_Details!$B268=\"\",\"\",Limits_Details!$B268)","v":""},{"$f":"IF(Limits_Details!$C268=\"\",\"\",Limits_Details!$C268)","v":""},{"$f":"IF(Limits_Details!$D268=\"\",\"\",Limits_Details!$D268)","v":""},"",{"$f":"IF(COUNTIF(AG$2:AG246,AG246)=1,AG246,\"\")","v":""},"","","",null,{"$f":"+IF(AR246=\"\",\"\",MAX(AM$1:AM245)+1)","v":""},{"$f":"IF(CEM_COM_CPMS_Detail!$B268=\"\",\"\",CEM_COM_CPMS_Detail!$B268)","v":""},{"$f":"IF(CEM_COM_CPMS_Detail!$C268=\"\",\"\",CEM_COM_CPMS_Detail!$C268)","v":""},{"$f":"IF(CEM_COM_CPMS_Detail!$D268=\"\",\"\",CEM_COM_CPMS_Detail!$D268)","v":""},"",{"$f":"IF(COUNTIF(AQ$2:AQ246,AQ246)=1,AQ246,\"\")","v":""},"","",""]
[{"$f":"+IF(D247=\"\",\"\",MAX(A$1:A246)+1)","v":""},{"$f":"IF(CEM_COM_CPMS_Identification!C269=\"\",\"\",CEM_COM_CPMS_Identification!C269)","v":""},"",{"$f":"IF(COUNTIF(B$2:B247,B247)=1,B247,\"\")","v":""},null,null,null,null,null,null,null,null,null,null,null,null,null,null,{"$f":"+IF(W247=\"\",\"\",MAX(S$1:S246)+1)","v":""},{"$f":"IF(Limits_Details!$B269=\"\",\"\",Limits_Details!$B269)","v":""},{"$f":"IF(Limits_Details!$C269=\"\",\"\",Limits_Details!$C269)","v":""},"",{"$f":"IF(COUNTIF(V$2:V247,V247)=1,V247,\"\")","v":""},"","",null,null,null,{"$f":"+IF(AH247=\"\",\"\",MAX(AC$1:AC246)+1)","v":""},{"$f":"IF(Limits_Details!$B269=\"\",\"\",Limits_Details!$B269)","v":""},{"$f":"IF(Limits_Details!$C269=\"\",\"\",Limits_Details!$C269)","v":""},{"$f":"IF(Limits_Details!$D269=\"\",\"\",Limits_Details!$D269)","v":""},"",{"$f":"IF(COUNTIF(AG$2:AG247,AG247)=1,AG247,\"\")","v":""},"","","",null,{"$f":"+IF(AR247=\"\",\"\",MAX(AM$1:AM246)+1)","v":""},{"$f":"IF(CEM_COM_CPMS_Detail!$B269=\"\",\"\",CEM_COM_CPMS_Detail!$B269)","v":""},{"$f":"IF(CEM_COM_CPMS_Detail!$C269=\"\",\"\",CEM_COM_CPMS_Detail!$C269)","v":""},{"$f":"IF(CEM_COM_CPMS_Detail!$D269=\"\",\"\",CEM_COM_CPMS_Detail!$D269)","v":""},"",{"$f":"IF(COUNTIF(AQ$2:AQ247,AQ247)=1,AQ247,\"\")","v":""},"","",""]
[{"$f":"+IF(D248=\"\",\"\",MAX(A$1:A247)+1)","v":""},{"$f":"IF(CEM_COM_CPMS_Identification!C270=\"\",\"\",CEM_COM_CPMS_Identification!C270)","v":""},"",{"$f":"IF(COUNTIF(B$2:B248,B248)=1,B248,\"\")","v":""},null,null,null,null,null,null,null,null,null,null,null,null,null,null,{"$f":"+IF(W248=\"\",\"\",MAX(S$1:S247)+1)","v":""},{"$f":"IF(Limits_Details!$B270=\"\",\"\",Limits_Details!$B270)","v":""},{"$f":"IF(Limits_Details!$C270=\"\",\"\",Limits_Details!$C270)","v":""},"",{"$f":"IF(COUNTIF(V$2:V248,V248)=1,V248,\"\")","v":""},"","",null,null,null,{"$f":"+IF(AH248=\"\",\"\",MAX(AC$1:AC247)+1)","v":""},{"$f":"IF(Limits_Details!$B270=\"\",\"\",Limits_Details!$B270)","v":""},{"$f":"IF(Limits_Details!$C270=\"\",\"\",Limits_Details!$C270)","v":""},{"$f":"IF(Limits_Details!$D270=\"\",\"\",Limits_Details!$D270)","v":""},"",{"$f":"IF(COUNTIF(AG$2:AG248,AG248)=1,AG248,\"\")","v":""},"","","",null,{"$f":"+IF(AR248=\"\",\"\",MAX(AM$1:AM247)+1)","v":""},{"$f":"IF(CEM_COM_CPMS_Detail!$B270=\"\",\"\",CEM_COM_CPMS_Detail!$B270)","v":""},{"$f":"IF(CEM_COM_CPMS_Detail!$C270=\"\",\"\",CEM_COM_CPMS_Detail!$C270)","v":""},{"$f":"IF(CEM_COM_CPMS_Detail!$D270=\"\",\"\",CEM_COM_CPMS_Detail!$D270)","v":""},"",{"$f":"IF(COUNTIF(AQ$2:AQ248,AQ248)=1,AQ248,\"\")","v":""},"","",""]
[{"$f":"+IF(D249=\"\",\"\",MAX(A$1:A248)+1)","v":""},{"$f":"IF(CEM_COM_CPMS_Identification!C271=\"\",\"\",CEM_COM_CPMS_Identification!C271)","v":""},"",{"$f":"IF(COUNTIF(B$2:B249,B249)=1,B249,\"\")","v":""},null,null,null,null,null,null,null,null,null,null,null,null,null,null,{"$f":"+IF(W249=\"\",\"\",MAX(S$1:S248)+1)","v":""},{"$f":"IF(Limits_Details!$B271=\"\",\"\",Limits_Details!$B271)","v":""},{"$f":"IF(Limits_Details!$C271=\"\",\"\",Limits_Details!$C271)","v":""},"",{"$f":"IF(COUNTIF(V$2:V249,V249)=1,V249,\"\")","v":""},"","",null,null,null,{"$f":"+IF(AH249=\"\",\"\",MAX(AC$1:AC248)+1)","v":""},{"$f":"IF(Limits_Details!$B271=\"\",\"\",Limits_Details!$B271)","v":""},{"$f":"IF(Limits_Details!$C271=\"\",\"\",Limits_Details!$C271)","v":""},{"$f":"IF(Limits_Details!$D271=\"\",\"\",Limits_Details!$D271)","v":""},"",{"$f":"IF(COUNTIF(AG$2:AG249,AG249)=1,AG249,\"\")","v":""},"","","",null,{"$f":"+IF(AR249=\"\",\"\",MAX(AM$1:AM248)+1)","v":""},{"$f":"IF(CEM_COM_CPMS_Detail!$B271=\"\",\"\",CEM_COM_CPMS_Detail!$B271)","v":""},{"$f":"IF(CEM_COM_CPMS_Detail!$C271=\"\",\"\",CEM_COM_CPMS_Detail!$C271)","v":""},{"$f":"IF(CEM_COM_CPMS_Detail!$D271=\"\",\"\",CEM_COM_CPMS_Detail!$D271)","v":""},"",{"$f":"IF(COUNTIF(AQ$2:AQ249,AQ249)=1,AQ249,\"\")","v":""},"","",""]
[{"$f":"+IF(D250=\"\",\"\",MAX(A$1:A249)+1)","v":""},{"$f":"IF(CEM_COM_CPMS_Identification!C272=\"\",\"\",CEM_COM_CPMS_Identification!C272)","v":""},"",{"$f":"IF(COUNTIF(B$2:B250,B250)=1,B250,\"\")","v":""},null,null,null,null,null,null,null,null,null,null,null,null,null,null,{"$f":"+IF(W250=\"\",\"\",MAX(S$1:S249)+1)","v":""},{"$f":"IF(Limits_Details!$B272=\"\",\"\",Limits_Details!$B272)","v":""},{"$f":"IF(Limits_Details!$C272=\"\",\"\",Limits_Details!$C272)","v":""},"",{"$f":"IF(COUNTIF(V$2:V250,V250)=1,V250,\"\")","v":""},"","",null,null,null,{"$f":"+IF(AH250=\"\",\"\",MAX(AC$1:AC249)+1)","v":""},{"$f":"IF(Limits_Details!$B272=\"\",\"\",Limits_Details!$B272)","v":""},{"$f":"IF(Limits_Details!$C272=\"\",\"\",Limits_Details!$C272)","v":""},{"$f":"IF(Limits_Details!$D272=\"\",\"\",Limits_Details!$D272)","v":""},"",{"$f":"IF(COUNTIF(AG$2:AG250,AG250)=1,AG250,\"\")","v":""},"","","",null,{"$f":"+IF(AR250=\"\",\"\",MAX(AM$1:AM249)+1)","v":""},{"$f":"IF(CEM_COM_CPMS_Detail!$B272=\"\",\"\",CEM_COM_CPMS_Detail!$B272)","v":""},{"$f":"IF(CEM_COM_CPMS_Detail!$C272=\"\",\"\",CEM_COM_CPMS_Detail!$C272)","v":""},{"$f":"IF(CEM_COM_CPMS_Detail!$D272=\"\",\"\",CEM_COM_CPMS_Detail!$D272)","v":""},"",{"$f":"IF(COUNTIF(AQ$2:AQ250,AQ250)=1,AQ250,\"\")","v":""},"","",""]
[{"$f":"+IF(D251=\"\",\"\",MAX(A$1:A250)+1)","v":""},{"$f":"IF(CEM_COM_CPMS_Identification!C273=\"\",\"\",CEM_COM_CPMS_Identification!C273)","v":""},"",{"$f":"IF(COUNTIF(B$2:B251,B251)=1,B251,\"\")","v":""},null,null,null,null,null,null,null,null,null,null,null,null,null,null,{"$f":"+IF(W251=\"\",\"\",MAX(S$1:S250)+1)","v":""},{"$f":"IF(Limits_Details!$B273=\"\",\"\",Limits_Details!$B273)","v":""},{"$f":"IF(Limits_Details!$C273=\"\",\"\",Limits_Details!$C273)","v":""},"",{"$f":"IF(COUNTIF(V$2:V251,V251)=1,V251,\"\")","v":""},"","",null,null,null,{"$f":"+IF(AH251=\"\",\"\",MAX(AC$1:AC250)+1)","v":""},{"$f":"IF(Limits_Details!$B273=\"\",\"\",Limits_Details!$B273)","v":""},{"$f":"IF(Limits_Details!$C273=\"\",\"\",Limits_Details!$C273)","v":""},{"$f":"IF(Limits_Details!$D273=\"\",\"\",Limits_Details!$D273)","v":""},"",{"$f":"IF(COUNTIF(AG$2:AG251,AG251)=1,AG251,\"\")","v":""},"","","",null,{"$f":"+IF(AR251=\"\",\"\",MAX(AM$1:AM250)+1)","v":""},{"$f":"IF(CEM_COM_CPMS_Detail!$B273=\"\",\"\",CEM_COM_CPMS_Detail!$B273)","v":""},{"$f":"IF(CEM_COM_CPMS_Detail!$C273=\"\",\"\",CEM_COM_CPMS_Detail!$C273)","v":""},{"$f":"IF(CEM_COM_CPMS_Detail!$D273=\"\",\"\",CEM_COM_CPMS_Detail!$D273)","v":""},"",{"$f":"IF(COUNTIF(AQ$2:AQ251,AQ251)=1,AQ251,\"\")","v":""},"","",""]
[{"$f":"+IF(D252=\"\",\"\",MAX(A$1:A251)+1)","v":""},{"$f":"IF(CEM_COM_CPMS_Identification!C274=\"\",\"\",CEM_COM_CPMS_Identification!C274)","v":""},"",{"$f":"IF(COUNTIF(B$2:B252,B252)=1,B252,\"\")","v":""},null,null,null,null,null,null,null,null,null,null,null,null,null,null,{"$f":"+IF(W252=\"\",\"\",MAX(S$1:S251)+1)","v":""},{"$f":"IF(Limits_Details!$B274=\"\",\"\",Limits_Details!$B274)","v":""},{"$f":"IF(Limits_Details!$C274=\"\",\"\",Limits_Details!$C274)","v":""},"",{"$f":"IF(COUNTIF(V$2:V252,V252)=1,V252,\"\")","v":""},"","",null,null,null,{"$f":"+IF(AH252=\"\",\"\",MAX(AC$1:AC251)+1)","v":""},{"$f":"IF(Limits_Details!$B274=\"\",\"\",Limits_Details!$B274)","v":""},{"$f":"IF(Limits_Details!$C274=\"\",\"\",Limits_Details!$C274)","v":""},{"$f":"IF(Limits_Details!$D274=\"\",\"\",Limits_Details!$D274)","v":""},"",{"$f":"IF(COUNTIF(AG$2:AG252,AG252)=1,AG252,\"\")","v":""},"","","",null,{"$f":"+IF(AR252=\"\",\"\",MAX(AM$1:AM251)+1)","v":""},{"$f":"IF(CEM_COM_CPMS_Detail!$B274=\"\",\"\",CEM_COM_CPMS_Detail!$B274)","v":""},{"$f":"IF(CEM_COM_CPMS_Detail!$C274=\"\",\"\",CEM_COM_CPMS_Detail!$C274)","v":""},{"$f":"IF(CEM_COM_CPMS_Detail!$D274=\"\",\"\",CEM_COM_CPMS_Detail!$D274)","v":""},"",{"$f":"IF(COUNTIF(AQ$2:AQ252,AQ252)=1,AQ252,\"\")","v":""},"","",""]
[{"$f":"+IF(D253=\"\",\"\",MAX(A$1:A252)+1)","v":""},{"$f":"IF(CEM_COM_CPMS_Identification!C275=\"\",\"\",CEM_COM_CPMS_Identification!C275)","v":""},"",{"$f":"IF(COUNTIF(B$2:B253,B253)=1,B253,\"\")","v":""},null,null,null,null,null,null,null,null,null,null,null,null,null,null,{"$f":"+IF(W253=\"\",\"\",MAX(S$1:S252)+1)","v":""},{"$f":"IF(Limits_Details!$B275=\"\",\"\",Limits_Details!$B275)","v":""},{"$f":"IF(Limits_Details!$C275=\"\",\"\",Limits_Details!$C275)","v":""},"",{"$f":"IF(COUNTIF(V$2:V253,V253)=1,V253,\"\")","v":""},"","",null,null,null,{"$f":"+IF(AH253=\"\",\"\",MAX(AC$1:AC252)+1)","v":""},{"$f":"IF(Limits_Details!$B275=\"\",\"\",Limits_Details!$B275)","v":""},{"$f":"IF(Limits_Details!$C275=\"\",\"\",Limits_Details!$C275)","v":""},{"$f":"IF(Limits_Details!$D275=\"\",\"\",Limits_Details!$D275)","v":""},"",{"$f":"IF(COUNTIF(AG$2:AG253,AG253)=1,AG253,\"\")","v":""},"","","",null,{"$f":"+IF(AR253=\"\",\"\",MAX(AM$1:AM252)+1)","v":""},{"$f":"IF(CEM_COM_CPMS_Detail!$B275=\"\",\"\",CEM_COM_CPMS_Detail!$B275)","v":""},{"$f":"IF(CEM_COM_CPMS_Detail!$C275=\"\",\"\",CEM_COM_CPMS_Detail!$C275)","v":""},{"$f":"IF(CEM_COM_CPMS_Detail!$D275=\"\",\"\",CEM_COM_CPMS_Detail!$D275)","v":""},"",{"$f":"IF(COUNTIF(AQ$2:AQ253,AQ253)=1,AQ253,\"\")","v":""},"","",""]
[{"$f":"+IF(D254=\"\",\"\",MAX(A$1:A253)+1)","v":""},{"$f":"IF(CEM_COM_CPMS_Identification!C276=\"\",\"\",CEM_COM_CPMS_Identification!C276)","v":""},"",{"$f":"IF(COUNTIF(B$2:B254,B254)=1,B254,\"\")","v":""},null,null,null,null,null,null,null,null,null,null,null,null,null,null,{"$f":"+IF(W254=\"\",\"\",MAX(S$1:S253)+1)","v":""},{"$f":"IF(Limits_Details!$B276=\"\",\"\",Limits_Details!$B276)","v":""},{"$f":"IF(Limits_Details!$C276=\"\",\"\",Limits_Details!$C276)","v":""},"",{"$f":"IF(COUNTIF(V$2:V254,V254)=1,V254,\"\")","v":""},"","",null,null,null,{"$f":"+IF(AH254=\"\",\"\",MAX(AC$1:AC253)+1)","v":""},{"$f":"IF(Limits_Details!$B276=\"\",\"\",Limits_Details!$B276)","v":""},{"$f":"IF(Limits_Details!$C276=\"\",\"\",Limits_Details!$C276)","v":""},{"$f":"IF(Limits_Details!$D276=\"\",\"\",Limits_Details!$D276)","v":""},"",{"$f":"IF(COUNTIF(AG$2:AG254,AG254)=1,AG254,\"\")","v":""},"","","",null,{"$f":"+IF(AR254=\"\",\"\",MAX(AM$1:AM253)+1)","v":""},{"$f":"IF(CEM_COM_CPMS_Detail!$B276=\"\",\"\",CEM_COM_CPMS_Detail!$B276)","v":""},{"$f":"IF(CEM_COM_CPMS_Detail!$C276=\"\",\"\",CEM_COM_CPMS_Detail!$C276)","v":""},{"$f":"IF(CEM_COM_CPMS_Detail!$D276=\"\",\"\",CEM_COM_CPMS_Detail!$D276)","v":""},"",{"$f":"IF(COUNTIF(AQ$2:AQ254,AQ254)=1,AQ254,\"\")","v":""},"","",""]
[{"$f":"+IF(D255=\"\",\"\",MAX(A$1:A254)+1)","v":""},{"$f":"IF(CEM_COM_CPMS_Identification!C277=\"\",\"\",CEM_COM_CPMS_Identification!C277)","v":""},"",{"$f":"IF(COUNTIF(B$2:B255,B255)=1,B255,\"\")","v":""},null,null,null,null,null,null,null,null,null,null,null,null,null,null,{"$f":"+IF(W255=\"\",\"\",MAX(S$1:S254)+1)","v":""},{"$f":"IF(Limits_Details!$B277=\"\",\"\",Limits_Details!$B277)","v":""},{"$f":"IF(Limits_Details!$C277=\"\",\"\",Limits_Details!$C277)","v":""},"",{"$f":"IF(COUNTIF(V$2:V255,V255)=1,V255,\"\")","v":""},"","",null,null,null,{"$f":"+IF(AH255=\"\",\"\",MAX(AC$1:AC254)+1)","v":""},{"$f":"IF(Limits_Details!$B277=\"\",\"\",Limits_Details!$B277)","v":""},{"$f":"IF(Limits_Details!$C277=\"\",\"\",Limits_Details!$C277)","v":""},{"$f":"IF(Limits_Details!$D277=\"\",\"\",Limits_Details!$D277)","v":""},"",{"$f":"IF(COUNTIF(AG$2:AG255,AG255)=1,AG255,\"\")","v":""},"","","",null,{"$f":"+IF(AR255=\"\",\"\",MAX(AM$1:AM254)+1)","v":""},{"$f":"IF(CEM_COM_CPMS_Detail!$B277=\"\",\"\",CEM_COM_CPMS_Detail!$B277)","v":""},{"$f":"IF(CEM_COM_CPMS_Detail!$C277=\"\",\"\",CEM_COM_CPMS_Detail!$C277)","v":""},{"$f":"IF(CEM_COM_CPMS_Detail!$D277=\"\",\"\",CEM_COM_CPMS_Detail!$D277)","v":""},"",{"$f":"IF(COUNTIF(AQ$2:AQ255,AQ255)=1,AQ255,\"\")","v":""},"","",""]
[{"$f":"+IF(D256=\"\",\"\",MAX(A$1:A255)+1)","v":""},{"$f":"IF(CEM_COM_CPMS_Identification!C278=\"\",\"\",CEM_COM_CPMS_Identification!C278)","v":""},"",{"$f":"IF(COUNTIF(B$2:B256,B256)=1,B256,\"\")","v":""},null,null,null,null,null,null,null,null,null,null,null,null,null,null,{"$f":"+IF(W256=\"\",\"\",MAX(S$1:S255)+1)","v":""},{"$f":"IF(Limits_Details!$B278=\"\",\"\",Limits_Details!$B278)","v":""},{"$f":"IF(Limits_Details!$C278=\"\",\"\",Limits_Details!$C278)","v":""},"",{"$f":"IF(COUNTIF(V$2:V256,V256)=1,V256,\"\")","v":""},"","",null,null,null,{"$f":"+IF(AH256=\"\",\"\",MAX(AC$1:AC255)+1)","v":""},{"$f":"IF(Limits_Details!$B278=\"\",\"\",Limits_Details!$B278)","v":""},{"$f":"IF(Limits_Details!$C278=\"\",\"\",Limits_Details!$C278)","v":""},{"$f":"IF(Limits_Details!$D278=\"\",\"\",Limits_Details!$D278)","v":""},"",{"$f":"IF(COUNTIF(AG$2:AG256,AG256)=1,AG256,\"\")","v":""},"","","",null,{"$f":"+IF(AR256=\"\",\"\",MAX(AM$1:AM255)+1)","v":""},{"$f":"IF(CEM_COM_CPMS_Detail!$B278=\"\",\"\",CEM_COM_CPMS_Detail!$B278)","v":""},{"$f":"IF(CEM_COM_CPMS_Detail!$C278=\"\",\"\",CEM_COM_CPMS_Detail!$C278)","v":""},{"$f":"IF(CEM_COM_CPMS_Detail!$D278=\"\",\"\",CEM_COM_CPMS_Detail!$D278)","v":""},"",{"$f":"IF(COUNTIF(AQ$2:AQ256,AQ256)=1,AQ256,\"\")","v":""},"","",""]
[{"$f":"+IF(D257=\"\",\"\",MAX(A$1:A256)+1)","v":""},{"$f":"IF(CEM_COM_CPMS_Identification!C279=\"\",\"\",CEM_COM_CPMS_Identification!C279)","v":""},"",{"$f":"IF(COUNTIF(B$2:B257,B257)=1,B257,\"\")","v":""},null,null,null,null,null,null,null,null,null,null,null,null,null,null,{"$f":"+IF(W257=\"\",\"\",MAX(S$1:S256)+1)","v":""},{"$f":"IF(Limits_Details!$B279=\"\",\"\",Limits_Details!$B279)","v":""},{"$f":"IF(Limits_Details!$C279=\"\",\"\",Limits_Details!$C279)","v":""},"",{"$f":"IF(COUNTIF(V$2:V257,V257)=1,V257,\"\")","v":""},"","",null,null,null,{"$f":"+IF(AH257=\"\",\"\",MAX(AC$1:AC256)+1)","v":""},{"$f":"IF(Limits_Details!$B279=\"\",\"\",Limits_Details!$B279)","v":""},{"$f":"IF(Limits_Details!$C279=\"\",\"\",Limits_Details!$C279)","v":""},{"$f":"IF(Limits_Details!$D279=\"\",\"\",Limits_Details!$D279)","v":""},"",{"$f":"IF(COUNTIF(AG$2:AG257,AG257)=1,AG257,\"\")","v":""},"","","",null,{"$f":"+IF(AR257=\"\",\"\",MAX(AM$1:AM256)+1)","v":""},{"$f":"IF(CEM_COM_CPMS_Detail!$B279=\"\",\"\",CEM_COM_CPMS_Detail!$B279)","v":""},{"$f":"IF(CEM_COM_CPMS_Detail!$C279=\"\",\"\",CEM_COM_CPMS_Detail!$C279)","v":""},{"$f":"IF(CEM_COM_CPMS_Detail!$D279=\"\",\"\",CEM_COM_CPMS_Detail!$D279)","v":""},"",{"$f":"IF(COUNTIF(AQ$2:AQ257,AQ257)=1,AQ257,\"\")","v":""},"","",""]
[{"$f":"+IF(D258=\"\",\"\",MAX(A$1:A257)+1)","v":""},{"$f":"IF(CEM_COM_CPMS_Identification!C280=\"\",\"\",CEM_COM_CPMS_Identification!C280)","v":""},{"$f":"+IFERROR(INDEX(B$2:B$501,MATCH(ROW()-ROW($C$1),A$2:A$501,0)),\"\")","v":""},{"$f":"IF(COUNTIF(B$2:B258,B258)=1,B258,\"\")","v":""},null,null,null,null,null,null,null,null,null,null,null,null,null,null,{"$f":"+IF(W258=\"\",\"\",MAX(S$1:S257)+1)","v":""},{"$f":"IF(Limits_Details!$B280=\"\",\"\",Limits_Details!$B280)","v":""},{"$f":"IF(Limits_Details!$C280=\"\",\"\",Limits_Details!$C280)","v":""},"",{"$f":"IF(COUNTIF(V$2:V258,V258)=1,V258,\"\")","v":""},{"$f":"+IFERROR(INDEX(T$2:T$955,MATCH(ROW()-ROW(X$1),S$2:S$955,0)),\"\")","v":""},{"$f":"+IFERROR(INDEX(U$2:U$955,MATCH(ROW()-ROW(X$1),S$2:S$955,0)),\"\")","v":""},null,null,null,{"$f":"+IF(AH258=\"\",\"\",MAX(AC$1:AC257)+1)","v":""},{"$f":"IF(Limits_Details!$B280=\"\",\"\",Limits_Details!$B280)","v":""},{"$f":"IF(Limits_Details!$C280=\"\",\"\",Limits_Details!$C280)","v":""},{"$f":"IF(Limits_Details!$D280=\"\",\"\",Limits_Details!$D280)","v":""},"",{"$f":"IF(COUNTIF(AG$2:AG258,AG258)=1,AG258,\"\")","v":""},"","","",null,{"$f":"+IF(AR258=\"\",\"\",MAX(AM$1:AM257)+1)","v":""},{"$f":"IF(CEM_COM_CPMS_Detail!$B280=\"\",\"\",CEM_COM_CPMS_Detail!$B280)","v":""},{"$f":"IF(CEM_COM_CPMS_Detail!$C280=\"\",\"\",CEM_COM_CPMS_Detail!$C280)","v":""},{"$f":"IF(CEM_COM_CPMS_Detail!$D280=\"\",\"\",CEM_COM_CPMS_Detail!$D280)","v":""},"",{"$f":"IF(COUNTIF(AQ$2:AQ258,AQ258)=1,AQ258,\"\")","v":""},"","",""]
[{"$f":"+IF(D259=\"\",\"\",MAX(A$1:A258)+1)","v":""},{"$f":"IF(CEM_COM_CPMS_Identification!C281=\"\",\"\",CEM_COM_CPMS_Identification!C281)","v":""},"",{"$f":"IF(COUNTIF(B$2:B259,B259)=1,B259,\"\")","v":""},null,null,null,null,null,null,null,null,null,null,null,null,null,null,{"$f":"+IF(W259=\"\",\"\",MAX(S$1:S258)+1)","v":""},{"$f":"IF(Limits_Details!$B281=\"\",\"\",Limits_Details!$B281)","v":""},{"$f":"IF(Limits_Details!$C281=\"\",\"\",Limits_Details!$C281)","v":""},{"$f":"T259&U259","v":""},{"$f":"IF(COUNTIF(V$2:V259,V259)=1,V259,\"\")","v":""},"","",null,null,null,{"$f":"+IF(AH259=\"\",\"\",MAX(AC$1:AC258)+1)","v":""},{"$f":"IF(Limits_Details!$B281=\"\",\"\",Limits_Details!$B281)","v":""},{"$f":"IF(Limits_Details!$C281=\"\",\"\",Limits_Details!$C281)","v":""},{"$f":"IF(Limits_Details!$D281=\"\",\"\",Limits_Details!$D281)","v":""},{"$f":"AD259&AE259&AF259","v":""},{"$f":"IF(COUNTIF(AG$2:AG259,AG259)=1,AG259,\"\")","v":""},{"$f":"+IFERROR(INDEX(AD$2:AD$955,MATCH(ROW()-ROW(AH$1),AC$2:AC$955,0)),\"\")","v":""},{"$f":"+IFERROR(INDEX(AE$2:AE$955,MATCH(ROW()-ROW(AH$1),AC$2:AC$955,0)),\"\")","v":""},{"$f":"+IFERROR(INDEX(AF$2:AF$955,MATCH(ROW()-ROW(AI$1),AC$2:AC$955,0)),\"\")","v":""},null,{"$f":"+IF(AR259=\"\",\"\",MAX(AM$1:AM258)+1)","v":""},{"$f":"IF(CEM_COM_CPMS_Detail!$B281=\"\",\"\",CEM_COM_CPMS_Detail!$B281)","v":""},{"$f":"IF(CEM_COM_CPMS_Detail!$C281=\"\",\"\",CEM_COM_CPMS_Detail!$C281)","v":""},{"$f":"IF(CEM_COM_CPMS_Detail!$D281=\"\",\"\",CEM_COM_CPMS_Detail!$D281)","v":""},{"$f":"AN259&AO259&AP259","v":""},{"$f":"IF(COUNTIF(AQ$2:AQ259,AQ259)=1,AQ259,\"\")","v":""},{"$f":"+IFERROR(INDEX(AN$2:AN$955,MATCH(ROW()-ROW(AR$1),AM$2:AM$955,0)),\"\")","v":""},{"$f":"+IFERROR(INDEX(AO$2:AO$955,MATCH(ROW()-ROW(AR$1),AM$2:AM$955,0)),\"\")","v":""},{"$f":"+IFERROR(INDEX(AP$2:AP$955,MATCH(ROW()-ROW(AS$1),AM$2:AM$955,0)),\"\")","v":""}]
[{"$f":"+IF(D260=\"\",\"\",MAX(A$1:A259)+1)","v":""},{"$f":"IF(CEM_COM_CPMS_Identification!C282=\"\",\"\",CEM_COM_CPMS_Identification!C282)","v":""},"",{"$f":"IF(COUNTIF(B$2:B260,B260)=1,B260,\"\")","v":""},null,null,null,null,null,null,null,null,null,null,null,null,null,null,{"$f":"+IF(W260=\"\",\"\",MAX(S$1:S259)+1)","v":""},{"$f":"IF(Limits_Details!$B282=\"\",\"\",Limits_Details!$B282)","v":""},{"$f":"IF(Limits_Details!$C282=\"\",\"\",Limits_Details!$C282)","v":""},"",{"$f":"IF(COUNTIF(V$2:V260,V260)=1,V260,\"\")","v":""},"","",null,null,null,{"$f":"+IF(AH260=\"\",\"\",MAX(AC$1:AC259)+1)","v":""},{"$f":"IF(Limits_Details!$B282=\"\",\"\",Limits_Details!$B282)","v":""},{"$f":"IF(Limits_Details!$C282=\"\",\"\",Limits_Details!$C282)","v":""},{"$f":"IF(Limits_Details!$D282=\"\",\"\",Limits_Details!$D282)","v":""},"",{"$f":"IF(COUNTIF(AG$2:AG260,AG260)=1,AG260,\"\")","v":""},"","","",null,{"$f":"+IF(AR260=\"\",\"\",MAX(AM$1:AM259)+1)","v":""},{"$f":"IF(CEM_COM_CPMS_Detail!$B282=\"\",\"\",CEM_COM_CPMS_Detail!$B282)","v":""},{"$f":"IF(CEM_COM_CPMS_Detail!$C282=\"\",\"\",CEM_COM_CPMS_Detail!$C282)","v":""},{"$f":"IF(CEM_COM_CPMS_Detail!$D282=\"\",\"\",CEM_COM_CPMS_Detail!$D282)","v":""},"",{"$f":"IF(COUNTIF(AQ$2:AQ260,AQ260)=1,AQ260,\"\")","v":""},"","",""]
[{"$f":"+IF(D261=\"\",\"\",MAX(A$1:A260)+1)","v":""},{"$f":"IF(CEM_COM_CPMS_Identification!C283=\"\",\"\",CEM_COM_CPMS_Identification!C283)","v":""},"",{"$f":"IF(COUNTIF(B$2:B261,B261)=1,B261,\"\")","v":""},null,null,null,null,null,null,null,null,null,null,null,null,null,null,{"$f":"+IF(W261=\"\",\"\",MAX(S$1:S260)+1)","v":""},{"$f":"IF(Limits_Details!$B283=\"\",\"\",Limits_Details!$B283)","v":""},{"$f":"IF(Limits_Details!$C283=\"\",\"\",Limits_Details!$C283)","v":""},"",{"$f":"IF(COUNTIF(V$2:V261,V261)=1,V261,\"\")","v":""},"","",null,null,null,{"$f":"+IF(AH261=\"\",\"\",MAX(AC$1:AC260)+1)","v":""},{"$f":"IF(Limits_Details!$B283=\"\",\"\",Limits_Details!$B283)","v":""},{"$f":"IF(Limits_Details!$C283=\"\",\"\",Limits_Details!$C283)","v":""},{"$f":"IF(Limits_Details!$D283=\"\",\"\",Limits_Details!$D283)","v":""},"",{"$f":"IF(COUNTIF(AG$2:AG261,AG261)=1,AG261,\"\")","v":""},"","","",null,{"$f":"+IF(AR261=\"\",\"\",MAX(AM$1:AM260)+1)","v":""},{"$f":"IF(CEM_COM_CPMS_Detail!$B283=\"\",\"\",CEM_COM_CPMS_Detail!$B283)","v":""},{"$f":"IF(CEM_COM_CPMS_Detail!$C283=\"\",\"\",CEM_COM_CPMS_Detail!$C283)","v":""},{"$f":"IF(CEM_COM_CPMS_Detail!$D283=\"\",\"\",CEM_COM_CPMS_Detail!$D283)","v":""},"",{"$f":"IF(COUNTIF(AQ$2:AQ261,AQ261)=1,AQ261,\"\")","v":""},"","",""]
[{"$f":"+IF(D262=\"\",\"\",MAX(A$1:A261)+1)","v":""},{"$f":"IF(CEM_COM_CPMS_Identification!C284=\"\",\"\",CEM_COM_CPMS_Identification!C284)","v":""},"",{"$f":"IF(COUNTIF(B$2:B262,B262)=1,B262,\"\")","v":""},null,null,null,null,null,null,null,null,null,null,null,null,null,null,{"$f":"+IF(W262=\"\",\"\",MAX(S$1:S261)+1)","v":""},{"$f":"IF(Limits_Details!$B284=\"\",\"\",Limits_Details!$B284)","v":""},{"$f":"IF(Limits_Details!$C284=\"\",\"\",Limits_Details!$C284)","v":""},"",{"$f":"IF(COUNTIF(V$2:V262,V262)=1,V262,\"\")","v":""},"","",null,null,null,{"$f":"+IF(AH262=\"\",\"\",MAX(AC$1:AC261)+1)","v":""},{"$f":"IF(Limits_Details!$B284=\"\",\"\",Limits_Details!$B284)","v":""},{"$f":"IF(Limits_Details!$C284=\"\",\"\",Limits_Details!$C284)","v":""},{"$f":"IF(Limits_Details!$D284=\"\",\"\",Limits_Details!$D284)","v":""},"",{"$f":"IF(COUNTIF(AG$2:AG262,AG262)=1,AG262,\"\")","v":""},"","","",null,{"$f":"+IF(AR262=\"\",\"\",MAX(AM$1:AM261)+1)","v":""},{"$f":"IF(CEM_COM_CPMS_Detail!$B284=\"\",\"\",CEM_COM_CPMS_Detail!$B284)","v":""},{"$f":"IF(CEM_COM_CPMS_Detail!$C284=\"\",\"\",CEM_COM_CPMS_Detail!$C284)","v":""},{"$f":"IF(CEM_COM_CPMS_Detail!$D284=\"\",\"\",CEM_COM_CPMS_Detail!$D284)","v":""},"",{"$f":"IF(COUNTIF(AQ$2:AQ262,AQ262)=1,AQ262,\"\")","v":""},"","",""]
[{"$f":"+IF(D263=\"\",\"\",MAX(A$1:A262)+1)","v":""},{"$f":"IF(CEM_COM_CPMS_Identification!C285=\"\",\"\",CEM_COM_CPMS_Identification!C285)","v":""},"",{"$f":"IF(COUNTIF(B$2:B263,B263)=1,B263,\"\")","v":""},null,null,null,null,null,null,null,null,null,null,null,null,null,null,{"$f":"+IF(W263=\"\",\"\",MAX(S$1:S262)+1)","v":""},{"$f":"IF(Limits_Details!$B285=\"\",\"\",Limits_Details!$B285)","v":""},{"$f":"IF(Limits_Details!$C285=\"\",\"\",Limits_Details!$C285)","v":""},"",{"$f":"IF(COUNTIF(V$2:V263,V263)=1,V263,\"\")","v":""},"","",null,null,null,{"$f":"+IF(AH263=\"\",\"\",MAX(AC$1:AC262)+1)","v":""},{"$f":"IF(Limits_Details!$B285=\"\",\"\",Limits_Details!$B285)","v":""},{"$f":"IF(Limits_Details!$C285=\"\",\"\",Limits_Details!$C285)","v":""},{"$f":"IF(Limits_Details!$D285=\"\",\"\",Limits_Details!$D285)","v":""},"",{"$f":"IF(COUNTIF(AG$2:AG263,AG263)=1,AG263,\"\")","v":""},"","","",null,{"$f":"+IF(AR263=\"\",\"\",MAX(AM$1:AM262)+1)","v":""},{"$f":"IF(CEM_COM_CPMS_Detail!$B285=\"\",\"\",CEM_COM_CPMS_Detail!$B285)","v":""},{"$f":"IF(CEM_COM_CPMS_Detail!$C285=\"\",\"\",CEM_COM_CPMS_Detail!$C285)","v":""},{"$f":"IF(CEM_COM_CPMS_Detail!$D285=\"\",\"\",CEM_COM_CPMS_Detail!$D285)","v":""},"",{"$f":"IF(COUNTIF(AQ$2:AQ263,AQ263)=1,AQ263,\"\")","v":""},"","",""]
[{"$f":"+IF(D264=\"\",\"\",MAX(A$1:A263)+1)","v":""},{"$f":"IF(CEM_COM_CPMS_Identification!C286=\"\",\"\",CEM_COM_CPMS_Identification!C286)","v":""},"",{"$f":"IF(COUNTIF(B$2:B264,B264)=1,B264,\"\")","v":""},null,null,null,null,null,null,null,null,null,null,null,null,null,null,{"$f":"+IF(W264=\"\",\"\",MAX(S$1:S263)+1)","v":""},{"$f":"IF(Limits_Details!$B286=\"\",\"\",Limits_Details!$B286)","v":""},{"$f":"IF(Limits_Details!$C286=\"\",\"\",Limits_Details!$C286)","v":""},"",{"$f":"IF(COUNTIF(V$2:V264,V264)=1,V264,\"\")","v":""},"","",null,null,null,{"$f":"+IF(AH264=\"\",\"\",MAX(AC$1:AC263)+1)","v":""},{"$f":"IF(Limits_Details!$B286=\"\",\"\",Limits_Details!$B286)","v":""},{"$f":"IF(Limits_Details!$C286=\"\",\"\",Limits_Details!$C286)","v":""},{"$f":"IF(Limits_Details!$D286=\"\",\"\",Limits_Details!$D286)","v":""},"",{"$f":"IF(COUNTIF(AG$2:AG264,AG264)=1,AG264,\"\")","v":""},"","","",null,{"$f":"+IF(AR264=\"\",\"\",MAX(AM$1:AM263)+1)","v":""},{"$f":"IF(CEM_COM_CPMS_Detail!$B286=\"\",\"\",CEM_COM_CPMS_Detail!$B286)","v":""},{"$f":"IF(CEM_COM_CPMS_Detail!$C286=\"\",\"\",CEM_COM_CPMS_Detail!$C286)","v":""},{"$f":"IF(CEM_COM_CPMS_Detail!$D286=\"\",\"\",CEM_COM_CPMS_Detail!$D286)","v":""},"",{"$f":"IF(COUNTIF(AQ$2:AQ264,AQ264)=1,AQ264,\"\")","v":""},"","",""]
[{"$f":"+IF(D265=\"\",\"\",MAX(A$1:A264)+1)","v":""},{"$f":"IF(CEM_COM_CPMS_Identification!C287=\"\",\"\",CEM_COM_CPMS_Identification!C287)","v":""},"",{"$f":"IF(COUNTIF(B$2:B265,B265)=1,B265,\"\")","v":""},null,null,null,null,null,null,null,null,null,null,null,null,null,null,{"$f":"+IF(W265=\"\",\"\",MAX(S$1:S264)+1)","v":""},{"$f":"IF(Limits_Details!$B287=\"\",\"\",Limits_Details!$B287)","v":""},{"$f":"IF(Limits_Details!$C287=\"\",\"\",Limits_Details!$C287)","v":""},"",{"$f":"IF(COUNTIF(V$2:V265,V265)=1,V265,\"\")","v":""},"","",null,null,null,{"$f":"+IF(AH265=\"\",\"\",MAX(AC$1:AC264)+1)","v":""},{"$f":"IF(Limits_Details!$B287=\"\",\"\",Limits_Details!$B287)","v":""},{"$f":"IF(Limits_Details!$C287=\"\",\"\",Limits_Details!$C287)","v":""},{"$f":"IF(Limits_Details!$D287=\"\",\"\",Limits_Details!$D287)","v":""},"",{"$f":"IF(COUNTIF(AG$2:AG265,AG265)=1,AG265,\"\")","v":""},"","","",null,{"$f":"+IF(AR265=\"\",\"\",MAX(AM$1:AM264)+1)","v":""},{"$f":"IF(CEM_COM_CPMS_Detail!$B287=\"\",\"\",CEM_COM_CPMS_Detail!$B287)","v":""},{"$f":"IF(CEM_COM_CPMS_Detail!$C287=\"\",\"\",CEM_COM_CPMS_Detail!$C287)","v":""},{"$f":"IF(CEM_COM_CPMS_Detail!$D287=\"\",\"\",CEM_COM_CPMS_Detail!$D287)","v":""},"",{"$f":"IF(COUNTIF(AQ$2:AQ265,AQ265)=1,AQ265,\"\")","v":""},"","",""]
[{"$f":"+IF(D266=\"\",\"\",MAX(A$1:A265)+1)","v":""},{"$f":"IF(CEM_COM_CPMS_Identification!C288=\"\",\"\",CEM_COM_CPMS_Identification!C288)","v":""},"",{"$f":"IF(COUNTIF(B$2:B266,B266)=1,B266,\"\")","v":""},null,null,null,null,null,null,null,null,null,null,null,null,null,null,{"$f":"+IF(W266=\"\",\"\",MAX(S$1:S265)+1)","v":""},{"$f":"IF(Limits_Details!$B288=\"\",\"\",Limits_Details!$B288)","v":""},{"$f":"IF(Limits_Details!$C288=\"\",\"\",Limits_Details!$C288)","v":""},"",{"$f":"IF(COUNTIF(V$2:V266,V266)=1,V266,\"\")","v":""},"","",null,null,null,{"$f":"+IF(AH266=\"\",\"\",MAX(AC$1:AC265)+1)","v":""},{"$f":"IF(Limits_Details!$B288=\"\",\"\",Limits_Details!$B288)","v":""},{"$f":"IF(Limits_Details!$C288=\"\",\"\",Limits_Details!$C288)","v":""},{"$f":"IF(Limits_Details!$D288=\"\",\"\",Limits_Details!$D288)","v":""},"",{"$f":"IF(COUNTIF(AG$2:AG266,AG266)=1,AG266,\"\")","v":""},"","","",null,{"$f":"+IF(AR266=\"\",\"\",MAX(AM$1:AM265)+1)","v":""},{"$f":"IF(CEM_COM_CPMS_Detail!$B288=\"\",\"\",CEM_COM_CPMS_Detail!$B288)","v":""},{"$f":"IF(CEM_COM_CPMS_Detail!$C288=\"\",\"\",CEM_COM_CPMS_Detail!$C288)","v":""},{"$f":"IF(CEM_COM_CPMS_Detail!$D288=\"\",\"\",CEM_COM_CPMS_Detail!$D288)","v":""},"",{"$f":"IF(COUNTIF(AQ$2:AQ266,AQ266)=1,AQ266,\"\")","v":""},"","",""]
[{"$f":"+IF(D267=\"\",\"\",MAX(A$1:A266)+1)","v":""},{"$f":"IF(CEM_COM_CPMS_Identification!C289=\"\",\"\",CEM_COM_CPMS_Identification!C289)","v":""},"",{"$f":"IF(COUNTIF(B$2:B267,B267)=1,B267,\"\")","v":""},null,null,null,null,null,null,null,null,null,null,null,null,null,null,{"$f":"+IF(W267=\"\",\"\",MAX(S$1:S266)+1)","v":""},{"$f":"IF(Limits_Details!$B289=\"\",\"\",Limits_Details!$B289)","v":""},{"$f":"IF(Limits_Details!$C289=\"\",\"\",Limits_Details!$C289)","v":""},"",{"$f":"IF(COUNTIF(V$2:V267,V267)=1,V267,\"\")","v":""},"","",null,null,null,{"$f":"+IF(AH267=\"\",\"\",MAX(AC$1:AC266)+1)","v":""},{"$f":"IF(Limits_Details!$B289=\"\",\"\",Limits_Details!$B289)","v":""},{"$f":"IF(Limits_Details!$C289=\"\",\"\",Limits_Details!$C289)","v":""},{"$f":"IF(Limits_Details!$D289=\"\",\"\",Limits_Details!$D289)","v":""},"",{"$f":"IF(COUNTIF(AG$2:AG267,AG267)=1,AG267,\"\")","v":""},"","","",null,{"$f":"+IF(AR267=\"\",\"\",MAX(AM$1:AM266)+1)","v":""},{"$f":"IF(CEM_COM_CPMS_Detail!$B289=\"\",\"\",CEM_COM_CPMS_Detail!$B289)","v":""},{"$f":"IF(CEM_COM_CPMS_Detail!$C289=\"\",\"\",CEM_COM_CPMS_Detail!$C289)","v":""},{"$f":"IF(CEM_COM_CPMS_Detail!$D289=\"\",\"\",CEM_COM_CPMS_Detail!$D289)","v":""},"",{"$f":"IF(COUNTIF(AQ$2:AQ267,AQ267)=1,AQ267,\"\")","v":""},"","",""]
[{"$f":"+IF(D268=\"\",\"\",MAX(A$1:A267)+1)","v":""},{"$f":"IF(CEM_COM_CPMS_Identification!C290=\"\",\"\",CEM_COM_CPMS_Identification!C290)","v":""},"",{"$f":"IF(COUNTIF(B$2:B268,B268)=1,B268,\"\")","v":""},null,null,null,null,null,null,null,null,null,null,null,null,null,null,{"$f":"+IF(W268=\"\",\"\",MAX(S$1:S267)+1)","v":""},{"$f":"IF(Limits_Details!$B290=\"\",\"\",Limits_Details!$B290)","v":""},{"$f":"IF(Limits_Details!$C290=\"\",\"\",Limits_Details!$C290)","v":""},"",{"$f":"IF(COUNTIF(V$2:V268,V268)=1,V268,\"\")","v":""},"","",null,null,null,{"$f":"+IF(AH268=\"\",\"\",MAX(AC$1:AC267)+1)","v":""},{"$f":"IF(Limits_Details!$B290=\"\",\"\",Limits_Details!$B290)","v":""},{"$f":"IF(Limits_Details!$C290=\"\",\"\",Limits_Details!$C290)","v":""},{"$f":"IF(Limits_Details!$D290=\"\",\"\",Limits_Details!$D290)","v":""},"",{"$f":"IF(COUNTIF(AG$2:AG268,AG268)=1,AG268,\"\")","v":""},"","","",null,{"$f":"+IF(AR268=\"\",\"\",MAX(AM$1:AM267)+1)","v":""},{"$f":"IF(CEM_COM_CPMS_Detail!$B290=\"\",\"\",CEM_COM_CPMS_Detail!$B290)","v":""},{"$f":"IF(CEM_COM_CPMS_Detail!$C290=\"\",\"\",CEM_COM_CPMS_Detail!$C290)","v":""},{"$f":"IF(CEM_COM_CPMS_Detail!$D290=\"\",\"\",CEM_COM_CPMS_Detail!$D290)","v":""},"",{"$f":"IF(COUNTIF(AQ$2:AQ268,AQ268)=1,AQ268,\"\")","v":""},"","",""]
[{"$f":"+IF(D269=\"\",\"\",MAX(A$1:A268)+1)","v":""},{"$f":"IF(CEM_COM_CPMS_Identification!C291=\"\",\"\",CEM_COM_CPMS_Identification!C291)","v":""},"",{"$f":"IF(COUNTIF(B$2:B269,B269)=1,B269,\"\")","v":""},null,null,null,null,null,null,null,null,null,null,null,null,null,null,{"$f":"+IF(W269=\"\",\"\",MAX(S$1:S268)+1)","v":""},{"$f":"IF(Limits_Details!$B291=\"\",\"\",Limits_Details!$B291)","v":""},{"$f":"IF(Limits_Details!$C291=\"\",\"\",Limits_Details!$C291)","v":""},"",{"$f":"IF(COUNTIF(V$2:V269,V269)=1,V269,\"\")","v":""},"","",null,null,null,{"$f":"+IF(AH269=\"\",\"\",MAX(AC$1:AC268)+1)","v":""},{"$f":"IF(Limits_Details!$B291=\"\",\"\",Limits_Details!$B291)","v":""},{"$f":"IF(Limits_Details!$C291=\"\",\"\",Limits_Details!$C291)","v":""},{"$f":"IF(Limits_Details!$D291=\"\",\"\",Limits_Details!$D291)","v":""},"",{"$f":"IF(COUNTIF(AG$2:AG269,AG269)=1,AG269,\"\")","v":""},"","","",null,{"$f":"+IF(AR269=\"\",\"\",MAX(AM$1:AM268)+1)","v":""},{"$f":"IF(CEM_COM_CPMS_Detail!$B291=\"\",\"\",CEM_COM_CPMS_Detail!$B291)","v":""},{"$f":"IF(CEM_COM_CPMS_Detail!$C291=\"\",\"\",CEM_COM_CPMS_Detail!$C291)","v":""},{"$f":"IF(CEM_COM_CPMS_Detail!$D291=\"\",\"\",CEM_COM_CPMS_Detail!$D291)","v":""},"",{"$f":"IF(COUNTIF(AQ$2:AQ269,AQ269)=1,AQ269,\"\")","v":""},"","",""]
[{"$f":"+IF(D270=\"\",\"\",MAX(A$1:A269)+1)","v":""},{"$f":"IF(CEM_COM_CPMS_Identification!C292=\"\",\"\",CEM_COM_CPMS_Identification!C292)","v":""},"",{"$f":"IF(COUNTIF(B$2:B270,B270)=1,B270,\"\")","v":""},null,null,null,null,null,null,null,null,null,null,null,null,null,null,{"$f":"+IF(W270=\"\",\"\",MAX(S$1:S269)+1)","v":""},{"$f":"IF(Limits_Details!$B292=\"\",\"\",Limits_Details!$B292)","v":""},{"$f":"IF(Limits_Details!$C292=\"\",\"\",Limits_Details!$C292)","v":""},"",{"$f":"IF(COUNTIF(V$2:V270,V270)=1,V270,\"\")","v":""},"","",null,null,null,{"$f":"+IF(AH270=\"\",\"\",MAX(AC$1:AC269)+1)","v":""},{"$f":"IF(Limits_Details!$B292=\"\",\"\",Limits_Details!$B292)","v":""},{"$f":"IF(Limits_Details!$C292=\"\",\"\",Limits_Details!$C292)","v":""},{"$f":"IF(Limits_Details!$D292=\"\",\"\",Limits_Details!$D292)","v":""},"",{"$f":"IF(COUNTIF(AG$2:AG270,AG270)=1,AG270,\"\")","v":""},"","","",null,{"$f":"+IF(AR270=\"\",\"\",MAX(AM$1:AM269)+1)","v":""},{"$f":"IF(CEM_COM_CPMS_Detail!$B292=\"\",\"\",CEM_COM_CPMS_Detail!$B292)","v":""},{"$f":"IF(CEM_COM_CPMS_Detail!$C292=\"\",\"\",CEM_COM_CPMS_Detail!$C292)","v":""},{"$f":"IF(CEM_COM_CPMS_Detail!$D292=\"\",\"\",CEM_COM_CPMS_Detail!$D292)","v":""},"",{"$f":"IF(COUNTIF(AQ$2:AQ270,AQ270)=1,AQ270,\"\")","v":""},"","",""]
[{"$f":"+IF(D271=\"\",\"\",MAX(A$1:A270)+1)","v":""},{"$f":"IF(CEM_COM_CPMS_Identification!C293=\"\",\"\",CEM_COM_CPMS_Identification!C293)","v":""},"",{"$f":"IF(COUNTIF(B$2:B271,B271)=1,B271,\"\")","v":""},null,null,null,null,null,null,null,null,null,null,null,null,null,null,{"$f":"+IF(W271=\"\",\"\",MAX(S$1:S270)+1)","v":""},{"$f":"IF(Limits_Details!$B293=\"\",\"\",Limits_Details!$B293)","v":""},{"$f":"IF(Limits_Details!$C293=\"\",\"\",Limits_Details!$C293)","v":""},"",{"$f":"IF(COUNTIF(V$2:V271,V271)=1,V271,\"\")","v":""},"","",null,null,null,{"$f":"+IF(AH271=\"\",\"\",MAX(AC$1:AC270)+1)","v":""},{"$f":"IF(Limits_Details!$B293=\"\",\"\",Limits_Details!$B293)","v":""},{"$f":"IF(Limits_Details!$C293=\"\",\"\",Limits_Details!$C293)","v":""},{"$f":"IF(Limits_Details!$D293=\"\",\"\",Limits_Details!$D293)","v":""},"",{"$f":"IF(COUNTIF(AG$2:AG271,AG271)=1,AG271,\"\")","v":""},"","","",null,{"$f":"+IF(AR271=\"\",\"\",MAX(AM$1:AM270)+1)","v":""},{"$f":"IF(CEM_COM_CPMS_Detail!$B293=\"\",\"\",CEM_COM_CPMS_Detail!$B293)","v":""},{"$f":"IF(CEM_COM_CPMS_Detail!$C293=\"\",\"\",CEM_COM_CPMS_Detail!$C293)","v":""},{"$f":"IF(CEM_COM_CPMS_Detail!$D293=\"\",\"\",CEM_COM_CPMS_Detail!$D293)","v":""},"",{"$f":"IF(COUNTIF(AQ$2:AQ271,AQ271)=1,AQ271,\"\")","v":""},"","",""]
[{"$f":"+IF(D272=\"\",\"\",MAX(A$1:A271)+1)","v":""},{"$f":"IF(CEM_COM_CPMS_Identification!C294=\"\",\"\",CEM_COM_CPMS_Identification!C294)","v":""},"",{"$f":"IF(COUNTIF(B$2:B272,B272)=1,B272,\"\")","v":""},null,null,null,null,null,null,null,null,null,null,null,null,null,null,{"$f":"+IF(W272=\"\",\"\",MAX(S$1:S271)+1)","v":""},{"$f":"IF(Limits_Details!$B294=\"\",\"\",Limits_Details!$B294)","v":""},{"$f":"IF(Limits_Details!$C294=\"\",\"\",Limits_Details!$C294)","v":""},"",{"$f":"IF(COUNTIF(V$2:V272,V272)=1,V272,\"\")","v":""},"","",null,null,null,{"$f":"+IF(AH272=\"\",\"\",MAX(AC$1:AC271)+1)","v":""},{"$f":"IF(Limits_Details!$B294=\"\",\"\",Limits_Details!$B294)","v":""},{"$f":"IF(Limits_Details!$C294=\"\",\"\",Limits_Details!$C294)","v":""},{"$f":"IF(Limits_Details!$D294=\"\",\"\",Limits_Details!$D294)","v":""},"",{"$f":"IF(COUNTIF(AG$2:AG272,AG272)=1,AG272,\"\")","v":""},"","","",null,{"$f":"+IF(AR272=\"\",\"\",MAX(AM$1:AM271)+1)","v":""},{"$f":"IF(CEM_COM_CPMS_Detail!$B294=\"\",\"\",CEM_COM_CPMS_Detail!$B294)","v":""},{"$f":"IF(CEM_COM_CPMS_Detail!$C294=\"\",\"\",CEM_COM_CPMS_Detail!$C294)","v":""},{"$f":"IF(CEM_COM_CPMS_Detail!$D294=\"\",\"\",CEM_COM_CPMS_Detail!$D294)","v":""},"",{"$f":"IF(COUNTIF(AQ$2:AQ272,AQ272)=1,AQ272,\"\")","v":""},"","",""]
[{"$f":"+IF(D273=\"\",\"\",MAX(A$1:A272)+1)","v":""},{"$f":"IF(CEM_COM_CPMS_Identification!C295=\"\",\"\",CEM_COM_CPMS_Identification!C295)","v":""},"",{"$f":"IF(COUNTIF(B$2:B273,B273)=1,B273,\"\")","v":""},null,null,null,null,null,null,null,null,null,null,null,null,null,null,{"$f":"+IF(W273=\"\",\"\",MAX(S$1:S272)+1)","v":""},{"$f":"IF(Limits_Details!$B295=\"\",\"\",Limits_Details!$B295)","v":""},{"$f":"IF(Limits_Details!$C295=\"\",\"\",Limits_Details!$C295)","v":""},"",{"$f":"IF(COUNTIF(V$2:V273,V273)=1,V273,\"\")","v":""},"","",null,null,null,{"$f":"+IF(AH273=\"\",\"\",MAX(AC$1:AC272)+1)","v":""},{"$f":"IF(Limits_Details!$B295=\"\",\"\",Limits_Details!$B295)","v":""},{"$f":"IF(Limits_Details!$C295=\"\",\"\",Limits_Details!$C295)","v":""},{"$f":"IF(Limits_Details!$D295=\"\",\"\",Limits_Details!$D295)","v":""},"",{"$f":"IF(COUNTIF(AG$2:AG273,AG273)=1,AG273,\"\")","v":""},"","","",null,{"$f":"+IF(AR273=\"\",\"\",MAX(AM$1:AM272)+1)","v":""},{"$f":"IF(CEM_COM_CPMS_Detail!$B295=\"\",\"\",CEM_COM_CPMS_Detail!$B295)","v":""},{"$f":"IF(CEM_COM_CPMS_Detail!$C295=\"\",\"\",CEM_COM_CPMS_Detail!$C295)","v":""},{"$f":"IF(CEM_COM_CPMS_Detail!$D295=\"\",\"\",CEM_COM_CPMS_Detail!$D295)","v":""},"",{"$f":"IF(COUNTIF(AQ$2:AQ273,AQ273)=1,AQ273,\"\")","v":""},"","",""]
[{"$f":"+IF(D274=\"\",\"\",MAX(A$1:A273)+1)","v":""},{"$f":"IF(CEM_COM_CPMS_Identification!C296=\"\",\"\",CEM_COM_CPMS_Identification!C296)","v":""},"",{"$f":"IF(COUNTIF(B$2:B274,B274)=1,B274,\"\")","v":""},null,null,null,null,null,null,null,null,null,null,null,null,null,null,{"$f":"+IF(W274=\"\",\"\",MAX(S$1:S273)+1)","v":""},{"$f":"IF(Limits_Details!$B296=\"\",\"\",Limits_Details!$B296)","v":""},{"$f":"IF(Limits_Details!$C296=\"\",\"\",Limits_Details!$C296)","v":""},"",{"$f":"IF(COUNTIF(V$2:V274,V274)=1,V274,\"\")","v":""},"","",null,null,null,{"$f":"+IF(AH274=\"\",\"\",MAX(AC$1:AC273)+1)","v":""},{"$f":"IF(Limits_Details!$B296=\"\",\"\",Limits_Details!$B296)","v":""},{"$f":"IF(Limits_Details!$C296=\"\",\"\",Limits_Details!$C296)","v":""},{"$f":"IF(Limits_Details!$D296=\"\",\"\",Limits_Details!$D296)","v":""},"",{"$f":"IF(COUNTIF(AG$2:AG274,AG274)=1,AG274,\"\")","v":""},"","","",null,{"$f":"+IF(AR274=\"\",\"\",MAX(AM$1:AM273)+1)","v":""},{"$f":"IF(CEM_COM_CPMS_Detail!$B296=\"\",\"\",CEM_COM_CPMS_Detail!$B296)","v":""},{"$f":"IF(CEM_COM_CPMS_Detail!$C296=\"\",\"\",CEM_COM_CPMS_Detail!$C296)","v":""},{"$f":"IF(CEM_COM_CPMS_Detail!$D296=\"\",\"\",CEM_COM_CPMS_Detail!$D296)","v":""},"",{"$f":"IF(COUNTIF(AQ$2:AQ274,AQ274)=1,AQ274,\"\")","v":""},"","",""]
[{"$f":"+IF(D275=\"\",\"\",MAX(A$1:A274)+1)","v":""},{"$f":"IF(CEM_COM_CPMS_Identification!C297=\"\",\"\",CEM_COM_CPMS_Identification!C297)","v":""},"",{"$f":"IF(COUNTIF(B$2:B275,B275)=1,B275,\"\")","v":""},null,null,null,null,null,null,null,null,null,null,null,null,null,null,{"$f":"+IF(W275=\"\",\"\",MAX(S$1:S274)+1)","v":""},{"$f":"IF(Limits_Details!$B297=\"\",\"\",Limits_Details!$B297)","v":""},{"$f":"IF(Limits_Details!$C297=\"\",\"\",Limits_Details!$C297)","v":""},"",{"$f":"IF(COUNTIF(V$2:V275,V275)=1,V275,\"\")","v":""},"","",null,null,null,{"$f":"+IF(AH275=\"\",\"\",MAX(AC$1:AC274)+1)","v":""},{"$f":"IF(Limits_Details!$B297=\"\",\"\",Limits_Details!$B297)","v":""},{"$f":"IF(Limits_Details!$C297=\"\",\"\",Limits_Details!$C297)","v":""},{"$f":"IF(Limits_Details!$D297=\"\",\"\",Limits_Details!$D297)","v":""},"",{"$f":"IF(COUNTIF(AG$2:AG275,AG275)=1,AG275,\"\")","v":""},"","","",null,{"$f":"+IF(AR275=\"\",\"\",MAX(AM$1:AM274)+1)","v":""},{"$f":"IF(CEM_COM_CPMS_Detail!$B297=\"\",\"\",CEM_COM_CPMS_Detail!$B297)","v":""},{"$f":"IF(CEM_COM_CPMS_Detail!$C297=\"\",\"\",CEM_COM_CPMS_Detail!$C297)","v":""},{"$f":"IF(CEM_COM_CPMS_Detail!$D297=\"\",\"\",CEM_COM_CPMS_Detail!$D297)","v":""},"",{"$f":"IF(COUNTIF(AQ$2:AQ275,AQ275)=1,AQ275,\"\")","v":""},"","",""]
[{"$f":"+IF(D276=\"\",\"\",MAX(A$1:A275)+1)","v":""},{"$f":"IF(CEM_COM_CPMS_Identification!C298=\"\",\"\",CEM_COM_CPMS_Identification!C298)","v":""},"",{"$f":"IF(COUNTIF(B$2:B276,B276)=1,B276,\"\")","v":""},null,null,null,null,null,null,null,null,null,null,null,null,null,null,{"$f":"+IF(W276=\"\",\"\",MAX(S$1:S275)+1)","v":""},{"$f":"IF(Limits_Details!$B298=\"\",\"\",Limits_Details!$B298)","v":""},{"$f":"IF(Limits_Details!$C298=\"\",\"\",Limits_Details!$C298)","v":""},"",{"$f":"IF(COUNTIF(V$2:V276,V276)=1,V276,\"\")","v":""},"","",null,null,null,{"$f":"+IF(AH276=\"\",\"\",MAX(AC$1:AC275)+1)","v":""},{"$f":"IF(Limits_Details!$B298=\"\",\"\",Limits_Details!$B298)","v":""},{"$f":"IF(Limits_Details!$C298=\"\",\"\",Limits_Details!$C298)","v":""},{"$f":"IF(Limits_Details!$D298=\"\",\"\",Limits_Details!$D298)","v":""},"",{"$f":"IF(COUNTIF(AG$2:AG276,AG276)=1,AG276,\"\")","v":""},"","","",null,{"$f":"+IF(AR276=\"\",\"\",MAX(AM$1:AM275)+1)","v":""},{"$f":"IF(CEM_COM_CPMS_Detail!$B298=\"\",\"\",CEM_COM_CPMS_Detail!$B298)","v":""},{"$f":"IF(CEM_COM_CPMS_Detail!$C298=\"\",\"\",CEM_COM_CPMS_Detail!$C298)","v":""},{"$f":"IF(CEM_COM_CPMS_Detail!$D298=\"\",\"\",CEM_COM_CPMS_Detail!$D298)","v":""},"",{"$f":"IF(COUNTIF(AQ$2:AQ276,AQ276)=1,AQ276,\"\")","v":""},"","",""]
[{"$f":"+IF(D277=\"\",\"\",MAX(A$1:A276)+1)","v":""},{"$f":"IF(CEM_COM_CPMS_Identification!C299=\"\",\"\",CEM_COM_CPMS_Identification!C299)","v":""},"",{"$f":"IF(COUNTIF(B$2:B277,B277)=1,B277,\"\")","v":""},null,null,null,null,null,null,null,null,null,null,null,null,null,null,{"$f":"+IF(W277=\"\",\"\",MAX(S$1:S276)+1)","v":""},{"$f":"IF(Limits_Details!$B299=\"\",\"\",Limits_Details!$B299)","v":""},{"$f":"IF(Limits_Details!$C299=\"\",\"\",Limits_Details!$C299)","v":""},"",{"$f":"IF(COUNTIF(V$2:V277,V277)=1,V277,\"\")","v":""},"","",null,null,null,{"$f":"+IF(AH277=\"\",\"\",MAX(AC$1:AC276)+1)","v":""},{"$f":"IF(Limits_Details!$B299=\"\",\"\",Limits_Details!$B299)","v":""},{"$f":"IF(Limits_Details!$C299=\"\",\"\",Limits_Details!$C299)","v":""},{"$f":"IF(Limits_Details!$D299=\"\",\"\",Limits_Details!$D299)","v":""},"",{"$f":"IF(COUNTIF(AG$2:AG277,AG277)=1,AG277,\"\")","v":""},"","","",null,{"$f":"+IF(AR277=\"\",\"\",MAX(AM$1:AM276)+1)","v":""},{"$f":"IF(CEM_COM_CPMS_Detail!$B299=\"\",\"\",CEM_COM_CPMS_Detail!$B299)","v":""},{"$f":"IF(CEM_COM_CPMS_Detail!$C299=\"\",\"\",CEM_COM_CPMS_Detail!$C299)","v":""},{"$f":"IF(CEM_COM_CPMS_Detail!$D299=\"\",\"\",CEM_COM_CPMS_Detail!$D299)","v":""},"",{"$f":"IF(COUNTIF(AQ$2:AQ277,AQ277)=1,AQ277,\"\")","v":""},"","",""]
[{"$f":"+IF(D278=\"\",\"\",MAX(A$1:A277)+1)","v":""},{"$f":"IF(CEM_COM_CPMS_Identification!C300=\"\",\"\",CEM_COM_CPMS_Identification!C300)","v":""},"",{"$f":"IF(COUNTIF(B$2:B278,B278)=1,B278,\"\")","v":""},null,null,null,null,null,null,null,null,null,null,null,null,null,null,{"$f":"+IF(W278=\"\",\"\",MAX(S$1:S277)+1)","v":""},{"$f":"IF(Limits_Details!$B300=\"\",\"\",Limits_Details!$B300)","v":""},{"$f":"IF(Limits_Details!$C300=\"\",\"\",Limits_Details!$C300)","v":""},"",{"$f":"IF(COUNTIF(V$2:V278,V278)=1,V278,\"\")","v":""},"","",null,null,null,{"$f":"+IF(AH278=\"\",\"\",MAX(AC$1:AC277)+1)","v":""},{"$f":"IF(Limits_Details!$B300=\"\",\"\",Limits_Details!$B300)","v":""},{"$f":"IF(Limits_Details!$C300=\"\",\"\",Limits_Details!$C300)","v":""},{"$f":"IF(Limits_Details!$D300=\"\",\"\",Limits_Details!$D300)","v":""},"",{"$f":"IF(COUNTIF(AG$2:AG278,AG278)=1,AG278,\"\")","v":""},"","","",null,{"$f":"+IF(AR278=\"\",\"\",MAX(AM$1:AM277)+1)","v":""},{"$f":"IF(CEM_COM_CPMS_Detail!$B300=\"\",\"\",CEM_COM_CPMS_Detail!$B300)","v":""},{"$f":"IF(CEM_COM_CPMS_Detail!$C300=\"\",\"\",CEM_COM_CPMS_Detail!$C300)","v":""},{"$f":"IF(CEM_COM_CPMS_Detail!$D300=\"\",\"\",CEM_COM_CPMS_Detail!$D300)","v":""},"",{"$f":"IF(COUNTIF(AQ$2:AQ278,AQ278)=1,AQ278,\"\")","v":""},"","",""]
[{"$f":"+IF(D279=\"\",\"\",MAX(A$1:A278)+1)","v":""},{"$f":"IF(CEM_COM_CPMS_Identification!C301=\"\",\"\",CEM_COM_CPMS_Identification!C301)","v":""},"",{"$f":"IF(COUNTIF(B$2:B279,B279)=1,B279,\"\")","v":""},null,null,null,null,null,null,null,null,null,null,null,null,null,null,{"$f":"+IF(W279=\"\",\"\",MAX(S$1:S278)+1)","v":""},{"$f":"IF(Limits_Details!$B301=\"\",\"\",Limits_Details!$B301)","v":""},{"$f":"IF(Limits_Details!$C301=\"\",\"\",Limits_Details!$C301)","v":""},"",{"$f":"IF(COUNTIF(V$2:V279,V279)=1,V279,\"\")","v":""},"","",null,null,null,{"$f":"+IF(AH279=\"\",\"\",MAX(AC$1:AC278)+1)","v":""},{"$f":"IF(Limits_Details!$B301=\"\",\"\",Limits_Details!$B301)","v":""},{"$f":"IF(Limits_Details!$C301=\"\",\"\",Limits_Details!$C301)","v":""},{"$f":"IF(Limits_Details!$D301=\"\",\"\",Limits_Details!$D301)","v":""},"",{"$f":"IF(COUNTIF(AG$2:AG279,AG279)=1,AG279,\"\")","v":""},"","","",null,{"$f":"+IF(AR279=\"\",\"\",MAX(AM$1:AM278)+1)","v":""},{"$f":"IF(CEM_COM_CPMS_Detail!$B301=\"\",\"\",CEM_COM_CPMS_Detail!$B301)","v":""},{"$f":"IF(CEM_COM_CPMS_Detail!$C301=\"\",\"\",CEM_COM_CPMS_Detail!$C301)","v":""},{"$f":"IF(CEM_COM_CPMS_Detail!$D301=\"\",\"\",CEM_COM_CPMS_Detail!$D301)","v":""},"",{"$f":"IF(COUNTIF(AQ$2:AQ279,AQ279)=1,AQ279,\"\")","v":""},"","",""]
[{"$f":"+IF(D280=\"\",\"\",MAX(A$1:A279)+1)","v":""},{"$f":"IF(CEM_COM_CPMS_Identification!C302=\"\",\"\",CEM_COM_CPMS_Identification!C302)","v":""},"",{"$f":"IF(COUNTIF(B$2:B280,B280)=1,B280,\"\")","v":""},null,null,null,null,null,null,null,null,null,null,null,null,null,null,{"$f":"+IF(W280=\"\",\"\",MAX(S$1:S279)+1)","v":""},{"$f":"IF(Limits_Details!$B302=\"\",\"\",Limits_Details!$B302)","v":""},{"$f":"IF(Limits_Details!$C302=\"\",\"\",Limits_Details!$C302)","v":""},"",{"$f":"IF(COUNTIF(V$2:V280,V280)=1,V280,\"\")","v":""},"","",null,null,null,{"$f":"+IF(AH280=\"\",\"\",MAX(AC$1:AC279)+1)","v":""},{"$f":"IF(Limits_Details!$B302=\"\",\"\",Limits_Details!$B302)","v":""},{"$f":"IF(Limits_Details!$C302=\"\",\"\",Limits_Details!$C302)","v":""},{"$f":"IF(Limits_Details!$D302=\"\",\"\",Limits_Details!$D302)","v":""},"",{"$f":"IF(COUNTIF(AG$2:AG280,AG280)=1,AG280,\"\")","v":""},"","","",null,{"$f":"+IF(AR280=\"\",\"\",MAX(AM$1:AM279)+1)","v":""},{"$f":"IF(CEM_COM_CPMS_Detail!$B302=\"\",\"\",CEM_COM_CPMS_Detail!$B302)","v":""},{"$f":"IF(CEM_COM_CPMS_Detail!$C302=\"\",\"\",CEM_COM_CPMS_Detail!$C302)","v":""},{"$f":"IF(CEM_COM_CPMS_Detail!$D302=\"\",\"\",CEM_COM_CPMS_Detail!$D302)","v":""},"",{"$f":"IF(COUNTIF(AQ$2:AQ280,AQ280)=1,AQ280,\"\")","v":""},"","",""]
[{"$f":"+IF(D281=\"\",\"\",MAX(A$1:A280)+1)","v":""},{"$f":"IF(CEM_COM_CPMS_Identification!C303=\"\",\"\",CEM_COM_CPMS_Identification!C303)","v":""},"",{"$f":"IF(COUNTIF(B$2:B281,B281)=1,B281,\"\")","v":""},null,null,null,null,null,null,null,null,null,null,null,null,null,null,{"$f":"+IF(W281=\"\",\"\",MAX(S$1:S280)+1)","v":""},{"$f":"IF(Limits_Details!$B303=\"\",\"\",Limits_Details!$B303)","v":""},{"$f":"IF(Limits_Details!$C303=\"\",\"\",Limits_Details!$C303)","v":""},"",{"$f":"IF(COUNTIF(V$2:V281,V281)=1,V281,\"\")","v":""},"","",null,null,null,{"$f":"+IF(AH281=\"\",\"\",MAX(AC$1:AC280)+1)","v":""},{"$f":"IF(Limits_Details!$B303=\"\",\"\",Limits_Details!$B303)","v":""},{"$f":"IF(Limits_Details!$C303=\"\",\"\",Limits_Details!$C303)","v":""},{"$f":"IF(Limits_Details!$D303=\"\",\"\",Limits_Details!$D303)","v":""},"",{"$f":"IF(COUNTIF(AG$2:AG281,AG281)=1,AG281,\"\")","v":""},"","","",null,{"$f":"+IF(AR281=\"\",\"\",MAX(AM$1:AM280)+1)","v":""},{"$f":"IF(CEM_COM_CPMS_Detail!$B303=\"\",\"\",CEM_COM_CPMS_Detail!$B303)","v":""},{"$f":"IF(CEM_COM_CPMS_Detail!$C303=\"\",\"\",CEM_COM_CPMS_Detail!$C303)","v":""},{"$f":"IF(CEM_COM_CPMS_Detail!$D303=\"\",\"\",CEM_COM_CPMS_Detail!$D303)","v":""},"",{"$f":"IF(COUNTIF(AQ$2:AQ281,AQ281)=1,AQ281,\"\")","v":""},"","",""]
[{"$f":"+IF(D282=\"\",\"\",MAX(A$1:A281)+1)","v":""},{"$f":"IF(CEM_COM_CPMS_Identification!C304=\"\",\"\",CEM_COM_CPMS_Identification!C304)","v":""},"",{"$f":"IF(COUNTIF(B$2:B282,B282)=1,B282,\"\")","v":""},null,null,null,null,null,null,null,null,null,null,null,null,null,null,{"$f":"+IF(W282=\"\",\"\",MAX(S$1:S281)+1)","v":""},{"$f":"IF(Limits_Details!$B304=\"\",\"\",Limits_Details!$B304)","v":""},{"$f":"IF(Limits_Details!$C304=\"\",\"\",Limits_Details!$C304)","v":""},"",{"$f":"IF(COUNTIF(V$2:V282,V282)=1,V282,\"\")","v":""},"","",null,null,null,{"$f":"+IF(AH282=\"\",\"\",MAX(AC$1:AC281)+1)","v":""},{"$f":"IF(Limits_Details!$B304=\"\",\"\",Limits_Details!$B304)","v":""},{"$f":"IF(Limits_Details!$C304=\"\",\"\",Limits_Details!$C304)","v":""},{"$f":"IF(Limits_Details!$D304=\"\",\"\",Limits_Details!$D304)","v":""},"",{"$f":"IF(COUNTIF(AG$2:AG282,AG282)=1,AG282,\"\")","v":""},"","","",null,{"$f":"+IF(AR282=\"\",\"\",MAX(AM$1:AM281)+1)","v":""},{"$f":"IF(CEM_COM_CPMS_Detail!$B304=\"\",\"\",CEM_COM_CPMS_Detail!$B304)","v":""},{"$f":"IF(CEM_COM_CPMS_Detail!$C304=\"\",\"\",CEM_COM_CPMS_Detail!$C304)","v":""},{"$f":"IF(CEM_COM_CPMS_Detail!$D304=\"\",\"\",CEM_COM_CPMS_Detail!$D304)","v":""},"",{"$f":"IF(COUNTIF(AQ$2:AQ282,AQ282)=1,AQ282,\"\")","v":""},"","",""]
[{"$f":"+IF(D283=\"\",\"\",MAX(A$1:A282)+1)","v":""},{"$f":"IF(CEM_COM_CPMS_Identification!C305=\"\",\"\",CEM_COM_CPMS_Identification!C305)","v":""},"",{"$f":"IF(COUNTIF(B$2:B283,B283)=1,B283,\"\")","v":""},null,null,null,null,null,null,null,null,null,null,null,null,null,null,{"$f":"+IF(W283=\"\",\"\",MAX(S$1:S282)+1)","v":""},{"$f":"IF(Limits_Details!$B305=\"\",\"\",Limits_Details!$B305)","v":""},{"$f":"IF(Limits_Details!$C305=\"\",\"\",Limits_Details!$C305)","v":""},"",{"$f":"IF(COUNTIF(V$2:V283,V283)=1,V283,\"\")","v":""},"","",null,null,null,{"$f":"+IF(AH283=\"\",\"\",MAX(AC$1:AC282)+1)","v":""},{"$f":"IF(Limits_Details!$B305=\"\",\"\",Limits_Details!$B305)","v":""},{"$f":"IF(Limits_Details!$C305=\"\",\"\",Limits_Details!$C305)","v":""},{"$f":"IF(Limits_Details!$D305=\"\",\"\",Limits_Details!$D305)","v":""},"",{"$f":"IF(COUNTIF(AG$2:AG283,AG283)=1,AG283,\"\")","v":""},"","","",null,{"$f":"+IF(AR283=\"\",\"\",MAX(AM$1:AM282)+1)","v":""},{"$f":"IF(CEM_COM_CPMS_Detail!$B305=\"\",\"\",CEM_COM_CPMS_Detail!$B305)","v":""},{"$f":"IF(CEM_COM_CPMS_Detail!$C305=\"\",\"\",CEM_COM_CPMS_Detail!$C305)","v":""},{"$f":"IF(CEM_COM_CPMS_Detail!$D305=\"\",\"\",CEM_COM_CPMS_Detail!$D305)","v":""},"",{"$f":"IF(COUNTIF(AQ$2:AQ283,AQ283)=1,AQ283,\"\")","v":""},"","",""]
[{"$f":"+IF(D284=\"\",\"\",MAX(A$1:A283)+1)","v":""},{"$f":"IF(CEM_COM_CPMS_Identification!C306=\"\",\"\",CEM_COM_CPMS_Identification!C306)","v":""},"",{"$f":"IF(COUNTIF(B$2:B284,B284)=1,B284,\"\")","v":""},null,null,null,null,null,null,null,null,null,null,null,null,null,null,{"$f":"+IF(W284=\"\",\"\",MAX(S$1:S283)+1)","v":""},{"$f":"IF(Limits_Details!$B306=\"\",\"\",Limits_Details!$B306)","v":""},{"$f":"IF(Limits_Details!$C306=\"\",\"\",Limits_Details!$C306)","v":""},"",{"$f":"IF(COUNTIF(V$2:V284,V284)=1,V284,\"\")","v":""},"","",null,null,null,{"$f":"+IF(AH284=\"\",\"\",MAX(AC$1:AC283)+1)","v":""},{"$f":"IF(Limits_Details!$B306=\"\",\"\",Limits_Details!$B306)","v":""},{"$f":"IF(Limits_Details!$C306=\"\",\"\",Limits_Details!$C306)","v":""},{"$f":"IF(Limits_Details!$D306=\"\",\"\",Limits_Details!$D306)","v":""},"",{"$f":"IF(COUNTIF(AG$2:AG284,AG284)=1,AG284,\"\")","v":""},"","","",null,{"$f":"+IF(AR284=\"\",\"\",MAX(AM$1:AM283)+1)","v":""},{"$f":"IF(CEM_COM_CPMS_Detail!$B306=\"\",\"\",CEM_COM_CPMS_Detail!$B306)","v":""},{"$f":"IF(CEM_COM_CPMS_Detail!$C306=\"\",\"\",CEM_COM_CPMS_Detail!$C306)","v":""},{"$f":"IF(CEM_COM_CPMS_Detail!$D306=\"\",\"\",CEM_COM_CPMS_Detail!$D306)","v":""},"",{"$f":"IF(COUNTIF(AQ$2:AQ284,AQ284)=1,AQ284,\"\")","v":""},"","",""]
[{"$f":"+IF(D285=\"\",\"\",MAX(A$1:A284)+1)","v":""},{"$f":"IF(CEM_COM_CPMS_Identification!C307=\"\",\"\",CEM_COM_CPMS_Identification!C307)","v":""},"",{"$f":"IF(COUNTIF(B$2:B285,B285)=1,B285,\"\")","v":""},null,null,null,null,null,null,null,null,null,null,null,null,null,null,{"$f":"+IF(W285=\"\",\"\",MAX(S$1:S284)+1)","v":""},{"$f":"IF(Limits_Details!$B307=\"\",\"\",Limits_Details!$B307)","v":""},{"$f":"IF(Limits_Details!$C307=\"\",\"\",Limits_Details!$C307)","v":""},"",{"$f":"IF(COUNTIF(V$2:V285,V285)=1,V285,\"\")","v":""},"","",null,null,null,{"$f":"+IF(AH285=\"\",\"\",MAX(AC$1:AC284)+1)","v":""},{"$f":"IF(Limits_Details!$B307=\"\",\"\",Limits_Details!$B307)","v":""},{"$f":"IF(Limits_Details!$C307=\"\",\"\",Limits_Details!$C307)","v":""},{"$f":"IF(Limits_Details!$D307=\"\",\"\",Limits_Details!$D307)","v":""},"",{"$f":"IF(COUNTIF(AG$2:AG285,AG285)=1,AG285,\"\")","v":""},"","","",null,{"$f":"+IF(AR285=\"\",\"\",MAX(AM$1:AM284)+1)","v":""},{"$f":"IF(CEM_COM_CPMS_Detail!$B307=\"\",\"\",CEM_COM_CPMS_Detail!$B307)","v":""},{"$f":"IF(CEM_COM_CPMS_Detail!$C307=\"\",\"\",CEM_COM_CPMS_Detail!$C307)","v":""},{"$f":"IF(CEM_COM_CPMS_Detail!$D307=\"\",\"\",CEM_COM_CPMS_Detail!$D307)","v":""},"",{"$f":"IF(COUNTIF(AQ$2:AQ285,AQ285)=1,AQ285,\"\")","v":""},"","",""]
[{"$f":"+IF(D286=\"\",\"\",MAX(A$1:A285)+1)","v":""},{"$f":"IF(CEM_COM_CPMS_Identification!C308=\"\",\"\",CEM_COM_CPMS_Identification!C308)","v":""},"",{"$f":"IF(COUNTIF(B$2:B286,B286)=1,B286,\"\")","v":""},null,null,null,null,null,null,null,null,null,null,null,null,null,null,{"$f":"+IF(W286=\"\",\"\",MAX(S$1:S285)+1)","v":""},{"$f":"IF(Limits_Details!$B308=\"\",\"\",Limits_Details!$B308)","v":""},{"$f":"IF(Limits_Details!$C308=\"\",\"\",Limits_Details!$C308)","v":""},"",{"$f":"IF(COUNTIF(V$2:V286,V286)=1,V286,\"\")","v":""},"","",null,null,null,{"$f":"+IF(AH286=\"\",\"\",MAX(AC$1:AC285)+1)","v":""},{"$f":"IF(Limits_Details!$B308=\"\",\"\",Limits_Details!$B308)","v":""},{"$f":"IF(Limits_Details!$C308=\"\",\"\",Limits_Details!$C308)","v":""},{"$f":"IF(Limits_Details!$D308=\"\",\"\",Limits_Details!$D308)","v":""},"",{"$f":"IF(COUNTIF(AG$2:AG286,AG286)=1,AG286,\"\")","v":""},"","","",null,{"$f":"+IF(AR286=\"\",\"\",MAX(AM$1:AM285)+1)","v":""},{"$f":"IF(CEM_COM_CPMS_Detail!$B308=\"\",\"\",CEM_COM_CPMS_Detail!$B308)","v":""},{"$f":"IF(CEM_COM_CPMS_Detail!$C308=\"\",\"\",CEM_COM_CPMS_Detail!$C308)","v":""},{"$f":"IF(CEM_COM_CPMS_Detail!$D308=\"\",\"\",CEM_COM_CPMS_Detail!$D308)","v":""},"",{"$f":"IF(COUNTIF(AQ$2:AQ286,AQ286)=1,AQ286,\"\")","v":""},"","",""]
[{"$f":"+IF(D287=\"\",\"\",MAX(A$1:A286)+1)","v":""},{"$f":"IF(CEM_COM_CPMS_Identification!C309=\"\",\"\",CEM_COM_CPMS_Identification!C309)","v":""},"",{"$f":"IF(COUNTIF(B$2:B287,B287)=1,B287,\"\")","v":""},null,null,null,null,null,null,null,null,null,null,null,null,null,null,{"$f":"+IF(W287=\"\",\"\",MAX(S$1:S286)+1)","v":""},{"$f":"IF(Limits_Details!$B309=\"\",\"\",Limits_Details!$B309)","v":""},{"$f":"IF(Limits_Details!$C309=\"\",\"\",Limits_Details!$C309)","v":""},"",{"$f":"IF(COUNTIF(V$2:V287,V287)=1,V287,\"\")","v":""},"","",null,null,null,{"$f":"+IF(AH287=\"\",\"\",MAX(AC$1:AC286)+1)","v":""},{"$f":"IF(Limits_Details!$B309=\"\",\"\",Limits_Details!$B309)","v":""},{"$f":"IF(Limits_Details!$C309=\"\",\"\",Limits_Details!$C309)","v":""},{"$f":"IF(Limits_Details!$D309=\"\",\"\",Limits_Details!$D309)","v":""},"",{"$f":"IF(COUNTIF(AG$2:AG287,AG287)=1,AG287,\"\")","v":""},"","","",null,{"$f":"+IF(AR287=\"\",\"\",MAX(AM$1:AM286)+1)","v":""},{"$f":"IF(CEM_COM_CPMS_Detail!$B309=\"\",\"\",CEM_COM_CPMS_Detail!$B309)","v":""},{"$f":"IF(CEM_COM_CPMS_Detail!$C309=\"\",\"\",CEM_COM_CPMS_Detail!$C309)","v":""},{"$f":"IF(CEM_COM_CPMS_Detail!$D309=\"\",\"\",CEM_COM_CPMS_Detail!$D309)","v":""},"",{"$f":"IF(COUNTIF(AQ$2:AQ287,AQ287)=1,AQ287,\"\")","v":""},"","",""]
[{"$f":"+IF(D288=\"\",\"\",MAX(A$1:A287)+1)","v":""},{"$f":"IF(CEM_COM_CPMS_Identification!C310=\"\",\"\",CEM_COM_CPMS_Identification!C310)","v":""},"",{"$f":"IF(COUNTIF(B$2:B288,B288)=1,B288,\"\")","v":""},null,null,null,null,null,null,null,null,null,null,null,null,null,null,{"$f":"+IF(W288=\"\",\"\",MAX(S$1:S287)+1)","v":""},{"$f":"IF(Limits_Details!$B310=\"\",\"\",Limits_Details!$B310)","v":""},{"$f":"IF(Limits_Details!$C310=\"\",\"\",Limits_Details!$C310)","v":""},"",{"$f":"IF(COUNTIF(V$2:V288,V288)=1,V288,\"\")","v":""},"","",null,null,null,{"$f":"+IF(AH288=\"\",\"\",MAX(AC$1:AC287)+1)","v":""},{"$f":"IF(Limits_Details!$B310=\"\",\"\",Limits_Details!$B310)","v":""},{"$f":"IF(Limits_Details!$C310=\"\",\"\",Limits_Details!$C310)","v":""},{"$f":"IF(Limits_Details!$D310=\"\",\"\",Limits_Details!$D310)","v":""},"",{"$f":"IF(COUNTIF(AG$2:AG288,AG288)=1,AG288,\"\")","v":""},"","","",null,{"$f":"+IF(AR288=\"\",\"\",MAX(AM$1:AM287)+1)","v":""},{"$f":"IF(CEM_COM_CPMS_Detail!$B310=\"\",\"\",CEM_COM_CPMS_Detail!$B310)","v":""},{"$f":"IF(CEM_COM_CPMS_Detail!$C310=\"\",\"\",CEM_COM_CPMS_Detail!$C310)","v":""},{"$f":"IF(CEM_COM_CPMS_Detail!$D310=\"\",\"\",CEM_COM_CPMS_Detail!$D310)","v":""},"",{"$f":"IF(COUNTIF(AQ$2:AQ288,AQ288)=1,AQ288,\"\")","v":""},"","",""]
[{"$f":"+IF(D289=\"\",\"\",MAX(A$1:A288)+1)","v":""},{"$f":"IF(CEM_COM_CPMS_Identification!C311=\"\",\"\",CEM_COM_CPMS_Identification!C311)","v":""},"",{"$f":"IF(COUNTIF(B$2:B289,B289)=1,B289,\"\")","v":""},null,null,null,null,null,null,null,null,null,null,null,null,null,null,{"$f":"+IF(W289=\"\",\"\",MAX(S$1:S288)+1)","v":""},{"$f":"IF(Limits_Details!$B311=\"\",\"\",Limits_Details!$B311)","v":""},{"$f":"IF(Limits_Details!$C311=\"\",\"\",Limits_Details!$C311)","v":""},"",{"$f":"IF(COUNTIF(V$2:V289,V289)=1,V289,\"\")","v":""},"","",null,null,null,{"$f":"+IF(AH289=\"\",\"\",MAX(AC$1:AC288)+1)","v":""},{"$f":"IF(Limits_Details!$B311=\"\",\"\",Limits_Details!$B311)","v":""},{"$f":"IF(Limits_Details!$C311=\"\",\"\",Limits_Details!$C311)","v":""},{"$f":"IF(Limits_Details!$D311=\"\",\"\",Limits_Details!$D311)","v":""},"",{"$f":"IF(COUNTIF(AG$2:AG289,AG289)=1,AG289,\"\")","v":""},"","","",null,{"$f":"+IF(AR289=\"\",\"\",MAX(AM$1:AM288)+1)","v":""},{"$f":"IF(CEM_COM_CPMS_Detail!$B311=\"\",\"\",CEM_COM_CPMS_Detail!$B311)","v":""},{"$f":"IF(CEM_COM_CPMS_Detail!$C311=\"\",\"\",CEM_COM_CPMS_Detail!$C311)","v":""},{"$f":"IF(CEM_COM_CPMS_Detail!$D311=\"\",\"\",CEM_COM_CPMS_Detail!$D311)","v":""},"",{"$f":"IF(COUNTIF(AQ$2:AQ289,AQ289)=1,AQ289,\"\")","v":""},"","",""]
[{"$f":"+IF(D290=\"\",\"\",MAX(A$1:A289)+1)","v":""},{"$f":"IF(CEM_COM_CPMS_Identification!C312=\"\",\"\",CEM_COM_CPMS_Identification!C312)","v":""},"",{"$f":"IF(COUNTIF(B$2:B290,B290)=1,B290,\"\")","v":""},null,null,null,null,null,null,null,null,null,null,null,null,null,null,{"$f":"+IF(W290=\"\",\"\",MAX(S$1:S289)+1)","v":""},{"$f":"IF(Limits_Details!$B312=\"\",\"\",Limits_Details!$B312)","v":""},{"$f":"IF(Limits_Details!$C312=\"\",\"\",Limits_Details!$C312)","v":""},"",{"$f":"IF(COUNTIF(V$2:V290,V290)=1,V290,\"\")","v":""},"","",null,null,null,{"$f":"+IF(AH290=\"\",\"\",MAX(AC$1:AC289)+1)","v":""},{"$f":"IF(Limits_Details!$B312=\"\",\"\",Limits_Details!$B312)","v":""},{"$f":"IF(Limits_Details!$C312=\"\",\"\",Limits_Details!$C312)","v":""},{"$f":"IF(Limits_Details!$D312=\"\",\"\",Limits_Details!$D312)","v":""},"",{"$f":"IF(COUNTIF(AG$2:AG290,AG290)=1,AG290,\"\")","v":""},"","","",null,{"$f":"+IF(AR290=\"\",\"\",MAX(AM$1:AM289)+1)","v":""},{"$f":"IF(CEM_COM_CPMS_Detail!$B312=\"\",\"\",CEM_COM_CPMS_Detail!$B312)","v":""},{"$f":"IF(CEM_COM_CPMS_Detail!$C312=\"\",\"\",CEM_COM_CPMS_Detail!$C312)","v":""},{"$f":"IF(CEM_COM_CPMS_Detail!$D312=\"\",\"\",CEM_COM_CPMS_Detail!$D312)","v":""},"",{"$f":"IF(COUNTIF(AQ$2:AQ290,AQ290)=1,AQ290,\"\")","v":""},"","",""]
[{"$f":"+IF(D291=\"\",\"\",MAX(A$1:A290)+1)","v":""},{"$f":"IF(CEM_COM_CPMS_Identification!C313=\"\",\"\",CEM_COM_CPMS_Identification!C313)","v":""},"",{"$f":"IF(COUNTIF(B$2:B291,B291)=1,B291,\"\")","v":""},null,null,null,null,null,null,null,null,null,null,null,null,null,null,{"$f":"+IF(W291=\"\",\"\",MAX(S$1:S290)+1)","v":""},{"$f":"IF(Limits_Details!$B313=\"\",\"\",Limits_Details!$B313)","v":""},{"$f":"IF(Limits_Details!$C313=\"\",\"\",Limits_Details!$C313)","v":""},"",{"$f":"IF(COUNTIF(V$2:V291,V291)=1,V291,\"\")","v":""},"","",null,null,null,{"$f":"+IF(AH291=\"\",\"\",MAX(AC$1:AC290)+1)","v":""},{"$f":"IF(Limits_Details!$B313=\"\",\"\",Limits_Details!$B313)","v":""},{"$f":"IF(Limits_Details!$C313=\"\",\"\",Limits_Details!$C313)","v":""},{"$f":"IF(Limits_Details!$D313=\"\",\"\",Limits_Details!$D313)","v":""},"",{"$f":"IF(COUNTIF(AG$2:AG291,AG291)=1,AG291,\"\")","v":""},"","","",null,{"$f":"+IF(AR291=\"\",\"\",MAX(AM$1:AM290)+1)","v":""},{"$f":"IF(CEM_COM_CPMS_Detail!$B313=\"\",\"\",CEM_COM_CPMS_Detail!$B313)","v":""},{"$f":"IF(CEM_COM_CPMS_Detail!$C313=\"\",\"\",CEM_COM_CPMS_Detail!$C313)","v":""},{"$f":"IF(CEM_COM_CPMS_Detail!$D313=\"\",\"\",CEM_COM_CPMS_Detail!$D313)","v":""},"",{"$f":"IF(COUNTIF(AQ$2:AQ291,AQ291)=1,AQ291,\"\")","v":""},"","",""]
[{"$f":"+IF(D292=\"\",\"\",MAX(A$1:A291)+1)","v":""},{"$f":"IF(CEM_COM_CPMS_Identification!C314=\"\",\"\",CEM_COM_CPMS_Identification!C314)","v":""},"",{"$f":"IF(COUNTIF(B$2:B292,B292)=1,B292,\"\")","v":""},null,null,null,null,null,null,null,null,null,null,null,null,null,null,{"$f":"+IF(W292=\"\",\"\",MAX(S$1:S291)+1)","v":""},{"$f":"IF(Limits_Details!$B314=\"\",\"\",Limits_Details!$B314)","v":""},{"$f":"IF(Limits_Details!$C314=\"\",\"\",Limits_Details!$C314)","v":""},"",{"$f":"IF(COUNTIF(V$2:V292,V292)=1,V292,\"\")","v":""},"","",null,null,null,{"$f":"+IF(AH292=\"\",\"\",MAX(AC$1:AC291)+1)","v":""},{"$f":"IF(Limits_Details!$B314=\"\",\"\",Limits_Details!$B314)","v":""},{"$f":"IF(Limits_Details!$C314=\"\",\"\",Limits_Details!$C314)","v":""},{"$f":"IF(Limits_Details!$D314=\"\",\"\",Limits_Details!$D314)","v":""},"",{"$f":"IF(COUNTIF(AG$2:AG292,AG292)=1,AG292,\"\")","v":""},"","","",null,{"$f":"+IF(AR292=\"\",\"\",MAX(AM$1:AM291)+1)","v":""},{"$f":"IF(CEM_COM_CPMS_Detail!$B314=\"\",\"\",CEM_COM_CPMS_Detail!$B314)","v":""},{"$f":"IF(CEM_COM_CPMS_Detail!$C314=\"\",\"\",CEM_COM_CPMS_Detail!$C314)","v":""},{"$f":"IF(CEM_COM_CPMS_Detail!$D314=\"\",\"\",CEM_COM_CPMS_Detail!$D314)","v":""},"",{"$f":"IF(COUNTIF(AQ$2:AQ292,AQ292)=1,AQ292,\"\")","v":""},"","",""]
[{"$f":"+IF(D293=\"\",\"\",MAX(A$1:A292)+1)","v":""},{"$f":"IF(CEM_COM_CPMS_Identification!C315=\"\",\"\",CEM_COM_CPMS_Identification!C315)","v":""},"",{"$f":"IF(COUNTIF(B$2:B293,B293)=1,B293,\"\")","v":""},null,null,null,null,null,null,null,null,null,null,null,null,null,null,{"$f":"+IF(W293=\"\",\"\",MAX(S$1:S292)+1)","v":""},{"$f":"IF(Limits_Details!$B315=\"\",\"\",Limits_Details!$B315)","v":""},{"$f":"IF(Limits_Details!$C315=\"\",\"\",Limits_Details!$C315)","v":""},"",{"$f":"IF(COUNTIF(V$2:V293,V293)=1,V293,\"\")","v":""},"","",null,null,null,{"$f":"+IF(AH293=\"\",\"\",MAX(AC$1:AC292)+1)","v":""},{"$f":"IF(Limits_Details!$B315=\"\",\"\",Limits_Details!$B315)","v":""},{"$f":"IF(Limits_Details!$C315=\"\",\"\",Limits_Details!$C315)","v":""},{"$f":"IF(Limits_Details!$D315=\"\",\"\",Limits_Details!$D315)","v":""},"",{"$f":"IF(COUNTIF(AG$2:AG293,AG293)=1,AG293,\"\")","v":""},"","","",null,{"$f":"+IF(AR293=\"\",\"\",MAX(AM$1:AM292)+1)","v":""},{"$f":"IF(CEM_COM_CPMS_Detail!$B315=\"\",\"\",CEM_COM_CPMS_Detail!$B315)","v":""},{"$f":"IF(CEM_COM_CPMS_Detail!$C315=\"\",\"\",CEM_COM_CPMS_Detail!$C315)","v":""},{"$f":"IF(CEM_COM_CPMS_Detail!$D315=\"\",\"\",CEM_COM_CPMS_Detail!$D315)","v":""},"",{"$f":"IF(COUNTIF(AQ$2:AQ293,AQ293)=1,AQ293,\"\")","v":""},"","",""]
[{"$f":"+IF(D294=\"\",\"\",MAX(A$1:A293)+1)","v":""},{"$f":"IF(CEM_COM_CPMS_Identification!C316=\"\",\"\",CEM_COM_CPMS_Identification!C316)","v":""},"",{"$f":"IF(COUNTIF(B$2:B294,B294)=1,B294,\"\")","v":""},null,null,null,null,null,null,null,null,null,null,null,null,null,null,{"$f":"+IF(W294=\"\",\"\",MAX(S$1:S293)+1)","v":""},{"$f":"IF(Limits_Details!$B316=\"\",\"\",Limits_Details!$B316)","v":""},{"$f":"IF(Limits_Details!$C316=\"\",\"\",Limits_Details!$C316)","v":""},"",{"$f":"IF(COUNTIF(V$2:V294,V294)=1,V294,\"\")","v":""},"","",null,null,null,{"$f":"+IF(AH294=\"\",\"\",MAX(AC$1:AC293)+1)","v":""},{"$f":"IF(Limits_Details!$B316=\"\",\"\",Limits_Details!$B316)","v":""},{"$f":"IF(Limits_Details!$C316=\"\",\"\",Limits_Details!$C316)","v":""},{"$f":"IF(Limits_Details!$D316=\"\",\"\",Limits_Details!$D316)","v":""},"",{"$f":"IF(COUNTIF(AG$2:AG294,AG294)=1,AG294,\"\")","v":""},"","","",null,{"$f":"+IF(AR294=\"\",\"\",MAX(AM$1:AM293)+1)","v":""},{"$f":"IF(CEM_COM_CPMS_Detail!$B316=\"\",\"\",CEM_COM_CPMS_Detail!$B316)","v":""},{"$f":"IF(CEM_COM_CPMS_Detail!$C316=\"\",\"\",CEM_COM_CPMS_Detail!$C316)","v":""},{"$f":"IF(CEM_COM_CPMS_Detail!$D316=\"\",\"\",CEM_COM_CPMS_Detail!$D316)","v":""},"",{"$f":"IF(COUNTIF(AQ$2:AQ294,AQ294)=1,AQ294,\"\")","v":""},"","",""]
[{"$f":"+IF(D295=\"\",\"\",MAX(A$1:A294)+1)","v":""},{"$f":"IF(CEM_COM_CPMS_Identification!C317=\"\",\"\",CEM_COM_CPMS_Identification!C317)","v":""},"",{"$f":"IF(COUNTIF(B$2:B295,B295)=1,B295,\"\")","v":""},null,null,null,null,null,null,null,null,null,null,null,null,null,null,{"$f":"+IF(W295=\"\",\"\",MAX(S$1:S294)+1)","v":""},{"$f":"IF(Limits_Details!$B317=\"\",\"\",Limits_Details!$B317)","v":""},{"$f":"IF(Limits_Details!$C317=\"\",\"\",Limits_Details!$C317)","v":""},"",{"$f":"IF(COUNTIF(V$2:V295,V295)=1,V295,\"\")","v":""},"","",null,null,null,{"$f":"+IF(AH295=\"\",\"\",MAX(AC$1:AC294)+1)","v":""},{"$f":"IF(Limits_Details!$B317=\"\",\"\",Limits_Details!$B317)","v":""},{"$f":"IF(Limits_Details!$C317=\"\",\"\",Limits_Details!$C317)","v":""},{"$f":"IF(Limits_Details!$D317=\"\",\"\",Limits_Details!$D317)","v":""},"",{"$f":"IF(COUNTIF(AG$2:AG295,AG295)=1,AG295,\"\")","v":""},"","","",null,{"$f":"+IF(AR295=\"\",\"\",MAX(AM$1:AM294)+1)","v":""},{"$f":"IF(CEM_COM_CPMS_Detail!$B317=\"\",\"\",CEM_COM_CPMS_Detail!$B317)","v":""},{"$f":"IF(CEM_COM_CPMS_Detail!$C317=\"\",\"\",CEM_COM_CPMS_Detail!$C317)","v":""},{"$f":"IF(CEM_COM_CPMS_Detail!$D317=\"\",\"\",CEM_COM_CPMS_Detail!$D317)","v":""},"",{"$f":"IF(COUNTIF(AQ$2:AQ295,AQ295)=1,AQ295,\"\")","v":""},"","",""]
[{"$f":"+IF(D296=\"\",\"\",MAX(A$1:A295)+1)","v":""},{"$f":"IF(CEM_COM_CPMS_Identification!C318=\"\",\"\",CEM_COM_CPMS_Identification!C318)","v":""},"",{"$f":"IF(COUNTIF(B$2:B296,B296)=1,B296,\"\")","v":""},null,null,null,null,null,null,null,null,null,null,null,null,null,null,{"$f":"+IF(W296=\"\",\"\",MAX(S$1:S295)+1)","v":""},{"$f":"IF(Limits_Details!$B318=\"\",\"\",Limits_Details!$B318)","v":""},{"$f":"IF(Limits_Details!$C318=\"\",\"\",Limits_Details!$C318)","v":""},"",{"$f":"IF(COUNTIF(V$2:V296,V296)=1,V296,\"\")","v":""},"","",null,null,null,{"$f":"+IF(AH296=\"\",\"\",MAX(AC$1:AC295)+1)","v":""},{"$f":"IF(Limits_Details!$B318=\"\",\"\",Limits_Details!$B318)","v":""},{"$f":"IF(Limits_Details!$C318=\"\",\"\",Limits_Details!$C318)","v":""},{"$f":"IF(Limits_Details!$D318=\"\",\"\",Limits_Details!$D318)","v":""},"",{"$f":"IF(COUNTIF(AG$2:AG296,AG296)=1,AG296,\"\")","v":""},"","","",null,{"$f":"+IF(AR296=\"\",\"\",MAX(AM$1:AM295)+1)","v":""},{"$f":"IF(CEM_COM_CPMS_Detail!$B318=\"\",\"\",CEM_COM_CPMS_Detail!$B318)","v":""},{"$f":"IF(CEM_COM_CPMS_Detail!$C318=\"\",\"\",CEM_COM_CPMS_Detail!$C318)","v":""},{"$f":"IF(CEM_COM_CPMS_Detail!$D318=\"\",\"\",CEM_COM_CPMS_Detail!$D318)","v":""},"",{"$f":"IF(COUNTIF(AQ$2:AQ296,AQ296)=1,AQ296,\"\")","v":""},"","",""]
[{"$f":"+IF(D297=\"\",\"\",MAX(A$1:A296)+1)","v":""},{"$f":"IF(CEM_COM_CPMS_Identification!C319=\"\",\"\",CEM_COM_CPMS_Identification!C319)","v":""},"",{"$f":"IF(COUNTIF(B$2:B297,B297)=1,B297,\"\")","v":""},null,null,null,null,null,null,null,null,null,null,null,null,null,null,{"$f":"+IF(W297=\"\",\"\",MAX(S$1:S296)+1)","v":""},{"$f":"IF(Limits_Details!$B319=\"\",\"\",Limits_Details!$B319)","v":""},{"$f":"IF(Limits_Details!$C319=\"\",\"\",Limits_Details!$C319)","v":""},"",{"$f":"IF(COUNTIF(V$2:V297,V297)=1,V297,\"\")","v":""},"","",null,null,null,{"$f":"+IF(AH297=\"\",\"\",MAX(AC$1:AC296)+1)","v":""},{"$f":"IF(Limits_Details!$B319=\"\",\"\",Limits_Details!$B319)","v":""},{"$f":"IF(Limits_Details!$C319=\"\",\"\",Limits_Details!$C319)","v":""},{"$f":"IF(Limits_Details!$D319=\"\",\"\",Limits_Details!$D319)","v":""},"",{"$f":"IF(COUNTIF(AG$2:AG297,AG297)=1,AG297,\"\")","v":""},"","","",null,{"$f":"+IF(AR297=\"\",\"\",MAX(AM$1:AM296)+1)","v":""},{"$f":"IF(CEM_COM_CPMS_Detail!$B319=\"\",\"\",CEM_COM_CPMS_Detail!$B319)","v":""},{"$f":"IF(CEM_COM_CPMS_Detail!$C319=\"\",\"\",CEM_COM_CPMS_Detail!$C319)","v":""},{"$f":"IF(CEM_COM_CPMS_Detail!$D319=\"\",\"\",CEM_COM_CPMS_Detail!$D319)","v":""},"",{"$f":"IF(COUNTIF(AQ$2:AQ297,AQ297)=1,AQ297,\"\")","v":""},"","",""]
[{"$f":"+IF(D298=\"\",\"\",MAX(A$1:A297)+1)","v":""},{"$f":"IF(CEM_COM_CPMS_Identification!C320=\"\",\"\",CEM_COM_CPMS_Identification!C320)","v":""},"",{"$f":"IF(COUNTIF(B$2:B298,B298)=1,B298,\"\")","v":""},null,null,null,null,null,null,null,null,null,null,null,null,null,null,{"$f":"+IF(W298=\"\",\"\",MAX(S$1:S297)+1)","v":""},{"$f":"IF(Limits_Details!$B320=\"\",\"\",Limits_Details!$B320)","v":""},{"$f":"IF(Limits_Details!$C320=\"\",\"\",Limits_Details!$C320)","v":""},"",{"$f":"IF(COUNTIF(V$2:V298,V298)=1,V298,\"\")","v":""},"","",null,null,null,{"$f":"+IF(AH298=\"\",\"\",MAX(AC$1:AC297)+1)","v":""},{"$f":"IF(Limits_Details!$B320=\"\",\"\",Limits_Details!$B320)","v":""},{"$f":"IF(Limits_Details!$C320=\"\",\"\",Limits_Details!$C320)","v":""},{"$f":"IF(Limits_Details!$D320=\"\",\"\",Limits_Details!$D320)","v":""},"",{"$f":"IF(COUNTIF(AG$2:AG298,AG298)=1,AG298,\"\")","v":""},"","","",null,{"$f":"+IF(AR298=\"\",\"\",MAX(AM$1:AM297)+1)","v":""},{"$f":"IF(CEM_COM_CPMS_Detail!$B320=\"\",\"\",CEM_COM_CPMS_Detail!$B320)","v":""},{"$f":"IF(CEM_COM_CPMS_Detail!$C320=\"\",\"\",CEM_COM_CPMS_Detail!$C320)","v":""},{"$f":"IF(CEM_COM_CPMS_Detail!$D320=\"\",\"\",CEM_COM_CPMS_Detail!$D320)","v":""},"",{"$f":"IF(COUNTIF(AQ$2:AQ298,AQ298)=1,AQ298,\"\")","v":""},"","",""]
[{"$f":"+IF(D299=\"\",\"\",MAX(A$1:A298)+1)","v":""},{"$f":"IF(CEM_COM_CPMS_Identification!C321=\"\",\"\",CEM_COM_CPMS_Identification!C321)","v":""},"",{"$f":"IF(COUNTIF(B$2:B299,B299)=1,B299,\"\")","v":""},null,null,null,null,null,null,null,null,null,null,null,null,null,null,{"$f":"+IF(W299=\"\",\"\",MAX(S$1:S298)+1)","v":""},{"$f":"IF(Limits_Details!$B321=\"\",\"\",Limits_Details!$B321)","v":""},{"$f":"IF(Limits_Details!$C321=\"\",\"\",Limits_Details!$C321)","v":""},"",{"$f":"IF(COUNTIF(V$2:V299,V299)=1,V299,\"\")","v":""},"","",null,null,null,{"$f":"+IF(AH299=\"\",\"\",MAX(AC$1:AC298)+1)","v":""},{"$f":"IF(Limits_Details!$B321=\"\",\"\",Limits_Details!$B321)","v":""},{"$f":"IF(Limits_Details!$C321=\"\",\"\",Limits_Details!$C321)","v":""},{"$f":"IF(Limits_Details!$D321=\"\",\"\",Limits_Details!$D321)","v":""},"",{"$f":"IF(COUNTIF(AG$2:AG299,AG299)=1,AG299,\"\")","v":""},"","","",null,{"$f":"+IF(AR299=\"\",\"\",MAX(AM$1:AM298)+1)","v":""},{"$f":"IF(CEM_COM_CPMS_Detail!$B321=\"\",\"\",CEM_COM_CPMS_Detail!$B321)","v":""},{"$f":"IF(CEM_COM_CPMS_Detail!$C321=\"\",\"\",CEM_COM_CPMS_Detail!$C321)","v":""},{"$f":"IF(CEM_COM_CPMS_Detail!$D321=\"\",\"\",CEM_COM_CPMS_Detail!$D321)","v":""},"",{"$f":"IF(COUNTIF(AQ$2:AQ299,AQ299)=1,AQ299,\"\")","v":""},"","",""]
[{"$f":"+IF(D300=\"\",\"\",MAX(A$1:A299)+1)","v":""},{"$f":"IF(CEM_COM_CPMS_Identification!C322=\"\",\"\",CEM_COM_CPMS_Identification!C322)","v":""},"",{"$f":"IF(COUNTIF(B$2:B300,B300)=1,B300,\"\")","v":""},null,null,null,null,null,null,null,null,null,null,null,null,null,null,{"$f":"+IF(W300=\"\",\"\",MAX(S$1:S299)+1)","v":""},{"$f":"IF(Limits_Details!$B322=\"\",\"\",Limits_Details!$B322)","v":""},{"$f":"IF(Limits_Details!$C322=\"\",\"\",Limits_Details!$C322)","v":""},"",{"$f":"IF(COUNTIF(V$2:V300,V300)=1,V300,\"\")","v":""},"","",null,null,null,{"$f":"+IF(AH300=\"\",\"\",MAX(AC$1:AC299)+1)","v":""},{"$f":"IF(Limits_Details!$B322=\"\",\"\",Limits_Details!$B322)","v":""},{"$f":"IF(Limits_Details!$C322=\"\",\"\",Limits_Details!$C322)","v":""},{"$f":"IF(Limits_Details!$D322=\"\",\"\",Limits_Details!$D322)","v":""},"",{"$f":"IF(COUNTIF(AG$2:AG300,AG300)=1,AG300,\"\")","v":""},"","","",null,{"$f":"+IF(AR300=\"\",\"\",MAX(AM$1:AM299)+1)","v":""},{"$f":"IF(CEM_COM_CPMS_Detail!$B322=\"\",\"\",CEM_COM_CPMS_Detail!$B322)","v":""},{"$f":"IF(CEM_COM_CPMS_Detail!$C322=\"\",\"\",CEM_COM_CPMS_Detail!$C322)","v":""},{"$f":"IF(CEM_COM_CPMS_Detail!$D322=\"\",\"\",CEM_COM_CPMS_Detail!$D322)","v":""},"",{"$f":"IF(COUNTIF(AQ$2:AQ300,AQ300)=1,AQ300,\"\")","v":""},"","",""]
[{"$f":"+IF(D301=\"\",\"\",MAX(A$1:A300)+1)","v":""},{"$f":"IF(CEM_COM_CPMS_Identification!C323=\"\",\"\",CEM_COM_CPMS_Identification!C323)","v":""},"",{"$f":"IF(COUNTIF(B$2:B301,B301)=1,B301,\"\")","v":""},null,null,null,null,null,null,null,null,null,null,null,null,null,null,{"$f":"+IF(W301=\"\",\"\",MAX(S$1:S300)+1)","v":""},{"$f":"IF(Limits_Details!$B323=\"\",\"\",Limits_Details!$B323)","v":""},{"$f":"IF(Limits_Details!$C323=\"\",\"\",Limits_Details!$C323)","v":""},"",{"$f":"IF(COUNTIF(V$2:V301,V301)=1,V301,\"\")","v":""},"","",null,null,null,{"$f":"+IF(AH301=\"\",\"\",MAX(AC$1:AC300)+1)","v":""},{"$f":"IF(Limits_Details!$B323=\"\",\"\",Limits_Details!$B323)","v":""},{"$f":"IF(Limits_Details!$C323=\"\",\"\",Limits_Details!$C323)","v":""},{"$f":"IF(Limits_Details!$D323=\"\",\"\",Limits_Details!$D323)","v":""},"",{"$f":"IF(COUNTIF(AG$2:AG301,AG301)=1,AG301,\"\")","v":""},"","","",null,{"$f":"+IF(AR301=\"\",\"\",MAX(AM$1:AM300)+1)","v":""},{"$f":"IF(CEM_COM_CPMS_Detail!$B323=\"\",\"\",CEM_COM_CPMS_Detail!$B323)","v":""},{"$f":"IF(CEM_COM_CPMS_Detail!$C323=\"\",\"\",CEM_COM_CPMS_Detail!$C323)","v":""},{"$f":"IF(CEM_COM_CPMS_Detail!$D323=\"\",\"\",CEM_COM_CPMS_Detail!$D323)","v":""},"",{"$f":"IF(COUNTIF(AQ$2:AQ301,AQ301)=1,AQ301,\"\")","v":""},"","",""]
[{"$f":"+IF(D302=\"\",\"\",MAX(A$1:A301)+1)","v":""},{"$f":"IF(CEM_COM_CPMS_Identification!C324=\"\",\"\",CEM_COM_CPMS_Identification!C324)","v":""},"",{"$f":"IF(COUNTIF(B$2:B302,B302)=1,B302,\"\")","v":""},null,null,null,null,null,null,null,null,null,null,null,null,null,null,{"$f":"+IF(W302=\"\",\"\",MAX(S$1:S301)+1)","v":""},{"$f":"IF(Limits_Details!$B324=\"\",\"\",Limits_Details!$B324)","v":""},{"$f":"IF(Limits_Details!$C324=\"\",\"\",Limits_Details!$C324)","v":""},"",{"$f":"IF(COUNTIF(V$2:V302,V302)=1,V302,\"\")","v":""},"","",null,null,null,{"$f":"+IF(AH302=\"\",\"\",MAX(AC$1:AC301)+1)","v":""},{"$f":"IF(Limits_Details!$B324=\"\",\"\",Limits_Details!$B324)","v":""},{"$f":"IF(Limits_Details!$C324=\"\",\"\",Limits_Details!$C324)","v":""},{"$f":"IF(Limits_Details!$D324=\"\",\"\",Limits_Details!$D324)","v":""},"",{"$f":"IF(COUNTIF(AG$2:AG302,AG302)=1,AG302,\"\")","v":""},"","","",null,{"$f":"+IF(AR302=\"\",\"\",MAX(AM$1:AM301)+1)","v":""},{"$f":"IF(CEM_COM_CPMS_Detail!$B324=\"\",\"\",CEM_COM_CPMS_Detail!$B324)","v":""},{"$f":"IF(CEM_COM_CPMS_Detail!$C324=\"\",\"\",CEM_COM_CPMS_Detail!$C324)","v":""},{"$f":"IF(CEM_COM_CPMS_Detail!$D324=\"\",\"\",CEM_COM_CPMS_Detail!$D324)","v":""},"",{"$f":"IF(COUNTIF(AQ$2:AQ302,AQ302)=1,AQ302,\"\")","v":""},"","",""]
[{"$f":"+IF(D303=\"\",\"\",MAX(A$1:A302)+1)","v":""},{"$f":"IF(CEM_COM_CPMS_Identification!C325=\"\",\"\",CEM_COM_CPMS_Identification!C325)","v":""},"",{"$f":"IF(COUNTIF(B$2:B303,B303)=1,B303,\"\")","v":""},null,null,null,null,null,null,null,null,null,null,null,null,null,null,{"$f":"+IF(W303=\"\",\"\",MAX(S$1:S302)+1)","v":""},{"$f":"IF(Limits_Details!$B325=\"\",\"\",Limits_Details!$B325)","v":""},{"$f":"IF(Limits_Details!$C325=\"\",\"\",Limits_Details!$C325)","v":""},"",{"$f":"IF(COUNTIF(V$2:V303,V303)=1,V303,\"\")","v":""},"","",null,null,null,{"$f":"+IF(AH303=\"\",\"\",MAX(AC$1:AC302)+1)","v":""},{"$f":"IF(Limits_Details!$B325=\"\",\"\",Limits_Details!$B325)","v":""},{"$f":"IF(Limits_Details!$C325=\"\",\"\",Limits_Details!$C325)","v":""},{"$f":"IF(Limits_Details!$D325=\"\",\"\",Limits_Details!$D325)","v":""},"",{"$f":"IF(COUNTIF(AG$2:AG303,AG303)=1,AG303,\"\")","v":""},"","","",null,{"$f":"+IF(AR303=\"\",\"\",MAX(AM$1:AM302)+1)","v":""},{"$f":"IF(CEM_COM_CPMS_Detail!$B325=\"\",\"\",CEM_COM_CPMS_Detail!$B325)","v":""},{"$f":"IF(CEM_COM_CPMS_Detail!$C325=\"\",\"\",CEM_COM_CPMS_Detail!$C325)","v":""},{"$f":"IF(CEM_COM_CPMS_Detail!$D325=\"\",\"\",CEM_COM_CPMS_Detail!$D325)","v":""},"",{"$f":"IF(COUNTIF(AQ$2:AQ303,AQ303)=1,AQ303,\"\")","v":""},"","",""]
[{"$f":"+IF(D304=\"\",\"\",MAX(A$1:A303)+1)","v":""},{"$f":"IF(CEM_COM_CPMS_Identification!C326=\"\",\"\",CEM_COM_CPMS_Identification!C326)","v":""},"",{"$f":"IF(COUNTIF(B$2:B304,B304)=1,B304,\"\")","v":""},null,null,null,null,null,null,null,null,null,null,null,null,null,null,{"$f":"+IF(W304=\"\",\"\",MAX(S$1:S303)+1)","v":""},{"$f":"IF(Limits_Details!$B326=\"\",\"\",Limits_Details!$B326)","v":""},{"$f":"IF(Limits_Details!$C326=\"\",\"\",Limits_Details!$C326)","v":""},"",{"$f":"IF(COUNTIF(V$2:V304,V304)=1,V304,\"\")","v":""},"","",null,null,null,{"$f":"+IF(AH304=\"\",\"\",MAX(AC$1:AC303)+1)","v":""},{"$f":"IF(Limits_Details!$B326=\"\",\"\",Limits_Details!$B326)","v":""},{"$f":"IF(Limits_Details!$C326=\"\",\"\",Limits_Details!$C326)","v":""},{"$f":"IF(Limits_Details!$D326=\"\",\"\",Limits_Details!$D326)","v":""},"",{"$f":"IF(COUNTIF(AG$2:AG304,AG304)=1,AG304,\"\")","v":""},"","","",null,{"$f":"+IF(AR304=\"\",\"\",MAX(AM$1:AM303)+1)","v":""},{"$f":"IF(CEM_COM_CPMS_Detail!$B326=\"\",\"\",CEM_COM_CPMS_Detail!$B326)","v":""},{"$f":"IF(CEM_COM_CPMS_Detail!$C326=\"\",\"\",CEM_COM_CPMS_Detail!$C326)","v":""},{"$f":"IF(CEM_COM_CPMS_Detail!$D326=\"\",\"\",CEM_COM_CPMS_Detail!$D326)","v":""},"",{"$f":"IF(COUNTIF(AQ$2:AQ304,AQ304)=1,AQ304,\"\")","v":""},"","",""]
[{"$f":"+IF(D305=\"\",\"\",MAX(A$1:A304)+1)","v":""},{"$f":"IF(CEM_COM_CPMS_Identification!C327=\"\",\"\",CEM_COM_CPMS_Identification!C327)","v":""},"",{"$f":"IF(COUNTIF(B$2:B305,B305)=1,B305,\"\")","v":""},null,null,null,null,null,null,null,null,null,null,null,null,null,null,{"$f":"+IF(W305=\"\",\"\",MAX(S$1:S304)+1)","v":""},{"$f":"IF(Limits_Details!$B327=\"\",\"\",Limits_Details!$B327)","v":""},{"$f":"IF(Limits_Details!$C327=\"\",\"\",Limits_Details!$C327)","v":""},"",{"$f":"IF(COUNTIF(V$2:V305,V305)=1,V305,\"\")","v":""},"","",null,null,null,{"$f":"+IF(AH305=\"\",\"\",MAX(AC$1:AC304)+1)","v":""},{"$f":"IF(Limits_Details!$B327=\"\",\"\",Limits_Details!$B327)","v":""},{"$f":"IF(Limits_Details!$C327=\"\",\"\",Limits_Details!$C327)","v":""},{"$f":"IF(Limits_Details!$D327=\"\",\"\",Limits_Details!$D327)","v":""},"",{"$f":"IF(COUNTIF(AG$2:AG305,AG305)=1,AG305,\"\")","v":""},"","","",null,{"$f":"+IF(AR305=\"\",\"\",MAX(AM$1:AM304)+1)","v":""},{"$f":"IF(CEM_COM_CPMS_Detail!$B327=\"\",\"\",CEM_COM_CPMS_Detail!$B327)","v":""},{"$f":"IF(CEM_COM_CPMS_Detail!$C327=\"\",\"\",CEM_COM_CPMS_Detail!$C327)","v":""},{"$f":"IF(CEM_COM_CPMS_Detail!$D327=\"\",\"\",CEM_COM_CPMS_Detail!$D327)","v":""},"",{"$f":"IF(COUNTIF(AQ$2:AQ305,AQ305)=1,AQ305,\"\")","v":""},"","",""]
[{"$f":"+IF(D306=\"\",\"\",MAX(A$1:A305)+1)","v":""},{"$f":"IF(CEM_COM_CPMS_Identification!C328=\"\",\"\",CEM_COM_CPMS_Identification!C328)","v":""},"",{"$f":"IF(COUNTIF(B$2:B306,B306)=1,B306,\"\")","v":""},null,null,null,null,null,null,null,null,null,null,null,null,null,null,{"$f":"+IF(W306=\"\",\"\",MAX(S$1:S305)+1)","v":""},{"$f":"IF(Limits_Details!$B328=\"\",\"\",Limits_Details!$B328)","v":""},{"$f":"IF(Limits_Details!$C328=\"\",\"\",Limits_Details!$C328)","v":""},"",{"$f":"IF(COUNTIF(V$2:V306,V306)=1,V306,\"\")","v":""},"","",null,null,null,{"$f":"+IF(AH306=\"\",\"\",MAX(AC$1:AC305)+1)","v":""},{"$f":"IF(Limits_Details!$B328=\"\",\"\",Limits_Details!$B328)","v":""},{"$f":"IF(Limits_Details!$C328=\"\",\"\",Limits_Details!$C328)","v":""},{"$f":"IF(Limits_Details!$D328=\"\",\"\",Limits_Details!$D328)","v":""},"",{"$f":"IF(COUNTIF(AG$2:AG306,AG306)=1,AG306,\"\")","v":""},"","","",null,{"$f":"+IF(AR306=\"\",\"\",MAX(AM$1:AM305)+1)","v":""},{"$f":"IF(CEM_COM_CPMS_Detail!$B328=\"\",\"\",CEM_COM_CPMS_Detail!$B328)","v":""},{"$f":"IF(CEM_COM_CPMS_Detail!$C328=\"\",\"\",CEM_COM_CPMS_Detail!$C328)","v":""},{"$f":"IF(CEM_COM_CPMS_Detail!$D328=\"\",\"\",CEM_COM_CPMS_Detail!$D328)","v":""},"",{"$f":"IF(COUNTIF(AQ$2:AQ306,AQ306)=1,AQ306,\"\")","v":""},"","",""]
[{"$f":"+IF(D307=\"\",\"\",MAX(A$1:A306)+1)","v":""},{"$f":"IF(CEM_COM_CPMS_Identification!C329=\"\",\"\",CEM_COM_CPMS_Identification!C329)","v":""},"",{"$f":"IF(COUNTIF(B$2:B307,B307)=1,B307,\"\")","v":""},null,null,null,null,null,null,null,null,null,null,null,null,null,null,{"$f":"+IF(W307=\"\",\"\",MAX(S$1:S306)+1)","v":""},{"$f":"IF(Limits_Details!$B329=\"\",\"\",Limits_Details!$B329)","v":""},{"$f":"IF(Limits_Details!$C329=\"\",\"\",Limits_Details!$C329)","v":""},"",{"$f":"IF(COUNTIF(V$2:V307,V307)=1,V307,\"\")","v":""},"","",null,null,null,{"$f":"+IF(AH307=\"\",\"\",MAX(AC$1:AC306)+1)","v":""},{"$f":"IF(Limits_Details!$B329=\"\",\"\",Limits_Details!$B329)","v":""},{"$f":"IF(Limits_Details!$C329=\"\",\"\",Limits_Details!$C329)","v":""},{"$f":"IF(Limits_Details!$D329=\"\",\"\",Limits_Details!$D329)","v":""},"",{"$f":"IF(COUNTIF(AG$2:AG307,AG307)=1,AG307,\"\")","v":""},"","","",null,{"$f":"+IF(AR307=\"\",\"\",MAX(AM$1:AM306)+1)","v":""},{"$f":"IF(CEM_COM_CPMS_Detail!$B329=\"\",\"\",CEM_COM_CPMS_Detail!$B329)","v":""},{"$f":"IF(CEM_COM_CPMS_Detail!$C329=\"\",\"\",CEM_COM_CPMS_Detail!$C329)","v":""},{"$f":"IF(CEM_COM_CPMS_Detail!$D329=\"\",\"\",CEM_COM_CPMS_Detail!$D329)","v":""},"",{"$f":"IF(COUNTIF(AQ$2:AQ307,AQ307)=1,AQ307,\"\")","v":""},"","",""]
[{"$f":"+IF(D308=\"\",\"\",MAX(A$1:A307)+1)","v":""},{"$f":"IF(CEM_COM_CPMS_Identification!C330=\"\",\"\",CEM_COM_CPMS_Identification!C330)","v":""},"",{"$f":"IF(COUNTIF(B$2:B308,B308)=1,B308,\"\")","v":""},null,null,null,null,null,null,null,null,null,null,null,null,null,null,{"$f":"+IF(W308=\"\",\"\",MAX(S$1:S307)+1)","v":""},{"$f":"IF(Limits_Details!$B330=\"\",\"\",Limits_Details!$B330)","v":""},{"$f":"IF(Limits_Details!$C330=\"\",\"\",Limits_Details!$C330)","v":""},"",{"$f":"IF(COUNTIF(V$2:V308,V308)=1,V308,\"\")","v":""},"","",null,null,null,{"$f":"+IF(AH308=\"\",\"\",MAX(AC$1:AC307)+1)","v":""},{"$f":"IF(Limits_Details!$B330=\"\",\"\",Limits_Details!$B330)","v":""},{"$f":"IF(Limits_Details!$C330=\"\",\"\",Limits_Details!$C330)","v":""},{"$f":"IF(Limits_Details!$D330=\"\",\"\",Limits_Details!$D330)","v":""},"",{"$f":"IF(COUNTIF(AG$2:AG308,AG308)=1,AG308,\"\")","v":""},"","","",null,{"$f":"+IF(AR308=\"\",\"\",MAX(AM$1:AM307)+1)","v":""},{"$f":"IF(CEM_COM_CPMS_Detail!$B330=\"\",\"\",CEM_COM_CPMS_Detail!$B330)","v":""},{"$f":"IF(CEM_COM_CPMS_Detail!$C330=\"\",\"\",CEM_COM_CPMS_Detail!$C330)","v":""},{"$f":"IF(CEM_COM_CPMS_Detail!$D330=\"\",\"\",CEM_COM_CPMS_Detail!$D330)","v":""},"",{"$f":"IF(COUNTIF(AQ$2:AQ308,AQ308)=1,AQ308,\"\")","v":""},"","",""]
[{"$f":"+IF(D309=\"\",\"\",MAX(A$1:A308)+1)","v":""},{"$f":"IF(CEM_COM_CPMS_Identification!C331=\"\",\"\",CEM_COM_CPMS_Identification!C331)","v":""},"",{"$f":"IF(COUNTIF(B$2:B309,B309)=1,B309,\"\")","v":""},null,null,null,null,null,null,null,null,null,null,null,null,null,null,{"$f":"+IF(W309=\"\",\"\",MAX(S$1:S308)+1)","v":""},{"$f":"IF(Limits_Details!$B331=\"\",\"\",Limits_Details!$B331)","v":""},{"$f":"IF(Limits_Details!$C331=\"\",\"\",Limits_Details!$C331)","v":""},"",{"$f":"IF(COUNTIF(V$2:V309,V309)=1,V309,\"\")","v":""},"","",null,null,null,{"$f":"+IF(AH309=\"\",\"\",MAX(AC$1:AC308)+1)","v":""},{"$f":"IF(Limits_Details!$B331=\"\",\"\",Limits_Details!$B331)","v":""},{"$f":"IF(Limits_Details!$C331=\"\",\"\",Limits_Details!$C331)","v":""},{"$f":"IF(Limits_Details!$D331=\"\",\"\",Limits_Details!$D331)","v":""},"",{"$f":"IF(COUNTIF(AG$2:AG309,AG309)=1,AG309,\"\")","v":""},"","","",null,{"$f":"+IF(AR309=\"\",\"\",MAX(AM$1:AM308)+1)","v":""},{"$f":"IF(CEM_COM_CPMS_Detail!$B331=\"\",\"\",CEM_COM_CPMS_Detail!$B331)","v":""},{"$f":"IF(CEM_COM_CPMS_Detail!$C331=\"\",\"\",CEM_COM_CPMS_Detail!$C331)","v":""},{"$f":"IF(CEM_COM_CPMS_Detail!$D331=\"\",\"\",CEM_COM_CPMS_Detail!$D331)","v":""},"",{"$f":"IF(COUNTIF(AQ$2:AQ309,AQ309)=1,AQ309,\"\")","v":""},"","",""]
[{"$f":"+IF(D310=\"\",\"\",MAX(A$1:A309)+1)","v":""},{"$f":"IF(CEM_COM_CPMS_Identification!C332=\"\",\"\",CEM_COM_CPMS_Identification!C332)","v":""},"",{"$f":"IF(COUNTIF(B$2:B310,B310)=1,B310,\"\")","v":""},null,null,null,null,null,null,null,null,null,null,null,null,null,null,{"$f":"+IF(W310=\"\",\"\",MAX(S$1:S309)+1)","v":""},{"$f":"IF(Limits_Details!$B332=\"\",\"\",Limits_Details!$B332)","v":""},{"$f":"IF(Limits_Details!$C332=\"\",\"\",Limits_Details!$C332)","v":""},"",{"$f":"IF(COUNTIF(V$2:V310,V310)=1,V310,\"\")","v":""},"","",null,null,null,{"$f":"+IF(AH310=\"\",\"\",MAX(AC$1:AC309)+1)","v":""},{"$f":"IF(Limits_Details!$B332=\"\",\"\",Limits_Details!$B332)","v":""},{"$f":"IF(Limits_Details!$C332=\"\",\"\",Limits_Details!$C332)","v":""},{"$f":"IF(Limits_Details!$D332=\"\",\"\",Limits_Details!$D332)","v":""},"",{"$f":"IF(COUNTIF(AG$2:AG310,AG310)=1,AG310,\"\")","v":""},"","","",null,{"$f":"+IF(AR310=\"\",\"\",MAX(AM$1:AM309)+1)","v":""},{"$f":"IF(CEM_COM_CPMS_Detail!$B332=\"\",\"\",CEM_COM_CPMS_Detail!$B332)","v":""},{"$f":"IF(CEM_COM_CPMS_Detail!$C332=\"\",\"\",CEM_COM_CPMS_Detail!$C332)","v":""},{"$f":"IF(CEM_COM_CPMS_Detail!$D332=\"\",\"\",CEM_COM_CPMS_Detail!$D332)","v":""},"",{"$f":"IF(COUNTIF(AQ$2:AQ310,AQ310)=1,AQ310,\"\")","v":""},"","",""]
[{"$f":"+IF(D311=\"\",\"\",MAX(A$1:A310)+1)","v":""},{"$f":"IF(CEM_COM_CPMS_Identification!C333=\"\",\"\",CEM_COM_CPMS_Identification!C333)","v":""},"",{"$f":"IF(COUNTIF(B$2:B311,B311)=1,B311,\"\")","v":""},null,null,null,null,null,null,null,null,null,null,null,null,null,null,{"$f":"+IF(W311=\"\",\"\",MAX(S$1:S310)+1)","v":""},{"$f":"IF(Limits_Details!$B333=\"\",\"\",Limits_Details!$B333)","v":""},{"$f":"IF(Limits_Details!$C333=\"\",\"\",Limits_Details!$C333)","v":""},"",{"$f":"IF(COUNTIF(V$2:V311,V311)=1,V311,\"\")","v":""},"","",null,null,null,{"$f":"+IF(AH311=\"\",\"\",MAX(AC$1:AC310)+1)","v":""},{"$f":"IF(Limits_Details!$B333=\"\",\"\",Limits_Details!$B333)","v":""},{"$f":"IF(Limits_Details!$C333=\"\",\"\",Limits_Details!$C333)","v":""},{"$f":"IF(Limits_Details!$D333=\"\",\"\",Limits_Details!$D333)","v":""},"",{"$f":"IF(COUNTIF(AG$2:AG311,AG311)=1,AG311,\"\")","v":""},"","","",null,{"$f":"+IF(AR311=\"\",\"\",MAX(AM$1:AM310)+1)","v":""},{"$f":"IF(CEM_COM_CPMS_Detail!$B333=\"\",\"\",CEM_COM_CPMS_Detail!$B333)","v":""},{"$f":"IF(CEM_COM_CPMS_Detail!$C333=\"\",\"\",CEM_COM_CPMS_Detail!$C333)","v":""},{"$f":"IF(CEM_COM_CPMS_Detail!$D333=\"\",\"\",CEM_COM_CPMS_Detail!$D333)","v":""},"",{"$f":"IF(COUNTIF(AQ$2:AQ311,AQ311)=1,AQ311,\"\")","v":""},"","",""]
[{"$f":"+IF(D312=\"\",\"\",MAX(A$1:A311)+1)","v":""},{"$f":"IF(CEM_COM_CPMS_Identification!C334=\"\",\"\",CEM_COM_CPMS_Identification!C334)","v":""},"",{"$f":"IF(COUNTIF(B$2:B312,B312)=1,B312,\"\")","v":""},null,null,null,null,null,null,null,null,null,null,null,null,null,null,{"$f":"+IF(W312=\"\",\"\",MAX(S$1:S311)+1)","v":""},{"$f":"IF(Limits_Details!$B334=\"\",\"\",Limits_Details!$B334)","v":""},{"$f":"IF(Limits_Details!$C334=\"\",\"\",Limits_Details!$C334)","v":""},"",{"$f":"IF(COUNTIF(V$2:V312,V312)=1,V312,\"\")","v":""},"","",null,null,null,{"$f":"+IF(AH312=\"\",\"\",MAX(AC$1:AC311)+1)","v":""},{"$f":"IF(Limits_Details!$B334=\"\",\"\",Limits_Details!$B334)","v":""},{"$f":"IF(Limits_Details!$C334=\"\",\"\",Limits_Details!$C334)","v":""},{"$f":"IF(Limits_Details!$D334=\"\",\"\",Limits_Details!$D334)","v":""},"",{"$f":"IF(COUNTIF(AG$2:AG312,AG312)=1,AG312,\"\")","v":""},"","","",null,{"$f":"+IF(AR312=\"\",\"\",MAX(AM$1:AM311)+1)","v":""},{"$f":"IF(CEM_COM_CPMS_Detail!$B334=\"\",\"\",CEM_COM_CPMS_Detail!$B334)","v":""},{"$f":"IF(CEM_COM_CPMS_Detail!$C334=\"\",\"\",CEM_COM_CPMS_Detail!$C334)","v":""},{"$f":"IF(CEM_COM_CPMS_Detail!$D334=\"\",\"\",CEM_COM_CPMS_Detail!$D334)","v":""},"",{"$f":"IF(COUNTIF(AQ$2:AQ312,AQ312)=1,AQ312,\"\")","v":""},"","",""]
[{"$f":"+IF(D313=\"\",\"\",MAX(A$1:A312)+1)","v":""},{"$f":"IF(CEM_COM_CPMS_Identification!C335=\"\",\"\",CEM_COM_CPMS_Identification!C335)","v":""},"",{"$f":"IF(COUNTIF(B$2:B313,B313)=1,B313,\"\")","v":""},null,null,null,null,null,null,null,null,null,null,null,null,null,null,{"$f":"+IF(W313=\"\",\"\",MAX(S$1:S312)+1)","v":""},{"$f":"IF(Limits_Details!$B335=\"\",\"\",Limits_Details!$B335)","v":""},{"$f":"IF(Limits_Details!$C335=\"\",\"\",Limits_Details!$C335)","v":""},"",{"$f":"IF(COUNTIF(V$2:V313,V313)=1,V313,\"\")","v":""},"","",null,null,null,{"$f":"+IF(AH313=\"\",\"\",MAX(AC$1:AC312)+1)","v":""},{"$f":"IF(Limits_Details!$B335=\"\",\"\",Limits_Details!$B335)","v":""},{"$f":"IF(Limits_Details!$C335=\"\",\"\",Limits_Details!$C335)","v":""},{"$f":"IF(Limits_Details!$D335=\"\",\"\",Limits_Details!$D335)","v":""},"",{"$f":"IF(COUNTIF(AG$2:AG313,AG313)=1,AG313,\"\")","v":""},"","","",null,{"$f":"+IF(AR313=\"\",\"\",MAX(AM$1:AM312)+1)","v":""},{"$f":"IF(CEM_COM_CPMS_Detail!$B335=\"\",\"\",CEM_COM_CPMS_Detail!$B335)","v":""},{"$f":"IF(CEM_COM_CPMS_Detail!$C335=\"\",\"\",CEM_COM_CPMS_Detail!$C335)","v":""},{"$f":"IF(CEM_COM_CPMS_Detail!$D335=\"\",\"\",CEM_COM_CPMS_Detail!$D335)","v":""},"",{"$f":"IF(COUNTIF(AQ$2:AQ313,AQ313)=1,AQ313,\"\")","v":""},"","",""]
[{"$f":"+IF(D314=\"\",\"\",MAX(A$1:A313)+1)","v":""},{"$f":"IF(CEM_COM_CPMS_Identification!C336=\"\",\"\",CEM_COM_CPMS_Identification!C336)","v":""},"",{"$f":"IF(COUNTIF(B$2:B314,B314)=1,B314,\"\")","v":""},null,null,null,null,null,null,null,null,null,null,null,null,null,null,{"$f":"+IF(W314=\"\",\"\",MAX(S$1:S313)+1)","v":""},{"$f":"IF(Limits_Details!$B336=\"\",\"\",Limits_Details!$B336)","v":""},{"$f":"IF(Limits_Details!$C336=\"\",\"\",Limits_Details!$C336)","v":""},"",{"$f":"IF(COUNTIF(V$2:V314,V314)=1,V314,\"\")","v":""},"","",null,null,null,{"$f":"+IF(AH314=\"\",\"\",MAX(AC$1:AC313)+1)","v":""},{"$f":"IF(Limits_Details!$B336=\"\",\"\",Limits_Details!$B336)","v":""},{"$f":"IF(Limits_Details!$C336=\"\",\"\",Limits_Details!$C336)","v":""},{"$f":"IF(Limits_Details!$D336=\"\",\"\",Limits_Details!$D336)","v":""},"",{"$f":"IF(COUNTIF(AG$2:AG314,AG314)=1,AG314,\"\")","v":""},"","","",null,{"$f":"+IF(AR314=\"\",\"\",MAX(AM$1:AM313)+1)","v":""},{"$f":"IF(CEM_COM_CPMS_Detail!$B336=\"\",\"\",CEM_COM_CPMS_Detail!$B336)","v":""},{"$f":"IF(CEM_COM_CPMS_Detail!$C336=\"\",\"\",CEM_COM_CPMS_Detail!$C336)","v":""},{"$f":"IF(CEM_COM_CPMS_Detail!$D336=\"\",\"\",CEM_COM_CPMS_Detail!$D336)","v":""},"",{"$f":"IF(COUNTIF(AQ$2:AQ314,AQ314)=1,AQ314,\"\")","v":""},"","",""]
[{"$f":"+IF(D315=\"\",\"\",MAX(A$1:A314)+1)","v":""},{"$f":"IF(CEM_COM_CPMS_Identification!C337=\"\",\"\",CEM_COM_CPMS_Identification!C337)","v":""},"",{"$f":"IF(COUNTIF(B$2:B315,B315)=1,B315,\"\")","v":""},null,null,null,null,null,null,null,null,null,null,null,null,null,null,{"$f":"+IF(W315=\"\",\"\",MAX(S$1:S314)+1)","v":""},{"$f":"IF(Limits_Details!$B337=\"\",\"\",Limits_Details!$B337)","v":""},{"$f":"IF(Limits_Details!$C337=\"\",\"\",Limits_Details!$C337)","v":""},"",{"$f":"IF(COUNTIF(V$2:V315,V315)=1,V315,\"\")","v":""},"","",null,null,null,{"$f":"+IF(AH315=\"\",\"\",MAX(AC$1:AC314)+1)","v":""},{"$f":"IF(Limits_Details!$B337=\"\",\"\",Limits_Details!$B337)","v":""},{"$f":"IF(Limits_Details!$C337=\"\",\"\",Limits_Details!$C337)","v":""},{"$f":"IF(Limits_Details!$D337=\"\",\"\",Limits_Details!$D337)","v":""},"",{"$f":"IF(COUNTIF(AG$2:AG315,AG315)=1,AG315,\"\")","v":""},"","","",null,{"$f":"+IF(AR315=\"\",\"\",MAX(AM$1:AM314)+1)","v":""},{"$f":"IF(CEM_COM_CPMS_Detail!$B337=\"\",\"\",CEM_COM_CPMS_Detail!$B337)","v":""},{"$f":"IF(CEM_COM_CPMS_Detail!$C337=\"\",\"\",CEM_COM_CPMS_Detail!$C337)","v":""},{"$f":"IF(CEM_COM_CPMS_Detail!$D337=\"\",\"\",CEM_COM_CPMS_Detail!$D337)","v":""},"",{"$f":"IF(COUNTIF(AQ$2:AQ315,AQ315)=1,AQ315,\"\")","v":""},"","",""]
[{"$f":"+IF(D316=\"\",\"\",MAX(A$1:A315)+1)","v":""},{"$f":"IF(CEM_COM_CPMS_Identification!C338=\"\",\"\",CEM_COM_CPMS_Identification!C338)","v":""},"",{"$f":"IF(COUNTIF(B$2:B316,B316)=1,B316,\"\")","v":""},null,null,null,null,null,null,null,null,null,null,null,null,null,null,{"$f":"+IF(W316=\"\",\"\",MAX(S$1:S315)+1)","v":""},{"$f":"IF(Limits_Details!$B338=\"\",\"\",Limits_Details!$B338)","v":""},{"$f":"IF(Limits_Details!$C338=\"\",\"\",Limits_Details!$C338)","v":""},"",{"$f":"IF(COUNTIF(V$2:V316,V316)=1,V316,\"\")","v":""},"","",null,null,null,{"$f":"+IF(AH316=\"\",\"\",MAX(AC$1:AC315)+1)","v":""},{"$f":"IF(Limits_Details!$B338=\"\",\"\",Limits_Details!$B338)","v":""},{"$f":"IF(Limits_Details!$C338=\"\",\"\",Limits_Details!$C338)","v":""},{"$f":"IF(Limits_Details!$D338=\"\",\"\",Limits_Details!$D338)","v":""},"",{"$f":"IF(COUNTIF(AG$2:AG316,AG316)=1,AG316,\"\")","v":""},"","","",null,{"$f":"+IF(AR316=\"\",\"\",MAX(AM$1:AM315)+1)","v":""},{"$f":"IF(CEM_COM_CPMS_Detail!$B338=\"\",\"\",CEM_COM_CPMS_Detail!$B338)","v":""},{"$f":"IF(CEM_COM_CPMS_Detail!$C338=\"\",\"\",CEM_COM_CPMS_Detail!$C338)","v":""},{"$f":"IF(CEM_COM_CPMS_Detail!$D338=\"\",\"\",CEM_COM_CPMS_Detail!$D338)","v":""},"",{"$f":"IF(COUNTIF(AQ$2:AQ316,AQ316)=1,AQ316,\"\")","v":""},"","",""]
[{"$f":"+IF(D317=\"\",\"\",MAX(A$1:A316)+1)","v":""},{"$f":"IF(CEM_COM_CPMS_Identification!C339=\"\",\"\",CEM_COM_CPMS_Identification!C339)","v":""},"",{"$f":"IF(COUNTIF(B$2:B317,B317)=1,B317,\"\")","v":""},null,null,null,null,null,null,null,null,null,null,null,null,null,null,{"$f":"+IF(W317=\"\",\"\",MAX(S$1:S316)+1)","v":""},{"$f":"IF(Limits_Details!$B339=\"\",\"\",Limits_Details!$B339)","v":""},{"$f":"IF(Limits_Details!$C339=\"\",\"\",Limits_Details!$C339)","v":""},"",{"$f":"IF(COUNTIF(V$2:V317,V317)=1,V317,\"\")","v":""},"","",null,null,null,{"$f":"+IF(AH317=\"\",\"\",MAX(AC$1:AC316)+1)","v":""},{"$f":"IF(Limits_Details!$B339=\"\",\"\",Limits_Details!$B339)","v":""},{"$f":"IF(Limits_Details!$C339=\"\",\"\",Limits_Details!$C339)","v":""},{"$f":"IF(Limits_Details!$D339=\"\",\"\",Limits_Details!$D339)","v":""},"",{"$f":"IF(COUNTIF(AG$2:AG317,AG317)=1,AG317,\"\")","v":""},"","","",null,{"$f":"+IF(AR317=\"\",\"\",MAX(AM$1:AM316)+1)","v":""},{"$f":"IF(CEM_COM_CPMS_Detail!$B339=\"\",\"\",CEM_COM_CPMS_Detail!$B339)","v":""},{"$f":"IF(CEM_COM_CPMS_Detail!$C339=\"\",\"\",CEM_COM_CPMS_Detail!$C339)","v":""},{"$f":"IF(CEM_COM_CPMS_Detail!$D339=\"\",\"\",CEM_COM_CPMS_Detail!$D339)","v":""},"",{"$f":"IF(COUNTIF(AQ$2:AQ317,AQ317)=1,AQ317,\"\")","v":""},"","",""]
[{"$f":"+IF(D318=\"\",\"\",MAX(A$1:A317)+1)","v":""},{"$f":"IF(CEM_COM_CPMS_Identification!C340=\"\",\"\",CEM_COM_CPMS_Identification!C340)","v":""},"",{"$f":"IF(COUNTIF(B$2:B318,B318)=1,B318,\"\")","v":""},null,null,null,null,null,null,null,null,null,null,null,null,null,null,{"$f":"+IF(W318=\"\",\"\",MAX(S$1:S317)+1)","v":""},{"$f":"IF(Limits_Details!$B340=\"\",\"\",Limits_Details!$B340)","v":""},{"$f":"IF(Limits_Details!$C340=\"\",\"\",Limits_Details!$C340)","v":""},"",{"$f":"IF(COUNTIF(V$2:V318,V318)=1,V318,\"\")","v":""},"","",null,null,null,{"$f":"+IF(AH318=\"\",\"\",MAX(AC$1:AC317)+1)","v":""},{"$f":"IF(Limits_Details!$B340=\"\",\"\",Limits_Details!$B340)","v":""},{"$f":"IF(Limits_Details!$C340=\"\",\"\",Limits_Details!$C340)","v":""},{"$f":"IF(Limits_Details!$D340=\"\",\"\",Limits_Details!$D340)","v":""},"",{"$f":"IF(COUNTIF(AG$2:AG318,AG318)=1,AG318,\"\")","v":""},"","","",null,{"$f":"+IF(AR318=\"\",\"\",MAX(AM$1:AM317)+1)","v":""},{"$f":"IF(CEM_COM_CPMS_Detail!$B340=\"\",\"\",CEM_COM_CPMS_Detail!$B340)","v":""},{"$f":"IF(CEM_COM_CPMS_Detail!$C340=\"\",\"\",CEM_COM_CPMS_Detail!$C340)","v":""},{"$f":"IF(CEM_COM_CPMS_Detail!$D340=\"\",\"\",CEM_COM_CPMS_Detail!$D340)","v":""},"",{"$f":"IF(COUNTIF(AQ$2:AQ318,AQ318)=1,AQ318,\"\")","v":""},"","",""]
[{"$f":"+IF(D319=\"\",\"\",MAX(A$1:A318)+1)","v":""},{"$f":"IF(CEM_COM_CPMS_Identification!C341=\"\",\"\",CEM_COM_CPMS_Identification!C341)","v":""},"",{"$f":"IF(COUNTIF(B$2:B319,B319)=1,B319,\"\")","v":""},null,null,null,null,null,null,null,null,null,null,null,null,null,null,{"$f":"+IF(W319=\"\",\"\",MAX(S$1:S318)+1)","v":""},{"$f":"IF(Limits_Details!$B341=\"\",\"\",Limits_Details!$B341)","v":""},{"$f":"IF(Limits_Details!$C341=\"\",\"\",Limits_Details!$C341)","v":""},"",{"$f":"IF(COUNTIF(V$2:V319,V319)=1,V319,\"\")","v":""},"","",null,null,null,{"$f":"+IF(AH319=\"\",\"\",MAX(AC$1:AC318)+1)","v":""},{"$f":"IF(Limits_Details!$B341=\"\",\"\",Limits_Details!$B341)","v":""},{"$f":"IF(Limits_Details!$C341=\"\",\"\",Limits_Details!$C341)","v":""},{"$f":"IF(Limits_Details!$D341=\"\",\"\",Limits_Details!$D341)","v":""},"",{"$f":"IF(COUNTIF(AG$2:AG319,AG319)=1,AG319,\"\")","v":""},"","","",null,{"$f":"+IF(AR319=\"\",\"\",MAX(AM$1:AM318)+1)","v":""},{"$f":"IF(CEM_COM_CPMS_Detail!$B341=\"\",\"\",CEM_COM_CPMS_Detail!$B341)","v":""},{"$f":"IF(CEM_COM_CPMS_Detail!$C341=\"\",\"\",CEM_COM_CPMS_Detail!$C341)","v":""},{"$f":"IF(CEM_COM_CPMS_Detail!$D341=\"\",\"\",CEM_COM_CPMS_Detail!$D341)","v":""},"",{"$f":"IF(COUNTIF(AQ$2:AQ319,AQ319)=1,AQ319,\"\")","v":""},"","",""]
[{"$f":"+IF(D320=\"\",\"\",MAX(A$1:A319)+1)","v":""},{"$f":"IF(CEM_COM_CPMS_Identification!C342=\"\",\"\",CEM_COM_CPMS_Identification!C342)","v":""},"",{"$f":"IF(COUNTIF(B$2:B320,B320)=1,B320,\"\")","v":""},null,null,null,null,null,null,null,null,null,null,null,null,null,null,{"$f":"+IF(W320=\"\",\"\",MAX(S$1:S319)+1)","v":""},{"$f":"IF(Limits_Details!$B342=\"\",\"\",Limits_Details!$B342)","v":""},{"$f":"IF(Limits_Details!$C342=\"\",\"\",Limits_Details!$C342)","v":""},"",{"$f":"IF(COUNTIF(V$2:V320,V320)=1,V320,\"\")","v":""},"","",null,null,null,{"$f":"+IF(AH320=\"\",\"\",MAX(AC$1:AC319)+1)","v":""},{"$f":"IF(Limits_Details!$B342=\"\",\"\",Limits_Details!$B342)","v":""},{"$f":"IF(Limits_Details!$C342=\"\",\"\",Limits_Details!$C342)","v":""},{"$f":"IF(Limits_Details!$D342=\"\",\"\",Limits_Details!$D342)","v":""},"",{"$f":"IF(COUNTIF(AG$2:AG320,AG320)=1,AG320,\"\")","v":""},"","","",null,{"$f":"+IF(AR320=\"\",\"\",MAX(AM$1:AM319)+1)","v":""},{"$f":"IF(CEM_COM_CPMS_Detail!$B342=\"\",\"\",CEM_COM_CPMS_Detail!$B342)","v":""},{"$f":"IF(CEM_COM_CPMS_Detail!$C342=\"\",\"\",CEM_COM_CPMS_Detail!$C342)","v":""},{"$f":"IF(CEM_COM_CPMS_Detail!$D342=\"\",\"\",CEM_COM_CPMS_Detail!$D342)","v":""},"",{"$f":"IF(COUNTIF(AQ$2:AQ320,AQ320)=1,AQ320,\"\")","v":""},"","",""]
[{"$f":"+IF(D321=\"\",\"\",MAX(A$1:A320)+1)","v":""},{"$f":"IF(CEM_COM_CPMS_Identification!C343=\"\",\"\",CEM_COM_CPMS_Identification!C343)","v":""},"",{"$f":"IF(COUNTIF(B$2:B321,B321)=1,B321,\"\")","v":""},null,null,null,null,null,null,null,null,null,null,null,null,null,null,{"$f":"+IF(W321=\"\",\"\",MAX(S$1:S320)+1)","v":""},{"$f":"IF(Limits_Details!$B343=\"\",\"\",Limits_Details!$B343)","v":""},{"$f":"IF(Limits_Details!$C343=\"\",\"\",Limits_Details!$C343)","v":""},"",{"$f":"IF(COUNTIF(V$2:V321,V321)=1,V321,\"\")","v":""},"","",null,null,null,{"$f":"+IF(AH321=\"\",\"\",MAX(AC$1:AC320)+1)","v":""},{"$f":"IF(Limits_Details!$B343=\"\",\"\",Limits_Details!$B343)","v":""},{"$f":"IF(Limits_Details!$C343=\"\",\"\",Limits_Details!$C343)","v":""},{"$f":"IF(Limits_Details!$D343=\"\",\"\",Limits_Details!$D343)","v":""},"",{"$f":"IF(COUNTIF(AG$2:AG321,AG321)=1,AG321,\"\")","v":""},"","","",null,{"$f":"+IF(AR321=\"\",\"\",MAX(AM$1:AM320)+1)","v":""},{"$f":"IF(CEM_COM_CPMS_Detail!$B343=\"\",\"\",CEM_COM_CPMS_Detail!$B343)","v":""},{"$f":"IF(CEM_COM_CPMS_Detail!$C343=\"\",\"\",CEM_COM_CPMS_Detail!$C343)","v":""},{"$f":"IF(CEM_COM_CPMS_Detail!$D343=\"\",\"\",CEM_COM_CPMS_Detail!$D343)","v":""},"",{"$f":"IF(COUNTIF(AQ$2:AQ321,AQ321)=1,AQ321,\"\")","v":""},"","",""]
[{"$f":"+IF(D322=\"\",\"\",MAX(A$1:A321)+1)","v":""},{"$f":"IF(CEM_COM_CPMS_Identification!C344=\"\",\"\",CEM_COM_CPMS_Identification!C344)","v":""},{"$f":"+IFERROR(INDEX(B$2:B$501,MATCH(ROW()-ROW($C$1),A$2:A$501,0)),\"\")","v":""},{"$f":"IF(COUNTIF(B$2:B322,B322)=1,B322,\"\")","v":""},null,null,null,null,null,null,null,null,null,null,null,null,null,null,{"$f":"+IF(W322=\"\",\"\",MAX(S$1:S321)+1)","v":""},{"$f":"IF(Limits_Details!$B344=\"\",\"\",Limits_Details!$B344)","v":""},{"$f":"IF(Limits_Details!$C344=\"\",\"\",Limits_Details!$C344)","v":""},"",{"$f":"IF(COUNTIF(V$2:V322,V322)=1,V322,\"\")","v":""},{"$f":"+IFERROR(INDEX(T$2:T$955,MATCH(ROW()-ROW(X$1),S$2:S$955,0)),\"\")","v":""},{"$f":"+IFERROR(INDEX(U$2:U$955,MATCH(ROW()-ROW(X$1),S$2:S$955,0)),\"\")","v":""},null,null,null,{"$f":"+IF(AH322=\"\",\"\",MAX(AC$1:AC321)+1)","v":""},{"$f":"IF(Limits_Details!$B344=\"\",\"\",Limits_Details!$B344)","v":""},{"$f":"IF(Limits_Details!$C344=\"\",\"\",Limits_Details!$C344)","v":""},{"$f":"IF(Limits_Details!$D344=\"\",\"\",Limits_Details!$D344)","v":""},"",{"$f":"IF(COUNTIF(AG$2:AG322,AG322)=1,AG322,\"\")","v":""},"","","",null,{"$f":"+IF(AR322=\"\",\"\",MAX(AM$1:AM321)+1)","v":""},{"$f":"IF(CEM_COM_CPMS_Detail!$B344=\"\",\"\",CEM_COM_CPMS_Detail!$B344)","v":""},{"$f":"IF(CEM_COM_CPMS_Detail!$C344=\"\",\"\",CEM_COM_CPMS_Detail!$C344)","v":""},{"$f":"IF(CEM_COM_CPMS_Detail!$D344=\"\",\"\",CEM_COM_CPMS_Detail!$D344)","v":""},"",{"$f":"IF(COUNTIF(AQ$2:AQ322,AQ322)=1,AQ322,\"\")","v":""},"","",""]
[{"$f":"+IF(D323=\"\",\"\",MAX(A$1:A322)+1)","v":""},{"$f":"IF(CEM_COM_CPMS_Identification!C345=\"\",\"\",CEM_COM_CPMS_Identification!C345)","v":""},"",{"$f":"IF(COUNTIF(B$2:B323,B323)=1,B323,\"\")","v":""},null,null,null,null,null,null,null,null,null,null,null,null,null,null,{"$f":"+IF(W323=\"\",\"\",MAX(S$1:S322)+1)","v":""},{"$f":"IF(Limits_Details!$B345=\"\",\"\",Limits_Details!$B345)","v":""},{"$f":"IF(Limits_Details!$C345=\"\",\"\",Limits_Details!$C345)","v":""},{"$f":"T323&U323","v":""},{"$f":"IF(COUNTIF(V$2:V323,V323)=1,V323,\"\")","v":""},"","",null,null,null,{"$f":"+IF(AH323=\"\",\"\",MAX(AC$1:AC322)+1)","v":""},{"$f":"IF(Limits_Details!$B345=\"\",\"\",Limits_Details!$B345)","v":""},{"$f":"IF(Limits_Details!$C345=\"\",\"\",Limits_Details!$C345)","v":""},{"$f":"IF(Limits_Details!$D345=\"\",\"\",Limits_Details!$D345)","v":""},{"$f":"AD323&AE323&AF323","v":""},{"$f":"IF(COUNTIF(AG$2:AG323,AG323)=1,AG323,\"\")","v":""},{"$f":"+IFERROR(INDEX(AD$2:AD$955,MATCH(ROW()-ROW(AH$1),AC$2:AC$955,0)),\"\")","v":""},{"$f":"+IFERROR(INDEX(AE$2:AE$955,MATCH(ROW()-ROW(AH$1),AC$2:AC$955,0)),\"\")","v":""},{"$f":"+IFERROR(INDEX(AF$2:AF$955,MATCH(ROW()-ROW(AI$1),AC$2:AC$955,0)),\"\")","v":""},null,{"$f":"+IF(AR323=\"\",\"\",MAX(AM$1:AM322)+1)","v":""},{"$f":"IF(CEM_COM_CPMS_Detail!$B345=\"\",\"\",CEM_COM_CPMS_Detail!$B345)","v":""},{"$f":"IF(CEM_COM_CPMS_Detail!$C345=\"\",\"\",CEM_COM_CPMS_Detail!$C345)","v":""},{"$f":"IF(CEM_COM_CPMS_Detail!$D345=\"\",\"\",CEM_COM_CPMS_Detail!$D345)","v":""},{"$f":"AN323&AO323&AP323","v":""},{"$f":"IF(COUNTIF(AQ$2:AQ323,AQ323)=1,AQ323,\"\")","v":""},{"$f":"+IFERROR(INDEX(AN$2:AN$955,MATCH(ROW()-ROW(AR$1),AM$2:AM$955,0)),\"\")","v":""},{"$f":"+IFERROR(INDEX(AO$2:AO$955,MATCH(ROW()-ROW(AR$1),AM$2:AM$955,0)),\"\")","v":""},{"$f":"+IFERROR(INDEX(AP$2:AP$955,MATCH(ROW()-ROW(AS$1),AM$2:AM$955,0)),\"\")","v":""}]
[{"$f":"+IF(D324=\"\",\"\",MAX(A$1:A323)+1)","v":""},{"$f":"IF(CEM_COM_CPMS_Identification!C346=\"\",\"\",CEM_COM_CPMS_Identification!C346)","v":""},"",{"$f":"IF(COUNTIF(B$2:B324,B324)=1,B324,\"\")","v":""},null,null,null,null,null,null,null,null,null,null,null,null,null,null,{"$f":"+IF(W324=\"\",\"\",MAX(S$1:S323)+1)","v":""},{"$f":"IF(Limits_Details!$B346=\"\",\"\",Limits_Details!$B346)","v":""},{"$f":"IF(Limits_Details!$C346=\"\",\"\",Limits_Details!$C346)","v":""},"",{"$f":"IF(COUNTIF(V$2:V324,V324)=1,V324,\"\")","v":""},"","",null,null,null,{"$f":"+IF(AH324=\"\",\"\",MAX(AC$1:AC323)+1)","v":""},{"$f":"IF(Limits_Details!$B346=\"\",\"\",Limits_Details!$B346)","v":""},{"$f":"IF(Limits_Details!$C346=\"\",\"\",Limits_Details!$C346)","v":""},{"$f":"IF(Limits_Details!$D346=\"\",\"\",Limits_Details!$D346)","v":""},"",{"$f":"IF(COUNTIF(AG$2:AG324,AG324)=1,AG324,\"\")","v":""},"","","",null,{"$f":"+IF(AR324=\"\",\"\",MAX(AM$1:AM323)+1)","v":""},{"$f":"IF(CEM_COM_CPMS_Detail!$B346=\"\",\"\",CEM_COM_CPMS_Detail!$B346)","v":""},{"$f":"IF(CEM_COM_CPMS_Detail!$C346=\"\",\"\",CEM_COM_CPMS_Detail!$C346)","v":""},{"$f":"IF(CEM_COM_CPMS_Detail!$D346=\"\",\"\",CEM_COM_CPMS_Detail!$D346)","v":""},"",{"$f":"IF(COUNTIF(AQ$2:AQ324,AQ324)=1,AQ324,\"\")","v":""},"","",""]
[{"$f":"+IF(D325=\"\",\"\",MAX(A$1:A324)+1)","v":""},{"$f":"IF(CEM_COM_CPMS_Identification!C347=\"\",\"\",CEM_COM_CPMS_Identification!C347)","v":""},"",{"$f":"IF(COUNTIF(B$2:B325,B325)=1,B325,\"\")","v":""},null,null,null,null,null,null,null,null,null,null,null,null,null,null,{"$f":"+IF(W325=\"\",\"\",MAX(S$1:S324)+1)","v":""},{"$f":"IF(Limits_Details!$B347=\"\",\"\",Limits_Details!$B347)","v":""},{"$f":"IF(Limits_Details!$C347=\"\",\"\",Limits_Details!$C347)","v":""},"",{"$f":"IF(COUNTIF(V$2:V325,V325)=1,V325,\"\")","v":""},"","",null,null,null,{"$f":"+IF(AH325=\"\",\"\",MAX(AC$1:AC324)+1)","v":""},{"$f":"IF(Limits_Details!$B347=\"\",\"\",Limits_Details!$B347)","v":""},{"$f":"IF(Limits_Details!$C347=\"\",\"\",Limits_Details!$C347)","v":""},{"$f":"IF(Limits_Details!$D347=\"\",\"\",Limits_Details!$D347)","v":""},"",{"$f":"IF(COUNTIF(AG$2:AG325,AG325)=1,AG325,\"\")","v":""},"","","",null,{"$f":"+IF(AR325=\"\",\"\",MAX(AM$1:AM324)+1)","v":""},{"$f":"IF(CEM_COM_CPMS_Detail!$B347=\"\",\"\",CEM_COM_CPMS_Detail!$B347)","v":""},{"$f":"IF(CEM_COM_CPMS_Detail!$C347=\"\",\"\",CEM_COM_CPMS_Detail!$C347)","v":""},{"$f":"IF(CEM_COM_CPMS_Detail!$D347=\"\",\"\",CEM_COM_CPMS_Detail!$D347)","v":""},"",{"$f":"IF(COUNTIF(AQ$2:AQ325,AQ325)=1,AQ325,\"\")","v":""},"","",""]
[{"$f":"+IF(D326=\"\",\"\",MAX(A$1:A325)+1)","v":""},{"$f":"IF(CEM_COM_CPMS_Identification!C348=\"\",\"\",CEM_COM_CPMS_Identification!C348)","v":""},"",{"$f":"IF(COUNTIF(B$2:B326,B326)=1,B326,\"\")","v":""},null,null,null,null,null,null,null,null,null,null,null,null,null,null,{"$f":"+IF(W326=\"\",\"\",MAX(S$1:S325)+1)","v":""},{"$f":"IF(Limits_Details!$B348=\"\",\"\",Limits_Details!$B348)","v":""},{"$f":"IF(Limits_Details!$C348=\"\",\"\",Limits_Details!$C348)","v":""},"",{"$f":"IF(COUNTIF(V$2:V326,V326)=1,V326,\"\")","v":""},"","",null,null,null,{"$f":"+IF(AH326=\"\",\"\",MAX(AC$1:AC325)+1)","v":""},{"$f":"IF(Limits_Details!$B348=\"\",\"\",Limits_Details!$B348)","v":""},{"$f":"IF(Limits_Details!$C348=\"\",\"\",Limits_Details!$C348)","v":""},{"$f":"IF(Limits_Details!$D348=\"\",\"\",Limits_Details!$D348)","v":""},"",{"$f":"IF(COUNTIF(AG$2:AG326,AG326)=1,AG326,\"\")","v":""},"","","",null,{"$f":"+IF(AR326=\"\",\"\",MAX(AM$1:AM325)+1)","v":""},{"$f":"IF(CEM_COM_CPMS_Detail!$B348=\"\",\"\",CEM_COM_CPMS_Detail!$B348)","v":""},{"$f":"IF(CEM_COM_CPMS_Detail!$C348=\"\",\"\",CEM_COM_CPMS_Detail!$C348)","v":""},{"$f":"IF(CEM_COM_CPMS_Detail!$D348=\"\",\"\",CEM_COM_CPMS_Detail!$D348)","v":""},"",{"$f":"IF(COUNTIF(AQ$2:AQ326,AQ326)=1,AQ326,\"\")","v":""},"","",""]
[{"$f":"+IF(D327=\"\",\"\",MAX(A$1:A326)+1)","v":""},{"$f":"IF(CEM_COM_CPMS_Identification!C349=\"\",\"\",CEM_COM_CPMS_Identification!C349)","v":""},"",{"$f":"IF(COUNTIF(B$2:B327,B327)=1,B327,\"\")","v":""},null,null,null,null,null,null,null,null,null,null,null,null,null,null,{"$f":"+IF(W327=\"\",\"\",MAX(S$1:S326)+1)","v":""},{"$f":"IF(Limits_Details!$B349=\"\",\"\",Limits_Details!$B349)","v":""},{"$f":"IF(Limits_Details!$C349=\"\",\"\",Limits_Details!$C349)","v":""},"",{"$f":"IF(COUNTIF(V$2:V327,V327)=1,V327,\"\")","v":""},"","",null,null,null,{"$f":"+IF(AH327=\"\",\"\",MAX(AC$1:AC326)+1)","v":""},{"$f":"IF(Limits_Details!$B349=\"\",\"\",Limits_Details!$B349)","v":""},{"$f":"IF(Limits_Details!$C349=\"\",\"\",Limits_Details!$C349)","v":""},{"$f":"IF(Limits_Details!$D349=\"\",\"\",Limits_Details!$D349)","v":""},"",{"$f":"IF(COUNTIF(AG$2:AG327,AG327)=1,AG327,\"\")","v":""},"","","",null,{"$f":"+IF(AR327=\"\",\"\",MAX(AM$1:AM326)+1)","v":""},{"$f":"IF(CEM_COM_CPMS_Detail!$B349=\"\",\"\",CEM_COM_CPMS_Detail!$B349)","v":""},{"$f":"IF(CEM_COM_CPMS_Detail!$C349=\"\",\"\",CEM_COM_CPMS_Detail!$C349)","v":""},{"$f":"IF(CEM_COM_CPMS_Detail!$D349=\"\",\"\",CEM_COM_CPMS_Detail!$D349)","v":""},"",{"$f":"IF(COUNTIF(AQ$2:AQ327,AQ327)=1,AQ327,\"\")","v":""},"","",""]
[{"$f":"+IF(D328=\"\",\"\",MAX(A$1:A327)+1)","v":""},{"$f":"IF(CEM_COM_CPMS_Identification!C350=\"\",\"\",CEM_COM_CPMS_Identification!C350)","v":""},"",{"$f":"IF(COUNTIF(B$2:B328,B328)=1,B328,\"\")","v":""},null,null,null,null,null,null,null,null,null,null,null,null,null,null,{"$f":"+IF(W328=\"\",\"\",MAX(S$1:S327)+1)","v":""},{"$f":"IF(Limits_Details!$B350=\"\",\"\",Limits_Details!$B350)","v":""},{"$f":"IF(Limits_Details!$C350=\"\",\"\",Limits_Details!$C350)","v":""},"",{"$f":"IF(COUNTIF(V$2:V328,V328)=1,V328,\"\")","v":""},"","",null,null,null,{"$f":"+IF(AH328=\"\",\"\",MAX(AC$1:AC327)+1)","v":""},{"$f":"IF(Limits_Details!$B350=\"\",\"\",Limits_Details!$B350)","v":""},{"$f":"IF(Limits_Details!$C350=\"\",\"\",Limits_Details!$C350)","v":""},{"$f":"IF(Limits_Details!$D350=\"\",\"\",Limits_Details!$D350)","v":""},"",{"$f":"IF(COUNTIF(AG$2:AG328,AG328)=1,AG328,\"\")","v":""},"","","",null,{"$f":"+IF(AR328=\"\",\"\",MAX(AM$1:AM327)+1)","v":""},{"$f":"IF(CEM_COM_CPMS_Detail!$B350=\"\",\"\",CEM_COM_CPMS_Detail!$B350)","v":""},{"$f":"IF(CEM_COM_CPMS_Detail!$C350=\"\",\"\",CEM_COM_CPMS_Detail!$C350)","v":""},{"$f":"IF(CEM_COM_CPMS_Detail!$D350=\"\",\"\",CEM_COM_CPMS_Detail!$D350)","v":""},"",{"$f":"IF(COUNTIF(AQ$2:AQ328,AQ328)=1,AQ328,\"\")","v":""},"","",""]
[{"$f":"+IF(D329=\"\",\"\",MAX(A$1:A328)+1)","v":""},{"$f":"IF(CEM_COM_CPMS_Identification!C351=\"\",\"\",CEM_COM_CPMS_Identification!C351)","v":""},"",{"$f":"IF(COUNTIF(B$2:B329,B329)=1,B329,\"\")","v":""},null,null,null,null,null,null,null,null,null,null,null,null,null,null,{"$f":"+IF(W329=\"\",\"\",MAX(S$1:S328)+1)","v":""},{"$f":"IF(Limits_Details!$B351=\"\",\"\",Limits_Details!$B351)","v":""},{"$f":"IF(Limits_Details!$C351=\"\",\"\",Limits_Details!$C351)","v":""},"",{"$f":"IF(COUNTIF(V$2:V329,V329)=1,V329,\"\")","v":""},"","",null,null,null,{"$f":"+IF(AH329=\"\",\"\",MAX(AC$1:AC328)+1)","v":""},{"$f":"IF(Limits_Details!$B351=\"\",\"\",Limits_Details!$B351)","v":""},{"$f":"IF(Limits_Details!$C351=\"\",\"\",Limits_Details!$C351)","v":""},{"$f":"IF(Limits_Details!$D351=\"\",\"\",Limits_Details!$D351)","v":""},"",{"$f":"IF(COUNTIF(AG$2:AG329,AG329)=1,AG329,\"\")","v":""},"","","",null,{"$f":"+IF(AR329=\"\",\"\",MAX(AM$1:AM328)+1)","v":""},{"$f":"IF(CEM_COM_CPMS_Detail!$B351=\"\",\"\",CEM_COM_CPMS_Detail!$B351)","v":""},{"$f":"IF(CEM_COM_CPMS_Detail!$C351=\"\",\"\",CEM_COM_CPMS_Detail!$C351)","v":""},{"$f":"IF(CEM_COM_CPMS_Detail!$D351=\"\",\"\",CEM_COM_CPMS_Detail!$D351)","v":""},"",{"$f":"IF(COUNTIF(AQ$2:AQ329,AQ329)=1,AQ329,\"\")","v":""},"","",""]
[{"$f":"+IF(D330=\"\",\"\",MAX(A$1:A329)+1)","v":""},{"$f":"IF(CEM_COM_CPMS_Identification!C352=\"\",\"\",CEM_COM_CPMS_Identification!C352)","v":""},"",{"$f":"IF(COUNTIF(B$2:B330,B330)=1,B330,\"\")","v":""},null,null,null,null,null,null,null,null,null,null,null,null,null,null,{"$f":"+IF(W330=\"\",\"\",MAX(S$1:S329)+1)","v":""},{"$f":"IF(Limits_Details!$B352=\"\",\"\",Limits_Details!$B352)","v":""},{"$f":"IF(Limits_Details!$C352=\"\",\"\",Limits_Details!$C352)","v":""},"",{"$f":"IF(COUNTIF(V$2:V330,V330)=1,V330,\"\")","v":""},"","",null,null,null,{"$f":"+IF(AH330=\"\",\"\",MAX(AC$1:AC329)+1)","v":""},{"$f":"IF(Limits_Details!$B352=\"\",\"\",Limits_Details!$B352)","v":""},{"$f":"IF(Limits_Details!$C352=\"\",\"\",Limits_Details!$C352)","v":""},{"$f":"IF(Limits_Details!$D352=\"\",\"\",Limits_Details!$D352)","v":""},"",{"$f":"IF(COUNTIF(AG$2:AG330,AG330)=1,AG330,\"\")","v":""},"","","",null,{"$f":"+IF(AR330=\"\",\"\",MAX(AM$1:AM329)+1)","v":""},{"$f":"IF(CEM_COM_CPMS_Detail!$B352=\"\",\"\",CEM_COM_CPMS_Detail!$B352)","v":""},{"$f":"IF(CEM_COM_CPMS_Detail!$C352=\"\",\"\",CEM_COM_CPMS_Detail!$C352)","v":""},{"$f":"IF(CEM_COM_CPMS_Detail!$D352=\"\",\"\",CEM_COM_CPMS_Detail!$D352)","v":""},"",{"$f":"IF(COUNTIF(AQ$2:AQ330,AQ330)=1,AQ330,\"\")","v":""},"","",""]
[{"$f":"+IF(D331=\"\",\"\",MAX(A$1:A330)+1)","v":""},{"$f":"IF(CEM_COM_CPMS_Identification!C353=\"\",\"\",CEM_COM_CPMS_Identification!C353)","v":""},"",{"$f":"IF(COUNTIF(B$2:B331,B331)=1,B331,\"\")","v":""},null,null,null,null,null,null,null,null,null,null,null,null,null,null,{"$f":"+IF(W331=\"\",\"\",MAX(S$1:S330)+1)","v":""},{"$f":"IF(Limits_Details!$B353=\"\",\"\",Limits_Details!$B353)","v":""},{"$f":"IF(Limits_Details!$C353=\"\",\"\",Limits_Details!$C353)","v":""},"",{"$f":"IF(COUNTIF(V$2:V331,V331)=1,V331,\"\")","v":""},"","",null,null,null,{"$f":"+IF(AH331=\"\",\"\",MAX(AC$1:AC330)+1)","v":""},{"$f":"IF(Limits_Details!$B353=\"\",\"\",Limits_Details!$B353)","v":""},{"$f":"IF(Limits_Details!$C353=\"\",\"\",Limits_Details!$C353)","v":""},{"$f":"IF(Limits_Details!$D353=\"\",\"\",Limits_Details!$D353)","v":""},"",{"$f":"IF(COUNTIF(AG$2:AG331,AG331)=1,AG331,\"\")","v":""},"","","",null,{"$f":"+IF(AR331=\"\",\"\",MAX(AM$1:AM330)+1)","v":""},{"$f":"IF(CEM_COM_CPMS_Detail!$B353=\"\",\"\",CEM_COM_CPMS_Detail!$B353)","v":""},{"$f":"IF(CEM_COM_CPMS_Detail!$C353=\"\",\"\",CEM_COM_CPMS_Detail!$C353)","v":""},{"$f":"IF(CEM_COM_CPMS_Detail!$D353=\"\",\"\",CEM_COM_CPMS_Detail!$D353)","v":""},"",{"$f":"IF(COUNTIF(AQ$2:AQ331,AQ331)=1,AQ331,\"\")","v":""},"","",""]
[{"$f":"+IF(D332=\"\",\"\",MAX(A$1:A331)+1)","v":""},{"$f":"IF(CEM_COM_CPMS_Identification!C354=\"\",\"\",CEM_COM_CPMS_Identification!C354)","v":""},"",{"$f":"IF(COUNTIF(B$2:B332,B332)=1,B332,\"\")","v":""},null,null,null,null,null,null,null,null,null,null,null,null,null,null,{"$f":"+IF(W332=\"\",\"\",MAX(S$1:S331)+1)","v":""},{"$f":"IF(Limits_Details!$B354=\"\",\"\",Limits_Details!$B354)","v":""},{"$f":"IF(Limits_Details!$C354=\"\",\"\",Limits_Details!$C354)","v":""},"",{"$f":"IF(COUNTIF(V$2:V332,V332)=1,V332,\"\")","v":""},"","",null,null,null,{"$f":"+IF(AH332=\"\",\"\",MAX(AC$1:AC331)+1)","v":""},{"$f":"IF(Limits_Details!$B354=\"\",\"\",Limits_Details!$B354)","v":""},{"$f":"IF(Limits_Details!$C354=\"\",\"\",Limits_Details!$C354)","v":""},{"$f":"IF(Limits_Details!$D354=\"\",\"\",Limits_Details!$D354)","v":""},"",{"$f":"IF(COUNTIF(AG$2:AG332,AG332)=1,AG332,\"\")","v":""},"","","",null,{"$f":"+IF(AR332=\"\",\"\",MAX(AM$1:AM331)+1)","v":""},{"$f":"IF(CEM_COM_CPMS_Detail!$B354=\"\",\"\",CEM_COM_CPMS_Detail!$B354)","v":""},{"$f":"IF(CEM_COM_CPMS_Detail!$C354=\"\",\"\",CEM_COM_CPMS_Detail!$C354)","v":""},{"$f":"IF(CEM_COM_CPMS_Detail!$D354=\"\",\"\",CEM_COM_CPMS_Detail!$D354)","v":""},"",{"$f":"IF(COUNTIF(AQ$2:AQ332,AQ332)=1,AQ332,\"\")","v":""},"","",""]
[{"$f":"+IF(D333=\"\",\"\",MAX(A$1:A332)+1)","v":""},{"$f":"IF(CEM_COM_CPMS_Identification!C355=\"\",\"\",CEM_COM_CPMS_Identification!C355)","v":""},"",{"$f":"IF(COUNTIF(B$2:B333,B333)=1,B333,\"\")","v":""},null,null,null,null,null,null,null,null,null,null,null,null,null,null,{"$f":"+IF(W333=\"\",\"\",MAX(S$1:S332)+1)","v":""},{"$f":"IF(Limits_Details!$B355=\"\",\"\",Limits_Details!$B355)","v":""},{"$f":"IF(Limits_Details!$C355=\"\",\"\",Limits_Details!$C355)","v":""},"",{"$f":"IF(COUNTIF(V$2:V333,V333)=1,V333,\"\")","v":""},"","",null,null,null,{"$f":"+IF(AH333=\"\",\"\",MAX(AC$1:AC332)+1)","v":""},{"$f":"IF(Limits_Details!$B355=\"\",\"\",Limits_Details!$B355)","v":""},{"$f":"IF(Limits_Details!$C355=\"\",\"\",Limits_Details!$C355)","v":""},{"$f":"IF(Limits_Details!$D355=\"\",\"\",Limits_Details!$D355)","v":""},"",{"$f":"IF(COUNTIF(AG$2:AG333,AG333)=1,AG333,\"\")","v":""},"","","",null,{"$f":"+IF(AR333=\"\",\"\",MAX(AM$1:AM332)+1)","v":""},{"$f":"IF(CEM_COM_CPMS_Detail!$B355=\"\",\"\",CEM_COM_CPMS_Detail!$B355)","v":""},{"$f":"IF(CEM_COM_CPMS_Detail!$C355=\"\",\"\",CEM_COM_CPMS_Detail!$C355)","v":""},{"$f":"IF(CEM_COM_CPMS_Detail!$D355=\"\",\"\",CEM_COM_CPMS_Detail!$D355)","v":""},"",{"$f":"IF(COUNTIF(AQ$2:AQ333,AQ333)=1,AQ333,\"\")","v":""},"","",""]
[{"$f":"+IF(D334=\"\",\"\",MAX(A$1:A333)+1)","v":""},{"$f":"IF(CEM_COM_CPMS_Identification!C356=\"\",\"\",CEM_COM_CPMS_Identification!C356)","v":""},"",{"$f":"IF(COUNTIF(B$2:B334,B334)=1,B334,\"\")","v":""},null,null,null,null,null,null,null,null,null,null,null,null,null,null,{"$f":"+IF(W334=\"\",\"\",MAX(S$1:S333)+1)","v":""},{"$f":"IF(Limits_Details!$B356=\"\",\"\",Limits_Details!$B356)","v":""},{"$f":"IF(Limits_Details!$C356=\"\",\"\",Limits_Details!$C356)","v":""},"",{"$f":"IF(COUNTIF(V$2:V334,V334)=1,V334,\"\")","v":""},"","",null,null,null,{"$f":"+IF(AH334=\"\",\"\",MAX(AC$1:AC333)+1)","v":""},{"$f":"IF(Limits_Details!$B356=\"\",\"\",Limits_Details!$B356)","v":""},{"$f":"IF(Limits_Details!$C356=\"\",\"\",Limits_Details!$C356)","v":""},{"$f":"IF(Limits_Details!$D356=\"\",\"\",Limits_Details!$D356)","v":""},"",{"$f":"IF(COUNTIF(AG$2:AG334,AG334)=1,AG334,\"\")","v":""},"","","",null,{"$f":"+IF(AR334=\"\",\"\",MAX(AM$1:AM333)+1)","v":""},{"$f":"IF(CEM_COM_CPMS_Detail!$B356=\"\",\"\",CEM_COM_CPMS_Detail!$B356)","v":""},{"$f":"IF(CEM_COM_CPMS_Detail!$C356=\"\",\"\",CEM_COM_CPMS_Detail!$C356)","v":""},{"$f":"IF(CEM_COM_CPMS_Detail!$D356=\"\",\"\",CEM_COM_CPMS_Detail!$D356)","v":""},"",{"$f":"IF(COUNTIF(AQ$2:AQ334,AQ334)=1,AQ334,\"\")","v":""},"","",""]
[{"$f":"+IF(D335=\"\",\"\",MAX(A$1:A334)+1)","v":""},{"$f":"IF(CEM_COM_CPMS_Identification!C357=\"\",\"\",CEM_COM_CPMS_Identification!C357)","v":""},"",{"$f":"IF(COUNTIF(B$2:B335,B335)=1,B335,\"\")","v":""},null,null,null,null,null,null,null,null,null,null,null,null,null,null,{"$f":"+IF(W335=\"\",\"\",MAX(S$1:S334)+1)","v":""},{"$f":"IF(Limits_Details!$B357=\"\",\"\",Limits_Details!$B357)","v":""},{"$f":"IF(Limits_Details!$C357=\"\",\"\",Limits_Details!$C357)","v":""},"",{"$f":"IF(COUNTIF(V$2:V335,V335)=1,V335,\"\")","v":""},"","",null,null,null,{"$f":"+IF(AH335=\"\",\"\",MAX(AC$1:AC334)+1)","v":""},{"$f":"IF(Limits_Details!$B357=\"\",\"\",Limits_Details!$B357)","v":""},{"$f":"IF(Limits_Details!$C357=\"\",\"\",Limits_Details!$C357)","v":""},{"$f":"IF(Limits_Details!$D357=\"\",\"\",Limits_Details!$D357)","v":""},"",{"$f":"IF(COUNTIF(AG$2:AG335,AG335)=1,AG335,\"\")","v":""},"","","",null,{"$f":"+IF(AR335=\"\",\"\",MAX(AM$1:AM334)+1)","v":""},{"$f":"IF(CEM_COM_CPMS_Detail!$B357=\"\",\"\",CEM_COM_CPMS_Detail!$B357)","v":""},{"$f":"IF(CEM_COM_CPMS_Detail!$C357=\"\",\"\",CEM_COM_CPMS_Detail!$C357)","v":""},{"$f":"IF(CEM_COM_CPMS_Detail!$D357=\"\",\"\",CEM_COM_CPMS_Detail!$D357)","v":""},"",{"$f":"IF(COUNTIF(AQ$2:AQ335,AQ335)=1,AQ335,\"\")","v":""},"","",""]
[{"$f":"+IF(D336=\"\",\"\",MAX(A$1:A335)+1)","v":""},{"$f":"IF(CEM_COM_CPMS_Identification!C358=\"\",\"\",CEM_COM_CPMS_Identification!C358)","v":""},"",{"$f":"IF(COUNTIF(B$2:B336,B336)=1,B336,\"\")","v":""},null,null,null,null,null,null,null,null,null,null,null,null,null,null,{"$f":"+IF(W336=\"\",\"\",MAX(S$1:S335)+1)","v":""},{"$f":"IF(Limits_Details!$B358=\"\",\"\",Limits_Details!$B358)","v":""},{"$f":"IF(Limits_Details!$C358=\"\",\"\",Limits_Details!$C358)","v":""},"",{"$f":"IF(COUNTIF(V$2:V336,V336)=1,V336,\"\")","v":""},"","",null,null,null,{"$f":"+IF(AH336=\"\",\"\",MAX(AC$1:AC335)+1)","v":""},{"$f":"IF(Limits_Details!$B358=\"\",\"\",Limits_Details!$B358)","v":""},{"$f":"IF(Limits_Details!$C358=\"\",\"\",Limits_Details!$C358)","v":""},{"$f":"IF(Limits_Details!$D358=\"\",\"\",Limits_Details!$D358)","v":""},"",{"$f":"IF(COUNTIF(AG$2:AG336,AG336)=1,AG336,\"\")","v":""},"","","",null,{"$f":"+IF(AR336=\"\",\"\",MAX(AM$1:AM335)+1)","v":""},{"$f":"IF(CEM_COM_CPMS_Detail!$B358=\"\",\"\",CEM_COM_CPMS_Detail!$B358)","v":""},{"$f":"IF(CEM_COM_CPMS_Detail!$C358=\"\",\"\",CEM_COM_CPMS_Detail!$C358)","v":""},{"$f":"IF(CEM_COM_CPMS_Detail!$D358=\"\",\"\",CEM_COM_CPMS_Detail!$D358)","v":""},"",{"$f":"IF(COUNTIF(AQ$2:AQ336,AQ336)=1,AQ336,\"\")","v":""},"","",""]
[{"$f":"+IF(D337=\"\",\"\",MAX(A$1:A336)+1)","v":""},{"$f":"IF(CEM_COM_CPMS_Identification!C359=\"\",\"\",CEM_COM_CPMS_Identification!C359)","v":""},"",{"$f":"IF(COUNTIF(B$2:B337,B337)=1,B337,\"\")","v":""},null,null,null,null,null,null,null,null,null,null,null,null,null,null,{"$f":"+IF(W337=\"\",\"\",MAX(S$1:S336)+1)","v":""},{"$f":"IF(Limits_Details!$B359=\"\",\"\",Limits_Details!$B359)","v":""},{"$f":"IF(Limits_Details!$C359=\"\",\"\",Limits_Details!$C359)","v":""},"",{"$f":"IF(COUNTIF(V$2:V337,V337)=1,V337,\"\")","v":""},"","",null,null,null,{"$f":"+IF(AH337=\"\",\"\",MAX(AC$1:AC336)+1)","v":""},{"$f":"IF(Limits_Details!$B359=\"\",\"\",Limits_Details!$B359)","v":""},{"$f":"IF(Limits_Details!$C359=\"\",\"\",Limits_Details!$C359)","v":""},{"$f":"IF(Limits_Details!$D359=\"\",\"\",Limits_Details!$D359)","v":""},"",{"$f":"IF(COUNTIF(AG$2:AG337,AG337)=1,AG337,\"\")","v":""},"","","",null,{"$f":"+IF(AR337=\"\",\"\",MAX(AM$1:AM336)+1)","v":""},{"$f":"IF(CEM_COM_CPMS_Detail!$B359=\"\",\"\",CEM_COM_CPMS_Detail!$B359)","v":""},{"$f":"IF(CEM_COM_CPMS_Detail!$C359=\"\",\"\",CEM_COM_CPMS_Detail!$C359)","v":""},{"$f":"IF(CEM_COM_CPMS_Detail!$D359=\"\",\"\",CEM_COM_CPMS_Detail!$D359)","v":""},"",{"$f":"IF(COUNTIF(AQ$2:AQ337,AQ337)=1,AQ337,\"\")","v":""},"","",""]
[{"$f":"+IF(D338=\"\",\"\",MAX(A$1:A337)+1)","v":""},{"$f":"IF(CEM_COM_CPMS_Identification!C360=\"\",\"\",CEM_COM_CPMS_Identification!C360)","v":""},"",{"$f":"IF(COUNTIF(B$2:B338,B338)=1,B338,\"\")","v":""},null,null,null,null,null,null,null,null,null,null,null,null,null,null,{"$f":"+IF(W338=\"\",\"\",MAX(S$1:S337)+1)","v":""},{"$f":"IF(Limits_Details!$B360=\"\",\"\",Limits_Details!$B360)","v":""},{"$f":"IF(Limits_Details!$C360=\"\",\"\",Limits_Details!$C360)","v":""},"",{"$f":"IF(COUNTIF(V$2:V338,V338)=1,V338,\"\")","v":""},"","",null,null,null,{"$f":"+IF(AH338=\"\",\"\",MAX(AC$1:AC337)+1)","v":""},{"$f":"IF(Limits_Details!$B360=\"\",\"\",Limits_Details!$B360)","v":""},{"$f":"IF(Limits_Details!$C360=\"\",\"\",Limits_Details!$C360)","v":""},{"$f":"IF(Limits_Details!$D360=\"\",\"\",Limits_Details!$D360)","v":""},"",{"$f":"IF(COUNTIF(AG$2:AG338,AG338)=1,AG338,\"\")","v":""},"","","",null,{"$f":"+IF(AR338=\"\",\"\",MAX(AM$1:AM337)+1)","v":""},{"$f":"IF(CEM_COM_CPMS_Detail!$B360=\"\",\"\",CEM_COM_CPMS_Detail!$B360)","v":""},{"$f":"IF(CEM_COM_CPMS_Detail!$C360=\"\",\"\",CEM_COM_CPMS_Detail!$C360)","v":""},{"$f":"IF(CEM_COM_CPMS_Detail!$D360=\"\",\"\",CEM_COM_CPMS_Detail!$D360)","v":""},"",{"$f":"IF(COUNTIF(AQ$2:AQ338,AQ338)=1,AQ338,\"\")","v":""},"","",""]
[{"$f":"+IF(D339=\"\",\"\",MAX(A$1:A338)+1)","v":""},{"$f":"IF(CEM_COM_CPMS_Identification!C361=\"\",\"\",CEM_COM_CPMS_Identification!C361)","v":""},"",{"$f":"IF(COUNTIF(B$2:B339,B339)=1,B339,\"\")","v":""},null,null,null,null,null,null,null,null,null,null,null,null,null,null,{"$f":"+IF(W339=\"\",\"\",MAX(S$1:S338)+1)","v":""},{"$f":"IF(Limits_Details!$B361=\"\",\"\",Limits_Details!$B361)","v":""},{"$f":"IF(Limits_Details!$C361=\"\",\"\",Limits_Details!$C361)","v":""},"",{"$f":"IF(COUNTIF(V$2:V339,V339)=1,V339,\"\")","v":""},"","",null,null,null,{"$f":"+IF(AH339=\"\",\"\",MAX(AC$1:AC338)+1)","v":""},{"$f":"IF(Limits_Details!$B361=\"\",\"\",Limits_Details!$B361)","v":""},{"$f":"IF(Limits_Details!$C361=\"\",\"\",Limits_Details!$C361)","v":""},{"$f":"IF(Limits_Details!$D361=\"\",\"\",Limits_Details!$D361)","v":""},"",{"$f":"IF(COUNTIF(AG$2:AG339,AG339)=1,AG339,\"\")","v":""},"","","",null,{"$f":"+IF(AR339=\"\",\"\",MAX(AM$1:AM338)+1)","v":""},{"$f":"IF(CEM_COM_CPMS_Detail!$B361=\"\",\"\",CEM_COM_CPMS_Detail!$B361)","v":""},{"$f":"IF(CEM_COM_CPMS_Detail!$C361=\"\",\"\",CEM_COM_CPMS_Detail!$C361)","v":""},{"$f":"IF(CEM_COM_CPMS_Detail!$D361=\"\",\"\",CEM_COM_CPMS_Detail!$D361)","v":""},"",{"$f":"IF(COUNTIF(AQ$2:AQ339,AQ339)=1,AQ339,\"\")","v":""},"","",""]
[{"$f":"+IF(D340=\"\",\"\",MAX(A$1:A339)+1)","v":""},{"$f":"IF(CEM_COM_CPMS_Identification!C362=\"\",\"\",CEM_COM_CPMS_Identification!C362)","v":""},"",{"$f":"IF(COUNTIF(B$2:B340,B340)=1,B340,\"\")","v":""},null,null,null,null,null,null,null,null,null,null,null,null,null,null,{"$f":"+IF(W340=\"\",\"\",MAX(S$1:S339)+1)","v":""},{"$f":"IF(Limits_Details!$B362=\"\",\"\",Limits_Details!$B362)","v":""},{"$f":"IF(Limits_Details!$C362=\"\",\"\",Limits_Details!$C362)","v":""},"",{"$f":"IF(COUNTIF(V$2:V340,V340)=1,V340,\"\")","v":""},"","",null,null,null,{"$f":"+IF(AH340=\"\",\"\",MAX(AC$1:AC339)+1)","v":""},{"$f":"IF(Limits_Details!$B362=\"\",\"\",Limits_Details!$B362)","v":""},{"$f":"IF(Limits_Details!$C362=\"\",\"\",Limits_Details!$C362)","v":""},{"$f":"IF(Limits_Details!$D362=\"\",\"\",Limits_Details!$D362)","v":""},"",{"$f":"IF(COUNTIF(AG$2:AG340,AG340)=1,AG340,\"\")","v":""},"","","",null,{"$f":"+IF(AR340=\"\",\"\",MAX(AM$1:AM339)+1)","v":""},{"$f":"IF(CEM_COM_CPMS_Detail!$B362=\"\",\"\",CEM_COM_CPMS_Detail!$B362)","v":""},{"$f":"IF(CEM_COM_CPMS_Detail!$C362=\"\",\"\",CEM_COM_CPMS_Detail!$C362)","v":""},{"$f":"IF(CEM_COM_CPMS_Detail!$D362=\"\",\"\",CEM_COM_CPMS_Detail!$D362)","v":""},"",{"$f":"IF(COUNTIF(AQ$2:AQ340,AQ340)=1,AQ340,\"\")","v":""},"","",""]
[{"$f":"+IF(D341=\"\",\"\",MAX(A$1:A340)+1)","v":""},{"$f":"IF(CEM_COM_CPMS_Identification!C363=\"\",\"\",CEM_COM_CPMS_Identification!C363)","v":""},"",{"$f":"IF(COUNTIF(B$2:B341,B341)=1,B341,\"\")","v":""},null,null,null,null,null,null,null,null,null,null,null,null,null,null,{"$f":"+IF(W341=\"\",\"\",MAX(S$1:S340)+1)","v":""},{"$f":"IF(Limits_Details!$B363=\"\",\"\",Limits_Details!$B363)","v":""},{"$f":"IF(Limits_Details!$C363=\"\",\"\",Limits_Details!$C363)","v":""},"",{"$f":"IF(COUNTIF(V$2:V341,V341)=1,V341,\"\")","v":""},"","",null,null,null,{"$f":"+IF(AH341=\"\",\"\",MAX(AC$1:AC340)+1)","v":""},{"$f":"IF(Limits_Details!$B363=\"\",\"\",Limits_Details!$B363)","v":""},{"$f":"IF(Limits_Details!$C363=\"\",\"\",Limits_Details!$C363)","v":""},{"$f":"IF(Limits_Details!$D363=\"\",\"\",Limits_Details!$D363)","v":""},"",{"$f":"IF(COUNTIF(AG$2:AG341,AG341)=1,AG341,\"\")","v":""},"","","",null,{"$f":"+IF(AR341=\"\",\"\",MAX(AM$1:AM340)+1)","v":""},{"$f":"IF(CEM_COM_CPMS_Detail!$B363=\"\",\"\",CEM_COM_CPMS_Detail!$B363)","v":""},{"$f":"IF(CEM_COM_CPMS_Detail!$C363=\"\",\"\",CEM_COM_CPMS_Detail!$C363)","v":""},{"$f":"IF(CEM_COM_CPMS_Detail!$D363=\"\",\"\",CEM_COM_CPMS_Detail!$D363)","v":""},"",{"$f":"IF(COUNTIF(AQ$2:AQ341,AQ341)=1,AQ341,\"\")","v":""},"","",""]
[{"$f":"+IF(D342=\"\",\"\",MAX(A$1:A341)+1)","v":""},{"$f":"IF(CEM_COM_CPMS_Identification!C364=\"\",\"\",CEM_COM_CPMS_Identification!C364)","v":""},"",{"$f":"IF(COUNTIF(B$2:B342,B342)=1,B342,\"\")","v":""},null,null,null,null,null,null,null,null,null,null,null,null,null,null,{"$f":"+IF(W342=\"\",\"\",MAX(S$1:S341)+1)","v":""},{"$f":"IF(Limits_Details!$B364=\"\",\"\",Limits_Details!$B364)","v":""},{"$f":"IF(Limits_Details!$C364=\"\",\"\",Limits_Details!$C364)","v":""},"",{"$f":"IF(COUNTIF(V$2:V342,V342)=1,V342,\"\")","v":""},"","",null,null,null,{"$f":"+IF(AH342=\"\",\"\",MAX(AC$1:AC341)+1)","v":""},{"$f":"IF(Limits_Details!$B364=\"\",\"\",Limits_Details!$B364)","v":""},{"$f":"IF(Limits_Details!$C364=\"\",\"\",Limits_Details!$C364)","v":""},{"$f":"IF(Limits_Details!$D364=\"\",\"\",Limits_Details!$D364)","v":""},"",{"$f":"IF(COUNTIF(AG$2:AG342,AG342)=1,AG342,\"\")","v":""},"","","",null,{"$f":"+IF(AR342=\"\",\"\",MAX(AM$1:AM341)+1)","v":""},{"$f":"IF(CEM_COM_CPMS_Detail!$B364=\"\",\"\",CEM_COM_CPMS_Detail!$B364)","v":""},{"$f":"IF(CEM_COM_CPMS_Detail!$C364=\"\",\"\",CEM_COM_CPMS_Detail!$C364)","v":""},{"$f":"IF(CEM_COM_CPMS_Detail!$D364=\"\",\"\",CEM_COM_CPMS_Detail!$D364)","v":""},"",{"$f":"IF(COUNTIF(AQ$2:AQ342,AQ342)=1,AQ342,\"\")","v":""},"","",""]
[{"$f":"+IF(D343=\"\",\"\",MAX(A$1:A342)+1)","v":""},{"$f":"IF(CEM_COM_CPMS_Identification!C365=\"\",\"\",CEM_COM_CPMS_Identification!C365)","v":""},"",{"$f":"IF(COUNTIF(B$2:B343,B343)=1,B343,\"\")","v":""},null,null,null,null,null,null,null,null,null,null,null,null,null,null,{"$f":"+IF(W343=\"\",\"\",MAX(S$1:S342)+1)","v":""},{"$f":"IF(Limits_Details!$B365=\"\",\"\",Limits_Details!$B365)","v":""},{"$f":"IF(Limits_Details!$C365=\"\",\"\",Limits_Details!$C365)","v":""},"",{"$f":"IF(COUNTIF(V$2:V343,V343)=1,V343,\"\")","v":""},"","",null,null,null,{"$f":"+IF(AH343=\"\",\"\",MAX(AC$1:AC342)+1)","v":""},{"$f":"IF(Limits_Details!$B365=\"\",\"\",Limits_Details!$B365)","v":""},{"$f":"IF(Limits_Details!$C365=\"\",\"\",Limits_Details!$C365)","v":""},{"$f":"IF(Limits_Details!$D365=\"\",\"\",Limits_Details!$D365)","v":""},"",{"$f":"IF(COUNTIF(AG$2:AG343,AG343)=1,AG343,\"\")","v":""},"","","",null,{"$f":"+IF(AR343=\"\",\"\",MAX(AM$1:AM342)+1)","v":""},{"$f":"IF(CEM_COM_CPMS_Detail!$B365=\"\",\"\",CEM_COM_CPMS_Detail!$B365)","v":""},{"$f":"IF(CEM_COM_CPMS_Detail!$C365=\"\",\"\",CEM_COM_CPMS_Detail!$C365)","v":""},{"$f":"IF(CEM_COM_CPMS_Detail!$D365=\"\",\"\",CEM_COM_CPMS_Detail!$D365)","v":""},"",{"$f":"IF(COUNTIF(AQ$2:AQ343,AQ343)=1,AQ343,\"\")","v":""},"","",""]
[{"$f":"+IF(D344=\"\",\"\",MAX(A$1:A343)+1)","v":""},{"$f":"IF(CEM_COM_CPMS_Identification!C366=\"\",\"\",CEM_COM_CPMS_Identification!C366)","v":""},"",{"$f":"IF(COUNTIF(B$2:B344,B344)=1,B344,\"\")","v":""},null,null,null,null,null,null,null,null,null,null,null,null,null,null,{"$f":"+IF(W344=\"\",\"\",MAX(S$1:S343)+1)","v":""},{"$f":"IF(Limits_Details!$B366=\"\",\"\",Limits_Details!$B366)","v":""},{"$f":"IF(Limits_Details!$C366=\"\",\"\",Limits_Details!$C366)","v":""},"",{"$f":"IF(COUNTIF(V$2:V344,V344)=1,V344,\"\")","v":""},"","",null,null,null,{"$f":"+IF(AH344=\"\",\"\",MAX(AC$1:AC343)+1)","v":""},{"$f":"IF(Limits_Details!$B366=\"\",\"\",Limits_Details!$B366)","v":""},{"$f":"IF(Limits_Details!$C366=\"\",\"\",Limits_Details!$C366)","v":""},{"$f":"IF(Limits_Details!$D366=\"\",\"\",Limits_Details!$D366)","v":""},"",{"$f":"IF(COUNTIF(AG$2:AG344,AG344)=1,AG344,\"\")","v":""},"","","",null,{"$f":"+IF(AR344=\"\",\"\",MAX(AM$1:AM343)+1)","v":""},{"$f":"IF(CEM_COM_CPMS_Detail!$B366=\"\",\"\",CEM_COM_CPMS_Detail!$B366)","v":""},{"$f":"IF(CEM_COM_CPMS_Detail!$C366=\"\",\"\",CEM_COM_CPMS_Detail!$C366)","v":""},{"$f":"IF(CEM_COM_CPMS_Detail!$D366=\"\",\"\",CEM_COM_CPMS_Detail!$D366)","v":""},"",{"$f":"IF(COUNTIF(AQ$2:AQ344,AQ344)=1,AQ344,\"\")","v":""},"","",""]
[{"$f":"+IF(D345=\"\",\"\",MAX(A$1:A344)+1)","v":""},{"$f":"IF(CEM_COM_CPMS_Identification!C367=\"\",\"\",CEM_COM_CPMS_Identification!C367)","v":""},"",{"$f":"IF(COUNTIF(B$2:B345,B345)=1,B345,\"\")","v":""},null,null,null,null,null,null,null,null,null,null,null,null,null,null,{"$f":"+IF(W345=\"\",\"\",MAX(S$1:S344)+1)","v":""},{"$f":"IF(Limits_Details!$B367=\"\",\"\",Limits_Details!$B367)","v":""},{"$f":"IF(Limits_Details!$C367=\"\",\"\",Limits_Details!$C367)","v":""},"",{"$f":"IF(COUNTIF(V$2:V345,V345)=1,V345,\"\")","v":""},"","",null,null,null,{"$f":"+IF(AH345=\"\",\"\",MAX(AC$1:AC344)+1)","v":""},{"$f":"IF(Limits_Details!$B367=\"\",\"\",Limits_Details!$B367)","v":""},{"$f":"IF(Limits_Details!$C367=\"\",\"\",Limits_Details!$C367)","v":""},{"$f":"IF(Limits_Details!$D367=\"\",\"\",Limits_Details!$D367)","v":""},"",{"$f":"IF(COUNTIF(AG$2:AG345,AG345)=1,AG345,\"\")","v":""},"","","",null,{"$f":"+IF(AR345=\"\",\"\",MAX(AM$1:AM344)+1)","v":""},{"$f":"IF(CEM_COM_CPMS_Detail!$B367=\"\",\"\",CEM_COM_CPMS_Detail!$B367)","v":""},{"$f":"IF(CEM_COM_CPMS_Detail!$C367=\"\",\"\",CEM_COM_CPMS_Detail!$C367)","v":""},{"$f":"IF(CEM_COM_CPMS_Detail!$D367=\"\",\"\",CEM_COM_CPMS_Detail!$D367)","v":""},"",{"$f":"IF(COUNTIF(AQ$2:AQ345,AQ345)=1,AQ345,\"\")","v":""},"","",""]
[{"$f":"+IF(D346=\"\",\"\",MAX(A$1:A345)+1)","v":""},{"$f":"IF(CEM_COM_CPMS_Identification!C368=\"\",\"\",CEM_COM_CPMS_Identification!C368)","v":""},"",{"$f":"IF(COUNTIF(B$2:B346,B346)=1,B346,\"\")","v":""},null,null,null,null,null,null,null,null,null,null,null,null,null,null,{"$f":"+IF(W346=\"\",\"\",MAX(S$1:S345)+1)","v":""},{"$f":"IF(Limits_Details!$B368=\"\",\"\",Limits_Details!$B368)","v":""},{"$f":"IF(Limits_Details!$C368=\"\",\"\",Limits_Details!$C368)","v":""},"",{"$f":"IF(COUNTIF(V$2:V346,V346)=1,V346,\"\")","v":""},"","",null,null,null,{"$f":"+IF(AH346=\"\",\"\",MAX(AC$1:AC345)+1)","v":""},{"$f":"IF(Limits_Details!$B368=\"\",\"\",Limits_Details!$B368)","v":""},{"$f":"IF(Limits_Details!$C368=\"\",\"\",Limits_Details!$C368)","v":""},{"$f":"IF(Limits_Details!$D368=\"\",\"\",Limits_Details!$D368)","v":""},"",{"$f":"IF(COUNTIF(AG$2:AG346,AG346)=1,AG346,\"\")","v":""},"","","",null,{"$f":"+IF(AR346=\"\",\"\",MAX(AM$1:AM345)+1)","v":""},{"$f":"IF(CEM_COM_CPMS_Detail!$B368=\"\",\"\",CEM_COM_CPMS_Detail!$B368)","v":""},{"$f":"IF(CEM_COM_CPMS_Detail!$C368=\"\",\"\",CEM_COM_CPMS_Detail!$C368)","v":""},{"$f":"IF(CEM_COM_CPMS_Detail!$D368=\"\",\"\",CEM_COM_CPMS_Detail!$D368)","v":""},"",{"$f":"IF(COUNTIF(AQ$2:AQ346,AQ346)=1,AQ346,\"\")","v":""},"","",""]
[{"$f":"+IF(D347=\"\",\"\",MAX(A$1:A346)+1)","v":""},{"$f":"IF(CEM_COM_CPMS_Identification!C369=\"\",\"\",CEM_COM_CPMS_Identification!C369)","v":""},"",{"$f":"IF(COUNTIF(B$2:B347,B347)=1,B347,\"\")","v":""},null,null,null,null,null,null,null,null,null,null,null,null,null,null,{"$f":"+IF(W347=\"\",\"\",MAX(S$1:S346)+1)","v":""},{"$f":"IF(Limits_Details!$B369=\"\",\"\",Limits_Details!$B369)","v":""},{"$f":"IF(Limits_Details!$C369=\"\",\"\",Limits_Details!$C369)","v":""},"",{"$f":"IF(COUNTIF(V$2:V347,V347)=1,V347,\"\")","v":""},"","",null,null,null,{"$f":"+IF(AH347=\"\",\"\",MAX(AC$1:AC346)+1)","v":""},{"$f":"IF(Limits_Details!$B369=\"\",\"\",Limits_Details!$B369)","v":""},{"$f":"IF(Limits_Details!$C369=\"\",\"\",Limits_Details!$C369)","v":""},{"$f":"IF(Limits_Details!$D369=\"\",\"\",Limits_Details!$D369)","v":""},"",{"$f":"IF(COUNTIF(AG$2:AG347,AG347)=1,AG347,\"\")","v":""},"","","",null,{"$f":"+IF(AR347=\"\",\"\",MAX(AM$1:AM346)+1)","v":""},{"$f":"IF(CEM_COM_CPMS_Detail!$B369=\"\",\"\",CEM_COM_CPMS_Detail!$B369)","v":""},{"$f":"IF(CEM_COM_CPMS_Detail!$C369=\"\",\"\",CEM_COM_CPMS_Detail!$C369)","v":""},{"$f":"IF(CEM_COM_CPMS_Detail!$D369=\"\",\"\",CEM_COM_CPMS_Detail!$D369)","v":""},"",{"$f":"IF(COUNTIF(AQ$2:AQ347,AQ347)=1,AQ347,\"\")","v":""},"","",""]
[{"$f":"+IF(D348=\"\",\"\",MAX(A$1:A347)+1)","v":""},{"$f":"IF(CEM_COM_CPMS_Identification!C370=\"\",\"\",CEM_COM_CPMS_Identification!C370)","v":""},"",{"$f":"IF(COUNTIF(B$2:B348,B348)=1,B348,\"\")","v":""},null,null,null,null,null,null,null,null,null,null,null,null,null,null,{"$f":"+IF(W348=\"\",\"\",MAX(S$1:S347)+1)","v":""},{"$f":"IF(Limits_Details!$B370=\"\",\"\",Limits_Details!$B370)","v":""},{"$f":"IF(Limits_Details!$C370=\"\",\"\",Limits_Details!$C370)","v":""},"",{"$f":"IF(COUNTIF(V$2:V348,V348)=1,V348,\"\")","v":""},"","",null,null,null,{"$f":"+IF(AH348=\"\",\"\",MAX(AC$1:AC347)+1)","v":""},{"$f":"IF(Limits_Details!$B370=\"\",\"\",Limits_Details!$B370)","v":""},{"$f":"IF(Limits_Details!$C370=\"\",\"\",Limits_Details!$C370)","v":""},{"$f":"IF(Limits_Details!$D370=\"\",\"\",Limits_Details!$D370)","v":""},"",{"$f":"IF(COUNTIF(AG$2:AG348,AG348)=1,AG348,\"\")","v":""},"","","",null,{"$f":"+IF(AR348=\"\",\"\",MAX(AM$1:AM347)+1)","v":""},{"$f":"IF(CEM_COM_CPMS_Detail!$B370=\"\",\"\",CEM_COM_CPMS_Detail!$B370)","v":""},{"$f":"IF(CEM_COM_CPMS_Detail!$C370=\"\",\"\",CEM_COM_CPMS_Detail!$C370)","v":""},{"$f":"IF(CEM_COM_CPMS_Detail!$D370=\"\",\"\",CEM_COM_CPMS_Detail!$D370)","v":""},"",{"$f":"IF(COUNTIF(AQ$2:AQ348,AQ348)=1,AQ348,\"\")","v":""},"","",""]
[{"$f":"+IF(D349=\"\",\"\",MAX(A$1:A348)+1)","v":""},{"$f":"IF(CEM_COM_CPMS_Identification!C371=\"\",\"\",CEM_COM_CPMS_Identification!C371)","v":""},"",{"$f":"IF(COUNTIF(B$2:B349,B349)=1,B349,\"\")","v":""},null,null,null,null,null,null,null,null,null,null,null,null,null,null,{"$f":"+IF(W349=\"\",\"\",MAX(S$1:S348)+1)","v":""},{"$f":"IF(Limits_Details!$B371=\"\",\"\",Limits_Details!$B371)","v":""},{"$f":"IF(Limits_Details!$C371=\"\",\"\",Limits_Details!$C371)","v":""},"",{"$f":"IF(COUNTIF(V$2:V349,V349)=1,V349,\"\")","v":""},"","",null,null,null,{"$f":"+IF(AH349=\"\",\"\",MAX(AC$1:AC348)+1)","v":""},{"$f":"IF(Limits_Details!$B371=\"\",\"\",Limits_Details!$B371)","v":""},{"$f":"IF(Limits_Details!$C371=\"\",\"\",Limits_Details!$C371)","v":""},{"$f":"IF(Limits_Details!$D371=\"\",\"\",Limits_Details!$D371)","v":""},"",{"$f":"IF(COUNTIF(AG$2:AG349,AG349)=1,AG349,\"\")","v":""},"","","",null,{"$f":"+IF(AR349=\"\",\"\",MAX(AM$1:AM348)+1)","v":""},{"$f":"IF(CEM_COM_CPMS_Detail!$B371=\"\",\"\",CEM_COM_CPMS_Detail!$B371)","v":""},{"$f":"IF(CEM_COM_CPMS_Detail!$C371=\"\",\"\",CEM_COM_CPMS_Detail!$C371)","v":""},{"$f":"IF(CEM_COM_CPMS_Detail!$D371=\"\",\"\",CEM_COM_CPMS_Detail!$D371)","v":""},"",{"$f":"IF(COUNTIF(AQ$2:AQ349,AQ349)=1,AQ349,\"\")","v":""},"","",""]
[{"$f":"+IF(D350=\"\",\"\",MAX(A$1:A349)+1)","v":""},{"$f":"IF(CEM_COM_CPMS_Identification!C372=\"\",\"\",CEM_COM_CPMS_Identification!C372)","v":""},"",{"$f":"IF(COUNTIF(B$2:B350,B350)=1,B350,\"\")","v":""},null,null,null,null,null,null,null,null,null,null,null,null,null,null,{"$f":"+IF(W350=\"\",\"\",MAX(S$1:S349)+1)","v":""},{"$f":"IF(Limits_Details!$B372=\"\",\"\",Limits_Details!$B372)","v":""},{"$f":"IF(Limits_Details!$C372=\"\",\"\",Limits_Details!$C372)","v":""},"",{"$f":"IF(COUNTIF(V$2:V350,V350)=1,V350,\"\")","v":""},"","",null,null,null,{"$f":"+IF(AH350=\"\",\"\",MAX(AC$1:AC349)+1)","v":""},{"$f":"IF(Limits_Details!$B372=\"\",\"\",Limits_Details!$B372)","v":""},{"$f":"IF(Limits_Details!$C372=\"\",\"\",Limits_Details!$C372)","v":""},{"$f":"IF(Limits_Details!$D372=\"\",\"\",Limits_Details!$D372)","v":""},"",{"$f":"IF(COUNTIF(AG$2:AG350,AG350)=1,AG350,\"\")","v":""},"","","",null,{"$f":"+IF(AR350=\"\",\"\",MAX(AM$1:AM349)+1)","v":""},{"$f":"IF(CEM_COM_CPMS_Detail!$B372=\"\",\"\",CEM_COM_CPMS_Detail!$B372)","v":""},{"$f":"IF(CEM_COM_CPMS_Detail!$C372=\"\",\"\",CEM_COM_CPMS_Detail!$C372)","v":""},{"$f":"IF(CEM_COM_CPMS_Detail!$D372=\"\",\"\",CEM_COM_CPMS_Detail!$D372)","v":""},"",{"$f":"IF(COUNTIF(AQ$2:AQ350,AQ350)=1,AQ350,\"\")","v":""},"","",""]
[{"$f":"+IF(D351=\"\",\"\",MAX(A$1:A350)+1)","v":""},{"$f":"IF(CEM_COM_CPMS_Identification!C373=\"\",\"\",CEM_COM_CPMS_Identification!C373)","v":""},"",{"$f":"IF(COUNTIF(B$2:B351,B351)=1,B351,\"\")","v":""},null,null,null,null,null,null,null,null,null,null,null,null,null,null,{"$f":"+IF(W351=\"\",\"\",MAX(S$1:S350)+1)","v":""},{"$f":"IF(Limits_Details!$B373=\"\",\"\",Limits_Details!$B373)","v":""},{"$f":"IF(Limits_Details!$C373=\"\",\"\",Limits_Details!$C373)","v":""},"",{"$f":"IF(COUNTIF(V$2:V351,V351)=1,V351,\"\")","v":""},"","",null,null,null,{"$f":"+IF(AH351=\"\",\"\",MAX(AC$1:AC350)+1)","v":""},{"$f":"IF(Limits_Details!$B373=\"\",\"\",Limits_Details!$B373)","v":""},{"$f":"IF(Limits_Details!$C373=\"\",\"\",Limits_Details!$C373)","v":""},{"$f":"IF(Limits_Details!$D373=\"\",\"\",Limits_Details!$D373)","v":""},"",{"$f":"IF(COUNTIF(AG$2:AG351,AG351)=1,AG351,\"\")","v":""},"","","",null,{"$f":"+IF(AR351=\"\",\"\",MAX(AM$1:AM350)+1)","v":""},{"$f":"IF(CEM_COM_CPMS_Detail!$B373=\"\",\"\",CEM_COM_CPMS_Detail!$B373)","v":""},{"$f":"IF(CEM_COM_CPMS_Detail!$C373=\"\",\"\",CEM_COM_CPMS_Detail!$C373)","v":""},{"$f":"IF(CEM_COM_CPMS_Detail!$D373=\"\",\"\",CEM_COM_CPMS_Detail!$D373)","v":""},"",{"$f":"IF(COUNTIF(AQ$2:AQ351,AQ351)=1,AQ351,\"\")","v":""},"","",""]
[{"$f":"+IF(D352=\"\",\"\",MAX(A$1:A351)+1)","v":""},{"$f":"IF(CEM_COM_CPMS_Identification!C374=\"\",\"\",CEM_COM_CPMS_Identification!C374)","v":""},"",{"$f":"IF(COUNTIF(B$2:B352,B352)=1,B352,\"\")","v":""},null,null,null,null,null,null,null,null,null,null,null,null,null,null,{"$f":"+IF(W352=\"\",\"\",MAX(S$1:S351)+1)","v":""},{"$f":"IF(Limits_Details!$B374=\"\",\"\",Limits_Details!$B374)","v":""},{"$f":"IF(Limits_Details!$C374=\"\",\"\",Limits_Details!$C374)","v":""},"",{"$f":"IF(COUNTIF(V$2:V352,V352)=1,V352,\"\")","v":""},"","",null,null,null,{"$f":"+IF(AH352=\"\",\"\",MAX(AC$1:AC351)+1)","v":""},{"$f":"IF(Limits_Details!$B374=\"\",\"\",Limits_Details!$B374)","v":""},{"$f":"IF(Limits_Details!$C374=\"\",\"\",Limits_Details!$C374)","v":""},{"$f":"IF(Limits_Details!$D374=\"\",\"\",Limits_Details!$D374)","v":""},"",{"$f":"IF(COUNTIF(AG$2:AG352,AG352)=1,AG352,\"\")","v":""},"","","",null,{"$f":"+IF(AR352=\"\",\"\",MAX(AM$1:AM351)+1)","v":""},{"$f":"IF(CEM_COM_CPMS_Detail!$B374=\"\",\"\",CEM_COM_CPMS_Detail!$B374)","v":""},{"$f":"IF(CEM_COM_CPMS_Detail!$C374=\"\",\"\",CEM_COM_CPMS_Detail!$C374)","v":""},{"$f":"IF(CEM_COM_CPMS_Detail!$D374=\"\",\"\",CEM_COM_CPMS_Detail!$D374)","v":""},"",{"$f":"IF(COUNTIF(AQ$2:AQ352,AQ352)=1,AQ352,\"\")","v":""},"","",""]
[{"$f":"+IF(D353=\"\",\"\",MAX(A$1:A352)+1)","v":""},{"$f":"IF(CEM_COM_CPMS_Identification!C375=\"\",\"\",CEM_COM_CPMS_Identification!C375)","v":""},"",{"$f":"IF(COUNTIF(B$2:B353,B353)=1,B353,\"\")","v":""},null,null,null,null,null,null,null,null,null,null,null,null,null,null,{"$f":"+IF(W353=\"\",\"\",MAX(S$1:S352)+1)","v":""},{"$f":"IF(Limits_Details!$B375=\"\",\"\",Limits_Details!$B375)","v":""},{"$f":"IF(Limits_Details!$C375=\"\",\"\",Limits_Details!$C375)","v":""},"",{"$f":"IF(COUNTIF(V$2:V353,V353)=1,V353,\"\")","v":""},"","",null,null,null,{"$f":"+IF(AH353=\"\",\"\",MAX(AC$1:AC352)+1)","v":""},{"$f":"IF(Limits_Details!$B375=\"\",\"\",Limits_Details!$B375)","v":""},{"$f":"IF(Limits_Details!$C375=\"\",\"\",Limits_Details!$C375)","v":""},{"$f":"IF(Limits_Details!$D375=\"\",\"\",Limits_Details!$D375)","v":""},"",{"$f":"IF(COUNTIF(AG$2:AG353,AG353)=1,AG353,\"\")","v":""},"","","",null,{"$f":"+IF(AR353=\"\",\"\",MAX(AM$1:AM352)+1)","v":""},{"$f":"IF(CEM_COM_CPMS_Detail!$B375=\"\",\"\",CEM_COM_CPMS_Detail!$B375)","v":""},{"$f":"IF(CEM_COM_CPMS_Detail!$C375=\"\",\"\",CEM_COM_CPMS_Detail!$C375)","v":""},{"$f":"IF(CEM_COM_CPMS_Detail!$D375=\"\",\"\",CEM_COM_CPMS_Detail!$D375)","v":""},"",{"$f":"IF(COUNTIF(AQ$2:AQ353,AQ353)=1,AQ353,\"\")","v":""},"","",""]
[{"$f":"+IF(D354=\"\",\"\",MAX(A$1:A353)+1)","v":""},{"$f":"IF(CEM_COM_CPMS_Identification!C376=\"\",\"\",CEM_COM_CPMS_Identification!C376)","v":""},"",{"$f":"IF(COUNTIF(B$2:B354,B354)=1,B354,\"\")","v":""},null,null,null,null,null,null,null,null,null,null,null,null,null,null,{"$f":"+IF(W354=\"\",\"\",MAX(S$1:S353)+1)","v":""},{"$f":"IF(Limits_Details!$B376=\"\",\"\",Limits_Details!$B376)","v":""},{"$f":"IF(Limits_Details!$C376=\"\",\"\",Limits_Details!$C376)","v":""},"",{"$f":"IF(COUNTIF(V$2:V354,V354)=1,V354,\"\")","v":""},"","",null,null,null,{"$f":"+IF(AH354=\"\",\"\",MAX(AC$1:AC353)+1)","v":""},{"$f":"IF(Limits_Details!$B376=\"\",\"\",Limits_Details!$B376)","v":""},{"$f":"IF(Limits_Details!$C376=\"\",\"\",Limits_Details!$C376)","v":""},{"$f":"IF(Limits_Details!$D376=\"\",\"\",Limits_Details!$D376)","v":""},"",{"$f":"IF(COUNTIF(AG$2:AG354,AG354)=1,AG354,\"\")","v":""},"","","",null,{"$f":"+IF(AR354=\"\",\"\",MAX(AM$1:AM353)+1)","v":""},{"$f":"IF(CEM_COM_CPMS_Detail!$B376=\"\",\"\",CEM_COM_CPMS_Detail!$B376)","v":""},{"$f":"IF(CEM_COM_CPMS_Detail!$C376=\"\",\"\",CEM_COM_CPMS_Detail!$C376)","v":""},{"$f":"IF(CEM_COM_CPMS_Detail!$D376=\"\",\"\",CEM_COM_CPMS_Detail!$D376)","v":""},"",{"$f":"IF(COUNTIF(AQ$2:AQ354,AQ354)=1,AQ354,\"\")","v":""},"","",""]
[{"$f":"+IF(D355=\"\",\"\",MAX(A$1:A354)+1)","v":""},{"$f":"IF(CEM_COM_CPMS_Identification!C377=\"\",\"\",CEM_COM_CPMS_Identification!C377)","v":""},"",{"$f":"IF(COUNTIF(B$2:B355,B355)=1,B355,\"\")","v":""},null,null,null,null,null,null,null,null,null,null,null,null,null,null,{"$f":"+IF(W355=\"\",\"\",MAX(S$1:S354)+1)","v":""},{"$f":"IF(Limits_Details!$B377=\"\",\"\",Limits_Details!$B377)","v":""},{"$f":"IF(Limits_Details!$C377=\"\",\"\",Limits_Details!$C377)","v":""},"",{"$f":"IF(COUNTIF(V$2:V355,V355)=1,V355,\"\")","v":""},"","",null,null,null,{"$f":"+IF(AH355=\"\",\"\",MAX(AC$1:AC354)+1)","v":""},{"$f":"IF(Limits_Details!$B377=\"\",\"\",Limits_Details!$B377)","v":""},{"$f":"IF(Limits_Details!$C377=\"\",\"\",Limits_Details!$C377)","v":""},{"$f":"IF(Limits_Details!$D377=\"\",\"\",Limits_Details!$D377)","v":""},"",{"$f":"IF(COUNTIF(AG$2:AG355,AG355)=1,AG355,\"\")","v":""},"","","",null,{"$f":"+IF(AR355=\"\",\"\",MAX(AM$1:AM354)+1)","v":""},{"$f":"IF(CEM_COM_CPMS_Detail!$B377=\"\",\"\",CEM_COM_CPMS_Detail!$B377)","v":""},{"$f":"IF(CEM_COM_CPMS_Detail!$C377=\"\",\"\",CEM_COM_CPMS_Detail!$C377)","v":""},{"$f":"IF(CEM_COM_CPMS_Detail!$D377=\"\",\"\",CEM_COM_CPMS_Detail!$D377)","v":""},"",{"$f":"IF(COUNTIF(AQ$2:AQ355,AQ355)=1,AQ355,\"\")","v":""},"","",""]
[{"$f":"+IF(D356=\"\",\"\",MAX(A$1:A355)+1)","v":""},{"$f":"IF(CEM_COM_CPMS_Identification!C378=\"\",\"\",CEM_COM_CPMS_Identification!C378)","v":""},"",{"$f":"IF(COUNTIF(B$2:B356,B356)=1,B356,\"\")","v":""},null,null,null,null,null,null,null,null,null,null,null,null,null,null,{"$f":"+IF(W356=\"\",\"\",MAX(S$1:S355)+1)","v":""},{"$f":"IF(Limits_Details!$B378=\"\",\"\",Limits_Details!$B378)","v":""},{"$f":"IF(Limits_Details!$C378=\"\",\"\",Limits_Details!$C378)","v":""},"",{"$f":"IF(COUNTIF(V$2:V356,V356)=1,V356,\"\")","v":""},"","",null,null,null,{"$f":"+IF(AH356=\"\",\"\",MAX(AC$1:AC355)+1)","v":""},{"$f":"IF(Limits_Details!$B378=\"\",\"\",Limits_Details!$B378)","v":""},{"$f":"IF(Limits_Details!$C378=\"\",\"\",Limits_Details!$C378)","v":""},{"$f":"IF(Limits_Details!$D378=\"\",\"\",Limits_Details!$D378)","v":""},"",{"$f":"IF(COUNTIF(AG$2:AG356,AG356)=1,AG356,\"\")","v":""},"","","",null,{"$f":"+IF(AR356=\"\",\"\",MAX(AM$1:AM355)+1)","v":""},{"$f":"IF(CEM_COM_CPMS_Detail!$B378=\"\",\"\",CEM_COM_CPMS_Detail!$B378)","v":""},{"$f":"IF(CEM_COM_CPMS_Detail!$C378=\"\",\"\",CEM_COM_CPMS_Detail!$C378)","v":""},{"$f":"IF(CEM_COM_CPMS_Detail!$D378=\"\",\"\",CEM_COM_CPMS_Detail!$D378)","v":""},"",{"$f":"IF(COUNTIF(AQ$2:AQ356,AQ356)=1,AQ356,\"\")","v":""},"","",""]
[{"$f":"+IF(D357=\"\",\"\",MAX(A$1:A356)+1)","v":""},{"$f":"IF(CEM_COM_CPMS_Identification!C379=\"\",\"\",CEM_COM_CPMS_Identification!C379)","v":""},"",{"$f":"IF(COUNTIF(B$2:B357,B357)=1,B357,\"\")","v":""},null,null,null,null,null,null,null,null,null,null,null,null,null,null,{"$f":"+IF(W357=\"\",\"\",MAX(S$1:S356)+1)","v":""},{"$f":"IF(Limits_Details!$B379=\"\",\"\",Limits_Details!$B379)","v":""},{"$f":"IF(Limits_Details!$C379=\"\",\"\",Limits_Details!$C379)","v":""},"",{"$f":"IF(COUNTIF(V$2:V357,V357)=1,V357,\"\")","v":""},"","",null,null,null,{"$f":"+IF(AH357=\"\",\"\",MAX(AC$1:AC356)+1)","v":""},{"$f":"IF(Limits_Details!$B379=\"\",\"\",Limits_Details!$B379)","v":""},{"$f":"IF(Limits_Details!$C379=\"\",\"\",Limits_Details!$C379)","v":""},{"$f":"IF(Limits_Details!$D379=\"\",\"\",Limits_Details!$D379)","v":""},"",{"$f":"IF(COUNTIF(AG$2:AG357,AG357)=1,AG357,\"\")","v":""},"","","",null,{"$f":"+IF(AR357=\"\",\"\",MAX(AM$1:AM356)+1)","v":""},{"$f":"IF(CEM_COM_CPMS_Detail!$B379=\"\",\"\",CEM_COM_CPMS_Detail!$B379)","v":""},{"$f":"IF(CEM_COM_CPMS_Detail!$C379=\"\",\"\",CEM_COM_CPMS_Detail!$C379)","v":""},{"$f":"IF(CEM_COM_CPMS_Detail!$D379=\"\",\"\",CEM_COM_CPMS_Detail!$D379)","v":""},"",{"$f":"IF(COUNTIF(AQ$2:AQ357,AQ357)=1,AQ357,\"\")","v":""},"","",""]
[{"$f":"+IF(D358=\"\",\"\",MAX(A$1:A357)+1)","v":""},{"$f":"IF(CEM_COM_CPMS_Identification!C380=\"\",\"\",CEM_COM_CPMS_Identification!C380)","v":""},"",{"$f":"IF(COUNTIF(B$2:B358,B358)=1,B358,\"\")","v":""},null,null,null,null,null,null,null,null,null,null,null,null,null,null,{"$f":"+IF(W358=\"\",\"\",MAX(S$1:S357)+1)","v":""},{"$f":"IF(Limits_Details!$B380=\"\",\"\",Limits_Details!$B380)","v":""},{"$f":"IF(Limits_Details!$C380=\"\",\"\",Limits_Details!$C380)","v":""},"",{"$f":"IF(COUNTIF(V$2:V358,V358)=1,V358,\"\")","v":""},"","",null,null,null,{"$f":"+IF(AH358=\"\",\"\",MAX(AC$1:AC357)+1)","v":""},{"$f":"IF(Limits_Details!$B380=\"\",\"\",Limits_Details!$B380)","v":""},{"$f":"IF(Limits_Details!$C380=\"\",\"\",Limits_Details!$C380)","v":""},{"$f":"IF(Limits_Details!$D380=\"\",\"\",Limits_Details!$D380)","v":""},"",{"$f":"IF(COUNTIF(AG$2:AG358,AG358)=1,AG358,\"\")","v":""},"","","",null,{"$f":"+IF(AR358=\"\",\"\",MAX(AM$1:AM357)+1)","v":""},{"$f":"IF(CEM_COM_CPMS_Detail!$B380=\"\",\"\",CEM_COM_CPMS_Detail!$B380)","v":""},{"$f":"IF(CEM_COM_CPMS_Detail!$C380=\"\",\"\",CEM_COM_CPMS_Detail!$C380)","v":""},{"$f":"IF(CEM_COM_CPMS_Detail!$D380=\"\",\"\",CEM_COM_CPMS_Detail!$D380)","v":""},"",{"$f":"IF(COUNTIF(AQ$2:AQ358,AQ358)=1,AQ358,\"\")","v":""},"","",""]
[{"$f":"+IF(D359=\"\",\"\",MAX(A$1:A358)+1)","v":""},{"$f":"IF(CEM_COM_CPMS_Identification!C381=\"\",\"\",CEM_COM_CPMS_Identification!C381)","v":""},"",{"$f":"IF(COUNTIF(B$2:B359,B359)=1,B359,\"\")","v":""},null,null,null,null,null,null,null,null,null,null,null,null,null,null,{"$f":"+IF(W359=\"\",\"\",MAX(S$1:S358)+1)","v":""},{"$f":"IF(Limits_Details!$B381=\"\",\"\",Limits_Details!$B381)","v":""},{"$f":"IF(Limits_Details!$C381=\"\",\"\",Limits_Details!$C381)","v":""},"",{"$f":"IF(COUNTIF(V$2:V359,V359)=1,V359,\"\")","v":""},"","",null,null,null,{"$f":"+IF(AH359=\"\",\"\",MAX(AC$1:AC358)+1)","v":""},{"$f":"IF(Limits_Details!$B381=\"\",\"\",Limits_Details!$B381)","v":""},{"$f":"IF(Limits_Details!$C381=\"\",\"\",Limits_Details!$C381)","v":""},{"$f":"IF(Limits_Details!$D381=\"\",\"\",Limits_Details!$D381)","v":""},"",{"$f":"IF(COUNTIF(AG$2:AG359,AG359)=1,AG359,\"\")","v":""},"","","",null,{"$f":"+IF(AR359=\"\",\"\",MAX(AM$1:AM358)+1)","v":""},{"$f":"IF(CEM_COM_CPMS_Detail!$B381=\"\",\"\",CEM_COM_CPMS_Detail!$B381)","v":""},{"$f":"IF(CEM_COM_CPMS_Detail!$C381=\"\",\"\",CEM_COM_CPMS_Detail!$C381)","v":""},{"$f":"IF(CEM_COM_CPMS_Detail!$D381=\"\",\"\",CEM_COM_CPMS_Detail!$D381)","v":""},"",{"$f":"IF(COUNTIF(AQ$2:AQ359,AQ359)=1,AQ359,\"\")","v":""},"","",""]
[{"$f":"+IF(D360=\"\",\"\",MAX(A$1:A359)+1)","v":""},{"$f":"IF(CEM_COM_CPMS_Identification!C382=\"\",\"\",CEM_COM_CPMS_Identification!C382)","v":""},"",{"$f":"IF(COUNTIF(B$2:B360,B360)=1,B360,\"\")","v":""},null,null,null,null,null,null,null,null,null,null,null,null,null,null,{"$f":"+IF(W360=\"\",\"\",MAX(S$1:S359)+1)","v":""},{"$f":"IF(Limits_Details!$B382=\"\",\"\",Limits_Details!$B382)","v":""},{"$f":"IF(Limits_Details!$C382=\"\",\"\",Limits_Details!$C382)","v":""},"",{"$f":"IF(COUNTIF(V$2:V360,V360)=1,V360,\"\")","v":""},"","",null,null,null,{"$f":"+IF(AH360=\"\",\"\",MAX(AC$1:AC359)+1)","v":""},{"$f":"IF(Limits_Details!$B382=\"\",\"\",Limits_Details!$B382)","v":""},{"$f":"IF(Limits_Details!$C382=\"\",\"\",Limits_Details!$C382)","v":""},{"$f":"IF(Limits_Details!$D382=\"\",\"\",Limits_Details!$D382)","v":""},"",{"$f":"IF(COUNTIF(AG$2:AG360,AG360)=1,AG360,\"\")","v":""},"","","",null,{"$f":"+IF(AR360=\"\",\"\",MAX(AM$1:AM359)+1)","v":""},{"$f":"IF(CEM_COM_CPMS_Detail!$B382=\"\",\"\",CEM_COM_CPMS_Detail!$B382)","v":""},{"$f":"IF(CEM_COM_CPMS_Detail!$C382=\"\",\"\",CEM_COM_CPMS_Detail!$C382)","v":""},{"$f":"IF(CEM_COM_CPMS_Detail!$D382=\"\",\"\",CEM_COM_CPMS_Detail!$D382)","v":""},"",{"$f":"IF(COUNTIF(AQ$2:AQ360,AQ360)=1,AQ360,\"\")","v":""},"","",""]
[{"$f":"+IF(D361=\"\",\"\",MAX(A$1:A360)+1)","v":""},{"$f":"IF(CEM_COM_CPMS_Identification!C383=\"\",\"\",CEM_COM_CPMS_Identification!C383)","v":""},"",{"$f":"IF(COUNTIF(B$2:B361,B361)=1,B361,\"\")","v":""},null,null,null,null,null,null,null,null,null,null,null,null,null,null,{"$f":"+IF(W361=\"\",\"\",MAX(S$1:S360)+1)","v":""},{"$f":"IF(Limits_Details!$B383=\"\",\"\",Limits_Details!$B383)","v":""},{"$f":"IF(Limits_Details!$C383=\"\",\"\",Limits_Details!$C383)","v":""},"",{"$f":"IF(COUNTIF(V$2:V361,V361)=1,V361,\"\")","v":""},"","",null,null,null,{"$f":"+IF(AH361=\"\",\"\",MAX(AC$1:AC360)+1)","v":""},{"$f":"IF(Limits_Details!$B383=\"\",\"\",Limits_Details!$B383)","v":""},{"$f":"IF(Limits_Details!$C383=\"\",\"\",Limits_Details!$C383)","v":""},{"$f":"IF(Limits_Details!$D383=\"\",\"\",Limits_Details!$D383)","v":""},"",{"$f":"IF(COUNTIF(AG$2:AG361,AG361)=1,AG361,\"\")","v":""},"","","",null,{"$f":"+IF(AR361=\"\",\"\",MAX(AM$1:AM360)+1)","v":""},{"$f":"IF(CEM_COM_CPMS_Detail!$B383=\"\",\"\",CEM_COM_CPMS_Detail!$B383)","v":""},{"$f":"IF(CEM_COM_CPMS_Detail!$C383=\"\",\"\",CEM_COM_CPMS_Detail!$C383)","v":""},{"$f":"IF(CEM_COM_CPMS_Detail!$D383=\"\",\"\",CEM_COM_CPMS_Detail!$D383)","v":""},"",{"$f":"IF(COUNTIF(AQ$2:AQ361,AQ361)=1,AQ361,\"\")","v":""},"","",""]
[{"$f":"+IF(D362=\"\",\"\",MAX(A$1:A361)+1)","v":""},{"$f":"IF(CEM_COM_CPMS_Identification!C384=\"\",\"\",CEM_COM_CPMS_Identification!C384)","v":""},"",{"$f":"IF(COUNTIF(B$2:B362,B362)=1,B362,\"\")","v":""},null,null,null,null,null,null,null,null,null,null,null,null,null,null,{"$f":"+IF(W362=\"\",\"\",MAX(S$1:S361)+1)","v":""},{"$f":"IF(Limits_Details!$B384=\"\",\"\",Limits_Details!$B384)","v":""},{"$f":"IF(Limits_Details!$C384=\"\",\"\",Limits_Details!$C384)","v":""},"",{"$f":"IF(COUNTIF(V$2:V362,V362)=1,V362,\"\")","v":""},"","",null,null,null,{"$f":"+IF(AH362=\"\",\"\",MAX(AC$1:AC361)+1)","v":""},{"$f":"IF(Limits_Details!$B384=\"\",\"\",Limits_Details!$B384)","v":""},{"$f":"IF(Limits_Details!$C384=\"\",\"\",Limits_Details!$C384)","v":""},{"$f":"IF(Limits_Details!$D384=\"\",\"\",Limits_Details!$D384)","v":""},"",{"$f":"IF(COUNTIF(AG$2:AG362,AG362)=1,AG362,\"\")","v":""},"","","",null,{"$f":"+IF(AR362=\"\",\"\",MAX(AM$1:AM361)+1)","v":""},{"$f":"IF(CEM_COM_CPMS_Detail!$B384=\"\",\"\",CEM_COM_CPMS_Detail!$B384)","v":""},{"$f":"IF(CEM_COM_CPMS_Detail!$C384=\"\",\"\",CEM_COM_CPMS_Detail!$C384)","v":""},{"$f":"IF(CEM_COM_CPMS_Detail!$D384=\"\",\"\",CEM_COM_CPMS_Detail!$D384)","v":""},"",{"$f":"IF(COUNTIF(AQ$2:AQ362,AQ362)=1,AQ362,\"\")","v":""},"","",""]
[{"$f":"+IF(D363=\"\",\"\",MAX(A$1:A362)+1)","v":""},{"$f":"IF(CEM_COM_CPMS_Identification!C385=\"\",\"\",CEM_COM_CPMS_Identification!C385)","v":""},"",{"$f":"IF(COUNTIF(B$2:B363,B363)=1,B363,\"\")","v":""},null,null,null,null,null,null,null,null,null,null,null,null,null,null,{"$f":"+IF(W363=\"\",\"\",MAX(S$1:S362)+1)","v":""},{"$f":"IF(Limits_Details!$B385=\"\",\"\",Limits_Details!$B385)","v":""},{"$f":"IF(Limits_Details!$C385=\"\",\"\",Limits_Details!$C385)","v":""},"",{"$f":"IF(COUNTIF(V$2:V363,V363)=1,V363,\"\")","v":""},"","",null,null,null,{"$f":"+IF(AH363=\"\",\"\",MAX(AC$1:AC362)+1)","v":""},{"$f":"IF(Limits_Details!$B385=\"\",\"\",Limits_Details!$B385)","v":""},{"$f":"IF(Limits_Details!$C385=\"\",\"\",Limits_Details!$C385)","v":""},{"$f":"IF(Limits_Details!$D385=\"\",\"\",Limits_Details!$D385)","v":""},"",{"$f":"IF(COUNTIF(AG$2:AG363,AG363)=1,AG363,\"\")","v":""},"","","",null,{"$f":"+IF(AR363=\"\",\"\",MAX(AM$1:AM362)+1)","v":""},{"$f":"IF(CEM_COM_CPMS_Detail!$B385=\"\",\"\",CEM_COM_CPMS_Detail!$B385)","v":""},{"$f":"IF(CEM_COM_CPMS_Detail!$C385=\"\",\"\",CEM_COM_CPMS_Detail!$C385)","v":""},{"$f":"IF(CEM_COM_CPMS_Detail!$D385=\"\",\"\",CEM_COM_CPMS_Detail!$D385)","v":""},"",{"$f":"IF(COUNTIF(AQ$2:AQ363,AQ363)=1,AQ363,\"\")","v":""},"","",""]
[{"$f":"+IF(D364=\"\",\"\",MAX(A$1:A363)+1)","v":""},{"$f":"IF(CEM_COM_CPMS_Identification!C386=\"\",\"\",CEM_COM_CPMS_Identification!C386)","v":""},"",{"$f":"IF(COUNTIF(B$2:B364,B364)=1,B364,\"\")","v":""},null,null,null,null,null,null,null,null,null,null,null,null,null,null,{"$f":"+IF(W364=\"\",\"\",MAX(S$1:S363)+1)","v":""},{"$f":"IF(Limits_Details!$B386=\"\",\"\",Limits_Details!$B386)","v":""},{"$f":"IF(Limits_Details!$C386=\"\",\"\",Limits_Details!$C386)","v":""},"",{"$f":"IF(COUNTIF(V$2:V364,V364)=1,V364,\"\")","v":""},"","",null,null,null,{"$f":"+IF(AH364=\"\",\"\",MAX(AC$1:AC363)+1)","v":""},{"$f":"IF(Limits_Details!$B386=\"\",\"\",Limits_Details!$B386)","v":""},{"$f":"IF(Limits_Details!$C386=\"\",\"\",Limits_Details!$C386)","v":""},{"$f":"IF(Limits_Details!$D386=\"\",\"\",Limits_Details!$D386)","v":""},"",{"$f":"IF(COUNTIF(AG$2:AG364,AG364)=1,AG364,\"\")","v":""},"","","",null,{"$f":"+IF(AR364=\"\",\"\",MAX(AM$1:AM363)+1)","v":""},{"$f":"IF(CEM_COM_CPMS_Detail!$B386=\"\",\"\",CEM_COM_CPMS_Detail!$B386)","v":""},{"$f":"IF(CEM_COM_CPMS_Detail!$C386=\"\",\"\",CEM_COM_CPMS_Detail!$C386)","v":""},{"$f":"IF(CEM_COM_CPMS_Detail!$D386=\"\",\"\",CEM_COM_CPMS_Detail!$D386)","v":""},"",{"$f":"IF(COUNTIF(AQ$2:AQ364,AQ364)=1,AQ364,\"\")","v":""},"","",""]
[{"$f":"+IF(D365=\"\",\"\",MAX(A$1:A364)+1)","v":""},{"$f":"IF(CEM_COM_CPMS_Identification!C387=\"\",\"\",CEM_COM_CPMS_Identification!C387)","v":""},"",{"$f":"IF(COUNTIF(B$2:B365,B365)=1,B365,\"\")","v":""},null,null,null,null,null,null,null,null,null,null,null,null,null,null,{"$f":"+IF(W365=\"\",\"\",MAX(S$1:S364)+1)","v":""},{"$f":"IF(Limits_Details!$B387=\"\",\"\",Limits_Details!$B387)","v":""},{"$f":"IF(Limits_Details!$C387=\"\",\"\",Limits_Details!$C387)","v":""},"",{"$f":"IF(COUNTIF(V$2:V365,V365)=1,V365,\"\")","v":""},"","",null,null,null,{"$f":"+IF(AH365=\"\",\"\",MAX(AC$1:AC364)+1)","v":""},{"$f":"IF(Limits_Details!$B387=\"\",\"\",Limits_Details!$B387)","v":""},{"$f":"IF(Limits_Details!$C387=\"\",\"\",Limits_Details!$C387)","v":""},{"$f":"IF(Limits_Details!$D387=\"\",\"\",Limits_Details!$D387)","v":""},"",{"$f":"IF(COUNTIF(AG$2:AG365,AG365)=1,AG365,\"\")","v":""},"","","",null,{"$f":"+IF(AR365=\"\",\"\",MAX(AM$1:AM364)+1)","v":""},{"$f":"IF(CEM_COM_CPMS_Detail!$B387=\"\",\"\",CEM_COM_CPMS_Detail!$B387)","v":""},{"$f":"IF(CEM_COM_CPMS_Detail!$C387=\"\",\"\",CEM_COM_CPMS_Detail!$C387)","v":""},{"$f":"IF(CEM_COM_CPMS_Detail!$D387=\"\",\"\",CEM_COM_CPMS_Detail!$D387)","v":""},"",{"$f":"IF(COUNTIF(AQ$2:AQ365,AQ365)=1,AQ365,\"\")","v":""},"","",""]
[{"$f":"+IF(D366=\"\",\"\",MAX(A$1:A365)+1)","v":""},{"$f":"IF(CEM_COM_CPMS_Identification!C388=\"\",\"\",CEM_COM_CPMS_Identification!C388)","v":""},"",{"$f":"IF(COUNTIF(B$2:B366,B366)=1,B366,\"\")","v":""},null,null,null,null,null,null,null,null,null,null,null,null,null,null,{"$f":"+IF(W366=\"\",\"\",MAX(S$1:S365)+1)","v":""},{"$f":"IF(Limits_Details!$B388=\"\",\"\",Limits_Details!$B388)","v":""},{"$f":"IF(Limits_Details!$C388=\"\",\"\",Limits_Details!$C388)","v":""},"",{"$f":"IF(COUNTIF(V$2:V366,V366)=1,V366,\"\")","v":""},"","",null,null,null,{"$f":"+IF(AH366=\"\",\"\",MAX(AC$1:AC365)+1)","v":""},{"$f":"IF(Limits_Details!$B388=\"\",\"\",Limits_Details!$B388)","v":""},{"$f":"IF(Limits_Details!$C388=\"\",\"\",Limits_Details!$C388)","v":""},{"$f":"IF(Limits_Details!$D388=\"\",\"\",Limits_Details!$D388)","v":""},"",{"$f":"IF(COUNTIF(AG$2:AG366,AG366)=1,AG366,\"\")","v":""},"","","",null,{"$f":"+IF(AR366=\"\",\"\",MAX(AM$1:AM365)+1)","v":""},{"$f":"IF(CEM_COM_CPMS_Detail!$B388=\"\",\"\",CEM_COM_CPMS_Detail!$B388)","v":""},{"$f":"IF(CEM_COM_CPMS_Detail!$C388=\"\",\"\",CEM_COM_CPMS_Detail!$C388)","v":""},{"$f":"IF(CEM_COM_CPMS_Detail!$D388=\"\",\"\",CEM_COM_CPMS_Detail!$D388)","v":""},"",{"$f":"IF(COUNTIF(AQ$2:AQ366,AQ366)=1,AQ366,\"\")","v":""},"","",""]
[{"$f":"+IF(D367=\"\",\"\",MAX(A$1:A366)+1)","v":""},{"$f":"IF(CEM_COM_CPMS_Identification!C389=\"\",\"\",CEM_COM_CPMS_Identification!C389)","v":""},"",{"$f":"IF(COUNTIF(B$2:B367,B367)=1,B367,\"\")","v":""},null,null,null,null,null,null,null,null,null,null,null,null,null,null,{"$f":"+IF(W367=\"\",\"\",MAX(S$1:S366)+1)","v":""},{"$f":"IF(Limits_Details!$B389=\"\",\"\",Limits_Details!$B389)","v":""},{"$f":"IF(Limits_Details!$C389=\"\",\"\",Limits_Details!$C389)","v":""},"",{"$f":"IF(COUNTIF(V$2:V367,V367)=1,V367,\"\")","v":""},"","",null,null,null,{"$f":"+IF(AH367=\"\",\"\",MAX(AC$1:AC366)+1)","v":""},{"$f":"IF(Limits_Details!$B389=\"\",\"\",Limits_Details!$B389)","v":""},{"$f":"IF(Limits_Details!$C389=\"\",\"\",Limits_Details!$C389)","v":""},{"$f":"IF(Limits_Details!$D389=\"\",\"\",Limits_Details!$D389)","v":""},"",{"$f":"IF(COUNTIF(AG$2:AG367,AG367)=1,AG367,\"\")","v":""},"","","",null,{"$f":"+IF(AR367=\"\",\"\",MAX(AM$1:AM366)+1)","v":""},{"$f":"IF(CEM_COM_CPMS_Detail!$B389=\"\",\"\",CEM_COM_CPMS_Detail!$B389)","v":""},{"$f":"IF(CEM_COM_CPMS_Detail!$C389=\"\",\"\",CEM_COM_CPMS_Detail!$C389)","v":""},{"$f":"IF(CEM_COM_CPMS_Detail!$D389=\"\",\"\",CEM_COM_CPMS_Detail!$D389)","v":""},"",{"$f":"IF(COUNTIF(AQ$2:AQ367,AQ367)=1,AQ367,\"\")","v":""},"","",""]
[{"$f":"+IF(D368=\"\",\"\",MAX(A$1:A367)+1)","v":""},{"$f":"IF(CEM_COM_CPMS_Identification!C390=\"\",\"\",CEM_COM_CPMS_Identification!C390)","v":""},"",{"$f":"IF(COUNTIF(B$2:B368,B368)=1,B368,\"\")","v":""},null,null,null,null,null,null,null,null,null,null,null,null,null,null,{"$f":"+IF(W368=\"\",\"\",MAX(S$1:S367)+1)","v":""},{"$f":"IF(Limits_Details!$B390=\"\",\"\",Limits_Details!$B390)","v":""},{"$f":"IF(Limits_Details!$C390=\"\",\"\",Limits_Details!$C390)","v":""},"",{"$f":"IF(COUNTIF(V$2:V368,V368)=1,V368,\"\")","v":""},"","",null,null,null,{"$f":"+IF(AH368=\"\",\"\",MAX(AC$1:AC367)+1)","v":""},{"$f":"IF(Limits_Details!$B390=\"\",\"\",Limits_Details!$B390)","v":""},{"$f":"IF(Limits_Details!$C390=\"\",\"\",Limits_Details!$C390)","v":""},{"$f":"IF(Limits_Details!$D390=\"\",\"\",Limits_Details!$D390)","v":""},"",{"$f":"IF(COUNTIF(AG$2:AG368,AG368)=1,AG368,\"\")","v":""},"","","",null,{"$f":"+IF(AR368=\"\",\"\",MAX(AM$1:AM367)+1)","v":""},{"$f":"IF(CEM_COM_CPMS_Detail!$B390=\"\",\"\",CEM_COM_CPMS_Detail!$B390)","v":""},{"$f":"IF(CEM_COM_CPMS_Detail!$C390=\"\",\"\",CEM_COM_CPMS_Detail!$C390)","v":""},{"$f":"IF(CEM_COM_CPMS_Detail!$D390=\"\",\"\",CEM_COM_CPMS_Detail!$D390)","v":""},"",{"$f":"IF(COUNTIF(AQ$2:AQ368,AQ368)=1,AQ368,\"\")","v":""},"","",""]
[{"$f":"+IF(D369=\"\",\"\",MAX(A$1:A368)+1)","v":""},{"$f":"IF(CEM_COM_CPMS_Identification!C391=\"\",\"\",CEM_COM_CPMS_Identification!C391)","v":""},"",{"$f":"IF(COUNTIF(B$2:B369,B369)=1,B369,\"\")","v":""},null,null,null,null,null,null,null,null,null,null,null,null,null,null,{"$f":"+IF(W369=\"\",\"\",MAX(S$1:S368)+1)","v":""},{"$f":"IF(Limits_Details!$B391=\"\",\"\",Limits_Details!$B391)","v":""},{"$f":"IF(Limits_Details!$C391=\"\",\"\",Limits_Details!$C391)","v":""},"",{"$f":"IF(COUNTIF(V$2:V369,V369)=1,V369,\"\")","v":""},"","",null,null,null,{"$f":"+IF(AH369=\"\",\"\",MAX(AC$1:AC368)+1)","v":""},{"$f":"IF(Limits_Details!$B391=\"\",\"\",Limits_Details!$B391)","v":""},{"$f":"IF(Limits_Details!$C391=\"\",\"\",Limits_Details!$C391)","v":""},{"$f":"IF(Limits_Details!$D391=\"\",\"\",Limits_Details!$D391)","v":""},"",{"$f":"IF(COUNTIF(AG$2:AG369,AG369)=1,AG369,\"\")","v":""},"","","",null,{"$f":"+IF(AR369=\"\",\"\",MAX(AM$1:AM368)+1)","v":""},{"$f":"IF(CEM_COM_CPMS_Detail!$B391=\"\",\"\",CEM_COM_CPMS_Detail!$B391)","v":""},{"$f":"IF(CEM_COM_CPMS_Detail!$C391=\"\",\"\",CEM_COM_CPMS_Detail!$C391)","v":""},{"$f":"IF(CEM_COM_CPMS_Detail!$D391=\"\",\"\",CEM_COM_CPMS_Detail!$D391)","v":""},"",{"$f":"IF(COUNTIF(AQ$2:AQ369,AQ369)=1,AQ369,\"\")","v":""},"","",""]
[{"$f":"+IF(D370=\"\",\"\",MAX(A$1:A369)+1)","v":""},{"$f":"IF(CEM_COM_CPMS_Identification!C392=\"\",\"\",CEM_COM_CPMS_Identification!C392)","v":""},"",{"$f":"IF(COUNTIF(B$2:B370,B370)=1,B370,\"\")","v":""},null,null,null,null,null,null,null,null,null,null,null,null,null,null,{"$f":"+IF(W370=\"\",\"\",MAX(S$1:S369)+1)","v":""},{"$f":"IF(Limits_Details!$B392=\"\",\"\",Limits_Details!$B392)","v":""},{"$f":"IF(Limits_Details!$C392=\"\",\"\",Limits_Details!$C392)","v":""},"",{"$f":"IF(COUNTIF(V$2:V370,V370)=1,V370,\"\")","v":""},"","",null,null,null,{"$f":"+IF(AH370=\"\",\"\",MAX(AC$1:AC369)+1)","v":""},{"$f":"IF(Limits_Details!$B392=\"\",\"\",Limits_Details!$B392)","v":""},{"$f":"IF(Limits_Details!$C392=\"\",\"\",Limits_Details!$C392)","v":""},{"$f":"IF(Limits_Details!$D392=\"\",\"\",Limits_Details!$D392)","v":""},"",{"$f":"IF(COUNTIF(AG$2:AG370,AG370)=1,AG370,\"\")","v":""},"","","",null,{"$f":"+IF(AR370=\"\",\"\",MAX(AM$1:AM369)+1)","v":""},{"$f":"IF(CEM_COM_CPMS_Detail!$B392=\"\",\"\",CEM_COM_CPMS_Detail!$B392)","v":""},{"$f":"IF(CEM_COM_CPMS_Detail!$C392=\"\",\"\",CEM_COM_CPMS_Detail!$C392)","v":""},{"$f":"IF(CEM_COM_CPMS_Detail!$D392=\"\",\"\",CEM_COM_CPMS_Detail!$D392)","v":""},"",{"$f":"IF(COUNTIF(AQ$2:AQ370,AQ370)=1,AQ370,\"\")","v":""},"","",""]
[{"$f":"+IF(D371=\"\",\"\",MAX(A$1:A370)+1)","v":""},{"$f":"IF(CEM_COM_CPMS_Identification!C393=\"\",\"\",CEM_COM_CPMS_Identification!C393)","v":""},"",{"$f":"IF(COUNTIF(B$2:B371,B371)=1,B371,\"\")","v":""},null,null,null,null,null,null,null,null,null,null,null,null,null,null,{"$f":"+IF(W371=\"\",\"\",MAX(S$1:S370)+1)","v":""},{"$f":"IF(Limits_Details!$B393=\"\",\"\",Limits_Details!$B393)","v":""},{"$f":"IF(Limits_Details!$C393=\"\",\"\",Limits_Details!$C393)","v":""},"",{"$f":"IF(COUNTIF(V$2:V371,V371)=1,V371,\"\")","v":""},"","",null,null,null,{"$f":"+IF(AH371=\"\",\"\",MAX(AC$1:AC370)+1)","v":""},{"$f":"IF(Limits_Details!$B393=\"\",\"\",Limits_Details!$B393)","v":""},{"$f":"IF(Limits_Details!$C393=\"\",\"\",Limits_Details!$C393)","v":""},{"$f":"IF(Limits_Details!$D393=\"\",\"\",Limits_Details!$D393)","v":""},"",{"$f":"IF(COUNTIF(AG$2:AG371,AG371)=1,AG371,\"\")","v":""},"","","",null,{"$f":"+IF(AR371=\"\",\"\",MAX(AM$1:AM370)+1)","v":""},{"$f":"IF(CEM_COM_CPMS_Detail!$B393=\"\",\"\",CEM_COM_CPMS_Detail!$B393)","v":""},{"$f":"IF(CEM_COM_CPMS_Detail!$C393=\"\",\"\",CEM_COM_CPMS_Detail!$C393)","v":""},{"$f":"IF(CEM_COM_CPMS_Detail!$D393=\"\",\"\",CEM_COM_CPMS_Detail!$D393)","v":""},"",{"$f":"IF(COUNTIF(AQ$2:AQ371,AQ371)=1,AQ371,\"\")","v":""},"","",""]
[{"$f":"+IF(D372=\"\",\"\",MAX(A$1:A371)+1)","v":""},{"$f":"IF(CEM_COM_CPMS_Identification!C394=\"\",\"\",CEM_COM_CPMS_Identification!C394)","v":""},"",{"$f":"IF(COUNTIF(B$2:B372,B372)=1,B372,\"\")","v":""},null,null,null,null,null,null,null,null,null,null,null,null,null,null,{"$f":"+IF(W372=\"\",\"\",MAX(S$1:S371)+1)","v":""},{"$f":"IF(Limits_Details!$B394=\"\",\"\",Limits_Details!$B394)","v":""},{"$f":"IF(Limits_Details!$C394=\"\",\"\",Limits_Details!$C394)","v":""},"",{"$f":"IF(COUNTIF(V$2:V372,V372)=1,V372,\"\")","v":""},"","",null,null,null,{"$f":"+IF(AH372=\"\",\"\",MAX(AC$1:AC371)+1)","v":""},{"$f":"IF(Limits_Details!$B394=\"\",\"\",Limits_Details!$B394)","v":""},{"$f":"IF(Limits_Details!$C394=\"\",\"\",Limits_Details!$C394)","v":""},{"$f":"IF(Limits_Details!$D394=\"\",\"\",Limits_Details!$D394)","v":""},"",{"$f":"IF(COUNTIF(AG$2:AG372,AG372)=1,AG372,\"\")","v":""},"","","",null,{"$f":"+IF(AR372=\"\",\"\",MAX(AM$1:AM371)+1)","v":""},{"$f":"IF(CEM_COM_CPMS_Detail!$B394=\"\",\"\",CEM_COM_CPMS_Detail!$B394)","v":""},{"$f":"IF(CEM_COM_CPMS_Detail!$C394=\"\",\"\",CEM_COM_CPMS_Detail!$C394)","v":""},{"$f":"IF(CEM_COM_CPMS_Detail!$D394=\"\",\"\",CEM_COM_CPMS_Detail!$D394)","v":""},"",{"$f":"IF(COUNTIF(AQ$2:AQ372,AQ372)=1,AQ372,\"\")","v":""},"","",""]
[{"$f":"+IF(D373=\"\",\"\",MAX(A$1:A372)+1)","v":""},{"$f":"IF(CEM_COM_CPMS_Identification!C395=\"\",\"\",CEM_COM_CPMS_Identification!C395)","v":""},"",{"$f":"IF(COUNTIF(B$2:B373,B373)=1,B373,\"\")","v":""},null,null,null,null,null,null,null,null,null,null,null,null,null,null,{"$f":"+IF(W373=\"\",\"\",MAX(S$1:S372)+1)","v":""},{"$f":"IF(Limits_Details!$B395=\"\",\"\",Limits_Details!$B395)","v":""},{"$f":"IF(Limits_Details!$C395=\"\",\"\",Limits_Details!$C395)","v":""},"",{"$f":"IF(COUNTIF(V$2:V373,V373)=1,V373,\"\")","v":""},"","",null,null,null,{"$f":"+IF(AH373=\"\",\"\",MAX(AC$1:AC372)+1)","v":""},{"$f":"IF(Limits_Details!$B395=\"\",\"\",Limits_Details!$B395)","v":""},{"$f":"IF(Limits_Details!$C395=\"\",\"\",Limits_Details!$C395)","v":""},{"$f":"IF(Limits_Details!$D395=\"\",\"\",Limits_Details!$D395)","v":""},"",{"$f":"IF(COUNTIF(AG$2:AG373,AG373)=1,AG373,\"\")","v":""},"","","",null,{"$f":"+IF(AR373=\"\",\"\",MAX(AM$1:AM372)+1)","v":""},{"$f":"IF(CEM_COM_CPMS_Detail!$B395=\"\",\"\",CEM_COM_CPMS_Detail!$B395)","v":""},{"$f":"IF(CEM_COM_CPMS_Detail!$C395=\"\",\"\",CEM_COM_CPMS_Detail!$C395)","v":""},{"$f":"IF(CEM_COM_CPMS_Detail!$D395=\"\",\"\",CEM_COM_CPMS_Detail!$D395)","v":""},"",{"$f":"IF(COUNTIF(AQ$2:AQ373,AQ373)=1,AQ373,\"\")","v":""},"","",""]
[{"$f":"+IF(D374=\"\",\"\",MAX(A$1:A373)+1)","v":""},{"$f":"IF(CEM_COM_CPMS_Identification!C396=\"\",\"\",CEM_COM_CPMS_Identification!C396)","v":""},"",{"$f":"IF(COUNTIF(B$2:B374,B374)=1,B374,\"\")","v":""},null,null,null,null,null,null,null,null,null,null,null,null,null,null,{"$f":"+IF(W374=\"\",\"\",MAX(S$1:S373)+1)","v":""},{"$f":"IF(Limits_Details!$B396=\"\",\"\",Limits_Details!$B396)","v":""},{"$f":"IF(Limits_Details!$C396=\"\",\"\",Limits_Details!$C396)","v":""},"",{"$f":"IF(COUNTIF(V$2:V374,V374)=1,V374,\"\")","v":""},"","",null,null,null,{"$f":"+IF(AH374=\"\",\"\",MAX(AC$1:AC373)+1)","v":""},{"$f":"IF(Limits_Details!$B396=\"\",\"\",Limits_Details!$B396)","v":""},{"$f":"IF(Limits_Details!$C396=\"\",\"\",Limits_Details!$C396)","v":""},{"$f":"IF(Limits_Details!$D396=\"\",\"\",Limits_Details!$D396)","v":""},"",{"$f":"IF(COUNTIF(AG$2:AG374,AG374)=1,AG374,\"\")","v":""},"","","",null,{"$f":"+IF(AR374=\"\",\"\",MAX(AM$1:AM373)+1)","v":""},{"$f":"IF(CEM_COM_CPMS_Detail!$B396=\"\",\"\",CEM_COM_CPMS_Detail!$B396)","v":""},{"$f":"IF(CEM_COM_CPMS_Detail!$C396=\"\",\"\",CEM_COM_CPMS_Detail!$C396)","v":""},{"$f":"IF(CEM_COM_CPMS_Detail!$D396=\"\",\"\",CEM_COM_CPMS_Detail!$D396)","v":""},"",{"$f":"IF(COUNTIF(AQ$2:AQ374,AQ374)=1,AQ374,\"\")","v":""},"","",""]
[{"$f":"+IF(D375=\"\",\"\",MAX(A$1:A374)+1)","v":""},{"$f":"IF(CEM_COM_CPMS_Identification!C397=\"\",\"\",CEM_COM_CPMS_Identification!C397)","v":""},"",{"$f":"IF(COUNTIF(B$2:B375,B375)=1,B375,\"\")","v":""},null,null,null,null,null,null,null,null,null,null,null,null,null,null,{"$f":"+IF(W375=\"\",\"\",MAX(S$1:S374)+1)","v":""},{"$f":"IF(Limits_Details!$B397=\"\",\"\",Limits_Details!$B397)","v":""},{"$f":"IF(Limits_Details!$C397=\"\",\"\",Limits_Details!$C397)","v":""},"",{"$f":"IF(COUNTIF(V$2:V375,V375)=1,V375,\"\")","v":""},"","",null,null,null,{"$f":"+IF(AH375=\"\",\"\",MAX(AC$1:AC374)+1)","v":""},{"$f":"IF(Limits_Details!$B397=\"\",\"\",Limits_Details!$B397)","v":""},{"$f":"IF(Limits_Details!$C397=\"\",\"\",Limits_Details!$C397)","v":""},{"$f":"IF(Limits_Details!$D397=\"\",\"\",Limits_Details!$D397)","v":""},"",{"$f":"IF(COUNTIF(AG$2:AG375,AG375)=1,AG375,\"\")","v":""},"","","",null,{"$f":"+IF(AR375=\"\",\"\",MAX(AM$1:AM374)+1)","v":""},{"$f":"IF(CEM_COM_CPMS_Detail!$B397=\"\",\"\",CEM_COM_CPMS_Detail!$B397)","v":""},{"$f":"IF(CEM_COM_CPMS_Detail!$C397=\"\",\"\",CEM_COM_CPMS_Detail!$C397)","v":""},{"$f":"IF(CEM_COM_CPMS_Detail!$D397=\"\",\"\",CEM_COM_CPMS_Detail!$D397)","v":""},"",{"$f":"IF(COUNTIF(AQ$2:AQ375,AQ375)=1,AQ375,\"\")","v":""},"","",""]
[{"$f":"+IF(D376=\"\",\"\",MAX(A$1:A375)+1)","v":""},{"$f":"IF(CEM_COM_CPMS_Identification!C398=\"\",\"\",CEM_COM_CPMS_Identification!C398)","v":""},"",{"$f":"IF(COUNTIF(B$2:B376,B376)=1,B376,\"\")","v":""},null,null,null,null,null,null,null,null,null,null,null,null,null,null,{"$f":"+IF(W376=\"\",\"\",MAX(S$1:S375)+1)","v":""},{"$f":"IF(Limits_Details!$B398=\"\",\"\",Limits_Details!$B398)","v":""},{"$f":"IF(Limits_Details!$C398=\"\",\"\",Limits_Details!$C398)","v":""},"",{"$f":"IF(COUNTIF(V$2:V376,V376)=1,V376,\"\")","v":""},"","",null,null,null,{"$f":"+IF(AH376=\"\",\"\",MAX(AC$1:AC375)+1)","v":""},{"$f":"IF(Limits_Details!$B398=\"\",\"\",Limits_Details!$B398)","v":""},{"$f":"IF(Limits_Details!$C398=\"\",\"\",Limits_Details!$C398)","v":""},{"$f":"IF(Limits_Details!$D398=\"\",\"\",Limits_Details!$D398)","v":""},"",{"$f":"IF(COUNTIF(AG$2:AG376,AG376)=1,AG376,\"\")","v":""},"","","",null,{"$f":"+IF(AR376=\"\",\"\",MAX(AM$1:AM375)+1)","v":""},{"$f":"IF(CEM_COM_CPMS_Detail!$B398=\"\",\"\",CEM_COM_CPMS_Detail!$B398)","v":""},{"$f":"IF(CEM_COM_CPMS_Detail!$C398=\"\",\"\",CEM_COM_CPMS_Detail!$C398)","v":""},{"$f":"IF(CEM_COM_CPMS_Detail!$D398=\"\",\"\",CEM_COM_CPMS_Detail!$D398)","v":""},"",{"$f":"IF(COUNTIF(AQ$2:AQ376,AQ376)=1,AQ376,\"\")","v":""},"","",""]
[{"$f":"+IF(D377=\"\",\"\",MAX(A$1:A376)+1)","v":""},{"$f":"IF(CEM_COM_CPMS_Identification!C399=\"\",\"\",CEM_COM_CPMS_Identification!C399)","v":""},"",{"$f":"IF(COUNTIF(B$2:B377,B377)=1,B377,\"\")","v":""},null,null,null,null,null,null,null,null,null,null,null,null,null,null,{"$f":"+IF(W377=\"\",\"\",MAX(S$1:S376)+1)","v":""},{"$f":"IF(Limits_Details!$B399=\"\",\"\",Limits_Details!$B399)","v":""},{"$f":"IF(Limits_Details!$C399=\"\",\"\",Limits_Details!$C399)","v":""},"",{"$f":"IF(COUNTIF(V$2:V377,V377)=1,V377,\"\")","v":""},"","",null,null,null,{"$f":"+IF(AH377=\"\",\"\",MAX(AC$1:AC376)+1)","v":""},{"$f":"IF(Limits_Details!$B399=\"\",\"\",Limits_Details!$B399)","v":""},{"$f":"IF(Limits_Details!$C399=\"\",\"\",Limits_Details!$C399)","v":""},{"$f":"IF(Limits_Details!$D399=\"\",\"\",Limits_Details!$D399)","v":""},"",{"$f":"IF(COUNTIF(AG$2:AG377,AG377)=1,AG377,\"\")","v":""},"","","",null,{"$f":"+IF(AR377=\"\",\"\",MAX(AM$1:AM376)+1)","v":""},{"$f":"IF(CEM_COM_CPMS_Detail!$B399=\"\",\"\",CEM_COM_CPMS_Detail!$B399)","v":""},{"$f":"IF(CEM_COM_CPMS_Detail!$C399=\"\",\"\",CEM_COM_CPMS_Detail!$C399)","v":""},{"$f":"IF(CEM_COM_CPMS_Detail!$D399=\"\",\"\",CEM_COM_CPMS_Detail!$D399)","v":""},"",{"$f":"IF(COUNTIF(AQ$2:AQ377,AQ377)=1,AQ377,\"\")","v":""},"","",""]
[{"$f":"+IF(D378=\"\",\"\",MAX(A$1:A377)+1)","v":""},{"$f":"IF(CEM_COM_CPMS_Identification!C400=\"\",\"\",CEM_COM_CPMS_Identification!C400)","v":""},"",{"$f":"IF(COUNTIF(B$2:B378,B378)=1,B378,\"\")","v":""},null,null,null,null,null,null,null,null,null,null,null,null,null,null,{"$f":"+IF(W378=\"\",\"\",MAX(S$1:S377)+1)","v":""},{"$f":"IF(Limits_Details!$B400=\"\",\"\",Limits_Details!$B400)","v":""},{"$f":"IF(Limits_Details!$C400=\"\",\"\",Limits_Details!$C400)","v":""},"",{"$f":"IF(COUNTIF(V$2:V378,V378)=1,V378,\"\")","v":""},"","",null,null,null,{"$f":"+IF(AH378=\"\",\"\",MAX(AC$1:AC377)+1)","v":""},{"$f":"IF(Limits_Details!$B400=\"\",\"\",Limits_Details!$B400)","v":""},{"$f":"IF(Limits_Details!$C400=\"\",\"\",Limits_Details!$C400)","v":""},{"$f":"IF(Limits_Details!$D400=\"\",\"\",Limits_Details!$D400)","v":""},"",{"$f":"IF(COUNTIF(AG$2:AG378,AG378)=1,AG378,\"\")","v":""},"","","",null,{"$f":"+IF(AR378=\"\",\"\",MAX(AM$1:AM377)+1)","v":""},{"$f":"IF(CEM_COM_CPMS_Detail!$B400=\"\",\"\",CEM_COM_CPMS_Detail!$B400)","v":""},{"$f":"IF(CEM_COM_CPMS_Detail!$C400=\"\",\"\",CEM_COM_CPMS_Detail!$C400)","v":""},{"$f":"IF(CEM_COM_CPMS_Detail!$D400=\"\",\"\",CEM_COM_CPMS_Detail!$D400)","v":""},"",{"$f":"IF(COUNTIF(AQ$2:AQ378,AQ378)=1,AQ378,\"\")","v":""},"","",""]
[{"$f":"+IF(D379=\"\",\"\",MAX(A$1:A378)+1)","v":""},{"$f":"IF(CEM_COM_CPMS_Identification!C401=\"\",\"\",CEM_COM_CPMS_Identification!C401)","v":""},"",{"$f":"IF(COUNTIF(B$2:B379,B379)=1,B379,\"\")","v":""},null,null,null,null,null,null,null,null,null,null,null,null,null,null,{"$f":"+IF(W379=\"\",\"\",MAX(S$1:S378)+1)","v":""},{"$f":"IF(Limits_Details!$B401=\"\",\"\",Limits_Details!$B401)","v":""},{"$f":"IF(Limits_Details!$C401=\"\",\"\",Limits_Details!$C401)","v":""},"",{"$f":"IF(COUNTIF(V$2:V379,V379)=1,V379,\"\")","v":""},"","",null,null,null,{"$f":"+IF(AH379=\"\",\"\",MAX(AC$1:AC378)+1)","v":""},{"$f":"IF(Limits_Details!$B401=\"\",\"\",Limits_Details!$B401)","v":""},{"$f":"IF(Limits_Details!$C401=\"\",\"\",Limits_Details!$C401)","v":""},{"$f":"IF(Limits_Details!$D401=\"\",\"\",Limits_Details!$D401)","v":""},"",{"$f":"IF(COUNTIF(AG$2:AG379,AG379)=1,AG379,\"\")","v":""},"","","",null,{"$f":"+IF(AR379=\"\",\"\",MAX(AM$1:AM378)+1)","v":""},{"$f":"IF(CEM_COM_CPMS_Detail!$B401=\"\",\"\",CEM_COM_CPMS_Detail!$B401)","v":""},{"$f":"IF(CEM_COM_CPMS_Detail!$C401=\"\",\"\",CEM_COM_CPMS_Detail!$C401)","v":""},{"$f":"IF(CEM_COM_CPMS_Detail!$D401=\"\",\"\",CEM_COM_CPMS_Detail!$D401)","v":""},"",{"$f":"IF(COUNTIF(AQ$2:AQ379,AQ379)=1,AQ379,\"\")","v":""},"","",""]
[{"$f":"+IF(D380=\"\",\"\",MAX(A$1:A379)+1)","v":""},{"$f":"IF(CEM_COM_CPMS_Identification!C402=\"\",\"\",CEM_COM_CPMS_Identification!C402)","v":""},"",{"$f":"IF(COUNTIF(B$2:B380,B380)=1,B380,\"\")","v":""},null,null,null,null,null,null,null,null,null,null,null,null,null,null,{"$f":"+IF(W380=\"\",\"\",MAX(S$1:S379)+1)","v":""},{"$f":"IF(Limits_Details!$B402=\"\",\"\",Limits_Details!$B402)","v":""},{"$f":"IF(Limits_Details!$C402=\"\",\"\",Limits_Details!$C402)","v":""},"",{"$f":"IF(COUNTIF(V$2:V380,V380)=1,V380,\"\")","v":""},"","",null,null,null,{"$f":"+IF(AH380=\"\",\"\",MAX(AC$1:AC379)+1)","v":""},{"$f":"IF(Limits_Details!$B402=\"\",\"\",Limits_Details!$B402)","v":""},{"$f":"IF(Limits_Details!$C402=\"\",\"\",Limits_Details!$C402)","v":""},{"$f":"IF(Limits_Details!$D402=\"\",\"\",Limits_Details!$D402)","v":""},"",{"$f":"IF(COUNTIF(AG$2:AG380,AG380)=1,AG380,\"\")","v":""},"","","",null,{"$f":"+IF(AR380=\"\",\"\",MAX(AM$1:AM379)+1)","v":""},{"$f":"IF(CEM_COM_CPMS_Detail!$B402=\"\",\"\",CEM_COM_CPMS_Detail!$B402)","v":""},{"$f":"IF(CEM_COM_CPMS_Detail!$C402=\"\",\"\",CEM_COM_CPMS_Detail!$C402)","v":""},{"$f":"IF(CEM_COM_CPMS_Detail!$D402=\"\",\"\",CEM_COM_CPMS_Detail!$D402)","v":""},"",{"$f":"IF(COUNTIF(AQ$2:AQ380,AQ380)=1,AQ380,\"\")","v":""},"","",""]
[{"$f":"+IF(D381=\"\",\"\",MAX(A$1:A380)+1)","v":""},{"$f":"IF(CEM_COM_CPMS_Identification!C403=\"\",\"\",CEM_COM_CPMS_Identification!C403)","v":""},"",{"$f":"IF(COUNTIF(B$2:B381,B381)=1,B381,\"\")","v":""},null,null,null,null,null,null,null,null,null,null,null,null,null,null,{"$f":"+IF(W381=\"\",\"\",MAX(S$1:S380)+1)","v":""},{"$f":"IF(Limits_Details!$B403=\"\",\"\",Limits_Details!$B403)","v":""},{"$f":"IF(Limits_Details!$C403=\"\",\"\",Limits_Details!$C403)","v":""},"",{"$f":"IF(COUNTIF(V$2:V381,V381)=1,V381,\"\")","v":""},"","",null,null,null,{"$f":"+IF(AH381=\"\",\"\",MAX(AC$1:AC380)+1)","v":""},{"$f":"IF(Limits_Details!$B403=\"\",\"\",Limits_Details!$B403)","v":""},{"$f":"IF(Limits_Details!$C403=\"\",\"\",Limits_Details!$C403)","v":""},{"$f":"IF(Limits_Details!$D403=\"\",\"\",Limits_Details!$D403)","v":""},"",{"$f":"IF(COUNTIF(AG$2:AG381,AG381)=1,AG381,\"\")","v":""},"","","",null,{"$f":"+IF(AR381=\"\",\"\",MAX(AM$1:AM380)+1)","v":""},{"$f":"IF(CEM_COM_CPMS_Detail!$B403=\"\",\"\",CEM_COM_CPMS_Detail!$B403)","v":""},{"$f":"IF(CEM_COM_CPMS_Detail!$C403=\"\",\"\",CEM_COM_CPMS_Detail!$C403)","v":""},{"$f":"IF(CEM_COM_CPMS_Detail!$D403=\"\",\"\",CEM_COM_CPMS_Detail!$D403)","v":""},"",{"$f":"IF(COUNTIF(AQ$2:AQ381,AQ381)=1,AQ381,\"\")","v":""},"","",""]
[{"$f":"+IF(D382=\"\",\"\",MAX(A$1:A381)+1)","v":""},{"$f":"IF(CEM_COM_CPMS_Identification!C404=\"\",\"\",CEM_COM_CPMS_Identification!C404)","v":""},"",{"$f":"IF(COUNTIF(B$2:B382,B382)=1,B382,\"\")","v":""},null,null,null,null,null,null,null,null,null,null,null,null,null,null,{"$f":"+IF(W382=\"\",\"\",MAX(S$1:S381)+1)","v":""},{"$f":"IF(Limits_Details!$B404=\"\",\"\",Limits_Details!$B404)","v":""},{"$f":"IF(Limits_Details!$C404=\"\",\"\",Limits_Details!$C404)","v":""},"",{"$f":"IF(COUNTIF(V$2:V382,V382)=1,V382,\"\")","v":""},"","",null,null,null,{"$f":"+IF(AH382=\"\",\"\",MAX(AC$1:AC381)+1)","v":""},{"$f":"IF(Limits_Details!$B404=\"\",\"\",Limits_Details!$B404)","v":""},{"$f":"IF(Limits_Details!$C404=\"\",\"\",Limits_Details!$C404)","v":""},{"$f":"IF(Limits_Details!$D404=\"\",\"\",Limits_Details!$D404)","v":""},"",{"$f":"IF(COUNTIF(AG$2:AG382,AG382)=1,AG382,\"\")","v":""},"","","",null,{"$f":"+IF(AR382=\"\",\"\",MAX(AM$1:AM381)+1)","v":""},{"$f":"IF(CEM_COM_CPMS_Detail!$B404=\"\",\"\",CEM_COM_CPMS_Detail!$B404)","v":""},{"$f":"IF(CEM_COM_CPMS_Detail!$C404=\"\",\"\",CEM_COM_CPMS_Detail!$C404)","v":""},{"$f":"IF(CEM_COM_CPMS_Detail!$D404=\"\",\"\",CEM_COM_CPMS_Detail!$D404)","v":""},"",{"$f":"IF(COUNTIF(AQ$2:AQ382,AQ382)=1,AQ382,\"\")","v":""},"","",""]
[{"$f":"+IF(D383=\"\",\"\",MAX(A$1:A382)+1)","v":""},{"$f":"IF(CEM_COM_CPMS_Identification!C405=\"\",\"\",CEM_COM_CPMS_Identification!C405)","v":""},"",{"$f":"IF(COUNTIF(B$2:B383,B383)=1,B383,\"\")","v":""},null,null,null,null,null,null,null,null,null,null,null,null,null,null,{"$f":"+IF(W383=\"\",\"\",MAX(S$1:S382)+1)","v":""},{"$f":"IF(Limits_Details!$B405=\"\",\"\",Limits_Details!$B405)","v":""},{"$f":"IF(Limits_Details!$C405=\"\",\"\",Limits_Details!$C405)","v":""},"",{"$f":"IF(COUNTIF(V$2:V383,V383)=1,V383,\"\")","v":""},"","",null,null,null,{"$f":"+IF(AH383=\"\",\"\",MAX(AC$1:AC382)+1)","v":""},{"$f":"IF(Limits_Details!$B405=\"\",\"\",Limits_Details!$B405)","v":""},{"$f":"IF(Limits_Details!$C405=\"\",\"\",Limits_Details!$C405)","v":""},{"$f":"IF(Limits_Details!$D405=\"\",\"\",Limits_Details!$D405)","v":""},"",{"$f":"IF(COUNTIF(AG$2:AG383,AG383)=1,AG383,\"\")","v":""},"","","",null,{"$f":"+IF(AR383=\"\",\"\",MAX(AM$1:AM382)+1)","v":""},{"$f":"IF(CEM_COM_CPMS_Detail!$B405=\"\",\"\",CEM_COM_CPMS_Detail!$B405)","v":""},{"$f":"IF(CEM_COM_CPMS_Detail!$C405=\"\",\"\",CEM_COM_CPMS_Detail!$C405)","v":""},{"$f":"IF(CEM_COM_CPMS_Detail!$D405=\"\",\"\",CEM_COM_CPMS_Detail!$D405)","v":""},"",{"$f":"IF(COUNTIF(AQ$2:AQ383,AQ383)=1,AQ383,\"\")","v":""},"","",""]
[{"$f":"+IF(D384=\"\",\"\",MAX(A$1:A383)+1)","v":""},{"$f":"IF(CEM_COM_CPMS_Identification!C406=\"\",\"\",CEM_COM_CPMS_Identification!C406)","v":""},"",{"$f":"IF(COUNTIF(B$2:B384,B384)=1,B384,\"\")","v":""},null,null,null,null,null,null,null,null,null,null,null,null,null,null,{"$f":"+IF(W384=\"\",\"\",MAX(S$1:S383)+1)","v":""},{"$f":"IF(Limits_Details!$B406=\"\",\"\",Limits_Details!$B406)","v":""},{"$f":"IF(Limits_Details!$C406=\"\",\"\",Limits_Details!$C406)","v":""},"",{"$f":"IF(COUNTIF(V$2:V384,V384)=1,V384,\"\")","v":""},"","",null,null,null,{"$f":"+IF(AH384=\"\",\"\",MAX(AC$1:AC383)+1)","v":""},{"$f":"IF(Limits_Details!$B406=\"\",\"\",Limits_Details!$B406)","v":""},{"$f":"IF(Limits_Details!$C406=\"\",\"\",Limits_Details!$C406)","v":""},{"$f":"IF(Limits_Details!$D406=\"\",\"\",Limits_Details!$D406)","v":""},"",{"$f":"IF(COUNTIF(AG$2:AG384,AG384)=1,AG384,\"\")","v":""},"","","",null,{"$f":"+IF(AR384=\"\",\"\",MAX(AM$1:AM383)+1)","v":""},{"$f":"IF(CEM_COM_CPMS_Detail!$B406=\"\",\"\",CEM_COM_CPMS_Detail!$B406)","v":""},{"$f":"IF(CEM_COM_CPMS_Detail!$C406=\"\",\"\",CEM_COM_CPMS_Detail!$C406)","v":""},{"$f":"IF(CEM_COM_CPMS_Detail!$D406=\"\",\"\",CEM_COM_CPMS_Detail!$D406)","v":""},"",{"$f":"IF(COUNTIF(AQ$2:AQ384,AQ384)=1,AQ384,\"\")","v":""},"","",""]
[{"$f":"+IF(D385=\"\",\"\",MAX(A$1:A384)+1)","v":""},{"$f":"IF(CEM_COM_CPMS_Identification!C407=\"\",\"\",CEM_COM_CPMS_Identification!C407)","v":""},"",{"$f":"IF(COUNTIF(B$2:B385,B385)=1,B385,\"\")","v":""},null,null,null,null,null,null,null,null,null,null,null,null,null,null,{"$f":"+IF(W385=\"\",\"\",MAX(S$1:S384)+1)","v":""},{"$f":"IF(Limits_Details!$B407=\"\",\"\",Limits_Details!$B407)","v":""},{"$f":"IF(Limits_Details!$C407=\"\",\"\",Limits_Details!$C407)","v":""},"",{"$f":"IF(COUNTIF(V$2:V385,V385)=1,V385,\"\")","v":""},"","",null,null,null,{"$f":"+IF(AH385=\"\",\"\",MAX(AC$1:AC384)+1)","v":""},{"$f":"IF(Limits_Details!$B407=\"\",\"\",Limits_Details!$B407)","v":""},{"$f":"IF(Limits_Details!$C407=\"\",\"\",Limits_Details!$C407)","v":""},{"$f":"IF(Limits_Details!$D407=\"\",\"\",Limits_Details!$D407)","v":""},"",{"$f":"IF(COUNTIF(AG$2:AG385,AG385)=1,AG385,\"\")","v":""},"","","",null,{"$f":"+IF(AR385=\"\",\"\",MAX(AM$1:AM384)+1)","v":""},{"$f":"IF(CEM_COM_CPMS_Detail!$B407=\"\",\"\",CEM_COM_CPMS_Detail!$B407)","v":""},{"$f":"IF(CEM_COM_CPMS_Detail!$C407=\"\",\"\",CEM_COM_CPMS_Detail!$C407)","v":""},{"$f":"IF(CEM_COM_CPMS_Detail!$D407=\"\",\"\",CEM_COM_CPMS_Detail!$D407)","v":""},"",{"$f":"IF(COUNTIF(AQ$2:AQ385,AQ385)=1,AQ385,\"\")","v":""},"","",""]
[{"$f":"+IF(D386=\"\",\"\",MAX(A$1:A385)+1)","v":""},{"$f":"IF(CEM_COM_CPMS_Identification!C408=\"\",\"\",CEM_COM_CPMS_Identification!C408)","v":""},{"$f":"+IFERROR(INDEX(B$2:B$501,MATCH(ROW()-ROW($C$1),A$2:A$501,0)),\"\")","v":""},{"$f":"IF(COUNTIF(B$2:B386,B386)=1,B386,\"\")","v":""},null,null,null,null,null,null,null,null,null,null,null,null,null,null,{"$f":"+IF(W386=\"\",\"\",MAX(S$1:S385)+1)","v":""},{"$f":"IF(Limits_Details!$B408=\"\",\"\",Limits_Details!$B408)","v":""},{"$f":"IF(Limits_Details!$C408=\"\",\"\",Limits_Details!$C408)","v":""},"",{"$f":"IF(COUNTIF(V$2:V386,V386)=1,V386,\"\")","v":""},{"$f":"+IFERROR(INDEX(T$2:T$955,MATCH(ROW()-ROW(X$1),S$2:S$955,0)),\"\")","v":""},{"$f":"+IFERROR(INDEX(U$2:U$955,MATCH(ROW()-ROW(X$1),S$2:S$955,0)),\"\")","v":""},null,null,null,{"$f":"+IF(AH386=\"\",\"\",MAX(AC$1:AC385)+1)","v":""},{"$f":"IF(Limits_Details!$B408=\"\",\"\",Limits_Details!$B408)","v":""},{"$f":"IF(Limits_Details!$C408=\"\",\"\",Limits_Details!$C408)","v":""},{"$f":"IF(Limits_Details!$D408=\"\",\"\",Limits_Details!$D408)","v":""},"",{"$f":"IF(COUNTIF(AG$2:AG386,AG386)=1,AG386,\"\")","v":""},"","","",null,{"$f":"+IF(AR386=\"\",\"\",MAX(AM$1:AM385)+1)","v":""},{"$f":"IF(CEM_COM_CPMS_Detail!$B408=\"\",\"\",CEM_COM_CPMS_Detail!$B408)","v":""},{"$f":"IF(CEM_COM_CPMS_Detail!$C408=\"\",\"\",CEM_COM_CPMS_Detail!$C408)","v":""},{"$f":"IF(CEM_COM_CPMS_Detail!$D408=\"\",\"\",CEM_COM_CPMS_Detail!$D408)","v":""},"",{"$f":"IF(COUNTIF(AQ$2:AQ386,AQ386)=1,AQ386,\"\")","v":""},"","",""]
[{"$f":"+IF(D387=\"\",\"\",MAX(A$1:A386)+1)","v":""},{"$f":"IF(CEM_COM_CPMS_Identification!C409=\"\",\"\",CEM_COM_CPMS_Identification!C409)","v":""},"",{"$f":"IF(COUNTIF(B$2:B387,B387)=1,B387,\"\")","v":""},null,null,null,null,null,null,null,null,null,null,null,null,null,null,{"$f":"+IF(W387=\"\",\"\",MAX(S$1:S386)+1)","v":""},{"$f":"IF(Limits_Details!$B409=\"\",\"\",Limits_Details!$B409)","v":""},{"$f":"IF(Limits_Details!$C409=\"\",\"\",Limits_Details!$C409)","v":""},{"$f":"T387&U387","v":""},{"$f":"IF(COUNTIF(V$2:V387,V387)=1,V387,\"\")","v":""},"","",null,null,null,{"$f":"+IF(AH387=\"\",\"\",MAX(AC$1:AC386)+1)","v":""},{"$f":"IF(Limits_Details!$B409=\"\",\"\",Limits_Details!$B409)","v":""},{"$f":"IF(Limits_Details!$C409=\"\",\"\",Limits_Details!$C409)","v":""},{"$f":"IF(Limits_Details!$D409=\"\",\"\",Limits_Details!$D409)","v":""},{"$f":"AD387&AE387&AF387","v":""},{"$f":"IF(COUNTIF(AG$2:AG387,AG387)=1,AG387,\"\")","v":""},{"$f":"+IFERROR(INDEX(AD$2:AD$955,MATCH(ROW()-ROW(AH$1),AC$2:AC$955,0)),\"\")","v":""},{"$f":"+IFERROR(INDEX(AE$2:AE$955,MATCH(ROW()-ROW(AH$1),AC$2:AC$955,0)),\"\")","v":""},{"$f":"+IFERROR(INDEX(AF$2:AF$955,MATCH(ROW()-ROW(AI$1),AC$2:AC$955,0)),\"\")","v":""},null,{"$f":"+IF(AR387=\"\",\"\",MAX(AM$1:AM386)+1)","v":""},{"$f":"IF(CEM_COM_CPMS_Detail!$B409=\"\",\"\",CEM_COM_CPMS_Detail!$B409)","v":""},{"$f":"IF(CEM_COM_CPMS_Detail!$C409=\"\",\"\",CEM_COM_CPMS_Detail!$C409)","v":""},{"$f":"IF(CEM_COM_CPMS_Detail!$D409=\"\",\"\",CEM_COM_CPMS_Detail!$D409)","v":""},{"$f":"AN387&AO387&AP387","v":""},{"$f":"IF(COUNTIF(AQ$2:AQ387,AQ387)=1,AQ387,\"\")","v":""},{"$f":"+IFERROR(INDEX(AN$2:AN$955,MATCH(ROW()-ROW(AR$1),AM$2:AM$955,0)),\"\")","v":""},{"$f":"+IFERROR(INDEX(AO$2:AO$955,MATCH(ROW()-ROW(AR$1),AM$2:AM$955,0)),\"\")","v":""},{"$f":"+IFERROR(INDEX(AP$2:AP$955,MATCH(ROW()-ROW(AS$1),AM$2:AM$955,0)),\"\")","v":""}]
[{"$f":"+IF(D388=\"\",\"\",MAX(A$1:A387)+1)","v":""},{"$f":"IF(CEM_COM_CPMS_Identification!C410=\"\",\"\",CEM_COM_CPMS_Identification!C410)","v":""},"",{"$f":"IF(COUNTIF(B$2:B388,B388)=1,B388,\"\")","v":""},null,null,null,null,null,null,null,null,null,null,null,null,null,null,{"$f":"+IF(W388=\"\",\"\",MAX(S$1:S387)+1)","v":""},{"$f":"IF(Limits_Details!$B410=\"\",\"\",Limits_Details!$B410)","v":""},{"$f":"IF(Limits_Details!$C410=\"\",\"\",Limits_Details!$C410)","v":""},"",{"$f":"IF(COUNTIF(V$2:V388,V388)=1,V388,\"\")","v":""},"","",null,null,null,{"$f":"+IF(AH388=\"\",\"\",MAX(AC$1:AC387)+1)","v":""},{"$f":"IF(Limits_Details!$B410=\"\",\"\",Limits_Details!$B410)","v":""},{"$f":"IF(Limits_Details!$C410=\"\",\"\",Limits_Details!$C410)","v":""},{"$f":"IF(Limits_Details!$D410=\"\",\"\",Limits_Details!$D410)","v":""},"",{"$f":"IF(COUNTIF(AG$2:AG388,AG388)=1,AG388,\"\")","v":""},"","","",null,{"$f":"+IF(AR388=\"\",\"\",MAX(AM$1:AM387)+1)","v":""},{"$f":"IF(CEM_COM_CPMS_Detail!$B410=\"\",\"\",CEM_COM_CPMS_Detail!$B410)","v":""},{"$f":"IF(CEM_COM_CPMS_Detail!$C410=\"\",\"\",CEM_COM_CPMS_Detail!$C410)","v":""},{"$f":"IF(CEM_COM_CPMS_Detail!$D410=\"\",\"\",CEM_COM_CPMS_Detail!$D410)","v":""},"",{"$f":"IF(COUNTIF(AQ$2:AQ388,AQ388)=1,AQ388,\"\")","v":""},"","",""]
[{"$f":"+IF(D389=\"\",\"\",MAX(A$1:A388)+1)","v":""},{"$f":"IF(CEM_COM_CPMS_Identification!C411=\"\",\"\",CEM_COM_CPMS_Identification!C411)","v":""},"",{"$f":"IF(COUNTIF(B$2:B389,B389)=1,B389,\"\")","v":""},null,null,null,null,null,null,null,null,null,null,null,null,null,null,{"$f":"+IF(W389=\"\",\"\",MAX(S$1:S388)+1)","v":""},{"$f":"IF(Limits_Details!$B411=\"\",\"\",Limits_Details!$B411)","v":""},{"$f":"IF(Limits_Details!$C411=\"\",\"\",Limits_Details!$C411)","v":""},"",{"$f":"IF(COUNTIF(V$2:V389,V389)=1,V389,\"\")","v":""},"","",null,null,null,{"$f":"+IF(AH389=\"\",\"\",MAX(AC$1:AC388)+1)","v":""},{"$f":"IF(Limits_Details!$B411=\"\",\"\",Limits_Details!$B411)","v":""},{"$f":"IF(Limits_Details!$C411=\"\",\"\",Limits_Details!$C411)","v":""},{"$f":"IF(Limits_Details!$D411=\"\",\"\",Limits_Details!$D411)","v":""},"",{"$f":"IF(COUNTIF(AG$2:AG389,AG389)=1,AG389,\"\")","v":""},"","","",null,{"$f":"+IF(AR389=\"\",\"\",MAX(AM$1:AM388)+1)","v":""},{"$f":"IF(CEM_COM_CPMS_Detail!$B411=\"\",\"\",CEM_COM_CPMS_Detail!$B411)","v":""},{"$f":"IF(CEM_COM_CPMS_Detail!$C411=\"\",\"\",CEM_COM_CPMS_Detail!$C411)","v":""},{"$f":"IF(CEM_COM_CPMS_Detail!$D411=\"\",\"\",CEM_COM_CPMS_Detail!$D411)","v":""},"",{"$f":"IF(COUNTIF(AQ$2:AQ389,AQ389)=1,AQ389,\"\")","v":""},"","",""]
[{"$f":"+IF(D390=\"\",\"\",MAX(A$1:A389)+1)","v":""},{"$f":"IF(CEM_COM_CPMS_Identification!C412=\"\",\"\",CEM_COM_CPMS_Identification!C412)","v":""},"",{"$f":"IF(COUNTIF(B$2:B390,B390)=1,B390,\"\")","v":""},null,null,null,null,null,null,null,null,null,null,null,null,null,null,{"$f":"+IF(W390=\"\",\"\",MAX(S$1:S389)+1)","v":""},{"$f":"IF(Limits_Details!$B412=\"\",\"\",Limits_Details!$B412)","v":""},{"$f":"IF(Limits_Details!$C412=\"\",\"\",Limits_Details!$C412)","v":""},"",{"$f":"IF(COUNTIF(V$2:V390,V390)=1,V390,\"\")","v":""},"","",null,null,null,{"$f":"+IF(AH390=\"\",\"\",MAX(AC$1:AC389)+1)","v":""},{"$f":"IF(Limits_Details!$B412=\"\",\"\",Limits_Details!$B412)","v":""},{"$f":"IF(Limits_Details!$C412=\"\",\"\",Limits_Details!$C412)","v":""},{"$f":"IF(Limits_Details!$D412=\"\",\"\",Limits_Details!$D412)","v":""},"",{"$f":"IF(COUNTIF(AG$2:AG390,AG390)=1,AG390,\"\")","v":""},"","","",null,{"$f":"+IF(AR390=\"\",\"\",MAX(AM$1:AM389)+1)","v":""},{"$f":"IF(CEM_COM_CPMS_Detail!$B412=\"\",\"\",CEM_COM_CPMS_Detail!$B412)","v":""},{"$f":"IF(CEM_COM_CPMS_Detail!$C412=\"\",\"\",CEM_COM_CPMS_Detail!$C412)","v":""},{"$f":"IF(CEM_COM_CPMS_Detail!$D412=\"\",\"\",CEM_COM_CPMS_Detail!$D412)","v":""},"",{"$f":"IF(COUNTIF(AQ$2:AQ390,AQ390)=1,AQ390,\"\")","v":""},"","",""]
[{"$f":"+IF(D391=\"\",\"\",MAX(A$1:A390)+1)","v":""},{"$f":"IF(CEM_COM_CPMS_Identification!C413=\"\",\"\",CEM_COM_CPMS_Identification!C413)","v":""},"",{"$f":"IF(COUNTIF(B$2:B391,B391)=1,B391,\"\")","v":""},null,null,null,null,null,null,null,null,null,null,null,null,null,null,{"$f":"+IF(W391=\"\",\"\",MAX(S$1:S390)+1)","v":""},{"$f":"IF(Limits_Details!$B413=\"\",\"\",Limits_Details!$B413)","v":""},{"$f":"IF(Limits_Details!$C413=\"\",\"\",Limits_Details!$C413)","v":""},"",{"$f":"IF(COUNTIF(V$2:V391,V391)=1,V391,\"\")","v":""},"","",null,null,null,{"$f":"+IF(AH391=\"\",\"\",MAX(AC$1:AC390)+1)","v":""},{"$f":"IF(Limits_Details!$B413=\"\",\"\",Limits_Details!$B413)","v":""},{"$f":"IF(Limits_Details!$C413=\"\",\"\",Limits_Details!$C413)","v":""},{"$f":"IF(Limits_Details!$D413=\"\",\"\",Limits_Details!$D413)","v":""},"",{"$f":"IF(COUNTIF(AG$2:AG391,AG391)=1,AG391,\"\")","v":""},"","","",null,{"$f":"+IF(AR391=\"\",\"\",MAX(AM$1:AM390)+1)","v":""},{"$f":"IF(CEM_COM_CPMS_Detail!$B413=\"\",\"\",CEM_COM_CPMS_Detail!$B413)","v":""},{"$f":"IF(CEM_COM_CPMS_Detail!$C413=\"\",\"\",CEM_COM_CPMS_Detail!$C413)","v":""},{"$f":"IF(CEM_COM_CPMS_Detail!$D413=\"\",\"\",CEM_COM_CPMS_Detail!$D413)","v":""},"",{"$f":"IF(COUNTIF(AQ$2:AQ391,AQ391)=1,AQ391,\"\")","v":""},"","",""]
[{"$f":"+IF(D392=\"\",\"\",MAX(A$1:A391)+1)","v":""},{"$f":"IF(CEM_COM_CPMS_Identification!C414=\"\",\"\",CEM_COM_CPMS_Identification!C414)","v":""},"",{"$f":"IF(COUNTIF(B$2:B392,B392)=1,B392,\"\")","v":""},null,null,null,null,null,null,null,null,null,null,null,null,null,null,{"$f":"+IF(W392=\"\",\"\",MAX(S$1:S391)+1)","v":""},{"$f":"IF(Limits_Details!$B414=\"\",\"\",Limits_Details!$B414)","v":""},{"$f":"IF(Limits_Details!$C414=\"\",\"\",Limits_Details!$C414)","v":""},"",{"$f":"IF(COUNTIF(V$2:V392,V392)=1,V392,\"\")","v":""},"","",null,null,null,{"$f":"+IF(AH392=\"\",\"\",MAX(AC$1:AC391)+1)","v":""},{"$f":"IF(Limits_Details!$B414=\"\",\"\",Limits_Details!$B414)","v":""},{"$f":"IF(Limits_Details!$C414=\"\",\"\",Limits_Details!$C414)","v":""},{"$f":"IF(Limits_Details!$D414=\"\",\"\",Limits_Details!$D414)","v":""},"",{"$f":"IF(COUNTIF(AG$2:AG392,AG392)=1,AG392,\"\")","v":""},"","","",null,{"$f":"+IF(AR392=\"\",\"\",MAX(AM$1:AM391)+1)","v":""},{"$f":"IF(CEM_COM_CPMS_Detail!$B414=\"\",\"\",CEM_COM_CPMS_Detail!$B414)","v":""},{"$f":"IF(CEM_COM_CPMS_Detail!$C414=\"\",\"\",CEM_COM_CPMS_Detail!$C414)","v":""},{"$f":"IF(CEM_COM_CPMS_Detail!$D414=\"\",\"\",CEM_COM_CPMS_Detail!$D414)","v":""},"",{"$f":"IF(COUNTIF(AQ$2:AQ392,AQ392)=1,AQ392,\"\")","v":""},"","",""]
[{"$f":"+IF(D393=\"\",\"\",MAX(A$1:A392)+1)","v":""},{"$f":"IF(CEM_COM_CPMS_Identification!C415=\"\",\"\",CEM_COM_CPMS_Identification!C415)","v":""},"",{"$f":"IF(COUNTIF(B$2:B393,B393)=1,B393,\"\")","v":""},null,null,null,null,null,null,null,null,null,null,null,null,null,null,{"$f":"+IF(W393=\"\",\"\",MAX(S$1:S392)+1)","v":""},{"$f":"IF(Limits_Details!$B415=\"\",\"\",Limits_Details!$B415)","v":""},{"$f":"IF(Limits_Details!$C415=\"\",\"\",Limits_Details!$C415)","v":""},"",{"$f":"IF(COUNTIF(V$2:V393,V393)=1,V393,\"\")","v":""},"","",null,null,null,{"$f":"+IF(AH393=\"\",\"\",MAX(AC$1:AC392)+1)","v":""},{"$f":"IF(Limits_Details!$B415=\"\",\"\",Limits_Details!$B415)","v":""},{"$f":"IF(Limits_Details!$C415=\"\",\"\",Limits_Details!$C415)","v":""},{"$f":"IF(Limits_Details!$D415=\"\",\"\",Limits_Details!$D415)","v":""},"",{"$f":"IF(COUNTIF(AG$2:AG393,AG393)=1,AG393,\"\")","v":""},"","","",null,{"$f":"+IF(AR393=\"\",\"\",MAX(AM$1:AM392)+1)","v":""},{"$f":"IF(CEM_COM_CPMS_Detail!$B415=\"\",\"\",CEM_COM_CPMS_Detail!$B415)","v":""},{"$f":"IF(CEM_COM_CPMS_Detail!$C415=\"\",\"\",CEM_COM_CPMS_Detail!$C415)","v":""},{"$f":"IF(CEM_COM_CPMS_Detail!$D415=\"\",\"\",CEM_COM_CPMS_Detail!$D415)","v":""},"",{"$f":"IF(COUNTIF(AQ$2:AQ393,AQ393)=1,AQ393,\"\")","v":""},"","",""]
[{"$f":"+IF(D394=\"\",\"\",MAX(A$1:A393)+1)","v":""},{"$f":"IF(CEM_COM_CPMS_Identification!C416=\"\",\"\",CEM_COM_CPMS_Identification!C416)","v":""},"",{"$f":"IF(COUNTIF(B$2:B394,B394)=1,B394,\"\")","v":""},null,null,null,null,null,null,null,null,null,null,null,null,null,null,{"$f":"+IF(W394=\"\",\"\",MAX(S$1:S393)+1)","v":""},{"$f":"IF(Limits_Details!$B416=\"\",\"\",Limits_Details!$B416)","v":""},{"$f":"IF(Limits_Details!$C416=\"\",\"\",Limits_Details!$C416)","v":""},"",{"$f":"IF(COUNTIF(V$2:V394,V394)=1,V394,\"\")","v":""},"","",null,null,null,{"$f":"+IF(AH394=\"\",\"\",MAX(AC$1:AC393)+1)","v":""},{"$f":"IF(Limits_Details!$B416=\"\",\"\",Limits_Details!$B416)","v":""},{"$f":"IF(Limits_Details!$C416=\"\",\"\",Limits_Details!$C416)","v":""},{"$f":"IF(Limits_Details!$D416=\"\",\"\",Limits_Details!$D416)","v":""},"",{"$f":"IF(COUNTIF(AG$2:AG394,AG394)=1,AG394,\"\")","v":""},"","","",null,{"$f":"+IF(AR394=\"\",\"\",MAX(AM$1:AM393)+1)","v":""},{"$f":"IF(CEM_COM_CPMS_Detail!$B416=\"\",\"\",CEM_COM_CPMS_Detail!$B416)","v":""},{"$f":"IF(CEM_COM_CPMS_Detail!$C416=\"\",\"\",CEM_COM_CPMS_Detail!$C416)","v":""},{"$f":"IF(CEM_COM_CPMS_Detail!$D416=\"\",\"\",CEM_COM_CPMS_Detail!$D416)","v":""},"",{"$f":"IF(COUNTIF(AQ$2:AQ394,AQ394)=1,AQ394,\"\")","v":""},"","",""]
[{"$f":"+IF(D395=\"\",\"\",MAX(A$1:A394)+1)","v":""},{"$f":"IF(CEM_COM_CPMS_Identification!C417=\"\",\"\",CEM_COM_CPMS_Identification!C417)","v":""},"",{"$f":"IF(COUNTIF(B$2:B395,B395)=1,B395,\"\")","v":""},null,null,null,null,null,null,null,null,null,null,null,null,null,null,{"$f":"+IF(W395=\"\",\"\",MAX(S$1:S394)+1)","v":""},{"$f":"IF(Limits_Details!$B417=\"\",\"\",Limits_Details!$B417)","v":""},{"$f":"IF(Limits_Details!$C417=\"\",\"\",Limits_Details!$C417)","v":""},"",{"$f":"IF(COUNTIF(V$2:V395,V395)=1,V395,\"\")","v":""},"","",null,null,null,{"$f":"+IF(AH395=\"\",\"\",MAX(AC$1:AC394)+1)","v":""},{"$f":"IF(Limits_Details!$B417=\"\",\"\",Limits_Details!$B417)","v":""},{"$f":"IF(Limits_Details!$C417=\"\",\"\",Limits_Details!$C417)","v":""},{"$f":"IF(Limits_Details!$D417=\"\",\"\",Limits_Details!$D417)","v":""},"",{"$f":"IF(COUNTIF(AG$2:AG395,AG395)=1,AG395,\"\")","v":""},"","","",null,{"$f":"+IF(AR395=\"\",\"\",MAX(AM$1:AM394)+1)","v":""},{"$f":"IF(CEM_COM_CPMS_Detail!$B417=\"\",\"\",CEM_COM_CPMS_Detail!$B417)","v":""},{"$f":"IF(CEM_COM_CPMS_Detail!$C417=\"\",\"\",CEM_COM_CPMS_Detail!$C417)","v":""},{"$f":"IF(CEM_COM_CPMS_Detail!$D417=\"\",\"\",CEM_COM_CPMS_Detail!$D417)","v":""},"",{"$f":"IF(COUNTIF(AQ$2:AQ395,AQ395)=1,AQ395,\"\")","v":""},"","",""]
[{"$f":"+IF(D396=\"\",\"\",MAX(A$1:A395)+1)","v":""},{"$f":"IF(CEM_COM_CPMS_Identification!C418=\"\",\"\",CEM_COM_CPMS_Identification!C418)","v":""},"",{"$f":"IF(COUNTIF(B$2:B396,B396)=1,B396,\"\")","v":""},null,null,null,null,null,null,null,null,null,null,null,null,null,null,{"$f":"+IF(W396=\"\",\"\",MAX(S$1:S395)+1)","v":""},{"$f":"IF(Limits_Details!$B418=\"\",\"\",Limits_Details!$B418)","v":""},{"$f":"IF(Limits_Details!$C418=\"\",\"\",Limits_Details!$C418)","v":""},"",{"$f":"IF(COUNTIF(V$2:V396,V396)=1,V396,\"\")","v":""},"","",null,null,null,{"$f":"+IF(AH396=\"\",\"\",MAX(AC$1:AC395)+1)","v":""},{"$f":"IF(Limits_Details!$B418=\"\",\"\",Limits_Details!$B418)","v":""},{"$f":"IF(Limits_Details!$C418=\"\",\"\",Limits_Details!$C418)","v":""},{"$f":"IF(Limits_Details!$D418=\"\",\"\",Limits_Details!$D418)","v":""},"",{"$f":"IF(COUNTIF(AG$2:AG396,AG396)=1,AG396,\"\")","v":""},"","","",null,{"$f":"+IF(AR396=\"\",\"\",MAX(AM$1:AM395)+1)","v":""},{"$f":"IF(CEM_COM_CPMS_Detail!$B418=\"\",\"\",CEM_COM_CPMS_Detail!$B418)","v":""},{"$f":"IF(CEM_COM_CPMS_Detail!$C418=\"\",\"\",CEM_COM_CPMS_Detail!$C418)","v":""},{"$f":"IF(CEM_COM_CPMS_Detail!$D418=\"\",\"\",CEM_COM_CPMS_Detail!$D418)","v":""},"",{"$f":"IF(COUNTIF(AQ$2:AQ396,AQ396)=1,AQ396,\"\")","v":""},"","",""]
[{"$f":"+IF(D397=\"\",\"\",MAX(A$1:A396)+1)","v":""},{"$f":"IF(CEM_COM_CPMS_Identification!C419=\"\",\"\",CEM_COM_CPMS_Identification!C419)","v":""},"",{"$f":"IF(COUNTIF(B$2:B397,B397)=1,B397,\"\")","v":""},null,null,null,null,null,null,null,null,null,null,null,null,null,null,{"$f":"+IF(W397=\"\",\"\",MAX(S$1:S396)+1)","v":""},{"$f":"IF(Limits_Details!$B419=\"\",\"\",Limits_Details!$B419)","v":""},{"$f":"IF(Limits_Details!$C419=\"\",\"\",Limits_Details!$C419)","v":""},"",{"$f":"IF(COUNTIF(V$2:V397,V397)=1,V397,\"\")","v":""},"","",null,null,null,{"$f":"+IF(AH397=\"\",\"\",MAX(AC$1:AC396)+1)","v":""},{"$f":"IF(Limits_Details!$B419=\"\",\"\",Limits_Details!$B419)","v":""},{"$f":"IF(Limits_Details!$C419=\"\",\"\",Limits_Details!$C419)","v":""},{"$f":"IF(Limits_Details!$D419=\"\",\"\",Limits_Details!$D419)","v":""},"",{"$f":"IF(COUNTIF(AG$2:AG397,AG397)=1,AG397,\"\")","v":""},"","","",null,{"$f":"+IF(AR397=\"\",\"\",MAX(AM$1:AM396)+1)","v":""},{"$f":"IF(CEM_COM_CPMS_Detail!$B419=\"\",\"\",CEM_COM_CPMS_Detail!$B419)","v":""},{"$f":"IF(CEM_COM_CPMS_Detail!$C419=\"\",\"\",CEM_COM_CPMS_Detail!$C419)","v":""},{"$f":"IF(CEM_COM_CPMS_Detail!$D419=\"\",\"\",CEM_COM_CPMS_Detail!$D419)","v":""},"",{"$f":"IF(COUNTIF(AQ$2:AQ397,AQ397)=1,AQ397,\"\")","v":""},"","",""]
[{"$f":"+IF(D398=\"\",\"\",MAX(A$1:A397)+1)","v":""},{"$f":"IF(CEM_COM_CPMS_Identification!C420=\"\",\"\",CEM_COM_CPMS_Identification!C420)","v":""},"",{"$f":"IF(COUNTIF(B$2:B398,B398)=1,B398,\"\")","v":""},null,null,null,null,null,null,null,null,null,null,null,null,null,null,{"$f":"+IF(W398=\"\",\"\",MAX(S$1:S397)+1)","v":""},{"$f":"IF(Limits_Details!$B420=\"\",\"\",Limits_Details!$B420)","v":""},{"$f":"IF(Limits_Details!$C420=\"\",\"\",Limits_Details!$C420)","v":""},"",{"$f":"IF(COUNTIF(V$2:V398,V398)=1,V398,\"\")","v":""},"","",null,null,null,{"$f":"+IF(AH398=\"\",\"\",MAX(AC$1:AC397)+1)","v":""},{"$f":"IF(Limits_Details!$B420=\"\",\"\",Limits_Details!$B420)","v":""},{"$f":"IF(Limits_Details!$C420=\"\",\"\",Limits_Details!$C420)","v":""},{"$f":"IF(Limits_Details!$D420=\"\",\"\",Limits_Details!$D420)","v":""},"",{"$f":"IF(COUNTIF(AG$2:AG398,AG398)=1,AG398,\"\")","v":""},"","","",null,{"$f":"+IF(AR398=\"\",\"\",MAX(AM$1:AM397)+1)","v":""},{"$f":"IF(CEM_COM_CPMS_Detail!$B420=\"\",\"\",CEM_COM_CPMS_Detail!$B420)","v":""},{"$f":"IF(CEM_COM_CPMS_Detail!$C420=\"\",\"\",CEM_COM_CPMS_Detail!$C420)","v":""},{"$f":"IF(CEM_COM_CPMS_Detail!$D420=\"\",\"\",CEM_COM_CPMS_Detail!$D420)","v":""},"",{"$f":"IF(COUNTIF(AQ$2:AQ398,AQ398)=1,AQ398,\"\")","v":""},"","",""]
[{"$f":"+IF(D399=\"\",\"\",MAX(A$1:A398)+1)","v":""},{"$f":"IF(CEM_COM_CPMS_Identification!C421=\"\",\"\",CEM_COM_CPMS_Identification!C421)","v":""},"",{"$f":"IF(COUNTIF(B$2:B399,B399)=1,B399,\"\")","v":""},null,null,null,null,null,null,null,null,null,null,null,null,null,null,{"$f":"+IF(W399=\"\",\"\",MAX(S$1:S398)+1)","v":""},{"$f":"IF(Limits_Details!$B421=\"\",\"\",Limits_Details!$B421)","v":""},{"$f":"IF(Limits_Details!$C421=\"\",\"\",Limits_Details!$C421)","v":""},"",{"$f":"IF(COUNTIF(V$2:V399,V399)=1,V399,\"\")","v":""},"","",null,null,null,{"$f":"+IF(AH399=\"\",\"\",MAX(AC$1:AC398)+1)","v":""},{"$f":"IF(Limits_Details!$B421=\"\",\"\",Limits_Details!$B421)","v":""},{"$f":"IF(Limits_Details!$C421=\"\",\"\",Limits_Details!$C421)","v":""},{"$f":"IF(Limits_Details!$D421=\"\",\"\",Limits_Details!$D421)","v":""},"",{"$f":"IF(COUNTIF(AG$2:AG399,AG399)=1,AG399,\"\")","v":""},"","","",null,{"$f":"+IF(AR399=\"\",\"\",MAX(AM$1:AM398)+1)","v":""},{"$f":"IF(CEM_COM_CPMS_Detail!$B421=\"\",\"\",CEM_COM_CPMS_Detail!$B421)","v":""},{"$f":"IF(CEM_COM_CPMS_Detail!$C421=\"\",\"\",CEM_COM_CPMS_Detail!$C421)","v":""},{"$f":"IF(CEM_COM_CPMS_Detail!$D421=\"\",\"\",CEM_COM_CPMS_Detail!$D421)","v":""},"",{"$f":"IF(COUNTIF(AQ$2:AQ399,AQ399)=1,AQ399,\"\")","v":""},"","",""]
[{"$f":"+IF(D400=\"\",\"\",MAX(A$1:A399)+1)","v":""},{"$f":"IF(CEM_COM_CPMS_Identification!C422=\"\",\"\",CEM_COM_CPMS_Identification!C422)","v":""},"",{"$f":"IF(COUNTIF(B$2:B400,B400)=1,B400,\"\")","v":""},null,null,null,null,null,null,null,null,null,null,null,null,null,null,{"$f":"+IF(W400=\"\",\"\",MAX(S$1:S399)+1)","v":""},{"$f":"IF(Limits_Details!$B422=\"\",\"\",Limits_Details!$B422)","v":""},{"$f":"IF(Limits_Details!$C422=\"\",\"\",Limits_Details!$C422)","v":""},"",{"$f":"IF(COUNTIF(V$2:V400,V400)=1,V400,\"\")","v":""},"","",null,null,null,{"$f":"+IF(AH400=\"\",\"\",MAX(AC$1:AC399)+1)","v":""},{"$f":"IF(Limits_Details!$B422=\"\",\"\",Limits_Details!$B422)","v":""},{"$f":"IF(Limits_Details!$C422=\"\",\"\",Limits_Details!$C422)","v":""},{"$f":"IF(Limits_Details!$D422=\"\",\"\",Limits_Details!$D422)","v":""},"",{"$f":"IF(COUNTIF(AG$2:AG400,AG400)=1,AG400,\"\")","v":""},"","","",null,{"$f":"+IF(AR400=\"\",\"\",MAX(AM$1:AM399)+1)","v":""},{"$f":"IF(CEM_COM_CPMS_Detail!$B422=\"\",\"\",CEM_COM_CPMS_Detail!$B422)","v":""},{"$f":"IF(CEM_COM_CPMS_Detail!$C422=\"\",\"\",CEM_COM_CPMS_Detail!$C422)","v":""},{"$f":"IF(CEM_COM_CPMS_Detail!$D422=\"\",\"\",CEM_COM_CPMS_Detail!$D422)","v":""},"",{"$f":"IF(COUNTIF(AQ$2:AQ400,AQ400)=1,AQ400,\"\")","v":""},"","",""]
[{"$f":"+IF(D401=\"\",\"\",MAX(A$1:A400)+1)","v":""},{"$f":"IF(CEM_COM_CPMS_Identification!C423=\"\",\"\",CEM_COM_CPMS_Identification!C423)","v":""},"",{"$f":"IF(COUNTIF(B$2:B401,B401)=1,B401,\"\")","v":""},null,null,null,null,null,null,null,null,null,null,null,null,null,null,{"$f":"+IF(W401=\"\",\"\",MAX(S$1:S400)+1)","v":""},{"$f":"IF(Limits_Details!$B423=\"\",\"\",Limits_Details!$B423)","v":""},{"$f":"IF(Limits_Details!$C423=\"\",\"\",Limits_Details!$C423)","v":""},"",{"$f":"IF(COUNTIF(V$2:V401,V401)=1,V401,\"\")","v":""},"","",null,null,null,{"$f":"+IF(AH401=\"\",\"\",MAX(AC$1:AC400)+1)","v":""},{"$f":"IF(Limits_Details!$B423=\"\",\"\",Limits_Details!$B423)","v":""},{"$f":"IF(Limits_Details!$C423=\"\",\"\",Limits_Details!$C423)","v":""},{"$f":"IF(Limits_Details!$D423=\"\",\"\",Limits_Details!$D423)","v":""},"",{"$f":"IF(COUNTIF(AG$2:AG401,AG401)=1,AG401,\"\")","v":""},"","","",null,{"$f":"+IF(AR401=\"\",\"\",MAX(AM$1:AM400)+1)","v":""},{"$f":"IF(CEM_COM_CPMS_Detail!$B423=\"\",\"\",CEM_COM_CPMS_Detail!$B423)","v":""},{"$f":"IF(CEM_COM_CPMS_Detail!$C423=\"\",\"\",CEM_COM_CPMS_Detail!$C423)","v":""},{"$f":"IF(CEM_COM_CPMS_Detail!$D423=\"\",\"\",CEM_COM_CPMS_Detail!$D423)","v":""},"",{"$f":"IF(COUNTIF(AQ$2:AQ401,AQ401)=1,AQ401,\"\")","v":""},"","",""]
[{"$f":"+IF(D402=\"\",\"\",MAX(A$1:A401)+1)","v":""},{"$f":"IF(CEM_COM_CPMS_Identification!C424=\"\",\"\",CEM_COM_CPMS_Identification!C424)","v":""},"",{"$f":"IF(COUNTIF(B$2:B402,B402)=1,B402,\"\")","v":""},null,null,null,null,null,null,null,null,null,null,null,null,null,null,{"$f":"+IF(W402=\"\",\"\",MAX(S$1:S401)+1)","v":""},{"$f":"IF(Limits_Details!$B424=\"\",\"\",Limits_Details!$B424)","v":""},{"$f":"IF(Limits_Details!$C424=\"\",\"\",Limits_Details!$C424)","v":""},"",{"$f":"IF(COUNTIF(V$2:V402,V402)=1,V402,\"\")","v":""},"","",null,null,null,{"$f":"+IF(AH402=\"\",\"\",MAX(AC$1:AC401)+1)","v":""},{"$f":"IF(Limits_Details!$B424=\"\",\"\",Limits_Details!$B424)","v":""},{"$f":"IF(Limits_Details!$C424=\"\",\"\",Limits_Details!$C424)","v":""},{"$f":"IF(Limits_Details!$D424=\"\",\"\",Limits_Details!$D424)","v":""},"",{"$f":"IF(COUNTIF(AG$2:AG402,AG402)=1,AG402,\"\")","v":""},"","","",null,{"$f":"+IF(AR402=\"\",\"\",MAX(AM$1:AM401)+1)","v":""},{"$f":"IF(CEM_COM_CPMS_Detail!$B424=\"\",\"\",CEM_COM_CPMS_Detail!$B424)","v":""},{"$f":"IF(CEM_COM_CPMS_Detail!$C424=\"\",\"\",CEM_COM_CPMS_Detail!$C424)","v":""},{"$f":"IF(CEM_COM_CPMS_Detail!$D424=\"\",\"\",CEM_COM_CPMS_Detail!$D424)","v":""},"",{"$f":"IF(COUNTIF(AQ$2:AQ402,AQ402)=1,AQ402,\"\")","v":""},"","",""]
[{"$f":"+IF(D403=\"\",\"\",MAX(A$1:A402)+1)","v":""},{"$f":"IF(CEM_COM_CPMS_Identification!C425=\"\",\"\",CEM_COM_CPMS_Identification!C425)","v":""},"",{"$f":"IF(COUNTIF(B$2:B403,B403)=1,B403,\"\")","v":""},null,null,null,null,null,null,null,null,null,null,null,null,null,null,{"$f":"+IF(W403=\"\",\"\",MAX(S$1:S402)+1)","v":""},{"$f":"IF(Limits_Details!$B425=\"\",\"\",Limits_Details!$B425)","v":""},{"$f":"IF(Limits_Details!$C425=\"\",\"\",Limits_Details!$C425)","v":""},"",{"$f":"IF(COUNTIF(V$2:V403,V403)=1,V403,\"\")","v":""},"","",null,null,null,{"$f":"+IF(AH403=\"\",\"\",MAX(AC$1:AC402)+1)","v":""},{"$f":"IF(Limits_Details!$B425=\"\",\"\",Limits_Details!$B425)","v":""},{"$f":"IF(Limits_Details!$C425=\"\",\"\",Limits_Details!$C425)","v":""},{"$f":"IF(Limits_Details!$D425=\"\",\"\",Limits_Details!$D425)","v":""},"",{"$f":"IF(COUNTIF(AG$2:AG403,AG403)=1,AG403,\"\")","v":""},"","","",null,{"$f":"+IF(AR403=\"\",\"\",MAX(AM$1:AM402)+1)","v":""},{"$f":"IF(CEM_COM_CPMS_Detail!$B425=\"\",\"\",CEM_COM_CPMS_Detail!$B425)","v":""},{"$f":"IF(CEM_COM_CPMS_Detail!$C425=\"\",\"\",CEM_COM_CPMS_Detail!$C425)","v":""},{"$f":"IF(CEM_COM_CPMS_Detail!$D425=\"\",\"\",CEM_COM_CPMS_Detail!$D425)","v":""},"",{"$f":"IF(COUNTIF(AQ$2:AQ403,AQ403)=1,AQ403,\"\")","v":""},"","",""]
[{"$f":"+IF(D404=\"\",\"\",MAX(A$1:A403)+1)","v":""},{"$f":"IF(CEM_COM_CPMS_Identification!C426=\"\",\"\",CEM_COM_CPMS_Identification!C426)","v":""},"",{"$f":"IF(COUNTIF(B$2:B404,B404)=1,B404,\"\")","v":""},null,null,null,null,null,null,null,null,null,null,null,null,null,null,{"$f":"+IF(W404=\"\",\"\",MAX(S$1:S403)+1)","v":""},{"$f":"IF(Limits_Details!$B426=\"\",\"\",Limits_Details!$B426)","v":""},{"$f":"IF(Limits_Details!$C426=\"\",\"\",Limits_Details!$C426)","v":""},"",{"$f":"IF(COUNTIF(V$2:V404,V404)=1,V404,\"\")","v":""},"","",null,null,null,{"$f":"+IF(AH404=\"\",\"\",MAX(AC$1:AC403)+1)","v":""},{"$f":"IF(Limits_Details!$B426=\"\",\"\",Limits_Details!$B426)","v":""},{"$f":"IF(Limits_Details!$C426=\"\",\"\",Limits_Details!$C426)","v":""},{"$f":"IF(Limits_Details!$D426=\"\",\"\",Limits_Details!$D426)","v":""},"",{"$f":"IF(COUNTIF(AG$2:AG404,AG404)=1,AG404,\"\")","v":""},"","","",null,{"$f":"+IF(AR404=\"\",\"\",MAX(AM$1:AM403)+1)","v":""},{"$f":"IF(CEM_COM_CPMS_Detail!$B426=\"\",\"\",CEM_COM_CPMS_Detail!$B426)","v":""},{"$f":"IF(CEM_COM_CPMS_Detail!$C426=\"\",\"\",CEM_COM_CPMS_Detail!$C426)","v":""},{"$f":"IF(CEM_COM_CPMS_Detail!$D426=\"\",\"\",CEM_COM_CPMS_Detail!$D426)","v":""},"",{"$f":"IF(COUNTIF(AQ$2:AQ404,AQ404)=1,AQ404,\"\")","v":""},"","",""]
[{"$f":"+IF(D405=\"\",\"\",MAX(A$1:A404)+1)","v":""},{"$f":"IF(CEM_COM_CPMS_Identification!C427=\"\",\"\",CEM_COM_CPMS_Identification!C427)","v":""},"",{"$f":"IF(COUNTIF(B$2:B405,B405)=1,B405,\"\")","v":""},null,null,null,null,null,null,null,null,null,null,null,null,null,null,{"$f":"+IF(W405=\"\",\"\",MAX(S$1:S404)+1)","v":""},{"$f":"IF(Limits_Details!$B427=\"\",\"\",Limits_Details!$B427)","v":""},{"$f":"IF(Limits_Details!$C427=\"\",\"\",Limits_Details!$C427)","v":""},"",{"$f":"IF(COUNTIF(V$2:V405,V405)=1,V405,\"\")","v":""},"","",null,null,null,{"$f":"+IF(AH405=\"\",\"\",MAX(AC$1:AC404)+1)","v":""},{"$f":"IF(Limits_Details!$B427=\"\",\"\",Limits_Details!$B427)","v":""},{"$f":"IF(Limits_Details!$C427=\"\",\"\",Limits_Details!$C427)","v":""},{"$f":"IF(Limits_Details!$D427=\"\",\"\",Limits_Details!$D427)","v":""},"",{"$f":"IF(COUNTIF(AG$2:AG405,AG405)=1,AG405,\"\")","v":""},"","","",null,{"$f":"+IF(AR405=\"\",\"\",MAX(AM$1:AM404)+1)","v":""},{"$f":"IF(CEM_COM_CPMS_Detail!$B427=\"\",\"\",CEM_COM_CPMS_Detail!$B427)","v":""},{"$f":"IF(CEM_COM_CPMS_Detail!$C427=\"\",\"\",CEM_COM_CPMS_Detail!$C427)","v":""},{"$f":"IF(CEM_COM_CPMS_Detail!$D427=\"\",\"\",CEM_COM_CPMS_Detail!$D427)","v":""},"",{"$f":"IF(COUNTIF(AQ$2:AQ405,AQ405)=1,AQ405,\"\")","v":""},"","",""]
[{"$f":"+IF(D406=\"\",\"\",MAX(A$1:A405)+1)","v":""},{"$f":"IF(CEM_COM_CPMS_Identification!C428=\"\",\"\",CEM_COM_CPMS_Identification!C428)","v":""},"",{"$f":"IF(COUNTIF(B$2:B406,B406)=1,B406,\"\")","v":""},null,null,null,null,null,null,null,null,null,null,null,null,null,null,{"$f":"+IF(W406=\"\",\"\",MAX(S$1:S405)+1)","v":""},{"$f":"IF(Limits_Details!$B428=\"\",\"\",Limits_Details!$B428)","v":""},{"$f":"IF(Limits_Details!$C428=\"\",\"\",Limits_Details!$C428)","v":""},"",{"$f":"IF(COUNTIF(V$2:V406,V406)=1,V406,\"\")","v":""},"","",null,null,null,{"$f":"+IF(AH406=\"\",\"\",MAX(AC$1:AC405)+1)","v":""},{"$f":"IF(Limits_Details!$B428=\"\",\"\",Limits_Details!$B428)","v":""},{"$f":"IF(Limits_Details!$C428=\"\",\"\",Limits_Details!$C428)","v":""},{"$f":"IF(Limits_Details!$D428=\"\",\"\",Limits_Details!$D428)","v":""},"",{"$f":"IF(COUNTIF(AG$2:AG406,AG406)=1,AG406,\"\")","v":""},"","","",null,{"$f":"+IF(AR406=\"\",\"\",MAX(AM$1:AM405)+1)","v":""},{"$f":"IF(CEM_COM_CPMS_Detail!$B428=\"\",\"\",CEM_COM_CPMS_Detail!$B428)","v":""},{"$f":"IF(CEM_COM_CPMS_Detail!$C428=\"\",\"\",CEM_COM_CPMS_Detail!$C428)","v":""},{"$f":"IF(CEM_COM_CPMS_Detail!$D428=\"\",\"\",CEM_COM_CPMS_Detail!$D428)","v":""},"",{"$f":"IF(COUNTIF(AQ$2:AQ406,AQ406)=1,AQ406,\"\")","v":""},"","",""]
[{"$f":"+IF(D407=\"\",\"\",MAX(A$1:A406)+1)","v":""},{"$f":"IF(CEM_COM_CPMS_Identification!C429=\"\",\"\",CEM_COM_CPMS_Identification!C429)","v":""},"",{"$f":"IF(COUNTIF(B$2:B407,B407)=1,B407,\"\")","v":""},null,null,null,null,null,null,null,null,null,null,null,null,null,null,{"$f":"+IF(W407=\"\",\"\",MAX(S$1:S406)+1)","v":""},{"$f":"IF(Limits_Details!$B429=\"\",\"\",Limits_Details!$B429)","v":""},{"$f":"IF(Limits_Details!$C429=\"\",\"\",Limits_Details!$C429)","v":""},"",{"$f":"IF(COUNTIF(V$2:V407,V407)=1,V407,\"\")","v":""},"","",null,null,null,{"$f":"+IF(AH407=\"\",\"\",MAX(AC$1:AC406)+1)","v":""},{"$f":"IF(Limits_Details!$B429=\"\",\"\",Limits_Details!$B429)","v":""},{"$f":"IF(Limits_Details!$C429=\"\",\"\",Limits_Details!$C429)","v":""},{"$f":"IF(Limits_Details!$D429=\"\",\"\",Limits_Details!$D429)","v":""},"",{"$f":"IF(COUNTIF(AG$2:AG407,AG407)=1,AG407,\"\")","v":""},"","","",null,{"$f":"+IF(AR407=\"\",\"\",MAX(AM$1:AM406)+1)","v":""},{"$f":"IF(CEM_COM_CPMS_Detail!$B429=\"\",\"\",CEM_COM_CPMS_Detail!$B429)","v":""},{"$f":"IF(CEM_COM_CPMS_Detail!$C429=\"\",\"\",CEM_COM_CPMS_Detail!$C429)","v":""},{"$f":"IF(CEM_COM_CPMS_Detail!$D429=\"\",\"\",CEM_COM_CPMS_Detail!$D429)","v":""},"",{"$f":"IF(COUNTIF(AQ$2:AQ407,AQ407)=1,AQ407,\"\")","v":""},"","",""]
[{"$f":"+IF(D408=\"\",\"\",MAX(A$1:A407)+1)","v":""},{"$f":"IF(CEM_COM_CPMS_Identification!C430=\"\",\"\",CEM_COM_CPMS_Identification!C430)","v":""},"",{"$f":"IF(COUNTIF(B$2:B408,B408)=1,B408,\"\")","v":""},null,null,null,null,null,null,null,null,null,null,null,null,null,null,{"$f":"+IF(W408=\"\",\"\",MAX(S$1:S407)+1)","v":""},{"$f":"IF(Limits_Details!$B430=\"\",\"\",Limits_Details!$B430)","v":""},{"$f":"IF(Limits_Details!$C430=\"\",\"\",Limits_Details!$C430)","v":""},"",{"$f":"IF(COUNTIF(V$2:V408,V408)=1,V408,\"\")","v":""},"","",null,null,null,{"$f":"+IF(AH408=\"\",\"\",MAX(AC$1:AC407)+1)","v":""},{"$f":"IF(Limits_Details!$B430=\"\",\"\",Limits_Details!$B430)","v":""},{"$f":"IF(Limits_Details!$C430=\"\",\"\",Limits_Details!$C430)","v":""},{"$f":"IF(Limits_Details!$D430=\"\",\"\",Limits_Details!$D430)","v":""},"",{"$f":"IF(COUNTIF(AG$2:AG408,AG408)=1,AG408,\"\")","v":""},"","","",null,{"$f":"+IF(AR408=\"\",\"\",MAX(AM$1:AM407)+1)","v":""},{"$f":"IF(CEM_COM_CPMS_Detail!$B430=\"\",\"\",CEM_COM_CPMS_Detail!$B430)","v":""},{"$f":"IF(CEM_COM_CPMS_Detail!$C430=\"\",\"\",CEM_COM_CPMS_Detail!$C430)","v":""},{"$f":"IF(CEM_COM_CPMS_Detail!$D430=\"\",\"\",CEM_COM_CPMS_Detail!$D430)","v":""},"",{"$f":"IF(COUNTIF(AQ$2:AQ408,AQ408)=1,AQ408,\"\")","v":""},"","",""]
[{"$f":"+IF(D409=\"\",\"\",MAX(A$1:A408)+1)","v":""},{"$f":"IF(CEM_COM_CPMS_Identification!C431=\"\",\"\",CEM_COM_CPMS_Identification!C431)","v":""},"",{"$f":"IF(COUNTIF(B$2:B409,B409)=1,B409,\"\")","v":""},null,null,null,null,null,null,null,null,null,null,null,null,null,null,{"$f":"+IF(W409=\"\",\"\",MAX(S$1:S408)+1)","v":""},{"$f":"IF(Limits_Details!$B431=\"\",\"\",Limits_Details!$B431)","v":""},{"$f":"IF(Limits_Details!$C431=\"\",\"\",Limits_Details!$C431)","v":""},"",{"$f":"IF(COUNTIF(V$2:V409,V409)=1,V409,\"\")","v":""},"","",null,null,null,{"$f":"+IF(AH409=\"\",\"\",MAX(AC$1:AC408)+1)","v":""},{"$f":"IF(Limits_Details!$B431=\"\",\"\",Limits_Details!$B431)","v":""},{"$f":"IF(Limits_Details!$C431=\"\",\"\",Limits_Details!$C431)","v":""},{"$f":"IF(Limits_Details!$D431=\"\",\"\",Limits_Details!$D431)","v":""},"",{"$f":"IF(COUNTIF(AG$2:AG409,AG409)=1,AG409,\"\")","v":""},"","","",null,{"$f":"+IF(AR409=\"\",\"\",MAX(AM$1:AM408)+1)","v":""},{"$f":"IF(CEM_COM_CPMS_Detail!$B431=\"\",\"\",CEM_COM_CPMS_Detail!$B431)","v":""},{"$f":"IF(CEM_COM_CPMS_Detail!$C431=\"\",\"\",CEM_COM_CPMS_Detail!$C431)","v":""},{"$f":"IF(CEM_COM_CPMS_Detail!$D431=\"\",\"\",CEM_COM_CPMS_Detail!$D431)","v":""},"",{"$f":"IF(COUNTIF(AQ$2:AQ409,AQ409)=1,AQ409,\"\")","v":""},"","",""]
[{"$f":"+IF(D410=\"\",\"\",MAX(A$1:A409)+1)","v":""},{"$f":"IF(CEM_COM_CPMS_Identification!C432=\"\",\"\",CEM_COM_CPMS_Identification!C432)","v":""},"",{"$f":"IF(COUNTIF(B$2:B410,B410)=1,B410,\"\")","v":""},null,null,null,null,null,null,null,null,null,null,null,null,null,null,{"$f":"+IF(W410=\"\",\"\",MAX(S$1:S409)+1)","v":""},{"$f":"IF(Limits_Details!$B432=\"\",\"\",Limits_Details!$B432)","v":""},{"$f":"IF(Limits_Details!$C432=\"\",\"\",Limits_Details!$C432)","v":""},"",{"$f":"IF(COUNTIF(V$2:V410,V410)=1,V410,\"\")","v":""},"","",null,null,null,{"$f":"+IF(AH410=\"\",\"\",MAX(AC$1:AC409)+1)","v":""},{"$f":"IF(Limits_Details!$B432=\"\",\"\",Limits_Details!$B432)","v":""},{"$f":"IF(Limits_Details!$C432=\"\",\"\",Limits_Details!$C432)","v":""},{"$f":"IF(Limits_Details!$D432=\"\",\"\",Limits_Details!$D432)","v":""},"",{"$f":"IF(COUNTIF(AG$2:AG410,AG410)=1,AG410,\"\")","v":""},"","","",null,{"$f":"+IF(AR410=\"\",\"\",MAX(AM$1:AM409)+1)","v":""},{"$f":"IF(CEM_COM_CPMS_Detail!$B432=\"\",\"\",CEM_COM_CPMS_Detail!$B432)","v":""},{"$f":"IF(CEM_COM_CPMS_Detail!$C432=\"\",\"\",CEM_COM_CPMS_Detail!$C432)","v":""},{"$f":"IF(CEM_COM_CPMS_Detail!$D432=\"\",\"\",CEM_COM_CPMS_Detail!$D432)","v":""},"",{"$f":"IF(COUNTIF(AQ$2:AQ410,AQ410)=1,AQ410,\"\")","v":""},"","",""]
[{"$f":"+IF(D411=\"\",\"\",MAX(A$1:A410)+1)","v":""},{"$f":"IF(CEM_COM_CPMS_Identification!C433=\"\",\"\",CEM_COM_CPMS_Identification!C433)","v":""},"",{"$f":"IF(COUNTIF(B$2:B411,B411)=1,B411,\"\")","v":""},null,null,null,null,null,null,null,null,null,null,null,null,null,null,{"$f":"+IF(W411=\"\",\"\",MAX(S$1:S410)+1)","v":""},{"$f":"IF(Limits_Details!$B433=\"\",\"\",Limits_Details!$B433)","v":""},{"$f":"IF(Limits_Details!$C433=\"\",\"\",Limits_Details!$C433)","v":""},"",{"$f":"IF(COUNTIF(V$2:V411,V411)=1,V411,\"\")","v":""},"","",null,null,null,{"$f":"+IF(AH411=\"\",\"\",MAX(AC$1:AC410)+1)","v":""},{"$f":"IF(Limits_Details!$B433=\"\",\"\",Limits_Details!$B433)","v":""},{"$f":"IF(Limits_Details!$C433=\"\",\"\",Limits_Details!$C433)","v":""},{"$f":"IF(Limits_Details!$D433=\"\",\"\",Limits_Details!$D433)","v":""},"",{"$f":"IF(COUNTIF(AG$2:AG411,AG411)=1,AG411,\"\")","v":""},"","","",null,{"$f":"+IF(AR411=\"\",\"\",MAX(AM$1:AM410)+1)","v":""},{"$f":"IF(CEM_COM_CPMS_Detail!$B433=\"\",\"\",CEM_COM_CPMS_Detail!$B433)","v":""},{"$f":"IF(CEM_COM_CPMS_Detail!$C433=\"\",\"\",CEM_COM_CPMS_Detail!$C433)","v":""},{"$f":"IF(CEM_COM_CPMS_Detail!$D433=\"\",\"\",CEM_COM_CPMS_Detail!$D433)","v":""},"",{"$f":"IF(COUNTIF(AQ$2:AQ411,AQ411)=1,AQ411,\"\")","v":""},"","",""]
[{"$f":"+IF(D412=\"\",\"\",MAX(A$1:A411)+1)","v":""},{"$f":"IF(CEM_COM_CPMS_Identification!C434=\"\",\"\",CEM_COM_CPMS_Identification!C434)","v":""},"",{"$f":"IF(COUNTIF(B$2:B412,B412)=1,B412,\"\")","v":""},null,null,null,null,null,null,null,null,null,null,null,null,null,null,{"$f":"+IF(W412=\"\",\"\",MAX(S$1:S411)+1)","v":""},{"$f":"IF(Limits_Details!$B434=\"\",\"\",Limits_Details!$B434)","v":""},{"$f":"IF(Limits_Details!$C434=\"\",\"\",Limits_Details!$C434)","v":""},"",{"$f":"IF(COUNTIF(V$2:V412,V412)=1,V412,\"\")","v":""},"","",null,null,null,{"$f":"+IF(AH412=\"\",\"\",MAX(AC$1:AC411)+1)","v":""},{"$f":"IF(Limits_Details!$B434=\"\",\"\",Limits_Details!$B434)","v":""},{"$f":"IF(Limits_Details!$C434=\"\",\"\",Limits_Details!$C434)","v":""},{"$f":"IF(Limits_Details!$D434=\"\",\"\",Limits_Details!$D434)","v":""},"",{"$f":"IF(COUNTIF(AG$2:AG412,AG412)=1,AG412,\"\")","v":""},"","","",null,{"$f":"+IF(AR412=\"\",\"\",MAX(AM$1:AM411)+1)","v":""},{"$f":"IF(CEM_COM_CPMS_Detail!$B434=\"\",\"\",CEM_COM_CPMS_Detail!$B434)","v":""},{"$f":"IF(CEM_COM_CPMS_Detail!$C434=\"\",\"\",CEM_COM_CPMS_Detail!$C434)","v":""},{"$f":"IF(CEM_COM_CPMS_Detail!$D434=\"\",\"\",CEM_COM_CPMS_Detail!$D434)","v":""},"",{"$f":"IF(COUNTIF(AQ$2:AQ412,AQ412)=1,AQ412,\"\")","v":""},"","",""]
[{"$f":"+IF(D413=\"\",\"\",MAX(A$1:A412)+1)","v":""},{"$f":"IF(CEM_COM_CPMS_Identification!C435=\"\",\"\",CEM_COM_CPMS_Identification!C435)","v":""},"",{"$f":"IF(COUNTIF(B$2:B413,B413)=1,B413,\"\")","v":""},null,null,null,null,null,null,null,null,null,null,null,null,null,null,{"$f":"+IF(W413=\"\",\"\",MAX(S$1:S412)+1)","v":""},{"$f":"IF(Limits_Details!$B435=\"\",\"\",Limits_Details!$B435)","v":""},{"$f":"IF(Limits_Details!$C435=\"\",\"\",Limits_Details!$C435)","v":""},"",{"$f":"IF(COUNTIF(V$2:V413,V413)=1,V413,\"\")","v":""},"","",null,null,null,{"$f":"+IF(AH413=\"\",\"\",MAX(AC$1:AC412)+1)","v":""},{"$f":"IF(Limits_Details!$B435=\"\",\"\",Limits_Details!$B435)","v":""},{"$f":"IF(Limits_Details!$C435=\"\",\"\",Limits_Details!$C435)","v":""},{"$f":"IF(Limits_Details!$D435=\"\",\"\",Limits_Details!$D435)","v":""},"",{"$f":"IF(COUNTIF(AG$2:AG413,AG413)=1,AG413,\"\")","v":""},"","","",null,{"$f":"+IF(AR413=\"\",\"\",MAX(AM$1:AM412)+1)","v":""},{"$f":"IF(CEM_COM_CPMS_Detail!$B435=\"\",\"\",CEM_COM_CPMS_Detail!$B435)","v":""},{"$f":"IF(CEM_COM_CPMS_Detail!$C435=\"\",\"\",CEM_COM_CPMS_Detail!$C435)","v":""},{"$f":"IF(CEM_COM_CPMS_Detail!$D435=\"\",\"\",CEM_COM_CPMS_Detail!$D435)","v":""},"",{"$f":"IF(COUNTIF(AQ$2:AQ413,AQ413)=1,AQ413,\"\")","v":""},"","",""]
[{"$f":"+IF(D414=\"\",\"\",MAX(A$1:A413)+1)","v":""},{"$f":"IF(CEM_COM_CPMS_Identification!C436=\"\",\"\",CEM_COM_CPMS_Identification!C436)","v":""},"",{"$f":"IF(COUNTIF(B$2:B414,B414)=1,B414,\"\")","v":""},null,null,null,null,null,null,null,null,null,null,null,null,null,null,{"$f":"+IF(W414=\"\",\"\",MAX(S$1:S413)+1)","v":""},{"$f":"IF(Limits_Details!$B436=\"\",\"\",Limits_Details!$B436)","v":""},{"$f":"IF(Limits_Details!$C436=\"\",\"\",Limits_Details!$C436)","v":""},"",{"$f":"IF(COUNTIF(V$2:V414,V414)=1,V414,\"\")","v":""},"","",null,null,null,{"$f":"+IF(AH414=\"\",\"\",MAX(AC$1:AC413)+1)","v":""},{"$f":"IF(Limits_Details!$B436=\"\",\"\",Limits_Details!$B436)","v":""},{"$f":"IF(Limits_Details!$C436=\"\",\"\",Limits_Details!$C436)","v":""},{"$f":"IF(Limits_Details!$D436=\"\",\"\",Limits_Details!$D436)","v":""},"",{"$f":"IF(COUNTIF(AG$2:AG414,AG414)=1,AG414,\"\")","v":""},"","","",null,{"$f":"+IF(AR414=\"\",\"\",MAX(AM$1:AM413)+1)","v":""},{"$f":"IF(CEM_COM_CPMS_Detail!$B436=\"\",\"\",CEM_COM_CPMS_Detail!$B436)","v":""},{"$f":"IF(CEM_COM_CPMS_Detail!$C436=\"\",\"\",CEM_COM_CPMS_Detail!$C436)","v":""},{"$f":"IF(CEM_COM_CPMS_Detail!$D436=\"\",\"\",CEM_COM_CPMS_Detail!$D436)","v":""},"",{"$f":"IF(COUNTIF(AQ$2:AQ414,AQ414)=1,AQ414,\"\")","v":""},"","",""]
[{"$f":"+IF(D415=\"\",\"\",MAX(A$1:A414)+1)","v":""},{"$f":"IF(CEM_COM_CPMS_Identification!C437=\"\",\"\",CEM_COM_CPMS_Identification!C437)","v":""},"",{"$f":"IF(COUNTIF(B$2:B415,B415)=1,B415,\"\")","v":""},null,null,null,null,null,null,null,null,null,null,null,null,null,null,{"$f":"+IF(W415=\"\",\"\",MAX(S$1:S414)+1)","v":""},{"$f":"IF(Limits_Details!$B437=\"\",\"\",Limits_Details!$B437)","v":""},{"$f":"IF(Limits_Details!$C437=\"\",\"\",Limits_Details!$C437)","v":""},"",{"$f":"IF(COUNTIF(V$2:V415,V415)=1,V415,\"\")","v":""},"","",null,null,null,{"$f":"+IF(AH415=\"\",\"\",MAX(AC$1:AC414)+1)","v":""},{"$f":"IF(Limits_Details!$B437=\"\",\"\",Limits_Details!$B437)","v":""},{"$f":"IF(Limits_Details!$C437=\"\",\"\",Limits_Details!$C437)","v":""},{"$f":"IF(Limits_Details!$D437=\"\",\"\",Limits_Details!$D437)","v":""},"",{"$f":"IF(COUNTIF(AG$2:AG415,AG415)=1,AG415,\"\")","v":""},"","","",null,{"$f":"+IF(AR415=\"\",\"\",MAX(AM$1:AM414)+1)","v":""},{"$f":"IF(CEM_COM_CPMS_Detail!$B437=\"\",\"\",CEM_COM_CPMS_Detail!$B437)","v":""},{"$f":"IF(CEM_COM_CPMS_Detail!$C437=\"\",\"\",CEM_COM_CPMS_Detail!$C437)","v":""},{"$f":"IF(CEM_COM_CPMS_Detail!$D437=\"\",\"\",CEM_COM_CPMS_Detail!$D437)","v":""},"",{"$f":"IF(COUNTIF(AQ$2:AQ415,AQ415)=1,AQ415,\"\")","v":""},"","",""]
[{"$f":"+IF(D416=\"\",\"\",MAX(A$1:A415)+1)","v":""},{"$f":"IF(CEM_COM_CPMS_Identification!C438=\"\",\"\",CEM_COM_CPMS_Identification!C438)","v":""},"",{"$f":"IF(COUNTIF(B$2:B416,B416)=1,B416,\"\")","v":""},null,null,null,null,null,null,null,null,null,null,null,null,null,null,{"$f":"+IF(W416=\"\",\"\",MAX(S$1:S415)+1)","v":""},{"$f":"IF(Limits_Details!$B438=\"\",\"\",Limits_Details!$B438)","v":""},{"$f":"IF(Limits_Details!$C438=\"\",\"\",Limits_Details!$C438)","v":""},"",{"$f":"IF(COUNTIF(V$2:V416,V416)=1,V416,\"\")","v":""},"","",null,null,null,{"$f":"+IF(AH416=\"\",\"\",MAX(AC$1:AC415)+1)","v":""},{"$f":"IF(Limits_Details!$B438=\"\",\"\",Limits_Details!$B438)","v":""},{"$f":"IF(Limits_Details!$C438=\"\",\"\",Limits_Details!$C438)","v":""},{"$f":"IF(Limits_Details!$D438=\"\",\"\",Limits_Details!$D438)","v":""},"",{"$f":"IF(COUNTIF(AG$2:AG416,AG416)=1,AG416,\"\")","v":""},"","","",null,{"$f":"+IF(AR416=\"\",\"\",MAX(AM$1:AM415)+1)","v":""},{"$f":"IF(CEM_COM_CPMS_Detail!$B438=\"\",\"\",CEM_COM_CPMS_Detail!$B438)","v":""},{"$f":"IF(CEM_COM_CPMS_Detail!$C438=\"\",\"\",CEM_COM_CPMS_Detail!$C438)","v":""},{"$f":"IF(CEM_COM_CPMS_Detail!$D438=\"\",\"\",CEM_COM_CPMS_Detail!$D438)","v":""},"",{"$f":"IF(COUNTIF(AQ$2:AQ416,AQ416)=1,AQ416,\"\")","v":""},"","",""]
[{"$f":"+IF(D417=\"\",\"\",MAX(A$1:A416)+1)","v":""},{"$f":"IF(CEM_COM_CPMS_Identification!C439=\"\",\"\",CEM_COM_CPMS_Identification!C439)","v":""},"",{"$f":"IF(COUNTIF(B$2:B417,B417)=1,B417,\"\")","v":""},null,null,null,null,null,null,null,null,null,null,null,null,null,null,{"$f":"+IF(W417=\"\",\"\",MAX(S$1:S416)+1)","v":""},{"$f":"IF(Limits_Details!$B439=\"\",\"\",Limits_Details!$B439)","v":""},{"$f":"IF(Limits_Details!$C439=\"\",\"\",Limits_Details!$C439)","v":""},"",{"$f":"IF(COUNTIF(V$2:V417,V417)=1,V417,\"\")","v":""},"","",null,null,null,{"$f":"+IF(AH417=\"\",\"\",MAX(AC$1:AC416)+1)","v":""},{"$f":"IF(Limits_Details!$B439=\"\",\"\",Limits_Details!$B439)","v":""},{"$f":"IF(Limits_Details!$C439=\"\",\"\",Limits_Details!$C439)","v":""},{"$f":"IF(Limits_Details!$D439=\"\",\"\",Limits_Details!$D439)","v":""},"",{"$f":"IF(COUNTIF(AG$2:AG417,AG417)=1,AG417,\"\")","v":""},"","","",null,{"$f":"+IF(AR417=\"\",\"\",MAX(AM$1:AM416)+1)","v":""},{"$f":"IF(CEM_COM_CPMS_Detail!$B439=\"\",\"\",CEM_COM_CPMS_Detail!$B439)","v":""},{"$f":"IF(CEM_COM_CPMS_Detail!$C439=\"\",\"\",CEM_COM_CPMS_Detail!$C439)","v":""},{"$f":"IF(CEM_COM_CPMS_Detail!$D439=\"\",\"\",CEM_COM_CPMS_Detail!$D439)","v":""},"",{"$f":"IF(COUNTIF(AQ$2:AQ417,AQ417)=1,AQ417,\"\")","v":""},"","",""]
[{"$f":"+IF(D418=\"\",\"\",MAX(A$1:A417)+1)","v":""},{"$f":"IF(CEM_COM_CPMS_Identification!C440=\"\",\"\",CEM_COM_CPMS_Identification!C440)","v":""},"",{"$f":"IF(COUNTIF(B$2:B418,B418)=1,B418,\"\")","v":""},null,null,null,null,null,null,null,null,null,null,null,null,null,null,{"$f":"+IF(W418=\"\",\"\",MAX(S$1:S417)+1)","v":""},{"$f":"IF(Limits_Details!$B440=\"\",\"\",Limits_Details!$B440)","v":""},{"$f":"IF(Limits_Details!$C440=\"\",\"\",Limits_Details!$C440)","v":""},"",{"$f":"IF(COUNTIF(V$2:V418,V418)=1,V418,\"\")","v":""},"","",null,null,null,{"$f":"+IF(AH418=\"\",\"\",MAX(AC$1:AC417)+1)","v":""},{"$f":"IF(Limits_Details!$B440=\"\",\"\",Limits_Details!$B440)","v":""},{"$f":"IF(Limits_Details!$C440=\"\",\"\",Limits_Details!$C440)","v":""},{"$f":"IF(Limits_Details!$D440=\"\",\"\",Limits_Details!$D440)","v":""},"",{"$f":"IF(COUNTIF(AG$2:AG418,AG418)=1,AG418,\"\")","v":""},"","","",null,{"$f":"+IF(AR418=\"\",\"\",MAX(AM$1:AM417)+1)","v":""},{"$f":"IF(CEM_COM_CPMS_Detail!$B440=\"\",\"\",CEM_COM_CPMS_Detail!$B440)","v":""},{"$f":"IF(CEM_COM_CPMS_Detail!$C440=\"\",\"\",CEM_COM_CPMS_Detail!$C440)","v":""},{"$f":"IF(CEM_COM_CPMS_Detail!$D440=\"\",\"\",CEM_COM_CPMS_Detail!$D440)","v":""},"",{"$f":"IF(COUNTIF(AQ$2:AQ418,AQ418)=1,AQ418,\"\")","v":""},"","",""]
[{"$f":"+IF(D419=\"\",\"\",MAX(A$1:A418)+1)","v":""},{"$f":"IF(CEM_COM_CPMS_Identification!C441=\"\",\"\",CEM_COM_CPMS_Identification!C441)","v":""},"",{"$f":"IF(COUNTIF(B$2:B419,B419)=1,B419,\"\")","v":""},null,null,null,null,null,null,null,null,null,null,null,null,null,null,{"$f":"+IF(W419=\"\",\"\",MAX(S$1:S418)+1)","v":""},{"$f":"IF(Limits_Details!$B441=\"\",\"\",Limits_Details!$B441)","v":""},{"$f":"IF(Limits_Details!$C441=\"\",\"\",Limits_Details!$C441)","v":""},"",{"$f":"IF(COUNTIF(V$2:V419,V419)=1,V419,\"\")","v":""},"","",null,null,null,{"$f":"+IF(AH419=\"\",\"\",MAX(AC$1:AC418)+1)","v":""},{"$f":"IF(Limits_Details!$B441=\"\",\"\",Limits_Details!$B441)","v":""},{"$f":"IF(Limits_Details!$C441=\"\",\"\",Limits_Details!$C441)","v":""},{"$f":"IF(Limits_Details!$D441=\"\",\"\",Limits_Details!$D441)","v":""},"",{"$f":"IF(COUNTIF(AG$2:AG419,AG419)=1,AG419,\"\")","v":""},"","","",null,{"$f":"+IF(AR419=\"\",\"\",MAX(AM$1:AM418)+1)","v":""},{"$f":"IF(CEM_COM_CPMS_Detail!$B441=\"\",\"\",CEM_COM_CPMS_Detail!$B441)","v":""},{"$f":"IF(CEM_COM_CPMS_Detail!$C441=\"\",\"\",CEM_COM_CPMS_Detail!$C441)","v":""},{"$f":"IF(CEM_COM_CPMS_Detail!$D441=\"\",\"\",CEM_COM_CPMS_Detail!$D441)","v":""},"",{"$f":"IF(COUNTIF(AQ$2:AQ419,AQ419)=1,AQ419,\"\")","v":""},"","",""]
[{"$f":"+IF(D420=\"\",\"\",MAX(A$1:A419)+1)","v":""},{"$f":"IF(CEM_COM_CPMS_Identification!C442=\"\",\"\",CEM_COM_CPMS_Identification!C442)","v":""},"",{"$f":"IF(COUNTIF(B$2:B420,B420)=1,B420,\"\")","v":""},null,null,null,null,null,null,null,null,null,null,null,null,null,null,{"$f":"+IF(W420=\"\",\"\",MAX(S$1:S419)+1)","v":""},{"$f":"IF(Limits_Details!$B442=\"\",\"\",Limits_Details!$B442)","v":""},{"$f":"IF(Limits_Details!$C442=\"\",\"\",Limits_Details!$C442)","v":""},"",{"$f":"IF(COUNTIF(V$2:V420,V420)=1,V420,\"\")","v":""},"","",null,null,null,{"$f":"+IF(AH420=\"\",\"\",MAX(AC$1:AC419)+1)","v":""},{"$f":"IF(Limits_Details!$B442=\"\",\"\",Limits_Details!$B442)","v":""},{"$f":"IF(Limits_Details!$C442=\"\",\"\",Limits_Details!$C442)","v":""},{"$f":"IF(Limits_Details!$D442=\"\",\"\",Limits_Details!$D442)","v":""},"",{"$f":"IF(COUNTIF(AG$2:AG420,AG420)=1,AG420,\"\")","v":""},"","","",null,{"$f":"+IF(AR420=\"\",\"\",MAX(AM$1:AM419)+1)","v":""},{"$f":"IF(CEM_COM_CPMS_Detail!$B442=\"\",\"\",CEM_COM_CPMS_Detail!$B442)","v":""},{"$f":"IF(CEM_COM_CPMS_Detail!$C442=\"\",\"\",CEM_COM_CPMS_Detail!$C442)","v":""},{"$f":"IF(CEM_COM_CPMS_Detail!$D442=\"\",\"\",CEM_COM_CPMS_Detail!$D442)","v":""},"",{"$f":"IF(COUNTIF(AQ$2:AQ420,AQ420)=1,AQ420,\"\")","v":""},"","",""]
[{"$f":"+IF(D421=\"\",\"\",MAX(A$1:A420)+1)","v":""},{"$f":"IF(CEM_COM_CPMS_Identification!C443=\"\",\"\",CEM_COM_CPMS_Identification!C443)","v":""},"",{"$f":"IF(COUNTIF(B$2:B421,B421)=1,B421,\"\")","v":""},null,null,null,null,null,null,null,null,null,null,null,null,null,null,{"$f":"+IF(W421=\"\",\"\",MAX(S$1:S420)+1)","v":""},{"$f":"IF(Limits_Details!$B443=\"\",\"\",Limits_Details!$B443)","v":""},{"$f":"IF(Limits_Details!$C443=\"\",\"\",Limits_Details!$C443)","v":""},"",{"$f":"IF(COUNTIF(V$2:V421,V421)=1,V421,\"\")","v":""},"","",null,null,null,{"$f":"+IF(AH421=\"\",\"\",MAX(AC$1:AC420)+1)","v":""},{"$f":"IF(Limits_Details!$B443=\"\",\"\",Limits_Details!$B443)","v":""},{"$f":"IF(Limits_Details!$C443=\"\",\"\",Limits_Details!$C443)","v":""},{"$f":"IF(Limits_Details!$D443=\"\",\"\",Limits_Details!$D443)","v":""},"",{"$f":"IF(COUNTIF(AG$2:AG421,AG421)=1,AG421,\"\")","v":""},"","","",null,{"$f":"+IF(AR421=\"\",\"\",MAX(AM$1:AM420)+1)","v":""},{"$f":"IF(CEM_COM_CPMS_Detail!$B443=\"\",\"\",CEM_COM_CPMS_Detail!$B443)","v":""},{"$f":"IF(CEM_COM_CPMS_Detail!$C443=\"\",\"\",CEM_COM_CPMS_Detail!$C443)","v":""},{"$f":"IF(CEM_COM_CPMS_Detail!$D443=\"\",\"\",CEM_COM_CPMS_Detail!$D443)","v":""},"",{"$f":"IF(COUNTIF(AQ$2:AQ421,AQ421)=1,AQ421,\"\")","v":""},"","",""]
[{"$f":"+IF(D422=\"\",\"\",MAX(A$1:A421)+1)","v":""},{"$f":"IF(CEM_COM_CPMS_Identification!C444=\"\",\"\",CEM_COM_CPMS_Identification!C444)","v":""},"",{"$f":"IF(COUNTIF(B$2:B422,B422)=1,B422,\"\")","v":""},null,null,null,null,null,null,null,null,null,null,null,null,null,null,{"$f":"+IF(W422=\"\",\"\",MAX(S$1:S421)+1)","v":""},{"$f":"IF(Limits_Details!$B444=\"\",\"\",Limits_Details!$B444)","v":""},{"$f":"IF(Limits_Details!$C444=\"\",\"\",Limits_Details!$C444)","v":""},"",{"$f":"IF(COUNTIF(V$2:V422,V422)=1,V422,\"\")","v":""},"","",null,null,null,{"$f":"+IF(AH422=\"\",\"\",MAX(AC$1:AC421)+1)","v":""},{"$f":"IF(Limits_Details!$B444=\"\",\"\",Limits_Details!$B444)","v":""},{"$f":"IF(Limits_Details!$C444=\"\",\"\",Limits_Details!$C444)","v":""},{"$f":"IF(Limits_Details!$D444=\"\",\"\",Limits_Details!$D444)","v":""},"",{"$f":"IF(COUNTIF(AG$2:AG422,AG422)=1,AG422,\"\")","v":""},"","","",null,{"$f":"+IF(AR422=\"\",\"\",MAX(AM$1:AM421)+1)","v":""},{"$f":"IF(CEM_COM_CPMS_Detail!$B444=\"\",\"\",CEM_COM_CPMS_Detail!$B444)","v":""},{"$f":"IF(CEM_COM_CPMS_Detail!$C444=\"\",\"\",CEM_COM_CPMS_Detail!$C444)","v":""},{"$f":"IF(CEM_COM_CPMS_Detail!$D444=\"\",\"\",CEM_COM_CPMS_Detail!$D444)","v":""},"",{"$f":"IF(COUNTIF(AQ$2:AQ422,AQ422)=1,AQ422,\"\")","v":""},"","",""]
[{"$f":"+IF(D423=\"\",\"\",MAX(A$1:A422)+1)","v":""},{"$f":"IF(CEM_COM_CPMS_Identification!C445=\"\",\"\",CEM_COM_CPMS_Identification!C445)","v":""},"",{"$f":"IF(COUNTIF(B$2:B423,B423)=1,B423,\"\")","v":""},null,null,null,null,null,null,null,null,null,null,null,null,null,null,{"$f":"+IF(W423=\"\",\"\",MAX(S$1:S422)+1)","v":""},{"$f":"IF(Limits_Details!$B445=\"\",\"\",Limits_Details!$B445)","v":""},{"$f":"IF(Limits_Details!$C445=\"\",\"\",Limits_Details!$C445)","v":""},"",{"$f":"IF(COUNTIF(V$2:V423,V423)=1,V423,\"\")","v":""},"","",null,null,null,{"$f":"+IF(AH423=\"\",\"\",MAX(AC$1:AC422)+1)","v":""},{"$f":"IF(Limits_Details!$B445=\"\",\"\",Limits_Details!$B445)","v":""},{"$f":"IF(Limits_Details!$C445=\"\",\"\",Limits_Details!$C445)","v":""},{"$f":"IF(Limits_Details!$D445=\"\",\"\",Limits_Details!$D445)","v":""},"",{"$f":"IF(COUNTIF(AG$2:AG423,AG423)=1,AG423,\"\")","v":""},"","","",null,{"$f":"+IF(AR423=\"\",\"\",MAX(AM$1:AM422)+1)","v":""},{"$f":"IF(CEM_COM_CPMS_Detail!$B445=\"\",\"\",CEM_COM_CPMS_Detail!$B445)","v":""},{"$f":"IF(CEM_COM_CPMS_Detail!$C445=\"\",\"\",CEM_COM_CPMS_Detail!$C445)","v":""},{"$f":"IF(CEM_COM_CPMS_Detail!$D445=\"\",\"\",CEM_COM_CPMS_Detail!$D445)","v":""},"",{"$f":"IF(COUNTIF(AQ$2:AQ423,AQ423)=1,AQ423,\"\")","v":""},"","",""]
[{"$f":"+IF(D424=\"\",\"\",MAX(A$1:A423)+1)","v":""},{"$f":"IF(CEM_COM_CPMS_Identification!C446=\"\",\"\",CEM_COM_CPMS_Identification!C446)","v":""},"",{"$f":"IF(COUNTIF(B$2:B424,B424)=1,B424,\"\")","v":""},null,null,null,null,null,null,null,null,null,null,null,null,null,null,{"$f":"+IF(W424=\"\",\"\",MAX(S$1:S423)+1)","v":""},{"$f":"IF(Limits_Details!$B446=\"\",\"\",Limits_Details!$B446)","v":""},{"$f":"IF(Limits_Details!$C446=\"\",\"\",Limits_Details!$C446)","v":""},"",{"$f":"IF(COUNTIF(V$2:V424,V424)=1,V424,\"\")","v":""},"","",null,null,null,{"$f":"+IF(AH424=\"\",\"\",MAX(AC$1:AC423)+1)","v":""},{"$f":"IF(Limits_Details!$B446=\"\",\"\",Limits_Details!$B446)","v":""},{"$f":"IF(Limits_Details!$C446=\"\",\"\",Limits_Details!$C446)","v":""},{"$f":"IF(Limits_Details!$D446=\"\",\"\",Limits_Details!$D446)","v":""},"",{"$f":"IF(COUNTIF(AG$2:AG424,AG424)=1,AG424,\"\")","v":""},"","","",null,{"$f":"+IF(AR424=\"\",\"\",MAX(AM$1:AM423)+1)","v":""},{"$f":"IF(CEM_COM_CPMS_Detail!$B446=\"\",\"\",CEM_COM_CPMS_Detail!$B446)","v":""},{"$f":"IF(CEM_COM_CPMS_Detail!$C446=\"\",\"\",CEM_COM_CPMS_Detail!$C446)","v":""},{"$f":"IF(CEM_COM_CPMS_Detail!$D446=\"\",\"\",CEM_COM_CPMS_Detail!$D446)","v":""},"",{"$f":"IF(COUNTIF(AQ$2:AQ424,AQ424)=1,AQ424,\"\")","v":""},"","",""]
[{"$f":"+IF(D425=\"\",\"\",MAX(A$1:A424)+1)","v":""},{"$f":"IF(CEM_COM_CPMS_Identification!C447=\"\",\"\",CEM_COM_CPMS_Identification!C447)","v":""},"",{"$f":"IF(COUNTIF(B$2:B425,B425)=1,B425,\"\")","v":""},null,null,null,null,null,null,null,null,null,null,null,null,null,null,{"$f":"+IF(W425=\"\",\"\",MAX(S$1:S424)+1)","v":""},{"$f":"IF(Limits_Details!$B447=\"\",\"\",Limits_Details!$B447)","v":""},{"$f":"IF(Limits_Details!$C447=\"\",\"\",Limits_Details!$C447)","v":""},"",{"$f":"IF(COUNTIF(V$2:V425,V425)=1,V425,\"\")","v":""},"","",null,null,null,{"$f":"+IF(AH425=\"\",\"\",MAX(AC$1:AC424)+1)","v":""},{"$f":"IF(Limits_Details!$B447=\"\",\"\",Limits_Details!$B447)","v":""},{"$f":"IF(Limits_Details!$C447=\"\",\"\",Limits_Details!$C447)","v":""},{"$f":"IF(Limits_Details!$D447=\"\",\"\",Limits_Details!$D447)","v":""},"",{"$f":"IF(COUNTIF(AG$2:AG425,AG425)=1,AG425,\"\")","v":""},"","","",null,{"$f":"+IF(AR425=\"\",\"\",MAX(AM$1:AM424)+1)","v":""},{"$f":"IF(CEM_COM_CPMS_Detail!$B447=\"\",\"\",CEM_COM_CPMS_Detail!$B447)","v":""},{"$f":"IF(CEM_COM_CPMS_Detail!$C447=\"\",\"\",CEM_COM_CPMS_Detail!$C447)","v":""},{"$f":"IF(CEM_COM_CPMS_Detail!$D447=\"\",\"\",CEM_COM_CPMS_Detail!$D447)","v":""},"",{"$f":"IF(COUNTIF(AQ$2:AQ425,AQ425)=1,AQ425,\"\")","v":""},"","",""]
[{"$f":"+IF(D426=\"\",\"\",MAX(A$1:A425)+1)","v":""},{"$f":"IF(CEM_COM_CPMS_Identification!C448=\"\",\"\",CEM_COM_CPMS_Identification!C448)","v":""},"",{"$f":"IF(COUNTIF(B$2:B426,B426)=1,B426,\"\")","v":""},null,null,null,null,null,null,null,null,null,null,null,null,null,null,{"$f":"+IF(W426=\"\",\"\",MAX(S$1:S425)+1)","v":""},{"$f":"IF(Limits_Details!$B448=\"\",\"\",Limits_Details!$B448)","v":""},{"$f":"IF(Limits_Details!$C448=\"\",\"\",Limits_Details!$C448)","v":""},"",{"$f":"IF(COUNTIF(V$2:V426,V426)=1,V426,\"\")","v":""},"","",null,null,null,{"$f":"+IF(AH426=\"\",\"\",MAX(AC$1:AC425)+1)","v":""},{"$f":"IF(Limits_Details!$B448=\"\",\"\",Limits_Details!$B448)","v":""},{"$f":"IF(Limits_Details!$C448=\"\",\"\",Limits_Details!$C448)","v":""},{"$f":"IF(Limits_Details!$D448=\"\",\"\",Limits_Details!$D448)","v":""},"",{"$f":"IF(COUNTIF(AG$2:AG426,AG426)=1,AG426,\"\")","v":""},"","","",null,{"$f":"+IF(AR426=\"\",\"\",MAX(AM$1:AM425)+1)","v":""},{"$f":"IF(CEM_COM_CPMS_Detail!$B448=\"\",\"\",CEM_COM_CPMS_Detail!$B448)","v":""},{"$f":"IF(CEM_COM_CPMS_Detail!$C448=\"\",\"\",CEM_COM_CPMS_Detail!$C448)","v":""},{"$f":"IF(CEM_COM_CPMS_Detail!$D448=\"\",\"\",CEM_COM_CPMS_Detail!$D448)","v":""},"",{"$f":"IF(COUNTIF(AQ$2:AQ426,AQ426)=1,AQ426,\"\")","v":""},"","",""]
[{"$f":"+IF(D427=\"\",\"\",MAX(A$1:A426)+1)","v":""},{"$f":"IF(CEM_COM_CPMS_Identification!C449=\"\",\"\",CEM_COM_CPMS_Identification!C449)","v":""},"",{"$f":"IF(COUNTIF(B$2:B427,B427)=1,B427,\"\")","v":""},null,null,null,null,null,null,null,null,null,null,null,null,null,null,{"$f":"+IF(W427=\"\",\"\",MAX(S$1:S426)+1)","v":""},{"$f":"IF(Limits_Details!$B449=\"\",\"\",Limits_Details!$B449)","v":""},{"$f":"IF(Limits_Details!$C449=\"\",\"\",Limits_Details!$C449)","v":""},"",{"$f":"IF(COUNTIF(V$2:V427,V427)=1,V427,\"\")","v":""},"","",null,null,null,{"$f":"+IF(AH427=\"\",\"\",MAX(AC$1:AC426)+1)","v":""},{"$f":"IF(Limits_Details!$B449=\"\",\"\",Limits_Details!$B449)","v":""},{"$f":"IF(Limits_Details!$C449=\"\",\"\",Limits_Details!$C449)","v":""},{"$f":"IF(Limits_Details!$D449=\"\",\"\",Limits_Details!$D449)","v":""},"",{"$f":"IF(COUNTIF(AG$2:AG427,AG427)=1,AG427,\"\")","v":""},"","","",null,{"$f":"+IF(AR427=\"\",\"\",MAX(AM$1:AM426)+1)","v":""},{"$f":"IF(CEM_COM_CPMS_Detail!$B449=\"\",\"\",CEM_COM_CPMS_Detail!$B449)","v":""},{"$f":"IF(CEM_COM_CPMS_Detail!$C449=\"\",\"\",CEM_COM_CPMS_Detail!$C449)","v":""},{"$f":"IF(CEM_COM_CPMS_Detail!$D449=\"\",\"\",CEM_COM_CPMS_Detail!$D449)","v":""},"",{"$f":"IF(COUNTIF(AQ$2:AQ427,AQ427)=1,AQ427,\"\")","v":""},"","",""]
[{"$f":"+IF(D428=\"\",\"\",MAX(A$1:A427)+1)","v":""},{"$f":"IF(CEM_COM_CPMS_Identification!C450=\"\",\"\",CEM_COM_CPMS_Identification!C450)","v":""},"",{"$f":"IF(COUNTIF(B$2:B428,B428)=1,B428,\"\")","v":""},null,null,null,null,null,null,null,null,null,null,null,null,null,null,{"$f":"+IF(W428=\"\",\"\",MAX(S$1:S427)+1)","v":""},{"$f":"IF(Limits_Details!$B450=\"\",\"\",Limits_Details!$B450)","v":""},{"$f":"IF(Limits_Details!$C450=\"\",\"\",Limits_Details!$C450)","v":""},"",{"$f":"IF(COUNTIF(V$2:V428,V428)=1,V428,\"\")","v":""},"","",null,null,null,{"$f":"+IF(AH428=\"\",\"\",MAX(AC$1:AC427)+1)","v":""},{"$f":"IF(Limits_Details!$B450=\"\",\"\",Limits_Details!$B450)","v":""},{"$f":"IF(Limits_Details!$C450=\"\",\"\",Limits_Details!$C450)","v":""},{"$f":"IF(Limits_Details!$D450=\"\",\"\",Limits_Details!$D450)","v":""},"",{"$f":"IF(COUNTIF(AG$2:AG428,AG428)=1,AG428,\"\")","v":""},"","","",null,{"$f":"+IF(AR428=\"\",\"\",MAX(AM$1:AM427)+1)","v":""},{"$f":"IF(CEM_COM_CPMS_Detail!$B450=\"\",\"\",CEM_COM_CPMS_Detail!$B450)","v":""},{"$f":"IF(CEM_COM_CPMS_Detail!$C450=\"\",\"\",CEM_COM_CPMS_Detail!$C450)","v":""},{"$f":"IF(CEM_COM_CPMS_Detail!$D450=\"\",\"\",CEM_COM_CPMS_Detail!$D450)","v":""},"",{"$f":"IF(COUNTIF(AQ$2:AQ428,AQ428)=1,AQ428,\"\")","v":""},"","",""]
[{"$f":"+IF(D429=\"\",\"\",MAX(A$1:A428)+1)","v":""},{"$f":"IF(CEM_COM_CPMS_Identification!C451=\"\",\"\",CEM_COM_CPMS_Identification!C451)","v":""},"",{"$f":"IF(COUNTIF(B$2:B429,B429)=1,B429,\"\")","v":""},null,null,null,null,null,null,null,null,null,null,null,null,null,null,{"$f":"+IF(W429=\"\",\"\",MAX(S$1:S428)+1)","v":""},{"$f":"IF(Limits_Details!$B451=\"\",\"\",Limits_Details!$B451)","v":""},{"$f":"IF(Limits_Details!$C451=\"\",\"\",Limits_Details!$C451)","v":""},"",{"$f":"IF(COUNTIF(V$2:V429,V429)=1,V429,\"\")","v":""},"","",null,null,null,{"$f":"+IF(AH429=\"\",\"\",MAX(AC$1:AC428)+1)","v":""},{"$f":"IF(Limits_Details!$B451=\"\",\"\",Limits_Details!$B451)","v":""},{"$f":"IF(Limits_Details!$C451=\"\",\"\",Limits_Details!$C451)","v":""},{"$f":"IF(Limits_Details!$D451=\"\",\"\",Limits_Details!$D451)","v":""},"",{"$f":"IF(COUNTIF(AG$2:AG429,AG429)=1,AG429,\"\")","v":""},"","","",null,{"$f":"+IF(AR429=\"\",\"\",MAX(AM$1:AM428)+1)","v":""},{"$f":"IF(CEM_COM_CPMS_Detail!$B451=\"\",\"\",CEM_COM_CPMS_Detail!$B451)","v":""},{"$f":"IF(CEM_COM_CPMS_Detail!$C451=\"\",\"\",CEM_COM_CPMS_Detail!$C451)","v":""},{"$f":"IF(CEM_COM_CPMS_Detail!$D451=\"\",\"\",CEM_COM_CPMS_Detail!$D451)","v":""},"",{"$f":"IF(COUNTIF(AQ$2:AQ429,AQ429)=1,AQ429,\"\")","v":""},"","",""]
[{"$f":"+IF(D430=\"\",\"\",MAX(A$1:A429)+1)","v":""},{"$f":"IF(CEM_COM_CPMS_Identification!C452=\"\",\"\",CEM_COM_CPMS_Identification!C452)","v":""},"",{"$f":"IF(COUNTIF(B$2:B430,B430)=1,B430,\"\")","v":""},null,null,null,null,null,null,null,null,null,null,null,null,null,null,{"$f":"+IF(W430=\"\",\"\",MAX(S$1:S429)+1)","v":""},{"$f":"IF(Limits_Details!$B452=\"\",\"\",Limits_Details!$B452)","v":""},{"$f":"IF(Limits_Details!$C452=\"\",\"\",Limits_Details!$C452)","v":""},"",{"$f":"IF(COUNTIF(V$2:V430,V430)=1,V430,\"\")","v":""},"","",null,null,null,{"$f":"+IF(AH430=\"\",\"\",MAX(AC$1:AC429)+1)","v":""},{"$f":"IF(Limits_Details!$B452=\"\",\"\",Limits_Details!$B452)","v":""},{"$f":"IF(Limits_Details!$C452=\"\",\"\",Limits_Details!$C452)","v":""},{"$f":"IF(Limits_Details!$D452=\"\",\"\",Limits_Details!$D452)","v":""},"",{"$f":"IF(COUNTIF(AG$2:AG430,AG430)=1,AG430,\"\")","v":""},"","","",null,{"$f":"+IF(AR430=\"\",\"\",MAX(AM$1:AM429)+1)","v":""},{"$f":"IF(CEM_COM_CPMS_Detail!$B452=\"\",\"\",CEM_COM_CPMS_Detail!$B452)","v":""},{"$f":"IF(CEM_COM_CPMS_Detail!$C452=\"\",\"\",CEM_COM_CPMS_Detail!$C452)","v":""},{"$f":"IF(CEM_COM_CPMS_Detail!$D452=\"\",\"\",CEM_COM_CPMS_Detail!$D452)","v":""},"",{"$f":"IF(COUNTIF(AQ$2:AQ430,AQ430)=1,AQ430,\"\")","v":""},"","",""]
[{"$f":"+IF(D431=\"\",\"\",MAX(A$1:A430)+1)","v":""},{"$f":"IF(CEM_COM_CPMS_Identification!C453=\"\",\"\",CEM_COM_CPMS_Identification!C453)","v":""},"",{"$f":"IF(COUNTIF(B$2:B431,B431)=1,B431,\"\")","v":""},null,null,null,null,null,null,null,null,null,null,null,null,null,null,{"$f":"+IF(W431=\"\",\"\",MAX(S$1:S430)+1)","v":""},{"$f":"IF(Limits_Details!$B453=\"\",\"\",Limits_Details!$B453)","v":""},{"$f":"IF(Limits_Details!$C453=\"\",\"\",Limits_Details!$C453)","v":""},"",{"$f":"IF(COUNTIF(V$2:V431,V431)=1,V431,\"\")","v":""},"","",null,null,null,{"$f":"+IF(AH431=\"\",\"\",MAX(AC$1:AC430)+1)","v":""},{"$f":"IF(Limits_Details!$B453=\"\",\"\",Limits_Details!$B453)","v":""},{"$f":"IF(Limits_Details!$C453=\"\",\"\",Limits_Details!$C453)","v":""},{"$f":"IF(Limits_Details!$D453=\"\",\"\",Limits_Details!$D453)","v":""},"",{"$f":"IF(COUNTIF(AG$2:AG431,AG431)=1,AG431,\"\")","v":""},"","","",null,{"$f":"+IF(AR431=\"\",\"\",MAX(AM$1:AM430)+1)","v":""},{"$f":"IF(CEM_COM_CPMS_Detail!$B453=\"\",\"\",CEM_COM_CPMS_Detail!$B453)","v":""},{"$f":"IF(CEM_COM_CPMS_Detail!$C453=\"\",\"\",CEM_COM_CPMS_Detail!$C453)","v":""},{"$f":"IF(CEM_COM_CPMS_Detail!$D453=\"\",\"\",CEM_COM_CPMS_Detail!$D453)","v":""},"",{"$f":"IF(COUNTIF(AQ$2:AQ431,AQ431)=1,AQ431,\"\")","v":""},"","",""]
[{"$f":"+IF(D432=\"\",\"\",MAX(A$1:A431)+1)","v":""},{"$f":"IF(CEM_COM_CPMS_Identification!C454=\"\",\"\",CEM_COM_CPMS_Identification!C454)","v":""},"",{"$f":"IF(COUNTIF(B$2:B432,B432)=1,B432,\"\")","v":""},null,null,null,null,null,null,null,null,null,null,null,null,null,null,{"$f":"+IF(W432=\"\",\"\",MAX(S$1:S431)+1)","v":""},{"$f":"IF(Limits_Details!$B454=\"\",\"\",Limits_Details!$B454)","v":""},{"$f":"IF(Limits_Details!$C454=\"\",\"\",Limits_Details!$C454)","v":""},"",{"$f":"IF(COUNTIF(V$2:V432,V432)=1,V432,\"\")","v":""},"","",null,null,null,{"$f":"+IF(AH432=\"\",\"\",MAX(AC$1:AC431)+1)","v":""},{"$f":"IF(Limits_Details!$B454=\"\",\"\",Limits_Details!$B454)","v":""},{"$f":"IF(Limits_Details!$C454=\"\",\"\",Limits_Details!$C454)","v":""},{"$f":"IF(Limits_Details!$D454=\"\",\"\",Limits_Details!$D454)","v":""},"",{"$f":"IF(COUNTIF(AG$2:AG432,AG432)=1,AG432,\"\")","v":""},"","","",null,{"$f":"+IF(AR432=\"\",\"\",MAX(AM$1:AM431)+1)","v":""},{"$f":"IF(CEM_COM_CPMS_Detail!$B454=\"\",\"\",CEM_COM_CPMS_Detail!$B454)","v":""},{"$f":"IF(CEM_COM_CPMS_Detail!$C454=\"\",\"\",CEM_COM_CPMS_Detail!$C454)","v":""},{"$f":"IF(CEM_COM_CPMS_Detail!$D454=\"\",\"\",CEM_COM_CPMS_Detail!$D454)","v":""},"",{"$f":"IF(COUNTIF(AQ$2:AQ432,AQ432)=1,AQ432,\"\")","v":""},"","",""]
[{"$f":"+IF(D433=\"\",\"\",MAX(A$1:A432)+1)","v":""},{"$f":"IF(CEM_COM_CPMS_Identification!C455=\"\",\"\",CEM_COM_CPMS_Identification!C455)","v":""},"",{"$f":"IF(COUNTIF(B$2:B433,B433)=1,B433,\"\")","v":""},null,null,null,null,null,null,null,null,null,null,null,null,null,null,{"$f":"+IF(W433=\"\",\"\",MAX(S$1:S432)+1)","v":""},{"$f":"IF(Limits_Details!$B455=\"\",\"\",Limits_Details!$B455)","v":""},{"$f":"IF(Limits_Details!$C455=\"\",\"\",Limits_Details!$C455)","v":""},"",{"$f":"IF(COUNTIF(V$2:V433,V433)=1,V433,\"\")","v":""},"","",null,null,null,{"$f":"+IF(AH433=\"\",\"\",MAX(AC$1:AC432)+1)","v":""},{"$f":"IF(Limits_Details!$B455=\"\",\"\",Limits_Details!$B455)","v":""},{"$f":"IF(Limits_Details!$C455=\"\",\"\",Limits_Details!$C455)","v":""},{"$f":"IF(Limits_Details!$D455=\"\",\"\",Limits_Details!$D455)","v":""},"",{"$f":"IF(COUNTIF(AG$2:AG433,AG433)=1,AG433,\"\")","v":""},"","","",null,{"$f":"+IF(AR433=\"\",\"\",MAX(AM$1:AM432)+1)","v":""},{"$f":"IF(CEM_COM_CPMS_Detail!$B455=\"\",\"\",CEM_COM_CPMS_Detail!$B455)","v":""},{"$f":"IF(CEM_COM_CPMS_Detail!$C455=\"\",\"\",CEM_COM_CPMS_Detail!$C455)","v":""},{"$f":"IF(CEM_COM_CPMS_Detail!$D455=\"\",\"\",CEM_COM_CPMS_Detail!$D455)","v":""},"",{"$f":"IF(COUNTIF(AQ$2:AQ433,AQ433)=1,AQ433,\"\")","v":""},"","",""]
[{"$f":"+IF(D434=\"\",\"\",MAX(A$1:A433)+1)","v":""},{"$f":"IF(CEM_COM_CPMS_Identification!C456=\"\",\"\",CEM_COM_CPMS_Identification!C456)","v":""},"",{"$f":"IF(COUNTIF(B$2:B434,B434)=1,B434,\"\")","v":""},null,null,null,null,null,null,null,null,null,null,null,null,null,null,{"$f":"+IF(W434=\"\",\"\",MAX(S$1:S433)+1)","v":""},{"$f":"IF(Limits_Details!$B456=\"\",\"\",Limits_Details!$B456)","v":""},{"$f":"IF(Limits_Details!$C456=\"\",\"\",Limits_Details!$C456)","v":""},"",{"$f":"IF(COUNTIF(V$2:V434,V434)=1,V434,\"\")","v":""},"","",null,null,null,{"$f":"+IF(AH434=\"\",\"\",MAX(AC$1:AC433)+1)","v":""},{"$f":"IF(Limits_Details!$B456=\"\",\"\",Limits_Details!$B456)","v":""},{"$f":"IF(Limits_Details!$C456=\"\",\"\",Limits_Details!$C456)","v":""},{"$f":"IF(Limits_Details!$D456=\"\",\"\",Limits_Details!$D456)","v":""},"",{"$f":"IF(COUNTIF(AG$2:AG434,AG434)=1,AG434,\"\")","v":""},"","","",null,{"$f":"+IF(AR434=\"\",\"\",MAX(AM$1:AM433)+1)","v":""},{"$f":"IF(CEM_COM_CPMS_Detail!$B456=\"\",\"\",CEM_COM_CPMS_Detail!$B456)","v":""},{"$f":"IF(CEM_COM_CPMS_Detail!$C456=\"\",\"\",CEM_COM_CPMS_Detail!$C456)","v":""},{"$f":"IF(CEM_COM_CPMS_Detail!$D456=\"\",\"\",CEM_COM_CPMS_Detail!$D456)","v":""},"",{"$f":"IF(COUNTIF(AQ$2:AQ434,AQ434)=1,AQ434,\"\")","v":""},"","",""]
[{"$f":"+IF(D435=\"\",\"\",MAX(A$1:A434)+1)","v":""},{"$f":"IF(CEM_COM_CPMS_Identification!C457=\"\",\"\",CEM_COM_CPMS_Identification!C457)","v":""},"",{"$f":"IF(COUNTIF(B$2:B435,B435)=1,B435,\"\")","v":""},null,null,null,null,null,null,null,null,null,null,null,null,null,null,{"$f":"+IF(W435=\"\",\"\",MAX(S$1:S434)+1)","v":""},{"$f":"IF(Limits_Details!$B457=\"\",\"\",Limits_Details!$B457)","v":""},{"$f":"IF(Limits_Details!$C457=\"\",\"\",Limits_Details!$C457)","v":""},"",{"$f":"IF(COUNTIF(V$2:V435,V435)=1,V435,\"\")","v":""},"","",null,null,null,{"$f":"+IF(AH435=\"\",\"\",MAX(AC$1:AC434)+1)","v":""},{"$f":"IF(Limits_Details!$B457=\"\",\"\",Limits_Details!$B457)","v":""},{"$f":"IF(Limits_Details!$C457=\"\",\"\",Limits_Details!$C457)","v":""},{"$f":"IF(Limits_Details!$D457=\"\",\"\",Limits_Details!$D457)","v":""},"",{"$f":"IF(COUNTIF(AG$2:AG435,AG435)=1,AG435,\"\")","v":""},"","","",null,{"$f":"+IF(AR435=\"\",\"\",MAX(AM$1:AM434)+1)","v":""},{"$f":"IF(CEM_COM_CPMS_Detail!$B457=\"\",\"\",CEM_COM_CPMS_Detail!$B457)","v":""},{"$f":"IF(CEM_COM_CPMS_Detail!$C457=\"\",\"\",CEM_COM_CPMS_Detail!$C457)","v":""},{"$f":"IF(CEM_COM_CPMS_Detail!$D457=\"\",\"\",CEM_COM_CPMS_Detail!$D457)","v":""},"",{"$f":"IF(COUNTIF(AQ$2:AQ435,AQ435)=1,AQ435,\"\")","v":""},"","",""]
[{"$f":"+IF(D436=\"\",\"\",MAX(A$1:A435)+1)","v":""},{"$f":"IF(CEM_COM_CPMS_Identification!C458=\"\",\"\",CEM_COM_CPMS_Identification!C458)","v":""},"",{"$f":"IF(COUNTIF(B$2:B436,B436)=1,B436,\"\")","v":""},null,null,null,null,null,null,null,null,null,null,null,null,null,null,{"$f":"+IF(W436=\"\",\"\",MAX(S$1:S435)+1)","v":""},{"$f":"IF(Limits_Details!$B458=\"\",\"\",Limits_Details!$B458)","v":""},{"$f":"IF(Limits_Details!$C458=\"\",\"\",Limits_Details!$C458)","v":""},"",{"$f":"IF(COUNTIF(V$2:V436,V436)=1,V436,\"\")","v":""},"","",null,null,null,{"$f":"+IF(AH436=\"\",\"\",MAX(AC$1:AC435)+1)","v":""},{"$f":"IF(Limits_Details!$B458=\"\",\"\",Limits_Details!$B458)","v":""},{"$f":"IF(Limits_Details!$C458=\"\",\"\",Limits_Details!$C458)","v":""},{"$f":"IF(Limits_Details!$D458=\"\",\"\",Limits_Details!$D458)","v":""},"",{"$f":"IF(COUNTIF(AG$2:AG436,AG436)=1,AG436,\"\")","v":""},"","","",null,{"$f":"+IF(AR436=\"\",\"\",MAX(AM$1:AM435)+1)","v":""},{"$f":"IF(CEM_COM_CPMS_Detail!$B458=\"\",\"\",CEM_COM_CPMS_Detail!$B458)","v":""},{"$f":"IF(CEM_COM_CPMS_Detail!$C458=\"\",\"\",CEM_COM_CPMS_Detail!$C458)","v":""},{"$f":"IF(CEM_COM_CPMS_Detail!$D458=\"\",\"\",CEM_COM_CPMS_Detail!$D458)","v":""},"",{"$f":"IF(COUNTIF(AQ$2:AQ436,AQ436)=1,AQ436,\"\")","v":""},"","",""]
[{"$f":"+IF(D437=\"\",\"\",MAX(A$1:A436)+1)","v":""},{"$f":"IF(CEM_COM_CPMS_Identification!C459=\"\",\"\",CEM_COM_CPMS_Identification!C459)","v":""},"",{"$f":"IF(COUNTIF(B$2:B437,B437)=1,B437,\"\")","v":""},null,null,null,null,null,null,null,null,null,null,null,null,null,null,{"$f":"+IF(W437=\"\",\"\",MAX(S$1:S436)+1)","v":""},{"$f":"IF(Limits_Details!$B459=\"\",\"\",Limits_Details!$B459)","v":""},{"$f":"IF(Limits_Details!$C459=\"\",\"\",Limits_Details!$C459)","v":""},"",{"$f":"IF(COUNTIF(V$2:V437,V437)=1,V437,\"\")","v":""},"","",null,null,null,{"$f":"+IF(AH437=\"\",\"\",MAX(AC$1:AC436)+1)","v":""},{"$f":"IF(Limits_Details!$B459=\"\",\"\",Limits_Details!$B459)","v":""},{"$f":"IF(Limits_Details!$C459=\"\",\"\",Limits_Details!$C459)","v":""},{"$f":"IF(Limits_Details!$D459=\"\",\"\",Limits_Details!$D459)","v":""},"",{"$f":"IF(COUNTIF(AG$2:AG437,AG437)=1,AG437,\"\")","v":""},"","","",null,{"$f":"+IF(AR437=\"\",\"\",MAX(AM$1:AM436)+1)","v":""},{"$f":"IF(CEM_COM_CPMS_Detail!$B459=\"\",\"\",CEM_COM_CPMS_Detail!$B459)","v":""},{"$f":"IF(CEM_COM_CPMS_Detail!$C459=\"\",\"\",CEM_COM_CPMS_Detail!$C459)","v":""},{"$f":"IF(CEM_COM_CPMS_Detail!$D459=\"\",\"\",CEM_COM_CPMS_Detail!$D459)","v":""},"",{"$f":"IF(COUNTIF(AQ$2:AQ437,AQ437)=1,AQ437,\"\")","v":""},"","",""]
[{"$f":"+IF(D438=\"\",\"\",MAX(A$1:A437)+1)","v":""},{"$f":"IF(CEM_COM_CPMS_Identification!C460=\"\",\"\",CEM_COM_CPMS_Identification!C460)","v":""},"",{"$f":"IF(COUNTIF(B$2:B438,B438)=1,B438,\"\")","v":""},null,null,null,null,null,null,null,null,null,null,null,null,null,null,{"$f":"+IF(W438=\"\",\"\",MAX(S$1:S437)+1)","v":""},{"$f":"IF(Limits_Details!$B460=\"\",\"\",Limits_Details!$B460)","v":""},{"$f":"IF(Limits_Details!$C460=\"\",\"\",Limits_Details!$C460)","v":""},"",{"$f":"IF(COUNTIF(V$2:V438,V438)=1,V438,\"\")","v":""},"","",null,null,null,{"$f":"+IF(AH438=\"\",\"\",MAX(AC$1:AC437)+1)","v":""},{"$f":"IF(Limits_Details!$B460=\"\",\"\",Limits_Details!$B460)","v":""},{"$f":"IF(Limits_Details!$C460=\"\",\"\",Limits_Details!$C460)","v":""},{"$f":"IF(Limits_Details!$D460=\"\",\"\",Limits_Details!$D460)","v":""},"",{"$f":"IF(COUNTIF(AG$2:AG438,AG438)=1,AG438,\"\")","v":""},"","","",null,{"$f":"+IF(AR438=\"\",\"\",MAX(AM$1:AM437)+1)","v":""},{"$f":"IF(CEM_COM_CPMS_Detail!$B460=\"\",\"\",CEM_COM_CPMS_Detail!$B460)","v":""},{"$f":"IF(CEM_COM_CPMS_Detail!$C460=\"\",\"\",CEM_COM_CPMS_Detail!$C460)","v":""},{"$f":"IF(CEM_COM_CPMS_Detail!$D460=\"\",\"\",CEM_COM_CPMS_Detail!$D460)","v":""},"",{"$f":"IF(COUNTIF(AQ$2:AQ438,AQ438)=1,AQ438,\"\")","v":""},"","",""]
[{"$f":"+IF(D439=\"\",\"\",MAX(A$1:A438)+1)","v":""},{"$f":"IF(CEM_COM_CPMS_Identification!C461=\"\",\"\",CEM_COM_CPMS_Identification!C461)","v":""},"",{"$f":"IF(COUNTIF(B$2:B439,B439)=1,B439,\"\")","v":""},null,null,null,null,null,null,null,null,null,null,null,null,null,null,{"$f":"+IF(W439=\"\",\"\",MAX(S$1:S438)+1)","v":""},{"$f":"IF(Limits_Details!$B461=\"\",\"\",Limits_Details!$B461)","v":""},{"$f":"IF(Limits_Details!$C461=\"\",\"\",Limits_Details!$C461)","v":""},"",{"$f":"IF(COUNTIF(V$2:V439,V439)=1,V439,\"\")","v":""},"","",null,null,null,{"$f":"+IF(AH439=\"\",\"\",MAX(AC$1:AC438)+1)","v":""},{"$f":"IF(Limits_Details!$B461=\"\",\"\",Limits_Details!$B461)","v":""},{"$f":"IF(Limits_Details!$C461=\"\",\"\",Limits_Details!$C461)","v":""},{"$f":"IF(Limits_Details!$D461=\"\",\"\",Limits_Details!$D461)","v":""},"",{"$f":"IF(COUNTIF(AG$2:AG439,AG439)=1,AG439,\"\")","v":""},"","","",null,{"$f":"+IF(AR439=\"\",\"\",MAX(AM$1:AM438)+1)","v":""},{"$f":"IF(CEM_COM_CPMS_Detail!$B461=\"\",\"\",CEM_COM_CPMS_Detail!$B461)","v":""},{"$f":"IF(CEM_COM_CPMS_Detail!$C461=\"\",\"\",CEM_COM_CPMS_Detail!$C461)","v":""},{"$f":"IF(CEM_COM_CPMS_Detail!$D461=\"\",\"\",CEM_COM_CPMS_Detail!$D461)","v":""},"",{"$f":"IF(COUNTIF(AQ$2:AQ439,AQ439)=1,AQ439,\"\")","v":""},"","",""]
[{"$f":"+IF(D440=\"\",\"\",MAX(A$1:A439)+1)","v":""},{"$f":"IF(CEM_COM_CPMS_Identification!C462=\"\",\"\",CEM_COM_CPMS_Identification!C462)","v":""},"",{"$f":"IF(COUNTIF(B$2:B440,B440)=1,B440,\"\")","v":""},null,null,null,null,null,null,null,null,null,null,null,null,null,null,{"$f":"+IF(W440=\"\",\"\",MAX(S$1:S439)+1)","v":""},{"$f":"IF(Limits_Details!$B462=\"\",\"\",Limits_Details!$B462)","v":""},{"$f":"IF(Limits_Details!$C462=\"\",\"\",Limits_Details!$C462)","v":""},"",{"$f":"IF(COUNTIF(V$2:V440,V440)=1,V440,\"\")","v":""},"","",null,null,null,{"$f":"+IF(AH440=\"\",\"\",MAX(AC$1:AC439)+1)","v":""},{"$f":"IF(Limits_Details!$B462=\"\",\"\",Limits_Details!$B462)","v":""},{"$f":"IF(Limits_Details!$C462=\"\",\"\",Limits_Details!$C462)","v":""},{"$f":"IF(Limits_Details!$D462=\"\",\"\",Limits_Details!$D462)","v":""},"",{"$f":"IF(COUNTIF(AG$2:AG440,AG440)=1,AG440,\"\")","v":""},"","","",null,{"$f":"+IF(AR440=\"\",\"\",MAX(AM$1:AM439)+1)","v":""},{"$f":"IF(CEM_COM_CPMS_Detail!$B462=\"\",\"\",CEM_COM_CPMS_Detail!$B462)","v":""},{"$f":"IF(CEM_COM_CPMS_Detail!$C462=\"\",\"\",CEM_COM_CPMS_Detail!$C462)","v":""},{"$f":"IF(CEM_COM_CPMS_Detail!$D462=\"\",\"\",CEM_COM_CPMS_Detail!$D462)","v":""},"",{"$f":"IF(COUNTIF(AQ$2:AQ440,AQ440)=1,AQ440,\"\")","v":""},"","",""]
[{"$f":"+IF(D441=\"\",\"\",MAX(A$1:A440)+1)","v":""},{"$f":"IF(CEM_COM_CPMS_Identification!C463=\"\",\"\",CEM_COM_CPMS_Identification!C463)","v":""},"",{"$f":"IF(COUNTIF(B$2:B441,B441)=1,B441,\"\")","v":""},null,null,null,null,null,null,null,null,null,null,null,null,null,null,{"$f":"+IF(W441=\"\",\"\",MAX(S$1:S440)+1)","v":""},{"$f":"IF(Limits_Details!$B463=\"\",\"\",Limits_Details!$B463)","v":""},{"$f":"IF(Limits_Details!$C463=\"\",\"\",Limits_Details!$C463)","v":""},"",{"$f":"IF(COUNTIF(V$2:V441,V441)=1,V441,\"\")","v":""},"","",null,null,null,{"$f":"+IF(AH441=\"\",\"\",MAX(AC$1:AC440)+1)","v":""},{"$f":"IF(Limits_Details!$B463=\"\",\"\",Limits_Details!$B463)","v":""},{"$f":"IF(Limits_Details!$C463=\"\",\"\",Limits_Details!$C463)","v":""},{"$f":"IF(Limits_Details!$D463=\"\",\"\",Limits_Details!$D463)","v":""},"",{"$f":"IF(COUNTIF(AG$2:AG441,AG441)=1,AG441,\"\")","v":""},"","","",null,{"$f":"+IF(AR441=\"\",\"\",MAX(AM$1:AM440)+1)","v":""},{"$f":"IF(CEM_COM_CPMS_Detail!$B463=\"\",\"\",CEM_COM_CPMS_Detail!$B463)","v":""},{"$f":"IF(CEM_COM_CPMS_Detail!$C463=\"\",\"\",CEM_COM_CPMS_Detail!$C463)","v":""},{"$f":"IF(CEM_COM_CPMS_Detail!$D463=\"\",\"\",CEM_COM_CPMS_Detail!$D463)","v":""},"",{"$f":"IF(COUNTIF(AQ$2:AQ441,AQ441)=1,AQ441,\"\")","v":""},"","",""]
[{"$f":"+IF(D442=\"\",\"\",MAX(A$1:A441)+1)","v":""},{"$f":"IF(CEM_COM_CPMS_Identification!C464=\"\",\"\",CEM_COM_CPMS_Identification!C464)","v":""},"",{"$f":"IF(COUNTIF(B$2:B442,B442)=1,B442,\"\")","v":""},null,null,null,null,null,null,null,null,null,null,null,null,null,null,{"$f":"+IF(W442=\"\",\"\",MAX(S$1:S441)+1)","v":""},{"$f":"IF(Limits_Details!$B464=\"\",\"\",Limits_Details!$B464)","v":""},{"$f":"IF(Limits_Details!$C464=\"\",\"\",Limits_Details!$C464)","v":""},"",{"$f":"IF(COUNTIF(V$2:V442,V442)=1,V442,\"\")","v":""},"","",null,null,null,{"$f":"+IF(AH442=\"\",\"\",MAX(AC$1:AC441)+1)","v":""},{"$f":"IF(Limits_Details!$B464=\"\",\"\",Limits_Details!$B464)","v":""},{"$f":"IF(Limits_Details!$C464=\"\",\"\",Limits_Details!$C464)","v":""},{"$f":"IF(Limits_Details!$D464=\"\",\"\",Limits_Details!$D464)","v":""},"",{"$f":"IF(COUNTIF(AG$2:AG442,AG442)=1,AG442,\"\")","v":""},"","","",null,{"$f":"+IF(AR442=\"\",\"\",MAX(AM$1:AM441)+1)","v":""},{"$f":"IF(CEM_COM_CPMS_Detail!$B464=\"\",\"\",CEM_COM_CPMS_Detail!$B464)","v":""},{"$f":"IF(CEM_COM_CPMS_Detail!$C464=\"\",\"\",CEM_COM_CPMS_Detail!$C464)","v":""},{"$f":"IF(CEM_COM_CPMS_Detail!$D464=\"\",\"\",CEM_COM_CPMS_Detail!$D464)","v":""},"",{"$f":"IF(COUNTIF(AQ$2:AQ442,AQ442)=1,AQ442,\"\")","v":""},"","",""]
[{"$f":"+IF(D443=\"\",\"\",MAX(A$1:A442)+1)","v":""},{"$f":"IF(CEM_COM_CPMS_Identification!C465=\"\",\"\",CEM_COM_CPMS_Identification!C465)","v":""},"",{"$f":"IF(COUNTIF(B$2:B443,B443)=1,B443,\"\")","v":""},null,null,null,null,null,null,null,null,null,null,null,null,null,null,{"$f":"+IF(W443=\"\",\"\",MAX(S$1:S442)+1)","v":""},{"$f":"IF(Limits_Details!$B465=\"\",\"\",Limits_Details!$B465)","v":""},{"$f":"IF(Limits_Details!$C465=\"\",\"\",Limits_Details!$C465)","v":""},"",{"$f":"IF(COUNTIF(V$2:V443,V443)=1,V443,\"\")","v":""},"","",null,null,null,{"$f":"+IF(AH443=\"\",\"\",MAX(AC$1:AC442)+1)","v":""},{"$f":"IF(Limits_Details!$B465=\"\",\"\",Limits_Details!$B465)","v":""},{"$f":"IF(Limits_Details!$C465=\"\",\"\",Limits_Details!$C465)","v":""},{"$f":"IF(Limits_Details!$D465=\"\",\"\",Limits_Details!$D465)","v":""},"",{"$f":"IF(COUNTIF(AG$2:AG443,AG443)=1,AG443,\"\")","v":""},"","","",null,{"$f":"+IF(AR443=\"\",\"\",MAX(AM$1:AM442)+1)","v":""},{"$f":"IF(CEM_COM_CPMS_Detail!$B465=\"\",\"\",CEM_COM_CPMS_Detail!$B465)","v":""},{"$f":"IF(CEM_COM_CPMS_Detail!$C465=\"\",\"\",CEM_COM_CPMS_Detail!$C465)","v":""},{"$f":"IF(CEM_COM_CPMS_Detail!$D465=\"\",\"\",CEM_COM_CPMS_Detail!$D465)","v":""},"",{"$f":"IF(COUNTIF(AQ$2:AQ443,AQ443)=1,AQ443,\"\")","v":""},"","",""]
[{"$f":"+IF(D444=\"\",\"\",MAX(A$1:A443)+1)","v":""},{"$f":"IF(CEM_COM_CPMS_Identification!C466=\"\",\"\",CEM_COM_CPMS_Identification!C466)","v":""},"",{"$f":"IF(COUNTIF(B$2:B444,B444)=1,B444,\"\")","v":""},null,null,null,null,null,null,null,null,null,null,null,null,null,null,{"$f":"+IF(W444=\"\",\"\",MAX(S$1:S443)+1)","v":""},{"$f":"IF(Limits_Details!$B466=\"\",\"\",Limits_Details!$B466)","v":""},{"$f":"IF(Limits_Details!$C466=\"\",\"\",Limits_Details!$C466)","v":""},"",{"$f":"IF(COUNTIF(V$2:V444,V444)=1,V444,\"\")","v":""},"","",null,null,null,{"$f":"+IF(AH444=\"\",\"\",MAX(AC$1:AC443)+1)","v":""},{"$f":"IF(Limits_Details!$B466=\"\",\"\",Limits_Details!$B466)","v":""},{"$f":"IF(Limits_Details!$C466=\"\",\"\",Limits_Details!$C466)","v":""},{"$f":"IF(Limits_Details!$D466=\"\",\"\",Limits_Details!$D466)","v":""},"",{"$f":"IF(COUNTIF(AG$2:AG444,AG444)=1,AG444,\"\")","v":""},"","","",null,{"$f":"+IF(AR444=\"\",\"\",MAX(AM$1:AM443)+1)","v":""},{"$f":"IF(CEM_COM_CPMS_Detail!$B466=\"\",\"\",CEM_COM_CPMS_Detail!$B466)","v":""},{"$f":"IF(CEM_COM_CPMS_Detail!$C466=\"\",\"\",CEM_COM_CPMS_Detail!$C466)","v":""},{"$f":"IF(CEM_COM_CPMS_Detail!$D466=\"\",\"\",CEM_COM_CPMS_Detail!$D466)","v":""},"",{"$f":"IF(COUNTIF(AQ$2:AQ444,AQ444)=1,AQ444,\"\")","v":""},"","",""]
[{"$f":"+IF(D445=\"\",\"\",MAX(A$1:A444)+1)","v":""},{"$f":"IF(CEM_COM_CPMS_Identification!C467=\"\",\"\",CEM_COM_CPMS_Identification!C467)","v":""},"",{"$f":"IF(COUNTIF(B$2:B445,B445)=1,B445,\"\")","v":""},null,null,null,null,null,null,null,null,null,null,null,null,null,null,{"$f":"+IF(W445=\"\",\"\",MAX(S$1:S444)+1)","v":""},{"$f":"IF(Limits_Details!$B467=\"\",\"\",Limits_Details!$B467)","v":""},{"$f":"IF(Limits_Details!$C467=\"\",\"\",Limits_Details!$C467)","v":""},"",{"$f":"IF(COUNTIF(V$2:V445,V445)=1,V445,\"\")","v":""},"","",null,null,null,{"$f":"+IF(AH445=\"\",\"\",MAX(AC$1:AC444)+1)","v":""},{"$f":"IF(Limits_Details!$B467=\"\",\"\",Limits_Details!$B467)","v":""},{"$f":"IF(Limits_Details!$C467=\"\",\"\",Limits_Details!$C467)","v":""},{"$f":"IF(Limits_Details!$D467=\"\",\"\",Limits_Details!$D467)","v":""},"",{"$f":"IF(COUNTIF(AG$2:AG445,AG445)=1,AG445,\"\")","v":""},"","","",null,{"$f":"+IF(AR445=\"\",\"\",MAX(AM$1:AM444)+1)","v":""},{"$f":"IF(CEM_COM_CPMS_Detail!$B467=\"\",\"\",CEM_COM_CPMS_Detail!$B467)","v":""},{"$f":"IF(CEM_COM_CPMS_Detail!$C467=\"\",\"\",CEM_COM_CPMS_Detail!$C467)","v":""},{"$f":"IF(CEM_COM_CPMS_Detail!$D467=\"\",\"\",CEM_COM_CPMS_Detail!$D467)","v":""},"",{"$f":"IF(COUNTIF(AQ$2:AQ445,AQ445)=1,AQ445,\"\")","v":""},"","",""]
[{"$f":"+IF(D446=\"\",\"\",MAX(A$1:A445)+1)","v":""},{"$f":"IF(CEM_COM_CPMS_Identification!C468=\"\",\"\",CEM_COM_CPMS_Identification!C468)","v":""},"",{"$f":"IF(COUNTIF(B$2:B446,B446)=1,B446,\"\")","v":""},null,null,null,null,null,null,null,null,null,null,null,null,null,null,{"$f":"+IF(W446=\"\",\"\",MAX(S$1:S445)+1)","v":""},{"$f":"IF(Limits_Details!$B468=\"\",\"\",Limits_Details!$B468)","v":""},{"$f":"IF(Limits_Details!$C468=\"\",\"\",Limits_Details!$C468)","v":""},"",{"$f":"IF(COUNTIF(V$2:V446,V446)=1,V446,\"\")","v":""},"","",null,null,null,{"$f":"+IF(AH446=\"\",\"\",MAX(AC$1:AC445)+1)","v":""},{"$f":"IF(Limits_Details!$B468=\"\",\"\",Limits_Details!$B468)","v":""},{"$f":"IF(Limits_Details!$C468=\"\",\"\",Limits_Details!$C468)","v":""},{"$f":"IF(Limits_Details!$D468=\"\",\"\",Limits_Details!$D468)","v":""},"",{"$f":"IF(COUNTIF(AG$2:AG446,AG446)=1,AG446,\"\")","v":""},"","","",null,{"$f":"+IF(AR446=\"\",\"\",MAX(AM$1:AM445)+1)","v":""},{"$f":"IF(CEM_COM_CPMS_Detail!$B468=\"\",\"\",CEM_COM_CPMS_Detail!$B468)","v":""},{"$f":"IF(CEM_COM_CPMS_Detail!$C468=\"\",\"\",CEM_COM_CPMS_Detail!$C468)","v":""},{"$f":"IF(CEM_COM_CPMS_Detail!$D468=\"\",\"\",CEM_COM_CPMS_Detail!$D468)","v":""},"",{"$f":"IF(COUNTIF(AQ$2:AQ446,AQ446)=1,AQ446,\"\")","v":""},"","",""]
[{"$f":"+IF(D447=\"\",\"\",MAX(A$1:A446)+1)","v":""},{"$f":"IF(CEM_COM_CPMS_Identification!C469=\"\",\"\",CEM_COM_CPMS_Identification!C469)","v":""},"",{"$f":"IF(COUNTIF(B$2:B447,B447)=1,B447,\"\")","v":""},null,null,null,null,null,null,null,null,null,null,null,null,null,null,{"$f":"+IF(W447=\"\",\"\",MAX(S$1:S446)+1)","v":""},{"$f":"IF(Limits_Details!$B469=\"\",\"\",Limits_Details!$B469)","v":""},{"$f":"IF(Limits_Details!$C469=\"\",\"\",Limits_Details!$C469)","v":""},"",{"$f":"IF(COUNTIF(V$2:V447,V447)=1,V447,\"\")","v":""},"","",null,null,null,{"$f":"+IF(AH447=\"\",\"\",MAX(AC$1:AC446)+1)","v":""},{"$f":"IF(Limits_Details!$B469=\"\",\"\",Limits_Details!$B469)","v":""},{"$f":"IF(Limits_Details!$C469=\"\",\"\",Limits_Details!$C469)","v":""},{"$f":"IF(Limits_Details!$D469=\"\",\"\",Limits_Details!$D469)","v":""},"",{"$f":"IF(COUNTIF(AG$2:AG447,AG447)=1,AG447,\"\")","v":""},"","","",null,{"$f":"+IF(AR447=\"\",\"\",MAX(AM$1:AM446)+1)","v":""},{"$f":"IF(CEM_COM_CPMS_Detail!$B469=\"\",\"\",CEM_COM_CPMS_Detail!$B469)","v":""},{"$f":"IF(CEM_COM_CPMS_Detail!$C469=\"\",\"\",CEM_COM_CPMS_Detail!$C469)","v":""},{"$f":"IF(CEM_COM_CPMS_Detail!$D469=\"\",\"\",CEM_COM_CPMS_Detail!$D469)","v":""},"",{"$f":"IF(COUNTIF(AQ$2:AQ447,AQ447)=1,AQ447,\"\")","v":""},"","",""]
[{"$f":"+IF(D448=\"\",\"\",MAX(A$1:A447)+1)","v":""},{"$f":"IF(CEM_COM_CPMS_Identification!C470=\"\",\"\",CEM_COM_CPMS_Identification!C470)","v":""},"",{"$f":"IF(COUNTIF(B$2:B448,B448)=1,B448,\"\")","v":""},null,null,null,null,null,null,null,null,null,null,null,null,null,null,{"$f":"+IF(W448=\"\",\"\",MAX(S$1:S447)+1)","v":""},{"$f":"IF(Limits_Details!$B470=\"\",\"\",Limits_Details!$B470)","v":""},{"$f":"IF(Limits_Details!$C470=\"\",\"\",Limits_Details!$C470)","v":""},"",{"$f":"IF(COUNTIF(V$2:V448,V448)=1,V448,\"\")","v":""},"","",null,null,null,{"$f":"+IF(AH448=\"\",\"\",MAX(AC$1:AC447)+1)","v":""},{"$f":"IF(Limits_Details!$B470=\"\",\"\",Limits_Details!$B470)","v":""},{"$f":"IF(Limits_Details!$C470=\"\",\"\",Limits_Details!$C470)","v":""},{"$f":"IF(Limits_Details!$D470=\"\",\"\",Limits_Details!$D470)","v":""},"",{"$f":"IF(COUNTIF(AG$2:AG448,AG448)=1,AG448,\"\")","v":""},"","","",null,{"$f":"+IF(AR448=\"\",\"\",MAX(AM$1:AM447)+1)","v":""},{"$f":"IF(CEM_COM_CPMS_Detail!$B470=\"\",\"\",CEM_COM_CPMS_Detail!$B470)","v":""},{"$f":"IF(CEM_COM_CPMS_Detail!$C470=\"\",\"\",CEM_COM_CPMS_Detail!$C470)","v":""},{"$f":"IF(CEM_COM_CPMS_Detail!$D470=\"\",\"\",CEM_COM_CPMS_Detail!$D470)","v":""},"",{"$f":"IF(COUNTIF(AQ$2:AQ448,AQ448)=1,AQ448,\"\")","v":""},"","",""]
[{"$f":"+IF(D449=\"\",\"\",MAX(A$1:A448)+1)","v":""},{"$f":"IF(CEM_COM_CPMS_Identification!C471=\"\",\"\",CEM_COM_CPMS_Identification!C471)","v":""},"",{"$f":"IF(COUNTIF(B$2:B449,B449)=1,B449,\"\")","v":""},null,null,null,null,null,null,null,null,null,null,null,null,null,null,{"$f":"+IF(W449=\"\",\"\",MAX(S$1:S448)+1)","v":""},{"$f":"IF(Limits_Details!$B471=\"\",\"\",Limits_Details!$B471)","v":""},{"$f":"IF(Limits_Details!$C471=\"\",\"\",Limits_Details!$C471)","v":""},"",{"$f":"IF(COUNTIF(V$2:V449,V449)=1,V449,\"\")","v":""},"","",null,null,null,{"$f":"+IF(AH449=\"\",\"\",MAX(AC$1:AC448)+1)","v":""},{"$f":"IF(Limits_Details!$B471=\"\",\"\",Limits_Details!$B471)","v":""},{"$f":"IF(Limits_Details!$C471=\"\",\"\",Limits_Details!$C471)","v":""},{"$f":"IF(Limits_Details!$D471=\"\",\"\",Limits_Details!$D471)","v":""},"",{"$f":"IF(COUNTIF(AG$2:AG449,AG449)=1,AG449,\"\")","v":""},"","","",null,{"$f":"+IF(AR449=\"\",\"\",MAX(AM$1:AM448)+1)","v":""},{"$f":"IF(CEM_COM_CPMS_Detail!$B471=\"\",\"\",CEM_COM_CPMS_Detail!$B471)","v":""},{"$f":"IF(CEM_COM_CPMS_Detail!$C471=\"\",\"\",CEM_COM_CPMS_Detail!$C471)","v":""},{"$f":"IF(CEM_COM_CPMS_Detail!$D471=\"\",\"\",CEM_COM_CPMS_Detail!$D471)","v":""},"",{"$f":"IF(COUNTIF(AQ$2:AQ449,AQ449)=1,AQ449,\"\")","v":""},"","",""]
[{"$f":"+IF(D450=\"\",\"\",MAX(A$1:A449)+1)","v":""},{"$f":"IF(CEM_COM_CPMS_Identification!C472=\"\",\"\",CEM_COM_CPMS_Identification!C472)","v":""},{"$f":"+IFERROR(INDEX(B$2:B$501,MATCH(ROW()-ROW($C$1),A$2:A$501,0)),\"\")","v":""},{"$f":"IF(COUNTIF(B$2:B450,B450)=1,B450,\"\")","v":""},null,null,null,null,null,null,null,null,null,null,null,null,null,null,{"$f":"+IF(W450=\"\",\"\",MAX(S$1:S449)+1)","v":""},{"$f":"IF(Limits_Details!$B472=\"\",\"\",Limits_Details!$B472)","v":""},{"$f":"IF(Limits_Details!$C472=\"\",\"\",Limits_Details!$C472)","v":""},"",{"$f":"IF(COUNTIF(V$2:V450,V450)=1,V450,\"\")","v":""},{"$f":"+IFERROR(INDEX(T$2:T$955,MATCH(ROW()-ROW(X$1),S$2:S$955,0)),\"\")","v":""},{"$f":"+IFERROR(INDEX(U$2:U$955,MATCH(ROW()-ROW(X$1),S$2:S$955,0)),\"\")","v":""},null,null,null,{"$f":"+IF(AH450=\"\",\"\",MAX(AC$1:AC449)+1)","v":""},{"$f":"IF(Limits_Details!$B472=\"\",\"\",Limits_Details!$B472)","v":""},{"$f":"IF(Limits_Details!$C472=\"\",\"\",Limits_Details!$C472)","v":""},{"$f":"IF(Limits_Details!$D472=\"\",\"\",Limits_Details!$D472)","v":""},"",{"$f":"IF(COUNTIF(AG$2:AG450,AG450)=1,AG450,\"\")","v":""},"","","",null,{"$f":"+IF(AR450=\"\",\"\",MAX(AM$1:AM449)+1)","v":""},{"$f":"IF(CEM_COM_CPMS_Detail!$B472=\"\",\"\",CEM_COM_CPMS_Detail!$B472)","v":""},{"$f":"IF(CEM_COM_CPMS_Detail!$C472=\"\",\"\",CEM_COM_CPMS_Detail!$C472)","v":""},{"$f":"IF(CEM_COM_CPMS_Detail!$D472=\"\",\"\",CEM_COM_CPMS_Detail!$D472)","v":""},"",{"$f":"IF(COUNTIF(AQ$2:AQ450,AQ450)=1,AQ450,\"\")","v":""},"","",""]
[{"$f":"+IF(D451=\"\",\"\",MAX(A$1:A450)+1)","v":""},{"$f":"IF(CEM_COM_CPMS_Identification!C473=\"\",\"\",CEM_COM_CPMS_Identification!C473)","v":""},"",{"$f":"IF(COUNTIF(B$2:B451,B451)=1,B451,\"\")","v":""},null,null,null,null,null,null,null,null,null,null,null,null,null,null,{"$f":"+IF(W451=\"\",\"\",MAX(S$1:S450)+1)","v":""},{"$f":"IF(Limits_Details!$B473=\"\",\"\",Limits_Details!$B473)","v":""},{"$f":"IF(Limits_Details!$C473=\"\",\"\",Limits_Details!$C473)","v":""},{"$f":"T451&U451","v":""},{"$f":"IF(COUNTIF(V$2:V451,V451)=1,V451,\"\")","v":""},"","",null,null,null,{"$f":"+IF(AH451=\"\",\"\",MAX(AC$1:AC450)+1)","v":""},{"$f":"IF(Limits_Details!$B473=\"\",\"\",Limits_Details!$B473)","v":""},{"$f":"IF(Limits_Details!$C473=\"\",\"\",Limits_Details!$C473)","v":""},{"$f":"IF(Limits_Details!$D473=\"\",\"\",Limits_Details!$D473)","v":""},{"$f":"AD451&AE451&AF451","v":""},{"$f":"IF(COUNTIF(AG$2:AG451,AG451)=1,AG451,\"\")","v":""},{"$f":"+IFERROR(INDEX(AD$2:AD$955,MATCH(ROW()-ROW(AH$1),AC$2:AC$955,0)),\"\")","v":""},{"$f":"+IFERROR(INDEX(AE$2:AE$955,MATCH(ROW()-ROW(AH$1),AC$2:AC$955,0)),\"\")","v":""},{"$f":"+IFERROR(INDEX(AF$2:AF$955,MATCH(ROW()-ROW(AI$1),AC$2:AC$955,0)),\"\")","v":""},null,{"$f":"+IF(AR451=\"\",\"\",MAX(AM$1:AM450)+1)","v":""},{"$f":"IF(CEM_COM_CPMS_Detail!$B473=\"\",\"\",CEM_COM_CPMS_Detail!$B473)","v":""},{"$f":"IF(CEM_COM_CPMS_Detail!$C473=\"\",\"\",CEM_COM_CPMS_Detail!$C473)","v":""},{"$f":"IF(CEM_COM_CPMS_Detail!$D473=\"\",\"\",CEM_COM_CPMS_Detail!$D473)","v":""},{"$f":"AN451&AO451&AP451","v":""},{"$f":"IF(COUNTIF(AQ$2:AQ451,AQ451)=1,AQ451,\"\")","v":""},{"$f":"+IFERROR(INDEX(AN$2:AN$955,MATCH(ROW()-ROW(AR$1),AM$2:AM$955,0)),\"\")","v":""},{"$f":"+IFERROR(INDEX(AO$2:AO$955,MATCH(ROW()-ROW(AR$1),AM$2:AM$955,0)),\"\")","v":""},{"$f":"+IFERROR(INDEX(AP$2:AP$955,MATCH(ROW()-ROW(AS$1),AM$2:AM$955,0)),\"\")","v":""}]
[{"$f":"+IF(D452=\"\",\"\",MAX(A$1:A451)+1)","v":""},{"$f":"IF(CEM_COM_CPMS_Identification!C474=\"\",\"\",CEM_COM_CPMS_Identification!C474)","v":""},"",{"$f":"IF(COUNTIF(B$2:B452,B452)=1,B452,\"\")","v":""},null,null,null,null,null,null,null,null,null,null,null,null,null,null,{"$f":"+IF(W452=\"\",\"\",MAX(S$1:S451)+1)","v":""},{"$f":"IF(Limits_Details!$B474=\"\",\"\",Limits_Details!$B474)","v":""},{"$f":"IF(Limits_Details!$C474=\"\",\"\",Limits_Details!$C474)","v":""},"",{"$f":"IF(COUNTIF(V$2:V452,V452)=1,V452,\"\")","v":""},"","",null,null,null,{"$f":"+IF(AH452=\"\",\"\",MAX(AC$1:AC451)+1)","v":""},{"$f":"IF(Limits_Details!$B474=\"\",\"\",Limits_Details!$B474)","v":""},{"$f":"IF(Limits_Details!$C474=\"\",\"\",Limits_Details!$C474)","v":""},{"$f":"IF(Limits_Details!$D474=\"\",\"\",Limits_Details!$D474)","v":""},"",{"$f":"IF(COUNTIF(AG$2:AG452,AG452)=1,AG452,\"\")","v":""},"","","",null,{"$f":"+IF(AR452=\"\",\"\",MAX(AM$1:AM451)+1)","v":""},{"$f":"IF(CEM_COM_CPMS_Detail!$B474=\"\",\"\",CEM_COM_CPMS_Detail!$B474)","v":""},{"$f":"IF(CEM_COM_CPMS_Detail!$C474=\"\",\"\",CEM_COM_CPMS_Detail!$C474)","v":""},{"$f":"IF(CEM_COM_CPMS_Detail!$D474=\"\",\"\",CEM_COM_CPMS_Detail!$D474)","v":""},"",{"$f":"IF(COUNTIF(AQ$2:AQ452,AQ452)=1,AQ452,\"\")","v":""},"","",""]
[{"$f":"+IF(D453=\"\",\"\",MAX(A$1:A452)+1)","v":""},{"$f":"IF(CEM_COM_CPMS_Identification!C475=\"\",\"\",CEM_COM_CPMS_Identification!C475)","v":""},"",{"$f":"IF(COUNTIF(B$2:B453,B453)=1,B453,\"\")","v":""},null,null,null,null,null,null,null,null,null,null,null,null,null,null,{"$f":"+IF(W453=\"\",\"\",MAX(S$1:S452)+1)","v":""},{"$f":"IF(Limits_Details!$B475=\"\",\"\",Limits_Details!$B475)","v":""},{"$f":"IF(Limits_Details!$C475=\"\",\"\",Limits_Details!$C475)","v":""},"",{"$f":"IF(COUNTIF(V$2:V453,V453)=1,V453,\"\")","v":""},"","",null,null,null,{"$f":"+IF(AH453=\"\",\"\",MAX(AC$1:AC452)+1)","v":""},{"$f":"IF(Limits_Details!$B475=\"\",\"\",Limits_Details!$B475)","v":""},{"$f":"IF(Limits_Details!$C475=\"\",\"\",Limits_Details!$C475)","v":""},{"$f":"IF(Limits_Details!$D475=\"\",\"\",Limits_Details!$D475)","v":""},"",{"$f":"IF(COUNTIF(AG$2:AG453,AG453)=1,AG453,\"\")","v":""},"","","",null,{"$f":"+IF(AR453=\"\",\"\",MAX(AM$1:AM452)+1)","v":""},{"$f":"IF(CEM_COM_CPMS_Detail!$B475=\"\",\"\",CEM_COM_CPMS_Detail!$B475)","v":""},{"$f":"IF(CEM_COM_CPMS_Detail!$C475=\"\",\"\",CEM_COM_CPMS_Detail!$C475)","v":""},{"$f":"IF(CEM_COM_CPMS_Detail!$D475=\"\",\"\",CEM_COM_CPMS_Detail!$D475)","v":""},"",{"$f":"IF(COUNTIF(AQ$2:AQ453,AQ453)=1,AQ453,\"\")","v":""},"","",""]
[{"$f":"+IF(D454=\"\",\"\",MAX(A$1:A453)+1)","v":""},{"$f":"IF(CEM_COM_CPMS_Identification!C476=\"\",\"\",CEM_COM_CPMS_Identification!C476)","v":""},"",{"$f":"IF(COUNTIF(B$2:B454,B454)=1,B454,\"\")","v":""},null,null,null,null,null,null,null,null,null,null,null,null,null,null,{"$f":"+IF(W454=\"\",\"\",MAX(S$1:S453)+1)","v":""},{"$f":"IF(Limits_Details!$B476=\"\",\"\",Limits_Details!$B476)","v":""},{"$f":"IF(Limits_Details!$C476=\"\",\"\",Limits_Details!$C476)","v":""},"",{"$f":"IF(COUNTIF(V$2:V454,V454)=1,V454,\"\")","v":""},"","",null,null,null,{"$f":"+IF(AH454=\"\",\"\",MAX(AC$1:AC453)+1)","v":""},{"$f":"IF(Limits_Details!$B476=\"\",\"\",Limits_Details!$B476)","v":""},{"$f":"IF(Limits_Details!$C476=\"\",\"\",Limits_Details!$C476)","v":""},{"$f":"IF(Limits_Details!$D476=\"\",\"\",Limits_Details!$D476)","v":""},"",{"$f":"IF(COUNTIF(AG$2:AG454,AG454)=1,AG454,\"\")","v":""},"","","",null,{"$f":"+IF(AR454=\"\",\"\",MAX(AM$1:AM453)+1)","v":""},{"$f":"IF(CEM_COM_CPMS_Detail!$B476=\"\",\"\",CEM_COM_CPMS_Detail!$B476)","v":""},{"$f":"IF(CEM_COM_CPMS_Detail!$C476=\"\",\"\",CEM_COM_CPMS_Detail!$C476)","v":""},{"$f":"IF(CEM_COM_CPMS_Detail!$D476=\"\",\"\",CEM_COM_CPMS_Detail!$D476)","v":""},"",{"$f":"IF(COUNTIF(AQ$2:AQ454,AQ454)=1,AQ454,\"\")","v":""},"","",""]
[{"$f":"+IF(D455=\"\",\"\",MAX(A$1:A454)+1)","v":""},{"$f":"IF(CEM_COM_CPMS_Identification!C477=\"\",\"\",CEM_COM_CPMS_Identification!C477)","v":""},"",{"$f":"IF(COUNTIF(B$2:B455,B455)=1,B455,\"\")","v":""},null,null,null,null,null,null,null,null,null,null,null,null,null,null,{"$f":"+IF(W455=\"\",\"\",MAX(S$1:S454)+1)","v":""},{"$f":"IF(Limits_Details!$B477=\"\",\"\",Limits_Details!$B477)","v":""},{"$f":"IF(Limits_Details!$C477=\"\",\"\",Limits_Details!$C477)","v":""},"",{"$f":"IF(COUNTIF(V$2:V455,V455)=1,V455,\"\")","v":""},"","",null,null,null,{"$f":"+IF(AH455=\"\",\"\",MAX(AC$1:AC454)+1)","v":""},{"$f":"IF(Limits_Details!$B477=\"\",\"\",Limits_Details!$B477)","v":""},{"$f":"IF(Limits_Details!$C477=\"\",\"\",Limits_Details!$C477)","v":""},{"$f":"IF(Limits_Details!$D477=\"\",\"\",Limits_Details!$D477)","v":""},"",{"$f":"IF(COUNTIF(AG$2:AG455,AG455)=1,AG455,\"\")","v":""},"","","",null,{"$f":"+IF(AR455=\"\",\"\",MAX(AM$1:AM454)+1)","v":""},{"$f":"IF(CEM_COM_CPMS_Detail!$B477=\"\",\"\",CEM_COM_CPMS_Detail!$B477)","v":""},{"$f":"IF(CEM_COM_CPMS_Detail!$C477=\"\",\"\",CEM_COM_CPMS_Detail!$C477)","v":""},{"$f":"IF(CEM_COM_CPMS_Detail!$D477=\"\",\"\",CEM_COM_CPMS_Detail!$D477)","v":""},"",{"$f":"IF(COUNTIF(AQ$2:AQ455,AQ455)=1,AQ455,\"\")","v":""},"","",""]
[{"$f":"+IF(D456=\"\",\"\",MAX(A$1:A455)+1)","v":""},{"$f":"IF(CEM_COM_CPMS_Identification!C478=\"\",\"\",CEM_COM_CPMS_Identification!C478)","v":""},"",{"$f":"IF(COUNTIF(B$2:B456,B456)=1,B456,\"\")","v":""},null,null,null,null,null,null,null,null,null,null,null,null,null,null,{"$f":"+IF(W456=\"\",\"\",MAX(S$1:S455)+1)","v":""},{"$f":"IF(Limits_Details!$B478=\"\",\"\",Limits_Details!$B478)","v":""},{"$f":"IF(Limits_Details!$C478=\"\",\"\",Limits_Details!$C478)","v":""},"",{"$f":"IF(COUNTIF(V$2:V456,V456)=1,V456,\"\")","v":""},"","",null,null,null,{"$f":"+IF(AH456=\"\",\"\",MAX(AC$1:AC455)+1)","v":""},{"$f":"IF(Limits_Details!$B478=\"\",\"\",Limits_Details!$B478)","v":""},{"$f":"IF(Limits_Details!$C478=\"\",\"\",Limits_Details!$C478)","v":""},{"$f":"IF(Limits_Details!$D478=\"\",\"\",Limits_Details!$D478)","v":""},"",{"$f":"IF(COUNTIF(AG$2:AG456,AG456)=1,AG456,\"\")","v":""},"","","",null,{"$f":"+IF(AR456=\"\",\"\",MAX(AM$1:AM455)+1)","v":""},{"$f":"IF(CEM_COM_CPMS_Detail!$B478=\"\",\"\",CEM_COM_CPMS_Detail!$B478)","v":""},{"$f":"IF(CEM_COM_CPMS_Detail!$C478=\"\",\"\",CEM_COM_CPMS_Detail!$C478)","v":""},{"$f":"IF(CEM_COM_CPMS_Detail!$D478=\"\",\"\",CEM_COM_CPMS_Detail!$D478)","v":""},"",{"$f":"IF(COUNTIF(AQ$2:AQ456,AQ456)=1,AQ456,\"\")","v":""},"","",""]
[{"$f":"+IF(D457=\"\",\"\",MAX(A$1:A456)+1)","v":""},{"$f":"IF(CEM_COM_CPMS_Identification!C479=\"\",\"\",CEM_COM_CPMS_Identification!C479)","v":""},"",{"$f":"IF(COUNTIF(B$2:B457,B457)=1,B457,\"\")","v":""},null,null,null,null,null,null,null,null,null,null,null,null,null,null,{"$f":"+IF(W457=\"\",\"\",MAX(S$1:S456)+1)","v":""},{"$f":"IF(Limits_Details!$B479=\"\",\"\",Limits_Details!$B479)","v":""},{"$f":"IF(Limits_Details!$C479=\"\",\"\",Limits_Details!$C479)","v":""},"",{"$f":"IF(COUNTIF(V$2:V457,V457)=1,V457,\"\")","v":""},"","",null,null,null,{"$f":"+IF(AH457=\"\",\"\",MAX(AC$1:AC456)+1)","v":""},{"$f":"IF(Limits_Details!$B479=\"\",\"\",Limits_Details!$B479)","v":""},{"$f":"IF(Limits_Details!$C479=\"\",\"\",Limits_Details!$C479)","v":""},{"$f":"IF(Limits_Details!$D479=\"\",\"\",Limits_Details!$D479)","v":""},"",{"$f":"IF(COUNTIF(AG$2:AG457,AG457)=1,AG457,\"\")","v":""},"","","",null,{"$f":"+IF(AR457=\"\",\"\",MAX(AM$1:AM456)+1)","v":""},{"$f":"IF(CEM_COM_CPMS_Detail!$B479=\"\",\"\",CEM_COM_CPMS_Detail!$B479)","v":""},{"$f":"IF(CEM_COM_CPMS_Detail!$C479=\"\",\"\",CEM_COM_CPMS_Detail!$C479)","v":""},{"$f":"IF(CEM_COM_CPMS_Detail!$D479=\"\",\"\",CEM_COM_CPMS_Detail!$D479)","v":""},"",{"$f":"IF(COUNTIF(AQ$2:AQ457,AQ457)=1,AQ457,\"\")","v":""},"","",""]
[{"$f":"+IF(D458=\"\",\"\",MAX(A$1:A457)+1)","v":""},{"$f":"IF(CEM_COM_CPMS_Identification!C480=\"\",\"\",CEM_COM_CPMS_Identification!C480)","v":""},"",{"$f":"IF(COUNTIF(B$2:B458,B458)=1,B458,\"\")","v":""},null,null,null,null,null,null,null,null,null,null,null,null,null,null,{"$f":"+IF(W458=\"\",\"\",MAX(S$1:S457)+1)","v":""},{"$f":"IF(Limits_Details!$B480=\"\",\"\",Limits_Details!$B480)","v":""},{"$f":"IF(Limits_Details!$C480=\"\",\"\",Limits_Details!$C480)","v":""},"",{"$f":"IF(COUNTIF(V$2:V458,V458)=1,V458,\"\")","v":""},"","",null,null,null,{"$f":"+IF(AH458=\"\",\"\",MAX(AC$1:AC457)+1)","v":""},{"$f":"IF(Limits_Details!$B480=\"\",\"\",Limits_Details!$B480)","v":""},{"$f":"IF(Limits_Details!$C480=\"\",\"\",Limits_Details!$C480)","v":""},{"$f":"IF(Limits_Details!$D480=\"\",\"\",Limits_Details!$D480)","v":""},"",{"$f":"IF(COUNTIF(AG$2:AG458,AG458)=1,AG458,\"\")","v":""},"","","",null,{"$f":"+IF(AR458=\"\",\"\",MAX(AM$1:AM457)+1)","v":""},{"$f":"IF(CEM_COM_CPMS_Detail!$B480=\"\",\"\",CEM_COM_CPMS_Detail!$B480)","v":""},{"$f":"IF(CEM_COM_CPMS_Detail!$C480=\"\",\"\",CEM_COM_CPMS_Detail!$C480)","v":""},{"$f":"IF(CEM_COM_CPMS_Detail!$D480=\"\",\"\",CEM_COM_CPMS_Detail!$D480)","v":""},"",{"$f":"IF(COUNTIF(AQ$2:AQ458,AQ458)=1,AQ458,\"\")","v":""},"","",""]
[{"$f":"+IF(D459=\"\",\"\",MAX(A$1:A458)+1)","v":""},{"$f":"IF(CEM_COM_CPMS_Identification!C481=\"\",\"\",CEM_COM_CPMS_Identification!C481)","v":""},"",{"$f":"IF(COUNTIF(B$2:B459,B459)=1,B459,\"\")","v":""},null,null,null,null,null,null,null,null,null,null,null,null,null,null,{"$f":"+IF(W459=\"\",\"\",MAX(S$1:S458)+1)","v":""},{"$f":"IF(Limits_Details!$B481=\"\",\"\",Limits_Details!$B481)","v":""},{"$f":"IF(Limits_Details!$C481=\"\",\"\",Limits_Details!$C481)","v":""},"",{"$f":"IF(COUNTIF(V$2:V459,V459)=1,V459,\"\")","v":""},"","",null,null,null,{"$f":"+IF(AH459=\"\",\"\",MAX(AC$1:AC458)+1)","v":""},{"$f":"IF(Limits_Details!$B481=\"\",\"\",Limits_Details!$B481)","v":""},{"$f":"IF(Limits_Details!$C481=\"\",\"\",Limits_Details!$C481)","v":""},{"$f":"IF(Limits_Details!$D481=\"\",\"\",Limits_Details!$D481)","v":""},"",{"$f":"IF(COUNTIF(AG$2:AG459,AG459)=1,AG459,\"\")","v":""},"","","",null,{"$f":"+IF(AR459=\"\",\"\",MAX(AM$1:AM458)+1)","v":""},{"$f":"IF(CEM_COM_CPMS_Detail!$B481=\"\",\"\",CEM_COM_CPMS_Detail!$B481)","v":""},{"$f":"IF(CEM_COM_CPMS_Detail!$C481=\"\",\"\",CEM_COM_CPMS_Detail!$C481)","v":""},{"$f":"IF(CEM_COM_CPMS_Detail!$D481=\"\",\"\",CEM_COM_CPMS_Detail!$D481)","v":""},"",{"$f":"IF(COUNTIF(AQ$2:AQ459,AQ459)=1,AQ459,\"\")","v":""},"","",""]
[{"$f":"+IF(D460=\"\",\"\",MAX(A$1:A459)+1)","v":""},{"$f":"IF(CEM_COM_CPMS_Identification!C482=\"\",\"\",CEM_COM_CPMS_Identification!C482)","v":""},"",{"$f":"IF(COUNTIF(B$2:B460,B460)=1,B460,\"\")","v":""},null,null,null,null,null,null,null,null,null,null,null,null,null,null,{"$f":"+IF(W460=\"\",\"\",MAX(S$1:S459)+1)","v":""},{"$f":"IF(Limits_Details!$B482=\"\",\"\",Limits_Details!$B482)","v":""},{"$f":"IF(Limits_Details!$C482=\"\",\"\",Limits_Details!$C482)","v":""},"",{"$f":"IF(COUNTIF(V$2:V460,V460)=1,V460,\"\")","v":""},"","",null,null,null,{"$f":"+IF(AH460=\"\",\"\",MAX(AC$1:AC459)+1)","v":""},{"$f":"IF(Limits_Details!$B482=\"\",\"\",Limits_Details!$B482)","v":""},{"$f":"IF(Limits_Details!$C482=\"\",\"\",Limits_Details!$C482)","v":""},{"$f":"IF(Limits_Details!$D482=\"\",\"\",Limits_Details!$D482)","v":""},"",{"$f":"IF(COUNTIF(AG$2:AG460,AG460)=1,AG460,\"\")","v":""},"","","",null,{"$f":"+IF(AR460=\"\",\"\",MAX(AM$1:AM459)+1)","v":""},{"$f":"IF(CEM_COM_CPMS_Detail!$B482=\"\",\"\",CEM_COM_CPMS_Detail!$B482)","v":""},{"$f":"IF(CEM_COM_CPMS_Detail!$C482=\"\",\"\",CEM_COM_CPMS_Detail!$C482)","v":""},{"$f":"IF(CEM_COM_CPMS_Detail!$D482=\"\",\"\",CEM_COM_CPMS_Detail!$D482)","v":""},"",{"$f":"IF(COUNTIF(AQ$2:AQ460,AQ460)=1,AQ460,\"\")","v":""},"","",""]
[{"$f":"+IF(D461=\"\",\"\",MAX(A$1:A460)+1)","v":""},{"$f":"IF(CEM_COM_CPMS_Identification!C483=\"\",\"\",CEM_COM_CPMS_Identification!C483)","v":""},"",{"$f":"IF(COUNTIF(B$2:B461,B461)=1,B461,\"\")","v":""},null,null,null,null,null,null,null,null,null,null,null,null,null,null,{"$f":"+IF(W461=\"\",\"\",MAX(S$1:S460)+1)","v":""},{"$f":"IF(Limits_Details!$B483=\"\",\"\",Limits_Details!$B483)","v":""},{"$f":"IF(Limits_Details!$C483=\"\",\"\",Limits_Details!$C483)","v":""},"",{"$f":"IF(COUNTIF(V$2:V461,V461)=1,V461,\"\")","v":""},"","",null,null,null,{"$f":"+IF(AH461=\"\",\"\",MAX(AC$1:AC460)+1)","v":""},{"$f":"IF(Limits_Details!$B483=\"\",\"\",Limits_Details!$B483)","v":""},{"$f":"IF(Limits_Details!$C483=\"\",\"\",Limits_Details!$C483)","v":""},{"$f":"IF(Limits_Details!$D483=\"\",\"\",Limits_Details!$D483)","v":""},"",{"$f":"IF(COUNTIF(AG$2:AG461,AG461)=1,AG461,\"\")","v":""},"","","",null,{"$f":"+IF(AR461=\"\",\"\",MAX(AM$1:AM460)+1)","v":""},{"$f":"IF(CEM_COM_CPMS_Detail!$B483=\"\",\"\",CEM_COM_CPMS_Detail!$B483)","v":""},{"$f":"IF(CEM_COM_CPMS_Detail!$C483=\"\",\"\",CEM_COM_CPMS_Detail!$C483)","v":""},{"$f":"IF(CEM_COM_CPMS_Detail!$D483=\"\",\"\",CEM_COM_CPMS_Detail!$D483)","v":""},"",{"$f":"IF(COUNTIF(AQ$2:AQ461,AQ461)=1,AQ461,\"\")","v":""},"","",""]
[{"$f":"+IF(D462=\"\",\"\",MAX(A$1:A461)+1)","v":""},{"$f":"IF(CEM_COM_CPMS_Identification!C484=\"\",\"\",CEM_COM_CPMS_Identification!C484)","v":""},"",{"$f":"IF(COUNTIF(B$2:B462,B462)=1,B462,\"\")","v":""},null,null,null,null,null,null,null,null,null,null,null,null,null,null,{"$f":"+IF(W462=\"\",\"\",MAX(S$1:S461)+1)","v":""},{"$f":"IF(Limits_Details!$B484=\"\",\"\",Limits_Details!$B484)","v":""},{"$f":"IF(Limits_Details!$C484=\"\",\"\",Limits_Details!$C484)","v":""},"",{"$f":"IF(COUNTIF(V$2:V462,V462)=1,V462,\"\")","v":""},"","",null,null,null,{"$f":"+IF(AH462=\"\",\"\",MAX(AC$1:AC461)+1)","v":""},{"$f":"IF(Limits_Details!$B484=\"\",\"\",Limits_Details!$B484)","v":""},{"$f":"IF(Limits_Details!$C484=\"\",\"\",Limits_Details!$C484)","v":""},{"$f":"IF(Limits_Details!$D484=\"\",\"\",Limits_Details!$D484)","v":""},"",{"$f":"IF(COUNTIF(AG$2:AG462,AG462)=1,AG462,\"\")","v":""},"","","",null,{"$f":"+IF(AR462=\"\",\"\",MAX(AM$1:AM461)+1)","v":""},{"$f":"IF(CEM_COM_CPMS_Detail!$B484=\"\",\"\",CEM_COM_CPMS_Detail!$B484)","v":""},{"$f":"IF(CEM_COM_CPMS_Detail!$C484=\"\",\"\",CEM_COM_CPMS_Detail!$C484)","v":""},{"$f":"IF(CEM_COM_CPMS_Detail!$D484=\"\",\"\",CEM_COM_CPMS_Detail!$D484)","v":""},"",{"$f":"IF(COUNTIF(AQ$2:AQ462,AQ462)=1,AQ462,\"\")","v":""},"","",""]
[{"$f":"+IF(D463=\"\",\"\",MAX(A$1:A462)+1)","v":""},{"$f":"IF(CEM_COM_CPMS_Identification!C485=\"\",\"\",CEM_COM_CPMS_Identification!C485)","v":""},"",{"$f":"IF(COUNTIF(B$2:B463,B463)=1,B463,\"\")","v":""},null,null,null,null,null,null,null,null,null,null,null,null,null,null,{"$f":"+IF(W463=\"\",\"\",MAX(S$1:S462)+1)","v":""},{"$f":"IF(Limits_Details!$B485=\"\",\"\",Limits_Details!$B485)","v":""},{"$f":"IF(Limits_Details!$C485=\"\",\"\",Limits_Details!$C485)","v":""},"",{"$f":"IF(COUNTIF(V$2:V463,V463)=1,V463,\"\")","v":""},"","",null,null,null,{"$f":"+IF(AH463=\"\",\"\",MAX(AC$1:AC462)+1)","v":""},{"$f":"IF(Limits_Details!$B485=\"\",\"\",Limits_Details!$B485)","v":""},{"$f":"IF(Limits_Details!$C485=\"\",\"\",Limits_Details!$C485)","v":""},{"$f":"IF(Limits_Details!$D485=\"\",\"\",Limits_Details!$D485)","v":""},"",{"$f":"IF(COUNTIF(AG$2:AG463,AG463)=1,AG463,\"\")","v":""},"","","",null,{"$f":"+IF(AR463=\"\",\"\",MAX(AM$1:AM462)+1)","v":""},{"$f":"IF(CEM_COM_CPMS_Detail!$B485=\"\",\"\",CEM_COM_CPMS_Detail!$B485)","v":""},{"$f":"IF(CEM_COM_CPMS_Detail!$C485=\"\",\"\",CEM_COM_CPMS_Detail!$C485)","v":""},{"$f":"IF(CEM_COM_CPMS_Detail!$D485=\"\",\"\",CEM_COM_CPMS_Detail!$D485)","v":""},"",{"$f":"IF(COUNTIF(AQ$2:AQ463,AQ463)=1,AQ463,\"\")","v":""},"","",""]
[{"$f":"+IF(D464=\"\",\"\",MAX(A$1:A463)+1)","v":""},{"$f":"IF(CEM_COM_CPMS_Identification!C486=\"\",\"\",CEM_COM_CPMS_Identification!C486)","v":""},"",{"$f":"IF(COUNTIF(B$2:B464,B464)=1,B464,\"\")","v":""},null,null,null,null,null,null,null,null,null,null,null,null,null,null,{"$f":"+IF(W464=\"\",\"\",MAX(S$1:S463)+1)","v":""},{"$f":"IF(Limits_Details!$B486=\"\",\"\",Limits_Details!$B486)","v":""},{"$f":"IF(Limits_Details!$C486=\"\",\"\",Limits_Details!$C486)","v":""},"",{"$f":"IF(COUNTIF(V$2:V464,V464)=1,V464,\"\")","v":""},"","",null,null,null,{"$f":"+IF(AH464=\"\",\"\",MAX(AC$1:AC463)+1)","v":""},{"$f":"IF(Limits_Details!$B486=\"\",\"\",Limits_Details!$B486)","v":""},{"$f":"IF(Limits_Details!$C486=\"\",\"\",Limits_Details!$C486)","v":""},{"$f":"IF(Limits_Details!$D486=\"\",\"\",Limits_Details!$D486)","v":""},"",{"$f":"IF(COUNTIF(AG$2:AG464,AG464)=1,AG464,\"\")","v":""},"","","",null,{"$f":"+IF(AR464=\"\",\"\",MAX(AM$1:AM463)+1)","v":""},{"$f":"IF(CEM_COM_CPMS_Detail!$B486=\"\",\"\",CEM_COM_CPMS_Detail!$B486)","v":""},{"$f":"IF(CEM_COM_CPMS_Detail!$C486=\"\",\"\",CEM_COM_CPMS_Detail!$C486)","v":""},{"$f":"IF(CEM_COM_CPMS_Detail!$D486=\"\",\"\",CEM_COM_CPMS_Detail!$D486)","v":""},"",{"$f":"IF(COUNTIF(AQ$2:AQ464,AQ464)=1,AQ464,\"\")","v":""},"","",""]
[{"$f":"+IF(D465=\"\",\"\",MAX(A$1:A464)+1)","v":""},{"$f":"IF(CEM_COM_CPMS_Identification!C487=\"\",\"\",CEM_COM_CPMS_Identification!C487)","v":""},"",{"$f":"IF(COUNTIF(B$2:B465,B465)=1,B465,\"\")","v":""},null,null,null,null,null,null,null,null,null,null,null,null,null,null,{"$f":"+IF(W465=\"\",\"\",MAX(S$1:S464)+1)","v":""},{"$f":"IF(Limits_Details!$B487=\"\",\"\",Limits_Details!$B487)","v":""},{"$f":"IF(Limits_Details!$C487=\"\",\"\",Limits_Details!$C487)","v":""},"",{"$f":"IF(COUNTIF(V$2:V465,V465)=1,V465,\"\")","v":""},"","",null,null,null,{"$f":"+IF(AH465=\"\",\"\",MAX(AC$1:AC464)+1)","v":""},{"$f":"IF(Limits_Details!$B487=\"\",\"\",Limits_Details!$B487)","v":""},{"$f":"IF(Limits_Details!$C487=\"\",\"\",Limits_Details!$C487)","v":""},{"$f":"IF(Limits_Details!$D487=\"\",\"\",Limits_Details!$D487)","v":""},"",{"$f":"IF(COUNTIF(AG$2:AG465,AG465)=1,AG465,\"\")","v":""},"","","",null,{"$f":"+IF(AR465=\"\",\"\",MAX(AM$1:AM464)+1)","v":""},{"$f":"IF(CEM_COM_CPMS_Detail!$B487=\"\",\"\",CEM_COM_CPMS_Detail!$B487)","v":""},{"$f":"IF(CEM_COM_CPMS_Detail!$C487=\"\",\"\",CEM_COM_CPMS_Detail!$C487)","v":""},{"$f":"IF(CEM_COM_CPMS_Detail!$D487=\"\",\"\",CEM_COM_CPMS_Detail!$D487)","v":""},"",{"$f":"IF(COUNTIF(AQ$2:AQ465,AQ465)=1,AQ465,\"\")","v":""},"","",""]
[{"$f":"+IF(D466=\"\",\"\",MAX(A$1:A465)+1)","v":""},{"$f":"IF(CEM_COM_CPMS_Identification!C488=\"\",\"\",CEM_COM_CPMS_Identification!C488)","v":""},"",{"$f":"IF(COUNTIF(B$2:B466,B466)=1,B466,\"\")","v":""},null,null,null,null,null,null,null,null,null,null,null,null,null,null,{"$f":"+IF(W466=\"\",\"\",MAX(S$1:S465)+1)","v":""},{"$f":"IF(Limits_Details!$B488=\"\",\"\",Limits_Details!$B488)","v":""},{"$f":"IF(Limits_Details!$C488=\"\",\"\",Limits_Details!$C488)","v":""},"",{"$f":"IF(COUNTIF(V$2:V466,V466)=1,V466,\"\")","v":""},"","",null,null,null,{"$f":"+IF(AH466=\"\",\"\",MAX(AC$1:AC465)+1)","v":""},{"$f":"IF(Limits_Details!$B488=\"\",\"\",Limits_Details!$B488)","v":""},{"$f":"IF(Limits_Details!$C488=\"\",\"\",Limits_Details!$C488)","v":""},{"$f":"IF(Limits_Details!$D488=\"\",\"\",Limits_Details!$D488)","v":""},"",{"$f":"IF(COUNTIF(AG$2:AG466,AG466)=1,AG466,\"\")","v":""},"","","",null,{"$f":"+IF(AR466=\"\",\"\",MAX(AM$1:AM465)+1)","v":""},{"$f":"IF(CEM_COM_CPMS_Detail!$B488=\"\",\"\",CEM_COM_CPMS_Detail!$B488)","v":""},{"$f":"IF(CEM_COM_CPMS_Detail!$C488=\"\",\"\",CEM_COM_CPMS_Detail!$C488)","v":""},{"$f":"IF(CEM_COM_CPMS_Detail!$D488=\"\",\"\",CEM_COM_CPMS_Detail!$D488)","v":""},"",{"$f":"IF(COUNTIF(AQ$2:AQ466,AQ466)=1,AQ466,\"\")","v":""},"","",""]
[{"$f":"+IF(D467=\"\",\"\",MAX(A$1:A466)+1)","v":""},{"$f":"IF(CEM_COM_CPMS_Identification!C489=\"\",\"\",CEM_COM_CPMS_Identification!C489)","v":""},"",{"$f":"IF(COUNTIF(B$2:B467,B467)=1,B467,\"\")","v":""},null,null,null,null,null,null,null,null,null,null,null,null,null,null,{"$f":"+IF(W467=\"\",\"\",MAX(S$1:S466)+1)","v":""},{"$f":"IF(Limits_Details!$B489=\"\",\"\",Limits_Details!$B489)","v":""},{"$f":"IF(Limits_Details!$C489=\"\",\"\",Limits_Details!$C489)","v":""},"",{"$f":"IF(COUNTIF(V$2:V467,V467)=1,V467,\"\")","v":""},"","",null,null,null,{"$f":"+IF(AH467=\"\",\"\",MAX(AC$1:AC466)+1)","v":""},{"$f":"IF(Limits_Details!$B489=\"\",\"\",Limits_Details!$B489)","v":""},{"$f":"IF(Limits_Details!$C489=\"\",\"\",Limits_Details!$C489)","v":""},{"$f":"IF(Limits_Details!$D489=\"\",\"\",Limits_Details!$D489)","v":""},"",{"$f":"IF(COUNTIF(AG$2:AG467,AG467)=1,AG467,\"\")","v":""},"","","",null,{"$f":"+IF(AR467=\"\",\"\",MAX(AM$1:AM466)+1)","v":""},{"$f":"IF(CEM_COM_CPMS_Detail!$B489=\"\",\"\",CEM_COM_CPMS_Detail!$B489)","v":""},{"$f":"IF(CEM_COM_CPMS_Detail!$C489=\"\",\"\",CEM_COM_CPMS_Detail!$C489)","v":""},{"$f":"IF(CEM_COM_CPMS_Detail!$D489=\"\",\"\",CEM_COM_CPMS_Detail!$D489)","v":""},"",{"$f":"IF(COUNTIF(AQ$2:AQ467,AQ467)=1,AQ467,\"\")","v":""},"","",""]
[{"$f":"+IF(D468=\"\",\"\",MAX(A$1:A467)+1)","v":""},{"$f":"IF(CEM_COM_CPMS_Identification!C490=\"\",\"\",CEM_COM_CPMS_Identification!C490)","v":""},"",{"$f":"IF(COUNTIF(B$2:B468,B468)=1,B468,\"\")","v":""},null,null,null,null,null,null,null,null,null,null,null,null,null,null,{"$f":"+IF(W468=\"\",\"\",MAX(S$1:S467)+1)","v":""},{"$f":"IF(Limits_Details!$B490=\"\",\"\",Limits_Details!$B490)","v":""},{"$f":"IF(Limits_Details!$C490=\"\",\"\",Limits_Details!$C490)","v":""},"",{"$f":"IF(COUNTIF(V$2:V468,V468)=1,V468,\"\")","v":""},"","",null,null,null,{"$f":"+IF(AH468=\"\",\"\",MAX(AC$1:AC467)+1)","v":""},{"$f":"IF(Limits_Details!$B490=\"\",\"\",Limits_Details!$B490)","v":""},{"$f":"IF(Limits_Details!$C490=\"\",\"\",Limits_Details!$C490)","v":""},{"$f":"IF(Limits_Details!$D490=\"\",\"\",Limits_Details!$D490)","v":""},"",{"$f":"IF(COUNTIF(AG$2:AG468,AG468)=1,AG468,\"\")","v":""},"","","",null,{"$f":"+IF(AR468=\"\",\"\",MAX(AM$1:AM467)+1)","v":""},{"$f":"IF(CEM_COM_CPMS_Detail!$B490=\"\",\"\",CEM_COM_CPMS_Detail!$B490)","v":""},{"$f":"IF(CEM_COM_CPMS_Detail!$C490=\"\",\"\",CEM_COM_CPMS_Detail!$C490)","v":""},{"$f":"IF(CEM_COM_CPMS_Detail!$D490=\"\",\"\",CEM_COM_CPMS_Detail!$D490)","v":""},"",{"$f":"IF(COUNTIF(AQ$2:AQ468,AQ468)=1,AQ468,\"\")","v":""},"","",""]
[{"$f":"+IF(D469=\"\",\"\",MAX(A$1:A468)+1)","v":""},{"$f":"IF(CEM_COM_CPMS_Identification!C491=\"\",\"\",CEM_COM_CPMS_Identification!C491)","v":""},"",{"$f":"IF(COUNTIF(B$2:B469,B469)=1,B469,\"\")","v":""},null,null,null,null,null,null,null,null,null,null,null,null,null,null,{"$f":"+IF(W469=\"\",\"\",MAX(S$1:S468)+1)","v":""},{"$f":"IF(Limits_Details!$B491=\"\",\"\",Limits_Details!$B491)","v":""},{"$f":"IF(Limits_Details!$C491=\"\",\"\",Limits_Details!$C491)","v":""},"",{"$f":"IF(COUNTIF(V$2:V469,V469)=1,V469,\"\")","v":""},"","",null,null,null,{"$f":"+IF(AH469=\"\",\"\",MAX(AC$1:AC468)+1)","v":""},{"$f":"IF(Limits_Details!$B491=\"\",\"\",Limits_Details!$B491)","v":""},{"$f":"IF(Limits_Details!$C491=\"\",\"\",Limits_Details!$C491)","v":""},{"$f":"IF(Limits_Details!$D491=\"\",\"\",Limits_Details!$D491)","v":""},"",{"$f":"IF(COUNTIF(AG$2:AG469,AG469)=1,AG469,\"\")","v":""},"","","",null,{"$f":"+IF(AR469=\"\",\"\",MAX(AM$1:AM468)+1)","v":""},{"$f":"IF(CEM_COM_CPMS_Detail!$B491=\"\",\"\",CEM_COM_CPMS_Detail!$B491)","v":""},{"$f":"IF(CEM_COM_CPMS_Detail!$C491=\"\",\"\",CEM_COM_CPMS_Detail!$C491)","v":""},{"$f":"IF(CEM_COM_CPMS_Detail!$D491=\"\",\"\",CEM_COM_CPMS_Detail!$D491)","v":""},"",{"$f":"IF(COUNTIF(AQ$2:AQ469,AQ469)=1,AQ469,\"\")","v":""},"","",""]
[{"$f":"+IF(D470=\"\",\"\",MAX(A$1:A469)+1)","v":""},{"$f":"IF(CEM_COM_CPMS_Identification!C492=\"\",\"\",CEM_COM_CPMS_Identification!C492)","v":""},"",{"$f":"IF(COUNTIF(B$2:B470,B470)=1,B470,\"\")","v":""},null,null,null,null,null,null,null,null,null,null,null,null,null,null,{"$f":"+IF(W470=\"\",\"\",MAX(S$1:S469)+1)","v":""},{"$f":"IF(Limits_Details!$B492=\"\",\"\",Limits_Details!$B492)","v":""},{"$f":"IF(Limits_Details!$C492=\"\",\"\",Limits_Details!$C492)","v":""},"",{"$f":"IF(COUNTIF(V$2:V470,V470)=1,V470,\"\")","v":""},"","",null,null,null,{"$f":"+IF(AH470=\"\",\"\",MAX(AC$1:AC469)+1)","v":""},{"$f":"IF(Limits_Details!$B492=\"\",\"\",Limits_Details!$B492)","v":""},{"$f":"IF(Limits_Details!$C492=\"\",\"\",Limits_Details!$C492)","v":""},{"$f":"IF(Limits_Details!$D492=\"\",\"\",Limits_Details!$D492)","v":""},"",{"$f":"IF(COUNTIF(AG$2:AG470,AG470)=1,AG470,\"\")","v":""},"","","",null,{"$f":"+IF(AR470=\"\",\"\",MAX(AM$1:AM469)+1)","v":""},{"$f":"IF(CEM_COM_CPMS_Detail!$B492=\"\",\"\",CEM_COM_CPMS_Detail!$B492)","v":""},{"$f":"IF(CEM_COM_CPMS_Detail!$C492=\"\",\"\",CEM_COM_CPMS_Detail!$C492)","v":""},{"$f":"IF(CEM_COM_CPMS_Detail!$D492=\"\",\"\",CEM_COM_CPMS_Detail!$D492)","v":""},"",{"$f":"IF(COUNTIF(AQ$2:AQ470,AQ470)=1,AQ470,\"\")","v":""},"","",""]
[{"$f":"+IF(D471=\"\",\"\",MAX(A$1:A470)+1)","v":""},{"$f":"IF(CEM_COM_CPMS_Identification!C493=\"\",\"\",CEM_COM_CPMS_Identification!C493)","v":""},"",{"$f":"IF(COUNTIF(B$2:B471,B471)=1,B471,\"\")","v":""},null,null,null,null,null,null,null,null,null,null,null,null,null,null,{"$f":"+IF(W471=\"\",\"\",MAX(S$1:S470)+1)","v":""},{"$f":"IF(Limits_Details!$B493=\"\",\"\",Limits_Details!$B493)","v":""},{"$f":"IF(Limits_Details!$C493=\"\",\"\",Limits_Details!$C493)","v":""},"",{"$f":"IF(COUNTIF(V$2:V471,V471)=1,V471,\"\")","v":""},"","",null,null,null,{"$f":"+IF(AH471=\"\",\"\",MAX(AC$1:AC470)+1)","v":""},{"$f":"IF(Limits_Details!$B493=\"\",\"\",Limits_Details!$B493)","v":""},{"$f":"IF(Limits_Details!$C493=\"\",\"\",Limits_Details!$C493)","v":""},{"$f":"IF(Limits_Details!$D493=\"\",\"\",Limits_Details!$D493)","v":""},"",{"$f":"IF(COUNTIF(AG$2:AG471,AG471)=1,AG471,\"\")","v":""},"","","",null,{"$f":"+IF(AR471=\"\",\"\",MAX(AM$1:AM470)+1)","v":""},{"$f":"IF(CEM_COM_CPMS_Detail!$B493=\"\",\"\",CEM_COM_CPMS_Detail!$B493)","v":""},{"$f":"IF(CEM_COM_CPMS_Detail!$C493=\"\",\"\",CEM_COM_CPMS_Detail!$C493)","v":""},{"$f":"IF(CEM_COM_CPMS_Detail!$D493=\"\",\"\",CEM_COM_CPMS_Detail!$D493)","v":""},"",{"$f":"IF(COUNTIF(AQ$2:AQ471,AQ471)=1,AQ471,\"\")","v":""},"","",""]
[{"$f":"+IF(D472=\"\",\"\",MAX(A$1:A471)+1)","v":""},{"$f":"IF(CEM_COM_CPMS_Identification!C494=\"\",\"\",CEM_COM_CPMS_Identification!C494)","v":""},"",{"$f":"IF(COUNTIF(B$2:B472,B472)=1,B472,\"\")","v":""},null,null,null,null,null,null,null,null,null,null,null,null,null,null,{"$f":"+IF(W472=\"\",\"\",MAX(S$1:S471)+1)","v":""},{"$f":"IF(Limits_Details!$B494=\"\",\"\",Limits_Details!$B494)","v":""},{"$f":"IF(Limits_Details!$C494=\"\",\"\",Limits_Details!$C494)","v":""},"",{"$f":"IF(COUNTIF(V$2:V472,V472)=1,V472,\"\")","v":""},"","",null,null,null,{"$f":"+IF(AH472=\"\",\"\",MAX(AC$1:AC471)+1)","v":""},{"$f":"IF(Limits_Details!$B494=\"\",\"\",Limits_Details!$B494)","v":""},{"$f":"IF(Limits_Details!$C494=\"\",\"\",Limits_Details!$C494)","v":""},{"$f":"IF(Limits_Details!$D494=\"\",\"\",Limits_Details!$D494)","v":""},"",{"$f":"IF(COUNTIF(AG$2:AG472,AG472)=1,AG472,\"\")","v":""},"","","",null,{"$f":"+IF(AR472=\"\",\"\",MAX(AM$1:AM471)+1)","v":""},{"$f":"IF(CEM_COM_CPMS_Detail!$B494=\"\",\"\",CEM_COM_CPMS_Detail!$B494)","v":""},{"$f":"IF(CEM_COM_CPMS_Detail!$C494=\"\",\"\",CEM_COM_CPMS_Detail!$C494)","v":""},{"$f":"IF(CEM_COM_CPMS_Detail!$D494=\"\",\"\",CEM_COM_CPMS_Detail!$D494)","v":""},"",{"$f":"IF(COUNTIF(AQ$2:AQ472,AQ472)=1,AQ472,\"\")","v":""},"","",""]
[{"$f":"+IF(D473=\"\",\"\",MAX(A$1:A472)+1)","v":""},{"$f":"IF(CEM_COM_CPMS_Identification!C495=\"\",\"\",CEM_COM_CPMS_Identification!C495)","v":""},"",{"$f":"IF(COUNTIF(B$2:B473,B473)=1,B473,\"\")","v":""},null,null,null,null,null,null,null,null,null,null,null,null,null,null,{"$f":"+IF(W473=\"\",\"\",MAX(S$1:S472)+1)","v":""},{"$f":"IF(Limits_Details!$B495=\"\",\"\",Limits_Details!$B495)","v":""},{"$f":"IF(Limits_Details!$C495=\"\",\"\",Limits_Details!$C495)","v":""},"",{"$f":"IF(COUNTIF(V$2:V473,V473)=1,V473,\"\")","v":""},"","",null,null,null,{"$f":"+IF(AH473=\"\",\"\",MAX(AC$1:AC472)+1)","v":""},{"$f":"IF(Limits_Details!$B495=\"\",\"\",Limits_Details!$B495)","v":""},{"$f":"IF(Limits_Details!$C495=\"\",\"\",Limits_Details!$C495)","v":""},{"$f":"IF(Limits_Details!$D495=\"\",\"\",Limits_Details!$D495)","v":""},"",{"$f":"IF(COUNTIF(AG$2:AG473,AG473)=1,AG473,\"\")","v":""},"","","",null,{"$f":"+IF(AR473=\"\",\"\",MAX(AM$1:AM472)+1)","v":""},{"$f":"IF(CEM_COM_CPMS_Detail!$B495=\"\",\"\",CEM_COM_CPMS_Detail!$B495)","v":""},{"$f":"IF(CEM_COM_CPMS_Detail!$C495=\"\",\"\",CEM_COM_CPMS_Detail!$C495)","v":""},{"$f":"IF(CEM_COM_CPMS_Detail!$D495=\"\",\"\",CEM_COM_CPMS_Detail!$D495)","v":""},"",{"$f":"IF(COUNTIF(AQ$2:AQ473,AQ473)=1,AQ473,\"\")","v":""},"","",""]
[{"$f":"+IF(D474=\"\",\"\",MAX(A$1:A473)+1)","v":""},{"$f":"IF(CEM_COM_CPMS_Identification!C496=\"\",\"\",CEM_COM_CPMS_Identification!C496)","v":""},"",{"$f":"IF(COUNTIF(B$2:B474,B474)=1,B474,\"\")","v":""},null,null,null,null,null,null,null,null,null,null,null,null,null,null,{"$f":"+IF(W474=\"\",\"\",MAX(S$1:S473)+1)","v":""},{"$f":"IF(Limits_Details!$B496=\"\",\"\",Limits_Details!$B496)","v":""},{"$f":"IF(Limits_Details!$C496=\"\",\"\",Limits_Details!$C496)","v":""},"",{"$f":"IF(COUNTIF(V$2:V474,V474)=1,V474,\"\")","v":""},"","",null,null,null,{"$f":"+IF(AH474=\"\",\"\",MAX(AC$1:AC473)+1)","v":""},{"$f":"IF(Limits_Details!$B496=\"\",\"\",Limits_Details!$B496)","v":""},{"$f":"IF(Limits_Details!$C496=\"\",\"\",Limits_Details!$C496)","v":""},{"$f":"IF(Limits_Details!$D496=\"\",\"\",Limits_Details!$D496)","v":""},"",{"$f":"IF(COUNTIF(AG$2:AG474,AG474)=1,AG474,\"\")","v":""},"","","",null,{"$f":"+IF(AR474=\"\",\"\",MAX(AM$1:AM473)+1)","v":""},{"$f":"IF(CEM_COM_CPMS_Detail!$B496=\"\",\"\",CEM_COM_CPMS_Detail!$B496)","v":""},{"$f":"IF(CEM_COM_CPMS_Detail!$C496=\"\",\"\",CEM_COM_CPMS_Detail!$C496)","v":""},{"$f":"IF(CEM_COM_CPMS_Detail!$D496=\"\",\"\",CEM_COM_CPMS_Detail!$D496)","v":""},"",{"$f":"IF(COUNTIF(AQ$2:AQ474,AQ474)=1,AQ474,\"\")","v":""},"","",""]
[{"$f":"+IF(D475=\"\",\"\",MAX(A$1:A474)+1)","v":""},{"$f":"IF(CEM_COM_CPMS_Identification!C497=\"\",\"\",CEM_COM_CPMS_Identification!C497)","v":""},"",{"$f":"IF(COUNTIF(B$2:B475,B475)=1,B475,\"\")","v":""},null,null,null,null,null,null,null,null,null,null,null,null,null,null,{"$f":"+IF(W475=\"\",\"\",MAX(S$1:S474)+1)","v":""},{"$f":"IF(Limits_Details!$B497=\"\",\"\",Limits_Details!$B497)","v":""},{"$f":"IF(Limits_Details!$C497=\"\",\"\",Limits_Details!$C497)","v":""},"",{"$f":"IF(COUNTIF(V$2:V475,V475)=1,V475,\"\")","v":""},"","",null,null,null,{"$f":"+IF(AH475=\"\",\"\",MAX(AC$1:AC474)+1)","v":""},{"$f":"IF(Limits_Details!$B497=\"\",\"\",Limits_Details!$B497)","v":""},{"$f":"IF(Limits_Details!$C497=\"\",\"\",Limits_Details!$C497)","v":""},{"$f":"IF(Limits_Details!$D497=\"\",\"\",Limits_Details!$D497)","v":""},"",{"$f":"IF(COUNTIF(AG$2:AG475,AG475)=1,AG475,\"\")","v":""},"","","",null,{"$f":"+IF(AR475=\"\",\"\",MAX(AM$1:AM474)+1)","v":""},{"$f":"IF(CEM_COM_CPMS_Detail!$B497=\"\",\"\",CEM_COM_CPMS_Detail!$B497)","v":""},{"$f":"IF(CEM_COM_CPMS_Detail!$C497=\"\",\"\",CEM_COM_CPMS_Detail!$C497)","v":""},{"$f":"IF(CEM_COM_CPMS_Detail!$D497=\"\",\"\",CEM_COM_CPMS_Detail!$D497)","v":""},"",{"$f":"IF(COUNTIF(AQ$2:AQ475,AQ475)=1,AQ475,\"\")","v":""},"","",""]
[{"$f":"+IF(D476=\"\",\"\",MAX(A$1:A475)+1)","v":""},{"$f":"IF(CEM_COM_CPMS_Identification!C498=\"\",\"\",CEM_COM_CPMS_Identification!C498)","v":""},"",{"$f":"IF(COUNTIF(B$2:B476,B476)=1,B476,\"\")","v":""},null,null,null,null,null,null,null,null,null,null,null,null,null,null,{"$f":"+IF(W476=\"\",\"\",MAX(S$1:S475)+1)","v":""},{"$f":"IF(Limits_Details!$B498=\"\",\"\",Limits_Details!$B498)","v":""},{"$f":"IF(Limits_Details!$C498=\"\",\"\",Limits_Details!$C498)","v":""},"",{"$f":"IF(COUNTIF(V$2:V476,V476)=1,V476,\"\")","v":""},"","",null,null,null,{"$f":"+IF(AH476=\"\",\"\",MAX(AC$1:AC475)+1)","v":""},{"$f":"IF(Limits_Details!$B498=\"\",\"\",Limits_Details!$B498)","v":""},{"$f":"IF(Limits_Details!$C498=\"\",\"\",Limits_Details!$C498)","v":""},{"$f":"IF(Limits_Details!$D498=\"\",\"\",Limits_Details!$D498)","v":""},"",{"$f":"IF(COUNTIF(AG$2:AG476,AG476)=1,AG476,\"\")","v":""},"","","",null,{"$f":"+IF(AR476=\"\",\"\",MAX(AM$1:AM475)+1)","v":""},{"$f":"IF(CEM_COM_CPMS_Detail!$B498=\"\",\"\",CEM_COM_CPMS_Detail!$B498)","v":""},{"$f":"IF(CEM_COM_CPMS_Detail!$C498=\"\",\"\",CEM_COM_CPMS_Detail!$C498)","v":""},{"$f":"IF(CEM_COM_CPMS_Detail!$D498=\"\",\"\",CEM_COM_CPMS_Detail!$D498)","v":""},"",{"$f":"IF(COUNTIF(AQ$2:AQ476,AQ476)=1,AQ476,\"\")","v":""},"","",""]
[{"$f":"+IF(D477=\"\",\"\",MAX(A$1:A476)+1)","v":""},{"$f":"IF(CEM_COM_CPMS_Identification!C499=\"\",\"\",CEM_COM_CPMS_Identification!C499)","v":""},"",{"$f":"IF(COUNTIF(B$2:B477,B477)=1,B477,\"\")","v":""},null,null,null,null,null,null,null,null,null,null,null,null,null,null,{"$f":"+IF(W477=\"\",\"\",MAX(S$1:S476)+1)","v":""},{"$f":"IF(Limits_Details!$B499=\"\",\"\",Limits_Details!$B499)","v":""},{"$f":"IF(Limits_Details!$C499=\"\",\"\",Limits_Details!$C499)","v":""},"",{"$f":"IF(COUNTIF(V$2:V477,V477)=1,V477,\"\")","v":""},"","",null,null,null,{"$f":"+IF(AH477=\"\",\"\",MAX(AC$1:AC476)+1)","v":""},{"$f":"IF(Limits_Details!$B499=\"\",\"\",Limits_Details!$B499)","v":""},{"$f":"IF(Limits_Details!$C499=\"\",\"\",Limits_Details!$C499)","v":""},{"$f":"IF(Limits_Details!$D499=\"\",\"\",Limits_Details!$D499)","v":""},"",{"$f":"IF(COUNTIF(AG$2:AG477,AG477)=1,AG477,\"\")","v":""},"","","",null,{"$f":"+IF(AR477=\"\",\"\",MAX(AM$1:AM476)+1)","v":""},{"$f":"IF(CEM_COM_CPMS_Detail!$B499=\"\",\"\",CEM_COM_CPMS_Detail!$B499)","v":""},{"$f":"IF(CEM_COM_CPMS_Detail!$C499=\"\",\"\",CEM_COM_CPMS_Detail!$C499)","v":""},{"$f":"IF(CEM_COM_CPMS_Detail!$D499=\"\",\"\",CEM_COM_CPMS_Detail!$D499)","v":""},"",{"$f":"IF(COUNTIF(AQ$2:AQ477,AQ477)=1,AQ477,\"\")","v":""},"","",""]
[{"$f":"+IF(D478=\"\",\"\",MAX(A$1:A477)+1)","v":""},{"$f":"IF(CEM_COM_CPMS_Identification!C500=\"\",\"\",CEM_COM_CPMS_Identification!C500)","v":""},"",{"$f":"IF(COUNTIF(B$2:B478,B478)=1,B478,\"\")","v":""},null,null,null,null,null,null,null,null,null,null,null,null,null,null,{"$f":"+IF(W478=\"\",\"\",MAX(S$1:S477)+1)","v":""},{"$f":"IF(Limits_Details!$B500=\"\",\"\",Limits_Details!$B500)","v":""},{"$f":"IF(Limits_Details!$C500=\"\",\"\",Limits_Details!$C500)","v":""},"",{"$f":"IF(COUNTIF(V$2:V478,V478)=1,V478,\"\")","v":""},"","",null,null,null,{"$f":"+IF(AH478=\"\",\"\",MAX(AC$1:AC477)+1)","v":""},{"$f":"IF(Limits_Details!$B500=\"\",\"\",Limits_Details!$B500)","v":""},{"$f":"IF(Limits_Details!$C500=\"\",\"\",Limits_Details!$C500)","v":""},{"$f":"IF(Limits_Details!$D500=\"\",\"\",Limits_Details!$D500)","v":""},"",{"$f":"IF(COUNTIF(AG$2:AG478,AG478)=1,AG478,\"\")","v":""},"","","",null,{"$f":"+IF(AR478=\"\",\"\",MAX(AM$1:AM477)+1)","v":""},{"$f":"IF(CEM_COM_CPMS_Detail!$B500=\"\",\"\",CEM_COM_CPMS_Detail!$B500)","v":""},{"$f":"IF(CEM_COM_CPMS_Detail!$C500=\"\",\"\",CEM_COM_CPMS_Detail!$C500)","v":""},{"$f":"IF(CEM_COM_CPMS_Detail!$D500=\"\",\"\",CEM_COM_CPMS_Detail!$D500)","v":""},"",{"$f":"IF(COUNTIF(AQ$2:AQ478,AQ478)=1,AQ478,\"\")","v":""},"","",""]
[{"$f":"+IF(D479=\"\",\"\",MAX(A$1:A478)+1)","v":""},{"$f":"IF(CEM_COM_CPMS_Identification!C501=\"\",\"\",CEM_COM_CPMS_Identification!C501)","v":""},"",{"$f":"IF(COUNTIF(B$2:B479,B479)=1,B479,\"\")","v":""}]
[{"$f":"+IF(D480=\"\",\"\",MAX(A$1:A479)+1)","v":""},{"$f":"IF(CEM_COM_CPMS_Identification!C502=\"\",\"\",CEM_COM_CPMS_Identification!C502)","v":""},"",{"$f":"IF(COUNTIF(B$2:B480,B480)=1,B480,\"\")","v":""}]
[{"$f":"+IF(D481=\"\",\"\",MAX(A$1:A480)+1)","v":""},{"$f":"IF(CEM_COM_CPMS_Identification!C503=\"\",\"\",CEM_COM_CPMS_Identification!C503)","v":""},"",{"$f":"IF(COUNTIF(B$2:B481,B481)=1,B481,\"\")","v":""}]
[{"$f":"+IF(D482=\"\",\"\",MAX(A$1:A481)+1)","v":""},{"$f":"IF(CEM_COM_CPMS_Identification!C504=\"\",\"\",CEM_COM_CPMS_Identification!C504)","v":""},"",{"$f":"IF(COUNTIF(B$2:B482,B482)=1,B482,\"\")","v":""}]
[{"$f":"+IF(D483=\"\",\"\",MAX(A$1:A482)+1)","v":""},{"$f":"IF(CEM_COM_CPMS_Identification!C505=\"\",\"\",CEM_COM_CPMS_Identification!C505)","v":""},"",{"$f":"IF(COUNTIF(B$2:B483,B483)=1,B483,\"\")","v":""}]
[{"$f":"+IF(D484=\"\",\"\",MAX(A$1:A483)+1)","v":""},{"$f":"IF(CEM_COM_CPMS_Identification!C506=\"\",\"\",CEM_COM_CPMS_Identification!C506)","v":""},"",{"$f":"IF(COUNTIF(B$2:B484,B484)=1,B484,\"\")","v":""}]
[{"$f":"+IF(D485=\"\",\"\",MAX(A$1:A484)+1)","v":""},{"$f":"IF(CEM_COM_CPMS_Identification!C507=\"\",\"\",CEM_COM_CPMS_Identification!C507)","v":""},"",{"$f":"IF(COUNTIF(B$2:B485,B485)=1,B485,\"\")","v":""}]
[{"$f":"+IF(D486=\"\",\"\",MAX(A$1:A485)+1)","v":""},{"$f":"IF(CEM_COM_CPMS_Identification!C508=\"\",\"\",CEM_COM_CPMS_Identification!C508)","v":""},"",{"$f":"IF(COUNTIF(B$2:B486,B486)=1,B486,\"\")","v":""}]
[{"$f":"+IF(D487=\"\",\"\",MAX(A$1:A486)+1)","v":""},{"$f":"IF(CEM_COM_CPMS_Identification!C509=\"\",\"\",CEM_COM_CPMS_Identification!C509)","v":""},"",{"$f":"IF(COUNTIF(B$2:B487,B487)=1,B487,\"\")","v":""}]
[{"$f":"+IF(D488=\"\",\"\",MAX(A$1:A487)+1)","v":""},{"$f":"IF(CEM_COM_CPMS_Identification!C510=\"\",\"\",CEM_COM_CPMS_Identification!C510)","v":""},"",{"$f":"IF(COUNTIF(B$2:B488,B488)=1,B488,\"\")","v":""}]
[{"$f":"+IF(D489=\"\",\"\",MAX(A$1:A488)+1)","v":""},{"$f":"IF(CEM_COM_CPMS_Identification!C511=\"\",\"\",CEM_COM_CPMS_Identification!C511)","v":""},"",{"$f":"IF(COUNTIF(B$2:B489,B489)=1,B489,\"\")","v":""}]
[{"$f":"+IF(D490=\"\",\"\",MAX(A$1:A489)+1)","v":""},{"$f":"IF(CEM_COM_CPMS_Identification!C512=\"\",\"\",CEM_COM_CPMS_Identification!C512)","v":""},"",{"$f":"IF(COUNTIF(B$2:B490,B490)=1,B490,\"\")","v":""}]
[{"$f":"+IF(D491=\"\",\"\",MAX(A$1:A490)+1)","v":""},{"$f":"IF(CEM_COM_CPMS_Identification!C513=\"\",\"\",CEM_COM_CPMS_Identification!C513)","v":""},"",{"$f":"IF(COUNTIF(B$2:B491,B491)=1,B491,\"\")","v":""}]
[{"$f":"+IF(D492=\"\",\"\",MAX(A$1:A491)+1)","v":""},{"$f":"IF(CEM_COM_CPMS_Identification!C514=\"\",\"\",CEM_COM_CPMS_Identification!C514)","v":""},"",{"$f":"IF(COUNTIF(B$2:B492,B492)=1,B492,\"\")","v":""}]
[{"$f":"+IF(D493=\"\",\"\",MAX(A$1:A492)+1)","v":""},{"$f":"IF(CEM_COM_CPMS_Identification!C515=\"\",\"\",CEM_COM_CPMS_Identification!C515)","v":""},"",{"$f":"IF(COUNTIF(B$2:B493,B493)=1,B493,\"\")","v":""}]
[{"$f":"+IF(D494=\"\",\"\",MAX(A$1:A493)+1)","v":""},{"$f":"IF(CEM_COM_CPMS_Identification!C516=\"\",\"\",CEM_COM_CPMS_Identification!C516)","v":""},"",{"$f":"IF(COUNTIF(B$2:B494,B494)=1,B494,\"\")","v":""}]
[{"$f":"+IF(D495=\"\",\"\",MAX(A$1:A494)+1)","v":""},{"$f":"IF(CEM_COM_CPMS_Identification!C517=\"\",\"\",CEM_COM_CPMS_Identification!C517)","v":""},"",{"$f":"IF(COUNTIF(B$2:B495,B495)=1,B495,\"\")","v":""}]
[{"$f":"+IF(D496=\"\",\"\",MAX(A$1:A495)+1)","v":""},{"$f":"IF(CEM_COM_CPMS_Identification!C518=\"\",\"\",CEM_COM_CPMS_Identification!C518)","v":""},"",{"$f":"IF(COUNTIF(B$2:B496,B496)=1,B496,\"\")","v":""}]
[{"$f":"+IF(D497=\"\",\"\",MAX(A$1:A496)+1)","v":""},{"$f":"IF(CEM_COM_CPMS_Identification!C519=\"\",\"\",CEM_COM_CPMS_Identification!C519)","v":""},"",{"$f":"IF(COUNTIF(B$2:B497,B497)=1,B497,\"\")","v":""}]
[{"$f":"+IF(D498=\"\",\"\",MAX(A$1:A497)+1)","v":""},{"$f":"IF(CEM_COM_CPMS_Identification!C520=\"\",\"\",CEM_COM_CPMS_Identification!C520)","v":""},"",{"$f":"IF(COUNTIF(B$2:B498,B498)=1,B498,\"\")","v":""}]
[{"$f":"+IF(D499=\"\",\"\",MAX(A$1:A498)+1)","v":""},{"$f":"IF(CEM_COM_CPMS_Identification!C521=\"\",\"\",CEM_COM_CPMS_Identification!C521)","v":""},"",{"$f":"IF(COUNTIF(B$2:B499,B499)=1,B499,\"\")","v":""}]
[{"$f":"+IF(D500=\"\",\"\",MAX(A$1:A499)+1)","v":""},{"$f":"IF(CEM_COM_CPMS_Identification!C522=\"\",\"\",CEM_COM_CPMS_Identification!C522)","v":""},"",{"$f":"IF(COUNTIF(B$2:B500,B500)=1,B500,\"\")","v":""}]

{"sheet":"CEM_COM_CPMS_Identification","index":3,"n_rows":14,"n_cols":6,"rows_kept":14,"cut":false,"hidden":false,"merged":[]}
[null,"DO NOT REMOVE OR EDIT INFORMATION IN ROWS 1 THROUGH 5\nFOR INTERNAL USE ONLY"]
[null,"Template Name",{"$f":"+Welcome!B2","v":"63.8693(c) Semiannual Compliance Report (Spreadsheet Template)"}]
[null,"CitationID",{"$f":"+Welcome!B3","v":"63.8693(c)"}]
[null,"Template Version",{"$f":"+Welcome!B4","v":"v2.01"}]
[null,"Last Updated Date",{"$f":"+Welcome!B5","v":45397}]
[]
[null,"40 CFR Part 63, Subpart LLLLL National Emission Standards for Hazardous Air Pollutants: Asphalt Processing and Asphalt Roofing Manufacturing - "]
[null,"§63.8693(c) Semiannual Compliance Report Spreadsheet Template"]
[]
[]
[null,"* Required Field"]
[null,"Company Record No. *\n(Select from dropdown)","Process Unit Description *\n(§63.8693(d)(9))","Brief Description of CPMS, CEMS, or COMS *\n(§63.8693(d)(10))","Identification of Air Pollutant Monitored *\n(§63.8693(d)(8))","Date of Last CPMS, \nCEMS, or COMS \nCertification or Audit *\n(§63.8693(d)(11))"]
[null,"RecordId","ProcessUnitDesc","CPMSEqDesc","CPMSPollutant","CPMSDescription"]
[null,"e.g.: 1","e.g. Line 1","e.g.: TC1792 PM Filter Bank Inlet Temperature","e.g.: Particulate Matter","e.g.: 2/2/2017"]

{"sheet":"CEM_COM_CPMS_Detail","index":4,"n_rows":14,"n_cols":12,"rows_kept":14,"cut":false,"hidden":false,"merged":[]}
[null,"DO NOT REMOVE OR EDIT INFORMATION IN ROWS 1 THROUGH 5\nFOR INTERNAL USE ONLY"]
[null,"Template Name",null,{"$f":"+Welcome!B2","v":"63.8693(c) Semiannual Compliance Report (Spreadsheet Template)"}]
[null,"CitationID",null,{"$f":"+Welcome!B3","v":"63.8693(c)"}]
[null,"Template Version",null,{"$f":"+Welcome!B4","v":"v2.01"}]
[null,"Last Updated Date",null,{"$f":"+Welcome!B5","v":45397}]
[]
[null,"40 CFR Part 63, Subpart LLLLL National Emission Standards for Hazardous Air Pollutants: Asphalt Processing and Asphalt Roofing Manufacturing - "]
[null,"§63.8693(c) Semiannual Compliance Report Spreadsheet Template"]
[]
[]
[null,"* Required Field"]
[null,"Company Record No. *\n(Select from dropdown)","Process Unit Description\n(§63.8693(d)(9)) *\n(Select from dropdown)","Brief Description of CPMS, CEMS, or COMS *\n(§63.8693(d)(10))\n(Select from dropdown)","CPMS Inoperative or \nOut of Control *\n(Select from dropdown)","Starting Date CPMS \nInoperative or Out of Control *\n(§63.8693(d)(2) or (3))","Starting Time CPMS Inoperative or Out of Control *\n(§63.8693(d)(2) or (3))","Ending Date CPMS \nOut of Control *\n(§63.8693(d)(3) and \n§63.8(c)(8))","Ending Time CPMS \nOut of Control *\n(§63.8693(d)(3) and \n§63.8(c)(8))","Duration CPMS Inoperative \nor Out of Control * (hours)\n(§63.8693(d)(2) or (3))","Cause of Deviation *\n(§63.8693(d)(2))\n(Select from Dropdown)","Corrective Action Taken *\n(§63.8693(d)(2) and (3) and §63.8(c)(8))"]
[null,"RecordId","ProcessUnitDesc","CPMSEqDesc","CPMSOutageDescription","CPMSOutageStartDate","CPMSOutageStartTime","CPMSOutageEndDate","CPMSOutageEndTime","CPMSOutageDuration","CPMSOutageCause","CorrectiveAction"]
[null,"e.g.: 1","e.g. Line 1","e.g.: TC1792 PM Filter Bank Inlet Temperature","e.g. Inoperative","e.g.: 3/2/2017","e.g.: 15:52","e.g.: 3/2/2017","e.g.: 15:52","e.g.: 72.0","e.g.: Monitoring Equipment Malfunction","e.g.: replaced thermocouple"]

{"sheet":"CPMS_Summary_Report","index":5,"n_rows":707,"n_cols":7,"rows_kept":707,"cut":false,"hidden":false,"merged":[]}
[null,"DO NOT REMOVE OR EDIT INFORMATION IN ROWS 1 THROUGH 5\nFOR INTERNAL USE ONLY"]
[null,"Template Name",null,{"$f":"+Welcome!B2","v":"63.8693(c) Semiannual Compliance Report (Spreadsheet Template)"}]
[null,"CitationID",null,{"$f":"+Welcome!B3","v":"63.8693(c)"}]
[null,"Template Version",null,{"$f":"+Welcome!B4","v":"v2.01"}]
[null,"Last Updated Date",null,{"$f":"+Welcome!B5","v":45397}]
[]
[null,"40 CFR Part 63, Subpart LLLLL National Emission Standards for Hazardous Air Pollutants: Asphalt Processing and Asphalt Roofing Manufacturing - "]
[null,"§63.8693(c) Semiannual Compliance Report Spreadsheet Template"]
[]
[]
[null,"* Required Field"]
[null,"Company Record No. *\n(Autocompleted)","Process Unit Description *\n(§63.8693(d)(9))\n(Autocompleted)","Brief Description of CPMS, CEMS, or COMS *\n(§63.8693(d)(10))\n(Autocompleted)","Total Source\nOperating Time \n(hours)\n(Optional for calculation of % of Total Operating Time)","Total Duration of\n CPMS, CEMS, or COMS\n Downtime * (hours) \n(§63.8693(d)(7))\n(Calculated value)","Total Duration of\n CPMS Downtime as\n a per cent of Total\n Source Operating Time *\n(§63.8693(d)(7))\n(Calculated value or manual entry)"]
[null,"RecordId","ProcessUnitDesc","CPMSEqDesc","TotalOperatingTime","CPMSDowntimeDuration","CPMSDowntimePercent"]
[null,"e.g.: 1","e.g.: Line 1","e.g.: TC1792 PM Filter Bank Inlet Temperature","e.g.: 6240","e.g.: 0","e.g.: N/A"]
[]
[]
[]
[]
[]
[]
[]
[]
[]
[]
[null,{"$f":"IF(Lists!AS3=\"\",\"\",Lists!AS3)","v":""},{"$f":"IF(Lists!AT3=\"\",\"\",Lists!AT3)","v":""},{"$f":"IF(Lists!AU3=\"\",\"\",Lists!AU3)","v":""},null,{"$f":"IF($E25=\"\",\"\",SUMIFS(CEM_COM_CPMS_Detail!$J$24:$J$5400,CEM_COM_CPMS_Detail!$B$24:$B$5400,B25,CEM_COM_CPMS_Detail!$C$24:$C$5400,C25,CEM_COM_CPMS_Detail!$D$24:$D$5400,D25))","v":""},{"$f":"IF($E25=\"\",\"\",IF(F25=0,\"N/A\",F25/$E25))","v":""}]
[null,{"$f":"IF(Lists!AS4=\"\",\"\",Lists!AS4)","v":""},{"$f":"IF(Lists!AT4=\"\",\"\",Lists!AT4)","v":""},{"$f":"IF(Lists!AU4=\"\",\"\",Lists!AU4)","v":""},null,{"$f":"IF($E26=\"\",\"\",SUMIFS(CEM_COM_CPMS_Detail!$J$24:$J$5400,CEM_COM_CPMS_Detail!$B$24:$B$5400,B26,CEM_COM_CPMS_Detail!$C$24:$C$5400,C26,CEM_COM_CPMS_Detail!$D$24:$D$5400,D26))","v":""},""]
[null,{"$f":"IF(Lists!AS5=\"\",\"\",Lists!AS5)","v":""},{"$f":"IF(Lists!AT5=\"\",\"\",Lists!AT5)","v":""},{"$f":"IF(Lists!AU5=\"\",\"\",Lists!AU5)","v":""},null,{"$f":"IF($E27=\"\",\"\",SUMIFS(CEM_COM_CPMS_Detail!$J$24:$J$5400,CEM_COM_CPMS_Detail!$B$24:$B$5400,B27,CEM_COM_CPMS_Detail!$C$24:$C$5400,C27,CEM_COM_CPMS_Detail!$D$24:$D$5400,D27))","v":""},""]
[null,{"$f":"IF(Lists!AS6=\"\",\"\",Lists!AS6)","v":""},{"$f":"IF(Lists!AT6=\"\",\"\",Lists!AT6)","v":""},{"$f":"IF(Lists!AU6=\"\",\"\",Lists!AU6)","v":""},null,{"$f":"IF($E28=\"\",\"\",SUMIFS(CEM_COM_CPMS_Detail!$J$24:$J$5400,CEM_COM_CPMS_Detail!$B$24:$B$5400,B28,CEM_COM_CPMS_Detail!$C$24:$C$5400,C28,CEM_COM_CPMS_Detail!$D$24:$D$5400,D28))","v":""},""]
[null,{"$f":"IF(Lists!AS7=\"\",\"\",Lists!AS7)","v":""},{"$f":"IF(Lists!AT7=\"\",\"\",Lists!AT7)","v":""},{"$f":"IF(Lists!AU7=\"\",\"\",Lists!AU7)","v":""},null,{"$f":"IF($E29=\"\",\"\",SUMIFS(CEM_COM_CPMS_Detail!$J$24:$J$5400,CEM_COM_CPMS_Detail!$B$24:$B$5400,B29,CEM_COM_CPMS_Detail!$C$24:$C$5400,C29,CEM_COM_CPMS_Detail!$D$24:$D$5400,D29))","v":""},""]
[null,{"$f":"IF(Lists!AS8=\"\",\"\",Lists!AS8)","v":""},{"$f":"IF(Lists!AT8=\"\",\"\",Lists!AT8)","v":""},{"$f":"IF(Lists!AU8=\"\",\"\",Lists!AU8)","v":""},null,{"$f":"IF($E30=\"\",\"\",SUMIFS(CEM_COM_CPMS_Detail!$J$24:$J$5400,CEM_COM_CPMS_Detail!$B$24:$B$5400,B30,CEM_COM_CPMS_Detail!$C$24:$C$5400,C30,CEM_COM_CPMS_Detail!$D$24:$D$5400,D30))","v":""},""]
[null,{"$f":"IF(Lists!AS9=\"\",\"\",Lists!AS9)","v":""},{"$f":"IF(Lists!AT9=\"\",\"\",Lists!AT9)","v":""},{"$f":"IF(Lists!AU9=\"\",\"\",Lists!AU9)","v":""},null,{"$f":"IF($E31=\"\",\"\",SUMIFS(CEM_COM_CPMS_Detail!$J$24:$J$5400,CEM_COM_CPMS_Detail!$B$24:$B$5400,B31,CEM_COM_CPMS_Detail!$C$24:$C$5400,C31,CEM_COM_CPMS_Detail!$D$24:$D$5400,D31))","v":""},""]
[null,{"$f":"IF(Lists!AS10=\"\",\"\",Lists!AS10)","v":""},{"$f":"IF(Lists!AT10=\"\",\"\",Lists!AT10)","v":""},{"$f":"IF(Lists!AU10=\"\",\"\",Lists!AU10)","v":""},null,{"$f":"IF($E32=\"\",\"\",SUMIFS(CEM_COM_CPMS_Detail!$J$24:$J$5400,CEM_COM_CPMS_Detail!$B$24:$B$5400,B32,CEM_COM_CPMS_Detail!$C$24:$C$5400,C32,CEM_COM_CPMS_Detail!$D$24:$D$5400,D32))","v":""},""]
[null,{"$f":"IF(Lists!AS11=\"\",\"\",Lists!AS11)","v":""},{"$f":"IF(Lists!AT11=\"\",\"\",Lists!AT11)","v":""},{"$f":"IF(Lists!AU11=\"\",\"\",Lists!AU11)","v":""},null,{"$f":"IF($E33=\"\",\"\",SUMIFS(CEM_COM_CPMS_Detail!$J$24:$J$5400,CEM_COM_CPMS_Detail!$B$24:$B$5400,B33,CEM_COM_CPMS_Detail!$C$24:$C$5400,C33,CEM_COM_CPMS_Detail!$D$24:$D$5400,D33))","v":""},""]
[null,{"$f":"IF(Lists!AS12=\"\",\"\",Lists!AS12)","v":""},{"$f":"IF(Lists!AT12=\"\",\"\",Lists!AT12)","v":""},{"$f":"IF(Lists!AU12=\"\",\"\",Lists!AU12)","v":""},null,{"$f":"IF($E34=\"\",\"\",SUMIFS(CEM_COM_CPMS_Detail!$J$24:$J$5400,CEM_COM_CPMS_Detail!$B$24:$B$5400,B34,CEM_COM_CPMS_Detail!$C$24:$C$5400,C34,CEM_COM_CPMS_Detail!$D$24:$D$5400,D34))","v":""},""]
[null,{"$f":"IF(Lists!AS13=\"\",\"\",Lists!AS13)","v":""},{"$f":"IF(Lists!AT13=\"\",\"\",Lists!AT13)","v":""},{"$f":"IF(Lists!AU13=\"\",\"\",Lists!AU13)","v":""},null,{"$f":"IF($E35=\"\",\"\",SUMIFS(CEM_COM_CPMS_Detail!$J$24:$J$5400,CEM_COM_CPMS_Detail!$B$24:$B$5400,B35,CEM_COM_CPMS_Detail!$C$24:$C$5400,C35,CEM_COM_CPMS_Detail!$D$24:$D$5400,D35))","v":""},""]
[null,{"$f":"IF(Lists!AS14=\"\",\"\",Lists!AS14)","v":""},{"$f":"IF(Lists!AT14=\"\",\"\",Lists!AT14)","v":""},{"$f":"IF(Lists!AU14=\"\",\"\",Lists!AU14)","v":""},null,{"$f":"IF($E36=\"\",\"\",SUMIFS(CEM_COM_CPMS_Detail!$J$24:$J$5400,CEM_COM_CPMS_Detail!$B$24:$B$5400,B36,CEM_COM_CPMS_Detail!$C$24:$C$5400,C36,CEM_COM_CPMS_Detail!$D$24:$D$5400,D36))","v":""},""]
[null,{"$f":"IF(Lists!AS15=\"\",\"\",Lists!AS15)","v":""},{"$f":"IF(Lists!AT15=\"\",\"\",Lists!AT15)","v":""},{"$f":"IF(Lists!AU15=\"\",\"\",Lists!AU15)","v":""},null,{"$f":"IF($E37=\"\",\"\",SUMIFS(CEM_COM_CPMS_Detail!$J$24:$J$5400,CEM_COM_CPMS_Detail!$B$24:$B$5400,B37,CEM_COM_CPMS_Detail!$C$24:$C$5400,C37,CEM_COM_CPMS_Detail!$D$24:$D$5400,D37))","v":""},""]
[null,{"$f":"IF(Lists!AS16=\"\",\"\",Lists!AS16)","v":""},{"$f":"IF(Lists!AT16=\"\",\"\",Lists!AT16)","v":""},{"$f":"IF(Lists!AU16=\"\",\"\",Lists!AU16)","v":""},null,{"$f":"IF($E38=\"\",\"\",SUMIFS(CEM_COM_CPMS_Detail!$J$24:$J$5400,CEM_COM_CPMS_Detail!$B$24:$B$5400,B38,CEM_COM_CPMS_Detail!$C$24:$C$5400,C38,CEM_COM_CPMS_Detail!$D$24:$D$5400,D38))","v":""},""]
[null,{"$f":"IF(Lists!AS17=\"\",\"\",Lists!AS17)","v":""},{"$f":"IF(Lists!AT17=\"\",\"\",Lists!AT17)","v":""},{"$f":"IF(Lists!AU17=\"\",\"\",Lists!AU17)","v":""},null,{"$f":"IF($E39=\"\",\"\",SUMIFS(CEM_COM_CPMS_Detail!$J$24:$J$5400,CEM_COM_CPMS_Detail!$B$24:$B$5400,B39,CEM_COM_CPMS_Detail!$C$24:$C$5400,C39,CEM_COM_CPMS_Detail!$D$24:$D$5400,D39))","v":""},""]
[null,{"$f":"IF(Lists!AS18=\"\",\"\",Lists!AS18)","v":""},{"$f":"IF(Lists!AT18=\"\",\"\",Lists!AT18)","v":""},{"$f":"IF(Lists!AU18=\"\",\"\",Lists!AU18)","v":""},null,{"$f":"IF($E40=\"\",\"\",SUMIFS(CEM_COM_CPMS_Detail!$J$24:$J$5400,CEM_COM_CPMS_Detail!$B$24:$B$5400,B40,CEM_COM_CPMS_Detail!$C$24:$C$5400,C40,CEM_COM_CPMS_Detail!$D$24:$D$5400,D40))","v":""},""]
[null,{"$f":"IF(Lists!AS19=\"\",\"\",Lists!AS19)","v":""},{"$f":"IF(Lists!AT19=\"\",\"\",Lists!AT19)","v":""},{"$f":"IF(Lists!AU19=\"\",\"\",Lists!AU19)","v":""},null,{"$f":"IF($E41=\"\",\"\",SUMIFS(CEM_COM_CPMS_Detail!$J$24:$J$5400,CEM_COM_CPMS_Detail!$B$24:$B$5400,B41,CEM_COM_CPMS_Detail!$C$24:$C$5400,C41,CEM_COM_CPMS_Detail!$D$24:$D$5400,D41))","v":""},""]
[null,{"$f":"IF(Lists!AS20=\"\",\"\",Lists!AS20)","v":""},{"$f":"IF(Lists!AT20=\"\",\"\",Lists!AT20)","v":""},{"$f":"IF(Lists!AU20=\"\",\"\",Lists!AU20)","v":""},null,{"$f":"IF($E42=\"\",\"\",SUMIFS(CEM_COM_CPMS_Detail!$J$24:$J$5400,CEM_COM_CPMS_Detail!$B$24:$B$5400,B42,CEM_COM_CPMS_Detail!$C$24:$C$5400,C42,CEM_COM_CPMS_Detail!$D$24:$D$5400,D42))","v":""},""]
[null,{"$f":"IF(Lists!AS21=\"\",\"\",Lists!AS21)","v":""},{"$f":"IF(Lists!AT21=\"\",\"\",Lists!AT21)","v":""},{"$f":"IF(Lists!AU21=\"\",\"\",Lists!AU21)","v":""},null,{"$f":"IF($E43=\"\",\"\",SUMIFS(CEM_COM_CPMS_Detail!$J$24:$J$5400,CEM_COM_CPMS_Detail!$B$24:$B$5400,B43,CEM_COM_CPMS_Detail!$C$24:$C$5400,C43,CEM_COM_CPMS_Detail!$D$24:$D$5400,D43))","v":""},""]
[null,{"$f":"IF(Lists!AS22=\"\",\"\",Lists!AS22)","v":""},{"$f":"IF(Lists!AT22=\"\",\"\",Lists!AT22)","v":""},{"$f":"IF(Lists!AU22=\"\",\"\",Lists!AU22)","v":""},null,{"$f":"IF($E44=\"\",\"\",SUMIFS(CEM_COM_CPMS_Detail!$J$24:$J$5400,CEM_COM_CPMS_Detail!$B$24:$B$5400,B44,CEM_COM_CPMS_Detail!$C$24:$C$5400,C44,CEM_COM_CPMS_Detail!$D$24:$D$5400,D44))","v":""},""]
[null,{"$f":"IF(Lists!AS23=\"\",\"\",Lists!AS23)","v":""},{"$f":"IF(Lists!AT23=\"\",\"\",Lists!AT23)","v":""},{"$f":"IF(Lists!AU23=\"\",\"\",Lists!AU23)","v":""},null,{"$f":"IF($E45=\"\",\"\",SUMIFS(CEM_COM_CPMS_Detail!$J$24:$J$5400,CEM_COM_CPMS_Detail!$B$24:$B$5400,B45,CEM_COM_CPMS_Detail!$C$24:$C$5400,C45,CEM_COM_CPMS_Detail!$D$24:$D$5400,D45))","v":""},""]
[null,{"$f":"IF(Lists!AS24=\"\",\"\",Lists!AS24)","v":""},{"$f":"IF(Lists!AT24=\"\",\"\",Lists!AT24)","v":""},{"$f":"IF(Lists!AU24=\"\",\"\",Lists!AU24)","v":""},null,{"$f":"IF($E46=\"\",\"\",SUMIFS(CEM_COM_CPMS_Detail!$J$24:$J$5400,CEM_COM_CPMS_Detail!$B$24:$B$5400,B46,CEM_COM_CPMS_Detail!$C$24:$C$5400,C46,CEM_COM_CPMS_Detail!$D$24:$D$5400,D46))","v":""},""]
[null,{"$f":"IF(Lists!AS25=\"\",\"\",Lists!AS25)","v":""},{"$f":"IF(Lists!AT25=\"\",\"\",Lists!AT25)","v":""},{"$f":"IF(Lists!AU25=\"\",\"\",Lists!AU25)","v":""},null,{"$f":"IF($E47=\"\",\"\",SUMIFS(CEM_COM_CPMS_Detail!$J$24:$J$5400,CEM_COM_CPMS_Detail!$B$24:$B$5400,B47,CEM_COM_CPMS_Detail!$C$24:$C$5400,C47,CEM_COM_CPMS_Detail!$D$24:$D$5400,D47))","v":""},""]
[null,{"$f":"IF(Lists!AS26=\"\",\"\",Lists!AS26)","v":""},{"$f":"IF(Lists!AT26=\"\",\"\",Lists!AT26)","v":""},{"$f":"IF(Lists!AU26=\"\",\"\",Lists!AU26)","v":""},null,{"$f":"IF($E48=\"\",\"\",SUMIFS(CEM_COM_CPMS_Detail!$J$24:$J$5400,CEM_COM_CPMS_Detail!$B$24:$B$5400,B48,CEM_COM_CPMS_Detail!$C$24:$C$5400,C48,CEM_COM_CPMS_Detail!$D$24:$D$5400,D48))","v":""},""]
[null,{"$f":"IF(Lists!AS27=\"\",\"\",Lists!AS27)","v":""},{"$f":"IF(Lists!AT27=\"\",\"\",Lists!AT27)","v":""},{"$f":"IF(Lists!AU27=\"\",\"\",Lists!AU27)","v":""},null,{"$f":"IF($E49=\"\",\"\",SUMIFS(CEM_COM_CPMS_Detail!$J$24:$J$5400,CEM_COM_CPMS_Detail!$B$24:$B$5400,B49,CEM_COM_CPMS_Detail!$C$24:$C$5400,C49,CEM_COM_CPMS_Detail!$D$24:$D$5400,D49))","v":""},""]
[null,{"$f":"IF(Lists!AS28=\"\",\"\",Lists!AS28)","v":""},{"$f":"IF(Lists!AT28=\"\",\"\",Lists!AT28)","v":""},{"$f":"IF(Lists!AU28=\"\",\"\",Lists!AU28)","v":""},null,{"$f":"IF($E50=\"\",\"\",SUMIFS(CEM_COM_CPMS_Detail!$J$24:$J$5400,CEM_COM_CPMS_Detail!$B$24:$B$5400,B50,CEM_COM_CPMS_Detail!$C$24:$C$5400,C50,CEM_COM_CPMS_Detail!$D$24:$D$5400,D50))","v":""},""]
[null,{"$f":"IF(Lists!AS29=\"\",\"\",Lists!AS29)","v":""},{"$f":"IF(Lists!AT29=\"\",\"\",Lists!AT29)","v":""},{"$f":"IF(Lists!AU29=\"\",\"\",Lists!AU29)","v":""},null,{"$f":"IF($E51=\"\",\"\",SUMIFS(CEM_COM_CPMS_Detail!$J$24:$J$5400,CEM_COM_CPMS_Detail!$B$24:$B$5400,B51,CEM_COM_CPMS_Detail!$C$24:$C$5400,C51,CEM_COM_CPMS_Detail!$D$24:$D$5400,D51))","v":""},""]
[null,{"$f":"IF(Lists!AS30=\"\",\"\",Lists!AS30)","v":""},{"$f":"IF(Lists!AT30=\"\",\"\",Lists!AT30)","v":""},{"$f":"IF(Lists!AU30=\"\",\"\",Lists!AU30)","v":""},null,{"$f":"IF($E52=\"\",\"\",SUMIFS(CEM_COM_CPMS_Detail!$J$24:$J$5400,CEM_COM_CPMS_Detail!$B$24:$B$5400,B52,CEM_COM_CPMS_Detail!$C$24:$C$5400,C52,CEM_COM_CPMS_Detail!$D$24:$D$5400,D52))","v":""},""]
[null,{"$f":"IF(Lists!AS31=\"\",\"\",Lists!AS31)","v":""},{"$f":"IF(Lists!AT31=\"\",\"\",Lists!AT31)","v":""},{"$f":"IF(Lists!AU31=\"\",\"\",Lists!AU31)","v":""},null,{"$f":"IF($E53=\"\",\"\",SUMIFS(CEM_COM_CPMS_Detail!$J$24:$J$5400,CEM_COM_CPMS_Detail!$B$24:$B$5400,B53,CEM_COM_CPMS_Detail!$C$24:$C$5400,C53,CEM_COM_CPMS_Detail!$D$24:$D$5400,D53))","v":""},""]
[null,{"$f":"IF(Lists!AS32=\"\",\"\",Lists!AS32)","v":""},{"$f":"IF(Lists!AT32=\"\",\"\",Lists!AT32)","v":""},{"$f":"IF(Lists!AU32=\"\",\"\",Lists!AU32)","v":""},null,{"$f":"IF($E54=\"\",\"\",SUMIFS(CEM_COM_CPMS_Detail!$J$24:$J$5400,CEM_COM_CPMS_Detail!$B$24:$B$5400,B54,CEM_COM_CPMS_Detail!$C$24:$C$5400,C54,CEM_COM_CPMS_Detail!$D$24:$D$5400,D54))","v":""},""]
[null,{"$f":"IF(Lists!AS33=\"\",\"\",Lists!AS33)","v":""},{"$f":"IF(Lists!AT33=\"\",\"\",Lists!AT33)","v":""},{"$f":"IF(Lists!AU33=\"\",\"\",Lists!AU33)","v":""},null,{"$f":"IF($E55=\"\",\"\",SUMIFS(CEM_COM_CPMS_Detail!$J$24:$J$5400,CEM_COM_CPMS_Detail!$B$24:$B$5400,B55,CEM_COM_CPMS_Detail!$C$24:$C$5400,C55,CEM_COM_CPMS_Detail!$D$24:$D$5400,D55))","v":""},""]
[null,{"$f":"IF(Lists!AS34=\"\",\"\",Lists!AS34)","v":""},{"$f":"IF(Lists!AT34=\"\",\"\",Lists!AT34)","v":""},{"$f":"IF(Lists!AU34=\"\",\"\",Lists!AU34)","v":""},null,{"$f":"IF($E56=\"\",\"\",SUMIFS(CEM_COM_CPMS_Detail!$J$24:$J$5400,CEM_COM_CPMS_Detail!$B$24:$B$5400,B56,CEM_COM_CPMS_Detail!$C$24:$C$5400,C56,CEM_COM_CPMS_Detail!$D$24:$D$5400,D56))","v":""},""]
[null,{"$f":"IF(Lists!AS35=\"\",\"\",Lists!AS35)","v":""},{"$f":"IF(Lists!AT35=\"\",\"\",Lists!AT35)","v":""},{"$f":"IF(Lists!AU35=\"\",\"\",Lists!AU35)","v":""},null,{"$f":"IF($E57=\"\",\"\",SUMIFS(CEM_COM_CPMS_Detail!$J$24:$J$5400,CEM_COM_CPMS_Detail!$B$24:$B$5400,B57,CEM_COM_CPMS_Detail!$C$24:$C$5400,C57,CEM_COM_CPMS_Detail!$D$24:$D$5400,D57))","v":""},""]
[null,{"$f":"IF(Lists!AS36=\"\",\"\",Lists!AS36)","v":""},{"$f":"IF(Lists!AT36=\"\",\"\",Lists!AT36)","v":""},{"$f":"IF(Lists!AU36=\"\",\"\",Lists!AU36)","v":""},null,{"$f":"IF($E58=\"\",\"\",SUMIFS(CEM_COM_CPMS_Detail!$J$24:$J$5400,CEM_COM_CPMS_Detail!$B$24:$B$5400,B58,CEM_COM_CPMS_Detail!$C$24:$C$5400,C58,CEM_COM_CPMS_Detail!$D$24:$D$5400,D58))","v":""},""]
[null,{"$f":"IF(Lists!AS37=\"\",\"\",Lists!AS37)","v":""},{"$f":"IF(Lists!AT37=\"\",\"\",Lists!AT37)","v":""},{"$f":"IF(Lists!AU37=\"\",\"\",Lists!AU37)","v":""},null,{"$f":"IF($E59=\"\",\"\",SUMIFS(CEM_COM_CPMS_Detail!$J$24:$J$5400,CEM_COM_CPMS_Detail!$B$24:$B$5400,B59,CEM_COM_CPMS_Detail!$C$24:$C$5400,C59,CEM_COM_CPMS_Detail!$D$24:$D$5400,D59))","v":""},""]
[null,{"$f":"IF(Lists!AS38=\"\",\"\",Lists!AS38)","v":""},{"$f":"IF(Lists!AT38=\"\",\"\",Lists!AT38)","v":""},{"$f":"IF(Lists!AU38=\"\",\"\",Lists!AU38)","v":""},null,{"$f":"IF($E60=\"\",\"\",SUMIFS(CEM_COM_CPMS_Detail!$J$24:$J$5400,CEM_COM_CPMS_Detail!$B$24:$B$5400,B60,CEM_COM_CPMS_Detail!$C$24:$C$5400,C60,CEM_COM_CPMS_Detail!$D$24:$D$5400,D60))","v":""},""]
[null,{"$f":"IF(Lists!AS39=\"\",\"\",Lists!AS39)","v":""},{"$f":"IF(Lists!AT39=\"\",\"\",Lists!AT39)","v":""},{"$f":"IF(Lists!AU39=\"\",\"\",Lists!AU39)","v":""},null,{"$f":"IF($E61=\"\",\"\",SUMIFS(CEM_COM_CPMS_Detail!$J$24:$J$5400,CEM_COM_CPMS_Detail!$B$24:$B$5400,B61,CEM_COM_CPMS_Detail!$C$24:$C$5400,C61,CEM_COM_CPMS_Detail!$D$24:$D$5400,D61))","v":""},""]
[null,{"$f":"IF(Lists!AS40=\"\",\"\",Lists!AS40)","v":""},{"$f":"IF(Lists!AT40=\"\",\"\",Lists!AT40)","v":""},{"$f":"IF(Lists!AU40=\"\",\"\",Lists!AU40)","v":""},null,{"$f":"IF($E62=\"\",\"\",SUMIFS(CEM_COM_CPMS_Detail!$J$24:$J$5400,CEM_COM_CPMS_Detail!$B$24:$B$5400,B62,CEM_COM_CPMS_Detail!$C$24:$C$5400,C62,CEM_COM_CPMS_Detail!$D$24:$D$5400,D62))","v":""},""]
[null,{"$f":"IF(Lists!AS41=\"\",\"\",Lists!AS41)","v":""},{"$f":"IF(Lists!AT41=\"\",\"\",Lists!AT41)","v":""},{"$f":"IF(Lists!AU41=\"\",\"\",Lists!AU41)","v":""},null,{"$f":"IF($E63=\"\",\"\",SUMIFS(CEM_COM_CPMS_Detail!$J$24:$J$5400,CEM_COM_CPMS_Detail!$B$24:$B$5400,B63,CEM_COM_CPMS_Detail!$C$24:$C$5400,C63,CEM_COM_CPMS_Detail!$D$24:$D$5400,D63))","v":""},""]
[null,{"$f":"IF(Lists!AS42=\"\",\"\",Lists!AS42)","v":""},{"$f":"IF(Lists!AT42=\"\",\"\",Lists!AT42)","v":""},{"$f":"IF(Lists!AU42=\"\",\"\",Lists!AU42)","v":""},null,{"$f":"IF($E64=\"\",\"\",SUMIFS(CEM_COM_CPMS_Detail!$J$24:$J$5400,CEM_COM_CPMS_Detail!$B$24:$B$5400,B64,CEM_COM_CPMS_Detail!$C$24:$C$5400,C64,CEM_COM_CPMS_Detail!$D$24:$D$5400,D64))","v":""},""]
[null,{"$f":"IF(Lists!AS43=\"\",\"\",Lists!AS43)","v":""},{"$f":"IF(Lists!AT43=\"\",\"\",Lists!AT43)","v":""},{"$f":"IF(Lists!AU43=\"\",\"\",Lists!AU43)","v":""},null,{"$f":"IF($E65=\"\",\"\",SUMIFS(CEM_COM_CPMS_Detail!$J$24:$J$5400,CEM_COM_CPMS_Detail!$B$24:$B$5400,B65,CEM_COM_CPMS_Detail!$C$24:$C$5400,C65,CEM_COM_CPMS_Detail!$D$24:$D$5400,D65))","v":""},""]
[null,{"$f":"IF(Lists!AS44=\"\",\"\",Lists!AS44)","v":""},{"$f":"IF(Lists!AT44=\"\",\"\",Lists!AT44)","v":""},{"$f":"IF(Lists!AU44=\"\",\"\",Lists!AU44)","v":""},null,{"$f":"IF($E66=\"\",\"\",SUMIFS(CEM_COM_CPMS_Detail!$J$24:$J$5400,CEM_COM_CPMS_Detail!$B$24:$B$5400,B66,CEM_COM_CPMS_Detail!$C$24:$C$5400,C66,CEM_COM_CPMS_Detail!$D$24:$D$5400,D66))","v":""},""]
[null,{"$f":"IF(Lists!AS45=\"\",\"\",Lists!AS45)","v":""},{"$f":"IF(Lists!AT45=\"\",\"\",Lists!AT45)","v":""},{"$f":"IF(Lists!AU45=\"\",\"\",Lists!AU45)","v":""},null,{"$f":"IF($E67=\"\",\"\",SUMIFS(CEM_COM_CPMS_Detail!$J$24:$J$5400,CEM_COM_CPMS_Detail!$B$24:$B$5400,B67,CEM_COM_CPMS_Detail!$C$24:$C$5400,C67,CEM_COM_CPMS_Detail!$D$24:$D$5400,D67))","v":""},""]
[null,{"$f":"IF(Lists!AS46=\"\",\"\",Lists!AS46)","v":""},{"$f":"IF(Lists!AT46=\"\",\"\",Lists!AT46)","v":""},{"$f":"IF(Lists!AU46=\"\",\"\",Lists!AU46)","v":""},null,{"$f":"IF($E68=\"\",\"\",SUMIFS(CEM_COM_CPMS_Detail!$J$24:$J$5400,CEM_COM_CPMS_Detail!$B$24:$B$5400,B68,CEM_COM_CPMS_Detail!$C$24:$C$5400,C68,CEM_COM_CPMS_Detail!$D$24:$D$5400,D68))","v":""},""]
[null,{"$f":"IF(Lists!AS47=\"\",\"\",Lists!AS47)","v":""},{"$f":"IF(Lists!AT47=\"\",\"\",Lists!AT47)","v":""},{"$f":"IF(Lists!AU47=\"\",\"\",Lists!AU47)","v":""},null,{"$f":"IF($E69=\"\",\"\",SUMIFS(CEM_COM_CPMS_Detail!$J$24:$J$5400,CEM_COM_CPMS_Detail!$B$24:$B$5400,B69,CEM_COM_CPMS_Detail!$C$24:$C$5400,C69,CEM_COM_CPMS_Detail!$D$24:$D$5400,D69))","v":""},""]
[null,{"$f":"IF(Lists!AS48=\"\",\"\",Lists!AS48)","v":""},{"$f":"IF(Lists!AT48=\"\",\"\",Lists!AT48)","v":""},{"$f":"IF(Lists!AU48=\"\",\"\",Lists!AU48)","v":""},null,{"$f":"IF($E70=\"\",\"\",SUMIFS(CEM_COM_CPMS_Detail!$J$24:$J$5400,CEM_COM_CPMS_Detail!$B$24:$B$5400,B70,CEM_COM_CPMS_Detail!$C$24:$C$5400,C70,CEM_COM_CPMS_Detail!$D$24:$D$5400,D70))","v":""},""]
[null,{"$f":"IF(Lists!AS49=\"\",\"\",Lists!AS49)","v":""},{"$f":"IF(Lists!AT49=\"\",\"\",Lists!AT49)","v":""},{"$f":"IF(Lists!AU49=\"\",\"\",Lists!AU49)","v":""},null,{"$f":"IF($E71=\"\",\"\",SUMIFS(CEM_COM_CPMS_Detail!$J$24:$J$5400,CEM_COM_CPMS_Detail!$B$24:$B$5400,B71,CEM_COM_CPMS_Detail!$C$24:$C$5400,C71,CEM_COM_CPMS_Detail!$D$24:$D$5400,D71))","v":""},""]
[null,{"$f":"IF(Lists!AS50=\"\",\"\",Lists!AS50)","v":""},{"$f":"IF(Lists!AT50=\"\",\"\",Lists!AT50)","v":""},{"$f":"IF(Lists!AU50=\"\",\"\",Lists!AU50)","v":""},null,{"$f":"IF($E72=\"\",\"\",SUMIFS(CEM_COM_CPMS_Detail!$J$24:$J$5400,CEM_COM_CPMS_Detail!$B$24:$B$5400,B72,CEM_COM_CPMS_Detail!$C$24:$C$5400,C72,CEM_COM_CPMS_Detail!$D$24:$D$5400,D72))","v":""},""]
[null,{"$f":"IF(Lists!AS51=\"\",\"\",Lists!AS51)","v":""},{"$f":"IF(Lists!AT51=\"\",\"\",Lists!AT51)","v":""},{"$f":"IF(Lists!AU51=\"\",\"\",Lists!AU51)","v":""},null,{"$f":"IF($E73=\"\",\"\",SUMIFS(CEM_COM_CPMS_Detail!$J$24:$J$5400,CEM_COM_CPMS_Detail!$B$24:$B$5400,B73,CEM_COM_CPMS_Detail!$C$24:$C$5400,C73,CEM_COM_CPMS_Detail!$D$24:$D$5400,D73))","v":""},""]
[null,{"$f":"IF(Lists!AS52=\"\",\"\",Lists!AS52)","v":""},{"$f":"IF(Lists!AT52=\"\",\"\",Lists!AT52)","v":""},{"$f":"IF(Lists!AU52=\"\",\"\",Lists!AU52)","v":""},null,{"$f":"IF($E74=\"\",\"\",SUMIFS(CEM_COM_CPMS_Detail!$J$24:$J$5400,CEM_COM_CPMS_Detail!$B$24:$B$5400,B74,CEM_COM_CPMS_Detail!$C$24:$C$5400,C74,CEM_COM_CPMS_Detail!$D$24:$D$5400,D74))","v":""},""]
[null,{"$f":"IF(Lists!AS53=\"\",\"\",Lists!AS53)","v":""},{"$f":"IF(Lists!AT53=\"\",\"\",Lists!AT53)","v":""},{"$f":"IF(Lists!AU53=\"\",\"\",Lists!AU53)","v":""},null,{"$f":"IF($E75=\"\",\"\",SUMIFS(CEM_COM_CPMS_Detail!$J$24:$J$5400,CEM_COM_CPMS_Detail!$B$24:$B$5400,B75,CEM_COM_CPMS_Detail!$C$24:$C$5400,C75,CEM_COM_CPMS_Detail!$D$24:$D$5400,D75))","v":""},""]
[null,{"$f":"IF(Lists!AS54=\"\",\"\",Lists!AS54)","v":""},{"$f":"IF(Lists!AT54=\"\",\"\",Lists!AT54)","v":""},{"$f":"IF(Lists!AU54=\"\",\"\",Lists!AU54)","v":""},null,{"$f":"IF($E76=\"\",\"\",SUMIFS(CEM_COM_CPMS_Detail!$J$24:$J$5400,CEM_COM_CPMS_Detail!$B$24:$B$5400,B76,CEM_COM_CPMS_Detail!$C$24:$C$5400,C76,CEM_COM_CPMS_Detail!$D$24:$D$5400,D76))","v":""},""]
[null,{"$f":"IF(Lists!AS55=\"\",\"\",Lists!AS55)","v":""},{"$f":"IF(Lists!AT55=\"\",\"\",Lists!AT55)","v":""},{"$f":"IF(Lists!AU55=\"\",\"\",Lists!AU55)","v":""},null,{"$f":"IF($E77=\"\",\"\",SUMIFS(CEM_COM_CPMS_Detail!$J$24:$J$5400,CEM_COM_CPMS_Detail!$B$24:$B$5400,B77,CEM_COM_CPMS_Detail!$C$24:$C$5400,C77,CEM_COM_CPMS_Detail!$D$24:$D$5400,D77))","v":""},""]
[null,{"$f":"IF(Lists!AS56=\"\",\"\",Lists!AS56)","v":""},{"$f":"IF(Lists!AT56=\"\",\"\",Lists!AT56)","v":""},{"$f":"IF(Lists!AU56=\"\",\"\",Lists!AU56)","v":""},null,{"$f":"IF($E78=\"\",\"\",SUMIFS(CEM_COM_CPMS_Detail!$J$24:$J$5400,CEM_COM_CPMS_Detail!$B$24:$B$5400,B78,CEM_COM_CPMS_Detail!$C$24:$C$5400,C78,CEM_COM_CPMS_Detail!$D$24:$D$5400,D78))","v":""},""]
[null,{"$f":"IF(Lists!AS57=\"\",\"\",Lists!AS57)","v":""},{"$f":"IF(Lists!AT57=\"\",\"\",Lists!AT57)","v":""},{"$f":"IF(Lists!AU57=\"\",\"\",Lists!AU57)","v":""},null,{"$f":"IF($E79=\"\",\"\",SUMIFS(CEM_COM_CPMS_Detail!$J$24:$J$5400,CEM_COM_CPMS_Detail!$B$24:$B$5400,B79,CEM_COM_CPMS_Detail!$C$24:$C$5400,C79,CEM_COM_CPMS_Detail!$D$24:$D$5400,D79))","v":""},""]
[null,{"$f":"IF(Lists!AS58=\"\",\"\",Lists!AS58)","v":""},{"$f":"IF(Lists!AT58=\"\",\"\",Lists!AT58)","v":""},{"$f":"IF(Lists!AU58=\"\",\"\",Lists!AU58)","v":""},null,{"$f":"IF($E80=\"\",\"\",SUMIFS(CEM_COM_CPMS_Detail!$J$24:$J$5400,CEM_COM_CPMS_Detail!$B$24:$B$5400,B80,CEM_COM_CPMS_Detail!$C$24:$C$5400,C80,CEM_COM_CPMS_Detail!$D$24:$D$5400,D80))","v":""},""]
[null,{"$f":"IF(Lists!AS59=\"\",\"\",Lists!AS59)","v":""},{"$f":"IF(Lists!AT59=\"\",\"\",Lists!AT59)","v":""},{"$f":"IF(Lists!AU59=\"\",\"\",Lists!AU59)","v":""},null,{"$f":"IF($E81=\"\",\"\",SUMIFS(CEM_COM_CPMS_Detail!$J$24:$J$5400,CEM_COM_CPMS_Detail!$B$24:$B$5400,B81,CEM_COM_CPMS_Detail!$C$24:$C$5400,C81,CEM_COM_CPMS_Detail!$D$24:$D$5400,D81))","v":""},""]
[null,{"$f":"IF(Lists!AS60=\"\",\"\",Lists!AS60)","v":""},{"$f":"IF(Lists!AT60=\"\",\"\",Lists!AT60)","v":""},{"$f":"IF(Lists!AU60=\"\",\"\",Lists!AU60)","v":""},null,{"$f":"IF($E82=\"\",\"\",SUMIFS(CEM_COM_CPMS_Detail!$J$24:$J$5400,CEM_COM_CPMS_Detail!$B$24:$B$5400,B82,CEM_COM_CPMS_Detail!$C$24:$C$5400,C82,CEM_COM_CPMS_Detail!$D$24:$D$5400,D82))","v":""},""]
[null,{"$f":"IF(Lists!AS61=\"\",\"\",Lists!AS61)","v":""},{"$f":"IF(Lists!AT61=\"\",\"\",Lists!AT61)","v":""},{"$f":"IF(Lists!AU61=\"\",\"\",Lists!AU61)","v":""},null,{"$f":"IF($E83=\"\",\"\",SUMIFS(CEM_COM_CPMS_Detail!$J$24:$J$5400,CEM_COM_CPMS_Detail!$B$24:$B$5400,B83,CEM_COM_CPMS_Detail!$C$24:$C$5400,C83,CEM_COM_CPMS_Detail!$D$24:$D$5400,D83))","v":""},""]
[null,{"$f":"IF(Lists!AS62=\"\",\"\",Lists!AS62)","v":""},{"$f":"IF(Lists!AT62=\"\",\"\",Lists!AT62)","v":""},{"$f":"IF(Lists!AU62=\"\",\"\",Lists!AU62)","v":""},null,{"$f":"IF($E84=\"\",\"\",SUMIFS(CEM_COM_CPMS_Detail!$J$24:$J$5400,CEM_COM_CPMS_Detail!$B$24:$B$5400,B84,CEM_COM_CPMS_Detail!$C$24:$C$5400,C84,CEM_COM_CPMS_Detail!$D$24:$D$5400,D84))","v":""},""]
[null,{"$f":"IF(Lists!AS63=\"\",\"\",Lists!AS63)","v":""},{"$f":"IF(Lists!AT63=\"\",\"\",Lists!AT63)","v":""},{"$f":"IF(Lists!AU63=\"\",\"\",Lists!AU63)","v":""},null,{"$f":"IF($E85=\"\",\"\",SUMIFS(CEM_COM_CPMS_Detail!$J$24:$J$5400,CEM_COM_CPMS_Detail!$B$24:$B$5400,B85,CEM_COM_CPMS_Detail!$C$24:$C$5400,C85,CEM_COM_CPMS_Detail!$D$24:$D$5400,D85))","v":""},""]
[null,{"$f":"IF(Lists!AS64=\"\",\"\",Lists!AS64)","v":""},{"$f":"IF(Lists!AT64=\"\",\"\",Lists!AT64)","v":""},{"$f":"IF(Lists!AU64=\"\",\"\",Lists!AU64)","v":""},null,{"$f":"IF($E86=\"\",\"\",SUMIFS(CEM_COM_CPMS_Detail!$J$24:$J$5400,CEM_COM_CPMS_Detail!$B$24:$B$5400,B86,CEM_COM_CPMS_Detail!$C$24:$C$5400,C86,CEM_COM_CPMS_Detail!$D$24:$D$5400,D86))","v":""},""]
[null,{"$f":"IF(Lists!AS65=\"\",\"\",Lists!AS65)","v":""},{"$f":"IF(Lists!AT65=\"\",\"\",Lists!AT65)","v":""},{"$f":"IF(Lists!AU65=\"\",\"\",Lists!AU65)","v":""},null,{"$f":"IF($E87=\"\",\"\",SUMIFS(CEM_COM_CPMS_Detail!$J$24:$J$5400,CEM_COM_CPMS_Detail!$B$24:$B$5400,B87,CEM_COM_CPMS_Detail!$C$24:$C$5400,C87,CEM_COM_CPMS_Detail!$D$24:$D$5400,D87))","v":""},""]
[null,{"$f":"IF(Lists!AS66=\"\",\"\",Lists!AS66)","v":""},{"$f":"IF(Lists!AT66=\"\",\"\",Lists!AT66)","v":""},{"$f":"IF(Lists!AU66=\"\",\"\",Lists!AU66)","v":""},null,{"$f":"IF($E88=\"\",\"\",SUMIFS(CEM_COM_CPMS_Detail!$J$24:$J$5400,CEM_COM_CPMS_Detail!$B$24:$B$5400,B88,CEM_COM_CPMS_Detail!$C$24:$C$5400,C88,CEM_COM_CPMS_Detail!$D$24:$D$5400,D88))","v":""},""]
[null,{"$f":"IF(Lists!AS67=\"\",\"\",Lists!AS67)","v":""},{"$f":"IF(Lists!AT67=\"\",\"\",Lists!AT67)","v":""},{"$f":"IF(Lists!AU67=\"\",\"\",Lists!AU67)","v":""},null,{"$f":"IF($E89=\"\",\"\",SUMIFS(CEM_COM_CPMS_Detail!$J$24:$J$5400,CEM_COM_CPMS_Detail!$B$24:$B$5400,B89,CEM_COM_CPMS_Detail!$C$24:$C$5400,C89,CEM_COM_CPMS_Detail!$D$24:$D$5400,D89))","v":""},{"$f":"IF($E89=\"\",\"\",IF(F89=0,\"N/A\",F89/$E89))","v":""}]
[null,{"$f":"IF(Lists!AS68=\"\",\"\",Lists!AS68)","v":""},{"$f":"IF(Lists!AT68=\"\",\"\",Lists!AT68)","v":""},{"$f":"IF(Lists!AU68=\"\",\"\",Lists!AU68)","v":""},null,{"$f":"IF($E90=\"\",\"\",SUMIFS(CEM_COM_CPMS_Detail!$J$24:$J$5400,CEM_COM_CPMS_Detail!$B$24:$B$5400,B90,CEM_COM_CPMS_Detail!$C$24:$C$5400,C90,CEM_COM_CPMS_Detail!$D$24:$D$5400,D90))","v":""},""]
[null,{"$f":"IF(Lists!AS69=\"\",\"\",Lists!AS69)","v":""},{"$f":"IF(Lists!AT69=\"\",\"\",Lists!AT69)","v":""},{"$f":"IF(Lists!AU69=\"\",\"\",Lists!AU69)","v":""},null,{"$f":"IF($E91=\"\",\"\",SUMIFS(CEM_COM_CPMS_Detail!$J$24:$J$5400,CEM_COM_CPMS_Detail!$B$24:$B$5400,B91,CEM_COM_CPMS_Detail!$C$24:$C$5400,C91,CEM_COM_CPMS_Detail!$D$24:$D$5400,D91))","v":""},""]
[null,{"$f":"IF(Lists!AS70=\"\",\"\",Lists!AS70)","v":""},{"$f":"IF(Lists!AT70=\"\",\"\",Lists!AT70)","v":""},{"$f":"IF(Lists!AU70=\"\",\"\",Lists!AU70)","v":""},null,{"$f":"IF($E92=\"\",\"\",SUMIFS(CEM_COM_CPMS_Detail!$J$24:$J$5400,CEM_COM_CPMS_Detail!$B$24:$B$5400,B92,CEM_COM_CPMS_Detail!$C$24:$C$5400,C92,CEM_COM_CPMS_Detail!$D$24:$D$5400,D92))","v":""},""]
[null,{"$f":"IF(Lists!AS71=\"\",\"\",Lists!AS71)","v":""},{"$f":"IF(Lists!AT71=\"\",\"\",Lists!AT71)","v":""},{"$f":"IF(Lists!AU71=\"\",\"\",Lists!AU71)","v":""},null,{"$f":"IF($E93=\"\",\"\",SUMIFS(CEM_COM_CPMS_Detail!$J$24:$J$5400,CEM_COM_CPMS_Detail!$B$24:$B$5400,B93,CEM_COM_CPMS_Detail!$C$24:$C$5400,C93,CEM_COM_CPMS_Detail!$D$24:$D$5400,D93))","v":""},""]
[null,{"$f":"IF(Lists!AS72=\"\",\"\",Lists!AS72)","v":""},{"$f":"IF(Lists!AT72=\"\",\"\",Lists!AT72)","v":""},{"$f":"IF(Lists!AU72=\"\",\"\",Lists!AU72)","v":""},null,{"$f":"IF($E94=\"\",\"\",SUMIFS(CEM_COM_CPMS_Detail!$J$24:$J$5400,CEM_COM_CPMS_Detail!$B$24:$B$5400,B94,CEM_COM_CPMS_Detail!$C$24:$C$5400,C94,CEM_COM_CPMS_Detail!$D$24:$D$5400,D94))","v":""},""]
[null,{"$f":"IF(Lists!AS73=\"\",\"\",Lists!AS73)","v":""},{"$f":"IF(Lists!AT73=\"\",\"\",Lists!AT73)","v":""},{"$f":"IF(Lists!AU73=\"\",\"\",Lists!AU73)","v":""},null,{"$f":"IF($E95=\"\",\"\",SUMIFS(CEM_COM_CPMS_Detail!$J$24:$J$5400,CEM_COM_CPMS_Detail!$B$24:$B$5400,B95,CEM_COM_CPMS_Detail!$C$24:$C$5400,C95,CEM_COM_CPMS_Detail!$D$24:$D$5400,D95))","v":""},""]
[null,{"$f":"IF(Lists!AS74=\"\",\"\",Lists!AS74)","v":""},{"$f":"IF(Lists!AT74=\"\",\"\",Lists!AT74)","v":""},{"$f":"IF(Lists!AU74=\"\",\"\",Lists!AU74)","v":""},null,{"$f":"IF($E96=\"\",\"\",SUMIFS(CEM_COM_CPMS_Detail!$J$24:$J$5400,CEM_COM_CPMS_Detail!$B$24:$B$5400,B96,CEM_COM_CPMS_Detail!$C$24:$C$5400,C96,CEM_COM_CPMS_Detail!$D$24:$D$5400,D96))","v":""},""]
[null,{"$f":"IF(Lists!AS75=\"\",\"\",Lists!AS75)","v":""},{"$f":"IF(Lists!AT75=\"\",\"\",Lists!AT75)","v":""},{"$f":"IF(Lists!AU75=\"\",\"\",Lists!AU75)","v":""},null,{"$f":"IF($E97=\"\",\"\",SUMIFS(CEM_COM_CPMS_Detail!$J$24:$J$5400,CEM_COM_CPMS_Detail!$B$24:$B$5400,B97,CEM_COM_CPMS_Detail!$C$24:$C$5400,C97,CEM_COM_CPMS_Detail!$D$24:$D$5400,D97))","v":""},""]
[null,{"$f":"IF(Lists!AS76=\"\",\"\",Lists!AS76)","v":""},{"$f":"IF(Lists!AT76=\"\",\"\",Lists!AT76)","v":""},{"$f":"IF(Lists!AU76=\"\",\"\",Lists!AU76)","v":""},null,{"$f":"IF($E98=\"\",\"\",SUMIFS(CEM_COM_CPMS_Detail!$J$24:$J$5400,CEM_COM_CPMS_Detail!$B$24:$B$5400,B98,CEM_COM_CPMS_Detail!$C$24:$C$5400,C98,CEM_COM_CPMS_Detail!$D$24:$D$5400,D98))","v":""},""]
[null,{"$f":"IF(Lists!AS77=\"\",\"\",Lists!AS77)","v":""},{"$f":"IF(Lists!AT77=\"\",\"\",Lists!AT77)","v":""},{"$f":"IF(Lists!AU77=\"\",\"\",Lists!AU77)","v":""},null,{"$f":"IF($E99=\"\",\"\",SUMIFS(CEM_COM_CPMS_Detail!$J$24:$J$5400,CEM_COM_CPMS_Detail!$B$24:$B$5400,B99,CEM_COM_CPMS_Detail!$C$24:$C$5400,C99,CEM_COM_CPMS_Detail!$D$24:$D$5400,D99))","v":""},""]
[null,{"$f":"IF(Lists!AS78=\"\",\"\",Lists!AS78)","v":""},{"$f":"IF(Lists!AT78=\"\",\"\",Lists!AT78)","v":""},{"$f":"IF(Lists!AU78=\"\",\"\",Lists!AU78)","v":""},null,{"$f":"IF($E100=\"\",\"\",SUMIFS(CEM_COM_CPMS_Detail!$J$24:$J$5400,CEM_COM_CPMS_Detail!$B$24:$B$5400,B100,CEM_COM_CPMS_Detail!$C$24:$C$5400,C100,CEM_COM_CPMS_Detail!$D$24:$D$5400,D100))","v":""},""]
[null,{"$f":"IF(D101=\"\",\"\",COUNT($D$24:$D$452)-COUNT(D102:$D$452))","v":""}]
[null,{"$f":"IF(D102=\"\",\"\",COUNT($D$24:$D$452)-COUNT(D103:$D$452))","v":""}]
[null,{"$f":"IF(D103=\"\",\"\",COUNT($D$24:$D$452)-COUNT(D104:$D$452))","v":""}]
[null,{"$f":"IF(D104=\"\",\"\",COUNT($D$24:$D$452)-COUNT(D105:$D$452))","v":""}]
[null,{"$f":"IF(D105=\"\",\"\",COUNT($D$24:$D$452)-COUNT(D106:$D$452))","v":""}]
[null,{"$f":"IF(D106=\"\",\"\",COUNT($D$24:$D$452)-COUNT(D107:$D$452))","v":""}]
[null,{"$f":"IF(D107=\"\",\"\",COUNT($D$24:$D$452)-COUNT(D108:$D$452))","v":""}]
[null,{"$f":"IF(D108=\"\",\"\",COUNT($D$24:$D$452)-COUNT(D109:$D$452))","v":""}]
[null,{"$f":"IF(D109=\"\",\"\",COUNT($D$24:$D$452)-COUNT(D110:$D$452))","v":""}]
[null,{"$f":"IF(D110=\"\",\"\",COUNT($D$24:$D$452)-COUNT(D111:$D$452))","v":""}]
[null,{"$f":"IF(D111=\"\",\"\",COUNT($D$24:$D$452)-COUNT(D112:$D$452))","v":""}]
[null,{"$f":"IF(D112=\"\",\"\",COUNT($D$24:$D$452)-COUNT(D113:$D$452))","v":""}]
[null,{"$f":"IF(D113=\"\",\"\",COUNT($D$24:$D$452)-COUNT(D114:$D$452))","v":""}]
[null,{"$f":"IF(D114=\"\",\"\",COUNT($D$24:$D$452)-COUNT(D115:$D$452))","v":""}]
[null,{"$f":"IF(D115=\"\",\"\",COUNT($D$24:$D$452)-COUNT(D116:$D$452))","v":""}]
[null,{"$f":"IF(D116=\"\",\"\",COUNT($D$24:$D$452)-COUNT(D117:$D$452))","v":""}]
[null,{"$f":"IF(D117=\"\",\"\",COUNT($D$24:$D$452)-COUNT(D118:$D$452))","v":""}]
[null,{"$f":"IF(D118=\"\",\"\",COUNT($D$24:$D$452)-COUNT(D119:$D$452))","v":""}]
[null,{"$f":"IF(D119=\"\",\"\",COUNT($D$24:$D$452)-COUNT(D120:$D$452))","v":""}]
[null,{"$f":"IF(D120=\"\",\"\",COUNT($D$24:$D$452)-COUNT(D121:$D$452))","v":""}]
[null,{"$f":"IF(D121=\"\",\"\",COUNT($D$24:$D$452)-COUNT(D122:$D$452))","v":""}]
[null,{"$f":"IF(D122=\"\",\"\",COUNT($D$24:$D$452)-COUNT(D123:$D$452))","v":""}]
[null,{"$f":"IF(D123=\"\",\"\",COUNT($D$24:$D$452)-COUNT(D124:$D$452))","v":""}]
[null,{"$f":"IF(D124=\"\",\"\",COUNT($D$24:$D$452)-COUNT(D125:$D$452))","v":""}]
[null,{"$f":"IF(D125=\"\",\"\",COUNT($D$24:$D$452)-COUNT(D126:$D$452))","v":""}]
[null,{"$f":"IF(D126=\"\",\"\",COUNT($D$24:$D$452)-COUNT(D127:$D$452))","v":""}]
[null,{"$f":"IF(D127=\"\",\"\",COUNT($D$24:$D$452)-COUNT(D128:$D$452))","v":""}]
[null,{"$f":"IF(D128=\"\",\"\",COUNT($D$24:$D$452)-COUNT(D129:$D$452))","v":""}]
[null,{"$f":"IF(D129=\"\",\"\",COUNT($D$24:$D$452)-COUNT(D130:$D$452))","v":""}]
[null,{"$f":"IF(D130=\"\",\"\",COUNT($D$24:$D$452)-COUNT(D131:$D$452))","v":""}]
[null,{"$f":"IF(D131=\"\",\"\",COUNT($D$24:$D$452)-COUNT(D132:$D$452))","v":""}]
[null,{"$f":"IF(D132=\"\",\"\",COUNT($D$24:$D$452)-COUNT(D133:$D$452))","v":""}]
[null,{"$f":"IF(D133=\"\",\"\",COUNT($D$24:$D$452)-COUNT(D134:$D$452))","v":""}]
[null,{"$f":"IF(D134=\"\",\"\",COUNT($D$24:$D$452)-COUNT(D135:$D$452))","v":""}]
[null,{"$f":"IF(D135=\"\",\"\",COUNT($D$24:$D$452)-COUNT(D136:$D$452))","v":""}]
[null,{"$f":"IF(D136=\"\",\"\",COUNT($D$24:$D$452)-COUNT(D137:$D$452))","v":""}]
[null,{"$f":"IF(D137=\"\",\"\",COUNT($D$24:$D$452)-COUNT(D138:$D$452))","v":""}]
[null,{"$f":"IF(D138=\"\",\"\",COUNT($D$24:$D$452)-COUNT(D139:$D$452))","v":""}]
[null,{"$f":"IF(D139=\"\",\"\",COUNT($D$24:$D$452)-COUNT(D140:$D$452))","v":""}]
[null,{"$f":"IF(D140=\"\",\"\",COUNT($D$24:$D$452)-COUNT(D141:$D$452))","v":""}]
[null,{"$f":"IF(D141=\"\",\"\",COUNT($D$24:$D$452)-COUNT(D142:$D$452))","v":""}]
[null,{"$f":"IF(D142=\"\",\"\",COUNT($D$24:$D$452)-COUNT(D143:$D$452))","v":""}]
[null,{"$f":"IF(D143=\"\",\"\",COUNT($D$24:$D$452)-COUNT(D144:$D$452))","v":""}]
[null,{"$f":"IF(D144=\"\",\"\",COUNT($D$24:$D$452)-COUNT(D145:$D$452))","v":""}]
[null,{"$f":"IF(D145=\"\",\"\",COUNT($D$24:$D$452)-COUNT(D146:$D$452))","v":""}]
[null,{"$f":"IF(D146=\"\",\"\",COUNT($D$24:$D$452)-COUNT(D147:$D$452))","v":""}]
[null,{"$f":"IF(D147=\"\",\"\",COUNT($D$24:$D$452)-COUNT(D148:$D$452))","v":""}]
[null,{"$f":"IF(D148=\"\",\"\",COUNT($D$24:$D$452)-COUNT(D149:$D$452))","v":""}]
[null,{"$f":"IF(D149=\"\",\"\",COUNT($D$24:$D$452)-COUNT(D150:$D$452))","v":""}]
[null,{"$f":"IF(D150=\"\",\"\",COUNT($D$24:$D$452)-COUNT(D151:$D$452))","v":""}]
[null,{"$f":"IF(D151=\"\",\"\",COUNT($D$24:$D$452)-COUNT(D152:$D$452))","v":""}]
[null,{"$f":"IF(D152=\"\",\"\",COUNT($D$24:$D$452)-COUNT(D153:$D$452))","v":""}]
[null,{"$f":"IF(D153=\"\",\"\",COUNT($D$24:$D$452)-COUNT(D154:$D$452))","v":""}]
[null,{"$f":"IF(D154=\"\",\"\",COUNT($D$24:$D$452)-COUNT(D155:$D$452))","v":""}]
[null,{"$f":"IF(D155=\"\",\"\",COUNT($D$24:$D$452)-COUNT(D156:$D$452))","v":""}]
[null,{"$f":"IF(D156=\"\",\"\",COUNT($D$24:$D$452)-COUNT(D157:$D$452))","v":""}]
[null,{"$f":"IF(D157=\"\",\"\",COUNT($D$24:$D$452)-COUNT(D158:$D$452))","v":""}]
[null,{"$f":"IF(D158=\"\",\"\",COUNT($D$24:$D$452)-COUNT(D159:$D$452))","v":""}]
[null,{"$f":"IF(D159=\"\",\"\",COUNT($D$24:$D$452)-COUNT(D160:$D$452))","v":""}]
[null,{"$f":"IF(D160=\"\",\"\",COUNT($D$24:$D$452)-COUNT(D161:$D$452))","v":""}]
[null,{"$f":"IF(D161=\"\",\"\",COUNT($D$24:$D$452)-COUNT(D162:$D$452))","v":""}]
[null,{"$f":"IF(D162=\"\",\"\",COUNT($D$24:$D$452)-COUNT(D163:$D$452))","v":""}]
[null,{"$f":"IF(D163=\"\",\"\",COUNT($D$24:$D$452)-COUNT(D164:$D$452))","v":""}]
[null,{"$f":"IF(D164=\"\",\"\",COUNT($D$24:$D$452)-COUNT(D165:$D$452))","v":""}]
[null,{"$f":"IF(D165=\"\",\"\",COUNT($D$24:$D$452)-COUNT(D166:$D$452))","v":""}]
[null,{"$f":"IF(D166=\"\",\"\",COUNT($D$24:$D$452)-COUNT(D167:$D$452))","v":""}]
[null,{"$f":"IF(D167=\"\",\"\",COUNT($D$24:$D$452)-COUNT(D168:$D$452))","v":""}]
[null,{"$f":"IF(D168=\"\",\"\",COUNT($D$24:$D$452)-COUNT(D169:$D$452))","v":""}]
[null,{"$f":"IF(D169=\"\",\"\",COUNT($D$24:$D$452)-COUNT(D170:$D$452))","v":""}]
[null,{"$f":"IF(D170=\"\",\"\",COUNT($D$24:$D$452)-COUNT(D171:$D$452))","v":""}]
[null,{"$f":"IF(D171=\"\",\"\",COUNT($D$24:$D$452)-COUNT(D172:$D$452))","v":""}]
[null,{"$f":"IF(D172=\"\",\"\",COUNT($D$24:$D$452)-COUNT(D173:$D$452))","v":""}]
[null,{"$f":"IF(D173=\"\",\"\",COUNT($D$24:$D$452)-COUNT(D174:$D$452))","v":""}]
[null,{"$f":"IF(D174=\"\",\"\",COUNT($D$24:$D$452)-COUNT(D175:$D$452))","v":""}]
[null,{"$f":"IF(D175=\"\",\"\",COUNT($D$24:$D$452)-COUNT(D176:$D$452))","v":""}]
[null,{"$f":"IF(D176=\"\",\"\",COUNT($D$24:$D$452)-COUNT(D177:$D$452))","v":""}]
[null,{"$f":"IF(D177=\"\",\"\",COUNT($D$24:$D$452)-COUNT(D178:$D$452))","v":""}]
[null,{"$f":"IF(D178=\"\",\"\",COUNT($D$24:$D$452)-COUNT(D179:$D$452))","v":""}]
[null,{"$f":"IF(D179=\"\",\"\",COUNT($D$24:$D$452)-COUNT(D180:$D$452))","v":""}]
[null,{"$f":"IF(D180=\"\",\"\",COUNT($D$24:$D$452)-COUNT(D181:$D$452))","v":""}]
[null,{"$f":"IF(D181=\"\",\"\",COUNT($D$24:$D$452)-COUNT(D182:$D$452))","v":""}]
[null,{"$f":"IF(D182=\"\",\"\",COUNT($D$24:$D$452)-COUNT(D183:$D$452))","v":""}]
[null,{"$f":"IF(D183=\"\",\"\",COUNT($D$24:$D$452)-COUNT(D184:$D$452))","v":""}]
[null,{"$f":"IF(D184=\"\",\"\",COUNT($D$24:$D$452)-COUNT(D185:$D$452))","v":""}]
[null,{"$f":"IF(D185=\"\",\"\",COUNT($D$24:$D$452)-COUNT(D186:$D$452))","v":""}]
[null,{"$f":"IF(D186=\"\",\"\",COUNT($D$24:$D$452)-COUNT(D187:$D$452))","v":""}]
[null,{"$f":"IF(D187=\"\",\"\",COUNT($D$24:$D$452)-COUNT(D188:$D$452))","v":""}]
[null,{"$f":"IF(D188=\"\",\"\",COUNT($D$24:$D$452)-COUNT(D189:$D$452))","v":""}]
[null,{"$f":"IF(D189=\"\",\"\",COUNT($D$24:$D$452)-COUNT(D190:$D$452))","v":""}]
[null,{"$f":"IF(D190=\"\",\"\",COUNT($D$24:$D$452)-COUNT(D191:$D$452))","v":""}]
[null,{"$f":"IF(D191=\"\",\"\",COUNT($D$24:$D$452)-COUNT(D192:$D$452))","v":""}]
[null,{"$f":"IF(D192=\"\",\"\",COUNT($D$24:$D$452)-COUNT(D193:$D$452))","v":""}]
[null,{"$f":"IF(D193=\"\",\"\",COUNT($D$24:$D$452)-COUNT(D194:$D$452))","v":""}]
[null,{"$f":"IF(D194=\"\",\"\",COUNT($D$24:$D$452)-COUNT(D195:$D$452))","v":""}]
[null,{"$f":"IF(D195=\"\",\"\",COUNT($D$24:$D$452)-COUNT(D196:$D$452))","v":""}]
[null,{"$f":"IF(D196=\"\",\"\",COUNT($D$24:$D$452)-COUNT(D197:$D$452))","v":""}]
[null,{"$f":"IF(D197=\"\",\"\",COUNT($D$24:$D$452)-COUNT(D198:$D$452))","v":""}]
[null,{"$f":"IF(D198=\"\",\"\",COUNT($D$24:$D$452)-COUNT(D199:$D$452))","v":""}]
[null,{"$f":"IF(D199=\"\",\"\",COUNT($D$24:$D$452)-COUNT(D200:$D$452))","v":""}]
[null,{"$f":"IF(D200=\"\",\"\",COUNT($D$24:$D$452)-COUNT(D201:$D$452))","v":""}]
[null,{"$f":"IF(D201=\"\",\"\",COUNT($D$24:$D$452)-COUNT(D202:$D$452))","v":""}]
[null,{"$f":"IF(D202=\"\",\"\",COUNT($D$24:$D$452)-COUNT(D203:$D$452))","v":""}]
[null,{"$f":"IF(D203=\"\",\"\",COUNT($D$24:$D$452)-COUNT(D204:$D$452))","v":""}]
[null,{"$f":"IF(D204=\"\",\"\",COUNT($D$24:$D$452)-COUNT(D205:$D$452))","v":""}]
[null,{"$f":"IF(D205=\"\",\"\",COUNT($D$24:$D$452)-COUNT(D206:$D$452))","v":""}]
[null,{"$f":"IF(D206=\"\",\"\",COUNT($D$24:$D$452)-COUNT(D207:$D$452))","v":""}]
[null,{"$f":"IF(D207=\"\",\"\",COUNT($D$24:$D$452)-COUNT(D208:$D$452))","v":""}]
[null,{"$f":"IF(D208=\"\",\"\",COUNT($D$24:$D$452)-COUNT(D209:$D$452))","v":""}]
[null,{"$f":"IF(D209=\"\",\"\",COUNT($D$24:$D$452)-COUNT(D210:$D$452))","v":""}]
[null,{"$f":"IF(D210=\"\",\"\",COUNT($D$24:$D$452)-COUNT(D211:$D$452))","v":""}]
[null,{"$f":"IF(D211=\"\",\"\",COUNT($D$24:$D$452)-COUNT(D212:$D$452))","v":""}]
[null,{"$f":"IF(D212=\"\",\"\",COUNT($D$24:$D$452)-COUNT(D213:$D$452))","v":""}]
[null,{"$f":"IF(D213=\"\",\"\",COUNT($D$24:$D$452)-COUNT(D214:$D$452))","v":""}]
[null,{"$f":"IF(D214=\"\",\"\",COUNT($D$24:$D$452)-COUNT(D215:$D$452))","v":""}]
[null,{"$f":"IF(D215=\"\",\"\",COUNT($D$24:$D$452)-COUNT(D216:$D$452))","v":""}]
[null,{"$f":"IF(D216=\"\",\"\",COUNT($D$24:$D$452)-COUNT(D217:$D$452))","v":""}]
[null,{"$f":"IF(D217=\"\",\"\",COUNT($D$24:$D$452)-COUNT(D218:$D$452))","v":""}]
[null,{"$f":"IF(D218=\"\",\"\",COUNT($D$24:$D$452)-COUNT(D219:$D$452))","v":""}]
[null,{"$f":"IF(D219=\"\",\"\",COUNT($D$24:$D$452)-COUNT(D220:$D$452))","v":""}]
[null,{"$f":"IF(D220=\"\",\"\",COUNT($D$24:$D$452)-COUNT(D221:$D$452))","v":""}]
[null,{"$f":"IF(D221=\"\",\"\",COUNT($D$24:$D$452)-COUNT(D222:$D$452))","v":""}]
[null,{"$f":"IF(D222=\"\",\"\",COUNT($D$24:$D$452)-COUNT(D223:$D$452))","v":""}]
[null,{"$f":"IF(D223=\"\",\"\",COUNT($D$24:$D$452)-COUNT(D224:$D$452))","v":""}]
[null,{"$f":"IF(D224=\"\",\"\",COUNT($D$24:$D$452)-COUNT(D225:$D$452))","v":""}]
[null,{"$f":"IF(D225=\"\",\"\",COUNT($D$24:$D$452)-COUNT(D226:$D$452))","v":""}]
[null,{"$f":"IF(D226=\"\",\"\",COUNT($D$24:$D$452)-COUNT(D227:$D$452))","v":""}]
[null,{"$f":"IF(D227=\"\",\"\",COUNT($D$24:$D$452)-COUNT(D228:$D$452))","v":""}]
[null,{"$f":"IF(D228=\"\",\"\",COUNT($D$24:$D$452)-COUNT(D229:$D$452))","v":""}]
[null,{"$f":"IF(D229=\"\",\"\",COUNT($D$24:$D$452)-COUNT(D230:$D$452))","v":""}]
[null,{"$f":"IF(D230=\"\",\"\",COUNT($D$24:$D$452)-COUNT(D231:$D$452))","v":""}]
[null,{"$f":"IF(D231=\"\",\"\",COUNT($D$24:$D$452)-COUNT(D232:$D$452))","v":""}]
[null,{"$f":"IF(D232=\"\",\"\",COUNT($D$24:$D$452)-COUNT(D233:$D$452))","v":""}]
[null,{"$f":"IF(D233=\"\",\"\",COUNT($D$24:$D$452)-COUNT(D234:$D$452))","v":""}]
[null,{"$f":"IF(D234=\"\",\"\",COUNT($D$24:$D$452)-COUNT(D235:$D$452))","v":""}]
[null,{"$f":"IF(D235=\"\",\"\",COUNT($D$24:$D$452)-COUNT(D236:$D$452))","v":""}]
[null,{"$f":"IF(D236=\"\",\"\",COUNT($D$24:$D$452)-COUNT(D237:$D$452))","v":""}]
[null,{"$f":"IF(D237=\"\",\"\",COUNT($D$24:$D$452)-COUNT(D238:$D$452))","v":""}]
[null,{"$f":"IF(D238=\"\",\"\",COUNT($D$24:$D$452)-COUNT(D239:$D$452))","v":""}]
[null,{"$f":"IF(D239=\"\",\"\",COUNT($D$24:$D$452)-COUNT(D240:$D$452))","v":""}]
[null,{"$f":"IF(D240=\"\",\"\",COUNT($D$24:$D$452)-COUNT(D241:$D$452))","v":""}]
[null,{"$f":"IF(D241=\"\",\"\",COUNT($D$24:$D$452)-COUNT(D242:$D$452))","v":""}]
[null,{"$f":"IF(D242=\"\",\"\",COUNT($D$24:$D$452)-COUNT(D243:$D$452))","v":""}]
[null,{"$f":"IF(D243=\"\",\"\",COUNT($D$24:$D$452)-COUNT(D244:$D$452))","v":""}]
[null,{"$f":"IF(D244=\"\",\"\",COUNT($D$24:$D$452)-COUNT(D245:$D$452))","v":""}]
[null,{"$f":"IF(D245=\"\",\"\",COUNT($D$24:$D$452)-COUNT(D246:$D$452))","v":""}]
[null,{"$f":"IF(D246=\"\",\"\",COUNT($D$24:$D$452)-COUNT(D247:$D$452))","v":""}]
[null,{"$f":"IF(D247=\"\",\"\",COUNT($D$24:$D$452)-COUNT(D248:$D$452))","v":""}]
[null,{"$f":"IF(D248=\"\",\"\",COUNT($D$24:$D$452)-COUNT(D249:$D$452))","v":""}]
[null,{"$f":"IF(D249=\"\",\"\",COUNT($D$24:$D$452)-COUNT(D250:$D$452))","v":""}]
[null,{"$f":"IF(D250=\"\",\"\",COUNT($D$24:$D$452)-COUNT(D251:$D$452))","v":""}]
[null,{"$f":"IF(D251=\"\",\"\",COUNT($D$24:$D$452)-COUNT(D252:$D$452))","v":""}]
[null,{"$f":"IF(D252=\"\",\"\",COUNT($D$24:$D$452)-COUNT(D253:$D$452))","v":""}]
[null,{"$f":"IF(D253=\"\",\"\",COUNT($D$24:$D$452)-COUNT(D254:$D$452))","v":""}]
[null,{"$f":"IF(D254=\"\",\"\",COUNT($D$24:$D$452)-COUNT(D255:$D$452))","v":""}]
[null,{"$f":"IF(D255=\"\",\"\",COUNT($D$24:$D$452)-COUNT(D256:$D$452))","v":""}]
[null,{"$f":"IF(D256=\"\",\"\",COUNT($D$24:$D$452)-COUNT(D257:$D$452))","v":""}]
[null,{"$f":"IF(D257=\"\",\"\",COUNT($D$24:$D$452)-COUNT(D258:$D$452))","v":""}]
[null,{"$f":"IF(D258=\"\",\"\",COUNT($D$24:$D$452)-COUNT(D259:$D$452))","v":""}]
[null,{"$f":"IF(D259=\"\",\"\",COUNT($D$24:$D$452)-COUNT(D260:$D$452))","v":""}]
[null,{"$f":"IF(D260=\"\",\"\",COUNT($D$24:$D$452)-COUNT(D261:$D$452))","v":""}]
[null,{"$f":"IF(D261=\"\",\"\",COUNT($D$24:$D$452)-COUNT(D262:$D$452))","v":""}]
[null,{"$f":"IF(D262=\"\",\"\",COUNT($D$24:$D$452)-COUNT(D263:$D$452))","v":""}]
[null,{"$f":"IF(D263=\"\",\"\",COUNT($D$24:$D$452)-COUNT(D264:$D$452))","v":""}]
[null,{"$f":"IF(D264=\"\",\"\",COUNT($D$24:$D$452)-COUNT(D265:$D$452))","v":""}]
[null,{"$f":"IF(D265=\"\",\"\",COUNT($D$24:$D$452)-COUNT(D266:$D$452))","v":""}]
[null,{"$f":"IF(D266=\"\",\"\",COUNT($D$24:$D$452)-COUNT(D267:$D$452))","v":""}]
[null,{"$f":"IF(D267=\"\",\"\",COUNT($D$24:$D$452)-COUNT(D268:$D$452))","v":""}]
[null,{"$f":"IF(D268=\"\",\"\",COUNT($D$24:$D$452)-COUNT(D269:$D$452))","v":""}]
[null,{"$f":"IF(D269=\"\",\"\",COUNT($D$24:$D$452)-COUNT(D270:$D$452))","v":""}]
[null,{"$f":"IF(D270=\"\",\"\",COUNT($D$24:$D$452)-COUNT(D271:$D$452))","v":""}]
[null,{"$f":"IF(D271=\"\",\"\",COUNT($D$24:$D$452)-COUNT(D272:$D$452))","v":""}]
[null,{"$f":"IF(D272=\"\",\"\",COUNT($D$24:$D$452)-COUNT(D273:$D$452))","v":""}]
[null,{"$f":"IF(D273=\"\",\"\",COUNT($D$24:$D$452)-COUNT(D274:$D$452))","v":""}]
[null,{"$f":"IF(D274=\"\",\"\",COUNT($D$24:$D$452)-COUNT(D275:$D$452))","v":""}]
[null,{"$f":"IF(D275=\"\",\"\",COUNT($D$24:$D$452)-COUNT(D276:$D$452))","v":""}]
[null,{"$f":"IF(D276=\"\",\"\",COUNT($D$24:$D$452)-COUNT(D277:$D$452))","v":""}]
[null,{"$f":"IF(D277=\"\",\"\",COUNT($D$24:$D$452)-COUNT(D278:$D$452))","v":""}]
[null,{"$f":"IF(D278=\"\",\"\",COUNT($D$24:$D$452)-COUNT(D279:$D$452))","v":""}]
[null,{"$f":"IF(D279=\"\",\"\",COUNT($D$24:$D$452)-COUNT(D280:$D$452))","v":""}]
[null,{"$f":"IF(D280=\"\",\"\",COUNT($D$24:$D$452)-COUNT(D281:$D$452))","v":""}]
[null,{"$f":"IF(D281=\"\",\"\",COUNT($D$24:$D$452)-COUNT(D282:$D$452))","v":""}]
[null,{"$f":"IF(D282=\"\",\"\",COUNT($D$24:$D$452)-COUNT(D283:$D$452))","v":""}]
[null,{"$f":"IF(D283=\"\",\"\",COUNT($D$24:$D$452)-COUNT(D284:$D$452))","v":""}]
[null,{"$f":"IF(D284=\"\",\"\",COUNT($D$24:$D$452)-COUNT(D285:$D$452))","v":""}]
[null,{"$f":"IF(D285=\"\",\"\",COUNT($D$24:$D$452)-COUNT(D286:$D$452))","v":""}]
[null,{"$f":"IF(D286=\"\",\"\",COUNT($D$24:$D$452)-COUNT(D287:$D$452))","v":""}]
[null,{"$f":"IF(D287=\"\",\"\",COUNT($D$24:$D$452)-COUNT(D288:$D$452))","v":""}]
[null,{"$f":"IF(D288=\"\",\"\",COUNT($D$24:$D$452)-COUNT(D289:$D$452))","v":""}]
[null,{"$f":"IF(D289=\"\",\"\",COUNT($D$24:$D$452)-COUNT(D290:$D$452))","v":""}]
[null,{"$f":"IF(D290=\"\",\"\",COUNT($D$24:$D$452)-COUNT(D291:$D$452))","v":""}]
[null,{"$f":"IF(D291=\"\",\"\",COUNT($D$24:$D$452)-COUNT(D292:$D$452))","v":""}]
[null,{"$f":"IF(D292=\"\",\"\",COUNT($D$24:$D$452)-COUNT(D293:$D$452))","v":""}]
[null,{"$f":"IF(D293=\"\",\"\",COUNT($D$24:$D$452)-COUNT(D294:$D$452))","v":""}]
[null,{"$f":"IF(D294=\"\",\"\",COUNT($D$24:$D$452)-COUNT(D295:$D$452))","v":""}]
[null,{"$f":"IF(D295=\"\",\"\",COUNT($D$24:$D$452)-COUNT(D296:$D$452))","v":""}]
[null,{"$f":"IF(D296=\"\",\"\",COUNT($D$24:$D$452)-COUNT(D297:$D$452))","v":""}]
[null,{"$f":"IF(D297=\"\",\"\",COUNT($D$24:$D$452)-COUNT(D298:$D$452))","v":""}]
[null,{"$f":"IF(D298=\"\",\"\",COUNT($D$24:$D$452)-COUNT(D299:$D$452))","v":""}]
[null,{"$f":"IF(D299=\"\",\"\",COUNT($D$24:$D$452)-COUNT(D300:$D$452))","v":""}]
[null,{"$f":"IF(D300=\"\",\"\",COUNT($D$24:$D$452)-COUNT(D301:$D$452))","v":""}]
[null,{"$f":"IF(D301=\"\",\"\",COUNT($D$24:$D$452)-COUNT(D302:$D$452))","v":""}]
[null,{"$f":"IF(D302=\"\",\"\",COUNT($D$24:$D$452)-COUNT(D303:$D$452))","v":""}]
[null,{"$f":"IF(D303=\"\",\"\",COUNT($D$24:$D$452)-COUNT(D304:$D$452))","v":""}]
[null,{"$f":"IF(D304=\"\",\"\",COUNT($D$24:$D$452)-COUNT(D305:$D$452))","v":""}]
[null,{"$f":"IF(D305=\"\",\"\",COUNT($D$24:$D$452)-COUNT(D306:$D$452))","v":""}]
[null,{"$f":"IF(D306=\"\",\"\",COUNT($D$24:$D$452)-COUNT(D307:$D$452))","v":""}]
[null,{"$f":"IF(D307=\"\",\"\",COUNT($D$24:$D$452)-COUNT(D308:$D$452))","v":""}]
[null,{"$f":"IF(D308=\"\",\"\",COUNT($D$24:$D$452)-COUNT(D309:$D$452))","v":""}]
[null,{"$f":"IF(D309=\"\",\"\",COUNT($D$24:$D$452)-COUNT(D310:$D$452))","v":""}]
[null,{"$f":"IF(D310=\"\",\"\",COUNT($D$24:$D$452)-COUNT(D311:$D$452))","v":""}]
[null,{"$f":"IF(D311=\"\",\"\",COUNT($D$24:$D$452)-COUNT(D312:$D$452))","v":""}]
[null,{"$f":"IF(D312=\"\",\"\",COUNT($D$24:$D$452)-COUNT(D313:$D$452))","v":""}]
[null,{"$f":"IF(D313=\"\",\"\",COUNT($D$24:$D$452)-COUNT(D314:$D$452))","v":""}]
[null,{"$f":"IF(D314=\"\",\"\",COUNT($D$24:$D$452)-COUNT(D315:$D$452))","v":""}]
[null,{"$f":"IF(D315=\"\",\"\",COUNT($D$24:$D$452)-COUNT(D316:$D$452))","v":""}]
[null,{"$f":"IF(D316=\"\",\"\",COUNT($D$24:$D$452)-COUNT(D317:$D$452))","v":""}]
[null,{"$f":"IF(D317=\"\",\"\",COUNT($D$24:$D$452)-COUNT(D318:$D$452))","v":""}]
[null,{"$f":"IF(D318=\"\",\"\",COUNT($D$24:$D$452)-COUNT(D319:$D$452))","v":""}]
[null,{"$f":"IF(D319=\"\",\"\",COUNT($D$24:$D$452)-COUNT(D320:$D$452))","v":""}]
[null,{"$f":"IF(D320=\"\",\"\",COUNT($D$24:$D$452)-COUNT(D321:$D$452))","v":""}]
[null,{"$f":"IF(D321=\"\",\"\",COUNT($D$24:$D$452)-COUNT(D322:$D$452))","v":""}]
[null,{"$f":"IF(D322=\"\",\"\",COUNT($D$24:$D$452)-COUNT(D323:$D$452))","v":""}]
[null,{"$f":"IF(D323=\"\",\"\",COUNT($D$24:$D$452)-COUNT(D324:$D$452))","v":""}]
[null,{"$f":"IF(D324=\"\",\"\",COUNT($D$24:$D$452)-COUNT(D325:$D$452))","v":""}]
[null,{"$f":"IF(D325=\"\",\"\",COUNT($D$24:$D$452)-COUNT(D326:$D$452))","v":""}]
[null,{"$f":"IF(D326=\"\",\"\",COUNT($D$24:$D$452)-COUNT(D327:$D$452))","v":""}]
[null,{"$f":"IF(D327=\"\",\"\",COUNT($D$24:$D$452)-COUNT(D328:$D$452))","v":""}]
[null,{"$f":"IF(D328=\"\",\"\",COUNT($D$24:$D$452)-COUNT(D329:$D$452))","v":""}]
[null,{"$f":"IF(D329=\"\",\"\",COUNT($D$24:$D$452)-COUNT(D330:$D$452))","v":""}]
[null,{"$f":"IF(D330=\"\",\"\",COUNT($D$24:$D$452)-COUNT(D331:$D$452))","v":""}]
[null,{"$f":"IF(D331=\"\",\"\",COUNT($D$24:$D$452)-COUNT(D332:$D$452))","v":""}]
[null,{"$f":"IF(D332=\"\",\"\",COUNT($D$24:$D$452)-COUNT(D333:$D$452))","v":""}]
[null,{"$f":"IF(D333=\"\",\"\",COUNT($D$24:$D$452)-COUNT(D334:$D$452))","v":""}]
[null,{"$f":"IF(D334=\"\",\"\",COUNT($D$24:$D$452)-COUNT(D335:$D$452))","v":""}]
[null,{"$f":"IF(D335=\"\",\"\",COUNT($D$24:$D$452)-COUNT(D336:$D$452))","v":""}]
[null,{"$f":"IF(D336=\"\",\"\",COUNT($D$24:$D$452)-COUNT(D337:$D$452))","v":""}]
[null,{"$f":"IF(D337=\"\",\"\",COUNT($D$24:$D$452)-COUNT(D338:$D$452))","v":""}]
[null,{"$f":"IF(D338=\"\",\"\",COUNT($D$24:$D$452)-COUNT(D339:$D$452))","v":""}]
[null,{"$f":"IF(D339=\"\",\"\",COUNT($D$24:$D$452)-COUNT(D340:$D$452))","v":""}]
[null,{"$f":"IF(D340=\"\",\"\",COUNT($D$24:$D$452)-COUNT(D341:$D$452))","v":""}]
[null,{"$f":"IF(D341=\"\",\"\",COUNT($D$24:$D$452)-COUNT(D342:$D$452))","v":""}]
[null,{"$f":"IF(D342=\"\",\"\",COUNT($D$24:$D$452)-COUNT(D343:$D$452))","v":""}]
[null,{"$f":"IF(D343=\"\",\"\",COUNT($D$24:$D$452)-COUNT(D344:$D$452))","v":""}]
[null,{"$f":"IF(D344=\"\",\"\",COUNT($D$24:$D$452)-COUNT(D345:$D$452))","v":""}]
[null,{"$f":"IF(D345=\"\",\"\",COUNT($D$24:$D$452)-COUNT(D346:$D$452))","v":""}]
[null,{"$f":"IF(D346=\"\",\"\",COUNT($D$24:$D$452)-COUNT(D347:$D$452))","v":""}]
[null,{"$f":"IF(D347=\"\",\"\",COUNT($D$24:$D$452)-COUNT(D348:$D$452))","v":""}]
[null,{"$f":"IF(D348=\"\",\"\",COUNT($D$24:$D$452)-COUNT(D349:$D$452))","v":""}]
[null,{"$f":"IF(D349=\"\",\"\",COUNT($D$24:$D$452)-COUNT(D350:$D$452))","v":""}]
[null,{"$f":"IF(D350=\"\",\"\",COUNT($D$24:$D$452)-COUNT(D351:$D$452))","v":""}]
[null,{"$f":"IF(D351=\"\",\"\",COUNT($D$24:$D$452)-COUNT(D352:$D$452))","v":""}]
[null,{"$f":"IF(D352=\"\",\"\",COUNT($D$24:$D$452)-COUNT(D353:$D$452))","v":""}]
[null,{"$f":"IF(D353=\"\",\"\",COUNT($D$24:$D$452)-COUNT(D354:$D$452))","v":""}]
[null,{"$f":"IF(D354=\"\",\"\",COUNT($D$24:$D$452)-COUNT(D355:$D$452))","v":""}]
[null,{"$f":"IF(D355=\"\",\"\",COUNT($D$24:$D$452)-COUNT(D356:$D$452))","v":""}]
[null,{"$f":"IF(D356=\"\",\"\",COUNT($D$24:$D$452)-COUNT(D357:$D$452))","v":""}]
[null,{"$f":"IF(D357=\"\",\"\",COUNT($D$24:$D$452)-COUNT(D358:$D$452))","v":""}]
[null,{"$f":"IF(D358=\"\",\"\",COUNT($D$24:$D$452)-COUNT(D359:$D$452))","v":""}]
[null,{"$f":"IF(D359=\"\",\"\",COUNT($D$24:$D$452)-COUNT(D360:$D$452))","v":""}]
[null,{"$f":"IF(D360=\"\",\"\",COUNT($D$24:$D$452)-COUNT(D361:$D$452))","v":""}]
[null,{"$f":"IF(D361=\"\",\"\",COUNT($D$24:$D$452)-COUNT(D362:$D$452))","v":""}]
[null,{"$f":"IF(D362=\"\",\"\",COUNT($D$24:$D$452)-COUNT(D363:$D$452))","v":""}]
[null,{"$f":"IF(D363=\"\",\"\",COUNT($D$24:$D$452)-COUNT(D364:$D$452))","v":""}]
[null,{"$f":"IF(D364=\"\",\"\",COUNT($D$24:$D$452)-COUNT(D365:$D$452))","v":""}]
[null,{"$f":"IF(D365=\"\",\"\",COUNT($D$24:$D$452)-COUNT(D366:$D$452))","v":""}]
[null,{"$f":"IF(D366=\"\",\"\",COUNT($D$24:$D$452)-COUNT(D367:$D$452))","v":""}]
[null,{"$f":"IF(D367=\"\",\"\",COUNT($D$24:$D$452)-COUNT(D368:$D$452))","v":""}]
[null,{"$f":"IF(D368=\"\",\"\",COUNT($D$24:$D$452)-COUNT(D369:$D$452))","v":""}]
[null,{"$f":"IF(D369=\"\",\"\",COUNT($D$24:$D$452)-COUNT(D370:$D$452))","v":""}]
[null,{"$f":"IF(D370=\"\",\"\",COUNT($D$24:$D$452)-COUNT(D371:$D$452))","v":""}]
[null,{"$f":"IF(D371=\"\",\"\",COUNT($D$24:$D$452)-COUNT(D372:$D$452))","v":""}]
[null,{"$f":"IF(D372=\"\",\"\",COUNT($D$24:$D$452)-COUNT(D373:$D$452))","v":""}]
[null,{"$f":"IF(D373=\"\",\"\",COUNT($D$24:$D$452)-COUNT(D374:$D$452))","v":""}]
[null,{"$f":"IF(D374=\"\",\"\",COUNT($D$24:$D$452)-COUNT(D375:$D$452))","v":""}]
[null,{"$f":"IF(D375=\"\",\"\",COUNT($D$24:$D$452)-COUNT(D376:$D$452))","v":""}]
[null,{"$f":"IF(D376=\"\",\"\",COUNT($D$24:$D$452)-COUNT(D377:$D$452))","v":""}]
[null,{"$f":"IF(D377=\"\",\"\",COUNT($D$24:$D$452)-COUNT(D378:$D$452))","v":""}]
[null,{"$f":"IF(D378=\"\",\"\",COUNT($D$24:$D$452)-COUNT(D379:$D$452))","v":""}]
[null,{"$f":"IF(D379=\"\",\"\",COUNT($D$24:$D$452)-COUNT(D380:$D$452))","v":""}]
[null,{"$f":"IF(D380=\"\",\"\",COUNT($D$24:$D$452)-COUNT(D381:$D$452))","v":""}]
[null,{"$f":"IF(D381=\"\",\"\",COUNT($D$24:$D$452)-COUNT(D382:$D$452))","v":""}]
[null,{"$f":"IF(D382=\"\",\"\",COUNT($D$24:$D$452)-COUNT(D383:$D$452))","v":""}]
[null,{"$f":"IF(D383=\"\",\"\",COUNT($D$24:$D$452)-COUNT(D384:$D$452))","v":""}]
[null,{"$f":"IF(D384=\"\",\"\",COUNT($D$24:$D$452)-COUNT(D385:$D$452))","v":""}]
[null,{"$f":"IF(D385=\"\",\"\",COUNT($D$24:$D$452)-COUNT(D386:$D$452))","v":""}]
[null,{"$f":"IF(D386=\"\",\"\",COUNT($D$24:$D$452)-COUNT(D387:$D$452))","v":""}]
[null,{"$f":"IF(D387=\"\",\"\",COUNT($D$24:$D$452)-COUNT(D388:$D$452))","v":""}]
[null,{"$f":"IF(D388=\"\",\"\",COUNT($D$24:$D$452)-COUNT(D389:$D$452))","v":""}]
[null,{"$f":"IF(D389=\"\",\"\",COUNT($D$24:$D$452)-COUNT(D390:$D$452))","v":""}]
[null,{"$f":"IF(D390=\"\",\"\",COUNT($D$24:$D$452)-COUNT(D391:$D$452))","v":""}]
[null,{"$f":"IF(D391=\"\",\"\",COUNT($D$24:$D$452)-COUNT(D392:$D$452))","v":""}]
[null,{"$f":"IF(D392=\"\",\"\",COUNT($D$24:$D$452)-COUNT(D393:$D$452))","v":""}]
[null,{"$f":"IF(D393=\"\",\"\",COUNT($D$24:$D$452)-COUNT(D394:$D$452))","v":""}]
[null,{"$f":"IF(D394=\"\",\"\",COUNT($D$24:$D$452)-COUNT(D395:$D$452))","v":""}]
[null,{"$f":"IF(D395=\"\",\"\",COUNT($D$24:$D$452)-COUNT(D396:$D$452))","v":""}]
[null,{"$f":"IF(D396=\"\",\"\",COUNT($D$24:$D$452)-COUNT(D397:$D$452))","v":""}]
[null,{"$f":"IF(D397=\"\",\"\",COUNT($D$24:$D$452)-COUNT(D398:$D$452))","v":""}]
[null,{"$f":"IF(D398=\"\",\"\",COUNT($D$24:$D$452)-COUNT(D399:$D$452))","v":""}]
[null,{"$f":"IF(D399=\"\",\"\",COUNT($D$24:$D$452)-COUNT(D400:$D$452))","v":""}]
[null,{"$f":"IF(D400=\"\",\"\",COUNT($D$24:$D$452)-COUNT(D401:$D$452))","v":""}]
[null,{"$f":"IF(D401=\"\",\"\",COUNT($D$24:$D$452)-COUNT(D402:$D$452))","v":""}]
[null,{"$f":"IF(D402=\"\",\"\",COUNT($D$24:$D$452)-COUNT(D403:$D$452))","v":""}]
[null,{"$f":"IF(D403=\"\",\"\",COUNT($D$24:$D$452)-COUNT(D404:$D$452))","v":""}]
[null,{"$f":"IF(D404=\"\",\"\",COUNT($D$24:$D$452)-COUNT(D405:$D$452))","v":""}]
[null,{"$f":"IF(D405=\"\",\"\",COUNT($D$24:$D$452)-COUNT(D406:$D$452))","v":""}]
[null,{"$f":"IF(D406=\"\",\"\",COUNT($D$24:$D$452)-COUNT(D407:$D$452))","v":""}]
[null,{"$f":"IF(D407=\"\",\"\",COUNT($D$24:$D$452)-COUNT(D408:$D$452))","v":""}]
[null,{"$f":"IF(D408=\"\",\"\",COUNT($D$24:$D$452)-COUNT(D409:$D$452))","v":""}]
[null,{"$f":"IF(D409=\"\",\"\",COUNT($D$24:$D$452)-COUNT(D410:$D$452))","v":""}]
[null,{"$f":"IF(D410=\"\",\"\",COUNT($D$24:$D$452)-COUNT(D411:$D$452))","v":""}]
[null,{"$f":"IF(D411=\"\",\"\",COUNT($D$24:$D$452)-COUNT(D412:$D$452))","v":""}]
[null,{"$f":"IF(D412=\"\",\"\",COUNT($D$24:$D$452)-COUNT(D413:$D$452))","v":""}]
[null,{"$f":"IF(D413=\"\",\"\",COUNT($D$24:$D$452)-COUNT(D414:$D$452))","v":""}]
[null,{"$f":"IF(D414=\"\",\"\",COUNT($D$24:$D$452)-COUNT(D415:$D$452))","v":""}]
[null,{"$f":"IF(D415=\"\",\"\",COUNT($D$24:$D$452)-COUNT(D416:$D$452))","v":""}]
[null,{"$f":"IF(D416=\"\",\"\",COUNT($D$24:$D$452)-COUNT(D417:$D$452))","v":""}]
[null,{"$f":"IF(D417=\"\",\"\",COUNT($D$24:$D$452)-COUNT(D418:$D$452))","v":""}]
[null,{"$f":"IF(D418=\"\",\"\",COUNT($D$24:$D$452)-COUNT(D419:$D$452))","v":""}]
[null,{"$f":"IF(D419=\"\",\"\",COUNT($D$24:$D$452)-COUNT(D420:$D$452))","v":""}]
[null,{"$f":"IF(D420=\"\",\"\",COUNT($D$24:$D$452)-COUNT(D421:$D$452))","v":""}]
[null,{"$f":"IF(D421=\"\",\"\",COUNT($D$24:$D$452)-COUNT(D422:$D$452))","v":""}]
[null,{"$f":"IF(D422=\"\",\"\",COUNT($D$24:$D$452)-COUNT(D423:$D$452))","v":""}]
[null,{"$f":"IF(D423=\"\",\"\",COUNT($D$24:$D$452)-COUNT(D424:$D$452))","v":""}]
[null,{"$f":"IF(D424=\"\",\"\",COUNT($D$24:$D$452)-COUNT(D425:$D$452))","v":""}]
[null,{"$f":"IF(D425=\"\",\"\",COUNT($D$24:$D$452)-COUNT(D426:$D$452))","v":""}]
[null,{"$f":"IF(D426=\"\",\"\",COUNT($D$24:$D$452)-COUNT(D427:$D$452))","v":""}]
[null,{"$f":"IF(D427=\"\",\"\",COUNT($D$24:$D$452)-COUNT(D428:$D$452))","v":""}]
[null,{"$f":"IF(D428=\"\",\"\",COUNT($D$24:$D$452)-COUNT(D429:$D$452))","v":""}]
[null,{"$f":"IF(D429=\"\",\"\",COUNT($D$24:$D$452)-COUNT(D430:$D$452))","v":""}]
[null,{"$f":"IF(D430=\"\",\"\",COUNT($D$24:$D$452)-COUNT(D431:$D$452))","v":""}]
[null,{"$f":"IF(D431=\"\",\"\",COUNT($D$24:$D$452)-COUNT(D432:$D$452))","v":""}]
[null,{"$f":"IF(D432=\"\",\"\",COUNT($D$24:$D$452)-COUNT(D433:$D$452))","v":""}]
[null,{"$f":"IF(D433=\"\",\"\",COUNT($D$24:$D$452)-COUNT(D434:$D$452))","v":""}]
[null,{"$f":"IF(D434=\"\",\"\",COUNT($D$24:$D$452)-COUNT(D435:$D$452))","v":""}]
[null,{"$f":"IF(D435=\"\",\"\",COUNT($D$24:$D$452)-COUNT(D436:$D$452))","v":""}]
[null,{"$f":"IF(D436=\"\",\"\",COUNT($D$24:$D$452)-COUNT(D437:$D$452))","v":""}]
[null,{"$f":"IF(D437=\"\",\"\",COUNT($D$24:$D$452)-COUNT(D438:$D$452))","v":""}]
[null,{"$f":"IF(D438=\"\",\"\",COUNT($D$24:$D$452)-COUNT(D439:$D$452))","v":""}]
[null,{"$f":"IF(D439=\"\",\"\",COUNT($D$24:$D$452)-COUNT(D440:$D$452))","v":""}]
[null,{"$f":"IF(D440=\"\",\"\",COUNT($D$24:$D$452)-COUNT(D441:$D$452))","v":""}]
[null,{"$f":"IF(D441=\"\",\"\",COUNT($D$24:$D$452)-COUNT(D442:$D$452))","v":""}]
[null,{"$f":"IF(D442=\"\",\"\",COUNT($D$24:$D$452)-COUNT(D443:$D$452))","v":""}]
[null,{"$f":"IF(D443=\"\",\"\",COUNT($D$24:$D$452)-COUNT(D444:$D$452))","v":""}]
[null,{"$f":"IF(D444=\"\",\"\",COUNT($D$24:$D$452)-COUNT(D445:$D$452))","v":""}]
[null,{"$f":"IF(D445=\"\",\"\",COUNT($D$24:$D$452)-COUNT(D446:$D$452))","v":""}]
[null,{"$f":"IF(D446=\"\",\"\",COUNT($D$24:$D$452)-COUNT(D447:$D$452))","v":""}]
[null,{"$f":"IF(D447=\"\",\"\",COUNT($D$24:$D$452)-COUNT(D448:$D$452))","v":""}]
[null,{"$f":"IF(D448=\"\",\"\",COUNT($D$24:$D$452)-COUNT(D449:$D$452))","v":""}]
[null,{"$f":"IF(D449=\"\",\"\",COUNT($D$24:$D$452)-COUNT(D450:$D$452))","v":""}]
[null,{"$f":"IF(D450=\"\",\"\",COUNT($D$24:$D$452)-COUNT(D451:$D$452))","v":""}]
[null,{"$f":"IF(D451=\"\",\"\",COUNT($D$24:$D$452)-COUNT(D$452:$D452))","v":""}]
[null,{"$f":"IF(D452=\"\",\"\",COUNT($D$24:$D$452)-COUNT(D$452:$D453))","v":""}]
[null,{"$f":"IF(D453=\"\",\"\",COUNT($D$24:$D$452)-COUNT(D$452:$D454))","v":""}]
[null,{"$f":"IF(D454=\"\",\"\",COUNT($D$24:$D$452)-COUNT(D$452:$D455))","v":""}]
[null,{"$f":"IF(D455=\"\",\"\",COUNT($D$24:$D$452)-COUNT(D$452:$D456))","v":""}]
[null,{"$f":"IF(D456=\"\",\"\",COUNT($D$24:$D$452)-COUNT(D$452:$D457))","v":""}]
[null,{"$f":"IF(D457=\"\",\"\",COUNT($D$24:$D$452)-COUNT(D$452:$D458))","v":""}]
[null,{"$f":"IF(D458=\"\",\"\",COUNT($D$24:$D$452)-COUNT(D$452:$D459))","v":""}]
[null,{"$f":"IF(D459=\"\",\"\",COUNT($D$24:$D$452)-COUNT(D$452:$D460))","v":""}]
[null,{"$f":"IF(D460=\"\",\"\",COUNT($D$24:$D$452)-COUNT(D$452:$D461))","v":""}]
[null,{"$f":"IF(D461=\"\",\"\",COUNT($D$24:$D$452)-COUNT(D$452:$D462))","v":""}]
[null,{"$f":"IF(D462=\"\",\"\",COUNT($D$24:$D$452)-COUNT(D$452:$D463))","v":""}]
[null,{"$f":"IF(D463=\"\",\"\",COUNT($D$24:$D$452)-COUNT(D$452:$D464))","v":""}]
[null,{"$f":"IF(D464=\"\",\"\",COUNT($D$24:$D$452)-COUNT(D$452:$D465))","v":""}]
[null,{"$f":"IF(D465=\"\",\"\",COUNT($D$24:$D$452)-COUNT(D$452:$D466))","v":""}]
[null,{"$f":"IF(D466=\"\",\"\",COUNT($D$24:$D$452)-COUNT(D$452:$D467))","v":""}]
[null,{"$f":"IF(D467=\"\",\"\",COUNT($D$24:$D$452)-COUNT(D$452:$D468))","v":""}]
[null,{"$f":"IF(D468=\"\",\"\",COUNT($D$24:$D$452)-COUNT(D$452:$D469))","v":""}]
[null,{"$f":"IF(D469=\"\",\"\",COUNT($D$24:$D$452)-COUNT(D$452:$D470))","v":""}]
[null,{"$f":"IF(D470=\"\",\"\",COUNT($D$24:$D$452)-COUNT(D$452:$D471))","v":""}]
[null,{"$f":"IF(D471=\"\",\"\",COUNT($D$24:$D$452)-COUNT(D$452:$D472))","v":""}]
[null,{"$f":"IF(D472=\"\",\"\",COUNT($D$24:$D$452)-COUNT(D$452:$D473))","v":""}]
[null,{"$f":"IF(D473=\"\",\"\",COUNT($D$24:$D$452)-COUNT(D$452:$D474))","v":""}]
[null,{"$f":"IF(D474=\"\",\"\",COUNT($D$24:$D$452)-COUNT(D$452:$D475))","v":""}]
[null,{"$f":"IF(D475=\"\",\"\",COUNT($D$24:$D$452)-COUNT(D$452:$D476))","v":""}]
[null,{"$f":"IF(D476=\"\",\"\",COUNT($D$24:$D$452)-COUNT(D$452:$D477))","v":""}]
[null,{"$f":"IF(D477=\"\",\"\",COUNT($D$24:$D$452)-COUNT(D$452:$D478))","v":""}]
[null,{"$f":"IF(D478=\"\",\"\",COUNT($D$24:$D$452)-COUNT(D$452:$D479))","v":""}]
[null,{"$f":"IF(D479=\"\",\"\",COUNT($D$24:$D$452)-COUNT(D$452:$D480))","v":""}]
[null,{"$f":"IF(D480=\"\",\"\",COUNT($D$24:$D$452)-COUNT(D$452:$D481))","v":""}]
[null,{"$f":"IF(D481=\"\",\"\",COUNT($D$24:$D$452)-COUNT(D$452:$D482))","v":""}]
[null,{"$f":"IF(D482=\"\",\"\",COUNT($D$24:$D$452)-COUNT(D$452:$D483))","v":""}]
[null,{"$f":"IF(D483=\"\",\"\",COUNT($D$24:$D$452)-COUNT(D$452:$D484))","v":""}]
[null,{"$f":"IF(D484=\"\",\"\",COUNT($D$24:$D$452)-COUNT(D$452:$D485))","v":""}]
[null,{"$f":"IF(D485=\"\",\"\",COUNT($D$24:$D$452)-COUNT(D$452:$D486))","v":""}]
[null,{"$f":"IF(D486=\"\",\"\",COUNT($D$24:$D$452)-COUNT(D$452:$D487))","v":""}]
[null,{"$f":"IF(D487=\"\",\"\",COUNT($D$24:$D$452)-COUNT(D$452:$D488))","v":""}]
[null,{"$f":"IF(D488=\"\",\"\",COUNT($D$24:$D$452)-COUNT(D$452:$D489))","v":""}]
[null,{"$f":"IF(D489=\"\",\"\",COUNT($D$24:$D$452)-COUNT(D$452:$D490))","v":""}]
[null,{"$f":"IF(D490=\"\",\"\",COUNT($D$24:$D$452)-COUNT(D$452:$D491))","v":""}]
[null,{"$f":"IF(D491=\"\",\"\",COUNT($D$24:$D$452)-COUNT(D$452:$D492))","v":""}]
[null,{"$f":"IF(D492=\"\",\"\",COUNT($D$24:$D$452)-COUNT(D$452:$D493))","v":""}]
[null,{"$f":"IF(D493=\"\",\"\",COUNT($D$24:$D$452)-COUNT(D$452:$D494))","v":""}]
[null,{"$f":"IF(D494=\"\",\"\",COUNT($D$24:$D$452)-COUNT(D$452:$D495))","v":""}]
[null,{"$f":"IF(D495=\"\",\"\",COUNT($D$24:$D$452)-COUNT(D$452:$D496))","v":""}]
[null,{"$f":"IF(D496=\"\",\"\",COUNT($D$24:$D$452)-COUNT(D$452:$D497))","v":""}]
[null,{"$f":"IF(D497=\"\",\"\",COUNT($D$24:$D$452)-COUNT(D$452:$D498))","v":""}]
[null,{"$f":"IF(D498=\"\",\"\",COUNT($D$24:$D$452)-COUNT(D$452:$D499))","v":""}]
[null,{"$f":"IF(D499=\"\",\"\",COUNT($D$24:$D$452)-COUNT(D$452:$D500))","v":""}]
[null,{"$f":"IF(D500=\"\",\"\",COUNT($D$24:$D$452)-COUNT(D$452:$D501))","v":""}]
[null,{"$f":"IF(D501=\"\",\"\",COUNT($D$24:$D$452)-COUNT(D$452:$D502))","v":""}]
[null,{"$f":"IF(D502=\"\",\"\",COUNT($D$24:$D$452)-COUNT(D$452:$D503))","v":""}]
[null,{"$f":"IF(D503=\"\",\"\",COUNT($D$24:$D$452)-COUNT(D$452:$D504))","v":""}]
[null,{"$f":"IF(D504=\"\",\"\",COUNT($D$24:$D$452)-COUNT(D$452:$D505))","v":""}]
[null,{"$f":"IF(D505=\"\",\"\",COUNT($D$24:$D$452)-COUNT(D$452:$D506))","v":""}]
[null,{"$f":"IF(D506=\"\",\"\",COUNT($D$24:$D$452)-COUNT(D$452:$D507))","v":""}]
[null,{"$f":"IF(D507=\"\",\"\",COUNT($D$24:$D$452)-COUNT(D$452:$D508))","v":""}]
[null,{"$f":"IF(D508=\"\",\"\",COUNT($D$24:$D$452)-COUNT(D$452:$D509))","v":""}]
[null,{"$f":"IF(D509=\"\",\"\",COUNT($D$24:$D$452)-COUNT(D$452:$D510))","v":""}]
[null,{"$f":"IF(D510=\"\",\"\",COUNT($D$24:$D$452)-COUNT(D$452:$D511))","v":""}]
[null,{"$f":"IF(D511=\"\",\"\",COUNT($D$24:$D$452)-COUNT(D$452:$D512))","v":""}]
[null,{"$f":"IF(D512=\"\",\"\",COUNT($D$24:$D$452)-COUNT(D$452:$D513))","v":""}]
[null,{"$f":"IF(D513=\"\",\"\",COUNT($D$24:$D$452)-COUNT(D$452:$D514))","v":""}]
[null,{"$f":"IF(D514=\"\",\"\",COUNT($D$24:$D$452)-COUNT(D$452:$D515))","v":""}]
[null,{"$f":"IF(D515=\"\",\"\",COUNT($D$24:$D$452)-COUNT(D$452:$D516))","v":""}]
[null,{"$f":"IF(D516=\"\",\"\",COUNT($D$24:$D$452)-COUNT(D$452:$D517))","v":""}]
[null,{"$f":"IF(D517=\"\",\"\",COUNT($D$24:$D$452)-COUNT(D$452:$D518))","v":""}]
[null,{"$f":"IF(D518=\"\",\"\",COUNT($D$24:$D$452)-COUNT(D$452:$D519))","v":""}]
[null,{"$f":"IF(D519=\"\",\"\",COUNT($D$24:$D$452)-COUNT(D$452:$D520))","v":""}]
[null,{"$f":"IF(D520=\"\",\"\",COUNT($D$24:$D$452)-COUNT(D$452:$D521))","v":""}]
[null,{"$f":"IF(D521=\"\",\"\",COUNT($D$24:$D$452)-COUNT(D$452:$D522))","v":""}]
[null,{"$f":"IF(D522=\"\",\"\",COUNT($D$24:$D$452)-COUNT(D$452:$D523))","v":""}]
[null,{"$f":"IF(D523=\"\",\"\",COUNT($D$24:$D$452)-COUNT(D$452:$D524))","v":""}]
[null,{"$f":"IF(D524=\"\",\"\",COUNT($D$24:$D$452)-COUNT(D$452:$D525))","v":""}]
[null,{"$f":"IF(D525=\"\",\"\",COUNT($D$24:$D$452)-COUNT(D$452:$D526))","v":""}]
[null,{"$f":"IF(D526=\"\",\"\",COUNT($D$24:$D$452)-COUNT(D$452:$D527))","v":""}]
[null,{"$f":"IF(D527=\"\",\"\",COUNT($D$24:$D$452)-COUNT(D$452:$D528))","v":""}]
[null,{"$f":"IF(D528=\"\",\"\",COUNT($D$24:$D$452)-COUNT(D$452:$D529))","v":""}]
[null,{"$f":"IF(D529=\"\",\"\",COUNT($D$24:$D$452)-COUNT(D$452:$D530))","v":""}]
[null,{"$f":"IF(D530=\"\",\"\",COUNT($D$24:$D$452)-COUNT(D$452:$D531))","v":""}]
[null,{"$f":"IF(D531=\"\",\"\",COUNT($D$24:$D$452)-COUNT(D$452:$D532))","v":""}]
[null,{"$f":"IF(D532=\"\",\"\",COUNT($D$24:$D$452)-COUNT(D$452:$D533))","v":""}]
[null,{"$f":"IF(D533=\"\",\"\",COUNT($D$24:$D$452)-COUNT(D$452:$D534))","v":""}]
[null,{"$f":"IF(D534=\"\",\"\",COUNT($D$24:$D$452)-COUNT(D$452:$D535))","v":""}]
[null,{"$f":"IF(D535=\"\",\"\",COUNT($D$24:$D$452)-COUNT(D$452:$D536))","v":""}]
[null,{"$f":"IF(D536=\"\",\"\",COUNT($D$24:$D$452)-COUNT(D$452:$D537))","v":""}]
[null,{"$f":"IF(D537=\"\",\"\",COUNT($D$24:$D$452)-COUNT(D$452:$D538))","v":""}]
[null,{"$f":"IF(D538=\"\",\"\",COUNT($D$24:$D$452)-COUNT(D$452:$D539))","v":""}]
[null,{"$f":"IF(D539=\"\",\"\",COUNT($D$24:$D$452)-COUNT(D$452:$D540))","v":""}]
[null,{"$f":"IF(D540=\"\",\"\",COUNT($D$24:$D$452)-COUNT(D$452:$D541))","v":""}]
[null,{"$f":"IF(D541=\"\",\"\",COUNT($D$24:$D$452)-COUNT(D$452:$D542))","v":""}]
[null,{"$f":"IF(D542=\"\",\"\",COUNT($D$24:$D$452)-COUNT(D$452:$D543))","v":""}]
[null,{"$f":"IF(D543=\"\",\"\",COUNT($D$24:$D$452)-COUNT(D$452:$D544))","v":""}]
[null,{"$f":"IF(D544=\"\",\"\",COUNT($D$24:$D$452)-COUNT(D$452:$D545))","v":""}]
[null,{"$f":"IF(D545=\"\",\"\",COUNT($D$24:$D$452)-COUNT(D$452:$D546))","v":""}]
[null,{"$f":"IF(D546=\"\",\"\",COUNT($D$24:$D$452)-COUNT(D$452:$D547))","v":""}]
[null,{"$f":"IF(D547=\"\",\"\",COUNT($D$24:$D$452)-COUNT(D$452:$D548))","v":""}]
[null,{"$f":"IF(D548=\"\",\"\",COUNT($D$24:$D$452)-COUNT(D$452:$D549))","v":""}]
[null,{"$f":"IF(D549=\"\",\"\",COUNT($D$24:$D$452)-COUNT(D$452:$D550))","v":""}]
[null,{"$f":"IF(D550=\"\",\"\",COUNT($D$24:$D$452)-COUNT(D$452:$D551))","v":""}]
[null,{"$f":"IF(D551=\"\",\"\",COUNT($D$24:$D$452)-COUNT(D$452:$D552))","v":""}]
[null,{"$f":"IF(D552=\"\",\"\",COUNT($D$24:$D$452)-COUNT(D$452:$D553))","v":""}]
[null,{"$f":"IF(D553=\"\",\"\",COUNT($D$24:$D$452)-COUNT(D$452:$D554))","v":""}]
[null,{"$f":"IF(D554=\"\",\"\",COUNT($D$24:$D$452)-COUNT(D$452:$D555))","v":""}]
[null,{"$f":"IF(D555=\"\",\"\",COUNT($D$24:$D$452)-COUNT(D$452:$D556))","v":""}]
[null,{"$f":"IF(D556=\"\",\"\",COUNT($D$24:$D$452)-COUNT(D$452:$D557))","v":""}]
[null,{"$f":"IF(D557=\"\",\"\",COUNT($D$24:$D$452)-COUNT(D$452:$D558))","v":""}]
[null,{"$f":"IF(D558=\"\",\"\",COUNT($D$24:$D$452)-COUNT(D$452:$D559))","v":""}]
[null,{"$f":"IF(D559=\"\",\"\",COUNT($D$24:$D$452)-COUNT(D$452:$D560))","v":""}]
[null,{"$f":"IF(D560=\"\",\"\",COUNT($D$24:$D$452)-COUNT(D$452:$D561))","v":""}]
[null,{"$f":"IF(D561=\"\",\"\",COUNT($D$24:$D$452)-COUNT(D$452:$D562))","v":""}]
[null,{"$f":"IF(D562=\"\",\"\",COUNT($D$24:$D$452)-COUNT(D$452:$D563))","v":""}]
[null,{"$f":"IF(D563=\"\",\"\",COUNT($D$24:$D$452)-COUNT(D$452:$D564))","v":""}]
[null,{"$f":"IF(D564=\"\",\"\",COUNT($D$24:$D$452)-COUNT(D$452:$D565))","v":""}]
[null,{"$f":"IF(D565=\"\",\"\",COUNT($D$24:$D$452)-COUNT(D$452:$D566))","v":""}]
[null,{"$f":"IF(D566=\"\",\"\",COUNT($D$24:$D$452)-COUNT(D$452:$D567))","v":""}]
[null,{"$f":"IF(D567=\"\",\"\",COUNT($D$24:$D$452)-COUNT(D$452:$D568))","v":""}]
[null,{"$f":"IF(D568=\"\",\"\",COUNT($D$24:$D$452)-COUNT(D$452:$D569))","v":""}]
[null,{"$f":"IF(D569=\"\",\"\",COUNT($D$24:$D$452)-COUNT(D$452:$D570))","v":""}]
[null,{"$f":"IF(D570=\"\",\"\",COUNT($D$24:$D$452)-COUNT(D$452:$D571))","v":""}]
[null,{"$f":"IF(D571=\"\",\"\",COUNT($D$24:$D$452)-COUNT(D$452:$D572))","v":""}]
[null,{"$f":"IF(D572=\"\",\"\",COUNT($D$24:$D$452)-COUNT(D$452:$D573))","v":""}]
[null,{"$f":"IF(D573=\"\",\"\",COUNT($D$24:$D$452)-COUNT(D$452:$D574))","v":""}]
[null,{"$f":"IF(D574=\"\",\"\",COUNT($D$24:$D$452)-COUNT(D$452:$D575))","v":""}]
[null,{"$f":"IF(D575=\"\",\"\",COUNT($D$24:$D$452)-COUNT(D$452:$D576))","v":""}]
[null,{"$f":"IF(D576=\"\",\"\",COUNT($D$24:$D$452)-COUNT(D$452:$D577))","v":""}]
[null,{"$f":"IF(D577=\"\",\"\",COUNT($D$24:$D$452)-COUNT(D$452:$D578))","v":""}]
[null,{"$f":"IF(D578=\"\",\"\",COUNT($D$24:$D$452)-COUNT(D$452:$D579))","v":""}]
[null,{"$f":"IF(D579=\"\",\"\",COUNT($D$24:$D$452)-COUNT(D$452:$D580))","v":""}]
[null,{"$f":"IF(D580=\"\",\"\",COUNT($D$24:$D$452)-COUNT(D$452:$D581))","v":""}]
[null,{"$f":"IF(D581=\"\",\"\",COUNT($D$24:$D$452)-COUNT(D$452:$D582))","v":""}]
[null,{"$f":"IF(D582=\"\",\"\",COUNT($D$24:$D$452)-COUNT(D$452:$D583))","v":""}]
[null,{"$f":"IF(D583=\"\",\"\",COUNT($D$24:$D$452)-COUNT(D$452:$D584))","v":""}]
[null,{"$f":"IF(D584=\"\",\"\",COUNT($D$24:$D$452)-COUNT(D$452:$D585))","v":""}]
[null,{"$f":"IF(D585=\"\",\"\",COUNT($D$24:$D$452)-COUNT(D$452:$D586))","v":""}]
[null,{"$f":"IF(D586=\"\",\"\",COUNT($D$24:$D$452)-COUNT(D$452:$D587))","v":""}]
[null,{"$f":"IF(D587=\"\",\"\",COUNT($D$24:$D$452)-COUNT(D$452:$D588))","v":""}]
[null,{"$f":"IF(D588=\"\",\"\",COUNT($D$24:$D$452)-COUNT(D$452:$D589))","v":""}]
[null,{"$f":"IF(D589=\"\",\"\",COUNT($D$24:$D$452)-COUNT(D$452:$D590))","v":""}]
[null,{"$f":"IF(D590=\"\",\"\",COUNT($D$24:$D$452)-COUNT(D$452:$D591))","v":""}]
[null,{"$f":"IF(D591=\"\",\"\",COUNT($D$24:$D$452)-COUNT(D$452:$D592))","v":""}]
[null,{"$f":"IF(D592=\"\",\"\",COUNT($D$24:$D$452)-COUNT(D$452:$D593))","v":""}]
[null,{"$f":"IF(D593=\"\",\"\",COUNT($D$24:$D$452)-COUNT(D$452:$D594))","v":""}]
[null,{"$f":"IF(D594=\"\",\"\",COUNT($D$24:$D$452)-COUNT(D$452:$D595))","v":""}]
[null,{"$f":"IF(D595=\"\",\"\",COUNT($D$24:$D$452)-COUNT(D$452:$D596))","v":""}]
[null,{"$f":"IF(D596=\"\",\"\",COUNT($D$24:$D$452)-COUNT(D$452:$D597))","v":""}]
[null,{"$f":"IF(D597=\"\",\"\",COUNT($D$24:$D$452)-COUNT(D$452:$D598))","v":""}]
[null,{"$f":"IF(D598=\"\",\"\",COUNT($D$24:$D$452)-COUNT(D$452:$D599))","v":""}]
[null,{"$f":"IF(D599=\"\",\"\",COUNT($D$24:$D$452)-COUNT(D$452:$D600))","v":""}]
[null,{"$f":"IF(D600=\"\",\"\",COUNT($D$24:$D$452)-COUNT(D$452:$D601))","v":""}]
[null,{"$f":"IF(D601=\"\",\"\",COUNT($D$24:$D$452)-COUNT(D$452:$D602))","v":""}]
[null,{"$f":"IF(D602=\"\",\"\",COUNT($D$24:$D$452)-COUNT(D$452:$D603))","v":""}]
[null,{"$f":"IF(D603=\"\",\"\",COUNT($D$24:$D$452)-COUNT(D$452:$D604))","v":""}]
[null,{"$f":"IF(D604=\"\",\"\",COUNT($D$24:$D$452)-COUNT(D$452:$D605))","v":""}]
[null,{"$f":"IF(D605=\"\",\"\",COUNT($D$24:$D$452)-COUNT(D$452:$D606))","v":""}]
[null,{"$f":"IF(D606=\"\",\"\",COUNT($D$24:$D$452)-COUNT(D$452:$D607))","v":""}]
[null,{"$f":"IF(D607=\"\",\"\",COUNT($D$24:$D$452)-COUNT(D$452:$D608))","v":""}]
[null,{"$f":"IF(D608=\"\",\"\",COUNT($D$24:$D$452)-COUNT(D$452:$D609))","v":""}]
[null,{"$f":"IF(D609=\"\",\"\",COUNT($D$24:$D$452)-COUNT(D$452:$D610))","v":""}]
[null,{"$f":"IF(D610=\"\",\"\",COUNT($D$24:$D$452)-COUNT(D$452:$D611))","v":""}]
[null,{"$f":"IF(D611=\"\",\"\",COUNT($D$24:$D$452)-COUNT(D$452:$D612))","v":""}]
[null,{"$f":"IF(D612=\"\",\"\",COUNT($D$24:$D$452)-COUNT(D$452:$D613))","v":""}]
[null,{"$f":"IF(D613=\"\",\"\",COUNT($D$24:$D$452)-COUNT(D$452:$D614))","v":""}]
[null,{"$f":"IF(D614=\"\",\"\",COUNT($D$24:$D$452)-COUNT(D$452:$D615))","v":""}]
[null,{"$f":"IF(D615=\"\",\"\",COUNT($D$24:$D$452)-COUNT(D$452:$D616))","v":""}]
[null,{"$f":"IF(D616=\"\",\"\",COUNT($D$24:$D$452)-COUNT(D$452:$D617))","v":""}]
[null,{"$f":"IF(D617=\"\",\"\",COUNT($D$24:$D$452)-COUNT(D$452:$D618))","v":""}]
[null,{"$f":"IF(D618=\"\",\"\",COUNT($D$24:$D$452)-COUNT(D$452:$D619))","v":""}]
[null,{"$f":"IF(D619=\"\",\"\",COUNT($D$24:$D$452)-COUNT(D$452:$D620))","v":""}]
[null,{"$f":"IF(D620=\"\",\"\",COUNT($D$24:$D$452)-COUNT(D$452:$D621))","v":""}]
[null,{"$f":"IF(D621=\"\",\"\",COUNT($D$24:$D$452)-COUNT(D$452:$D622))","v":""}]
[null,{"$f":"IF(D622=\"\",\"\",COUNT($D$24:$D$452)-COUNT(D$452:$D623))","v":""}]
[null,{"$f":"IF(D623=\"\",\"\",COUNT($D$24:$D$452)-COUNT(D$452:$D624))","v":""}]
[null,{"$f":"IF(D624=\"\",\"\",COUNT($D$24:$D$452)-COUNT(D$452:$D625))","v":""}]
[null,{"$f":"IF(D625=\"\",\"\",COUNT($D$24:$D$452)-COUNT(D$452:$D626))","v":""}]
[null,{"$f":"IF(D626=\"\",\"\",COUNT($D$24:$D$452)-COUNT(D$452:$D627))","v":""}]
[null,{"$f":"IF(D627=\"\",\"\",COUNT($D$24:$D$452)-COUNT(D$452:$D628))","v":""}]
[null,{"$f":"IF(D628=\"\",\"\",COUNT($D$24:$D$452)-COUNT(D$452:$D629))","v":""}]
[null,{"$f":"IF(D629=\"\",\"\",COUNT($D$24:$D$452)-COUNT(D$452:$D630))","v":""}]
[null,{"$f":"IF(D630=\"\",\"\",COUNT($D$24:$D$452)-COUNT(D$452:$D631))","v":""}]
[null,{"$f":"IF(D631=\"\",\"\",COUNT($D$24:$D$452)-COUNT(D$452:$D632))","v":""}]
[null,{"$f":"IF(D632=\"\",\"\",COUNT($D$24:$D$452)-COUNT(D$452:$D633))","v":""}]
[null,{"$f":"IF(D633=\"\",\"\",COUNT($D$24:$D$452)-COUNT(D$452:$D634))","v":""}]
[null,{"$f":"IF(D634=\"\",\"\",COUNT($D$24:$D$452)-COUNT(D$452:$D635))","v":""}]
[null,{"$f":"IF(D635=\"\",\"\",COUNT($D$24:$D$452)-COUNT(D$452:$D636))","v":""}]
[null,{"$f":"IF(D636=\"\",\"\",COUNT($D$24:$D$452)-COUNT(D$452:$D637))","v":""}]
[null,{"$f":"IF(D637=\"\",\"\",COUNT($D$24:$D$452)-COUNT(D$452:$D638))","v":""}]
[null,{"$f":"IF(D638=\"\",\"\",COUNT($D$24:$D$452)-COUNT(D$452:$D639))","v":""}]
[null,{"$f":"IF(D639=\"\",\"\",COUNT($D$24:$D$452)-COUNT(D$452:$D640))","v":""}]
[null,{"$f":"IF(D640=\"\",\"\",COUNT($D$24:$D$452)-COUNT(D$452:$D641))","v":""}]
[null,{"$f":"IF(D641=\"\",\"\",COUNT($D$24:$D$452)-COUNT(D$452:$D642))","v":""}]
[null,{"$f":"IF(D642=\"\",\"\",COUNT($D$24:$D$452)-COUNT(D$452:$D643))","v":""}]
[null,{"$f":"IF(D643=\"\",\"\",COUNT($D$24:$D$452)-COUNT(D$452:$D644))","v":""}]
[null,{"$f":"IF(D644=\"\",\"\",COUNT($D$24:$D$452)-COUNT(D$452:$D645))","v":""}]
[null,{"$f":"IF(D645=\"\",\"\",COUNT($D$24:$D$452)-COUNT(D$452:$D646))","v":""}]
[null,{"$f":"IF(D646=\"\",\"\",COUNT($D$24:$D$452)-COUNT(D$452:$D647))","v":""}]
[null,{"$f":"IF(D647=\"\",\"\",COUNT($D$24:$D$452)-COUNT(D$452:$D648))","v":""}]
[null,{"$f":"IF(D648=\"\",\"\",COUNT($D$24:$D$452)-COUNT(D$452:$D649))","v":""}]
[null,{"$f":"IF(D649=\"\",\"\",COUNT($D$24:$D$452)-COUNT(D$452:$D650))","v":""}]
[null,{"$f":"IF(D650=\"\",\"\",COUNT($D$24:$D$452)-COUNT(D$452:$D651))","v":""}]
[null,{"$f":"IF(D651=\"\",\"\",COUNT($D$24:$D$452)-COUNT(D$452:$D652))","v":""}]
[null,{"$f":"IF(D652=\"\",\"\",COUNT($D$24:$D$452)-COUNT(D$452:$D653))","v":""}]
[null,{"$f":"IF(D653=\"\",\"\",COUNT($D$24:$D$452)-COUNT(D$452:$D654))","v":""}]
[null,{"$f":"IF(D654=\"\",\"\",COUNT($D$24:$D$452)-COUNT(D$452:$D655))","v":""}]
[null,{"$f":"IF(D655=\"\",\"\",COUNT($D$24:$D$452)-COUNT(D$452:$D656))","v":""}]
[null,{"$f":"IF(D656=\"\",\"\",COUNT($D$24:$D$452)-COUNT(D$452:$D657))","v":""}]
[null,{"$f":"IF(D657=\"\",\"\",COUNT($D$24:$D$452)-COUNT(D$452:$D658))","v":""}]
[null,{"$f":"IF(D658=\"\",\"\",COUNT($D$24:$D$452)-COUNT(D$452:$D659))","v":""}]
[null,{"$f":"IF(D659=\"\",\"\",COUNT($D$24:$D$452)-COUNT(D$452:$D660))","v":""}]
[null,{"$f":"IF(D660=\"\",\"\",COUNT($D$24:$D$452)-COUNT(D$452:$D661))","v":""}]
[null,{"$f":"IF(D661=\"\",\"\",COUNT($D$24:$D$452)-COUNT(D$452:$D662))","v":""}]
[null,{"$f":"IF(D662=\"\",\"\",COUNT($D$24:$D$452)-COUNT(D$452:$D663))","v":""}]
[null,{"$f":"IF(D663=\"\",\"\",COUNT($D$24:$D$452)-COUNT(D$452:$D664))","v":""}]
[null,{"$f":"IF(D664=\"\",\"\",COUNT($D$24:$D$452)-COUNT(D$452:$D665))","v":""}]
[null,{"$f":"IF(D665=\"\",\"\",COUNT($D$24:$D$452)-COUNT(D$452:$D666))","v":""}]
[null,{"$f":"IF(D666=\"\",\"\",COUNT($D$24:$D$452)-COUNT(D$452:$D667))","v":""}]
[null,{"$f":"IF(D667=\"\",\"\",COUNT($D$24:$D$452)-COUNT(D$452:$D668))","v":""}]
[null,{"$f":"IF(D668=\"\",\"\",COUNT($D$24:$D$452)-COUNT(D$452:$D669))","v":""}]
[null,{"$f":"IF(D669=\"\",\"\",COUNT($D$24:$D$452)-COUNT(D$452:$D670))","v":""}]
[null,{"$f":"IF(D670=\"\",\"\",COUNT($D$24:$D$452)-COUNT(D$452:$D671))","v":""}]
[null,{"$f":"IF(D671=\"\",\"\",COUNT($D$24:$D$452)-COUNT(D$452:$D672))","v":""}]
[null,{"$f":"IF(D672=\"\",\"\",COUNT($D$24:$D$452)-COUNT(D$452:$D673))","v":""}]
[null,{"$f":"IF(D673=\"\",\"\",COUNT($D$24:$D$452)-COUNT(D$452:$D674))","v":""}]
[null,{"$f":"IF(D674=\"\",\"\",COUNT($D$24:$D$452)-COUNT(D$452:$D675))","v":""}]
[null,{"$f":"IF(D675=\"\",\"\",COUNT($D$24:$D$452)-COUNT(D$452:$D676))","v":""}]
[null,{"$f":"IF(D676=\"\",\"\",COUNT($D$24:$D$452)-COUNT(D$452:$D677))","v":""}]
[null,{"$f":"IF(D677=\"\",\"\",COUNT($D$24:$D$452)-COUNT(D$452:$D678))","v":""}]
[null,{"$f":"IF(D678=\"\",\"\",COUNT($D$24:$D$452)-COUNT(D$452:$D679))","v":""}]
[null,{"$f":"IF(D679=\"\",\"\",COUNT($D$24:$D$452)-COUNT(D$452:$D680))","v":""}]
[null,{"$f":"IF(D680=\"\",\"\",COUNT($D$24:$D$452)-COUNT(D$452:$D681))","v":""}]
[null,{"$f":"IF(D681=\"\",\"\",COUNT($D$24:$D$452)-COUNT(D$452:$D682))","v":""}]
[null,{"$f":"IF(D682=\"\",\"\",COUNT($D$24:$D$452)-COUNT(D$452:$D683))","v":""}]
[null,{"$f":"IF(D683=\"\",\"\",COUNT($D$24:$D$452)-COUNT(D$452:$D684))","v":""}]
[null,{"$f":"IF(D684=\"\",\"\",COUNT($D$24:$D$452)-COUNT(D$452:$D685))","v":""}]
[null,{"$f":"IF(D685=\"\",\"\",COUNT($D$24:$D$452)-COUNT(D$452:$D686))","v":""}]
[null,{"$f":"IF(D686=\"\",\"\",COUNT($D$24:$D$452)-COUNT(D$452:$D687))","v":""}]
[null,{"$f":"IF(D687=\"\",\"\",COUNT($D$24:$D$452)-COUNT(D$452:$D688))","v":""}]
[null,{"$f":"IF(D688=\"\",\"\",COUNT($D$24:$D$452)-COUNT(D$452:$D689))","v":""}]
[null,{"$f":"IF(D689=\"\",\"\",COUNT($D$24:$D$452)-COUNT(D$452:$D690))","v":""}]
[null,{"$f":"IF(D690=\"\",\"\",COUNT($D$24:$D$452)-COUNT(D$452:$D691))","v":""}]
[null,{"$f":"IF(D691=\"\",\"\",COUNT($D$24:$D$452)-COUNT(D$452:$D692))","v":""}]
[null,{"$f":"IF(D692=\"\",\"\",COUNT($D$24:$D$452)-COUNT(D$452:$D693))","v":""}]
[null,{"$f":"IF(D693=\"\",\"\",COUNT($D$24:$D$452)-COUNT(D$452:$D694))","v":""}]
[null,{"$f":"IF(D694=\"\",\"\",COUNT($D$24:$D$452)-COUNT(D$452:$D695))","v":""}]
[null,{"$f":"IF(D695=\"\",\"\",COUNT($D$24:$D$452)-COUNT(D$452:$D696))","v":""}]
[null,{"$f":"IF(D696=\"\",\"\",COUNT($D$24:$D$452)-COUNT(D$452:$D697))","v":""}]
[null,{"$f":"IF(D697=\"\",\"\",COUNT($D$24:$D$452)-COUNT(D$452:$D698))","v":""}]
[null,{"$f":"IF(D698=\"\",\"\",COUNT($D$24:$D$452)-COUNT(D$452:$D699))","v":""}]
[null,{"$f":"IF(D699=\"\",\"\",COUNT($D$24:$D$452)-COUNT(D$452:$D700))","v":""}]
[null,{"$f":"IF(D700=\"\",\"\",COUNT($D$24:$D$452)-COUNT(D$452:$D701))","v":""}]
[null,{"$f":"IF(D701=\"\",\"\",COUNT($D$24:$D$452)-COUNT(D$452:$D702))","v":""}]
[null,{"$f":"IF(D702=\"\",\"\",COUNT($D$24:$D$452)-COUNT(D$452:$D703))","v":""}]
[null,{"$f":"IF(D703=\"\",\"\",COUNT($D$24:$D$452)-COUNT(D$452:$D704))","v":""}]
[null,{"$f":"IF(D704=\"\",\"\",COUNT($D$24:$D$452)-COUNT(D$452:$D705))","v":""}]
[null,{"$f":"IF(D705=\"\",\"\",COUNT($D$24:$D$452)-COUNT(D$452:$D706))","v":""}]
[null,{"$f":"IF(D706=\"\",\"\",COUNT($D$24:$D$452)-COUNT(D$452:$D707))","v":""}]
[null,{"$f":"IF(D707=\"\",\"\",COUNT($D$24:$D$452)-COUNT(D$452:$D708))","v":""}]

{"sheet":"Limits_Details","index":6,"n_rows":14,"n_cols":13,"rows_kept":14,"cut":false,"hidden":false,"merged":[]}
[null,"DO NOT REMOVE OR EDIT INFORMATION IN ROWS 1 THROUGH 5\nFOR INTERNAL USE ONLY"]
[null,"Template Name",null,{"$f":"+Welcome!B2","v":"63.8693(c) Semiannual Compliance Report (Spreadsheet Template)"}]
[null,"CitationID",null,{"$f":"+Welcome!B3","v":"63.8693(c)"}]
[null,"Template Version",null,{"$f":"+Welcome!B4","v":"v2.01"}]
[null,"Last Updated Date",null,{"$f":"+Welcome!B5","v":45397}]
[]
[null,"40 CFR Part 63, Subpart LLLLL National Emission Standards for Hazardous Air Pollutants: Asphalt Processing and Asphalt Roofing Manufacturing - "]
[null,"§63.8693(c) Semiannual Compliance Report Spreadsheet Template"]
[]
[]
[null,"* Required Field"]
[null,"Company Record No.  *\n(Select from dropdown)","Affected Source  *\n(§63.8693(d)(4))\n(Select from dropdown)","Emission, Operating, or Opacity Limit Deviated From or Bypass of Control Device *\n(§63.8693(d)(4))\n(Select from Dropdown)","Starting Date of Deviation *\n(§63.8693(d)(4))","Starting Time of \nDeviation *\n(§63.8693(d)(4))","Duration of \nDeviation *\n(hours, minutes for opacity)  \n(§63.8693(d)(5))","Cause of Deviation *\n(§63.8693(d)(4))\n(Select from dropdown)","Actions Taken to Address Deviation *\n(§63.8693(d)(4))\n","Regulated Pollutant *\n(§63.8693(d)(13))\n(Select from dropdown)","Estimate of Emissions *\n(§63.8693(d)(13))","Units of Emissions Estimate *\n(§63.8693(d)(13))","Method Used to Estimate Emissions *\n(§63.8693(d)(13))"]
[null,"RecordId","ProcessUnitDesc","DeviceDeviationBypass","DeviationStartDate","DeviationStartTime","DeviationDuration","DeviationCause","DeviationAction","DeviationPollutant","EmissionQuantity","EmissionUnit","EstimationMethod"]
[null,"e.g.: 1","e.g.: Line 1 ","e.g.:  PM Control Device Inlet Gas Temperature","e.g.: 2/12/2017","e.g.: 13:05","e.g.: 16.08","e.g.: Control Equipment Problems","e.g.: Increased water spray","e.g.: Particulate Matter","e.g.: 0.1","e.g.: tons","e.g.: Engineering calculations"]

{"sheet":"Limits_Summary_Report","index":7,"n_rows":707,"n_cols":11,"rows_kept":707,"cut":false,"hidden":false,"merged":[]}
[null,"DO NOT REMOVE OR EDIT INFORMATION IN ROWS 1 THROUGH 5\nFOR INTERNAL USE ONLY"]
[null,"Template Name",null,{"$f":"+Welcome!B2","v":"63.8693(c) Semiannual Compliance Report (Spreadsheet Template)"}]
[null,"CitationID",null,{"$f":"+Welcome!B3","v":"63.8693(c)"}]
[null,"Template Version",null,{"$f":"+Welcome!B4","v":"v2.01"}]
[null,"Last Updated Date",null,{"$f":"+Welcome!B5","v":45397}]
[]
[null,"40 CFR Part 63, Subpart LLLLL National Emission Standards for Hazardous Air Pollutants: Asphalt Processing and Asphalt Roofing Manufacturing - "]
[null,"§63.8693(c) Semiannual Compliance Report Spreadsheet Template"]
[]
[]
[null,"* Required Field"]
[null,"Company Record No. *\n(Autocompleted)","Process Unit Description *\n(§63.8693(d)(9))\n(Autocompleted)","Emission, Operating, Opacity, or Visible Emission \nLimit Deviated From *\n(§63.8693(d))\n(Autocompleted)","Total Source\nOperating Time \n(hours)\n(Optional for calculation of % of Total Operating Time)","Total Duration of \nDeviations from \nEmission, Operating, or\nOpacity Limits *\n(hours, minutes for opacity) \n(§63.8693(d)(5))\n(Calculated value)","Total Duration of \nDeviations from\nEmission, Operating, \nor Opacity Limits *\n as a per cent of \nTotal Source Operating Time *\n(§63.8693(d)(5))\n(Calculated value or manual entry)","Total Duration of \nDeviations from \nEmission, Operating, \nor Opacity Limits Due to \nControl Equipment Problems *\n(hours, minutes for opacity)   \n(§63.8693(d)(6))\n(Calculated value)","Total Duration of \nDeviations from\nEmission, Operating, \nor Opacity Limits Due to \nProcess Problems *\n(hours, minutes for opacity)  \n(§63.8693(d)(6))\n(Calculated value)","Total Duration of\nDeviations from \nEmission, Operating, \nOpacity Limits Due to \nOther Known Causes *\n(hours, minutes for opacity)  \n(§63.8693(d)(6))\n(Calculated value)","Total Duration of Deviations from Emission, Operating, Opacity Limits Due to Other Unknown Causes * \n(hours, minutes for opacity)  \n(§63.8693(d)(6))\n(Calculated value)"]
[null,"RecordId","ProcessUnitDesc","DeviceDeviationBypass","TotalOperatingTime","TotalDeviationDuration","TotalDeviationPercent","EquipmentCausedDeviation","ProcessCausedDeviation","OtherCausedDeviation","UnknownCausedDeviation"]
[null,"e.g.: 1","e.g.: Line 1","e.g.:  PM Control Device Inlet Gas Temperature","e.g.: 6240","e.g.: 36.2","e.g.: 0.58%","e.g.: 36.2","e.g.: 0","e.g.: 0","e.g.: 0"]
[]
[]
[]
[]
[]
[]
[]
[]
[]
[]
[null,{"$f":"IF(Lists!AI3=\"\",\"\",Lists!AI3)","v":""},{"$f":"IF(Lists!AJ3=\"\",\"\",Lists!AJ3)","v":""},{"$f":"IF(Lists!AK3=\"\",\"\",Lists!AK3)","v":""},null,{"$f":"IF(E25=\"\",\"\",SUM(H25:K25))","v":""},{"$f":"IF($E25=\"\",\"\",IF(F25=0,\"N/A\",IF(D25=\"Opacity\", F25/60,F25)/$E25))","v":""},{"$f":"IF($E25=\"\",\"\",SUMIFS(Limits_Details!$G$24:$G$5800,Limits_Details!$B$24:$B$5800,B25,Limits_Details!$C$24:$C$5800,C25,Limits_Details!$D$24:$D$5800,D25,Limits_Details!$H$24:$H$5800,\"Control Equipment Problems\"))","v":""},{"$f":"IF($E25=\"\",\"\",SUMIFS(Limits_Details!$G$24:$G$5800,Limits_Details!$B$24:$B$5800,B25,Limits_Details!$C$24:$C$5800,C25,Limits_Details!$D$24:$D$5800,D25,Limits_Details!$H$24:$H$5800,\"Process Problems\"))","v":""},{"$f":"IF($E25=\"\",\"\",SUMIFS(Limits_Details!$G$24:$G$5800,Limits_Details!$B$24:$B$5800,B25,Limits_Details!$C$24:$C$5800,C25,Limits_Details!$D$24:$D$5800,D25,Limits_Details!$H$24:$H$5800,\"Other Known Causes\"))","v":""},{"$f":"IF($E25=\"\",\"\",SUMIFS(Limits_Details!$G$24:$G$5800,Limits_Details!$B$24:$B$5800,B25,Limits_Details!$C$24:$C$5800,C25,Limits_Details!$D$24:$D$5800,D25,Limits_Details!$H$24:$H$5800,\"Other Unknown Causes\"))","v":""}]
[null,{"$f":"IF(Lists!AI4=\"\",\"\",Lists!AI4)","v":""},{"$f":"IF(Lists!AJ4=\"\",\"\",Lists!AJ4)","v":""},{"$f":"IF(Lists!AK4=\"\",\"\",Lists!AK4)","v":""},null,"","",{"$f":"IF($E26=\"\",\"\",SUMIFS(Limits_Details!$G$24:$G$5800,Limits_Details!$B$24:$B$5800,B26,Limits_Details!$C$24:$C$5800,C26,Limits_Details!$D$24:$D$5800,D26,Limits_Details!$H$24:$H$5800,\"Control Equipment Problems\"))","v":""},{"$f":"IF($E26=\"\",\"\",SUMIFS(Limits_Details!$G$24:$G$5800,Limits_Details!$B$24:$B$5800,B26,Limits_Details!$C$24:$C$5800,C26,Limits_Details!$D$24:$D$5800,D26,Limits_Details!$H$24:$H$5800,\"Process Problems\"))","v":""},{"$f":"IF($E26=\"\",\"\",SUMIFS(Limits_Details!$G$24:$G$5800,Limits_Details!$B$24:$B$5800,B26,Limits_Details!$C$24:$C$5800,C26,Limits_Details!$D$24:$D$5800,D26,Limits_Details!$H$24:$H$5800,\"Other Known Causes\"))","v":""},{"$f":"IF($E26=\"\",\"\",SUMIFS(Limits_Details!$G$24:$G$5800,Limits_Details!$B$24:$B$5800,B26,Limits_Details!$C$24:$C$5800,C26,Limits_Details!$D$24:$D$5800,D26,Limits_Details!$H$24:$H$5800,\"Other Unknown Causes\"))","v":""}]
[null,{"$f":"IF(Lists!AI5=\"\",\"\",Lists!AI5)","v":""},{"$f":"IF(Lists!AJ5=\"\",\"\",Lists!AJ5)","v":""},{"$f":"IF(Lists!AK5=\"\",\"\",Lists!AK5)","v":""},null,"","",{"$f":"IF($E27=\"\",\"\",SUMIFS(Limits_Details!$G$24:$G$5800,Limits_Details!$B$24:$B$5800,B27,Limits_Details!$C$24:$C$5800,C27,Limits_Details!$D$24:$D$5800,D27,Limits_Details!$H$24:$H$5800,\"Control Equipment Problems\"))","v":""},{"$f":"IF($E27=\"\",\"\",SUMIFS(Limits_Details!$G$24:$G$5800,Limits_Details!$B$24:$B$5800,B27,Limits_Details!$C$24:$C$5800,C27,Limits_Details!$D$24:$D$5800,D27,Limits_Details!$H$24:$H$5800,\"Process Problems\"))","v":""},{"$f":"IF($E27=\"\",\"\",SUMIFS(Limits_Details!$G$24:$G$5800,Limits_Details!$B$24:$B$5800,B27,Limits_Details!$C$24:$C$5800,C27,Limits_Details!$D$24:$D$5800,D27,Limits_Details!$H$24:$H$5800,\"Other Known Causes\"))","v":""},{"$f":"IF($E27=\"\",\"\",SUMIFS(Limits_Details!$G$24:$G$5800,Limits_Details!$B$24:$B$5800,B27,Limits_Details!$C$24:$C$5800,C27,Limits_Details!$D$24:$D$5800,D27,Limits_Details!$H$24:$H$5800,\"Other Unknown Causes\"))","v":""}]
[null,{"$f":"IF(Lists!AI6=\"\",\"\",Lists!AI6)","v":""},{"$f":"IF(Lists!AJ6=\"\",\"\",Lists!AJ6)","v":""},{"$f":"IF(Lists!AK6=\"\",\"\",Lists!AK6)","v":""},null,"","",{"$f":"IF($E28=\"\",\"\",SUMIFS(Limits_Details!$G$24:$G$5800,Limits_Details!$B$24:$B$5800,B28,Limits_Details!$C$24:$C$5800,C28,Limits_Details!$D$24:$D$5800,D28,Limits_Details!$H$24:$H$5800,\"Control Equipment Problems\"))","v":""},{"$f":"IF($E28=\"\",\"\",SUMIFS(Limits_Details!$G$24:$G$5800,Limits_Details!$B$24:$B$5800,B28,Limits_Details!$C$24:$C$5800,C28,Limits_Details!$D$24:$D$5800,D28,Limits_Details!$H$24:$H$5800,\"Process Problems\"))","v":""},{"$f":"IF($E28=\"\",\"\",SUMIFS(Limits_Details!$G$24:$G$5800,Limits_Details!$B$24:$B$5800,B28,Limits_Details!$C$24:$C$5800,C28,Limits_Details!$D$24:$D$5800,D28,Limits_Details!$H$24:$H$5800,\"Other Known Causes\"))","v":""},{"$f":"IF($E28=\"\",\"\",SUMIFS(Limits_Details!$G$24:$G$5800,Limits_Details!$B$24:$B$5800,B28,Limits_Details!$C$24:$C$5800,C28,Limits_Details!$D$24:$D$5800,D28,Limits_Details!$H$24:$H$5800,\"Other Unknown Causes\"))","v":""}]
[null,{"$f":"IF(Lists!AI7=\"\",\"\",Lists!AI7)","v":""},{"$f":"IF(Lists!AJ7=\"\",\"\",Lists!AJ7)","v":""},{"$f":"IF(Lists!AK7=\"\",\"\",Lists!AK7)","v":""},null,"","",{"$f":"IF($E29=\"\",\"\",SUMIFS(Limits_Details!$G$24:$G$5800,Limits_Details!$B$24:$B$5800,B29,Limits_Details!$C$24:$C$5800,C29,Limits_Details!$D$24:$D$5800,D29,Limits_Details!$H$24:$H$5800,\"Control Equipment Problems\"))","v":""},{"$f":"IF($E29=\"\",\"\",SUMIFS(Limits_Details!$G$24:$G$5800,Limits_Details!$B$24:$B$5800,B29,Limits_Details!$C$24:$C$5800,C29,Limits_Details!$D$24:$D$5800,D29,Limits_Details!$H$24:$H$5800,\"Process Problems\"))","v":""},{"$f":"IF($E29=\"\",\"\",SUMIFS(Limits_Details!$G$24:$G$5800,Limits_Details!$B$24:$B$5800,B29,Limits_Details!$C$24:$C$5800,C29,Limits_Details!$D$24:$D$5800,D29,Limits_Details!$H$24:$H$5800,\"Other Known Causes\"))","v":""},{"$f":"IF($E29=\"\",\"\",SUMIFS(Limits_Details!$G$24:$G$5800,Limits_Details!$B$24:$B$5800,B29,Limits_Details!$C$24:$C$5800,C29,Limits_Details!$D$24:$D$5800,D29,Limits_Details!$H$24:$H$5800,\"Other Unknown Causes\"))","v":""}]
[null,{"$f":"IF(Lists!AI8=\"\",\"\",Lists!AI8)","v":""},{"$f":"IF(Lists!AJ8=\"\",\"\",Lists!AJ8)","v":""},{"$f":"IF(Lists!AK8=\"\",\"\",Lists!AK8)","v":""},null,"","",{"$f":"IF($E30=\"\",\"\",SUMIFS(Limits_Details!$G$24:$G$5800,Limits_Details!$B$24:$B$5800,B30,Limits_Details!$C$24:$C$5800,C30,Limits_Details!$D$24:$D$5800,D30,Limits_Details!$H$24:$H$5800,\"Control Equipment Problems\"))","v":""},{"$f":"IF($E30=\"\",\"\",SUMIFS(Limits_Details!$G$24:$G$5800,Limits_Details!$B$24:$B$5800,B30,Limits_Details!$C$24:$C$5800,C30,Limits_Details!$D$24:$D$5800,D30,Limits_Details!$H$24:$H$5800,\"Process Problems\"))","v":""},{"$f":"IF($E30=\"\",\"\",SUMIFS(Limits_Details!$G$24:$G$5800,Limits_Details!$B$24:$B$5800,B30,Limits_Details!$C$24:$C$5800,C30,Limits_Details!$D$24:$D$5800,D30,Limits_Details!$H$24:$H$5800,\"Other Known Causes\"))","v":""},{"$f":"IF($E30=\"\",\"\",SUMIFS(Limits_Details!$G$24:$G$5800,Limits_Details!$B$24:$B$5800,B30,Limits_Details!$C$24:$C$5800,C30,Limits_Details!$D$24:$D$5800,D30,Limits_Details!$H$24:$H$5800,\"Other Unknown Causes\"))","v":""}]
[null,{"$f":"IF(Lists!AI9=\"\",\"\",Lists!AI9)","v":""},{"$f":"IF(Lists!AJ9=\"\",\"\",Lists!AJ9)","v":""},{"$f":"IF(Lists!AK9=\"\",\"\",Lists!AK9)","v":""},null,"","",{"$f":"IF($E31=\"\",\"\",SUMIFS(Limits_Details!$G$24:$G$5800,Limits_Details!$B$24:$B$5800,B31,Limits_Details!$C$24:$C$5800,C31,Limits_Details!$D$24:$D$5800,D31,Limits_Details!$H$24:$H$5800,\"Control Equipment Problems\"))","v":""},{"$f":"IF($E31=\"\",\"\",SUMIFS(Limits_Details!$G$24:$G$5800,Limits_Details!$B$24:$B$5800,B31,Limits_Details!$C$24:$C$5800,C31,Limits_Details!$D$24:$D$5800,D31,Limits_Details!$H$24:$H$5800,\"Process Problems\"))","v":""},{"$f":"IF($E31=\"\",\"\",SUMIFS(Limits_Details!$G$24:$G$5800,Limits_Details!$B$24:$B$5800,B31,Limits_Details!$C$24:$C$5800,C31,Limits_Details!$D$24:$D$5800,D31,Limits_Details!$H$24:$H$5800,\"Other Known Causes\"))","v":""},{"$f":"IF($E31=\"\",\"\",SUMIFS(Limits_Details!$G$24:$G$5800,Limits_Details!$B$24:$B$5800,B31,Limits_Details!$C$24:$C$5800,C31,Limits_Details!$D$24:$D$5800,D31,Limits_Details!$H$24:$H$5800,\"Other Unknown Causes\"))","v":""}]
[null,{"$f":"IF(Lists!AI10=\"\",\"\",Lists!AI10)","v":""},{"$f":"IF(Lists!AJ10=\"\",\"\",Lists!AJ10)","v":""},{"$f":"IF(Lists!AK10=\"\",\"\",Lists!AK10)","v":""},null,"","",{"$f":"IF($E32=\"\",\"\",SUMIFS(Limits_Details!$G$24:$G$5800,Limits_Details!$B$24:$B$5800,B32,Limits_Details!$C$24:$C$5800,C32,Limits_Details!$D$24:$D$5800,D32,Limits_Details!$H$24:$H$5800,\"Control Equipment Problems\"))","v":""},{"$f":"IF($E32=\"\",\"\",SUMIFS(Limits_Details!$G$24:$G$5800,Limits_Details!$B$24:$B$5800,B32,Limits_Details!$C$24:$C$5800,C32,Limits_Details!$D$24:$D$5800,D32,Limits_Details!$H$24:$H$5800,\"Process Problems\"))","v":""},{"$f":"IF($E32=\"\",\"\",SUMIFS(Limits_Details!$G$24:$G$5800,Limits_Details!$B$24:$B$5800,B32,Limits_Details!$C$24:$C$5800,C32,Limits_Details!$D$24:$D$5800,D32,Limits_Details!$H$24:$H$5800,\"Other Known Causes\"))","v":""},{"$f":"IF($E32=\"\",\"\",SUMIFS(Limits_Details!$G$24:$G$5800,Limits_Details!$B$24:$B$5800,B32,Limits_Details!$C$24:$C$5800,C32,Limits_Details!$D$24:$D$5800,D32,Limits_Details!$H$24:$H$5800,\"Other Unknown Causes\"))","v":""}]
[null,{"$f":"IF(Lists!AI11=\"\",\"\",Lists!AI11)","v":""},{"$f":"IF(Lists!AJ11=\"\",\"\",Lists!AJ11)","v":""},{"$f":"IF(Lists!AK11=\"\",\"\",Lists!AK11)","v":""},null,"","",{"$f":"IF($E33=\"\",\"\",SUMIFS(Limits_Details!$G$24:$G$5800,Limits_Details!$B$24:$B$5800,B33,Limits_Details!$C$24:$C$5800,C33,Limits_Details!$D$24:$D$5800,D33,Limits_Details!$H$24:$H$5800,\"Control Equipment Problems\"))","v":""},{"$f":"IF($E33=\"\",\"\",SUMIFS(Limits_Details!$G$24:$G$5800,Limits_Details!$B$24:$B$5800,B33,Limits_Details!$C$24:$C$5800,C33,Limits_Details!$D$24:$D$5800,D33,Limits_Details!$H$24:$H$5800,\"Process Problems\"))","v":""},{"$f":"IF($E33=\"\",\"\",SUMIFS(Limits_Details!$G$24:$G$5800,Limits_Details!$B$24:$B$5800,B33,Limits_Details!$C$24:$C$5800,C33,Limits_Details!$D$24:$D$5800,D33,Limits_Details!$H$24:$H$5800,\"Other Known Causes\"))","v":""},{"$f":"IF($E33=\"\",\"\",SUMIFS(Limits_Details!$G$24:$G$5800,Limits_Details!$B$24:$B$5800,B33,Limits_Details!$C$24:$C$5800,C33,Limits_Details!$D$24:$D$5800,D33,Limits_Details!$H$24:$H$5800,\"Other Unknown Causes\"))","v":""}]
[null,{"$f":"IF(Lists!AI12=\"\",\"\",Lists!AI12)","v":""},{"$f":"IF(Lists!AJ12=\"\",\"\",Lists!AJ12)","v":""},{"$f":"IF(Lists!AK12=\"\",\"\",Lists!AK12)","v":""},null,"","",{"$f":"IF($E34=\"\",\"\",SUMIFS(Limits_Details!$G$24:$G$5800,Limits_Details!$B$24:$B$5800,B34,Limits_Details!$C$24:$C$5800,C34,Limits_Details!$D$24:$D$5800,D34,Limits_Details!$H$24:$H$5800,\"Control Equipment Problems\"))","v":""},{"$f":"IF($E34=\"\",\"\",SUMIFS(Limits_Details!$G$24:$G$5800,Limits_Details!$B$24:$B$5800,B34,Limits_Details!$C$24:$C$5800,C34,Limits_Details!$D$24:$D$5800,D34,Limits_Details!$H$24:$H$5800,\"Process Problems\"))","v":""},{"$f":"IF($E34=\"\",\"\",SUMIFS(Limits_Details!$G$24:$G$5800,Limits_Details!$B$24:$B$5800,B34,Limits_Details!$C$24:$C$5800,C34,Limits_Details!$D$24:$D$5800,D34,Limits_Details!$H$24:$H$5800,\"Other Known Causes\"))","v":""},{"$f":"IF($E34=\"\",\"\",SUMIFS(Limits_Details!$G$24:$G$5800,Limits_Details!$B$24:$B$5800,B34,Limits_Details!$C$24:$C$5800,C34,Limits_Details!$D$24:$D$5800,D34,Limits_Details!$H$24:$H$5800,\"Other Unknown Causes\"))","v":""}]
[null,{"$f":"IF(Lists!AI13=\"\",\"\",Lists!AI13)","v":""},{"$f":"IF(Lists!AJ13=\"\",\"\",Lists!AJ13)","v":""},{"$f":"IF(Lists!AK13=\"\",\"\",Lists!AK13)","v":""},null,"","",{"$f":"IF($E35=\"\",\"\",SUMIFS(Limits_Details!$G$24:$G$5800,Limits_Details!$B$24:$B$5800,B35,Limits_Details!$C$24:$C$5800,C35,Limits_Details!$D$24:$D$5800,D35,Limits_Details!$H$24:$H$5800,\"Control Equipment Problems\"))","v":""},{"$f":"IF($E35=\"\",\"\",SUMIFS(Limits_Details!$G$24:$G$5800,Limits_Details!$B$24:$B$5800,B35,Limits_Details!$C$24:$C$5800,C35,Limits_Details!$D$24:$D$5800,D35,Limits_Details!$H$24:$H$5800,\"Process Problems\"))","v":""},{"$f":"IF($E35=\"\",\"\",SUMIFS(Limits_Details!$G$24:$G$5800,Limits_Details!$B$24:$B$5800,B35,Limits_Details!$C$24:$C$5800,C35,Limits_Details!$D$24:$D$5800,D35,Limits_Details!$H$24:$H$5800,\"Other Known Causes\"))","v":""},{"$f":"IF($E35=\"\",\"\",SUMIFS(Limits_Details!$G$24:$G$5800,Limits_Details!$B$24:$B$5800,B35,Limits_Details!$C$24:$C$5800,C35,Limits_Details!$D$24:$D$5800,D35,Limits_Details!$H$24:$H$5800,\"Other Unknown Causes\"))","v":""}]
[null,{"$f":"IF(Lists!AI14=\"\",\"\",Lists!AI14)","v":""},{"$f":"IF(Lists!AJ14=\"\",\"\",Lists!AJ14)","v":""},{"$f":"IF(Lists!AK14=\"\",\"\",Lists!AK14)","v":""},null,"","",{"$f":"IF($E36=\"\",\"\",SUMIFS(Limits_Details!$G$24:$G$5800,Limits_Details!$B$24:$B$5800,B36,Limits_Details!$C$24:$C$5800,C36,Limits_Details!$D$24:$D$5800,D36,Limits_Details!$H$24:$H$5800,\"Control Equipment Problems\"))","v":""},{"$f":"IF($E36=\"\",\"\",SUMIFS(Limits_Details!$G$24:$G$5800,Limits_Details!$B$24:$B$5800,B36,Limits_Details!$C$24:$C$5800,C36,Limits_Details!$D$24:$D$5800,D36,Limits_Details!$H$24:$H$5800,\"Process Problems\"))","v":""},{"$f":"IF($E36=\"\",\"\",SUMIFS(Limits_Details!$G$24:$G$5800,Limits_Details!$B$24:$B$5800,B36,Limits_Details!$C$24:$C$5800,C36,Limits_Details!$D$24:$D$5800,D36,Limits_Details!$H$24:$H$5800,\"Other Known Causes\"))","v":""},{"$f":"IF($E36=\"\",\"\",SUMIFS(Limits_Details!$G$24:$G$5800,Limits_Details!$B$24:$B$5800,B36,Limits_Details!$C$24:$C$5800,C36,Limits_Details!$D$24:$D$5800,D36,Limits_Details!$H$24:$H$5800,\"Other Unknown Causes\"))","v":""}]
[null,{"$f":"IF(Lists!AI15=\"\",\"\",Lists!AI15)","v":""},{"$f":"IF(Lists!AJ15=\"\",\"\",Lists!AJ15)","v":""},{"$f":"IF(Lists!AK15=\"\",\"\",Lists!AK15)","v":""},null,"","",{"$f":"IF($E37=\"\",\"\",SUMIFS(Limits_Details!$G$24:$G$5800,Limits_Details!$B$24:$B$5800,B37,Limits_Details!$C$24:$C$5800,C37,Limits_Details!$D$24:$D$5800,D37,Limits_Details!$H$24:$H$5800,\"Control Equipment Problems\"))","v":""},{"$f":"IF($E37=\"\",\"\",SUMIFS(Limits_Details!$G$24:$G$5800,Limits_Details!$B$24:$B$5800,B37,Limits_Details!$C$24:$C$5800,C37,Limits_Details!$D$24:$D$5800,D37,Limits_Details!$H$24:$H$5800,\"Process Problems\"))","v":""},{"$f":"IF($E37=\"\",\"\",SUMIFS(Limits_Details!$G$24:$G$5800,Limits_Details!$B$24:$B$5800,B37,Limits_Details!$C$24:$C$5800,C37,Limits_Details!$D$24:$D$5800,D37,Limits_Details!$H$24:$H$5800,\"Other Known Causes\"))","v":""},{"$f":"IF($E37=\"\",\"\",SUMIFS(Limits_Details!$G$24:$G$5800,Limits_Details!$B$24:$B$5800,B37,Limits_Details!$C$24:$C$5800,C37,Limits_Details!$D$24:$D$5800,D37,Limits_Details!$H$24:$H$5800,\"Other Unknown Causes\"))","v":""}]
[null,{"$f":"IF(Lists!AI16=\"\",\"\",Lists!AI16)","v":""},{"$f":"IF(Lists!AJ16=\"\",\"\",Lists!AJ16)","v":""},{"$f":"IF(Lists!AK16=\"\",\"\",Lists!AK16)","v":""},null,"","",{"$f":"IF($E38=\"\",\"\",SUMIFS(Limits_Details!$G$24:$G$5800,Limits_Details!$B$24:$B$5800,B38,Limits_Details!$C$24:$C$5800,C38,Limits_Details!$D$24:$D$5800,D38,Limits_Details!$H$24:$H$5800,\"Control Equipment Problems\"))","v":""},{"$f":"IF($E38=\"\",\"\",SUMIFS(Limits_Details!$G$24:$G$5800,Limits_Details!$B$24:$B$5800,B38,Limits_Details!$C$24:$C$5800,C38,Limits_Details!$D$24:$D$5800,D38,Limits_Details!$H$24:$H$5800,\"Process Problems\"))","v":""},{"$f":"IF($E38=\"\",\"\",SUMIFS(Limits_Details!$G$24:$G$5800,Limits_Details!$B$24:$B$5800,B38,Limits_Details!$C$24:$C$5800,C38,Limits_Details!$D$24:$D$5800,D38,Limits_Details!$H$24:$H$5800,\"Other Known Causes\"))","v":""},{"$f":"IF($E38=\"\",\"\",SUMIFS(Limits_Details!$G$24:$G$5800,Limits_Details!$B$24:$B$5800,B38,Limits_Details!$C$24:$C$5800,C38,Limits_Details!$D$24:$D$5800,D38,Limits_Details!$H$24:$H$5800,\"Other Unknown Causes\"))","v":""}]
[null,{"$f":"IF(Lists!AI17=\"\",\"\",Lists!AI17)","v":""},{"$f":"IF(Lists!AJ17=\"\",\"\",Lists!AJ17)","v":""},{"$f":"IF(Lists!AK17=\"\",\"\",Lists!AK17)","v":""},null,"","",{"$f":"IF($E39=\"\",\"\",SUMIFS(Limits_Details!$G$24:$G$5800,Limits_Details!$B$24:$B$5800,B39,Limits_Details!$C$24:$C$5800,C39,Limits_Details!$D$24:$D$5800,D39,Limits_Details!$H$24:$H$5800,\"Control Equipment Problems\"))","v":""},{"$f":"IF($E39=\"\",\"\",SUMIFS(Limits_Details!$G$24:$G$5800,Limits_Details!$B$24:$B$5800,B39,Limits_Details!$C$24:$C$5800,C39,Limits_Details!$D$24:$D$5800,D39,Limits_Details!$H$24:$H$5800,\"Process Problems\"))","v":""},{"$f":"IF($E39=\"\",\"\",SUMIFS(Limits_Details!$G$24:$G$5800,Limits_Details!$B$24:$B$5800,B39,Limits_Details!$C$24:$C$5800,C39,Limits_Details!$D$24:$D$5800,D39,Limits_Details!$H$24:$H$5800,\"Other Known Causes\"))","v":""},{"$f":"IF($E39=\"\",\"\",SUMIFS(Limits_Details!$G$24:$G$5800,Limits_Details!$B$24:$B$5800,B39,Limits_Details!$C$24:$C$5800,C39,Limits_Details!$D$24:$D$5800,D39,Limits_Details!$H$24:$H$5800,\"Other Unknown Causes\"))","v":""}]
[null,{"$f":"IF(Lists!AI18=\"\",\"\",Lists!AI18)","v":""},{"$f":"IF(Lists!AJ18=\"\",\"\",Lists!AJ18)","v":""},{"$f":"IF(Lists!AK18=\"\",\"\",Lists!AK18)","v":""},null,"","",{"$f":"IF($E40=\"\",\"\",SUMIFS(Limits_Details!$G$24:$G$5800,Limits_Details!$B$24:$B$5800,B40,Limits_Details!$C$24:$C$5800,C40,Limits_Details!$D$24:$D$5800,D40,Limits_Details!$H$24:$H$5800,\"Control Equipment Problems\"))","v":""},{"$f":"IF($E40=\"\",\"\",SUMIFS(Limits_Details!$G$24:$G$5800,Limits_Details!$B$24:$B$5800,B40,Limits_Details!$C$24:$C$5800,C40,Limits_Details!$D$24:$D$5800,D40,Limits_Details!$H$24:$H$5800,\"Process Problems\"))","v":""},{"$f":"IF($E40=\"\",\"\",SUMIFS(Limits_Details!$G$24:$G$5800,Limits_Details!$B$24:$B$5800,B40,Limits_Details!$C$24:$C$5800,C40,Limits_Details!$D$24:$D$5800,D40,Limits_Details!$H$24:$H$5800,\"Other Known Causes\"))","v":""},{"$f":"IF($E40=\"\",\"\",SUMIFS(Limits_Details!$G$24:$G$5800,Limits_Details!$B$24:$B$5800,B40,Limits_Details!$C$24:$C$5800,C40,Limits_Details!$D$24:$D$5800,D40,Limits_Details!$H$24:$H$5800,\"Other Unknown Causes\"))","v":""}]
[null,{"$f":"IF(Lists!AI19=\"\",\"\",Lists!AI19)","v":""},{"$f":"IF(Lists!AJ19=\"\",\"\",Lists!AJ19)","v":""},{"$f":"IF(Lists!AK19=\"\",\"\",Lists!AK19)","v":""},null,"","",{"$f":"IF($E41=\"\",\"\",SUMIFS(Limits_Details!$G$24:$G$5800,Limits_Details!$B$24:$B$5800,B41,Limits_Details!$C$24:$C$5800,C41,Limits_Details!$D$24:$D$5800,D41,Limits_Details!$H$24:$H$5800,\"Control Equipment Problems\"))","v":""},{"$f":"IF($E41=\"\",\"\",SUMIFS(Limits_Details!$G$24:$G$5800,Limits_Details!$B$24:$B$5800,B41,Limits_Details!$C$24:$C$5800,C41,Limits_Details!$D$24:$D$5800,D41,Limits_Details!$H$24:$H$5800,\"Process Problems\"))","v":""},{"$f":"IF($E41=\"\",\"\",SUMIFS(Limits_Details!$G$24:$G$5800,Limits_Details!$B$24:$B$5800,B41,Limits_Details!$C$24:$C$5800,C41,Limits_Details!$D$24:$D$5800,D41,Limits_Details!$H$24:$H$5800,\"Other Known Causes\"))","v":""},{"$f":"IF($E41=\"\",\"\",SUMIFS(Limits_Details!$G$24:$G$5800,Limits_Details!$B$24:$B$5800,B41,Limits_Details!$C$24:$C$5800,C41,Limits_Details!$D$24:$D$5800,D41,Limits_Details!$H$24:$H$5800,\"Other Unknown Causes\"))","v":""}]
[null,{"$f":"IF(Lists!AI20=\"\",\"\",Lists!AI20)","v":""},{"$f":"IF(Lists!AJ20=\"\",\"\",Lists!AJ20)","v":""},{"$f":"IF(Lists!AK20=\"\",\"\",Lists!AK20)","v":""},null,"","",{"$f":"IF($E42=\"\",\"\",SUMIFS(Limits_Details!$G$24:$G$5800,Limits_Details!$B$24:$B$5800,B42,Limits_Details!$C$24:$C$5800,C42,Limits_Details!$D$24:$D$5800,D42,Limits_Details!$H$24:$H$5800,\"Control Equipment Problems\"))","v":""},{"$f":"IF($E42=\"\",\"\",SUMIFS(Limits_Details!$G$24:$G$5800,Limits_Details!$B$24:$B$5800,B42,Limits_Details!$C$24:$C$5800,C42,Limits_Details!$D$24:$D$5800,D42,Limits_Details!$H$24:$H$5800,\"Process Problems\"))","v":""},{"$f":"IF($E42=\"\",\"\",SUMIFS(Limits_Details!$G$24:$G$5800,Limits_Details!$B$24:$B$5800,B42,Limits_Details!$C$24:$C$5800,C42,Limits_Details!$D$24:$D$5800,D42,Limits_Details!$H$24:$H$5800,\"Other Known Causes\"))","v":""},{"$f":"IF($E42=\"\",\"\",SUMIFS(Limits_Details!$G$24:$G$5800,Limits_Details!$B$24:$B$5800,B42,Limits_Details!$C$24:$C$5800,C42,Limits_Details!$D$24:$D$5800,D42,Limits_Details!$H$24:$H$5800,\"Other Unknown Causes\"))","v":""}]
[null,{"$f":"IF(Lists!AI21=\"\",\"\",Lists!AI21)","v":""},{"$f":"IF(Lists!AJ21=\"\",\"\",Lists!AJ21)","v":""},{"$f":"IF(Lists!AK21=\"\",\"\",Lists!AK21)","v":""},null,"","",{"$f":"IF($E43=\"\",\"\",SUMIFS(Limits_Details!$G$24:$G$5800,Limits_Details!$B$24:$B$5800,B43,Limits_Details!$C$24:$C$5800,C43,Limits_Details!$D$24:$D$5800,D43,Limits_Details!$H$24:$H$5800,\"Control Equipment Problems\"))","v":""},{"$f":"IF($E43=\"\",\"\",SUMIFS(Limits_Details!$G$24:$G$5800,Limits_Details!$B$24:$B$5800,B43,Limits_Details!$C$24:$C$5800,C43,Limits_Details!$D$24:$D$5800,D43,Limits_Details!$H$24:$H$5800,\"Process Problems\"))","v":""},{"$f":"IF($E43=\"\",\"\",SUMIFS(Limits_Details!$G$24:$G$5800,Limits_Details!$B$24:$B$5800,B43,Limits_Details!$C$24:$C$5800,C43,Limits_Details!$D$24:$D$5800,D43,Limits_Details!$H$24:$H$5800,\"Other Known Causes\"))","v":""},{"$f":"IF($E43=\"\",\"\",SUMIFS(Limits_Details!$G$24:$G$5800,Limits_Details!$B$24:$B$5800,B43,Limits_Details!$C$24:$C$5800,C43,Limits_Details!$D$24:$D$5800,D43,Limits_Details!$H$24:$H$5800,\"Other Unknown Causes\"))","v":""}]
[null,{"$f":"IF(Lists!AI22=\"\",\"\",Lists!AI22)","v":""},{"$f":"IF(Lists!AJ22=\"\",\"\",Lists!AJ22)","v":""},{"$f":"IF(Lists!AK22=\"\",\"\",Lists!AK22)","v":""},null,"","",{"$f":"IF($E44=\"\",\"\",SUMIFS(Limits_Details!$G$24:$G$5800,Limits_Details!$B$24:$B$5800,B44,Limits_Details!$C$24:$C$5800,C44,Limits_Details!$D$24:$D$5800,D44,Limits_Details!$H$24:$H$5800,\"Control Equipment Problems\"))","v":""},{"$f":"IF($E44=\"\",\"\",SUMIFS(Limits_Details!$G$24:$G$5800,Limits_Details!$B$24:$B$5800,B44,Limits_Details!$C$24:$C$5800,C44,Limits_Details!$D$24:$D$5800,D44,Limits_Details!$H$24:$H$5800,\"Process Problems\"))","v":""},{"$f":"IF($E44=\"\",\"\",SUMIFS(Limits_Details!$G$24:$G$5800,Limits_Details!$B$24:$B$5800,B44,Limits_Details!$C$24:$C$5800,C44,Limits_Details!$D$24:$D$5800,D44,Limits_Details!$H$24:$H$5800,\"Other Known Causes\"))","v":""},{"$f":"IF($E44=\"\",\"\",SUMIFS(Limits_Details!$G$24:$G$5800,Limits_Details!$B$24:$B$5800,B44,Limits_Details!$C$24:$C$5800,C44,Limits_Details!$D$24:$D$5800,D44,Limits_Details!$H$24:$H$5800,\"Other Unknown Causes\"))","v":""}]
[null,{"$f":"IF(Lists!AI23=\"\",\"\",Lists!AI23)","v":""},{"$f":"IF(Lists!AJ23=\"\",\"\",Lists!AJ23)","v":""},{"$f":"IF(Lists!AK23=\"\",\"\",Lists!AK23)","v":""},null,"","",{"$f":"IF($E45=\"\",\"\",SUMIFS(Limits_Details!$G$24:$G$5800,Limits_Details!$B$24:$B$5800,B45,Limits_Details!$C$24:$C$5800,C45,Limits_Details!$D$24:$D$5800,D45,Limits_Details!$H$24:$H$5800,\"Control Equipment Problems\"))","v":""},{"$f":"IF($E45=\"\",\"\",SUMIFS(Limits_Details!$G$24:$G$5800,Limits_Details!$B$24:$B$5800,B45,Limits_Details!$C$24:$C$5800,C45,Limits_Details!$D$24:$D$5800,D45,Limits_Details!$H$24:$H$5800,\"Process Problems\"))","v":""},{"$f":"IF($E45=\"\",\"\",SUMIFS(Limits_Details!$G$24:$G$5800,Limits_Details!$B$24:$B$5800,B45,Limits_Details!$C$24:$C$5800,C45,Limits_Details!$D$24:$D$5800,D45,Limits_Details!$H$24:$H$5800,\"Other Known Causes\"))","v":""},{"$f":"IF($E45=\"\",\"\",SUMIFS(Limits_Details!$G$24:$G$5800,Limits_Details!$B$24:$B$5800,B45,Limits_Details!$C$24:$C$5800,C45,Limits_Details!$D$24:$D$5800,D45,Limits_Details!$H$24:$H$5800,\"Other Unknown Causes\"))","v":""}]
[null,{"$f":"IF(Lists!AI24=\"\",\"\",Lists!AI24)","v":""},{"$f":"IF(Lists!AJ24=\"\",\"\",Lists!AJ24)","v":""},{"$f":"IF(Lists!AK24=\"\",\"\",Lists!AK24)","v":""},null,"","",{"$f":"IF($E46=\"\",\"\",SUMIFS(Limits_Details!$G$24:$G$5800,Limits_Details!$B$24:$B$5800,B46,Limits_Details!$C$24:$C$5800,C46,Limits_Details!$D$24:$D$5800,D46,Limits_Details!$H$24:$H$5800,\"Control Equipment Problems\"))","v":""},{"$f":"IF($E46=\"\",\"\",SUMIFS(Limits_Details!$G$24:$G$5800,Limits_Details!$B$24:$B$5800,B46,Limits_Details!$C$24:$C$5800,C46,Limits_Details!$D$24:$D$5800,D46,Limits_Details!$H$24:$H$5800,\"Process Problems\"))","v":""},{"$f":"IF($E46=\"\",\"\",SUMIFS(Limits_Details!$G$24:$G$5800,Limits_Details!$B$24:$B$5800,B46,Limits_Details!$C$24:$C$5800,C46,Limits_Details!$D$24:$D$5800,D46,Limits_Details!$H$24:$H$5800,\"Other Known Causes\"))","v":""},{"$f":"IF($E46=\"\",\"\",SUMIFS(Limits_Details!$G$24:$G$5800,Limits_Details!$B$24:$B$5800,B46,Limits_Details!$C$24:$C$5800,C46,Limits_Details!$D$24:$D$5800,D46,Limits_Details!$H$24:$H$5800,\"Other Unknown Causes\"))","v":""}]
[null,{"$f":"IF(Lists!AI25=\"\",\"\",Lists!AI25)","v":""},{"$f":"IF(Lists!AJ25=\"\",\"\",Lists!AJ25)","v":""},{"$f":"IF(Lists!AK25=\"\",\"\",Lists!AK25)","v":""},null,"","",{"$f":"IF($E47=\"\",\"\",SUMIFS(Limits_Details!$G$24:$G$5800,Limits_Details!$B$24:$B$5800,B47,Limits_Details!$C$24:$C$5800,C47,Limits_Details!$D$24:$D$5800,D47,Limits_Details!$H$24:$H$5800,\"Control Equipment Problems\"))","v":""},{"$f":"IF($E47=\"\",\"\",SUMIFS(Limits_Details!$G$24:$G$5800,Limits_Details!$B$24:$B$5800,B47,Limits_Details!$C$24:$C$5800,C47,Limits_Details!$D$24:$D$5800,D47,Limits_Details!$H$24:$H$5800,\"Process Problems\"))","v":""},{"$f":"IF($E47=\"\",\"\",SUMIFS(Limits_Details!$G$24:$G$5800,Limits_Details!$B$24:$B$5800,B47,Limits_Details!$C$24:$C$5800,C47,Limits_Details!$D$24:$D$5800,D47,Limits_Details!$H$24:$H$5800,\"Other Known Causes\"))","v":""},{"$f":"IF($E47=\"\",\"\",SUMIFS(Limits_Details!$G$24:$G$5800,Limits_Details!$B$24:$B$5800,B47,Limits_Details!$C$24:$C$5800,C47,Limits_Details!$D$24:$D$5800,D47,Limits_Details!$H$24:$H$5800,\"Other Unknown Causes\"))","v":""}]
[null,{"$f":"IF(Lists!AI26=\"\",\"\",Lists!AI26)","v":""},{"$f":"IF(Lists!AJ26=\"\",\"\",Lists!AJ26)","v":""},{"$f":"IF(Lists!AK26=\"\",\"\",Lists!AK26)","v":""},null,"","",{"$f":"IF($E48=\"\",\"\",SUMIFS(Limits_Details!$G$24:$G$5800,Limits_Details!$B$24:$B$5800,B48,Limits_Details!$C$24:$C$5800,C48,Limits_Details!$D$24:$D$5800,D48,Limits_Details!$H$24:$H$5800,\"Control Equipment Problems\"))","v":""},{"$f":"IF($E48=\"\",\"\",SUMIFS(Limits_Details!$G$24:$G$5800,Limits_Details!$B$24:$B$5800,B48,Limits_Details!$C$24:$C$5800,C48,Limits_Details!$D$24:$D$5800,D48,Limits_Details!$H$24:$H$5800,\"Process Problems\"))","v":""},{"$f":"IF($E48=\"\",\"\",SUMIFS(Limits_Details!$G$24:$G$5800,Limits_Details!$B$24:$B$5800,B48,Limits_Details!$C$24:$C$5800,C48,Limits_Details!$D$24:$D$5800,D48,Limits_Details!$H$24:$H$5800,\"Other Known Causes\"))","v":""},{"$f":"IF($E48=\"\",\"\",SUMIFS(Limits_Details!$G$24:$G$5800,Limits_Details!$B$24:$B$5800,B48,Limits_Details!$C$24:$C$5800,C48,Limits_Details!$D$24:$D$5800,D48,Limits_Details!$H$24:$H$5800,\"Other Unknown Causes\"))","v":""}]
[null,{"$f":"IF(Lists!AI27=\"\",\"\",Lists!AI27)","v":""},{"$f":"IF(Lists!AJ27=\"\",\"\",Lists!AJ27)","v":""},{"$f":"IF(Lists!AK27=\"\",\"\",Lists!AK27)","v":""},null,"","",{"$f":"IF($E49=\"\",\"\",SUMIFS(Limits_Details!$G$24:$G$5800,Limits_Details!$B$24:$B$5800,B49,Limits_Details!$C$24:$C$5800,C49,Limits_Details!$D$24:$D$5800,D49,Limits_Details!$H$24:$H$5800,\"Control Equipment Problems\"))","v":""},{"$f":"IF($E49=\"\",\"\",SUMIFS(Limits_Details!$G$24:$G$5800,Limits_Details!$B$24:$B$5800,B49,Limits_Details!$C$24:$C$5800,C49,Limits_Details!$D$24:$D$5800,D49,Limits_Details!$H$24:$H$5800,\"Process Problems\"))","v":""},{"$f":"IF($E49=\"\",\"\",SUMIFS(Limits_Details!$G$24:$G$5800,Limits_Details!$B$24:$B$5800,B49,Limits_Details!$C$24:$C$5800,C49,Limits_Details!$D$24:$D$5800,D49,Limits_Details!$H$24:$H$5800,\"Other Known Causes\"))","v":""},{"$f":"IF($E49=\"\",\"\",SUMIFS(Limits_Details!$G$24:$G$5800,Limits_Details!$B$24:$B$5800,B49,Limits_Details!$C$24:$C$5800,C49,Limits_Details!$D$24:$D$5800,D49,Limits_Details!$H$24:$H$5800,\"Other Unknown Causes\"))","v":""}]
[null,{"$f":"IF(Lists!AI28=\"\",\"\",Lists!AI28)","v":""},{"$f":"IF(Lists!AJ28=\"\",\"\",Lists!AJ28)","v":""},{"$f":"IF(Lists!AK28=\"\",\"\",Lists!AK28)","v":""},null,"","",{"$f":"IF($E50=\"\",\"\",SUMIFS(Limits_Details!$G$24:$G$5800,Limits_Details!$B$24:$B$5800,B50,Limits_Details!$C$24:$C$5800,C50,Limits_Details!$D$24:$D$5800,D50,Limits_Details!$H$24:$H$5800,\"Control Equipment Problems\"))","v":""},{"$f":"IF($E50=\"\",\"\",SUMIFS(Limits_Details!$G$24:$G$5800,Limits_Details!$B$24:$B$5800,B50,Limits_Details!$C$24:$C$5800,C50,Limits_Details!$D$24:$D$5800,D50,Limits_Details!$H$24:$H$5800,\"Process Problems\"))","v":""},{"$f":"IF($E50=\"\",\"\",SUMIFS(Limits_Details!$G$24:$G$5800,Limits_Details!$B$24:$B$5800,B50,Limits_Details!$C$24:$C$5800,C50,Limits_Details!$D$24:$D$5800,D50,Limits_Details!$H$24:$H$5800,\"Other Known Causes\"))","v":""},{"$f":"IF($E50=\"\",\"\",SUMIFS(Limits_Details!$G$24:$G$5800,Limits_Details!$B$24:$B$5800,B50,Limits_Details!$C$24:$C$5800,C50,Limits_Details!$D$24:$D$5800,D50,Limits_Details!$H$24:$H$5800,\"Other Unknown Causes\"))","v":""}]
[null,{"$f":"IF(Lists!AI29=\"\",\"\",Lists!AI29)","v":""},{"$f":"IF(Lists!AJ29=\"\",\"\",Lists!AJ29)","v":""},{"$f":"IF(Lists!AK29=\"\",\"\",Lists!AK29)","v":""},null,"","",{"$f":"IF($E51=\"\",\"\",SUMIFS(Limits_Details!$G$24:$G$5800,Limits_Details!$B$24:$B$5800,B51,Limits_Details!$C$24:$C$5800,C51,Limits_Details!$D$24:$D$5800,D51,Limits_Details!$H$24:$H$5800,\"Control Equipment Problems\"))","v":""},{"$f":"IF($E51=\"\",\"\",SUMIFS(Limits_Details!$G$24:$G$5800,Limits_Details!$B$24:$B$5800,B51,Limits_Details!$C$24:$C$5800,C51,Limits_Details!$D$24:$D$5800,D51,Limits_Details!$H$24:$H$5800,\"Process Problems\"))","v":""},{"$f":"IF($E51=\"\",\"\",SUMIFS(Limits_Details!$G$24:$G$5800,Limits_Details!$B$24:$B$5800,B51,Limits_Details!$C$24:$C$5800,C51,Limits_Details!$D$24:$D$5800,D51,Limits_Details!$H$24:$H$5800,\"Other Known Causes\"))","v":""},{"$f":"IF($E51=\"\",\"\",SUMIFS(Limits_Details!$G$24:$G$5800,Limits_Details!$B$24:$B$5800,B51,Limits_Details!$C$24:$C$5800,C51,Limits_Details!$D$24:$D$5800,D51,Limits_Details!$H$24:$H$5800,\"Other Unknown Causes\"))","v":""}]
[null,{"$f":"IF(Lists!AI30=\"\",\"\",Lists!AI30)","v":""},{"$f":"IF(Lists!AJ30=\"\",\"\",Lists!AJ30)","v":""},{"$f":"IF(Lists!AK30=\"\",\"\",Lists!AK30)","v":""},null,"","",{"$f":"IF($E52=\"\",\"\",SUMIFS(Limits_Details!$G$24:$G$5800,Limits_Details!$B$24:$B$5800,B52,Limits_Details!$C$24:$C$5800,C52,Limits_Details!$D$24:$D$5800,D52,Limits_Details!$H$24:$H$5800,\"Control Equipment Problems\"))","v":""},{"$f":"IF($E52=\"\",\"\",SUMIFS(Limits_Details!$G$24:$G$5800,Limits_Details!$B$24:$B$5800,B52,Limits_Details!$C$24:$C$5800,C52,Limits_Details!$D$24:$D$5800,D52,Limits_Details!$H$24:$H$5800,\"Process Problems\"))","v":""},{"$f":"IF($E52=\"\",\"\",SUMIFS(Limits_Details!$G$24:$G$5800,Limits_Details!$B$24:$B$5800,B52,Limits_Details!$C$24:$C$5800,C52,Limits_Details!$D$24:$D$5800,D52,Limits_Details!$H$24:$H$5800,\"Other Known Causes\"))","v":""},{"$f":"IF($E52=\"\",\"\",SUMIFS(Limits_Details!$G$24:$G$5800,Limits_Details!$B$24:$B$5800,B52,Limits_Details!$C$24:$C$5800,C52,Limits_Details!$D$24:$D$5800,D52,Limits_Details!$H$24:$H$5800,\"Other Unknown Causes\"))","v":""}]
[null,{"$f":"IF(Lists!AI31=\"\",\"\",Lists!AI31)","v":""},{"$f":"IF(Lists!AJ31=\"\",\"\",Lists!AJ31)","v":""},{"$f":"IF(Lists!AK31=\"\",\"\",Lists!AK31)","v":""},null,"","",{"$f":"IF($E53=\"\",\"\",SUMIFS(Limits_Details!$G$24:$G$5800,Limits_Details!$B$24:$B$5800,B53,Limits_Details!$C$24:$C$5800,C53,Limits_Details!$D$24:$D$5800,D53,Limits_Details!$H$24:$H$5800,\"Control Equipment Problems\"))","v":""},{"$f":"IF($E53=\"\",\"\",SUMIFS(Limits_Details!$G$24:$G$5800,Limits_Details!$B$24:$B$5800,B53,Limits_Details!$C$24:$C$5800,C53,Limits_Details!$D$24:$D$5800,D53,Limits_Details!$H$24:$H$5800,\"Process Problems\"))","v":""},{"$f":"IF($E53=\"\",\"\",SUMIFS(Limits_Details!$G$24:$G$5800,Limits_Details!$B$24:$B$5800,B53,Limits_Details!$C$24:$C$5800,C53,Limits_Details!$D$24:$D$5800,D53,Limits_Details!$H$24:$H$5800,\"Other Known Causes\"))","v":""},{"$f":"IF($E53=\"\",\"\",SUMIFS(Limits_Details!$G$24:$G$5800,Limits_Details!$B$24:$B$5800,B53,Limits_Details!$C$24:$C$5800,C53,Limits_Details!$D$24:$D$5800,D53,Limits_Details!$H$24:$H$5800,\"Other Unknown Causes\"))","v":""}]
[null,{"$f":"IF(Lists!AI32=\"\",\"\",Lists!AI32)","v":""},{"$f":"IF(Lists!AJ32=\"\",\"\",Lists!AJ32)","v":""},{"$f":"IF(Lists!AK32=\"\",\"\",Lists!AK32)","v":""},null,"","",{"$f":"IF($E54=\"\",\"\",SUMIFS(Limits_Details!$G$24:$G$5800,Limits_Details!$B$24:$B$5800,B54,Limits_Details!$C$24:$C$5800,C54,Limits_Details!$D$24:$D$5800,D54,Limits_Details!$H$24:$H$5800,\"Control Equipment Problems\"))","v":""},{"$f":"IF($E54=\"\",\"\",SUMIFS(Limits_Details!$G$24:$G$5800,Limits_Details!$B$24:$B$5800,B54,Limits_Details!$C$24:$C$5800,C54,Limits_Details!$D$24:$D$5800,D54,Limits_Details!$H$24:$H$5800,\"Process Problems\"))","v":""},{"$f":"IF($E54=\"\",\"\",SUMIFS(Limits_Details!$G$24:$G$5800,Limits_Details!$B$24:$B$5800,B54,Limits_Details!$C$24:$C$5800,C54,Limits_Details!$D$24:$D$5800,D54,Limits_Details!$H$24:$H$5800,\"Other Known Causes\"))","v":""},{"$f":"IF($E54=\"\",\"\",SUMIFS(Limits_Details!$G$24:$G$5800,Limits_Details!$B$24:$B$5800,B54,Limits_Details!$C$24:$C$5800,C54,Limits_Details!$D$24:$D$5800,D54,Limits_Details!$H$24:$H$5800,\"Other Unknown Causes\"))","v":""}]
[null,{"$f":"IF(Lists!AI33=\"\",\"\",Lists!AI33)","v":""},{"$f":"IF(Lists!AJ33=\"\",\"\",Lists!AJ33)","v":""},{"$f":"IF(Lists!AK33=\"\",\"\",Lists!AK33)","v":""},null,"","",{"$f":"IF($E55=\"\",\"\",SUMIFS(Limits_Details!$G$24:$G$5800,Limits_Details!$B$24:$B$5800,B55,Limits_Details!$C$24:$C$5800,C55,Limits_Details!$D$24:$D$5800,D55,Limits_Details!$H$24:$H$5800,\"Control Equipment Problems\"))","v":""},{"$f":"IF($E55=\"\",\"\",SUMIFS(Limits_Details!$G$24:$G$5800,Limits_Details!$B$24:$B$5800,B55,Limits_Details!$C$24:$C$5800,C55,Limits_Details!$D$24:$D$5800,D55,Limits_Details!$H$24:$H$5800,\"Process Problems\"))","v":""},{"$f":"IF($E55=\"\",\"\",SUMIFS(Limits_Details!$G$24:$G$5800,Limits_Details!$B$24:$B$5800,B55,Limits_Details!$C$24:$C$5800,C55,Limits_Details!$D$24:$D$5800,D55,Limits_Details!$H$24:$H$5800,\"Other Known Causes\"))","v":""},{"$f":"IF($E55=\"\",\"\",SUMIFS(Limits_Details!$G$24:$G$5800,Limits_Details!$B$24:$B$5800,B55,Limits_Details!$C$24:$C$5800,C55,Limits_Details!$D$24:$D$5800,D55,Limits_Details!$H$24:$H$5800,\"Other Unknown Causes\"))","v":""}]
[null,{"$f":"IF(Lists!AI34=\"\",\"\",Lists!AI34)","v":""},{"$f":"IF(Lists!AJ34=\"\",\"\",Lists!AJ34)","v":""},{"$f":"IF(Lists!AK34=\"\",\"\",Lists!AK34)","v":""},null,"","",{"$f":"IF($E56=\"\",\"\",SUMIFS(Limits_Details!$G$24:$G$5800,Limits_Details!$B$24:$B$5800,B56,Limits_Details!$C$24:$C$5800,C56,Limits_Details!$D$24:$D$5800,D56,Limits_Details!$H$24:$H$5800,\"Control Equipment Problems\"))","v":""},{"$f":"IF($E56=\"\",\"\",SUMIFS(Limits_Details!$G$24:$G$5800,Limits_Details!$B$24:$B$5800,B56,Limits_Details!$C$24:$C$5800,C56,Limits_Details!$D$24:$D$5800,D56,Limits_Details!$H$24:$H$5800,\"Process Problems\"))","v":""},{"$f":"IF($E56=\"\",\"\",SUMIFS(Limits_Details!$G$24:$G$5800,Limits_Details!$B$24:$B$5800,B56,Limits_Details!$C$24:$C$5800,C56,Limits_Details!$D$24:$D$5800,D56,Limits_Details!$H$24:$H$5800,\"Other Known Causes\"))","v":""},{"$f":"IF($E56=\"\",\"\",SUMIFS(Limits_Details!$G$24:$G$5800,Limits_Details!$B$24:$B$5800,B56,Limits_Details!$C$24:$C$5800,C56,Limits_Details!$D$24:$D$5800,D56,Limits_Details!$H$24:$H$5800,\"Other Unknown Causes\"))","v":""}]
[null,{"$f":"IF(Lists!AI35=\"\",\"\",Lists!AI35)","v":""},{"$f":"IF(Lists!AJ35=\"\",\"\",Lists!AJ35)","v":""},{"$f":"IF(Lists!AK35=\"\",\"\",Lists!AK35)","v":""},null,"","",{"$f":"IF($E57=\"\",\"\",SUMIFS(Limits_Details!$G$24:$G$5800,Limits_Details!$B$24:$B$5800,B57,Limits_Details!$C$24:$C$5800,C57,Limits_Details!$D$24:$D$5800,D57,Limits_Details!$H$24:$H$5800,\"Control Equipment Problems\"))","v":""},{"$f":"IF($E57=\"\",\"\",SUMIFS(Limits_Details!$G$24:$G$5800,Limits_Details!$B$24:$B$5800,B57,Limits_Details!$C$24:$C$5800,C57,Limits_Details!$D$24:$D$5800,D57,Limits_Details!$H$24:$H$5800,\"Process Problems\"))","v":""},{"$f":"IF($E57=\"\",\"\",SUMIFS(Limits_Details!$G$24:$G$5800,Limits_Details!$B$24:$B$5800,B57,Limits_Details!$C$24:$C$5800,C57,Limits_Details!$D$24:$D$5800,D57,Limits_Details!$H$24:$H$5800,\"Other Known Causes\"))","v":""},{"$f":"IF($E57=\"\",\"\",SUMIFS(Limits_Details!$G$24:$G$5800,Limits_Details!$B$24:$B$5800,B57,Limits_Details!$C$24:$C$5800,C57,Limits_Details!$D$24:$D$5800,D57,Limits_Details!$H$24:$H$5800,\"Other Unknown Causes\"))","v":""}]
[null,{"$f":"IF(Lists!AI36=\"\",\"\",Lists!AI36)","v":""},{"$f":"IF(Lists!AJ36=\"\",\"\",Lists!AJ36)","v":""},{"$f":"IF(Lists!AK36=\"\",\"\",Lists!AK36)","v":""},null,"","",{"$f":"IF($E58=\"\",\"\",SUMIFS(Limits_Details!$G$24:$G$5800,Limits_Details!$B$24:$B$5800,B58,Limits_Details!$C$24:$C$5800,C58,Limits_Details!$D$24:$D$5800,D58,Limits_Details!$H$24:$H$5800,\"Control Equipment Problems\"))","v":""},{"$f":"IF($E58=\"\",\"\",SUMIFS(Limits_Details!$G$24:$G$5800,Limits_Details!$B$24:$B$5800,B58,Limits_Details!$C$24:$C$5800,C58,Limits_Details!$D$24:$D$5800,D58,Limits_Details!$H$24:$H$5800,\"Process Problems\"))","v":""},{"$f":"IF($E58=\"\",\"\",SUMIFS(Limits_Details!$G$24:$G$5800,Limits_Details!$B$24:$B$5800,B58,Limits_Details!$C$24:$C$5800,C58,Limits_Details!$D$24:$D$5800,D58,Limits_Details!$H$24:$H$5800,\"Other Known Causes\"))","v":""},{"$f":"IF($E58=\"\",\"\",SUMIFS(Limits_Details!$G$24:$G$5800,Limits_Details!$B$24:$B$5800,B58,Limits_Details!$C$24:$C$5800,C58,Limits_Details!$D$24:$D$5800,D58,Limits_Details!$H$24:$H$5800,\"Other Unknown Causes\"))","v":""}]
[null,{"$f":"IF(Lists!AI37=\"\",\"\",Lists!AI37)","v":""},{"$f":"IF(Lists!AJ37=\"\",\"\",Lists!AJ37)","v":""},{"$f":"IF(Lists!AK37=\"\",\"\",Lists!AK37)","v":""},null,"","",{"$f":"IF($E59=\"\",\"\",SUMIFS(Limits_Details!$G$24:$G$5800,Limits_Details!$B$24:$B$5800,B59,Limits_Details!$C$24:$C$5800,C59,Limits_Details!$D$24:$D$5800,D59,Limits_Details!$H$24:$H$5800,\"Control Equipment Problems\"))","v":""},{"$f":"IF($E59=\"\",\"\",SUMIFS(Limits_Details!$G$24:$G$5800,Limits_Details!$B$24:$B$5800,B59,Limits_Details!$C$24:$C$5800,C59,Limits_Details!$D$24:$D$5800,D59,Limits_Details!$H$24:$H$5800,\"Process Problems\"))","v":""},{"$f":"IF($E59=\"\",\"\",SUMIFS(Limits_Details!$G$24:$G$5800,Limits_Details!$B$24:$B$5800,B59,Limits_Details!$C$24:$C$5800,C59,Limits_Details!$D$24:$D$5800,D59,Limits_Details!$H$24:$H$5800,\"Other Known Causes\"))","v":""},{"$f":"IF($E59=\"\",\"\",SUMIFS(Limits_Details!$G$24:$G$5800,Limits_Details!$B$24:$B$5800,B59,Limits_Details!$C$24:$C$5800,C59,Limits_Details!$D$24:$D$5800,D59,Limits_Details!$H$24:$H$5800,\"Other Unknown Causes\"))","v":""}]
[null,{"$f":"IF(Lists!AI38=\"\",\"\",Lists!AI38)","v":""},{"$f":"IF(Lists!AJ38=\"\",\"\",Lists!AJ38)","v":""},{"$f":"IF(Lists!AK38=\"\",\"\",Lists!AK38)","v":""},null,"","",{"$f":"IF($E60=\"\",\"\",SUMIFS(Limits_Details!$G$24:$G$5800,Limits_Details!$B$24:$B$5800,B60,Limits_Details!$C$24:$C$5800,C60,Limits_Details!$D$24:$D$5800,D60,Limits_Details!$H$24:$H$5800,\"Control Equipment Problems\"))","v":""},{"$f":"IF($E60=\"\",\"\",SUMIFS(Limits_Details!$G$24:$G$5800,Limits_Details!$B$24:$B$5800,B60,Limits_Details!$C$24:$C$5800,C60,Limits_Details!$D$24:$D$5800,D60,Limits_Details!$H$24:$H$5800,\"Process Problems\"))","v":""},{"$f":"IF($E60=\"\",\"\",SUMIFS(Limits_Details!$G$24:$G$5800,Limits_Details!$B$24:$B$5800,B60,Limits_Details!$C$24:$C$5800,C60,Limits_Details!$D$24:$D$5800,D60,Limits_Details!$H$24:$H$5800,\"Other Known Causes\"))","v":""},{"$f":"IF($E60=\"\",\"\",SUMIFS(Limits_Details!$G$24:$G$5800,Limits_Details!$B$24:$B$5800,B60,Limits_Details!$C$24:$C$5800,C60,Limits_Details!$D$24:$D$5800,D60,Limits_Details!$H$24:$H$5800,\"Other Unknown Causes\"))","v":""}]
[null,{"$f":"IF(Lists!AI39=\"\",\"\",Lists!AI39)","v":""},{"$f":"IF(Lists!AJ39=\"\",\"\",Lists!AJ39)","v":""},{"$f":"IF(Lists!AK39=\"\",\"\",Lists!AK39)","v":""},null,"","",{"$f":"IF($E61=\"\",\"\",SUMIFS(Limits_Details!$G$24:$G$5800,Limits_Details!$B$24:$B$5800,B61,Limits_Details!$C$24:$C$5800,C61,Limits_Details!$D$24:$D$5800,D61,Limits_Details!$H$24:$H$5800,\"Control Equipment Problems\"))","v":""},{"$f":"IF($E61=\"\",\"\",SUMIFS(Limits_Details!$G$24:$G$5800,Limits_Details!$B$24:$B$5800,B61,Limits_Details!$C$24:$C$5800,C61,Limits_Details!$D$24:$D$5800,D61,Limits_Details!$H$24:$H$5800,\"Process Problems\"))","v":""},{"$f":"IF($E61=\"\",\"\",SUMIFS(Limits_Details!$G$24:$G$5800,Limits_Details!$B$24:$B$5800,B61,Limits_Details!$C$24:$C$5800,C61,Limits_Details!$D$24:$D$5800,D61,Limits_Details!$H$24:$H$5800,\"Other Known Causes\"))","v":""},{"$f":"IF($E61=\"\",\"\",SUMIFS(Limits_Details!$G$24:$G$5800,Limits_Details!$B$24:$B$5800,B61,Limits_Details!$C$24:$C$5800,C61,Limits_Details!$D$24:$D$5800,D61,Limits_Details!$H$24:$H$5800,\"Other Unknown Causes\"))","v":""}]
[null,{"$f":"IF(Lists!AI40=\"\",\"\",Lists!AI40)","v":""},{"$f":"IF(Lists!AJ40=\"\",\"\",Lists!AJ40)","v":""},{"$f":"IF(Lists!AK40=\"\",\"\",Lists!AK40)","v":""},null,"","",{"$f":"IF($E62=\"\",\"\",SUMIFS(Limits_Details!$G$24:$G$5800,Limits_Details!$B$24:$B$5800,B62,Limits_Details!$C$24:$C$5800,C62,Limits_Details!$D$24:$D$5800,D62,Limits_Details!$H$24:$H$5800,\"Control Equipment Problems\"))","v":""},{"$f":"IF($E62=\"\",\"\",SUMIFS(Limits_Details!$G$24:$G$5800,Limits_Details!$B$24:$B$5800,B62,Limits_Details!$C$24:$C$5800,C62,Limits_Details!$D$24:$D$5800,D62,Limits_Details!$H$24:$H$5800,\"Process Problems\"))","v":""},{"$f":"IF($E62=\"\",\"\",SUMIFS(Limits_Details!$G$24:$G$5800,Limits_Details!$B$24:$B$5800,B62,Limits_Details!$C$24:$C$5800,C62,Limits_Details!$D$24:$D$5800,D62,Limits_Details!$H$24:$H$5800,\"Other Known Causes\"))","v":""},{"$f":"IF($E62=\"\",\"\",SUMIFS(Limits_Details!$G$24:$G$5800,Limits_Details!$B$24:$B$5800,B62,Limits_Details!$C$24:$C$5800,C62,Limits_Details!$D$24:$D$5800,D62,Limits_Details!$H$24:$H$5800,\"Other Unknown Causes\"))","v":""}]
[null,{"$f":"IF(Lists!AI41=\"\",\"\",Lists!AI41)","v":""},{"$f":"IF(Lists!AJ41=\"\",\"\",Lists!AJ41)","v":""},{"$f":"IF(Lists!AK41=\"\",\"\",Lists!AK41)","v":""},null,"","",{"$f":"IF($E63=\"\",\"\",SUMIFS(Limits_Details!$G$24:$G$5800,Limits_Details!$B$24:$B$5800,B63,Limits_Details!$C$24:$C$5800,C63,Limits_Details!$D$24:$D$5800,D63,Limits_Details!$H$24:$H$5800,\"Control Equipment Problems\"))","v":""},{"$f":"IF($E63=\"\",\"\",SUMIFS(Limits_Details!$G$24:$G$5800,Limits_Details!$B$24:$B$5800,B63,Limits_Details!$C$24:$C$5800,C63,Limits_Details!$D$24:$D$5800,D63,Limits_Details!$H$24:$H$5800,\"Process Problems\"))","v":""},{"$f":"IF($E63=\"\",\"\",SUMIFS(Limits_Details!$G$24:$G$5800,Limits_Details!$B$24:$B$5800,B63,Limits_Details!$C$24:$C$5800,C63,Limits_Details!$D$24:$D$5800,D63,Limits_Details!$H$24:$H$5800,\"Other Known Causes\"))","v":""},{"$f":"IF($E63=\"\",\"\",SUMIFS(Limits_Details!$G$24:$G$5800,Limits_Details!$B$24:$B$5800,B63,Limits_Details!$C$24:$C$5800,C63,Limits_Details!$D$24:$D$5800,D63,Limits_Details!$H$24:$H$5800,\"Other Unknown Causes\"))","v":""}]
[null,{"$f":"IF(Lists!AI42=\"\",\"\",Lists!AI42)","v":""},{"$f":"IF(Lists!AJ42=\"\",\"\",Lists!AJ42)","v":""},{"$f":"IF(Lists!AK42=\"\",\"\",Lists!AK42)","v":""},null,"","",{"$f":"IF($E64=\"\",\"\",SUMIFS(Limits_Details!$G$24:$G$5800,Limits_Details!$B$24:$B$5800,B64,Limits_Details!$C$24:$C$5800,C64,Limits_Details!$D$24:$D$5800,D64,Limits_Details!$H$24:$H$5800,\"Control Equipment Problems\"))","v":""},{"$f":"IF($E64=\"\",\"\",SUMIFS(Limits_Details!$G$24:$G$5800,Limits_Details!$B$24:$B$5800,B64,Limits_Details!$C$24:$C$5800,C64,Limits_Details!$D$24:$D$5800,D64,Limits_Details!$H$24:$H$5800,\"Process Problems\"))","v":""},{"$f":"IF($E64=\"\",\"\",SUMIFS(Limits_Details!$G$24:$G$5800,Limits_Details!$B$24:$B$5800,B64,Limits_Details!$C$24:$C$5800,C64,Limits_Details!$D$24:$D$5800,D64,Limits_Details!$H$24:$H$5800,\"Other Known Causes\"))","v":""},{"$f":"IF($E64=\"\",\"\",SUMIFS(Limits_Details!$G$24:$G$5800,Limits_Details!$B$24:$B$5800,B64,Limits_Details!$C$24:$C$5800,C64,Limits_Details!$D$24:$D$5800,D64,Limits_Details!$H$24:$H$5800,\"Other Unknown Causes\"))","v":""}]
[null,{"$f":"IF(Lists!AI43=\"\",\"\",Lists!AI43)","v":""},{"$f":"IF(Lists!AJ43=\"\",\"\",Lists!AJ43)","v":""},{"$f":"IF(Lists!AK43=\"\",\"\",Lists!AK43)","v":""},null,"","",{"$f":"IF($E65=\"\",\"\",SUMIFS(Limits_Details!$G$24:$G$5800,Limits_Details!$B$24:$B$5800,B65,Limits_Details!$C$24:$C$5800,C65,Limits_Details!$D$24:$D$5800,D65,Limits_Details!$H$24:$H$5800,\"Control Equipment Problems\"))","v":""},{"$f":"IF($E65=\"\",\"\",SUMIFS(Limits_Details!$G$24:$G$5800,Limits_Details!$B$24:$B$5800,B65,Limits_Details!$C$24:$C$5800,C65,Limits_Details!$D$24:$D$5800,D65,Limits_Details!$H$24:$H$5800,\"Process Problems\"))","v":""},{"$f":"IF($E65=\"\",\"\",SUMIFS(Limits_Details!$G$24:$G$5800,Limits_Details!$B$24:$B$5800,B65,Limits_Details!$C$24:$C$5800,C65,Limits_Details!$D$24:$D$5800,D65,Limits_Details!$H$24:$H$5800,\"Other Known Causes\"))","v":""},{"$f":"IF($E65=\"\",\"\",SUMIFS(Limits_Details!$G$24:$G$5800,Limits_Details!$B$24:$B$5800,B65,Limits_Details!$C$24:$C$5800,C65,Limits_Details!$D$24:$D$5800,D65,Limits_Details!$H$24:$H$5800,\"Other Unknown Causes\"))","v":""}]
[null,{"$f":"IF(Lists!AI44=\"\",\"\",Lists!AI44)","v":""},{"$f":"IF(Lists!AJ44=\"\",\"\",Lists!AJ44)","v":""},{"$f":"IF(Lists!AK44=\"\",\"\",Lists!AK44)","v":""},null,"","",{"$f":"IF($E66=\"\",\"\",SUMIFS(Limits_Details!$G$24:$G$5800,Limits_Details!$B$24:$B$5800,B66,Limits_Details!$C$24:$C$5800,C66,Limits_Details!$D$24:$D$5800,D66,Limits_Details!$H$24:$H$5800,\"Control Equipment Problems\"))","v":""},{"$f":"IF($E66=\"\",\"\",SUMIFS(Limits_Details!$G$24:$G$5800,Limits_Details!$B$24:$B$5800,B66,Limits_Details!$C$24:$C$5800,C66,Limits_Details!$D$24:$D$5800,D66,Limits_Details!$H$24:$H$5800,\"Process Problems\"))","v":""},{"$f":"IF($E66=\"\",\"\",SUMIFS(Limits_Details!$G$24:$G$5800,Limits_Details!$B$24:$B$5800,B66,Limits_Details!$C$24:$C$5800,C66,Limits_Details!$D$24:$D$5800,D66,Limits_Details!$H$24:$H$5800,\"Other Known Causes\"))","v":""},{"$f":"IF($E66=\"\",\"\",SUMIFS(Limits_Details!$G$24:$G$5800,Limits_Details!$B$24:$B$5800,B66,Limits_Details!$C$24:$C$5800,C66,Limits_Details!$D$24:$D$5800,D66,Limits_Details!$H$24:$H$5800,\"Other Unknown Causes\"))","v":""}]
[null,{"$f":"IF(Lists!AI45=\"\",\"\",Lists!AI45)","v":""},{"$f":"IF(Lists!AJ45=\"\",\"\",Lists!AJ45)","v":""},{"$f":"IF(Lists!AK45=\"\",\"\",Lists!AK45)","v":""},null,"","",{"$f":"IF($E67=\"\",\"\",SUMIFS(Limits_Details!$G$24:$G$5800,Limits_Details!$B$24:$B$5800,B67,Limits_Details!$C$24:$C$5800,C67,Limits_Details!$D$24:$D$5800,D67,Limits_Details!$H$24:$H$5800,\"Control Equipment Problems\"))","v":""},{"$f":"IF($E67=\"\",\"\",SUMIFS(Limits_Details!$G$24:$G$5800,Limits_Details!$B$24:$B$5800,B67,Limits_Details!$C$24:$C$5800,C67,Limits_Details!$D$24:$D$5800,D67,Limits_Details!$H$24:$H$5800,\"Process Problems\"))","v":""},{"$f":"IF($E67=\"\",\"\",SUMIFS(Limits_Details!$G$24:$G$5800,Limits_Details!$B$24:$B$5800,B67,Limits_Details!$C$24:$C$5800,C67,Limits_Details!$D$24:$D$5800,D67,Limits_Details!$H$24:$H$5800,\"Other Known Causes\"))","v":""},{"$f":"IF($E67=\"\",\"\",SUMIFS(Limits_Details!$G$24:$G$5800,Limits_Details!$B$24:$B$5800,B67,Limits_Details!$C$24:$C$5800,C67,Limits_Details!$D$24:$D$5800,D67,Limits_Details!$H$24:$H$5800,\"Other Unknown Causes\"))","v":""}]
[null,{"$f":"IF(Lists!AI46=\"\",\"\",Lists!AI46)","v":""},{"$f":"IF(Lists!AJ46=\"\",\"\",Lists!AJ46)","v":""},{"$f":"IF(Lists!AK46=\"\",\"\",Lists!AK46)","v":""},null,"","",{"$f":"IF($E68=\"\",\"\",SUMIFS(Limits_Details!$G$24:$G$5800,Limits_Details!$B$24:$B$5800,B68,Limits_Details!$C$24:$C$5800,C68,Limits_Details!$D$24:$D$5800,D68,Limits_Details!$H$24:$H$5800,\"Control Equipment Problems\"))","v":""},{"$f":"IF($E68=\"\",\"\",SUMIFS(Limits_Details!$G$24:$G$5800,Limits_Details!$B$24:$B$5800,B68,Limits_Details!$C$24:$C$5800,C68,Limits_Details!$D$24:$D$5800,D68,Limits_Details!$H$24:$H$5800,\"Process Problems\"))","v":""},{"$f":"IF($E68=\"\",\"\",SUMIFS(Limits_Details!$G$24:$G$5800,Limits_Details!$B$24:$B$5800,B68,Limits_Details!$C$24:$C$5800,C68,Limits_Details!$D$24:$D$5800,D68,Limits_Details!$H$24:$H$5800,\"Other Known Causes\"))","v":""},{"$f":"IF($E68=\"\",\"\",SUMIFS(Limits_Details!$G$24:$G$5800,Limits_Details!$B$24:$B$5800,B68,Limits_Details!$C$24:$C$5800,C68,Limits_Details!$D$24:$D$5800,D68,Limits_Details!$H$24:$H$5800,\"Other Unknown Causes\"))","v":""}]
[null,{"$f":"IF(Lists!AI47=\"\",\"\",Lists!AI47)","v":""},{"$f":"IF(Lists!AJ47=\"\",\"\",Lists!AJ47)","v":""},{"$f":"IF(Lists!AK47=\"\",\"\",Lists!AK47)","v":""},null,"","",{"$f":"IF($E69=\"\",\"\",SUMIFS(Limits_Details!$G$24:$G$5800,Limits_Details!$B$24:$B$5800,B69,Limits_Details!$C$24:$C$5800,C69,Limits_Details!$D$24:$D$5800,D69,Limits_Details!$H$24:$H$5800,\"Control Equipment Problems\"))","v":""},{"$f":"IF($E69=\"\",\"\",SUMIFS(Limits_Details!$G$24:$G$5800,Limits_Details!$B$24:$B$5800,B69,Limits_Details!$C$24:$C$5800,C69,Limits_Details!$D$24:$D$5800,D69,Limits_Details!$H$24:$H$5800,\"Process Problems\"))","v":""},{"$f":"IF($E69=\"\",\"\",SUMIFS(Limits_Details!$G$24:$G$5800,Limits_Details!$B$24:$B$5800,B69,Limits_Details!$C$24:$C$5800,C69,Limits_Details!$D$24:$D$5800,D69,Limits_Details!$H$24:$H$5800,\"Other Known Causes\"))","v":""},{"$f":"IF($E69=\"\",\"\",SUMIFS(Limits_Details!$G$24:$G$5800,Limits_Details!$B$24:$B$5800,B69,Limits_Details!$C$24:$C$5800,C69,Limits_Details!$D$24:$D$5800,D69,Limits_Details!$H$24:$H$5800,\"Other Unknown Causes\"))","v":""}]
[null,{"$f":"IF(Lists!AI48=\"\",\"\",Lists!AI48)","v":""},{"$f":"IF(Lists!AJ48=\"\",\"\",Lists!AJ48)","v":""},{"$f":"IF(Lists!AK48=\"\",\"\",Lists!AK48)","v":""},null,"","",{"$f":"IF($E70=\"\",\"\",SUMIFS(Limits_Details!$G$24:$G$5800,Limits_Details!$B$24:$B$5800,B70,Limits_Details!$C$24:$C$5800,C70,Limits_Details!$D$24:$D$5800,D70,Limits_Details!$H$24:$H$5800,\"Control Equipment Problems\"))","v":""},{"$f":"IF($E70=\"\",\"\",SUMIFS(Limits_Details!$G$24:$G$5800,Limits_Details!$B$24:$B$5800,B70,Limits_Details!$C$24:$C$5800,C70,Limits_Details!$D$24:$D$5800,D70,Limits_Details!$H$24:$H$5800,\"Process Problems\"))","v":""},{"$f":"IF($E70=\"\",\"\",SUMIFS(Limits_Details!$G$24:$G$5800,Limits_Details!$B$24:$B$5800,B70,Limits_Details!$C$24:$C$5800,C70,Limits_Details!$D$24:$D$5800,D70,Limits_Details!$H$24:$H$5800,\"Other Known Causes\"))","v":""},{"$f":"IF($E70=\"\",\"\",SUMIFS(Limits_Details!$G$24:$G$5800,Limits_Details!$B$24:$B$5800,B70,Limits_Details!$C$24:$C$5800,C70,Limits_Details!$D$24:$D$5800,D70,Limits_Details!$H$24:$H$5800,\"Other Unknown Causes\"))","v":""}]
[null,{"$f":"IF(Lists!AI49=\"\",\"\",Lists!AI49)","v":""},{"$f":"IF(Lists!AJ49=\"\",\"\",Lists!AJ49)","v":""},{"$f":"IF(Lists!AK49=\"\",\"\",Lists!AK49)","v":""},null,"","",{"$f":"IF($E71=\"\",\"\",SUMIFS(Limits_Details!$G$24:$G$5800,Limits_Details!$B$24:$B$5800,B71,Limits_Details!$C$24:$C$5800,C71,Limits_Details!$D$24:$D$5800,D71,Limits_Details!$H$24:$H$5800,\"Control Equipment Problems\"))","v":""},{"$f":"IF($E71=\"\",\"\",SUMIFS(Limits_Details!$G$24:$G$5800,Limits_Details!$B$24:$B$5800,B71,Limits_Details!$C$24:$C$5800,C71,Limits_Details!$D$24:$D$5800,D71,Limits_Details!$H$24:$H$5800,\"Process Problems\"))","v":""},{"$f":"IF($E71=\"\",\"\",SUMIFS(Limits_Details!$G$24:$G$5800,Limits_Details!$B$24:$B$5800,B71,Limits_Details!$C$24:$C$5800,C71,Limits_Details!$D$24:$D$5800,D71,Limits_Details!$H$24:$H$5800,\"Other Known Causes\"))","v":""},{"$f":"IF($E71=\"\",\"\",SUMIFS(Limits_Details!$G$24:$G$5800,Limits_Details!$B$24:$B$5800,B71,Limits_Details!$C$24:$C$5800,C71,Limits_Details!$D$24:$D$5800,D71,Limits_Details!$H$24:$H$5800,\"Other Unknown Causes\"))","v":""}]
[null,{"$f":"IF(Lists!AI50=\"\",\"\",Lists!AI50)","v":""},{"$f":"IF(Lists!AJ50=\"\",\"\",Lists!AJ50)","v":""},{"$f":"IF(Lists!AK50=\"\",\"\",Lists!AK50)","v":""},null,"","",{"$f":"IF($E72=\"\",\"\",SUMIFS(Limits_Details!$G$24:$G$5800,Limits_Details!$B$24:$B$5800,B72,Limits_Details!$C$24:$C$5800,C72,Limits_Details!$D$24:$D$5800,D72,Limits_Details!$H$24:$H$5800,\"Control Equipment Problems\"))","v":""},{"$f":"IF($E72=\"\",\"\",SUMIFS(Limits_Details!$G$24:$G$5800,Limits_Details!$B$24:$B$5800,B72,Limits_Details!$C$24:$C$5800,C72,Limits_Details!$D$24:$D$5800,D72,Limits_Details!$H$24:$H$5800,\"Process Problems\"))","v":""},{"$f":"IF($E72=\"\",\"\",SUMIFS(Limits_Details!$G$24:$G$5800,Limits_Details!$B$24:$B$5800,B72,Limits_Details!$C$24:$C$5800,C72,Limits_Details!$D$24:$D$5800,D72,Limits_Details!$H$24:$H$5800,\"Other Known Causes\"))","v":""},{"$f":"IF($E72=\"\",\"\",SUMIFS(Limits_Details!$G$24:$G$5800,Limits_Details!$B$24:$B$5800,B72,Limits_Details!$C$24:$C$5800,C72,Limits_Details!$D$24:$D$5800,D72,Limits_Details!$H$24:$H$5800,\"Other Unknown Causes\"))","v":""}]
[null,{"$f":"IF(Lists!AI51=\"\",\"\",Lists!AI51)","v":""},{"$f":"IF(Lists!AJ51=\"\",\"\",Lists!AJ51)","v":""},{"$f":"IF(Lists!AK51=\"\",\"\",Lists!AK51)","v":""},null,"","",{"$f":"IF($E73=\"\",\"\",SUMIFS(Limits_Details!$G$24:$G$5800,Limits_Details!$B$24:$B$5800,B73,Limits_Details!$C$24:$C$5800,C73,Limits_Details!$D$24:$D$5800,D73,Limits_Details!$H$24:$H$5800,\"Control Equipment Problems\"))","v":""},{"$f":"IF($E73=\"\",\"\",SUMIFS(Limits_Details!$G$24:$G$5800,Limits_Details!$B$24:$B$5800,B73,Limits_Details!$C$24:$C$5800,C73,Limits_Details!$D$24:$D$5800,D73,Limits_Details!$H$24:$H$5800,\"Process Problems\"))","v":""},{"$f":"IF($E73=\"\",\"\",SUMIFS(Limits_Details!$G$24:$G$5800,Limits_Details!$B$24:$B$5800,B73,Limits_Details!$C$24:$C$5800,C73,Limits_Details!$D$24:$D$5800,D73,Limits_Details!$H$24:$H$5800,\"Other Known Causes\"))","v":""},{"$f":"IF($E73=\"\",\"\",SUMIFS(Limits_Details!$G$24:$G$5800,Limits_Details!$B$24:$B$5800,B73,Limits_Details!$C$24:$C$5800,C73,Limits_Details!$D$24:$D$5800,D73,Limits_Details!$H$24:$H$5800,\"Other Unknown Causes\"))","v":""}]
[null,{"$f":"IF(Lists!AI52=\"\",\"\",Lists!AI52)","v":""},{"$f":"IF(Lists!AJ52=\"\",\"\",Lists!AJ52)","v":""},{"$f":"IF(Lists!AK52=\"\",\"\",Lists!AK52)","v":""},null,"","",{"$f":"IF($E74=\"\",\"\",SUMIFS(Limits_Details!$G$24:$G$5800,Limits_Details!$B$24:$B$5800,B74,Limits_Details!$C$24:$C$5800,C74,Limits_Details!$D$24:$D$5800,D74,Limits_Details!$H$24:$H$5800,\"Control Equipment Problems\"))","v":""},{"$f":"IF($E74=\"\",\"\",SUMIFS(Limits_Details!$G$24:$G$5800,Limits_Details!$B$24:$B$5800,B74,Limits_Details!$C$24:$C$5800,C74,Limits_Details!$D$24:$D$5800,D74,Limits_Details!$H$24:$H$5800,\"Process Problems\"))","v":""},{"$f":"IF($E74=\"\",\"\",SUMIFS(Limits_Details!$G$24:$G$5800,Limits_Details!$B$24:$B$5800,B74,Limits_Details!$C$24:$C$5800,C74,Limits_Details!$D$24:$D$5800,D74,Limits_Details!$H$24:$H$5800,\"Other Known Causes\"))","v":""},{"$f":"IF($E74=\"\",\"\",SUMIFS(Limits_Details!$G$24:$G$5800,Limits_Details!$B$24:$B$5800,B74,Limits_Details!$C$24:$C$5800,C74,Limits_Details!$D$24:$D$5800,D74,Limits_Details!$H$24:$H$5800,\"Other Unknown Causes\"))","v":""}]
[null,{"$f":"IF(Lists!AI53=\"\",\"\",Lists!AI53)","v":""},{"$f":"IF(Lists!AJ53=\"\",\"\",Lists!AJ53)","v":""},{"$f":"IF(Lists!AK53=\"\",\"\",Lists!AK53)","v":""},null,"","",{"$f":"IF($E75=\"\",\"\",SUMIFS(Limits_Details!$G$24:$G$5800,Limits_Details!$B$24:$B$5800,B75,Limits_Details!$C$24:$C$5800,C75,Limits_Details!$D$24:$D$5800,D75,Limits_Details!$H$24:$H$5800,\"Control Equipment Problems\"))","v":""},{"$f":"IF($E75=\"\",\"\",SUMIFS(Limits_Details!$G$24:$G$5800,Limits_Details!$B$24:$B$5800,B75,Limits_Details!$C$24:$C$5800,C75,Limits_Details!$D$24:$D$5800,D75,Limits_Details!$H$24:$H$5800,\"Process Problems\"))","v":""},{"$f":"IF($E75=\"\",\"\",SUMIFS(Limits_Details!$G$24:$G$5800,Limits_Details!$B$24:$B$5800,B75,Limits_Details!$C$24:$C$5800,C75,Limits_Details!$D$24:$D$5800,D75,Limits_Details!$H$24:$H$5800,\"Other Known Causes\"))","v":""},{"$f":"IF($E75=\"\",\"\",SUMIFS(Limits_Details!$G$24:$G$5800,Limits_Details!$B$24:$B$5800,B75,Limits_Details!$C$24:$C$5800,C75,Limits_Details!$D$24:$D$5800,D75,Limits_Details!$H$24:$H$5800,\"Other Unknown Causes\"))","v":""}]
[null,{"$f":"IF(Lists!AI54=\"\",\"\",Lists!AI54)","v":""},{"$f":"IF(Lists!AJ54=\"\",\"\",Lists!AJ54)","v":""},{"$f":"IF(Lists!AK54=\"\",\"\",Lists!AK54)","v":""},null,"","",{"$f":"IF($E76=\"\",\"\",SUMIFS(Limits_Details!$G$24:$G$5800,Limits_Details!$B$24:$B$5800,B76,Limits_Details!$C$24:$C$5800,C76,Limits_Details!$D$24:$D$5800,D76,Limits_Details!$H$24:$H$5800,\"Control Equipment Problems\"))","v":""},{"$f":"IF($E76=\"\",\"\",SUMIFS(Limits_Details!$G$24:$G$5800,Limits_Details!$B$24:$B$5800,B76,Limits_Details!$C$24:$C$5800,C76,Limits_Details!$D$24:$D$5800,D76,Limits_Details!$H$24:$H$5800,\"Process Problems\"))","v":""},{"$f":"IF($E76=\"\",\"\",SUMIFS(Limits_Details!$G$24:$G$5800,Limits_Details!$B$24:$B$5800,B76,Limits_Details!$C$24:$C$5800,C76,Limits_Details!$D$24:$D$5800,D76,Limits_Details!$H$24:$H$5800,\"Other Known Causes\"))","v":""},{"$f":"IF($E76=\"\",\"\",SUMIFS(Limits_Details!$G$24:$G$5800,Limits_Details!$B$24:$B$5800,B76,Limits_Details!$C$24:$C$5800,C76,Limits_Details!$D$24:$D$5800,D76,Limits_Details!$H$24:$H$5800,\"Other Unknown Causes\"))","v":""}]
[null,{"$f":"IF(Lists!AI55=\"\",\"\",Lists!AI55)","v":""},{"$f":"IF(Lists!AJ55=\"\",\"\",Lists!AJ55)","v":""},{"$f":"IF(Lists!AK55=\"\",\"\",Lists!AK55)","v":""},null,"","",{"$f":"IF($E77=\"\",\"\",SUMIFS(Limits_Details!$G$24:$G$5800,Limits_Details!$B$24:$B$5800,B77,Limits_Details!$C$24:$C$5800,C77,Limits_Details!$D$24:$D$5800,D77,Limits_Details!$H$24:$H$5800,\"Control Equipment Problems\"))","v":""},{"$f":"IF($E77=\"\",\"\",SUMIFS(Limits_Details!$G$24:$G$5800,Limits_Details!$B$24:$B$5800,B77,Limits_Details!$C$24:$C$5800,C77,Limits_Details!$D$24:$D$5800,D77,Limits_Details!$H$24:$H$5800,\"Process Problems\"))","v":""},{"$f":"IF($E77=\"\",\"\",SUMIFS(Limits_Details!$G$24:$G$5800,Limits_Details!$B$24:$B$5800,B77,Limits_Details!$C$24:$C$5800,C77,Limits_Details!$D$24:$D$5800,D77,Limits_Details!$H$24:$H$5800,\"Other Known Causes\"))","v":""},{"$f":"IF($E77=\"\",\"\",SUMIFS(Limits_Details!$G$24:$G$5800,Limits_Details!$B$24:$B$5800,B77,Limits_Details!$C$24:$C$5800,C77,Limits_Details!$D$24:$D$5800,D77,Limits_Details!$H$24:$H$5800,\"Other Unknown Causes\"))","v":""}]
[null,{"$f":"IF(Lists!AI56=\"\",\"\",Lists!AI56)","v":""},{"$f":"IF(Lists!AJ56=\"\",\"\",Lists!AJ56)","v":""},{"$f":"IF(Lists!AK56=\"\",\"\",Lists!AK56)","v":""},null,"","",{"$f":"IF($E78=\"\",\"\",SUMIFS(Limits_Details!$G$24:$G$5800,Limits_Details!$B$24:$B$5800,B78,Limits_Details!$C$24:$C$5800,C78,Limits_Details!$D$24:$D$5800,D78,Limits_Details!$H$24:$H$5800,\"Control Equipment Problems\"))","v":""},{"$f":"IF($E78=\"\",\"\",SUMIFS(Limits_Details!$G$24:$G$5800,Limits_Details!$B$24:$B$5800,B78,Limits_Details!$C$24:$C$5800,C78,Limits_Details!$D$24:$D$5800,D78,Limits_Details!$H$24:$H$5800,\"Process Problems\"))","v":""},{"$f":"IF($E78=\"\",\"\",SUMIFS(Limits_Details!$G$24:$G$5800,Limits_Details!$B$24:$B$5800,B78,Limits_Details!$C$24:$C$5800,C78,Limits_Details!$D$24:$D$5800,D78,Limits_Details!$H$24:$H$5800,\"Other Known Causes\"))","v":""},{"$f":"IF($E78=\"\",\"\",SUMIFS(Limits_Details!$G$24:$G$5800,Limits_Details!$B$24:$B$5800,B78,Limits_Details!$C$24:$C$5800,C78,Limits_Details!$D$24:$D$5800,D78,Limits_Details!$H$24:$H$5800,\"Other Unknown Causes\"))","v":""}]
[null,{"$f":"IF(Lists!AI57=\"\",\"\",Lists!AI57)","v":""},{"$f":"IF(Lists!AJ57=\"\",\"\",Lists!AJ57)","v":""},{"$f":"IF(Lists!AK57=\"\",\"\",Lists!AK57)","v":""},null,"","",{"$f":"IF($E79=\"\",\"\",SUMIFS(Limits_Details!$G$24:$G$5800,Limits_Details!$B$24:$B$5800,B79,Limits_Details!$C$24:$C$5800,C79,Limits_Details!$D$24:$D$5800,D79,Limits_Details!$H$24:$H$5800,\"Control Equipment Problems\"))","v":""},{"$f":"IF($E79=\"\",\"\",SUMIFS(Limits_Details!$G$24:$G$5800,Limits_Details!$B$24:$B$5800,B79,Limits_Details!$C$24:$C$5800,C79,Limits_Details!$D$24:$D$5800,D79,Limits_Details!$H$24:$H$5800,\"Process Problems\"))","v":""},{"$f":"IF($E79=\"\",\"\",SUMIFS(Limits_Details!$G$24:$G$5800,Limits_Details!$B$24:$B$5800,B79,Limits_Details!$C$24:$C$5800,C79,Limits_Details!$D$24:$D$5800,D79,Limits_Details!$H$24:$H$5800,\"Other Known Causes\"))","v":""},{"$f":"IF($E79=\"\",\"\",SUMIFS(Limits_Details!$G$24:$G$5800,Limits_Details!$B$24:$B$5800,B79,Limits_Details!$C$24:$C$5800,C79,Limits_Details!$D$24:$D$5800,D79,Limits_Details!$H$24:$H$5800,\"Other Unknown Causes\"))","v":""}]
[null,{"$f":"IF(Lists!AI58=\"\",\"\",Lists!AI58)","v":""},{"$f":"IF(Lists!AJ58=\"\",\"\",Lists!AJ58)","v":""},{"$f":"IF(Lists!AK58=\"\",\"\",Lists!AK58)","v":""},null,"","",{"$f":"IF($E80=\"\",\"\",SUMIFS(Limits_Details!$G$24:$G$5800,Limits_Details!$B$24:$B$5800,B80,Limits_Details!$C$24:$C$5800,C80,Limits_Details!$D$24:$D$5800,D80,Limits_Details!$H$24:$H$5800,\"Control Equipment Problems\"))","v":""},{"$f":"IF($E80=\"\",\"\",SUMIFS(Limits_Details!$G$24:$G$5800,Limits_Details!$B$24:$B$5800,B80,Limits_Details!$C$24:$C$5800,C80,Limits_Details!$D$24:$D$5800,D80,Limits_Details!$H$24:$H$5800,\"Process Problems\"))","v":""},{"$f":"IF($E80=\"\",\"\",SUMIFS(Limits_Details!$G$24:$G$5800,Limits_Details!$B$24:$B$5800,B80,Limits_Details!$C$24:$C$5800,C80,Limits_Details!$D$24:$D$5800,D80,Limits_Details!$H$24:$H$5800,\"Other Known Causes\"))","v":""},{"$f":"IF($E80=\"\",\"\",SUMIFS(Limits_Details!$G$24:$G$5800,Limits_Details!$B$24:$B$5800,B80,Limits_Details!$C$24:$C$5800,C80,Limits_Details!$D$24:$D$5800,D80,Limits_Details!$H$24:$H$5800,\"Other Unknown Causes\"))","v":""}]
[null,{"$f":"IF(Lists!AI59=\"\",\"\",Lists!AI59)","v":""},{"$f":"IF(Lists!AJ59=\"\",\"\",Lists!AJ59)","v":""},{"$f":"IF(Lists!AK59=\"\",\"\",Lists!AK59)","v":""},null,"","",{"$f":"IF($E81=\"\",\"\",SUMIFS(Limits_Details!$G$24:$G$5800,Limits_Details!$B$24:$B$5800,B81,Limits_Details!$C$24:$C$5800,C81,Limits_Details!$D$24:$D$5800,D81,Limits_Details!$H$24:$H$5800,\"Control Equipment Problems\"))","v":""},{"$f":"IF($E81=\"\",\"\",SUMIFS(Limits_Details!$G$24:$G$5800,Limits_Details!$B$24:$B$5800,B81,Limits_Details!$C$24:$C$5800,C81,Limits_Details!$D$24:$D$5800,D81,Limits_Details!$H$24:$H$5800,\"Process Problems\"))","v":""},{"$f":"IF($E81=\"\",\"\",SUMIFS(Limits_Details!$G$24:$G$5800,Limits_Details!$B$24:$B$5800,B81,Limits_Details!$C$24:$C$5800,C81,Limits_Details!$D$24:$D$5800,D81,Limits_Details!$H$24:$H$5800,\"Other Known Causes\"))","v":""},{"$f":"IF($E81=\"\",\"\",SUMIFS(Limits_Details!$G$24:$G$5800,Limits_Details!$B$24:$B$5800,B81,Limits_Details!$C$24:$C$5800,C81,Limits_Details!$D$24:$D$5800,D81,Limits_Details!$H$24:$H$5800,\"Other Unknown Causes\"))","v":""}]
[null,{"$f":"IF(Lists!AI60=\"\",\"\",Lists!AI60)","v":""},{"$f":"IF(Lists!AJ60=\"\",\"\",Lists!AJ60)","v":""},{"$f":"IF(Lists!AK60=\"\",\"\",Lists!AK60)","v":""},null,"","",{"$f":"IF($E82=\"\",\"\",SUMIFS(Limits_Details!$G$24:$G$5800,Limits_Details!$B$24:$B$5800,B82,Limits_Details!$C$24:$C$5800,C82,Limits_Details!$D$24:$D$5800,D82,Limits_Details!$H$24:$H$5800,\"Control Equipment Problems\"))","v":""},{"$f":"IF($E82=\"\",\"\",SUMIFS(Limits_Details!$G$24:$G$5800,Limits_Details!$B$24:$B$5800,B82,Limits_Details!$C$24:$C$5800,C82,Limits_Details!$D$24:$D$5800,D82,Limits_Details!$H$24:$H$5800,\"Process Problems\"))","v":""},{"$f":"IF($E82=\"\",\"\",SUMIFS(Limits_Details!$G$24:$G$5800,Limits_Details!$B$24:$B$5800,B82,Limits_Details!$C$24:$C$5800,C82,Limits_Details!$D$24:$D$5800,D82,Limits_Details!$H$24:$H$5800,\"Other Known Causes\"))","v":""},{"$f":"IF($E82=\"\",\"\",SUMIFS(Limits_Details!$G$24:$G$5800,Limits_Details!$B$24:$B$5800,B82,Limits_Details!$C$24:$C$5800,C82,Limits_Details!$D$24:$D$5800,D82,Limits_Details!$H$24:$H$5800,\"Other Unknown Causes\"))","v":""}]
[null,{"$f":"IF(Lists!AI61=\"\",\"\",Lists!AI61)","v":""},{"$f":"IF(Lists!AJ61=\"\",\"\",Lists!AJ61)","v":""},{"$f":"IF(Lists!AK61=\"\",\"\",Lists!AK61)","v":""},null,"","",{"$f":"IF($E83=\"\",\"\",SUMIFS(Limits_Details!$G$24:$G$5800,Limits_Details!$B$24:$B$5800,B83,Limits_Details!$C$24:$C$5800,C83,Limits_Details!$D$24:$D$5800,D83,Limits_Details!$H$24:$H$5800,\"Control Equipment Problems\"))","v":""},{"$f":"IF($E83=\"\",\"\",SUMIFS(Limits_Details!$G$24:$G$5800,Limits_Details!$B$24:$B$5800,B83,Limits_Details!$C$24:$C$5800,C83,Limits_Details!$D$24:$D$5800,D83,Limits_Details!$H$24:$H$5800,\"Process Problems\"))","v":""},{"$f":"IF($E83=\"\",\"\",SUMIFS(Limits_Details!$G$24:$G$5800,Limits_Details!$B$24:$B$5800,B83,Limits_Details!$C$24:$C$5800,C83,Limits_Details!$D$24:$D$5800,D83,Limits_Details!$H$24:$H$5800,\"Other Known Causes\"))","v":""},{"$f":"IF($E83=\"\",\"\",SUMIFS(Limits_Details!$G$24:$G$5800,Limits_Details!$B$24:$B$5800,B83,Limits_Details!$C$24:$C$5800,C83,Limits_Details!$D$24:$D$5800,D83,Limits_Details!$H$24:$H$5800,\"Other Unknown Causes\"))","v":""}]
[null,{"$f":"IF(Lists!AI62=\"\",\"\",Lists!AI62)","v":""},{"$f":"IF(Lists!AJ62=\"\",\"\",Lists!AJ62)","v":""},{"$f":"IF(Lists!AK62=\"\",\"\",Lists!AK62)","v":""},null,"","",{"$f":"IF($E84=\"\",\"\",SUMIFS(Limits_Details!$G$24:$G$5800,Limits_Details!$B$24:$B$5800,B84,Limits_Details!$C$24:$C$5800,C84,Limits_Details!$D$24:$D$5800,D84,Limits_Details!$H$24:$H$5800,\"Control Equipment Problems\"))","v":""},{"$f":"IF($E84=\"\",\"\",SUMIFS(Limits_Details!$G$24:$G$5800,Limits_Details!$B$24:$B$5800,B84,Limits_Details!$C$24:$C$5800,C84,Limits_Details!$D$24:$D$5800,D84,Limits_Details!$H$24:$H$5800,\"Process Problems\"))","v":""},{"$f":"IF($E84=\"\",\"\",SUMIFS(Limits_Details!$G$24:$G$5800,Limits_Details!$B$24:$B$5800,B84,Limits_Details!$C$24:$C$5800,C84,Limits_Details!$D$24:$D$5800,D84,Limits_Details!$H$24:$H$5800,\"Other Known Causes\"))","v":""},{"$f":"IF($E84=\"\",\"\",SUMIFS(Limits_Details!$G$24:$G$5800,Limits_Details!$B$24:$B$5800,B84,Limits_Details!$C$24:$C$5800,C84,Limits_Details!$D$24:$D$5800,D84,Limits_Details!$H$24:$H$5800,\"Other Unknown Causes\"))","v":""}]
[null,{"$f":"IF(Lists!AI63=\"\",\"\",Lists!AI63)","v":""},{"$f":"IF(Lists!AJ63=\"\",\"\",Lists!AJ63)","v":""},{"$f":"IF(Lists!AK63=\"\",\"\",Lists!AK63)","v":""},null,"","",{"$f":"IF($E85=\"\",\"\",SUMIFS(Limits_Details!$G$24:$G$5800,Limits_Details!$B$24:$B$5800,B85,Limits_Details!$C$24:$C$5800,C85,Limits_Details!$D$24:$D$5800,D85,Limits_Details!$H$24:$H$5800,\"Control Equipment Problems\"))","v":""},{"$f":"IF($E85=\"\",\"\",SUMIFS(Limits_Details!$G$24:$G$5800,Limits_Details!$B$24:$B$5800,B85,Limits_Details!$C$24:$C$5800,C85,Limits_Details!$D$24:$D$5800,D85,Limits_Details!$H$24:$H$5800,\"Process Problems\"))","v":""},{"$f":"IF($E85=\"\",\"\",SUMIFS(Limits_Details!$G$24:$G$5800,Limits_Details!$B$24:$B$5800,B85,Limits_Details!$C$24:$C$5800,C85,Limits_Details!$D$24:$D$5800,D85,Limits_Details!$H$24:$H$5800,\"Other Known Causes\"))","v":""},{"$f":"IF($E85=\"\",\"\",SUMIFS(Limits_Details!$G$24:$G$5800,Limits_Details!$B$24:$B$5800,B85,Limits_Details!$C$24:$C$5800,C85,Limits_Details!$D$24:$D$5800,D85,Limits_Details!$H$24:$H$5800,\"Other Unknown Causes\"))","v":""}]
[null,{"$f":"IF(Lists!AI64=\"\",\"\",Lists!AI64)","v":""},{"$f":"IF(Lists!AJ64=\"\",\"\",Lists!AJ64)","v":""},{"$f":"IF(Lists!AK64=\"\",\"\",Lists!AK64)","v":""},null,"","",{"$f":"IF($E86=\"\",\"\",SUMIFS(Limits_Details!$G$24:$G$5800,Limits_Details!$B$24:$B$5800,B86,Limits_Details!$C$24:$C$5800,C86,Limits_Details!$D$24:$D$5800,D86,Limits_Details!$H$24:$H$5800,\"Control Equipment Problems\"))","v":""},{"$f":"IF($E86=\"\",\"\",SUMIFS(Limits_Details!$G$24:$G$5800,Limits_Details!$B$24:$B$5800,B86,Limits_Details!$C$24:$C$5800,C86,Limits_Details!$D$24:$D$5800,D86,Limits_Details!$H$24:$H$5800,\"Process Problems\"))","v":""},{"$f":"IF($E86=\"\",\"\",SUMIFS(Limits_Details!$G$24:$G$5800,Limits_Details!$B$24:$B$5800,B86,Limits_Details!$C$24:$C$5800,C86,Limits_Details!$D$24:$D$5800,D86,Limits_Details!$H$24:$H$5800,\"Other Known Causes\"))","v":""},{"$f":"IF($E86=\"\",\"\",SUMIFS(Limits_Details!$G$24:$G$5800,Limits_Details!$B$24:$B$5800,B86,Limits_Details!$C$24:$C$5800,C86,Limits_Details!$D$24:$D$5800,D86,Limits_Details!$H$24:$H$5800,\"Other Unknown Causes\"))","v":""}]
[null,{"$f":"IF(Lists!AI65=\"\",\"\",Lists!AI65)","v":""},{"$f":"IF(Lists!AJ65=\"\",\"\",Lists!AJ65)","v":""},{"$f":"IF(Lists!AK65=\"\",\"\",Lists!AK65)","v":""},null,"","",{"$f":"IF($E87=\"\",\"\",SUMIFS(Limits_Details!$G$24:$G$5800,Limits_Details!$B$24:$B$5800,B87,Limits_Details!$C$24:$C$5800,C87,Limits_Details!$D$24:$D$5800,D87,Limits_Details!$H$24:$H$5800,\"Control Equipment Problems\"))","v":""},{"$f":"IF($E87=\"\",\"\",SUMIFS(Limits_Details!$G$24:$G$5800,Limits_Details!$B$24:$B$5800,B87,Limits_Details!$C$24:$C$5800,C87,Limits_Details!$D$24:$D$5800,D87,Limits_Details!$H$24:$H$5800,\"Process Problems\"))","v":""},{"$f":"IF($E87=\"\",\"\",SUMIFS(Limits_Details!$G$24:$G$5800,Limits_Details!$B$24:$B$5800,B87,Limits_Details!$C$24:$C$5800,C87,Limits_Details!$D$24:$D$5800,D87,Limits_Details!$H$24:$H$5800,\"Other Known Causes\"))","v":""},{"$f":"IF($E87=\"\",\"\",SUMIFS(Limits_Details!$G$24:$G$5800,Limits_Details!$B$24:$B$5800,B87,Limits_Details!$C$24:$C$5800,C87,Limits_Details!$D$24:$D$5800,D87,Limits_Details!$H$24:$H$5800,\"Other Unknown Causes\"))","v":""}]
[null,{"$f":"IF(Lists!AI66=\"\",\"\",Lists!AI66)","v":""},{"$f":"IF(Lists!AJ66=\"\",\"\",Lists!AJ66)","v":""},{"$f":"IF(Lists!AK66=\"\",\"\",Lists!AK66)","v":""},null,"","",{"$f":"IF($E88=\"\",\"\",SUMIFS(Limits_Details!$G$24:$G$5800,Limits_Details!$B$24:$B$5800,B88,Limits_Details!$C$24:$C$5800,C88,Limits_Details!$D$24:$D$5800,D88,Limits_Details!$H$24:$H$5800,\"Control Equipment Problems\"))","v":""},{"$f":"IF($E88=\"\",\"\",SUMIFS(Limits_Details!$G$24:$G$5800,Limits_Details!$B$24:$B$5800,B88,Limits_Details!$C$24:$C$5800,C88,Limits_Details!$D$24:$D$5800,D88,Limits_Details!$H$24:$H$5800,\"Process Problems\"))","v":""},{"$f":"IF($E88=\"\",\"\",SUMIFS(Limits_Details!$G$24:$G$5800,Limits_Details!$B$24:$B$5800,B88,Limits_Details!$C$24:$C$5800,C88,Limits_Details!$D$24:$D$5800,D88,Limits_Details!$H$24:$H$5800,\"Other Known Causes\"))","v":""},{"$f":"IF($E88=\"\",\"\",SUMIFS(Limits_Details!$G$24:$G$5800,Limits_Details!$B$24:$B$5800,B88,Limits_Details!$C$24:$C$5800,C88,Limits_Details!$D$24:$D$5800,D88,Limits_Details!$H$24:$H$5800,\"Other Unknown Causes\"))","v":""}]
[null,{"$f":"IF(Lists!AI67=\"\",\"\",Lists!AI67)","v":""},{"$f":"IF(Lists!AJ67=\"\",\"\",Lists!AJ67)","v":""},{"$f":"IF(Lists!AK67=\"\",\"\",Lists!AK67)","v":""},null,{"$f":"IF(E89=\"\",\"\",SUM(H89:K89))","v":""},{"$f":"IF($E89=\"\",\"\",IF(F89=0,\"N/A\",IF(D89=\"Opacity\", F89/60,F89)/$E89))","v":""},{"$f":"IF($E89=\"\",\"\",SUMIFS(Limits_Details!$G$24:$G$5800,Limits_Details!$B$24:$B$5800,B89,Limits_Details!$C$24:$C$5800,C89,Limits_Details!$D$24:$D$5800,D89,Limits_Details!$H$24:$H$5800,\"Control Equipment Problems\"))","v":""},{"$f":"IF($E89=\"\",\"\",SUMIFS(Limits_Details!$G$24:$G$5800,Limits_Details!$B$24:$B$5800,B89,Limits_Details!$C$24:$C$5800,C89,Limits_Details!$D$24:$D$5800,D89,Limits_Details!$H$24:$H$5800,\"Process Problems\"))","v":""},{"$f":"IF($E89=\"\",\"\",SUMIFS(Limits_Details!$G$24:$G$5800,Limits_Details!$B$24:$B$5800,B89,Limits_Details!$C$24:$C$5800,C89,Limits_Details!$D$24:$D$5800,D89,Limits_Details!$H$24:$H$5800,\"Other Known Causes\"))","v":""},{"$f":"IF($E89=\"\",\"\",SUMIFS(Limits_Details!$G$24:$G$5800,Limits_Details!$B$24:$B$5800,B89,Limits_Details!$C$24:$C$5800,C89,Limits_Details!$D$24:$D$5800,D89,Limits_Details!$H$24:$H$5800,\"Other Unknown Causes\"))","v":""}]
[null,{"$f":"IF(Lists!AI68=\"\",\"\",Lists!AI68)","v":""},{"$f":"IF(Lists!AJ68=\"\",\"\",Lists!AJ68)","v":""},{"$f":"IF(Lists!AK68=\"\",\"\",Lists!AK68)","v":""},null,"","",{"$f":"IF($E90=\"\",\"\",SUMIFS(Limits_Details!$G$24:$G$5800,Limits_Details!$B$24:$B$5800,B90,Limits_Details!$C$24:$C$5800,C90,Limits_Details!$D$24:$D$5800,D90,Limits_Details!$H$24:$H$5800,\"Control Equipment Problems\"))","v":""},{"$f":"IF($E90=\"\",\"\",SUMIFS(Limits_Details!$G$24:$G$5800,Limits_Details!$B$24:$B$5800,B90,Limits_Details!$C$24:$C$5800,C90,Limits_Details!$D$24:$D$5800,D90,Limits_Details!$H$24:$H$5800,\"Process Problems\"))","v":""},{"$f":"IF($E90=\"\",\"\",SUMIFS(Limits_Details!$G$24:$G$5800,Limits_Details!$B$24:$B$5800,B90,Limits_Details!$C$24:$C$5800,C90,Limits_Details!$D$24:$D$5800,D90,Limits_Details!$H$24:$H$5800,\"Other Known Causes\"))","v":""},{"$f":"IF($E90=\"\",\"\",SUMIFS(Limits_Details!$G$24:$G$5800,Limits_Details!$B$24:$B$5800,B90,Limits_Details!$C$24:$C$5800,C90,Limits_Details!$D$24:$D$5800,D90,Limits_Details!$H$24:$H$5800,\"Other Unknown Causes\"))","v":""}]
[null,{"$f":"IF(Lists!AI69=\"\",\"\",Lists!AI69)","v":""},{"$f":"IF(Lists!AJ69=\"\",\"\",Lists!AJ69)","v":""},{"$f":"IF(Lists!AK69=\"\",\"\",Lists!AK69)","v":""},null,"","",{"$f":"IF($E91=\"\",\"\",SUMIFS(Limits_Details!$G$24:$G$5800,Limits_Details!$B$24:$B$5800,B91,Limits_Details!$C$24:$C$5800,C91,Limits_Details!$D$24:$D$5800,D91,Limits_Details!$H$24:$H$5800,\"Control Equipment Problems\"))","v":""},{"$f":"IF($E91=\"\",\"\",SUMIFS(Limits_Details!$G$24:$G$5800,Limits_Details!$B$24:$B$5800,B91,Limits_Details!$C$24:$C$5800,C91,Limits_Details!$D$24:$D$5800,D91,Limits_Details!$H$24:$H$5800,\"Process Problems\"))","v":""},{"$f":"IF($E91=\"\",\"\",SUMIFS(Limits_Details!$G$24:$G$5800,Limits_Details!$B$24:$B$5800,B91,Limits_Details!$C$24:$C$5800,C91,Limits_Details!$D$24:$D$5800,D91,Limits_Details!$H$24:$H$5800,\"Other Known Causes\"))","v":""},{"$f":"IF($E91=\"\",\"\",SUMIFS(Limits_Details!$G$24:$G$5800,Limits_Details!$B$24:$B$5800,B91,Limits_Details!$C$24:$C$5800,C91,Limits_Details!$D$24:$D$5800,D91,Limits_Details!$H$24:$H$5800,\"Other Unknown Causes\"))","v":""}]
[null,{"$f":"IF(Lists!AI70=\"\",\"\",Lists!AI70)","v":""},{"$f":"IF(Lists!AJ70=\"\",\"\",Lists!AJ70)","v":""},{"$f":"IF(Lists!AK70=\"\",\"\",Lists!AK70)","v":""},null,"","",{"$f":"IF($E92=\"\",\"\",SUMIFS(Limits_Details!$G$24:$G$5800,Limits_Details!$B$24:$B$5800,B92,Limits_Details!$C$24:$C$5800,C92,Limits_Details!$D$24:$D$5800,D92,Limits_Details!$H$24:$H$5800,\"Control Equipment Problems\"))","v":""},{"$f":"IF($E92=\"\",\"\",SUMIFS(Limits_Details!$G$24:$G$5800,Limits_Details!$B$24:$B$5800,B92,Limits_Details!$C$24:$C$5800,C92,Limits_Details!$D$24:$D$5800,D92,Limits_Details!$H$24:$H$5800,\"Process Problems\"))","v":""},{"$f":"IF($E92=\"\",\"\",SUMIFS(Limits_Details!$G$24:$G$5800,Limits_Details!$B$24:$B$5800,B92,Limits_Details!$C$24:$C$5800,C92,Limits_Details!$D$24:$D$5800,D92,Limits_Details!$H$24:$H$5800,\"Other Known Causes\"))","v":""},{"$f":"IF($E92=\"\",\"\",SUMIFS(Limits_Details!$G$24:$G$5800,Limits_Details!$B$24:$B$5800,B92,Limits_Details!$C$24:$C$5800,C92,Limits_Details!$D$24:$D$5800,D92,Limits_Details!$H$24:$H$5800,\"Other Unknown Causes\"))","v":""}]
[null,{"$f":"IF(Lists!AI71=\"\",\"\",Lists!AI71)","v":""},{"$f":"IF(Lists!AJ71=\"\",\"\",Lists!AJ71)","v":""},{"$f":"IF(Lists!AK71=\"\",\"\",Lists!AK71)","v":""},null,"","",{"$f":"IF($E93=\"\",\"\",SUMIFS(Limits_Details!$G$24:$G$5800,Limits_Details!$B$24:$B$5800,B93,Limits_Details!$C$24:$C$5800,C93,Limits_Details!$D$24:$D$5800,D93,Limits_Details!$H$24:$H$5800,\"Control Equipment Problems\"))","v":""},{"$f":"IF($E93=\"\",\"\",SUMIFS(Limits_Details!$G$24:$G$5800,Limits_Details!$B$24:$B$5800,B93,Limits_Details!$C$24:$C$5800,C93,Limits_Details!$D$24:$D$5800,D93,Limits_Details!$H$24:$H$5800,\"Process Problems\"))","v":""},{"$f":"IF($E93=\"\",\"\",SUMIFS(Limits_Details!$G$24:$G$5800,Limits_Details!$B$24:$B$5800,B93,Limits_Details!$C$24:$C$5800,C93,Limits_Details!$D$24:$D$5800,D93,Limits_Details!$H$24:$H$5800,\"Other Known Causes\"))","v":""},{"$f":"IF($E93=\"\",\"\",SUMIFS(Limits_Details!$G$24:$G$5800,Limits_Details!$B$24:$B$5800,B93,Limits_Details!$C$24:$C$5800,C93,Limits_Details!$D$24:$D$5800,D93,Limits_Details!$H$24:$H$5800,\"Other Unknown Causes\"))","v":""}]
[null,{"$f":"IF(Lists!AI72=\"\",\"\",Lists!AI72)","v":""},{"$f":"IF(Lists!AJ72=\"\",\"\",Lists!AJ72)","v":""},{"$f":"IF(Lists!AK72=\"\",\"\",Lists!AK72)","v":""},null,"","",{"$f":"IF($E94=\"\",\"\",SUMIFS(Limits_Details!$G$24:$G$5800,Limits_Details!$B$24:$B$5800,B94,Limits_Details!$C$24:$C$5800,C94,Limits_Details!$D$24:$D$5800,D94,Limits_Details!$H$24:$H$5800,\"Control Equipment Problems\"))","v":""},{"$f":"IF($E94=\"\",\"\",SUMIFS(Limits_Details!$G$24:$G$5800,Limits_Details!$B$24:$B$5800,B94,Limits_Details!$C$24:$C$5800,C94,Limits_Details!$D$24:$D$5800,D94,Limits_Details!$H$24:$H$5800,\"Process Problems\"))","v":""},{"$f":"IF($E94=\"\",\"\",SUMIFS(Limits_Details!$G$24:$G$5800,Limits_Details!$B$24:$B$5800,B94,Limits_Details!$C$24:$C$5800,C94,Limits_Details!$D$24:$D$5800,D94,Limits_Details!$H$24:$H$5800,\"Other Known Causes\"))","v":""},{"$f":"IF($E94=\"\",\"\",SUMIFS(Limits_Details!$G$24:$G$5800,Limits_Details!$B$24:$B$5800,B94,Limits_Details!$C$24:$C$5800,C94,Limits_Details!$D$24:$D$5800,D94,Limits_Details!$H$24:$H$5800,\"Other Unknown Causes\"))","v":""}]
[null,{"$f":"IF(Lists!AI73=\"\",\"\",Lists!AI73)","v":""},{"$f":"IF(Lists!AJ73=\"\",\"\",Lists!AJ73)","v":""},{"$f":"IF(Lists!AK73=\"\",\"\",Lists!AK73)","v":""},null,"","",{"$f":"IF($E95=\"\",\"\",SUMIFS(Limits_Details!$G$24:$G$5800,Limits_Details!$B$24:$B$5800,B95,Limits_Details!$C$24:$C$5800,C95,Limits_Details!$D$24:$D$5800,D95,Limits_Details!$H$24:$H$5800,\"Control Equipment Problems\"))","v":""},{"$f":"IF($E95=\"\",\"\",SUMIFS(Limits_Details!$G$24:$G$5800,Limits_Details!$B$24:$B$5800,B95,Limits_Details!$C$24:$C$5800,C95,Limits_Details!$D$24:$D$5800,D95,Limits_Details!$H$24:$H$5800,\"Process Problems\"))","v":""},{"$f":"IF($E95=\"\",\"\",SUMIFS(Limits_Details!$G$24:$G$5800,Limits_Details!$B$24:$B$5800,B95,Limits_Details!$C$24:$C$5800,C95,Limits_Details!$D$24:$D$5800,D95,Limits_Details!$H$24:$H$5800,\"Other Known Causes\"))","v":""},{"$f":"IF($E95=\"\",\"\",SUMIFS(Limits_Details!$G$24:$G$5800,Limits_Details!$B$24:$B$5800,B95,Limits_Details!$C$24:$C$5800,C95,Limits_Details!$D$24:$D$5800,D95,Limits_Details!$H$24:$H$5800,\"Other Unknown Causes\"))","v":""}]
[null,{"$f":"IF(Lists!AI74=\"\",\"\",Lists!AI74)","v":""},{"$f":"IF(Lists!AJ74=\"\",\"\",Lists!AJ74)","v":""},{"$f":"IF(Lists!AK74=\"\",\"\",Lists!AK74)","v":""},null,"","",{"$f":"IF($E96=\"\",\"\",SUMIFS(Limits_Details!$G$24:$G$5800,Limits_Details!$B$24:$B$5800,B96,Limits_Details!$C$24:$C$5800,C96,Limits_Details!$D$24:$D$5800,D96,Limits_Details!$H$24:$H$5800,\"Control Equipment Problems\"))","v":""},{"$f":"IF($E96=\"\",\"\",SUMIFS(Limits_Details!$G$24:$G$5800,Limits_Details!$B$24:$B$5800,B96,Limits_Details!$C$24:$C$5800,C96,Limits_Details!$D$24:$D$5800,D96,Limits_Details!$H$24:$H$5800,\"Process Problems\"))","v":""},{"$f":"IF($E96=\"\",\"\",SUMIFS(Limits_Details!$G$24:$G$5800,Limits_Details!$B$24:$B$5800,B96,Limits_Details!$C$24:$C$5800,C96,Limits_Details!$D$24:$D$5800,D96,Limits_Details!$H$24:$H$5800,\"Other Known Causes\"))","v":""},{"$f":"IF($E96=\"\",\"\",SUMIFS(Limits_Details!$G$24:$G$5800,Limits_Details!$B$24:$B$5800,B96,Limits_Details!$C$24:$C$5800,C96,Limits_Details!$D$24:$D$5800,D96,Limits_Details!$H$24:$H$5800,\"Other Unknown Causes\"))","v":""}]
[null,{"$f":"IF(Lists!AI75=\"\",\"\",Lists!AI75)","v":""},{"$f":"IF(Lists!AJ75=\"\",\"\",Lists!AJ75)","v":""},{"$f":"IF(Lists!AK75=\"\",\"\",Lists!AK75)","v":""},null,"","",{"$f":"IF($E97=\"\",\"\",SUMIFS(Limits_Details!$G$24:$G$5800,Limits_Details!$B$24:$B$5800,B97,Limits_Details!$C$24:$C$5800,C97,Limits_Details!$D$24:$D$5800,D97,Limits_Details!$H$24:$H$5800,\"Control Equipment Problems\"))","v":""},{"$f":"IF($E97=\"\",\"\",SUMIFS(Limits_Details!$G$24:$G$5800,Limits_Details!$B$24:$B$5800,B97,Limits_Details!$C$24:$C$5800,C97,Limits_Details!$D$24:$D$5800,D97,Limits_Details!$H$24:$H$5800,\"Process Problems\"))","v":""},{"$f":"IF($E97=\"\",\"\",SUMIFS(Limits_Details!$G$24:$G$5800,Limits_Details!$B$24:$B$5800,B97,Limits_Details!$C$24:$C$5800,C97,Limits_Details!$D$24:$D$5800,D97,Limits_Details!$H$24:$H$5800,\"Other Known Causes\"))","v":""},{"$f":"IF($E97=\"\",\"\",SUMIFS(Limits_Details!$G$24:$G$5800,Limits_Details!$B$24:$B$5800,B97,Limits_Details!$C$24:$C$5800,C97,Limits_Details!$D$24:$D$5800,D97,Limits_Details!$H$24:$H$5800,\"Other Unknown Causes\"))","v":""}]
[null,{"$f":"IF(Lists!AI76=\"\",\"\",Lists!AI76)","v":""},{"$f":"IF(Lists!AJ76=\"\",\"\",Lists!AJ76)","v":""},{"$f":"IF(Lists!AK76=\"\",\"\",Lists!AK76)","v":""},null,"","",{"$f":"IF($E98=\"\",\"\",SUMIFS(Limits_Details!$G$24:$G$5800,Limits_Details!$B$24:$B$5800,B98,Limits_Details!$C$24:$C$5800,C98,Limits_Details!$D$24:$D$5800,D98,Limits_Details!$H$24:$H$5800,\"Control Equipment Problems\"))","v":""},{"$f":"IF($E98=\"\",\"\",SUMIFS(Limits_Details!$G$24:$G$5800,Limits_Details!$B$24:$B$5800,B98,Limits_Details!$C$24:$C$5800,C98,Limits_Details!$D$24:$D$5800,D98,Limits_Details!$H$24:$H$5800,\"Process Problems\"))","v":""},{"$f":"IF($E98=\"\",\"\",SUMIFS(Limits_Details!$G$24:$G$5800,Limits_Details!$B$24:$B$5800,B98,Limits_Details!$C$24:$C$5800,C98,Limits_Details!$D$24:$D$5800,D98,Limits_Details!$H$24:$H$5800,\"Other Known Causes\"))","v":""},{"$f":"IF($E98=\"\",\"\",SUMIFS(Limits_Details!$G$24:$G$5800,Limits_Details!$B$24:$B$5800,B98,Limits_Details!$C$24:$C$5800,C98,Limits_Details!$D$24:$D$5800,D98,Limits_Details!$H$24:$H$5800,\"Other Unknown Causes\"))","v":""}]
[null,{"$f":"IF(Lists!AI77=\"\",\"\",Lists!AI77)","v":""},{"$f":"IF(Lists!AJ77=\"\",\"\",Lists!AJ77)","v":""},{"$f":"IF(Lists!AK77=\"\",\"\",Lists!AK77)","v":""},null,"","",{"$f":"IF($E99=\"\",\"\",SUMIFS(Limits_Details!$G$24:$G$5800,Limits_Details!$B$24:$B$5800,B99,Limits_Details!$C$24:$C$5800,C99,Limits_Details!$D$24:$D$5800,D99,Limits_Details!$H$24:$H$5800,\"Control Equipment Problems\"))","v":""},{"$f":"IF($E99=\"\",\"\",SUMIFS(Limits_Details!$G$24:$G$5800,Limits_Details!$B$24:$B$5800,B99,Limits_Details!$C$24:$C$5800,C99,Limits_Details!$D$24:$D$5800,D99,Limits_Details!$H$24:$H$5800,\"Process Problems\"))","v":""},{"$f":"IF($E99=\"\",\"\",SUMIFS(Limits_Details!$G$24:$G$5800,Limits_Details!$B$24:$B$5800,B99,Limits_Details!$C$24:$C$5800,C99,Limits_Details!$D$24:$D$5800,D99,Limits_Details!$H$24:$H$5800,\"Other Known Causes\"))","v":""},{"$f":"IF($E99=\"\",\"\",SUMIFS(Limits_Details!$G$24:$G$5800,Limits_Details!$B$24:$B$5800,B99,Limits_Details!$C$24:$C$5800,C99,Limits_Details!$D$24:$D$5800,D99,Limits_Details!$H$24:$H$5800,\"Other Unknown Causes\"))","v":""}]
[null,{"$f":"IF(Lists!AI78=\"\",\"\",Lists!AI78)","v":""},{"$f":"IF(Lists!AJ78=\"\",\"\",Lists!AJ78)","v":""},{"$f":"IF(Lists!AK78=\"\",\"\",Lists!AK78)","v":""},null,"","",{"$f":"IF($E100=\"\",\"\",SUMIFS(Limits_Details!$G$24:$G$5800,Limits_Details!$B$24:$B$5800,B100,Limits_Details!$C$24:$C$5800,C100,Limits_Details!$D$24:$D$5800,D100,Limits_Details!$H$24:$H$5800,\"Control Equipment Problems\"))","v":""},{"$f":"IF($E100=\"\",\"\",SUMIFS(Limits_Details!$G$24:$G$5800,Limits_Details!$B$24:$B$5800,B100,Limits_Details!$C$24:$C$5800,C100,Limits_Details!$D$24:$D$5800,D100,Limits_Details!$H$24:$H$5800,\"Process Problems\"))","v":""},{"$f":"IF($E100=\"\",\"\",SUMIFS(Limits_Details!$G$24:$G$5800,Limits_Details!$B$24:$B$5800,B100,Limits_Details!$C$24:$C$5800,C100,Limits_Details!$D$24:$D$5800,D100,Limits_Details!$H$24:$H$5800,\"Other Known Causes\"))","v":""},{"$f":"IF($E100=\"\",\"\",SUMIFS(Limits_Details!$G$24:$G$5800,Limits_Details!$B$24:$B$5800,B100,Limits_Details!$C$24:$C$5800,C100,Limits_Details!$D$24:$D$5800,D100,Limits_Details!$H$24:$H$5800,\"Other Unknown Causes\"))","v":""}]
[null,{"$f":"IF(D101=\"\",\"\",COUNT($D$24:$D$452)-COUNT(D102:$D$452))","v":""}]
[null,{"$f":"IF(D102=\"\",\"\",COUNT($D$24:$D$452)-COUNT(D103:$D$452))","v":""}]
[null,{"$f":"IF(D103=\"\",\"\",COUNT($D$24:$D$452)-COUNT(D104:$D$452))","v":""}]
[null,{"$f":"IF(D104=\"\",\"\",COUNT($D$24:$D$452)-COUNT(D105:$D$452))","v":""}]
[null,{"$f":"IF(D105=\"\",\"\",COUNT($D$24:$D$452)-COUNT(D106:$D$452))","v":""}]
[null,{"$f":"IF(D106=\"\",\"\",COUNT($D$24:$D$452)-COUNT(D107:$D$452))","v":""}]
[null,{"$f":"IF(D107=\"\",\"\",COUNT($D$24:$D$452)-COUNT(D108:$D$452))","v":""}]
[null,{"$f":"IF(D108=\"\",\"\",COUNT($D$24:$D$452)-COUNT(D109:$D$452))","v":""}]
[null,{"$f":"IF(D109=\"\",\"\",COUNT($D$24:$D$452)-COUNT(D110:$D$452))","v":""}]
[null,{"$f":"IF(D110=\"\",\"\",COUNT($D$24:$D$452)-COUNT(D111:$D$452))","v":""}]
[null,{"$f":"IF(D111=\"\",\"\",COUNT($D$24:$D$452)-COUNT(D112:$D$452))","v":""}]
[null,{"$f":"IF(D112=\"\",\"\",COUNT($D$24:$D$452)-COUNT(D113:$D$452))","v":""}]
[null,{"$f":"IF(D113=\"\",\"\",COUNT($D$24:$D$452)-COUNT(D114:$D$452))","v":""}]
[null,{"$f":"IF(D114=\"\",\"\",COUNT($D$24:$D$452)-COUNT(D115:$D$452))","v":""}]
[null,{"$f":"IF(D115=\"\",\"\",COUNT($D$24:$D$452)-COUNT(D116:$D$452))","v":""}]
[null,{"$f":"IF(D116=\"\",\"\",COUNT($D$24:$D$452)-COUNT(D117:$D$452))","v":""}]
[null,{"$f":"IF(D117=\"\",\"\",COUNT($D$24:$D$452)-COUNT(D118:$D$452))","v":""}]
[null,{"$f":"IF(D118=\"\",\"\",COUNT($D$24:$D$452)-COUNT(D119:$D$452))","v":""}]
[null,{"$f":"IF(D119=\"\",\"\",COUNT($D$24:$D$452)-COUNT(D120:$D$452))","v":""}]
[null,{"$f":"IF(D120=\"\",\"\",COUNT($D$24:$D$452)-COUNT(D121:$D$452))","v":""}]
[null,{"$f":"IF(D121=\"\",\"\",COUNT($D$24:$D$452)-COUNT(D122:$D$452))","v":""}]
[null,{"$f":"IF(D122=\"\",\"\",COUNT($D$24:$D$452)-COUNT(D123:$D$452))","v":""}]
[null,{"$f":"IF(D123=\"\",\"\",COUNT($D$24:$D$452)-COUNT(D124:$D$452))","v":""}]
[null,{"$f":"IF(D124=\"\",\"\",COUNT($D$24:$D$452)-COUNT(D125:$D$452))","v":""}]
[null,{"$f":"IF(D125=\"\",\"\",COUNT($D$24:$D$452)-COUNT(D126:$D$452))","v":""}]
[null,{"$f":"IF(D126=\"\",\"\",COUNT($D$24:$D$452)-COUNT(D127:$D$452))","v":""}]
[null,{"$f":"IF(D127=\"\",\"\",COUNT($D$24:$D$452)-COUNT(D128:$D$452))","v":""}]
[null,{"$f":"IF(D128=\"\",\"\",COUNT($D$24:$D$452)-COUNT(D129:$D$452))","v":""}]
[null,{"$f":"IF(D129=\"\",\"\",COUNT($D$24:$D$452)-COUNT(D130:$D$452))","v":""}]
[null,{"$f":"IF(D130=\"\",\"\",COUNT($D$24:$D$452)-COUNT(D131:$D$452))","v":""}]
[null,{"$f":"IF(D131=\"\",\"\",COUNT($D$24:$D$452)-COUNT(D132:$D$452))","v":""}]
[null,{"$f":"IF(D132=\"\",\"\",COUNT($D$24:$D$452)-COUNT(D133:$D$452))","v":""}]
[null,{"$f":"IF(D133=\"\",\"\",COUNT($D$24:$D$452)-COUNT(D134:$D$452))","v":""}]
[null,{"$f":"IF(D134=\"\",\"\",COUNT($D$24:$D$452)-COUNT(D135:$D$452))","v":""}]
[null,{"$f":"IF(D135=\"\",\"\",COUNT($D$24:$D$452)-COUNT(D136:$D$452))","v":""}]
[null,{"$f":"IF(D136=\"\",\"\",COUNT($D$24:$D$452)-COUNT(D137:$D$452))","v":""}]
[null,{"$f":"IF(D137=\"\",\"\",COUNT($D$24:$D$452)-COUNT(D138:$D$452))","v":""}]
[null,{"$f":"IF(D138=\"\",\"\",COUNT($D$24:$D$452)-COUNT(D139:$D$452))","v":""}]
[null,{"$f":"IF(D139=\"\",\"\",COUNT($D$24:$D$452)-COUNT(D140:$D$452))","v":""}]
[null,{"$f":"IF(D140=\"\",\"\",COUNT($D$24:$D$452)-COUNT(D141:$D$452))","v":""}]
[null,{"$f":"IF(D141=\"\",\"\",COUNT($D$24:$D$452)-COUNT(D142:$D$452))","v":""}]
[null,{"$f":"IF(D142=\"\",\"\",COUNT($D$24:$D$452)-COUNT(D143:$D$452))","v":""}]
[null,{"$f":"IF(D143=\"\",\"\",COUNT($D$24:$D$452)-COUNT(D144:$D$452))","v":""}]
[null,{"$f":"IF(D144=\"\",\"\",COUNT($D$24:$D$452)-COUNT(D145:$D$452))","v":""}]
[null,{"$f":"IF(D145=\"\",\"\",COUNT($D$24:$D$452)-COUNT(D146:$D$452))","v":""}]
[null,{"$f":"IF(D146=\"\",\"\",COUNT($D$24:$D$452)-COUNT(D147:$D$452))","v":""}]
[null,{"$f":"IF(D147=\"\",\"\",COUNT($D$24:$D$452)-COUNT(D148:$D$452))","v":""}]
[null,{"$f":"IF(D148=\"\",\"\",COUNT($D$24:$D$452)-COUNT(D149:$D$452))","v":""}]
[null,{"$f":"IF(D149=\"\",\"\",COUNT($D$24:$D$452)-COUNT(D150:$D$452))","v":""}]
[null,{"$f":"IF(D150=\"\",\"\",COUNT($D$24:$D$452)-COUNT(D151:$D$452))","v":""}]
[null,{"$f":"IF(D151=\"\",\"\",COUNT($D$24:$D$452)-COUNT(D152:$D$452))","v":""}]
[null,{"$f":"IF(D152=\"\",\"\",COUNT($D$24:$D$452)-COUNT(D153:$D$452))","v":""}]
[null,{"$f":"IF(D153=\"\",\"\",COUNT($D$24:$D$452)-COUNT(D154:$D$452))","v":""}]
[null,{"$f":"IF(D154=\"\",\"\",COUNT($D$24:$D$452)-COUNT(D155:$D$452))","v":""}]
[null,{"$f":"IF(D155=\"\",\"\",COUNT($D$24:$D$452)-COUNT(D156:$D$452))","v":""}]
[null,{"$f":"IF(D156=\"\",\"\",COUNT($D$24:$D$452)-COUNT(D157:$D$452))","v":""}]
[null,{"$f":"IF(D157=\"\",\"\",COUNT($D$24:$D$452)-COUNT(D158:$D$452))","v":""}]
[null,{"$f":"IF(D158=\"\",\"\",COUNT($D$24:$D$452)-COUNT(D159:$D$452))","v":""}]
[null,{"$f":"IF(D159=\"\",\"\",COUNT($D$24:$D$452)-COUNT(D160:$D$452))","v":""}]
[null,{"$f":"IF(D160=\"\",\"\",COUNT($D$24:$D$452)-COUNT(D161:$D$452))","v":""}]
[null,{"$f":"IF(D161=\"\",\"\",COUNT($D$24:$D$452)-COUNT(D162:$D$452))","v":""}]
[null,{"$f":"IF(D162=\"\",\"\",COUNT($D$24:$D$452)-COUNT(D163:$D$452))","v":""}]
[null,{"$f":"IF(D163=\"\",\"\",COUNT($D$24:$D$452)-COUNT(D164:$D$452))","v":""}]
[null,{"$f":"IF(D164=\"\",\"\",COUNT($D$24:$D$452)-COUNT(D165:$D$452))","v":""}]
[null,{"$f":"IF(D165=\"\",\"\",COUNT($D$24:$D$452)-COUNT(D166:$D$452))","v":""}]
[null,{"$f":"IF(D166=\"\",\"\",COUNT($D$24:$D$452)-COUNT(D167:$D$452))","v":""}]
[null,{"$f":"IF(D167=\"\",\"\",COUNT($D$24:$D$452)-COUNT(D168:$D$452))","v":""}]
[null,{"$f":"IF(D168=\"\",\"\",COUNT($D$24:$D$452)-COUNT(D169:$D$452))","v":""}]
[null,{"$f":"IF(D169=\"\",\"\",COUNT($D$24:$D$452)-COUNT(D170:$D$452))","v":""}]
[null,{"$f":"IF(D170=\"\",\"\",COUNT($D$24:$D$452)-COUNT(D171:$D$452))","v":""}]
[null,{"$f":"IF(D171=\"\",\"\",COUNT($D$24:$D$452)-COUNT(D172:$D$452))","v":""}]
[null,{"$f":"IF(D172=\"\",\"\",COUNT($D$24:$D$452)-COUNT(D173:$D$452))","v":""}]
[null,{"$f":"IF(D173=\"\",\"\",COUNT($D$24:$D$452)-COUNT(D174:$D$452))","v":""}]
[null,{"$f":"IF(D174=\"\",\"\",COUNT($D$24:$D$452)-COUNT(D175:$D$452))","v":""}]
[null,{"$f":"IF(D175=\"\",\"\",COUNT($D$24:$D$452)-COUNT(D176:$D$452))","v":""}]
[null,{"$f":"IF(D176=\"\",\"\",COUNT($D$24:$D$452)-COUNT(D177:$D$452))","v":""}]
[null,{"$f":"IF(D177=\"\",\"\",COUNT($D$24:$D$452)-COUNT(D178:$D$452))","v":""}]
[null,{"$f":"IF(D178=\"\",\"\",COUNT($D$24:$D$452)-COUNT(D179:$D$452))","v":""}]
[null,{"$f":"IF(D179=\"\",\"\",COUNT($D$24:$D$452)-COUNT(D180:$D$452))","v":""}]
[null,{"$f":"IF(D180=\"\",\"\",COUNT($D$24:$D$452)-COUNT(D181:$D$452))","v":""}]
[null,{"$f":"IF(D181=\"\",\"\",COUNT($D$24:$D$452)-COUNT(D182:$D$452))","v":""}]
[null,{"$f":"IF(D182=\"\",\"\",COUNT($D$24:$D$452)-COUNT(D183:$D$452))","v":""}]
[null,{"$f":"IF(D183=\"\",\"\",COUNT($D$24:$D$452)-COUNT(D184:$D$452))","v":""}]
[null,{"$f":"IF(D184=\"\",\"\",COUNT($D$24:$D$452)-COUNT(D185:$D$452))","v":""}]
[null,{"$f":"IF(D185=\"\",\"\",COUNT($D$24:$D$452)-COUNT(D186:$D$452))","v":""}]
[null,{"$f":"IF(D186=\"\",\"\",COUNT($D$24:$D$452)-COUNT(D187:$D$452))","v":""}]
[null,{"$f":"IF(D187=\"\",\"\",COUNT($D$24:$D$452)-COUNT(D188:$D$452))","v":""}]
[null,{"$f":"IF(D188=\"\",\"\",COUNT($D$24:$D$452)-COUNT(D189:$D$452))","v":""}]
[null,{"$f":"IF(D189=\"\",\"\",COUNT($D$24:$D$452)-COUNT(D190:$D$452))","v":""}]
[null,{"$f":"IF(D190=\"\",\"\",COUNT($D$24:$D$452)-COUNT(D191:$D$452))","v":""}]
[null,{"$f":"IF(D191=\"\",\"\",COUNT($D$24:$D$452)-COUNT(D192:$D$452))","v":""}]
[null,{"$f":"IF(D192=\"\",\"\",COUNT($D$24:$D$452)-COUNT(D193:$D$452))","v":""}]
[null,{"$f":"IF(D193=\"\",\"\",COUNT($D$24:$D$452)-COUNT(D194:$D$452))","v":""}]
[null,{"$f":"IF(D194=\"\",\"\",COUNT($D$24:$D$452)-COUNT(D195:$D$452))","v":""}]
[null,{"$f":"IF(D195=\"\",\"\",COUNT($D$24:$D$452)-COUNT(D196:$D$452))","v":""}]
[null,{"$f":"IF(D196=\"\",\"\",COUNT($D$24:$D$452)-COUNT(D197:$D$452))","v":""}]
[null,{"$f":"IF(D197=\"\",\"\",COUNT($D$24:$D$452)-COUNT(D198:$D$452))","v":""}]
[null,{"$f":"IF(D198=\"\",\"\",COUNT($D$24:$D$452)-COUNT(D199:$D$452))","v":""}]
[null,{"$f":"IF(D199=\"\",\"\",COUNT($D$24:$D$452)-COUNT(D200:$D$452))","v":""}]
[null,{"$f":"IF(D200=\"\",\"\",COUNT($D$24:$D$452)-COUNT(D201:$D$452))","v":""}]
[null,{"$f":"IF(D201=\"\",\"\",COUNT($D$24:$D$452)-COUNT(D202:$D$452))","v":""}]
[null,{"$f":"IF(D202=\"\",\"\",COUNT($D$24:$D$452)-COUNT(D203:$D$452))","v":""}]
[null,{"$f":"IF(D203=\"\",\"\",COUNT($D$24:$D$452)-COUNT(D204:$D$452))","v":""}]
[null,{"$f":"IF(D204=\"\",\"\",COUNT($D$24:$D$452)-COUNT(D205:$D$452))","v":""}]
[null,{"$f":"IF(D205=\"\",\"\",COUNT($D$24:$D$452)-COUNT(D206:$D$452))","v":""}]
[null,{"$f":"IF(D206=\"\",\"\",COUNT($D$24:$D$452)-COUNT(D207:$D$452))","v":""}]
[null,{"$f":"IF(D207=\"\",\"\",COUNT($D$24:$D$452)-COUNT(D208:$D$452))","v":""}]
[null,{"$f":"IF(D208=\"\",\"\",COUNT($D$24:$D$452)-COUNT(D209:$D$452))","v":""}]
[null,{"$f":"IF(D209=\"\",\"\",COUNT($D$24:$D$452)-COUNT(D210:$D$452))","v":""}]
[null,{"$f":"IF(D210=\"\",\"\",COUNT($D$24:$D$452)-COUNT(D211:$D$452))","v":""}]
[null,{"$f":"IF(D211=\"\",\"\",COUNT($D$24:$D$452)-COUNT(D212:$D$452))","v":""}]
[null,{"$f":"IF(D212=\"\",\"\",COUNT($D$24:$D$452)-COUNT(D213:$D$452))","v":""}]
[null,{"$f":"IF(D213=\"\",\"\",COUNT($D$24:$D$452)-COUNT(D214:$D$452))","v":""}]
[null,{"$f":"IF(D214=\"\",\"\",COUNT($D$24:$D$452)-COUNT(D215:$D$452))","v":""}]
[null,{"$f":"IF(D215=\"\",\"\",COUNT($D$24:$D$452)-COUNT(D216:$D$452))","v":""}]
[null,{"$f":"IF(D216=\"\",\"\",COUNT($D$24:$D$452)-COUNT(D217:$D$452))","v":""}]
[null,{"$f":"IF(D217=\"\",\"\",COUNT($D$24:$D$452)-COUNT(D218:$D$452))","v":""}]
[null,{"$f":"IF(D218=\"\",\"\",COUNT($D$24:$D$452)-COUNT(D219:$D$452))","v":""}]
[null,{"$f":"IF(D219=\"\",\"\",COUNT($D$24:$D$452)-COUNT(D220:$D$452))","v":""}]
[null,{"$f":"IF(D220=\"\",\"\",COUNT($D$24:$D$452)-COUNT(D221:$D$452))","v":""}]
[null,{"$f":"IF(D221=\"\",\"\",COUNT($D$24:$D$452)-COUNT(D222:$D$452))","v":""}]
[null,{"$f":"IF(D222=\"\",\"\",COUNT($D$24:$D$452)-COUNT(D223:$D$452))","v":""}]
[null,{"$f":"IF(D223=\"\",\"\",COUNT($D$24:$D$452)-COUNT(D224:$D$452))","v":""}]
[null,{"$f":"IF(D224=\"\",\"\",COUNT($D$24:$D$452)-COUNT(D225:$D$452))","v":""}]
[null,{"$f":"IF(D225=\"\",\"\",COUNT($D$24:$D$452)-COUNT(D226:$D$452))","v":""}]
[null,{"$f":"IF(D226=\"\",\"\",COUNT($D$24:$D$452)-COUNT(D227:$D$452))","v":""}]
[null,{"$f":"IF(D227=\"\",\"\",COUNT($D$24:$D$452)-COUNT(D228:$D$452))","v":""}]
[null,{"$f":"IF(D228=\"\",\"\",COUNT($D$24:$D$452)-COUNT(D229:$D$452))","v":""}]
[null,{"$f":"IF(D229=\"\",\"\",COUNT($D$24:$D$452)-COUNT(D230:$D$452))","v":""}]
[null,{"$f":"IF(D230=\"\",\"\",COUNT($D$24:$D$452)-COUNT(D231:$D$452))","v":""}]
[null,{"$f":"IF(D231=\"\",\"\",COUNT($D$24:$D$452)-COUNT(D232:$D$452))","v":""}]
[null,{"$f":"IF(D232=\"\",\"\",COUNT($D$24:$D$452)-COUNT(D233:$D$452))","v":""}]
[null,{"$f":"IF(D233=\"\",\"\",COUNT($D$24:$D$452)-COUNT(D234:$D$452))","v":""}]
[null,{"$f":"IF(D234=\"\",\"\",COUNT($D$24:$D$452)-COUNT(D235:$D$452))","v":""}]
[null,{"$f":"IF(D235=\"\",\"\",COUNT($D$24:$D$452)-COUNT(D236:$D$452))","v":""}]
[null,{"$f":"IF(D236=\"\",\"\",COUNT($D$24:$D$452)-COUNT(D237:$D$452))","v":""}]
[null,{"$f":"IF(D237=\"\",\"\",COUNT($D$24:$D$452)-COUNT(D238:$D$452))","v":""}]
[null,{"$f":"IF(D238=\"\",\"\",COUNT($D$24:$D$452)-COUNT(D239:$D$452))","v":""}]
[null,{"$f":"IF(D239=\"\",\"\",COUNT($D$24:$D$452)-COUNT(D240:$D$452))","v":""}]
[null,{"$f":"IF(D240=\"\",\"\",COUNT($D$24:$D$452)-COUNT(D241:$D$452))","v":""}]
[null,{"$f":"IF(D241=\"\",\"\",COUNT($D$24:$D$452)-COUNT(D242:$D$452))","v":""}]
[null,{"$f":"IF(D242=\"\",\"\",COUNT($D$24:$D$452)-COUNT(D243:$D$452))","v":""}]
[null,{"$f":"IF(D243=\"\",\"\",COUNT($D$24:$D$452)-COUNT(D244:$D$452))","v":""}]
[null,{"$f":"IF(D244=\"\",\"\",COUNT($D$24:$D$452)-COUNT(D245:$D$452))","v":""}]
[null,{"$f":"IF(D245=\"\",\"\",COUNT($D$24:$D$452)-COUNT(D246:$D$452))","v":""}]
[null,{"$f":"IF(D246=\"\",\"\",COUNT($D$24:$D$452)-COUNT(D247:$D$452))","v":""}]
[null,{"$f":"IF(D247=\"\",\"\",COUNT($D$24:$D$452)-COUNT(D248:$D$452))","v":""}]
[null,{"$f":"IF(D248=\"\",\"\",COUNT($D$24:$D$452)-COUNT(D249:$D$452))","v":""}]
[null,{"$f":"IF(D249=\"\",\"\",COUNT($D$24:$D$452)-COUNT(D250:$D$452))","v":""}]
[null,{"$f":"IF(D250=\"\",\"\",COUNT($D$24:$D$452)-COUNT(D251:$D$452))","v":""}]
[null,{"$f":"IF(D251=\"\",\"\",COUNT($D$24:$D$452)-COUNT(D252:$D$452))","v":""}]
[null,{"$f":"IF(D252=\"\",\"\",COUNT($D$24:$D$452)-COUNT(D253:$D$452))","v":""}]
[null,{"$f":"IF(D253=\"\",\"\",COUNT($D$24:$D$452)-COUNT(D254:$D$452))","v":""}]
[null,{"$f":"IF(D254=\"\",\"\",COUNT($D$24:$D$452)-COUNT(D255:$D$452))","v":""}]
[null,{"$f":"IF(D255=\"\",\"\",COUNT($D$24:$D$452)-COUNT(D256:$D$452))","v":""}]
[null,{"$f":"IF(D256=\"\",\"\",COUNT($D$24:$D$452)-COUNT(D257:$D$452))","v":""}]
[null,{"$f":"IF(D257=\"\",\"\",COUNT($D$24:$D$452)-COUNT(D258:$D$452))","v":""}]
[null,{"$f":"IF(D258=\"\",\"\",COUNT($D$24:$D$452)-COUNT(D259:$D$452))","v":""}]
[null,{"$f":"IF(D259=\"\",\"\",COUNT($D$24:$D$452)-COUNT(D260:$D$452))","v":""}]
[null,{"$f":"IF(D260=\"\",\"\",COUNT($D$24:$D$452)-COUNT(D261:$D$452))","v":""}]
[null,{"$f":"IF(D261=\"\",\"\",COUNT($D$24:$D$452)-COUNT(D262:$D$452))","v":""}]
[null,{"$f":"IF(D262=\"\",\"\",COUNT($D$24:$D$452)-COUNT(D263:$D$452))","v":""}]
[null,{"$f":"IF(D263=\"\",\"\",COUNT($D$24:$D$452)-COUNT(D264:$D$452))","v":""}]
[null,{"$f":"IF(D264=\"\",\"\",COUNT($D$24:$D$452)-COUNT(D265:$D$452))","v":""}]
[null,{"$f":"IF(D265=\"\",\"\",COUNT($D$24:$D$452)-COUNT(D266:$D$452))","v":""}]
[null,{"$f":"IF(D266=\"\",\"\",COUNT($D$24:$D$452)-COUNT(D267:$D$452))","v":""}]
[null,{"$f":"IF(D267=\"\",\"\",COUNT($D$24:$D$452)-COUNT(D268:$D$452))","v":""}]
[null,{"$f":"IF(D268=\"\",\"\",COUNT($D$24:$D$452)-COUNT(D269:$D$452))","v":""}]
[null,{"$f":"IF(D269=\"\",\"\",COUNT($D$24:$D$452)-COUNT(D270:$D$452))","v":""}]
[null,{"$f":"IF(D270=\"\",\"\",COUNT($D$24:$D$452)-COUNT(D271:$D$452))","v":""}]
[null,{"$f":"IF(D271=\"\",\"\",COUNT($D$24:$D$452)-COUNT(D272:$D$452))","v":""}]
[null,{"$f":"IF(D272=\"\",\"\",COUNT($D$24:$D$452)-COUNT(D273:$D$452))","v":""}]
[null,{"$f":"IF(D273=\"\",\"\",COUNT($D$24:$D$452)-COUNT(D274:$D$452))","v":""}]
[null,{"$f":"IF(D274=\"\",\"\",COUNT($D$24:$D$452)-COUNT(D275:$D$452))","v":""}]
[null,{"$f":"IF(D275=\"\",\"\",COUNT($D$24:$D$452)-COUNT(D276:$D$452))","v":""}]
[null,{"$f":"IF(D276=\"\",\"\",COUNT($D$24:$D$452)-COUNT(D277:$D$452))","v":""}]
[null,{"$f":"IF(D277=\"\",\"\",COUNT($D$24:$D$452)-COUNT(D278:$D$452))","v":""}]
[null,{"$f":"IF(D278=\"\",\"\",COUNT($D$24:$D$452)-COUNT(D279:$D$452))","v":""}]
[null,{"$f":"IF(D279=\"\",\"\",COUNT($D$24:$D$452)-COUNT(D280:$D$452))","v":""}]
[null,{"$f":"IF(D280=\"\",\"\",COUNT($D$24:$D$452)-COUNT(D281:$D$452))","v":""}]
[null,{"$f":"IF(D281=\"\",\"\",COUNT($D$24:$D$452)-COUNT(D282:$D$452))","v":""}]
[null,{"$f":"IF(D282=\"\",\"\",COUNT($D$24:$D$452)-COUNT(D283:$D$452))","v":""}]
[null,{"$f":"IF(D283=\"\",\"\",COUNT($D$24:$D$452)-COUNT(D284:$D$452))","v":""}]
[null,{"$f":"IF(D284=\"\",\"\",COUNT($D$24:$D$452)-COUNT(D285:$D$452))","v":""}]
[null,{"$f":"IF(D285=\"\",\"\",COUNT($D$24:$D$452)-COUNT(D286:$D$452))","v":""}]
[null,{"$f":"IF(D286=\"\",\"\",COUNT($D$24:$D$452)-COUNT(D287:$D$452))","v":""}]
[null,{"$f":"IF(D287=\"\",\"\",COUNT($D$24:$D$452)-COUNT(D288:$D$452))","v":""}]
[null,{"$f":"IF(D288=\"\",\"\",COUNT($D$24:$D$452)-COUNT(D289:$D$452))","v":""}]
[null,{"$f":"IF(D289=\"\",\"\",COUNT($D$24:$D$452)-COUNT(D290:$D$452))","v":""}]
[null,{"$f":"IF(D290=\"\",\"\",COUNT($D$24:$D$452)-COUNT(D291:$D$452))","v":""}]
[null,{"$f":"IF(D291=\"\",\"\",COUNT($D$24:$D$452)-COUNT(D292:$D$452))","v":""}]
[null,{"$f":"IF(D292=\"\",\"\",COUNT($D$24:$D$452)-COUNT(D293:$D$452))","v":""}]
[null,{"$f":"IF(D293=\"\",\"\",COUNT($D$24:$D$452)-COUNT(D294:$D$452))","v":""}]
[null,{"$f":"IF(D294=\"\",\"\",COUNT($D$24:$D$452)-COUNT(D295:$D$452))","v":""}]
[null,{"$f":"IF(D295=\"\",\"\",COUNT($D$24:$D$452)-COUNT(D296:$D$452))","v":""}]
[null,{"$f":"IF(D296=\"\",\"\",COUNT($D$24:$D$452)-COUNT(D297:$D$452))","v":""}]
[null,{"$f":"IF(D297=\"\",\"\",COUNT($D$24:$D$452)-COUNT(D298:$D$452))","v":""}]
[null,{"$f":"IF(D298=\"\",\"\",COUNT($D$24:$D$452)-COUNT(D299:$D$452))","v":""}]
[null,{"$f":"IF(D299=\"\",\"\",COUNT($D$24:$D$452)-COUNT(D300:$D$452))","v":""}]
[null,{"$f":"IF(D300=\"\",\"\",COUNT($D$24:$D$452)-COUNT(D301:$D$452))","v":""}]
[null,{"$f":"IF(D301=\"\",\"\",COUNT($D$24:$D$452)-COUNT(D302:$D$452))","v":""}]
[null,{"$f":"IF(D302=\"\",\"\",COUNT($D$24:$D$452)-COUNT(D303:$D$452))","v":""}]
[null,{"$f":"IF(D303=\"\",\"\",COUNT($D$24:$D$452)-COUNT(D304:$D$452))","v":""}]
[null,{"$f":"IF(D304=\"\",\"\",COUNT($D$24:$D$452)-COUNT(D305:$D$452))","v":""}]
[null,{"$f":"IF(D305=\"\",\"\",COUNT($D$24:$D$452)-COUNT(D306:$D$452))","v":""}]
[null,{"$f":"IF(D306=\"\",\"\",COUNT($D$24:$D$452)-COUNT(D307:$D$452))","v":""}]
[null,{"$f":"IF(D307=\"\",\"\",COUNT($D$24:$D$452)-COUNT(D308:$D$452))","v":""}]
[null,{"$f":"IF(D308=\"\",\"\",COUNT($D$24:$D$452)-COUNT(D309:$D$452))","v":""}]
[null,{"$f":"IF(D309=\"\",\"\",COUNT($D$24:$D$452)-COUNT(D310:$D$452))","v":""}]
[null,{"$f":"IF(D310=\"\",\"\",COUNT($D$24:$D$452)-COUNT(D311:$D$452))","v":""}]
[null,{"$f":"IF(D311=\"\",\"\",COUNT($D$24:$D$452)-COUNT(D312:$D$452))","v":""}]
[null,{"$f":"IF(D312=\"\",\"\",COUNT($D$24:$D$452)-COUNT(D313:$D$452))","v":""}]
[null,{"$f":"IF(D313=\"\",\"\",COUNT($D$24:$D$452)-COUNT(D314:$D$452))","v":""}]
[null,{"$f":"IF(D314=\"\",\"\",COUNT($D$24:$D$452)-COUNT(D315:$D$452))","v":""}]
[null,{"$f":"IF(D315=\"\",\"\",COUNT($D$24:$D$452)-COUNT(D316:$D$452))","v":""}]
[null,{"$f":"IF(D316=\"\",\"\",COUNT($D$24:$D$452)-COUNT(D317:$D$452))","v":""}]
[null,{"$f":"IF(D317=\"\",\"\",COUNT($D$24:$D$452)-COUNT(D318:$D$452))","v":""}]
[null,{"$f":"IF(D318=\"\",\"\",COUNT($D$24:$D$452)-COUNT(D319:$D$452))","v":""}]
[null,{"$f":"IF(D319=\"\",\"\",COUNT($D$24:$D$452)-COUNT(D320:$D$452))","v":""}]
[null,{"$f":"IF(D320=\"\",\"\",COUNT($D$24:$D$452)-COUNT(D321:$D$452))","v":""}]
[null,{"$f":"IF(D321=\"\",\"\",COUNT($D$24:$D$452)-COUNT(D322:$D$452))","v":""}]
[null,{"$f":"IF(D322=\"\",\"\",COUNT($D$24:$D$452)-COUNT(D323:$D$452))","v":""}]
[null,{"$f":"IF(D323=\"\",\"\",COUNT($D$24:$D$452)-COUNT(D324:$D$452))","v":""}]
[null,{"$f":"IF(D324=\"\",\"\",COUNT($D$24:$D$452)-COUNT(D325:$D$452))","v":""}]
[null,{"$f":"IF(D325=\"\",\"\",COUNT($D$24:$D$452)-COUNT(D326:$D$452))","v":""}]
[null,{"$f":"IF(D326=\"\",\"\",COUNT($D$24:$D$452)-COUNT(D327:$D$452))","v":""}]
[null,{"$f":"IF(D327=\"\",\"\",COUNT($D$24:$D$452)-COUNT(D328:$D$452))","v":""}]
[null,{"$f":"IF(D328=\"\",\"\",COUNT($D$24:$D$452)-COUNT(D329:$D$452))","v":""}]
[null,{"$f":"IF(D329=\"\",\"\",COUNT($D$24:$D$452)-COUNT(D330:$D$452))","v":""}]
[null,{"$f":"IF(D330=\"\",\"\",COUNT($D$24:$D$452)-COUNT(D331:$D$452))","v":""}]
[null,{"$f":"IF(D331=\"\",\"\",COUNT($D$24:$D$452)-COUNT(D332:$D$452))","v":""}]
[null,{"$f":"IF(D332=\"\",\"\",COUNT($D$24:$D$452)-COUNT(D333:$D$452))","v":""}]
[null,{"$f":"IF(D333=\"\",\"\",COUNT($D$24:$D$452)-COUNT(D334:$D$452))","v":""}]
[null,{"$f":"IF(D334=\"\",\"\",COUNT($D$24:$D$452)-COUNT(D335:$D$452))","v":""}]
[null,{"$f":"IF(D335=\"\",\"\",COUNT($D$24:$D$452)-COUNT(D336:$D$452))","v":""}]
[null,{"$f":"IF(D336=\"\",\"\",COUNT($D$24:$D$452)-COUNT(D337:$D$452))","v":""}]
[null,{"$f":"IF(D337=\"\",\"\",COUNT($D$24:$D$452)-COUNT(D338:$D$452))","v":""}]
[null,{"$f":"IF(D338=\"\",\"\",COUNT($D$24:$D$452)-COUNT(D339:$D$452))","v":""}]
[null,{"$f":"IF(D339=\"\",\"\",COUNT($D$24:$D$452)-COUNT(D340:$D$452))","v":""}]
[null,{"$f":"IF(D340=\"\",\"\",COUNT($D$24:$D$452)-COUNT(D341:$D$452))","v":""}]
[null,{"$f":"IF(D341=\"\",\"\",COUNT($D$24:$D$452)-COUNT(D342:$D$452))","v":""}]
[null,{"$f":"IF(D342=\"\",\"\",COUNT($D$24:$D$452)-COUNT(D343:$D$452))","v":""}]
[null,{"$f":"IF(D343=\"\",\"\",COUNT($D$24:$D$452)-COUNT(D344:$D$452))","v":""}]
[null,{"$f":"IF(D344=\"\",\"\",COUNT($D$24:$D$452)-COUNT(D345:$D$452))","v":""}]
[null,{"$f":"IF(D345=\"\",\"\",COUNT($D$24:$D$452)-COUNT(D346:$D$452))","v":""}]
[null,{"$f":"IF(D346=\"\",\"\",COUNT($D$24:$D$452)-COUNT(D347:$D$452))","v":""}]
[null,{"$f":"IF(D347=\"\",\"\",COUNT($D$24:$D$452)-COUNT(D348:$D$452))","v":""}]
[null,{"$f":"IF(D348=\"\",\"\",COUNT($D$24:$D$452)-COUNT(D349:$D$452))","v":""}]
[null,{"$f":"IF(D349=\"\",\"\",COUNT($D$24:$D$452)-COUNT(D350:$D$452))","v":""}]
[null,{"$f":"IF(D350=\"\",\"\",COUNT($D$24:$D$452)-COUNT(D351:$D$452))","v":""}]
[null,{"$f":"IF(D351=\"\",\"\",COUNT($D$24:$D$452)-COUNT(D352:$D$452))","v":""}]
[null,{"$f":"IF(D352=\"\",\"\",COUNT($D$24:$D$452)-COUNT(D353:$D$452))","v":""}]
[null,{"$f":"IF(D353=\"\",\"\",COUNT($D$24:$D$452)-COUNT(D354:$D$452))","v":""}]
[null,{"$f":"IF(D354=\"\",\"\",COUNT($D$24:$D$452)-COUNT(D355:$D$452))","v":""}]
[null,{"$f":"IF(D355=\"\",\"\",COUNT($D$24:$D$452)-COUNT(D356:$D$452))","v":""}]
[null,{"$f":"IF(D356=\"\",\"\",COUNT($D$24:$D$452)-COUNT(D357:$D$452))","v":""}]
[null,{"$f":"IF(D357=\"\",\"\",COUNT($D$24:$D$452)-COUNT(D358:$D$452))","v":""}]
[null,{"$f":"IF(D358=\"\",\"\",COUNT($D$24:$D$452)-COUNT(D359:$D$452))","v":""}]
[null,{"$f":"IF(D359=\"\",\"\",COUNT($D$24:$D$452)-COUNT(D360:$D$452))","v":""}]
[null,{"$f":"IF(D360=\"\",\"\",COUNT($D$24:$D$452)-COUNT(D361:$D$452))","v":""}]
[null,{"$f":"IF(D361=\"\",\"\",COUNT($D$24:$D$452)-COUNT(D362:$D$452))","v":""}]
[null,{"$f":"IF(D362=\"\",\"\",COUNT($D$24:$D$452)-COUNT(D363:$D$452))","v":""}]
[null,{"$f":"IF(D363=\"\",\"\",COUNT($D$24:$D$452)-COUNT(D364:$D$452))","v":""}]
[null,{"$f":"IF(D364=\"\",\"\",COUNT($D$24:$D$452)-COUNT(D365:$D$452))","v":""}]
[null,{"$f":"IF(D365=\"\",\"\",COUNT($D$24:$D$452)-COUNT(D366:$D$452))","v":""}]
[null,{"$f":"IF(D366=\"\",\"\",COUNT($D$24:$D$452)-COUNT(D367:$D$452))","v":""}]
[null,{"$f":"IF(D367=\"\",\"\",COUNT($D$24:$D$452)-COUNT(D368:$D$452))","v":""}]
[null,{"$f":"IF(D368=\"\",\"\",COUNT($D$24:$D$452)-COUNT(D369:$D$452))","v":""}]
[null,{"$f":"IF(D369=\"\",\"\",COUNT($D$24:$D$452)-COUNT(D370:$D$452))","v":""}]
[null,{"$f":"IF(D370=\"\",\"\",COUNT($D$24:$D$452)-COUNT(D371:$D$452))","v":""}]
[null,{"$f":"IF(D371=\"\",\"\",COUNT($D$24:$D$452)-COUNT(D372:$D$452))","v":""}]
[null,{"$f":"IF(D372=\"\",\"\",COUNT($D$24:$D$452)-COUNT(D373:$D$452))","v":""}]
[null,{"$f":"IF(D373=\"\",\"\",COUNT($D$24:$D$452)-COUNT(D374:$D$452))","v":""}]
[null,{"$f":"IF(D374=\"\",\"\",COUNT($D$24:$D$452)-COUNT(D375:$D$452))","v":""}]
[null,{"$f":"IF(D375=\"\",\"\",COUNT($D$24:$D$452)-COUNT(D376:$D$452))","v":""}]
[null,{"$f":"IF(D376=\"\",\"\",COUNT($D$24:$D$452)-COUNT(D377:$D$452))","v":""}]
[null,{"$f":"IF(D377=\"\",\"\",COUNT($D$24:$D$452)-COUNT(D378:$D$452))","v":""}]
[null,{"$f":"IF(D378=\"\",\"\",COUNT($D$24:$D$452)-COUNT(D379:$D$452))","v":""}]
[null,{"$f":"IF(D379=\"\",\"\",COUNT($D$24:$D$452)-COUNT(D380:$D$452))","v":""}]
[null,{"$f":"IF(D380=\"\",\"\",COUNT($D$24:$D$452)-COUNT(D381:$D$452))","v":""}]
[null,{"$f":"IF(D381=\"\",\"\",COUNT($D$24:$D$452)-COUNT(D382:$D$452))","v":""}]
[null,{"$f":"IF(D382=\"\",\"\",COUNT($D$24:$D$452)-COUNT(D383:$D$452))","v":""}]
[null,{"$f":"IF(D383=\"\",\"\",COUNT($D$24:$D$452)-COUNT(D384:$D$452))","v":""}]
[null,{"$f":"IF(D384=\"\",\"\",COUNT($D$24:$D$452)-COUNT(D385:$D$452))","v":""}]
[null,{"$f":"IF(D385=\"\",\"\",COUNT($D$24:$D$452)-COUNT(D386:$D$452))","v":""}]
[null,{"$f":"IF(D386=\"\",\"\",COUNT($D$24:$D$452)-COUNT(D387:$D$452))","v":""}]
[null,{"$f":"IF(D387=\"\",\"\",COUNT($D$24:$D$452)-COUNT(D388:$D$452))","v":""}]
[null,{"$f":"IF(D388=\"\",\"\",COUNT($D$24:$D$452)-COUNT(D389:$D$452))","v":""}]
[null,{"$f":"IF(D389=\"\",\"\",COUNT($D$24:$D$452)-COUNT(D390:$D$452))","v":""}]
[null,{"$f":"IF(D390=\"\",\"\",COUNT($D$24:$D$452)-COUNT(D391:$D$452))","v":""}]
[null,{"$f":"IF(D391=\"\",\"\",COUNT($D$24:$D$452)-COUNT(D392:$D$452))","v":""}]
[null,{"$f":"IF(D392=\"\",\"\",COUNT($D$24:$D$452)-COUNT(D393:$D$452))","v":""}]
[null,{"$f":"IF(D393=\"\",\"\",COUNT($D$24:$D$452)-COUNT(D394:$D$452))","v":""}]
[null,{"$f":"IF(D394=\"\",\"\",COUNT($D$24:$D$452)-COUNT(D395:$D$452))","v":""}]
[null,{"$f":"IF(D395=\"\",\"\",COUNT($D$24:$D$452)-COUNT(D396:$D$452))","v":""}]
[null,{"$f":"IF(D396=\"\",\"\",COUNT($D$24:$D$452)-COUNT(D397:$D$452))","v":""}]
[null,{"$f":"IF(D397=\"\",\"\",COUNT($D$24:$D$452)-COUNT(D398:$D$452))","v":""}]
[null,{"$f":"IF(D398=\"\",\"\",COUNT($D$24:$D$452)-COUNT(D399:$D$452))","v":""}]
[null,{"$f":"IF(D399=\"\",\"\",COUNT($D$24:$D$452)-COUNT(D400:$D$452))","v":""}]
[null,{"$f":"IF(D400=\"\",\"\",COUNT($D$24:$D$452)-COUNT(D401:$D$452))","v":""}]
[null,{"$f":"IF(D401=\"\",\"\",COUNT($D$24:$D$452)-COUNT(D402:$D$452))","v":""}]
[null,{"$f":"IF(D402=\"\",\"\",COUNT($D$24:$D$452)-COUNT(D403:$D$452))","v":""}]
[null,{"$f":"IF(D403=\"\",\"\",COUNT($D$24:$D$452)-COUNT(D404:$D$452))","v":""}]
[null,{"$f":"IF(D404=\"\",\"\",COUNT($D$24:$D$452)-COUNT(D405:$D$452))","v":""}]
[null,{"$f":"IF(D405=\"\",\"\",COUNT($D$24:$D$452)-COUNT(D406:$D$452))","v":""}]
[null,{"$f":"IF(D406=\"\",\"\",COUNT($D$24:$D$452)-COUNT(D407:$D$452))","v":""}]
[null,{"$f":"IF(D407=\"\",\"\",COUNT($D$24:$D$452)-COUNT(D408:$D$452))","v":""}]
[null,{"$f":"IF(D408=\"\",\"\",COUNT($D$24:$D$452)-COUNT(D409:$D$452))","v":""}]
[null,{"$f":"IF(D409=\"\",\"\",COUNT($D$24:$D$452)-COUNT(D410:$D$452))","v":""}]
[null,{"$f":"IF(D410=\"\",\"\",COUNT($D$24:$D$452)-COUNT(D411:$D$452))","v":""}]
[null,{"$f":"IF(D411=\"\",\"\",COUNT($D$24:$D$452)-COUNT(D412:$D$452))","v":""}]
[null,{"$f":"IF(D412=\"\",\"\",COUNT($D$24:$D$452)-COUNT(D413:$D$452))","v":""}]
[null,{"$f":"IF(D413=\"\",\"\",COUNT($D$24:$D$452)-COUNT(D414:$D$452))","v":""}]
[null,{"$f":"IF(D414=\"\",\"\",COUNT($D$24:$D$452)-COUNT(D415:$D$452))","v":""}]
[null,{"$f":"IF(D415=\"\",\"\",COUNT($D$24:$D$452)-COUNT(D416:$D$452))","v":""}]
[null,{"$f":"IF(D416=\"\",\"\",COUNT($D$24:$D$452)-COUNT(D417:$D$452))","v":""}]
[null,{"$f":"IF(D417=\"\",\"\",COUNT($D$24:$D$452)-COUNT(D418:$D$452))","v":""}]
[null,{"$f":"IF(D418=\"\",\"\",COUNT($D$24:$D$452)-COUNT(D419:$D$452))","v":""}]
[null,{"$f":"IF(D419=\"\",\"\",COUNT($D$24:$D$452)-COUNT(D420:$D$452))","v":""}]
[null,{"$f":"IF(D420=\"\",\"\",COUNT($D$24:$D$452)-COUNT(D421:$D$452))","v":""}]
[null,{"$f":"IF(D421=\"\",\"\",COUNT($D$24:$D$452)-COUNT(D422:$D$452))","v":""}]
[null,{"$f":"IF(D422=\"\",\"\",COUNT($D$24:$D$452)-COUNT(D423:$D$452))","v":""}]
[null,{"$f":"IF(D423=\"\",\"\",COUNT($D$24:$D$452)-COUNT(D424:$D$452))","v":""}]
[null,{"$f":"IF(D424=\"\",\"\",COUNT($D$24:$D$452)-COUNT(D425:$D$452))","v":""}]
[null,{"$f":"IF(D425=\"\",\"\",COUNT($D$24:$D$452)-COUNT(D426:$D$452))","v":""}]
[null,{"$f":"IF(D426=\"\",\"\",COUNT($D$24:$D$452)-COUNT(D427:$D$452))","v":""}]
[null,{"$f":"IF(D427=\"\",\"\",COUNT($D$24:$D$452)-COUNT(D428:$D$452))","v":""}]
[null,{"$f":"IF(D428=\"\",\"\",COUNT($D$24:$D$452)-COUNT(D429:$D$452))","v":""}]
[null,{"$f":"IF(D429=\"\",\"\",COUNT($D$24:$D$452)-COUNT(D430:$D$452))","v":""}]
[null,{"$f":"IF(D430=\"\",\"\",COUNT($D$24:$D$452)-COUNT(D431:$D$452))","v":""}]
[null,{"$f":"IF(D431=\"\",\"\",COUNT($D$24:$D$452)-COUNT(D432:$D$452))","v":""}]
[null,{"$f":"IF(D432=\"\",\"\",COUNT($D$24:$D$452)-COUNT(D433:$D$452))","v":""}]
[null,{"$f":"IF(D433=\"\",\"\",COUNT($D$24:$D$452)-COUNT(D434:$D$452))","v":""}]
[null,{"$f":"IF(D434=\"\",\"\",COUNT($D$24:$D$452)-COUNT(D435:$D$452))","v":""}]
[null,{"$f":"IF(D435=\"\",\"\",COUNT($D$24:$D$452)-COUNT(D436:$D$452))","v":""}]
[null,{"$f":"IF(D436=\"\",\"\",COUNT($D$24:$D$452)-COUNT(D437:$D$452))","v":""}]
[null,{"$f":"IF(D437=\"\",\"\",COUNT($D$24:$D$452)-COUNT(D438:$D$452))","v":""}]
[null,{"$f":"IF(D438=\"\",\"\",COUNT($D$24:$D$452)-COUNT(D439:$D$452))","v":""}]
[null,{"$f":"IF(D439=\"\",\"\",COUNT($D$24:$D$452)-COUNT(D440:$D$452))","v":""}]
[null,{"$f":"IF(D440=\"\",\"\",COUNT($D$24:$D$452)-COUNT(D441:$D$452))","v":""}]
[null,{"$f":"IF(D441=\"\",\"\",COUNT($D$24:$D$452)-COUNT(D442:$D$452))","v":""}]
[null,{"$f":"IF(D442=\"\",\"\",COUNT($D$24:$D$452)-COUNT(D443:$D$452))","v":""}]
[null,{"$f":"IF(D443=\"\",\"\",COUNT($D$24:$D$452)-COUNT(D444:$D$452))","v":""}]
[null,{"$f":"IF(D444=\"\",\"\",COUNT($D$24:$D$452)-COUNT(D445:$D$452))","v":""}]
[null,{"$f":"IF(D445=\"\",\"\",COUNT($D$24:$D$452)-COUNT(D446:$D$452))","v":""}]
[null,{"$f":"IF(D446=\"\",\"\",COUNT($D$24:$D$452)-COUNT(D447:$D$452))","v":""}]
[null,{"$f":"IF(D447=\"\",\"\",COUNT($D$24:$D$452)-COUNT(D448:$D$452))","v":""}]
[null,{"$f":"IF(D448=\"\",\"\",COUNT($D$24:$D$452)-COUNT(D449:$D$452))","v":""}]
[null,{"$f":"IF(D449=\"\",\"\",COUNT($D$24:$D$452)-COUNT(D450:$D$452))","v":""}]
[null,{"$f":"IF(D450=\"\",\"\",COUNT($D$24:$D$452)-COUNT(D451:$D$452))","v":""}]
[null,{"$f":"IF(D451=\"\",\"\",COUNT($D$24:$D$452)-COUNT(D$452:$D452))","v":""}]
[null,{"$f":"IF(D452=\"\",\"\",COUNT($D$24:$D$452)-COUNT(D$452:$D453))","v":""}]
[null,{"$f":"IF(D453=\"\",\"\",COUNT($D$24:$D$452)-COUNT(D$452:$D454))","v":""}]
[null,{"$f":"IF(D454=\"\",\"\",COUNT($D$24:$D$452)-COUNT(D$452:$D455))","v":""}]
[null,{"$f":"IF(D455=\"\",\"\",COUNT($D$24:$D$452)-COUNT(D$452:$D456))","v":""}]
[null,{"$f":"IF(D456=\"\",\"\",COUNT($D$24:$D$452)-COUNT(D$452:$D457))","v":""}]
[null,{"$f":"IF(D457=\"\",\"\",COUNT($D$24:$D$452)-COUNT(D$452:$D458))","v":""}]
[null,{"$f":"IF(D458=\"\",\"\",COUNT($D$24:$D$452)-COUNT(D$452:$D459))","v":""}]
[null,{"$f":"IF(D459=\"\",\"\",COUNT($D$24:$D$452)-COUNT(D$452:$D460))","v":""}]
[null,{"$f":"IF(D460=\"\",\"\",COUNT($D$24:$D$452)-COUNT(D$452:$D461))","v":""}]
[null,{"$f":"IF(D461=\"\",\"\",COUNT($D$24:$D$452)-COUNT(D$452:$D462))","v":""}]
[null,{"$f":"IF(D462=\"\",\"\",COUNT($D$24:$D$452)-COUNT(D$452:$D463))","v":""}]
[null,{"$f":"IF(D463=\"\",\"\",COUNT($D$24:$D$452)-COUNT(D$452:$D464))","v":""}]
[null,{"$f":"IF(D464=\"\",\"\",COUNT($D$24:$D$452)-COUNT(D$452:$D465))","v":""}]
[null,{"$f":"IF(D465=\"\",\"\",COUNT($D$24:$D$452)-COUNT(D$452:$D466))","v":""}]
[null,{"$f":"IF(D466=\"\",\"\",COUNT($D$24:$D$452)-COUNT(D$452:$D467))","v":""}]
[null,{"$f":"IF(D467=\"\",\"\",COUNT($D$24:$D$452)-COUNT(D$452:$D468))","v":""}]
[null,{"$f":"IF(D468=\"\",\"\",COUNT($D$24:$D$452)-COUNT(D$452:$D469))","v":""}]
[null,{"$f":"IF(D469=\"\",\"\",COUNT($D$24:$D$452)-COUNT(D$452:$D470))","v":""}]
[null,{"$f":"IF(D470=\"\",\"\",COUNT($D$24:$D$452)-COUNT(D$452:$D471))","v":""}]
[null,{"$f":"IF(D471=\"\",\"\",COUNT($D$24:$D$452)-COUNT(D$452:$D472))","v":""}]
[null,{"$f":"IF(D472=\"\",\"\",COUNT($D$24:$D$452)-COUNT(D$452:$D473))","v":""}]
[null,{"$f":"IF(D473=\"\",\"\",COUNT($D$24:$D$452)-COUNT(D$452:$D474))","v":""}]
[null,{"$f":"IF(D474=\"\",\"\",COUNT($D$24:$D$452)-COUNT(D$452:$D475))","v":""}]
[null,{"$f":"IF(D475=\"\",\"\",COUNT($D$24:$D$452)-COUNT(D$452:$D476))","v":""}]
[null,{"$f":"IF(D476=\"\",\"\",COUNT($D$24:$D$452)-COUNT(D$452:$D477))","v":""}]
[null,{"$f":"IF(D477=\"\",\"\",COUNT($D$24:$D$452)-COUNT(D$452:$D478))","v":""}]
[null,{"$f":"IF(D478=\"\",\"\",COUNT($D$24:$D$452)-COUNT(D$452:$D479))","v":""}]
[null,{"$f":"IF(D479=\"\",\"\",COUNT($D$24:$D$452)-COUNT(D$452:$D480))","v":""}]
[null,{"$f":"IF(D480=\"\",\"\",COUNT($D$24:$D$452)-COUNT(D$452:$D481))","v":""}]
[null,{"$f":"IF(D481=\"\",\"\",COUNT($D$24:$D$452)-COUNT(D$452:$D482))","v":""}]
[null,{"$f":"IF(D482=\"\",\"\",COUNT($D$24:$D$452)-COUNT(D$452:$D483))","v":""}]
[null,{"$f":"IF(D483=\"\",\"\",COUNT($D$24:$D$452)-COUNT(D$452:$D484))","v":""}]
[null,{"$f":"IF(D484=\"\",\"\",COUNT($D$24:$D$452)-COUNT(D$452:$D485))","v":""}]
[null,{"$f":"IF(D485=\"\",\"\",COUNT($D$24:$D$452)-COUNT(D$452:$D486))","v":""}]
[null,{"$f":"IF(D486=\"\",\"\",COUNT($D$24:$D$452)-COUNT(D$452:$D487))","v":""}]
[null,{"$f":"IF(D487=\"\",\"\",COUNT($D$24:$D$452)-COUNT(D$452:$D488))","v":""}]
[null,{"$f":"IF(D488=\"\",\"\",COUNT($D$24:$D$452)-COUNT(D$452:$D489))","v":""}]
[null,{"$f":"IF(D489=\"\",\"\",COUNT($D$24:$D$452)-COUNT(D$452:$D490))","v":""}]
[null,{"$f":"IF(D490=\"\",\"\",COUNT($D$24:$D$452)-COUNT(D$452:$D491))","v":""}]
[null,{"$f":"IF(D491=\"\",\"\",COUNT($D$24:$D$452)-COUNT(D$452:$D492))","v":""}]
[null,{"$f":"IF(D492=\"\",\"\",COUNT($D$24:$D$452)-COUNT(D$452:$D493))","v":""}]
[null,{"$f":"IF(D493=\"\",\"\",COUNT($D$24:$D$452)-COUNT(D$452:$D494))","v":""}]
[null,{"$f":"IF(D494=\"\",\"\",COUNT($D$24:$D$452)-COUNT(D$452:$D495))","v":""}]
[null,{"$f":"IF(D495=\"\",\"\",COUNT($D$24:$D$452)-COUNT(D$452:$D496))","v":""}]
[null,{"$f":"IF(D496=\"\",\"\",COUNT($D$24:$D$452)-COUNT(D$452:$D497))","v":""}]
[null,{"$f":"IF(D497=\"\",\"\",COUNT($D$24:$D$452)-COUNT(D$452:$D498))","v":""}]
[null,{"$f":"IF(D498=\"\",\"\",COUNT($D$24:$D$452)-COUNT(D$452:$D499))","v":""}]
[null,{"$f":"IF(D499=\"\",\"\",COUNT($D$24:$D$452)-COUNT(D$452:$D500))","v":""}]
[null,{"$f":"IF(D500=\"\",\"\",COUNT($D$24:$D$452)-COUNT(D$452:$D501))","v":""}]
[null,{"$f":"IF(D501=\"\",\"\",COUNT($D$24:$D$452)-COUNT(D$452:$D502))","v":""}]
[null,{"$f":"IF(D502=\"\",\"\",COUNT($D$24:$D$452)-COUNT(D$452:$D503))","v":""}]
[null,{"$f":"IF(D503=\"\",\"\",COUNT($D$24:$D$452)-COUNT(D$452:$D504))","v":""}]
[null,{"$f":"IF(D504=\"\",\"\",COUNT($D$24:$D$452)-COUNT(D$452:$D505))","v":""}]
[null,{"$f":"IF(D505=\"\",\"\",COUNT($D$24:$D$452)-COUNT(D$452:$D506))","v":""}]
[null,{"$f":"IF(D506=\"\",\"\",COUNT($D$24:$D$452)-COUNT(D$452:$D507))","v":""}]
[null,{"$f":"IF(D507=\"\",\"\",COUNT($D$24:$D$452)-COUNT(D$452:$D508))","v":""}]
[null,{"$f":"IF(D508=\"\",\"\",COUNT($D$24:$D$452)-COUNT(D$452:$D509))","v":""}]
[null,{"$f":"IF(D509=\"\",\"\",COUNT($D$24:$D$452)-COUNT(D$452:$D510))","v":""}]
[null,{"$f":"IF(D510=\"\",\"\",COUNT($D$24:$D$452)-COUNT(D$452:$D511))","v":""}]
[null,{"$f":"IF(D511=\"\",\"\",COUNT($D$24:$D$452)-COUNT(D$452:$D512))","v":""}]
[null,{"$f":"IF(D512=\"\",\"\",COUNT($D$24:$D$452)-COUNT(D$452:$D513))","v":""}]
[null,{"$f":"IF(D513=\"\",\"\",COUNT($D$24:$D$452)-COUNT(D$452:$D514))","v":""}]
[null,{"$f":"IF(D514=\"\",\"\",COUNT($D$24:$D$452)-COUNT(D$452:$D515))","v":""}]
[null,{"$f":"IF(D515=\"\",\"\",COUNT($D$24:$D$452)-COUNT(D$452:$D516))","v":""}]
[null,{"$f":"IF(D516=\"\",\"\",COUNT($D$24:$D$452)-COUNT(D$452:$D517))","v":""}]
[null,{"$f":"IF(D517=\"\",\"\",COUNT($D$24:$D$452)-COUNT(D$452:$D518))","v":""}]
[null,{"$f":"IF(D518=\"\",\"\",COUNT($D$24:$D$452)-COUNT(D$452:$D519))","v":""}]
[null,{"$f":"IF(D519=\"\",\"\",COUNT($D$24:$D$452)-COUNT(D$452:$D520))","v":""}]
[null,{"$f":"IF(D520=\"\",\"\",COUNT($D$24:$D$452)-COUNT(D$452:$D521))","v":""}]
[null,{"$f":"IF(D521=\"\",\"\",COUNT($D$24:$D$452)-COUNT(D$452:$D522))","v":""}]
[null,{"$f":"IF(D522=\"\",\"\",COUNT($D$24:$D$452)-COUNT(D$452:$D523))","v":""}]
[null,{"$f":"IF(D523=\"\",\"\",COUNT($D$24:$D$452)-COUNT(D$452:$D524))","v":""}]
[null,{"$f":"IF(D524=\"\",\"\",COUNT($D$24:$D$452)-COUNT(D$452:$D525))","v":""}]
[null,{"$f":"IF(D525=\"\",\"\",COUNT($D$24:$D$452)-COUNT(D$452:$D526))","v":""}]
[null,{"$f":"IF(D526=\"\",\"\",COUNT($D$24:$D$452)-COUNT(D$452:$D527))","v":""}]
[null,{"$f":"IF(D527=\"\",\"\",COUNT($D$24:$D$452)-COUNT(D$452:$D528))","v":""}]
[null,{"$f":"IF(D528=\"\",\"\",COUNT($D$24:$D$452)-COUNT(D$452:$D529))","v":""}]
[null,{"$f":"IF(D529=\"\",\"\",COUNT($D$24:$D$452)-COUNT(D$452:$D530))","v":""}]
[null,{"$f":"IF(D530=\"\",\"\",COUNT($D$24:$D$452)-COUNT(D$452:$D531))","v":""}]
[null,{"$f":"IF(D531=\"\",\"\",COUNT($D$24:$D$452)-COUNT(D$452:$D532))","v":""}]
[null,{"$f":"IF(D532=\"\",\"\",COUNT($D$24:$D$452)-COUNT(D$452:$D533))","v":""}]
[null,{"$f":"IF(D533=\"\",\"\",COUNT($D$24:$D$452)-COUNT(D$452:$D534))","v":""}]
[null,{"$f":"IF(D534=\"\",\"\",COUNT($D$24:$D$452)-COUNT(D$452:$D535))","v":""}]
[null,{"$f":"IF(D535=\"\",\"\",COUNT($D$24:$D$452)-COUNT(D$452:$D536))","v":""}]
[null,{"$f":"IF(D536=\"\",\"\",COUNT($D$24:$D$452)-COUNT(D$452:$D537))","v":""}]
[null,{"$f":"IF(D537=\"\",\"\",COUNT($D$24:$D$452)-COUNT(D$452:$D538))","v":""}]
[null,{"$f":"IF(D538=\"\",\"\",COUNT($D$24:$D$452)-COUNT(D$452:$D539))","v":""}]
[null,{"$f":"IF(D539=\"\",\"\",COUNT($D$24:$D$452)-COUNT(D$452:$D540))","v":""}]
[null,{"$f":"IF(D540=\"\",\"\",COUNT($D$24:$D$452)-COUNT(D$452:$D541))","v":""}]
[null,{"$f":"IF(D541=\"\",\"\",COUNT($D$24:$D$452)-COUNT(D$452:$D542))","v":""}]
[null,{"$f":"IF(D542=\"\",\"\",COUNT($D$24:$D$452)-COUNT(D$452:$D543))","v":""}]
[null,{"$f":"IF(D543=\"\",\"\",COUNT($D$24:$D$452)-COUNT(D$452:$D544))","v":""}]
[null,{"$f":"IF(D544=\"\",\"\",COUNT($D$24:$D$452)-COUNT(D$452:$D545))","v":""}]
[null,{"$f":"IF(D545=\"\",\"\",COUNT($D$24:$D$452)-COUNT(D$452:$D546))","v":""}]
[null,{"$f":"IF(D546=\"\",\"\",COUNT($D$24:$D$452)-COUNT(D$452:$D547))","v":""}]
[null,{"$f":"IF(D547=\"\",\"\",COUNT($D$24:$D$452)-COUNT(D$452:$D548))","v":""}]
[null,{"$f":"IF(D548=\"\",\"\",COUNT($D$24:$D$452)-COUNT(D$452:$D549))","v":""}]
[null,{"$f":"IF(D549=\"\",\"\",COUNT($D$24:$D$452)-COUNT(D$452:$D550))","v":""}]
[null,{"$f":"IF(D550=\"\",\"\",COUNT($D$24:$D$452)-COUNT(D$452:$D551))","v":""}]
[null,{"$f":"IF(D551=\"\",\"\",COUNT($D$24:$D$452)-COUNT(D$452:$D552))","v":""}]
[null,{"$f":"IF(D552=\"\",\"\",COUNT($D$24:$D$452)-COUNT(D$452:$D553))","v":""}]
[null,{"$f":"IF(D553=\"\",\"\",COUNT($D$24:$D$452)-COUNT(D$452:$D554))","v":""}]
[null,{"$f":"IF(D554=\"\",\"\",COUNT($D$24:$D$452)-COUNT(D$452:$D555))","v":""}]
[null,{"$f":"IF(D555=\"\",\"\",COUNT($D$24:$D$452)-COUNT(D$452:$D556))","v":""}]
[null,{"$f":"IF(D556=\"\",\"\",COUNT($D$24:$D$452)-COUNT(D$452:$D557))","v":""}]
[null,{"$f":"IF(D557=\"\",\"\",COUNT($D$24:$D$452)-COUNT(D$452:$D558))","v":""}]
[null,{"$f":"IF(D558=\"\",\"\",COUNT($D$24:$D$452)-COUNT(D$452:$D559))","v":""}]
[null,{"$f":"IF(D559=\"\",\"\",COUNT($D$24:$D$452)-COUNT(D$452:$D560))","v":""}]
[null,{"$f":"IF(D560=\"\",\"\",COUNT($D$24:$D$452)-COUNT(D$452:$D561))","v":""}]
[null,{"$f":"IF(D561=\"\",\"\",COUNT($D$24:$D$452)-COUNT(D$452:$D562))","v":""}]
[null,{"$f":"IF(D562=\"\",\"\",COUNT($D$24:$D$452)-COUNT(D$452:$D563))","v":""}]
[null,{"$f":"IF(D563=\"\",\"\",COUNT($D$24:$D$452)-COUNT(D$452:$D564))","v":""}]
[null,{"$f":"IF(D564=\"\",\"\",COUNT($D$24:$D$452)-COUNT(D$452:$D565))","v":""}]
[null,{"$f":"IF(D565=\"\",\"\",COUNT($D$24:$D$452)-COUNT(D$452:$D566))","v":""}]
[null,{"$f":"IF(D566=\"\",\"\",COUNT($D$24:$D$452)-COUNT(D$452:$D567))","v":""}]
[null,{"$f":"IF(D567=\"\",\"\",COUNT($D$24:$D$452)-COUNT(D$452:$D568))","v":""}]
[null,{"$f":"IF(D568=\"\",\"\",COUNT($D$24:$D$452)-COUNT(D$452:$D569))","v":""}]
[null,{"$f":"IF(D569=\"\",\"\",COUNT($D$24:$D$452)-COUNT(D$452:$D570))","v":""}]
[null,{"$f":"IF(D570=\"\",\"\",COUNT($D$24:$D$452)-COUNT(D$452:$D571))","v":""}]
[null,{"$f":"IF(D571=\"\",\"\",COUNT($D$24:$D$452)-COUNT(D$452:$D572))","v":""}]
[null,{"$f":"IF(D572=\"\",\"\",COUNT($D$24:$D$452)-COUNT(D$452:$D573))","v":""}]
[null,{"$f":"IF(D573=\"\",\"\",COUNT($D$24:$D$452)-COUNT(D$452:$D574))","v":""}]
[null,{"$f":"IF(D574=\"\",\"\",COUNT($D$24:$D$452)-COUNT(D$452:$D575))","v":""}]
[null,{"$f":"IF(D575=\"\",\"\",COUNT($D$24:$D$452)-COUNT(D$452:$D576))","v":""}]
[null,{"$f":"IF(D576=\"\",\"\",COUNT($D$24:$D$452)-COUNT(D$452:$D577))","v":""}]
[null,{"$f":"IF(D577=\"\",\"\",COUNT($D$24:$D$452)-COUNT(D$452:$D578))","v":""}]
[null,{"$f":"IF(D578=\"\",\"\",COUNT($D$24:$D$452)-COUNT(D$452:$D579))","v":""}]
[null,{"$f":"IF(D579=\"\",\"\",COUNT($D$24:$D$452)-COUNT(D$452:$D580))","v":""}]
[null,{"$f":"IF(D580=\"\",\"\",COUNT($D$24:$D$452)-COUNT(D$452:$D581))","v":""}]
[null,{"$f":"IF(D581=\"\",\"\",COUNT($D$24:$D$452)-COUNT(D$452:$D582))","v":""}]
[null,{"$f":"IF(D582=\"\",\"\",COUNT($D$24:$D$452)-COUNT(D$452:$D583))","v":""}]
[null,{"$f":"IF(D583=\"\",\"\",COUNT($D$24:$D$452)-COUNT(D$452:$D584))","v":""}]
[null,{"$f":"IF(D584=\"\",\"\",COUNT($D$24:$D$452)-COUNT(D$452:$D585))","v":""}]
[null,{"$f":"IF(D585=\"\",\"\",COUNT($D$24:$D$452)-COUNT(D$452:$D586))","v":""}]
[null,{"$f":"IF(D586=\"\",\"\",COUNT($D$24:$D$452)-COUNT(D$452:$D587))","v":""}]
[null,{"$f":"IF(D587=\"\",\"\",COUNT($D$24:$D$452)-COUNT(D$452:$D588))","v":""}]
[null,{"$f":"IF(D588=\"\",\"\",COUNT($D$24:$D$452)-COUNT(D$452:$D589))","v":""}]
[null,{"$f":"IF(D589=\"\",\"\",COUNT($D$24:$D$452)-COUNT(D$452:$D590))","v":""}]
[null,{"$f":"IF(D590=\"\",\"\",COUNT($D$24:$D$452)-COUNT(D$452:$D591))","v":""}]
[null,{"$f":"IF(D591=\"\",\"\",COUNT($D$24:$D$452)-COUNT(D$452:$D592))","v":""}]
[null,{"$f":"IF(D592=\"\",\"\",COUNT($D$24:$D$452)-COUNT(D$452:$D593))","v":""}]
[null,{"$f":"IF(D593=\"\",\"\",COUNT($D$24:$D$452)-COUNT(D$452:$D594))","v":""}]
[null,{"$f":"IF(D594=\"\",\"\",COUNT($D$24:$D$452)-COUNT(D$452:$D595))","v":""}]
[null,{"$f":"IF(D595=\"\",\"\",COUNT($D$24:$D$452)-COUNT(D$452:$D596))","v":""}]
[null,{"$f":"IF(D596=\"\",\"\",COUNT($D$24:$D$452)-COUNT(D$452:$D597))","v":""}]
[null,{"$f":"IF(D597=\"\",\"\",COUNT($D$24:$D$452)-COUNT(D$452:$D598))","v":""}]
[null,{"$f":"IF(D598=\"\",\"\",COUNT($D$24:$D$452)-COUNT(D$452:$D599))","v":""}]
[null,{"$f":"IF(D599=\"\",\"\",COUNT($D$24:$D$452)-COUNT(D$452:$D600))","v":""}]
[null,{"$f":"IF(D600=\"\",\"\",COUNT($D$24:$D$452)-COUNT(D$452:$D601))","v":""}]
[null,{"$f":"IF(D601=\"\",\"\",COUNT($D$24:$D$452)-COUNT(D$452:$D602))","v":""}]
[null,{"$f":"IF(D602=\"\",\"\",COUNT($D$24:$D$452)-COUNT(D$452:$D603))","v":""}]
[null,{"$f":"IF(D603=\"\",\"\",COUNT($D$24:$D$452)-COUNT(D$452:$D604))","v":""}]
[null,{"$f":"IF(D604=\"\",\"\",COUNT($D$24:$D$452)-COUNT(D$452:$D605))","v":""}]
[null,{"$f":"IF(D605=\"\",\"\",COUNT($D$24:$D$452)-COUNT(D$452:$D606))","v":""}]
[null,{"$f":"IF(D606=\"\",\"\",COUNT($D$24:$D$452)-COUNT(D$452:$D607))","v":""}]
[null,{"$f":"IF(D607=\"\",\"\",COUNT($D$24:$D$452)-COUNT(D$452:$D608))","v":""}]
[null,{"$f":"IF(D608=\"\",\"\",COUNT($D$24:$D$452)-COUNT(D$452:$D609))","v":""}]
[null,{"$f":"IF(D609=\"\",\"\",COUNT($D$24:$D$452)-COUNT(D$452:$D610))","v":""}]
[null,{"$f":"IF(D610=\"\",\"\",COUNT($D$24:$D$452)-COUNT(D$452:$D611))","v":""}]
[null,{"$f":"IF(D611=\"\",\"\",COUNT($D$24:$D$452)-COUNT(D$452:$D612))","v":""}]
[null,{"$f":"IF(D612=\"\",\"\",COUNT($D$24:$D$452)-COUNT(D$452:$D613))","v":""}]
[null,{"$f":"IF(D613=\"\",\"\",COUNT($D$24:$D$452)-COUNT(D$452:$D614))","v":""}]
[null,{"$f":"IF(D614=\"\",\"\",COUNT($D$24:$D$452)-COUNT(D$452:$D615))","v":""}]
[null,{"$f":"IF(D615=\"\",\"\",COUNT($D$24:$D$452)-COUNT(D$452:$D616))","v":""}]
[null,{"$f":"IF(D616=\"\",\"\",COUNT($D$24:$D$452)-COUNT(D$452:$D617))","v":""}]
[null,{"$f":"IF(D617=\"\",\"\",COUNT($D$24:$D$452)-COUNT(D$452:$D618))","v":""}]
[null,{"$f":"IF(D618=\"\",\"\",COUNT($D$24:$D$452)-COUNT(D$452:$D619))","v":""}]
[null,{"$f":"IF(D619=\"\",\"\",COUNT($D$24:$D$452)-COUNT(D$452:$D620))","v":""}]
[null,{"$f":"IF(D620=\"\",\"\",COUNT($D$24:$D$452)-COUNT(D$452:$D621))","v":""}]
[null,{"$f":"IF(D621=\"\",\"\",COUNT($D$24:$D$452)-COUNT(D$452:$D622))","v":""}]
[null,{"$f":"IF(D622=\"\",\"\",COUNT($D$24:$D$452)-COUNT(D$452:$D623))","v":""}]
[null,{"$f":"IF(D623=\"\",\"\",COUNT($D$24:$D$452)-COUNT(D$452:$D624))","v":""}]
[null,{"$f":"IF(D624=\"\",\"\",COUNT($D$24:$D$452)-COUNT(D$452:$D625))","v":""}]
[null,{"$f":"IF(D625=\"\",\"\",COUNT($D$24:$D$452)-COUNT(D$452:$D626))","v":""}]
[null,{"$f":"IF(D626=\"\",\"\",COUNT($D$24:$D$452)-COUNT(D$452:$D627))","v":""}]
[null,{"$f":"IF(D627=\"\",\"\",COUNT($D$24:$D$452)-COUNT(D$452:$D628))","v":""}]
[null,{"$f":"IF(D628=\"\",\"\",COUNT($D$24:$D$452)-COUNT(D$452:$D629))","v":""}]
[null,{"$f":"IF(D629=\"\",\"\",COUNT($D$24:$D$452)-COUNT(D$452:$D630))","v":""}]
[null,{"$f":"IF(D630=\"\",\"\",COUNT($D$24:$D$452)-COUNT(D$452:$D631))","v":""}]
[null,{"$f":"IF(D631=\"\",\"\",COUNT($D$24:$D$452)-COUNT(D$452:$D632))","v":""}]
[null,{"$f":"IF(D632=\"\",\"\",COUNT($D$24:$D$452)-COUNT(D$452:$D633))","v":""}]
[null,{"$f":"IF(D633=\"\",\"\",COUNT($D$24:$D$452)-COUNT(D$452:$D634))","v":""}]
[null,{"$f":"IF(D634=\"\",\"\",COUNT($D$24:$D$452)-COUNT(D$452:$D635))","v":""}]
[null,{"$f":"IF(D635=\"\",\"\",COUNT($D$24:$D$452)-COUNT(D$452:$D636))","v":""}]
[null,{"$f":"IF(D636=\"\",\"\",COUNT($D$24:$D$452)-COUNT(D$452:$D637))","v":""}]
[null,{"$f":"IF(D637=\"\",\"\",COUNT($D$24:$D$452)-COUNT(D$452:$D638))","v":""}]
[null,{"$f":"IF(D638=\"\",\"\",COUNT($D$24:$D$452)-COUNT(D$452:$D639))","v":""}]
[null,{"$f":"IF(D639=\"\",\"\",COUNT($D$24:$D$452)-COUNT(D$452:$D640))","v":""}]
[null,{"$f":"IF(D640=\"\",\"\",COUNT($D$24:$D$452)-COUNT(D$452:$D641))","v":""}]
[null,{"$f":"IF(D641=\"\",\"\",COUNT($D$24:$D$452)-COUNT(D$452:$D642))","v":""}]
[null,{"$f":"IF(D642=\"\",\"\",COUNT($D$24:$D$452)-COUNT(D$452:$D643))","v":""}]
[null,{"$f":"IF(D643=\"\",\"\",COUNT($D$24:$D$452)-COUNT(D$452:$D644))","v":""}]
[null,{"$f":"IF(D644=\"\",\"\",COUNT($D$24:$D$452)-COUNT(D$452:$D645))","v":""}]
[null,{"$f":"IF(D645=\"\",\"\",COUNT($D$24:$D$452)-COUNT(D$452:$D646))","v":""}]
[null,{"$f":"IF(D646=\"\",\"\",COUNT($D$24:$D$452)-COUNT(D$452:$D647))","v":""}]
[null,{"$f":"IF(D647=\"\",\"\",COUNT($D$24:$D$452)-COUNT(D$452:$D648))","v":""}]
[null,{"$f":"IF(D648=\"\",\"\",COUNT($D$24:$D$452)-COUNT(D$452:$D649))","v":""}]
[null,{"$f":"IF(D649=\"\",\"\",COUNT($D$24:$D$452)-COUNT(D$452:$D650))","v":""}]
[null,{"$f":"IF(D650=\"\",\"\",COUNT($D$24:$D$452)-COUNT(D$452:$D651))","v":""}]
[null,{"$f":"IF(D651=\"\",\"\",COUNT($D$24:$D$452)-COUNT(D$452:$D652))","v":""}]
[null,{"$f":"IF(D652=\"\",\"\",COUNT($D$24:$D$452)-COUNT(D$452:$D653))","v":""}]
[null,{"$f":"IF(D653=\"\",\"\",COUNT($D$24:$D$452)-COUNT(D$452:$D654))","v":""}]
[null,{"$f":"IF(D654=\"\",\"\",COUNT($D$24:$D$452)-COUNT(D$452:$D655))","v":""}]
[null,{"$f":"IF(D655=\"\",\"\",COUNT($D$24:$D$452)-COUNT(D$452:$D656))","v":""}]
[null,{"$f":"IF(D656=\"\",\"\",COUNT($D$24:$D$452)-COUNT(D$452:$D657))","v":""}]
[null,{"$f":"IF(D657=\"\",\"\",COUNT($D$24:$D$452)-COUNT(D$452:$D658))","v":""}]
[null,{"$f":"IF(D658=\"\",\"\",COUNT($D$24:$D$452)-COUNT(D$452:$D659))","v":""}]
[null,{"$f":"IF(D659=\"\",\"\",COUNT($D$24:$D$452)-COUNT(D$452:$D660))","v":""}]
[null,{"$f":"IF(D660=\"\",\"\",COUNT($D$24:$D$452)-COUNT(D$452:$D661))","v":""}]
[null,{"$f":"IF(D661=\"\",\"\",COUNT($D$24:$D$452)-COUNT(D$452:$D662))","v":""}]
[null,{"$f":"IF(D662=\"\",\"\",COUNT($D$24:$D$452)-COUNT(D$452:$D663))","v":""}]
[null,{"$f":"IF(D663=\"\",\"\",COUNT($D$24:$D$452)-COUNT(D$452:$D664))","v":""}]
[null,{"$f":"IF(D664=\"\",\"\",COUNT($D$24:$D$452)-COUNT(D$452:$D665))","v":""}]
[null,{"$f":"IF(D665=\"\",\"\",COUNT($D$24:$D$452)-COUNT(D$452:$D666))","v":""}]
[null,{"$f":"IF(D666=\"\",\"\",COUNT($D$24:$D$452)-COUNT(D$452:$D667))","v":""}]
[null,{"$f":"IF(D667=\"\",\"\",COUNT($D$24:$D$452)-COUNT(D$452:$D668))","v":""}]
[null,{"$f":"IF(D668=\"\",\"\",COUNT($D$24:$D$452)-COUNT(D$452:$D669))","v":""}]
[null,{"$f":"IF(D669=\"\",\"\",COUNT($D$24:$D$452)-COUNT(D$452:$D670))","v":""}]
[null,{"$f":"IF(D670=\"\",\"\",COUNT($D$24:$D$452)-COUNT(D$452:$D671))","v":""}]
[null,{"$f":"IF(D671=\"\",\"\",COUNT($D$24:$D$452)-COUNT(D$452:$D672))","v":""}]
[null,{"$f":"IF(D672=\"\",\"\",COUNT($D$24:$D$452)-COUNT(D$452:$D673))","v":""}]
[null,{"$f":"IF(D673=\"\",\"\",COUNT($D$24:$D$452)-COUNT(D$452:$D674))","v":""}]
[null,{"$f":"IF(D674=\"\",\"\",COUNT($D$24:$D$452)-COUNT(D$452:$D675))","v":""}]
[null,{"$f":"IF(D675=\"\",\"\",COUNT($D$24:$D$452)-COUNT(D$452:$D676))","v":""}]
[null,{"$f":"IF(D676=\"\",\"\",COUNT($D$24:$D$452)-COUNT(D$452:$D677))","v":""}]
[null,{"$f":"IF(D677=\"\",\"\",COUNT($D$24:$D$452)-COUNT(D$452:$D678))","v":""}]
[null,{"$f":"IF(D678=\"\",\"\",COUNT($D$24:$D$452)-COUNT(D$452:$D679))","v":""}]
[null,{"$f":"IF(D679=\"\",\"\",COUNT($D$24:$D$452)-COUNT(D$452:$D680))","v":""}]
[null,{"$f":"IF(D680=\"\",\"\",COUNT($D$24:$D$452)-COUNT(D$452:$D681))","v":""}]
[null,{"$f":"IF(D681=\"\",\"\",COUNT($D$24:$D$452)-COUNT(D$452:$D682))","v":""}]
[null,{"$f":"IF(D682=\"\",\"\",COUNT($D$24:$D$452)-COUNT(D$452:$D683))","v":""}]
[null,{"$f":"IF(D683=\"\",\"\",COUNT($D$24:$D$452)-COUNT(D$452:$D684))","v":""}]
[null,{"$f":"IF(D684=\"\",\"\",COUNT($D$24:$D$452)-COUNT(D$452:$D685))","v":""}]
[null,{"$f":"IF(D685=\"\",\"\",COUNT($D$24:$D$452)-COUNT(D$452:$D686))","v":""}]
[null,{"$f":"IF(D686=\"\",\"\",COUNT($D$24:$D$452)-COUNT(D$452:$D687))","v":""}]
[null,{"$f":"IF(D687=\"\",\"\",COUNT($D$24:$D$452)-COUNT(D$452:$D688))","v":""}]
[null,{"$f":"IF(D688=\"\",\"\",COUNT($D$24:$D$452)-COUNT(D$452:$D689))","v":""}]
[null,{"$f":"IF(D689=\"\",\"\",COUNT($D$24:$D$452)-COUNT(D$452:$D690))","v":""}]
[null,{"$f":"IF(D690=\"\",\"\",COUNT($D$24:$D$452)-COUNT(D$452:$D691))","v":""}]
[null,{"$f":"IF(D691=\"\",\"\",COUNT($D$24:$D$452)-COUNT(D$452:$D692))","v":""}]
[null,{"$f":"IF(D692=\"\",\"\",COUNT($D$24:$D$452)-COUNT(D$452:$D693))","v":""}]
[null,{"$f":"IF(D693=\"\",\"\",COUNT($D$24:$D$452)-COUNT(D$452:$D694))","v":""}]
[null,{"$f":"IF(D694=\"\",\"\",COUNT($D$24:$D$452)-COUNT(D$452:$D695))","v":""}]
[null,{"$f":"IF(D695=\"\",\"\",COUNT($D$24:$D$452)-COUNT(D$452:$D696))","v":""}]
[null,{"$f":"IF(D696=\"\",\"\",COUNT($D$24:$D$452)-COUNT(D$452:$D697))","v":""}]
[null,{"$f":"IF(D697=\"\",\"\",COUNT($D$24:$D$452)-COUNT(D$452:$D698))","v":""}]
[null,{"$f":"IF(D698=\"\",\"\",COUNT($D$24:$D$452)-COUNT(D$452:$D699))","v":""}]
[null,{"$f":"IF(D699=\"\",\"\",COUNT($D$24:$D$452)-COUNT(D$452:$D700))","v":""}]
[null,{"$f":"IF(D700=\"\",\"\",COUNT($D$24:$D$452)-COUNT(D$452:$D701))","v":""}]
[null,{"$f":"IF(D701=\"\",\"\",COUNT($D$24:$D$452)-COUNT(D$452:$D702))","v":""}]
[null,{"$f":"IF(D702=\"\",\"\",COUNT($D$24:$D$452)-COUNT(D$452:$D703))","v":""}]
[null,{"$f":"IF(D703=\"\",\"\",COUNT($D$24:$D$452)-COUNT(D$452:$D704))","v":""}]
[null,{"$f":"IF(D704=\"\",\"\",COUNT($D$24:$D$452)-COUNT(D$452:$D705))","v":""}]
[null,{"$f":"IF(D705=\"\",\"\",COUNT($D$24:$D$452)-COUNT(D$452:$D706))","v":""}]
[null,{"$f":"IF(D706=\"\",\"\",COUNT($D$24:$D$452)-COUNT(D$452:$D707))","v":""}]
[null,{"$f":"IF(D707=\"\",\"\",COUNT($D$24:$D$452)-COUNT(D$452:$D708))","v":""}]

{"sheet":"Number_of_Deviations","index":8,"n_rows":707,"n_cols":4,"rows_kept":707,"cut":false,"hidden":false,"merged":[]}
[null,"DO NOT REMOVE OR EDIT INFORMATION IN ROWS 1 THROUGH 5\nFOR INTERNAL USE ONLY"]
[null,"Template Name",null,{"$f":"+Welcome!B2","v":"63.8693(c) Semiannual Compliance Report (Spreadsheet Template)"}]
[null,"CitationID",null,{"$f":"+Welcome!B3","v":"63.8693(c)"}]
[null,"Template Version",null,{"$f":"+Welcome!B4","v":"v2.01"}]
[null,"Last Updated Date",null,{"$f":"+Welcome!B5","v":45397}]
[]
[null,"40 CFR Part 63, Subpart LLLLL National Emission Standards for Hazardous Air Pollutants: "]
[null,"Asphalt Processing and Asphalt Roofing Manufacturing - "]
[null,"§63.8693(c) Semiannual Compliance Report Spreadsheet Template"]
[]
[null,"* Required Field"]
[null,"Company Record No. *\n(Autofilled)","Process Unit Description *\n(§63.8693(d)(9))\n(Autofilled)","Number of Deviations From Emission, Operating Limit, Opacity Limit, or Visible Emissions Limit\n(§63.8693(c)(5))\n(Autofilled)"]
[null,"RecordId","ProcessUnitDesc","DeviationCount"]
[null,"e.g.: 1","e.g.: Line 1","e.g.: 0"]
[]
[]
[]
[]
[]
[]
[]
[]
[]
[null,{"$f":"IF(Lists!X2=\"\",\"\",Lists!X2)","v":""},{"$f":"IF(Lists!Y2=\"\",\"\",Lists!Y2)","v":""},{"$f":"IF(B24=\"\",\"\",COUNTIFS(Limits_Details!$A$24:$A$500,A24,Limits_Details!$B$24:$B$500,B24))","v":""}]
[null,{"$f":"IF(Lists!X3=\"\",\"\",Lists!X3)","v":""},{"$f":"IF(Lists!Y3=\"\",\"\",Lists!Y3)","v":""},{"$f":"IF(B25=\"\",\"\",COUNTIFS(Limits_Details!$A$24:$A$500,A25,Limits_Details!$B$24:$B$500,B25))","v":""}]
[null,{"$f":"IF(Lists!X4=\"\",\"\",Lists!X4)","v":""},{"$f":"IF(Lists!Y4=\"\",\"\",Lists!Y4)","v":""},{"$f":"IF(B26=\"\",\"\",COUNTIFS(Limits_Details!$A$24:$A$500,A26,Limits_Details!$B$24:$B$500,B26))","v":""}]
[null,{"$f":"IF(Lists!X5=\"\",\"\",Lists!X5)","v":""},{"$f":"IF(Lists!Y5=\"\",\"\",Lists!Y5)","v":""},{"$f":"IF(B27=\"\",\"\",COUNTIFS(Limits_Details!$A$24:$A$500,A27,Limits_Details!$B$24:$B$500,B27))","v":""}]
[null,{"$f":"IF(Lists!X6=\"\",\"\",Lists!X6)","v":""},{"$f":"IF(Lists!Y6=\"\",\"\",Lists!Y6)","v":""},{"$f":"IF(B28=\"\",\"\",COUNTIFS(Limits_Details!$A$24:$A$500,A28,Limits_Details!$B$24:$B$500,B28))","v":""}]
[null,{"$f":"IF(Lists!X7=\"\",\"\",Lists!X7)","v":""},{"$f":"IF(Lists!Y7=\"\",\"\",Lists!Y7)","v":""},{"$f":"IF(B29=\"\",\"\",COUNTIFS(Limits_Details!$A$24:$A$500,A29,Limits_Details!$B$24:$B$500,B29))","v":""}]
[null,{"$f":"IF(Lists!X8=\"\",\"\",Lists!X8)","v":""},{"$f":"IF(Lists!Y8=\"\",\"\",Lists!Y8)","v":""},{"$f":"IF(B30=\"\",\"\",COUNTIFS(Limits_Details!$A$24:$A$500,A30,Limits_Details!$B$24:$B$500,B30))","v":""}]
[null,{"$f":"IF(Lists!X9=\"\",\"\",Lists!X9)","v":""},{"$f":"IF(Lists!Y9=\"\",\"\",Lists!Y9)","v":""},{"$f":"IF(B31=\"\",\"\",COUNTIFS(Limits_Details!$A$24:$A$500,A31,Limits_Details!$B$24:$B$500,B31))","v":""}]
[null,{"$f":"IF(Lists!X10=\"\",\"\",Lists!X10)","v":""},{"$f":"IF(Lists!Y10=\"\",\"\",Lists!Y10)","v":""},{"$f":"IF(B32=\"\",\"\",COUNTIFS(Limits_Details!$A$24:$A$500,A32,Limits_Details!$B$24:$B$500,B32))","v":""}]
[null,{"$f":"IF(Lists!X11=\"\",\"\",Lists!X11)","v":""},{"$f":"IF(Lists!Y11=\"\",\"\",Lists!Y11)","v":""},{"$f":"IF(B33=\"\",\"\",COUNTIFS(Limits_Details!$A$24:$A$500,A33,Limits_Details!$B$24:$B$500,B33))","v":""}]
[null,{"$f":"IF(Lists!X12=\"\",\"\",Lists!X12)","v":""},{"$f":"IF(Lists!Y12=\"\",\"\",Lists!Y12)","v":""},{"$f":"IF(B34=\"\",\"\",COUNTIFS(Limits_Details!$A$24:$A$500,A34,Limits_Details!$B$24:$B$500,B34))","v":""}]
[null,{"$f":"IF(Lists!X13=\"\",\"\",Lists!X13)","v":""},{"$f":"IF(Lists!Y13=\"\",\"\",Lists!Y13)","v":""},{"$f":"IF(B35=\"\",\"\",COUNTIFS(Limits_Details!$A$24:$A$500,A35,Limits_Details!$B$24:$B$500,B35))","v":""}]
[null,{"$f":"IF(Lists!X14=\"\",\"\",Lists!X14)","v":""},{"$f":"IF(Lists!Y14=\"\",\"\",Lists!Y14)","v":""},{"$f":"IF(B36=\"\",\"\",COUNTIFS(Limits_Details!$A$24:$A$500,A36,Limits_Details!$B$24:$B$500,B36))","v":""}]
[null,{"$f":"IF(Lists!X15=\"\",\"\",Lists!X15)","v":""},{"$f":"IF(Lists!Y15=\"\",\"\",Lists!Y15)","v":""},{"$f":"IF(B37=\"\",\"\",COUNTIFS(Limits_Details!$A$24:$A$500,A37,Limits_Details!$B$24:$B$500,B37))","v":""}]
[null,{"$f":"IF(Lists!X16=\"\",\"\",Lists!X16)","v":""},{"$f":"IF(Lists!Y16=\"\",\"\",Lists!Y16)","v":""},{"$f":"IF(B38=\"\",\"\",COUNTIFS(Limits_Details!$A$24:$A$500,A38,Limits_Details!$B$24:$B$500,B38))","v":""}]
[null,{"$f":"IF(Lists!X17=\"\",\"\",Lists!X17)","v":""},{"$f":"IF(Lists!Y17=\"\",\"\",Lists!Y17)","v":""},{"$f":"IF(B39=\"\",\"\",COUNTIFS(Limits_Details!$A$24:$A$500,A39,Limits_Details!$B$24:$B$500,B39))","v":""}]
[null,{"$f":"IF(Lists!X18=\"\",\"\",Lists!X18)","v":""},{"$f":"IF(Lists!Y18=\"\",\"\",Lists!Y18)","v":""},{"$f":"IF(B40=\"\",\"\",COUNTIFS(Limits_Details!$A$24:$A$500,A40,Limits_Details!$B$24:$B$500,B40))","v":""}]
[null,{"$f":"IF(Lists!X19=\"\",\"\",Lists!X19)","v":""},{"$f":"IF(Lists!Y19=\"\",\"\",Lists!Y19)","v":""},{"$f":"IF(B41=\"\",\"\",COUNTIFS(Limits_Details!$A$24:$A$500,A41,Limits_Details!$B$24:$B$500,B41))","v":""}]
[null,{"$f":"IF(Lists!X20=\"\",\"\",Lists!X20)","v":""},{"$f":"IF(Lists!Y20=\"\",\"\",Lists!Y20)","v":""},{"$f":"IF(B42=\"\",\"\",COUNTIFS(Limits_Details!$A$24:$A$500,A42,Limits_Details!$B$24:$B$500,B42))","v":""}]
[null,{"$f":"IF(Lists!X21=\"\",\"\",Lists!X21)","v":""},{"$f":"IF(Lists!Y21=\"\",\"\",Lists!Y21)","v":""},{"$f":"IF(B43=\"\",\"\",COUNTIFS(Limits_Details!$A$24:$A$500,A43,Limits_Details!$B$24:$B$500,B43))","v":""}]
[null,{"$f":"IF(Lists!X22=\"\",\"\",Lists!X22)","v":""},{"$f":"IF(Lists!Y22=\"\",\"\",Lists!Y22)","v":""},{"$f":"IF(B44=\"\",\"\",COUNTIFS(Limits_Details!$A$24:$A$500,A44,Limits_Details!$B$24:$B$500,B44))","v":""}]
[null,{"$f":"IF(Lists!X23=\"\",\"\",Lists!X23)","v":""},{"$f":"IF(Lists!Y23=\"\",\"\",Lists!Y23)","v":""},{"$f":"IF(B45=\"\",\"\",COUNTIFS(Limits_Details!$A$24:$A$500,A45,Limits_Details!$B$24:$B$500,B45))","v":""}]
[null,{"$f":"IF(Lists!X24=\"\",\"\",Lists!X24)","v":""},{"$f":"IF(Lists!Y24=\"\",\"\",Lists!Y24)","v":""},{"$f":"IF(B46=\"\",\"\",COUNTIFS(Limits_Details!$A$24:$A$500,A46,Limits_Details!$B$24:$B$500,B46))","v":""}]
[null,{"$f":"IF(Lists!X25=\"\",\"\",Lists!X25)","v":""},{"$f":"IF(Lists!Y25=\"\",\"\",Lists!Y25)","v":""},{"$f":"IF(B47=\"\",\"\",COUNTIFS(Limits_Details!$A$24:$A$500,A47,Limits_Details!$B$24:$B$500,B47))","v":""}]
[null,{"$f":"IF(Lists!X26=\"\",\"\",Lists!X26)","v":""},{"$f":"IF(Lists!Y26=\"\",\"\",Lists!Y26)","v":""},{"$f":"IF(B48=\"\",\"\",COUNTIFS(Limits_Details!$A$24:$A$500,A48,Limits_Details!$B$24:$B$500,B48))","v":""}]
[null,{"$f":"IF(Lists!X27=\"\",\"\",Lists!X27)","v":""},{"$f":"IF(Lists!Y27=\"\",\"\",Lists!Y27)","v":""},{"$f":"IF(B49=\"\",\"\",COUNTIFS(Limits_Details!$A$24:$A$500,A49,Limits_Details!$B$24:$B$500,B49))","v":""}]
[null,{"$f":"IF(Lists!X28=\"\",\"\",Lists!X28)","v":""},{"$f":"IF(Lists!Y28=\"\",\"\",Lists!Y28)","v":""},{"$f":"IF(B50=\"\",\"\",COUNTIFS(Limits_Details!$A$24:$A$500,A50,Limits_Details!$B$24:$B$500,B50))","v":""}]
[null,{"$f":"IF(Lists!X29=\"\",\"\",Lists!X29)","v":""},{"$f":"IF(Lists!Y29=\"\",\"\",Lists!Y29)","v":""},{"$f":"IF(B51=\"\",\"\",COUNTIFS(Limits_Details!$A$24:$A$500,A51,Limits_Details!$B$24:$B$500,B51))","v":""}]
[null,{"$f":"IF(Lists!X30=\"\",\"\",Lists!X30)","v":""},{"$f":"IF(Lists!Y30=\"\",\"\",Lists!Y30)","v":""},{"$f":"IF(B52=\"\",\"\",COUNTIFS(Limits_Details!$A$24:$A$500,A52,Limits_Details!$B$24:$B$500,B52))","v":""}]
[null,{"$f":"IF(Lists!X31=\"\",\"\",Lists!X31)","v":""},{"$f":"IF(Lists!Y31=\"\",\"\",Lists!Y31)","v":""},{"$f":"IF(B53=\"\",\"\",COUNTIFS(Limits_Details!$A$24:$A$500,A53,Limits_Details!$B$24:$B$500,B53))","v":""}]
[null,{"$f":"IF(Lists!X32=\"\",\"\",Lists!X32)","v":""},{"$f":"IF(Lists!Y32=\"\",\"\",Lists!Y32)","v":""},{"$f":"IF(B54=\"\",\"\",COUNTIFS(Limits_Details!$A$24:$A$500,A54,Limits_Details!$B$24:$B$500,B54))","v":""}]
[null,{"$f":"IF(Lists!X33=\"\",\"\",Lists!X33)","v":""},{"$f":"IF(Lists!Y33=\"\",\"\",Lists!Y33)","v":""},{"$f":"IF(B55=\"\",\"\",COUNTIFS(Limits_Details!$A$24:$A$500,A55,Limits_Details!$B$24:$B$500,B55))","v":""}]
[null,{"$f":"IF(Lists!X34=\"\",\"\",Lists!X34)","v":""},{"$f":"IF(Lists!Y34=\"\",\"\",Lists!Y34)","v":""},{"$f":"IF(B56=\"\",\"\",COUNTIFS(Limits_Details!$A$24:$A$500,A56,Limits_Details!$B$24:$B$500,B56))","v":""}]
[null,{"$f":"IF(Lists!X35=\"\",\"\",Lists!X35)","v":""},{"$f":"IF(Lists!Y35=\"\",\"\",Lists!Y35)","v":""},{"$f":"IF(B57=\"\",\"\",COUNTIFS(Limits_Details!$A$24:$A$500,A57,Limits_Details!$B$24:$B$500,B57))","v":""}]
[null,{"$f":"IF(Lists!X36=\"\",\"\",Lists!X36)","v":""},{"$f":"IF(Lists!Y36=\"\",\"\",Lists!Y36)","v":""},{"$f":"IF(B58=\"\",\"\",COUNTIFS(Limits_Details!$A$24:$A$500,A58,Limits_Details!$B$24:$B$500,B58))","v":""}]
[null,{"$f":"IF(Lists!X37=\"\",\"\",Lists!X37)","v":""},{"$f":"IF(Lists!Y37=\"\",\"\",Lists!Y37)","v":""},{"$f":"IF(B59=\"\",\"\",COUNTIFS(Limits_Details!$A$24:$A$500,A59,Limits_Details!$B$24:$B$500,B59))","v":""}]
[null,{"$f":"IF(Lists!X38=\"\",\"\",Lists!X38)","v":""},{"$f":"IF(Lists!Y38=\"\",\"\",Lists!Y38)","v":""},{"$f":"IF(B60=\"\",\"\",COUNTIFS(Limits_Details!$A$24:$A$500,A60,Limits_Details!$B$24:$B$500,B60))","v":""}]
[null,{"$f":"IF(Lists!X39=\"\",\"\",Lists!X39)","v":""},{"$f":"IF(Lists!Y39=\"\",\"\",Lists!Y39)","v":""},{"$f":"IF(B61=\"\",\"\",COUNTIFS(Limits_Details!$A$24:$A$500,A61,Limits_Details!$B$24:$B$500,B61))","v":""}]
[null,{"$f":"IF(Lists!X40=\"\",\"\",Lists!X40)","v":""},{"$f":"IF(Lists!Y40=\"\",\"\",Lists!Y40)","v":""},{"$f":"IF(B62=\"\",\"\",COUNTIFS(Limits_Details!$A$24:$A$500,A62,Limits_Details!$B$24:$B$500,B62))","v":""}]
[null,{"$f":"IF(Lists!X41=\"\",\"\",Lists!X41)","v":""},{"$f":"IF(Lists!Y41=\"\",\"\",Lists!Y41)","v":""},{"$f":"IF(B63=\"\",\"\",COUNTIFS(Limits_Details!$A$24:$A$500,A63,Limits_Details!$B$24:$B$500,B63))","v":""}]
[null,{"$f":"IF(Lists!X42=\"\",\"\",Lists!X42)","v":""},{"$f":"IF(Lists!Y42=\"\",\"\",Lists!Y42)","v":""},{"$f":"IF(B64=\"\",\"\",COUNTIFS(Limits_Details!$A$24:$A$500,A64,Limits_Details!$B$24:$B$500,B64))","v":""}]
[null,{"$f":"IF(Lists!X43=\"\",\"\",Lists!X43)","v":""},{"$f":"IF(Lists!Y43=\"\",\"\",Lists!Y43)","v":""},{"$f":"IF(B65=\"\",\"\",COUNTIFS(Limits_Details!$A$24:$A$500,A65,Limits_Details!$B$24:$B$500,B65))","v":""}]
[null,{"$f":"IF(Lists!X44=\"\",\"\",Lists!X44)","v":""},{"$f":"IF(Lists!Y44=\"\",\"\",Lists!Y44)","v":""},{"$f":"IF(B66=\"\",\"\",COUNTIFS(Limits_Details!$A$24:$A$500,A66,Limits_Details!$B$24:$B$500,B66))","v":""}]
[null,{"$f":"IF(Lists!X45=\"\",\"\",Lists!X45)","v":""},{"$f":"IF(Lists!Y45=\"\",\"\",Lists!Y45)","v":""},{"$f":"IF(B67=\"\",\"\",COUNTIFS(Limits_Details!$A$24:$A$500,A67,Limits_Details!$B$24:$B$500,B67))","v":""}]
[null,{"$f":"IF(Lists!X46=\"\",\"\",Lists!X46)","v":""},{"$f":"IF(Lists!Y46=\"\",\"\",Lists!Y46)","v":""},{"$f":"IF(B68=\"\",\"\",COUNTIFS(Limits_Details!$A$24:$A$500,A68,Limits_Details!$B$24:$B$500,B68))","v":""}]
[null,{"$f":"IF(Lists!X47=\"\",\"\",Lists!X47)","v":""},{"$f":"IF(Lists!Y47=\"\",\"\",Lists!Y47)","v":""},{"$f":"IF(B69=\"\",\"\",COUNTIFS(Limits_Details!$A$24:$A$500,A69,Limits_Details!$B$24:$B$500,B69))","v":""}]
[null,{"$f":"IF(Lists!X48=\"\",\"\",Lists!X48)","v":""},{"$f":"IF(Lists!Y48=\"\",\"\",Lists!Y48)","v":""},{"$f":"IF(B70=\"\",\"\",COUNTIFS(Limits_Details!$A$24:$A$500,A70,Limits_Details!$B$24:$B$500,B70))","v":""}]
[null,{"$f":"IF(Lists!X49=\"\",\"\",Lists!X49)","v":""},{"$f":"IF(Lists!Y49=\"\",\"\",Lists!Y49)","v":""},{"$f":"IF(B71=\"\",\"\",COUNTIFS(Limits_Details!$A$24:$A$500,A71,Limits_Details!$B$24:$B$500,B71))","v":""}]
[null,{"$f":"IF(Lists!X50=\"\",\"\",Lists!X50)","v":""},{"$f":"IF(Lists!Y50=\"\",\"\",Lists!Y50)","v":""},{"$f":"IF(B72=\"\",\"\",COUNTIFS(Limits_Details!$A$24:$A$500,A72,Limits_Details!$B$24:$B$500,B72))","v":""}]
[null,{"$f":"IF(Lists!X51=\"\",\"\",Lists!X51)","v":""},{"$f":"IF(Lists!Y51=\"\",\"\",Lists!Y51)","v":""},{"$f":"IF(B73=\"\",\"\",COUNTIFS(Limits_Details!$A$24:$A$500,A73,Limits_Details!$B$24:$B$500,B73))","v":""}]
[null,{"$f":"IF(Lists!X52=\"\",\"\",Lists!X52)","v":""},{"$f":"IF(Lists!Y52=\"\",\"\",Lists!Y52)","v":""},{"$f":"IF(B74=\"\",\"\",COUNTIFS(Limits_Details!$A$24:$A$500,A74,Limits_Details!$B$24:$B$500,B74))","v":""}]
[null,{"$f":"IF(Lists!X53=\"\",\"\",Lists!X53)","v":""},{"$f":"IF(Lists!Y53=\"\",\"\",Lists!Y53)","v":""},{"$f":"IF(B75=\"\",\"\",COUNTIFS(Limits_Details!$A$24:$A$500,A75,Limits_Details!$B$24:$B$500,B75))","v":""}]
[null,{"$f":"IF(Lists!X54=\"\",\"\",Lists!X54)","v":""},{"$f":"IF(Lists!Y54=\"\",\"\",Lists!Y54)","v":""},{"$f":"IF(B76=\"\",\"\",COUNTIFS(Limits_Details!$A$24:$A$500,A76,Limits_Details!$B$24:$B$500,B76))","v":""}]
[null,{"$f":"IF(Lists!X55=\"\",\"\",Lists!X55)","v":""},{"$f":"IF(Lists!Y55=\"\",\"\",Lists!Y55)","v":""},{"$f":"IF(B77=\"\",\"\",COUNTIFS(Limits_Details!$A$24:$A$500,A77,Limits_Details!$B$24:$B$500,B77))","v":""}]
[null,{"$f":"IF(Lists!X56=\"\",\"\",Lists!X56)","v":""},{"$f":"IF(Lists!Y56=\"\",\"\",Lists!Y56)","v":""},{"$f":"IF(B78=\"\",\"\",COUNTIFS(Limits_Details!$A$24:$A$500,A78,Limits_Details!$B$24:$B$500,B78))","v":""}]
[null,{"$f":"IF(Lists!X57=\"\",\"\",Lists!X57)","v":""},{"$f":"IF(Lists!Y57=\"\",\"\",Lists!Y57)","v":""},{"$f":"IF(B79=\"\",\"\",COUNTIFS(Limits_Details!$A$24:$A$500,A79,Limits_Details!$B$24:$B$500,B79))","v":""}]
[null,{"$f":"IF(Lists!X58=\"\",\"\",Lists!X58)","v":""},{"$f":"IF(Lists!Y58=\"\",\"\",Lists!Y58)","v":""},{"$f":"IF(B80=\"\",\"\",COUNTIFS(Limits_Details!$A$24:$A$500,A80,Limits_Details!$B$24:$B$500,B80))","v":""}]
[null,{"$f":"IF(Lists!X59=\"\",\"\",Lists!X59)","v":""},{"$f":"IF(Lists!Y59=\"\",\"\",Lists!Y59)","v":""},{"$f":"IF(B81=\"\",\"\",COUNTIFS(Limits_Details!$A$24:$A$500,A81,Limits_Details!$B$24:$B$500,B81))","v":""}]
[null,{"$f":"IF(Lists!X60=\"\",\"\",Lists!X60)","v":""},{"$f":"IF(Lists!Y60=\"\",\"\",Lists!Y60)","v":""},{"$f":"IF(B82=\"\",\"\",COUNTIFS(Limits_Details!$A$24:$A$500,A82,Limits_Details!$B$24:$B$500,B82))","v":""}]
[null,{"$f":"IF(Lists!X61=\"\",\"\",Lists!X61)","v":""},{"$f":"IF(Lists!Y61=\"\",\"\",Lists!Y61)","v":""},{"$f":"IF(B83=\"\",\"\",COUNTIFS(Limits_Details!$A$24:$A$500,A83,Limits_Details!$B$24:$B$500,B83))","v":""}]
[null,{"$f":"IF(Lists!X62=\"\",\"\",Lists!X62)","v":""},{"$f":"IF(Lists!Y62=\"\",\"\",Lists!Y62)","v":""},{"$f":"IF(B84=\"\",\"\",COUNTIFS(Limits_Details!$A$24:$A$500,A84,Limits_Details!$B$24:$B$500,B84))","v":""}]
[null,{"$f":"IF(Lists!X63=\"\",\"\",Lists!X63)","v":""},{"$f":"IF(Lists!Y63=\"\",\"\",Lists!Y63)","v":""},{"$f":"IF(B85=\"\",\"\",COUNTIFS(Limits_Details!$A$24:$A$500,A85,Limits_Details!$B$24:$B$500,B85))","v":""}]
[null,{"$f":"IF(Lists!X64=\"\",\"\",Lists!X64)","v":""},{"$f":"IF(Lists!Y64=\"\",\"\",Lists!Y64)","v":""},{"$f":"IF(B86=\"\",\"\",COUNTIFS(Limits_Details!$A$24:$A$500,A86,Limits_Details!$B$24:$B$500,B86))","v":""}]
[null,{"$f":"IF(Lists!X65=\"\",\"\",Lists!X65)","v":""},{"$f":"IF(Lists!Y65=\"\",\"\",Lists!Y65)","v":""},{"$f":"IF(B87=\"\",\"\",COUNTIFS(Limits_Details!$A$24:$A$500,A87,Limits_Details!$B$24:$B$500,B87))","v":""}]
[null,{"$f":"IF(Lists!X66=\"\",\"\",Lists!X66)","v":""},{"$f":"IF(Lists!Y66=\"\",\"\",Lists!Y66)","v":""},{"$f":"IF(B88=\"\",\"\",COUNTIFS(Limits_Details!$A$24:$A$500,A88,Limits_Details!$B$24:$B$500,B88))","v":""}]
[null,{"$f":"IF(Lists!X67=\"\",\"\",Lists!X67)","v":""},{"$f":"IF(Lists!Y67=\"\",\"\",Lists!Y67)","v":""},{"$f":"IF(B89=\"\",\"\",COUNTIFS(Limits_Details!$A$24:$A$500,A89,Limits_Details!$B$24:$B$500,B89))","v":""}]
[null,{"$f":"IF(Lists!X68=\"\",\"\",Lists!X68)","v":""},{"$f":"IF(Lists!Y68=\"\",\"\",Lists!Y68)","v":""},{"$f":"IF(B90=\"\",\"\",COUNTIFS(Limits_Details!$A$24:$A$500,A90,Limits_Details!$B$24:$B$500,B90))","v":""}]
[null,{"$f":"IF(Lists!X69=\"\",\"\",Lists!X69)","v":""},{"$f":"IF(Lists!Y69=\"\",\"\",Lists!Y69)","v":""},{"$f":"IF(B91=\"\",\"\",COUNTIFS(Limits_Details!$A$24:$A$500,A91,Limits_Details!$B$24:$B$500,B91))","v":""}]
[null,{"$f":"IF(Lists!X70=\"\",\"\",Lists!X70)","v":""},{"$f":"IF(Lists!Y70=\"\",\"\",Lists!Y70)","v":""},{"$f":"IF(B92=\"\",\"\",COUNTIFS(Limits_Details!$A$24:$A$500,A92,Limits_Details!$B$24:$B$500,B92))","v":""}]
[null,{"$f":"IF(Lists!X71=\"\",\"\",Lists!X71)","v":""},{"$f":"IF(Lists!Y71=\"\",\"\",Lists!Y71)","v":""},{"$f":"IF(B93=\"\",\"\",COUNTIFS(Limits_Details!$A$24:$A$500,A93,Limits_Details!$B$24:$B$500,B93))","v":""}]
[null,{"$f":"IF(Lists!X72=\"\",\"\",Lists!X72)","v":""},{"$f":"IF(Lists!Y72=\"\",\"\",Lists!Y72)","v":""},{"$f":"IF(B94=\"\",\"\",COUNTIFS(Limits_Details!$A$24:$A$500,A94,Limits_Details!$B$24:$B$500,B94))","v":""}]
[null,{"$f":"IF(Lists!X73=\"\",\"\",Lists!X73)","v":""},{"$f":"IF(Lists!Y73=\"\",\"\",Lists!Y73)","v":""},{"$f":"IF(B95=\"\",\"\",COUNTIFS(Limits_Details!$A$24:$A$500,A95,Limits_Details!$B$24:$B$500,B95))","v":""}]
[null,{"$f":"IF(Lists!X74=\"\",\"\",Lists!X74)","v":""},{"$f":"IF(Lists!Y74=\"\",\"\",Lists!Y74)","v":""},{"$f":"IF(B96=\"\",\"\",COUNTIFS(Limits_Details!$A$24:$A$500,A96,Limits_Details!$B$24:$B$500,B96))","v":""}]
[null,{"$f":"IF(Lists!X75=\"\",\"\",Lists!X75)","v":""},{"$f":"IF(Lists!Y75=\"\",\"\",Lists!Y75)","v":""},{"$f":"IF(B97=\"\",\"\",COUNTIFS(Limits_Details!$A$24:$A$500,A97,Limits_Details!$B$24:$B$500,B97))","v":""}]
[null,{"$f":"IF(Lists!X76=\"\",\"\",Lists!X76)","v":""},{"$f":"IF(Lists!Y76=\"\",\"\",Lists!Y76)","v":""},{"$f":"IF(B98=\"\",\"\",COUNTIFS(Limits_Details!$A$24:$A$500,A98,Limits_Details!$B$24:$B$500,B98))","v":""}]
[null,{"$f":"IF(Lists!X77=\"\",\"\",Lists!X77)","v":""},{"$f":"IF(Lists!Y77=\"\",\"\",Lists!Y77)","v":""},{"$f":"IF(B99=\"\",\"\",COUNTIFS(Limits_Details!$A$24:$A$500,A99,Limits_Details!$B$24:$B$500,B99))","v":""}]
[null,{"$f":"IF(Lists!X78=\"\",\"\",Lists!X78)","v":""},{"$f":"IF(Lists!Y78=\"\",\"\",Lists!Y78)","v":""},{"$f":"IF(B100=\"\",\"\",COUNTIFS(Limits_Details!$A$24:$A$500,A100,Limits_Details!$B$24:$B$500,B100))","v":""}]
[null,{"$f":"IF(D101=\"\",\"\",COUNT($D$24:$D$452)-COUNT(D102:$D$452))","v":""}]
[null,{"$f":"IF(D102=\"\",\"\",COUNT($D$24:$D$452)-COUNT(D103:$D$452))","v":""}]
[null,{"$f":"IF(D103=\"\",\"\",COUNT($D$24:$D$452)-COUNT(D104:$D$452))","v":""}]
[null,{"$f":"IF(D104=\"\",\"\",COUNT($D$24:$D$452)-COUNT(D105:$D$452))","v":""}]
[null,{"$f":"IF(D105=\"\",\"\",COUNT($D$24:$D$452)-COUNT(D106:$D$452))","v":""}]
[null,{"$f":"IF(D106=\"\",\"\",COUNT($D$24:$D$452)-COUNT(D107:$D$452))","v":""}]
[null,{"$f":"IF(D107=\"\",\"\",COUNT($D$24:$D$452)-COUNT(D108:$D$452))","v":""}]
[null,{"$f":"IF(D108=\"\",\"\",COUNT($D$24:$D$452)-COUNT(D109:$D$452))","v":""}]
[null,{"$f":"IF(D109=\"\",\"\",COUNT($D$24:$D$452)-COUNT(D110:$D$452))","v":""}]
[null,{"$f":"IF(D110=\"\",\"\",COUNT($D$24:$D$452)-COUNT(D111:$D$452))","v":""}]
[null,{"$f":"IF(D111=\"\",\"\",COUNT($D$24:$D$452)-COUNT(D112:$D$452))","v":""}]
[null,{"$f":"IF(D112=\"\",\"\",COUNT($D$24:$D$452)-COUNT(D113:$D$452))","v":""}]
[null,{"$f":"IF(D113=\"\",\"\",COUNT($D$24:$D$452)-COUNT(D114:$D$452))","v":""}]
[null,{"$f":"IF(D114=\"\",\"\",COUNT($D$24:$D$452)-COUNT(D115:$D$452))","v":""}]
[null,{"$f":"IF(D115=\"\",\"\",COUNT($D$24:$D$452)-COUNT(D116:$D$452))","v":""}]
[null,{"$f":"IF(D116=\"\",\"\",COUNT($D$24:$D$452)-COUNT(D117:$D$452))","v":""}]
[null,{"$f":"IF(D117=\"\",\"\",COUNT($D$24:$D$452)-COUNT(D118:$D$452))","v":""}]
[null,{"$f":"IF(D118=\"\",\"\",COUNT($D$24:$D$452)-COUNT(D119:$D$452))","v":""}]
[null,{"$f":"IF(D119=\"\",\"\",COUNT($D$24:$D$452)-COUNT(D120:$D$452))","v":""}]
[null,{"$f":"IF(D120=\"\",\"\",COUNT($D$24:$D$452)-COUNT(D121:$D$452))","v":""}]
[null,{"$f":"IF(D121=\"\",\"\",COUNT($D$24:$D$452)-COUNT(D122:$D$452))","v":""}]
[null,{"$f":"IF(D122=\"\",\"\",COUNT($D$24:$D$452)-COUNT(D123:$D$452))","v":""}]
[null,{"$f":"IF(D123=\"\",\"\",COUNT($D$24:$D$452)-COUNT(D124:$D$452))","v":""}]
[null,{"$f":"IF(D124=\"\",\"\",COUNT($D$24:$D$452)-COUNT(D125:$D$452))","v":""}]
[null,{"$f":"IF(D125=\"\",\"\",COUNT($D$24:$D$452)-COUNT(D126:$D$452))","v":""}]
[null,{"$f":"IF(D126=\"\",\"\",COUNT($D$24:$D$452)-COUNT(D127:$D$452))","v":""}]
[null,{"$f":"IF(D127=\"\",\"\",COUNT($D$24:$D$452)-COUNT(D128:$D$452))","v":""}]
[null,{"$f":"IF(D128=\"\",\"\",COUNT($D$24:$D$452)-COUNT(D129:$D$452))","v":""}]
[null,{"$f":"IF(D129=\"\",\"\",COUNT($D$24:$D$452)-COUNT(D130:$D$452))","v":""}]
[null,{"$f":"IF(D130=\"\",\"\",COUNT($D$24:$D$452)-COUNT(D131:$D$452))","v":""}]
[null,{"$f":"IF(D131=\"\",\"\",COUNT($D$24:$D$452)-COUNT(D132:$D$452))","v":""}]
[null,{"$f":"IF(D132=\"\",\"\",COUNT($D$24:$D$452)-COUNT(D133:$D$452))","v":""}]
[null,{"$f":"IF(D133=\"\",\"\",COUNT($D$24:$D$452)-COUNT(D134:$D$452))","v":""}]
[null,{"$f":"IF(D134=\"\",\"\",COUNT($D$24:$D$452)-COUNT(D135:$D$452))","v":""}]
[null,{"$f":"IF(D135=\"\",\"\",COUNT($D$24:$D$452)-COUNT(D136:$D$452))","v":""}]
[null,{"$f":"IF(D136=\"\",\"\",COUNT($D$24:$D$452)-COUNT(D137:$D$452))","v":""}]
[null,{"$f":"IF(D137=\"\",\"\",COUNT($D$24:$D$452)-COUNT(D138:$D$452))","v":""}]
[null,{"$f":"IF(D138=\"\",\"\",COUNT($D$24:$D$452)-COUNT(D139:$D$452))","v":""}]
[null,{"$f":"IF(D139=\"\",\"\",COUNT($D$24:$D$452)-COUNT(D140:$D$452))","v":""}]
[null,{"$f":"IF(D140=\"\",\"\",COUNT($D$24:$D$452)-COUNT(D141:$D$452))","v":""}]
[null,{"$f":"IF(D141=\"\",\"\",COUNT($D$24:$D$452)-COUNT(D142:$D$452))","v":""}]
[null,{"$f":"IF(D142=\"\",\"\",COUNT($D$24:$D$452)-COUNT(D143:$D$452))","v":""}]
[null,{"$f":"IF(D143=\"\",\"\",COUNT($D$24:$D$452)-COUNT(D144:$D$452))","v":""}]
[null,{"$f":"IF(D144=\"\",\"\",COUNT($D$24:$D$452)-COUNT(D145:$D$452))","v":""}]
[null,{"$f":"IF(D145=\"\",\"\",COUNT($D$24:$D$452)-COUNT(D146:$D$452))","v":""}]
[null,{"$f":"IF(D146=\"\",\"\",COUNT($D$24:$D$452)-COUNT(D147:$D$452))","v":""}]
[null,{"$f":"IF(D147=\"\",\"\",COUNT($D$24:$D$452)-COUNT(D148:$D$452))","v":""}]
[null,{"$f":"IF(D148=\"\",\"\",COUNT($D$24:$D$452)-COUNT(D149:$D$452))","v":""}]
[null,{"$f":"IF(D149=\"\",\"\",COUNT($D$24:$D$452)-COUNT(D150:$D$452))","v":""}]
[null,{"$f":"IF(D150=\"\",\"\",COUNT($D$24:$D$452)-COUNT(D151:$D$452))","v":""}]
[null,{"$f":"IF(D151=\"\",\"\",COUNT($D$24:$D$452)-COUNT(D152:$D$452))","v":""}]
[null,{"$f":"IF(D152=\"\",\"\",COUNT($D$24:$D$452)-COUNT(D153:$D$452))","v":""}]
[null,{"$f":"IF(D153=\"\",\"\",COUNT($D$24:$D$452)-COUNT(D154:$D$452))","v":""}]
[null,{"$f":"IF(D154=\"\",\"\",COUNT($D$24:$D$452)-COUNT(D155:$D$452))","v":""}]
[null,{"$f":"IF(D155=\"\",\"\",COUNT($D$24:$D$452)-COUNT(D156:$D$452))","v":""}]
[null,{"$f":"IF(D156=\"\",\"\",COUNT($D$24:$D$452)-COUNT(D157:$D$452))","v":""}]
[null,{"$f":"IF(D157=\"\",\"\",COUNT($D$24:$D$452)-COUNT(D158:$D$452))","v":""}]
[null,{"$f":"IF(D158=\"\",\"\",COUNT($D$24:$D$452)-COUNT(D159:$D$452))","v":""}]
[null,{"$f":"IF(D159=\"\",\"\",COUNT($D$24:$D$452)-COUNT(D160:$D$452))","v":""}]
[null,{"$f":"IF(D160=\"\",\"\",COUNT($D$24:$D$452)-COUNT(D161:$D$452))","v":""}]
[null,{"$f":"IF(D161=\"\",\"\",COUNT($D$24:$D$452)-COUNT(D162:$D$452))","v":""}]
[null,{"$f":"IF(D162=\"\",\"\",COUNT($D$24:$D$452)-COUNT(D163:$D$452))","v":""}]
[null,{"$f":"IF(D163=\"\",\"\",COUNT($D$24:$D$452)-COUNT(D164:$D$452))","v":""}]
[null,{"$f":"IF(D164=\"\",\"\",COUNT($D$24:$D$452)-COUNT(D165:$D$452))","v":""}]
[null,{"$f":"IF(D165=\"\",\"\",COUNT($D$24:$D$452)-COUNT(D166:$D$452))","v":""}]
[null,{"$f":"IF(D166=\"\",\"\",COUNT($D$24:$D$452)-COUNT(D167:$D$452))","v":""}]
[null,{"$f":"IF(D167=\"\",\"\",COUNT($D$24:$D$452)-COUNT(D168:$D$452))","v":""}]
[null,{"$f":"IF(D168=\"\",\"\",COUNT($D$24:$D$452)-COUNT(D169:$D$452))","v":""}]
[null,{"$f":"IF(D169=\"\",\"\",COUNT($D$24:$D$452)-COUNT(D170:$D$452))","v":""}]
[null,{"$f":"IF(D170=\"\",\"\",COUNT($D$24:$D$452)-COUNT(D171:$D$452))","v":""}]
[null,{"$f":"IF(D171=\"\",\"\",COUNT($D$24:$D$452)-COUNT(D172:$D$452))","v":""}]
[null,{"$f":"IF(D172=\"\",\"\",COUNT($D$24:$D$452)-COUNT(D173:$D$452))","v":""}]
[null,{"$f":"IF(D173=\"\",\"\",COUNT($D$24:$D$452)-COUNT(D174:$D$452))","v":""}]
[null,{"$f":"IF(D174=\"\",\"\",COUNT($D$24:$D$452)-COUNT(D175:$D$452))","v":""}]
[null,{"$f":"IF(D175=\"\",\"\",COUNT($D$24:$D$452)-COUNT(D176:$D$452))","v":""}]
[null,{"$f":"IF(D176=\"\",\"\",COUNT($D$24:$D$452)-COUNT(D177:$D$452))","v":""}]
[null,{"$f":"IF(D177=\"\",\"\",COUNT($D$24:$D$452)-COUNT(D178:$D$452))","v":""}]
[null,{"$f":"IF(D178=\"\",\"\",COUNT($D$24:$D$452)-COUNT(D179:$D$452))","v":""}]
[null,{"$f":"IF(D179=\"\",\"\",COUNT($D$24:$D$452)-COUNT(D180:$D$452))","v":""}]
[null,{"$f":"IF(D180=\"\",\"\",COUNT($D$24:$D$452)-COUNT(D181:$D$452))","v":""}]
[null,{"$f":"IF(D181=\"\",\"\",COUNT($D$24:$D$452)-COUNT(D182:$D$452))","v":""}]
[null,{"$f":"IF(D182=\"\",\"\",COUNT($D$24:$D$452)-COUNT(D183:$D$452))","v":""}]
[null,{"$f":"IF(D183=\"\",\"\",COUNT($D$24:$D$452)-COUNT(D184:$D$452))","v":""}]
[null,{"$f":"IF(D184=\"\",\"\",COUNT($D$24:$D$452)-COUNT(D185:$D$452))","v":""}]
[null,{"$f":"IF(D185=\"\",\"\",COUNT($D$24:$D$452)-COUNT(D186:$D$452))","v":""}]
[null,{"$f":"IF(D186=\"\",\"\",COUNT($D$24:$D$452)-COUNT(D187:$D$452))","v":""}]
[null,{"$f":"IF(D187=\"\",\"\",COUNT($D$24:$D$452)-COUNT(D188:$D$452))","v":""}]
[null,{"$f":"IF(D188=\"\",\"\",COUNT($D$24:$D$452)-COUNT(D189:$D$452))","v":""}]
[null,{"$f":"IF(D189=\"\",\"\",COUNT($D$24:$D$452)-COUNT(D190:$D$452))","v":""}]
[null,{"$f":"IF(D190=\"\",\"\",COUNT($D$24:$D$452)-COUNT(D191:$D$452))","v":""}]
[null,{"$f":"IF(D191=\"\",\"\",COUNT($D$24:$D$452)-COUNT(D192:$D$452))","v":""}]
[null,{"$f":"IF(D192=\"\",\"\",COUNT($D$24:$D$452)-COUNT(D193:$D$452))","v":""}]
[null,{"$f":"IF(D193=\"\",\"\",COUNT($D$24:$D$452)-COUNT(D194:$D$452))","v":""}]
[null,{"$f":"IF(D194=\"\",\"\",COUNT($D$24:$D$452)-COUNT(D195:$D$452))","v":""}]
[null,{"$f":"IF(D195=\"\",\"\",COUNT($D$24:$D$452)-COUNT(D196:$D$452))","v":""}]
[null,{"$f":"IF(D196=\"\",\"\",COUNT($D$24:$D$452)-COUNT(D197:$D$452))","v":""}]
[null,{"$f":"IF(D197=\"\",\"\",COUNT($D$24:$D$452)-COUNT(D198:$D$452))","v":""}]
[null,{"$f":"IF(D198=\"\",\"\",COUNT($D$24:$D$452)-COUNT(D199:$D$452))","v":""}]
[null,{"$f":"IF(D199=\"\",\"\",COUNT($D$24:$D$452)-COUNT(D200:$D$452))","v":""}]
[null,{"$f":"IF(D200=\"\",\"\",COUNT($D$24:$D$452)-COUNT(D201:$D$452))","v":""}]
[null,{"$f":"IF(D201=\"\",\"\",COUNT($D$24:$D$452)-COUNT(D202:$D$452))","v":""}]
[null,{"$f":"IF(D202=\"\",\"\",COUNT($D$24:$D$452)-COUNT(D203:$D$452))","v":""}]
[null,{"$f":"IF(D203=\"\",\"\",COUNT($D$24:$D$452)-COUNT(D204:$D$452))","v":""}]
[null,{"$f":"IF(D204=\"\",\"\",COUNT($D$24:$D$452)-COUNT(D205:$D$452))","v":""}]
[null,{"$f":"IF(D205=\"\",\"\",COUNT($D$24:$D$452)-COUNT(D206:$D$452))","v":""}]
[null,{"$f":"IF(D206=\"\",\"\",COUNT($D$24:$D$452)-COUNT(D207:$D$452))","v":""}]
[null,{"$f":"IF(D207=\"\",\"\",COUNT($D$24:$D$452)-COUNT(D208:$D$452))","v":""}]
[null,{"$f":"IF(D208=\"\",\"\",COUNT($D$24:$D$452)-COUNT(D209:$D$452))","v":""}]
[null,{"$f":"IF(D209=\"\",\"\",COUNT($D$24:$D$452)-COUNT(D210:$D$452))","v":""}]
[null,{"$f":"IF(D210=\"\",\"\",COUNT($D$24:$D$452)-COUNT(D211:$D$452))","v":""}]
[null,{"$f":"IF(D211=\"\",\"\",COUNT($D$24:$D$452)-COUNT(D212:$D$452))","v":""}]
[null,{"$f":"IF(D212=\"\",\"\",COUNT($D$24:$D$452)-COUNT(D213:$D$452))","v":""}]
[null,{"$f":"IF(D213=\"\",\"\",COUNT($D$24:$D$452)-COUNT(D214:$D$452))","v":""}]
[null,{"$f":"IF(D214=\"\",\"\",COUNT($D$24:$D$452)-COUNT(D215:$D$452))","v":""}]
[null,{"$f":"IF(D215=\"\",\"\",COUNT($D$24:$D$452)-COUNT(D216:$D$452))","v":""}]
[null,{"$f":"IF(D216=\"\",\"\",COUNT($D$24:$D$452)-COUNT(D217:$D$452))","v":""}]
[null,{"$f":"IF(D217=\"\",\"\",COUNT($D$24:$D$452)-COUNT(D218:$D$452))","v":""}]
[null,{"$f":"IF(D218=\"\",\"\",COUNT($D$24:$D$452)-COUNT(D219:$D$452))","v":""}]
[null,{"$f":"IF(D219=\"\",\"\",COUNT($D$24:$D$452)-COUNT(D220:$D$452))","v":""}]
[null,{"$f":"IF(D220=\"\",\"\",COUNT($D$24:$D$452)-COUNT(D221:$D$452))","v":""}]
[null,{"$f":"IF(D221=\"\",\"\",COUNT($D$24:$D$452)-COUNT(D222:$D$452))","v":""}]
[null,{"$f":"IF(D222=\"\",\"\",COUNT($D$24:$D$452)-COUNT(D223:$D$452))","v":""}]
[null,{"$f":"IF(D223=\"\",\"\",COUNT($D$24:$D$452)-COUNT(D224:$D$452))","v":""}]
[null,{"$f":"IF(D224=\"\",\"\",COUNT($D$24:$D$452)-COUNT(D225:$D$452))","v":""}]
[null,{"$f":"IF(D225=\"\",\"\",COUNT($D$24:$D$452)-COUNT(D226:$D$452))","v":""}]
[null,{"$f":"IF(D226=\"\",\"\",COUNT($D$24:$D$452)-COUNT(D227:$D$452))","v":""}]
[null,{"$f":"IF(D227=\"\",\"\",COUNT($D$24:$D$452)-COUNT(D228:$D$452))","v":""}]
[null,{"$f":"IF(D228=\"\",\"\",COUNT($D$24:$D$452)-COUNT(D229:$D$452))","v":""}]
[null,{"$f":"IF(D229=\"\",\"\",COUNT($D$24:$D$452)-COUNT(D230:$D$452))","v":""}]
[null,{"$f":"IF(D230=\"\",\"\",COUNT($D$24:$D$452)-COUNT(D231:$D$452))","v":""}]
[null,{"$f":"IF(D231=\"\",\"\",COUNT($D$24:$D$452)-COUNT(D232:$D$452))","v":""}]
[null,{"$f":"IF(D232=\"\",\"\",COUNT($D$24:$D$452)-COUNT(D233:$D$452))","v":""}]
[null,{"$f":"IF(D233=\"\",\"\",COUNT($D$24:$D$452)-COUNT(D234:$D$452))","v":""}]
[null,{"$f":"IF(D234=\"\",\"\",COUNT($D$24:$D$452)-COUNT(D235:$D$452))","v":""}]
[null,{"$f":"IF(D235=\"\",\"\",COUNT($D$24:$D$452)-COUNT(D236:$D$452))","v":""}]
[null,{"$f":"IF(D236=\"\",\"\",COUNT($D$24:$D$452)-COUNT(D237:$D$452))","v":""}]
[null,{"$f":"IF(D237=\"\",\"\",COUNT($D$24:$D$452)-COUNT(D238:$D$452))","v":""}]
[null,{"$f":"IF(D238=\"\",\"\",COUNT($D$24:$D$452)-COUNT(D239:$D$452))","v":""}]
[null,{"$f":"IF(D239=\"\",\"\",COUNT($D$24:$D$452)-COUNT(D240:$D$452))","v":""}]
[null,{"$f":"IF(D240=\"\",\"\",COUNT($D$24:$D$452)-COUNT(D241:$D$452))","v":""}]
[null,{"$f":"IF(D241=\"\",\"\",COUNT($D$24:$D$452)-COUNT(D242:$D$452))","v":""}]
[null,{"$f":"IF(D242=\"\",\"\",COUNT($D$24:$D$452)-COUNT(D243:$D$452))","v":""}]
[null,{"$f":"IF(D243=\"\",\"\",COUNT($D$24:$D$452)-COUNT(D244:$D$452))","v":""}]
[null,{"$f":"IF(D244=\"\",\"\",COUNT($D$24:$D$452)-COUNT(D245:$D$452))","v":""}]
[null,{"$f":"IF(D245=\"\",\"\",COUNT($D$24:$D$452)-COUNT(D246:$D$452))","v":""}]
[null,{"$f":"IF(D246=\"\",\"\",COUNT($D$24:$D$452)-COUNT(D247:$D$452))","v":""}]
[null,{"$f":"IF(D247=\"\",\"\",COUNT($D$24:$D$452)-COUNT(D248:$D$452))","v":""}]
[null,{"$f":"IF(D248=\"\",\"\",COUNT($D$24:$D$452)-COUNT(D249:$D$452))","v":""}]
[null,{"$f":"IF(D249=\"\",\"\",COUNT($D$24:$D$452)-COUNT(D250:$D$452))","v":""}]
[null,{"$f":"IF(D250=\"\",\"\",COUNT($D$24:$D$452)-COUNT(D251:$D$452))","v":""}]
[null,{"$f":"IF(D251=\"\",\"\",COUNT($D$24:$D$452)-COUNT(D252:$D$452))","v":""}]
[null,{"$f":"IF(D252=\"\",\"\",COUNT($D$24:$D$452)-COUNT(D253:$D$452))","v":""}]
[null,{"$f":"IF(D253=\"\",\"\",COUNT($D$24:$D$452)-COUNT(D254:$D$452))","v":""}]
[null,{"$f":"IF(D254=\"\",\"\",COUNT($D$24:$D$452)-COUNT(D255:$D$452))","v":""}]
[null,{"$f":"IF(D255=\"\",\"\",COUNT($D$24:$D$452)-COUNT(D256:$D$452))","v":""}]
[null,{"$f":"IF(D256=\"\",\"\",COUNT($D$24:$D$452)-COUNT(D257:$D$452))","v":""}]
[null,{"$f":"IF(D257=\"\",\"\",COUNT($D$24:$D$452)-COUNT(D258:$D$452))","v":""}]
[null,{"$f":"IF(D258=\"\",\"\",COUNT($D$24:$D$452)-COUNT(D259:$D$452))","v":""}]
[null,{"$f":"IF(D259=\"\",\"\",COUNT($D$24:$D$452)-COUNT(D260:$D$452))","v":""}]
[null,{"$f":"IF(D260=\"\",\"\",COUNT($D$24:$D$452)-COUNT(D261:$D$452))","v":""}]
[null,{"$f":"IF(D261=\"\",\"\",COUNT($D$24:$D$452)-COUNT(D262:$D$452))","v":""}]
[null,{"$f":"IF(D262=\"\",\"\",COUNT($D$24:$D$452)-COUNT(D263:$D$452))","v":""}]
[null,{"$f":"IF(D263=\"\",\"\",COUNT($D$24:$D$452)-COUNT(D264:$D$452))","v":""}]
[null,{"$f":"IF(D264=\"\",\"\",COUNT($D$24:$D$452)-COUNT(D265:$D$452))","v":""}]
[null,{"$f":"IF(D265=\"\",\"\",COUNT($D$24:$D$452)-COUNT(D266:$D$452))","v":""}]
[null,{"$f":"IF(D266=\"\",\"\",COUNT($D$24:$D$452)-COUNT(D267:$D$452))","v":""}]
[null,{"$f":"IF(D267=\"\",\"\",COUNT($D$24:$D$452)-COUNT(D268:$D$452))","v":""}]
[null,{"$f":"IF(D268=\"\",\"\",COUNT($D$24:$D$452)-COUNT(D269:$D$452))","v":""}]
[null,{"$f":"IF(D269=\"\",\"\",COUNT($D$24:$D$452)-COUNT(D270:$D$452))","v":""}]
[null,{"$f":"IF(D270=\"\",\"\",COUNT($D$24:$D$452)-COUNT(D271:$D$452))","v":""}]
[null,{"$f":"IF(D271=\"\",\"\",COUNT($D$24:$D$452)-COUNT(D272:$D$452))","v":""}]
[null,{"$f":"IF(D272=\"\",\"\",COUNT($D$24:$D$452)-COUNT(D273:$D$452))","v":""}]
[null,{"$f":"IF(D273=\"\",\"\",COUNT($D$24:$D$452)-COUNT(D274:$D$452))","v":""}]
[null,{"$f":"IF(D274=\"\",\"\",COUNT($D$24:$D$452)-COUNT(D275:$D$452))","v":""}]
[null,{"$f":"IF(D275=\"\",\"\",COUNT($D$24:$D$452)-COUNT(D276:$D$452))","v":""}]
[null,{"$f":"IF(D276=\"\",\"\",COUNT($D$24:$D$452)-COUNT(D277:$D$452))","v":""}]
[null,{"$f":"IF(D277=\"\",\"\",COUNT($D$24:$D$452)-COUNT(D278:$D$452))","v":""}]
[null,{"$f":"IF(D278=\"\",\"\",COUNT($D$24:$D$452)-COUNT(D279:$D$452))","v":""}]
[null,{"$f":"IF(D279=\"\",\"\",COUNT($D$24:$D$452)-COUNT(D280:$D$452))","v":""}]
[null,{"$f":"IF(D280=\"\",\"\",COUNT($D$24:$D$452)-COUNT(D281:$D$452))","v":""}]
[null,{"$f":"IF(D281=\"\",\"\",COUNT($D$24:$D$452)-COUNT(D282:$D$452))","v":""}]
[null,{"$f":"IF(D282=\"\",\"\",COUNT($D$24:$D$452)-COUNT(D283:$D$452))","v":""}]
[null,{"$f":"IF(D283=\"\",\"\",COUNT($D$24:$D$452)-COUNT(D284:$D$452))","v":""}]
[null,{"$f":"IF(D284=\"\",\"\",COUNT($D$24:$D$452)-COUNT(D285:$D$452))","v":""}]
[null,{"$f":"IF(D285=\"\",\"\",COUNT($D$24:$D$452)-COUNT(D286:$D$452))","v":""}]
[null,{"$f":"IF(D286=\"\",\"\",COUNT($D$24:$D$452)-COUNT(D287:$D$452))","v":""}]
[null,{"$f":"IF(D287=\"\",\"\",COUNT($D$24:$D$452)-COUNT(D288:$D$452))","v":""}]
[null,{"$f":"IF(D288=\"\",\"\",COUNT($D$24:$D$452)-COUNT(D289:$D$452))","v":""}]
[null,{"$f":"IF(D289=\"\",\"\",COUNT($D$24:$D$452)-COUNT(D290:$D$452))","v":""}]
[null,{"$f":"IF(D290=\"\",\"\",COUNT($D$24:$D$452)-COUNT(D291:$D$452))","v":""}]
[null,{"$f":"IF(D291=\"\",\"\",COUNT($D$24:$D$452)-COUNT(D292:$D$452))","v":""}]
[null,{"$f":"IF(D292=\"\",\"\",COUNT($D$24:$D$452)-COUNT(D293:$D$452))","v":""}]
[null,{"$f":"IF(D293=\"\",\"\",COUNT($D$24:$D$452)-COUNT(D294:$D$452))","v":""}]
[null,{"$f":"IF(D294=\"\",\"\",COUNT($D$24:$D$452)-COUNT(D295:$D$452))","v":""}]
[null,{"$f":"IF(D295=\"\",\"\",COUNT($D$24:$D$452)-COUNT(D296:$D$452))","v":""}]
[null,{"$f":"IF(D296=\"\",\"\",COUNT($D$24:$D$452)-COUNT(D297:$D$452))","v":""}]
[null,{"$f":"IF(D297=\"\",\"\",COUNT($D$24:$D$452)-COUNT(D298:$D$452))","v":""}]
[null,{"$f":"IF(D298=\"\",\"\",COUNT($D$24:$D$452)-COUNT(D299:$D$452))","v":""}]
[null,{"$f":"IF(D299=\"\",\"\",COUNT($D$24:$D$452)-COUNT(D300:$D$452))","v":""}]
[null,{"$f":"IF(D300=\"\",\"\",COUNT($D$24:$D$452)-COUNT(D301:$D$452))","v":""}]
[null,{"$f":"IF(D301=\"\",\"\",COUNT($D$24:$D$452)-COUNT(D302:$D$452))","v":""}]
[null,{"$f":"IF(D302=\"\",\"\",COUNT($D$24:$D$452)-COUNT(D303:$D$452))","v":""}]
[null,{"$f":"IF(D303=\"\",\"\",COUNT($D$24:$D$452)-COUNT(D304:$D$452))","v":""}]
[null,{"$f":"IF(D304=\"\",\"\",COUNT($D$24:$D$452)-COUNT(D305:$D$452))","v":""}]
[null,{"$f":"IF(D305=\"\",\"\",COUNT($D$24:$D$452)-COUNT(D306:$D$452))","v":""}]
[null,{"$f":"IF(D306=\"\",\"\",COUNT($D$24:$D$452)-COUNT(D307:$D$452))","v":""}]
[null,{"$f":"IF(D307=\"\",\"\",COUNT($D$24:$D$452)-COUNT(D308:$D$452))","v":""}]
[null,{"$f":"IF(D308=\"\",\"\",COUNT($D$24:$D$452)-COUNT(D309:$D$452))","v":""}]
[null,{"$f":"IF(D309=\"\",\"\",COUNT($D$24:$D$452)-COUNT(D310:$D$452))","v":""}]
[null,{"$f":"IF(D310=\"\",\"\",COUNT($D$24:$D$452)-COUNT(D311:$D$452))","v":""}]
[null,{"$f":"IF(D311=\"\",\"\",COUNT($D$24:$D$452)-COUNT(D312:$D$452))","v":""}]
[null,{"$f":"IF(D312=\"\",\"\",COUNT($D$24:$D$452)-COUNT(D313:$D$452))","v":""}]
[null,{"$f":"IF(D313=\"\",\"\",COUNT($D$24:$D$452)-COUNT(D314:$D$452))","v":""}]
[null,{"$f":"IF(D314=\"\",\"\",COUNT($D$24:$D$452)-COUNT(D315:$D$452))","v":""}]
[null,{"$f":"IF(D315=\"\",\"\",COUNT($D$24:$D$452)-COUNT(D316:$D$452))","v":""}]
[null,{"$f":"IF(D316=\"\",\"\",COUNT($D$24:$D$452)-COUNT(D317:$D$452))","v":""}]
[null,{"$f":"IF(D317=\"\",\"\",COUNT($D$24:$D$452)-COUNT(D318:$D$452))","v":""}]
[null,{"$f":"IF(D318=\"\",\"\",COUNT($D$24:$D$452)-COUNT(D319:$D$452))","v":""}]
[null,{"$f":"IF(D319=\"\",\"\",COUNT($D$24:$D$452)-COUNT(D320:$D$452))","v":""}]
[null,{"$f":"IF(D320=\"\",\"\",COUNT($D$24:$D$452)-COUNT(D321:$D$452))","v":""}]
[null,{"$f":"IF(D321=\"\",\"\",COUNT($D$24:$D$452)-COUNT(D322:$D$452))","v":""}]
[null,{"$f":"IF(D322=\"\",\"\",COUNT($D$24:$D$452)-COUNT(D323:$D$452))","v":""}]
[null,{"$f":"IF(D323=\"\",\"\",COUNT($D$24:$D$452)-COUNT(D324:$D$452))","v":""}]
[null,{"$f":"IF(D324=\"\",\"\",COUNT($D$24:$D$452)-COUNT(D325:$D$452))","v":""}]
[null,{"$f":"IF(D325=\"\",\"\",COUNT($D$24:$D$452)-COUNT(D326:$D$452))","v":""}]
[null,{"$f":"IF(D326=\"\",\"\",COUNT($D$24:$D$452)-COUNT(D327:$D$452))","v":""}]
[null,{"$f":"IF(D327=\"\",\"\",COUNT($D$24:$D$452)-COUNT(D328:$D$452))","v":""}]
[null,{"$f":"IF(D328=\"\",\"\",COUNT($D$24:$D$452)-COUNT(D329:$D$452))","v":""}]
[null,{"$f":"IF(D329=\"\",\"\",COUNT($D$24:$D$452)-COUNT(D330:$D$452))","v":""}]
[null,{"$f":"IF(D330=\"\",\"\",COUNT($D$24:$D$452)-COUNT(D331:$D$452))","v":""}]
[null,{"$f":"IF(D331=\"\",\"\",COUNT($D$24:$D$452)-COUNT(D332:$D$452))","v":""}]
[null,{"$f":"IF(D332=\"\",\"\",COUNT($D$24:$D$452)-COUNT(D333:$D$452))","v":""}]
[null,{"$f":"IF(D333=\"\",\"\",COUNT($D$24:$D$452)-COUNT(D334:$D$452))","v":""}]
[null,{"$f":"IF(D334=\"\",\"\",COUNT($D$24:$D$452)-COUNT(D335:$D$452))","v":""}]
[null,{"$f":"IF(D335=\"\",\"\",COUNT($D$24:$D$452)-COUNT(D336:$D$452))","v":""}]
[null,{"$f":"IF(D336=\"\",\"\",COUNT($D$24:$D$452)-COUNT(D337:$D$452))","v":""}]
[null,{"$f":"IF(D337=\"\",\"\",COUNT($D$24:$D$452)-COUNT(D338:$D$452))","v":""}]
[null,{"$f":"IF(D338=\"\",\"\",COUNT($D$24:$D$452)-COUNT(D339:$D$452))","v":""}]
[null,{"$f":"IF(D339=\"\",\"\",COUNT($D$24:$D$452)-COUNT(D340:$D$452))","v":""}]
[null,{"$f":"IF(D340=\"\",\"\",COUNT($D$24:$D$452)-COUNT(D341:$D$452))","v":""}]
[null,{"$f":"IF(D341=\"\",\"\",COUNT($D$24:$D$452)-COUNT(D342:$D$452))","v":""}]
[null,{"$f":"IF(D342=\"\",\"\",COUNT($D$24:$D$452)-COUNT(D343:$D$452))","v":""}]
[null,{"$f":"IF(D343=\"\",\"\",COUNT($D$24:$D$452)-COUNT(D344:$D$452))","v":""}]
[null,{"$f":"IF(D344=\"\",\"\",COUNT($D$24:$D$452)-COUNT(D345:$D$452))","v":""}]
[null,{"$f":"IF(D345=\"\",\"\",COUNT($D$24:$D$452)-COUNT(D346:$D$452))","v":""}]
[null,{"$f":"IF(D346=\"\",\"\",COUNT($D$24:$D$452)-COUNT(D347:$D$452))","v":""}]
[null,{"$f":"IF(D347=\"\",\"\",COUNT($D$24:$D$452)-COUNT(D348:$D$452))","v":""}]
[null,{"$f":"IF(D348=\"\",\"\",COUNT($D$24:$D$452)-COUNT(D349:$D$452))","v":""}]
[null,{"$f":"IF(D349=\"\",\"\",COUNT($D$24:$D$452)-COUNT(D350:$D$452))","v":""}]
[null,{"$f":"IF(D350=\"\",\"\",COUNT($D$24:$D$452)-COUNT(D351:$D$452))","v":""}]
[null,{"$f":"IF(D351=\"\",\"\",COUNT($D$24:$D$452)-COUNT(D352:$D$452))","v":""}]
[null,{"$f":"IF(D352=\"\",\"\",COUNT($D$24:$D$452)-COUNT(D353:$D$452))","v":""}]
[null,{"$f":"IF(D353=\"\",\"\",COUNT($D$24:$D$452)-COUNT(D354:$D$452))","v":""}]
[null,{"$f":"IF(D354=\"\",\"\",COUNT($D$24:$D$452)-COUNT(D355:$D$452))","v":""}]
[null,{"$f":"IF(D355=\"\",\"\",COUNT($D$24:$D$452)-COUNT(D356:$D$452))","v":""}]
[null,{"$f":"IF(D356=\"\",\"\",COUNT($D$24:$D$452)-COUNT(D357:$D$452))","v":""}]
[null,{"$f":"IF(D357=\"\",\"\",COUNT($D$24:$D$452)-COUNT(D358:$D$452))","v":""}]
[null,{"$f":"IF(D358=\"\",\"\",COUNT($D$24:$D$452)-COUNT(D359:$D$452))","v":""}]
[null,{"$f":"IF(D359=\"\",\"\",COUNT($D$24:$D$452)-COUNT(D360:$D$452))","v":""}]
[null,{"$f":"IF(D360=\"\",\"\",COUNT($D$24:$D$452)-COUNT(D361:$D$452))","v":""}]
[null,{"$f":"IF(D361=\"\",\"\",COUNT($D$24:$D$452)-COUNT(D362:$D$452))","v":""}]
[null,{"$f":"IF(D362=\"\",\"\",COUNT($D$24:$D$452)-COUNT(D363:$D$452))","v":""}]
[null,{"$f":"IF(D363=\"\",\"\",COUNT($D$24:$D$452)-COUNT(D364:$D$452))","v":""}]
[null,{"$f":"IF(D364=\"\",\"\",COUNT($D$24:$D$452)-COUNT(D365:$D$452))","v":""}]
[null,{"$f":"IF(D365=\"\",\"\",COUNT($D$24:$D$452)-COUNT(D366:$D$452))","v":""}]
[null,{"$f":"IF(D366=\"\",\"\",COUNT($D$24:$D$452)-COUNT(D367:$D$452))","v":""}]
[null,{"$f":"IF(D367=\"\",\"\",COUNT($D$24:$D$452)-COUNT(D368:$D$452))","v":""}]
[null,{"$f":"IF(D368=\"\",\"\",COUNT($D$24:$D$452)-COUNT(D369:$D$452))","v":""}]
[null,{"$f":"IF(D369=\"\",\"\",COUNT($D$24:$D$452)-COUNT(D370:$D$452))","v":""}]
[null,{"$f":"IF(D370=\"\",\"\",COUNT($D$24:$D$452)-COUNT(D371:$D$452))","v":""}]
[null,{"$f":"IF(D371=\"\",\"\",COUNT($D$24:$D$452)-COUNT(D372:$D$452))","v":""}]
[null,{"$f":"IF(D372=\"\",\"\",COUNT($D$24:$D$452)-COUNT(D373:$D$452))","v":""}]
[null,{"$f":"IF(D373=\"\",\"\",COUNT($D$24:$D$452)-COUNT(D374:$D$452))","v":""}]
[null,{"$f":"IF(D374=\"\",\"\",COUNT($D$24:$D$452)-COUNT(D375:$D$452))","v":""}]
[null,{"$f":"IF(D375=\"\",\"\",COUNT($D$24:$D$452)-COUNT(D376:$D$452))","v":""}]
[null,{"$f":"IF(D376=\"\",\"\",COUNT($D$24:$D$452)-COUNT(D377:$D$452))","v":""}]
[null,{"$f":"IF(D377=\"\",\"\",COUNT($D$24:$D$452)-COUNT(D378:$D$452))","v":""}]
[null,{"$f":"IF(D378=\"\",\"\",COUNT($D$24:$D$452)-COUNT(D379:$D$452))","v":""}]
[null,{"$f":"IF(D379=\"\",\"\",COUNT($D$24:$D$452)-COUNT(D380:$D$452))","v":""}]
[null,{"$f":"IF(D380=\"\",\"\",COUNT($D$24:$D$452)-COUNT(D381:$D$452))","v":""}]
[null,{"$f":"IF(D381=\"\",\"\",COUNT($D$24:$D$452)-COUNT(D382:$D$452))","v":""}]
[null,{"$f":"IF(D382=\"\",\"\",COUNT($D$24:$D$452)-COUNT(D383:$D$452))","v":""}]
[null,{"$f":"IF(D383=\"\",\"\",COUNT($D$24:$D$452)-COUNT(D384:$D$452))","v":""}]
[null,{"$f":"IF(D384=\"\",\"\",COUNT($D$24:$D$452)-COUNT(D385:$D$452))","v":""}]
[null,{"$f":"IF(D385=\"\",\"\",COUNT($D$24:$D$452)-COUNT(D386:$D$452))","v":""}]
[null,{"$f":"IF(D386=\"\",\"\",COUNT($D$24:$D$452)-COUNT(D387:$D$452))","v":""}]
[null,{"$f":"IF(D387=\"\",\"\",COUNT($D$24:$D$452)-COUNT(D388:$D$452))","v":""}]
[null,{"$f":"IF(D388=\"\",\"\",COUNT($D$24:$D$452)-COUNT(D389:$D$452))","v":""}]
[null,{"$f":"IF(D389=\"\",\"\",COUNT($D$24:$D$452)-COUNT(D390:$D$452))","v":""}]
[null,{"$f":"IF(D390=\"\",\"\",COUNT($D$24:$D$452)-COUNT(D391:$D$452))","v":""}]
[null,{"$f":"IF(D391=\"\",\"\",COUNT($D$24:$D$452)-COUNT(D392:$D$452))","v":""}]
[null,{"$f":"IF(D392=\"\",\"\",COUNT($D$24:$D$452)-COUNT(D393:$D$452))","v":""}]
[null,{"$f":"IF(D393=\"\",\"\",COUNT($D$24:$D$452)-COUNT(D394:$D$452))","v":""}]
[null,{"$f":"IF(D394=\"\",\"\",COUNT($D$24:$D$452)-COUNT(D395:$D$452))","v":""}]
[null,{"$f":"IF(D395=\"\",\"\",COUNT($D$24:$D$452)-COUNT(D396:$D$452))","v":""}]
[null,{"$f":"IF(D396=\"\",\"\",COUNT($D$24:$D$452)-COUNT(D397:$D$452))","v":""}]
[null,{"$f":"IF(D397=\"\",\"\",COUNT($D$24:$D$452)-COUNT(D398:$D$452))","v":""}]
[null,{"$f":"IF(D398=\"\",\"\",COUNT($D$24:$D$452)-COUNT(D399:$D$452))","v":""}]
[null,{"$f":"IF(D399=\"\",\"\",COUNT($D$24:$D$452)-COUNT(D400:$D$452))","v":""}]
[null,{"$f":"IF(D400=\"\",\"\",COUNT($D$24:$D$452)-COUNT(D401:$D$452))","v":""}]
[null,{"$f":"IF(D401=\"\",\"\",COUNT($D$24:$D$452)-COUNT(D402:$D$452))","v":""}]
[null,{"$f":"IF(D402=\"\",\"\",COUNT($D$24:$D$452)-COUNT(D403:$D$452))","v":""}]
[null,{"$f":"IF(D403=\"\",\"\",COUNT($D$24:$D$452)-COUNT(D404:$D$452))","v":""}]
[null,{"$f":"IF(D404=\"\",\"\",COUNT($D$24:$D$452)-COUNT(D405:$D$452))","v":""}]
[null,{"$f":"IF(D405=\"\",\"\",COUNT($D$24:$D$452)-COUNT(D406:$D$452))","v":""}]
[null,{"$f":"IF(D406=\"\",\"\",COUNT($D$24:$D$452)-COUNT(D407:$D$452))","v":""}]
[null,{"$f":"IF(D407=\"\",\"\",COUNT($D$24:$D$452)-COUNT(D408:$D$452))","v":""}]
[null,{"$f":"IF(D408=\"\",\"\",COUNT($D$24:$D$452)-COUNT(D409:$D$452))","v":""}]
[null,{"$f":"IF(D409=\"\",\"\",COUNT($D$24:$D$452)-COUNT(D410:$D$452))","v":""}]
[null,{"$f":"IF(D410=\"\",\"\",COUNT($D$24:$D$452)-COUNT(D411:$D$452))","v":""}]
[null,{"$f":"IF(D411=\"\",\"\",COUNT($D$24:$D$452)-COUNT(D412:$D$452))","v":""}]
[null,{"$f":"IF(D412=\"\",\"\",COUNT($D$24:$D$452)-COUNT(D413:$D$452))","v":""}]
[null,{"$f":"IF(D413=\"\",\"\",COUNT($D$24:$D$452)-COUNT(D414:$D$452))","v":""}]
[null,{"$f":"IF(D414=\"\",\"\",COUNT($D$24:$D$452)-COUNT(D415:$D$452))","v":""}]
[null,{"$f":"IF(D415=\"\",\"\",COUNT($D$24:$D$452)-COUNT(D416:$D$452))","v":""}]
[null,{"$f":"IF(D416=\"\",\"\",COUNT($D$24:$D$452)-COUNT(D417:$D$452))","v":""}]
[null,{"$f":"IF(D417=\"\",\"\",COUNT($D$24:$D$452)-COUNT(D418:$D$452))","v":""}]
[null,{"$f":"IF(D418=\"\",\"\",COUNT($D$24:$D$452)-COUNT(D419:$D$452))","v":""}]
[null,{"$f":"IF(D419=\"\",\"\",COUNT($D$24:$D$452)-COUNT(D420:$D$452))","v":""}]
[null,{"$f":"IF(D420=\"\",\"\",COUNT($D$24:$D$452)-COUNT(D421:$D$452))","v":""}]
[null,{"$f":"IF(D421=\"\",\"\",COUNT($D$24:$D$452)-COUNT(D422:$D$452))","v":""}]
[null,{"$f":"IF(D422=\"\",\"\",COUNT($D$24:$D$452)-COUNT(D423:$D$452))","v":""}]
[null,{"$f":"IF(D423=\"\",\"\",COUNT($D$24:$D$452)-COUNT(D424:$D$452))","v":""}]
[null,{"$f":"IF(D424=\"\",\"\",COUNT($D$24:$D$452)-COUNT(D425:$D$452))","v":""}]
[null,{"$f":"IF(D425=\"\",\"\",COUNT($D$24:$D$452)-COUNT(D426:$D$452))","v":""}]
[null,{"$f":"IF(D426=\"\",\"\",COUNT($D$24:$D$452)-COUNT(D427:$D$452))","v":""}]
[null,{"$f":"IF(D427=\"\",\"\",COUNT($D$24:$D$452)-COUNT(D428:$D$452))","v":""}]
[null,{"$f":"IF(D428=\"\",\"\",COUNT($D$24:$D$452)-COUNT(D429:$D$452))","v":""}]
[null,{"$f":"IF(D429=\"\",\"\",COUNT($D$24:$D$452)-COUNT(D430:$D$452))","v":""}]
[null,{"$f":"IF(D430=\"\",\"\",COUNT($D$24:$D$452)-COUNT(D431:$D$452))","v":""}]
[null,{"$f":"IF(D431=\"\",\"\",COUNT($D$24:$D$452)-COUNT(D432:$D$452))","v":""}]
[null,{"$f":"IF(D432=\"\",\"\",COUNT($D$24:$D$452)-COUNT(D433:$D$452))","v":""}]
[null,{"$f":"IF(D433=\"\",\"\",COUNT($D$24:$D$452)-COUNT(D434:$D$452))","v":""}]
[null,{"$f":"IF(D434=\"\",\"\",COUNT($D$24:$D$452)-COUNT(D435:$D$452))","v":""}]
[null,{"$f":"IF(D435=\"\",\"\",COUNT($D$24:$D$452)-COUNT(D436:$D$452))","v":""}]
[null,{"$f":"IF(D436=\"\",\"\",COUNT($D$24:$D$452)-COUNT(D437:$D$452))","v":""}]
[null,{"$f":"IF(D437=\"\",\"\",COUNT($D$24:$D$452)-COUNT(D438:$D$452))","v":""}]
[null,{"$f":"IF(D438=\"\",\"\",COUNT($D$24:$D$452)-COUNT(D439:$D$452))","v":""}]
[null,{"$f":"IF(D439=\"\",\"\",COUNT($D$24:$D$452)-COUNT(D440:$D$452))","v":""}]
[null,{"$f":"IF(D440=\"\",\"\",COUNT($D$24:$D$452)-COUNT(D441:$D$452))","v":""}]
[null,{"$f":"IF(D441=\"\",\"\",COUNT($D$24:$D$452)-COUNT(D442:$D$452))","v":""}]
[null,{"$f":"IF(D442=\"\",\"\",COUNT($D$24:$D$452)-COUNT(D443:$D$452))","v":""}]
[null,{"$f":"IF(D443=\"\",\"\",COUNT($D$24:$D$452)-COUNT(D444:$D$452))","v":""}]
[null,{"$f":"IF(D444=\"\",\"\",COUNT($D$24:$D$452)-COUNT(D445:$D$452))","v":""}]
[null,{"$f":"IF(D445=\"\",\"\",COUNT($D$24:$D$452)-COUNT(D446:$D$452))","v":""}]
[null,{"$f":"IF(D446=\"\",\"\",COUNT($D$24:$D$452)-COUNT(D447:$D$452))","v":""}]
[null,{"$f":"IF(D447=\"\",\"\",COUNT($D$24:$D$452)-COUNT(D448:$D$452))","v":""}]
[null,{"$f":"IF(D448=\"\",\"\",COUNT($D$24:$D$452)-COUNT(D449:$D$452))","v":""}]
[null,{"$f":"IF(D449=\"\",\"\",COUNT($D$24:$D$452)-COUNT(D450:$D$452))","v":""}]
[null,{"$f":"IF(D450=\"\",\"\",COUNT($D$24:$D$452)-COUNT(D451:$D$452))","v":""}]
[null,{"$f":"IF(D451=\"\",\"\",COUNT($D$24:$D$452)-COUNT(D$452:$D452))","v":""}]
[null,{"$f":"IF(D452=\"\",\"\",COUNT($D$24:$D$452)-COUNT(D$452:$D453))","v":""}]
[null,{"$f":"IF(D453=\"\",\"\",COUNT($D$24:$D$452)-COUNT(D$452:$D454))","v":""}]
[null,{"$f":"IF(D454=\"\",\"\",COUNT($D$24:$D$452)-COUNT(D$452:$D455))","v":""}]
[null,{"$f":"IF(D455=\"\",\"\",COUNT($D$24:$D$452)-COUNT(D$452:$D456))","v":""}]
[null,{"$f":"IF(D456=\"\",\"\",COUNT($D$24:$D$452)-COUNT(D$452:$D457))","v":""}]
[null,{"$f":"IF(D457=\"\",\"\",COUNT($D$24:$D$452)-COUNT(D$452:$D458))","v":""}]
[null,{"$f":"IF(D458=\"\",\"\",COUNT($D$24:$D$452)-COUNT(D$452:$D459))","v":""}]
[null,{"$f":"IF(D459=\"\",\"\",COUNT($D$24:$D$452)-COUNT(D$452:$D460))","v":""}]
[null,{"$f":"IF(D460=\"\",\"\",COUNT($D$24:$D$452)-COUNT(D$452:$D461))","v":""}]
[null,{"$f":"IF(D461=\"\",\"\",COUNT($D$24:$D$452)-COUNT(D$452:$D462))","v":""}]
[null,{"$f":"IF(D462=\"\",\"\",COUNT($D$24:$D$452)-COUNT(D$452:$D463))","v":""}]
[null,{"$f":"IF(D463=\"\",\"\",COUNT($D$24:$D$452)-COUNT(D$452:$D464))","v":""}]
[null,{"$f":"IF(D464=\"\",\"\",COUNT($D$24:$D$452)-COUNT(D$452:$D465))","v":""}]
[null,{"$f":"IF(D465=\"\",\"\",COUNT($D$24:$D$452)-COUNT(D$452:$D466))","v":""}]
[null,{"$f":"IF(D466=\"\",\"\",COUNT($D$24:$D$452)-COUNT(D$452:$D467))","v":""}]
[null,{"$f":"IF(D467=\"\",\"\",COUNT($D$24:$D$452)-COUNT(D$452:$D468))","v":""}]
[null,{"$f":"IF(D468=\"\",\"\",COUNT($D$24:$D$452)-COUNT(D$452:$D469))","v":""}]
[null,{"$f":"IF(D469=\"\",\"\",COUNT($D$24:$D$452)-COUNT(D$452:$D470))","v":""}]
[null,{"$f":"IF(D470=\"\",\"\",COUNT($D$24:$D$452)-COUNT(D$452:$D471))","v":""}]
[null,{"$f":"IF(D471=\"\",\"\",COUNT($D$24:$D$452)-COUNT(D$452:$D472))","v":""}]
[null,{"$f":"IF(D472=\"\",\"\",COUNT($D$24:$D$452)-COUNT(D$452:$D473))","v":""}]
[null,{"$f":"IF(D473=\"\",\"\",COUNT($D$24:$D$452)-COUNT(D$452:$D474))","v":""}]
[null,{"$f":"IF(D474=\"\",\"\",COUNT($D$24:$D$452)-COUNT(D$452:$D475))","v":""}]
[null,{"$f":"IF(D475=\"\",\"\",COUNT($D$24:$D$452)-COUNT(D$452:$D476))","v":""}]
[null,{"$f":"IF(D476=\"\",\"\",COUNT($D$24:$D$452)-COUNT(D$452:$D477))","v":""}]
[null,{"$f":"IF(D477=\"\",\"\",COUNT($D$24:$D$452)-COUNT(D$452:$D478))","v":""}]
[null,{"$f":"IF(D478=\"\",\"\",COUNT($D$24:$D$452)-COUNT(D$452:$D479))","v":""}]
[null,{"$f":"IF(D479=\"\",\"\",COUNT($D$24:$D$452)-COUNT(D$452:$D480))","v":""}]
[null,{"$f":"IF(D480=\"\",\"\",COUNT($D$24:$D$452)-COUNT(D$452:$D481))","v":""}]
[null,{"$f":"IF(D481=\"\",\"\",COUNT($D$24:$D$452)-COUNT(D$452:$D482))","v":""}]
[null,{"$f":"IF(D482=\"\",\"\",COUNT($D$24:$D$452)-COUNT(D$452:$D483))","v":""}]
[null,{"$f":"IF(D483=\"\",\"\",COUNT($D$24:$D$452)-COUNT(D$452:$D484))","v":""}]
[null,{"$f":"IF(D484=\"\",\"\",COUNT($D$24:$D$452)-COUNT(D$452:$D485))","v":""}]
[null,{"$f":"IF(D485=\"\",\"\",COUNT($D$24:$D$452)-COUNT(D$452:$D486))","v":""}]
[null,{"$f":"IF(D486=\"\",\"\",COUNT($D$24:$D$452)-COUNT(D$452:$D487))","v":""}]
[null,{"$f":"IF(D487=\"\",\"\",COUNT($D$24:$D$452)-COUNT(D$452:$D488))","v":""}]
[null,{"$f":"IF(D488=\"\",\"\",COUNT($D$24:$D$452)-COUNT(D$452:$D489))","v":""}]
[null,{"$f":"IF(D489=\"\",\"\",COUNT($D$24:$D$452)-COUNT(D$452:$D490))","v":""}]
[null,{"$f":"IF(D490=\"\",\"\",COUNT($D$24:$D$452)-COUNT(D$452:$D491))","v":""}]
[null,{"$f":"IF(D491=\"\",\"\",COUNT($D$24:$D$452)-COUNT(D$452:$D492))","v":""}]
[null,{"$f":"IF(D492=\"\",\"\",COUNT($D$24:$D$452)-COUNT(D$452:$D493))","v":""}]
[null,{"$f":"IF(D493=\"\",\"\",COUNT($D$24:$D$452)-COUNT(D$452:$D494))","v":""}]
[null,{"$f":"IF(D494=\"\",\"\",COUNT($D$24:$D$452)-COUNT(D$452:$D495))","v":""}]
[null,{"$f":"IF(D495=\"\",\"\",COUNT($D$24:$D$452)-COUNT(D$452:$D496))","v":""}]
[null,{"$f":"IF(D496=\"\",\"\",COUNT($D$24:$D$452)-COUNT(D$452:$D497))","v":""}]
[null,{"$f":"IF(D497=\"\",\"\",COUNT($D$24:$D$452)-COUNT(D$452:$D498))","v":""}]
[null,{"$f":"IF(D498=\"\",\"\",COUNT($D$24:$D$452)-COUNT(D$452:$D499))","v":""}]
[null,{"$f":"IF(D499=\"\",\"\",COUNT($D$24:$D$452)-COUNT(D$452:$D500))","v":""}]
[null,{"$f":"IF(D500=\"\",\"\",COUNT($D$24:$D$452)-COUNT(D$452:$D501))","v":""}]
[null,{"$f":"IF(D501=\"\",\"\",COUNT($D$24:$D$452)-COUNT(D$452:$D502))","v":""}]
[null,{"$f":"IF(D502=\"\",\"\",COUNT($D$24:$D$452)-COUNT(D$452:$D503))","v":""}]
[null,{"$f":"IF(D503=\"\",\"\",COUNT($D$24:$D$452)-COUNT(D$452:$D504))","v":""}]
[null,{"$f":"IF(D504=\"\",\"\",COUNT($D$24:$D$452)-COUNT(D$452:$D505))","v":""}]
[null,{"$f":"IF(D505=\"\",\"\",COUNT($D$24:$D$452)-COUNT(D$452:$D506))","v":""}]
[null,{"$f":"IF(D506=\"\",\"\",COUNT($D$24:$D$452)-COUNT(D$452:$D507))","v":""}]
[null,{"$f":"IF(D507=\"\",\"\",COUNT($D$24:$D$452)-COUNT(D$452:$D508))","v":""}]
[null,{"$f":"IF(D508=\"\",\"\",COUNT($D$24:$D$452)-COUNT(D$452:$D509))","v":""}]
[null,{"$f":"IF(D509=\"\",\"\",COUNT($D$24:$D$452)-COUNT(D$452:$D510))","v":""}]
[null,{"$f":"IF(D510=\"\",\"\",COUNT($D$24:$D$452)-COUNT(D$452:$D511))","v":""}]
[null,{"$f":"IF(D511=\"\",\"\",COUNT($D$24:$D$452)-COUNT(D$452:$D512))","v":""}]
[null,{"$f":"IF(D512=\"\",\"\",COUNT($D$24:$D$452)-COUNT(D$452:$D513))","v":""}]
[null,{"$f":"IF(D513=\"\",\"\",COUNT($D$24:$D$452)-COUNT(D$452:$D514))","v":""}]
[null,{"$f":"IF(D514=\"\",\"\",COUNT($D$24:$D$452)-COUNT(D$452:$D515))","v":""}]
[null,{"$f":"IF(D515=\"\",\"\",COUNT($D$24:$D$452)-COUNT(D$452:$D516))","v":""}]
[null,{"$f":"IF(D516=\"\",\"\",COUNT($D$24:$D$452)-COUNT(D$452:$D517))","v":""}]
[null,{"$f":"IF(D517=\"\",\"\",COUNT($D$24:$D$452)-COUNT(D$452:$D518))","v":""}]
[null,{"$f":"IF(D518=\"\",\"\",COUNT($D$24:$D$452)-COUNT(D$452:$D519))","v":""}]
[null,{"$f":"IF(D519=\"\",\"\",COUNT($D$24:$D$452)-COUNT(D$452:$D520))","v":""}]
[null,{"$f":"IF(D520=\"\",\"\",COUNT($D$24:$D$452)-COUNT(D$452:$D521))","v":""}]
[null,{"$f":"IF(D521=\"\",\"\",COUNT($D$24:$D$452)-COUNT(D$452:$D522))","v":""}]
[null,{"$f":"IF(D522=\"\",\"\",COUNT($D$24:$D$452)-COUNT(D$452:$D523))","v":""}]
[null,{"$f":"IF(D523=\"\",\"\",COUNT($D$24:$D$452)-COUNT(D$452:$D524))","v":""}]
[null,{"$f":"IF(D524=\"\",\"\",COUNT($D$24:$D$452)-COUNT(D$452:$D525))","v":""}]
[null,{"$f":"IF(D525=\"\",\"\",COUNT($D$24:$D$452)-COUNT(D$452:$D526))","v":""}]
[null,{"$f":"IF(D526=\"\",\"\",COUNT($D$24:$D$452)-COUNT(D$452:$D527))","v":""}]
[null,{"$f":"IF(D527=\"\",\"\",COUNT($D$24:$D$452)-COUNT(D$452:$D528))","v":""}]
[null,{"$f":"IF(D528=\"\",\"\",COUNT($D$24:$D$452)-COUNT(D$452:$D529))","v":""}]
[null,{"$f":"IF(D529=\"\",\"\",COUNT($D$24:$D$452)-COUNT(D$452:$D530))","v":""}]
[null,{"$f":"IF(D530=\"\",\"\",COUNT($D$24:$D$452)-COUNT(D$452:$D531))","v":""}]
[null,{"$f":"IF(D531=\"\",\"\",COUNT($D$24:$D$452)-COUNT(D$452:$D532))","v":""}]
[null,{"$f":"IF(D532=\"\",\"\",COUNT($D$24:$D$452)-COUNT(D$452:$D533))","v":""}]
[null,{"$f":"IF(D533=\"\",\"\",COUNT($D$24:$D$452)-COUNT(D$452:$D534))","v":""}]
[null,{"$f":"IF(D534=\"\",\"\",COUNT($D$24:$D$452)-COUNT(D$452:$D535))","v":""}]
[null,{"$f":"IF(D535=\"\",\"\",COUNT($D$24:$D$452)-COUNT(D$452:$D536))","v":""}]
[null,{"$f":"IF(D536=\"\",\"\",COUNT($D$24:$D$452)-COUNT(D$452:$D537))","v":""}]
[null,{"$f":"IF(D537=\"\",\"\",COUNT($D$24:$D$452)-COUNT(D$452:$D538))","v":""}]
[null,{"$f":"IF(D538=\"\",\"\",COUNT($D$24:$D$452)-COUNT(D$452:$D539))","v":""}]
[null,{"$f":"IF(D539=\"\",\"\",COUNT($D$24:$D$452)-COUNT(D$452:$D540))","v":""}]
[null,{"$f":"IF(D540=\"\",\"\",COUNT($D$24:$D$452)-COUNT(D$452:$D541))","v":""}]
[null,{"$f":"IF(D541=\"\",\"\",COUNT($D$24:$D$452)-COUNT(D$452:$D542))","v":""}]
[null,{"$f":"IF(D542=\"\",\"\",COUNT($D$24:$D$452)-COUNT(D$452:$D543))","v":""}]
[null,{"$f":"IF(D543=\"\",\"\",COUNT($D$24:$D$452)-COUNT(D$452:$D544))","v":""}]
[null,{"$f":"IF(D544=\"\",\"\",COUNT($D$24:$D$452)-COUNT(D$452:$D545))","v":""}]
[null,{"$f":"IF(D545=\"\",\"\",COUNT($D$24:$D$452)-COUNT(D$452:$D546))","v":""}]
[null,{"$f":"IF(D546=\"\",\"\",COUNT($D$24:$D$452)-COUNT(D$452:$D547))","v":""}]
[null,{"$f":"IF(D547=\"\",\"\",COUNT($D$24:$D$452)-COUNT(D$452:$D548))","v":""}]
[null,{"$f":"IF(D548=\"\",\"\",COUNT($D$24:$D$452)-COUNT(D$452:$D549))","v":""}]
[null,{"$f":"IF(D549=\"\",\"\",COUNT($D$24:$D$452)-COUNT(D$452:$D550))","v":""}]
[null,{"$f":"IF(D550=\"\",\"\",COUNT($D$24:$D$452)-COUNT(D$452:$D551))","v":""}]
[null,{"$f":"IF(D551=\"\",\"\",COUNT($D$24:$D$452)-COUNT(D$452:$D552))","v":""}]
[null,{"$f":"IF(D552=\"\",\"\",COUNT($D$24:$D$452)-COUNT(D$452:$D553))","v":""}]
[null,{"$f":"IF(D553=\"\",\"\",COUNT($D$24:$D$452)-COUNT(D$452:$D554))","v":""}]
[null,{"$f":"IF(D554=\"\",\"\",COUNT($D$24:$D$452)-COUNT(D$452:$D555))","v":""}]
[null,{"$f":"IF(D555=\"\",\"\",COUNT($D$24:$D$452)-COUNT(D$452:$D556))","v":""}]
[null,{"$f":"IF(D556=\"\",\"\",COUNT($D$24:$D$452)-COUNT(D$452:$D557))","v":""}]
[null,{"$f":"IF(D557=\"\",\"\",COUNT($D$24:$D$452)-COUNT(D$452:$D558))","v":""}]
[null,{"$f":"IF(D558=\"\",\"\",COUNT($D$24:$D$452)-COUNT(D$452:$D559))","v":""}]
[null,{"$f":"IF(D559=\"\",\"\",COUNT($D$24:$D$452)-COUNT(D$452:$D560))","v":""}]
[null,{"$f":"IF(D560=\"\",\"\",COUNT($D$24:$D$452)-COUNT(D$452:$D561))","v":""}]
[null,{"$f":"IF(D561=\"\",\"\",COUNT($D$24:$D$452)-COUNT(D$452:$D562))","v":""}]
[null,{"$f":"IF(D562=\"\",\"\",COUNT($D$24:$D$452)-COUNT(D$452:$D563))","v":""}]
[null,{"$f":"IF(D563=\"\",\"\",COUNT($D$24:$D$452)-COUNT(D$452:$D564))","v":""}]
[null,{"$f":"IF(D564=\"\",\"\",COUNT($D$24:$D$452)-COUNT(D$452:$D565))","v":""}]
[null,{"$f":"IF(D565=\"\",\"\",COUNT($D$24:$D$452)-COUNT(D$452:$D566))","v":""}]
[null,{"$f":"IF(D566=\"\",\"\",COUNT($D$24:$D$452)-COUNT(D$452:$D567))","v":""}]
[null,{"$f":"IF(D567=\"\",\"\",COUNT($D$24:$D$452)-COUNT(D$452:$D568))","v":""}]
[null,{"$f":"IF(D568=\"\",\"\",COUNT($D$24:$D$452)-COUNT(D$452:$D569))","v":""}]
[null,{"$f":"IF(D569=\"\",\"\",COUNT($D$24:$D$452)-COUNT(D$452:$D570))","v":""}]
[null,{"$f":"IF(D570=\"\",\"\",COUNT($D$24:$D$452)-COUNT(D$452:$D571))","v":""}]
[null,{"$f":"IF(D571=\"\",\"\",COUNT($D$24:$D$452)-COUNT(D$452:$D572))","v":""}]
[null,{"$f":"IF(D572=\"\",\"\",COUNT($D$24:$D$452)-COUNT(D$452:$D573))","v":""}]
[null,{"$f":"IF(D573=\"\",\"\",COUNT($D$24:$D$452)-COUNT(D$452:$D574))","v":""}]
[null,{"$f":"IF(D574=\"\",\"\",COUNT($D$24:$D$452)-COUNT(D$452:$D575))","v":""}]
[null,{"$f":"IF(D575=\"\",\"\",COUNT($D$24:$D$452)-COUNT(D$452:$D576))","v":""}]
[null,{"$f":"IF(D576=\"\",\"\",COUNT($D$24:$D$452)-COUNT(D$452:$D577))","v":""}]
[null,{"$f":"IF(D577=\"\",\"\",COUNT($D$24:$D$452)-COUNT(D$452:$D578))","v":""}]
[null,{"$f":"IF(D578=\"\",\"\",COUNT($D$24:$D$452)-COUNT(D$452:$D579))","v":""}]
[null,{"$f":"IF(D579=\"\",\"\",COUNT($D$24:$D$452)-COUNT(D$452:$D580))","v":""}]
[null,{"$f":"IF(D580=\"\",\"\",COUNT($D$24:$D$452)-COUNT(D$452:$D581))","v":""}]
[null,{"$f":"IF(D581=\"\",\"\",COUNT($D$24:$D$452)-COUNT(D$452:$D582))","v":""}]
[null,{"$f":"IF(D582=\"\",\"\",COUNT($D$24:$D$452)-COUNT(D$452:$D583))","v":""}]
[null,{"$f":"IF(D583=\"\",\"\",COUNT($D$24:$D$452)-COUNT(D$452:$D584))","v":""}]
[null,{"$f":"IF(D584=\"\",\"\",COUNT($D$24:$D$452)-COUNT(D$452:$D585))","v":""}]
[null,{"$f":"IF(D585=\"\",\"\",COUNT($D$24:$D$452)-COUNT(D$452:$D586))","v":""}]
[null,{"$f":"IF(D586=\"\",\"\",COUNT($D$24:$D$452)-COUNT(D$452:$D587))","v":""}]
[null,{"$f":"IF(D587=\"\",\"\",COUNT($D$24:$D$452)-COUNT(D$452:$D588))","v":""}]
[null,{"$f":"IF(D588=\"\",\"\",COUNT($D$24:$D$452)-COUNT(D$452:$D589))","v":""}]
[null,{"$f":"IF(D589=\"\",\"\",COUNT($D$24:$D$452)-COUNT(D$452:$D590))","v":""}]
[null,{"$f":"IF(D590=\"\",\"\",COUNT($D$24:$D$452)-COUNT(D$452:$D591))","v":""}]
[null,{"$f":"IF(D591=\"\",\"\",COUNT($D$24:$D$452)-COUNT(D$452:$D592))","v":""}]
[null,{"$f":"IF(D592=\"\",\"\",COUNT($D$24:$D$452)-COUNT(D$452:$D593))","v":""}]
[null,{"$f":"IF(D593=\"\",\"\",COUNT($D$24:$D$452)-COUNT(D$452:$D594))","v":""}]
[null,{"$f":"IF(D594=\"\",\"\",COUNT($D$24:$D$452)-COUNT(D$452:$D595))","v":""}]
[null,{"$f":"IF(D595=\"\",\"\",COUNT($D$24:$D$452)-COUNT(D$452:$D596))","v":""}]
[null,{"$f":"IF(D596=\"\",\"\",COUNT($D$24:$D$452)-COUNT(D$452:$D597))","v":""}]
[null,{"$f":"IF(D597=\"\",\"\",COUNT($D$24:$D$452)-COUNT(D$452:$D598))","v":""}]
[null,{"$f":"IF(D598=\"\",\"\",COUNT($D$24:$D$452)-COUNT(D$452:$D599))","v":""}]
[null,{"$f":"IF(D599=\"\",\"\",COUNT($D$24:$D$452)-COUNT(D$452:$D600))","v":""}]
[null,{"$f":"IF(D600=\"\",\"\",COUNT($D$24:$D$452)-COUNT(D$452:$D601))","v":""}]
[null,{"$f":"IF(D601=\"\",\"\",COUNT($D$24:$D$452)-COUNT(D$452:$D602))","v":""}]
[null,{"$f":"IF(D602=\"\",\"\",COUNT($D$24:$D$452)-COUNT(D$452:$D603))","v":""}]
[null,{"$f":"IF(D603=\"\",\"\",COUNT($D$24:$D$452)-COUNT(D$452:$D604))","v":""}]
[null,{"$f":"IF(D604=\"\",\"\",COUNT($D$24:$D$452)-COUNT(D$452:$D605))","v":""}]
[null,{"$f":"IF(D605=\"\",\"\",COUNT($D$24:$D$452)-COUNT(D$452:$D606))","v":""}]
[null,{"$f":"IF(D606=\"\",\"\",COUNT($D$24:$D$452)-COUNT(D$452:$D607))","v":""}]
[null,{"$f":"IF(D607=\"\",\"\",COUNT($D$24:$D$452)-COUNT(D$452:$D608))","v":""}]
[null,{"$f":"IF(D608=\"\",\"\",COUNT($D$24:$D$452)-COUNT(D$452:$D609))","v":""}]
[null,{"$f":"IF(D609=\"\",\"\",COUNT($D$24:$D$452)-COUNT(D$452:$D610))","v":""}]
[null,{"$f":"IF(D610=\"\",\"\",COUNT($D$24:$D$452)-COUNT(D$452:$D611))","v":""}]
[null,{"$f":"IF(D611=\"\",\"\",COUNT($D$24:$D$452)-COUNT(D$452:$D612))","v":""}]
[null,{"$f":"IF(D612=\"\",\"\",COUNT($D$24:$D$452)-COUNT(D$452:$D613))","v":""}]
[null,{"$f":"IF(D613=\"\",\"\",COUNT($D$24:$D$452)-COUNT(D$452:$D614))","v":""}]
[null,{"$f":"IF(D614=\"\",\"\",COUNT($D$24:$D$452)-COUNT(D$452:$D615))","v":""}]
[null,{"$f":"IF(D615=\"\",\"\",COUNT($D$24:$D$452)-COUNT(D$452:$D616))","v":""}]
[null,{"$f":"IF(D616=\"\",\"\",COUNT($D$24:$D$452)-COUNT(D$452:$D617))","v":""}]
[null,{"$f":"IF(D617=\"\",\"\",COUNT($D$24:$D$452)-COUNT(D$452:$D618))","v":""}]
[null,{"$f":"IF(D618=\"\",\"\",COUNT($D$24:$D$452)-COUNT(D$452:$D619))","v":""}]
[null,{"$f":"IF(D619=\"\",\"\",COUNT($D$24:$D$452)-COUNT(D$452:$D620))","v":""}]
[null,{"$f":"IF(D620=\"\",\"\",COUNT($D$24:$D$452)-COUNT(D$452:$D621))","v":""}]
[null,{"$f":"IF(D621=\"\",\"\",COUNT($D$24:$D$452)-COUNT(D$452:$D622))","v":""}]
[null,{"$f":"IF(D622=\"\",\"\",COUNT($D$24:$D$452)-COUNT(D$452:$D623))","v":""}]
[null,{"$f":"IF(D623=\"\",\"\",COUNT($D$24:$D$452)-COUNT(D$452:$D624))","v":""}]
[null,{"$f":"IF(D624=\"\",\"\",COUNT($D$24:$D$452)-COUNT(D$452:$D625))","v":""}]
[null,{"$f":"IF(D625=\"\",\"\",COUNT($D$24:$D$452)-COUNT(D$452:$D626))","v":""}]
[null,{"$f":"IF(D626=\"\",\"\",COUNT($D$24:$D$452)-COUNT(D$452:$D627))","v":""}]
[null,{"$f":"IF(D627=\"\",\"\",COUNT($D$24:$D$452)-COUNT(D$452:$D628))","v":""}]
[null,{"$f":"IF(D628=\"\",\"\",COUNT($D$24:$D$452)-COUNT(D$452:$D629))","v":""}]
[null,{"$f":"IF(D629=\"\",\"\",COUNT($D$24:$D$452)-COUNT(D$452:$D630))","v":""}]
[null,{"$f":"IF(D630=\"\",\"\",COUNT($D$24:$D$452)-COUNT(D$452:$D631))","v":""}]
[null,{"$f":"IF(D631=\"\",\"\",COUNT($D$24:$D$452)-COUNT(D$452:$D632))","v":""}]
[null,{"$f":"IF(D632=\"\",\"\",COUNT($D$24:$D$452)-COUNT(D$452:$D633))","v":""}]
[null,{"$f":"IF(D633=\"\",\"\",COUNT($D$24:$D$452)-COUNT(D$452:$D634))","v":""}]
[null,{"$f":"IF(D634=\"\",\"\",COUNT($D$24:$D$452)-COUNT(D$452:$D635))","v":""}]
[null,{"$f":"IF(D635=\"\",\"\",COUNT($D$24:$D$452)-COUNT(D$452:$D636))","v":""}]
[null,{"$f":"IF(D636=\"\",\"\",COUNT($D$24:$D$452)-COUNT(D$452:$D637))","v":""}]
[null,{"$f":"IF(D637=\"\",\"\",COUNT($D$24:$D$452)-COUNT(D$452:$D638))","v":""}]
[null,{"$f":"IF(D638=\"\",\"\",COUNT($D$24:$D$452)-COUNT(D$452:$D639))","v":""}]
[null,{"$f":"IF(D639=\"\",\"\",COUNT($D$24:$D$452)-COUNT(D$452:$D640))","v":""}]
[null,{"$f":"IF(D640=\"\",\"\",COUNT($D$24:$D$452)-COUNT(D$452:$D641))","v":""}]
[null,{"$f":"IF(D641=\"\",\"\",COUNT($D$24:$D$452)-COUNT(D$452:$D642))","v":""}]
[null,{"$f":"IF(D642=\"\",\"\",COUNT($D$24:$D$452)-COUNT(D$452:$D643))","v":""}]
[null,{"$f":"IF(D643=\"\",\"\",COUNT($D$24:$D$452)-COUNT(D$452:$D644))","v":""}]
[null,{"$f":"IF(D644=\"\",\"\",COUNT($D$24:$D$452)-COUNT(D$452:$D645))","v":""}]
[null,{"$f":"IF(D645=\"\",\"\",COUNT($D$24:$D$452)-COUNT(D$452:$D646))","v":""}]
[null,{"$f":"IF(D646=\"\",\"\",COUNT($D$24:$D$452)-COUNT(D$452:$D647))","v":""}]
[null,{"$f":"IF(D647=\"\",\"\",COUNT($D$24:$D$452)-COUNT(D$452:$D648))","v":""}]
[null,{"$f":"IF(D648=\"\",\"\",COUNT($D$24:$D$452)-COUNT(D$452:$D649))","v":""}]
[null,{"$f":"IF(D649=\"\",\"\",COUNT($D$24:$D$452)-COUNT(D$452:$D650))","v":""}]
[null,{"$f":"IF(D650=\"\",\"\",COUNT($D$24:$D$452)-COUNT(D$452:$D651))","v":""}]
[null,{"$f":"IF(D651=\"\",\"\",COUNT($D$24:$D$452)-COUNT(D$452:$D652))","v":""}]
[null,{"$f":"IF(D652=\"\",\"\",COUNT($D$24:$D$452)-COUNT(D$452:$D653))","v":""}]
[null,{"$f":"IF(D653=\"\",\"\",COUNT($D$24:$D$452)-COUNT(D$452:$D654))","v":""}]
[null,{"$f":"IF(D654=\"\",\"\",COUNT($D$24:$D$452)-COUNT(D$452:$D655))","v":""}]
[null,{"$f":"IF(D655=\"\",\"\",COUNT($D$24:$D$452)-COUNT(D$452:$D656))","v":""}]
[null,{"$f":"IF(D656=\"\",\"\",COUNT($D$24:$D$452)-COUNT(D$452:$D657))","v":""}]
[null,{"$f":"IF(D657=\"\",\"\",COUNT($D$24:$D$452)-COUNT(D$452:$D658))","v":""}]
[null,{"$f":"IF(D658=\"\",\"\",COUNT($D$24:$D$452)-COUNT(D$452:$D659))","v":""}]
[null,{"$f":"IF(D659=\"\",\"\",COUNT($D$24:$D$452)-COUNT(D$452:$D660))","v":""}]
[null,{"$f":"IF(D660=\"\",\"\",COUNT($D$24:$D$452)-COUNT(D$452:$D661))","v":""}]
[null,{"$f":"IF(D661=\"\",\"\",COUNT($D$24:$D$452)-COUNT(D$452:$D662))","v":""}]
[null,{"$f":"IF(D662=\"\",\"\",COUNT($D$24:$D$452)-COUNT(D$452:$D663))","v":""}]
[null,{"$f":"IF(D663=\"\",\"\",COUNT($D$24:$D$452)-COUNT(D$452:$D664))","v":""}]
[null,{"$f":"IF(D664=\"\",\"\",COUNT($D$24:$D$452)-COUNT(D$452:$D665))","v":""}]
[null,{"$f":"IF(D665=\"\",\"\",COUNT($D$24:$D$452)-COUNT(D$452:$D666))","v":""}]
[null,{"$f":"IF(D666=\"\",\"\",COUNT($D$24:$D$452)-COUNT(D$452:$D667))","v":""}]
[null,{"$f":"IF(D667=\"\",\"\",COUNT($D$24:$D$452)-COUNT(D$452:$D668))","v":""}]
[null,{"$f":"IF(D668=\"\",\"\",COUNT($D$24:$D$452)-COUNT(D$452:$D669))","v":""}]
[null,{"$f":"IF(D669=\"\",\"\",COUNT($D$24:$D$452)-COUNT(D$452:$D670))","v":""}]
[null,{"$f":"IF(D670=\"\",\"\",COUNT($D$24:$D$452)-COUNT(D$452:$D671))","v":""}]
[null,{"$f":"IF(D671=\"\",\"\",COUNT($D$24:$D$452)-COUNT(D$452:$D672))","v":""}]
[null,{"$f":"IF(D672=\"\",\"\",COUNT($D$24:$D$452)-COUNT(D$452:$D673))","v":""}]
[null,{"$f":"IF(D673=\"\",\"\",COUNT($D$24:$D$452)-COUNT(D$452:$D674))","v":""}]
[null,{"$f":"IF(D674=\"\",\"\",COUNT($D$24:$D$452)-COUNT(D$452:$D675))","v":""}]
[null,{"$f":"IF(D675=\"\",\"\",COUNT($D$24:$D$452)-COUNT(D$452:$D676))","v":""}]
[null,{"$f":"IF(D676=\"\",\"\",COUNT($D$24:$D$452)-COUNT(D$452:$D677))","v":""}]
[null,{"$f":"IF(D677=\"\",\"\",COUNT($D$24:$D$452)-COUNT(D$452:$D678))","v":""}]
[null,{"$f":"IF(D678=\"\",\"\",COUNT($D$24:$D$452)-COUNT(D$452:$D679))","v":""}]
[null,{"$f":"IF(D679=\"\",\"\",COUNT($D$24:$D$452)-COUNT(D$452:$D680))","v":""}]
[null,{"$f":"IF(D680=\"\",\"\",COUNT($D$24:$D$452)-COUNT(D$452:$D681))","v":""}]
[null,{"$f":"IF(D681=\"\",\"\",COUNT($D$24:$D$452)-COUNT(D$452:$D682))","v":""}]
[null,{"$f":"IF(D682=\"\",\"\",COUNT($D$24:$D$452)-COUNT(D$452:$D683))","v":""}]
[null,{"$f":"IF(D683=\"\",\"\",COUNT($D$24:$D$452)-COUNT(D$452:$D684))","v":""}]
[null,{"$f":"IF(D684=\"\",\"\",COUNT($D$24:$D$452)-COUNT(D$452:$D685))","v":""}]
[null,{"$f":"IF(D685=\"\",\"\",COUNT($D$24:$D$452)-COUNT(D$452:$D686))","v":""}]
[null,{"$f":"IF(D686=\"\",\"\",COUNT($D$24:$D$452)-COUNT(D$452:$D687))","v":""}]
[null,{"$f":"IF(D687=\"\",\"\",COUNT($D$24:$D$452)-COUNT(D$452:$D688))","v":""}]
[null,{"$f":"IF(D688=\"\",\"\",COUNT($D$24:$D$452)-COUNT(D$452:$D689))","v":""}]
[null,{"$f":"IF(D689=\"\",\"\",COUNT($D$24:$D$452)-COUNT(D$452:$D690))","v":""}]
[null,{"$f":"IF(D690=\"\",\"\",COUNT($D$24:$D$452)-COUNT(D$452:$D691))","v":""}]
[null,{"$f":"IF(D691=\"\",\"\",COUNT($D$24:$D$452)-COUNT(D$452:$D692))","v":""}]
[null,{"$f":"IF(D692=\"\",\"\",COUNT($D$24:$D$452)-COUNT(D$452:$D693))","v":""}]
[null,{"$f":"IF(D693=\"\",\"\",COUNT($D$24:$D$452)-COUNT(D$452:$D694))","v":""}]
[null,{"$f":"IF(D694=\"\",\"\",COUNT($D$24:$D$452)-COUNT(D$452:$D695))","v":""}]
[null,{"$f":"IF(D695=\"\",\"\",COUNT($D$24:$D$452)-COUNT(D$452:$D696))","v":""}]
[null,{"$f":"IF(D696=\"\",\"\",COUNT($D$24:$D$452)-COUNT(D$452:$D697))","v":""}]
[null,{"$f":"IF(D697=\"\",\"\",COUNT($D$24:$D$452)-COUNT(D$452:$D698))","v":""}]
[null,{"$f":"IF(D698=\"\",\"\",COUNT($D$24:$D$452)-COUNT(D$452:$D699))","v":""}]
[null,{"$f":"IF(D699=\"\",\"\",COUNT($D$24:$D$452)-COUNT(D$452:$D700))","v":""}]
[null,{"$f":"IF(D700=\"\",\"\",COUNT($D$24:$D$452)-COUNT(D$452:$D701))","v":""}]
[null,{"$f":"IF(D701=\"\",\"\",COUNT($D$24:$D$452)-COUNT(D$452:$D702))","v":""}]
[null,{"$f":"IF(D702=\"\",\"\",COUNT($D$24:$D$452)-COUNT(D$452:$D703))","v":""}]
[null,{"$f":"IF(D703=\"\",\"\",COUNT($D$24:$D$452)-COUNT(D$452:$D704))","v":""}]
[null,{"$f":"IF(D704=\"\",\"\",COUNT($D$24:$D$452)-COUNT(D$452:$D705))","v":""}]
[null,{"$f":"IF(D705=\"\",\"\",COUNT($D$24:$D$452)-COUNT(D$452:$D706))","v":""}]
[null,{"$f":"IF(D706=\"\",\"\",COUNT($D$24:$D$452)-COUNT(D$452:$D707))","v":""}]
[null,{"$f":"IF(D707=\"\",\"\",COUNT($D$24:$D$452)-COUNT(D$452:$D708))","v":""}]

{"sheet":"Malfunction","index":9,"n_rows":14,"n_cols":7,"rows_kept":14,"cut":false,"hidden":false,"merged":[]}
[null,"DO NOT REMOVE OR EDIT INFORMATION IN ROWS 1 THROUGH 5\nFOR INTERNAL USE ONLY"]
[null,"Template Name",null,{"$f":"+Welcome!B2","v":"63.8693(c) Semiannual Compliance Report (Spreadsheet Template)"}]
[null,"CitationID",null,{"$f":"+Welcome!B3","v":"63.8693(c)"}]
[null,"Template Version",null,{"$f":"+Welcome!B4","v":"v2.01"}]
[null,"Last Updated Date",null,{"$f":"+Welcome!B5","v":45397}]
[]
[null,"40 CFR Part 63, Subpart LLLLL National Emission Standards for Hazardous Air Pollutants: Asphalt Processing and Asphalt Roofing Manufacturing - "]
[null,"§63.8693(c) Semiannual Compliance Report Spreadsheet Template"]
[]
[]
[null,"* Required Field"]
[null,"Company Record No.  *\n(Select from Dropdown)","Process Unit Description *\n(§63.8693(d)(9))\n(Select from Dropdown)","Description of Malfunction *","Starting Date \nof Malfunction *\n(§63.8693(d)(1))","Starting Time\n of Malfunction *\n(§63.8693(d)(1))","Duration\n of Malfunction * (hours)\n(§63.8693(d)(1))"]
[null,"RecordId","ProcessUnitDesc","MalfunctionDescription","MalfunctionStartDate","MalfunctionStartTime","MalfunctionDuration"]
[null,"e.g.: 1","e.g.: Line 1","e.g.: West Web Coating unplanned shutdown","e.g.: 2/1/2017","e.g.: 13:15","e.g.: 13.25"]

{"sheet":"Description_of_Changes","index":10,"n_rows":14,"n_cols":4,"rows_kept":14,"cut":false,"hidden":false,"merged":[]}
[null,"DO NOT REMOVE OR EDIT INFORMATION IN ROWS 1 THROUGH 5\nFOR INTERNAL USE ONLY"]
[null,"Template Name",{"$f":"+Welcome!B2","v":"63.8693(c) Semiannual Compliance Report (Spreadsheet Template)"}]
[null,"CitationID",{"$f":"+Welcome!B3","v":"63.8693(c)"}]
[null,"Template Version",{"$f":"+Welcome!B4","v":"v2.01"}]
[null,"Last Updated Date",{"$f":"+Welcome!B5","v":45397}]
[null,null,"Intentionally Blank","Intentionally Blank"]
[null,"40 CFR Part 63, Subpart LLLLL National Emission Standards for Hazardous Air Pollutants: Asphalt Processing and Asphalt Roofing Manufacturing - ",null,"Intentionally Blank"]
[null,"§63.8693(c) Semiannual Compliance Report Spreadsheet Template"]
[null,"CPMS, CEMS, COMS, Processes, or Control Changes"]
[null,"A description of any changes in the CPMS, CEMS, COMS, processes or controls since the last semiannual reporting period."]
[null,"* Required Field"]
[null,"Company Record No.  *\n(Select from Dropdown)","Description of any CPMS, CEMS, COMS, processes, or controls which have occurred since the last reporting period *\n(§63.8693(d)(12))","Intentionally Blank"]
[null,"RecordId","PeriodChangeDesc"]
[null,"e.g.: 1"]

{"sheet":"Certification","index":11,"n_rows":14,"n_cols":5,"rows_kept":14,"cut":false,"hidden":false,"merged":[]}
[null,"DO NOT REMOVE OR EDIT INFORMATION IN ROWS 1 THROUGH 5\nFOR INTERNAL USE ONLY"]
[null,"Template Name",{"$f":"+Welcome!B2","v":"63.8693(c) Semiannual Compliance Report (Spreadsheet Template)"}]
[null,"CitationID",{"$f":"+Welcome!B3","v":"63.8693(c)"}]
[null,"Template Version",{"$f":"+Welcome!B4","v":"v2.01"}]
[null,"Last Updated Date",{"$f":"+Welcome!B5","v":45397}]
[]
[null,"40 CFR Part 63, Subpart LLLLL National Emission Standards for Hazardous Air Pollutants: Asphalt Processing and "]
[null,"Asphalt Roofing Manufacturing"]
[null,"§63.8693(c) Semiannual Compliance Report Spreadsheet Template"]
[null,"Complete this form when you have completed the semiannual compliance report."]
[null,"* Required Field"]
[null,"Company Record No.  *\n(Select from Dropdown)","No deviations occurred during this \nreporting period  * \n(§63.8693(c)(5)) \n(Select from Dropdown)","There were no periods during which CPMS, CEMS, or COMS were out of control as specified in §63.8(c)(7) during the reporting period * \n(§63.8693(c)(6))\n(Select from Dropdown)","Pursuant to §63.8693(e), all necessary deviation information was submitted in the semiannual monitoring report required by §70.6(a)(3)(iii)(A) or §71.6(a)(3)(iii)(A). *\n(Select from Dropdown)"]
[null,"RecordId","PeriodDeviationFlag","CPMSControlFlag","CPMSComplianceFlag"]
[null,"e.g.: 1"]

{"sheet":"Revisions","index":12,"n_rows":4,"n_cols":3,"rows_kept":4,"cut":false,"hidden":false,"merged":[]}
["Revision Number","Date","Revisions"]
[1,43850,"Initial Release Version"]
[2,44020,"Updated version/CBI, Hidden column A, added Worksheet Map"]
[2.0099999999999998,45397,"Revised the welcome tab"]

{"sheet":"Worksheet Map","index":13,"n_rows":11,"n_cols":5,"rows_kept":11,"cut":false,"hidden":true,"merged":[]}
["Worksheet Name","Parent","JSON Key","Parent Primary Key","Child Foreign Key"]
["Company_Information",null,"records"]
["CEM_COM_CPMS_Identification","records","CEMCOMCPMSIdentification","RecordId","RecordId"]
["CEM_COM_CPMS_Detail","records","CEMCOMCPMSDetail","RecordId","RecordId"]
["CPMS_Summary_Report","records","CPMSSummaryReport","RecordId","RecordId"]
["Limits_Details","records","LimitsDetails","RecordId","RecordId"]
["Limits_Summary_Report","records","LimitsSummaryReport","RecordId","RecordId"]
["Number_of_Deviations","records","NumberOfDeviations","RecordId","RecordId"]
["Malfunction","records","Malfunction","RecordId","RecordId"]
["Description_of_Changes","records","DescriptionOfChanges","RecordId","RecordId"]
["Certification","records","Certification","RecordId","RecordId"]