{"text_format":"1","workbook":"xlsx","n_sheets":37,"sheets":["Instructions","Acronyms","Start","Utility","LU","Input1","Input2","Intermed_Input","calc_Fisher","calc_IC25","calc_IC25_Resample","calc_IC25_Stat","Spearman_Karber","Shapiro","Kolmogorov","Parametric","NonPara","TST","Output_Intermed","Output","Table_Bonf","Table_Dun","Table_Steel","Table_ShapiroCo","Table_ShapiroQuant","Table_Wilcxon","OutputReport1","OutputReport2","Statistics Input","Statistics","RP Data","RP TSD","RP TST","Limit Development","RPMF","WLA Multipliers","LTA Multipliers"],"not_rendered":{"charts":6,"images":0,"macros":1,"external_links":0,"defined_names":54,"comments":6,"pivot_tables":0},"unopened":[],"bounds":{"document_bytes":16777216,"sheet_cells":100000,"rows_first":2000,"rows_last":500,"rows_between":2000,"halvings":0,"cell_chars":16384,"cell_head_chars":4096},"cells_cut":0,"cells_raw":0,"read":"whole","date_system":"1900"}

{"sheet":"Instructions","index":0,"n_rows":131,"n_cols":12,"rows_kept":131,"cut":false,"hidden":false,"merged":[[130,1,132,14],[58,2,59,14],[125,1,128,14],[87,1,89,14],[113,1,114,14],[108,1,110,14],[116,1,117,14],[119,1,120,14],[5,2,13,13],[56,2,57,14],[94,1,95,14],[100,1,103,14],[32,11,36,14],[93,1,93,14],[40,1,44,14]]}
[]
[]
[]
[]
[]
[null,null,"The United States Environmental Protection Agency (EPA) developed this spreadsheet to analyze valid WET test data to obtain acute and chronic test endpoints (e.g., survival, reproduction, biomass, fertilization) identified in EPA’s WET test methods under the NPDES program. This spreadsheet calculates WET test endpoints recommended in EPA’s Technical Support Document (TSD) (e.g., LC50, NOAEC, NOEC, LOEC, IC25; see Chapter 1, Section 1.3 of the TSD) as well as EPA’s Test of Significant Toxicity (TST;  EPA 833-R-10-003, June 2010). This spreadsheet can also be used for reasonable potential analysis, permit compliance determination, and permit limit development."]
[]
[]
[]
[]
[]
[]
[]
[]
[]
[]
[null,"Before using this program, macros must be enabled and the security certificate must be accepted."]
[]
[null,"For Excel 2010/2016"]
[null,1,"Click the \"File\" tab (in the upper left), and select \"Options\""]
[null,2,"Click \"Trust Center\" on the left menu"]
[null,3,"Follow \"For Excel 2007\" instructions below starting at #3"]
[]
[null,"For Excel 2007"]
[null,1,"Click the “Office Button” (big Office logo in the upper left), and select “Excel Options” (lower right)"]
[null,2,"Click \"Trust Center\" on the left menu"]
[null,3,"Click \"Trust Center Settings\" (lower right)"]
[null,4,"Click \"Macro Settings\""]
[null,5,"Click \"Enable all macros\" (last option)"]
[null,6,"Click \"ok\" buttons to clear all open windows"]
[null,7,"Exit program and re-open the file to use"]
[]
[null,"For Excel pre-2007",null,null,null,null,null,null,null,null,null,"This spreadsheet was created for several of the EPA WET test methods including the 2002 EPA WET test methods (USEPA 2002a, 2002b, 2002c) and the West Coast marine species (USEPA 1995)."]
[null,1,"Go to \"Tools\", \"Macro\", and Click \"Security\""]
[null,2,"Set Macro security to medium"]
[null,3,"Exit prgram and re-open file"]
[null,4,"Click \"Enable Macros\""]
[]
[]
[null,"NOTICE"]
[null,"EPA, through its Office of Wastewater Management, funded and managed the development of the whole effluent toxicity (WET) spreadsheet described here. This spreadsheet calculates WET test endpoints for the EPA WET test methods and is used by EPA internally for analyzing valid WET test data. Neither the EPA nor any of their employees, assumes any legal liability or responsibility for the accuracy, completeness, or usefulness of any information or process disclosed. Furthermore, the WET Analysis Spreadsheet is supplied “as-is” without guarantee or warranty, expressed or implied, including without limitation, any warranty of merchantability or fitness for a specific purpose."]
[]
[]
[]
[]
[]
[]
[null,"About this Spreadsheet"]
[]
[null,"*","The spreadsheet does a limited check that test acceptability criteria are met; only valid test data should be used"]
[null,"*","There are no error checking capabilities; make sure to enter data correctly"]
[null,"*","Tests with multiple endpoints (e.g., survival and reproduction) must be entered separately (see \"Analyzing Dual Endpoints\" below)"]
[null,"*","Maximum number of treatments is 8 concentrations (including the control)"]
[null,"*","Fish biomass must be input as weight/fish (the spreadsheet does not do the divisions)"]
[null,"*","TST analysis cannot be performed if the IWC is not one of the test concentrations"]
[null,"*","TST analysis requires more than 2 replicates per concentration; if only 2 replicates are entered, TST results will be blank in the \"Output\" tab"]
[null,"*","All numbers (e.g., IWC, test concentrations, percent data) should be entered as actual, raw numbers (e.g., 10 organisms initiated and 8 survived, not 1 initiated and 0.8 survived)"]
[]
[null,"*","IC25 and LC50 values are calculated following the default recommendations in the 2002 EPA WET test methods and will use linear interpolation, probit, Spearman-Karber, or trimmed Spearman-Karber.  The user may also specify which statistical method of analysis.  Selecting \"EPA Flowchart\" will select the statistical method following the flowchart in the 2002 WET test methods."]
[]
[null,"*","A test date must be entered to use the reasonable potential functionality"]
[]
[]
[null,"Entering Data"]
[]
[null,"1.  Enter test information in the green shaded cells (Facility, Analyst, Lab ID, Test ID, Date, and IWC) on the \"Start\" tab"]
[null,"*","All WET test concentrations including the IWC, should be entered as a number (e.g., 25) rather than as a percent (e.g., 25% or 0.25)"]
[null,"*","If the IWC is the last parameter to be entered, then the Enter key must be pressed for the value to be used in TST analysis"]
[null,"2.  Choose the Species, Test Type, and Statistical Method from the drop-down menus"]
[null,"*","Tests with multiple endpoints (e.g., survival and reproduction) must be entered separately"]
[null,"3.  Click on the \"Enter Data\" button"]
[null,"4.  Fill in your raw test data for as many replicates as conducted in WET test"]
[null,"*","Enter the test concentrations in the blue cells as numbers, not percents (for example, 25 and not 25% or 0.25)"]
[null,"*","Percent data (survival, germination, etc.) should be input as whole numbers, not as decimals (for example, 8 fish survived not 80% or 0.8)"]
[null,"*","Fish growth must be input as weight/fish (the spreadsheet does not do the divisions)"]
[null,"*","Cannot input more than 8 concentrations (including the control)"]
[null,"5.  Click on the \"Calculate Result\" button"]
[null,"6.  The results will appear in the \"Output\" tab"]
[null,"7.  For a printer friendly version of the input and output data click on the \"Generate Report\" button"]
[null,"8.  To create a running list of summary test and result information, return to the \"Output\" tab and click on the \"Save to Statistics\" button"]
[null,"*","For details on saving the data, scroll down and review the \"Saving and Retrieving Data\" section"]
[null,"9.  To input a new test return to the \"Start\" tab and repeat"]
[null,"*","Clicking on the \"Enter Data\" button will erase all previously entered input data and results, except what can be saved to the \"Statistics\" tab"]
[]
[]
[null,"Analyzing Dual Endpoints"]
[]
[null,"Tests with dual endpoints (e.g., survival/reproduction, survival/growth) must be entered separate when using the spreadsheet.  Survival data must be analyzed first in accordance with EPA WET methods.  If there is a survival effect for a given concentration, then those data are not entered for the sublethal endpoint.  "]
[]
[]
[]
[null,"Example"]
[null,"Test concentration series is 0, 6.25, 12.5, 25, 50, and 100."]
[null,"For survival, the output indicates that 50 and 100 are significantly different than the control (highlighted yellow with a \"N\" in the statistical result column)."]
[null,"When analyzing the sublethal endpoint from this test, do not enter data for the 50 and 100 concentrations - these concentrations already exhibited an effect on survival."]
[]
[]
[]
[null,"Test Results"]
[]
[null,"The mean, standard deviation, and CV values in the \"Output\" tab are the values used in the statistical calculation.  If the data were transformed for the statistical calculation, the transformed data are presented.  Summary statistics for the raw data can be found in the test report, which is obtained by clicking on the \"Generate Report\" button on the \"Output\" tab.  If a concentration was not used in the statistical calculation then it will not appear on the output page (e.g., if there was 0% survival in the highest concentration)."]
[]
[]
[]
[]
[]
[null,"Saving and Retrieving Data"]
[]
[null,"Summary test and result information can be added to a running list on the \"Statistics\" tab of the spreadsheet by clicking on the \"Save to Statistics\" button on the \"Output\" worksheet.  To aviod overwriting the previously added data, you must give every test a unique Test ID.  The file must be saved after use to retain this information."]
[]
[]
[null,"***","Note - Data can be erased from the \"Statistics\" tab by the user.  Any saved modifications cannot be undone."]
[]
[null,"This spreadsheet is not a database.  If you return to the \"Start\" tab to enter new test information and click the \"Enter Data\" button all data, except summary information saved to the \"Statistics\" tab, will be erased. "]
[]
[]
[null,"If you want to retain the input data in the file, then each run of the WET spreadsheet (i.e., each WET endpoint analyzed) must be saved separately (e.g., WETAnalysisSpreadsheet v1.5_Test0001, WETAnalysisSpreadsheet v1.5_Test0002, etc.)."]
[]
[]
[null,"Once a spreadsheet analysis has been saved, if the file is closed, the data for the test that was most recently input will be available when opened.  Edits to that dataset may be made by selecting the \"Input\" tab."]
[]
[]
[]
[null,"Reasonable Potential and Limit Derivation "]
[]
[null,"If summary test and result information have been saved as a running list on the \"Statistics\" tab and this file has only been used to enter information for one NPDES permit, then the user is able to calculate reasonable potential for up to 9 species/test type combinations. This is done by clicking on the \"Calculate Reasonable Potential for TSD\" button or \"Calculate Reasonable Potential for TST\" button on the \"Statistics\" tab. \nReasonable potential for TSD analysis follows the procedures outlined int EPA's TSD.  If less than 10 tests have been entered for any combination of species and endpoint, a default CV of 0.6 will be used in the analysis.  When 10 or more tests have been entered for any combination of species and endpoint, then a CV will be calculated based on the mean and standard deviation of the test resuls. The user will then need to select the confidence level to be used in the calculation. Acute and chronic reasonable potentials will then calculate. As noted above, a test date must be entered for this functionality."]
[]
[]
[]
[]
[null,"Once reasonable potential has been calculated, maximum daily and average montly limits can be calculated if reasonable potential is demonstrated. This is done by clicking on the \"Limit Development\" button on the \"RP Calculations\" tab, inputting the effluent and upstream flows (green boxes), and choosing the confidence levels and sample size (yellow boxes)."]

{"sheet":"Acronyms","index":1,"n_rows":28,"n_cols":3,"rows_kept":28,"cut":false,"hidden":false,"merged":[]}
[]
[null,"Acronym","Definition"]
[null,"7Q10","Lowest 7 day flow over the past 10 years"]
[null,"CFS","Cubic feet per second"]
[null,"CI","Confidence Interval"]
[null,"CV","Coefficient of Variation"]
[null,"EPA","Environmental Protection Agency"]
[null,"IC25","Effluent concentration causing 25% inhibition"]
[null,"ID","Identification"]
[null,"IWC","Instream Waste Concentration"]
[null,"LC50","Effluent concentration causing 50% lethality"]
[null,"LOEC","Lowest Observed Effect Concentration"]
[null,"MSD","Minimum Signficant Difference"]
[null,"N","Number or No"]
[null,"NOAEC","No Observed Adverse Effect Concentration"]
[null,"NOEC","No Observed Effect Concentration"]
[null,"NPDES","National Pollutant Discharge Elimination System"]
[null,"NS","Not Significant"]
[null,"PMSD","Percent Minimum Significant Difference"]
[null,"RP","Reasonable Potential"]
[null,"RPMF","Reasonable Potential Multiplying Factor"]
[null,"SD","Standard Deviation"]
[null,"TAC","Test Acceptability Criteria"]
[null,"TSD","EPA's Technical Support Document for Water Quality-Based Toxics Control (1991)"]
[null,"TST","Test of Significant Toxicity"]
[null,"TU","Toxic Units"]
[null,"WET","Whole Effluent Toxicity"]
[null,"Y","Yes"]

{"sheet":"Start","index":2,"n_rows":29,"n_cols":5,"rows_kept":29,"cut":false,"hidden":false,"merged":[[1,4,6,7],[9,4,13,8]]}
["Facility:"]
["Analyst:",null,null,null,"If intending to use the reasonable potential or permit limit development features of this spreadsheet, DO NOT enter data for more than one permit outfall/permittee in each file. "]
["Test ID:"]
["Date:"]
["Lab ID:"]
["Species:",null,"*"]
["Test Type:",null,"*"]
["Control:"]
["Dilution 1:"]
["Dilution 2:",null,null,null,"Note - When entering concentrations, they must be entered from low to high starting with the control.  The control value must be entered as a number (i.e., \"Control\" is not a valid input, while \"0\" is a most common)."]
["Dilution 3:"]
["Dilution 4:"]
["Dilution 5:"]
["Dilution 6:"]
["Dilution 7:"]
["IWC (in-stream waste concentration):"]
[null,{"$f":"INDEX(InputLookup,MATCH(B7,LU!$A$70:$A$78,0),2)","v":{"$error":"#N/A"}}]
[null,"Click button below to start entering data for the Species and Test Type you have selected above."]
[]
[]
[]
[]
[]
["Tip:"]
["If the \"Enter Data\" button is not working then you need to enable macro."]
["1. Click on the office button in the upper left-hand corner of the Excel interface, select Excel Option."]
["2. Select Trust Center, Trust Center Setting, then Macro Settings."]
["3. Select Enable all macros."]
["4. Reopen the workbook and allow macros to run for this workbook."]

{"sheet":"Utility","index":3,"n_rows":2,"n_cols":1,"rows_kept":2,"cut":false,"hidden":true,"merged":[]}
["Utility buttons for use during development"]
["Worksheet should be hidden"]

{"sheet":"LU","index":4,"n_rows":112,"n_cols":20,"rows_kept":112,"cut":false,"hidden":true,"merged":[]}
["Look Up Tables:","Worksheet should be hidden"]
[]
[]
["MainLookup",null,null,null,null,"Didn't use Number or index for actual calculation.",null,null,null,"Statistics - Test Present",null,"Use this table for PMSD checks and TAC checks","Lower bound PMSD","Upper bound PMSD","Control TAC lower bound (>=)","Control TAC upper bound (<=)","Control TAC Units","CV (<=)","MSD (<=)","TAC flag"]
["Species","Test Type","Number","Index","MapToName","TestName",null,null,null,null,null,"Species and Test"]
["Ceriodaphnia dubia (water flea)","Acute Survival",1,1,"CER",{"$f":"A6&\" ~ \"&B6","v":"Ceriodaphnia dubia (water flea) ~ Acute Survival"},null,null,null,{"$f":"IF(SUMPRODUCT((Statistics!$D$4:$D$963=A6)*(Statistics!$E$4:$E$963=B6)*1)>0,1,0)","v":1},null,{"$f":"A6&\" \"&B6","v":"Ceriodaphnia dubia (water flea) Acute Survival"},"NA","NA",0.9,"NA","proportion survival","NA","NA","N"]
["Ceriodaphnia dubia (water flea)","Chronic Survival",2,1,null,{"$f":"A7&\" ~ \"&B7","v":"Ceriodaphnia dubia (water flea) ~ Chronic Survival"},null,null,null,{"$f":"IF(SUMPRODUCT((Statistics!$D$4:$D$963=A7)*(Statistics!$E$4:$E$963=B7)*1)>0,1,0)","v":0},null,{"$f":"A7&\" \"&B7","v":"Ceriodaphnia dubia (water flea) Chronic Survival"},"NA","NA",0.8,"NA","proportion survival","NA","NA","N"]
["Ceriodaphnia dubia (water flea)","Reproduction",3,1,null,"Ceriodaphnia dubia (water flea) ~ Reproduction",null,null,null,{"$f":"IF(SUMPRODUCT((Statistics!$D$4:$D$963=A8)*(Statistics!$E$4:$E$963=B8)*1)>0,1,0)","v":0},null,"Ceriodaphnia dubia (water flea) Reproduction",13,47,"NA","NA","proportion survival","NA","NA","Y"]
["Pimephales promelas (fathead minnow)","Acute Survival",4,2,"PIM","Pimephales promelas (fathead minnow) ~ Acute Survival",null,null,null,{"$f":"IF(SUMPRODUCT((Statistics!$D$4:$D$963=A9)*(Statistics!$E$4:$E$963=B9)*1)>0,1,0)","v":0},null,"Pimephales promelas (fathead minnow) Acute Survival","NA","NA",0.9,"NA","proportion survival","NA","NA","N"]
["Pimephales promelas (fathead minnow)","Chronic Survival",5,2,null,"Pimephales promelas (fathead minnow) ~ Chronic Survival",null,null,null,{"$f":"IF(SUMPRODUCT((Statistics!$D$4:$D$963=A10)*(Statistics!$E$4:$E$963=B10)*1)>0,1,0)","v":0},null,"Pimephales promelas (fathead minnow) Chronic Survival","NA","NA",0.8,"NA","proportion survival","NA","NA","N"]
["Pimephales promelas (fathead minnow)","Growth",6,2,null,"Pimephales promelas (fathead minnow) ~ Growth",null,null,null,{"$f":"IF(SUMPRODUCT((Statistics!$D$4:$D$963=A11)*(Statistics!$E$4:$E$963=B11)*1)>0,1,0)","v":0},null,"Pimephales promelas (fathead minnow) Growth",12,30,0.25,"NA","mg avg. dw","NA","NA","N"]
["Selenastrum capricornutum (green algae)","Growth",7,3,"SEL","Selenastrum capricornutum (green algae) ~ Growth",null,null,null,{"$f":"IF(SUMPRODUCT((Statistics!$D$4:$D$963=A12)*(Statistics!$E$4:$E$963=B12)*1)>0,1,0)","v":0},null,"Selenastrum capricornutum (green algae) Growth",9.1,29,1000000,"NA","mean cell density",20,"NA","N"]
["Americamysis bahia (mysid shrimp)","Acute Survival",8,4,"AME","Americamysis bahia (mysid shrimp) ~ Acute Survival",null,null,null,{"$f":"IF(SUMPRODUCT((Statistics!$D$4:$D$963=A13)*(Statistics!$E$4:$E$963=B13)*1)>0,1,0)","v":0},null,"Americamysis bahia (mysid shrimp) Acute Survival","NA","NA",0.9,"NA","proportion survival","NA","NA","N"]
["Americamysis bahia (mysid shrimp)","Chronic Survival",9,4,null,"Americamysis bahia (mysid shrimp) ~ Chronic Survival",null,null,null,{"$f":"IF(SUMPRODUCT((Statistics!$D$4:$D$963=A14)*(Statistics!$E$4:$E$963=B14)*1)>0,1,0)","v":0},null,"Americamysis bahia (mysid shrimp) Chronic Survival","NA","NA",0.8,"NA","proportion survival","NA","NA","N"]
["Americamysis bahia (mysid shrimp)","Growth",10,4,null,"Americamysis bahia (mysid shrimp) ~ Growth",null,null,null,{"$f":"IF(SUMPRODUCT((Statistics!$D$4:$D$963=A15)*(Statistics!$E$4:$E$963=B15)*1)>0,1,0)","v":0},null,"Americamysis bahia (mysid shrimp) Growth",11,37,0.2,"NA","mg avg. dw","NA","NA","N"]
["Americamysis bahia (mysid shrimp)","Fecundity",11,4,null,"Americamysis bahia (mysid shrimp) ~ Fecundity",null,null,null,{"$f":"IF(SUMPRODUCT((Statistics!$D$4:$D$963=A16)*(Statistics!$E$4:$E$963=B16)*1)>0,1,0)","v":0},null,"Americamysis bahia (mysid shrimp) Fecundity","NA","NA",0.5,"NA","proportion fecundity","NA","NA","N"]
["Arbacia punctulata (echinoderm)","Fertilization",12,5,"ARB","Arbacia punctulata (echinoderm) ~ Fertilization",null,null,null,{"$f":"IF(SUMPRODUCT((Statistics!$D$4:$D$963=A17)*(Statistics!$E$4:$E$963=B17)*1)>0,1,0)","v":0},null,"Arbacia punctulata (echinoderm) Fertilization","NA","NA",0.7,0.9,"proportion fertilization","NA","NA","N"]
["Cyprinodon variegatus (sheepshead minnow)","Acute Survival",13,6,"CYP","Cyprinodon variegatus (sheepshead minnow) ~ Acute Survival",null,null,null,{"$f":"IF(SUMPRODUCT((Statistics!$D$4:$D$963=A18)*(Statistics!$E$4:$E$963=B18)*1)>0,1,0)","v":0},null,"Cyprinodon variegatus (sheepshead minnow) Acute Survival","NA","NA",0.9,"NA","proportion survival","NA","NA","N"]
["Cyprinodon variegatus (sheepshead minnow)","Chronic Survival",14,6,null,"Cyprinodon variegatus (sheepshead minnow) ~ Chronic Survival",null,null,null,{"$f":"IF(SUMPRODUCT((Statistics!$D$4:$D$963=A19)*(Statistics!$E$4:$E$963=B19)*1)>0,1,0)","v":0},null,"Cyprinodon variegatus (sheepshead minnow) Chronic Survival","NA","NA",0.8,"NA","proportion survival","NA","NA","N"]
["Cyprinodon variegatus (sheepshead minnow)","Growth",15,6,null,"Cyprinodon variegatus (sheepshead minnow) ~ Growth",null,null,null,{"$f":"IF(SUMPRODUCT((Statistics!$D$4:$D$963=A20)*(Statistics!$E$4:$E$963=B20)*1)>0,1,0)","v":0},null,"Cyprinodon variegatus (sheepshead minnow) Growth","NA","NA",0.6,"NA","mg avg dw","NA","NA","Y"]
["Menidia berryllina (inland silverside)","Acute Survival",16,7,"MEN","Menidia berryllina (inland silverside) ~ Acute Survival",null,null,null,{"$f":"IF(SUMPRODUCT((Statistics!$D$4:$D$963=A21)*(Statistics!$E$4:$E$963=B21)*1)>0,1,0)","v":0},null,"Menidia berryllina (inland silverside) Acute Survival","NA","NA",0.9,"NA","proportion survival","NA","NA","N"]
["Menidia berryllina (inland silverside)","Chronic Survival",17,7,null,"Menidia berryllina (inland silverside) ~ Chronic Survival",null,null,null,{"$f":"IF(SUMPRODUCT((Statistics!$D$4:$D$963=A22)*(Statistics!$E$4:$E$963=B22)*1)>0,1,0)","v":0},null,"Menidia berryllina (inland silverside) Chronic Survival","NA","NA",0.8,"NA","proportion survival","NA","NA","N"]
["Menidia berryllina (inland silverside)","Growth",18,7,null,"Menidia berryllina (inland silverside) ~ Growth",null,null,null,{"$f":"IF(SUMPRODUCT((Statistics!$D$4:$D$963=A23)*(Statistics!$E$4:$E$963=B23)*1)>0,1,0)","v":0},null,"Menidia berryllina (inland silverside) Growth",11,28,"NA","NA",null,"NA","NA","Y"]
["Dendraster excentricus (echinoderm)","Fertilization",19,8,"DEN","Dendraster excentricus (echinoderm) ~ Fertilization",null,null,null,{"$f":"IF(SUMPRODUCT((Statistics!$D$4:$D$963=A24)*(Statistics!$E$4:$E$963=B24)*1)>0,1,0)","v":0},null,"Dendraster excentricus (echinoderm) Fertilization","NA",25,0.7,"NA","proportion fertilization","NA",25,"Y"]
["Dendraster excentricus (echinoderm)","Larval Development",20,8,null,"Dendraster excentricus (echinoderm) ~ Larval Development",null,null,null,{"$f":"IF(SUMPRODUCT((Statistics!$D$4:$D$963=A25)*(Statistics!$E$4:$E$963=B25)*1)>0,1,0)","v":0},null,"Dendraster excentricus (echinoderm) Larval Development","NA",25,0.8,"NA","proportion normal shell development","NA",25,"N"]
["Strongylocentrotus purpuratus (echinoderm)","Fertilization",21,9,"STR","Strongylocentrotus purpuratus (echinoderm) ~ Fertilization",null,null,null,{"$f":"IF(SUMPRODUCT((Statistics!$D$4:$D$963=A26)*(Statistics!$E$4:$E$963=B26)*1)>0,1,0)","v":0},null,"Strongylocentrotus purpuratus (echinoderm) Fertilization","NA",25,0.7,"NA","proportion fertilization","NA",25,"Y"]
["Strongylocentrotus purpuratus (echinoderm)","Larval Development",22,9,null,"Strongylocentrotus purpuratus (echinoderm) ~ Larval Development",null,null,null,{"$f":"IF(SUMPRODUCT((Statistics!$D$4:$D$963=A27)*(Statistics!$E$4:$E$963=B27)*1)>0,1,0)","v":0},null,"Strongylocentrotus purpuratus (echinoderm) Larval Development","NA",25,0.8,"NA","proportion normal shell development","NA",25,"N"]
["Atherinops affinis (topsmelt)","Chronic Survival",24,10,"ATH","Atherinops affinis (topsmelt) ~ Chronic Survival",null,null,null,{"$f":"IF(SUMPRODUCT((Statistics!$D$4:$D$963=A28)*(Statistics!$E$4:$E$963=B28)*1)>0,1,0)","v":0},null,"Atherinops affinis (topsmelt) Chronic Survival","NA",25,0.8,"NA","proportion survival","NA",25,"N"]
["Atherinops affinis (topsmelt)","Growth",25,10,null,"Atherinops affinis (topsmelt) ~ Growth",null,null,null,{"$f":"IF(SUMPRODUCT((Statistics!$D$4:$D$963=A29)*(Statistics!$E$4:$E$963=B29)*1)>0,1,0)","v":0},null,"Atherinops affinis (topsmelt) Growth","NA",50,0.85,"NA","mg avg. dw","NA",50,"Y"]
["Haliotis rufescans (red abalone)","Larval Development",26,11,"HAL","Haliotis rufescans (red abalone) ~ Larval Development",null,null,null,{"$f":"IF(SUMPRODUCT((Statistics!$D$4:$D$963=A30)*(Statistics!$E$4:$E$963=B30)*1)>0,1,0)","v":0},null,"Haliotis rufescans (red abalone) Larval Development","NA",20,0.8,"NA","proportion normal shell development","NA",20,"N"]
["Crassostrea gigas (oyster)","Chronic Survival",27,12,"CRA","Crassostrea gigas (oyster) ~ Chronic Survival",null,null,null,{"$f":"IF(SUMPRODUCT((Statistics!$D$4:$D$963=A31)*(Statistics!$E$4:$E$963=B31)*1)>0,1,0)","v":0},null,"Crassostrea gigas (oyster) Chronic Survival","NA","NA",0.7,"NA","proportion survival","NA","NA","N"]
["Crassostrea gigas (oyster)","Larval Development",28,12,null,"Crassostrea gigas (oyster) ~ Larval Development",null,null,null,{"$f":"IF(SUMPRODUCT((Statistics!$D$4:$D$963=A32)*(Statistics!$E$4:$E$963=B32)*1)>0,1,0)","v":0},null,"Crassostrea gigas (oyster) Larval Development","NA",25,0.9,"NA","proportion normal shell development","NA","NA","N"]
["Mytilus sp. (mussel)","Chronic Survival",29,13,"MYT","Mytilus sp. (mussel) ~ Chronic Survival",null,null,null,{"$f":"IF(SUMPRODUCT((Statistics!$D$4:$D$963=A33)*(Statistics!$E$4:$E$963=B33)*1)>0,1,0)","v":0},null,"Mytilus sp. (mussel) Chronic Survival","NA","NA",0.5,"NA","proportion survival","NA","NA","N"]
["Mytilus sp. (mussel)","Larval Development",30,13,null,"Mytilus sp. (mussel) ~ Larval Development",null,null,null,{"$f":"IF(SUMPRODUCT((Statistics!$D$4:$D$963=A34)*(Statistics!$E$4:$E$963=B34)*1)>0,1,0)","v":0},null,"Mytilus sp. (mussel) Larval Development","NA",25,0.9,"NA","proportion normal shell development","NA","NA","N"]
["Macrocystis pyrifera (giant kelp)","Germination",31,14,"MAC","Macrocystis pyrifera (giant kelp) ~ Germination",null,null,null,{"$f":"IF(SUMPRODUCT((Statistics!$D$4:$D$963=A35)*(Statistics!$E$4:$E$963=B35)*1)>0,1,0)","v":0},null,"Macrocystis pyrifera (giant kelp) Germination","NA","NA",0.7,"NA","proportion germination","NA","NA","Y"]
["Macrocystis pyrifera (giant kelp)","Germ-tube Length",32,14,null,"Macrocystis pyrifera (giant kelp) ~ Germ-tube Length",null,null,null,{"$f":"IF(SUMPRODUCT((Statistics!$D$4:$D$963=A36)*(Statistics!$E$4:$E$963=B36)*1)>0,1,0)","v":0},null,"Macrocystis pyrifera (giant kelp) Germ-tube Length","NA","NA",10,"NA","um","NA","NA","Y"]
["Daphnia magna (water flea)","Acute Survival",33,15,"DAM","Daphnia magna (water flea) ~ Acute Survival",null,null,null,{"$f":"IF(SUMPRODUCT((Statistics!$D$4:$D$963=A37)*(Statistics!$E$4:$E$963=B37)*1)>0,1,0)","v":0},null,"Daphnia magna (water flea) Acute Survival","NA","NA",0.9,"NA","proportion survival","NA","NA","N"]
["Daphnia pulex (water flea)","Acute Survival",34,16,"DAP","Daphnia pulex (water flea) ~ Acute Survival",null,null,null,{"$f":"IF(SUMPRODUCT((Statistics!$D$4:$D$963=A38)*(Statistics!$E$4:$E$963=B38)*1)>0,1,0)","v":0},null,"Daphnia pulex (water flea) Acute Survival","NA","NA",0.9,"NA","proportion survival","NA","NA","N"]
["Oncorhynchus mykiss (rainbow trout)","Acute Survival",35,17,"ONC","Oncorhynchus mykiss (rainbow trout) ~ Acute Survival",null,null,null,{"$f":"IF(SUMPRODUCT((Statistics!$D$4:$D$963=A39)*(Statistics!$E$4:$E$963=B39)*1)>0,1,0)","v":0},null,"Oncorhynchus mykiss (rainbow trout) Acute Survival","NA","NA",0.9,"NA","proportion survival","NA","NA","N"]
["Salvelinus fontinalis (brook trout)","Acute Survival",36,18,"SAL","Salvelinus fontinalis (brook trout) ~ Acute Survival",null,null,null,{"$f":"IF(SUMPRODUCT((Statistics!$D$4:$D$963=A40)*(Statistics!$E$4:$E$963=B40)*1)>0,1,0)","v":0},null,"Salvelinus fontinalis (brook trout) Acute Survival","NA","NA",0.9,"NA","proportion survival","NA","NA","N"]
["Holmesmysis costata (mysid)","Chronic Survival",37,19,"HOL","Holmesmysis costata (mysid) ~ Chronic Survival",null,null,null,{"$f":"IF(SUMPRODUCT((Statistics!$D$4:$D$963=A41)*(Statistics!$E$4:$E$963=B41)*1)>0,1,0)","v":0},null,"Holmesmysis costata (mysid) Chronic Survival","NA",40,0.75,"NA","proportion survival","NA",40,"N"]
["Holmesmysis costata (mysid)","Growth",38,19,null,"Holmesmysis costata (mysid) ~ Growth",null,null,null,{"$f":"IF(SUMPRODUCT((Statistics!$D$4:$D$963=A42)*(Statistics!$E$4:$E$963=B42)*1)>0,1,0)","v":0},null,"Holmesmysis costata (mysid) Growth","NA",50,0.4,"NA","ug avg. dw","NA",50,"N"]
["Tripneustes gratilla (echinoderm)","Fertilization",39,20,"TRI","Tripneustes gratilla (echinoderm) ~ Fertilization",null,null,null,{"$f":"IF(SUMPRODUCT((Statistics!$D$4:$D$963=A43)*(Statistics!$E$4:$E$963=B43)*1)>0,1,0)","v":0},null,"Tripneustes gratilla (echinoderm) Fertilization","NA","NA",0.7,"NA","proportion fertilization","NA","NA","Y"]
[]
[]
["NameLookup"]
["Americamysis bahia (mysid shrimp)","AME"]
["Arbacia punctulata (echinoderm)","ARB"]
["Atherinops affinis (topsmelt)","ATH"]
["Ceriodaphnia dubia (water flea)","CER"]
["Crassostrea gigas (oyster)","CRA"]
["Cyprinodon variegatus (sheepshead minnow)","CYP"]
["Daphnia magna (water flea)","DAM"]
["Daphnia pulex (water flea)","DAP"]
["Dendraster excentricus (echinoderm)","DEN"]
["Haliotis rufescans (red abalone)","HAL"]
["Holmesmysis costata (mysid)","HOL"]
["Macrocystis pyrifera (giant kelp)","MAC"]
["Menidia berryllina (inland silverside)","MEN"]
["Mytilus sp. (mussel)","MYT"]
["Oncorhynchus mykiss (rainbow trout)","ONC"]
["Pimephales promelas (fathead minnow)","PIM"]
["Salvelinus fontinalis (brook trout)","SAL"]
["Selenastrum capricornutum (green algae)","SEL"]
["Strongylocentrotus purpuratus (echinoderm)","STR"]
["Tripneustes gratilla (echinoderm)","TRI"]
[]
[]
["InputLookup"]
["Acute Survival","input2"]
["Chronic Survival","input2"]
["Fecundity","input2"]
["Fertilization","input2"]
["Germination","input2"]
["Germ-tube Length","input1"]
["Growth","input1"]
["Larval Development","input2"]
["Reproduction","input1"]
[]
[]
["Confidence "]
[99]
[95]
[]
["CV"]
[0.1]
[0.2]
[0.3]
[0.4]
[0.5]
[0.6]
[0.7]
[0.8]
[0.9]
[1]
[1.1000000000000001]
[1.2]
[1.3]
[1.4]
[1.5]
[1.6]
[1.7]
[1.8]
[1.9]
[2]
[]
["SampleSize"]
[1]
[2]
[4]
[10]
[30]

{"sheet":"Input1","index":5,"n_rows":40,"n_cols":10,"rows_kept":40,"cut":false,"hidden":true,"merged":[[8,1,8,4],[9,1,9,4],[7,1,7,4],[10,1,10,4],[0,1,0,4],[1,1,1,4],[5,1,5,4],[6,1,6,4],[3,1,3,4],[2,1,2,4],[4,1,4,4],[11,1,11,4],[12,1,12,4],[13,1,13,4],[14,1,14,4],[18,1,19,1],[15,1,15,4]]}
["Facility:",{"$f":"IF(ISTEXT(Start!B1),Start!B1,\"\")","v":""}]
["Analyst:",{"$f":"IF(ISTEXT(Start!B2),Start!B2,\"\")","v":""}]
["Test ID:",{"$f":"IF(ISTEXT(Start!B3),Start!B3,\"\")","v":""}]
["Date:",{"$f":"IF(ISNUMBER(Start!B4),Start!B4,\"\")","v":""}]
["Lab ID:",{"$f":"IF(ISBLANK(Start!B5),\"\",Start!B5)","v":""}]
["Species:",{"$f":"IF(ISTEXT(Start!B6),Start!B6,\"\")","v":""}]
["Test Type:",{"$f":"IF(ISTEXT(Start!B7),Start!B7,\"\")","v":""}]
["Control:",{"$f":"IF(ISNUMBER(Start!B8),Start!B8,\"\")","v":""}]
["Dilution 1:",{"$f":"IF(ISNUMBER(Start!B9),Start!B9,\"\")","v":""}]
["Dilution 2:",{"$f":"IF(ISNUMBER(Start!B10),Start!B10,\"\")","v":""}]
["Dilution 3:",{"$f":"IF(ISNUMBER(Start!B11),Start!B11,\"\")","v":""}]
["Dilution 4:",{"$f":"IF(ISNUMBER(Start!B12),Start!B12,\"\")","v":""}]
["Dilution 5:",{"$f":"IF(ISNUMBER(Start!B13),Start!B13,\"\")","v":""}]
["Dilution 6:",{"$f":"IF(ISNUMBER(Start!B14),Start!B14,\"\")","v":""}]
["Dilution 7:",{"$f":"IF(ISNUMBER(Start!B15),Start!B15,\"\")","v":""}]
["IWC:",{"$f":"IF(ISNUMBER(Start!B16), Start!B16,\"\")","v":""}]
[]
[null,"Non-percent Endpoints (Growth, Reproduction, and Germ-tube Length)"]
[null,"Replicate"]
[null,null,{"$f":"IF(ISNUMBER(B8),B8,\"\")","v":""},{"$f":"IF(ISNUMBER(B9),B9,\"\")","v":""},{"$f":"IF(ISNUMBER(B10),B10,\"\")","v":""},{"$f":"IF(ISNUMBER(B11),B11,\"\")","v":""},{"$f":"IF(ISNUMBER(B12),B12,\"\")","v":""},{"$f":"IF(ISNUMBER(B13),B13,\"\")","v":""},{"$f":"IF(ISNUMBER(B14),B14,\"\")","v":""},{"$f":"IF(ISNUMBER(B15),B15,\"\")","v":""}]
[null,1]
[null,2]
[null,3]
[null,4]
[null,5]
[null,6]
[null,7]
[null,8]
[null,9]
[null,10]
[null,11]
[null,12]
[null,13]
[null,14]
[null,15]
[null,16]
[null,17]
[null,18]
[null,19]
[null,20]

{"sheet":"Input2","index":6,"n_rows":64,"n_cols":11,"rows_kept":64,"cut":false,"hidden":true,"merged":[[15,1,15,4],[0,1,0,4],[1,1,1,4],[3,1,3,4],[5,1,5,4],[6,1,6,4],[2,1,2,4],[7,1,7,4],[8,1,8,4],[9,1,9,4],[10,1,10,4],[11,1,11,4],[12,1,12,4],[13,1,13,4],[14,1,14,4],[4,1,4,4],[18,1,39,1],[42,1,63,1],[18,2,19,2],[42,2,43,2],[18,3,18,10],[42,3,42,10]]}
["Facility:",{"$f":"IF(ISTEXT(Start!B1),Start!B1,\"\")","v":""}]
["Analyst:",{"$f":"IF(ISTEXT(Start!B2),Start!B2,\"\")","v":""}]
["Test ID:",{"$f":"IF(ISTEXT(Start!B3),Start!B3,\"\")","v":""}]
["Date:",{"$f":"IF(ISNUMBER(Start!B4),Start!B4,\"\")","v":""}]
["Lab ID:",{"$f":"IF(ISBLANK(Start!B5),\"\",Start!B5)","v":""}]
["Species:",{"$f":"IF(ISTEXT(Start!B6),Start!B6,\"\")","v":""}]
["Test Type:",{"$f":"IF(ISTEXT(Start!B7),Start!B7,\"\")","v":""}]
["Control:",{"$f":"IF(ISNUMBER(Start!B8),Start!B8,\"\")","v":""}]
["Dilution 1:",{"$f":"IF(ISNUMBER(Start!B9),Start!B9,\"\")","v":""}]
["Dilution 2:",{"$f":"IF(ISNUMBER(Start!B10),Start!B10,\"\")","v":""}]
["Dilution 3:",{"$f":"IF(ISNUMBER(Start!B11),Start!B11,\"\")","v":""}]
["Dilution 4:",{"$f":"IF(ISNUMBER(Start!B12),Start!B12,\"\")","v":""}]
["Dilution 5:",{"$f":"IF(ISNUMBER(Start!B13),Start!B13,\"\")","v":""}]
["Dilution 6:",{"$f":"IF(ISNUMBER(Start!B14),Start!B14,\"\")","v":""}]
["Dilution 7:",{"$f":"IF(ISNUMBER(Start!B15),Start!B15,\"\")","v":""}]
["IWC:",{"$f":"IF(ISNUMBER(Start!B16), Start!B16,\"\")","v":""}]
[]
[null,"Percent Endpoints (Survival, Fertilization, Larval Development, and Germination)"]
[null,"Number of Organisms Exposed or Counted per Replicate","Replicate"]
[null,null,null,{"$f":"IF(ISNUMBER(B8),B8,\"\")","v":""},{"$f":"IF(ISNUMBER(B9),B9,\"\")","v":""},{"$f":"IF(ISNUMBER(B10),B10,\"\")","v":""},{"$f":"IF(ISNUMBER(B11),B11,\"\")","v":""},{"$f":"IF(ISNUMBER(B12),B12,\"\")","v":""},{"$f":"IF(ISNUMBER(B13),B13,\"\")","v":""},{"$f":"IF(ISNUMBER(B14),B14,\"\")","v":""},{"$f":"IF(ISNUMBER(B15),B15,\"\")","v":""}]
[null,null,1]
[null,null,2]
[null,null,3]
[null,null,4]
[null,null,5]
[null,null,6]
[null,null,7]
[null,null,8]
[null,null,9]
[null,null,10]
[null,null,11]
[null,null,12]
[null,null,13]
[null,null,14]
[null,null,15]
[null,null,16]
[null,null,17]
[null,null,18]
[null,null,19]
[null,null,20]
[null,null,null,{"$f":"MAX(D21:D40)","v":0},null,null,null,null,null,{"$f":"MAX(J21:J40)","v":0},0]
[]
[null,"Number of Organisms Surviving or Responding per Replicate","Replicate"]
[null,null,null,{"$f":"D20","v":""},{"$f":"E20","v":""},"","","","","",""]
[null,null,1]
[null,null,2]
[null,null,3]
[null,null,4]
[null,null,5]
[null,null,6]
[null,null,7]
[null,null,8]
[null,null,9]
[null,null,10]
[null,null,11]
[null,null,12]
[null,null,13]
[null,null,14]
[null,null,15]
[null,null,16]
[null,null,17]
[null,null,18]
[null,null,19]
[null,null,20]

{"sheet":"Intermed_Input","index":7,"n_rows":49,"n_cols":19,"rows_kept":49,"cut":false,"hidden":true,"merged":[[0,11,0,18],[0,0,1,0],[23,0,24,0],[0,10,1,10],[0,1,0,8],[23,1,23,8]]}
["Replicate","Effluent Concentration (%), ArcSin Transformed When Needed",null,null,null,null,null,null,null,null,"Replicate","Effluent Concentration (%) Transformed When Needed - TST"]
[null,{"$f":"IF(AND(ISNUMBER(B25),B$46>0),B25,\"\")","v":""},"","","","","","","",null,null,{"$f":"IF(ISNUMBER(B25),B25,\"\")","v":""},{"$f":"IF(ISNUMBER(C25),C25,\"\")","v":""},"","","","","",""]
[1,{"$f":"IF(Start!$B$17=\"input1\",IF(ISBLANK(Input1!C21), \"\",Input1!C21), IF(B$2=\"\",\"\",IF(ISNUMBER(B26), IF(B26=0, ASIN(SQRT(1/(4*Input2!$D$41))), IF(B26=1,ASIN(SQRT(1-1/(4*Input2!$D$41))),ASIN(SQRT(B26)))),\"\")))","v":{"$error":"#N/A"}},{"$f":"IF(Start!$B$17=\"input1\",IF(ISBLANK(Input1!D21), \"\",Input1!D21), IF(C$2=\"\",\"\",IF(ISNUMBER(C26), IF(C26=0, ASIN(SQRT(1/(4*Input2!$D$41))), IF(C26=1,ASIN(SQRT(1-1/(4*Input2!$D$41))),ASIN(SQRT(C26)))),\"\")))","v":{"$error":"#N/A"}},{"$f":"IF(Start!$B$17=\"input1\",IF(ISBLANK(Input1!E21), \"\",Input1!E21), IF(D$2=\"\",\"\",IF(ISNUMBER(D26), IF(D26=0, ASIN(SQRT(1/(4*Input2!$D$41))), IF(D26=1,ASIN(SQRT(1-1/(4*Input2!$D$41))),ASIN(SQRT(D26)))),\"\")))","v":{"$error":"#N/A"}},{"$f":"IF(Start!$B$17=\"input1\",IF(ISBLANK(Input1!F21), \"\",Input1!F21), IF(E$2=\"\",\"\",IF(ISNUMBER(E26), IF(E26=0, ASIN(SQRT(1/(4*Input2!$D$41))), IF(E26=1,ASIN(SQRT(1-1/(4*Input2!$D$41))),ASIN(SQRT(E26)))),\"\")))","v":{"$error":"#N/A"}},{"$f":"IF(Start!$B$17=\"input1\",IF(ISBLANK(Input1!G21), \"\",Input1!G21), IF(F$2=\"\",\"\",IF(ISNUMBER(F26), IF(F26=0, ASIN(SQRT(1/(4*Input2!$D$41))), IF(F26=1,ASIN(SQRT(1-1/(4*Input2!$D$41))),ASIN(SQRT(F26)))),\"\")))","v":{"$error":"#N/A"}},{"$f":"IF(Start!$B$17=\"input1\",IF(ISBLANK(Input1!H21), \"\",Input1!H21), IF(G$2=\"\",\"\",IF(ISNUMBER(G26), IF(G26=0, ASIN(SQRT(1/(4*Input2!$D$41))), IF(G26=1,ASIN(SQRT(1-1/(4*Input2!$D$41))),ASIN(SQRT(G26)))),\"\")))","v":{"$error":"#N/A"}},{"$f":"IF(Start!$B$17=\"input1\",IF(ISBLANK(Input1!I21), \"\",Input1!I21), IF(H$2=\"\",\"\",IF(ISNUMBER(H26), IF(H26=0, ASIN(SQRT(1/(4*Input2!$D$41))), IF(H26=1,ASIN(SQRT(1-1/(4*Input2!$D$41))),ASIN(SQRT(H26)))),\"\")))","v":{"$error":"#N/A"}},{"$f":"IF(Start!$B$17=\"input1\",IF(ISBLANK(Input1!J21), \"\",Input1!J21), IF(I$2=\"\",\"\",IF(ISNUMBER(I26), IF(I26=0, ASIN(SQRT(1/(4*Input2!$D$41))), IF(I26=1,ASIN(SQRT(1-1/(4*Input2!$D$41))),ASIN(SQRT(I26)))),\"\")))","v":{"$error":"#N/A"}},null,1,{"$f":"IF(Start!$B$17=\"input1\",IF(ISBLANK(Input1!C21), \"\",Input1!C21), IF(L$2=\"\",\"\",IF(ISNUMBER(B26), IF(B26=0, ASIN(SQRT(1/(4*Input2!$D$41))), IF(B26=1,ASIN(SQRT(1-1/(4*Input2!$D$41))),ASIN(SQRT(B26)))),\"\")))","v":{"$error":"#N/A"}},{"$f":"IF(Start!$B$17=\"input1\",IF(ISBLANK(Input1!D21), \"\",Input1!D21), IF(M$2=\"\",\"\",IF(ISNUMBER(C26), IF(C26=0, ASIN(SQRT(1/(4*Input2!$D$41))), IF(C26=1,ASIN(SQRT(1-1/(4*Input2!$D$41))),ASIN(SQRT(C26)))),\"\")))","v":{"$error":"#N/A"}},{"$f":"IF(Start!$B$17=\"input1\",IF(ISBLANK(Input1!E21), \"\",Input1!E21), IF(N$2=\"\",\"\",IF(ISNUMBER(D26), IF(D26=0, ASIN(SQRT(1/(4*Input2!$D$41))), IF(D26=1,ASIN(SQRT(1-1/(4*Input2!$D$41))),ASIN(SQRT(D26)))),\"\")))","v":{"$error":"#N/A"}},{"$f":"IF(Start!$B$17=\"input1\",IF(ISBLANK(Input1!F21), \"\",Input1!F21), IF(O$2=\"\",\"\",IF(ISNUMBER(E26), IF(E26=0, ASIN(SQRT(1/(4*Input2!$D$41))), IF(E26=1,ASIN(SQRT(1-1/(4*Input2!$D$41))),ASIN(SQRT(E26)))),\"\")))","v":{"$error":"#N/A"}},{"$f":"IF(Start!$B$17=\"input1\",IF(ISBLANK(Input1!G21), \"\",Input1!G21), IF(P$2=\"\",\"\",IF(ISNUMBER(F26), IF(F26=0, ASIN(SQRT(1/(4*Input2!$D$41))), IF(F26=1,ASIN(SQRT(1-1/(4*Input2!$D$41))),ASIN(SQRT(F26)))),\"\")))","v":{"$error":"#N/A"}},{"$f":"IF(Start!$B$17=\"input1\",IF(ISBLANK(Input1!H21), \"\",Input1!H21), IF(Q$2=\"\",\"\",IF(ISNUMBER(G26), IF(G26=0, ASIN(SQRT(1/(4*Input2!$D$41))), IF(G26=1,ASIN(SQRT(1-1/(4*Input2!$D$41))),ASIN(SQRT(G26)))),\"\")))","v":{"$error":"#N/A"}},{"$f":"IF(Start!$B$17=\"input1\",IF(ISBLANK(Input1!I21), \"\",Input1!I21), IF(R$2=\"\",\"\",IF(ISNUMBER(H26), IF(H26=0, ASIN(SQRT(1/(4*Input2!$D$41))), IF(H26=1,ASIN(SQRT(1-1/(4*Input2!$D$41))),ASIN(SQRT(H26)))),\"\")))","v":{"$error":"#N/A"}},{"$f":"IF(Start!$B$17=\"input1\",IF(ISBLANK(Input1!J21), \"\",Input1!J21), IF(S$2=\"\",\"\",IF(ISNUMBER(I26), IF(I26=0, ASIN(SQRT(1/(4*Input2!$D$41))), IF(I26=1,ASIN(SQRT(1-1/(4*Input2!$D$41))),ASIN(SQRT(I26)))),\"\")))","v":{"$error":"#N/A"}}]
[2,{"$f":"IF(Start!$B$17=\"input1\",IF(ISBLANK(Input1!C22), \"\",Input1!C22), IF(B$2=\"\",\"\",IF(ISNUMBER(B27), IF(B27=0, ASIN(SQRT(1/(4*Input2!$D$41))), IF(B27=1,ASIN(SQRT(1-1/(4*Input2!$D$41))),ASIN(SQRT(B27)))),\"\")))","v":{"$error":"#N/A"}},{"$f":"IF(Start!$B$17=\"input1\",IF(ISBLANK(Input1!D22), \"\",Input1!D22), IF(C$2=\"\",\"\",IF(ISNUMBER(C27), IF(C27=0, ASIN(SQRT(1/(4*Input2!$D$41))), IF(C27=1,ASIN(SQRT(1-1/(4*Input2!$D$41))),ASIN(SQRT(C27)))),\"\")))","v":{"$error":"#N/A"}},{"$f":"IF(Start!$B$17=\"input1\",IF(ISBLANK(Input1!E22), \"\",Input1!E22), IF(D$2=\"\",\"\",IF(ISNUMBER(D27), IF(D27=0, ASIN(SQRT(1/(4*Input2!$D$41))), IF(D27=1,ASIN(SQRT(1-1/(4*Input2!$D$41))),ASIN(SQRT(D27)))),\"\")))","v":{"$error":"#N/A"}},{"$f":"IF(Start!$B$17=\"input1\",IF(ISBLANK(Input1!F22), \"\",Input1!F22), IF(E$2=\"\",\"\",IF(ISNUMBER(E27), IF(E27=0, ASIN(SQRT(1/(4*Input2!$D$41))), IF(E27=1,ASIN(SQRT(1-1/(4*Input2!$D$41))),ASIN(SQRT(E27)))),\"\")))","v":{"$error":"#N/A"}},{"$f":"IF(Start!$B$17=\"input1\",IF(ISBLANK(Input1!G22), \"\",Input1!G22), IF(F$2=\"\",\"\",IF(ISNUMBER(F27), IF(F27=0, ASIN(SQRT(1/(4*Input2!$D$41))), IF(F27=1,ASIN(SQRT(1-1/(4*Input2!$D$41))),ASIN(SQRT(F27)))),\"\")))","v":{"$error":"#N/A"}},{"$f":"IF(Start!$B$17=\"input1\",IF(ISBLANK(Input1!H22), \"\",Input1!H22), IF(G$2=\"\",\"\",IF(ISNUMBER(G27), IF(G27=0, ASIN(SQRT(1/(4*Input2!$D$41))), IF(G27=1,ASIN(SQRT(1-1/(4*Input2!$D$41))),ASIN(SQRT(G27)))),\"\")))","v":{"$error":"#N/A"}},{"$f":"IF(Start!$B$17=\"input1\",IF(ISBLANK(Input1!I22), \"\",Input1!I22), IF(H$2=\"\",\"\",IF(ISNUMBER(H27), IF(H27=0, ASIN(SQRT(1/(4*Input2!$D$41))), IF(H27=1,ASIN(SQRT(1-1/(4*Input2!$D$41))),ASIN(SQRT(H27)))),\"\")))","v":{"$error":"#N/A"}},{"$f":"IF(Start!$B$17=\"input1\",IF(ISBLANK(Input1!J22), \"\",Input1!J22), IF(I$2=\"\",\"\",IF(ISNUMBER(I27), IF(I27=0, ASIN(SQRT(1/(4*Input2!$D$41))), IF(I27=1,ASIN(SQRT(1-1/(4*Input2!$D$41))),ASIN(SQRT(I27)))),\"\")))","v":{"$error":"#N/A"}},null,2,{"$f":"IF(Start!$B$17=\"input1\",IF(ISBLANK(Input1!C22), \"\",Input1!C22), IF(L$2=\"\",\"\",IF(ISNUMBER(B27), IF(B27=0, ASIN(SQRT(1/(4*Input2!$D$41))), IF(B27=1,ASIN(SQRT(1-1/(4*Input2!$D$41))),ASIN(SQRT(B27)))),\"\")))","v":{"$error":"#N/A"}},{"$f":"IF(Start!$B$17=\"input1\",IF(ISBLANK(Input1!D22), \"\",Input1!D22), IF(M$2=\"\",\"\",IF(ISNUMBER(C27), IF(C27=0, ASIN(SQRT(1/(4*Input2!$D$41))), IF(C27=1,ASIN(SQRT(1-1/(4*Input2!$D$41))),ASIN(SQRT(C27)))),\"\")))","v":{"$error":"#N/A"}},{"$f":"IF(Start!$B$17=\"input1\",IF(ISBLANK(Input1!E22), \"\",Input1!E22), IF(N$2=\"\",\"\",IF(ISNUMBER(D27), IF(D27=0, ASIN(SQRT(1/(4*Input2!$D$41))), IF(D27=1,ASIN(SQRT(1-1/(4*Input2!$D$41))),ASIN(SQRT(D27)))),\"\")))","v":{"$error":"#N/A"}},{"$f":"IF(Start!$B$17=\"input1\",IF(ISBLANK(Input1!F22), \"\",Input1!F22), IF(O$2=\"\",\"\",IF(ISNUMBER(E27), IF(E27=0, ASIN(SQRT(1/(4*Input2!$D$41))), IF(E27=1,ASIN(SQRT(1-1/(4*Input2!$D$41))),ASIN(SQRT(E27)))),\"\")))","v":{"$error":"#N/A"}},{"$f":"IF(Start!$B$17=\"input1\",IF(ISBLANK(Input1!G22), \"\",Input1!G22), IF(P$2=\"\",\"\",IF(ISNUMBER(F27), IF(F27=0, ASIN(SQRT(1/(4*Input2!$D$41))), IF(F27=1,ASIN(SQRT(1-1/(4*Input2!$D$41))),ASIN(SQRT(F27)))),\"\")))","v":{"$error":"#N/A"}},{"$f":"IF(Start!$B$17=\"input1\",IF(ISBLANK(Input1!H22), \"\",Input1!H22), IF(Q$2=\"\",\"\",IF(ISNUMBER(G27), IF(G27=0, ASIN(SQRT(1/(4*Input2!$D$41))), IF(G27=1,ASIN(SQRT(1-1/(4*Input2!$D$41))),ASIN(SQRT(G27)))),\"\")))","v":{"$error":"#N/A"}},{"$f":"IF(Start!$B$17=\"input1\",IF(ISBLANK(Input1!I22), \"\",Input1!I22), IF(R$2=\"\",\"\",IF(ISNUMBER(H27), IF(H27=0, ASIN(SQRT(1/(4*Input2!$D$41))), IF(H27=1,ASIN(SQRT(1-1/(4*Input2!$D$41))),ASIN(SQRT(H27)))),\"\")))","v":{"$error":"#N/A"}},{"$f":"IF(Start!$B$17=\"input1\",IF(ISBLANK(Input1!J22), \"\",Input1!J22), IF(S$2=\"\",\"\",IF(ISNUMBER(I27), IF(I27=0, ASIN(SQRT(1/(4*Input2!$D$41))), IF(I27=1,ASIN(SQRT(1-1/(4*Input2!$D$41))),ASIN(SQRT(I27)))),\"\")))","v":{"$error":"#N/A"}}]
[3,{"$f":"IF(Start!$B$17=\"input1\",IF(ISBLANK(Input1!C23), \"\",Input1!C23), IF(B$2=\"\",\"\",IF(ISNUMBER(B28), IF(B28=0, ASIN(SQRT(1/(4*Input2!$D$41))), IF(B28=1,ASIN(SQRT(1-1/(4*Input2!$D$41))),ASIN(SQRT(B28)))),\"\")))","v":{"$error":"#N/A"}},{"$f":"IF(Start!$B$17=\"input1\",IF(ISBLANK(Input1!D23), \"\",Input1!D23), IF(C$2=\"\",\"\",IF(ISNUMBER(C28), IF(C28=0, ASIN(SQRT(1/(4*Input2!$D$41))), IF(C28=1,ASIN(SQRT(1-1/(4*Input2!$D$41))),ASIN(SQRT(C28)))),\"\")))","v":{"$error":"#N/A"}},{"$f":"IF(Start!$B$17=\"input1\",IF(ISBLANK(Input1!E23), \"\",Input1!E23), IF(D$2=\"\",\"\",IF(ISNUMBER(D28), IF(D28=0, ASIN(SQRT(1/(4*Input2!$D$41))), IF(D28=1,ASIN(SQRT(1-1/(4*Input2!$D$41))),ASIN(SQRT(D28)))),\"\")))","v":{"$error":"#N/A"}},{"$f":"IF(Start!$B$17=\"input1\",IF(ISBLANK(Input1!F23), \"\",Input1!F23), IF(E$2=\"\",\"\",IF(ISNUMBER(E28), IF(E28=0, ASIN(SQRT(1/(4*Input2!$D$41))), IF(E28=1,ASIN(SQRT(1-1/(4*Input2!$D$41))),ASIN(SQRT(E28)))),\"\")))","v":{"$error":"#N/A"}},{"$f":"IF(Start!$B$17=\"input1\",IF(ISBLANK(Input1!G23), \"\",Input1!G23), IF(F$2=\"\",\"\",IF(ISNUMBER(F28), IF(F28=0, ASIN(SQRT(1/(4*Input2!$D$41))), IF(F28=1,ASIN(SQRT(1-1/(4*Input2!$D$41))),ASIN(SQRT(F28)))),\"\")))","v":{"$error":"#N/A"}},{"$f":"IF(Start!$B$17=\"input1\",IF(ISBLANK(Input1!H23), \"\",Input1!H23), IF(G$2=\"\",\"\",IF(ISNUMBER(G28), IF(G28=0, ASIN(SQRT(1/(4*Input2!$D$41))), IF(G28=1,ASIN(SQRT(1-1/(4*Input2!$D$41))),ASIN(SQRT(G28)))),\"\")))","v":{"$error":"#N/A"}},{"$f":"IF(Start!$B$17=\"input1\",IF(ISBLANK(Input1!I23), \"\",Input1!I23), IF(H$2=\"\",\"\",IF(ISNUMBER(H28), IF(H28=0, ASIN(SQRT(1/(4*Input2!$D$41))), IF(H28=1,ASIN(SQRT(1-1/(4*Input2!$D$41))),ASIN(SQRT(H28)))),\"\")))","v":{"$error":"#N/A"}},{"$f":"IF(Start!$B$17=\"input1\",IF(ISBLANK(Input1!J23), \"\",Input1!J23), IF(I$2=\"\",\"\",IF(ISNUMBER(I28), IF(I28=0, ASIN(SQRT(1/(4*Input2!$D$41))), IF(I28=1,ASIN(SQRT(1-1/(4*Input2!$D$41))),ASIN(SQRT(I28)))),\"\")))","v":{"$error":"#N/A"}},null,3,{"$f":"IF(Start!$B$17=\"input1\",IF(ISBLANK(Input1!C23), \"\",Input1!C23), IF(L$2=\"\",\"\",IF(ISNUMBER(B28), IF(B28=0, ASIN(SQRT(1/(4*Input2!$D$41))), IF(B28=1,ASIN(SQRT(1-1/(4*Input2!$D$41))),ASIN(SQRT(B28)))),\"\")))","v":{"$error":"#N/A"}},{"$f":"IF(Start!$B$17=\"input1\",IF(ISBLANK(Input1!D23), \"\",Input1!D23), IF(M$2=\"\",\"\",IF(ISNUMBER(C28), IF(C28=0, ASIN(SQRT(1/(4*Input2!$D$41))), IF(C28=1,ASIN(SQRT(1-1/(4*Input2!$D$41))),ASIN(SQRT(C28)))),\"\")))","v":{"$error":"#N/A"}},{"$f":"IF(Start!$B$17=\"input1\",IF(ISBLANK(Input1!E23), \"\",Input1!E23), IF(N$2=\"\",\"\",IF(ISNUMBER(D28), IF(D28=0, ASIN(SQRT(1/(4*Input2!$D$41))), IF(D28=1,ASIN(SQRT(1-1/(4*Input2!$D$41))),ASIN(SQRT(D28)))),\"\")))","v":{"$error":"#N/A"}},{"$f":"IF(Start!$B$17=\"input1\",IF(ISBLANK(Input1!F23), \"\",Input1!F23), IF(O$2=\"\",\"\",IF(ISNUMBER(E28), IF(E28=0, ASIN(SQRT(1/(4*Input2!$D$41))), IF(E28=1,ASIN(SQRT(1-1/(4*Input2!$D$41))),ASIN(SQRT(E28)))),\"\")))","v":{"$error":"#N/A"}},{"$f":"IF(Start!$B$17=\"input1\",IF(ISBLANK(Input1!G23), \"\",Input1!G23), IF(P$2=\"\",\"\",IF(ISNUMBER(F28), IF(F28=0, ASIN(SQRT(1/(4*Input2!$D$41))), IF(F28=1,ASIN(SQRT(1-1/(4*Input2!$D$41))),ASIN(SQRT(F28)))),\"\")))","v":{"$error":"#N/A"}},{"$f":"IF(Start!$B$17=\"input1\",IF(ISBLANK(Input1!H23), \"\",Input1!H23), IF(Q$2=\"\",\"\",IF(ISNUMBER(G28), IF(G28=0, ASIN(SQRT(1/(4*Input2!$D$41))), IF(G28=1,ASIN(SQRT(1-1/(4*Input2!$D$41))),ASIN(SQRT(G28)))),\"\")))","v":{"$error":"#N/A"}},{"$f":"IF(Start!$B$17=\"input1\",IF(ISBLANK(Input1!I23), \"\",Input1!I23), IF(R$2=\"\",\"\",IF(ISNUMBER(H28), IF(H28=0, ASIN(SQRT(1/(4*Input2!$D$41))), IF(H28=1,ASIN(SQRT(1-1/(4*Input2!$D$41))),ASIN(SQRT(H28)))),\"\")))","v":{"$error":"#N/A"}},{"$f":"IF(Start!$B$17=\"input1\",IF(ISBLANK(Input1!J23), \"\",Input1!J23), IF(S$2=\"\",\"\",IF(ISNUMBER(I28), IF(I28=0, ASIN(SQRT(1/(4*Input2!$D$41))), IF(I28=1,ASIN(SQRT(1-1/(4*Input2!$D$41))),ASIN(SQRT(I28)))),\"\")))","v":{"$error":"#N/A"}}]
[4,{"$f":"IF(Start!$B$17=\"input1\",IF(ISBLANK(Input1!C24), \"\",Input1!C24), IF(B$2=\"\",\"\",IF(ISNUMBER(B29), IF(B29=0, ASIN(SQRT(1/(4*Input2!$D$41))), IF(B29=1,ASIN(SQRT(1-1/(4*Input2!$D$41))),ASIN(SQRT(B29)))),\"\")))","v":{"$error":"#N/A"}},{"$f":"IF(Start!$B$17=\"input1\",IF(ISBLANK(Input1!D24), \"\",Input1!D24), IF(C$2=\"\",\"\",IF(ISNUMBER(C29), IF(C29=0, ASIN(SQRT(1/(4*Input2!$D$41))), IF(C29=1,ASIN(SQRT(1-1/(4*Input2!$D$41))),ASIN(SQRT(C29)))),\"\")))","v":{"$error":"#N/A"}},{"$f":"IF(Start!$B$17=\"input1\",IF(ISBLANK(Input1!E24), \"\",Input1!E24), IF(D$2=\"\",\"\",IF(ISNUMBER(D29), IF(D29=0, ASIN(SQRT(1/(4*Input2!$D$41))), IF(D29=1,ASIN(SQRT(1-1/(4*Input2!$D$41))),ASIN(SQRT(D29)))),\"\")))","v":{"$error":"#N/A"}},{"$f":"IF(Start!$B$17=\"input1\",IF(ISBLANK(Input1!F24), \"\",Input1!F24), IF(E$2=\"\",\"\",IF(ISNUMBER(E29), IF(E29=0, ASIN(SQRT(1/(4*Input2!$D$41))), IF(E29=1,ASIN(SQRT(1-1/(4*Input2!$D$41))),ASIN(SQRT(E29)))),\"\")))","v":{"$error":"#N/A"}},{"$f":"IF(Start!$B$17=\"input1\",IF(ISBLANK(Input1!G24), \"\",Input1!G24), IF(F$2=\"\",\"\",IF(ISNUMBER(F29), IF(F29=0, ASIN(SQRT(1/(4*Input2!$D$41))), IF(F29=1,ASIN(SQRT(1-1/(4*Input2!$D$41))),ASIN(SQRT(F29)))),\"\")))","v":{"$error":"#N/A"}},{"$f":"IF(Start!$B$17=\"input1\",IF(ISBLANK(Input1!H24), \"\",Input1!H24), IF(G$2=\"\",\"\",IF(ISNUMBER(G29), IF(G29=0, ASIN(SQRT(1/(4*Input2!$D$41))), IF(G29=1,ASIN(SQRT(1-1/(4*Input2!$D$41))),ASIN(SQRT(G29)))),\"\")))","v":{"$error":"#N/A"}},{"$f":"IF(Start!$B$17=\"input1\",IF(ISBLANK(Input1!I24), \"\",Input1!I24), IF(H$2=\"\",\"\",IF(ISNUMBER(H29), IF(H29=0, ASIN(SQRT(1/(4*Input2!$D$41))), IF(H29=1,ASIN(SQRT(1-1/(4*Input2!$D$41))),ASIN(SQRT(H29)))),\"\")))","v":{"$error":"#N/A"}},{"$f":"IF(Start!$B$17=\"input1\",IF(ISBLANK(Input1!J24), \"\",Input1!J24), IF(I$2=\"\",\"\",IF(ISNUMBER(I29), IF(I29=0, ASIN(SQRT(1/(4*Input2!$D$41))), IF(I29=1,ASIN(SQRT(1-1/(4*Input2!$D$41))),ASIN(SQRT(I29)))),\"\")))","v":{"$error":"#N/A"}},null,4,{"$f":"IF(Start!$B$17=\"input1\",IF(ISBLANK(Input1!C24), \"\",Input1!C24), IF(L$2=\"\",\"\",IF(ISNUMBER(B29), IF(B29=0, ASIN(SQRT(1/(4*Input2!$D$41))), IF(B29=1,ASIN(SQRT(1-1/(4*Input2!$D$41))),ASIN(SQRT(B29)))),\"\")))","v":{"$error":"#N/A"}},{"$f":"IF(Start!$B$17=\"input1\",IF(ISBLANK(Input1!D24), \"\",Input1!D24), IF(M$2=\"\",\"\",IF(ISNUMBER(C29), IF(C29=0, ASIN(SQRT(1/(4*Input2!$D$41))), IF(C29=1,ASIN(SQRT(1-1/(4*Input2!$D$41))),ASIN(SQRT(C29)))),\"\")))","v":{"$error":"#N/A"}},{"$f":"IF(Start!$B$17=\"input1\",IF(ISBLANK(Input1!E24), \"\",Input1!E24), IF(N$2=\"\",\"\",IF(ISNUMBER(D29), IF(D29=0, ASIN(SQRT(1/(4*Input2!$D$41))), IF(D29=1,ASIN(SQRT(1-1/(4*Input2!$D$41))),ASIN(SQRT(D29)))),\"\")))","v":{"$error":"#N/A"}},{"$f":"IF(Start!$B$17=\"input1\",IF(ISBLANK(Input1!F24), \"\",Input1!F24), IF(O$2=\"\",\"\",IF(ISNUMBER(E29), IF(E29=0, ASIN(SQRT(1/(4*Input2!$D$41))), IF(E29=1,ASIN(SQRT(1-1/(4*Input2!$D$41))),ASIN(SQRT(E29)))),\"\")))","v":{"$error":"#N/A"}},{"$f":"IF(Start!$B$17=\"input1\",IF(ISBLANK(Input1!G24), \"\",Input1!G24), IF(P$2=\"\",\"\",IF(ISNUMBER(F29), IF(F29=0, ASIN(SQRT(1/(4*Input2!$D$41))), IF(F29=1,ASIN(SQRT(1-1/(4*Input2!$D$41))),ASIN(SQRT(F29)))),\"\")))","v":{"$error":"#N/A"}},{"$f":"IF(Start!$B$17=\"input1\",IF(ISBLANK(Input1!H24), \"\",Input1!H24), IF(Q$2=\"\",\"\",IF(ISNUMBER(G29), IF(G29=0, ASIN(SQRT(1/(4*Input2!$D$41))), IF(G29=1,ASIN(SQRT(1-1/(4*Input2!$D$41))),ASIN(SQRT(G29)))),\"\")))","v":{"$error":"#N/A"}},{"$f":"IF(Start!$B$17=\"input1\",IF(ISBLANK(Input1!I24), \"\",Input1!I24), IF(R$2=\"\",\"\",IF(ISNUMBER(H29), IF(H29=0, ASIN(SQRT(1/(4*Input2!$D$41))), IF(H29=1,ASIN(SQRT(1-1/(4*Input2!$D$41))),ASIN(SQRT(H29)))),\"\")))","v":{"$error":"#N/A"}},{"$f":"IF(Start!$B$17=\"input1\",IF(ISBLANK(Input1!J24), \"\",Input1!J24), IF(S$2=\"\",\"\",IF(ISNUMBER(I29), IF(I29=0, ASIN(SQRT(1/(4*Input2!$D$41))), IF(I29=1,ASIN(SQRT(1-1/(4*Input2!$D$41))),ASIN(SQRT(I29)))),\"\")))","v":{"$error":"#N/A"}}]
[5,{"$f":"IF(Start!$B$17=\"input1\",IF(ISBLANK(Input1!C25), \"\",Input1!C25), IF(B$2=\"\",\"\",IF(ISNUMBER(B30), IF(B30=0, ASIN(SQRT(1/(4*Input2!$D$41))), IF(B30=1,ASIN(SQRT(1-1/(4*Input2!$D$41))),ASIN(SQRT(B30)))),\"\")))","v":{"$error":"#N/A"}},{"$f":"IF(Start!$B$17=\"input1\",IF(ISBLANK(Input1!D25), \"\",Input1!D25), IF(C$2=\"\",\"\",IF(ISNUMBER(C30), IF(C30=0, ASIN(SQRT(1/(4*Input2!$D$41))), IF(C30=1,ASIN(SQRT(1-1/(4*Input2!$D$41))),ASIN(SQRT(C30)))),\"\")))","v":{"$error":"#N/A"}},{"$f":"IF(Start!$B$17=\"input1\",IF(ISBLANK(Input1!E25), \"\",Input1!E25), IF(D$2=\"\",\"\",IF(ISNUMBER(D30), IF(D30=0, ASIN(SQRT(1/(4*Input2!$D$41))), IF(D30=1,ASIN(SQRT(1-1/(4*Input2!$D$41))),ASIN(SQRT(D30)))),\"\")))","v":{"$error":"#N/A"}},{"$f":"IF(Start!$B$17=\"input1\",IF(ISBLANK(Input1!F25), \"\",Input1!F25), IF(E$2=\"\",\"\",IF(ISNUMBER(E30), IF(E30=0, ASIN(SQRT(1/(4*Input2!$D$41))), IF(E30=1,ASIN(SQRT(1-1/(4*Input2!$D$41))),ASIN(SQRT(E30)))),\"\")))","v":{"$error":"#N/A"}},{"$f":"IF(Start!$B$17=\"input1\",IF(ISBLANK(Input1!G25), \"\",Input1!G25), IF(F$2=\"\",\"\",IF(ISNUMBER(F30), IF(F30=0, ASIN(SQRT(1/(4*Input2!$D$41))), IF(F30=1,ASIN(SQRT(1-1/(4*Input2!$D$41))),ASIN(SQRT(F30)))),\"\")))","v":{"$error":"#N/A"}},{"$f":"IF(Start!$B$17=\"input1\",IF(ISBLANK(Input1!H25), \"\",Input1!H25), IF(G$2=\"\",\"\",IF(ISNUMBER(G30), IF(G30=0, ASIN(SQRT(1/(4*Input2!$D$41))), IF(G30=1,ASIN(SQRT(1-1/(4*Input2!$D$41))),ASIN(SQRT(G30)))),\"\")))","v":{"$error":"#N/A"}},{"$f":"IF(Start!$B$17=\"input1\",IF(ISBLANK(Input1!I25), \"\",Input1!I25), IF(H$2=\"\",\"\",IF(ISNUMBER(H30), IF(H30=0, ASIN(SQRT(1/(4*Input2!$D$41))), IF(H30=1,ASIN(SQRT(1-1/(4*Input2!$D$41))),ASIN(SQRT(H30)))),\"\")))","v":{"$error":"#N/A"}},{"$f":"IF(Start!$B$17=\"input1\",IF(ISBLANK(Input1!J25), \"\",Input1!J25), IF(I$2=\"\",\"\",IF(ISNUMBER(I30), IF(I30=0, ASIN(SQRT(1/(4*Input2!$D$41))), IF(I30=1,ASIN(SQRT(1-1/(4*Input2!$D$41))),ASIN(SQRT(I30)))),\"\")))","v":{"$error":"#N/A"}},null,5,{"$f":"IF(Start!$B$17=\"input1\",IF(ISBLANK(Input1!C25), \"\",Input1!C25), IF(L$2=\"\",\"\",IF(ISNUMBER(B30), IF(B30=0, ASIN(SQRT(1/(4*Input2!$D$41))), IF(B30=1,ASIN(SQRT(1-1/(4*Input2!$D$41))),ASIN(SQRT(B30)))),\"\")))","v":{"$error":"#N/A"}},{"$f":"IF(Start!$B$17=\"input1\",IF(ISBLANK(Input1!D25), \"\",Input1!D25), IF(M$2=\"\",\"\",IF(ISNUMBER(C30), IF(C30=0, ASIN(SQRT(1/(4*Input2!$D$41))), IF(C30=1,ASIN(SQRT(1-1/(4*Input2!$D$41))),ASIN(SQRT(C30)))),\"\")))","v":{"$error":"#N/A"}},{"$f":"IF(Start!$B$17=\"input1\",IF(ISBLANK(Input1!E25), \"\",Input1!E25), IF(N$2=\"\",\"\",IF(ISNUMBER(D30), IF(D30=0, ASIN(SQRT(1/(4*Input2!$D$41))), IF(D30=1,ASIN(SQRT(1-1/(4*Input2!$D$41))),ASIN(SQRT(D30)))),\"\")))","v":{"$error":"#N/A"}},{"$f":"IF(Start!$B$17=\"input1\",IF(ISBLANK(Input1!F25), \"\",Input1!F25), IF(O$2=\"\",\"\",IF(ISNUMBER(E30), IF(E30=0, ASIN(SQRT(1/(4*Input2!$D$41))), IF(E30=1,ASIN(SQRT(1-1/(4*Input2!$D$41))),ASIN(SQRT(E30)))),\"\")))","v":{"$error":"#N/A"}},{"$f":"IF(Start!$B$17=\"input1\",IF(ISBLANK(Input1!G25), \"\",Input1!G25), IF(P$2=\"\",\"\",IF(ISNUMBER(F30), IF(F30=0, ASIN(SQRT(1/(4*Input2!$D$41))), IF(F30=1,ASIN(SQRT(1-1/(4*Input2!$D$41))),ASIN(SQRT(F30)))),\"\")))","v":{"$error":"#N/A"}},{"$f":"IF(Start!$B$17=\"input1\",IF(ISBLANK(Input1!H25), \"\",Input1!H25), IF(Q$2=\"\",\"\",IF(ISNUMBER(G30), IF(G30=0, ASIN(SQRT(1/(4*Input2!$D$41))), IF(G30=1,ASIN(SQRT(1-1/(4*Input2!$D$41))),ASIN(SQRT(G30)))),\"\")))","v":{"$error":"#N/A"}},{"$f":"IF(Start!$B$17=\"input1\",IF(ISBLANK(Input1!I25), \"\",Input1!I25), IF(R$2=\"\",\"\",IF(ISNUMBER(H30), IF(H30=0, ASIN(SQRT(1/(4*Input2!$D$41))), IF(H30=1,ASIN(SQRT(1-1/(4*Input2!$D$41))),ASIN(SQRT(H30)))),\"\")))","v":{"$error":"#N/A"}},{"$f":"IF(Start!$B$17=\"input1\",IF(ISBLANK(Input1!J25), \"\",Input1!J25), IF(S$2=\"\",\"\",IF(ISNUMBER(I30), IF(I30=0, ASIN(SQRT(1/(4*Input2!$D$41))), IF(I30=1,ASIN(SQRT(1-1/(4*Input2!$D$41))),ASIN(SQRT(I30)))),\"\")))","v":{"$error":"#N/A"}}]
[6,{"$f":"IF(Start!$B$17=\"input1\",IF(ISBLANK(Input1!C26), \"\",Input1!C26), IF(B$2=\"\",\"\",IF(ISNUMBER(B31), IF(B31=0, ASIN(SQRT(1/(4*Input2!$D$41))), IF(B31=1,ASIN(SQRT(1-1/(4*Input2!$D$41))),ASIN(SQRT(B31)))),\"\")))","v":{"$error":"#N/A"}},{"$f":"IF(Start!$B$17=\"input1\",IF(ISBLANK(Input1!D26), \"\",Input1!D26), IF(C$2=\"\",\"\",IF(ISNUMBER(C31), IF(C31=0, ASIN(SQRT(1/(4*Input2!$D$41))), IF(C31=1,ASIN(SQRT(1-1/(4*Input2!$D$41))),ASIN(SQRT(C31)))),\"\")))","v":{"$error":"#N/A"}},{"$f":"IF(Start!$B$17=\"input1\",IF(ISBLANK(Input1!E26), \"\",Input1!E26), IF(D$2=\"\",\"\",IF(ISNUMBER(D31), IF(D31=0, ASIN(SQRT(1/(4*Input2!$D$41))), IF(D31=1,ASIN(SQRT(1-1/(4*Input2!$D$41))),ASIN(SQRT(D31)))),\"\")))","v":{"$error":"#N/A"}},{"$f":"IF(Start!$B$17=\"input1\",IF(ISBLANK(Input1!F26), \"\",Input1!F26), IF(E$2=\"\",\"\",IF(ISNUMBER(E31), IF(E31=0, ASIN(SQRT(1/(4*Input2!$D$41))), IF(E31=1,ASIN(SQRT(1-1/(4*Input2!$D$41))),ASIN(SQRT(E31)))),\"\")))","v":{"$error":"#N/A"}},{"$f":"IF(Start!$B$17=\"input1\",IF(ISBLANK(Input1!G26), \"\",Input1!G26), IF(F$2=\"\",\"\",IF(ISNUMBER(F31), IF(F31=0, ASIN(SQRT(1/(4*Input2!$D$41))), IF(F31=1,ASIN(SQRT(1-1/(4*Input2!$D$41))),ASIN(SQRT(F31)))),\"\")))","v":{"$error":"#N/A"}},{"$f":"IF(Start!$B$17=\"input1\",IF(ISBLANK(Input1!H26), \"\",Input1!H26), IF(G$2=\"\",\"\",IF(ISNUMBER(G31), IF(G31=0, ASIN(SQRT(1/(4*Input2!$D$41))), IF(G31=1,ASIN(SQRT(1-1/(4*Input2!$D$41))),ASIN(SQRT(G31)))),\"\")))","v":{"$error":"#N/A"}},{"$f":"IF(Start!$B$17=\"input1\",IF(ISBLANK(Input1!I26), \"\",Input1!I26), IF(H$2=\"\",\"\",IF(ISNUMBER(H31), IF(H31=0, ASIN(SQRT(1/(4*Input2!$D$41))), IF(H31=1,ASIN(SQRT(1-1/(4*Input2!$D$41))),ASIN(SQRT(H31)))),\"\")))","v":{"$error":"#N/A"}},{"$f":"IF(Start!$B$17=\"input1\",IF(ISBLANK(Input1!J26), \"\",Input1!J26), IF(I$2=\"\",\"\",IF(ISNUMBER(I31), IF(I31=0, ASIN(SQRT(1/(4*Input2!$D$41))), IF(I31=1,ASIN(SQRT(1-1/(4*Input2!$D$41))),ASIN(SQRT(I31)))),\"\")))","v":{"$error":"#N/A"}},null,6,{"$f":"IF(Start!$B$17=\"input1\",IF(ISBLANK(Input1!C26), \"\",Input1!C26), IF(L$2=\"\",\"\",IF(ISNUMBER(B31), IF(B31=0, ASIN(SQRT(1/(4*Input2!$D$41))), IF(B31=1,ASIN(SQRT(1-1/(4*Input2!$D$41))),ASIN(SQRT(B31)))),\"\")))","v":{"$error":"#N/A"}},{"$f":"IF(Start!$B$17=\"input1\",IF(ISBLANK(Input1!D26), \"\",Input1!D26), IF(M$2=\"\",\"\",IF(ISNUMBER(C31), IF(C31=0, ASIN(SQRT(1/(4*Input2!$D$41))), IF(C31=1,ASIN(SQRT(1-1/(4*Input2!$D$41))),ASIN(SQRT(C31)))),\"\")))","v":{"$error":"#N/A"}},{"$f":"IF(Start!$B$17=\"input1\",IF(ISBLANK(Input1!E26), \"\",Input1!E26), IF(N$2=\"\",\"\",IF(ISNUMBER(D31), IF(D31=0, ASIN(SQRT(1/(4*Input2!$D$41))), IF(D31=1,ASIN(SQRT(1-1/(4*Input2!$D$41))),ASIN(SQRT(D31)))),\"\")))","v":{"$error":"#N/A"}},{"$f":"IF(Start!$B$17=\"input1\",IF(ISBLANK(Input1!F26), \"\",Input1!F26), IF(O$2=\"\",\"\",IF(ISNUMBER(E31), IF(E31=0, ASIN(SQRT(1/(4*Input2!$D$41))), IF(E31=1,ASIN(SQRT(1-1/(4*Input2!$D$41))),ASIN(SQRT(E31)))),\"\")))","v":{"$error":"#N/A"}},{"$f":"IF(Start!$B$17=\"input1\",IF(ISBLANK(Input1!G26), \"\",Input1!G26), IF(P$2=\"\",\"\",IF(ISNUMBER(F31), IF(F31=0, ASIN(SQRT(1/(4*Input2!$D$41))), IF(F31=1,ASIN(SQRT(1-1/(4*Input2!$D$41))),ASIN(SQRT(F31)))),\"\")))","v":{"$error":"#N/A"}},{"$f":"IF(Start!$B$17=\"input1\",IF(ISBLANK(Input1!H26), \"\",Input1!H26), IF(Q$2=\"\",\"\",IF(ISNUMBER(G31), IF(G31=0, ASIN(SQRT(1/(4*Input2!$D$41))), IF(G31=1,ASIN(SQRT(1-1/(4*Input2!$D$41))),ASIN(SQRT(G31)))),\"\")))","v":{"$error":"#N/A"}},{"$f":"IF(Start!$B$17=\"input1\",IF(ISBLANK(Input1!I26), \"\",Input1!I26), IF(R$2=\"\",\"\",IF(ISNUMBER(H31), IF(H31=0, ASIN(SQRT(1/(4*Input2!$D$41))), IF(H31=1,ASIN(SQRT(1-1/(4*Input2!$D$41))),ASIN(SQRT(H31)))),\"\")))","v":{"$error":"#N/A"}},{"$f":"IF(Start!$B$17=\"input1\",IF(ISBLANK(Input1!J26), \"\",Input1!J26), IF(S$2=\"\",\"\",IF(ISNUMBER(I31), IF(I31=0, ASIN(SQRT(1/(4*Input2!$D$41))), IF(I31=1,ASIN(SQRT(1-1/(4*Input2!$D$41))),ASIN(SQRT(I31)))),\"\")))","v":{"$error":"#N/A"}}]
[7,{"$f":"IF(Start!$B$17=\"input1\",IF(ISBLANK(Input1!C27), \"\",Input1!C27), IF(B$2=\"\",\"\",IF(ISNUMBER(B32), IF(B32=0, ASIN(SQRT(1/(4*Input2!$D$41))), IF(B32=1,ASIN(SQRT(1-1/(4*Input2!$D$41))),ASIN(SQRT(B32)))),\"\")))","v":{"$error":"#N/A"}},{"$f":"IF(Start!$B$17=\"input1\",IF(ISBLANK(Input1!D27), \"\",Input1!D27), IF(C$2=\"\",\"\",IF(ISNUMBER(C32), IF(C32=0, ASIN(SQRT(1/(4*Input2!$D$41))), IF(C32=1,ASIN(SQRT(1-1/(4*Input2!$D$41))),ASIN(SQRT(C32)))),\"\")))","v":{"$error":"#N/A"}},{"$f":"IF(Start!$B$17=\"input1\",IF(ISBLANK(Input1!E27), \"\",Input1!E27), IF(D$2=\"\",\"\",IF(ISNUMBER(D32), IF(D32=0, ASIN(SQRT(1/(4*Input2!$D$41))), IF(D32=1,ASIN(SQRT(1-1/(4*Input2!$D$41))),ASIN(SQRT(D32)))),\"\")))","v":{"$error":"#N/A"}},{"$f":"IF(Start!$B$17=\"input1\",IF(ISBLANK(Input1!F27), \"\",Input1!F27), IF(E$2=\"\",\"\",IF(ISNUMBER(E32), IF(E32=0, ASIN(SQRT(1/(4*Input2!$D$41))), IF(E32=1,ASIN(SQRT(1-1/(4*Input2!$D$41))),ASIN(SQRT(E32)))),\"\")))","v":{"$error":"#N/A"}},{"$f":"IF(Start!$B$17=\"input1\",IF(ISBLANK(Input1!G27), \"\",Input1!G27), IF(F$2=\"\",\"\",IF(ISNUMBER(F32), IF(F32=0, ASIN(SQRT(1/(4*Input2!$D$41))), IF(F32=1,ASIN(SQRT(1-1/(4*Input2!$D$41))),ASIN(SQRT(F32)))),\"\")))","v":{"$error":"#N/A"}},{"$f":"IF(Start!$B$17=\"input1\",IF(ISBLANK(Input1!H27), \"\",Input1!H27), IF(G$2=\"\",\"\",IF(ISNUMBER(G32), IF(G32=0, ASIN(SQRT(1/(4*Input2!$D$41))), IF(G32=1,ASIN(SQRT(1-1/(4*Input2!$D$41))),ASIN(SQRT(G32)))),\"\")))","v":{"$error":"#N/A"}},{"$f":"IF(Start!$B$17=\"input1\",IF(ISBLANK(Input1!I27), \"\",Input1!I27), IF(H$2=\"\",\"\",IF(ISNUMBER(H32), IF(H32=0, ASIN(SQRT(1/(4*Input2!$D$41))), IF(H32=1,ASIN(SQRT(1-1/(4*Input2!$D$41))),ASIN(SQRT(H32)))),\"\")))","v":{"$error":"#N/A"}},{"$f":"IF(Start!$B$17=\"input1\",IF(ISBLANK(Input1!J27), \"\",Input1!J27), IF(I$2=\"\",\"\",IF(ISNUMBER(I32), IF(I32=0, ASIN(SQRT(1/(4*Input2!$D$41))), IF(I32=1,ASIN(SQRT(1-1/(4*Input2!$D$41))),ASIN(SQRT(I32)))),\"\")))","v":{"$error":"#N/A"}},null,7,{"$f":"IF(Start!$B$17=\"input1\",IF(ISBLANK(Input1!C27), \"\",Input1!C27), IF(L$2=\"\",\"\",IF(ISNUMBER(B32), IF(B32=0, ASIN(SQRT(1/(4*Input2!$D$41))), IF(B32=1,ASIN(SQRT(1-1/(4*Input2!$D$41))),ASIN(SQRT(B32)))),\"\")))","v":{"$error":"#N/A"}},{"$f":"IF(Start!$B$17=\"input1\",IF(ISBLANK(Input1!D27), \"\",Input1!D27), IF(M$2=\"\",\"\",IF(ISNUMBER(C32), IF(C32=0, ASIN(SQRT(1/(4*Input2!$D$41))), IF(C32=1,ASIN(SQRT(1-1/(4*Input2!$D$41))),ASIN(SQRT(C32)))),\"\")))","v":{"$error":"#N/A"}},{"$f":"IF(Start!$B$17=\"input1\",IF(ISBLANK(Input1!E27), \"\",Input1!E27), IF(N$2=\"\",\"\",IF(ISNUMBER(D32), IF(D32=0, ASIN(SQRT(1/(4*Input2!$D$41))), IF(D32=1,ASIN(SQRT(1-1/(4*Input2!$D$41))),ASIN(SQRT(D32)))),\"\")))","v":{"$error":"#N/A"}},{"$f":"IF(Start!$B$17=\"input1\",IF(ISBLANK(Input1!F27), \"\",Input1!F27), IF(O$2=\"\",\"\",IF(ISNUMBER(E32), IF(E32=0, ASIN(SQRT(1/(4*Input2!$D$41))), IF(E32=1,ASIN(SQRT(1-1/(4*Input2!$D$41))),ASIN(SQRT(E32)))),\"\")))","v":{"$error":"#N/A"}},{"$f":"IF(Start!$B$17=\"input1\",IF(ISBLANK(Input1!G27), \"\",Input1!G27), IF(P$2=\"\",\"\",IF(ISNUMBER(F32), IF(F32=0, ASIN(SQRT(1/(4*Input2!$D$41))), IF(F32=1,ASIN(SQRT(1-1/(4*Input2!$D$41))),ASIN(SQRT(F32)))),\"\")))","v":{"$error":"#N/A"}},{"$f":"IF(Start!$B$17=\"input1\",IF(ISBLANK(Input1!H27), \"\",Input1!H27), IF(Q$2=\"\",\"\",IF(ISNUMBER(G32), IF(G32=0, ASIN(SQRT(1/(4*Input2!$D$41))), IF(G32=1,ASIN(SQRT(1-1/(4*Input2!$D$41))),ASIN(SQRT(G32)))),\"\")))","v":{"$error":"#N/A"}},{"$f":"IF(Start!$B$17=\"input1\",IF(ISBLANK(Input1!I27), \"\",Input1!I27), IF(R$2=\"\",\"\",IF(ISNUMBER(H32), IF(H32=0, ASIN(SQRT(1/(4*Input2!$D$41))), IF(H32=1,ASIN(SQRT(1-1/(4*Input2!$D$41))),ASIN(SQRT(H32)))),\"\")))","v":{"$error":"#N/A"}},{"$f":"IF(Start!$B$17=\"input1\",IF(ISBLANK(Input1!J27), \"\",Input1!J27), IF(S$2=\"\",\"\",IF(ISNUMBER(I32), IF(I32=0, ASIN(SQRT(1/(4*Input2!$D$41))), IF(I32=1,ASIN(SQRT(1-1/(4*Input2!$D$41))),ASIN(SQRT(I32)))),\"\")))","v":{"$error":"#N/A"}}]
[8,{"$f":"IF(Start!$B$17=\"input1\",IF(ISBLANK(Input1!C28), \"\",Input1!C28), IF(B$2=\"\",\"\",IF(ISNUMBER(B33), IF(B33=0, ASIN(SQRT(1/(4*Input2!$D$41))), IF(B33=1,ASIN(SQRT(1-1/(4*Input2!$D$41))),ASIN(SQRT(B33)))),\"\")))","v":{"$error":"#N/A"}},{"$f":"IF(Start!$B$17=\"input1\",IF(ISBLANK(Input1!D28), \"\",Input1!D28), IF(C$2=\"\",\"\",IF(ISNUMBER(C33), IF(C33=0, ASIN(SQRT(1/(4*Input2!$D$41))), IF(C33=1,ASIN(SQRT(1-1/(4*Input2!$D$41))),ASIN(SQRT(C33)))),\"\")))","v":{"$error":"#N/A"}},{"$f":"IF(Start!$B$17=\"input1\",IF(ISBLANK(Input1!E28), \"\",Input1!E28), IF(D$2=\"\",\"\",IF(ISNUMBER(D33), IF(D33=0, ASIN(SQRT(1/(4*Input2!$D$41))), IF(D33=1,ASIN(SQRT(1-1/(4*Input2!$D$41))),ASIN(SQRT(D33)))),\"\")))","v":{"$error":"#N/A"}},{"$f":"IF(Start!$B$17=\"input1\",IF(ISBLANK(Input1!F28), \"\",Input1!F28), IF(E$2=\"\",\"\",IF(ISNUMBER(E33), IF(E33=0, ASIN(SQRT(1/(4*Input2!$D$41))), IF(E33=1,ASIN(SQRT(1-1/(4*Input2!$D$41))),ASIN(SQRT(E33)))),\"\")))","v":{"$error":"#N/A"}},{"$f":"IF(Start!$B$17=\"input1\",IF(ISBLANK(Input1!G28), \"\",Input1!G28), IF(F$2=\"\",\"\",IF(ISNUMBER(F33), IF(F33=0, ASIN(SQRT(1/(4*Input2!$D$41))), IF(F33=1,ASIN(SQRT(1-1/(4*Input2!$D$41))),ASIN(SQRT(F33)))),\"\")))","v":{"$error":"#N/A"}},{"$f":"IF(Start!$B$17=\"input1\",IF(ISBLANK(Input1!H28), \"\",Input1!H28), IF(G$2=\"\",\"\",IF(ISNUMBER(G33), IF(G33=0, ASIN(SQRT(1/(4*Input2!$D$41))), IF(G33=1,ASIN(SQRT(1-1/(4*Input2!$D$41))),ASIN(SQRT(G33)))),\"\")))","v":{"$error":"#N/A"}},{"$f":"IF(Start!$B$17=\"input1\",IF(ISBLANK(Input1!I28), \"\",Input1!I28), IF(H$2=\"\",\"\",IF(ISNUMBER(H33), IF(H33=0, ASIN(SQRT(1/(4*Input2!$D$41))), IF(H33=1,ASIN(SQRT(1-1/(4*Input2!$D$41))),ASIN(SQRT(H33)))),\"\")))","v":{"$error":"#N/A"}},{"$f":"IF(Start!$B$17=\"input1\",IF(ISBLANK(Input1!J28), \"\",Input1!J28), IF(I$2=\"\",\"\",IF(ISNUMBER(I33), IF(I33=0, ASIN(SQRT(1/(4*Input2!$D$41))), IF(I33=1,ASIN(SQRT(1-1/(4*Input2!$D$41))),ASIN(SQRT(I33)))),\"\")))","v":{"$error":"#N/A"}},null,8,{"$f":"IF(Start!$B$17=\"input1\",IF(ISBLANK(Input1!C28), \"\",Input1!C28), IF(L$2=\"\",\"\",IF(ISNUMBER(B33), IF(B33=0, ASIN(SQRT(1/(4*Input2!$D$41))), IF(B33=1,ASIN(SQRT(1-1/(4*Input2!$D$41))),ASIN(SQRT(B33)))),\"\")))","v":{"$error":"#N/A"}},{"$f":"IF(Start!$B$17=\"input1\",IF(ISBLANK(Input1!D28), \"\",Input1!D28), IF(M$2=\"\",\"\",IF(ISNUMBER(C33), IF(C33=0, ASIN(SQRT(1/(4*Input2!$D$41))), IF(C33=1,ASIN(SQRT(1-1/(4*Input2!$D$41))),ASIN(SQRT(C33)))),\"\")))","v":{"$error":"#N/A"}},{"$f":"IF(Start!$B$17=\"input1\",IF(ISBLANK(Input1!E28), \"\",Input1!E28), IF(N$2=\"\",\"\",IF(ISNUMBER(D33), IF(D33=0, ASIN(SQRT(1/(4*Input2!$D$41))), IF(D33=1,ASIN(SQRT(1-1/(4*Input2!$D$41))),ASIN(SQRT(D33)))),\"\")))","v":{"$error":"#N/A"}},{"$f":"IF(Start!$B$17=\"input1\",IF(ISBLANK(Input1!F28), \"\",Input1!F28), IF(O$2=\"\",\"\",IF(ISNUMBER(E33), IF(E33=0, ASIN(SQRT(1/(4*Input2!$D$41))), IF(E33=1,ASIN(SQRT(1-1/(4*Input2!$D$41))),ASIN(SQRT(E33)))),\"\")))","v":{"$error":"#N/A"}},{"$f":"IF(Start!$B$17=\"input1\",IF(ISBLANK(Input1!G28), \"\",Input1!G28), IF(P$2=\"\",\"\",IF(ISNUMBER(F33), IF(F33=0, ASIN(SQRT(1/(4*Input2!$D$41))), IF(F33=1,ASIN(SQRT(1-1/(4*Input2!$D$41))),ASIN(SQRT(F33)))),\"\")))","v":{"$error":"#N/A"}},{"$f":"IF(Start!$B$17=\"input1\",IF(ISBLANK(Input1!H28), \"\",Input1!H28), IF(Q$2=\"\",\"\",IF(ISNUMBER(G33), IF(G33=0, ASIN(SQRT(1/(4*Input2!$D$41))), IF(G33=1,ASIN(SQRT(1-1/(4*Input2!$D$41))),ASIN(SQRT(G33)))),\"\")))","v":{"$error":"#N/A"}},{"$f":"IF(Start!$B$17=\"input1\",IF(ISBLANK(Input1!I28), \"\",Input1!I28), IF(R$2=\"\",\"\",IF(ISNUMBER(H33), IF(H33=0, ASIN(SQRT(1/(4*Input2!$D$41))), IF(H33=1,ASIN(SQRT(1-1/(4*Input2!$D$41))),ASIN(SQRT(H33)))),\"\")))","v":{"$error":"#N/A"}},{"$f":"IF(Start!$B$17=\"input1\",IF(ISBLANK(Input1!J28), \"\",Input1!J28), IF(S$2=\"\",\"\",IF(ISNUMBER(I33), IF(I33=0, ASIN(SQRT(1/(4*Input2!$D$41))), IF(I33=1,ASIN(SQRT(1-1/(4*Input2!$D$41))),ASIN(SQRT(I33)))),\"\")))","v":{"$error":"#N/A"}}]
[9,{"$f":"IF(Start!$B$17=\"input1\",IF(ISBLANK(Input1!C29), \"\",Input1!C29), IF(B$2=\"\",\"\",IF(ISNUMBER(B34), IF(B34=0, ASIN(SQRT(1/(4*Input2!$D$41))), IF(B34=1,ASIN(SQRT(1-1/(4*Input2!$D$41))),ASIN(SQRT(B34)))),\"\")))","v":{"$error":"#N/A"}},{"$f":"IF(Start!$B$17=\"input1\",IF(ISBLANK(Input1!D29), \"\",Input1!D29), IF(C$2=\"\",\"\",IF(ISNUMBER(C34), IF(C34=0, ASIN(SQRT(1/(4*Input2!$D$41))), IF(C34=1,ASIN(SQRT(1-1/(4*Input2!$D$41))),ASIN(SQRT(C34)))),\"\")))","v":{"$error":"#N/A"}},{"$f":"IF(Start!$B$17=\"input1\",IF(ISBLANK(Input1!E29), \"\",Input1!E29), IF(D$2=\"\",\"\",IF(ISNUMBER(D34), IF(D34=0, ASIN(SQRT(1/(4*Input2!$D$41))), IF(D34=1,ASIN(SQRT(1-1/(4*Input2!$D$41))),ASIN(SQRT(D34)))),\"\")))","v":{"$error":"#N/A"}},{"$f":"IF(Start!$B$17=\"input1\",IF(ISBLANK(Input1!F29), \"\",Input1!F29), IF(E$2=\"\",\"\",IF(ISNUMBER(E34), IF(E34=0, ASIN(SQRT(1/(4*Input2!$D$41))), IF(E34=1,ASIN(SQRT(1-1/(4*Input2!$D$41))),ASIN(SQRT(E34)))),\"\")))","v":{"$error":"#N/A"}},{"$f":"IF(Start!$B$17=\"input1\",IF(ISBLANK(Input1!G29), \"\",Input1!G29), IF(F$2=\"\",\"\",IF(ISNUMBER(F34), IF(F34=0, ASIN(SQRT(1/(4*Input2!$D$41))), IF(F34=1,ASIN(SQRT(1-1/(4*Input2!$D$41))),ASIN(SQRT(F34)))),\"\")))","v":{"$error":"#N/A"}},{"$f":"IF(Start!$B$17=\"input1\",IF(ISBLANK(Input1!H29), \"\",Input1!H29), IF(G$2=\"\",\"\",IF(ISNUMBER(G34), IF(G34=0, ASIN(SQRT(1/(4*Input2!$D$41))), IF(G34=1,ASIN(SQRT(1-1/(4*Input2!$D$41))),ASIN(SQRT(G34)))),\"\")))","v":{"$error":"#N/A"}},{"$f":"IF(Start!$B$17=\"input1\",IF(ISBLANK(Input1!I29), \"\",Input1!I29), IF(H$2=\"\",\"\",IF(ISNUMBER(H34), IF(H34=0, ASIN(SQRT(1/(4*Input2!$D$41))), IF(H34=1,ASIN(SQRT(1-1/(4*Input2!$D$41))),ASIN(SQRT(H34)))),\"\")))","v":{"$error":"#N/A"}},{"$f":"IF(Start!$B$17=\"input1\",IF(ISBLANK(Input1!J29), \"\",Input1!J29), IF(I$2=\"\",\"\",IF(ISNUMBER(I34), IF(I34=0, ASIN(SQRT(1/(4*Input2!$D$41))), IF(I34=1,ASIN(SQRT(1-1/(4*Input2!$D$41))),ASIN(SQRT(I34)))),\"\")))","v":{"$error":"#N/A"}},null,9,{"$f":"IF(Start!$B$17=\"input1\",IF(ISBLANK(Input1!C29), \"\",Input1!C29), IF(L$2=\"\",\"\",IF(ISNUMBER(B34), IF(B34=0, ASIN(SQRT(1/(4*Input2!$D$41))), IF(B34=1,ASIN(SQRT(1-1/(4*Input2!$D$41))),ASIN(SQRT(B34)))),\"\")))","v":{"$error":"#N/A"}},{"$f":"IF(Start!$B$17=\"input1\",IF(ISBLANK(Input1!D29), \"\",Input1!D29), IF(M$2=\"\",\"\",IF(ISNUMBER(C34), IF(C34=0, ASIN(SQRT(1/(4*Input2!$D$41))), IF(C34=1,ASIN(SQRT(1-1/(4*Input2!$D$41))),ASIN(SQRT(C34)))),\"\")))","v":{"$error":"#N/A"}},{"$f":"IF(Start!$B$17=\"input1\",IF(ISBLANK(Input1!E29), \"\",Input1!E29), IF(N$2=\"\",\"\",IF(ISNUMBER(D34), IF(D34=0, ASIN(SQRT(1/(4*Input2!$D$41))), IF(D34=1,ASIN(SQRT(1-1/(4*Input2!$D$41))),ASIN(SQRT(D34)))),\"\")))","v":{"$error":"#N/A"}},{"$f":"IF(Start!$B$17=\"input1\",IF(ISBLANK(Input1!F29), \"\",Input1!F29), IF(O$2=\"\",\"\",IF(ISNUMBER(E34), IF(E34=0, ASIN(SQRT(1/(4*Input2!$D$41))), IF(E34=1,ASIN(SQRT(1-1/(4*Input2!$D$41))),ASIN(SQRT(E34)))),\"\")))","v":{"$error":"#N/A"}},{"$f":"IF(Start!$B$17=\"input1\",IF(ISBLANK(Input1!G29), \"\",Input1!G29), IF(P$2=\"\",\"\",IF(ISNUMBER(F34), IF(F34=0, ASIN(SQRT(1/(4*Input2!$D$41))), IF(F34=1,ASIN(SQRT(1-1/(4*Input2!$D$41))),ASIN(SQRT(F34)))),\"\")))","v":{"$error":"#N/A"}},{"$f":"IF(Start!$B$17=\"input1\",IF(ISBLANK(Input1!H29), \"\",Input1!H29), IF(Q$2=\"\",\"\",IF(ISNUMBER(G34), IF(G34=0, ASIN(SQRT(1/(4*Input2!$D$41))), IF(G34=1,ASIN(SQRT(1-1/(4*Input2!$D$41))),ASIN(SQRT(G34)))),\"\")))","v":{"$error":"#N/A"}},{"$f":"IF(Start!$B$17=\"input1\",IF(ISBLANK(Input1!I29), \"\",Input1!I29), IF(R$2=\"\",\"\",IF(ISNUMBER(H34), IF(H34=0, ASIN(SQRT(1/(4*Input2!$D$41))), IF(H34=1,ASIN(SQRT(1-1/(4*Input2!$D$41))),ASIN(SQRT(H34)))),\"\")))","v":{"$error":"#N/A"}},{"$f":"IF(Start!$B$17=\"input1\",IF(ISBLANK(Input1!J29), \"\",Input1!J29), IF(S$2=\"\",\"\",IF(ISNUMBER(I34), IF(I34=0, ASIN(SQRT(1/(4*Input2!$D$41))), IF(I34=1,ASIN(SQRT(1-1/(4*Input2!$D$41))),ASIN(SQRT(I34)))),\"\")))","v":{"$error":"#N/A"}}]
[10,{"$f":"IF(Start!$B$17=\"input1\",IF(ISBLANK(Input1!C30), \"\",Input1!C30), IF(B$2=\"\",\"\",IF(ISNUMBER(B35), IF(B35=0, ASIN(SQRT(1/(4*Input2!$D$41))), IF(B35=1,ASIN(SQRT(1-1/(4*Input2!$D$41))),ASIN(SQRT(B35)))),\"\")))","v":{"$error":"#N/A"}},{"$f":"IF(Start!$B$17=\"input1\",IF(ISBLANK(Input1!D30), \"\",Input1!D30), IF(C$2=\"\",\"\",IF(ISNUMBER(C35), IF(C35=0, ASIN(SQRT(1/(4*Input2!$D$41))), IF(C35=1,ASIN(SQRT(1-1/(4*Input2!$D$41))),ASIN(SQRT(C35)))),\"\")))","v":{"$error":"#N/A"}},{"$f":"IF(Start!$B$17=\"input1\",IF(ISBLANK(Input1!E30), \"\",Input1!E30), IF(D$2=\"\",\"\",IF(ISNUMBER(D35), IF(D35=0, ASIN(SQRT(1/(4*Input2!$D$41))), IF(D35=1,ASIN(SQRT(1-1/(4*Input2!$D$41))),ASIN(SQRT(D35)))),\"\")))","v":{"$error":"#N/A"}},{"$f":"IF(Start!$B$17=\"input1\",IF(ISBLANK(Input1!F30), \"\",Input1!F30), IF(E$2=\"\",\"\",IF(ISNUMBER(E35), IF(E35=0, ASIN(SQRT(1/(4*Input2!$D$41))), IF(E35=1,ASIN(SQRT(1-1/(4*Input2!$D$41))),ASIN(SQRT(E35)))),\"\")))","v":{"$error":"#N/A"}},{"$f":"IF(Start!$B$17=\"input1\",IF(ISBLANK(Input1!G30), \"\",Input1!G30), IF(F$2=\"\",\"\",IF(ISNUMBER(F35), IF(F35=0, ASIN(SQRT(1/(4*Input2!$D$41))), IF(F35=1,ASIN(SQRT(1-1/(4*Input2!$D$41))),ASIN(SQRT(F35)))),\"\")))","v":{"$error":"#N/A"}},{"$f":"IF(Start!$B$17=\"input1\",IF(ISBLANK(Input1!H30), \"\",Input1!H30), IF(G$2=\"\",\"\",IF(ISNUMBER(G35), IF(G35=0, ASIN(SQRT(1/(4*Input2!$D$41))), IF(G35=1,ASIN(SQRT(1-1/(4*Input2!$D$41))),ASIN(SQRT(G35)))),\"\")))","v":{"$error":"#N/A"}},{"$f":"IF(Start!$B$17=\"input1\",IF(ISBLANK(Input1!I30), \"\",Input1!I30), IF(H$2=\"\",\"\",IF(ISNUMBER(H35), IF(H35=0, ASIN(SQRT(1/(4*Input2!$D$41))), IF(H35=1,ASIN(SQRT(1-1/(4*Input2!$D$41))),ASIN(SQRT(H35)))),\"\")))","v":{"$error":"#N/A"}},{"$f":"IF(Start!$B$17=\"input1\",IF(ISBLANK(Input1!J30), \"\",Input1!J30), IF(I$2=\"\",\"\",IF(ISNUMBER(I35), IF(I35=0, ASIN(SQRT(1/(4*Input2!$D$41))), IF(I35=1,ASIN(SQRT(1-1/(4*Input2!$D$41))),ASIN(SQRT(I35)))),\"\")))","v":{"$error":"#N/A"}},null,10,{"$f":"IF(Start!$B$17=\"input1\",IF(ISBLANK(Input1!C30), \"\",Input1!C30), IF(L$2=\"\",\"\",IF(ISNUMBER(B35), IF(B35=0, ASIN(SQRT(1/(4*Input2!$D$41))), IF(B35=1,ASIN(SQRT(1-1/(4*Input2!$D$41))),ASIN(SQRT(B35)))),\"\")))","v":{"$error":"#N/A"}},{"$f":"IF(Start!$B$17=\"input1\",IF(ISBLANK(Input1!D30), \"\",Input1!D30), IF(M$2=\"\",\"\",IF(ISNUMBER(C35), IF(C35=0, ASIN(SQRT(1/(4*Input2!$D$41))), IF(C35=1,ASIN(SQRT(1-1/(4*Input2!$D$41))),ASIN(SQRT(C35)))),\"\")))","v":{"$error":"#N/A"}},{"$f":"IF(Start!$B$17=\"input1\",IF(ISBLANK(Input1!E30), \"\",Input1!E30), IF(N$2=\"\",\"\",IF(ISNUMBER(D35), IF(D35=0, ASIN(SQRT(1/(4*Input2!$D$41))), IF(D35=1,ASIN(SQRT(1-1/(4*Input2!$D$41))),ASIN(SQRT(D35)))),\"\")))","v":{"$error":"#N/A"}},{"$f":"IF(Start!$B$17=\"input1\",IF(ISBLANK(Input1!F30), \"\",Input1!F30), IF(O$2=\"\",\"\",IF(ISNUMBER(E35), IF(E35=0, ASIN(SQRT(1/(4*Input2!$D$41))), IF(E35=1,ASIN(SQRT(1-1/(4*Input2!$D$41))),ASIN(SQRT(E35)))),\"\")))","v":{"$error":"#N/A"}},{"$f":"IF(Start!$B$17=\"input1\",IF(ISBLANK(Input1!G30), \"\",Input1!G30), IF(P$2=\"\",\"\",IF(ISNUMBER(F35), IF(F35=0, ASIN(SQRT(1/(4*Input2!$D$41))), IF(F35=1,ASIN(SQRT(1-1/(4*Input2!$D$41))),ASIN(SQRT(F35)))),\"\")))","v":{"$error":"#N/A"}},{"$f":"IF(Start!$B$17=\"input1\",IF(ISBLANK(Input1!H30), \"\",Input1!H30), IF(Q$2=\"\",\"\",IF(ISNUMBER(G35), IF(G35=0, ASIN(SQRT(1/(4*Input2!$D$41))), IF(G35=1,ASIN(SQRT(1-1/(4*Input2!$D$41))),ASIN(SQRT(G35)))),\"\")))","v":{"$error":"#N/A"}},{"$f":"IF(Start!$B$17=\"input1\",IF(ISBLANK(Input1!I30), \"\",Input1!I30), IF(R$2=\"\",\"\",IF(ISNUMBER(H35), IF(H35=0, ASIN(SQRT(1/(4*Input2!$D$41))), IF(H35=1,ASIN(SQRT(1-1/(4*Input2!$D$41))),ASIN(SQRT(H35)))),\"\")))","v":{"$error":"#N/A"}},{"$f":"IF(Start!$B$17=\"input1\",IF(ISBLANK(Input1!J30), \"\",Input1!J30), IF(S$2=\"\",\"\",IF(ISNUMBER(I35), IF(I35=0, ASIN(SQRT(1/(4*Input2!$D$41))), IF(I35=1,ASIN(SQRT(1-1/(4*Input2!$D$41))),ASIN(SQRT(I35)))),\"\")))","v":{"$error":"#N/A"}}]
[11,{"$f":"IF(Start!$B$17=\"input1\",IF(ISBLANK(Input1!C31), \"\",Input1!C31), IF(B$2=\"\",\"\",IF(ISNUMBER(B36), IF(B36=0, ASIN(SQRT(1/(4*Input2!$D$41))), IF(B36=1,ASIN(SQRT(1-1/(4*Input2!$D$41))),ASIN(SQRT(B36)))),\"\")))","v":{"$error":"#N/A"}},{"$f":"IF(Start!$B$17=\"input1\",IF(ISBLANK(Input1!D31), \"\",Input1!D31), IF(C$2=\"\",\"\",IF(ISNUMBER(C36), IF(C36=0, ASIN(SQRT(1/(4*Input2!$D$41))), IF(C36=1,ASIN(SQRT(1-1/(4*Input2!$D$41))),ASIN(SQRT(C36)))),\"\")))","v":{"$error":"#N/A"}},{"$f":"IF(Start!$B$17=\"input1\",IF(ISBLANK(Input1!E31), \"\",Input1!E31), IF(D$2=\"\",\"\",IF(ISNUMBER(D36), IF(D36=0, ASIN(SQRT(1/(4*Input2!$D$41))), IF(D36=1,ASIN(SQRT(1-1/(4*Input2!$D$41))),ASIN(SQRT(D36)))),\"\")))","v":{"$error":"#N/A"}},{"$f":"IF(Start!$B$17=\"input1\",IF(ISBLANK(Input1!F31), \"\",Input1!F31), IF(E$2=\"\",\"\",IF(ISNUMBER(E36), IF(E36=0, ASIN(SQRT(1/(4*Input2!$D$41))), IF(E36=1,ASIN(SQRT(1-1/(4*Input2!$D$41))),ASIN(SQRT(E36)))),\"\")))","v":{"$error":"#N/A"}},{"$f":"IF(Start!$B$17=\"input1\",IF(ISBLANK(Input1!G31), \"\",Input1!G31), IF(F$2=\"\",\"\",IF(ISNUMBER(F36), IF(F36=0, ASIN(SQRT(1/(4*Input2!$D$41))), IF(F36=1,ASIN(SQRT(1-1/(4*Input2!$D$41))),ASIN(SQRT(F36)))),\"\")))","v":{"$error":"#N/A"}},{"$f":"IF(Start!$B$17=\"input1\",IF(ISBLANK(Input1!H31), \"\",Input1!H31), IF(G$2=\"\",\"\",IF(ISNUMBER(G36), IF(G36=0, ASIN(SQRT(1/(4*Input2!$D$41))), IF(G36=1,ASIN(SQRT(1-1/(4*Input2!$D$41))),ASIN(SQRT(G36)))),\"\")))","v":{"$error":"#N/A"}},{"$f":"IF(Start!$B$17=\"input1\",IF(ISBLANK(Input1!I31), \"\",Input1!I31), IF(H$2=\"\",\"\",IF(ISNUMBER(H36), IF(H36=0, ASIN(SQRT(1/(4*Input2!$D$41))), IF(H36=1,ASIN(SQRT(1-1/(4*Input2!$D$41))),ASIN(SQRT(H36)))),\"\")))","v":{"$error":"#N/A"}},{"$f":"IF(Start!$B$17=\"input1\",IF(ISBLANK(Input1!J31), \"\",Input1!J31), IF(I$2=\"\",\"\",IF(ISNUMBER(I36), IF(I36=0, ASIN(SQRT(1/(4*Input2!$D$41))), IF(I36=1,ASIN(SQRT(1-1/(4*Input2!$D$41))),ASIN(SQRT(I36)))),\"\")))","v":{"$error":"#N/A"}},null,11,{"$f":"IF(Start!$B$17=\"input1\",IF(ISBLANK(Input1!C31), \"\",Input1!C31), IF(L$2=\"\",\"\",IF(ISNUMBER(B36), IF(B36=0, ASIN(SQRT(1/(4*Input2!$D$41))), IF(B36=1,ASIN(SQRT(1-1/(4*Input2!$D$41))),ASIN(SQRT(B36)))),\"\")))","v":{"$error":"#N/A"}},{"$f":"IF(Start!$B$17=\"input1\",IF(ISBLANK(Input1!D31), \"\",Input1!D31), IF(M$2=\"\",\"\",IF(ISNUMBER(C36), IF(C36=0, ASIN(SQRT(1/(4*Input2!$D$41))), IF(C36=1,ASIN(SQRT(1-1/(4*Input2!$D$41))),ASIN(SQRT(C36)))),\"\")))","v":{"$error":"#N/A"}},{"$f":"IF(Start!$B$17=\"input1\",IF(ISBLANK(Input1!E31), \"\",Input1!E31), IF(N$2=\"\",\"\",IF(ISNUMBER(D36), IF(D36=0, ASIN(SQRT(1/(4*Input2!$D$41))), IF(D36=1,ASIN(SQRT(1-1/(4*Input2!$D$41))),ASIN(SQRT(D36)))),\"\")))","v":{"$error":"#N/A"}},{"$f":"IF(Start!$B$17=\"input1\",IF(ISBLANK(Input1!F31), \"\",Input1!F31), IF(O$2=\"\",\"\",IF(ISNUMBER(E36), IF(E36=0, ASIN(SQRT(1/(4*Input2!$D$41))), IF(E36=1,ASIN(SQRT(1-1/(4*Input2!$D$41))),ASIN(SQRT(E36)))),\"\")))","v":{"$error":"#N/A"}},{"$f":"IF(Start!$B$17=\"input1\",IF(ISBLANK(Input1!G31), \"\",Input1!G31), IF(P$2=\"\",\"\",IF(ISNUMBER(F36), IF(F36=0, ASIN(SQRT(1/(4*Input2!$D$41))), IF(F36=1,ASIN(SQRT(1-1/(4*Input2!$D$41))),ASIN(SQRT(F36)))),\"\")))","v":{"$error":"#N/A"}},{"$f":"IF(Start!$B$17=\"input1\",IF(ISBLANK(Input1!H31), \"\",Input1!H31), IF(Q$2=\"\",\"\",IF(ISNUMBER(G36), IF(G36=0, ASIN(SQRT(1/(4*Input2!$D$41))), IF(G36=1,ASIN(SQRT(1-1/(4*Input2!$D$41))),ASIN(SQRT(G36)))),\"\")))","v":{"$error":"#N/A"}},{"$f":"IF(Start!$B$17=\"input1\",IF(ISBLANK(Input1!I31), \"\",Input1!I31), IF(R$2=\"\",\"\",IF(ISNUMBER(H36), IF(H36=0, ASIN(SQRT(1/(4*Input2!$D$41))), IF(H36=1,ASIN(SQRT(1-1/(4*Input2!$D$41))),ASIN(SQRT(H36)))),\"\")))","v":{"$error":"#N/A"}},{"$f":"IF(Start!$B$17=\"input1\",IF(ISBLANK(Input1!J31), \"\",Input1!J31), IF(S$2=\"\",\"\",IF(ISNUMBER(I36), IF(I36=0, ASIN(SQRT(1/(4*Input2!$D$41))), IF(I36=1,ASIN(SQRT(1-1/(4*Input2!$D$41))),ASIN(SQRT(I36)))),\"\")))","v":{"$error":"#N/A"}}]
[12,{"$f":"IF(Start!$B$17=\"input1\",IF(ISBLANK(Input1!C32), \"\",Input1!C32), IF(B$2=\"\",\"\",IF(ISNUMBER(B37), IF(B37=0, ASIN(SQRT(1/(4*Input2!$D$41))), IF(B37=1,ASIN(SQRT(1-1/(4*Input2!$D$41))),ASIN(SQRT(B37)))),\"\")))","v":{"$error":"#N/A"}},{"$f":"IF(Start!$B$17=\"input1\",IF(ISBLANK(Input1!D32), \"\",Input1!D32), IF(C$2=\"\",\"\",IF(ISNUMBER(C37), IF(C37=0, ASIN(SQRT(1/(4*Input2!$D$41))), IF(C37=1,ASIN(SQRT(1-1/(4*Input2!$D$41))),ASIN(SQRT(C37)))),\"\")))","v":{"$error":"#N/A"}},{"$f":"IF(Start!$B$17=\"input1\",IF(ISBLANK(Input1!E32), \"\",Input1!E32), IF(D$2=\"\",\"\",IF(ISNUMBER(D37), IF(D37=0, ASIN(SQRT(1/(4*Input2!$D$41))), IF(D37=1,ASIN(SQRT(1-1/(4*Input2!$D$41))),ASIN(SQRT(D37)))),\"\")))","v":{"$error":"#N/A"}},{"$f":"IF(Start!$B$17=\"input1\",IF(ISBLANK(Input1!F32), \"\",Input1!F32), IF(E$2=\"\",\"\",IF(ISNUMBER(E37), IF(E37=0, ASIN(SQRT(1/(4*Input2!$D$41))), IF(E37=1,ASIN(SQRT(1-1/(4*Input2!$D$41))),ASIN(SQRT(E37)))),\"\")))","v":{"$error":"#N/A"}},{"$f":"IF(Start!$B$17=\"input1\",IF(ISBLANK(Input1!G32), \"\",Input1!G32), IF(F$2=\"\",\"\",IF(ISNUMBER(F37), IF(F37=0, ASIN(SQRT(1/(4*Input2!$D$41))), IF(F37=1,ASIN(SQRT(1-1/(4*Input2!$D$41))),ASIN(SQRT(F37)))),\"\")))","v":{"$error":"#N/A"}},{"$f":"IF(Start!$B$17=\"input1\",IF(ISBLANK(Input1!H32), \"\",Input1!H32), IF(G$2=\"\",\"\",IF(ISNUMBER(G37), IF(G37=0, ASIN(SQRT(1/(4*Input2!$D$41))), IF(G37=1,ASIN(SQRT(1-1/(4*Input2!$D$41))),ASIN(SQRT(G37)))),\"\")))","v":{"$error":"#N/A"}},{"$f":"IF(Start!$B$17=\"input1\",IF(ISBLANK(Input1!I32), \"\",Input1!I32), IF(H$2=\"\",\"\",IF(ISNUMBER(H37), IF(H37=0, ASIN(SQRT(1/(4*Input2!$D$41))), IF(H37=1,ASIN(SQRT(1-1/(4*Input2!$D$41))),ASIN(SQRT(H37)))),\"\")))","v":{"$error":"#N/A"}},{"$f":"IF(Start!$B$17=\"input1\",IF(ISBLANK(Input1!J32), \"\",Input1!J32), IF(I$2=\"\",\"\",IF(ISNUMBER(I37), IF(I37=0, ASIN(SQRT(1/(4*Input2!$D$41))), IF(I37=1,ASIN(SQRT(1-1/(4*Input2!$D$41))),ASIN(SQRT(I37)))),\"\")))","v":{"$error":"#N/A"}},null,12,{"$f":"IF(Start!$B$17=\"input1\",IF(ISBLANK(Input1!C32), \"\",Input1!C32), IF(L$2=\"\",\"\",IF(ISNUMBER(B37), IF(B37=0, ASIN(SQRT(1/(4*Input2!$D$41))), IF(B37=1,ASIN(SQRT(1-1/(4*Input2!$D$41))),ASIN(SQRT(B37)))),\"\")))","v":{"$error":"#N/A"}},{"$f":"IF(Start!$B$17=\"input1\",IF(ISBLANK(Input1!D32), \"\",Input1!D32), IF(M$2=\"\",\"\",IF(ISNUMBER(C37), IF(C37=0, ASIN(SQRT(1/(4*Input2!$D$41))), IF(C37=1,ASIN(SQRT(1-1/(4*Input2!$D$41))),ASIN(SQRT(C37)))),\"\")))","v":{"$error":"#N/A"}},{"$f":"IF(Start!$B$17=\"input1\",IF(ISBLANK(Input1!E32), \"\",Input1!E32), IF(N$2=\"\",\"\",IF(ISNUMBER(D37), IF(D37=0, ASIN(SQRT(1/(4*Input2!$D$41))), IF(D37=1,ASIN(SQRT(1-1/(4*Input2!$D$41))),ASIN(SQRT(D37)))),\"\")))","v":{"$error":"#N/A"}},{"$f":"IF(Start!$B$17=\"input1\",IF(ISBLANK(Input1!F32), \"\",Input1!F32), IF(O$2=\"\",\"\",IF(ISNUMBER(E37), IF(E37=0, ASIN(SQRT(1/(4*Input2!$D$41))), IF(E37=1,ASIN(SQRT(1-1/(4*Input2!$D$41))),ASIN(SQRT(E37)))),\"\")))","v":{"$error":"#N/A"}},{"$f":"IF(Start!$B$17=\"input1\",IF(ISBLANK(Input1!G32), \"\",Input1!G32), IF(P$2=\"\",\"\",IF(ISNUMBER(F37), IF(F37=0, ASIN(SQRT(1/(4*Input2!$D$41))), IF(F37=1,ASIN(SQRT(1-1/(4*Input2!$D$41))),ASIN(SQRT(F37)))),\"\")))","v":{"$error":"#N/A"}},{"$f":"IF(Start!$B$17=\"input1\",IF(ISBLANK(Input1!H32), \"\",Input1!H32), IF(Q$2=\"\",\"\",IF(ISNUMBER(G37), IF(G37=0, ASIN(SQRT(1/(4*Input2!$D$41))), IF(G37=1,ASIN(SQRT(1-1/(4*Input2!$D$41))),ASIN(SQRT(G37)))),\"\")))","v":{"$error":"#N/A"}},{"$f":"IF(Start!$B$17=\"input1\",IF(ISBLANK(Input1!I32), \"\",Input1!I32), IF(R$2=\"\",\"\",IF(ISNUMBER(H37), IF(H37=0, ASIN(SQRT(1/(4*Input2!$D$41))), IF(H37=1,ASIN(SQRT(1-1/(4*Input2!$D$41))),ASIN(SQRT(H37)))),\"\")))","v":{"$error":"#N/A"}},{"$f":"IF(Start!$B$17=\"input1\",IF(ISBLANK(Input1!J32), \"\",Input1!J32), IF(S$2=\"\",\"\",IF(ISNUMBER(I37), IF(I37=0, ASIN(SQRT(1/(4*Input2!$D$41))), IF(I37=1,ASIN(SQRT(1-1/(4*Input2!$D$41))),ASIN(SQRT(I37)))),\"\")))","v":{"$error":"#N/A"}}]
[13,{"$f":"IF(Start!$B$17=\"input1\",IF(ISBLANK(Input1!C33), \"\",Input1!C33), IF(B$2=\"\",\"\",IF(ISNUMBER(B38), IF(B38=0, ASIN(SQRT(1/(4*Input2!$D$41))), IF(B38=1,ASIN(SQRT(1-1/(4*Input2!$D$41))),ASIN(SQRT(B38)))),\"\")))","v":{"$error":"#N/A"}},{"$f":"IF(Start!$B$17=\"input1\",IF(ISBLANK(Input1!D33), \"\",Input1!D33), IF(C$2=\"\",\"\",IF(ISNUMBER(C38), IF(C38=0, ASIN(SQRT(1/(4*Input2!$D$41))), IF(C38=1,ASIN(SQRT(1-1/(4*Input2!$D$41))),ASIN(SQRT(C38)))),\"\")))","v":{"$error":"#N/A"}},{"$f":"IF(Start!$B$17=\"input1\",IF(ISBLANK(Input1!E33), \"\",Input1!E33), IF(D$2=\"\",\"\",IF(ISNUMBER(D38), IF(D38=0, ASIN(SQRT(1/(4*Input2!$D$41))), IF(D38=1,ASIN(SQRT(1-1/(4*Input2!$D$41))),ASIN(SQRT(D38)))),\"\")))","v":{"$error":"#N/A"}},{"$f":"IF(Start!$B$17=\"input1\",IF(ISBLANK(Input1!F33), \"\",Input1!F33), IF(E$2=\"\",\"\",IF(ISNUMBER(E38), IF(E38=0, ASIN(SQRT(1/(4*Input2!$D$41))), IF(E38=1,ASIN(SQRT(1-1/(4*Input2!$D$41))),ASIN(SQRT(E38)))),\"\")))","v":{"$error":"#N/A"}},{"$f":"IF(Start!$B$17=\"input1\",IF(ISBLANK(Input1!G33), \"\",Input1!G33), IF(F$2=\"\",\"\",IF(ISNUMBER(F38), IF(F38=0, ASIN(SQRT(1/(4*Input2!$D$41))), IF(F38=1,ASIN(SQRT(1-1/(4*Input2!$D$41))),ASIN(SQRT(F38)))),\"\")))","v":{"$error":"#N/A"}},{"$f":"IF(Start!$B$17=\"input1\",IF(ISBLANK(Input1!H33), \"\",Input1!H33), IF(G$2=\"\",\"\",IF(ISNUMBER(G38), IF(G38=0, ASIN(SQRT(1/(4*Input2!$D$41))), IF(G38=1,ASIN(SQRT(1-1/(4*Input2!$D$41))),ASIN(SQRT(G38)))),\"\")))","v":{"$error":"#N/A"}},{"$f":"IF(Start!$B$17=\"input1\",IF(ISBLANK(Input1!I33), \"\",Input1!I33), IF(H$2=\"\",\"\",IF(ISNUMBER(H38), IF(H38=0, ASIN(SQRT(1/(4*Input2!$D$41))), IF(H38=1,ASIN(SQRT(1-1/(4*Input2!$D$41))),ASIN(SQRT(H38)))),\"\")))","v":{"$error":"#N/A"}},{"$f":"IF(Start!$B$17=\"input1\",IF(ISBLANK(Input1!J33), \"\",Input1!J33), IF(I$2=\"\",\"\",IF(ISNUMBER(I38), IF(I38=0, ASIN(SQRT(1/(4*Input2!$D$41))), IF(I38=1,ASIN(SQRT(1-1/(4*Input2!$D$41))),ASIN(SQRT(I38)))),\"\")))","v":{"$error":"#N/A"}},null,13,{"$f":"IF(Start!$B$17=\"input1\",IF(ISBLANK(Input1!C33), \"\",Input1!C33), IF(L$2=\"\",\"\",IF(ISNUMBER(B38), IF(B38=0, ASIN(SQRT(1/(4*Input2!$D$41))), IF(B38=1,ASIN(SQRT(1-1/(4*Input2!$D$41))),ASIN(SQRT(B38)))),\"\")))","v":{"$error":"#N/A"}},{"$f":"IF(Start!$B$17=\"input1\",IF(ISBLANK(Input1!D33), \"\",Input1!D33), IF(M$2=\"\",\"\",IF(ISNUMBER(C38), IF(C38=0, ASIN(SQRT(1/(4*Input2!$D$41))), IF(C38=1,ASIN(SQRT(1-1/(4*Input2!$D$41))),ASIN(SQRT(C38)))),\"\")))","v":{"$error":"#N/A"}},{"$f":"IF(Start!$B$17=\"input1\",IF(ISBLANK(Input1!E33), \"\",Input1!E33), IF(N$2=\"\",\"\",IF(ISNUMBER(D38), IF(D38=0, ASIN(SQRT(1/(4*Input2!$D$41))), IF(D38=1,ASIN(SQRT(1-1/(4*Input2!$D$41))),ASIN(SQRT(D38)))),\"\")))","v":{"$error":"#N/A"}},{"$f":"IF(Start!$B$17=\"input1\",IF(ISBLANK(Input1!F33), \"\",Input1!F33), IF(O$2=\"\",\"\",IF(ISNUMBER(E38), IF(E38=0, ASIN(SQRT(1/(4*Input2!$D$41))), IF(E38=1,ASIN(SQRT(1-1/(4*Input2!$D$41))),ASIN(SQRT(E38)))),\"\")))","v":{"$error":"#N/A"}},{"$f":"IF(Start!$B$17=\"input1\",IF(ISBLANK(Input1!G33), \"\",Input1!G33), IF(P$2=\"\",\"\",IF(ISNUMBER(F38), IF(F38=0, ASIN(SQRT(1/(4*Input2!$D$41))), IF(F38=1,ASIN(SQRT(1-1/(4*Input2!$D$41))),ASIN(SQRT(F38)))),\"\")))","v":{"$error":"#N/A"}},{"$f":"IF(Start!$B$17=\"input1\",IF(ISBLANK(Input1!H33), \"\",Input1!H33), IF(Q$2=\"\",\"\",IF(ISNUMBER(G38), IF(G38=0, ASIN(SQRT(1/(4*Input2!$D$41))), IF(G38=1,ASIN(SQRT(1-1/(4*Input2!$D$41))),ASIN(SQRT(G38)))),\"\")))","v":{"$error":"#N/A"}},{"$f":"IF(Start!$B$17=\"input1\",IF(ISBLANK(Input1!I33), \"\",Input1!I33), IF(R$2=\"\",\"\",IF(ISNUMBER(H38), IF(H38=0, ASIN(SQRT(1/(4*Input2!$D$41))), IF(H38=1,ASIN(SQRT(1-1/(4*Input2!$D$41))),ASIN(SQRT(H38)))),\"\")))","v":{"$error":"#N/A"}},{"$f":"IF(Start!$B$17=\"input1\",IF(ISBLANK(Input1!J33), \"\",Input1!J33), IF(S$2=\"\",\"\",IF(ISNUMBER(I38), IF(I38=0, ASIN(SQRT(1/(4*Input2!$D$41))), IF(I38=1,ASIN(SQRT(1-1/(4*Input2!$D$41))),ASIN(SQRT(I38)))),\"\")))","v":{"$error":"#N/A"}}]
[14,{"$f":"IF(Start!$B$17=\"input1\",IF(ISBLANK(Input1!C34), \"\",Input1!C34), IF(B$2=\"\",\"\",IF(ISNUMBER(B39), IF(B39=0, ASIN(SQRT(1/(4*Input2!$D$41))), IF(B39=1,ASIN(SQRT(1-1/(4*Input2!$D$41))),ASIN(SQRT(B39)))),\"\")))","v":{"$error":"#N/A"}},{"$f":"IF(Start!$B$17=\"input1\",IF(ISBLANK(Input1!D34), \"\",Input1!D34), IF(C$2=\"\",\"\",IF(ISNUMBER(C39), IF(C39=0, ASIN(SQRT(1/(4*Input2!$D$41))), IF(C39=1,ASIN(SQRT(1-1/(4*Input2!$D$41))),ASIN(SQRT(C39)))),\"\")))","v":{"$error":"#N/A"}},{"$f":"IF(Start!$B$17=\"input1\",IF(ISBLANK(Input1!E34), \"\",Input1!E34), IF(D$2=\"\",\"\",IF(ISNUMBER(D39), IF(D39=0, ASIN(SQRT(1/(4*Input2!$D$41))), IF(D39=1,ASIN(SQRT(1-1/(4*Input2!$D$41))),ASIN(SQRT(D39)))),\"\")))","v":{"$error":"#N/A"}},{"$f":"IF(Start!$B$17=\"input1\",IF(ISBLANK(Input1!F34), \"\",Input1!F34), IF(E$2=\"\",\"\",IF(ISNUMBER(E39), IF(E39=0, ASIN(SQRT(1/(4*Input2!$D$41))), IF(E39=1,ASIN(SQRT(1-1/(4*Input2!$D$41))),ASIN(SQRT(E39)))),\"\")))","v":{"$error":"#N/A"}},{"$f":"IF(Start!$B$17=\"input1\",IF(ISBLANK(Input1!G34), \"\",Input1!G34), IF(F$2=\"\",\"\",IF(ISNUMBER(F39), IF(F39=0, ASIN(SQRT(1/(4*Input2!$D$41))), IF(F39=1,ASIN(SQRT(1-1/(4*Input2!$D$41))),ASIN(SQRT(F39)))),\"\")))","v":{"$error":"#N/A"}},{"$f":"IF(Start!$B$17=\"input1\",IF(ISBLANK(Input1!H34), \"\",Input1!H34), IF(G$2=\"\",\"\",IF(ISNUMBER(G39), IF(G39=0, ASIN(SQRT(1/(4*Input2!$D$41))), IF(G39=1,ASIN(SQRT(1-1/(4*Input2!$D$41))),ASIN(SQRT(G39)))),\"\")))","v":{"$error":"#N/A"}},{"$f":"IF(Start!$B$17=\"input1\",IF(ISBLANK(Input1!I34), \"\",Input1!I34), IF(H$2=\"\",\"\",IF(ISNUMBER(H39), IF(H39=0, ASIN(SQRT(1/(4*Input2!$D$41))), IF(H39=1,ASIN(SQRT(1-1/(4*Input2!$D$41))),ASIN(SQRT(H39)))),\"\")))","v":{"$error":"#N/A"}},{"$f":"IF(Start!$B$17=\"input1\",IF(ISBLANK(Input1!J34), \"\",Input1!J34), IF(I$2=\"\",\"\",IF(ISNUMBER(I39), IF(I39=0, ASIN(SQRT(1/(4*Input2!$D$41))), IF(I39=1,ASIN(SQRT(1-1/(4*Input2!$D$41))),ASIN(SQRT(I39)))),\"\")))","v":{"$error":"#N/A"}},null,14,{"$f":"IF(Start!$B$17=\"input1\",IF(ISBLANK(Input1!C34), \"\",Input1!C34), IF(L$2=\"\",\"\",IF(ISNUMBER(B39), IF(B39=0, ASIN(SQRT(1/(4*Input2!$D$41))), IF(B39=1,ASIN(SQRT(1-1/(4*Input2!$D$41))),ASIN(SQRT(B39)))),\"\")))","v":{"$error":"#N/A"}},{"$f":"IF(Start!$B$17=\"input1\",IF(ISBLANK(Input1!D34), \"\",Input1!D34), IF(M$2=\"\",\"\",IF(ISNUMBER(C39), IF(C39=0, ASIN(SQRT(1/(4*Input2!$D$41))), IF(C39=1,ASIN(SQRT(1-1/(4*Input2!$D$41))),ASIN(SQRT(C39)))),\"\")))","v":{"$error":"#N/A"}},{"$f":"IF(Start!$B$17=\"input1\",IF(ISBLANK(Input1!E34), \"\",Input1!E34), IF(N$2=\"\",\"\",IF(ISNUMBER(D39), IF(D39=0, ASIN(SQRT(1/(4*Input2!$D$41))), IF(D39=1,ASIN(SQRT(1-1/(4*Input2!$D$41))),ASIN(SQRT(D39)))),\"\")))","v":{"$error":"#N/A"}},{"$f":"IF(Start!$B$17=\"input1\",IF(ISBLANK(Input1!F34), \"\",Input1!F34), IF(O$2=\"\",\"\",IF(ISNUMBER(E39), IF(E39=0, ASIN(SQRT(1/(4*Input2!$D$41))), IF(E39=1,ASIN(SQRT(1-1/(4*Input2!$D$41))),ASIN(SQRT(E39)))),\"\")))","v":{"$error":"#N/A"}},{"$f":"IF(Start!$B$17=\"input1\",IF(ISBLANK(Input1!G34), \"\",Input1!G34), IF(P$2=\"\",\"\",IF(ISNUMBER(F39), IF(F39=0, ASIN(SQRT(1/(4*Input2!$D$41))), IF(F39=1,ASIN(SQRT(1-1/(4*Input2!$D$41))),ASIN(SQRT(F39)))),\"\")))","v":{"$error":"#N/A"}},{"$f":"IF(Start!$B$17=\"input1\",IF(ISBLANK(Input1!H34), \"\",Input1!H34), IF(Q$2=\"\",\"\",IF(ISNUMBER(G39), IF(G39=0, ASIN(SQRT(1/(4*Input2!$D$41))), IF(G39=1,ASIN(SQRT(1-1/(4*Input2!$D$41))),ASIN(SQRT(G39)))),\"\")))","v":{"$error":"#N/A"}},{"$f":"IF(Start!$B$17=\"input1\",IF(ISBLANK(Input1!I34), \"\",Input1!I34), IF(R$2=\"\",\"\",IF(ISNUMBER(H39), IF(H39=0, ASIN(SQRT(1/(4*Input2!$D$41))), IF(H39=1,ASIN(SQRT(1-1/(4*Input2!$D$41))),ASIN(SQRT(H39)))),\"\")))","v":{"$error":"#N/A"}},{"$f":"IF(Start!$B$17=\"input1\",IF(ISBLANK(Input1!J34), \"\",Input1!J34), IF(S$2=\"\",\"\",IF(ISNUMBER(I39), IF(I39=0, ASIN(SQRT(1/(4*Input2!$D$41))), IF(I39=1,ASIN(SQRT(1-1/(4*Input2!$D$41))),ASIN(SQRT(I39)))),\"\")))","v":{"$error":"#N/A"}}]
[15,{"$f":"IF(Start!$B$17=\"input1\",IF(ISBLANK(Input1!C35), \"\",Input1!C35), IF(B$2=\"\",\"\",IF(ISNUMBER(B40), IF(B40=0, ASIN(SQRT(1/(4*Input2!$D$41))), IF(B40=1,ASIN(SQRT(1-1/(4*Input2!$D$41))),ASIN(SQRT(B40)))),\"\")))","v":{"$error":"#N/A"}},{"$f":"IF(Start!$B$17=\"input1\",IF(ISBLANK(Input1!D35), \"\",Input1!D35), IF(C$2=\"\",\"\",IF(ISNUMBER(C40), IF(C40=0, ASIN(SQRT(1/(4*Input2!$D$41))), IF(C40=1,ASIN(SQRT(1-1/(4*Input2!$D$41))),ASIN(SQRT(C40)))),\"\")))","v":{"$error":"#N/A"}},{"$f":"IF(Start!$B$17=\"input1\",IF(ISBLANK(Input1!E35), \"\",Input1!E35), IF(D$2=\"\",\"\",IF(ISNUMBER(D40), IF(D40=0, ASIN(SQRT(1/(4*Input2!$D$41))), IF(D40=1,ASIN(SQRT(1-1/(4*Input2!$D$41))),ASIN(SQRT(D40)))),\"\")))","v":{"$error":"#N/A"}},{"$f":"IF(Start!$B$17=\"input1\",IF(ISBLANK(Input1!F35), \"\",Input1!F35), IF(E$2=\"\",\"\",IF(ISNUMBER(E40), IF(E40=0, ASIN(SQRT(1/(4*Input2!$D$41))), IF(E40=1,ASIN(SQRT(1-1/(4*Input2!$D$41))),ASIN(SQRT(E40)))),\"\")))","v":{"$error":"#N/A"}},{"$f":"IF(Start!$B$17=\"input1\",IF(ISBLANK(Input1!G35), \"\",Input1!G35), IF(F$2=\"\",\"\",IF(ISNUMBER(F40), IF(F40=0, ASIN(SQRT(1/(4*Input2!$D$41))), IF(F40=1,ASIN(SQRT(1-1/(4*Input2!$D$41))),ASIN(SQRT(F40)))),\"\")))","v":{"$error":"#N/A"}},{"$f":"IF(Start!$B$17=\"input1\",IF(ISBLANK(Input1!H35), \"\",Input1!H35), IF(G$2=\"\",\"\",IF(ISNUMBER(G40), IF(G40=0, ASIN(SQRT(1/(4*Input2!$D$41))), IF(G40=1,ASIN(SQRT(1-1/(4*Input2!$D$41))),ASIN(SQRT(G40)))),\"\")))","v":{"$error":"#N/A"}},{"$f":"IF(Start!$B$17=\"input1\",IF(ISBLANK(Input1!I35), \"\",Input1!I35), IF(H$2=\"\",\"\",IF(ISNUMBER(H40), IF(H40=0, ASIN(SQRT(1/(4*Input2!$D$41))), IF(H40=1,ASIN(SQRT(1-1/(4*Input2!$D$41))),ASIN(SQRT(H40)))),\"\")))","v":{"$error":"#N/A"}},{"$f":"IF(Start!$B$17=\"input1\",IF(ISBLANK(Input1!J35), \"\",Input1!J35), IF(I$2=\"\",\"\",IF(ISNUMBER(I40), IF(I40=0, ASIN(SQRT(1/(4*Input2!$D$41))), IF(I40=1,ASIN(SQRT(1-1/(4*Input2!$D$41))),ASIN(SQRT(I40)))),\"\")))","v":{"$error":"#N/A"}},null,15,{"$f":"IF(Start!$B$17=\"input1\",IF(ISBLANK(Input1!C35), \"\",Input1!C35), IF(L$2=\"\",\"\",IF(ISNUMBER(B40), IF(B40=0, ASIN(SQRT(1/(4*Input2!$D$41))), IF(B40=1,ASIN(SQRT(1-1/(4*Input2!$D$41))),ASIN(SQRT(B40)))),\"\")))","v":{"$error":"#N/A"}},{"$f":"IF(Start!$B$17=\"input1\",IF(ISBLANK(Input1!D35), \"\",Input1!D35), IF(M$2=\"\",\"\",IF(ISNUMBER(C40), IF(C40=0, ASIN(SQRT(1/(4*Input2!$D$41))), IF(C40=1,ASIN(SQRT(1-1/(4*Input2!$D$41))),ASIN(SQRT(C40)))),\"\")))","v":{"$error":"#N/A"}},{"$f":"IF(Start!$B$17=\"input1\",IF(ISBLANK(Input1!E35), \"\",Input1!E35), IF(N$2=\"\",\"\",IF(ISNUMBER(D40), IF(D40=0, ASIN(SQRT(1/(4*Input2!$D$41))), IF(D40=1,ASIN(SQRT(1-1/(4*Input2!$D$41))),ASIN(SQRT(D40)))),\"\")))","v":{"$error":"#N/A"}},{"$f":"IF(Start!$B$17=\"input1\",IF(ISBLANK(Input1!F35), \"\",Input1!F35), IF(O$2=\"\",\"\",IF(ISNUMBER(E40), IF(E40=0, ASIN(SQRT(1/(4*Input2!$D$41))), IF(E40=1,ASIN(SQRT(1-1/(4*Input2!$D$41))),ASIN(SQRT(E40)))),\"\")))","v":{"$error":"#N/A"}},{"$f":"IF(Start!$B$17=\"input1\",IF(ISBLANK(Input1!G35), \"\",Input1!G35), IF(P$2=\"\",\"\",IF(ISNUMBER(F40), IF(F40=0, ASIN(SQRT(1/(4*Input2!$D$41))), IF(F40=1,ASIN(SQRT(1-1/(4*Input2!$D$41))),ASIN(SQRT(F40)))),\"\")))","v":{"$error":"#N/A"}},{"$f":"IF(Start!$B$17=\"input1\",IF(ISBLANK(Input1!H35), \"\",Input1!H35), IF(Q$2=\"\",\"\",IF(ISNUMBER(G40), IF(G40=0, ASIN(SQRT(1/(4*Input2!$D$41))), IF(G40=1,ASIN(SQRT(1-1/(4*Input2!$D$41))),ASIN(SQRT(G40)))),\"\")))","v":{"$error":"#N/A"}},{"$f":"IF(Start!$B$17=\"input1\",IF(ISBLANK(Input1!I35), \"\",Input1!I35), IF(R$2=\"\",\"\",IF(ISNUMBER(H40), IF(H40=0, ASIN(SQRT(1/(4*Input2!$D$41))), IF(H40=1,ASIN(SQRT(1-1/(4*Input2!$D$41))),ASIN(SQRT(H40)))),\"\")))","v":{"$error":"#N/A"}},{"$f":"IF(Start!$B$17=\"input1\",IF(ISBLANK(Input1!J35), \"\",Input1!J35), IF(S$2=\"\",\"\",IF(ISNUMBER(I40), IF(I40=0, ASIN(SQRT(1/(4*Input2!$D$41))), IF(I40=1,ASIN(SQRT(1-1/(4*Input2!$D$41))),ASIN(SQRT(I40)))),\"\")))","v":{"$error":"#N/A"}}]
[16,{"$f":"IF(Start!$B$17=\"input1\",IF(ISBLANK(Input1!C36), \"\",Input1!C36), IF(B$2=\"\",\"\",IF(ISNUMBER(B41), IF(B41=0, ASIN(SQRT(1/(4*Input2!$D$41))), IF(B41=1,ASIN(SQRT(1-1/(4*Input2!$D$41))),ASIN(SQRT(B41)))),\"\")))","v":{"$error":"#N/A"}},{"$f":"IF(Start!$B$17=\"input1\",IF(ISBLANK(Input1!D36), \"\",Input1!D36), IF(C$2=\"\",\"\",IF(ISNUMBER(C41), IF(C41=0, ASIN(SQRT(1/(4*Input2!$D$41))), IF(C41=1,ASIN(SQRT(1-1/(4*Input2!$D$41))),ASIN(SQRT(C41)))),\"\")))","v":{"$error":"#N/A"}},{"$f":"IF(Start!$B$17=\"input1\",IF(ISBLANK(Input1!E36), \"\",Input1!E36), IF(D$2=\"\",\"\",IF(ISNUMBER(D41), IF(D41=0, ASIN(SQRT(1/(4*Input2!$D$41))), IF(D41=1,ASIN(SQRT(1-1/(4*Input2!$D$41))),ASIN(SQRT(D41)))),\"\")))","v":{"$error":"#N/A"}},{"$f":"IF(Start!$B$17=\"input1\",IF(ISBLANK(Input1!F36), \"\",Input1!F36), IF(E$2=\"\",\"\",IF(ISNUMBER(E41), IF(E41=0, ASIN(SQRT(1/(4*Input2!$D$41))), IF(E41=1,ASIN(SQRT(1-1/(4*Input2!$D$41))),ASIN(SQRT(E41)))),\"\")))","v":{"$error":"#N/A"}},{"$f":"IF(Start!$B$17=\"input1\",IF(ISBLANK(Input1!G36), \"\",Input1!G36), IF(F$2=\"\",\"\",IF(ISNUMBER(F41), IF(F41=0, ASIN(SQRT(1/(4*Input2!$D$41))), IF(F41=1,ASIN(SQRT(1-1/(4*Input2!$D$41))),ASIN(SQRT(F41)))),\"\")))","v":{"$error":"#N/A"}},{"$f":"IF(Start!$B$17=\"input1\",IF(ISBLANK(Input1!H36), \"\",Input1!H36), IF(G$2=\"\",\"\",IF(ISNUMBER(G41), IF(G41=0, ASIN(SQRT(1/(4*Input2!$D$41))), IF(G41=1,ASIN(SQRT(1-1/(4*Input2!$D$41))),ASIN(SQRT(G41)))),\"\")))","v":{"$error":"#N/A"}},{"$f":"IF(Start!$B$17=\"input1\",IF(ISBLANK(Input1!I36), \"\",Input1!I36), IF(H$2=\"\",\"\",IF(ISNUMBER(H41), IF(H41=0, ASIN(SQRT(1/(4*Input2!$D$41))), IF(H41=1,ASIN(SQRT(1-1/(4*Input2!$D$41))),ASIN(SQRT(H41)))),\"\")))","v":{"$error":"#N/A"}},{"$f":"IF(Start!$B$17=\"input1\",IF(ISBLANK(Input1!J36), \"\",Input1!J36), IF(I$2=\"\",\"\",IF(ISNUMBER(I41), IF(I41=0, ASIN(SQRT(1/(4*Input2!$D$41))), IF(I41=1,ASIN(SQRT(1-1/(4*Input2!$D$41))),ASIN(SQRT(I41)))),\"\")))","v":{"$error":"#N/A"}},null,16,{"$f":"IF(Start!$B$17=\"input1\",IF(ISBLANK(Input1!C36), \"\",Input1!C36), IF(L$2=\"\",\"\",IF(ISNUMBER(B41), IF(B41=0, ASIN(SQRT(1/(4*Input2!$D$41))), IF(B41=1,ASIN(SQRT(1-1/(4*Input2!$D$41))),ASIN(SQRT(B41)))),\"\")))","v":{"$error":"#N/A"}},{"$f":"IF(Start!$B$17=\"input1\",IF(ISBLANK(Input1!D36), \"\",Input1!D36), IF(M$2=\"\",\"\",IF(ISNUMBER(C41), IF(C41=0, ASIN(SQRT(1/(4*Input2!$D$41))), IF(C41=1,ASIN(SQRT(1-1/(4*Input2!$D$41))),ASIN(SQRT(C41)))),\"\")))","v":{"$error":"#N/A"}},{"$f":"IF(Start!$B$17=\"input1\",IF(ISBLANK(Input1!E36), \"\",Input1!E36), IF(N$2=\"\",\"\",IF(ISNUMBER(D41), IF(D41=0, ASIN(SQRT(1/(4*Input2!$D$41))), IF(D41=1,ASIN(SQRT(1-1/(4*Input2!$D$41))),ASIN(SQRT(D41)))),\"\")))","v":{"$error":"#N/A"}},{"$f":"IF(Start!$B$17=\"input1\",IF(ISBLANK(Input1!F36), \"\",Input1!F36), IF(O$2=\"\",\"\",IF(ISNUMBER(E41), IF(E41=0, ASIN(SQRT(1/(4*Input2!$D$41))), IF(E41=1,ASIN(SQRT(1-1/(4*Input2!$D$41))),ASIN(SQRT(E41)))),\"\")))","v":{"$error":"#N/A"}},{"$f":"IF(Start!$B$17=\"input1\",IF(ISBLANK(Input1!G36), \"\",Input1!G36), IF(P$2=\"\",\"\",IF(ISNUMBER(F41), IF(F41=0, ASIN(SQRT(1/(4*Input2!$D$41))), IF(F41=1,ASIN(SQRT(1-1/(4*Input2!$D$41))),ASIN(SQRT(F41)))),\"\")))","v":{"$error":"#N/A"}},{"$f":"IF(Start!$B$17=\"input1\",IF(ISBLANK(Input1!H36), \"\",Input1!H36), IF(Q$2=\"\",\"\",IF(ISNUMBER(G41), IF(G41=0, ASIN(SQRT(1/(4*Input2!$D$41))), IF(G41=1,ASIN(SQRT(1-1/(4*Input2!$D$41))),ASIN(SQRT(G41)))),\"\")))","v":{"$error":"#N/A"}},{"$f":"IF(Start!$B$17=\"input1\",IF(ISBLANK(Input1!I36), \"\",Input1!I36), IF(R$2=\"\",\"\",IF(ISNUMBER(H41), IF(H41=0, ASIN(SQRT(1/(4*Input2!$D$41))), IF(H41=1,ASIN(SQRT(1-1/(4*Input2!$D$41))),ASIN(SQRT(H41)))),\"\")))","v":{"$error":"#N/A"}},{"$f":"IF(Start!$B$17=\"input1\",IF(ISBLANK(Input1!J36), \"\",Input1!J36), IF(S$2=\"\",\"\",IF(ISNUMBER(I41), IF(I41=0, ASIN(SQRT(1/(4*Input2!$D$41))), IF(I41=1,ASIN(SQRT(1-1/(4*Input2!$D$41))),ASIN(SQRT(I41)))),\"\")))","v":{"$error":"#N/A"}}]
[17,{"$f":"IF(Start!$B$17=\"input1\",IF(ISBLANK(Input1!C37), \"\",Input1!C37), IF(B$2=\"\",\"\",IF(ISNUMBER(B42), IF(B42=0, ASIN(SQRT(1/(4*Input2!$D$41))), IF(B42=1,ASIN(SQRT(1-1/(4*Input2!$D$41))),ASIN(SQRT(B42)))),\"\")))","v":{"$error":"#N/A"}},{"$f":"IF(Start!$B$17=\"input1\",IF(ISBLANK(Input1!D37), \"\",Input1!D37), IF(C$2=\"\",\"\",IF(ISNUMBER(C42), IF(C42=0, ASIN(SQRT(1/(4*Input2!$D$41))), IF(C42=1,ASIN(SQRT(1-1/(4*Input2!$D$41))),ASIN(SQRT(C42)))),\"\")))","v":{"$error":"#N/A"}},{"$f":"IF(Start!$B$17=\"input1\",IF(ISBLANK(Input1!E37), \"\",Input1!E37), IF(D$2=\"\",\"\",IF(ISNUMBER(D42), IF(D42=0, ASIN(SQRT(1/(4*Input2!$D$41))), IF(D42=1,ASIN(SQRT(1-1/(4*Input2!$D$41))),ASIN(SQRT(D42)))),\"\")))","v":{"$error":"#N/A"}},{"$f":"IF(Start!$B$17=\"input1\",IF(ISBLANK(Input1!F37), \"\",Input1!F37), IF(E$2=\"\",\"\",IF(ISNUMBER(E42), IF(E42=0, ASIN(SQRT(1/(4*Input2!$D$41))), IF(E42=1,ASIN(SQRT(1-1/(4*Input2!$D$41))),ASIN(SQRT(E42)))),\"\")))","v":{"$error":"#N/A"}},{"$f":"IF(Start!$B$17=\"input1\",IF(ISBLANK(Input1!G37), \"\",Input1!G37), IF(F$2=\"\",\"\",IF(ISNUMBER(F42), IF(F42=0, ASIN(SQRT(1/(4*Input2!$D$41))), IF(F42=1,ASIN(SQRT(1-1/(4*Input2!$D$41))),ASIN(SQRT(F42)))),\"\")))","v":{"$error":"#N/A"}},{"$f":"IF(Start!$B$17=\"input1\",IF(ISBLANK(Input1!H37), \"\",Input1!H37), IF(G$2=\"\",\"\",IF(ISNUMBER(G42), IF(G42=0, ASIN(SQRT(1/(4*Input2!$D$41))), IF(G42=1,ASIN(SQRT(1-1/(4*Input2!$D$41))),ASIN(SQRT(G42)))),\"\")))","v":{"$error":"#N/A"}},{"$f":"IF(Start!$B$17=\"input1\",IF(ISBLANK(Input1!I37), \"\",Input1!I37), IF(H$2=\"\",\"\",IF(ISNUMBER(H42), IF(H42=0, ASIN(SQRT(1/(4*Input2!$D$41))), IF(H42=1,ASIN(SQRT(1-1/(4*Input2!$D$41))),ASIN(SQRT(H42)))),\"\")))","v":{"$error":"#N/A"}},{"$f":"IF(Start!$B$17=\"input1\",IF(ISBLANK(Input1!J37), \"\",Input1!J37), IF(I$2=\"\",\"\",IF(ISNUMBER(I42), IF(I42=0, ASIN(SQRT(1/(4*Input2!$D$41))), IF(I42=1,ASIN(SQRT(1-1/(4*Input2!$D$41))),ASIN(SQRT(I42)))),\"\")))","v":{"$error":"#N/A"}},null,17,{"$f":"IF(Start!$B$17=\"input1\",IF(ISBLANK(Input1!C37), \"\",Input1!C37), IF(L$2=\"\",\"\",IF(ISNUMBER(B42), IF(B42=0, ASIN(SQRT(1/(4*Input2!$D$41))), IF(B42=1,ASIN(SQRT(1-1/(4*Input2!$D$41))),ASIN(SQRT(B42)))),\"\")))","v":{"$error":"#N/A"}},{"$f":"IF(Start!$B$17=\"input1\",IF(ISBLANK(Input1!D37), \"\",Input1!D37), IF(M$2=\"\",\"\",IF(ISNUMBER(C42), IF(C42=0, ASIN(SQRT(1/(4*Input2!$D$41))), IF(C42=1,ASIN(SQRT(1-1/(4*Input2!$D$41))),ASIN(SQRT(C42)))),\"\")))","v":{"$error":"#N/A"}},{"$f":"IF(Start!$B$17=\"input1\",IF(ISBLANK(Input1!E37), \"\",Input1!E37), IF(N$2=\"\",\"\",IF(ISNUMBER(D42), IF(D42=0, ASIN(SQRT(1/(4*Input2!$D$41))), IF(D42=1,ASIN(SQRT(1-1/(4*Input2!$D$41))),ASIN(SQRT(D42)))),\"\")))","v":{"$error":"#N/A"}},{"$f":"IF(Start!$B$17=\"input1\",IF(ISBLANK(Input1!F37), \"\",Input1!F37), IF(O$2=\"\",\"\",IF(ISNUMBER(E42), IF(E42=0, ASIN(SQRT(1/(4*Input2!$D$41))), IF(E42=1,ASIN(SQRT(1-1/(4*Input2!$D$41))),ASIN(SQRT(E42)))),\"\")))","v":{"$error":"#N/A"}},{"$f":"IF(Start!$B$17=\"input1\",IF(ISBLANK(Input1!G37), \"\",Input1!G37), IF(P$2=\"\",\"\",IF(ISNUMBER(F42), IF(F42=0, ASIN(SQRT(1/(4*Input2!$D$41))), IF(F42=1,ASIN(SQRT(1-1/(4*Input2!$D$41))),ASIN(SQRT(F42)))),\"\")))","v":{"$error":"#N/A"}},{"$f":"IF(Start!$B$17=\"input1\",IF(ISBLANK(Input1!H37), \"\",Input1!H37), IF(Q$2=\"\",\"\",IF(ISNUMBER(G42), IF(G42=0, ASIN(SQRT(1/(4*Input2!$D$41))), IF(G42=1,ASIN(SQRT(1-1/(4*Input2!$D$41))),ASIN(SQRT(G42)))),\"\")))","v":{"$error":"#N/A"}},{"$f":"IF(Start!$B$17=\"input1\",IF(ISBLANK(Input1!I37), \"\",Input1!I37), IF(R$2=\"\",\"\",IF(ISNUMBER(H42), IF(H42=0, ASIN(SQRT(1/(4*Input2!$D$41))), IF(H42=1,ASIN(SQRT(1-1/(4*Input2!$D$41))),ASIN(SQRT(H42)))),\"\")))","v":{"$error":"#N/A"}},{"$f":"IF(Start!$B$17=\"input1\",IF(ISBLANK(Input1!J37), \"\",Input1!J37), IF(S$2=\"\",\"\",IF(ISNUMBER(I42), IF(I42=0, ASIN(SQRT(1/(4*Input2!$D$41))), IF(I42=1,ASIN(SQRT(1-1/(4*Input2!$D$41))),ASIN(SQRT(I42)))),\"\")))","v":{"$error":"#N/A"}}]
[18,{"$f":"IF(Start!$B$17=\"input1\",IF(ISBLANK(Input1!C38), \"\",Input1!C38), IF(B$2=\"\",\"\",IF(ISNUMBER(B43), IF(B43=0, ASIN(SQRT(1/(4*Input2!$D$41))), IF(B43=1,ASIN(SQRT(1-1/(4*Input2!$D$41))),ASIN(SQRT(B43)))),\"\")))","v":{"$error":"#N/A"}},{"$f":"IF(Start!$B$17=\"input1\",IF(ISBLANK(Input1!D38), \"\",Input1!D38), IF(C$2=\"\",\"\",IF(ISNUMBER(C43), IF(C43=0, ASIN(SQRT(1/(4*Input2!$D$41))), IF(C43=1,ASIN(SQRT(1-1/(4*Input2!$D$41))),ASIN(SQRT(C43)))),\"\")))","v":{"$error":"#N/A"}},{"$f":"IF(Start!$B$17=\"input1\",IF(ISBLANK(Input1!E38), \"\",Input1!E38), IF(D$2=\"\",\"\",IF(ISNUMBER(D43), IF(D43=0, ASIN(SQRT(1/(4*Input2!$D$41))), IF(D43=1,ASIN(SQRT(1-1/(4*Input2!$D$41))),ASIN(SQRT(D43)))),\"\")))","v":{"$error":"#N/A"}},{"$f":"IF(Start!$B$17=\"input1\",IF(ISBLANK(Input1!F38), \"\",Input1!F38), IF(E$2=\"\",\"\",IF(ISNUMBER(E43), IF(E43=0, ASIN(SQRT(1/(4*Input2!$D$41))), IF(E43=1,ASIN(SQRT(1-1/(4*Input2!$D$41))),ASIN(SQRT(E43)))),\"\")))","v":{"$error":"#N/A"}},{"$f":"IF(Start!$B$17=\"input1\",IF(ISBLANK(Input1!G38), \"\",Input1!G38), IF(F$2=\"\",\"\",IF(ISNUMBER(F43), IF(F43=0, ASIN(SQRT(1/(4*Input2!$D$41))), IF(F43=1,ASIN(SQRT(1-1/(4*Input2!$D$41))),ASIN(SQRT(F43)))),\"\")))","v":{"$error":"#N/A"}},{"$f":"IF(Start!$B$17=\"input1\",IF(ISBLANK(Input1!H38), \"\",Input1!H38), IF(G$2=\"\",\"\",IF(ISNUMBER(G43), IF(G43=0, ASIN(SQRT(1/(4*Input2!$D$41))), IF(G43=1,ASIN(SQRT(1-1/(4*Input2!$D$41))),ASIN(SQRT(G43)))),\"\")))","v":{"$error":"#N/A"}},{"$f":"IF(Start!$B$17=\"input1\",IF(ISBLANK(Input1!I38), \"\",Input1!I38), IF(H$2=\"\",\"\",IF(ISNUMBER(H43), IF(H43=0, ASIN(SQRT(1/(4*Input2!$D$41))), IF(H43=1,ASIN(SQRT(1-1/(4*Input2!$D$41))),ASIN(SQRT(H43)))),\"\")))","v":{"$error":"#N/A"}},{"$f":"IF(Start!$B$17=\"input1\",IF(ISBLANK(Input1!J38), \"\",Input1!J38), IF(I$2=\"\",\"\",IF(ISNUMBER(I43), IF(I43=0, ASIN(SQRT(1/(4*Input2!$D$41))), IF(I43=1,ASIN(SQRT(1-1/(4*Input2!$D$41))),ASIN(SQRT(I43)))),\"\")))","v":{"$error":"#N/A"}},null,18,{"$f":"IF(Start!$B$17=\"input1\",IF(ISBLANK(Input1!C38), \"\",Input1!C38), IF(L$2=\"\",\"\",IF(ISNUMBER(B43), IF(B43=0, ASIN(SQRT(1/(4*Input2!$D$41))), IF(B43=1,ASIN(SQRT(1-1/(4*Input2!$D$41))),ASIN(SQRT(B43)))),\"\")))","v":{"$error":"#N/A"}},{"$f":"IF(Start!$B$17=\"input1\",IF(ISBLANK(Input1!D38), \"\",Input1!D38), IF(M$2=\"\",\"\",IF(ISNUMBER(C43), IF(C43=0, ASIN(SQRT(1/(4*Input2!$D$41))), IF(C43=1,ASIN(SQRT(1-1/(4*Input2!$D$41))),ASIN(SQRT(C43)))),\"\")))","v":{"$error":"#N/A"}},{"$f":"IF(Start!$B$17=\"input1\",IF(ISBLANK(Input1!E38), \"\",Input1!E38), IF(N$2=\"\",\"\",IF(ISNUMBER(D43), IF(D43=0, ASIN(SQRT(1/(4*Input2!$D$41))), IF(D43=1,ASIN(SQRT(1-1/(4*Input2!$D$41))),ASIN(SQRT(D43)))),\"\")))","v":{"$error":"#N/A"}},{"$f":"IF(Start!$B$17=\"input1\",IF(ISBLANK(Input1!F38), \"\",Input1!F38), IF(O$2=\"\",\"\",IF(ISNUMBER(E43), IF(E43=0, ASIN(SQRT(1/(4*Input2!$D$41))), IF(E43=1,ASIN(SQRT(1-1/(4*Input2!$D$41))),ASIN(SQRT(E43)))),\"\")))","v":{"$error":"#N/A"}},{"$f":"IF(Start!$B$17=\"input1\",IF(ISBLANK(Input1!G38), \"\",Input1!G38), IF(P$2=\"\",\"\",IF(ISNUMBER(F43), IF(F43=0, ASIN(SQRT(1/(4*Input2!$D$41))), IF(F43=1,ASIN(SQRT(1-1/(4*Input2!$D$41))),ASIN(SQRT(F43)))),\"\")))","v":{"$error":"#N/A"}},{"$f":"IF(Start!$B$17=\"input1\",IF(ISBLANK(Input1!H38), \"\",Input1!H38), IF(Q$2=\"\",\"\",IF(ISNUMBER(G43), IF(G43=0, ASIN(SQRT(1/(4*Input2!$D$41))), IF(G43=1,ASIN(SQRT(1-1/(4*Input2!$D$41))),ASIN(SQRT(G43)))),\"\")))","v":{"$error":"#N/A"}},{"$f":"IF(Start!$B$17=\"input1\",IF(ISBLANK(Input1!I38), \"\",Input1!I38), IF(R$2=\"\",\"\",IF(ISNUMBER(H43), IF(H43=0, ASIN(SQRT(1/(4*Input2!$D$41))), IF(H43=1,ASIN(SQRT(1-1/(4*Input2!$D$41))),ASIN(SQRT(H43)))),\"\")))","v":{"$error":"#N/A"}},{"$f":"IF(Start!$B$17=\"input1\",IF(ISBLANK(Input1!J38), \"\",Input1!J38), IF(S$2=\"\",\"\",IF(ISNUMBER(I43), IF(I43=0, ASIN(SQRT(1/(4*Input2!$D$41))), IF(I43=1,ASIN(SQRT(1-1/(4*Input2!$D$41))),ASIN(SQRT(I43)))),\"\")))","v":{"$error":"#N/A"}}]
[19,{"$f":"IF(Start!$B$17=\"input1\",IF(ISBLANK(Input1!C39), \"\",Input1!C39), IF(B$2=\"\",\"\",IF(ISNUMBER(B44), IF(B44=0, ASIN(SQRT(1/(4*Input2!$D$41))), IF(B44=1,ASIN(SQRT(1-1/(4*Input2!$D$41))),ASIN(SQRT(B44)))),\"\")))","v":{"$error":"#N/A"}},{"$f":"IF(Start!$B$17=\"input1\",IF(ISBLANK(Input1!D39), \"\",Input1!D39), IF(C$2=\"\",\"\",IF(ISNUMBER(C44), IF(C44=0, ASIN(SQRT(1/(4*Input2!$D$41))), IF(C44=1,ASIN(SQRT(1-1/(4*Input2!$D$41))),ASIN(SQRT(C44)))),\"\")))","v":{"$error":"#N/A"}},{"$f":"IF(Start!$B$17=\"input1\",IF(ISBLANK(Input1!E39), \"\",Input1!E39), IF(D$2=\"\",\"\",IF(ISNUMBER(D44), IF(D44=0, ASIN(SQRT(1/(4*Input2!$D$41))), IF(D44=1,ASIN(SQRT(1-1/(4*Input2!$D$41))),ASIN(SQRT(D44)))),\"\")))","v":{"$error":"#N/A"}},{"$f":"IF(Start!$B$17=\"input1\",IF(ISBLANK(Input1!F39), \"\",Input1!F39), IF(E$2=\"\",\"\",IF(ISNUMBER(E44), IF(E44=0, ASIN(SQRT(1/(4*Input2!$D$41))), IF(E44=1,ASIN(SQRT(1-1/(4*Input2!$D$41))),ASIN(SQRT(E44)))),\"\")))","v":{"$error":"#N/A"}},{"$f":"IF(Start!$B$17=\"input1\",IF(ISBLANK(Input1!G39), \"\",Input1!G39), IF(F$2=\"\",\"\",IF(ISNUMBER(F44), IF(F44=0, ASIN(SQRT(1/(4*Input2!$D$41))), IF(F44=1,ASIN(SQRT(1-1/(4*Input2!$D$41))),ASIN(SQRT(F44)))),\"\")))","v":{"$error":"#N/A"}},{"$f":"IF(Start!$B$17=\"input1\",IF(ISBLANK(Input1!H39), \"\",Input1!H39), IF(G$2=\"\",\"\",IF(ISNUMBER(G44), IF(G44=0, ASIN(SQRT(1/(4*Input2!$D$41))), IF(G44=1,ASIN(SQRT(1-1/(4*Input2!$D$41))),ASIN(SQRT(G44)))),\"\")))","v":{"$error":"#N/A"}},{"$f":"IF(Start!$B$17=\"input1\",IF(ISBLANK(Input1!I39), \"\",Input1!I39), IF(H$2=\"\",\"\",IF(ISNUMBER(H44), IF(H44=0, ASIN(SQRT(1/(4*Input2!$D$41))), IF(H44=1,ASIN(SQRT(1-1/(4*Input2!$D$41))),ASIN(SQRT(H44)))),\"\")))","v":{"$error":"#N/A"}},{"$f":"IF(Start!$B$17=\"input1\",IF(ISBLANK(Input1!J39), \"\",Input1!J39), IF(I$2=\"\",\"\",IF(ISNUMBER(I44), IF(I44=0, ASIN(SQRT(1/(4*Input2!$D$41))), IF(I44=1,ASIN(SQRT(1-1/(4*Input2!$D$41))),ASIN(SQRT(I44)))),\"\")))","v":{"$error":"#N/A"}},null,19,{"$f":"IF(Start!$B$17=\"input1\",IF(ISBLANK(Input1!C39), \"\",Input1!C39), IF(L$2=\"\",\"\",IF(ISNUMBER(B44), IF(B44=0, ASIN(SQRT(1/(4*Input2!$D$41))), IF(B44=1,ASIN(SQRT(1-1/(4*Input2!$D$41))),ASIN(SQRT(B44)))),\"\")))","v":{"$error":"#N/A"}},{"$f":"IF(Start!$B$17=\"input1\",IF(ISBLANK(Input1!D39), \"\",Input1!D39), IF(M$2=\"\",\"\",IF(ISNUMBER(C44), IF(C44=0, ASIN(SQRT(1/(4*Input2!$D$41))), IF(C44=1,ASIN(SQRT(1-1/(4*Input2!$D$41))),ASIN(SQRT(C44)))),\"\")))","v":{"$error":"#N/A"}},{"$f":"IF(Start!$B$17=\"input1\",IF(ISBLANK(Input1!E39), \"\",Input1!E39), IF(N$2=\"\",\"\",IF(ISNUMBER(D44), IF(D44=0, ASIN(SQRT(1/(4*Input2!$D$41))), IF(D44=1,ASIN(SQRT(1-1/(4*Input2!$D$41))),ASIN(SQRT(D44)))),\"\")))","v":{"$error":"#N/A"}},{"$f":"IF(Start!$B$17=\"input1\",IF(ISBLANK(Input1!F39), \"\",Input1!F39), IF(O$2=\"\",\"\",IF(ISNUMBER(E44), IF(E44=0, ASIN(SQRT(1/(4*Input2!$D$41))), IF(E44=1,ASIN(SQRT(1-1/(4*Input2!$D$41))),ASIN(SQRT(E44)))),\"\")))","v":{"$error":"#N/A"}},{"$f":"IF(Start!$B$17=\"input1\",IF(ISBLANK(Input1!G39), \"\",Input1!G39), IF(P$2=\"\",\"\",IF(ISNUMBER(F44), IF(F44=0, ASIN(SQRT(1/(4*Input2!$D$41))), IF(F44=1,ASIN(SQRT(1-1/(4*Input2!$D$41))),ASIN(SQRT(F44)))),\"\")))","v":{"$error":"#N/A"}},{"$f":"IF(Start!$B$17=\"input1\",IF(ISBLANK(Input1!H39), \"\",Input1!H39), IF(Q$2=\"\",\"\",IF(ISNUMBER(G44), IF(G44=0, ASIN(SQRT(1/(4*Input2!$D$41))), IF(G44=1,ASIN(SQRT(1-1/(4*Input2!$D$41))),ASIN(SQRT(G44)))),\"\")))","v":{"$error":"#N/A"}},{"$f":"IF(Start!$B$17=\"input1\",IF(ISBLANK(Input1!I39), \"\",Input1!I39), IF(R$2=\"\",\"\",IF(ISNUMBER(H44), IF(H44=0, ASIN(SQRT(1/(4*Input2!$D$41))), IF(H44=1,ASIN(SQRT(1-1/(4*Input2!$D$41))),ASIN(SQRT(H44)))),\"\")))","v":{"$error":"#N/A"}},{"$f":"IF(Start!$B$17=\"input1\",IF(ISBLANK(Input1!J39), \"\",Input1!J39), IF(S$2=\"\",\"\",IF(ISNUMBER(I44), IF(I44=0, ASIN(SQRT(1/(4*Input2!$D$41))), IF(I44=1,ASIN(SQRT(1-1/(4*Input2!$D$41))),ASIN(SQRT(I44)))),\"\")))","v":{"$error":"#N/A"}}]
[20,{"$f":"IF(Start!$B$17=\"input1\",IF(ISBLANK(Input1!C40), \"\",Input1!C40), IF(B$2=\"\",\"\",IF(ISNUMBER(B45), IF(B45=0, ASIN(SQRT(1/(4*Input2!$D$41))), IF(B45=1,ASIN(SQRT(1-1/(4*Input2!$D$41))),ASIN(SQRT(B45)))),\"\")))","v":{"$error":"#N/A"}},{"$f":"IF(Start!$B$17=\"input1\",IF(ISBLANK(Input1!D40), \"\",Input1!D40), IF(C$2=\"\",\"\",IF(ISNUMBER(C45), IF(C45=0, ASIN(SQRT(1/(4*Input2!$D$41))), IF(C45=1,ASIN(SQRT(1-1/(4*Input2!$D$41))),ASIN(SQRT(C45)))),\"\")))","v":{"$error":"#N/A"}},{"$f":"IF(Start!$B$17=\"input1\",IF(ISBLANK(Input1!E40), \"\",Input1!E40), IF(D$2=\"\",\"\",IF(ISNUMBER(D45), IF(D45=0, ASIN(SQRT(1/(4*Input2!$D$41))), IF(D45=1,ASIN(SQRT(1-1/(4*Input2!$D$41))),ASIN(SQRT(D45)))),\"\")))","v":{"$error":"#N/A"}},{"$f":"IF(Start!$B$17=\"input1\",IF(ISBLANK(Input1!F40), \"\",Input1!F40), IF(E$2=\"\",\"\",IF(ISNUMBER(E45), IF(E45=0, ASIN(SQRT(1/(4*Input2!$D$41))), IF(E45=1,ASIN(SQRT(1-1/(4*Input2!$D$41))),ASIN(SQRT(E45)))),\"\")))","v":{"$error":"#N/A"}},{"$f":"IF(Start!$B$17=\"input1\",IF(ISBLANK(Input1!G40), \"\",Input1!G40), IF(F$2=\"\",\"\",IF(ISNUMBER(F45), IF(F45=0, ASIN(SQRT(1/(4*Input2!$D$41))), IF(F45=1,ASIN(SQRT(1-1/(4*Input2!$D$41))),ASIN(SQRT(F45)))),\"\")))","v":{"$error":"#N/A"}},{"$f":"IF(Start!$B$17=\"input1\",IF(ISBLANK(Input1!H40), \"\",Input1!H40), IF(G$2=\"\",\"\",IF(ISNUMBER(G45), IF(G45=0, ASIN(SQRT(1/(4*Input2!$D$41))), IF(G45=1,ASIN(SQRT(1-1/(4*Input2!$D$41))),ASIN(SQRT(G45)))),\"\")))","v":{"$error":"#N/A"}},{"$f":"IF(Start!$B$17=\"input1\",IF(ISBLANK(Input1!I40), \"\",Input1!I40), IF(H$2=\"\",\"\",IF(ISNUMBER(H45), IF(H45=0, ASIN(SQRT(1/(4*Input2!$D$41))), IF(H45=1,ASIN(SQRT(1-1/(4*Input2!$D$41))),ASIN(SQRT(H45)))),\"\")))","v":{"$error":"#N/A"}},{"$f":"IF(Start!$B$17=\"input1\",IF(ISBLANK(Input1!J40), \"\",Input1!J40), IF(I$2=\"\",\"\",IF(ISNUMBER(I45), IF(I45=0, ASIN(SQRT(1/(4*Input2!$D$41))), IF(I45=1,ASIN(SQRT(1-1/(4*Input2!$D$41))),ASIN(SQRT(I45)))),\"\")))","v":{"$error":"#N/A"}},null,20,{"$f":"IF(Start!$B$17=\"input1\",IF(ISBLANK(Input1!C40), \"\",Input1!C40), IF(L$2=\"\",\"\",IF(ISNUMBER(B45), IF(B45=0, ASIN(SQRT(1/(4*Input2!$D$41))), IF(B45=1,ASIN(SQRT(1-1/(4*Input2!$D$41))),ASIN(SQRT(B45)))),\"\")))","v":{"$error":"#N/A"}},{"$f":"IF(Start!$B$17=\"input1\",IF(ISBLANK(Input1!D40), \"\",Input1!D40), IF(M$2=\"\",\"\",IF(ISNUMBER(C45), IF(C45=0, ASIN(SQRT(1/(4*Input2!$D$41))), IF(C45=1,ASIN(SQRT(1-1/(4*Input2!$D$41))),ASIN(SQRT(C45)))),\"\")))","v":{"$error":"#N/A"}},{"$f":"IF(Start!$B$17=\"input1\",IF(ISBLANK(Input1!E40), \"\",Input1!E40), IF(N$2=\"\",\"\",IF(ISNUMBER(D45), IF(D45=0, ASIN(SQRT(1/(4*Input2!$D$41))), IF(D45=1,ASIN(SQRT(1-1/(4*Input2!$D$41))),ASIN(SQRT(D45)))),\"\")))","v":{"$error":"#N/A"}},{"$f":"IF(Start!$B$17=\"input1\",IF(ISBLANK(Input1!F40), \"\",Input1!F40), IF(O$2=\"\",\"\",IF(ISNUMBER(E45), IF(E45=0, ASIN(SQRT(1/(4*Input2!$D$41))), IF(E45=1,ASIN(SQRT(1-1/(4*Input2!$D$41))),ASIN(SQRT(E45)))),\"\")))","v":{"$error":"#N/A"}},{"$f":"IF(Start!$B$17=\"input1\",IF(ISBLANK(Input1!G40), \"\",Input1!G40), IF(P$2=\"\",\"\",IF(ISNUMBER(F45), IF(F45=0, ASIN(SQRT(1/(4*Input2!$D$41))), IF(F45=1,ASIN(SQRT(1-1/(4*Input2!$D$41))),ASIN(SQRT(F45)))),\"\")))","v":{"$error":"#N/A"}},{"$f":"IF(Start!$B$17=\"input1\",IF(ISBLANK(Input1!H40), \"\",Input1!H40), IF(Q$2=\"\",\"\",IF(ISNUMBER(G45), IF(G45=0, ASIN(SQRT(1/(4*Input2!$D$41))), IF(G45=1,ASIN(SQRT(1-1/(4*Input2!$D$41))),ASIN(SQRT(G45)))),\"\")))","v":{"$error":"#N/A"}},{"$f":"IF(Start!$B$17=\"input1\",IF(ISBLANK(Input1!I40), \"\",Input1!I40), IF(R$2=\"\",\"\",IF(ISNUMBER(H45), IF(H45=0, ASIN(SQRT(1/(4*Input2!$D$41))), IF(H45=1,ASIN(SQRT(1-1/(4*Input2!$D$41))),ASIN(SQRT(H45)))),\"\")))","v":{"$error":"#N/A"}},{"$f":"IF(Start!$B$17=\"input1\",IF(ISBLANK(Input1!J40), \"\",Input1!J40), IF(S$2=\"\",\"\",IF(ISNUMBER(I45), IF(I45=0, ASIN(SQRT(1/(4*Input2!$D$41))), IF(I45=1,ASIN(SQRT(1-1/(4*Input2!$D$41))),ASIN(SQRT(I45)))),\"\")))","v":{"$error":"#N/A"}}]
["Average",{"$f":"IF(B2=\"\",\"\", AVERAGE(B3:B22))","v":""},"","","","","","",""]
["Replicate","Effluent Concentration (%) Never Transformed"]
[null,{"$f":"IF(ISNUMBER(Input1!C20),Input1!C20,IF(AND(ISNUMBER(Input2!D20),ISNUMBER(Input2!D44)),Input2!D20,\"\"))","v":""},{"$f":"IF(ISNUMBER(Input1!D20),Input1!D20,IF(AND(ISNUMBER(Input2!E20),ISNUMBER(Input2!E44)),Input2!E20,\"\"))","v":""},{"$f":"IF(ISNUMBER(Input1!E20),Input1!E20,IF(AND(ISNUMBER(Input2!F20),ISNUMBER(Input2!F44)),Input2!F20,\"\"))","v":""},{"$f":"IF(ISNUMBER(Input1!F20),Input1!F20,IF(AND(ISNUMBER(Input2!G20),ISNUMBER(Input2!G44)),Input2!G20,\"\"))","v":""},{"$f":"IF(ISNUMBER(Input1!G20),Input1!G20,IF(AND(ISNUMBER(Input2!H20),ISNUMBER(Input2!H44)),Input2!H20,\"\"))","v":""},{"$f":"IF(ISNUMBER(Input1!H20),Input1!H20,IF(AND(ISNUMBER(Input2!I20),ISNUMBER(Input2!I44)),Input2!I20,\"\"))","v":""},{"$f":"IF(ISNUMBER(Input1!I20),Input1!I20,IF(AND(ISNUMBER(Input2!J20),ISNUMBER(Input2!J44)),Input2!J20,\"\"))","v":""},{"$f":"IF(ISNUMBER(Input1!J20),Input1!J20,IF(AND(ISNUMBER(Input2!K20),ISNUMBER(Input2!K44)),Input2!K20,\"\"))","v":""}]
[1,{"$f":"IF(Start!$B$17=\"input1\",IF(ISBLANK(Input1!C21), \"\",Input1!C21),IF(AND(ISNUMBER(Input2!D$20),ISNUMBER(Input2!D$44)), IF(OR(ISBLANK(Input2!D21), ISBLANK(Input2!D45)), \"\", IF((Input2!D45/Input2!D21) > 1, 1, Input2!D45/Input2!D21)),\"\"))","v":{"$error":"#N/A"}},{"$f":"IF(Start!$B$17=\"input1\",IF(ISBLANK(Input1!D21), \"\",Input1!D21),IF(AND(ISNUMBER(Input2!E$20),ISNUMBER(Input2!E$44)), IF(OR(ISBLANK(Input2!E21), ISBLANK(Input2!E45)), \"\", IF((Input2!E45/Input2!E21) > 1, 1, Input2!E45/Input2!E21)),\"\"))","v":{"$error":"#N/A"}},{"$f":"IF(Start!$B$17=\"input1\",IF(ISBLANK(Input1!E21), \"\",Input1!E21),IF(AND(ISNUMBER(Input2!F$20),ISNUMBER(Input2!F$44)), IF(OR(ISBLANK(Input2!F21), ISBLANK(Input2!F45)), \"\", IF((Input2!F45/Input2!F21) > 1, 1, Input2!F45/Input2!F21)),\"\"))","v":{"$error":"#N/A"}},{"$f":"IF(Start!$B$17=\"input1\",IF(ISBLANK(Input1!F21), \"\",Input1!F21),IF(AND(ISNUMBER(Input2!G$20),ISNUMBER(Input2!G$44)), IF(OR(ISBLANK(Input2!G21), ISBLANK(Input2!G45)), \"\", IF((Input2!G45/Input2!G21) > 1, 1, Input2!G45/Input2!G21)),\"\"))","v":{"$error":"#N/A"}},{"$f":"IF(Start!$B$17=\"input1\",IF(ISBLANK(Input1!G21), \"\",Input1!G21),IF(AND(ISNUMBER(Input2!H$20),ISNUMBER(Input2!H$44)), IF(OR(ISBLANK(Input2!H21), ISBLANK(Input2!H45)), \"\", IF((Input2!H45/Input2!H21) > 1, 1, Input2!H45/Input2!H21)),\"\"))","v":{"$error":"#N/A"}},{"$f":"IF(Start!$B$17=\"input1\",IF(ISBLANK(Input1!H21), \"\",Input1!H21),IF(AND(ISNUMBER(Input2!I$20),ISNUMBER(Input2!I$44)), IF(OR(ISBLANK(Input2!I21), ISBLANK(Input2!I45)), \"\", IF((Input2!I45/Input2!I21) > 1, 1, Input2!I45/Input2!I21)),\"\"))","v":{"$error":"#N/A"}},{"$f":"IF(Start!$B$17=\"input1\",IF(ISBLANK(Input1!I21), \"\",Input1!I21),IF(AND(ISNUMBER(Input2!J$20),ISNUMBER(Input2!J$44)), IF(OR(ISBLANK(Input2!J21), ISBLANK(Input2!J45)), \"\", IF((Input2!J45/Input2!J21) > 1, 1, Input2!J45/Input2!J21)),\"\"))","v":{"$error":"#N/A"}},{"$f":"IF(Start!$B$17=\"input1\",IF(ISBLANK(Input1!J21), \"\",Input1!J21),IF(AND(ISNUMBER(Input2!K$20),ISNUMBER(Input2!K$44)), IF(OR(ISBLANK(Input2!K21), ISBLANK(Input2!K45)), \"\", IF((Input2!K45/Input2!K21) > 1, 1, Input2!K45/Input2!K21)),\"\"))","v":{"$error":"#N/A"}}]
[2,{"$f":"IF(Start!$B$17=\"input1\",IF(ISBLANK(Input1!C22), \"\",Input1!C22),IF(AND(ISNUMBER(Input2!D$20),ISNUMBER(Input2!D$44)), IF(OR(ISBLANK(Input2!D22), ISBLANK(Input2!D46)), \"\", IF((Input2!D46/Input2!D22) > 1, 1, Input2!D46/Input2!D22)),\"\"))","v":{"$error":"#N/A"}},{"$f":"IF(Start!$B$17=\"input1\",IF(ISBLANK(Input1!D22), \"\",Input1!D22),IF(AND(ISNUMBER(Input2!E$20),ISNUMBER(Input2!E$44)), IF(OR(ISBLANK(Input2!E22), ISBLANK(Input2!E46)), \"\", IF((Input2!E46/Input2!E22) > 1, 1, Input2!E46/Input2!E22)),\"\"))","v":{"$error":"#N/A"}},{"$f":"IF(Start!$B$17=\"input1\",IF(ISBLANK(Input1!E22), \"\",Input1!E22),IF(AND(ISNUMBER(Input2!F$20),ISNUMBER(Input2!F$44)), IF(OR(ISBLANK(Input2!F22), ISBLANK(Input2!F46)), \"\", IF((Input2!F46/Input2!F22) > 1, 1, Input2!F46/Input2!F22)),\"\"))","v":{"$error":"#N/A"}},{"$f":"IF(Start!$B$17=\"input1\",IF(ISBLANK(Input1!F22), \"\",Input1!F22),IF(AND(ISNUMBER(Input2!G$20),ISNUMBER(Input2!G$44)), IF(OR(ISBLANK(Input2!G22), ISBLANK(Input2!G46)), \"\", IF((Input2!G46/Input2!G22) > 1, 1, Input2!G46/Input2!G22)),\"\"))","v":{"$error":"#N/A"}},{"$f":"IF(Start!$B$17=\"input1\",IF(ISBLANK(Input1!G22), \"\",Input1!G22),IF(AND(ISNUMBER(Input2!H$20),ISNUMBER(Input2!H$44)), IF(OR(ISBLANK(Input2!H22), ISBLANK(Input2!H46)), \"\", IF((Input2!H46/Input2!H22) > 1, 1, Input2!H46/Input2!H22)),\"\"))","v":{"$error":"#N/A"}},{"$f":"IF(Start!$B$17=\"input1\",IF(ISBLANK(Input1!H22), \"\",Input1!H22),IF(AND(ISNUMBER(Input2!I$20),ISNUMBER(Input2!I$44)), IF(OR(ISBLANK(Input2!I22), ISBLANK(Input2!I46)), \"\", IF((Input2!I46/Input2!I22) > 1, 1, Input2!I46/Input2!I22)),\"\"))","v":{"$error":"#N/A"}},{"$f":"IF(Start!$B$17=\"input1\",IF(ISBLANK(Input1!I22), \"\",Input1!I22),IF(AND(ISNUMBER(Input2!J$20),ISNUMBER(Input2!J$44)), IF(OR(ISBLANK(Input2!J22), ISBLANK(Input2!J46)), \"\", IF((Input2!J46/Input2!J22) > 1, 1, Input2!J46/Input2!J22)),\"\"))","v":{"$error":"#N/A"}},{"$f":"IF(Start!$B$17=\"input1\",IF(ISBLANK(Input1!J22), \"\",Input1!J22),IF(AND(ISNUMBER(Input2!K$20),ISNUMBER(Input2!K$44)), IF(OR(ISBLANK(Input2!K22), ISBLANK(Input2!K46)), \"\", IF((Input2!K46/Input2!K22) > 1, 1, Input2!K46/Input2!K22)),\"\"))","v":{"$error":"#N/A"}}]
[3,{"$f":"IF(Start!$B$17=\"input1\",IF(ISBLANK(Input1!C23), \"\",Input1!C23),IF(AND(ISNUMBER(Input2!D$20),ISNUMBER(Input2!D$44)), IF(OR(ISBLANK(Input2!D23), ISBLANK(Input2!D47)), \"\", IF((Input2!D47/Input2!D23) > 1, 1, Input2!D47/Input2!D23)),\"\"))","v":{"$error":"#N/A"}},{"$f":"IF(Start!$B$17=\"input1\",IF(ISBLANK(Input1!D23), \"\",Input1!D23),IF(AND(ISNUMBER(Input2!E$20),ISNUMBER(Input2!E$44)), IF(OR(ISBLANK(Input2!E23), ISBLANK(Input2!E47)), \"\", IF((Input2!E47/Input2!E23) > 1, 1, Input2!E47/Input2!E23)),\"\"))","v":{"$error":"#N/A"}},{"$f":"IF(Start!$B$17=\"input1\",IF(ISBLANK(Input1!E23), \"\",Input1!E23),IF(AND(ISNUMBER(Input2!F$20),ISNUMBER(Input2!F$44)), IF(OR(ISBLANK(Input2!F23), ISBLANK(Input2!F47)), \"\", IF((Input2!F47/Input2!F23) > 1, 1, Input2!F47/Input2!F23)),\"\"))","v":{"$error":"#N/A"}},{"$f":"IF(Start!$B$17=\"input1\",IF(ISBLANK(Input1!F23), \"\",Input1!F23),IF(AND(ISNUMBER(Input2!G$20),ISNUMBER(Input2!G$44)), IF(OR(ISBLANK(Input2!G23), ISBLANK(Input2!G47)), \"\", IF((Input2!G47/Input2!G23) > 1, 1, Input2!G47/Input2!G23)),\"\"))","v":{"$error":"#N/A"}},{"$f":"IF(Start!$B$17=\"input1\",IF(ISBLANK(Input1!G23), \"\",Input1!G23),IF(AND(ISNUMBER(Input2!H$20),ISNUMBER(Input2!H$44)), IF(OR(ISBLANK(Input2!H23), ISBLANK(Input2!H47)), \"\", IF((Input2!H47/Input2!H23) > 1, 1, Input2!H47/Input2!H23)),\"\"))","v":{"$error":"#N/A"}},{"$f":"IF(Start!$B$17=\"input1\",IF(ISBLANK(Input1!H23), \"\",Input1!H23),IF(AND(ISNUMBER(Input2!I$20),ISNUMBER(Input2!I$44)), IF(OR(ISBLANK(Input2!I23), ISBLANK(Input2!I47)), \"\", IF((Input2!I47/Input2!I23) > 1, 1, Input2!I47/Input2!I23)),\"\"))","v":{"$error":"#N/A"}},{"$f":"IF(Start!$B$17=\"input1\",IF(ISBLANK(Input1!I23), \"\",Input1!I23),IF(AND(ISNUMBER(Input2!J$20),ISNUMBER(Input2!J$44)), IF(OR(ISBLANK(Input2!J23), ISBLANK(Input2!J47)), \"\", IF((Input2!J47/Input2!J23) > 1, 1, Input2!J47/Input2!J23)),\"\"))","v":{"$error":"#N/A"}},{"$f":"IF(Start!$B$17=\"input1\",IF(ISBLANK(Input1!J23), \"\",Input1!J23),IF(AND(ISNUMBER(Input2!K$20),ISNUMBER(Input2!K$44)), IF(OR(ISBLANK(Input2!K23), ISBLANK(Input2!K47)), \"\", IF((Input2!K47/Input2!K23) > 1, 1, Input2!K47/Input2!K23)),\"\"))","v":{"$error":"#N/A"}}]
[4,{"$f":"IF(Start!$B$17=\"input1\",IF(ISBLANK(Input1!C24), \"\",Input1!C24),IF(AND(ISNUMBER(Input2!D$20),ISNUMBER(Input2!D$44)), IF(OR(ISBLANK(Input2!D24), ISBLANK(Input2!D48)), \"\", IF((Input2!D48/Input2!D24) > 1, 1, Input2!D48/Input2!D24)),\"\"))","v":{"$error":"#N/A"}},{"$f":"IF(Start!$B$17=\"input1\",IF(ISBLANK(Input1!D24), \"\",Input1!D24),IF(AND(ISNUMBER(Input2!E$20),ISNUMBER(Input2!E$44)), IF(OR(ISBLANK(Input2!E24), ISBLANK(Input2!E48)), \"\", IF((Input2!E48/Input2!E24) > 1, 1, Input2!E48/Input2!E24)),\"\"))","v":{"$error":"#N/A"}},{"$f":"IF(Start!$B$17=\"input1\",IF(ISBLANK(Input1!E24), \"\",Input1!E24),IF(AND(ISNUMBER(Input2!F$20),ISNUMBER(Input2!F$44)), IF(OR(ISBLANK(Input2!F24), ISBLANK(Input2!F48)), \"\", IF((Input2!F48/Input2!F24) > 1, 1, Input2!F48/Input2!F24)),\"\"))","v":{"$error":"#N/A"}},{"$f":"IF(Start!$B$17=\"input1\",IF(ISBLANK(Input1!F24), \"\",Input1!F24),IF(AND(ISNUMBER(Input2!G$20),ISNUMBER(Input2!G$44)), IF(OR(ISBLANK(Input2!G24), ISBLANK(Input2!G48)), \"\", IF((Input2!G48/Input2!G24) > 1, 1, Input2!G48/Input2!G24)),\"\"))","v":{"$error":"#N/A"}},{"$f":"IF(Start!$B$17=\"input1\",IF(ISBLANK(Input1!G24), \"\",Input1!G24),IF(AND(ISNUMBER(Input2!H$20),ISNUMBER(Input2!H$44)), IF(OR(ISBLANK(Input2!H24), ISBLANK(Input2!H48)), \"\", IF((Input2!H48/Input2!H24) > 1, 1, Input2!H48/Input2!H24)),\"\"))","v":{"$error":"#N/A"}},{"$f":"IF(Start!$B$17=\"input1\",IF(ISBLANK(Input1!H24), \"\",Input1!H24),IF(AND(ISNUMBER(Input2!I$20),ISNUMBER(Input2!I$44)), IF(OR(ISBLANK(Input2!I24), ISBLANK(Input2!I48)), \"\", IF((Input2!I48/Input2!I24) > 1, 1, Input2!I48/Input2!I24)),\"\"))","v":{"$error":"#N/A"}},{"$f":"IF(Start!$B$17=\"input1\",IF(ISBLANK(Input1!I24), \"\",Input1!I24),IF(AND(ISNUMBER(Input2!J$20),ISNUMBER(Input2!J$44)), IF(OR(ISBLANK(Input2!J24), ISBLANK(Input2!J48)), \"\", IF((Input2!J48/Input2!J24) > 1, 1, Input2!J48/Input2!J24)),\"\"))","v":{"$error":"#N/A"}},{"$f":"IF(Start!$B$17=\"input1\",IF(ISBLANK(Input1!J24), \"\",Input1!J24),IF(AND(ISNUMBER(Input2!K$20),ISNUMBER(Input2!K$44)), IF(OR(ISBLANK(Input2!K24), ISBLANK(Input2!K48)), \"\", IF((Input2!K48/Input2!K24) > 1, 1, Input2!K48/Input2!K24)),\"\"))","v":{"$error":"#N/A"}}]
[5,{"$f":"IF(Start!$B$17=\"input1\",IF(ISBLANK(Input1!C25), \"\",Input1!C25),IF(AND(ISNUMBER(Input2!D$20),ISNUMBER(Input2!D$44)), IF(OR(ISBLANK(Input2!D25), ISBLANK(Input2!D49)), \"\", IF((Input2!D49/Input2!D25) > 1, 1, Input2!D49/Input2!D25)),\"\"))","v":{"$error":"#N/A"}},{"$f":"IF(Start!$B$17=\"input1\",IF(ISBLANK(Input1!D25), \"\",Input1!D25),IF(AND(ISNUMBER(Input2!E$20),ISNUMBER(Input2!E$44)), IF(OR(ISBLANK(Input2!E25), ISBLANK(Input2!E49)), \"\", IF((Input2!E49/Input2!E25) > 1, 1, Input2!E49/Input2!E25)),\"\"))","v":{"$error":"#N/A"}},{"$f":"IF(Start!$B$17=\"input1\",IF(ISBLANK(Input1!E25), \"\",Input1!E25),IF(AND(ISNUMBER(Input2!F$20),ISNUMBER(Input2!F$44)), IF(OR(ISBLANK(Input2!F25), ISBLANK(Input2!F49)), \"\", IF((Input2!F49/Input2!F25) > 1, 1, Input2!F49/Input2!F25)),\"\"))","v":{"$error":"#N/A"}},{"$f":"IF(Start!$B$17=\"input1\",IF(ISBLANK(Input1!F25), \"\",Input1!F25),IF(AND(ISNUMBER(Input2!G$20),ISNUMBER(Input2!G$44)), IF(OR(ISBLANK(Input2!G25), ISBLANK(Input2!G49)), \"\", IF((Input2!G49/Input2!G25) > 1, 1, Input2!G49/Input2!G25)),\"\"))","v":{"$error":"#N/A"}},{"$f":"IF(Start!$B$17=\"input1\",IF(ISBLANK(Input1!G25), \"\",Input1!G25),IF(AND(ISNUMBER(Input2!H$20),ISNUMBER(Input2!H$44)), IF(OR(ISBLANK(Input2!H25), ISBLANK(Input2!H49)), \"\", IF((Input2!H49/Input2!H25) > 1, 1, Input2!H49/Input2!H25)),\"\"))","v":{"$error":"#N/A"}},{"$f":"IF(Start!$B$17=\"input1\",IF(ISBLANK(Input1!H25), \"\",Input1!H25),IF(AND(ISNUMBER(Input2!I$20),ISNUMBER(Input2!I$44)), IF(OR(ISBLANK(Input2!I25), ISBLANK(Input2!I49)), \"\", IF((Input2!I49/Input2!I25) > 1, 1, Input2!I49/Input2!I25)),\"\"))","v":{"$error":"#N/A"}},{"$f":"IF(Start!$B$17=\"input1\",IF(ISBLANK(Input1!I25), \"\",Input1!I25),IF(AND(ISNUMBER(Input2!J$20),ISNUMBER(Input2!J$44)), IF(OR(ISBLANK(Input2!J25), ISBLANK(Input2!J49)), \"\", IF((Input2!J49/Input2!J25) > 1, 1, Input2!J49/Input2!J25)),\"\"))","v":{"$error":"#N/A"}},{"$f":"IF(Start!$B$17=\"input1\",IF(ISBLANK(Input1!J25), \"\",Input1!J25),IF(AND(ISNUMBER(Input2!K$20),ISNUMBER(Input2!K$44)), IF(OR(ISBLANK(Input2!K25), ISBLANK(Input2!K49)), \"\", IF((Input2!K49/Input2!K25) > 1, 1, Input2!K49/Input2!K25)),\"\"))","v":{"$error":"#N/A"}}]
[6,{"$f":"IF(Start!$B$17=\"input1\",IF(ISBLANK(Input1!C26), \"\",Input1!C26),IF(AND(ISNUMBER(Input2!D$20),ISNUMBER(Input2!D$44)), IF(OR(ISBLANK(Input2!D26), ISBLANK(Input2!D50)), \"\", Input2!D50/Input2!D26),\"\"))","v":{"$error":"#N/A"}},{"$f":"IF(Start!$B$17=\"input1\",IF(ISBLANK(Input1!D26), \"\",Input1!D26),IF(AND(ISNUMBER(Input2!E$20),ISNUMBER(Input2!E$44)), IF(OR(ISBLANK(Input2!E26), ISBLANK(Input2!E50)), \"\", Input2!E50/Input2!E26),\"\"))","v":{"$error":"#N/A"}},{"$f":"IF(Start!$B$17=\"input1\",IF(ISBLANK(Input1!E26), \"\",Input1!E26),IF(AND(ISNUMBER(Input2!F$20),ISNUMBER(Input2!F$44)), IF(OR(ISBLANK(Input2!F26), ISBLANK(Input2!F50)), \"\", Input2!F50/Input2!F26),\"\"))","v":{"$error":"#N/A"}},{"$f":"IF(Start!$B$17=\"input1\",IF(ISBLANK(Input1!F26), \"\",Input1!F26),IF(AND(ISNUMBER(Input2!G$20),ISNUMBER(Input2!G$44)), IF(OR(ISBLANK(Input2!G26), ISBLANK(Input2!G50)), \"\", Input2!G50/Input2!G26),\"\"))","v":{"$error":"#N/A"}},{"$f":"IF(Start!$B$17=\"input1\",IF(ISBLANK(Input1!G26), \"\",Input1!G26),IF(AND(ISNUMBER(Input2!H$20),ISNUMBER(Input2!H$44)), IF(OR(ISBLANK(Input2!H26), ISBLANK(Input2!H50)), \"\", Input2!H50/Input2!H26),\"\"))","v":{"$error":"#N/A"}},{"$f":"IF(Start!$B$17=\"input1\",IF(ISBLANK(Input1!H26), \"\",Input1!H26),IF(AND(ISNUMBER(Input2!I$20),ISNUMBER(Input2!I$44)), IF(OR(ISBLANK(Input2!I26), ISBLANK(Input2!I50)), \"\", Input2!I50/Input2!I26),\"\"))","v":{"$error":"#N/A"}},{"$f":"IF(Start!$B$17=\"input1\",IF(ISBLANK(Input1!I26), \"\",Input1!I26),IF(AND(ISNUMBER(Input2!J$20),ISNUMBER(Input2!J$44)), IF(OR(ISBLANK(Input2!J26), ISBLANK(Input2!J50)), \"\", Input2!J50/Input2!J26),\"\"))","v":{"$error":"#N/A"}},{"$f":"IF(Start!$B$17=\"input1\",IF(ISBLANK(Input1!J26), \"\",Input1!J26),IF(AND(ISNUMBER(Input2!K$20),ISNUMBER(Input2!K$44)), IF(OR(ISBLANK(Input2!K26), ISBLANK(Input2!K50)), \"\", Input2!K50/Input2!K26),\"\"))","v":{"$error":"#N/A"}}]
[7,{"$f":"IF(Start!$B$17=\"input1\",IF(ISBLANK(Input1!C27), \"\",Input1!C27),IF(AND(ISNUMBER(Input2!D$20),ISNUMBER(Input2!D$44)), IF(OR(ISBLANK(Input2!D27), ISBLANK(Input2!D51)), \"\", Input2!D51/Input2!D27),\"\"))","v":{"$error":"#N/A"}},{"$f":"IF(Start!$B$17=\"input1\",IF(ISBLANK(Input1!D27), \"\",Input1!D27),IF(AND(ISNUMBER(Input2!E$20),ISNUMBER(Input2!E$44)), IF(OR(ISBLANK(Input2!E27), ISBLANK(Input2!E51)), \"\", Input2!E51/Input2!E27),\"\"))","v":{"$error":"#N/A"}},{"$f":"IF(Start!$B$17=\"input1\",IF(ISBLANK(Input1!E27), \"\",Input1!E27),IF(AND(ISNUMBER(Input2!F$20),ISNUMBER(Input2!F$44)), IF(OR(ISBLANK(Input2!F27), ISBLANK(Input2!F51)), \"\", Input2!F51/Input2!F27),\"\"))","v":{"$error":"#N/A"}},{"$f":"IF(Start!$B$17=\"input1\",IF(ISBLANK(Input1!F27), \"\",Input1!F27),IF(AND(ISNUMBER(Input2!G$20),ISNUMBER(Input2!G$44)), IF(OR(ISBLANK(Input2!G27), ISBLANK(Input2!G51)), \"\", Input2!G51/Input2!G27),\"\"))","v":{"$error":"#N/A"}},{"$f":"IF(Start!$B$17=\"input1\",IF(ISBLANK(Input1!G27), \"\",Input1!G27),IF(AND(ISNUMBER(Input2!H$20),ISNUMBER(Input2!H$44)), IF(OR(ISBLANK(Input2!H27), ISBLANK(Input2!H51)), \"\", Input2!H51/Input2!H27),\"\"))","v":{"$error":"#N/A"}},{"$f":"IF(Start!$B$17=\"input1\",IF(ISBLANK(Input1!H27), \"\",Input1!H27),IF(AND(ISNUMBER(Input2!I$20),ISNUMBER(Input2!I$44)), IF(OR(ISBLANK(Input2!I27), ISBLANK(Input2!I51)), \"\", Input2!I51/Input2!I27),\"\"))","v":{"$error":"#N/A"}},{"$f":"IF(Start!$B$17=\"input1\",IF(ISBLANK(Input1!I27), \"\",Input1!I27),IF(AND(ISNUMBER(Input2!J$20),ISNUMBER(Input2!J$44)), IF(OR(ISBLANK(Input2!J27), ISBLANK(Input2!J51)), \"\", Input2!J51/Input2!J27),\"\"))","v":{"$error":"#N/A"}},{"$f":"IF(Start!$B$17=\"input1\",IF(ISBLANK(Input1!J27), \"\",Input1!J27),IF(AND(ISNUMBER(Input2!K$20),ISNUMBER(Input2!K$44)), IF(OR(ISBLANK(Input2!K27), ISBLANK(Input2!K51)), \"\", Input2!K51/Input2!K27),\"\"))","v":{"$error":"#N/A"}}]
[8,{"$f":"IF(Start!$B$17=\"input1\",IF(ISBLANK(Input1!C28), \"\",Input1!C28),IF(AND(ISNUMBER(Input2!D$20),ISNUMBER(Input2!D$44)), IF(OR(ISBLANK(Input2!D28), ISBLANK(Input2!D52)), \"\", Input2!D52/Input2!D28),\"\"))","v":{"$error":"#N/A"}},{"$f":"IF(Start!$B$17=\"input1\",IF(ISBLANK(Input1!D28), \"\",Input1!D28),IF(AND(ISNUMBER(Input2!E$20),ISNUMBER(Input2!E$44)), IF(OR(ISBLANK(Input2!E28), ISBLANK(Input2!E52)), \"\", Input2!E52/Input2!E28),\"\"))","v":{"$error":"#N/A"}},{"$f":"IF(Start!$B$17=\"input1\",IF(ISBLANK(Input1!E28), \"\",Input1!E28),IF(AND(ISNUMBER(Input2!F$20),ISNUMBER(Input2!F$44)), IF(OR(ISBLANK(Input2!F28), ISBLANK(Input2!F52)), \"\", Input2!F52/Input2!F28),\"\"))","v":{"$error":"#N/A"}},{"$f":"IF(Start!$B$17=\"input1\",IF(ISBLANK(Input1!F28), \"\",Input1!F28),IF(AND(ISNUMBER(Input2!G$20),ISNUMBER(Input2!G$44)), IF(OR(ISBLANK(Input2!G28), ISBLANK(Input2!G52)), \"\", Input2!G52/Input2!G28),\"\"))","v":{"$error":"#N/A"}},{"$f":"IF(Start!$B$17=\"input1\",IF(ISBLANK(Input1!G28), \"\",Input1!G28),IF(AND(ISNUMBER(Input2!H$20),ISNUMBER(Input2!H$44)), IF(OR(ISBLANK(Input2!H28), ISBLANK(Input2!H52)), \"\", Input2!H52/Input2!H28),\"\"))","v":{"$error":"#N/A"}},{"$f":"IF(Start!$B$17=\"input1\",IF(ISBLANK(Input1!H28), \"\",Input1!H28),IF(AND(ISNUMBER(Input2!I$20),ISNUMBER(Input2!I$44)), IF(OR(ISBLANK(Input2!I28), ISBLANK(Input2!I52)), \"\", Input2!I52/Input2!I28),\"\"))","v":{"$error":"#N/A"}},{"$f":"IF(Start!$B$17=\"input1\",IF(ISBLANK(Input1!I28), \"\",Input1!I28),IF(AND(ISNUMBER(Input2!J$20),ISNUMBER(Input2!J$44)), IF(OR(ISBLANK(Input2!J28), ISBLANK(Input2!J52)), \"\", Input2!J52/Input2!J28),\"\"))","v":{"$error":"#N/A"}},{"$f":"IF(Start!$B$17=\"input1\",IF(ISBLANK(Input1!J28), \"\",Input1!J28),IF(AND(ISNUMBER(Input2!K$20),ISNUMBER(Input2!K$44)), IF(OR(ISBLANK(Input2!K28), ISBLANK(Input2!K52)), \"\", Input2!K52/Input2!K28),\"\"))","v":{"$error":"#N/A"}}]
[9,{"$f":"IF(Start!$B$17=\"input1\",IF(ISBLANK(Input1!C29), \"\",Input1!C29),IF(AND(ISNUMBER(Input2!D$20),ISNUMBER(Input2!D$44)), IF(OR(ISBLANK(Input2!D29), ISBLANK(Input2!D53)), \"\", Input2!D53/Input2!D29),\"\"))","v":{"$error":"#N/A"}},{"$f":"IF(Start!$B$17=\"input1\",IF(ISBLANK(Input1!D29), \"\",Input1!D29),IF(AND(ISNUMBER(Input2!E$20),ISNUMBER(Input2!E$44)), IF(OR(ISBLANK(Input2!E29), ISBLANK(Input2!E53)), \"\", Input2!E53/Input2!E29),\"\"))","v":{"$error":"#N/A"}},{"$f":"IF(Start!$B$17=\"input1\",IF(ISBLANK(Input1!E29), \"\",Input1!E29),IF(AND(ISNUMBER(Input2!F$20),ISNUMBER(Input2!F$44)), IF(OR(ISBLANK(Input2!F29), ISBLANK(Input2!F53)), \"\", Input2!F53/Input2!F29),\"\"))","v":{"$error":"#N/A"}},{"$f":"IF(Start!$B$17=\"input1\",IF(ISBLANK(Input1!F29), \"\",Input1!F29),IF(AND(ISNUMBER(Input2!G$20),ISNUMBER(Input2!G$44)), IF(OR(ISBLANK(Input2!G29), ISBLANK(Input2!G53)), \"\", Input2!G53/Input2!G29),\"\"))","v":{"$error":"#N/A"}},{"$f":"IF(Start!$B$17=\"input1\",IF(ISBLANK(Input1!G29), \"\",Input1!G29),IF(AND(ISNUMBER(Input2!H$20),ISNUMBER(Input2!H$44)), IF(OR(ISBLANK(Input2!H29), ISBLANK(Input2!H53)), \"\", Input2!H53/Input2!H29),\"\"))","v":{"$error":"#N/A"}},{"$f":"IF(Start!$B$17=\"input1\",IF(ISBLANK(Input1!H29), \"\",Input1!H29),IF(AND(ISNUMBER(Input2!I$20),ISNUMBER(Input2!I$44)), IF(OR(ISBLANK(Input2!I29), ISBLANK(Input2!I53)), \"\", Input2!I53/Input2!I29),\"\"))","v":{"$error":"#N/A"}},{"$f":"IF(Start!$B$17=\"input1\",IF(ISBLANK(Input1!I29), \"\",Input1!I29),IF(AND(ISNUMBER(Input2!J$20),ISNUMBER(Input2!J$44)), IF(OR(ISBLANK(Input2!J29), ISBLANK(Input2!J53)), \"\", Input2!J53/Input2!J29),\"\"))","v":{"$error":"#N/A"}},{"$f":"IF(Start!$B$17=\"input1\",IF(ISBLANK(Input1!J29), \"\",Input1!J29),IF(AND(ISNUMBER(Input2!K$20),ISNUMBER(Input2!K$44)), IF(OR(ISBLANK(Input2!K29), ISBLANK(Input2!K53)), \"\", Input2!K53/Input2!K29),\"\"))","v":{"$error":"#N/A"}}]
[10,{"$f":"IF(Start!$B$17=\"input1\",IF(ISBLANK(Input1!C30), \"\",Input1!C30),IF(AND(ISNUMBER(Input2!D$20),ISNUMBER(Input2!D$44)), IF(OR(ISBLANK(Input2!D30), ISBLANK(Input2!D54)), \"\", Input2!D54/Input2!D30),\"\"))","v":{"$error":"#N/A"}},{"$f":"IF(Start!$B$17=\"input1\",IF(ISBLANK(Input1!D30), \"\",Input1!D30),IF(AND(ISNUMBER(Input2!E$20),ISNUMBER(Input2!E$44)), IF(OR(ISBLANK(Input2!E30), ISBLANK(Input2!E54)), \"\", Input2!E54/Input2!E30),\"\"))","v":{"$error":"#N/A"}},{"$f":"IF(Start!$B$17=\"input1\",IF(ISBLANK(Input1!E30), \"\",Input1!E30),IF(AND(ISNUMBER(Input2!F$20),ISNUMBER(Input2!F$44)), IF(OR(ISBLANK(Input2!F30), ISBLANK(Input2!F54)), \"\", Input2!F54/Input2!F30),\"\"))","v":{"$error":"#N/A"}},{"$f":"IF(Start!$B$17=\"input1\",IF(ISBLANK(Input1!F30), \"\",Input1!F30),IF(AND(ISNUMBER(Input2!G$20),ISNUMBER(Input2!G$44)), IF(OR(ISBLANK(Input2!G30), ISBLANK(Input2!G54)), \"\", Input2!G54/Input2!G30),\"\"))","v":{"$error":"#N/A"}},{"$f":"IF(Start!$B$17=\"input1\",IF(ISBLANK(Input1!G30), \"\",Input1!G30),IF(AND(ISNUMBER(Input2!H$20),ISNUMBER(Input2!H$44)), IF(OR(ISBLANK(Input2!H30), ISBLANK(Input2!H54)), \"\", Input2!H54/Input2!H30),\"\"))","v":{"$error":"#N/A"}},{"$f":"IF(Start!$B$17=\"input1\",IF(ISBLANK(Input1!H30), \"\",Input1!H30),IF(AND(ISNUMBER(Input2!I$20),ISNUMBER(Input2!I$44)), IF(OR(ISBLANK(Input2!I30), ISBLANK(Input2!I54)), \"\", Input2!I54/Input2!I30),\"\"))","v":{"$error":"#N/A"}},{"$f":"IF(Start!$B$17=\"input1\",IF(ISBLANK(Input1!I30), \"\",Input1!I30),IF(AND(ISNUMBER(Input2!J$20),ISNUMBER(Input2!J$44)), IF(OR(ISBLANK(Input2!J30), ISBLANK(Input2!J54)), \"\", Input2!J54/Input2!J30),\"\"))","v":{"$error":"#N/A"}},{"$f":"IF(Start!$B$17=\"input1\",IF(ISBLANK(Input1!J30), \"\",Input1!J30),IF(AND(ISNUMBER(Input2!K$20),ISNUMBER(Input2!K$44)), IF(OR(ISBLANK(Input2!K30), ISBLANK(Input2!K54)), \"\", Input2!K54/Input2!K30),\"\"))","v":{"$error":"#N/A"}}]
[11,{"$f":"IF(Start!$B$17=\"input1\",IF(ISBLANK(Input1!C31), \"\",Input1!C31),IF(AND(ISNUMBER(Input2!D$20),ISNUMBER(Input2!D$44)), IF(OR(ISBLANK(Input2!D31), ISBLANK(Input2!D55)), \"\", Input2!D55/Input2!D31),\"\"))","v":{"$error":"#N/A"}},{"$f":"IF(Start!$B$17=\"input1\",IF(ISBLANK(Input1!D31), \"\",Input1!D31),IF(AND(ISNUMBER(Input2!E$20),ISNUMBER(Input2!E$44)), IF(OR(ISBLANK(Input2!E31), ISBLANK(Input2!E55)), \"\", Input2!E55/Input2!E31),\"\"))","v":{"$error":"#N/A"}},{"$f":"IF(Start!$B$17=\"input1\",IF(ISBLANK(Input1!E31), \"\",Input1!E31),IF(AND(ISNUMBER(Input2!F$20),ISNUMBER(Input2!F$44)), IF(OR(ISBLANK(Input2!F31), ISBLANK(Input2!F55)), \"\", Input2!F55/Input2!F31),\"\"))","v":{"$error":"#N/A"}},{"$f":"IF(Start!$B$17=\"input1\",IF(ISBLANK(Input1!F31), \"\",Input1!F31),IF(AND(ISNUMBER(Input2!G$20),ISNUMBER(Input2!G$44)), IF(OR(ISBLANK(Input2!G31), ISBLANK(Input2!G55)), \"\", Input2!G55/Input2!G31),\"\"))","v":{"$error":"#N/A"}},{"$f":"IF(Start!$B$17=\"input1\",IF(ISBLANK(Input1!G31), \"\",Input1!G31),IF(AND(ISNUMBER(Input2!H$20),ISNUMBER(Input2!H$44)), IF(OR(ISBLANK(Input2!H31), ISBLANK(Input2!H55)), \"\", Input2!H55/Input2!H31),\"\"))","v":{"$error":"#N/A"}},{"$f":"IF(Start!$B$17=\"input1\",IF(ISBLANK(Input1!H31), \"\",Input1!H31),IF(AND(ISNUMBER(Input2!I$20),ISNUMBER(Input2!I$44)), IF(OR(ISBLANK(Input2!I31), ISBLANK(Input2!I55)), \"\", Input2!I55/Input2!I31),\"\"))","v":{"$error":"#N/A"}},{"$f":"IF(Start!$B$17=\"input1\",IF(ISBLANK(Input1!I31), \"\",Input1!I31),IF(AND(ISNUMBER(Input2!J$20),ISNUMBER(Input2!J$44)), IF(OR(ISBLANK(Input2!J31), ISBLANK(Input2!J55)), \"\", Input2!J55/Input2!J31),\"\"))","v":{"$error":"#N/A"}},{"$f":"IF(Start!$B$17=\"input1\",IF(ISBLANK(Input1!J31), \"\",Input1!J31),IF(AND(ISNUMBER(Input2!K$20),ISNUMBER(Input2!K$44)), IF(OR(ISBLANK(Input2!K31), ISBLANK(Input2!K55)), \"\", Input2!K55/Input2!K31),\"\"))","v":{"$error":"#N/A"}}]
[12,{"$f":"IF(Start!$B$17=\"input1\",IF(ISBLANK(Input1!C32), \"\",Input1!C32),IF(AND(ISNUMBER(Input2!D$20),ISNUMBER(Input2!D$44)), IF(OR(ISBLANK(Input2!D32), ISBLANK(Input2!D56)), \"\", Input2!D56/Input2!D32),\"\"))","v":{"$error":"#N/A"}},{"$f":"IF(Start!$B$17=\"input1\",IF(ISBLANK(Input1!D32), \"\",Input1!D32),IF(AND(ISNUMBER(Input2!E$20),ISNUMBER(Input2!E$44)), IF(OR(ISBLANK(Input2!E32), ISBLANK(Input2!E56)), \"\", Input2!E56/Input2!E32),\"\"))","v":{"$error":"#N/A"}},{"$f":"IF(Start!$B$17=\"input1\",IF(ISBLANK(Input1!E32), \"\",Input1!E32),IF(AND(ISNUMBER(Input2!F$20),ISNUMBER(Input2!F$44)), IF(OR(ISBLANK(Input2!F32), ISBLANK(Input2!F56)), \"\", Input2!F56/Input2!F32),\"\"))","v":{"$error":"#N/A"}},{"$f":"IF(Start!$B$17=\"input1\",IF(ISBLANK(Input1!F32), \"\",Input1!F32),IF(AND(ISNUMBER(Input2!G$20),ISNUMBER(Input2!G$44)), IF(OR(ISBLANK(Input2!G32), ISBLANK(Input2!G56)), \"\", Input2!G56/Input2!G32),\"\"))","v":{"$error":"#N/A"}},{"$f":"IF(Start!$B$17=\"input1\",IF(ISBLANK(Input1!G32), \"\",Input1!G32),IF(AND(ISNUMBER(Input2!H$20),ISNUMBER(Input2!H$44)), IF(OR(ISBLANK(Input2!H32), ISBLANK(Input2!H56)), \"\", Input2!H56/Input2!H32),\"\"))","v":{"$error":"#N/A"}},{"$f":"IF(Start!$B$17=\"input1\",IF(ISBLANK(Input1!H32), \"\",Input1!H32),IF(AND(ISNUMBER(Input2!I$20),ISNUMBER(Input2!I$44)), IF(OR(ISBLANK(Input2!I32), ISBLANK(Input2!I56)), \"\", Input2!I56/Input2!I32),\"\"))","v":{"$error":"#N/A"}},{"$f":"IF(Start!$B$17=\"input1\",IF(ISBLANK(Input1!I32), \"\",Input1!I32),IF(AND(ISNUMBER(Input2!J$20),ISNUMBER(Input2!J$44)), IF(OR(ISBLANK(Input2!J32), ISBLANK(Input2!J56)), \"\", Input2!J56/Input2!J32),\"\"))","v":{"$error":"#N/A"}},{"$f":"IF(Start!$B$17=\"input1\",IF(ISBLANK(Input1!J32), \"\",Input1!J32),IF(AND(ISNUMBER(Input2!K$20),ISNUMBER(Input2!K$44)), IF(OR(ISBLANK(Input2!K32), ISBLANK(Input2!K56)), \"\", Input2!K56/Input2!K32),\"\"))","v":{"$error":"#N/A"}}]
[13,{"$f":"IF(Start!$B$17=\"input1\",IF(ISBLANK(Input1!C33), \"\",Input1!C33),IF(AND(ISNUMBER(Input2!D$20),ISNUMBER(Input2!D$44)), IF(OR(ISBLANK(Input2!D33), ISBLANK(Input2!D57)), \"\", Input2!D57/Input2!D33),\"\"))","v":{"$error":"#N/A"}},{"$f":"IF(Start!$B$17=\"input1\",IF(ISBLANK(Input1!D33), \"\",Input1!D33),IF(AND(ISNUMBER(Input2!E$20),ISNUMBER(Input2!E$44)), IF(OR(ISBLANK(Input2!E33), ISBLANK(Input2!E57)), \"\", Input2!E57/Input2!E33),\"\"))","v":{"$error":"#N/A"}},{"$f":"IF(Start!$B$17=\"input1\",IF(ISBLANK(Input1!E33), \"\",Input1!E33),IF(AND(ISNUMBER(Input2!F$20),ISNUMBER(Input2!F$44)), IF(OR(ISBLANK(Input2!F33), ISBLANK(Input2!F57)), \"\", Input2!F57/Input2!F33),\"\"))","v":{"$error":"#N/A"}},{"$f":"IF(Start!$B$17=\"input1\",IF(ISBLANK(Input1!F33), \"\",Input1!F33),IF(AND(ISNUMBER(Input2!G$20),ISNUMBER(Input2!G$44)), IF(OR(ISBLANK(Input2!G33), ISBLANK(Input2!G57)), \"\", Input2!G57/Input2!G33),\"\"))","v":{"$error":"#N/A"}},{"$f":"IF(Start!$B$17=\"input1\",IF(ISBLANK(Input1!G33), \"\",Input1!G33),IF(AND(ISNUMBER(Input2!H$20),ISNUMBER(Input2!H$44)), IF(OR(ISBLANK(Input2!H33), ISBLANK(Input2!H57)), \"\", Input2!H57/Input2!H33),\"\"))","v":{"$error":"#N/A"}},{"$f":"IF(Start!$B$17=\"input1\",IF(ISBLANK(Input1!H33), \"\",Input1!H33),IF(AND(ISNUMBER(Input2!I$20),ISNUMBER(Input2!I$44)), IF(OR(ISBLANK(Input2!I33), ISBLANK(Input2!I57)), \"\", Input2!I57/Input2!I33),\"\"))","v":{"$error":"#N/A"}},{"$f":"IF(Start!$B$17=\"input1\",IF(ISBLANK(Input1!I33), \"\",Input1!I33),IF(AND(ISNUMBER(Input2!J$20),ISNUMBER(Input2!J$44)), IF(OR(ISBLANK(Input2!J33), ISBLANK(Input2!J57)), \"\", Input2!J57/Input2!J33),\"\"))","v":{"$error":"#N/A"}},{"$f":"IF(Start!$B$17=\"input1\",IF(ISBLANK(Input1!J33), \"\",Input1!J33),IF(AND(ISNUMBER(Input2!K$20),ISNUMBER(Input2!K$44)), IF(OR(ISBLANK(Input2!K33), ISBLANK(Input2!K57)), \"\", Input2!K57/Input2!K33),\"\"))","v":{"$error":"#N/A"}}]
[14,{"$f":"IF(Start!$B$17=\"input1\",IF(ISBLANK(Input1!C34), \"\",Input1!C34),IF(AND(ISNUMBER(Input2!D$20),ISNUMBER(Input2!D$44)), IF(OR(ISBLANK(Input2!D34), ISBLANK(Input2!D58)), \"\", Input2!D58/Input2!D34),\"\"))","v":{"$error":"#N/A"}},{"$f":"IF(Start!$B$17=\"input1\",IF(ISBLANK(Input1!D34), \"\",Input1!D34),IF(AND(ISNUMBER(Input2!E$20),ISNUMBER(Input2!E$44)), IF(OR(ISBLANK(Input2!E34), ISBLANK(Input2!E58)), \"\", Input2!E58/Input2!E34),\"\"))","v":{"$error":"#N/A"}},{"$f":"IF(Start!$B$17=\"input1\",IF(ISBLANK(Input1!E34), \"\",Input1!E34),IF(AND(ISNUMBER(Input2!F$20),ISNUMBER(Input2!F$44)), IF(OR(ISBLANK(Input2!F34), ISBLANK(Input2!F58)), \"\", Input2!F58/Input2!F34),\"\"))","v":{"$error":"#N/A"}},{"$f":"IF(Start!$B$17=\"input1\",IF(ISBLANK(Input1!F34), \"\",Input1!F34),IF(AND(ISNUMBER(Input2!G$20),ISNUMBER(Input2!G$44)), IF(OR(ISBLANK(Input2!G34), ISBLANK(Input2!G58)), \"\", Input2!G58/Input2!G34),\"\"))","v":{"$error":"#N/A"}},{"$f":"IF(Start!$B$17=\"input1\",IF(ISBLANK(Input1!G34), \"\",Input1!G34),IF(AND(ISNUMBER(Input2!H$20),ISNUMBER(Input2!H$44)), IF(OR(ISBLANK(Input2!H34), ISBLANK(Input2!H58)), \"\", Input2!H58/Input2!H34),\"\"))","v":{"$error":"#N/A"}},{"$f":"IF(Start!$B$17=\"input1\",IF(ISBLANK(Input1!H34), \"\",Input1!H34),IF(AND(ISNUMBER(Input2!I$20),ISNUMBER(Input2!I$44)), IF(OR(ISBLANK(Input2!I34), ISBLANK(Input2!I58)), \"\", Input2!I58/Input2!I34),\"\"))","v":{"$error":"#N/A"}},{"$f":"IF(Start!$B$17=\"input1\",IF(ISBLANK(Input1!I34), \"\",Input1!I34),IF(AND(ISNUMBER(Input2!J$20),ISNUMBER(Input2!J$44)), IF(OR(ISBLANK(Input2!J34), ISBLANK(Input2!J58)), \"\", Input2!J58/Input2!J34),\"\"))","v":{"$error":"#N/A"}},{"$f":"IF(Start!$B$17=\"input1\",IF(ISBLANK(Input1!J34), \"\",Input1!J34),IF(AND(ISNUMBER(Input2!K$20),ISNUMBER(Input2!K$44)), IF(OR(ISBLANK(Input2!K34), ISBLANK(Input2!K58)), \"\", Input2!K58/Input2!K34),\"\"))","v":{"$error":"#N/A"}}]
[15,{"$f":"IF(Start!$B$17=\"input1\",IF(ISBLANK(Input1!C35), \"\",Input1!C35),IF(AND(ISNUMBER(Input2!D$20),ISNUMBER(Input2!D$44)), IF(OR(ISBLANK(Input2!D35), ISBLANK(Input2!D59)), \"\", Input2!D59/Input2!D35),\"\"))","v":{"$error":"#N/A"}},{"$f":"IF(Start!$B$17=\"input1\",IF(ISBLANK(Input1!D35), \"\",Input1!D35),IF(AND(ISNUMBER(Input2!E$20),ISNUMBER(Input2!E$44)), IF(OR(ISBLANK(Input2!E35), ISBLANK(Input2!E59)), \"\", Input2!E59/Input2!E35),\"\"))","v":{"$error":"#N/A"}},{"$f":"IF(Start!$B$17=\"input1\",IF(ISBLANK(Input1!E35), \"\",Input1!E35),IF(AND(ISNUMBER(Input2!F$20),ISNUMBER(Input2!F$44)), IF(OR(ISBLANK(Input2!F35), ISBLANK(Input2!F59)), \"\", Input2!F59/Input2!F35),\"\"))","v":{"$error":"#N/A"}},{"$f":"IF(Start!$B$17=\"input1\",IF(ISBLANK(Input1!F35), \"\",Input1!F35),IF(AND(ISNUMBER(Input2!G$20),ISNUMBER(Input2!G$44)), IF(OR(ISBLANK(Input2!G35), ISBLANK(Input2!G59)), \"\", Input2!G59/Input2!G35),\"\"))","v":{"$error":"#N/A"}},{"$f":"IF(Start!$B$17=\"input1\",IF(ISBLANK(Input1!G35), \"\",Input1!G35),IF(AND(ISNUMBER(Input2!H$20),ISNUMBER(Input2!H$44)), IF(OR(ISBLANK(Input2!H35), ISBLANK(Input2!H59)), \"\", Input2!H59/Input2!H35),\"\"))","v":{"$error":"#N/A"}},{"$f":"IF(Start!$B$17=\"input1\",IF(ISBLANK(Input1!H35), \"\",Input1!H35),IF(AND(ISNUMBER(Input2!I$20),ISNUMBER(Input2!I$44)), IF(OR(ISBLANK(Input2!I35), ISBLANK(Input2!I59)), \"\", Input2!I59/Input2!I35),\"\"))","v":{"$error":"#N/A"}},{"$f":"IF(Start!$B$17=\"input1\",IF(ISBLANK(Input1!I35), \"\",Input1!I35),IF(AND(ISNUMBER(Input2!J$20),ISNUMBER(Input2!J$44)), IF(OR(ISBLANK(Input2!J35), ISBLANK(Input2!J59)), \"\", Input2!J59/Input2!J35),\"\"))","v":{"$error":"#N/A"}},{"$f":"IF(Start!$B$17=\"input1\",IF(ISBLANK(Input1!J35), \"\",Input1!J35),IF(AND(ISNUMBER(Input2!K$20),ISNUMBER(Input2!K$44)), IF(OR(ISBLANK(Input2!K35), ISBLANK(Input2!K59)), \"\", Input2!K59/Input2!K35),\"\"))","v":{"$error":"#N/A"}}]
[16,{"$f":"IF(Start!$B$17=\"input1\",IF(ISBLANK(Input1!C36), \"\",Input1!C36),IF(AND(ISNUMBER(Input2!D$20),ISNUMBER(Input2!D$44)), IF(OR(ISBLANK(Input2!D36), ISBLANK(Input2!D60)), \"\", Input2!D60/Input2!D36),\"\"))","v":{"$error":"#N/A"}},{"$f":"IF(Start!$B$17=\"input1\",IF(ISBLANK(Input1!D36), \"\",Input1!D36),IF(AND(ISNUMBER(Input2!E$20),ISNUMBER(Input2!E$44)), IF(OR(ISBLANK(Input2!E36), ISBLANK(Input2!E60)), \"\", Input2!E60/Input2!E36),\"\"))","v":{"$error":"#N/A"}},{"$f":"IF(Start!$B$17=\"input1\",IF(ISBLANK(Input1!E36), \"\",Input1!E36),IF(AND(ISNUMBER(Input2!F$20),ISNUMBER(Input2!F$44)), IF(OR(ISBLANK(Input2!F36), ISBLANK(Input2!F60)), \"\", Input2!F60/Input2!F36),\"\"))","v":{"$error":"#N/A"}},{"$f":"IF(Start!$B$17=\"input1\",IF(ISBLANK(Input1!F36), \"\",Input1!F36),IF(AND(ISNUMBER(Input2!G$20),ISNUMBER(Input2!G$44)), IF(OR(ISBLANK(Input2!G36), ISBLANK(Input2!G60)), \"\", Input2!G60/Input2!G36),\"\"))","v":{"$error":"#N/A"}},{"$f":"IF(Start!$B$17=\"input1\",IF(ISBLANK(Input1!G36), \"\",Input1!G36),IF(AND(ISNUMBER(Input2!H$20),ISNUMBER(Input2!H$44)), IF(OR(ISBLANK(Input2!H36), ISBLANK(Input2!H60)), \"\", Input2!H60/Input2!H36),\"\"))","v":{"$error":"#N/A"}},{"$f":"IF(Start!$B$17=\"input1\",IF(ISBLANK(Input1!H36), \"\",Input1!H36),IF(AND(ISNUMBER(Input2!I$20),ISNUMBER(Input2!I$44)), IF(OR(ISBLANK(Input2!I36), ISBLANK(Input2!I60)), \"\", Input2!I60/Input2!I36),\"\"))","v":{"$error":"#N/A"}},{"$f":"IF(Start!$B$17=\"input1\",IF(ISBLANK(Input1!I36), \"\",Input1!I36),IF(AND(ISNUMBER(Input2!J$20),ISNUMBER(Input2!J$44)), IF(OR(ISBLANK(Input2!J36), ISBLANK(Input2!J60)), \"\", Input2!J60/Input2!J36),\"\"))","v":{"$error":"#N/A"}},{"$f":"IF(Start!$B$17=\"input1\",IF(ISBLANK(Input1!J36), \"\",Input1!J36),IF(AND(ISNUMBER(Input2!K$20),ISNUMBER(Input2!K$44)), IF(OR(ISBLANK(Input2!K36), ISBLANK(Input2!K60)), \"\", Input2!K60/Input2!K36),\"\"))","v":{"$error":"#N/A"}}]
[17,{"$f":"IF(Start!$B$17=\"input1\",IF(ISBLANK(Input1!C37), \"\",Input1!C37),IF(AND(ISNUMBER(Input2!D$20),ISNUMBER(Input2!D$44)), IF(OR(ISBLANK(Input2!D37), ISBLANK(Input2!D61)), \"\", Input2!D61/Input2!D37),\"\"))","v":{"$error":"#N/A"}},{"$f":"IF(Start!$B$17=\"input1\",IF(ISBLANK(Input1!D37), \"\",Input1!D37),IF(AND(ISNUMBER(Input2!E$20),ISNUMBER(Input2!E$44)), IF(OR(ISBLANK(Input2!E37), ISBLANK(Input2!E61)), \"\", Input2!E61/Input2!E37),\"\"))","v":{"$error":"#N/A"}},{"$f":"IF(Start!$B$17=\"input1\",IF(ISBLANK(Input1!E37), \"\",Input1!E37),IF(AND(ISNUMBER(Input2!F$20),ISNUMBER(Input2!F$44)), IF(OR(ISBLANK(Input2!F37), ISBLANK(Input2!F61)), \"\", Input2!F61/Input2!F37),\"\"))","v":{"$error":"#N/A"}},{"$f":"IF(Start!$B$17=\"input1\",IF(ISBLANK(Input1!F37), \"\",Input1!F37),IF(AND(ISNUMBER(Input2!G$20),ISNUMBER(Input2!G$44)), IF(OR(ISBLANK(Input2!G37), ISBLANK(Input2!G61)), \"\", Input2!G61/Input2!G37),\"\"))","v":{"$error":"#N/A"}},{"$f":"IF(Start!$B$17=\"input1\",IF(ISBLANK(Input1!G37), \"\",Input1!G37),IF(AND(ISNUMBER(Input2!H$20),ISNUMBER(Input2!H$44)), IF(OR(ISBLANK(Input2!H37), ISBLANK(Input2!H61)), \"\", Input2!H61/Input2!H37),\"\"))","v":{"$error":"#N/A"}},{"$f":"IF(Start!$B$17=\"input1\",IF(ISBLANK(Input1!H37), \"\",Input1!H37),IF(AND(ISNUMBER(Input2!I$20),ISNUMBER(Input2!I$44)), IF(OR(ISBLANK(Input2!I37), ISBLANK(Input2!I61)), \"\", Input2!I61/Input2!I37),\"\"))","v":{"$error":"#N/A"}},{"$f":"IF(Start!$B$17=\"input1\",IF(ISBLANK(Input1!I37), \"\",Input1!I37),IF(AND(ISNUMBER(Input2!J$20),ISNUMBER(Input2!J$44)), IF(OR(ISBLANK(Input2!J37), ISBLANK(Input2!J61)), \"\", Input2!J61/Input2!J37),\"\"))","v":{"$error":"#N/A"}},{"$f":"IF(Start!$B$17=\"input1\",IF(ISBLANK(Input1!J37), \"\",Input1!J37),IF(AND(ISNUMBER(Input2!K$20),ISNUMBER(Input2!K$44)), IF(OR(ISBLANK(Input2!K37), ISBLANK(Input2!K61)), \"\", Input2!K61/Input2!K37),\"\"))","v":{"$error":"#N/A"}}]
[18,{"$f":"IF(Start!$B$17=\"input1\",IF(ISBLANK(Input1!C38), \"\",Input1!C38),IF(AND(ISNUMBER(Input2!D$20),ISNUMBER(Input2!D$44)), IF(OR(ISBLANK(Input2!D38), ISBLANK(Input2!D62)), \"\", Input2!D62/Input2!D38),\"\"))","v":{"$error":"#N/A"}},{"$f":"IF(Start!$B$17=\"input1\",IF(ISBLANK(Input1!D38), \"\",Input1!D38),IF(AND(ISNUMBER(Input2!E$20),ISNUMBER(Input2!E$44)), IF(OR(ISBLANK(Input2!E38), ISBLANK(Input2!E62)), \"\", Input2!E62/Input2!E38),\"\"))","v":{"$error":"#N/A"}},{"$f":"IF(Start!$B$17=\"input1\",IF(ISBLANK(Input1!E38), \"\",Input1!E38),IF(AND(ISNUMBER(Input2!F$20),ISNUMBER(Input2!F$44)), IF(OR(ISBLANK(Input2!F38), ISBLANK(Input2!F62)), \"\", Input2!F62/Input2!F38),\"\"))","v":{"$error":"#N/A"}},{"$f":"IF(Start!$B$17=\"input1\",IF(ISBLANK(Input1!F38), \"\",Input1!F38),IF(AND(ISNUMBER(Input2!G$20),ISNUMBER(Input2!G$44)), IF(OR(ISBLANK(Input2!G38), ISBLANK(Input2!G62)), \"\", Input2!G62/Input2!G38),\"\"))","v":{"$error":"#N/A"}},{"$f":"IF(Start!$B$17=\"input1\",IF(ISBLANK(Input1!G38), \"\",Input1!G38),IF(AND(ISNUMBER(Input2!H$20),ISNUMBER(Input2!H$44)), IF(OR(ISBLANK(Input2!H38), ISBLANK(Input2!H62)), \"\", Input2!H62/Input2!H38),\"\"))","v":{"$error":"#N/A"}},{"$f":"IF(Start!$B$17=\"input1\",IF(ISBLANK(Input1!H38), \"\",Input1!H38),IF(AND(ISNUMBER(Input2!I$20),ISNUMBER(Input2!I$44)), IF(OR(ISBLANK(Input2!I38), ISBLANK(Input2!I62)), \"\", Input2!I62/Input2!I38),\"\"))","v":{"$error":"#N/A"}},{"$f":"IF(Start!$B$17=\"input1\",IF(ISBLANK(Input1!I38), \"\",Input1!I38),IF(AND(ISNUMBER(Input2!J$20),ISNUMBER(Input2!J$44)), IF(OR(ISBLANK(Input2!J38), ISBLANK(Input2!J62)), \"\", Input2!J62/Input2!J38),\"\"))","v":{"$error":"#N/A"}},{"$f":"IF(Start!$B$17=\"input1\",IF(ISBLANK(Input1!J38), \"\",Input1!J38),IF(AND(ISNUMBER(Input2!K$20),ISNUMBER(Input2!K$44)), IF(OR(ISBLANK(Input2!K38), ISBLANK(Input2!K62)), \"\", Input2!K62/Input2!K38),\"\"))","v":{"$error":"#N/A"}}]
[19,{"$f":"IF(Start!$B$17=\"input1\",IF(ISBLANK(Input1!C39), \"\",Input1!C39),IF(AND(ISNUMBER(Input2!D$20),ISNUMBER(Input2!D$44)), IF(OR(ISBLANK(Input2!D39), ISBLANK(Input2!D63)), \"\", Input2!D63/Input2!D39),\"\"))","v":{"$error":"#N/A"}},{"$f":"IF(Start!$B$17=\"input1\",IF(ISBLANK(Input1!D39), \"\",Input1!D39),IF(AND(ISNUMBER(Input2!E$20),ISNUMBER(Input2!E$44)), IF(OR(ISBLANK(Input2!E39), ISBLANK(Input2!E63)), \"\", Input2!E63/Input2!E39),\"\"))","v":{"$error":"#N/A"}},{"$f":"IF(Start!$B$17=\"input1\",IF(ISBLANK(Input1!E39), \"\",Input1!E39),IF(AND(ISNUMBER(Input2!F$20),ISNUMBER(Input2!F$44)), IF(OR(ISBLANK(Input2!F39), ISBLANK(Input2!F63)), \"\", Input2!F63/Input2!F39),\"\"))","v":{"$error":"#N/A"}},{"$f":"IF(Start!$B$17=\"input1\",IF(ISBLANK(Input1!F39), \"\",Input1!F39),IF(AND(ISNUMBER(Input2!G$20),ISNUMBER(Input2!G$44)), IF(OR(ISBLANK(Input2!G39), ISBLANK(Input2!G63)), \"\", Input2!G63/Input2!G39),\"\"))","v":{"$error":"#N/A"}},{"$f":"IF(Start!$B$17=\"input1\",IF(ISBLANK(Input1!G39), \"\",Input1!G39),IF(AND(ISNUMBER(Input2!H$20),ISNUMBER(Input2!H$44)), IF(OR(ISBLANK(Input2!H39), ISBLANK(Input2!H63)), \"\", Input2!H63/Input2!H39),\"\"))","v":{"$error":"#N/A"}},{"$f":"IF(Start!$B$17=\"input1\",IF(ISBLANK(Input1!H39), \"\",Input1!H39),IF(AND(ISNUMBER(Input2!I$20),ISNUMBER(Input2!I$44)), IF(OR(ISBLANK(Input2!I39), ISBLANK(Input2!I63)), \"\", Input2!I63/Input2!I39),\"\"))","v":{"$error":"#N/A"}},{"$f":"IF(Start!$B$17=\"input1\",IF(ISBLANK(Input1!I39), \"\",Input1!I39),IF(AND(ISNUMBER(Input2!J$20),ISNUMBER(Input2!J$44)), IF(OR(ISBLANK(Input2!J39), ISBLANK(Input2!J63)), \"\", Input2!J63/Input2!J39),\"\"))","v":{"$error":"#N/A"}},{"$f":"IF(Start!$B$17=\"input1\",IF(ISBLANK(Input1!J39), \"\",Input1!J39),IF(AND(ISNUMBER(Input2!K$20),ISNUMBER(Input2!K$44)), IF(OR(ISBLANK(Input2!K39), ISBLANK(Input2!K63)), \"\", Input2!K63/Input2!K39),\"\"))","v":{"$error":"#N/A"}}]
[20,{"$f":"IF(Start!$B$17=\"input1\",IF(ISBLANK(Input1!C40), \"\",Input1!C40),IF(AND(ISNUMBER(Input2!D$20),ISNUMBER(Input2!D$44)), IF(OR(ISBLANK(Input2!D40), ISBLANK(Input2!D64)), \"\", Input2!D64/Input2!D40),\"\"))","v":{"$error":"#N/A"}},{"$f":"IF(Start!$B$17=\"input1\",IF(ISBLANK(Input1!D40), \"\",Input1!D40),IF(AND(ISNUMBER(Input2!E$20),ISNUMBER(Input2!E$44)), IF(OR(ISBLANK(Input2!E40), ISBLANK(Input2!E64)), \"\", Input2!E64/Input2!E40),\"\"))","v":{"$error":"#N/A"}},{"$f":"IF(Start!$B$17=\"input1\",IF(ISBLANK(Input1!E40), \"\",Input1!E40),IF(AND(ISNUMBER(Input2!F$20),ISNUMBER(Input2!F$44)), IF(OR(ISBLANK(Input2!F40), ISBLANK(Input2!F64)), \"\", Input2!F64/Input2!F40),\"\"))","v":{"$error":"#N/A"}},{"$f":"IF(Start!$B$17=\"input1\",IF(ISBLANK(Input1!F40), \"\",Input1!F40),IF(AND(ISNUMBER(Input2!G$20),ISNUMBER(Input2!G$44)), IF(OR(ISBLANK(Input2!G40), ISBLANK(Input2!G64)), \"\", Input2!G64/Input2!G40),\"\"))","v":{"$error":"#N/A"}},{"$f":"IF(Start!$B$17=\"input1\",IF(ISBLANK(Input1!G40), \"\",Input1!G40),IF(AND(ISNUMBER(Input2!H$20),ISNUMBER(Input2!H$44)), IF(OR(ISBLANK(Input2!H40), ISBLANK(Input2!H64)), \"\", Input2!H64/Input2!H40),\"\"))","v":{"$error":"#N/A"}},{"$f":"IF(Start!$B$17=\"input1\",IF(ISBLANK(Input1!H40), \"\",Input1!H40),IF(AND(ISNUMBER(Input2!I$20),ISNUMBER(Input2!I$44)), IF(OR(ISBLANK(Input2!I40), ISBLANK(Input2!I64)), \"\", Input2!I64/Input2!I40),\"\"))","v":{"$error":"#N/A"}},{"$f":"IF(Start!$B$17=\"input1\",IF(ISBLANK(Input1!I40), \"\",Input1!I40),IF(AND(ISNUMBER(Input2!J$20),ISNUMBER(Input2!J$44)), IF(OR(ISBLANK(Input2!J40), ISBLANK(Input2!J64)), \"\", Input2!J64/Input2!J40),\"\"))","v":{"$error":"#N/A"}},{"$f":"IF(Start!$B$17=\"input1\",IF(ISBLANK(Input1!J40), \"\",Input1!J40),IF(AND(ISNUMBER(Input2!K$20),ISNUMBER(Input2!K$44)), IF(OR(ISBLANK(Input2!K40), ISBLANK(Input2!K64)), \"\", Input2!K64/Input2!K40),\"\"))","v":{"$error":"#N/A"}}]
["Sum",{"$f":"IF(ISNUMBER(B25),SUM(B26:B45),\"\")","v":""},"","","","","","",""]
["N",{"$f":"IF(ISNUMBER(B25),COUNT(B26:B45),\"\")","v":""},"","","","","","",""]
["Total Sample",{"$f":"IF(ISNUMBER(I25),SUMPRODUCT((B47:I47)*(B46:I46>0)),IF(ISNUMBER(H25),SUMPRODUCT((B47:H47)*(B46:H46>0)),IF(ISNUMBER(G25),SUMPRODUCT((B47:G47)*(B46:G46>0)),IF(ISNUMBER(F25),SUMPRODUCT((B47:F47)*(B46:F46>0)),IF(ISNUMBER(E25),SUMPRODUCT((B47:E47)*(B46:E46>0)),IF(ISNUMBER(D25),SUMPRODUCT((B47:D47)*(B46:D46>0)),IF(ISNUMBER(C25),SUMPRODUCT((B47:C47)*(B46:C46>0)),B47*B46)))))))","v":{"$error":"#VALUE!"}}]
["Mean",{"$f":"IF(ISNUMBER(B25),IF(B47=0,0,AVERAGE(B26:B45)),\"\")","v":""},"","","","","","",""]

{"sheet":"calc_Fisher","index":8,"n_rows":25,"n_cols":16,"rows_kept":25,"cut":false,"hidden":true,"merged":[]}
["Calculations"]
["This tab includes Fisher's Exact Test"]
[]
[]
["Test group",null,"Survival","Dead","Total","Row1_index","Row2_index","Success_index","Fail_index",null,null,null,null,null,null,"HypGeoDist_P value"]
["Control",{"$f":"IF(Start!$B$17=\"input1\",\"\",Input2!$D$20)","v":{"$error":"#N/A"}},{"$f":"IF(Start!$B$17=\"input2\",IF(Input2!D20=\"\",\"\",SUM(Input2!$D$45:$D$64)),\"\")","v":{"$error":"#N/A"}},{"$f":"IF(AND(ISNUMBER(E6), ISNUMBER(C6)), E6-C6,\"\")","v":""},{"$f":"IF(Start!$B$17=\"input2\",IF(Input2!$D$20=\"\",\"\",SUM(Input2!$D$21:$D$40)),\"\")","v":{"$error":"#N/A"}},null,null,null,null,"A","B","a","b","Pop_success","Pop_tot"]
["Conc.1",{"$f":"IF(Start!$B$17=\"input1\",\"\",Input2!$E$20)","v":{"$error":"#N/A"}},{"$f":"IF(Start!$B$17=\"input2\",IF(Input2!E20=\"\",\"\",SUM(Input2!$E$45:$E$64)),\"\")","v":{"$error":"#N/A"}},"",{"$f":"IF(Start!$B$17=\"input2\",IF(Input2!$E$20=\"\",\"\",SUM(Input2!$E$21:$E$40)),\"\")","v":{"$error":"#N/A"}},{"$f":"IF(ISNUMBER($E7), IF($E7>=$E$6, ROW($E7), ROW($E$6)),\"\")","v":""},{"$f":"IF(ISNUMBER($E7), IF($E7<$E$6, ROW($E7), ROW($E$6)),\"\")","v":""},{"$f":"IF(ISNUMBER(B7), IF(INDIRECT(\"c\"&$F7)/INDIRECT(\"e\"&$F7)>=INDIRECT(\"c\"&$G7)/INDIRECT(\"e\"&$G7), \"c\", \"d\"),\"\")","v":""},{"$f":"IF(ISNUMBER(B7),IF(INDIRECT(\"c\"&$F7)/INDIRECT(\"e\"&$F7)<INDIRECT(\"c\"&$G7)/INDIRECT(\"e\"&$G7), \"c\", \"d\"),\"\")","v":""},{"$f":"IF(ISNUMBER(B7),INDIRECT(\"e\"&$F7),\"\")","v":""},{"$f":"IF(ISNUMBER(B7),INDIRECT(\"e\"&$G7),\"\")","v":""},{"$f":"INDIRECT($H7&$F7)","v":{"$error":"#REF!"}},{"$f":"INDIRECT($H7&$G7)","v":{"$error":"#REF!"}},{"$f":"IF(ISNUMBER(B7),INDIRECT(H7&F7)+INDIRECT(H7&G7),\"\")","v":""},{"$f":"IF(ISNUMBER(B7),$E7+$E$6,\"\")","v":""},{"$f":"IF(AND(ISNUMBER(L7), ISNUMBER(J7), ISNUMBER(N7), ISNUMBER(O7)), HYPGEOMDIST(L7,J7,N7,O7),\"\")","v":""}]
["Conc.2",{"$f":"IF(Start!$B$17=\"input1\",\"\",Input2!$F$20)","v":{"$error":"#N/A"}},{"$f":"IF(Start!$B$17=\"input2\",IF(Input2!F20=\"\",\"\",SUM(Input2!$F$45:$F$64)),\"\")","v":{"$error":"#N/A"}},"",{"$f":"IF(Start!$B$17=\"input2\",IF(Input2!$F$20=\"\",\"\",SUM(Input2!$F$21:$F$40)),\"\")","v":{"$error":"#N/A"}},{"$f":"IF(ISNUMBER($E8), IF($E8>=$E$6, ROW($E8), ROW($E$6)),\"\")","v":""},{"$f":"IF(ISNUMBER($E8), IF($E8<$E$6, ROW($E8), ROW($E$6)),\"\")","v":""},{"$f":"IF(ISNUMBER(B8), IF(INDIRECT(\"c\"&$F8)/INDIRECT(\"e\"&$F8)>=INDIRECT(\"c\"&$G8)/INDIRECT(\"e\"&$G8), \"c\", \"d\"),\"\")","v":""},{"$f":"IF(ISNUMBER(B8),IF(INDIRECT(\"c\"&$F8)/INDIRECT(\"e\"&$F8)<INDIRECT(\"c\"&$G8)/INDIRECT(\"e\"&$G8), \"c\", \"d\"),\"\")","v":""},{"$f":"IF(ISNUMBER(B8),INDIRECT(\"e\"&$F8),\"\")","v":""},{"$f":"IF(ISNUMBER(B8),INDIRECT(\"e\"&$G8),\"\")","v":""},{"$f":"INDIRECT($H8&$F8)","v":{"$error":"#REF!"}},{"$f":"INDIRECT($H8&$G8)","v":{"$error":"#REF!"}},{"$f":"IF(ISNUMBER(B8),INDIRECT(H8&F8)+INDIRECT(H8&G8),\"\")","v":""},{"$f":"IF(ISNUMBER(B8),$E8+$E$6,\"\")","v":""},{"$f":"IF(AND(ISNUMBER(L8), ISNUMBER(J8), ISNUMBER(N8), ISNUMBER(O8)), HYPGEOMDIST(L8,J8,N8,O8),\"\")","v":""}]
["Conc.3",{"$f":"IF(Start!$B$17=\"input1\",\"\",Input2!$G$20)","v":{"$error":"#N/A"}},{"$f":"IF(Start!$B$17=\"input2\",IF(Input2!G20=\"\",\"\",SUM(Input2!$G$45:$G$64)),\"\")","v":{"$error":"#N/A"}},"",{"$f":"IF(Start!$B$17=\"input2\",IF(Input2!$G$20=\"\",\"\",SUM(Input2!$G$21:$G$40)),\"\")","v":{"$error":"#N/A"}},{"$f":"IF(ISNUMBER($E9), IF($E9>=$E$6, ROW($E9), ROW($E$6)),\"\")","v":""},{"$f":"IF(ISNUMBER($E9), IF($E9<$E$6, ROW($E9), ROW($E$6)),\"\")","v":""},{"$f":"IF(ISNUMBER(B9), IF(INDIRECT(\"c\"&$F9)/INDIRECT(\"e\"&$F9)>=INDIRECT(\"c\"&$G9)/INDIRECT(\"e\"&$G9), \"c\", \"d\"),\"\")","v":""},{"$f":"IF(ISNUMBER(B9),IF(INDIRECT(\"c\"&$F9)/INDIRECT(\"e\"&$F9)<INDIRECT(\"c\"&$G9)/INDIRECT(\"e\"&$G9), \"c\", \"d\"),\"\")","v":""},{"$f":"IF(ISNUMBER(B9),INDIRECT(\"e\"&$F9),\"\")","v":""},{"$f":"IF(ISNUMBER(B9),INDIRECT(\"e\"&$G9),\"\")","v":""},{"$f":"INDIRECT($H9&$F9)","v":{"$error":"#REF!"}},{"$f":"INDIRECT($H9&$G9)","v":{"$error":"#REF!"}},{"$f":"IF(ISNUMBER(B9),INDIRECT(H9&F9)+INDIRECT(H9&G9),\"\")","v":""},{"$f":"IF(ISNUMBER(B9),$E9+$E$6,\"\")","v":""},{"$f":"IF(AND(ISNUMBER(L9), ISNUMBER(J9), ISNUMBER(N9), ISNUMBER(O9)), HYPGEOMDIST(L9,J9,N9,O9),\"\")","v":""}]
["Conc.4",{"$f":"IF(Start!$B$17=\"input1\",\"\",Input2!$H$20)","v":{"$error":"#N/A"}},{"$f":"IF(Start!$B$17=\"input2\",IF(Input2!H20=\"\",\"\",SUM(Input2!$H$45:$H$64)),\"\")","v":{"$error":"#N/A"}},"",{"$f":"IF(Start!$B$17=\"input2\",IF(Input2!$H$20=\"\",\"\",SUM(Input2!$H$21:$H$40)),\"\")","v":{"$error":"#N/A"}},{"$f":"IF(ISNUMBER($E10), IF($E10>=$E$6, ROW($E10), ROW($E$6)),\"\")","v":""},{"$f":"IF(ISNUMBER($E10), IF($E10<$E$6, ROW($E10), ROW($E$6)),\"\")","v":""},{"$f":"IF(ISNUMBER(B10), IF(INDIRECT(\"c\"&$F10)/INDIRECT(\"e\"&$F10)>=INDIRECT(\"c\"&$G10)/INDIRECT(\"e\"&$G10), \"c\", \"d\"),\"\")","v":""},{"$f":"IF(ISNUMBER(B10),IF(INDIRECT(\"c\"&$F10)/INDIRECT(\"e\"&$F10)<INDIRECT(\"c\"&$G10)/INDIRECT(\"e\"&$G10), \"c\", \"d\"),\"\")","v":""},{"$f":"IF(ISNUMBER(B10),INDIRECT(\"e\"&$F10),\"\")","v":""},{"$f":"IF(ISNUMBER(B10),INDIRECT(\"e\"&$G10),\"\")","v":""},{"$f":"IF(ISNUMBER(B10),INDIRECT($H10&$F10),\"\")","v":""},{"$f":"IF(ISNUMBER(B10),INDIRECT($H10&$G10),\"\")","v":""},{"$f":"IF(ISNUMBER(B10),INDIRECT(H10&F10)+INDIRECT(H10&G10),\"\")","v":""},{"$f":"IF(ISNUMBER(B10),$E10+$E$6,\"\")","v":""},{"$f":"IF(AND(ISNUMBER(L10), ISNUMBER(J10), ISNUMBER(N10), ISNUMBER(O10)), HYPGEOMDIST(L10,J10,N10,O10),\"\")","v":""}]
["Conc.5",{"$f":"IF(Start!$B$17=\"input1\",\"\",Input2!$DI$20)","v":{"$error":"#N/A"}},{"$f":"IF(Start!$B$17=\"input2\",IF(Input2!I20=\"\",\"\",SUM(Input2!$I$45:$I$64)),\"\")","v":{"$error":"#N/A"}},"",{"$f":"IF(Start!$B$17=\"input2\",IF(Input2!$I$20=\"\",\"\",SUM(Input2!$I$21:$I$40)),\"\")","v":{"$error":"#N/A"}},{"$f":"IF(ISNUMBER($E11), IF($E11>=$E$6, ROW($E11), ROW($E$6)),\"\")","v":""},{"$f":"IF(ISNUMBER($E11), IF($E11<$E$6, ROW($E11), ROW($E$6)),\"\")","v":""},{"$f":"IF(ISNUMBER(B11), IF(INDIRECT(\"c\"&$F11)/INDIRECT(\"e\"&$F11)>=INDIRECT(\"c\"&$G11)/INDIRECT(\"e\"&$G11), \"c\", \"d\"),\"\")","v":""},{"$f":"IF(ISNUMBER(B11),IF(INDIRECT(\"c\"&$F11)/INDIRECT(\"e\"&$F11)<INDIRECT(\"c\"&$G11)/INDIRECT(\"e\"&$G11), \"c\", \"d\"),\"\")","v":""},{"$f":"IF(ISNUMBER(B11),INDIRECT(\"e\"&$F11),\"\")","v":""},{"$f":"IF(ISNUMBER(B11),INDIRECT(\"e\"&$G11),\"\")","v":""},{"$f":"IF(ISNUMBER(B11),INDIRECT($H11&$F11),\"\")","v":""},{"$f":"IF(ISNUMBER(B11),INDIRECT($H11&$G11),\"\")","v":""},{"$f":"IF(ISNUMBER(B11),INDIRECT(H11&F11)+INDIRECT(H11&G11),\"\")","v":""},{"$f":"IF(ISNUMBER(B11),$E11+$E$6,\"\")","v":""},{"$f":"IF(AND(ISNUMBER(L11), ISNUMBER(J11), ISNUMBER(N11), ISNUMBER(O11)), HYPGEOMDIST(L11,J11,N11,O11),\"\")","v":""}]
["Conc.6",{"$f":"IF(Start!$B$17=\"input1\",\"\",Input2!$J$20)","v":{"$error":"#N/A"}},{"$f":"IF(Start!$B$17=\"input2\",IF(Input2!J20=\"\",\"\",SUM(Input2!$J$45:$J$64)),\"\")","v":{"$error":"#N/A"}},"",{"$f":"IF(Start!$B$17=\"input2\",IF(Input2!$J$20=\"\",\"\",SUM(Input2!$J$21:$J$40)),\"\")","v":{"$error":"#N/A"}},{"$f":"IF(ISNUMBER($E12), IF($E12>=$E$6, ROW($E12), ROW($E$6)),\"\")","v":""},{"$f":"IF(ISNUMBER($E12), IF($E12<$E$6, ROW($E12), ROW($E$6)),\"\")","v":""},{"$f":"IF(ISNUMBER(B12), IF(INDIRECT(\"c\"&$F12)/INDIRECT(\"e\"&$F12)>=INDIRECT(\"c\"&$G12)/INDIRECT(\"e\"&$G12), \"c\", \"d\"),\"\")","v":""},{"$f":"IF(ISNUMBER(B12),IF(INDIRECT(\"c\"&$F12)/INDIRECT(\"e\"&$F12)<INDIRECT(\"c\"&$G12)/INDIRECT(\"e\"&$G12), \"c\", \"d\"),\"\")","v":""},{"$f":"IF(ISNUMBER(B12),INDIRECT(\"e\"&$F12),\"\")","v":""},{"$f":"IF(ISNUMBER(B12),INDIRECT(\"e\"&$G12),\"\")","v":""},{"$f":"IF(ISNUMBER(B12), INDIRECT($H12&$F12),\"\")","v":""},{"$f":"IF(ISNUMBER(B12), INDIRECT($H12&$G12),\"\")","v":""},{"$f":"IF(ISNUMBER(B12),INDIRECT(H12&F12)+INDIRECT(H12&G12),\"\")","v":""},{"$f":"IF(ISNUMBER(B12),$E12+$E$6,\"\")","v":""},{"$f":"IF(AND(ISNUMBER(L12), ISNUMBER(J12), ISNUMBER(N12), ISNUMBER(O12)), HYPGEOMDIST(L12,J12,N12,O12),\"\")","v":""}]
["Conc.7",{"$f":"IF(Start!$B$17=\"input1\",\"\",Input2!$K$20)","v":{"$error":"#N/A"}},{"$f":"IF(Start!$B$17=\"input2\",IF(Input2!K20=\"\",\"\",SUM(Input2!$K$45:$K$64)),\"\")","v":{"$error":"#N/A"}},"",{"$f":"IF(Start!$B$17=\"input2\",IF(Input2!$K$20=\"\",\"\",SUM(Input2!$K$21:$K$40)),\"\")","v":{"$error":"#N/A"}}]
[]
[null,null,"Hypgeodist"]
[null,null,"x","number of success in sample"]
[null,null,"n","sample size (2)"]
[null,null,"M","number of success in the population"]
[null,null,"N","total number in the population"]
[null,null,null,null,null,null,null,{"$f":"ISNUMBER(E13)","v":false}]
[]
[]
[null,null,"Arrange contingecy table for each concentration and the control"]
[null,null,"arrange so total number of observations for row 1 is greater than or equal to the total for row 2 (A>=B)"]
[null,null,null,"need a/A >= b/B"]

{"sheet":"calc_IC25","index":9,"n_rows":83,"n_cols":26,"rows_kept":83,"cut":false,"hidden":true,"merged":[]}
["Calculations",{"$f":"IF(ISNUMBER(FIND(\"Acute\",Start!B7)), \"LC50\", \"IC25\")","v":"IC25"},{"$f":"IF(ISNUMBER(FIND(\"Acute\",Start!B7)), TRUE, FALSE)","v":false},null,null,"Species",{"$f":"Start!B6","v":0}]
[{"$f":"\"This tab include \" & B1&\" calculation (linear interpolation)\"","v":"This tab include IC25 calculation (linear interpolation)"},null,null,null,null,"Test",{"$f":"Start!B7","v":0}]
[null,null,null,null,null,null,{"$f":"G1&\" \"&G2","v":"0 0"}]
["Test group","Control","Conc.1","Conc.2","Conc.3","Conc.4","Conc.5","Conc. 6","Conc. 7"]
[null,{"$f":"IF(Intermed_Input!B25=\"\",\"\",LOG(Intermed_Input!B25+1))","v":""},{"$f":"IF(Intermed_Input!C25=\"\",\"\",LOG(Intermed_Input!C25+1))","v":""},{"$f":"IF(Intermed_Input!D25=\"\",\"\",LOG(Intermed_Input!D25+1))","v":""},{"$f":"IF(Intermed_Input!E25=\"\",\"\",LOG(Intermed_Input!E25+1))","v":""},{"$f":"IF(Intermed_Input!F25=\"\",\"\",LOG(Intermed_Input!F25+1))","v":""},{"$f":"IF(Intermed_Input!G25=\"\",\"\",LOG(Intermed_Input!G25+1))","v":""},{"$f":"IF(Intermed_Input!H25=\"\",\"\",LOG(Intermed_Input!H25+1))","v":""},{"$f":"IF(Intermed_Input!I25=\"\",\"\",LOG(Intermed_Input!I25+1))","v":""}]
[1,{"$f":"IF(ISNUMBER(Intermed_Input!B26),Intermed_Input!B26,\"\")","v":""},{"$f":"IF(ISNUMBER(Intermed_Input!C26),Intermed_Input!C26,\"\")","v":""},{"$f":"IF(ISNUMBER(Intermed_Input!D26),Intermed_Input!D26,\"\")","v":""},{"$f":"IF(ISNUMBER(Intermed_Input!E26),Intermed_Input!E26,\"\")","v":""},{"$f":"IF(ISNUMBER(Intermed_Input!F26),Intermed_Input!F26,\"\")","v":""},{"$f":"IF(ISNUMBER(Intermed_Input!G26),Intermed_Input!G26,\"\")","v":""},{"$f":"IF(ISNUMBER(Intermed_Input!H26),Intermed_Input!H26,\"\")","v":""},{"$f":"IF(ISNUMBER(Intermed_Input!I26),Intermed_Input!I26,\"\")","v":""}]
[2,{"$f":"IF(ISNUMBER(Intermed_Input!B27),Intermed_Input!B27,\"\")","v":""},{"$f":"IF(ISNUMBER(Intermed_Input!C27),Intermed_Input!C27,\"\")","v":""},{"$f":"IF(ISNUMBER(Intermed_Input!D27),Intermed_Input!D27,\"\")","v":""},{"$f":"IF(ISNUMBER(Intermed_Input!E27),Intermed_Input!E27,\"\")","v":""},{"$f":"IF(ISNUMBER(Intermed_Input!F27),Intermed_Input!F27,\"\")","v":""},{"$f":"IF(ISNUMBER(Intermed_Input!G27),Intermed_Input!G27,\"\")","v":""},{"$f":"IF(ISNUMBER(Intermed_Input!H27),Intermed_Input!H27,\"\")","v":""},{"$f":"IF(ISNUMBER(Intermed_Input!I27),Intermed_Input!I27,\"\")","v":""}]
[3,{"$f":"IF(ISNUMBER(Intermed_Input!B28),Intermed_Input!B28,\"\")","v":""},{"$f":"IF(ISNUMBER(Intermed_Input!C28),Intermed_Input!C28,\"\")","v":""},{"$f":"IF(ISNUMBER(Intermed_Input!D28),Intermed_Input!D28,\"\")","v":""},{"$f":"IF(ISNUMBER(Intermed_Input!E28),Intermed_Input!E28,\"\")","v":""},{"$f":"IF(ISNUMBER(Intermed_Input!F28),Intermed_Input!F28,\"\")","v":""},{"$f":"IF(ISNUMBER(Intermed_Input!G28),Intermed_Input!G28,\"\")","v":""},{"$f":"IF(ISNUMBER(Intermed_Input!H28),Intermed_Input!H28,\"\")","v":""},{"$f":"IF(ISNUMBER(Intermed_Input!I28),Intermed_Input!I28,\"\")","v":""}]
[4,{"$f":"IF(ISNUMBER(Intermed_Input!B29),Intermed_Input!B29,\"\")","v":""},{"$f":"IF(ISNUMBER(Intermed_Input!C29),Intermed_Input!C29,\"\")","v":""},{"$f":"IF(ISNUMBER(Intermed_Input!D29),Intermed_Input!D29,\"\")","v":""},{"$f":"IF(ISNUMBER(Intermed_Input!E29),Intermed_Input!E29,\"\")","v":""},{"$f":"IF(ISNUMBER(Intermed_Input!F29),Intermed_Input!F29,\"\")","v":""},{"$f":"IF(ISNUMBER(Intermed_Input!G29),Intermed_Input!G29,\"\")","v":""},{"$f":"IF(ISNUMBER(Intermed_Input!H29),Intermed_Input!H29,\"\")","v":""},{"$f":"IF(ISNUMBER(Intermed_Input!I29),Intermed_Input!I29,\"\")","v":""}]
[5,{"$f":"IF(ISNUMBER(Intermed_Input!B30),Intermed_Input!B30,\"\")","v":""},{"$f":"IF(ISNUMBER(Intermed_Input!C30),Intermed_Input!C30,\"\")","v":""},{"$f":"IF(ISNUMBER(Intermed_Input!D30),Intermed_Input!D30,\"\")","v":""},{"$f":"IF(ISNUMBER(Intermed_Input!E30),Intermed_Input!E30,\"\")","v":""},{"$f":"IF(ISNUMBER(Intermed_Input!F30),Intermed_Input!F30,\"\")","v":""},{"$f":"IF(ISNUMBER(Intermed_Input!G30),Intermed_Input!G30,\"\")","v":""},{"$f":"IF(ISNUMBER(Intermed_Input!H30),Intermed_Input!H30,\"\")","v":""},{"$f":"IF(ISNUMBER(Intermed_Input!I30),Intermed_Input!I30,\"\")","v":""}]
[6,{"$f":"IF(ISNUMBER(Intermed_Input!B31),Intermed_Input!B31,\"\")","v":""},{"$f":"IF(ISNUMBER(Intermed_Input!C31),Intermed_Input!C31,\"\")","v":""},{"$f":"IF(ISNUMBER(Intermed_Input!D31),Intermed_Input!D31,\"\")","v":""},{"$f":"IF(ISNUMBER(Intermed_Input!E31),Intermed_Input!E31,\"\")","v":""},{"$f":"IF(ISNUMBER(Intermed_Input!F31),Intermed_Input!F31,\"\")","v":""},{"$f":"IF(ISNUMBER(Intermed_Input!G31),Intermed_Input!G31,\"\")","v":""},{"$f":"IF(ISNUMBER(Intermed_Input!H31),Intermed_Input!H31,\"\")","v":""},{"$f":"IF(ISNUMBER(Intermed_Input!I31),Intermed_Input!I31,\"\")","v":""}]
[7,{"$f":"IF(ISNUMBER(Intermed_Input!B32),Intermed_Input!B32,\"\")","v":""},{"$f":"IF(ISNUMBER(Intermed_Input!C32),Intermed_Input!C32,\"\")","v":""},{"$f":"IF(ISNUMBER(Intermed_Input!D32),Intermed_Input!D32,\"\")","v":""},{"$f":"IF(ISNUMBER(Intermed_Input!E32),Intermed_Input!E32,\"\")","v":""},{"$f":"IF(ISNUMBER(Intermed_Input!F32),Intermed_Input!F32,\"\")","v":""},{"$f":"IF(ISNUMBER(Intermed_Input!G32),Intermed_Input!G32,\"\")","v":""},{"$f":"IF(ISNUMBER(Intermed_Input!H32),Intermed_Input!H32,\"\")","v":""},{"$f":"IF(ISNUMBER(Intermed_Input!I32),Intermed_Input!I32,\"\")","v":""}]
[8,{"$f":"IF(ISNUMBER(Intermed_Input!B33),Intermed_Input!B33,\"\")","v":""},{"$f":"IF(ISNUMBER(Intermed_Input!C33),Intermed_Input!C33,\"\")","v":""},{"$f":"IF(ISNUMBER(Intermed_Input!D33),Intermed_Input!D33,\"\")","v":""},{"$f":"IF(ISNUMBER(Intermed_Input!E33),Intermed_Input!E33,\"\")","v":""},{"$f":"IF(ISNUMBER(Intermed_Input!F33),Intermed_Input!F33,\"\")","v":""},{"$f":"IF(ISNUMBER(Intermed_Input!G33),Intermed_Input!G33,\"\")","v":""},{"$f":"IF(ISNUMBER(Intermed_Input!H33),Intermed_Input!H33,\"\")","v":""},{"$f":"IF(ISNUMBER(Intermed_Input!I33),Intermed_Input!I33,\"\")","v":""}]
[9,{"$f":"IF(ISNUMBER(Intermed_Input!B34),Intermed_Input!B34,\"\")","v":""},{"$f":"IF(ISNUMBER(Intermed_Input!C34),Intermed_Input!C34,\"\")","v":""},{"$f":"IF(ISNUMBER(Intermed_Input!D34),Intermed_Input!D34,\"\")","v":""},{"$f":"IF(ISNUMBER(Intermed_Input!E34),Intermed_Input!E34,\"\")","v":""},{"$f":"IF(ISNUMBER(Intermed_Input!F34),Intermed_Input!F34,\"\")","v":""},{"$f":"IF(ISNUMBER(Intermed_Input!G34),Intermed_Input!G34,\"\")","v":""},{"$f":"IF(ISNUMBER(Intermed_Input!H34),Intermed_Input!H34,\"\")","v":""},{"$f":"IF(ISNUMBER(Intermed_Input!I34),Intermed_Input!I34,\"\")","v":""}]
[10,{"$f":"IF(ISNUMBER(Intermed_Input!B35),Intermed_Input!B35,\"\")","v":""},{"$f":"IF(ISNUMBER(Intermed_Input!C35),Intermed_Input!C35,\"\")","v":""},{"$f":"IF(ISNUMBER(Intermed_Input!D35),Intermed_Input!D35,\"\")","v":""},{"$f":"IF(ISNUMBER(Intermed_Input!E35),Intermed_Input!E35,\"\")","v":""},{"$f":"IF(ISNUMBER(Intermed_Input!F35),Intermed_Input!F35,\"\")","v":""},{"$f":"IF(ISNUMBER(Intermed_Input!G35),Intermed_Input!G35,\"\")","v":""},{"$f":"IF(ISNUMBER(Intermed_Input!H35),Intermed_Input!H35,\"\")","v":""},{"$f":"IF(ISNUMBER(Intermed_Input!I35),Intermed_Input!I35,\"\")","v":""}]
[11,{"$f":"IF(ISNUMBER(Intermed_Input!B36),Intermed_Input!B36,\"\")","v":""},{"$f":"IF(ISNUMBER(Intermed_Input!C36),Intermed_Input!C36,\"\")","v":""},{"$f":"IF(ISNUMBER(Intermed_Input!D36),Intermed_Input!D36,\"\")","v":""},{"$f":"IF(ISNUMBER(Intermed_Input!E36),Intermed_Input!E36,\"\")","v":""},{"$f":"IF(ISNUMBER(Intermed_Input!F36),Intermed_Input!F36,\"\")","v":""},{"$f":"IF(ISNUMBER(Intermed_Input!G36),Intermed_Input!G36,\"\")","v":""},{"$f":"IF(ISNUMBER(Intermed_Input!H36),Intermed_Input!H36,\"\")","v":""},{"$f":"IF(ISNUMBER(Intermed_Input!I36),Intermed_Input!I36,\"\")","v":""}]
[12,{"$f":"IF(ISNUMBER(Intermed_Input!B37),Intermed_Input!B37,\"\")","v":""},{"$f":"IF(ISNUMBER(Intermed_Input!C37),Intermed_Input!C37,\"\")","v":""},{"$f":"IF(ISNUMBER(Intermed_Input!D37),Intermed_Input!D37,\"\")","v":""},{"$f":"IF(ISNUMBER(Intermed_Input!E37),Intermed_Input!E37,\"\")","v":""},{"$f":"IF(ISNUMBER(Intermed_Input!F37),Intermed_Input!F37,\"\")","v":""},{"$f":"IF(ISNUMBER(Intermed_Input!G37),Intermed_Input!G37,\"\")","v":""},{"$f":"IF(ISNUMBER(Intermed_Input!H37),Intermed_Input!H37,\"\")","v":""},{"$f":"IF(ISNUMBER(Intermed_Input!I37),Intermed_Input!I37,\"\")","v":""}]
[13,{"$f":"IF(ISNUMBER(Intermed_Input!B38),Intermed_Input!B38,\"\")","v":""},{"$f":"IF(ISNUMBER(Intermed_Input!C38),Intermed_Input!C38,\"\")","v":""},{"$f":"IF(ISNUMBER(Intermed_Input!D38),Intermed_Input!D38,\"\")","v":""},{"$f":"IF(ISNUMBER(Intermed_Input!E38),Intermed_Input!E38,\"\")","v":""},{"$f":"IF(ISNUMBER(Intermed_Input!F38),Intermed_Input!F38,\"\")","v":""},{"$f":"IF(ISNUMBER(Intermed_Input!G38),Intermed_Input!G38,\"\")","v":""},{"$f":"IF(ISNUMBER(Intermed_Input!H38),Intermed_Input!H38,\"\")","v":""},{"$f":"IF(ISNUMBER(Intermed_Input!I38),Intermed_Input!I38,\"\")","v":""}]
[14,{"$f":"IF(ISNUMBER(Intermed_Input!B39),Intermed_Input!B39,\"\")","v":""},{"$f":"IF(ISNUMBER(Intermed_Input!C39),Intermed_Input!C39,\"\")","v":""},{"$f":"IF(ISNUMBER(Intermed_Input!D39),Intermed_Input!D39,\"\")","v":""},{"$f":"IF(ISNUMBER(Intermed_Input!E39),Intermed_Input!E39,\"\")","v":""},{"$f":"IF(ISNUMBER(Intermed_Input!F39),Intermed_Input!F39,\"\")","v":""},{"$f":"IF(ISNUMBER(Intermed_Input!G39),Intermed_Input!G39,\"\")","v":""},{"$f":"IF(ISNUMBER(Intermed_Input!H39),Intermed_Input!H39,\"\")","v":""},{"$f":"IF(ISNUMBER(Intermed_Input!I39),Intermed_Input!I39,\"\")","v":""}]
[15,{"$f":"IF(ISNUMBER(Intermed_Input!B40),Intermed_Input!B40,\"\")","v":""},{"$f":"IF(ISNUMBER(Intermed_Input!C40),Intermed_Input!C40,\"\")","v":""},{"$f":"IF(ISNUMBER(Intermed_Input!D40),Intermed_Input!D40,\"\")","v":""},{"$f":"IF(ISNUMBER(Intermed_Input!E40),Intermed_Input!E40,\"\")","v":""},{"$f":"IF(ISNUMBER(Intermed_Input!F40),Intermed_Input!F40,\"\")","v":""},{"$f":"IF(ISNUMBER(Intermed_Input!G40),Intermed_Input!G40,\"\")","v":""},{"$f":"IF(ISNUMBER(Intermed_Input!H40),Intermed_Input!H40,\"\")","v":""},{"$f":"IF(ISNUMBER(Intermed_Input!I40),Intermed_Input!I40,\"\")","v":""}]
[16,{"$f":"IF(ISNUMBER(Intermed_Input!B41),Intermed_Input!B41,\"\")","v":""},{"$f":"IF(ISNUMBER(Intermed_Input!C41),Intermed_Input!C41,\"\")","v":""},{"$f":"IF(ISNUMBER(Intermed_Input!D41),Intermed_Input!D41,\"\")","v":""},{"$f":"IF(ISNUMBER(Intermed_Input!E41),Intermed_Input!E41,\"\")","v":""},{"$f":"IF(ISNUMBER(Intermed_Input!F41),Intermed_Input!F41,\"\")","v":""},{"$f":"IF(ISNUMBER(Intermed_Input!G41),Intermed_Input!G41,\"\")","v":""},{"$f":"IF(ISNUMBER(Intermed_Input!H41),Intermed_Input!H41,\"\")","v":""},{"$f":"IF(ISNUMBER(Intermed_Input!I41),Intermed_Input!I41,\"\")","v":""}]
[17,{"$f":"IF(ISNUMBER(Intermed_Input!B42),Intermed_Input!B42,\"\")","v":""},{"$f":"IF(ISNUMBER(Intermed_Input!C42),Intermed_Input!C42,\"\")","v":""},{"$f":"IF(ISNUMBER(Intermed_Input!D42),Intermed_Input!D42,\"\")","v":""},{"$f":"IF(ISNUMBER(Intermed_Input!E42),Intermed_Input!E42,\"\")","v":""},{"$f":"IF(ISNUMBER(Intermed_Input!F42),Intermed_Input!F42,\"\")","v":""},{"$f":"IF(ISNUMBER(Intermed_Input!G42),Intermed_Input!G42,\"\")","v":""},{"$f":"IF(ISNUMBER(Intermed_Input!H42),Intermed_Input!H42,\"\")","v":""},{"$f":"IF(ISNUMBER(Intermed_Input!I42),Intermed_Input!I42,\"\")","v":""}]
[18,{"$f":"IF(ISNUMBER(Intermed_Input!B43),Intermed_Input!B43,\"\")","v":""},{"$f":"IF(ISNUMBER(Intermed_Input!C43),Intermed_Input!C43,\"\")","v":""},{"$f":"IF(ISNUMBER(Intermed_Input!D43),Intermed_Input!D43,\"\")","v":""},{"$f":"IF(ISNUMBER(Intermed_Input!E43),Intermed_Input!E43,\"\")","v":""},{"$f":"IF(ISNUMBER(Intermed_Input!F43),Intermed_Input!F43,\"\")","v":""},{"$f":"IF(ISNUMBER(Intermed_Input!G43),Intermed_Input!G43,\"\")","v":""},{"$f":"IF(ISNUMBER(Intermed_Input!H43),Intermed_Input!H43,\"\")","v":""},{"$f":"IF(ISNUMBER(Intermed_Input!I43),Intermed_Input!I43,\"\")","v":""}]
[19,{"$f":"IF(ISNUMBER(Intermed_Input!B44),Intermed_Input!B44,\"\")","v":""},{"$f":"IF(ISNUMBER(Intermed_Input!C44),Intermed_Input!C44,\"\")","v":""},{"$f":"IF(ISNUMBER(Intermed_Input!D44),Intermed_Input!D44,\"\")","v":""},{"$f":"IF(ISNUMBER(Intermed_Input!E44),Intermed_Input!E44,\"\")","v":""},{"$f":"IF(ISNUMBER(Intermed_Input!F44),Intermed_Input!F44,\"\")","v":""},{"$f":"IF(ISNUMBER(Intermed_Input!G44),Intermed_Input!G44,\"\")","v":""},{"$f":"IF(ISNUMBER(Intermed_Input!H44),Intermed_Input!H44,\"\")","v":""},{"$f":"IF(ISNUMBER(Intermed_Input!I44),Intermed_Input!I44,\"\")","v":""}]
[20,{"$f":"IF(ISNUMBER(Intermed_Input!B45),Intermed_Input!B45,\"\")","v":""},{"$f":"IF(ISNUMBER(Intermed_Input!C45),Intermed_Input!C45,\"\")","v":""},{"$f":"IF(ISNUMBER(Intermed_Input!D45),Intermed_Input!D45,\"\")","v":""},{"$f":"IF(ISNUMBER(Intermed_Input!E45),Intermed_Input!E45,\"\")","v":""},{"$f":"IF(ISNUMBER(Intermed_Input!F45),Intermed_Input!F45,\"\")","v":""},{"$f":"IF(ISNUMBER(Intermed_Input!G45),Intermed_Input!G45,\"\")","v":""},{"$f":"IF(ISNUMBER(Intermed_Input!H45),Intermed_Input!H45,\"\")","v":""},{"$f":"IF(ISNUMBER(Intermed_Input!I45),Intermed_Input!I45,\"\")","v":""}]
["sum ",{"$f":"IF(B5=\"\",\"\",SUM(B6:B25))","v":""},{"$f":"IF(C5=\"\",\"\",SUM(C6:C25))","v":""},"","","","","","",""]
["n",{"$f":"IF(AND(ISNUMBER(B26), B26>0),COUNT(B6:B25),\"\")","v":""},{"$f":"IF(AND(ISNUMBER(C26), C26>0),COUNT(C6:C25),\"\")","v":""},"","","","","","",""]
["nc",{"$f":"COUNT($B$6:$B$25)","v":0}]
["alpha=",0.05,null,"Calc on another sheet"]
["degree of freeedom=",{"$f":"$B$33-$B$32","v":0},null,"MSD",{"$f":"IF(Start!B17=\"input2\",Parametric!$D46, Parametric!$C46)","v":{"$error":"#N/A"}},null,{"$f":"B1","v":"IC25"},{"$f":"IF(ISNUMBER(Z40), IF(Z36<>Z37,10^(Z36+(Z38*(1-Z41/100)-Z39)*((Z37-Z36)/(Z40-Z39)))-1,\">\"&MAX(A37:A44)), \">\"&MAX(A37:A44))","v":">0"}]
["t-crit=",{"$f":"IF($B$32=7, 2.34, IF($B$32=6, 2.29, IF($B$32=5, 2.22, IF($B$32=4, 2.14, IF($B$32=3, 2, 1.73)))))","v":1.73},null,"PMSD",{"$f":"IF(Start!B17=\"input2\",Parametric!$D47, Parametric!$C47)","v":{"$error":"#N/A"}}]
["group k",{"$f":"COUNT($B$27:$I$27)","v":0},null,"Trigger",{"$f":"IF(Start!B17=\"input2\",Parametric!$D48, Parametric!$C48)","v":{"$error":"#N/A"}}]
["N",{"$f":"SUM(B27:I27)","v":0}]
[]
[null,null,null,null,null,5,6,7,8,9,10,11]
["RawConc","Conc.","GroupMean","Stdev.","Sp2","M2","M3","M4","M5","M6","M7","M8","SmoothMean","Trigger","CJ",{"$f":"MAX(IF(INDIRECT(N45&38):INDIRECT(N45&44)>$P$43, $B$38:$B$44))","v":{"$error":"#VALUE!"}},"(highest) tested concentration whose observed mean response is greater than M1(1-p/100)",null,null,null,null,null,null,null,null,{"$f":"MAX(IF(INDIRECT(N45&38):INDIRECT(N45&44)>$Z$43,$B$38:$B$44))","v":{"$error":"#VALUE!"}}]
[{"$f":"IF(B37=\"\",\"\",Intermed_Input!B25)","v":""},{"$f":"IF($B$5=\"\",\"\",$B$5)","v":""},{"$f":"IF($B37=\"\", \"\", AVERAGE($B$6:$B$25))","v":""},{"$f":"IF($B37=\"\", \"\", STDEV($B$6:$B$25))","v":""},{"$f":"SUMSQ($D37:$D44)/$B$32","v":{"$error":"#DIV/0!"}},{"$f":"IF(C38>C37,((C38+C37)/2),C37)","v":""},{"$f":"IF(ISNUMBER(B39), IF(AND(C39>F38,C39>F37),(C39+F38+F37)/3,F37),\"\")","v":""},{"$f":"IF(ISNUMBER(B40), IF(AND(C40>G39,C40>G38,C40>G37),(C40+G39+G38+G37)/4,G37),\"\")","v":""},{"$f":"IF(ISNUMBER(B41), IF(AND(C41>H40,C41>H39,C41>H38,C41>H37),((C41+H40+H39+H38+H37)/5),H37),\"\")","v":""},{"$f":"IF(ISNUMBER(B42), IF(AND(C42>I41,C42>I40,C42>I39,C42>I38,C42>I37),(C42+I41+I40+I39+I38+I37)/6,I37),\"\")","v":""},{"$f":"IF(ISNUMBER(B43), IF(AND(C43>J42,C43>J41,C43>40,C43>J39,C43>J38,C43>J37),(C43+J42+J41+J40+J39+J38+J37)/7,J37),\"\")","v":""},{"$f":"IF(ISNUMBER(B44), IF(AND(C44>K43,C44>K42,C44>K41,C44>K40,C44>K39,C44>K38,C44>K37),(C44+K43+K42+K41+K40+K39+K38+K37)/8,K37),\"\")","v":""},{"$f":"IF(B37=\"\",\"\",INDIRECT($N$45&37))","v":""},{"$f":"IF(B37=\"\",\"\",$P$43)","v":""},"CJ+1",{"$f":"MIN(IF(INDIRECT(N45&38):INDIRECT(N45&44)<$P$43, $B$38:$B$44))","v":{"$error":"#VALUE!"}},"(lowest) tested concentration whose observed mean response is less than M1(1-p/100)",null,null,null,null,null,null,null,null,{"$f":"MIN(IF(INDIRECT(N45&38):INDIRECT(N45&44)<$Z$43,$B$38:$B$44))","v":{"$error":"#VALUE!"}}]
[{"$f":"IF(B38=\"\",\"\",Intermed_Input!C25)","v":""},{"$f":"IF($C$5=\"\",\"\",$C$5)","v":""},{"$f":"IF($B38=\"\", \"\", AVERAGE($C$6:$C$25))","v":""},{"$f":"IF($B38=\"\", \"\", STDEV($C$6:$C$25))","v":""},{"$f":"IF($B38=\"\", \"\", ($D38^2+$D$37^2)/2)","v":""},{"$f":"IF(C38>C37,((C38+C37)/2),C38)","v":""},{"$f":"IF(ISNUMBER(B39), IF(AND(C39>F38,C39>F37),(C39+F38+F37)/3,IF(AND(C39>F38,C39<F37), (F38+C39)/2, F38)),\"\")","v":""},{"$f":"IF(ISNUMBER(B40),  IF(AND(C40>G39,C40>G38,C40>G37),(C40+G39+G38+G37)/4,IF(AND(C40>G39,C40>G38,C40<G37),(C40+G39+G38)/3,G38)),\"\")","v":""},{"$f":"IF(ISNUMBER(B41), IF(AND(C41>H40,C41>H39,C41>H38,C41>H37),((C41+H40+H39+H38+H37)/5),IF(AND(C41>H40,C41>H39,C41>H38,C41<H37),((C41+H40+H39+H38)/4),H38)),\"\")","v":""},{"$f":"IF(ISNUMBER(B42), IF(AND(C42>I41,C42>I40,C42>I39,C42>I38,C42>I37),(C42+I41+I40+I39+I38+I37)/6,IF(AND(C42>I41,C42>I40,C42>I39,C42>I38,C42<I37),(C42+I41+I40+I39+I38)/5, I38)),\"\")","v":""},{"$f":"IF(ISNUMBER(B43),  IF(AND(C43>J42,C43>J41,C43>J40,C43>J39,C43>J38,C43>J37),(C43+J42+J41+J40+J39+J38+J37)/7,IF(AND(C43>J42,C43>J41,C43>J40,C43>J39,C43>J38,C43>J37),(C43+J42+J41+J40+J39+J38)/6,J38)),\"\")","v":""},{"$f":"IF(ISNUMBER(B44),  IF(AND(C44>K43,C44>K42,C44>K41,C44>K40,C44>K39,C44>K38,C44>K37),(C44+K43+K42+K41+K40+K39+K38+K37)/8,IF(AND(C44>K43,C44>K42,C44>K41,C44>K40,C44>K39,C44>K38,C44>K37),(C44+K43+K42+K41+K40+K39+K38)/7,K38)),\"\")","v":""},{"$f":"IF(B38=\"\",\"\",INDIRECT($N$45&38))","v":""},{"$f":"IF(B38=\"\",\"\",$P$43)","v":""},"M1",{"$f":"INDIRECT(N45&37)","v":""},"smoothed mean response for the control",null,null,null,null,null,null,null,null,{"$f":"INDIRECT(N45&37)","v":""}]
[{"$f":"IF(B39=\"\",\"\",Intermed_Input!D25)","v":""},{"$f":"IF($D$5=\"\",\"\",$D$5)","v":""},{"$f":"IF($B39=\"\", \"\", AVERAGE($D$6:$D$25))","v":""},{"$f":"IF($B39=\"\", \"\", STDEV($D$6:$D$25))","v":""},"",null,{"$f":"IF(ISNUMBER(B39),IF(AND(C39>F38,C39>F37),(C39+F38+F37)/3,IF(AND(C39>F38,C39<F37), (F38+C39)/2, C39)),\"\")","v":""},{"$f":"IF(ISNUMBER(B40), IF(AND(C40>G39,C40>G38,C40>G37),(C40+G39+G38+G37)/4,IF(AND(C40>G39,C40>G38,C40<G37),(C40+G39+G38)/3,IF(AND(C40>G39,C40<G38,C40<G37),(C40+G39)/2,G39))),\"\")","v":""},{"$f":"IF(ISNUMBER(B41), IF(AND(C41>H40,C41>H39,C41>H38,C41>H37),((C41+H40+H39+H38+H37)/5),IF(AND(C41>H40,C41>H39,C41>H38,C41<H37),((C41+H40+H39+H38)/4),IF(AND(C41>H40,C41>H39,C41<H38,C41<H37),((C41+H40+H39)/3),H39))),\"\")","v":""},{"$f":"IF(ISNUMBER(B42),  IF(AND(C42>I41,C42>I40,C42>I39,C42>I38,C42>I37),(C42+I41+I40+I39+I38+I37)/6,IF(AND(C42>I41,C42>I40,C42>I39,C42>I38,C42<I37),(C42+I41+I40+I39+I38)/5,IF(AND(C42>I41,C42>I40,C42>I39,C42<I38,C42<I37),(C42+I41+I40+I39)/4,I39))),\"\")","v":""},{"$f":"IF(ISNUMBER(B43), IF(AND(C43>J42,C43>J41,C43>J40,C43>J39,C43>J38,C43>J37),(C43+J42+J41+J40+J39+J38+J37)/7,IF(AND(C43>J42,C43>J41,C43>J40,C43>J39,C43>J38,C43>J37),(C43+J42+J41+J40+J39+J38)/6,IF(AND(C43>J42,C43>J41,C43>J40,C43>J39,C43>J38,C43>J37),(C43+J42+J41+J40+J39)/5,J39))),\"\")","v":""},{"$f":"IF(ISNUMBER(B44), IF(AND(C44>K43,C44>K42,C44>K41,C44>K40,C44>K39,C44>K38,C44>K37),(C44+K43+K42+K41+K40+K39+K38+K37)/8,IF(AND(C44>K43,C44>K42,C44>K41,C44>K40,C44>K39,C44>K38,C44>K37),(C44+K43+ K42+K41+K40+K39+K38)/7,IF(AND(C44>K43,C44>K42,C44>K41,C44>K40,C44>K39,C44>K38,C44>K37),(C44+K43+K42+K41+K40+K39)/6,K39))),\"\")","v":""},{"$f":"IF(B39=\"\",\"\",INDIRECT($N$45&39))","v":""},"","MJ",{"$f":"INDEX($B$38:$L$44,MATCH(IC25_CJ,$B$38:$B$44,0),$M$45)","v":{"$error":"#VALUE!"}},"smoothed mean response for concentration J",null,null,null,null,null,null,null,null,{"$f":"INDEX($B$37:$L$44,MATCH(Z36,$B$37:$B$44,0),$M$45)","v":{"$error":"#VALUE!"}}]
[{"$f":"IF(B40=\"\",\"\",Intermed_Input!E25)","v":""},{"$f":"IF($E$5=\"\",\"\",$E$5)","v":""},{"$f":"IF($B40=\"\", \"\", AVERAGE($E$6:$E$25))","v":""},{"$f":"IF($B40=\"\", \"\", STDEV($E$6:$E$25))","v":""},"",null,null,{"$f":"IF(ISNUMBER(B40),  IF(AND(C40>G39,C40>G38,C40>G37),(C40+G39+G38+G37)/4,IF(AND(C40>G39,C40>G38,C40<G37),(C40+G39+G38)/3,IF(AND(C40>G39,C40<G38,C40<G37),(C40+G39)/2,C40))),\"\")","v":""},{"$f":"IF(ISNUMBER(B41),IF(AND(C41>H40,C41>H39,C41>H38,C41>H37),((C41+H40+H39+H38+H37)/5),IF(AND(C41>H40,C41>H39,C41>H38,C41<H37),((C41+H40+H39+H38)/4),IF(AND(C41>H40,C41>H39,C41<H38,C41<H37),((C41+H40+H39)/3),IF(AND(C41>H40,C41<H39,C41<H38,C41<H37),((C41+H40)/2),H40)))),\"\")","v":""},{"$f":"IF(ISNUMBER(B42), IF(AND(C42>I41,C42>I40,C42>I39,C42>I38,C42>I37),(C42+I41+I40+I39+I38+I37)/6,IF(AND(C42>I41,C42>I40,C42>I39,C42>I38,C42<I37),(C42+I41+I40+I39+I38)/5,IF(AND(C42>I41,C42>I40,C42>I39,C42<I38,C42<I37),(C42+I41+I40+I39)/4,IF(AND(C42>I41,C42>I40,C42<I39,C42<I38,C42<I37),(C42+I41+I40)/3,I40)))),\"\")","v":""},{"$f":"IF(ISNUMBER(B43), IF(AND(C43>J42,C43>J41,C43>J40,C43>J39,C43>J38,C43>J37),(C43+J42+J41+J40+J39+J38+J37)/7,IF(AND(C43>J42,C43>J41,C43>J40,C43>J39,C43>J38,C43>J37),(C43+J42+J41+J40+J39+J38)/6,IF(AND(C43>J42,C43>J41,C43>J40,C43>J39,C43>J38,C43>J37),(C43+J42+J41+J40+J39)/5,IF(AND(C43>J42,C43>J41,C43>J40,C43>J39,C43>J38,C43>J37),(C43+J41+J40)/4,J40)))),\"\")","v":""},{"$f":"IF(ISNUMBER(B44), IF(AND(C44>K43,C44>K42,C44>K41,C44>K40,C44>K39,C44>K38,C44>K37),(C44+K43+K42+K41+K40+K39+K38+K37)/8,IF(AND(C44>K43,C44>K42,C44>K41,C44>K40,C44>K39,C44>K38,C44>K37),(C44+K43+K42+K41+K40+K39+K38)/7,IF(AND(C44>K43,C44>K42,C44>K41,C44>K40,C44>K39,C44>K38,C44>K37),(C44+K43+K42+K41+K40+K39)/6,IF(AND(C44>K43,C44>K42,C44>K41,C44>K40,C44>K39,C44>K38,C44>K37),(C44+K43+K41+K40)/5,K40)))),\"\")","v":""},{"$f":"IF(B40=\"\",\"\",INDIRECT($N$45&40))","v":""},"","MJ+1",{"$f":"INDEX($B$38:$L$44,MATCH(IC25_CJ1,$B$38:$B$44,0),$M$45)","v":{"$error":"#VALUE!"}},"smoothed mean response for concentration J + 1",null,null,null,null,null,null,null,null,{"$f":"INDEX($B$38:$L$44,MATCH(Z37,$B$38:$B$44,0),$M$45)","v":{"$error":"#VALUE!"}}]
[{"$f":"IF(B41=\"\",\"\",Intermed_Input!F25)","v":""},{"$f":"IF($F$5=\"\",\"\",$F$5)","v":""},{"$f":"IF($B41=\"\", \"\", AVERAGE($F$6:$F$25))","v":""},{"$f":"IF($B41=\"\", \"\", STDEV($F$6:$F$25))","v":""},"",null,null,null,{"$f":"IF(ISNUMBER(B41),IF(AND(C41>H40,C41>H39,C41>H38,C41>H37),((C41+H40+H39+H38+H37)/5),IF(AND(C41>H40,C41>H39,C41>H38,C41<H37),((C41+H40+H39+H38)/4),IF(AND(C41>H40,C41>H39,C41<H38,C41<H37),((C41+H40+H39)/3),IF(AND(C41>H40,C41<H39,C41<H38,C41<H37),((C41+H40)/2),C41)))),\"\")","v":""},{"$f":"IF(ISNUMBER(B42), IF(AND(C42>I41,C42>I40,C42>I39,C42>I38,C42>I37),(C42+I41+I40+I39+I38+I37)/6,IF(AND(C42>I41,C42>I40,C42>I39,C42>I38,C42<I37),(C42+I41+I40+I39+I38)/5, IF(AND(C42>I41,C42>I40,C42>I39,C42<I38,C42<I37),(C42+I41+I40+I39)/4, IF(AND(C42>I41,C42>I40,C42<I39,C42<I38,C42<I37),(C42+I41+I40)/3,IF(AND(C42>I41,C42<I40,C42<I39,C42<I38,C42<I37),(C42+I41)/2, I41))))),\"\")","v":""},{"$f":"IF(ISNUMBER(B43), IF(AND(C43>J42,C43>J41,C43>J40,C43>J39,C43>J38,C43>J37),(C43+J42+J41+J40+J39+J38+J37)/7,IF(AND(C43>J42,C43>J41,C43>J40,C43>J39,C43>J38,C43>J37),(C43+J42+J41+J40+J39+J38)/6, IF(AND(C43>J42,C43>J41,C43>J40,C43>J39,C43>J38,C43>J37),(C43+J42+J41+J40+J39)/5, IF(AND(C43>J42,C43>J41,C43>J40,C43>J39,C43>J38,C43>J37),(C43+J42+J41+J40)/4,IF(AND(C43>J42,C43>J41,C43>J40,C43>J39,C43>J38,C43>J37),(C43+J42+J41)/3, J41))))),\"\")","v":""},{"$f":"IF(ISNUMBER(B44), IF(AND(C44>K43,C44>K42,C44>K41,C44>K40,C44>K39,C44>K38,C44>K37),(C44+K43+K42+K41+K40+K39+K38+K37)/8,IF(AND(C44>K43,C44>K42,C44>K41,C44>K40,C44>K39,C44>K38,C44>K37),(C44+K43+K42+K41+K40+K39+K38)/7, IF(AND(C44>K43,C44>K42,C44>K41,C44>K40,C44>K39,C44>K38,C44>K37),(C44+K43+K42+K41+K40+K39)/6, IF(AND(C44>K43,C44>K42,C44>K41,C44>K40,C44>K39,C44>K38,C44>K37),(C44+K43+K42+K41+K40)/5,IF(AND(C44>K43,C44>K42,C44>K41,C44>K40,C44>K39,C44>K38,C44>K37),(C44+K43+K42+K41)/4, K41))))),\"\")","v":""},{"$f":"IF(B41=\"\",\"\",INDIRECT($N$45&41))","v":""},"","p (percent)",{"$f":"IC25_PMSD*100","v":{"$error":"#N/A"}},"percent reduction in response relative to the control response",null,null,null,null,null,null,null,null,{"$f":"IF(B1=\"IC25\", 25, 50)","v":25}]
[{"$f":"IF(B42=\"\",\"\",Intermed_Input!G25)","v":""},{"$f":"IF($G$5=\"\",\"\",$G$5)","v":""},{"$f":"IF($B42=\"\", \"\", AVERAGE($G$6:$G$25))","v":""},{"$f":"IF($B42=\"\", \"\", STDEV($G$6:$G$25))","v":""},"",null,null,null,null,{"$f":"IF(ISNUMBER(B42), IF(AND(C42>I41,C42>I40,C42>I39,C42>I38,C42>I37),(C42+I41+I40+I39+I38+I37)/6,IF(AND(C42>I41,C42>I40,C42>I39,C42>I38,C42<I37),(C42+I41+I40+I39+I38)/5, IF(AND(C42>I41,C42>I40,C42>I39,C42<I38,C42<I37),(C42+I41+I40+I39)/4, IF(AND(C42>I41,C42>I40,C42<I39,C42<I38,C42<I37),(C42+I41+I40)/3,IF(AND(C42>I41,C42<I40,C42<I39,C42<I38,C42<I37),(C42+I41)/2, C42))))),\"\")","v":""},{"$f":"IF(ISNUMBER(B43), IF(AND(C43>J42,C43>J41,C43>J40,C43>J39,C43>J38,C43>J37),(C43+J42+J41+J40+J39+J38+J37)/7,IF(AND(C43>J42,C43>J41,C43>J40,C43>J39,C43>J38,C43>J37),(C43+J42+J41+J40+J39+J38)/6, IF(AND(C43>J42,C43>J41,C43>J40,C43>J39,C43>J38,C43>J37),(C43+J42+J41+J40+J39)/5, IF(AND(C43>J42,C43>J41,C43>J40,C43>J39,C43>J38,C43>J37),(C43+J42+J41+J40)/4,IF(AND(C43>J42,C43>J41,C43>J40,C43>J39,C43>J38,C43>J37),(C43+J42+J41)/3, IF(AND(C43>J42,C43>J41,C43>J40,C43>J39,C43>J38,C43>J37),(C43+J42)/2,J42)))))),\"\")","v":""},{"$f":"IF(ISNUMBER(B44), IF(AND(C44>K43,C44>K42,C44>K41,C44>K40,C44>K39,C44>K38,C44>K37),(C44+K43+K42+K41+K40+K39+K38+K37)/8,IF(AND(C44>K43,C44>K42,C44>K41,C44>K40,C44>K39,C44>K38,C44>K37),(C44+K43+K42+K41+K40+K39+K38)/7, IF(AND(C44>K43,C44>K42,C44>K41,C44>K40,C44>K39,C44>K38,C44>K37),(C44+K43+K42+K41+K40+K39)/6, IF(AND(C44>K43,C44>K42,C44>K41,C44>K40,C44>K39,C44>K38,C44>K37),(C44+K43+K42+K41+K40)/5,IF(AND(C44>K43,C44>K42,C44>K41,C44>K40,C44>K39,C44>K38,C44>K37),(C44+K43+K42+K41)/4, IF(AND(C44>K43,C44>K42,C44>K41,C44>K40,C44>K39,C44>K38,C44>K37),(C44+K43+K42)/3,K42)))))),\"\")","v":""},{"$f":"IF(B42=\"\",\"\",INDIRECT($N$45&42))","v":""},"","ICp",{"$f":"IF(IC25_CJ1<>IC25_CJ,(IC25_CJ+(IC25_M1*(1-IC25_p/100)-IC25_MJ)*((IC25_CJ1-IC25_CJ)/(IC25_MJ1-IC25_MJ))),\">100\")","v":{"$error":"#VALUE!"}},"estimated conc. at which there is a percent reduction from the smoothed mean control response.  ",null,null,null,null,null,null,null,null,{"$f":"IF(Z37<>Z36,(Z36+(Z38*(1-Z41/100)-Z40)*((Z37-Z36)/(Z40-Z39))),\">100\")","v":{"$error":"#VALUE!"}}]
[{"$f":"IF(B43=\"\",\"\",Intermed_Input!H25)","v":""},{"$f":"IF($H$5=\"\",\"\",$H$5)","v":""},{"$f":"IF($B43=\"\", \"\", AVERAGE($H$6:$H$25))","v":""},{"$f":"IF($B43=\"\", \"\", STDEV($H$6:$H$25))","v":""},"",null,null,null,null,null,{"$f":"IF(ISNUMBER(B43), IF(AND(C43>J42,C43>J41,C43>J40,C43>J39,C43>J38,C43>J37),(C43+J42+J41+J40+J39+J38+J37)/7,IF(AND(C43>J42,C43>J41,C43>J40,C43>J39,C43>J38,C43>J37),(C43+J42+J41+J40+J39+J38)/6, IF(AND(C43>J42,C43>J41,C43>J40,C43>J39,C43>J38,C43>J37),(C43+J42+J41+J40+J39)/5, IF(AND(C43>J42,C43>J41,C43>J40,C43>J39,C43>J38,C43>J37),(C43+J42+J41+J40)/4,IF(AND(C43>J42,C43>J41,C43>J40,C43>J39,C43>J38,C43>J37),(C43+J42+J41)/3, IF(AND(C43>J42,C43>J41,C43>J40,C43>J39,C43>J38,C43>J37),(C43+J42)/2,C43)))))),\"\")","v":""},{"$f":"IF(ISNUMBER(B44), IF(AND(C44>K43,C44>K42,C44>K41,C44>K40,C44>K39,C44>K38,C44>K37),(C44+K43+K42+K41+K40+K39+K38+K37)/8,IF(AND(C44>K43,C44>K42,C44>K41,C44>K40,C44>K39,C44>K38,C44>K37),(C44+K43+K42+K41+K40+K39+K38)/7, IF(AND(C44>K43,C44>K42,C44>K41,C44>K40,C44>K39,C44>K38,C44>K37),(C44+K43+K42+K41+K40+K39)/6, IF(AND(C44>K43,C44>K42,C44>K41,C44>K40,C44>K39,C44>K38,C44>K37),(C44+K43+K42+K41+K40)/5,IF(AND(C44>K43,C44>K42,C44>K41,C44>K40,C44>K39,C44>K38,C44>K37),(C44+K43+K42+K41)/4, IF(AND(C44>K43,C44>K42,C44>K41,C44>K40,C44>K39,C44>K38,C44>K37),(C44+K43+K42)/3,IF(AND(C44>K43,C44>K42,C44>K41,C44>K40,C44>K39,C44>K38,C44>K37),(C44+K43)/2,K43))))))),\"\")","v":""},{"$f":"IF(B43=\"\",\"\",INDIRECT($N$45&43))","v":""},"","M1(1-p/100)",{"$f":"IC25_M1*(1-(IC25_p/100))","v":{"$error":"#VALUE!"}},"Concentration that would be significantly different at the specified reduction",null,null,null,null,null,null,null,null,{"$f":"Z38*(1-Z41/100)","v":{"$error":"#VALUE!"}}]
[{"$f":"IF(B44=\"\",\"\",Intermed_Input!I25)","v":""},{"$f":"IF($I$5=\"\",\"\",$I$5)","v":""},{"$f":"IF($B44=\"\", \"\", AVERAGE($I$6:$I$25))","v":""},{"$f":"IF($B44=\"\", \"\", STDEV($I$6:$I$25))","v":""},"",null,null,null,null,null,null,{"$f":"IF(ISNUMBER(B44), IF(AND(C44>K43,C44>K42,C44>K41,C44>K40,C44>K39,C44>K38,C44>K37),(C44+K43+K42+K41+K40+K39+K38+K37)/8,IF(AND(C44>K43,C44>K42,C44>K41,C44>K40,C44>K39,C44>K38,C44>K37),(C44+K43+K42+K41+K40+K39+K38)/7, IF(AND(C44>K43,C44>K42,C44>K41,C44>K40,C44>K39,C44>K38,C44>K37),(C44+K43+K42+K41+K40+K39)/6, IF(AND(C44>K43,C44>K42,C44>K41,C44>K40,C44>K39,C44>K38,C44>K37),(C44+K43+K42+K41+K40)/5,IF(AND(C44>K43,C44>K42,C44>K41,C44>K40,C44>K39,C44>K38,C44>K37),(C44+K43+K42+K41)/4, IF(AND(C44>K43,C44>K42,C44>K41,C44>K40,C44>K39,C44>K38,C44>K37),(C44+K43+K42)/3,IF(AND(C44>K43,C44>K42,C44>K41,C44>K40,C44>K39,C44>K38,C44>K37),(C44+K43)/2,C44))))))),\"\")","v":""},{"$f":"IF(B44=\"\",\"\",INDIRECT($N$45&44))","v":""},""]
[null,null,null,null,null,{"$f":"COUNT(F37:F44)","v":0},{"$f":"COUNT(G37:G44)","v":0},{"$f":"COUNT(H37:H44)","v":0},{"$f":"COUNT(I37:I44)","v":0},{"$f":"COUNT(J37:J44)","v":0},{"$f":"COUNT(K37:K44)","v":0},0,{"$f":"IF(L45>0, 11, IF(K45>0, 10, IF(J45>0, 9, IF(I45>0, 8, IF(H45>0, 7, IF(G45>0,6, 5))))))","v":5},{"$f":"IF(L45>0,\"l\",IF(K45>0,\"k\",IF(J45>0,\"j\",IF(I45>0,\"i\",IF(H45>0,\"h\",IF(G45>0,\"g\",\"f\"))))))","v":"f"},"<-use column"]
[null,null,null,null,null,null,null,null,null,null,null,null,null,null,null,null,"Smoothed?",{"$f":"IF(AND(M37=C37,M38=C38,M39=C39,M40=C40,M41=C41,M42=C42,M43=C43,M44=C44),\"N\",\"Y\")","v":"N"}]
[]
[]
[null,null,null,null,null,null,null,null,null,null,null,null,null,null,"Future additions"]
[null,null,null,null,null,null,null,null,null,null,null,null,null,null,"lines for NOEC, IC20, and IC25"]
[null,null,null,null,null,null,null,null,null,null,null,null,null,null,"arrows pointing to and identifying the lines"]
[]
[null,null,null,null,null,null,null,null,null,null,null,null,null,null,"For lines on plot"]
[null,null,null,null,null,null,null,null,null,null,null,null,null,null,"X","IC20","IC25","IC50"]
[null,null,null,null,null,null,null,null,null,null,null,null,null,null,0,null,{"$f":"$H$30","v":">0"},{"$f":"$H$31","v":0}]
[null,null,null,null,null,null,null,null,null,null,null,null,null,null,1,null,{"$f":"$H$30","v":">0"},{"$f":"$H$31","v":0}]
[]
[]
[]
[]
[]
[]
[]
[]
[]
[]
[]
[]
["Text Box text"]
[{"$f":"IF(OR(ISNUMBER(B70),ISNUMBER(B71)),\"The MSD (\"&ROUND(E30,3)&\")  (and its % effect, the PMSD = \"&ROUND(E31,3)&\") is the value (and %) below the Control response that will trigger a Significant Difference.\",\"\")","v":""},{"$f":"INDEX(LU!M6:M43,MATCH(G3,LU!L6:L43,0))","v":{"$error":"#N/A"}}]
[{"$f":"IF(OR(ISNUMBER(B70),ISNUMBER(B71)),\"Trigger Point: Control Mean - MSD = \"&ROUND(P43,3),\"\")","v":""},{"$f":"INDEX(LU!N6:N43,MATCH(G3,LU!L6:L43,0))","v":{"$error":"#N/A"}}]
[]
[]
[]
["RawConc","Conc.","GroupMean","Stdev.","Sp2","M2","M3","M4","M5","M6","M7","M8","SmoothMean","Trigger"]
[{"$f":"IF(B37=\"\",\"\",Intermed_Input!B25)","v":""},{"$f":"IF($B$5=\"\",#N/A,$B$5)","v":{"$error":"#N/A"}},{"$f":"IF($B76=\"\", \"\", AVERAGE($B$6:$B$25))","v":{"$error":"#N/A"}},{"$f":"IF($B76=\"\", \"\", STDEV($B$6:$B$25))","v":{"$error":"#N/A"}},{"$f":"SUMSQ($D76:$D83)/$B$32","v":{"$error":"#N/A"}},{"$f":"IF(C77>C76,((C77+C76)/2),C76)","v":{"$error":"#N/A"}},{"$f":"IF(ISNUMBER(B78), IF(AND(C78>F77,C78>F76),(C78+F77+F76)/3,F76),\"\")","v":""},{"$f":"IF(ISNUMBER(B79), IF(AND(C79>G78,C79>G77,C79>G76),(C79+G78+G77+G76)/4,G76),\"\")","v":""},{"$f":"IF(ISNUMBER(B80), IF(AND(C80>H79,C80>H78,C80>H77,C80>H76),((C80+H79+H78+H77+H76)/5),H76),\"\")","v":""},{"$f":"IF(ISNUMBER(B81), IF(AND(C81>I80,C81>I79,C81>I78,C81>I77,C81>I76),(C81+I80+I79+I78+I77+I76)/6,I76),\"\")","v":""},{"$f":"IF(ISNUMBER(B82), IF(AND(C82>J81,C82>J80,C82>40,C82>J78,C82>J77,C82>J76),(C82+J81+J80+J79+J78+J77+J76)/7,J76),\"\")","v":""},{"$f":"IF(ISNUMBER(B83), IF(AND(C83>K82,C83>K81,C83>K80,C83>K79,C83>K78,C83>K77,C83>K76),(C83+K82+K81+K80+K79+K78+K77+K76)/8,K76),\"\")","v":""},{"$f":"IF(B76=\"\",\"\",INDIRECT($N$45&37))","v":{"$error":"#N/A"}},{"$f":"IF(B76=\"\",\"\",$P$43)","v":{"$error":"#N/A"}}]
[{"$f":"IF(B38=\"\",\"\",Intermed_Input!C25)","v":""},{"$f":"IF($C$5=\"\",\"\",$C$5)","v":""},{"$f":"IF($B77=\"\", \"\", AVERAGE($C$6:$C$25))","v":""},{"$f":"IF($B77=\"\", \"\", STDEV($C$6:$C$25))","v":""},{"$f":"IF($B77=\"\", \"\", ($D77^2+$D$37^2)/2)","v":""},{"$f":"IF(C77>C76,((C77+C76)/2),C77)","v":{"$error":"#N/A"}},{"$f":"IF(ISNUMBER(B78), IF(AND(C78>F77,C78>F76),(C78+F77+F76)/3,IF(AND(C78>F77,C78<F76), (F77+C78)/2, F77)),\"\")","v":""},{"$f":"IF(ISNUMBER(B79),  IF(AND(C79>G78,C79>G77,C79>G76),(C79+G78+G77+G76)/4,IF(AND(C79>G78,C79>G77,C79<G76),(C79+G78+G77)/3,G77)),\"\")","v":""},{"$f":"IF(ISNUMBER(B80), IF(AND(C80>H79,C80>H78,C80>H77,C80>H76),((C80+H79+H78+H77+H76)/5),IF(AND(C80>H79,C80>H78,C80>H77,C80<H76),((C80+H79+H78+H77)/4),H77)),\"\")","v":""},{"$f":"IF(ISNUMBER(B81), IF(AND(C81>I80,C81>I79,C81>I78,C81>I77,C81>I76),(C81+I80+I79+I78+I77+I76)/6,IF(AND(C81>I80,C81>I79,C81>I78,C81>I77,C81<I76),(C81+I80+I79+I78+I77)/5, I77)),\"\")","v":""},{"$f":"IF(ISNUMBER(B82),  IF(AND(C82>J81,C82>J80,C82>J79,C82>J78,C82>J77,C82>J76),(C82+J81+J80+J79+J78+J77+J76)/7,IF(AND(C82>J81,C82>J80,C82>J79,C82>J78,C82>J77,C82>J76),(C82+J81+J80+J79+J78+J77)/6,J77)),\"\")","v":""},{"$f":"IF(ISNUMBER(B83),  IF(AND(C83>K82,C83>K81,C83>K80,C83>K79,C83>K78,C83>K77,C83>K76),(C83+K82+K81+K80+K79+K78+K77+K76)/8,IF(AND(C83>K82,C83>K81,C83>K80,C83>K79,C83>K78,C83>K77,C83>K76),(C83+K82+K81+K80+K79+K78+K77)/7,K77)),\"\")","v":""},{"$f":"IF(B77=\"\",\"\",INDIRECT($N$45&38))","v":""},{"$f":"IF(B77=\"\",\"\",$P$43)","v":""}]
[{"$f":"IF(B39=\"\",\"\",Intermed_Input!D25)","v":""},{"$f":"IF($D$5=\"\",\"\",$D$5)","v":""},{"$f":"IF($B78=\"\", \"\", AVERAGE($D$6:$D$25))","v":""},{"$f":"IF($B78=\"\", \"\", STDEV($D$6:$D$25))","v":""},"",null,{"$f":"IF(ISNUMBER(B78),IF(AND(C78>F77,C78>F76),(C78+F77+F76)/3,IF(AND(C78>F77,C78<F76), (F77+C78)/2, C78)),\"\")","v":""},{"$f":"IF(ISNUMBER(B79), IF(AND(C79>G78,C79>G77,C79>G76),(C79+G78+G77+G76)/4,IF(AND(C79>G78,C79>G77,C79<G76),(C79+G78+G77)/3,IF(AND(C79>G78,C79<G77,C79<G76),(C79+G78)/2,G78))),\"\")","v":""},{"$f":"IF(ISNUMBER(B80), IF(AND(C80>H79,C80>H78,C80>H77,C80>H76),((C80+H79+H78+H77+H76)/5),IF(AND(C80>H79,C80>H78,C80>H77,C80<H76),((C80+H79+H78+H77)/4),IF(AND(C80>H79,C80>H78,C80<H77,C80<H76),((C80+H79+H78)/3),H78))),\"\")","v":""},{"$f":"IF(ISNUMBER(B81),  IF(AND(C81>I80,C81>I79,C81>I78,C81>I77,C81>I76),(C81+I80+I79+I78+I77+I76)/6,IF(AND(C81>I80,C81>I79,C81>I78,C81>I77,C81<I76),(C81+I80+I79+I78+I77)/5,IF(AND(C81>I80,C81>I79,C81>I78,C81<I77,C81<I76),(C81+I80+I79+I78)/4,I78))),\"\")","v":""},{"$f":"IF(ISNUMBER(B82), IF(AND(C82>J81,C82>J80,C82>J79,C82>J78,C82>J77,C82>J76),(C82+J81+J80+J79+J78+J77+J76)/7,IF(AND(C82>J81,C82>J80,C82>J79,C82>J78,C82>J77,C82>J76),(C82+J81+J80+J79+J78+J77)/6,IF(AND(C82>J81,C82>J80,C82>J79,C82>J78,C82>J77,C82>J76),(C82+J81+J80+J79+J78)/5,J78))),\"\")","v":""},{"$f":"IF(ISNUMBER(B83), IF(AND(C83>K82,C83>K81,C83>K80,C83>K79,C83>K78,C83>K77,C83>K76),(C83+K82+K81+K80+K79+K78+K77+K76)/8,IF(AND(C83>K82,C83>K81,C83>K80,C83>K79,C83>K78,C83>K77,C83>K76),(C83+K82+ K81+K80+K79+K78+K77)/7,IF(AND(C83>K82,C83>K81,C83>K80,C83>K79,C83>K78,C83>K77,C83>K76),(C83+K82+K81+K80+K79+K78)/6,K78))),\"\")","v":""},{"$f":"IF(B78=\"\",\"\",INDIRECT($N$45&39))","v":""},""]
[{"$f":"IF(B40=\"\",\"\",Intermed_Input!E25)","v":""},{"$f":"IF($E$5=\"\",\"\",$E$5)","v":""},{"$f":"IF($B79=\"\", \"\", AVERAGE($E$6:$E$25))","v":""},{"$f":"IF($B79=\"\", \"\", STDEV($E$6:$E$25))","v":""},"",null,null,{"$f":"IF(ISNUMBER(B79),  IF(AND(C79>G78,C79>G77,C79>G76),(C79+G78+G77+G76)/4,IF(AND(C79>G78,C79>G77,C79<G76),(C79+G78+G77)/3,IF(AND(C79>G78,C79<G77,C79<G76),(C79+G78)/2,C79))),\"\")","v":""},{"$f":"IF(ISNUMBER(B80),IF(AND(C80>H79,C80>H78,C80>H77,C80>H76),((C80+H79+H78+H77+H76)/5),IF(AND(C80>H79,C80>H78,C80>H77,C80<H76),((C80+H79+H78+H77)/4),IF(AND(C80>H79,C80>H78,C80<H77,C80<H76),((C80+H79+H78)/3),IF(AND(C80>H79,C80<H78,C80<H77,C80<H76),((C80+H79)/2),H79)))),\"\")","v":""},{"$f":"IF(ISNUMBER(B81), IF(AND(C81>I80,C81>I79,C81>I78,C81>I77,C81>I76),(C81+I80+I79+I78+I77+I76)/6,IF(AND(C81>I80,C81>I79,C81>I78,C81>I77,C81<I76),(C81+I80+I79+I78+I77)/5,IF(AND(C81>I80,C81>I79,C81>I78,C81<I77,C81<I76),(C81+I80+I79+I78)/4,IF(AND(C81>I80,C81>I79,C81<I78,C81<I77,C81<I76),(C81+I80+I79)/3,I79)))),\"\")","v":""},{"$f":"IF(ISNUMBER(B82), IF(AND(C82>J81,C82>J80,C82>J79,C82>J78,C82>J77,C82>J76),(C82+J81+J80+J79+J78+J77+J76)/7,IF(AND(C82>J81,C82>J80,C82>J79,C82>J78,C82>J77,C82>J76),(C82+J81+J80+J79+J78+J77)/6,IF(AND(C82>J81,C82>J80,C82>J79,C82>J78,C82>J77,C82>J76),(C82+J81+J80+J79+J78)/5,IF(AND(C82>J81,C82>J80,C82>J79,C82>J78,C82>J77,C82>J76),(C82+J80+J79)/4,J79)))),\"\")","v":""},{"$f":"IF(ISNUMBER(B83), IF(AND(C83>K82,C83>K81,C83>K80,C83>K79,C83>K78,C83>K77,C83>K76),(C83+K82+K81+K80+K79+K78+K77+K76)/8,IF(AND(C83>K82,C83>K81,C83>K80,C83>K79,C83>K78,C83>K77,C83>K76),(C83+K82+K81+K80+K79+K78+K77)/7,IF(AND(C83>K82,C83>K81,C83>K80,C83>K79,C83>K78,C83>K77,C83>K76),(C83+K82+K81+K80+K79+K78)/6,IF(AND(C83>K82,C83>K81,C83>K80,C83>K79,C83>K78,C83>K77,C83>K76),(C83+K82+K80+K79)/5,K79)))),\"\")","v":""},{"$f":"IF(B79=\"\",\"\",INDIRECT($N$45&40))","v":""},""]
[{"$f":"IF(B41=\"\",\"\",Intermed_Input!F25)","v":""},{"$f":"IF($F$5=\"\",\"\",$F$5)","v":""},{"$f":"IF($B80=\"\", \"\", AVERAGE($F$6:$F$25))","v":""},{"$f":"IF($B80=\"\", \"\", STDEV($F$6:$F$25))","v":""},"",null,null,null,{"$f":"IF(ISNUMBER(B80),IF(AND(C80>H79,C80>H78,C80>H77,C80>H76),((C80+H79+H78+H77+H76)/5),IF(AND(C80>H79,C80>H78,C80>H77,C80<H76),((C80+H79+H78+H77)/4),IF(AND(C80>H79,C80>H78,C80<H77,C80<H76),((C80+H79+H78)/3),IF(AND(C80>H79,C80<H78,C80<H77,C80<H76),((C80+H79)/2),C80)))),\"\")","v":""},{"$f":"IF(ISNUMBER(B81), IF(AND(C81>I80,C81>I79,C81>I78,C81>I77,C81>I76),(C81+I80+I79+I78+I77+I76)/6,IF(AND(C81>I80,C81>I79,C81>I78,C81>I77,C81<I76),(C81+I80+I79+I78+I77)/5, IF(AND(C81>I80,C81>I79,C81>I78,C81<I77,C81<I76),(C81+I80+I79+I78)/4, IF(AND(C81>I80,C81>I79,C81<I78,C81<I77,C81<I76),(C81+I80+I79)/3,IF(AND(C81>I80,C81<I79,C81<I78,C81<I77,C81<I76),(C81+I80)/2, I80))))),\"\")","v":""},{"$f":"IF(ISNUMBER(B82), IF(AND(C82>J81,C82>J80,C82>J79,C82>J78,C82>J77,C82>J76),(C82+J81+J80+J79+J78+J77+J76)/7,IF(AND(C82>J81,C82>J80,C82>J79,C82>J78,C82>J77,C82>J76),(C82+J81+J80+J79+J78+J77)/6, IF(AND(C82>J81,C82>J80,C82>J79,C82>J78,C82>J77,C82>J76),(C82+J81+J80+J79+J78)/5, IF(AND(C82>J81,C82>J80,C82>J79,C82>J78,C82>J77,C82>J76),(C82+J81+J80+J79)/4,IF(AND(C82>J81,C82>J80,C82>J79,C82>J78,C82>J77,C82>J76),(C82+J81+J80)/3, J80))))),\"\")","v":""},{"$f":"IF(ISNUMBER(B83), IF(AND(C83>K82,C83>K81,C83>K80,C83>K79,C83>K78,C83>K77,C83>K76),(C83+K82+K81+K80+K79+K78+K77+K76)/8,IF(AND(C83>K82,C83>K81,C83>K80,C83>K79,C83>K78,C83>K77,C83>K76),(C83+K82+K81+K80+K79+K78+K77)/7, IF(AND(C83>K82,C83>K81,C83>K80,C83>K79,C83>K78,C83>K77,C83>K76),(C83+K82+K81+K80+K79+K78)/6, IF(AND(C83>K82,C83>K81,C83>K80,C83>K79,C83>K78,C83>K77,C83>K76),(C83+K82+K81+K80+K79)/5,IF(AND(C83>K82,C83>K81,C83>K80,C83>K79,C83>K78,C83>K77,C83>K76),(C83+K82+K81+K80)/4, K80))))),\"\")","v":""},{"$f":"IF(B80=\"\",\"\",INDIRECT($N$45&41))","v":""},""]
[{"$f":"IF(B42=\"\",\"\",Intermed_Input!G25)","v":""},{"$f":"IF($G$5=\"\",\"\",$G$5)","v":""},{"$f":"IF($B81=\"\", \"\", AVERAGE($G$6:$G$25))","v":""},{"$f":"IF($B81=\"\", \"\", STDEV($G$6:$G$25))","v":""},"",null,null,null,null,{"$f":"IF(ISNUMBER(B81), IF(AND(C81>I80,C81>I79,C81>I78,C81>I77,C81>I76),(C81+I80+I79+I78+I77+I76)/6,IF(AND(C81>I80,C81>I79,C81>I78,C81>I77,C81<I76),(C81+I80+I79+I78+I77)/5, IF(AND(C81>I80,C81>I79,C81>I78,C81<I77,C81<I76),(C81+I80+I79+I78)/4, IF(AND(C81>I80,C81>I79,C81<I78,C81<I77,C81<I76),(C81+I80+I79)/3,IF(AND(C81>I80,C81<I79,C81<I78,C81<I77,C81<I76),(C81+I80)/2, C81))))),\"\")","v":""},{"$f":"IF(ISNUMBER(B82), IF(AND(C82>J81,C82>J80,C82>J79,C82>J78,C82>J77,C82>J76),(C82+J81+J80+J79+J78+J77+J76)/7,IF(AND(C82>J81,C82>J80,C82>J79,C82>J78,C82>J77,C82>J76),(C82+J81+J80+J79+J78+J77)/6, IF(AND(C82>J81,C82>J80,C82>J79,C82>J78,C82>J77,C82>J76),(C82+J81+J80+J79+J78)/5, IF(AND(C82>J81,C82>J80,C82>J79,C82>J78,C82>J77,C82>J76),(C82+J81+J80+J79)/4,IF(AND(C82>J81,C82>J80,C82>J79,C82>J78,C82>J77,C82>J76),(C82+J81+J80)/3, IF(AND(C82>J81,C82>J80,C82>J79,C82>J78,C82>J77,C82>J76),(C82+J81)/2,J81)))))),\"\")","v":""},{"$f":"IF(ISNUMBER(B83), IF(AND(C83>K82,C83>K81,C83>K80,C83>K79,C83>K78,C83>K77,C83>K76),(C83+K82+K81+K80+K79+K78+K77+K76)/8,IF(AND(C83>K82,C83>K81,C83>K80,C83>K79,C83>K78,C83>K77,C83>K76),(C83+K82+K81+K80+K79+K78+K77)/7, IF(AND(C83>K82,C83>K81,C83>K80,C83>K79,C83>K78,C83>K77,C83>K76),(C83+K82+K81+K80+K79+K78)/6, IF(AND(C83>K82,C83>K81,C83>K80,C83>K79,C83>K78,C83>K77,C83>K76),(C83+K82+K81+K80+K79)/5,IF(AND(C83>K82,C83>K81,C83>K80,C83>K79,C83>K78,C83>K77,C83>K76),(C83+K82+K81+K80)/4, IF(AND(C83>K82,C83>K81,C83>K80,C83>K79,C83>K78,C83>K77,C83>K76),(C83+K82+K81)/3,K81)))))),\"\")","v":""},{"$f":"IF(B81=\"\",\"\",INDIRECT($N$45&42))","v":""},""]
[{"$f":"IF(B82=\"\",\"\",Intermed_Input!H25)","v":""},{"$f":"IF($H$5=\"\",\"\",$H$5)","v":""},{"$f":"IF($B82=\"\", #N/A, AVERAGE($H$6:$H$25))","v":{"$error":"#N/A"}},{"$f":"IF($B82=\"\", \"\", STDEV($H$6:$H$25))","v":""},"",null,null,null,null,null,{"$f":"IF(ISNUMBER(B82), IF(AND(C82>J81,C82>J80,C82>J79,C82>J78,C82>J77,C82>J76),(C82+J81+J80+J79+J78+J77+J76)/7,IF(AND(C82>J81,C82>J80,C82>J79,C82>J78,C82>J77,C82>J76),(C82+J81+J80+J79+J78+J77)/6, IF(AND(C82>J81,C82>J80,C82>J79,C82>J78,C82>J77,C82>J76),(C82+J81+J80+J79+J78)/5, IF(AND(C82>J81,C82>J80,C82>J79,C82>J78,C82>J77,C82>J76),(C82+J81+J80+J79)/4,IF(AND(C82>J81,C82>J80,C82>J79,C82>J78,C82>J77,C82>J76),(C82+J81+J80)/3, IF(AND(C82>J81,C82>J80,C82>J79,C82>J78,C82>J77,C82>J76),(C82+J81)/2,C82)))))),\"\")","v":""},{"$f":"IF(ISNUMBER(B83), IF(AND(C83>K82,C83>K81,C83>K80,C83>K79,C83>K78,C83>K77,C83>K76),(C83+K82+K81+K80+K79+K78+K77+K76)/8,IF(AND(C83>K82,C83>K81,C83>K80,C83>K79,C83>K78,C83>K77,C83>K76),(C83+K82+K81+K80+K79+K78+K77)/7, IF(AND(C83>K82,C83>K81,C83>K80,C83>K79,C83>K78,C83>K77,C83>K76),(C83+K82+K81+K80+K79+K78)/6, IF(AND(C83>K82,C83>K81,C83>K80,C83>K79,C83>K78,C83>K77,C83>K76),(C83+K82+K81+K80+K79)/5,IF(AND(C83>K82,C83>K81,C83>K80,C83>K79,C83>K78,C83>K77,C83>K76),(C83+K82+K81+K80)/4, IF(AND(C83>K82,C83>K81,C83>K80,C83>K79,C83>K78,C83>K77,C83>K76),(C83+K82+K81)/3,IF(AND(C83>K82,C83>K81,C83>K80,C83>K79,C83>K78,C83>K77,C83>K76),(C83+K82)/2,K82))))))),\"\")","v":""},{"$f":"IF(B82=\"\",#N/A,INDIRECT($N$45&43))","v":{"$error":"#N/A"}},{"$f":"IF(B82=\"\",#N/A,$P$43)","v":{"$error":"#N/A"}}]
[{"$f":"IF(B83=\"\",\"\",Intermed_Input!II25)","v":""},{"$f":"IF($I$5=\"\",\"\",$I$5)","v":""},{"$f":"IF($B83=\"\", #N/A, AVERAGE($I$6:$I$25))","v":{"$error":"#N/A"}},{"$f":"IF($B83=\"\", \"\", STDEV($I$6:$I$25))","v":""},"",null,null,null,null,null,null,{"$f":"IF(ISNUMBER(B83), IF(AND(C83>K82,C83>K81,C83>K80,C83>K79,C83>K78,C83>K77,C83>K76),(C83+K82+K81+K80+K79+K78+K77+K76)/8,IF(AND(C83>K82,C83>K81,C83>K80,C83>K79,C83>K78,C83>K77,C83>K76),(C83+K82+K81+K80+K79+K78+K77)/7, IF(AND(C83>K82,C83>K81,C83>K80,C83>K79,C83>K78,C83>K77,C83>K76),(C83+K82+K81+K80+K79+K78)/6, IF(AND(C83>K82,C83>K81,C83>K80,C83>K79,C83>K78,C83>K77,C83>K76),(C83+K82+K81+K80+K79)/5,IF(AND(C83>K82,C83>K81,C83>K80,C83>K79,C83>K78,C83>K77,C83>K76),(C83+K82+K81+K80)/4, IF(AND(C83>K82,C83>K81,C83>K80,C83>K79,C83>K78,C83>K77,C83>K76),(C83+K82+K81)/3,IF(AND(C83>K82,C83>K81,C83>K80,C83>K79,C83>K78,C83>K77,C83>K76),(C83+K82)/2,C83))))))),\"\")","v":""},{"$f":"IF(B83=\"\",#N/A,INDIRECT($N$45&44))","v":{"$error":"#N/A"}},{"$f":"IF(B83=\"\",#N/A,$P$43)","v":{"$error":"#N/A"}}]

{"sheet":"calc_IC25_Resample","index":10,"n_rows":83,"n_cols":26,"rows_kept":83,"cut":false,"hidden":true,"merged":[]}
["Calculations",{"$f":"IF(ISNUMBER(FIND(\"Acute\",Start!B7)), \"LC50\", \"IC25\")","v":"IC25"}]
["This tab include IC25 calculation (linear interpolation).  Actual input data is randomized and the IC25 is recalculated.  Formulas are volatile so can change by hitting recalculate (F9)."]
[]
["Test group","Control","Conc.1","Conc.2","Conc.3","Conc.4","Conc.5","Conc. 6","Conc. 7",null,null,null,"INPUT data"]
[null,{"$f":"IF(Intermed_Input!B25=\"\",\"\",LOG(Intermed_Input!B25+1))","v":""},{"$f":"IF(Intermed_Input!C25=\"\",\"\",LOG(Intermed_Input!C25+1))","v":""},{"$f":"IF(Intermed_Input!D25=\"\",\"\",LOG(Intermed_Input!D25+1))","v":""},{"$f":"IF(Intermed_Input!E25=\"\",\"\",LOG(Intermed_Input!E25+1))","v":""},{"$f":"IF(Intermed_Input!F25=\"\",\"\",LOG(Intermed_Input!F25+1))","v":""},{"$f":"IF(Intermed_Input!G25=\"\",\"\",LOG(Intermed_Input!G25+1))","v":""},{"$f":"IF(Intermed_Input!H25=\"\",\"\",LOG(Intermed_Input!H25+1))","v":""},{"$f":"IF(Intermed_Input!I25=\"\",\"\",LOG(Intermed_Input!I25+1))","v":""},null,null,null,"Control",1,2,3,4,5,6,7]
[1,{"$f":"IF(M6=\"\", \"\", INDEX(M$6:INDIRECT(\"M$\"&(6+M$26 -1)),ROWS(M$6:INDIRECT(\"M$\"&(6+M$26 -1)))*RAND()+1,COLUMNS(M$6:INDIRECT(\"M$\"&(6+M$26 -1)))*RAND()+1))","v":""},{"$f":"IF(N6=\"\", \"\", INDEX(N$6:INDIRECT(\"N$\"&(6+N$26 -1)),ROWS(N$6:INDIRECT(\"N$\"&(6+N$26 -1)))*RAND()+1,COLUMNS(N$6:INDIRECT(\"N$\"&(6+N$26 -1)))*RAND()+1))","v":""},{"$f":"IF(O6=\"\",\"\",INDEX(O$6:INDIRECT(\"o$\"&(6+O$26 -1)),ROWS(O$6:INDIRECT(\"o$\"&(6+O$26 -1)))*RAND()+1,COLUMNS(O$6:INDIRECT(\"o$\"&(6+O$26 -1)))*RAND()+1))","v":""},{"$f":"IF(P6=\"\",\"\", INDEX(P$6:INDIRECT(\"P$\"&(6+P$26 -1)),ROWS(P$6:INDIRECT(\"P$\"&(6+P$26 -1)))*RAND()+1,COLUMNS(P$6:INDIRECT(\"P$\"&(6+P$26 -1)))*RAND()+1))","v":""},{"$f":"IF(Q6=\"\",\"\", INDEX(Q$6:INDIRECT(\"Q$\"&(6+Q$26 -1)),ROWS(Q$6:INDIRECT(\"Q$\"&(6+Q$26 -1)))*RAND()+1,COLUMNS(Q$6:INDIRECT(\"Q$\"&(6+Q$26 -1)))*RAND()+1))","v":""},{"$f":"IF(R6=\"\",\"\", INDEX(R$6:INDIRECT(\"R$\"&(6+R$26 -1)),ROWS(R$6:INDIRECT(\"R$\"&(6+R$26 -1)))*RAND()+1,COLUMNS(R$6:INDIRECT(\"R$\"&(6+R$26 -1)))*RAND()+1))","v":""},{"$f":"IF(S6=\"\",\"\", INDEX(S$6:INDIRECT(\"S$\"&(6+S$26 -1)),ROWS(S$6:INDIRECT(\"S$\"&(6+S$26 -1)))*RAND()+1,COLUMNS(S$6:INDIRECT(\"S$\"&(6+S$26 -1)))*RAND()+1))","v":""},{"$f":"IF(T6=\"\",\"\", INDEX(T$6:INDIRECT(\"T$\"&(6+T$26 -1)),ROWS(T$6:INDIRECT(\"T$\"&(6+T$26 -1)))*RAND()+1,COLUMNS(T$6:INDIRECT(\"T$\"&(6+T$26 -1)))*RAND()+1))","v":""},null,null,null,{"$f":"calc_IC25!B6","v":""},{"$f":"calc_IC25!C6","v":""},{"$f":"calc_IC25!D6","v":""},{"$f":"calc_IC25!E6","v":""},{"$f":"calc_IC25!F6","v":""},{"$f":"calc_IC25!G6","v":""},{"$f":"calc_IC25!H6","v":""},{"$f":"calc_IC25!I6","v":""}]
[2,{"$f":"IF(M7=\"\", \"\", INDEX(M$6:INDIRECT(\"M$\"&(6+M$26 -1)),ROWS(M$6:INDIRECT(\"M$\"&(6+M$26 -1)))*RAND()+1,COLUMNS(M$6:INDIRECT(\"M$\"&(6+M$26 -1)))*RAND()+1))","v":""},{"$f":"IF(N7=\"\", \"\", INDEX(N$6:INDIRECT(\"N$\"&(6+N$26 -1)),ROWS(N$6:INDIRECT(\"N$\"&(6+N$26 -1)))*RAND()+1,COLUMNS(N$6:INDIRECT(\"N$\"&(6+N$26 -1)))*RAND()+1))","v":""},{"$f":"IF(O7=\"\",\"\",INDEX(O$6:INDIRECT(\"o$\"&(6+O$26 -1)),ROWS(O$6:INDIRECT(\"o$\"&(6+O$26 -1)))*RAND()+1,COLUMNS(O$6:INDIRECT(\"o$\"&(6+O$26 -1)))*RAND()+1))","v":""},{"$f":"IF(P7=\"\",\"\", INDEX(P$6:INDIRECT(\"P$\"&(6+P$26 -1)),ROWS(P$6:INDIRECT(\"P$\"&(6+P$26 -1)))*RAND()+1,COLUMNS(P$6:INDIRECT(\"P$\"&(6+P$26 -1)))*RAND()+1))","v":""},{"$f":"IF(Q7=\"\",\"\", INDEX(Q$6:INDIRECT(\"Q$\"&(6+Q$26 -1)),ROWS(Q$6:INDIRECT(\"Q$\"&(6+Q$26 -1)))*RAND()+1,COLUMNS(Q$6:INDIRECT(\"Q$\"&(6+Q$26 -1)))*RAND()+1))","v":""},{"$f":"IF(R7=\"\",\"\", INDEX(R$6:INDIRECT(\"R$\"&(6+R$26 -1)),ROWS(R$6:INDIRECT(\"R$\"&(6+R$26 -1)))*RAND()+1,COLUMNS(R$6:INDIRECT(\"R$\"&(6+R$26 -1)))*RAND()+1))","v":""},{"$f":"IF(S7=\"\",\"\", INDEX(S$6:INDIRECT(\"S$\"&(6+S$26 -1)),ROWS(S$6:INDIRECT(\"S$\"&(6+S$26 -1)))*RAND()+1,COLUMNS(S$6:INDIRECT(\"S$\"&(6+S$26 -1)))*RAND()+1))","v":""},{"$f":"IF(T7=\"\",\"\", INDEX(T$6:INDIRECT(\"T$\"&(6+T$26 -1)),ROWS(T$6:INDIRECT(\"T$\"&(6+T$26 -1)))*RAND()+1,COLUMNS(T$6:INDIRECT(\"T$\"&(6+T$26 -1)))*RAND()+1))","v":""},null,null,null,{"$f":"calc_IC25!B7","v":""},{"$f":"calc_IC25!C7","v":""},{"$f":"calc_IC25!D7","v":""},{"$f":"calc_IC25!E7","v":""},{"$f":"calc_IC25!F7","v":""},{"$f":"calc_IC25!G7","v":""},{"$f":"calc_IC25!H7","v":""},{"$f":"calc_IC25!I7","v":""}]
[3,{"$f":"IF(M8=\"\", \"\", INDEX(M$6:INDIRECT(\"M$\"&(6+M$26 -1)),ROWS(M$6:INDIRECT(\"M$\"&(6+M$26 -1)))*RAND()+1,COLUMNS(M$6:INDIRECT(\"M$\"&(6+M$26 -1)))*RAND()+1))","v":""},{"$f":"IF(N8=\"\", \"\", INDEX(N$6:INDIRECT(\"N$\"&(6+N$26 -1)),ROWS(N$6:INDIRECT(\"N$\"&(6+N$26 -1)))*RAND()+1,COLUMNS(N$6:INDIRECT(\"N$\"&(6+N$26 -1)))*RAND()+1))","v":""},{"$f":"IF(O8=\"\",\"\",INDEX(O$6:INDIRECT(\"o$\"&(6+O$26 -1)),ROWS(O$6:INDIRECT(\"o$\"&(6+O$26 -1)))*RAND()+1,COLUMNS(O$6:INDIRECT(\"o$\"&(6+O$26 -1)))*RAND()+1))","v":""},{"$f":"IF(P8=\"\",\"\", INDEX(P$6:INDIRECT(\"P$\"&(6+P$26 -1)),ROWS(P$6:INDIRECT(\"P$\"&(6+P$26 -1)))*RAND()+1,COLUMNS(P$6:INDIRECT(\"P$\"&(6+P$26 -1)))*RAND()+1))","v":""},{"$f":"IF(Q8=\"\",\"\", INDEX(Q$6:INDIRECT(\"Q$\"&(6+Q$26 -1)),ROWS(Q$6:INDIRECT(\"Q$\"&(6+Q$26 -1)))*RAND()+1,COLUMNS(Q$6:INDIRECT(\"Q$\"&(6+Q$26 -1)))*RAND()+1))","v":""},{"$f":"IF(R8=\"\",\"\", INDEX(R$6:INDIRECT(\"R$\"&(6+R$26 -1)),ROWS(R$6:INDIRECT(\"R$\"&(6+R$26 -1)))*RAND()+1,COLUMNS(R$6:INDIRECT(\"R$\"&(6+R$26 -1)))*RAND()+1))","v":""},{"$f":"IF(S8=\"\",\"\", INDEX(S$6:INDIRECT(\"S$\"&(6+S$26 -1)),ROWS(S$6:INDIRECT(\"S$\"&(6+S$26 -1)))*RAND()+1,COLUMNS(S$6:INDIRECT(\"S$\"&(6+S$26 -1)))*RAND()+1))","v":""},{"$f":"IF(T8=\"\",\"\", INDEX(T$6:INDIRECT(\"T$\"&(6+T$26 -1)),ROWS(T$6:INDIRECT(\"T$\"&(6+T$26 -1)))*RAND()+1,COLUMNS(T$6:INDIRECT(\"T$\"&(6+T$26 -1)))*RAND()+1))","v":""},null,null,null,{"$f":"calc_IC25!B8","v":""},{"$f":"calc_IC25!C8","v":""},{"$f":"calc_IC25!D8","v":""},{"$f":"calc_IC25!E8","v":""},{"$f":"calc_IC25!F8","v":""},{"$f":"calc_IC25!G8","v":""},{"$f":"calc_IC25!H8","v":""},{"$f":"calc_IC25!I8","v":""}]
[4,{"$f":"IF(M9=\"\", \"\", INDEX(M$6:INDIRECT(\"M$\"&(6+M$26 -1)),ROWS(M$6:INDIRECT(\"M$\"&(6+M$26 -1)))*RAND()+1,COLUMNS(M$6:INDIRECT(\"M$\"&(6+M$26 -1)))*RAND()+1))","v":""},{"$f":"IF(N9=\"\", \"\", INDEX(N$6:INDIRECT(\"N$\"&(6+N$26 -1)),ROWS(N$6:INDIRECT(\"N$\"&(6+N$26 -1)))*RAND()+1,COLUMNS(N$6:INDIRECT(\"N$\"&(6+N$26 -1)))*RAND()+1))","v":""},{"$f":"IF(O9=\"\",\"\",INDEX(O$6:INDIRECT(\"o$\"&(6+O$26 -1)),ROWS(O$6:INDIRECT(\"o$\"&(6+O$26 -1)))*RAND()+1,COLUMNS(O$6:INDIRECT(\"o$\"&(6+O$26 -1)))*RAND()+1))","v":""},{"$f":"IF(P9=\"\",\"\", INDEX(P$6:INDIRECT(\"P$\"&(6+P$26 -1)),ROWS(P$6:INDIRECT(\"P$\"&(6+P$26 -1)))*RAND()+1,COLUMNS(P$6:INDIRECT(\"P$\"&(6+P$26 -1)))*RAND()+1))","v":""},{"$f":"IF(Q9=\"\",\"\", INDEX(Q$6:INDIRECT(\"Q$\"&(6+Q$26 -1)),ROWS(Q$6:INDIRECT(\"Q$\"&(6+Q$26 -1)))*RAND()+1,COLUMNS(Q$6:INDIRECT(\"Q$\"&(6+Q$26 -1)))*RAND()+1))","v":""},{"$f":"IF(R9=\"\",\"\", INDEX(R$6:INDIRECT(\"R$\"&(6+R$26 -1)),ROWS(R$6:INDIRECT(\"R$\"&(6+R$26 -1)))*RAND()+1,COLUMNS(R$6:INDIRECT(\"R$\"&(6+R$26 -1)))*RAND()+1))","v":""},{"$f":"IF(S9=\"\",\"\", INDEX(S$6:INDIRECT(\"S$\"&(6+S$26 -1)),ROWS(S$6:INDIRECT(\"S$\"&(6+S$26 -1)))*RAND()+1,COLUMNS(S$6:INDIRECT(\"S$\"&(6+S$26 -1)))*RAND()+1))","v":""},{"$f":"IF(T9=\"\",\"\", INDEX(T$6:INDIRECT(\"T$\"&(6+T$26 -1)),ROWS(T$6:INDIRECT(\"T$\"&(6+T$26 -1)))*RAND()+1,COLUMNS(T$6:INDIRECT(\"T$\"&(6+T$26 -1)))*RAND()+1))","v":""},null,null,null,{"$f":"calc_IC25!B9","v":""},{"$f":"calc_IC25!C9","v":""},{"$f":"calc_IC25!D9","v":""},{"$f":"calc_IC25!E9","v":""},{"$f":"calc_IC25!F9","v":""},{"$f":"calc_IC25!G9","v":""},{"$f":"calc_IC25!H9","v":""},{"$f":"calc_IC25!I9","v":""}]
[5,{"$f":"IF(M10=\"\", \"\", INDEX(M$6:INDIRECT(\"M$\"&(6+M$26 -1)),ROWS(M$6:INDIRECT(\"M$\"&(6+M$26 -1)))*RAND()+1,COLUMNS(M$6:INDIRECT(\"M$\"&(6+M$26 -1)))*RAND()+1))","v":""},{"$f":"IF(N10=\"\", \"\", INDEX(N$6:INDIRECT(\"N$\"&(6+N$26 -1)),ROWS(N$6:INDIRECT(\"N$\"&(6+N$26 -1)))*RAND()+1,COLUMNS(N$6:INDIRECT(\"N$\"&(6+N$26 -1)))*RAND()+1))","v":""},{"$f":"IF(O10=\"\",\"\",INDEX(O$6:INDIRECT(\"o$\"&(6+O$26 -1)),ROWS(O$6:INDIRECT(\"o$\"&(6+O$26 -1)))*RAND()+1,COLUMNS(O$6:INDIRECT(\"o$\"&(6+O$26 -1)))*RAND()+1))","v":""},{"$f":"IF(P10=\"\",\"\", INDEX(P$6:INDIRECT(\"P$\"&(6+P$26 -1)),ROWS(P$6:INDIRECT(\"P$\"&(6+P$26 -1)))*RAND()+1,COLUMNS(P$6:INDIRECT(\"P$\"&(6+P$26 -1)))*RAND()+1))","v":""},{"$f":"IF(Q10=\"\",\"\", INDEX(Q$6:INDIRECT(\"Q$\"&(6+Q$26 -1)),ROWS(Q$6:INDIRECT(\"Q$\"&(6+Q$26 -1)))*RAND()+1,COLUMNS(Q$6:INDIRECT(\"Q$\"&(6+Q$26 -1)))*RAND()+1))","v":""},{"$f":"IF(R10=\"\",\"\", INDEX(R$6:INDIRECT(\"R$\"&(6+R$26 -1)),ROWS(R$6:INDIRECT(\"R$\"&(6+R$26 -1)))*RAND()+1,COLUMNS(R$6:INDIRECT(\"R$\"&(6+R$26 -1)))*RAND()+1))","v":""},{"$f":"IF(S10=\"\",\"\", INDEX(S$6:INDIRECT(\"S$\"&(6+S$26 -1)),ROWS(S$6:INDIRECT(\"S$\"&(6+S$26 -1)))*RAND()+1,COLUMNS(S$6:INDIRECT(\"S$\"&(6+S$26 -1)))*RAND()+1))","v":""},{"$f":"IF(T10=\"\",\"\", INDEX(T$6:INDIRECT(\"T$\"&(6+T$26 -1)),ROWS(T$6:INDIRECT(\"T$\"&(6+T$26 -1)))*RAND()+1,COLUMNS(T$6:INDIRECT(\"T$\"&(6+T$26 -1)))*RAND()+1))","v":""},null,null,null,{"$f":"calc_IC25!B10","v":""},{"$f":"calc_IC25!C10","v":""},{"$f":"calc_IC25!D10","v":""},{"$f":"calc_IC25!E10","v":""},{"$f":"calc_IC25!F10","v":""},{"$f":"calc_IC25!G10","v":""},{"$f":"calc_IC25!H10","v":""},{"$f":"calc_IC25!I10","v":""}]
[6,{"$f":"IF(M11=\"\", \"\", INDEX(M$6:INDIRECT(\"M$\"&(6+M$26 -1)),ROWS(M$6:INDIRECT(\"M$\"&(6+M$26 -1)))*RAND()+1,COLUMNS(M$6:INDIRECT(\"M$\"&(6+M$26 -1)))*RAND()+1))","v":""},{"$f":"IF(N11=\"\", \"\", INDEX(N$6:INDIRECT(\"N$\"&(6+N$26 -1)),ROWS(N$6:INDIRECT(\"N$\"&(6+N$26 -1)))*RAND()+1,COLUMNS(N$6:INDIRECT(\"N$\"&(6+N$26 -1)))*RAND()+1))","v":""},{"$f":"IF(O11=\"\",\"\",INDEX(O$6:INDIRECT(\"o$\"&(6+O$26 -1)),ROWS(O$6:INDIRECT(\"o$\"&(6+O$26 -1)))*RAND()+1,COLUMNS(O$6:INDIRECT(\"o$\"&(6+O$26 -1)))*RAND()+1))","v":""},{"$f":"IF(P11=\"\",\"\", INDEX(P$6:INDIRECT(\"P$\"&(6+P$26 -1)),ROWS(P$6:INDIRECT(\"P$\"&(6+P$26 -1)))*RAND()+1,COLUMNS(P$6:INDIRECT(\"P$\"&(6+P$26 -1)))*RAND()+1))","v":""},{"$f":"IF(Q11=\"\",\"\", INDEX(Q$6:INDIRECT(\"Q$\"&(6+Q$26 -1)),ROWS(Q$6:INDIRECT(\"Q$\"&(6+Q$26 -1)))*RAND()+1,COLUMNS(Q$6:INDIRECT(\"Q$\"&(6+Q$26 -1)))*RAND()+1))","v":""},{"$f":"IF(R11=\"\",\"\", INDEX(R$6:INDIRECT(\"R$\"&(6+R$26 -1)),ROWS(R$6:INDIRECT(\"R$\"&(6+R$26 -1)))*RAND()+1,COLUMNS(R$6:INDIRECT(\"R$\"&(6+R$26 -1)))*RAND()+1))","v":""},{"$f":"IF(S11=\"\",\"\", INDEX(S$6:INDIRECT(\"S$\"&(6+S$26 -1)),ROWS(S$6:INDIRECT(\"S$\"&(6+S$26 -1)))*RAND()+1,COLUMNS(S$6:INDIRECT(\"S$\"&(6+S$26 -1)))*RAND()+1))","v":""},{"$f":"IF(T11=\"\",\"\", INDEX(T$6:INDIRECT(\"T$\"&(6+T$26 -1)),ROWS(T$6:INDIRECT(\"T$\"&(6+T$26 -1)))*RAND()+1,COLUMNS(T$6:INDIRECT(\"T$\"&(6+T$26 -1)))*RAND()+1))","v":""},null,null,null,{"$f":"calc_IC25!B11","v":""},{"$f":"calc_IC25!C11","v":""},{"$f":"calc_IC25!D11","v":""},{"$f":"calc_IC25!E11","v":""},{"$f":"calc_IC25!F11","v":""},{"$f":"calc_IC25!G11","v":""},{"$f":"calc_IC25!H11","v":""},{"$f":"calc_IC25!I11","v":""}]
[7,{"$f":"IF(M12=\"\", \"\", INDEX(M$6:INDIRECT(\"M$\"&(6+M$26 -1)),ROWS(M$6:INDIRECT(\"M$\"&(6+M$26 -1)))*RAND()+1,COLUMNS(M$6:INDIRECT(\"M$\"&(6+M$26 -1)))*RAND()+1))","v":""},{"$f":"IF(N12=\"\", \"\", INDEX(N$6:INDIRECT(\"N$\"&(6+N$26 -1)),ROWS(N$6:INDIRECT(\"N$\"&(6+N$26 -1)))*RAND()+1,COLUMNS(N$6:INDIRECT(\"N$\"&(6+N$26 -1)))*RAND()+1))","v":""},{"$f":"IF(O12=\"\",\"\",INDEX(O$6:INDIRECT(\"o$\"&(6+O$26 -1)),ROWS(O$6:INDIRECT(\"o$\"&(6+O$26 -1)))*RAND()+1,COLUMNS(O$6:INDIRECT(\"o$\"&(6+O$26 -1)))*RAND()+1))","v":""},{"$f":"IF(P12=\"\",\"\", INDEX(P$6:INDIRECT(\"P$\"&(6+P$26 -1)),ROWS(P$6:INDIRECT(\"P$\"&(6+P$26 -1)))*RAND()+1,COLUMNS(P$6:INDIRECT(\"P$\"&(6+P$26 -1)))*RAND()+1))","v":""},{"$f":"IF(Q12=\"\",\"\", INDEX(Q$6:INDIRECT(\"Q$\"&(6+Q$26 -1)),ROWS(Q$6:INDIRECT(\"Q$\"&(6+Q$26 -1)))*RAND()+1,COLUMNS(Q$6:INDIRECT(\"Q$\"&(6+Q$26 -1)))*RAND()+1))","v":""},{"$f":"IF(R12=\"\",\"\", INDEX(R$6:INDIRECT(\"R$\"&(6+R$26 -1)),ROWS(R$6:INDIRECT(\"R$\"&(6+R$26 -1)))*RAND()+1,COLUMNS(R$6:INDIRECT(\"R$\"&(6+R$26 -1)))*RAND()+1))","v":""},{"$f":"IF(S12=\"\",\"\", INDEX(S$6:INDIRECT(\"S$\"&(6+S$26 -1)),ROWS(S$6:INDIRECT(\"S$\"&(6+S$26 -1)))*RAND()+1,COLUMNS(S$6:INDIRECT(\"S$\"&(6+S$26 -1)))*RAND()+1))","v":""},{"$f":"IF(T12=\"\",\"\", INDEX(T$6:INDIRECT(\"T$\"&(6+T$26 -1)),ROWS(T$6:INDIRECT(\"T$\"&(6+T$26 -1)))*RAND()+1,COLUMNS(T$6:INDIRECT(\"T$\"&(6+T$26 -1)))*RAND()+1))","v":""},null,null,null,{"$f":"calc_IC25!B12","v":""},{"$f":"calc_IC25!C12","v":""},{"$f":"calc_IC25!D12","v":""},{"$f":"calc_IC25!E12","v":""},{"$f":"calc_IC25!F12","v":""},{"$f":"calc_IC25!G12","v":""},{"$f":"calc_IC25!H12","v":""},{"$f":"calc_IC25!I12","v":""}]
[8,{"$f":"IF(M13=\"\", \"\", INDEX(M$6:INDIRECT(\"M$\"&(6+M$26 -1)),ROWS(M$6:INDIRECT(\"M$\"&(6+M$26 -1)))*RAND()+1,COLUMNS(M$6:INDIRECT(\"M$\"&(6+M$26 -1)))*RAND()+1))","v":""},{"$f":"IF(N13=\"\", \"\", INDEX(N$6:INDIRECT(\"N$\"&(6+N$26 -1)),ROWS(N$6:INDIRECT(\"N$\"&(6+N$26 -1)))*RAND()+1,COLUMNS(N$6:INDIRECT(\"N$\"&(6+N$26 -1)))*RAND()+1))","v":""},{"$f":"IF(O13=\"\",\"\",INDEX(O$6:INDIRECT(\"o$\"&(6+O$26 -1)),ROWS(O$6:INDIRECT(\"o$\"&(6+O$26 -1)))*RAND()+1,COLUMNS(O$6:INDIRECT(\"o$\"&(6+O$26 -1)))*RAND()+1))","v":""},{"$f":"IF(P13=\"\",\"\", INDEX(P$6:INDIRECT(\"P$\"&(6+P$26 -1)),ROWS(P$6:INDIRECT(\"P$\"&(6+P$26 -1)))*RAND()+1,COLUMNS(P$6:INDIRECT(\"P$\"&(6+P$26 -1)))*RAND()+1))","v":""},{"$f":"IF(Q13=\"\",\"\", INDEX(Q$6:INDIRECT(\"Q$\"&(6+Q$26 -1)),ROWS(Q$6:INDIRECT(\"Q$\"&(6+Q$26 -1)))*RAND()+1,COLUMNS(Q$6:INDIRECT(\"Q$\"&(6+Q$26 -1)))*RAND()+1))","v":""},{"$f":"IF(R13=\"\",\"\", INDEX(R$6:INDIRECT(\"R$\"&(6+R$26 -1)),ROWS(R$6:INDIRECT(\"R$\"&(6+R$26 -1)))*RAND()+1,COLUMNS(R$6:INDIRECT(\"R$\"&(6+R$26 -1)))*RAND()+1))","v":""},{"$f":"IF(S13=\"\",\"\", INDEX(S$6:INDIRECT(\"S$\"&(6+S$26 -1)),ROWS(S$6:INDIRECT(\"S$\"&(6+S$26 -1)))*RAND()+1,COLUMNS(S$6:INDIRECT(\"S$\"&(6+S$26 -1)))*RAND()+1))","v":""},{"$f":"IF(T13=\"\",\"\", INDEX(T$6:INDIRECT(\"T$\"&(6+T$26 -1)),ROWS(T$6:INDIRECT(\"T$\"&(6+T$26 -1)))*RAND()+1,COLUMNS(T$6:INDIRECT(\"T$\"&(6+T$26 -1)))*RAND()+1))","v":""},null,null,null,{"$f":"calc_IC25!B13","v":""},{"$f":"calc_IC25!C13","v":""},{"$f":"calc_IC25!D13","v":""},{"$f":"calc_IC25!E13","v":""},{"$f":"calc_IC25!F13","v":""},{"$f":"calc_IC25!G13","v":""},{"$f":"calc_IC25!H13","v":""},{"$f":"calc_IC25!I13","v":""}]
[9,{"$f":"IF(M14=\"\", \"\", INDEX(M$6:INDIRECT(\"M$\"&(6+M$26 -1)),ROWS(M$6:INDIRECT(\"M$\"&(6+M$26 -1)))*RAND()+1,COLUMNS(M$6:INDIRECT(\"M$\"&(6+M$26 -1)))*RAND()+1))","v":""},{"$f":"IF(N14=\"\", \"\", INDEX(N$6:INDIRECT(\"N$\"&(6+N$26 -1)),ROWS(N$6:INDIRECT(\"N$\"&(6+N$26 -1)))*RAND()+1,COLUMNS(N$6:INDIRECT(\"N$\"&(6+N$26 -1)))*RAND()+1))","v":""},{"$f":"IF(O14=\"\",\"\",INDEX(O$6:INDIRECT(\"o$\"&(6+O$26 -1)),ROWS(O$6:INDIRECT(\"o$\"&(6+O$26 -1)))*RAND()+1,COLUMNS(O$6:INDIRECT(\"o$\"&(6+O$26 -1)))*RAND()+1))","v":""},{"$f":"IF(P14=\"\",\"\", INDEX(P$6:INDIRECT(\"P$\"&(6+P$26 -1)),ROWS(P$6:INDIRECT(\"P$\"&(6+P$26 -1)))*RAND()+1,COLUMNS(P$6:INDIRECT(\"P$\"&(6+P$26 -1)))*RAND()+1))","v":""},{"$f":"IF(Q14=\"\",\"\", INDEX(Q$6:INDIRECT(\"Q$\"&(6+Q$26 -1)),ROWS(Q$6:INDIRECT(\"Q$\"&(6+Q$26 -1)))*RAND()+1,COLUMNS(Q$6:INDIRECT(\"Q$\"&(6+Q$26 -1)))*RAND()+1))","v":""},{"$f":"IF(R14=\"\",\"\", INDEX(R$6:INDIRECT(\"R$\"&(6+R$26 -1)),ROWS(R$6:INDIRECT(\"R$\"&(6+R$26 -1)))*RAND()+1,COLUMNS(R$6:INDIRECT(\"R$\"&(6+R$26 -1)))*RAND()+1))","v":""},{"$f":"IF(S14=\"\",\"\", INDEX(S$6:INDIRECT(\"S$\"&(6+S$26 -1)),ROWS(S$6:INDIRECT(\"S$\"&(6+S$26 -1)))*RAND()+1,COLUMNS(S$6:INDIRECT(\"S$\"&(6+S$26 -1)))*RAND()+1))","v":""},{"$f":"IF(T14=\"\",\"\", INDEX(T$6:INDIRECT(\"T$\"&(6+T$26 -1)),ROWS(T$6:INDIRECT(\"T$\"&(6+T$26 -1)))*RAND()+1,COLUMNS(T$6:INDIRECT(\"T$\"&(6+T$26 -1)))*RAND()+1))","v":""},null,null,null,{"$f":"calc_IC25!B14","v":""},{"$f":"calc_IC25!C14","v":""},{"$f":"calc_IC25!D14","v":""},{"$f":"calc_IC25!E14","v":""},{"$f":"calc_IC25!F14","v":""},{"$f":"calc_IC25!G14","v":""},{"$f":"calc_IC25!H14","v":""},{"$f":"calc_IC25!I14","v":""}]
[10,{"$f":"IF(M15=\"\", \"\", INDEX(M$6:INDIRECT(\"M$\"&(6+M$26 -1)),ROWS(M$6:INDIRECT(\"M$\"&(6+M$26 -1)))*RAND()+1,COLUMNS(M$6:INDIRECT(\"M$\"&(6+M$26 -1)))*RAND()+1))","v":""},{"$f":"IF(N15=\"\", \"\", INDEX(N$6:INDIRECT(\"N$\"&(6+N$26 -1)),ROWS(N$6:INDIRECT(\"N$\"&(6+N$26 -1)))*RAND()+1,COLUMNS(N$6:INDIRECT(\"N$\"&(6+N$26 -1)))*RAND()+1))","v":""},{"$f":"IF(O15=\"\",\"\",INDEX(O$6:INDIRECT(\"o$\"&(6+O$26 -1)),ROWS(O$6:INDIRECT(\"o$\"&(6+O$26 -1)))*RAND()+1,COLUMNS(O$6:INDIRECT(\"o$\"&(6+O$26 -1)))*RAND()+1))","v":""},{"$f":"IF(P15=\"\",\"\", INDEX(P$6:INDIRECT(\"P$\"&(6+P$26 -1)),ROWS(P$6:INDIRECT(\"P$\"&(6+P$26 -1)))*RAND()+1,COLUMNS(P$6:INDIRECT(\"P$\"&(6+P$26 -1)))*RAND()+1))","v":""},{"$f":"IF(Q15=\"\",\"\", INDEX(Q$6:INDIRECT(\"Q$\"&(6+Q$26 -1)),ROWS(Q$6:INDIRECT(\"Q$\"&(6+Q$26 -1)))*RAND()+1,COLUMNS(Q$6:INDIRECT(\"Q$\"&(6+Q$26 -1)))*RAND()+1))","v":""},{"$f":"IF(R15=\"\",\"\", INDEX(R$6:INDIRECT(\"R$\"&(6+R$26 -1)),ROWS(R$6:INDIRECT(\"R$\"&(6+R$26 -1)))*RAND()+1,COLUMNS(R$6:INDIRECT(\"R$\"&(6+R$26 -1)))*RAND()+1))","v":""},{"$f":"IF(S15=\"\",\"\", INDEX(S$6:INDIRECT(\"S$\"&(6+S$26 -1)),ROWS(S$6:INDIRECT(\"S$\"&(6+S$26 -1)))*RAND()+1,COLUMNS(S$6:INDIRECT(\"S$\"&(6+S$26 -1)))*RAND()+1))","v":""},{"$f":"IF(T15=\"\",\"\", INDEX(T$6:INDIRECT(\"T$\"&(6+T$26 -1)),ROWS(T$6:INDIRECT(\"T$\"&(6+T$26 -1)))*RAND()+1,COLUMNS(T$6:INDIRECT(\"T$\"&(6+T$26 -1)))*RAND()+1))","v":""},null,null,null,{"$f":"calc_IC25!B15","v":""},{"$f":"calc_IC25!C15","v":""},{"$f":"calc_IC25!D15","v":""},{"$f":"calc_IC25!E15","v":""},{"$f":"calc_IC25!F15","v":""},{"$f":"calc_IC25!G15","v":""},{"$f":"calc_IC25!H15","v":""},{"$f":"calc_IC25!I15","v":""}]
[11,{"$f":"IF(M16=\"\", \"\", INDEX(M$6:INDIRECT(\"M$\"&(6+M$26 -1)),ROWS(M$6:INDIRECT(\"M$\"&(6+M$26 -1)))*RAND()+1,COLUMNS(M$6:INDIRECT(\"M$\"&(6+M$26 -1)))*RAND()+1))","v":""},{"$f":"IF(N16=\"\", \"\", INDEX(N$6:INDIRECT(\"N$\"&(6+N$26 -1)),ROWS(N$6:INDIRECT(\"N$\"&(6+N$26 -1)))*RAND()+1,COLUMNS(N$6:INDIRECT(\"N$\"&(6+N$26 -1)))*RAND()+1))","v":""},{"$f":"IF(O16=\"\",\"\",INDEX(O$6:INDIRECT(\"o$\"&(6+O$26 -1)),ROWS(O$6:INDIRECT(\"o$\"&(6+O$26 -1)))*RAND()+1,COLUMNS(O$6:INDIRECT(\"o$\"&(6+O$26 -1)))*RAND()+1))","v":""},{"$f":"IF(P16=\"\",\"\", INDEX(P$6:INDIRECT(\"P$\"&(6+P$26 -1)),ROWS(P$6:INDIRECT(\"P$\"&(6+P$26 -1)))*RAND()+1,COLUMNS(P$6:INDIRECT(\"P$\"&(6+P$26 -1)))*RAND()+1))","v":""},{"$f":"IF(Q16=\"\",\"\", INDEX(Q$6:INDIRECT(\"Q$\"&(6+Q$26 -1)),ROWS(Q$6:INDIRECT(\"Q$\"&(6+Q$26 -1)))*RAND()+1,COLUMNS(Q$6:INDIRECT(\"Q$\"&(6+Q$26 -1)))*RAND()+1))","v":""},{"$f":"IF(R16=\"\",\"\", INDEX(R$6:INDIRECT(\"R$\"&(6+R$26 -1)),ROWS(R$6:INDIRECT(\"R$\"&(6+R$26 -1)))*RAND()+1,COLUMNS(R$6:INDIRECT(\"R$\"&(6+R$26 -1)))*RAND()+1))","v":""},{"$f":"IF(S16=\"\",\"\", INDEX(S$6:INDIRECT(\"S$\"&(6+S$26 -1)),ROWS(S$6:INDIRECT(\"S$\"&(6+S$26 -1)))*RAND()+1,COLUMNS(S$6:INDIRECT(\"S$\"&(6+S$26 -1)))*RAND()+1))","v":""},{"$f":"IF(T16=\"\",\"\", INDEX(T$6:INDIRECT(\"T$\"&(6+T$26 -1)),ROWS(T$6:INDIRECT(\"T$\"&(6+T$26 -1)))*RAND()+1,COLUMNS(T$6:INDIRECT(\"T$\"&(6+T$26 -1)))*RAND()+1))","v":""},null,null,null,{"$f":"calc_IC25!B16","v":""},{"$f":"calc_IC25!C16","v":""},{"$f":"calc_IC25!D16","v":""},{"$f":"calc_IC25!E16","v":""},{"$f":"calc_IC25!F16","v":""},{"$f":"calc_IC25!G16","v":""},{"$f":"calc_IC25!H16","v":""},{"$f":"calc_IC25!I16","v":""}]
[12,{"$f":"IF(M17=\"\", \"\", INDEX(M$6:INDIRECT(\"M$\"&(6+M$26 -1)),ROWS(M$6:INDIRECT(\"M$\"&(6+M$26 -1)))*RAND()+1,COLUMNS(M$6:INDIRECT(\"M$\"&(6+M$26 -1)))*RAND()+1))","v":""},{"$f":"IF(N17=\"\", \"\", INDEX(N$6:INDIRECT(\"N$\"&(6+N$26 -1)),ROWS(N$6:INDIRECT(\"N$\"&(6+N$26 -1)))*RAND()+1,COLUMNS(N$6:INDIRECT(\"N$\"&(6+N$26 -1)))*RAND()+1))","v":""},{"$f":"IF(O17=\"\",\"\",INDEX(O$6:INDIRECT(\"o$\"&(6+O$26 -1)),ROWS(O$6:INDIRECT(\"o$\"&(6+O$26 -1)))*RAND()+1,COLUMNS(O$6:INDIRECT(\"o$\"&(6+O$26 -1)))*RAND()+1))","v":""},{"$f":"IF(P17=\"\",\"\", INDEX(P$6:INDIRECT(\"P$\"&(6+P$26 -1)),ROWS(P$6:INDIRECT(\"P$\"&(6+P$26 -1)))*RAND()+1,COLUMNS(P$6:INDIRECT(\"P$\"&(6+P$26 -1)))*RAND()+1))","v":""},{"$f":"IF(Q17=\"\",\"\", INDEX(Q$6:INDIRECT(\"Q$\"&(6+Q$26 -1)),ROWS(Q$6:INDIRECT(\"Q$\"&(6+Q$26 -1)))*RAND()+1,COLUMNS(Q$6:INDIRECT(\"Q$\"&(6+Q$26 -1)))*RAND()+1))","v":""},{"$f":"IF(R17=\"\",\"\", INDEX(R$6:INDIRECT(\"R$\"&(6+R$26 -1)),ROWS(R$6:INDIRECT(\"R$\"&(6+R$26 -1)))*RAND()+1,COLUMNS(R$6:INDIRECT(\"R$\"&(6+R$26 -1)))*RAND()+1))","v":""},{"$f":"IF(S17=\"\",\"\", INDEX(S$6:INDIRECT(\"S$\"&(6+S$26 -1)),ROWS(S$6:INDIRECT(\"S$\"&(6+S$26 -1)))*RAND()+1,COLUMNS(S$6:INDIRECT(\"S$\"&(6+S$26 -1)))*RAND()+1))","v":""},{"$f":"IF(T17=\"\",\"\", INDEX(T$6:INDIRECT(\"T$\"&(6+T$26 -1)),ROWS(T$6:INDIRECT(\"T$\"&(6+T$26 -1)))*RAND()+1,COLUMNS(T$6:INDIRECT(\"T$\"&(6+T$26 -1)))*RAND()+1))","v":""},null,null,null,{"$f":"calc_IC25!B17","v":""},{"$f":"calc_IC25!C17","v":""},{"$f":"calc_IC25!D17","v":""},{"$f":"calc_IC25!E17","v":""},{"$f":"calc_IC25!F17","v":""},{"$f":"calc_IC25!G17","v":""},{"$f":"calc_IC25!H17","v":""},{"$f":"calc_IC25!I17","v":""}]
[13,{"$f":"IF(M18=\"\", \"\", INDEX(M$6:INDIRECT(\"M$\"&(6+M$26 -1)),ROWS(M$6:INDIRECT(\"M$\"&(6+M$26 -1)))*RAND()+1,COLUMNS(M$6:INDIRECT(\"M$\"&(6+M$26 -1)))*RAND()+1))","v":""},{"$f":"IF(N18=\"\", \"\", INDEX(N$6:INDIRECT(\"N$\"&(6+N$26 -1)),ROWS(N$6:INDIRECT(\"N$\"&(6+N$26 -1)))*RAND()+1,COLUMNS(N$6:INDIRECT(\"N$\"&(6+N$26 -1)))*RAND()+1))","v":""},{"$f":"IF(O18=\"\",\"\",INDEX(O$6:INDIRECT(\"o$\"&(6+O$26 -1)),ROWS(O$6:INDIRECT(\"o$\"&(6+O$26 -1)))*RAND()+1,COLUMNS(O$6:INDIRECT(\"o$\"&(6+O$26 -1)))*RAND()+1))","v":""},{"$f":"IF(P18=\"\",\"\", INDEX(P$6:INDIRECT(\"P$\"&(6+P$26 -1)),ROWS(P$6:INDIRECT(\"P$\"&(6+P$26 -1)))*RAND()+1,COLUMNS(P$6:INDIRECT(\"P$\"&(6+P$26 -1)))*RAND()+1))","v":""},{"$f":"IF(Q18=\"\",\"\", INDEX(Q$6:INDIRECT(\"Q$\"&(6+Q$26 -1)),ROWS(Q$6:INDIRECT(\"Q$\"&(6+Q$26 -1)))*RAND()+1,COLUMNS(Q$6:INDIRECT(\"Q$\"&(6+Q$26 -1)))*RAND()+1))","v":""},{"$f":"IF(R18=\"\",\"\", INDEX(R$6:INDIRECT(\"R$\"&(6+R$26 -1)),ROWS(R$6:INDIRECT(\"R$\"&(6+R$26 -1)))*RAND()+1,COLUMNS(R$6:INDIRECT(\"R$\"&(6+R$26 -1)))*RAND()+1))","v":""},{"$f":"IF(S18=\"\",\"\", INDEX(S$6:INDIRECT(\"S$\"&(6+S$26 -1)),ROWS(S$6:INDIRECT(\"S$\"&(6+S$26 -1)))*RAND()+1,COLUMNS(S$6:INDIRECT(\"S$\"&(6+S$26 -1)))*RAND()+1))","v":""},{"$f":"IF(T18=\"\",\"\", INDEX(T$6:INDIRECT(\"T$\"&(6+T$26 -1)),ROWS(T$6:INDIRECT(\"T$\"&(6+T$26 -1)))*RAND()+1,COLUMNS(T$6:INDIRECT(\"T$\"&(6+T$26 -1)))*RAND()+1))","v":""},null,null,null,{"$f":"calc_IC25!B18","v":""},{"$f":"calc_IC25!C18","v":""},{"$f":"calc_IC25!D18","v":""},{"$f":"calc_IC25!E18","v":""},{"$f":"calc_IC25!F18","v":""},{"$f":"calc_IC25!G18","v":""},{"$f":"calc_IC25!H18","v":""},{"$f":"calc_IC25!I18","v":""}]
[14,{"$f":"IF(M19=\"\", \"\", INDEX(M$6:INDIRECT(\"M$\"&(6+M$26 -1)),ROWS(M$6:INDIRECT(\"M$\"&(6+M$26 -1)))*RAND()+1,COLUMNS(M$6:INDIRECT(\"M$\"&(6+M$26 -1)))*RAND()+1))","v":""},{"$f":"IF(N19=\"\", \"\", INDEX(N$6:INDIRECT(\"N$\"&(6+N$26 -1)),ROWS(N$6:INDIRECT(\"N$\"&(6+N$26 -1)))*RAND()+1,COLUMNS(N$6:INDIRECT(\"N$\"&(6+N$26 -1)))*RAND()+1))","v":""},{"$f":"IF(O19=\"\",\"\",INDEX(O$6:INDIRECT(\"o$\"&(6+O$26 -1)),ROWS(O$6:INDIRECT(\"o$\"&(6+O$26 -1)))*RAND()+1,COLUMNS(O$6:INDIRECT(\"o$\"&(6+O$26 -1)))*RAND()+1))","v":""},{"$f":"IF(P19=\"\",\"\", INDEX(P$6:INDIRECT(\"P$\"&(6+P$26 -1)),ROWS(P$6:INDIRECT(\"P$\"&(6+P$26 -1)))*RAND()+1,COLUMNS(P$6:INDIRECT(\"P$\"&(6+P$26 -1)))*RAND()+1))","v":""},{"$f":"IF(Q19=\"\",\"\", INDEX(Q$6:INDIRECT(\"Q$\"&(6+Q$26 -1)),ROWS(Q$6:INDIRECT(\"Q$\"&(6+Q$26 -1)))*RAND()+1,COLUMNS(Q$6:INDIRECT(\"Q$\"&(6+Q$26 -1)))*RAND()+1))","v":""},{"$f":"IF(R19=\"\",\"\", INDEX(R$6:INDIRECT(\"R$\"&(6+R$26 -1)),ROWS(R$6:INDIRECT(\"R$\"&(6+R$26 -1)))*RAND()+1,COLUMNS(R$6:INDIRECT(\"R$\"&(6+R$26 -1)))*RAND()+1))","v":""},{"$f":"IF(S19=\"\",\"\", INDEX(S$6:INDIRECT(\"S$\"&(6+S$26 -1)),ROWS(S$6:INDIRECT(\"S$\"&(6+S$26 -1)))*RAND()+1,COLUMNS(S$6:INDIRECT(\"S$\"&(6+S$26 -1)))*RAND()+1))","v":""},{"$f":"IF(T19=\"\",\"\", INDEX(T$6:INDIRECT(\"T$\"&(6+T$26 -1)),ROWS(T$6:INDIRECT(\"T$\"&(6+T$26 -1)))*RAND()+1,COLUMNS(T$6:INDIRECT(\"T$\"&(6+T$26 -1)))*RAND()+1))","v":""},null,null,null,{"$f":"calc_IC25!B19","v":""},{"$f":"calc_IC25!C19","v":""},{"$f":"calc_IC25!D19","v":""},{"$f":"calc_IC25!E19","v":""},{"$f":"calc_IC25!F19","v":""},{"$f":"calc_IC25!G19","v":""},{"$f":"calc_IC25!H19","v":""},{"$f":"calc_IC25!I19","v":""}]
[15,{"$f":"IF(M20=\"\", \"\", INDEX(M$6:INDIRECT(\"M$\"&(6+M$26 -1)),ROWS(M$6:INDIRECT(\"M$\"&(6+M$26 -1)))*RAND()+1,COLUMNS(M$6:INDIRECT(\"M$\"&(6+M$26 -1)))*RAND()+1))","v":""},{"$f":"IF(N20=\"\", \"\", INDEX(N$6:INDIRECT(\"N$\"&(6+N$26 -1)),ROWS(N$6:INDIRECT(\"N$\"&(6+N$26 -1)))*RAND()+1,COLUMNS(N$6:INDIRECT(\"N$\"&(6+N$26 -1)))*RAND()+1))","v":""},{"$f":"IF(O20=\"\",\"\",INDEX(O$6:INDIRECT(\"o$\"&(6+O$26 -1)),ROWS(O$6:INDIRECT(\"o$\"&(6+O$26 -1)))*RAND()+1,COLUMNS(O$6:INDIRECT(\"o$\"&(6+O$26 -1)))*RAND()+1))","v":""},{"$f":"IF(P20=\"\",\"\", INDEX(P$6:INDIRECT(\"P$\"&(6+P$26 -1)),ROWS(P$6:INDIRECT(\"P$\"&(6+P$26 -1)))*RAND()+1,COLUMNS(P$6:INDIRECT(\"P$\"&(6+P$26 -1)))*RAND()+1))","v":""},{"$f":"IF(Q20=\"\",\"\", INDEX(Q$6:INDIRECT(\"Q$\"&(6+Q$26 -1)),ROWS(Q$6:INDIRECT(\"Q$\"&(6+Q$26 -1)))*RAND()+1,COLUMNS(Q$6:INDIRECT(\"Q$\"&(6+Q$26 -1)))*RAND()+1))","v":""},{"$f":"IF(R20=\"\",\"\", INDEX(R$6:INDIRECT(\"R$\"&(6+R$26 -1)),ROWS(R$6:INDIRECT(\"R$\"&(6+R$26 -1)))*RAND()+1,COLUMNS(R$6:INDIRECT(\"R$\"&(6+R$26 -1)))*RAND()+1))","v":""},{"$f":"IF(S20=\"\",\"\", INDEX(S$6:INDIRECT(\"S$\"&(6+S$26 -1)),ROWS(S$6:INDIRECT(\"S$\"&(6+S$26 -1)))*RAND()+1,COLUMNS(S$6:INDIRECT(\"S$\"&(6+S$26 -1)))*RAND()+1))","v":""},{"$f":"IF(T20=\"\",\"\", INDEX(T$6:INDIRECT(\"T$\"&(6+T$26 -1)),ROWS(T$6:INDIRECT(\"T$\"&(6+T$26 -1)))*RAND()+1,COLUMNS(T$6:INDIRECT(\"T$\"&(6+T$26 -1)))*RAND()+1))","v":""},null,null,null,{"$f":"calc_IC25!B20","v":""},{"$f":"calc_IC25!C20","v":""},{"$f":"calc_IC25!D20","v":""},{"$f":"calc_IC25!E20","v":""},{"$f":"calc_IC25!F20","v":""},{"$f":"calc_IC25!G20","v":""},{"$f":"calc_IC25!H20","v":""},{"$f":"calc_IC25!I20","v":""}]
[16,{"$f":"IF(M21=\"\", \"\", INDEX(M$6:INDIRECT(\"M$\"&(6+M$26 -1)),ROWS(M$6:INDIRECT(\"M$\"&(6+M$26 -1)))*RAND()+1,COLUMNS(M$6:INDIRECT(\"M$\"&(6+M$26 -1)))*RAND()+1))","v":""},{"$f":"IF(N21=\"\", \"\", INDEX(N$6:INDIRECT(\"N$\"&(6+N$26 -1)),ROWS(N$6:INDIRECT(\"N$\"&(6+N$26 -1)))*RAND()+1,COLUMNS(N$6:INDIRECT(\"N$\"&(6+N$26 -1)))*RAND()+1))","v":""},{"$f":"IF(O21=\"\",\"\",INDEX(O$6:INDIRECT(\"o$\"&(6+O$26 -1)),ROWS(O$6:INDIRECT(\"o$\"&(6+O$26 -1)))*RAND()+1,COLUMNS(O$6:INDIRECT(\"o$\"&(6+O$26 -1)))*RAND()+1))","v":""},{"$f":"IF(P21=\"\",\"\", INDEX(P$6:INDIRECT(\"P$\"&(6+P$26 -1)),ROWS(P$6:INDIRECT(\"P$\"&(6+P$26 -1)))*RAND()+1,COLUMNS(P$6:INDIRECT(\"P$\"&(6+P$26 -1)))*RAND()+1))","v":""},{"$f":"IF(Q21=\"\",\"\", INDEX(Q$6:INDIRECT(\"Q$\"&(6+Q$26 -1)),ROWS(Q$6:INDIRECT(\"Q$\"&(6+Q$26 -1)))*RAND()+1,COLUMNS(Q$6:INDIRECT(\"Q$\"&(6+Q$26 -1)))*RAND()+1))","v":""},{"$f":"IF(R21=\"\",\"\", INDEX(R$6:INDIRECT(\"R$\"&(6+R$26 -1)),ROWS(R$6:INDIRECT(\"R$\"&(6+R$26 -1)))*RAND()+1,COLUMNS(R$6:INDIRECT(\"R$\"&(6+R$26 -1)))*RAND()+1))","v":""},{"$f":"IF(S21=\"\",\"\", INDEX(S$6:INDIRECT(\"S$\"&(6+S$26 -1)),ROWS(S$6:INDIRECT(\"S$\"&(6+S$26 -1)))*RAND()+1,COLUMNS(S$6:INDIRECT(\"S$\"&(6+S$26 -1)))*RAND()+1))","v":""},{"$f":"IF(T21=\"\",\"\", INDEX(T$6:INDIRECT(\"T$\"&(6+T$26 -1)),ROWS(T$6:INDIRECT(\"T$\"&(6+T$26 -1)))*RAND()+1,COLUMNS(T$6:INDIRECT(\"T$\"&(6+T$26 -1)))*RAND()+1))","v":""},null,null,null,{"$f":"calc_IC25!B21","v":""},{"$f":"calc_IC25!C21","v":""},{"$f":"calc_IC25!D21","v":""},{"$f":"calc_IC25!E21","v":""},{"$f":"calc_IC25!F21","v":""},{"$f":"calc_IC25!G21","v":""},{"$f":"calc_IC25!H21","v":""},{"$f":"calc_IC25!I21","v":""}]
[17,{"$f":"IF(M22=\"\", \"\", INDEX(M$6:INDIRECT(\"M$\"&(6+M$26 -1)),ROWS(M$6:INDIRECT(\"M$\"&(6+M$26 -1)))*RAND()+1,COLUMNS(M$6:INDIRECT(\"M$\"&(6+M$26 -1)))*RAND()+1))","v":""},{"$f":"IF(N22=\"\", \"\", INDEX(N$6:INDIRECT(\"N$\"&(6+N$26 -1)),ROWS(N$6:INDIRECT(\"N$\"&(6+N$26 -1)))*RAND()+1,COLUMNS(N$6:INDIRECT(\"N$\"&(6+N$26 -1)))*RAND()+1))","v":""},{"$f":"IF(O22=\"\",\"\",INDEX(O$6:INDIRECT(\"o$\"&(6+O$26 -1)),ROWS(O$6:INDIRECT(\"o$\"&(6+O$26 -1)))*RAND()+1,COLUMNS(O$6:INDIRECT(\"o$\"&(6+O$26 -1)))*RAND()+1))","v":""},{"$f":"IF(P22=\"\",\"\", INDEX(P$6:INDIRECT(\"P$\"&(6+P$26 -1)),ROWS(P$6:INDIRECT(\"P$\"&(6+P$26 -1)))*RAND()+1,COLUMNS(P$6:INDIRECT(\"P$\"&(6+P$26 -1)))*RAND()+1))","v":""},{"$f":"IF(Q22=\"\",\"\", INDEX(Q$6:INDIRECT(\"Q$\"&(6+Q$26 -1)),ROWS(Q$6:INDIRECT(\"Q$\"&(6+Q$26 -1)))*RAND()+1,COLUMNS(Q$6:INDIRECT(\"Q$\"&(6+Q$26 -1)))*RAND()+1))","v":""},{"$f":"IF(R22=\"\",\"\", INDEX(R$6:INDIRECT(\"R$\"&(6+R$26 -1)),ROWS(R$6:INDIRECT(\"R$\"&(6+R$26 -1)))*RAND()+1,COLUMNS(R$6:INDIRECT(\"R$\"&(6+R$26 -1)))*RAND()+1))","v":""},{"$f":"IF(S22=\"\",\"\", INDEX(S$6:INDIRECT(\"S$\"&(6+S$26 -1)),ROWS(S$6:INDIRECT(\"S$\"&(6+S$26 -1)))*RAND()+1,COLUMNS(S$6:INDIRECT(\"S$\"&(6+S$26 -1)))*RAND()+1))","v":""},{"$f":"IF(T22=\"\",\"\", INDEX(T$6:INDIRECT(\"T$\"&(6+T$26 -1)),ROWS(T$6:INDIRECT(\"T$\"&(6+T$26 -1)))*RAND()+1,COLUMNS(T$6:INDIRECT(\"T$\"&(6+T$26 -1)))*RAND()+1))","v":""},null,null,null,{"$f":"calc_IC25!B22","v":""},{"$f":"calc_IC25!C22","v":""},{"$f":"calc_IC25!D22","v":""},{"$f":"calc_IC25!E22","v":""},{"$f":"calc_IC25!F22","v":""},{"$f":"calc_IC25!G22","v":""},{"$f":"calc_IC25!H22","v":""},{"$f":"calc_IC25!I22","v":""}]
[18,{"$f":"IF(M23=\"\", \"\", INDEX(M$6:INDIRECT(\"M$\"&(6+M$26 -1)),ROWS(M$6:INDIRECT(\"M$\"&(6+M$26 -1)))*RAND()+1,COLUMNS(M$6:INDIRECT(\"M$\"&(6+M$26 -1)))*RAND()+1))","v":""},{"$f":"IF(N23=\"\", \"\", INDEX(N$6:INDIRECT(\"N$\"&(6+N$26 -1)),ROWS(N$6:INDIRECT(\"N$\"&(6+N$26 -1)))*RAND()+1,COLUMNS(N$6:INDIRECT(\"N$\"&(6+N$26 -1)))*RAND()+1))","v":""},{"$f":"IF(O23=\"\",\"\",INDEX(O$6:INDIRECT(\"o$\"&(6+O$26 -1)),ROWS(O$6:INDIRECT(\"o$\"&(6+O$26 -1)))*RAND()+1,COLUMNS(O$6:INDIRECT(\"o$\"&(6+O$26 -1)))*RAND()+1))","v":""},{"$f":"IF(P23=\"\",\"\", INDEX(P$6:INDIRECT(\"P$\"&(6+P$26 -1)),ROWS(P$6:INDIRECT(\"P$\"&(6+P$26 -1)))*RAND()+1,COLUMNS(P$6:INDIRECT(\"P$\"&(6+P$26 -1)))*RAND()+1))","v":""},{"$f":"IF(Q23=\"\",\"\", INDEX(Q$6:INDIRECT(\"Q$\"&(6+Q$26 -1)),ROWS(Q$6:INDIRECT(\"Q$\"&(6+Q$26 -1)))*RAND()+1,COLUMNS(Q$6:INDIRECT(\"Q$\"&(6+Q$26 -1)))*RAND()+1))","v":""},{"$f":"IF(R23=\"\",\"\", INDEX(R$6:INDIRECT(\"R$\"&(6+R$26 -1)),ROWS(R$6:INDIRECT(\"R$\"&(6+R$26 -1)))*RAND()+1,COLUMNS(R$6:INDIRECT(\"R$\"&(6+R$26 -1)))*RAND()+1))","v":""},{"$f":"IF(S23=\"\",\"\", INDEX(S$6:INDIRECT(\"S$\"&(6+S$26 -1)),ROWS(S$6:INDIRECT(\"S$\"&(6+S$26 -1)))*RAND()+1,COLUMNS(S$6:INDIRECT(\"S$\"&(6+S$26 -1)))*RAND()+1))","v":""},{"$f":"IF(T23=\"\",\"\", INDEX(T$6:INDIRECT(\"T$\"&(6+T$26 -1)),ROWS(T$6:INDIRECT(\"T$\"&(6+T$26 -1)))*RAND()+1,COLUMNS(T$6:INDIRECT(\"T$\"&(6+T$26 -1)))*RAND()+1))","v":""},null,null,null,{"$f":"calc_IC25!B23","v":""},{"$f":"calc_IC25!C23","v":""},{"$f":"calc_IC25!D23","v":""},{"$f":"calc_IC25!E23","v":""},{"$f":"calc_IC25!F23","v":""},{"$f":"calc_IC25!G23","v":""},{"$f":"calc_IC25!H23","v":""},{"$f":"calc_IC25!I23","v":""}]
[19,{"$f":"IF(M24=\"\", \"\", INDEX(M$6:INDIRECT(\"M$\"&(6+M$26 -1)),ROWS(M$6:INDIRECT(\"M$\"&(6+M$26 -1)))*RAND()+1,COLUMNS(M$6:INDIRECT(\"M$\"&(6+M$26 -1)))*RAND()+1))","v":""},{"$f":"IF(N24=\"\", \"\", INDEX(N$6:INDIRECT(\"N$\"&(6+N$26 -1)),ROWS(N$6:INDIRECT(\"N$\"&(6+N$26 -1)))*RAND()+1,COLUMNS(N$6:INDIRECT(\"N$\"&(6+N$26 -1)))*RAND()+1))","v":""},{"$f":"IF(O24=\"\",\"\",INDEX(O$6:INDIRECT(\"o$\"&(6+O$26 -1)),ROWS(O$6:INDIRECT(\"o$\"&(6+O$26 -1)))*RAND()+1,COLUMNS(O$6:INDIRECT(\"o$\"&(6+O$26 -1)))*RAND()+1))","v":""},{"$f":"IF(P24=\"\",\"\", INDEX(P$6:INDIRECT(\"P$\"&(6+P$26 -1)),ROWS(P$6:INDIRECT(\"P$\"&(6+P$26 -1)))*RAND()+1,COLUMNS(P$6:INDIRECT(\"P$\"&(6+P$26 -1)))*RAND()+1))","v":""},{"$f":"IF(Q24=\"\",\"\", INDEX(Q$6:INDIRECT(\"Q$\"&(6+Q$26 -1)),ROWS(Q$6:INDIRECT(\"Q$\"&(6+Q$26 -1)))*RAND()+1,COLUMNS(Q$6:INDIRECT(\"Q$\"&(6+Q$26 -1)))*RAND()+1))","v":""},{"$f":"IF(R24=\"\",\"\", INDEX(R$6:INDIRECT(\"R$\"&(6+R$26 -1)),ROWS(R$6:INDIRECT(\"R$\"&(6+R$26 -1)))*RAND()+1,COLUMNS(R$6:INDIRECT(\"R$\"&(6+R$26 -1)))*RAND()+1))","v":""},{"$f":"IF(S24=\"\",\"\", INDEX(S$6:INDIRECT(\"S$\"&(6+S$26 -1)),ROWS(S$6:INDIRECT(\"S$\"&(6+S$26 -1)))*RAND()+1,COLUMNS(S$6:INDIRECT(\"S$\"&(6+S$26 -1)))*RAND()+1))","v":""},{"$f":"IF(T24=\"\",\"\", INDEX(T$6:INDIRECT(\"T$\"&(6+T$26 -1)),ROWS(T$6:INDIRECT(\"T$\"&(6+T$26 -1)))*RAND()+1,COLUMNS(T$6:INDIRECT(\"T$\"&(6+T$26 -1)))*RAND()+1))","v":""},null,null,null,{"$f":"calc_IC25!B24","v":""},{"$f":"calc_IC25!C24","v":""},{"$f":"calc_IC25!D24","v":""},{"$f":"calc_IC25!E24","v":""},{"$f":"calc_IC25!F24","v":""},{"$f":"calc_IC25!G24","v":""},{"$f":"calc_IC25!H24","v":""},{"$f":"calc_IC25!I24","v":""}]
[20,{"$f":"IF(M25=\"\", \"\", INDEX(M$6:INDIRECT(\"M$\"&(6+M$26 -1)),ROWS(M$6:INDIRECT(\"M$\"&(6+M$26 -1)))*RAND()+1,COLUMNS(M$6:INDIRECT(\"M$\"&(6+M$26 -1)))*RAND()+1))","v":""},{"$f":"IF(N25=\"\", \"\", INDEX(N$6:INDIRECT(\"N$\"&(6+N$26 -1)),ROWS(N$6:INDIRECT(\"N$\"&(6+N$26 -1)))*RAND()+1,COLUMNS(N$6:INDIRECT(\"N$\"&(6+N$26 -1)))*RAND()+1))","v":""},{"$f":"IF(O25=\"\",\"\",INDEX(O$6:INDIRECT(\"o$\"&(6+O$26 -1)),ROWS(O$6:INDIRECT(\"o$\"&(6+O$26 -1)))*RAND()+1,COLUMNS(O$6:INDIRECT(\"o$\"&(6+O$26 -1)))*RAND()+1))","v":""},{"$f":"IF(P25=\"\",\"\", INDEX(P$6:INDIRECT(\"P$\"&(6+P$26 -1)),ROWS(P$6:INDIRECT(\"P$\"&(6+P$26 -1)))*RAND()+1,COLUMNS(P$6:INDIRECT(\"P$\"&(6+P$26 -1)))*RAND()+1))","v":""},{"$f":"IF(Q25=\"\",\"\", INDEX(Q$6:INDIRECT(\"Q$\"&(6+Q$26 -1)),ROWS(Q$6:INDIRECT(\"Q$\"&(6+Q$26 -1)))*RAND()+1,COLUMNS(Q$6:INDIRECT(\"Q$\"&(6+Q$26 -1)))*RAND()+1))","v":""},{"$f":"IF(R25=\"\",\"\", INDEX(R$6:INDIRECT(\"R$\"&(6+R$26 -1)),ROWS(R$6:INDIRECT(\"R$\"&(6+R$26 -1)))*RAND()+1,COLUMNS(R$6:INDIRECT(\"R$\"&(6+R$26 -1)))*RAND()+1))","v":""},{"$f":"IF(S25=\"\",\"\", INDEX(S$6:INDIRECT(\"S$\"&(6+S$26 -1)),ROWS(S$6:INDIRECT(\"S$\"&(6+S$26 -1)))*RAND()+1,COLUMNS(S$6:INDIRECT(\"S$\"&(6+S$26 -1)))*RAND()+1))","v":""},{"$f":"IF(T25=\"\",\"\", INDEX(T$6:INDIRECT(\"T$\"&(6+T$26 -1)),ROWS(T$6:INDIRECT(\"T$\"&(6+T$26 -1)))*RAND()+1,COLUMNS(T$6:INDIRECT(\"T$\"&(6+T$26 -1)))*RAND()+1))","v":""},null,null,null,{"$f":"calc_IC25!B25","v":""},{"$f":"calc_IC25!C25","v":""},{"$f":"calc_IC25!D25","v":""},{"$f":"calc_IC25!E25","v":""},{"$f":"calc_IC25!F25","v":""},{"$f":"calc_IC25!G25","v":""},{"$f":"calc_IC25!H25","v":""},{"$f":"calc_IC25!I25","v":""}]
["sum ",{"$f":"IF(B5=\"\",\"\",SUM(B6:B25))","v":""},{"$f":"IF(C5=\"\",\"\",SUM(C6:C25))","v":""},"","","","","","","",null,null,{"$f":"COUNT(M6:M25)","v":0},{"$f":"COUNT(N6:N25)","v":0},0,0,0,0,0,{"$f":"COUNT(T6:T25)","v":0}]
["n",{"$f":"IF(AND(ISNUMBER(B26), B26>0),COUNT(B6:B25),\"\")","v":""},{"$f":"IF(AND(ISNUMBER(C26), C26>0),COUNT(C6:C25),\"\")","v":""},"","","","","","",""]
["nc",{"$f":"COUNT($B$6:$B$25)","v":0}]
["alpha=",0.05,null,"Calc on another sheet"]
["degree of freeedom=",{"$f":"$B$33-$B$32","v":0},null,"MSD",{"$f":"IF(Start!B17=\"input2\",Parametric!$D46, Parametric!$C46)","v":{"$error":"#N/A"}},null,{"$f":"B1","v":"IC25"},{"$f":"IF(Z36<>Z37,10^(Z36+(Z38*(1-Z41/100)-Z39)*((Z37-Z36)/(Z40-Z39)))-1,\">100\")","v":{"$error":"#VALUE!"}}]
["t-crit=",{"$f":"IF($B$32=7, 2.34, IF($B$32=6, 2.29, IF($B$32=5, 2.22, IF($B$32=4, 2.14, IF($B$32=3, 2, 1.73)))))","v":1.73},null,"PMSD",{"$f":"IF(Start!B17=\"input2\",Parametric!$D47, Parametric!$C47)","v":{"$error":"#N/A"}}]
["group k",{"$f":"COUNT($B$27:$J$27)","v":0},null,"Trigger",{"$f":"IF(Start!B17=\"input2\",Parametric!$D48, Parametric!$C48)","v":{"$error":"#N/A"}}]
["N",{"$f":"SUM(B27:J27)","v":0}]
[null,null,null,null,null,"Lookup column numbers 5-11 for M1, Mj and Mj+1"]
[null,null,null,null,null,5,6,7,8,9,10,11]
["RawConc","Conc.","GroupMean","Stdev.","Sp2","M2","M3","M4","M5","M6","M7","M8","SmoothMean","Trigger","CJ",{"$f":" MAX(IF(INDIRECT(N45&38):INDIRECT(N45&44)>$P$43, $B$38:$B$44))","v":{"$error":"#VALUE!"}},"(highest) tested concentration whose observed mean response is greater than M1(1-p/100)",null,null,null,null,null,null,null,null,{"$f":"MAX(IF(INDIRECT(N45&38):INDIRECT(N45&44)>$Z$43,$B$38:$B$44))","v":{"$error":"#VALUE!"}}]
[{"$f":"IF(B37=\"\",\"\",10^(B37)-1)","v":""},{"$f":"IF($B$5=\"\",\"\",$B$5)","v":""},{"$f":"IF($B37=\"\", \"\", AVERAGE($B$6:$B$25))","v":""},{"$f":"IF($B37=\"\", \"\", STDEV($B$6:$B$25))","v":""},{"$f":"SUMSQ($D37:$D44)/$B$32","v":{"$error":"#DIV/0!"}},{"$f":"IF(C38>C37,((C38+C37)/2),C37)","v":""},{"$f":"IF(ISNUMBER(B39), IF(AND(C39>F38,C39>F37),(C39+F38+F37)/3,F37),\"\")","v":""},{"$f":"IF(ISNUMBER(B40), IF(AND(C40>G39,C40>G38,C40>G37),(C40+G39+G38+G37)/4,G37),\"\")","v":""},{"$f":"IF(ISNUMBER(B41), IF(AND(C41>H40,C41>H39,C41>H38,C41>H37),((C41+H40+H39+H38+H37)/5),H37),\"\")","v":""},{"$f":"IF(ISNUMBER(B42), IF(AND(C42>I41,C42>I40,C42>I39,C42>I38,C42>I37),(C42+I41+I40+I39+I38+I37)/6,I37),\"\")","v":""},{"$f":"IF(ISNUMBER(B43), IF(AND(C43>J42,C43>J41,C43>J40,C43>J39,C43>J38,C43>J37),(C43+J42+J41+J40+J39+J38+J37)/7,J37),\"\")","v":""},{"$f":"IF(ISNUMBER(B44), IF(AND(C44>K43,C44>K42,C44>K41,C44>K40,C44>K39,C44>K38,C44>K37),(C44+K43+K42+K41+K40+K39+K38+K37)/8,K37),\"\")","v":""},{"$f":"IF(B37=\"\",\"\",INDIRECT($N$45&37))","v":""},{"$f":"$P$43","v":{"$error":"#VALUE!"}},"CJ+1",{"$f":"MIN(IF(INDIRECT(N45&38):INDIRECT(N45&44)<$P$43, $B$38:$B$44))","v":{"$error":"#VALUE!"}},"(lowest) tested concentration whose observed mean response is less than M1(1-p/100)",null,null,null,null,null,null,null,null,{"$f":"MIN(IF(INDIRECT(N45&38):INDIRECT(N45&44)<$Z$43,$B$38:$B$44))","v":{"$error":"#VALUE!"}}]
[{"$f":"IF(B38=\"\",\"\",10^(B38)-1)","v":""},{"$f":"IF($C$5=\"\",\"\",$C$5)","v":""},{"$f":"IF($B38=\"\", \"\", AVERAGE($C$6:$C$25))","v":""},{"$f":"IF($B38=\"\", \"\", STDEV($C$6:$C$25))","v":""},{"$f":"IF($B38=\"\", \"\", ($D38^2+$D$37^2)/2)","v":""},{"$f":"IF(C38>C37,((C38+C37)/2),C38)","v":""},{"$f":"IF(ISNUMBER(B39), IF(AND(C39>F38,C39>F37),(C39+F38+F37)/3,IF(AND(C39>F38,C39<F37), (F38+C39)/2, F38)),\"\")","v":""},{"$f":"IF(ISNUMBER(B40),  IF(AND(C40>G39,C40>G38,C40>G37),(C40+G39+G38+G37)/4,IF(AND(C40>G39,C40>G38,C40<G37),(C40+G39+G38)/3,G38)),\"\")","v":""},{"$f":"IF(ISNUMBER(B41), IF(AND(C41>H40,C41>H39,C41>H38,C41>H37),((C41+H40+H39+H38+H37)/5),IF(AND(C41>H40,C41>H39,C41>H38,C41<H37),((C41+H40+H39+H38)/4),H38)),\"\")","v":""},{"$f":"IF(ISNUMBER(B42), IF(AND(C42>I41,C42>I40,C42>I39,C42>I38,C42>I37),(C42+I41+I40+I39+I38+I37)/6,IF(AND(C42>I41,C42>I40,C42>I39,C42>I38,C42<I37),(C42+I41+I40+I39+I38)/5, I38)),\"\")","v":""},{"$f":"IF(ISNUMBER(B43),  IF(AND(C43>J42,C43>J41,C43>J40,C43>J39,C43>J38,C43>J37),(C43+J42+J41+J40+J39+J38+J37)/7,IF(AND(C43>J42,C43>J41,C43>J40,C43>J39,C43>J38,C43>J37),(C43+J42+J41+J40+J39+J38)/6,J38)),\"\")","v":""},{"$f":"IF(ISNUMBER(B44),  IF(AND(C44>K43,C44>K42,C44>K41,C44>K40,C44>K39,C44>K38,C44>K37),(C44+K43+K42+K41+K40+K39+K38+K37)/8,IF(AND(C44>K43,C44>K42,C44>K41,C44>K40,C44>K39,C44>K38,C44>K37),(C44+K43+K42+K41+K40+K39+K38)/7,K38)),\"\")","v":""},{"$f":"IF(B38=\"\",\"\",INDIRECT($N$45&38))","v":""},{"$error":"#VALUE!"},"M1",{"$f":"INDIRECT(N45&37)","v":""},"smoothed mean response for the control",null,null,null,null,null,null,null,null,{"$f":"INDIRECT(N45&37)","v":""}]
["",{"$f":"IF($D$5=\"\",\"\",$D$5)","v":""},{"$f":"IF($B39=\"\", \"\", AVERAGE($D$6:$D$25))","v":""},{"$f":"IF($B39=\"\", \"\", STDEV($D$6:$D$25))","v":""},"",null,{"$f":"IF(ISNUMBER(B39),IF(AND(C39>F38,C39>F37),(C39+F38+F37)/3,IF(AND(C39>F38,C39<F37), (F38+C39)/2, C39)),\"\")","v":""},{"$f":"IF(ISNUMBER(B40), IF(AND(C40>G39,C40>G38,C40>G37),(C40+G39+G38+G37)/4,IF(AND(C40>G39,C40>G38,C40<G37),(C40+G39+G38)/3,IF(AND(C40>G39,C40<G38,C40<G37),(C40+G39)/2,G39))),\"\")","v":""},{"$f":"IF(ISNUMBER(B41), IF(AND(C41>H40,C41>H39,C41>H38,C41>H37),((C41+H40+H39+H38+H37)/5),IF(AND(C41>H40,C41>H39,C41>H38,C41<H37),((C41+H40+H39+H38)/4),IF(AND(C41>H40,C41>H39,C41<H38,C41<H37),((C41+H40+H39)/3),H39))),\"\")","v":""},{"$f":"IF(ISNUMBER(B42),  IF(AND(C42>I41,C42>I40,C42>I39,C42>I38,C42>I37),(C42+I41+I40+I39+I38+I37)/6,IF(AND(C42>I41,C42>I40,C42>I39,C42>I38,C42<I37),(C42+I41+I40+I39+I38)/5,IF(AND(C42>I41,C42>I40,C42>I39,C42<I38,C42<I37),(C42+I41+I40+I39)/4,I39))),\"\")","v":""},{"$f":"IF(ISNUMBER(B43), IF(AND(C43>J42,C43>J41,C43>J40,C43>J39,C43>J38,C43>J37),(C43+J42+J41+J40+J39+J38+J37)/7,IF(AND(C43>J42,C43>J41,C43>J40,C43>J39,C43>J38,C43>J37),(C43+J42+J41+J40+J39+J38)/6,IF(AND(C43>J42,C43>J41,C43>J40,C43>J39,C43>J38,C43>J37),(C43+J42+J41+J40+J39)/5,J39))),\"\")","v":""},{"$f":"IF(ISNUMBER(B44), IF(AND(C44>K43,C44>K42,C44>K41,C44>K40,C44>K39,C44>K38,C44>K37),(C44+K43+K42+K41+K40+K39+K38+K37)/8,IF(AND(C44>K43,C44>K42,C44>K41,C44>K40,C44>K39,C44>K38,C44>K37),(C44+K43+ K42+K41+K40+K39+K38)/7,IF(AND(C44>K43,C44>K42,C44>K41,C44>K40,C44>K39,C44>K38,C44>K37),(C44+K43+K42+K41+K40+K39)/6,K39))),\"\")","v":""},{"$f":"IF(B39=\"\",\"\",INDIRECT($N$45&39))","v":""},{"$error":"#VALUE!"},"MJ",{"$f":"INDEX($B$37:$L$44,MATCH(IC25_CJ,$B$37:$B$44,0),$M$45)","v":{"$error":"#VALUE!"}},"smoothed mean response for concentration J",null,null,null,null,null,null,null,null,{"$f":"INDEX($B$37:$L$44,MATCH(Z36,$B$37:$B$44,0),$M$45)","v":{"$error":"#VALUE!"}}]
["",{"$f":"IF($E$5=\"\",\"\",$E$5)","v":""},{"$f":"IF($B40=\"\", \"\", AVERAGE($E$6:$E$25))","v":""},{"$f":"IF($B40=\"\", \"\", STDEV($E$6:$E$25))","v":""},"",null,null,{"$f":"IF(ISNUMBER(B40),  IF(AND(C40>G39,C40>G38,C40>G37),(C40+G39+G38+G37)/4,IF(AND(C40>G39,C40>G38,C40<G37),(C40+G39+G38)/3,IF(AND(C40>G39,C40<G38,C40<G37),(C40+G39)/2,C40))),\"\")","v":""},{"$f":"IF(ISNUMBER(B41),IF(AND(C41>H40,C41>H39,C41>H38,C41>H37),((C41+H40+H39+H38+H37)/5),IF(AND(C41>H40,C41>H39,C41>H38,C41<H37),((C41+H40+H39+H38)/4),IF(AND(C41>H40,C41>H39,C41<H38,C41<H37),((C41+H40+H39)/3),IF(AND(C41>H40,C41<H39,C41<H38,C41<H37),((C41+H40)/2),H40)))),\"\")","v":""},{"$f":"IF(ISNUMBER(B42), IF(AND(C42>I41,C42>I40,C42>I39,C42>I38,C42>I37),(C42+I41+I40+I39+I38+I37)/6,IF(AND(C42>I41,C42>I40,C42>I39,C42>I38,C42<I37),(C42+I41+I40+I39+I38)/5,IF(AND(C42>I41,C42>I40,C42>I39,C42<I38,C42<I37),(C42+I41+I40+I39)/4,IF(AND(C42>I41,C42>I40,C42<I39,C42<I38,C42<I37),(C42+I41+I40)/3,I40)))),\"\")","v":""},{"$f":"IF(ISNUMBER(B43), IF(AND(C43>J42,C43>J41,C43>J40,C43>J39,C43>J38,C43>J37),(C43+J42+J41+J40+J39+J38+J37)/7,IF(AND(C43>J42,C43>J41,C43>J40,C43>J39,C43>J38,C43>J37),(C43+J42+J41+J40+J39+J38)/6,IF(AND(C43>J42,C43>J41,C43>J40,C43>J39,C43>J38,C43>J37),(C43+J42+J41+J40+J39)/5,IF(AND(C43>J42,C43>J41,C43>J40,C43>J39,C43>J38,C43>J37),(C43+J41+J40)/4,J40)))),\"\")","v":""},{"$f":"IF(ISNUMBER(B44), IF(AND(C44>K43,C44>K42,C44>K41,C44>K40,C44>K39,C44>K38,C44>K37),(C44+K43+K42+K41+K40+K39+K38+K37)/8,IF(AND(C44>K43,C44>K42,C44>K41,C44>K40,C44>K39,C44>K38,C44>K37),(C44+K43+K42+K41+K40+K39+K38)/7,IF(AND(C44>K43,C44>K42,C44>K41,C44>K40,C44>K39,C44>K38,C44>K37),(C44+K43+K42+K41+K40+K39)/6,IF(AND(C44>K43,C44>K42,C44>K41,C44>K40,C44>K39,C44>K38,C44>K37),(C44+K43+K41+K40)/5,K40)))),\"\")","v":""},{"$f":"IF(B40=\"\",\"\",INDIRECT($N$45&40))","v":""},{"$error":"#VALUE!"},"MJ+1",{"$f":"INDEX($B$38:$L$44,MATCH(IC25_CJ1,$B$38:$B$44,0),$M$45)","v":{"$error":"#VALUE!"}},"smoothed mean response for concentration J + 1",null,null,null,null,null,null,null,null,{"$f":"INDEX($B$38:$L$44,MATCH(Z37,$B$38:$B$44,0),$M$45)","v":{"$error":"#VALUE!"}}]
["",{"$f":"IF($F$5=\"\",\"\",$F$5)","v":""},{"$f":"IF($B41=\"\", \"\", AVERAGE($F$6:$F$25))","v":""},{"$f":"IF($B41=\"\", \"\", STDEV($F$6:$F$25))","v":""},"",null,null,null,{"$f":"IF(ISNUMBER(B41),IF(AND(C41>H40,C41>H39,C41>H38,C41>H37),((C41+H40+H39+H38+H37)/5),IF(AND(C41>H40,C41>H39,C41>H38,C41<H37),((C41+H40+H39+H38)/4),IF(AND(C41>H40,C41>H39,C41<H38,C41<H37),((C41+H40+H39)/3),IF(AND(C41>H40,C41<H39,C41<H38,C41<H37),((C41+H40)/2),C41)))),\"\")","v":""},{"$f":"IF(ISNUMBER(B42), IF(AND(C42>I41,C42>I40,C42>I39,C42>I38,C42>I37),(C42+I41+I40+I39+I38+I37)/6,IF(AND(C42>I41,C42>I40,C42>I39,C42>I38,C42<I37),(C42+I41+I40+I39+I38)/5, IF(AND(C42>I41,C42>I40,C42>I39,C42<I38,C42<I37),(C42+I41+I40+I39)/4, IF(AND(C42>I41,C42>I40,C42<I39,C42<I38,C42<I37),(C42+I41+I40)/3,IF(AND(C42>I41,C42<I40,C42<I39,C42<I38,C42<I37),(C42+I41)/2, I41))))),\"\")","v":""},{"$f":"IF(ISNUMBER(B43), IF(AND(C43>J42,C43>J41,C43>J40,C43>J39,C43>J38,C43>J37),(C43+J42+J41+J40+J39+J38+J37)/7,IF(AND(C43>J42,C43>J41,C43>J40,C43>J39,C43>J38,C43>J37),(C43+J42+J41+J40+J39+J38)/6, IF(AND(C43>J42,C43>J41,C43>J40,C43>J39,C43>J38,C43>J37),(C43+J42+J41+J40+J39)/5, IF(AND(C43>J42,C43>J41,C43>J40,C43>J39,C43>J38,C43>J37),(C43+J42+J41+J40)/4,IF(AND(C43>J42,C43>J41,C43>J40,C43>J39,C43>J38,C43>J37),(C43+J42+J41)/3, J41))))),\"\")","v":""},{"$f":"IF(ISNUMBER(B44), IF(AND(C44>K43,C44>K42,C44>K41,C44>K40,C44>K39,C44>K38,C44>K37),(C44+K43+K42+K41+K40+K39+K38+K37)/8,IF(AND(C44>K43,C44>K42,C44>K41,C44>K40,C44>K39,C44>K38,C44>K37),(C44+K43+K42+K41+K40+K39+K38)/7, IF(AND(C44>K43,C44>K42,C44>K41,C44>K40,C44>K39,C44>K38,C44>K37),(C44+K43+K42+K41+K40+K39)/6, IF(AND(C44>K43,C44>K42,C44>K41,C44>K40,C44>K39,C44>K38,C44>K37),(C44+K43+K42+K41+K40)/5,IF(AND(C44>K43,C44>K42,C44>K41,C44>K40,C44>K39,C44>K38,C44>K37),(C44+K43+K42+K41)/4, K41))))),\"\")","v":""},{"$f":"IF(B41=\"\",\"\",INDIRECT($N$45&41))","v":""},{"$error":"#VALUE!"},"p (percent)",{"$f":"IC25_PMSD*100","v":{"$error":"#N/A"}},"percent reduction in response relative to the control response",null,null,null,null,null,null,null,null,{"$f":"IF(B1=\"IC25\", 25, 50)","v":25}]
["",{"$f":"IF($G$5=\"\",\"\",$G$5)","v":""},{"$f":"IF($B42=\"\", \"\", AVERAGE($G$6:$G$25))","v":""},{"$f":"IF($B42=\"\", \"\", STDEV($G$6:$G$25))","v":""},"",null,null,null,null,{"$f":"IF(ISNUMBER(B42), IF(AND(C42>I41,C42>I40,C42>I39,C42>I38,C42>I37),(C42+I41+I40+I39+I38+I37)/6,IF(AND(C42>I41,C42>I40,C42>I39,C42>I38,C42<I37),(C42+I41+I40+I39+I38)/5, IF(AND(C42>I41,C42>I40,C42>I39,C42<I38,C42<I37),(C42+I41+I40+I39)/4, IF(AND(C42>I41,C42>I40,C42<I39,C42<I38,C42<I37),(C42+I41+I40)/3,IF(AND(C42>I41,C42<I40,C42<I39,C42<I38,C42<I37),(C42+I41)/2, C42))))),\"\")","v":""},{"$f":"IF(ISNUMBER(B43), IF(AND(C43>J42,C43>J41,C43>J40,C43>J39,C43>J38,C43>J37),(C43+J42+J41+J40+J39+J38+J37)/7,IF(AND(C43>J42,C43>J41,C43>J40,C43>J39,C43>J38,C43>J37),(C43+J42+J41+J40+J39+J38)/6, IF(AND(C43>J42,C43>J41,C43>J40,C43>J39,C43>J38,C43>J37),(C43+J42+J41+J40+J39)/5, IF(AND(C43>J42,C43>J41,C43>J40,C43>J39,C43>J38,C43>J37),(C43+J42+J41+J40)/4,IF(AND(C43>J42,C43>J41,C43>J40,C43>J39,C43>J38,C43>J37),(C43+J42+J41)/3, IF(AND(C43>J42,C43>J41,C43>J40,C43>J39,C43>J38,C43>J37),(C43+J42)/2,J42)))))),\"\")","v":""},{"$f":"IF(ISNUMBER(B44), IF(AND(C44>K43,C44>K42,C44>K41,C44>K40,C44>K39,C44>K38,C44>K37),(C44+K43+K42+K41+K40+K39+K38+K37)/8,IF(AND(C44>K43,C44>K42,C44>K41,C44>K40,C44>K39,C44>K38,C44>K37),(C44+K43+K42+K41+K40+K39+K38)/7, IF(AND(C44>K43,C44>K42,C44>K41,C44>K40,C44>K39,C44>K38,C44>K37),(C44+K43+K42+K41+K40+K39)/6, IF(AND(C44>K43,C44>K42,C44>K41,C44>K40,C44>K39,C44>K38,C44>K37),(C44+K43+K42+K41+K40)/5,IF(AND(C44>K43,C44>K42,C44>K41,C44>K40,C44>K39,C44>K38,C44>K37),(C44+K43+K42+K41)/4, IF(AND(C44>K43,C44>K42,C44>K41,C44>K40,C44>K39,C44>K38,C44>K37),(C44+K43+K42)/3,K42)))))),\"\")","v":""},{"$f":"IF(B42=\"\",\"\",INDIRECT($N$45&42))","v":""},{"$error":"#VALUE!"},"ICp",{"$f":"IF(IC25_CJ1<>IC25_CJ,(IC25_CJ+(IC25_M1*(1-IC25_p/100)-IC25_MJ)*((IC25_CJ1-IC25_CJ)/(IC25_MJ1-IC25_MJ))),\">100\")","v":{"$error":"#VALUE!"}},"estimated conc. at which there is a percent reduction from the smoothed mean control response.  ",null,null,null,null,null,null,null,null,{"$f":"IF(Z37<>Z36,(Z36+(Z38*(1-Z41/100)-Z40)*((Z37-Z36)/(Z40-Z39))),\">100\")","v":{"$error":"#VALUE!"}}]
["",{"$f":"IF($H$5=\"\",\"\",$H$5)","v":""},{"$f":"IF($B43=\"\", \"\", AVERAGE($H$6:$H$25))","v":""},{"$f":"IF($B43=\"\", \"\", STDEV($H$6:$H$25))","v":""},"",null,null,null,null,null,{"$f":"IF(ISNUMBER(B43), IF(AND(C43>J42,C43>J41,C43>J40,C43>J39,C43>J38,C43>J37),(C43+J42+J41+J40+J39+J38+J37)/7,IF(AND(C43>J42,C43>J41,C43>J40,C43>J39,C43>J38,C43>J37),(C43+J42+J41+J40+J39+J38)/6, IF(AND(C43>J42,C43>J41,C43>J40,C43>J39,C43>J38,C43>J37),(C43+J42+J41+J40+J39)/5, IF(AND(C43>J42,C43>J41,C43>J40,C43>J39,C43>J38,C43>J37),(C43+J42+J41+J40)/4,IF(AND(C43>J42,C43>J41,C43>J40,C43>J39,C43>J38,C43>J37),(C43+J42+J41)/3, IF(AND(C43>J42,C43>J41,C43>J40,C43>J39,C43>J38,C43>J37),(C43+J42)/2,C43)))))),\"\")","v":""},{"$f":"IF(ISNUMBER(B44), IF(AND(C44>K43,C44>K42,C44>K41,C44>K40,C44>K39,C44>K38,C44>K37),(C44+K43+K42+K41+K40+K39+K38+K37)/8,IF(AND(C44>K43,C44>K42,C44>K41,C44>K40,C44>K39,C44>K38,C44>K37),(C44+K43+K42+K41+K40+K39+K38)/7, IF(AND(C44>K43,C44>K42,C44>K41,C44>K40,C44>K39,C44>K38,C44>K37),(C44+K43+K42+K41+K40+K39)/6, IF(AND(C44>K43,C44>K42,C44>K41,C44>K40,C44>K39,C44>K38,C44>K37),(C44+K43+K42+K41+K40)/5,IF(AND(C44>K43,C44>K42,C44>K41,C44>K40,C44>K39,C44>K38,C44>K37),(C44+K43+K42+K41)/4, IF(AND(C44>K43,C44>K42,C44>K41,C44>K40,C44>K39,C44>K38,C44>K37),(C44+K43+K42)/3,IF(AND(C44>K43,C44>K42,C44>K41,C44>K40,C44>K39,C44>K38,C44>K37),(C44+K43)/2,K43))))))),\"\")","v":""},{"$f":"IF(B43=\"\",\"\",INDIRECT($N$45&43))","v":""},{"$error":"#VALUE!"},"M1(1-p/100)",{"$f":"IC25_M1*(1-(IC25_p/100))","v":{"$error":"#VALUE!"}},"Concentration that would be significantly different at the specified reduction",null,null,null,null,null,null,null,null,{"$f":"Z38*(1-Z41/100)","v":{"$error":"#VALUE!"}}]
["",{"$f":"IF($I$5=\"\",\"\",$I$5)","v":""},{"$f":"IF($B44=\"\", \"\", AVERAGE($I$6:$I$25))","v":""},{"$f":"IF($B44=\"\", \"\", STDEV($I$7:$I$26))","v":""},"",null,null,null,null,null,null,{"$f":"IF(ISNUMBER(B44), IF(AND(C44>K43,C44>K42,C44>K41,C44>K40,C44>K39,C44>K38,C44>K37),(C44+K43+K42+K41+K40+K39+K38+K37)/8,IF(AND(C44>K43,C44>K42,C44>K41,C44>K40,C44>K39,C44>K38,C44>K37),(C44+K43+K42+K41+K40+K39+K38)/7, IF(AND(C44>K43,C44>K42,C44>K41,C44>K40,C44>K39,C44>K38,C44>K37),(C44+K43+K42+K41+K40+K39)/6, IF(AND(C44>K43,C44>K42,C44>K41,C44>K40,C44>K39,C44>K38,C44>K37),(C44+K43+K42+K41+K40)/5,IF(AND(C44>K43,C44>K42,C44>K41,C44>K40,C44>K39,C44>K38,C44>K37),(C44+K43+K42+K41)/4, IF(AND(C44>K43,C44>K42,C44>K41,C44>K40,C44>K39,C44>K38,C44>K37),(C44+K43+K42)/3,IF(AND(C44>K43,C44>K42,C44>K41,C44>K40,C44>K39,C44>K38,C44>K37),(C44+K43)/2,C44))))))),\"\")","v":""},{"$f":"IF(B44=\"\",\"\",INDIRECT($N$45&44))","v":""},{"$error":"#VALUE!"}]
[null,null,null,null,null,{"$f":"COUNT(F37:F44)","v":0},{"$f":"COUNT(G37:G44)","v":0},{"$f":"COUNT(H37:H44)","v":0},{"$f":"COUNT(I37:I44)","v":0},{"$f":"COUNT(J37:J44)","v":0},{"$f":"COUNT(K37:K44)","v":0},0,{"$f":"IF(L45>0, 11, IF(K45>0, 10, IF(J45>0, 9, IF(I45>0, 8, IF(H45>0, 7, IF(G45>0,6, 5))))))","v":5},{"$f":"IF(L45>0,\"l\",IF(K45>0,\"k\",IF(J45>0,\"j\",IF(I45>0,\"i\",IF(H45>0,\"h\",IF(G45>0,\"g\",\"f\"))))))","v":"f"},"<-use column"]
[null,null,null,null,null,null,null,null,null,null,null,null,null,null,null,null,"Smoothed?",{"$f":"IF(AND(M37=C37,M38=C38,M39=C39,M40=C40,M41=C41,M42=C42,M43=C43,M44=C44),\"N\",\"Y\")","v":"N"}]
[null,null,null,null,null,null,null,null,null,null,null,null,null,null,null,null,null,null,null,"orig M45","IF(J44>0, 9, IF(I44>0, 8, IF(H44>0, 7, IF(G44>0,6, 5))))"]
[null,null,null,null,null,null,null,null,null,null,null,null,null,null,null,null,null,null,null,"orig N45","IF(J44>0,\"j\",IF(I44>0,\"I\",IF(H44>0,\"h\",IF(G44>0,\"g\",\"f\"))))"]
[null,null,null,null,null,null,null,null,null,null,null,null,null,null,"Future additions"]
[null,null,null,null,null,null,null,null,null,null,null,null,null,null,"lines for NOEC, IC20, and IC25"]
[null,null,null,null,null,null,null,null,null,null,null,null,null,null,"arrows pointing to and identifying the lines"]
[]
[null,null,null,null,null,null,null,null,null,null,null,null,null,null,"For lines on plot"]
[null,null,null,null,null,null,null,null,null,null,null,null,null,null,"X","IC20","IC25"]
[null,null,null,null,null,null,null,null,null,null,null,null,null,null,0,null,{"$f":"$H$30","v":{"$error":"#VALUE!"}}]
[null,null,null,null,null,null,null,null,null,null,null,null,null,null,1,null,{"$f":"$H$30","v":{"$error":"#VALUE!"}}]
[]
[]
[]
[]
[]
[]
[]
[]
[]
[]
[]
[]
["Text Box text"]
[{"$f":"\"The MSD (\"&ROUND(E30,3)&\") is the value below the Control response that will triger a Sig. Diff.  Values above it have no effect, below it are Sig. Diff.   The MSD expressed in % is the PMSD (\"&ROUND(E31,3)&\").\"","v":{"$error":"#N/A"}}]
[{"$f":"\"Trigger Point: Control Mean - MSD = \"&ROUND(P43,3)","v":{"$error":"#VALUE!"}}]
[]
[]
[]
["RawConc","Conc.","GroupMean","Stdev.","Sp2","M2","M3","M4","M5","M6","M7","M8","SmoothMean","Trigger"]
[{"$f":"IF(B37=\"\",\"\",Intermed_Input!B25)","v":""},{"$f":"IF($B$5=\"\",#N/A,$B$5)","v":{"$error":"#N/A"}},{"$f":"IF($B76=\"\", \"\", AVERAGE($B$6:$B$25))","v":{"$error":"#N/A"}},{"$f":"IF($B76=\"\", \"\", STDEV($B$6:$B$25))","v":{"$error":"#N/A"}},{"$f":"SUMSQ($D76:$D83)/$B$32","v":{"$error":"#N/A"}},{"$f":"IF(C77>C76,((C77+C76)/2),C76)","v":{"$error":"#N/A"}},{"$f":"IF(ISNUMBER(B78), IF(AND(C78>F77,C78>F76),(C78+F77+F76)/3,F76),\"\")","v":""},{"$f":"IF(ISNUMBER(B79), IF(AND(C79>G78,C79>G77,C79>G76),(C79+G78+G77+G76)/4,G76),\"\")","v":""},{"$f":"IF(ISNUMBER(B80), IF(AND(C80>H79,C80>H78,C80>H77,C80>H76),((C80+H79+H78+H77+H76)/5),H76),\"\")","v":""},{"$f":"IF(ISNUMBER(B81), IF(AND(C81>I80,C81>I79,C81>I78,C81>I77,C81>I76),(C81+I80+I79+I78+I77+I76)/6,I76),\"\")","v":""},{"$f":"IF(ISNUMBER(B82), IF(AND(C82>J81,C82>J80,C82>40,C82>J78,C82>J77,C82>J76),(C82+J81+J80+J79+J78+J77+J76)/7,J76),\"\")","v":""},{"$f":"IF(ISNUMBER(B83), IF(AND(C83>K82,C83>K81,C83>K80,C83>K79,C83>K78,C83>K77,C83>K76),(C83+K82+K81+K80+K79+K78+K77+K76)/8,K76),\"\")","v":""},{"$f":"IF(B76=\"\",\"\",INDIRECT($N$45&37))","v":{"$error":"#N/A"}},{"$f":"IF(B76=\"\",\"\",$P$43)","v":{"$error":"#N/A"}}]
[{"$f":"IF(B38=\"\",\"\",Intermed_Input!C25)","v":""},{"$f":"IF($C$5=\"\",\"\",$C$5)","v":""},{"$f":"IF($B77=\"\", \"\", AVERAGE($C$6:$C$25))","v":""},{"$f":"IF($B77=\"\", \"\", STDEV($C$6:$C$25))","v":""},{"$f":"IF($B77=\"\", \"\", ($D77^2+$D$37^2)/2)","v":""},{"$f":"IF(C77>C76,((C77+C76)/2),C77)","v":{"$error":"#N/A"}},{"$f":"IF(ISNUMBER(B78), IF(AND(C78>F77,C78>F76),(C78+F77+F76)/3,IF(AND(C78>F77,C78<F76), (F77+C78)/2, F77)),\"\")","v":""},{"$f":"IF(ISNUMBER(B79),  IF(AND(C79>G78,C79>G77,C79>G76),(C79+G78+G77+G76)/4,IF(AND(C79>G78,C79>G77,C79<G76),(C79+G78+G77)/3,G77)),\"\")","v":""},{"$f":"IF(ISNUMBER(B80), IF(AND(C80>H79,C80>H78,C80>H77,C80>H76),((C80+H79+H78+H77+H76)/5),IF(AND(C80>H79,C80>H78,C80>H77,C80<H76),((C80+H79+H78+H77)/4),H77)),\"\")","v":""},{"$f":"IF(ISNUMBER(B81), IF(AND(C81>I80,C81>I79,C81>I78,C81>I77,C81>I76),(C81+I80+I79+I78+I77+I76)/6,IF(AND(C81>I80,C81>I79,C81>I78,C81>I77,C81<I76),(C81+I80+I79+I78+I77)/5, I77)),\"\")","v":""},{"$f":"IF(ISNUMBER(B82),  IF(AND(C82>J81,C82>J80,C82>J79,C82>J78,C82>J77,C82>J76),(C82+J81+J80+J79+J78+J77+J76)/7,IF(AND(C82>J81,C82>J80,C82>J79,C82>J78,C82>J77,C82>J76),(C82+J81+J80+J79+J78+J77)/6,J77)),\"\")","v":""},{"$f":"IF(ISNUMBER(B83),  IF(AND(C83>K82,C83>K81,C83>K80,C83>K79,C83>K78,C83>K77,C83>K76),(C83+K82+K81+K80+K79+K78+K77+K76)/8,IF(AND(C83>K82,C83>K81,C83>K80,C83>K79,C83>K78,C83>K77,C83>K76),(C83+K82+K81+K80+K79+K78+K77)/7,K77)),\"\")","v":""},{"$f":"IF(B77=\"\",\"\",INDIRECT($N$45&38))","v":""},{"$f":"IF(B77=\"\",\"\",$P$43)","v":""}]
[{"$f":"IF(B39=\"\",\"\",Intermed_Input!D25)","v":""},{"$f":"IF($D$5=\"\",\"\",$D$5)","v":""},{"$f":"IF($B78=\"\", \"\", AVERAGE($D$6:$D$25))","v":""},{"$f":"IF($B78=\"\", \"\", STDEV($D$6:$D$25))","v":""},"",null,{"$f":"IF(ISNUMBER(B78),IF(AND(C78>F77,C78>F76),(C78+F77+F76)/3,IF(AND(C78>F77,C78<F76), (F77+C78)/2, C78)),\"\")","v":""},{"$f":"IF(ISNUMBER(B79), IF(AND(C79>G78,C79>G77,C79>G76),(C79+G78+G77+G76)/4,IF(AND(C79>G78,C79>G77,C79<G76),(C79+G78+G77)/3,IF(AND(C79>G78,C79<G77,C79<G76),(C79+G78)/2,G78))),\"\")","v":""},{"$f":"IF(ISNUMBER(B80), IF(AND(C80>H79,C80>H78,C80>H77,C80>H76),((C80+H79+H78+H77+H76)/5),IF(AND(C80>H79,C80>H78,C80>H77,C80<H76),((C80+H79+H78+H77)/4),IF(AND(C80>H79,C80>H78,C80<H77,C80<H76),((C80+H79+H78)/3),H78))),\"\")","v":""},{"$f":"IF(ISNUMBER(B81),  IF(AND(C81>I80,C81>I79,C81>I78,C81>I77,C81>I76),(C81+I80+I79+I78+I77+I76)/6,IF(AND(C81>I80,C81>I79,C81>I78,C81>I77,C81<I76),(C81+I80+I79+I78+I77)/5,IF(AND(C81>I80,C81>I79,C81>I78,C81<I77,C81<I76),(C81+I80+I79+I78)/4,I78))),\"\")","v":""},{"$f":"IF(ISNUMBER(B82), IF(AND(C82>J81,C82>J80,C82>J79,C82>J78,C82>J77,C82>J76),(C82+J81+J80+J79+J78+J77+J76)/7,IF(AND(C82>J81,C82>J80,C82>J79,C82>J78,C82>J77,C82>J76),(C82+J81+J80+J79+J78+J77)/6,IF(AND(C82>J81,C82>J80,C82>J79,C82>J78,C82>J77,C82>J76),(C82+J81+J80+J79+J78)/5,J78))),\"\")","v":""},{"$f":"IF(ISNUMBER(B83), IF(AND(C83>K82,C83>K81,C83>K80,C83>K79,C83>K78,C83>K77,C83>K76),(C83+K82+K81+K80+K79+K78+K77+K76)/8,IF(AND(C83>K82,C83>K81,C83>K80,C83>K79,C83>K78,C83>K77,C83>K76),(C83+K82+ K81+K80+K79+K78+K77)/7,IF(AND(C83>K82,C83>K81,C83>K80,C83>K79,C83>K78,C83>K77,C83>K76),(C83+K82+K81+K80+K79+K78)/6,K78))),\"\")","v":""},{"$f":"IF(B78=\"\",\"\",INDIRECT($N$45&39))","v":""},""]
[{"$f":"IF(B40=\"\",\"\",Intermed_Input!E25)","v":""},{"$f":"IF($E$5=\"\",\"\",$E$5)","v":""},{"$f":"IF($B79=\"\", \"\", AVERAGE($E$6:$E$25))","v":""},{"$f":"IF($B79=\"\", \"\", STDEV($E$6:$E$25))","v":""},"",null,null,{"$f":"IF(ISNUMBER(B79),  IF(AND(C79>G78,C79>G77,C79>G76),(C79+G78+G77+G76)/4,IF(AND(C79>G78,C79>G77,C79<G76),(C79+G78+G77)/3,IF(AND(C79>G78,C79<G77,C79<G76),(C79+G78)/2,C79))),\"\")","v":""},{"$f":"IF(ISNUMBER(B80),IF(AND(C80>H79,C80>H78,C80>H77,C80>H76),((C80+H79+H78+H77+H76)/5),IF(AND(C80>H79,C80>H78,C80>H77,C80<H76),((C80+H79+H78+H77)/4),IF(AND(C80>H79,C80>H78,C80<H77,C80<H76),((C80+H79+H78)/3),IF(AND(C80>H79,C80<H78,C80<H77,C80<H76),((C80+H79)/2),H79)))),\"\")","v":""},{"$f":"IF(ISNUMBER(B81), IF(AND(C81>I80,C81>I79,C81>I78,C81>I77,C81>I76),(C81+I80+I79+I78+I77+I76)/6,IF(AND(C81>I80,C81>I79,C81>I78,C81>I77,C81<I76),(C81+I80+I79+I78+I77)/5,IF(AND(C81>I80,C81>I79,C81>I78,C81<I77,C81<I76),(C81+I80+I79+I78)/4,IF(AND(C81>I80,C81>I79,C81<I78,C81<I77,C81<I76),(C81+I80+I79)/3,I79)))),\"\")","v":""},{"$f":"IF(ISNUMBER(B82), IF(AND(C82>J81,C82>J80,C82>J79,C82>J78,C82>J77,C82>J76),(C82+J81+J80+J79+J78+J77+J76)/7,IF(AND(C82>J81,C82>J80,C82>J79,C82>J78,C82>J77,C82>J76),(C82+J81+J80+J79+J78+J77)/6,IF(AND(C82>J81,C82>J80,C82>J79,C82>J78,C82>J77,C82>J76),(C82+J81+J80+J79+J78)/5,IF(AND(C82>J81,C82>J80,C82>J79,C82>J78,C82>J77,C82>J76),(C82+J80+J79)/4,J79)))),\"\")","v":""},{"$f":"IF(ISNUMBER(B83), IF(AND(C83>K82,C83>K81,C83>K80,C83>K79,C83>K78,C83>K77,C83>K76),(C83+K82+K81+K80+K79+K78+K77+K76)/8,IF(AND(C83>K82,C83>K81,C83>K80,C83>K79,C83>K78,C83>K77,C83>K76),(C83+K82+K81+K80+K79+K78+K77)/7,IF(AND(C83>K82,C83>K81,C83>K80,C83>K79,C83>K78,C83>K77,C83>K76),(C83+K82+K81+K80+K79+K78)/6,IF(AND(C83>K82,C83>K81,C83>K80,C83>K79,C83>K78,C83>K77,C83>K76),(C83+K82+K80+K79)/5,K79)))),\"\")","v":""},{"$f":"IF(B79=\"\",\"\",INDIRECT($N$45&40))","v":""},""]
[{"$f":"IF(B41=\"\",\"\",Intermed_Input!F25)","v":""},{"$f":"IF($F$5=\"\",\"\",$F$5)","v":""},{"$f":"IF($B80=\"\", \"\", AVERAGE($F$6:$F$25))","v":""},{"$f":"IF($B80=\"\", \"\", STDEV($F$6:$F$25))","v":""},"",null,null,null,{"$f":"IF(ISNUMBER(B80),IF(AND(C80>H79,C80>H78,C80>H77,C80>H76),((C80+H79+H78+H77+H76)/5),IF(AND(C80>H79,C80>H78,C80>H77,C80<H76),((C80+H79+H78+H77)/4),IF(AND(C80>H79,C80>H78,C80<H77,C80<H76),((C80+H79+H78)/3),IF(AND(C80>H79,C80<H78,C80<H77,C80<H76),((C80+H79)/2),C80)))),\"\")","v":""},{"$f":"IF(ISNUMBER(B81), IF(AND(C81>I80,C81>I79,C81>I78,C81>I77,C81>I76),(C81+I80+I79+I78+I77+I76)/6,IF(AND(C81>I80,C81>I79,C81>I78,C81>I77,C81<I76),(C81+I80+I79+I78+I77)/5, IF(AND(C81>I80,C81>I79,C81>I78,C81<I77,C81<I76),(C81+I80+I79+I78)/4, IF(AND(C81>I80,C81>I79,C81<I78,C81<I77,C81<I76),(C81+I80+I79)/3,IF(AND(C81>I80,C81<I79,C81<I78,C81<I77,C81<I76),(C81+I80)/2, I80))))),\"\")","v":""},{"$f":"IF(ISNUMBER(B82), IF(AND(C82>J81,C82>J80,C82>J79,C82>J78,C82>J77,C82>J76),(C82+J81+J80+J79+J78+J77+J76)/7,IF(AND(C82>J81,C82>J80,C82>J79,C82>J78,C82>J77,C82>J76),(C82+J81+J80+J79+J78+J77)/6, IF(AND(C82>J81,C82>J80,C82>J79,C82>J78,C82>J77,C82>J76),(C82+J81+J80+J79+J78)/5, IF(AND(C82>J81,C82>J80,C82>J79,C82>J78,C82>J77,C82>J76),(C82+J81+J80+J79)/4,IF(AND(C82>J81,C82>J80,C82>J79,C82>J78,C82>J77,C82>J76),(C82+J81+J80)/3, J80))))),\"\")","v":""},{"$f":"IF(ISNUMBER(B83), IF(AND(C83>K82,C83>K81,C83>K80,C83>K79,C83>K78,C83>K77,C83>K76),(C83+K82+K81+K80+K79+K78+K77+K76)/8,IF(AND(C83>K82,C83>K81,C83>K80,C83>K79,C83>K78,C83>K77,C83>K76),(C83+K82+K81+K80+K79+K78+K77)/7, IF(AND(C83>K82,C83>K81,C83>K80,C83>K79,C83>K78,C83>K77,C83>K76),(C83+K82+K81+K80+K79+K78)/6, IF(AND(C83>K82,C83>K81,C83>K80,C83>K79,C83>K78,C83>K77,C83>K76),(C83+K82+K81+K80+K79)/5,IF(AND(C83>K82,C83>K81,C83>K80,C83>K79,C83>K78,C83>K77,C83>K76),(C83+K82+K81+K80)/4, K80))))),\"\")","v":""},{"$f":"IF(B80=\"\",\"\",INDIRECT($N$45&41))","v":""},""]
[{"$f":"IF(B42=\"\",\"\",Intermed_Input!G25)","v":""},{"$f":"IF($G$5=\"\",\"\",$G$5)","v":""},{"$f":"IF($B81=\"\", \"\", AVERAGE($G$6:$G$25))","v":""},{"$f":"IF($B81=\"\", \"\", STDEV($G$6:$G$25))","v":""},"",null,null,null,null,{"$f":"IF(ISNUMBER(B81), IF(AND(C81>I80,C81>I79,C81>I78,C81>I77,C81>I76),(C81+I80+I79+I78+I77+I76)/6,IF(AND(C81>I80,C81>I79,C81>I78,C81>I77,C81<I76),(C81+I80+I79+I78+I77)/5, IF(AND(C81>I80,C81>I79,C81>I78,C81<I77,C81<I76),(C81+I80+I79+I78)/4, IF(AND(C81>I80,C81>I79,C81<I78,C81<I77,C81<I76),(C81+I80+I79)/3,IF(AND(C81>I80,C81<I79,C81<I78,C81<I77,C81<I76),(C81+I80)/2, C81))))),\"\")","v":""},{"$f":"IF(ISNUMBER(B82), IF(AND(C82>J81,C82>J80,C82>J79,C82>J78,C82>J77,C82>J76),(C82+J81+J80+J79+J78+J77+J76)/7,IF(AND(C82>J81,C82>J80,C82>J79,C82>J78,C82>J77,C82>J76),(C82+J81+J80+J79+J78+J77)/6, IF(AND(C82>J81,C82>J80,C82>J79,C82>J78,C82>J77,C82>J76),(C82+J81+J80+J79+J78)/5, IF(AND(C82>J81,C82>J80,C82>J79,C82>J78,C82>J77,C82>J76),(C82+J81+J80+J79)/4,IF(AND(C82>J81,C82>J80,C82>J79,C82>J78,C82>J77,C82>J76),(C82+J81+J80)/3, IF(AND(C82>J81,C82>J80,C82>J79,C82>J78,C82>J77,C82>J76),(C82+J81)/2,J81)))))),\"\")","v":""},{"$f":"IF(ISNUMBER(B83), IF(AND(C83>K82,C83>K81,C83>K80,C83>K79,C83>K78,C83>K77,C83>K76),(C83+K82+K81+K80+K79+K78+K77+K76)/8,IF(AND(C83>K82,C83>K81,C83>K80,C83>K79,C83>K78,C83>K77,C83>K76),(C83+K82+K81+K80+K79+K78+K77)/7, IF(AND(C83>K82,C83>K81,C83>K80,C83>K79,C83>K78,C83>K77,C83>K76),(C83+K82+K81+K80+K79+K78)/6, IF(AND(C83>K82,C83>K81,C83>K80,C83>K79,C83>K78,C83>K77,C83>K76),(C83+K82+K81+K80+K79)/5,IF(AND(C83>K82,C83>K81,C83>K80,C83>K79,C83>K78,C83>K77,C83>K76),(C83+K82+K81+K80)/4, IF(AND(C83>K82,C83>K81,C83>K80,C83>K79,C83>K78,C83>K77,C83>K76),(C83+K82+K81)/3,K81)))))),\"\")","v":""},{"$f":"IF(B81=\"\",\"\",INDIRECT($N$45&42))","v":""},""]
[{"$f":"IF(B82=\"\",\"\",Intermed_Input!H25)","v":""},{"$f":"IF($H$5=\"\",\"\",$H$5)","v":""},{"$f":"IF($B82=\"\", #N/A, AVERAGE($H$6:$H$25))","v":{"$error":"#N/A"}},{"$f":"IF($B82=\"\", \"\", STDEV($H$6:$H$25))","v":""},"",null,null,null,null,null,{"$f":"IF(ISNUMBER(B82), IF(AND(C82>J81,C82>J80,C82>J79,C82>J78,C82>J77,C82>J76),(C82+J81+J80+J79+J78+J77+J76)/7,IF(AND(C82>J81,C82>J80,C82>J79,C82>J78,C82>J77,C82>J76),(C82+J81+J80+J79+J78+J77)/6, IF(AND(C82>J81,C82>J80,C82>J79,C82>J78,C82>J77,C82>J76),(C82+J81+J80+J79+J78)/5, IF(AND(C82>J81,C82>J80,C82>J79,C82>J78,C82>J77,C82>J76),(C82+J81+J80+J79)/4,IF(AND(C82>J81,C82>J80,C82>J79,C82>J78,C82>J77,C82>J76),(C82+J81+J80)/3, IF(AND(C82>J81,C82>J80,C82>J79,C82>J78,C82>J77,C82>J76),(C82+J81)/2,C82)))))),\"\")","v":""},{"$f":"IF(ISNUMBER(B83), IF(AND(C83>K82,C83>K81,C83>K80,C83>K79,C83>K78,C83>K77,C83>K76),(C83+K82+K81+K80+K79+K78+K77+K76)/8,IF(AND(C83>K82,C83>K81,C83>K80,C83>K79,C83>K78,C83>K77,C83>K76),(C83+K82+K81+K80+K79+K78+K77)/7, IF(AND(C83>K82,C83>K81,C83>K80,C83>K79,C83>K78,C83>K77,C83>K76),(C83+K82+K81+K80+K79+K78)/6, IF(AND(C83>K82,C83>K81,C83>K80,C83>K79,C83>K78,C83>K77,C83>K76),(C83+K82+K81+K80+K79)/5,IF(AND(C83>K82,C83>K81,C83>K80,C83>K79,C83>K78,C83>K77,C83>K76),(C83+K82+K81+K80)/4, IF(AND(C83>K82,C83>K81,C83>K80,C83>K79,C83>K78,C83>K77,C83>K76),(C83+K82+K81)/3,IF(AND(C83>K82,C83>K81,C83>K80,C83>K79,C83>K78,C83>K77,C83>K76),(C83+K82)/2,K82))))))),\"\")","v":""},{"$f":"IF(B82=\"\",#N/A,INDIRECT($N$45&43))","v":{"$error":"#N/A"}},{"$f":"IF(B82=\"\",#N/A,$P$43)","v":{"$error":"#N/A"}}]
[{"$f":"IF(B83=\"\",\"\",Intermed_Input!II25)","v":""},{"$f":"IF($I$5=\"\",\"\",$I$5)","v":""},{"$f":"IF($B83=\"\", #N/A, AVERAGE($I$6:$I$25))","v":{"$error":"#N/A"}},{"$f":"IF($B83=\"\", \"\", STDEV($I$6:$I$25))","v":""},"",null,null,null,null,null,null,{"$f":"IF(ISNUMBER(B83), IF(AND(C83>K82,C83>K81,C83>K80,C83>K79,C83>K78,C83>K77,C83>K76),(C83+K82+K81+K80+K79+K78+K77+K76)/8,IF(AND(C83>K82,C83>K81,C83>K80,C83>K79,C83>K78,C83>K77,C83>K76),(C83+K82+K81+K80+K79+K78+K77)/7, IF(AND(C83>K82,C83>K81,C83>K80,C83>K79,C83>K78,C83>K77,C83>K76),(C83+K82+K81+K80+K79+K78)/6, IF(AND(C83>K82,C83>K81,C83>K80,C83>K79,C83>K78,C83>K77,C83>K76),(C83+K82+K81+K80+K79)/5,IF(AND(C83>K82,C83>K81,C83>K80,C83>K79,C83>K78,C83>K77,C83>K76),(C83+K82+K81+K80)/4, IF(AND(C83>K82,C83>K81,C83>K80,C83>K79,C83>K78,C83>K77,C83>K76),(C83+K82+K81)/3,IF(AND(C83>K82,C83>K81,C83>K80,C83>K79,C83>K78,C83>K77,C83>K76),(C83+K82)/2,C83))))))),\"\")","v":""},{"$f":"IF(B83=\"\",#N/A,INDIRECT($N$45&44))","v":{"$error":"#N/A"}},{"$f":"IF(B83=\"\",#N/A,$P$43)","v":{"$error":"#N/A"}}]

{"sheet":"calc_IC25_Stat","index":11,"n_rows":90,"n_cols":5,"rows_kept":90,"cut":false,"hidden":true,"merged":[]}
["IC25 Stat Summary",null,"88 randomize data for IC25"]
["IC25 "]
[{"$error":"#N/A"},null,"95% Confidence Intervals",{"$f":"IF(COUNT(E3:E90)>50, PERCENTILE(E3:E90,0.025),\"N/A\")","v":"N/A"},{"$f":"IF(ISNUMBER(A3),A3,\"\")","v":""}]
[{"$error":"#N/A"},null,"95% Confidence Intervals",{"$f":"IF(COUNT(E3:E90)>50, PERCENTILE(E3:E90,0.975),\"N/A\")","v":"N/A"},{"$f":"IF(ISNUMBER(A4),A4,\"\")","v":""}]
[{"$error":"#N/A"},null,"Count",{"$f":"COUNT(E3:E90)","v":0},""]
[{"$error":"#N/A"},null,null,null,""]
[{"$error":"#N/A"},null,null,null,""]
[{"$error":"#N/A"},null,null,null,""]
[{"$error":"#N/A"},null,null,null,""]
[{"$error":"#N/A"},null,null,null,""]
[{"$error":"#N/A"},null,null,null,""]
[{"$error":"#N/A"},null,null,null,""]
[{"$error":"#N/A"},null,null,null,""]
[{"$error":"#N/A"},null,null,null,""]
[{"$error":"#N/A"},null,null,null,""]
[{"$error":"#N/A"},null,null,null,""]
[{"$error":"#N/A"},null,null,null,""]
[{"$error":"#N/A"},null,null,null,""]
[{"$error":"#N/A"},null,null,null,""]
[{"$error":"#N/A"},null,null,null,""]
[{"$error":"#N/A"},null,null,null,""]
[{"$error":"#N/A"},null,null,null,""]
[{"$error":"#N/A"},null,null,null,""]
[{"$error":"#N/A"},null,null,null,""]
[{"$error":"#N/A"},null,null,null,""]
[{"$error":"#N/A"},null,null,null,""]
[{"$error":"#N/A"},null,null,null,""]
[{"$error":"#N/A"},null,null,null,""]
[{"$error":"#N/A"},null,null,null,""]
[{"$error":"#N/A"},null,null,null,""]
[{"$error":"#N/A"},null,null,null,""]
[{"$error":"#N/A"},null,null,null,""]
[{"$error":"#N/A"},null,null,null,""]
[{"$error":"#N/A"},null,null,null,""]
[{"$error":"#N/A"},null,null,null,""]
[{"$error":"#N/A"},null,null,null,""]
[{"$error":"#N/A"},null,null,null,""]
[{"$error":"#N/A"},null,null,null,""]
[{"$error":"#N/A"},null,null,null,""]
[{"$error":"#N/A"},null,null,null,""]
[{"$error":"#N/A"},null,null,null,""]
[{"$error":"#N/A"},null,null,null,""]
[{"$error":"#N/A"},null,null,null,""]
[{"$error":"#N/A"},null,null,null,""]
[{"$error":"#N/A"},null,null,null,""]
[{"$error":"#N/A"},null,null,null,""]
[{"$error":"#N/A"},null,null,null,""]
[{"$error":"#N/A"},null,null,null,""]
[{"$error":"#N/A"},null,null,null,""]
[{"$error":"#N/A"},null,null,null,""]
[{"$error":"#N/A"},null,null,null,""]
[{"$error":"#N/A"},null,null,null,""]
[{"$error":"#N/A"},null,null,null,""]
[{"$error":"#N/A"},null,null,null,""]
[{"$error":"#N/A"},null,null,null,""]
[{"$error":"#N/A"},null,null,null,""]
[{"$error":"#N/A"},null,null,null,""]
[{"$error":"#N/A"},null,null,null,""]
[{"$error":"#N/A"},null,null,null,""]
[{"$error":"#N/A"},null,null,null,""]
[{"$error":"#N/A"},null,null,null,""]
[{"$error":"#N/A"},null,null,null,""]
[{"$error":"#N/A"},null,null,null,""]
[{"$error":"#N/A"},null,null,null,""]
[{"$error":"#N/A"},null,null,null,""]
[{"$error":"#N/A"},null,null,null,""]
[{"$error":"#N/A"},null,null,null,""]
[{"$error":"#N/A"},null,null,null,{"$f":"IF(ISNUMBER(A68),A68,\"\")","v":""}]
[{"$error":"#N/A"},null,null,null,""]
[{"$error":"#N/A"},null,null,null,""]
[{"$error":"#N/A"},null,null,null,""]
[{"$error":"#N/A"},null,null,null,""]
[{"$error":"#N/A"},null,null,null,""]
[{"$error":"#N/A"},null,null,null,""]
[{"$error":"#N/A"},null,null,null,""]
[{"$error":"#N/A"},null,null,null,""]
[{"$error":"#N/A"},null,null,null,""]
[{"$error":"#N/A"},null,null,null,""]
[{"$error":"#N/A"},null,null,null,""]
[{"$error":"#N/A"},null,null,null,""]
[{"$error":"#N/A"},null,null,null,""]
[{"$error":"#N/A"},null,null,null,""]
[{"$error":"#N/A"},null,null,null,""]
[{"$error":"#N/A"},null,null,null,""]
[{"$error":"#N/A"},null,null,null,""]
[{"$error":"#N/A"},null,null,null,""]
[{"$error":"#N/A"},null,null,null,""]
[{"$error":"#N/A"},null,null,null,""]
[{"$error":"#N/A"},null,null,null,""]
[{"$error":"#N/A"},null,null,null,""]

{"sheet":"Spearman_Karber","index":12,"n_rows":59,"n_cols":24,"rows_kept":59,"cut":false,"hidden":true,"merged":[[13,10,13,12],[13,20,13,22]]}
[null,null,null,"N",{"$f":"SUM(Input2!D21:D40)","v":0},{"$f":"COUNT(Input2!D21:D40)","v":0}]
[]
["Concentration","N before","Survival","Response","Proportion","Smoothed","Adjusted","<- This smoothed values are alternative calculation, not used"]
[{"$f":"IF(Start!$B$17=\"input1\",\"\", (Input2!$D$20))","v":{"$error":"#N/A"}},{"$f":"IF(Input2!$D$21=\"\",\"\", AVERAGE(Input2!$D$21:$D$40))","v":""},{"$f":"IF(Input2!$D$21=\"\",\"\", AVERAGE(Input2!$D$45:$D$64))","v":""},{"$f":"IF(A4=\"\",\"\", B4-C4)","v":{"$error":"#N/A"}},{"$f":"IF(A4=\"\", \"\",D4/B4)","v":{"$error":"#N/A"}},{"$f":"IF(E4>=MAX(E$2:E3),IF(E4>=E5,F5, E4), IF(F5=AVERAGE(E$2:E5), F5, AVERAGE(E$2:E4)))","v":{"$error":"#N/A"}},{"$f":"IF(F4=\"\",\"\",(F4-MIN(F$4:F$11))/(MAX(F$4:F$11)-MIN(F$4:F$11)))","v":{"$error":"#N/A"}},"Betw 0 & 1","# partial mortalities"]
[{"$f":"IF(Start!$B$17=\"input1\",\"\", (Input2!$E$20))","v":{"$error":"#N/A"}},{"$f":"IF(Input2!$E$21=\"\",\"\", AVERAGE(Input2!$E$21:$E$40))","v":""},{"$f":"IF(Input2!$E$21=\"\",\"\", AVERAGE(Input2!$E$45:$E$64))","v":""},{"$error":"#N/A"},{"$f":"IF(A5=\"\", \"\",D5/B5)","v":{"$error":"#N/A"}},{"$f":"IF(E5>=MAX(E$2:E4),IF(E5>=E6,F6, E5), IF(F6=AVERAGE(E$2:E6), F6, AVERAGE(E$2:E5)))","v":{"$error":"#N/A"}},{"$f":"IF(F5=\"\",\"\",(F5-MIN(F$4:F$11))/(MAX(F$4:F$11)-MIN(F$4:F$11)))","v":{"$error":"#N/A"}},{"$f":"AND(E5>0,E5<1)","v":{"$error":"#N/A"}},{"$f":"COUNTIF(H5:H11,TRUE)","v":0}]
[{"$f":"IF(Start!$B$17=\"input1\",\"\", (Input2!$F$20))","v":{"$error":"#N/A"}},{"$f":"IF(Input2!$F$21=\"\",\"\", AVERAGE(Input2!$F$21:$F$40))","v":""},{"$f":"IF(Input2!$F$21=\"\",\"\", AVERAGE(Input2!$F$45:$F$64))","v":""},{"$error":"#N/A"},{"$error":"#N/A"},{"$f":"IF(E6>=MAX(E$2:E5),IF(E6>=E7,F7, E6), IF(F7=AVERAGE(E$2:E7), F7, AVERAGE(E$2:E6)))","v":{"$error":"#N/A"}},{"$error":"#N/A"},{"$f":"AND(E6>0,E6<1)","v":{"$error":"#N/A"}}]
[{"$f":"IF(Start!$B$17=\"input1\",\"\", (Input2!$G$20))","v":{"$error":"#N/A"}},{"$f":"IF(Input2!$G$21=\"\",\"\", AVERAGE(Input2!$G$21:$G$40))","v":""},{"$f":"IF(Input2!$G$21=\"\",\"\", AVERAGE(Input2!$G$45:$G$64))","v":""},{"$error":"#N/A"},{"$error":"#N/A"},{"$f":"IF(E7>=MAX(E$2:E6),IF(E7>=E8,F8, E7), IF(F8=AVERAGE(E$2:E8), F8, AVERAGE(E$2:E7)))","v":{"$error":"#N/A"}},{"$error":"#N/A"},{"$error":"#N/A"},"zero/100 mortality"]
[{"$f":"IF(Start!$B$17=\"input1\",\"\", (Input2!$H$20))","v":{"$error":"#N/A"}},{"$f":"IF(Input2!$H$21=\"\",\"\", AVERAGE(Input2!$H$21:$H$40))","v":""},{"$f":"IF(Input2!$H$21=\"\",\"\", AVERAGE(Input2!$H$45:$H$64))","v":""},{"$f":"IF(A8=\"\",\"\", B8-C8)","v":{"$error":"#N/A"}},{"$error":"#N/A"},{"$f":"IF(E8>=MAX(E$2:E7),IF(E8>=E9,F9, E8), IF(F9=AVERAGE(E$2:E9), F9, AVERAGE(E$2:E8)))","v":{"$error":"#N/A"}},{"$error":"#N/A"},{"$error":"#N/A"},{"$f":"IF(AND(N16,N17),TRUE,FALSE)","v":{"$error":"#N/A"}}]
[{"$f":"IF(Start!$B$17=\"input1\",\"\", (Input2!$I$20))","v":{"$error":"#N/A"}},{"$f":"IF(Input2!$I$21=\"\",\"\", AVERAGE(Input2!$I$21:$I$40))","v":""},{"$f":"IF(Input2!$I$21=\"\",\"\", AVERAGE(Input2!$I$45:$I$64))","v":""},{"$error":"#N/A"},{"$f":"IF(A9=\"\", \"\",D9/B9)","v":{"$error":"#N/A"}},{"$f":"IF(E9>=MAX(E$2:E8),IF(E9>=E10,F10, E9), IF(F10=AVERAGE(E$2:E10), F10, AVERAGE(E$2:E9)))","v":{"$error":"#N/A"}},{"$error":"#N/A"},{"$error":"#N/A"}]
[{"$f":"IF(Start!$B$17=\"input1\",\"\", (Input2!$J$20))","v":{"$error":"#N/A"}},{"$f":"IF(Input2!$J$21=\"\",\"\", AVERAGE(Input2!$J$21:$J$40))","v":""},{"$f":"IF(Input2!$J$21=\"\",\"\", AVERAGE(Input2!$J$45:$J$64))","v":""},{"$error":"#N/A"},{"$f":"IF(A10=\"\", \"\",D10/B10)","v":{"$error":"#N/A"}},{"$f":"IF(E10>=MAX(E$2:E9),IF(E10>=E11,F11, E10), IF(F11=AVERAGE(E$2:E11), F11, AVERAGE(E$2:E10)))","v":{"$error":"#N/A"}},{"$error":"#N/A"},{"$error":"#N/A"},"zero mortality all concentrations"]
[{"$f":"IF(Start!$B$17=\"input1\",\"\", (Input2!$K$20))","v":{"$error":"#N/A"}},{"$f":"IF(Input2!$K$21=\"\",\"\", AVERAGE(Input2!$K$21:$K$40))","v":""},{"$f":"IF(Input2!$K$21=\"\",\"\", AVERAGE(Input2!$K$45:$K$64))","v":""},{"$error":"#N/A"},{"$error":"#N/A"},{"$f":"IF(E11>=MAX(E$2:E10), E11, AVERAGE(E$2:E11))","v":{"$error":"#N/A"}},{"$error":"#N/A"},{"$error":"#N/A"},{"$f":"MAX(D4:D11)=0","v":{"$error":"#N/A"}},null,"2022-07-06","Modified Col D to I (M3 to M8) to use column B and not the previous \"M#\" column."]
[{"$f":"COUNT(A4:A11)","v":0},null,null,null,null,null,null,null,null,{"$f":"(G16-MIN(G16:G23))/(MAX(G16:G23)-MIN(G16:G23))","v":{"$error":"#VALUE!"}},"fails if min and max the same value so divide by zero"]
[null,null,null,null,null,null,null,null,null,"(G16-min(G16:G23))/(max(G16:G23)-min(G16:G23))"]
[null,null,null,null,null,null,"Smoothed",null,null,null,"Spearman_Karber",null,null,null,null,null,null,null,null,null,"Trimmed_Spearman_Karber"]
["Conc.","Proportion","M2","M3","M4","M5","M6","M7","M8","adjusted","m","V","LC50","Conditions","Conditions",null,null,null,"Trim","Trimmed p","m","V","LC50"]
[{"$f":"A4","v":{"$error":"#N/A"}},{"$f":"E4","v":{"$error":"#N/A"}},{"$f":"IF(B17<B16,((B17+B16)/2),B16)","v":{"$error":"#N/A"}},{"$f":"IF(ISNUMBER(A18), IF(AND(B18<B17,B18<B16),(B18+B17+B16)/3,B16),\"\")","v":""},{"$f":"IF(ISNUMBER(A19), IF(AND(B19<B18,B19<B17,B19<B16),(B19+B18+B17+B16)/4,B16),\"\")","v":""},{"$f":"IF(ISNUMBER(A20), IF(AND(B20<B19,B20<B18,B20<B17,B20<B16),((B20+B19+B18+B17+B16)/5),B16),\"\")","v":""},{"$f":"IF(ISNUMBER(A21), IF(AND(B21<B20,B21<B19,B21<B18,B21<B17,B21<B16),(B21+B20+B19+B18+B17+B16)/6,B16),\"\")","v":""},{"$f":"IF(ISNUMBER(A22), IF(AND(B22<B21,B22<B20,B22<B19,B22<B18,B22<B17,B22<B16),(B22+B21+B20+B19+B18+B17+B16)/7,B16),\"\")","v":""},{"$f":"IF(ISNUMBER(A23), IF(AND(B23<B22,B23<B21,B23<B20,B23<B19,B23<B18,B23<B17,B23<B16),(B23+B22+B21+B20+B19+B18+B17+B16)/8,B16),\"\")","v":""},{"$f":"IF(ISNUMBER(A16), (INDIRECT($D$25&16)-MIN(INDIRECT($D$25&16):INDIRECT($D$25&23)))/(MAX(INDIRECT($D$25&16):INDIRECT($D$25&23))-MIN(INDIRECT($D$25&16):INDIRECT($D$25&23))),\"\")","v":""},null,null,null,{"$f":"J17=0","v":false},"<-1","Checks for J17 = 0",null,null,{"$f":"IF(MAX(J17,(1-MAX(J17:J23)))>0.5,1-MAX(J17,(1-MAX(J17:J23))),MAX(J17,(1-MAX(J17:J23))))","v":0}]
[{"$f":"A5","v":{"$error":"#N/A"}},{"$f":"E5","v":{"$error":"#N/A"}},{"$f":"IF(B17<B16,((B17+B16)/2),B17)","v":{"$error":"#N/A"}},{"$f":"IF(ISNUMBER(A18), IF(AND(B18<B17,B18<B16),(B18+B17+B16)/3,IF(AND(B18<B17,B18>=B16), (B17+B18)/2, B17)))","v":false},{"$f":"IF(ISNUMBER(A19), IF(AND(B19<B18,B19<B17,B19<B16),(B19+B18+B17+B16)/4,IF(AND(B19<B18,B19<B17,B19>=B16),(B19+B18+B17)/3,B17)),\"\")","v":""},{"$f":"IF(ISNUMBER(A20),IF(AND(B20<B19,B20<B18,B20<B17,B20<B16),((B20+B19+B18+B17+B16)/5),IF(AND(B20<B19,B20<B18,B20<B17,B20>=B16),((B20+B19+B18+B17)/4),B17)),\"\")","v":""},{"$f":"IF(ISNUMBER(A21),  IF(AND(B21<B20,B21<B19,B21<B18,B21<B17,B21<B16),(B21+B20+B19+B18+B17+B16)/6,IF(AND(B21<B20,B21<B19,B21<B18,B21<B17,B21>=B16),(B21+B20+B19+B18+B17)/5,B17)),\"\")","v":""},{"$f":"IF(ISNUMBER(A22),  IF(AND(B22<B21,B22<B20,B22<B19,B22<B18,B22<B17,B22<B16),(B22+B21+B20+B19+B18+B17+B16)/7,IF(AND(B22<B21,B22<B20,B22<B19,B22<B18,B22<B17,B22>=B16),(B22+B21+B20+B19+B18+B17)/6,B17)),\"\")","v":""},{"$f":"IF(ISNUMBER(A23),  IF(AND(B23<B22,B23<B21,B23<B20,B23<B19,B23<B18,B23<B17,B23<B16),(B23+B22+B21+B20+B19+B18+B17+B16)/8,IF(AND(B23<B22,B23<B21,B23<B20,B23<B19,B23<B18,B23<B17,B23>=B16),(B23+B22+B21+B20+B19+B18+B17)/7,B17)),\"\")","v":""},{"$f":"IF(ISNUMBER(A17), (INDIRECT($D$25&17)-$J$16)/(1-$J$16),\"\")","v":""},{"$f":"IF(A18=\"\",\"\",((LOG10(A17)+LOG10(A18))*(J18-J17))/2)","v":{"$error":"#N/A"}},null,null,{"$f":"INDIRECT(\"j\"&15+D24)=1","v":{"$error":"#N/A"}},"<-2","Checks for J13 offset by D24 = 1",null,null,null,{"$f":"IF(J17=\"\",\"\",IF(((J17-$S$16)/(1-2*$S$16))<0,0,IF(((J17-$S$16)/(1-2*$S$16))>1,1,((J17-$S$16)/(1-2*$S$16)))))","v":""},{"$f":"IF(ISNUMBER(T18)=FALSE,\"\",IF(OR(T17<0,T17>1),\"\",(LOG10(A17)+LOG10(A18))*(T18-T17)/2))","v":""}]
[{"$f":"A6","v":{"$error":"#N/A"}},{"$f":"E6","v":{"$error":"#N/A"}},null,{"$f":"IF(ISNUMBER(A18),IF(AND(B18<B17,B18<B16),(B18+B17+B16)/3,IF(AND(B18<B17,B18>=B16),(B17+B18)/2,B18)),\"\")","v":""},{"$f":"IF(ISNUMBER(A19), IF(AND(B19<B18,B19<B17,B19<B16),(B19+B18+B17+B16)/4,IF(AND(B19<B18,B19<B17,B19>=B16),(B19+B18+B17)/3,IF(AND(B19<B18,B19>=B17,B19>=B16),(B19+B18)/2,B18))),\"\")","v":""},{"$f":"IF(ISNUMBER(A20), IF(AND(B20<B19,B20<B18,B20<B17,B20<B16),((B20+B19+B18+B17+B16)/5),IF(AND(B20<B19,B20<B18,B20<B17,B20>=B16),((B20+B19+B18+B17)/4),IF(AND(B20<B19,B20<B18,B20>=B17,B20>=B16),((B20+B19+B18)/3),B18))),\"\")","v":""},{"$f":"IF(ISNUMBER(A21), IF(AND(B21<B20,B21<B19,B21<B18,B21<B17,B21<B16),(B21+B20+B19+B18+B17+B16)/6,IF(AND(B21<B20,B21<B19,B21<B18,B21<B17,B21>=B16),(B21+B20+B19+B18+B17)/5,IF(AND(B21<B20,B21<B19,B21<B18,B21>=B17,B21>=B16),(B21+B20+B19+B18)/4,B18))),\"\")","v":""},{"$f":"IF(ISNUMBER(A22), IF(AND(B22<B21,B22<B20,B22<B19,B22<B18,B22<B17,B22<B16),(B22+B21+B20+B19+B18+B17+B16)/7,IF(AND(B22<B21,B22<B20,B22<B19,B22<B18,B22<B17,B22>=B16),(B22+B21+B20+B19+B18+B17)/6,IF(AND(B22<B21,B22<B20,B22<B19,B22<B18,B22>=B17,B22>=B16),(B22+B21+B20+B19+B18)/5,B18))),\"\")","v":""},{"$f":"IF(ISNUMBER(A23), IF(AND(B23<B22,B23<B21,B23<B20,B23<B19,B23<B18,B23<B17,B23<B16),(B23+B22+B21+B20+B19+B18+B17+B16)/8,IF(AND(B23<B22,B23<B21,B23<B20,B23<B19,B23<B18,B23<B17,B23>=B16),(B23+B22+ B21+B20+B19+B18+B17)/7,IF(AND(B23<B22,B23<B21,B23<B20,B23<B19,B23<B18,B23>=B17,B23>=B16),(B23+B22+B21+B20+B19+B18)/6,B18))),\"\")","v":""},{"$f":"IF(ISNUMBER(A18), (INDIRECT($D$25&18)-$J$16)/(1-$J$16),\"\")","v":""},{"$f":"IF(A19=\"\",\"\",((LOG10(A18)+LOG10(A19))*(J19-J18))/2)","v":{"$error":"#N/A"}},{"$f":"IF(A19=\"\",\"\",J18*(1-J18)*(LOG10(A19)-LOG10(A17))^2/($F$1*($E$1-1)))","v":{"$error":"#N/A"}},null,{"$f":"COUNT(A16:A23)>4","v":false},"<-3","Checks for Count(A16:A23)>4",null,null,null,{"$f":"IF(J18=\"\",\"\",IF(((J18-$S$16)/(1-2*$S$16))<0,0,IF(((J18-$S$16)/(1-2*$S$16))>1,1,((J18-$S$16)/(1-2*$S$16)))))","v":""},{"$f":"IF(ISNUMBER(T19)=FALSE,\"\",IF(OR(T18<0,T18>1),\"\",(LOG10(A18)+LOG10(A19))*(T19-T18)/2))","v":""},{"$f":"IF(T19=\"\",\"\",T18*(1-T18)*(LOG10(A17)-LOG10(A19))^2/($F$1*($E$1-1)))","v":""}]
[{"$f":"A7","v":{"$error":"#N/A"}},{"$f":"E7","v":{"$error":"#N/A"}},null,null,{"$f":"IF(ISNUMBER(A19), IF(AND(B19<B18,B19<B17,B19<B16),(B19+B18+B17+B16)/4,IF(AND(B19<B18,B19<B17,B19>=B16),(B19+B18+B17)/3,IF(AND(B19<B18,B19>=B17,B19>=B16),(B19+B18)/2,B19))),\"\")","v":""},{"$f":"IF(ISNUMBER(A20), IF(AND(B20<B19,B20<B18,B20<B17,B20<B16),((B20+B19+B18+B17+B16)/5),IF(AND(B20<B19,B20<B18,B20<B17,B20>=B16),((B20+B19+B18+B17)/4),IF(AND(B20<B19,B20<B18,B20>=B17,B20>=B16),((B20+B19+B18)/3),IF(AND(B20<B19,B20>=B18,B20>=B17,B20>=B16),((B20+B19)/2),B19)))),\"\")","v":""},{"$f":"IF(ISNUMBER(A21), IF(AND(B21<B20,B21<B19,B21<B18,B21<B17,B21<B16),(B21+B20+B19+B18+B17+B16)/6,IF(AND(B21<B20,B21<B19,B21<B18,B21<B17,B21>=B16),(B21+B20+B19+B18+B17)/5,IF(AND(B21<B20,B21<B19,B21<B18,B21>=B17,B21>=B16),(B21+B20+B19+B18)/4,IF(AND(B21<B20,B21<B19,B21>=B18,B21>=B17,B21>=B16),(B21+B20+B19)/3,B19)))),\"\")","v":""},{"$f":"IF(ISNUMBER(A22), IF(AND(B22<B21,B22<B20,B22<B19,B22<B18,B22<B17,B22<B16),(B22+B21+B20+B19+B18+B17+B16)/7,IF(AND(B22<B21,B22<B20,B22<B19,B22<B18,B22<B17,B22>=B16),(B22+B21+B20+B19+B18+B17)/6,IF(AND(B22<B21,B22<B20,B22<B19,B22<B18,B22>=B17,B22>=B16),(B22+B21+B20+B19+B18)/5,IF(AND(B22<B21,B22<B20,B22<B19,B22>=B18,B22>=B17,B22>=B16),(B22+B20+B19)/4,B19)))),\"\")","v":""},{"$f":"IF(ISNUMBER(A23), IF(AND(B23<B22,B23<B21,B23<B20,B23<B19,B23<B18,B23<B17,B23<B16),(B23+B22+B21+B20+B19+B18+B17+B16)/8,IF(AND(B23<B22,B23<B21,B23<B20,B23<B19,B23<B18,B23<B17,B23>=B16),(B23+B22+B21+B20+B19+B18+B17)/7,IF(AND(B23<B22,B23<B21,B23<B20,B23<B19,B23<B18,B23>=B17,B23>=B16),(B23+B22+B21+B20+B19+B18)/6,IF(AND(B23<B22,B23<B21,B23<B20,B23<B19,B23>=B18,B23>=B17,B23>=B16),(B23+B22+B20+B19)/5,B19)))),\"\")","v":""},{"$f":"IF(ISNUMBER(A19), (INDIRECT($D$25&19)-$J$16)/(1-$J$16),\"\")","v":""},{"$error":"#N/A"},{"$f":"IF(A20=\"\",\"\",J19*(1-J19)*(LOG10(A20)-LOG10(A18))^2/($F$1*($E$1-1)))","v":{"$error":"#N/A"}},null,{"$f":"MAX(IF($J$16:$J$23<0.5,$J$16:$J$23))","v":0},null,"Max partial mortality<0.5",null,null,null,"","",{"$f":"IF(T20=\"\",\"\",T19*(1-T19)*(LOG10(A18)-LOG10(A20))^2/($F$1*($E$1-1)))","v":""}]
[{"$f":"A8","v":{"$error":"#N/A"}},{"$f":"E8","v":{"$error":"#N/A"}},null,null,null,{"$f":"IF(ISNUMBER(A20), IF(AND(B20<B19,B20<B18,B20<B17,B20<B16),((B20+B19+B18+B17+B16)/5),IF(AND(B20<B19,B20<B18,B20<B17,B20>=B16),((B20+B19+B18+B17)/4),IF(AND(B20<B19,B20<B18,B20>=B17,B20>=B16),((B20+B19+B18)/3),IF(AND(B20<B19,B20>=B18,B20>=B17,B20>=B16),((B20+B19)/2),B20)))),\"\")","v":""},{"$f":"IF(ISNUMBER(A21), IF(AND(B21<B20,B21<B19,B21<B18,B21<B17,B21<B16),(B21+B20+B19+B18+B17+B16)/6,IF(AND(B21<B20,B21<B19,B21<B18,B21<B17,B21>=B16),(B21+B20+B19+B18+B17)/5, IF(AND(B21<B20,B21<B19,B21<B18,B21>=B17,B21>=B16),(B21+B20+B19+B18)/4, IF(AND(B21<B20,B21<B19,B21>=B18,B21>=B17,B21>=B16),(B21+B20+B19)/3,IF(AND(B21<B20,B21>=B19,B21>=B18,B21>=B17,B21>=B16),(B21+B20)/2, B20))))),\"\")","v":""},{"$f":"IF(ISNUMBER(A22), IF(AND(B22<B21,B22<B20,B22<B19,B22<B18,B22<B17,B22<B16),(B22+B21+B20+B19+B18+B17+B16)/7,IF(AND(B22<B21,B22<B20,B22<B19,B22<B18,B22<B17,B22>=B16),(B22+B21+B20+B19+B18+B17)/6, IF(AND(B22<B21,B22<B20,B22<B19,B22<B18,B22>=B17,B22>=B16),(B22+B21+B20+B19+B18)/5, IF(AND(B22<B21,B22<B20,B22<B19,B22>=B18,B22>=B17,B22>=B16),(B22+B21+B20+B19)/4,IF(AND(B22<B21,B22<B20,B22>=B19,B22>=B18,B22>=B17,B22>=B16),(B22+B21+B20)/3, B20))))),\"\")","v":""},{"$f":"IF(ISNUMBER(A23), IF(AND(B23<B22,B23<B21,B23<B20,B23<B19,B23<B18,B23<B17,B23<B16),(B23+B22+B21+B20+B19+B18+B17+B16)/8,IF(AND(B23<B22,B23<B21,B23<B20,B23<B19,B23<B18,B23<B17,B23>=B16),(B23+B22+B21+B20+B19+B18+B17)/7, IF(AND(B23<B22,B23<B21,B23<B20,B23<B19,B23<B18,B23>=B17,B23>=B16),(B23+B22+B21+B20+B19+B18)/6, IF(AND(B23<B22,B23<B21,B23<B20,B23<B19,B23>=B18,B23>=B17,B23>=B16),(B23+B22+B21+B20+B19)/5,IF(AND(B23<B22,B23<B21,B23<B20,B23>=B19,B23>=B18,B23>=B17,B23>=B16),(B23+B22+B21+B20)/4, B20))))),\"\")","v":""},{"$f":"IF(ISNUMBER(A20), (INDIRECT($D$25&20)-$J$16)/(1-$J$16),\"\")","v":""},{"$error":"#N/A"},{"$error":"#N/A"},null,{"$f":"MIN(IF($J$16:$J$23>=0.5,$J$16:$J$23))","v":0},null,"Min partial mortality>0.5",null,null,null,"","",""]
[{"$error":"#N/A"},{"$error":"#N/A"},null,null,null,null,{"$f":"IF(ISNUMBER(A21), IF(AND(B21<B20,B21<B19,B21<B18,B21<B17,B21<B16),(B21+B20+B19+B18+B17+B16)/6,IF(AND(B21<B20,B21<B19,B21<B18,B21<B17,B21>=B16),(B21+B20+B19+B18+B17)/5, IF(AND(B21<B20,B21<B19,B21<B18,B21>=B17,B21>=B16),(B21+B20+B19+B18)/4, IF(AND(B21<B20,B21<B19,B21>=B18,B21>=B17,B21>=B16),(B21+B20+B19)/3,IF(AND(B21<B20,B21>=B19,B21>=B18,B21>=B17,B21>=B16),(B21+B20)/2, B21))))),\"\")","v":""},{"$f":"IF(ISNUMBER(A22), IF(AND(B22<B21,B22<B20,B22<B19,B22<B18,B22<B17,B22<B16),(B22+B21+B20+B19+B18+B17+B16)/7,IF(AND(B22<B21,B22<B20,B22<B19,B22<B18,B22<B17,B22>=B16),(B22+B21+B20+B19+B18+B17)/6, IF(AND(B22<B21,B22<B20,B22<B19,B22<B18,B22>=B17,B22>=B16),(B22+B21+B20+B19+B18)/5, IF(AND(B22<B21,B22<B20,B22<B19,B22>=B18,B22>=B17,B22>=B16),(B22+B21+B20+B19)/4,IF(AND(B22<B21,B22<B20,B22>=B19,B22>=B18,B22>=B17,B22>=B16),(B22+B21+B20)/3, IF(AND(B22<B21,B22>=B20,B22>=B19,B22>=B18,B22>=B17,B22>=B16),(B22+B21)/2,B21)))))),\"\")","v":""},{"$f":"IF(ISNUMBER(A23), IF(AND(B23<B22,B23<B21,B23<B20,B23<B19,B23<B18,B23<B17,B23<B16),(B23+B22+B21+B20+B19+B18+B17+B16)/8,IF(AND(B23<B22,B23<B21,B23<B20,B23<B19,B23<B18,B23<B17,B23>=B16),(B23+B22+B21+B20+B19+B18+B17)/7, IF(AND(B23<B22,B23<B21,B23<B20,B23<B19,B23<B18,B23>=B17,B23>=B16),(B23+B22+B21+B20+B19+B18)/6, IF(AND(B23<B22,B23<B21,B23<B20,B23<B19,B23>=B18,B23>=B17,B23>=B16),(B23+B22+B21+B20+B19)/5,IF(AND(B23<B22,B23<B21,B23<B20,B23>=B19,B23>=B18,B23>=B17,B23>=B16),(B23+B22+B21+B20)/4, IF(AND(B23<B22,B23<B21,B23>=B20,B23>=B19,B23>=B18,B23>=B17,B23>=B16),(B23+B22+B21)/3,B21)))))),\"\")","v":""},{"$f":"IF(ISNUMBER(A21), (INDIRECT($D$25&21)-$J$16)/(1-$J$16),\"\")","v":""},{"$error":"#N/A"},{"$error":"#N/A"},null,{"$f":"IF(AND(N19<0.5,N20>=0.5),TRUE,FALSE)","v":false},"<-5","Partial mortalities span 0.5",null,null,null,"","",""]
[{"$error":"#N/A"},{"$error":"#N/A"},null,null,null,null,null,{"$f":"IF(ISNUMBER(A22), IF(AND(B22<B21,B22<B20,B22<B19,B22<B18,B22<B17,B22<B16),(B22+B21+B20+B19+B18+B17+B16)/7,IF(AND(B22<B21,B22<B20,B22<B19,B22<B18,B22<B17,B22>=B16),(B22+B21+B20+B19+B18+B17)/6, IF(AND(B22<B21,B22<B20,B22<B19,B22<B18,B22>=B17,B22>=B16),(B22+B21+B20+B19+B18)/5, IF(AND(B22<B21,B22<B20,B22<B19,B22>=B18,B22>=B17,B22>=B16),(B22+B21+B20+B19)/4,IF(AND(B22<B21,B22<B20,B22>=B19,B22>=B18,B22>=B17,B22>=B16),(B22+B21+B20)/3, IF(AND(B22<B21,B22>=B20,B22>=B19,B22>=B18,B22>=B17,B22>=B16),(B22+B21)/2,B22)))))),\"\")","v":""},{"$f":"IF(ISNUMBER(A23), IF(AND(B23<B22,B23<B21,B23<B20,B23<B19,B23<B18,B23<B17,B23<B16),(B23+B22+B21+B20+B19+B18+B17+B16)/8,IF(AND(B23<B22,B23<B21,B23<B20,B23<B19,B23<B18,B23<B17,B23>=B16),(B23+B22+B21+B20+B19+B18+B17)/7, IF(AND(B23<B22,B23<B21,B23<B20,B23<B19,B23<B18,B23>=B17,B23>=B16),(B23+B22+B21+B20+B19+B18)/6, IF(AND(B23<B22,B23<B21,B23<B20,B23<B19,B23>=B18,B23>=B17,B23>=B16),(B23+B22+B21+B20+B19)/5,IF(AND(B23<B22,B23<B21,B23<B20,B23>=B19,B23>=B18,B23>=B17,B23>=B16),(B23+B22+B21+B20)/4, IF(AND(B23<B22,B23<B21,B23>=B20,B23>=B19,B23>=B18,B23>=B17,B23>=B16),(B23+B22+B21)/3,IF(AND(B23<B22,B23>=B21,B23>=B20,B23>=B19,B23>=B18,B23>=B17,B23>=B16),(B23+B22)/2,B22))))))),\"\")","v":""},{"$f":"IF(ISNUMBER(A22), (INDIRECT($D$25&22)-$J$16)/(1-$J$16),\"\")","v":""},{"$error":"#N/A"},{"$error":"#N/A"},null,null,null,null,null,null,null,"","",""]
[{"$error":"#N/A"},{"$error":"#N/A"},null,null,null,null,{"$f":"IF(ISNUMBER(A23), IF(AND(B23<=B20,B23<=B19,B23<=B18,B23<=B17,B23<=B16),(B23+B20+B19+B18+B17+B16)/6,IF(AND(B23<=B20,B23<=B19,B23<=B18,B23<=B17,B23>B16),(B23+B20+B19+B18+B17)/5, IF(AND(B23<=B20,B23<=B19,B23<=B18,B23>B17,B23>B16),(B23+B20+B19+B18)/4, IF(AND(B23<=B20,B23<=B19,B23>B18,B23>B17,B23>B16),(B23+B20+B19)/3,IF(AND(B23<=B20,B23>B19,B23>B18,B23>B17,B23>B16),(B23+B20)/2, B23))))),\"\")","v":""},null,{"$f":"IF(ISNUMBER(A23), IF(AND(B23<B22,B23<B21,B23<B20,B23<B19,B23<B18,B23<B17,B23<B16),(B23+B22+B21+B20+B19+B18+B17+B16)/8,IF(AND(B23<B22,B23<B21,B23<B20,B23<B19,B23<B18,B23<B17,B23>=B16),(B23+B22+B21+B20+B19+B18+B17)/7, IF(AND(B23<B22,B23<B21,B23<B20,B23<B19,B23<B18,B23>=B17,B23>=B16),(B23+B22+B21+B20+B19+B18)/6, IF(AND(B23<B22,B23<B21,B23<B20,B23<B19,B23>=B18,B23>=B17,B23>=B16),(B23+B22+B21+B20+B19)/5,IF(AND(B23<B22,B23<B21,B23<B20,B23>=B19,B23>=B18,B23>=B17,B23>=B16),(B23+B22+B21+B20)/4, IF(AND(B23<B22,B23<B21,B23>=B20,B23>=B19,B23>=B18,B23>=B17,B23>=B16),(B23+B22+B21)/3,IF(AND(B23<B22,B23>=B21,B23>=B20,B23>=B19,B23>=B18,B23>=B17,B23>=B16),(B23+B22)/2,B23))))))),\"\")","v":""},{"$f":"IF(ISNUMBER(A23), (INDIRECT($D$25&23)-$J$16)/(1-$J$16),\"\")","v":""},"","",null,"If J17 = 0 and J23 = 1, then use standard SK",null,null,null,null,null,"",""]
[null,null,"MaxConc_y",{"$f":"MATCH(MAX(A16:A23), A16:A23)","v":{"$error":"#N/A"}},null,"Max_adj_index",{"$f":"MATCH(MAX(J16:J23), J16:J23)","v":{"$error":"#N/A"}},null,null,"Σ",{"$f":"SUM(K16:K23)","v":{"$error":"#N/A"}},{"$f":"SUM(L16:L23)","v":{"$error":"#N/A"}},{"$f":"IF(AND($J$17=0, INDIRECT(\"j\"&15+G24)=1),10^(K24), \"\")","v":{"$error":"#N/A"}},{"$f":"IF($I$11=TRUE,\">\"&MAX(A16:A23),IF($M$24>=MAX($A$16:$A$23),\">\"&MAX(A16:A23),M24))","v":{"$error":"#N/A"}},{"$f":"J17=0","v":false},null,null,null,null,"Σ",{"$f":"SUM(U16:U23)","v":0},{"$f":"SUM(V16:V23)","v":0},{"$f":"10^(U24)","v":1},{"$f":"IF($I$11=TRUE,\">\"&MAX($A$29:$A$36),IF(W24>=MAX($A$16:$A$23),\">\"&MAX($A$16:$A$23),W24))","v":{"$error":"#N/A"}}]
[null,null,"MaxConc_x",{"$f":"IF(D24=8,\"I\", IF(D24=7, \"H\", IF(D24=6, \"G\", IF(D24=5,\"F\", IF(D24=4, \"E\", IF(D24=4, \"D\", IF(D24=3, \"C\", \"\")))))))","v":{"$error":"#N/A"}},null,"Max_adj_val",{"$f":"INDIRECT(\"j\"&15+G24)","v":{"$error":"#N/A"}},null,null,"Upper 95th CI",{"$f":"K24+NORMINV(0.975, 0,1)*SQRT(L24)","v":{"$error":"#N/A"}},null,{"$f":"IF(AND(OR(J17>0, J18>0, J19>0, J20>0, J21>0,J22>0),OR(J17<1, J18<1, J19<1, J20<1,J21<1,J22<1)), 10^(K25), \"\")","v":""},{"$f":"IF($I$11=TRUE,\"NA\",IF($M$24>=MAX($A$16:$A$23),\"NA\",M25))","v":{"$error":"#N/A"}},null,null,null,null,null,"Upper 95th CI",{"$f":"U24+NORMINV(0.975, 0,1)*SQRT(V24)","v":0},null,{"$f":"IF(AND(OR(T17>0, T18>0, T19>0, T20>0, T21>0,T22>0),OR(T17<1, T18<1, T19<1, T20<1,T21<1,T22<1)), 10^(U25), \"\")","v":""},{"$f":"IF($I$11=TRUE,\"NA\",IF(W24>=MAX($A$16:$A$23),\"NA\",W25))","v":{"$error":"#N/A"}}]
[null,null,null,null,null,null,null,null,null,"Lower 95th CI",{"$f":"K24-NORMINV(0.975, 0,1)*SQRT(L24)","v":{"$error":"#N/A"}},null,{"$f":"IF(AND(OR(J17>0, J18>0, J19>0, J20>0,J21>0,J22>0),OR(J17<1, J18<1, J19<1, J20<1,J21<1,J22<1)),10^(K26), \"\")","v":""},{"$f":"IF($I$11=TRUE,\"NA\",IF($M$24>=MAX($A$16:$A$23),\"NA\",M26))","v":{"$error":"#N/A"}},null,null,null,null,null,"Lower 95th CI",{"$f":"U24-NORMINV(0.975, 0,1)*SQRT(V24)","v":0},null,{"$f":"IF(AND(OR(T17>0, T18>0, T19>0, T20>0,T21>0,T22>0),OR(T17<1, T18<1, T19<1, T20<1,T21<1,T22<1)),10^(U26), \"\")","v":""},{"$f":"IF($I$11=TRUE,\"NA\",IF(W24>=MAX($A$16:$A$23),\"NA\",W26))","v":{"$error":"#N/A"}}]
["Probit model"]
["Conc","Raw Adj Prop","probits","X_SSE","ANOVA Table","8 concentrations"]
[{"$f":"IF(ISNUMBER(A4),LOG10(A4+1),\"\")","v":""},{"$f":"IF(A29=\"\",\"\",IF((B16-MIN(B$16:B$23))/(MAX(B$16:B$23)-MIN(B$16:B$23))=0,0.001,IF((B16-MIN(B$16:B$23))/(MAX(B$16:B$23)-MIN(B$16:B$23))=1, 0.999, (B16-MIN(B$16:B$23))/(MAX(B$16:B$23)-MIN(B$16:B$23)))))","v":""},{"$f":"IF(B29=\"\",\"\",NORMSINV(B29))","v":""},{"$f":"IF(A29=\"\",\"\",(A29-$G$37)^2)","v":""},null,"b1","b0",null,"S2","ModelParameters","LC50",null,null,"Final Probit LC50",{"$f":"IF($A$12=6,J52,IF($A$12=7,J41,IF($A$12=8,J30,\"\")))","v":""},{"$f":"IF($I$11=TRUE,\">\"&MAX($A$29:$A$36),IF(LOG10(O29)>=MAX($A$29:$A$36),\">\"&10^(MAX($A$29:$A$36))-1,O29))","v":{"$error":"#N/A"}}]
[{"$f":"IF(ISNUMBER(A5),LOG10(A5+1),\"\")","v":""},{"$f":"IF(A30=\"\",\"\",IF((B17-MIN(B$16:B$23))/(MAX(B$16:B$23)-MIN(B$16:B$23))=0,0.001,IF((B17-MIN(B$16:B$23))/(MAX(B$16:B$23)-MIN(B$16:B$23))=1, 0.999, (B17-MIN(B$16:B$23))/(MAX(B$16:B$23)-MIN(B$16:B$23)))))","v":""},{"$f":"IF(B30=\"\",\"\",NORMSINV(B30))","v":""},{"$f":"IF(A30=\"\",\"\",(A30-$G$37)^2)","v":""},null,{"$f":"LINEST(Spearman_Karber!C29:C36,Spearman_Karber!A29:A36,1,1)","v":{"$error":"#VALUE!"}},{"$error":"#VALUE!"},"Coef",{"$f":"G35/F30^2*(1+1/F35+(J30-G37)^2/G36)","v":{"$error":"#VALUE!"}},{"$f":"10^(-G30/F30)-1","v":{"$error":"#VALUE!"}},"Dose = (probit - intercept/slope); probit = 0",null,null,"Upper 95th",{"$f":"IF($A$12=6,J53,IF($A$12=7,J42,IF($A$12=8,J31,\"\")))","v":""},{"$f":"IF($I$11=TRUE,\"NA\",IF(LOG10(O29)>=MAX($A$29:$A$36),\"NA\",O30))","v":{"$error":"#N/A"}}]
["","","","",null,{"$error":"#VALUE!"},{"$error":"#VALUE!"},"SE","Upper 95th",{"$f":"J30+(SQRT(I30)*TINV(0.05,G33)/SQRT(F35))","v":{"$error":"#VALUE!"}},"mean + s*TINV(0.05,df)/sqrt(n)",null,null,"Lower 95th",{"$f":"IF($A$12=6,J54,IF($A$12=7,J43,IF($A$12=8,J32,\"\")))","v":""},{"$f":"IF($I$11=TRUE,\"NA\",IF(LOG10(O29)>=MAX($A$29:$A$36),\"NA\",O31))","v":{"$error":"#N/A"}}]
["","","","","R2 ",{"$error":"#VALUE!"},{"$error":"#VALUE!"},"Regression SE","Lower 95th",{"$f":"J30-(SQRT(I30)*TINV(0.05,G33)/SQRT(F35))","v":{"$error":"#VALUE!"}},"mean - s*TINV(0.05,df)/sqrt(n)"]
["","","","","F-statistic",{"$error":"#VALUE!"},{"$error":"#VALUE!"},"df",null,null,null,null,null,"Smoothed?",{"$f":"IF(ISERROR(J16),\"NA\",IF(AND(J16=B16,J17=B17,J18=B18,J19=B19,J20=B20,J21=B21,J22=B22,J23=B23),\"N\",\"Y\"))","v":{"$error":"#N/A"}}]
["","","","","Regression SS",{"$error":"#VALUE!"},{"$error":"#VALUE!"},"Residual SS","orig S2","G35/F30^2*(1+1/F35+(J30-0)^2/G36)"]
["","","","","n ",{"$f":"COUNT(A29:A36)","v":0},{"$f":"G34/G33","v":{"$error":"#VALUE!"}},"MSE","correctted S2 to","G35/F30^2*(1+1/F35+(J30-G37)^2/G36)"]
["","","","",null,null,{"$f":"SUM($D$29:$D$36)","v":0},"Σ(xi-‾x)2",null,"S2 for new x observation = ( MSE/b1^2) * (1+1/n + (xnew-xmean)^2/sum((xi - xmean)^2))"]
["MaxConc_index",{"$f":" MATCH(MAX(A29:A36),A29:A36)","v":{"$error":"#N/A"}},null,null,null,null,{"$f":"AVERAGE($A$29:$A$36)","v":{"$error":"#DIV/0!"}},"meanX"]
["MaxProbit_index",{"$f":"MATCH(MAX(C29:C36),C29:C36)","v":{"$error":"#N/A"}}]
[null,null,null,null,"ANOVA Table","7 concentrations"]
[null,null,null,null,null,"b1","b0",null,"S2","ModelParameters","LC50"]
[null,null,null,null,null,{"$f":"LINEST(Spearman_Karber!C29:C35,Spearman_Karber!A29:A35,1,1)","v":{"$error":"#VALUE!"}},{"$error":"#VALUE!"},"Coef",{"$f":"G46/F41^2*(1+1/F46+(J41-0)^2/G47)","v":{"$error":"#VALUE!"}},{"$f":"10^(-G41/F41)-1","v":{"$error":"#VALUE!"}}]
[null,null,null,null,null,{"$error":"#VALUE!"},{"$error":"#VALUE!"},"SE","Upper 95th",{"$f":"J41+SQRT(I41)*TINV(0.05,G44)/SQRT(F46)","v":{"$error":"#VALUE!"}}]
[null,null,null,null,"R2 ",{"$error":"#VALUE!"},{"$error":"#VALUE!"},"Regression SE","Lower 95th",{"$f":"J41-SQRT(I41)*TINV(0.05,G44)/SQRT(F46)","v":{"$error":"#VALUE!"}}]
[null,null,null,null,"F-statistic",{"$error":"#VALUE!"},{"$error":"#VALUE!"},"df"]
[null,null,null,null,"Regression SS",{"$error":"#VALUE!"},{"$error":"#VALUE!"},"Residual SS"]
[null,null,null,null,"n ",{"$f":"COUNT(A29:A36)","v":0},{"$f":"G45/G44","v":{"$error":"#VALUE!"}},"MSE"]
[null,null,null,null,null,null,{"$f":"SUM($D$29:$D$36)","v":0},"Σ(xi-‾x)2"]
[null,null,null,null,null,null,{"$f":"AVERAGE($A$29:$A$36)","v":{"$error":"#DIV/0!"}},"meanX"]
[]
[null,null,null,null,"ANOVA Table","6 concentrations"]
[null,null,null,null,null,"b1","b0",null,"S2","ModelParameters","LC50"]
[null,null,null,null,null,{"$f":"LINEST(Spearman_Karber!C29:C34,Spearman_Karber!A29:A34,1,1)","v":{"$error":"#VALUE!"}},{"$error":"#VALUE!"},"Coef",{"$f":"G57/F52^2*(1+1/F57+(J52-0)^2/G58)","v":{"$error":"#VALUE!"}},{"$f":"10^(-G52/F52)-1","v":{"$error":"#VALUE!"}}]
[null,null,null,null,null,{"$error":"#VALUE!"},{"$error":"#VALUE!"},"SE","Upper 95th",{"$f":"J52+SQRT(I52)*TINV(0.05,G55)/SQRT(F57)","v":{"$error":"#VALUE!"}}]
[null,null,null,null,"R2 ",{"$error":"#VALUE!"},{"$error":"#VALUE!"},"Regression SE","Lower 95th",{"$f":"J52-SQRT(I52)*TINV(0.05,G55)/SQRT(F57)","v":{"$error":"#VALUE!"}}]
[null,null,null,null,"F-statistic",{"$error":"#VALUE!"},{"$error":"#VALUE!"},"df"]
[null,null,null,null,"Regression SS",{"$error":"#VALUE!"},{"$error":"#VALUE!"},"Residual SS"]
[null,null,null,null,"n ",{"$f":"COUNT(A29:A36)","v":0},{"$f":"G56/G55","v":{"$error":"#VALUE!"}},"MSE"]
[null,null,null,null,null,null,{"$f":"SUM($D$29:$D$36)","v":0},"Σ(xi-‾x)2"]
[null,null,null,null,null,null,{"$f":"AVERAGE($A$29:$A$36)","v":{"$error":"#DIV/0!"}},"meanX"]

{"sheet":"Shapiro","index":13,"n_rows":187,"n_cols":29,"rows_kept":187,"cut":false,"hidden":true,"merged":[[0,20,0,28],[28,9,30,12],[32,9,32,11],[27,10,27,19],[22,10,22,13],[26,1,26,2],[0,0,0,8],[0,10,0,18]]}
["Raw Data",null,null,null,null,null,null,null,null,null,"Centered Data (Xi)",null,null,null,null,null,null,null,null,null,"(Xi - X)2"]
[null,{"$f":"Intermed_Input!B2","v":""},{"$f":"Intermed_Input!C2","v":""},{"$f":"Intermed_Input!D2","v":""},{"$f":"Intermed_Input!E2","v":""},{"$f":"Intermed_Input!F2","v":""},{"$f":"Intermed_Input!G2","v":""},{"$f":"Intermed_Input!H2","v":""},{"$f":"Intermed_Input!I2","v":""},null,null,{"$f":"B2","v":""},{"$f":"C2","v":""},"","","","","","",null,null,{"$f":"B2","v":""},{"$f":"C2","v":""},"","","","","",{"$f":"I2","v":""}]
[1,{"$f":"IF(OR(Intermed_Input!$B$48>=60, B$2=\"\"),\"\",Intermed_Input!B3)","v":{"$error":"#VALUE!"}},{"$f":"IF(OR(Intermed_Input!$B$48>=60, C$2=\"\"),\"\",Intermed_Input!C3)","v":{"$error":"#VALUE!"}},{"$f":"IF(OR(Intermed_Input!$B$48>=60, D$2=\"\"),\"\",Intermed_Input!D3)","v":{"$error":"#VALUE!"}},{"$f":"IF(OR(Intermed_Input!$B$48>=60, E$2=\"\"),\"\",Intermed_Input!E3)","v":{"$error":"#VALUE!"}},{"$f":"IF(OR(Intermed_Input!$B$48>=60, F$2=\"\"),\"\",Intermed_Input!F3)","v":{"$error":"#VALUE!"}},{"$f":"IF(OR(Intermed_Input!$B$48>=60, G$2=\"\"),\"\",Intermed_Input!G3)","v":{"$error":"#VALUE!"}},{"$f":"IF(OR(Intermed_Input!$B$48>=60, H$2=\"\"),\"\",Intermed_Input!H3)","v":{"$error":"#VALUE!"}},{"$f":"IF(OR(Intermed_Input!$B$48>=60, I$2=\"\"),\"\",Intermed_Input!I3)","v":{"$error":"#VALUE!"}},null,1,{"$f":"IF(ISNUMBER(B3),B3-$B$23,\"\")","v":""},{"$f":"IF(ISNUMBER(C3),C3-$C$23,\"\")","v":""},{"$f":"IF(ISNUMBER(D3),D3-$D$23,\"\")","v":""},{"$f":"IF(ISNUMBER(E3),E3-$E$23,\"\")","v":""},{"$f":"IF(ISNUMBER(F3),F3-$F$23,\"\")","v":""},{"$f":"IF(ISNUMBER(G3),G3-$G$23,\"\")","v":""},{"$f":"IF(ISNUMBER(H3),H3-$H$23,\"\")","v":""},{"$f":"IF(ISNUMBER(I3),I3-$I$23,\"\")","v":""},null,1,{"$f":"IF(ISNUMBER(B3),(L3-$O$23)^2,\"\")","v":""},{"$f":"IF(ISNUMBER(C3),(M3-$O$23)^2,\"\")","v":""},{"$f":"IF(ISNUMBER(D3),(N3-$O$23)^2,\"\")","v":""},{"$f":"IF(ISNUMBER(E3),(O3-$O$23)^2,\"\")","v":""},{"$f":"IF(ISNUMBER(F3),(P3-$O$23)^2,\"\")","v":""},"",{"$f":"IF(ISNUMBER(H3),(R3-$O$23)^2,\"\")","v":""},{"$f":"IF(ISNUMBER(I3),(S3-$O$23)^2,\"\")","v":""}]
[2,{"$f":"IF(OR(Intermed_Input!$B$48>=60, B$2=\"\"),\"\",Intermed_Input!B4)","v":{"$error":"#VALUE!"}},{"$f":"IF(OR(Intermed_Input!$B$48>=60, C$2=\"\"),\"\",Intermed_Input!C4)","v":{"$error":"#VALUE!"}},{"$f":"IF(OR(Intermed_Input!$B$48>=60, D$2=\"\"),\"\",Intermed_Input!D4)","v":{"$error":"#VALUE!"}},{"$f":"IF(OR(Intermed_Input!$B$48>=60, E$2=\"\"),\"\",Intermed_Input!E4)","v":{"$error":"#VALUE!"}},{"$f":"IF(OR(Intermed_Input!$B$48>=60, F$2=\"\"),\"\",Intermed_Input!F4)","v":{"$error":"#VALUE!"}},{"$f":"IF(OR(Intermed_Input!$B$48>=60, G$2=\"\"),\"\",Intermed_Input!G4)","v":{"$error":"#VALUE!"}},{"$f":"IF(OR(Intermed_Input!$B$48>=60, H$2=\"\"),\"\",Intermed_Input!H4)","v":{"$error":"#VALUE!"}},{"$f":"IF(OR(Intermed_Input!$B$48>=60, I$2=\"\"),\"\",Intermed_Input!I4)","v":{"$error":"#VALUE!"}},null,2,"","","","",{"$f":"IF(ISNUMBER(F4),F4-$F$23,\"\")","v":""},{"$f":"IF(ISNUMBER(G4),G4-$G$23,\"\")","v":""},{"$f":"IF(ISNUMBER(H4),H4-$H$23,\"\")","v":""},{"$f":"IF(ISNUMBER(I4),I4-$I$23,\"\")","v":""},null,2,"","","","","","","",""]
[3,{"$f":"IF(OR(Intermed_Input!$B$48>=60, B$2=\"\"),\"\",Intermed_Input!B5)","v":{"$error":"#VALUE!"}},{"$f":"IF(OR(Intermed_Input!$B$48>=60, C$2=\"\"),\"\",Intermed_Input!C5)","v":{"$error":"#VALUE!"}},{"$f":"IF(OR(Intermed_Input!$B$48>=60, D$2=\"\"),\"\",Intermed_Input!D5)","v":{"$error":"#VALUE!"}},{"$f":"IF(OR(Intermed_Input!$B$48>=60, E$2=\"\"),\"\",Intermed_Input!E5)","v":{"$error":"#VALUE!"}},{"$f":"IF(OR(Intermed_Input!$B$48>=60, F$2=\"\"),\"\",Intermed_Input!F5)","v":{"$error":"#VALUE!"}},{"$f":"IF(OR(Intermed_Input!$B$48>=60, G$2=\"\"),\"\",Intermed_Input!G5)","v":{"$error":"#VALUE!"}},{"$f":"IF(OR(Intermed_Input!$B$48>=60, H$2=\"\"),\"\",Intermed_Input!H5)","v":{"$error":"#VALUE!"}},{"$f":"IF(OR(Intermed_Input!$B$48>=60, I$2=\"\"),\"\",Intermed_Input!I5)","v":{"$error":"#VALUE!"}},null,3,"","","","","","","","",null,3,"","","","","","","",""]
[4,{"$f":"IF(OR(Intermed_Input!$B$48>=60, B$2=\"\"),\"\",Intermed_Input!B6)","v":{"$error":"#VALUE!"}},{"$f":"IF(OR(Intermed_Input!$B$48>=60, C$2=\"\"),\"\",Intermed_Input!C6)","v":{"$error":"#VALUE!"}},{"$f":"IF(OR(Intermed_Input!$B$48>=60, D$2=\"\"),\"\",Intermed_Input!D6)","v":{"$error":"#VALUE!"}},{"$f":"IF(OR(Intermed_Input!$B$48>=60, E$2=\"\"),\"\",Intermed_Input!E6)","v":{"$error":"#VALUE!"}},{"$f":"IF(OR(Intermed_Input!$B$48>=60, F$2=\"\"),\"\",Intermed_Input!F6)","v":{"$error":"#VALUE!"}},{"$f":"IF(OR(Intermed_Input!$B$48>=60, G$2=\"\"),\"\",Intermed_Input!G6)","v":{"$error":"#VALUE!"}},{"$f":"IF(OR(Intermed_Input!$B$48>=60, H$2=\"\"),\"\",Intermed_Input!H6)","v":{"$error":"#VALUE!"}},{"$f":"IF(OR(Intermed_Input!$B$48>=60, I$2=\"\"),\"\",Intermed_Input!I6)","v":{"$error":"#VALUE!"}},null,4,"","","","","","","","",null,4,"","","","","","","",""]
[5,{"$f":"IF(OR(Intermed_Input!$B$48>=60, B$2=\"\"),\"\",Intermed_Input!B7)","v":{"$error":"#VALUE!"}},{"$f":"IF(OR(Intermed_Input!$B$48>=60, C$2=\"\"),\"\",Intermed_Input!C7)","v":{"$error":"#VALUE!"}},{"$f":"IF(OR(Intermed_Input!$B$48>=60, D$2=\"\"),\"\",Intermed_Input!D7)","v":{"$error":"#VALUE!"}},{"$f":"IF(OR(Intermed_Input!$B$48>=60, E$2=\"\"),\"\",Intermed_Input!E7)","v":{"$error":"#VALUE!"}},{"$f":"IF(OR(Intermed_Input!$B$48>=60, F$2=\"\"),\"\",Intermed_Input!F7)","v":{"$error":"#VALUE!"}},{"$f":"IF(OR(Intermed_Input!$B$48>=60, G$2=\"\"),\"\",Intermed_Input!G7)","v":{"$error":"#VALUE!"}},{"$f":"IF(OR(Intermed_Input!$B$48>=60, H$2=\"\"),\"\",Intermed_Input!H7)","v":{"$error":"#VALUE!"}},{"$f":"IF(OR(Intermed_Input!$B$48>=60, I$2=\"\"),\"\",Intermed_Input!I7)","v":{"$error":"#VALUE!"}},null,5,"","","","","","","","",null,5,"","","","","","","",""]
[6,{"$f":"IF(OR(Intermed_Input!$B$48>=60, B$2=\"\"),\"\",Intermed_Input!B8)","v":{"$error":"#VALUE!"}},{"$f":"IF(OR(Intermed_Input!$B$48>=60, C$2=\"\"),\"\",Intermed_Input!C8)","v":{"$error":"#VALUE!"}},{"$f":"IF(OR(Intermed_Input!$B$48>=60, D$2=\"\"),\"\",Intermed_Input!D8)","v":{"$error":"#VALUE!"}},{"$f":"IF(OR(Intermed_Input!$B$48>=60, E$2=\"\"),\"\",Intermed_Input!E8)","v":{"$error":"#VALUE!"}},{"$f":"IF(OR(Intermed_Input!$B$48>=60, F$2=\"\"),\"\",Intermed_Input!F8)","v":{"$error":"#VALUE!"}},{"$f":"IF(OR(Intermed_Input!$B$48>=60, G$2=\"\"),\"\",Intermed_Input!G8)","v":{"$error":"#VALUE!"}},{"$f":"IF(OR(Intermed_Input!$B$48>=60, H$2=\"\"),\"\",Intermed_Input!H8)","v":{"$error":"#VALUE!"}},{"$f":"IF(OR(Intermed_Input!$B$48>=60, I$2=\"\"),\"\",Intermed_Input!I8)","v":{"$error":"#VALUE!"}},null,6,"","","","","","","","",null,6,"","","","","","","",""]
[7,{"$f":"IF(OR(Intermed_Input!$B$48>=60, B$2=\"\"),\"\",Intermed_Input!B9)","v":{"$error":"#VALUE!"}},{"$f":"IF(OR(Intermed_Input!$B$48>=60, C$2=\"\"),\"\",Intermed_Input!C9)","v":{"$error":"#VALUE!"}},{"$f":"IF(OR(Intermed_Input!$B$48>=60, D$2=\"\"),\"\",Intermed_Input!D9)","v":{"$error":"#VALUE!"}},{"$f":"IF(OR(Intermed_Input!$B$48>=60, E$2=\"\"),\"\",Intermed_Input!E9)","v":{"$error":"#VALUE!"}},{"$f":"IF(OR(Intermed_Input!$B$48>=60, F$2=\"\"),\"\",Intermed_Input!F9)","v":{"$error":"#VALUE!"}},{"$f":"IF(OR(Intermed_Input!$B$48>=60, G$2=\"\"),\"\",Intermed_Input!G9)","v":{"$error":"#VALUE!"}},{"$f":"IF(OR(Intermed_Input!$B$48>=60, H$2=\"\"),\"\",Intermed_Input!H9)","v":{"$error":"#VALUE!"}},{"$f":"IF(OR(Intermed_Input!$B$48>=60, I$2=\"\"),\"\",Intermed_Input!I9)","v":{"$error":"#VALUE!"}},null,7,"","","","","","","","",null,7,"","","","","","","",""]
[8,{"$f":"IF(OR(Intermed_Input!$B$48>=60, B$2=\"\"),\"\",Intermed_Input!B10)","v":{"$error":"#VALUE!"}},{"$f":"IF(OR(Intermed_Input!$B$48>=60, C$2=\"\"),\"\",Intermed_Input!C10)","v":{"$error":"#VALUE!"}},{"$f":"IF(OR(Intermed_Input!$B$48>=60, D$2=\"\"),\"\",Intermed_Input!D10)","v":{"$error":"#VALUE!"}},{"$f":"IF(OR(Intermed_Input!$B$48>=60, E$2=\"\"),\"\",Intermed_Input!E10)","v":{"$error":"#VALUE!"}},{"$f":"IF(OR(Intermed_Input!$B$48>=60, F$2=\"\"),\"\",Intermed_Input!F10)","v":{"$error":"#VALUE!"}},{"$f":"IF(OR(Intermed_Input!$B$48>=60, G$2=\"\"),\"\",Intermed_Input!G10)","v":{"$error":"#VALUE!"}},{"$f":"IF(OR(Intermed_Input!$B$48>=60, H$2=\"\"),\"\",Intermed_Input!H10)","v":{"$error":"#VALUE!"}},{"$f":"IF(OR(Intermed_Input!$B$48>=60, I$2=\"\"),\"\",Intermed_Input!I10)","v":{"$error":"#VALUE!"}},null,8,"","","","","","","","",null,8,"","","","","","","",""]
[9,{"$f":"IF(OR(Intermed_Input!$B$48>=60, B$2=\"\"),\"\",Intermed_Input!B11)","v":{"$error":"#VALUE!"}},{"$f":"IF(OR(Intermed_Input!$B$48>=60, C$2=\"\"),\"\",Intermed_Input!C11)","v":{"$error":"#VALUE!"}},{"$f":"IF(OR(Intermed_Input!$B$48>=60, D$2=\"\"),\"\",Intermed_Input!D11)","v":{"$error":"#VALUE!"}},{"$f":"IF(OR(Intermed_Input!$B$48>=60, E$2=\"\"),\"\",Intermed_Input!E11)","v":{"$error":"#VALUE!"}},{"$f":"IF(OR(Intermed_Input!$B$48>=60, F$2=\"\"),\"\",Intermed_Input!F11)","v":{"$error":"#VALUE!"}},{"$f":"IF(OR(Intermed_Input!$B$48>=60, G$2=\"\"),\"\",Intermed_Input!G11)","v":{"$error":"#VALUE!"}},{"$f":"IF(OR(Intermed_Input!$B$48>=60, H$2=\"\"),\"\",Intermed_Input!H11)","v":{"$error":"#VALUE!"}},{"$f":"IF(OR(Intermed_Input!$B$48>=60, I$2=\"\"),\"\",Intermed_Input!I11)","v":{"$error":"#VALUE!"}},null,9,"","","","","","","","",null,9,"","","","","","","",""]
[10,{"$f":"IF(OR(Intermed_Input!$B$48>=60, B$2=\"\"),\"\",Intermed_Input!B12)","v":{"$error":"#VALUE!"}},{"$f":"IF(OR(Intermed_Input!$B$48>=60, C$2=\"\"),\"\",Intermed_Input!C12)","v":{"$error":"#VALUE!"}},{"$f":"IF(OR(Intermed_Input!$B$48>=60, D$2=\"\"),\"\",Intermed_Input!D12)","v":{"$error":"#VALUE!"}},{"$f":"IF(OR(Intermed_Input!$B$48>=60, E$2=\"\"),\"\",Intermed_Input!E12)","v":{"$error":"#VALUE!"}},{"$f":"IF(OR(Intermed_Input!$B$48>=60, F$2=\"\"),\"\",Intermed_Input!F12)","v":{"$error":"#VALUE!"}},{"$f":"IF(OR(Intermed_Input!$B$48>=60, G$2=\"\"),\"\",Intermed_Input!G12)","v":{"$error":"#VALUE!"}},{"$f":"IF(OR(Intermed_Input!$B$48>=60, H$2=\"\"),\"\",Intermed_Input!H12)","v":{"$error":"#VALUE!"}},{"$f":"IF(OR(Intermed_Input!$B$48>=60, I$2=\"\"),\"\",Intermed_Input!I12)","v":{"$error":"#VALUE!"}},null,10,"","","","","","","","",null,10,"","","","","","","",""]
[11,{"$f":"IF(OR(Intermed_Input!$B$48>=60, B$2=\"\"),\"\",Intermed_Input!B13)","v":{"$error":"#VALUE!"}},{"$f":"IF(OR(Intermed_Input!$B$48>=60, C$2=\"\"),\"\",Intermed_Input!C13)","v":{"$error":"#VALUE!"}},{"$f":"IF(OR(Intermed_Input!$B$48>=60, D$2=\"\"),\"\",Intermed_Input!D13)","v":{"$error":"#VALUE!"}},{"$f":"IF(OR(Intermed_Input!$B$48>=60, E$2=\"\"),\"\",Intermed_Input!E13)","v":{"$error":"#VALUE!"}},{"$f":"IF(OR(Intermed_Input!$B$48>=60, F$2=\"\"),\"\",Intermed_Input!F13)","v":{"$error":"#VALUE!"}},{"$f":"IF(OR(Intermed_Input!$B$48>=60, G$2=\"\"),\"\",Intermed_Input!G13)","v":{"$error":"#VALUE!"}},{"$f":"IF(OR(Intermed_Input!$B$48>=60, H$2=\"\"),\"\",Intermed_Input!H13)","v":{"$error":"#VALUE!"}},{"$f":"IF(OR(Intermed_Input!$B$48>=60, I$2=\"\"),\"\",Intermed_Input!I13)","v":{"$error":"#VALUE!"}},null,11,"","","","","","","","",null,11,"","","","","","","",""]
[12,{"$f":"IF(OR(Intermed_Input!$B$48>=60, B$2=\"\"),\"\",Intermed_Input!B14)","v":{"$error":"#VALUE!"}},{"$f":"IF(OR(Intermed_Input!$B$48>=60, C$2=\"\"),\"\",Intermed_Input!C14)","v":{"$error":"#VALUE!"}},{"$f":"IF(OR(Intermed_Input!$B$48>=60, D$2=\"\"),\"\",Intermed_Input!D14)","v":{"$error":"#VALUE!"}},{"$f":"IF(OR(Intermed_Input!$B$48>=60, E$2=\"\"),\"\",Intermed_Input!E14)","v":{"$error":"#VALUE!"}},{"$f":"IF(OR(Intermed_Input!$B$48>=60, F$2=\"\"),\"\",Intermed_Input!F14)","v":{"$error":"#VALUE!"}},{"$f":"IF(OR(Intermed_Input!$B$48>=60, G$2=\"\"),\"\",Intermed_Input!G14)","v":{"$error":"#VALUE!"}},{"$f":"IF(OR(Intermed_Input!$B$48>=60, H$2=\"\"),\"\",Intermed_Input!H14)","v":{"$error":"#VALUE!"}},{"$f":"IF(OR(Intermed_Input!$B$48>=60, I$2=\"\"),\"\",Intermed_Input!I14)","v":{"$error":"#VALUE!"}},null,12,"","","","","","","","",null,12,"","","","","","","",""]
[13,{"$f":"IF(OR(Intermed_Input!$B$48>=60, B$2=\"\"),\"\",Intermed_Input!B15)","v":{"$error":"#VALUE!"}},{"$f":"IF(OR(Intermed_Input!$B$48>=60, C$2=\"\"),\"\",Intermed_Input!C15)","v":{"$error":"#VALUE!"}},{"$f":"IF(OR(Intermed_Input!$B$48>=60, D$2=\"\"),\"\",Intermed_Input!D15)","v":{"$error":"#VALUE!"}},{"$f":"IF(OR(Intermed_Input!$B$48>=60, E$2=\"\"),\"\",Intermed_Input!E15)","v":{"$error":"#VALUE!"}},{"$f":"IF(OR(Intermed_Input!$B$48>=60, F$2=\"\"),\"\",Intermed_Input!F15)","v":{"$error":"#VALUE!"}},{"$f":"IF(OR(Intermed_Input!$B$48>=60, G$2=\"\"),\"\",Intermed_Input!G15)","v":{"$error":"#VALUE!"}},{"$f":"IF(OR(Intermed_Input!$B$48>=60, H$2=\"\"),\"\",Intermed_Input!H15)","v":{"$error":"#VALUE!"}},{"$f":"IF(OR(Intermed_Input!$B$48>=60, I$2=\"\"),\"\",Intermed_Input!I15)","v":{"$error":"#VALUE!"}},null,13,"","","","","","","","",null,13,"","","","","","","",""]
[14,{"$f":"IF(OR(Intermed_Input!$B$48>=60, B$2=\"\"),\"\",Intermed_Input!B16)","v":{"$error":"#VALUE!"}},{"$f":"IF(OR(Intermed_Input!$B$48>=60, C$2=\"\"),\"\",Intermed_Input!C16)","v":{"$error":"#VALUE!"}},{"$f":"IF(OR(Intermed_Input!$B$48>=60, D$2=\"\"),\"\",Intermed_Input!D16)","v":{"$error":"#VALUE!"}},{"$f":"IF(OR(Intermed_Input!$B$48>=60, E$2=\"\"),\"\",Intermed_Input!E16)","v":{"$error":"#VALUE!"}},{"$f":"IF(OR(Intermed_Input!$B$48>=60, F$2=\"\"),\"\",Intermed_Input!F16)","v":{"$error":"#VALUE!"}},{"$f":"IF(OR(Intermed_Input!$B$48>=60, G$2=\"\"),\"\",Intermed_Input!G16)","v":{"$error":"#VALUE!"}},{"$f":"IF(OR(Intermed_Input!$B$48>=60, H$2=\"\"),\"\",Intermed_Input!H16)","v":{"$error":"#VALUE!"}},{"$f":"IF(OR(Intermed_Input!$B$48>=60, I$2=\"\"),\"\",Intermed_Input!I16)","v":{"$error":"#VALUE!"}},null,14,"","","","","","","","",null,14,"","","","","","","",""]
[15,{"$f":"IF(OR(Intermed_Input!$B$48>=60, B$2=\"\"),\"\",Intermed_Input!B17)","v":{"$error":"#VALUE!"}},{"$f":"IF(OR(Intermed_Input!$B$48>=60, C$2=\"\"),\"\",Intermed_Input!C17)","v":{"$error":"#VALUE!"}},{"$f":"IF(OR(Intermed_Input!$B$48>=60, D$2=\"\"),\"\",Intermed_Input!D17)","v":{"$error":"#VALUE!"}},{"$f":"IF(OR(Intermed_Input!$B$48>=60, E$2=\"\"),\"\",Intermed_Input!E17)","v":{"$error":"#VALUE!"}},{"$f":"IF(OR(Intermed_Input!$B$48>=60, F$2=\"\"),\"\",Intermed_Input!F17)","v":{"$error":"#VALUE!"}},{"$f":"IF(OR(Intermed_Input!$B$48>=60, G$2=\"\"),\"\",Intermed_Input!G17)","v":{"$error":"#VALUE!"}},{"$f":"IF(OR(Intermed_Input!$B$48>=60, H$2=\"\"),\"\",Intermed_Input!H17)","v":{"$error":"#VALUE!"}},{"$f":"IF(OR(Intermed_Input!$B$48>=60, I$2=\"\"),\"\",Intermed_Input!I17)","v":{"$error":"#VALUE!"}},null,15,"","","","","","","","",null,15,"","","","","","","",""]
[16,{"$f":"IF(OR(Intermed_Input!$B$48>=60, B$2=\"\"),\"\",Intermed_Input!B18)","v":{"$error":"#VALUE!"}},{"$f":"IF(OR(Intermed_Input!$B$48>=60, C$2=\"\"),\"\",Intermed_Input!C18)","v":{"$error":"#VALUE!"}},{"$f":"IF(OR(Intermed_Input!$B$48>=60, D$2=\"\"),\"\",Intermed_Input!D18)","v":{"$error":"#VALUE!"}},{"$f":"IF(OR(Intermed_Input!$B$48>=60, E$2=\"\"),\"\",Intermed_Input!E18)","v":{"$error":"#VALUE!"}},{"$f":"IF(OR(Intermed_Input!$B$48>=60, F$2=\"\"),\"\",Intermed_Input!F18)","v":{"$error":"#VALUE!"}},{"$f":"IF(OR(Intermed_Input!$B$48>=60, G$2=\"\"),\"\",Intermed_Input!G18)","v":{"$error":"#VALUE!"}},{"$f":"IF(OR(Intermed_Input!$B$48>=60, H$2=\"\"),\"\",Intermed_Input!H18)","v":{"$error":"#VALUE!"}},{"$f":"IF(OR(Intermed_Input!$B$48>=60, I$2=\"\"),\"\",Intermed_Input!I18)","v":{"$error":"#VALUE!"}},null,16,"","","","","","","","",null,16,"","","","","","","",""]
[17,{"$f":"IF(OR(Intermed_Input!$B$48>=60, B$2=\"\"),\"\",Intermed_Input!B19)","v":{"$error":"#VALUE!"}},{"$f":"IF(OR(Intermed_Input!$B$48>=60, C$2=\"\"),\"\",Intermed_Input!C19)","v":{"$error":"#VALUE!"}},{"$f":"IF(OR(Intermed_Input!$B$48>=60, D$2=\"\"),\"\",Intermed_Input!D19)","v":{"$error":"#VALUE!"}},{"$f":"IF(OR(Intermed_Input!$B$48>=60, E$2=\"\"),\"\",Intermed_Input!E19)","v":{"$error":"#VALUE!"}},{"$f":"IF(OR(Intermed_Input!$B$48>=60, F$2=\"\"),\"\",Intermed_Input!F19)","v":{"$error":"#VALUE!"}},{"$f":"IF(OR(Intermed_Input!$B$48>=60, G$2=\"\"),\"\",Intermed_Input!G19)","v":{"$error":"#VALUE!"}},{"$f":"IF(OR(Intermed_Input!$B$48>=60, H$2=\"\"),\"\",Intermed_Input!H19)","v":{"$error":"#VALUE!"}},{"$f":"IF(OR(Intermed_Input!$B$48>=60, I$2=\"\"),\"\",Intermed_Input!I19)","v":{"$error":"#VALUE!"}},null,17,"","","","","","","","",null,17,"","","","",{"$f":"IF(ISNUMBER(F19),(P19-$O$23)^2,\"\")","v":""},"","",""]
[18,{"$f":"IF(OR(Intermed_Input!$B$48>=60, B$2=\"\"),\"\",Intermed_Input!B20)","v":{"$error":"#VALUE!"}},{"$f":"IF(OR(Intermed_Input!$B$48>=60, C$2=\"\"),\"\",Intermed_Input!C20)","v":{"$error":"#VALUE!"}},{"$f":"IF(OR(Intermed_Input!$B$48>=60, D$2=\"\"),\"\",Intermed_Input!D20)","v":{"$error":"#VALUE!"}},{"$f":"IF(OR(Intermed_Input!$B$48>=60, E$2=\"\"),\"\",Intermed_Input!E20)","v":{"$error":"#VALUE!"}},{"$f":"IF(OR(Intermed_Input!$B$48>=60, F$2=\"\"),\"\",Intermed_Input!F20)","v":{"$error":"#VALUE!"}},{"$f":"IF(OR(Intermed_Input!$B$48>=60, G$2=\"\"),\"\",Intermed_Input!G20)","v":{"$error":"#VALUE!"}},{"$f":"IF(OR(Intermed_Input!$B$48>=60, H$2=\"\"),\"\",Intermed_Input!H20)","v":{"$error":"#VALUE!"}},{"$f":"IF(OR(Intermed_Input!$B$48>=60, I$2=\"\"),\"\",Intermed_Input!I20)","v":{"$error":"#VALUE!"}},null,18,"","","","","","","","",null,18,"","","","","","","",""]
[19,{"$f":"IF(OR(Intermed_Input!$B$48>=60, B$2=\"\"),\"\",Intermed_Input!B21)","v":{"$error":"#VALUE!"}},{"$f":"IF(OR(Intermed_Input!$B$48>=60, C$2=\"\"),\"\",Intermed_Input!C21)","v":{"$error":"#VALUE!"}},{"$f":"IF(OR(Intermed_Input!$B$48>=60, D$2=\"\"),\"\",Intermed_Input!D21)","v":{"$error":"#VALUE!"}},{"$f":"IF(OR(Intermed_Input!$B$48>=60, E$2=\"\"),\"\",Intermed_Input!E21)","v":{"$error":"#VALUE!"}},{"$f":"IF(OR(Intermed_Input!$B$48>=60, F$2=\"\"),\"\",Intermed_Input!F21)","v":{"$error":"#VALUE!"}},{"$f":"IF(OR(Intermed_Input!$B$48>=60, G$2=\"\"),\"\",Intermed_Input!G21)","v":{"$error":"#VALUE!"}},{"$f":"IF(OR(Intermed_Input!$B$48>=60, H$2=\"\"),\"\",Intermed_Input!H21)","v":{"$error":"#VALUE!"}},{"$f":"IF(OR(Intermed_Input!$B$48>=60, I$2=\"\"),\"\",Intermed_Input!I21)","v":{"$error":"#VALUE!"}},null,19,"","","","","","","","",null,19,"","","","","","","",""]
[20,{"$f":"IF(OR(Intermed_Input!$B$48>=60, B$2=\"\"),\"\",Intermed_Input!B22)","v":{"$error":"#VALUE!"}},{"$f":"IF(OR(Intermed_Input!$B$48>=60, C$2=\"\"),\"\",Intermed_Input!C22)","v":{"$error":"#VALUE!"}},{"$f":"IF(OR(Intermed_Input!$B$48>=60, D$2=\"\"),\"\",Intermed_Input!D22)","v":{"$error":"#VALUE!"}},{"$f":"IF(OR(Intermed_Input!$B$48>=60, E$2=\"\"),\"\",Intermed_Input!E22)","v":{"$error":"#VALUE!"}},{"$f":"IF(OR(Intermed_Input!$B$48>=60, F$2=\"\"),\"\",Intermed_Input!F22)","v":{"$error":"#VALUE!"}},{"$f":"IF(OR(Intermed_Input!$B$48>=60, G$2=\"\"),\"\",Intermed_Input!G22)","v":{"$error":"#VALUE!"}},{"$f":"IF(OR(Intermed_Input!$B$48>=60, H$2=\"\"),\"\",Intermed_Input!H22)","v":{"$error":"#VALUE!"}},{"$f":"IF(OR(Intermed_Input!$B$48>=60, I$2=\"\"),\"\",Intermed_Input!I22)","v":{"$error":"#VALUE!"}},null,20,"","","","","","","","",null,20,"","","","","","","",""]
["Mean",{"$f":"IF(COUNT(B3:B22)>0, AVERAGE(B3:B22),\"\")","v":""},"","","","","","","",null,"Overall Mean of the Observations (X)",null,null,null,{"$f":"AVERAGE(L3:S22)","v":{"$error":"#DIV/0!"}},null,null,null,null,"D=",{"$f":"SUM(V3:AC22)","v":0}]
["Variance",{"$f":"IF(COUNT(B3:B22)>0,VAR(B3:B22),\"\")","v":""},"","","","","","",""]
["i",1,2,3,4,5,6,7,8]
["N",{"$f":"COUNT(B3:B22)","v":0},0,0,0,0,0,0,0,{"$f":"SUM(B26:I26)","v":0},null,null,null,null,null,""]
["Xi","Ordered Xi",null,null,"Coefficients","X(n-i+1) - X(i)","Coeff. * X(n-i+1) - X(i)",null,"W=",{"$f":"IF(ISNUMBER(G28),((1/U23)*(SUM(G28:G52)^2)),\"\")","v":""},null,null,null,""]
[{"$f":"L3","v":""},1,{"$f":"IF(ISERR(SMALL($A$28:$A$187,B28)),\"\",SMALL($A$28:$A$187,B28))","v":""},null,{"$f":"LOOKUP(COUNT($B$3:$I$22),Table_ShapiroCo!$B$4:$AX$4,Table_ShapiroCo!B5:AX5)","v":{"$error":"#N/A"}},{"$f":"IF((LARGE($C$28:$C$187,B28))-(SMALL($C$28:$C$187,B28))>=0,(LARGE($C$28:$C$187,B28))-(SMALL($C$28:$C$187,B28)),\"\")","v":{"$error":"#NUM!"}},{"$f":"IF(AND(ISNUMBER(F28),ISNUMBER(E28)),E28*F28,\"\")","v":""},null,"Critical Value=",{"$f":"IF(ISNUMBER(J27),LOOKUP(COUNT(B3:I22),Table_ShapiroQuant!A4:A51,Table_ShapiroQuant!B4:B51),\"\")","v":""},"Significance Level set at 0.01 - do we want to make this variable or change to another set level?"]
["",2,"",null,{"$f":"LOOKUP(COUNT($B$3:$I$22),Table_ShapiroCo!$B$4:$AX$4,Table_ShapiroCo!B6:AX6)","v":{"$error":"#N/A"}},{"$error":"#NUM!"},"",{"$f":"LOOKUP(20,Table_ShapiroCo!B4:AX4)","v":20},null,"If the computed value is less than the critical value, conclude that the data are not normally distributed.",null,null,null,""]
["",3,"",null,{"$f":"LOOKUP(COUNT($B$3:$I$22),Table_ShapiroCo!$B$4:$AX$4,Table_ShapiroCo!B7:AX7)","v":{"$error":"#N/A"}},{"$error":"#NUM!"},"",null,"",null,null,null,null,""]
["",4,"",null,{"$f":"LOOKUP(COUNT($B$3:$I$22),Table_ShapiroCo!$B$4:$AX$4,Table_ShapiroCo!B8:AX8)","v":{"$error":"#N/A"}},{"$error":"#NUM!"},"",null,"",null,null,null,null,""]
["",5,"",null,{"$f":"LOOKUP(COUNT($B$3:$I$22),Table_ShapiroCo!$B$4:$AX$4,Table_ShapiroCo!B9:AX9)","v":{"$error":"#N/A"}},{"$error":"#NUM!"},"",null,"",null,"","","",""]
["",6,"",null,{"$f":"LOOKUP(COUNT($B$3:$I$22),Table_ShapiroCo!$B$4:$AX$4,Table_ShapiroCo!B10:AX10)","v":{"$error":"#N/A"}},{"$error":"#NUM!"},"",null,"",{"$f":"IF(AND(ISNUMBER(J27),J27<J28),\"Not normally distributed\",IF(AND(ISNUMBER(J27),J27>=J28),\"Normally distributed\",\"\"))","v":""},null,null,"",""]
["",7,"",null,{"$f":"LOOKUP(COUNT($B$3:$I$22),Table_ShapiroCo!$B$4:$AX$4,Table_ShapiroCo!B11:AX11)","v":{"$error":"#N/A"}},{"$error":"#NUM!"},"",null,"","","","","",""]
["",8,"",null,{"$f":"LOOKUP(COUNT($B$3:$I$22),Table_ShapiroCo!$B$4:$AX$4,Table_ShapiroCo!B22:AX22)","v":{"$error":"#N/A"}},{"$error":"#NUM!"},"",null,"","","","","",""]
["",9,"",null,{"$f":"LOOKUP(COUNT($B$3:$I$22),Table_ShapiroCo!$B$4:$AX$4,Table_ShapiroCo!B13:AX13)","v":{"$error":"#N/A"}},{"$error":"#NUM!"},""]
["",10,"",null,{"$f":"LOOKUP(COUNT($B$3:$I$22),Table_ShapiroCo!$B$4:$AX$4,Table_ShapiroCo!B14:AX14)","v":{"$error":"#N/A"}},{"$error":"#NUM!"},""]
["",11,"",null,{"$f":"LOOKUP(COUNT($B$3:$I$22),Table_ShapiroCo!$B$4:$AX$4,Table_ShapiroCo!B15:AX15)","v":{"$error":"#N/A"}},{"$error":"#NUM!"},""]
["",12,"",null,{"$f":"LOOKUP(COUNT($B$3:$I$22),Table_ShapiroCo!$B$4:$AX$4,Table_ShapiroCo!B16:AX16)","v":{"$error":"#N/A"}},{"$error":"#NUM!"},""]
["",13,"",null,{"$f":"LOOKUP(COUNT($B$3:$I$22),Table_ShapiroCo!$B$4:$AX$4,Table_ShapiroCo!B17:AX17)","v":{"$error":"#N/A"}},{"$error":"#NUM!"},{"$f":"IF(AND(ISNUMBER(F40),ISNUMBER(E40)),E40*F40,\"\")","v":""}]
["",14,"",null,{"$f":"LOOKUP(COUNT($B$3:$I$22),Table_ShapiroCo!$B$4:$AX$4,Table_ShapiroCo!B18:AX18)","v":{"$error":"#N/A"}},{"$error":"#NUM!"},""]
["",15,"",null,{"$f":"LOOKUP(COUNT($B$3:$I$22),Table_ShapiroCo!$B$4:$AX$4,Table_ShapiroCo!B19:AX19)","v":{"$error":"#N/A"}},{"$error":"#NUM!"},""]
["",16,"",null,{"$f":"LOOKUP(COUNT($B$3:$I$22),Table_ShapiroCo!$B$4:$AX$4,Table_ShapiroCo!B20:AX20)","v":{"$error":"#N/A"}},{"$error":"#NUM!"},""]
["",17,"",null,{"$f":"LOOKUP(COUNT($B$3:$I$22),Table_ShapiroCo!$B$4:$AX$4,Table_ShapiroCo!B21:AX21)","v":{"$error":"#N/A"}},{"$error":"#NUM!"},""]
["",18,"",null,{"$f":"LOOKUP(COUNT($B$3:$I$22),Table_ShapiroCo!$B$4:$AX$4,Table_ShapiroCo!B22:AX22)","v":{"$error":"#N/A"}},{"$error":"#NUM!"},""]
["",19,"",null,{"$f":"LOOKUP(COUNT($B$3:$I$22),Table_ShapiroCo!$B$4:$AX$4,Table_ShapiroCo!B23:AX23)","v":{"$error":"#N/A"}},{"$error":"#NUM!"},""]
["",20,"",null,{"$f":"LOOKUP(COUNT($B$3:$I$22),Table_ShapiroCo!$B$4:$AX$4,Table_ShapiroCo!B24:AX24)","v":{"$error":"#N/A"}},{"$error":"#NUM!"},""]
[{"$f":"M3","v":""},21,"",null,{"$f":"LOOKUP(COUNT($B$3:$I$22),Table_ShapiroCo!$B$4:$AX$4,Table_ShapiroCo!B25:AX25)","v":{"$error":"#N/A"}},{"$error":"#NUM!"},""]
["",22,"",null,{"$f":"LOOKUP(COUNT($B$3:$I$22),Table_ShapiroCo!$B$4:$AX$4,Table_ShapiroCo!B26:AX26)","v":{"$error":"#N/A"}},{"$error":"#NUM!"},""]
["",23,"",null,{"$f":"LOOKUP(COUNT($B$3:$I$22),Table_ShapiroCo!$B$4:$AX$4,Table_ShapiroCo!B27:AX27)","v":{"$error":"#N/A"}},{"$error":"#NUM!"},""]
["",24,"",null,{"$f":"LOOKUP(COUNT($B$3:$I$22),Table_ShapiroCo!$B$4:$AX$4,Table_ShapiroCo!B28:AX28)","v":{"$error":"#N/A"}},{"$error":"#NUM!"},""]
["",25,"",null,{"$f":"LOOKUP(COUNT($B$3:$I$22),Table_ShapiroCo!$B$4:$AX$4,Table_ShapiroCo!B29:AX29)","v":{"$error":"#N/A"}},{"$error":"#NUM!"},""]
["",26,""]
["",27,""]
["",28,""]
["",29,""]
["",30,""]
["",31,""]
["",32,""]
["",33,{"$f":"IF(ISERR(SMALL($A$28:$A$187,B60)),\"\",SMALL($A$28:$A$187,B60))","v":""}]
["",34,""]
["",35,""]
["",36,""]
["",37,""]
["",38,""]
["",39,""]
["",40,""]
[{"$f":"N3","v":""},41,""]
["",42,""]
["",43,""]
["",44,""]
["",45,""]
["",46,""]
["",47,""]
["",48,""]
["",49,""]
["",50,""]
["",51,""]
["",52,""]
["",53,""]
["",54,""]
["",55,""]
["",56,""]
["",57,""]
["",58,""]
["",59,""]
["",60,""]
[{"$f":"O3","v":""},61,""]
["",62,""]
["",63,""]
["",64,""]
["",65,{"$f":"IF(ISERR(SMALL($A$28:$A$187,B92)),\"\",SMALL($A$28:$A$187,B92))","v":""}]
["",66,""]
["",67,""]
["",68,""]
["",69,""]
["",70,""]
["",71,""]
["",72,""]
["",73,""]
["",74,""]
["",75,""]
["",76,""]
["",77,""]
["",78,""]
["",79,""]
["",80,""]
[{"$f":"P3","v":""},81,{"$f":"IF(ISERR(SMALL($A$28:$A$187,B108)),\"\",SMALL($A$28:$A$187,B108))","v":""}]
[{"$f":"P4","v":""},82,""]
["",83,""]
["",84,""]
["",85,""]
["",86,""]
["",87,""]
["",88,""]
["",89,""]
["",90,""]
["",91,""]
["",92,""]
["",93,""]
["",94,""]
["",95,""]
["",96,""]
["",97,""]
["",98,""]
["",99,""]
["",100,""]
[{"$f":"Q3","v":""},101,""]
[{"$f":"Q4","v":""},102,""]
["",103,""]
["",104,""]
["",105,""]
["",106,""]
["",107,""]
["",108,""]
["",109,""]
["",110,""]
["",111,""]
["",112,""]
["",113,""]
["",114,""]
["",115,""]
["",116,""]
["",117,""]
["",118,""]
["",119,""]
["",120,""]
[{"$f":"R3","v":""},121,""]
[{"$f":"R4","v":""},122,""]
["",123,""]
["",124,""]
["",125,""]
["",126,""]
["",127,""]
["",128,""]
["",129,""]
["",130,""]
["",131,""]
["",132,""]
["",133,""]
["",134,""]
["",135,""]
["",136,""]
["",137,""]
["",138,""]
["",139,""]
["",140,""]
[{"$f":"S3","v":""},141,""]
[{"$f":"S4","v":""},142,""]
["",143,""]
["",144,""]
["",145,{"$f":"IF(ISERR(SMALL($A$28:$A$187,B172)),\"\",SMALL($A$28:$A$187,B172))","v":""}]
["",146,""]
["",147,""]
["",148,""]
["",149,""]
["",150,""]
["",151,""]
["",152,""]
["",153,""]
["",154,""]
["",155,""]
["",156,""]
["",157,""]
["",158,""]
["",159,""]
["",160,""]

{"sheet":"Kolmogorov","index":14,"n_rows":188,"n_cols":19,"rows_kept":188,"cut":false,"hidden":true,"merged":[[36,10,36,12],[22,10,22,13],[26,1,26,2],[32,10,34,13],[0,0,0,8],[0,10,0,18]]}
["Raw Data",null,null,null,null,null,null,null,null,null,"Centered Data (Xi)"]
[null,{"$f":"IF(AND(Intermed_Input!$B$48>=50,ISNUMBER(Intermed_Input!B$46)), Intermed_Input!B2,\"\")","v":{"$error":"#VALUE!"}},{"$f":"IF(AND(Intermed_Input!$B$48>=50,ISNUMBER(Intermed_Input!C$46)), Intermed_Input!C2,\"\")","v":{"$error":"#VALUE!"}},{"$f":"IF(AND(Intermed_Input!$B$48>=50,ISNUMBER(Intermed_Input!D$46)), Intermed_Input!D2,\"\")","v":{"$error":"#VALUE!"}},{"$f":"IF(AND(Intermed_Input!$B$48>=50,ISNUMBER(Intermed_Input!E$46)), Intermed_Input!E2,\"\")","v":{"$error":"#VALUE!"}},{"$f":"IF(AND(Intermed_Input!$B$48>=50,ISNUMBER(Intermed_Input!F$46)), Intermed_Input!F2,\"\")","v":{"$error":"#VALUE!"}},{"$f":"IF(AND(Intermed_Input!$B$48>=50,ISNUMBER(Intermed_Input!G$46)), Intermed_Input!G2,\"\")","v":{"$error":"#VALUE!"}},{"$f":"IF(AND(Intermed_Input!$B$48>=50,ISNUMBER(Intermed_Input!H$46)), Intermed_Input!H2,\"\")","v":{"$error":"#VALUE!"}},{"$f":"IF(AND(Intermed_Input!$B$48>=50,ISNUMBER(Intermed_Input!I$46)), Intermed_Input!I2,\"\")","v":{"$error":"#VALUE!"}},null,null,{"$f":"B2","v":{"$error":"#VALUE!"}},{"$f":"C2","v":{"$error":"#VALUE!"}},{"$f":"D2","v":{"$error":"#VALUE!"}},{"$f":"E2","v":{"$error":"#VALUE!"}},{"$f":"F2","v":{"$error":"#VALUE!"}},{"$error":"#VALUE!"},{"$f":"H2","v":{"$error":"#VALUE!"}},{"$f":"I2","v":{"$error":"#VALUE!"}}]
[1,{"$f":"IF(AND(Intermed_Input!$B$48>=50, Intermed_Input!B$46>0), Intermed_Input!B3,\"\")","v":{"$error":"#VALUE!"}},{"$f":"IF(AND(Intermed_Input!$B$48>=50, Intermed_Input!C$46>0), Intermed_Input!C3,\"\")","v":{"$error":"#VALUE!"}},{"$f":"IF(AND(Intermed_Input!$B$48>=50, Intermed_Input!D$46>0), Intermed_Input!D3,\"\")","v":{"$error":"#VALUE!"}},{"$f":"IF(AND(Intermed_Input!$B$48>=50, Intermed_Input!E$46>0), Intermed_Input!E3,\"\")","v":{"$error":"#VALUE!"}},{"$f":"IF(AND(Intermed_Input!$B$48>=50, Intermed_Input!F$46>0), Intermed_Input!F3,\"\")","v":{"$error":"#VALUE!"}},{"$f":"IF(AND(Intermed_Input!$B$48>=50, Intermed_Input!G$46>0), Intermed_Input!G3,\"\")","v":{"$error":"#VALUE!"}},{"$f":"IF(AND(Intermed_Input!$B$48>=50, Intermed_Input!H$46>0), Intermed_Input!H3,\"\")","v":{"$error":"#VALUE!"}},{"$f":"IF(AND(Intermed_Input!$B$48>=50, Intermed_Input!I$46>=0), Intermed_Input!I3,\"\")","v":{"$error":"#VALUE!"}},null,1,{"$f":"IF(ISNUMBER(B3),B3-$B$23,\"\")","v":""},{"$f":"IF(ISNUMBER(C3),C3-$C$23,\"\")","v":""},{"$f":"IF(ISNUMBER(D3),D3-$D$23,\"\")","v":""},{"$f":"IF(ISNUMBER(E3),E3-$E$23,\"\")","v":""},{"$f":"IF(ISNUMBER(F3),F3-$F$23,\"\")","v":""},{"$f":"IF(ISNUMBER(G3),G3-$G$23,\"\")","v":""},{"$f":"IF(ISNUMBER(H3),H3-$H$23,\"\")","v":""},{"$f":"IF(ISNUMBER(I3),I3-$I$23,\"\")","v":""}]
[2,{"$f":"IF(AND(Intermed_Input!$B$48>=50, Intermed_Input!B$46>0), Intermed_Input!B4,\"\")","v":{"$error":"#VALUE!"}},{"$f":"IF(AND(Intermed_Input!$B$48>=50, Intermed_Input!C$46>0), Intermed_Input!C4,\"\")","v":{"$error":"#VALUE!"}},{"$f":"IF(AND(Intermed_Input!$B$48>=50, Intermed_Input!D$46>0), Intermed_Input!D4,\"\")","v":{"$error":"#VALUE!"}},{"$f":"IF(AND(Intermed_Input!$B$48>=50, Intermed_Input!E$46>0), Intermed_Input!E4,\"\")","v":{"$error":"#VALUE!"}},{"$f":"IF(AND(Intermed_Input!$B$48>=50, Intermed_Input!F$46>0), Intermed_Input!F4,\"\")","v":{"$error":"#VALUE!"}},{"$f":"IF(AND(Intermed_Input!$B$48>=50, Intermed_Input!G$46>0), Intermed_Input!G4,\"\")","v":{"$error":"#VALUE!"}},{"$f":"IF(AND(Intermed_Input!$B$48>=50, Intermed_Input!H$46>0), Intermed_Input!H4,\"\")","v":{"$error":"#VALUE!"}},{"$f":"IF(AND(Intermed_Input!$B$48>=50, Intermed_Input!I$46>=0), Intermed_Input!I4,\"\")","v":{"$error":"#VALUE!"}},null,2,"","","","",{"$f":"IF(ISNUMBER(F4),F4-$F$23,\"\")","v":""},{"$f":"IF(ISNUMBER(G4),G4-$G$23,\"\")","v":""},"",""]
[3,{"$f":"IF(AND(Intermed_Input!$B$48>=50, Intermed_Input!B$46>0), Intermed_Input!B5,\"\")","v":{"$error":"#VALUE!"}},{"$f":"IF(AND(Intermed_Input!$B$48>=50, Intermed_Input!C$46>0), Intermed_Input!C5,\"\")","v":{"$error":"#VALUE!"}},{"$f":"IF(AND(Intermed_Input!$B$48>=50, Intermed_Input!D$46>0), Intermed_Input!D5,\"\")","v":{"$error":"#VALUE!"}},{"$f":"IF(AND(Intermed_Input!$B$48>=50, Intermed_Input!E$46>0), Intermed_Input!E5,\"\")","v":{"$error":"#VALUE!"}},{"$f":"IF(AND(Intermed_Input!$B$48>=50, Intermed_Input!F$46>0), Intermed_Input!F5,\"\")","v":{"$error":"#VALUE!"}},{"$f":"IF(AND(Intermed_Input!$B$48>=50, Intermed_Input!G$46>0), Intermed_Input!G5,\"\")","v":{"$error":"#VALUE!"}},{"$f":"IF(AND(Intermed_Input!$B$48>=50, Intermed_Input!H$46>0), Intermed_Input!H5,\"\")","v":{"$error":"#VALUE!"}},{"$f":"IF(AND(Intermed_Input!$B$48>=50, Intermed_Input!I$46>=0), Intermed_Input!I5,\"\")","v":{"$error":"#VALUE!"}},null,3,"","","","","","","",""]
[4,{"$f":"IF(AND(Intermed_Input!$B$48>=50, Intermed_Input!B$46>0), Intermed_Input!B6,\"\")","v":{"$error":"#VALUE!"}},{"$f":"IF(AND(Intermed_Input!$B$48>=50, Intermed_Input!C$46>0), Intermed_Input!C6,\"\")","v":{"$error":"#VALUE!"}},{"$f":"IF(AND(Intermed_Input!$B$48>=50, Intermed_Input!D$46>0), Intermed_Input!D6,\"\")","v":{"$error":"#VALUE!"}},{"$f":"IF(AND(Intermed_Input!$B$48>=50, Intermed_Input!E$46>0), Intermed_Input!E6,\"\")","v":{"$error":"#VALUE!"}},{"$f":"IF(AND(Intermed_Input!$B$48>=50, Intermed_Input!F$46>0), Intermed_Input!F6,\"\")","v":{"$error":"#VALUE!"}},{"$f":"IF(AND(Intermed_Input!$B$48>=50, Intermed_Input!G$46>0), Intermed_Input!G6,\"\")","v":{"$error":"#VALUE!"}},{"$f":"IF(AND(Intermed_Input!$B$48>=50, Intermed_Input!H$46>0), Intermed_Input!H6,\"\")","v":{"$error":"#VALUE!"}},{"$f":"IF(AND(Intermed_Input!$B$48>=50, Intermed_Input!I$46>=0), Intermed_Input!I6,\"\")","v":{"$error":"#VALUE!"}},null,4,"","","","","","","",""]
[5,{"$f":"IF(AND(Intermed_Input!$B$48>=50, Intermed_Input!B$46>0), Intermed_Input!B7,\"\")","v":{"$error":"#VALUE!"}},{"$f":"IF(AND(Intermed_Input!$B$48>=50, Intermed_Input!C$46>0), Intermed_Input!C7,\"\")","v":{"$error":"#VALUE!"}},{"$f":"IF(AND(Intermed_Input!$B$48>=50, Intermed_Input!D$46>0), Intermed_Input!D7,\"\")","v":{"$error":"#VALUE!"}},{"$f":"IF(AND(Intermed_Input!$B$48>=50, Intermed_Input!E$46>0), Intermed_Input!E7,\"\")","v":{"$error":"#VALUE!"}},{"$f":"IF(AND(Intermed_Input!$B$48>=50, Intermed_Input!F$46>0), Intermed_Input!F7,\"\")","v":{"$error":"#VALUE!"}},{"$f":"IF(AND(Intermed_Input!$B$48>=50, Intermed_Input!G$46>0), Intermed_Input!G7,\"\")","v":{"$error":"#VALUE!"}},{"$f":"IF(AND(Intermed_Input!$B$48>=50, Intermed_Input!H$46>0), Intermed_Input!H7,\"\")","v":{"$error":"#VALUE!"}},{"$f":"IF(AND(Intermed_Input!$B$48>=50, Intermed_Input!I$46>=0), Intermed_Input!I7,\"\")","v":{"$error":"#VALUE!"}},null,5,"","","","","","","",""]
[6,{"$f":"IF(AND(Intermed_Input!$B$48>=50, Intermed_Input!B$46>0), Intermed_Input!B8,\"\")","v":{"$error":"#VALUE!"}},{"$f":"IF(AND(Intermed_Input!$B$48>=50, Intermed_Input!C$46>0), Intermed_Input!C8,\"\")","v":{"$error":"#VALUE!"}},{"$f":"IF(AND(Intermed_Input!$B$48>=50, Intermed_Input!D$46>0), Intermed_Input!D8,\"\")","v":{"$error":"#VALUE!"}},{"$f":"IF(AND(Intermed_Input!$B$48>=50, Intermed_Input!E$46>0), Intermed_Input!E8,\"\")","v":{"$error":"#VALUE!"}},{"$f":"IF(AND(Intermed_Input!$B$48>=50, Intermed_Input!F$46>0), Intermed_Input!F8,\"\")","v":{"$error":"#VALUE!"}},{"$f":"IF(AND(Intermed_Input!$B$48>=50, Intermed_Input!G$46>0), Intermed_Input!G8,\"\")","v":{"$error":"#VALUE!"}},{"$f":"IF(AND(Intermed_Input!$B$48>=50, Intermed_Input!H$46>0), Intermed_Input!H8,\"\")","v":{"$error":"#VALUE!"}},{"$f":"IF(AND(Intermed_Input!$B$48>=50, Intermed_Input!I$46>=0), Intermed_Input!I8,\"\")","v":{"$error":"#VALUE!"}},null,6,"","","","","","","",""]
[7,{"$f":"IF(AND(Intermed_Input!$B$48>=50, Intermed_Input!B$46>0), Intermed_Input!B9,\"\")","v":{"$error":"#VALUE!"}},{"$f":"IF(AND(Intermed_Input!$B$48>=50, Intermed_Input!C$46>0), Intermed_Input!C9,\"\")","v":{"$error":"#VALUE!"}},{"$f":"IF(AND(Intermed_Input!$B$48>=50, Intermed_Input!D$46>0), Intermed_Input!D9,\"\")","v":{"$error":"#VALUE!"}},{"$f":"IF(AND(Intermed_Input!$B$48>=50, Intermed_Input!E$46>0), Intermed_Input!E9,\"\")","v":{"$error":"#VALUE!"}},{"$f":"IF(AND(Intermed_Input!$B$48>=50, Intermed_Input!F$46>0), Intermed_Input!F9,\"\")","v":{"$error":"#VALUE!"}},{"$f":"IF(AND(Intermed_Input!$B$48>=50, Intermed_Input!G$46>0), Intermed_Input!G9,\"\")","v":{"$error":"#VALUE!"}},{"$f":"IF(AND(Intermed_Input!$B$48>=50, Intermed_Input!H$46>0), Intermed_Input!H9,\"\")","v":{"$error":"#VALUE!"}},{"$f":"IF(AND(Intermed_Input!$B$48>=50, Intermed_Input!I$46>=0), Intermed_Input!I9,\"\")","v":{"$error":"#VALUE!"}},null,7,"","","","","","","",""]
[8,{"$f":"IF(AND(Intermed_Input!$B$48>=50, Intermed_Input!B$46>0), Intermed_Input!B10,\"\")","v":{"$error":"#VALUE!"}},{"$f":"IF(AND(Intermed_Input!$B$48>=50, Intermed_Input!C$46>0), Intermed_Input!C10,\"\")","v":{"$error":"#VALUE!"}},{"$f":"IF(AND(Intermed_Input!$B$48>=50, Intermed_Input!D$46>0), Intermed_Input!D10,\"\")","v":{"$error":"#VALUE!"}},{"$f":"IF(AND(Intermed_Input!$B$48>=50, Intermed_Input!E$46>0), Intermed_Input!E10,\"\")","v":{"$error":"#VALUE!"}},{"$f":"IF(AND(Intermed_Input!$B$48>=50, Intermed_Input!F$46>0), Intermed_Input!F10,\"\")","v":{"$error":"#VALUE!"}},{"$f":"IF(AND(Intermed_Input!$B$48>=50, Intermed_Input!G$46>0), Intermed_Input!G10,\"\")","v":{"$error":"#VALUE!"}},{"$f":"IF(AND(Intermed_Input!$B$48>=50, Intermed_Input!H$46>0), Intermed_Input!H10,\"\")","v":{"$error":"#VALUE!"}},{"$f":"IF(AND(Intermed_Input!$B$48>=50, Intermed_Input!I$46>=0), Intermed_Input!I10,\"\")","v":{"$error":"#VALUE!"}},null,8,"","","","","","","",""]
[9,{"$f":"IF(AND(Intermed_Input!$B$48>=50, Intermed_Input!B$46>0), Intermed_Input!B11,\"\")","v":{"$error":"#VALUE!"}},{"$f":"IF(AND(Intermed_Input!$B$48>=50, Intermed_Input!C$46>0), Intermed_Input!C11,\"\")","v":{"$error":"#VALUE!"}},{"$f":"IF(AND(Intermed_Input!$B$48>=50, Intermed_Input!D$46>0), Intermed_Input!D11,\"\")","v":{"$error":"#VALUE!"}},{"$f":"IF(AND(Intermed_Input!$B$48>=50, Intermed_Input!E$46>0), Intermed_Input!E11,\"\")","v":{"$error":"#VALUE!"}},{"$f":"IF(AND(Intermed_Input!$B$48>=50, Intermed_Input!F$46>0), Intermed_Input!F11,\"\")","v":{"$error":"#VALUE!"}},{"$f":"IF(AND(Intermed_Input!$B$48>=50, Intermed_Input!G$46>0), Intermed_Input!G11,\"\")","v":{"$error":"#VALUE!"}},{"$f":"IF(AND(Intermed_Input!$B$48>=50, Intermed_Input!H$46>0), Intermed_Input!H11,\"\")","v":{"$error":"#VALUE!"}},{"$f":"IF(AND(Intermed_Input!$B$48>=50, Intermed_Input!I$46>=0), Intermed_Input!I11,\"\")","v":{"$error":"#VALUE!"}},null,9,"","","","","","","",""]
[10,{"$f":"IF(AND(Intermed_Input!$B$48>=50, Intermed_Input!B$46>0), Intermed_Input!B12,\"\")","v":{"$error":"#VALUE!"}},{"$f":"IF(AND(Intermed_Input!$B$48>=50, Intermed_Input!C$46>0), Intermed_Input!C12,\"\")","v":{"$error":"#VALUE!"}},{"$f":"IF(AND(Intermed_Input!$B$48>=50, Intermed_Input!D$46>0), Intermed_Input!D12,\"\")","v":{"$error":"#VALUE!"}},{"$f":"IF(AND(Intermed_Input!$B$48>=50, Intermed_Input!E$46>0), Intermed_Input!E12,\"\")","v":{"$error":"#VALUE!"}},{"$f":"IF(AND(Intermed_Input!$B$48>=50, Intermed_Input!F$46>0), Intermed_Input!F12,\"\")","v":{"$error":"#VALUE!"}},{"$f":"IF(AND(Intermed_Input!$B$48>=50, Intermed_Input!G$46>0), Intermed_Input!G12,\"\")","v":{"$error":"#VALUE!"}},{"$f":"IF(AND(Intermed_Input!$B$48>=50, Intermed_Input!H$46>0), Intermed_Input!H12,\"\")","v":{"$error":"#VALUE!"}},{"$f":"IF(AND(Intermed_Input!$B$48>=50, Intermed_Input!I$46>=0), Intermed_Input!I12,\"\")","v":{"$error":"#VALUE!"}},null,10,"","","","","","","",""]
[11,{"$f":"IF(AND(Intermed_Input!$B$48>=50, Intermed_Input!B$46>0), Intermed_Input!B13,\"\")","v":{"$error":"#VALUE!"}},{"$f":"IF(AND(Intermed_Input!$B$48>=50, Intermed_Input!C$46>0), Intermed_Input!C13,\"\")","v":{"$error":"#VALUE!"}},{"$f":"IF(AND(Intermed_Input!$B$48>=50, Intermed_Input!D$46>0), Intermed_Input!D13,\"\")","v":{"$error":"#VALUE!"}},{"$f":"IF(AND(Intermed_Input!$B$48>=50, Intermed_Input!E$46>0), Intermed_Input!E13,\"\")","v":{"$error":"#VALUE!"}},{"$f":"IF(AND(Intermed_Input!$B$48>=50, Intermed_Input!F$46>0), Intermed_Input!F13,\"\")","v":{"$error":"#VALUE!"}},{"$f":"IF(AND(Intermed_Input!$B$48>=50, Intermed_Input!G$46>0), Intermed_Input!G13,\"\")","v":{"$error":"#VALUE!"}},{"$f":"IF(AND(Intermed_Input!$B$48>=50, Intermed_Input!H$46>0), Intermed_Input!H13,\"\")","v":{"$error":"#VALUE!"}},{"$f":"IF(AND(Intermed_Input!$B$48>=50, Intermed_Input!I$46>=0), Intermed_Input!I13,\"\")","v":{"$error":"#VALUE!"}},null,11,"","","","","","","",""]
[12,{"$f":"IF(AND(Intermed_Input!$B$48>=50, Intermed_Input!B$46>0), Intermed_Input!B14,\"\")","v":{"$error":"#VALUE!"}},{"$f":"IF(AND(Intermed_Input!$B$48>=50, Intermed_Input!C$46>0), Intermed_Input!C14,\"\")","v":{"$error":"#VALUE!"}},{"$f":"IF(AND(Intermed_Input!$B$48>=50, Intermed_Input!D$46>0), Intermed_Input!D14,\"\")","v":{"$error":"#VALUE!"}},{"$f":"IF(AND(Intermed_Input!$B$48>=50, Intermed_Input!E$46>0), Intermed_Input!E14,\"\")","v":{"$error":"#VALUE!"}},{"$f":"IF(AND(Intermed_Input!$B$48>=50, Intermed_Input!F$46>0), Intermed_Input!F14,\"\")","v":{"$error":"#VALUE!"}},{"$f":"IF(AND(Intermed_Input!$B$48>=50, Intermed_Input!G$46>0), Intermed_Input!G14,\"\")","v":{"$error":"#VALUE!"}},{"$f":"IF(AND(Intermed_Input!$B$48>=50, Intermed_Input!H$46>0), Intermed_Input!H14,\"\")","v":{"$error":"#VALUE!"}},{"$f":"IF(AND(Intermed_Input!$B$48>=50, Intermed_Input!I$46>=0), Intermed_Input!I14,\"\")","v":{"$error":"#VALUE!"}},null,12,"","","","","","","",""]
[13,{"$f":"IF(AND(Intermed_Input!$B$48>=50, Intermed_Input!B$46>0), Intermed_Input!B15,\"\")","v":{"$error":"#VALUE!"}},{"$f":"IF(AND(Intermed_Input!$B$48>=50, Intermed_Input!C$46>0), Intermed_Input!C15,\"\")","v":{"$error":"#VALUE!"}},{"$f":"IF(AND(Intermed_Input!$B$48>=50, Intermed_Input!D$46>0), Intermed_Input!D15,\"\")","v":{"$error":"#VALUE!"}},{"$f":"IF(AND(Intermed_Input!$B$48>=50, Intermed_Input!E$46>0), Intermed_Input!E15,\"\")","v":{"$error":"#VALUE!"}},{"$f":"IF(AND(Intermed_Input!$B$48>=50, Intermed_Input!F$46>0), Intermed_Input!F15,\"\")","v":{"$error":"#VALUE!"}},{"$f":"IF(AND(Intermed_Input!$B$48>=50, Intermed_Input!G$46>0), Intermed_Input!G15,\"\")","v":{"$error":"#VALUE!"}},{"$f":"IF(AND(Intermed_Input!$B$48>=50, Intermed_Input!H$46>0), Intermed_Input!H15,\"\")","v":{"$error":"#VALUE!"}},{"$f":"IF(AND(Intermed_Input!$B$48>=50, Intermed_Input!I$46>=0), Intermed_Input!I15,\"\")","v":{"$error":"#VALUE!"}},null,13,"","","","","","","",""]
[14,{"$f":"IF(AND(Intermed_Input!$B$48>=50, Intermed_Input!B$46>0), Intermed_Input!B16,\"\")","v":{"$error":"#VALUE!"}},{"$f":"IF(AND(Intermed_Input!$B$48>=50, Intermed_Input!C$46>0), Intermed_Input!C16,\"\")","v":{"$error":"#VALUE!"}},{"$f":"IF(AND(Intermed_Input!$B$48>=50, Intermed_Input!D$46>0), Intermed_Input!D16,\"\")","v":{"$error":"#VALUE!"}},{"$f":"IF(AND(Intermed_Input!$B$48>=50, Intermed_Input!E$46>0), Intermed_Input!E16,\"\")","v":{"$error":"#VALUE!"}},{"$f":"IF(AND(Intermed_Input!$B$48>=50, Intermed_Input!F$46>0), Intermed_Input!F16,\"\")","v":{"$error":"#VALUE!"}},{"$f":"IF(AND(Intermed_Input!$B$48>=50, Intermed_Input!G$46>0), Intermed_Input!G16,\"\")","v":{"$error":"#VALUE!"}},{"$f":"IF(AND(Intermed_Input!$B$48>=50, Intermed_Input!H$46>0), Intermed_Input!H16,\"\")","v":{"$error":"#VALUE!"}},{"$f":"IF(AND(Intermed_Input!$B$48>=50, Intermed_Input!I$46>=0), Intermed_Input!I16,\"\")","v":{"$error":"#VALUE!"}},null,14,"","","","","","","",""]
[15,{"$f":"IF(AND(Intermed_Input!$B$48>=50, Intermed_Input!B$46>0), Intermed_Input!B17,\"\")","v":{"$error":"#VALUE!"}},{"$f":"IF(AND(Intermed_Input!$B$48>=50, Intermed_Input!C$46>0), Intermed_Input!C17,\"\")","v":{"$error":"#VALUE!"}},{"$f":"IF(AND(Intermed_Input!$B$48>=50, Intermed_Input!D$46>0), Intermed_Input!D17,\"\")","v":{"$error":"#VALUE!"}},{"$f":"IF(AND(Intermed_Input!$B$48>=50, Intermed_Input!E$46>0), Intermed_Input!E17,\"\")","v":{"$error":"#VALUE!"}},{"$f":"IF(AND(Intermed_Input!$B$48>=50, Intermed_Input!F$46>0), Intermed_Input!F17,\"\")","v":{"$error":"#VALUE!"}},{"$f":"IF(AND(Intermed_Input!$B$48>=50, Intermed_Input!G$46>0), Intermed_Input!G17,\"\")","v":{"$error":"#VALUE!"}},{"$f":"IF(AND(Intermed_Input!$B$48>=50, Intermed_Input!H$46>0), Intermed_Input!H17,\"\")","v":{"$error":"#VALUE!"}},{"$f":"IF(AND(Intermed_Input!$B$48>=50, Intermed_Input!I$46>=0), Intermed_Input!I17,\"\")","v":{"$error":"#VALUE!"}},null,15,"","","","","","","",""]
[16,{"$f":"IF(AND(Intermed_Input!$B$48>=50, Intermed_Input!B$46>0), Intermed_Input!B18,\"\")","v":{"$error":"#VALUE!"}},{"$f":"IF(AND(Intermed_Input!$B$48>=50, Intermed_Input!C$46>0), Intermed_Input!C18,\"\")","v":{"$error":"#VALUE!"}},{"$f":"IF(AND(Intermed_Input!$B$48>=50, Intermed_Input!D$46>0), Intermed_Input!D18,\"\")","v":{"$error":"#VALUE!"}},{"$f":"IF(AND(Intermed_Input!$B$48>=50, Intermed_Input!E$46>0), Intermed_Input!E18,\"\")","v":{"$error":"#VALUE!"}},{"$f":"IF(AND(Intermed_Input!$B$48>=50, Intermed_Input!F$46>0), Intermed_Input!F18,\"\")","v":{"$error":"#VALUE!"}},{"$f":"IF(AND(Intermed_Input!$B$48>=50, Intermed_Input!G$46>0), Intermed_Input!G18,\"\")","v":{"$error":"#VALUE!"}},{"$f":"IF(AND(Intermed_Input!$B$48>=50, Intermed_Input!H$46>0), Intermed_Input!H18,\"\")","v":{"$error":"#VALUE!"}},{"$f":"IF(AND(Intermed_Input!$B$48>=50, Intermed_Input!I$46>=0), Intermed_Input!I18,\"\")","v":{"$error":"#VALUE!"}},null,16,"","","","","","","",""]
[17,{"$f":"IF(AND(Intermed_Input!$B$48>=50, Intermed_Input!B$46>0), Intermed_Input!B19,\"\")","v":{"$error":"#VALUE!"}},{"$f":"IF(AND(Intermed_Input!$B$48>=50, Intermed_Input!C$46>0), Intermed_Input!C19,\"\")","v":{"$error":"#VALUE!"}},{"$f":"IF(AND(Intermed_Input!$B$48>=50, Intermed_Input!D$46>0), Intermed_Input!D19,\"\")","v":{"$error":"#VALUE!"}},{"$f":"IF(AND(Intermed_Input!$B$48>=50, Intermed_Input!E$46>0), Intermed_Input!E19,\"\")","v":{"$error":"#VALUE!"}},{"$f":"IF(AND(Intermed_Input!$B$48>=50, Intermed_Input!F$46>0), Intermed_Input!F19,\"\")","v":{"$error":"#VALUE!"}},{"$f":"IF(AND(Intermed_Input!$B$48>=50, Intermed_Input!G$46>0), Intermed_Input!G19,\"\")","v":{"$error":"#VALUE!"}},{"$f":"IF(AND(Intermed_Input!$B$48>=50, Intermed_Input!H$46>0), Intermed_Input!H19,\"\")","v":{"$error":"#VALUE!"}},{"$f":"IF(AND(Intermed_Input!$B$48>=50, Intermed_Input!I$46>=0), Intermed_Input!I19,\"\")","v":{"$error":"#VALUE!"}},null,17,"","","","","","","",""]
[18,{"$f":"IF(AND(Intermed_Input!$B$48>=50, Intermed_Input!B$46>0), Intermed_Input!B20,\"\")","v":{"$error":"#VALUE!"}},{"$f":"IF(AND(Intermed_Input!$B$48>=50, Intermed_Input!C$46>0), Intermed_Input!C20,\"\")","v":{"$error":"#VALUE!"}},{"$f":"IF(AND(Intermed_Input!$B$48>=50, Intermed_Input!D$46>0), Intermed_Input!D20,\"\")","v":{"$error":"#VALUE!"}},{"$f":"IF(AND(Intermed_Input!$B$48>=50, Intermed_Input!E$46>0), Intermed_Input!E20,\"\")","v":{"$error":"#VALUE!"}},{"$f":"IF(AND(Intermed_Input!$B$48>=50, Intermed_Input!F$46>0), Intermed_Input!F20,\"\")","v":{"$error":"#VALUE!"}},{"$f":"IF(AND(Intermed_Input!$B$48>=50, Intermed_Input!G$46>0), Intermed_Input!G20,\"\")","v":{"$error":"#VALUE!"}},{"$f":"IF(AND(Intermed_Input!$B$48>=50, Intermed_Input!H$46>0), Intermed_Input!H20,\"\")","v":{"$error":"#VALUE!"}},{"$f":"IF(AND(Intermed_Input!$B$48>=50, Intermed_Input!I$46>=0), Intermed_Input!I20,\"\")","v":{"$error":"#VALUE!"}},null,18,"","","","","","","",""]
[19,{"$f":"IF(AND(Intermed_Input!$B$48>=50, Intermed_Input!B$46>0), Intermed_Input!B21,\"\")","v":{"$error":"#VALUE!"}},{"$f":"IF(AND(Intermed_Input!$B$48>=50, Intermed_Input!C$46>0), Intermed_Input!C21,\"\")","v":{"$error":"#VALUE!"}},{"$f":"IF(AND(Intermed_Input!$B$48>=50, Intermed_Input!D$46>0), Intermed_Input!D21,\"\")","v":{"$error":"#VALUE!"}},{"$f":"IF(AND(Intermed_Input!$B$48>=50, Intermed_Input!E$46>0), Intermed_Input!E21,\"\")","v":{"$error":"#VALUE!"}},{"$f":"IF(AND(Intermed_Input!$B$48>=50, Intermed_Input!F$46>0), Intermed_Input!F21,\"\")","v":{"$error":"#VALUE!"}},{"$f":"IF(AND(Intermed_Input!$B$48>=50, Intermed_Input!G$46>0), Intermed_Input!G21,\"\")","v":{"$error":"#VALUE!"}},{"$f":"IF(AND(Intermed_Input!$B$48>=50, Intermed_Input!H$46>0), Intermed_Input!H21,\"\")","v":{"$error":"#VALUE!"}},{"$f":"IF(AND(Intermed_Input!$B$48>=50, Intermed_Input!I$46>=0), Intermed_Input!I21,\"\")","v":{"$error":"#VALUE!"}},null,19,"","","","","","","",""]
[20,{"$f":"IF(AND(Intermed_Input!$B$48>=50, Intermed_Input!B$46>0), Intermed_Input!B22,\"\")","v":{"$error":"#VALUE!"}},{"$f":"IF(AND(Intermed_Input!$B$48>=50, Intermed_Input!C$46>0), Intermed_Input!C22,\"\")","v":{"$error":"#VALUE!"}},{"$f":"IF(AND(Intermed_Input!$B$48>=50, Intermed_Input!D$46>0), Intermed_Input!D22,\"\")","v":{"$error":"#VALUE!"}},{"$f":"IF(AND(Intermed_Input!$B$48>=50, Intermed_Input!E$46>0), Intermed_Input!E22,\"\")","v":{"$error":"#VALUE!"}},{"$f":"IF(AND(Intermed_Input!$B$48>=50, Intermed_Input!F$46>0), Intermed_Input!F22,\"\")","v":{"$error":"#VALUE!"}},{"$f":"IF(AND(Intermed_Input!$B$48>=50, Intermed_Input!G$46>0), Intermed_Input!G22,\"\")","v":{"$error":"#VALUE!"}},{"$f":"IF(AND(Intermed_Input!$B$48>=50, Intermed_Input!H$46>0), Intermed_Input!H22,\"\")","v":{"$error":"#VALUE!"}},{"$f":"IF(AND(Intermed_Input!$B$48>=50, Intermed_Input!I$46>=0), Intermed_Input!I22,\"\")","v":{"$error":"#VALUE!"}},null,20,"","","","","","","",""]
["Mean",{"$f":"IF(COUNT(B3:B22)>0, AVERAGE(B3:B22),\"\")","v":""},"","","","","","","",null,"Overall Mean of the Observations (X)",null,null,null,{"$f":"AVERAGE(L3:S22)","v":{"$error":"#DIV/0!"}}]
["Variance",{"$f":"IF(COUNT(B3:B22)>0,VAR(B3:B22),\"\")","v":""},"","","","","","",""]
["i",1,2,3,4,5,6,7,8]
[null,null,null,null,null,null,null,null,null,null,null,null,null,null,null,"Alpha Level","Critical Value"]
["Xi","Ordered Xi",null,"Xi2","Standardized Value (zi)","pi","Di+","Di-",null,null,null,null,null,null,null,0.01,1.0349999999999999]
[{"$f":"L3","v":""},1,{"$f":"IF(ISERR(SMALL($A$28:$A$187,B28)),\"\",SMALL($A$28:$A$187,B28))","v":""},{"$f":"IF(ISNUMBER(C28),C28^2,\"\")","v":""},{"$f":"IF(ISNUMBER(C28),C28/$D$188,\"\")","v":""},{"$f":"NORMDIST(E28, 0, 1,1)","v":{"$error":"#VALUE!"}},{"$f":"IF(ISNUMBER(F28),((B28/COUNT($B$3:$I$22))-F28),\"\")","v":""},{"$f":"IF(ISNUMBER(C28),F28-((B28-1)/COUNT($B$3:$I$22)),\"\")","v":""},null,"D+=",{"$f":"MAX(G28:G187)","v":0},null,null,null,null,2.5000000000000001E-2,0.95499999999999996]
["",2,"",{"$f":"IF(ISNUMBER(C29),C29^2,\"\")","v":""},"",{"$f":"NORMDIST(E29, 0, 1,1)","v":{"$error":"#VALUE!"}},{"$f":"IF(ISNUMBER(F29),((B29/COUNT($B$3:$I$22))-F29),\"\")","v":""},{"$f":"IF(ISNUMBER(C29),F29-((B29-1)/COUNT($B$3:$I$22)),\"\")","v":""},null,"D-=",{"$f":"MAX(H28:H187)","v":0},null,null,null,null,0.05,0.89500000000000002]
["",3,"","","",{"$error":"#VALUE!"},"","",null,"D=",{"$f":"MAX(K28:K29)","v":0},null,null,null,null,0.1,0.81899999999999995]
["",4,"","","",{"$error":"#VALUE!"},"","",null,"D*=",{"$f":"IF(ISNUMBER(B3),K30*(((SQRT(COUNT(B3:I22)))-0.01)+(0.85/SQRT(COUNT(B3:I22)))),\"\")","v":""},null,null,null,null,0.15,0.77500000000000002]
["",5,"","","",{"$error":"#VALUE!"},"","",null,"Critical Value=",1.0349999999999999,"Significance Level set at 0.01 - do we want to make this variable or change to another set level?"]
["",6,"","","",{"$error":"#VALUE!"},"","",null,null,"If the computed value is greater than the critical value, conclude that the data are not normally distributed."]
["",7,"","","",{"$error":"#VALUE!"},"",""]
["",8,"","","",{"$error":"#VALUE!"},"",""]
["",9,"","","",{"$error":"#VALUE!"},"",""]
["",10,"","","",{"$error":"#VALUE!"},"","",null,null,{"$f":"IF(AND(ISNUMBER(K31),K31>K32),\"Not normally distributed\",IF(AND(ISNUMBER(K31),K31<=K32),\"Normally distributed\",\"\"))","v":""}]
["",11,"","","",{"$error":"#VALUE!"},"",""]
["",12,"","","",{"$error":"#VALUE!"},"",""]
["",13,"","","",{"$error":"#VALUE!"},"",""]
["",14,"","","",{"$error":"#VALUE!"},"",""]
["",15,"","","",{"$error":"#VALUE!"},"",""]
["",16,"","","",{"$error":"#VALUE!"},"",""]
["",17,"","","",{"$error":"#VALUE!"},"",""]
["",18,"","","",{"$error":"#VALUE!"},"",""]
["",19,"","","",{"$error":"#VALUE!"},"",""]
["",20,"","","",{"$error":"#VALUE!"},"",""]
[{"$f":"M3","v":""},21,"","","",{"$error":"#VALUE!"},"",""]
["",22,"","","",{"$error":"#VALUE!"},"",""]
["",23,"","","",{"$error":"#VALUE!"},"",""]
["",24,"","","",{"$error":"#VALUE!"},"",""]
["",25,"","","",{"$error":"#VALUE!"},"",""]
["",26,"","","",{"$error":"#VALUE!"},"",""]
["",27,"","","",{"$error":"#VALUE!"},"",""]
["",28,"","","",{"$error":"#VALUE!"},"",""]
["",29,"","","",{"$error":"#VALUE!"},"",""]
["",30,"","","",{"$error":"#VALUE!"},"",""]
["",31,"","","",{"$error":"#VALUE!"},"",""]
["",32,"","","",{"$error":"#VALUE!"},"",""]
["",33,{"$f":"IF(ISERR(SMALL($A$28:$A$187,B60)),\"\",SMALL($A$28:$A$187,B60))","v":""},"",{"$f":"IF(ISNUMBER(C60),C60/$D$188,\"\")","v":""},{"$error":"#VALUE!"},"",""]
["",34,"","","",{"$error":"#VALUE!"},"",""]
["",35,"","","",{"$error":"#VALUE!"},"",""]
["",36,"","","",{"$error":"#VALUE!"},"",""]
["",37,"","","",{"$error":"#VALUE!"},"",""]
["",38,"","","",{"$error":"#VALUE!"},"",""]
["",39,"","","",{"$error":"#VALUE!"},"",""]
["",40,"","","",{"$error":"#VALUE!"},"",""]
[{"$f":"N3","v":""},41,"","","",{"$error":"#VALUE!"},"",""]
["",42,"","","",{"$error":"#VALUE!"},"",""]
["",43,"","","",{"$error":"#VALUE!"},"",""]
["",44,"","","",{"$error":"#VALUE!"},"",""]
["",45,"","","",{"$error":"#VALUE!"},"",""]
["",46,"","","",{"$error":"#VALUE!"},"",""]
["",47,"","","",{"$error":"#VALUE!"},"",""]
["",48,"","","",{"$error":"#VALUE!"},"",""]
["",49,"","","",{"$error":"#VALUE!"},"",""]
["",50,"","","",{"$error":"#VALUE!"},"",""]
["",51,"","","",{"$error":"#VALUE!"},"",""]
["",52,"","","",{"$error":"#VALUE!"},"",""]
["",53,"","","",{"$error":"#VALUE!"},"",""]
["",54,"","","",{"$error":"#VALUE!"},"",""]
["",55,"","","",{"$error":"#VALUE!"},"",""]
["",56,"","","",{"$error":"#VALUE!"},"",""]
["",57,"","","",{"$error":"#VALUE!"},"",""]
["",58,"","","",{"$error":"#VALUE!"},"",""]
["",59,"","","",{"$error":"#VALUE!"},"",""]
["",60,"","","",{"$error":"#VALUE!"},"",""]
[{"$f":"O3","v":""},61,"","","",{"$error":"#VALUE!"},"",""]
["",62,"","","",{"$error":"#VALUE!"},"",""]
["",63,"","","",{"$error":"#VALUE!"},"",""]
["",64,"","","",{"$error":"#VALUE!"},"",""]
["",65,{"$f":"IF(ISERR(SMALL($A$28:$A$187,B92)),\"\",SMALL($A$28:$A$187,B92))","v":""},"",{"$f":"IF(ISNUMBER(C92),C92/$D$188,\"\")","v":""},{"$error":"#VALUE!"},"",""]
["",66,"",{"$f":"IF(ISNUMBER(C93),C93^2,\"\")","v":""},"",{"$f":"NORMDIST(E93, 0, 1,1)","v":{"$error":"#VALUE!"}},{"$f":"IF(ISNUMBER(F93),((B93/COUNT($B$3:$I$22))-F93),\"\")","v":""},{"$f":"IF(ISNUMBER(C93),F93-((B93-1)/COUNT($B$3:$I$22)),\"\")","v":""}]
["",67,"","","",{"$error":"#VALUE!"},"",""]
["",68,"","","",{"$error":"#VALUE!"},"",""]
["",69,"","","",{"$error":"#VALUE!"},"",""]
["",70,"","","",{"$error":"#VALUE!"},"",""]
["",71,"","","",{"$error":"#VALUE!"},"",""]
["",72,"","","",{"$error":"#VALUE!"},"",""]
["",73,"","","",{"$error":"#VALUE!"},"",""]
["",74,"","","",{"$error":"#VALUE!"},"",""]
["",75,"","","",{"$error":"#VALUE!"},"",""]
["",76,"","","",{"$error":"#VALUE!"},"",""]
["",77,"","","",{"$error":"#VALUE!"},"",""]
["",78,"","","",{"$error":"#VALUE!"},"",""]
["",79,"","","",{"$error":"#VALUE!"},"",""]
["",80,"","","",{"$error":"#VALUE!"},"",""]
[{"$f":"P3","v":""},81,{"$f":"IF(ISERR(SMALL($A$28:$A$187,B108)),\"\",SMALL($A$28:$A$187,B108))","v":""},"",{"$f":"IF(ISNUMBER(C108),C108/$D$188,\"\")","v":""},{"$error":"#VALUE!"},{"$f":"IF(ISNUMBER(F108),((B108/COUNT($B$3:$I$22))-F108),\"\")","v":""},{"$f":"IF(ISNUMBER(C108),F108-((B108-1)/COUNT($B$3:$I$22)),\"\")","v":""}]
[{"$f":"P4","v":""},82,"","","",{"$error":"#VALUE!"},{"$f":"IF(ISNUMBER(F109),((B109/COUNT($B$3:$I$22))-F109),\"\")","v":""},{"$f":"IF(ISNUMBER(C109),F109-((B109-1)/COUNT($B$3:$I$22)),\"\")","v":""}]
["",83,"","","",{"$error":"#VALUE!"},"",""]
["",84,"","","",{"$error":"#VALUE!"},"",""]
["",85,"","","",{"$error":"#VALUE!"},"",""]
["",86,"","","",{"$error":"#VALUE!"},"",""]
["",87,"","","",{"$error":"#VALUE!"},"",""]
["",88,"","","",{"$error":"#VALUE!"},"",""]
["",89,"","","",{"$error":"#VALUE!"},"",""]
["",90,"","","",{"$error":"#VALUE!"},"",""]
["",91,"","","",{"$error":"#VALUE!"},"",""]
["",92,"","","",{"$error":"#VALUE!"},"",""]
["",93,"","","",{"$error":"#VALUE!"},"",""]
["",94,"","","",{"$error":"#VALUE!"},"",""]
["",95,"","","",{"$error":"#VALUE!"},"",""]
["",96,"","","",{"$error":"#VALUE!"},"",""]
["",97,"","","",{"$error":"#VALUE!"},"",""]
["",98,"","","",{"$error":"#VALUE!"},"",""]
["",99,"","","",{"$error":"#VALUE!"},"",""]
["",100,"","","",{"$error":"#VALUE!"},"",""]
[{"$f":"Q3","v":""},101,"","","",{"$error":"#VALUE!"},"",""]
[{"$f":"Q4","v":""},102,"","","",{"$error":"#VALUE!"},"",""]
["",103,"","","",{"$error":"#VALUE!"},"",""]
["",104,"","","",{"$error":"#VALUE!"},"",""]
["",105,"","","",{"$error":"#VALUE!"},"",""]
["",106,"","","",{"$error":"#VALUE!"},"",""]
["",107,"","","",{"$error":"#VALUE!"},"",""]
["",108,"","","",{"$error":"#VALUE!"},"",""]
["",109,"","","",{"$error":"#VALUE!"},"",""]
["",110,"","","",{"$error":"#VALUE!"},"",""]
["",111,"","","",{"$error":"#VALUE!"},"",""]
["",112,"","","",{"$error":"#VALUE!"},"",""]
["",113,"","","",{"$error":"#VALUE!"},"",""]
["",114,"","","",{"$error":"#VALUE!"},"",""]
["",115,"","","",{"$error":"#VALUE!"},"",""]
["",116,"","","",{"$error":"#VALUE!"},"",""]
["",117,"","","",{"$error":"#VALUE!"},"",""]
["",118,"","","",{"$error":"#VALUE!"},"",""]
["",119,"","","",{"$error":"#VALUE!"},"",""]
["",120,"","","",{"$error":"#VALUE!"},"",""]
[{"$f":"R3","v":""},121,{"$f":"IF(ISERR(SMALL($A$28:$A$187,B148)),\"\",SMALL($A$28:$A$187,B148))","v":""},"",{"$f":"IF(ISNUMBER(C148),C148/$D$188,\"\")","v":""},{"$error":"#VALUE!"},{"$f":"IF(ISNUMBER(F148),((B148/COUNT($B$3:$I$22))-F148),\"\")","v":""},{"$f":"IF(ISNUMBER(C148),F148-((B148-1)/COUNT($B$3:$I$22)),\"\")","v":""}]
["",122,{"$f":"IF(ISERR(SMALL($A$28:$A$187,B149)),\"\",SMALL($A$28:$A$187,B149))","v":""},"",{"$f":"IF(ISNUMBER(C149),C149/$D$188,\"\")","v":""},{"$error":"#VALUE!"},{"$f":"IF(ISNUMBER(F149),((B149/COUNT($B$3:$I$22))-F149),\"\")","v":""},{"$f":"IF(ISNUMBER(C149),F149-((B149-1)/COUNT($B$3:$I$22)),\"\")","v":""}]
["",123,{"$f":"IF(ISERR(SMALL($A$28:$A$187,B150)),\"\",SMALL($A$28:$A$187,B150))","v":""},"",{"$f":"IF(ISNUMBER(C150),C150/$D$188,\"\")","v":""},{"$error":"#VALUE!"},"",""]
["",124,"","","",{"$error":"#VALUE!"},"",""]
["",125,"","","",{"$error":"#VALUE!"},"",""]
["",126,"","","",{"$error":"#VALUE!"},"",""]
["",127,"","","",{"$error":"#VALUE!"},"",""]
["",128,"","","",{"$error":"#VALUE!"},"",""]
["",129,"","","",{"$error":"#VALUE!"},"",""]
["",130,"","","",{"$error":"#VALUE!"},"",""]
["",131,"","","",{"$error":"#VALUE!"},"",""]
["",132,"","","",{"$error":"#VALUE!"},"",""]
["",133,"","","",{"$error":"#VALUE!"},"",""]
["",134,"","","",{"$error":"#VALUE!"},"",""]
["",135,"","","",{"$error":"#VALUE!"},"",""]
["",136,"","","",{"$error":"#VALUE!"},"",""]
["",137,"","","",{"$error":"#VALUE!"},"",""]
["",138,"","","",{"$error":"#VALUE!"},"",""]
["",139,"","","",{"$error":"#VALUE!"},"",""]
["",140,"","","",{"$error":"#VALUE!"},"",""]
[{"$f":"S3","v":""},141,"","","",{"$error":"#VALUE!"},"",""]
[{"$f":"S4","v":""},142,"","","",{"$error":"#VALUE!"},"",""]
["",143,"","","",{"$error":"#VALUE!"},"",""]
["",144,"","","",{"$error":"#VALUE!"},"",""]
["",145,"","","",{"$error":"#VALUE!"},"",""]
["",146,"","","",{"$error":"#VALUE!"},"",""]
["",147,"","","",{"$error":"#VALUE!"},"",""]
["",148,"","","",{"$error":"#VALUE!"},"",""]
["",149,"","","",{"$error":"#VALUE!"},"",""]
["",150,"","","",{"$error":"#VALUE!"},"",""]
[{"$f":"S13","v":""},151,"","","",{"$error":"#VALUE!"},"",""]
["",152,"","","",{"$error":"#VALUE!"},"",""]
["",153,"","","",{"$error":"#VALUE!"},"",""]
["",154,"","","",{"$error":"#VALUE!"},"",""]
["",155,"","","",{"$error":"#VALUE!"},"",""]
["",156,"","","",{"$error":"#VALUE!"},"",""]
["",157,"","","",{"$error":"#VALUE!"},"",""]
["",158,"","","",{"$error":"#VALUE!"},"",""]
["",159,"","","",{"$error":"#VALUE!"},"",""]
["",160,"","","",{"$error":"#VALUE!"},"",""]
[null,null,"s=",{"$f":"SQRT(SUM(D28:D187)/(COUNT(B3:I22)-1))","v":0}]

{"sheet":"Parametric","index":15,"n_rows":74,"n_cols":21,"rows_kept":74,"cut":false,"hidden":true,"merged":[[35,17,35,18],[33,4,33,5],[2,0,3,0],[33,0,34,0],[34,17,34,18],[2,1,2,8],[71,6,71,7],[72,6,72,7],[51,0,52,0],[51,4,51,5],[52,17,52,18],[53,17,53,18],[70,1,70,2],[70,3,70,4],[70,5,70,8]]}
["This Tab includes Dunnett's test, t-test with Bonfoeroni adjustment, Barlett's test of homogeneity"]
[]
["Replicate","Effluent Concentration (%)"]
[null,{"$f":"Intermed_Input!B2","v":""},{"$f":"Intermed_Input!C2","v":""},{"$f":"Intermed_Input!D2","v":""},{"$f":"Intermed_Input!E2","v":""},{"$f":"Intermed_Input!F2","v":""},{"$f":"Intermed_Input!G2","v":""},{"$f":"Intermed_Input!H2","v":""},{"$f":"Intermed_Input!I2","v":""}]
[1,{"$f":"Intermed_Input!B3","v":{"$error":"#N/A"}},{"$f":"Intermed_Input!C3","v":{"$error":"#N/A"}},{"$f":"Intermed_Input!D3","v":{"$error":"#N/A"}},{"$f":"Intermed_Input!E3","v":{"$error":"#N/A"}},{"$f":"Intermed_Input!F3","v":{"$error":"#N/A"}},{"$f":"Intermed_Input!G3","v":{"$error":"#N/A"}},{"$f":"Intermed_Input!H3","v":{"$error":"#N/A"}},{"$f":"Intermed_Input!I3","v":{"$error":"#N/A"}}]
[2,{"$f":"Intermed_Input!B4","v":{"$error":"#N/A"}},{"$f":"Intermed_Input!C4","v":{"$error":"#N/A"}},{"$f":"Intermed_Input!D4","v":{"$error":"#N/A"}},{"$f":"Intermed_Input!E4","v":{"$error":"#N/A"}},{"$f":"Intermed_Input!F4","v":{"$error":"#N/A"}},{"$f":"Intermed_Input!G4","v":{"$error":"#N/A"}},{"$f":"Intermed_Input!H4","v":{"$error":"#N/A"}},{"$f":"Intermed_Input!I4","v":{"$error":"#N/A"}}]
[3,{"$f":"Intermed_Input!B5","v":{"$error":"#N/A"}},{"$f":"Intermed_Input!C5","v":{"$error":"#N/A"}},{"$f":"Intermed_Input!D5","v":{"$error":"#N/A"}},{"$f":"Intermed_Input!E5","v":{"$error":"#N/A"}},{"$f":"Intermed_Input!F5","v":{"$error":"#N/A"}},{"$f":"Intermed_Input!G5","v":{"$error":"#N/A"}},{"$f":"Intermed_Input!H5","v":{"$error":"#N/A"}},{"$f":"Intermed_Input!I5","v":{"$error":"#N/A"}}]
[4,{"$f":"Intermed_Input!B6","v":{"$error":"#N/A"}},{"$f":"Intermed_Input!C6","v":{"$error":"#N/A"}},{"$f":"Intermed_Input!D6","v":{"$error":"#N/A"}},{"$f":"Intermed_Input!E6","v":{"$error":"#N/A"}},{"$f":"Intermed_Input!F6","v":{"$error":"#N/A"}},{"$f":"Intermed_Input!G6","v":{"$error":"#N/A"}},{"$f":"Intermed_Input!H6","v":{"$error":"#N/A"}},{"$f":"Intermed_Input!I6","v":{"$error":"#N/A"}}]
[5,{"$f":"Intermed_Input!B7","v":{"$error":"#N/A"}},{"$f":"Intermed_Input!C7","v":{"$error":"#N/A"}},{"$f":"Intermed_Input!D7","v":{"$error":"#N/A"}},{"$f":"Intermed_Input!E7","v":{"$error":"#N/A"}},{"$f":"Intermed_Input!F7","v":{"$error":"#N/A"}},{"$f":"Intermed_Input!G7","v":{"$error":"#N/A"}},{"$f":"Intermed_Input!H7","v":{"$error":"#N/A"}},{"$f":"Intermed_Input!I7","v":{"$error":"#N/A"}}]
[6,{"$f":"Intermed_Input!B8","v":{"$error":"#N/A"}},{"$f":"Intermed_Input!C8","v":{"$error":"#N/A"}},{"$f":"Intermed_Input!D8","v":{"$error":"#N/A"}},{"$f":"Intermed_Input!E8","v":{"$error":"#N/A"}},{"$f":"Intermed_Input!F8","v":{"$error":"#N/A"}},{"$f":"Intermed_Input!G8","v":{"$error":"#N/A"}},{"$f":"Intermed_Input!H8","v":{"$error":"#N/A"}},{"$f":"Intermed_Input!I8","v":{"$error":"#N/A"}}]
[7,{"$f":"Intermed_Input!B9","v":{"$error":"#N/A"}},{"$f":"Intermed_Input!C9","v":{"$error":"#N/A"}},{"$f":"Intermed_Input!D9","v":{"$error":"#N/A"}},{"$f":"Intermed_Input!E9","v":{"$error":"#N/A"}},{"$f":"Intermed_Input!F9","v":{"$error":"#N/A"}},{"$f":"Intermed_Input!G9","v":{"$error":"#N/A"}},{"$f":"Intermed_Input!H9","v":{"$error":"#N/A"}},{"$f":"Intermed_Input!I9","v":{"$error":"#N/A"}}]
[8,{"$f":"Intermed_Input!B10","v":{"$error":"#N/A"}},{"$f":"Intermed_Input!C10","v":{"$error":"#N/A"}},{"$f":"Intermed_Input!D10","v":{"$error":"#N/A"}},{"$f":"Intermed_Input!E10","v":{"$error":"#N/A"}},{"$f":"Intermed_Input!F10","v":{"$error":"#N/A"}},{"$f":"Intermed_Input!G10","v":{"$error":"#N/A"}},{"$f":"Intermed_Input!H10","v":{"$error":"#N/A"}},{"$f":"Intermed_Input!I10","v":{"$error":"#N/A"}}]
[9,{"$f":"Intermed_Input!B11","v":{"$error":"#N/A"}},{"$f":"Intermed_Input!C11","v":{"$error":"#N/A"}},{"$f":"Intermed_Input!D11","v":{"$error":"#N/A"}},{"$f":"Intermed_Input!E11","v":{"$error":"#N/A"}},{"$f":"Intermed_Input!F11","v":{"$error":"#N/A"}},{"$f":"Intermed_Input!G11","v":{"$error":"#N/A"}},{"$f":"Intermed_Input!H11","v":{"$error":"#N/A"}},{"$f":"Intermed_Input!I11","v":{"$error":"#N/A"}}]
[10,{"$f":"Intermed_Input!B12","v":{"$error":"#N/A"}},{"$f":"Intermed_Input!C12","v":{"$error":"#N/A"}},{"$f":"Intermed_Input!D12","v":{"$error":"#N/A"}},{"$f":"Intermed_Input!E12","v":{"$error":"#N/A"}},{"$f":"Intermed_Input!F12","v":{"$error":"#N/A"}},{"$f":"Intermed_Input!G12","v":{"$error":"#N/A"}},{"$f":"Intermed_Input!H12","v":{"$error":"#N/A"}},{"$f":"Intermed_Input!I12","v":{"$error":"#N/A"}}]
[11,{"$f":"Intermed_Input!B13","v":{"$error":"#N/A"}},{"$f":"Intermed_Input!C13","v":{"$error":"#N/A"}},{"$f":"Intermed_Input!D13","v":{"$error":"#N/A"}},{"$f":"Intermed_Input!E13","v":{"$error":"#N/A"}},{"$f":"Intermed_Input!F13","v":{"$error":"#N/A"}},{"$f":"Intermed_Input!G13","v":{"$error":"#N/A"}},{"$f":"Intermed_Input!H13","v":{"$error":"#N/A"}},{"$f":"Intermed_Input!I13","v":{"$error":"#N/A"}}]
[12,{"$f":"Intermed_Input!B14","v":{"$error":"#N/A"}},{"$f":"Intermed_Input!C14","v":{"$error":"#N/A"}},{"$f":"Intermed_Input!D14","v":{"$error":"#N/A"}},{"$f":"Intermed_Input!E14","v":{"$error":"#N/A"}},{"$f":"Intermed_Input!F14","v":{"$error":"#N/A"}},{"$f":"Intermed_Input!G14","v":{"$error":"#N/A"}},{"$f":"Intermed_Input!H14","v":{"$error":"#N/A"}},{"$f":"Intermed_Input!I14","v":{"$error":"#N/A"}}]
[13,{"$f":"Intermed_Input!B15","v":{"$error":"#N/A"}},{"$f":"Intermed_Input!C15","v":{"$error":"#N/A"}},{"$f":"Intermed_Input!D15","v":{"$error":"#N/A"}},{"$f":"Intermed_Input!E15","v":{"$error":"#N/A"}},{"$f":"Intermed_Input!F15","v":{"$error":"#N/A"}},{"$f":"Intermed_Input!G15","v":{"$error":"#N/A"}},{"$f":"Intermed_Input!H15","v":{"$error":"#N/A"}},{"$f":"Intermed_Input!I15","v":{"$error":"#N/A"}}]
[14,{"$f":"Intermed_Input!B16","v":{"$error":"#N/A"}},{"$f":"Intermed_Input!C16","v":{"$error":"#N/A"}},{"$f":"Intermed_Input!D16","v":{"$error":"#N/A"}},{"$f":"Intermed_Input!E16","v":{"$error":"#N/A"}},{"$f":"Intermed_Input!F16","v":{"$error":"#N/A"}},{"$f":"Intermed_Input!G16","v":{"$error":"#N/A"}},{"$f":"Intermed_Input!H16","v":{"$error":"#N/A"}},{"$f":"Intermed_Input!I16","v":{"$error":"#N/A"}}]
[15,{"$f":"Intermed_Input!B17","v":{"$error":"#N/A"}},{"$f":"Intermed_Input!C17","v":{"$error":"#N/A"}},{"$f":"Intermed_Input!D17","v":{"$error":"#N/A"}},{"$f":"Intermed_Input!E17","v":{"$error":"#N/A"}},{"$f":"Intermed_Input!F17","v":{"$error":"#N/A"}},{"$f":"Intermed_Input!G17","v":{"$error":"#N/A"}},{"$f":"Intermed_Input!H17","v":{"$error":"#N/A"}},{"$f":"Intermed_Input!I17","v":{"$error":"#N/A"}}]
[16,{"$f":"Intermed_Input!B18","v":{"$error":"#N/A"}},{"$f":"Intermed_Input!C18","v":{"$error":"#N/A"}},{"$f":"Intermed_Input!D18","v":{"$error":"#N/A"}},{"$f":"Intermed_Input!E18","v":{"$error":"#N/A"}},{"$f":"Intermed_Input!F18","v":{"$error":"#N/A"}},{"$f":"Intermed_Input!G18","v":{"$error":"#N/A"}},{"$f":"Intermed_Input!H18","v":{"$error":"#N/A"}},{"$f":"Intermed_Input!I18","v":{"$error":"#N/A"}}]
[17,{"$f":"Intermed_Input!B19","v":{"$error":"#N/A"}},{"$f":"Intermed_Input!C19","v":{"$error":"#N/A"}},{"$f":"Intermed_Input!D19","v":{"$error":"#N/A"}},{"$f":"Intermed_Input!E19","v":{"$error":"#N/A"}},{"$f":"Intermed_Input!F19","v":{"$error":"#N/A"}},{"$f":"Intermed_Input!G19","v":{"$error":"#N/A"}},{"$f":"Intermed_Input!H19","v":{"$error":"#N/A"}},{"$f":"Intermed_Input!I19","v":{"$error":"#N/A"}}]
[18,{"$f":"Intermed_Input!B20","v":{"$error":"#N/A"}},{"$f":"Intermed_Input!C20","v":{"$error":"#N/A"}},{"$f":"Intermed_Input!D20","v":{"$error":"#N/A"}},{"$f":"Intermed_Input!E20","v":{"$error":"#N/A"}},{"$f":"Intermed_Input!F20","v":{"$error":"#N/A"}},{"$f":"Intermed_Input!G20","v":{"$error":"#N/A"}},{"$f":"Intermed_Input!H20","v":{"$error":"#N/A"}},{"$f":"Intermed_Input!I20","v":{"$error":"#N/A"}}]
[19,{"$f":"Intermed_Input!B21","v":{"$error":"#N/A"}},{"$f":"Intermed_Input!C21","v":{"$error":"#N/A"}},{"$f":"Intermed_Input!D21","v":{"$error":"#N/A"}},{"$f":"Intermed_Input!E21","v":{"$error":"#N/A"}},{"$f":"Intermed_Input!F21","v":{"$error":"#N/A"}},{"$f":"Intermed_Input!G21","v":{"$error":"#N/A"}},{"$f":"Intermed_Input!H21","v":{"$error":"#N/A"}},{"$f":"Intermed_Input!I21","v":{"$error":"#N/A"}}]
[20,{"$f":"Intermed_Input!B22","v":{"$error":"#N/A"}},{"$f":"Intermed_Input!C22","v":{"$error":"#N/A"}},{"$f":"Intermed_Input!D22","v":{"$error":"#N/A"}},{"$f":"Intermed_Input!E22","v":{"$error":"#N/A"}},{"$f":"Intermed_Input!F22","v":{"$error":"#N/A"}},{"$f":"Intermed_Input!G22","v":{"$error":"#N/A"}},{"$f":"Intermed_Input!H22","v":{"$error":"#N/A"}},{"$f":"Intermed_Input!I22","v":{"$error":"#N/A"}}]
["Sum",{"$f":"IF(ISNUMBER(B5),SUM(B5:B24),\"\")","v":""},"","","","","","",""]
["n",{"$f":"IF(AND(ISNUMBER(B25), B25>0),COUNT(B5:B24),\"\")","v":""},"","","","","","",""]
["nc",{"$f":"COUNT($B$5:$B$24)","v":0},null,null,null,null,null,null,null,null,null,null,"These eqns for B & C",null,"B=2.30259[(logsp2)*df-(n-1)*logsi2] or (lnsp2)*df-(n-1)*logsi"]
["alpha=",0.05,null,null,null,null,null,null,null,"For Welch's test",null,null,"seem different than",null,"C=1+1/(3*(k-1))*(sum(1/(n-1))-1/(sum(n-1))"]
["degree of freeedom=",{"$f":"$B$32-$B$31","v":0},null,null,null,"ANOVA Table",null,null,null,"v",{"$f":"(VAR(B5:B24)/B26+VAR(C5:C24)/C26)^2/((VAR(B5:B24)/B26)^2/(B26-1)+(VAR(C5:C24)/C26)^2/(C26-1))","v":{"$error":"#N/A"}},null,"fxns in O36 & P36",null,"Bc=B/C"]
["t-crit=",{"$f":"IF(SUMPRODUCT((Table_Dun!$A$6:$A$27=$B$29)*1) = 1, INDEX(Table_Dun!$A$5:$J$27,MATCH($B$29,Table_Dun!$A$5:$A$27,0),MATCH($B$31,Table_Dun!$A5:$J5,0)),  (INDEX(Table_Dun!$A$5:$J$27,MATCH($B$29,Table_Dun!$A$5:$A$27,1),MATCH($B$31,Table_Dun!$A5:$J5,0))+ INDEX(Table_Dun!$A$5:$J$27,MATCH($B$29,Table_Dun!$A$5:$A$27,1)+1,MATCH($B$31,Table_Dun!$A5:$J5,1)))/2)","v":{"$error":"#N/A"}},null,null,null,"ss_total",{"$f":"(SUMSQ($B$5:$I$24)-SUM($B$5:$I$24)^2/$B$32)","v":{"$error":"#N/A"}},"þ",null,"t'",{"$f":"(B36-B37)/SQRT(C36^2/B26+C37^2/C26)","v":{"$error":"#VALUE!"}}]
["group k (aka p)",{"$f":"COUNT($B$26:$I$26)","v":0},null,null,null,"ss_btw",{"$f":"SUM(K36:K43)-SUM($B$5:$I$24)^2/$B$32","v":{"$error":"#N/A"}},"þ",null,"t-crit",{"$f":"_xlfn.T.INV(1-B28,K29)","v":{"$error":"#N/A"}}]
["N",{"$f":"SUM(B26:I26)","v":0},null,null,null,"ss_within",{"$f":"G30-G31","v":{"$error":"#N/A"}},"þ",null,"Significant",{"$f":"IF(K30>K31, \"NS\", \"Y\")","v":{"$error":"#VALUE!"}},null,null,null,"chisq0.05,k-1",{"$f":"CHIINV(0.05, $B$31-1)","v":{"$error":"#NUM!"}}]
[null,null,null,null,null,null,null,"t-value",{"$f":"IF(SUMPRODUCT((Table_Bonf!$A$3:$A$52=$B$29)*1) = 1, INDEX(Table_Bonf!$A$3:$K$52,MATCH($B$29,Table_Bonf!$A$3:$A$52,0),MATCH($B$31,Table_Bonf!$A3:$K3,0)),  (INDEX(Table_Bonf!$A$3:$K$52,MATCH($B$29,Table_Bonf!$A$3:$A$52,1),MATCH($B$31,Table_Bonf!$A3:$K3,0))+ INDEX(Table_Bonf!$A$3:$K$52,MATCH($B$29,Table_Bonf!$A$3:$A$52,1)+1,MATCH($B$31,Table_Bonf!$A3:$K3,0)))/2)","v":{"$error":"#N/A"}}]
["Conc.",null,null,null,"Dunnett's ",null,null,"t-test with B-adj",null,null,"Variance Calc",null,null,null,"Homogeneity of variances (H0)"]
[null,"GroupMean","Stdev.","Sp2","t","Non-toxic(alpha=0.05","n","t-value","Non-toxic(alpha=0.05)","GroupSum","Goupsum meansq","% Reduction","vi *si^2","vi*ln(si2)","B","C","Bc","Homogeneity"]
[{"$f":"IF($B$4=\"\",\"\",$B$4)","v":""},{"$f":"IF(OR(B4=\"\", B26=\"\"),\"\", B25/B26)","v":""},{"$f":"IF($B36=\"\", \"\", STDEV($B$5:$B$24))","v":""},{"$f":"SUMSQ($C36:$C43)/$B$31","v":{"$error":"#DIV/0!"}},null,null,{"$f":"B26","v":""},{"$f":"$G$32/$B$29","v":{"$error":"#N/A"}},null,{"$f":"IF($B36=\"\", \"\", SUM($B$5:$B$24))","v":""},{"$f":"IF($B36=\"\",\"\",IF($B36=0, 0, $J36^2/$G36))","v":""},null,{"$f":"IF($B36=\"\",\"\",$C36^2*(G36-1))","v":""},{"$f":"IF($C36=\"\",\"\",IF($C36=0,0, (LN($C36^2))*($G$36-1)))","v":""},{"$f":"(LN(M44)*$B$29)-N44","v":{"$error":"#DIV/0!"}},{"$f":"1+1/(3*($B$31-1))*($B$31/($B$27-1)-1/$B$29)","v":{"$error":"#DIV/0!"}},{"$f":"IF(ISNUMBER(O36), O36/P36, \"\")","v":""},{"$f":"IF(ISNUMBER($Q36), IF($Q36<$P$32, \"Y\", \"N\"), \"\")","v":""},null,"F0.05(2), n-1,n-1","<- f test for two groups"]
[{"$f":"IF($C$4=\"\",\"\",$C$4)","v":""},{"$f":"IF(OR(C4=\"\",C26=\"\"),\"\",C25/C26)","v":""},{"$f":"IF($B37=\"\", \"\", STDEV($C$5:$C$24))","v":""},{"$f":"IF($B37=\"\", \"\", ($C37^2+$C$36^2)/2)","v":""},{"$f":"IF($B37=\"\",\"\",(-$B37+$B$36)/(SQRT($D$36*2/$B$27)))","v":""},{"$f":"IF(ISNUMBER(E37), IF(B37>=$B$36, \"NS\", IF(E37<$B$30,\"NS\",\"Y\")),\"\")","v":""},{"$f":"C26","v":""},{"$f":"IF($B37=\"\",\"\",(-$B37+$B$36)/(SQRT($H$36*((1/$G37+1/$G$36)))))","v":""},{"$f":"IF(ISNUMBER($B37), IF($H37>$I$33,\"Y\",\"NS\"),\"\")","v":""},{"$f":"IF($B37=\"\", \"\", SUM($C$5:$C$24))","v":""},"",{"$f":"IF($B37=\"\", \"\", ($B$36-$B37)/$B$36)","v":""},"",{"$f":"IF($C37=\"\",\"\",IF($C37=0,0, LN($C37^2)*($G$37-1)))","v":""},"Qtest",{"$f":"IF($B37=\"\",\"\", IF($B37=0, 0,LN($C37^2)-LN($C$36)^2)/SQRT(2/($B$27-1)))","v":""},{"$f":"IF(ISNUMBER($B37), IF($C37=$C$36, \"Equal\", IF(OR($C37=0, $C$36=0), \"Zero\", IF($C37>$C$36, $C37^2/$C$36^2, $C$36^2/$C37^2))), \"\")","v":""},{"$f":"IF(ISNUMBER($Q37), IF($Q37<$T37, \"Y\", \"N\"), \"\")","v":""},{"$f":"IF(ISNUMBER($Q37),IF(P37>=$U$39,\"N\",\"Y\"),\"\")","v":""},{"$f":"FINV($B$28,$G$36-1,$G$37-1)","v":{"$error":"#VALUE!"}}]
[{"$f":"IF($D$4=\"\",\"\",$D$4)","v":""},{"$f":"IF(OR(D4=\"\",D26=\"\"),\"\",D25/D26)","v":""},{"$f":"IF($B38=\"\", \"\", STDEV($D$5:$D$24))","v":""},"","",{"$f":"IF(ISNUMBER(E38), IF(B38>=$B$36, \"NS\", IF(E38<$B$30,\"NS\",\"Y\")),\"\")","v":""},{"$f":"D26","v":""},"","",{"$f":"IF($B38=\"\", \"\", SUM($D$5:$D$24))","v":""},"","","",{"$f":"IF($C38=\"\",\"\",IF($C38=0,0, LN($C38^2)*($G$38-1)))","v":""},null,"","","","",{"$error":"#VALUE!"},"Q-critical"]
[{"$f":"IF($E$4=\"\",\"\",$E$4)","v":""},{"$f":"IF(OR(E4=\"\", E26=\"\"),\"\",E25/E26)","v":""},{"$f":"IF($B39=\"\", \"\", STDEV($E$5:$E$24))","v":""},"","","",{"$f":"E26","v":""},"","",{"$f":"IF($B39=\"\", \"\", SUM($E$5:$E$24))","v":""},"","","",{"$f":"IF($C39=\"\",\"\",IF($C39=0,0, LN($C39^2)*($G$39-1)))","v":""},null,"","","","",{"$error":"#VALUE!"},2.5]
[{"$f":"IF($F$4=\"\",\"\",$F$4)","v":""},{"$f":"IF(OR(F4=\"\",F26=\"\"),\"\",F25/F26)","v":""},{"$f":"IF($B40=\"\", \"\", STDEV($F$5:$F$24))","v":""},"","","",{"$f":"F26","v":""},"","",{"$f":"IF($B40=\"\", \"\", SUM($F$5:$F$24))","v":""},"","","",{"$f":"IF($C40=\"\",\"\",IF($C40=0,0, LN($C40^2)*($G$40-1)))","v":""},null,"","","","",{"$error":"#VALUE!"},"Levy's multiple comparison of variance"]
[{"$f":"IF($G$4=\"\",\"\",$G$4)","v":""},{"$f":"IF(OR(G4=\"\",G26=\"\"),\"\",G25/G26)","v":""},{"$f":"IF($B41=\"\", \"\", STDEV($G$5:$G$24))","v":""},"","","",{"$f":"G26","v":""},"","",{"$f":"IF($B41=\"\", \"\", SUM($G$5:$G$24))","v":""},"","","",{"$f":"IF($C41=\"\",\"\",IF($C41=0,0, LN($C41^2)*($G$40-1)))","v":""},null,"","","","",{"$error":"#VALUE!"}]
[{"$f":"IF($H$4=\"\",\"\",$H$4)","v":""},{"$f":"IF(OR(H4=\"\",H26=\"\"),\"\",H25/H26)","v":""},{"$f":"IF($B42=\"\", \"\", STDEV($H$5:$H$24))","v":""},"","","",{"$f":"H26","v":""},"","",{"$f":"IF($B42=\"\", \"\", SUM($H$5:$H$24))","v":""},"","","",{"$f":"IF($C42=\"\",\"\",IF($C42=0,0, LN($C42^2)*($G$40-1)))","v":""},null,"","","","",{"$error":"#VALUE!"}]
[{"$f":"IF($I$4=\"\",\"\",$I$4)","v":""},{"$f":"IF(OR(I4=\"\",I26=\"\"),\"\",I25/I26)","v":""},{"$f":"IF($B43=\"\", \"\", STDEV($I$5:$I$24))","v":""},"","","",{"$f":"I26","v":""},"","",{"$f":"IF($B43=\"\", \"\", SUM($I$5:$I$14))","v":""},"","","",{"$f":"IF($C43=\"\",\"\",IF($C43=0,0, LN($C43^2)*($G$40-1)))","v":""},null,"","","","",{"$error":"#VALUE!"}]
[null,null,null,{"$f":"SUM(D36:D43)","v":{"$error":"#DIV/0!"}},null,null,null,null,null,null,null,null,{"$f":"SUM(M36:M43)/$B$29","v":{"$error":"#DIV/0!"}},{"$f":"SUM(N36:N43)","v":0}]
[null,"For survival","Transformed","Untransformed"]
[null,"MSD",{"$f":"SQRT(D36)*B30*SQRT(2/B27)","v":{"$error":"#DIV/0!"}},{"$f":"(SIN(B36))^2-(SIN(B36-C46))^2","v":{"$error":"#VALUE!"}}]
[null,"PMSD",{"$f":"C46/B36","v":{"$error":"#DIV/0!"}},{"$f":"D46/(SIN(B36))^2","v":{"$error":"#VALUE!"}}]
[null,"Trigger",{"$f":"B36-C46","v":{"$error":"#VALUE!"}},{"$f":"(SIN(B36))^2-D46","v":{"$error":"#VALUE!"}}]
[]
[]
["Proofing results "]
["Conc.",null,null,null,"Dunnett's "]
[null,"GroupMean","Stdev.","Sp2","t","Non-toxic(alpha=0.05"]
[{"$f":"IF($B$4=\"\",\"\",$B$4)","v":""},{"$f":"IF(OR($B$4=\"\", $B$26=\"\"),\"\", $B$25/$B$26)","v":""},{"$f":"IF($B54=\"\", \"\", STDEV($B$5:$B$24))","v":""},{"$f":"SUMSQ($C54:$C61)/$B$31","v":{"$error":"#DIV/0!"}}]
[{"$f":"IF($C$4=\"\",\"\",$C$4)","v":""},{"$f":"IF(OR($C$4=\"\", $C$26=\"\"),\"\", $C$25/$C$26)","v":""},{"$f":"IF($B55=\"\", \"\", STDEV($C$5:$C$24))","v":""},{"$f":"IF($B55=\"\", \"\", ($C55^2+$C$36^2)/2)","v":""},{"$f":"IF($B55=\"\",\"\",(-$B55+$B$54)/(SQRT($I$73)*SQRT(2/$B$27)))","v":""},{"$f":"IF(ISNUMBER(E55), IF(B55>=$B$36, \"NS\", IF(E55<$B$30,\"NS\",\"Y\")),\"\")","v":""}]
[{"$f":"IF($D$4=\"\",\"\",$D$4)","v":""},{"$f":"IF(OR($D$4=\"\", $D$26=\"\"),\"\", $D$25/$D$26)","v":""},{"$f":"IF($B56=\"\", \"\", STDEV($D$5:$D$24))","v":""},"","",{"$f":"IF(ISNUMBER(E56), IF(B56>=$B$36, \"NS\", IF(E56<$B$30,\"NS\",\"Y\")),\"\")","v":""}]
[{"$f":"IF($E$4=\"\",\"\",$E$4)","v":""},{"$f":"IF(OR($E$4=\"\", $E$26=\"\"),\"\", $E$25/$E$26)","v":""},{"$f":"IF($B57=\"\", \"\", STDEV($E$5:$E$24))","v":""},"","",""]
[{"$f":"IF($F$4=\"\",\"\",$F$4)","v":""},{"$f":"IF(OR($F$4=\"\", $F$26=\"\"),\"\", $F$25/$F$26)","v":""},{"$f":"IF($B58=\"\", \"\", STDEV($F$5:$F$24))","v":""},"","",""]
[{"$f":"IF($G$4=\"\",\"\",$G$4)","v":""},{"$f":"IF(OR($G$4=\"\", $G$26=\"\"),\"\", $G$25/$G$26)","v":""},{"$f":"IF($B59=\"\", \"\", STDEV($G$5:$G$24))","v":""},"","",""]
[{"$f":"IF($H$4=\"\",\"\",$H$4)","v":""},{"$f":"IF(OR($H$4=\"\", $H$26=\"\"),\"\", $H$25/$H$26)","v":""},{"$f":"IF($B60=\"\", \"\", STDEV($H$5:$H$24))","v":""},"","",""]
[{"$f":"IF($I$4=\"\",\"\",$I$4)","v":""},{"$f":"IF(OR($I$4=\"\", $I$26=\"\"),\"\", $I$25/$I$26)","v":""},{"$f":"IF($B61=\"\", \"\", STDEV($I$5:$I$24))","v":""},"","",""]
[]
[null,"For survival","Transformed","Untransformed"]
[null,"MSD",{"$f":"SQRT($I$73)*$B$30*SQRT(2/B27)","v":{"$error":"#N/A"}},{"$f":"SIN(B54)^2 - (SIN(B54-C64))^2","v":{"$error":"#VALUE!"}}]
[null,"PMSD",{"$f":"C64/B54","v":{"$error":"#N/A"}},{"$f":"D64/(SIN(B54))^2","v":{"$error":"#VALUE!"}}]
[null,"Trigger",{"$f":"B54-C64","v":{"$error":"#VALUE!"}},{"$f":"(SIN(B54))^2-D64","v":{"$error":"#VALUE!"}}]
[]
[]
[]
[null,"Anova Table for Dunnett's Procedure"]
["Source","df",null,"Sum of Squares (SS)",null,"Mean Square (MS) (SS/df)"]
["Between","group k - 1",{"$f":"B31-1","v":-1},"SSB",{"$f":"G31","v":{"$error":"#N/A"}},"Sb2","SSB/(group k - 1)",null,{"$f":"E72/C72","v":{"$error":"#N/A"}},{"$f":"SQRT(I72)","v":{"$error":"#N/A"}},"Sb"]
["Within","N - group k",{"$f":"B32-B31","v":0},"SSW",{"$f":"G32","v":{"$error":"#N/A"}},"Sw2","SSW/(N - group k)",null,{"$f":"E73/C73","v":{"$error":"#N/A"}},{"$f":"SQRT(I73)","v":{"$error":"#N/A"}},"Sw"]
["Total","N - 1",{"$f":"B32-1","v":-1},"SST",{"$f":"G30","v":{"$error":"#N/A"}}]

{"sheet":"NonPara","index":16,"n_rows":79,"n_cols":20,"rows_kept":79,"cut":false,"hidden":true,"merged":[]}
["This tab includes Steel's test and Wilcoxon's rank sum tests"]
[]
["Test group","Control","Conc.1","Conc.2","Conc.3","Conc.4","Conc.5","Conc.7","Conc.7"]
[null,{"$f":"Intermed_Input!B2","v":""},{"$f":"Intermed_Input!C2","v":""},{"$f":"Intermed_Input!D2","v":""},{"$f":"Intermed_Input!E2","v":""},{"$f":"Intermed_Input!F2","v":""},{"$f":"Intermed_Input!G2","v":""},{"$f":"Intermed_Input!H2","v":""},{"$f":"Intermed_Input!I2","v":""}]
[1,{"$f":"Intermed_Input!B3","v":{"$error":"#N/A"}},{"$f":"Intermed_Input!C3","v":{"$error":"#N/A"}},{"$f":"Intermed_Input!D3","v":{"$error":"#N/A"}},{"$f":"Intermed_Input!E3","v":{"$error":"#N/A"}},{"$f":"Intermed_Input!F3","v":{"$error":"#N/A"}},{"$f":"Intermed_Input!G3","v":{"$error":"#N/A"}},{"$f":"Intermed_Input!H3","v":{"$error":"#N/A"}},{"$f":"Intermed_Input!I3","v":{"$error":"#N/A"}}]
[2,{"$f":"Intermed_Input!B4","v":{"$error":"#N/A"}},{"$f":"Intermed_Input!C4","v":{"$error":"#N/A"}},{"$f":"Intermed_Input!D4","v":{"$error":"#N/A"}},{"$f":"Intermed_Input!E4","v":{"$error":"#N/A"}},{"$f":"Intermed_Input!F4","v":{"$error":"#N/A"}},{"$f":"Intermed_Input!G4","v":{"$error":"#N/A"}},{"$f":"Intermed_Input!H4","v":{"$error":"#N/A"}},{"$f":"Intermed_Input!I4","v":{"$error":"#N/A"}}]
[3,{"$f":"Intermed_Input!B5","v":{"$error":"#N/A"}},{"$f":"Intermed_Input!C5","v":{"$error":"#N/A"}},{"$f":"Intermed_Input!D5","v":{"$error":"#N/A"}},{"$f":"Intermed_Input!E5","v":{"$error":"#N/A"}},{"$f":"Intermed_Input!F5","v":{"$error":"#N/A"}},{"$f":"Intermed_Input!G5","v":{"$error":"#N/A"}},{"$f":"Intermed_Input!H5","v":{"$error":"#N/A"}},{"$f":"Intermed_Input!I5","v":{"$error":"#N/A"}}]
[4,{"$f":"Intermed_Input!B6","v":{"$error":"#N/A"}},{"$f":"Intermed_Input!C6","v":{"$error":"#N/A"}},{"$f":"Intermed_Input!D6","v":{"$error":"#N/A"}},{"$f":"Intermed_Input!E6","v":{"$error":"#N/A"}},{"$f":"Intermed_Input!F6","v":{"$error":"#N/A"}},{"$f":"Intermed_Input!G6","v":{"$error":"#N/A"}},{"$f":"Intermed_Input!H6","v":{"$error":"#N/A"}},{"$f":"Intermed_Input!I6","v":{"$error":"#N/A"}}]
[5,{"$f":"Intermed_Input!B7","v":{"$error":"#N/A"}},{"$f":"Intermed_Input!C7","v":{"$error":"#N/A"}},{"$f":"Intermed_Input!D7","v":{"$error":"#N/A"}},{"$f":"Intermed_Input!E7","v":{"$error":"#N/A"}},{"$f":"Intermed_Input!F7","v":{"$error":"#N/A"}},{"$f":"Intermed_Input!G7","v":{"$error":"#N/A"}},{"$f":"Intermed_Input!H7","v":{"$error":"#N/A"}},{"$f":"Intermed_Input!I7","v":{"$error":"#N/A"}}]
[6,{"$f":"Intermed_Input!B8","v":{"$error":"#N/A"}},{"$f":"Intermed_Input!C8","v":{"$error":"#N/A"}},{"$f":"Intermed_Input!D8","v":{"$error":"#N/A"}},{"$f":"Intermed_Input!E8","v":{"$error":"#N/A"}},{"$f":"Intermed_Input!F8","v":{"$error":"#N/A"}},{"$f":"Intermed_Input!G8","v":{"$error":"#N/A"}},{"$f":"Intermed_Input!H8","v":{"$error":"#N/A"}},{"$f":"Intermed_Input!I8","v":{"$error":"#N/A"}}]
[7,{"$f":"Intermed_Input!B9","v":{"$error":"#N/A"}},{"$f":"Intermed_Input!C9","v":{"$error":"#N/A"}},{"$f":"Intermed_Input!D9","v":{"$error":"#N/A"}},{"$f":"Intermed_Input!E9","v":{"$error":"#N/A"}},{"$f":"Intermed_Input!F9","v":{"$error":"#N/A"}},{"$f":"Intermed_Input!G9","v":{"$error":"#N/A"}},{"$f":"Intermed_Input!H9","v":{"$error":"#N/A"}},{"$f":"Intermed_Input!I9","v":{"$error":"#N/A"}}]
[8,{"$f":"Intermed_Input!B10","v":{"$error":"#N/A"}},{"$f":"Intermed_Input!C10","v":{"$error":"#N/A"}},{"$f":"Intermed_Input!D10","v":{"$error":"#N/A"}},{"$f":"Intermed_Input!E10","v":{"$error":"#N/A"}},{"$f":"Intermed_Input!F10","v":{"$error":"#N/A"}},{"$f":"Intermed_Input!G10","v":{"$error":"#N/A"}},{"$f":"Intermed_Input!H10","v":{"$error":"#N/A"}},{"$f":"Intermed_Input!I10","v":{"$error":"#N/A"}}]
[9,{"$f":"Intermed_Input!B11","v":{"$error":"#N/A"}},{"$f":"Intermed_Input!C11","v":{"$error":"#N/A"}},{"$f":"Intermed_Input!D11","v":{"$error":"#N/A"}},{"$f":"Intermed_Input!E11","v":{"$error":"#N/A"}},{"$f":"Intermed_Input!F11","v":{"$error":"#N/A"}},{"$f":"Intermed_Input!G11","v":{"$error":"#N/A"}},{"$f":"Intermed_Input!H11","v":{"$error":"#N/A"}},{"$f":"Intermed_Input!I11","v":{"$error":"#N/A"}}]
[10,{"$f":"Intermed_Input!B12","v":{"$error":"#N/A"}},{"$f":"Intermed_Input!C12","v":{"$error":"#N/A"}},{"$f":"Intermed_Input!D12","v":{"$error":"#N/A"}},{"$f":"Intermed_Input!E12","v":{"$error":"#N/A"}},{"$f":"Intermed_Input!F12","v":{"$error":"#N/A"}},{"$f":"Intermed_Input!G12","v":{"$error":"#N/A"}},{"$f":"Intermed_Input!H12","v":{"$error":"#N/A"}},{"$f":"Intermed_Input!I12","v":{"$error":"#N/A"}}]
[11,{"$f":"Intermed_Input!B13","v":{"$error":"#N/A"}},{"$f":"Intermed_Input!C13","v":{"$error":"#N/A"}},{"$f":"Intermed_Input!D13","v":{"$error":"#N/A"}},{"$f":"Intermed_Input!E13","v":{"$error":"#N/A"}},{"$f":"Intermed_Input!F13","v":{"$error":"#N/A"}},{"$f":"Intermed_Input!G13","v":{"$error":"#N/A"}},{"$f":"Intermed_Input!H13","v":{"$error":"#N/A"}},{"$f":"Intermed_Input!I13","v":{"$error":"#N/A"}}]
[12,{"$f":"Intermed_Input!B14","v":{"$error":"#N/A"}},{"$f":"Intermed_Input!C14","v":{"$error":"#N/A"}},{"$f":"Intermed_Input!D14","v":{"$error":"#N/A"}},{"$f":"Intermed_Input!E14","v":{"$error":"#N/A"}},{"$f":"Intermed_Input!F14","v":{"$error":"#N/A"}},{"$f":"Intermed_Input!G14","v":{"$error":"#N/A"}},{"$f":"Intermed_Input!H14","v":{"$error":"#N/A"}},{"$f":"Intermed_Input!I14","v":{"$error":"#N/A"}}]
[13,{"$f":"Intermed_Input!B15","v":{"$error":"#N/A"}},{"$f":"Intermed_Input!C15","v":{"$error":"#N/A"}},{"$f":"Intermed_Input!D15","v":{"$error":"#N/A"}},{"$f":"Intermed_Input!E15","v":{"$error":"#N/A"}},{"$f":"Intermed_Input!F15","v":{"$error":"#N/A"}},{"$f":"Intermed_Input!G15","v":{"$error":"#N/A"}},{"$f":"Intermed_Input!H15","v":{"$error":"#N/A"}},{"$f":"Intermed_Input!I15","v":{"$error":"#N/A"}}]
[14,{"$f":"Intermed_Input!B16","v":{"$error":"#N/A"}},{"$f":"Intermed_Input!C16","v":{"$error":"#N/A"}},{"$f":"Intermed_Input!D16","v":{"$error":"#N/A"}},{"$f":"Intermed_Input!E16","v":{"$error":"#N/A"}},{"$f":"Intermed_Input!F16","v":{"$error":"#N/A"}},{"$f":"Intermed_Input!G16","v":{"$error":"#N/A"}},{"$f":"Intermed_Input!H16","v":{"$error":"#N/A"}},{"$f":"Intermed_Input!I16","v":{"$error":"#N/A"}}]
[15,{"$f":"Intermed_Input!B17","v":{"$error":"#N/A"}},{"$f":"Intermed_Input!C17","v":{"$error":"#N/A"}},{"$f":"Intermed_Input!D17","v":{"$error":"#N/A"}},{"$f":"Intermed_Input!E17","v":{"$error":"#N/A"}},{"$f":"Intermed_Input!F17","v":{"$error":"#N/A"}},{"$f":"Intermed_Input!G17","v":{"$error":"#N/A"}},{"$f":"Intermed_Input!H17","v":{"$error":"#N/A"}},{"$f":"Intermed_Input!I17","v":{"$error":"#N/A"}}]
[16,{"$f":"Intermed_Input!B18","v":{"$error":"#N/A"}},{"$f":"Intermed_Input!C18","v":{"$error":"#N/A"}},{"$f":"Intermed_Input!D18","v":{"$error":"#N/A"}},{"$f":"Intermed_Input!E18","v":{"$error":"#N/A"}},{"$f":"Intermed_Input!F18","v":{"$error":"#N/A"}},{"$f":"Intermed_Input!G18","v":{"$error":"#N/A"}},{"$f":"Intermed_Input!H18","v":{"$error":"#N/A"}},{"$f":"Intermed_Input!I18","v":{"$error":"#N/A"}}]
[17,{"$f":"Intermed_Input!B19","v":{"$error":"#N/A"}},{"$f":"Intermed_Input!C19","v":{"$error":"#N/A"}},{"$f":"Intermed_Input!D19","v":{"$error":"#N/A"}},{"$f":"Intermed_Input!E19","v":{"$error":"#N/A"}},{"$f":"Intermed_Input!F19","v":{"$error":"#N/A"}},{"$f":"Intermed_Input!G19","v":{"$error":"#N/A"}},{"$f":"Intermed_Input!H19","v":{"$error":"#N/A"}},{"$f":"Intermed_Input!I19","v":{"$error":"#N/A"}}]
[18,{"$f":"Intermed_Input!B20","v":{"$error":"#N/A"}},{"$f":"Intermed_Input!C20","v":{"$error":"#N/A"}},{"$f":"Intermed_Input!D20","v":{"$error":"#N/A"}},{"$f":"Intermed_Input!E20","v":{"$error":"#N/A"}},{"$f":"Intermed_Input!F20","v":{"$error":"#N/A"}},{"$f":"Intermed_Input!G20","v":{"$error":"#N/A"}},{"$f":"Intermed_Input!H20","v":{"$error":"#N/A"}},{"$f":"Intermed_Input!I20","v":{"$error":"#N/A"}}]
[19,{"$f":"Intermed_Input!B21","v":{"$error":"#N/A"}},{"$f":"Intermed_Input!C21","v":{"$error":"#N/A"}},{"$f":"Intermed_Input!D21","v":{"$error":"#N/A"}},{"$f":"Intermed_Input!E21","v":{"$error":"#N/A"}},{"$f":"Intermed_Input!F21","v":{"$error":"#N/A"}},{"$f":"Intermed_Input!G21","v":{"$error":"#N/A"}},{"$f":"Intermed_Input!H21","v":{"$error":"#N/A"}},{"$f":"Intermed_Input!I21","v":{"$error":"#N/A"}}]
[20,{"$f":"Intermed_Input!B22","v":{"$error":"#N/A"}},{"$f":"Intermed_Input!C22","v":{"$error":"#N/A"}},{"$f":"Intermed_Input!D22","v":{"$error":"#N/A"}},{"$f":"Intermed_Input!E22","v":{"$error":"#N/A"}},{"$f":"Intermed_Input!F22","v":{"$error":"#N/A"}},{"$f":"Intermed_Input!G22","v":{"$error":"#N/A"}},{"$f":"Intermed_Input!H22","v":{"$error":"#N/A"}},{"$f":"Intermed_Input!I22","v":{"$error":"#N/A"}}]
["Sum",{"$f":"IF(ISNUMBER(B5),SUM(B5:B24),\"\")","v":""},"","","","","",{"$f":"IF(ISNUMBER(H5),SUM(H5:H24),\"\")","v":""},""]
["n",{"$f":"IF(AND(ISNUMBER(B25), B25>0),COUNT(B5:B24),\"\")","v":""},"","","","","",{"$f":"IF(AND(ISNUMBER(H25), H25>0),COUNT(H5:H24),\"\")","v":""},{"$f":"IF(AND(ISNUMBER(I25), I25>=0),COUNT(I5:I24),\"\")","v":""}]
["nc=nt=",{"$f":"COUNT($B$5:$B$24)","v":0}]
["alpha=",0.05]
["degree of freeedom=",{"$f":"$B$32-$B$31","v":0}]
["t-crit=",{"$f":"IF(SUMPRODUCT((Table_Dun!$A$6:$A$27=$B$29)*1) = 1, INDEX(Table_Dun!$A$5:$J$27,MATCH($B$29,Table_Dun!$A$5:$A$27,0),MATCH($B$31,Table_Dun!$A5:$J5,0)),  (INDEX(Table_Dun!$A$5:$J$27,MATCH($B$29,Table_Dun!$A$5:$A$27,1),MATCH($B$31,Table_Dun!$A5:$J5,0))+ INDEX(Table_Dun!$A$5:$J$27,MATCH($B$29,Table_Dun!$A$5:$A$27,1)+1,MATCH($B$31,Table_Dun!$A5:$J5,1)))/2)","v":{"$error":"#N/A"}},"<- get this from Dunnett's Table"]
["group k",{"$f":"COUNT($B$26:$G$26)","v":0}]
["N",{"$f":"SUM(B26:G26)","v":0}]
[]
[null,null,null,"control:","trt1","control","trt2","control","trt3","control","trt4","control","trt5","control","trt6","control","trt7"]
["Steel's Rank Sum",null,null,"0-1",null,"0-2",null,"0-3",null,"0-4",null,"0-5",null,"0-6",null,"0-7",null,"Steel_crit_value"]
[null,"TSD","Rank",{"$f":"IF(ISNUMBER($B5), _xlfn.RANK.AVG($B5,($B$5:$C$24),1), \"\")","v":""},{"$f":"IF(ISNUMBER($C5), _xlfn.RANK.AVG(C5,($B$5:$C$24),1),\"\")","v":""},{"$f":"IF(ISNUMBER($B5), _xlfn.RANK.AVG($B5,($B$5:$B$24,$D$5:$D$24),1), \"\")","v":""},{"$f":"IF(ISNUMBER($D5), _xlfn.RANK.AVG($D5,($B$5:$B$24,$D$5:$D$24),1),\"\")","v":""},{"$f":"IF(ISNUMBER($B5), _xlfn.RANK.AVG($B5,($B$5:$B$24,$E$5:$E$24),1), \"\")","v":""},{"$f":"IF(ISNUMBER($E5), _xlfn.RANK.AVG($E5,($B$5:$B$24,$E$5:$E$24),1),\"\")","v":""},{"$f":"IF(ISNUMBER($B5), _xlfn.RANK.AVG($B5,($B$5:$B$24,$F$5:$F$24),1), \"\")","v":""},{"$f":"IF(ISNUMBER($F5), _xlfn.RANK.AVG($F5,($B$5:$B$24,$F$5:$F$24),1),\"\")","v":""},{"$f":"IF(ISNUMBER($B5), _xlfn.RANK.AVG($B5,($B$5:$B$24,$G$5:$G$24),1), \"\")","v":""},{"$f":"IF(ISNUMBER($G5), _xlfn.RANK.AVG($G5,($B$5:$B$24,$G$5:$G$24),1),\"\")","v":""},{"$f":"IF(ISNUMBER($B5), _xlfn.RANK.AVG($B5,($B$5:$B$24,$H$5:$H$24),1), \"\")","v":""},{"$f":"IF(ISNUMBER($H5), _xlfn.RANK.AVG($H5,($B$5:$B$24,$H$5:$H$24),1),\"\")","v":""},{"$f":"IF(ISNUMBER($B5), _xlfn.RANK.AVG($B5,($B$5:$B$24,$I$5:$I$24),1), \"\")","v":""},{"$f":"IF(ISNUMBER($I5), _xlfn.RANK.AVG($I5,($B$5:$B$24,$I$5:$I$24),1),\"\")","v":""},{"$f":"INDEX(Table_Steel!$C$5:$J$22,MATCH($B$27,Table_Steel!$A$5:$A$22,0),MATCH($B$31,Table_Steel!$C5:$J5,0))","v":{"$error":"#N/A"}},"<- directly from Steel's table"]
[null,null,null,{"$f":"IF(ISNUMBER($B6), _xlfn.RANK.AVG($B6,($B$5:$C$24),1), \"\")","v":""},{"$f":"IF(ISNUMBER($C6), _xlfn.RANK.AVG(C6,($B$5:$C$24),1),\"\")","v":""},{"$f":"IF(ISNUMBER($B6), _xlfn.RANK.AVG($B6,($B$5:$B$24,$D$5:$D$24),1), \"\")","v":""},{"$f":"IF(ISNUMBER($D6), _xlfn.RANK.AVG($D6,($B$5:$B$24,$D$5:$D$24),1),\"\")","v":""},{"$f":"IF(ISNUMBER($B6), _xlfn.RANK.AVG($B6,($B$5:$B$24,$E$5:$E$24),1), \"\")","v":""},{"$f":"IF(ISNUMBER($E6), _xlfn.RANK.AVG($E6,($B$5:$B$24,$E$5:$E$24),1),\"\")","v":""},{"$f":"IF(ISNUMBER($B6), _xlfn.RANK.AVG($B6,($B$5:$B$24,$F$5:$F$24),1), \"\")","v":""},{"$f":"IF(ISNUMBER($F6), _xlfn.RANK.AVG($F6,($B$5:$B$24,$F$5:$F$24),1),\"\")","v":""},{"$f":"IF(ISNUMBER($B6), _xlfn.RANK.AVG($B6,($B$5:$B$24,$G$5:$G$24),1), \"\")","v":""},{"$f":"IF(ISNUMBER($G6), _xlfn.RANK.AVG($G6,($B$5:$B$24,$G$5:$G$24),1),\"\")","v":""},{"$f":"IF(ISNUMBER($B6), _xlfn.RANK.AVG($B6,($B$5:$B$24,$H$5:$H$24),1), \"\")","v":""},{"$f":"IF(ISNUMBER($H6), _xlfn.RANK.AVG($H6,($B$5:$B$24,$H$5:$H$24),1),\"\")","v":""},{"$f":"IF(ISNUMBER($B6), _xlfn.RANK.AVG($B6,($B$5:$B$24,$I$5:$I$24),1), \"\")","v":""},{"$f":"IF(ISNUMBER($I6), _xlfn.RANK.AVG($I6,($B$5:$B$24,$I$5:$I$24),1),\"\")","v":""}]
[null,null,null,"","",{"$f":"IF(ISNUMBER($B7), _xlfn.RANK.AVG($B7,($B$5:$B$24,$D$5:$D$24),1), \"\")","v":""},{"$f":"IF(ISNUMBER($D7), _xlfn.RANK.AVG($D7,($B$5:$B$24,$D$5:$D$24),1),\"\")","v":""},{"$f":"IF(ISNUMBER($B7), _xlfn.RANK.AVG($B7,($B$5:$B$24,$E$5:$E$24),1), \"\")","v":""},{"$f":"IF(ISNUMBER($E7), _xlfn.RANK.AVG($E7,($B$5:$B$24,$E$5:$E$24),1),\"\")","v":""},{"$f":"IF(ISNUMBER($B7), _xlfn.RANK.AVG($B7,($B$5:$B$24,$F$5:$F$24),1), \"\")","v":""},{"$f":"IF(ISNUMBER($F7), _xlfn.RANK.AVG($F7,($B$5:$B$24,$F$5:$F$24),1),\"\")","v":""},{"$f":"IF(ISNUMBER($B7), _xlfn.RANK.AVG($B7,($B$5:$B$24,$G$5:$G$24),1), \"\")","v":""},{"$f":"IF(ISNUMBER($G7), _xlfn.RANK.AVG($G7,($B$5:$B$24,$G$5:$G$24),1),\"\")","v":""},{"$f":"IF(ISNUMBER($B7), _xlfn.RANK.AVG($B7,($B$5:$B$24,$H$5:$H$24),1), \"\")","v":""},{"$f":"IF(ISNUMBER($H7), _xlfn.RANK.AVG($H7,($B$5:$B$24,$H$5:$H$24),1),\"\")","v":""},{"$f":"IF(ISNUMBER($B7), _xlfn.RANK.AVG($B7,($B$5:$B$24,$I$5:$I$24),1), \"\")","v":""},{"$f":"IF(ISNUMBER($I7), _xlfn.RANK.AVG($I7,($B$5:$B$24,$I$5:$I$24),1),\"\")","v":""}]
[null,null,null,"","",{"$f":"IF(ISNUMBER($B8), _xlfn.RANK.AVG($B8,($B$5:$B$24,$D$5:$D$24),1), \"\")","v":""},{"$f":"IF(ISNUMBER($D8), _xlfn.RANK.AVG($D8,($B$5:$B$24,$D$5:$D$24),1),\"\")","v":""},{"$f":"IF(ISNUMBER($B8), _xlfn.RANK.AVG($B8,($B$5:$B$24,$E$5:$E$24),1), \"\")","v":""},{"$f":"IF(ISNUMBER($E8), _xlfn.RANK.AVG($E8,($B$5:$B$24,$E$5:$E$24),1),\"\")","v":""},{"$f":"IF(ISNUMBER($B8), _xlfn.RANK.AVG($B8,($B$5:$B$24,$F$5:$F$24),1), \"\")","v":""},{"$f":"IF(ISNUMBER($F8), _xlfn.RANK.AVG($F8,($B$5:$B$24,$F$5:$F$24),1),\"\")","v":""},{"$f":"IF(ISNUMBER($B8), _xlfn.RANK.AVG($B8,($B$5:$B$24,$G$5:$G$24),1), \"\")","v":""},{"$f":"IF(ISNUMBER($G8), _xlfn.RANK.AVG($G8,($B$5:$B$24,$G$5:$G$24),1),\"\")","v":""},{"$f":"IF(ISNUMBER($B8), _xlfn.RANK.AVG($B8,($B$5:$B$24,$H$5:$H$24),1), \"\")","v":""},{"$f":"IF(ISNUMBER($H8), _xlfn.RANK.AVG($H8,($B$5:$B$24,$H$5:$H$24),1),\"\")","v":""},{"$f":"IF(ISNUMBER($B8), _xlfn.RANK.AVG($B8,($B$5:$B$24,$I$5:$I$24),1), \"\")","v":""},{"$f":"IF(ISNUMBER($I8), _xlfn.RANK.AVG($I8,($B$5:$B$24,$I$5:$I$24),1),\"\")","v":""}]
[null,null,null,"","",{"$f":"IF(ISNUMBER($B9), _xlfn.RANK.AVG($B9,($B$5:$B$24,$D$5:$D$24),1), \"\")","v":""},{"$f":"IF(ISNUMBER($D9), _xlfn.RANK.AVG($D9,($B$5:$B$24,$D$5:$D$24),1),\"\")","v":""},{"$f":"IF(ISNUMBER($B9), _xlfn.RANK.AVG($B9,($B$5:$B$24,$E$5:$E$24),1), \"\")","v":""},{"$f":"IF(ISNUMBER($E9), _xlfn.RANK.AVG($E9,($B$5:$B$24,$E$5:$E$24),1),\"\")","v":""},{"$f":"IF(ISNUMBER($B9), _xlfn.RANK.AVG($B9,($B$5:$B$24,$F$5:$F$24),1), \"\")","v":""},{"$f":"IF(ISNUMBER($F9), _xlfn.RANK.AVG($F9,($B$5:$B$24,$F$5:$F$24),1),\"\")","v":""},{"$f":"IF(ISNUMBER($B9), _xlfn.RANK.AVG($B9,($B$5:$B$24,$G$5:$G$24),1), \"\")","v":""},{"$f":"IF(ISNUMBER($G9), _xlfn.RANK.AVG($G9,($B$5:$B$24,$G$5:$G$24),1),\"\")","v":""},{"$f":"IF(ISNUMBER($B9), _xlfn.RANK.AVG($B9,($B$5:$B$24,$H$5:$H$24),1), \"\")","v":""},{"$f":"IF(ISNUMBER($H9), _xlfn.RANK.AVG($H9,($B$5:$B$24,$H$5:$H$24),1),\"\")","v":""},{"$f":"IF(ISNUMBER($B9), _xlfn.RANK.AVG($B9,($B$5:$B$24,$I$5:$I$24),1), \"\")","v":""},{"$f":"IF(ISNUMBER($I9), _xlfn.RANK.AVG($I9,($B$5:$B$24,$I$5:$I$24),1),\"\")","v":""}]
[null,null,null,"","",{"$f":"IF(ISNUMBER($B10), _xlfn.RANK.AVG($B10,($B$5:$B$24,$D$5:$D$24),1), \"\")","v":""},{"$f":"IF(ISNUMBER($D10), _xlfn.RANK.AVG($D10,($B$5:$B$24,$D$5:$D$24),1),\"\")","v":""},{"$f":"IF(ISNUMBER($B10), _xlfn.RANK.AVG($B10,($B$5:$B$24,$E$5:$E$24),1), \"\")","v":""},{"$f":"IF(ISNUMBER($E10), _xlfn.RANK.AVG($E10,($B$5:$B$24,$E$5:$E$24),1),\"\")","v":""},{"$f":"IF(ISNUMBER($B10), _xlfn.RANK.AVG($B10,($B$5:$B$24,$F$5:$F$24),1), \"\")","v":""},{"$f":"IF(ISNUMBER($F10), _xlfn.RANK.AVG($F10,($B$5:$B$24,$F$5:$F$24),1),\"\")","v":""},{"$f":"IF(ISNUMBER($B10), _xlfn.RANK.AVG($B10,($B$5:$B$24,$G$5:$G$24),1), \"\")","v":""},{"$f":"IF(ISNUMBER($G10), _xlfn.RANK.AVG($G10,($B$5:$B$24,$G$5:$G$24),1),\"\")","v":""},{"$f":"IF(ISNUMBER($B10), _xlfn.RANK.AVG($B10,($B$5:$B$24,$H$5:$H$24),1), \"\")","v":""},{"$f":"IF(ISNUMBER($H10), _xlfn.RANK.AVG($H10,($B$5:$B$24,$H$5:$H$24),1),\"\")","v":""},{"$f":"IF(ISNUMBER($B10), _xlfn.RANK.AVG($B10,($B$5:$B$24,$I$5:$I$24),1), \"\")","v":""},{"$f":"IF(ISNUMBER($I10), _xlfn.RANK.AVG($I10,($B$5:$B$24,$I$5:$I$24),1),\"\")","v":""}]
[null,null,null,"","",{"$f":"IF(ISNUMBER($B11), _xlfn.RANK.AVG($B11,($B$5:$B$24,$D$5:$D$24),1), \"\")","v":""},{"$f":"IF(ISNUMBER($D11), _xlfn.RANK.AVG($D11,($B$5:$B$24,$D$5:$D$24),1),\"\")","v":""},{"$f":"IF(ISNUMBER($B11), _xlfn.RANK.AVG($B11,($B$5:$B$24,$E$5:$E$24),1), \"\")","v":""},{"$f":"IF(ISNUMBER($E11), _xlfn.RANK.AVG($E11,($B$5:$B$24,$E$5:$E$24),1),\"\")","v":""},{"$f":"IF(ISNUMBER($B11), _xlfn.RANK.AVG($B11,($B$5:$B$24,$F$5:$F$24),1), \"\")","v":""},{"$f":"IF(ISNUMBER($F11), _xlfn.RANK.AVG($F11,($B$5:$B$24,$F$5:$F$24),1),\"\")","v":""},{"$f":"IF(ISNUMBER($B11), _xlfn.RANK.AVG($B11,($B$5:$B$24,$G$5:$G$24),1), \"\")","v":""},{"$f":"IF(ISNUMBER($G11), _xlfn.RANK.AVG($G11,($B$5:$B$24,$G$5:$G$24),1),\"\")","v":""},{"$f":"IF(ISNUMBER($B11), _xlfn.RANK.AVG($B11,($B$5:$B$24,$H$5:$H$24),1), \"\")","v":""},{"$f":"IF(ISNUMBER($H11), _xlfn.RANK.AVG($H11,($B$5:$B$24,$H$5:$H$24),1),\"\")","v":""},{"$f":"IF(ISNUMBER($B11), _xlfn.RANK.AVG($B11,($B$5:$B$24,$I$5:$I$24),1), \"\")","v":""},{"$f":"IF(ISNUMBER($I11), _xlfn.RANK.AVG($I11,($B$5:$B$24,$I$5:$I$24),1),\"\")","v":""}]
[null,null,null,"","",{"$f":"IF(ISNUMBER($B12), _xlfn.RANK.AVG($B12,($B$5:$B$24,$D$5:$D$24),1), \"\")","v":""},{"$f":"IF(ISNUMBER($D12), _xlfn.RANK.AVG($D12,($B$5:$B$24,$D$5:$D$24),1),\"\")","v":""},{"$f":"IF(ISNUMBER($B12), _xlfn.RANK.AVG($B12,($B$5:$B$24,$E$5:$E$24),1), \"\")","v":""},{"$f":"IF(ISNUMBER($E12), _xlfn.RANK.AVG($E12,($B$5:$B$24,$E$5:$E$24),1),\"\")","v":""},{"$f":"IF(ISNUMBER($B12), _xlfn.RANK.AVG($B12,($B$5:$B$24,$F$5:$F$24),1), \"\")","v":""},{"$f":"IF(ISNUMBER($F12), _xlfn.RANK.AVG($F12,($B$5:$B$24,$F$5:$F$24),1),\"\")","v":""},{"$f":"IF(ISNUMBER($B12), _xlfn.RANK.AVG($B12,($B$5:$B$24,$G$5:$G$24),1), \"\")","v":""},{"$f":"IF(ISNUMBER($G12), _xlfn.RANK.AVG($G12,($B$5:$B$24,$G$5:$G$24),1),\"\")","v":""},{"$f":"IF(ISNUMBER($B12), _xlfn.RANK.AVG($B12,($B$5:$B$24,$H$5:$H$24),1), \"\")","v":""},{"$f":"IF(ISNUMBER($H12), _xlfn.RANK.AVG($H12,($B$5:$B$24,$H$5:$H$24),1),\"\")","v":""},{"$f":"IF(ISNUMBER($B12), _xlfn.RANK.AVG($B12,($B$5:$B$24,$I$5:$I$24),1), \"\")","v":""},{"$f":"IF(ISNUMBER($I12), _xlfn.RANK.AVG($I12,($B$5:$B$24,$I$5:$I$24),1),\"\")","v":""}]
[null,null,null,"","",{"$f":"IF(ISNUMBER($B13), _xlfn.RANK.AVG($B13,($B$5:$B$24,$D$5:$D$24),1), \"\")","v":""},{"$f":"IF(ISNUMBER($D13), _xlfn.RANK.AVG($D13,($B$5:$B$24,$D$5:$D$24),1),\"\")","v":""},{"$f":"IF(ISNUMBER($B13), _xlfn.RANK.AVG($B13,($B$5:$B$24,$E$5:$E$24),1), \"\")","v":""},{"$f":"IF(ISNUMBER($E13), _xlfn.RANK.AVG($E13,($B$5:$B$24,$E$5:$E$24),1),\"\")","v":""},{"$f":"IF(ISNUMBER($B13), _xlfn.RANK.AVG($B13,($B$5:$B$24,$F$5:$F$24),1), \"\")","v":""},{"$f":"IF(ISNUMBER($F13), _xlfn.RANK.AVG($F13,($B$5:$B$24,$F$5:$F$24),1),\"\")","v":""},{"$f":"IF(ISNUMBER($B13), _xlfn.RANK.AVG($B13,($B$5:$B$24,$G$5:$G$24),1), \"\")","v":""},{"$f":"IF(ISNUMBER($G13), _xlfn.RANK.AVG($G13,($B$5:$B$24,$G$5:$G$24),1),\"\")","v":""},{"$f":"IF(ISNUMBER($B13), _xlfn.RANK.AVG($B13,($B$5:$B$24,$H$5:$H$24),1), \"\")","v":""},{"$f":"IF(ISNUMBER($H13), _xlfn.RANK.AVG($H13,($B$5:$B$24,$H$5:$H$24),1),\"\")","v":""},{"$f":"IF(ISNUMBER($B13), _xlfn.RANK.AVG($B13,($B$5:$B$24,$I$5:$I$24),1), \"\")","v":""},{"$f":"IF(ISNUMBER($I13), _xlfn.RANK.AVG($I13,($B$5:$B$24,$I$5:$I$24),1),\"\")","v":""}]
[null,null,null,"","",{"$f":"IF(ISNUMBER($B14), _xlfn.RANK.AVG($B14,($B$5:$B$24,$D$5:$D$24),1), \"\")","v":""},{"$f":"IF(ISNUMBER($D14), _xlfn.RANK.AVG($D14,($B$5:$B$24,$D$5:$D$24),1),\"\")","v":""},{"$f":"IF(ISNUMBER($B14), _xlfn.RANK.AVG($B14,($B$5:$B$24,$E$5:$E$24),1), \"\")","v":""},{"$f":"IF(ISNUMBER($E14), _xlfn.RANK.AVG($E14,($B$5:$B$24,$E$5:$E$24),1),\"\")","v":""},{"$f":"IF(ISNUMBER($B14), _xlfn.RANK.AVG($B14,($B$5:$B$24,$F$5:$F$24),1), \"\")","v":""},{"$f":"IF(ISNUMBER($F14), _xlfn.RANK.AVG($F14,($B$5:$B$24,$F$5:$F$24),1),\"\")","v":""},{"$f":"IF(ISNUMBER($B14), _xlfn.RANK.AVG($B14,($B$5:$B$24,$G$5:$G$24),1), \"\")","v":""},{"$f":"IF(ISNUMBER($G14), _xlfn.RANK.AVG($G14,($B$5:$B$24,$G$5:$G$24),1),\"\")","v":""},{"$f":"IF(ISNUMBER($B14), _xlfn.RANK.AVG($B14,($B$5:$B$24,$H$5:$H$24),1), \"\")","v":""},{"$f":"IF(ISNUMBER($H14), _xlfn.RANK.AVG($H14,($B$5:$B$24,$H$5:$H$24),1),\"\")","v":""},{"$f":"IF(ISNUMBER($B14), _xlfn.RANK.AVG($B14,($B$5:$B$24,$I$5:$I$24),1), \"\")","v":""},{"$f":"IF(ISNUMBER($I14), _xlfn.RANK.AVG($I14,($B$5:$B$24,$I$5:$I$24),1),\"\")","v":""}]
[null,null,null,"","",{"$f":"IF(ISNUMBER($B15), _xlfn.RANK.AVG($B15,($B$5:$B$24,$D$5:$D$24),1), \"\")","v":""},{"$f":"IF(ISNUMBER($D15), _xlfn.RANK.AVG($D15,($B$5:$B$24,$D$5:$D$24),1),\"\")","v":""},{"$f":"IF(ISNUMBER($B15), _xlfn.RANK.AVG($B15,($B$5:$B$24,$E$5:$E$24),1), \"\")","v":""},{"$f":"IF(ISNUMBER($E15), _xlfn.RANK.AVG($E15,($B$5:$B$24,$E$5:$E$24),1),\"\")","v":""},{"$f":"IF(ISNUMBER($B15), _xlfn.RANK.AVG($B15,($B$5:$B$24,$F$5:$F$24),1), \"\")","v":""},{"$f":"IF(ISNUMBER($F15), _xlfn.RANK.AVG($F15,($B$5:$B$24,$F$5:$F$24),1),\"\")","v":""},{"$f":"IF(ISNUMBER($B15), _xlfn.RANK.AVG($B15,($B$5:$B$24,$G$5:$G$24),1), \"\")","v":""},{"$f":"IF(ISNUMBER($G15), _xlfn.RANK.AVG($G15,($B$5:$B$24,$G$5:$G$24),1),\"\")","v":""},{"$f":"IF(ISNUMBER($B15), _xlfn.RANK.AVG($B15,($B$5:$B$24,$H$5:$H$24),1), \"\")","v":""},{"$f":"IF(ISNUMBER($H15), _xlfn.RANK.AVG($H15,($B$5:$B$24,$H$5:$H$24),1),\"\")","v":""},{"$f":"IF(ISNUMBER($B15), _xlfn.RANK.AVG($B15,($B$5:$B$24,$I$5:$I$24),1), \"\")","v":""},{"$f":"IF(ISNUMBER($I15), _xlfn.RANK.AVG($I15,($B$5:$B$24,$I$5:$I$24),1),\"\")","v":""}]
[null,null,null,"","",{"$f":"IF(ISNUMBER($B16), _xlfn.RANK.AVG($B16,($B$5:$B$24,$D$5:$D$24),1), \"\")","v":""},{"$f":"IF(ISNUMBER($D16), _xlfn.RANK.AVG($D16,($B$5:$B$24,$D$5:$D$24),1),\"\")","v":""},{"$f":"IF(ISNUMBER($B16), _xlfn.RANK.AVG($B16,($B$5:$B$24,$E$5:$E$24),1), \"\")","v":""},{"$f":"IF(ISNUMBER($E16), _xlfn.RANK.AVG($E16,($B$5:$B$24,$E$5:$E$24),1),\"\")","v":""},{"$f":"IF(ISNUMBER($B16), _xlfn.RANK.AVG($B16,($B$5:$B$24,$F$5:$F$24),1), \"\")","v":""},{"$f":"IF(ISNUMBER($F16), _xlfn.RANK.AVG($F16,($B$5:$B$24,$F$5:$F$24),1),\"\")","v":""},{"$f":"IF(ISNUMBER($B16), _xlfn.RANK.AVG($B16,($B$5:$B$24,$G$5:$G$24),1), \"\")","v":""},{"$f":"IF(ISNUMBER($G16), _xlfn.RANK.AVG($G16,($B$5:$B$24,$G$5:$G$24),1),\"\")","v":""},{"$f":"IF(ISNUMBER($B16), _xlfn.RANK.AVG($B16,($B$5:$B$24,$H$5:$H$24),1), \"\")","v":""},{"$f":"IF(ISNUMBER($H16), _xlfn.RANK.AVG($H16,($B$5:$B$24,$H$5:$H$24),1),\"\")","v":""},{"$f":"IF(ISNUMBER($B16), _xlfn.RANK.AVG($B16,($B$5:$B$24,$I$5:$I$24),1), \"\")","v":""},{"$f":"IF(ISNUMBER($I16), _xlfn.RANK.AVG($I16,($B$5:$B$24,$I$5:$I$24),1),\"\")","v":""}]
[null,null,null,"","",{"$f":"IF(ISNUMBER($B17), _xlfn.RANK.AVG($B17,($B$5:$B$24,$D$5:$D$24),1), \"\")","v":""},{"$f":"IF(ISNUMBER($D17), _xlfn.RANK.AVG($D17,($B$5:$B$24,$D$5:$D$24),1),\"\")","v":""},{"$f":"IF(ISNUMBER($B17), _xlfn.RANK.AVG($B17,($B$5:$B$24,$E$5:$E$24),1), \"\")","v":""},{"$f":"IF(ISNUMBER($E17), _xlfn.RANK.AVG($E17,($B$5:$B$24,$E$5:$E$24),1),\"\")","v":""},{"$f":"IF(ISNUMBER($B17), _xlfn.RANK.AVG($B17,($B$5:$B$24,$F$5:$F$24),1), \"\")","v":""},{"$f":"IF(ISNUMBER($F17), _xlfn.RANK.AVG($F17,($B$5:$B$24,$F$5:$F$24),1),\"\")","v":""},{"$f":"IF(ISNUMBER($B17), _xlfn.RANK.AVG($B17,($B$5:$B$24,$G$5:$G$24),1), \"\")","v":""},{"$f":"IF(ISNUMBER($G17), _xlfn.RANK.AVG($G17,($B$5:$B$24,$G$5:$G$24),1),\"\")","v":""},{"$f":"IF(ISNUMBER($B17), _xlfn.RANK.AVG($B17,($B$5:$B$24,$H$5:$H$24),1), \"\")","v":""},{"$f":"IF(ISNUMBER($H17), _xlfn.RANK.AVG($H17,($B$5:$B$24,$H$5:$H$24),1),\"\")","v":""},{"$f":"IF(ISNUMBER($B17), _xlfn.RANK.AVG($B17,($B$5:$B$24,$I$5:$I$24),1), \"\")","v":""},{"$f":"IF(ISNUMBER($I17), _xlfn.RANK.AVG($I17,($B$5:$B$24,$I$5:$I$24),1),\"\")","v":""}]
[null,null,null,"","",{"$f":"IF(ISNUMBER($B18), _xlfn.RANK.AVG($B18,($B$5:$B$24,$D$5:$D$24),1), \"\")","v":""},{"$f":"IF(ISNUMBER($D18), _xlfn.RANK.AVG($D18,($B$5:$B$24,$D$5:$D$24),1),\"\")","v":""},{"$f":"IF(ISNUMBER($B18), _xlfn.RANK.AVG($B18,($B$5:$B$24,$E$5:$E$24),1), \"\")","v":""},{"$f":"IF(ISNUMBER($E18), _xlfn.RANK.AVG($E18,($B$5:$B$24,$E$5:$E$24),1),\"\")","v":""},{"$f":"IF(ISNUMBER($B18), _xlfn.RANK.AVG($B18,($B$5:$B$24,$F$5:$F$24),1), \"\")","v":""},{"$f":"IF(ISNUMBER($F18), _xlfn.RANK.AVG($F18,($B$5:$B$24,$F$5:$F$24),1),\"\")","v":""},{"$f":"IF(ISNUMBER($B18), _xlfn.RANK.AVG($B18,($B$5:$B$24,$G$5:$G$24),1), \"\")","v":""},{"$f":"IF(ISNUMBER($G18), _xlfn.RANK.AVG($G18,($B$5:$B$24,$G$5:$G$24),1),\"\")","v":""},{"$f":"IF(ISNUMBER($B18), _xlfn.RANK.AVG($B18,($B$5:$B$24,$H$5:$H$24),1), \"\")","v":""},{"$f":"IF(ISNUMBER($H18), _xlfn.RANK.AVG($H18,($B$5:$B$24,$H$5:$H$24),1),\"\")","v":""},{"$f":"IF(ISNUMBER($B18), _xlfn.RANK.AVG($B18,($B$5:$B$24,$I$5:$I$24),1), \"\")","v":""},{"$f":"IF(ISNUMBER($I18), _xlfn.RANK.AVG($I18,($B$5:$B$24,$I$5:$I$24),1),\"\")","v":""}]
[null,null,null,"","",{"$f":"IF(ISNUMBER($B19), _xlfn.RANK.AVG($B19,($B$5:$B$24,$D$5:$D$24),1), \"\")","v":""},{"$f":"IF(ISNUMBER($D19), _xlfn.RANK.AVG($D19,($B$5:$B$24,$D$5:$D$24),1),\"\")","v":""},{"$f":"IF(ISNUMBER($B19), _xlfn.RANK.AVG($B19,($B$5:$B$24,$E$5:$E$24),1), \"\")","v":""},{"$f":"IF(ISNUMBER($E19), _xlfn.RANK.AVG($E19,($B$5:$B$24,$E$5:$E$24),1),\"\")","v":""},{"$f":"IF(ISNUMBER($B19), _xlfn.RANK.AVG($B19,($B$5:$B$24,$F$5:$F$24),1), \"\")","v":""},{"$f":"IF(ISNUMBER($F19), _xlfn.RANK.AVG($F19,($B$5:$B$24,$F$5:$F$24),1),\"\")","v":""},{"$f":"IF(ISNUMBER($B19), _xlfn.RANK.AVG($B19,($B$5:$B$24,$G$5:$G$24),1), \"\")","v":""},{"$f":"IF(ISNUMBER($G19), _xlfn.RANK.AVG($G19,($B$5:$B$24,$G$5:$G$24),1),\"\")","v":""},{"$f":"IF(ISNUMBER($B19), _xlfn.RANK.AVG($B19,($B$5:$B$24,$H$5:$H$24),1), \"\")","v":""},{"$f":"IF(ISNUMBER($H19), _xlfn.RANK.AVG($H19,($B$5:$B$24,$H$5:$H$24),1),\"\")","v":""},{"$f":"IF(ISNUMBER($B19), _xlfn.RANK.AVG($B19,($B$5:$B$24,$I$5:$I$24),1), \"\")","v":""},{"$f":"IF(ISNUMBER($I19), _xlfn.RANK.AVG($I19,($B$5:$B$24,$I$5:$I$24),1),\"\")","v":""}]
[null,null,null,"","",{"$f":"IF(ISNUMBER($B20), _xlfn.RANK.AVG($B20,($B$5:$B$24,$D$5:$D$24),1), \"\")","v":""},{"$f":"IF(ISNUMBER($D20), _xlfn.RANK.AVG($D20,($B$5:$B$24,$D$5:$D$24),1),\"\")","v":""},{"$f":"IF(ISNUMBER($B20), _xlfn.RANK.AVG($B20,($B$5:$B$24,$E$5:$E$24),1), \"\")","v":""},{"$f":"IF(ISNUMBER($E20), _xlfn.RANK.AVG($E20,($B$5:$B$24,$E$5:$E$24),1),\"\")","v":""},{"$f":"IF(ISNUMBER($B20), _xlfn.RANK.AVG($B20,($B$5:$B$24,$F$5:$F$24),1), \"\")","v":""},{"$f":"IF(ISNUMBER($F20), _xlfn.RANK.AVG($F20,($B$5:$B$24,$F$5:$F$24),1),\"\")","v":""},{"$f":"IF(ISNUMBER($B20), _xlfn.RANK.AVG($B20,($B$5:$B$24,$G$5:$G$24),1), \"\")","v":""},{"$f":"IF(ISNUMBER($G20), _xlfn.RANK.AVG($G20,($B$5:$B$24,$G$5:$G$24),1),\"\")","v":""},{"$f":"IF(ISNUMBER($B20), _xlfn.RANK.AVG($B20,($B$5:$B$24,$H$5:$H$24),1), \"\")","v":""},{"$f":"IF(ISNUMBER($H20), _xlfn.RANK.AVG($H20,($B$5:$B$24,$H$5:$H$24),1),\"\")","v":""},{"$f":"IF(ISNUMBER($B20), _xlfn.RANK.AVG($B20,($B$5:$B$24,$I$5:$I$24),1), \"\")","v":""},{"$f":"IF(ISNUMBER($I20), _xlfn.RANK.AVG($I20,($B$5:$B$24,$I$5:$I$24),1),\"\")","v":""}]
[null,null,null,"","",{"$f":"IF(ISNUMBER($B21), _xlfn.RANK.AVG($B21,($B$5:$B$24,$D$5:$D$24),1), \"\")","v":""},{"$f":"IF(ISNUMBER($D21), _xlfn.RANK.AVG($D21,($B$5:$B$24,$D$5:$D$24),1),\"\")","v":""},{"$f":"IF(ISNUMBER($B21), _xlfn.RANK.AVG($B21,($B$5:$B$24,$E$5:$E$24),1), \"\")","v":""},{"$f":"IF(ISNUMBER($E21), _xlfn.RANK.AVG($E21,($B$5:$B$24,$E$5:$E$24),1),\"\")","v":""},{"$f":"IF(ISNUMBER($B21), _xlfn.RANK.AVG($B21,($B$5:$B$24,$F$5:$F$24),1), \"\")","v":""},{"$f":"IF(ISNUMBER($F21), _xlfn.RANK.AVG($F21,($B$5:$B$24,$F$5:$F$24),1),\"\")","v":""},{"$f":"IF(ISNUMBER($B21), _xlfn.RANK.AVG($B21,($B$5:$B$24,$G$5:$G$24),1), \"\")","v":""},{"$f":"IF(ISNUMBER($G21), _xlfn.RANK.AVG($G21,($B$5:$B$24,$G$5:$G$24),1),\"\")","v":""},{"$f":"IF(ISNUMBER($B21), _xlfn.RANK.AVG($B21,($B$5:$B$24,$H$5:$H$24),1), \"\")","v":""},{"$f":"IF(ISNUMBER($H21), _xlfn.RANK.AVG($H21,($B$5:$B$24,$H$5:$H$24),1),\"\")","v":""},{"$f":"IF(ISNUMBER($B21), _xlfn.RANK.AVG($B21,($B$5:$B$24,$I$5:$I$24),1), \"\")","v":""},{"$f":"IF(ISNUMBER($I21), _xlfn.RANK.AVG($I21,($B$5:$B$24,$I$5:$I$24),1),\"\")","v":""}]
[null,null,null,"","",{"$f":"IF(ISNUMBER($B22), _xlfn.RANK.AVG($B22,($B$5:$B$24,$D$5:$D$24),1), \"\")","v":""},{"$f":"IF(ISNUMBER($D22), _xlfn.RANK.AVG($D22,($B$5:$B$24,$D$5:$D$24),1),\"\")","v":""},{"$f":"IF(ISNUMBER($B22), _xlfn.RANK.AVG($B22,($B$5:$B$24,$E$5:$E$24),1), \"\")","v":""},{"$f":"IF(ISNUMBER($E22), _xlfn.RANK.AVG($E22,($B$5:$B$24,$E$5:$E$24),1),\"\")","v":""},{"$f":"IF(ISNUMBER($B22), _xlfn.RANK.AVG($B22,($B$5:$B$24,$F$5:$F$24),1), \"\")","v":""},{"$f":"IF(ISNUMBER($F22), _xlfn.RANK.AVG($F22,($B$5:$B$24,$F$5:$F$24),1),\"\")","v":""},{"$f":"IF(ISNUMBER($B22), _xlfn.RANK.AVG($B22,($B$5:$B$24,$G$5:$G$24),1), \"\")","v":""},{"$f":"IF(ISNUMBER($G22), _xlfn.RANK.AVG($G22,($B$5:$B$24,$G$5:$G$24),1),\"\")","v":""},{"$f":"IF(ISNUMBER($B22), _xlfn.RANK.AVG($B22,($B$5:$B$24,$H$5:$H$24),1), \"\")","v":""},{"$f":"IF(ISNUMBER($H22), _xlfn.RANK.AVG($H22,($B$5:$B$24,$H$5:$H$24),1),\"\")","v":""},{"$f":"IF(ISNUMBER($B22), _xlfn.RANK.AVG($B22,($B$5:$B$24,$I$5:$I$24),1), \"\")","v":""},{"$f":"IF(ISNUMBER($I22), _xlfn.RANK.AVG($I22,($B$5:$B$24,$I$5:$I$24),1),\"\")","v":""}]
[null,null,null,"","",{"$f":"IF(ISNUMBER($B23), _xlfn.RANK.AVG($B23,($B$5:$B$24,$D$5:$D$24),1), \"\")","v":""},{"$f":"IF(ISNUMBER($D23), _xlfn.RANK.AVG($D23,($B$5:$B$24,$D$5:$D$24),1),\"\")","v":""},{"$f":"IF(ISNUMBER($B23), _xlfn.RANK.AVG($B23,($B$5:$B$24,$E$5:$E$24),1), \"\")","v":""},{"$f":"IF(ISNUMBER($E23), _xlfn.RANK.AVG($E23,($B$5:$B$24,$E$5:$E$24),1),\"\")","v":""},{"$f":"IF(ISNUMBER($B23), _xlfn.RANK.AVG($B23,($B$5:$B$24,$F$5:$F$24),1), \"\")","v":""},{"$f":"IF(ISNUMBER($F23), _xlfn.RANK.AVG($F23,($B$5:$B$24,$F$5:$F$24),1),\"\")","v":""},{"$f":"IF(ISNUMBER($B23), _xlfn.RANK.AVG($B23,($B$5:$B$24,$G$5:$G$24),1), \"\")","v":""},{"$f":"IF(ISNUMBER($G23), _xlfn.RANK.AVG($G23,($B$5:$B$24,$G$5:$G$24),1),\"\")","v":""},{"$f":"IF(ISNUMBER($B23), _xlfn.RANK.AVG($B23,($B$5:$B$24,$H$5:$H$24),1), \"\")","v":""},{"$f":"IF(ISNUMBER($H23), _xlfn.RANK.AVG($H23,($B$5:$B$24,$H$5:$H$24),1),\"\")","v":""},{"$f":"IF(ISNUMBER($B23), _xlfn.RANK.AVG($B23,($B$5:$B$24,$I$5:$I$24),1), \"\")","v":""},{"$f":"IF(ISNUMBER($I23), _xlfn.RANK.AVG($I23,($B$5:$B$24,$I$5:$I$24),1),\"\")","v":""}]
[null,null,null,"","",{"$f":"IF(ISNUMBER($B24), _xlfn.RANK.AVG($B24,($B$5:$B$24,$D$5:$D$24),1), \"\")","v":""},{"$f":"IF(ISNUMBER($D24), _xlfn.RANK.AVG($D24,($B$5:$B$24,$D$5:$D$24),1),\"\")","v":""},{"$f":"IF(ISNUMBER($B24), _xlfn.RANK.AVG($B24,($B$5:$B$24,$E$5:$E$24),1), \"\")","v":""},{"$f":"IF(ISNUMBER($E24), _xlfn.RANK.AVG($E24,($B$5:$B$24,$E$5:$E$24),1),\"\")","v":""},{"$f":"IF(ISNUMBER($B24), _xlfn.RANK.AVG($B24,($B$5:$B$24,$F$5:$F$24),1), \"\")","v":""},{"$f":"IF(ISNUMBER($F24), _xlfn.RANK.AVG($F24,($B$5:$B$24,$F$5:$F$24),1),\"\")","v":""},{"$f":"IF(ISNUMBER($B24), _xlfn.RANK.AVG($B24,($B$5:$B$24,$G$5:$G$24),1), \"\")","v":""},{"$f":"IF(ISNUMBER($G24), _xlfn.RANK.AVG($G24,($B$5:$B$24,$G$5:$G$24),1),\"\")","v":""},{"$f":"IF(ISNUMBER($B24), _xlfn.RANK.AVG($B24,($B$5:$B$24,$H$5:$H$24),1), \"\")","v":""},{"$f":"IF(ISNUMBER($H24), _xlfn.RANK.AVG($H24,($B$5:$B$24,$H$5:$H$24),1),\"\")","v":""},{"$f":"IF(ISNUMBER($B24), _xlfn.RANK.AVG($B24,($B$5:$B$24,$I$5:$I$24),1), \"\")","v":""},{"$f":"IF(ISNUMBER($I24), _xlfn.RANK.AVG($I24,($B$5:$B$24,$I$5:$I$24),1),\"\")","v":""}]
[null,null,"Sum",{"$f":"SUM(D36:D55)","v":0},0,0,0,0,0,0,0,0,0,0,0,0,0]
[null,null,"t-value",null,{"$f":"($P$61-E56)/$P$62","v":{"$error":"#DIV/0!"}},null,{"$f":"($P$61-G56)/$P$62","v":{"$error":"#DIV/0!"}},null,{"$f":"($P$61-I56)/$P$62","v":{"$error":"#DIV/0!"}},null,{"$f":"($P$61-K56)/$P$62","v":{"$error":"#DIV/0!"}},null,{"$f":"($P$61-M56)/$P$62","v":{"$error":"#DIV/0!"}},null,{"$f":"($P$61-O56)/$P$62","v":{"$error":"#DIV/0!"}},null,{"$f":"($P$61-Q56)/$P$62","v":{"$error":"#DIV/0!"}}]
[null,null,"Signifcant",null,{"$f":"IF(E56>0,IF(E$56>$R$36,\"NS\",\"Y\"),\"\")","v":""},null,{"$f":"IF(G56>0,IF(G$56>$R$36,\"NS\",\"Y\"),\"\")","v":""},null,{"$f":"IF(I56>0,IF(I$56>$R$36,\"NS\",\"Y\"),\"\")","v":""},null,{"$f":"IF(K56>0, IF(K$56>$R$36, \"NS\", \"Y\"),\"\")","v":""},null,{"$f":"IF(M56>0,IF(M$56>$R$36,\"NS\",\"Y\"),\"\")","v":""},null,{"$f":"IF(O56>0,IF(O$56>$R$36,\"NS\",\"Y\"),\"\")","v":""},null,{"$f":"IF(Q56>0,IF(Q$56>$R$36,\"NS\",\"Y\"),\"\")","v":""}]
[]
["for 2n >20",null,null,null,null,"Extra Dunnett's Table Steel Test",null,null,null,null,null,null,null,"t-statistics: (Control-treatment)/SE"]
[null,null,null,null,null,"Steel t",0.05,null,null,null,null,null,null,"Control=n(2n+1)/2",null,{"$f":"$B$27*(2*$B$27+1)/2","v":0}]
[null,null,null,null,null,null,null,null,null,null,null,null,null,"SE=sqrt(n^2*(2n+1)/12",null,{"$f":"SQRT($B$27^2*(2*$B$27+1)/12)","v":0}]
[null,null,null,null,"t1",{"$f":"$E$57","v":{"$error":"#DIV/0!"}},{"$f":"IF(ISNUMBER(Parametric!E37), IF(Parametric!B37>=Parametric!$B$36, \"NS\", IF(F63<($P$63),\"NS\",\"Y\")),\"\")","v":""},null,null,null,null,null,null,"t-critical0.05",null,{"$f":"$B$30","v":{"$error":"#N/A"}},"<-Dunnett's one side Q critical value at alpha=0.05"]
[null,null,null,null,"t2",{"$f":"$G$57","v":{"$error":"#DIV/0!"}},{"$f":"IF(ISNUMBER(Parametric!E38), IF(Parametric!B38>=Parametric!$B$36, \"NS\", IF(F64<($P$63),\"NS\",\"N\")),\"\")","v":""}]
[null,null,null,null,"t3",{"$f":"$I$57","v":{"$error":"#DIV/0!"}},{"$f":"IF(ISNUMBER(Parametric!E39), IF(Parametric!B39>=Parametric!$B$36, \"NS\", IF(F65<($P$63),\"NS\",\"N\")),\"\")","v":""}]
[null,null,null,null,"t4",{"$f":"$K$57","v":{"$error":"#DIV/0!"}},{"$f":"IF(ISNUMBER(Parametric!E40), IF(Parametric!B40>=Parametric!$B$36, \"NS\", IF(F66<($P$63),\"NS\",\"N\")),\"\")","v":""}]
[null,null,null,null,"t5",{"$f":"$M$57","v":{"$error":"#DIV/0!"}},{"$f":"IF(ISNUMBER(Parametric!E41), IF(Parametric!B41>=Parametric!$B$36, \"NS\", IF(F67<($P$63),\"NS\",\"N\")),\"\")","v":""}]
[null,null,null,null,"t6",{"$f":"$O$57","v":{"$error":"#DIV/0!"}},{"$f":"IF(ISNUMBER(Parametric!E42), IF(Parametric!B42>=Parametric!$B$36, \"NS\", IF(F68<($P$63),\"NS\",\"N\")),\"\")","v":""}]
[null,null,null,null,"t7",{"$f":"$Q$57","v":{"$error":"#DIV/0!"}},{"$f":"IF(ISNUMBER(Parametric!E43), IF(Parametric!B43>=Parametric!$B$36, \"NS\", IF(F69<($P$63),\"NS\",\"Y\")),\"\")","v":""}]
[null,null,"Wilcoxon Rank Sum Tests"]
[null,null,"Number of Replicates",{"$f":"IF(ISNUMBER(B25), COUNT(B$5:B$24),\"\")","v":""},{"$f":"IF(ISNUMBER(C25), COUNT(C$5:C$24),\"\")","v":""},null,{"$f":"IF(ISNUMBER(D25), COUNT(D$5:D$24),\"\")","v":""},null,{"$f":"IF(ISNUMBER(E25), COUNT(E$5:E$24),\"\")","v":""},null,{"$f":"IF(ISNUMBER(F25), COUNT(F$5:F$24),\"\")","v":""},null,{"$f":"IF(ISNUMBER(G25), COUNT(G$5:G$24),\"\")","v":""},null,{"$f":"IF(ISNUMBER(H25), COUNT(H$5:H$24),\"\")","v":""},null,{"$f":"IF(ISNUMBER(I25), COUNT(I$5:I$24),\"\")","v":""}]
[null,null,"Wilcoxon Critical value ",null,{"$f":"INDEX(Table_Wilcxon!$A$6:$J$85, MATCH($B$31&$D$71,Table_Wilcxon!$A$6:$A$85 & Table_Wilcxon!$B$6:$B$85, 0), MATCH(E$71, Table_Wilcxon!$A$5:$J$5,0))","v":{"$error":"#N/A"}},null,{"$f":"INDEX(Table_Wilcxon!$A$6:$J$85, MATCH($B$31&$D$71,Table_Wilcxon!$A$6:$A$85 & Table_Wilcxon!$B$6:$B$85, 0), MATCH(G$71, Table_Wilcxon!$A$5:$J$5,0))","v":{"$error":"#N/A"}},null,{"$f":"INDEX(Table_Wilcxon!$A$6:$J$85, MATCH($B$31&$D$71,Table_Wilcxon!$A$6:$A$85 & Table_Wilcxon!$B$6:$B$85, 0), MATCH(I$71, Table_Wilcxon!$A$5:$J$5,0))","v":{"$error":"#N/A"}},null,{"$f":"INDEX(Table_Wilcxon!$A$6:$J$85, MATCH($B$31&$D$71,Table_Wilcxon!$A$6:$A$85 & Table_Wilcxon!$B$6:$B$85, 0), MATCH(K$71, Table_Wilcxon!$A$5:$J$5,0))","v":{"$error":"#N/A"}},null,{"$f":"INDEX(Table_Wilcxon!$A$6:$J$85, MATCH($B$31&$D$71,Table_Wilcxon!$A$6:$A$85 & Table_Wilcxon!$B$6:$B$85, 0), MATCH(M$71, Table_Wilcxon!$A$5:$J$5,0))","v":{"$error":"#N/A"}},null,{"$f":"INDEX(Table_Wilcxon!$A$6:$J$85, MATCH($B$31&$D$71,Table_Wilcxon!$A$6:$A$85 & Table_Wilcxon!$B$6:$B$85, 0), MATCH(O$71, Table_Wilcxon!$A$5:$J$5,0))","v":{"$error":"#N/A"}},null,{"$f":"INDEX(Table_Wilcxon!$A$6:$J$85, MATCH($B$31&$D$71,Table_Wilcxon!$A$6:$A$85 & Table_Wilcxon!$B$6:$B$85, 0), MATCH(Q$71, Table_Wilcxon!$A$5:$J$5,0))","v":{"$error":"#N/A"}},"<- get these from Wilcoxon Table"]
[null,null,"Significance",null,{"$f":"IF(ISNUMBER(E72), IF(E$56>E$72, \"NS\", \"Y\"),\"\")","v":""},null,{"$f":"IF(ISNUMBER(G72), IF(G$56>G$72, \"NS\", \"Y\"),\"\")","v":""},null,{"$f":"IF(ISNUMBER(I72), IF(I$56>I$72, \"NS\", \"Y\"),\"\")","v":""},null,{"$f":"IF(ISNUMBER(K72), IF(K$56>K$72, \"NS\", \"Y\"),\"\")","v":""},null,{"$f":"IF(ISNUMBER(M72), IF(M$56>M$72, \"NS\", \"Y\"),\"\")","v":""},null,{"$f":"IF(ISNUMBER(O72), IF(O$56>O$72, \"NS\", \"Y\"),\"\")","v":""},null,{"$f":"IF(ISNUMBER(Q72), IF(Q$56>Q$72, \"NS\", \"Y\"),\"\")","v":""}]
["Extra Wilcoxon t test"]
["for 2n >20",null,"Number of Replicates",{"$f":"IF(ISNUMBER(B26),B26,\"\")","v":""},{"$f":"IF(ISNUMBER(C26),C26,\"\")","v":""},null,{"$f":"IF(ISNUMBER(D26), D26,\"\")","v":""},null,{"$f":"IF(ISNUMBER(E26),E26,\"\")","v":""},null,{"$f":"IF(ISNUMBER(F26), F26,\"\")","v":""},null,{"$f":"IF(ISNUMBER(G26), G26,\"\")","v":""},null,{"$f":"IF(ISNUMBER(H26), H26,\"\")","v":""},null,{"$f":"IF(ISNUMBER(I26), I26,\"\")","v":""},"t-statistics: (Control-treatment)/SE"]
[null,null,"MeanControl",null,{"$f":"$D$75*($D$75+E75+1)/2","v":{"$error":"#VALUE!"}},null,{"$f":"$D$75*($D$75+G75+1)/2","v":{"$error":"#VALUE!"}},null,{"$f":"$D$75*($D$75+I75+1)/2","v":{"$error":"#VALUE!"}},null,{"$f":"$D$75*($D$75+K75+1)/2","v":{"$error":"#VALUE!"}},null,{"$f":"$D$75*($D$75+M75+1)/2","v":{"$error":"#VALUE!"}},null,{"$f":"$D$75*($D$75+O75+1)/2","v":{"$error":"#VALUE!"}},null,{"$f":"$D$75*($D$75+Q75+1)/2","v":{"$error":"#VALUE!"}},"Control=n1*(n1+n2+1)/2"]
[null,null,"SE",null,{"$f":"SQRT($D$75*E75*($D$75+E75+1)/12)","v":{"$error":"#VALUE!"}},null,{"$f":"SQRT($D$75*G75*($D$75+G75+1)/12)","v":{"$error":"#VALUE!"}},null,{"$f":"SQRT($D$75*I75*($D$75+I75+1)/12)","v":{"$error":"#VALUE!"}},null,{"$f":"SQRT($D$75*K75*($D$75+K75+1)/12)","v":{"$error":"#VALUE!"}},null,{"$f":"SQRT($D$75*M75*($D$75+M75+1)/12)","v":{"$error":"#VALUE!"}},null,{"$f":"SQRT($D$75*O75*($D$75+O75+1)/12)","v":{"$error":"#VALUE!"}},null,{"$f":"SQRT($D$75*Q75*($D$75+Q75+1)/12)","v":{"$error":"#VALUE!"}},"SE=sqrt(n1*n2*(n1+n2+1)/12)"]
[null,null,"tvalue",null,{"$f":"(-E56+E76)/E77","v":{"$error":"#VALUE!"}},null,{"$f":"(-G56+G76)/G77","v":{"$error":"#VALUE!"}},null,{"$f":"(-I56+I76)/I77","v":{"$error":"#VALUE!"}},null,{"$f":"(-K56+K76)/K77","v":{"$error":"#VALUE!"}},null,{"$f":"(-M56+M76)/M77","v":{"$error":"#VALUE!"}},null,{"$f":"(-O56+O76)/O77","v":{"$error":"#VALUE!"}},null,{"$f":"(-Q56+Q76)/Q77","v":{"$error":"#VALUE!"}},"t-critical0.05",null,{"$f":"$B$30","v":{"$error":"#N/A"}}]
[null,null,null,null,{"$f":"IF(E56>0, IF(E78<=$T78,\"NS\",\"N\"),\"\")","v":""},null,{"$f":"IF(G56>0, IF(G78<=$T78,\"NS\",\"N\"),\"\")","v":""},null,{"$f":"IF(I56>0, IF(I78<=$T78,\"NS\",\"N\"),\"\")","v":""},null,{"$f":"IF(K56>0, IF(K78<=$T78,\"NS\",\"N\"),\"\")","v":""},null,{"$f":"IF(M56>0, IF(M78<=$T78,\"NS\",\"Y\"),\"\")","v":""},null,{"$f":"IF(O56>0, IF(O78<=$T78,\"NS\",\"Y\"),\"\")","v":""},null,{"$f":"IF(Q56>0, IF(Q78<=$T78,\"NS\",\"Y\"),\"\")","v":""}]

{"sheet":"TST","index":17,"n_rows":43,"n_cols":12,"rows_kept":43,"cut":false,"hidden":true,"merged":[[0,0,0,1],[0,3,0,4],[29,7,34,8],[35,7,35,8]]}
["Non-Transformed",null,null,"Transformed if Necessary",null,null,null,"Test Type","b value","Test Species","Chronic α value","Acute α value"]
["Control","Effluent",null,"Control","Effluent",{"$f":"IF(AND(ISNUMBER(Start!B16),COUNT(Intermed_Input!L3:L22)>2),MATCH(Start!B16,Intermed_Input!L2:S2,0),\"\")","v":""},null,"Acute Survival",0.8,"Ceriodaphnia dubia (water flea)",0.2,0.1]
[{"$f":"IF(ISNUMBER($F$2),Intermed_Input!B26,\"\")","v":""},{"$f":"IF(ISNUMBER($F$2),INDEX(Intermed_Input!$B$26:$I$45,1,$F$2),\"\")","v":""},null,{"$f":"IF(ISNUMBER($F$2),Intermed_Input!L3,\"\")","v":""},{"$f":"IF(ISNUMBER($F$2),INDEX(Intermed_Input!$L$3:$S$22,1,$F$2),\"\")","v":""},null,null,"Chronic Survival",0.75,"Pimephales promelas (fathead minnow)",0.25,0.1]
[{"$f":"IF(ISNUMBER($F$2),Intermed_Input!B27,\"\")","v":""},{"$f":"IF(ISNUMBER($F$2),INDEX(Intermed_Input!$B$26:$I$45,2,$F$2),\"\")","v":""},null,{"$f":"IF(ISNUMBER($F$2),Intermed_Input!L4,\"\")","v":""},{"$f":"IF(ISNUMBER($F$2),INDEX(Intermed_Input!$L$3:$S$22,2,$F$2),\"\")","v":""},null,null,"Fertilization",0.75,"Selenastrum capricornutum (green algae)",0.25,0.1]
[{"$f":"IF(ISNUMBER($F$2),Intermed_Input!B28,\"\")","v":""},{"$f":"IF(ISNUMBER($F$2),INDEX(Intermed_Input!$B$26:$I$45,3,$F$2),\"\")","v":""},null,{"$f":"IF(ISNUMBER($F$2),Intermed_Input!L5,\"\")","v":""},{"$f":"IF(ISNUMBER($F$2),INDEX(Intermed_Input!$L$3:$S$22,3,$F$2),\"\")","v":""},null,null,"Germination",0.75,"Americamysis bahia (mysid shrimp)",0.15,0.1]
[{"$f":"IF(ISNUMBER($F$2),Intermed_Input!B29,\"\")","v":""},{"$f":"IF(ISNUMBER($F$2),INDEX(Intermed_Input!$B$26:$I$45,4,$F$2),\"\")","v":""},null,{"$f":"IF(ISNUMBER($F$2),Intermed_Input!L6,\"\")","v":""},{"$f":"IF(ISNUMBER($F$2),INDEX(Intermed_Input!$L$3:$S$22,4,$F$2),\"\")","v":""},null,null,"Germ-tube Length",0.75,"Arbacia punctulata (echinoderm)",0.05,0.1]
[{"$f":"IF(ISNUMBER($F$2),Intermed_Input!B30,\"\")","v":""},{"$f":"IF(ISNUMBER($F$2),INDEX(Intermed_Input!$B$26:$I$45,5,$F$2),\"\")","v":""},null,{"$f":"IF(ISNUMBER($F$2),Intermed_Input!L7,\"\")","v":""},{"$f":"IF(ISNUMBER($F$2),INDEX(Intermed_Input!$L$3:$S$22,5,$F$2),\"\")","v":""},null,null,"Growth",0.75,"Cyprinodon variegates (sheepshead minnow)",0.25,0.1]
[{"$f":"IF(ISNUMBER($F$2),Intermed_Input!B31,\"\")","v":""},{"$f":"IF(ISNUMBER($F$2),INDEX(Intermed_Input!$B$26:$I$45,6,$F$2),\"\")","v":""},null,{"$f":"IF(ISNUMBER($F$2),Intermed_Input!L8,\"\")","v":""},{"$f":"IF(ISNUMBER($F$2),INDEX(Intermed_Input!$L$3:$S$22,6,$F$2),\"\")","v":""},null,null,"Larval Development",0.75,"Menidia berryllina (inland silverside)",0.25,0.1]
[{"$f":"IF(ISNUMBER($F$2),Intermed_Input!B32,\"\")","v":""},{"$f":"IF(ISNUMBER($F$2),INDEX(Intermed_Input!$B$26:$I$45,7,$F$2),\"\")","v":""},null,{"$f":"IF(ISNUMBER($F$2),Intermed_Input!L9,\"\")","v":""},{"$f":"IF(ISNUMBER($F$2),INDEX(Intermed_Input!$L$3:$S$22,7,$F$2),\"\")","v":""},null,null,"Reproduction",0.75,"Dendraster excentricus (echinoderm)",0.05,0.1]
[{"$f":"IF(ISNUMBER($F$2),Intermed_Input!B33,\"\")","v":""},{"$f":"IF(ISNUMBER($F$2),INDEX(Intermed_Input!$B$26:$I$45,8,$F$2),\"\")","v":""},null,{"$f":"IF(ISNUMBER($F$2),Intermed_Input!L10,\"\")","v":""},{"$f":"IF(ISNUMBER($F$2),INDEX(Intermed_Input!$L$3:$S$22,8,$F$2),\"\")","v":""},null,null,null,null,"Strongylocentrotus purpuratus (echinoderm)",0.05,0.1]
[{"$f":"IF(ISNUMBER($F$2),Intermed_Input!B34,\"\")","v":""},{"$f":"IF(ISNUMBER($F$2),INDEX(Intermed_Input!$B$26:$I$45,9,$F$2),\"\")","v":""},null,{"$f":"IF(ISNUMBER($F$2),Intermed_Input!L11,\"\")","v":""},{"$f":"IF(ISNUMBER($F$2),INDEX(Intermed_Input!$L$3:$S$22,9,$F$2),\"\")","v":""},null,null,null,null,"Atherinops affinis (topsmelt)",0.25,0.1]
[{"$f":"IF(ISNUMBER($F$2),Intermed_Input!B35,\"\")","v":""},{"$f":"IF(ISNUMBER($F$2),INDEX(Intermed_Input!$B$26:$I$45,10,$F$2),\"\")","v":""},null,{"$f":"IF(ISNUMBER($F$2),Intermed_Input!L12,\"\")","v":""},{"$f":"IF(ISNUMBER($F$2),INDEX(Intermed_Input!$L$3:$S$22,10,$F$2),\"\")","v":""},null,null,null,null,"Haliotis rufescans (red abalone)",0.05,0.1]
[{"$f":"IF(ISNUMBER($F$2),Intermed_Input!B36,\"\")","v":""},{"$f":"IF(ISNUMBER($F$2),INDEX(Intermed_Input!$B$26:$I$45,11,$F$2),\"\")","v":""},null,{"$f":"IF(ISNUMBER($F$2),Intermed_Input!L13,\"\")","v":""},{"$f":"IF(ISNUMBER($F$2),INDEX(Intermed_Input!$L$3:$S$22,11,$F$2),\"\")","v":""},null,null,null,null,"Crassostrea gigas (oyster)",0.05,0.1]
[{"$f":"IF(ISNUMBER($F$2),Intermed_Input!B37,\"\")","v":""},{"$f":"IF(ISNUMBER($F$2),INDEX(Intermed_Input!$B$26:$I$45,12,$F$2),\"\")","v":""},null,{"$f":"IF(ISNUMBER($F$2),Intermed_Input!L14,\"\")","v":""},{"$f":"IF(ISNUMBER($F$2),INDEX(Intermed_Input!$L$3:$S$22,12,$F$2),\"\")","v":""},null,null,null,null,"Mytilus sp. (mussel)",0.05,0.1]
[{"$f":"IF(ISNUMBER($F$2),Intermed_Input!B38,\"\")","v":""},{"$f":"IF(ISNUMBER($F$2),INDEX(Intermed_Input!$B$26:$I$45,13,$F$2),\"\")","v":""},null,{"$f":"IF(ISNUMBER($F$2),Intermed_Input!L15,\"\")","v":""},{"$f":"IF(ISNUMBER($F$2),INDEX(Intermed_Input!$L$3:$S$22,13,$F$2),\"\")","v":""},null,null,null,null,"Macrocystis pyrifera (giant kelp)",0.05,0.1]
[{"$f":"IF(ISNUMBER($F$2),Intermed_Input!B39,\"\")","v":""},{"$f":"IF(ISNUMBER($F$2),INDEX(Intermed_Input!$B$26:$I$45,14,$F$2),\"\")","v":""},null,{"$f":"IF(ISNUMBER($F$2),Intermed_Input!L16,\"\")","v":""},{"$f":"IF(ISNUMBER($F$2),INDEX(Intermed_Input!$L$3:$S$22,14,$F$2),\"\")","v":""},null,null,null,null,"Holmesmysis costata (mysid)",0.15,0.1]
[{"$f":"IF(ISNUMBER($F$2),Intermed_Input!B40,\"\")","v":""},{"$f":"IF(ISNUMBER($F$2),INDEX(Intermed_Input!$B$26:$I$45,15,$F$2),\"\")","v":""},null,{"$f":"IF(ISNUMBER($F$2),Intermed_Input!L17,\"\")","v":""},{"$f":"IF(ISNUMBER($F$2),INDEX(Intermed_Input!$L$3:$S$22,15,$F$2),\"\")","v":""},null,null,null,null,"Tripneustes gratilla (echinoderm)",0.05,0.1]
[{"$f":"IF(ISNUMBER($F$2),Intermed_Input!B41,\"\")","v":""},{"$f":"IF(ISNUMBER($F$2),INDEX(Intermed_Input!$B$26:$I$45,16,$F$2),\"\")","v":""},null,{"$f":"IF(ISNUMBER($F$2),Intermed_Input!L18,\"\")","v":""},{"$f":"IF(ISNUMBER($F$2),INDEX(Intermed_Input!$L$3:$S$22,16,$F$2),\"\")","v":""},null,null,null,null,"Daphnia magna (water flea)",null,0.1]
[{"$f":"IF(ISNUMBER($F$2),Intermed_Input!B42,\"\")","v":""},{"$f":"IF(ISNUMBER($F$2),INDEX(Intermed_Input!$B$26:$I$45,17,$F$2),\"\")","v":""},null,{"$f":"IF(ISNUMBER($F$2),Intermed_Input!L19,\"\")","v":""},{"$f":"IF(ISNUMBER($F$2),INDEX(Intermed_Input!$L$3:$S$22,17,$F$2),\"\")","v":""},null,null,null,null,"Daphnia pulex (water flea)",null,0.1]
[{"$f":"IF(ISNUMBER($F$2),Intermed_Input!B43,\"\")","v":""},{"$f":"IF(ISNUMBER($F$2),INDEX(Intermed_Input!$B$26:$I$45,18,$F$2),\"\")","v":""},null,{"$f":"IF(ISNUMBER($F$2),Intermed_Input!L20,\"\")","v":""},{"$f":"IF(ISNUMBER($F$2),INDEX(Intermed_Input!$L$3:$S$22,18,$F$2),\"\")","v":""},null,null,null,null,"Oncorhynchus mykiss (rainbow trout)",null,0.1]
[{"$f":"IF(ISNUMBER($F$2),Intermed_Input!B44,\"\")","v":""},{"$f":"IF(ISNUMBER($F$2),INDEX(Intermed_Input!$B$26:$I$45,19,$F$2),\"\")","v":""},null,{"$f":"IF(ISNUMBER($F$2),Intermed_Input!L21,\"\")","v":""},{"$f":"IF(ISNUMBER($F$2),INDEX(Intermed_Input!$L$3:$S$22,19,$F$2),\"\")","v":""},null,null,null,null,"Salvelinus fontinalis (brook trout)",null,0.1]
[{"$f":"IF(ISNUMBER($F$2),Intermed_Input!B45,\"\")","v":""},{"$f":"IF(ISNUMBER($F$2),INDEX(Intermed_Input!$B$26:$I$45,20,$F$2),\"\")","v":""},null,{"$f":"IF(ISNUMBER($F$2),Intermed_Input!L22,\"\")","v":""},{"$f":"IF(ISNUMBER($F$2),INDEX(Intermed_Input!$L$3:$S$22,20,$F$2),\"\")","v":""}]
[]
[null,null,null,"Test Species?",{"$f":"Start!B6","v":0}]
[null,null,null,"Endpoint?",{"$f":"Start!B7","v":0}]
[]
[null,null,null,"b=",{"$f":"IF(E25=H2,I2,0.75)","v":0.75}]
[null,null,null,"α=",{"$f":"IF(E25=\"Acute Survival\",0.1,IF(AND(E24=\"Ceriodaphnia dubia (water flea)\"),0.2,IF(OR(E24=\"Pimephales promelas (fathead minnow)\",E24=\"Selenastrum capricornutum (green algae)\",E24=\"Cyprinodon variegatus (sheepshead minnow)\",E24=\"Menidia berryllina (inland silverside)\",E24=\"Atherinops affinis (topsmelt)\"),0.25,IF(OR(E24=\"Americamysis bahia (mysid shrimp)\",E24=\"Holmesmysis costata (mysid)\"),0.15,IF(OR(E24=\"Arbacia punctulata (echinoderm)\",E24=\"Dendraster excentricus (echinoderm)\",E24=\"Strongylocentrotus purpuratus (echinoderm)\",E24=\"Haliotis rufescans (red abalone)\",E24=\"Macrocystis pyrifera (giant kelp)\", E24=\"Crassostrea gigas (oyster)\", E24=\"Mytilus sp. (mussel)\",E24=\"Tripneustes gratilla (echinoderm)\"),0.05,\"\")))))","v":""}]
[]
[null,null,null,"Statistic","Control","Effluent",null,"If no variance, then use the percent difference.  For chronic, a % difference <25 is considered \"Passing\".  For acute, a % difference <20 is \"Passing\"."]
[null,null,null,"Mean of Raw Data",{"$f":"AVERAGE(A3:A22)","v":{"$error":"#DIV/0!"}},{"$f":"AVERAGE(B3:B22)","v":{"$error":"#DIV/0!"}}]
[null,null,null,"Mean used in Calculation",{"$f":"AVERAGE(D3:D22)","v":{"$error":"#DIV/0!"}},{"$f":"AVERAGE(E3:E22)","v":{"$error":"#DIV/0!"}}]
[null,null,null,"Variance of Raw Data",{"$f":"VAR(A3:A22)","v":{"$error":"#DIV/0!"}},{"$f":"VAR(B3:B22)","v":{"$error":"#DIV/0!"}}]
[null,null,null,"Variance used in Calculation",{"$f":"VAR(D3:D22)","v":{"$error":"#DIV/0!"}},{"$f":"VAR(E3:E22)","v":{"$error":"#DIV/0!"}}]
[null,null,null,"Standard Deviation of Raw Data",{"$f":"IF(ISNUMBER(E33),SQRT(E33),\"\")","v":""},{"$f":"IF(ISNUMBER(F33),SQRT(F33),\"\")","v":""}]
[null,null,null,"CV of Raw Data",{"$f":"IF(ISNUMBER(E31),E35/E31,\"\")","v":""},{"$f":"IF(ISNUMBER(F31),F35/F31,\"\")","v":""},null,{"$f":"IF(AND(E34=0,F34=0),((AVERAGE(D3:D22)-AVERAGE(E3:E22))/AVERAGE(D3:D22))*100,\"\")","v":{"$error":"#DIV/0!"}}]
[null,null,null,"n",{"$f":"COUNT(D3:D22)","v":0},{"$f":"COUNT(E3:E22)","v":0}]
[]
[null,null,null,"% Effect at IWC",{"$f":"IF(ISERROR(E31),\"\",((E31-F31)/E31)*100)","v":""}]
[]
[null,null,null,"Calculated t-value=",{"$f":"(F32-(E27*E32))/SQRT((F34/F37)+(((E27^2)*E34)/E37))","v":{"$error":"#DIV/0!"}},{"$f":"IF(AND(ISERR(E41),E25=\"acute survival\",H36<20),\"Pass\",IF(AND(ISERR(E41),E25=\"acute survival\",H36>=20),\"Fail\",IF(AND(ISERR(E41),H36<25),\"Pass\",IF(AND(ISERR(E41),H36>=25),\"Fail\",IF(E41>E43,\"Pass\",\"Fail\")))))","v":{"$error":"#DIV/0!"}}]
[null,null,null,"ν=",{"$f":"INT(((((F34/F37)+((((E27)^2)*E34)/E37))^2))/((((F34/F37)^2)/(F37-1))+((((((E27^2)*E34)/E37)^2)/(E37-1)))))","v":{"$error":"#DIV/0!"}}]
[null,null,null,"Table t-value=",{"$f":"TINV((2*E28),E42)","v":{"$error":"#VALUE!"}}]

{"sheet":"Output_Intermed","index":18,"n_rows":47,"n_cols":37,"rows_kept":47,"cut":false,"hidden":true,"merged":[[11,2,11,3],[8,6,8,8],[11,5,11,7],[25,5,25,6],[26,5,26,6],[13,6,13,7]]}
[null,null,null,null,"Data (Survival, Growth, Reproduction, etc.)",null,null,null,null,null,null,null,"Normal Distribution?",{"$f":"IF(OR(Shapiro!J33=\"Normally distributed\",Kolmogorov!K37=\"Normally distributed\"),\"Y\",IF(OR(Shapiro!J33=\"Not normally distributed\",Kolmogorov!K37=\"Not normally distributed\"),\"N\",\"\"))","v":""},"MSD","TST","FisherExact_p","Fisher Exact",null,"IC25","Conc.","Number of Samples","Dunnett's","t-test with B-adj","Steel's","Wilcoxon Rank Sum Tests",{"$f":"Parametric!L35","v":"% Reduction"},"Spearman-Karber","LC50",null,"IC50-Final","Mean (Transf)","Mean (Not Transf)","Sd","CV","Welch","Inc/Decr"]
[null,null,null,null,null,null,null,null,null,null,null,null,"Homogeneous?",{"$f":"Parametric!$R$36","v":""},{"$f":"IF(Start!B17=\"input2\", Parametric!D46,Parametric!C46)","v":{"$error":"#N/A"}},{"$f":"IF(AND($Q$13=\"Ceriodaphnia dubia (water flea)\",$Q$14=\"Chronic Survival\"),\"NA\",IF($Q$14=\"Acute Survival\",\"NA\",TST!E41))","v":{"$error":"#DIV/0!"}},null,null,"orig",{"$f":"calc_IC25!H30","v":">0"},{"$f":"Intermed_Input!B25","v":""},{"$f":"Parametric!B26","v":""},null,null,null,null,null,{"$f":"Spearman_Karber!$N$24","v":{"$error":"#N/A"}},{"$f":"calc_IC25!H30","v":">0"},"orig",{"$f":"IF(Spearman_Karber!$I$11,\">\"&MAX(U2:U9),IF(AND(Spearman_Karber!$N$16:$N$18),AB2, AC2))","v":{"$error":"#N/A"}},{"$f":"IF(Intermed_Input!$B$46=0, 0,Intermed_Input!$B$23)","v":""},{"$f":"IF(ISNUMBER(AF2),IF(Intermed_Input!$B$26=0,0,AVERAGE(Intermed_Input!$B$26:$B$45)),\"\")","v":""},{"$f":"Parametric!C36","v":""},{"$f":"IF(AND(ISNUMBER(AF2),ISNUMBER(AH2)),IF(AND(AF2>0,AH2>0),AH2/AF2,0),\"\")","v":""}]
[null,null,null,null,null,null,null,null,null,null,null,null,"Equal number of replicates?",{"$f":"EqualRep(Parametric!B26:G26)","v":"Y"},{"$f":"IF(Start!B17=\"input2\",Parametric!D47,Parametric!C47)","v":{"$error":"#N/A"}},{"$f":"IF(AND($Q$13=\"Ceriodaphnia dubia (water flea)\",$Q$14=\"Chronic Survival\"),\"NA\",TST!F41)","v":{"$error":"#DIV/0!"}},{"$f":"calc_Fisher!P7","v":""},{"$f":"IF(AND(ISNUMBER(Q3),ISNUMBER(U3)),IF(Q3>0.05, \"NS\", \"Y\"),\"\")","v":""},"lower95",{"$f":"IF(ISNUMBER(calc_IC25_Stat!D3),calc_IC25_Stat!D3,\"NA\")","v":"NA"},{"$f":"Intermed_Input!C25","v":""},{"$f":"Parametric!C26","v":""},{"$f":"IF(AND(Intermed_Input!C46=0,ISNUMBER(Intermed_Input!C25)), \"Y\",Parametric!F37)","v":""},{"$f":"IF(AND(Intermed_Input!C46=0,ISNUMBER(Intermed_Input!C25)), \"Y\",Parametric!I37)","v":""},{"$f":"IF(AND(Intermed_Input!C46=0,ISNUMBER(Intermed_Input!C25)), \"Y\",NonPara!$E$58)","v":""},{"$f":"IF(AND(Intermed_Input!C46=0,ISNUMBER(Intermed_Input!C25)), \"Y\",NonPara!$E$73)","v":""},{"$f":"Parametric!L37","v":""},{"$f":"Spearman_Karber!N26","v":{"$error":"#N/A"}},{"$f":"IF(ISNUMBER(calc_IC25_Stat!D3),calc_IC25_Stat!D3,\"NA\")","v":"NA"},"lower95",{"$f":"IF(Spearman_Karber!$I$11,\"NA\",IF(AND(Spearman_Karber!$N$16:$N$18),AB3, AC3))","v":{"$error":"#N/A"}},{"$f":"IF(Intermed_Input!$C$46=0, 0,Intermed_Input!$C$23)","v":""},{"$f":"IF(ISNUMBER(AF3),IF(Intermed_Input!$C$26=0,0,AVERAGE(Intermed_Input!$C$26:$C$45)),\"\")","v":""},{"$f":"Parametric!C37","v":""},{"$f":"IF(AND(ISNUMBER(AF3),ISNUMBER(AH3)),IF(AND(AF3>0,AH3>0),AH3/AF3,0),\"\")","v":""},{"$f":"IF(AND(Intermed_Input!C46=0,ISNUMBER(Intermed_Input!C25)), \"NS\",Parametric!K32)","v":{"$error":"#VALUE!"}},{"$f":"IF(ISNUMBER(AF3),IF(AF3<AF2,\"dec\",IF(AF3=AF2,\"eq\",\"inc\")),\"N/A\")","v":"N/A"}]
[null,"Point Estimation",null,null,"Hypothesis Testing",null,null,null,null,null,null,null,"Selected Hypothesis Test?",{"$f":"IF(V2<2,\"No Test Available\",IF(COUNT(U2:U9)=2,IF(N1=\"N\",\"Wilcoxon test\",IF(N2=\"N\",\"Welch's t-test\",\"T-test\")),IF(ISERROR(N1), \"Steel test\", IF(AND(ISERROR(Z10),SelectedTest(N1,N2,N3)=\"Wilcoxon test\"), \"T-test\",SelectedTest(N1,N2,N3)))))","v":0},"PMSD ↑",{"$f":"IF(AND($Q$13=\"Ceriodaphnia dubia (water flea)\",$Q$14=\"Chronic Survival\"),\"NA\",IF($Q$14=\"Acute Survival\",\"NA\",TST!E43))","v":{"$error":"#VALUE!"}},{"$f":"calc_Fisher!P8","v":""},"","upper95",{"$f":"IF(ISNUMBER(calc_IC25_Stat!D4),calc_IC25_Stat!D4,\"NA\")","v":"NA"},{"$f":"Intermed_Input!D25","v":""},{"$f":"Parametric!D26","v":""},{"$f":"IF(AND(Intermed_Input!D46=0,ISNUMBER(Intermed_Input!D25)), \"Y\",Parametric!F38)","v":""},{"$f":"IF(AND(Intermed_Input!D46=0,ISNUMBER(Intermed_Input!D25)), \"Y\",Parametric!I38)","v":""},{"$f":"IF(AND(Intermed_Input!D46=0,ISNUMBER(Intermed_Input!D25)), \"Y\",NonPara!$G$58)","v":""},{"$f":"IF(AND(Intermed_Input!D46=0,ISNUMBER(Intermed_Input!D25)), \"Y\",NonPara!$G$73)","v":""},{"$f":"Parametric!L38","v":""},{"$f":"Spearman_Karber!N25","v":{"$error":"#N/A"}},{"$f":"IF(ISNUMBER(calc_IC25_Stat!D4),calc_IC25_Stat!D4,\"NA\")","v":"NA"},"upper95",{"$f":"IF(Spearman_Karber!$I$11,\"NA\",IF(AND(Spearman_Karber!$N$16:$N$18),AB4, AC4))","v":{"$error":"#N/A"}},{"$f":"IF(Intermed_Input!$D$46=0, 0,Intermed_Input!$D$23)","v":""},{"$f":"IF(ISNUMBER(AF4),IF(Intermed_Input!$D$26=0,0,AVERAGE(Intermed_Input!$D$26:$D$45)),\"\")","v":""},{"$f":"Parametric!C38","v":""},"",null,"N/A"]
[null,null,null,null,null,null,null,null,null,null,null,null,null,{"$f":"IF(N4=\"No Test Available\", \"No Test Available\",VLOOKUP(N4,L6:M10,2,FALSE))","v":{"$error":"#N/A"}},null,null,{"$f":"calc_Fisher!P9","v":""},"",null,null,{"$f":"Intermed_Input!E25","v":""},{"$f":"Parametric!E26","v":""},{"$f":"IF(AND(Intermed_Input!E46=0,ISNUMBER(Intermed_Input!E25)), \"Y\", Parametric!F39)","v":""},{"$f":"IF(AND(Intermed_Input!E46=0,ISNUMBER(Intermed_Input!E25)), \"Y\",Parametric!I39)","v":""},{"$f":"IF(AND(Intermed_Input!E46=0,ISNUMBER(Intermed_Input!E25)), \"Y\",NonPara!$I$58)","v":""},{"$f":"IF(AND(Intermed_Input!E46=0,ISNUMBER(Intermed_Input!E25)), \"Y\",NonPara!$I$73)","v":""},{"$f":"Parametric!L39","v":""},null,null,null,null,{"$f":"IF(Intermed_Input!$E$46=0, 0,Intermed_Input!$E$23)","v":""},{"$f":"IF(ISNUMBER(AF5),IF(Intermed_Input!$E$26=0,0,AVERAGE(Intermed_Input!$E$26:$E$45)),\"\")","v":""},{"$f":"Parametric!C39","v":""},"",null,"N/A"]
[null,null,null,null,null,null,null,null,null,null,null,"Dunnett test","Dunnett's Test",null,null,null,{"$f":"calc_Fisher!P10","v":""},"",null,null,{"$f":"Intermed_Input!F25","v":""},{"$f":"Parametric!F26","v":""},{"$f":"IF(AND(Intermed_Input!F46=0,ISNUMBER(Intermed_Input!F25)), \"Y\", Parametric!F40)","v":""},{"$f":"IF(AND(Intermed_Input!F46=0,ISNUMBER(Intermed_Input!F25)), \"Y\",Parametric!I40)","v":""},{"$f":"IF(AND(Intermed_Input!F46=0,ISNUMBER(Intermed_Input!F25)), \"Y\",NonPara!$K$58)","v":""},{"$f":"IF(AND(Intermed_Input!F46=0,ISNUMBER(Intermed_Input!F25)), \"Y\",NonPara!$K$73)","v":""},{"$f":"Parametric!L40","v":""},"TSK","LC50 from Probit",null,null,{"$f":"IF(Intermed_Input!$F$46=0, 0,Intermed_Input!$F$23)","v":""},{"$f":"IF(ISNUMBER(AF6),IF(Intermed_Input!$F$26=0,0,AVERAGE(Intermed_Input!$F$26:$F$45)),\"\")","v":""},{"$f":"Parametric!C40","v":""},"",null,"N/A"]
[null,"Endpoint Estimate",null,null,"Transformation?",null,null,null,null,null,null,"Steel test","Steel's Many-One Rank Test",null,null,null,{"$f":"calc_Fisher!P11","v":""},"",null,null,{"$f":"Intermed_Input!G25","v":""},{"$f":"Parametric!G26","v":""},{"$f":"IF(AND(Intermed_Input!G46=0,ISNUMBER(Intermed_Input!G25)), \"Y\",Parametric!F41)","v":""},{"$f":"IF(AND(Intermed_Input!G46=0,ISNUMBER(Intermed_Input!G25)), \"Y\",Parametric!I41)","v":""},{"$f":"IF(AND(Intermed_Input!G46=0,ISNUMBER(Intermed_Input!G25)), \"Y\",NonPara!$M$58)","v":""},{"$f":"IF(AND(Intermed_Input!G46=0,ISNUMBER(Intermed_Input!G25)), \"Y\",NonPara!$M$73)","v":""},{"$f":"Parametric!L41","v":""},{"$f":"Spearman_Karber!X24","v":{"$error":"#N/A"}},{"$f":"Spearman_Karber!P29","v":{"$error":"#N/A"}},"orig",null,{"$f":"IF(Intermed_Input!$G$46=0, 0,Intermed_Input!$G$23)","v":""},{"$f":"IF(ISNUMBER(AF7),IF(Intermed_Input!$G$26=0,0,AVERAGE(Intermed_Input!$G$26:$G$45)),\"\")","v":""},{"$f":"Parametric!C41","v":""},"",null,"N/A"]
[null,"LC, EC, IC",null,null,null,null,null,null,null,null,null,"T-test","T-Test with Bonferroni Adjustment",null,null,null,{"$f":"calc_Fisher!P12","v":""},"",null,null,{"$f":"Intermed_Input!H25","v":""},{"$f":"Parametric!H26","v":""},{"$f":"IF(AND(Intermed_Input!H46=0,ISNUMBER(Intermed_Input!H25)),\"Y\",Parametric!F42)","v":""},{"$f":"IF(AND(Intermed_Input!H46=0,ISNUMBER(Intermed_Input!H25)), \"Y\",Parametric!I42)","v":""},{"$f":"IF(AND(Intermed_Input!H46=0,ISNUMBER(Intermed_Input!H25)), \"Y\",NonPara!$O$58)","v":""},{"$f":"IF(AND(Intermed_Input!H46=0,ISNUMBER(Intermed_Input!H25)), \"Y\",NonPara!$O$73)","v":""},{"$f":"Parametric!L42","v":""},{"$f":"Spearman_Karber!X26","v":{"$error":"#N/A"}},{"$f":"Spearman_Karber!P31","v":{"$error":"#N/A"}},"lower95",null,{"$f":"IF(Intermed_Input!$H$46=0, 0,Intermed_Input!$H$23)","v":""},{"$f":"IF(ISNUMBER(AF8),IF(Intermed_Input!$H$26=0,0,AVERAGE(Intermed_Input!$H$26:$H$45)),\"\")","v":""},{"$f":"Parametric!C42","v":""},"",null,"N/A"]
[null,null,null,null,null,null,"non-normal distribution",null,null,null,null,"Welch's t-test","Welch's T-Test",null,null,null,null,{"$f":"IF(AND(ISNUMBER(Q9),ISNUMBER(U9)),IF(Q9>0.05, \"NS\", \"Y\"),\"\")","v":""},null,null,{"$f":"Intermed_Input!I25","v":""},{"$f":"Parametric!I26","v":""},{"$f":"IF(AND(Intermed_Input!I46=0,ISNUMBER(Intermed_Input!I25)),\"Y\", Parametric!F43)","v":""},{"$f":"IF(AND(Intermed_Input!I46=0,ISNUMBER(Intermed_Input!I25)), \"Y\",Parametric!I43)","v":""},{"$f":"IF(AND(Intermed_Input!I46=0,ISNUMBER(Intermed_Input!I25)), \"Y\",NonPara!$Q$58)","v":""},{"$f":"IF(AND(Intermed_Input!I46=0,ISNUMBER(Intermed_Input!I25)), \"Y\",NonPara!$Q$73)","v":""},{"$f":"Parametric!L43","v":""},{"$f":"Spearman_Karber!X25","v":{"$error":"#N/A"}},{"$f":"Spearman_Karber!P30","v":{"$error":"#N/A"}},"upper95",null,{"$f":"IF(Intermed_Input!$I$46=0, 0,Intermed_Input!$I$23)","v":""},{"$f":"IF(ISNUMBER(AF9),IF(Intermed_Input!$I$26=0,0,AVERAGE(Intermed_Input!$I$26:$I$45)),\"\")","v":""},{"$f":"Parametric!C43","v":""},"",null,"N/A"]
[null,null,null,null,"Shapiro-Wilk's Test",null,null,null,null,null,null,"Wilcoxon test","Wilcoxon Rank Sum Test with Bonferroni Adjustment",null,null,null,"NOEC",{"$f":"IF(R3=\"\", \"\", NOECLOEC(U3:U9,W3:W9,\"NOEC\",\"std\"))","v":""},null,"NOEC std",{"$f":"IF($N$4=\"T-test\",X10,IF($N$4=\"Dunnett test\", W10,IF($N$4=\"Steel test\",Y10,IF($N$4=\"Wilcoxon test\",Z10,\"No Test Available!\"))))","v":"No Test Available!"},"NOEC:",{"$f":"NOECLOEC($U$3:$U$9,W$3:W$9,\"NOEC\",\"std\")","v":{"$error":"#VALUE!"}},{"$f":"NOECLOEC($U$3:$U$9,X$3:X$9,\"NOEC\",\"std\")","v":{"$error":"#VALUE!"}},{"$f":"NOECLOEC($U$3:$U$9,Y$3:Y$9,\"NOEC\",\"std\")","v":{"$error":"#VALUE!"}},{"$f":"NOECLOEC($U$3:$U$9,Z$3:Z$9,\"NOEC\",\"std\")","v":{"$error":"#VALUE!"}},null,"Zero/100 mortality",{"$f":"Spearman_Karber!I8","v":{"$error":"#N/A"}},null,"New LC50 (w/TSK, probit)"]
[null,null,null,null,null,null,null,null,null,null,null,"Result:",{"$f":"IF($V$2<2, \"\", IF($N$4=\"Welch's t-test\", AJ3, IF($N$4=\"Dunnett test\", W3, IF($N$4=\"T-test\",X3, IF($N$4=\"Steel test\", Y3, IF($N$4=\"Wilcoxon test\", Z3, \"no result\"))) )))","v":"no result"},{"$f":"IF(M11<> \"no result\",IF(M11=\"Y\",\"only highest\", \"all ns\"),0)","v":0},null,null,"LOEC",{"$f":"IF(ISERROR(NOECLOEC(U3:U9,R3:R9,\"LOEC\",\"std\"))=FALSE,\"\",NOECLOEC(U3:U9,R3:R9,\"LOEC\",\"std\"))","v":{"$error":"#VALUE!"}},null,"LOEC std",{"$f":"IF($N$4=\"T-test\",X11,IF($N$4=\"Dunnett test\", W11,IF($N$4=\"Steel test\",Y11,IF($N$4=\"Wilcoxon test\",Z11,\"No Test Available!\"))))","v":"No Test Available!"},"LOEC:",{"$f":"NOECLOEC($U$3:$U$9,W$3:W$9,\"LOEC\",\"std\")","v":{"$error":"#VALUE!"}},{"$f":"NOECLOEC($U$3:$U$9,X$3:X$9,\"LOEC\",\"std\")","v":{"$error":"#VALUE!"}},{"$f":"NOECLOEC($U$3:$U$9,Y$3:Y$9,\"LOEC\",\"std\")","v":{"$error":"#VALUE!"}},{"$f":"NOECLOEC($U$3:$U$9,Z$3:Z$9,\"LOEC\",\"std\")","v":{"$error":"#VALUE!"}},null,"# partial mortalities",{"$f":"Spearman_Karber!I5","v":0},"LC50",{"$f":"IF($Q$14<>\"Acute Survival\", T2,IF($AE$14=\"SK\",AB2,IF($AE$14=\"TSK\",AB7,IF($AE$14=\"Probit\",AC7,AC2))))","v":">0"},null,null,null,null,null,{"$f":"IF(AND(COUNTIF(AK2:AK9,\"dec\")=0,COUNTIF(AK2:AK9,\"eq\")=0),\"monotonic increase\",IF(AND(COUNTIF(AK2:AK9,\"inc\")=0,COUNTIF(AK2:AK9,\"eq\")=0),\"monotonic decrease\",\"other\"))","v":"monotonic increase"}]
[null,null,"normal distribution",null,null,"heterogeneous variance",null,null,null,null,null,null,{"$f":"IF($V$2<2, \"\", IF($N$4=\"Welch's t-test\", AJ4, IF($N$4=\"Dunnett test\", W4, IF($N$4=\"T-test\",X4, IF($N$4=\"Steel test\", Y4, IF($N$4=\"Wilcoxon test\", Z4, \"no result\"))) )))","v":"no result"},{"$f":"IF(M12<>\"no result\",IF(AND(M12=\"Y\",M11=\"Y\"),\"all s\",IF(AND(M12=\"NS\",M11=\"NS\"),\"all ns\",IF(M12=\"Y\",\"only highest\",\"interrupted\"))),0)","v":0},null,null,null,null,null,null,null,null,null,null,null,null,null,"Partial mortalities span 0.5",{"$f":"Spearman_Karber!N21","v":false},"lower95",{"$f":"IF($Q$14<>\"Acute Survival\", T3,IF($AE$14=\"SK\",AB3,IF($AE$14=\"TSK\",AB8,IF($AE$14=\"Probit\",AC8,AC3))))","v":"NA"}]
[null,null,null,null,"Bartlett's Test",null,null,null,null,null,null,null,"no result",{"$f":"IF(M13<>\"no result\",IF(COUNTIF(M11:M13,\"Y\")=3,\"all s\",IF(COUNTIF(M11:M13,\"NS\")=3,\"all ns\",IF(COUNTIF(M11:M13,\"Y\")=1,IF(M13=\"Y\",\"only highest\",\"interrupted\"),IF(COUNTIF(M11:M13,\"NS\")=1,IF(M11=\"NS\",\"fx at higher conc\",\"interrupted\"))))),0)","v":0},null,"Species",{"$f":"Start!B6","v":0},null,null,"NOEC low",{"$f":"IF($N$4=\"T-test\",X13,IF($N$4=\"Dunnett test\", W13,IF($N$4=\"Steel test\",Y13,IF($N$4=\"Wilcoxon test\",Z13,\"No Test Available!\"))))","v":"No Test Available!"},"NOEC_low:",{"$f":"NOECLOEC($U$3:$U$9,W$3:W$9,\"NOEC\",\"low\")","v":0},{"$f":"NOECLOEC($U$3:$U$9,X$3:X$9,\"NOEC\",\"low\")","v":0},{"$f":"NOECLOEC($U$3:$U$9,Y$3:Y$9,\"NOEC\",\"low\")","v":0},{"$f":"NOECLOEC($U$3:$U$9,Z$3:Z$9,\"NOEC\",\"low\")","v":0},null,null,null,"upper95",{"$f":"IF($Q$14<>\"Acute Survival\", T4,IF($AE$14=\"SK\",AB4,IF($AE$14=\"TSK\",AB9,IF($AE$14=\"Probit\",AC9,AC4))))","v":"NA"}]
[null,null,null,null,null,null,"no",null,null,null,null,null,"no result",{"$f":"IF(M14<>\"no result\",IF(COUNTIF(M11:M14,\"Y\")=4,\"all s\",IF(COUNTIF(M11:M14,\"NS\")=4,\"all ns\",IF(COUNTIF(M11:M14,\"Y\")=1,IF(M14=\"Y\",\"only highest\",\"interrupted\"),IF(COUNTIF(M11:M14,\"NS\")=1,IF(M11=\"NS\",\"fx at higher conc\",\"interrupted\"),IF(COUNTIF(M11:M14,\"NS\")=2, IF(MATCH(\"Y\",M11:M14,0)<=2,\"interrupted\",\"fx at higher conc\"), \"undefined\"))))),0)","v":0},null,"Test",{"$f":"Start!B7","v":0},null,null,"LOEC low",{"$f":"IF($N$4=\"T-test\",X14,IF($N$4=\"Dunnett test\", W14,IF($N$4=\"Steel test\",Y14,IF($N$4=\"Wilcoxon test\",Z14,\"No Test Available!\"))))","v":"No Test Available!"},"LOEC_low:",{"$f":"NOECLOEC($U$3:$U$9,W$3:W$9,\"LOEC\",\"low\")","v":0},{"$f":"NOECLOEC($U$3:$U$9,X$3:X$9,\"LOEC\",\"low\")","v":0},{"$f":"NOECLOEC($U$3:$U$9,Y$3:Y$9,\"LOEC\",\"low\")","v":0},{"$f":"NOECLOEC($U$3:$U$9,Z$3:Z$9,\"LOEC\",\"low\")","v":0},null,"Probit okay?",{"$f":"IF(AND(AC11>=2,N2=\"N\"),\"Y\",\"N\")","v":"N"},"method",{"$f":"IF($Q$14<>\"Acute Survival\",\"Linear Interplation\",IF($AC$11>=2,IF($N$2=\"N\",\"Probit\",IF($AC$11>=1,IF($AC$10=TRUE,\"SK\",IF(AND($AC$11>1,$AC$12=TRUE),\"TSK\",\"Linear Interpolation\")),\"Linear Interpolation\")),IF($AC$11>=1,IF($AC$10=TRUE,\"SK\",IF(AND($AC$11>1,$AC$12=TRUE),\"TSK\",\"Linear Interpolation\")),\"Linear Interpolation\")))","v":"Linear Interplation"}]
[null,null,"homogenous varience",null,null,"no statistical analysis",null,null,"4 or more replicates?",null,null,null,"no result",{"$f":"IF(M15<>\"no result\",IF(COUNTIF(M11:M15,\"Y\")=5,\"all s\",IF(COUNTIF(M11:M15,\"NS\")=5,\"all ns\",IF(COUNTIF(M11:M15,\"Y\")=1,IF(M15=\"Y\",\"only highest\",\"interrupted\"),IF(COUNTIF(M11:M15,\"NS\")=1,IF(M11=\"NS\",\"fx at higher conc\",\"interrupted\"),IF(COUNTIF(M11:M15,\"Y\")=2, IF(MATCH(\"Y\",M11:M16,0)<=3,\"interrupted\",\"fx at higher conc\"), IF(COUNTIF(M11:M15,\"Y\")=3,IF(MATCH(\"Y\",M11:M16,0)<=2,\"interrupted\",\"fx at higher conc\"),\"undefined\")))))),0)","v":0},null,"LookupValue",{"$f":"Q13&\" \"&Q14","v":"0 0"},null,null,"NOEC high",{"$f":"IF($N$4=\"T-test\",X15,IF($N$4=\"Dunnett test\", W15,IF($N$4=\"Steel test\",Y15,IF($N$4=\"Wilcoxon test\",Z15,\"No Test Available!\"))))","v":"No Test Available!"},"NOEC_high:",{"$f":"NOECLOEC($U$3:$U$9,W$3:W$9,\"NOEC\",\"high\")","v":0},{"$f":"NOECLOEC($U$3:$U$9,X$3:X$9,\"NOEC\",\"high\")","v":0},{"$f":"NOECLOEC($U$3:$U$9,Y$3:Y$9,\"NOEC\",\"high\")","v":0},{"$f":"NOECLOEC($U$3:$U$9,Z$3:Z$9,\"NOEC\",\"high\")","v":0},null,"SK okay?",{"$f":"IF(AND(AC14=\"N\",AC11>=1,AC10=TRUE),\"Y\",\"N\")","v":{"$error":"#N/A"}},"Smoothed?",{"$f":"IF(OR(AE14=\"IC25\",AE14=\"Linear Interpolation\"),calc_IC25!R46,Spearman_Karber!O33)","v":{"$error":"#N/A"}}]
[null,null,null,null,null,"recommended",null,null,null,"yes",null,null,"no result",{"$f":"IF(OR(M16=\"no result\",M16=\"\"),0,IF(COUNTIF(M11:M16,\"Y\")=6,\"all s\",IF(COUNTIF(M11:M16,\"NS\")=6,\"all ns\",IF(COUNTIF(M11:M16,\"Y\")=1,IF(M16=\"Y\",\"only highest\",\"interrupted\"),IF(COUNTIF(M11:M16,\"NS\")=1,IF(M11=\"NS\",\"fx at higher conc\",\"interrupted\"),IF(COUNTIF(M11:M16,\"Y\")=2,IF(MATCH(\"Y\",M11:M16,0)<=4,\"interrupted\",\"fx at higher conc\"),IF(COUNTIF(M11:M16,\"Y\")=3,IF(MATCH(\"Y\",M11:M16,0)<=3,\"interrupted\",\"fx at higher conc\"),IF(COUNTIF(M11:M16,\"Y\")=4,IF(MATCH(\"Y\",M11:M16,0)<=2,\"interrupted\",\"fx at higher conc\"),\"undefined\"))))))))","v":0},null,"Lower Bound PMSD",{"$f":"INDEX(LU!M6:M43,MATCH(Q15,LU!L6:L43,0))","v":{"$error":"#N/A"}},null,null,"LOEC high",{"$f":"IF($N$4=\"T-test\",X16,IF($N$4=\"Dunnett test\", W16,IF($N$4=\"Steel test\",Y16,IF($N$4=\"Wilcoxon test\",Z16,\"No Test Available!\"))))","v":"No Test Available!"},"LOEC_high:",{"$f":"NOECLOEC($U$3:$U$9,W$3:W$9,\"LOEC\",\"high\")","v":0},{"$f":"NOECLOEC($U$3:$U$9,X$3:X$9,\"LOEC\",\"high\")","v":0},{"$f":"NOECLOEC($U$3:$U$9,Y$3:Y$9,\"LOEC\",\"high\")","v":0},{"$f":"NOECLOEC($U$3:$U$9,Z$3:Z$9,\"LOEC\",\"high\")","v":0},null,"TSK okay?",{"$f":"IF(AND(AC11>1,AC10=FALSE,AC12=TRUE),\"Y\",\"N\")","v":{"$error":"#N/A"}}]
[null,null,null,null,null,null,null,null,null,null,null,null,"no result",{"$f":"IF(OR(M17=\"no result\",M17=\"\"),0,IF(COUNTIF(M11:M17,\"NS\")=7,\"all ns\",IF(COUNTIF(M11:M17,\"Y\")=7,\"all s\",IF(COUNTIF(M11:M17,\"Y\")=1,IF(M17=\"Y\",\"only highest\",\"interrupted\"),IF(COUNTIF(M11:M17,\"NS\")=1,IF(M11=\"NS\",\"fx at higher conc\",\"interrupted\"),IF(COUNTIF(M11:M17,\"Y\")=2,IF(MATCH(\"Y\",M11:M17,0)<=5,\"interrupted\",\"fx at higher conc\"),IF(COUNTIF(M11:M17,\"Y\")=3,IF(MATCH(\"Y\",M11:M17,0)<=4,\"interrupted\",\"fx at higher conc\"),IF(COUNTIF(M11:M17,\"Y\")=4,IF(MATCH(\"Y\",M11:M17,0)<=3,\"interrupted\",\"fx at higher conc\"),IF(COUNTIF(M11:M17,\"Y\")=5,IF(MATCH(\"Y\",M11:M17,0)<=2,\"interrupted\",\"fx at higher conc\"))))))))))","v":0},null,"Upper Bound PMSD",{"$f":"INDEX(LU!N6:N43,MATCH(Q15,LU!L6:L43,0))","v":{"$error":"#N/A"}},null,null,null,null,null,null,null,null,null,null,"Linear interpolation?",{"$f":"IF(AND(AC14=\"N\",AC15=\"N\",AC16=\"N\"),\"Y\",\"N\")","v":{"$error":"#N/A"}}]
[null,null,null,"equal number of replicates?",null,null,null,null,"equal number of replicates?",null,null,null,"no result",0,null,"PMSD in Bounds?",{"$f":"IF(ISNUMBER(Q16),IF(ISNUMBER(Q17),IF(AND(O3*100>=Q16,O3*100<=Q17),\"PMSD within bounds\",\"PMSD out of bounds\"),IF(O3*100>=Q16,\"PMSD within bounds\",\"PMSD out of bounds\")),IF(ISNUMBER(Q17),IF(O3*100<=Q17,\"PMSD within bounds\",\"PMSD out of bounds\"),\"no PMSD bounds\"))","v":"no PMSD bounds"},null,null,"NOTE: NOEC/LOEC std are for all curves other than interrupted. NOEC/LOEC high/low are for interrupted curves only"]
[null,"no",null,null,null,"yes","yes",null,null,null,"no",null,"significance",{"$f":"INDEX(N11:N18,MATCH(0,N11:N18,0)-1)","v":0},null,null,null,null,null,"TAC Met?","C. variegatus growth (special case)"]
[null,null,null,null,null,null,null,null,null,null,null,null,"curve shape",{"$f":"AK11","v":"monotonic increase"},null,{"$f":"IF(N20=\"monotonic increase\",\"Curve Type 10\",IF(AND(N20=\"monotonic decrease\",OR(N19=\"all s\", N19=\"only highest\", N19=\"fx at higher conc\")),\"Curve Type 1\",IF(N20=\"other\",IF(N19=\"all ns\",\"Curve Type 4\",IF(N19=\"interrupted\",\"Curve Type 5 or 6\",IF(N19=\"only highest\",\"Curve Type 7\",IF(N19=\"all s\", \"Curve Type 8 or 9\",\"Curve Type 2 or 3\")))),\"undefined\")))","v":"Curve Type 10"},null,"Lower bound Control TAC (>=)",{"$f":"IF(ISNUMBER(INDEX(LU!O6:O43,MATCH($Q$15,LU!$L$6:$L$43,0))),INDEX(LU!O6:O43,MATCH($Q$15,LU!$L$6:$L$43,0)),\"NA\")","v":"NA"},{"$f":"IF(AND(ISNUMBER(S20),ISNUMBER($AF$2)),IF((1-Spearman_Karber!E5)*100>=S20,\"Y\",\"N\"),\"NA\")","v":"NA"},{"$f":"IF(Q15=R27,IF(AF2>S21,\"Y\",IF(AF2<S20,\"Additional TAC may apply. See guidance for details.\",\"At least one TAC not met.\")),\"NA\")","v":"NA"}]
[null,null,"t-test with",null,"Dunnett's ",null,null,"Steel's Many One",null,"Wilcoxon Rank",null,null,null,null,"Flag check",{"$f":"IF(AND(P20<>\"Curve Type 1\", P20<>\"Curve Type 2 or 3\",P20<>\"Curve Type 4\"),P22,\"\")","v":"The concentration-response curve observed in this test has been identified to need further evaluation to determine the validity and reliability of the test.  Please use USEPA’s Method Guidance and Recommendations for Whole Effluent Toxicity (WET) Testing (40 CFR Part 136) for guidance in interpreting this concentration-response pattern."},null,"Upper bound Control TAC (<=)",{"$f":"IF(ISNUMBER(INDEX(LU!P6:P43,MATCH(Q15,LU!L6:L43,0))),INDEX(LU!P6:P43,MATCH(Q15,LU!L6:L43,0)),\"NA\")","v":"NA"},{"$f":"IF(AND(ISNUMBER(S21),ISNUMBER($AF$2)),IF($AF$2>=S21,\"Y\",\"N\"),\"NA\")","v":"NA"},null,"Control response within bounds?",null,null,null,"Tests using smoothed data"]
[null,null,"Bonferroni",null,"Test",null,null,"Rank Test",null,"Sum Test with",null,null,null,null,"Flag text","The concentration-response curve observed in this test has been identified to need further evaluation to determine the validity and reliability of the test.  Please use USEPA’s Method Guidance and Recommendations for Whole Effluent Toxicity (WET) Testing (40 CFR Part 136) for guidance in interpreting this concentration-response pattern.",null,"CV TAC (<=)",{"$f":"IF(ISNUMBER(INDEX(LU!R6:R43,MATCH(Q15,LU!L6:L43,0))),INDEX(LU!R6:R43,MATCH(Q15,LU!L6:L43,0)),\"NA\")","v":"NA"},{"$f":"IF(AND(ISNUMBER(S22),ISNUMBER($AI$2)),IF($AI$2<=S22,\"Y\",\"N\"),\"NA\")","v":"NA"},null,{"$f":"IF(U20<>\"NA\",U20,IF(AND(T20=\"Y\",T21=\"Y\"), \"Control response TAC met.\", IF(OR(AND(T20=\"Y\",T21=\"NA\"),AND(T20=\"NA\",T21=\"Y\")),\"Control response TAC met.\",IF(AND(T20=\"NA\",T21=\"NA\"),\"NA\", \"Control response TAC not met.\"))))","v":"NA"},null,null,null,"Spearman-Karber"]
[null,null,"Adjustment",null,null,null,null,null,null,"Bonferroni Adjustment",null,null,null,null,null,null,null,"MSD TAC (<=)",{"$f":"IF(ISNUMBER(INDEX(LU!S6:S43,MATCH(Q15,LU!L6:L43,0))),INDEX(LU!S6:S43,MATCH(Q15,LU!L6:L43,0)),\"NA\")","v":"NA"},{"$f":"IF(AND(ISNUMBER(S23),ISNUMBER($O$2)),IF($O$2<=S23,\"Y\",\"N\"),\"NA\")","v":"NA"},null,null,null,null,null,"Trimmed Spearman-Karber"]
[null,null,null,null,null,null,null,null,null,null,null,null,null,null,null,null,null,"Flags?",{"$f":"IF(INDEX(LU!T6:T43,MATCH(Q15,LU!L6:L43,0))=\"N\",\"No flags\",\"Additional TAC may apply. See guidance for details.\")","v":{"$error":"#N/A"}}]
[]
[null,null,null,null,null,"Endpoint Estimates"]
[null,null,null,null,null,"NOEC, LOEC",null,null,null,null,null,null,null,null,null,null,"Check special case","Cyprinodon variegatus (sheepshead minnow) Growth"]
[]
[]
[]
[null,null,null,null,"Point Estimation"]
[]
[]
[null,">= 2 partial mortalities?"]
[null,"yes",null,null,">1 partial mortalities?",null,null,"Graphical Method"]
[null,null,null,null,"yes",null,null,null,"No"]
[null,"Significant χ2? (heterogenous)"]
[null,"yes",null,null,"Zero mortality in lowest concentration",null,null,null,"Mortalities span 0.5?"]
[null,null,null,null,"& 100% mortality in highest concentration?",null,null,"no"]
[null,"Probit method",null,null,"yes",null,null,null,"Yes"]
[]
[null,null,null,null,"Spearman-Karber Method",null,null,null,"Trimmed"]
[null,null,null,null,null,null,null,null,"Spearman-Karber Method"]
[]
[]
[null,null,null,null,"LC50"]
[null,null,null,null,"95% Confidence Interval"]

{"sheet":"Output","index":19,"n_rows":33,"n_cols":13,"rows_kept":33,"cut":false,"hidden":true,"merged":[[12,0,15,0],[16,0,17,0],[18,0,19,0],[32,6,35,11],[22,3,22,5],[24,6,24,9],[24,2,25,2],[27,2,28,2],[0,6,5,11],[29,2,32,5],[29,6,30,11],[7,1,7,4],[0,1,0,4],[1,1,1,4],[2,1,2,4],[3,1,3,4],[5,1,5,4],[6,1,6,4],[4,1,4,4],[8,1,8,4],[9,1,9,4],[25,6,25,9],[20,5,21,6],[20,8,21,11]]}
["Facility:",{"$f":"IF(ISTEXT(Start!B1), Start!B1,\"\")","v":""},null,null,null,null,"Note \n- For printer friendly versions of data, data summaries, statistical analyses, and graphs, click on the \"Generate Report\" button below.\n- To save summary information from multiple tests to the Statistics tab, click on the \"Save to Statistics\" button below.\n- For interrupted dose-response curves, select High or Low NOEC/LOEC in the fields below to use in reports and saved statistics.\n"]
["Analyst:",{"$f":"IF(ISTEXT(Start!B2), Start!B2,\"\")","v":""}]
["Test ID:",{"$f":"IF(ISTEXT(Start!B3), Start!B3,\"\")","v":""}]
["Date:",{"$f":"IF(ISNUMBER(Start!B4), Start!B4,\"\")","v":""}]
["Lab ID:",{"$f":"IF(ISBLANK(Start!B5), \"\", Start!B5)","v":""}]
["Species:",{"$f":"IF(ISTEXT(Start!B6), Start!B6,\"\")","v":""}]
["Test Type:",{"$f":"IF(ISTEXT(Start!B7), Start!B7,\"\")","v":""},null,null,null,null,"Select High or Low: ",null,null,null,null,null,"high"]
["IWC Concentration:",{"$f":"IF(ISNUMBER(Start!B16), Start!B16,\"\")","v":""},null,null,null,{"$f":"SUMPRODUCT((H14:H20=\"\")*1)","v":7},{"$f":"IF($B$7=\"Acute Survival\",IF(Output_Intermed!$P$20=\"Curve Type 5 or 6\", \"LOAEC\", \"\"),IF(Output_Intermed!$P$20=\"Curve Type 5 or 6\", \"LOEC\", \"\"))","v":""},null,null,null,null,null,"low"]
["Hypothesis Test:",{"$f":"Output_Intermed!N5","v":{"$error":"#N/A"}},null,null,null,null,null,{"$f":"IF(OR(ISBLANK(H7),H7=\"high\"),C21,E21)","v":"No Test Available!"}]
["Point Estimate Test: ",{"$f":"IF(Output_Intermed!AE14=\"SK\",\"Spearman-Karber\",IF(Output_Intermed!AE14=\"TSK\",\"Trimmed Spearman-Karber\", IF(Output_Intermed!AE14=\"Probit\",\"Probit\",\"Linear Interpolation\")))","v":"Linear Interpolation"},null,null,null,null,null,{"$f":"IF(OR(ISBLANK(H8),H8=\"high\"),C22,E22)","v":"No Test Available!"}]
[]
["Statistical Data","Conc.","Mean (Transformed)","Mean","Stdev","CV",{"$f":"Output_Intermed!N4","v":0},{"$f":"IF(AND(B6=\"Ceriodaphnia dubia (water flea)\", B7=\"Chronic Survival\"), \"Fisher Exact Test\", \"\")","v":""}]
[{"$f":"IF(ISNUMBER(Input2!D21),\"Statistics are based on the transformed data used for endpoint calculations\",\"Data have not been transformed for endpoint calculations.\")","v":"Data have not been transformed for endpoint calculations."},{"$f":"Output_Intermed!U2","v":""},{"$f":"IF(ISNUMBER(Input2!$D$21),Output_Intermed!AF2,\"NA\")","v":"NA"},{"$f":"Output_Intermed!AG2","v":""},{"$f":"Output_Intermed!AH2","v":""},{"$f":"Output_Intermed!AI2","v":""}]
[null,{"$f":"Output_Intermed!U3","v":""},{"$f":"IF(ISNUMBER(Input2!$E$21),Output_Intermed!AF3,\"NA\")","v":"NA"},{"$f":"Output_Intermed!AG3","v":""},{"$f":"Output_Intermed!AH3","v":""},{"$f":"Output_Intermed!AI3","v":""},{"$f":"IF(ISERROR(Output_Intermed!M11),\"\",Output_Intermed!M11)","v":"no result"},{"$f":"IF(AND($B$6=\"Ceriodaphnia dubia (water flea)\",$B$7=\"Chronic Survival\"), Output_Intermed!R3, \"\")","v":""}]
[null,{"$f":"Output_Intermed!U4","v":""},{"$f":"IF(ISNUMBER(Input2!$F$21),Output_Intermed!AF4,\"NA\")","v":"NA"},{"$f":"Output_Intermed!AG4","v":""},{"$f":"Output_Intermed!AH4","v":""},{"$f":"Output_Intermed!AI4","v":""},{"$f":"IF(ISERROR(Output_Intermed!M12),\"\",Output_Intermed!M12)","v":"no result"},{"$f":"IF(AND($B$6=\"Ceriodaphnia dubia (water flea)\",$B$7=\"Chronic Survival\"), Output_Intermed!R4, \"\")","v":""}]
[null,{"$f":"Output_Intermed!U5","v":""},{"$f":"IF(ISNUMBER(Input2!$G$21),Output_Intermed!AF5,\"NA\")","v":"NA"},{"$f":"Output_Intermed!AG5","v":""},{"$f":"Output_Intermed!AH5","v":""},{"$f":"Output_Intermed!AI5","v":""},{"$f":"IF(ISERROR(Output_Intermed!M13),\"\",Output_Intermed!M13)","v":"no result"},{"$f":"IF(AND($B$6=\"Ceriodaphnia dubia (water flea)\",$B$7=\"Chronic Survival\"), Output_Intermed!R5, \"\")","v":""}]
[{"$f":"IF(ISERROR(Output_Intermed!N1),\"Normal distribution not tested.\",IF(Output_Intermed!N1=\"Y\",\"Data are normally distributed.\",IF(Output_Intermed!N1=\"N\",\"Data are not normally distributed.\",\"Normal distribution not tested.\")))","v":"Normal distribution not tested."},{"$f":"Output_Intermed!U6","v":""},{"$f":"IF(ISNUMBER(Input2!$H$21),Output_Intermed!AF6,\"NA\")","v":"NA"},{"$f":"Output_Intermed!AG6","v":""},{"$f":"Output_Intermed!AH6","v":""},{"$f":"Output_Intermed!AI6","v":""},{"$f":"IF(ISERROR(Output_Intermed!M14),\"\",Output_Intermed!M14)","v":"no result"},{"$f":"IF(AND($B$6=\"Ceriodaphnia dubia (water flea)\",$B$7=\"Chronic Survival\"), Output_Intermed!R6, \"\")","v":""}]
[null,{"$f":"Output_Intermed!U7","v":""},{"$f":"IF(ISNUMBER(Input2!$I$21),Output_Intermed!AF7,\"NA\")","v":"NA"},{"$f":"Output_Intermed!AG7","v":""},{"$f":"Output_Intermed!AH7","v":""},{"$f":"Output_Intermed!AI7","v":""},{"$f":"IF(ISERROR(Output_Intermed!M15),\"\",Output_Intermed!M15)","v":"no result"},{"$f":"IF(AND($B$6=\"Ceriodaphnia dubia (water flea)\",$B$7=\"Chronic Survival\"), Output_Intermed!R7, \"\")","v":""}]
[{"$f":"IF(Output_Intermed!N2=\"Y\",\"Data have homogeneous variance.\",IF(Output_Intermed!N2=\"N\",\"Data have heterogeneous variance.\",\"Variance not tested.\"))","v":"Variance not tested."},{"$f":"Output_Intermed!U8","v":""},{"$f":"IF(ISNUMBER(Input2!$J$21),Output_Intermed!AF8,\"NA\")","v":"NA"},{"$f":"Output_Intermed!AG8","v":""},{"$f":"Output_Intermed!AH8","v":""},{"$f":"Output_Intermed!AI8","v":""},{"$f":"IF(ISERROR(Output_Intermed!M16),\"\",Output_Intermed!M16)","v":"no result"},{"$f":"IF(AND($B$6=\"Ceriodaphnia dubia (water flea)\",$B$7=\"Chronic Survival\"), Output_Intermed!R8, \"\")","v":""}]
[null,{"$f":"Output_Intermed!U9","v":""},{"$f":"IF(ISNUMBER(Input2!$K$21),Output_Intermed!AF9,\"\")","v":""},{"$f":"Output_Intermed!AG9","v":""},{"$f":"Output_Intermed!AH9","v":""},{"$f":"Output_Intermed!AI9","v":""},{"$f":"IF(ISERROR(Output_Intermed!M17),\"\",Output_Intermed!M17)","v":"no result"},{"$f":"IF(AND($B$6=\"Ceriodaphnia dubia (water flea)\",$B$7=\"Chronic Survival\"), Output_Intermed!R9, \"\")","v":""}]
[{"$f":"IF(Output_Intermed!N3=\"Y\",\"Data have an equal number of replicates.\",IF(Output_Intermed!N3=\"N\", \"Data have an unequal number of replicates.\",\"Number of replicates not checked.\"))","v":"Data have an equal number of replicates."},{"$f":"IF($B$7=\"Acute survival\",IF(Output_Intermed!$P$20=\"Curve Type 5 or 6\",\"NOAEC (high)\", \"NOAEC\"),IF(Output_Intermed!$P$20=\"Curve Type 5 or 6\",\"NOEC (high)\", \"NOEC\"))","v":"NOEC"},{"$f":"IF(Output_Intermed!$P$20=\"Curve Type 5 or 6\",IF(ISERROR(Output_Intermed!U15),\"\",Output_Intermed!U15),IF(ISERROR(Output_Intermed!U10),\"\",Output_Intermed!U10))","v":"No Test Available!"},{"$f":"IF($B$7=\"Acute Survival\",IF(Output_Intermed!$P$20=\"Curve Type 5 or 6\",\"NOAEC (low)\",\"\"),IF(Output_Intermed!$P$20=\"Curve Type 5 or 6\",\"NOEC (low)\",\"\"))","v":""},{"$f":"IF(Output_Intermed!$P$20=\"Curve Type 5 or 6\",IF(ISERROR(Output_Intermed!U13),\"\",Output_Intermed!U13),\"\")","v":""},{"$f":"IF(ISERROR(C23),\"\",IF(C23, \"<- The data indicated an interrupted dose response, select higher or lower NOEC for reporting.\", \"\"))","v":""},null,null,"Note - For statistical tests, \"NS\" indicates that the concentration is not statistically different from the control, while \"Y\" indicates that the concentration is statistically different from the control."]
[{"$f":"IF(ISERROR(Output_Intermed!AE15),\"\",IF(Output_Intermed!AE15=\"Y\",\"Smoothed data were used in statistical tests.\",\"Unsmoothed data were used in statistical tests.\"))","v":""},{"$f":"IF($B$7=\"Acute survival\",IF(Output_Intermed!$P$20=\"Curve Type 5 or 6\",\"LOAEC (high)\", \"LOAEC\"),IF(Output_Intermed!$P$20=\"Curve Type 5 or 6\",\"LOEC (high)\", \"LOEC\"))","v":"LOEC"},{"$f":"IF(Output_Intermed!$P$20=\"Curve Type 5 or 6\",IF(ISERROR(Output_Intermed!U16),\"\",Output_Intermed!U16),IF(ISERROR(Output_Intermed!U11),\"\",Output_Intermed!U11))","v":"No Test Available!"},{"$f":"IF($B$7=\"Acute Survival\",IF(Output_Intermed!$P$20=\"Curve Type 5 or 6\",\"LOAEC (low)\",\"\"),IF(Output_Intermed!$P$20=\"Curve Type 5 or 6\",\"LOEC (low)\",\"\"))","v":""},{"$f":"IF(Output_Intermed!$P$20=\"Curve Type 5 or 6\",IF(ISERROR(Output_Intermed!U14),\"\",Output_Intermed!U14),\"\")","v":""}]
[null,null,{"$f":"AND(Output_Intermed!$U$11<Output_Intermed!$U$10, ISNUMBER(Output_Intermed!$U$10))","v":false},"Test Acceptability Criteria"]
[{"$f":"IF(Start!B7=\"Acute Survival\", \"LC50\",\"IC25\")","v":"IC25"},{"$f":"Output_Intermed!AE11","v":">0"},null,"Criterion","Test Value","Pass/Fail","TAC Flags"]
["Lower 95% Confidence Interval",{"$f":"Output_Intermed!AE12","v":"NA"},"Control mean response",{"$f":"IF(ISNUMBER(Output_Intermed!$S$20),CONCATENATE(\">=\",Output_Intermed!$S$20),\"NA\")","v":"NA"},{"$f":"IF(ISNUMBER(D13),D13,\"NA\")","v":"NA"},{"$f":"IF(ISNUMBER(Output_Intermed!$S$20),IF(E25>=Output_Intermed!$S$20,\"Pass\",\"Fail\"),\"NA\")","v":"NA"},{"$f":"IF(ISERROR(Output_Intermed!S24),\"NA\",Output_Intermed!$S$24)","v":"NA"}]
["Upper 95% Confidence Interval",{"$f":"Output_Intermed!AE13","v":"NA"},null,{"$f":"IF(ISNUMBER(Output_Intermed!$S$21),CONCATENATE(\"<=\",Output_Intermed!$S$21),\"NA\")","v":"NA"},{"$f":"IF(ISNUMBER(D13),D13,\"NA\")","v":"NA"},{"$f":"IF(ISNUMBER(Output_Intermed!$S$21),IF(E26<=Output_Intermed!$S$21,\"Pass\",\"Fail\"),\"NA\")","v":"NA"},"Note - The test value is never transformed for TAC comparisons."]
[null,null,"Control CV",{"$f":"IF(ISNUMBER(Output_Intermed!$S$22),CONCATENATE(\"<=\",Output_Intermed!$S$22),\"NA\")","v":"NA"},{"$f":"IF(ISNUMBER(F13),F13,\"NA\")","v":"NA"},{"$f":"IF(ISNUMBER(Output_Intermed!$S$22),IF(E27<=Output_Intermed!$S$22,\"Pass\",\"Fail\"),\"NA\")","v":"NA"}]
["MSD",{"$f":"IF(AND(OR(ISNUMBER(Output_Intermed!$Q$16),ISNUMBER(Output_Intermed!$Q$17)),ISNUMBER(Output_Intermed!$O$2)),Output_Intermed!$O$2,\"NA\")","v":"NA"},"PMSD",{"$f":"IF(ISNUMBER(Output_Intermed!$Q$16),CONCATENATE(\">=\",Output_Intermed!$Q$16),\"NA\")","v":"NA"},{"$f":"IF(AND(ISNUMBER(Output_Intermed!$Q$16),ISNUMBER(Output_Intermed!$O$3)),Output_Intermed!$O$3,\"NA\")","v":"NA"},{"$f":"IF(ISNUMBER(Output_Intermed!$Q$16),IF(E28*100>=Output_Intermed!$Q$16,\"Pass\",\"Fail\"),\"NA\")","v":"NA"}]
[null,null,null,{"$f":"IF(ISNUMBER(Output_Intermed!$Q$17),CONCATENATE(\"<=\",Output_Intermed!$Q$17),\"NA\")","v":"NA"},{"$f":"IF(AND(ISNUMBER(Output_Intermed!$Q$17),ISNUMBER(Output_Intermed!$O$3)),Output_Intermed!$O$3,\"NA\")","v":"NA"},{"$f":"IF(ISNUMBER(Output_Intermed!$Q$17),IF(E29*100<=Output_Intermed!$Q$17,\"Pass\",\"Fail\"),\"NA\")","v":"NA"}]
["TST",{"$f":"IF(ISERROR(Output_Intermed!P3),\"NA\",Output_Intermed!P3)","v":"NA"},"An IWC was not entered OR the IWC is not equal to a test concentration OR there are only 2 replicates . TST cannot be calculated.",null,null,null,"Note - If only two concentrations were entered, calculated point estimate and NOEC, NOAEC test endpoints are not applicable."]
["Calculated t-value",{"$f":"IF(ISERROR(Output_Intermed!P2),\"NA\",Output_Intermed!P2)","v":"NA"}]
["Table t-value",{"$f":"IF(ISERROR(Output_Intermed!P4),\"NA\",Output_Intermed!P4)","v":"NA"}]
["Relative % Effect at IWC",{"$f":"TST!E39","v":""},null,null,null,null,{"$f":"Output_Intermed!P21","v":"The concentration-response curve observed in this test has been identified to need further evaluation to determine the validity and reliability of the test.  Please use USEPA’s Method Guidance and Recommendations for Whole Effluent Toxicity (WET) Testing (40 CFR Part 136) for guidance in interpreting this concentration-response pattern."}]

{"sheet":"Table_Bonf","index":20,"n_rows":52,"n_cols":12,"rows_kept":52,"cut":false,"hidden":true,"merged":[]}
["Table CRITICAL VALUES FOR \"T\" FOR THE T TEST WITH BONFERRONI'S ADJUSTMENT P=0.05 CRITICAL LEVEL, ONE TAILED"]
[]
["df",2,3,4,5,6,7,8,9,10,11,"<- Number of groups"]
[1,6.3140000000000001,12.707000000000001,19.001999999999999,25.452000000000002,31.821000000000002,38.189,44.555999999999997,50.923999999999999,57.29,63.656999999999996]
[2,2.92,4.3029999999999999,5.34,6.2060000000000004,6.9649999999999999,7.649,8.2769999999999992,8.8610000000000007,9.4079999999999995,9.9250000000000007]
[3,2.3540000000000001,3.1829999999999998,3.7410000000000001,4.1769999999999996,4.5410000000000004,4.8570000000000002,5.1379999999999999,5.3920000000000003,5.6260000000000003,5.8410000000000002]
[4,2.1320000000000001,2.7770000000000001,3.1869999999999998,3.496,3.7469999999999999,3.9609999999999999,4.1479999999999997,4.3150000000000004,4.4660000000000002,4.6050000000000004]
[5,2.016,2.5710000000000002,2.9119999999999999,3.1640000000000001,3.3650000000000002,3.5350000000000001,3.681,3.8109999999999999,3.927,4.0330000000000004]
[6,1.944,2.4470000000000001,2.75,2.9689999999999999,3.1429999999999998,3.2879999999999998,3.4119999999999999,3.5219999999999998,3.6190000000000002,3.7080000000000002]
[7,1.895,2.3650000000000002,2.6419999999999999,2.8420000000000001,2.9980000000000002,3.1280000000000001,3.2389999999999999,3.3359999999999999,3.4220000000000002,3.5]
[8,1.86,2.3069999999999999,2.5670000000000002,2.7519999999999998,2.8969999999999998,3.016,3.1179999999999999,3.206,3.2850000000000001,3.3559999999999999]
[9,1.8340000000000001,2.2629999999999999,2.5099999999999998,2.6859999999999999,2.8220000000000001,2.9340000000000002,3.0289999999999999,3.1110000000000002,3.1850000000000001,3.25]
[10,1.8129999999999999,2.2290000000000001,2.4060000000000001,2.6339999999999999,2.7639999999999998,2.871,2.9609999999999999,3.0390000000000001,3.1080000000000001,3.17]
[11,1.796,2.3010000000000002,2.4319999999999999,2.5939999999999999,2.7189999999999999,2.8210000000000002,2.907,2.9809999999999999,3.0470000000000002,3.1059999999999999]
[12,1.7829999999999999,2.1789999999999998,2.4039999999999999,2.5609999999999999,2.681,2.73,2.863,2.9350000000000001,2.9980000000000002,3.0550000000000002]
[13,1.7709999999999999,2.161,2.38,2.5329999999999999,2.6509999999999998,2.746,2.827,2.8969999999999998,2.95,3.0129999999999999]
[14,1.762,2.145,2.36,2.5099999999999998,2.625,2.718,2.7970000000000002,2.8639999999999999,2.9239999999999999,2.9769999999999999]
[15,1.754,2.1320000000000001,2.343,2.4900000000000002,2.6030000000000002,2.694,2.7709999999999999,2.8370000000000002,2.895,2.9470000000000001]
[16,1.746,2.12,2.3290000000000002,2.4729999999999999,2.5840000000000001,2.6739999999999999,2.7490000000000001,2.8140000000000001,2.871,2.9209999999999998]
[17,1.74,2.11,2.3159999999999998,2.4590000000000001,2.5670000000000002,2.6549999999999998,2.7290000000000001,2.7930000000000001,2.8490000000000002,2.899]
[18,1.7350000000000001,2.101,2.3050000000000002,2.4460000000000002,2.5529999999999999,2.64,2.7120000000000002,2.7749999999999999,2.83,2.879]
[19,1.73,2.0939999999999999,2.2949999999999999,2.4340000000000002,2.54,2.6259999999999999,2.6970000000000001,2.7589999999999999,2.8130000000000002,2.8610000000000002]
[20,1.7250000000000001,2.0859999999999999,2.206,2.4239999999999999,2.528,2.613,2.6840000000000002,2.7450000000000001,2.798,2.8460000000000001]
[21,1.7210000000000001,2.08,2.278,2.4140000000000001,2.5179999999999998,2.6019999999999999,2.6720000000000002,2.7320000000000002,2.7850000000000001,2.8319999999999999]
[22,1.718,2.0739999999999998,2.2709999999999999,2.4060000000000001,2.5089999999999999,2.5920000000000001,2.661,2.7210000000000001,2.7730000000000001,2.819]
[23,1.714,2.069,2.2639999999999998,2.3980000000000001,2.5,2.5830000000000002,2.6509999999999998,2.71,2.762,2.8079999999999998]
[24,1.7110000000000001,2.0640000000000001,2.258,2.391,2.4929999999999999,2.5739999999999998,2.6419999999999999,2.7010000000000001,2.7519999999999998,2.7970000000000002]
[25,1.7090000000000001,2.06,2.2530000000000001,2.3849999999999998,2.4860000000000002,2.5659999999999998,2.6339999999999999,2.6920000000000002,2.7429999999999999,2.7879999999999998]
[26,1.706,2.056,2.2480000000000002,2.379,2.4790000000000001,2.5590000000000002,2.6269999999999998,2.6840000000000002,2.734,2.7789999999999999]
[27,1.704,2.052,2.2429999999999999,2.3740000000000001,2.4729999999999999,2.5529999999999999,2.62,2.677,2.7269999999999999,2.7709999999999999]
[28,1.702,2.0489999999999999,2.2389999999999999,2.3690000000000002,2.468,2.5470000000000002,2.613,2.67,2.72,2.7639999999999998]
[29,1.7,2.0459999999999998,2.2349999999999999,2.3639999999999999,2.4630000000000001,2.5409999999999999,2.6070000000000002,2.6640000000000001,2.7130000000000001,2.7570000000000001]
[30,1.698,2.0430000000000001,2.2309999999999999,2.36,2.4580000000000002,2.536,2.6019999999999999,2.6579999999999999,2.7069999999999999,2.75]
[31,1.696,2.04,2.2280000000000002,2.3559999999999999,2.4529999999999998,2.5310000000000001,2.597,2.6520000000000001,2.7010000000000001,2.7450000000000001]
[32,1.694,2.0369999999999999,2.2240000000000002,2.3519999999999999,2.4489999999999998,2.5270000000000001,2.5920000000000001,2.6469999999999998,2.6960000000000002,2.7389999999999999]
[33,1.6930000000000001,2.0350000000000001,2.2210000000000001,2.3490000000000002,2.4449999999999998,2.5230000000000001,2.5870000000000002,2.6429999999999998,2.6909999999999998,2.734]
[34,1.6910000000000001,2.0329999999999999,2.2189999999999999,2.3460000000000001,2.4420000000000002,2.5190000000000001,2.5830000000000002,2.6379999999999999,2.6859999999999999,2.7290000000000001]
[35,1.69,2.0310000000000001,2.2160000000000002,2.3420000000000001,2.4380000000000002,2.5150000000000001,2.5790000000000002,2.6339999999999999,2.6819999999999999,2.7240000000000002]
[36,1.6890000000000001,2.0289999999999999,2.2130000000000001,2.34,2.4350000000000001,2.512,2.5750000000000002,2.63,2.6779999999999999,2.72]
[37,1.6879999999999999,2.0270000000000001,2.2109999999999999,2.3370000000000002,2.4319999999999999,2.508,2.5720000000000001,2.6259999999999999,2.6739999999999999,2.7160000000000002]
[38,1.6859999999999999,2.0249999999999999,2.2090000000000001,2.3340000000000001,2.4289999999999998,2.5049999999999999,2.5680000000000001,2.6230000000000002,2.67,2.7120000000000002]
[39,1.6850000000000001,2.0230000000000001,2.2069999999999999,2.3319999999999999,2.4260000000000002,2.5019999999999998,2.5649999999999999,2.6190000000000002,2.6669999999999998,2.7080000000000002]
[40,1.6839999999999999,2.0219999999999998,2.2050000000000001,2.3290000000000002,2.4239999999999999,2.4990000000000001,2.5619999999999998,2.6160000000000001,2.6629999999999998,2.7050000000000001]
[50,1.6759999999999999,2.0089999999999999,2.1890000000000001,2.3109999999999999,2.4039999999999999,2.4780000000000002,2.5390000000000001,2.5920000000000001,2.6379999999999999,2.6779999999999999]
[60,1.671,2.0009999999999999,2.1789999999999998,2.2999999999999998,2.391,2.4630000000000001,2.3239999999999998,2.5760000000000001,2.621,2.661]
[70,1.667,1.9950000000000001,2.1709999999999998,2.2909999999999999,2.3809999999999998,2.4529999999999998,2.5129999999999999,2.5640000000000001,2.609,2.6480000000000001]
[80,1.665,1.9910000000000001,2.1659999999999999,2.2850000000000001,2.3740000000000001,2.4460000000000002,2.5049999999999999,2.556,2.6,2.6389999999999998]
[90,1.6619999999999999,1.9870000000000001,2.1619999999999999,2.2799999999999998,2.3690000000000002,2.44,2.4990000000000001,2.5489999999999999,2.593,2.6320000000000001]
[100,1.661,1.984,2.1579999999999999,2.2759999999999998,2.3650000000000002,2.4350000000000001,2.4940000000000002,2.544,2.5880000000000001,2.6259999999999999]
[110,1.659,1.982,2.1560000000000001,2.2730000000000001,2.3610000000000002,2.4319999999999999,2.4900000000000002,2.54,2.5830000000000002,2.6219999999999999]
[120,1.6579999999999999,1.98,2.153,2.27,2.3580000000000001,2.4289999999999998,2.4870000000000001,2.536,2.58,2.6179999999999999]
[100000,1.645,1.96,2.129,2.242,2.327,2.3940000000000001,2.4500000000000002,2.4980000000000002,2.54,2.5760000000000001]

{"sheet":"Table_Dun","index":21,"n_rows":28,"n_cols":20,"rows_kept":28,"cut":false,"hidden":true,"merged":[[2,0,2,18],[3,1,3,9],[3,10,3,18]]}
["Table DUNNETT'S \"T\" VALUES (Miller, 1981)"]
[]
["                                                                                                                                              (One-tailed)dak"]
["VK","                                                               α=0.05",null,null,null,null,null,null,null,null,"                                                               α=0.1"]
["df",2,3,4,5,6,7,8,9,10,2,3,4,5,6,7,8,9,10,"<- Number of groups"]
[5,2.02,2.44,2.58,2.85,2.98,3.08,3.16,3.24,3.3,3.37,3.9,4.21,4.43,4.5,4.7300000000000004,4.8499999999999996,4.9400000000000004,5.03]
[6,1.94,2.34,2.56,2.71,2.83,2.92,3,3.07,3.12,3.14,3.61,4.88,4.07,4.21,4.33,4.43,4.51,4.3899999999999997]
[7,1.89,2.27,2.48,2.62,2.73,2.82,2.89,2.95,3.01,3,3.42,3.56,3.83,3.96,4.07,4.1500000000000004,4.2300000000000004,4.3]
[8,1.86,2.2200000000000002,2.42,2.5499999999999998,2.56,2.74,2.81,2.87,2.92,2.9,3.2,3.51,3.67,3.79,3.18,3.96,4.03,4.09]
[9,1.83,2.1800000000000002,2.37,2.5,2.6,2.68,2.75,2.81,2.86,2.82,3.19,3.4,3.55,3.86,3.75,3.82,3.89,3.94]
[10,1.81,2.15,2.34,2.4700000000000002,2.56,2.64,2.7,2.76,2.81,2.76,3.11,3.31,3.45,3.56,3.64,3.71,3.78,3.83]
[11,1.8,2.13,2.31,2.44,2.5299999999999998,2.6,2.67,2.72,2.77,2.72,3.06,3.25,3.38,3.46,3.56,3.63,3.69,3.74]
[12,1.78,2.11,2.29,2.41,2.5,2.58,2.64,2.59,2.74,2.68,3.01,3.19,3.32,3.42,3.5,3.56,3.62,3.67]
[13,1.77,2.09,2.27,2.39,2.48,2.5499999999999998,2.61,2.68,2.71,2.65,2.97,3.15,3.27,3.37,3.44,3.91,3.56,3.61]
[14,1.76,2.08,2.25,2.37,2.46,2.5299999999999998,2.59,2.64,2.69,2.62,2.94,3.11,3.23,3.32,3.4,3.46,3.51,3.56]
[15,1.75,2.0699999999999998,2.2400000000000002,2.36,2.44,2.5099999999999998,2.57,2.62,2.67,2.6,2.91,3.08,3.2,3.29,3.36,3.42,3.47,3.52]
[16,1.75,2.06,2.23,2.34,2.4300000000000002,2.5,2.56,2.61,2.65,2.58,2.38,3.05,3.17,3.28,3.33,3.39,3.44,3.48]
[17,1.74,2.0499999999999998,2.2200000000000002,2.33,2.42,2.4900000000000002,2.54,2.59,2.64,2.57,2.86,3.03,3.14,3.23,3.3,3.36,3.41,3.45]
[18,1.73,2.04,2.21,2.3199999999999998,2.41,2.48,2.5299999999999998,2.58,2.62,2.5499999999999998,2.84,3.01,3.12,3.21,3.27,3.33,3.38,3.4]
[19,1.73,2.0299999999999998,2.2000000000000002,2.31,2.4,2.4700000000000002,2.52,2.57,2.61,2.54,2.83,2.99,3.1,3.18,3.25,3.31,3.36,3.4]
[20,1.72,2.0299999999999998,2.19,2.2999999999999998,2.2999999999999998,2.46,2.5099999999999998,2.56,2.6,2.5299999999999998,2.81,2.97,3.08,3.17,3.23,3.29,3.34,3.4]
[24,1.71,2.0099999999999998,3.17,2.2799999999999998,2.36,2.4300000000000002,2.48,2.5299999999999998,2.57,2.4,2.77,2.92,3.03,3.11,3.17,3.22,3.27,3.31]
[30,1.7,1.99,2.15,2.25,2.33,2.4,2.4500000000000002,2.5,2.54,2.46,2.72,2.87,2.97,3.05,3.11,3.16,3.21,3.24]
[40,1.68,1.97,2.13,2.23,2.31,2.37,2.42,2.4700000000000002,2.5099999999999998,2.42,2.68,2.3199999999999998,2.92,2.99,3.06,3.1,3.14,3.18]
[60,1.67,1.95,2.1,2.21,2.2799999999999998,2.35,2.39,2.44,2.48,2.39,2.64,2.78,2.87,2.94,3.08,3.04,3.06,3.12]
[120,1.86,1.93,2.08,2.1800000000000002,2.2599999999999998,2.3199999999999998,2.37,2.41,2.4500000000000002,2.36,2.6,2.73,2.82,2.9,2.94,2.9,3.03,3.06]
[10000,1.64,1.92,2.06,2.16,2.23,2.29,2.34,2.33,2.42,2.33,2.56,2.68,2.77,2.34,2.9,2.93,2.97,3]
["Df"]

{"sheet":"Table_Steel","index":22,"n_rows":39,"n_cols":10,"rows_kept":39,"cut":false,"hidden":true,"merged":[]}
["Look Up Tables"]
[]
[]
["Critical values for Steel's Rank sum test at 1% and 5% alpha level, with number of replicates (n) and number of groups (includes control)"]
["n\\k","alpha",3,4,5,6,7,8,9,10]
[4,0.05,11,10,10,10,10,"--","--","--"]
[5,0.05,18,17,17,16,16,16,16,15]
[6,0.05,27,26,25,25,24,24,24,23]
[7,0.05,37,36,35,35,34,34,33,33]
[8,0.05,49,48,47,46,46,45,45,44]
[9,0.05,63,62,61,60,59,59,58,58]
[10,0.05,79,77,76,75,74,74,73,72]
[11,0.05,97,95,93,92,91,90,90,89]
[12,0.05,116,114,112,111,110,109,108,108]
[13,0.05,138,135,133,132,130,129,129,128]
[14,0.05,161,158,155,154,153,152,151,150]
[15,0.05,186,182,180,178,177,176,175,174]
[16,0.05,213,209,206,204,203,201,200,199]
[17,0.05,241,237,234,232,231,229,228,227]
[18,0.05,272,267,264,262,260,259,257,256]
[19,0.05,304,299,296,294,292,290,288,287]
[20,0.05,339,333,330,327,325,323,322,320]
[4,0.01,"--","--","--","--","--","--","--","--"]
[5,0.01,15,"--","--","--","--","--","--","--"]
[6,0.01,23,22,21,21,"--","--","--","--"]
[7,0.01,32,31,30,30,29,29,29,29]
[8,0.01,43,42,41,40,40,40,39,39]
[9,0.01,56,55,54,53,52,52,51,51]
[10,0.01,71,69,68,67,66,66,65,65]
[11,0.01,87,85,84,83,82,81,81,80]
[12,0.01,105,103,102,100,99,99,98,98]
[13,0.01,125,123,121,120,119,118,117,117]
[14,0.01,147,144,142,141,140,139,138,137]
[15,0.01,170,167,165,164,162,161,160,160]
[16,0.01,196,192,190,188,187,186,185,184]
[17,0.01,223,219,217,215,213,212,211,210]
[18,0.01,252,248,245,243,241,240,239,238]
[19,0.01,282,278,275,273,272,270,268,267]
[20,0.01,315,310,307,305,303,301,300,299]

{"sheet":"Table_ShapiroCo","index":23,"n_rows":29,"n_cols":50,"rows_kept":29,"cut":false,"hidden":true,"merged":[[2,1,2,49]]}
["Table COEFFICIENTS FOR THE SHAPIRO-WILK'S TEST (Conover, 1980)"]
[]
[null,"Number of Observations"]
["i\\n",2,3,4,5,6,7,8,9,10,11,12,13,14,15,16,17,18,19,20,21,22,23,24,25,26,27,28,29,30,31,32,33,34,35,36,37,38,39,40,41,42,43,44,45,46,47,48,49,50]
[1,0.70709999999999995,0.70709999999999995,0.68720000000000003,0.66459999999999997,0.6431,0.62329999999999997,0.60519999999999996,0.58879999999999999,0.57389999999999997,0.56010000000000004,0.54749999999999999,0.53590000000000004,0.52510000000000001,0.51500000000000001,0.50560000000000005,0.49680000000000002,0.48859999999999998,0.48080000000000001,0.47339999999999999,0.46429999999999999,0.45900000000000002,0.45419999999999999,0.44929999999999998,0.44500000000000001,0.44069999999999998,0.43659999999999999,0.43280000000000002,0.42909999999999998,0.4254,0.42199999999999999,0.41880000000000001,0.41560000000000002,0.41270000000000001,0.40960000000000002,0.40679999999999999,0.40400000000000003,0.40150000000000002,0.39889999999999998,0.39639999999999997,0.39400000000000002,0.39169999999999999,0.38940000000000002,0.38719999999999999,0.38500000000000001,0.38300000000000001,0.38080000000000003,0.37890000000000001,0.377,0.37509999999999999]
[2,"-",0,0.16669999999999999,0.24129999999999999,0.28060000000000002,0.30309999999999998,0.31640000000000001,0.32440000000000002,0.3291,0.33150000000000002,0.33250000000000002,0.33250000000000002,0.33179999999999998,0.3306,0.32090000000000002,0.32729999999999998,0.32529999999999998,0.32319999999999999,0.3211,0.31850000000000001,0.31559999999999999,0.31259999999999999,0.30980000000000002,0.30690000000000001,0.30430000000000001,0.30180000000000001,0.29920000000000002,0.29680000000000001,0.2944,0.29210000000000003,0.2898,0.28760000000000002,0.28539999999999999,0.28339999999999999,0.28129999999999999,0.27939999999999998,0.27739999999999998,0.27550000000000002,0.2737,0.27189999999999998,0.27010000000000001,0.26840000000000003,0.26669999999999999,0.2651,0.26350000000000001,0.26200000000000001,0.26040000000000002,0.25890000000000002,0.25740000000000002]
[3,"-","-","-",0,8.7499999999999994E-2,0.1401,0.17430000000000001,0.1976,0.21410000000000001,0.22600000000000001,0.23469999999999999,0.2412,0.246,0.2495,0.25209999999999999,0.254,0.25530000000000003,0.25609999999999999,0.25650000000000001,0.25779999999999997,0.2571,0.25629999999999997,0.25540000000000002,0.25430000000000003,0.25330000000000003,0.25219999999999998,0.251,0.24990000000000001,0.2487,0.2475,0.2462,0.24510000000000001,0.24390000000000001,0.2427,0.24149999999999999,0.24030000000000001,0.23910000000000001,0.23799999999999999,0.23680000000000001,0.23569999999999999,0.23449999999999999,0.2334,0.23230000000000001,0.23130000000000001,0.23019999999999999,0.2291,0.2281,0.2271,0.22600000000000001]
[4,"-","-","-","-","-",0,5.6099999999999997E-2,9.4700000000000006E-2,0.12239999999999999,0.1429,0.15859999999999999,0.17069999999999999,0.1802,0.18779999999999999,0.19389999999999999,0.1988,0.20269999999999999,0.2059,0.20849999999999999,0.21190000000000001,0.21310000000000001,0.21390000000000001,0.2145,0.21479999999999999,0.21510000000000001,0.2152,0.21510000000000001,0.215,0.21479999999999999,0.2145,0.21410000000000001,0.2137,0.2132,0.2127,0.21210000000000001,0.21160000000000001,0.21099999999999999,0.2104,0.20979999999999999,0.20910000000000001,0.20849999999999999,0.20780000000000001,0.2072,0.20649999999999999,0.20580000000000001,0.20519999999999999,0.20449999999999999,0.20380000000000001,0.20319999999999999]
[5,"-","-","-","-","-","-","-",0,3.9899999999999998E-2,6.9500000000000006E-2,9.2200000000000004E-2,0.1099,0.124,0.1353,0.1447,0.15240000000000001,0.15870000000000001,0.1641,0.1686,0.1736,0.1764,0.1787,0.1807,0.1822,0.18360000000000001,0.18479999999999999,0.1857,0.18640000000000001,0.187,0.18740000000000001,0.18779999999999999,0.188,0.18820000000000001,0.1883,0.1883,0.1883,0.18809999999999999,0.188,0.18779999999999999,0.18759999999999999,0.18740000000000001,0.18709999999999999,0.18679999999999999,0.1865,0.1862,0.18590000000000001,0.1855,0.18509999999999999,0.1847]
[6,null,null,null,null,null,null,null,null,null,0,3.0300000000000001E-2,5.3900000000000003E-2,7.2700000000000001E-2,8.7999999999999995E-2,0.10050000000000001,0.1109,0.1197,0.12709999999999999,0.13339999999999999,0.1399,0.14430000000000001,0.14799999999999999,0.1512,0.15390000000000001,0.15629999999999999,0.15840000000000001,0.16009999999999999,0.16159999999999999,0.16300000000000001,0.1641,0.1651,0.16600000000000001,0.16669999999999999,0.1673,0.1678,0.1663,0.1686,0.16889999999999999,0.1691,0.16930000000000001,0.1694,0.16950000000000001,0.16950000000000001,0.16950000000000001,0.16950000000000001,0.16950000000000001,0.16930000000000001,0.16919999999999999,0.1691]
[7,null,null,null,null,null,null,null,null,null,"-","-",0,2.4E-2,4.3299999999999998E-2,5.9299999999999999E-2,7.2499999999999995E-2,8.3699999999999997E-2,9.3200000000000005E-2,0.1013,0.10920000000000001,0.115,0.1201,0.1245,0.1283,0.13159999999999999,0.1346,0.13719999999999999,0.13950000000000001,0.14149999999999999,0.14330000000000001,0.1449,0.14630000000000001,0.14749999999999999,0.1487,0.14960000000000001,0.15049999999999999,0.15129999999999999,0.152,0.15260000000000001,0.15310000000000001,0.1535,0.15390000000000001,0.1542,0.1545,0.15479999999999999,0.155,0.15509999999999999,0.15529999999999999,0.15540000000000001]
[8,null,null,null,null,null,null,null,null,null,"-","-","-","-",0,1.9599999999999999E-2,3.5900000000000001E-2,4.9599999999999998E-2,6.1199999999999997E-2,7.1099999999999997E-2,8.0399999999999999E-2,8.7800000000000003E-2,9.4100000000000003E-2,9.9699999999999997E-2,0.1046,0.1089,0.1128,0.1162,0.1192,0.12189999999999999,0.12429999999999999,0.1265,0.12839999999999999,0.13009999999999999,0.13170000000000001,0.1331,0.13439999999999999,0.1356,0.1366,0.1376,0.1384,0.13919999999999999,0.13980000000000001,0.14050000000000001,0.14099999999999999,0.14149999999999999,0.14199999999999999,0.14230000000000001,0.14269999999999999,0.14299999999999999]
[9,null,null,null,null,null,null,null,null,null,"-","-","-","-","-","-",0,1.6299999999999999E-2,3.0300000000000001E-2,4.2200000000000001E-2,5.2999999999999999E-2,6.1800000000000001E-2,6.9599999999999995E-2,7.6399999999999996E-2,9.2299999999999993E-2,8.7599999999999997E-2,9.2299999999999993E-2,9.6500000000000002E-2,0.1002,0.1036,0.1066,0.10929999999999999,0.1118,0.114,0.11600000000000001,0.1179,0.1196,0.1211,0.1225,0.1237,0.1249,0.12590000000000001,0.12690000000000001,91278,0.12859999999999999,0.1293,0.13,0.13059999999999999,0.13120000000000001,0.13170000000000001]
[10,null,null,null,null,null,null,null,null,null,"-","-","-","-","-","-","-","-",0,1.4E-2,2.63E-2,3.6799999999999999E-2,4.5900000000000003E-2,5.3900000000000003E-2,6.0999999999999999E-2,6.7199999999999996E-2,7.2800000000000004E-2,7.7799999999999994E-2,8.2199999999999995E-2,8.6199999999999999E-2,8.9899999999999994E-2,9.3100000000000002E-2,9.6100000000000005E-2,9.8799999999999999E-2,0.1013,0.1036,0.1056,0.1075,0.10920000000000001,0.1108,0.1123,0.11360000000000001,0.1149,0.11600000000000001,9.1170000000000009,0.11799999999999999,0.11890000000000001,0.1197,0.1205,0.1212]
[11,null,null,null,null,null,null,null,null,null,null,null,null,null,null,null,null,null,null,null,0,1.2200000000000001E-2,2.2800000000000001E-2,3.2099999999999997E-2,4.0300000000000002E-2,4.7600000000000003E-2,5.3999999999999999E-2,5.9799999999999999E-2,6.5000000000000002E-2,6.9699999999999998E-2,7.3899999999999993E-2,7.7700000000000005E-2,8.1199999999999994E-2,8.4400000000000003E-2,8.7300000000000003E-2,0.09,9.2399999999999996E-2,9.4700000000000006E-2,9.6699999999999994E-2,9.8599999999999993E-2,0.1004,0.10199999999999999,0.10349999999999999,0.10489999999999999,0.1062,0.10730000000000001,0.1085,0.1095,0.1105,0.1113]
[12,null,null,null,null,null,null,null,null,null,null,null,null,null,null,null,null,null,null,null,"-","-",0,1.0699999999999999E-2,0.02,2.8400000000000002E-2,3.5799999999999998E-2,4.24E-2,4.8300000000000003E-2,5.3699999999999998E-2,5.8500000000000003E-2,6.2899999999999998E-2,6.6900000000000001E-2,7.0599999999999996E-2,7.3899999999999993E-2,7.6999999999999999E-2,7.9799999999999996E-2,8.2400000000000001E-2,8.48E-2,8.6999999999999994E-2,8.9099999999999999E-2,9.0899999999999995E-2,9.2700000000000005E-2,9.4299999999999995E-2,9.5899999999999999E-2,9.7199999999999995E-2,9.8599999999999993E-2,9.98E-2,0.10100000000000001,0.10199999999999999]
[13,null,null,null,null,null,null,null,null,null,null,null,null,null,null,null,null,null,null,null,"-","-","-","-",0,9.4000000000000004E-3,1.78E-2,2.53E-2,3.2000000000000001E-2,3.8100000000000002E-2,4.3499999999999997E-2,4.8500000000000001E-2,5.2999999999999999E-2,5.7200000000000001E-2,6.0999999999999999E-2,6.4500000000000002E-2,6.7699999999999996E-2,7.0599999999999996E-2,7.3300000000000004E-2,7.5899999999999995E-2,7.8200000000000006E-2,8.0399999999999999E-2,8.2400000000000001E-2,8.4199999999999997E-2,8.5999999999999993E-2,8.7599999999999997E-2,8.9200000000000002E-2,9.06E-2,9.1899999999999996E-2,9.3200000000000005E-2]
[14,null,null,null,null,null,null,null,null,null,null,null,null,null,null,null,null,null,null,null,"-","-","-","-","-","-",0,8.3999999999999995E-3,1.5900000000000001E-2,2.2700000000000001E-2,2.8899999999999999E-2,3.44E-2,3.95E-2,4.41E-2,4.8399999999999999E-2,5.2299999999999999E-2,5.5899999999999998E-2,5.9200000000000003E-2,6.2199999999999998E-2,6.5100000000000005E-2,6.7699999999999996E-2,7.0099999999999996E-2,7.2400000000000006E-2,7.4499999999999997E-2,7.6499999999999999E-2,7.8299999999999995E-2,8.0100000000000005E-2,8.1699999999999995E-2,8.3199999999999996E-2,8.4599999999999995E-2]
[15,null,null,null,null,null,null,null,null,null,null,null,null,null,null,null,null,null,null,null,"-","-","-","-","-","-","-","-",0,7.6E-3,1.44E-2,2.06E-2,2.6200000000000001E-2,3.1399999999999997E-2,3.61E-2,4.0399999999999998E-2,4.4400000000000002E-2,4.8099999999999997E-2,5.1499999999999997E-2,5.4600000000000003E-2,5.7500000000000002E-2,6.0199999999999997E-2,6.2799999999999995E-2,6.5100000000000005E-2,6.7299999999999999E-2,6.9400000000000003E-2,7.1300000000000002E-2,7.3099999999999998E-2,7.4800000000000005E-2,7.6399999999999996E-2]
[16,null,null,null,null,null,null,null,null,null,null,null,null,null,null,null,null,null,null,null,null,null,null,null,null,null,null,null,null,null,0,6.7999999999999996E-3,1.3100000000000001E-2,1.8700000000000001E-2,2.3900000000000001E-2,2.87E-2,3.3099999999999997E-2,3.7199999999999997E-2,4.0899999999999999E-2,4.4400000000000002E-2,4.7600000000000003E-2,5.0599999999999999E-2,5.3400000000000003E-2,5.6000000000000001E-2,5.8400000000000001E-2,6.0699999999999997E-2,6.2799999999999995E-2,6.4799999999999996E-2,6.6699999999999995E-2,6.8500000000000005E-2]
[17,null,null,null,null,null,null,null,null,null,null,null,null,null,null,null,null,null,null,null,null,null,null,null,null,null,null,null,null,null,"-","-",0,6.1999999999999998E-3,1.1900000000000001E-2,1.72E-2,2.1999999999999999E-2,2.64E-2,3.0499999999999999E-2,3.4299999999999997E-2,3.7900000000000003E-2,4.1099999999999998E-2,4.4200000000000003E-2,4.7100000000000003E-2,4.9700000000000001E-2,5.2200000000000003E-2,5.4600000000000003E-2,5.6800000000000003E-2,5.8799999999999998E-2,6.08E-2]
[18,null,null,null,null,null,null,null,null,null,null,null,null,null,null,null,null,null,null,null,null,null,null,null,null,null,null,null,null,null,"-","-","-","-",0,5.7000000000000002E-3,1.0999999999999999E-2,1.5800000000000002E-2,2.0299999999999999E-2,2.4400000000000002E-2,2.8299999999999999E-2,3.1800000000000002E-2,3.5200000000000002E-2,3.8300000000000001E-2,4.1200000000000001E-2,4.3900000000000002E-2,4.65E-2,4.8899999999999999E-2,5.11E-2,5.3199999999999997E-2]
[19,null,null,null,null,null,null,null,null,null,null,null,null,null,null,null,null,null,null,null,null,null,null,null,null,null,null,null,null,null,"-","-","-","-","-","-",0,5.3E-3,1.01E-2,1.46E-2,1.8800000000000001E-2,2.2700000000000001E-2,2.63E-2,2.9600000000000001E-2,3.2800000000000003E-2,3.5700000000000003E-2,3.85E-2,4.1099999999999998E-2,4.36E-2,4.5900000000000003E-2]
[20,null,null,null,null,null,null,null,null,null,null,null,null,null,null,null,null,null,null,null,null,null,null,null,null,null,null,null,null,null,"-","-","-","-","-","-","-","-",0,4.8999999999999998E-3,9.4000000000000004E-3,1.3599999999999999E-2,1.7500000000000002E-2,2.1100000000000001E-2,2.4500000000000001E-2,2.7699999999999999E-2,3.0700000000000002E-2,3.3500000000000002E-2,3.61E-2,3.8600000000000002E-2]
[21,null,null,null,null,null,null,null,null,null,null,null,null,null,null,null,null,null,null,null,null,null,null,null,null,null,null,null,null,null,null,null,null,null,null,null,null,null,null,null,0,4.4999999999999997E-3,8.6999999999999994E-3,1.26E-2,1.6299999999999999E-2,1.9699999999999999E-2,2.29E-2,2.5899999999999999E-2,2.8799999999999999E-2,3.1399999999999997E-2]
[22,null,null,null,null,null,null,null,null,null,null,null,null,null,null,null,null,null,null,null,null,null,null,null,null,null,null,null,null,null,null,null,null,null,null,null,null,null,null,null,"-","-",0,4.1999999999999997E-3,8.0999999999999996E-3,1.18E-2,1.5299999999999999E-2,1.8499999999999999E-2,2.1499999999999998E-2,2.4400000000000002E-2]
[23,null,null,null,null,null,null,null,null,null,null,null,null,null,null,null,null,null,null,null,null,null,null,null,null,null,null,null,null,null,null,null,null,null,null,null,null,null,null,null,"-","-","-","-",0,3.8999999999999998E-3,7.6E-3,1.11E-2,1.43E-2,1.7399999999999999E-2]
[24,null,null,null,null,null,null,null,null,null,null,null,null,null,null,null,null,null,null,null,null,null,null,null,null,null,null,null,null,null,null,null,null,null,null,null,null,null,null,null,"-","-","-","-","-","-",0,3.7000000000000002E-3,7.1000000000000004E-3,1.04E-2]
[25,null,null,null,null,null,null,null,null,null,null,null,null,null,null,null,null,null,null,null,null,null,null,null,null,null,null,null,null,null,null,null,null,null,null,null,null,null,null,null,"-","-","-","-","-","-","-","-",0,3.5000000000000001E-3]

{"sheet":"Table_ShapiroQuant","index":24,"n_rows":51,"n_cols":10,"rows_kept":51,"cut":false,"hidden":true,"merged":[]}
["Table QUANTILES OF THE SHAPIRO-WILK'S TEST STATISTIC (Conover, 1980)"]
[]
["n",0.01,0.02,0.05,0.1,0.5,0.9,0.95,0.98,0.99]
[3,0.753,0.75600000000000001,0.76700000000000002,0.78900000000000003,0.95899999999999996,0.998,0.999,1,1]
[4,0.68700000000000006,0.70699999999999996,0.748,0.79200000000000004,0.93500000000000005,0.98699999999999999,0.99199999999999999,0.996,0.997]
[5,0.68600000000000005,0.71499999999999997,0.76200000000000001,0.80600000000000005,0.92700000000000005,0.97899999999999998,0.98599999999999999,0.99099999999999999,0.99299999999999999]
[6,0.71299999999999997,0.74299999999999999,0.78800000000000003,0.82599999999999996,0.92700000000000005,0.97399999999999998,0.98099999999999998,0.98599999999999999,0.98899999999999999]
[7,0.73,0.76,0.80300000000000005,0.83799999999999997,0.92800000000000005,0.97199999999999998,0.97899999999999998,0.98499999999999999,0.98799999999999999]
[8,0.749,0.77800000000000002,0.81799999999999995,0.85099999999999998,0.93200000000000005,0.97199999999999998,0.97799999999999998,0.98399999999999999,0.98699999999999999]
[9,0.76400000000000001,0.79100000000000004,0.82899999999999996,0.85899999999999999,0.93500000000000005,0.97199999999999998,0.97799999999999998,0.98399999999999999,0.98599999999999999]
[10,0.78100000000000003,0.80600000000000005,0.84199999999999997,0.86899999999999999,0.93799999999999994,0.97199999999999998,0.97799999999999998,0.98299999999999998,0.98599999999999999]
[11,0.79200000000000004,0.81699999999999995,0.85,0.876,0.94,0.97299999999999998,0.97899999999999998,0.98399999999999999,0.98599999999999999]
[12,0.80500000000000005,0.82799999999999996,0.85899999999999999,0.88300000000000001,0.94299999999999995,0.97299999999999998,0.97899999999999998,0.98399999999999999,0.98599999999999999]
[13,0.81399999999999995,0.83699999999999997,0.86599999999999999,0.88900000000000001,0.94499999999999995,0.97399999999999998,0.97899999999999998,0.98399999999999999,0.98599999999999999]
[14,0.82499999999999996,0.84599999999999997,0.874,0.89500000000000002,0.94699999999999995,0.97499999999999998,0.98,0.98399999999999999,0.98599999999999999]
[15,0.83499999999999996,0.85499999999999998,0.88100000000000001,0.90100000000000002,0.95,0.97499999999999998,0.98,0.98399999999999999,0.98699999999999999]
[16,0.84399999999999997,0.86299999999999999,0.88700000000000001,0.90600000000000003,0.95199999999999996,0.97599999999999998,0.98099999999999998,0.98499999999999999,0.98699999999999999]
[17,0.85099999999999998,0.86899999999999999,0.89200000000000002,0.91,0.95399999999999996,0.97699999999999998,0.98099999999999998,0.98499999999999999,0.98699999999999999]
[18,0.85799999999999998,0.874,0.89700000000000002,0.91400000000000003,0.95599999999999996,0.97799999999999998,0.98199999999999998,0.98599999999999999,0.98799999999999999]
[19,0.86299999999999999,0.879,0.90100000000000002,0.91700000000000004,0.95699999999999996,0.97799999999999998,0.98199999999999998,0.98599999999999999,0.98799999999999999]
[20,0.86799999999999999,0.88400000000000001,0.90500000000000003,0.92,0.95899999999999996,0.97899999999999998,0.98299999999999998,0.98599999999999999,0.98799999999999999]
[21,0.873,0.88800000000000001,0.90800000000000003,0.92300000000000004,0.96,0.98,0.98299999999999998,0.98699999999999999,0.98899999999999999]
[22,0.878,0.89200000000000002,0.91100000000000003,0.92600000000000005,0.96099999999999997,0.98,0.98399999999999999,0.98699999999999999,0.98899999999999999]
[23,0.88100000000000001,0.89500000000000002,0.91400000000000003,0.92800000000000005,0.96199999999999997,0.98099999999999998,0.98399999999999999,0.98699999999999999,0.98899999999999999]
[24,0.88400000000000001,0.89800000000000002,0.91600000000000004,0.93,0.96299999999999997,0.98099999999999998,0.98399999999999999,0.98699999999999999,0.98899999999999999]
[25,0.88800000000000001,0.90100000000000002,0.91800000000000004,0.93100000000000005,0.96399999999999997,0.98099999999999998,0.98499999999999999,0.98799999999999999,0.98899999999999999]
[26,0.89100000000000001,0.90400000000000003,0.92,0.93300000000000005,0.96499999999999997,0.98199999999999998,0.98499999999999999,0.98799999999999999,0.98899999999999999]
[27,0.89400000000000002,0.90600000000000003,0.92300000000000004,0.93500000000000005,0.96499999999999997,0.98199999999999998,0.98499999999999999,0.98799999999999999,0.99]
[28,0.89600000000000002,0.90800000000000003,0.92400000000000004,0.93600000000000005,0.96599999999999997,0.98199999999999998,0.98499999999999999,0.98799999999999999,0.99]
[29,0.89800000000000002,0.91,0.92600000000000005,0.93700000000000006,0.96599999999999997,0.98199999999999998,0.98499999999999999,0.98799999999999999,0.99]
[30,0.9,0.91200000000000003,0.92700000000000005,0.93899999999999995,0.96699999999999997,0.98299999999999998,0.98499999999999999,0.98799999999999999,0.99]
[31,0.90200000000000002,0.91400000000000003,0.92900000000000005,0.94,0.96699999999999997,0.98299999999999998,0.98599999999999999,0.98799999999999999,0.99]
[32,0.90400000000000003,0.91500000000000004,0.93,0.94099999999999995,0.96799999999999997,0.98299999999999998,0.98599999999999999,0.98799999999999999,0.99]
[33,0.90600000000000003,0.91700000000000004,0.93100000000000005,0.94199999999999995,0.96799999999999997,0.98299999999999998,0.98599999999999999,0.98899999999999999,0.99]
[34,0.90800000000000003,0.91900000000000004,0.93300000000000005,0.94299999999999995,0.96899999999999997,0.98299999999999998,0.98599999999999999,0.98899999999999999,0.99]
[35,0.91,0.92,0.93400000000000005,0.94399999999999995,0.96899999999999997,0.98399999999999999,0.98599999999999999,0.98899999999999999,0.99]
[36,0.91200000000000003,0.92200000000000004,0.93500000000000005,0.94499999999999995,0.97,0.98399999999999999,0.98599999999999999,0.98899999999999999,0.99]
[37,0.91400000000000003,0.92400000000000004,0.93600000000000005,0.94599999999999995,0.97,0.98399999999999999,0.98699999999999999,0.98899999999999999,0.99]
[38,0.91600000000000004,0.92500000000000004,0.93799999999999994,0.94699999999999995,0.97099999999999997,0.98399999999999999,0.98699999999999999,0.98899999999999999,0.99]
[39,0.91700000000000004,0.92700000000000005,0.93899999999999995,0.94799999999999995,0.97099999999999997,0.98399999999999999,0.98699999999999999,0.98899999999999999,0.99099999999999999]
[40,0.91900000000000004,0.92800000000000005,0.94,0.94899999999999995,0.97199999999999998,0.98499999999999999,0.98699999999999999,0.98899999999999999,0.99099999999999999]
[41,0.92,0.92900000000000005,0.94099999999999995,0.95,0.97199999999999998,0.98499999999999999,0.98699999999999999,0.98899999999999999,0.99099999999999999]
[42,0.92200000000000004,0.93,0.94199999999999995,0.95099999999999996,0.97199999999999998,0.98499999999999999,0.98699999999999999,0.98899999999999999,0.99099999999999999]
[43,0.92300000000000004,0.93200000000000005,0.94299999999999995,0.95099999999999996,0.97299999999999998,0.98499999999999999,0.98699999999999999,0.99,0.99099999999999999]
[44,0.92400000000000004,0.93300000000000005,0.94399999999999995,0.95199999999999996,0.97299999999999998,0.98499999999999999,0.98699999999999999,0.99,0.99099999999999999]
[45,0.92600000000000005,0.93400000000000005,0.94499999999999995,0.95299999999999996,0.97299999999999998,0.98499999999999999,0.98799999999999999,0.99,0.99099999999999999]
[46,0.92700000000000005,0.93500000000000005,0.94499999999999995,0.95299999999999996,0.97399999999999998,0.98499999999999999,0.98799999999999999,0.99,0.99099999999999999]
[47,0.92800000000000005,0.93600000000000005,0.94599999999999995,0.95399999999999996,0.97399999999999998,0.98499999999999999,0.98799999999999999,0.99,0.99099999999999999]
[48,0.92900000000000005,0.93700000000000006,0.94699999999999995,0.95399999999999996,0.97399999999999998,0.98499999999999999,0.98799999999999999,0.99,0.99099999999999999]
[49,0.92900000000000005,0.93700000000000006,0.94699999999999995,0.95499999999999996,0.97399999999999998,0.98499999999999999,0.98799999999999999,0.99,0.99099999999999999]
[50,0.93,0.93799999999999994,0.94699999999999995,0.95499999999999996,0.97399999999999998,0.98499999999999999,0.98799999999999999,0.99,0.99099999999999999]

{"sheet":"Table_Wilcxon","index":25,"n_rows":85,"n_cols":16,"rows_kept":85,"cut":false,"hidden":true,"merged":[[3,2,3,9]]}
["TABLE CRITICAL VALUES FOR WILCOXON'S RANK SUM TEST WITH BONFERRONI'S ADJUSTMENT OF ERROR RATE FOR COMPARISON OF \"K\" TREATMENTS VERSUS A CONTROL FIVE PERCENT CRITICAL LEVEL (ONE-SIDED ALTERNATIVE: TREATMENT CONTROL)"]
[]
[]
["K","No. Replicates in Control","                                      No of Replicates Per Effluent Concentration",null,null,null,null,null,null,null,null,null,"uT =n1(n1 + n2 + 1)/2",null,null,"vart=n1*n2*(n1 + n2 + 1)/12"]
[null,null,3,4,5,6,7,8,9,10]
[2,3,6,10,16,23,30,39,49,59,null,null,{"$f":"3*(3+3+1)/2","v":10.5},null,null,{"$f":"(3*3*7/12)","v":5.25}]
[2,4,6,11,17,24,32,41,51,62]
[2,5,7,12,19,26,34,44,54,66]
[2,6,8,13,20,28,36,46,57,69]
[2,7,8,14,21,29,39,49,60,72]
[2,8,9,15,23,31,41,51,63,72]
[2,9,10,16,24,33,43,54,66,79]
[2,10,10,17,26,35,45,56,69,82]
[3,3,"--","--",15,22,29,38,47,58]
[3,4,"--",10,16,23,31,40,49,60]
[3,5,6,11,17,24,33,42,52,63]
[3,6,7,12,18,26,34,44,55,66]
[3,7,7,13,20,27,36,46,57,69]
[3,8,8,14,21,29,38,49,60,72]
[3,9,8,14,22,31,40,51,62,75]
[3,10,9,15,23,32,42,53,65,78]
[4,3,"--","--","--",21,29,37,46,57]
[4,4,"--",10,16,22,30,39,48,59]
[4,5,"--",11,17,24,32,41,51,62]
[4,6,6,11,18,25,33,43,53,65]
[4,7,7,12,19,26,35,45,56,68]
[4,8,7,13,20,28,37,47,58,70]
[4,9,7,13,21,29,39,49,61,73]
[4,10,8,14,22,31,41,51,63,76]
[5,3,"--","--","--",21,28,37,46,56]
[5,4,"--","--",15,22,30,38,48,59]
[5,5,"--",10,16,23,31,40,50,61]
[5,6,6,11,17,24,33,42,52,64]
[5,7,6,12,18,26,34,44,55,67]
[5,8,7,12,19,27,36,46,57,69]
[5,9,7,13,20,28,38,48,60,72]
[5,10,7,14,21,30,40,50,62,75]
[6,3,"--","--","--","--",28,36,46,56]
[6,4,"--","--",15,22,29,38,48,58]
[6,5,"--",10,16,23,31,40,50,61]
[6,6,"--",11,17,24,32,42,52,63]
[6,7,6,11,18,25,34,43,54,66]
[6,8,6,12,19,27,35,45,56,68]
[6,9,7,13,20,28,37,47,59,71]
[6,10,7,13,21,29,39,49,61,74]
[7,3,"--","--","--","--",28,36,45,56]
[7,4,"--","--",15,21,29,38,47,58]
[7,5,"--",10,16,22,30,39,49,60]
[7,6,"--",11,16,24,32,41,51,63]
[7,7,6,11,17,25,33,43,54,65]
[7,8,6,12,18,26,35,45,56,68]
[7,9,6,12,19,27,37,47,58,70]
[7,10,7,13,20,29,38,49,60,73]
[8,3,"--","--","--","--","--",36,45,56]
[8,4,"--","--","--",21,29,37,47,58]
[8,5,"--","--",15,22,30,39,49,60]
[8,6,"--",10,16,23,32,41,51,62]
[8,7,"--",11,17,25,33,43,53,65]
[8,8,6,11,18,26,35,44,55,67]
[8,9,6,12,19,27,36,46,58,70]
[8,10,7,13,20,28,38,48,60,72]
[9,3,"--","--","--","--","--",36,45,55]
[9,4,"--","--","--",21,29,37,47,57]
[9,5,"--","--",15,22,30,39,49,59]
[9,6,"--",10,16,23,31,40,51,62]
[9,7,"--",11,17,24,33,42,53,64]
[9,8,6,11,18,25,34,44,55,67]
[9,9,6,12,19,27,36,46,57,69]
[9,10,6,12,19,28,37,48,59,72]
[10,3,"--","--","--","--","--","--",45,55]
[10,4,"--","--","--",21,28,37,46,57]
[10,5,"--","--",15,22,30,39,48,59]
[10,6,"--",10,16,23,31,40,50,62]
[10,7,"--",10,17,24,33,42,52,64]
[10,8,"--",11,18,25,34,44,55,66]
[10,9,6,11,18,26,35,46,57,69]
[10,10,6,12,19,28,37,47,59,71]
[11,3,"--","--","--","--","--","--",45,55]
[11,4,"--","--","--",21,28,37,46,57]
[11,5,"--","--",15,22,29,38,48,59]
[11,6,"--",10,16,23,31,40,50,61]
[11,7,"--",10,16,24,32,42,52,64]
[11,8,"--",11,17,25,34,43,54,66]
[11,9,6,11,18,26,35,45,56,68]
[11,10,6,12,19,27,37,47,58,71]

{"sheet":"OutputReport1","index":26,"n_rows":93,"n_cols":12,"rows_kept":93,"cut":false,"hidden":true,"merged":[[47,1,47,7],[6,11,14,16],[6,0,7,0],[60,0,61,8],[52,4,52,5],[92,0,100,8],[90,0,91,0],[6,1,6,8],[32,0,32,2],[33,1,34,2],[36,1,37,2],[39,1,40,2],[33,0,36,0],[38,0,40,0],[49,1,49,7],[50,1,50,7],[44,0,45,0],[44,4,45,4],[42,0,42,7]]}
["Facility",{"$f":"IF(ISTEXT(Start!B1), Start!B1,\"\")","v":""},null,null,"Analyst",{"$f":"IF(ISTEXT(Start!B2), Start!B2,\"\")","v":""}]
["Test ID",{"$f":"IF(ISTEXT(Start!B3), Start!B3,\"\")","v":""},null,null,"Species",{"$f":"IF(ISTEXT(Start!B6), Start!B6,\"\")","v":""}]
["Date",{"$f":"IF(ISBLANK(Start!B4), \"\",Start!B4)","v":""},null,null,"Test Type",{"$f":"IF(ISTEXT(Start!B7), Start!B7,\"\")","v":""}]
["Lab ID",{"$f":"IF(ISBLANK(Start!B5), \"\",Start!B5)","v":""},null,null,"IWC Conc.",{"$f":"IF(ISNUMBER(Start!B16), Start!B16,\"\")","v":""}]
[]
["Input"]
["Replicate","Concentrations",null,null,null,null,null,null,null,null,null,"Note: This Output Report is a summary of the data entered, statistical methods selected, and the calculated endpoints of those statistical methods.  USEPA is providing this tab for ease of printing and inclusion in summary reports.  Please use the print button above or the print button within Excel to print this summary."]
[null,{"$f":"IF(ISBLANK(Input1!C20), \"\", Input1!C20)","v":""},{"$f":"IF(ISBLANK(Input1!D20), \"\", Input1!D20)","v":""},{"$f":"IF(ISBLANK(Input1!E20), \"\", Input1!E20)","v":""},{"$f":"IF(ISBLANK(Input1!F20), \"\", Input1!F20)","v":""},{"$f":"IF(ISBLANK(Input1!G20), \"\", Input1!G20)","v":""},{"$f":"IF(ISBLANK(Input1!H20), \"\", Input1!H20)","v":""},{"$f":"IF(ISBLANK(Input1!I20), \"\", Input1!I20)","v":""},{"$f":"IF(ISBLANK(Input1!J20), \"\", Input1!J20)","v":""}]
[{"$f":"IF(ISNUMBER(B9),\"1\",\"\")","v":""},{"$f":"IF(ISBLANK(Input1!C21), \"\", Input1!C21)","v":""},{"$f":"IF(ISBLANK(Input1!D21), \"\", Input1!D21)","v":""},{"$f":"IF(ISBLANK(Input1!E21), \"\", Input1!E21)","v":""},{"$f":"IF(ISBLANK(Input1!F21), \"\", Input1!F21)","v":""},{"$f":"IF(ISBLANK(Input1!G21), \"\", Input1!G21)","v":""},{"$f":"IF(ISBLANK(Input1!H21), \"\", Input1!H21)","v":""},{"$f":"IF(ISBLANK(Input1!I21), \"\", Input1!I21)","v":""},{"$f":"IF(ISBLANK(Input1!J21), \"\", Input1!J21)","v":""}]
[{"$f":"IF(ISNUMBER(B10),\"2\",\"\")","v":""},{"$f":"IF(ISBLANK(Input1!C22), \"\", Input1!C22)","v":""},{"$f":"IF(ISBLANK(Input1!D22), \"\", Input1!D22)","v":""},{"$f":"IF(ISBLANK(Input1!E22), \"\", Input1!E22)","v":""},{"$f":"IF(ISBLANK(Input1!F22), \"\", Input1!F22)","v":""},{"$f":"IF(ISBLANK(Input1!G22), \"\", Input1!G22)","v":""},{"$f":"IF(ISBLANK(Input1!H22), \"\", Input1!H22)","v":""},{"$f":"IF(ISBLANK(Input1!I22), \"\", Input1!I22)","v":""},{"$f":"IF(ISBLANK(Input1!J22), \"\", Input1!J22)","v":""}]
[{"$f":"IF(ISNUMBER(B11),\"3\",\"\")","v":""},{"$f":"IF(ISBLANK(Input1!C23), \"\", Input1!C23)","v":""},{"$f":"IF(ISBLANK(Input1!D23), \"\", Input1!D23)","v":""},{"$f":"IF(ISBLANK(Input1!E23), \"\", Input1!E23)","v":""},{"$f":"IF(ISBLANK(Input1!F23), \"\", Input1!F23)","v":""},{"$f":"IF(ISBLANK(Input1!G23), \"\", Input1!G23)","v":""},{"$f":"IF(ISBLANK(Input1!H23), \"\", Input1!H23)","v":""},{"$f":"IF(ISBLANK(Input1!I23), \"\", Input1!I23)","v":""},{"$f":"IF(ISBLANK(Input1!J23), \"\", Input1!J23)","v":""}]
[{"$f":"IF(ISNUMBER(B12),\"4\",\"\")","v":""},{"$f":"IF(ISBLANK(Input1!C24), \"\", Input1!C24)","v":""},{"$f":"IF(ISBLANK(Input1!D24), \"\", Input1!D24)","v":""},{"$f":"IF(ISBLANK(Input1!E24), \"\", Input1!E24)","v":""},{"$f":"IF(ISBLANK(Input1!F24), \"\", Input1!F24)","v":""},{"$f":"IF(ISBLANK(Input1!G24), \"\", Input1!G24)","v":""},{"$f":"IF(ISBLANK(Input1!H24), \"\", Input1!H24)","v":""},{"$f":"IF(ISBLANK(Input1!I24), \"\", Input1!I24)","v":""},{"$f":"IF(ISBLANK(Input1!J24), \"\", Input1!J24)","v":""}]
[{"$f":"IF(ISNUMBER(B13),\"5\",\"\")","v":""},{"$f":"IF(ISBLANK(Input1!C25), \"\", Input1!C25)","v":""},{"$f":"IF(ISBLANK(Input1!D25), \"\", Input1!D25)","v":""},{"$f":"IF(ISBLANK(Input1!E25), \"\", Input1!E25)","v":""},{"$f":"IF(ISBLANK(Input1!F25), \"\", Input1!F25)","v":""},{"$f":"IF(ISBLANK(Input1!G25), \"\", Input1!G25)","v":""},{"$f":"IF(ISBLANK(Input1!H25), \"\", Input1!H25)","v":""},{"$f":"IF(ISBLANK(Input1!I25), \"\", Input1!I25)","v":""},{"$f":"IF(ISBLANK(Input1!J25), \"\", Input1!J25)","v":""}]
[{"$f":"IF(ISNUMBER(B14),\"6\",\"\")","v":""},{"$f":"IF(ISBLANK(Input1!C26), \"\", Input1!C26)","v":""},{"$f":"IF(ISBLANK(Input1!D26), \"\", Input1!D26)","v":""},{"$f":"IF(ISBLANK(Input1!E26), \"\", Input1!E26)","v":""},{"$f":"IF(ISBLANK(Input1!F26), \"\", Input1!F26)","v":""},{"$f":"IF(ISBLANK(Input1!G26), \"\", Input1!G26)","v":""},{"$f":"IF(ISBLANK(Input1!H26), \"\", Input1!H26)","v":""},{"$f":"IF(ISBLANK(Input1!I26), \"\", Input1!I26)","v":""},{"$f":"IF(ISBLANK(Input1!J26), \"\", Input1!J26)","v":""}]
[{"$f":"IF(ISNUMBER(B15),\"7\",\"\")","v":""},{"$f":"IF(ISBLANK(Input1!C27), \"\", Input1!C27)","v":""},{"$f":"IF(ISBLANK(Input1!D27), \"\", Input1!D27)","v":""},{"$f":"IF(ISBLANK(Input1!E27), \"\", Input1!E27)","v":""},{"$f":"IF(ISBLANK(Input1!F27), \"\", Input1!F27)","v":""},{"$f":"IF(ISBLANK(Input1!G27), \"\", Input1!G27)","v":""},{"$f":"IF(ISBLANK(Input1!H27), \"\", Input1!H27)","v":""},{"$f":"IF(ISBLANK(Input1!I27), \"\", Input1!I27)","v":""},{"$f":"IF(ISBLANK(Input1!J27), \"\", Input1!J27)","v":""}]
[{"$f":"IF(ISNUMBER(B16),\"8\",\"\")","v":""},{"$f":"IF(ISBLANK(Input1!C28), \"\", Input1!C28)","v":""},{"$f":"IF(ISBLANK(Input1!D28), \"\", Input1!D28)","v":""},{"$f":"IF(ISBLANK(Input1!E28), \"\", Input1!E28)","v":""},{"$f":"IF(ISBLANK(Input1!F28), \"\", Input1!F28)","v":""},{"$f":"IF(ISBLANK(Input1!G28), \"\", Input1!G28)","v":""},{"$f":"IF(ISBLANK(Input1!H28), \"\", Input1!H28)","v":""},{"$f":"IF(ISBLANK(Input1!I28), \"\", Input1!I28)","v":""},{"$f":"IF(ISBLANK(Input1!J28), \"\", Input1!J28)","v":""}]
[{"$f":"IF(ISNUMBER(B17),\"9\",\"\")","v":""},{"$f":"IF(ISBLANK(Input1!C29), \"\", Input1!C29)","v":""},{"$f":"IF(ISBLANK(Input1!D29), \"\", Input1!D29)","v":""},{"$f":"IF(ISBLANK(Input1!E29), \"\", Input1!E29)","v":""},{"$f":"IF(ISBLANK(Input1!F29), \"\", Input1!F29)","v":""},{"$f":"IF(ISBLANK(Input1!G29), \"\", Input1!G29)","v":""},{"$f":"IF(ISBLANK(Input1!H29), \"\", Input1!H29)","v":""},{"$f":"IF(ISBLANK(Input1!I29), \"\", Input1!I29)","v":""},{"$f":"IF(ISBLANK(Input1!J29), \"\", Input1!J29)","v":""}]
[{"$f":"IF(ISNUMBER(B18),\"10\",\"\")","v":""},{"$f":"IF(ISBLANK(Input1!C30), \"\", Input1!C30)","v":""},{"$f":"IF(ISBLANK(Input1!D30), \"\", Input1!D30)","v":""},{"$f":"IF(ISBLANK(Input1!E30), \"\", Input1!E30)","v":""},{"$f":"IF(ISBLANK(Input1!F30), \"\", Input1!F30)","v":""},{"$f":"IF(ISBLANK(Input1!G30), \"\", Input1!G30)","v":""},{"$f":"IF(ISBLANK(Input1!H30), \"\", Input1!H30)","v":""},{"$f":"IF(ISBLANK(Input1!I30), \"\", Input1!I30)","v":""},{"$f":"IF(ISBLANK(Input1!J30), \"\", Input1!J30)","v":""}]
[{"$f":"IF(ISNUMBER(B19),\"11\",\"\")","v":""},{"$f":"IF(ISBLANK(Input1!C31), \"\", Input1!C31)","v":""},{"$f":"IF(ISBLANK(Input1!D31), \"\", Input1!D31)","v":""},{"$f":"IF(ISBLANK(Input1!E31), \"\", Input1!E31)","v":""},{"$f":"IF(ISBLANK(Input1!F31), \"\", Input1!F31)","v":""},{"$f":"IF(ISBLANK(Input1!G31), \"\", Input1!G31)","v":""},{"$f":"IF(ISBLANK(Input1!H31), \"\", Input1!H31)","v":""},{"$f":"IF(ISBLANK(Input1!I31), \"\", Input1!I31)","v":""},{"$f":"IF(ISBLANK(Input1!J31), \"\", Input1!J31)","v":""}]
[{"$f":"IF(ISNUMBER(B20),\"12\",\"\")","v":""},{"$f":"IF(ISBLANK(Input1!C32), \"\", Input1!C32)","v":""},{"$f":"IF(ISBLANK(Input1!D32), \"\", Input1!D32)","v":""},{"$f":"IF(ISBLANK(Input1!E32), \"\", Input1!E32)","v":""},{"$f":"IF(ISBLANK(Input1!F32), \"\", Input1!F32)","v":""},{"$f":"IF(ISBLANK(Input1!G32), \"\", Input1!G32)","v":""},{"$f":"IF(ISBLANK(Input1!H32), \"\", Input1!H32)","v":""},{"$f":"IF(ISBLANK(Input1!I32), \"\", Input1!I32)","v":""},{"$f":"IF(ISBLANK(Input1!J32), \"\", Input1!J32)","v":""}]
[{"$f":"IF(ISNUMBER(B21),\"13\",\"\")","v":""},{"$f":"IF(ISBLANK(Input1!C33), \"\", Input1!C33)","v":""},{"$f":"IF(ISBLANK(Input1!D33), \"\", Input1!D33)","v":""},{"$f":"IF(ISBLANK(Input1!E33), \"\", Input1!E33)","v":""},{"$f":"IF(ISBLANK(Input1!F33), \"\", Input1!F33)","v":""},{"$f":"IF(ISBLANK(Input1!G33), \"\", Input1!G33)","v":""},{"$f":"IF(ISBLANK(Input1!H33), \"\", Input1!H33)","v":""},{"$f":"IF(ISBLANK(Input1!I33), \"\", Input1!I33)","v":""},{"$f":"IF(ISBLANK(Input1!J33), \"\", Input1!J33)","v":""}]
[{"$f":"IF(ISNUMBER(B22),\"14\",\"\")","v":""},{"$f":"IF(ISBLANK(Input1!C34), \"\", Input1!C34)","v":""},{"$f":"IF(ISBLANK(Input1!D34), \"\", Input1!D34)","v":""},{"$f":"IF(ISBLANK(Input1!E34), \"\", Input1!E34)","v":""},{"$f":"IF(ISBLANK(Input1!F34), \"\", Input1!F34)","v":""},{"$f":"IF(ISBLANK(Input1!G34), \"\", Input1!G34)","v":""},{"$f":"IF(ISBLANK(Input1!H34), \"\", Input1!H34)","v":""},{"$f":"IF(ISBLANK(Input1!I34), \"\", Input1!I34)","v":""},{"$f":"IF(ISBLANK(Input1!J34), \"\", Input1!J34)","v":""}]
[{"$f":"IF(ISNUMBER(B23),\"15\",\"\")","v":""},{"$f":"IF(ISBLANK(Input1!C35), \"\", Input1!C35)","v":""},{"$f":"IF(ISBLANK(Input1!D35), \"\", Input1!D35)","v":""},{"$f":"IF(ISBLANK(Input1!E35), \"\", Input1!E35)","v":""},{"$f":"IF(ISBLANK(Input1!F35), \"\", Input1!F35)","v":""},{"$f":"IF(ISBLANK(Input1!G35), \"\", Input1!G35)","v":""},{"$f":"IF(ISBLANK(Input1!H35), \"\", Input1!H35)","v":""},{"$f":"IF(ISBLANK(Input1!I35), \"\", Input1!I35)","v":""},{"$f":"IF(ISBLANK(Input1!J35), \"\", Input1!J35)","v":""}]
[{"$f":"IF(ISNUMBER(B24),\"16\",\"\")","v":""},{"$f":"IF(ISBLANK(Input1!C36), \"\", Input1!C36)","v":""},{"$f":"IF(ISBLANK(Input1!D36), \"\", Input1!D36)","v":""},{"$f":"IF(ISBLANK(Input1!E36), \"\", Input1!E36)","v":""},{"$f":"IF(ISBLANK(Input1!F36), \"\", Input1!F36)","v":""},{"$f":"IF(ISBLANK(Input1!G36), \"\", Input1!G36)","v":""},{"$f":"IF(ISBLANK(Input1!H36), \"\", Input1!H36)","v":""},{"$f":"IF(ISBLANK(Input1!I36), \"\", Input1!I36)","v":""},{"$f":"IF(ISBLANK(Input1!J36), \"\", Input1!J36)","v":""}]
[{"$f":"IF(ISNUMBER(B25),\"17\",\"\")","v":""},{"$f":"IF(ISBLANK(Input1!C37), \"\", Input1!C37)","v":""},{"$f":"IF(ISBLANK(Input1!D37), \"\", Input1!D37)","v":""},{"$f":"IF(ISBLANK(Input1!E37), \"\", Input1!E37)","v":""},{"$f":"IF(ISBLANK(Input1!F37), \"\", Input1!F37)","v":""},{"$f":"IF(ISBLANK(Input1!G37), \"\", Input1!G37)","v":""},{"$f":"IF(ISBLANK(Input1!H37), \"\", Input1!H37)","v":""},{"$f":"IF(ISBLANK(Input1!I37), \"\", Input1!I37)","v":""},{"$f":"IF(ISBLANK(Input1!J37), \"\", Input1!J37)","v":""}]
[{"$f":"IF(ISNUMBER(B26),\"18\",\"\")","v":""},{"$f":"IF(ISBLANK(Input1!C38), \"\", Input1!C38)","v":""},{"$f":"IF(ISBLANK(Input1!D38), \"\", Input1!D38)","v":""},{"$f":"IF(ISBLANK(Input1!E38), \"\", Input1!E38)","v":""},{"$f":"IF(ISBLANK(Input1!F38), \"\", Input1!F38)","v":""},{"$f":"IF(ISBLANK(Input1!G38), \"\", Input1!G38)","v":""},{"$f":"IF(ISBLANK(Input1!H38), \"\", Input1!H38)","v":""},{"$f":"IF(ISBLANK(Input1!I38), \"\", Input1!I38)","v":""},{"$f":"IF(ISBLANK(Input1!J38), \"\", Input1!J38)","v":""}]
[{"$f":"IF(ISNUMBER(B27),\"19\",\"\")","v":""},{"$f":"IF(ISBLANK(Input1!C39), \"\", Input1!C39)","v":""},{"$f":"IF(ISBLANK(Input1!D39), \"\", Input1!D39)","v":""},{"$f":"IF(ISBLANK(Input1!E39), \"\", Input1!E39)","v":""},{"$f":"IF(ISBLANK(Input1!F39), \"\", Input1!F39)","v":""},{"$f":"IF(ISBLANK(Input1!G39), \"\", Input1!G39)","v":""},{"$f":"IF(ISBLANK(Input1!H39), \"\", Input1!H39)","v":""},{"$f":"IF(ISBLANK(Input1!I39), \"\", Input1!I39)","v":""},{"$f":"IF(ISBLANK(Input1!J39), \"\", Input1!J39)","v":""}]
[{"$f":"IF(ISNUMBER(B28),\"20\",\"\")","v":""},{"$f":"IF(ISBLANK(Input1!C40), \"\", Input1!C40)","v":""},{"$f":"IF(ISBLANK(Input1!D40), \"\", Input1!D40)","v":""},{"$f":"IF(ISBLANK(Input1!E40), \"\", Input1!E40)","v":""},{"$f":"IF(ISBLANK(Input1!F40), \"\", Input1!F40)","v":""},{"$f":"IF(ISBLANK(Input1!G40), \"\", Input1!G40)","v":""},{"$f":"IF(ISBLANK(Input1!H40), \"\", Input1!H40)","v":""},{"$f":"IF(ISBLANK(Input1!I40), \"\", Input1!I40)","v":""},{"$f":"IF(ISBLANK(Input1!J40), \"\", Input1!J40)","v":""}]
["Mean",{"$f":"IF(ISNUMBER(B8),AVERAGE(B9:B28),\"\")","v":""},"","","","","",{"$f":"IF(ISNUMBER(H8),AVERAGE(H9:H28),\"\")","v":""},""]
["Stdev",{"$f":"IF(ISNUMBER(B8),STDEV(B9:B28),\"\")","v":""},"","","","","",{"$f":"IF(ISNUMBER(H8),STDEV(H9:H28),\"\")","v":""},""]
[]
["Output"]
[{"$f":"Output!A12","v":"Statistical Data"},null,null,{"$f":"Output!B12","v":"Conc."},{"$f":"Output!C12","v":"Mean (Transformed)"},{"$f":"Output!D12","v":"Mean"},{"$f":"Output!E12","v":"Stdev"},{"$f":"Output!F12","v":"CV"},{"$f":"Output!G12","v":0}]
[{"$f":"Output!A13","v":"Data have not been transformed for endpoint calculations."},{"$f":"Output!A17","v":"Normal distribution not tested."},null,{"$f":"Output!B13","v":""},{"$f":"Output!C13","v":"NA"},{"$f":"Output!D13","v":""},{"$f":"Output!E13","v":""},{"$f":"Output!F13","v":""}]
[null,null,null,{"$f":"Output!B14","v":""},{"$f":"Output!C14","v":"NA"},{"$f":"Output!D14","v":""},{"$f":"Output!E14","v":""},{"$f":"Output!F14","v":""},{"$f":"Output!G14","v":"no result"}]
[null,null,null,{"$f":"Output!B15","v":""},{"$f":"Output!C15","v":"NA"},{"$f":"Output!D15","v":""},{"$f":"Output!E15","v":""},{"$f":"Output!F15","v":""},{"$f":"Output!G15","v":"no result"}]
[null,{"$f":"Output!A19","v":"Variance not tested."},null,{"$f":"Output!B16","v":""},{"$f":"Output!C16","v":"NA"},{"$f":"Output!D16","v":""},{"$f":"Output!E16","v":""},{"$f":"Output!F16","v":""},{"$f":"Output!G16","v":"no result"}]
[null,null,null,{"$f":"Output!B17","v":""},{"$f":"Output!C17","v":"NA"},{"$f":"Output!D17","v":""},{"$f":"Output!E17","v":""},{"$f":"Output!F17","v":""},{"$f":"Output!G17","v":"no result"}]
[{"$f":"IF(Output_Intermed!AE15=\"Y\",\"Smoothed data were used in statistical tests.\",\"Unsmoothed data were used in statistical tests.\")","v":{"$error":"#N/A"}},null,null,{"$f":"Output!B18","v":""},{"$f":"Output!C18","v":"NA"},{"$f":"Output!D18","v":""},{"$f":"Output!E18","v":""},{"$f":"Output!F18","v":""},{"$f":"Output!G18","v":"no result"}]
[null,{"$f":"Output!A21","v":"Data have an equal number of replicates."},null,{"$f":"Output!B19","v":""},{"$f":"Output!C19","v":"NA"},{"$f":"Output!D19","v":""},{"$f":"Output!E19","v":""},{"$f":"Output!F19","v":""},{"$f":"Output!G19","v":"no result"}]
[null,null,null,{"$f":"Output!B20","v":""},{"$f":"Output!C20","v":""},{"$f":"Output!D20","v":""},{"$f":"Output!E20","v":""},{"$f":"Output!F20","v":""},{"$f":"Output!G20","v":"no result"}]
[]
["Test Acceptability Criteria"]
[null,"Criterion","Test Value","Pass/Fail",null,"Criterion","Test Value","Pass/Fail"]
["Control mean response",{"$f":"Output!D25","v":"NA"},{"$f":"Output!E25","v":"NA"},{"$f":"Output!F25","v":"NA"},"PMSD",{"$f":"Output!D28","v":"NA"},{"$f":"Output!E28","v":"NA"},{"$f":"Output!F28","v":"NA"}]
[null,{"$f":"Output!D26","v":"NA"},{"$f":"Output!E26","v":"NA"},{"$f":"Output!F26","v":"NA"},null,{"$f":"Output!D29","v":"NA"},{"$f":"Output!E29","v":"NA"},{"$f":"Output!F29","v":"NA"}]
["Control CV",{"$f":"Output!D27","v":"NA"},{"$f":"Output!E27","v":"NA"},{"$f":"Output!F27","v":"NA"},"MSD","NA",{"$f":"Output!B28","v":"NA"},"NA"]
["TAC Flags",{"$f":"Output!G25","v":"NA"}]
[]
["Hypothesis test",{"$f":"Output!B9","v":{"$error":"#N/A"}}]
["Point estimate test",{"$f":"Output!B10","v":"Linear Interpolation"}]
[]
["NOEC","LOEC",null,{"$f":"Output!A24","v":"IC25"},"95% Confidence Intervals"]
[{"$f":"Output!H9","v":"No Test Available!"},{"$f":"Output!H10","v":"No Test Available!"},null,{"$f":"Output!B24","v":">0"},{"$f":"Output!B25","v":"NA"},{"$f":"Output!B26","v":"NA"}]
[]
[]
["TST","Calculated t-value",null,"Table t-value",null,"Relative % Effect at IWC"]
[{"$f":"Output!B30","v":"NA"},{"$f":"Output!B31","v":"NA"},null,{"$f":"Output!B32","v":"NA"},null,{"$f":"Output!B33","v":""}]
[]
[]
["Note - For statistical tests, \"NS\" indicates that the concentration is not statistically different from the control, while \"Y\" indicates that the concentration is statistically different from the control."]
[]
[]
[]
[]
[]
[]
[]
[]
[]
[]
[]
[]
[]
[]
[]
[]
[]
[]
[]
[]
[]
[]
[]
[]
[]
[]
[]
[]
[]
["NOTICE"]
[]
["The United States Environmental Protection Agency (EPA), through its Office of Wastewater Management, funded and managed the development of the whole effluent toxicity (WET) Tool described here. This is a tool that calculates WET test endpoints for the EPA-approved WET test methods and is used by EPA internally for analyzing valid WET test data. Neither the EPA nor any of their employees, assumes any legal liability or responsibility for the accuracy, completeness, or usefulness of any information or process disclosed. Furthermore, the WET Tool is supplied “as-is” without guarantee or warranty, expressed or implied, including without limitation, any warranty of merchantability or fitness for a specific purpose."]

{"sheet":"OutputReport2","index":27,"n_rows":115,"n_cols":12,"rows_kept":115,"cut":false,"hidden":true,"merged":[[70,0,71,0],[78,4,78,5],[70,4,71,4],[73,1,73,7],[68,0,68,7],[6,11,14,16],[114,0,122,8],[84,0,85,8],[7,0,8,0],[31,0,32,0],[112,0,113,0],[7,1,7,8],[31,1,31,8],[58,0,58,2],[59,1,60,2],[62,1,63,2],[65,1,66,2],[59,0,62,0],[64,0,66,0],[75,1,75,7],[76,1,76,7]]}
["Facility",{"$f":"IF(ISTEXT(Start!B1), Start!B1,\"\")","v":""},null,null,"Analyst",{"$f":"IF(ISTEXT(Start!B2), Start!B2,\"\")","v":""}]
["Test ID",{"$f":"IF(ISTEXT(Start!B3), Start!B3,\"\")","v":""},null,null,"Species",{"$f":"IF(ISTEXT(Start!B6), Start!B6,\"\")","v":""}]
["Date",{"$f":"IF(ISBLANK(Start!B4), \"\",Start!B4)","v":""},null,null,"Test Type",{"$f":"IF(ISTEXT(Start!B7), Start!B7,\"\")","v":""}]
["Lab ID",{"$f":"IF(ISBLANK(Start!B5), \"\",Start!B5)","v":""},null,null,"IWC Conc.",{"$f":"IF(ISNUMBER(Start!B16), Start!B16,\"\")","v":""}]
[]
["Input"]
["Number of Organisms Exposed or Counted",null,null,null,null,null,null,null,null,null,null,"Note: This Output Report is a summary of the data entered, statistical methods selected, and the calculated endpoints of those statistical methods.  USEPA is providing this tab for ease of printing and inclusion in summary reports.  Please use the print button above or the print button within Excel to print this summary."]
["Replicate","Concentrations"]
[null,{"$f":"IF(ISBLANK(Input2!D20), \"\", Input2!D20)","v":""},{"$f":"IF(ISBLANK(Input2!E20), \"\", Input2!E20)","v":""},{"$f":"IF(ISBLANK(Input2!F20), \"\", Input2!F20)","v":""},{"$f":"IF(ISBLANK(Input2!G20), \"\", Input2!G20)","v":""},{"$f":"IF(ISBLANK(Input2!H20), \"\", Input2!H20)","v":""},{"$f":"IF(ISBLANK(Input2!I20), \"\", Input2!I20)","v":""},{"$f":"IF(ISBLANK(Input2!J20), \"\", Input2!J20)","v":""},{"$f":"IF(ISBLANK(Input2!K20), \"\", Input2!K20)","v":""}]
[{"$f":"IF(ISNUMBER(B10),\"1\",\"\")","v":""},{"$f":"IF(ISBLANK(Input2!D21), \"\", Input2!D21)","v":""},{"$f":"IF(ISBLANK(Input2!E21), \"\", Input2!E21)","v":""},{"$f":"IF(ISBLANK(Input2!F21), \"\", Input2!F21)","v":""},{"$f":"IF(ISBLANK(Input2!G21), \"\", Input2!G21)","v":""},{"$f":"IF(ISBLANK(Input2!H21), \"\", Input2!H21)","v":""},{"$f":"IF(ISBLANK(Input2!I21), \"\", Input2!I21)","v":""},{"$f":"IF(ISBLANK(Input2!J21), \"\", Input2!J21)","v":""},{"$f":"IF(ISBLANK(Input2!K21), \"\", Input2!K21)","v":""}]
[{"$f":"IF(ISNUMBER(B11),\"2\",\"\")","v":""},{"$f":"IF(ISBLANK(Input2!D22), \"\", Input2!D22)","v":""},{"$f":"IF(ISBLANK(Input2!E22), \"\", Input2!E22)","v":""},{"$f":"IF(ISBLANK(Input2!F22), \"\", Input2!F22)","v":""},{"$f":"IF(ISBLANK(Input2!G22), \"\", Input2!G22)","v":""},{"$f":"IF(ISBLANK(Input2!H22), \"\", Input2!H22)","v":""},{"$f":"IF(ISBLANK(Input2!I22), \"\", Input2!I22)","v":""},{"$f":"IF(ISBLANK(Input2!J22), \"\", Input2!J22)","v":""},{"$f":"IF(ISBLANK(Input2!K22), \"\", Input2!K22)","v":""}]
[{"$f":"IF(ISNUMBER(B12),\"3\",\"\")","v":""},{"$f":"IF(ISBLANK(Input2!D23), \"\", Input2!D23)","v":""},{"$f":"IF(ISBLANK(Input2!E23), \"\", Input2!E23)","v":""},{"$f":"IF(ISBLANK(Input2!F23), \"\", Input2!F23)","v":""},{"$f":"IF(ISBLANK(Input2!G23), \"\", Input2!G23)","v":""},{"$f":"IF(ISBLANK(Input2!H23), \"\", Input2!H23)","v":""},{"$f":"IF(ISBLANK(Input2!I23), \"\", Input2!I23)","v":""},{"$f":"IF(ISBLANK(Input2!J23), \"\", Input2!J23)","v":""},{"$f":"IF(ISBLANK(Input2!K23), \"\", Input2!K23)","v":""}]
[{"$f":"IF(ISNUMBER(B13),\"4\",\"\")","v":""},{"$f":"IF(ISBLANK(Input2!D24), \"\", Input2!D24)","v":""},{"$f":"IF(ISBLANK(Input2!E24), \"\", Input2!E24)","v":""},{"$f":"IF(ISBLANK(Input2!F24), \"\", Input2!F24)","v":""},{"$f":"IF(ISBLANK(Input2!G24), \"\", Input2!G24)","v":""},{"$f":"IF(ISBLANK(Input2!H24), \"\", Input2!H24)","v":""},{"$f":"IF(ISBLANK(Input2!I24), \"\", Input2!I24)","v":""},{"$f":"IF(ISBLANK(Input2!J24), \"\", Input2!J24)","v":""},{"$f":"IF(ISBLANK(Input2!K24), \"\", Input2!K24)","v":""}]
[{"$f":"IF(ISNUMBER(B14),\"5\",\"\")","v":""},{"$f":"IF(ISBLANK(Input2!D25), \"\", Input2!D25)","v":""},{"$f":"IF(ISBLANK(Input2!E25), \"\", Input2!E25)","v":""},{"$f":"IF(ISBLANK(Input2!F25), \"\", Input2!F25)","v":""},{"$f":"IF(ISBLANK(Input2!G25), \"\", Input2!G25)","v":""},{"$f":"IF(ISBLANK(Input2!H25), \"\", Input2!H25)","v":""},{"$f":"IF(ISBLANK(Input2!I25), \"\", Input2!I25)","v":""},{"$f":"IF(ISBLANK(Input2!J25), \"\", Input2!J25)","v":""},{"$f":"IF(ISBLANK(Input2!K25), \"\", Input2!K25)","v":""}]
[{"$f":"IF(ISNUMBER(B15),\"6\",\"\")","v":""},{"$f":"IF(ISBLANK(Input2!D26), \"\", Input2!D26)","v":""},{"$f":"IF(ISBLANK(Input2!E26), \"\", Input2!E26)","v":""},{"$f":"IF(ISBLANK(Input2!F26), \"\", Input2!F26)","v":""},{"$f":"IF(ISBLANK(Input2!G26), \"\", Input2!G26)","v":""},{"$f":"IF(ISBLANK(Input2!H26), \"\", Input2!H26)","v":""},{"$f":"IF(ISBLANK(Input2!I26), \"\", Input2!I26)","v":""},{"$f":"IF(ISBLANK(Input2!J26), \"\", Input2!J26)","v":""},{"$f":"IF(ISBLANK(Input2!K26), \"\", Input2!K26)","v":""}]
[{"$f":"IF(ISNUMBER(B16),\"7\",\"\")","v":""},{"$f":"IF(ISBLANK(Input2!D27), \"\", Input2!D27)","v":""},{"$f":"IF(ISBLANK(Input2!E27), \"\", Input2!E27)","v":""},{"$f":"IF(ISBLANK(Input2!F27), \"\", Input2!F27)","v":""},{"$f":"IF(ISBLANK(Input2!G27), \"\", Input2!G27)","v":""},{"$f":"IF(ISBLANK(Input2!H27), \"\", Input2!H27)","v":""},{"$f":"IF(ISBLANK(Input2!I27), \"\", Input2!I27)","v":""},{"$f":"IF(ISBLANK(Input2!J27), \"\", Input2!J27)","v":""},{"$f":"IF(ISBLANK(Input2!K27), \"\", Input2!K27)","v":""}]
[{"$f":"IF(ISNUMBER(B17),\"8\",\"\")","v":""},{"$f":"IF(ISBLANK(Input2!D28), \"\", Input2!D28)","v":""},{"$f":"IF(ISBLANK(Input2!E28), \"\", Input2!E28)","v":""},{"$f":"IF(ISBLANK(Input2!F28), \"\", Input2!F28)","v":""},{"$f":"IF(ISBLANK(Input2!G28), \"\", Input2!G28)","v":""},{"$f":"IF(ISBLANK(Input2!H28), \"\", Input2!H28)","v":""},{"$f":"IF(ISBLANK(Input2!I28), \"\", Input2!I28)","v":""},{"$f":"IF(ISBLANK(Input2!J28), \"\", Input2!J28)","v":""},{"$f":"IF(ISBLANK(Input2!K28), \"\", Input2!K28)","v":""}]
[{"$f":"IF(ISNUMBER(B18),\"9\",\"\")","v":""},{"$f":"IF(ISBLANK(Input2!D29), \"\", Input2!D29)","v":""},{"$f":"IF(ISBLANK(Input2!E29), \"\", Input2!E29)","v":""},{"$f":"IF(ISBLANK(Input2!F29), \"\", Input2!F29)","v":""},{"$f":"IF(ISBLANK(Input2!G29), \"\", Input2!G29)","v":""},{"$f":"IF(ISBLANK(Input2!H29), \"\", Input2!H29)","v":""},{"$f":"IF(ISBLANK(Input2!I29), \"\", Input2!I29)","v":""},{"$f":"IF(ISBLANK(Input2!J29), \"\", Input2!J29)","v":""},{"$f":"IF(ISBLANK(Input2!K29), \"\", Input2!K29)","v":""}]
[{"$f":"IF(ISNUMBER(B19),\"10\",\"\")","v":""},{"$f":"IF(ISBLANK(Input2!D30), \"\", Input2!D30)","v":""},{"$f":"IF(ISBLANK(Input2!E30), \"\", Input2!E30)","v":""},{"$f":"IF(ISBLANK(Input2!F30), \"\", Input2!F30)","v":""},{"$f":"IF(ISBLANK(Input2!G30), \"\", Input2!G30)","v":""},{"$f":"IF(ISBLANK(Input2!H30), \"\", Input2!H30)","v":""},{"$f":"IF(ISBLANK(Input2!I30), \"\", Input2!I30)","v":""},{"$f":"IF(ISBLANK(Input2!J30), \"\", Input2!J30)","v":""},{"$f":"IF(ISBLANK(Input2!K30), \"\", Input2!K30)","v":""}]
[{"$f":"IF(ISNUMBER(B20),\"11\",\"\")","v":""},{"$f":"IF(ISBLANK(Input2!D31), \"\", Input2!D31)","v":""},{"$f":"IF(ISBLANK(Input2!E31), \"\", Input2!E31)","v":""},{"$f":"IF(ISBLANK(Input2!F31), \"\", Input2!F31)","v":""},{"$f":"IF(ISBLANK(Input2!G31), \"\", Input2!G31)","v":""},{"$f":"IF(ISBLANK(Input2!H31), \"\", Input2!H31)","v":""},{"$f":"IF(ISBLANK(Input2!I31), \"\", Input2!I31)","v":""},{"$f":"IF(ISBLANK(Input2!J31), \"\", Input2!J31)","v":""},{"$f":"IF(ISBLANK(Input2!K31), \"\", Input2!K31)","v":""}]
[{"$f":"IF(ISNUMBER(B21),\"12\",\"\")","v":""},{"$f":"IF(ISBLANK(Input2!D32), \"\", Input2!D32)","v":""},{"$f":"IF(ISBLANK(Input2!E32), \"\", Input2!E32)","v":""},{"$f":"IF(ISBLANK(Input2!F32), \"\", Input2!F32)","v":""},{"$f":"IF(ISBLANK(Input2!G32), \"\", Input2!G32)","v":""},{"$f":"IF(ISBLANK(Input2!H32), \"\", Input2!H32)","v":""},{"$f":"IF(ISBLANK(Input2!I32), \"\", Input2!I32)","v":""},{"$f":"IF(ISBLANK(Input2!J32), \"\", Input2!J32)","v":""},{"$f":"IF(ISBLANK(Input2!K32), \"\", Input2!K32)","v":""}]
[{"$f":"IF(ISNUMBER(B22),\"13\",\"\")","v":""},{"$f":"IF(ISBLANK(Input2!D33), \"\", Input2!D33)","v":""},{"$f":"IF(ISBLANK(Input2!E33), \"\", Input2!E33)","v":""},{"$f":"IF(ISBLANK(Input2!F33), \"\", Input2!F33)","v":""},{"$f":"IF(ISBLANK(Input2!G33), \"\", Input2!G33)","v":""},{"$f":"IF(ISBLANK(Input2!H33), \"\", Input2!H33)","v":""},{"$f":"IF(ISBLANK(Input2!I33), \"\", Input2!I33)","v":""},{"$f":"IF(ISBLANK(Input2!J33), \"\", Input2!J33)","v":""},{"$f":"IF(ISBLANK(Input2!K33), \"\", Input2!K33)","v":""}]
[{"$f":"IF(ISNUMBER(B23),\"14\",\"\")","v":""},{"$f":"IF(ISBLANK(Input2!D34), \"\", Input2!D34)","v":""},{"$f":"IF(ISBLANK(Input2!E34), \"\", Input2!E34)","v":""},{"$f":"IF(ISBLANK(Input2!F34), \"\", Input2!F34)","v":""},{"$f":"IF(ISBLANK(Input2!G34), \"\", Input2!G34)","v":""},{"$f":"IF(ISBLANK(Input2!H34), \"\", Input2!H34)","v":""},{"$f":"IF(ISBLANK(Input2!I34), \"\", Input2!I34)","v":""},{"$f":"IF(ISBLANK(Input2!J34), \"\", Input2!J34)","v":""},{"$f":"IF(ISBLANK(Input2!K34), \"\", Input2!K34)","v":""}]
[{"$f":"IF(ISNUMBER(B24),\"15\",\"\")","v":""},{"$f":"IF(ISBLANK(Input2!D35), \"\", Input2!D35)","v":""},{"$f":"IF(ISBLANK(Input2!E35), \"\", Input2!E35)","v":""},{"$f":"IF(ISBLANK(Input2!F35), \"\", Input2!F35)","v":""},{"$f":"IF(ISBLANK(Input2!G35), \"\", Input2!G35)","v":""},{"$f":"IF(ISBLANK(Input2!H35), \"\", Input2!H35)","v":""},{"$f":"IF(ISBLANK(Input2!I35), \"\", Input2!I35)","v":""},{"$f":"IF(ISBLANK(Input2!J35), \"\", Input2!J35)","v":""},{"$f":"IF(ISBLANK(Input2!K35), \"\", Input2!K35)","v":""}]
[{"$f":"IF(ISNUMBER(B25),\"16\",\"\")","v":""},{"$f":"IF(ISBLANK(Input2!D36), \"\", Input2!D36)","v":""},{"$f":"IF(ISBLANK(Input2!E36), \"\", Input2!E36)","v":""},{"$f":"IF(ISBLANK(Input2!F36), \"\", Input2!F36)","v":""},{"$f":"IF(ISBLANK(Input2!G36), \"\", Input2!G36)","v":""},{"$f":"IF(ISBLANK(Input2!H36), \"\", Input2!H36)","v":""},{"$f":"IF(ISBLANK(Input2!I36), \"\", Input2!I36)","v":""},{"$f":"IF(ISBLANK(Input2!J36), \"\", Input2!J36)","v":""},{"$f":"IF(ISBLANK(Input2!K36), \"\", Input2!K36)","v":""}]
[{"$f":"IF(ISNUMBER(B26),\"17\",\"\")","v":""},{"$f":"IF(ISBLANK(Input2!D37), \"\", Input2!D37)","v":""},{"$f":"IF(ISBLANK(Input2!E37), \"\", Input2!E37)","v":""},{"$f":"IF(ISBLANK(Input2!F37), \"\", Input2!F37)","v":""},{"$f":"IF(ISBLANK(Input2!G37), \"\", Input2!G37)","v":""},{"$f":"IF(ISBLANK(Input2!H37), \"\", Input2!H37)","v":""},{"$f":"IF(ISBLANK(Input2!I37), \"\", Input2!I37)","v":""},{"$f":"IF(ISBLANK(Input2!J37), \"\", Input2!J37)","v":""},{"$f":"IF(ISBLANK(Input2!K37), \"\", Input2!K37)","v":""}]
[{"$f":"IF(ISNUMBER(B27),\"18\",\"\")","v":""},{"$f":"IF(ISBLANK(Input2!D38), \"\", Input2!D38)","v":""},{"$f":"IF(ISBLANK(Input2!E38), \"\", Input2!E38)","v":""},{"$f":"IF(ISBLANK(Input2!F38), \"\", Input2!F38)","v":""},{"$f":"IF(ISBLANK(Input2!G38), \"\", Input2!G38)","v":""},{"$f":"IF(ISBLANK(Input2!H38), \"\", Input2!H38)","v":""},{"$f":"IF(ISBLANK(Input2!I38), \"\", Input2!I38)","v":""},{"$f":"IF(ISBLANK(Input2!J38), \"\", Input2!J38)","v":""},{"$f":"IF(ISBLANK(Input2!K38), \"\", Input2!K38)","v":""}]
[{"$f":"IF(ISNUMBER(B28),\"19\",\"\")","v":""},{"$f":"IF(ISBLANK(Input2!D39), \"\", Input2!D39)","v":""},{"$f":"IF(ISBLANK(Input2!E39), \"\", Input2!E39)","v":""},{"$f":"IF(ISBLANK(Input2!F39), \"\", Input2!F39)","v":""},{"$f":"IF(ISBLANK(Input2!G39), \"\", Input2!G39)","v":""},{"$f":"IF(ISBLANK(Input2!H39), \"\", Input2!H39)","v":""},{"$f":"IF(ISBLANK(Input2!I39), \"\", Input2!I39)","v":""},{"$f":"IF(ISBLANK(Input2!J39), \"\", Input2!J39)","v":""},{"$f":"IF(ISBLANK(Input2!K39), \"\", Input2!K39)","v":""}]
[{"$f":"IF(ISNUMBER(B29),\"20\",\"\")","v":""},{"$f":"IF(ISBLANK(Input2!D40), \"\", Input2!D40)","v":""},{"$f":"IF(ISBLANK(Input2!E40), \"\", Input2!E40)","v":""},{"$f":"IF(ISBLANK(Input2!F40), \"\", Input2!F40)","v":""},{"$f":"IF(ISBLANK(Input2!G40), \"\", Input2!G40)","v":""},{"$f":"IF(ISBLANK(Input2!H40), \"\", Input2!H40)","v":""},{"$f":"IF(ISBLANK(Input2!I40), \"\", Input2!I40)","v":""},{"$f":"IF(ISBLANK(Input2!J40), \"\", Input2!J40)","v":""},{"$f":"IF(ISBLANK(Input2!K40), \"\", Input2!K40)","v":""}]
[]
["Number of Organisms Surviving or Responding"]
["Replicate","Concentrations"]
[null,{"$f":"IF(ISBLANK(Input2!D44), \"\", Input2!D44)","v":""},{"$f":"IF(ISBLANK(Input2!E44), \"\", Input2!E44)","v":""},{"$f":"IF(ISBLANK(Input2!F44), \"\", Input2!F44)","v":""},{"$f":"IF(ISBLANK(Input2!G44), \"\", Input2!G44)","v":""},{"$f":"IF(ISBLANK(Input2!H44), \"\", Input2!H44)","v":""},{"$f":"IF(ISBLANK(Input2!I44), \"\", Input2!I44)","v":""},{"$f":"IF(ISBLANK(Input2!J44), \"\", Input2!J44)","v":""},{"$f":"IF(ISBLANK(Input2!K44), \"\", Input2!K44)","v":""}]
[{"$f":"IF(ISNUMBER(B34),\"1\",\"\")","v":""},{"$f":"IF(ISBLANK(Input2!D45), \"\", Input2!D45)","v":""},{"$f":"IF(ISBLANK(Input2!E45), \"\", Input2!E45)","v":""},{"$f":"IF(ISBLANK(Input2!F45), \"\", Input2!F45)","v":""},{"$f":"IF(ISBLANK(Input2!G45), \"\", Input2!G45)","v":""},{"$f":"IF(ISBLANK(Input2!H45), \"\", Input2!H45)","v":""},{"$f":"IF(ISBLANK(Input2!I45), \"\", Input2!I45)","v":""},{"$f":"IF(ISBLANK(Input2!J45), \"\", Input2!J45)","v":""},{"$f":"IF(ISBLANK(Input2!K45), \"\", Input2!K45)","v":""}]
[{"$f":"IF(ISNUMBER(B35),\"2\",\"\")","v":""},{"$f":"IF(ISBLANK(Input2!D46), \"\", Input2!D46)","v":""},{"$f":"IF(ISBLANK(Input2!E46), \"\", Input2!E46)","v":""},{"$f":"IF(ISBLANK(Input2!F46), \"\", Input2!F46)","v":""},{"$f":"IF(ISBLANK(Input2!G46), \"\", Input2!G46)","v":""},{"$f":"IF(ISBLANK(Input2!H46), \"\", Input2!H46)","v":""},{"$f":"IF(ISBLANK(Input2!I46), \"\", Input2!I46)","v":""},{"$f":"IF(ISBLANK(Input2!J46), \"\", Input2!J46)","v":""},{"$f":"IF(ISBLANK(Input2!K46), \"\", Input2!K46)","v":""}]
[{"$f":"IF(ISNUMBER(B36),\"3\",\"\")","v":""},{"$f":"IF(ISBLANK(Input2!D47), \"\", Input2!D47)","v":""},{"$f":"IF(ISBLANK(Input2!E47), \"\", Input2!E47)","v":""},{"$f":"IF(ISBLANK(Input2!F47), \"\", Input2!F47)","v":""},{"$f":"IF(ISBLANK(Input2!G47), \"\", Input2!G47)","v":""},{"$f":"IF(ISBLANK(Input2!H47), \"\", Input2!H47)","v":""},{"$f":"IF(ISBLANK(Input2!I47), \"\", Input2!I47)","v":""},{"$f":"IF(ISBLANK(Input2!J47), \"\", Input2!J47)","v":""},{"$f":"IF(ISBLANK(Input2!K47), \"\", Input2!K47)","v":""}]
[{"$f":"IF(ISNUMBER(B37),\"4\",\"\")","v":""},{"$f":"IF(ISBLANK(Input2!D48), \"\", Input2!D48)","v":""},{"$f":"IF(ISBLANK(Input2!E48), \"\", Input2!E48)","v":""},{"$f":"IF(ISBLANK(Input2!F48), \"\", Input2!F48)","v":""},{"$f":"IF(ISBLANK(Input2!G48), \"\", Input2!G48)","v":""},{"$f":"IF(ISBLANK(Input2!H48), \"\", Input2!H48)","v":""},{"$f":"IF(ISBLANK(Input2!I48), \"\", Input2!I48)","v":""},{"$f":"IF(ISBLANK(Input2!J48), \"\", Input2!J48)","v":""},{"$f":"IF(ISBLANK(Input2!K48), \"\", Input2!K48)","v":""}]
[{"$f":"IF(ISNUMBER(B38),\"5\",\"\")","v":""},{"$f":"IF(ISBLANK(Input2!D49), \"\", Input2!D49)","v":""},{"$f":"IF(ISBLANK(Input2!E49), \"\", Input2!E49)","v":""},{"$f":"IF(ISBLANK(Input2!F49), \"\", Input2!F49)","v":""},{"$f":"IF(ISBLANK(Input2!G49), \"\", Input2!G49)","v":""},{"$f":"IF(ISBLANK(Input2!H49), \"\", Input2!H49)","v":""},{"$f":"IF(ISBLANK(Input2!I49), \"\", Input2!I49)","v":""},{"$f":"IF(ISBLANK(Input2!J49), \"\", Input2!J49)","v":""},{"$f":"IF(ISBLANK(Input2!K49), \"\", Input2!K49)","v":""}]
[{"$f":"IF(ISNUMBER(B39),\"6\",\"\")","v":""},{"$f":"IF(ISBLANK(Input2!D50), \"\", Input2!D50)","v":""},{"$f":"IF(ISBLANK(Input2!E50), \"\", Input2!E50)","v":""},{"$f":"IF(ISBLANK(Input2!F50), \"\", Input2!F50)","v":""},{"$f":"IF(ISBLANK(Input2!G50), \"\", Input2!G50)","v":""},{"$f":"IF(ISBLANK(Input2!H50), \"\", Input2!H50)","v":""},{"$f":"IF(ISBLANK(Input2!I50), \"\", Input2!I50)","v":""},{"$f":"IF(ISBLANK(Input2!J50), \"\", Input2!J50)","v":""},{"$f":"IF(ISBLANK(Input2!K50), \"\", Input2!K50)","v":""}]
[{"$f":"IF(ISNUMBER(B40),\"7\",\"\")","v":""},{"$f":"IF(ISBLANK(Input2!D51), \"\", Input2!D51)","v":""},{"$f":"IF(ISBLANK(Input2!E51), \"\", Input2!E51)","v":""},{"$f":"IF(ISBLANK(Input2!F51), \"\", Input2!F51)","v":""},{"$f":"IF(ISBLANK(Input2!G51), \"\", Input2!G51)","v":""},{"$f":"IF(ISBLANK(Input2!H51), \"\", Input2!H51)","v":""},{"$f":"IF(ISBLANK(Input2!I51), \"\", Input2!I51)","v":""},{"$f":"IF(ISBLANK(Input2!J51), \"\", Input2!J51)","v":""},{"$f":"IF(ISBLANK(Input2!K51), \"\", Input2!K51)","v":""}]
[{"$f":"IF(ISNUMBER(B41),\"8\",\"\")","v":""},{"$f":"IF(ISBLANK(Input2!D52), \"\", Input2!D52)","v":""},{"$f":"IF(ISBLANK(Input2!E52), \"\", Input2!E52)","v":""},{"$f":"IF(ISBLANK(Input2!F52), \"\", Input2!F52)","v":""},{"$f":"IF(ISBLANK(Input2!G52), \"\", Input2!G52)","v":""},{"$f":"IF(ISBLANK(Input2!H52), \"\", Input2!H52)","v":""},{"$f":"IF(ISBLANK(Input2!I52), \"\", Input2!I52)","v":""},{"$f":"IF(ISBLANK(Input2!J52), \"\", Input2!J52)","v":""},{"$f":"IF(ISBLANK(Input2!K52), \"\", Input2!K52)","v":""}]
[{"$f":"IF(ISNUMBER(B42),\"9\",\"\")","v":""},{"$f":"IF(ISBLANK(Input2!D53), \"\", Input2!D53)","v":""},{"$f":"IF(ISBLANK(Input2!E53), \"\", Input2!E53)","v":""},{"$f":"IF(ISBLANK(Input2!F53), \"\", Input2!F53)","v":""},{"$f":"IF(ISBLANK(Input2!G53), \"\", Input2!G53)","v":""},{"$f":"IF(ISBLANK(Input2!H53), \"\", Input2!H53)","v":""},{"$f":"IF(ISBLANK(Input2!I53), \"\", Input2!I53)","v":""},{"$f":"IF(ISBLANK(Input2!J53), \"\", Input2!J53)","v":""},{"$f":"IF(ISBLANK(Input2!K53), \"\", Input2!K53)","v":""}]
[{"$f":"IF(ISNUMBER(B43),\"10\",\"\")","v":""},{"$f":"IF(ISBLANK(Input2!D54), \"\", Input2!D54)","v":""},{"$f":"IF(ISBLANK(Input2!E54), \"\", Input2!E54)","v":""},{"$f":"IF(ISBLANK(Input2!F54), \"\", Input2!F54)","v":""},{"$f":"IF(ISBLANK(Input2!G54), \"\", Input2!G54)","v":""},{"$f":"IF(ISBLANK(Input2!H54), \"\", Input2!H54)","v":""},{"$f":"IF(ISBLANK(Input2!I54), \"\", Input2!I54)","v":""},{"$f":"IF(ISBLANK(Input2!J54), \"\", Input2!J54)","v":""},{"$f":"IF(ISBLANK(Input2!K54), \"\", Input2!K54)","v":""}]
[{"$f":"IF(ISNUMBER(B44),\"11\",\"\")","v":""},{"$f":"IF(ISBLANK(Input2!D55), \"\", Input2!D55)","v":""},{"$f":"IF(ISBLANK(Input2!E55), \"\", Input2!E55)","v":""},{"$f":"IF(ISBLANK(Input2!F55), \"\", Input2!F55)","v":""},{"$f":"IF(ISBLANK(Input2!G55), \"\", Input2!G55)","v":""},{"$f":"IF(ISBLANK(Input2!H55), \"\", Input2!H55)","v":""},{"$f":"IF(ISBLANK(Input2!I55), \"\", Input2!I55)","v":""},{"$f":"IF(ISBLANK(Input2!J55), \"\", Input2!J55)","v":""},{"$f":"IF(ISBLANK(Input2!K55), \"\", Input2!K55)","v":""}]
[{"$f":"IF(ISNUMBER(B45),\"12\",\"\")","v":""},{"$f":"IF(ISBLANK(Input2!D56), \"\", Input2!D56)","v":""},{"$f":"IF(ISBLANK(Input2!E56), \"\", Input2!E56)","v":""},{"$f":"IF(ISBLANK(Input2!F56), \"\", Input2!F56)","v":""},{"$f":"IF(ISBLANK(Input2!G56), \"\", Input2!G56)","v":""},{"$f":"IF(ISBLANK(Input2!H56), \"\", Input2!H56)","v":""},{"$f":"IF(ISBLANK(Input2!I56), \"\", Input2!I56)","v":""},{"$f":"IF(ISBLANK(Input2!J56), \"\", Input2!J56)","v":""},{"$f":"IF(ISBLANK(Input2!K56), \"\", Input2!K56)","v":""}]
[{"$f":"IF(ISNUMBER(B46),\"13\",\"\")","v":""},{"$f":"IF(ISBLANK(Input2!D57), \"\", Input2!D57)","v":""},{"$f":"IF(ISBLANK(Input2!E57), \"\", Input2!E57)","v":""},{"$f":"IF(ISBLANK(Input2!F57), \"\", Input2!F57)","v":""},{"$f":"IF(ISBLANK(Input2!G57), \"\", Input2!G57)","v":""},{"$f":"IF(ISBLANK(Input2!H57), \"\", Input2!H57)","v":""},{"$f":"IF(ISBLANK(Input2!I57), \"\", Input2!I57)","v":""},{"$f":"IF(ISBLANK(Input2!J57), \"\", Input2!J57)","v":""},{"$f":"IF(ISBLANK(Input2!K57), \"\", Input2!K57)","v":""}]
[{"$f":"IF(ISNUMBER(B47),\"14\",\"\")","v":""},{"$f":"IF(ISBLANK(Input2!D58), \"\", Input2!D58)","v":""},{"$f":"IF(ISBLANK(Input2!E58), \"\", Input2!E58)","v":""},{"$f":"IF(ISBLANK(Input2!F58), \"\", Input2!F58)","v":""},{"$f":"IF(ISBLANK(Input2!G58), \"\", Input2!G58)","v":""},{"$f":"IF(ISBLANK(Input2!H58), \"\", Input2!H58)","v":""},{"$f":"IF(ISBLANK(Input2!I58), \"\", Input2!I58)","v":""},{"$f":"IF(ISBLANK(Input2!J58), \"\", Input2!J58)","v":""},{"$f":"IF(ISBLANK(Input2!K58), \"\", Input2!K58)","v":""}]
[{"$f":"IF(ISNUMBER(B48),\"15\",\"\")","v":""},{"$f":"IF(ISBLANK(Input2!D59), \"\", Input2!D59)","v":""},{"$f":"IF(ISBLANK(Input2!E59), \"\", Input2!E59)","v":""},{"$f":"IF(ISBLANK(Input2!F59), \"\", Input2!F59)","v":""},{"$f":"IF(ISBLANK(Input2!G59), \"\", Input2!G59)","v":""},{"$f":"IF(ISBLANK(Input2!H59), \"\", Input2!H59)","v":""},{"$f":"IF(ISBLANK(Input2!I59), \"\", Input2!I59)","v":""},{"$f":"IF(ISBLANK(Input2!J59), \"\", Input2!J59)","v":""},{"$f":"IF(ISBLANK(Input2!K59), \"\", Input2!K59)","v":""}]
[{"$f":"IF(ISNUMBER(B49),\"16\",\"\")","v":""},{"$f":"IF(ISBLANK(Input2!D60), \"\", Input2!D60)","v":""},{"$f":"IF(ISBLANK(Input2!E60), \"\", Input2!E60)","v":""},{"$f":"IF(ISBLANK(Input2!F60), \"\", Input2!F60)","v":""},{"$f":"IF(ISBLANK(Input2!G60), \"\", Input2!G60)","v":""},{"$f":"IF(ISBLANK(Input2!H60), \"\", Input2!H60)","v":""},{"$f":"IF(ISBLANK(Input2!I60), \"\", Input2!I60)","v":""},{"$f":"IF(ISBLANK(Input2!J60), \"\", Input2!J60)","v":""},{"$f":"IF(ISBLANK(Input2!K60), \"\", Input2!K60)","v":""}]
[{"$f":"IF(ISNUMBER(B50),\"17\",\"\")","v":""},{"$f":"IF(ISBLANK(Input2!D61), \"\", Input2!D61)","v":""},{"$f":"IF(ISBLANK(Input2!E61), \"\", Input2!E61)","v":""},{"$f":"IF(ISBLANK(Input2!F61), \"\", Input2!F61)","v":""},{"$f":"IF(ISBLANK(Input2!G61), \"\", Input2!G61)","v":""},{"$f":"IF(ISBLANK(Input2!H61), \"\", Input2!H61)","v":""},{"$f":"IF(ISBLANK(Input2!I61), \"\", Input2!I61)","v":""},{"$f":"IF(ISBLANK(Input2!J61), \"\", Input2!J61)","v":""},{"$f":"IF(ISBLANK(Input2!K61), \"\", Input2!K61)","v":""}]
[{"$f":"IF(ISNUMBER(B51),\"18\",\"\")","v":""},{"$f":"IF(ISBLANK(Input2!D62), \"\", Input2!D62)","v":""},{"$f":"IF(ISBLANK(Input2!E62), \"\", Input2!E62)","v":""},{"$f":"IF(ISBLANK(Input2!F62), \"\", Input2!F62)","v":""},{"$f":"IF(ISBLANK(Input2!G62), \"\", Input2!G62)","v":""},{"$f":"IF(ISBLANK(Input2!H62), \"\", Input2!H62)","v":""},{"$f":"IF(ISBLANK(Input2!I62), \"\", Input2!I62)","v":""},{"$f":"IF(ISBLANK(Input2!J62), \"\", Input2!J62)","v":""},{"$f":"IF(ISBLANK(Input2!K62), \"\", Input2!K62)","v":""}]
[{"$f":"IF(ISNUMBER(B52),\"19\",\"\")","v":""},{"$f":"IF(ISBLANK(Input2!D63), \"\", Input2!D63)","v":""},{"$f":"IF(ISBLANK(Input2!E63), \"\", Input2!E63)","v":""},{"$f":"IF(ISBLANK(Input2!F63), \"\", Input2!F63)","v":""},{"$f":"IF(ISBLANK(Input2!G63), \"\", Input2!G63)","v":""},{"$f":"IF(ISBLANK(Input2!H63), \"\", Input2!H63)","v":""},{"$f":"IF(ISBLANK(Input2!I63), \"\", Input2!I63)","v":""},{"$f":"IF(ISBLANK(Input2!J63), \"\", Input2!J63)","v":""},{"$f":"IF(ISBLANK(Input2!K63), \"\", Input2!K63)","v":""}]
[{"$f":"IF(ISNUMBER(B53),\"20\",\"\")","v":""},{"$f":"IF(ISBLANK(Input2!D64), \"\", Input2!D64)","v":""},{"$f":"IF(ISBLANK(Input2!E64), \"\", Input2!E64)","v":""},{"$f":"IF(ISBLANK(Input2!F64), \"\", Input2!F64)","v":""},{"$f":"IF(ISBLANK(Input2!G64), \"\", Input2!G64)","v":""},{"$f":"IF(ISBLANK(Input2!H64), \"\", Input2!H64)","v":""},{"$f":"IF(ISBLANK(Input2!I64), \"\", Input2!I64)","v":""},{"$f":"IF(ISBLANK(Input2!J64), \"\", Input2!J64)","v":""},{"$f":"IF(ISBLANK(Input2!K64), \"\", Input2!K64)","v":""}]
[]
["Total Organisms",{"$f":"IF(ISNUMBER(B9),SUM(B10:B29),\"\")","v":""},"","","","","",{"$f":"IF(ISNUMBER(H9),SUM(H10:H29),\"\")","v":""},""]
["Total Responding",{"$f":"IF(ISNUMBER(B33),SUM(B34:B53),\"\")","v":""},"","","","","",{"$f":"IF(ISNUMBER(H33),SUM(H34:H53),\"\")","v":""},""]
["% Responding",{"$f":"IF(ISNUMBER(B55),B56/B55,\"\")","v":""},"","","","","",{"$f":"IF(ISNUMBER(H55),H56/H55,\"\")","v":""},""]
["Output"]
[{"$f":"Output!A12","v":"Statistical Data"},null,null,{"$f":"Output!B12","v":"Conc."},{"$f":"Output!C12","v":"Mean (Transformed)"},{"$f":"Output!D12","v":"Mean"},{"$f":"Output!E12","v":"Stdev"},{"$f":"Output!F12","v":"CV"},{"$f":"Output!G12","v":0}]
[{"$f":"Output!A13","v":"Data have not been transformed for endpoint calculations."},{"$f":"Output!A17","v":"Normal distribution not tested."},null,{"$f":"Output!B13","v":""},{"$f":"Output!C13","v":"NA"},{"$f":"Output!D13","v":""},{"$f":"Output!E13","v":""},{"$f":"Output!F13","v":""}]
[null,null,null,{"$f":"Output!B14","v":""},{"$f":"Output!C14","v":"NA"},{"$f":"Output!D14","v":""},{"$f":"Output!E14","v":""},{"$f":"Output!F14","v":""},{"$f":"Output!G14","v":"no result"}]
[null,null,null,{"$f":"Output!B15","v":""},{"$f":"Output!C15","v":"NA"},{"$f":"Output!D15","v":""},{"$f":"Output!E15","v":""},{"$f":"Output!F15","v":""},{"$f":"Output!G15","v":"no result"}]
[null,{"$f":"Output!A19","v":"Variance not tested."},null,{"$f":"Output!B16","v":""},{"$f":"Output!C16","v":"NA"},{"$f":"Output!D16","v":""},{"$f":"Output!E16","v":""},{"$f":"Output!F16","v":""},{"$f":"Output!G16","v":"no result"}]
[null,null,null,{"$f":"Output!B17","v":""},{"$f":"Output!C17","v":"NA"},{"$f":"Output!D17","v":""},{"$f":"Output!E17","v":""},{"$f":"Output!F17","v":""},{"$f":"Output!G17","v":"no result"}]
[{"$f":"IF(Output_Intermed!AE15=\"Y\",\"Smoothed data were used in statistical tests.\",\"Unsmoothed data were used in statistical tests.\")","v":{"$error":"#N/A"}},null,null,{"$f":"Output!B18","v":""},{"$f":"Output!C18","v":"NA"},{"$f":"Output!D18","v":""},{"$f":"Output!E18","v":""},{"$f":"Output!F18","v":""},{"$f":"Output!G18","v":"no result"}]
[null,{"$f":"Output!A21","v":"Data have an equal number of replicates."},null,{"$f":"Output!B19","v":""},{"$f":"Output!C19","v":"NA"},{"$f":"Output!D19","v":""},{"$f":"Output!E19","v":""},{"$f":"Output!F19","v":""},{"$f":"Output!G19","v":"no result"}]
[null,null,null,{"$f":"Output!B20","v":""},{"$f":"Output!C20","v":""},{"$f":"Output!D20","v":""},{"$f":"Output!E20","v":""},{"$f":"Output!F20","v":""},{"$f":"Output!G20","v":"no result"}]
[]
["Test Acceptability Criteria"]
[null,"Criterion","Test Value","Pass/Fail",null,"Criterion","Test Value","Pass/Fail"]
["Control mean response",{"$f":"Output!D25","v":"NA"},{"$f":"Output!E25","v":"NA"},{"$f":"Output!F25","v":"NA"},"PMSD",{"$f":"Output!D28","v":"NA"},{"$f":"Output!E28","v":"NA"},{"$f":"Output!F28","v":"NA"}]
[null,{"$f":"Output!D26","v":"NA"},{"$f":"Output!E26","v":"NA"},{"$f":"Output!F26","v":"NA"},null,{"$f":"Output!D29","v":"NA"},{"$f":"Output!E29","v":"NA"},{"$f":"Output!F29","v":"NA"}]
["Control CV",{"$f":"Output!D27","v":"NA"},{"$f":"Output!E27","v":"NA"},{"$f":"Output!F27","v":"NA"},"MSD","NA",{"$f":"Output!B28","v":"NA"},"NA"]
["TAC Flags",{"$f":"Output!G25","v":"NA"}]
[]
["Hypothesis test",{"$f":"Output!B9","v":{"$error":"#N/A"}}]
["Point estimate test",{"$f":"Output!B10","v":"Linear Interpolation"}]
[]
["NOEC","LOEC",null,{"$f":"Output!A24","v":"IC25"},"95% Confidence Intervals"]
[{"$f":"Output!H9","v":"No Test Available!"},{"$f":"Output!H10","v":"No Test Available!"},null,{"$f":"Output!B24","v":">0"},{"$f":"Output!B25","v":"NA"},{"$f":"Output!B26","v":"NA"}]
[]
["TST","Calculated t-value",null,"Table t-value",null,"Relative % Effect at IWC"]
[{"$f":"Output!B30","v":"NA"},{"$f":"Output!B31","v":"NA"},null,{"$f":"Output!B32","v":"NA"},null,{"$f":"Output!B33","v":""}]
[]
["Note - For statistical tests, \"NS\" indicates that the concentration is not statistically different from the control, while \"Y\" indicates that the concentration is statistically different from the control."]
[]
[]
[]
[]
[]
[]
[]
[]
[]
[]
[]
[]
[]
[]
[]
[]
[]
[]
[]
[]
[]
[]
[]
[]
[]
[]
[]
["NOTICE"]
[]
["The United States Environmental Protection Agency (EPA), through its Office of Wastewater Management, funded and managed the development of the whole effluent toxicity (WET) Tool described here. This is a tool that calculates WET test endpoints for the EPA-approved WET test methods and is used by EPA internally for analyzing valid WET test data. Neither the EPA nor any of their employees, assumes any legal liability or responsibility for the accuracy, completeness, or usefulness of any information or process disclosed. Furthermore, the WET Tool is supplied “as-is” without guarantee or warranty, expressed or implied, including without limitation, any warranty of merchantability or fitness for a specific purpose."]

{"sheet":"Statistics Input","index":28,"n_rows":2,"n_cols":29,"rows_kept":2,"cut":false,"hidden":true,"merged":[]}
["Test ID","Test Date","Lab ID","Species","Test Type","IWC","NOEC","LOEC","IC25","LC50","Lower 95% C.I.","Upper 95% C.I.","TST","Calculated t-value","Table t-value","Relative % Effect at IWC","MSD","PMSD","Control Mean (Transformed)","Control Mean","Control Stdev","Control CV","TAC-Control Mean Response Upper Bound","TAC-Control Mean Response Lower Bound","TAC-Control CV","TAC-PMSD Upper Bound","TAC-PMSD Lower Bound","TAC-Flag","Test Num"]
[{"$f":"Output!B3","v":""},{"$f":"Output!B4","v":""},{"$f":"Output!B5","v":""},{"$f":"Output!B6","v":""},{"$f":"Output!B7","v":""},{"$f":"Output!B8","v":""},{"$f":"Output!H9","v":"No Test Available!"},{"$f":"Output!H10","v":"No Test Available!"},{"$f":"IF(Output!A24=\"IC25\",Output!B24,\"NA\")","v":">0"},{"$f":"IF(Output!A24=\"LC50\",Output!B24,\"NA\")","v":"NA"},{"$f":"Output!B25","v":"NA"},{"$f":"Output!B26","v":"NA"},{"$f":"Output!B30","v":"NA"},{"$f":"Output!B31","v":"NA"},{"$f":"Output!B32","v":"NA"},{"$f":"Output!B33","v":""},{"$f":"Output!B28","v":"NA"},{"$f":"Output!E28","v":"NA"},{"$f":"Output!C13","v":"NA"},{"$f":"Output!D13","v":""},{"$f":"Output!E13","v":""},{"$f":"Output!F13","v":""},{"$f":"Output!F26","v":"NA"},{"$f":"Output!F25","v":"NA"},{"$f":"Output!F27","v":"NA"},{"$f":"Output!F29","v":"NA"},{"$f":"Output!F28","v":"NA"},{"$f":"Output!G25","v":"NA"}]

{"sheet":"Statistics","index":29,"n_rows":997,"n_cols":29,"rows_kept":997,"cut":false,"hidden":true,"merged":[]}
["Statistics"]
[]
["Test ID","Test Date","Lab ID","Species","Test Type","IWC","NOEC","LOEC","IC25","LC50","Lower 95% C.I.","Upper 95% C.I.","TST","Calculated t-value","Table t-value","Relative % Effect at IWC","MSD","PMSD","Control Mean (Transformed)","Control Mean","Control Stdev","Control CV","TAC-Control Mean Response Upper Bound","TAC-Control Mean Response Lower Bound","TAC-Control CV","TAC-PMSD Upper Bound","TAC-PMSD Lower Bound","TAC-Flag","Test Num"]
["Bayou Marcus C. dubia acute","2022-06-09","DEP Laboratory B246","Ceriodaphnia dubia (water flea)","Acute Survival",100,100,">100","NA",{"$error":"#DIV/0!"},{"$error":"#DIV/0!"},{"$error":"#DIV/0!"},"Pass","NA","NA",-5.2631578947368478,"NA","NA",1.2857493701210965,0.95,0.11906710155133737,9.2605218651690427E-2,"NA","Pass","NA","NA","NA","No flags",{"$f":"IF(ISBLANK(D4),\"\",ROW(D4)-3)","v":1}]
[null,null,null,null,null,null,null,null,null,null,null,null,null,null,null,null,null,null,null,null,null,null,null,null,null,null,null,null,""]
[null,null,null,null,null,null,null,null,null,null,null,null,null,null,null,null,null,null,null,null,null,null,null,null,null,null,null,null,""]
[null,null,null,null,null,null,null,null,null,null,null,null,null,null,null,null,null,null,null,null,null,null,null,null,null,null,null,null,""]
[null,null,null,null,null,null,null,null,null,null,null,null,null,null,null,null,null,null,null,null,null,null,null,null,null,null,null,null,""]
[null,null,null,null,null,null,null,null,null,null,null,null,null,null,null,null,null,null,null,null,null,null,null,null,null,null,null,null,""]
[null,null,null,null,null,null,null,null,null,null,null,null,null,null,null,null,null,null,null,null,null,null,null,null,null,null,null,null,""]
[null,null,null,null,null,null,null,null,null,null,null,null,null,null,null,null,null,null,null,null,null,null,null,null,null,null,null,null,""]
[null,null,null,null,null,null,null,null,null,null,null,null,null,null,null,null,null,null,null,null,null,null,null,null,null,null,null,null,""]
[null,null,null,null,null,null,null,null,null,null,null,null,null,null,null,null,null,null,null,null,null,null,null,null,null,null,null,null,""]
[null,null,null,null,null,null,null,null,null,null,null,null,null,null,null,null,null,null,null,null,null,null,null,null,null,null,null,null,""]
[null,null,null,null,null,null,null,null,null,null,null,null,null,null,null,null,null,null,null,null,null,null,null,null,null,null,null,null,""]
[null,null,null,null,null,null,null,null,null,null,null,null,null,null,null,null,null,null,null,null,null,null,null,null,null,null,null,null,""]
[null,null,null,null,null,null,null,null,null,null,null,null,null,null,null,null,null,null,null,null,null,null,null,null,null,null,null,null,""]
[null,null,null,null,null,null,null,null,null,null,null,null,null,null,null,null,null,null,null,null,null,null,null,null,null,null,null,null,""]
[null,null,null,null,null,null,null,null,null,null,null,null,null,null,null,null,null,null,null,null,null,null,null,null,null,null,null,null,""]
[null,null,null,null,null,null,null,null,null,null,null,null,null,null,null,null,null,null,null,null,null,null,null,null,null,null,null,null,""]
[null,null,null,null,null,null,null,null,null,null,null,null,null,null,null,null,null,null,null,null,null,null,null,null,null,null,null,null,""]
[null,null,null,null,null,null,null,null,null,null,null,null,null,null,null,null,null,null,null,null,null,null,null,null,null,null,null,null,""]
[null,null,null,null,null,null,null,null,null,null,null,null,null,null,null,null,null,null,null,null,null,null,null,null,null,null,null,null,""]
[null,null,null,null,null,null,null,null,null,null,null,null,null,null,null,null,null,null,null,null,null,null,null,null,null,null,null,null,""]
[null,null,null,null,null,null,null,null,null,null,null,null,null,null,null,null,null,null,null,null,null,null,null,null,null,null,null,null,""]
[null,null,null,null,null,null,null,null,null,null,null,null,null,null,null,null,null,null,null,null,null,null,null,null,null,null,null,null,""]
[null,null,null,null,null,null,null,null,null,null,null,null,null,null,null,null,null,null,null,null,null,null,null,null,null,null,null,null,""]
[null,null,null,null,null,null,null,null,null,null,null,null,null,null,null,null,null,null,null,null,null,null,null,null,null,null,null,null,""]
[null,null,null,null,null,null,null,null,null,null,null,null,null,null,null,null,null,null,null,null,null,null,null,null,null,null,null,null,""]
[null,null,null,null,null,null,null,null,null,null,null,null,null,null,null,null,null,null,null,null,null,null,null,null,null,null,null,null,""]
[null,null,null,null,null,null,null,null,null,null,null,null,null,null,null,null,null,null,null,null,null,null,null,null,null,null,null,null,""]
[null,null,null,null,null,null,null,null,null,null,null,null,null,null,null,null,null,null,null,null,null,null,null,null,null,null,null,null,""]
[null,null,null,null,null,null,null,null,null,null,null,null,null,null,null,null,null,null,null,null,null,null,null,null,null,null,null,null,""]
[null,null,null,null,null,null,null,null,null,null,null,null,null,null,null,null,null,null,null,null,null,null,null,null,null,null,null,null,""]
[null,null,null,null,null,null,null,null,null,null,null,null,null,null,null,null,null,null,null,null,null,null,null,null,null,null,null,null,""]
[null,null,null,null,null,null,null,null,null,null,null,null,null,null,null,null,null,null,null,null,null,null,null,null,null,null,null,null,""]
[null,null,null,null,null,null,null,null,null,null,null,null,null,null,null,null,null,null,null,null,null,null,null,null,null,null,null,null,""]
[null,null,null,null,null,null,null,null,null,null,null,null,null,null,null,null,null,null,null,null,null,null,null,null,null,null,null,null,""]
[null,null,null,null,null,null,null,null,null,null,null,null,null,null,null,null,null,null,null,null,null,null,null,null,null,null,null,null,""]
[null,null,null,null,null,null,null,null,null,null,null,null,null,null,null,null,null,null,null,null,null,null,null,null,null,null,null,null,""]
[null,null,null,null,null,null,null,null,null,null,null,null,null,null,null,null,null,null,null,null,null,null,null,null,null,null,null,null,""]
[null,null,null,null,null,null,null,null,null,null,null,null,null,null,null,null,null,null,null,null,null,null,null,null,null,null,null,null,""]
[null,null,null,null,null,null,null,null,null,null,null,null,null,null,null,null,null,null,null,null,null,null,null,null,null,null,null,null,""]
[null,null,null,null,null,null,null,null,null,null,null,null,null,null,null,null,null,null,null,null,null,null,null,null,null,null,null,null,""]
[null,null,null,null,null,null,null,null,null,null,null,null,null,null,null,null,null,null,null,null,null,null,null,null,null,null,null,null,""]
[null,null,null,null,null,null,null,null,null,null,null,null,null,null,null,null,null,null,null,null,null,null,null,null,null,null,null,null,""]
[null,null,null,null,null,null,null,null,null,null,null,null,null,null,null,null,null,null,null,null,null,null,null,null,null,null,null,null,""]
[null,null,null,null,null,null,null,null,null,null,null,null,null,null,null,null,null,null,null,null,null,null,null,null,null,null,null,null,""]
[null,null,null,null,null,null,null,null,null,null,null,null,null,null,null,null,null,null,null,null,null,null,null,null,null,null,null,null,""]
[null,null,null,null,null,null,null,null,null,null,null,null,null,null,null,null,null,null,null,null,null,null,null,null,null,null,null,null,""]
[null,null,null,null,null,null,null,null,null,null,null,null,null,null,null,null,null,null,null,null,null,null,null,null,null,null,null,null,""]
[null,null,null,null,null,null,null,null,null,null,null,null,null,null,null,null,null,null,null,null,null,null,null,null,null,null,null,null,""]
[null,null,null,null,null,null,null,null,null,null,null,null,null,null,null,null,null,null,null,null,null,null,null,null,null,null,null,null,""]
[null,null,null,null,null,null,null,null,null,null,null,null,null,null,null,null,null,null,null,null,null,null,null,null,null,null,null,null,""]
[null,null,null,null,null,null,null,null,null,null,null,null,null,null,null,null,null,null,null,null,null,null,null,null,null,null,null,null,""]
[null,null,null,null,null,null,null,null,null,null,null,null,null,null,null,null,null,null,null,null,null,null,null,null,null,null,null,null,""]
[null,null,null,null,null,null,null,null,null,null,null,null,null,null,null,null,null,null,null,null,null,null,null,null,null,null,null,null,""]
[null,null,null,null,null,null,null,null,null,null,null,null,null,null,null,null,null,null,null,null,null,null,null,null,null,null,null,null,""]
[null,null,null,null,null,null,null,null,null,null,null,null,null,null,null,null,null,null,null,null,null,null,null,null,null,null,null,null,""]
[null,null,null,null,null,null,null,null,null,null,null,null,null,null,null,null,null,null,null,null,null,null,null,null,null,null,null,null,""]
[null,null,null,null,null,null,null,null,null,null,null,null,null,null,null,null,null,null,null,null,null,null,null,null,null,null,null,null,""]
[null,null,null,null,null,null,null,null,null,null,null,null,null,null,null,null,null,null,null,null,null,null,null,null,null,null,null,null,""]
[null,null,null,null,null,null,null,null,null,null,null,null,null,null,null,null,null,null,null,null,null,null,null,null,null,null,null,null,""]
[null,null,null,null,null,null,null,null,null,null,null,null,null,null,null,null,null,null,null,null,null,null,null,null,null,null,null,null,""]
[null,null,null,null,null,null,null,null,null,null,null,null,null,null,null,null,null,null,null,null,null,null,null,null,null,null,null,null,""]
[null,null,null,null,null,null,null,null,null,null,null,null,null,null,null,null,null,null,null,null,null,null,null,null,null,null,null,null,""]
[null,null,null,null,null,null,null,null,null,null,null,null,null,null,null,null,null,null,null,null,null,null,null,null,null,null,null,null,{"$f":"IF(ISBLANK(D67),\"\",ROW(D67)-3)","v":""}]
[null,null,null,null,null,null,null,null,null,null,null,null,null,null,null,null,null,null,null,null,null,null,null,null,null,null,null,null,""]
[null,null,null,null,null,null,null,null,null,null,null,null,null,null,null,null,null,null,null,null,null,null,null,null,null,null,null,null,""]
[null,null,null,null,null,null,null,null,null,null,null,null,null,null,null,null,null,null,null,null,null,null,null,null,null,null,null,null,""]
[null,null,null,null,null,null,null,null,null,null,null,null,null,null,null,null,null,null,null,null,null,null,null,null,null,null,null,null,""]
[null,null,null,null,null,null,null,null,null,null,null,null,null,null,null,null,null,null,null,null,null,null,null,null,null,null,null,null,""]
[null,null,null,null,null,null,null,null,null,null,null,null,null,null,null,null,null,null,null,null,null,null,null,null,null,null,null,null,""]
[null,null,null,null,null,null,null,null,null,null,null,null,null,null,null,null,null,null,null,null,null,null,null,null,null,null,null,null,""]
[null,null,null,null,null,null,null,null,null,null,null,null,null,null,null,null,null,null,null,null,null,null,null,null,null,null,null,null,""]
[null,null,null,null,null,null,null,null,null,null,null,null,null,null,null,null,null,null,null,null,null,null,null,null,null,null,null,null,""]
[null,null,null,null,null,null,null,null,null,null,null,null,null,null,null,null,null,null,null,null,null,null,null,null,null,null,null,null,""]
[null,null,null,null,null,null,null,null,null,null,null,null,null,null,null,null,null,null,null,null,null,null,null,null,null,null,null,null,""]
[null,null,null,null,null,null,null,null,null,null,null,null,null,null,null,null,null,null,null,null,null,null,null,null,null,null,null,null,""]
[null,null,null,null,null,null,null,null,null,null,null,null,null,null,null,null,null,null,null,null,null,null,null,null,null,null,null,null,""]
[null,null,null,null,null,null,null,null,null,null,null,null,null,null,null,null,null,null,null,null,null,null,null,null,null,null,null,null,""]
[null,null,null,null,null,null,null,null,null,null,null,null,null,null,null,null,null,null,null,null,null,null,null,null,null,null,null,null,""]
[null,null,null,null,null,null,null,null,null,null,null,null,null,null,null,null,null,null,null,null,null,null,null,null,null,null,null,null,""]
[null,null,null,null,null,null,null,null,null,null,null,null,null,null,null,null,null,null,null,null,null,null,null,null,null,null,null,null,""]
[null,null,null,null,null,null,null,null,null,null,null,null,null,null,null,null,null,null,null,null,null,null,null,null,null,null,null,null,""]
[null,null,null,null,null,null,null,null,null,null,null,null,null,null,null,null,null,null,null,null,null,null,null,null,null,null,null,null,""]
[null,null,null,null,null,null,null,null,null,null,null,null,null,null,null,null,null,null,null,null,null,null,null,null,null,null,null,null,""]
[null,null,null,null,null,null,null,null,null,null,null,null,null,null,null,null,null,null,null,null,null,null,null,null,null,null,null,null,""]
[null,null,null,null,null,null,null,null,null,null,null,null,null,null,null,null,null,null,null,null,null,null,null,null,null,null,null,null,""]
[null,null,null,null,null,null,null,null,null,null,null,null,null,null,null,null,null,null,null,null,null,null,null,null,null,null,null,null,""]
[null,null,null,null,null,null,null,null,null,null,null,null,null,null,null,null,null,null,null,null,null,null,null,null,null,null,null,null,""]
[null,null,null,null,null,null,null,null,null,null,null,null,null,null,null,null,null,null,null,null,null,null,null,null,null,null,null,null,""]
[null,null,null,null,null,null,null,null,null,null,null,null,null,null,null,null,null,null,null,null,null,null,null,null,null,null,null,null,""]
[null,null,null,null,null,null,null,null,null,null,null,null,null,null,null,null,null,null,null,null,null,null,null,null,null,null,null,null,""]
[null,null,null,null,null,null,null,null,null,null,null,null,null,null,null,null,null,null,null,null,null,null,null,null,null,null,null,null,""]
[null,null,null,null,null,null,null,null,null,null,null,null,null,null,null,null,null,null,null,null,null,null,null,null,null,null,null,null,""]
[null,null,null,null,null,null,null,null,null,null,null,null,null,null,null,null,null,null,null,null,null,null,null,null,null,null,null,null,""]
[null,null,null,null,null,null,null,null,null,null,null,null,null,null,null,null,null,null,null,null,null,null,null,null,null,null,null,null,""]
[null,null,null,null,null,null,null,null,null,null,null,null,null,null,null,null,null,null,null,null,null,null,null,null,null,null,null,null,""]
[null,null,null,null,null,null,null,null,null,null,null,null,null,null,null,null,null,null,null,null,null,null,null,null,null,null,null,null,""]
[null,null,null,null,null,null,null,null,null,null,null,null,null,null,null,null,null,null,null,null,null,null,null,null,null,null,null,null,""]
[null,null,null,null,null,null,null,null,null,null,null,null,null,null,null,null,null,null,null,null,null,null,null,null,null,null,null,null,""]
[null,null,null,null,null,null,null,null,null,null,null,null,null,null,null,null,null,null,null,null,null,null,null,null,null,null,null,null,""]
[null,null,null,null,null,null,null,null,null,null,null,null,null,null,null,null,null,null,null,null,null,null,null,null,null,null,null,null,""]
[null,null,null,null,null,null,null,null,null,null,null,null,null,null,null,null,null,null,null,null,null,null,null,null,null,null,null,null,""]
[null,null,null,null,null,null,null,null,null,null,null,null,null,null,null,null,null,null,null,null,null,null,null,null,null,null,null,null,""]
[null,null,null,null,null,null,null,null,null,null,null,null,null,null,null,null,null,null,null,null,null,null,null,null,null,null,null,null,""]
[null,null,null,null,null,null,null,null,null,null,null,null,null,null,null,null,null,null,null,null,null,null,null,null,null,null,null,null,""]
[null,null,null,null,null,null,null,null,null,null,null,null,null,null,null,null,null,null,null,null,null,null,null,null,null,null,null,null,""]
[null,null,null,null,null,null,null,null,null,null,null,null,null,null,null,null,null,null,null,null,null,null,null,null,null,null,null,null,""]
[null,null,null,null,null,null,null,null,null,null,null,null,null,null,null,null,null,null,null,null,null,null,null,null,null,null,null,null,""]
[null,null,null,null,null,null,null,null,null,null,null,null,null,null,null,null,null,null,null,null,null,null,null,null,null,null,null,null,""]
[null,null,null,null,null,null,null,null,null,null,null,null,null,null,null,null,null,null,null,null,null,null,null,null,null,null,null,null,""]
[null,null,null,null,null,null,null,null,null,null,null,null,null,null,null,null,null,null,null,null,null,null,null,null,null,null,null,null,""]
[null,null,null,null,null,null,null,null,null,null,null,null,null,null,null,null,null,null,null,null,null,null,null,null,null,null,null,null,""]
[null,null,null,null,null,null,null,null,null,null,null,null,null,null,null,null,null,null,null,null,null,null,null,null,null,null,null,null,""]
[null,null,null,null,null,null,null,null,null,null,null,null,null,null,null,null,null,null,null,null,null,null,null,null,null,null,null,null,""]
[null,null,null,null,null,null,null,null,null,null,null,null,null,null,null,null,null,null,null,null,null,null,null,null,null,null,null,null,""]
[null,null,null,null,null,null,null,null,null,null,null,null,null,null,null,null,null,null,null,null,null,null,null,null,null,null,null,null,""]
[null,null,null,null,null,null,null,null,null,null,null,null,null,null,null,null,null,null,null,null,null,null,null,null,null,null,null,null,""]
[null,null,null,null,null,null,null,null,null,null,null,null,null,null,null,null,null,null,null,null,null,null,null,null,null,null,null,null,""]
[null,null,null,null,null,null,null,null,null,null,null,null,null,null,null,null,null,null,null,null,null,null,null,null,null,null,null,null,""]
[null,null,null,null,null,null,null,null,null,null,null,null,null,null,null,null,null,null,null,null,null,null,null,null,null,null,null,null,""]
[null,null,null,null,null,null,null,null,null,null,null,null,null,null,null,null,null,null,null,null,null,null,null,null,null,null,null,null,""]
[null,null,null,null,null,null,null,null,null,null,null,null,null,null,null,null,null,null,null,null,null,null,null,null,null,null,null,null,""]
[null,null,null,null,null,null,null,null,null,null,null,null,null,null,null,null,null,null,null,null,null,null,null,null,null,null,null,null,""]
[null,null,null,null,null,null,null,null,null,null,null,null,null,null,null,null,null,null,null,null,null,null,null,null,null,null,null,null,""]
[null,null,null,null,null,null,null,null,null,null,null,null,null,null,null,null,null,null,null,null,null,null,null,null,null,null,null,null,""]
[null,null,null,null,null,null,null,null,null,null,null,null,null,null,null,null,null,null,null,null,null,null,null,null,null,null,null,null,""]
[null,null,null,null,null,null,null,null,null,null,null,null,null,null,null,null,null,null,null,null,null,null,null,null,null,null,null,null,""]
[null,null,null,null,null,null,null,null,null,null,null,null,null,null,null,null,null,null,null,null,null,null,null,null,null,null,null,null,{"$f":"IF(ISBLANK(D131),\"\",ROW(D131)-3)","v":""}]
[null,null,null,null,null,null,null,null,null,null,null,null,null,null,null,null,null,null,null,null,null,null,null,null,null,null,null,null,""]
[null,null,null,null,null,null,null,null,null,null,null,null,null,null,null,null,null,null,null,null,null,null,null,null,null,null,null,null,""]
[null,null,null,null,null,null,null,null,null,null,null,null,null,null,null,null,null,null,null,null,null,null,null,null,null,null,null,null,""]
[null,null,null,null,null,null,null,null,null,null,null,null,null,null,null,null,null,null,null,null,null,null,null,null,null,null,null,null,""]
[null,null,null,null,null,null,null,null,null,null,null,null,null,null,null,null,null,null,null,null,null,null,null,null,null,null,null,null,""]
[null,null,null,null,null,null,null,null,null,null,null,null,null,null,null,null,null,null,null,null,null,null,null,null,null,null,null,null,""]
[null,null,null,null,null,null,null,null,null,null,null,null,null,null,null,null,null,null,null,null,null,null,null,null,null,null,null,null,""]
[null,null,null,null,null,null,null,null,null,null,null,null,null,null,null,null,null,null,null,null,null,null,null,null,null,null,null,null,""]
[null,null,null,null,null,null,null,null,null,null,null,null,null,null,null,null,null,null,null,null,null,null,null,null,null,null,null,null,""]
[null,null,null,null,null,null,null,null,null,null,null,null,null,null,null,null,null,null,null,null,null,null,null,null,null,null,null,null,""]
[null,null,null,null,null,null,null,null,null,null,null,null,null,null,null,null,null,null,null,null,null,null,null,null,null,null,null,null,""]
[null,null,null,null,null,null,null,null,null,null,null,null,null,null,null,null,null,null,null,null,null,null,null,null,null,null,null,null,""]
[null,null,null,null,null,null,null,null,null,null,null,null,null,null,null,null,null,null,null,null,null,null,null,null,null,null,null,null,""]
[null,null,null,null,null,null,null,null,null,null,null,null,null,null,null,null,null,null,null,null,null,null,null,null,null,null,null,null,""]
[null,null,null,null,null,null,null,null,null,null,null,null,null,null,null,null,null,null,null,null,null,null,null,null,null,null,null,null,""]
[null,null,null,null,null,null,null,null,null,null,null,null,null,null,null,null,null,null,null,null,null,null,null,null,null,null,null,null,""]
[null,null,null,null,null,null,null,null,null,null,null,null,null,null,null,null,null,null,null,null,null,null,null,null,null,null,null,null,""]
[null,null,null,null,null,null,null,null,null,null,null,null,null,null,null,null,null,null,null,null,null,null,null,null,null,null,null,null,""]
[null,null,null,null,null,null,null,null,null,null,null,null,null,null,null,null,null,null,null,null,null,null,null,null,null,null,null,null,""]
[null,null,null,null,null,null,null,null,null,null,null,null,null,null,null,null,null,null,null,null,null,null,null,null,null,null,null,null,""]
[null,null,null,null,null,null,null,null,null,null,null,null,null,null,null,null,null,null,null,null,null,null,null,null,null,null,null,null,""]
[null,null,null,null,null,null,null,null,null,null,null,null,null,null,null,null,null,null,null,null,null,null,null,null,null,null,null,null,""]
[null,null,null,null,null,null,null,null,null,null,null,null,null,null,null,null,null,null,null,null,null,null,null,null,null,null,null,null,""]
[null,null,null,null,null,null,null,null,null,null,null,null,null,null,null,null,null,null,null,null,null,null,null,null,null,null,null,null,""]
[null,null,null,null,null,null,null,null,null,null,null,null,null,null,null,null,null,null,null,null,null,null,null,null,null,null,null,null,""]
[null,null,null,null,null,null,null,null,null,null,null,null,null,null,null,null,null,null,null,null,null,null,null,null,null,null,null,null,""]
[null,null,null,null,null,null,null,null,null,null,null,null,null,null,null,null,null,null,null,null,null,null,null,null,null,null,null,null,""]
[null,null,null,null,null,null,null,null,null,null,null,null,null,null,null,null,null,null,null,null,null,null,null,null,null,null,null,null,""]
[null,null,null,null,null,null,null,null,null,null,null,null,null,null,null,null,null,null,null,null,null,null,null,null,null,null,null,null,""]
[null,null,null,null,null,null,null,null,null,null,null,null,null,null,null,null,null,null,null,null,null,null,null,null,null,null,null,null,""]
[null,null,null,null,null,null,null,null,null,null,null,null,null,null,null,null,null,null,null,null,null,null,null,null,null,null,null,null,""]
[null,null,null,null,null,null,null,null,null,null,null,null,null,null,null,null,null,null,null,null,null,null,null,null,null,null,null,null,""]
[null,null,null,null,null,null,null,null,null,null,null,null,null,null,null,null,null,null,null,null,null,null,null,null,null,null,null,null,""]
[null,null,null,null,null,null,null,null,null,null,null,null,null,null,null,null,null,null,null,null,null,null,null,null,null,null,null,null,""]
[null,null,null,null,null,null,null,null,null,null,null,null,null,null,null,null,null,null,null,null,null,null,null,null,null,null,null,null,""]
[null,null,null,null,null,null,null,null,null,null,null,null,null,null,null,null,null,null,null,null,null,null,null,null,null,null,null,null,""]
[null,null,null,null,null,null,null,null,null,null,null,null,null,null,null,null,null,null,null,null,null,null,null,null,null,null,null,null,""]
[null,null,null,null,null,null,null,null,null,null,null,null,null,null,null,null,null,null,null,null,null,null,null,null,null,null,null,null,""]
[null,null,null,null,null,null,null,null,null,null,null,null,null,null,null,null,null,null,null,null,null,null,null,null,null,null,null,null,""]
[null,null,null,null,null,null,null,null,null,null,null,null,null,null,null,null,null,null,null,null,null,null,null,null,null,null,null,null,""]
[null,null,null,null,null,null,null,null,null,null,null,null,null,null,null,null,null,null,null,null,null,null,null,null,null,null,null,null,""]
[null,null,null,null,null,null,null,null,null,null,null,null,null,null,null,null,null,null,null,null,null,null,null,null,null,null,null,null,""]
[null,null,null,null,null,null,null,null,null,null,null,null,null,null,null,null,null,null,null,null,null,null,null,null,null,null,null,null,""]
[null,null,null,null,null,null,null,null,null,null,null,null,null,null,null,null,null,null,null,null,null,null,null,null,null,null,null,null,""]
[null,null,null,null,null,null,null,null,null,null,null,null,null,null,null,null,null,null,null,null,null,null,null,null,null,null,null,null,""]
[null,null,null,null,null,null,null,null,null,null,null,null,null,null,null,null,null,null,null,null,null,null,null,null,null,null,null,null,""]
[null,null,null,null,null,null,null,null,null,null,null,null,null,null,null,null,null,null,null,null,null,null,null,null,null,null,null,null,""]
[null,null,null,null,null,null,null,null,null,null,null,null,null,null,null,null,null,null,null,null,null,null,null,null,null,null,null,null,""]
[null,null,null,null,null,null,null,null,null,null,null,null,null,null,null,null,null,null,null,null,null,null,null,null,null,null,null,null,""]
[null,null,null,null,null,null,null,null,null,null,null,null,null,null,null,null,null,null,null,null,null,null,null,null,null,null,null,null,""]
[null,null,null,null,null,null,null,null,null,null,null,null,null,null,null,null,null,null,null,null,null,null,null,null,null,null,null,null,""]
[null,null,null,null,null,null,null,null,null,null,null,null,null,null,null,null,null,null,null,null,null,null,null,null,null,null,null,null,""]
[null,null,null,null,null,null,null,null,null,null,null,null,null,null,null,null,null,null,null,null,null,null,null,null,null,null,null,null,""]
[null,null,null,null,null,null,null,null,null,null,null,null,null,null,null,null,null,null,null,null,null,null,null,null,null,null,null,null,""]
[null,null,null,null,null,null,null,null,null,null,null,null,null,null,null,null,null,null,null,null,null,null,null,null,null,null,null,null,""]
[null,null,null,null,null,null,null,null,null,null,null,null,null,null,null,null,null,null,null,null,null,null,null,null,null,null,null,null,""]
[null,null,null,null,null,null,null,null,null,null,null,null,null,null,null,null,null,null,null,null,null,null,null,null,null,null,null,null,""]
[null,null,null,null,null,null,null,null,null,null,null,null,null,null,null,null,null,null,null,null,null,null,null,null,null,null,null,null,""]
[null,null,null,null,null,null,null,null,null,null,null,null,null,null,null,null,null,null,null,null,null,null,null,null,null,null,null,null,""]
[null,null,null,null,null,null,null,null,null,null,null,null,null,null,null,null,null,null,null,null,null,null,null,null,null,null,null,null,""]
[null,null,null,null,null,null,null,null,null,null,null,null,null,null,null,null,null,null,null,null,null,null,null,null,null,null,null,null,""]
[null,null,null,null,null,null,null,null,null,null,null,null,null,null,null,null,null,null,null,null,null,null,null,null,null,null,null,null,""]
[null,null,null,null,null,null,null,null,null,null,null,null,null,null,null,null,null,null,null,null,null,null,null,null,null,null,null,null,""]
[null,null,null,null,null,null,null,null,null,null,null,null,null,null,null,null,null,null,null,null,null,null,null,null,null,null,null,null,{"$f":"IF(ISBLANK(D195),\"\",ROW(D195)-3)","v":""}]
[null,null,null,null,null,null,null,null,null,null,null,null,null,null,null,null,null,null,null,null,null,null,null,null,null,null,null,null,""]
[null,null,null,null,null,null,null,null,null,null,null,null,null,null,null,null,null,null,null,null,null,null,null,null,null,null,null,null,""]
[null,null,null,null,null,null,null,null,null,null,null,null,null,null,null,null,null,null,null,null,null,null,null,null,null,null,null,null,""]
[null,null,null,null,null,null,null,null,null,null,null,null,null,null,null,null,null,null,null,null,null,null,null,null,null,null,null,null,""]
[null,null,null,null,null,null,null,null,null,null,null,null,null,null,null,null,null,null,null,null,null,null,null,null,null,null,null,null,""]
[null,null,null,null,null,null,null,null,null,null,null,null,null,null,null,null,null,null,null,null,null,null,null,null,null,null,null,null,""]
[null,null,null,null,null,null,null,null,null,null,null,null,null,null,null,null,null,null,null,null,null,null,null,null,null,null,null,null,""]
[null,null,null,null,null,null,null,null,null,null,null,null,null,null,null,null,null,null,null,null,null,null,null,null,null,null,null,null,""]
[null,null,null,null,null,null,null,null,null,null,null,null,null,null,null,null,null,null,null,null,null,null,null,null,null,null,null,null,""]
[null,null,null,null,null,null,null,null,null,null,null,null,null,null,null,null,null,null,null,null,null,null,null,null,null,null,null,null,""]
[null,null,null,null,null,null,null,null,null,null,null,null,null,null,null,null,null,null,null,null,null,null,null,null,null,null,null,null,""]
[null,null,null,null,null,null,null,null,null,null,null,null,null,null,null,null,null,null,null,null,null,null,null,null,null,null,null,null,""]
[null,null,null,null,null,null,null,null,null,null,null,null,null,null,null,null,null,null,null,null,null,null,null,null,null,null,null,null,""]
[null,null,null,null,null,null,null,null,null,null,null,null,null,null,null,null,null,null,null,null,null,null,null,null,null,null,null,null,""]
[null,null,null,null,null,null,null,null,null,null,null,null,null,null,null,null,null,null,null,null,null,null,null,null,null,null,null,null,""]
[null,null,null,null,null,null,null,null,null,null,null,null,null,null,null,null,null,null,null,null,null,null,null,null,null,null,null,null,""]
[null,null,null,null,null,null,null,null,null,null,null,null,null,null,null,null,null,null,null,null,null,null,null,null,null,null,null,null,""]
[null,null,null,null,null,null,null,null,null,null,null,null,null,null,null,null,null,null,null,null,null,null,null,null,null,null,null,null,""]
[null,null,null,null,null,null,null,null,null,null,null,null,null,null,null,null,null,null,null,null,null,null,null,null,null,null,null,null,""]
[null,null,null,null,null,null,null,null,null,null,null,null,null,null,null,null,null,null,null,null,null,null,null,null,null,null,null,null,""]
[null,null,null,null,null,null,null,null,null,null,null,null,null,null,null,null,null,null,null,null,null,null,null,null,null,null,null,null,""]
[null,null,null,null,null,null,null,null,null,null,null,null,null,null,null,null,null,null,null,null,null,null,null,null,null,null,null,null,""]
[null,null,null,null,null,null,null,null,null,null,null,null,null,null,null,null,null,null,null,null,null,null,null,null,null,null,null,null,""]
[null,null,null,null,null,null,null,null,null,null,null,null,null,null,null,null,null,null,null,null,null,null,null,null,null,null,null,null,""]
[null,null,null,null,null,null,null,null,null,null,null,null,null,null,null,null,null,null,null,null,null,null,null,null,null,null,null,null,""]
[null,null,null,null,null,null,null,null,null,null,null,null,null,null,null,null,null,null,null,null,null,null,null,null,null,null,null,null,""]
[null,null,null,null,null,null,null,null,null,null,null,null,null,null,null,null,null,null,null,null,null,null,null,null,null,null,null,null,""]
[null,null,null,null,null,null,null,null,null,null,null,null,null,null,null,null,null,null,null,null,null,null,null,null,null,null,null,null,""]
[null,null,null,null,null,null,null,null,null,null,null,null,null,null,null,null,null,null,null,null,null,null,null,null,null,null,null,null,""]
[null,null,null,null,null,null,null,null,null,null,null,null,null,null,null,null,null,null,null,null,null,null,null,null,null,null,null,null,""]
[null,null,null,null,null,null,null,null,null,null,null,null,null,null,null,null,null,null,null,null,null,null,null,null,null,null,null,null,""]
[null,null,null,null,null,null,null,null,null,null,null,null,null,null,null,null,null,null,null,null,null,null,null,null,null,null,null,null,""]
[null,null,null,null,null,null,null,null,null,null,null,null,null,null,null,null,null,null,null,null,null,null,null,null,null,null,null,null,""]
[null,null,null,null,null,null,null,null,null,null,null,null,null,null,null,null,null,null,null,null,null,null,null,null,null,null,null,null,""]
[null,null,null,null,null,null,null,null,null,null,null,null,null,null,null,null,null,null,null,null,null,null,null,null,null,null,null,null,""]
[null,null,null,null,null,null,null,null,null,null,null,null,null,null,null,null,null,null,null,null,null,null,null,null,null,null,null,null,""]
[null,null,null,null,null,null,null,null,null,null,null,null,null,null,null,null,null,null,null,null,null,null,null,null,null,null,null,null,""]
[null,null,null,null,null,null,null,null,null,null,null,null,null,null,null,null,null,null,null,null,null,null,null,null,null,null,null,null,""]
[null,null,null,null,null,null,null,null,null,null,null,null,null,null,null,null,null,null,null,null,null,null,null,null,null,null,null,null,""]
[null,null,null,null,null,null,null,null,null,null,null,null,null,null,null,null,null,null,null,null,null,null,null,null,null,null,null,null,""]
[null,null,null,null,null,null,null,null,null,null,null,null,null,null,null,null,null,null,null,null,null,null,null,null,null,null,null,null,""]
[null,null,null,null,null,null,null,null,null,null,null,null,null,null,null,null,null,null,null,null,null,null,null,null,null,null,null,null,""]
[null,null,null,null,null,null,null,null,null,null,null,null,null,null,null,null,null,null,null,null,null,null,null,null,null,null,null,null,""]
[null,null,null,null,null,null,null,null,null,null,null,null,null,null,null,null,null,null,null,null,null,null,null,null,null,null,null,null,""]
[null,null,null,null,null,null,null,null,null,null,null,null,null,null,null,null,null,null,null,null,null,null,null,null,null,null,null,null,""]
[null,null,null,null,null,null,null,null,null,null,null,null,null,null,null,null,null,null,null,null,null,null,null,null,null,null,null,null,""]
[null,null,null,null,null,null,null,null,null,null,null,null,null,null,null,null,null,null,null,null,null,null,null,null,null,null,null,null,""]
[null,null,null,null,null,null,null,null,null,null,null,null,null,null,null,null,null,null,null,null,null,null,null,null,null,null,null,null,""]
[null,null,null,null,null,null,null,null,null,null,null,null,null,null,null,null,null,null,null,null,null,null,null,null,null,null,null,null,""]
[null,null,null,null,null,null,null,null,null,null,null,null,null,null,null,null,null,null,null,null,null,null,null,null,null,null,null,null,""]
[null,null,null,null,null,null,null,null,null,null,null,null,null,null,null,null,null,null,null,null,null,null,null,null,null,null,null,null,""]
[null,null,null,null,null,null,null,null,null,null,null,null,null,null,null,null,null,null,null,null,null,null,null,null,null,null,null,null,""]
[null,null,null,null,null,null,null,null,null,null,null,null,null,null,null,null,null,null,null,null,null,null,null,null,null,null,null,null,""]
[null,null,null,null,null,null,null,null,null,null,null,null,null,null,null,null,null,null,null,null,null,null,null,null,null,null,null,null,""]
[null,null,null,null,null,null,null,null,null,null,null,null,null,null,null,null,null,null,null,null,null,null,null,null,null,null,null,null,""]
[null,null,null,null,null,null,null,null,null,null,null,null,null,null,null,null,null,null,null,null,null,null,null,null,null,null,null,null,""]
[null,null,null,null,null,null,null,null,null,null,null,null,null,null,null,null,null,null,null,null,null,null,null,null,null,null,null,null,""]
[null,null,null,null,null,null,null,null,null,null,null,null,null,null,null,null,null,null,null,null,null,null,null,null,null,null,null,null,""]
[null,null,null,null,null,null,null,null,null,null,null,null,null,null,null,null,null,null,null,null,null,null,null,null,null,null,null,null,""]
[null,null,null,null,null,null,null,null,null,null,null,null,null,null,null,null,null,null,null,null,null,null,null,null,null,null,null,null,""]
[null,null,null,null,null,null,null,null,null,null,null,null,null,null,null,null,null,null,null,null,null,null,null,null,null,null,null,null,""]
[null,null,null,null,null,null,null,null,null,null,null,null,null,null,null,null,null,null,null,null,null,null,null,null,null,null,null,null,""]
[null,null,null,null,null,null,null,null,null,null,null,null,null,null,null,null,null,null,null,null,null,null,null,null,null,null,null,null,""]
[null,null,null,null,null,null,null,null,null,null,null,null,null,null,null,null,null,null,null,null,null,null,null,null,null,null,null,null,{"$f":"IF(ISBLANK(D259),\"\",ROW(D259)-3)","v":""}]
[null,null,null,null,null,null,null,null,null,null,null,null,null,null,null,null,null,null,null,null,null,null,null,null,null,null,null,null,""]
[null,null,null,null,null,null,null,null,null,null,null,null,null,null,null,null,null,null,null,null,null,null,null,null,null,null,null,null,""]
[null,null,null,null,null,null,null,null,null,null,null,null,null,null,null,null,null,null,null,null,null,null,null,null,null,null,null,null,""]
[null,null,null,null,null,null,null,null,null,null,null,null,null,null,null,null,null,null,null,null,null,null,null,null,null,null,null,null,""]
[null,null,null,null,null,null,null,null,null,null,null,null,null,null,null,null,null,null,null,null,null,null,null,null,null,null,null,null,""]
[null,null,null,null,null,null,null,null,null,null,null,null,null,null,null,null,null,null,null,null,null,null,null,null,null,null,null,null,""]
[null,null,null,null,null,null,null,null,null,null,null,null,null,null,null,null,null,null,null,null,null,null,null,null,null,null,null,null,""]
[null,null,null,null,null,null,null,null,null,null,null,null,null,null,null,null,null,null,null,null,null,null,null,null,null,null,null,null,""]
[null,null,null,null,null,null,null,null,null,null,null,null,null,null,null,null,null,null,null,null,null,null,null,null,null,null,null,null,""]
[null,null,null,null,null,null,null,null,null,null,null,null,null,null,null,null,null,null,null,null,null,null,null,null,null,null,null,null,""]
[null,null,null,null,null,null,null,null,null,null,null,null,null,null,null,null,null,null,null,null,null,null,null,null,null,null,null,null,""]
[null,null,null,null,null,null,null,null,null,null,null,null,null,null,null,null,null,null,null,null,null,null,null,null,null,null,null,null,""]
[null,null,null,null,null,null,null,null,null,null,null,null,null,null,null,null,null,null,null,null,null,null,null,null,null,null,null,null,""]
[null,null,null,null,null,null,null,null,null,null,null,null,null,null,null,null,null,null,null,null,null,null,null,null,null,null,null,null,""]
[null,null,null,null,null,null,null,null,null,null,null,null,null,null,null,null,null,null,null,null,null,null,null,null,null,null,null,null,""]
[null,null,null,null,null,null,null,null,null,null,null,null,null,null,null,null,null,null,null,null,null,null,null,null,null,null,null,null,""]
[null,null,null,null,null,null,null,null,null,null,null,null,null,null,null,null,null,null,null,null,null,null,null,null,null,null,null,null,""]
[null,null,null,null,null,null,null,null,null,null,null,null,null,null,null,null,null,null,null,null,null,null,null,null,null,null,null,null,""]
[null,null,null,null,null,null,null,null,null,null,null,null,null,null,null,null,null,null,null,null,null,null,null,null,null,null,null,null,""]
[null,null,null,null,null,null,null,null,null,null,null,null,null,null,null,null,null,null,null,null,null,null,null,null,null,null,null,null,""]
[null,null,null,null,null,null,null,null,null,null,null,null,null,null,null,null,null,null,null,null,null,null,null,null,null,null,null,null,""]
[null,null,null,null,null,null,null,null,null,null,null,null,null,null,null,null,null,null,null,null,null,null,null,null,null,null,null,null,""]
[null,null,null,null,null,null,null,null,null,null,null,null,null,null,null,null,null,null,null,null,null,null,null,null,null,null,null,null,""]
[null,null,null,null,null,null,null,null,null,null,null,null,null,null,null,null,null,null,null,null,null,null,null,null,null,null,null,null,""]
[null,null,null,null,null,null,null,null,null,null,null,null,null,null,null,null,null,null,null,null,null,null,null,null,null,null,null,null,""]
[null,null,null,null,null,null,null,null,null,null,null,null,null,null,null,null,null,null,null,null,null,null,null,null,null,null,null,null,""]
[null,null,null,null,null,null,null,null,null,null,null,null,null,null,null,null,null,null,null,null,null,null,null,null,null,null,null,null,""]
[null,null,null,null,null,null,null,null,null,null,null,null,null,null,null,null,null,null,null,null,null,null,null,null,null,null,null,null,""]
[null,null,null,null,null,null,null,null,null,null,null,null,null,null,null,null,null,null,null,null,null,null,null,null,null,null,null,null,""]
[null,null,null,null,null,null,null,null,null,null,null,null,null,null,null,null,null,null,null,null,null,null,null,null,null,null,null,null,""]
[null,null,null,null,null,null,null,null,null,null,null,null,null,null,null,null,null,null,null,null,null,null,null,null,null,null,null,null,""]
[null,null,null,null,null,null,null,null,null,null,null,null,null,null,null,null,null,null,null,null,null,null,null,null,null,null,null,null,""]
[null,null,null,null,null,null,null,null,null,null,null,null,null,null,null,null,null,null,null,null,null,null,null,null,null,null,null,null,""]
[null,null,null,null,null,null,null,null,null,null,null,null,null,null,null,null,null,null,null,null,null,null,null,null,null,null,null,null,""]
[null,null,null,null,null,null,null,null,null,null,null,null,null,null,null,null,null,null,null,null,null,null,null,null,null,null,null,null,""]
[null,null,null,null,null,null,null,null,null,null,null,null,null,null,null,null,null,null,null,null,null,null,null,null,null,null,null,null,""]
[null,null,null,null,null,null,null,null,null,null,null,null,null,null,null,null,null,null,null,null,null,null,null,null,null,null,null,null,""]
[null,null,null,null,null,null,null,null,null,null,null,null,null,null,null,null,null,null,null,null,null,null,null,null,null,null,null,null,""]
[null,null,null,null,null,null,null,null,null,null,null,null,null,null,null,null,null,null,null,null,null,null,null,null,null,null,null,null,""]
[null,null,null,null,null,null,null,null,null,null,null,null,null,null,null,null,null,null,null,null,null,null,null,null,null,null,null,null,""]
[null,null,null,null,null,null,null,null,null,null,null,null,null,null,null,null,null,null,null,null,null,null,null,null,null,null,null,null,""]
[null,null,null,null,null,null,null,null,null,null,null,null,null,null,null,null,null,null,null,null,null,null,null,null,null,null,null,null,""]
[null,null,null,null,null,null,null,null,null,null,null,null,null,null,null,null,null,null,null,null,null,null,null,null,null,null,null,null,""]
[null,null,null,null,null,null,null,null,null,null,null,null,null,null,null,null,null,null,null,null,null,null,null,null,null,null,null,null,""]
[null,null,null,null,null,null,null,null,null,null,null,null,null,null,null,null,null,null,null,null,null,null,null,null,null,null,null,null,""]
[null,null,null,null,null,null,null,null,null,null,null,null,null,null,null,null,null,null,null,null,null,null,null,null,null,null,null,null,""]
[null,null,null,null,null,null,null,null,null,null,null,null,null,null,null,null,null,null,null,null,null,null,null,null,null,null,null,null,""]
[null,null,null,null,null,null,null,null,null,null,null,null,null,null,null,null,null,null,null,null,null,null,null,null,null,null,null,null,""]
[null,null,null,null,null,null,null,null,null,null,null,null,null,null,null,null,null,null,null,null,null,null,null,null,null,null,null,null,""]
[null,null,null,null,null,null,null,null,null,null,null,null,null,null,null,null,null,null,null,null,null,null,null,null,null,null,null,null,""]
[null,null,null,null,null,null,null,null,null,null,null,null,null,null,null,null,null,null,null,null,null,null,null,null,null,null,null,null,""]
[null,null,null,null,null,null,null,null,null,null,null,null,null,null,null,null,null,null,null,null,null,null,null,null,null,null,null,null,""]
[null,null,null,null,null,null,null,null,null,null,null,null,null,null,null,null,null,null,null,null,null,null,null,null,null,null,null,null,""]
[null,null,null,null,null,null,null,null,null,null,null,null,null,null,null,null,null,null,null,null,null,null,null,null,null,null,null,null,""]
[null,null,null,null,null,null,null,null,null,null,null,null,null,null,null,null,null,null,null,null,null,null,null,null,null,null,null,null,""]
[null,null,null,null,null,null,null,null,null,null,null,null,null,null,null,null,null,null,null,null,null,null,null,null,null,null,null,null,""]
[null,null,null,null,null,null,null,null,null,null,null,null,null,null,null,null,null,null,null,null,null,null,null,null,null,null,null,null,""]
[null,null,null,null,null,null,null,null,null,null,null,null,null,null,null,null,null,null,null,null,null,null,null,null,null,null,null,null,""]
[null,null,null,null,null,null,null,null,null,null,null,null,null,null,null,null,null,null,null,null,null,null,null,null,null,null,null,null,""]
[null,null,null,null,null,null,null,null,null,null,null,null,null,null,null,null,null,null,null,null,null,null,null,null,null,null,null,null,""]
[null,null,null,null,null,null,null,null,null,null,null,null,null,null,null,null,null,null,null,null,null,null,null,null,null,null,null,null,""]
[null,null,null,null,null,null,null,null,null,null,null,null,null,null,null,null,null,null,null,null,null,null,null,null,null,null,null,null,""]
[null,null,null,null,null,null,null,null,null,null,null,null,null,null,null,null,null,null,null,null,null,null,null,null,null,null,null,null,""]
[null,null,null,null,null,null,null,null,null,null,null,null,null,null,null,null,null,null,null,null,null,null,null,null,null,null,null,null,{"$f":"IF(ISBLANK(D323),\"\",ROW(D323)-3)","v":""}]
[null,null,null,null,null,null,null,null,null,null,null,null,null,null,null,null,null,null,null,null,null,null,null,null,null,null,null,null,""]
[null,null,null,null,null,null,null,null,null,null,null,null,null,null,null,null,null,null,null,null,null,null,null,null,null,null,null,null,""]
[null,null,null,null,null,null,null,null,null,null,null,null,null,null,null,null,null,null,null,null,null,null,null,null,null,null,null,null,""]
[null,null,null,null,null,null,null,null,null,null,null,null,null,null,null,null,null,null,null,null,null,null,null,null,null,null,null,null,""]
[null,null,null,null,null,null,null,null,null,null,null,null,null,null,null,null,null,null,null,null,null,null,null,null,null,null,null,null,""]
[null,null,null,null,null,null,null,null,null,null,null,null,null,null,null,null,null,null,null,null,null,null,null,null,null,null,null,null,""]
[null,null,null,null,null,null,null,null,null,null,null,null,null,null,null,null,null,null,null,null,null,null,null,null,null,null,null,null,""]
[null,null,null,null,null,null,null,null,null,null,null,null,null,null,null,null,null,null,null,null,null,null,null,null,null,null,null,null,""]
[null,null,null,null,null,null,null,null,null,null,null,null,null,null,null,null,null,null,null,null,null,null,null,null,null,null,null,null,""]
[null,null,null,null,null,null,null,null,null,null,null,null,null,null,null,null,null,null,null,null,null,null,null,null,null,null,null,null,""]
[null,null,null,null,null,null,null,null,null,null,null,null,null,null,null,null,null,null,null,null,null,null,null,null,null,null,null,null,""]
[null,null,null,null,null,null,null,null,null,null,null,null,null,null,null,null,null,null,null,null,null,null,null,null,null,null,null,null,""]
[null,null,null,null,null,null,null,null,null,null,null,null,null,null,null,null,null,null,null,null,null,null,null,null,null,null,null,null,""]
[null,null,null,null,null,null,null,null,null,null,null,null,null,null,null,null,null,null,null,null,null,null,null,null,null,null,null,null,""]
[null,null,null,null,null,null,null,null,null,null,null,null,null,null,null,null,null,null,null,null,null,null,null,null,null,null,null,null,""]
[null,null,null,null,null,null,null,null,null,null,null,null,null,null,null,null,null,null,null,null,null,null,null,null,null,null,null,null,""]
[null,null,null,null,null,null,null,null,null,null,null,null,null,null,null,null,null,null,null,null,null,null,null,null,null,null,null,null,""]
[null,null,null,null,null,null,null,null,null,null,null,null,null,null,null,null,null,null,null,null,null,null,null,null,null,null,null,null,""]
[null,null,null,null,null,null,null,null,null,null,null,null,null,null,null,null,null,null,null,null,null,null,null,null,null,null,null,null,""]
[null,null,null,null,null,null,null,null,null,null,null,null,null,null,null,null,null,null,null,null,null,null,null,null,null,null,null,null,""]
[null,null,null,null,null,null,null,null,null,null,null,null,null,null,null,null,null,null,null,null,null,null,null,null,null,null,null,null,""]
[null,null,null,null,null,null,null,null,null,null,null,null,null,null,null,null,null,null,null,null,null,null,null,null,null,null,null,null,""]
[null,null,null,null,null,null,null,null,null,null,null,null,null,null,null,null,null,null,null,null,null,null,null,null,null,null,null,null,""]
[null,null,null,null,null,null,null,null,null,null,null,null,null,null,null,null,null,null,null,null,null,null,null,null,null,null,null,null,""]
[null,null,null,null,null,null,null,null,null,null,null,null,null,null,null,null,null,null,null,null,null,null,null,null,null,null,null,null,""]
[null,null,null,null,null,null,null,null,null,null,null,null,null,null,null,null,null,null,null,null,null,null,null,null,null,null,null,null,""]
[null,null,null,null,null,null,null,null,null,null,null,null,null,null,null,null,null,null,null,null,null,null,null,null,null,null,null,null,""]
[null,null,null,null,null,null,null,null,null,null,null,null,null,null,null,null,null,null,null,null,null,null,null,null,null,null,null,null,""]
[null,null,null,null,null,null,null,null,null,null,null,null,null,null,null,null,null,null,null,null,null,null,null,null,null,null,null,null,""]
[null,null,null,null,null,null,null,null,null,null,null,null,null,null,null,null,null,null,null,null,null,null,null,null,null,null,null,null,""]
[null,null,null,null,null,null,null,null,null,null,null,null,null,null,null,null,null,null,null,null,null,null,null,null,null,null,null,null,""]
[null,null,null,null,null,null,null,null,null,null,null,null,null,null,null,null,null,null,null,null,null,null,null,null,null,null,null,null,""]
[null,null,null,null,null,null,null,null,null,null,null,null,null,null,null,null,null,null,null,null,null,null,null,null,null,null,null,null,""]
[null,null,null,null,null,null,null,null,null,null,null,null,null,null,null,null,null,null,null,null,null,null,null,null,null,null,null,null,""]
[null,null,null,null,null,null,null,null,null,null,null,null,null,null,null,null,null,null,null,null,null,null,null,null,null,null,null,null,""]
[null,null,null,null,null,null,null,null,null,null,null,null,null,null,null,null,null,null,null,null,null,null,null,null,null,null,null,null,""]
[null,null,null,null,null,null,null,null,null,null,null,null,null,null,null,null,null,null,null,null,null,null,null,null,null,null,null,null,""]
[null,null,null,null,null,null,null,null,null,null,null,null,null,null,null,null,null,null,null,null,null,null,null,null,null,null,null,null,""]
[null,null,null,null,null,null,null,null,null,null,null,null,null,null,null,null,null,null,null,null,null,null,null,null,null,null,null,null,""]
[null,null,null,null,null,null,null,null,null,null,null,null,null,null,null,null,null,null,null,null,null,null,null,null,null,null,null,null,""]
[null,null,null,null,null,null,null,null,null,null,null,null,null,null,null,null,null,null,null,null,null,null,null,null,null,null,null,null,""]
[null,null,null,null,null,null,null,null,null,null,null,null,null,null,null,null,null,null,null,null,null,null,null,null,null,null,null,null,""]
[null,null,null,null,null,null,null,null,null,null,null,null,null,null,null,null,null,null,null,null,null,null,null,null,null,null,null,null,""]
[null,null,null,null,null,null,null,null,null,null,null,null,null,null,null,null,null,null,null,null,null,null,null,null,null,null,null,null,""]
[null,null,null,null,null,null,null,null,null,null,null,null,null,null,null,null,null,null,null,null,null,null,null,null,null,null,null,null,""]
[null,null,null,null,null,null,null,null,null,null,null,null,null,null,null,null,null,null,null,null,null,null,null,null,null,null,null,null,""]
[null,null,null,null,null,null,null,null,null,null,null,null,null,null,null,null,null,null,null,null,null,null,null,null,null,null,null,null,""]
[null,null,null,null,null,null,null,null,null,null,null,null,null,null,null,null,null,null,null,null,null,null,null,null,null,null,null,null,""]
[null,null,null,null,null,null,null,null,null,null,null,null,null,null,null,null,null,null,null,null,null,null,null,null,null,null,null,null,""]
[null,null,null,null,null,null,null,null,null,null,null,null,null,null,null,null,null,null,null,null,null,null,null,null,null,null,null,null,""]
[null,null,null,null,null,null,null,null,null,null,null,null,null,null,null,null,null,null,null,null,null,null,null,null,null,null,null,null,""]
[null,null,null,null,null,null,null,null,null,null,null,null,null,null,null,null,null,null,null,null,null,null,null,null,null,null,null,null,""]
[null,null,null,null,null,null,null,null,null,null,null,null,null,null,null,null,null,null,null,null,null,null,null,null,null,null,null,null,""]
[null,null,null,null,null,null,null,null,null,null,null,null,null,null,null,null,null,null,null,null,null,null,null,null,null,null,null,null,""]
[null,null,null,null,null,null,null,null,null,null,null,null,null,null,null,null,null,null,null,null,null,null,null,null,null,null,null,null,""]
[null,null,null,null,null,null,null,null,null,null,null,null,null,null,null,null,null,null,null,null,null,null,null,null,null,null,null,null,""]
[null,null,null,null,null,null,null,null,null,null,null,null,null,null,null,null,null,null,null,null,null,null,null,null,null,null,null,null,""]
[null,null,null,null,null,null,null,null,null,null,null,null,null,null,null,null,null,null,null,null,null,null,null,null,null,null,null,null,""]
[null,null,null,null,null,null,null,null,null,null,null,null,null,null,null,null,null,null,null,null,null,null,null,null,null,null,null,null,""]
[null,null,null,null,null,null,null,null,null,null,null,null,null,null,null,null,null,null,null,null,null,null,null,null,null,null,null,null,""]
[null,null,null,null,null,null,null,null,null,null,null,null,null,null,null,null,null,null,null,null,null,null,null,null,null,null,null,null,""]
[null,null,null,null,null,null,null,null,null,null,null,null,null,null,null,null,null,null,null,null,null,null,null,null,null,null,null,null,""]
[null,null,null,null,null,null,null,null,null,null,null,null,null,null,null,null,null,null,null,null,null,null,null,null,null,null,null,null,""]
[null,null,null,null,null,null,null,null,null,null,null,null,null,null,null,null,null,null,null,null,null,null,null,null,null,null,null,null,{"$f":"IF(ISBLANK(D387),\"\",ROW(D387)-3)","v":""}]
[null,null,null,null,null,null,null,null,null,null,null,null,null,null,null,null,null,null,null,null,null,null,null,null,null,null,null,null,""]
[null,null,null,null,null,null,null,null,null,null,null,null,null,null,null,null,null,null,null,null,null,null,null,null,null,null,null,null,""]
[null,null,null,null,null,null,null,null,null,null,null,null,null,null,null,null,null,null,null,null,null,null,null,null,null,null,null,null,""]
[null,null,null,null,null,null,null,null,null,null,null,null,null,null,null,null,null,null,null,null,null,null,null,null,null,null,null,null,""]
[null,null,null,null,null,null,null,null,null,null,null,null,null,null,null,null,null,null,null,null,null,null,null,null,null,null,null,null,""]
[null,null,null,null,null,null,null,null,null,null,null,null,null,null,null,null,null,null,null,null,null,null,null,null,null,null,null,null,""]
[null,null,null,null,null,null,null,null,null,null,null,null,null,null,null,null,null,null,null,null,null,null,null,null,null,null,null,null,""]
[null,null,null,null,null,null,null,null,null,null,null,null,null,null,null,null,null,null,null,null,null,null,null,null,null,null,null,null,""]
[null,null,null,null,null,null,null,null,null,null,null,null,null,null,null,null,null,null,null,null,null,null,null,null,null,null,null,null,""]
[null,null,null,null,null,null,null,null,null,null,null,null,null,null,null,null,null,null,null,null,null,null,null,null,null,null,null,null,""]
[null,null,null,null,null,null,null,null,null,null,null,null,null,null,null,null,null,null,null,null,null,null,null,null,null,null,null,null,""]
[null,null,null,null,null,null,null,null,null,null,null,null,null,null,null,null,null,null,null,null,null,null,null,null,null,null,null,null,""]
[null,null,null,null,null,null,null,null,null,null,null,null,null,null,null,null,null,null,null,null,null,null,null,null,null,null,null,null,""]
[null,null,null,null,null,null,null,null,null,null,null,null,null,null,null,null,null,null,null,null,null,null,null,null,null,null,null,null,""]
[null,null,null,null,null,null,null,null,null,null,null,null,null,null,null,null,null,null,null,null,null,null,null,null,null,null,null,null,""]
[null,null,null,null,null,null,null,null,null,null,null,null,null,null,null,null,null,null,null,null,null,null,null,null,null,null,null,null,""]
[null,null,null,null,null,null,null,null,null,null,null,null,null,null,null,null,null,null,null,null,null,null,null,null,null,null,null,null,""]
[null,null,null,null,null,null,null,null,null,null,null,null,null,null,null,null,null,null,null,null,null,null,null,null,null,null,null,null,""]
[null,null,null,null,null,null,null,null,null,null,null,null,null,null,null,null,null,null,null,null,null,null,null,null,null,null,null,null,""]
[null,null,null,null,null,null,null,null,null,null,null,null,null,null,null,null,null,null,null,null,null,null,null,null,null,null,null,null,""]
[null,null,null,null,null,null,null,null,null,null,null,null,null,null,null,null,null,null,null,null,null,null,null,null,null,null,null,null,""]
[null,null,null,null,null,null,null,null,null,null,null,null,null,null,null,null,null,null,null,null,null,null,null,null,null,null,null,null,""]
[null,null,null,null,null,null,null,null,null,null,null,null,null,null,null,null,null,null,null,null,null,null,null,null,null,null,null,null,""]
[null,null,null,null,null,null,null,null,null,null,null,null,null,null,null,null,null,null,null,null,null,null,null,null,null,null,null,null,""]
[null,null,null,null,null,null,null,null,null,null,null,null,null,null,null,null,null,null,null,null,null,null,null,null,null,null,null,null,""]
[null,null,null,null,null,null,null,null,null,null,null,null,null,null,null,null,null,null,null,null,null,null,null,null,null,null,null,null,""]
[null,null,null,null,null,null,null,null,null,null,null,null,null,null,null,null,null,null,null,null,null,null,null,null,null,null,null,null,""]
[null,null,null,null,null,null,null,null,null,null,null,null,null,null,null,null,null,null,null,null,null,null,null,null,null,null,null,null,""]
[null,null,null,null,null,null,null,null,null,null,null,null,null,null,null,null,null,null,null,null,null,null,null,null,null,null,null,null,""]
[null,null,null,null,null,null,null,null,null,null,null,null,null,null,null,null,null,null,null,null,null,null,null,null,null,null,null,null,""]
[null,null,null,null,null,null,null,null,null,null,null,null,null,null,null,null,null,null,null,null,null,null,null,null,null,null,null,null,""]
[null,null,null,null,null,null,null,null,null,null,null,null,null,null,null,null,null,null,null,null,null,null,null,null,null,null,null,null,""]
[null,null,null,null,null,null,null,null,null,null,null,null,null,null,null,null,null,null,null,null,null,null,null,null,null,null,null,null,""]
[null,null,null,null,null,null,null,null,null,null,null,null,null,null,null,null,null,null,null,null,null,null,null,null,null,null,null,null,""]
[null,null,null,null,null,null,null,null,null,null,null,null,null,null,null,null,null,null,null,null,null,null,null,null,null,null,null,null,""]
[null,null,null,null,null,null,null,null,null,null,null,null,null,null,null,null,null,null,null,null,null,null,null,null,null,null,null,null,""]
[null,null,null,null,null,null,null,null,null,null,null,null,null,null,null,null,null,null,null,null,null,null,null,null,null,null,null,null,""]
[null,null,null,null,null,null,null,null,null,null,null,null,null,null,null,null,null,null,null,null,null,null,null,null,null,null,null,null,""]
[null,null,null,null,null,null,null,null,null,null,null,null,null,null,null,null,null,null,null,null,null,null,null,null,null,null,null,null,""]
[null,null,null,null,null,null,null,null,null,null,null,null,null,null,null,null,null,null,null,null,null,null,null,null,null,null,null,null,""]
[null,null,null,null,null,null,null,null,null,null,null,null,null,null,null,null,null,null,null,null,null,null,null,null,null,null,null,null,""]
[null,null,null,null,null,null,null,null,null,null,null,null,null,null,null,null,null,null,null,null,null,null,null,null,null,null,null,null,""]
[null,null,null,null,null,null,null,null,null,null,null,null,null,null,null,null,null,null,null,null,null,null,null,null,null,null,null,null,""]
[null,null,null,null,null,null,null,null,null,null,null,null,null,null,null,null,null,null,null,null,null,null,null,null,null,null,null,null,""]
[null,null,null,null,null,null,null,null,null,null,null,null,null,null,null,null,null,null,null,null,null,null,null,null,null,null,null,null,""]
[null,null,null,null,null,null,null,null,null,null,null,null,null,null,null,null,null,null,null,null,null,null,null,null,null,null,null,null,""]
[null,null,null,null,null,null,null,null,null,null,null,null,null,null,null,null,null,null,null,null,null,null,null,null,null,null,null,null,""]
[null,null,null,null,null,null,null,null,null,null,null,null,null,null,null,null,null,null,null,null,null,null,null,null,null,null,null,null,""]
[null,null,null,null,null,null,null,null,null,null,null,null,null,null,null,null,null,null,null,null,null,null,null,null,null,null,null,null,""]
[null,null,null,null,null,null,null,null,null,null,null,null,null,null,null,null,null,null,null,null,null,null,null,null,null,null,null,null,""]
[null,null,null,null,null,null,null,null,null,null,null,null,null,null,null,null,null,null,null,null,null,null,null,null,null,null,null,null,""]
[null,null,null,null,null,null,null,null,null,null,null,null,null,null,null,null,null,null,null,null,null,null,null,null,null,null,null,null,""]
[null,null,null,null,null,null,null,null,null,null,null,null,null,null,null,null,null,null,null,null,null,null,null,null,null,null,null,null,""]
[null,null,null,null,null,null,null,null,null,null,null,null,null,null,null,null,null,null,null,null,null,null,null,null,null,null,null,null,""]
[null,null,null,null,null,null,null,null,null,null,null,null,null,null,null,null,null,null,null,null,null,null,null,null,null,null,null,null,""]
[null,null,null,null,null,null,null,null,null,null,null,null,null,null,null,null,null,null,null,null,null,null,null,null,null,null,null,null,""]
[null,null,null,null,null,null,null,null,null,null,null,null,null,null,null,null,null,null,null,null,null,null,null,null,null,null,null,null,""]
[null,null,null,null,null,null,null,null,null,null,null,null,null,null,null,null,null,null,null,null,null,null,null,null,null,null,null,null,""]
[null,null,null,null,null,null,null,null,null,null,null,null,null,null,null,null,null,null,null,null,null,null,null,null,null,null,null,null,""]
[null,null,null,null,null,null,null,null,null,null,null,null,null,null,null,null,null,null,null,null,null,null,null,null,null,null,null,null,""]
[null,null,null,null,null,null,null,null,null,null,null,null,null,null,null,null,null,null,null,null,null,null,null,null,null,null,null,null,""]
[null,null,null,null,null,null,null,null,null,null,null,null,null,null,null,null,null,null,null,null,null,null,null,null,null,null,null,null,""]
[null,null,null,null,null,null,null,null,null,null,null,null,null,null,null,null,null,null,null,null,null,null,null,null,null,null,null,null,""]
[null,null,null,null,null,null,null,null,null,null,null,null,null,null,null,null,null,null,null,null,null,null,null,null,null,null,null,null,{"$f":"IF(ISBLANK(D451),\"\",ROW(D451)-3)","v":""}]
[null,null,null,null,null,null,null,null,null,null,null,null,null,null,null,null,null,null,null,null,null,null,null,null,null,null,null,null,""]
[null,null,null,null,null,null,null,null,null,null,null,null,null,null,null,null,null,null,null,null,null,null,null,null,null,null,null,null,""]
[null,null,null,null,null,null,null,null,null,null,null,null,null,null,null,null,null,null,null,null,null,null,null,null,null,null,null,null,""]
[null,null,null,null,null,null,null,null,null,null,null,null,null,null,null,null,null,null,null,null,null,null,null,null,null,null,null,null,""]
[null,null,null,null,null,null,null,null,null,null,null,null,null,null,null,null,null,null,null,null,null,null,null,null,null,null,null,null,""]
[null,null,null,null,null,null,null,null,null,null,null,null,null,null,null,null,null,null,null,null,null,null,null,null,null,null,null,null,""]
[null,null,null,null,null,null,null,null,null,null,null,null,null,null,null,null,null,null,null,null,null,null,null,null,null,null,null,null,""]
[null,null,null,null,null,null,null,null,null,null,null,null,null,null,null,null,null,null,null,null,null,null,null,null,null,null,null,null,""]
[null,null,null,null,null,null,null,null,null,null,null,null,null,null,null,null,null,null,null,null,null,null,null,null,null,null,null,null,""]
[null,null,null,null,null,null,null,null,null,null,null,null,null,null,null,null,null,null,null,null,null,null,null,null,null,null,null,null,""]
[null,null,null,null,null,null,null,null,null,null,null,null,null,null,null,null,null,null,null,null,null,null,null,null,null,null,null,null,""]
[null,null,null,null,null,null,null,null,null,null,null,null,null,null,null,null,null,null,null,null,null,null,null,null,null,null,null,null,""]
[null,null,null,null,null,null,null,null,null,null,null,null,null,null,null,null,null,null,null,null,null,null,null,null,null,null,null,null,""]
[null,null,null,null,null,null,null,null,null,null,null,null,null,null,null,null,null,null,null,null,null,null,null,null,null,null,null,null,""]
[null,null,null,null,null,null,null,null,null,null,null,null,null,null,null,null,null,null,null,null,null,null,null,null,null,null,null,null,""]
[null,null,null,null,null,null,null,null,null,null,null,null,null,null,null,null,null,null,null,null,null,null,null,null,null,null,null,null,""]
[null,null,null,null,null,null,null,null,null,null,null,null,null,null,null,null,null,null,null,null,null,null,null,null,null,null,null,null,""]
[null,null,null,null,null,null,null,null,null,null,null,null,null,null,null,null,null,null,null,null,null,null,null,null,null,null,null,null,""]
[null,null,null,null,null,null,null,null,null,null,null,null,null,null,null,null,null,null,null,null,null,null,null,null,null,null,null,null,""]
[null,null,null,null,null,null,null,null,null,null,null,null,null,null,null,null,null,null,null,null,null,null,null,null,null,null,null,null,""]
[null,null,null,null,null,null,null,null,null,null,null,null,null,null,null,null,null,null,null,null,null,null,null,null,null,null,null,null,""]
[null,null,null,null,null,null,null,null,null,null,null,null,null,null,null,null,null,null,null,null,null,null,null,null,null,null,null,null,""]
[null,null,null,null,null,null,null,null,null,null,null,null,null,null,null,null,null,null,null,null,null,null,null,null,null,null,null,null,""]
[null,null,null,null,null,null,null,null,null,null,null,null,null,null,null,null,null,null,null,null,null,null,null,null,null,null,null,null,""]
[null,null,null,null,null,null,null,null,null,null,null,null,null,null,null,null,null,null,null,null,null,null,null,null,null,null,null,null,""]
[null,null,null,null,null,null,null,null,null,null,null,null,null,null,null,null,null,null,null,null,null,null,null,null,null,null,null,null,""]
[null,null,null,null,null,null,null,null,null,null,null,null,null,null,null,null,null,null,null,null,null,null,null,null,null,null,null,null,""]
[null,null,null,null,null,null,null,null,null,null,null,null,null,null,null,null,null,null,null,null,null,null,null,null,null,null,null,null,""]
[null,null,null,null,null,null,null,null,null,null,null,null,null,null,null,null,null,null,null,null,null,null,null,null,null,null,null,null,""]
[null,null,null,null,null,null,null,null,null,null,null,null,null,null,null,null,null,null,null,null,null,null,null,null,null,null,null,null,""]
[null,null,null,null,null,null,null,null,null,null,null,null,null,null,null,null,null,null,null,null,null,null,null,null,null,null,null,null,""]
[null,null,null,null,null,null,null,null,null,null,null,null,null,null,null,null,null,null,null,null,null,null,null,null,null,null,null,null,""]
[null,null,null,null,null,null,null,null,null,null,null,null,null,null,null,null,null,null,null,null,null,null,null,null,null,null,null,null,""]
[null,null,null,null,null,null,null,null,null,null,null,null,null,null,null,null,null,null,null,null,null,null,null,null,null,null,null,null,""]
[null,null,null,null,null,null,null,null,null,null,null,null,null,null,null,null,null,null,null,null,null,null,null,null,null,null,null,null,""]
[null,null,null,null,null,null,null,null,null,null,null,null,null,null,null,null,null,null,null,null,null,null,null,null,null,null,null,null,""]
[null,null,null,null,null,null,null,null,null,null,null,null,null,null,null,null,null,null,null,null,null,null,null,null,null,null,null,null,""]
[null,null,null,null,null,null,null,null,null,null,null,null,null,null,null,null,null,null,null,null,null,null,null,null,null,null,null,null,""]
[null,null,null,null,null,null,null,null,null,null,null,null,null,null,null,null,null,null,null,null,null,null,null,null,null,null,null,null,""]
[null,null,null,null,null,null,null,null,null,null,null,null,null,null,null,null,null,null,null,null,null,null,null,null,null,null,null,null,""]
[null,null,null,null,null,null,null,null,null,null,null,null,null,null,null,null,null,null,null,null,null,null,null,null,null,null,null,null,""]
[null,null,null,null,null,null,null,null,null,null,null,null,null,null,null,null,null,null,null,null,null,null,null,null,null,null,null,null,""]
[null,null,null,null,null,null,null,null,null,null,null,null,null,null,null,null,null,null,null,null,null,null,null,null,null,null,null,null,""]
[null,null,null,null,null,null,null,null,null,null,null,null,null,null,null,null,null,null,null,null,null,null,null,null,null,null,null,null,""]
[null,null,null,null,null,null,null,null,null,null,null,null,null,null,null,null,null,null,null,null,null,null,null,null,null,null,null,null,""]
[null,null,null,null,null,null,null,null,null,null,null,null,null,null,null,null,null,null,null,null,null,null,null,null,null,null,null,null,""]
[null,null,null,null,null,null,null,null,null,null,null,null,null,null,null,null,null,null,null,null,null,null,null,null,null,null,null,null,""]
[null,null,null,null,null,null,null,null,null,null,null,null,null,null,null,null,null,null,null,null,null,null,null,null,null,null,null,null,""]
[null,null,null,null,null,null,null,null,null,null,null,null,null,null,null,null,null,null,null,null,null,null,null,null,null,null,null,null,""]
[null,null,null,null,null,null,null,null,null,null,null,null,null,null,null,null,null,null,null,null,null,null,null,null,null,null,null,null,""]
[null,null,null,null,null,null,null,null,null,null,null,null,null,null,null,null,null,null,null,null,null,null,null,null,null,null,null,null,""]
[null,null,null,null,null,null,null,null,null,null,null,null,null,null,null,null,null,null,null,null,null,null,null,null,null,null,null,null,""]
[null,null,null,null,null,null,null,null,null,null,null,null,null,null,null,null,null,null,null,null,null,null,null,null,null,null,null,null,""]
[null,null,null,null,null,null,null,null,null,null,null,null,null,null,null,null,null,null,null,null,null,null,null,null,null,null,null,null,""]
[null,null,null,null,null,null,null,null,null,null,null,null,null,null,null,null,null,null,null,null,null,null,null,null,null,null,null,null,""]
[null,null,null,null,null,null,null,null,null,null,null,null,null,null,null,null,null,null,null,null,null,null,null,null,null,null,null,null,""]
[null,null,null,null,null,null,null,null,null,null,null,null,null,null,null,null,null,null,null,null,null,null,null,null,null,null,null,null,""]
[null,null,null,null,null,null,null,null,null,null,null,null,null,null,null,null,null,null,null,null,null,null,null,null,null,null,null,null,""]
[null,null,null,null,null,null,null,null,null,null,null,null,null,null,null,null,null,null,null,null,null,null,null,null,null,null,null,null,""]
[null,null,null,null,null,null,null,null,null,null,null,null,null,null,null,null,null,null,null,null,null,null,null,null,null,null,null,null,""]
[null,null,null,null,null,null,null,null,null,null,null,null,null,null,null,null,null,null,null,null,null,null,null,null,null,null,null,null,""]
[null,null,null,null,null,null,null,null,null,null,null,null,null,null,null,null,null,null,null,null,null,null,null,null,null,null,null,null,""]
[null,null,null,null,null,null,null,null,null,null,null,null,null,null,null,null,null,null,null,null,null,null,null,null,null,null,null,null,""]
[null,null,null,null,null,null,null,null,null,null,null,null,null,null,null,null,null,null,null,null,null,null,null,null,null,null,null,null,{"$f":"IF(ISBLANK(D515),\"\",ROW(D515)-3)","v":""}]
[null,null,null,null,null,null,null,null,null,null,null,null,null,null,null,null,null,null,null,null,null,null,null,null,null,null,null,null,""]
[null,null,null,null,null,null,null,null,null,null,null,null,null,null,null,null,null,null,null,null,null,null,null,null,null,null,null,null,""]
[null,null,null,null,null,null,null,null,null,null,null,null,null,null,null,null,null,null,null,null,null,null,null,null,null,null,null,null,""]
[null,null,null,null,null,null,null,null,null,null,null,null,null,null,null,null,null,null,null,null,null,null,null,null,null,null,null,null,""]
[null,null,null,null,null,null,null,null,null,null,null,null,null,null,null,null,null,null,null,null,null,null,null,null,null,null,null,null,""]
[null,null,null,null,null,null,null,null,null,null,null,null,null,null,null,null,null,null,null,null,null,null,null,null,null,null,null,null,""]
[null,null,null,null,null,null,null,null,null,null,null,null,null,null,null,null,null,null,null,null,null,null,null,null,null,null,null,null,""]
[null,null,null,null,null,null,null,null,null,null,null,null,null,null,null,null,null,null,null,null,null,null,null,null,null,null,null,null,""]
[null,null,null,null,null,null,null,null,null,null,null,null,null,null,null,null,null,null,null,null,null,null,null,null,null,null,null,null,""]
[null,null,null,null,null,null,null,null,null,null,null,null,null,null,null,null,null,null,null,null,null,null,null,null,null,null,null,null,""]
[null,null,null,null,null,null,null,null,null,null,null,null,null,null,null,null,null,null,null,null,null,null,null,null,null,null,null,null,""]
[null,null,null,null,null,null,null,null,null,null,null,null,null,null,null,null,null,null,null,null,null,null,null,null,null,null,null,null,""]
[null,null,null,null,null,null,null,null,null,null,null,null,null,null,null,null,null,null,null,null,null,null,null,null,null,null,null,null,""]
[null,null,null,null,null,null,null,null,null,null,null,null,null,null,null,null,null,null,null,null,null,null,null,null,null,null,null,null,""]
[null,null,null,null,null,null,null,null,null,null,null,null,null,null,null,null,null,null,null,null,null,null,null,null,null,null,null,null,""]
[null,null,null,null,null,null,null,null,null,null,null,null,null,null,null,null,null,null,null,null,null,null,null,null,null,null,null,null,""]
[null,null,null,null,null,null,null,null,null,null,null,null,null,null,null,null,null,null,null,null,null,null,null,null,null,null,null,null,""]
[null,null,null,null,null,null,null,null,null,null,null,null,null,null,null,null,null,null,null,null,null,null,null,null,null,null,null,null,""]
[null,null,null,null,null,null,null,null,null,null,null,null,null,null,null,null,null,null,null,null,null,null,null,null,null,null,null,null,""]
[null,null,null,null,null,null,null,null,null,null,null,null,null,null,null,null,null,null,null,null,null,null,null,null,null,null,null,null,""]
[null,null,null,null,null,null,null,null,null,null,null,null,null,null,null,null,null,null,null,null,null,null,null,null,null,null,null,null,""]
[null,null,null,null,null,null,null,null,null,null,null,null,null,null,null,null,null,null,null,null,null,null,null,null,null,null,null,null,""]
[null,null,null,null,null,null,null,null,null,null,null,null,null,null,null,null,null,null,null,null,null,null,null,null,null,null,null,null,""]
[null,null,null,null,null,null,null,null,null,null,null,null,null,null,null,null,null,null,null,null,null,null,null,null,null,null,null,null,""]
[null,null,null,null,null,null,null,null,null,null,null,null,null,null,null,null,null,null,null,null,null,null,null,null,null,null,null,null,""]
[null,null,null,null,null,null,null,null,null,null,null,null,null,null,null,null,null,null,null,null,null,null,null,null,null,null,null,null,""]
[null,null,null,null,null,null,null,null,null,null,null,null,null,null,null,null,null,null,null,null,null,null,null,null,null,null,null,null,""]
[null,null,null,null,null,null,null,null,null,null,null,null,null,null,null,null,null,null,null,null,null,null,null,null,null,null,null,null,""]
[null,null,null,null,null,null,null,null,null,null,null,null,null,null,null,null,null,null,null,null,null,null,null,null,null,null,null,null,""]
[null,null,null,null,null,null,null,null,null,null,null,null,null,null,null,null,null,null,null,null,null,null,null,null,null,null,null,null,""]
[null,null,null,null,null,null,null,null,null,null,null,null,null,null,null,null,null,null,null,null,null,null,null,null,null,null,null,null,""]
[null,null,null,null,null,null,null,null,null,null,null,null,null,null,null,null,null,null,null,null,null,null,null,null,null,null,null,null,""]
[null,null,null,null,null,null,null,null,null,null,null,null,null,null,null,null,null,null,null,null,null,null,null,null,null,null,null,null,""]
[null,null,null,null,null,null,null,null,null,null,null,null,null,null,null,null,null,null,null,null,null,null,null,null,null,null,null,null,""]
[null,null,null,null,null,null,null,null,null,null,null,null,null,null,null,null,null,null,null,null,null,null,null,null,null,null,null,null,""]
[null,null,null,null,null,null,null,null,null,null,null,null,null,null,null,null,null,null,null,null,null,null,null,null,null,null,null,null,""]
[null,null,null,null,null,null,null,null,null,null,null,null,null,null,null,null,null,null,null,null,null,null,null,null,null,null,null,null,""]
[null,null,null,null,null,null,null,null,null,null,null,null,null,null,null,null,null,null,null,null,null,null,null,null,null,null,null,null,""]
[null,null,null,null,null,null,null,null,null,null,null,null,null,null,null,null,null,null,null,null,null,null,null,null,null,null,null,null,""]
[null,null,null,null,null,null,null,null,null,null,null,null,null,null,null,null,null,null,null,null,null,null,null,null,null,null,null,null,""]
[null,null,null,null,null,null,null,null,null,null,null,null,null,null,null,null,null,null,null,null,null,null,null,null,null,null,null,null,""]
[null,null,null,null,null,null,null,null,null,null,null,null,null,null,null,null,null,null,null,null,null,null,null,null,null,null,null,null,""]
[null,null,null,null,null,null,null,null,null,null,null,null,null,null,null,null,null,null,null,null,null,null,null,null,null,null,null,null,""]
[null,null,null,null,null,null,null,null,null,null,null,null,null,null,null,null,null,null,null,null,null,null,null,null,null,null,null,null,""]
[null,null,null,null,null,null,null,null,null,null,null,null,null,null,null,null,null,null,null,null,null,null,null,null,null,null,null,null,""]
[null,null,null,null,null,null,null,null,null,null,null,null,null,null,null,null,null,null,null,null,null,null,null,null,null,null,null,null,""]
[null,null,null,null,null,null,null,null,null,null,null,null,null,null,null,null,null,null,null,null,null,null,null,null,null,null,null,null,""]
[null,null,null,null,null,null,null,null,null,null,null,null,null,null,null,null,null,null,null,null,null,null,null,null,null,null,null,null,""]
[null,null,null,null,null,null,null,null,null,null,null,null,null,null,null,null,null,null,null,null,null,null,null,null,null,null,null,null,""]
[null,null,null,null,null,null,null,null,null,null,null,null,null,null,null,null,null,null,null,null,null,null,null,null,null,null,null,null,""]
[null,null,null,null,null,null,null,null,null,null,null,null,null,null,null,null,null,null,null,null,null,null,null,null,null,null,null,null,""]
[null,null,null,null,null,null,null,null,null,null,null,null,null,null,null,null,null,null,null,null,null,null,null,null,null,null,null,null,""]
[null,null,null,null,null,null,null,null,null,null,null,null,null,null,null,null,null,null,null,null,null,null,null,null,null,null,null,null,""]
[null,null,null,null,null,null,null,null,null,null,null,null,null,null,null,null,null,null,null,null,null,null,null,null,null,null,null,null,""]
[null,null,null,null,null,null,null,null,null,null,null,null,null,null,null,null,null,null,null,null,null,null,null,null,null,null,null,null,""]
[null,null,null,null,null,null,null,null,null,null,null,null,null,null,null,null,null,null,null,null,null,null,null,null,null,null,null,null,""]
[null,null,null,null,null,null,null,null,null,null,null,null,null,null,null,null,null,null,null,null,null,null,null,null,null,null,null,null,""]
[null,null,null,null,null,null,null,null,null,null,null,null,null,null,null,null,null,null,null,null,null,null,null,null,null,null,null,null,""]
[null,null,null,null,null,null,null,null,null,null,null,null,null,null,null,null,null,null,null,null,null,null,null,null,null,null,null,null,""]
[null,null,null,null,null,null,null,null,null,null,null,null,null,null,null,null,null,null,null,null,null,null,null,null,null,null,null,null,""]
[null,null,null,null,null,null,null,null,null,null,null,null,null,null,null,null,null,null,null,null,null,null,null,null,null,null,null,null,""]
[null,null,null,null,null,null,null,null,null,null,null,null,null,null,null,null,null,null,null,null,null,null,null,null,null,null,null,null,""]
[null,null,null,null,null,null,null,null,null,null,null,null,null,null,null,null,null,null,null,null,null,null,null,null,null,null,null,null,""]
[null,null,null,null,null,null,null,null,null,null,null,null,null,null,null,null,null,null,null,null,null,null,null,null,null,null,null,null,{"$f":"IF(ISBLANK(D579),\"\",ROW(D579)-3)","v":""}]
[null,null,null,null,null,null,null,null,null,null,null,null,null,null,null,null,null,null,null,null,null,null,null,null,null,null,null,null,""]
[null,null,null,null,null,null,null,null,null,null,null,null,null,null,null,null,null,null,null,null,null,null,null,null,null,null,null,null,""]
[null,null,null,null,null,null,null,null,null,null,null,null,null,null,null,null,null,null,null,null,null,null,null,null,null,null,null,null,""]
[null,null,null,null,null,null,null,null,null,null,null,null,null,null,null,null,null,null,null,null,null,null,null,null,null,null,null,null,""]
[null,null,null,null,null,null,null,null,null,null,null,null,null,null,null,null,null,null,null,null,null,null,null,null,null,null,null,null,""]
[null,null,null,null,null,null,null,null,null,null,null,null,null,null,null,null,null,null,null,null,null,null,null,null,null,null,null,null,""]
[null,null,null,null,null,null,null,null,null,null,null,null,null,null,null,null,null,null,null,null,null,null,null,null,null,null,null,null,""]
[null,null,null,null,null,null,null,null,null,null,null,null,null,null,null,null,null,null,null,null,null,null,null,null,null,null,null,null,""]
[null,null,null,null,null,null,null,null,null,null,null,null,null,null,null,null,null,null,null,null,null,null,null,null,null,null,null,null,""]
[null,null,null,null,null,null,null,null,null,null,null,null,null,null,null,null,null,null,null,null,null,null,null,null,null,null,null,null,""]
[null,null,null,null,null,null,null,null,null,null,null,null,null,null,null,null,null,null,null,null,null,null,null,null,null,null,null,null,""]
[null,null,null,null,null,null,null,null,null,null,null,null,null,null,null,null,null,null,null,null,null,null,null,null,null,null,null,null,""]
[null,null,null,null,null,null,null,null,null,null,null,null,null,null,null,null,null,null,null,null,null,null,null,null,null,null,null,null,""]
[null,null,null,null,null,null,null,null,null,null,null,null,null,null,null,null,null,null,null,null,null,null,null,null,null,null,null,null,""]
[null,null,null,null,null,null,null,null,null,null,null,null,null,null,null,null,null,null,null,null,null,null,null,null,null,null,null,null,""]
[null,null,null,null,null,null,null,null,null,null,null,null,null,null,null,null,null,null,null,null,null,null,null,null,null,null,null,null,""]
[null,null,null,null,null,null,null,null,null,null,null,null,null,null,null,null,null,null,null,null,null,null,null,null,null,null,null,null,""]
[null,null,null,null,null,null,null,null,null,null,null,null,null,null,null,null,null,null,null,null,null,null,null,null,null,null,null,null,""]
[null,null,null,null,null,null,null,null,null,null,null,null,null,null,null,null,null,null,null,null,null,null,null,null,null,null,null,null,""]
[null,null,null,null,null,null,null,null,null,null,null,null,null,null,null,null,null,null,null,null,null,null,null,null,null,null,null,null,""]
[null,null,null,null,null,null,null,null,null,null,null,null,null,null,null,null,null,null,null,null,null,null,null,null,null,null,null,null,""]
[null,null,null,null,null,null,null,null,null,null,null,null,null,null,null,null,null,null,null,null,null,null,null,null,null,null,null,null,""]
[null,null,null,null,null,null,null,null,null,null,null,null,null,null,null,null,null,null,null,null,null,null,null,null,null,null,null,null,""]
[null,null,null,null,null,null,null,null,null,null,null,null,null,null,null,null,null,null,null,null,null,null,null,null,null,null,null,null,""]
[null,null,null,null,null,null,null,null,null,null,null,null,null,null,null,null,null,null,null,null,null,null,null,null,null,null,null,null,""]
[null,null,null,null,null,null,null,null,null,null,null,null,null,null,null,null,null,null,null,null,null,null,null,null,null,null,null,null,""]
[null,null,null,null,null,null,null,null,null,null,null,null,null,null,null,null,null,null,null,null,null,null,null,null,null,null,null,null,""]
[null,null,null,null,null,null,null,null,null,null,null,null,null,null,null,null,null,null,null,null,null,null,null,null,null,null,null,null,""]
[null,null,null,null,null,null,null,null,null,null,null,null,null,null,null,null,null,null,null,null,null,null,null,null,null,null,null,null,""]
[null,null,null,null,null,null,null,null,null,null,null,null,null,null,null,null,null,null,null,null,null,null,null,null,null,null,null,null,""]
[null,null,null,null,null,null,null,null,null,null,null,null,null,null,null,null,null,null,null,null,null,null,null,null,null,null,null,null,""]
[null,null,null,null,null,null,null,null,null,null,null,null,null,null,null,null,null,null,null,null,null,null,null,null,null,null,null,null,""]
[null,null,null,null,null,null,null,null,null,null,null,null,null,null,null,null,null,null,null,null,null,null,null,null,null,null,null,null,""]
[null,null,null,null,null,null,null,null,null,null,null,null,null,null,null,null,null,null,null,null,null,null,null,null,null,null,null,null,""]
[null,null,null,null,null,null,null,null,null,null,null,null,null,null,null,null,null,null,null,null,null,null,null,null,null,null,null,null,""]
[null,null,null,null,null,null,null,null,null,null,null,null,null,null,null,null,null,null,null,null,null,null,null,null,null,null,null,null,""]
[null,null,null,null,null,null,null,null,null,null,null,null,null,null,null,null,null,null,null,null,null,null,null,null,null,null,null,null,""]
[null,null,null,null,null,null,null,null,null,null,null,null,null,null,null,null,null,null,null,null,null,null,null,null,null,null,null,null,""]
[null,null,null,null,null,null,null,null,null,null,null,null,null,null,null,null,null,null,null,null,null,null,null,null,null,null,null,null,""]
[null,null,null,null,null,null,null,null,null,null,null,null,null,null,null,null,null,null,null,null,null,null,null,null,null,null,null,null,""]
[null,null,null,null,null,null,null,null,null,null,null,null,null,null,null,null,null,null,null,null,null,null,null,null,null,null,null,null,""]
[null,null,null,null,null,null,null,null,null,null,null,null,null,null,null,null,null,null,null,null,null,null,null,null,null,null,null,null,""]
[null,null,null,null,null,null,null,null,null,null,null,null,null,null,null,null,null,null,null,null,null,null,null,null,null,null,null,null,""]
[null,null,null,null,null,null,null,null,null,null,null,null,null,null,null,null,null,null,null,null,null,null,null,null,null,null,null,null,""]
[null,null,null,null,null,null,null,null,null,null,null,null,null,null,null,null,null,null,null,null,null,null,null,null,null,null,null,null,""]
[null,null,null,null,null,null,null,null,null,null,null,null,null,null,null,null,null,null,null,null,null,null,null,null,null,null,null,null,""]
[null,null,null,null,null,null,null,null,null,null,null,null,null,null,null,null,null,null,null,null,null,null,null,null,null,null,null,null,""]
[null,null,null,null,null,null,null,null,null,null,null,null,null,null,null,null,null,null,null,null,null,null,null,null,null,null,null,null,""]
[null,null,null,null,null,null,null,null,null,null,null,null,null,null,null,null,null,null,null,null,null,null,null,null,null,null,null,null,""]
[null,null,null,null,null,null,null,null,null,null,null,null,null,null,null,null,null,null,null,null,null,null,null,null,null,null,null,null,""]
[null,null,null,null,null,null,null,null,null,null,null,null,null,null,null,null,null,null,null,null,null,null,null,null,null,null,null,null,""]
[null,null,null,null,null,null,null,null,null,null,null,null,null,null,null,null,null,null,null,null,null,null,null,null,null,null,null,null,""]
[null,null,null,null,null,null,null,null,null,null,null,null,null,null,null,null,null,null,null,null,null,null,null,null,null,null,null,null,""]
[null,null,null,null,null,null,null,null,null,null,null,null,null,null,null,null,null,null,null,null,null,null,null,null,null,null,null,null,""]
[null,null,null,null,null,null,null,null,null,null,null,null,null,null,null,null,null,null,null,null,null,null,null,null,null,null,null,null,""]
[null,null,null,null,null,null,null,null,null,null,null,null,null,null,null,null,null,null,null,null,null,null,null,null,null,null,null,null,""]
[null,null,null,null,null,null,null,null,null,null,null,null,null,null,null,null,null,null,null,null,null,null,null,null,null,null,null,null,""]
[null,null,null,null,null,null,null,null,null,null,null,null,null,null,null,null,null,null,null,null,null,null,null,null,null,null,null,null,""]
[null,null,null,null,null,null,null,null,null,null,null,null,null,null,null,null,null,null,null,null,null,null,null,null,null,null,null,null,""]
[null,null,null,null,null,null,null,null,null,null,null,null,null,null,null,null,null,null,null,null,null,null,null,null,null,null,null,null,""]
[null,null,null,null,null,null,null,null,null,null,null,null,null,null,null,null,null,null,null,null,null,null,null,null,null,null,null,null,""]
[null,null,null,null,null,null,null,null,null,null,null,null,null,null,null,null,null,null,null,null,null,null,null,null,null,null,null,null,""]
[null,null,null,null,null,null,null,null,null,null,null,null,null,null,null,null,null,null,null,null,null,null,null,null,null,null,null,null,""]
[null,null,null,null,null,null,null,null,null,null,null,null,null,null,null,null,null,null,null,null,null,null,null,null,null,null,null,null,{"$f":"IF(ISBLANK(D643),\"\",ROW(D643)-3)","v":""}]
[null,null,null,null,null,null,null,null,null,null,null,null,null,null,null,null,null,null,null,null,null,null,null,null,null,null,null,null,""]
[null,null,null,null,null,null,null,null,null,null,null,null,null,null,null,null,null,null,null,null,null,null,null,null,null,null,null,null,""]
[null,null,null,null,null,null,null,null,null,null,null,null,null,null,null,null,null,null,null,null,null,null,null,null,null,null,null,null,""]
[null,null,null,null,null,null,null,null,null,null,null,null,null,null,null,null,null,null,null,null,null,null,null,null,null,null,null,null,""]
[null,null,null,null,null,null,null,null,null,null,null,null,null,null,null,null,null,null,null,null,null,null,null,null,null,null,null,null,""]
[null,null,null,null,null,null,null,null,null,null,null,null,null,null,null,null,null,null,null,null,null,null,null,null,null,null,null,null,""]
[null,null,null,null,null,null,null,null,null,null,null,null,null,null,null,null,null,null,null,null,null,null,null,null,null,null,null,null,""]
[null,null,null,null,null,null,null,null,null,null,null,null,null,null,null,null,null,null,null,null,null,null,null,null,null,null,null,null,""]
[null,null,null,null,null,null,null,null,null,null,null,null,null,null,null,null,null,null,null,null,null,null,null,null,null,null,null,null,""]
[null,null,null,null,null,null,null,null,null,null,null,null,null,null,null,null,null,null,null,null,null,null,null,null,null,null,null,null,""]
[null,null,null,null,null,null,null,null,null,null,null,null,null,null,null,null,null,null,null,null,null,null,null,null,null,null,null,null,""]
[null,null,null,null,null,null,null,null,null,null,null,null,null,null,null,null,null,null,null,null,null,null,null,null,null,null,null,null,""]
[null,null,null,null,null,null,null,null,null,null,null,null,null,null,null,null,null,null,null,null,null,null,null,null,null,null,null,null,""]
[null,null,null,null,null,null,null,null,null,null,null,null,null,null,null,null,null,null,null,null,null,null,null,null,null,null,null,null,""]
[null,null,null,null,null,null,null,null,null,null,null,null,null,null,null,null,null,null,null,null,null,null,null,null,null,null,null,null,""]
[null,null,null,null,null,null,null,null,null,null,null,null,null,null,null,null,null,null,null,null,null,null,null,null,null,null,null,null,""]
[null,null,null,null,null,null,null,null,null,null,null,null,null,null,null,null,null,null,null,null,null,null,null,null,null,null,null,null,""]
[null,null,null,null,null,null,null,null,null,null,null,null,null,null,null,null,null,null,null,null,null,null,null,null,null,null,null,null,""]
[null,null,null,null,null,null,null,null,null,null,null,null,null,null,null,null,null,null,null,null,null,null,null,null,null,null,null,null,""]
[null,null,null,null,null,null,null,null,null,null,null,null,null,null,null,null,null,null,null,null,null,null,null,null,null,null,null,null,""]
[null,null,null,null,null,null,null,null,null,null,null,null,null,null,null,null,null,null,null,null,null,null,null,null,null,null,null,null,""]
[null,null,null,null,null,null,null,null,null,null,null,null,null,null,null,null,null,null,null,null,null,null,null,null,null,null,null,null,""]
[null,null,null,null,null,null,null,null,null,null,null,null,null,null,null,null,null,null,null,null,null,null,null,null,null,null,null,null,""]
[null,null,null,null,null,null,null,null,null,null,null,null,null,null,null,null,null,null,null,null,null,null,null,null,null,null,null,null,""]
[null,null,null,null,null,null,null,null,null,null,null,null,null,null,null,null,null,null,null,null,null,null,null,null,null,null,null,null,""]
[null,null,null,null,null,null,null,null,null,null,null,null,null,null,null,null,null,null,null,null,null,null,null,null,null,null,null,null,""]
[null,null,null,null,null,null,null,null,null,null,null,null,null,null,null,null,null,null,null,null,null,null,null,null,null,null,null,null,""]
[null,null,null,null,null,null,null,null,null,null,null,null,null,null,null,null,null,null,null,null,null,null,null,null,null,null,null,null,""]
[null,null,null,null,null,null,null,null,null,null,null,null,null,null,null,null,null,null,null,null,null,null,null,null,null,null,null,null,""]
[null,null,null,null,null,null,null,null,null,null,null,null,null,null,null,null,null,null,null,null,null,null,null,null,null,null,null,null,""]
[null,null,null,null,null,null,null,null,null,null,null,null,null,null,null,null,null,null,null,null,null,null,null,null,null,null,null,null,""]
[null,null,null,null,null,null,null,null,null,null,null,null,null,null,null,null,null,null,null,null,null,null,null,null,null,null,null,null,""]
[null,null,null,null,null,null,null,null,null,null,null,null,null,null,null,null,null,null,null,null,null,null,null,null,null,null,null,null,""]
[null,null,null,null,null,null,null,null,null,null,null,null,null,null,null,null,null,null,null,null,null,null,null,null,null,null,null,null,""]
[null,null,null,null,null,null,null,null,null,null,null,null,null,null,null,null,null,null,null,null,null,null,null,null,null,null,null,null,""]
[null,null,null,null,null,null,null,null,null,null,null,null,null,null,null,null,null,null,null,null,null,null,null,null,null,null,null,null,""]
[null,null,null,null,null,null,null,null,null,null,null,null,null,null,null,null,null,null,null,null,null,null,null,null,null,null,null,null,""]
[null,null,null,null,null,null,null,null,null,null,null,null,null,null,null,null,null,null,null,null,null,null,null,null,null,null,null,null,""]
[null,null,null,null,null,null,null,null,null,null,null,null,null,null,null,null,null,null,null,null,null,null,null,null,null,null,null,null,""]
[null,null,null,null,null,null,null,null,null,null,null,null,null,null,null,null,null,null,null,null,null,null,null,null,null,null,null,null,""]
[null,null,null,null,null,null,null,null,null,null,null,null,null,null,null,null,null,null,null,null,null,null,null,null,null,null,null,null,""]
[null,null,null,null,null,null,null,null,null,null,null,null,null,null,null,null,null,null,null,null,null,null,null,null,null,null,null,null,""]
[null,null,null,null,null,null,null,null,null,null,null,null,null,null,null,null,null,null,null,null,null,null,null,null,null,null,null,null,""]
[null,null,null,null,null,null,null,null,null,null,null,null,null,null,null,null,null,null,null,null,null,null,null,null,null,null,null,null,""]
[null,null,null,null,null,null,null,null,null,null,null,null,null,null,null,null,null,null,null,null,null,null,null,null,null,null,null,null,""]
[null,null,null,null,null,null,null,null,null,null,null,null,null,null,null,null,null,null,null,null,null,null,null,null,null,null,null,null,""]
[null,null,null,null,null,null,null,null,null,null,null,null,null,null,null,null,null,null,null,null,null,null,null,null,null,null,null,null,""]
[null,null,null,null,null,null,null,null,null,null,null,null,null,null,null,null,null,null,null,null,null,null,null,null,null,null,null,null,""]
[null,null,null,null,null,null,null,null,null,null,null,null,null,null,null,null,null,null,null,null,null,null,null,null,null,null,null,null,""]
[null,null,null,null,null,null,null,null,null,null,null,null,null,null,null,null,null,null,null,null,null,null,null,null,null,null,null,null,""]
[null,null,null,null,null,null,null,null,null,null,null,null,null,null,null,null,null,null,null,null,null,null,null,null,null,null,null,null,""]
[null,null,null,null,null,null,null,null,null,null,null,null,null,null,null,null,null,null,null,null,null,null,null,null,null,null,null,null,""]
[null,null,null,null,null,null,null,null,null,null,null,null,null,null,null,null,null,null,null,null,null,null,null,null,null,null,null,null,""]
[null,null,null,null,null,null,null,null,null,null,null,null,null,null,null,null,null,null,null,null,null,null,null,null,null,null,null,null,""]
[null,null,null,null,null,null,null,null,null,null,null,null,null,null,null,null,null,null,null,null,null,null,null,null,null,null,null,null,""]
[null,null,null,null,null,null,null,null,null,null,null,null,null,null,null,null,null,null,null,null,null,null,null,null,null,null,null,null,""]
[null,null,null,null,null,null,null,null,null,null,null,null,null,null,null,null,null,null,null,null,null,null,null,null,null,null,null,null,""]
[null,null,null,null,null,null,null,null,null,null,null,null,null,null,null,null,null,null,null,null,null,null,null,null,null,null,null,null,""]
[null,null,null,null,null,null,null,null,null,null,null,null,null,null,null,null,null,null,null,null,null,null,null,null,null,null,null,null,""]
[null,null,null,null,null,null,null,null,null,null,null,null,null,null,null,null,null,null,null,null,null,null,null,null,null,null,null,null,""]
[null,null,null,null,null,null,null,null,null,null,null,null,null,null,null,null,null,null,null,null,null,null,null,null,null,null,null,null,""]
[null,null,null,null,null,null,null,null,null,null,null,null,null,null,null,null,null,null,null,null,null,null,null,null,null,null,null,null,""]
[null,null,null,null,null,null,null,null,null,null,null,null,null,null,null,null,null,null,null,null,null,null,null,null,null,null,null,null,""]
[null,null,null,null,null,null,null,null,null,null,null,null,null,null,null,null,null,null,null,null,null,null,null,null,null,null,null,null,{"$f":"IF(ISBLANK(D707),\"\",ROW(D707)-3)","v":""}]
[null,null,null,null,null,null,null,null,null,null,null,null,null,null,null,null,null,null,null,null,null,null,null,null,null,null,null,null,""]
[null,null,null,null,null,null,null,null,null,null,null,null,null,null,null,null,null,null,null,null,null,null,null,null,null,null,null,null,""]
[null,null,null,null,null,null,null,null,null,null,null,null,null,null,null,null,null,null,null,null,null,null,null,null,null,null,null,null,""]
[null,null,null,null,null,null,null,null,null,null,null,null,null,null,null,null,null,null,null,null,null,null,null,null,null,null,null,null,""]
[null,null,null,null,null,null,null,null,null,null,null,null,null,null,null,null,null,null,null,null,null,null,null,null,null,null,null,null,""]
[null,null,null,null,null,null,null,null,null,null,null,null,null,null,null,null,null,null,null,null,null,null,null,null,null,null,null,null,""]
[null,null,null,null,null,null,null,null,null,null,null,null,null,null,null,null,null,null,null,null,null,null,null,null,null,null,null,null,""]
[null,null,null,null,null,null,null,null,null,null,null,null,null,null,null,null,null,null,null,null,null,null,null,null,null,null,null,null,""]
[null,null,null,null,null,null,null,null,null,null,null,null,null,null,null,null,null,null,null,null,null,null,null,null,null,null,null,null,""]
[null,null,null,null,null,null,null,null,null,null,null,null,null,null,null,null,null,null,null,null,null,null,null,null,null,null,null,null,""]
[null,null,null,null,null,null,null,null,null,null,null,null,null,null,null,null,null,null,null,null,null,null,null,null,null,null,null,null,""]
[null,null,null,null,null,null,null,null,null,null,null,null,null,null,null,null,null,null,null,null,null,null,null,null,null,null,null,null,""]
[null,null,null,null,null,null,null,null,null,null,null,null,null,null,null,null,null,null,null,null,null,null,null,null,null,null,null,null,""]
[null,null,null,null,null,null,null,null,null,null,null,null,null,null,null,null,null,null,null,null,null,null,null,null,null,null,null,null,""]
[null,null,null,null,null,null,null,null,null,null,null,null,null,null,null,null,null,null,null,null,null,null,null,null,null,null,null,null,""]
[null,null,null,null,null,null,null,null,null,null,null,null,null,null,null,null,null,null,null,null,null,null,null,null,null,null,null,null,""]
[null,null,null,null,null,null,null,null,null,null,null,null,null,null,null,null,null,null,null,null,null,null,null,null,null,null,null,null,""]
[null,null,null,null,null,null,null,null,null,null,null,null,null,null,null,null,null,null,null,null,null,null,null,null,null,null,null,null,""]
[null,null,null,null,null,null,null,null,null,null,null,null,null,null,null,null,null,null,null,null,null,null,null,null,null,null,null,null,""]
[null,null,null,null,null,null,null,null,null,null,null,null,null,null,null,null,null,null,null,null,null,null,null,null,null,null,null,null,""]
[null,null,null,null,null,null,null,null,null,null,null,null,null,null,null,null,null,null,null,null,null,null,null,null,null,null,null,null,""]
[null,null,null,null,null,null,null,null,null,null,null,null,null,null,null,null,null,null,null,null,null,null,null,null,null,null,null,null,""]
[null,null,null,null,null,null,null,null,null,null,null,null,null,null,null,null,null,null,null,null,null,null,null,null,null,null,null,null,""]
[null,null,null,null,null,null,null,null,null,null,null,null,null,null,null,null,null,null,null,null,null,null,null,null,null,null,null,null,""]
[null,null,null,null,null,null,null,null,null,null,null,null,null,null,null,null,null,null,null,null,null,null,null,null,null,null,null,null,""]
[null,null,null,null,null,null,null,null,null,null,null,null,null,null,null,null,null,null,null,null,null,null,null,null,null,null,null,null,""]
[null,null,null,null,null,null,null,null,null,null,null,null,null,null,null,null,null,null,null,null,null,null,null,null,null,null,null,null,""]
[null,null,null,null,null,null,null,null,null,null,null,null,null,null,null,null,null,null,null,null,null,null,null,null,null,null,null,null,""]
[null,null,null,null,null,null,null,null,null,null,null,null,null,null,null,null,null,null,null,null,null,null,null,null,null,null,null,null,""]
[null,null,null,null,null,null,null,null,null,null,null,null,null,null,null,null,null,null,null,null,null,null,null,null,null,null,null,null,""]
[null,null,null,null,null,null,null,null,null,null,null,null,null,null,null,null,null,null,null,null,null,null,null,null,null,null,null,null,""]
[null,null,null,null,null,null,null,null,null,null,null,null,null,null,null,null,null,null,null,null,null,null,null,null,null,null,null,null,""]
[null,null,null,null,null,null,null,null,null,null,null,null,null,null,null,null,null,null,null,null,null,null,null,null,null,null,null,null,""]
[null,null,null,null,null,null,null,null,null,null,null,null,null,null,null,null,null,null,null,null,null,null,null,null,null,null,null,null,""]
[null,null,null,null,null,null,null,null,null,null,null,null,null,null,null,null,null,null,null,null,null,null,null,null,null,null,null,null,""]
[null,null,null,null,null,null,null,null,null,null,null,null,null,null,null,null,null,null,null,null,null,null,null,null,null,null,null,null,""]
[null,null,null,null,null,null,null,null,null,null,null,null,null,null,null,null,null,null,null,null,null,null,null,null,null,null,null,null,""]
[null,null,null,null,null,null,null,null,null,null,null,null,null,null,null,null,null,null,null,null,null,null,null,null,null,null,null,null,""]
[null,null,null,null,null,null,null,null,null,null,null,null,null,null,null,null,null,null,null,null,null,null,null,null,null,null,null,null,""]
[null,null,null,null,null,null,null,null,null,null,null,null,null,null,null,null,null,null,null,null,null,null,null,null,null,null,null,null,""]
[null,null,null,null,null,null,null,null,null,null,null,null,null,null,null,null,null,null,null,null,null,null,null,null,null,null,null,null,""]
[null,null,null,null,null,null,null,null,null,null,null,null,null,null,null,null,null,null,null,null,null,null,null,null,null,null,null,null,""]
[null,null,null,null,null,null,null,null,null,null,null,null,null,null,null,null,null,null,null,null,null,null,null,null,null,null,null,null,""]
[null,null,null,null,null,null,null,null,null,null,null,null,null,null,null,null,null,null,null,null,null,null,null,null,null,null,null,null,""]
[null,null,null,null,null,null,null,null,null,null,null,null,null,null,null,null,null,null,null,null,null,null,null,null,null,null,null,null,""]
[null,null,null,null,null,null,null,null,null,null,null,null,null,null,null,null,null,null,null,null,null,null,null,null,null,null,null,null,""]
[null,null,null,null,null,null,null,null,null,null,null,null,null,null,null,null,null,null,null,null,null,null,null,null,null,null,null,null,""]
[null,null,null,null,null,null,null,null,null,null,null,null,null,null,null,null,null,null,null,null,null,null,null,null,null,null,null,null,""]
[null,null,null,null,null,null,null,null,null,null,null,null,null,null,null,null,null,null,null,null,null,null,null,null,null,null,null,null,""]
[null,null,null,null,null,null,null,null,null,null,null,null,null,null,null,null,null,null,null,null,null,null,null,null,null,null,null,null,""]
[null,null,null,null,null,null,null,null,null,null,null,null,null,null,null,null,null,null,null,null,null,null,null,null,null,null,null,null,""]
[null,null,null,null,null,null,null,null,null,null,null,null,null,null,null,null,null,null,null,null,null,null,null,null,null,null,null,null,""]
[null,null,null,null,null,null,null,null,null,null,null,null,null,null,null,null,null,null,null,null,null,null,null,null,null,null,null,null,""]
[null,null,null,null,null,null,null,null,null,null,null,null,null,null,null,null,null,null,null,null,null,null,null,null,null,null,null,null,""]
[null,null,null,null,null,null,null,null,null,null,null,null,null,null,null,null,null,null,null,null,null,null,null,null,null,null,null,null,""]
[null,null,null,null,null,null,null,null,null,null,null,null,null,null,null,null,null,null,null,null,null,null,null,null,null,null,null,null,""]
[null,null,null,null,null,null,null,null,null,null,null,null,null,null,null,null,null,null,null,null,null,null,null,null,null,null,null,null,""]
[null,null,null,null,null,null,null,null,null,null,null,null,null,null,null,null,null,null,null,null,null,null,null,null,null,null,null,null,""]
[null,null,null,null,null,null,null,null,null,null,null,null,null,null,null,null,null,null,null,null,null,null,null,null,null,null,null,null,""]
[null,null,null,null,null,null,null,null,null,null,null,null,null,null,null,null,null,null,null,null,null,null,null,null,null,null,null,null,""]
[null,null,null,null,null,null,null,null,null,null,null,null,null,null,null,null,null,null,null,null,null,null,null,null,null,null,null,null,""]
[null,null,null,null,null,null,null,null,null,null,null,null,null,null,null,null,null,null,null,null,null,null,null,null,null,null,null,null,""]
[null,null,null,null,null,null,null,null,null,null,null,null,null,null,null,null,null,null,null,null,null,null,null,null,null,null,null,null,""]
[null,null,null,null,null,null,null,null,null,null,null,null,null,null,null,null,null,null,null,null,null,null,null,null,null,null,null,null,{"$f":"IF(ISBLANK(D771),\"\",ROW(D771)-3)","v":""}]
[null,null,null,null,null,null,null,null,null,null,null,null,null,null,null,null,null,null,null,null,null,null,null,null,null,null,null,null,""]
[null,null,null,null,null,null,null,null,null,null,null,null,null,null,null,null,null,null,null,null,null,null,null,null,null,null,null,null,""]
[null,null,null,null,null,null,null,null,null,null,null,null,null,null,null,null,null,null,null,null,null,null,null,null,null,null,null,null,""]
[null,null,null,null,null,null,null,null,null,null,null,null,null,null,null,null,null,null,null,null,null,null,null,null,null,null,null,null,""]
[null,null,null,null,null,null,null,null,null,null,null,null,null,null,null,null,null,null,null,null,null,null,null,null,null,null,null,null,""]
[null,null,null,null,null,null,null,null,null,null,null,null,null,null,null,null,null,null,null,null,null,null,null,null,null,null,null,null,""]
[null,null,null,null,null,null,null,null,null,null,null,null,null,null,null,null,null,null,null,null,null,null,null,null,null,null,null,null,""]
[null,null,null,null,null,null,null,null,null,null,null,null,null,null,null,null,null,null,null,null,null,null,null,null,null,null,null,null,""]
[null,null,null,null,null,null,null,null,null,null,null,null,null,null,null,null,null,null,null,null,null,null,null,null,null,null,null,null,""]
[null,null,null,null,null,null,null,null,null,null,null,null,null,null,null,null,null,null,null,null,null,null,null,null,null,null,null,null,""]
[null,null,null,null,null,null,null,null,null,null,null,null,null,null,null,null,null,null,null,null,null,null,null,null,null,null,null,null,""]
[null,null,null,null,null,null,null,null,null,null,null,null,null,null,null,null,null,null,null,null,null,null,null,null,null,null,null,null,""]
[null,null,null,null,null,null,null,null,null,null,null,null,null,null,null,null,null,null,null,null,null,null,null,null,null,null,null,null,""]
[null,null,null,null,null,null,null,null,null,null,null,null,null,null,null,null,null,null,null,null,null,null,null,null,null,null,null,null,""]
[null,null,null,null,null,null,null,null,null,null,null,null,null,null,null,null,null,null,null,null,null,null,null,null,null,null,null,null,""]
[null,null,null,null,null,null,null,null,null,null,null,null,null,null,null,null,null,null,null,null,null,null,null,null,null,null,null,null,""]
[null,null,null,null,null,null,null,null,null,null,null,null,null,null,null,null,null,null,null,null,null,null,null,null,null,null,null,null,""]
[null,null,null,null,null,null,null,null,null,null,null,null,null,null,null,null,null,null,null,null,null,null,null,null,null,null,null,null,""]
[null,null,null,null,null,null,null,null,null,null,null,null,null,null,null,null,null,null,null,null,null,null,null,null,null,null,null,null,""]
[null,null,null,null,null,null,null,null,null,null,null,null,null,null,null,null,null,null,null,null,null,null,null,null,null,null,null,null,""]
[null,null,null,null,null,null,null,null,null,null,null,null,null,null,null,null,null,null,null,null,null,null,null,null,null,null,null,null,""]
[null,null,null,null,null,null,null,null,null,null,null,null,null,null,null,null,null,null,null,null,null,null,null,null,null,null,null,null,""]
[null,null,null,null,null,null,null,null,null,null,null,null,null,null,null,null,null,null,null,null,null,null,null,null,null,null,null,null,""]
[null,null,null,null,null,null,null,null,null,null,null,null,null,null,null,null,null,null,null,null,null,null,null,null,null,null,null,null,""]
[null,null,null,null,null,null,null,null,null,null,null,null,null,null,null,null,null,null,null,null,null,null,null,null,null,null,null,null,""]
[null,null,null,null,null,null,null,null,null,null,null,null,null,null,null,null,null,null,null,null,null,null,null,null,null,null,null,null,""]
[null,null,null,null,null,null,null,null,null,null,null,null,null,null,null,null,null,null,null,null,null,null,null,null,null,null,null,null,""]
[null,null,null,null,null,null,null,null,null,null,null,null,null,null,null,null,null,null,null,null,null,null,null,null,null,null,null,null,""]
[null,null,null,null,null,null,null,null,null,null,null,null,null,null,null,null,null,null,null,null,null,null,null,null,null,null,null,null,""]
[null,null,null,null,null,null,null,null,null,null,null,null,null,null,null,null,null,null,null,null,null,null,null,null,null,null,null,null,""]
[null,null,null,null,null,null,null,null,null,null,null,null,null,null,null,null,null,null,null,null,null,null,null,null,null,null,null,null,""]
[null,null,null,null,null,null,null,null,null,null,null,null,null,null,null,null,null,null,null,null,null,null,null,null,null,null,null,null,""]
[null,null,null,null,null,null,null,null,null,null,null,null,null,null,null,null,null,null,null,null,null,null,null,null,null,null,null,null,""]
[null,null,null,null,null,null,null,null,null,null,null,null,null,null,null,null,null,null,null,null,null,null,null,null,null,null,null,null,""]
[null,null,null,null,null,null,null,null,null,null,null,null,null,null,null,null,null,null,null,null,null,null,null,null,null,null,null,null,""]
[null,null,null,null,null,null,null,null,null,null,null,null,null,null,null,null,null,null,null,null,null,null,null,null,null,null,null,null,""]
[null,null,null,null,null,null,null,null,null,null,null,null,null,null,null,null,null,null,null,null,null,null,null,null,null,null,null,null,""]
[null,null,null,null,null,null,null,null,null,null,null,null,null,null,null,null,null,null,null,null,null,null,null,null,null,null,null,null,""]
[null,null,null,null,null,null,null,null,null,null,null,null,null,null,null,null,null,null,null,null,null,null,null,null,null,null,null,null,""]
[null,null,null,null,null,null,null,null,null,null,null,null,null,null,null,null,null,null,null,null,null,null,null,null,null,null,null,null,""]
[null,null,null,null,null,null,null,null,null,null,null,null,null,null,null,null,null,null,null,null,null,null,null,null,null,null,null,null,""]
[null,null,null,null,null,null,null,null,null,null,null,null,null,null,null,null,null,null,null,null,null,null,null,null,null,null,null,null,""]
[null,null,null,null,null,null,null,null,null,null,null,null,null,null,null,null,null,null,null,null,null,null,null,null,null,null,null,null,""]
[null,null,null,null,null,null,null,null,null,null,null,null,null,null,null,null,null,null,null,null,null,null,null,null,null,null,null,null,""]
[null,null,null,null,null,null,null,null,null,null,null,null,null,null,null,null,null,null,null,null,null,null,null,null,null,null,null,null,""]
[null,null,null,null,null,null,null,null,null,null,null,null,null,null,null,null,null,null,null,null,null,null,null,null,null,null,null,null,""]
[null,null,null,null,null,null,null,null,null,null,null,null,null,null,null,null,null,null,null,null,null,null,null,null,null,null,null,null,""]
[null,null,null,null,null,null,null,null,null,null,null,null,null,null,null,null,null,null,null,null,null,null,null,null,null,null,null,null,""]
[null,null,null,null,null,null,null,null,null,null,null,null,null,null,null,null,null,null,null,null,null,null,null,null,null,null,null,null,""]
[null,null,null,null,null,null,null,null,null,null,null,null,null,null,null,null,null,null,null,null,null,null,null,null,null,null,null,null,""]
[null,null,null,null,null,null,null,null,null,null,null,null,null,null,null,null,null,null,null,null,null,null,null,null,null,null,null,null,""]
[null,null,null,null,null,null,null,null,null,null,null,null,null,null,null,null,null,null,null,null,null,null,null,null,null,null,null,null,""]
[null,null,null,null,null,null,null,null,null,null,null,null,null,null,null,null,null,null,null,null,null,null,null,null,null,null,null,null,""]
[null,null,null,null,null,null,null,null,null,null,null,null,null,null,null,null,null,null,null,null,null,null,null,null,null,null,null,null,""]
[null,null,null,null,null,null,null,null,null,null,null,null,null,null,null,null,null,null,null,null,null,null,null,null,null,null,null,null,""]
[null,null,null,null,null,null,null,null,null,null,null,null,null,null,null,null,null,null,null,null,null,null,null,null,null,null,null,null,""]
[null,null,null,null,null,null,null,null,null,null,null,null,null,null,null,null,null,null,null,null,null,null,null,null,null,null,null,null,""]
[null,null,null,null,null,null,null,null,null,null,null,null,null,null,null,null,null,null,null,null,null,null,null,null,null,null,null,null,""]
[null,null,null,null,null,null,null,null,null,null,null,null,null,null,null,null,null,null,null,null,null,null,null,null,null,null,null,null,""]
[null,null,null,null,null,null,null,null,null,null,null,null,null,null,null,null,null,null,null,null,null,null,null,null,null,null,null,null,""]
[null,null,null,null,null,null,null,null,null,null,null,null,null,null,null,null,null,null,null,null,null,null,null,null,null,null,null,null,""]
[null,null,null,null,null,null,null,null,null,null,null,null,null,null,null,null,null,null,null,null,null,null,null,null,null,null,null,null,""]
[null,null,null,null,null,null,null,null,null,null,null,null,null,null,null,null,null,null,null,null,null,null,null,null,null,null,null,null,""]
[null,null,null,null,null,null,null,null,null,null,null,null,null,null,null,null,null,null,null,null,null,null,null,null,null,null,null,null,{"$f":"IF(ISBLANK(D835),\"\",ROW(D835)-3)","v":""}]
[null,null,null,null,null,null,null,null,null,null,null,null,null,null,null,null,null,null,null,null,null,null,null,null,null,null,null,null,""]
[null,null,null,null,null,null,null,null,null,null,null,null,null,null,null,null,null,null,null,null,null,null,null,null,null,null,null,null,""]
[null,null,null,null,null,null,null,null,null,null,null,null,null,null,null,null,null,null,null,null,null,null,null,null,null,null,null,null,""]
[null,null,null,null,null,null,null,null,null,null,null,null,null,null,null,null,null,null,null,null,null,null,null,null,null,null,null,null,""]
[null,null,null,null,null,null,null,null,null,null,null,null,null,null,null,null,null,null,null,null,null,null,null,null,null,null,null,null,""]
[null,null,null,null,null,null,null,null,null,null,null,null,null,null,null,null,null,null,null,null,null,null,null,null,null,null,null,null,""]
[null,null,null,null,null,null,null,null,null,null,null,null,null,null,null,null,null,null,null,null,null,null,null,null,null,null,null,null,""]
[null,null,null,null,null,null,null,null,null,null,null,null,null,null,null,null,null,null,null,null,null,null,null,null,null,null,null,null,""]
[null,null,null,null,null,null,null,null,null,null,null,null,null,null,null,null,null,null,null,null,null,null,null,null,null,null,null,null,""]
[null,null,null,null,null,null,null,null,null,null,null,null,null,null,null,null,null,null,null,null,null,null,null,null,null,null,null,null,""]
[null,null,null,null,null,null,null,null,null,null,null,null,null,null,null,null,null,null,null,null,null,null,null,null,null,null,null,null,""]
[null,null,null,null,null,null,null,null,null,null,null,null,null,null,null,null,null,null,null,null,null,null,null,null,null,null,null,null,""]
[null,null,null,null,null,null,null,null,null,null,null,null,null,null,null,null,null,null,null,null,null,null,null,null,null,null,null,null,""]
[null,null,null,null,null,null,null,null,null,null,null,null,null,null,null,null,null,null,null,null,null,null,null,null,null,null,null,null,""]
[null,null,null,null,null,null,null,null,null,null,null,null,null,null,null,null,null,null,null,null,null,null,null,null,null,null,null,null,""]
[null,null,null,null,null,null,null,null,null,null,null,null,null,null,null,null,null,null,null,null,null,null,null,null,null,null,null,null,""]
[null,null,null,null,null,null,null,null,null,null,null,null,null,null,null,null,null,null,null,null,null,null,null,null,null,null,null,null,""]
[null,null,null,null,null,null,null,null,null,null,null,null,null,null,null,null,null,null,null,null,null,null,null,null,null,null,null,null,""]
[null,null,null,null,null,null,null,null,null,null,null,null,null,null,null,null,null,null,null,null,null,null,null,null,null,null,null,null,""]
[null,null,null,null,null,null,null,null,null,null,null,null,null,null,null,null,null,null,null,null,null,null,null,null,null,null,null,null,""]
[null,null,null,null,null,null,null,null,null,null,null,null,null,null,null,null,null,null,null,null,null,null,null,null,null,null,null,null,""]
[null,null,null,null,null,null,null,null,null,null,null,null,null,null,null,null,null,null,null,null,null,null,null,null,null,null,null,null,""]
[null,null,null,null,null,null,null,null,null,null,null,null,null,null,null,null,null,null,null,null,null,null,null,null,null,null,null,null,""]
[null,null,null,null,null,null,null,null,null,null,null,null,null,null,null,null,null,null,null,null,null,null,null,null,null,null,null,null,""]
[null,null,null,null,null,null,null,null,null,null,null,null,null,null,null,null,null,null,null,null,null,null,null,null,null,null,null,null,""]
[null,null,null,null,null,null,null,null,null,null,null,null,null,null,null,null,null,null,null,null,null,null,null,null,null,null,null,null,""]
[null,null,null,null,null,null,null,null,null,null,null,null,null,null,null,null,null,null,null,null,null,null,null,null,null,null,null,null,""]
[null,null,null,null,null,null,null,null,null,null,null,null,null,null,null,null,null,null,null,null,null,null,null,null,null,null,null,null,""]
[null,null,null,null,null,null,null,null,null,null,null,null,null,null,null,null,null,null,null,null,null,null,null,null,null,null,null,null,""]
[null,null,null,null,null,null,null,null,null,null,null,null,null,null,null,null,null,null,null,null,null,null,null,null,null,null,null,null,""]
[null,null,null,null,null,null,null,null,null,null,null,null,null,null,null,null,null,null,null,null,null,null,null,null,null,null,null,null,""]
[null,null,null,null,null,null,null,null,null,null,null,null,null,null,null,null,null,null,null,null,null,null,null,null,null,null,null,null,""]
[null,null,null,null,null,null,null,null,null,null,null,null,null,null,null,null,null,null,null,null,null,null,null,null,null,null,null,null,""]
[null,null,null,null,null,null,null,null,null,null,null,null,null,null,null,null,null,null,null,null,null,null,null,null,null,null,null,null,""]
[null,null,null,null,null,null,null,null,null,null,null,null,null,null,null,null,null,null,null,null,null,null,null,null,null,null,null,null,""]
[null,null,null,null,null,null,null,null,null,null,null,null,null,null,null,null,null,null,null,null,null,null,null,null,null,null,null,null,""]
[null,null,null,null,null,null,null,null,null,null,null,null,null,null,null,null,null,null,null,null,null,null,null,null,null,null,null,null,""]
[null,null,null,null,null,null,null,null,null,null,null,null,null,null,null,null,null,null,null,null,null,null,null,null,null,null,null,null,""]
[null,null,null,null,null,null,null,null,null,null,null,null,null,null,null,null,null,null,null,null,null,null,null,null,null,null,null,null,""]
[null,null,null,null,null,null,null,null,null,null,null,null,null,null,null,null,null,null,null,null,null,null,null,null,null,null,null,null,""]
[null,null,null,null,null,null,null,null,null,null,null,null,null,null,null,null,null,null,null,null,null,null,null,null,null,null,null,null,""]
[null,null,null,null,null,null,null,null,null,null,null,null,null,null,null,null,null,null,null,null,null,null,null,null,null,null,null,null,""]
[null,null,null,null,null,null,null,null,null,null,null,null,null,null,null,null,null,null,null,null,null,null,null,null,null,null,null,null,""]
[null,null,null,null,null,null,null,null,null,null,null,null,null,null,null,null,null,null,null,null,null,null,null,null,null,null,null,null,""]
[null,null,null,null,null,null,null,null,null,null,null,null,null,null,null,null,null,null,null,null,null,null,null,null,null,null,null,null,""]
[null,null,null,null,null,null,null,null,null,null,null,null,null,null,null,null,null,null,null,null,null,null,null,null,null,null,null,null,""]
[null,null,null,null,null,null,null,null,null,null,null,null,null,null,null,null,null,null,null,null,null,null,null,null,null,null,null,null,""]
[null,null,null,null,null,null,null,null,null,null,null,null,null,null,null,null,null,null,null,null,null,null,null,null,null,null,null,null,""]
[null,null,null,null,null,null,null,null,null,null,null,null,null,null,null,null,null,null,null,null,null,null,null,null,null,null,null,null,""]
[null,null,null,null,null,null,null,null,null,null,null,null,null,null,null,null,null,null,null,null,null,null,null,null,null,null,null,null,""]
[null,null,null,null,null,null,null,null,null,null,null,null,null,null,null,null,null,null,null,null,null,null,null,null,null,null,null,null,""]
[null,null,null,null,null,null,null,null,null,null,null,null,null,null,null,null,null,null,null,null,null,null,null,null,null,null,null,null,""]
[null,null,null,null,null,null,null,null,null,null,null,null,null,null,null,null,null,null,null,null,null,null,null,null,null,null,null,null,""]
[null,null,null,null,null,null,null,null,null,null,null,null,null,null,null,null,null,null,null,null,null,null,null,null,null,null,null,null,""]
[null,null,null,null,null,null,null,null,null,null,null,null,null,null,null,null,null,null,null,null,null,null,null,null,null,null,null,null,""]
[null,null,null,null,null,null,null,null,null,null,null,null,null,null,null,null,null,null,null,null,null,null,null,null,null,null,null,null,""]
[null,null,null,null,null,null,null,null,null,null,null,null,null,null,null,null,null,null,null,null,null,null,null,null,null,null,null,null,""]
[null,null,null,null,null,null,null,null,null,null,null,null,null,null,null,null,null,null,null,null,null,null,null,null,null,null,null,null,""]
[null,null,null,null,null,null,null,null,null,null,null,null,null,null,null,null,null,null,null,null,null,null,null,null,null,null,null,null,""]
[null,null,null,null,null,null,null,null,null,null,null,null,null,null,null,null,null,null,null,null,null,null,null,null,null,null,null,null,""]
[null,null,null,null,null,null,null,null,null,null,null,null,null,null,null,null,null,null,null,null,null,null,null,null,null,null,null,null,""]
[null,null,null,null,null,null,null,null,null,null,null,null,null,null,null,null,null,null,null,null,null,null,null,null,null,null,null,null,""]
[null,null,null,null,null,null,null,null,null,null,null,null,null,null,null,null,null,null,null,null,null,null,null,null,null,null,null,null,""]
[null,null,null,null,null,null,null,null,null,null,null,null,null,null,null,null,null,null,null,null,null,null,null,null,null,null,null,null,{"$f":"IF(ISBLANK(D899),\"\",ROW(D899)-3)","v":""}]
[null,null,null,null,null,null,null,null,null,null,null,null,null,null,null,null,null,null,null,null,null,null,null,null,null,null,null,null,""]
[null,null,null,null,null,null,null,null,null,null,null,null,null,null,null,null,null,null,null,null,null,null,null,null,null,null,null,null,""]
[null,null,null,null,null,null,null,null,null,null,null,null,null,null,null,null,null,null,null,null,null,null,null,null,null,null,null,null,""]
[null,null,null,null,null,null,null,null,null,null,null,null,null,null,null,null,null,null,null,null,null,null,null,null,null,null,null,null,""]
[null,null,null,null,null,null,null,null,null,null,null,null,null,null,null,null,null,null,null,null,null,null,null,null,null,null,null,null,""]
[null,null,null,null,null,null,null,null,null,null,null,null,null,null,null,null,null,null,null,null,null,null,null,null,null,null,null,null,""]
[null,null,null,null,null,null,null,null,null,null,null,null,null,null,null,null,null,null,null,null,null,null,null,null,null,null,null,null,""]
[null,null,null,null,null,null,null,null,null,null,null,null,null,null,null,null,null,null,null,null,null,null,null,null,null,null,null,null,""]
[null,null,null,null,null,null,null,null,null,null,null,null,null,null,null,null,null,null,null,null,null,null,null,null,null,null,null,null,""]
[null,null,null,null,null,null,null,null,null,null,null,null,null,null,null,null,null,null,null,null,null,null,null,null,null,null,null,null,""]
[null,null,null,null,null,null,null,null,null,null,null,null,null,null,null,null,null,null,null,null,null,null,null,null,null,null,null,null,""]
[null,null,null,null,null,null,null,null,null,null,null,null,null,null,null,null,null,null,null,null,null,null,null,null,null,null,null,null,""]
[null,null,null,null,null,null,null,null,null,null,null,null,null,null,null,null,null,null,null,null,null,null,null,null,null,null,null,null,""]
[null,null,null,null,null,null,null,null,null,null,null,null,null,null,null,null,null,null,null,null,null,null,null,null,null,null,null,null,""]
[null,null,null,null,null,null,null,null,null,null,null,null,null,null,null,null,null,null,null,null,null,null,null,null,null,null,null,null,""]
[null,null,null,null,null,null,null,null,null,null,null,null,null,null,null,null,null,null,null,null,null,null,null,null,null,null,null,null,""]
[null,null,null,null,null,null,null,null,null,null,null,null,null,null,null,null,null,null,null,null,null,null,null,null,null,null,null,null,""]
[null,null,null,null,null,null,null,null,null,null,null,null,null,null,null,null,null,null,null,null,null,null,null,null,null,null,null,null,""]
[null,null,null,null,null,null,null,null,null,null,null,null,null,null,null,null,null,null,null,null,null,null,null,null,null,null,null,null,""]
[null,null,null,null,null,null,null,null,null,null,null,null,null,null,null,null,null,null,null,null,null,null,null,null,null,null,null,null,""]
[null,null,null,null,null,null,null,null,null,null,null,null,null,null,null,null,null,null,null,null,null,null,null,null,null,null,null,null,""]
[null,null,null,null,null,null,null,null,null,null,null,null,null,null,null,null,null,null,null,null,null,null,null,null,null,null,null,null,""]
[null,null,null,null,null,null,null,null,null,null,null,null,null,null,null,null,null,null,null,null,null,null,null,null,null,null,null,null,""]
[null,null,null,null,null,null,null,null,null,null,null,null,null,null,null,null,null,null,null,null,null,null,null,null,null,null,null,null,""]
[null,null,null,null,null,null,null,null,null,null,null,null,null,null,null,null,null,null,null,null,null,null,null,null,null,null,null,null,""]
[null,null,null,null,null,null,null,null,null,null,null,null,null,null,null,null,null,null,null,null,null,null,null,null,null,null,null,null,""]
[null,null,null,null,null,null,null,null,null,null,null,null,null,null,null,null,null,null,null,null,null,null,null,null,null,null,null,null,""]
[null,null,null,null,null,null,null,null,null,null,null,null,null,null,null,null,null,null,null,null,null,null,null,null,null,null,null,null,""]
[null,null,null,null,null,null,null,null,null,null,null,null,null,null,null,null,null,null,null,null,null,null,null,null,null,null,null,null,""]
[null,null,null,null,null,null,null,null,null,null,null,null,null,null,null,null,null,null,null,null,null,null,null,null,null,null,null,null,""]
[null,null,null,null,null,null,null,null,null,null,null,null,null,null,null,null,null,null,null,null,null,null,null,null,null,null,null,null,""]
[null,null,null,null,null,null,null,null,null,null,null,null,null,null,null,null,null,null,null,null,null,null,null,null,null,null,null,null,""]
[null,null,null,null,null,null,null,null,null,null,null,null,null,null,null,null,null,null,null,null,null,null,null,null,null,null,null,null,""]
[null,null,null,null,null,null,null,null,null,null,null,null,null,null,null,null,null,null,null,null,null,null,null,null,null,null,null,null,""]
[null,null,null,null,null,null,null,null,null,null,null,null,null,null,null,null,null,null,null,null,null,null,null,null,null,null,null,null,""]
[null,null,null,null,null,null,null,null,null,null,null,null,null,null,null,null,null,null,null,null,null,null,null,null,null,null,null,null,""]
[null,null,null,null,null,null,null,null,null,null,null,null,null,null,null,null,null,null,null,null,null,null,null,null,null,null,null,null,""]
[null,null,null,null,null,null,null,null,null,null,null,null,null,null,null,null,null,null,null,null,null,null,null,null,null,null,null,null,""]
[null,null,null,null,null,null,null,null,null,null,null,null,null,null,null,null,null,null,null,null,null,null,null,null,null,null,null,null,""]
[null,null,null,null,null,null,null,null,null,null,null,null,null,null,null,null,null,null,null,null,null,null,null,null,null,null,null,null,""]
[null,null,null,null,null,null,null,null,null,null,null,null,null,null,null,null,null,null,null,null,null,null,null,null,null,null,null,null,""]
[null,null,null,null,null,null,null,null,null,null,null,null,null,null,null,null,null,null,null,null,null,null,null,null,null,null,null,null,""]
[null,null,null,null,null,null,null,null,null,null,null,null,null,null,null,null,null,null,null,null,null,null,null,null,null,null,null,null,""]
[null,null,null,null,null,null,null,null,null,null,null,null,null,null,null,null,null,null,null,null,null,null,null,null,null,null,null,null,""]
[null,null,null,null,null,null,null,null,null,null,null,null,null,null,null,null,null,null,null,null,null,null,null,null,null,null,null,null,""]
[null,null,null,null,null,null,null,null,null,null,null,null,null,null,null,null,null,null,null,null,null,null,null,null,null,null,null,null,""]
[null,null,null,null,null,null,null,null,null,null,null,null,null,null,null,null,null,null,null,null,null,null,null,null,null,null,null,null,""]
[null,null,null,null,null,null,null,null,null,null,null,null,null,null,null,null,null,null,null,null,null,null,null,null,null,null,null,null,""]
[null,null,null,null,null,null,null,null,null,null,null,null,null,null,null,null,null,null,null,null,null,null,null,null,null,null,null,null,""]
[null,null,null,null,null,null,null,null,null,null,null,null,null,null,null,null,null,null,null,null,null,null,null,null,null,null,null,null,""]
[null,null,null,null,null,null,null,null,null,null,null,null,null,null,null,null,null,null,null,null,null,null,null,null,null,null,null,null,""]
[null,null,null,null,null,null,null,null,null,null,null,null,null,null,null,null,null,null,null,null,null,null,null,null,null,null,null,null,""]
[null,null,null,null,null,null,null,null,null,null,null,null,null,null,null,null,null,null,null,null,null,null,null,null,null,null,null,null,""]
[null,null,null,null,null,null,null,null,null,null,null,null,null,null,null,null,null,null,null,null,null,null,null,null,null,null,null,null,""]
[null,null,null,null,null,null,null,null,null,null,null,null,null,null,null,null,null,null,null,null,null,null,null,null,null,null,null,null,""]
[null,null,null,null,null,null,null,null,null,null,null,null,null,null,null,null,null,null,null,null,null,null,null,null,null,null,null,null,""]
[null,null,null,null,null,null,null,null,null,null,null,null,null,null,null,null,null,null,null,null,null,null,null,null,null,null,null,null,""]
[null,null,null,null,null,null,null,null,null,null,null,null,null,null,null,null,null,null,null,null,null,null,null,null,null,null,null,null,""]
[null,null,null,null,null,null,null,null,null,null,null,null,null,null,null,null,null,null,null,null,null,null,null,null,null,null,null,null,""]
[null,null,null,null,null,null,null,null,null,null,null,null,null,null,null,null,null,null,null,null,null,null,null,null,null,null,null,null,""]
[null,null,null,null,null,null,null,null,null,null,null,null,null,null,null,null,null,null,null,null,null,null,null,null,null,null,null,null,""]
[null,null,null,null,null,null,null,null,null,null,null,null,null,null,null,null,null,null,null,null,null,null,null,null,null,null,null,null,""]
[null,null,null,null,null,null,null,null,null,null,null,null,null,null,null,null,null,null,null,null,null,null,null,null,null,null,null,null,""]
[null,null,null,null,null,null,null,null,null,null,null,null,null,null,null,null,null,null,null,null,null,null,null,null,null,null,null,null,{"$f":"IF(ISBLANK(D963),\"\",ROW(D963)-3)","v":""}]
[null,null,null,null,null,null,null,null,null,null,null,null,null,null,null,null,null,null,null,null,null,null,null,null,null,null,null,null,""]
[null,null,null,null,null,null,null,null,null,null,null,null,null,null,null,null,null,null,null,null,null,null,null,null,null,null,null,null,""]
[null,null,null,null,null,null,null,null,null,null,null,null,null,null,null,null,null,null,null,null,null,null,null,null,null,null,null,null,""]
[null,null,null,null,null,null,null,null,null,null,null,null,null,null,null,null,null,null,null,null,null,null,null,null,null,null,null,null,""]
[null,null,null,null,null,null,null,null,null,null,null,null,null,null,null,null,null,null,null,null,null,null,null,null,null,null,null,null,""]
[null,null,null,null,null,null,null,null,null,null,null,null,null,null,null,null,null,null,null,null,null,null,null,null,null,null,null,null,""]
[null,null,null,null,null,null,null,null,null,null,null,null,null,null,null,null,null,null,null,null,null,null,null,null,null,null,null,null,""]
[null,null,null,null,null,null,null,null,null,null,null,null,null,null,null,null,null,null,null,null,null,null,null,null,null,null,null,null,""]
[null,null,null,null,null,null,null,null,null,null,null,null,null,null,null,null,null,null,null,null,null,null,null,null,null,null,null,null,""]
[null,null,null,null,null,null,null,null,null,null,null,null,null,null,null,null,null,null,null,null,null,null,null,null,null,null,null,null,""]
[null,null,null,null,null,null,null,null,null,null,null,null,null,null,null,null,null,null,null,null,null,null,null,null,null,null,null,null,""]
[null,null,null,null,null,null,null,null,null,null,null,null,null,null,null,null,null,null,null,null,null,null,null,null,null,null,null,null,""]
[null,null,null,null,null,null,null,null,null,null,null,null,null,null,null,null,null,null,null,null,null,null,null,null,null,null,null,null,""]
[null,null,null,null,null,null,null,null,null,null,null,null,null,null,null,null,null,null,null,null,null,null,null,null,null,null,null,null,""]
[null,null,null,null,null,null,null,null,null,null,null,null,null,null,null,null,null,null,null,null,null,null,null,null,null,null,null,null,""]
[null,null,null,null,null,null,null,null,null,null,null,null,null,null,null,null,null,null,null,null,null,null,null,null,null,null,null,null,""]
[null,null,null,null,null,null,null,null,null,null,null,null,null,null,null,null,null,null,null,null,null,null,null,null,null,null,null,null,""]
[null,null,null,null,null,null,null,null,null,null,null,null,null,null,null,null,null,null,null,null,null,null,null,null,null,null,null,null,""]
[null,null,null,null,null,null,null,null,null,null,null,null,null,null,null,null,null,null,null,null,null,null,null,null,null,null,null,null,""]
[null,null,null,null,null,null,null,null,null,null,null,null,null,null,null,null,null,null,null,null,null,null,null,null,null,null,null,null,""]
[null,null,null,null,null,null,null,null,null,null,null,null,null,null,null,null,null,null,null,null,null,null,null,null,null,null,null,null,""]
[null,null,null,null,null,null,null,null,null,null,null,null,null,null,null,null,null,null,null,null,null,null,null,null,null,null,null,null,""]
[null,null,null,null,null,null,null,null,null,null,null,null,null,null,null,null,null,null,null,null,null,null,null,null,null,null,null,null,""]
[null,null,null,null,null,null,null,null,null,null,null,null,null,null,null,null,null,null,null,null,null,null,null,null,null,null,null,null,""]
[null,null,null,null,null,null,null,null,null,null,null,null,null,null,null,null,null,null,null,null,null,null,null,null,null,null,null,null,""]
[null,null,null,null,null,null,null,null,null,null,null,null,null,null,null,null,null,null,null,null,null,null,null,null,null,null,null,null,""]
[null,null,null,null,null,null,null,null,null,null,null,null,null,null,null,null,null,null,null,null,null,null,null,null,null,null,null,null,""]
[null,null,null,null,null,null,null,null,null,null,null,null,null,null,null,null,null,null,null,null,null,null,null,null,null,null,null,null,""]
[null,null,null,null,null,null,null,null,null,null,null,null,null,null,null,null,null,null,null,null,null,null,null,null,null,null,null,null,""]
[null,null,null,null,null,null,null,null,null,null,null,null,null,null,null,null,null,null,null,null,null,null,null,null,null,null,null,null,""]
[null,null,null,null,null,null,null,null,null,null,null,null,null,null,null,null,null,null,null,null,null,null,null,null,null,null,null,null,""]
[null,null,null,null,null,null,null,null,null,null,null,null,null,null,null,null,null,null,null,null,null,null,null,null,null,null,null,null,""]
[null,null,null,null,null,null,null,null,null,null,null,null,null,null,null,null,null,null,null,null,null,null,null,null,null,null,null,null,""]
[null,null,null,null,null,null,null,null,null,null,null,null,null,null,null,null,null,null,null,null,null,null,null,null,null,null,null,null,""]

{"sheet":"RP Data","index":30,"n_rows":59,"n_cols":37,"rows_kept":59,"cut":false,"hidden":true,"merged":[[3,13,3,14],[3,17,3,18],[3,0,4,0],[3,33,3,34],[3,25,3,26],[3,29,3,30],[3,1,3,2],[3,5,3,6],[3,9,3,10],[3,21,3,22],[2,25,2,26],[2,29,2,30],[2,33,2,34],[2,1,2,2],[2,5,2,6],[2,9,2,10],[2,13,2,14],[2,17,2,18],[2,21,2,22]]}
[null,{"$f":"IF(ISNUMBER(B$35)=FALSE,\"\",INDEX(LU!$A$6:$C$43,MATCH(B$35,LU!$C$6:$C$43,0),1))","v":"Ceriodaphnia dubia (water flea)"}]
[null,{"$f":"IF(ISNUMBER(B$35)=FALSE,\"\",INDEX(LU!$A$6:$C$43,MATCH(B$35,LU!$C$6:$C$43,0),2))","v":"Acute Survival"}]
[]
["Test Number",{"$f":"IF(ISNUMBER(B$35)=FALSE,\"\",INDEX(LU!$A$6:$C$43,MATCH(B$35,LU!$C$6:$C$43,0),1))","v":"Ceriodaphnia dubia (water flea)"},null,null,null,{"$f":"IF(ISNUMBER(F$35)=FALSE,\"\",INDEX(LU!$A$6:$C$43,MATCH(F$35,LU!$C$6:$C$43,0),1))","v":""},null,null,null,{"$f":"IF(ISNUMBER(J$35)=FALSE,\"\",INDEX(LU!$A$6:$C$43,MATCH(J$35,LU!$C$6:$C$43,0),1))","v":""},null,null,null,{"$f":"IF(ISNUMBER(N$35)=FALSE,\"\",INDEX(LU!$A$6:$C$43,MATCH(N$35,LU!$C$6:$C$43,0),1))","v":""},null,null,null,{"$f":"IF(ISNUMBER(R$35)=FALSE,\"\",INDEX(LU!$A$6:$C$43,MATCH(R$35,LU!$C$6:$C$43,0),1))","v":""},null,null,null,{"$f":"IF(ISNUMBER(V$35)=FALSE,\"\",INDEX(LU!$A$6:$C$43,MATCH(V$35,LU!$C$6:$C$43,0),1))","v":""},null,null,null,{"$f":"IF(ISNUMBER(Z$35)=FALSE,\"\",INDEX(LU!$A$6:$C$43,MATCH(Z$35,LU!$C$6:$C$43,0),1))","v":""},null,null,null,{"$f":"IF(ISNUMBER(AD$35)=FALSE,\"\",INDEX(LU!$A$6:$C$43,MATCH(AD$35,LU!$C$6:$C$43,0),1))","v":""},null,null,null,{"$f":"IF(ISNUMBER(AH$35)=FALSE,\"\",INDEX(LU!$A$6:$C$43,MATCH(AH$35,LU!$C$6:$C$43,0),1))","v":""}]
[null,{"$f":"IF(ISNUMBER(B$35)=FALSE,\"\",INDEX(LU!$A$6:$C$43,MATCH(B$35,LU!$C$6:$C$43,0),2))","v":"Acute Survival"},"TU","IWC","TST % Effect",{"$f":"IF(ISNUMBER(F$35)=FALSE,\"\",INDEX(LU!$A$6:$C$43,MATCH(F$35,LU!$C$6:$C$43,0),2))","v":""},"TU","IWC","TST % Effect",{"$f":"IF(ISNUMBER(J$35)=FALSE,\"\",INDEX(LU!$A$6:$C$43,MATCH(J$35,LU!$C$6:$C$43,0),2))","v":""},"TU","IWC","TST % Effect",{"$f":"IF(ISNUMBER(N$35)=FALSE,\"\",INDEX(LU!$A$6:$C$43,MATCH(N$35,LU!$C$6:$C$43,0),2))","v":""},"TU","IWC","TST % Effect",{"$f":"IF(ISNUMBER(R$35)=FALSE,\"\",INDEX(LU!$A$6:$C$43,MATCH(R$35,LU!$C$6:$C$43,0),2))","v":""},"TU","IWC","TST % Effect",{"$f":"IF(ISNUMBER(V$35)=FALSE,\"\",INDEX(LU!$A$6:$C$43,MATCH(V$35,LU!$C$6:$C$43,0),2))","v":""},"TU","IWC","TST % Effect",{"$f":"IF(ISNUMBER(Z$35)=FALSE,\"\",INDEX(LU!$A$6:$C$43,MATCH(Z$35,LU!$C$6:$C$43,0),2))","v":""},"TU","IWC","TST % Effect",{"$f":"IF(ISNUMBER(AD$35)=FALSE,\"\",INDEX(LU!$A$6:$C$43,MATCH(AD$35,LU!$C$6:$C$43,0),2))","v":""},"TU","IWC","TST % Effect",{"$f":"IF(ISNUMBER(AH$35)=FALSE,\"\",INDEX(LU!$A$6:$C$43,MATCH(AH$35,LU!$C$6:$C$43,0),2))","v":""},"TU","IWC","TST % Effect"]
[1,{"$f":"IF(B$4=\"\",\"\",IF($A6>B$38,\"\",SUMPRODUCT((Statistics!$D$4:$D$963=B$4)*(Statistics!$E$4:$E$963=B$5)*(Statistics!$B$4:$B$963=B40)*(Statistics!$AC$4:$AC$963))))","v":{"$error":"#VALUE!"}},{"$f":"IF(B6=\"\",\"\",100/B6)","v":{"$error":"#VALUE!"}},{"$f":"IF(B$4=\"\",\"\",IF($A6>B$38,\"\",SUMPRODUCT((Statistics!$D$4:$D$963=B$4)*(Statistics!$E$4:$E$963=B$5)*(Statistics!$B$4:$B$963=B40)*(Statistics!$F$4:$F$963))))","v":100},{"$f":"IF(B$4=\"\",\"\",IF($A6>B$38,\"\",SUMPRODUCT((Statistics!$D$4:$D$963=B$4)*(Statistics!$E$4:$E$963=B$5)*(Statistics!$B$4:$B$963=B40)*(Statistics!$P$4:$P$963))))","v":-5.2631578947368478},{"$f":"IF(F$4=\"\",\"\",IF($A6>F$38,\"\",SUMPRODUCT((Statistics!$D$4:$D$963=F$4)*(Statistics!$E$4:$E$963=F$5)*(Statistics!$B$4:$B$963=F40)*(Statistics!$AC$4:$AC$963))))","v":""},{"$f":"IF(F6=\"\",\"\",100/F6)","v":""},{"$f":"IF(F$4=\"\",\"\",IF($A6>F$38,\"\",SUMPRODUCT((Statistics!$D$4:$D$963=F$4)*(Statistics!$E$4:$E$963=F$5)*(Statistics!$B$4:$B$963=F40)*(Statistics!$F$4:$F$963))))","v":""},{"$f":"IF(F$4=\"\",\"\",IF($A6>F$38,\"\",SUMPRODUCT((Statistics!$D$4:$D$963=F$4)*(Statistics!$E$4:$E$963=F$5)*(Statistics!$B$4:$B$963=F40)*(Statistics!$P$4:$P$963))))","v":""},{"$f":"IF(J$4=\"\",\"\",IF($A6>J$38,\"\",SUMPRODUCT((Statistics!$D$4:$D$963=J$4)*(Statistics!$E$4:$E$963=J$5)*(Statistics!$B$4:$B$963=J40)*(Statistics!$AC$4:$AC$963))))","v":""},{"$f":"IF(J6=\"\",\"\",100/J6)","v":""},{"$f":"IF(J$4=\"\",\"\",IF($A6>J$38,\"\",SUMPRODUCT((Statistics!$D$4:$D$963=J$4)*(Statistics!$E$4:$E$963=J$5)*(Statistics!$B$4:$B$963=J40)*(Statistics!$F$4:$F$963))))","v":""},{"$f":"IF(J$4=\"\",\"\",IF($A6>J$38,\"\",SUMPRODUCT((Statistics!$D$4:$D$963=J$4)*(Statistics!$E$4:$E$963=J$5)*(Statistics!$B$4:$B$963=J40)*(Statistics!$P$4:$P$963))))","v":""},{"$f":"IF(N$4=\"\",\"\",IF($A6>N$38,\"\",SUMPRODUCT((Statistics!$D$4:$D$963=N$4)*(Statistics!$E$4:$E$963=N$5)*(Statistics!$B$4:$B$963=N40)*(Statistics!$AC$4:$AC$963))))","v":""},{"$f":"IF(N6=\"\",\"\",100/N6)","v":""},{"$f":"IF(N$4=\"\",\"\",IF($A6>N$38,\"\",SUMPRODUCT((Statistics!$D$4:$D$963=N$4)*(Statistics!$E$4:$E$963=N$5)*(Statistics!$B$4:$B$963=N40)*(Statistics!$F$4:$F$963))))","v":""},{"$f":"IF(N$4=\"\",\"\",IF($A6>N$38,\"\",SUMPRODUCT((Statistics!$D$4:$D$963=N$4)*(Statistics!$E$4:$E$963=N$5)*(Statistics!$B$4:$B$963=N40)*(Statistics!$P$4:$P$963))))","v":""},{"$f":"IF(R$4=\"\",\"\",IF($A6>R$38,\"\",SUMPRODUCT((Statistics!$D$4:$D$963=R$4)*(Statistics!$E$4:$E$963=R$5)*(Statistics!$B$4:$B$963=R40)*(Statistics!$AC$4:$AC$963))))","v":""},{"$f":"IF(R6=\"\",\"\",100/R6)","v":""},{"$f":"IF(R$4=\"\",\"\",IF($A6>R$38,\"\",SUMPRODUCT((Statistics!$D$4:$D$963=R$4)*(Statistics!$E$4:$E$963=R$5)*(Statistics!$B$4:$B$963=R40)*(Statistics!$F$4:$F$963))))","v":""},{"$f":"IF(R$4=\"\",\"\",IF($A6>R$38,\"\",SUMPRODUCT((Statistics!$D$4:$D$963=R$4)*(Statistics!$E$4:$E$963=R$5)*(Statistics!$B$4:$B$963=R40)*(Statistics!$P$4:$P$963))))","v":""},{"$f":"IF(V$4=\"\",\"\",IF($A6>V$38,\"\",SUMPRODUCT((Statistics!$D$4:$D$963=V$4)*(Statistics!$E$4:$E$963=V$5)*(Statistics!$B$4:$B$963=V40)*(Statistics!$AC$4:$AC$963))))","v":""},{"$f":"IF(V6=\"\",\"\",100/V6)","v":""},{"$f":"IF(V$4=\"\",\"\",IF($A6>V$38,\"\",SUMPRODUCT((Statistics!$D$4:$D$963=V$4)*(Statistics!$E$4:$E$963=V$5)*(Statistics!$B$4:$B$963=V40)*(Statistics!$F$4:$F$963))))","v":""},{"$f":"IF(V$4=\"\",\"\",IF($A6>V$38,\"\",SUMPRODUCT((Statistics!$D$4:$D$963=V$4)*(Statistics!$E$4:$E$963=V$5)*(Statistics!$B$4:$B$963=V40)*(Statistics!$P$4:$P$963))))","v":""},{"$f":"IF(Z$4=\"\",\"\",IF($A6>Z$38,\"\",SUMPRODUCT((Statistics!$D$4:$D$963=Z$4)*(Statistics!$E$4:$E$963=Z$5)*(Statistics!$B$4:$B$963=Z40)*(Statistics!$AC$4:$AC$963))))","v":""},{"$f":"IF(Z6=\"\",\"\",100/Z6)","v":""},{"$f":"IF(Z$4=\"\",\"\",IF($A6>Z$38,\"\",SUMPRODUCT((Statistics!$D$4:$D$963=Z$4)*(Statistics!$E$4:$E$963=Z$5)*(Statistics!$B$4:$B$963=Z40)*(Statistics!$F$4:$F$963))))","v":""},{"$f":"IF(Z$4=\"\",\"\",IF($A6>Z$38,\"\",SUMPRODUCT((Statistics!$D$4:$D$963=Z$4)*(Statistics!$E$4:$E$963=Z$5)*(Statistics!$B$4:$B$963=Z40)*(Statistics!$P$4:$P$963))))","v":""},{"$f":"IF(AD$4=\"\",\"\",IF($A6>AD$38,\"\",SUMPRODUCT((Statistics!$D$4:$D$963=AD$4)*(Statistics!$E$4:$E$963=AD$5)*(Statistics!$B$4:$B$963=AD40)*(Statistics!$AC$4:$AC$963))))","v":""},{"$f":"IF(AD6=\"\",\"\",100/AD6)","v":""},{"$f":"IF(AD$4=\"\",\"\",IF($A6>AD$38,\"\",SUMPRODUCT((Statistics!$D$4:$D$963=AD$4)*(Statistics!$E$4:$E$963=AD$5)*(Statistics!$B$4:$B$963=AD40)*(Statistics!$F$4:$F$963))))","v":""},{"$f":"IF(AD$4=\"\",\"\",IF($A6>AD$38,\"\",SUMPRODUCT((Statistics!$D$4:$D$963=AD$4)*(Statistics!$E$4:$E$963=AD$5)*(Statistics!$B$4:$B$963=AD40)*(Statistics!$P$4:$P$963))))","v":""},{"$f":"IF(AH$4=\"\",\"\",IF($A6>AH$38,\"\",SUMPRODUCT((Statistics!$D$4:$D$963=AH$4)*(Statistics!$E$4:$E$963=AH$5)*(Statistics!$B$4:$B$963=AH40)*(Statistics!$AC$4:$AC$963))))","v":""},{"$f":"IF(AH6=\"\",\"\",100/AH6)","v":""},{"$f":"IF(AH$4=\"\",\"\",IF($A6>AH$38,\"\",SUMPRODUCT((Statistics!$D$4:$D$963=AH$4)*(Statistics!$E$4:$E$963=AH$5)*(Statistics!$B$4:$B$963=AH40)*(Statistics!$F$4:$F$963))))","v":""},{"$f":"IF(AH$4=\"\",\"\",IF($A6>AH$38,\"\",SUMPRODUCT((Statistics!$D$4:$D$963=AH$4)*(Statistics!$E$4:$E$963=AH$5)*(Statistics!$B$4:$B$963=AH40)*(Statistics!$P$4:$P$963))))","v":""}]
[2,{"$f":"IF(B$4=\"\",\"\",IF($A7>B$38,\"\",SUMPRODUCT((Statistics!$D$4:$D$963=B$4)*(Statistics!$E$4:$E$963=B$5)*(Statistics!$B$4:$B$963=B41)*(Statistics!$AC$4:$AC$963))))","v":""},{"$f":"IF(B7=\"\",\"\",100/B7)","v":""},{"$f":"IF(B$4=\"\",\"\",IF($A7>B$38,\"\",SUMPRODUCT((Statistics!$D$4:$D$963=B$4)*(Statistics!$E$4:$E$963=B$5)*(Statistics!$B$4:$B$963=B41)*(Statistics!$F$4:$F$963))))","v":""},{"$f":"IF(B$4=\"\",\"\",IF($A7>B$38,\"\",SUMPRODUCT((Statistics!$D$4:$D$963=B$4)*(Statistics!$E$4:$E$963=B$5)*(Statistics!$B$4:$B$963=B41)*(Statistics!$P$4:$P$963))))","v":""},{"$f":"IF(F$4=\"\",\"\",IF($A7>F$38,\"\",SUMPRODUCT((Statistics!$D$4:$D$963=F$4)*(Statistics!$E$4:$E$963=F$5)*(Statistics!$B$4:$B$963=F41)*(Statistics!$AC$4:$AC$963))))","v":""},{"$f":"IF(F7=\"\",\"\",100/F7)","v":""},{"$f":"IF(F$4=\"\",\"\",IF($A7>F$38,\"\",SUMPRODUCT((Statistics!$D$4:$D$963=F$4)*(Statistics!$E$4:$E$963=F$5)*(Statistics!$B$4:$B$963=F41)*(Statistics!$F$4:$F$963))))","v":""},{"$f":"IF(F$4=\"\",\"\",IF($A7>F$38,\"\",SUMPRODUCT((Statistics!$D$4:$D$963=F$4)*(Statistics!$E$4:$E$963=F$5)*(Statistics!$B$4:$B$963=F41)*(Statistics!$P$4:$P$963))))","v":""},{"$f":"IF(J$4=\"\",\"\",IF($A7>J$38,\"\",SUMPRODUCT((Statistics!$D$4:$D$963=J$4)*(Statistics!$E$4:$E$963=J$5)*(Statistics!$B$4:$B$963=J41)*(Statistics!$AC$4:$AC$963))))","v":""},{"$f":"IF(J7=\"\",\"\",100/J7)","v":""},{"$f":"IF(J$4=\"\",\"\",IF($A7>J$38,\"\",SUMPRODUCT((Statistics!$D$4:$D$963=J$4)*(Statistics!$E$4:$E$963=J$5)*(Statistics!$B$4:$B$963=J41)*(Statistics!$F$4:$F$963))))","v":""},{"$f":"IF(J$4=\"\",\"\",IF($A7>J$38,\"\",SUMPRODUCT((Statistics!$D$4:$D$963=J$4)*(Statistics!$E$4:$E$963=J$5)*(Statistics!$B$4:$B$963=J41)*(Statistics!$P$4:$P$963))))","v":""},{"$f":"IF(N$4=\"\",\"\",IF($A7>N$38,\"\",SUMPRODUCT((Statistics!$D$4:$D$963=N$4)*(Statistics!$E$4:$E$963=N$5)*(Statistics!$B$4:$B$963=N41)*(Statistics!$AC$4:$AC$963))))","v":""},"",{"$f":"IF(N$4=\"\",\"\",IF($A7>N$38,\"\",SUMPRODUCT((Statistics!$D$4:$D$963=N$4)*(Statistics!$E$4:$E$963=N$5)*(Statistics!$B$4:$B$963=N41)*(Statistics!$F$4:$F$963))))","v":""},{"$f":"IF(N$4=\"\",\"\",IF($A7>N$38,\"\",SUMPRODUCT((Statistics!$D$4:$D$963=N$4)*(Statistics!$E$4:$E$963=N$5)*(Statistics!$B$4:$B$963=N41)*(Statistics!$P$4:$P$963))))","v":""},{"$f":"IF(R$4=\"\",\"\",IF($A7>R$38,\"\",SUMPRODUCT((Statistics!$D$4:$D$963=R$4)*(Statistics!$E$4:$E$963=R$5)*(Statistics!$B$4:$B$963=R41)*(Statistics!$AC$4:$AC$963))))","v":""},{"$f":"IF(R7=\"\",\"\",100/R7)","v":""},{"$f":"IF(R$4=\"\",\"\",IF($A7>R$38,\"\",SUMPRODUCT((Statistics!$D$4:$D$963=R$4)*(Statistics!$E$4:$E$963=R$5)*(Statistics!$B$4:$B$963=R41)*(Statistics!$F$4:$F$963))))","v":""},{"$f":"IF(R$4=\"\",\"\",IF($A7>R$38,\"\",SUMPRODUCT((Statistics!$D$4:$D$963=R$4)*(Statistics!$E$4:$E$963=R$5)*(Statistics!$B$4:$B$963=R41)*(Statistics!$P$4:$P$963))))","v":""},{"$f":"IF(V$4=\"\",\"\",IF($A7>V$38,\"\",SUMPRODUCT((Statistics!$D$4:$D$963=V$4)*(Statistics!$E$4:$E$963=V$5)*(Statistics!$B$4:$B$963=V41)*(Statistics!$AC$4:$AC$963))))","v":""},{"$f":"IF(V7=\"\",\"\",100/V7)","v":""},{"$f":"IF(V$4=\"\",\"\",IF($A7>V$38,\"\",SUMPRODUCT((Statistics!$D$4:$D$963=V$4)*(Statistics!$E$4:$E$963=V$5)*(Statistics!$B$4:$B$963=V41)*(Statistics!$F$4:$F$963))))","v":""},{"$f":"IF(V$4=\"\",\"\",IF($A7>V$38,\"\",SUMPRODUCT((Statistics!$D$4:$D$963=V$4)*(Statistics!$E$4:$E$963=V$5)*(Statistics!$B$4:$B$963=V41)*(Statistics!$P$4:$P$963))))","v":""},{"$f":"IF(Z$4=\"\",\"\",IF($A7>Z$38,\"\",SUMPRODUCT((Statistics!$D$4:$D$963=Z$4)*(Statistics!$E$4:$E$963=Z$5)*(Statistics!$B$4:$B$963=Z41)*(Statistics!$AC$4:$AC$963))))","v":""},{"$f":"IF(Z7=\"\",\"\",100/Z7)","v":""},{"$f":"IF(Z$4=\"\",\"\",IF($A7>Z$38,\"\",SUMPRODUCT((Statistics!$D$4:$D$963=Z$4)*(Statistics!$E$4:$E$963=Z$5)*(Statistics!$B$4:$B$963=Z41)*(Statistics!$F$4:$F$963))))","v":""},{"$f":"IF(Z$4=\"\",\"\",IF($A7>Z$38,\"\",SUMPRODUCT((Statistics!$D$4:$D$963=Z$4)*(Statistics!$E$4:$E$963=Z$5)*(Statistics!$B$4:$B$963=Z41)*(Statistics!$P$4:$P$963))))","v":""},{"$f":"IF(AD$4=\"\",\"\",IF($A7>AD$38,\"\",SUMPRODUCT((Statistics!$D$4:$D$963=AD$4)*(Statistics!$E$4:$E$963=AD$5)*(Statistics!$B$4:$B$963=AD41)*(Statistics!$AC$4:$AC$963))))","v":""},{"$f":"IF(AD7=\"\",\"\",100/AD7)","v":""},{"$f":"IF(AD$4=\"\",\"\",IF($A7>AD$38,\"\",SUMPRODUCT((Statistics!$D$4:$D$963=AD$4)*(Statistics!$E$4:$E$963=AD$5)*(Statistics!$B$4:$B$963=AD41)*(Statistics!$F$4:$F$963))))","v":""},{"$f":"IF(AD$4=\"\",\"\",IF($A7>AD$38,\"\",SUMPRODUCT((Statistics!$D$4:$D$963=AD$4)*(Statistics!$E$4:$E$963=AD$5)*(Statistics!$B$4:$B$963=AD41)*(Statistics!$P$4:$P$963))))","v":""},{"$f":"IF(AH$4=\"\",\"\",IF($A7>AH$38,\"\",SUMPRODUCT((Statistics!$D$4:$D$963=AH$4)*(Statistics!$E$4:$E$963=AH$5)*(Statistics!$B$4:$B$963=AH41)*(Statistics!$AC$4:$AC$963))))","v":""},{"$f":"IF(AH7=\"\",\"\",100/AH7)","v":""},{"$f":"IF(AH$4=\"\",\"\",IF($A7>AH$38,\"\",SUMPRODUCT((Statistics!$D$4:$D$963=AH$4)*(Statistics!$E$4:$E$963=AH$5)*(Statistics!$B$4:$B$963=AH41)*(Statistics!$F$4:$F$963))))","v":""},{"$f":"IF(AH$4=\"\",\"\",IF($A7>AH$38,\"\",SUMPRODUCT((Statistics!$D$4:$D$963=AH$4)*(Statistics!$E$4:$E$963=AH$5)*(Statistics!$B$4:$B$963=AH41)*(Statistics!$P$4:$P$963))))","v":""}]
[3,{"$f":"IF(B$4=\"\",\"\",IF($A8>B$38,\"\",SUMPRODUCT((Statistics!$D$4:$D$963=B$4)*(Statistics!$E$4:$E$963=B$5)*(Statistics!$B$4:$B$963=B42)*(Statistics!$AC$4:$AC$963))))","v":""},"",{"$f":"IF(B$4=\"\",\"\",IF($A8>B$38,\"\",SUMPRODUCT((Statistics!$D$4:$D$963=B$4)*(Statistics!$E$4:$E$963=B$5)*(Statistics!$B$4:$B$963=B42)*(Statistics!$F$4:$F$963))))","v":""},{"$f":"IF(B$4=\"\",\"\",IF($A8>B$38,\"\",SUMPRODUCT((Statistics!$D$4:$D$963=B$4)*(Statistics!$E$4:$E$963=B$5)*(Statistics!$B$4:$B$963=B42)*(Statistics!$P$4:$P$963))))","v":""},{"$f":"IF(F$4=\"\",\"\",IF($A8>F$38,\"\",SUMPRODUCT((Statistics!$D$4:$D$963=F$4)*(Statistics!$E$4:$E$963=F$5)*(Statistics!$B$4:$B$963=F42)*(Statistics!$AC$4:$AC$963))))","v":""},"",{"$f":"IF(F$4=\"\",\"\",IF($A8>F$38,\"\",SUMPRODUCT((Statistics!$D$4:$D$963=F$4)*(Statistics!$E$4:$E$963=F$5)*(Statistics!$B$4:$B$963=F42)*(Statistics!$F$4:$F$963))))","v":""},{"$f":"IF(F$4=\"\",\"\",IF($A8>F$38,\"\",SUMPRODUCT((Statistics!$D$4:$D$963=F$4)*(Statistics!$E$4:$E$963=F$5)*(Statistics!$B$4:$B$963=F42)*(Statistics!$P$4:$P$963))))","v":""},{"$f":"IF(J$4=\"\",\"\",IF($A8>J$38,\"\",SUMPRODUCT((Statistics!$D$4:$D$963=J$4)*(Statistics!$E$4:$E$963=J$5)*(Statistics!$B$4:$B$963=J42)*(Statistics!$AC$4:$AC$963))))","v":""},"",{"$f":"IF(J$4=\"\",\"\",IF($A8>J$38,\"\",SUMPRODUCT((Statistics!$D$4:$D$963=J$4)*(Statistics!$E$4:$E$963=J$5)*(Statistics!$B$4:$B$963=J42)*(Statistics!$F$4:$F$963))))","v":""},{"$f":"IF(J$4=\"\",\"\",IF($A8>J$38,\"\",SUMPRODUCT((Statistics!$D$4:$D$963=J$4)*(Statistics!$E$4:$E$963=J$5)*(Statistics!$B$4:$B$963=J42)*(Statistics!$P$4:$P$963))))","v":""},{"$f":"IF(N$4=\"\",\"\",IF($A8>N$38,\"\",SUMPRODUCT((Statistics!$D$4:$D$963=N$4)*(Statistics!$E$4:$E$963=N$5)*(Statistics!$B$4:$B$963=N42)*(Statistics!$AC$4:$AC$963))))","v":""},"",{"$f":"IF(N$4=\"\",\"\",IF($A8>N$38,\"\",SUMPRODUCT((Statistics!$D$4:$D$963=N$4)*(Statistics!$E$4:$E$963=N$5)*(Statistics!$B$4:$B$963=N42)*(Statistics!$F$4:$F$963))))","v":""},{"$f":"IF(N$4=\"\",\"\",IF($A8>N$38,\"\",SUMPRODUCT((Statistics!$D$4:$D$963=N$4)*(Statistics!$E$4:$E$963=N$5)*(Statistics!$B$4:$B$963=N42)*(Statistics!$P$4:$P$963))))","v":""},{"$f":"IF(R$4=\"\",\"\",IF($A8>R$38,\"\",SUMPRODUCT((Statistics!$D$4:$D$963=R$4)*(Statistics!$E$4:$E$963=R$5)*(Statistics!$B$4:$B$963=R42)*(Statistics!$AC$4:$AC$963))))","v":""},"",{"$f":"IF(R$4=\"\",\"\",IF($A8>R$38,\"\",SUMPRODUCT((Statistics!$D$4:$D$963=R$4)*(Statistics!$E$4:$E$963=R$5)*(Statistics!$B$4:$B$963=R42)*(Statistics!$F$4:$F$963))))","v":""},{"$f":"IF(R$4=\"\",\"\",IF($A8>R$38,\"\",SUMPRODUCT((Statistics!$D$4:$D$963=R$4)*(Statistics!$E$4:$E$963=R$5)*(Statistics!$B$4:$B$963=R42)*(Statistics!$P$4:$P$963))))","v":""},{"$f":"IF(V$4=\"\",\"\",IF($A8>V$38,\"\",SUMPRODUCT((Statistics!$D$4:$D$963=V$4)*(Statistics!$E$4:$E$963=V$5)*(Statistics!$B$4:$B$963=V42)*(Statistics!$AC$4:$AC$963))))","v":""},"",{"$f":"IF(V$4=\"\",\"\",IF($A8>V$38,\"\",SUMPRODUCT((Statistics!$D$4:$D$963=V$4)*(Statistics!$E$4:$E$963=V$5)*(Statistics!$B$4:$B$963=V42)*(Statistics!$F$4:$F$963))))","v":""},{"$f":"IF(V$4=\"\",\"\",IF($A8>V$38,\"\",SUMPRODUCT((Statistics!$D$4:$D$963=V$4)*(Statistics!$E$4:$E$963=V$5)*(Statistics!$B$4:$B$963=V42)*(Statistics!$P$4:$P$963))))","v":""},{"$f":"IF(Z$4=\"\",\"\",IF($A8>Z$38,\"\",SUMPRODUCT((Statistics!$D$4:$D$963=Z$4)*(Statistics!$E$4:$E$963=Z$5)*(Statistics!$B$4:$B$963=Z42)*(Statistics!$AC$4:$AC$963))))","v":""},"",{"$f":"IF(Z$4=\"\",\"\",IF($A8>Z$38,\"\",SUMPRODUCT((Statistics!$D$4:$D$963=Z$4)*(Statistics!$E$4:$E$963=Z$5)*(Statistics!$B$4:$B$963=Z42)*(Statistics!$F$4:$F$963))))","v":""},{"$f":"IF(Z$4=\"\",\"\",IF($A8>Z$38,\"\",SUMPRODUCT((Statistics!$D$4:$D$963=Z$4)*(Statistics!$E$4:$E$963=Z$5)*(Statistics!$B$4:$B$963=Z42)*(Statistics!$P$4:$P$963))))","v":""},{"$f":"IF(AD$4=\"\",\"\",IF($A8>AD$38,\"\",SUMPRODUCT((Statistics!$D$4:$D$963=AD$4)*(Statistics!$E$4:$E$963=AD$5)*(Statistics!$B$4:$B$963=AD42)*(Statistics!$AC$4:$AC$963))))","v":""},"",{"$f":"IF(AD$4=\"\",\"\",IF($A8>AD$38,\"\",SUMPRODUCT((Statistics!$D$4:$D$963=AD$4)*(Statistics!$E$4:$E$963=AD$5)*(Statistics!$B$4:$B$963=AD42)*(Statistics!$F$4:$F$963))))","v":""},{"$f":"IF(AD$4=\"\",\"\",IF($A8>AD$38,\"\",SUMPRODUCT((Statistics!$D$4:$D$963=AD$4)*(Statistics!$E$4:$E$963=AD$5)*(Statistics!$B$4:$B$963=AD42)*(Statistics!$P$4:$P$963))))","v":""},{"$f":"IF(AH$4=\"\",\"\",IF($A8>AH$38,\"\",SUMPRODUCT((Statistics!$D$4:$D$963=AH$4)*(Statistics!$E$4:$E$963=AH$5)*(Statistics!$B$4:$B$963=AH42)*(Statistics!$AC$4:$AC$963))))","v":""},"",{"$f":"IF(AH$4=\"\",\"\",IF($A8>AH$38,\"\",SUMPRODUCT((Statistics!$D$4:$D$963=AH$4)*(Statistics!$E$4:$E$963=AH$5)*(Statistics!$B$4:$B$963=AH42)*(Statistics!$F$4:$F$963))))","v":""},{"$f":"IF(AH$4=\"\",\"\",IF($A8>AH$38,\"\",SUMPRODUCT((Statistics!$D$4:$D$963=AH$4)*(Statistics!$E$4:$E$963=AH$5)*(Statistics!$B$4:$B$963=AH42)*(Statistics!$P$4:$P$963))))","v":""}]
[4,{"$f":"IF(B$4=\"\",\"\",IF($A9>B$38,\"\",SUMPRODUCT((Statistics!$D$4:$D$963=B$4)*(Statistics!$E$4:$E$963=B$5)*(Statistics!$B$4:$B$963=B43)*(Statistics!$AC$4:$AC$963))))","v":""},"",{"$f":"IF(B$4=\"\",\"\",IF($A9>B$38,\"\",SUMPRODUCT((Statistics!$D$4:$D$963=B$4)*(Statistics!$E$4:$E$963=B$5)*(Statistics!$B$4:$B$963=B43)*(Statistics!$F$4:$F$963))))","v":""},{"$f":"IF(B$4=\"\",\"\",IF($A9>B$38,\"\",SUMPRODUCT((Statistics!$D$4:$D$963=B$4)*(Statistics!$E$4:$E$963=B$5)*(Statistics!$B$4:$B$963=B43)*(Statistics!$P$4:$P$963))))","v":""},{"$f":"IF(F$4=\"\",\"\",IF($A9>F$38,\"\",SUMPRODUCT((Statistics!$D$4:$D$963=F$4)*(Statistics!$E$4:$E$963=F$5)*(Statistics!$B$4:$B$963=F43)*(Statistics!$AC$4:$AC$963))))","v":""},"",{"$f":"IF(F$4=\"\",\"\",IF($A9>F$38,\"\",SUMPRODUCT((Statistics!$D$4:$D$963=F$4)*(Statistics!$E$4:$E$963=F$5)*(Statistics!$B$4:$B$963=F43)*(Statistics!$F$4:$F$963))))","v":""},{"$f":"IF(F$4=\"\",\"\",IF($A9>F$38,\"\",SUMPRODUCT((Statistics!$D$4:$D$963=F$4)*(Statistics!$E$4:$E$963=F$5)*(Statistics!$B$4:$B$963=F43)*(Statistics!$P$4:$P$963))))","v":""},{"$f":"IF(J$4=\"\",\"\",IF($A9>J$38,\"\",SUMPRODUCT((Statistics!$D$4:$D$963=J$4)*(Statistics!$E$4:$E$963=J$5)*(Statistics!$B$4:$B$963=J43)*(Statistics!$AC$4:$AC$963))))","v":""},"",{"$f":"IF(J$4=\"\",\"\",IF($A9>J$38,\"\",SUMPRODUCT((Statistics!$D$4:$D$963=J$4)*(Statistics!$E$4:$E$963=J$5)*(Statistics!$B$4:$B$963=J43)*(Statistics!$F$4:$F$963))))","v":""},{"$f":"IF(J$4=\"\",\"\",IF($A9>J$38,\"\",SUMPRODUCT((Statistics!$D$4:$D$963=J$4)*(Statistics!$E$4:$E$963=J$5)*(Statistics!$B$4:$B$963=J43)*(Statistics!$P$4:$P$963))))","v":""},{"$f":"IF(N$4=\"\",\"\",IF($A9>N$38,\"\",SUMPRODUCT((Statistics!$D$4:$D$963=N$4)*(Statistics!$E$4:$E$963=N$5)*(Statistics!$B$4:$B$963=N43)*(Statistics!$AC$4:$AC$963))))","v":""},"",{"$f":"IF(N$4=\"\",\"\",IF($A9>N$38,\"\",SUMPRODUCT((Statistics!$D$4:$D$963=N$4)*(Statistics!$E$4:$E$963=N$5)*(Statistics!$B$4:$B$963=N43)*(Statistics!$F$4:$F$963))))","v":""},{"$f":"IF(N$4=\"\",\"\",IF($A9>N$38,\"\",SUMPRODUCT((Statistics!$D$4:$D$963=N$4)*(Statistics!$E$4:$E$963=N$5)*(Statistics!$B$4:$B$963=N43)*(Statistics!$P$4:$P$963))))","v":""},{"$f":"IF(R$4=\"\",\"\",IF($A9>R$38,\"\",SUMPRODUCT((Statistics!$D$4:$D$963=R$4)*(Statistics!$E$4:$E$963=R$5)*(Statistics!$B$4:$B$963=R43)*(Statistics!$AC$4:$AC$963))))","v":""},"",{"$f":"IF(R$4=\"\",\"\",IF($A9>R$38,\"\",SUMPRODUCT((Statistics!$D$4:$D$963=R$4)*(Statistics!$E$4:$E$963=R$5)*(Statistics!$B$4:$B$963=R43)*(Statistics!$F$4:$F$963))))","v":""},{"$f":"IF(R$4=\"\",\"\",IF($A9>R$38,\"\",SUMPRODUCT((Statistics!$D$4:$D$963=R$4)*(Statistics!$E$4:$E$963=R$5)*(Statistics!$B$4:$B$963=R43)*(Statistics!$P$4:$P$963))))","v":""},{"$f":"IF(V$4=\"\",\"\",IF($A9>V$38,\"\",SUMPRODUCT((Statistics!$D$4:$D$963=V$4)*(Statistics!$E$4:$E$963=V$5)*(Statistics!$B$4:$B$963=V43)*(Statistics!$AC$4:$AC$963))))","v":""},"",{"$f":"IF(V$4=\"\",\"\",IF($A9>V$38,\"\",SUMPRODUCT((Statistics!$D$4:$D$963=V$4)*(Statistics!$E$4:$E$963=V$5)*(Statistics!$B$4:$B$963=V43)*(Statistics!$F$4:$F$963))))","v":""},{"$f":"IF(V$4=\"\",\"\",IF($A9>V$38,\"\",SUMPRODUCT((Statistics!$D$4:$D$963=V$4)*(Statistics!$E$4:$E$963=V$5)*(Statistics!$B$4:$B$963=V43)*(Statistics!$P$4:$P$963))))","v":""},{"$f":"IF(Z$4=\"\",\"\",IF($A9>Z$38,\"\",SUMPRODUCT((Statistics!$D$4:$D$963=Z$4)*(Statistics!$E$4:$E$963=Z$5)*(Statistics!$B$4:$B$963=Z43)*(Statistics!$AC$4:$AC$963))))","v":""},"",{"$f":"IF(Z$4=\"\",\"\",IF($A9>Z$38,\"\",SUMPRODUCT((Statistics!$D$4:$D$963=Z$4)*(Statistics!$E$4:$E$963=Z$5)*(Statistics!$B$4:$B$963=Z43)*(Statistics!$F$4:$F$963))))","v":""},{"$f":"IF(Z$4=\"\",\"\",IF($A9>Z$38,\"\",SUMPRODUCT((Statistics!$D$4:$D$963=Z$4)*(Statistics!$E$4:$E$963=Z$5)*(Statistics!$B$4:$B$963=Z43)*(Statistics!$P$4:$P$963))))","v":""},{"$f":"IF(AD$4=\"\",\"\",IF($A9>AD$38,\"\",SUMPRODUCT((Statistics!$D$4:$D$963=AD$4)*(Statistics!$E$4:$E$963=AD$5)*(Statistics!$B$4:$B$963=AD43)*(Statistics!$AC$4:$AC$963))))","v":""},"",{"$f":"IF(AD$4=\"\",\"\",IF($A9>AD$38,\"\",SUMPRODUCT((Statistics!$D$4:$D$963=AD$4)*(Statistics!$E$4:$E$963=AD$5)*(Statistics!$B$4:$B$963=AD43)*(Statistics!$F$4:$F$963))))","v":""},{"$f":"IF(AD$4=\"\",\"\",IF($A9>AD$38,\"\",SUMPRODUCT((Statistics!$D$4:$D$963=AD$4)*(Statistics!$E$4:$E$963=AD$5)*(Statistics!$B$4:$B$963=AD43)*(Statistics!$P$4:$P$963))))","v":""},{"$f":"IF(AH$4=\"\",\"\",IF($A9>AH$38,\"\",SUMPRODUCT((Statistics!$D$4:$D$963=AH$4)*(Statistics!$E$4:$E$963=AH$5)*(Statistics!$B$4:$B$963=AH43)*(Statistics!$AC$4:$AC$963))))","v":""},"",{"$f":"IF(AH$4=\"\",\"\",IF($A9>AH$38,\"\",SUMPRODUCT((Statistics!$D$4:$D$963=AH$4)*(Statistics!$E$4:$E$963=AH$5)*(Statistics!$B$4:$B$963=AH43)*(Statistics!$F$4:$F$963))))","v":""},{"$f":"IF(AH$4=\"\",\"\",IF($A9>AH$38,\"\",SUMPRODUCT((Statistics!$D$4:$D$963=AH$4)*(Statistics!$E$4:$E$963=AH$5)*(Statistics!$B$4:$B$963=AH43)*(Statistics!$P$4:$P$963))))","v":""}]
[5,{"$f":"IF(B$4=\"\",\"\",IF($A10>B$38,\"\",SUMPRODUCT((Statistics!$D$4:$D$963=B$4)*(Statistics!$E$4:$E$963=B$5)*(Statistics!$B$4:$B$963=B44)*(Statistics!$AC$4:$AC$963))))","v":""},"",{"$f":"IF(B$4=\"\",\"\",IF($A10>B$38,\"\",SUMPRODUCT((Statistics!$D$4:$D$963=B$4)*(Statistics!$E$4:$E$963=B$5)*(Statistics!$B$4:$B$963=B44)*(Statistics!$F$4:$F$963))))","v":""},{"$f":"IF(B$4=\"\",\"\",IF($A10>B$38,\"\",SUMPRODUCT((Statistics!$D$4:$D$963=B$4)*(Statistics!$E$4:$E$963=B$5)*(Statistics!$B$4:$B$963=B44)*(Statistics!$P$4:$P$963))))","v":""},{"$f":"IF(F$4=\"\",\"\",IF($A10>F$38,\"\",SUMPRODUCT((Statistics!$D$4:$D$963=F$4)*(Statistics!$E$4:$E$963=F$5)*(Statistics!$B$4:$B$963=F44)*(Statistics!$AC$4:$AC$963))))","v":""},"",{"$f":"IF(F$4=\"\",\"\",IF($A10>F$38,\"\",SUMPRODUCT((Statistics!$D$4:$D$963=F$4)*(Statistics!$E$4:$E$963=F$5)*(Statistics!$B$4:$B$963=F44)*(Statistics!$F$4:$F$963))))","v":""},{"$f":"IF(F$4=\"\",\"\",IF($A10>F$38,\"\",SUMPRODUCT((Statistics!$D$4:$D$963=F$4)*(Statistics!$E$4:$E$963=F$5)*(Statistics!$B$4:$B$963=F44)*(Statistics!$P$4:$P$963))))","v":""},{"$f":"IF(J$4=\"\",\"\",IF($A10>J$38,\"\",SUMPRODUCT((Statistics!$D$4:$D$963=J$4)*(Statistics!$E$4:$E$963=J$5)*(Statistics!$B$4:$B$963=J44)*(Statistics!$AC$4:$AC$963))))","v":""},"",{"$f":"IF(J$4=\"\",\"\",IF($A10>J$38,\"\",SUMPRODUCT((Statistics!$D$4:$D$963=J$4)*(Statistics!$E$4:$E$963=J$5)*(Statistics!$B$4:$B$963=J44)*(Statistics!$F$4:$F$963))))","v":""},{"$f":"IF(J$4=\"\",\"\",IF($A10>J$38,\"\",SUMPRODUCT((Statistics!$D$4:$D$963=J$4)*(Statistics!$E$4:$E$963=J$5)*(Statistics!$B$4:$B$963=J44)*(Statistics!$P$4:$P$963))))","v":""},{"$f":"IF(N$4=\"\",\"\",IF($A10>N$38,\"\",SUMPRODUCT((Statistics!$D$4:$D$963=N$4)*(Statistics!$E$4:$E$963=N$5)*(Statistics!$B$4:$B$963=N44)*(Statistics!$AC$4:$AC$963))))","v":""},"",{"$f":"IF(N$4=\"\",\"\",IF($A10>N$38,\"\",SUMPRODUCT((Statistics!$D$4:$D$963=N$4)*(Statistics!$E$4:$E$963=N$5)*(Statistics!$B$4:$B$963=N44)*(Statistics!$F$4:$F$963))))","v":""},{"$f":"IF(N$4=\"\",\"\",IF($A10>N$38,\"\",SUMPRODUCT((Statistics!$D$4:$D$963=N$4)*(Statistics!$E$4:$E$963=N$5)*(Statistics!$B$4:$B$963=N44)*(Statistics!$P$4:$P$963))))","v":""},{"$f":"IF(R$4=\"\",\"\",IF($A10>R$38,\"\",SUMPRODUCT((Statistics!$D$4:$D$963=R$4)*(Statistics!$E$4:$E$963=R$5)*(Statistics!$B$4:$B$963=R44)*(Statistics!$AC$4:$AC$963))))","v":""},"",{"$f":"IF(R$4=\"\",\"\",IF($A10>R$38,\"\",SUMPRODUCT((Statistics!$D$4:$D$963=R$4)*(Statistics!$E$4:$E$963=R$5)*(Statistics!$B$4:$B$963=R44)*(Statistics!$F$4:$F$963))))","v":""},{"$f":"IF(R$4=\"\",\"\",IF($A10>R$38,\"\",SUMPRODUCT((Statistics!$D$4:$D$963=R$4)*(Statistics!$E$4:$E$963=R$5)*(Statistics!$B$4:$B$963=R44)*(Statistics!$P$4:$P$963))))","v":""},{"$f":"IF(V$4=\"\",\"\",IF($A10>V$38,\"\",SUMPRODUCT((Statistics!$D$4:$D$963=V$4)*(Statistics!$E$4:$E$963=V$5)*(Statistics!$B$4:$B$963=V44)*(Statistics!$AC$4:$AC$963))))","v":""},"",{"$f":"IF(V$4=\"\",\"\",IF($A10>V$38,\"\",SUMPRODUCT((Statistics!$D$4:$D$963=V$4)*(Statistics!$E$4:$E$963=V$5)*(Statistics!$B$4:$B$963=V44)*(Statistics!$F$4:$F$963))))","v":""},{"$f":"IF(V$4=\"\",\"\",IF($A10>V$38,\"\",SUMPRODUCT((Statistics!$D$4:$D$963=V$4)*(Statistics!$E$4:$E$963=V$5)*(Statistics!$B$4:$B$963=V44)*(Statistics!$P$4:$P$963))))","v":""},{"$f":"IF(Z$4=\"\",\"\",IF($A10>Z$38,\"\",SUMPRODUCT((Statistics!$D$4:$D$963=Z$4)*(Statistics!$E$4:$E$963=Z$5)*(Statistics!$B$4:$B$963=Z44)*(Statistics!$AC$4:$AC$963))))","v":""},"",{"$f":"IF(Z$4=\"\",\"\",IF($A10>Z$38,\"\",SUMPRODUCT((Statistics!$D$4:$D$963=Z$4)*(Statistics!$E$4:$E$963=Z$5)*(Statistics!$B$4:$B$963=Z44)*(Statistics!$F$4:$F$963))))","v":""},{"$f":"IF(Z$4=\"\",\"\",IF($A10>Z$38,\"\",SUMPRODUCT((Statistics!$D$4:$D$963=Z$4)*(Statistics!$E$4:$E$963=Z$5)*(Statistics!$B$4:$B$963=Z44)*(Statistics!$P$4:$P$963))))","v":""},{"$f":"IF(AD$4=\"\",\"\",IF($A10>AD$38,\"\",SUMPRODUCT((Statistics!$D$4:$D$963=AD$4)*(Statistics!$E$4:$E$963=AD$5)*(Statistics!$B$4:$B$963=AD44)*(Statistics!$AC$4:$AC$963))))","v":""},"",{"$f":"IF(AD$4=\"\",\"\",IF($A10>AD$38,\"\",SUMPRODUCT((Statistics!$D$4:$D$963=AD$4)*(Statistics!$E$4:$E$963=AD$5)*(Statistics!$B$4:$B$963=AD44)*(Statistics!$F$4:$F$963))))","v":""},{"$f":"IF(AD$4=\"\",\"\",IF($A10>AD$38,\"\",SUMPRODUCT((Statistics!$D$4:$D$963=AD$4)*(Statistics!$E$4:$E$963=AD$5)*(Statistics!$B$4:$B$963=AD44)*(Statistics!$P$4:$P$963))))","v":""},{"$f":"IF(AH$4=\"\",\"\",IF($A10>AH$38,\"\",SUMPRODUCT((Statistics!$D$4:$D$963=AH$4)*(Statistics!$E$4:$E$963=AH$5)*(Statistics!$B$4:$B$963=AH44)*(Statistics!$AC$4:$AC$963))))","v":""},"",{"$f":"IF(AH$4=\"\",\"\",IF($A10>AH$38,\"\",SUMPRODUCT((Statistics!$D$4:$D$963=AH$4)*(Statistics!$E$4:$E$963=AH$5)*(Statistics!$B$4:$B$963=AH44)*(Statistics!$F$4:$F$963))))","v":""},{"$f":"IF(AH$4=\"\",\"\",IF($A10>AH$38,\"\",SUMPRODUCT((Statistics!$D$4:$D$963=AH$4)*(Statistics!$E$4:$E$963=AH$5)*(Statistics!$B$4:$B$963=AH44)*(Statistics!$P$4:$P$963))))","v":""}]
[6,{"$f":"IF(B$4=\"\",\"\",IF($A11>B$38,\"\",SUMPRODUCT((Statistics!$D$4:$D$963=B$4)*(Statistics!$E$4:$E$963=B$5)*(Statistics!$B$4:$B$963=B45)*(Statistics!$AC$4:$AC$963))))","v":""},"",{"$f":"IF(B$4=\"\",\"\",IF($A11>B$38,\"\",SUMPRODUCT((Statistics!$D$4:$D$963=B$4)*(Statistics!$E$4:$E$963=B$5)*(Statistics!$B$4:$B$963=B45)*(Statistics!$F$4:$F$963))))","v":""},{"$f":"IF(B$4=\"\",\"\",IF($A11>B$38,\"\",SUMPRODUCT((Statistics!$D$4:$D$963=B$4)*(Statistics!$E$4:$E$963=B$5)*(Statistics!$B$4:$B$963=B45)*(Statistics!$P$4:$P$963))))","v":""},{"$f":"IF(F$4=\"\",\"\",IF($A11>F$38,\"\",SUMPRODUCT((Statistics!$D$4:$D$963=F$4)*(Statistics!$E$4:$E$963=F$5)*(Statistics!$B$4:$B$963=F45)*(Statistics!$AC$4:$AC$963))))","v":""},"",{"$f":"IF(F$4=\"\",\"\",IF($A11>F$38,\"\",SUMPRODUCT((Statistics!$D$4:$D$963=F$4)*(Statistics!$E$4:$E$963=F$5)*(Statistics!$B$4:$B$963=F45)*(Statistics!$F$4:$F$963))))","v":""},{"$f":"IF(F$4=\"\",\"\",IF($A11>F$38,\"\",SUMPRODUCT((Statistics!$D$4:$D$963=F$4)*(Statistics!$E$4:$E$963=F$5)*(Statistics!$B$4:$B$963=F45)*(Statistics!$P$4:$P$963))))","v":""},{"$f":"IF(J$4=\"\",\"\",IF($A11>J$38,\"\",SUMPRODUCT((Statistics!$D$4:$D$963=J$4)*(Statistics!$E$4:$E$963=J$5)*(Statistics!$B$4:$B$963=J45)*(Statistics!$AC$4:$AC$963))))","v":""},"",{"$f":"IF(J$4=\"\",\"\",IF($A11>J$38,\"\",SUMPRODUCT((Statistics!$D$4:$D$963=J$4)*(Statistics!$E$4:$E$963=J$5)*(Statistics!$B$4:$B$963=J45)*(Statistics!$F$4:$F$963))))","v":""},{"$f":"IF(J$4=\"\",\"\",IF($A11>J$38,\"\",SUMPRODUCT((Statistics!$D$4:$D$963=J$4)*(Statistics!$E$4:$E$963=J$5)*(Statistics!$B$4:$B$963=J45)*(Statistics!$P$4:$P$963))))","v":""},{"$f":"IF(N$4=\"\",\"\",IF($A11>N$38,\"\",SUMPRODUCT((Statistics!$D$4:$D$963=N$4)*(Statistics!$E$4:$E$963=N$5)*(Statistics!$B$4:$B$963=N45)*(Statistics!$AC$4:$AC$963))))","v":""},"",{"$f":"IF(N$4=\"\",\"\",IF($A11>N$38,\"\",SUMPRODUCT((Statistics!$D$4:$D$963=N$4)*(Statistics!$E$4:$E$963=N$5)*(Statistics!$B$4:$B$963=N45)*(Statistics!$F$4:$F$963))))","v":""},{"$f":"IF(N$4=\"\",\"\",IF($A11>N$38,\"\",SUMPRODUCT((Statistics!$D$4:$D$963=N$4)*(Statistics!$E$4:$E$963=N$5)*(Statistics!$B$4:$B$963=N45)*(Statistics!$P$4:$P$963))))","v":""},{"$f":"IF(R$4=\"\",\"\",IF($A11>R$38,\"\",SUMPRODUCT((Statistics!$D$4:$D$963=R$4)*(Statistics!$E$4:$E$963=R$5)*(Statistics!$B$4:$B$963=R45)*(Statistics!$AC$4:$AC$963))))","v":""},"",{"$f":"IF(R$4=\"\",\"\",IF($A11>R$38,\"\",SUMPRODUCT((Statistics!$D$4:$D$963=R$4)*(Statistics!$E$4:$E$963=R$5)*(Statistics!$B$4:$B$963=R45)*(Statistics!$F$4:$F$963))))","v":""},{"$f":"IF(R$4=\"\",\"\",IF($A11>R$38,\"\",SUMPRODUCT((Statistics!$D$4:$D$963=R$4)*(Statistics!$E$4:$E$963=R$5)*(Statistics!$B$4:$B$963=R45)*(Statistics!$P$4:$P$963))))","v":""},{"$f":"IF(V$4=\"\",\"\",IF($A11>V$38,\"\",SUMPRODUCT((Statistics!$D$4:$D$963=V$4)*(Statistics!$E$4:$E$963=V$5)*(Statistics!$B$4:$B$963=V45)*(Statistics!$AC$4:$AC$963))))","v":""},"",{"$f":"IF(V$4=\"\",\"\",IF($A11>V$38,\"\",SUMPRODUCT((Statistics!$D$4:$D$963=V$4)*(Statistics!$E$4:$E$963=V$5)*(Statistics!$B$4:$B$963=V45)*(Statistics!$F$4:$F$963))))","v":""},{"$f":"IF(V$4=\"\",\"\",IF($A11>V$38,\"\",SUMPRODUCT((Statistics!$D$4:$D$963=V$4)*(Statistics!$E$4:$E$963=V$5)*(Statistics!$B$4:$B$963=V45)*(Statistics!$P$4:$P$963))))","v":""},{"$f":"IF(Z$4=\"\",\"\",IF($A11>Z$38,\"\",SUMPRODUCT((Statistics!$D$4:$D$963=Z$4)*(Statistics!$E$4:$E$963=Z$5)*(Statistics!$B$4:$B$963=Z45)*(Statistics!$AC$4:$AC$963))))","v":""},"",{"$f":"IF(Z$4=\"\",\"\",IF($A11>Z$38,\"\",SUMPRODUCT((Statistics!$D$4:$D$963=Z$4)*(Statistics!$E$4:$E$963=Z$5)*(Statistics!$B$4:$B$963=Z45)*(Statistics!$F$4:$F$963))))","v":""},{"$f":"IF(Z$4=\"\",\"\",IF($A11>Z$38,\"\",SUMPRODUCT((Statistics!$D$4:$D$963=Z$4)*(Statistics!$E$4:$E$963=Z$5)*(Statistics!$B$4:$B$963=Z45)*(Statistics!$P$4:$P$963))))","v":""},{"$f":"IF(AD$4=\"\",\"\",IF($A11>AD$38,\"\",SUMPRODUCT((Statistics!$D$4:$D$963=AD$4)*(Statistics!$E$4:$E$963=AD$5)*(Statistics!$B$4:$B$963=AD45)*(Statistics!$AC$4:$AC$963))))","v":""},"",{"$f":"IF(AD$4=\"\",\"\",IF($A11>AD$38,\"\",SUMPRODUCT((Statistics!$D$4:$D$963=AD$4)*(Statistics!$E$4:$E$963=AD$5)*(Statistics!$B$4:$B$963=AD45)*(Statistics!$F$4:$F$963))))","v":""},{"$f":"IF(AD$4=\"\",\"\",IF($A11>AD$38,\"\",SUMPRODUCT((Statistics!$D$4:$D$963=AD$4)*(Statistics!$E$4:$E$963=AD$5)*(Statistics!$B$4:$B$963=AD45)*(Statistics!$P$4:$P$963))))","v":""},{"$f":"IF(AH$4=\"\",\"\",IF($A11>AH$38,\"\",SUMPRODUCT((Statistics!$D$4:$D$963=AH$4)*(Statistics!$E$4:$E$963=AH$5)*(Statistics!$B$4:$B$963=AH45)*(Statistics!$AC$4:$AC$963))))","v":""},"",{"$f":"IF(AH$4=\"\",\"\",IF($A11>AH$38,\"\",SUMPRODUCT((Statistics!$D$4:$D$963=AH$4)*(Statistics!$E$4:$E$963=AH$5)*(Statistics!$B$4:$B$963=AH45)*(Statistics!$F$4:$F$963))))","v":""},{"$f":"IF(AH$4=\"\",\"\",IF($A11>AH$38,\"\",SUMPRODUCT((Statistics!$D$4:$D$963=AH$4)*(Statistics!$E$4:$E$963=AH$5)*(Statistics!$B$4:$B$963=AH45)*(Statistics!$P$4:$P$963))))","v":""}]
[7,{"$f":"IF(B$4=\"\",\"\",IF($A12>B$38,\"\",SUMPRODUCT((Statistics!$D$4:$D$963=B$4)*(Statistics!$E$4:$E$963=B$5)*(Statistics!$B$4:$B$963=B46)*(Statistics!$AC$4:$AC$963))))","v":""},"",{"$f":"IF(B$4=\"\",\"\",IF($A12>B$38,\"\",SUMPRODUCT((Statistics!$D$4:$D$963=B$4)*(Statistics!$E$4:$E$963=B$5)*(Statistics!$B$4:$B$963=B46)*(Statistics!$F$4:$F$963))))","v":""},{"$f":"IF(B$4=\"\",\"\",IF($A12>B$38,\"\",SUMPRODUCT((Statistics!$D$4:$D$963=B$4)*(Statistics!$E$4:$E$963=B$5)*(Statistics!$B$4:$B$963=B46)*(Statistics!$P$4:$P$963))))","v":""},{"$f":"IF(F$4=\"\",\"\",IF($A12>F$38,\"\",SUMPRODUCT((Statistics!$D$4:$D$963=F$4)*(Statistics!$E$4:$E$963=F$5)*(Statistics!$B$4:$B$963=F46)*(Statistics!$AC$4:$AC$963))))","v":""},"",{"$f":"IF(F$4=\"\",\"\",IF($A12>F$38,\"\",SUMPRODUCT((Statistics!$D$4:$D$963=F$4)*(Statistics!$E$4:$E$963=F$5)*(Statistics!$B$4:$B$963=F46)*(Statistics!$F$4:$F$963))))","v":""},{"$f":"IF(F$4=\"\",\"\",IF($A12>F$38,\"\",SUMPRODUCT((Statistics!$D$4:$D$963=F$4)*(Statistics!$E$4:$E$963=F$5)*(Statistics!$B$4:$B$963=F46)*(Statistics!$P$4:$P$963))))","v":""},{"$f":"IF(J$4=\"\",\"\",IF($A12>J$38,\"\",SUMPRODUCT((Statistics!$D$4:$D$963=J$4)*(Statistics!$E$4:$E$963=J$5)*(Statistics!$B$4:$B$963=J46)*(Statistics!$AC$4:$AC$963))))","v":""},"",{"$f":"IF(J$4=\"\",\"\",IF($A12>J$38,\"\",SUMPRODUCT((Statistics!$D$4:$D$963=J$4)*(Statistics!$E$4:$E$963=J$5)*(Statistics!$B$4:$B$963=J46)*(Statistics!$F$4:$F$963))))","v":""},{"$f":"IF(J$4=\"\",\"\",IF($A12>J$38,\"\",SUMPRODUCT((Statistics!$D$4:$D$963=J$4)*(Statistics!$E$4:$E$963=J$5)*(Statistics!$B$4:$B$963=J46)*(Statistics!$P$4:$P$963))))","v":""},{"$f":"IF(N$4=\"\",\"\",IF($A12>N$38,\"\",SUMPRODUCT((Statistics!$D$4:$D$963=N$4)*(Statistics!$E$4:$E$963=N$5)*(Statistics!$B$4:$B$963=N46)*(Statistics!$AC$4:$AC$963))))","v":""},"",{"$f":"IF(N$4=\"\",\"\",IF($A12>N$38,\"\",SUMPRODUCT((Statistics!$D$4:$D$963=N$4)*(Statistics!$E$4:$E$963=N$5)*(Statistics!$B$4:$B$963=N46)*(Statistics!$F$4:$F$963))))","v":""},{"$f":"IF(N$4=\"\",\"\",IF($A12>N$38,\"\",SUMPRODUCT((Statistics!$D$4:$D$963=N$4)*(Statistics!$E$4:$E$963=N$5)*(Statistics!$B$4:$B$963=N46)*(Statistics!$P$4:$P$963))))","v":""},{"$f":"IF(R$4=\"\",\"\",IF($A12>R$38,\"\",SUMPRODUCT((Statistics!$D$4:$D$963=R$4)*(Statistics!$E$4:$E$963=R$5)*(Statistics!$B$4:$B$963=R46)*(Statistics!$AC$4:$AC$963))))","v":""},"",{"$f":"IF(R$4=\"\",\"\",IF($A12>R$38,\"\",SUMPRODUCT((Statistics!$D$4:$D$963=R$4)*(Statistics!$E$4:$E$963=R$5)*(Statistics!$B$4:$B$963=R46)*(Statistics!$F$4:$F$963))))","v":""},{"$f":"IF(R$4=\"\",\"\",IF($A12>R$38,\"\",SUMPRODUCT((Statistics!$D$4:$D$963=R$4)*(Statistics!$E$4:$E$963=R$5)*(Statistics!$B$4:$B$963=R46)*(Statistics!$P$4:$P$963))))","v":""},{"$f":"IF(V$4=\"\",\"\",IF($A12>V$38,\"\",SUMPRODUCT((Statistics!$D$4:$D$963=V$4)*(Statistics!$E$4:$E$963=V$5)*(Statistics!$B$4:$B$963=V46)*(Statistics!$AC$4:$AC$963))))","v":""},"",{"$f":"IF(V$4=\"\",\"\",IF($A12>V$38,\"\",SUMPRODUCT((Statistics!$D$4:$D$963=V$4)*(Statistics!$E$4:$E$963=V$5)*(Statistics!$B$4:$B$963=V46)*(Statistics!$F$4:$F$963))))","v":""},{"$f":"IF(V$4=\"\",\"\",IF($A12>V$38,\"\",SUMPRODUCT((Statistics!$D$4:$D$963=V$4)*(Statistics!$E$4:$E$963=V$5)*(Statistics!$B$4:$B$963=V46)*(Statistics!$P$4:$P$963))))","v":""},{"$f":"IF(Z$4=\"\",\"\",IF($A12>Z$38,\"\",SUMPRODUCT((Statistics!$D$4:$D$963=Z$4)*(Statistics!$E$4:$E$963=Z$5)*(Statistics!$B$4:$B$963=Z46)*(Statistics!$AC$4:$AC$963))))","v":""},"",{"$f":"IF(Z$4=\"\",\"\",IF($A12>Z$38,\"\",SUMPRODUCT((Statistics!$D$4:$D$963=Z$4)*(Statistics!$E$4:$E$963=Z$5)*(Statistics!$B$4:$B$963=Z46)*(Statistics!$F$4:$F$963))))","v":""},{"$f":"IF(Z$4=\"\",\"\",IF($A12>Z$38,\"\",SUMPRODUCT((Statistics!$D$4:$D$963=Z$4)*(Statistics!$E$4:$E$963=Z$5)*(Statistics!$B$4:$B$963=Z46)*(Statistics!$P$4:$P$963))))","v":""},{"$f":"IF(AD$4=\"\",\"\",IF($A12>AD$38,\"\",SUMPRODUCT((Statistics!$D$4:$D$963=AD$4)*(Statistics!$E$4:$E$963=AD$5)*(Statistics!$B$4:$B$963=AD46)*(Statistics!$AC$4:$AC$963))))","v":""},"",{"$f":"IF(AD$4=\"\",\"\",IF($A12>AD$38,\"\",SUMPRODUCT((Statistics!$D$4:$D$963=AD$4)*(Statistics!$E$4:$E$963=AD$5)*(Statistics!$B$4:$B$963=AD46)*(Statistics!$F$4:$F$963))))","v":""},{"$f":"IF(AD$4=\"\",\"\",IF($A12>AD$38,\"\",SUMPRODUCT((Statistics!$D$4:$D$963=AD$4)*(Statistics!$E$4:$E$963=AD$5)*(Statistics!$B$4:$B$963=AD46)*(Statistics!$P$4:$P$963))))","v":""},{"$f":"IF(AH$4=\"\",\"\",IF($A12>AH$38,\"\",SUMPRODUCT((Statistics!$D$4:$D$963=AH$4)*(Statistics!$E$4:$E$963=AH$5)*(Statistics!$B$4:$B$963=AH46)*(Statistics!$AC$4:$AC$963))))","v":""},"",{"$f":"IF(AH$4=\"\",\"\",IF($A12>AH$38,\"\",SUMPRODUCT((Statistics!$D$4:$D$963=AH$4)*(Statistics!$E$4:$E$963=AH$5)*(Statistics!$B$4:$B$963=AH46)*(Statistics!$F$4:$F$963))))","v":""},{"$f":"IF(AH$4=\"\",\"\",IF($A12>AH$38,\"\",SUMPRODUCT((Statistics!$D$4:$D$963=AH$4)*(Statistics!$E$4:$E$963=AH$5)*(Statistics!$B$4:$B$963=AH46)*(Statistics!$P$4:$P$963))))","v":""}]
[8,{"$f":"IF(B$4=\"\",\"\",IF($A13>B$38,\"\",SUMPRODUCT((Statistics!$D$4:$D$963=B$4)*(Statistics!$E$4:$E$963=B$5)*(Statistics!$B$4:$B$963=B47)*(Statistics!$AC$4:$AC$963))))","v":""},"",{"$f":"IF(B$4=\"\",\"\",IF($A13>B$38,\"\",SUMPRODUCT((Statistics!$D$4:$D$963=B$4)*(Statistics!$E$4:$E$963=B$5)*(Statistics!$B$4:$B$963=B47)*(Statistics!$F$4:$F$963))))","v":""},{"$f":"IF(B$4=\"\",\"\",IF($A13>B$38,\"\",SUMPRODUCT((Statistics!$D$4:$D$963=B$4)*(Statistics!$E$4:$E$963=B$5)*(Statistics!$B$4:$B$963=B47)*(Statistics!$P$4:$P$963))))","v":""},{"$f":"IF(F$4=\"\",\"\",IF($A13>F$38,\"\",SUMPRODUCT((Statistics!$D$4:$D$963=F$4)*(Statistics!$E$4:$E$963=F$5)*(Statistics!$B$4:$B$963=F47)*(Statistics!$AC$4:$AC$963))))","v":""},"",{"$f":"IF(F$4=\"\",\"\",IF($A13>F$38,\"\",SUMPRODUCT((Statistics!$D$4:$D$963=F$4)*(Statistics!$E$4:$E$963=F$5)*(Statistics!$B$4:$B$963=F47)*(Statistics!$F$4:$F$963))))","v":""},{"$f":"IF(F$4=\"\",\"\",IF($A13>F$38,\"\",SUMPRODUCT((Statistics!$D$4:$D$963=F$4)*(Statistics!$E$4:$E$963=F$5)*(Statistics!$B$4:$B$963=F47)*(Statistics!$P$4:$P$963))))","v":""},{"$f":"IF(J$4=\"\",\"\",IF($A13>J$38,\"\",SUMPRODUCT((Statistics!$D$4:$D$963=J$4)*(Statistics!$E$4:$E$963=J$5)*(Statistics!$B$4:$B$963=J47)*(Statistics!$AC$4:$AC$963))))","v":""},"",{"$f":"IF(J$4=\"\",\"\",IF($A13>J$38,\"\",SUMPRODUCT((Statistics!$D$4:$D$963=J$4)*(Statistics!$E$4:$E$963=J$5)*(Statistics!$B$4:$B$963=J47)*(Statistics!$F$4:$F$963))))","v":""},{"$f":"IF(J$4=\"\",\"\",IF($A13>J$38,\"\",SUMPRODUCT((Statistics!$D$4:$D$963=J$4)*(Statistics!$E$4:$E$963=J$5)*(Statistics!$B$4:$B$963=J47)*(Statistics!$P$4:$P$963))))","v":""},{"$f":"IF(N$4=\"\",\"\",IF($A13>N$38,\"\",SUMPRODUCT((Statistics!$D$4:$D$963=N$4)*(Statistics!$E$4:$E$963=N$5)*(Statistics!$B$4:$B$963=N47)*(Statistics!$AC$4:$AC$963))))","v":""},"",{"$f":"IF(N$4=\"\",\"\",IF($A13>N$38,\"\",SUMPRODUCT((Statistics!$D$4:$D$963=N$4)*(Statistics!$E$4:$E$963=N$5)*(Statistics!$B$4:$B$963=N47)*(Statistics!$F$4:$F$963))))","v":""},{"$f":"IF(N$4=\"\",\"\",IF($A13>N$38,\"\",SUMPRODUCT((Statistics!$D$4:$D$963=N$4)*(Statistics!$E$4:$E$963=N$5)*(Statistics!$B$4:$B$963=N47)*(Statistics!$P$4:$P$963))))","v":""},{"$f":"IF(R$4=\"\",\"\",IF($A13>R$38,\"\",SUMPRODUCT((Statistics!$D$4:$D$963=R$4)*(Statistics!$E$4:$E$963=R$5)*(Statistics!$B$4:$B$963=R47)*(Statistics!$AC$4:$AC$963))))","v":""},"",{"$f":"IF(R$4=\"\",\"\",IF($A13>R$38,\"\",SUMPRODUCT((Statistics!$D$4:$D$963=R$4)*(Statistics!$E$4:$E$963=R$5)*(Statistics!$B$4:$B$963=R47)*(Statistics!$F$4:$F$963))))","v":""},{"$f":"IF(R$4=\"\",\"\",IF($A13>R$38,\"\",SUMPRODUCT((Statistics!$D$4:$D$963=R$4)*(Statistics!$E$4:$E$963=R$5)*(Statistics!$B$4:$B$963=R47)*(Statistics!$P$4:$P$963))))","v":""},{"$f":"IF(V$4=\"\",\"\",IF($A13>V$38,\"\",SUMPRODUCT((Statistics!$D$4:$D$963=V$4)*(Statistics!$E$4:$E$963=V$5)*(Statistics!$B$4:$B$963=V47)*(Statistics!$AC$4:$AC$963))))","v":""},"",{"$f":"IF(V$4=\"\",\"\",IF($A13>V$38,\"\",SUMPRODUCT((Statistics!$D$4:$D$963=V$4)*(Statistics!$E$4:$E$963=V$5)*(Statistics!$B$4:$B$963=V47)*(Statistics!$F$4:$F$963))))","v":""},{"$f":"IF(V$4=\"\",\"\",IF($A13>V$38,\"\",SUMPRODUCT((Statistics!$D$4:$D$963=V$4)*(Statistics!$E$4:$E$963=V$5)*(Statistics!$B$4:$B$963=V47)*(Statistics!$P$4:$P$963))))","v":""},{"$f":"IF(Z$4=\"\",\"\",IF($A13>Z$38,\"\",SUMPRODUCT((Statistics!$D$4:$D$963=Z$4)*(Statistics!$E$4:$E$963=Z$5)*(Statistics!$B$4:$B$963=Z47)*(Statistics!$AC$4:$AC$963))))","v":""},"",{"$f":"IF(Z$4=\"\",\"\",IF($A13>Z$38,\"\",SUMPRODUCT((Statistics!$D$4:$D$963=Z$4)*(Statistics!$E$4:$E$963=Z$5)*(Statistics!$B$4:$B$963=Z47)*(Statistics!$F$4:$F$963))))","v":""},{"$f":"IF(Z$4=\"\",\"\",IF($A13>Z$38,\"\",SUMPRODUCT((Statistics!$D$4:$D$963=Z$4)*(Statistics!$E$4:$E$963=Z$5)*(Statistics!$B$4:$B$963=Z47)*(Statistics!$P$4:$P$963))))","v":""},{"$f":"IF(AD$4=\"\",\"\",IF($A13>AD$38,\"\",SUMPRODUCT((Statistics!$D$4:$D$963=AD$4)*(Statistics!$E$4:$E$963=AD$5)*(Statistics!$B$4:$B$963=AD47)*(Statistics!$AC$4:$AC$963))))","v":""},"",{"$f":"IF(AD$4=\"\",\"\",IF($A13>AD$38,\"\",SUMPRODUCT((Statistics!$D$4:$D$963=AD$4)*(Statistics!$E$4:$E$963=AD$5)*(Statistics!$B$4:$B$963=AD47)*(Statistics!$F$4:$F$963))))","v":""},{"$f":"IF(AD$4=\"\",\"\",IF($A13>AD$38,\"\",SUMPRODUCT((Statistics!$D$4:$D$963=AD$4)*(Statistics!$E$4:$E$963=AD$5)*(Statistics!$B$4:$B$963=AD47)*(Statistics!$P$4:$P$963))))","v":""},{"$f":"IF(AH$4=\"\",\"\",IF($A13>AH$38,\"\",SUMPRODUCT((Statistics!$D$4:$D$963=AH$4)*(Statistics!$E$4:$E$963=AH$5)*(Statistics!$B$4:$B$963=AH47)*(Statistics!$AC$4:$AC$963))))","v":""},"",{"$f":"IF(AH$4=\"\",\"\",IF($A13>AH$38,\"\",SUMPRODUCT((Statistics!$D$4:$D$963=AH$4)*(Statistics!$E$4:$E$963=AH$5)*(Statistics!$B$4:$B$963=AH47)*(Statistics!$F$4:$F$963))))","v":""},{"$f":"IF(AH$4=\"\",\"\",IF($A13>AH$38,\"\",SUMPRODUCT((Statistics!$D$4:$D$963=AH$4)*(Statistics!$E$4:$E$963=AH$5)*(Statistics!$B$4:$B$963=AH47)*(Statistics!$P$4:$P$963))))","v":""}]
[9,{"$f":"IF(B$4=\"\",\"\",IF($A14>B$38,\"\",SUMPRODUCT((Statistics!$D$4:$D$963=B$4)*(Statistics!$E$4:$E$963=B$5)*(Statistics!$B$4:$B$963=B48)*(Statistics!$AC$4:$AC$963))))","v":""},"",{"$f":"IF(B$4=\"\",\"\",IF($A14>B$38,\"\",SUMPRODUCT((Statistics!$D$4:$D$963=B$4)*(Statistics!$E$4:$E$963=B$5)*(Statistics!$B$4:$B$963=B48)*(Statistics!$F$4:$F$963))))","v":""},{"$f":"IF(B$4=\"\",\"\",IF($A14>B$38,\"\",SUMPRODUCT((Statistics!$D$4:$D$963=B$4)*(Statistics!$E$4:$E$963=B$5)*(Statistics!$B$4:$B$963=B48)*(Statistics!$P$4:$P$963))))","v":""},{"$f":"IF(F$4=\"\",\"\",IF($A14>F$38,\"\",SUMPRODUCT((Statistics!$D$4:$D$963=F$4)*(Statistics!$E$4:$E$963=F$5)*(Statistics!$B$4:$B$963=F48)*(Statistics!$AC$4:$AC$963))))","v":""},"",{"$f":"IF(F$4=\"\",\"\",IF($A14>F$38,\"\",SUMPRODUCT((Statistics!$D$4:$D$963=F$4)*(Statistics!$E$4:$E$963=F$5)*(Statistics!$B$4:$B$963=F48)*(Statistics!$F$4:$F$963))))","v":""},{"$f":"IF(F$4=\"\",\"\",IF($A14>F$38,\"\",SUMPRODUCT((Statistics!$D$4:$D$963=F$4)*(Statistics!$E$4:$E$963=F$5)*(Statistics!$B$4:$B$963=F48)*(Statistics!$P$4:$P$963))))","v":""},{"$f":"IF(J$4=\"\",\"\",IF($A14>J$38,\"\",SUMPRODUCT((Statistics!$D$4:$D$963=J$4)*(Statistics!$E$4:$E$963=J$5)*(Statistics!$B$4:$B$963=J48)*(Statistics!$AC$4:$AC$963))))","v":""},"",{"$f":"IF(J$4=\"\",\"\",IF($A14>J$38,\"\",SUMPRODUCT((Statistics!$D$4:$D$963=J$4)*(Statistics!$E$4:$E$963=J$5)*(Statistics!$B$4:$B$963=J48)*(Statistics!$F$4:$F$963))))","v":""},{"$f":"IF(J$4=\"\",\"\",IF($A14>J$38,\"\",SUMPRODUCT((Statistics!$D$4:$D$963=J$4)*(Statistics!$E$4:$E$963=J$5)*(Statistics!$B$4:$B$963=J48)*(Statistics!$P$4:$P$963))))","v":""},{"$f":"IF(N$4=\"\",\"\",IF($A14>N$38,\"\",SUMPRODUCT((Statistics!$D$4:$D$963=N$4)*(Statistics!$E$4:$E$963=N$5)*(Statistics!$B$4:$B$963=N48)*(Statistics!$AC$4:$AC$963))))","v":""},"",{"$f":"IF(N$4=\"\",\"\",IF($A14>N$38,\"\",SUMPRODUCT((Statistics!$D$4:$D$963=N$4)*(Statistics!$E$4:$E$963=N$5)*(Statistics!$B$4:$B$963=N48)*(Statistics!$F$4:$F$963))))","v":""},{"$f":"IF(N$4=\"\",\"\",IF($A14>N$38,\"\",SUMPRODUCT((Statistics!$D$4:$D$963=N$4)*(Statistics!$E$4:$E$963=N$5)*(Statistics!$B$4:$B$963=N48)*(Statistics!$P$4:$P$963))))","v":""},{"$f":"IF(R$4=\"\",\"\",IF($A14>R$38,\"\",SUMPRODUCT((Statistics!$D$4:$D$963=R$4)*(Statistics!$E$4:$E$963=R$5)*(Statistics!$B$4:$B$963=R48)*(Statistics!$AC$4:$AC$963))))","v":""},"",{"$f":"IF(R$4=\"\",\"\",IF($A14>R$38,\"\",SUMPRODUCT((Statistics!$D$4:$D$963=R$4)*(Statistics!$E$4:$E$963=R$5)*(Statistics!$B$4:$B$963=R48)*(Statistics!$F$4:$F$963))))","v":""},{"$f":"IF(R$4=\"\",\"\",IF($A14>R$38,\"\",SUMPRODUCT((Statistics!$D$4:$D$963=R$4)*(Statistics!$E$4:$E$963=R$5)*(Statistics!$B$4:$B$963=R48)*(Statistics!$P$4:$P$963))))","v":""},{"$f":"IF(V$4=\"\",\"\",IF($A14>V$38,\"\",SUMPRODUCT((Statistics!$D$4:$D$963=V$4)*(Statistics!$E$4:$E$963=V$5)*(Statistics!$B$4:$B$963=V48)*(Statistics!$AC$4:$AC$963))))","v":""},"",{"$f":"IF(V$4=\"\",\"\",IF($A14>V$38,\"\",SUMPRODUCT((Statistics!$D$4:$D$963=V$4)*(Statistics!$E$4:$E$963=V$5)*(Statistics!$B$4:$B$963=V48)*(Statistics!$F$4:$F$963))))","v":""},{"$f":"IF(V$4=\"\",\"\",IF($A14>V$38,\"\",SUMPRODUCT((Statistics!$D$4:$D$963=V$4)*(Statistics!$E$4:$E$963=V$5)*(Statistics!$B$4:$B$963=V48)*(Statistics!$P$4:$P$963))))","v":""},{"$f":"IF(Z$4=\"\",\"\",IF($A14>Z$38,\"\",SUMPRODUCT((Statistics!$D$4:$D$963=Z$4)*(Statistics!$E$4:$E$963=Z$5)*(Statistics!$B$4:$B$963=Z48)*(Statistics!$AC$4:$AC$963))))","v":""},"",{"$f":"IF(Z$4=\"\",\"\",IF($A14>Z$38,\"\",SUMPRODUCT((Statistics!$D$4:$D$963=Z$4)*(Statistics!$E$4:$E$963=Z$5)*(Statistics!$B$4:$B$963=Z48)*(Statistics!$F$4:$F$963))))","v":""},{"$f":"IF(Z$4=\"\",\"\",IF($A14>Z$38,\"\",SUMPRODUCT((Statistics!$D$4:$D$963=Z$4)*(Statistics!$E$4:$E$963=Z$5)*(Statistics!$B$4:$B$963=Z48)*(Statistics!$P$4:$P$963))))","v":""},{"$f":"IF(AD$4=\"\",\"\",IF($A14>AD$38,\"\",SUMPRODUCT((Statistics!$D$4:$D$963=AD$4)*(Statistics!$E$4:$E$963=AD$5)*(Statistics!$B$4:$B$963=AD48)*(Statistics!$AC$4:$AC$963))))","v":""},"",{"$f":"IF(AD$4=\"\",\"\",IF($A14>AD$38,\"\",SUMPRODUCT((Statistics!$D$4:$D$963=AD$4)*(Statistics!$E$4:$E$963=AD$5)*(Statistics!$B$4:$B$963=AD48)*(Statistics!$F$4:$F$963))))","v":""},{"$f":"IF(AD$4=\"\",\"\",IF($A14>AD$38,\"\",SUMPRODUCT((Statistics!$D$4:$D$963=AD$4)*(Statistics!$E$4:$E$963=AD$5)*(Statistics!$B$4:$B$963=AD48)*(Statistics!$P$4:$P$963))))","v":""},{"$f":"IF(AH$4=\"\",\"\",IF($A14>AH$38,\"\",SUMPRODUCT((Statistics!$D$4:$D$963=AH$4)*(Statistics!$E$4:$E$963=AH$5)*(Statistics!$B$4:$B$963=AH48)*(Statistics!$AC$4:$AC$963))))","v":""},"",{"$f":"IF(AH$4=\"\",\"\",IF($A14>AH$38,\"\",SUMPRODUCT((Statistics!$D$4:$D$963=AH$4)*(Statistics!$E$4:$E$963=AH$5)*(Statistics!$B$4:$B$963=AH48)*(Statistics!$F$4:$F$963))))","v":""},{"$f":"IF(AH$4=\"\",\"\",IF($A14>AH$38,\"\",SUMPRODUCT((Statistics!$D$4:$D$963=AH$4)*(Statistics!$E$4:$E$963=AH$5)*(Statistics!$B$4:$B$963=AH48)*(Statistics!$P$4:$P$963))))","v":""}]
[10,{"$f":"IF(B$4=\"\",\"\",IF($A15>B$38,\"\",SUMPRODUCT((Statistics!$D$4:$D$963=B$4)*(Statistics!$E$4:$E$963=B$5)*(Statistics!$B$4:$B$963=B49)*(Statistics!$AC$4:$AC$963))))","v":""},"",{"$f":"IF(B$4=\"\",\"\",IF($A15>B$38,\"\",SUMPRODUCT((Statistics!$D$4:$D$963=B$4)*(Statistics!$E$4:$E$963=B$5)*(Statistics!$B$4:$B$963=B49)*(Statistics!$F$4:$F$963))))","v":""},{"$f":"IF(B$4=\"\",\"\",IF($A15>B$38,\"\",SUMPRODUCT((Statistics!$D$4:$D$963=B$4)*(Statistics!$E$4:$E$963=B$5)*(Statistics!$B$4:$B$963=B49)*(Statistics!$P$4:$P$963))))","v":""},{"$f":"IF(F$4=\"\",\"\",IF($A15>F$38,\"\",SUMPRODUCT((Statistics!$D$4:$D$963=F$4)*(Statistics!$E$4:$E$963=F$5)*(Statistics!$B$4:$B$963=F49)*(Statistics!$AC$4:$AC$963))))","v":""},"",{"$f":"IF(F$4=\"\",\"\",IF($A15>F$38,\"\",SUMPRODUCT((Statistics!$D$4:$D$963=F$4)*(Statistics!$E$4:$E$963=F$5)*(Statistics!$B$4:$B$963=F49)*(Statistics!$F$4:$F$963))))","v":""},{"$f":"IF(F$4=\"\",\"\",IF($A15>F$38,\"\",SUMPRODUCT((Statistics!$D$4:$D$963=F$4)*(Statistics!$E$4:$E$963=F$5)*(Statistics!$B$4:$B$963=F49)*(Statistics!$P$4:$P$963))))","v":""},{"$f":"IF(J$4=\"\",\"\",IF($A15>J$38,\"\",SUMPRODUCT((Statistics!$D$4:$D$963=J$4)*(Statistics!$E$4:$E$963=J$5)*(Statistics!$B$4:$B$963=J49)*(Statistics!$AC$4:$AC$963))))","v":""},"",{"$f":"IF(J$4=\"\",\"\",IF($A15>J$38,\"\",SUMPRODUCT((Statistics!$D$4:$D$963=J$4)*(Statistics!$E$4:$E$963=J$5)*(Statistics!$B$4:$B$963=J49)*(Statistics!$F$4:$F$963))))","v":""},{"$f":"IF(J$4=\"\",\"\",IF($A15>J$38,\"\",SUMPRODUCT((Statistics!$D$4:$D$963=J$4)*(Statistics!$E$4:$E$963=J$5)*(Statistics!$B$4:$B$963=J49)*(Statistics!$P$4:$P$963))))","v":""},{"$f":"IF(N$4=\"\",\"\",IF($A15>N$38,\"\",SUMPRODUCT((Statistics!$D$4:$D$963=N$4)*(Statistics!$E$4:$E$963=N$5)*(Statistics!$B$4:$B$963=N49)*(Statistics!$AC$4:$AC$963))))","v":""},"",{"$f":"IF(N$4=\"\",\"\",IF($A15>N$38,\"\",SUMPRODUCT((Statistics!$D$4:$D$963=N$4)*(Statistics!$E$4:$E$963=N$5)*(Statistics!$B$4:$B$963=N49)*(Statistics!$F$4:$F$963))))","v":""},{"$f":"IF(N$4=\"\",\"\",IF($A15>N$38,\"\",SUMPRODUCT((Statistics!$D$4:$D$963=N$4)*(Statistics!$E$4:$E$963=N$5)*(Statistics!$B$4:$B$963=N49)*(Statistics!$P$4:$P$963))))","v":""},{"$f":"IF(R$4=\"\",\"\",IF($A15>R$38,\"\",SUMPRODUCT((Statistics!$D$4:$D$963=R$4)*(Statistics!$E$4:$E$963=R$5)*(Statistics!$B$4:$B$963=R49)*(Statistics!$AC$4:$AC$963))))","v":""},"",{"$f":"IF(R$4=\"\",\"\",IF($A15>R$38,\"\",SUMPRODUCT((Statistics!$D$4:$D$963=R$4)*(Statistics!$E$4:$E$963=R$5)*(Statistics!$B$4:$B$963=R49)*(Statistics!$F$4:$F$963))))","v":""},{"$f":"IF(R$4=\"\",\"\",IF($A15>R$38,\"\",SUMPRODUCT((Statistics!$D$4:$D$963=R$4)*(Statistics!$E$4:$E$963=R$5)*(Statistics!$B$4:$B$963=R49)*(Statistics!$P$4:$P$963))))","v":""},{"$f":"IF(V$4=\"\",\"\",IF($A15>V$38,\"\",SUMPRODUCT((Statistics!$D$4:$D$963=V$4)*(Statistics!$E$4:$E$963=V$5)*(Statistics!$B$4:$B$963=V49)*(Statistics!$AC$4:$AC$963))))","v":""},"",{"$f":"IF(V$4=\"\",\"\",IF($A15>V$38,\"\",SUMPRODUCT((Statistics!$D$4:$D$963=V$4)*(Statistics!$E$4:$E$963=V$5)*(Statistics!$B$4:$B$963=V49)*(Statistics!$F$4:$F$963))))","v":""},{"$f":"IF(V$4=\"\",\"\",IF($A15>V$38,\"\",SUMPRODUCT((Statistics!$D$4:$D$963=V$4)*(Statistics!$E$4:$E$963=V$5)*(Statistics!$B$4:$B$963=V49)*(Statistics!$P$4:$P$963))))","v":""},{"$f":"IF(Z$4=\"\",\"\",IF($A15>Z$38,\"\",SUMPRODUCT((Statistics!$D$4:$D$963=Z$4)*(Statistics!$E$4:$E$963=Z$5)*(Statistics!$B$4:$B$963=Z49)*(Statistics!$AC$4:$AC$963))))","v":""},"",{"$f":"IF(Z$4=\"\",\"\",IF($A15>Z$38,\"\",SUMPRODUCT((Statistics!$D$4:$D$963=Z$4)*(Statistics!$E$4:$E$963=Z$5)*(Statistics!$B$4:$B$963=Z49)*(Statistics!$F$4:$F$963))))","v":""},{"$f":"IF(Z$4=\"\",\"\",IF($A15>Z$38,\"\",SUMPRODUCT((Statistics!$D$4:$D$963=Z$4)*(Statistics!$E$4:$E$963=Z$5)*(Statistics!$B$4:$B$963=Z49)*(Statistics!$P$4:$P$963))))","v":""},{"$f":"IF(AD$4=\"\",\"\",IF($A15>AD$38,\"\",SUMPRODUCT((Statistics!$D$4:$D$963=AD$4)*(Statistics!$E$4:$E$963=AD$5)*(Statistics!$B$4:$B$963=AD49)*(Statistics!$AC$4:$AC$963))))","v":""},"",{"$f":"IF(AD$4=\"\",\"\",IF($A15>AD$38,\"\",SUMPRODUCT((Statistics!$D$4:$D$963=AD$4)*(Statistics!$E$4:$E$963=AD$5)*(Statistics!$B$4:$B$963=AD49)*(Statistics!$F$4:$F$963))))","v":""},{"$f":"IF(AD$4=\"\",\"\",IF($A15>AD$38,\"\",SUMPRODUCT((Statistics!$D$4:$D$963=AD$4)*(Statistics!$E$4:$E$963=AD$5)*(Statistics!$B$4:$B$963=AD49)*(Statistics!$P$4:$P$963))))","v":""},{"$f":"IF(AH$4=\"\",\"\",IF($A15>AH$38,\"\",SUMPRODUCT((Statistics!$D$4:$D$963=AH$4)*(Statistics!$E$4:$E$963=AH$5)*(Statistics!$B$4:$B$963=AH49)*(Statistics!$AC$4:$AC$963))))","v":""},"",{"$f":"IF(AH$4=\"\",\"\",IF($A15>AH$38,\"\",SUMPRODUCT((Statistics!$D$4:$D$963=AH$4)*(Statistics!$E$4:$E$963=AH$5)*(Statistics!$B$4:$B$963=AH49)*(Statistics!$F$4:$F$963))))","v":""},{"$f":"IF(AH$4=\"\",\"\",IF($A15>AH$38,\"\",SUMPRODUCT((Statistics!$D$4:$D$963=AH$4)*(Statistics!$E$4:$E$963=AH$5)*(Statistics!$B$4:$B$963=AH49)*(Statistics!$P$4:$P$963))))","v":""}]
[11,{"$f":"IF(B$4=\"\",\"\",IF($A16>B$38,\"\",SUMPRODUCT((Statistics!$D$4:$D$963=B$4)*(Statistics!$E$4:$E$963=B$5)*(Statistics!$B$4:$B$963=B50)*(Statistics!$AC$4:$AC$963))))","v":""},"",{"$f":"IF(B$4=\"\",\"\",IF($A16>B$38,\"\",SUMPRODUCT((Statistics!$D$4:$D$963=B$4)*(Statistics!$E$4:$E$963=B$5)*(Statistics!$B$4:$B$963=B50)*(Statistics!$F$4:$F$963))))","v":""},{"$f":"IF(B$4=\"\",\"\",IF($A16>B$38,\"\",SUMPRODUCT((Statistics!$D$4:$D$963=B$4)*(Statistics!$E$4:$E$963=B$5)*(Statistics!$B$4:$B$963=B50)*(Statistics!$P$4:$P$963))))","v":""},{"$f":"IF(F$4=\"\",\"\",IF($A16>F$38,\"\",SUMPRODUCT((Statistics!$D$4:$D$963=F$4)*(Statistics!$E$4:$E$963=F$5)*(Statistics!$B$4:$B$963=F50)*(Statistics!$AC$4:$AC$963))))","v":""},"",{"$f":"IF(F$4=\"\",\"\",IF($A16>F$38,\"\",SUMPRODUCT((Statistics!$D$4:$D$963=F$4)*(Statistics!$E$4:$E$963=F$5)*(Statistics!$B$4:$B$963=F50)*(Statistics!$F$4:$F$963))))","v":""},{"$f":"IF(F$4=\"\",\"\",IF($A16>F$38,\"\",SUMPRODUCT((Statistics!$D$4:$D$963=F$4)*(Statistics!$E$4:$E$963=F$5)*(Statistics!$B$4:$B$963=F50)*(Statistics!$P$4:$P$963))))","v":""},{"$f":"IF(J$4=\"\",\"\",IF($A16>J$38,\"\",SUMPRODUCT((Statistics!$D$4:$D$963=J$4)*(Statistics!$E$4:$E$963=J$5)*(Statistics!$B$4:$B$963=J50)*(Statistics!$AC$4:$AC$963))))","v":""},"",{"$f":"IF(J$4=\"\",\"\",IF($A16>J$38,\"\",SUMPRODUCT((Statistics!$D$4:$D$963=J$4)*(Statistics!$E$4:$E$963=J$5)*(Statistics!$B$4:$B$963=J50)*(Statistics!$F$4:$F$963))))","v":""},{"$f":"IF(J$4=\"\",\"\",IF($A16>J$38,\"\",SUMPRODUCT((Statistics!$D$4:$D$963=J$4)*(Statistics!$E$4:$E$963=J$5)*(Statistics!$B$4:$B$963=J50)*(Statistics!$P$4:$P$963))))","v":""},{"$f":"IF(N$4=\"\",\"\",IF($A16>N$38,\"\",SUMPRODUCT((Statistics!$D$4:$D$963=N$4)*(Statistics!$E$4:$E$963=N$5)*(Statistics!$B$4:$B$963=N50)*(Statistics!$AC$4:$AC$963))))","v":""},"",{"$f":"IF(N$4=\"\",\"\",IF($A16>N$38,\"\",SUMPRODUCT((Statistics!$D$4:$D$963=N$4)*(Statistics!$E$4:$E$963=N$5)*(Statistics!$B$4:$B$963=N50)*(Statistics!$F$4:$F$963))))","v":""},{"$f":"IF(N$4=\"\",\"\",IF($A16>N$38,\"\",SUMPRODUCT((Statistics!$D$4:$D$963=N$4)*(Statistics!$E$4:$E$963=N$5)*(Statistics!$B$4:$B$963=N50)*(Statistics!$P$4:$P$963))))","v":""},{"$f":"IF(R$4=\"\",\"\",IF($A16>R$38,\"\",SUMPRODUCT((Statistics!$D$4:$D$963=R$4)*(Statistics!$E$4:$E$963=R$5)*(Statistics!$B$4:$B$963=R50)*(Statistics!$AC$4:$AC$963))))","v":""},"",{"$f":"IF(R$4=\"\",\"\",IF($A16>R$38,\"\",SUMPRODUCT((Statistics!$D$4:$D$963=R$4)*(Statistics!$E$4:$E$963=R$5)*(Statistics!$B$4:$B$963=R50)*(Statistics!$F$4:$F$963))))","v":""},{"$f":"IF(R$4=\"\",\"\",IF($A16>R$38,\"\",SUMPRODUCT((Statistics!$D$4:$D$963=R$4)*(Statistics!$E$4:$E$963=R$5)*(Statistics!$B$4:$B$963=R50)*(Statistics!$P$4:$P$963))))","v":""},{"$f":"IF(V$4=\"\",\"\",IF($A16>V$38,\"\",SUMPRODUCT((Statistics!$D$4:$D$963=V$4)*(Statistics!$E$4:$E$963=V$5)*(Statistics!$B$4:$B$963=V50)*(Statistics!$AC$4:$AC$963))))","v":""},"",{"$f":"IF(V$4=\"\",\"\",IF($A16>V$38,\"\",SUMPRODUCT((Statistics!$D$4:$D$963=V$4)*(Statistics!$E$4:$E$963=V$5)*(Statistics!$B$4:$B$963=V50)*(Statistics!$F$4:$F$963))))","v":""},{"$f":"IF(V$4=\"\",\"\",IF($A16>V$38,\"\",SUMPRODUCT((Statistics!$D$4:$D$963=V$4)*(Statistics!$E$4:$E$963=V$5)*(Statistics!$B$4:$B$963=V50)*(Statistics!$P$4:$P$963))))","v":""},{"$f":"IF(Z$4=\"\",\"\",IF($A16>Z$38,\"\",SUMPRODUCT((Statistics!$D$4:$D$963=Z$4)*(Statistics!$E$4:$E$963=Z$5)*(Statistics!$B$4:$B$963=Z50)*(Statistics!$AC$4:$AC$963))))","v":""},"",{"$f":"IF(Z$4=\"\",\"\",IF($A16>Z$38,\"\",SUMPRODUCT((Statistics!$D$4:$D$963=Z$4)*(Statistics!$E$4:$E$963=Z$5)*(Statistics!$B$4:$B$963=Z50)*(Statistics!$F$4:$F$963))))","v":""},{"$f":"IF(Z$4=\"\",\"\",IF($A16>Z$38,\"\",SUMPRODUCT((Statistics!$D$4:$D$963=Z$4)*(Statistics!$E$4:$E$963=Z$5)*(Statistics!$B$4:$B$963=Z50)*(Statistics!$P$4:$P$963))))","v":""},{"$f":"IF(AD$4=\"\",\"\",IF($A16>AD$38,\"\",SUMPRODUCT((Statistics!$D$4:$D$963=AD$4)*(Statistics!$E$4:$E$963=AD$5)*(Statistics!$B$4:$B$963=AD50)*(Statistics!$AC$4:$AC$963))))","v":""},"",{"$f":"IF(AD$4=\"\",\"\",IF($A16>AD$38,\"\",SUMPRODUCT((Statistics!$D$4:$D$963=AD$4)*(Statistics!$E$4:$E$963=AD$5)*(Statistics!$B$4:$B$963=AD50)*(Statistics!$F$4:$F$963))))","v":""},{"$f":"IF(AD$4=\"\",\"\",IF($A16>AD$38,\"\",SUMPRODUCT((Statistics!$D$4:$D$963=AD$4)*(Statistics!$E$4:$E$963=AD$5)*(Statistics!$B$4:$B$963=AD50)*(Statistics!$P$4:$P$963))))","v":""},{"$f":"IF(AH$4=\"\",\"\",IF($A16>AH$38,\"\",SUMPRODUCT((Statistics!$D$4:$D$963=AH$4)*(Statistics!$E$4:$E$963=AH$5)*(Statistics!$B$4:$B$963=AH50)*(Statistics!$AC$4:$AC$963))))","v":""},"",{"$f":"IF(AH$4=\"\",\"\",IF($A16>AH$38,\"\",SUMPRODUCT((Statistics!$D$4:$D$963=AH$4)*(Statistics!$E$4:$E$963=AH$5)*(Statistics!$B$4:$B$963=AH50)*(Statistics!$F$4:$F$963))))","v":""},{"$f":"IF(AH$4=\"\",\"\",IF($A16>AH$38,\"\",SUMPRODUCT((Statistics!$D$4:$D$963=AH$4)*(Statistics!$E$4:$E$963=AH$5)*(Statistics!$B$4:$B$963=AH50)*(Statistics!$P$4:$P$963))))","v":""}]
[12,{"$f":"IF(B$4=\"\",\"\",IF($A17>B$38,\"\",SUMPRODUCT((Statistics!$D$4:$D$963=B$4)*(Statistics!$E$4:$E$963=B$5)*(Statistics!$B$4:$B$963=B51)*(Statistics!$AC$4:$AC$963))))","v":""},"",{"$f":"IF(B$4=\"\",\"\",IF($A17>B$38,\"\",SUMPRODUCT((Statistics!$D$4:$D$963=B$4)*(Statistics!$E$4:$E$963=B$5)*(Statistics!$B$4:$B$963=B51)*(Statistics!$F$4:$F$963))))","v":""},{"$f":"IF(B$4=\"\",\"\",IF($A17>B$38,\"\",SUMPRODUCT((Statistics!$D$4:$D$963=B$4)*(Statistics!$E$4:$E$963=B$5)*(Statistics!$B$4:$B$963=B51)*(Statistics!$P$4:$P$963))))","v":""},{"$f":"IF(F$4=\"\",\"\",IF($A17>F$38,\"\",SUMPRODUCT((Statistics!$D$4:$D$963=F$4)*(Statistics!$E$4:$E$963=F$5)*(Statistics!$B$4:$B$963=F51)*(Statistics!$AC$4:$AC$963))))","v":""},"",{"$f":"IF(F$4=\"\",\"\",IF($A17>F$38,\"\",SUMPRODUCT((Statistics!$D$4:$D$963=F$4)*(Statistics!$E$4:$E$963=F$5)*(Statistics!$B$4:$B$963=F51)*(Statistics!$F$4:$F$963))))","v":""},{"$f":"IF(F$4=\"\",\"\",IF($A17>F$38,\"\",SUMPRODUCT((Statistics!$D$4:$D$963=F$4)*(Statistics!$E$4:$E$963=F$5)*(Statistics!$B$4:$B$963=F51)*(Statistics!$P$4:$P$963))))","v":""},{"$f":"IF(J$4=\"\",\"\",IF($A17>J$38,\"\",SUMPRODUCT((Statistics!$D$4:$D$963=J$4)*(Statistics!$E$4:$E$963=J$5)*(Statistics!$B$4:$B$963=J51)*(Statistics!$AC$4:$AC$963))))","v":""},"",{"$f":"IF(J$4=\"\",\"\",IF($A17>J$38,\"\",SUMPRODUCT((Statistics!$D$4:$D$963=J$4)*(Statistics!$E$4:$E$963=J$5)*(Statistics!$B$4:$B$963=J51)*(Statistics!$F$4:$F$963))))","v":""},{"$f":"IF(J$4=\"\",\"\",IF($A17>J$38,\"\",SUMPRODUCT((Statistics!$D$4:$D$963=J$4)*(Statistics!$E$4:$E$963=J$5)*(Statistics!$B$4:$B$963=J51)*(Statistics!$P$4:$P$963))))","v":""},{"$f":"IF(N$4=\"\",\"\",IF($A17>N$38,\"\",SUMPRODUCT((Statistics!$D$4:$D$963=N$4)*(Statistics!$E$4:$E$963=N$5)*(Statistics!$B$4:$B$963=N51)*(Statistics!$AC$4:$AC$963))))","v":""},"",{"$f":"IF(N$4=\"\",\"\",IF($A17>N$38,\"\",SUMPRODUCT((Statistics!$D$4:$D$963=N$4)*(Statistics!$E$4:$E$963=N$5)*(Statistics!$B$4:$B$963=N51)*(Statistics!$F$4:$F$963))))","v":""},{"$f":"IF(N$4=\"\",\"\",IF($A17>N$38,\"\",SUMPRODUCT((Statistics!$D$4:$D$963=N$4)*(Statistics!$E$4:$E$963=N$5)*(Statistics!$B$4:$B$963=N51)*(Statistics!$P$4:$P$963))))","v":""},{"$f":"IF(R$4=\"\",\"\",IF($A17>R$38,\"\",SUMPRODUCT((Statistics!$D$4:$D$963=R$4)*(Statistics!$E$4:$E$963=R$5)*(Statistics!$B$4:$B$963=R51)*(Statistics!$AC$4:$AC$963))))","v":""},"",{"$f":"IF(R$4=\"\",\"\",IF($A17>R$38,\"\",SUMPRODUCT((Statistics!$D$4:$D$963=R$4)*(Statistics!$E$4:$E$963=R$5)*(Statistics!$B$4:$B$963=R51)*(Statistics!$F$4:$F$963))))","v":""},{"$f":"IF(R$4=\"\",\"\",IF($A17>R$38,\"\",SUMPRODUCT((Statistics!$D$4:$D$963=R$4)*(Statistics!$E$4:$E$963=R$5)*(Statistics!$B$4:$B$963=R51)*(Statistics!$P$4:$P$963))))","v":""},{"$f":"IF(V$4=\"\",\"\",IF($A17>V$38,\"\",SUMPRODUCT((Statistics!$D$4:$D$963=V$4)*(Statistics!$E$4:$E$963=V$5)*(Statistics!$B$4:$B$963=V51)*(Statistics!$AC$4:$AC$963))))","v":""},"",{"$f":"IF(V$4=\"\",\"\",IF($A17>V$38,\"\",SUMPRODUCT((Statistics!$D$4:$D$963=V$4)*(Statistics!$E$4:$E$963=V$5)*(Statistics!$B$4:$B$963=V51)*(Statistics!$F$4:$F$963))))","v":""},{"$f":"IF(V$4=\"\",\"\",IF($A17>V$38,\"\",SUMPRODUCT((Statistics!$D$4:$D$963=V$4)*(Statistics!$E$4:$E$963=V$5)*(Statistics!$B$4:$B$963=V51)*(Statistics!$P$4:$P$963))))","v":""},{"$f":"IF(Z$4=\"\",\"\",IF($A17>Z$38,\"\",SUMPRODUCT((Statistics!$D$4:$D$963=Z$4)*(Statistics!$E$4:$E$963=Z$5)*(Statistics!$B$4:$B$963=Z51)*(Statistics!$AC$4:$AC$963))))","v":""},"",{"$f":"IF(Z$4=\"\",\"\",IF($A17>Z$38,\"\",SUMPRODUCT((Statistics!$D$4:$D$963=Z$4)*(Statistics!$E$4:$E$963=Z$5)*(Statistics!$B$4:$B$963=Z51)*(Statistics!$F$4:$F$963))))","v":""},{"$f":"IF(Z$4=\"\",\"\",IF($A17>Z$38,\"\",SUMPRODUCT((Statistics!$D$4:$D$963=Z$4)*(Statistics!$E$4:$E$963=Z$5)*(Statistics!$B$4:$B$963=Z51)*(Statistics!$P$4:$P$963))))","v":""},{"$f":"IF(AD$4=\"\",\"\",IF($A17>AD$38,\"\",SUMPRODUCT((Statistics!$D$4:$D$963=AD$4)*(Statistics!$E$4:$E$963=AD$5)*(Statistics!$B$4:$B$963=AD51)*(Statistics!$AC$4:$AC$963))))","v":""},"",{"$f":"IF(AD$4=\"\",\"\",IF($A17>AD$38,\"\",SUMPRODUCT((Statistics!$D$4:$D$963=AD$4)*(Statistics!$E$4:$E$963=AD$5)*(Statistics!$B$4:$B$963=AD51)*(Statistics!$F$4:$F$963))))","v":""},{"$f":"IF(AD$4=\"\",\"\",IF($A17>AD$38,\"\",SUMPRODUCT((Statistics!$D$4:$D$963=AD$4)*(Statistics!$E$4:$E$963=AD$5)*(Statistics!$B$4:$B$963=AD51)*(Statistics!$P$4:$P$963))))","v":""},{"$f":"IF(AH$4=\"\",\"\",IF($A17>AH$38,\"\",SUMPRODUCT((Statistics!$D$4:$D$963=AH$4)*(Statistics!$E$4:$E$963=AH$5)*(Statistics!$B$4:$B$963=AH51)*(Statistics!$AC$4:$AC$963))))","v":""},"",{"$f":"IF(AH$4=\"\",\"\",IF($A17>AH$38,\"\",SUMPRODUCT((Statistics!$D$4:$D$963=AH$4)*(Statistics!$E$4:$E$963=AH$5)*(Statistics!$B$4:$B$963=AH51)*(Statistics!$F$4:$F$963))))","v":""},{"$f":"IF(AH$4=\"\",\"\",IF($A17>AH$38,\"\",SUMPRODUCT((Statistics!$D$4:$D$963=AH$4)*(Statistics!$E$4:$E$963=AH$5)*(Statistics!$B$4:$B$963=AH51)*(Statistics!$P$4:$P$963))))","v":""}]
[13,{"$f":"IF(B$4=\"\",\"\",IF($A18>B$38,\"\",SUMPRODUCT((Statistics!$D$4:$D$963=B$4)*(Statistics!$E$4:$E$963=B$5)*(Statistics!$B$4:$B$963=B52)*(Statistics!$AC$4:$AC$963))))","v":""},"",{"$f":"IF(B$4=\"\",\"\",IF($A18>B$38,\"\",SUMPRODUCT((Statistics!$D$4:$D$963=B$4)*(Statistics!$E$4:$E$963=B$5)*(Statistics!$B$4:$B$963=B52)*(Statistics!$F$4:$F$963))))","v":""},{"$f":"IF(B$4=\"\",\"\",IF($A18>B$38,\"\",SUMPRODUCT((Statistics!$D$4:$D$963=B$4)*(Statistics!$E$4:$E$963=B$5)*(Statistics!$B$4:$B$963=B52)*(Statistics!$P$4:$P$963))))","v":""},{"$f":"IF(F$4=\"\",\"\",IF($A18>F$38,\"\",SUMPRODUCT((Statistics!$D$4:$D$963=F$4)*(Statistics!$E$4:$E$963=F$5)*(Statistics!$B$4:$B$963=F52)*(Statistics!$AC$4:$AC$963))))","v":""},"",{"$f":"IF(F$4=\"\",\"\",IF($A18>F$38,\"\",SUMPRODUCT((Statistics!$D$4:$D$963=F$4)*(Statistics!$E$4:$E$963=F$5)*(Statistics!$B$4:$B$963=F52)*(Statistics!$F$4:$F$963))))","v":""},{"$f":"IF(F$4=\"\",\"\",IF($A18>F$38,\"\",SUMPRODUCT((Statistics!$D$4:$D$963=F$4)*(Statistics!$E$4:$E$963=F$5)*(Statistics!$B$4:$B$963=F52)*(Statistics!$P$4:$P$963))))","v":""},{"$f":"IF(J$4=\"\",\"\",IF($A18>J$38,\"\",SUMPRODUCT((Statistics!$D$4:$D$963=J$4)*(Statistics!$E$4:$E$963=J$5)*(Statistics!$B$4:$B$963=J52)*(Statistics!$AC$4:$AC$963))))","v":""},"",{"$f":"IF(J$4=\"\",\"\",IF($A18>J$38,\"\",SUMPRODUCT((Statistics!$D$4:$D$963=J$4)*(Statistics!$E$4:$E$963=J$5)*(Statistics!$B$4:$B$963=J52)*(Statistics!$F$4:$F$963))))","v":""},{"$f":"IF(J$4=\"\",\"\",IF($A18>J$38,\"\",SUMPRODUCT((Statistics!$D$4:$D$963=J$4)*(Statistics!$E$4:$E$963=J$5)*(Statistics!$B$4:$B$963=J52)*(Statistics!$P$4:$P$963))))","v":""},{"$f":"IF(N$4=\"\",\"\",IF($A18>N$38,\"\",SUMPRODUCT((Statistics!$D$4:$D$963=N$4)*(Statistics!$E$4:$E$963=N$5)*(Statistics!$B$4:$B$963=N52)*(Statistics!$AC$4:$AC$963))))","v":""},"",{"$f":"IF(N$4=\"\",\"\",IF($A18>N$38,\"\",SUMPRODUCT((Statistics!$D$4:$D$963=N$4)*(Statistics!$E$4:$E$963=N$5)*(Statistics!$B$4:$B$963=N52)*(Statistics!$F$4:$F$963))))","v":""},{"$f":"IF(N$4=\"\",\"\",IF($A18>N$38,\"\",SUMPRODUCT((Statistics!$D$4:$D$963=N$4)*(Statistics!$E$4:$E$963=N$5)*(Statistics!$B$4:$B$963=N52)*(Statistics!$P$4:$P$963))))","v":""},{"$f":"IF(R$4=\"\",\"\",IF($A18>R$38,\"\",SUMPRODUCT((Statistics!$D$4:$D$963=R$4)*(Statistics!$E$4:$E$963=R$5)*(Statistics!$B$4:$B$963=R52)*(Statistics!$AC$4:$AC$963))))","v":""},"",{"$f":"IF(R$4=\"\",\"\",IF($A18>R$38,\"\",SUMPRODUCT((Statistics!$D$4:$D$963=R$4)*(Statistics!$E$4:$E$963=R$5)*(Statistics!$B$4:$B$963=R52)*(Statistics!$F$4:$F$963))))","v":""},{"$f":"IF(R$4=\"\",\"\",IF($A18>R$38,\"\",SUMPRODUCT((Statistics!$D$4:$D$963=R$4)*(Statistics!$E$4:$E$963=R$5)*(Statistics!$B$4:$B$963=R52)*(Statistics!$P$4:$P$963))))","v":""},{"$f":"IF(V$4=\"\",\"\",IF($A18>V$38,\"\",SUMPRODUCT((Statistics!$D$4:$D$963=V$4)*(Statistics!$E$4:$E$963=V$5)*(Statistics!$B$4:$B$963=V52)*(Statistics!$AC$4:$AC$963))))","v":""},"",{"$f":"IF(V$4=\"\",\"\",IF($A18>V$38,\"\",SUMPRODUCT((Statistics!$D$4:$D$963=V$4)*(Statistics!$E$4:$E$963=V$5)*(Statistics!$B$4:$B$963=V52)*(Statistics!$F$4:$F$963))))","v":""},{"$f":"IF(V$4=\"\",\"\",IF($A18>V$38,\"\",SUMPRODUCT((Statistics!$D$4:$D$963=V$4)*(Statistics!$E$4:$E$963=V$5)*(Statistics!$B$4:$B$963=V52)*(Statistics!$P$4:$P$963))))","v":""},{"$f":"IF(Z$4=\"\",\"\",IF($A18>Z$38,\"\",SUMPRODUCT((Statistics!$D$4:$D$963=Z$4)*(Statistics!$E$4:$E$963=Z$5)*(Statistics!$B$4:$B$963=Z52)*(Statistics!$AC$4:$AC$963))))","v":""},"",{"$f":"IF(Z$4=\"\",\"\",IF($A18>Z$38,\"\",SUMPRODUCT((Statistics!$D$4:$D$963=Z$4)*(Statistics!$E$4:$E$963=Z$5)*(Statistics!$B$4:$B$963=Z52)*(Statistics!$F$4:$F$963))))","v":""},{"$f":"IF(Z$4=\"\",\"\",IF($A18>Z$38,\"\",SUMPRODUCT((Statistics!$D$4:$D$963=Z$4)*(Statistics!$E$4:$E$963=Z$5)*(Statistics!$B$4:$B$963=Z52)*(Statistics!$P$4:$P$963))))","v":""},{"$f":"IF(AD$4=\"\",\"\",IF($A18>AD$38,\"\",SUMPRODUCT((Statistics!$D$4:$D$963=AD$4)*(Statistics!$E$4:$E$963=AD$5)*(Statistics!$B$4:$B$963=AD52)*(Statistics!$AC$4:$AC$963))))","v":""},"",{"$f":"IF(AD$4=\"\",\"\",IF($A18>AD$38,\"\",SUMPRODUCT((Statistics!$D$4:$D$963=AD$4)*(Statistics!$E$4:$E$963=AD$5)*(Statistics!$B$4:$B$963=AD52)*(Statistics!$F$4:$F$963))))","v":""},{"$f":"IF(AD$4=\"\",\"\",IF($A18>AD$38,\"\",SUMPRODUCT((Statistics!$D$4:$D$963=AD$4)*(Statistics!$E$4:$E$963=AD$5)*(Statistics!$B$4:$B$963=AD52)*(Statistics!$P$4:$P$963))))","v":""},{"$f":"IF(AH$4=\"\",\"\",IF($A18>AH$38,\"\",SUMPRODUCT((Statistics!$D$4:$D$963=AH$4)*(Statistics!$E$4:$E$963=AH$5)*(Statistics!$B$4:$B$963=AH52)*(Statistics!$AC$4:$AC$963))))","v":""},"",{"$f":"IF(AH$4=\"\",\"\",IF($A18>AH$38,\"\",SUMPRODUCT((Statistics!$D$4:$D$963=AH$4)*(Statistics!$E$4:$E$963=AH$5)*(Statistics!$B$4:$B$963=AH52)*(Statistics!$F$4:$F$963))))","v":""},{"$f":"IF(AH$4=\"\",\"\",IF($A18>AH$38,\"\",SUMPRODUCT((Statistics!$D$4:$D$963=AH$4)*(Statistics!$E$4:$E$963=AH$5)*(Statistics!$B$4:$B$963=AH52)*(Statistics!$P$4:$P$963))))","v":""}]
[14,{"$f":"IF(B$4=\"\",\"\",IF($A19>B$38,\"\",SUMPRODUCT((Statistics!$D$4:$D$963=B$4)*(Statistics!$E$4:$E$963=B$5)*(Statistics!$B$4:$B$963=B53)*(Statistics!$AC$4:$AC$963))))","v":""},"",{"$f":"IF(B$4=\"\",\"\",IF($A19>B$38,\"\",SUMPRODUCT((Statistics!$D$4:$D$963=B$4)*(Statistics!$E$4:$E$963=B$5)*(Statistics!$B$4:$B$963=B53)*(Statistics!$F$4:$F$963))))","v":""},{"$f":"IF(B$4=\"\",\"\",IF($A19>B$38,\"\",SUMPRODUCT((Statistics!$D$4:$D$963=B$4)*(Statistics!$E$4:$E$963=B$5)*(Statistics!$B$4:$B$963=B53)*(Statistics!$P$4:$P$963))))","v":""},{"$f":"IF(F$4=\"\",\"\",IF($A19>F$38,\"\",SUMPRODUCT((Statistics!$D$4:$D$963=F$4)*(Statistics!$E$4:$E$963=F$5)*(Statistics!$B$4:$B$963=F53)*(Statistics!$AC$4:$AC$963))))","v":""},"",{"$f":"IF(F$4=\"\",\"\",IF($A19>F$38,\"\",SUMPRODUCT((Statistics!$D$4:$D$963=F$4)*(Statistics!$E$4:$E$963=F$5)*(Statistics!$B$4:$B$963=F53)*(Statistics!$F$4:$F$963))))","v":""},{"$f":"IF(F$4=\"\",\"\",IF($A19>F$38,\"\",SUMPRODUCT((Statistics!$D$4:$D$963=F$4)*(Statistics!$E$4:$E$963=F$5)*(Statistics!$B$4:$B$963=F53)*(Statistics!$P$4:$P$963))))","v":""},{"$f":"IF(J$4=\"\",\"\",IF($A19>J$38,\"\",SUMPRODUCT((Statistics!$D$4:$D$963=J$4)*(Statistics!$E$4:$E$963=J$5)*(Statistics!$B$4:$B$963=J53)*(Statistics!$AC$4:$AC$963))))","v":""},"",{"$f":"IF(J$4=\"\",\"\",IF($A19>J$38,\"\",SUMPRODUCT((Statistics!$D$4:$D$963=J$4)*(Statistics!$E$4:$E$963=J$5)*(Statistics!$B$4:$B$963=J53)*(Statistics!$F$4:$F$963))))","v":""},{"$f":"IF(J$4=\"\",\"\",IF($A19>J$38,\"\",SUMPRODUCT((Statistics!$D$4:$D$963=J$4)*(Statistics!$E$4:$E$963=J$5)*(Statistics!$B$4:$B$963=J53)*(Statistics!$P$4:$P$963))))","v":""},{"$f":"IF(N$4=\"\",\"\",IF($A19>N$38,\"\",SUMPRODUCT((Statistics!$D$4:$D$963=N$4)*(Statistics!$E$4:$E$963=N$5)*(Statistics!$B$4:$B$963=N53)*(Statistics!$AC$4:$AC$963))))","v":""},"",{"$f":"IF(N$4=\"\",\"\",IF($A19>N$38,\"\",SUMPRODUCT((Statistics!$D$4:$D$963=N$4)*(Statistics!$E$4:$E$963=N$5)*(Statistics!$B$4:$B$963=N53)*(Statistics!$F$4:$F$963))))","v":""},{"$f":"IF(N$4=\"\",\"\",IF($A19>N$38,\"\",SUMPRODUCT((Statistics!$D$4:$D$963=N$4)*(Statistics!$E$4:$E$963=N$5)*(Statistics!$B$4:$B$963=N53)*(Statistics!$P$4:$P$963))))","v":""},{"$f":"IF(R$4=\"\",\"\",IF($A19>R$38,\"\",SUMPRODUCT((Statistics!$D$4:$D$963=R$4)*(Statistics!$E$4:$E$963=R$5)*(Statistics!$B$4:$B$963=R53)*(Statistics!$AC$4:$AC$963))))","v":""},"",{"$f":"IF(R$4=\"\",\"\",IF($A19>R$38,\"\",SUMPRODUCT((Statistics!$D$4:$D$963=R$4)*(Statistics!$E$4:$E$963=R$5)*(Statistics!$B$4:$B$963=R53)*(Statistics!$F$4:$F$963))))","v":""},{"$f":"IF(R$4=\"\",\"\",IF($A19>R$38,\"\",SUMPRODUCT((Statistics!$D$4:$D$963=R$4)*(Statistics!$E$4:$E$963=R$5)*(Statistics!$B$4:$B$963=R53)*(Statistics!$P$4:$P$963))))","v":""},{"$f":"IF(V$4=\"\",\"\",IF($A19>V$38,\"\",SUMPRODUCT((Statistics!$D$4:$D$963=V$4)*(Statistics!$E$4:$E$963=V$5)*(Statistics!$B$4:$B$963=V53)*(Statistics!$AC$4:$AC$963))))","v":""},"",{"$f":"IF(V$4=\"\",\"\",IF($A19>V$38,\"\",SUMPRODUCT((Statistics!$D$4:$D$963=V$4)*(Statistics!$E$4:$E$963=V$5)*(Statistics!$B$4:$B$963=V53)*(Statistics!$F$4:$F$963))))","v":""},{"$f":"IF(V$4=\"\",\"\",IF($A19>V$38,\"\",SUMPRODUCT((Statistics!$D$4:$D$963=V$4)*(Statistics!$E$4:$E$963=V$5)*(Statistics!$B$4:$B$963=V53)*(Statistics!$P$4:$P$963))))","v":""},{"$f":"IF(Z$4=\"\",\"\",IF($A19>Z$38,\"\",SUMPRODUCT((Statistics!$D$4:$D$963=Z$4)*(Statistics!$E$4:$E$963=Z$5)*(Statistics!$B$4:$B$963=Z53)*(Statistics!$AC$4:$AC$963))))","v":""},"",{"$f":"IF(Z$4=\"\",\"\",IF($A19>Z$38,\"\",SUMPRODUCT((Statistics!$D$4:$D$963=Z$4)*(Statistics!$E$4:$E$963=Z$5)*(Statistics!$B$4:$B$963=Z53)*(Statistics!$F$4:$F$963))))","v":""},{"$f":"IF(Z$4=\"\",\"\",IF($A19>Z$38,\"\",SUMPRODUCT((Statistics!$D$4:$D$963=Z$4)*(Statistics!$E$4:$E$963=Z$5)*(Statistics!$B$4:$B$963=Z53)*(Statistics!$P$4:$P$963))))","v":""},{"$f":"IF(AD$4=\"\",\"\",IF($A19>AD$38,\"\",SUMPRODUCT((Statistics!$D$4:$D$963=AD$4)*(Statistics!$E$4:$E$963=AD$5)*(Statistics!$B$4:$B$963=AD53)*(Statistics!$AC$4:$AC$963))))","v":""},"",{"$f":"IF(AD$4=\"\",\"\",IF($A19>AD$38,\"\",SUMPRODUCT((Statistics!$D$4:$D$963=AD$4)*(Statistics!$E$4:$E$963=AD$5)*(Statistics!$B$4:$B$963=AD53)*(Statistics!$F$4:$F$963))))","v":""},{"$f":"IF(AD$4=\"\",\"\",IF($A19>AD$38,\"\",SUMPRODUCT((Statistics!$D$4:$D$963=AD$4)*(Statistics!$E$4:$E$963=AD$5)*(Statistics!$B$4:$B$963=AD53)*(Statistics!$P$4:$P$963))))","v":""},{"$f":"IF(AH$4=\"\",\"\",IF($A19>AH$38,\"\",SUMPRODUCT((Statistics!$D$4:$D$963=AH$4)*(Statistics!$E$4:$E$963=AH$5)*(Statistics!$B$4:$B$963=AH53)*(Statistics!$AC$4:$AC$963))))","v":""},"",{"$f":"IF(AH$4=\"\",\"\",IF($A19>AH$38,\"\",SUMPRODUCT((Statistics!$D$4:$D$963=AH$4)*(Statistics!$E$4:$E$963=AH$5)*(Statistics!$B$4:$B$963=AH53)*(Statistics!$F$4:$F$963))))","v":""},{"$f":"IF(AH$4=\"\",\"\",IF($A19>AH$38,\"\",SUMPRODUCT((Statistics!$D$4:$D$963=AH$4)*(Statistics!$E$4:$E$963=AH$5)*(Statistics!$B$4:$B$963=AH53)*(Statistics!$P$4:$P$963))))","v":""}]
[15,{"$f":"IF(B$4=\"\",\"\",IF($A20>B$38,\"\",SUMPRODUCT((Statistics!$D$4:$D$963=B$4)*(Statistics!$E$4:$E$963=B$5)*(Statistics!$B$4:$B$963=B54)*(Statistics!$AC$4:$AC$963))))","v":""},"",{"$f":"IF(B$4=\"\",\"\",IF($A20>B$38,\"\",SUMPRODUCT((Statistics!$D$4:$D$963=B$4)*(Statistics!$E$4:$E$963=B$5)*(Statistics!$B$4:$B$963=B54)*(Statistics!$F$4:$F$963))))","v":""},{"$f":"IF(B$4=\"\",\"\",IF($A20>B$38,\"\",SUMPRODUCT((Statistics!$D$4:$D$963=B$4)*(Statistics!$E$4:$E$963=B$5)*(Statistics!$B$4:$B$963=B54)*(Statistics!$P$4:$P$963))))","v":""},{"$f":"IF(F$4=\"\",\"\",IF($A20>F$38,\"\",SUMPRODUCT((Statistics!$D$4:$D$963=F$4)*(Statistics!$E$4:$E$963=F$5)*(Statistics!$B$4:$B$963=F54)*(Statistics!$AC$4:$AC$963))))","v":""},"",{"$f":"IF(F$4=\"\",\"\",IF($A20>F$38,\"\",SUMPRODUCT((Statistics!$D$4:$D$963=F$4)*(Statistics!$E$4:$E$963=F$5)*(Statistics!$B$4:$B$963=F54)*(Statistics!$F$4:$F$963))))","v":""},{"$f":"IF(F$4=\"\",\"\",IF($A20>F$38,\"\",SUMPRODUCT((Statistics!$D$4:$D$963=F$4)*(Statistics!$E$4:$E$963=F$5)*(Statistics!$B$4:$B$963=F54)*(Statistics!$P$4:$P$963))))","v":""},{"$f":"IF(J$4=\"\",\"\",IF($A20>J$38,\"\",SUMPRODUCT((Statistics!$D$4:$D$963=J$4)*(Statistics!$E$4:$E$963=J$5)*(Statistics!$B$4:$B$963=J54)*(Statistics!$AC$4:$AC$963))))","v":""},"",{"$f":"IF(J$4=\"\",\"\",IF($A20>J$38,\"\",SUMPRODUCT((Statistics!$D$4:$D$963=J$4)*(Statistics!$E$4:$E$963=J$5)*(Statistics!$B$4:$B$963=J54)*(Statistics!$F$4:$F$963))))","v":""},{"$f":"IF(J$4=\"\",\"\",IF($A20>J$38,\"\",SUMPRODUCT((Statistics!$D$4:$D$963=J$4)*(Statistics!$E$4:$E$963=J$5)*(Statistics!$B$4:$B$963=J54)*(Statistics!$P$4:$P$963))))","v":""},{"$f":"IF(N$4=\"\",\"\",IF($A20>N$38,\"\",SUMPRODUCT((Statistics!$D$4:$D$963=N$4)*(Statistics!$E$4:$E$963=N$5)*(Statistics!$B$4:$B$963=N54)*(Statistics!$AC$4:$AC$963))))","v":""},"",{"$f":"IF(N$4=\"\",\"\",IF($A20>N$38,\"\",SUMPRODUCT((Statistics!$D$4:$D$963=N$4)*(Statistics!$E$4:$E$963=N$5)*(Statistics!$B$4:$B$963=N54)*(Statistics!$F$4:$F$963))))","v":""},{"$f":"IF(N$4=\"\",\"\",IF($A20>N$38,\"\",SUMPRODUCT((Statistics!$D$4:$D$963=N$4)*(Statistics!$E$4:$E$963=N$5)*(Statistics!$B$4:$B$963=N54)*(Statistics!$P$4:$P$963))))","v":""},{"$f":"IF(R$4=\"\",\"\",IF($A20>R$38,\"\",SUMPRODUCT((Statistics!$D$4:$D$963=R$4)*(Statistics!$E$4:$E$963=R$5)*(Statistics!$B$4:$B$963=R54)*(Statistics!$AC$4:$AC$963))))","v":""},"",{"$f":"IF(R$4=\"\",\"\",IF($A20>R$38,\"\",SUMPRODUCT((Statistics!$D$4:$D$963=R$4)*(Statistics!$E$4:$E$963=R$5)*(Statistics!$B$4:$B$963=R54)*(Statistics!$F$4:$F$963))))","v":""},{"$f":"IF(R$4=\"\",\"\",IF($A20>R$38,\"\",SUMPRODUCT((Statistics!$D$4:$D$963=R$4)*(Statistics!$E$4:$E$963=R$5)*(Statistics!$B$4:$B$963=R54)*(Statistics!$P$4:$P$963))))","v":""},{"$f":"IF(V$4=\"\",\"\",IF($A20>V$38,\"\",SUMPRODUCT((Statistics!$D$4:$D$963=V$4)*(Statistics!$E$4:$E$963=V$5)*(Statistics!$B$4:$B$963=V54)*(Statistics!$AC$4:$AC$963))))","v":""},"",{"$f":"IF(V$4=\"\",\"\",IF($A20>V$38,\"\",SUMPRODUCT((Statistics!$D$4:$D$963=V$4)*(Statistics!$E$4:$E$963=V$5)*(Statistics!$B$4:$B$963=V54)*(Statistics!$F$4:$F$963))))","v":""},{"$f":"IF(V$4=\"\",\"\",IF($A20>V$38,\"\",SUMPRODUCT((Statistics!$D$4:$D$963=V$4)*(Statistics!$E$4:$E$963=V$5)*(Statistics!$B$4:$B$963=V54)*(Statistics!$P$4:$P$963))))","v":""},{"$f":"IF(Z$4=\"\",\"\",IF($A20>Z$38,\"\",SUMPRODUCT((Statistics!$D$4:$D$963=Z$4)*(Statistics!$E$4:$E$963=Z$5)*(Statistics!$B$4:$B$963=Z54)*(Statistics!$AC$4:$AC$963))))","v":""},"",{"$f":"IF(Z$4=\"\",\"\",IF($A20>Z$38,\"\",SUMPRODUCT((Statistics!$D$4:$D$963=Z$4)*(Statistics!$E$4:$E$963=Z$5)*(Statistics!$B$4:$B$963=Z54)*(Statistics!$F$4:$F$963))))","v":""},{"$f":"IF(Z$4=\"\",\"\",IF($A20>Z$38,\"\",SUMPRODUCT((Statistics!$D$4:$D$963=Z$4)*(Statistics!$E$4:$E$963=Z$5)*(Statistics!$B$4:$B$963=Z54)*(Statistics!$P$4:$P$963))))","v":""},{"$f":"IF(AD$4=\"\",\"\",IF($A20>AD$38,\"\",SUMPRODUCT((Statistics!$D$4:$D$963=AD$4)*(Statistics!$E$4:$E$963=AD$5)*(Statistics!$B$4:$B$963=AD54)*(Statistics!$AC$4:$AC$963))))","v":""},"",{"$f":"IF(AD$4=\"\",\"\",IF($A20>AD$38,\"\",SUMPRODUCT((Statistics!$D$4:$D$963=AD$4)*(Statistics!$E$4:$E$963=AD$5)*(Statistics!$B$4:$B$963=AD54)*(Statistics!$F$4:$F$963))))","v":""},{"$f":"IF(AD$4=\"\",\"\",IF($A20>AD$38,\"\",SUMPRODUCT((Statistics!$D$4:$D$963=AD$4)*(Statistics!$E$4:$E$963=AD$5)*(Statistics!$B$4:$B$963=AD54)*(Statistics!$P$4:$P$963))))","v":""},{"$f":"IF(AH$4=\"\",\"\",IF($A20>AH$38,\"\",SUMPRODUCT((Statistics!$D$4:$D$963=AH$4)*(Statistics!$E$4:$E$963=AH$5)*(Statistics!$B$4:$B$963=AH54)*(Statistics!$AC$4:$AC$963))))","v":""},"",{"$f":"IF(AH$4=\"\",\"\",IF($A20>AH$38,\"\",SUMPRODUCT((Statistics!$D$4:$D$963=AH$4)*(Statistics!$E$4:$E$963=AH$5)*(Statistics!$B$4:$B$963=AH54)*(Statistics!$F$4:$F$963))))","v":""},{"$f":"IF(AH$4=\"\",\"\",IF($A20>AH$38,\"\",SUMPRODUCT((Statistics!$D$4:$D$963=AH$4)*(Statistics!$E$4:$E$963=AH$5)*(Statistics!$B$4:$B$963=AH54)*(Statistics!$P$4:$P$963))))","v":""}]
[16,{"$f":"IF(B$4=\"\",\"\",IF($A21>B$38,\"\",SUMPRODUCT((Statistics!$D$4:$D$963=B$4)*(Statistics!$E$4:$E$963=B$5)*(Statistics!$B$4:$B$963=B55)*(Statistics!$AC$4:$AC$963))))","v":""},"",{"$f":"IF(B$4=\"\",\"\",IF($A21>B$38,\"\",SUMPRODUCT((Statistics!$D$4:$D$963=B$4)*(Statistics!$E$4:$E$963=B$5)*(Statistics!$B$4:$B$963=B55)*(Statistics!$F$4:$F$963))))","v":""},{"$f":"IF(B$4=\"\",\"\",IF($A21>B$38,\"\",SUMPRODUCT((Statistics!$D$4:$D$963=B$4)*(Statistics!$E$4:$E$963=B$5)*(Statistics!$B$4:$B$963=B55)*(Statistics!$P$4:$P$963))))","v":""},{"$f":"IF(F$4=\"\",\"\",IF($A21>F$38,\"\",SUMPRODUCT((Statistics!$D$4:$D$963=F$4)*(Statistics!$E$4:$E$963=F$5)*(Statistics!$B$4:$B$963=F55)*(Statistics!$AC$4:$AC$963))))","v":""},"",{"$f":"IF(F$4=\"\",\"\",IF($A21>F$38,\"\",SUMPRODUCT((Statistics!$D$4:$D$963=F$4)*(Statistics!$E$4:$E$963=F$5)*(Statistics!$B$4:$B$963=F55)*(Statistics!$F$4:$F$963))))","v":""},{"$f":"IF(F$4=\"\",\"\",IF($A21>F$38,\"\",SUMPRODUCT((Statistics!$D$4:$D$963=F$4)*(Statistics!$E$4:$E$963=F$5)*(Statistics!$B$4:$B$963=F55)*(Statistics!$P$4:$P$963))))","v":""},{"$f":"IF(J$4=\"\",\"\",IF($A21>J$38,\"\",SUMPRODUCT((Statistics!$D$4:$D$963=J$4)*(Statistics!$E$4:$E$963=J$5)*(Statistics!$B$4:$B$963=J55)*(Statistics!$AC$4:$AC$963))))","v":""},"",{"$f":"IF(J$4=\"\",\"\",IF($A21>J$38,\"\",SUMPRODUCT((Statistics!$D$4:$D$963=J$4)*(Statistics!$E$4:$E$963=J$5)*(Statistics!$B$4:$B$963=J55)*(Statistics!$F$4:$F$963))))","v":""},{"$f":"IF(J$4=\"\",\"\",IF($A21>J$38,\"\",SUMPRODUCT((Statistics!$D$4:$D$963=J$4)*(Statistics!$E$4:$E$963=J$5)*(Statistics!$B$4:$B$963=J55)*(Statistics!$P$4:$P$963))))","v":""},{"$f":"IF(N$4=\"\",\"\",IF($A21>N$38,\"\",SUMPRODUCT((Statistics!$D$4:$D$963=N$4)*(Statistics!$E$4:$E$963=N$5)*(Statistics!$B$4:$B$963=N55)*(Statistics!$AC$4:$AC$963))))","v":""},"",{"$f":"IF(N$4=\"\",\"\",IF($A21>N$38,\"\",SUMPRODUCT((Statistics!$D$4:$D$963=N$4)*(Statistics!$E$4:$E$963=N$5)*(Statistics!$B$4:$B$963=N55)*(Statistics!$F$4:$F$963))))","v":""},{"$f":"IF(N$4=\"\",\"\",IF($A21>N$38,\"\",SUMPRODUCT((Statistics!$D$4:$D$963=N$4)*(Statistics!$E$4:$E$963=N$5)*(Statistics!$B$4:$B$963=N55)*(Statistics!$P$4:$P$963))))","v":""},{"$f":"IF(R$4=\"\",\"\",IF($A21>R$38,\"\",SUMPRODUCT((Statistics!$D$4:$D$963=R$4)*(Statistics!$E$4:$E$963=R$5)*(Statistics!$B$4:$B$963=R55)*(Statistics!$AC$4:$AC$963))))","v":""},"",{"$f":"IF(R$4=\"\",\"\",IF($A21>R$38,\"\",SUMPRODUCT((Statistics!$D$4:$D$963=R$4)*(Statistics!$E$4:$E$963=R$5)*(Statistics!$B$4:$B$963=R55)*(Statistics!$F$4:$F$963))))","v":""},{"$f":"IF(R$4=\"\",\"\",IF($A21>R$38,\"\",SUMPRODUCT((Statistics!$D$4:$D$963=R$4)*(Statistics!$E$4:$E$963=R$5)*(Statistics!$B$4:$B$963=R55)*(Statistics!$P$4:$P$963))))","v":""},{"$f":"IF(V$4=\"\",\"\",IF($A21>V$38,\"\",SUMPRODUCT((Statistics!$D$4:$D$963=V$4)*(Statistics!$E$4:$E$963=V$5)*(Statistics!$B$4:$B$963=V55)*(Statistics!$AC$4:$AC$963))))","v":""},"",{"$f":"IF(V$4=\"\",\"\",IF($A21>V$38,\"\",SUMPRODUCT((Statistics!$D$4:$D$963=V$4)*(Statistics!$E$4:$E$963=V$5)*(Statistics!$B$4:$B$963=V55)*(Statistics!$F$4:$F$963))))","v":""},{"$f":"IF(V$4=\"\",\"\",IF($A21>V$38,\"\",SUMPRODUCT((Statistics!$D$4:$D$963=V$4)*(Statistics!$E$4:$E$963=V$5)*(Statistics!$B$4:$B$963=V55)*(Statistics!$P$4:$P$963))))","v":""},{"$f":"IF(Z$4=\"\",\"\",IF($A21>Z$38,\"\",SUMPRODUCT((Statistics!$D$4:$D$963=Z$4)*(Statistics!$E$4:$E$963=Z$5)*(Statistics!$B$4:$B$963=Z55)*(Statistics!$AC$4:$AC$963))))","v":""},"",{"$f":"IF(Z$4=\"\",\"\",IF($A21>Z$38,\"\",SUMPRODUCT((Statistics!$D$4:$D$963=Z$4)*(Statistics!$E$4:$E$963=Z$5)*(Statistics!$B$4:$B$963=Z55)*(Statistics!$F$4:$F$963))))","v":""},{"$f":"IF(Z$4=\"\",\"\",IF($A21>Z$38,\"\",SUMPRODUCT((Statistics!$D$4:$D$963=Z$4)*(Statistics!$E$4:$E$963=Z$5)*(Statistics!$B$4:$B$963=Z55)*(Statistics!$P$4:$P$963))))","v":""},{"$f":"IF(AD$4=\"\",\"\",IF($A21>AD$38,\"\",SUMPRODUCT((Statistics!$D$4:$D$963=AD$4)*(Statistics!$E$4:$E$963=AD$5)*(Statistics!$B$4:$B$963=AD55)*(Statistics!$AC$4:$AC$963))))","v":""},"",{"$f":"IF(AD$4=\"\",\"\",IF($A21>AD$38,\"\",SUMPRODUCT((Statistics!$D$4:$D$963=AD$4)*(Statistics!$E$4:$E$963=AD$5)*(Statistics!$B$4:$B$963=AD55)*(Statistics!$F$4:$F$963))))","v":""},{"$f":"IF(AD$4=\"\",\"\",IF($A21>AD$38,\"\",SUMPRODUCT((Statistics!$D$4:$D$963=AD$4)*(Statistics!$E$4:$E$963=AD$5)*(Statistics!$B$4:$B$963=AD55)*(Statistics!$P$4:$P$963))))","v":""},{"$f":"IF(AH$4=\"\",\"\",IF($A21>AH$38,\"\",SUMPRODUCT((Statistics!$D$4:$D$963=AH$4)*(Statistics!$E$4:$E$963=AH$5)*(Statistics!$B$4:$B$963=AH55)*(Statistics!$AC$4:$AC$963))))","v":""},"",{"$f":"IF(AH$4=\"\",\"\",IF($A21>AH$38,\"\",SUMPRODUCT((Statistics!$D$4:$D$963=AH$4)*(Statistics!$E$4:$E$963=AH$5)*(Statistics!$B$4:$B$963=AH55)*(Statistics!$F$4:$F$963))))","v":""},{"$f":"IF(AH$4=\"\",\"\",IF($A21>AH$38,\"\",SUMPRODUCT((Statistics!$D$4:$D$963=AH$4)*(Statistics!$E$4:$E$963=AH$5)*(Statistics!$B$4:$B$963=AH55)*(Statistics!$P$4:$P$963))))","v":""}]
[17,{"$f":"IF(B$4=\"\",\"\",IF($A22>B$38,\"\",SUMPRODUCT((Statistics!$D$4:$D$963=B$4)*(Statistics!$E$4:$E$963=B$5)*(Statistics!$B$4:$B$963=B56)*(Statistics!$AC$4:$AC$963))))","v":""},"",{"$f":"IF(B$4=\"\",\"\",IF($A22>B$38,\"\",SUMPRODUCT((Statistics!$D$4:$D$963=B$4)*(Statistics!$E$4:$E$963=B$5)*(Statistics!$B$4:$B$963=B56)*(Statistics!$F$4:$F$963))))","v":""},{"$f":"IF(B$4=\"\",\"\",IF($A22>B$38,\"\",SUMPRODUCT((Statistics!$D$4:$D$963=B$4)*(Statistics!$E$4:$E$963=B$5)*(Statistics!$B$4:$B$963=B56)*(Statistics!$P$4:$P$963))))","v":""},{"$f":"IF(F$4=\"\",\"\",IF($A22>F$38,\"\",SUMPRODUCT((Statistics!$D$4:$D$963=F$4)*(Statistics!$E$4:$E$963=F$5)*(Statistics!$B$4:$B$963=F56)*(Statistics!$AC$4:$AC$963))))","v":""},"",{"$f":"IF(F$4=\"\",\"\",IF($A22>F$38,\"\",SUMPRODUCT((Statistics!$D$4:$D$963=F$4)*(Statistics!$E$4:$E$963=F$5)*(Statistics!$B$4:$B$963=F56)*(Statistics!$F$4:$F$963))))","v":""},{"$f":"IF(F$4=\"\",\"\",IF($A22>F$38,\"\",SUMPRODUCT((Statistics!$D$4:$D$963=F$4)*(Statistics!$E$4:$E$963=F$5)*(Statistics!$B$4:$B$963=F56)*(Statistics!$P$4:$P$963))))","v":""},{"$f":"IF(J$4=\"\",\"\",IF($A22>J$38,\"\",SUMPRODUCT((Statistics!$D$4:$D$963=J$4)*(Statistics!$E$4:$E$963=J$5)*(Statistics!$B$4:$B$963=J56)*(Statistics!$AC$4:$AC$963))))","v":""},"",{"$f":"IF(J$4=\"\",\"\",IF($A22>J$38,\"\",SUMPRODUCT((Statistics!$D$4:$D$963=J$4)*(Statistics!$E$4:$E$963=J$5)*(Statistics!$B$4:$B$963=J56)*(Statistics!$F$4:$F$963))))","v":""},{"$f":"IF(J$4=\"\",\"\",IF($A22>J$38,\"\",SUMPRODUCT((Statistics!$D$4:$D$963=J$4)*(Statistics!$E$4:$E$963=J$5)*(Statistics!$B$4:$B$963=J56)*(Statistics!$P$4:$P$963))))","v":""},{"$f":"IF(N$4=\"\",\"\",IF($A22>N$38,\"\",SUMPRODUCT((Statistics!$D$4:$D$963=N$4)*(Statistics!$E$4:$E$963=N$5)*(Statistics!$B$4:$B$963=N56)*(Statistics!$AC$4:$AC$963))))","v":""},"",{"$f":"IF(N$4=\"\",\"\",IF($A22>N$38,\"\",SUMPRODUCT((Statistics!$D$4:$D$963=N$4)*(Statistics!$E$4:$E$963=N$5)*(Statistics!$B$4:$B$963=N56)*(Statistics!$F$4:$F$963))))","v":""},{"$f":"IF(N$4=\"\",\"\",IF($A22>N$38,\"\",SUMPRODUCT((Statistics!$D$4:$D$963=N$4)*(Statistics!$E$4:$E$963=N$5)*(Statistics!$B$4:$B$963=N56)*(Statistics!$P$4:$P$963))))","v":""},{"$f":"IF(R$4=\"\",\"\",IF($A22>R$38,\"\",SUMPRODUCT((Statistics!$D$4:$D$963=R$4)*(Statistics!$E$4:$E$963=R$5)*(Statistics!$B$4:$B$963=R56)*(Statistics!$AC$4:$AC$963))))","v":""},"",{"$f":"IF(R$4=\"\",\"\",IF($A22>R$38,\"\",SUMPRODUCT((Statistics!$D$4:$D$963=R$4)*(Statistics!$E$4:$E$963=R$5)*(Statistics!$B$4:$B$963=R56)*(Statistics!$F$4:$F$963))))","v":""},{"$f":"IF(R$4=\"\",\"\",IF($A22>R$38,\"\",SUMPRODUCT((Statistics!$D$4:$D$963=R$4)*(Statistics!$E$4:$E$963=R$5)*(Statistics!$B$4:$B$963=R56)*(Statistics!$P$4:$P$963))))","v":""},{"$f":"IF(V$4=\"\",\"\",IF($A22>V$38,\"\",SUMPRODUCT((Statistics!$D$4:$D$963=V$4)*(Statistics!$E$4:$E$963=V$5)*(Statistics!$B$4:$B$963=V56)*(Statistics!$AC$4:$AC$963))))","v":""},"",{"$f":"IF(V$4=\"\",\"\",IF($A22>V$38,\"\",SUMPRODUCT((Statistics!$D$4:$D$963=V$4)*(Statistics!$E$4:$E$963=V$5)*(Statistics!$B$4:$B$963=V56)*(Statistics!$F$4:$F$963))))","v":""},{"$f":"IF(V$4=\"\",\"\",IF($A22>V$38,\"\",SUMPRODUCT((Statistics!$D$4:$D$963=V$4)*(Statistics!$E$4:$E$963=V$5)*(Statistics!$B$4:$B$963=V56)*(Statistics!$P$4:$P$963))))","v":""},{"$f":"IF(Z$4=\"\",\"\",IF($A22>Z$38,\"\",SUMPRODUCT((Statistics!$D$4:$D$963=Z$4)*(Statistics!$E$4:$E$963=Z$5)*(Statistics!$B$4:$B$963=Z56)*(Statistics!$AC$4:$AC$963))))","v":""},"",{"$f":"IF(Z$4=\"\",\"\",IF($A22>Z$38,\"\",SUMPRODUCT((Statistics!$D$4:$D$963=Z$4)*(Statistics!$E$4:$E$963=Z$5)*(Statistics!$B$4:$B$963=Z56)*(Statistics!$F$4:$F$963))))","v":""},{"$f":"IF(Z$4=\"\",\"\",IF($A22>Z$38,\"\",SUMPRODUCT((Statistics!$D$4:$D$963=Z$4)*(Statistics!$E$4:$E$963=Z$5)*(Statistics!$B$4:$B$963=Z56)*(Statistics!$P$4:$P$963))))","v":""},{"$f":"IF(AD$4=\"\",\"\",IF($A22>AD$38,\"\",SUMPRODUCT((Statistics!$D$4:$D$963=AD$4)*(Statistics!$E$4:$E$963=AD$5)*(Statistics!$B$4:$B$963=AD56)*(Statistics!$AC$4:$AC$963))))","v":""},"",{"$f":"IF(AD$4=\"\",\"\",IF($A22>AD$38,\"\",SUMPRODUCT((Statistics!$D$4:$D$963=AD$4)*(Statistics!$E$4:$E$963=AD$5)*(Statistics!$B$4:$B$963=AD56)*(Statistics!$F$4:$F$963))))","v":""},{"$f":"IF(AD$4=\"\",\"\",IF($A22>AD$38,\"\",SUMPRODUCT((Statistics!$D$4:$D$963=AD$4)*(Statistics!$E$4:$E$963=AD$5)*(Statistics!$B$4:$B$963=AD56)*(Statistics!$P$4:$P$963))))","v":""},{"$f":"IF(AH$4=\"\",\"\",IF($A22>AH$38,\"\",SUMPRODUCT((Statistics!$D$4:$D$963=AH$4)*(Statistics!$E$4:$E$963=AH$5)*(Statistics!$B$4:$B$963=AH56)*(Statistics!$AC$4:$AC$963))))","v":""},"",{"$f":"IF(AH$4=\"\",\"\",IF($A22>AH$38,\"\",SUMPRODUCT((Statistics!$D$4:$D$963=AH$4)*(Statistics!$E$4:$E$963=AH$5)*(Statistics!$B$4:$B$963=AH56)*(Statistics!$F$4:$F$963))))","v":""},{"$f":"IF(AH$4=\"\",\"\",IF($A22>AH$38,\"\",SUMPRODUCT((Statistics!$D$4:$D$963=AH$4)*(Statistics!$E$4:$E$963=AH$5)*(Statistics!$B$4:$B$963=AH56)*(Statistics!$P$4:$P$963))))","v":""}]
[18,{"$f":"IF(B$4=\"\",\"\",IF($A23>B$38,\"\",SUMPRODUCT((Statistics!$D$4:$D$963=B$4)*(Statistics!$E$4:$E$963=B$5)*(Statistics!$B$4:$B$963=B57)*(Statistics!$AC$4:$AC$963))))","v":""},"",{"$f":"IF(B$4=\"\",\"\",IF($A23>B$38,\"\",SUMPRODUCT((Statistics!$D$4:$D$963=B$4)*(Statistics!$E$4:$E$963=B$5)*(Statistics!$B$4:$B$963=B57)*(Statistics!$F$4:$F$963))))","v":""},{"$f":"IF(B$4=\"\",\"\",IF($A23>B$38,\"\",SUMPRODUCT((Statistics!$D$4:$D$963=B$4)*(Statistics!$E$4:$E$963=B$5)*(Statistics!$B$4:$B$963=B57)*(Statistics!$P$4:$P$963))))","v":""},{"$f":"IF(F$4=\"\",\"\",IF($A23>F$38,\"\",SUMPRODUCT((Statistics!$D$4:$D$963=F$4)*(Statistics!$E$4:$E$963=F$5)*(Statistics!$B$4:$B$963=F57)*(Statistics!$AC$4:$AC$963))))","v":""},"",{"$f":"IF(F$4=\"\",\"\",IF($A23>F$38,\"\",SUMPRODUCT((Statistics!$D$4:$D$963=F$4)*(Statistics!$E$4:$E$963=F$5)*(Statistics!$B$4:$B$963=F57)*(Statistics!$F$4:$F$963))))","v":""},{"$f":"IF(F$4=\"\",\"\",IF($A23>F$38,\"\",SUMPRODUCT((Statistics!$D$4:$D$963=F$4)*(Statistics!$E$4:$E$963=F$5)*(Statistics!$B$4:$B$963=F57)*(Statistics!$P$4:$P$963))))","v":""},{"$f":"IF(J$4=\"\",\"\",IF($A23>J$38,\"\",SUMPRODUCT((Statistics!$D$4:$D$963=J$4)*(Statistics!$E$4:$E$963=J$5)*(Statistics!$B$4:$B$963=J57)*(Statistics!$AC$4:$AC$963))))","v":""},"",{"$f":"IF(J$4=\"\",\"\",IF($A23>J$38,\"\",SUMPRODUCT((Statistics!$D$4:$D$963=J$4)*(Statistics!$E$4:$E$963=J$5)*(Statistics!$B$4:$B$963=J57)*(Statistics!$F$4:$F$963))))","v":""},{"$f":"IF(J$4=\"\",\"\",IF($A23>J$38,\"\",SUMPRODUCT((Statistics!$D$4:$D$963=J$4)*(Statistics!$E$4:$E$963=J$5)*(Statistics!$B$4:$B$963=J57)*(Statistics!$P$4:$P$963))))","v":""},{"$f":"IF(N$4=\"\",\"\",IF($A23>N$38,\"\",SUMPRODUCT((Statistics!$D$4:$D$963=N$4)*(Statistics!$E$4:$E$963=N$5)*(Statistics!$B$4:$B$963=N57)*(Statistics!$AC$4:$AC$963))))","v":""},"",{"$f":"IF(N$4=\"\",\"\",IF($A23>N$38,\"\",SUMPRODUCT((Statistics!$D$4:$D$963=N$4)*(Statistics!$E$4:$E$963=N$5)*(Statistics!$B$4:$B$963=N57)*(Statistics!$F$4:$F$963))))","v":""},{"$f":"IF(N$4=\"\",\"\",IF($A23>N$38,\"\",SUMPRODUCT((Statistics!$D$4:$D$963=N$4)*(Statistics!$E$4:$E$963=N$5)*(Statistics!$B$4:$B$963=N57)*(Statistics!$P$4:$P$963))))","v":""},{"$f":"IF(R$4=\"\",\"\",IF($A23>R$38,\"\",SUMPRODUCT((Statistics!$D$4:$D$963=R$4)*(Statistics!$E$4:$E$963=R$5)*(Statistics!$B$4:$B$963=R57)*(Statistics!$AC$4:$AC$963))))","v":""},"",{"$f":"IF(R$4=\"\",\"\",IF($A23>R$38,\"\",SUMPRODUCT((Statistics!$D$4:$D$963=R$4)*(Statistics!$E$4:$E$963=R$5)*(Statistics!$B$4:$B$963=R57)*(Statistics!$F$4:$F$963))))","v":""},{"$f":"IF(R$4=\"\",\"\",IF($A23>R$38,\"\",SUMPRODUCT((Statistics!$D$4:$D$963=R$4)*(Statistics!$E$4:$E$963=R$5)*(Statistics!$B$4:$B$963=R57)*(Statistics!$P$4:$P$963))))","v":""},{"$f":"IF(V$4=\"\",\"\",IF($A23>V$38,\"\",SUMPRODUCT((Statistics!$D$4:$D$963=V$4)*(Statistics!$E$4:$E$963=V$5)*(Statistics!$B$4:$B$963=V57)*(Statistics!$AC$4:$AC$963))))","v":""},"",{"$f":"IF(V$4=\"\",\"\",IF($A23>V$38,\"\",SUMPRODUCT((Statistics!$D$4:$D$963=V$4)*(Statistics!$E$4:$E$963=V$5)*(Statistics!$B$4:$B$963=V57)*(Statistics!$F$4:$F$963))))","v":""},{"$f":"IF(V$4=\"\",\"\",IF($A23>V$38,\"\",SUMPRODUCT((Statistics!$D$4:$D$963=V$4)*(Statistics!$E$4:$E$963=V$5)*(Statistics!$B$4:$B$963=V57)*(Statistics!$P$4:$P$963))))","v":""},{"$f":"IF(Z$4=\"\",\"\",IF($A23>Z$38,\"\",SUMPRODUCT((Statistics!$D$4:$D$963=Z$4)*(Statistics!$E$4:$E$963=Z$5)*(Statistics!$B$4:$B$963=Z57)*(Statistics!$AC$4:$AC$963))))","v":""},"",{"$f":"IF(Z$4=\"\",\"\",IF($A23>Z$38,\"\",SUMPRODUCT((Statistics!$D$4:$D$963=Z$4)*(Statistics!$E$4:$E$963=Z$5)*(Statistics!$B$4:$B$963=Z57)*(Statistics!$F$4:$F$963))))","v":""},{"$f":"IF(Z$4=\"\",\"\",IF($A23>Z$38,\"\",SUMPRODUCT((Statistics!$D$4:$D$963=Z$4)*(Statistics!$E$4:$E$963=Z$5)*(Statistics!$B$4:$B$963=Z57)*(Statistics!$P$4:$P$963))))","v":""},{"$f":"IF(AD$4=\"\",\"\",IF($A23>AD$38,\"\",SUMPRODUCT((Statistics!$D$4:$D$963=AD$4)*(Statistics!$E$4:$E$963=AD$5)*(Statistics!$B$4:$B$963=AD57)*(Statistics!$AC$4:$AC$963))))","v":""},"",{"$f":"IF(AD$4=\"\",\"\",IF($A23>AD$38,\"\",SUMPRODUCT((Statistics!$D$4:$D$963=AD$4)*(Statistics!$E$4:$E$963=AD$5)*(Statistics!$B$4:$B$963=AD57)*(Statistics!$F$4:$F$963))))","v":""},{"$f":"IF(AD$4=\"\",\"\",IF($A23>AD$38,\"\",SUMPRODUCT((Statistics!$D$4:$D$963=AD$4)*(Statistics!$E$4:$E$963=AD$5)*(Statistics!$B$4:$B$963=AD57)*(Statistics!$P$4:$P$963))))","v":""},{"$f":"IF(AH$4=\"\",\"\",IF($A23>AH$38,\"\",SUMPRODUCT((Statistics!$D$4:$D$963=AH$4)*(Statistics!$E$4:$E$963=AH$5)*(Statistics!$B$4:$B$963=AH57)*(Statistics!$AC$4:$AC$963))))","v":""},"",{"$f":"IF(AH$4=\"\",\"\",IF($A23>AH$38,\"\",SUMPRODUCT((Statistics!$D$4:$D$963=AH$4)*(Statistics!$E$4:$E$963=AH$5)*(Statistics!$B$4:$B$963=AH57)*(Statistics!$F$4:$F$963))))","v":""},{"$f":"IF(AH$4=\"\",\"\",IF($A23>AH$38,\"\",SUMPRODUCT((Statistics!$D$4:$D$963=AH$4)*(Statistics!$E$4:$E$963=AH$5)*(Statistics!$B$4:$B$963=AH57)*(Statistics!$P$4:$P$963))))","v":""}]
[19,{"$f":"IF(B$4=\"\",\"\",IF($A24>B$38,\"\",SUMPRODUCT((Statistics!$D$4:$D$963=B$4)*(Statistics!$E$4:$E$963=B$5)*(Statistics!$B$4:$B$963=B58)*(Statistics!$AC$4:$AC$963))))","v":""},"",{"$f":"IF(B$4=\"\",\"\",IF($A24>B$38,\"\",SUMPRODUCT((Statistics!$D$4:$D$963=B$4)*(Statistics!$E$4:$E$963=B$5)*(Statistics!$B$4:$B$963=B58)*(Statistics!$F$4:$F$963))))","v":""},{"$f":"IF(B$4=\"\",\"\",IF($A24>B$38,\"\",SUMPRODUCT((Statistics!$D$4:$D$963=B$4)*(Statistics!$E$4:$E$963=B$5)*(Statistics!$B$4:$B$963=B58)*(Statistics!$P$4:$P$963))))","v":""},{"$f":"IF(F$4=\"\",\"\",IF($A24>F$38,\"\",SUMPRODUCT((Statistics!$D$4:$D$963=F$4)*(Statistics!$E$4:$E$963=F$5)*(Statistics!$B$4:$B$963=F58)*(Statistics!$AC$4:$AC$963))))","v":""},"",{"$f":"IF(F$4=\"\",\"\",IF($A24>F$38,\"\",SUMPRODUCT((Statistics!$D$4:$D$963=F$4)*(Statistics!$E$4:$E$963=F$5)*(Statistics!$B$4:$B$963=F58)*(Statistics!$F$4:$F$963))))","v":""},{"$f":"IF(F$4=\"\",\"\",IF($A24>F$38,\"\",SUMPRODUCT((Statistics!$D$4:$D$963=F$4)*(Statistics!$E$4:$E$963=F$5)*(Statistics!$B$4:$B$963=F58)*(Statistics!$P$4:$P$963))))","v":""},{"$f":"IF(J$4=\"\",\"\",IF($A24>J$38,\"\",SUMPRODUCT((Statistics!$D$4:$D$963=J$4)*(Statistics!$E$4:$E$963=J$5)*(Statistics!$B$4:$B$963=J58)*(Statistics!$AC$4:$AC$963))))","v":""},"",{"$f":"IF(J$4=\"\",\"\",IF($A24>J$38,\"\",SUMPRODUCT((Statistics!$D$4:$D$963=J$4)*(Statistics!$E$4:$E$963=J$5)*(Statistics!$B$4:$B$963=J58)*(Statistics!$F$4:$F$963))))","v":""},{"$f":"IF(J$4=\"\",\"\",IF($A24>J$38,\"\",SUMPRODUCT((Statistics!$D$4:$D$963=J$4)*(Statistics!$E$4:$E$963=J$5)*(Statistics!$B$4:$B$963=J58)*(Statistics!$P$4:$P$963))))","v":""},{"$f":"IF(N$4=\"\",\"\",IF($A24>N$38,\"\",SUMPRODUCT((Statistics!$D$4:$D$963=N$4)*(Statistics!$E$4:$E$963=N$5)*(Statistics!$B$4:$B$963=N58)*(Statistics!$AC$4:$AC$963))))","v":""},"",{"$f":"IF(N$4=\"\",\"\",IF($A24>N$38,\"\",SUMPRODUCT((Statistics!$D$4:$D$963=N$4)*(Statistics!$E$4:$E$963=N$5)*(Statistics!$B$4:$B$963=N58)*(Statistics!$F$4:$F$963))))","v":""},{"$f":"IF(N$4=\"\",\"\",IF($A24>N$38,\"\",SUMPRODUCT((Statistics!$D$4:$D$963=N$4)*(Statistics!$E$4:$E$963=N$5)*(Statistics!$B$4:$B$963=N58)*(Statistics!$P$4:$P$963))))","v":""},{"$f":"IF(R$4=\"\",\"\",IF($A24>R$38,\"\",SUMPRODUCT((Statistics!$D$4:$D$963=R$4)*(Statistics!$E$4:$E$963=R$5)*(Statistics!$B$4:$B$963=R58)*(Statistics!$AC$4:$AC$963))))","v":""},"",{"$f":"IF(R$4=\"\",\"\",IF($A24>R$38,\"\",SUMPRODUCT((Statistics!$D$4:$D$963=R$4)*(Statistics!$E$4:$E$963=R$5)*(Statistics!$B$4:$B$963=R58)*(Statistics!$F$4:$F$963))))","v":""},{"$f":"IF(R$4=\"\",\"\",IF($A24>R$38,\"\",SUMPRODUCT((Statistics!$D$4:$D$963=R$4)*(Statistics!$E$4:$E$963=R$5)*(Statistics!$B$4:$B$963=R58)*(Statistics!$P$4:$P$963))))","v":""},{"$f":"IF(V$4=\"\",\"\",IF($A24>V$38,\"\",SUMPRODUCT((Statistics!$D$4:$D$963=V$4)*(Statistics!$E$4:$E$963=V$5)*(Statistics!$B$4:$B$963=V58)*(Statistics!$AC$4:$AC$963))))","v":""},"",{"$f":"IF(V$4=\"\",\"\",IF($A24>V$38,\"\",SUMPRODUCT((Statistics!$D$4:$D$963=V$4)*(Statistics!$E$4:$E$963=V$5)*(Statistics!$B$4:$B$963=V58)*(Statistics!$F$4:$F$963))))","v":""},{"$f":"IF(V$4=\"\",\"\",IF($A24>V$38,\"\",SUMPRODUCT((Statistics!$D$4:$D$963=V$4)*(Statistics!$E$4:$E$963=V$5)*(Statistics!$B$4:$B$963=V58)*(Statistics!$P$4:$P$963))))","v":""},{"$f":"IF(Z$4=\"\",\"\",IF($A24>Z$38,\"\",SUMPRODUCT((Statistics!$D$4:$D$963=Z$4)*(Statistics!$E$4:$E$963=Z$5)*(Statistics!$B$4:$B$963=Z58)*(Statistics!$AC$4:$AC$963))))","v":""},"",{"$f":"IF(Z$4=\"\",\"\",IF($A24>Z$38,\"\",SUMPRODUCT((Statistics!$D$4:$D$963=Z$4)*(Statistics!$E$4:$E$963=Z$5)*(Statistics!$B$4:$B$963=Z58)*(Statistics!$F$4:$F$963))))","v":""},{"$f":"IF(Z$4=\"\",\"\",IF($A24>Z$38,\"\",SUMPRODUCT((Statistics!$D$4:$D$963=Z$4)*(Statistics!$E$4:$E$963=Z$5)*(Statistics!$B$4:$B$963=Z58)*(Statistics!$P$4:$P$963))))","v":""},{"$f":"IF(AD$4=\"\",\"\",IF($A24>AD$38,\"\",SUMPRODUCT((Statistics!$D$4:$D$963=AD$4)*(Statistics!$E$4:$E$963=AD$5)*(Statistics!$B$4:$B$963=AD58)*(Statistics!$AC$4:$AC$963))))","v":""},"",{"$f":"IF(AD$4=\"\",\"\",IF($A24>AD$38,\"\",SUMPRODUCT((Statistics!$D$4:$D$963=AD$4)*(Statistics!$E$4:$E$963=AD$5)*(Statistics!$B$4:$B$963=AD58)*(Statistics!$F$4:$F$963))))","v":""},{"$f":"IF(AD$4=\"\",\"\",IF($A24>AD$38,\"\",SUMPRODUCT((Statistics!$D$4:$D$963=AD$4)*(Statistics!$E$4:$E$963=AD$5)*(Statistics!$B$4:$B$963=AD58)*(Statistics!$P$4:$P$963))))","v":""},{"$f":"IF(AH$4=\"\",\"\",IF($A24>AH$38,\"\",SUMPRODUCT((Statistics!$D$4:$D$963=AH$4)*(Statistics!$E$4:$E$963=AH$5)*(Statistics!$B$4:$B$963=AH58)*(Statistics!$AC$4:$AC$963))))","v":""},"",{"$f":"IF(AH$4=\"\",\"\",IF($A24>AH$38,\"\",SUMPRODUCT((Statistics!$D$4:$D$963=AH$4)*(Statistics!$E$4:$E$963=AH$5)*(Statistics!$B$4:$B$963=AH58)*(Statistics!$F$4:$F$963))))","v":""},{"$f":"IF(AH$4=\"\",\"\",IF($A24>AH$38,\"\",SUMPRODUCT((Statistics!$D$4:$D$963=AH$4)*(Statistics!$E$4:$E$963=AH$5)*(Statistics!$B$4:$B$963=AH58)*(Statistics!$P$4:$P$963))))","v":""}]
[20,{"$f":"IF(B$4=\"\",\"\",IF($A25>B$38,\"\",SUMPRODUCT((Statistics!$D$4:$D$963=B$4)*(Statistics!$E$4:$E$963=B$5)*(Statistics!$B$4:$B$963=B59)*(Statistics!$AC$4:$AC$963))))","v":""},"",{"$f":"IF(B$4=\"\",\"\",IF($A25>B$38,\"\",SUMPRODUCT((Statistics!$D$4:$D$963=B$4)*(Statistics!$E$4:$E$963=B$5)*(Statistics!$B$4:$B$963=B59)*(Statistics!$F$4:$F$963))))","v":""},{"$f":"IF(B$4=\"\",\"\",IF($A25>B$38,\"\",SUMPRODUCT((Statistics!$D$4:$D$963=B$4)*(Statistics!$E$4:$E$963=B$5)*(Statistics!$B$4:$B$963=B59)*(Statistics!$P$4:$P$963))))","v":""},{"$f":"IF(F$4=\"\",\"\",IF($A25>F$38,\"\",SUMPRODUCT((Statistics!$D$4:$D$963=F$4)*(Statistics!$E$4:$E$963=F$5)*(Statistics!$B$4:$B$963=F59)*(Statistics!$AC$4:$AC$963))))","v":""},"",{"$f":"IF(F$4=\"\",\"\",IF($A25>F$38,\"\",SUMPRODUCT((Statistics!$D$4:$D$963=F$4)*(Statistics!$E$4:$E$963=F$5)*(Statistics!$B$4:$B$963=F59)*(Statistics!$F$4:$F$963))))","v":""},{"$f":"IF(F$4=\"\",\"\",IF($A25>F$38,\"\",SUMPRODUCT((Statistics!$D$4:$D$963=F$4)*(Statistics!$E$4:$E$963=F$5)*(Statistics!$B$4:$B$963=F59)*(Statistics!$P$4:$P$963))))","v":""},{"$f":"IF(J$4=\"\",\"\",IF($A25>J$38,\"\",SUMPRODUCT((Statistics!$D$4:$D$963=J$4)*(Statistics!$E$4:$E$963=J$5)*(Statistics!$B$4:$B$963=J59)*(Statistics!$AC$4:$AC$963))))","v":""},"",{"$f":"IF(J$4=\"\",\"\",IF($A25>J$38,\"\",SUMPRODUCT((Statistics!$D$4:$D$963=J$4)*(Statistics!$E$4:$E$963=J$5)*(Statistics!$B$4:$B$963=J59)*(Statistics!$F$4:$F$963))))","v":""},{"$f":"IF(J$4=\"\",\"\",IF($A25>J$38,\"\",SUMPRODUCT((Statistics!$D$4:$D$963=J$4)*(Statistics!$E$4:$E$963=J$5)*(Statistics!$B$4:$B$963=J59)*(Statistics!$P$4:$P$963))))","v":""},{"$f":"IF(N$4=\"\",\"\",IF($A25>N$38,\"\",SUMPRODUCT((Statistics!$D$4:$D$963=N$4)*(Statistics!$E$4:$E$963=N$5)*(Statistics!$B$4:$B$963=N59)*(Statistics!$AC$4:$AC$963))))","v":""},"",{"$f":"IF(N$4=\"\",\"\",IF($A25>N$38,\"\",SUMPRODUCT((Statistics!$D$4:$D$963=N$4)*(Statistics!$E$4:$E$963=N$5)*(Statistics!$B$4:$B$963=N59)*(Statistics!$F$4:$F$963))))","v":""},{"$f":"IF(N$4=\"\",\"\",IF($A25>N$38,\"\",SUMPRODUCT((Statistics!$D$4:$D$963=N$4)*(Statistics!$E$4:$E$963=N$5)*(Statistics!$B$4:$B$963=N59)*(Statistics!$P$4:$P$963))))","v":""},{"$f":"IF(R$4=\"\",\"\",IF($A25>R$38,\"\",SUMPRODUCT((Statistics!$D$4:$D$963=R$4)*(Statistics!$E$4:$E$963=R$5)*(Statistics!$B$4:$B$963=R59)*(Statistics!$AC$4:$AC$963))))","v":""},"",{"$f":"IF(R$4=\"\",\"\",IF($A25>R$38,\"\",SUMPRODUCT((Statistics!$D$4:$D$963=R$4)*(Statistics!$E$4:$E$963=R$5)*(Statistics!$B$4:$B$963=R59)*(Statistics!$F$4:$F$963))))","v":""},{"$f":"IF(R$4=\"\",\"\",IF($A25>R$38,\"\",SUMPRODUCT((Statistics!$D$4:$D$963=R$4)*(Statistics!$E$4:$E$963=R$5)*(Statistics!$B$4:$B$963=R59)*(Statistics!$P$4:$P$963))))","v":""},{"$f":"IF(V$4=\"\",\"\",IF($A25>V$38,\"\",SUMPRODUCT((Statistics!$D$4:$D$963=V$4)*(Statistics!$E$4:$E$963=V$5)*(Statistics!$B$4:$B$963=V59)*(Statistics!$AC$4:$AC$963))))","v":""},"",{"$f":"IF(V$4=\"\",\"\",IF($A25>V$38,\"\",SUMPRODUCT((Statistics!$D$4:$D$963=V$4)*(Statistics!$E$4:$E$963=V$5)*(Statistics!$B$4:$B$963=V59)*(Statistics!$F$4:$F$963))))","v":""},{"$f":"IF(V$4=\"\",\"\",IF($A25>V$38,\"\",SUMPRODUCT((Statistics!$D$4:$D$963=V$4)*(Statistics!$E$4:$E$963=V$5)*(Statistics!$B$4:$B$963=V59)*(Statistics!$P$4:$P$963))))","v":""},{"$f":"IF(Z$4=\"\",\"\",IF($A25>Z$38,\"\",SUMPRODUCT((Statistics!$D$4:$D$963=Z$4)*(Statistics!$E$4:$E$963=Z$5)*(Statistics!$B$4:$B$963=Z59)*(Statistics!$AC$4:$AC$963))))","v":""},"",{"$f":"IF(Z$4=\"\",\"\",IF($A25>Z$38,\"\",SUMPRODUCT((Statistics!$D$4:$D$963=Z$4)*(Statistics!$E$4:$E$963=Z$5)*(Statistics!$B$4:$B$963=Z59)*(Statistics!$F$4:$F$963))))","v":""},{"$f":"IF(Z$4=\"\",\"\",IF($A25>Z$38,\"\",SUMPRODUCT((Statistics!$D$4:$D$963=Z$4)*(Statistics!$E$4:$E$963=Z$5)*(Statistics!$B$4:$B$963=Z59)*(Statistics!$P$4:$P$963))))","v":""},{"$f":"IF(AD$4=\"\",\"\",IF($A25>AD$38,\"\",SUMPRODUCT((Statistics!$D$4:$D$963=AD$4)*(Statistics!$E$4:$E$963=AD$5)*(Statistics!$B$4:$B$963=AD59)*(Statistics!$AC$4:$AC$963))))","v":""},"",{"$f":"IF(AD$4=\"\",\"\",IF($A25>AD$38,\"\",SUMPRODUCT((Statistics!$D$4:$D$963=AD$4)*(Statistics!$E$4:$E$963=AD$5)*(Statistics!$B$4:$B$963=AD59)*(Statistics!$F$4:$F$963))))","v":""},{"$f":"IF(AD$4=\"\",\"\",IF($A25>AD$38,\"\",SUMPRODUCT((Statistics!$D$4:$D$963=AD$4)*(Statistics!$E$4:$E$963=AD$5)*(Statistics!$B$4:$B$963=AD59)*(Statistics!$P$4:$P$963))))","v":""},{"$f":"IF(AH$4=\"\",\"\",IF($A25>AH$38,\"\",SUMPRODUCT((Statistics!$D$4:$D$963=AH$4)*(Statistics!$E$4:$E$963=AH$5)*(Statistics!$B$4:$B$963=AH59)*(Statistics!$AC$4:$AC$963))))","v":""},"",{"$f":"IF(AH$4=\"\",\"\",IF($A25>AH$38,\"\",SUMPRODUCT((Statistics!$D$4:$D$963=AH$4)*(Statistics!$E$4:$E$963=AH$5)*(Statistics!$B$4:$B$963=AH59)*(Statistics!$F$4:$F$963))))","v":""},{"$f":"IF(AH$4=\"\",\"\",IF($A25>AH$38,\"\",SUMPRODUCT((Statistics!$D$4:$D$963=AH$4)*(Statistics!$E$4:$E$963=AH$5)*(Statistics!$B$4:$B$963=AH59)*(Statistics!$P$4:$P$963))))","v":""}]
["Mean TU",null,{"$f":"IF(ISNUMBER(C6),AVERAGE(C6:C25),\"\")","v":""},null,null,null,{"$f":"IF(ISNUMBER(G6),AVERAGE(G6:G25),\"\")","v":""},null,null,null,{"$f":"IF(ISNUMBER(K6),AVERAGE(K6:K25),\"\")","v":""},null,null,null,{"$f":"IF(ISNUMBER(O6),AVERAGE(O6:O25),\"\")","v":""},null,null,null,{"$f":"IF(ISNUMBER(S6),AVERAGE(S6:S25),\"\")","v":""},null,null,null,{"$f":"IF(ISNUMBER(W6),AVERAGE(W6:W25),\"\")","v":""},null,null,null,{"$f":"IF(ISNUMBER(AA6),AVERAGE(AA6:AA25),\"\")","v":""},null,null,null,{"$f":"IF(ISNUMBER(AE6),AVERAGE(AE6:AE25),\"\")","v":""},null,null,null,{"$f":"IF(ISNUMBER(AI6),AVERAGE(AI6:AI25),\"\")","v":""}]
["TU Stdev",null,{"$f":"IF(ISNUMBER(C7),STDEV(C6:C25),\"\")","v":""},null,null,null,{"$f":"IF(ISNUMBER(G7),STDEV(G6:G25),\"\")","v":""},null,null,null,{"$f":"IF(ISNUMBER(K7),STDEV(K6:K25),\"\")","v":""},null,null,null,{"$f":"IF(ISNUMBER(O7),STDEV(O6:O25),\"\")","v":""},null,null,null,{"$f":"IF(ISNUMBER(S7),STDEV(S6:S25),\"\")","v":""},null,null,null,{"$f":"IF(ISNUMBER(W7),STDEV(W6:W25),\"\")","v":""},null,null,null,{"$f":"IF(ISNUMBER(AA7),STDEV(AA6:AA25),\"\")","v":""},null,null,null,{"$f":"IF(ISNUMBER(AE7),STDEV(AE6:AE25),\"\")","v":""},null,null,null,{"$f":"IF(ISNUMBER(AI7),STDEV(AI6:AI25),\"\")","v":""}]
["N",null,{"$f":"IF(ISNUMBER(C6),COUNT(C6:C25),\"\")","v":""},null,null,null,{"$f":"IF(ISNUMBER(G6),COUNT(G6:G25),\"\")","v":""},null,null,null,{"$f":"IF(ISNUMBER(K6),COUNT(K6:K25),\"\")","v":""},null,null,null,{"$f":"IF(ISNUMBER(O6),COUNT(O6:O25),\"\")","v":""},null,null,null,{"$f":"IF(ISNUMBER(S6),COUNT(S6:S25),\"\")","v":""},null,null,null,{"$f":"IF(ISNUMBER(W6),COUNT(W6:W25),\"\")","v":""},null,null,null,{"$f":"IF(ISNUMBER(AA6),COUNT(AA6:AA25),\"\")","v":""},null,null,null,{"$f":"IF(ISNUMBER(AE6),COUNT(AE6:AE25),\"\")","v":""},null,null,null,{"$f":"IF(ISNUMBER(AI6),COUNT(AI6:AI25),\"\")","v":""}]
["CV",null,{"$f":"IF(AND(ISNUMBER(C28),C28>=10),ROUND(C27/C26,2),IF(C28<10,0.6,\"\"))","v":""},null,null,null,{"$f":"IF(AND(ISNUMBER(G28),G28>=10),G27/G26,IF(G28<10,0.6,\"\"))","v":""},null,null,null,{"$f":"IF(AND(ISNUMBER(K28),K28>=10),K27/K26,IF(K28<10,0.6,\"\"))","v":""},null,null,null,{"$f":"IF(AND(ISNUMBER(O28),O28>=10),O27/O26,IF(O28<10,0.6,\"\"))","v":""},null,null,null,{"$f":"IF(AND(ISNUMBER(S28),S28>=10),S27/S26,IF(S28<10,0.6,\"\"))","v":""},null,null,null,{"$f":"IF(AND(ISNUMBER(W28),W28>=10),W27/W26,IF(W28<10,0.6,\"\"))","v":""},null,null,null,{"$f":"IF(AND(ISNUMBER(AA28),AA28>=10),AA27/AA26,IF(AA28<10,0.6,\"\"))","v":""},null,null,null,{"$f":"IF(AND(ISNUMBER(AE28),AE28>=10),AE27/AE26,IF(AE28<10,0.6,\"\"))","v":""},null,null,null,{"$f":"IF(AND(ISNUMBER(AI28),AI28>=10),AI27/AI26,IF(AI28<10,0.6,\"\"))","v":""}]
["Max TU",null,{"$f":"IF(ISNUMBER(C6),MAX(C6:C25),\"\")","v":""},null,null,null,{"$f":"IF(ISNUMBER(G6),MAX(G6:G25),\"\")","v":""},null,null,null,{"$f":"IF(ISNUMBER(K6),MAX(K6:K25),\"\")","v":""},null,null,null,{"$f":"IF(ISNUMBER(O6),MAX(O6:O25),\"\")","v":""},null,null,null,{"$f":"IF(ISNUMBER(S6),MAX(S6:S25),\"\")","v":""},null,null,null,{"$f":"IF(ISNUMBER(W6),MAX(W6:W25),\"\")","v":""},null,null,null,{"$f":"IF(ISNUMBER(AA6),MAX(AA6:AA25),\"\")","v":""},null,null,null,{"$f":"IF(ISNUMBER(AE6),MAX(AE6:AE25),\"\")","v":""},null,null,null,{"$f":"IF(ISNUMBER(AI6),MAX(AI6:AI25),\"\")","v":""}]
["IWC",null,null,{"$f":"IF(AND(ISNUMBER(D6),COUNTIF(D6:D25,D6)=COUNT(B6:B25)),D6,\"\")","v":""},null,null,null,{"$f":"IF(AND(ISNUMBER(H6),COUNTIF(H6:H25,H6)=COUNT(F6:F25)),H6,\"\")","v":""},null,null,null,{"$f":"IF(AND(ISNUMBER(L6),COUNTIF(L6:L25,L6)=COUNT(J6:J25)),L6,\"\")","v":""},null,null,null,{"$f":"IF(AND(ISNUMBER(P6),COUNTIF(P6:P25,P6)=COUNT(N6:N25)),P6,\"\")","v":""},null,null,null,{"$f":"IF(AND(ISNUMBER(T6),COUNTIF(T6:T25,T6)=COUNT(R6:R25)),T6,\"\")","v":""},null,null,null,{"$f":"IF(AND(ISNUMBER(X6),COUNTIF(X6:X25,X6)=COUNT(V6:V25)),X6,\"\")","v":""},null,null,null,{"$f":"IF(AND(ISNUMBER(AB6),COUNTIF(AB6:AB25,AB6)=COUNT(Z6:Z25)),AB6,\"\")","v":""},null,null,null,{"$f":"IF(AND(ISNUMBER(AF6),COUNTIF(AF6:AF25,AF6)=COUNT(AD6:AD25)),AF6,\"\")","v":""},null,null,null,{"$f":"IF(AND(ISNUMBER(AJ6),COUNTIF(AJ6:AJ25,AJ6)=COUNT(AH6:AH25)),AJ6,\"\")","v":""}]
["Max TST % Effect",null,null,null,{"$f":"IF(ISNUMBER(E6),MAX(E6:E25),\"\")","v":-5.2631578947368478},null,null,null,{"$f":"IF(ISNUMBER(I6),MAX(I6:I25),\"\")","v":""},null,null,null,{"$f":"IF(ISNUMBER(M6),MAX(M6:M25),\"\")","v":""},null,null,null,{"$f":"IF(ISNUMBER(Q6),MAX(Q6:Q25),\"\")","v":""},null,null,null,{"$f":"IF(ISNUMBER(U6),MAX(U6:U25),\"\")","v":""},null,null,null,{"$f":"IF(ISNUMBER(Y6),MAX(Y6:Y25),\"\")","v":""},null,null,null,{"$f":"IF(ISNUMBER(AC6),MAX(AC6:AC25),\"\")","v":""},null,null,null,{"$f":"IF(ISNUMBER(AG6),MAX(AG6:AG25),\"\")","v":""},null,null,null,{"$f":"IF(ISNUMBER(AK6),MAX(AK6:AK25),\"\")","v":""}]
["RP Valid",null,null,null,{"$f":"IF(C28=\"\",\"No\",IF(C28>=4,\"Yes\",IF(AND(C28>0,COUNTIF(E6:E25,\">10\")),\"Yes\",\"No\")))","v":"No"},null,null,null,{"$f":"IF(G28=\"\",\"No\",IF(G28>=4,\"Yes\",IF(AND(G28>0,COUNTIF(I6:I25,\">10\")),\"Yes\",\"No\")))","v":"No"},null,null,null,{"$f":"IF(K28=\"\",\"No\",IF(K28>=4,\"Yes\",IF(AND(K28>0,COUNTIF(M6:M25,\">10\")),\"Yes\",\"No\")))","v":"No"},null,null,null,{"$f":"IF(O28=\"\",\"No\",IF(O28>=4,\"Yes\",IF(AND(O28>0,COUNTIF(Q6:Q25,\">10\")),\"Yes\",\"No\")))","v":"No"},null,null,null,{"$f":"IF(S28=\"\",\"No\",IF(S28>=4,\"Yes\",IF(AND(S28>0,COUNTIF(U6:U25,\">10\")),\"Yes\",\"No\")))","v":"No"},null,null,null,{"$f":"IF(W28=\"\",\"No\",IF(W28>=4,\"Yes\",IF(AND(W28>0,COUNTIF(Y6:Y25,\">10\")),\"Yes\",\"No\")))","v":"No"},null,null,null,{"$f":"IF(AA28=\"\",\"No\",IF(AA28>=4,\"Yes\",IF(AND(AA28>0,COUNTIF(AC6:AC25,\">10\")),\"Yes\",\"No\")))","v":"No"},null,null,null,{"$f":"IF(AE28=\"\",\"No\",IF(AE28>=4,\"Yes\",IF(AND(AE28>0,COUNTIF(AG6:AG25,\">10\")),\"Yes\",\"No\")))","v":"No"},null,null,null,{"$f":"IF(AI28=\"\",\"No\",IF(AI28>=4,\"Yes\",IF(AND(AI28>0,COUNTIF(AK6:AK25,\">10\")),\"Yes\",\"No\")))","v":"No"}]
[]
["Test Number",{"$f":"MIN(IF(LU!$J$6:$J$44=1,LU!$C$6:$C$43))","v":1},null,null,null,{"$f":"SMALL(IF(LU!$J$6:$J$44=1,LU!$C$6:$C$43),2)","v":{"$error":"#NUM!"}},null,null,null,{"$f":"SMALL(IF(LU!$J$6:$J$44=1,LU!$C$6:$C$43),3)","v":{"$error":"#NUM!"}},null,null,null,{"$f":"SMALL(IF(LU!$J$6:$J$44=1,LU!$C$6:$C$43),4)","v":{"$error":"#NUM!"}},null,null,null,{"$f":"SMALL(IF(LU!$J$6:$J$44=1,LU!$C$6:$C$43),5)","v":{"$error":"#NUM!"}},null,null,null,{"$f":"SMALL(IF(LU!$J$6:$J$44=1,LU!$C$6:$C$43),6)","v":{"$error":"#NUM!"}},null,null,null,{"$f":"SMALL(IF(LU!$J$6:$J$44=1,LU!$C$6:$C$43),7)","v":{"$error":"#NUM!"}},null,null,null,{"$f":"SMALL(IF(LU!$J$6:$J$44=1,LU!$C$6:$C$43),8)","v":{"$error":"#NUM!"}},null,null,null,{"$f":"SMALL(IF(LU!$J$6:$J$44=1,LU!$C$6:$C$43),9)","v":{"$error":"#NUM!"}}]
[]
["Total number of tests"]
[null,{"$f":"IF(B4=\"\",\"\",SUMPRODUCT((Statistics!$D$4:$D$963=B$4)*(Statistics!$E$4:$E$963=B$5)*1))","v":1},null,null,null,{"$f":"IF(F4=\"\",\"\",SUMPRODUCT((Statistics!$D$4:$D$963=F$4)*(Statistics!$E$4:$E$963=F$5)*1))","v":""},null,null,null,{"$f":"IF(J4=\"\",\"\",SUMPRODUCT((Statistics!$D$4:$D$963=J$4)*(Statistics!$E$4:$E$963=J$5)*1))","v":""},null,null,null,{"$f":"IF(N4=\"\",\"\",SUMPRODUCT((Statistics!$D$4:$D$963=N$4)*(Statistics!$E$4:$E$963=N$5)*1))","v":""},null,null,null,{"$f":"IF(R4=\"\",\"\",SUMPRODUCT((Statistics!$D$4:$D$963=R$4)*(Statistics!$E$4:$E$963=R$5)*1))","v":""},null,null,null,{"$f":"IF(V4=\"\",\"\",SUMPRODUCT((Statistics!$D$4:$D$963=V$4)*(Statistics!$E$4:$E$963=V$5)*1))","v":""},null,null,null,{"$f":"IF(Z4=\"\",\"\",SUMPRODUCT((Statistics!$D$4:$D$963=Z$4)*(Statistics!$E$4:$E$963=Z$5)*1))","v":""},null,null,null,{"$f":"IF(AD4=\"\",\"\",SUMPRODUCT((Statistics!$D$4:$D$963=AD$4)*(Statistics!$E$4:$E$963=AD$5)*1))","v":""},null,null,null,{"$f":"IF(AH4=\"\",\"\",SUMPRODUCT((Statistics!$D$4:$D$963=AH$4)*(Statistics!$E$4:$E$963=AH$5)*1))","v":""}]
["Dates of Tests (latest to earliest)"]
[1,{"$f":"IF($A40>B$38,\"\",MAX(IF(Statistics!$D$4:$D$963=B$4,IF(Statistics!$E$4:$E$963=B$5,Statistics!$B$4:$B$963,\"\"),\"\")))","v":"2022-06-09"},null,null,null,{"$f":"IF($A40>F$38,\"\",MAX(IF(Statistics!$D$4:$D$963=F$4,IF(Statistics!$E$4:$E$963=F$5,Statistics!$B$4:$B$963,\"\"),\"\")))","v":"00:00:00"},null,null,null,{"$f":"IF($A40>J$38,\"\",MAX(IF(Statistics!$D$4:$D$963=J$4,IF(Statistics!$E$4:$E$963=J$5,Statistics!$B$4:$B$963,\"\"),\"\")))","v":"00:00:00"},null,null,null,{"$f":"IF($A40>N$38,\"\",MAX(IF(Statistics!$D$4:$D$963=N$4,IF(Statistics!$E$4:$E$963=N$5,Statistics!$B$4:$B$963,\"\"),\"\")))","v":"00:00:00"},null,null,null,{"$f":"IF($A40>R$38,\"\",MAX(IF(Statistics!$D$4:$D$963=R$4,IF(Statistics!$E$4:$E$963=R$5,Statistics!$B$4:$B$963,\"\"),\"\")))","v":"00:00:00"},null,null,null,{"$f":"IF($A40>V$38,\"\",MAX(IF(Statistics!$D$4:$D$963=V$4,IF(Statistics!$E$4:$E$963=V$5,Statistics!$B$4:$B$963,\"\"),\"\")))","v":"00:00:00"},null,null,null,{"$f":"IF($A40>Z$38,\"\",MAX(IF(Statistics!$D$4:$D$963=Z$4,IF(Statistics!$E$4:$E$963=Z$5,Statistics!$B$4:$B$963,\"\"),\"\")))","v":"00:00:00"},null,null,null,{"$f":"IF($A40>AD$38,\"\",MAX(IF(Statistics!$D$4:$D$963=AD$4,IF(Statistics!$E$4:$E$963=AD$5,Statistics!$B$4:$B$963,\"\"),\"\")))","v":"00:00:00"},null,null,null,{"$f":"IF($A40>AH$38,\"\",MAX(IF(Statistics!$D$4:$D$963=AH$4,IF(Statistics!$E$4:$E$963=AH$5,Statistics!$B$4:$B$963,\"\"),\"\")))","v":"00:00:00"}]
[2,{"$f":"IF($A41>B$38,\"\",LARGE(IF(Statistics!$D$4:$D$963=B$4,IF(Statistics!$E$4:$E$963=B$5,Statistics!$B$4:$B$963,\"\"),\"\"),$A41))","v":""},null,null,null,{"$f":"IF($A41>F$38,\"\",LARGE(IF(Statistics!$D$4:$D$963=F$4,IF(Statistics!$E$4:$E$963=F$5,Statistics!$B$4:$B$963,\"\"),\"\"),$A41))","v":"00:00:00"},null,null,null,{"$f":"IF($A41>J$38,\"\",LARGE(IF(Statistics!$D$4:$D$963=J$4,IF(Statistics!$E$4:$E$963=J$5,Statistics!$B$4:$B$963,\"\"),\"\"),$A41))","v":"00:00:00"},null,null,null,{"$f":"IF($A41>N$38,\"\",LARGE(IF(Statistics!$D$4:$D$963=N$4,IF(Statistics!$E$4:$E$963=N$5,Statistics!$B$4:$B$963,\"\"),\"\"),$A41))","v":"00:00:00"},null,null,null,{"$f":"IF($A41>R$38,\"\",LARGE(IF(Statistics!$D$4:$D$963=R$4,IF(Statistics!$E$4:$E$963=R$5,Statistics!$B$4:$B$963,\"\"),\"\"),$A41))","v":"00:00:00"},null,null,null,{"$f":"IF($A41>V$38,\"\",LARGE(IF(Statistics!$D$4:$D$963=V$4,IF(Statistics!$E$4:$E$963=V$5,Statistics!$B$4:$B$963,\"\"),\"\"),$A41))","v":"00:00:00"},null,null,null,{"$f":"IF($A41>Z$38,\"\",LARGE(IF(Statistics!$D$4:$D$963=Z$4,IF(Statistics!$E$4:$E$963=Z$5,Statistics!$B$4:$B$963,\"\"),\"\"),$A41))","v":"00:00:00"},null,null,null,{"$f":"IF($A41>AD$38,\"\",LARGE(IF(Statistics!$D$4:$D$963=AD$4,IF(Statistics!$E$4:$E$963=AD$5,Statistics!$B$4:$B$963,\"\"),\"\"),$A41))","v":"00:00:00"},null,null,null,{"$f":"IF($A41>AH$38,\"\",LARGE(IF(Statistics!$D$4:$D$963=AH$4,IF(Statistics!$E$4:$E$963=AH$5,Statistics!$B$4:$B$963,\"\"),\"\"),$A41))","v":"00:00:00"}]
[3,{"$f":"IF($A42>B$38,\"\",LARGE(IF(Statistics!$D$4:$D$963=B$4,IF(Statistics!$E$4:$E$963=B$5,Statistics!$B$4:$B$963,\"\"),\"\"),$A42))","v":""},null,null,null,{"$f":"IF($A42>F$38,\"\",LARGE(IF(Statistics!$D$4:$D$963=F$4,IF(Statistics!$E$4:$E$963=F$5,Statistics!$B$4:$B$963,\"\"),\"\"),$A42))","v":"00:00:00"},null,null,null,{"$f":"IF($A42>J$38,\"\",LARGE(IF(Statistics!$D$4:$D$963=J$4,IF(Statistics!$E$4:$E$963=J$5,Statistics!$B$4:$B$963,\"\"),\"\"),$A42))","v":"00:00:00"},null,null,null,{"$f":"IF($A42>N$38,\"\",LARGE(IF(Statistics!$D$4:$D$963=N$4,IF(Statistics!$E$4:$E$963=N$5,Statistics!$B$4:$B$963,\"\"),\"\"),$A42))","v":"00:00:00"},null,null,null,{"$f":"IF($A42>R$38,\"\",LARGE(IF(Statistics!$D$4:$D$963=R$4,IF(Statistics!$E$4:$E$963=R$5,Statistics!$B$4:$B$963,\"\"),\"\"),$A42))","v":"00:00:00"},null,null,null,{"$f":"IF($A42>V$38,\"\",LARGE(IF(Statistics!$D$4:$D$963=V$4,IF(Statistics!$E$4:$E$963=V$5,Statistics!$B$4:$B$963,\"\"),\"\"),$A42))","v":"00:00:00"},null,null,null,{"$f":"IF($A42>Z$38,\"\",LARGE(IF(Statistics!$D$4:$D$963=Z$4,IF(Statistics!$E$4:$E$963=Z$5,Statistics!$B$4:$B$963,\"\"),\"\"),$A42))","v":"00:00:00"},null,null,null,{"$f":"IF($A42>AD$38,\"\",LARGE(IF(Statistics!$D$4:$D$963=AD$4,IF(Statistics!$E$4:$E$963=AD$5,Statistics!$B$4:$B$963,\"\"),\"\"),$A42))","v":"00:00:00"},null,null,null,{"$f":"IF($A42>AH$38,\"\",LARGE(IF(Statistics!$D$4:$D$963=AH$4,IF(Statistics!$E$4:$E$963=AH$5,Statistics!$B$4:$B$963,\"\"),\"\"),$A42))","v":"00:00:00"}]
[4,{"$f":"IF($A43>B$38,\"\",LARGE(IF(Statistics!$D$4:$D$963=B$4,IF(Statistics!$E$4:$E$963=B$5,Statistics!$B$4:$B$963,\"\"),\"\"),$A43))","v":""},null,null,null,{"$f":"IF($A43>F$38,\"\",LARGE(IF(Statistics!$D$4:$D$963=F$4,IF(Statistics!$E$4:$E$963=F$5,Statistics!$B$4:$B$963,\"\"),\"\"),$A43))","v":"00:00:00"},null,null,null,{"$f":"IF($A43>J$38,\"\",LARGE(IF(Statistics!$D$4:$D$963=J$4,IF(Statistics!$E$4:$E$963=J$5,Statistics!$B$4:$B$963,\"\"),\"\"),$A43))","v":"00:00:00"},null,null,null,{"$f":"IF($A43>N$38,\"\",LARGE(IF(Statistics!$D$4:$D$963=N$4,IF(Statistics!$E$4:$E$963=N$5,Statistics!$B$4:$B$963,\"\"),\"\"),$A43))","v":"00:00:00"},null,null,null,{"$f":"IF($A43>R$38,\"\",LARGE(IF(Statistics!$D$4:$D$963=R$4,IF(Statistics!$E$4:$E$963=R$5,Statistics!$B$4:$B$963,\"\"),\"\"),$A43))","v":"00:00:00"},null,null,null,{"$f":"IF($A43>V$38,\"\",LARGE(IF(Statistics!$D$4:$D$963=V$4,IF(Statistics!$E$4:$E$963=V$5,Statistics!$B$4:$B$963,\"\"),\"\"),$A43))","v":"00:00:00"},null,null,null,{"$f":"IF($A43>Z$38,\"\",LARGE(IF(Statistics!$D$4:$D$963=Z$4,IF(Statistics!$E$4:$E$963=Z$5,Statistics!$B$4:$B$963,\"\"),\"\"),$A43))","v":"00:00:00"},null,null,null,{"$f":"IF($A43>AD$38,\"\",LARGE(IF(Statistics!$D$4:$D$963=AD$4,IF(Statistics!$E$4:$E$963=AD$5,Statistics!$B$4:$B$963,\"\"),\"\"),$A43))","v":"00:00:00"},null,null,null,{"$f":"IF($A43>AH$38,\"\",LARGE(IF(Statistics!$D$4:$D$963=AH$4,IF(Statistics!$E$4:$E$963=AH$5,Statistics!$B$4:$B$963,\"\"),\"\"),$A43))","v":"00:00:00"}]
[5,{"$f":"IF($A44>B$38,\"\",LARGE(IF(Statistics!$D$4:$D$963=B$4,IF(Statistics!$E$4:$E$963=B$5,Statistics!$B$4:$B$963,\"\"),\"\"),$A44))","v":""},null,null,null,{"$f":"IF($A44>F$38,\"\",LARGE(IF(Statistics!$D$4:$D$963=F$4,IF(Statistics!$E$4:$E$963=F$5,Statistics!$B$4:$B$963,\"\"),\"\"),$A44))","v":"00:00:00"},null,null,null,{"$f":"IF($A44>J$38,\"\",LARGE(IF(Statistics!$D$4:$D$963=J$4,IF(Statistics!$E$4:$E$963=J$5,Statistics!$B$4:$B$963,\"\"),\"\"),$A44))","v":"00:00:00"},null,null,null,{"$f":"IF($A44>N$38,\"\",LARGE(IF(Statistics!$D$4:$D$963=N$4,IF(Statistics!$E$4:$E$963=N$5,Statistics!$B$4:$B$963,\"\"),\"\"),$A44))","v":"00:00:00"},null,null,null,{"$f":"IF($A44>R$38,\"\",LARGE(IF(Statistics!$D$4:$D$963=R$4,IF(Statistics!$E$4:$E$963=R$5,Statistics!$B$4:$B$963,\"\"),\"\"),$A44))","v":"00:00:00"},null,null,null,{"$f":"IF($A44>V$38,\"\",LARGE(IF(Statistics!$D$4:$D$963=V$4,IF(Statistics!$E$4:$E$963=V$5,Statistics!$B$4:$B$963,\"\"),\"\"),$A44))","v":"00:00:00"},null,null,null,{"$f":"IF($A44>Z$38,\"\",LARGE(IF(Statistics!$D$4:$D$963=Z$4,IF(Statistics!$E$4:$E$963=Z$5,Statistics!$B$4:$B$963,\"\"),\"\"),$A44))","v":"00:00:00"},null,null,null,{"$f":"IF($A44>AD$38,\"\",LARGE(IF(Statistics!$D$4:$D$963=AD$4,IF(Statistics!$E$4:$E$963=AD$5,Statistics!$B$4:$B$963,\"\"),\"\"),$A44))","v":"00:00:00"},null,null,null,{"$f":"IF($A44>AH$38,\"\",LARGE(IF(Statistics!$D$4:$D$963=AH$4,IF(Statistics!$E$4:$E$963=AH$5,Statistics!$B$4:$B$963,\"\"),\"\"),$A44))","v":"00:00:00"}]
[6,{"$f":"IF($A45>B$38,\"\",LARGE(IF(Statistics!$D$4:$D$963=B$4,IF(Statistics!$E$4:$E$963=B$5,Statistics!$B$4:$B$963,\"\"),\"\"),$A45))","v":""},null,null,null,{"$f":"IF($A45>F$38,\"\",LARGE(IF(Statistics!$D$4:$D$963=F$4,IF(Statistics!$E$4:$E$963=F$5,Statistics!$B$4:$B$963,\"\"),\"\"),$A45))","v":"00:00:00"},null,null,null,{"$f":"IF($A45>J$38,\"\",LARGE(IF(Statistics!$D$4:$D$963=J$4,IF(Statistics!$E$4:$E$963=J$5,Statistics!$B$4:$B$963,\"\"),\"\"),$A45))","v":"00:00:00"},null,null,null,{"$f":"IF($A45>N$38,\"\",LARGE(IF(Statistics!$D$4:$D$963=N$4,IF(Statistics!$E$4:$E$963=N$5,Statistics!$B$4:$B$963,\"\"),\"\"),$A45))","v":"00:00:00"},null,null,null,{"$f":"IF($A45>R$38,\"\",LARGE(IF(Statistics!$D$4:$D$963=R$4,IF(Statistics!$E$4:$E$963=R$5,Statistics!$B$4:$B$963,\"\"),\"\"),$A45))","v":"00:00:00"},null,null,null,{"$f":"IF($A45>V$38,\"\",LARGE(IF(Statistics!$D$4:$D$963=V$4,IF(Statistics!$E$4:$E$963=V$5,Statistics!$B$4:$B$963,\"\"),\"\"),$A45))","v":"00:00:00"},null,null,null,{"$f":"IF($A45>Z$38,\"\",LARGE(IF(Statistics!$D$4:$D$963=Z$4,IF(Statistics!$E$4:$E$963=Z$5,Statistics!$B$4:$B$963,\"\"),\"\"),$A45))","v":"00:00:00"},null,null,null,{"$f":"IF($A45>AD$38,\"\",LARGE(IF(Statistics!$D$4:$D$963=AD$4,IF(Statistics!$E$4:$E$963=AD$5,Statistics!$B$4:$B$963,\"\"),\"\"),$A45))","v":"00:00:00"},null,null,null,{"$f":"IF($A45>AH$38,\"\",LARGE(IF(Statistics!$D$4:$D$963=AH$4,IF(Statistics!$E$4:$E$963=AH$5,Statistics!$B$4:$B$963,\"\"),\"\"),$A45))","v":"00:00:00"}]
[7,{"$f":"IF($A46>B$38,\"\",LARGE(IF(Statistics!$D$4:$D$963=B$4,IF(Statistics!$E$4:$E$963=B$5,Statistics!$B$4:$B$963,\"\"),\"\"),$A46))","v":""},null,null,null,{"$f":"IF($A46>F$38,\"\",LARGE(IF(Statistics!$D$4:$D$963=F$4,IF(Statistics!$E$4:$E$963=F$5,Statistics!$B$4:$B$963,\"\"),\"\"),$A46))","v":"00:00:00"},null,null,null,{"$f":"IF($A46>J$38,\"\",LARGE(IF(Statistics!$D$4:$D$963=J$4,IF(Statistics!$E$4:$E$963=J$5,Statistics!$B$4:$B$963,\"\"),\"\"),$A46))","v":"00:00:00"},null,null,null,{"$f":"IF($A46>N$38,\"\",LARGE(IF(Statistics!$D$4:$D$963=N$4,IF(Statistics!$E$4:$E$963=N$5,Statistics!$B$4:$B$963,\"\"),\"\"),$A46))","v":"00:00:00"},null,null,null,{"$f":"IF($A46>R$38,\"\",LARGE(IF(Statistics!$D$4:$D$963=R$4,IF(Statistics!$E$4:$E$963=R$5,Statistics!$B$4:$B$963,\"\"),\"\"),$A46))","v":"00:00:00"},null,null,null,{"$f":"IF($A46>V$38,\"\",LARGE(IF(Statistics!$D$4:$D$963=V$4,IF(Statistics!$E$4:$E$963=V$5,Statistics!$B$4:$B$963,\"\"),\"\"),$A46))","v":"00:00:00"},null,null,null,{"$f":"IF($A46>Z$38,\"\",LARGE(IF(Statistics!$D$4:$D$963=Z$4,IF(Statistics!$E$4:$E$963=Z$5,Statistics!$B$4:$B$963,\"\"),\"\"),$A46))","v":"00:00:00"},null,null,null,{"$f":"IF($A46>AD$38,\"\",LARGE(IF(Statistics!$D$4:$D$963=AD$4,IF(Statistics!$E$4:$E$963=AD$5,Statistics!$B$4:$B$963,\"\"),\"\"),$A46))","v":"00:00:00"},null,null,null,{"$f":"IF($A46>AH$38,\"\",LARGE(IF(Statistics!$D$4:$D$963=AH$4,IF(Statistics!$E$4:$E$963=AH$5,Statistics!$B$4:$B$963,\"\"),\"\"),$A46))","v":"00:00:00"}]
[8,{"$f":"IF($A47>B$38,\"\",LARGE(IF(Statistics!$D$4:$D$963=B$4,IF(Statistics!$E$4:$E$963=B$5,Statistics!$B$4:$B$963,\"\"),\"\"),$A47))","v":""},null,null,null,{"$f":"IF($A47>F$38,\"\",LARGE(IF(Statistics!$D$4:$D$963=F$4,IF(Statistics!$E$4:$E$963=F$5,Statistics!$B$4:$B$963,\"\"),\"\"),$A47))","v":"00:00:00"},null,null,null,{"$f":"IF($A47>J$38,\"\",LARGE(IF(Statistics!$D$4:$D$963=J$4,IF(Statistics!$E$4:$E$963=J$5,Statistics!$B$4:$B$963,\"\"),\"\"),$A47))","v":"00:00:00"},null,null,null,{"$f":"IF($A47>N$38,\"\",LARGE(IF(Statistics!$D$4:$D$963=N$4,IF(Statistics!$E$4:$E$963=N$5,Statistics!$B$4:$B$963,\"\"),\"\"),$A47))","v":"00:00:00"},null,null,null,{"$f":"IF($A47>R$38,\"\",LARGE(IF(Statistics!$D$4:$D$963=R$4,IF(Statistics!$E$4:$E$963=R$5,Statistics!$B$4:$B$963,\"\"),\"\"),$A47))","v":"00:00:00"},null,null,null,{"$f":"IF($A47>V$38,\"\",LARGE(IF(Statistics!$D$4:$D$963=V$4,IF(Statistics!$E$4:$E$963=V$5,Statistics!$B$4:$B$963,\"\"),\"\"),$A47))","v":"00:00:00"},null,null,null,{"$f":"IF($A47>Z$38,\"\",LARGE(IF(Statistics!$D$4:$D$963=Z$4,IF(Statistics!$E$4:$E$963=Z$5,Statistics!$B$4:$B$963,\"\"),\"\"),$A47))","v":"00:00:00"},null,null,null,{"$f":"IF($A47>AD$38,\"\",LARGE(IF(Statistics!$D$4:$D$963=AD$4,IF(Statistics!$E$4:$E$963=AD$5,Statistics!$B$4:$B$963,\"\"),\"\"),$A47))","v":"00:00:00"},null,null,null,{"$f":"IF($A47>AH$38,\"\",LARGE(IF(Statistics!$D$4:$D$963=AH$4,IF(Statistics!$E$4:$E$963=AH$5,Statistics!$B$4:$B$963,\"\"),\"\"),$A47))","v":"00:00:00"}]
[9,{"$f":"IF($A48>B$38,\"\",LARGE(IF(Statistics!$D$4:$D$963=B$4,IF(Statistics!$E$4:$E$963=B$5,Statistics!$B$4:$B$963,\"\"),\"\"),$A48))","v":""},null,null,null,{"$f":"IF($A48>F$38,\"\",LARGE(IF(Statistics!$D$4:$D$963=F$4,IF(Statistics!$E$4:$E$963=F$5,Statistics!$B$4:$B$963,\"\"),\"\"),$A48))","v":"00:00:00"},null,null,null,{"$f":"IF($A48>J$38,\"\",LARGE(IF(Statistics!$D$4:$D$963=J$4,IF(Statistics!$E$4:$E$963=J$5,Statistics!$B$4:$B$963,\"\"),\"\"),$A48))","v":"00:00:00"},null,null,null,{"$f":"IF($A48>N$38,\"\",LARGE(IF(Statistics!$D$4:$D$963=N$4,IF(Statistics!$E$4:$E$963=N$5,Statistics!$B$4:$B$963,\"\"),\"\"),$A48))","v":"00:00:00"},null,null,null,{"$f":"IF($A48>R$38,\"\",LARGE(IF(Statistics!$D$4:$D$963=R$4,IF(Statistics!$E$4:$E$963=R$5,Statistics!$B$4:$B$963,\"\"),\"\"),$A48))","v":"00:00:00"},null,null,null,{"$f":"IF($A48>V$38,\"\",LARGE(IF(Statistics!$D$4:$D$963=V$4,IF(Statistics!$E$4:$E$963=V$5,Statistics!$B$4:$B$963,\"\"),\"\"),$A48))","v":"00:00:00"},null,null,null,{"$f":"IF($A48>Z$38,\"\",LARGE(IF(Statistics!$D$4:$D$963=Z$4,IF(Statistics!$E$4:$E$963=Z$5,Statistics!$B$4:$B$963,\"\"),\"\"),$A48))","v":"00:00:00"},null,null,null,{"$f":"IF($A48>AD$38,\"\",LARGE(IF(Statistics!$D$4:$D$963=AD$4,IF(Statistics!$E$4:$E$963=AD$5,Statistics!$B$4:$B$963,\"\"),\"\"),$A48))","v":"00:00:00"},null,null,null,{"$f":"IF($A48>AH$38,\"\",LARGE(IF(Statistics!$D$4:$D$963=AH$4,IF(Statistics!$E$4:$E$963=AH$5,Statistics!$B$4:$B$963,\"\"),\"\"),$A48))","v":"00:00:00"}]
[10,{"$f":"IF($A49>B$38,\"\",LARGE(IF(Statistics!$D$4:$D$963=B$4,IF(Statistics!$E$4:$E$963=B$5,Statistics!$B$4:$B$963,\"\"),\"\"),$A49))","v":""},null,null,null,{"$f":"IF($A49>F$38,\"\",LARGE(IF(Statistics!$D$4:$D$963=F$4,IF(Statistics!$E$4:$E$963=F$5,Statistics!$B$4:$B$963,\"\"),\"\"),$A49))","v":"00:00:00"},null,null,null,{"$f":"IF($A49>J$38,\"\",LARGE(IF(Statistics!$D$4:$D$963=J$4,IF(Statistics!$E$4:$E$963=J$5,Statistics!$B$4:$B$963,\"\"),\"\"),$A49))","v":"00:00:00"},null,null,null,{"$f":"IF($A49>N$38,\"\",LARGE(IF(Statistics!$D$4:$D$963=N$4,IF(Statistics!$E$4:$E$963=N$5,Statistics!$B$4:$B$963,\"\"),\"\"),$A49))","v":"00:00:00"},null,null,null,{"$f":"IF($A49>R$38,\"\",LARGE(IF(Statistics!$D$4:$D$963=R$4,IF(Statistics!$E$4:$E$963=R$5,Statistics!$B$4:$B$963,\"\"),\"\"),$A49))","v":"00:00:00"},null,null,null,{"$f":"IF($A49>V$38,\"\",LARGE(IF(Statistics!$D$4:$D$963=V$4,IF(Statistics!$E$4:$E$963=V$5,Statistics!$B$4:$B$963,\"\"),\"\"),$A49))","v":"00:00:00"},null,null,null,{"$f":"IF($A49>Z$38,\"\",LARGE(IF(Statistics!$D$4:$D$963=Z$4,IF(Statistics!$E$4:$E$963=Z$5,Statistics!$B$4:$B$963,\"\"),\"\"),$A49))","v":"00:00:00"},null,null,null,{"$f":"IF($A49>AD$38,\"\",LARGE(IF(Statistics!$D$4:$D$963=AD$4,IF(Statistics!$E$4:$E$963=AD$5,Statistics!$B$4:$B$963,\"\"),\"\"),$A49))","v":"00:00:00"},null,null,null,{"$f":"IF($A49>AH$38,\"\",LARGE(IF(Statistics!$D$4:$D$963=AH$4,IF(Statistics!$E$4:$E$963=AH$5,Statistics!$B$4:$B$963,\"\"),\"\"),$A49))","v":"00:00:00"}]
[11,{"$f":"IF($A50>B$38,\"\",LARGE(IF(Statistics!$D$4:$D$963=B$4,IF(Statistics!$E$4:$E$963=B$5,Statistics!$B$4:$B$963,\"\"),\"\"),$A50))","v":""},null,null,null,{"$f":"IF($A50>F$38,\"\",LARGE(IF(Statistics!$D$4:$D$963=F$4,IF(Statistics!$E$4:$E$963=F$5,Statistics!$B$4:$B$963,\"\"),\"\"),$A50))","v":"00:00:00"},null,null,null,{"$f":"IF($A50>J$38,\"\",LARGE(IF(Statistics!$D$4:$D$963=J$4,IF(Statistics!$E$4:$E$963=J$5,Statistics!$B$4:$B$963,\"\"),\"\"),$A50))","v":"00:00:00"},null,null,null,{"$f":"IF($A50>N$38,\"\",LARGE(IF(Statistics!$D$4:$D$963=N$4,IF(Statistics!$E$4:$E$963=N$5,Statistics!$B$4:$B$963,\"\"),\"\"),$A50))","v":"00:00:00"},null,null,null,{"$f":"IF($A50>R$38,\"\",LARGE(IF(Statistics!$D$4:$D$963=R$4,IF(Statistics!$E$4:$E$963=R$5,Statistics!$B$4:$B$963,\"\"),\"\"),$A50))","v":"00:00:00"},null,null,null,{"$f":"IF($A50>V$38,\"\",LARGE(IF(Statistics!$D$4:$D$963=V$4,IF(Statistics!$E$4:$E$963=V$5,Statistics!$B$4:$B$963,\"\"),\"\"),$A50))","v":"00:00:00"},null,null,null,{"$f":"IF($A50>Z$38,\"\",LARGE(IF(Statistics!$D$4:$D$963=Z$4,IF(Statistics!$E$4:$E$963=Z$5,Statistics!$B$4:$B$963,\"\"),\"\"),$A50))","v":"00:00:00"},null,null,null,{"$f":"IF($A50>AD$38,\"\",LARGE(IF(Statistics!$D$4:$D$963=AD$4,IF(Statistics!$E$4:$E$963=AD$5,Statistics!$B$4:$B$963,\"\"),\"\"),$A50))","v":"00:00:00"},null,null,null,{"$f":"IF($A50>AH$38,\"\",LARGE(IF(Statistics!$D$4:$D$963=AH$4,IF(Statistics!$E$4:$E$963=AH$5,Statistics!$B$4:$B$963,\"\"),\"\"),$A50))","v":"00:00:00"}]
[12,{"$f":"IF($A51>B$38,\"\",LARGE(IF(Statistics!$D$4:$D$963=B$4,IF(Statistics!$E$4:$E$963=B$5,Statistics!$B$4:$B$963,\"\"),\"\"),$A51))","v":""},null,null,null,{"$f":"IF($A51>F$38,\"\",LARGE(IF(Statistics!$D$4:$D$963=F$4,IF(Statistics!$E$4:$E$963=F$5,Statistics!$B$4:$B$963,\"\"),\"\"),$A51))","v":"00:00:00"},null,null,null,{"$f":"IF($A51>J$38,\"\",LARGE(IF(Statistics!$D$4:$D$963=J$4,IF(Statistics!$E$4:$E$963=J$5,Statistics!$B$4:$B$963,\"\"),\"\"),$A51))","v":"00:00:00"},null,null,null,{"$f":"IF($A51>N$38,\"\",LARGE(IF(Statistics!$D$4:$D$963=N$4,IF(Statistics!$E$4:$E$963=N$5,Statistics!$B$4:$B$963,\"\"),\"\"),$A51))","v":"00:00:00"},null,null,null,{"$f":"IF($A51>R$38,\"\",LARGE(IF(Statistics!$D$4:$D$963=R$4,IF(Statistics!$E$4:$E$963=R$5,Statistics!$B$4:$B$963,\"\"),\"\"),$A51))","v":"00:00:00"},null,null,null,{"$f":"IF($A51>V$38,\"\",LARGE(IF(Statistics!$D$4:$D$963=V$4,IF(Statistics!$E$4:$E$963=V$5,Statistics!$B$4:$B$963,\"\"),\"\"),$A51))","v":"00:00:00"},null,null,null,{"$f":"IF($A51>Z$38,\"\",LARGE(IF(Statistics!$D$4:$D$963=Z$4,IF(Statistics!$E$4:$E$963=Z$5,Statistics!$B$4:$B$963,\"\"),\"\"),$A51))","v":"00:00:00"},null,null,null,{"$f":"IF($A51>AD$38,\"\",LARGE(IF(Statistics!$D$4:$D$963=AD$4,IF(Statistics!$E$4:$E$963=AD$5,Statistics!$B$4:$B$963,\"\"),\"\"),$A51))","v":"00:00:00"},null,null,null,{"$f":"IF($A51>AH$38,\"\",LARGE(IF(Statistics!$D$4:$D$963=AH$4,IF(Statistics!$E$4:$E$963=AH$5,Statistics!$B$4:$B$963,\"\"),\"\"),$A51))","v":"00:00:00"}]
[13,{"$f":"IF($A52>B$38,\"\",LARGE(IF(Statistics!$D$4:$D$963=B$4,IF(Statistics!$E$4:$E$963=B$5,Statistics!$B$4:$B$963,\"\"),\"\"),$A52))","v":""},null,null,null,{"$f":"IF($A52>F$38,\"\",LARGE(IF(Statistics!$D$4:$D$963=F$4,IF(Statistics!$E$4:$E$963=F$5,Statistics!$B$4:$B$963,\"\"),\"\"),$A52))","v":"00:00:00"},null,null,null,{"$f":"IF($A52>J$38,\"\",LARGE(IF(Statistics!$D$4:$D$963=J$4,IF(Statistics!$E$4:$E$963=J$5,Statistics!$B$4:$B$963,\"\"),\"\"),$A52))","v":"00:00:00"},null,null,null,{"$f":"IF($A52>N$38,\"\",LARGE(IF(Statistics!$D$4:$D$963=N$4,IF(Statistics!$E$4:$E$963=N$5,Statistics!$B$4:$B$963,\"\"),\"\"),$A52))","v":"00:00:00"},null,null,null,{"$f":"IF($A52>R$38,\"\",LARGE(IF(Statistics!$D$4:$D$963=R$4,IF(Statistics!$E$4:$E$963=R$5,Statistics!$B$4:$B$963,\"\"),\"\"),$A52))","v":"00:00:00"},null,null,null,{"$f":"IF($A52>V$38,\"\",LARGE(IF(Statistics!$D$4:$D$963=V$4,IF(Statistics!$E$4:$E$963=V$5,Statistics!$B$4:$B$963,\"\"),\"\"),$A52))","v":"00:00:00"},null,null,null,{"$f":"IF($A52>Z$38,\"\",LARGE(IF(Statistics!$D$4:$D$963=Z$4,IF(Statistics!$E$4:$E$963=Z$5,Statistics!$B$4:$B$963,\"\"),\"\"),$A52))","v":"00:00:00"},null,null,null,{"$f":"IF($A52>AD$38,\"\",LARGE(IF(Statistics!$D$4:$D$963=AD$4,IF(Statistics!$E$4:$E$963=AD$5,Statistics!$B$4:$B$963,\"\"),\"\"),$A52))","v":"00:00:00"},null,null,null,{"$f":"IF($A52>AH$38,\"\",LARGE(IF(Statistics!$D$4:$D$963=AH$4,IF(Statistics!$E$4:$E$963=AH$5,Statistics!$B$4:$B$963,\"\"),\"\"),$A52))","v":"00:00:00"}]
[14,{"$f":"IF($A53>B$38,\"\",LARGE(IF(Statistics!$D$4:$D$963=B$4,IF(Statistics!$E$4:$E$963=B$5,Statistics!$B$4:$B$963,\"\"),\"\"),$A53))","v":""},null,null,null,{"$f":"IF($A53>F$38,\"\",LARGE(IF(Statistics!$D$4:$D$963=F$4,IF(Statistics!$E$4:$E$963=F$5,Statistics!$B$4:$B$963,\"\"),\"\"),$A53))","v":"00:00:00"},null,null,null,{"$f":"IF($A53>J$38,\"\",LARGE(IF(Statistics!$D$4:$D$963=J$4,IF(Statistics!$E$4:$E$963=J$5,Statistics!$B$4:$B$963,\"\"),\"\"),$A53))","v":"00:00:00"},null,null,null,{"$f":"IF($A53>N$38,\"\",LARGE(IF(Statistics!$D$4:$D$963=N$4,IF(Statistics!$E$4:$E$963=N$5,Statistics!$B$4:$B$963,\"\"),\"\"),$A53))","v":"00:00:00"},null,null,null,{"$f":"IF($A53>R$38,\"\",LARGE(IF(Statistics!$D$4:$D$963=R$4,IF(Statistics!$E$4:$E$963=R$5,Statistics!$B$4:$B$963,\"\"),\"\"),$A53))","v":"00:00:00"},null,null,null,{"$f":"IF($A53>V$38,\"\",LARGE(IF(Statistics!$D$4:$D$963=V$4,IF(Statistics!$E$4:$E$963=V$5,Statistics!$B$4:$B$963,\"\"),\"\"),$A53))","v":"00:00:00"},null,null,null,{"$f":"IF($A53>Z$38,\"\",LARGE(IF(Statistics!$D$4:$D$963=Z$4,IF(Statistics!$E$4:$E$963=Z$5,Statistics!$B$4:$B$963,\"\"),\"\"),$A53))","v":"00:00:00"},null,null,null,{"$f":"IF($A53>AD$38,\"\",LARGE(IF(Statistics!$D$4:$D$963=AD$4,IF(Statistics!$E$4:$E$963=AD$5,Statistics!$B$4:$B$963,\"\"),\"\"),$A53))","v":"00:00:00"},null,null,null,{"$f":"IF($A53>AH$38,\"\",LARGE(IF(Statistics!$D$4:$D$963=AH$4,IF(Statistics!$E$4:$E$963=AH$5,Statistics!$B$4:$B$963,\"\"),\"\"),$A53))","v":"00:00:00"}]
[15,{"$f":"IF($A54>B$38,\"\",LARGE(IF(Statistics!$D$4:$D$963=B$4,IF(Statistics!$E$4:$E$963=B$5,Statistics!$B$4:$B$963,\"\"),\"\"),$A54))","v":""},null,null,null,{"$f":"IF($A54>F$38,\"\",LARGE(IF(Statistics!$D$4:$D$963=F$4,IF(Statistics!$E$4:$E$963=F$5,Statistics!$B$4:$B$963,\"\"),\"\"),$A54))","v":"00:00:00"},null,null,null,{"$f":"IF($A54>J$38,\"\",LARGE(IF(Statistics!$D$4:$D$963=J$4,IF(Statistics!$E$4:$E$963=J$5,Statistics!$B$4:$B$963,\"\"),\"\"),$A54))","v":"00:00:00"},null,null,null,{"$f":"IF($A54>N$38,\"\",LARGE(IF(Statistics!$D$4:$D$963=N$4,IF(Statistics!$E$4:$E$963=N$5,Statistics!$B$4:$B$963,\"\"),\"\"),$A54))","v":"00:00:00"},null,null,null,{"$f":"IF($A54>R$38,\"\",LARGE(IF(Statistics!$D$4:$D$963=R$4,IF(Statistics!$E$4:$E$963=R$5,Statistics!$B$4:$B$963,\"\"),\"\"),$A54))","v":"00:00:00"},null,null,null,{"$f":"IF($A54>V$38,\"\",LARGE(IF(Statistics!$D$4:$D$963=V$4,IF(Statistics!$E$4:$E$963=V$5,Statistics!$B$4:$B$963,\"\"),\"\"),$A54))","v":"00:00:00"},null,null,null,{"$f":"IF($A54>Z$38,\"\",LARGE(IF(Statistics!$D$4:$D$963=Z$4,IF(Statistics!$E$4:$E$963=Z$5,Statistics!$B$4:$B$963,\"\"),\"\"),$A54))","v":"00:00:00"},null,null,null,{"$f":"IF($A54>AD$38,\"\",LARGE(IF(Statistics!$D$4:$D$963=AD$4,IF(Statistics!$E$4:$E$963=AD$5,Statistics!$B$4:$B$963,\"\"),\"\"),$A54))","v":"00:00:00"},null,null,null,{"$f":"IF($A54>AH$38,\"\",LARGE(IF(Statistics!$D$4:$D$963=AH$4,IF(Statistics!$E$4:$E$963=AH$5,Statistics!$B$4:$B$963,\"\"),\"\"),$A54))","v":"00:00:00"}]
[16,{"$f":"IF($A55>B$38,\"\",LARGE(IF(Statistics!$D$4:$D$963=B$4,IF(Statistics!$E$4:$E$963=B$5,Statistics!$B$4:$B$963,\"\"),\"\"),$A55))","v":""},null,null,null,{"$f":"IF($A55>F$38,\"\",LARGE(IF(Statistics!$D$4:$D$963=F$4,IF(Statistics!$E$4:$E$963=F$5,Statistics!$B$4:$B$963,\"\"),\"\"),$A55))","v":"00:00:00"},null,null,null,{"$f":"IF($A55>J$38,\"\",LARGE(IF(Statistics!$D$4:$D$963=J$4,IF(Statistics!$E$4:$E$963=J$5,Statistics!$B$4:$B$963,\"\"),\"\"),$A55))","v":"00:00:00"},null,null,null,{"$f":"IF($A55>N$38,\"\",LARGE(IF(Statistics!$D$4:$D$963=N$4,IF(Statistics!$E$4:$E$963=N$5,Statistics!$B$4:$B$963,\"\"),\"\"),$A55))","v":"00:00:00"},null,null,null,{"$f":"IF($A55>R$38,\"\",LARGE(IF(Statistics!$D$4:$D$963=R$4,IF(Statistics!$E$4:$E$963=R$5,Statistics!$B$4:$B$963,\"\"),\"\"),$A55))","v":"00:00:00"},null,null,null,{"$f":"IF($A55>V$38,\"\",LARGE(IF(Statistics!$D$4:$D$963=V$4,IF(Statistics!$E$4:$E$963=V$5,Statistics!$B$4:$B$963,\"\"),\"\"),$A55))","v":"00:00:00"},null,null,null,{"$f":"IF($A55>Z$38,\"\",LARGE(IF(Statistics!$D$4:$D$963=Z$4,IF(Statistics!$E$4:$E$963=Z$5,Statistics!$B$4:$B$963,\"\"),\"\"),$A55))","v":"00:00:00"},null,null,null,{"$f":"IF($A55>AD$38,\"\",LARGE(IF(Statistics!$D$4:$D$963=AD$4,IF(Statistics!$E$4:$E$963=AD$5,Statistics!$B$4:$B$963,\"\"),\"\"),$A55))","v":"00:00:00"},null,null,null,{"$f":"IF($A55>AH$38,\"\",LARGE(IF(Statistics!$D$4:$D$963=AH$4,IF(Statistics!$E$4:$E$963=AH$5,Statistics!$B$4:$B$963,\"\"),\"\"),$A55))","v":"00:00:00"}]
[17,{"$f":"IF($A56>B$38,\"\",LARGE(IF(Statistics!$D$4:$D$963=B$4,IF(Statistics!$E$4:$E$963=B$5,Statistics!$B$4:$B$963,\"\"),\"\"),$A56))","v":""},null,null,null,{"$f":"IF($A56>F$38,\"\",LARGE(IF(Statistics!$D$4:$D$963=F$4,IF(Statistics!$E$4:$E$963=F$5,Statistics!$B$4:$B$963,\"\"),\"\"),$A56))","v":"00:00:00"},null,null,null,{"$f":"IF($A56>J$38,\"\",LARGE(IF(Statistics!$D$4:$D$963=J$4,IF(Statistics!$E$4:$E$963=J$5,Statistics!$B$4:$B$963,\"\"),\"\"),$A56))","v":"00:00:00"},null,null,null,{"$f":"IF($A56>N$38,\"\",LARGE(IF(Statistics!$D$4:$D$963=N$4,IF(Statistics!$E$4:$E$963=N$5,Statistics!$B$4:$B$963,\"\"),\"\"),$A56))","v":"00:00:00"},null,null,null,{"$f":"IF($A56>R$38,\"\",LARGE(IF(Statistics!$D$4:$D$963=R$4,IF(Statistics!$E$4:$E$963=R$5,Statistics!$B$4:$B$963,\"\"),\"\"),$A56))","v":"00:00:00"},null,null,null,{"$f":"IF($A56>V$38,\"\",LARGE(IF(Statistics!$D$4:$D$963=V$4,IF(Statistics!$E$4:$E$963=V$5,Statistics!$B$4:$B$963,\"\"),\"\"),$A56))","v":"00:00:00"},null,null,null,{"$f":"IF($A56>Z$38,\"\",LARGE(IF(Statistics!$D$4:$D$963=Z$4,IF(Statistics!$E$4:$E$963=Z$5,Statistics!$B$4:$B$963,\"\"),\"\"),$A56))","v":"00:00:00"},null,null,null,{"$f":"IF($A56>AD$38,\"\",LARGE(IF(Statistics!$D$4:$D$963=AD$4,IF(Statistics!$E$4:$E$963=AD$5,Statistics!$B$4:$B$963,\"\"),\"\"),$A56))","v":"00:00:00"},null,null,null,{"$f":"IF($A56>AH$38,\"\",LARGE(IF(Statistics!$D$4:$D$963=AH$4,IF(Statistics!$E$4:$E$963=AH$5,Statistics!$B$4:$B$963,\"\"),\"\"),$A56))","v":"00:00:00"}]
[18,{"$f":"IF($A57>B$38,\"\",LARGE(IF(Statistics!$D$4:$D$963=B$4,IF(Statistics!$E$4:$E$963=B$5,Statistics!$B$4:$B$963,\"\"),\"\"),$A57))","v":""},null,null,null,{"$f":"IF($A57>F$38,\"\",LARGE(IF(Statistics!$D$4:$D$963=F$4,IF(Statistics!$E$4:$E$963=F$5,Statistics!$B$4:$B$963,\"\"),\"\"),$A57))","v":"00:00:00"},null,null,null,{"$f":"IF($A57>J$38,\"\",LARGE(IF(Statistics!$D$4:$D$963=J$4,IF(Statistics!$E$4:$E$963=J$5,Statistics!$B$4:$B$963,\"\"),\"\"),$A57))","v":"00:00:00"},null,null,null,{"$f":"IF($A57>N$38,\"\",LARGE(IF(Statistics!$D$4:$D$963=N$4,IF(Statistics!$E$4:$E$963=N$5,Statistics!$B$4:$B$963,\"\"),\"\"),$A57))","v":"00:00:00"},null,null,null,{"$f":"IF($A57>R$38,\"\",LARGE(IF(Statistics!$D$4:$D$963=R$4,IF(Statistics!$E$4:$E$963=R$5,Statistics!$B$4:$B$963,\"\"),\"\"),$A57))","v":"00:00:00"},null,null,null,{"$f":"IF($A57>V$38,\"\",LARGE(IF(Statistics!$D$4:$D$963=V$4,IF(Statistics!$E$4:$E$963=V$5,Statistics!$B$4:$B$963,\"\"),\"\"),$A57))","v":"00:00:00"},null,null,null,{"$f":"IF($A57>Z$38,\"\",LARGE(IF(Statistics!$D$4:$D$963=Z$4,IF(Statistics!$E$4:$E$963=Z$5,Statistics!$B$4:$B$963,\"\"),\"\"),$A57))","v":"00:00:00"},null,null,null,{"$f":"IF($A57>AD$38,\"\",LARGE(IF(Statistics!$D$4:$D$963=AD$4,IF(Statistics!$E$4:$E$963=AD$5,Statistics!$B$4:$B$963,\"\"),\"\"),$A57))","v":"00:00:00"},null,null,null,{"$f":"IF($A57>AH$38,\"\",LARGE(IF(Statistics!$D$4:$D$963=AH$4,IF(Statistics!$E$4:$E$963=AH$5,Statistics!$B$4:$B$963,\"\"),\"\"),$A57))","v":"00:00:00"}]
[19,{"$f":"IF($A58>B$38,\"\",LARGE(IF(Statistics!$D$4:$D$963=B$4,IF(Statistics!$E$4:$E$963=B$5,Statistics!$B$4:$B$963,\"\"),\"\"),$A58))","v":""},null,null,null,{"$f":"IF($A58>F$38,\"\",LARGE(IF(Statistics!$D$4:$D$963=F$4,IF(Statistics!$E$4:$E$963=F$5,Statistics!$B$4:$B$963,\"\"),\"\"),$A58))","v":"00:00:00"},null,null,null,{"$f":"IF($A58>J$38,\"\",LARGE(IF(Statistics!$D$4:$D$963=J$4,IF(Statistics!$E$4:$E$963=J$5,Statistics!$B$4:$B$963,\"\"),\"\"),$A58))","v":"00:00:00"},null,null,null,{"$f":"IF($A58>N$38,\"\",LARGE(IF(Statistics!$D$4:$D$963=N$4,IF(Statistics!$E$4:$E$963=N$5,Statistics!$B$4:$B$963,\"\"),\"\"),$A58))","v":"00:00:00"},null,null,null,{"$f":"IF($A58>R$38,\"\",LARGE(IF(Statistics!$D$4:$D$963=R$4,IF(Statistics!$E$4:$E$963=R$5,Statistics!$B$4:$B$963,\"\"),\"\"),$A58))","v":"00:00:00"},null,null,null,{"$f":"IF($A58>V$38,\"\",LARGE(IF(Statistics!$D$4:$D$963=V$4,IF(Statistics!$E$4:$E$963=V$5,Statistics!$B$4:$B$963,\"\"),\"\"),$A58))","v":"00:00:00"},null,null,null,{"$f":"IF($A58>Z$38,\"\",LARGE(IF(Statistics!$D$4:$D$963=Z$4,IF(Statistics!$E$4:$E$963=Z$5,Statistics!$B$4:$B$963,\"\"),\"\"),$A58))","v":"00:00:00"},null,null,null,{"$f":"IF($A58>AD$38,\"\",LARGE(IF(Statistics!$D$4:$D$963=AD$4,IF(Statistics!$E$4:$E$963=AD$5,Statistics!$B$4:$B$963,\"\"),\"\"),$A58))","v":"00:00:00"},null,null,null,{"$f":"IF($A58>AH$38,\"\",LARGE(IF(Statistics!$D$4:$D$963=AH$4,IF(Statistics!$E$4:$E$963=AH$5,Statistics!$B$4:$B$963,\"\"),\"\"),$A58))","v":"00:00:00"}]
[20,{"$f":"IF($A59>B$38,\"\",MAX(IF(Statistics!$D$4:$D$963=B$4,IF(Statistics!$E$4:$E$963=B$5,Statistics!$B$4:$B$963,\"\"),\"\")))","v":""},null,null,null,{"$f":"IF($A59>F$38,\"\",LARGE(IF(Statistics!$D$4:$D$963=F$4,IF(Statistics!$E$4:$E$963=F$5,Statistics!$B$4:$B$963,\"\"),\"\"),$A59))","v":"00:00:00"},null,null,null,{"$f":"IF($A59>J$38,\"\",LARGE(IF(Statistics!$D$4:$D$963=J$4,IF(Statistics!$E$4:$E$963=J$5,Statistics!$B$4:$B$963,\"\"),\"\"),$A59))","v":"00:00:00"},null,null,null,{"$f":"IF($A59>N$38,\"\",LARGE(IF(Statistics!$D$4:$D$963=N$4,IF(Statistics!$E$4:$E$963=N$5,Statistics!$B$4:$B$963,\"\"),\"\"),$A59))","v":"00:00:00"},null,null,null,{"$f":"IF($A59>R$38,\"\",LARGE(IF(Statistics!$D$4:$D$963=R$4,IF(Statistics!$E$4:$E$963=R$5,Statistics!$B$4:$B$963,\"\"),\"\"),$A59))","v":"00:00:00"},null,null,null,{"$f":"IF($A59>V$38,\"\",LARGE(IF(Statistics!$D$4:$D$963=V$4,IF(Statistics!$E$4:$E$963=V$5,Statistics!$B$4:$B$963,\"\"),\"\"),$A59))","v":"00:00:00"},null,null,null,{"$f":"IF($A59>Z$38,\"\",LARGE(IF(Statistics!$D$4:$D$963=Z$4,IF(Statistics!$E$4:$E$963=Z$5,Statistics!$B$4:$B$963,\"\"),\"\"),$A59))","v":"00:00:00"},null,null,null,{"$f":"IF($A59>AD$38,\"\",LARGE(IF(Statistics!$D$4:$D$963=AD$4,IF(Statistics!$E$4:$E$963=AD$5,Statistics!$B$4:$B$963,\"\"),\"\"),$A59))","v":"00:00:00"},null,null,null,{"$f":"IF($A59>AH$38,\"\",LARGE(IF(Statistics!$D$4:$D$963=AH$4,IF(Statistics!$E$4:$E$963=AH$5,Statistics!$B$4:$B$963,\"\"),\"\"),$A59))","v":"00:00:00"}]

{"sheet":"RP TSD","index":31,"n_rows":30,"n_cols":12,"rows_kept":30,"cut":false,"hidden":true,"merged":[[2,0,5,1],[29,0,31,1],[23,0,27,1],[23,2,24,2],[25,2,26,2],[7,0,7,1],[9,0,11,1],[13,0,16,1],[18,0,21,1]]}
["Confidence Level",95,null,{"$f":"IF(ISTEXT('RP Data'!B4),'RP Data'!B4,\"\")","v":"Ceriodaphnia dubia (water flea)"},{"$f":"IF(ISTEXT('RP Data'!F4),'RP Data'!F4,\"\")","v":""},{"$f":"IF(ISTEXT('RP Data'!J4),'RP Data'!J4,\"\")","v":""},{"$f":"IF(ISTEXT('RP Data'!N4),'RP Data'!N4,\"\")","v":""},{"$f":"IF(ISTEXT('RP Data'!R4),'RP Data'!R4,\"\")","v":""},{"$f":"IF(ISTEXT('RP Data'!V4),'RP Data'!V4,\"\")","v":""},{"$f":"IF(ISTEXT('RP Data'!Z4),'RP Data'!Z4,\"\")","v":""},{"$f":"IF(ISTEXT('RP Data'!AD4),'RP Data'!AD4,\"\")","v":""},{"$f":"IF(ISTEXT('RP Data'!AH4),'RP Data'!AH4,\"\")","v":""}]
[null,null,null,{"$f":"IF(ISTEXT('RP Data'!B5),'RP Data'!B5,\"\")","v":"Acute Survival"},{"$f":"IF(ISTEXT('RP Data'!F5),'RP Data'!F5,\"\")","v":""},{"$f":"IF(ISTEXT('RP Data'!J5),'RP Data'!J5,\"\")","v":""},{"$f":"IF(ISTEXT('RP Data'!N5),'RP Data'!N5,\"\")","v":""},{"$f":"IF(ISTEXT('RP Data'!R5),'RP Data'!R5,\"\")","v":""},{"$f":"IF(ISTEXT('RP Data'!V5),'RP Data'!V5,\"\")","v":""},{"$f":"IF(ISTEXT('RP Data'!Z5),'RP Data'!Z5,\"\")","v":""},{"$f":"IF(ISTEXT('RP Data'!AD5),'RP Data'!AD5,\"\")","v":""},{"$f":"IF(ISTEXT('RP Data'!AH5),'RP Data'!AH5,\"\")","v":""}]
["Step 1: Calculate the CV of the TU\nTo calculate a CV divide the standard deviation by the mean. A CV is only calculated when there are 10 or more data points.  Otherwise, the CV=0.6.",null,"Mean TU",{"$f":"IF(ISNUMBER('RP Data'!C26),'RP Data'!C26,\"\")","v":""},{"$f":"IF(ISNUMBER('RP Data'!G26),'RP Data'!G26,\"\")","v":""},{"$f":"IF(ISNUMBER('RP Data'!K26),'RP Data'!K26,\"\")","v":""},{"$f":"IF(ISNUMBER('RP Data'!O26),'RP Data'!O26,\"\")","v":""},{"$f":"IF(ISNUMBER('RP Data'!S26),'RP Data'!S26,\"\")","v":""},{"$f":"IF(ISNUMBER('RP Data'!W26),'RP Data'!W26,\"\")","v":""},{"$f":"IF(ISNUMBER('RP Data'!AA26),'RP Data'!AA26,\"\")","v":""},{"$f":"IF(ISNUMBER('RP Data'!AE26),'RP Data'!AE26,\"\")","v":""},{"$f":"IF(ISNUMBER('RP Data'!AI26),'RP Data'!AI26,\"\")","v":""}]
[null,null,"TU Stdev",{"$f":"IF(ISNUMBER('RP Data'!C27),'RP Data'!C27,\"\")","v":""},{"$f":"IF(ISNUMBER('RP Data'!G27),'RP Data'!G27,\"\")","v":""},{"$f":"IF(ISNUMBER('RP Data'!K27),'RP Data'!K27,\"\")","v":""},{"$f":"IF(ISNUMBER('RP Data'!O27),'RP Data'!O27,\"\")","v":""},{"$f":"IF(ISNUMBER('RP Data'!S27),'RP Data'!S27,\"\")","v":""},{"$f":"IF(ISNUMBER('RP Data'!W27),'RP Data'!W27,\"\")","v":""},{"$f":"IF(ISNUMBER('RP Data'!AA27),'RP Data'!AA27,\"\")","v":""},{"$f":"IF(ISNUMBER('RP Data'!AE27),'RP Data'!AE27,\"\")","v":""},{"$f":"IF(ISNUMBER('RP Data'!AI27),'RP Data'!AI27,\"\")","v":""}]
[null,null,"N",{"$f":"IF(ISNUMBER('RP Data'!C28),'RP Data'!C28,\"\")","v":""},{"$f":"IF(ISNUMBER('RP Data'!G28),'RP Data'!G28,\"\")","v":""},{"$f":"IF(ISNUMBER('RP Data'!K28),'RP Data'!K28,\"\")","v":""},{"$f":"IF(ISNUMBER('RP Data'!O28),'RP Data'!O28,\"\")","v":""},{"$f":"IF(ISNUMBER('RP Data'!S28),'RP Data'!S28,\"\")","v":""},{"$f":"IF(ISNUMBER('RP Data'!W28),'RP Data'!W28,\"\")","v":""},{"$f":"IF(ISNUMBER('RP Data'!AA28),'RP Data'!AA28,\"\")","v":""},{"$f":"IF(ISNUMBER('RP Data'!AE28),'RP Data'!AE28,\"\")","v":""},{"$f":"IF(ISNUMBER('RP Data'!AI28),'RP Data'!AI28,\"\")","v":""}]
[null,null,"CV",{"$f":"IF(ISNUMBER('RP Data'!C29),ROUND('RP Data'!C29,1),\"\")","v":""},{"$f":"IF(ISNUMBER('RP Data'!G29),ROUND('RP Data'!G29,1),\"\")","v":""},{"$f":"IF(ISNUMBER('RP Data'!K29),ROUND('RP Data'!K29,1),\"\")","v":""},{"$f":"IF(ISNUMBER('RP Data'!O29),ROUND('RP Data'!O29,1),\"\")","v":""},{"$f":"IF(ISNUMBER('RP Data'!S29),ROUND('RP Data'!S29,1),\"\")","v":""},{"$f":"IF(ISNUMBER('RP Data'!W29),ROUND('RP Data'!W29,1),\"\")","v":""},{"$f":"IF(ISNUMBER('RP Data'!AA29),ROUND('RP Data'!AA29,1),\"\")","v":""},{"$f":"IF(ISNUMBER('RP Data'!AE29),ROUND('RP Data'!AE29,1),\"\")","v":""},{"$f":"IF(ISNUMBER('RP Data'!AI29),ROUND('RP Data'!AI29,1),\"\")","v":""}]
[]
["Step 2: Identify the Max TU",null,"Max TU",{"$f":"IF(ISNUMBER('RP Data'!C30),'RP Data'!C30,\"\")","v":""},{"$f":"IF(ISNUMBER('RP Data'!G30),'RP Data'!G30,\"\")","v":""},{"$f":"IF(ISNUMBER('RP Data'!K30),'RP Data'!K30,\"\")","v":""},{"$f":"IF(ISNUMBER('RP Data'!O30),'RP Data'!O30,\"\")","v":""},{"$f":"IF(ISNUMBER('RP Data'!S30),'RP Data'!S30,\"\")","v":""},{"$f":"IF(ISNUMBER('RP Data'!W30),'RP Data'!W30,\"\")","v":""},{"$f":"IF(ISNUMBER('RP Data'!AA30),'RP Data'!AA30,\"\")","v":""},{"$f":"IF(ISNUMBER('RP Data'!AE30),'RP Data'!AE30,\"\")","v":""},{"$f":"IF(ISNUMBER('RP Data'!AI30),'RP Data'!AI30,\"\")","v":""}]
[]
["Step 3: Identify the RPMF\nThis value comes from TSD Page 54 - using calculated CV and n (number of samples).",null,"RPMF",{"$f":"IF(OR(D1=\"\",ISBLANK($B$1)),\"\",IF($B$1=99,(INDEX(RPMF!$A$3:$U$23,MATCH(D5,RPMF!$A$3:$A$23,0),MATCH(ROUND(D6,1),RPMF!$A$3:$U$3,0))),IF($B$1=95,(INDEX(RPMF!$A$27:$U$47,MATCH(D5,RPMF!$A$27:$A$47,0),MATCH(ROUND(D6,1),RPMF!$A$27:$U$27,0))))))","v":{"$error":"#N/A"}},{"$f":"IF(OR(E1=\"\",ISBLANK($B$1)),\"\",IF($B$1=99,(INDEX(RPMF!$A$3:$U$23,MATCH(E5,RPMF!$A$3:$A$23,0),MATCH(ROUND(E6,1),RPMF!$A$3:$U$23,0))),IF($B$1=95,(INDEX(RPMF!$A$27:$U$47,MATCH(E5,RPMF!$A$27:$A$47,0),MATCH(ROUND(E6,1),RPMF!$A$27:$U$47,0))))))","v":""},{"$f":"IF(OR(F1=\"\",ISBLANK($B$1)),\"\",IF($B$1=99,(INDEX(RPMF!$A$3:$U$23,MATCH(F5,RPMF!$A$3:$A$23,0),MATCH(ROUND(F6,1),RPMF!$A$3:$U$23,0))),IF($B$1=95,(INDEX(RPMF!$A$27:$U$47,MATCH(F5,RPMF!$A$27:$A$47,0),MATCH(ROUND(F6,1),RPMF!$A$27:$U$47,0))))))","v":""},{"$f":"IF(OR(G1=\"\",ISBLANK($B$1)),\"\",IF($B$1=99,(INDEX(RPMF!$A$3:$U$23,MATCH(G5,RPMF!$A$3:$A$23,0),MATCH(ROUND(G6,1),RPMF!$A$3:$U$23,0))),IF($B$1=95,(INDEX(RPMF!$A$27:$U$47,MATCH(G5,RPMF!$A$27:$A$47,0),MATCH(ROUND(G6,1),RPMF!$A$27:$U$47,0))))))","v":""},{"$f":"IF(OR(H1=\"\",ISBLANK($B$1)),\"\",IF($B$1=99,(INDEX(RPMF!$A$3:$U$23,MATCH(H5,RPMF!$A$3:$A$23,0),MATCH(ROUND(H6,1),RPMF!$A$3:$U$23,0))),IF($B$1=95,(INDEX(RPMF!$A$27:$U$47,MATCH(H5,RPMF!$A$27:$A$47,0),MATCH(ROUND(H6,1),RPMF!$A$27:$U$47,0))))))","v":""},{"$f":"IF(OR(I1=\"\",ISBLANK($B$1)),\"\",IF($B$1=99,(INDEX(RPMF!$A$3:$U$23,MATCH(I5,RPMF!$A$3:$A$23,0),MATCH(ROUND(I6,1),RPMF!$A$3:$U$23,0))),IF($B$1=95,(INDEX(RPMF!$A$27:$U$47,MATCH(I5,RPMF!$A$27:$A$47,0),MATCH(ROUND(I6,1),RPMF!$A$27:$U$47,0))))))","v":""},{"$f":"IF(OR(J1=\"\",ISBLANK($B$1)),\"\",IF($B$1=99,(INDEX(RPMF!$A$3:$U$23,MATCH(J5,RPMF!$A$3:$A$23,0),MATCH(ROUND(J6,1),RPMF!$A$3:$U$23,0))),IF($B$1=95,(INDEX(RPMF!$A$27:$U$47,MATCH(J5,RPMF!$A$27:$A$47,0),MATCH(ROUND(J6,1),RPMF!$A$27:$U$47,0))))))","v":""},{"$f":"IF(OR(K1=\"\",ISBLANK($B$1)),\"\",IF($B$1=99,(INDEX(RPMF!$A$3:$U$23,MATCH(K5,RPMF!$A$3:$A$23,0),MATCH(ROUND(K6,1),RPMF!$A$3:$U$23,0))),IF($B$1=95,(INDEX(RPMF!$A$27:$U$47,MATCH(K5,RPMF!$A$27:$A$47,0),MATCH(ROUND(K6,1),RPMF!$A$27:$U$47,0))))))","v":""},{"$f":"IF(OR(L1=\"\",ISBLANK($B$1)),\"\",IF($B$1=99,(INDEX(RPMF!$A$3:$U$23,MATCH(L5,RPMF!$A$3:$A$23,0),MATCH(ROUND(L6,1),RPMF!$A$3:$U$23,0))),IF($B$1=95,(INDEX(RPMF!$A$27:$U$47,MATCH(L5,RPMF!$A$27:$A$47,0),MATCH(ROUND(L6,1),RPMF!$A$27:$U$47,0))))))","v":""}]
[]
[]
[]
["Step 4: Calculate the Chronic and Acute Max Values\nThe chronic max value is the RPMF multiplied by the Max TU.\nIf no acute tests have been run for a given species, then the acute max value is the chronic max value divided by 10.",null,"Acute Test for Species?",{"$f":"IF(SUMPRODUCT(($D$1:$L$1=D1)*($D$2:$L$2=\"Acute Survival\")*1)>0,\"Yes\",\"\")","v":"Yes"},"","","","","","","",""]
[null,null,"Chronic Max",{"$f":"IF(OR(D2=\"Acute Survival\",ISBLANK($B$1),D10=\"\"),\"\",D8*D10)","v":{"$error":"#N/A"}},{"$f":"IF(OR(E2=\"Acute Survival\",ISBLANK($B$1),E10=\"\"),\"\",E8*E10)","v":""},"","","","","","",""]
[null,null,"Acute Max",{"$f":"IF(AND(D14=\"Yes\",D2=\"Acute Survival\",ISNUMBER($B$1)),D8*D10,IF(D14=\"Yes\",\"\",IF(AND(D14=\"\",ISNUMBER($B$1),ISNUMBER(D10)),D15/10,\"\")))","v":{"$error":"#VALUE!"}},{"$f":"IF(AND(E14=\"Yes\",E2=\"Acute Survival\",ISNUMBER($B$1)),E8*E10,IF(E14=\"Yes\",\"\",IF(AND(E14=\"\",ISNUMBER($B$1),ISNUMBER(E10)),E15/10,\"\")))","v":""},"","","","","","",""]
[]
[]
["Step 5: Calculate the Critical Effluent Value\nThis is determined by dividing 100 by the IWC. If the cell is blank and highlighted red for a given species/test type, then some IWC values are blank or vary on the \"Statistics\" tab.",null,"Critical Effluent Value",{"$f":"IF(ISNUMBER('RP Data'!D31),100/'RP Data'!D31,\"\")","v":""},{"$f":"IF(ISNUMBER('RP Data'!H31),100/'RP Data'!H31,\"\")","v":""},{"$f":"IF(ISNUMBER('RP Data'!L31),100/'RP Data'!L31,\"\")","v":""},{"$f":"IF(ISNUMBER('RP Data'!P31),100/'RP Data'!P31,\"\")","v":""},{"$f":"IF(ISNUMBER('RP Data'!T31),100/'RP Data'!T31,\"\")","v":""},{"$f":"IF(ISNUMBER('RP Data'!X31),100/'RP Data'!X31,\"\")","v":""},{"$f":"IF(ISNUMBER('RP Data'!AB31),100/'RP Data'!AB31,\"\")","v":""},{"$f":"IF(ISNUMBER('RP Data'!AF31),100/'RP Data'!AF31,\"\")","v":""},{"$f":"IF(ISNUMBER('RP Data'!AJ31),100/'RP Data'!AJ31,\"\")","v":""}]
[null,null,null,{"$f":"IF(D19=\"\",1,\"\")","v":1},{"$f":"IF(E19=\"\",1,\"\")","v":1},{"$f":"IF(F19=\"\",1,\"\")","v":1},{"$f":"IF(G19=\"\",1,\"\")","v":1},1,1,1,1,1]
[]
[]
[]
["Step 6: Determine RP\nChronic RP is calculated by dividing the chronic max value by the critical effluent value (there is RP if the value is ≥ 1).\nAcute RP is calculated by dividing the acute max value by 1 because there is no effluent dilution allowed (there is RP if the value is ≥ 0.3).",null,"Chronic RP",{"$f":"IF(ISNUMBER(D15),D15/$D$19,\"\")","v":""},{"$f":"IF(ISNUMBER(E15),E15/$D$19,\"\")","v":""},"","","","","","",""]
[null,null,null,{"$f":"IF(AND(ISNUMBER(D24),D24>=1),\"Yes\",IF(AND(ISNUMBER(D24),D24<1),\"No\",\"\"))","v":""},{"$f":"IF(AND(ISNUMBER(E24),E24>=1),\"Yes\",IF(AND(ISNUMBER(E24),E24<1),\"No\",\"\"))","v":""},"","","","","","",""]
[null,null,"Acute RP",{"$f":"IF(ISNUMBER(D16),D16/1,\"\")","v":""},"","","","","","","",""]
[null,null,null,{"$f":"IF(AND(ISNUMBER(D26),D26>=0.3),\"Yes\",IF(AND(ISNUMBER(D26),D26<0.3),\"No\",\"\"))","v":""},{"$f":"IF(AND(ISNUMBER(E26),E26>=0.3),\"Yes\",IF(AND(ISNUMBER(E26),E26<0.3),\"No\",\"\"))","v":""},"","","","","","",""]
[null,null,null,1,2,3,4,5,6,7,8,9]
[]
["Note - The user must choose the confidence level from the yellow drop-down menu at the top of the page for the calculation to proceed."]

{"sheet":"RP TST","index":32,"n_rows":7,"n_cols":13,"rows_kept":7,"cut":false,"hidden":true,"merged":[[0,0,2,1]]}
["If any test has greater than a relative 10% effect at the IWC, then there is reasonable potential.",null,null,null,{"$f":"IF(ISTEXT('RP Data'!B4),'RP Data'!B4,\"\")","v":"Ceriodaphnia dubia (water flea)"},{"$f":"IF(ISTEXT('RP Data'!F4),'RP Data'!F4,\"\")","v":""},{"$f":"IF(ISTEXT('RP Data'!J4),'RP Data'!J4,\"\")","v":""},{"$f":"IF(ISTEXT('RP Data'!N4),'RP Data'!N4,\"\")","v":""},{"$f":"IF(ISTEXT('RP Data'!R4),'RP Data'!R4,\"\")","v":""},{"$f":"IF(ISTEXT('RP Data'!V4),'RP Data'!V4,\"\")","v":""},{"$f":"IF(ISTEXT('RP Data'!Z4),'RP Data'!Z4,\"\")","v":""},{"$f":"IF(ISTEXT('RP Data'!AD4),'RP Data'!AD4,\"\")","v":""},{"$f":"IF(ISTEXT('RP Data'!AH4),'RP Data'!AH4,\"\")","v":""}]
[null,null,null,null,{"$f":"IF(ISTEXT('RP Data'!B5),'RP Data'!B5,\"\")","v":"Acute Survival"},{"$f":"IF(ISTEXT('RP Data'!F5),'RP Data'!F5,\"\")","v":""},{"$f":"IF(ISTEXT('RP Data'!J5),'RP Data'!J5,\"\")","v":""},{"$f":"IF(ISTEXT('RP Data'!N5),'RP Data'!N5,\"\")","v":""},{"$f":"IF(ISTEXT('RP Data'!R5),'RP Data'!R5,\"\")","v":""},{"$f":"IF(ISTEXT('RP Data'!V5),'RP Data'!V5,\"\")","v":""},{"$f":"IF(ISTEXT('RP Data'!Z5),'RP Data'!Z5,\"\")","v":""},{"$f":"IF(ISTEXT('RP Data'!AD5),'RP Data'!AD5,\"\")","v":""},{"$f":"IF(ISTEXT('RP Data'!AH5),'RP Data'!AH5,\"\")","v":""}]
[null,null,null,"Maximum Relative % at IWC",{"$f":"IF(E7=\"No\",\"\",IF(ISNUMBER('RP Data'!E32),'RP Data'!E32,\"\"))","v":""},{"$f":"IF(F6=\"No\",\"\",IF(ISNUMBER('RP Data'!I32),'RP Data'!I32,\"\"))","v":""},{"$f":"IF(G7=\"No\",\"\",IF(ISNUMBER('RP Data'!M32),'RP Data'!M32,\"\"))","v":""},{"$f":"IF(H7=\"No\",\"\",IF(ISNUMBER('RP Data'!Q32),'RP Data'!Q32,\"\"))","v":""},{"$f":"IF(I7=\"No\",\"\",IF(ISNUMBER('RP Data'!U32),'RP Data'!U32,\"\"))","v":""},{"$f":"IF(J7=\"No\",\"\",IF(ISNUMBER('RP Data'!Y32),'RP Data'!Y32,\"\"))","v":""},{"$f":"IF(K7=\"No\",\"\",IF(ISNUMBER('RP Data'!AC32),'RP Data'!AC32,\"\"))","v":""},{"$f":"IF(L7=\"No\",\"\",IF(ISNUMBER('RP Data'!AG32),'RP Data'!AG32,\"\"))","v":""},{"$f":"IF(M7=\"No\",\"\",IF(ISNUMBER('RP Data'!AK32),'RP Data'!AK32,\"\"))","v":""}]
[null,null,null,"Reasonable Potential",{"$f":"IF(AND(E7<>\"\",E7=\"No\"),\"\",IF(AND(ISNUMBER(E3),E3>10),\"Yes\",IF(AND(ISNUMBER(E3),E3<=10),\"No\",\"\")))","v":""},{"$f":"IF(AND(F7<>\"\",F7=\"No\"),\"\",IF(AND(ISNUMBER(F3),F3>10),\"Yes\",IF(AND(ISNUMBER(F3),F3<=10),\"No\",\"\")))","v":""},"","","","","","",""]
[null,null,null,null,{"$f":"IF(E7=\"Yes\",\"\",IF(E1=\"\",\"\",\"Minimum criteria for RP not present.\"))","v":"Minimum criteria for RP not present."},{"$f":"IF(F7=\"Yes\",\"\",IF(F1=\"\",\"\",\"Minimum criteria for RP not present.\"))","v":""},"","","","","","",""]
[]
[null,null,null,"RP Valid",{"$f":"'RP Data'!E33","v":"No"},{"$f":"'RP Data'!I33","v":"No"},{"$f":"'RP Data'!M33","v":"No"},{"$f":"'RP Data'!Q33","v":"No"},{"$f":"'RP Data'!U33","v":"No"},{"$f":"'RP Data'!Y33","v":"No"},{"$f":"'RP Data'!AC33","v":"No"},{"$f":"'RP Data'!AG33","v":"No"},{"$f":"'RP Data'!AK33","v":"No"}]

{"sheet":"Limit Development","index":33,"n_rows":26,"n_cols":8,"rows_kept":26,"cut":false,"hidden":true,"merged":[[1,7,4,11]]}
[null,"Aquatic Life Criteria (TU)","Upstream Background Concentration","Effluent Flow (cfs)","Upstream Flow ( 1Q10 - acute, 7Q10 - chronic) (cfs)","Downstream Flow (cfs)"]
["Acute",0.3,0,null,null,{"$f":"IF(ISNUMBER(D2),SUM(D2:E2),\"\")","v":""},null,"Note - The user must enter flow values in the green cells and choose the confidence levels/sample size from the yellow drop-down menus for the limits to calculate."]
["Chronic",1,0,null,null,{"$f":"IF(ISNUMBER(D3),SUM(D3:E3),\"\")","v":""}]
[]
["Acute Waste Load Allocation ",null,null,{"$f":"IF(AND(ISNUMBER(D2),ISNUMBER(E2)),((F2*B2)-(E2*C2))/D2,\"\")","v":""}]
["Acute:Chronic Waste Load Allocation",null,null,{"$f":"IF(ISNUMBER(D5),10*D5,\"\")","v":""}]
["Chronic Waste Load Allocation",null,null,{"$f":"IF(AND(ISNUMBER(D3),ISNUMBER(E3)),((F3*B3)-(E3*C3))/D3,\"\")","v":""}]
[]
["Long Term Average Confidence Level"]
["CV",null,null,{"$f":"IF(ISNUMBER(D9),INDEX('RP TSD'!$D$6:$L$6,1,MATCH(F10,'RP TSD'!$D$8:$L$8,0)),\"\")","v":""},"Max TU",{"$f":"MAX('RP TSD'!D8:L8)","v":0}]
["Acute Multiplier",null,null,{"$f":"IF(ISBLANK(D9),\"\",INDEX('WLA Multipliers'!$A$3:$C$23,MATCH(D10,'WLA Multipliers'!A3:A23,0),MATCH(D9,'WLA Multipliers'!A3:C3,0)))","v":""}]
["Chronic Multiplier",null,null,{"$f":"IF(ISBLANK(D9),\"\",INDEX('WLA Multipliers'!E3:G23,MATCH(D10,'WLA Multipliers'!E3:E23,0),MATCH(D9,'WLA Multipliers'!E3:G3,0)))","v":""}]
[]
["Acute:Chronic Long Term Average",null,null,{"$f":"IF(AND(ISNUMBER(D6),ISNUMBER($D$9)),D6*D11,\"\")","v":""}]
["Chronic Long Term Average",null,null,{"$f":"IF(AND(ISNUMBER(D7),ISNUMBER($D$9)),D7*D12,\"\")","v":""}]
[]
["More Limiting Long Term Average",null,null,{"$f":"IF(AND(ISNUMBER(D14),ISNUMBER(D15)),MIN(D14:D15),\"\")","v":""}]
[]
["Maximum Daily Limit Confidence Interval"]
["Maximum Daily Limit Multiplier",null,null,{"$f":"IF(OR(ISBLANK(D19),ISBLANK(D10)),\"\",INDEX('LTA Multipliers'!A3:C23,MATCH(D10,'LTA Multipliers'!A3:A23,0),MATCH(D19,'LTA Multipliers'!A3:C3,0)))","v":""}]
["Average Monthly Limit Confidence Interval"]
["Average Monthly Limit Sample Size"]
["Average Monthly Limit Multiplier",null,null,{"$f":"IF(OR(ISBLANK(D21),ISBLANK(D22),ISBLANK(D10)),\"\",IF(D21=95,INDEX('LTA Multipliers'!E3:J23,MATCH(D10,'LTA Multipliers'!E3:E23,0),MATCH(D22,'LTA Multipliers'!E3:J3)),IF(D21=99,INDEX('LTA Multipliers'!L3:Q23,MATCH(D10,'LTA Multipliers'!L3:L23,0),MATCH(D22,'LTA Multipliers'!L3:Q3,0)),\"\")))","v":""}]
[]
["Maximum Daily Limit",null,null,{"$f":"IF(AND(ISNUMBER($D$17),ISNUMBER(D20)),$D$17*D20,\"\")","v":""}]
["Average Monthly Limit",null,null,{"$f":"IF(AND(ISNUMBER($D$17),ISNUMBER(D23)),$D$17*D23,\"\")","v":""}]

{"sheet":"RPMF","index":34,"n_rows":47,"n_cols":23,"rows_kept":47,"cut":false,"hidden":true,"merged":[[25,1,25,20],[24,0,24,20],[0,0,0,20],[1,1,1,20]]}
["Table 3-1. 99% Confidence Level and 99% Probability Basis",null,null,null,null,null,null,null,null,null,null,null,null,null,null,null,null,null,null,null,null,null,"TSD, 1991, pg. 54"]
[null,"Coefficient of Variation"]
["N",0.1,0.2,0.3,0.4,0.5,0.6,0.7,0.8,0.9,1,1.1000000000000001,1.2,1.3,1.4,1.5,1.6,1.7,1.8,1.9,2]
[1,1.6,3.5,3.9,6,0,13.2,18.899999999999999,26.5,36.200000000000003,48.3,63.3,81.400000000000006,102.8,128,157.1,190.3,227.8,269.89999999999998,316.7,368.3]
[2,1.4,2,2.9,4,5.5,7.4,9.8000000000000007,12.7,16.100000000000001,20.2,24.9,30.3,36.299999999999997,43,50.4,58.4,67.2,76.599999999999994,86.7,97.5]
[3,1.4,1.9,2.5,3.3,4.4000000000000004,5.6,7.2,8.9,11,13.4,16,19,22.2,25.7,29.4,33.5,37.700000000000003,42.3,47,52]
[4,1.3,1.7,2.2999999999999998,2.9,3.8,4.7,5.9,7.2,8.6999999999999993,10.3,12.2,14.2,16.3,18.600000000000001,21,23.6,26.3,29.1,32.1,35.1]
[5,1.3,1.7,2.1,2.7,3.4,4.2,5.0999999999999996,6.2,7.3,8.6,10,11.5,13.1,14.8,16.600000000000001,18.399999999999999,20.399999999999999,22.4,24.5,26.6]
[6,1.3,1.6,2,2.5,3.1,3.8,4.5999999999999996,5.5,6.4,7.5,8.6,9.8000000000000007,11.1,12.4,13.8,15.3,16.8,18.3,19.899999999999999,21.5]
[7,1.3,1.6,2,2.4,2.9,3.6,4.2,5,5.8,6.7,7.7,8.6999999999999993,9.6999999999999993,10.8,12,13.1,14.4,15.6,16.899999999999999,18.2]
[8,1.2,1.5,1.9,2.2999999999999998,2.8,3.3,3.9,4.5999999999999996,5.3,6.1,6.9,7.8,8.6999999999999993,9.6,10.6,11.6,12.6,13.6,14.7,15.8]
[9,1.2,1.5,1.8,2.2000000000000002,2.7,3.2,3.7,4.3,5,5.7,6.4,7.1,7.9,8.6999999999999993,9.6,10.4,11.3,12.2,13.1,14]
[10,1.2,1.5,1.8,2.2000000000000002,2.6,3,3.5,4.0999999999999996,4.7,5.3,5.9,6.6,7.3,8,8.8000000000000007,9.5,10.3,11,11.8,12.6]
[11,1.2,1.5,1.8,2.1,2.5,2.9,3.4,3.9,4.4000000000000004,5,5.6,6.2,6.8,7.4,8.1,8.8000000000000007,9.4,10.1,10.8,11.5]
[12,1.2,1.4,1.7,2,2.4,2.8,3.2,3.7,4.2,4.7,5.2,5.8,6.4,7,7.5,8.1,8.8000000000000007,9.4,10,10.6]
[13,1.2,1.4,1.7,2,2.2999999999999998,2.7,3.1,3.6,4,4.5,5,5.5,6,6.5,7.1,7.6,8.1999999999999993,8.6999999999999993,9.3000000000000007,9.9]
[14,1.2,1.4,1.7,2,2.2999999999999998,2.6,3,3.4,3.9,4.3,4.8,5.2,5.7,6.2,6.7,7.2,7.7,8.1999999999999993,8.6999999999999993,9.1999999999999993]
[15,1.2,1.4,1.6,1.9,2.2000000000000002,2.6,2.9,3.3,3.7,4.0999999999999996,4.5999999999999996,5,5.4,5.9,6.4,6.8,7.3,7.7,8.1999999999999993,8.6999999999999993]
[16,1.2,1.4,1.6,1.9,2.2000000000000002,2.5,2.9,3.2,3.6,4,4.4000000000000004,4.8,5.2,5.6,6.1,6.5,6.9,7.3,7.8,8.1999999999999993]
[17,1.2,1.4,1.6,1.9,2.1,2.5,2.8,3.1,3.5,3.8,4.2,4.5999999999999996,5,5.4,5.8,6.2,6.6,7,7.4,7.8]
[18,1.2,1.4,1.6,1.8,2.1,2.4,2.7,3,3.4,3.7,4.0999999999999996,4.4000000000000004,4.8,5.2,5.6,5.9,6.3,6.7,7,7.4]
[19,1.2,1.4,1.6,1.8,2.1,2.4,2.7,3,3.3,3.6,4,4.3,4.5999999999999996,5,5.3,5.7,6,6.4,6.7,7.1]
[20,1.2,1.3,1.6,1.8,2,2.2999999999999998,2.6,2.9,3.2,3.5,3.8,4.2,4.5,4.8,5.2,5.5,5.8,6.1,6.5,6.8]
[]
["Table 3-2. 95% Confidence Level and 95% Probability Basis"]
[null,"Coefficient of Variation"]
["N",0.1,0.2,0.3,0.4,0.5,0.6,0.7,0.8,0.9,1,1.1000000000000001,1.2,1.3,1.4,1.5,1.6,1.7,1.8,1.9,2]
[1,1.4,1.9,2.6,3.6,4.7,6.2,8,10.1,12.6,15.5,18.7,22.3,26.4,30.8,35.6,40.700000000000003,46.2,52.1,58.4,64.900000000000006]
[2,1.3,1.6,2,2.5,3.1,3.8,4.5999999999999996,5.4,6.4,7.4,8.5,9.6999999999999993,10.9,12.2,13.6,15,16.399999999999999,17.899999999999999,19.5,21.1]
[3,1.2,1.5,1.8,2.1,2.5,3,3.5,4,4.5999999999999996,5.2,5.8,6.5,7.2,7.9,8.6,9.3000000000000007,10,10.8,11.5,12.3]
[4,1.2,1.4,1.7,1.9,2.2000000000000002,2.6,2.9,3.3,3.7,4.2,4.5999999999999996,5,5.5,6,6.4,6.9,7.4,7.8,8.3000000000000007,8.8000000000000007]
[5,1.2,1.4,1.6,1.8,2.1,2.2999999999999998,2.6,2.9,3.2,3.6,3.9,4.2,4.5,4.9000000000000004,5.2,5.6,5.9,6.2,6.6,6.9]
[6,1.1000000000000001,1.3,1.5,1.7,1.9,2.1,2.4,2.6,2.9,3.1,3.4,3.7,3.9,4.2,4.5,4.7,5,5.2,5.5,5.7]
[7,1.1000000000000001,1.3,1.4,1.6,1.8,2,2.2000000000000002,2.4,2.6,2.8,3.1,3.3,3.5,3.7,3.9,4.0999999999999996,4.3,4.5,4.7,4.9000000000000004]
[8,1.1000000000000001,1.3,1.4,1.6,1.7,1.9,2.1,2.2999999999999998,2.4,2.6,2.8,3,3.2,3.3,3.5,3.7,3.9,4,4.2,4.3]
[9,1.1000000000000001,1.2,1.4,1.5,1.7,1.8,2,2.1,2.2999999999999998,2.4,2.6,2.8,2.9,3.1,3.2,3.4,3.5,3.6,3.8,3.9]
[10,1.1000000000000001,1.2,1.3,1.5,1.6,1.7,1.9,2,2.2000000000000002,2.2999999999999998,2.4,2.6,2.7,2.8,3,3.1,3.2,3.3,3.4,3.6]
[11,1.1000000000000001,1.2,1.3,1.4,1.6,1.7,1.8,1.9,2.1,2.2000000000000002,2.2999999999999998,2.4,2.5,2.7,2.8,2.9,3,3.1,3.2,3.3]
[12,1.1000000000000001,1.2,1.3,1.4,1.5,1.6,1.7,1.9,2,2.1,2.2000000000000002,2.2999999999999998,2.4,2.5,2.6,2.7,2.8,2.9,3,3]
[13,1.1000000000000001,1.2,1.3,1.4,1.5,1.6,1.7,1.8,1.9,2,2.1,2.2000000000000002,2.2999999999999998,2.4,2.5,2.5,2.6,2.7,2.8,2.9]
[14,1.1000000000000001,1.2,1.3,1.4,1.4,1.5,1.6,1.7,1.8,1.9,2,2.1,2.2000000000000002,2.2999999999999998,2.2999999999999998,2.4,2.5,2.6,2.6,2.7]
[15,1.1000000000000001,1.2,1.2,1.3,1.4,1.5,1.6,1.7,1.8,1.8,1.9,2,2.1,2.2000000000000002,2.2000000000000002,2.2999999999999998,2.4,2.4,2.5,2.5]
[16,1.1000000000000001,1.1000000000000001,1.2,1.3,1.4,1.5,1.6,1.6,1.7,1.8,1.9,1.9,2,2.1,2.1,2.2000000000000002,2.2999999999999998,2.2999999999999998,2.4,2.4]
[17,1.1000000000000001,1.1000000000000001,1.2,1.3,1.4,1.4,1.5,1.6,1.7,1.7,1.8,1.9,1.9,2,2,2.1,2.2000000000000002,2.2000000000000002,2.2999999999999998,2.2999999999999998]
[18,1.1000000000000001,1.1000000000000001,1.2,1.3,1.3,1.4,1.5,1.6,1.6,1.7,1.7,1.8,1.9,1.9,2,2,2.1,2.1,2.2000000000000002,2.2000000000000002]
[19,1.1000000000000001,1.1000000000000001,1.2,1.3,1.3,1.4,1.5,1.5,1.6,1.6,1.7,1.8,1.8,1.9,1.9,2,2,2,2.1,2.1]
[20,1.1000000000000001,1.1000000000000001,1.2,1.2,1.3,1.4,1.4,1.5,1.5,1.6,1.7,1.7,1.8,1.8,1.8,1.9,1.9,2,2,2]

{"sheet":"WLA Multipliers","index":35,"n_rows":23,"n_cols":7,"rows_kept":23,"cut":false,"hidden":true,"merged":[[1,1,1,2],[1,5,1,6]]}
["Acute",null,null,null,"Chronic"]
[null,"Percentile",null,null,null,"Percentile"]
["CV",95,99,null,"CV",95,99]
[0.1,0.85299999999999998,0.79700000000000004,null,0.1,0.92200000000000004,0.89100000000000001]
[0.2,0.73599999999999999,0.64300000000000002,null,0.2,0.85299999999999998,0.79700000000000004]
[0.3,0.64400000000000002,0.52700000000000002,null,0.3,0.79100000000000004,0.71499999999999997]
[0.4,0.57099999999999995,0.44,null,0.4,0.73599999999999999,0.64300000000000002]
[0.5,0.51400000000000001,0.373,null,0.5,0.68700000000000006,0.58099999999999996]
[0.6,0.46800000000000003,0.32100000000000001,null,0.6,0.64400000000000002,0.52700000000000002]
[0.7,0.432,0.28100000000000003,null,0.7,0.60599999999999998,0.48099999999999998]
[0.8,0.40300000000000002,0.249,null,0.8,0.57099999999999995,0.44]
[0.9,0.379,0.224,null,0.9,0.54100000000000004,0.40400000000000003]
[1,0.36,0.20399999999999999,null,1,0.51400000000000001,0.373]
[1.1000000000000001,0.34399999999999997,0.187,null,1.1000000000000001,0.49,0.34499999999999997]
[1.2,0.33,0.17399999999999999,null,1.2,0.46800000000000003,0.32100000000000001]
[1.3,0.31900000000000001,0.16200000000000001,null,1.3,0.44900000000000001,0.3]
[1.4,0.31,0.153,null,1.4,0.432,0.28100000000000003]
[1.5,0.30199999999999999,0.14399999999999999,null,1.5,0.41699999999999998,0.26400000000000001]
[1.6,0.29599999999999999,0.13700000000000001,null,1.6,0.40300000000000002,0.249]
[1.7,0.28999999999999998,0.13100000000000001,null,1.7,0.39,0.23599999999999999]
[1.8,0.28499999999999998,0.126,null,1.8,0.379,0.224]
[1.9,0.28100000000000003,0.121,null,1.9,0.36899999999999999,0.214]
[2,0.27700000000000002,0.11700000000000001,null,2,0.36,0.20399999999999999]

{"sheet":"LTA Multipliers","index":36,"n_rows":23,"n_cols":17,"rows_kept":23,"cut":false,"hidden":true,"merged":[[1,1,1,2],[0,5,0,9],[0,12,0,16]]}
["MDL",null,null,null,"AML","Percentile & n",null,null,null,null,null,null,"Percentile & n"]
[null,"Percentile",null,null,null,95,95,95,95,95,null,null,99,99,99,99,99]
["CV",95,99,null,"CV",1,2,4,10,30,null,"CV",1,2,4,10,30]
[0.1,1.17,1.25,null,0.1,1.17,1.1200000000000001,1.08,1.06,1.03,null,0.1,1.25,1.18,1.1200000000000001,1.08,1.04]
[0.2,1.36,1.55,null,0.2,1.36,1.25,1.17,1.1200000000000001,1.06,null,0.2,1.55,1.37,1.25,1.1599999999999999,1.0900000000000001]
[0.3,1.55,1.9,null,0.3,1.55,1.38,1.26,1.18,1.0900000000000001,null,0.3,1.9,1.59,1.4,1.24,1.1299999999999999]
[0.4,1.75,2.27,null,0.4,1.75,1.52,1.36,1.25,1.1200000000000001,null,0.4,2.27,1.83,1.55,1.33,1.18]
[0.5,1.95,2.68,null,0.5,1.95,1.66,1.45,1.31,1.1599999999999999,null,0.5,2.68,2.09,1.72,1.42,1.23]
[0.6,2.13,3.11,null,0.6,2.13,1.6,1.55,1.38,1.19,null,0.6,3.11,2.37,1.9,1.52,1.28]
[0.7,2.31,3.56,null,0.7,2.31,1.94,1.65,1.45,1.22,null,0.7,3.56,2.66,2.08,1.62,1.33]
[0.8,2.48,4.01,null,0.8,2.48,2.0699999999999998,1.75,1.52,1.26,null,0.8,4.01,2.96,2.27,1.73,1.39]
[0.9,2.64,4.46,null,0.9,2.64,2.2000000000000002,1.85,1.59,1.29,null,0.9,4.46,3.28,2.48,1.84,1.44]
[1,2.78,4.9000000000000004,null,1,2.78,2.33,1.95,1.66,1.33,null,1,4.9000000000000004,3.59,2.68,1.96,1.5]
[1.1000000000000001,2.91,5.34,null,1.1000000000000001,2.91,2.4500000000000002,2.04,1.73,1.36,null,1.1000000000000001,5.34,3.91,2.9,2.0699999999999998,1.56]
[1.2,3.03,5.76,null,1.2,3.03,2.56,2.13,1.8,1.39,null,1.2,5.76,4.2300000000000004,3.11,2.19,1.62]
[1.3,3.13,6.17,null,1.3,3.13,2.67,2.23,1.87,1.43,null,1.3,6.17,4.55,3.34,2.3199999999999998,1.68]
[1.4,3.23,6.56,null,1.4,3.23,2.77,2.31,1.94,1.47,null,1.4,6.56,4.8600000000000003,3.56,2.4500000000000002,1.74]
[1.5,3.31,6.93,null,1.5,3.31,2.86,2.4,2,1.5,null,1.5,6.93,5.17,3.78,2.58,1.8]
[1.6,3.38,7.29,null,1.6,3.38,2.95,2.48,2.0699999999999998,1.54,null,1.6,7.29,5.47,4.01,2.71,1.87]
[1.7,3.45,7.63,null,1.7,3.45,3.03,2.56,2.14,1.57,null,1.7,7.63,5.77,4.2300000000000004,2.84,1.93]
[1.8,3.51,7.95,null,1.8,3.51,3.1,2.64,2.2000000000000002,1.61,null,1.8,7.95,6.06,4.46,2.98,2]
[1.9,3.56,8.26,null,1.9,3.56,3.17,2.71,2.27,1.64,null,1.9,8.26,6.34,4.68,3.12,2.0699999999999998]
[2,3.6,8.5500000000000007,null,2,3.6,3.23,2.78,2.33,1.68,null,2,8.5500000000000007,6.61,4.9000000000000004,3.26,2.14]