{"text_format":"1","workbook":"xlsx","n_sheets":23,"sheets":["Instructions","Database","Annual Data","Summary","MaxSed","LogProfile","OptimizationTrend","SedSum","MaxFilter","FilterSum(1-4)","FilterSum(5-8)","FilterSum(9-12)","BW Data","BW Data Chart","BW Data PT","Long Term ","LT Data","Chart5","PT setup","LTSettled","LTFiltered","AllDataSort","MonthDist"],"not_rendered":{"charts":38,"images":2,"macros":1,"external_links":0,"defined_names":81,"comments":5,"pivot_tables":1},"unopened":[{"sheet":"MaxSed","index":4,"reason":"not_a_worksheet"},{"sheet":"LogProfile","index":5,"reason":"not_a_worksheet"},{"sheet":"MaxFilter","index":8,"reason":"not_a_worksheet"},{"sheet":"BW Data Chart","index":13,"reason":"not_a_worksheet"},{"sheet":"Chart5","index":17,"reason":"not_a_worksheet"},{"sheet":"LTSettled","index":19,"reason":"not_a_worksheet"},{"sheet":"LTFiltered","index":20,"reason":"not_a_worksheet"}],"bounds":{"document_bytes":16777216,"sheet_cells":100000,"rows_first":2000,"rows_last":500,"rows_between":2000,"halvings":0,"cell_chars":16384,"cell_head_chars":4096},"cells_cut":0,"cells_raw":0,"read":"whole","date_system":"1900"}

{"sheet":"Instructions","index":0,"n_rows":80,"n_cols":4,"rows_kept":80,"cut":false,"hidden":false,"merged":[]}
[null,"Optimization Assessment Software - Version 37 (EPA 815-B-19-017)"]
[null,"Instructions"]
["Entering data from another spreadsheet (copy/pasting):"]
[null,"When entering data sets from another spreadsheet, enter the data into the Database Worksheet."]
[null,"To reduce problems that could occur due to formatting differences, always \"paste values\"   "]
[null,"in the database."]
["Entering individual data from plant records:"]
[null,"When entering daily data from plant records, use the Database worksheet and type the data directly"]
[null,"into this worksheet."]
["Developing an annual data set:"]
[null,"To develop an annual data set and run analyses and statistics, enter the Start Date in the Annual Data"]
[null,"worksheet and click the Update button."]
[]
[null,{"$f":"B1","v":"Optimization Assessment Software - Version 37 (EPA 815-B-19-017)"}]
[null,"FILE:","OAS v37.xlsm"]
[null,"AUTHOR:","L. DeMers, K. Rakness, B. Hegg"]
[null,"COMPANY:","Process Applications, Inc."]
[null,"PURPOSE:","To assess particulate removal in surface water treatment plants"]
[]
[null,"DATE MODIFIED:",null,"MODIFICATIONS & BY WHOM:"]
[null,"1999-04-15","LDD initiated program development."]
[null,"1999-05-26","LDD modified program to include individual sedimentation and filter graphs."]
[null,"1999-05-27","LDD modified program to indicate \"out of range\" warning for filter turbidity data entry."]
[null,"1999-07-23","LDD initiated program modifications to use percentile calculation."]
[null,"1999-09-23","LDD added column for combined filter effluent turbidity."]
[null,null,"Modifications also made to use percentile calculations."]
[null,"1999-09-25","LDD modified program to include optimization goal tracking features."]
[null,"1999-11-24","LDD added worst filter cell conditions and screen hide during macro."]
[null,"1999-11-28","LDD added worst sed basin cell conditions."]
[null,"1999-12-16","LDD corrected 95% calc. error in max. sed. and filter columns."]
[null,null,"LDD modified to data input to allow up to 12 filters."]
[null,"1999-12-17","LDD modified annual statistics to exclude STDEV and include % time meeting reg."]
[null,null,"requirement."]
[null,"2000-03-03","LDD fixed y-axis on individual sed and filter graphs"]
[null,"2000-05-13","LDD corrected Leap Year problem (temporary fix until modifications to account for both"]
[null,null,"Leap Year and non-Leap year data input is completed)."]
[null,"2000-06-08","LDD/KLR corrected Leap Year problem to allow data input for both Leap Year and non "]
[null,null,"Leap Year data."]
[null,"2000-11-28","LDD corrected error in max filter turbidity calc on DataEntryValues worksheet.  Saved"]
[null,null,"as turb-opt23p.xls."]
[null,"2001-03-27","LDD corrected error in max settled water graph to plot the max value from four sed"]
[null,null,"basins (versus the value from sed basin 1).  Also corrected date range in same graph."]
[null,null,"Saved as turb-opt24a.xls."]
[null,"2001-04-18","LDD added \"Yes/No\" step to clear macros.  Changed color of macro buttons."]
[null,"2002-08-23","LDD added LT-Trend worksheet to support LT Trend companion spreadsheet."]
[null,null,"Corrected y-axis lable on MaxFilter chart.  Saved as turb-opt26a.xls."]
[null,"2003-04-20","LDD added data entry cell for public water system number."]
[null,"2003-04-20","LDD added annual calculations for individual basin/filter 95th % and % values meeting"]
[null,null,"goal calculations.  Saved as turb-opt27.xls."]
[null,"2007-02-07","LDD modified % settled water turbidity meeting goals to include all available sed basin"]
[null,null,"data (Optimization Trend report)."]
[null,null,"RSQ calculation was modified for combined filter turbidity to include max. filtered water"]
[null,null,"turbidity and combined turbidity."]
[null,"2011-06-03","LDD updated spreadsheet to Excel 2010 version (.xlsm file format)."]
[null,null,"Changed name to Turb-optV30.xlsm."]
[null,"2012-02-27","LDD modified all sed basin calculation in Optimization Trend Report to be consistent"]
[null,null,"with calculation in 36 filter OAS (i.e., 95th P of all sed basin data)."]
[null,null,"Named file Turb-opt12filtersV31.xlsm."]
[null,"2014-08-14","LDD added \"Yes/No\" step to Transfer button for DataEntryPaste."]
[null,null,"Added conditional formatting for data entry cells that are less than or equal to 0.02 NTU,"]
[null,null,"indicating a potential data integrity issue."]
[null,null,"Updated % goal formulas and removed lookup tables."]
[null,null,"Added All Filter calculation and replaced CFE summary chart."]
[null,"2017-03-20","Moved filter backwash trending features to this worksheet using pivot table and charts."]
[null,"2017-04-03","Moved long-term trending features to this spreadsheet."]
[null,"2018-03-14","WHD removed Data Entry Paste worksheet and added Database worksheet.  Changed"]
[null,null,"the DataEntry Values Worksheet to Annual Data and added functionality to bring one"]
[null,null," year of data to the Annual Data worksheet.  "]
[null,null,"Updated file name to OAS v35.xlsm."]
[null,"2019-02-04","LDD modified the Annual Data worksheet to include a date check feature to confirm"]
[null,null,"data for a specific start date is available in the database."]
[null,null,"Formulas in the Annual Data worksheet were modified to exclude data in the cells when "]
[null,null,"specific dates are not available in the database."]
[null,null,"Minor reformatting of the sort function was done in the Database worksheet."]
[null,null,"Updated file name to OAS v36beta.xlsm."]
[null,"2021-05-10","LDD corrected BW Data Chart worksheet. Name had been changed, so update macro"]
[null,null,"would not work. Also, added monthly LT trend chart for settled water (LTSettled worksheet)."]
[null,null,"Made edits to legend and x-axis to correct issues in Long Term worksheet."]
[null,null,"Renamed file to version 37."]
[null,"Model developed by: Process Applications, Inc. Fort Collins, CO 970-223-5787"]

{"sheet":"Database","index":1,"n_rows":3057,"n_cols":36,"rows_kept":2250,"cut":true,"hidden":false,"merged":[],"bounds":{"rows_first":1000,"rows_last":250,"rows_between":1000,"halvings":1}}
[null,"NOTE:  The database must be sorted by ascending date before transferring to Annual Data worksheet.",null,null,null,null,null,null,null,null,null,null,"The database holds 8 years of daily turbidity values."]
[null,"Use the buton below to sort the database."]
[]
[]
[]
[]
["Data Entry Area - If pasting values from another source, use Paste Values to preserve the table formatting."]
["Date","Raw","Sed 1","Sed 2","Sed 3","Sed 4","Filter 1","Filter 2","Filter 3","Filter 4","Filter 5","Filter 6","Filter 7","Filter 8","Filter 9","Filter 10","Filter 11","Filter 12","Combined",null,null,null,null,null,null,null,null,null,null,null,null,null,"Settled Water Goal","Filtered Goal","Max Settled","Max Filtered"]
[null,null,null,null,null,null,null,null,null,null,null,null,null,null,null,null,null,null,null,null,null,null,null,null,null,null,null,null,null,null,null,null,{"$f":"'Annual Data'!$AD$15","v":1},{"$f":"'Annual Data'!$AG$15","v":0.1},{"$f":"MAX(C9:F9)","v":0},{"$f":"MAX(G9:R9)","v":0}]
[null,null,null,null,null,null,null,null,null,null,null,null,null,null,null,null,null,null,null,null,null,null,null,null,null,null,null,null,null,null,null,null,{"$f":"'Annual Data'!$AD$15","v":1},{"$f":"'Annual Data'!$AG$15","v":0.1},{"$f":"MAX(C10:F10)","v":0},{"$f":"MAX(G10:R10)","v":0}]
[null,null,null,null,null,null,null,null,null,null,null,null,null,null,null,null,null,null,null,null,null,null,null,null,null,null,null,null,null,null,null,null,{"$f":"'Annual Data'!$AD$15","v":1},{"$f":"'Annual Data'!$AG$15","v":0.1},0,0]
[null,null,null,null,null,null,null,null,null,null,null,null,null,null,null,null,null,null,null,null,null,null,null,null,null,null,null,null,null,null,null,null,{"$f":"'Annual Data'!$AD$15","v":1},{"$f":"'Annual Data'!$AG$15","v":0.1},0,0]
[null,null,null,null,null,null,null,null,null,null,null,null,null,null,null,null,null,null,null,null,null,null,null,null,null,null,null,null,null,null,null,null,{"$f":"'Annual Data'!$AD$15","v":1},{"$f":"'Annual Data'!$AG$15","v":0.1},0,0]
[null,null,null,null,null,null,null,null,null,null,null,null,null,null,null,null,null,null,null,null,null,null,null,null,null,null,null,null,null,null,null,null,{"$f":"'Annual Data'!$AD$15","v":1},{"$f":"'Annual Data'!$AG$15","v":0.1},0,0]
[null,null,null,null,null,null,null,null,null,null,null,null,null,null,null,null,null,null,null,null,null,null,null,null,null,null,null,null,null,null,null,null,{"$f":"'Annual Data'!$AD$15","v":1},{"$f":"'Annual Data'!$AG$15","v":0.1},0,0]
[null,null,null,null,null,null,null,null,null,null,null,null,null,null,null,null,null,null,null,null,null,null,null,null,null,null,null,null,null,null,null,null,{"$f":"'Annual Data'!$AD$15","v":1},{"$f":"'Annual Data'!$AG$15","v":0.1},0,0]
[null,null,null,null,null,null,null,null,null,null,null,null,null,null,null,null,null,null,null,null,null,null,null,null,null,null,null,null,null,null,null,null,{"$f":"'Annual Data'!$AD$15","v":1},{"$f":"'Annual Data'!$AG$15","v":0.1},0,0]
[null,null,null,null,null,null,null,null,null,null,null,null,null,null,null,null,null,null,null,null,null,null,null,null,null,null,null,null,null,null,null,null,{"$f":"'Annual Data'!$AD$15","v":1},{"$f":"'Annual Data'!$AG$15","v":0.1},0,0]
[null,null,null,null,null,null,null,null,null,null,null,null,null,null,null,null,null,null,null,null,null,null,null,null,null,null,null,null,null,null,null,null,{"$f":"'Annual Data'!$AD$15","v":1},{"$f":"'Annual Data'!$AG$15","v":0.1},0,0]
[null,null,null,null,null,null,null,null,null,null,null,null,null,null,null,null,null,null,null,null,null,null,null,null,null,null,null,null,null,null,null,null,{"$f":"'Annual Data'!$AD$15","v":1},{"$f":"'Annual Data'!$AG$15","v":0.1},0,0]
[null,null,null,null,null,null,null,null,null,null,null,null,null,null,null,null,null,null,null,null,null,null,null,null,null,null,null,null,null,null,null,null,{"$f":"'Annual Data'!$AD$15","v":1},{"$f":"'Annual Data'!$AG$15","v":0.1},0,0]
[null,null,null,null,null,null,null,null,null,null,null,null,null,null,null,null,null,null,null,null,null,null,null,null,null,null,null,null,null,null,null,null,{"$f":"'Annual Data'!$AD$15","v":1},{"$f":"'Annual Data'!$AG$15","v":0.1},0,0]
[null,null,null,null,null,null,null,null,null,null,null,null,null,null,null,null,null,null,null,null,null,null,null,null,null,null,null,null,null,null,null,null,{"$f":"'Annual Data'!$AD$15","v":1},{"$f":"'Annual Data'!$AG$15","v":0.1},0,0]
[null,null,null,null,null,null,null,null,null,null,null,null,null,null,null,null,null,null,null,null,null,null,null,null,null,null,null,null,null,null,null,null,{"$f":"'Annual Data'!$AD$15","v":1},{"$f":"'Annual Data'!$AG$15","v":0.1},0,0]
[null,null,null,null,null,null,null,null,null,null,null,null,null,null,null,null,null,null,null,null,null,null,null,null,null,null,null,null,null,null,null,null,{"$f":"'Annual Data'!$AD$15","v":1},{"$f":"'Annual Data'!$AG$15","v":0.1},0,0]
[null,null,null,null,null,null,null,null,null,null,null,null,null,null,null,null,null,null,null,null,null,null,null,null,null,null,null,null,null,null,null,null,{"$f":"'Annual Data'!$AD$15","v":1},{"$f":"'Annual Data'!$AG$15","v":0.1},0,0]
[null,null,null,null,null,null,null,null,null,null,null,null,null,null,null,null,null,null,null,null,null,null,null,null,null,null,null,null,null,null,null,null,{"$f":"'Annual Data'!$AD$15","v":1},{"$f":"'Annual Data'!$AG$15","v":0.1},0,0]
[null,null,null,null,null,null,null,null,null,null,null,null,null,null,null,null,null,null,null,null,null,null,null,null,null,null,null,null,null,null,null,null,{"$f":"'Annual Data'!$AD$15","v":1},{"$f":"'Annual Data'!$AG$15","v":0.1},0,0]
[null,null,null,null,null,null,null,null,null,null,null,null,null,null,null,null,null,null,null,null,null,null,null,null,null,null,null,null,null,null,null,null,{"$f":"'Annual Data'!$AD$15","v":1},{"$f":"'Annual Data'!$AG$15","v":0.1},0,0]
[null,null,null,null,null,null,null,null,null,null,null,null,null,null,null,null,null,null,null,null,null,null,null,null,null,null,null,null,null,null,null,null,{"$f":"'Annual Data'!$AD$15","v":1},{"$f":"'Annual Data'!$AG$15","v":0.1},0,0]
[null,null,null,null,null,null,null,null,null,null,null,null,null,null,null,null,null,null,null,null,null,null,null,null,null,null,null,null,null,null,null,null,{"$f":"'Annual Data'!$AD$15","v":1},{"$f":"'Annual Data'!$AG$15","v":0.1},0,0]
[null,null,null,null,null,null,null,null,null,null,null,null,null,null,null,null,null,null,null,null,null,null,null,null,null,null,null,null,null,null,null,null,{"$f":"'Annual Data'!$AD$15","v":1},{"$f":"'Annual Data'!$AG$15","v":0.1},0,0]
[null,null,null,null,null,null,null,null,null,null,null,null,null,null,null,null,null,null,null,null,null,null,null,null,null,null,null,null,null,null,null,null,{"$f":"'Annual Data'!$AD$15","v":1},{"$f":"'Annual Data'!$AG$15","v":0.1},0,0]
[null,null,null,null,null,null,null,null,null,null,null,null,null,null,null,null,null,null,null,null,null,null,null,null,null,null,null,null,null,null,null,null,{"$f":"'Annual Data'!$AD$15","v":1},{"$f":"'Annual Data'!$AG$15","v":0.1},0,0]
[null,null,null,null,null,null,null,null,null,null,null,null,null,null,null,null,null,null,null,null,null,null,null,null,null,null,null,null,null,null,null,null,{"$f":"'Annual Data'!$AD$15","v":1},{"$f":"'Annual Data'!$AG$15","v":0.1},0,0]
[null,null,null,null,null,null,null,null,null,null,null,null,null,null,null,null,null,null,null,null,null,null,null,null,null,null,null,null,null,null,null,null,{"$f":"'Annual Data'!$AD$15","v":1},{"$f":"'Annual Data'!$AG$15","v":0.1},0,0]
[null,null,null,null,null,null,null,null,null,null,null,null,null,null,null,null,null,null,null,null,null,null,null,null,null,null,null,null,null,null,null,null,{"$f":"'Annual Data'!$AD$15","v":1},{"$f":"'Annual Data'!$AG$15","v":0.1},0,0]
[null,null,null,null,null,null,null,null,null,null,null,null,null,null,null,null,null,null,null,null,null,null,null,null,null,null,null,null,null,null,null,null,{"$f":"'Annual Data'!$AD$15","v":1},{"$f":"'Annual Data'!$AG$15","v":0.1},0,0]
[null,null,null,null,null,null,null,null,null,null,null,null,null,null,null,null,null,null,null,null,null,null,null,null,null,null,null,null,null,null,null,null,{"$f":"'Annual Data'!$AD$15","v":1},{"$f":"'Annual Data'!$AG$15","v":0.1},0,0]
[null,null,null,null,null,null,null,null,null,null,null,null,null,null,null,null,null,null,null,null,null,null,null,null,null,null,null,null,null,null,null,null,{"$f":"'Annual Data'!$AD$15","v":1},{"$f":"'Annual Data'!$AG$15","v":0.1},0,0]
[null,null,null,null,null,null,null,null,null,null,null,null,null,null,null,null,null,null,null,null,null,null,null,null,null,null,null,null,null,null,null,null,{"$f":"'Annual Data'!$AD$15","v":1},{"$f":"'Annual Data'!$AG$15","v":0.1},0,0]
[null,null,null,null,null,null,null,null,null,null,null,null,null,null,null,null,null,null,null,null,null,null,null,null,null,null,null,null,null,null,null,null,{"$f":"'Annual Data'!$AD$15","v":1},{"$f":"'Annual Data'!$AG$15","v":0.1},0,0]
[null,null,null,null,null,null,null,null,null,null,null,null,null,null,null,null,null,null,null,null,null,null,null,null,null,null,null,null,null,null,null,null,{"$f":"'Annual Data'!$AD$15","v":1},{"$f":"'Annual Data'!$AG$15","v":0.1},0,0]
[null,null,null,null,null,null,null,null,null,null,null,null,null,null,null,null,null,null,null,null,null,null,null,null,null,null,null,null,null,null,null,null,{"$f":"'Annual Data'!$AD$15","v":1},{"$f":"'Annual Data'!$AG$15","v":0.1},0,0]
[null,null,null,null,null,null,null,null,null,null,null,null,null,null,null,null,null,null,null,null,null,null,null,null,null,null,null,null,null,null,null,null,{"$f":"'Annual Data'!$AD$15","v":1},{"$f":"'Annual Data'!$AG$15","v":0.1},0,0]
[null,null,null,null,null,null,null,null,null,null,null,null,null,null,null,null,null,null,null,null,null,null,null,null,null,null,null,null,null,null,null,null,{"$f":"'Annual Data'!$AD$15","v":1},{"$f":"'Annual Data'!$AG$15","v":0.1},0,0]
[null,null,null,null,null,null,null,null,null,null,null,null,null,null,null,null,null,null,null,null,null,null,null,null,null,null,null,null,null,null,null,null,{"$f":"'Annual Data'!$AD$15","v":1},{"$f":"'Annual Data'!$AG$15","v":0.1},0,0]
[null,null,null,null,null,null,null,null,null,null,null,null,null,null,null,null,null,null,null,null,null,null,null,null,null,null,null,null,null,null,null,null,{"$f":"'Annual Data'!$AD$15","v":1},{"$f":"'Annual Data'!$AG$15","v":0.1},0,0]
[null,null,null,null,null,null,null,null,null,null,null,null,null,null,null,null,null,null,null,null,null,null,null,null,null,null,null,null,null,null,null,null,{"$f":"'Annual Data'!$AD$15","v":1},{"$f":"'Annual Data'!$AG$15","v":0.1},0,0]
[null,null,null,null,null,null,null,null,null,null,null,null,null,null,null,null,null,null,null,null,null,null,null,null,null,null,null,null,null,null,null,null,{"$f":"'Annual Data'!$AD$15","v":1},{"$f":"'Annual Data'!$AG$15","v":0.1},0,0]
[null,null,null,null,null,null,null,null,null,null,null,null,null,null,null,null,null,null,null,null,null,null,null,null,null,null,null,null,null,null,null,null,{"$f":"'Annual Data'!$AD$15","v":1},{"$f":"'Annual Data'!$AG$15","v":0.1},0,0]
[null,null,null,null,null,null,null,null,null,null,null,null,null,null,null,null,null,null,null,null,null,null,null,null,null,null,null,null,null,null,null,null,{"$f":"'Annual Data'!$AD$15","v":1},{"$f":"'Annual Data'!$AG$15","v":0.1},0,0]
[null,null,null,null,null,null,null,null,null,null,null,null,null,null,null,null,null,null,null,null,null,null,null,null,null,null,null,null,null,null,null,null,{"$f":"'Annual Data'!$AD$15","v":1},{"$f":"'Annual Data'!$AG$15","v":0.1},0,0]
[null,null,null,null,null,null,null,null,null,null,null,null,null,null,null,null,null,null,null,null,null,null,null,null,null,null,null,null,null,null,null,null,{"$f":"'Annual Data'!$AD$15","v":1},{"$f":"'Annual Data'!$AG$15","v":0.1},0,0]
[null,null,null,null,null,null,null,null,null,null,null,null,null,null,null,null,null,null,null,null,null,null,null,null,null,null,null,null,null,null,null,null,{"$f":"'Annual Data'!$AD$15","v":1},{"$f":"'Annual Data'!$AG$15","v":0.1},0,0]
[null,null,null,null,null,null,null,null,null,null,null,null,null,null,null,null,null,null,null,null,null,null,null,null,null,null,null,null,null,null,null,null,{"$f":"'Annual Data'!$AD$15","v":1},{"$f":"'Annual Data'!$AG$15","v":0.1},0,0]
[null,null,null,null,null,null,null,null,null,null,null,null,null,null,null,null,null,null,null,null,null,null,null,null,null,null,null,null,null,null,null,null,{"$f":"'Annual Data'!$AD$15","v":1},{"$f":"'Annual Data'!$AG$15","v":0.1},0,0]
[null,null,null,null,null,null,null,null,null,null,null,null,null,null,null,null,null,null,null,null,null,null,null,null,null,null,null,null,null,null,null,null,{"$f":"'Annual Data'!$AD$15","v":1},{"$f":"'Annual Data'!$AG$15","v":0.1},0,0]
[null,null,null,null,null,null,null,null,null,null,null,null,null,null,null,null,null,null,null,null,null,null,null,null,null,null,null,null,null,null,null,null,{"$f":"'Annual Data'!$AD$15","v":1},{"$f":"'Annual Data'!$AG$15","v":0.1},0,0]
[null,null,null,null,null,null,null,null,null,null,null,null,null,null,null,null,null,null,null,null,null,null,null,null,null,null,null,null,null,null,null,null,{"$f":"'Annual Data'!$AD$15","v":1},{"$f":"'Annual Data'!$AG$15","v":0.1},0,0]
[null,null,null,null,null,null,null,null,null,null,null,null,null,null,null,null,null,null,null,null,null,null,null,null,null,null,null,null,null,null,null,null,{"$f":"'Annual Data'!$AD$15","v":1},{"$f":"'Annual Data'!$AG$15","v":0.1},0,0]
[null,null,null,null,null,null,null,null,null,null,null,null,null,null,null,null,null,null,null,null,null,null,null,null,null,null,null,null,null,null,null,null,{"$f":"'Annual Data'!$AD$15","v":1},{"$f":"'Annual Data'!$AG$15","v":0.1},0,0]
[null,null,null,null,null,null,null,null,null,null,null,null,null,null,null,null,null,null,null,null,null,null,null,null,null,null,null,null,null,null,null,null,{"$f":"'Annual Data'!$AD$15","v":1},{"$f":"'Annual Data'!$AG$15","v":0.1},0,0]
[null,null,null,null,null,null,null,null,null,null,null,null,null,null,null,null,null,null,null,null,null,null,null,null,null,null,null,null,null,null,null,null,{"$f":"'Annual Data'!$AD$15","v":1},{"$f":"'Annual Data'!$AG$15","v":0.1},0,0]
[null,null,null,null,null,null,null,null,null,null,null,null,null,null,null,null,null,null,null,null,null,null,null,null,null,null,null,null,null,null,null,null,{"$f":"'Annual Data'!$AD$15","v":1},{"$f":"'Annual Data'!$AG$15","v":0.1},0,0]
[null,null,null,null,null,null,null,null,null,null,null,null,null,null,null,null,null,null,null,null,null,null,null,null,null,null,null,null,null,null,null,null,{"$f":"'Annual Data'!$AD$15","v":1},{"$f":"'Annual Data'!$AG$15","v":0.1},0,0]
[null,null,null,null,null,null,null,null,null,null,null,null,null,null,null,null,null,null,null,null,null,null,null,null,null,null,null,null,null,null,null,null,{"$f":"'Annual Data'!$AD$15","v":1},{"$f":"'Annual Data'!$AG$15","v":0.1},0,0]
[null,null,null,null,null,null,null,null,null,null,null,null,null,null,null,null,null,null,null,null,null,null,null,null,null,null,null,null,null,null,null,null,{"$f":"'Annual Data'!$AD$15","v":1},{"$f":"'Annual Data'!$AG$15","v":0.1},0,0]
[null,null,null,null,null,null,null,null,null,null,null,null,null,null,null,null,null,null,null,null,null,null,null,null,null,null,null,null,null,null,null,null,{"$f":"'Annual Data'!$AD$15","v":1},{"$f":"'Annual Data'!$AG$15","v":0.1},0,0]
[null,null,null,null,null,null,null,null,null,null,null,null,null,null,null,null,null,null,null,null,null,null,null,null,null,null,null,null,null,null,null,null,{"$f":"'Annual Data'!$AD$15","v":1},{"$f":"'Annual Data'!$AG$15","v":0.1},0,0]
[null,null,null,null,null,null,null,null,null,null,null,null,null,null,null,null,null,null,null,null,null,null,null,null,null,null,null,null,null,null,null,null,{"$f":"'Annual Data'!$AD$15","v":1},{"$f":"'Annual Data'!$AG$15","v":0.1},0,0]
[null,null,null,null,null,null,null,null,null,null,null,null,null,null,null,null,null,null,null,null,null,null,null,null,null,null,null,null,null,null,null,null,{"$f":"'Annual Data'!$AD$15","v":1},{"$f":"'Annual Data'!$AG$15","v":0.1},0,0]
[null,null,null,null,null,null,null,null,null,null,null,null,null,null,null,null,null,null,null,null,null,null,null,null,null,null,null,null,null,null,null,null,{"$f":"'Annual Data'!$AD$15","v":1},{"$f":"'Annual Data'!$AG$15","v":0.1},0,0]
[null,null,null,null,null,null,null,null,null,null,null,null,null,null,null,null,null,null,null,null,null,null,null,null,null,null,null,null,null,null,null,null,{"$f":"'Annual Data'!$AD$15","v":1},{"$f":"'Annual Data'!$AG$15","v":0.1},{"$f":"MAX(C74:F74)","v":0},{"$f":"MAX(G74:R74)","v":0}]
[null,null,null,null,null,null,null,null,null,null,null,null,null,null,null,null,null,null,null,null,null,null,null,null,null,null,null,null,null,null,null,null,{"$f":"'Annual Data'!$AD$15","v":1},{"$f":"'Annual Data'!$AG$15","v":0.1},0,0]
[null,null,null,null,null,null,null,null,null,null,null,null,null,null,null,null,null,null,null,null,null,null,null,null,null,null,null,null,null,null,null,null,{"$f":"'Annual Data'!$AD$15","v":1},{"$f":"'Annual Data'!$AG$15","v":0.1},0,0]
[null,null,null,null,null,null,null,null,null,null,null,null,null,null,null,null,null,null,null,null,null,null,null,null,null,null,null,null,null,null,null,null,{"$f":"'Annual Data'!$AD$15","v":1},{"$f":"'Annual Data'!$AG$15","v":0.1},0,0]
[null,null,null,null,null,null,null,null,null,null,null,null,null,null,null,null,null,null,null,null,null,null,null,null,null,null,null,null,null,null,null,null,{"$f":"'Annual Data'!$AD$15","v":1},{"$f":"'Annual Data'!$AG$15","v":0.1},0,0]
[null,null,null,null,null,null,null,null,null,null,null,null,null,null,null,null,null,null,null,null,null,null,null,null,null,null,null,null,null,null,null,null,{"$f":"'Annual Data'!$AD$15","v":1},{"$f":"'Annual Data'!$AG$15","v":0.1},0,0]
[null,null,null,null,null,null,null,null,null,null,null,null,null,null,null,null,null,null,null,null,null,null,null,null,null,null,null,null,null,null,null,null,{"$f":"'Annual Data'!$AD$15","v":1},{"$f":"'Annual Data'!$AG$15","v":0.1},0,0]
[null,null,null,null,null,null,null,null,null,null,null,null,null,null,null,null,null,null,null,null,null,null,null,null,null,null,null,null,null,null,null,null,{"$f":"'Annual Data'!$AD$15","v":1},{"$f":"'Annual Data'!$AG$15","v":0.1},0,0]
[null,null,null,null,null,null,null,null,null,null,null,null,null,null,null,null,null,null,null,null,null,null,null,null,null,null,null,null,null,null,null,null,{"$f":"'Annual Data'!$AD$15","v":1},{"$f":"'Annual Data'!$AG$15","v":0.1},0,0]
[null,null,null,null,null,null,null,null,null,null,null,null,null,null,null,null,null,null,null,null,null,null,null,null,null,null,null,null,null,null,null,null,{"$f":"'Annual Data'!$AD$15","v":1},{"$f":"'Annual Data'!$AG$15","v":0.1},0,0]
[null,null,null,null,null,null,null,null,null,null,null,null,null,null,null,null,null,null,null,null,null,null,null,null,null,null,null,null,null,null,null,null,{"$f":"'Annual Data'!$AD$15","v":1},{"$f":"'Annual Data'!$AG$15","v":0.1},0,0]
[null,null,null,null,null,null,null,null,null,null,null,null,null,null,null,null,null,null,null,null,null,null,null,null,null,null,null,null,null,null,null,null,{"$f":"'Annual Data'!$AD$15","v":1},{"$f":"'Annual Data'!$AG$15","v":0.1},0,0]
[null,null,null,null,null,null,null,null,null,null,null,null,null,null,null,null,null,null,null,null,null,null,null,null,null,null,null,null,null,null,null,null,{"$f":"'Annual Data'!$AD$15","v":1},{"$f":"'Annual Data'!$AG$15","v":0.1},0,0]
[null,null,null,null,null,null,null,null,null,null,null,null,null,null,null,null,null,null,null,null,null,null,null,null,null,null,null,null,null,null,null,null,{"$f":"'Annual Data'!$AD$15","v":1},{"$f":"'Annual Data'!$AG$15","v":0.1},0,0]
[null,null,null,null,null,null,null,null,null,null,null,null,null,null,null,null,null,null,null,null,null,null,null,null,null,null,null,null,null,null,null,null,{"$f":"'Annual Data'!$AD$15","v":1},{"$f":"'Annual Data'!$AG$15","v":0.1},0,0]
[null,null,null,null,null,null,null,null,null,null,null,null,null,null,null,null,null,null,null,null,null,null,null,null,null,null,null,null,null,null,null,null,{"$f":"'Annual Data'!$AD$15","v":1},{"$f":"'Annual Data'!$AG$15","v":0.1},0,0]
[null,null,null,null,null,null,null,null,null,null,null,null,null,null,null,null,null,null,null,null,null,null,null,null,null,null,null,null,null,null,null,null,{"$f":"'Annual Data'!$AD$15","v":1},{"$f":"'Annual Data'!$AG$15","v":0.1},0,0]
[null,null,null,null,null,null,null,null,null,null,null,null,null,null,null,null,null,null,null,null,null,null,null,null,null,null,null,null,null,null,null,null,{"$f":"'Annual Data'!$AD$15","v":1},{"$f":"'Annual Data'!$AG$15","v":0.1},0,0]
[null,null,null,null,null,null,null,null,null,null,null,null,null,null,null,null,null,null,null,null,null,null,null,null,null,null,null,null,null,null,null,null,{"$f":"'Annual Data'!$AD$15","v":1},{"$f":"'Annual Data'!$AG$15","v":0.1},0,0]
[null,null,null,null,null,null,null,null,null,null,null,null,null,null,null,null,null,null,null,null,null,null,null,null,null,null,null,null,null,null,null,null,{"$f":"'Annual Data'!$AD$15","v":1},{"$f":"'Annual Data'!$AG$15","v":0.1},0,0]
[null,null,null,null,null,null,null,null,null,null,null,null,null,null,null,null,null,null,null,null,null,null,null,null,null,null,null,null,null,null,null,null,{"$f":"'Annual Data'!$AD$15","v":1},{"$f":"'Annual Data'!$AG$15","v":0.1},0,0]
[null,null,null,null,null,null,null,null,null,null,null,null,null,null,null,null,null,null,null,null,null,null,null,null,null,null,null,null,null,null,null,null,{"$f":"'Annual Data'!$AD$15","v":1},{"$f":"'Annual Data'!$AG$15","v":0.1},0,0]
[null,null,null,null,null,null,null,null,null,null,null,null,null,null,null,null,null,null,null,null,null,null,null,null,null,null,null,null,null,null,null,null,{"$f":"'Annual Data'!$AD$15","v":1},{"$f":"'Annual Data'!$AG$15","v":0.1},0,0]
[null,null,null,null,null,null,null,null,null,null,null,null,null,null,null,null,null,null,null,null,null,null,null,null,null,null,null,null,null,null,null,null,{"$f":"'Annual Data'!$AD$15","v":1},{"$f":"'Annual Data'!$AG$15","v":0.1},0,0]
[null,null,null,null,null,null,null,null,null,null,null,null,null,null,null,null,null,null,null,null,null,null,null,null,null,null,null,null,null,null,null,null,{"$f":"'Annual Data'!$AD$15","v":1},{"$f":"'Annual Data'!$AG$15","v":0.1},0,0]
[null,null,null,null,null,null,null,null,null,null,null,null,null,null,null,null,null,null,null,null,null,null,null,null,null,null,null,null,null,null,null,null,{"$f":"'Annual Data'!$AD$15","v":1},{"$f":"'Annual Data'!$AG$15","v":0.1},0,0]
[null,null,null,null,null,null,null,null,null,null,null,null,null,null,null,null,null,null,null,null,null,null,null,null,null,null,null,null,null,null,null,null,{"$f":"'Annual Data'!$AD$15","v":1},{"$f":"'Annual Data'!$AG$15","v":0.1},0,0]
[null,null,null,null,null,null,null,null,null,null,null,null,null,null,null,null,null,null,null,null,null,null,null,null,null,null,null,null,null,null,null,null,{"$f":"'Annual Data'!$AD$15","v":1},{"$f":"'Annual Data'!$AG$15","v":0.1},0,0]
[null,null,null,null,null,null,null,null,null,null,null,null,null,null,null,null,null,null,null,null,null,null,null,null,null,null,null,null,null,null,null,null,{"$f":"'Annual Data'!$AD$15","v":1},{"$f":"'Annual Data'!$AG$15","v":0.1},0,0]
[null,null,null,null,null,null,null,null,null,null,null,null,null,null,null,null,null,null,null,null,null,null,null,null,null,null,null,null,null,null,null,null,{"$f":"'Annual Data'!$AD$15","v":1},{"$f":"'Annual Data'!$AG$15","v":0.1},0,0]
[null,null,null,null,null,null,null,null,null,null,null,null,null,null,null,null,null,null,null,null,null,null,null,null,null,null,null,null,null,null,null,null,{"$f":"'Annual Data'!$AD$15","v":1},{"$f":"'Annual Data'!$AG$15","v":0.1},0,0]
[null,null,null,null,null,null,null,null,null,null,null,null,null,null,null,null,null,null,null,null,null,null,null,null,null,null,null,null,null,null,null,null,{"$f":"'Annual Data'!$AD$15","v":1},{"$f":"'Annual Data'!$AG$15","v":0.1},0,0]
[null,null,null,null,null,null,null,null,null,null,null,null,null,null,null,null,null,null,null,null,null,null,null,null,null,null,null,null,null,null,null,null,{"$f":"'Annual Data'!$AD$15","v":1},{"$f":"'Annual Data'!$AG$15","v":0.1},0,0]
[null,null,null,null,null,null,null,null,null,null,null,null,null,null,null,null,null,null,null,null,null,null,null,null,null,null,null,null,null,null,null,null,{"$f":"'Annual Data'!$AD$15","v":1},{"$f":"'Annual Data'!$AG$15","v":0.1},0,0]
[null,null,null,null,null,null,null,null,null,null,null,null,null,null,null,null,null,null,null,null,null,null,null,null,null,null,null,null,null,null,null,null,{"$f":"'Annual Data'!$AD$15","v":1},{"$f":"'Annual Data'!$AG$15","v":0.1},0,0]
[null,null,null,null,null,null,null,null,null,null,null,null,null,null,null,null,null,null,null,null,null,null,null,null,null,null,null,null,null,null,null,null,{"$f":"'Annual Data'!$AD$15","v":1},{"$f":"'Annual Data'!$AG$15","v":0.1},0,0]
[null,null,null,null,null,null,null,null,null,null,null,null,null,null,null,null,null,null,null,null,null,null,null,null,null,null,null,null,null,null,null,null,{"$f":"'Annual Data'!$AD$15","v":1},{"$f":"'Annual Data'!$AG$15","v":0.1},0,0]
[null,null,null,null,null,null,null,null,null,null,null,null,null,null,null,null,null,null,null,null,null,null,null,null,null,null,null,null,null,null,null,null,{"$f":"'Annual Data'!$AD$15","v":1},{"$f":"'Annual Data'!$AG$15","v":0.1},0,0]
[null,null,null,null,null,null,null,null,null,null,null,null,null,null,null,null,null,null,null,null,null,null,null,null,null,null,null,null,null,null,null,null,{"$f":"'Annual Data'!$AD$15","v":1},{"$f":"'Annual Data'!$AG$15","v":0.1},0,0]
[null,null,null,null,null,null,null,null,null,null,null,null,null,null,null,null,null,null,null,null,null,null,null,null,null,null,null,null,null,null,null,null,{"$f":"'Annual Data'!$AD$15","v":1},{"$f":"'Annual Data'!$AG$15","v":0.1},0,0]
[null,null,null,null,null,null,null,null,null,null,null,null,null,null,null,null,null,null,null,null,null,null,null,null,null,null,null,null,null,null,null,null,{"$f":"'Annual Data'!$AD$15","v":1},{"$f":"'Annual Data'!$AG$15","v":0.1},0,0]
[null,null,null,null,null,null,null,null,null,null,null,null,null,null,null,null,null,null,null,null,null,null,null,null,null,null,null,null,null,null,null,null,{"$f":"'Annual Data'!$AD$15","v":1},{"$f":"'Annual Data'!$AG$15","v":0.1},0,0]
[null,null,null,null,null,null,null,null,null,null,null,null,null,null,null,null,null,null,null,null,null,null,null,null,null,null,null,null,null,null,null,null,{"$f":"'Annual Data'!$AD$15","v":1},{"$f":"'Annual Data'!$AG$15","v":0.1},0,0]
[null,null,null,null,null,null,null,null,null,null,null,null,null,null,null,null,null,null,null,null,null,null,null,null,null,null,null,null,null,null,null,null,{"$f":"'Annual Data'!$AD$15","v":1},{"$f":"'Annual Data'!$AG$15","v":0.1},0,0]
[null,null,null,null,null,null,null,null,null,null,null,null,null,null,null,null,null,null,null,null,null,null,null,null,null,null,null,null,null,null,null,null,{"$f":"'Annual Data'!$AD$15","v":1},{"$f":"'Annual Data'!$AG$15","v":0.1},0,0]
[null,null,null,null,null,null,null,null,null,null,null,null,null,null,null,null,null,null,null,null,null,null,null,null,null,null,null,null,null,null,null,null,{"$f":"'Annual Data'!$AD$15","v":1},{"$f":"'Annual Data'!$AG$15","v":0.1},0,0]
[null,null,null,null,null,null,null,null,null,null,null,null,null,null,null,null,null,null,null,null,null,null,null,null,null,null,null,null,null,null,null,null,{"$f":"'Annual Data'!$AD$15","v":1},{"$f":"'Annual Data'!$AG$15","v":0.1},0,0]
[null,null,null,null,null,null,null,null,null,null,null,null,null,null,null,null,null,null,null,null,null,null,null,null,null,null,null,null,null,null,null,null,{"$f":"'Annual Data'!$AD$15","v":1},{"$f":"'Annual Data'!$AG$15","v":0.1},0,0]
[null,null,null,null,null,null,null,null,null,null,null,null,null,null,null,null,null,null,null,null,null,null,null,null,null,null,null,null,null,null,null,null,{"$f":"'Annual Data'!$AD$15","v":1},{"$f":"'Annual Data'!$AG$15","v":0.1},0,0]
[null,null,null,null,null,null,null,null,null,null,null,null,null,null,null,null,null,null,null,null,null,null,null,null,null,null,null,null,null,null,null,null,{"$f":"'Annual Data'!$AD$15","v":1},{"$f":"'Annual Data'!$AG$15","v":0.1},0,0]
[null,null,null,null,null,null,null,null,null,null,null,null,null,null,null,null,null,null,null,null,null,null,null,null,null,null,null,null,null,null,null,null,{"$f":"'Annual Data'!$AD$15","v":1},{"$f":"'Annual Data'!$AG$15","v":0.1},0,0]
[null,null,null,null,null,null,null,null,null,null,null,null,null,null,null,null,null,null,null,null,null,null,null,null,null,null,null,null,null,null,null,null,{"$f":"'Annual Data'!$AD$15","v":1},{"$f":"'Annual Data'!$AG$15","v":0.1},0,0]
[null,null,null,null,null,null,null,null,null,null,null,null,null,null,null,null,null,null,null,null,null,null,null,null,null,null,null,null,null,null,null,null,{"$f":"'Annual Data'!$AD$15","v":1},{"$f":"'Annual Data'!$AG$15","v":0.1},0,0]
[null,null,null,null,null,null,null,null,null,null,null,null,null,null,null,null,null,null,null,null,null,null,null,null,null,null,null,null,null,null,null,null,{"$f":"'Annual Data'!$AD$15","v":1},{"$f":"'Annual Data'!$AG$15","v":0.1},0,0]
[null,null,null,null,null,null,null,null,null,null,null,null,null,null,null,null,null,null,null,null,null,null,null,null,null,null,null,null,null,null,null,null,{"$f":"'Annual Data'!$AD$15","v":1},{"$f":"'Annual Data'!$AG$15","v":0.1},0,0]
[null,null,null,null,null,null,null,null,null,null,null,null,null,null,null,null,null,null,null,null,null,null,null,null,null,null,null,null,null,null,null,null,{"$f":"'Annual Data'!$AD$15","v":1},{"$f":"'Annual Data'!$AG$15","v":0.1},0,0]
[null,null,null,null,null,null,null,null,null,null,null,null,null,null,null,null,null,null,null,null,null,null,null,null,null,null,null,null,null,null,null,null,{"$f":"'Annual Data'!$AD$15","v":1},{"$f":"'Annual Data'!$AG$15","v":0.1},0,0]
[null,null,null,null,null,null,null,null,null,null,null,null,null,null,null,null,null,null,null,null,null,null,null,null,null,null,null,null,null,null,null,null,{"$f":"'Annual Data'!$AD$15","v":1},{"$f":"'Annual Data'!$AG$15","v":0.1},0,0]
[null,null,null,null,null,null,null,null,null,null,null,null,null,null,null,null,null,null,null,null,null,null,null,null,null,null,null,null,null,null,null,null,{"$f":"'Annual Data'!$AD$15","v":1},{"$f":"'Annual Data'!$AG$15","v":0.1},0,0]
[null,null,null,null,null,null,null,null,null,null,null,null,null,null,null,null,null,null,null,null,null,null,null,null,null,null,null,null,null,null,null,null,{"$f":"'Annual Data'!$AD$15","v":1},{"$f":"'Annual Data'!$AG$15","v":0.1},0,0]
[null,null,null,null,null,null,null,null,null,null,null,null,null,null,null,null,null,null,null,null,null,null,null,null,null,null,null,null,null,null,null,null,{"$f":"'Annual Data'!$AD$15","v":1},{"$f":"'Annual Data'!$AG$15","v":0.1},0,0]
[null,null,null,null,null,null,null,null,null,null,null,null,null,null,null,null,null,null,null,null,null,null,null,null,null,null,null,null,null,null,null,null,{"$f":"'Annual Data'!$AD$15","v":1},{"$f":"'Annual Data'!$AG$15","v":0.1},0,0]
[null,null,null,null,null,null,null,null,null,null,null,null,null,null,null,null,null,null,null,null,null,null,null,null,null,null,null,null,null,null,null,null,{"$f":"'Annual Data'!$AD$15","v":1},{"$f":"'Annual Data'!$AG$15","v":0.1},0,0]
[null,null,null,null,null,null,null,null,null,null,null,null,null,null,null,null,null,null,null,null,null,null,null,null,null,null,null,null,null,null,null,null,{"$f":"'Annual Data'!$AD$15","v":1},{"$f":"'Annual Data'!$AG$15","v":0.1},0,0]
[null,null,null,null,null,null,null,null,null,null,null,null,null,null,null,null,null,null,null,null,null,null,null,null,null,null,null,null,null,null,null,null,{"$f":"'Annual Data'!$AD$15","v":1},{"$f":"'Annual Data'!$AG$15","v":0.1},{"$f":"MAX(C138:F138)","v":0},{"$f":"MAX(G138:R138)","v":0}]
[null,null,null,null,null,null,null,null,null,null,null,null,null,null,null,null,null,null,null,null,null,null,null,null,null,null,null,null,null,null,null,null,{"$f":"'Annual Data'!$AD$15","v":1},{"$f":"'Annual Data'!$AG$15","v":0.1},0,0]
[null,null,null,null,null,null,null,null,null,null,null,null,null,null,null,null,null,null,null,null,null,null,null,null,null,null,null,null,null,null,null,null,{"$f":"'Annual Data'!$AD$15","v":1},{"$f":"'Annual Data'!$AG$15","v":0.1},0,0]
[null,null,null,null,null,null,null,null,null,null,null,null,null,null,null,null,null,null,null,null,null,null,null,null,null,null,null,null,null,null,null,null,{"$f":"'Annual Data'!$AD$15","v":1},{"$f":"'Annual Data'!$AG$15","v":0.1},0,0]
[null,null,null,null,null,null,null,null,null,null,null,null,null,null,null,null,null,null,null,null,null,null,null,null,null,null,null,null,null,null,null,null,{"$f":"'Annual Data'!$AD$15","v":1},{"$f":"'Annual Data'!$AG$15","v":0.1},0,0]
[null,null,null,null,null,null,null,null,null,null,null,null,null,null,null,null,null,null,null,null,null,null,null,null,null,null,null,null,null,null,null,null,{"$f":"'Annual Data'!$AD$15","v":1},{"$f":"'Annual Data'!$AG$15","v":0.1},0,0]
[null,null,null,null,null,null,null,null,null,null,null,null,null,null,null,null,null,null,null,null,null,null,null,null,null,null,null,null,null,null,null,null,{"$f":"'Annual Data'!$AD$15","v":1},{"$f":"'Annual Data'!$AG$15","v":0.1},0,0]
[null,null,null,null,null,null,null,null,null,null,null,null,null,null,null,null,null,null,null,null,null,null,null,null,null,null,null,null,null,null,null,null,{"$f":"'Annual Data'!$AD$15","v":1},{"$f":"'Annual Data'!$AG$15","v":0.1},0,0]
[null,null,null,null,null,null,null,null,null,null,null,null,null,null,null,null,null,null,null,null,null,null,null,null,null,null,null,null,null,null,null,null,{"$f":"'Annual Data'!$AD$15","v":1},{"$f":"'Annual Data'!$AG$15","v":0.1},0,0]
[null,null,null,null,null,null,null,null,null,null,null,null,null,null,null,null,null,null,null,null,null,null,null,null,null,null,null,null,null,null,null,null,{"$f":"'Annual Data'!$AD$15","v":1},{"$f":"'Annual Data'!$AG$15","v":0.1},0,0]
[null,null,null,null,null,null,null,null,null,null,null,null,null,null,null,null,null,null,null,null,null,null,null,null,null,null,null,null,null,null,null,null,{"$f":"'Annual Data'!$AD$15","v":1},{"$f":"'Annual Data'!$AG$15","v":0.1},0,0]
[null,null,null,null,null,null,null,null,null,null,null,null,null,null,null,null,null,null,null,null,null,null,null,null,null,null,null,null,null,null,null,null,{"$f":"'Annual Data'!$AD$15","v":1},{"$f":"'Annual Data'!$AG$15","v":0.1},0,0]
[null,null,null,null,null,null,null,null,null,null,null,null,null,null,null,null,null,null,null,null,null,null,null,null,null,null,null,null,null,null,null,null,{"$f":"'Annual Data'!$AD$15","v":1},{"$f":"'Annual Data'!$AG$15","v":0.1},0,0]
[null,null,null,null,null,null,null,null,null,null,null,null,null,null,null,null,null,null,null,null,null,null,null,null,null,null,null,null,null,null,null,null,{"$f":"'Annual Data'!$AD$15","v":1},{"$f":"'Annual Data'!$AG$15","v":0.1},0,0]
[null,null,null,null,null,null,null,null,null,null,null,null,null,null,null,null,null,null,null,null,null,null,null,null,null,null,null,null,null,null,null,null,{"$f":"'Annual Data'!$AD$15","v":1},{"$f":"'Annual Data'!$AG$15","v":0.1},0,0]
[null,null,null,null,null,null,null,null,null,null,null,null,null,null,null,null,null,null,null,null,null,null,null,null,null,null,null,null,null,null,null,null,{"$f":"'Annual Data'!$AD$15","v":1},{"$f":"'Annual Data'!$AG$15","v":0.1},0,0]
[null,null,null,null,null,null,null,null,null,null,null,null,null,null,null,null,null,null,null,null,null,null,null,null,null,null,null,null,null,null,null,null,{"$f":"'Annual Data'!$AD$15","v":1},{"$f":"'Annual Data'!$AG$15","v":0.1},0,0]
[null,null,null,null,null,null,null,null,null,null,null,null,null,null,null,null,null,null,null,null,null,null,null,null,null,null,null,null,null,null,null,null,{"$f":"'Annual Data'!$AD$15","v":1},{"$f":"'Annual Data'!$AG$15","v":0.1},0,0]
[null,null,null,null,null,null,null,null,null,null,null,null,null,null,null,null,null,null,null,null,null,null,null,null,null,null,null,null,null,null,null,null,{"$f":"'Annual Data'!$AD$15","v":1},{"$f":"'Annual Data'!$AG$15","v":0.1},0,0]
[null,null,null,null,null,null,null,null,null,null,null,null,null,null,null,null,null,null,null,null,null,null,null,null,null,null,null,null,null,null,null,null,{"$f":"'Annual Data'!$AD$15","v":1},{"$f":"'Annual Data'!$AG$15","v":0.1},0,0]
[null,null,null,null,null,null,null,null,null,null,null,null,null,null,null,null,null,null,null,null,null,null,null,null,null,null,null,null,null,null,null,null,{"$f":"'Annual Data'!$AD$15","v":1},{"$f":"'Annual Data'!$AG$15","v":0.1},0,0]
[null,null,null,null,null,null,null,null,null,null,null,null,null,null,null,null,null,null,null,null,null,null,null,null,null,null,null,null,null,null,null,null,{"$f":"'Annual Data'!$AD$15","v":1},{"$f":"'Annual Data'!$AG$15","v":0.1},0,0]
[null,null,null,null,null,null,null,null,null,null,null,null,null,null,null,null,null,null,null,null,null,null,null,null,null,null,null,null,null,null,null,null,{"$f":"'Annual Data'!$AD$15","v":1},{"$f":"'Annual Data'!$AG$15","v":0.1},0,0]
[null,null,null,null,null,null,null,null,null,null,null,null,null,null,null,null,null,null,null,null,null,null,null,null,null,null,null,null,null,null,null,null,{"$f":"'Annual Data'!$AD$15","v":1},{"$f":"'Annual Data'!$AG$15","v":0.1},0,0]
[null,null,null,null,null,null,null,null,null,null,null,null,null,null,null,null,null,null,null,null,null,null,null,null,null,null,null,null,null,null,null,null,{"$f":"'Annual Data'!$AD$15","v":1},{"$f":"'Annual Data'!$AG$15","v":0.1},0,0]
[null,null,null,null,null,null,null,null,null,null,null,null,null,null,null,null,null,null,null,null,null,null,null,null,null,null,null,null,null,null,null,null,{"$f":"'Annual Data'!$AD$15","v":1},{"$f":"'Annual Data'!$AG$15","v":0.1},0,0]
[null,null,null,null,null,null,null,null,null,null,null,null,null,null,null,null,null,null,null,null,null,null,null,null,null,null,null,null,null,null,null,null,{"$f":"'Annual Data'!$AD$15","v":1},{"$f":"'Annual Data'!$AG$15","v":0.1},0,0]
[null,null,null,null,null,null,null,null,null,null,null,null,null,null,null,null,null,null,null,null,null,null,null,null,null,null,null,null,null,null,null,null,{"$f":"'Annual Data'!$AD$15","v":1},{"$f":"'Annual Data'!$AG$15","v":0.1},0,0]
[null,null,null,null,null,null,null,null,null,null,null,null,null,null,null,null,null,null,null,null,null,null,null,null,null,null,null,null,null,null,null,null,{"$f":"'Annual Data'!$AD$15","v":1},{"$f":"'Annual Data'!$AG$15","v":0.1},0,0]
[null,null,null,null,null,null,null,null,null,null,null,null,null,null,null,null,null,null,null,null,null,null,null,null,null,null,null,null,null,null,null,null,{"$f":"'Annual Data'!$AD$15","v":1},{"$f":"'Annual Data'!$AG$15","v":0.1},0,0]
[null,null,null,null,null,null,null,null,null,null,null,null,null,null,null,null,null,null,null,null,null,null,null,null,null,null,null,null,null,null,null,null,{"$f":"'Annual Data'!$AD$15","v":1},{"$f":"'Annual Data'!$AG$15","v":0.1},0,0]
[null,null,null,null,null,null,null,null,null,null,null,null,null,null,null,null,null,null,null,null,null,null,null,null,null,null,null,null,null,null,null,null,{"$f":"'Annual Data'!$AD$15","v":1},{"$f":"'Annual Data'!$AG$15","v":0.1},0,0]
[null,null,null,null,null,null,null,null,null,null,null,null,null,null,null,null,null,null,null,null,null,null,null,null,null,null,null,null,null,null,null,null,{"$f":"'Annual Data'!$AD$15","v":1},{"$f":"'Annual Data'!$AG$15","v":0.1},0,0]
[null,null,null,null,null,null,null,null,null,null,null,null,null,null,null,null,null,null,null,null,null,null,null,null,null,null,null,null,null,null,null,null,{"$f":"'Annual Data'!$AD$15","v":1},{"$f":"'Annual Data'!$AG$15","v":0.1},0,0]
[null,null,null,null,null,null,null,null,null,null,null,null,null,null,null,null,null,null,null,null,null,null,null,null,null,null,null,null,null,null,null,null,{"$f":"'Annual Data'!$AD$15","v":1},{"$f":"'Annual Data'!$AG$15","v":0.1},0,0]
[null,null,null,null,null,null,null,null,null,null,null,null,null,null,null,null,null,null,null,null,null,null,null,null,null,null,null,null,null,null,null,null,{"$f":"'Annual Data'!$AD$15","v":1},{"$f":"'Annual Data'!$AG$15","v":0.1},0,0]
[null,null,null,null,null,null,null,null,null,null,null,null,null,null,null,null,null,null,null,null,null,null,null,null,null,null,null,null,null,null,null,null,{"$f":"'Annual Data'!$AD$15","v":1},{"$f":"'Annual Data'!$AG$15","v":0.1},0,0]
[null,null,null,null,null,null,null,null,null,null,null,null,null,null,null,null,null,null,null,null,null,null,null,null,null,null,null,null,null,null,null,null,{"$f":"'Annual Data'!$AD$15","v":1},{"$f":"'Annual Data'!$AG$15","v":0.1},0,0]
[null,null,null,null,null,null,null,null,null,null,null,null,null,null,null,null,null,null,null,null,null,null,null,null,null,null,null,null,null,null,null,null,{"$f":"'Annual Data'!$AD$15","v":1},{"$f":"'Annual Data'!$AG$15","v":0.1},0,0]
[null,null,null,null,null,null,null,null,null,null,null,null,null,null,null,null,null,null,null,null,null,null,null,null,null,null,null,null,null,null,null,null,{"$f":"'Annual Data'!$AD$15","v":1},{"$f":"'Annual Data'!$AG$15","v":0.1},0,0]
[null,null,null,null,null,null,null,null,null,null,null,null,null,null,null,null,null,null,null,null,null,null,null,null,null,null,null,null,null,null,null,null,{"$f":"'Annual Data'!$AD$15","v":1},{"$f":"'Annual Data'!$AG$15","v":0.1},0,0]
[null,null,null,null,null,null,null,null,null,null,null,null,null,null,null,null,null,null,null,null,null,null,null,null,null,null,null,null,null,null,null,null,{"$f":"'Annual Data'!$AD$15","v":1},{"$f":"'Annual Data'!$AG$15","v":0.1},0,0]
[null,null,null,null,null,null,null,null,null,null,null,null,null,null,null,null,null,null,null,null,null,null,null,null,null,null,null,null,null,null,null,null,{"$f":"'Annual Data'!$AD$15","v":1},{"$f":"'Annual Data'!$AG$15","v":0.1},0,0]
[null,null,null,null,null,null,null,null,null,null,null,null,null,null,null,null,null,null,null,null,null,null,null,null,null,null,null,null,null,null,null,null,{"$f":"'Annual Data'!$AD$15","v":1},{"$f":"'Annual Data'!$AG$15","v":0.1},0,0]
[null,null,null,null,null,null,null,null,null,null,null,null,null,null,null,null,null,null,null,null,null,null,null,null,null,null,null,null,null,null,null,null,{"$f":"'Annual Data'!$AD$15","v":1},{"$f":"'Annual Data'!$AG$15","v":0.1},0,0]
[null,null,null,null,null,null,null,null,null,null,null,null,null,null,null,null,null,null,null,null,null,null,null,null,null,null,null,null,null,null,null,null,{"$f":"'Annual Data'!$AD$15","v":1},{"$f":"'Annual Data'!$AG$15","v":0.1},0,0]
[null,null,null,null,null,null,null,null,null,null,null,null,null,null,null,null,null,null,null,null,null,null,null,null,null,null,null,null,null,null,null,null,{"$f":"'Annual Data'!$AD$15","v":1},{"$f":"'Annual Data'!$AG$15","v":0.1},0,0]
[null,null,null,null,null,null,null,null,null,null,null,null,null,null,null,null,null,null,null,null,null,null,null,null,null,null,null,null,null,null,null,null,{"$f":"'Annual Data'!$AD$15","v":1},{"$f":"'Annual Data'!$AG$15","v":0.1},0,0]
[null,null,null,null,null,null,null,null,null,null,null,null,null,null,null,null,null,null,null,null,null,null,null,null,null,null,null,null,null,null,null,null,{"$f":"'Annual Data'!$AD$15","v":1},{"$f":"'Annual Data'!$AG$15","v":0.1},0,0]
[null,null,null,null,null,null,null,null,null,null,null,null,null,null,null,null,null,null,null,null,null,null,null,null,null,null,null,null,null,null,null,null,{"$f":"'Annual Data'!$AD$15","v":1},{"$f":"'Annual Data'!$AG$15","v":0.1},0,0]
[null,null,null,null,null,null,null,null,null,null,null,null,null,null,null,null,null,null,null,null,null,null,null,null,null,null,null,null,null,null,null,null,{"$f":"'Annual Data'!$AD$15","v":1},{"$f":"'Annual Data'!$AG$15","v":0.1},0,0]
[null,null,null,null,null,null,null,null,null,null,null,null,null,null,null,null,null,null,null,null,null,null,null,null,null,null,null,null,null,null,null,null,{"$f":"'Annual Data'!$AD$15","v":1},{"$f":"'Annual Data'!$AG$15","v":0.1},0,0]
[null,null,null,null,null,null,null,null,null,null,null,null,null,null,null,null,null,null,null,null,null,null,null,null,null,null,null,null,null,null,null,null,{"$f":"'Annual Data'!$AD$15","v":1},{"$f":"'Annual Data'!$AG$15","v":0.1},0,0]
[null,null,null,null,null,null,null,null,null,null,null,null,null,null,null,null,null,null,null,null,null,null,null,null,null,null,null,null,null,null,null,null,{"$f":"'Annual Data'!$AD$15","v":1},{"$f":"'Annual Data'!$AG$15","v":0.1},0,0]
[null,null,null,null,null,null,null,null,null,null,null,null,null,null,null,null,null,null,null,null,null,null,null,null,null,null,null,null,null,null,null,null,{"$f":"'Annual Data'!$AD$15","v":1},{"$f":"'Annual Data'!$AG$15","v":0.1},0,0]
[null,null,null,null,null,null,null,null,null,null,null,null,null,null,null,null,null,null,null,null,null,null,null,null,null,null,null,null,null,null,null,null,{"$f":"'Annual Data'!$AD$15","v":1},{"$f":"'Annual Data'!$AG$15","v":0.1},0,0]
[null,null,null,null,null,null,null,null,null,null,null,null,null,null,null,null,null,null,null,null,null,null,null,null,null,null,null,null,null,null,null,null,{"$f":"'Annual Data'!$AD$15","v":1},{"$f":"'Annual Data'!$AG$15","v":0.1},0,0]
[null,null,null,null,null,null,null,null,null,null,null,null,null,null,null,null,null,null,null,null,null,null,null,null,null,null,null,null,null,null,null,null,{"$f":"'Annual Data'!$AD$15","v":1},{"$f":"'Annual Data'!$AG$15","v":0.1},0,0]
[null,null,null,null,null,null,null,null,null,null,null,null,null,null,null,null,null,null,null,null,null,null,null,null,null,null,null,null,null,null,null,null,{"$f":"'Annual Data'!$AD$15","v":1},{"$f":"'Annual Data'!$AG$15","v":0.1},0,0]
[null,null,null,null,null,null,null,null,null,null,null,null,null,null,null,null,null,null,null,null,null,null,null,null,null,null,null,null,null,null,null,null,{"$f":"'Annual Data'!$AD$15","v":1},{"$f":"'Annual Data'!$AG$15","v":0.1},0,0]
[null,null,null,null,null,null,null,null,null,null,null,null,null,null,null,null,null,null,null,null,null,null,null,null,null,null,null,null,null,null,null,null,{"$f":"'Annual Data'!$AD$15","v":1},{"$f":"'Annual Data'!$AG$15","v":0.1},0,0]
[null,null,null,null,null,null,null,null,null,null,null,null,null,null,null,null,null,null,null,null,null,null,null,null,null,null,null,null,null,null,null,null,{"$f":"'Annual Data'!$AD$15","v":1},{"$f":"'Annual Data'!$AG$15","v":0.1},0,0]
[null,null,null,null,null,null,null,null,null,null,null,null,null,null,null,null,null,null,null,null,null,null,null,null,null,null,null,null,null,null,null,null,{"$f":"'Annual Data'!$AD$15","v":1},{"$f":"'Annual Data'!$AG$15","v":0.1},0,0]
[null,null,null,null,null,null,null,null,null,null,null,null,null,null,null,null,null,null,null,null,null,null,null,null,null,null,null,null,null,null,null,null,{"$f":"'Annual Data'!$AD$15","v":1},{"$f":"'Annual Data'!$AG$15","v":0.1},0,0]
[null,null,null,null,null,null,null,null,null,null,null,null,null,null,null,null,null,null,null,null,null,null,null,null,null,null,null,null,null,null,null,null,{"$f":"'Annual Data'!$AD$15","v":1},{"$f":"'Annual Data'!$AG$15","v":0.1},{"$f":"MAX(C202:F202)","v":0},{"$f":"MAX(G202:R202)","v":0}]
[null,null,null,null,null,null,null,null,null,null,null,null,null,null,null,null,null,null,null,null,null,null,null,null,null,null,null,null,null,null,null,null,{"$f":"'Annual Data'!$AD$15","v":1},{"$f":"'Annual Data'!$AG$15","v":0.1},0,0]
[null,null,null,null,null,null,null,null,null,null,null,null,null,null,null,null,null,null,null,null,null,null,null,null,null,null,null,null,null,null,null,null,{"$f":"'Annual Data'!$AD$15","v":1},{"$f":"'Annual Data'!$AG$15","v":0.1},0,0]
[null,null,null,null,null,null,null,null,null,null,null,null,null,null,null,null,null,null,null,null,null,null,null,null,null,null,null,null,null,null,null,null,{"$f":"'Annual Data'!$AD$15","v":1},{"$f":"'Annual Data'!$AG$15","v":0.1},0,0]
[null,null,null,null,null,null,null,null,null,null,null,null,null,null,null,null,null,null,null,null,null,null,null,null,null,null,null,null,null,null,null,null,{"$f":"'Annual Data'!$AD$15","v":1},{"$f":"'Annual Data'!$AG$15","v":0.1},0,0]
[null,null,null,null,null,null,null,null,null,null,null,null,null,null,null,null,null,null,null,null,null,null,null,null,null,null,null,null,null,null,null,null,{"$f":"'Annual Data'!$AD$15","v":1},{"$f":"'Annual Data'!$AG$15","v":0.1},0,0]
[null,null,null,null,null,null,null,null,null,null,null,null,null,null,null,null,null,null,null,null,null,null,null,null,null,null,null,null,null,null,null,null,{"$f":"'Annual Data'!$AD$15","v":1},{"$f":"'Annual Data'!$AG$15","v":0.1},0,0]
[null,null,null,null,null,null,null,null,null,null,null,null,null,null,null,null,null,null,null,null,null,null,null,null,null,null,null,null,null,null,null,null,{"$f":"'Annual Data'!$AD$15","v":1},{"$f":"'Annual Data'!$AG$15","v":0.1},0,0]
[null,null,null,null,null,null,null,null,null,null,null,null,null,null,null,null,null,null,null,null,null,null,null,null,null,null,null,null,null,null,null,null,{"$f":"'Annual Data'!$AD$15","v":1},{"$f":"'Annual Data'!$AG$15","v":0.1},0,0]
[null,null,null,null,null,null,null,null,null,null,null,null,null,null,null,null,null,null,null,null,null,null,null,null,null,null,null,null,null,null,null,null,{"$f":"'Annual Data'!$AD$15","v":1},{"$f":"'Annual Data'!$AG$15","v":0.1},0,0]
[null,null,null,null,null,null,null,null,null,null,null,null,null,null,null,null,null,null,null,null,null,null,null,null,null,null,null,null,null,null,null,null,{"$f":"'Annual Data'!$AD$15","v":1},{"$f":"'Annual Data'!$AG$15","v":0.1},0,0]
[null,null,null,null,null,null,null,null,null,null,null,null,null,null,null,null,null,null,null,null,null,null,null,null,null,null,null,null,null,null,null,null,{"$f":"'Annual Data'!$AD$15","v":1},{"$f":"'Annual Data'!$AG$15","v":0.1},0,0]
[null,null,null,null,null,null,null,null,null,null,null,null,null,null,null,null,null,null,null,null,null,null,null,null,null,null,null,null,null,null,null,null,{"$f":"'Annual Data'!$AD$15","v":1},{"$f":"'Annual Data'!$AG$15","v":0.1},0,0]
[null,null,null,null,null,null,null,null,null,null,null,null,null,null,null,null,null,null,null,null,null,null,null,null,null,null,null,null,null,null,null,null,{"$f":"'Annual Data'!$AD$15","v":1},{"$f":"'Annual Data'!$AG$15","v":0.1},0,0]
[null,null,null,null,null,null,null,null,null,null,null,null,null,null,null,null,null,null,null,null,null,null,null,null,null,null,null,null,null,null,null,null,{"$f":"'Annual Data'!$AD$15","v":1},{"$f":"'Annual Data'!$AG$15","v":0.1},0,0]
[null,null,null,null,null,null,null,null,null,null,null,null,null,null,null,null,null,null,null,null,null,null,null,null,null,null,null,null,null,null,null,null,{"$f":"'Annual Data'!$AD$15","v":1},{"$f":"'Annual Data'!$AG$15","v":0.1},0,0]
[null,null,null,null,null,null,null,null,null,null,null,null,null,null,null,null,null,null,null,null,null,null,null,null,null,null,null,null,null,null,null,null,{"$f":"'Annual Data'!$AD$15","v":1},{"$f":"'Annual Data'!$AG$15","v":0.1},0,0]
[null,null,null,null,null,null,null,null,null,null,null,null,null,null,null,null,null,null,null,null,null,null,null,null,null,null,null,null,null,null,null,null,{"$f":"'Annual Data'!$AD$15","v":1},{"$f":"'Annual Data'!$AG$15","v":0.1},0,0]
[null,null,null,null,null,null,null,null,null,null,null,null,null,null,null,null,null,null,null,null,null,null,null,null,null,null,null,null,null,null,null,null,{"$f":"'Annual Data'!$AD$15","v":1},{"$f":"'Annual Data'!$AG$15","v":0.1},0,0]
[null,null,null,null,null,null,null,null,null,null,null,null,null,null,null,null,null,null,null,null,null,null,null,null,null,null,null,null,null,null,null,null,{"$f":"'Annual Data'!$AD$15","v":1},{"$f":"'Annual Data'!$AG$15","v":0.1},0,0]
[null,null,null,null,null,null,null,null,null,null,null,null,null,null,null,null,null,null,null,null,null,null,null,null,null,null,null,null,null,null,null,null,{"$f":"'Annual Data'!$AD$15","v":1},{"$f":"'Annual Data'!$AG$15","v":0.1},0,0]
[null,null,null,null,null,null,null,null,null,null,null,null,null,null,null,null,null,null,null,null,null,null,null,null,null,null,null,null,null,null,null,null,{"$f":"'Annual Data'!$AD$15","v":1},{"$f":"'Annual Data'!$AG$15","v":0.1},0,0]
[null,null,null,null,null,null,null,null,null,null,null,null,null,null,null,null,null,null,null,null,null,null,null,null,null,null,null,null,null,null,null,null,{"$f":"'Annual Data'!$AD$15","v":1},{"$f":"'Annual Data'!$AG$15","v":0.1},0,0]
[null,null,null,null,null,null,null,null,null,null,null,null,null,null,null,null,null,null,null,null,null,null,null,null,null,null,null,null,null,null,null,null,{"$f":"'Annual Data'!$AD$15","v":1},{"$f":"'Annual Data'!$AG$15","v":0.1},0,0]
[null,null,null,null,null,null,null,null,null,null,null,null,null,null,null,null,null,null,null,null,null,null,null,null,null,null,null,null,null,null,null,null,{"$f":"'Annual Data'!$AD$15","v":1},{"$f":"'Annual Data'!$AG$15","v":0.1},0,0]
[null,null,null,null,null,null,null,null,null,null,null,null,null,null,null,null,null,null,null,null,null,null,null,null,null,null,null,null,null,null,null,null,{"$f":"'Annual Data'!$AD$15","v":1},{"$f":"'Annual Data'!$AG$15","v":0.1},0,0]
[null,null,null,null,null,null,null,null,null,null,null,null,null,null,null,null,null,null,null,null,null,null,null,null,null,null,null,null,null,null,null,null,{"$f":"'Annual Data'!$AD$15","v":1},{"$f":"'Annual Data'!$AG$15","v":0.1},0,0]
[null,null,null,null,null,null,null,null,null,null,null,null,null,null,null,null,null,null,null,null,null,null,null,null,null,null,null,null,null,null,null,null,{"$f":"'Annual Data'!$AD$15","v":1},{"$f":"'Annual Data'!$AG$15","v":0.1},0,0]
[null,null,null,null,null,null,null,null,null,null,null,null,null,null,null,null,null,null,null,null,null,null,null,null,null,null,null,null,null,null,null,null,{"$f":"'Annual Data'!$AD$15","v":1},{"$f":"'Annual Data'!$AG$15","v":0.1},0,0]
[null,null,null,null,null,null,null,null,null,null,null,null,null,null,null,null,null,null,null,null,null,null,null,null,null,null,null,null,null,null,null,null,{"$f":"'Annual Data'!$AD$15","v":1},{"$f":"'Annual Data'!$AG$15","v":0.1},0,0]
[null,null,null,null,null,null,null,null,null,null,null,null,null,null,null,null,null,null,null,null,null,null,null,null,null,null,null,null,null,null,null,null,{"$f":"'Annual Data'!$AD$15","v":1},{"$f":"'Annual Data'!$AG$15","v":0.1},0,0]
[null,null,null,null,null,null,null,null,null,null,null,null,null,null,null,null,null,null,null,null,null,null,null,null,null,null,null,null,null,null,null,null,{"$f":"'Annual Data'!$AD$15","v":1},{"$f":"'Annual Data'!$AG$15","v":0.1},0,0]
[null,null,null,null,null,null,null,null,null,null,null,null,null,null,null,null,null,null,null,null,null,null,null,null,null,null,null,null,null,null,null,null,{"$f":"'Annual Data'!$AD$15","v":1},{"$f":"'Annual Data'!$AG$15","v":0.1},0,0]
[null,null,null,null,null,null,null,null,null,null,null,null,null,null,null,null,null,null,null,null,null,null,null,null,null,null,null,null,null,null,null,null,{"$f":"'Annual Data'!$AD$15","v":1},{"$f":"'Annual Data'!$AG$15","v":0.1},0,0]
[null,null,null,null,null,null,null,null,null,null,null,null,null,null,null,null,null,null,null,null,null,null,null,null,null,null,null,null,null,null,null,null,{"$f":"'Annual Data'!$AD$15","v":1},{"$f":"'Annual Data'!$AG$15","v":0.1},0,0]
[null,null,null,null,null,null,null,null,null,null,null,null,null,null,null,null,null,null,null,null,null,null,null,null,null,null,null,null,null,null,null,null,{"$f":"'Annual Data'!$AD$15","v":1},{"$f":"'Annual Data'!$AG$15","v":0.1},0,0]
[null,null,null,null,null,null,null,null,null,null,null,null,null,null,null,null,null,null,null,null,null,null,null,null,null,null,null,null,null,null,null,null,{"$f":"'Annual Data'!$AD$15","v":1},{"$f":"'Annual Data'!$AG$15","v":0.1},0,0]
[null,null,null,null,null,null,null,null,null,null,null,null,null,null,null,null,null,null,null,null,null,null,null,null,null,null,null,null,null,null,null,null,{"$f":"'Annual Data'!$AD$15","v":1},{"$f":"'Annual Data'!$AG$15","v":0.1},0,0]
[null,null,null,null,null,null,null,null,null,null,null,null,null,null,null,null,null,null,null,null,null,null,null,null,null,null,null,null,null,null,null,null,{"$f":"'Annual Data'!$AD$15","v":1},{"$f":"'Annual Data'!$AG$15","v":0.1},0,0]
[null,null,null,null,null,null,null,null,null,null,null,null,null,null,null,null,null,null,null,null,null,null,null,null,null,null,null,null,null,null,null,null,{"$f":"'Annual Data'!$AD$15","v":1},{"$f":"'Annual Data'!$AG$15","v":0.1},0,0]
[null,null,null,null,null,null,null,null,null,null,null,null,null,null,null,null,null,null,null,null,null,null,null,null,null,null,null,null,null,null,null,null,{"$f":"'Annual Data'!$AD$15","v":1},{"$f":"'Annual Data'!$AG$15","v":0.1},0,0]
[null,null,null,null,null,null,null,null,null,null,null,null,null,null,null,null,null,null,null,null,null,null,null,null,null,null,null,null,null,null,null,null,{"$f":"'Annual Data'!$AD$15","v":1},{"$f":"'Annual Data'!$AG$15","v":0.1},0,0]
[null,null,null,null,null,null,null,null,null,null,null,null,null,null,null,null,null,null,null,null,null,null,null,null,null,null,null,null,null,null,null,null,{"$f":"'Annual Data'!$AD$15","v":1},{"$f":"'Annual Data'!$AG$15","v":0.1},0,0]
[null,null,null,null,null,null,null,null,null,null,null,null,null,null,null,null,null,null,null,null,null,null,null,null,null,null,null,null,null,null,null,null,{"$f":"'Annual Data'!$AD$15","v":1},{"$f":"'Annual Data'!$AG$15","v":0.1},0,0]
[null,null,null,null,null,null,null,null,null,null,null,null,null,null,null,null,null,null,null,null,null,null,null,null,null,null,null,null,null,null,null,null,{"$f":"'Annual Data'!$AD$15","v":1},{"$f":"'Annual Data'!$AG$15","v":0.1},0,0]
[null,null,null,null,null,null,null,null,null,null,null,null,null,null,null,null,null,null,null,null,null,null,null,null,null,null,null,null,null,null,null,null,{"$f":"'Annual Data'!$AD$15","v":1},{"$f":"'Annual Data'!$AG$15","v":0.1},0,0]
[null,null,null,null,null,null,null,null,null,null,null,null,null,null,null,null,null,null,null,null,null,null,null,null,null,null,null,null,null,null,null,null,{"$f":"'Annual Data'!$AD$15","v":1},{"$f":"'Annual Data'!$AG$15","v":0.1},0,0]
[null,null,null,null,null,null,null,null,null,null,null,null,null,null,null,null,null,null,null,null,null,null,null,null,null,null,null,null,null,null,null,null,{"$f":"'Annual Data'!$AD$15","v":1},{"$f":"'Annual Data'!$AG$15","v":0.1},0,0]
[null,null,null,null,null,null,null,null,null,null,null,null,null,null,null,null,null,null,null,null,null,null,null,null,null,null,null,null,null,null,null,null,{"$f":"'Annual Data'!$AD$15","v":1},{"$f":"'Annual Data'!$AG$15","v":0.1},0,0]
[null,null,null,null,null,null,null,null,null,null,null,null,null,null,null,null,null,null,null,null,null,null,null,null,null,null,null,null,null,null,null,null,{"$f":"'Annual Data'!$AD$15","v":1},{"$f":"'Annual Data'!$AG$15","v":0.1},0,0]
[null,null,null,null,null,null,null,null,null,null,null,null,null,null,null,null,null,null,null,null,null,null,null,null,null,null,null,null,null,null,null,null,{"$f":"'Annual Data'!$AD$15","v":1},{"$f":"'Annual Data'!$AG$15","v":0.1},0,0]
[null,null,null,null,null,null,null,null,null,null,null,null,null,null,null,null,null,null,null,null,null,null,null,null,null,null,null,null,null,null,null,null,{"$f":"'Annual Data'!$AD$15","v":1},{"$f":"'Annual Data'!$AG$15","v":0.1},0,0]
[null,null,null,null,null,null,null,null,null,null,null,null,null,null,null,null,null,null,null,null,null,null,null,null,null,null,null,null,null,null,null,null,{"$f":"'Annual Data'!$AD$15","v":1},{"$f":"'Annual Data'!$AG$15","v":0.1},0,0]
[null,null,null,null,null,null,null,null,null,null,null,null,null,null,null,null,null,null,null,null,null,null,null,null,null,null,null,null,null,null,null,null,{"$f":"'Annual Data'!$AD$15","v":1},{"$f":"'Annual Data'!$AG$15","v":0.1},0,0]
[null,null,null,null,null,null,null,null,null,null,null,null,null,null,null,null,null,null,null,null,null,null,null,null,null,null,null,null,null,null,null,null,{"$f":"'Annual Data'!$AD$15","v":1},{"$f":"'Annual Data'!$AG$15","v":0.1},0,0]
[null,null,null,null,null,null,null,null,null,null,null,null,null,null,null,null,null,null,null,null,null,null,null,null,null,null,null,null,null,null,null,null,{"$f":"'Annual Data'!$AD$15","v":1},{"$f":"'Annual Data'!$AG$15","v":0.1},0,0]
[null,null,null,null,null,null,null,null,null,null,null,null,null,null,null,null,null,null,null,null,null,null,null,null,null,null,null,null,null,null,null,null,{"$f":"'Annual Data'!$AD$15","v":1},{"$f":"'Annual Data'!$AG$15","v":0.1},0,0]
[null,null,null,null,null,null,null,null,null,null,null,null,null,null,null,null,null,null,null,null,null,null,null,null,null,null,null,null,null,null,null,null,{"$f":"'Annual Data'!$AD$15","v":1},{"$f":"'Annual Data'!$AG$15","v":0.1},0,0]
[null,null,null,null,null,null,null,null,null,null,null,null,null,null,null,null,null,null,null,null,null,null,null,null,null,null,null,null,null,null,null,null,{"$f":"'Annual Data'!$AD$15","v":1},{"$f":"'Annual Data'!$AG$15","v":0.1},0,0]
[null,null,null,null,null,null,null,null,null,null,null,null,null,null,null,null,null,null,null,null,null,null,null,null,null,null,null,null,null,null,null,null,{"$f":"'Annual Data'!$AD$15","v":1},{"$f":"'Annual Data'!$AG$15","v":0.1},0,0]
[null,null,null,null,null,null,null,null,null,null,null,null,null,null,null,null,null,null,null,null,null,null,null,null,null,null,null,null,null,null,null,null,{"$f":"'Annual Data'!$AD$15","v":1},{"$f":"'Annual Data'!$AG$15","v":0.1},0,0]
[null,null,null,null,null,null,null,null,null,null,null,null,null,null,null,null,null,null,null,null,null,null,null,null,null,null,null,null,null,null,null,null,{"$f":"'Annual Data'!$AD$15","v":1},{"$f":"'Annual Data'!$AG$15","v":0.1},0,0]
[null,null,null,null,null,null,null,null,null,null,null,null,null,null,null,null,null,null,null,null,null,null,null,null,null,null,null,null,null,null,null,null,{"$f":"'Annual Data'!$AD$15","v":1},{"$f":"'Annual Data'!$AG$15","v":0.1},0,0]
[null,null,null,null,null,null,null,null,null,null,null,null,null,null,null,null,null,null,null,null,null,null,null,null,null,null,null,null,null,null,null,null,{"$f":"'Annual Data'!$AD$15","v":1},{"$f":"'Annual Data'!$AG$15","v":0.1},0,0]
[null,null,null,null,null,null,null,null,null,null,null,null,null,null,null,null,null,null,null,null,null,null,null,null,null,null,null,null,null,null,null,null,{"$f":"'Annual Data'!$AD$15","v":1},{"$f":"'Annual Data'!$AG$15","v":0.1},{"$f":"MAX(C266:F266)","v":0},{"$f":"MAX(G266:R266)","v":0}]
[null,null,null,null,null,null,null,null,null,null,null,null,null,null,null,null,null,null,null,null,null,null,null,null,null,null,null,null,null,null,null,null,{"$f":"'Annual Data'!$AD$15","v":1},{"$f":"'Annual Data'!$AG$15","v":0.1},0,0]
[null,null,null,null,null,null,null,null,null,null,null,null,null,null,null,null,null,null,null,null,null,null,null,null,null,null,null,null,null,null,null,null,{"$f":"'Annual Data'!$AD$15","v":1},{"$f":"'Annual Data'!$AG$15","v":0.1},0,0]
[null,null,null,null,null,null,null,null,null,null,null,null,null,null,null,null,null,null,null,null,null,null,null,null,null,null,null,null,null,null,null,null,{"$f":"'Annual Data'!$AD$15","v":1},{"$f":"'Annual Data'!$AG$15","v":0.1},0,0]
[null,null,null,null,null,null,null,null,null,null,null,null,null,null,null,null,null,null,null,null,null,null,null,null,null,null,null,null,null,null,null,null,{"$f":"'Annual Data'!$AD$15","v":1},{"$f":"'Annual Data'!$AG$15","v":0.1},0,0]
[null,null,null,null,null,null,null,null,null,null,null,null,null,null,null,null,null,null,null,null,null,null,null,null,null,null,null,null,null,null,null,null,{"$f":"'Annual Data'!$AD$15","v":1},{"$f":"'Annual Data'!$AG$15","v":0.1},0,0]
[null,null,null,null,null,null,null,null,null,null,null,null,null,null,null,null,null,null,null,null,null,null,null,null,null,null,null,null,null,null,null,null,{"$f":"'Annual Data'!$AD$15","v":1},{"$f":"'Annual Data'!$AG$15","v":0.1},0,0]
[null,null,null,null,null,null,null,null,null,null,null,null,null,null,null,null,null,null,null,null,null,null,null,null,null,null,null,null,null,null,null,null,{"$f":"'Annual Data'!$AD$15","v":1},{"$f":"'Annual Data'!$AG$15","v":0.1},0,0]
[null,null,null,null,null,null,null,null,null,null,null,null,null,null,null,null,null,null,null,null,null,null,null,null,null,null,null,null,null,null,null,null,{"$f":"'Annual Data'!$AD$15","v":1},{"$f":"'Annual Data'!$AG$15","v":0.1},0,0]
[null,null,null,null,null,null,null,null,null,null,null,null,null,null,null,null,null,null,null,null,null,null,null,null,null,null,null,null,null,null,null,null,{"$f":"'Annual Data'!$AD$15","v":1},{"$f":"'Annual Data'!$AG$15","v":0.1},0,0]
[null,null,null,null,null,null,null,null,null,null,null,null,null,null,null,null,null,null,null,null,null,null,null,null,null,null,null,null,null,null,null,null,{"$f":"'Annual Data'!$AD$15","v":1},{"$f":"'Annual Data'!$AG$15","v":0.1},0,0]
[null,null,null,null,null,null,null,null,null,null,null,null,null,null,null,null,null,null,null,null,null,null,null,null,null,null,null,null,null,null,null,null,{"$f":"'Annual Data'!$AD$15","v":1},{"$f":"'Annual Data'!$AG$15","v":0.1},0,0]
[null,null,null,null,null,null,null,null,null,null,null,null,null,null,null,null,null,null,null,null,null,null,null,null,null,null,null,null,null,null,null,null,{"$f":"'Annual Data'!$AD$15","v":1},{"$f":"'Annual Data'!$AG$15","v":0.1},0,0]
[null,null,null,null,null,null,null,null,null,null,null,null,null,null,null,null,null,null,null,null,null,null,null,null,null,null,null,null,null,null,null,null,{"$f":"'Annual Data'!$AD$15","v":1},{"$f":"'Annual Data'!$AG$15","v":0.1},0,0]
[null,null,null,null,null,null,null,null,null,null,null,null,null,null,null,null,null,null,null,null,null,null,null,null,null,null,null,null,null,null,null,null,{"$f":"'Annual Data'!$AD$15","v":1},{"$f":"'Annual Data'!$AG$15","v":0.1},0,0]
[null,null,null,null,null,null,null,null,null,null,null,null,null,null,null,null,null,null,null,null,null,null,null,null,null,null,null,null,null,null,null,null,{"$f":"'Annual Data'!$AD$15","v":1},{"$f":"'Annual Data'!$AG$15","v":0.1},0,0]
[null,null,null,null,null,null,null,null,null,null,null,null,null,null,null,null,null,null,null,null,null,null,null,null,null,null,null,null,null,null,null,null,{"$f":"'Annual Data'!$AD$15","v":1},{"$f":"'Annual Data'!$AG$15","v":0.1},0,0]
[null,null,null,null,null,null,null,null,null,null,null,null,null,null,null,null,null,null,null,null,null,null,null,null,null,null,null,null,null,null,null,null,{"$f":"'Annual Data'!$AD$15","v":1},{"$f":"'Annual Data'!$AG$15","v":0.1},0,0]
[null,null,null,null,null,null,null,null,null,null,null,null,null,null,null,null,null,null,null,null,null,null,null,null,null,null,null,null,null,null,null,null,{"$f":"'Annual Data'!$AD$15","v":1},{"$f":"'Annual Data'!$AG$15","v":0.1},0,0]
[null,null,null,null,null,null,null,null,null,null,null,null,null,null,null,null,null,null,null,null,null,null,null,null,null,null,null,null,null,null,null,null,{"$f":"'Annual Data'!$AD$15","v":1},{"$f":"'Annual Data'!$AG$15","v":0.1},0,0]
[null,null,null,null,null,null,null,null,null,null,null,null,null,null,null,null,null,null,null,null,null,null,null,null,null,null,null,null,null,null,null,null,{"$f":"'Annual Data'!$AD$15","v":1},{"$f":"'Annual Data'!$AG$15","v":0.1},0,0]
[null,null,null,null,null,null,null,null,null,null,null,null,null,null,null,null,null,null,null,null,null,null,null,null,null,null,null,null,null,null,null,null,{"$f":"'Annual Data'!$AD$15","v":1},{"$f":"'Annual Data'!$AG$15","v":0.1},0,0]
[null,null,null,null,null,null,null,null,null,null,null,null,null,null,null,null,null,null,null,null,null,null,null,null,null,null,null,null,null,null,null,null,{"$f":"'Annual Data'!$AD$15","v":1},{"$f":"'Annual Data'!$AG$15","v":0.1},0,0]
[null,null,null,null,null,null,null,null,null,null,null,null,null,null,null,null,null,null,null,null,null,null,null,null,null,null,null,null,null,null,null,null,{"$f":"'Annual Data'!$AD$15","v":1},{"$f":"'Annual Data'!$AG$15","v":0.1},0,0]
[null,null,null,null,null,null,null,null,null,null,null,null,null,null,null,null,null,null,null,null,null,null,null,null,null,null,null,null,null,null,null,null,{"$f":"'Annual Data'!$AD$15","v":1},{"$f":"'Annual Data'!$AG$15","v":0.1},0,0]
[null,null,null,null,null,null,null,null,null,null,null,null,null,null,null,null,null,null,null,null,null,null,null,null,null,null,null,null,null,null,null,null,{"$f":"'Annual Data'!$AD$15","v":1},{"$f":"'Annual Data'!$AG$15","v":0.1},0,0]
[null,null,null,null,null,null,null,null,null,null,null,null,null,null,null,null,null,null,null,null,null,null,null,null,null,null,null,null,null,null,null,null,{"$f":"'Annual Data'!$AD$15","v":1},{"$f":"'Annual Data'!$AG$15","v":0.1},0,0]
[null,null,null,null,null,null,null,null,null,null,null,null,null,null,null,null,null,null,null,null,null,null,null,null,null,null,null,null,null,null,null,null,{"$f":"'Annual Data'!$AD$15","v":1},{"$f":"'Annual Data'!$AG$15","v":0.1},0,0]
[null,null,null,null,null,null,null,null,null,null,null,null,null,null,null,null,null,null,null,null,null,null,null,null,null,null,null,null,null,null,null,null,{"$f":"'Annual Data'!$AD$15","v":1},{"$f":"'Annual Data'!$AG$15","v":0.1},0,0]
[null,null,null,null,null,null,null,null,null,null,null,null,null,null,null,null,null,null,null,null,null,null,null,null,null,null,null,null,null,null,null,null,{"$f":"'Annual Data'!$AD$15","v":1},{"$f":"'Annual Data'!$AG$15","v":0.1},0,0]
[null,null,null,null,null,null,null,null,null,null,null,null,null,null,null,null,null,null,null,null,null,null,null,null,null,null,null,null,null,null,null,null,{"$f":"'Annual Data'!$AD$15","v":1},{"$f":"'Annual Data'!$AG$15","v":0.1},0,0]
[null,null,null,null,null,null,null,null,null,null,null,null,null,null,null,null,null,null,null,null,null,null,null,null,null,null,null,null,null,null,null,null,{"$f":"'Annual Data'!$AD$15","v":1},{"$f":"'Annual Data'!$AG$15","v":0.1},0,0]
[null,null,null,null,null,null,null,null,null,null,null,null,null,null,null,null,null,null,null,null,null,null,null,null,null,null,null,null,null,null,null,null,{"$f":"'Annual Data'!$AD$15","v":1},{"$f":"'Annual Data'!$AG$15","v":0.1},0,0]
[null,null,null,null,null,null,null,null,null,null,null,null,null,null,null,null,null,null,null,null,null,null,null,null,null,null,null,null,null,null,null,null,{"$f":"'Annual Data'!$AD$15","v":1},{"$f":"'Annual Data'!$AG$15","v":0.1},0,0]
[null,null,null,null,null,null,null,null,null,null,null,null,null,null,null,null,null,null,null,null,null,null,null,null,null,null,null,null,null,null,null,null,{"$f":"'Annual Data'!$AD$15","v":1},{"$f":"'Annual Data'!$AG$15","v":0.1},0,0]
[null,null,null,null,null,null,null,null,null,null,null,null,null,null,null,null,null,null,null,null,null,null,null,null,null,null,null,null,null,null,null,null,{"$f":"'Annual Data'!$AD$15","v":1},{"$f":"'Annual Data'!$AG$15","v":0.1},0,0]
[null,null,null,null,null,null,null,null,null,null,null,null,null,null,null,null,null,null,null,null,null,null,null,null,null,null,null,null,null,null,null,null,{"$f":"'Annual Data'!$AD$15","v":1},{"$f":"'Annual Data'!$AG$15","v":0.1},0,0]
[null,null,null,null,null,null,null,null,null,null,null,null,null,null,null,null,null,null,null,null,null,null,null,null,null,null,null,null,null,null,null,null,{"$f":"'Annual Data'!$AD$15","v":1},{"$f":"'Annual Data'!$AG$15","v":0.1},0,0]
[null,null,null,null,null,null,null,null,null,null,null,null,null,null,null,null,null,null,null,null,null,null,null,null,null,null,null,null,null,null,null,null,{"$f":"'Annual Data'!$AD$15","v":1},{"$f":"'Annual Data'!$AG$15","v":0.1},0,0]
[null,null,null,null,null,null,null,null,null,null,null,null,null,null,null,null,null,null,null,null,null,null,null,null,null,null,null,null,null,null,null,null,{"$f":"'Annual Data'!$AD$15","v":1},{"$f":"'Annual Data'!$AG$15","v":0.1},0,0]
[null,null,null,null,null,null,null,null,null,null,null,null,null,null,null,null,null,null,null,null,null,null,null,null,null,null,null,null,null,null,null,null,{"$f":"'Annual Data'!$AD$15","v":1},{"$f":"'Annual Data'!$AG$15","v":0.1},0,0]
[null,null,null,null,null,null,null,null,null,null,null,null,null,null,null,null,null,null,null,null,null,null,null,null,null,null,null,null,null,null,null,null,{"$f":"'Annual Data'!$AD$15","v":1},{"$f":"'Annual Data'!$AG$15","v":0.1},0,0]
[null,null,null,null,null,null,null,null,null,null,null,null,null,null,null,null,null,null,null,null,null,null,null,null,null,null,null,null,null,null,null,null,{"$f":"'Annual Data'!$AD$15","v":1},{"$f":"'Annual Data'!$AG$15","v":0.1},0,0]
[null,null,null,null,null,null,null,null,null,null,null,null,null,null,null,null,null,null,null,null,null,null,null,null,null,null,null,null,null,null,null,null,{"$f":"'Annual Data'!$AD$15","v":1},{"$f":"'Annual Data'!$AG$15","v":0.1},0,0]
[null,null,null,null,null,null,null,null,null,null,null,null,null,null,null,null,null,null,null,null,null,null,null,null,null,null,null,null,null,null,null,null,{"$f":"'Annual Data'!$AD$15","v":1},{"$f":"'Annual Data'!$AG$15","v":0.1},0,0]
[null,null,null,null,null,null,null,null,null,null,null,null,null,null,null,null,null,null,null,null,null,null,null,null,null,null,null,null,null,null,null,null,{"$f":"'Annual Data'!$AD$15","v":1},{"$f":"'Annual Data'!$AG$15","v":0.1},0,0]
[null,null,null,null,null,null,null,null,null,null,null,null,null,null,null,null,null,null,null,null,null,null,null,null,null,null,null,null,null,null,null,null,{"$f":"'Annual Data'!$AD$15","v":1},{"$f":"'Annual Data'!$AG$15","v":0.1},0,0]
[null,null,null,null,null,null,null,null,null,null,null,null,null,null,null,null,null,null,null,null,null,null,null,null,null,null,null,null,null,null,null,null,{"$f":"'Annual Data'!$AD$15","v":1},{"$f":"'Annual Data'!$AG$15","v":0.1},0,0]
[null,null,null,null,null,null,null,null,null,null,null,null,null,null,null,null,null,null,null,null,null,null,null,null,null,null,null,null,null,null,null,null,{"$f":"'Annual Data'!$AD$15","v":1},{"$f":"'Annual Data'!$AG$15","v":0.1},0,0]
[null,null,null,null,null,null,null,null,null,null,null,null,null,null,null,null,null,null,null,null,null,null,null,null,null,null,null,null,null,null,null,null,{"$f":"'Annual Data'!$AD$15","v":1},{"$f":"'Annual Data'!$AG$15","v":0.1},0,0]
[null,null,null,null,null,null,null,null,null,null,null,null,null,null,null,null,null,null,null,null,null,null,null,null,null,null,null,null,null,null,null,null,{"$f":"'Annual Data'!$AD$15","v":1},{"$f":"'Annual Data'!$AG$15","v":0.1},0,0]
[null,null,null,null,null,null,null,null,null,null,null,null,null,null,null,null,null,null,null,null,null,null,null,null,null,null,null,null,null,null,null,null,{"$f":"'Annual Data'!$AD$15","v":1},{"$f":"'Annual Data'!$AG$15","v":0.1},0,0]
[null,null,null,null,null,null,null,null,null,null,null,null,null,null,null,null,null,null,null,null,null,null,null,null,null,null,null,null,null,null,null,null,{"$f":"'Annual Data'!$AD$15","v":1},{"$f":"'Annual Data'!$AG$15","v":0.1},0,0]
[null,null,null,null,null,null,null,null,null,null,null,null,null,null,null,null,null,null,null,null,null,null,null,null,null,null,null,null,null,null,null,null,{"$f":"'Annual Data'!$AD$15","v":1},{"$f":"'Annual Data'!$AG$15","v":0.1},0,0]
[null,null,null,null,null,null,null,null,null,null,null,null,null,null,null,null,null,null,null,null,null,null,null,null,null,null,null,null,null,null,null,null,{"$f":"'Annual Data'!$AD$15","v":1},{"$f":"'Annual Data'!$AG$15","v":0.1},0,0]
[null,null,null,null,null,null,null,null,null,null,null,null,null,null,null,null,null,null,null,null,null,null,null,null,null,null,null,null,null,null,null,null,{"$f":"'Annual Data'!$AD$15","v":1},{"$f":"'Annual Data'!$AG$15","v":0.1},0,0]
[null,null,null,null,null,null,null,null,null,null,null,null,null,null,null,null,null,null,null,null,null,null,null,null,null,null,null,null,null,null,null,null,{"$f":"'Annual Data'!$AD$15","v":1},{"$f":"'Annual Data'!$AG$15","v":0.1},0,0]
[null,null,null,null,null,null,null,null,null,null,null,null,null,null,null,null,null,null,null,null,null,null,null,null,null,null,null,null,null,null,null,null,{"$f":"'Annual Data'!$AD$15","v":1},{"$f":"'Annual Data'!$AG$15","v":0.1},0,0]
[null,null,null,null,null,null,null,null,null,null,null,null,null,null,null,null,null,null,null,null,null,null,null,null,null,null,null,null,null,null,null,null,{"$f":"'Annual Data'!$AD$15","v":1},{"$f":"'Annual Data'!$AG$15","v":0.1},0,0]
[null,null,null,null,null,null,null,null,null,null,null,null,null,null,null,null,null,null,null,null,null,null,null,null,null,null,null,null,null,null,null,null,{"$f":"'Annual Data'!$AD$15","v":1},{"$f":"'Annual Data'!$AG$15","v":0.1},0,0]
[null,null,null,null,null,null,null,null,null,null,null,null,null,null,null,null,null,null,null,null,null,null,null,null,null,null,null,null,null,null,null,null,{"$f":"'Annual Data'!$AD$15","v":1},{"$f":"'Annual Data'!$AG$15","v":0.1},0,0]
[null,null,null,null,null,null,null,null,null,null,null,null,null,null,null,null,null,null,null,null,null,null,null,null,null,null,null,null,null,null,null,null,{"$f":"'Annual Data'!$AD$15","v":1},{"$f":"'Annual Data'!$AG$15","v":0.1},0,0]
[null,null,null,null,null,null,null,null,null,null,null,null,null,null,null,null,null,null,null,null,null,null,null,null,null,null,null,null,null,null,null,null,{"$f":"'Annual Data'!$AD$15","v":1},{"$f":"'Annual Data'!$AG$15","v":0.1},0,0]
[null,null,null,null,null,null,null,null,null,null,null,null,null,null,null,null,null,null,null,null,null,null,null,null,null,null,null,null,null,null,null,null,{"$f":"'Annual Data'!$AD$15","v":1},{"$f":"'Annual Data'!$AG$15","v":0.1},0,0]
[null,null,null,null,null,null,null,null,null,null,null,null,null,null,null,null,null,null,null,null,null,null,null,null,null,null,null,null,null,null,null,null,{"$f":"'Annual Data'!$AD$15","v":1},{"$f":"'Annual Data'!$AG$15","v":0.1},{"$f":"MAX(C330:F330)","v":0},{"$f":"MAX(G330:R330)","v":0}]
[null,null,null,null,null,null,null,null,null,null,null,null,null,null,null,null,null,null,null,null,null,null,null,null,null,null,null,null,null,null,null,null,{"$f":"'Annual Data'!$AD$15","v":1},{"$f":"'Annual Data'!$AG$15","v":0.1},0,0]
[null,null,null,null,null,null,null,null,null,null,null,null,null,null,null,null,null,null,null,null,null,null,null,null,null,null,null,null,null,null,null,null,{"$f":"'Annual Data'!$AD$15","v":1},{"$f":"'Annual Data'!$AG$15","v":0.1},0,0]
[null,null,null,null,null,null,null,null,null,null,null,null,null,null,null,null,null,null,null,null,null,null,null,null,null,null,null,null,null,null,null,null,{"$f":"'Annual Data'!$AD$15","v":1},{"$f":"'Annual Data'!$AG$15","v":0.1},0,0]
[null,null,null,null,null,null,null,null,null,null,null,null,null,null,null,null,null,null,null,null,null,null,null,null,null,null,null,null,null,null,null,null,{"$f":"'Annual Data'!$AD$15","v":1},{"$f":"'Annual Data'!$AG$15","v":0.1},0,0]
[null,null,null,null,null,null,null,null,null,null,null,null,null,null,null,null,null,null,null,null,null,null,null,null,null,null,null,null,null,null,null,null,{"$f":"'Annual Data'!$AD$15","v":1},{"$f":"'Annual Data'!$AG$15","v":0.1},0,0]
[null,null,null,null,null,null,null,null,null,null,null,null,null,null,null,null,null,null,null,null,null,null,null,null,null,null,null,null,null,null,null,null,{"$f":"'Annual Data'!$AD$15","v":1},{"$f":"'Annual Data'!$AG$15","v":0.1},0,0]
[null,null,null,null,null,null,null,null,null,null,null,null,null,null,null,null,null,null,null,null,null,null,null,null,null,null,null,null,null,null,null,null,{"$f":"'Annual Data'!$AD$15","v":1},{"$f":"'Annual Data'!$AG$15","v":0.1},0,0]
[null,null,null,null,null,null,null,null,null,null,null,null,null,null,null,null,null,null,null,null,null,null,null,null,null,null,null,null,null,null,null,null,{"$f":"'Annual Data'!$AD$15","v":1},{"$f":"'Annual Data'!$AG$15","v":0.1},0,0]
[null,null,null,null,null,null,null,null,null,null,null,null,null,null,null,null,null,null,null,null,null,null,null,null,null,null,null,null,null,null,null,null,{"$f":"'Annual Data'!$AD$15","v":1},{"$f":"'Annual Data'!$AG$15","v":0.1},0,0]
[null,null,null,null,null,null,null,null,null,null,null,null,null,null,null,null,null,null,null,null,null,null,null,null,null,null,null,null,null,null,null,null,{"$f":"'Annual Data'!$AD$15","v":1},{"$f":"'Annual Data'!$AG$15","v":0.1},0,0]
[null,null,null,null,null,null,null,null,null,null,null,null,null,null,null,null,null,null,null,null,null,null,null,null,null,null,null,null,null,null,null,null,{"$f":"'Annual Data'!$AD$15","v":1},{"$f":"'Annual Data'!$AG$15","v":0.1},0,0]
[null,null,null,null,null,null,null,null,null,null,null,null,null,null,null,null,null,null,null,null,null,null,null,null,null,null,null,null,null,null,null,null,{"$f":"'Annual Data'!$AD$15","v":1},{"$f":"'Annual Data'!$AG$15","v":0.1},0,0]
[null,null,null,null,null,null,null,null,null,null,null,null,null,null,null,null,null,null,null,null,null,null,null,null,null,null,null,null,null,null,null,null,{"$f":"'Annual Data'!$AD$15","v":1},{"$f":"'Annual Data'!$AG$15","v":0.1},0,0]
[null,null,null,null,null,null,null,null,null,null,null,null,null,null,null,null,null,null,null,null,null,null,null,null,null,null,null,null,null,null,null,null,{"$f":"'Annual Data'!$AD$15","v":1},{"$f":"'Annual Data'!$AG$15","v":0.1},0,0]
[null,null,null,null,null,null,null,null,null,null,null,null,null,null,null,null,null,null,null,null,null,null,null,null,null,null,null,null,null,null,null,null,{"$f":"'Annual Data'!$AD$15","v":1},{"$f":"'Annual Data'!$AG$15","v":0.1},0,0]
[null,null,null,null,null,null,null,null,null,null,null,null,null,null,null,null,null,null,null,null,null,null,null,null,null,null,null,null,null,null,null,null,{"$f":"'Annual Data'!$AD$15","v":1},{"$f":"'Annual Data'!$AG$15","v":0.1},0,0]
[null,null,null,null,null,null,null,null,null,null,null,null,null,null,null,null,null,null,null,null,null,null,null,null,null,null,null,null,null,null,null,null,{"$f":"'Annual Data'!$AD$15","v":1},{"$f":"'Annual Data'!$AG$15","v":0.1},0,0]
[null,null,null,null,null,null,null,null,null,null,null,null,null,null,null,null,null,null,null,null,null,null,null,null,null,null,null,null,null,null,null,null,{"$f":"'Annual Data'!$AD$15","v":1},{"$f":"'Annual Data'!$AG$15","v":0.1},0,0]
[null,null,null,null,null,null,null,null,null,null,null,null,null,null,null,null,null,null,null,null,null,null,null,null,null,null,null,null,null,null,null,null,{"$f":"'Annual Data'!$AD$15","v":1},{"$f":"'Annual Data'!$AG$15","v":0.1},0,0]
[null,null,null,null,null,null,null,null,null,null,null,null,null,null,null,null,null,null,null,null,null,null,null,null,null,null,null,null,null,null,null,null,{"$f":"'Annual Data'!$AD$15","v":1},{"$f":"'Annual Data'!$AG$15","v":0.1},0,0]
[null,null,null,null,null,null,null,null,null,null,null,null,null,null,null,null,null,null,null,null,null,null,null,null,null,null,null,null,null,null,null,null,{"$f":"'Annual Data'!$AD$15","v":1},{"$f":"'Annual Data'!$AG$15","v":0.1},0,0]
[null,null,null,null,null,null,null,null,null,null,null,null,null,null,null,null,null,null,null,null,null,null,null,null,null,null,null,null,null,null,null,null,{"$f":"'Annual Data'!$AD$15","v":1},{"$f":"'Annual Data'!$AG$15","v":0.1},0,0]
[null,null,null,null,null,null,null,null,null,null,null,null,null,null,null,null,null,null,null,null,null,null,null,null,null,null,null,null,null,null,null,null,{"$f":"'Annual Data'!$AD$15","v":1},{"$f":"'Annual Data'!$AG$15","v":0.1},0,0]
[null,null,null,null,null,null,null,null,null,null,null,null,null,null,null,null,null,null,null,null,null,null,null,null,null,null,null,null,null,null,null,null,{"$f":"'Annual Data'!$AD$15","v":1},{"$f":"'Annual Data'!$AG$15","v":0.1},0,0]
[null,null,null,null,null,null,null,null,null,null,null,null,null,null,null,null,null,null,null,null,null,null,null,null,null,null,null,null,null,null,null,null,{"$f":"'Annual Data'!$AD$15","v":1},{"$f":"'Annual Data'!$AG$15","v":0.1},0,0]
[null,null,null,null,null,null,null,null,null,null,null,null,null,null,null,null,null,null,null,null,null,null,null,null,null,null,null,null,null,null,null,null,{"$f":"'Annual Data'!$AD$15","v":1},{"$f":"'Annual Data'!$AG$15","v":0.1},0,0]
[null,null,null,null,null,null,null,null,null,null,null,null,null,null,null,null,null,null,null,null,null,null,null,null,null,null,null,null,null,null,null,null,{"$f":"'Annual Data'!$AD$15","v":1},{"$f":"'Annual Data'!$AG$15","v":0.1},0,0]
[null,null,null,null,null,null,null,null,null,null,null,null,null,null,null,null,null,null,null,null,null,null,null,null,null,null,null,null,null,null,null,null,{"$f":"'Annual Data'!$AD$15","v":1},{"$f":"'Annual Data'!$AG$15","v":0.1},0,0]
[null,null,null,null,null,null,null,null,null,null,null,null,null,null,null,null,null,null,null,null,null,null,null,null,null,null,null,null,null,null,null,null,{"$f":"'Annual Data'!$AD$15","v":1},{"$f":"'Annual Data'!$AG$15","v":0.1},0,0]
[null,null,null,null,null,null,null,null,null,null,null,null,null,null,null,null,null,null,null,null,null,null,null,null,null,null,null,null,null,null,null,null,{"$f":"'Annual Data'!$AD$15","v":1},{"$f":"'Annual Data'!$AG$15","v":0.1},0,0]
[null,null,null,null,null,null,null,null,null,null,null,null,null,null,null,null,null,null,null,null,null,null,null,null,null,null,null,null,null,null,null,null,{"$f":"'Annual Data'!$AD$15","v":1},{"$f":"'Annual Data'!$AG$15","v":0.1},0,0]
[null,null,null,null,null,null,null,null,null,null,null,null,null,null,null,null,null,null,null,null,null,null,null,null,null,null,null,null,null,null,null,null,{"$f":"'Annual Data'!$AD$15","v":1},{"$f":"'Annual Data'!$AG$15","v":0.1},0,0]
[null,null,null,null,null,null,null,null,null,null,null,null,null,null,null,null,null,null,null,null,null,null,null,null,null,null,null,null,null,null,null,null,{"$f":"'Annual Data'!$AD$15","v":1},{"$f":"'Annual Data'!$AG$15","v":0.1},0,0]
[null,null,null,null,null,null,null,null,null,null,null,null,null,null,null,null,null,null,null,null,null,null,null,null,null,null,null,null,null,null,null,null,{"$f":"'Annual Data'!$AD$15","v":1},{"$f":"'Annual Data'!$AG$15","v":0.1},0,0]
[null,null,null,null,null,null,null,null,null,null,null,null,null,null,null,null,null,null,null,null,null,null,null,null,null,null,null,null,null,null,null,null,{"$f":"'Annual Data'!$AD$15","v":1},{"$f":"'Annual Data'!$AG$15","v":0.1},0,0]
[null,null,null,null,null,null,null,null,null,null,null,null,null,null,null,null,null,null,null,null,null,null,null,null,null,null,null,null,null,null,null,null,{"$f":"'Annual Data'!$AD$15","v":1},{"$f":"'Annual Data'!$AG$15","v":0.1},0,0]
[null,null,null,null,null,null,null,null,null,null,null,null,null,null,null,null,null,null,null,null,null,null,null,null,null,null,null,null,null,null,null,null,{"$f":"'Annual Data'!$AD$15","v":1},{"$f":"'Annual Data'!$AG$15","v":0.1},0,0]
[null,null,null,null,null,null,null,null,null,null,null,null,null,null,null,null,null,null,null,null,null,null,null,null,null,null,null,null,null,null,null,null,{"$f":"'Annual Data'!$AD$15","v":1},{"$f":"'Annual Data'!$AG$15","v":0.1},0,0]
[null,null,null,null,null,null,null,null,null,null,null,null,null,null,null,null,null,null,null,null,null,null,null,null,null,null,null,null,null,null,null,null,{"$f":"'Annual Data'!$AD$15","v":1},{"$f":"'Annual Data'!$AG$15","v":0.1},0,0]
[null,null,null,null,null,null,null,null,null,null,null,null,null,null,null,null,null,null,null,null,null,null,null,null,null,null,null,null,null,null,null,null,{"$f":"'Annual Data'!$AD$15","v":1},{"$f":"'Annual Data'!$AG$15","v":0.1},0,0]
[null,null,null,null,null,null,null,null,null,null,null,null,null,null,null,null,null,null,null,null,null,null,null,null,null,null,null,null,null,null,null,null,{"$f":"'Annual Data'!$AD$15","v":1},{"$f":"'Annual Data'!$AG$15","v":0.1},0,0]
[null,null,null,null,null,null,null,null,null,null,null,null,null,null,null,null,null,null,null,null,null,null,null,null,null,null,null,null,null,null,null,null,{"$f":"'Annual Data'!$AD$15","v":1},{"$f":"'Annual Data'!$AG$15","v":0.1},0,0]
[null,null,null,null,null,null,null,null,null,null,null,null,null,null,null,null,null,null,null,null,null,null,null,null,null,null,null,null,null,null,null,null,{"$f":"'Annual Data'!$AD$15","v":1},{"$f":"'Annual Data'!$AG$15","v":0.1},0,0]
[null,null,null,null,null,null,null,null,null,null,null,null,null,null,null,null,null,null,null,null,null,null,null,null,null,null,null,null,null,null,null,null,{"$f":"'Annual Data'!$AD$15","v":1},{"$f":"'Annual Data'!$AG$15","v":0.1},0,0]
[null,null,null,null,null,null,null,null,null,null,null,null,null,null,null,null,null,null,null,null,null,null,null,null,null,null,null,null,null,null,null,null,{"$f":"'Annual Data'!$AD$15","v":1},{"$f":"'Annual Data'!$AG$15","v":0.1},0,0]
[null,null,null,null,null,null,null,null,null,null,null,null,null,null,null,null,null,null,null,null,null,null,null,null,null,null,null,null,null,null,null,null,{"$f":"'Annual Data'!$AD$15","v":1},{"$f":"'Annual Data'!$AG$15","v":0.1},0,0]
[null,null,null,null,null,null,null,null,null,null,null,null,null,null,null,null,null,null,null,null,null,null,null,null,null,null,null,null,null,null,null,null,{"$f":"'Annual Data'!$AD$15","v":1},{"$f":"'Annual Data'!$AG$15","v":0.1},0,0]
[null,null,null,null,null,null,null,null,null,null,null,null,null,null,null,null,null,null,null,null,null,null,null,null,null,null,null,null,null,null,null,null,{"$f":"'Annual Data'!$AD$15","v":1},{"$f":"'Annual Data'!$AG$15","v":0.1},0,0]
[null,null,null,null,null,null,null,null,null,null,null,null,null,null,null,null,null,null,null,null,null,null,null,null,null,null,null,null,null,null,null,null,{"$f":"'Annual Data'!$AD$15","v":1},{"$f":"'Annual Data'!$AG$15","v":0.1},0,0]
[null,null,null,null,null,null,null,null,null,null,null,null,null,null,null,null,null,null,null,null,null,null,null,null,null,null,null,null,null,null,null,null,{"$f":"'Annual Data'!$AD$15","v":1},{"$f":"'Annual Data'!$AG$15","v":0.1},0,0]
[null,null,null,null,null,null,null,null,null,null,null,null,null,null,null,null,null,null,null,null,null,null,null,null,null,null,null,null,null,null,null,null,{"$f":"'Annual Data'!$AD$15","v":1},{"$f":"'Annual Data'!$AG$15","v":0.1},0,0]
[null,null,null,null,null,null,null,null,null,null,null,null,null,null,null,null,null,null,null,null,null,null,null,null,null,null,null,null,null,null,null,null,{"$f":"'Annual Data'!$AD$15","v":1},{"$f":"'Annual Data'!$AG$15","v":0.1},0,0]
[null,null,null,null,null,null,null,null,null,null,null,null,null,null,null,null,null,null,null,null,null,null,null,null,null,null,null,null,null,null,null,null,{"$f":"'Annual Data'!$AD$15","v":1},{"$f":"'Annual Data'!$AG$15","v":0.1},0,0]
[null,null,null,null,null,null,null,null,null,null,null,null,null,null,null,null,null,null,null,null,null,null,null,null,null,null,null,null,null,null,null,null,{"$f":"'Annual Data'!$AD$15","v":1},{"$f":"'Annual Data'!$AG$15","v":0.1},0,0]
[null,null,null,null,null,null,null,null,null,null,null,null,null,null,null,null,null,null,null,null,null,null,null,null,null,null,null,null,null,null,null,null,{"$f":"'Annual Data'!$AD$15","v":1},{"$f":"'Annual Data'!$AG$15","v":0.1},0,0]
[null,null,null,null,null,null,null,null,null,null,null,null,null,null,null,null,null,null,null,null,null,null,null,null,null,null,null,null,null,null,null,null,{"$f":"'Annual Data'!$AD$15","v":1},{"$f":"'Annual Data'!$AG$15","v":0.1},0,0]
[null,null,null,null,null,null,null,null,null,null,null,null,null,null,null,null,null,null,null,null,null,null,null,null,null,null,null,null,null,null,null,null,{"$f":"'Annual Data'!$AD$15","v":1},{"$f":"'Annual Data'!$AG$15","v":0.1},0,0]
[null,null,null,null,null,null,null,null,null,null,null,null,null,null,null,null,null,null,null,null,null,null,null,null,null,null,null,null,null,null,null,null,{"$f":"'Annual Data'!$AD$15","v":1},{"$f":"'Annual Data'!$AG$15","v":0.1},0,0]
[null,null,null,null,null,null,null,null,null,null,null,null,null,null,null,null,null,null,null,null,null,null,null,null,null,null,null,null,null,null,null,null,{"$f":"'Annual Data'!$AD$15","v":1},{"$f":"'Annual Data'!$AG$15","v":0.1},0,0]
[null,null,null,null,null,null,null,null,null,null,null,null,null,null,null,null,null,null,null,null,null,null,null,null,null,null,null,null,null,null,null,null,{"$f":"'Annual Data'!$AD$15","v":1},{"$f":"'Annual Data'!$AG$15","v":0.1},0,0]
[null,null,null,null,null,null,null,null,null,null,null,null,null,null,null,null,null,null,null,null,null,null,null,null,null,null,null,null,null,null,null,null,{"$f":"'Annual Data'!$AD$15","v":1},{"$f":"'Annual Data'!$AG$15","v":0.1},0,0]
[null,null,null,null,null,null,null,null,null,null,null,null,null,null,null,null,null,null,null,null,null,null,null,null,null,null,null,null,null,null,null,null,{"$f":"'Annual Data'!$AD$15","v":1},{"$f":"'Annual Data'!$AG$15","v":0.1},0,0]
[null,null,null,null,null,null,null,null,null,null,null,null,null,null,null,null,null,null,null,null,null,null,null,null,null,null,null,null,null,null,null,null,{"$f":"'Annual Data'!$AD$15","v":1},{"$f":"'Annual Data'!$AG$15","v":0.1},0,0]
[null,null,null,null,null,null,null,null,null,null,null,null,null,null,null,null,null,null,null,null,null,null,null,null,null,null,null,null,null,null,null,null,{"$f":"'Annual Data'!$AD$15","v":1},{"$f":"'Annual Data'!$AG$15","v":0.1},{"$f":"MAX(C394:F394)","v":0},{"$f":"MAX(G394:R394)","v":0}]
[null,null,null,null,null,null,null,null,null,null,null,null,null,null,null,null,null,null,null,null,null,null,null,null,null,null,null,null,null,null,null,null,{"$f":"'Annual Data'!$AD$15","v":1},{"$f":"'Annual Data'!$AG$15","v":0.1},0,0]
[null,null,null,null,null,null,null,null,null,null,null,null,null,null,null,null,null,null,null,null,null,null,null,null,null,null,null,null,null,null,null,null,{"$f":"'Annual Data'!$AD$15","v":1},{"$f":"'Annual Data'!$AG$15","v":0.1},0,0]
[null,null,null,null,null,null,null,null,null,null,null,null,null,null,null,null,null,null,null,null,null,null,null,null,null,null,null,null,null,null,null,null,{"$f":"'Annual Data'!$AD$15","v":1},{"$f":"'Annual Data'!$AG$15","v":0.1},0,0]
[null,null,null,null,null,null,null,null,null,null,null,null,null,null,null,null,null,null,null,null,null,null,null,null,null,null,null,null,null,null,null,null,{"$f":"'Annual Data'!$AD$15","v":1},{"$f":"'Annual Data'!$AG$15","v":0.1},0,0]
[null,null,null,null,null,null,null,null,null,null,null,null,null,null,null,null,null,null,null,null,null,null,null,null,null,null,null,null,null,null,null,null,{"$f":"'Annual Data'!$AD$15","v":1},{"$f":"'Annual Data'!$AG$15","v":0.1},0,0]
[null,null,null,null,null,null,null,null,null,null,null,null,null,null,null,null,null,null,null,null,null,null,null,null,null,null,null,null,null,null,null,null,{"$f":"'Annual Data'!$AD$15","v":1},{"$f":"'Annual Data'!$AG$15","v":0.1},0,0]
[null,null,null,null,null,null,null,null,null,null,null,null,null,null,null,null,null,null,null,null,null,null,null,null,null,null,null,null,null,null,null,null,{"$f":"'Annual Data'!$AD$15","v":1},{"$f":"'Annual Data'!$AG$15","v":0.1},0,0]
[null,null,null,null,null,null,null,null,null,null,null,null,null,null,null,null,null,null,null,null,null,null,null,null,null,null,null,null,null,null,null,null,{"$f":"'Annual Data'!$AD$15","v":1},{"$f":"'Annual Data'!$AG$15","v":0.1},0,0]
[null,null,null,null,null,null,null,null,null,null,null,null,null,null,null,null,null,null,null,null,null,null,null,null,null,null,null,null,null,null,null,null,{"$f":"'Annual Data'!$AD$15","v":1},{"$f":"'Annual Data'!$AG$15","v":0.1},0,0]
[null,null,null,null,null,null,null,null,null,null,null,null,null,null,null,null,null,null,null,null,null,null,null,null,null,null,null,null,null,null,null,null,{"$f":"'Annual Data'!$AD$15","v":1},{"$f":"'Annual Data'!$AG$15","v":0.1},0,0]
[null,null,null,null,null,null,null,null,null,null,null,null,null,null,null,null,null,null,null,null,null,null,null,null,null,null,null,null,null,null,null,null,{"$f":"'Annual Data'!$AD$15","v":1},{"$f":"'Annual Data'!$AG$15","v":0.1},0,0]
[null,null,null,null,null,null,null,null,null,null,null,null,null,null,null,null,null,null,null,null,null,null,null,null,null,null,null,null,null,null,null,null,{"$f":"'Annual Data'!$AD$15","v":1},{"$f":"'Annual Data'!$AG$15","v":0.1},0,0]
[null,null,null,null,null,null,null,null,null,null,null,null,null,null,null,null,null,null,null,null,null,null,null,null,null,null,null,null,null,null,null,null,{"$f":"'Annual Data'!$AD$15","v":1},{"$f":"'Annual Data'!$AG$15","v":0.1},0,0]
[null,null,null,null,null,null,null,null,null,null,null,null,null,null,null,null,null,null,null,null,null,null,null,null,null,null,null,null,null,null,null,null,{"$f":"'Annual Data'!$AD$15","v":1},{"$f":"'Annual Data'!$AG$15","v":0.1},0,0]
[null,null,null,null,null,null,null,null,null,null,null,null,null,null,null,null,null,null,null,null,null,null,null,null,null,null,null,null,null,null,null,null,{"$f":"'Annual Data'!$AD$15","v":1},{"$f":"'Annual Data'!$AG$15","v":0.1},0,0]
[null,null,null,null,null,null,null,null,null,null,null,null,null,null,null,null,null,null,null,null,null,null,null,null,null,null,null,null,null,null,null,null,{"$f":"'Annual Data'!$AD$15","v":1},{"$f":"'Annual Data'!$AG$15","v":0.1},0,0]
[null,null,null,null,null,null,null,null,null,null,null,null,null,null,null,null,null,null,null,null,null,null,null,null,null,null,null,null,null,null,null,null,{"$f":"'Annual Data'!$AD$15","v":1},{"$f":"'Annual Data'!$AG$15","v":0.1},0,0]
[null,null,null,null,null,null,null,null,null,null,null,null,null,null,null,null,null,null,null,null,null,null,null,null,null,null,null,null,null,null,null,null,{"$f":"'Annual Data'!$AD$15","v":1},{"$f":"'Annual Data'!$AG$15","v":0.1},0,0]
[null,null,null,null,null,null,null,null,null,null,null,null,null,null,null,null,null,null,null,null,null,null,null,null,null,null,null,null,null,null,null,null,{"$f":"'Annual Data'!$AD$15","v":1},{"$f":"'Annual Data'!$AG$15","v":0.1},0,0]
[null,null,null,null,null,null,null,null,null,null,null,null,null,null,null,null,null,null,null,null,null,null,null,null,null,null,null,null,null,null,null,null,{"$f":"'Annual Data'!$AD$15","v":1},{"$f":"'Annual Data'!$AG$15","v":0.1},0,0]
[null,null,null,null,null,null,null,null,null,null,null,null,null,null,null,null,null,null,null,null,null,null,null,null,null,null,null,null,null,null,null,null,{"$f":"'Annual Data'!$AD$15","v":1},{"$f":"'Annual Data'!$AG$15","v":0.1},0,0]
[null,null,null,null,null,null,null,null,null,null,null,null,null,null,null,null,null,null,null,null,null,null,null,null,null,null,null,null,null,null,null,null,{"$f":"'Annual Data'!$AD$15","v":1},{"$f":"'Annual Data'!$AG$15","v":0.1},0,0]
[null,null,null,null,null,null,null,null,null,null,null,null,null,null,null,null,null,null,null,null,null,null,null,null,null,null,null,null,null,null,null,null,{"$f":"'Annual Data'!$AD$15","v":1},{"$f":"'Annual Data'!$AG$15","v":0.1},0,0]
[null,null,null,null,null,null,null,null,null,null,null,null,null,null,null,null,null,null,null,null,null,null,null,null,null,null,null,null,null,null,null,null,{"$f":"'Annual Data'!$AD$15","v":1},{"$f":"'Annual Data'!$AG$15","v":0.1},0,0]
[null,null,null,null,null,null,null,null,null,null,null,null,null,null,null,null,null,null,null,null,null,null,null,null,null,null,null,null,null,null,null,null,{"$f":"'Annual Data'!$AD$15","v":1},{"$f":"'Annual Data'!$AG$15","v":0.1},0,0]
[null,null,null,null,null,null,null,null,null,null,null,null,null,null,null,null,null,null,null,null,null,null,null,null,null,null,null,null,null,null,null,null,{"$f":"'Annual Data'!$AD$15","v":1},{"$f":"'Annual Data'!$AG$15","v":0.1},0,0]
[null,null,null,null,null,null,null,null,null,null,null,null,null,null,null,null,null,null,null,null,null,null,null,null,null,null,null,null,null,null,null,null,{"$f":"'Annual Data'!$AD$15","v":1},{"$f":"'Annual Data'!$AG$15","v":0.1},0,0]
[null,null,null,null,null,null,null,null,null,null,null,null,null,null,null,null,null,null,null,null,null,null,null,null,null,null,null,null,null,null,null,null,{"$f":"'Annual Data'!$AD$15","v":1},{"$f":"'Annual Data'!$AG$15","v":0.1},0,0]
[null,null,null,null,null,null,null,null,null,null,null,null,null,null,null,null,null,null,null,null,null,null,null,null,null,null,null,null,null,null,null,null,{"$f":"'Annual Data'!$AD$15","v":1},{"$f":"'Annual Data'!$AG$15","v":0.1},0,0]
[null,null,null,null,null,null,null,null,null,null,null,null,null,null,null,null,null,null,null,null,null,null,null,null,null,null,null,null,null,null,null,null,{"$f":"'Annual Data'!$AD$15","v":1},{"$f":"'Annual Data'!$AG$15","v":0.1},0,0]
[null,null,null,null,null,null,null,null,null,null,null,null,null,null,null,null,null,null,null,null,null,null,null,null,null,null,null,null,null,null,null,null,{"$f":"'Annual Data'!$AD$15","v":1},{"$f":"'Annual Data'!$AG$15","v":0.1},0,0]
[null,null,null,null,null,null,null,null,null,null,null,null,null,null,null,null,null,null,null,null,null,null,null,null,null,null,null,null,null,null,null,null,{"$f":"'Annual Data'!$AD$15","v":1},{"$f":"'Annual Data'!$AG$15","v":0.1},0,0]
[null,null,null,null,null,null,null,null,null,null,null,null,null,null,null,null,null,null,null,null,null,null,null,null,null,null,null,null,null,null,null,null,{"$f":"'Annual Data'!$AD$15","v":1},{"$f":"'Annual Data'!$AG$15","v":0.1},0,0]
[null,null,null,null,null,null,null,null,null,null,null,null,null,null,null,null,null,null,null,null,null,null,null,null,null,null,null,null,null,null,null,null,{"$f":"'Annual Data'!$AD$15","v":1},{"$f":"'Annual Data'!$AG$15","v":0.1},0,0]
[null,null,null,null,null,null,null,null,null,null,null,null,null,null,null,null,null,null,null,null,null,null,null,null,null,null,null,null,null,null,null,null,{"$f":"'Annual Data'!$AD$15","v":1},{"$f":"'Annual Data'!$AG$15","v":0.1},0,0]
[null,null,null,null,null,null,null,null,null,null,null,null,null,null,null,null,null,null,null,null,null,null,null,null,null,null,null,null,null,null,null,null,{"$f":"'Annual Data'!$AD$15","v":1},{"$f":"'Annual Data'!$AG$15","v":0.1},0,0]
[null,null,null,null,null,null,null,null,null,null,null,null,null,null,null,null,null,null,null,null,null,null,null,null,null,null,null,null,null,null,null,null,{"$f":"'Annual Data'!$AD$15","v":1},{"$f":"'Annual Data'!$AG$15","v":0.1},0,0]
[null,null,null,null,null,null,null,null,null,null,null,null,null,null,null,null,null,null,null,null,null,null,null,null,null,null,null,null,null,null,null,null,{"$f":"'Annual Data'!$AD$15","v":1},{"$f":"'Annual Data'!$AG$15","v":0.1},0,0]
[null,null,null,null,null,null,null,null,null,null,null,null,null,null,null,null,null,null,null,null,null,null,null,null,null,null,null,null,null,null,null,null,{"$f":"'Annual Data'!$AD$15","v":1},{"$f":"'Annual Data'!$AG$15","v":0.1},0,0]
[null,null,null,null,null,null,null,null,null,null,null,null,null,null,null,null,null,null,null,null,null,null,null,null,null,null,null,null,null,null,null,null,{"$f":"'Annual Data'!$AD$15","v":1},{"$f":"'Annual Data'!$AG$15","v":0.1},0,0]
[null,null,null,null,null,null,null,null,null,null,null,null,null,null,null,null,null,null,null,null,null,null,null,null,null,null,null,null,null,null,null,null,{"$f":"'Annual Data'!$AD$15","v":1},{"$f":"'Annual Data'!$AG$15","v":0.1},0,0]
[null,null,null,null,null,null,null,null,null,null,null,null,null,null,null,null,null,null,null,null,null,null,null,null,null,null,null,null,null,null,null,null,{"$f":"'Annual Data'!$AD$15","v":1},{"$f":"'Annual Data'!$AG$15","v":0.1},0,0]
[null,null,null,null,null,null,null,null,null,null,null,null,null,null,null,null,null,null,null,null,null,null,null,null,null,null,null,null,null,null,null,null,{"$f":"'Annual Data'!$AD$15","v":1},{"$f":"'Annual Data'!$AG$15","v":0.1},0,0]
[null,null,null,null,null,null,null,null,null,null,null,null,null,null,null,null,null,null,null,null,null,null,null,null,null,null,null,null,null,null,null,null,{"$f":"'Annual Data'!$AD$15","v":1},{"$f":"'Annual Data'!$AG$15","v":0.1},0,0]
[null,null,null,null,null,null,null,null,null,null,null,null,null,null,null,null,null,null,null,null,null,null,null,null,null,null,null,null,null,null,null,null,{"$f":"'Annual Data'!$AD$15","v":1},{"$f":"'Annual Data'!$AG$15","v":0.1},0,0]
[null,null,null,null,null,null,null,null,null,null,null,null,null,null,null,null,null,null,null,null,null,null,null,null,null,null,null,null,null,null,null,null,{"$f":"'Annual Data'!$AD$15","v":1},{"$f":"'Annual Data'!$AG$15","v":0.1},0,0]
[null,null,null,null,null,null,null,null,null,null,null,null,null,null,null,null,null,null,null,null,null,null,null,null,null,null,null,null,null,null,null,null,{"$f":"'Annual Data'!$AD$15","v":1},{"$f":"'Annual Data'!$AG$15","v":0.1},0,0]
[null,null,null,null,null,null,null,null,null,null,null,null,null,null,null,null,null,null,null,null,null,null,null,null,null,null,null,null,null,null,null,null,{"$f":"'Annual Data'!$AD$15","v":1},{"$f":"'Annual Data'!$AG$15","v":0.1},0,0]
[null,null,null,null,null,null,null,null,null,null,null,null,null,null,null,null,null,null,null,null,null,null,null,null,null,null,null,null,null,null,null,null,{"$f":"'Annual Data'!$AD$15","v":1},{"$f":"'Annual Data'!$AG$15","v":0.1},0,0]
[null,null,null,null,null,null,null,null,null,null,null,null,null,null,null,null,null,null,null,null,null,null,null,null,null,null,null,null,null,null,null,null,{"$f":"'Annual Data'!$AD$15","v":1},{"$f":"'Annual Data'!$AG$15","v":0.1},0,0]
[null,null,null,null,null,null,null,null,null,null,null,null,null,null,null,null,null,null,null,null,null,null,null,null,null,null,null,null,null,null,null,null,{"$f":"'Annual Data'!$AD$15","v":1},{"$f":"'Annual Data'!$AG$15","v":0.1},0,0]
[null,null,null,null,null,null,null,null,null,null,null,null,null,null,null,null,null,null,null,null,null,null,null,null,null,null,null,null,null,null,null,null,{"$f":"'Annual Data'!$AD$15","v":1},{"$f":"'Annual Data'!$AG$15","v":0.1},0,0]
[null,null,null,null,null,null,null,null,null,null,null,null,null,null,null,null,null,null,null,null,null,null,null,null,null,null,null,null,null,null,null,null,{"$f":"'Annual Data'!$AD$15","v":1},{"$f":"'Annual Data'!$AG$15","v":0.1},0,0]
[null,null,null,null,null,null,null,null,null,null,null,null,null,null,null,null,null,null,null,null,null,null,null,null,null,null,null,null,null,null,null,null,{"$f":"'Annual Data'!$AD$15","v":1},{"$f":"'Annual Data'!$AG$15","v":0.1},0,0]
[null,null,null,null,null,null,null,null,null,null,null,null,null,null,null,null,null,null,null,null,null,null,null,null,null,null,null,null,null,null,null,null,{"$f":"'Annual Data'!$AD$15","v":1},{"$f":"'Annual Data'!$AG$15","v":0.1},0,0]
[null,null,null,null,null,null,null,null,null,null,null,null,null,null,null,null,null,null,null,null,null,null,null,null,null,null,null,null,null,null,null,null,{"$f":"'Annual Data'!$AD$15","v":1},{"$f":"'Annual Data'!$AG$15","v":0.1},0,0]
[null,null,null,null,null,null,null,null,null,null,null,null,null,null,null,null,null,null,null,null,null,null,null,null,null,null,null,null,null,null,null,null,{"$f":"'Annual Data'!$AD$15","v":1},{"$f":"'Annual Data'!$AG$15","v":0.1},0,0]
[null,null,null,null,null,null,null,null,null,null,null,null,null,null,null,null,null,null,null,null,null,null,null,null,null,null,null,null,null,null,null,null,{"$f":"'Annual Data'!$AD$15","v":1},{"$f":"'Annual Data'!$AG$15","v":0.1},0,0]
[null,null,null,null,null,null,null,null,null,null,null,null,null,null,null,null,null,null,null,null,null,null,null,null,null,null,null,null,null,null,null,null,{"$f":"'Annual Data'!$AD$15","v":1},{"$f":"'Annual Data'!$AG$15","v":0.1},0,0]
[null,null,null,null,null,null,null,null,null,null,null,null,null,null,null,null,null,null,null,null,null,null,null,null,null,null,null,null,null,null,null,null,{"$f":"'Annual Data'!$AD$15","v":1},{"$f":"'Annual Data'!$AG$15","v":0.1},0,0]
[null,null,null,null,null,null,null,null,null,null,null,null,null,null,null,null,null,null,null,null,null,null,null,null,null,null,null,null,null,null,null,null,{"$f":"'Annual Data'!$AD$15","v":1},{"$f":"'Annual Data'!$AG$15","v":0.1},0,0]
[null,null,null,null,null,null,null,null,null,null,null,null,null,null,null,null,null,null,null,null,null,null,null,null,null,null,null,null,null,null,null,null,{"$f":"'Annual Data'!$AD$15","v":1},{"$f":"'Annual Data'!$AG$15","v":0.1},0,0]
[null,null,null,null,null,null,null,null,null,null,null,null,null,null,null,null,null,null,null,null,null,null,null,null,null,null,null,null,null,null,null,null,{"$f":"'Annual Data'!$AD$15","v":1},{"$f":"'Annual Data'!$AG$15","v":0.1},0,0]
[null,null,null,null,null,null,null,null,null,null,null,null,null,null,null,null,null,null,null,null,null,null,null,null,null,null,null,null,null,null,null,null,{"$f":"'Annual Data'!$AD$15","v":1},{"$f":"'Annual Data'!$AG$15","v":0.1},{"$f":"MAX(C458:F458)","v":0},{"$f":"MAX(G458:R458)","v":0}]
[null,null,null,null,null,null,null,null,null,null,null,null,null,null,null,null,null,null,null,null,null,null,null,null,null,null,null,null,null,null,null,null,{"$f":"'Annual Data'!$AD$15","v":1},{"$f":"'Annual Data'!$AG$15","v":0.1},0,0]
[null,null,null,null,null,null,null,null,null,null,null,null,null,null,null,null,null,null,null,null,null,null,null,null,null,null,null,null,null,null,null,null,{"$f":"'Annual Data'!$AD$15","v":1},{"$f":"'Annual Data'!$AG$15","v":0.1},0,0]
[null,null,null,null,null,null,null,null,null,null,null,null,null,null,null,null,null,null,null,null,null,null,null,null,null,null,null,null,null,null,null,null,{"$f":"'Annual Data'!$AD$15","v":1},{"$f":"'Annual Data'!$AG$15","v":0.1},0,0]
[null,null,null,null,null,null,null,null,null,null,null,null,null,null,null,null,null,null,null,null,null,null,null,null,null,null,null,null,null,null,null,null,{"$f":"'Annual Data'!$AD$15","v":1},{"$f":"'Annual Data'!$AG$15","v":0.1},0,0]
[null,null,null,null,null,null,null,null,null,null,null,null,null,null,null,null,null,null,null,null,null,null,null,null,null,null,null,null,null,null,null,null,{"$f":"'Annual Data'!$AD$15","v":1},{"$f":"'Annual Data'!$AG$15","v":0.1},0,0]
[null,null,null,null,null,null,null,null,null,null,null,null,null,null,null,null,null,null,null,null,null,null,null,null,null,null,null,null,null,null,null,null,{"$f":"'Annual Data'!$AD$15","v":1},{"$f":"'Annual Data'!$AG$15","v":0.1},0,0]
[null,null,null,null,null,null,null,null,null,null,null,null,null,null,null,null,null,null,null,null,null,null,null,null,null,null,null,null,null,null,null,null,{"$f":"'Annual Data'!$AD$15","v":1},{"$f":"'Annual Data'!$AG$15","v":0.1},0,0]
[null,null,null,null,null,null,null,null,null,null,null,null,null,null,null,null,null,null,null,null,null,null,null,null,null,null,null,null,null,null,null,null,{"$f":"'Annual Data'!$AD$15","v":1},{"$f":"'Annual Data'!$AG$15","v":0.1},0,0]
[null,null,null,null,null,null,null,null,null,null,null,null,null,null,null,null,null,null,null,null,null,null,null,null,null,null,null,null,null,null,null,null,{"$f":"'Annual Data'!$AD$15","v":1},{"$f":"'Annual Data'!$AG$15","v":0.1},0,0]
[null,null,null,null,null,null,null,null,null,null,null,null,null,null,null,null,null,null,null,null,null,null,null,null,null,null,null,null,null,null,null,null,{"$f":"'Annual Data'!$AD$15","v":1},{"$f":"'Annual Data'!$AG$15","v":0.1},0,0]
[null,null,null,null,null,null,null,null,null,null,null,null,null,null,null,null,null,null,null,null,null,null,null,null,null,null,null,null,null,null,null,null,{"$f":"'Annual Data'!$AD$15","v":1},{"$f":"'Annual Data'!$AG$15","v":0.1},0,0]
[null,null,null,null,null,null,null,null,null,null,null,null,null,null,null,null,null,null,null,null,null,null,null,null,null,null,null,null,null,null,null,null,{"$f":"'Annual Data'!$AD$15","v":1},{"$f":"'Annual Data'!$AG$15","v":0.1},0,0]
[null,null,null,null,null,null,null,null,null,null,null,null,null,null,null,null,null,null,null,null,null,null,null,null,null,null,null,null,null,null,null,null,{"$f":"'Annual Data'!$AD$15","v":1},{"$f":"'Annual Data'!$AG$15","v":0.1},0,0]
[null,null,null,null,null,null,null,null,null,null,null,null,null,null,null,null,null,null,null,null,null,null,null,null,null,null,null,null,null,null,null,null,{"$f":"'Annual Data'!$AD$15","v":1},{"$f":"'Annual Data'!$AG$15","v":0.1},0,0]
[null,null,null,null,null,null,null,null,null,null,null,null,null,null,null,null,null,null,null,null,null,null,null,null,null,null,null,null,null,null,null,null,{"$f":"'Annual Data'!$AD$15","v":1},{"$f":"'Annual Data'!$AG$15","v":0.1},0,0]
[null,null,null,null,null,null,null,null,null,null,null,null,null,null,null,null,null,null,null,null,null,null,null,null,null,null,null,null,null,null,null,null,{"$f":"'Annual Data'!$AD$15","v":1},{"$f":"'Annual Data'!$AG$15","v":0.1},0,0]
[null,null,null,null,null,null,null,null,null,null,null,null,null,null,null,null,null,null,null,null,null,null,null,null,null,null,null,null,null,null,null,null,{"$f":"'Annual Data'!$AD$15","v":1},{"$f":"'Annual Data'!$AG$15","v":0.1},0,0]
[null,null,null,null,null,null,null,null,null,null,null,null,null,null,null,null,null,null,null,null,null,null,null,null,null,null,null,null,null,null,null,null,{"$f":"'Annual Data'!$AD$15","v":1},{"$f":"'Annual Data'!$AG$15","v":0.1},0,0]
[null,null,null,null,null,null,null,null,null,null,null,null,null,null,null,null,null,null,null,null,null,null,null,null,null,null,null,null,null,null,null,null,{"$f":"'Annual Data'!$AD$15","v":1},{"$f":"'Annual Data'!$AG$15","v":0.1},0,0]
[null,null,null,null,null,null,null,null,null,null,null,null,null,null,null,null,null,null,null,null,null,null,null,null,null,null,null,null,null,null,null,null,{"$f":"'Annual Data'!$AD$15","v":1},{"$f":"'Annual Data'!$AG$15","v":0.1},0,0]
[null,null,null,null,null,null,null,null,null,null,null,null,null,null,null,null,null,null,null,null,null,null,null,null,null,null,null,null,null,null,null,null,{"$f":"'Annual Data'!$AD$15","v":1},{"$f":"'Annual Data'!$AG$15","v":0.1},0,0]
[null,null,null,null,null,null,null,null,null,null,null,null,null,null,null,null,null,null,null,null,null,null,null,null,null,null,null,null,null,null,null,null,{"$f":"'Annual Data'!$AD$15","v":1},{"$f":"'Annual Data'!$AG$15","v":0.1},0,0]
[null,null,null,null,null,null,null,null,null,null,null,null,null,null,null,null,null,null,null,null,null,null,null,null,null,null,null,null,null,null,null,null,{"$f":"'Annual Data'!$AD$15","v":1},{"$f":"'Annual Data'!$AG$15","v":0.1},0,0]
[null,null,null,null,null,null,null,null,null,null,null,null,null,null,null,null,null,null,null,null,null,null,null,null,null,null,null,null,null,null,null,null,{"$f":"'Annual Data'!$AD$15","v":1},{"$f":"'Annual Data'!$AG$15","v":0.1},0,0]
[null,null,null,null,null,null,null,null,null,null,null,null,null,null,null,null,null,null,null,null,null,null,null,null,null,null,null,null,null,null,null,null,{"$f":"'Annual Data'!$AD$15","v":1},{"$f":"'Annual Data'!$AG$15","v":0.1},0,0]
[null,null,null,null,null,null,null,null,null,null,null,null,null,null,null,null,null,null,null,null,null,null,null,null,null,null,null,null,null,null,null,null,{"$f":"'Annual Data'!$AD$15","v":1},{"$f":"'Annual Data'!$AG$15","v":0.1},0,0]
[null,null,null,null,null,null,null,null,null,null,null,null,null,null,null,null,null,null,null,null,null,null,null,null,null,null,null,null,null,null,null,null,{"$f":"'Annual Data'!$AD$15","v":1},{"$f":"'Annual Data'!$AG$15","v":0.1},0,0]
[null,null,null,null,null,null,null,null,null,null,null,null,null,null,null,null,null,null,null,null,null,null,null,null,null,null,null,null,null,null,null,null,{"$f":"'Annual Data'!$AD$15","v":1},{"$f":"'Annual Data'!$AG$15","v":0.1},0,0]
[null,null,null,null,null,null,null,null,null,null,null,null,null,null,null,null,null,null,null,null,null,null,null,null,null,null,null,null,null,null,null,null,{"$f":"'Annual Data'!$AD$15","v":1},{"$f":"'Annual Data'!$AG$15","v":0.1},0,0]
[null,null,null,null,null,null,null,null,null,null,null,null,null,null,null,null,null,null,null,null,null,null,null,null,null,null,null,null,null,null,null,null,{"$f":"'Annual Data'!$AD$15","v":1},{"$f":"'Annual Data'!$AG$15","v":0.1},0,0]
[null,null,null,null,null,null,null,null,null,null,null,null,null,null,null,null,null,null,null,null,null,null,null,null,null,null,null,null,null,null,null,null,{"$f":"'Annual Data'!$AD$15","v":1},{"$f":"'Annual Data'!$AG$15","v":0.1},0,0]
[null,null,null,null,null,null,null,null,null,null,null,null,null,null,null,null,null,null,null,null,null,null,null,null,null,null,null,null,null,null,null,null,{"$f":"'Annual Data'!$AD$15","v":1},{"$f":"'Annual Data'!$AG$15","v":0.1},0,0]
[null,null,null,null,null,null,null,null,null,null,null,null,null,null,null,null,null,null,null,null,null,null,null,null,null,null,null,null,null,null,null,null,{"$f":"'Annual Data'!$AD$15","v":1},{"$f":"'Annual Data'!$AG$15","v":0.1},0,0]
[null,null,null,null,null,null,null,null,null,null,null,null,null,null,null,null,null,null,null,null,null,null,null,null,null,null,null,null,null,null,null,null,{"$f":"'Annual Data'!$AD$15","v":1},{"$f":"'Annual Data'!$AG$15","v":0.1},0,0]
[null,null,null,null,null,null,null,null,null,null,null,null,null,null,null,null,null,null,null,null,null,null,null,null,null,null,null,null,null,null,null,null,{"$f":"'Annual Data'!$AD$15","v":1},{"$f":"'Annual Data'!$AG$15","v":0.1},0,0]
[null,null,null,null,null,null,null,null,null,null,null,null,null,null,null,null,null,null,null,null,null,null,null,null,null,null,null,null,null,null,null,null,{"$f":"'Annual Data'!$AD$15","v":1},{"$f":"'Annual Data'!$AG$15","v":0.1},0,0]
[null,null,null,null,null,null,null,null,null,null,null,null,null,null,null,null,null,null,null,null,null,null,null,null,null,null,null,null,null,null,null,null,{"$f":"'Annual Data'!$AD$15","v":1},{"$f":"'Annual Data'!$AG$15","v":0.1},0,0]
[null,null,null,null,null,null,null,null,null,null,null,null,null,null,null,null,null,null,null,null,null,null,null,null,null,null,null,null,null,null,null,null,{"$f":"'Annual Data'!$AD$15","v":1},{"$f":"'Annual Data'!$AG$15","v":0.1},0,0]
[null,null,null,null,null,null,null,null,null,null,null,null,null,null,null,null,null,null,null,null,null,null,null,null,null,null,null,null,null,null,null,null,{"$f":"'Annual Data'!$AD$15","v":1},{"$f":"'Annual Data'!$AG$15","v":0.1},0,0]
[null,null,null,null,null,null,null,null,null,null,null,null,null,null,null,null,null,null,null,null,null,null,null,null,null,null,null,null,null,null,null,null,{"$f":"'Annual Data'!$AD$15","v":1},{"$f":"'Annual Data'!$AG$15","v":0.1},0,0]
[null,null,null,null,null,null,null,null,null,null,null,null,null,null,null,null,null,null,null,null,null,null,null,null,null,null,null,null,null,null,null,null,{"$f":"'Annual Data'!$AD$15","v":1},{"$f":"'Annual Data'!$AG$15","v":0.1},0,0]
[null,null,null,null,null,null,null,null,null,null,null,null,null,null,null,null,null,null,null,null,null,null,null,null,null,null,null,null,null,null,null,null,{"$f":"'Annual Data'!$AD$15","v":1},{"$f":"'Annual Data'!$AG$15","v":0.1},0,0]
[null,null,null,null,null,null,null,null,null,null,null,null,null,null,null,null,null,null,null,null,null,null,null,null,null,null,null,null,null,null,null,null,{"$f":"'Annual Data'!$AD$15","v":1},{"$f":"'Annual Data'!$AG$15","v":0.1},0,0]
[null,null,null,null,null,null,null,null,null,null,null,null,null,null,null,null,null,null,null,null,null,null,null,null,null,null,null,null,null,null,null,null,{"$f":"'Annual Data'!$AD$15","v":1},{"$f":"'Annual Data'!$AG$15","v":0.1},0,0]
[null,null,null,null,null,null,null,null,null,null,null,null,null,null,null,null,null,null,null,null,null,null,null,null,null,null,null,null,null,null,null,null,{"$f":"'Annual Data'!$AD$15","v":1},{"$f":"'Annual Data'!$AG$15","v":0.1},0,0]
[null,null,null,null,null,null,null,null,null,null,null,null,null,null,null,null,null,null,null,null,null,null,null,null,null,null,null,null,null,null,null,null,{"$f":"'Annual Data'!$AD$15","v":1},{"$f":"'Annual Data'!$AG$15","v":0.1},0,0]
[null,null,null,null,null,null,null,null,null,null,null,null,null,null,null,null,null,null,null,null,null,null,null,null,null,null,null,null,null,null,null,null,{"$f":"'Annual Data'!$AD$15","v":1},{"$f":"'Annual Data'!$AG$15","v":0.1},0,0]
[null,null,null,null,null,null,null,null,null,null,null,null,null,null,null,null,null,null,null,null,null,null,null,null,null,null,null,null,null,null,null,null,{"$f":"'Annual Data'!$AD$15","v":1},{"$f":"'Annual Data'!$AG$15","v":0.1},0,0]
[null,null,null,null,null,null,null,null,null,null,null,null,null,null,null,null,null,null,null,null,null,null,null,null,null,null,null,null,null,null,null,null,{"$f":"'Annual Data'!$AD$15","v":1},{"$f":"'Annual Data'!$AG$15","v":0.1},0,0]
[null,null,null,null,null,null,null,null,null,null,null,null,null,null,null,null,null,null,null,null,null,null,null,null,null,null,null,null,null,null,null,null,{"$f":"'Annual Data'!$AD$15","v":1},{"$f":"'Annual Data'!$AG$15","v":0.1},0,0]
[null,null,null,null,null,null,null,null,null,null,null,null,null,null,null,null,null,null,null,null,null,null,null,null,null,null,null,null,null,null,null,null,{"$f":"'Annual Data'!$AD$15","v":1},{"$f":"'Annual Data'!$AG$15","v":0.1},0,0]
[null,null,null,null,null,null,null,null,null,null,null,null,null,null,null,null,null,null,null,null,null,null,null,null,null,null,null,null,null,null,null,null,{"$f":"'Annual Data'!$AD$15","v":1},{"$f":"'Annual Data'!$AG$15","v":0.1},0,0]
[null,null,null,null,null,null,null,null,null,null,null,null,null,null,null,null,null,null,null,null,null,null,null,null,null,null,null,null,null,null,null,null,{"$f":"'Annual Data'!$AD$15","v":1},{"$f":"'Annual Data'!$AG$15","v":0.1},0,0]
[null,null,null,null,null,null,null,null,null,null,null,null,null,null,null,null,null,null,null,null,null,null,null,null,null,null,null,null,null,null,null,null,{"$f":"'Annual Data'!$AD$15","v":1},{"$f":"'Annual Data'!$AG$15","v":0.1},0,0]
[null,null,null,null,null,null,null,null,null,null,null,null,null,null,null,null,null,null,null,null,null,null,null,null,null,null,null,null,null,null,null,null,{"$f":"'Annual Data'!$AD$15","v":1},{"$f":"'Annual Data'!$AG$15","v":0.1},0,0]
[null,null,null,null,null,null,null,null,null,null,null,null,null,null,null,null,null,null,null,null,null,null,null,null,null,null,null,null,null,null,null,null,{"$f":"'Annual Data'!$AD$15","v":1},{"$f":"'Annual Data'!$AG$15","v":0.1},0,0]
[null,null,null,null,null,null,null,null,null,null,null,null,null,null,null,null,null,null,null,null,null,null,null,null,null,null,null,null,null,null,null,null,{"$f":"'Annual Data'!$AD$15","v":1},{"$f":"'Annual Data'!$AG$15","v":0.1},0,0]
[null,null,null,null,null,null,null,null,null,null,null,null,null,null,null,null,null,null,null,null,null,null,null,null,null,null,null,null,null,null,null,null,{"$f":"'Annual Data'!$AD$15","v":1},{"$f":"'Annual Data'!$AG$15","v":0.1},0,0]
[null,null,null,null,null,null,null,null,null,null,null,null,null,null,null,null,null,null,null,null,null,null,null,null,null,null,null,null,null,null,null,null,{"$f":"'Annual Data'!$AD$15","v":1},{"$f":"'Annual Data'!$AG$15","v":0.1},0,0]
[null,null,null,null,null,null,null,null,null,null,null,null,null,null,null,null,null,null,null,null,null,null,null,null,null,null,null,null,null,null,null,null,{"$f":"'Annual Data'!$AD$15","v":1},{"$f":"'Annual Data'!$AG$15","v":0.1},0,0]
[null,null,null,null,null,null,null,null,null,null,null,null,null,null,null,null,null,null,null,null,null,null,null,null,null,null,null,null,null,null,null,null,{"$f":"'Annual Data'!$AD$15","v":1},{"$f":"'Annual Data'!$AG$15","v":0.1},0,0]
[null,null,null,null,null,null,null,null,null,null,null,null,null,null,null,null,null,null,null,null,null,null,null,null,null,null,null,null,null,null,null,null,{"$f":"'Annual Data'!$AD$15","v":1},{"$f":"'Annual Data'!$AG$15","v":0.1},0,0]
[null,null,null,null,null,null,null,null,null,null,null,null,null,null,null,null,null,null,null,null,null,null,null,null,null,null,null,null,null,null,null,null,{"$f":"'Annual Data'!$AD$15","v":1},{"$f":"'Annual Data'!$AG$15","v":0.1},0,0]
[null,null,null,null,null,null,null,null,null,null,null,null,null,null,null,null,null,null,null,null,null,null,null,null,null,null,null,null,null,null,null,null,{"$f":"'Annual Data'!$AD$15","v":1},{"$f":"'Annual Data'!$AG$15","v":0.1},{"$f":"MAX(C522:F522)","v":0},{"$f":"MAX(G522:R522)","v":0}]
[null,null,null,null,null,null,null,null,null,null,null,null,null,null,null,null,null,null,null,null,null,null,null,null,null,null,null,null,null,null,null,null,{"$f":"'Annual Data'!$AD$15","v":1},{"$f":"'Annual Data'!$AG$15","v":0.1},0,0]
[null,null,null,null,null,null,null,null,null,null,null,null,null,null,null,null,null,null,null,null,null,null,null,null,null,null,null,null,null,null,null,null,{"$f":"'Annual Data'!$AD$15","v":1},{"$f":"'Annual Data'!$AG$15","v":0.1},0,0]
[null,null,null,null,null,null,null,null,null,null,null,null,null,null,null,null,null,null,null,null,null,null,null,null,null,null,null,null,null,null,null,null,{"$f":"'Annual Data'!$AD$15","v":1},{"$f":"'Annual Data'!$AG$15","v":0.1},0,0]
[null,null,null,null,null,null,null,null,null,null,null,null,null,null,null,null,null,null,null,null,null,null,null,null,null,null,null,null,null,null,null,null,{"$f":"'Annual Data'!$AD$15","v":1},{"$f":"'Annual Data'!$AG$15","v":0.1},0,0]
[null,null,null,null,null,null,null,null,null,null,null,null,null,null,null,null,null,null,null,null,null,null,null,null,null,null,null,null,null,null,null,null,{"$f":"'Annual Data'!$AD$15","v":1},{"$f":"'Annual Data'!$AG$15","v":0.1},0,0]
[null,null,null,null,null,null,null,null,null,null,null,null,null,null,null,null,null,null,null,null,null,null,null,null,null,null,null,null,null,null,null,null,{"$f":"'Annual Data'!$AD$15","v":1},{"$f":"'Annual Data'!$AG$15","v":0.1},0,0]
[null,null,null,null,null,null,null,null,null,null,null,null,null,null,null,null,null,null,null,null,null,null,null,null,null,null,null,null,null,null,null,null,{"$f":"'Annual Data'!$AD$15","v":1},{"$f":"'Annual Data'!$AG$15","v":0.1},0,0]
[null,null,null,null,null,null,null,null,null,null,null,null,null,null,null,null,null,null,null,null,null,null,null,null,null,null,null,null,null,null,null,null,{"$f":"'Annual Data'!$AD$15","v":1},{"$f":"'Annual Data'!$AG$15","v":0.1},0,0]
[null,null,null,null,null,null,null,null,null,null,null,null,null,null,null,null,null,null,null,null,null,null,null,null,null,null,null,null,null,null,null,null,{"$f":"'Annual Data'!$AD$15","v":1},{"$f":"'Annual Data'!$AG$15","v":0.1},0,0]
[null,null,null,null,null,null,null,null,null,null,null,null,null,null,null,null,null,null,null,null,null,null,null,null,null,null,null,null,null,null,null,null,{"$f":"'Annual Data'!$AD$15","v":1},{"$f":"'Annual Data'!$AG$15","v":0.1},0,0]
[null,null,null,null,null,null,null,null,null,null,null,null,null,null,null,null,null,null,null,null,null,null,null,null,null,null,null,null,null,null,null,null,{"$f":"'Annual Data'!$AD$15","v":1},{"$f":"'Annual Data'!$AG$15","v":0.1},0,0]
[null,null,null,null,null,null,null,null,null,null,null,null,null,null,null,null,null,null,null,null,null,null,null,null,null,null,null,null,null,null,null,null,{"$f":"'Annual Data'!$AD$15","v":1},{"$f":"'Annual Data'!$AG$15","v":0.1},0,0]
[null,null,null,null,null,null,null,null,null,null,null,null,null,null,null,null,null,null,null,null,null,null,null,null,null,null,null,null,null,null,null,null,{"$f":"'Annual Data'!$AD$15","v":1},{"$f":"'Annual Data'!$AG$15","v":0.1},0,0]
[null,null,null,null,null,null,null,null,null,null,null,null,null,null,null,null,null,null,null,null,null,null,null,null,null,null,null,null,null,null,null,null,{"$f":"'Annual Data'!$AD$15","v":1},{"$f":"'Annual Data'!$AG$15","v":0.1},0,0]
[null,null,null,null,null,null,null,null,null,null,null,null,null,null,null,null,null,null,null,null,null,null,null,null,null,null,null,null,null,null,null,null,{"$f":"'Annual Data'!$AD$15","v":1},{"$f":"'Annual Data'!$AG$15","v":0.1},0,0]
[null,null,null,null,null,null,null,null,null,null,null,null,null,null,null,null,null,null,null,null,null,null,null,null,null,null,null,null,null,null,null,null,{"$f":"'Annual Data'!$AD$15","v":1},{"$f":"'Annual Data'!$AG$15","v":0.1},0,0]
[null,null,null,null,null,null,null,null,null,null,null,null,null,null,null,null,null,null,null,null,null,null,null,null,null,null,null,null,null,null,null,null,{"$f":"'Annual Data'!$AD$15","v":1},{"$f":"'Annual Data'!$AG$15","v":0.1},0,0]
[null,null,null,null,null,null,null,null,null,null,null,null,null,null,null,null,null,null,null,null,null,null,null,null,null,null,null,null,null,null,null,null,{"$f":"'Annual Data'!$AD$15","v":1},{"$f":"'Annual Data'!$AG$15","v":0.1},0,0]
[null,null,null,null,null,null,null,null,null,null,null,null,null,null,null,null,null,null,null,null,null,null,null,null,null,null,null,null,null,null,null,null,{"$f":"'Annual Data'!$AD$15","v":1},{"$f":"'Annual Data'!$AG$15","v":0.1},0,0]
[null,null,null,null,null,null,null,null,null,null,null,null,null,null,null,null,null,null,null,null,null,null,null,null,null,null,null,null,null,null,null,null,{"$f":"'Annual Data'!$AD$15","v":1},{"$f":"'Annual Data'!$AG$15","v":0.1},0,0]
[null,null,null,null,null,null,null,null,null,null,null,null,null,null,null,null,null,null,null,null,null,null,null,null,null,null,null,null,null,null,null,null,{"$f":"'Annual Data'!$AD$15","v":1},{"$f":"'Annual Data'!$AG$15","v":0.1},0,0]
[null,null,null,null,null,null,null,null,null,null,null,null,null,null,null,null,null,null,null,null,null,null,null,null,null,null,null,null,null,null,null,null,{"$f":"'Annual Data'!$AD$15","v":1},{"$f":"'Annual Data'!$AG$15","v":0.1},0,0]
[null,null,null,null,null,null,null,null,null,null,null,null,null,null,null,null,null,null,null,null,null,null,null,null,null,null,null,null,null,null,null,null,{"$f":"'Annual Data'!$AD$15","v":1},{"$f":"'Annual Data'!$AG$15","v":0.1},0,0]
[null,null,null,null,null,null,null,null,null,null,null,null,null,null,null,null,null,null,null,null,null,null,null,null,null,null,null,null,null,null,null,null,{"$f":"'Annual Data'!$AD$15","v":1},{"$f":"'Annual Data'!$AG$15","v":0.1},0,0]
[null,null,null,null,null,null,null,null,null,null,null,null,null,null,null,null,null,null,null,null,null,null,null,null,null,null,null,null,null,null,null,null,{"$f":"'Annual Data'!$AD$15","v":1},{"$f":"'Annual Data'!$AG$15","v":0.1},0,0]
[null,null,null,null,null,null,null,null,null,null,null,null,null,null,null,null,null,null,null,null,null,null,null,null,null,null,null,null,null,null,null,null,{"$f":"'Annual Data'!$AD$15","v":1},{"$f":"'Annual Data'!$AG$15","v":0.1},0,0]
[null,null,null,null,null,null,null,null,null,null,null,null,null,null,null,null,null,null,null,null,null,null,null,null,null,null,null,null,null,null,null,null,{"$f":"'Annual Data'!$AD$15","v":1},{"$f":"'Annual Data'!$AG$15","v":0.1},0,0]
[null,null,null,null,null,null,null,null,null,null,null,null,null,null,null,null,null,null,null,null,null,null,null,null,null,null,null,null,null,null,null,null,{"$f":"'Annual Data'!$AD$15","v":1},{"$f":"'Annual Data'!$AG$15","v":0.1},0,0]
[null,null,null,null,null,null,null,null,null,null,null,null,null,null,null,null,null,null,null,null,null,null,null,null,null,null,null,null,null,null,null,null,{"$f":"'Annual Data'!$AD$15","v":1},{"$f":"'Annual Data'!$AG$15","v":0.1},0,0]
[null,null,null,null,null,null,null,null,null,null,null,null,null,null,null,null,null,null,null,null,null,null,null,null,null,null,null,null,null,null,null,null,{"$f":"'Annual Data'!$AD$15","v":1},{"$f":"'Annual Data'!$AG$15","v":0.1},0,0]
[null,null,null,null,null,null,null,null,null,null,null,null,null,null,null,null,null,null,null,null,null,null,null,null,null,null,null,null,null,null,null,null,{"$f":"'Annual Data'!$AD$15","v":1},{"$f":"'Annual Data'!$AG$15","v":0.1},0,0]
[null,null,null,null,null,null,null,null,null,null,null,null,null,null,null,null,null,null,null,null,null,null,null,null,null,null,null,null,null,null,null,null,{"$f":"'Annual Data'!$AD$15","v":1},{"$f":"'Annual Data'!$AG$15","v":0.1},0,0]
[null,null,null,null,null,null,null,null,null,null,null,null,null,null,null,null,null,null,null,null,null,null,null,null,null,null,null,null,null,null,null,null,{"$f":"'Annual Data'!$AD$15","v":1},{"$f":"'Annual Data'!$AG$15","v":0.1},0,0]
[null,null,null,null,null,null,null,null,null,null,null,null,null,null,null,null,null,null,null,null,null,null,null,null,null,null,null,null,null,null,null,null,{"$f":"'Annual Data'!$AD$15","v":1},{"$f":"'Annual Data'!$AG$15","v":0.1},0,0]
[null,null,null,null,null,null,null,null,null,null,null,null,null,null,null,null,null,null,null,null,null,null,null,null,null,null,null,null,null,null,null,null,{"$f":"'Annual Data'!$AD$15","v":1},{"$f":"'Annual Data'!$AG$15","v":0.1},0,0]
[null,null,null,null,null,null,null,null,null,null,null,null,null,null,null,null,null,null,null,null,null,null,null,null,null,null,null,null,null,null,null,null,{"$f":"'Annual Data'!$AD$15","v":1},{"$f":"'Annual Data'!$AG$15","v":0.1},0,0]
[null,null,null,null,null,null,null,null,null,null,null,null,null,null,null,null,null,null,null,null,null,null,null,null,null,null,null,null,null,null,null,null,{"$f":"'Annual Data'!$AD$15","v":1},{"$f":"'Annual Data'!$AG$15","v":0.1},0,0]
[null,null,null,null,null,null,null,null,null,null,null,null,null,null,null,null,null,null,null,null,null,null,null,null,null,null,null,null,null,null,null,null,{"$f":"'Annual Data'!$AD$15","v":1},{"$f":"'Annual Data'!$AG$15","v":0.1},0,0]
[null,null,null,null,null,null,null,null,null,null,null,null,null,null,null,null,null,null,null,null,null,null,null,null,null,null,null,null,null,null,null,null,{"$f":"'Annual Data'!$AD$15","v":1},{"$f":"'Annual Data'!$AG$15","v":0.1},0,0]
[null,null,null,null,null,null,null,null,null,null,null,null,null,null,null,null,null,null,null,null,null,null,null,null,null,null,null,null,null,null,null,null,{"$f":"'Annual Data'!$AD$15","v":1},{"$f":"'Annual Data'!$AG$15","v":0.1},0,0]
[null,null,null,null,null,null,null,null,null,null,null,null,null,null,null,null,null,null,null,null,null,null,null,null,null,null,null,null,null,null,null,null,{"$f":"'Annual Data'!$AD$15","v":1},{"$f":"'Annual Data'!$AG$15","v":0.1},0,0]
[null,null,null,null,null,null,null,null,null,null,null,null,null,null,null,null,null,null,null,null,null,null,null,null,null,null,null,null,null,null,null,null,{"$f":"'Annual Data'!$AD$15","v":1},{"$f":"'Annual Data'!$AG$15","v":0.1},0,0]
[null,null,null,null,null,null,null,null,null,null,null,null,null,null,null,null,null,null,null,null,null,null,null,null,null,null,null,null,null,null,null,null,{"$f":"'Annual Data'!$AD$15","v":1},{"$f":"'Annual Data'!$AG$15","v":0.1},0,0]
[null,null,null,null,null,null,null,null,null,null,null,null,null,null,null,null,null,null,null,null,null,null,null,null,null,null,null,null,null,null,null,null,{"$f":"'Annual Data'!$AD$15","v":1},{"$f":"'Annual Data'!$AG$15","v":0.1},0,0]
[null,null,null,null,null,null,null,null,null,null,null,null,null,null,null,null,null,null,null,null,null,null,null,null,null,null,null,null,null,null,null,null,{"$f":"'Annual Data'!$AD$15","v":1},{"$f":"'Annual Data'!$AG$15","v":0.1},0,0]
[null,null,null,null,null,null,null,null,null,null,null,null,null,null,null,null,null,null,null,null,null,null,null,null,null,null,null,null,null,null,null,null,{"$f":"'Annual Data'!$AD$15","v":1},{"$f":"'Annual Data'!$AG$15","v":0.1},0,0]
[null,null,null,null,null,null,null,null,null,null,null,null,null,null,null,null,null,null,null,null,null,null,null,null,null,null,null,null,null,null,null,null,{"$f":"'Annual Data'!$AD$15","v":1},{"$f":"'Annual Data'!$AG$15","v":0.1},0,0]
[null,null,null,null,null,null,null,null,null,null,null,null,null,null,null,null,null,null,null,null,null,null,null,null,null,null,null,null,null,null,null,null,{"$f":"'Annual Data'!$AD$15","v":1},{"$f":"'Annual Data'!$AG$15","v":0.1},0,0]
[null,null,null,null,null,null,null,null,null,null,null,null,null,null,null,null,null,null,null,null,null,null,null,null,null,null,null,null,null,null,null,null,{"$f":"'Annual Data'!$AD$15","v":1},{"$f":"'Annual Data'!$AG$15","v":0.1},0,0]
[null,null,null,null,null,null,null,null,null,null,null,null,null,null,null,null,null,null,null,null,null,null,null,null,null,null,null,null,null,null,null,null,{"$f":"'Annual Data'!$AD$15","v":1},{"$f":"'Annual Data'!$AG$15","v":0.1},0,0]
[null,null,null,null,null,null,null,null,null,null,null,null,null,null,null,null,null,null,null,null,null,null,null,null,null,null,null,null,null,null,null,null,{"$f":"'Annual Data'!$AD$15","v":1},{"$f":"'Annual Data'!$AG$15","v":0.1},0,0]
[null,null,null,null,null,null,null,null,null,null,null,null,null,null,null,null,null,null,null,null,null,null,null,null,null,null,null,null,null,null,null,null,{"$f":"'Annual Data'!$AD$15","v":1},{"$f":"'Annual Data'!$AG$15","v":0.1},0,0]
[null,null,null,null,null,null,null,null,null,null,null,null,null,null,null,null,null,null,null,null,null,null,null,null,null,null,null,null,null,null,null,null,{"$f":"'Annual Data'!$AD$15","v":1},{"$f":"'Annual Data'!$AG$15","v":0.1},0,0]
[null,null,null,null,null,null,null,null,null,null,null,null,null,null,null,null,null,null,null,null,null,null,null,null,null,null,null,null,null,null,null,null,{"$f":"'Annual Data'!$AD$15","v":1},{"$f":"'Annual Data'!$AG$15","v":0.1},0,0]
[null,null,null,null,null,null,null,null,null,null,null,null,null,null,null,null,null,null,null,null,null,null,null,null,null,null,null,null,null,null,null,null,{"$f":"'Annual Data'!$AD$15","v":1},{"$f":"'Annual Data'!$AG$15","v":0.1},0,0]
[null,null,null,null,null,null,null,null,null,null,null,null,null,null,null,null,null,null,null,null,null,null,null,null,null,null,null,null,null,null,null,null,{"$f":"'Annual Data'!$AD$15","v":1},{"$f":"'Annual Data'!$AG$15","v":0.1},0,0]
[null,null,null,null,null,null,null,null,null,null,null,null,null,null,null,null,null,null,null,null,null,null,null,null,null,null,null,null,null,null,null,null,{"$f":"'Annual Data'!$AD$15","v":1},{"$f":"'Annual Data'!$AG$15","v":0.1},0,0]
[null,null,null,null,null,null,null,null,null,null,null,null,null,null,null,null,null,null,null,null,null,null,null,null,null,null,null,null,null,null,null,null,{"$f":"'Annual Data'!$AD$15","v":1},{"$f":"'Annual Data'!$AG$15","v":0.1},0,0]
[null,null,null,null,null,null,null,null,null,null,null,null,null,null,null,null,null,null,null,null,null,null,null,null,null,null,null,null,null,null,null,null,{"$f":"'Annual Data'!$AD$15","v":1},{"$f":"'Annual Data'!$AG$15","v":0.1},0,0]
[null,null,null,null,null,null,null,null,null,null,null,null,null,null,null,null,null,null,null,null,null,null,null,null,null,null,null,null,null,null,null,null,{"$f":"'Annual Data'!$AD$15","v":1},{"$f":"'Annual Data'!$AG$15","v":0.1},0,0]
[null,null,null,null,null,null,null,null,null,null,null,null,null,null,null,null,null,null,null,null,null,null,null,null,null,null,null,null,null,null,null,null,{"$f":"'Annual Data'!$AD$15","v":1},{"$f":"'Annual Data'!$AG$15","v":0.1},0,0]
[null,null,null,null,null,null,null,null,null,null,null,null,null,null,null,null,null,null,null,null,null,null,null,null,null,null,null,null,null,null,null,null,{"$f":"'Annual Data'!$AD$15","v":1},{"$f":"'Annual Data'!$AG$15","v":0.1},0,0]
[null,null,null,null,null,null,null,null,null,null,null,null,null,null,null,null,null,null,null,null,null,null,null,null,null,null,null,null,null,null,null,null,{"$f":"'Annual Data'!$AD$15","v":1},{"$f":"'Annual Data'!$AG$15","v":0.1},0,0]
[null,null,null,null,null,null,null,null,null,null,null,null,null,null,null,null,null,null,null,null,null,null,null,null,null,null,null,null,null,null,null,null,{"$f":"'Annual Data'!$AD$15","v":1},{"$f":"'Annual Data'!$AG$15","v":0.1},{"$f":"MAX(C586:F586)","v":0},{"$f":"MAX(G586:R586)","v":0}]
[null,null,null,null,null,null,null,null,null,null,null,null,null,null,null,null,null,null,null,null,null,null,null,null,null,null,null,null,null,null,null,null,{"$f":"'Annual Data'!$AD$15","v":1},{"$f":"'Annual Data'!$AG$15","v":0.1},0,0]
[null,null,null,null,null,null,null,null,null,null,null,null,null,null,null,null,null,null,null,null,null,null,null,null,null,null,null,null,null,null,null,null,{"$f":"'Annual Data'!$AD$15","v":1},{"$f":"'Annual Data'!$AG$15","v":0.1},0,0]
[null,null,null,null,null,null,null,null,null,null,null,null,null,null,null,null,null,null,null,null,null,null,null,null,null,null,null,null,null,null,null,null,{"$f":"'Annual Data'!$AD$15","v":1},{"$f":"'Annual Data'!$AG$15","v":0.1},0,0]
[null,null,null,null,null,null,null,null,null,null,null,null,null,null,null,null,null,null,null,null,null,null,null,null,null,null,null,null,null,null,null,null,{"$f":"'Annual Data'!$AD$15","v":1},{"$f":"'Annual Data'!$AG$15","v":0.1},0,0]
[null,null,null,null,null,null,null,null,null,null,null,null,null,null,null,null,null,null,null,null,null,null,null,null,null,null,null,null,null,null,null,null,{"$f":"'Annual Data'!$AD$15","v":1},{"$f":"'Annual Data'!$AG$15","v":0.1},0,0]
[null,null,null,null,null,null,null,null,null,null,null,null,null,null,null,null,null,null,null,null,null,null,null,null,null,null,null,null,null,null,null,null,{"$f":"'Annual Data'!$AD$15","v":1},{"$f":"'Annual Data'!$AG$15","v":0.1},0,0]
[null,null,null,null,null,null,null,null,null,null,null,null,null,null,null,null,null,null,null,null,null,null,null,null,null,null,null,null,null,null,null,null,{"$f":"'Annual Data'!$AD$15","v":1},{"$f":"'Annual Data'!$AG$15","v":0.1},0,0]
[null,null,null,null,null,null,null,null,null,null,null,null,null,null,null,null,null,null,null,null,null,null,null,null,null,null,null,null,null,null,null,null,{"$f":"'Annual Data'!$AD$15","v":1},{"$f":"'Annual Data'!$AG$15","v":0.1},0,0]
[null,null,null,null,null,null,null,null,null,null,null,null,null,null,null,null,null,null,null,null,null,null,null,null,null,null,null,null,null,null,null,null,{"$f":"'Annual Data'!$AD$15","v":1},{"$f":"'Annual Data'!$AG$15","v":0.1},0,0]
[null,null,null,null,null,null,null,null,null,null,null,null,null,null,null,null,null,null,null,null,null,null,null,null,null,null,null,null,null,null,null,null,{"$f":"'Annual Data'!$AD$15","v":1},{"$f":"'Annual Data'!$AG$15","v":0.1},0,0]
[null,null,null,null,null,null,null,null,null,null,null,null,null,null,null,null,null,null,null,null,null,null,null,null,null,null,null,null,null,null,null,null,{"$f":"'Annual Data'!$AD$15","v":1},{"$f":"'Annual Data'!$AG$15","v":0.1},0,0]
[null,null,null,null,null,null,null,null,null,null,null,null,null,null,null,null,null,null,null,null,null,null,null,null,null,null,null,null,null,null,null,null,{"$f":"'Annual Data'!$AD$15","v":1},{"$f":"'Annual Data'!$AG$15","v":0.1},0,0]
[null,null,null,null,null,null,null,null,null,null,null,null,null,null,null,null,null,null,null,null,null,null,null,null,null,null,null,null,null,null,null,null,{"$f":"'Annual Data'!$AD$15","v":1},{"$f":"'Annual Data'!$AG$15","v":0.1},0,0]
[null,null,null,null,null,null,null,null,null,null,null,null,null,null,null,null,null,null,null,null,null,null,null,null,null,null,null,null,null,null,null,null,{"$f":"'Annual Data'!$AD$15","v":1},{"$f":"'Annual Data'!$AG$15","v":0.1},0,0]
[null,null,null,null,null,null,null,null,null,null,null,null,null,null,null,null,null,null,null,null,null,null,null,null,null,null,null,null,null,null,null,null,{"$f":"'Annual Data'!$AD$15","v":1},{"$f":"'Annual Data'!$AG$15","v":0.1},0,0]
[null,null,null,null,null,null,null,null,null,null,null,null,null,null,null,null,null,null,null,null,null,null,null,null,null,null,null,null,null,null,null,null,{"$f":"'Annual Data'!$AD$15","v":1},{"$f":"'Annual Data'!$AG$15","v":0.1},0,0]
[null,null,null,null,null,null,null,null,null,null,null,null,null,null,null,null,null,null,null,null,null,null,null,null,null,null,null,null,null,null,null,null,{"$f":"'Annual Data'!$AD$15","v":1},{"$f":"'Annual Data'!$AG$15","v":0.1},0,0]
[null,null,null,null,null,null,null,null,null,null,null,null,null,null,null,null,null,null,null,null,null,null,null,null,null,null,null,null,null,null,null,null,{"$f":"'Annual Data'!$AD$15","v":1},{"$f":"'Annual Data'!$AG$15","v":0.1},0,0]
[null,null,null,null,null,null,null,null,null,null,null,null,null,null,null,null,null,null,null,null,null,null,null,null,null,null,null,null,null,null,null,null,{"$f":"'Annual Data'!$AD$15","v":1},{"$f":"'Annual Data'!$AG$15","v":0.1},0,0]
[null,null,null,null,null,null,null,null,null,null,null,null,null,null,null,null,null,null,null,null,null,null,null,null,null,null,null,null,null,null,null,null,{"$f":"'Annual Data'!$AD$15","v":1},{"$f":"'Annual Data'!$AG$15","v":0.1},0,0]
[null,null,null,null,null,null,null,null,null,null,null,null,null,null,null,null,null,null,null,null,null,null,null,null,null,null,null,null,null,null,null,null,{"$f":"'Annual Data'!$AD$15","v":1},{"$f":"'Annual Data'!$AG$15","v":0.1},0,0]
[null,null,null,null,null,null,null,null,null,null,null,null,null,null,null,null,null,null,null,null,null,null,null,null,null,null,null,null,null,null,null,null,{"$f":"'Annual Data'!$AD$15","v":1},{"$f":"'Annual Data'!$AG$15","v":0.1},0,0]
[null,null,null,null,null,null,null,null,null,null,null,null,null,null,null,null,null,null,null,null,null,null,null,null,null,null,null,null,null,null,null,null,{"$f":"'Annual Data'!$AD$15","v":1},{"$f":"'Annual Data'!$AG$15","v":0.1},0,0]
[null,null,null,null,null,null,null,null,null,null,null,null,null,null,null,null,null,null,null,null,null,null,null,null,null,null,null,null,null,null,null,null,{"$f":"'Annual Data'!$AD$15","v":1},{"$f":"'Annual Data'!$AG$15","v":0.1},0,0]
[null,null,null,null,null,null,null,null,null,null,null,null,null,null,null,null,null,null,null,null,null,null,null,null,null,null,null,null,null,null,null,null,{"$f":"'Annual Data'!$AD$15","v":1},{"$f":"'Annual Data'!$AG$15","v":0.1},0,0]
[null,null,null,null,null,null,null,null,null,null,null,null,null,null,null,null,null,null,null,null,null,null,null,null,null,null,null,null,null,null,null,null,{"$f":"'Annual Data'!$AD$15","v":1},{"$f":"'Annual Data'!$AG$15","v":0.1},0,0]
[null,null,null,null,null,null,null,null,null,null,null,null,null,null,null,null,null,null,null,null,null,null,null,null,null,null,null,null,null,null,null,null,{"$f":"'Annual Data'!$AD$15","v":1},{"$f":"'Annual Data'!$AG$15","v":0.1},0,0]
[null,null,null,null,null,null,null,null,null,null,null,null,null,null,null,null,null,null,null,null,null,null,null,null,null,null,null,null,null,null,null,null,{"$f":"'Annual Data'!$AD$15","v":1},{"$f":"'Annual Data'!$AG$15","v":0.1},0,0]
[null,null,null,null,null,null,null,null,null,null,null,null,null,null,null,null,null,null,null,null,null,null,null,null,null,null,null,null,null,null,null,null,{"$f":"'Annual Data'!$AD$15","v":1},{"$f":"'Annual Data'!$AG$15","v":0.1},0,0]
[null,null,null,null,null,null,null,null,null,null,null,null,null,null,null,null,null,null,null,null,null,null,null,null,null,null,null,null,null,null,null,null,{"$f":"'Annual Data'!$AD$15","v":1},{"$f":"'Annual Data'!$AG$15","v":0.1},0,0]
[null,null,null,null,null,null,null,null,null,null,null,null,null,null,null,null,null,null,null,null,null,null,null,null,null,null,null,null,null,null,null,null,{"$f":"'Annual Data'!$AD$15","v":1},{"$f":"'Annual Data'!$AG$15","v":0.1},0,0]
[null,null,null,null,null,null,null,null,null,null,null,null,null,null,null,null,null,null,null,null,null,null,null,null,null,null,null,null,null,null,null,null,{"$f":"'Annual Data'!$AD$15","v":1},{"$f":"'Annual Data'!$AG$15","v":0.1},0,0]
[null,null,null,null,null,null,null,null,null,null,null,null,null,null,null,null,null,null,null,null,null,null,null,null,null,null,null,null,null,null,null,null,{"$f":"'Annual Data'!$AD$15","v":1},{"$f":"'Annual Data'!$AG$15","v":0.1},0,0]
[null,null,null,null,null,null,null,null,null,null,null,null,null,null,null,null,null,null,null,null,null,null,null,null,null,null,null,null,null,null,null,null,{"$f":"'Annual Data'!$AD$15","v":1},{"$f":"'Annual Data'!$AG$15","v":0.1},0,0]
[null,null,null,null,null,null,null,null,null,null,null,null,null,null,null,null,null,null,null,null,null,null,null,null,null,null,null,null,null,null,null,null,{"$f":"'Annual Data'!$AD$15","v":1},{"$f":"'Annual Data'!$AG$15","v":0.1},0,0]
[null,null,null,null,null,null,null,null,null,null,null,null,null,null,null,null,null,null,null,null,null,null,null,null,null,null,null,null,null,null,null,null,{"$f":"'Annual Data'!$AD$15","v":1},{"$f":"'Annual Data'!$AG$15","v":0.1},0,0]
[null,null,null,null,null,null,null,null,null,null,null,null,null,null,null,null,null,null,null,null,null,null,null,null,null,null,null,null,null,null,null,null,{"$f":"'Annual Data'!$AD$15","v":1},{"$f":"'Annual Data'!$AG$15","v":0.1},0,0]
[null,null,null,null,null,null,null,null,null,null,null,null,null,null,null,null,null,null,null,null,null,null,null,null,null,null,null,null,null,null,null,null,{"$f":"'Annual Data'!$AD$15","v":1},{"$f":"'Annual Data'!$AG$15","v":0.1},0,0]
[null,null,null,null,null,null,null,null,null,null,null,null,null,null,null,null,null,null,null,null,null,null,null,null,null,null,null,null,null,null,null,null,{"$f":"'Annual Data'!$AD$15","v":1},{"$f":"'Annual Data'!$AG$15","v":0.1},0,0]
[null,null,null,null,null,null,null,null,null,null,null,null,null,null,null,null,null,null,null,null,null,null,null,null,null,null,null,null,null,null,null,null,{"$f":"'Annual Data'!$AD$15","v":1},{"$f":"'Annual Data'!$AG$15","v":0.1},0,0]
[null,null,null,null,null,null,null,null,null,null,null,null,null,null,null,null,null,null,null,null,null,null,null,null,null,null,null,null,null,null,null,null,{"$f":"'Annual Data'!$AD$15","v":1},{"$f":"'Annual Data'!$AG$15","v":0.1},0,0]
[null,null,null,null,null,null,null,null,null,null,null,null,null,null,null,null,null,null,null,null,null,null,null,null,null,null,null,null,null,null,null,null,{"$f":"'Annual Data'!$AD$15","v":1},{"$f":"'Annual Data'!$AG$15","v":0.1},0,0]
[null,null,null,null,null,null,null,null,null,null,null,null,null,null,null,null,null,null,null,null,null,null,null,null,null,null,null,null,null,null,null,null,{"$f":"'Annual Data'!$AD$15","v":1},{"$f":"'Annual Data'!$AG$15","v":0.1},0,0]
[null,null,null,null,null,null,null,null,null,null,null,null,null,null,null,null,null,null,null,null,null,null,null,null,null,null,null,null,null,null,null,null,{"$f":"'Annual Data'!$AD$15","v":1},{"$f":"'Annual Data'!$AG$15","v":0.1},0,0]
[null,null,null,null,null,null,null,null,null,null,null,null,null,null,null,null,null,null,null,null,null,null,null,null,null,null,null,null,null,null,null,null,{"$f":"'Annual Data'!$AD$15","v":1},{"$f":"'Annual Data'!$AG$15","v":0.1},0,0]
[null,null,null,null,null,null,null,null,null,null,null,null,null,null,null,null,null,null,null,null,null,null,null,null,null,null,null,null,null,null,null,null,{"$f":"'Annual Data'!$AD$15","v":1},{"$f":"'Annual Data'!$AG$15","v":0.1},0,0]
[null,null,null,null,null,null,null,null,null,null,null,null,null,null,null,null,null,null,null,null,null,null,null,null,null,null,null,null,null,null,null,null,{"$f":"'Annual Data'!$AD$15","v":1},{"$f":"'Annual Data'!$AG$15","v":0.1},0,0]
[null,null,null,null,null,null,null,null,null,null,null,null,null,null,null,null,null,null,null,null,null,null,null,null,null,null,null,null,null,null,null,null,{"$f":"'Annual Data'!$AD$15","v":1},{"$f":"'Annual Data'!$AG$15","v":0.1},0,0]
[null,null,null,null,null,null,null,null,null,null,null,null,null,null,null,null,null,null,null,null,null,null,null,null,null,null,null,null,null,null,null,null,{"$f":"'Annual Data'!$AD$15","v":1},{"$f":"'Annual Data'!$AG$15","v":0.1},0,0]
[null,null,null,null,null,null,null,null,null,null,null,null,null,null,null,null,null,null,null,null,null,null,null,null,null,null,null,null,null,null,null,null,{"$f":"'Annual Data'!$AD$15","v":1},{"$f":"'Annual Data'!$AG$15","v":0.1},0,0]
[null,null,null,null,null,null,null,null,null,null,null,null,null,null,null,null,null,null,null,null,null,null,null,null,null,null,null,null,null,null,null,null,{"$f":"'Annual Data'!$AD$15","v":1},{"$f":"'Annual Data'!$AG$15","v":0.1},0,0]
[null,null,null,null,null,null,null,null,null,null,null,null,null,null,null,null,null,null,null,null,null,null,null,null,null,null,null,null,null,null,null,null,{"$f":"'Annual Data'!$AD$15","v":1},{"$f":"'Annual Data'!$AG$15","v":0.1},0,0]
[null,null,null,null,null,null,null,null,null,null,null,null,null,null,null,null,null,null,null,null,null,null,null,null,null,null,null,null,null,null,null,null,{"$f":"'Annual Data'!$AD$15","v":1},{"$f":"'Annual Data'!$AG$15","v":0.1},0,0]
[null,null,null,null,null,null,null,null,null,null,null,null,null,null,null,null,null,null,null,null,null,null,null,null,null,null,null,null,null,null,null,null,{"$f":"'Annual Data'!$AD$15","v":1},{"$f":"'Annual Data'!$AG$15","v":0.1},0,0]
[null,null,null,null,null,null,null,null,null,null,null,null,null,null,null,null,null,null,null,null,null,null,null,null,null,null,null,null,null,null,null,null,{"$f":"'Annual Data'!$AD$15","v":1},{"$f":"'Annual Data'!$AG$15","v":0.1},0,0]
[null,null,null,null,null,null,null,null,null,null,null,null,null,null,null,null,null,null,null,null,null,null,null,null,null,null,null,null,null,null,null,null,{"$f":"'Annual Data'!$AD$15","v":1},{"$f":"'Annual Data'!$AG$15","v":0.1},0,0]
[null,null,null,null,null,null,null,null,null,null,null,null,null,null,null,null,null,null,null,null,null,null,null,null,null,null,null,null,null,null,null,null,{"$f":"'Annual Data'!$AD$15","v":1},{"$f":"'Annual Data'!$AG$15","v":0.1},0,0]
[null,null,null,null,null,null,null,null,null,null,null,null,null,null,null,null,null,null,null,null,null,null,null,null,null,null,null,null,null,null,null,null,{"$f":"'Annual Data'!$AD$15","v":1},{"$f":"'Annual Data'!$AG$15","v":0.1},0,0]
[null,null,null,null,null,null,null,null,null,null,null,null,null,null,null,null,null,null,null,null,null,null,null,null,null,null,null,null,null,null,null,null,{"$f":"'Annual Data'!$AD$15","v":1},{"$f":"'Annual Data'!$AG$15","v":0.1},0,0]
[null,null,null,null,null,null,null,null,null,null,null,null,null,null,null,null,null,null,null,null,null,null,null,null,null,null,null,null,null,null,null,null,{"$f":"'Annual Data'!$AD$15","v":1},{"$f":"'Annual Data'!$AG$15","v":0.1},0,0]
[null,null,null,null,null,null,null,null,null,null,null,null,null,null,null,null,null,null,null,null,null,null,null,null,null,null,null,null,null,null,null,null,{"$f":"'Annual Data'!$AD$15","v":1},{"$f":"'Annual Data'!$AG$15","v":0.1},0,0]
[null,null,null,null,null,null,null,null,null,null,null,null,null,null,null,null,null,null,null,null,null,null,null,null,null,null,null,null,null,null,null,null,{"$f":"'Annual Data'!$AD$15","v":1},{"$f":"'Annual Data'!$AG$15","v":0.1},0,0]
[null,null,null,null,null,null,null,null,null,null,null,null,null,null,null,null,null,null,null,null,null,null,null,null,null,null,null,null,null,null,null,null,{"$f":"'Annual Data'!$AD$15","v":1},{"$f":"'Annual Data'!$AG$15","v":0.1},0,0]
[null,null,null,null,null,null,null,null,null,null,null,null,null,null,null,null,null,null,null,null,null,null,null,null,null,null,null,null,null,null,null,null,{"$f":"'Annual Data'!$AD$15","v":1},{"$f":"'Annual Data'!$AG$15","v":0.1},{"$f":"MAX(C650:F650)","v":0},{"$f":"MAX(G650:R650)","v":0}]
[null,null,null,null,null,null,null,null,null,null,null,null,null,null,null,null,null,null,null,null,null,null,null,null,null,null,null,null,null,null,null,null,{"$f":"'Annual Data'!$AD$15","v":1},{"$f":"'Annual Data'!$AG$15","v":0.1},0,0]
[null,null,null,null,null,null,null,null,null,null,null,null,null,null,null,null,null,null,null,null,null,null,null,null,null,null,null,null,null,null,null,null,{"$f":"'Annual Data'!$AD$15","v":1},{"$f":"'Annual Data'!$AG$15","v":0.1},0,0]
[null,null,null,null,null,null,null,null,null,null,null,null,null,null,null,null,null,null,null,null,null,null,null,null,null,null,null,null,null,null,null,null,{"$f":"'Annual Data'!$AD$15","v":1},{"$f":"'Annual Data'!$AG$15","v":0.1},0,0]
[null,null,null,null,null,null,null,null,null,null,null,null,null,null,null,null,null,null,null,null,null,null,null,null,null,null,null,null,null,null,null,null,{"$f":"'Annual Data'!$AD$15","v":1},{"$f":"'Annual Data'!$AG$15","v":0.1},0,0]
[null,null,null,null,null,null,null,null,null,null,null,null,null,null,null,null,null,null,null,null,null,null,null,null,null,null,null,null,null,null,null,null,{"$f":"'Annual Data'!$AD$15","v":1},{"$f":"'Annual Data'!$AG$15","v":0.1},0,0]
[null,null,null,null,null,null,null,null,null,null,null,null,null,null,null,null,null,null,null,null,null,null,null,null,null,null,null,null,null,null,null,null,{"$f":"'Annual Data'!$AD$15","v":1},{"$f":"'Annual Data'!$AG$15","v":0.1},0,0]
[null,null,null,null,null,null,null,null,null,null,null,null,null,null,null,null,null,null,null,null,null,null,null,null,null,null,null,null,null,null,null,null,{"$f":"'Annual Data'!$AD$15","v":1},{"$f":"'Annual Data'!$AG$15","v":0.1},0,0]
[null,null,null,null,null,null,null,null,null,null,null,null,null,null,null,null,null,null,null,null,null,null,null,null,null,null,null,null,null,null,null,null,{"$f":"'Annual Data'!$AD$15","v":1},{"$f":"'Annual Data'!$AG$15","v":0.1},0,0]
[null,null,null,null,null,null,null,null,null,null,null,null,null,null,null,null,null,null,null,null,null,null,null,null,null,null,null,null,null,null,null,null,{"$f":"'Annual Data'!$AD$15","v":1},{"$f":"'Annual Data'!$AG$15","v":0.1},0,0]
[null,null,null,null,null,null,null,null,null,null,null,null,null,null,null,null,null,null,null,null,null,null,null,null,null,null,null,null,null,null,null,null,{"$f":"'Annual Data'!$AD$15","v":1},{"$f":"'Annual Data'!$AG$15","v":0.1},0,0]
[null,null,null,null,null,null,null,null,null,null,null,null,null,null,null,null,null,null,null,null,null,null,null,null,null,null,null,null,null,null,null,null,{"$f":"'Annual Data'!$AD$15","v":1},{"$f":"'Annual Data'!$AG$15","v":0.1},0,0]
[null,null,null,null,null,null,null,null,null,null,null,null,null,null,null,null,null,null,null,null,null,null,null,null,null,null,null,null,null,null,null,null,{"$f":"'Annual Data'!$AD$15","v":1},{"$f":"'Annual Data'!$AG$15","v":0.1},0,0]
[null,null,null,null,null,null,null,null,null,null,null,null,null,null,null,null,null,null,null,null,null,null,null,null,null,null,null,null,null,null,null,null,{"$f":"'Annual Data'!$AD$15","v":1},{"$f":"'Annual Data'!$AG$15","v":0.1},0,0]
[null,null,null,null,null,null,null,null,null,null,null,null,null,null,null,null,null,null,null,null,null,null,null,null,null,null,null,null,null,null,null,null,{"$f":"'Annual Data'!$AD$15","v":1},{"$f":"'Annual Data'!$AG$15","v":0.1},0,0]
[null,null,null,null,null,null,null,null,null,null,null,null,null,null,null,null,null,null,null,null,null,null,null,null,null,null,null,null,null,null,null,null,{"$f":"'Annual Data'!$AD$15","v":1},{"$f":"'Annual Data'!$AG$15","v":0.1},0,0]
[null,null,null,null,null,null,null,null,null,null,null,null,null,null,null,null,null,null,null,null,null,null,null,null,null,null,null,null,null,null,null,null,{"$f":"'Annual Data'!$AD$15","v":1},{"$f":"'Annual Data'!$AG$15","v":0.1},0,0]
[null,null,null,null,null,null,null,null,null,null,null,null,null,null,null,null,null,null,null,null,null,null,null,null,null,null,null,null,null,null,null,null,{"$f":"'Annual Data'!$AD$15","v":1},{"$f":"'Annual Data'!$AG$15","v":0.1},0,0]
[null,null,null,null,null,null,null,null,null,null,null,null,null,null,null,null,null,null,null,null,null,null,null,null,null,null,null,null,null,null,null,null,{"$f":"'Annual Data'!$AD$15","v":1},{"$f":"'Annual Data'!$AG$15","v":0.1},0,0]
[null,null,null,null,null,null,null,null,null,null,null,null,null,null,null,null,null,null,null,null,null,null,null,null,null,null,null,null,null,null,null,null,{"$f":"'Annual Data'!$AD$15","v":1},{"$f":"'Annual Data'!$AG$15","v":0.1},0,0]
[null,null,null,null,null,null,null,null,null,null,null,null,null,null,null,null,null,null,null,null,null,null,null,null,null,null,null,null,null,null,null,null,{"$f":"'Annual Data'!$AD$15","v":1},{"$f":"'Annual Data'!$AG$15","v":0.1},0,0]
[null,null,null,null,null,null,null,null,null,null,null,null,null,null,null,null,null,null,null,null,null,null,null,null,null,null,null,null,null,null,null,null,{"$f":"'Annual Data'!$AD$15","v":1},{"$f":"'Annual Data'!$AG$15","v":0.1},0,0]
[null,null,null,null,null,null,null,null,null,null,null,null,null,null,null,null,null,null,null,null,null,null,null,null,null,null,null,null,null,null,null,null,{"$f":"'Annual Data'!$AD$15","v":1},{"$f":"'Annual Data'!$AG$15","v":0.1},0,0]
[null,null,null,null,null,null,null,null,null,null,null,null,null,null,null,null,null,null,null,null,null,null,null,null,null,null,null,null,null,null,null,null,{"$f":"'Annual Data'!$AD$15","v":1},{"$f":"'Annual Data'!$AG$15","v":0.1},0,0]
[null,null,null,null,null,null,null,null,null,null,null,null,null,null,null,null,null,null,null,null,null,null,null,null,null,null,null,null,null,null,null,null,{"$f":"'Annual Data'!$AD$15","v":1},{"$f":"'Annual Data'!$AG$15","v":0.1},0,0]
[null,null,null,null,null,null,null,null,null,null,null,null,null,null,null,null,null,null,null,null,null,null,null,null,null,null,null,null,null,null,null,null,{"$f":"'Annual Data'!$AD$15","v":1},{"$f":"'Annual Data'!$AG$15","v":0.1},0,0]
[null,null,null,null,null,null,null,null,null,null,null,null,null,null,null,null,null,null,null,null,null,null,null,null,null,null,null,null,null,null,null,null,{"$f":"'Annual Data'!$AD$15","v":1},{"$f":"'Annual Data'!$AG$15","v":0.1},0,0]
[null,null,null,null,null,null,null,null,null,null,null,null,null,null,null,null,null,null,null,null,null,null,null,null,null,null,null,null,null,null,null,null,{"$f":"'Annual Data'!$AD$15","v":1},{"$f":"'Annual Data'!$AG$15","v":0.1},0,0]
[null,null,null,null,null,null,null,null,null,null,null,null,null,null,null,null,null,null,null,null,null,null,null,null,null,null,null,null,null,null,null,null,{"$f":"'Annual Data'!$AD$15","v":1},{"$f":"'Annual Data'!$AG$15","v":0.1},0,0]
[null,null,null,null,null,null,null,null,null,null,null,null,null,null,null,null,null,null,null,null,null,null,null,null,null,null,null,null,null,null,null,null,{"$f":"'Annual Data'!$AD$15","v":1},{"$f":"'Annual Data'!$AG$15","v":0.1},0,0]
[null,null,null,null,null,null,null,null,null,null,null,null,null,null,null,null,null,null,null,null,null,null,null,null,null,null,null,null,null,null,null,null,{"$f":"'Annual Data'!$AD$15","v":1},{"$f":"'Annual Data'!$AG$15","v":0.1},0,0]
[null,null,null,null,null,null,null,null,null,null,null,null,null,null,null,null,null,null,null,null,null,null,null,null,null,null,null,null,null,null,null,null,{"$f":"'Annual Data'!$AD$15","v":1},{"$f":"'Annual Data'!$AG$15","v":0.1},0,0]
[null,null,null,null,null,null,null,null,null,null,null,null,null,null,null,null,null,null,null,null,null,null,null,null,null,null,null,null,null,null,null,null,{"$f":"'Annual Data'!$AD$15","v":1},{"$f":"'Annual Data'!$AG$15","v":0.1},0,0]
[null,null,null,null,null,null,null,null,null,null,null,null,null,null,null,null,null,null,null,null,null,null,null,null,null,null,null,null,null,null,null,null,{"$f":"'Annual Data'!$AD$15","v":1},{"$f":"'Annual Data'!$AG$15","v":0.1},0,0]
[null,null,null,null,null,null,null,null,null,null,null,null,null,null,null,null,null,null,null,null,null,null,null,null,null,null,null,null,null,null,null,null,{"$f":"'Annual Data'!$AD$15","v":1},{"$f":"'Annual Data'!$AG$15","v":0.1},0,0]
[null,null,null,null,null,null,null,null,null,null,null,null,null,null,null,null,null,null,null,null,null,null,null,null,null,null,null,null,null,null,null,null,{"$f":"'Annual Data'!$AD$15","v":1},{"$f":"'Annual Data'!$AG$15","v":0.1},0,0]
[null,null,null,null,null,null,null,null,null,null,null,null,null,null,null,null,null,null,null,null,null,null,null,null,null,null,null,null,null,null,null,null,{"$f":"'Annual Data'!$AD$15","v":1},{"$f":"'Annual Data'!$AG$15","v":0.1},0,0]
[null,null,null,null,null,null,null,null,null,null,null,null,null,null,null,null,null,null,null,null,null,null,null,null,null,null,null,null,null,null,null,null,{"$f":"'Annual Data'!$AD$15","v":1},{"$f":"'Annual Data'!$AG$15","v":0.1},0,0]
[null,null,null,null,null,null,null,null,null,null,null,null,null,null,null,null,null,null,null,null,null,null,null,null,null,null,null,null,null,null,null,null,{"$f":"'Annual Data'!$AD$15","v":1},{"$f":"'Annual Data'!$AG$15","v":0.1},0,0]
[null,null,null,null,null,null,null,null,null,null,null,null,null,null,null,null,null,null,null,null,null,null,null,null,null,null,null,null,null,null,null,null,{"$f":"'Annual Data'!$AD$15","v":1},{"$f":"'Annual Data'!$AG$15","v":0.1},0,0]
[null,null,null,null,null,null,null,null,null,null,null,null,null,null,null,null,null,null,null,null,null,null,null,null,null,null,null,null,null,null,null,null,{"$f":"'Annual Data'!$AD$15","v":1},{"$f":"'Annual Data'!$AG$15","v":0.1},0,0]
[null,null,null,null,null,null,null,null,null,null,null,null,null,null,null,null,null,null,null,null,null,null,null,null,null,null,null,null,null,null,null,null,{"$f":"'Annual Data'!$AD$15","v":1},{"$f":"'Annual Data'!$AG$15","v":0.1},0,0]
[null,null,null,null,null,null,null,null,null,null,null,null,null,null,null,null,null,null,null,null,null,null,null,null,null,null,null,null,null,null,null,null,{"$f":"'Annual Data'!$AD$15","v":1},{"$f":"'Annual Data'!$AG$15","v":0.1},0,0]
[null,null,null,null,null,null,null,null,null,null,null,null,null,null,null,null,null,null,null,null,null,null,null,null,null,null,null,null,null,null,null,null,{"$f":"'Annual Data'!$AD$15","v":1},{"$f":"'Annual Data'!$AG$15","v":0.1},0,0]
[null,null,null,null,null,null,null,null,null,null,null,null,null,null,null,null,null,null,null,null,null,null,null,null,null,null,null,null,null,null,null,null,{"$f":"'Annual Data'!$AD$15","v":1},{"$f":"'Annual Data'!$AG$15","v":0.1},0,0]
[null,null,null,null,null,null,null,null,null,null,null,null,null,null,null,null,null,null,null,null,null,null,null,null,null,null,null,null,null,null,null,null,{"$f":"'Annual Data'!$AD$15","v":1},{"$f":"'Annual Data'!$AG$15","v":0.1},0,0]
[null,null,null,null,null,null,null,null,null,null,null,null,null,null,null,null,null,null,null,null,null,null,null,null,null,null,null,null,null,null,null,null,{"$f":"'Annual Data'!$AD$15","v":1},{"$f":"'Annual Data'!$AG$15","v":0.1},0,0]
[null,null,null,null,null,null,null,null,null,null,null,null,null,null,null,null,null,null,null,null,null,null,null,null,null,null,null,null,null,null,null,null,{"$f":"'Annual Data'!$AD$15","v":1},{"$f":"'Annual Data'!$AG$15","v":0.1},0,0]
[null,null,null,null,null,null,null,null,null,null,null,null,null,null,null,null,null,null,null,null,null,null,null,null,null,null,null,null,null,null,null,null,{"$f":"'Annual Data'!$AD$15","v":1},{"$f":"'Annual Data'!$AG$15","v":0.1},0,0]
[null,null,null,null,null,null,null,null,null,null,null,null,null,null,null,null,null,null,null,null,null,null,null,null,null,null,null,null,null,null,null,null,{"$f":"'Annual Data'!$AD$15","v":1},{"$f":"'Annual Data'!$AG$15","v":0.1},0,0]
[null,null,null,null,null,null,null,null,null,null,null,null,null,null,null,null,null,null,null,null,null,null,null,null,null,null,null,null,null,null,null,null,{"$f":"'Annual Data'!$AD$15","v":1},{"$f":"'Annual Data'!$AG$15","v":0.1},0,0]
[null,null,null,null,null,null,null,null,null,null,null,null,null,null,null,null,null,null,null,null,null,null,null,null,null,null,null,null,null,null,null,null,{"$f":"'Annual Data'!$AD$15","v":1},{"$f":"'Annual Data'!$AG$15","v":0.1},0,0]
[null,null,null,null,null,null,null,null,null,null,null,null,null,null,null,null,null,null,null,null,null,null,null,null,null,null,null,null,null,null,null,null,{"$f":"'Annual Data'!$AD$15","v":1},{"$f":"'Annual Data'!$AG$15","v":0.1},0,0]
[null,null,null,null,null,null,null,null,null,null,null,null,null,null,null,null,null,null,null,null,null,null,null,null,null,null,null,null,null,null,null,null,{"$f":"'Annual Data'!$AD$15","v":1},{"$f":"'Annual Data'!$AG$15","v":0.1},0,0]
[null,null,null,null,null,null,null,null,null,null,null,null,null,null,null,null,null,null,null,null,null,null,null,null,null,null,null,null,null,null,null,null,{"$f":"'Annual Data'!$AD$15","v":1},{"$f":"'Annual Data'!$AG$15","v":0.1},0,0]
[null,null,null,null,null,null,null,null,null,null,null,null,null,null,null,null,null,null,null,null,null,null,null,null,null,null,null,null,null,null,null,null,{"$f":"'Annual Data'!$AD$15","v":1},{"$f":"'Annual Data'!$AG$15","v":0.1},0,0]
[null,null,null,null,null,null,null,null,null,null,null,null,null,null,null,null,null,null,null,null,null,null,null,null,null,null,null,null,null,null,null,null,{"$f":"'Annual Data'!$AD$15","v":1},{"$f":"'Annual Data'!$AG$15","v":0.1},0,0]
[null,null,null,null,null,null,null,null,null,null,null,null,null,null,null,null,null,null,null,null,null,null,null,null,null,null,null,null,null,null,null,null,{"$f":"'Annual Data'!$AD$15","v":1},{"$f":"'Annual Data'!$AG$15","v":0.1},0,0]
[null,null,null,null,null,null,null,null,null,null,null,null,null,null,null,null,null,null,null,null,null,null,null,null,null,null,null,null,null,null,null,null,{"$f":"'Annual Data'!$AD$15","v":1},{"$f":"'Annual Data'!$AG$15","v":0.1},0,0]
[null,null,null,null,null,null,null,null,null,null,null,null,null,null,null,null,null,null,null,null,null,null,null,null,null,null,null,null,null,null,null,null,{"$f":"'Annual Data'!$AD$15","v":1},{"$f":"'Annual Data'!$AG$15","v":0.1},0,0]
[null,null,null,null,null,null,null,null,null,null,null,null,null,null,null,null,null,null,null,null,null,null,null,null,null,null,null,null,null,null,null,null,{"$f":"'Annual Data'!$AD$15","v":1},{"$f":"'Annual Data'!$AG$15","v":0.1},0,0]
[null,null,null,null,null,null,null,null,null,null,null,null,null,null,null,null,null,null,null,null,null,null,null,null,null,null,null,null,null,null,null,null,{"$f":"'Annual Data'!$AD$15","v":1},{"$f":"'Annual Data'!$AG$15","v":0.1},0,0]
[null,null,null,null,null,null,null,null,null,null,null,null,null,null,null,null,null,null,null,null,null,null,null,null,null,null,null,null,null,null,null,null,{"$f":"'Annual Data'!$AD$15","v":1},{"$f":"'Annual Data'!$AG$15","v":0.1},0,0]
[null,null,null,null,null,null,null,null,null,null,null,null,null,null,null,null,null,null,null,null,null,null,null,null,null,null,null,null,null,null,null,null,{"$f":"'Annual Data'!$AD$15","v":1},{"$f":"'Annual Data'!$AG$15","v":0.1},0,0]
[null,null,null,null,null,null,null,null,null,null,null,null,null,null,null,null,null,null,null,null,null,null,null,null,null,null,null,null,null,null,null,null,{"$f":"'Annual Data'!$AD$15","v":1},{"$f":"'Annual Data'!$AG$15","v":0.1},{"$f":"MAX(C714:F714)","v":0},{"$f":"MAX(G714:R714)","v":0}]
[null,null,null,null,null,null,null,null,null,null,null,null,null,null,null,null,null,null,null,null,null,null,null,null,null,null,null,null,null,null,null,null,{"$f":"'Annual Data'!$AD$15","v":1},{"$f":"'Annual Data'!$AG$15","v":0.1},0,0]
[null,null,null,null,null,null,null,null,null,null,null,null,null,null,null,null,null,null,null,null,null,null,null,null,null,null,null,null,null,null,null,null,{"$f":"'Annual Data'!$AD$15","v":1},{"$f":"'Annual Data'!$AG$15","v":0.1},0,0]
[null,null,null,null,null,null,null,null,null,null,null,null,null,null,null,null,null,null,null,null,null,null,null,null,null,null,null,null,null,null,null,null,{"$f":"'Annual Data'!$AD$15","v":1},{"$f":"'Annual Data'!$AG$15","v":0.1},0,0]
[null,null,null,null,null,null,null,null,null,null,null,null,null,null,null,null,null,null,null,null,null,null,null,null,null,null,null,null,null,null,null,null,{"$f":"'Annual Data'!$AD$15","v":1},{"$f":"'Annual Data'!$AG$15","v":0.1},0,0]
[null,null,null,null,null,null,null,null,null,null,null,null,null,null,null,null,null,null,null,null,null,null,null,null,null,null,null,null,null,null,null,null,{"$f":"'Annual Data'!$AD$15","v":1},{"$f":"'Annual Data'!$AG$15","v":0.1},0,0]
[null,null,null,null,null,null,null,null,null,null,null,null,null,null,null,null,null,null,null,null,null,null,null,null,null,null,null,null,null,null,null,null,{"$f":"'Annual Data'!$AD$15","v":1},{"$f":"'Annual Data'!$AG$15","v":0.1},0,0]
[null,null,null,null,null,null,null,null,null,null,null,null,null,null,null,null,null,null,null,null,null,null,null,null,null,null,null,null,null,null,null,null,{"$f":"'Annual Data'!$AD$15","v":1},{"$f":"'Annual Data'!$AG$15","v":0.1},0,0]
[null,null,null,null,null,null,null,null,null,null,null,null,null,null,null,null,null,null,null,null,null,null,null,null,null,null,null,null,null,null,null,null,{"$f":"'Annual Data'!$AD$15","v":1},{"$f":"'Annual Data'!$AG$15","v":0.1},0,0]
[null,null,null,null,null,null,null,null,null,null,null,null,null,null,null,null,null,null,null,null,null,null,null,null,null,null,null,null,null,null,null,null,{"$f":"'Annual Data'!$AD$15","v":1},{"$f":"'Annual Data'!$AG$15","v":0.1},0,0]
[null,null,null,null,null,null,null,null,null,null,null,null,null,null,null,null,null,null,null,null,null,null,null,null,null,null,null,null,null,null,null,null,{"$f":"'Annual Data'!$AD$15","v":1},{"$f":"'Annual Data'!$AG$15","v":0.1},0,0]
[null,null,null,null,null,null,null,null,null,null,null,null,null,null,null,null,null,null,null,null,null,null,null,null,null,null,null,null,null,null,null,null,{"$f":"'Annual Data'!$AD$15","v":1},{"$f":"'Annual Data'!$AG$15","v":0.1},0,0]
[null,null,null,null,null,null,null,null,null,null,null,null,null,null,null,null,null,null,null,null,null,null,null,null,null,null,null,null,null,null,null,null,{"$f":"'Annual Data'!$AD$15","v":1},{"$f":"'Annual Data'!$AG$15","v":0.1},0,0]
[null,null,null,null,null,null,null,null,null,null,null,null,null,null,null,null,null,null,null,null,null,null,null,null,null,null,null,null,null,null,null,null,{"$f":"'Annual Data'!$AD$15","v":1},{"$f":"'Annual Data'!$AG$15","v":0.1},0,0]
[null,null,null,null,null,null,null,null,null,null,null,null,null,null,null,null,null,null,null,null,null,null,null,null,null,null,null,null,null,null,null,null,{"$f":"'Annual Data'!$AD$15","v":1},{"$f":"'Annual Data'!$AG$15","v":0.1},0,0]
[null,null,null,null,null,null,null,null,null,null,null,null,null,null,null,null,null,null,null,null,null,null,null,null,null,null,null,null,null,null,null,null,{"$f":"'Annual Data'!$AD$15","v":1},{"$f":"'Annual Data'!$AG$15","v":0.1},0,0]
[null,null,null,null,null,null,null,null,null,null,null,null,null,null,null,null,null,null,null,null,null,null,null,null,null,null,null,null,null,null,null,null,{"$f":"'Annual Data'!$AD$15","v":1},{"$f":"'Annual Data'!$AG$15","v":0.1},0,0]
[null,null,null,null,null,null,null,null,null,null,null,null,null,null,null,null,null,null,null,null,null,null,null,null,null,null,null,null,null,null,null,null,{"$f":"'Annual Data'!$AD$15","v":1},{"$f":"'Annual Data'!$AG$15","v":0.1},0,0]
[null,null,null,null,null,null,null,null,null,null,null,null,null,null,null,null,null,null,null,null,null,null,null,null,null,null,null,null,null,null,null,null,{"$f":"'Annual Data'!$AD$15","v":1},{"$f":"'Annual Data'!$AG$15","v":0.1},0,0]
[null,null,null,null,null,null,null,null,null,null,null,null,null,null,null,null,null,null,null,null,null,null,null,null,null,null,null,null,null,null,null,null,{"$f":"'Annual Data'!$AD$15","v":1},{"$f":"'Annual Data'!$AG$15","v":0.1},0,0]
[null,null,null,null,null,null,null,null,null,null,null,null,null,null,null,null,null,null,null,null,null,null,null,null,null,null,null,null,null,null,null,null,{"$f":"'Annual Data'!$AD$15","v":1},{"$f":"'Annual Data'!$AG$15","v":0.1},0,0]
[null,null,null,null,null,null,null,null,null,null,null,null,null,null,null,null,null,null,null,null,null,null,null,null,null,null,null,null,null,null,null,null,{"$f":"'Annual Data'!$AD$15","v":1},{"$f":"'Annual Data'!$AG$15","v":0.1},0,0]
[null,null,null,null,null,null,null,null,null,null,null,null,null,null,null,null,null,null,null,null,null,null,null,null,null,null,null,null,null,null,null,null,{"$f":"'Annual Data'!$AD$15","v":1},{"$f":"'Annual Data'!$AG$15","v":0.1},0,0]
[null,null,null,null,null,null,null,null,null,null,null,null,null,null,null,null,null,null,null,null,null,null,null,null,null,null,null,null,null,null,null,null,{"$f":"'Annual Data'!$AD$15","v":1},{"$f":"'Annual Data'!$AG$15","v":0.1},0,0]
[null,null,null,null,null,null,null,null,null,null,null,null,null,null,null,null,null,null,null,null,null,null,null,null,null,null,null,null,null,null,null,null,{"$f":"'Annual Data'!$AD$15","v":1},{"$f":"'Annual Data'!$AG$15","v":0.1},0,0]
[null,null,null,null,null,null,null,null,null,null,null,null,null,null,null,null,null,null,null,null,null,null,null,null,null,null,null,null,null,null,null,null,{"$f":"'Annual Data'!$AD$15","v":1},{"$f":"'Annual Data'!$AG$15","v":0.1},0,0]
[null,null,null,null,null,null,null,null,null,null,null,null,null,null,null,null,null,null,null,null,null,null,null,null,null,null,null,null,null,null,null,null,{"$f":"'Annual Data'!$AD$15","v":1},{"$f":"'Annual Data'!$AG$15","v":0.1},0,0]
[null,null,null,null,null,null,null,null,null,null,null,null,null,null,null,null,null,null,null,null,null,null,null,null,null,null,null,null,null,null,null,null,{"$f":"'Annual Data'!$AD$15","v":1},{"$f":"'Annual Data'!$AG$15","v":0.1},0,0]
[null,null,null,null,null,null,null,null,null,null,null,null,null,null,null,null,null,null,null,null,null,null,null,null,null,null,null,null,null,null,null,null,{"$f":"'Annual Data'!$AD$15","v":1},{"$f":"'Annual Data'!$AG$15","v":0.1},0,0]
[null,null,null,null,null,null,null,null,null,null,null,null,null,null,null,null,null,null,null,null,null,null,null,null,null,null,null,null,null,null,null,null,{"$f":"'Annual Data'!$AD$15","v":1},{"$f":"'Annual Data'!$AG$15","v":0.1},0,0]
[null,null,null,null,null,null,null,null,null,null,null,null,null,null,null,null,null,null,null,null,null,null,null,null,null,null,null,null,null,null,null,null,{"$f":"'Annual Data'!$AD$15","v":1},{"$f":"'Annual Data'!$AG$15","v":0.1},0,0]
[null,null,null,null,null,null,null,null,null,null,null,null,null,null,null,null,null,null,null,null,null,null,null,null,null,null,null,null,null,null,null,null,{"$f":"'Annual Data'!$AD$15","v":1},{"$f":"'Annual Data'!$AG$15","v":0.1},0,0]
[null,null,null,null,null,null,null,null,null,null,null,null,null,null,null,null,null,null,null,null,null,null,null,null,null,null,null,null,null,null,null,null,{"$f":"'Annual Data'!$AD$15","v":1},{"$f":"'Annual Data'!$AG$15","v":0.1},0,0]
[null,null,null,null,null,null,null,null,null,null,null,null,null,null,null,null,null,null,null,null,null,null,null,null,null,null,null,null,null,null,null,null,{"$f":"'Annual Data'!$AD$15","v":1},{"$f":"'Annual Data'!$AG$15","v":0.1},0,0]
[null,null,null,null,null,null,null,null,null,null,null,null,null,null,null,null,null,null,null,null,null,null,null,null,null,null,null,null,null,null,null,null,{"$f":"'Annual Data'!$AD$15","v":1},{"$f":"'Annual Data'!$AG$15","v":0.1},0,0]
[null,null,null,null,null,null,null,null,null,null,null,null,null,null,null,null,null,null,null,null,null,null,null,null,null,null,null,null,null,null,null,null,{"$f":"'Annual Data'!$AD$15","v":1},{"$f":"'Annual Data'!$AG$15","v":0.1},0,0]
[null,null,null,null,null,null,null,null,null,null,null,null,null,null,null,null,null,null,null,null,null,null,null,null,null,null,null,null,null,null,null,null,{"$f":"'Annual Data'!$AD$15","v":1},{"$f":"'Annual Data'!$AG$15","v":0.1},0,0]
[null,null,null,null,null,null,null,null,null,null,null,null,null,null,null,null,null,null,null,null,null,null,null,null,null,null,null,null,null,null,null,null,{"$f":"'Annual Data'!$AD$15","v":1},{"$f":"'Annual Data'!$AG$15","v":0.1},0,0]
[null,null,null,null,null,null,null,null,null,null,null,null,null,null,null,null,null,null,null,null,null,null,null,null,null,null,null,null,null,null,null,null,{"$f":"'Annual Data'!$AD$15","v":1},{"$f":"'Annual Data'!$AG$15","v":0.1},0,0]
[null,null,null,null,null,null,null,null,null,null,null,null,null,null,null,null,null,null,null,null,null,null,null,null,null,null,null,null,null,null,null,null,{"$f":"'Annual Data'!$AD$15","v":1},{"$f":"'Annual Data'!$AG$15","v":0.1},0,0]
[null,null,null,null,null,null,null,null,null,null,null,null,null,null,null,null,null,null,null,null,null,null,null,null,null,null,null,null,null,null,null,null,{"$f":"'Annual Data'!$AD$15","v":1},{"$f":"'Annual Data'!$AG$15","v":0.1},0,0]
[null,null,null,null,null,null,null,null,null,null,null,null,null,null,null,null,null,null,null,null,null,null,null,null,null,null,null,null,null,null,null,null,{"$f":"'Annual Data'!$AD$15","v":1},{"$f":"'Annual Data'!$AG$15","v":0.1},0,0]
[null,null,null,null,null,null,null,null,null,null,null,null,null,null,null,null,null,null,null,null,null,null,null,null,null,null,null,null,null,null,null,null,{"$f":"'Annual Data'!$AD$15","v":1},{"$f":"'Annual Data'!$AG$15","v":0.1},0,0]
[null,null,null,null,null,null,null,null,null,null,null,null,null,null,null,null,null,null,null,null,null,null,null,null,null,null,null,null,null,null,null,null,{"$f":"'Annual Data'!$AD$15","v":1},{"$f":"'Annual Data'!$AG$15","v":0.1},0,0]
[null,null,null,null,null,null,null,null,null,null,null,null,null,null,null,null,null,null,null,null,null,null,null,null,null,null,null,null,null,null,null,null,{"$f":"'Annual Data'!$AD$15","v":1},{"$f":"'Annual Data'!$AG$15","v":0.1},0,0]
[null,null,null,null,null,null,null,null,null,null,null,null,null,null,null,null,null,null,null,null,null,null,null,null,null,null,null,null,null,null,null,null,{"$f":"'Annual Data'!$AD$15","v":1},{"$f":"'Annual Data'!$AG$15","v":0.1},0,0]
[null,null,null,null,null,null,null,null,null,null,null,null,null,null,null,null,null,null,null,null,null,null,null,null,null,null,null,null,null,null,null,null,{"$f":"'Annual Data'!$AD$15","v":1},{"$f":"'Annual Data'!$AG$15","v":0.1},0,0]
[null,null,null,null,null,null,null,null,null,null,null,null,null,null,null,null,null,null,null,null,null,null,null,null,null,null,null,null,null,null,null,null,{"$f":"'Annual Data'!$AD$15","v":1},{"$f":"'Annual Data'!$AG$15","v":0.1},0,0]
[null,null,null,null,null,null,null,null,null,null,null,null,null,null,null,null,null,null,null,null,null,null,null,null,null,null,null,null,null,null,null,null,{"$f":"'Annual Data'!$AD$15","v":1},{"$f":"'Annual Data'!$AG$15","v":0.1},0,0]
[null,null,null,null,null,null,null,null,null,null,null,null,null,null,null,null,null,null,null,null,null,null,null,null,null,null,null,null,null,null,null,null,{"$f":"'Annual Data'!$AD$15","v":1},{"$f":"'Annual Data'!$AG$15","v":0.1},0,0]
[null,null,null,null,null,null,null,null,null,null,null,null,null,null,null,null,null,null,null,null,null,null,null,null,null,null,null,null,null,null,null,null,{"$f":"'Annual Data'!$AD$15","v":1},{"$f":"'Annual Data'!$AG$15","v":0.1},0,0]
[null,null,null,null,null,null,null,null,null,null,null,null,null,null,null,null,null,null,null,null,null,null,null,null,null,null,null,null,null,null,null,null,{"$f":"'Annual Data'!$AD$15","v":1},{"$f":"'Annual Data'!$AG$15","v":0.1},0,0]
[null,null,null,null,null,null,null,null,null,null,null,null,null,null,null,null,null,null,null,null,null,null,null,null,null,null,null,null,null,null,null,null,{"$f":"'Annual Data'!$AD$15","v":1},{"$f":"'Annual Data'!$AG$15","v":0.1},0,0]
[null,null,null,null,null,null,null,null,null,null,null,null,null,null,null,null,null,null,null,null,null,null,null,null,null,null,null,null,null,null,null,null,{"$f":"'Annual Data'!$AD$15","v":1},{"$f":"'Annual Data'!$AG$15","v":0.1},0,0]
[null,null,null,null,null,null,null,null,null,null,null,null,null,null,null,null,null,null,null,null,null,null,null,null,null,null,null,null,null,null,null,null,{"$f":"'Annual Data'!$AD$15","v":1},{"$f":"'Annual Data'!$AG$15","v":0.1},0,0]
[null,null,null,null,null,null,null,null,null,null,null,null,null,null,null,null,null,null,null,null,null,null,null,null,null,null,null,null,null,null,null,null,{"$f":"'Annual Data'!$AD$15","v":1},{"$f":"'Annual Data'!$AG$15","v":0.1},0,0]
[null,null,null,null,null,null,null,null,null,null,null,null,null,null,null,null,null,null,null,null,null,null,null,null,null,null,null,null,null,null,null,null,{"$f":"'Annual Data'!$AD$15","v":1},{"$f":"'Annual Data'!$AG$15","v":0.1},0,0]
[null,null,null,null,null,null,null,null,null,null,null,null,null,null,null,null,null,null,null,null,null,null,null,null,null,null,null,null,null,null,null,null,{"$f":"'Annual Data'!$AD$15","v":1},{"$f":"'Annual Data'!$AG$15","v":0.1},0,0]
[null,null,null,null,null,null,null,null,null,null,null,null,null,null,null,null,null,null,null,null,null,null,null,null,null,null,null,null,null,null,null,null,{"$f":"'Annual Data'!$AD$15","v":1},{"$f":"'Annual Data'!$AG$15","v":0.1},0,0]
[null,null,null,null,null,null,null,null,null,null,null,null,null,null,null,null,null,null,null,null,null,null,null,null,null,null,null,null,null,null,null,null,{"$f":"'Annual Data'!$AD$15","v":1},{"$f":"'Annual Data'!$AG$15","v":0.1},0,0]
[null,null,null,null,null,null,null,null,null,null,null,null,null,null,null,null,null,null,null,null,null,null,null,null,null,null,null,null,null,null,null,null,{"$f":"'Annual Data'!$AD$15","v":1},{"$f":"'Annual Data'!$AG$15","v":0.1},0,0]
[null,null,null,null,null,null,null,null,null,null,null,null,null,null,null,null,null,null,null,null,null,null,null,null,null,null,null,null,null,null,null,null,{"$f":"'Annual Data'!$AD$15","v":1},{"$f":"'Annual Data'!$AG$15","v":0.1},0,0]
[null,null,null,null,null,null,null,null,null,null,null,null,null,null,null,null,null,null,null,null,null,null,null,null,null,null,null,null,null,null,null,null,{"$f":"'Annual Data'!$AD$15","v":1},{"$f":"'Annual Data'!$AG$15","v":0.1},0,0]
[null,null,null,null,null,null,null,null,null,null,null,null,null,null,null,null,null,null,null,null,null,null,null,null,null,null,null,null,null,null,null,null,{"$f":"'Annual Data'!$AD$15","v":1},{"$f":"'Annual Data'!$AG$15","v":0.1},0,0]
[null,null,null,null,null,null,null,null,null,null,null,null,null,null,null,null,null,null,null,null,null,null,null,null,null,null,null,null,null,null,null,null,{"$f":"'Annual Data'!$AD$15","v":1},{"$f":"'Annual Data'!$AG$15","v":0.1},{"$f":"MAX(C778:F778)","v":0},{"$f":"MAX(G778:R778)","v":0}]
[null,null,null,null,null,null,null,null,null,null,null,null,null,null,null,null,null,null,null,null,null,null,null,null,null,null,null,null,null,null,null,null,{"$f":"'Annual Data'!$AD$15","v":1},{"$f":"'Annual Data'!$AG$15","v":0.1},0,0]
[null,null,null,null,null,null,null,null,null,null,null,null,null,null,null,null,null,null,null,null,null,null,null,null,null,null,null,null,null,null,null,null,{"$f":"'Annual Data'!$AD$15","v":1},{"$f":"'Annual Data'!$AG$15","v":0.1},0,0]
[null,null,null,null,null,null,null,null,null,null,null,null,null,null,null,null,null,null,null,null,null,null,null,null,null,null,null,null,null,null,null,null,{"$f":"'Annual Data'!$AD$15","v":1},{"$f":"'Annual Data'!$AG$15","v":0.1},0,0]
[null,null,null,null,null,null,null,null,null,null,null,null,null,null,null,null,null,null,null,null,null,null,null,null,null,null,null,null,null,null,null,null,{"$f":"'Annual Data'!$AD$15","v":1},{"$f":"'Annual Data'!$AG$15","v":0.1},0,0]
[null,null,null,null,null,null,null,null,null,null,null,null,null,null,null,null,null,null,null,null,null,null,null,null,null,null,null,null,null,null,null,null,{"$f":"'Annual Data'!$AD$15","v":1},{"$f":"'Annual Data'!$AG$15","v":0.1},0,0]
[null,null,null,null,null,null,null,null,null,null,null,null,null,null,null,null,null,null,null,null,null,null,null,null,null,null,null,null,null,null,null,null,{"$f":"'Annual Data'!$AD$15","v":1},{"$f":"'Annual Data'!$AG$15","v":0.1},0,0]
[null,null,null,null,null,null,null,null,null,null,null,null,null,null,null,null,null,null,null,null,null,null,null,null,null,null,null,null,null,null,null,null,{"$f":"'Annual Data'!$AD$15","v":1},{"$f":"'Annual Data'!$AG$15","v":0.1},0,0]
[null,null,null,null,null,null,null,null,null,null,null,null,null,null,null,null,null,null,null,null,null,null,null,null,null,null,null,null,null,null,null,null,{"$f":"'Annual Data'!$AD$15","v":1},{"$f":"'Annual Data'!$AG$15","v":0.1},0,0]
[null,null,null,null,null,null,null,null,null,null,null,null,null,null,null,null,null,null,null,null,null,null,null,null,null,null,null,null,null,null,null,null,{"$f":"'Annual Data'!$AD$15","v":1},{"$f":"'Annual Data'!$AG$15","v":0.1},0,0]
[null,null,null,null,null,null,null,null,null,null,null,null,null,null,null,null,null,null,null,null,null,null,null,null,null,null,null,null,null,null,null,null,{"$f":"'Annual Data'!$AD$15","v":1},{"$f":"'Annual Data'!$AG$15","v":0.1},0,0]
[null,null,null,null,null,null,null,null,null,null,null,null,null,null,null,null,null,null,null,null,null,null,null,null,null,null,null,null,null,null,null,null,{"$f":"'Annual Data'!$AD$15","v":1},{"$f":"'Annual Data'!$AG$15","v":0.1},0,0]
[null,null,null,null,null,null,null,null,null,null,null,null,null,null,null,null,null,null,null,null,null,null,null,null,null,null,null,null,null,null,null,null,{"$f":"'Annual Data'!$AD$15","v":1},{"$f":"'Annual Data'!$AG$15","v":0.1},0,0]
[null,null,null,null,null,null,null,null,null,null,null,null,null,null,null,null,null,null,null,null,null,null,null,null,null,null,null,null,null,null,null,null,{"$f":"'Annual Data'!$AD$15","v":1},{"$f":"'Annual Data'!$AG$15","v":0.1},0,0]
[null,null,null,null,null,null,null,null,null,null,null,null,null,null,null,null,null,null,null,null,null,null,null,null,null,null,null,null,null,null,null,null,{"$f":"'Annual Data'!$AD$15","v":1},{"$f":"'Annual Data'!$AG$15","v":0.1},0,0]
[null,null,null,null,null,null,null,null,null,null,null,null,null,null,null,null,null,null,null,null,null,null,null,null,null,null,null,null,null,null,null,null,{"$f":"'Annual Data'!$AD$15","v":1},{"$f":"'Annual Data'!$AG$15","v":0.1},0,0]
[null,null,null,null,null,null,null,null,null,null,null,null,null,null,null,null,null,null,null,null,null,null,null,null,null,null,null,null,null,null,null,null,{"$f":"'Annual Data'!$AD$15","v":1},{"$f":"'Annual Data'!$AG$15","v":0.1},0,0]
[null,null,null,null,null,null,null,null,null,null,null,null,null,null,null,null,null,null,null,null,null,null,null,null,null,null,null,null,null,null,null,null,{"$f":"'Annual Data'!$AD$15","v":1},{"$f":"'Annual Data'!$AG$15","v":0.1},0,0]
[null,null,null,null,null,null,null,null,null,null,null,null,null,null,null,null,null,null,null,null,null,null,null,null,null,null,null,null,null,null,null,null,{"$f":"'Annual Data'!$AD$15","v":1},{"$f":"'Annual Data'!$AG$15","v":0.1},0,0]
[null,null,null,null,null,null,null,null,null,null,null,null,null,null,null,null,null,null,null,null,null,null,null,null,null,null,null,null,null,null,null,null,{"$f":"'Annual Data'!$AD$15","v":1},{"$f":"'Annual Data'!$AG$15","v":0.1},0,0]
[null,null,null,null,null,null,null,null,null,null,null,null,null,null,null,null,null,null,null,null,null,null,null,null,null,null,null,null,null,null,null,null,{"$f":"'Annual Data'!$AD$15","v":1},{"$f":"'Annual Data'!$AG$15","v":0.1},0,0]
[null,null,null,null,null,null,null,null,null,null,null,null,null,null,null,null,null,null,null,null,null,null,null,null,null,null,null,null,null,null,null,null,{"$f":"'Annual Data'!$AD$15","v":1},{"$f":"'Annual Data'!$AG$15","v":0.1},0,0]
[null,null,null,null,null,null,null,null,null,null,null,null,null,null,null,null,null,null,null,null,null,null,null,null,null,null,null,null,null,null,null,null,{"$f":"'Annual Data'!$AD$15","v":1},{"$f":"'Annual Data'!$AG$15","v":0.1},0,0]
[null,null,null,null,null,null,null,null,null,null,null,null,null,null,null,null,null,null,null,null,null,null,null,null,null,null,null,null,null,null,null,null,{"$f":"'Annual Data'!$AD$15","v":1},{"$f":"'Annual Data'!$AG$15","v":0.1},0,0]
[null,null,null,null,null,null,null,null,null,null,null,null,null,null,null,null,null,null,null,null,null,null,null,null,null,null,null,null,null,null,null,null,{"$f":"'Annual Data'!$AD$15","v":1},{"$f":"'Annual Data'!$AG$15","v":0.1},0,0]
[null,null,null,null,null,null,null,null,null,null,null,null,null,null,null,null,null,null,null,null,null,null,null,null,null,null,null,null,null,null,null,null,{"$f":"'Annual Data'!$AD$15","v":1},{"$f":"'Annual Data'!$AG$15","v":0.1},0,0]
[null,null,null,null,null,null,null,null,null,null,null,null,null,null,null,null,null,null,null,null,null,null,null,null,null,null,null,null,null,null,null,null,{"$f":"'Annual Data'!$AD$15","v":1},{"$f":"'Annual Data'!$AG$15","v":0.1},0,0]
[null,null,null,null,null,null,null,null,null,null,null,null,null,null,null,null,null,null,null,null,null,null,null,null,null,null,null,null,null,null,null,null,{"$f":"'Annual Data'!$AD$15","v":1},{"$f":"'Annual Data'!$AG$15","v":0.1},0,0]
[null,null,null,null,null,null,null,null,null,null,null,null,null,null,null,null,null,null,null,null,null,null,null,null,null,null,null,null,null,null,null,null,{"$f":"'Annual Data'!$AD$15","v":1},{"$f":"'Annual Data'!$AG$15","v":0.1},0,0]
[null,null,null,null,null,null,null,null,null,null,null,null,null,null,null,null,null,null,null,null,null,null,null,null,null,null,null,null,null,null,null,null,{"$f":"'Annual Data'!$AD$15","v":1},{"$f":"'Annual Data'!$AG$15","v":0.1},0,0]
[null,null,null,null,null,null,null,null,null,null,null,null,null,null,null,null,null,null,null,null,null,null,null,null,null,null,null,null,null,null,null,null,{"$f":"'Annual Data'!$AD$15","v":1},{"$f":"'Annual Data'!$AG$15","v":0.1},0,0]
[null,null,null,null,null,null,null,null,null,null,null,null,null,null,null,null,null,null,null,null,null,null,null,null,null,null,null,null,null,null,null,null,{"$f":"'Annual Data'!$AD$15","v":1},{"$f":"'Annual Data'!$AG$15","v":0.1},0,0]
[null,null,null,null,null,null,null,null,null,null,null,null,null,null,null,null,null,null,null,null,null,null,null,null,null,null,null,null,null,null,null,null,{"$f":"'Annual Data'!$AD$15","v":1},{"$f":"'Annual Data'!$AG$15","v":0.1},0,0]
[null,null,null,null,null,null,null,null,null,null,null,null,null,null,null,null,null,null,null,null,null,null,null,null,null,null,null,null,null,null,null,null,{"$f":"'Annual Data'!$AD$15","v":1},{"$f":"'Annual Data'!$AG$15","v":0.1},0,0]
[null,null,null,null,null,null,null,null,null,null,null,null,null,null,null,null,null,null,null,null,null,null,null,null,null,null,null,null,null,null,null,null,{"$f":"'Annual Data'!$AD$15","v":1},{"$f":"'Annual Data'!$AG$15","v":0.1},0,0]
[null,null,null,null,null,null,null,null,null,null,null,null,null,null,null,null,null,null,null,null,null,null,null,null,null,null,null,null,null,null,null,null,{"$f":"'Annual Data'!$AD$15","v":1},{"$f":"'Annual Data'!$AG$15","v":0.1},0,0]
[null,null,null,null,null,null,null,null,null,null,null,null,null,null,null,null,null,null,null,null,null,null,null,null,null,null,null,null,null,null,null,null,{"$f":"'Annual Data'!$AD$15","v":1},{"$f":"'Annual Data'!$AG$15","v":0.1},0,0]
[null,null,null,null,null,null,null,null,null,null,null,null,null,null,null,null,null,null,null,null,null,null,null,null,null,null,null,null,null,null,null,null,{"$f":"'Annual Data'!$AD$15","v":1},{"$f":"'Annual Data'!$AG$15","v":0.1},0,0]
[null,null,null,null,null,null,null,null,null,null,null,null,null,null,null,null,null,null,null,null,null,null,null,null,null,null,null,null,null,null,null,null,{"$f":"'Annual Data'!$AD$15","v":1},{"$f":"'Annual Data'!$AG$15","v":0.1},0,0]
[null,null,null,null,null,null,null,null,null,null,null,null,null,null,null,null,null,null,null,null,null,null,null,null,null,null,null,null,null,null,null,null,{"$f":"'Annual Data'!$AD$15","v":1},{"$f":"'Annual Data'!$AG$15","v":0.1},0,0]
[null,null,null,null,null,null,null,null,null,null,null,null,null,null,null,null,null,null,null,null,null,null,null,null,null,null,null,null,null,null,null,null,{"$f":"'Annual Data'!$AD$15","v":1},{"$f":"'Annual Data'!$AG$15","v":0.1},0,0]
[null,null,null,null,null,null,null,null,null,null,null,null,null,null,null,null,null,null,null,null,null,null,null,null,null,null,null,null,null,null,null,null,{"$f":"'Annual Data'!$AD$15","v":1},{"$f":"'Annual Data'!$AG$15","v":0.1},0,0]
[null,null,null,null,null,null,null,null,null,null,null,null,null,null,null,null,null,null,null,null,null,null,null,null,null,null,null,null,null,null,null,null,{"$f":"'Annual Data'!$AD$15","v":1},{"$f":"'Annual Data'!$AG$15","v":0.1},0,0]
[null,null,null,null,null,null,null,null,null,null,null,null,null,null,null,null,null,null,null,null,null,null,null,null,null,null,null,null,null,null,null,null,{"$f":"'Annual Data'!$AD$15","v":1},{"$f":"'Annual Data'!$AG$15","v":0.1},0,0]
[null,null,null,null,null,null,null,null,null,null,null,null,null,null,null,null,null,null,null,null,null,null,null,null,null,null,null,null,null,null,null,null,{"$f":"'Annual Data'!$AD$15","v":1},{"$f":"'Annual Data'!$AG$15","v":0.1},0,0]
[null,null,null,null,null,null,null,null,null,null,null,null,null,null,null,null,null,null,null,null,null,null,null,null,null,null,null,null,null,null,null,null,{"$f":"'Annual Data'!$AD$15","v":1},{"$f":"'Annual Data'!$AG$15","v":0.1},0,0]
[null,null,null,null,null,null,null,null,null,null,null,null,null,null,null,null,null,null,null,null,null,null,null,null,null,null,null,null,null,null,null,null,{"$f":"'Annual Data'!$AD$15","v":1},{"$f":"'Annual Data'!$AG$15","v":0.1},0,0]
[null,null,null,null,null,null,null,null,null,null,null,null,null,null,null,null,null,null,null,null,null,null,null,null,null,null,null,null,null,null,null,null,{"$f":"'Annual Data'!$AD$15","v":1},{"$f":"'Annual Data'!$AG$15","v":0.1},0,0]
[null,null,null,null,null,null,null,null,null,null,null,null,null,null,null,null,null,null,null,null,null,null,null,null,null,null,null,null,null,null,null,null,{"$f":"'Annual Data'!$AD$15","v":1},{"$f":"'Annual Data'!$AG$15","v":0.1},0,0]
[null,null,null,null,null,null,null,null,null,null,null,null,null,null,null,null,null,null,null,null,null,null,null,null,null,null,null,null,null,null,null,null,{"$f":"'Annual Data'!$AD$15","v":1},{"$f":"'Annual Data'!$AG$15","v":0.1},0,0]
[null,null,null,null,null,null,null,null,null,null,null,null,null,null,null,null,null,null,null,null,null,null,null,null,null,null,null,null,null,null,null,null,{"$f":"'Annual Data'!$AD$15","v":1},{"$f":"'Annual Data'!$AG$15","v":0.1},0,0]
[null,null,null,null,null,null,null,null,null,null,null,null,null,null,null,null,null,null,null,null,null,null,null,null,null,null,null,null,null,null,null,null,{"$f":"'Annual Data'!$AD$15","v":1},{"$f":"'Annual Data'!$AG$15","v":0.1},0,0]
[null,null,null,null,null,null,null,null,null,null,null,null,null,null,null,null,null,null,null,null,null,null,null,null,null,null,null,null,null,null,null,null,{"$f":"'Annual Data'!$AD$15","v":1},{"$f":"'Annual Data'!$AG$15","v":0.1},0,0]
[null,null,null,null,null,null,null,null,null,null,null,null,null,null,null,null,null,null,null,null,null,null,null,null,null,null,null,null,null,null,null,null,{"$f":"'Annual Data'!$AD$15","v":1},{"$f":"'Annual Data'!$AG$15","v":0.1},0,0]
[null,null,null,null,null,null,null,null,null,null,null,null,null,null,null,null,null,null,null,null,null,null,null,null,null,null,null,null,null,null,null,null,{"$f":"'Annual Data'!$AD$15","v":1},{"$f":"'Annual Data'!$AG$15","v":0.1},0,0]
[null,null,null,null,null,null,null,null,null,null,null,null,null,null,null,null,null,null,null,null,null,null,null,null,null,null,null,null,null,null,null,null,{"$f":"'Annual Data'!$AD$15","v":1},{"$f":"'Annual Data'!$AG$15","v":0.1},0,0]
[null,null,null,null,null,null,null,null,null,null,null,null,null,null,null,null,null,null,null,null,null,null,null,null,null,null,null,null,null,null,null,null,{"$f":"'Annual Data'!$AD$15","v":1},{"$f":"'Annual Data'!$AG$15","v":0.1},0,0]
[null,null,null,null,null,null,null,null,null,null,null,null,null,null,null,null,null,null,null,null,null,null,null,null,null,null,null,null,null,null,null,null,{"$f":"'Annual Data'!$AD$15","v":1},{"$f":"'Annual Data'!$AG$15","v":0.1},0,0]
[null,null,null,null,null,null,null,null,null,null,null,null,null,null,null,null,null,null,null,null,null,null,null,null,null,null,null,null,null,null,null,null,{"$f":"'Annual Data'!$AD$15","v":1},{"$f":"'Annual Data'!$AG$15","v":0.1},0,0]
[null,null,null,null,null,null,null,null,null,null,null,null,null,null,null,null,null,null,null,null,null,null,null,null,null,null,null,null,null,null,null,null,{"$f":"'Annual Data'!$AD$15","v":1},{"$f":"'Annual Data'!$AG$15","v":0.1},0,0]
[null,null,null,null,null,null,null,null,null,null,null,null,null,null,null,null,null,null,null,null,null,null,null,null,null,null,null,null,null,null,null,null,{"$f":"'Annual Data'!$AD$15","v":1},{"$f":"'Annual Data'!$AG$15","v":0.1},0,0]
[null,null,null,null,null,null,null,null,null,null,null,null,null,null,null,null,null,null,null,null,null,null,null,null,null,null,null,null,null,null,null,null,{"$f":"'Annual Data'!$AD$15","v":1},{"$f":"'Annual Data'!$AG$15","v":0.1},0,0]
[null,null,null,null,null,null,null,null,null,null,null,null,null,null,null,null,null,null,null,null,null,null,null,null,null,null,null,null,null,null,null,null,{"$f":"'Annual Data'!$AD$15","v":1},{"$f":"'Annual Data'!$AG$15","v":0.1},0,0]
[null,null,null,null,null,null,null,null,null,null,null,null,null,null,null,null,null,null,null,null,null,null,null,null,null,null,null,null,null,null,null,null,{"$f":"'Annual Data'!$AD$15","v":1},{"$f":"'Annual Data'!$AG$15","v":0.1},0,0]
[null,null,null,null,null,null,null,null,null,null,null,null,null,null,null,null,null,null,null,null,null,null,null,null,null,null,null,null,null,null,null,null,{"$f":"'Annual Data'!$AD$15","v":1},{"$f":"'Annual Data'!$AG$15","v":0.1},{"$f":"MAX(C842:F842)","v":0},{"$f":"MAX(G842:R842)","v":0}]
[null,null,null,null,null,null,null,null,null,null,null,null,null,null,null,null,null,null,null,null,null,null,null,null,null,null,null,null,null,null,null,null,{"$f":"'Annual Data'!$AD$15","v":1},{"$f":"'Annual Data'!$AG$15","v":0.1},0,0]
[null,null,null,null,null,null,null,null,null,null,null,null,null,null,null,null,null,null,null,null,null,null,null,null,null,null,null,null,null,null,null,null,{"$f":"'Annual Data'!$AD$15","v":1},{"$f":"'Annual Data'!$AG$15","v":0.1},0,0]
[null,null,null,null,null,null,null,null,null,null,null,null,null,null,null,null,null,null,null,null,null,null,null,null,null,null,null,null,null,null,null,null,{"$f":"'Annual Data'!$AD$15","v":1},{"$f":"'Annual Data'!$AG$15","v":0.1},0,0]
[null,null,null,null,null,null,null,null,null,null,null,null,null,null,null,null,null,null,null,null,null,null,null,null,null,null,null,null,null,null,null,null,{"$f":"'Annual Data'!$AD$15","v":1},{"$f":"'Annual Data'!$AG$15","v":0.1},0,0]
[null,null,null,null,null,null,null,null,null,null,null,null,null,null,null,null,null,null,null,null,null,null,null,null,null,null,null,null,null,null,null,null,{"$f":"'Annual Data'!$AD$15","v":1},{"$f":"'Annual Data'!$AG$15","v":0.1},0,0]
[null,null,null,null,null,null,null,null,null,null,null,null,null,null,null,null,null,null,null,null,null,null,null,null,null,null,null,null,null,null,null,null,{"$f":"'Annual Data'!$AD$15","v":1},{"$f":"'Annual Data'!$AG$15","v":0.1},0,0]
[null,null,null,null,null,null,null,null,null,null,null,null,null,null,null,null,null,null,null,null,null,null,null,null,null,null,null,null,null,null,null,null,{"$f":"'Annual Data'!$AD$15","v":1},{"$f":"'Annual Data'!$AG$15","v":0.1},0,0]
[null,null,null,null,null,null,null,null,null,null,null,null,null,null,null,null,null,null,null,null,null,null,null,null,null,null,null,null,null,null,null,null,{"$f":"'Annual Data'!$AD$15","v":1},{"$f":"'Annual Data'!$AG$15","v":0.1},0,0]
[null,null,null,null,null,null,null,null,null,null,null,null,null,null,null,null,null,null,null,null,null,null,null,null,null,null,null,null,null,null,null,null,{"$f":"'Annual Data'!$AD$15","v":1},{"$f":"'Annual Data'!$AG$15","v":0.1},0,0]
[null,null,null,null,null,null,null,null,null,null,null,null,null,null,null,null,null,null,null,null,null,null,null,null,null,null,null,null,null,null,null,null,{"$f":"'Annual Data'!$AD$15","v":1},{"$f":"'Annual Data'!$AG$15","v":0.1},0,0]
[null,null,null,null,null,null,null,null,null,null,null,null,null,null,null,null,null,null,null,null,null,null,null,null,null,null,null,null,null,null,null,null,{"$f":"'Annual Data'!$AD$15","v":1},{"$f":"'Annual Data'!$AG$15","v":0.1},0,0]
[null,null,null,null,null,null,null,null,null,null,null,null,null,null,null,null,null,null,null,null,null,null,null,null,null,null,null,null,null,null,null,null,{"$f":"'Annual Data'!$AD$15","v":1},{"$f":"'Annual Data'!$AG$15","v":0.1},0,0]
[null,null,null,null,null,null,null,null,null,null,null,null,null,null,null,null,null,null,null,null,null,null,null,null,null,null,null,null,null,null,null,null,{"$f":"'Annual Data'!$AD$15","v":1},{"$f":"'Annual Data'!$AG$15","v":0.1},0,0]
[null,null,null,null,null,null,null,null,null,null,null,null,null,null,null,null,null,null,null,null,null,null,null,null,null,null,null,null,null,null,null,null,{"$f":"'Annual Data'!$AD$15","v":1},{"$f":"'Annual Data'!$AG$15","v":0.1},0,0]
[null,null,null,null,null,null,null,null,null,null,null,null,null,null,null,null,null,null,null,null,null,null,null,null,null,null,null,null,null,null,null,null,{"$f":"'Annual Data'!$AD$15","v":1},{"$f":"'Annual Data'!$AG$15","v":0.1},0,0]
[null,null,null,null,null,null,null,null,null,null,null,null,null,null,null,null,null,null,null,null,null,null,null,null,null,null,null,null,null,null,null,null,{"$f":"'Annual Data'!$AD$15","v":1},{"$f":"'Annual Data'!$AG$15","v":0.1},0,0]
[null,null,null,null,null,null,null,null,null,null,null,null,null,null,null,null,null,null,null,null,null,null,null,null,null,null,null,null,null,null,null,null,{"$f":"'Annual Data'!$AD$15","v":1},{"$f":"'Annual Data'!$AG$15","v":0.1},0,0]
[null,null,null,null,null,null,null,null,null,null,null,null,null,null,null,null,null,null,null,null,null,null,null,null,null,null,null,null,null,null,null,null,{"$f":"'Annual Data'!$AD$15","v":1},{"$f":"'Annual Data'!$AG$15","v":0.1},0,0]
[null,null,null,null,null,null,null,null,null,null,null,null,null,null,null,null,null,null,null,null,null,null,null,null,null,null,null,null,null,null,null,null,{"$f":"'Annual Data'!$AD$15","v":1},{"$f":"'Annual Data'!$AG$15","v":0.1},0,0]
[null,null,null,null,null,null,null,null,null,null,null,null,null,null,null,null,null,null,null,null,null,null,null,null,null,null,null,null,null,null,null,null,{"$f":"'Annual Data'!$AD$15","v":1},{"$f":"'Annual Data'!$AG$15","v":0.1},0,0]
[null,null,null,null,null,null,null,null,null,null,null,null,null,null,null,null,null,null,null,null,null,null,null,null,null,null,null,null,null,null,null,null,{"$f":"'Annual Data'!$AD$15","v":1},{"$f":"'Annual Data'!$AG$15","v":0.1},0,0]
[null,null,null,null,null,null,null,null,null,null,null,null,null,null,null,null,null,null,null,null,null,null,null,null,null,null,null,null,null,null,null,null,{"$f":"'Annual Data'!$AD$15","v":1},{"$f":"'Annual Data'!$AG$15","v":0.1},0,0]
[null,null,null,null,null,null,null,null,null,null,null,null,null,null,null,null,null,null,null,null,null,null,null,null,null,null,null,null,null,null,null,null,{"$f":"'Annual Data'!$AD$15","v":1},{"$f":"'Annual Data'!$AG$15","v":0.1},0,0]
[null,null,null,null,null,null,null,null,null,null,null,null,null,null,null,null,null,null,null,null,null,null,null,null,null,null,null,null,null,null,null,null,{"$f":"'Annual Data'!$AD$15","v":1},{"$f":"'Annual Data'!$AG$15","v":0.1},0,0]
[null,null,null,null,null,null,null,null,null,null,null,null,null,null,null,null,null,null,null,null,null,null,null,null,null,null,null,null,null,null,null,null,{"$f":"'Annual Data'!$AD$15","v":1},{"$f":"'Annual Data'!$AG$15","v":0.1},0,0]
[null,null,null,null,null,null,null,null,null,null,null,null,null,null,null,null,null,null,null,null,null,null,null,null,null,null,null,null,null,null,null,null,{"$f":"'Annual Data'!$AD$15","v":1},{"$f":"'Annual Data'!$AG$15","v":0.1},0,0]
[null,null,null,null,null,null,null,null,null,null,null,null,null,null,null,null,null,null,null,null,null,null,null,null,null,null,null,null,null,null,null,null,{"$f":"'Annual Data'!$AD$15","v":1},{"$f":"'Annual Data'!$AG$15","v":0.1},0,0]
[null,null,null,null,null,null,null,null,null,null,null,null,null,null,null,null,null,null,null,null,null,null,null,null,null,null,null,null,null,null,null,null,{"$f":"'Annual Data'!$AD$15","v":1},{"$f":"'Annual Data'!$AG$15","v":0.1},0,0]
[null,null,null,null,null,null,null,null,null,null,null,null,null,null,null,null,null,null,null,null,null,null,null,null,null,null,null,null,null,null,null,null,{"$f":"'Annual Data'!$AD$15","v":1},{"$f":"'Annual Data'!$AG$15","v":0.1},0,0]
[null,null,null,null,null,null,null,null,null,null,null,null,null,null,null,null,null,null,null,null,null,null,null,null,null,null,null,null,null,null,null,null,{"$f":"'Annual Data'!$AD$15","v":1},{"$f":"'Annual Data'!$AG$15","v":0.1},0,0]
[null,null,null,null,null,null,null,null,null,null,null,null,null,null,null,null,null,null,null,null,null,null,null,null,null,null,null,null,null,null,null,null,{"$f":"'Annual Data'!$AD$15","v":1},{"$f":"'Annual Data'!$AG$15","v":0.1},0,0]
[null,null,null,null,null,null,null,null,null,null,null,null,null,null,null,null,null,null,null,null,null,null,null,null,null,null,null,null,null,null,null,null,{"$f":"'Annual Data'!$AD$15","v":1},{"$f":"'Annual Data'!$AG$15","v":0.1},0,0]
[null,null,null,null,null,null,null,null,null,null,null,null,null,null,null,null,null,null,null,null,null,null,null,null,null,null,null,null,null,null,null,null,{"$f":"'Annual Data'!$AD$15","v":1},{"$f":"'Annual Data'!$AG$15","v":0.1},0,0]
[null,null,null,null,null,null,null,null,null,null,null,null,null,null,null,null,null,null,null,null,null,null,null,null,null,null,null,null,null,null,null,null,{"$f":"'Annual Data'!$AD$15","v":1},{"$f":"'Annual Data'!$AG$15","v":0.1},0,0]
[null,null,null,null,null,null,null,null,null,null,null,null,null,null,null,null,null,null,null,null,null,null,null,null,null,null,null,null,null,null,null,null,{"$f":"'Annual Data'!$AD$15","v":1},{"$f":"'Annual Data'!$AG$15","v":0.1},0,0]
[null,null,null,null,null,null,null,null,null,null,null,null,null,null,null,null,null,null,null,null,null,null,null,null,null,null,null,null,null,null,null,null,{"$f":"'Annual Data'!$AD$15","v":1},{"$f":"'Annual Data'!$AG$15","v":0.1},0,0]
[null,null,null,null,null,null,null,null,null,null,null,null,null,null,null,null,null,null,null,null,null,null,null,null,null,null,null,null,null,null,null,null,{"$f":"'Annual Data'!$AD$15","v":1},{"$f":"'Annual Data'!$AG$15","v":0.1},0,0]
[null,null,null,null,null,null,null,null,null,null,null,null,null,null,null,null,null,null,null,null,null,null,null,null,null,null,null,null,null,null,null,null,{"$f":"'Annual Data'!$AD$15","v":1},{"$f":"'Annual Data'!$AG$15","v":0.1},0,0]
[null,null,null,null,null,null,null,null,null,null,null,null,null,null,null,null,null,null,null,null,null,null,null,null,null,null,null,null,null,null,null,null,{"$f":"'Annual Data'!$AD$15","v":1},{"$f":"'Annual Data'!$AG$15","v":0.1},0,0]
[null,null,null,null,null,null,null,null,null,null,null,null,null,null,null,null,null,null,null,null,null,null,null,null,null,null,null,null,null,null,null,null,{"$f":"'Annual Data'!$AD$15","v":1},{"$f":"'Annual Data'!$AG$15","v":0.1},0,0]
[null,null,null,null,null,null,null,null,null,null,null,null,null,null,null,null,null,null,null,null,null,null,null,null,null,null,null,null,null,null,null,null,{"$f":"'Annual Data'!$AD$15","v":1},{"$f":"'Annual Data'!$AG$15","v":0.1},0,0]
[null,null,null,null,null,null,null,null,null,null,null,null,null,null,null,null,null,null,null,null,null,null,null,null,null,null,null,null,null,null,null,null,{"$f":"'Annual Data'!$AD$15","v":1},{"$f":"'Annual Data'!$AG$15","v":0.1},0,0]
[null,null,null,null,null,null,null,null,null,null,null,null,null,null,null,null,null,null,null,null,null,null,null,null,null,null,null,null,null,null,null,null,{"$f":"'Annual Data'!$AD$15","v":1},{"$f":"'Annual Data'!$AG$15","v":0.1},0,0]
[null,null,null,null,null,null,null,null,null,null,null,null,null,null,null,null,null,null,null,null,null,null,null,null,null,null,null,null,null,null,null,null,{"$f":"'Annual Data'!$AD$15","v":1},{"$f":"'Annual Data'!$AG$15","v":0.1},0,0]
[null,null,null,null,null,null,null,null,null,null,null,null,null,null,null,null,null,null,null,null,null,null,null,null,null,null,null,null,null,null,null,null,{"$f":"'Annual Data'!$AD$15","v":1},{"$f":"'Annual Data'!$AG$15","v":0.1},0,0]
[null,null,null,null,null,null,null,null,null,null,null,null,null,null,null,null,null,null,null,null,null,null,null,null,null,null,null,null,null,null,null,null,{"$f":"'Annual Data'!$AD$15","v":1},{"$f":"'Annual Data'!$AG$15","v":0.1},0,0]
[null,null,null,null,null,null,null,null,null,null,null,null,null,null,null,null,null,null,null,null,null,null,null,null,null,null,null,null,null,null,null,null,{"$f":"'Annual Data'!$AD$15","v":1},{"$f":"'Annual Data'!$AG$15","v":0.1},0,0]
[null,null,null,null,null,null,null,null,null,null,null,null,null,null,null,null,null,null,null,null,null,null,null,null,null,null,null,null,null,null,null,null,{"$f":"'Annual Data'!$AD$15","v":1},{"$f":"'Annual Data'!$AG$15","v":0.1},0,0]
[null,null,null,null,null,null,null,null,null,null,null,null,null,null,null,null,null,null,null,null,null,null,null,null,null,null,null,null,null,null,null,null,{"$f":"'Annual Data'!$AD$15","v":1},{"$f":"'Annual Data'!$AG$15","v":0.1},0,0]
[null,null,null,null,null,null,null,null,null,null,null,null,null,null,null,null,null,null,null,null,null,null,null,null,null,null,null,null,null,null,null,null,{"$f":"'Annual Data'!$AD$15","v":1},{"$f":"'Annual Data'!$AG$15","v":0.1},0,0]
[null,null,null,null,null,null,null,null,null,null,null,null,null,null,null,null,null,null,null,null,null,null,null,null,null,null,null,null,null,null,null,null,{"$f":"'Annual Data'!$AD$15","v":1},{"$f":"'Annual Data'!$AG$15","v":0.1},0,0]
[null,null,null,null,null,null,null,null,null,null,null,null,null,null,null,null,null,null,null,null,null,null,null,null,null,null,null,null,null,null,null,null,{"$f":"'Annual Data'!$AD$15","v":1},{"$f":"'Annual Data'!$AG$15","v":0.1},0,0]
[null,null,null,null,null,null,null,null,null,null,null,null,null,null,null,null,null,null,null,null,null,null,null,null,null,null,null,null,null,null,null,null,{"$f":"'Annual Data'!$AD$15","v":1},{"$f":"'Annual Data'!$AG$15","v":0.1},0,0]
[null,null,null,null,null,null,null,null,null,null,null,null,null,null,null,null,null,null,null,null,null,null,null,null,null,null,null,null,null,null,null,null,{"$f":"'Annual Data'!$AD$15","v":1},{"$f":"'Annual Data'!$AG$15","v":0.1},0,0]
[null,null,null,null,null,null,null,null,null,null,null,null,null,null,null,null,null,null,null,null,null,null,null,null,null,null,null,null,null,null,null,null,{"$f":"'Annual Data'!$AD$15","v":1},{"$f":"'Annual Data'!$AG$15","v":0.1},0,0]
[null,null,null,null,null,null,null,null,null,null,null,null,null,null,null,null,null,null,null,null,null,null,null,null,null,null,null,null,null,null,null,null,{"$f":"'Annual Data'!$AD$15","v":1},{"$f":"'Annual Data'!$AG$15","v":0.1},0,0]
[null,null,null,null,null,null,null,null,null,null,null,null,null,null,null,null,null,null,null,null,null,null,null,null,null,null,null,null,null,null,null,null,{"$f":"'Annual Data'!$AD$15","v":1},{"$f":"'Annual Data'!$AG$15","v":0.1},0,0]
[null,null,null,null,null,null,null,null,null,null,null,null,null,null,null,null,null,null,null,null,null,null,null,null,null,null,null,null,null,null,null,null,{"$f":"'Annual Data'!$AD$15","v":1},{"$f":"'Annual Data'!$AG$15","v":0.1},0,0]
[null,null,null,null,null,null,null,null,null,null,null,null,null,null,null,null,null,null,null,null,null,null,null,null,null,null,null,null,null,null,null,null,{"$f":"'Annual Data'!$AD$15","v":1},{"$f":"'Annual Data'!$AG$15","v":0.1},0,0]
[null,null,null,null,null,null,null,null,null,null,null,null,null,null,null,null,null,null,null,null,null,null,null,null,null,null,null,null,null,null,null,null,{"$f":"'Annual Data'!$AD$15","v":1},{"$f":"'Annual Data'!$AG$15","v":0.1},0,0]
[null,null,null,null,null,null,null,null,null,null,null,null,null,null,null,null,null,null,null,null,null,null,null,null,null,null,null,null,null,null,null,null,{"$f":"'Annual Data'!$AD$15","v":1},{"$f":"'Annual Data'!$AG$15","v":0.1},0,0]
[null,null,null,null,null,null,null,null,null,null,null,null,null,null,null,null,null,null,null,null,null,null,null,null,null,null,null,null,null,null,null,null,{"$f":"'Annual Data'!$AD$15","v":1},{"$f":"'Annual Data'!$AG$15","v":0.1},0,0]
[null,null,null,null,null,null,null,null,null,null,null,null,null,null,null,null,null,null,null,null,null,null,null,null,null,null,null,null,null,null,null,null,{"$f":"'Annual Data'!$AD$15","v":1},{"$f":"'Annual Data'!$AG$15","v":0.1},0,0]
[null,null,null,null,null,null,null,null,null,null,null,null,null,null,null,null,null,null,null,null,null,null,null,null,null,null,null,null,null,null,null,null,{"$f":"'Annual Data'!$AD$15","v":1},{"$f":"'Annual Data'!$AG$15","v":0.1},{"$f":"MAX(C906:F906)","v":0},{"$f":"MAX(G906:R906)","v":0}]
[null,null,null,null,null,null,null,null,null,null,null,null,null,null,null,null,null,null,null,null,null,null,null,null,null,null,null,null,null,null,null,null,{"$f":"'Annual Data'!$AD$15","v":1},{"$f":"'Annual Data'!$AG$15","v":0.1},0,0]
[null,null,null,null,null,null,null,null,null,null,null,null,null,null,null,null,null,null,null,null,null,null,null,null,null,null,null,null,null,null,null,null,{"$f":"'Annual Data'!$AD$15","v":1},{"$f":"'Annual Data'!$AG$15","v":0.1},0,0]
[null,null,null,null,null,null,null,null,null,null,null,null,null,null,null,null,null,null,null,null,null,null,null,null,null,null,null,null,null,null,null,null,{"$f":"'Annual Data'!$AD$15","v":1},{"$f":"'Annual Data'!$AG$15","v":0.1},0,0]
[null,null,null,null,null,null,null,null,null,null,null,null,null,null,null,null,null,null,null,null,null,null,null,null,null,null,null,null,null,null,null,null,{"$f":"'Annual Data'!$AD$15","v":1},{"$f":"'Annual Data'!$AG$15","v":0.1},0,0]
[null,null,null,null,null,null,null,null,null,null,null,null,null,null,null,null,null,null,null,null,null,null,null,null,null,null,null,null,null,null,null,null,{"$f":"'Annual Data'!$AD$15","v":1},{"$f":"'Annual Data'!$AG$15","v":0.1},0,0]
[null,null,null,null,null,null,null,null,null,null,null,null,null,null,null,null,null,null,null,null,null,null,null,null,null,null,null,null,null,null,null,null,{"$f":"'Annual Data'!$AD$15","v":1},{"$f":"'Annual Data'!$AG$15","v":0.1},0,0]
[null,null,null,null,null,null,null,null,null,null,null,null,null,null,null,null,null,null,null,null,null,null,null,null,null,null,null,null,null,null,null,null,{"$f":"'Annual Data'!$AD$15","v":1},{"$f":"'Annual Data'!$AG$15","v":0.1},0,0]
[null,null,null,null,null,null,null,null,null,null,null,null,null,null,null,null,null,null,null,null,null,null,null,null,null,null,null,null,null,null,null,null,{"$f":"'Annual Data'!$AD$15","v":1},{"$f":"'Annual Data'!$AG$15","v":0.1},0,0]
[null,null,null,null,null,null,null,null,null,null,null,null,null,null,null,null,null,null,null,null,null,null,null,null,null,null,null,null,null,null,null,null,{"$f":"'Annual Data'!$AD$15","v":1},{"$f":"'Annual Data'!$AG$15","v":0.1},0,0]
[null,null,null,null,null,null,null,null,null,null,null,null,null,null,null,null,null,null,null,null,null,null,null,null,null,null,null,null,null,null,null,null,{"$f":"'Annual Data'!$AD$15","v":1},{"$f":"'Annual Data'!$AG$15","v":0.1},0,0]
[null,null,null,null,null,null,null,null,null,null,null,null,null,null,null,null,null,null,null,null,null,null,null,null,null,null,null,null,null,null,null,null,{"$f":"'Annual Data'!$AD$15","v":1},{"$f":"'Annual Data'!$AG$15","v":0.1},0,0]
[null,null,null,null,null,null,null,null,null,null,null,null,null,null,null,null,null,null,null,null,null,null,null,null,null,null,null,null,null,null,null,null,{"$f":"'Annual Data'!$AD$15","v":1},{"$f":"'Annual Data'!$AG$15","v":0.1},0,0]
[null,null,null,null,null,null,null,null,null,null,null,null,null,null,null,null,null,null,null,null,null,null,null,null,null,null,null,null,null,null,null,null,{"$f":"'Annual Data'!$AD$15","v":1},{"$f":"'Annual Data'!$AG$15","v":0.1},0,0]
[null,null,null,null,null,null,null,null,null,null,null,null,null,null,null,null,null,null,null,null,null,null,null,null,null,null,null,null,null,null,null,null,{"$f":"'Annual Data'!$AD$15","v":1},{"$f":"'Annual Data'!$AG$15","v":0.1},0,0]
[null,null,null,null,null,null,null,null,null,null,null,null,null,null,null,null,null,null,null,null,null,null,null,null,null,null,null,null,null,null,null,null,{"$f":"'Annual Data'!$AD$15","v":1},{"$f":"'Annual Data'!$AG$15","v":0.1},0,0]
[null,null,null,null,null,null,null,null,null,null,null,null,null,null,null,null,null,null,null,null,null,null,null,null,null,null,null,null,null,null,null,null,{"$f":"'Annual Data'!$AD$15","v":1},{"$f":"'Annual Data'!$AG$15","v":0.1},0,0]
[null,null,null,null,null,null,null,null,null,null,null,null,null,null,null,null,null,null,null,null,null,null,null,null,null,null,null,null,null,null,null,null,{"$f":"'Annual Data'!$AD$15","v":1},{"$f":"'Annual Data'!$AG$15","v":0.1},0,0]
[null,null,null,null,null,null,null,null,null,null,null,null,null,null,null,null,null,null,null,null,null,null,null,null,null,null,null,null,null,null,null,null,{"$f":"'Annual Data'!$AD$15","v":1},{"$f":"'Annual Data'!$AG$15","v":0.1},0,0]
[null,null,null,null,null,null,null,null,null,null,null,null,null,null,null,null,null,null,null,null,null,null,null,null,null,null,null,null,null,null,null,null,{"$f":"'Annual Data'!$AD$15","v":1},{"$f":"'Annual Data'!$AG$15","v":0.1},0,0]
[null,null,null,null,null,null,null,null,null,null,null,null,null,null,null,null,null,null,null,null,null,null,null,null,null,null,null,null,null,null,null,null,{"$f":"'Annual Data'!$AD$15","v":1},{"$f":"'Annual Data'!$AG$15","v":0.1},0,0]
[null,null,null,null,null,null,null,null,null,null,null,null,null,null,null,null,null,null,null,null,null,null,null,null,null,null,null,null,null,null,null,null,{"$f":"'Annual Data'!$AD$15","v":1},{"$f":"'Annual Data'!$AG$15","v":0.1},0,0]
[null,null,null,null,null,null,null,null,null,null,null,null,null,null,null,null,null,null,null,null,null,null,null,null,null,null,null,null,null,null,null,null,{"$f":"'Annual Data'!$AD$15","v":1},{"$f":"'Annual Data'!$AG$15","v":0.1},0,0]
[null,null,null,null,null,null,null,null,null,null,null,null,null,null,null,null,null,null,null,null,null,null,null,null,null,null,null,null,null,null,null,null,{"$f":"'Annual Data'!$AD$15","v":1},{"$f":"'Annual Data'!$AG$15","v":0.1},0,0]
[null,null,null,null,null,null,null,null,null,null,null,null,null,null,null,null,null,null,null,null,null,null,null,null,null,null,null,null,null,null,null,null,{"$f":"'Annual Data'!$AD$15","v":1},{"$f":"'Annual Data'!$AG$15","v":0.1},0,0]
[null,null,null,null,null,null,null,null,null,null,null,null,null,null,null,null,null,null,null,null,null,null,null,null,null,null,null,null,null,null,null,null,{"$f":"'Annual Data'!$AD$15","v":1},{"$f":"'Annual Data'!$AG$15","v":0.1},0,0]
[null,null,null,null,null,null,null,null,null,null,null,null,null,null,null,null,null,null,null,null,null,null,null,null,null,null,null,null,null,null,null,null,{"$f":"'Annual Data'!$AD$15","v":1},{"$f":"'Annual Data'!$AG$15","v":0.1},0,0]
[null,null,null,null,null,null,null,null,null,null,null,null,null,null,null,null,null,null,null,null,null,null,null,null,null,null,null,null,null,null,null,null,{"$f":"'Annual Data'!$AD$15","v":1},{"$f":"'Annual Data'!$AG$15","v":0.1},0,0]
[null,null,null,null,null,null,null,null,null,null,null,null,null,null,null,null,null,null,null,null,null,null,null,null,null,null,null,null,null,null,null,null,{"$f":"'Annual Data'!$AD$15","v":1},{"$f":"'Annual Data'!$AG$15","v":0.1},0,0]
[null,null,null,null,null,null,null,null,null,null,null,null,null,null,null,null,null,null,null,null,null,null,null,null,null,null,null,null,null,null,null,null,{"$f":"'Annual Data'!$AD$15","v":1},{"$f":"'Annual Data'!$AG$15","v":0.1},0,0]
[null,null,null,null,null,null,null,null,null,null,null,null,null,null,null,null,null,null,null,null,null,null,null,null,null,null,null,null,null,null,null,null,{"$f":"'Annual Data'!$AD$15","v":1},{"$f":"'Annual Data'!$AG$15","v":0.1},0,0]
[null,null,null,null,null,null,null,null,null,null,null,null,null,null,null,null,null,null,null,null,null,null,null,null,null,null,null,null,null,null,null,null,{"$f":"'Annual Data'!$AD$15","v":1},{"$f":"'Annual Data'!$AG$15","v":0.1},0,0]
[null,null,null,null,null,null,null,null,null,null,null,null,null,null,null,null,null,null,null,null,null,null,null,null,null,null,null,null,null,null,null,null,{"$f":"'Annual Data'!$AD$15","v":1},{"$f":"'Annual Data'!$AG$15","v":0.1},0,0]
[null,null,null,null,null,null,null,null,null,null,null,null,null,null,null,null,null,null,null,null,null,null,null,null,null,null,null,null,null,null,null,null,{"$f":"'Annual Data'!$AD$15","v":1},{"$f":"'Annual Data'!$AG$15","v":0.1},0,0]
[null,null,null,null,null,null,null,null,null,null,null,null,null,null,null,null,null,null,null,null,null,null,null,null,null,null,null,null,null,null,null,null,{"$f":"'Annual Data'!$AD$15","v":1},{"$f":"'Annual Data'!$AG$15","v":0.1},0,0]
[null,null,null,null,null,null,null,null,null,null,null,null,null,null,null,null,null,null,null,null,null,null,null,null,null,null,null,null,null,null,null,null,{"$f":"'Annual Data'!$AD$15","v":1},{"$f":"'Annual Data'!$AG$15","v":0.1},0,0]
[null,null,null,null,null,null,null,null,null,null,null,null,null,null,null,null,null,null,null,null,null,null,null,null,null,null,null,null,null,null,null,null,{"$f":"'Annual Data'!$AD$15","v":1},{"$f":"'Annual Data'!$AG$15","v":0.1},0,0]
[null,null,null,null,null,null,null,null,null,null,null,null,null,null,null,null,null,null,null,null,null,null,null,null,null,null,null,null,null,null,null,null,{"$f":"'Annual Data'!$AD$15","v":1},{"$f":"'Annual Data'!$AG$15","v":0.1},0,0]
[null,null,null,null,null,null,null,null,null,null,null,null,null,null,null,null,null,null,null,null,null,null,null,null,null,null,null,null,null,null,null,null,{"$f":"'Annual Data'!$AD$15","v":1},{"$f":"'Annual Data'!$AG$15","v":0.1},0,0]
[null,null,null,null,null,null,null,null,null,null,null,null,null,null,null,null,null,null,null,null,null,null,null,null,null,null,null,null,null,null,null,null,{"$f":"'Annual Data'!$AD$15","v":1},{"$f":"'Annual Data'!$AG$15","v":0.1},0,0]
[null,null,null,null,null,null,null,null,null,null,null,null,null,null,null,null,null,null,null,null,null,null,null,null,null,null,null,null,null,null,null,null,{"$f":"'Annual Data'!$AD$15","v":1},{"$f":"'Annual Data'!$AG$15","v":0.1},0,0]
[null,null,null,null,null,null,null,null,null,null,null,null,null,null,null,null,null,null,null,null,null,null,null,null,null,null,null,null,null,null,null,null,{"$f":"'Annual Data'!$AD$15","v":1},{"$f":"'Annual Data'!$AG$15","v":0.1},0,0]
[null,null,null,null,null,null,null,null,null,null,null,null,null,null,null,null,null,null,null,null,null,null,null,null,null,null,null,null,null,null,null,null,{"$f":"'Annual Data'!$AD$15","v":1},{"$f":"'Annual Data'!$AG$15","v":0.1},0,0]
[null,null,null,null,null,null,null,null,null,null,null,null,null,null,null,null,null,null,null,null,null,null,null,null,null,null,null,null,null,null,null,null,{"$f":"'Annual Data'!$AD$15","v":1},{"$f":"'Annual Data'!$AG$15","v":0.1},0,0]
[null,null,null,null,null,null,null,null,null,null,null,null,null,null,null,null,null,null,null,null,null,null,null,null,null,null,null,null,null,null,null,null,{"$f":"'Annual Data'!$AD$15","v":1},{"$f":"'Annual Data'!$AG$15","v":0.1},0,0]
[null,null,null,null,null,null,null,null,null,null,null,null,null,null,null,null,null,null,null,null,null,null,null,null,null,null,null,null,null,null,null,null,{"$f":"'Annual Data'!$AD$15","v":1},{"$f":"'Annual Data'!$AG$15","v":0.1},0,0]
[null,null,null,null,null,null,null,null,null,null,null,null,null,null,null,null,null,null,null,null,null,null,null,null,null,null,null,null,null,null,null,null,{"$f":"'Annual Data'!$AD$15","v":1},{"$f":"'Annual Data'!$AG$15","v":0.1},0,0]
[null,null,null,null,null,null,null,null,null,null,null,null,null,null,null,null,null,null,null,null,null,null,null,null,null,null,null,null,null,null,null,null,{"$f":"'Annual Data'!$AD$15","v":1},{"$f":"'Annual Data'!$AG$15","v":0.1},0,0]
[null,null,null,null,null,null,null,null,null,null,null,null,null,null,null,null,null,null,null,null,null,null,null,null,null,null,null,null,null,null,null,null,{"$f":"'Annual Data'!$AD$15","v":1},{"$f":"'Annual Data'!$AG$15","v":0.1},0,0]
[null,null,null,null,null,null,null,null,null,null,null,null,null,null,null,null,null,null,null,null,null,null,null,null,null,null,null,null,null,null,null,null,{"$f":"'Annual Data'!$AD$15","v":1},{"$f":"'Annual Data'!$AG$15","v":0.1},0,0]
[null,null,null,null,null,null,null,null,null,null,null,null,null,null,null,null,null,null,null,null,null,null,null,null,null,null,null,null,null,null,null,null,{"$f":"'Annual Data'!$AD$15","v":1},{"$f":"'Annual Data'!$AG$15","v":0.1},0,0]
[null,null,null,null,null,null,null,null,null,null,null,null,null,null,null,null,null,null,null,null,null,null,null,null,null,null,null,null,null,null,null,null,{"$f":"'Annual Data'!$AD$15","v":1},{"$f":"'Annual Data'!$AG$15","v":0.1},0,0]
[null,null,null,null,null,null,null,null,null,null,null,null,null,null,null,null,null,null,null,null,null,null,null,null,null,null,null,null,null,null,null,null,{"$f":"'Annual Data'!$AD$15","v":1},{"$f":"'Annual Data'!$AG$15","v":0.1},0,0]
[null,null,null,null,null,null,null,null,null,null,null,null,null,null,null,null,null,null,null,null,null,null,null,null,null,null,null,null,null,null,null,null,{"$f":"'Annual Data'!$AD$15","v":1},{"$f":"'Annual Data'!$AG$15","v":0.1},0,0]
[null,null,null,null,null,null,null,null,null,null,null,null,null,null,null,null,null,null,null,null,null,null,null,null,null,null,null,null,null,null,null,null,{"$f":"'Annual Data'!$AD$15","v":1},{"$f":"'Annual Data'!$AG$15","v":0.1},0,0]
[null,null,null,null,null,null,null,null,null,null,null,null,null,null,null,null,null,null,null,null,null,null,null,null,null,null,null,null,null,null,null,null,{"$f":"'Annual Data'!$AD$15","v":1},{"$f":"'Annual Data'!$AG$15","v":0.1},0,0]
[null,null,null,null,null,null,null,null,null,null,null,null,null,null,null,null,null,null,null,null,null,null,null,null,null,null,null,null,null,null,null,null,{"$f":"'Annual Data'!$AD$15","v":1},{"$f":"'Annual Data'!$AG$15","v":0.1},0,0]
[null,null,null,null,null,null,null,null,null,null,null,null,null,null,null,null,null,null,null,null,null,null,null,null,null,null,null,null,null,null,null,null,{"$f":"'Annual Data'!$AD$15","v":1},{"$f":"'Annual Data'!$AG$15","v":0.1},0,0]
[null,null,null,null,null,null,null,null,null,null,null,null,null,null,null,null,null,null,null,null,null,null,null,null,null,null,null,null,null,null,null,null,{"$f":"'Annual Data'!$AD$15","v":1},{"$f":"'Annual Data'!$AG$15","v":0.1},0,0]
[null,null,null,null,null,null,null,null,null,null,null,null,null,null,null,null,null,null,null,null,null,null,null,null,null,null,null,null,null,null,null,null,{"$f":"'Annual Data'!$AD$15","v":1},{"$f":"'Annual Data'!$AG$15","v":0.1},0,0]
[null,null,null,null,null,null,null,null,null,null,null,null,null,null,null,null,null,null,null,null,null,null,null,null,null,null,null,null,null,null,null,null,{"$f":"'Annual Data'!$AD$15","v":1},{"$f":"'Annual Data'!$AG$15","v":0.1},0,0]
[null,null,null,null,null,null,null,null,null,null,null,null,null,null,null,null,null,null,null,null,null,null,null,null,null,null,null,null,null,null,null,null,{"$f":"'Annual Data'!$AD$15","v":1},{"$f":"'Annual Data'!$AG$15","v":0.1},0,0]
[null,null,null,null,null,null,null,null,null,null,null,null,null,null,null,null,null,null,null,null,null,null,null,null,null,null,null,null,null,null,null,null,{"$f":"'Annual Data'!$AD$15","v":1},{"$f":"'Annual Data'!$AG$15","v":0.1},0,0]
[null,null,null,null,null,null,null,null,null,null,null,null,null,null,null,null,null,null,null,null,null,null,null,null,null,null,null,null,null,null,null,null,{"$f":"'Annual Data'!$AD$15","v":1},{"$f":"'Annual Data'!$AG$15","v":0.1},0,0]
[null,null,null,null,null,null,null,null,null,null,null,null,null,null,null,null,null,null,null,null,null,null,null,null,null,null,null,null,null,null,null,null,{"$f":"'Annual Data'!$AD$15","v":1},{"$f":"'Annual Data'!$AG$15","v":0.1},{"$f":"MAX(C970:F970)","v":0},{"$f":"MAX(G970:R970)","v":0}]
[null,null,null,null,null,null,null,null,null,null,null,null,null,null,null,null,null,null,null,null,null,null,null,null,null,null,null,null,null,null,null,null,{"$f":"'Annual Data'!$AD$15","v":1},{"$f":"'Annual Data'!$AG$15","v":0.1},0,0]
[null,null,null,null,null,null,null,null,null,null,null,null,null,null,null,null,null,null,null,null,null,null,null,null,null,null,null,null,null,null,null,null,{"$f":"'Annual Data'!$AD$15","v":1},{"$f":"'Annual Data'!$AG$15","v":0.1},0,0]
[null,null,null,null,null,null,null,null,null,null,null,null,null,null,null,null,null,null,null,null,null,null,null,null,null,null,null,null,null,null,null,null,{"$f":"'Annual Data'!$AD$15","v":1},{"$f":"'Annual Data'!$AG$15","v":0.1},0,0]
[null,null,null,null,null,null,null,null,null,null,null,null,null,null,null,null,null,null,null,null,null,null,null,null,null,null,null,null,null,null,null,null,{"$f":"'Annual Data'!$AD$15","v":1},{"$f":"'Annual Data'!$AG$15","v":0.1},0,0]
[null,null,null,null,null,null,null,null,null,null,null,null,null,null,null,null,null,null,null,null,null,null,null,null,null,null,null,null,null,null,null,null,{"$f":"'Annual Data'!$AD$15","v":1},{"$f":"'Annual Data'!$AG$15","v":0.1},0,0]
[null,null,null,null,null,null,null,null,null,null,null,null,null,null,null,null,null,null,null,null,null,null,null,null,null,null,null,null,null,null,null,null,{"$f":"'Annual Data'!$AD$15","v":1},{"$f":"'Annual Data'!$AG$15","v":0.1},0,0]
[null,null,null,null,null,null,null,null,null,null,null,null,null,null,null,null,null,null,null,null,null,null,null,null,null,null,null,null,null,null,null,null,{"$f":"'Annual Data'!$AD$15","v":1},{"$f":"'Annual Data'!$AG$15","v":0.1},0,0]
[null,null,null,null,null,null,null,null,null,null,null,null,null,null,null,null,null,null,null,null,null,null,null,null,null,null,null,null,null,null,null,null,{"$f":"'Annual Data'!$AD$15","v":1},{"$f":"'Annual Data'!$AG$15","v":0.1},0,0]
[null,null,null,null,null,null,null,null,null,null,null,null,null,null,null,null,null,null,null,null,null,null,null,null,null,null,null,null,null,null,null,null,{"$f":"'Annual Data'!$AD$15","v":1},{"$f":"'Annual Data'!$AG$15","v":0.1},0,0]
[null,null,null,null,null,null,null,null,null,null,null,null,null,null,null,null,null,null,null,null,null,null,null,null,null,null,null,null,null,null,null,null,{"$f":"'Annual Data'!$AD$15","v":1},{"$f":"'Annual Data'!$AG$15","v":0.1},0,0]
[null,null,null,null,null,null,null,null,null,null,null,null,null,null,null,null,null,null,null,null,null,null,null,null,null,null,null,null,null,null,null,null,{"$f":"'Annual Data'!$AD$15","v":1},{"$f":"'Annual Data'!$AG$15","v":0.1},0,0]
[null,null,null,null,null,null,null,null,null,null,null,null,null,null,null,null,null,null,null,null,null,null,null,null,null,null,null,null,null,null,null,null,{"$f":"'Annual Data'!$AD$15","v":1},{"$f":"'Annual Data'!$AG$15","v":0.1},0,0]
[null,null,null,null,null,null,null,null,null,null,null,null,null,null,null,null,null,null,null,null,null,null,null,null,null,null,null,null,null,null,null,null,{"$f":"'Annual Data'!$AD$15","v":1},{"$f":"'Annual Data'!$AG$15","v":0.1},0,0]
[null,null,null,null,null,null,null,null,null,null,null,null,null,null,null,null,null,null,null,null,null,null,null,null,null,null,null,null,null,null,null,null,{"$f":"'Annual Data'!$AD$15","v":1},{"$f":"'Annual Data'!$AG$15","v":0.1},0,0]
[null,null,null,null,null,null,null,null,null,null,null,null,null,null,null,null,null,null,null,null,null,null,null,null,null,null,null,null,null,null,null,null,{"$f":"'Annual Data'!$AD$15","v":1},{"$f":"'Annual Data'!$AG$15","v":0.1},0,0]
[null,null,null,null,null,null,null,null,null,null,null,null,null,null,null,null,null,null,null,null,null,null,null,null,null,null,null,null,null,null,null,null,{"$f":"'Annual Data'!$AD$15","v":1},{"$f":"'Annual Data'!$AG$15","v":0.1},0,0]
[null,null,null,null,null,null,null,null,null,null,null,null,null,null,null,null,null,null,null,null,null,null,null,null,null,null,null,null,null,null,null,null,{"$f":"'Annual Data'!$AD$15","v":1},{"$f":"'Annual Data'!$AG$15","v":0.1},0,0]
[null,null,null,null,null,null,null,null,null,null,null,null,null,null,null,null,null,null,null,null,null,null,null,null,null,null,null,null,null,null,null,null,{"$f":"'Annual Data'!$AD$15","v":1},{"$f":"'Annual Data'!$AG$15","v":0.1},0,0]
[null,null,null,null,null,null,null,null,null,null,null,null,null,null,null,null,null,null,null,null,null,null,null,null,null,null,null,null,null,null,null,null,{"$f":"'Annual Data'!$AD$15","v":1},{"$f":"'Annual Data'!$AG$15","v":0.1},0,0]
[null,null,null,null,null,null,null,null,null,null,null,null,null,null,null,null,null,null,null,null,null,null,null,null,null,null,null,null,null,null,null,null,{"$f":"'Annual Data'!$AD$15","v":1},{"$f":"'Annual Data'!$AG$15","v":0.1},0,0]
[null,null,null,null,null,null,null,null,null,null,null,null,null,null,null,null,null,null,null,null,null,null,null,null,null,null,null,null,null,null,null,null,{"$f":"'Annual Data'!$AD$15","v":1},{"$f":"'Annual Data'!$AG$15","v":0.1},0,0]
[null,null,null,null,null,null,null,null,null,null,null,null,null,null,null,null,null,null,null,null,null,null,null,null,null,null,null,null,null,null,null,null,{"$f":"'Annual Data'!$AD$15","v":1},{"$f":"'Annual Data'!$AG$15","v":0.1},0,0]
[null,null,null,null,null,null,null,null,null,null,null,null,null,null,null,null,null,null,null,null,null,null,null,null,null,null,null,null,null,null,null,null,{"$f":"'Annual Data'!$AD$15","v":1},{"$f":"'Annual Data'!$AG$15","v":0.1},0,0]
[null,null,null,null,null,null,null,null,null,null,null,null,null,null,null,null,null,null,null,null,null,null,null,null,null,null,null,null,null,null,null,null,{"$f":"'Annual Data'!$AD$15","v":1},{"$f":"'Annual Data'!$AG$15","v":0.1},0,0]
[null,null,null,null,null,null,null,null,null,null,null,null,null,null,null,null,null,null,null,null,null,null,null,null,null,null,null,null,null,null,null,null,{"$f":"'Annual Data'!$AD$15","v":1},{"$f":"'Annual Data'!$AG$15","v":0.1},0,0]
[null,null,null,null,null,null,null,null,null,null,null,null,null,null,null,null,null,null,null,null,null,null,null,null,null,null,null,null,null,null,null,null,{"$f":"'Annual Data'!$AD$15","v":1},{"$f":"'Annual Data'!$AG$15","v":0.1},0,0]
[null,null,null,null,null,null,null,null,null,null,null,null,null,null,null,null,null,null,null,null,null,null,null,null,null,null,null,null,null,null,null,null,{"$f":"'Annual Data'!$AD$15","v":1},{"$f":"'Annual Data'!$AG$15","v":0.1},0,0]
[null,null,null,null,null,null,null,null,null,null,null,null,null,null,null,null,null,null,null,null,null,null,null,null,null,null,null,null,null,null,null,null,{"$f":"'Annual Data'!$AD$15","v":1},{"$f":"'Annual Data'!$AG$15","v":0.1},0,0]
[null,null,null,null,null,null,null,null,null,null,null,null,null,null,null,null,null,null,null,null,null,null,null,null,null,null,null,null,null,null,null,null,{"$f":"'Annual Data'!$AD$15","v":1},{"$f":"'Annual Data'!$AG$15","v":0.1},0,0]
[null,null,null,null,null,null,null,null,null,null,null,null,null,null,null,null,null,null,null,null,null,null,null,null,null,null,null,null,null,null,null,null,{"$f":"'Annual Data'!$AD$15","v":1},{"$f":"'Annual Data'!$AG$15","v":0.1},0,0]
[null,null,null,null,null,null,null,null,null,null,null,null,null,null,null,null,null,null,null,null,null,null,null,null,null,null,null,null,null,null,null,null,{"$f":"'Annual Data'!$AD$15","v":1},{"$f":"'Annual Data'!$AG$15","v":0.1},0,0]
[null,null,null,null,null,null,null,null,null,null,null,null,null,null,null,null,null,null,null,null,null,null,null,null,null,null,null,null,null,null,null,null,{"$f":"'Annual Data'!$AD$15","v":1},{"$f":"'Annual Data'!$AG$15","v":0.1},0,0]
[null,null,null,null,null,null,null,null,null,null,null,null,null,null,null,null,null,null,null,null,null,null,null,null,null,null,null,null,null,null,null,null,{"$f":"'Annual Data'!$AD$15","v":1},{"$f":"'Annual Data'!$AG$15","v":0.1},0,0]
[null,null,null,null,null,null,null,null,null,null,null,null,null,null,null,null,null,null,null,null,null,null,null,null,null,null,null,null,null,null,null,null,{"$f":"'Annual Data'!$AD$15","v":1},{"$f":"'Annual Data'!$AG$15","v":0.1},0,0]
[null,null,null,null,null,null,null,null,null,null,null,null,null,null,null,null,null,null,null,null,null,null,null,null,null,null,null,null,null,null,null,null,{"$f":"'Annual Data'!$AD$15","v":1},{"$f":"'Annual Data'!$AG$15","v":0.1},0,0]
[null,null,null,null,null,null,null,null,null,null,null,null,null,null,null,null,null,null,null,null,null,null,null,null,null,null,null,null,null,null,null,null,{"$f":"'Annual Data'!$AD$15","v":1},{"$f":"'Annual Data'!$AG$15","v":0.1},0,0]
[null,null,null,null,null,null,null,null,null,null,null,null,null,null,null,null,null,null,null,null,null,null,null,null,null,null,null,null,null,null,null,null,{"$f":"'Annual Data'!$AD$15","v":1},{"$f":"'Annual Data'!$AG$15","v":0.1},0,0]
[null,null,null,null,null,null,null,null,null,null,null,null,null,null,null,null,null,null,null,null,null,null,null,null,null,null,null,null,null,null,null,null,{"$f":"'Annual Data'!$AD$15","v":1},{"$f":"'Annual Data'!$AG$15","v":0.1},0,0]
[null,null,null,null,null,null,null,null,null,null,null,null,null,null,null,null,null,null,null,null,null,null,null,null,null,null,null,null,null,null,null,null,{"$f":"'Annual Data'!$AD$15","v":1},{"$f":"'Annual Data'!$AG$15","v":0.1},0,0]
[null,null,null,null,null,null,null,null,null,null,null,null,null,null,null,null,null,null,null,null,null,null,null,null,null,null,null,null,null,null,null,null,{"$f":"'Annual Data'!$AD$15","v":1},{"$f":"'Annual Data'!$AG$15","v":0.1},0,0]
[null,null,null,null,null,null,null,null,null,null,null,null,null,null,null,null,null,null,null,null,null,null,null,null,null,null,null,null,null,null,null,null,{"$f":"'Annual Data'!$AD$15","v":1},{"$f":"'Annual Data'!$AG$15","v":0.1},0,0]
[null,null,null,null,null,null,null,null,null,null,null,null,null,null,null,null,null,null,null,null,null,null,null,null,null,null,null,null,null,null,null,null,{"$f":"'Annual Data'!$AD$15","v":1},{"$f":"'Annual Data'!$AG$15","v":0.1},0,0]
[null,null,null,null,null,null,null,null,null,null,null,null,null,null,null,null,null,null,null,null,null,null,null,null,null,null,null,null,null,null,null,null,{"$f":"'Annual Data'!$AD$15","v":1},{"$f":"'Annual Data'!$AG$15","v":0.1},0,0]
[null,null,null,null,null,null,null,null,null,null,null,null,null,null,null,null,null,null,null,null,null,null,null,null,null,null,null,null,null,null,null,null,{"$f":"'Annual Data'!$AD$15","v":1},{"$f":"'Annual Data'!$AG$15","v":0.1},0,0]
[null,null,null,null,null,null,null,null,null,null,null,null,null,null,null,null,null,null,null,null,null,null,null,null,null,null,null,null,null,null,null,null,{"$f":"'Annual Data'!$AD$15","v":1},{"$f":"'Annual Data'!$AG$15","v":0.1},0,0]
[null,null,null,null,null,null,null,null,null,null,null,null,null,null,null,null,null,null,null,null,null,null,null,null,null,null,null,null,null,null,null,null,{"$f":"'Annual Data'!$AD$15","v":1},{"$f":"'Annual Data'!$AG$15","v":0.1},0,0]
[null,null,null,null,null,null,null,null,null,null,null,null,null,null,null,null,null,null,null,null,null,null,null,null,null,null,null,null,null,null,null,null,{"$f":"'Annual Data'!$AD$15","v":1},{"$f":"'Annual Data'!$AG$15","v":0.1},0,0]
[null,null,null,null,null,null,null,null,null,null,null,null,null,null,null,null,null,null,null,null,null,null,null,null,null,null,null,null,null,null,null,null,{"$f":"'Annual Data'!$AD$15","v":1},{"$f":"'Annual Data'!$AG$15","v":0.1},0,0]
[null,null,null,null,null,null,null,null,null,null,null,null,null,null,null,null,null,null,null,null,null,null,null,null,null,null,null,null,null,null,null,null,{"$f":"'Annual Data'!$AD$15","v":1},{"$f":"'Annual Data'!$AG$15","v":0.1},{"$f":"MAX(C1034:F1034)","v":0},{"$f":"MAX(G1034:R1034)","v":0}]
[null,null,null,null,null,null,null,null,null,null,null,null,null,null,null,null,null,null,null,null,null,null,null,null,null,null,null,null,null,null,null,null,{"$f":"'Annual Data'!$AD$15","v":1},{"$f":"'Annual Data'!$AG$15","v":0.1},0,0]
[null,null,null,null,null,null,null,null,null,null,null,null,null,null,null,null,null,null,null,null,null,null,null,null,null,null,null,null,null,null,null,null,{"$f":"'Annual Data'!$AD$15","v":1},{"$f":"'Annual Data'!$AG$15","v":0.1},0,0]
[null,null,null,null,null,null,null,null,null,null,null,null,null,null,null,null,null,null,null,null,null,null,null,null,null,null,null,null,null,null,null,null,{"$f":"'Annual Data'!$AD$15","v":1},{"$f":"'Annual Data'!$AG$15","v":0.1},0,0]
[null,null,null,null,null,null,null,null,null,null,null,null,null,null,null,null,null,null,null,null,null,null,null,null,null,null,null,null,null,null,null,null,{"$f":"'Annual Data'!$AD$15","v":1},{"$f":"'Annual Data'!$AG$15","v":0.1},0,0]
[null,null,null,null,null,null,null,null,null,null,null,null,null,null,null,null,null,null,null,null,null,null,null,null,null,null,null,null,null,null,null,null,{"$f":"'Annual Data'!$AD$15","v":1},{"$f":"'Annual Data'!$AG$15","v":0.1},0,0]
[null,null,null,null,null,null,null,null,null,null,null,null,null,null,null,null,null,null,null,null,null,null,null,null,null,null,null,null,null,null,null,null,{"$f":"'Annual Data'!$AD$15","v":1},{"$f":"'Annual Data'!$AG$15","v":0.1},0,0]
[null,null,null,null,null,null,null,null,null,null,null,null,null,null,null,null,null,null,null,null,null,null,null,null,null,null,null,null,null,null,null,null,{"$f":"'Annual Data'!$AD$15","v":1},{"$f":"'Annual Data'!$AG$15","v":0.1},0,0]
[null,null,null,null,null,null,null,null,null,null,null,null,null,null,null,null,null,null,null,null,null,null,null,null,null,null,null,null,null,null,null,null,{"$f":"'Annual Data'!$AD$15","v":1},{"$f":"'Annual Data'!$AG$15","v":0.1},0,0]
[null,null,null,null,null,null,null,null,null,null,null,null,null,null,null,null,null,null,null,null,null,null,null,null,null,null,null,null,null,null,null,null,{"$f":"'Annual Data'!$AD$15","v":1},{"$f":"'Annual Data'!$AG$15","v":0.1},0,0]
[null,null,null,null,null,null,null,null,null,null,null,null,null,null,null,null,null,null,null,null,null,null,null,null,null,null,null,null,null,null,null,null,{"$f":"'Annual Data'!$AD$15","v":1},{"$f":"'Annual Data'!$AG$15","v":0.1},0,0]
[null,null,null,null,null,null,null,null,null,null,null,null,null,null,null,null,null,null,null,null,null,null,null,null,null,null,null,null,null,null,null,null,{"$f":"'Annual Data'!$AD$15","v":1},{"$f":"'Annual Data'!$AG$15","v":0.1},0,0]
[null,null,null,null,null,null,null,null,null,null,null,null,null,null,null,null,null,null,null,null,null,null,null,null,null,null,null,null,null,null,null,null,{"$f":"'Annual Data'!$AD$15","v":1},{"$f":"'Annual Data'!$AG$15","v":0.1},0,0]
[null,null,null,null,null,null,null,null,null,null,null,null,null,null,null,null,null,null,null,null,null,null,null,null,null,null,null,null,null,null,null,null,{"$f":"'Annual Data'!$AD$15","v":1},{"$f":"'Annual Data'!$AG$15","v":0.1},0,0]
[null,null,null,null,null,null,null,null,null,null,null,null,null,null,null,null,null,null,null,null,null,null,null,null,null,null,null,null,null,null,null,null,{"$f":"'Annual Data'!$AD$15","v":1},{"$f":"'Annual Data'!$AG$15","v":0.1},0,0]
[null,null,null,null,null,null,null,null,null,null,null,null,null,null,null,null,null,null,null,null,null,null,null,null,null,null,null,null,null,null,null,null,{"$f":"'Annual Data'!$AD$15","v":1},{"$f":"'Annual Data'!$AG$15","v":0.1},0,0]
[null,null,null,null,null,null,null,null,null,null,null,null,null,null,null,null,null,null,null,null,null,null,null,null,null,null,null,null,null,null,null,null,{"$f":"'Annual Data'!$AD$15","v":1},{"$f":"'Annual Data'!$AG$15","v":0.1},0,0]
[null,null,null,null,null,null,null,null,null,null,null,null,null,null,null,null,null,null,null,null,null,null,null,null,null,null,null,null,null,null,null,null,{"$f":"'Annual Data'!$AD$15","v":1},{"$f":"'Annual Data'!$AG$15","v":0.1},0,0]
[null,null,null,null,null,null,null,null,null,null,null,null,null,null,null,null,null,null,null,null,null,null,null,null,null,null,null,null,null,null,null,null,{"$f":"'Annual Data'!$AD$15","v":1},{"$f":"'Annual Data'!$AG$15","v":0.1},0,0]
[null,null,null,null,null,null,null,null,null,null,null,null,null,null,null,null,null,null,null,null,null,null,null,null,null,null,null,null,null,null,null,null,{"$f":"'Annual Data'!$AD$15","v":1},{"$f":"'Annual Data'!$AG$15","v":0.1},0,0]
[null,null,null,null,null,null,null,null,null,null,null,null,null,null,null,null,null,null,null,null,null,null,null,null,null,null,null,null,null,null,null,null,{"$f":"'Annual Data'!$AD$15","v":1},{"$f":"'Annual Data'!$AG$15","v":0.1},0,0]
[null,null,null,null,null,null,null,null,null,null,null,null,null,null,null,null,null,null,null,null,null,null,null,null,null,null,null,null,null,null,null,null,{"$f":"'Annual Data'!$AD$15","v":1},{"$f":"'Annual Data'!$AG$15","v":0.1},0,0]
[null,null,null,null,null,null,null,null,null,null,null,null,null,null,null,null,null,null,null,null,null,null,null,null,null,null,null,null,null,null,null,null,{"$f":"'Annual Data'!$AD$15","v":1},{"$f":"'Annual Data'!$AG$15","v":0.1},0,0]
[null,null,null,null,null,null,null,null,null,null,null,null,null,null,null,null,null,null,null,null,null,null,null,null,null,null,null,null,null,null,null,null,{"$f":"'Annual Data'!$AD$15","v":1},{"$f":"'Annual Data'!$AG$15","v":0.1},0,0]
[null,null,null,null,null,null,null,null,null,null,null,null,null,null,null,null,null,null,null,null,null,null,null,null,null,null,null,null,null,null,null,null,{"$f":"'Annual Data'!$AD$15","v":1},{"$f":"'Annual Data'!$AG$15","v":0.1},0,0]
[null,null,null,null,null,null,null,null,null,null,null,null,null,null,null,null,null,null,null,null,null,null,null,null,null,null,null,null,null,null,null,null,{"$f":"'Annual Data'!$AD$15","v":1},{"$f":"'Annual Data'!$AG$15","v":0.1},0,0]
[null,null,null,null,null,null,null,null,null,null,null,null,null,null,null,null,null,null,null,null,null,null,null,null,null,null,null,null,null,null,null,null,{"$f":"'Annual Data'!$AD$15","v":1},{"$f":"'Annual Data'!$AG$15","v":0.1},0,0]
[null,null,null,null,null,null,null,null,null,null,null,null,null,null,null,null,null,null,null,null,null,null,null,null,null,null,null,null,null,null,null,null,{"$f":"'Annual Data'!$AD$15","v":1},{"$f":"'Annual Data'!$AG$15","v":0.1},0,0]
[null,null,null,null,null,null,null,null,null,null,null,null,null,null,null,null,null,null,null,null,null,null,null,null,null,null,null,null,null,null,null,null,{"$f":"'Annual Data'!$AD$15","v":1},{"$f":"'Annual Data'!$AG$15","v":0.1},0,0]
[null,null,null,null,null,null,null,null,null,null,null,null,null,null,null,null,null,null,null,null,null,null,null,null,null,null,null,null,null,null,null,null,{"$f":"'Annual Data'!$AD$15","v":1},{"$f":"'Annual Data'!$AG$15","v":0.1},0,0]
[null,null,null,null,null,null,null,null,null,null,null,null,null,null,null,null,null,null,null,null,null,null,null,null,null,null,null,null,null,null,null,null,{"$f":"'Annual Data'!$AD$15","v":1},{"$f":"'Annual Data'!$AG$15","v":0.1},0,0]
[null,null,null,null,null,null,null,null,null,null,null,null,null,null,null,null,null,null,null,null,null,null,null,null,null,null,null,null,null,null,null,null,{"$f":"'Annual Data'!$AD$15","v":1},{"$f":"'Annual Data'!$AG$15","v":0.1},0,0]
[null,null,null,null,null,null,null,null,null,null,null,null,null,null,null,null,null,null,null,null,null,null,null,null,null,null,null,null,null,null,null,null,{"$f":"'Annual Data'!$AD$15","v":1},{"$f":"'Annual Data'!$AG$15","v":0.1},0,0]
[null,null,null,null,null,null,null,null,null,null,null,null,null,null,null,null,null,null,null,null,null,null,null,null,null,null,null,null,null,null,null,null,{"$f":"'Annual Data'!$AD$15","v":1},{"$f":"'Annual Data'!$AG$15","v":0.1},0,0]
[null,null,null,null,null,null,null,null,null,null,null,null,null,null,null,null,null,null,null,null,null,null,null,null,null,null,null,null,null,null,null,null,{"$f":"'Annual Data'!$AD$15","v":1},{"$f":"'Annual Data'!$AG$15","v":0.1},0,0]
[null,null,null,null,null,null,null,null,null,null,null,null,null,null,null,null,null,null,null,null,null,null,null,null,null,null,null,null,null,null,null,null,{"$f":"'Annual Data'!$AD$15","v":1},{"$f":"'Annual Data'!$AG$15","v":0.1},0,0]
[null,null,null,null,null,null,null,null,null,null,null,null,null,null,null,null,null,null,null,null,null,null,null,null,null,null,null,null,null,null,null,null,{"$f":"'Annual Data'!$AD$15","v":1},{"$f":"'Annual Data'!$AG$15","v":0.1},0,0]
[null,null,null,null,null,null,null,null,null,null,null,null,null,null,null,null,null,null,null,null,null,null,null,null,null,null,null,null,null,null,null,null,{"$f":"'Annual Data'!$AD$15","v":1},{"$f":"'Annual Data'!$AG$15","v":0.1},0,0]
[null,null,null,null,null,null,null,null,null,null,null,null,null,null,null,null,null,null,null,null,null,null,null,null,null,null,null,null,null,null,null,null,{"$f":"'Annual Data'!$AD$15","v":1},{"$f":"'Annual Data'!$AG$15","v":0.1},0,0]
[null,null,null,null,null,null,null,null,null,null,null,null,null,null,null,null,null,null,null,null,null,null,null,null,null,null,null,null,null,null,null,null,{"$f":"'Annual Data'!$AD$15","v":1},{"$f":"'Annual Data'!$AG$15","v":0.1},0,0]
[null,null,null,null,null,null,null,null,null,null,null,null,null,null,null,null,null,null,null,null,null,null,null,null,null,null,null,null,null,null,null,null,{"$f":"'Annual Data'!$AD$15","v":1},{"$f":"'Annual Data'!$AG$15","v":0.1},0,0]
[null,null,null,null,null,null,null,null,null,null,null,null,null,null,null,null,null,null,null,null,null,null,null,null,null,null,null,null,null,null,null,null,{"$f":"'Annual Data'!$AD$15","v":1},{"$f":"'Annual Data'!$AG$15","v":0.1},0,0]
[null,null,null,null,null,null,null,null,null,null,null,null,null,null,null,null,null,null,null,null,null,null,null,null,null,null,null,null,null,null,null,null,{"$f":"'Annual Data'!$AD$15","v":1},{"$f":"'Annual Data'!$AG$15","v":0.1},0,0]
[null,null,null,null,null,null,null,null,null,null,null,null,null,null,null,null,null,null,null,null,null,null,null,null,null,null,null,null,null,null,null,null,{"$f":"'Annual Data'!$AD$15","v":1},{"$f":"'Annual Data'!$AG$15","v":0.1},0,0]
[null,null,null,null,null,null,null,null,null,null,null,null,null,null,null,null,null,null,null,null,null,null,null,null,null,null,null,null,null,null,null,null,{"$f":"'Annual Data'!$AD$15","v":1},{"$f":"'Annual Data'!$AG$15","v":0.1},0,0]
[null,null,null,null,null,null,null,null,null,null,null,null,null,null,null,null,null,null,null,null,null,null,null,null,null,null,null,null,null,null,null,null,{"$f":"'Annual Data'!$AD$15","v":1},{"$f":"'Annual Data'!$AG$15","v":0.1},0,0]
[null,null,null,null,null,null,null,null,null,null,null,null,null,null,null,null,null,null,null,null,null,null,null,null,null,null,null,null,null,null,null,null,{"$f":"'Annual Data'!$AD$15","v":1},{"$f":"'Annual Data'!$AG$15","v":0.1},0,0]
[null,null,null,null,null,null,null,null,null,null,null,null,null,null,null,null,null,null,null,null,null,null,null,null,null,null,null,null,null,null,null,null,{"$f":"'Annual Data'!$AD$15","v":1},{"$f":"'Annual Data'!$AG$15","v":0.1},0,0]
[null,null,null,null,null,null,null,null,null,null,null,null,null,null,null,null,null,null,null,null,null,null,null,null,null,null,null,null,null,null,null,null,{"$f":"'Annual Data'!$AD$15","v":1},{"$f":"'Annual Data'!$AG$15","v":0.1},0,0]
[null,null,null,null,null,null,null,null,null,null,null,null,null,null,null,null,null,null,null,null,null,null,null,null,null,null,null,null,null,null,null,null,{"$f":"'Annual Data'!$AD$15","v":1},{"$f":"'Annual Data'!$AG$15","v":0.1},0,0]
[null,null,null,null,null,null,null,null,null,null,null,null,null,null,null,null,null,null,null,null,null,null,null,null,null,null,null,null,null,null,null,null,{"$f":"'Annual Data'!$AD$15","v":1},{"$f":"'Annual Data'!$AG$15","v":0.1},0,0]
[null,null,null,null,null,null,null,null,null,null,null,null,null,null,null,null,null,null,null,null,null,null,null,null,null,null,null,null,null,null,null,null,{"$f":"'Annual Data'!$AD$15","v":1},{"$f":"'Annual Data'!$AG$15","v":0.1},0,0]
[null,null,null,null,null,null,null,null,null,null,null,null,null,null,null,null,null,null,null,null,null,null,null,null,null,null,null,null,null,null,null,null,{"$f":"'Annual Data'!$AD$15","v":1},{"$f":"'Annual Data'!$AG$15","v":0.1},0,0]
[null,null,null,null,null,null,null,null,null,null,null,null,null,null,null,null,null,null,null,null,null,null,null,null,null,null,null,null,null,null,null,null,{"$f":"'Annual Data'!$AD$15","v":1},{"$f":"'Annual Data'!$AG$15","v":0.1},0,0]
[null,null,null,null,null,null,null,null,null,null,null,null,null,null,null,null,null,null,null,null,null,null,null,null,null,null,null,null,null,null,null,null,{"$f":"'Annual Data'!$AD$15","v":1},{"$f":"'Annual Data'!$AG$15","v":0.1},0,0]
[null,null,null,null,null,null,null,null,null,null,null,null,null,null,null,null,null,null,null,null,null,null,null,null,null,null,null,null,null,null,null,null,{"$f":"'Annual Data'!$AD$15","v":1},{"$f":"'Annual Data'!$AG$15","v":0.1},0,0]
[null,null,null,null,null,null,null,null,null,null,null,null,null,null,null,null,null,null,null,null,null,null,null,null,null,null,null,null,null,null,null,null,{"$f":"'Annual Data'!$AD$15","v":1},{"$f":"'Annual Data'!$AG$15","v":0.1},0,0]
[null,null,null,null,null,null,null,null,null,null,null,null,null,null,null,null,null,null,null,null,null,null,null,null,null,null,null,null,null,null,null,null,{"$f":"'Annual Data'!$AD$15","v":1},{"$f":"'Annual Data'!$AG$15","v":0.1},0,0]
[null,null,null,null,null,null,null,null,null,null,null,null,null,null,null,null,null,null,null,null,null,null,null,null,null,null,null,null,null,null,null,null,{"$f":"'Annual Data'!$AD$15","v":1},{"$f":"'Annual Data'!$AG$15","v":0.1},0,0]
[null,null,null,null,null,null,null,null,null,null,null,null,null,null,null,null,null,null,null,null,null,null,null,null,null,null,null,null,null,null,null,null,{"$f":"'Annual Data'!$AD$15","v":1},{"$f":"'Annual Data'!$AG$15","v":0.1},0,0]
[null,null,null,null,null,null,null,null,null,null,null,null,null,null,null,null,null,null,null,null,null,null,null,null,null,null,null,null,null,null,null,null,{"$f":"'Annual Data'!$AD$15","v":1},{"$f":"'Annual Data'!$AG$15","v":0.1},0,0]
[null,null,null,null,null,null,null,null,null,null,null,null,null,null,null,null,null,null,null,null,null,null,null,null,null,null,null,null,null,null,null,null,{"$f":"'Annual Data'!$AD$15","v":1},{"$f":"'Annual Data'!$AG$15","v":0.1},0,0]
[null,null,null,null,null,null,null,null,null,null,null,null,null,null,null,null,null,null,null,null,null,null,null,null,null,null,null,null,null,null,null,null,{"$f":"'Annual Data'!$AD$15","v":1},{"$f":"'Annual Data'!$AG$15","v":0.1},0,0]
[null,null,null,null,null,null,null,null,null,null,null,null,null,null,null,null,null,null,null,null,null,null,null,null,null,null,null,null,null,null,null,null,{"$f":"'Annual Data'!$AD$15","v":1},{"$f":"'Annual Data'!$AG$15","v":0.1},0,0]
[null,null,null,null,null,null,null,null,null,null,null,null,null,null,null,null,null,null,null,null,null,null,null,null,null,null,null,null,null,null,null,null,{"$f":"'Annual Data'!$AD$15","v":1},{"$f":"'Annual Data'!$AG$15","v":0.1},0,0]
[null,null,null,null,null,null,null,null,null,null,null,null,null,null,null,null,null,null,null,null,null,null,null,null,null,null,null,null,null,null,null,null,{"$f":"'Annual Data'!$AD$15","v":1},{"$f":"'Annual Data'!$AG$15","v":0.1},0,0]
[null,null,null,null,null,null,null,null,null,null,null,null,null,null,null,null,null,null,null,null,null,null,null,null,null,null,null,null,null,null,null,null,{"$f":"'Annual Data'!$AD$15","v":1},{"$f":"'Annual Data'!$AG$15","v":0.1},0,0]
[null,null,null,null,null,null,null,null,null,null,null,null,null,null,null,null,null,null,null,null,null,null,null,null,null,null,null,null,null,null,null,null,{"$f":"'Annual Data'!$AD$15","v":1},{"$f":"'Annual Data'!$AG$15","v":0.1},0,0]
[null,null,null,null,null,null,null,null,null,null,null,null,null,null,null,null,null,null,null,null,null,null,null,null,null,null,null,null,null,null,null,null,{"$f":"'Annual Data'!$AD$15","v":1},{"$f":"'Annual Data'!$AG$15","v":0.1},0,0]
[null,null,null,null,null,null,null,null,null,null,null,null,null,null,null,null,null,null,null,null,null,null,null,null,null,null,null,null,null,null,null,null,{"$f":"'Annual Data'!$AD$15","v":1},{"$f":"'Annual Data'!$AG$15","v":0.1},0,0]
[null,null,null,null,null,null,null,null,null,null,null,null,null,null,null,null,null,null,null,null,null,null,null,null,null,null,null,null,null,null,null,null,{"$f":"'Annual Data'!$AD$15","v":1},{"$f":"'Annual Data'!$AG$15","v":0.1},0,0]
[null,null,null,null,null,null,null,null,null,null,null,null,null,null,null,null,null,null,null,null,null,null,null,null,null,null,null,null,null,null,null,null,{"$f":"'Annual Data'!$AD$15","v":1},{"$f":"'Annual Data'!$AG$15","v":0.1},0,0]
[null,null,null,null,null,null,null,null,null,null,null,null,null,null,null,null,null,null,null,null,null,null,null,null,null,null,null,null,null,null,null,null,{"$f":"'Annual Data'!$AD$15","v":1},{"$f":"'Annual Data'!$AG$15","v":0.1},0,0]
[null,null,null,null,null,null,null,null,null,null,null,null,null,null,null,null,null,null,null,null,null,null,null,null,null,null,null,null,null,null,null,null,{"$f":"'Annual Data'!$AD$15","v":1},{"$f":"'Annual Data'!$AG$15","v":0.1},0,0]
[null,null,null,null,null,null,null,null,null,null,null,null,null,null,null,null,null,null,null,null,null,null,null,null,null,null,null,null,null,null,null,null,{"$f":"'Annual Data'!$AD$15","v":1},{"$f":"'Annual Data'!$AG$15","v":0.1},0,0]
[null,null,null,null,null,null,null,null,null,null,null,null,null,null,null,null,null,null,null,null,null,null,null,null,null,null,null,null,null,null,null,null,{"$f":"'Annual Data'!$AD$15","v":1},{"$f":"'Annual Data'!$AG$15","v":0.1},0,0]
[null,null,null,null,null,null,null,null,null,null,null,null,null,null,null,null,null,null,null,null,null,null,null,null,null,null,null,null,null,null,null,null,{"$f":"'Annual Data'!$AD$15","v":1},{"$f":"'Annual Data'!$AG$15","v":0.1},0,0]
[null,null,null,null,null,null,null,null,null,null,null,null,null,null,null,null,null,null,null,null,null,null,null,null,null,null,null,null,null,null,null,null,{"$f":"'Annual Data'!$AD$15","v":1},{"$f":"'Annual Data'!$AG$15","v":0.1},0,0]
[null,null,null,null,null,null,null,null,null,null,null,null,null,null,null,null,null,null,null,null,null,null,null,null,null,null,null,null,null,null,null,null,{"$f":"'Annual Data'!$AD$15","v":1},{"$f":"'Annual Data'!$AG$15","v":0.1},0,0]
[null,null,null,null,null,null,null,null,null,null,null,null,null,null,null,null,null,null,null,null,null,null,null,null,null,null,null,null,null,null,null,null,{"$f":"'Annual Data'!$AD$15","v":1},{"$f":"'Annual Data'!$AG$15","v":0.1},0,0]
[null,null,null,null,null,null,null,null,null,null,null,null,null,null,null,null,null,null,null,null,null,null,null,null,null,null,null,null,null,null,null,null,{"$f":"'Annual Data'!$AD$15","v":1},{"$f":"'Annual Data'!$AG$15","v":0.1},0,0]
[null,null,null,null,null,null,null,null,null,null,null,null,null,null,null,null,null,null,null,null,null,null,null,null,null,null,null,null,null,null,null,null,{"$f":"'Annual Data'!$AD$15","v":1},{"$f":"'Annual Data'!$AG$15","v":0.1},0,0]
[null,null,null,null,null,null,null,null,null,null,null,null,null,null,null,null,null,null,null,null,null,null,null,null,null,null,null,null,null,null,null,null,{"$f":"'Annual Data'!$AD$15","v":1},{"$f":"'Annual Data'!$AG$15","v":0.1},0,0]
[null,null,null,null,null,null,null,null,null,null,null,null,null,null,null,null,null,null,null,null,null,null,null,null,null,null,null,null,null,null,null,null,{"$f":"'Annual Data'!$AD$15","v":1},{"$f":"'Annual Data'!$AG$15","v":0.1},0,0]
[null,null,null,null,null,null,null,null,null,null,null,null,null,null,null,null,null,null,null,null,null,null,null,null,null,null,null,null,null,null,null,null,{"$f":"'Annual Data'!$AD$15","v":1},{"$f":"'Annual Data'!$AG$15","v":0.1},0,0]
[null,null,null,null,null,null,null,null,null,null,null,null,null,null,null,null,null,null,null,null,null,null,null,null,null,null,null,null,null,null,null,null,{"$f":"'Annual Data'!$AD$15","v":1},{"$f":"'Annual Data'!$AG$15","v":0.1},0,0]
[null,null,null,null,null,null,null,null,null,null,null,null,null,null,null,null,null,null,null,null,null,null,null,null,null,null,null,null,null,null,null,null,{"$f":"'Annual Data'!$AD$15","v":1},{"$f":"'Annual Data'!$AG$15","v":0.1},0,0]
[null,null,null,null,null,null,null,null,null,null,null,null,null,null,null,null,null,null,null,null,null,null,null,null,null,null,null,null,null,null,null,null,{"$f":"'Annual Data'!$AD$15","v":1},{"$f":"'Annual Data'!$AG$15","v":0.1},0,0]
[null,null,null,null,null,null,null,null,null,null,null,null,null,null,null,null,null,null,null,null,null,null,null,null,null,null,null,null,null,null,null,null,{"$f":"'Annual Data'!$AD$15","v":1},{"$f":"'Annual Data'!$AG$15","v":0.1},0,0]
[null,null,null,null,null,null,null,null,null,null,null,null,null,null,null,null,null,null,null,null,null,null,null,null,null,null,null,null,null,null,null,null,{"$f":"'Annual Data'!$AD$15","v":1},{"$f":"'Annual Data'!$AG$15","v":0.1},0,0]
[null,null,null,null,null,null,null,null,null,null,null,null,null,null,null,null,null,null,null,null,null,null,null,null,null,null,null,null,null,null,null,null,{"$f":"'Annual Data'!$AD$15","v":1},{"$f":"'Annual Data'!$AG$15","v":0.1},0,0]
[null,null,null,null,null,null,null,null,null,null,null,null,null,null,null,null,null,null,null,null,null,null,null,null,null,null,null,null,null,null,null,null,{"$f":"'Annual Data'!$AD$15","v":1},{"$f":"'Annual Data'!$AG$15","v":0.1},0,0]
[null,null,null,null,null,null,null,null,null,null,null,null,null,null,null,null,null,null,null,null,null,null,null,null,null,null,null,null,null,null,null,null,{"$f":"'Annual Data'!$AD$15","v":1},{"$f":"'Annual Data'!$AG$15","v":0.1},0,0]
[null,null,null,null,null,null,null,null,null,null,null,null,null,null,null,null,null,null,null,null,null,null,null,null,null,null,null,null,null,null,null,null,{"$f":"'Annual Data'!$AD$15","v":1},{"$f":"'Annual Data'!$AG$15","v":0.1},0,0]
[null,null,null,null,null,null,null,null,null,null,null,null,null,null,null,null,null,null,null,null,null,null,null,null,null,null,null,null,null,null,null,null,{"$f":"'Annual Data'!$AD$15","v":1},{"$f":"'Annual Data'!$AG$15","v":0.1},0,0]
[null,null,null,null,null,null,null,null,null,null,null,null,null,null,null,null,null,null,null,null,null,null,null,null,null,null,null,null,null,null,null,null,{"$f":"'Annual Data'!$AD$15","v":1},{"$f":"'Annual Data'!$AG$15","v":0.1},0,0]
[null,null,null,null,null,null,null,null,null,null,null,null,null,null,null,null,null,null,null,null,null,null,null,null,null,null,null,null,null,null,null,null,{"$f":"'Annual Data'!$AD$15","v":1},{"$f":"'Annual Data'!$AG$15","v":0.1},0,0]
[null,null,null,null,null,null,null,null,null,null,null,null,null,null,null,null,null,null,null,null,null,null,null,null,null,null,null,null,null,null,null,null,{"$f":"'Annual Data'!$AD$15","v":1},{"$f":"'Annual Data'!$AG$15","v":0.1},0,0]
[null,null,null,null,null,null,null,null,null,null,null,null,null,null,null,null,null,null,null,null,null,null,null,null,null,null,null,null,null,null,null,null,{"$f":"'Annual Data'!$AD$15","v":1},{"$f":"'Annual Data'!$AG$15","v":0.1},0,0]
[null,null,null,null,null,null,null,null,null,null,null,null,null,null,null,null,null,null,null,null,null,null,null,null,null,null,null,null,null,null,null,null,{"$f":"'Annual Data'!$AD$15","v":1},{"$f":"'Annual Data'!$AG$15","v":0.1},0,0]
[null,null,null,null,null,null,null,null,null,null,null,null,null,null,null,null,null,null,null,null,null,null,null,null,null,null,null,null,null,null,null,null,{"$f":"'Annual Data'!$AD$15","v":1},{"$f":"'Annual Data'!$AG$15","v":0.1},0,0]
[null,null,null,null,null,null,null,null,null,null,null,null,null,null,null,null,null,null,null,null,null,null,null,null,null,null,null,null,null,null,null,null,{"$f":"'Annual Data'!$AD$15","v":1},{"$f":"'Annual Data'!$AG$15","v":0.1},0,0]
[null,null,null,null,null,null,null,null,null,null,null,null,null,null,null,null,null,null,null,null,null,null,null,null,null,null,null,null,null,null,null,null,{"$f":"'Annual Data'!$AD$15","v":1},{"$f":"'Annual Data'!$AG$15","v":0.1},0,0]
[null,null,null,null,null,null,null,null,null,null,null,null,null,null,null,null,null,null,null,null,null,null,null,null,null,null,null,null,null,null,null,null,{"$f":"'Annual Data'!$AD$15","v":1},{"$f":"'Annual Data'!$AG$15","v":0.1},0,0]
[null,null,null,null,null,null,null,null,null,null,null,null,null,null,null,null,null,null,null,null,null,null,null,null,null,null,null,null,null,null,null,null,{"$f":"'Annual Data'!$AD$15","v":1},{"$f":"'Annual Data'!$AG$15","v":0.1},0,0]
[null,null,null,null,null,null,null,null,null,null,null,null,null,null,null,null,null,null,null,null,null,null,null,null,null,null,null,null,null,null,null,null,{"$f":"'Annual Data'!$AD$15","v":1},{"$f":"'Annual Data'!$AG$15","v":0.1},0,0]
[null,null,null,null,null,null,null,null,null,null,null,null,null,null,null,null,null,null,null,null,null,null,null,null,null,null,null,null,null,null,null,null,{"$f":"'Annual Data'!$AD$15","v":1},{"$f":"'Annual Data'!$AG$15","v":0.1},0,0]
[null,null,null,null,null,null,null,null,null,null,null,null,null,null,null,null,null,null,null,null,null,null,null,null,null,null,null,null,null,null,null,null,{"$f":"'Annual Data'!$AD$15","v":1},{"$f":"'Annual Data'!$AG$15","v":0.1},{"$f":"MAX(C1226:F1226)","v":0},{"$f":"MAX(G1226:R1226)","v":0}]
[null,null,null,null,null,null,null,null,null,null,null,null,null,null,null,null,null,null,null,null,null,null,null,null,null,null,null,null,null,null,null,null,{"$f":"'Annual Data'!$AD$15","v":1},{"$f":"'Annual Data'!$AG$15","v":0.1},0,0]
[null,null,null,null,null,null,null,null,null,null,null,null,null,null,null,null,null,null,null,null,null,null,null,null,null,null,null,null,null,null,null,null,{"$f":"'Annual Data'!$AD$15","v":1},{"$f":"'Annual Data'!$AG$15","v":0.1},0,0]
[null,null,null,null,null,null,null,null,null,null,null,null,null,null,null,null,null,null,null,null,null,null,null,null,null,null,null,null,null,null,null,null,{"$f":"'Annual Data'!$AD$15","v":1},{"$f":"'Annual Data'!$AG$15","v":0.1},0,0]
[null,null,null,null,null,null,null,null,null,null,null,null,null,null,null,null,null,null,null,null,null,null,null,null,null,null,null,null,null,null,null,null,{"$f":"'Annual Data'!$AD$15","v":1},{"$f":"'Annual Data'!$AG$15","v":0.1},0,0]
[null,null,null,null,null,null,null,null,null,null,null,null,null,null,null,null,null,null,null,null,null,null,null,null,null,null,null,null,null,null,null,null,{"$f":"'Annual Data'!$AD$15","v":1},{"$f":"'Annual Data'!$AG$15","v":0.1},0,0]
[null,null,null,null,null,null,null,null,null,null,null,null,null,null,null,null,null,null,null,null,null,null,null,null,null,null,null,null,null,null,null,null,{"$f":"'Annual Data'!$AD$15","v":1},{"$f":"'Annual Data'!$AG$15","v":0.1},0,0]
[null,null,null,null,null,null,null,null,null,null,null,null,null,null,null,null,null,null,null,null,null,null,null,null,null,null,null,null,null,null,null,null,{"$f":"'Annual Data'!$AD$15","v":1},{"$f":"'Annual Data'!$AG$15","v":0.1},0,0]
[null,null,null,null,null,null,null,null,null,null,null,null,null,null,null,null,null,null,null,null,null,null,null,null,null,null,null,null,null,null,null,null,{"$f":"'Annual Data'!$AD$15","v":1},{"$f":"'Annual Data'!$AG$15","v":0.1},0,0]
[null,null,null,null,null,null,null,null,null,null,null,null,null,null,null,null,null,null,null,null,null,null,null,null,null,null,null,null,null,null,null,null,{"$f":"'Annual Data'!$AD$15","v":1},{"$f":"'Annual Data'!$AG$15","v":0.1},0,0]
[null,null,null,null,null,null,null,null,null,null,null,null,null,null,null,null,null,null,null,null,null,null,null,null,null,null,null,null,null,null,null,null,{"$f":"'Annual Data'!$AD$15","v":1},{"$f":"'Annual Data'!$AG$15","v":0.1},0,0]
[null,null,null,null,null,null,null,null,null,null,null,null,null,null,null,null,null,null,null,null,null,null,null,null,null,null,null,null,null,null,null,null,{"$f":"'Annual Data'!$AD$15","v":1},{"$f":"'Annual Data'!$AG$15","v":0.1},0,0]
[null,null,null,null,null,null,null,null,null,null,null,null,null,null,null,null,null,null,null,null,null,null,null,null,null,null,null,null,null,null,null,null,{"$f":"'Annual Data'!$AD$15","v":1},{"$f":"'Annual Data'!$AG$15","v":0.1},0,0]
[null,null,null,null,null,null,null,null,null,null,null,null,null,null,null,null,null,null,null,null,null,null,null,null,null,null,null,null,null,null,null,null,{"$f":"'Annual Data'!$AD$15","v":1},{"$f":"'Annual Data'!$AG$15","v":0.1},0,0]
[null,null,null,null,null,null,null,null,null,null,null,null,null,null,null,null,null,null,null,null,null,null,null,null,null,null,null,null,null,null,null,null,{"$f":"'Annual Data'!$AD$15","v":1},{"$f":"'Annual Data'!$AG$15","v":0.1},0,0]
[null,null,null,null,null,null,null,null,null,null,null,null,null,null,null,null,null,null,null,null,null,null,null,null,null,null,null,null,null,null,null,null,{"$f":"'Annual Data'!$AD$15","v":1},{"$f":"'Annual Data'!$AG$15","v":0.1},0,0]
[null,null,null,null,null,null,null,null,null,null,null,null,null,null,null,null,null,null,null,null,null,null,null,null,null,null,null,null,null,null,null,null,{"$f":"'Annual Data'!$AD$15","v":1},{"$f":"'Annual Data'!$AG$15","v":0.1},0,0]
[null,null,null,null,null,null,null,null,null,null,null,null,null,null,null,null,null,null,null,null,null,null,null,null,null,null,null,null,null,null,null,null,{"$f":"'Annual Data'!$AD$15","v":1},{"$f":"'Annual Data'!$AG$15","v":0.1},0,0]
[null,null,null,null,null,null,null,null,null,null,null,null,null,null,null,null,null,null,null,null,null,null,null,null,null,null,null,null,null,null,null,null,{"$f":"'Annual Data'!$AD$15","v":1},{"$f":"'Annual Data'!$AG$15","v":0.1},0,0]
[null,null,null,null,null,null,null,null,null,null,null,null,null,null,null,null,null,null,null,null,null,null,null,null,null,null,null,null,null,null,null,null,{"$f":"'Annual Data'!$AD$15","v":1},{"$f":"'Annual Data'!$AG$15","v":0.1},0,0]
[null,null,null,null,null,null,null,null,null,null,null,null,null,null,null,null,null,null,null,null,null,null,null,null,null,null,null,null,null,null,null,null,{"$f":"'Annual Data'!$AD$15","v":1},{"$f":"'Annual Data'!$AG$15","v":0.1},0,0]
[null,null,null,null,null,null,null,null,null,null,null,null,null,null,null,null,null,null,null,null,null,null,null,null,null,null,null,null,null,null,null,null,{"$f":"'Annual Data'!$AD$15","v":1},{"$f":"'Annual Data'!$AG$15","v":0.1},0,0]
[null,null,null,null,null,null,null,null,null,null,null,null,null,null,null,null,null,null,null,null,null,null,null,null,null,null,null,null,null,null,null,null,{"$f":"'Annual Data'!$AD$15","v":1},{"$f":"'Annual Data'!$AG$15","v":0.1},0,0]
[null,null,null,null,null,null,null,null,null,null,null,null,null,null,null,null,null,null,null,null,null,null,null,null,null,null,null,null,null,null,null,null,{"$f":"'Annual Data'!$AD$15","v":1},{"$f":"'Annual Data'!$AG$15","v":0.1},0,0]
[null,null,null,null,null,null,null,null,null,null,null,null,null,null,null,null,null,null,null,null,null,null,null,null,null,null,null,null,null,null,null,null,{"$f":"'Annual Data'!$AD$15","v":1},{"$f":"'Annual Data'!$AG$15","v":0.1},0,0]
[null,null,null,null,null,null,null,null,null,null,null,null,null,null,null,null,null,null,null,null,null,null,null,null,null,null,null,null,null,null,null,null,{"$f":"'Annual Data'!$AD$15","v":1},{"$f":"'Annual Data'!$AG$15","v":0.1},0,0]
[null,null,null,null,null,null,null,null,null,null,null,null,null,null,null,null,null,null,null,null,null,null,null,null,null,null,null,null,null,null,null,null,{"$f":"'Annual Data'!$AD$15","v":1},{"$f":"'Annual Data'!$AG$15","v":0.1},0,0]
[null,null,null,null,null,null,null,null,null,null,null,null,null,null,null,null,null,null,null,null,null,null,null,null,null,null,null,null,null,null,null,null,{"$f":"'Annual Data'!$AD$15","v":1},{"$f":"'Annual Data'!$AG$15","v":0.1},0,0]
[null,null,null,null,null,null,null,null,null,null,null,null,null,null,null,null,null,null,null,null,null,null,null,null,null,null,null,null,null,null,null,null,{"$f":"'Annual Data'!$AD$15","v":1},{"$f":"'Annual Data'!$AG$15","v":0.1},0,0]
[null,null,null,null,null,null,null,null,null,null,null,null,null,null,null,null,null,null,null,null,null,null,null,null,null,null,null,null,null,null,null,null,{"$f":"'Annual Data'!$AD$15","v":1},{"$f":"'Annual Data'!$AG$15","v":0.1},0,0]
[null,null,null,null,null,null,null,null,null,null,null,null,null,null,null,null,null,null,null,null,null,null,null,null,null,null,null,null,null,null,null,null,{"$f":"'Annual Data'!$AD$15","v":1},{"$f":"'Annual Data'!$AG$15","v":0.1},0,0]
[null,null,null,null,null,null,null,null,null,null,null,null,null,null,null,null,null,null,null,null,null,null,null,null,null,null,null,null,null,null,null,null,{"$f":"'Annual Data'!$AD$15","v":1},{"$f":"'Annual Data'!$AG$15","v":0.1},0,0]
[null,null,null,null,null,null,null,null,null,null,null,null,null,null,null,null,null,null,null,null,null,null,null,null,null,null,null,null,null,null,null,null,{"$f":"'Annual Data'!$AD$15","v":1},{"$f":"'Annual Data'!$AG$15","v":0.1},0,0]
[null,null,null,null,null,null,null,null,null,null,null,null,null,null,null,null,null,null,null,null,null,null,null,null,null,null,null,null,null,null,null,null,{"$f":"'Annual Data'!$AD$15","v":1},{"$f":"'Annual Data'!$AG$15","v":0.1},0,0]
[null,null,null,null,null,null,null,null,null,null,null,null,null,null,null,null,null,null,null,null,null,null,null,null,null,null,null,null,null,null,null,null,{"$f":"'Annual Data'!$AD$15","v":1},{"$f":"'Annual Data'!$AG$15","v":0.1},0,0]
[null,null,null,null,null,null,null,null,null,null,null,null,null,null,null,null,null,null,null,null,null,null,null,null,null,null,null,null,null,null,null,null,{"$f":"'Annual Data'!$AD$15","v":1},{"$f":"'Annual Data'!$AG$15","v":0.1},{"$f":"MAX(C1290:F1290)","v":0},{"$f":"MAX(G1290:R1290)","v":0}]
[null,null,null,null,null,null,null,null,null,null,null,null,null,null,null,null,null,null,null,null,null,null,null,null,null,null,null,null,null,null,null,null,{"$f":"'Annual Data'!$AD$15","v":1},{"$f":"'Annual Data'!$AG$15","v":0.1},0,0]
[null,null,null,null,null,null,null,null,null,null,null,null,null,null,null,null,null,null,null,null,null,null,null,null,null,null,null,null,null,null,null,null,{"$f":"'Annual Data'!$AD$15","v":1},{"$f":"'Annual Data'!$AG$15","v":0.1},0,0]
[null,null,null,null,null,null,null,null,null,null,null,null,null,null,null,null,null,null,null,null,null,null,null,null,null,null,null,null,null,null,null,null,{"$f":"'Annual Data'!$AD$15","v":1},{"$f":"'Annual Data'!$AG$15","v":0.1},0,0]
[null,null,null,null,null,null,null,null,null,null,null,null,null,null,null,null,null,null,null,null,null,null,null,null,null,null,null,null,null,null,null,null,{"$f":"'Annual Data'!$AD$15","v":1},{"$f":"'Annual Data'!$AG$15","v":0.1},0,0]
[null,null,null,null,null,null,null,null,null,null,null,null,null,null,null,null,null,null,null,null,null,null,null,null,null,null,null,null,null,null,null,null,{"$f":"'Annual Data'!$AD$15","v":1},{"$f":"'Annual Data'!$AG$15","v":0.1},0,0]
[null,null,null,null,null,null,null,null,null,null,null,null,null,null,null,null,null,null,null,null,null,null,null,null,null,null,null,null,null,null,null,null,{"$f":"'Annual Data'!$AD$15","v":1},{"$f":"'Annual Data'!$AG$15","v":0.1},0,0]
[null,null,null,null,null,null,null,null,null,null,null,null,null,null,null,null,null,null,null,null,null,null,null,null,null,null,null,null,null,null,null,null,{"$f":"'Annual Data'!$AD$15","v":1},{"$f":"'Annual Data'!$AG$15","v":0.1},0,0]
[null,null,null,null,null,null,null,null,null,null,null,null,null,null,null,null,null,null,null,null,null,null,null,null,null,null,null,null,null,null,null,null,{"$f":"'Annual Data'!$AD$15","v":1},{"$f":"'Annual Data'!$AG$15","v":0.1},0,0]
[null,null,null,null,null,null,null,null,null,null,null,null,null,null,null,null,null,null,null,null,null,null,null,null,null,null,null,null,null,null,null,null,{"$f":"'Annual Data'!$AD$15","v":1},{"$f":"'Annual Data'!$AG$15","v":0.1},0,0]
[null,null,null,null,null,null,null,null,null,null,null,null,null,null,null,null,null,null,null,null,null,null,null,null,null,null,null,null,null,null,null,null,{"$f":"'Annual Data'!$AD$15","v":1},{"$f":"'Annual Data'!$AG$15","v":0.1},0,0]
[null,null,null,null,null,null,null,null,null,null,null,null,null,null,null,null,null,null,null,null,null,null,null,null,null,null,null,null,null,null,null,null,{"$f":"'Annual Data'!$AD$15","v":1},{"$f":"'Annual Data'!$AG$15","v":0.1},0,0]
[null,null,null,null,null,null,null,null,null,null,null,null,null,null,null,null,null,null,null,null,null,null,null,null,null,null,null,null,null,null,null,null,{"$f":"'Annual Data'!$AD$15","v":1},{"$f":"'Annual Data'!$AG$15","v":0.1},0,0]
[null,null,null,null,null,null,null,null,null,null,null,null,null,null,null,null,null,null,null,null,null,null,null,null,null,null,null,null,null,null,null,null,{"$f":"'Annual Data'!$AD$15","v":1},{"$f":"'Annual Data'!$AG$15","v":0.1},0,0]
[null,null,null,null,null,null,null,null,null,null,null,null,null,null,null,null,null,null,null,null,null,null,null,null,null,null,null,null,null,null,null,null,{"$f":"'Annual Data'!$AD$15","v":1},{"$f":"'Annual Data'!$AG$15","v":0.1},0,0]
[null,null,null,null,null,null,null,null,null,null,null,null,null,null,null,null,null,null,null,null,null,null,null,null,null,null,null,null,null,null,null,null,{"$f":"'Annual Data'!$AD$15","v":1},{"$f":"'Annual Data'!$AG$15","v":0.1},0,0]
[null,null,null,null,null,null,null,null,null,null,null,null,null,null,null,null,null,null,null,null,null,null,null,null,null,null,null,null,null,null,null,null,{"$f":"'Annual Data'!$AD$15","v":1},{"$f":"'Annual Data'!$AG$15","v":0.1},0,0]
[null,null,null,null,null,null,null,null,null,null,null,null,null,null,null,null,null,null,null,null,null,null,null,null,null,null,null,null,null,null,null,null,{"$f":"'Annual Data'!$AD$15","v":1},{"$f":"'Annual Data'!$AG$15","v":0.1},0,0]
[null,null,null,null,null,null,null,null,null,null,null,null,null,null,null,null,null,null,null,null,null,null,null,null,null,null,null,null,null,null,null,null,{"$f":"'Annual Data'!$AD$15","v":1},{"$f":"'Annual Data'!$AG$15","v":0.1},0,0]
[null,null,null,null,null,null,null,null,null,null,null,null,null,null,null,null,null,null,null,null,null,null,null,null,null,null,null,null,null,null,null,null,{"$f":"'Annual Data'!$AD$15","v":1},{"$f":"'Annual Data'!$AG$15","v":0.1},0,0]
[null,null,null,null,null,null,null,null,null,null,null,null,null,null,null,null,null,null,null,null,null,null,null,null,null,null,null,null,null,null,null,null,{"$f":"'Annual Data'!$AD$15","v":1},{"$f":"'Annual Data'!$AG$15","v":0.1},0,0]
[null,null,null,null,null,null,null,null,null,null,null,null,null,null,null,null,null,null,null,null,null,null,null,null,null,null,null,null,null,null,null,null,{"$f":"'Annual Data'!$AD$15","v":1},{"$f":"'Annual Data'!$AG$15","v":0.1},0,0]
[null,null,null,null,null,null,null,null,null,null,null,null,null,null,null,null,null,null,null,null,null,null,null,null,null,null,null,null,null,null,null,null,{"$f":"'Annual Data'!$AD$15","v":1},{"$f":"'Annual Data'!$AG$15","v":0.1},0,0]
[null,null,null,null,null,null,null,null,null,null,null,null,null,null,null,null,null,null,null,null,null,null,null,null,null,null,null,null,null,null,null,null,{"$f":"'Annual Data'!$AD$15","v":1},{"$f":"'Annual Data'!$AG$15","v":0.1},0,0]
[null,null,null,null,null,null,null,null,null,null,null,null,null,null,null,null,null,null,null,null,null,null,null,null,null,null,null,null,null,null,null,null,{"$f":"'Annual Data'!$AD$15","v":1},{"$f":"'Annual Data'!$AG$15","v":0.1},0,0]
[null,null,null,null,null,null,null,null,null,null,null,null,null,null,null,null,null,null,null,null,null,null,null,null,null,null,null,null,null,null,null,null,{"$f":"'Annual Data'!$AD$15","v":1},{"$f":"'Annual Data'!$AG$15","v":0.1},0,0]
[null,null,null,null,null,null,null,null,null,null,null,null,null,null,null,null,null,null,null,null,null,null,null,null,null,null,null,null,null,null,null,null,{"$f":"'Annual Data'!$AD$15","v":1},{"$f":"'Annual Data'!$AG$15","v":0.1},0,0]
[null,null,null,null,null,null,null,null,null,null,null,null,null,null,null,null,null,null,null,null,null,null,null,null,null,null,null,null,null,null,null,null,{"$f":"'Annual Data'!$AD$15","v":1},{"$f":"'Annual Data'!$AG$15","v":0.1},0,0]
[null,null,null,null,null,null,null,null,null,null,null,null,null,null,null,null,null,null,null,null,null,null,null,null,null,null,null,null,null,null,null,null,{"$f":"'Annual Data'!$AD$15","v":1},{"$f":"'Annual Data'!$AG$15","v":0.1},0,0]
[null,null,null,null,null,null,null,null,null,null,null,null,null,null,null,null,null,null,null,null,null,null,null,null,null,null,null,null,null,null,null,null,{"$f":"'Annual Data'!$AD$15","v":1},{"$f":"'Annual Data'!$AG$15","v":0.1},0,0]
[null,null,null,null,null,null,null,null,null,null,null,null,null,null,null,null,null,null,null,null,null,null,null,null,null,null,null,null,null,null,null,null,{"$f":"'Annual Data'!$AD$15","v":1},{"$f":"'Annual Data'!$AG$15","v":0.1},0,0]
[null,null,null,null,null,null,null,null,null,null,null,null,null,null,null,null,null,null,null,null,null,null,null,null,null,null,null,null,null,null,null,null,{"$f":"'Annual Data'!$AD$15","v":1},{"$f":"'Annual Data'!$AG$15","v":0.1},0,0]
[null,null,null,null,null,null,null,null,null,null,null,null,null,null,null,null,null,null,null,null,null,null,null,null,null,null,null,null,null,null,null,null,{"$f":"'Annual Data'!$AD$15","v":1},{"$f":"'Annual Data'!$AG$15","v":0.1},0,0]
[null,null,null,null,null,null,null,null,null,null,null,null,null,null,null,null,null,null,null,null,null,null,null,null,null,null,null,null,null,null,null,null,{"$f":"'Annual Data'!$AD$15","v":1},{"$f":"'Annual Data'!$AG$15","v":0.1},0,0]
[null,null,null,null,null,null,null,null,null,null,null,null,null,null,null,null,null,null,null,null,null,null,null,null,null,null,null,null,null,null,null,null,{"$f":"'Annual Data'!$AD$15","v":1},{"$f":"'Annual Data'!$AG$15","v":0.1},0,0]
[null,null,null,null,null,null,null,null,null,null,null,null,null,null,null,null,null,null,null,null,null,null,null,null,null,null,null,null,null,null,null,null,{"$f":"'Annual Data'!$AD$15","v":1},{"$f":"'Annual Data'!$AG$15","v":0.1},0,0]
[null,null,null,null,null,null,null,null,null,null,null,null,null,null,null,null,null,null,null,null,null,null,null,null,null,null,null,null,null,null,null,null,{"$f":"'Annual Data'!$AD$15","v":1},{"$f":"'Annual Data'!$AG$15","v":0.1},0,0]
[null,null,null,null,null,null,null,null,null,null,null,null,null,null,null,null,null,null,null,null,null,null,null,null,null,null,null,null,null,null,null,null,{"$f":"'Annual Data'!$AD$15","v":1},{"$f":"'Annual Data'!$AG$15","v":0.1},0,0]
[null,null,null,null,null,null,null,null,null,null,null,null,null,null,null,null,null,null,null,null,null,null,null,null,null,null,null,null,null,null,null,null,{"$f":"'Annual Data'!$AD$15","v":1},{"$f":"'Annual Data'!$AG$15","v":0.1},0,0]
[null,null,null,null,null,null,null,null,null,null,null,null,null,null,null,null,null,null,null,null,null,null,null,null,null,null,null,null,null,null,null,null,{"$f":"'Annual Data'!$AD$15","v":1},{"$f":"'Annual Data'!$AG$15","v":0.1},0,0]
[null,null,null,null,null,null,null,null,null,null,null,null,null,null,null,null,null,null,null,null,null,null,null,null,null,null,null,null,null,null,null,null,{"$f":"'Annual Data'!$AD$15","v":1},{"$f":"'Annual Data'!$AG$15","v":0.1},0,0]
[null,null,null,null,null,null,null,null,null,null,null,null,null,null,null,null,null,null,null,null,null,null,null,null,null,null,null,null,null,null,null,null,{"$f":"'Annual Data'!$AD$15","v":1},{"$f":"'Annual Data'!$AG$15","v":0.1},0,0]
[null,null,null,null,null,null,null,null,null,null,null,null,null,null,null,null,null,null,null,null,null,null,null,null,null,null,null,null,null,null,null,null,{"$f":"'Annual Data'!$AD$15","v":1},{"$f":"'Annual Data'!$AG$15","v":0.1},0,0]
[null,null,null,null,null,null,null,null,null,null,null,null,null,null,null,null,null,null,null,null,null,null,null,null,null,null,null,null,null,null,null,null,{"$f":"'Annual Data'!$AD$15","v":1},{"$f":"'Annual Data'!$AG$15","v":0.1},0,0]
[null,null,null,null,null,null,null,null,null,null,null,null,null,null,null,null,null,null,null,null,null,null,null,null,null,null,null,null,null,null,null,null,{"$f":"'Annual Data'!$AD$15","v":1},{"$f":"'Annual Data'!$AG$15","v":0.1},0,0]
[null,null,null,null,null,null,null,null,null,null,null,null,null,null,null,null,null,null,null,null,null,null,null,null,null,null,null,null,null,null,null,null,{"$f":"'Annual Data'!$AD$15","v":1},{"$f":"'Annual Data'!$AG$15","v":0.1},0,0]
[null,null,null,null,null,null,null,null,null,null,null,null,null,null,null,null,null,null,null,null,null,null,null,null,null,null,null,null,null,null,null,null,{"$f":"'Annual Data'!$AD$15","v":1},{"$f":"'Annual Data'!$AG$15","v":0.1},0,0]
[null,null,null,null,null,null,null,null,null,null,null,null,null,null,null,null,null,null,null,null,null,null,null,null,null,null,null,null,null,null,null,null,{"$f":"'Annual Data'!$AD$15","v":1},{"$f":"'Annual Data'!$AG$15","v":0.1},0,0]
[null,null,null,null,null,null,null,null,null,null,null,null,null,null,null,null,null,null,null,null,null,null,null,null,null,null,null,null,null,null,null,null,{"$f":"'Annual Data'!$AD$15","v":1},{"$f":"'Annual Data'!$AG$15","v":0.1},0,0]
[null,null,null,null,null,null,null,null,null,null,null,null,null,null,null,null,null,null,null,null,null,null,null,null,null,null,null,null,null,null,null,null,{"$f":"'Annual Data'!$AD$15","v":1},{"$f":"'Annual Data'!$AG$15","v":0.1},0,0]
[null,null,null,null,null,null,null,null,null,null,null,null,null,null,null,null,null,null,null,null,null,null,null,null,null,null,null,null,null,null,null,null,{"$f":"'Annual Data'!$AD$15","v":1},{"$f":"'Annual Data'!$AG$15","v":0.1},0,0]
[null,null,null,null,null,null,null,null,null,null,null,null,null,null,null,null,null,null,null,null,null,null,null,null,null,null,null,null,null,null,null,null,{"$f":"'Annual Data'!$AD$15","v":1},{"$f":"'Annual Data'!$AG$15","v":0.1},0,0]
[null,null,null,null,null,null,null,null,null,null,null,null,null,null,null,null,null,null,null,null,null,null,null,null,null,null,null,null,null,null,null,null,{"$f":"'Annual Data'!$AD$15","v":1},{"$f":"'Annual Data'!$AG$15","v":0.1},0,0]
[null,null,null,null,null,null,null,null,null,null,null,null,null,null,null,null,null,null,null,null,null,null,null,null,null,null,null,null,null,null,null,null,{"$f":"'Annual Data'!$AD$15","v":1},{"$f":"'Annual Data'!$AG$15","v":0.1},0,0]
[null,null,null,null,null,null,null,null,null,null,null,null,null,null,null,null,null,null,null,null,null,null,null,null,null,null,null,null,null,null,null,null,{"$f":"'Annual Data'!$AD$15","v":1},{"$f":"'Annual Data'!$AG$15","v":0.1},0,0]
[null,null,null,null,null,null,null,null,null,null,null,null,null,null,null,null,null,null,null,null,null,null,null,null,null,null,null,null,null,null,null,null,{"$f":"'Annual Data'!$AD$15","v":1},{"$f":"'Annual Data'!$AG$15","v":0.1},0,0]
[null,null,null,null,null,null,null,null,null,null,null,null,null,null,null,null,null,null,null,null,null,null,null,null,null,null,null,null,null,null,null,null,{"$f":"'Annual Data'!$AD$15","v":1},{"$f":"'Annual Data'!$AG$15","v":0.1},0,0]
[null,null,null,null,null,null,null,null,null,null,null,null,null,null,null,null,null,null,null,null,null,null,null,null,null,null,null,null,null,null,null,null,{"$f":"'Annual Data'!$AD$15","v":1},{"$f":"'Annual Data'!$AG$15","v":0.1},0,0]
[null,null,null,null,null,null,null,null,null,null,null,null,null,null,null,null,null,null,null,null,null,null,null,null,null,null,null,null,null,null,null,null,{"$f":"'Annual Data'!$AD$15","v":1},{"$f":"'Annual Data'!$AG$15","v":0.1},0,0]
[null,null,null,null,null,null,null,null,null,null,null,null,null,null,null,null,null,null,null,null,null,null,null,null,null,null,null,null,null,null,null,null,{"$f":"'Annual Data'!$AD$15","v":1},{"$f":"'Annual Data'!$AG$15","v":0.1},0,0]
[null,null,null,null,null,null,null,null,null,null,null,null,null,null,null,null,null,null,null,null,null,null,null,null,null,null,null,null,null,null,null,null,{"$f":"'Annual Data'!$AD$15","v":1},{"$f":"'Annual Data'!$AG$15","v":0.1},0,0]
[null,null,null,null,null,null,null,null,null,null,null,null,null,null,null,null,null,null,null,null,null,null,null,null,null,null,null,null,null,null,null,null,{"$f":"'Annual Data'!$AD$15","v":1},{"$f":"'Annual Data'!$AG$15","v":0.1},0,0]
[null,null,null,null,null,null,null,null,null,null,null,null,null,null,null,null,null,null,null,null,null,null,null,null,null,null,null,null,null,null,null,null,{"$f":"'Annual Data'!$AD$15","v":1},{"$f":"'Annual Data'!$AG$15","v":0.1},0,0]
[null,null,null,null,null,null,null,null,null,null,null,null,null,null,null,null,null,null,null,null,null,null,null,null,null,null,null,null,null,null,null,null,{"$f":"'Annual Data'!$AD$15","v":1},{"$f":"'Annual Data'!$AG$15","v":0.1},0,0]
[null,null,null,null,null,null,null,null,null,null,null,null,null,null,null,null,null,null,null,null,null,null,null,null,null,null,null,null,null,null,null,null,{"$f":"'Annual Data'!$AD$15","v":1},{"$f":"'Annual Data'!$AG$15","v":0.1},0,0]
[null,null,null,null,null,null,null,null,null,null,null,null,null,null,null,null,null,null,null,null,null,null,null,null,null,null,null,null,null,null,null,null,{"$f":"'Annual Data'!$AD$15","v":1},{"$f":"'Annual Data'!$AG$15","v":0.1},0,0]
[null,null,null,null,null,null,null,null,null,null,null,null,null,null,null,null,null,null,null,null,null,null,null,null,null,null,null,null,null,null,null,null,{"$f":"'Annual Data'!$AD$15","v":1},{"$f":"'Annual Data'!$AG$15","v":0.1},0,0]
[null,null,null,null,null,null,null,null,null,null,null,null,null,null,null,null,null,null,null,null,null,null,null,null,null,null,null,null,null,null,null,null,{"$f":"'Annual Data'!$AD$15","v":1},{"$f":"'Annual Data'!$AG$15","v":0.1},0,0]
[null,null,null,null,null,null,null,null,null,null,null,null,null,null,null,null,null,null,null,null,null,null,null,null,null,null,null,null,null,null,null,null,{"$f":"'Annual Data'!$AD$15","v":1},{"$f":"'Annual Data'!$AG$15","v":0.1},0,0]
[null,null,null,null,null,null,null,null,null,null,null,null,null,null,null,null,null,null,null,null,null,null,null,null,null,null,null,null,null,null,null,null,{"$f":"'Annual Data'!$AD$15","v":1},{"$f":"'Annual Data'!$AG$15","v":0.1},0,0]
[null,null,null,null,null,null,null,null,null,null,null,null,null,null,null,null,null,null,null,null,null,null,null,null,null,null,null,null,null,null,null,null,{"$f":"'Annual Data'!$AD$15","v":1},{"$f":"'Annual Data'!$AG$15","v":0.1},0,0]
[null,null,null,null,null,null,null,null,null,null,null,null,null,null,null,null,null,null,null,null,null,null,null,null,null,null,null,null,null,null,null,null,{"$f":"'Annual Data'!$AD$15","v":1},{"$f":"'Annual Data'!$AG$15","v":0.1},{"$f":"MAX(C1418:F1418)","v":0},{"$f":"MAX(G1418:R1418)","v":0}]
[null,null,null,null,null,null,null,null,null,null,null,null,null,null,null,null,null,null,null,null,null,null,null,null,null,null,null,null,null,null,null,null,{"$f":"'Annual Data'!$AD$15","v":1},{"$f":"'Annual Data'!$AG$15","v":0.1},0,0]
[null,null,null,null,null,null,null,null,null,null,null,null,null,null,null,null,null,null,null,null,null,null,null,null,null,null,null,null,null,null,null,null,{"$f":"'Annual Data'!$AD$15","v":1},{"$f":"'Annual Data'!$AG$15","v":0.1},0,0]
[null,null,null,null,null,null,null,null,null,null,null,null,null,null,null,null,null,null,null,null,null,null,null,null,null,null,null,null,null,null,null,null,{"$f":"'Annual Data'!$AD$15","v":1},{"$f":"'Annual Data'!$AG$15","v":0.1},0,0]
[null,null,null,null,null,null,null,null,null,null,null,null,null,null,null,null,null,null,null,null,null,null,null,null,null,null,null,null,null,null,null,null,{"$f":"'Annual Data'!$AD$15","v":1},{"$f":"'Annual Data'!$AG$15","v":0.1},0,0]
[null,null,null,null,null,null,null,null,null,null,null,null,null,null,null,null,null,null,null,null,null,null,null,null,null,null,null,null,null,null,null,null,{"$f":"'Annual Data'!$AD$15","v":1},{"$f":"'Annual Data'!$AG$15","v":0.1},0,0]
[null,null,null,null,null,null,null,null,null,null,null,null,null,null,null,null,null,null,null,null,null,null,null,null,null,null,null,null,null,null,null,null,{"$f":"'Annual Data'!$AD$15","v":1},{"$f":"'Annual Data'!$AG$15","v":0.1},0,0]
[null,null,null,null,null,null,null,null,null,null,null,null,null,null,null,null,null,null,null,null,null,null,null,null,null,null,null,null,null,null,null,null,{"$f":"'Annual Data'!$AD$15","v":1},{"$f":"'Annual Data'!$AG$15","v":0.1},0,0]
[null,null,null,null,null,null,null,null,null,null,null,null,null,null,null,null,null,null,null,null,null,null,null,null,null,null,null,null,null,null,null,null,{"$f":"'Annual Data'!$AD$15","v":1},{"$f":"'Annual Data'!$AG$15","v":0.1},0,0]
[null,null,null,null,null,null,null,null,null,null,null,null,null,null,null,null,null,null,null,null,null,null,null,null,null,null,null,null,null,null,null,null,{"$f":"'Annual Data'!$AD$15","v":1},{"$f":"'Annual Data'!$AG$15","v":0.1},0,0]
[null,null,null,null,null,null,null,null,null,null,null,null,null,null,null,null,null,null,null,null,null,null,null,null,null,null,null,null,null,null,null,null,{"$f":"'Annual Data'!$AD$15","v":1},{"$f":"'Annual Data'!$AG$15","v":0.1},0,0]
[null,null,null,null,null,null,null,null,null,null,null,null,null,null,null,null,null,null,null,null,null,null,null,null,null,null,null,null,null,null,null,null,{"$f":"'Annual Data'!$AD$15","v":1},{"$f":"'Annual Data'!$AG$15","v":0.1},0,0]
[null,null,null,null,null,null,null,null,null,null,null,null,null,null,null,null,null,null,null,null,null,null,null,null,null,null,null,null,null,null,null,null,{"$f":"'Annual Data'!$AD$15","v":1},{"$f":"'Annual Data'!$AG$15","v":0.1},0,0]
[null,null,null,null,null,null,null,null,null,null,null,null,null,null,null,null,null,null,null,null,null,null,null,null,null,null,null,null,null,null,null,null,{"$f":"'Annual Data'!$AD$15","v":1},{"$f":"'Annual Data'!$AG$15","v":0.1},0,0]
[null,null,null,null,null,null,null,null,null,null,null,null,null,null,null,null,null,null,null,null,null,null,null,null,null,null,null,null,null,null,null,null,{"$f":"'Annual Data'!$AD$15","v":1},{"$f":"'Annual Data'!$AG$15","v":0.1},0,0]
[null,null,null,null,null,null,null,null,null,null,null,null,null,null,null,null,null,null,null,null,null,null,null,null,null,null,null,null,null,null,null,null,{"$f":"'Annual Data'!$AD$15","v":1},{"$f":"'Annual Data'!$AG$15","v":0.1},0,0]
[null,null,null,null,null,null,null,null,null,null,null,null,null,null,null,null,null,null,null,null,null,null,null,null,null,null,null,null,null,null,null,null,{"$f":"'Annual Data'!$AD$15","v":1},{"$f":"'Annual Data'!$AG$15","v":0.1},0,0]
[null,null,null,null,null,null,null,null,null,null,null,null,null,null,null,null,null,null,null,null,null,null,null,null,null,null,null,null,null,null,null,null,{"$f":"'Annual Data'!$AD$15","v":1},{"$f":"'Annual Data'!$AG$15","v":0.1},0,0]
[null,null,null,null,null,null,null,null,null,null,null,null,null,null,null,null,null,null,null,null,null,null,null,null,null,null,null,null,null,null,null,null,{"$f":"'Annual Data'!$AD$15","v":1},{"$f":"'Annual Data'!$AG$15","v":0.1},0,0]
[null,null,null,null,null,null,null,null,null,null,null,null,null,null,null,null,null,null,null,null,null,null,null,null,null,null,null,null,null,null,null,null,{"$f":"'Annual Data'!$AD$15","v":1},{"$f":"'Annual Data'!$AG$15","v":0.1},0,0]
[null,null,null,null,null,null,null,null,null,null,null,null,null,null,null,null,null,null,null,null,null,null,null,null,null,null,null,null,null,null,null,null,{"$f":"'Annual Data'!$AD$15","v":1},{"$f":"'Annual Data'!$AG$15","v":0.1},0,0]
[null,null,null,null,null,null,null,null,null,null,null,null,null,null,null,null,null,null,null,null,null,null,null,null,null,null,null,null,null,null,null,null,{"$f":"'Annual Data'!$AD$15","v":1},{"$f":"'Annual Data'!$AG$15","v":0.1},0,0]
[null,null,null,null,null,null,null,null,null,null,null,null,null,null,null,null,null,null,null,null,null,null,null,null,null,null,null,null,null,null,null,null,{"$f":"'Annual Data'!$AD$15","v":1},{"$f":"'Annual Data'!$AG$15","v":0.1},0,0]
[null,null,null,null,null,null,null,null,null,null,null,null,null,null,null,null,null,null,null,null,null,null,null,null,null,null,null,null,null,null,null,null,{"$f":"'Annual Data'!$AD$15","v":1},{"$f":"'Annual Data'!$AG$15","v":0.1},0,0]
[null,null,null,null,null,null,null,null,null,null,null,null,null,null,null,null,null,null,null,null,null,null,null,null,null,null,null,null,null,null,null,null,{"$f":"'Annual Data'!$AD$15","v":1},{"$f":"'Annual Data'!$AG$15","v":0.1},0,0]
[null,null,null,null,null,null,null,null,null,null,null,null,null,null,null,null,null,null,null,null,null,null,null,null,null,null,null,null,null,null,null,null,{"$f":"'Annual Data'!$AD$15","v":1},{"$f":"'Annual Data'!$AG$15","v":0.1},0,0]
[null,null,null,null,null,null,null,null,null,null,null,null,null,null,null,null,null,null,null,null,null,null,null,null,null,null,null,null,null,null,null,null,{"$f":"'Annual Data'!$AD$15","v":1},{"$f":"'Annual Data'!$AG$15","v":0.1},0,0]
[null,null,null,null,null,null,null,null,null,null,null,null,null,null,null,null,null,null,null,null,null,null,null,null,null,null,null,null,null,null,null,null,{"$f":"'Annual Data'!$AD$15","v":1},{"$f":"'Annual Data'!$AG$15","v":0.1},0,0]
[null,null,null,null,null,null,null,null,null,null,null,null,null,null,null,null,null,null,null,null,null,null,null,null,null,null,null,null,null,null,null,null,{"$f":"'Annual Data'!$AD$15","v":1},{"$f":"'Annual Data'!$AG$15","v":0.1},0,0]
[null,null,null,null,null,null,null,null,null,null,null,null,null,null,null,null,null,null,null,null,null,null,null,null,null,null,null,null,null,null,null,null,{"$f":"'Annual Data'!$AD$15","v":1},{"$f":"'Annual Data'!$AG$15","v":0.1},0,0]
[null,null,null,null,null,null,null,null,null,null,null,null,null,null,null,null,null,null,null,null,null,null,null,null,null,null,null,null,null,null,null,null,{"$f":"'Annual Data'!$AD$15","v":1},{"$f":"'Annual Data'!$AG$15","v":0.1},0,0]
[null,null,null,null,null,null,null,null,null,null,null,null,null,null,null,null,null,null,null,null,null,null,null,null,null,null,null,null,null,null,null,null,{"$f":"'Annual Data'!$AD$15","v":1},{"$f":"'Annual Data'!$AG$15","v":0.1},0,0]
[null,null,null,null,null,null,null,null,null,null,null,null,null,null,null,null,null,null,null,null,null,null,null,null,null,null,null,null,null,null,null,null,{"$f":"'Annual Data'!$AD$15","v":1},{"$f":"'Annual Data'!$AG$15","v":0.1},0,0]
[null,null,null,null,null,null,null,null,null,null,null,null,null,null,null,null,null,null,null,null,null,null,null,null,null,null,null,null,null,null,null,null,{"$f":"'Annual Data'!$AD$15","v":1},{"$f":"'Annual Data'!$AG$15","v":0.1},0,0]
[null,null,null,null,null,null,null,null,null,null,null,null,null,null,null,null,null,null,null,null,null,null,null,null,null,null,null,null,null,null,null,null,{"$f":"'Annual Data'!$AD$15","v":1},{"$f":"'Annual Data'!$AG$15","v":0.1},0,0]
[null,null,null,null,null,null,null,null,null,null,null,null,null,null,null,null,null,null,null,null,null,null,null,null,null,null,null,null,null,null,null,null,{"$f":"'Annual Data'!$AD$15","v":1},{"$f":"'Annual Data'!$AG$15","v":0.1},{"$f":"MAX(C1482:F1482)","v":0},{"$f":"MAX(G1482:R1482)","v":0}]
[null,null,null,null,null,null,null,null,null,null,null,null,null,null,null,null,null,null,null,null,null,null,null,null,null,null,null,null,null,null,null,null,{"$f":"'Annual Data'!$AD$15","v":1},{"$f":"'Annual Data'!$AG$15","v":0.1},0,0]
[null,null,null,null,null,null,null,null,null,null,null,null,null,null,null,null,null,null,null,null,null,null,null,null,null,null,null,null,null,null,null,null,{"$f":"'Annual Data'!$AD$15","v":1},{"$f":"'Annual Data'!$AG$15","v":0.1},0,0]
[null,null,null,null,null,null,null,null,null,null,null,null,null,null,null,null,null,null,null,null,null,null,null,null,null,null,null,null,null,null,null,null,{"$f":"'Annual Data'!$AD$15","v":1},{"$f":"'Annual Data'!$AG$15","v":0.1},0,0]
[null,null,null,null,null,null,null,null,null,null,null,null,null,null,null,null,null,null,null,null,null,null,null,null,null,null,null,null,null,null,null,null,{"$f":"'Annual Data'!$AD$15","v":1},{"$f":"'Annual Data'!$AG$15","v":0.1},0,0]
[null,null,null,null,null,null,null,null,null,null,null,null,null,null,null,null,null,null,null,null,null,null,null,null,null,null,null,null,null,null,null,null,{"$f":"'Annual Data'!$AD$15","v":1},{"$f":"'Annual Data'!$AG$15","v":0.1},0,0]
[null,null,null,null,null,null,null,null,null,null,null,null,null,null,null,null,null,null,null,null,null,null,null,null,null,null,null,null,null,null,null,null,{"$f":"'Annual Data'!$AD$15","v":1},{"$f":"'Annual Data'!$AG$15","v":0.1},0,0]
[null,null,null,null,null,null,null,null,null,null,null,null,null,null,null,null,null,null,null,null,null,null,null,null,null,null,null,null,null,null,null,null,{"$f":"'Annual Data'!$AD$15","v":1},{"$f":"'Annual Data'!$AG$15","v":0.1},0,0]
[null,null,null,null,null,null,null,null,null,null,null,null,null,null,null,null,null,null,null,null,null,null,null,null,null,null,null,null,null,null,null,null,{"$f":"'Annual Data'!$AD$15","v":1},{"$f":"'Annual Data'!$AG$15","v":0.1},0,0]
[null,null,null,null,null,null,null,null,null,null,null,null,null,null,null,null,null,null,null,null,null,null,null,null,null,null,null,null,null,null,null,null,{"$f":"'Annual Data'!$AD$15","v":1},{"$f":"'Annual Data'!$AG$15","v":0.1},0,0]
[null,null,null,null,null,null,null,null,null,null,null,null,null,null,null,null,null,null,null,null,null,null,null,null,null,null,null,null,null,null,null,null,{"$f":"'Annual Data'!$AD$15","v":1},{"$f":"'Annual Data'!$AG$15","v":0.1},0,0]
[null,null,null,null,null,null,null,null,null,null,null,null,null,null,null,null,null,null,null,null,null,null,null,null,null,null,null,null,null,null,null,null,{"$f":"'Annual Data'!$AD$15","v":1},{"$f":"'Annual Data'!$AG$15","v":0.1},0,0]
[null,null,null,null,null,null,null,null,null,null,null,null,null,null,null,null,null,null,null,null,null,null,null,null,null,null,null,null,null,null,null,null,{"$f":"'Annual Data'!$AD$15","v":1},{"$f":"'Annual Data'!$AG$15","v":0.1},0,0]
[null,null,null,null,null,null,null,null,null,null,null,null,null,null,null,null,null,null,null,null,null,null,null,null,null,null,null,null,null,null,null,null,{"$f":"'Annual Data'!$AD$15","v":1},{"$f":"'Annual Data'!$AG$15","v":0.1},0,0]
[null,null,null,null,null,null,null,null,null,null,null,null,null,null,null,null,null,null,null,null,null,null,null,null,null,null,null,null,null,null,null,null,{"$f":"'Annual Data'!$AD$15","v":1},{"$f":"'Annual Data'!$AG$15","v":0.1},0,0]
[null,null,null,null,null,null,null,null,null,null,null,null,null,null,null,null,null,null,null,null,null,null,null,null,null,null,null,null,null,null,null,null,{"$f":"'Annual Data'!$AD$15","v":1},{"$f":"'Annual Data'!$AG$15","v":0.1},0,0]
[null,null,null,null,null,null,null,null,null,null,null,null,null,null,null,null,null,null,null,null,null,null,null,null,null,null,null,null,null,null,null,null,{"$f":"'Annual Data'!$AD$15","v":1},{"$f":"'Annual Data'!$AG$15","v":0.1},0,0]
[null,null,null,null,null,null,null,null,null,null,null,null,null,null,null,null,null,null,null,null,null,null,null,null,null,null,null,null,null,null,null,null,{"$f":"'Annual Data'!$AD$15","v":1},{"$f":"'Annual Data'!$AG$15","v":0.1},0,0]
[null,null,null,null,null,null,null,null,null,null,null,null,null,null,null,null,null,null,null,null,null,null,null,null,null,null,null,null,null,null,null,null,{"$f":"'Annual Data'!$AD$15","v":1},{"$f":"'Annual Data'!$AG$15","v":0.1},0,0]
[null,null,null,null,null,null,null,null,null,null,null,null,null,null,null,null,null,null,null,null,null,null,null,null,null,null,null,null,null,null,null,null,{"$f":"'Annual Data'!$AD$15","v":1},{"$f":"'Annual Data'!$AG$15","v":0.1},0,0]
[null,null,null,null,null,null,null,null,null,null,null,null,null,null,null,null,null,null,null,null,null,null,null,null,null,null,null,null,null,null,null,null,{"$f":"'Annual Data'!$AD$15","v":1},{"$f":"'Annual Data'!$AG$15","v":0.1},0,0]
[null,null,null,null,null,null,null,null,null,null,null,null,null,null,null,null,null,null,null,null,null,null,null,null,null,null,null,null,null,null,null,null,{"$f":"'Annual Data'!$AD$15","v":1},{"$f":"'Annual Data'!$AG$15","v":0.1},0,0]
[null,null,null,null,null,null,null,null,null,null,null,null,null,null,null,null,null,null,null,null,null,null,null,null,null,null,null,null,null,null,null,null,{"$f":"'Annual Data'!$AD$15","v":1},{"$f":"'Annual Data'!$AG$15","v":0.1},0,0]
[null,null,null,null,null,null,null,null,null,null,null,null,null,null,null,null,null,null,null,null,null,null,null,null,null,null,null,null,null,null,null,null,{"$f":"'Annual Data'!$AD$15","v":1},{"$f":"'Annual Data'!$AG$15","v":0.1},0,0]
[null,null,null,null,null,null,null,null,null,null,null,null,null,null,null,null,null,null,null,null,null,null,null,null,null,null,null,null,null,null,null,null,{"$f":"'Annual Data'!$AD$15","v":1},{"$f":"'Annual Data'!$AG$15","v":0.1},0,0]
[null,null,null,null,null,null,null,null,null,null,null,null,null,null,null,null,null,null,null,null,null,null,null,null,null,null,null,null,null,null,null,null,{"$f":"'Annual Data'!$AD$15","v":1},{"$f":"'Annual Data'!$AG$15","v":0.1},0,0]
[null,null,null,null,null,null,null,null,null,null,null,null,null,null,null,null,null,null,null,null,null,null,null,null,null,null,null,null,null,null,null,null,{"$f":"'Annual Data'!$AD$15","v":1},{"$f":"'Annual Data'!$AG$15","v":0.1},0,0]
[null,null,null,null,null,null,null,null,null,null,null,null,null,null,null,null,null,null,null,null,null,null,null,null,null,null,null,null,null,null,null,null,{"$f":"'Annual Data'!$AD$15","v":1},{"$f":"'Annual Data'!$AG$15","v":0.1},0,0]
[null,null,null,null,null,null,null,null,null,null,null,null,null,null,null,null,null,null,null,null,null,null,null,null,null,null,null,null,null,null,null,null,{"$f":"'Annual Data'!$AD$15","v":1},{"$f":"'Annual Data'!$AG$15","v":0.1},0,0]
[null,null,null,null,null,null,null,null,null,null,null,null,null,null,null,null,null,null,null,null,null,null,null,null,null,null,null,null,null,null,null,null,{"$f":"'Annual Data'!$AD$15","v":1},{"$f":"'Annual Data'!$AG$15","v":0.1},0,0]
[null,null,null,null,null,null,null,null,null,null,null,null,null,null,null,null,null,null,null,null,null,null,null,null,null,null,null,null,null,null,null,null,{"$f":"'Annual Data'!$AD$15","v":1},{"$f":"'Annual Data'!$AG$15","v":0.1},0,0]
[null,null,null,null,null,null,null,null,null,null,null,null,null,null,null,null,null,null,null,null,null,null,null,null,null,null,null,null,null,null,null,null,{"$f":"'Annual Data'!$AD$15","v":1},{"$f":"'Annual Data'!$AG$15","v":0.1},0,0]
[null,null,null,null,null,null,null,null,null,null,null,null,null,null,null,null,null,null,null,null,null,null,null,null,null,null,null,null,null,null,null,null,{"$f":"'Annual Data'!$AD$15","v":1},{"$f":"'Annual Data'!$AG$15","v":0.1},0,0]
[null,null,null,null,null,null,null,null,null,null,null,null,null,null,null,null,null,null,null,null,null,null,null,null,null,null,null,null,null,null,null,null,{"$f":"'Annual Data'!$AD$15","v":1},{"$f":"'Annual Data'!$AG$15","v":0.1},0,0]
[null,null,null,null,null,null,null,null,null,null,null,null,null,null,null,null,null,null,null,null,null,null,null,null,null,null,null,null,null,null,null,null,{"$f":"'Annual Data'!$AD$15","v":1},{"$f":"'Annual Data'!$AG$15","v":0.1},0,0]
[null,null,null,null,null,null,null,null,null,null,null,null,null,null,null,null,null,null,null,null,null,null,null,null,null,null,null,null,null,null,null,null,{"$f":"'Annual Data'!$AD$15","v":1},{"$f":"'Annual Data'!$AG$15","v":0.1},0,0]
[null,null,null,null,null,null,null,null,null,null,null,null,null,null,null,null,null,null,null,null,null,null,null,null,null,null,null,null,null,null,null,null,{"$f":"'Annual Data'!$AD$15","v":1},{"$f":"'Annual Data'!$AG$15","v":0.1},0,0]
[null,null,null,null,null,null,null,null,null,null,null,null,null,null,null,null,null,null,null,null,null,null,null,null,null,null,null,null,null,null,null,null,{"$f":"'Annual Data'!$AD$15","v":1},{"$f":"'Annual Data'!$AG$15","v":0.1},0,0]
[null,null,null,null,null,null,null,null,null,null,null,null,null,null,null,null,null,null,null,null,null,null,null,null,null,null,null,null,null,null,null,null,{"$f":"'Annual Data'!$AD$15","v":1},{"$f":"'Annual Data'!$AG$15","v":0.1},0,0]
[null,null,null,null,null,null,null,null,null,null,null,null,null,null,null,null,null,null,null,null,null,null,null,null,null,null,null,null,null,null,null,null,{"$f":"'Annual Data'!$AD$15","v":1},{"$f":"'Annual Data'!$AG$15","v":0.1},0,0]
[null,null,null,null,null,null,null,null,null,null,null,null,null,null,null,null,null,null,null,null,null,null,null,null,null,null,null,null,null,null,null,null,{"$f":"'Annual Data'!$AD$15","v":1},{"$f":"'Annual Data'!$AG$15","v":0.1},0,0]
[null,null,null,null,null,null,null,null,null,null,null,null,null,null,null,null,null,null,null,null,null,null,null,null,null,null,null,null,null,null,null,null,{"$f":"'Annual Data'!$AD$15","v":1},{"$f":"'Annual Data'!$AG$15","v":0.1},0,0]
[null,null,null,null,null,null,null,null,null,null,null,null,null,null,null,null,null,null,null,null,null,null,null,null,null,null,null,null,null,null,null,null,{"$f":"'Annual Data'!$AD$15","v":1},{"$f":"'Annual Data'!$AG$15","v":0.1},0,0]
[null,null,null,null,null,null,null,null,null,null,null,null,null,null,null,null,null,null,null,null,null,null,null,null,null,null,null,null,null,null,null,null,{"$f":"'Annual Data'!$AD$15","v":1},{"$f":"'Annual Data'!$AG$15","v":0.1},0,0]
[null,null,null,null,null,null,null,null,null,null,null,null,null,null,null,null,null,null,null,null,null,null,null,null,null,null,null,null,null,null,null,null,{"$f":"'Annual Data'!$AD$15","v":1},{"$f":"'Annual Data'!$AG$15","v":0.1},0,0]
[null,null,null,null,null,null,null,null,null,null,null,null,null,null,null,null,null,null,null,null,null,null,null,null,null,null,null,null,null,null,null,null,{"$f":"'Annual Data'!$AD$15","v":1},{"$f":"'Annual Data'!$AG$15","v":0.1},0,0]
[null,null,null,null,null,null,null,null,null,null,null,null,null,null,null,null,null,null,null,null,null,null,null,null,null,null,null,null,null,null,null,null,{"$f":"'Annual Data'!$AD$15","v":1},{"$f":"'Annual Data'!$AG$15","v":0.1},0,0]
[null,null,null,null,null,null,null,null,null,null,null,null,null,null,null,null,null,null,null,null,null,null,null,null,null,null,null,null,null,null,null,null,{"$f":"'Annual Data'!$AD$15","v":1},{"$f":"'Annual Data'!$AG$15","v":0.1},0,0]
[null,null,null,null,null,null,null,null,null,null,null,null,null,null,null,null,null,null,null,null,null,null,null,null,null,null,null,null,null,null,null,null,{"$f":"'Annual Data'!$AD$15","v":1},{"$f":"'Annual Data'!$AG$15","v":0.1},0,0]
[null,null,null,null,null,null,null,null,null,null,null,null,null,null,null,null,null,null,null,null,null,null,null,null,null,null,null,null,null,null,null,null,{"$f":"'Annual Data'!$AD$15","v":1},{"$f":"'Annual Data'!$AG$15","v":0.1},0,0]
[null,null,null,null,null,null,null,null,null,null,null,null,null,null,null,null,null,null,null,null,null,null,null,null,null,null,null,null,null,null,null,null,{"$f":"'Annual Data'!$AD$15","v":1},{"$f":"'Annual Data'!$AG$15","v":0.1},0,0]
[null,null,null,null,null,null,null,null,null,null,null,null,null,null,null,null,null,null,null,null,null,null,null,null,null,null,null,null,null,null,null,null,{"$f":"'Annual Data'!$AD$15","v":1},{"$f":"'Annual Data'!$AG$15","v":0.1},0,0]
[null,null,null,null,null,null,null,null,null,null,null,null,null,null,null,null,null,null,null,null,null,null,null,null,null,null,null,null,null,null,null,null,{"$f":"'Annual Data'!$AD$15","v":1},{"$f":"'Annual Data'!$AG$15","v":0.1},0,0]
[null,null,null,null,null,null,null,null,null,null,null,null,null,null,null,null,null,null,null,null,null,null,null,null,null,null,null,null,null,null,null,null,{"$f":"'Annual Data'!$AD$15","v":1},{"$f":"'Annual Data'!$AG$15","v":0.1},0,0]
[null,null,null,null,null,null,null,null,null,null,null,null,null,null,null,null,null,null,null,null,null,null,null,null,null,null,null,null,null,null,null,null,{"$f":"'Annual Data'!$AD$15","v":1},{"$f":"'Annual Data'!$AG$15","v":0.1},0,0]
[null,null,null,null,null,null,null,null,null,null,null,null,null,null,null,null,null,null,null,null,null,null,null,null,null,null,null,null,null,null,null,null,{"$f":"'Annual Data'!$AD$15","v":1},{"$f":"'Annual Data'!$AG$15","v":0.1},0,0]
[null,null,null,null,null,null,null,null,null,null,null,null,null,null,null,null,null,null,null,null,null,null,null,null,null,null,null,null,null,null,null,null,{"$f":"'Annual Data'!$AD$15","v":1},{"$f":"'Annual Data'!$AG$15","v":0.1},0,0]
[null,null,null,null,null,null,null,null,null,null,null,null,null,null,null,null,null,null,null,null,null,null,null,null,null,null,null,null,null,null,null,null,{"$f":"'Annual Data'!$AD$15","v":1},{"$f":"'Annual Data'!$AG$15","v":0.1},0,0]
[null,null,null,null,null,null,null,null,null,null,null,null,null,null,null,null,null,null,null,null,null,null,null,null,null,null,null,null,null,null,null,null,{"$f":"'Annual Data'!$AD$15","v":1},{"$f":"'Annual Data'!$AG$15","v":0.1},0,0]
[null,null,null,null,null,null,null,null,null,null,null,null,null,null,null,null,null,null,null,null,null,null,null,null,null,null,null,null,null,null,null,null,{"$f":"'Annual Data'!$AD$15","v":1},{"$f":"'Annual Data'!$AG$15","v":0.1},0,0]
[null,null,null,null,null,null,null,null,null,null,null,null,null,null,null,null,null,null,null,null,null,null,null,null,null,null,null,null,null,null,null,null,{"$f":"'Annual Data'!$AD$15","v":1},{"$f":"'Annual Data'!$AG$15","v":0.1},0,0]
[null,null,null,null,null,null,null,null,null,null,null,null,null,null,null,null,null,null,null,null,null,null,null,null,null,null,null,null,null,null,null,null,{"$f":"'Annual Data'!$AD$15","v":1},{"$f":"'Annual Data'!$AG$15","v":0.1},0,0]
[null,null,null,null,null,null,null,null,null,null,null,null,null,null,null,null,null,null,null,null,null,null,null,null,null,null,null,null,null,null,null,null,{"$f":"'Annual Data'!$AD$15","v":1},{"$f":"'Annual Data'!$AG$15","v":0.1},0,0]
[null,null,null,null,null,null,null,null,null,null,null,null,null,null,null,null,null,null,null,null,null,null,null,null,null,null,null,null,null,null,null,null,{"$f":"'Annual Data'!$AD$15","v":1},{"$f":"'Annual Data'!$AG$15","v":0.1},0,0]
[null,null,null,null,null,null,null,null,null,null,null,null,null,null,null,null,null,null,null,null,null,null,null,null,null,null,null,null,null,null,null,null,{"$f":"'Annual Data'!$AD$15","v":1},{"$f":"'Annual Data'!$AG$15","v":0.1},0,0]
[null,null,null,null,null,null,null,null,null,null,null,null,null,null,null,null,null,null,null,null,null,null,null,null,null,null,null,null,null,null,null,null,{"$f":"'Annual Data'!$AD$15","v":1},{"$f":"'Annual Data'!$AG$15","v":0.1},0,0]
[null,null,null,null,null,null,null,null,null,null,null,null,null,null,null,null,null,null,null,null,null,null,null,null,null,null,null,null,null,null,null,null,{"$f":"'Annual Data'!$AD$15","v":1},{"$f":"'Annual Data'!$AG$15","v":0.1},0,0]
[null,null,null,null,null,null,null,null,null,null,null,null,null,null,null,null,null,null,null,null,null,null,null,null,null,null,null,null,null,null,null,null,{"$f":"'Annual Data'!$AD$15","v":1},{"$f":"'Annual Data'!$AG$15","v":0.1},0,0]
[null,null,null,null,null,null,null,null,null,null,null,null,null,null,null,null,null,null,null,null,null,null,null,null,null,null,null,null,null,null,null,null,{"$f":"'Annual Data'!$AD$15","v":1},{"$f":"'Annual Data'!$AG$15","v":0.1},0,0]
[null,null,null,null,null,null,null,null,null,null,null,null,null,null,null,null,null,null,null,null,null,null,null,null,null,null,null,null,null,null,null,null,{"$f":"'Annual Data'!$AD$15","v":1},{"$f":"'Annual Data'!$AG$15","v":0.1},0,0]
[null,null,null,null,null,null,null,null,null,null,null,null,null,null,null,null,null,null,null,null,null,null,null,null,null,null,null,null,null,null,null,null,{"$f":"'Annual Data'!$AD$15","v":1},{"$f":"'Annual Data'!$AG$15","v":0.1},0,0]
[null,null,null,null,null,null,null,null,null,null,null,null,null,null,null,null,null,null,null,null,null,null,null,null,null,null,null,null,null,null,null,null,{"$f":"'Annual Data'!$AD$15","v":1},{"$f":"'Annual Data'!$AG$15","v":0.1},0,0]
[null,null,null,null,null,null,null,null,null,null,null,null,null,null,null,null,null,null,null,null,null,null,null,null,null,null,null,null,null,null,null,null,{"$f":"'Annual Data'!$AD$15","v":1},{"$f":"'Annual Data'!$AG$15","v":0.1},0,0]
[null,null,null,null,null,null,null,null,null,null,null,null,null,null,null,null,null,null,null,null,null,null,null,null,null,null,null,null,null,null,null,null,{"$f":"'Annual Data'!$AD$15","v":1},{"$f":"'Annual Data'!$AG$15","v":0.1},0,0]
[null,null,null,null,null,null,null,null,null,null,null,null,null,null,null,null,null,null,null,null,null,null,null,null,null,null,null,null,null,null,null,null,{"$f":"'Annual Data'!$AD$15","v":1},{"$f":"'Annual Data'!$AG$15","v":0.1},0,0]
[null,null,null,null,null,null,null,null,null,null,null,null,null,null,null,null,null,null,null,null,null,null,null,null,null,null,null,null,null,null,null,null,{"$f":"'Annual Data'!$AD$15","v":1},{"$f":"'Annual Data'!$AG$15","v":0.1},0,0]
[null,null,null,null,null,null,null,null,null,null,null,null,null,null,null,null,null,null,null,null,null,null,null,null,null,null,null,null,null,null,null,null,{"$f":"'Annual Data'!$AD$15","v":1},{"$f":"'Annual Data'!$AG$15","v":0.1},0,0]
[null,null,null,null,null,null,null,null,null,null,null,null,null,null,null,null,null,null,null,null,null,null,null,null,null,null,null,null,null,null,null,null,{"$f":"'Annual Data'!$AD$15","v":1},{"$f":"'Annual Data'!$AG$15","v":0.1},0,0]
[null,null,null,null,null,null,null,null,null,null,null,null,null,null,null,null,null,null,null,null,null,null,null,null,null,null,null,null,null,null,null,null,{"$f":"'Annual Data'!$AD$15","v":1},{"$f":"'Annual Data'!$AG$15","v":0.1},0,0]
[null,null,null,null,null,null,null,null,null,null,null,null,null,null,null,null,null,null,null,null,null,null,null,null,null,null,null,null,null,null,null,null,{"$f":"'Annual Data'!$AD$15","v":1},{"$f":"'Annual Data'!$AG$15","v":0.1},0,0]
[null,null,null,null,null,null,null,null,null,null,null,null,null,null,null,null,null,null,null,null,null,null,null,null,null,null,null,null,null,null,null,null,{"$f":"'Annual Data'!$AD$15","v":1},{"$f":"'Annual Data'!$AG$15","v":0.1},0,0]
[null,null,null,null,null,null,null,null,null,null,null,null,null,null,null,null,null,null,null,null,null,null,null,null,null,null,null,null,null,null,null,null,{"$f":"'Annual Data'!$AD$15","v":1},{"$f":"'Annual Data'!$AG$15","v":0.1},0,0]
[null,null,null,null,null,null,null,null,null,null,null,null,null,null,null,null,null,null,null,null,null,null,null,null,null,null,null,null,null,null,null,null,{"$f":"'Annual Data'!$AD$15","v":1},{"$f":"'Annual Data'!$AG$15","v":0.1},0,0]
[null,null,null,null,null,null,null,null,null,null,null,null,null,null,null,null,null,null,null,null,null,null,null,null,null,null,null,null,null,null,null,null,{"$f":"'Annual Data'!$AD$15","v":1},{"$f":"'Annual Data'!$AG$15","v":0.1},0,0]
[null,null,null,null,null,null,null,null,null,null,null,null,null,null,null,null,null,null,null,null,null,null,null,null,null,null,null,null,null,null,null,null,{"$f":"'Annual Data'!$AD$15","v":1},{"$f":"'Annual Data'!$AG$15","v":0.1},0,0]
[null,null,null,null,null,null,null,null,null,null,null,null,null,null,null,null,null,null,null,null,null,null,null,null,null,null,null,null,null,null,null,null,{"$f":"'Annual Data'!$AD$15","v":1},{"$f":"'Annual Data'!$AG$15","v":0.1},0,0]
[null,null,null,null,null,null,null,null,null,null,null,null,null,null,null,null,null,null,null,null,null,null,null,null,null,null,null,null,null,null,null,null,{"$f":"'Annual Data'!$AD$15","v":1},{"$f":"'Annual Data'!$AG$15","v":0.1},0,0]
[null,null,null,null,null,null,null,null,null,null,null,null,null,null,null,null,null,null,null,null,null,null,null,null,null,null,null,null,null,null,null,null,{"$f":"'Annual Data'!$AD$15","v":1},{"$f":"'Annual Data'!$AG$15","v":0.1},0,0]
[null,null,null,null,null,null,null,null,null,null,null,null,null,null,null,null,null,null,null,null,null,null,null,null,null,null,null,null,null,null,null,null,{"$f":"'Annual Data'!$AD$15","v":1},{"$f":"'Annual Data'!$AG$15","v":0.1},0,0]
[null,null,null,null,null,null,null,null,null,null,null,null,null,null,null,null,null,null,null,null,null,null,null,null,null,null,null,null,null,null,null,null,{"$f":"'Annual Data'!$AD$15","v":1},{"$f":"'Annual Data'!$AG$15","v":0.1},0,0]
[null,null,null,null,null,null,null,null,null,null,null,null,null,null,null,null,null,null,null,null,null,null,null,null,null,null,null,null,null,null,null,null,{"$f":"'Annual Data'!$AD$15","v":1},{"$f":"'Annual Data'!$AG$15","v":0.1},0,0]
[null,null,null,null,null,null,null,null,null,null,null,null,null,null,null,null,null,null,null,null,null,null,null,null,null,null,null,null,null,null,null,null,{"$f":"'Annual Data'!$AD$15","v":1},{"$f":"'Annual Data'!$AG$15","v":0.1},0,0]
[null,null,null,null,null,null,null,null,null,null,null,null,null,null,null,null,null,null,null,null,null,null,null,null,null,null,null,null,null,null,null,null,{"$f":"'Annual Data'!$AD$15","v":1},{"$f":"'Annual Data'!$AG$15","v":0.1},0,0]
[null,null,null,null,null,null,null,null,null,null,null,null,null,null,null,null,null,null,null,null,null,null,null,null,null,null,null,null,null,null,null,null,{"$f":"'Annual Data'!$AD$15","v":1},{"$f":"'Annual Data'!$AG$15","v":0.1},0,0]
[null,null,null,null,null,null,null,null,null,null,null,null,null,null,null,null,null,null,null,null,null,null,null,null,null,null,null,null,null,null,null,null,{"$f":"'Annual Data'!$AD$15","v":1},{"$f":"'Annual Data'!$AG$15","v":0.1},0,0]
[null,null,null,null,null,null,null,null,null,null,null,null,null,null,null,null,null,null,null,null,null,null,null,null,null,null,null,null,null,null,null,null,{"$f":"'Annual Data'!$AD$15","v":1},{"$f":"'Annual Data'!$AG$15","v":0.1},0,0]
[null,null,null,null,null,null,null,null,null,null,null,null,null,null,null,null,null,null,null,null,null,null,null,null,null,null,null,null,null,null,null,null,{"$f":"'Annual Data'!$AD$15","v":1},{"$f":"'Annual Data'!$AG$15","v":0.1},0,0]
[null,null,null,null,null,null,null,null,null,null,null,null,null,null,null,null,null,null,null,null,null,null,null,null,null,null,null,null,null,null,null,null,{"$f":"'Annual Data'!$AD$15","v":1},{"$f":"'Annual Data'!$AG$15","v":0.1},0,0]
[null,null,null,null,null,null,null,null,null,null,null,null,null,null,null,null,null,null,null,null,null,null,null,null,null,null,null,null,null,null,null,null,{"$f":"'Annual Data'!$AD$15","v":1},{"$f":"'Annual Data'!$AG$15","v":0.1},0,0]
[null,null,null,null,null,null,null,null,null,null,null,null,null,null,null,null,null,null,null,null,null,null,null,null,null,null,null,null,null,null,null,null,{"$f":"'Annual Data'!$AD$15","v":1},{"$f":"'Annual Data'!$AG$15","v":0.1},0,0]
[null,null,null,null,null,null,null,null,null,null,null,null,null,null,null,null,null,null,null,null,null,null,null,null,null,null,null,null,null,null,null,null,{"$f":"'Annual Data'!$AD$15","v":1},{"$f":"'Annual Data'!$AG$15","v":0.1},0,0]
[null,null,null,null,null,null,null,null,null,null,null,null,null,null,null,null,null,null,null,null,null,null,null,null,null,null,null,null,null,null,null,null,{"$f":"'Annual Data'!$AD$15","v":1},{"$f":"'Annual Data'!$AG$15","v":0.1},0,0]
[null,null,null,null,null,null,null,null,null,null,null,null,null,null,null,null,null,null,null,null,null,null,null,null,null,null,null,null,null,null,null,null,{"$f":"'Annual Data'!$AD$15","v":1},{"$f":"'Annual Data'!$AG$15","v":0.1},0,0]
[null,null,null,null,null,null,null,null,null,null,null,null,null,null,null,null,null,null,null,null,null,null,null,null,null,null,null,null,null,null,null,null,{"$f":"'Annual Data'!$AD$15","v":1},{"$f":"'Annual Data'!$AG$15","v":0.1},0,0]
[null,null,null,null,null,null,null,null,null,null,null,null,null,null,null,null,null,null,null,null,null,null,null,null,null,null,null,null,null,null,null,null,{"$f":"'Annual Data'!$AD$15","v":1},{"$f":"'Annual Data'!$AG$15","v":0.1},0,0]
[null,null,null,null,null,null,null,null,null,null,null,null,null,null,null,null,null,null,null,null,null,null,null,null,null,null,null,null,null,null,null,null,{"$f":"'Annual Data'!$AD$15","v":1},{"$f":"'Annual Data'!$AG$15","v":0.1},0,0]
[null,null,null,null,null,null,null,null,null,null,null,null,null,null,null,null,null,null,null,null,null,null,null,null,null,null,null,null,null,null,null,null,{"$f":"'Annual Data'!$AD$15","v":1},{"$f":"'Annual Data'!$AG$15","v":0.1},{"$f":"MAX(C1674:F1674)","v":0},{"$f":"MAX(G1674:R1674)","v":0}]
[null,null,null,null,null,null,null,null,null,null,null,null,null,null,null,null,null,null,null,null,null,null,null,null,null,null,null,null,null,null,null,null,{"$f":"'Annual Data'!$AD$15","v":1},{"$f":"'Annual Data'!$AG$15","v":0.1},0,0]
[null,null,null,null,null,null,null,null,null,null,null,null,null,null,null,null,null,null,null,null,null,null,null,null,null,null,null,null,null,null,null,null,{"$f":"'Annual Data'!$AD$15","v":1},{"$f":"'Annual Data'!$AG$15","v":0.1},0,0]
[null,null,null,null,null,null,null,null,null,null,null,null,null,null,null,null,null,null,null,null,null,null,null,null,null,null,null,null,null,null,null,null,{"$f":"'Annual Data'!$AD$15","v":1},{"$f":"'Annual Data'!$AG$15","v":0.1},0,0]
[null,null,null,null,null,null,null,null,null,null,null,null,null,null,null,null,null,null,null,null,null,null,null,null,null,null,null,null,null,null,null,null,{"$f":"'Annual Data'!$AD$15","v":1},{"$f":"'Annual Data'!$AG$15","v":0.1},0,0]
[null,null,null,null,null,null,null,null,null,null,null,null,null,null,null,null,null,null,null,null,null,null,null,null,null,null,null,null,null,null,null,null,{"$f":"'Annual Data'!$AD$15","v":1},{"$f":"'Annual Data'!$AG$15","v":0.1},0,0]
[null,null,null,null,null,null,null,null,null,null,null,null,null,null,null,null,null,null,null,null,null,null,null,null,null,null,null,null,null,null,null,null,{"$f":"'Annual Data'!$AD$15","v":1},{"$f":"'Annual Data'!$AG$15","v":0.1},0,0]
[null,null,null,null,null,null,null,null,null,null,null,null,null,null,null,null,null,null,null,null,null,null,null,null,null,null,null,null,null,null,null,null,{"$f":"'Annual Data'!$AD$15","v":1},{"$f":"'Annual Data'!$AG$15","v":0.1},0,0]
[null,null,null,null,null,null,null,null,null,null,null,null,null,null,null,null,null,null,null,null,null,null,null,null,null,null,null,null,null,null,null,null,{"$f":"'Annual Data'!$AD$15","v":1},{"$f":"'Annual Data'!$AG$15","v":0.1},0,0]
[null,null,null,null,null,null,null,null,null,null,null,null,null,null,null,null,null,null,null,null,null,null,null,null,null,null,null,null,null,null,null,null,{"$f":"'Annual Data'!$AD$15","v":1},{"$f":"'Annual Data'!$AG$15","v":0.1},0,0]
[null,null,null,null,null,null,null,null,null,null,null,null,null,null,null,null,null,null,null,null,null,null,null,null,null,null,null,null,null,null,null,null,{"$f":"'Annual Data'!$AD$15","v":1},{"$f":"'Annual Data'!$AG$15","v":0.1},0,0]
[null,null,null,null,null,null,null,null,null,null,null,null,null,null,null,null,null,null,null,null,null,null,null,null,null,null,null,null,null,null,null,null,{"$f":"'Annual Data'!$AD$15","v":1},{"$f":"'Annual Data'!$AG$15","v":0.1},0,0]
[null,null,null,null,null,null,null,null,null,null,null,null,null,null,null,null,null,null,null,null,null,null,null,null,null,null,null,null,null,null,null,null,{"$f":"'Annual Data'!$AD$15","v":1},{"$f":"'Annual Data'!$AG$15","v":0.1},0,0]
[null,null,null,null,null,null,null,null,null,null,null,null,null,null,null,null,null,null,null,null,null,null,null,null,null,null,null,null,null,null,null,null,{"$f":"'Annual Data'!$AD$15","v":1},{"$f":"'Annual Data'!$AG$15","v":0.1},0,0]
[null,null,null,null,null,null,null,null,null,null,null,null,null,null,null,null,null,null,null,null,null,null,null,null,null,null,null,null,null,null,null,null,{"$f":"'Annual Data'!$AD$15","v":1},{"$f":"'Annual Data'!$AG$15","v":0.1},0,0]
[null,null,null,null,null,null,null,null,null,null,null,null,null,null,null,null,null,null,null,null,null,null,null,null,null,null,null,null,null,null,null,null,{"$f":"'Annual Data'!$AD$15","v":1},{"$f":"'Annual Data'!$AG$15","v":0.1},0,0]
[null,null,null,null,null,null,null,null,null,null,null,null,null,null,null,null,null,null,null,null,null,null,null,null,null,null,null,null,null,null,null,null,{"$f":"'Annual Data'!$AD$15","v":1},{"$f":"'Annual Data'!$AG$15","v":0.1},0,0]
[null,null,null,null,null,null,null,null,null,null,null,null,null,null,null,null,null,null,null,null,null,null,null,null,null,null,null,null,null,null,null,null,{"$f":"'Annual Data'!$AD$15","v":1},{"$f":"'Annual Data'!$AG$15","v":0.1},0,0]
[null,null,null,null,null,null,null,null,null,null,null,null,null,null,null,null,null,null,null,null,null,null,null,null,null,null,null,null,null,null,null,null,{"$f":"'Annual Data'!$AD$15","v":1},{"$f":"'Annual Data'!$AG$15","v":0.1},0,0]
[null,null,null,null,null,null,null,null,null,null,null,null,null,null,null,null,null,null,null,null,null,null,null,null,null,null,null,null,null,null,null,null,{"$f":"'Annual Data'!$AD$15","v":1},{"$f":"'Annual Data'!$AG$15","v":0.1},0,0]
[null,null,null,null,null,null,null,null,null,null,null,null,null,null,null,null,null,null,null,null,null,null,null,null,null,null,null,null,null,null,null,null,{"$f":"'Annual Data'!$AD$15","v":1},{"$f":"'Annual Data'!$AG$15","v":0.1},0,0]
[null,null,null,null,null,null,null,null,null,null,null,null,null,null,null,null,null,null,null,null,null,null,null,null,null,null,null,null,null,null,null,null,{"$f":"'Annual Data'!$AD$15","v":1},{"$f":"'Annual Data'!$AG$15","v":0.1},0,0]
[null,null,null,null,null,null,null,null,null,null,null,null,null,null,null,null,null,null,null,null,null,null,null,null,null,null,null,null,null,null,null,null,{"$f":"'Annual Data'!$AD$15","v":1},{"$f":"'Annual Data'!$AG$15","v":0.1},0,0]
[null,null,null,null,null,null,null,null,null,null,null,null,null,null,null,null,null,null,null,null,null,null,null,null,null,null,null,null,null,null,null,null,{"$f":"'Annual Data'!$AD$15","v":1},{"$f":"'Annual Data'!$AG$15","v":0.1},0,0]
[null,null,null,null,null,null,null,null,null,null,null,null,null,null,null,null,null,null,null,null,null,null,null,null,null,null,null,null,null,null,null,null,{"$f":"'Annual Data'!$AD$15","v":1},{"$f":"'Annual Data'!$AG$15","v":0.1},0,0]
[null,null,null,null,null,null,null,null,null,null,null,null,null,null,null,null,null,null,null,null,null,null,null,null,null,null,null,null,null,null,null,null,{"$f":"'Annual Data'!$AD$15","v":1},{"$f":"'Annual Data'!$AG$15","v":0.1},0,0]
[null,null,null,null,null,null,null,null,null,null,null,null,null,null,null,null,null,null,null,null,null,null,null,null,null,null,null,null,null,null,null,null,{"$f":"'Annual Data'!$AD$15","v":1},{"$f":"'Annual Data'!$AG$15","v":0.1},0,0]
[null,null,null,null,null,null,null,null,null,null,null,null,null,null,null,null,null,null,null,null,null,null,null,null,null,null,null,null,null,null,null,null,{"$f":"'Annual Data'!$AD$15","v":1},{"$f":"'Annual Data'!$AG$15","v":0.1},0,0]
[null,null,null,null,null,null,null,null,null,null,null,null,null,null,null,null,null,null,null,null,null,null,null,null,null,null,null,null,null,null,null,null,{"$f":"'Annual Data'!$AD$15","v":1},{"$f":"'Annual Data'!$AG$15","v":0.1},0,0]
[null,null,null,null,null,null,null,null,null,null,null,null,null,null,null,null,null,null,null,null,null,null,null,null,null,null,null,null,null,null,null,null,{"$f":"'Annual Data'!$AD$15","v":1},{"$f":"'Annual Data'!$AG$15","v":0.1},0,0]
[null,null,null,null,null,null,null,null,null,null,null,null,null,null,null,null,null,null,null,null,null,null,null,null,null,null,null,null,null,null,null,null,{"$f":"'Annual Data'!$AD$15","v":1},{"$f":"'Annual Data'!$AG$15","v":0.1},0,0]
[null,null,null,null,null,null,null,null,null,null,null,null,null,null,null,null,null,null,null,null,null,null,null,null,null,null,null,null,null,null,null,null,{"$f":"'Annual Data'!$AD$15","v":1},{"$f":"'Annual Data'!$AG$15","v":0.1},0,0]
[null,null,null,null,null,null,null,null,null,null,null,null,null,null,null,null,null,null,null,null,null,null,null,null,null,null,null,null,null,null,null,null,{"$f":"'Annual Data'!$AD$15","v":1},{"$f":"'Annual Data'!$AG$15","v":0.1},0,0]
[null,null,null,null,null,null,null,null,null,null,null,null,null,null,null,null,null,null,null,null,null,null,null,null,null,null,null,null,null,null,null,null,{"$f":"'Annual Data'!$AD$15","v":1},{"$f":"'Annual Data'!$AG$15","v":0.1},0,0]
[null,null,null,null,null,null,null,null,null,null,null,null,null,null,null,null,null,null,null,null,null,null,null,null,null,null,null,null,null,null,null,null,{"$f":"'Annual Data'!$AD$15","v":1},{"$f":"'Annual Data'!$AG$15","v":0.1},0,0]
[null,null,null,null,null,null,null,null,null,null,null,null,null,null,null,null,null,null,null,null,null,null,null,null,null,null,null,null,null,null,null,null,{"$f":"'Annual Data'!$AD$15","v":1},{"$f":"'Annual Data'!$AG$15","v":0.1},0,0]
[null,null,null,null,null,null,null,null,null,null,null,null,null,null,null,null,null,null,null,null,null,null,null,null,null,null,null,null,null,null,null,null,{"$f":"'Annual Data'!$AD$15","v":1},{"$f":"'Annual Data'!$AG$15","v":0.1},0,0]
[null,null,null,null,null,null,null,null,null,null,null,null,null,null,null,null,null,null,null,null,null,null,null,null,null,null,null,null,null,null,null,null,{"$f":"'Annual Data'!$AD$15","v":1},{"$f":"'Annual Data'!$AG$15","v":0.1},0,0]
[null,null,null,null,null,null,null,null,null,null,null,null,null,null,null,null,null,null,null,null,null,null,null,null,null,null,null,null,null,null,null,null,{"$f":"'Annual Data'!$AD$15","v":1},{"$f":"'Annual Data'!$AG$15","v":0.1},0,0]
[null,null,null,null,null,null,null,null,null,null,null,null,null,null,null,null,null,null,null,null,null,null,null,null,null,null,null,null,null,null,null,null,{"$f":"'Annual Data'!$AD$15","v":1},{"$f":"'Annual Data'!$AG$15","v":0.1},0,0]
[null,null,null,null,null,null,null,null,null,null,null,null,null,null,null,null,null,null,null,null,null,null,null,null,null,null,null,null,null,null,null,null,{"$f":"'Annual Data'!$AD$15","v":1},{"$f":"'Annual Data'!$AG$15","v":0.1},0,0]
[null,null,null,null,null,null,null,null,null,null,null,null,null,null,null,null,null,null,null,null,null,null,null,null,null,null,null,null,null,null,null,null,{"$f":"'Annual Data'!$AD$15","v":1},{"$f":"'Annual Data'!$AG$15","v":0.1},0,0]
[null,null,null,null,null,null,null,null,null,null,null,null,null,null,null,null,null,null,null,null,null,null,null,null,null,null,null,null,null,null,null,null,{"$f":"'Annual Data'!$AD$15","v":1},{"$f":"'Annual Data'!$AG$15","v":0.1},0,0]
[null,null,null,null,null,null,null,null,null,null,null,null,null,null,null,null,null,null,null,null,null,null,null,null,null,null,null,null,null,null,null,null,{"$f":"'Annual Data'!$AD$15","v":1},{"$f":"'Annual Data'!$AG$15","v":0.1},0,0]
[null,null,null,null,null,null,null,null,null,null,null,null,null,null,null,null,null,null,null,null,null,null,null,null,null,null,null,null,null,null,null,null,{"$f":"'Annual Data'!$AD$15","v":1},{"$f":"'Annual Data'!$AG$15","v":0.1},0,0]
[null,null,null,null,null,null,null,null,null,null,null,null,null,null,null,null,null,null,null,null,null,null,null,null,null,null,null,null,null,null,null,null,{"$f":"'Annual Data'!$AD$15","v":1},{"$f":"'Annual Data'!$AG$15","v":0.1},0,0]
[null,null,null,null,null,null,null,null,null,null,null,null,null,null,null,null,null,null,null,null,null,null,null,null,null,null,null,null,null,null,null,null,{"$f":"'Annual Data'!$AD$15","v":1},{"$f":"'Annual Data'!$AG$15","v":0.1},0,0]
[null,null,null,null,null,null,null,null,null,null,null,null,null,null,null,null,null,null,null,null,null,null,null,null,null,null,null,null,null,null,null,null,{"$f":"'Annual Data'!$AD$15","v":1},{"$f":"'Annual Data'!$AG$15","v":0.1},0,0]
[null,null,null,null,null,null,null,null,null,null,null,null,null,null,null,null,null,null,null,null,null,null,null,null,null,null,null,null,null,null,null,null,{"$f":"'Annual Data'!$AD$15","v":1},{"$f":"'Annual Data'!$AG$15","v":0.1},0,0]
[null,null,null,null,null,null,null,null,null,null,null,null,null,null,null,null,null,null,null,null,null,null,null,null,null,null,null,null,null,null,null,null,{"$f":"'Annual Data'!$AD$15","v":1},{"$f":"'Annual Data'!$AG$15","v":0.1},0,0]
[null,null,null,null,null,null,null,null,null,null,null,null,null,null,null,null,null,null,null,null,null,null,null,null,null,null,null,null,null,null,null,null,{"$f":"'Annual Data'!$AD$15","v":1},{"$f":"'Annual Data'!$AG$15","v":0.1},0,0]
[null,null,null,null,null,null,null,null,null,null,null,null,null,null,null,null,null,null,null,null,null,null,null,null,null,null,null,null,null,null,null,null,{"$f":"'Annual Data'!$AD$15","v":1},{"$f":"'Annual Data'!$AG$15","v":0.1},0,0]
[null,null,null,null,null,null,null,null,null,null,null,null,null,null,null,null,null,null,null,null,null,null,null,null,null,null,null,null,null,null,null,null,{"$f":"'Annual Data'!$AD$15","v":1},{"$f":"'Annual Data'!$AG$15","v":0.1},0,0]
[null,null,null,null,null,null,null,null,null,null,null,null,null,null,null,null,null,null,null,null,null,null,null,null,null,null,null,null,null,null,null,null,{"$f":"'Annual Data'!$AD$15","v":1},{"$f":"'Annual Data'!$AG$15","v":0.1},0,0]
[null,null,null,null,null,null,null,null,null,null,null,null,null,null,null,null,null,null,null,null,null,null,null,null,null,null,null,null,null,null,null,null,{"$f":"'Annual Data'!$AD$15","v":1},{"$f":"'Annual Data'!$AG$15","v":0.1},0,0]
[null,null,null,null,null,null,null,null,null,null,null,null,null,null,null,null,null,null,null,null,null,null,null,null,null,null,null,null,null,null,null,null,{"$f":"'Annual Data'!$AD$15","v":1},{"$f":"'Annual Data'!$AG$15","v":0.1},0,0]
[null,null,null,null,null,null,null,null,null,null,null,null,null,null,null,null,null,null,null,null,null,null,null,null,null,null,null,null,null,null,null,null,{"$f":"'Annual Data'!$AD$15","v":1},{"$f":"'Annual Data'!$AG$15","v":0.1},0,0]
[null,null,null,null,null,null,null,null,null,null,null,null,null,null,null,null,null,null,null,null,null,null,null,null,null,null,null,null,null,null,null,null,{"$f":"'Annual Data'!$AD$15","v":1},{"$f":"'Annual Data'!$AG$15","v":0.1},0,0]
[null,null,null,null,null,null,null,null,null,null,null,null,null,null,null,null,null,null,null,null,null,null,null,null,null,null,null,null,null,null,null,null,{"$f":"'Annual Data'!$AD$15","v":1},{"$f":"'Annual Data'!$AG$15","v":0.1},0,0]
[null,null,null,null,null,null,null,null,null,null,null,null,null,null,null,null,null,null,null,null,null,null,null,null,null,null,null,null,null,null,null,null,{"$f":"'Annual Data'!$AD$15","v":1},{"$f":"'Annual Data'!$AG$15","v":0.1},0,0]
[null,null,null,null,null,null,null,null,null,null,null,null,null,null,null,null,null,null,null,null,null,null,null,null,null,null,null,null,null,null,null,null,{"$f":"'Annual Data'!$AD$15","v":1},{"$f":"'Annual Data'!$AG$15","v":0.1},0,0]
[null,null,null,null,null,null,null,null,null,null,null,null,null,null,null,null,null,null,null,null,null,null,null,null,null,null,null,null,null,null,null,null,{"$f":"'Annual Data'!$AD$15","v":1},{"$f":"'Annual Data'!$AG$15","v":0.1},0,0]
[null,null,null,null,null,null,null,null,null,null,null,null,null,null,null,null,null,null,null,null,null,null,null,null,null,null,null,null,null,null,null,null,{"$f":"'Annual Data'!$AD$15","v":1},{"$f":"'Annual Data'!$AG$15","v":0.1},0,0]
[null,null,null,null,null,null,null,null,null,null,null,null,null,null,null,null,null,null,null,null,null,null,null,null,null,null,null,null,null,null,null,null,{"$f":"'Annual Data'!$AD$15","v":1},{"$f":"'Annual Data'!$AG$15","v":0.1},0,0]
[null,null,null,null,null,null,null,null,null,null,null,null,null,null,null,null,null,null,null,null,null,null,null,null,null,null,null,null,null,null,null,null,{"$f":"'Annual Data'!$AD$15","v":1},{"$f":"'Annual Data'!$AG$15","v":0.1},0,0]
[null,null,null,null,null,null,null,null,null,null,null,null,null,null,null,null,null,null,null,null,null,null,null,null,null,null,null,null,null,null,null,null,{"$f":"'Annual Data'!$AD$15","v":1},{"$f":"'Annual Data'!$AG$15","v":0.1},0,0]
[null,null,null,null,null,null,null,null,null,null,null,null,null,null,null,null,null,null,null,null,null,null,null,null,null,null,null,null,null,null,null,null,{"$f":"'Annual Data'!$AD$15","v":1},{"$f":"'Annual Data'!$AG$15","v":0.1},0,0]
[null,null,null,null,null,null,null,null,null,null,null,null,null,null,null,null,null,null,null,null,null,null,null,null,null,null,null,null,null,null,null,null,{"$f":"'Annual Data'!$AD$15","v":1},{"$f":"'Annual Data'!$AG$15","v":0.1},0,0]
[null,null,null,null,null,null,null,null,null,null,null,null,null,null,null,null,null,null,null,null,null,null,null,null,null,null,null,null,null,null,null,null,{"$f":"'Annual Data'!$AD$15","v":1},{"$f":"'Annual Data'!$AG$15","v":0.1},0,0]
[null,null,null,null,null,null,null,null,null,null,null,null,null,null,null,null,null,null,null,null,null,null,null,null,null,null,null,null,null,null,null,null,{"$f":"'Annual Data'!$AD$15","v":1},{"$f":"'Annual Data'!$AG$15","v":0.1},0,0]
[null,null,null,null,null,null,null,null,null,null,null,null,null,null,null,null,null,null,null,null,null,null,null,null,null,null,null,null,null,null,null,null,{"$f":"'Annual Data'!$AD$15","v":1},{"$f":"'Annual Data'!$AG$15","v":0.1},0,0]
[null,null,null,null,null,null,null,null,null,null,null,null,null,null,null,null,null,null,null,null,null,null,null,null,null,null,null,null,null,null,null,null,{"$f":"'Annual Data'!$AD$15","v":1},{"$f":"'Annual Data'!$AG$15","v":0.1},0,0]
[null,null,null,null,null,null,null,null,null,null,null,null,null,null,null,null,null,null,null,null,null,null,null,null,null,null,null,null,null,null,null,null,{"$f":"'Annual Data'!$AD$15","v":1},{"$f":"'Annual Data'!$AG$15","v":0.1},0,0]
[null,null,null,null,null,null,null,null,null,null,null,null,null,null,null,null,null,null,null,null,null,null,null,null,null,null,null,null,null,null,null,null,{"$f":"'Annual Data'!$AD$15","v":1},{"$f":"'Annual Data'!$AG$15","v":0.1},0,0]
[null,null,null,null,null,null,null,null,null,null,null,null,null,null,null,null,null,null,null,null,null,null,null,null,null,null,null,null,null,null,null,null,{"$f":"'Annual Data'!$AD$15","v":1},{"$f":"'Annual Data'!$AG$15","v":0.1},0,0]
[null,null,null,null,null,null,null,null,null,null,null,null,null,null,null,null,null,null,null,null,null,null,null,null,null,null,null,null,null,null,null,null,{"$f":"'Annual Data'!$AD$15","v":1},{"$f":"'Annual Data'!$AG$15","v":0.1},0,0]
[null,null,null,null,null,null,null,null,null,null,null,null,null,null,null,null,null,null,null,null,null,null,null,null,null,null,null,null,null,null,null,null,{"$f":"'Annual Data'!$AD$15","v":1},{"$f":"'Annual Data'!$AG$15","v":0.1},0,0]
[null,null,null,null,null,null,null,null,null,null,null,null,null,null,null,null,null,null,null,null,null,null,null,null,null,null,null,null,null,null,null,null,{"$f":"'Annual Data'!$AD$15","v":1},{"$f":"'Annual Data'!$AG$15","v":0.1},0,0]
[null,null,null,null,null,null,null,null,null,null,null,null,null,null,null,null,null,null,null,null,null,null,null,null,null,null,null,null,null,null,null,null,{"$f":"'Annual Data'!$AD$15","v":1},{"$f":"'Annual Data'!$AG$15","v":0.1},0,0]
[null,null,null,null,null,null,null,null,null,null,null,null,null,null,null,null,null,null,null,null,null,null,null,null,null,null,null,null,null,null,null,null,{"$f":"'Annual Data'!$AD$15","v":1},{"$f":"'Annual Data'!$AG$15","v":0.1},0,0]
[null,null,null,null,null,null,null,null,null,null,null,null,null,null,null,null,null,null,null,null,null,null,null,null,null,null,null,null,null,null,null,null,{"$f":"'Annual Data'!$AD$15","v":1},{"$f":"'Annual Data'!$AG$15","v":0.1},0,0]
[null,null,null,null,null,null,null,null,null,null,null,null,null,null,null,null,null,null,null,null,null,null,null,null,null,null,null,null,null,null,null,null,{"$f":"'Annual Data'!$AD$15","v":1},{"$f":"'Annual Data'!$AG$15","v":0.1},0,0]
[null,null,null,null,null,null,null,null,null,null,null,null,null,null,null,null,null,null,null,null,null,null,null,null,null,null,null,null,null,null,null,null,{"$f":"'Annual Data'!$AD$15","v":1},{"$f":"'Annual Data'!$AG$15","v":0.1},0,0]
[null,null,null,null,null,null,null,null,null,null,null,null,null,null,null,null,null,null,null,null,null,null,null,null,null,null,null,null,null,null,null,null,{"$f":"'Annual Data'!$AD$15","v":1},{"$f":"'Annual Data'!$AG$15","v":0.1},0,0]
[null,null,null,null,null,null,null,null,null,null,null,null,null,null,null,null,null,null,null,null,null,null,null,null,null,null,null,null,null,null,null,null,{"$f":"'Annual Data'!$AD$15","v":1},{"$f":"'Annual Data'!$AG$15","v":0.1},0,0]
[null,null,null,null,null,null,null,null,null,null,null,null,null,null,null,null,null,null,null,null,null,null,null,null,null,null,null,null,null,null,null,null,{"$f":"'Annual Data'!$AD$15","v":1},{"$f":"'Annual Data'!$AG$15","v":0.1},0,0]
[null,null,null,null,null,null,null,null,null,null,null,null,null,null,null,null,null,null,null,null,null,null,null,null,null,null,null,null,null,null,null,null,{"$f":"'Annual Data'!$AD$15","v":1},{"$f":"'Annual Data'!$AG$15","v":0.1},0,0]
[null,null,null,null,null,null,null,null,null,null,null,null,null,null,null,null,null,null,null,null,null,null,null,null,null,null,null,null,null,null,null,null,{"$f":"'Annual Data'!$AD$15","v":1},{"$f":"'Annual Data'!$AG$15","v":0.1},0,0]
[null,null,null,null,null,null,null,null,null,null,null,null,null,null,null,null,null,null,null,null,null,null,null,null,null,null,null,null,null,null,null,null,{"$f":"'Annual Data'!$AD$15","v":1},{"$f":"'Annual Data'!$AG$15","v":0.1},0,0]
[null,null,null,null,null,null,null,null,null,null,null,null,null,null,null,null,null,null,null,null,null,null,null,null,null,null,null,null,null,null,null,null,{"$f":"'Annual Data'!$AD$15","v":1},{"$f":"'Annual Data'!$AG$15","v":0.1},0,0]
[null,null,null,null,null,null,null,null,null,null,null,null,null,null,null,null,null,null,null,null,null,null,null,null,null,null,null,null,null,null,null,null,{"$f":"'Annual Data'!$AD$15","v":1},{"$f":"'Annual Data'!$AG$15","v":0.1},0,0]
[null,null,null,null,null,null,null,null,null,null,null,null,null,null,null,null,null,null,null,null,null,null,null,null,null,null,null,null,null,null,null,null,{"$f":"'Annual Data'!$AD$15","v":1},{"$f":"'Annual Data'!$AG$15","v":0.1},0,0]
[null,null,null,null,null,null,null,null,null,null,null,null,null,null,null,null,null,null,null,null,null,null,null,null,null,null,null,null,null,null,null,null,{"$f":"'Annual Data'!$AD$15","v":1},{"$f":"'Annual Data'!$AG$15","v":0.1},0,0]
[null,null,null,null,null,null,null,null,null,null,null,null,null,null,null,null,null,null,null,null,null,null,null,null,null,null,null,null,null,null,null,null,{"$f":"'Annual Data'!$AD$15","v":1},{"$f":"'Annual Data'!$AG$15","v":0.1},0,0]
[null,null,null,null,null,null,null,null,null,null,null,null,null,null,null,null,null,null,null,null,null,null,null,null,null,null,null,null,null,null,null,null,{"$f":"'Annual Data'!$AD$15","v":1},{"$f":"'Annual Data'!$AG$15","v":0.1},0,0]
[null,null,null,null,null,null,null,null,null,null,null,null,null,null,null,null,null,null,null,null,null,null,null,null,null,null,null,null,null,null,null,null,{"$f":"'Annual Data'!$AD$15","v":1},{"$f":"'Annual Data'!$AG$15","v":0.1},0,0]
[null,null,null,null,null,null,null,null,null,null,null,null,null,null,null,null,null,null,null,null,null,null,null,null,null,null,null,null,null,null,null,null,{"$f":"'Annual Data'!$AD$15","v":1},{"$f":"'Annual Data'!$AG$15","v":0.1},0,0]
[null,null,null,null,null,null,null,null,null,null,null,null,null,null,null,null,null,null,null,null,null,null,null,null,null,null,null,null,null,null,null,null,{"$f":"'Annual Data'!$AD$15","v":1},{"$f":"'Annual Data'!$AG$15","v":0.1},0,0]
[null,null,null,null,null,null,null,null,null,null,null,null,null,null,null,null,null,null,null,null,null,null,null,null,null,null,null,null,null,null,null,null,{"$f":"'Annual Data'!$AD$15","v":1},{"$f":"'Annual Data'!$AG$15","v":0.1},0,0]
[null,null,null,null,null,null,null,null,null,null,null,null,null,null,null,null,null,null,null,null,null,null,null,null,null,null,null,null,null,null,null,null,{"$f":"'Annual Data'!$AD$15","v":1},{"$f":"'Annual Data'!$AG$15","v":0.1},0,0]
[null,null,null,null,null,null,null,null,null,null,null,null,null,null,null,null,null,null,null,null,null,null,null,null,null,null,null,null,null,null,null,null,{"$f":"'Annual Data'!$AD$15","v":1},{"$f":"'Annual Data'!$AG$15","v":0.1},0,0]
[null,null,null,null,null,null,null,null,null,null,null,null,null,null,null,null,null,null,null,null,null,null,null,null,null,null,null,null,null,null,null,null,{"$f":"'Annual Data'!$AD$15","v":1},{"$f":"'Annual Data'!$AG$15","v":0.1},0,0]
[null,null,null,null,null,null,null,null,null,null,null,null,null,null,null,null,null,null,null,null,null,null,null,null,null,null,null,null,null,null,null,null,{"$f":"'Annual Data'!$AD$15","v":1},{"$f":"'Annual Data'!$AG$15","v":0.1},0,0]
[null,null,null,null,null,null,null,null,null,null,null,null,null,null,null,null,null,null,null,null,null,null,null,null,null,null,null,null,null,null,null,null,{"$f":"'Annual Data'!$AD$15","v":1},{"$f":"'Annual Data'!$AG$15","v":0.1},0,0]
[null,null,null,null,null,null,null,null,null,null,null,null,null,null,null,null,null,null,null,null,null,null,null,null,null,null,null,null,null,null,null,null,{"$f":"'Annual Data'!$AD$15","v":1},{"$f":"'Annual Data'!$AG$15","v":0.1},0,0]
[null,null,null,null,null,null,null,null,null,null,null,null,null,null,null,null,null,null,null,null,null,null,null,null,null,null,null,null,null,null,null,null,{"$f":"'Annual Data'!$AD$15","v":1},{"$f":"'Annual Data'!$AG$15","v":0.1},0,0]
[null,null,null,null,null,null,null,null,null,null,null,null,null,null,null,null,null,null,null,null,null,null,null,null,null,null,null,null,null,null,null,null,{"$f":"'Annual Data'!$AD$15","v":1},{"$f":"'Annual Data'!$AG$15","v":0.1},0,0]
[null,null,null,null,null,null,null,null,null,null,null,null,null,null,null,null,null,null,null,null,null,null,null,null,null,null,null,null,null,null,null,null,{"$f":"'Annual Data'!$AD$15","v":1},{"$f":"'Annual Data'!$AG$15","v":0.1},{"$f":"MAX(C1866:F1866)","v":0},{"$f":"MAX(G1866:R1866)","v":0}]
[null,null,null,null,null,null,null,null,null,null,null,null,null,null,null,null,null,null,null,null,null,null,null,null,null,null,null,null,null,null,null,null,{"$f":"'Annual Data'!$AD$15","v":1},{"$f":"'Annual Data'!$AG$15","v":0.1},0,0]
[null,null,null,null,null,null,null,null,null,null,null,null,null,null,null,null,null,null,null,null,null,null,null,null,null,null,null,null,null,null,null,null,{"$f":"'Annual Data'!$AD$15","v":1},{"$f":"'Annual Data'!$AG$15","v":0.1},0,0]
[null,null,null,null,null,null,null,null,null,null,null,null,null,null,null,null,null,null,null,null,null,null,null,null,null,null,null,null,null,null,null,null,{"$f":"'Annual Data'!$AD$15","v":1},{"$f":"'Annual Data'!$AG$15","v":0.1},0,0]
[null,null,null,null,null,null,null,null,null,null,null,null,null,null,null,null,null,null,null,null,null,null,null,null,null,null,null,null,null,null,null,null,{"$f":"'Annual Data'!$AD$15","v":1},{"$f":"'Annual Data'!$AG$15","v":0.1},0,0]
[null,null,null,null,null,null,null,null,null,null,null,null,null,null,null,null,null,null,null,null,null,null,null,null,null,null,null,null,null,null,null,null,{"$f":"'Annual Data'!$AD$15","v":1},{"$f":"'Annual Data'!$AG$15","v":0.1},0,0]
[null,null,null,null,null,null,null,null,null,null,null,null,null,null,null,null,null,null,null,null,null,null,null,null,null,null,null,null,null,null,null,null,{"$f":"'Annual Data'!$AD$15","v":1},{"$f":"'Annual Data'!$AG$15","v":0.1},0,0]
[null,null,null,null,null,null,null,null,null,null,null,null,null,null,null,null,null,null,null,null,null,null,null,null,null,null,null,null,null,null,null,null,{"$f":"'Annual Data'!$AD$15","v":1},{"$f":"'Annual Data'!$AG$15","v":0.1},0,0]
[null,null,null,null,null,null,null,null,null,null,null,null,null,null,null,null,null,null,null,null,null,null,null,null,null,null,null,null,null,null,null,null,{"$f":"'Annual Data'!$AD$15","v":1},{"$f":"'Annual Data'!$AG$15","v":0.1},0,0]
[null,null,null,null,null,null,null,null,null,null,null,null,null,null,null,null,null,null,null,null,null,null,null,null,null,null,null,null,null,null,null,null,{"$f":"'Annual Data'!$AD$15","v":1},{"$f":"'Annual Data'!$AG$15","v":0.1},0,0]
[null,null,null,null,null,null,null,null,null,null,null,null,null,null,null,null,null,null,null,null,null,null,null,null,null,null,null,null,null,null,null,null,{"$f":"'Annual Data'!$AD$15","v":1},{"$f":"'Annual Data'!$AG$15","v":0.1},0,0]
[null,null,null,null,null,null,null,null,null,null,null,null,null,null,null,null,null,null,null,null,null,null,null,null,null,null,null,null,null,null,null,null,{"$f":"'Annual Data'!$AD$15","v":1},{"$f":"'Annual Data'!$AG$15","v":0.1},0,0]
[null,null,null,null,null,null,null,null,null,null,null,null,null,null,null,null,null,null,null,null,null,null,null,null,null,null,null,null,null,null,null,null,{"$f":"'Annual Data'!$AD$15","v":1},{"$f":"'Annual Data'!$AG$15","v":0.1},0,0]
[null,null,null,null,null,null,null,null,null,null,null,null,null,null,null,null,null,null,null,null,null,null,null,null,null,null,null,null,null,null,null,null,{"$f":"'Annual Data'!$AD$15","v":1},{"$f":"'Annual Data'!$AG$15","v":0.1},0,0]
[null,null,null,null,null,null,null,null,null,null,null,null,null,null,null,null,null,null,null,null,null,null,null,null,null,null,null,null,null,null,null,null,{"$f":"'Annual Data'!$AD$15","v":1},{"$f":"'Annual Data'!$AG$15","v":0.1},0,0]
[null,null,null,null,null,null,null,null,null,null,null,null,null,null,null,null,null,null,null,null,null,null,null,null,null,null,null,null,null,null,null,null,{"$f":"'Annual Data'!$AD$15","v":1},{"$f":"'Annual Data'!$AG$15","v":0.1},0,0]
[null,null,null,null,null,null,null,null,null,null,null,null,null,null,null,null,null,null,null,null,null,null,null,null,null,null,null,null,null,null,null,null,{"$f":"'Annual Data'!$AD$15","v":1},{"$f":"'Annual Data'!$AG$15","v":0.1},0,0]
[null,null,null,null,null,null,null,null,null,null,null,null,null,null,null,null,null,null,null,null,null,null,null,null,null,null,null,null,null,null,null,null,{"$f":"'Annual Data'!$AD$15","v":1},{"$f":"'Annual Data'!$AG$15","v":0.1},0,0]
[null,null,null,null,null,null,null,null,null,null,null,null,null,null,null,null,null,null,null,null,null,null,null,null,null,null,null,null,null,null,null,null,{"$f":"'Annual Data'!$AD$15","v":1},{"$f":"'Annual Data'!$AG$15","v":0.1},0,0]
[null,null,null,null,null,null,null,null,null,null,null,null,null,null,null,null,null,null,null,null,null,null,null,null,null,null,null,null,null,null,null,null,{"$f":"'Annual Data'!$AD$15","v":1},{"$f":"'Annual Data'!$AG$15","v":0.1},0,0]
[null,null,null,null,null,null,null,null,null,null,null,null,null,null,null,null,null,null,null,null,null,null,null,null,null,null,null,null,null,null,null,null,{"$f":"'Annual Data'!$AD$15","v":1},{"$f":"'Annual Data'!$AG$15","v":0.1},0,0]
[null,null,null,null,null,null,null,null,null,null,null,null,null,null,null,null,null,null,null,null,null,null,null,null,null,null,null,null,null,null,null,null,{"$f":"'Annual Data'!$AD$15","v":1},{"$f":"'Annual Data'!$AG$15","v":0.1},0,0]
[null,null,null,null,null,null,null,null,null,null,null,null,null,null,null,null,null,null,null,null,null,null,null,null,null,null,null,null,null,null,null,null,{"$f":"'Annual Data'!$AD$15","v":1},{"$f":"'Annual Data'!$AG$15","v":0.1},0,0]
[null,null,null,null,null,null,null,null,null,null,null,null,null,null,null,null,null,null,null,null,null,null,null,null,null,null,null,null,null,null,null,null,{"$f":"'Annual Data'!$AD$15","v":1},{"$f":"'Annual Data'!$AG$15","v":0.1},0,0]
[null,null,null,null,null,null,null,null,null,null,null,null,null,null,null,null,null,null,null,null,null,null,null,null,null,null,null,null,null,null,null,null,{"$f":"'Annual Data'!$AD$15","v":1},{"$f":"'Annual Data'!$AG$15","v":0.1},0,0]
[null,null,null,null,null,null,null,null,null,null,null,null,null,null,null,null,null,null,null,null,null,null,null,null,null,null,null,null,null,null,null,null,{"$f":"'Annual Data'!$AD$15","v":1},{"$f":"'Annual Data'!$AG$15","v":0.1},0,0]
[null,null,null,null,null,null,null,null,null,null,null,null,null,null,null,null,null,null,null,null,null,null,null,null,null,null,null,null,null,null,null,null,{"$f":"'Annual Data'!$AD$15","v":1},{"$f":"'Annual Data'!$AG$15","v":0.1},0,0]
[null,null,null,null,null,null,null,null,null,null,null,null,null,null,null,null,null,null,null,null,null,null,null,null,null,null,null,null,null,null,null,null,{"$f":"'Annual Data'!$AD$15","v":1},{"$f":"'Annual Data'!$AG$15","v":0.1},0,0]
[null,null,null,null,null,null,null,null,null,null,null,null,null,null,null,null,null,null,null,null,null,null,null,null,null,null,null,null,null,null,null,null,{"$f":"'Annual Data'!$AD$15","v":1},{"$f":"'Annual Data'!$AG$15","v":0.1},0,0]
[null,null,null,null,null,null,null,null,null,null,null,null,null,null,null,null,null,null,null,null,null,null,null,null,null,null,null,null,null,null,null,null,{"$f":"'Annual Data'!$AD$15","v":1},{"$f":"'Annual Data'!$AG$15","v":0.1},0,0]
[null,null,null,null,null,null,null,null,null,null,null,null,null,null,null,null,null,null,null,null,null,null,null,null,null,null,null,null,null,null,null,null,{"$f":"'Annual Data'!$AD$15","v":1},{"$f":"'Annual Data'!$AG$15","v":0.1},0,0]
[null,null,null,null,null,null,null,null,null,null,null,null,null,null,null,null,null,null,null,null,null,null,null,null,null,null,null,null,null,null,null,null,{"$f":"'Annual Data'!$AD$15","v":1},{"$f":"'Annual Data'!$AG$15","v":0.1},0,0]
[null,null,null,null,null,null,null,null,null,null,null,null,null,null,null,null,null,null,null,null,null,null,null,null,null,null,null,null,null,null,null,null,{"$f":"'Annual Data'!$AD$15","v":1},{"$f":"'Annual Data'!$AG$15","v":0.1},0,0]
[null,null,null,null,null,null,null,null,null,null,null,null,null,null,null,null,null,null,null,null,null,null,null,null,null,null,null,null,null,null,null,null,{"$f":"'Annual Data'!$AD$15","v":1},{"$f":"'Annual Data'!$AG$15","v":0.1},0,0]
[null,null,null,null,null,null,null,null,null,null,null,null,null,null,null,null,null,null,null,null,null,null,null,null,null,null,null,null,null,null,null,null,{"$f":"'Annual Data'!$AD$15","v":1},{"$f":"'Annual Data'!$AG$15","v":0.1},0,0]
[null,null,null,null,null,null,null,null,null,null,null,null,null,null,null,null,null,null,null,null,null,null,null,null,null,null,null,null,null,null,null,null,{"$f":"'Annual Data'!$AD$15","v":1},{"$f":"'Annual Data'!$AG$15","v":0.1},{"$f":"MAX(C1930:F1930)","v":0},{"$f":"MAX(G1930:R1930)","v":0}]
[null,null,null,null,null,null,null,null,null,null,null,null,null,null,null,null,null,null,null,null,null,null,null,null,null,null,null,null,null,null,null,null,{"$f":"'Annual Data'!$AD$15","v":1},{"$f":"'Annual Data'!$AG$15","v":0.1},0,0]
[null,null,null,null,null,null,null,null,null,null,null,null,null,null,null,null,null,null,null,null,null,null,null,null,null,null,null,null,null,null,null,null,{"$f":"'Annual Data'!$AD$15","v":1},{"$f":"'Annual Data'!$AG$15","v":0.1},0,0]
[null,null,null,null,null,null,null,null,null,null,null,null,null,null,null,null,null,null,null,null,null,null,null,null,null,null,null,null,null,null,null,null,{"$f":"'Annual Data'!$AD$15","v":1},{"$f":"'Annual Data'!$AG$15","v":0.1},0,0]
[null,null,null,null,null,null,null,null,null,null,null,null,null,null,null,null,null,null,null,null,null,null,null,null,null,null,null,null,null,null,null,null,{"$f":"'Annual Data'!$AD$15","v":1},{"$f":"'Annual Data'!$AG$15","v":0.1},0,0]
[null,null,null,null,null,null,null,null,null,null,null,null,null,null,null,null,null,null,null,null,null,null,null,null,null,null,null,null,null,null,null,null,{"$f":"'Annual Data'!$AD$15","v":1},{"$f":"'Annual Data'!$AG$15","v":0.1},0,0]
[null,null,null,null,null,null,null,null,null,null,null,null,null,null,null,null,null,null,null,null,null,null,null,null,null,null,null,null,null,null,null,null,{"$f":"'Annual Data'!$AD$15","v":1},{"$f":"'Annual Data'!$AG$15","v":0.1},0,0]
[null,null,null,null,null,null,null,null,null,null,null,null,null,null,null,null,null,null,null,null,null,null,null,null,null,null,null,null,null,null,null,null,{"$f":"'Annual Data'!$AD$15","v":1},{"$f":"'Annual Data'!$AG$15","v":0.1},0,0]
[null,null,null,null,null,null,null,null,null,null,null,null,null,null,null,null,null,null,null,null,null,null,null,null,null,null,null,null,null,null,null,null,{"$f":"'Annual Data'!$AD$15","v":1},{"$f":"'Annual Data'!$AG$15","v":0.1},0,0]
[null,null,null,null,null,null,null,null,null,null,null,null,null,null,null,null,null,null,null,null,null,null,null,null,null,null,null,null,null,null,null,null,{"$f":"'Annual Data'!$AD$15","v":1},{"$f":"'Annual Data'!$AG$15","v":0.1},0,0]
[null,null,null,null,null,null,null,null,null,null,null,null,null,null,null,null,null,null,null,null,null,null,null,null,null,null,null,null,null,null,null,null,{"$f":"'Annual Data'!$AD$15","v":1},{"$f":"'Annual Data'!$AG$15","v":0.1},0,0]
[null,null,null,null,null,null,null,null,null,null,null,null,null,null,null,null,null,null,null,null,null,null,null,null,null,null,null,null,null,null,null,null,{"$f":"'Annual Data'!$AD$15","v":1},{"$f":"'Annual Data'!$AG$15","v":0.1},0,0]
[null,null,null,null,null,null,null,null,null,null,null,null,null,null,null,null,null,null,null,null,null,null,null,null,null,null,null,null,null,null,null,null,{"$f":"'Annual Data'!$AD$15","v":1},{"$f":"'Annual Data'!$AG$15","v":0.1},0,0]
[null,null,null,null,null,null,null,null,null,null,null,null,null,null,null,null,null,null,null,null,null,null,null,null,null,null,null,null,null,null,null,null,{"$f":"'Annual Data'!$AD$15","v":1},{"$f":"'Annual Data'!$AG$15","v":0.1},0,0]
[null,null,null,null,null,null,null,null,null,null,null,null,null,null,null,null,null,null,null,null,null,null,null,null,null,null,null,null,null,null,null,null,{"$f":"'Annual Data'!$AD$15","v":1},{"$f":"'Annual Data'!$AG$15","v":0.1},0,0]
[null,null,null,null,null,null,null,null,null,null,null,null,null,null,null,null,null,null,null,null,null,null,null,null,null,null,null,null,null,null,null,null,{"$f":"'Annual Data'!$AD$15","v":1},{"$f":"'Annual Data'!$AG$15","v":0.1},0,0]
[null,null,null,null,null,null,null,null,null,null,null,null,null,null,null,null,null,null,null,null,null,null,null,null,null,null,null,null,null,null,null,null,{"$f":"'Annual Data'!$AD$15","v":1},{"$f":"'Annual Data'!$AG$15","v":0.1},0,0]
[null,null,null,null,null,null,null,null,null,null,null,null,null,null,null,null,null,null,null,null,null,null,null,null,null,null,null,null,null,null,null,null,{"$f":"'Annual Data'!$AD$15","v":1},{"$f":"'Annual Data'!$AG$15","v":0.1},0,0]
[null,null,null,null,null,null,null,null,null,null,null,null,null,null,null,null,null,null,null,null,null,null,null,null,null,null,null,null,null,null,null,null,{"$f":"'Annual Data'!$AD$15","v":1},{"$f":"'Annual Data'!$AG$15","v":0.1},0,0]
[null,null,null,null,null,null,null,null,null,null,null,null,null,null,null,null,null,null,null,null,null,null,null,null,null,null,null,null,null,null,null,null,{"$f":"'Annual Data'!$AD$15","v":1},{"$f":"'Annual Data'!$AG$15","v":0.1},0,0]
[null,null,null,null,null,null,null,null,null,null,null,null,null,null,null,null,null,null,null,null,null,null,null,null,null,null,null,null,null,null,null,null,{"$f":"'Annual Data'!$AD$15","v":1},{"$f":"'Annual Data'!$AG$15","v":0.1},0,0]
[null,null,null,null,null,null,null,null,null,null,null,null,null,null,null,null,null,null,null,null,null,null,null,null,null,null,null,null,null,null,null,null,{"$f":"'Annual Data'!$AD$15","v":1},{"$f":"'Annual Data'!$AG$15","v":0.1},0,0]
[null,null,null,null,null,null,null,null,null,null,null,null,null,null,null,null,null,null,null,null,null,null,null,null,null,null,null,null,null,null,null,null,{"$f":"'Annual Data'!$AD$15","v":1},{"$f":"'Annual Data'!$AG$15","v":0.1},0,0]
[null,null,null,null,null,null,null,null,null,null,null,null,null,null,null,null,null,null,null,null,null,null,null,null,null,null,null,null,null,null,null,null,{"$f":"'Annual Data'!$AD$15","v":1},{"$f":"'Annual Data'!$AG$15","v":0.1},0,0]
[null,null,null,null,null,null,null,null,null,null,null,null,null,null,null,null,null,null,null,null,null,null,null,null,null,null,null,null,null,null,null,null,{"$f":"'Annual Data'!$AD$15","v":1},{"$f":"'Annual Data'!$AG$15","v":0.1},0,0]
[null,null,null,null,null,null,null,null,null,null,null,null,null,null,null,null,null,null,null,null,null,null,null,null,null,null,null,null,null,null,null,null,{"$f":"'Annual Data'!$AD$15","v":1},{"$f":"'Annual Data'!$AG$15","v":0.1},0,0]
[null,null,null,null,null,null,null,null,null,null,null,null,null,null,null,null,null,null,null,null,null,null,null,null,null,null,null,null,null,null,null,null,{"$f":"'Annual Data'!$AD$15","v":1},{"$f":"'Annual Data'!$AG$15","v":0.1},0,0]
[null,null,null,null,null,null,null,null,null,null,null,null,null,null,null,null,null,null,null,null,null,null,null,null,null,null,null,null,null,null,null,null,{"$f":"'Annual Data'!$AD$15","v":1},{"$f":"'Annual Data'!$AG$15","v":0.1},0,0]
[null,null,null,null,null,null,null,null,null,null,null,null,null,null,null,null,null,null,null,null,null,null,null,null,null,null,null,null,null,null,null,null,{"$f":"'Annual Data'!$AD$15","v":1},{"$f":"'Annual Data'!$AG$15","v":0.1},0,0]
[null,null,null,null,null,null,null,null,null,null,null,null,null,null,null,null,null,null,null,null,null,null,null,null,null,null,null,null,null,null,null,null,{"$f":"'Annual Data'!$AD$15","v":1},{"$f":"'Annual Data'!$AG$15","v":0.1},0,0]
[null,null,null,null,null,null,null,null,null,null,null,null,null,null,null,null,null,null,null,null,null,null,null,null,null,null,null,null,null,null,null,null,{"$f":"'Annual Data'!$AD$15","v":1},{"$f":"'Annual Data'!$AG$15","v":0.1},0,0]
[null,null,null,null,null,null,null,null,null,null,null,null,null,null,null,null,null,null,null,null,null,null,null,null,null,null,null,null,null,null,null,null,{"$f":"'Annual Data'!$AD$15","v":1},{"$f":"'Annual Data'!$AG$15","v":0.1},0,0]
[null,null,null,null,null,null,null,null,null,null,null,null,null,null,null,null,null,null,null,null,null,null,null,null,null,null,null,null,null,null,null,null,{"$f":"'Annual Data'!$AD$15","v":1},{"$f":"'Annual Data'!$AG$15","v":0.1},0,0]
[null,null,null,null,null,null,null,null,null,null,null,null,null,null,null,null,null,null,null,null,null,null,null,null,null,null,null,null,null,null,null,null,{"$f":"'Annual Data'!$AD$15","v":1},{"$f":"'Annual Data'!$AG$15","v":0.1},0,0]
[null,null,null,null,null,null,null,null,null,null,null,null,null,null,null,null,null,null,null,null,null,null,null,null,null,null,null,null,null,null,null,null,{"$f":"'Annual Data'!$AD$15","v":1},{"$f":"'Annual Data'!$AG$15","v":0.1},0,0]
[null,null,null,null,null,null,null,null,null,null,null,null,null,null,null,null,null,null,null,null,null,null,null,null,null,null,null,null,null,null,null,null,{"$f":"'Annual Data'!$AD$15","v":1},{"$f":"'Annual Data'!$AG$15","v":0.1},0,0]
[null,null,null,null,null,null,null,null,null,null,null,null,null,null,null,null,null,null,null,null,null,null,null,null,null,null,null,null,null,null,null,null,{"$f":"'Annual Data'!$AD$15","v":1},{"$f":"'Annual Data'!$AG$15","v":0.1},0,0]
[null,null,null,null,null,null,null,null,null,null,null,null,null,null,null,null,null,null,null,null,null,null,null,null,null,null,null,null,null,null,null,null,{"$f":"'Annual Data'!$AD$15","v":1},{"$f":"'Annual Data'!$AG$15","v":0.1},0,0]
[null,null,null,null,null,null,null,null,null,null,null,null,null,null,null,null,null,null,null,null,null,null,null,null,null,null,null,null,null,null,null,null,{"$f":"'Annual Data'!$AD$15","v":1},{"$f":"'Annual Data'!$AG$15","v":0.1},0,0]
[null,null,null,null,null,null,null,null,null,null,null,null,null,null,null,null,null,null,null,null,null,null,null,null,null,null,null,null,null,null,null,null,{"$f":"'Annual Data'!$AD$15","v":1},{"$f":"'Annual Data'!$AG$15","v":0.1},0,0]
[null,null,null,null,null,null,null,null,null,null,null,null,null,null,null,null,null,null,null,null,null,null,null,null,null,null,null,null,null,null,null,null,{"$f":"'Annual Data'!$AD$15","v":1},{"$f":"'Annual Data'!$AG$15","v":0.1},0,0]
[null,null,null,null,null,null,null,null,null,null,null,null,null,null,null,null,null,null,null,null,null,null,null,null,null,null,null,null,null,null,null,null,{"$f":"'Annual Data'!$AD$15","v":1},{"$f":"'Annual Data'!$AG$15","v":0.1},0,0]
[null,null,null,null,null,null,null,null,null,null,null,null,null,null,null,null,null,null,null,null,null,null,null,null,null,null,null,null,null,null,null,null,{"$f":"'Annual Data'!$AD$15","v":1},{"$f":"'Annual Data'!$AG$15","v":0.1},0,0]
[null,null,null,null,null,null,null,null,null,null,null,null,null,null,null,null,null,null,null,null,null,null,null,null,null,null,null,null,null,null,null,null,{"$f":"'Annual Data'!$AD$15","v":1},{"$f":"'Annual Data'!$AG$15","v":0.1},0,0]
[null,null,null,null,null,null,null,null,null,null,null,null,null,null,null,null,null,null,null,null,null,null,null,null,null,null,null,null,null,null,null,null,{"$f":"'Annual Data'!$AD$15","v":1},{"$f":"'Annual Data'!$AG$15","v":0.1},0,0]
[null,null,null,null,null,null,null,null,null,null,null,null,null,null,null,null,null,null,null,null,null,null,null,null,null,null,null,null,null,null,null,null,{"$f":"'Annual Data'!$AD$15","v":1},{"$f":"'Annual Data'!$AG$15","v":0.1},0,0]
[null,null,null,null,null,null,null,null,null,null,null,null,null,null,null,null,null,null,null,null,null,null,null,null,null,null,null,null,null,null,null,null,{"$f":"'Annual Data'!$AD$15","v":1},{"$f":"'Annual Data'!$AG$15","v":0.1},0,0]
[null,null,null,null,null,null,null,null,null,null,null,null,null,null,null,null,null,null,null,null,null,null,null,null,null,null,null,null,null,null,null,null,{"$f":"'Annual Data'!$AD$15","v":1},{"$f":"'Annual Data'!$AG$15","v":0.1},0,0]
[null,null,null,null,null,null,null,null,null,null,null,null,null,null,null,null,null,null,null,null,null,null,null,null,null,null,null,null,null,null,null,null,{"$f":"'Annual Data'!$AD$15","v":1},{"$f":"'Annual Data'!$AG$15","v":0.1},0,0]
[null,null,null,null,null,null,null,null,null,null,null,null,null,null,null,null,null,null,null,null,null,null,null,null,null,null,null,null,null,null,null,null,{"$f":"'Annual Data'!$AD$15","v":1},{"$f":"'Annual Data'!$AG$15","v":0.1},0,0]
[null,null,null,null,null,null,null,null,null,null,null,null,null,null,null,null,null,null,null,null,null,null,null,null,null,null,null,null,null,null,null,null,{"$f":"'Annual Data'!$AD$15","v":1},{"$f":"'Annual Data'!$AG$15","v":0.1},0,0]
[null,null,null,null,null,null,null,null,null,null,null,null,null,null,null,null,null,null,null,null,null,null,null,null,null,null,null,null,null,null,null,null,{"$f":"'Annual Data'!$AD$15","v":1},{"$f":"'Annual Data'!$AG$15","v":0.1},0,0]
[null,null,null,null,null,null,null,null,null,null,null,null,null,null,null,null,null,null,null,null,null,null,null,null,null,null,null,null,null,null,null,null,{"$f":"'Annual Data'!$AD$15","v":1},{"$f":"'Annual Data'!$AG$15","v":0.1},0,0]
[null,null,null,null,null,null,null,null,null,null,null,null,null,null,null,null,null,null,null,null,null,null,null,null,null,null,null,null,null,null,null,null,{"$f":"'Annual Data'!$AD$15","v":1},{"$f":"'Annual Data'!$AG$15","v":0.1},0,0]
[null,null,null,null,null,null,null,null,null,null,null,null,null,null,null,null,null,null,null,null,null,null,null,null,null,null,null,null,null,null,null,null,{"$f":"'Annual Data'!$AD$15","v":1},{"$f":"'Annual Data'!$AG$15","v":0.1},0,0]
[null,null,null,null,null,null,null,null,null,null,null,null,null,null,null,null,null,null,null,null,null,null,null,null,null,null,null,null,null,null,null,null,{"$f":"'Annual Data'!$AD$15","v":1},{"$f":"'Annual Data'!$AG$15","v":0.1},0,0]
[null,null,null,null,null,null,null,null,null,null,null,null,null,null,null,null,null,null,null,null,null,null,null,null,null,null,null,null,null,null,null,null,{"$f":"'Annual Data'!$AD$15","v":1},{"$f":"'Annual Data'!$AG$15","v":0.1},0,0]
[null,null,null,null,null,null,null,null,null,null,null,null,null,null,null,null,null,null,null,null,null,null,null,null,null,null,null,null,null,null,null,null,{"$f":"'Annual Data'!$AD$15","v":1},{"$f":"'Annual Data'!$AG$15","v":0.1},0,0]
[null,null,null,null,null,null,null,null,null,null,null,null,null,null,null,null,null,null,null,null,null,null,null,null,null,null,null,null,null,null,null,null,{"$f":"'Annual Data'!$AD$15","v":1},{"$f":"'Annual Data'!$AG$15","v":0.1},0,0]
[null,null,null,null,null,null,null,null,null,null,null,null,null,null,null,null,null,null,null,null,null,null,null,null,null,null,null,null,null,null,null,null,{"$f":"'Annual Data'!$AD$15","v":1},{"$f":"'Annual Data'!$AG$15","v":0.1},0,0]
[null,null,null,null,null,null,null,null,null,null,null,null,null,null,null,null,null,null,null,null,null,null,null,null,null,null,null,null,null,null,null,null,{"$f":"'Annual Data'!$AD$15","v":1},{"$f":"'Annual Data'!$AG$15","v":0.1},0,0]
[null,null,null,null,null,null,null,null,null,null,null,null,null,null,null,null,null,null,null,null,null,null,null,null,null,null,null,null,null,null,null,null,{"$f":"'Annual Data'!$AD$15","v":1},{"$f":"'Annual Data'!$AG$15","v":0.1},0,0]
[null,null,null,null,null,null,null,null,null,null,null,null,null,null,null,null,null,null,null,null,null,null,null,null,null,null,null,null,null,null,null,null,{"$f":"'Annual Data'!$AD$15","v":1},{"$f":"'Annual Data'!$AG$15","v":0.1},0,0]
[null,null,null,null,null,null,null,null,null,null,null,null,null,null,null,null,null,null,null,null,null,null,null,null,null,null,null,null,null,null,null,null,{"$f":"'Annual Data'!$AD$15","v":1},{"$f":"'Annual Data'!$AG$15","v":0.1},0,0]
[null,null,null,null,null,null,null,null,null,null,null,null,null,null,null,null,null,null,null,null,null,null,null,null,null,null,null,null,null,null,null,null,{"$f":"'Annual Data'!$AD$15","v":1},{"$f":"'Annual Data'!$AG$15","v":0.1},0,0]
[null,null,null,null,null,null,null,null,null,null,null,null,null,null,null,null,null,null,null,null,null,null,null,null,null,null,null,null,null,null,null,null,{"$f":"'Annual Data'!$AD$15","v":1},{"$f":"'Annual Data'!$AG$15","v":0.1},0,0]
[null,null,null,null,null,null,null,null,null,null,null,null,null,null,null,null,null,null,null,null,null,null,null,null,null,null,null,null,null,null,null,null,{"$f":"'Annual Data'!$AD$15","v":1},{"$f":"'Annual Data'!$AG$15","v":0.1},0,0]
[null,null,null,null,null,null,null,null,null,null,null,null,null,null,null,null,null,null,null,null,null,null,null,null,null,null,null,null,null,null,null,null,{"$f":"'Annual Data'!$AD$15","v":1},{"$f":"'Annual Data'!$AG$15","v":0.1},0,0]
[null,null,null,null,null,null,null,null,null,null,null,null,null,null,null,null,null,null,null,null,null,null,null,null,null,null,null,null,null,null,null,null,{"$f":"'Annual Data'!$AD$15","v":1},{"$f":"'Annual Data'!$AG$15","v":0.1},0,0]
[null,null,null,null,null,null,null,null,null,null,null,null,null,null,null,null,null,null,null,null,null,null,null,null,null,null,null,null,null,null,null,null,{"$f":"'Annual Data'!$AD$15","v":1},{"$f":"'Annual Data'!$AG$15","v":0.1},0,0]
[null,null,null,null,null,null,null,null,null,null,null,null,null,null,null,null,null,null,null,null,null,null,null,null,null,null,null,null,null,null,null,null,{"$f":"'Annual Data'!$AD$15","v":1},{"$f":"'Annual Data'!$AG$15","v":0.1},0,0]
[null,null,null,null,null,null,null,null,null,null,null,null,null,null,null,null,null,null,null,null,null,null,null,null,null,null,null,null,null,null,null,null,{"$f":"'Annual Data'!$AD$15","v":1},{"$f":"'Annual Data'!$AG$15","v":0.1},{"$f":"MAX(C2058:F2058)","v":0},{"$f":"MAX(G2058:R2058)","v":0}]
[null,null,null,null,null,null,null,null,null,null,null,null,null,null,null,null,null,null,null,null,null,null,null,null,null,null,null,null,null,null,null,null,{"$f":"'Annual Data'!$AD$15","v":1},{"$f":"'Annual Data'!$AG$15","v":0.1},0,0]
[null,null,null,null,null,null,null,null,null,null,null,null,null,null,null,null,null,null,null,null,null,null,null,null,null,null,null,null,null,null,null,null,{"$f":"'Annual Data'!$AD$15","v":1},{"$f":"'Annual Data'!$AG$15","v":0.1},0,0]
[null,null,null,null,null,null,null,null,null,null,null,null,null,null,null,null,null,null,null,null,null,null,null,null,null,null,null,null,null,null,null,null,{"$f":"'Annual Data'!$AD$15","v":1},{"$f":"'Annual Data'!$AG$15","v":0.1},0,0]
[null,null,null,null,null,null,null,null,null,null,null,null,null,null,null,null,null,null,null,null,null,null,null,null,null,null,null,null,null,null,null,null,{"$f":"'Annual Data'!$AD$15","v":1},{"$f":"'Annual Data'!$AG$15","v":0.1},0,0]
[null,null,null,null,null,null,null,null,null,null,null,null,null,null,null,null,null,null,null,null,null,null,null,null,null,null,null,null,null,null,null,null,{"$f":"'Annual Data'!$AD$15","v":1},{"$f":"'Annual Data'!$AG$15","v":0.1},0,0]
[null,null,null,null,null,null,null,null,null,null,null,null,null,null,null,null,null,null,null,null,null,null,null,null,null,null,null,null,null,null,null,null,{"$f":"'Annual Data'!$AD$15","v":1},{"$f":"'Annual Data'!$AG$15","v":0.1},0,0]
[null,null,null,null,null,null,null,null,null,null,null,null,null,null,null,null,null,null,null,null,null,null,null,null,null,null,null,null,null,null,null,null,{"$f":"'Annual Data'!$AD$15","v":1},{"$f":"'Annual Data'!$AG$15","v":0.1},0,0]
[null,null,null,null,null,null,null,null,null,null,null,null,null,null,null,null,null,null,null,null,null,null,null,null,null,null,null,null,null,null,null,null,{"$f":"'Annual Data'!$AD$15","v":1},{"$f":"'Annual Data'!$AG$15","v":0.1},0,0]
[null,null,null,null,null,null,null,null,null,null,null,null,null,null,null,null,null,null,null,null,null,null,null,null,null,null,null,null,null,null,null,null,{"$f":"'Annual Data'!$AD$15","v":1},{"$f":"'Annual Data'!$AG$15","v":0.1},0,0]
[null,null,null,null,null,null,null,null,null,null,null,null,null,null,null,null,null,null,null,null,null,null,null,null,null,null,null,null,null,null,null,null,{"$f":"'Annual Data'!$AD$15","v":1},{"$f":"'Annual Data'!$AG$15","v":0.1},0,0]
[null,null,null,null,null,null,null,null,null,null,null,null,null,null,null,null,null,null,null,null,null,null,null,null,null,null,null,null,null,null,null,null,{"$f":"'Annual Data'!$AD$15","v":1},{"$f":"'Annual Data'!$AG$15","v":0.1},0,0]
[null,null,null,null,null,null,null,null,null,null,null,null,null,null,null,null,null,null,null,null,null,null,null,null,null,null,null,null,null,null,null,null,{"$f":"'Annual Data'!$AD$15","v":1},{"$f":"'Annual Data'!$AG$15","v":0.1},0,0]
[null,null,null,null,null,null,null,null,null,null,null,null,null,null,null,null,null,null,null,null,null,null,null,null,null,null,null,null,null,null,null,null,{"$f":"'Annual Data'!$AD$15","v":1},{"$f":"'Annual Data'!$AG$15","v":0.1},0,0]
[null,null,null,null,null,null,null,null,null,null,null,null,null,null,null,null,null,null,null,null,null,null,null,null,null,null,null,null,null,null,null,null,{"$f":"'Annual Data'!$AD$15","v":1},{"$f":"'Annual Data'!$AG$15","v":0.1},0,0]
[null,null,null,null,null,null,null,null,null,null,null,null,null,null,null,null,null,null,null,null,null,null,null,null,null,null,null,null,null,null,null,null,{"$f":"'Annual Data'!$AD$15","v":1},{"$f":"'Annual Data'!$AG$15","v":0.1},0,0]
[null,null,null,null,null,null,null,null,null,null,null,null,null,null,null,null,null,null,null,null,null,null,null,null,null,null,null,null,null,null,null,null,{"$f":"'Annual Data'!$AD$15","v":1},{"$f":"'Annual Data'!$AG$15","v":0.1},0,0]
[null,null,null,null,null,null,null,null,null,null,null,null,null,null,null,null,null,null,null,null,null,null,null,null,null,null,null,null,null,null,null,null,{"$f":"'Annual Data'!$AD$15","v":1},{"$f":"'Annual Data'!$AG$15","v":0.1},0,0]
[null,null,null,null,null,null,null,null,null,null,null,null,null,null,null,null,null,null,null,null,null,null,null,null,null,null,null,null,null,null,null,null,{"$f":"'Annual Data'!$AD$15","v":1},{"$f":"'Annual Data'!$AG$15","v":0.1},0,0]
[null,null,null,null,null,null,null,null,null,null,null,null,null,null,null,null,null,null,null,null,null,null,null,null,null,null,null,null,null,null,null,null,{"$f":"'Annual Data'!$AD$15","v":1},{"$f":"'Annual Data'!$AG$15","v":0.1},0,0]
[null,null,null,null,null,null,null,null,null,null,null,null,null,null,null,null,null,null,null,null,null,null,null,null,null,null,null,null,null,null,null,null,{"$f":"'Annual Data'!$AD$15","v":1},{"$f":"'Annual Data'!$AG$15","v":0.1},0,0]
[null,null,null,null,null,null,null,null,null,null,null,null,null,null,null,null,null,null,null,null,null,null,null,null,null,null,null,null,null,null,null,null,{"$f":"'Annual Data'!$AD$15","v":1},{"$f":"'Annual Data'!$AG$15","v":0.1},0,0]
[null,null,null,null,null,null,null,null,null,null,null,null,null,null,null,null,null,null,null,null,null,null,null,null,null,null,null,null,null,null,null,null,{"$f":"'Annual Data'!$AD$15","v":1},{"$f":"'Annual Data'!$AG$15","v":0.1},0,0]
[null,null,null,null,null,null,null,null,null,null,null,null,null,null,null,null,null,null,null,null,null,null,null,null,null,null,null,null,null,null,null,null,{"$f":"'Annual Data'!$AD$15","v":1},{"$f":"'Annual Data'!$AG$15","v":0.1},0,0]
[null,null,null,null,null,null,null,null,null,null,null,null,null,null,null,null,null,null,null,null,null,null,null,null,null,null,null,null,null,null,null,null,{"$f":"'Annual Data'!$AD$15","v":1},{"$f":"'Annual Data'!$AG$15","v":0.1},0,0]
[null,null,null,null,null,null,null,null,null,null,null,null,null,null,null,null,null,null,null,null,null,null,null,null,null,null,null,null,null,null,null,null,{"$f":"'Annual Data'!$AD$15","v":1},{"$f":"'Annual Data'!$AG$15","v":0.1},0,0]
[null,null,null,null,null,null,null,null,null,null,null,null,null,null,null,null,null,null,null,null,null,null,null,null,null,null,null,null,null,null,null,null,{"$f":"'Annual Data'!$AD$15","v":1},{"$f":"'Annual Data'!$AG$15","v":0.1},0,0]
[null,null,null,null,null,null,null,null,null,null,null,null,null,null,null,null,null,null,null,null,null,null,null,null,null,null,null,null,null,null,null,null,{"$f":"'Annual Data'!$AD$15","v":1},{"$f":"'Annual Data'!$AG$15","v":0.1},0,0]
[null,null,null,null,null,null,null,null,null,null,null,null,null,null,null,null,null,null,null,null,null,null,null,null,null,null,null,null,null,null,null,null,{"$f":"'Annual Data'!$AD$15","v":1},{"$f":"'Annual Data'!$AG$15","v":0.1},0,0]
[null,null,null,null,null,null,null,null,null,null,null,null,null,null,null,null,null,null,null,null,null,null,null,null,null,null,null,null,null,null,null,null,{"$f":"'Annual Data'!$AD$15","v":1},{"$f":"'Annual Data'!$AG$15","v":0.1},0,0]
[null,null,null,null,null,null,null,null,null,null,null,null,null,null,null,null,null,null,null,null,null,null,null,null,null,null,null,null,null,null,null,null,{"$f":"'Annual Data'!$AD$15","v":1},{"$f":"'Annual Data'!$AG$15","v":0.1},0,0]
[null,null,null,null,null,null,null,null,null,null,null,null,null,null,null,null,null,null,null,null,null,null,null,null,null,null,null,null,null,null,null,null,{"$f":"'Annual Data'!$AD$15","v":1},{"$f":"'Annual Data'!$AG$15","v":0.1},0,0]
[null,null,null,null,null,null,null,null,null,null,null,null,null,null,null,null,null,null,null,null,null,null,null,null,null,null,null,null,null,null,null,null,{"$f":"'Annual Data'!$AD$15","v":1},{"$f":"'Annual Data'!$AG$15","v":0.1},0,0]
[null,null,null,null,null,null,null,null,null,null,null,null,null,null,null,null,null,null,null,null,null,null,null,null,null,null,null,null,null,null,null,null,{"$f":"'Annual Data'!$AD$15","v":1},{"$f":"'Annual Data'!$AG$15","v":0.1},0,0]
[null,null,null,null,null,null,null,null,null,null,null,null,null,null,null,null,null,null,null,null,null,null,null,null,null,null,null,null,null,null,null,null,{"$f":"'Annual Data'!$AD$15","v":1},{"$f":"'Annual Data'!$AG$15","v":0.1},0,0]
[null,null,null,null,null,null,null,null,null,null,null,null,null,null,null,null,null,null,null,null,null,null,null,null,null,null,null,null,null,null,null,null,{"$f":"'Annual Data'!$AD$15","v":1},{"$f":"'Annual Data'!$AG$15","v":0.1},{"$f":"MAX(C2122:F2122)","v":0},{"$f":"MAX(G2122:R2122)","v":0}]
[null,null,null,null,null,null,null,null,null,null,null,null,null,null,null,null,null,null,null,null,null,null,null,null,null,null,null,null,null,null,null,null,{"$f":"'Annual Data'!$AD$15","v":1},{"$f":"'Annual Data'!$AG$15","v":0.1},0,0]
[null,null,null,null,null,null,null,null,null,null,null,null,null,null,null,null,null,null,null,null,null,null,null,null,null,null,null,null,null,null,null,null,{"$f":"'Annual Data'!$AD$15","v":1},{"$f":"'Annual Data'!$AG$15","v":0.1},0,0]
[null,null,null,null,null,null,null,null,null,null,null,null,null,null,null,null,null,null,null,null,null,null,null,null,null,null,null,null,null,null,null,null,{"$f":"'Annual Data'!$AD$15","v":1},{"$f":"'Annual Data'!$AG$15","v":0.1},0,0]
[null,null,null,null,null,null,null,null,null,null,null,null,null,null,null,null,null,null,null,null,null,null,null,null,null,null,null,null,null,null,null,null,{"$f":"'Annual Data'!$AD$15","v":1},{"$f":"'Annual Data'!$AG$15","v":0.1},0,0]
[null,null,null,null,null,null,null,null,null,null,null,null,null,null,null,null,null,null,null,null,null,null,null,null,null,null,null,null,null,null,null,null,{"$f":"'Annual Data'!$AD$15","v":1},{"$f":"'Annual Data'!$AG$15","v":0.1},0,0]
[null,null,null,null,null,null,null,null,null,null,null,null,null,null,null,null,null,null,null,null,null,null,null,null,null,null,null,null,null,null,null,null,{"$f":"'Annual Data'!$AD$15","v":1},{"$f":"'Annual Data'!$AG$15","v":0.1},0,0]
[null,null,null,null,null,null,null,null,null,null,null,null,null,null,null,null,null,null,null,null,null,null,null,null,null,null,null,null,null,null,null,null,{"$f":"'Annual Data'!$AD$15","v":1},{"$f":"'Annual Data'!$AG$15","v":0.1},0,0]
[null,null,null,null,null,null,null,null,null,null,null,null,null,null,null,null,null,null,null,null,null,null,null,null,null,null,null,null,null,null,null,null,{"$f":"'Annual Data'!$AD$15","v":1},{"$f":"'Annual Data'!$AG$15","v":0.1},0,0]
[null,null,null,null,null,null,null,null,null,null,null,null,null,null,null,null,null,null,null,null,null,null,null,null,null,null,null,null,null,null,null,null,{"$f":"'Annual Data'!$AD$15","v":1},{"$f":"'Annual Data'!$AG$15","v":0.1},0,0]
[null,null,null,null,null,null,null,null,null,null,null,null,null,null,null,null,null,null,null,null,null,null,null,null,null,null,null,null,null,null,null,null,{"$f":"'Annual Data'!$AD$15","v":1},{"$f":"'Annual Data'!$AG$15","v":0.1},0,0]
[null,null,null,null,null,null,null,null,null,null,null,null,null,null,null,null,null,null,null,null,null,null,null,null,null,null,null,null,null,null,null,null,{"$f":"'Annual Data'!$AD$15","v":1},{"$f":"'Annual Data'!$AG$15","v":0.1},0,0]
[null,null,null,null,null,null,null,null,null,null,null,null,null,null,null,null,null,null,null,null,null,null,null,null,null,null,null,null,null,null,null,null,{"$f":"'Annual Data'!$AD$15","v":1},{"$f":"'Annual Data'!$AG$15","v":0.1},0,0]
[null,null,null,null,null,null,null,null,null,null,null,null,null,null,null,null,null,null,null,null,null,null,null,null,null,null,null,null,null,null,null,null,{"$f":"'Annual Data'!$AD$15","v":1},{"$f":"'Annual Data'!$AG$15","v":0.1},0,0]
[null,null,null,null,null,null,null,null,null,null,null,null,null,null,null,null,null,null,null,null,null,null,null,null,null,null,null,null,null,null,null,null,{"$f":"'Annual Data'!$AD$15","v":1},{"$f":"'Annual Data'!$AG$15","v":0.1},0,0]
[null,null,null,null,null,null,null,null,null,null,null,null,null,null,null,null,null,null,null,null,null,null,null,null,null,null,null,null,null,null,null,null,{"$f":"'Annual Data'!$AD$15","v":1},{"$f":"'Annual Data'!$AG$15","v":0.1},0,0]
[null,null,null,null,null,null,null,null,null,null,null,null,null,null,null,null,null,null,null,null,null,null,null,null,null,null,null,null,null,null,null,null,{"$f":"'Annual Data'!$AD$15","v":1},{"$f":"'Annual Data'!$AG$15","v":0.1},0,0]
[null,null,null,null,null,null,null,null,null,null,null,null,null,null,null,null,null,null,null,null,null,null,null,null,null,null,null,null,null,null,null,null,{"$f":"'Annual Data'!$AD$15","v":1},{"$f":"'Annual Data'!$AG$15","v":0.1},0,0]
[null,null,null,null,null,null,null,null,null,null,null,null,null,null,null,null,null,null,null,null,null,null,null,null,null,null,null,null,null,null,null,null,{"$f":"'Annual Data'!$AD$15","v":1},{"$f":"'Annual Data'!$AG$15","v":0.1},0,0]
[null,null,null,null,null,null,null,null,null,null,null,null,null,null,null,null,null,null,null,null,null,null,null,null,null,null,null,null,null,null,null,null,{"$f":"'Annual Data'!$AD$15","v":1},{"$f":"'Annual Data'!$AG$15","v":0.1},0,0]
[null,null,null,null,null,null,null,null,null,null,null,null,null,null,null,null,null,null,null,null,null,null,null,null,null,null,null,null,null,null,null,null,{"$f":"'Annual Data'!$AD$15","v":1},{"$f":"'Annual Data'!$AG$15","v":0.1},0,0]
[null,null,null,null,null,null,null,null,null,null,null,null,null,null,null,null,null,null,null,null,null,null,null,null,null,null,null,null,null,null,null,null,{"$f":"'Annual Data'!$AD$15","v":1},{"$f":"'Annual Data'!$AG$15","v":0.1},0,0]
[null,null,null,null,null,null,null,null,null,null,null,null,null,null,null,null,null,null,null,null,null,null,null,null,null,null,null,null,null,null,null,null,{"$f":"'Annual Data'!$AD$15","v":1},{"$f":"'Annual Data'!$AG$15","v":0.1},0,0]
[null,null,null,null,null,null,null,null,null,null,null,null,null,null,null,null,null,null,null,null,null,null,null,null,null,null,null,null,null,null,null,null,{"$f":"'Annual Data'!$AD$15","v":1},{"$f":"'Annual Data'!$AG$15","v":0.1},0,0]
[null,null,null,null,null,null,null,null,null,null,null,null,null,null,null,null,null,null,null,null,null,null,null,null,null,null,null,null,null,null,null,null,{"$f":"'Annual Data'!$AD$15","v":1},{"$f":"'Annual Data'!$AG$15","v":0.1},0,0]
[null,null,null,null,null,null,null,null,null,null,null,null,null,null,null,null,null,null,null,null,null,null,null,null,null,null,null,null,null,null,null,null,{"$f":"'Annual Data'!$AD$15","v":1},{"$f":"'Annual Data'!$AG$15","v":0.1},0,0]
[null,null,null,null,null,null,null,null,null,null,null,null,null,null,null,null,null,null,null,null,null,null,null,null,null,null,null,null,null,null,null,null,{"$f":"'Annual Data'!$AD$15","v":1},{"$f":"'Annual Data'!$AG$15","v":0.1},0,0]
[null,null,null,null,null,null,null,null,null,null,null,null,null,null,null,null,null,null,null,null,null,null,null,null,null,null,null,null,null,null,null,null,{"$f":"'Annual Data'!$AD$15","v":1},{"$f":"'Annual Data'!$AG$15","v":0.1},0,0]
[null,null,null,null,null,null,null,null,null,null,null,null,null,null,null,null,null,null,null,null,null,null,null,null,null,null,null,null,null,null,null,null,{"$f":"'Annual Data'!$AD$15","v":1},{"$f":"'Annual Data'!$AG$15","v":0.1},0,0]
[null,null,null,null,null,null,null,null,null,null,null,null,null,null,null,null,null,null,null,null,null,null,null,null,null,null,null,null,null,null,null,null,{"$f":"'Annual Data'!$AD$15","v":1},{"$f":"'Annual Data'!$AG$15","v":0.1},0,0]
[null,null,null,null,null,null,null,null,null,null,null,null,null,null,null,null,null,null,null,null,null,null,null,null,null,null,null,null,null,null,null,null,{"$f":"'Annual Data'!$AD$15","v":1},{"$f":"'Annual Data'!$AG$15","v":0.1},0,0]
[null,null,null,null,null,null,null,null,null,null,null,null,null,null,null,null,null,null,null,null,null,null,null,null,null,null,null,null,null,null,null,null,{"$f":"'Annual Data'!$AD$15","v":1},{"$f":"'Annual Data'!$AG$15","v":0.1},0,0]
[null,null,null,null,null,null,null,null,null,null,null,null,null,null,null,null,null,null,null,null,null,null,null,null,null,null,null,null,null,null,null,null,{"$f":"'Annual Data'!$AD$15","v":1},{"$f":"'Annual Data'!$AG$15","v":0.1},0,0]
[null,null,null,null,null,null,null,null,null,null,null,null,null,null,null,null,null,null,null,null,null,null,null,null,null,null,null,null,null,null,null,null,{"$f":"'Annual Data'!$AD$15","v":1},{"$f":"'Annual Data'!$AG$15","v":0.1},0,0]
[null,null,null,null,null,null,null,null,null,null,null,null,null,null,null,null,null,null,null,null,null,null,null,null,null,null,null,null,null,null,null,null,{"$f":"'Annual Data'!$AD$15","v":1},{"$f":"'Annual Data'!$AG$15","v":0.1},0,0]
[null,null,null,null,null,null,null,null,null,null,null,null,null,null,null,null,null,null,null,null,null,null,null,null,null,null,null,null,null,null,null,null,{"$f":"'Annual Data'!$AD$15","v":1},{"$f":"'Annual Data'!$AG$15","v":0.1},0,0]
[null,null,null,null,null,null,null,null,null,null,null,null,null,null,null,null,null,null,null,null,null,null,null,null,null,null,null,null,null,null,null,null,{"$f":"'Annual Data'!$AD$15","v":1},{"$f":"'Annual Data'!$AG$15","v":0.1},0,0]
[null,null,null,null,null,null,null,null,null,null,null,null,null,null,null,null,null,null,null,null,null,null,null,null,null,null,null,null,null,null,null,null,{"$f":"'Annual Data'!$AD$15","v":1},{"$f":"'Annual Data'!$AG$15","v":0.1},0,0]
[null,null,null,null,null,null,null,null,null,null,null,null,null,null,null,null,null,null,null,null,null,null,null,null,null,null,null,null,null,null,null,null,{"$f":"'Annual Data'!$AD$15","v":1},{"$f":"'Annual Data'!$AG$15","v":0.1},0,0]
[null,null,null,null,null,null,null,null,null,null,null,null,null,null,null,null,null,null,null,null,null,null,null,null,null,null,null,null,null,null,null,null,{"$f":"'Annual Data'!$AD$15","v":1},{"$f":"'Annual Data'!$AG$15","v":0.1},0,0]
[null,null,null,null,null,null,null,null,null,null,null,null,null,null,null,null,null,null,null,null,null,null,null,null,null,null,null,null,null,null,null,null,{"$f":"'Annual Data'!$AD$15","v":1},{"$f":"'Annual Data'!$AG$15","v":0.1},0,0]
[null,null,null,null,null,null,null,null,null,null,null,null,null,null,null,null,null,null,null,null,null,null,null,null,null,null,null,null,null,null,null,null,{"$f":"'Annual Data'!$AD$15","v":1},{"$f":"'Annual Data'!$AG$15","v":0.1},0,0]
[null,null,null,null,null,null,null,null,null,null,null,null,null,null,null,null,null,null,null,null,null,null,null,null,null,null,null,null,null,null,null,null,{"$f":"'Annual Data'!$AD$15","v":1},{"$f":"'Annual Data'!$AG$15","v":0.1},0,0]
[null,null,null,null,null,null,null,null,null,null,null,null,null,null,null,null,null,null,null,null,null,null,null,null,null,null,null,null,null,null,null,null,{"$f":"'Annual Data'!$AD$15","v":1},{"$f":"'Annual Data'!$AG$15","v":0.1},0,0]
[null,null,null,null,null,null,null,null,null,null,null,null,null,null,null,null,null,null,null,null,null,null,null,null,null,null,null,null,null,null,null,null,{"$f":"'Annual Data'!$AD$15","v":1},{"$f":"'Annual Data'!$AG$15","v":0.1},0,0]
[null,null,null,null,null,null,null,null,null,null,null,null,null,null,null,null,null,null,null,null,null,null,null,null,null,null,null,null,null,null,null,null,{"$f":"'Annual Data'!$AD$15","v":1},{"$f":"'Annual Data'!$AG$15","v":0.1},0,0]
[null,null,null,null,null,null,null,null,null,null,null,null,null,null,null,null,null,null,null,null,null,null,null,null,null,null,null,null,null,null,null,null,{"$f":"'Annual Data'!$AD$15","v":1},{"$f":"'Annual Data'!$AG$15","v":0.1},0,0]
[null,null,null,null,null,null,null,null,null,null,null,null,null,null,null,null,null,null,null,null,null,null,null,null,null,null,null,null,null,null,null,null,{"$f":"'Annual Data'!$AD$15","v":1},{"$f":"'Annual Data'!$AG$15","v":0.1},0,0]
[null,null,null,null,null,null,null,null,null,null,null,null,null,null,null,null,null,null,null,null,null,null,null,null,null,null,null,null,null,null,null,null,{"$f":"'Annual Data'!$AD$15","v":1},{"$f":"'Annual Data'!$AG$15","v":0.1},0,0]
[null,null,null,null,null,null,null,null,null,null,null,null,null,null,null,null,null,null,null,null,null,null,null,null,null,null,null,null,null,null,null,null,{"$f":"'Annual Data'!$AD$15","v":1},{"$f":"'Annual Data'!$AG$15","v":0.1},0,0]
[null,null,null,null,null,null,null,null,null,null,null,null,null,null,null,null,null,null,null,null,null,null,null,null,null,null,null,null,null,null,null,null,{"$f":"'Annual Data'!$AD$15","v":1},{"$f":"'Annual Data'!$AG$15","v":0.1},0,0]
[null,null,null,null,null,null,null,null,null,null,null,null,null,null,null,null,null,null,null,null,null,null,null,null,null,null,null,null,null,null,null,null,{"$f":"'Annual Data'!$AD$15","v":1},{"$f":"'Annual Data'!$AG$15","v":0.1},0,0]
[null,null,null,null,null,null,null,null,null,null,null,null,null,null,null,null,null,null,null,null,null,null,null,null,null,null,null,null,null,null,null,null,{"$f":"'Annual Data'!$AD$15","v":1},{"$f":"'Annual Data'!$AG$15","v":0.1},0,0]
[null,null,null,null,null,null,null,null,null,null,null,null,null,null,null,null,null,null,null,null,null,null,null,null,null,null,null,null,null,null,null,null,{"$f":"'Annual Data'!$AD$15","v":1},{"$f":"'Annual Data'!$AG$15","v":0.1},0,0]
[null,null,null,null,null,null,null,null,null,null,null,null,null,null,null,null,null,null,null,null,null,null,null,null,null,null,null,null,null,null,null,null,{"$f":"'Annual Data'!$AD$15","v":1},{"$f":"'Annual Data'!$AG$15","v":0.1},0,0]
[null,null,null,null,null,null,null,null,null,null,null,null,null,null,null,null,null,null,null,null,null,null,null,null,null,null,null,null,null,null,null,null,{"$f":"'Annual Data'!$AD$15","v":1},{"$f":"'Annual Data'!$AG$15","v":0.1},0,0]
[null,null,null,null,null,null,null,null,null,null,null,null,null,null,null,null,null,null,null,null,null,null,null,null,null,null,null,null,null,null,null,null,{"$f":"'Annual Data'!$AD$15","v":1},{"$f":"'Annual Data'!$AG$15","v":0.1},0,0]
[null,null,null,null,null,null,null,null,null,null,null,null,null,null,null,null,null,null,null,null,null,null,null,null,null,null,null,null,null,null,null,null,{"$f":"'Annual Data'!$AD$15","v":1},{"$f":"'Annual Data'!$AG$15","v":0.1},0,0]
[null,null,null,null,null,null,null,null,null,null,null,null,null,null,null,null,null,null,null,null,null,null,null,null,null,null,null,null,null,null,null,null,{"$f":"'Annual Data'!$AD$15","v":1},{"$f":"'Annual Data'!$AG$15","v":0.1},0,0]
[null,null,null,null,null,null,null,null,null,null,null,null,null,null,null,null,null,null,null,null,null,null,null,null,null,null,null,null,null,null,null,null,{"$f":"'Annual Data'!$AD$15","v":1},{"$f":"'Annual Data'!$AG$15","v":0.1},0,0]
[null,null,null,null,null,null,null,null,null,null,null,null,null,null,null,null,null,null,null,null,null,null,null,null,null,null,null,null,null,null,null,null,{"$f":"'Annual Data'!$AD$15","v":1},{"$f":"'Annual Data'!$AG$15","v":0.1},0,0]
[null,null,null,null,null,null,null,null,null,null,null,null,null,null,null,null,null,null,null,null,null,null,null,null,null,null,null,null,null,null,null,null,{"$f":"'Annual Data'!$AD$15","v":1},{"$f":"'Annual Data'!$AG$15","v":0.1},0,0]
[null,null,null,null,null,null,null,null,null,null,null,null,null,null,null,null,null,null,null,null,null,null,null,null,null,null,null,null,null,null,null,null,{"$f":"'Annual Data'!$AD$15","v":1},{"$f":"'Annual Data'!$AG$15","v":0.1},0,0]
[null,null,null,null,null,null,null,null,null,null,null,null,null,null,null,null,null,null,null,null,null,null,null,null,null,null,null,null,null,null,null,null,{"$f":"'Annual Data'!$AD$15","v":1},{"$f":"'Annual Data'!$AG$15","v":0.1},0,0]
[null,null,null,null,null,null,null,null,null,null,null,null,null,null,null,null,null,null,null,null,null,null,null,null,null,null,null,null,null,null,null,null,{"$f":"'Annual Data'!$AD$15","v":1},{"$f":"'Annual Data'!$AG$15","v":0.1},0,0]
[null,null,null,null,null,null,null,null,null,null,null,null,null,null,null,null,null,null,null,null,null,null,null,null,null,null,null,null,null,null,null,null,{"$f":"'Annual Data'!$AD$15","v":1},{"$f":"'Annual Data'!$AG$15","v":0.1},0,0]
[null,null,null,null,null,null,null,null,null,null,null,null,null,null,null,null,null,null,null,null,null,null,null,null,null,null,null,null,null,null,null,null,{"$f":"'Annual Data'!$AD$15","v":1},{"$f":"'Annual Data'!$AG$15","v":0.1},0,0]
[null,null,null,null,null,null,null,null,null,null,null,null,null,null,null,null,null,null,null,null,null,null,null,null,null,null,null,null,null,null,null,null,{"$f":"'Annual Data'!$AD$15","v":1},{"$f":"'Annual Data'!$AG$15","v":0.1},0,0]
[null,null,null,null,null,null,null,null,null,null,null,null,null,null,null,null,null,null,null,null,null,null,null,null,null,null,null,null,null,null,null,null,{"$f":"'Annual Data'!$AD$15","v":1},{"$f":"'Annual Data'!$AG$15","v":0.1},0,0]
[null,null,null,null,null,null,null,null,null,null,null,null,null,null,null,null,null,null,null,null,null,null,null,null,null,null,null,null,null,null,null,null,{"$f":"'Annual Data'!$AD$15","v":1},{"$f":"'Annual Data'!$AG$15","v":0.1},0,0]
[null,null,null,null,null,null,null,null,null,null,null,null,null,null,null,null,null,null,null,null,null,null,null,null,null,null,null,null,null,null,null,null,{"$f":"'Annual Data'!$AD$15","v":1},{"$f":"'Annual Data'!$AG$15","v":0.1},0,0]
[null,null,null,null,null,null,null,null,null,null,null,null,null,null,null,null,null,null,null,null,null,null,null,null,null,null,null,null,null,null,null,null,{"$f":"'Annual Data'!$AD$15","v":1},{"$f":"'Annual Data'!$AG$15","v":0.1},0,0]
[null,null,null,null,null,null,null,null,null,null,null,null,null,null,null,null,null,null,null,null,null,null,null,null,null,null,null,null,null,null,null,null,{"$f":"'Annual Data'!$AD$15","v":1},{"$f":"'Annual Data'!$AG$15","v":0.1},0,0]
[null,null,null,null,null,null,null,null,null,null,null,null,null,null,null,null,null,null,null,null,null,null,null,null,null,null,null,null,null,null,null,null,{"$f":"'Annual Data'!$AD$15","v":1},{"$f":"'Annual Data'!$AG$15","v":0.1},0,0]
[null,null,null,null,null,null,null,null,null,null,null,null,null,null,null,null,null,null,null,null,null,null,null,null,null,null,null,null,null,null,null,null,{"$f":"'Annual Data'!$AD$15","v":1},{"$f":"'Annual Data'!$AG$15","v":0.1},0,0]
[null,null,null,null,null,null,null,null,null,null,null,null,null,null,null,null,null,null,null,null,null,null,null,null,null,null,null,null,null,null,null,null,{"$f":"'Annual Data'!$AD$15","v":1},{"$f":"'Annual Data'!$AG$15","v":0.1},0,0]
[null,null,null,null,null,null,null,null,null,null,null,null,null,null,null,null,null,null,null,null,null,null,null,null,null,null,null,null,null,null,null,null,{"$f":"'Annual Data'!$AD$15","v":1},{"$f":"'Annual Data'!$AG$15","v":0.1},0,0]
[null,null,null,null,null,null,null,null,null,null,null,null,null,null,null,null,null,null,null,null,null,null,null,null,null,null,null,null,null,null,null,null,{"$f":"'Annual Data'!$AD$15","v":1},{"$f":"'Annual Data'!$AG$15","v":0.1},0,0]
[null,null,null,null,null,null,null,null,null,null,null,null,null,null,null,null,null,null,null,null,null,null,null,null,null,null,null,null,null,null,null,null,{"$f":"'Annual Data'!$AD$15","v":1},{"$f":"'Annual Data'!$AG$15","v":0.1},0,0]
[null,null,null,null,null,null,null,null,null,null,null,null,null,null,null,null,null,null,null,null,null,null,null,null,null,null,null,null,null,null,null,null,{"$f":"'Annual Data'!$AD$15","v":1},{"$f":"'Annual Data'!$AG$15","v":0.1},0,0]
[null,null,null,null,null,null,null,null,null,null,null,null,null,null,null,null,null,null,null,null,null,null,null,null,null,null,null,null,null,null,null,null,{"$f":"'Annual Data'!$AD$15","v":1},{"$f":"'Annual Data'!$AG$15","v":0.1},0,0]
[null,null,null,null,null,null,null,null,null,null,null,null,null,null,null,null,null,null,null,null,null,null,null,null,null,null,null,null,null,null,null,null,{"$f":"'Annual Data'!$AD$15","v":1},{"$f":"'Annual Data'!$AG$15","v":0.1},0,0]
[null,null,null,null,null,null,null,null,null,null,null,null,null,null,null,null,null,null,null,null,null,null,null,null,null,null,null,null,null,null,null,null,{"$f":"'Annual Data'!$AD$15","v":1},{"$f":"'Annual Data'!$AG$15","v":0.1},0,0]
[null,null,null,null,null,null,null,null,null,null,null,null,null,null,null,null,null,null,null,null,null,null,null,null,null,null,null,null,null,null,null,null,{"$f":"'Annual Data'!$AD$15","v":1},{"$f":"'Annual Data'!$AG$15","v":0.1},0,0]
[null,null,null,null,null,null,null,null,null,null,null,null,null,null,null,null,null,null,null,null,null,null,null,null,null,null,null,null,null,null,null,null,{"$f":"'Annual Data'!$AD$15","v":1},{"$f":"'Annual Data'!$AG$15","v":0.1},0,0]
[null,null,null,null,null,null,null,null,null,null,null,null,null,null,null,null,null,null,null,null,null,null,null,null,null,null,null,null,null,null,null,null,{"$f":"'Annual Data'!$AD$15","v":1},{"$f":"'Annual Data'!$AG$15","v":0.1},0,0]
[null,null,null,null,null,null,null,null,null,null,null,null,null,null,null,null,null,null,null,null,null,null,null,null,null,null,null,null,null,null,null,null,{"$f":"'Annual Data'!$AD$15","v":1},{"$f":"'Annual Data'!$AG$15","v":0.1},0,0]
[null,null,null,null,null,null,null,null,null,null,null,null,null,null,null,null,null,null,null,null,null,null,null,null,null,null,null,null,null,null,null,null,{"$f":"'Annual Data'!$AD$15","v":1},{"$f":"'Annual Data'!$AG$15","v":0.1},0,0]
[null,null,null,null,null,null,null,null,null,null,null,null,null,null,null,null,null,null,null,null,null,null,null,null,null,null,null,null,null,null,null,null,{"$f":"'Annual Data'!$AD$15","v":1},{"$f":"'Annual Data'!$AG$15","v":0.1},0,0]
[null,null,null,null,null,null,null,null,null,null,null,null,null,null,null,null,null,null,null,null,null,null,null,null,null,null,null,null,null,null,null,null,{"$f":"'Annual Data'!$AD$15","v":1},{"$f":"'Annual Data'!$AG$15","v":0.1},0,0]
[null,null,null,null,null,null,null,null,null,null,null,null,null,null,null,null,null,null,null,null,null,null,null,null,null,null,null,null,null,null,null,null,{"$f":"'Annual Data'!$AD$15","v":1},{"$f":"'Annual Data'!$AG$15","v":0.1},0,0]
[null,null,null,null,null,null,null,null,null,null,null,null,null,null,null,null,null,null,null,null,null,null,null,null,null,null,null,null,null,null,null,null,{"$f":"'Annual Data'!$AD$15","v":1},{"$f":"'Annual Data'!$AG$15","v":0.1},0,0]
[null,null,null,null,null,null,null,null,null,null,null,null,null,null,null,null,null,null,null,null,null,null,null,null,null,null,null,null,null,null,null,null,{"$f":"'Annual Data'!$AD$15","v":1},{"$f":"'Annual Data'!$AG$15","v":0.1},0,0]
[null,null,null,null,null,null,null,null,null,null,null,null,null,null,null,null,null,null,null,null,null,null,null,null,null,null,null,null,null,null,null,null,{"$f":"'Annual Data'!$AD$15","v":1},{"$f":"'Annual Data'!$AG$15","v":0.1},0,0]
[null,null,null,null,null,null,null,null,null,null,null,null,null,null,null,null,null,null,null,null,null,null,null,null,null,null,null,null,null,null,null,null,{"$f":"'Annual Data'!$AD$15","v":1},{"$f":"'Annual Data'!$AG$15","v":0.1},0,0]
[null,null,null,null,null,null,null,null,null,null,null,null,null,null,null,null,null,null,null,null,null,null,null,null,null,null,null,null,null,null,null,null,{"$f":"'Annual Data'!$AD$15","v":1},{"$f":"'Annual Data'!$AG$15","v":0.1},0,0]
[null,null,null,null,null,null,null,null,null,null,null,null,null,null,null,null,null,null,null,null,null,null,null,null,null,null,null,null,null,null,null,null,{"$f":"'Annual Data'!$AD$15","v":1},{"$f":"'Annual Data'!$AG$15","v":0.1},0,0]
[null,null,null,null,null,null,null,null,null,null,null,null,null,null,null,null,null,null,null,null,null,null,null,null,null,null,null,null,null,null,null,null,{"$f":"'Annual Data'!$AD$15","v":1},{"$f":"'Annual Data'!$AG$15","v":0.1},0,0]
[null,null,null,null,null,null,null,null,null,null,null,null,null,null,null,null,null,null,null,null,null,null,null,null,null,null,null,null,null,null,null,null,{"$f":"'Annual Data'!$AD$15","v":1},{"$f":"'Annual Data'!$AG$15","v":0.1},0,0]
[null,null,null,null,null,null,null,null,null,null,null,null,null,null,null,null,null,null,null,null,null,null,null,null,null,null,null,null,null,null,null,null,{"$f":"'Annual Data'!$AD$15","v":1},{"$f":"'Annual Data'!$AG$15","v":0.1},0,0]
[null,null,null,null,null,null,null,null,null,null,null,null,null,null,null,null,null,null,null,null,null,null,null,null,null,null,null,null,null,null,null,null,{"$f":"'Annual Data'!$AD$15","v":1},{"$f":"'Annual Data'!$AG$15","v":0.1},0,0]
[null,null,null,null,null,null,null,null,null,null,null,null,null,null,null,null,null,null,null,null,null,null,null,null,null,null,null,null,null,null,null,null,{"$f":"'Annual Data'!$AD$15","v":1},{"$f":"'Annual Data'!$AG$15","v":0.1},0,0]
[null,null,null,null,null,null,null,null,null,null,null,null,null,null,null,null,null,null,null,null,null,null,null,null,null,null,null,null,null,null,null,null,{"$f":"'Annual Data'!$AD$15","v":1},{"$f":"'Annual Data'!$AG$15","v":0.1},0,0]
[null,null,null,null,null,null,null,null,null,null,null,null,null,null,null,null,null,null,null,null,null,null,null,null,null,null,null,null,null,null,null,null,{"$f":"'Annual Data'!$AD$15","v":1},{"$f":"'Annual Data'!$AG$15","v":0.1},0,0]
[null,null,null,null,null,null,null,null,null,null,null,null,null,null,null,null,null,null,null,null,null,null,null,null,null,null,null,null,null,null,null,null,{"$f":"'Annual Data'!$AD$15","v":1},{"$f":"'Annual Data'!$AG$15","v":0.1},0,0]
[null,null,null,null,null,null,null,null,null,null,null,null,null,null,null,null,null,null,null,null,null,null,null,null,null,null,null,null,null,null,null,null,{"$f":"'Annual Data'!$AD$15","v":1},{"$f":"'Annual Data'!$AG$15","v":0.1},0,0]
[null,null,null,null,null,null,null,null,null,null,null,null,null,null,null,null,null,null,null,null,null,null,null,null,null,null,null,null,null,null,null,null,{"$f":"'Annual Data'!$AD$15","v":1},{"$f":"'Annual Data'!$AG$15","v":0.1},0,0]
[null,null,null,null,null,null,null,null,null,null,null,null,null,null,null,null,null,null,null,null,null,null,null,null,null,null,null,null,null,null,null,null,{"$f":"'Annual Data'!$AD$15","v":1},{"$f":"'Annual Data'!$AG$15","v":0.1},{"$f":"MAX(C2314:F2314)","v":0},{"$f":"MAX(G2314:R2314)","v":0}]
[null,null,null,null,null,null,null,null,null,null,null,null,null,null,null,null,null,null,null,null,null,null,null,null,null,null,null,null,null,null,null,null,{"$f":"'Annual Data'!$AD$15","v":1},{"$f":"'Annual Data'!$AG$15","v":0.1},0,0]
[null,null,null,null,null,null,null,null,null,null,null,null,null,null,null,null,null,null,null,null,null,null,null,null,null,null,null,null,null,null,null,null,{"$f":"'Annual Data'!$AD$15","v":1},{"$f":"'Annual Data'!$AG$15","v":0.1},0,0]
[null,null,null,null,null,null,null,null,null,null,null,null,null,null,null,null,null,null,null,null,null,null,null,null,null,null,null,null,null,null,null,null,{"$f":"'Annual Data'!$AD$15","v":1},{"$f":"'Annual Data'!$AG$15","v":0.1},0,0]
[null,null,null,null,null,null,null,null,null,null,null,null,null,null,null,null,null,null,null,null,null,null,null,null,null,null,null,null,null,null,null,null,{"$f":"'Annual Data'!$AD$15","v":1},{"$f":"'Annual Data'!$AG$15","v":0.1},0,0]
[null,null,null,null,null,null,null,null,null,null,null,null,null,null,null,null,null,null,null,null,null,null,null,null,null,null,null,null,null,null,null,null,{"$f":"'Annual Data'!$AD$15","v":1},{"$f":"'Annual Data'!$AG$15","v":0.1},0,0]
[null,null,null,null,null,null,null,null,null,null,null,null,null,null,null,null,null,null,null,null,null,null,null,null,null,null,null,null,null,null,null,null,{"$f":"'Annual Data'!$AD$15","v":1},{"$f":"'Annual Data'!$AG$15","v":0.1},0,0]
[null,null,null,null,null,null,null,null,null,null,null,null,null,null,null,null,null,null,null,null,null,null,null,null,null,null,null,null,null,null,null,null,{"$f":"'Annual Data'!$AD$15","v":1},{"$f":"'Annual Data'!$AG$15","v":0.1},0,0]
[null,null,null,null,null,null,null,null,null,null,null,null,null,null,null,null,null,null,null,null,null,null,null,null,null,null,null,null,null,null,null,null,{"$f":"'Annual Data'!$AD$15","v":1},{"$f":"'Annual Data'!$AG$15","v":0.1},0,0]
[null,null,null,null,null,null,null,null,null,null,null,null,null,null,null,null,null,null,null,null,null,null,null,null,null,null,null,null,null,null,null,null,{"$f":"'Annual Data'!$AD$15","v":1},{"$f":"'Annual Data'!$AG$15","v":0.1},0,0]
[null,null,null,null,null,null,null,null,null,null,null,null,null,null,null,null,null,null,null,null,null,null,null,null,null,null,null,null,null,null,null,null,{"$f":"'Annual Data'!$AD$15","v":1},{"$f":"'Annual Data'!$AG$15","v":0.1},0,0]
[null,null,null,null,null,null,null,null,null,null,null,null,null,null,null,null,null,null,null,null,null,null,null,null,null,null,null,null,null,null,null,null,{"$f":"'Annual Data'!$AD$15","v":1},{"$f":"'Annual Data'!$AG$15","v":0.1},0,0]
[null,null,null,null,null,null,null,null,null,null,null,null,null,null,null,null,null,null,null,null,null,null,null,null,null,null,null,null,null,null,null,null,{"$f":"'Annual Data'!$AD$15","v":1},{"$f":"'Annual Data'!$AG$15","v":0.1},0,0]
[null,null,null,null,null,null,null,null,null,null,null,null,null,null,null,null,null,null,null,null,null,null,null,null,null,null,null,null,null,null,null,null,{"$f":"'Annual Data'!$AD$15","v":1},{"$f":"'Annual Data'!$AG$15","v":0.1},0,0]
[null,null,null,null,null,null,null,null,null,null,null,null,null,null,null,null,null,null,null,null,null,null,null,null,null,null,null,null,null,null,null,null,{"$f":"'Annual Data'!$AD$15","v":1},{"$f":"'Annual Data'!$AG$15","v":0.1},0,0]
[null,null,null,null,null,null,null,null,null,null,null,null,null,null,null,null,null,null,null,null,null,null,null,null,null,null,null,null,null,null,null,null,{"$f":"'Annual Data'!$AD$15","v":1},{"$f":"'Annual Data'!$AG$15","v":0.1},0,0]
[null,null,null,null,null,null,null,null,null,null,null,null,null,null,null,null,null,null,null,null,null,null,null,null,null,null,null,null,null,null,null,null,{"$f":"'Annual Data'!$AD$15","v":1},{"$f":"'Annual Data'!$AG$15","v":0.1},0,0]
[null,null,null,null,null,null,null,null,null,null,null,null,null,null,null,null,null,null,null,null,null,null,null,null,null,null,null,null,null,null,null,null,{"$f":"'Annual Data'!$AD$15","v":1},{"$f":"'Annual Data'!$AG$15","v":0.1},0,0]
[null,null,null,null,null,null,null,null,null,null,null,null,null,null,null,null,null,null,null,null,null,null,null,null,null,null,null,null,null,null,null,null,{"$f":"'Annual Data'!$AD$15","v":1},{"$f":"'Annual Data'!$AG$15","v":0.1},0,0]
[null,null,null,null,null,null,null,null,null,null,null,null,null,null,null,null,null,null,null,null,null,null,null,null,null,null,null,null,null,null,null,null,{"$f":"'Annual Data'!$AD$15","v":1},{"$f":"'Annual Data'!$AG$15","v":0.1},0,0]
[null,null,null,null,null,null,null,null,null,null,null,null,null,null,null,null,null,null,null,null,null,null,null,null,null,null,null,null,null,null,null,null,{"$f":"'Annual Data'!$AD$15","v":1},{"$f":"'Annual Data'!$AG$15","v":0.1},0,0]
[null,null,null,null,null,null,null,null,null,null,null,null,null,null,null,null,null,null,null,null,null,null,null,null,null,null,null,null,null,null,null,null,{"$f":"'Annual Data'!$AD$15","v":1},{"$f":"'Annual Data'!$AG$15","v":0.1},0,0]
[null,null,null,null,null,null,null,null,null,null,null,null,null,null,null,null,null,null,null,null,null,null,null,null,null,null,null,null,null,null,null,null,{"$f":"'Annual Data'!$AD$15","v":1},{"$f":"'Annual Data'!$AG$15","v":0.1},0,0]
[null,null,null,null,null,null,null,null,null,null,null,null,null,null,null,null,null,null,null,null,null,null,null,null,null,null,null,null,null,null,null,null,{"$f":"'Annual Data'!$AD$15","v":1},{"$f":"'Annual Data'!$AG$15","v":0.1},0,0]
[null,null,null,null,null,null,null,null,null,null,null,null,null,null,null,null,null,null,null,null,null,null,null,null,null,null,null,null,null,null,null,null,{"$f":"'Annual Data'!$AD$15","v":1},{"$f":"'Annual Data'!$AG$15","v":0.1},0,0]
[null,null,null,null,null,null,null,null,null,null,null,null,null,null,null,null,null,null,null,null,null,null,null,null,null,null,null,null,null,null,null,null,{"$f":"'Annual Data'!$AD$15","v":1},{"$f":"'Annual Data'!$AG$15","v":0.1},0,0]
[null,null,null,null,null,null,null,null,null,null,null,null,null,null,null,null,null,null,null,null,null,null,null,null,null,null,null,null,null,null,null,null,{"$f":"'Annual Data'!$AD$15","v":1},{"$f":"'Annual Data'!$AG$15","v":0.1},0,0]
[null,null,null,null,null,null,null,null,null,null,null,null,null,null,null,null,null,null,null,null,null,null,null,null,null,null,null,null,null,null,null,null,{"$f":"'Annual Data'!$AD$15","v":1},{"$f":"'Annual Data'!$AG$15","v":0.1},0,0]
[null,null,null,null,null,null,null,null,null,null,null,null,null,null,null,null,null,null,null,null,null,null,null,null,null,null,null,null,null,null,null,null,{"$f":"'Annual Data'!$AD$15","v":1},{"$f":"'Annual Data'!$AG$15","v":0.1},0,0]
[null,null,null,null,null,null,null,null,null,null,null,null,null,null,null,null,null,null,null,null,null,null,null,null,null,null,null,null,null,null,null,null,{"$f":"'Annual Data'!$AD$15","v":1},{"$f":"'Annual Data'!$AG$15","v":0.1},0,0]
[null,null,null,null,null,null,null,null,null,null,null,null,null,null,null,null,null,null,null,null,null,null,null,null,null,null,null,null,null,null,null,null,{"$f":"'Annual Data'!$AD$15","v":1},{"$f":"'Annual Data'!$AG$15","v":0.1},0,0]
[null,null,null,null,null,null,null,null,null,null,null,null,null,null,null,null,null,null,null,null,null,null,null,null,null,null,null,null,null,null,null,null,{"$f":"'Annual Data'!$AD$15","v":1},{"$f":"'Annual Data'!$AG$15","v":0.1},0,0]
[null,null,null,null,null,null,null,null,null,null,null,null,null,null,null,null,null,null,null,null,null,null,null,null,null,null,null,null,null,null,null,null,{"$f":"'Annual Data'!$AD$15","v":1},{"$f":"'Annual Data'!$AG$15","v":0.1},0,0]
[null,null,null,null,null,null,null,null,null,null,null,null,null,null,null,null,null,null,null,null,null,null,null,null,null,null,null,null,null,null,null,null,{"$f":"'Annual Data'!$AD$15","v":1},{"$f":"'Annual Data'!$AG$15","v":0.1},0,0]
[null,null,null,null,null,null,null,null,null,null,null,null,null,null,null,null,null,null,null,null,null,null,null,null,null,null,null,null,null,null,null,null,{"$f":"'Annual Data'!$AD$15","v":1},{"$f":"'Annual Data'!$AG$15","v":0.1},0,0]
[null,null,null,null,null,null,null,null,null,null,null,null,null,null,null,null,null,null,null,null,null,null,null,null,null,null,null,null,null,null,null,null,{"$f":"'Annual Data'!$AD$15","v":1},{"$f":"'Annual Data'!$AG$15","v":0.1},{"$f":"MAX(C2378:F2378)","v":0},{"$f":"MAX(G2378:R2378)","v":0}]
[null,null,null,null,null,null,null,null,null,null,null,null,null,null,null,null,null,null,null,null,null,null,null,null,null,null,null,null,null,null,null,null,{"$f":"'Annual Data'!$AD$15","v":1},{"$f":"'Annual Data'!$AG$15","v":0.1},0,0]
[null,null,null,null,null,null,null,null,null,null,null,null,null,null,null,null,null,null,null,null,null,null,null,null,null,null,null,null,null,null,null,null,{"$f":"'Annual Data'!$AD$15","v":1},{"$f":"'Annual Data'!$AG$15","v":0.1},0,0]
[null,null,null,null,null,null,null,null,null,null,null,null,null,null,null,null,null,null,null,null,null,null,null,null,null,null,null,null,null,null,null,null,{"$f":"'Annual Data'!$AD$15","v":1},{"$f":"'Annual Data'!$AG$15","v":0.1},0,0]
[null,null,null,null,null,null,null,null,null,null,null,null,null,null,null,null,null,null,null,null,null,null,null,null,null,null,null,null,null,null,null,null,{"$f":"'Annual Data'!$AD$15","v":1},{"$f":"'Annual Data'!$AG$15","v":0.1},0,0]
[null,null,null,null,null,null,null,null,null,null,null,null,null,null,null,null,null,null,null,null,null,null,null,null,null,null,null,null,null,null,null,null,{"$f":"'Annual Data'!$AD$15","v":1},{"$f":"'Annual Data'!$AG$15","v":0.1},0,0]
[null,null,null,null,null,null,null,null,null,null,null,null,null,null,null,null,null,null,null,null,null,null,null,null,null,null,null,null,null,null,null,null,{"$f":"'Annual Data'!$AD$15","v":1},{"$f":"'Annual Data'!$AG$15","v":0.1},0,0]
[null,null,null,null,null,null,null,null,null,null,null,null,null,null,null,null,null,null,null,null,null,null,null,null,null,null,null,null,null,null,null,null,{"$f":"'Annual Data'!$AD$15","v":1},{"$f":"'Annual Data'!$AG$15","v":0.1},0,0]
[null,null,null,null,null,null,null,null,null,null,null,null,null,null,null,null,null,null,null,null,null,null,null,null,null,null,null,null,null,null,null,null,{"$f":"'Annual Data'!$AD$15","v":1},{"$f":"'Annual Data'!$AG$15","v":0.1},0,0]
[null,null,null,null,null,null,null,null,null,null,null,null,null,null,null,null,null,null,null,null,null,null,null,null,null,null,null,null,null,null,null,null,{"$f":"'Annual Data'!$AD$15","v":1},{"$f":"'Annual Data'!$AG$15","v":0.1},0,0]
[null,null,null,null,null,null,null,null,null,null,null,null,null,null,null,null,null,null,null,null,null,null,null,null,null,null,null,null,null,null,null,null,{"$f":"'Annual Data'!$AD$15","v":1},{"$f":"'Annual Data'!$AG$15","v":0.1},0,0]
[null,null,null,null,null,null,null,null,null,null,null,null,null,null,null,null,null,null,null,null,null,null,null,null,null,null,null,null,null,null,null,null,{"$f":"'Annual Data'!$AD$15","v":1},{"$f":"'Annual Data'!$AG$15","v":0.1},0,0]
[null,null,null,null,null,null,null,null,null,null,null,null,null,null,null,null,null,null,null,null,null,null,null,null,null,null,null,null,null,null,null,null,{"$f":"'Annual Data'!$AD$15","v":1},{"$f":"'Annual Data'!$AG$15","v":0.1},0,0]
[null,null,null,null,null,null,null,null,null,null,null,null,null,null,null,null,null,null,null,null,null,null,null,null,null,null,null,null,null,null,null,null,{"$f":"'Annual Data'!$AD$15","v":1},{"$f":"'Annual Data'!$AG$15","v":0.1},0,0]
[null,null,null,null,null,null,null,null,null,null,null,null,null,null,null,null,null,null,null,null,null,null,null,null,null,null,null,null,null,null,null,null,{"$f":"'Annual Data'!$AD$15","v":1},{"$f":"'Annual Data'!$AG$15","v":0.1},0,0]
[null,null,null,null,null,null,null,null,null,null,null,null,null,null,null,null,null,null,null,null,null,null,null,null,null,null,null,null,null,null,null,null,{"$f":"'Annual Data'!$AD$15","v":1},{"$f":"'Annual Data'!$AG$15","v":0.1},0,0]
[null,null,null,null,null,null,null,null,null,null,null,null,null,null,null,null,null,null,null,null,null,null,null,null,null,null,null,null,null,null,null,null,{"$f":"'Annual Data'!$AD$15","v":1},{"$f":"'Annual Data'!$AG$15","v":0.1},0,0]
[null,null,null,null,null,null,null,null,null,null,null,null,null,null,null,null,null,null,null,null,null,null,null,null,null,null,null,null,null,null,null,null,{"$f":"'Annual Data'!$AD$15","v":1},{"$f":"'Annual Data'!$AG$15","v":0.1},0,0]
[null,null,null,null,null,null,null,null,null,null,null,null,null,null,null,null,null,null,null,null,null,null,null,null,null,null,null,null,null,null,null,null,{"$f":"'Annual Data'!$AD$15","v":1},{"$f":"'Annual Data'!$AG$15","v":0.1},0,0]
[null,null,null,null,null,null,null,null,null,null,null,null,null,null,null,null,null,null,null,null,null,null,null,null,null,null,null,null,null,null,null,null,{"$f":"'Annual Data'!$AD$15","v":1},{"$f":"'Annual Data'!$AG$15","v":0.1},0,0]
[null,null,null,null,null,null,null,null,null,null,null,null,null,null,null,null,null,null,null,null,null,null,null,null,null,null,null,null,null,null,null,null,{"$f":"'Annual Data'!$AD$15","v":1},{"$f":"'Annual Data'!$AG$15","v":0.1},0,0]
[null,null,null,null,null,null,null,null,null,null,null,null,null,null,null,null,null,null,null,null,null,null,null,null,null,null,null,null,null,null,null,null,{"$f":"'Annual Data'!$AD$15","v":1},{"$f":"'Annual Data'!$AG$15","v":0.1},0,0]
[null,null,null,null,null,null,null,null,null,null,null,null,null,null,null,null,null,null,null,null,null,null,null,null,null,null,null,null,null,null,null,null,{"$f":"'Annual Data'!$AD$15","v":1},{"$f":"'Annual Data'!$AG$15","v":0.1},0,0]
[null,null,null,null,null,null,null,null,null,null,null,null,null,null,null,null,null,null,null,null,null,null,null,null,null,null,null,null,null,null,null,null,{"$f":"'Annual Data'!$AD$15","v":1},{"$f":"'Annual Data'!$AG$15","v":0.1},0,0]
[null,null,null,null,null,null,null,null,null,null,null,null,null,null,null,null,null,null,null,null,null,null,null,null,null,null,null,null,null,null,null,null,{"$f":"'Annual Data'!$AD$15","v":1},{"$f":"'Annual Data'!$AG$15","v":0.1},0,0]
[null,null,null,null,null,null,null,null,null,null,null,null,null,null,null,null,null,null,null,null,null,null,null,null,null,null,null,null,null,null,null,null,{"$f":"'Annual Data'!$AD$15","v":1},{"$f":"'Annual Data'!$AG$15","v":0.1},0,0]
[null,null,null,null,null,null,null,null,null,null,null,null,null,null,null,null,null,null,null,null,null,null,null,null,null,null,null,null,null,null,null,null,{"$f":"'Annual Data'!$AD$15","v":1},{"$f":"'Annual Data'!$AG$15","v":0.1},0,0]
[null,null,null,null,null,null,null,null,null,null,null,null,null,null,null,null,null,null,null,null,null,null,null,null,null,null,null,null,null,null,null,null,{"$f":"'Annual Data'!$AD$15","v":1},{"$f":"'Annual Data'!$AG$15","v":0.1},0,0]
[null,null,null,null,null,null,null,null,null,null,null,null,null,null,null,null,null,null,null,null,null,null,null,null,null,null,null,null,null,null,null,null,{"$f":"'Annual Data'!$AD$15","v":1},{"$f":"'Annual Data'!$AG$15","v":0.1},0,0]
[null,null,null,null,null,null,null,null,null,null,null,null,null,null,null,null,null,null,null,null,null,null,null,null,null,null,null,null,null,null,null,null,{"$f":"'Annual Data'!$AD$15","v":1},{"$f":"'Annual Data'!$AG$15","v":0.1},0,0]
[null,null,null,null,null,null,null,null,null,null,null,null,null,null,null,null,null,null,null,null,null,null,null,null,null,null,null,null,null,null,null,null,{"$f":"'Annual Data'!$AD$15","v":1},{"$f":"'Annual Data'!$AG$15","v":0.1},0,0]
[null,null,null,null,null,null,null,null,null,null,null,null,null,null,null,null,null,null,null,null,null,null,null,null,null,null,null,null,null,null,null,null,{"$f":"'Annual Data'!$AD$15","v":1},{"$f":"'Annual Data'!$AG$15","v":0.1},0,0]
[null,null,null,null,null,null,null,null,null,null,null,null,null,null,null,null,null,null,null,null,null,null,null,null,null,null,null,null,null,null,null,null,{"$f":"'Annual Data'!$AD$15","v":1},{"$f":"'Annual Data'!$AG$15","v":0.1},0,0]
[null,null,null,null,null,null,null,null,null,null,null,null,null,null,null,null,null,null,null,null,null,null,null,null,null,null,null,null,null,null,null,null,{"$f":"'Annual Data'!$AD$15","v":1},{"$f":"'Annual Data'!$AG$15","v":0.1},0,0]
[null,null,null,null,null,null,null,null,null,null,null,null,null,null,null,null,null,null,null,null,null,null,null,null,null,null,null,null,null,null,null,null,{"$f":"'Annual Data'!$AD$15","v":1},{"$f":"'Annual Data'!$AG$15","v":0.1},0,0]
[null,null,null,null,null,null,null,null,null,null,null,null,null,null,null,null,null,null,null,null,null,null,null,null,null,null,null,null,null,null,null,null,{"$f":"'Annual Data'!$AD$15","v":1},{"$f":"'Annual Data'!$AG$15","v":0.1},0,0]
[null,null,null,null,null,null,null,null,null,null,null,null,null,null,null,null,null,null,null,null,null,null,null,null,null,null,null,null,null,null,null,null,{"$f":"'Annual Data'!$AD$15","v":1},{"$f":"'Annual Data'!$AG$15","v":0.1},0,0]
[null,null,null,null,null,null,null,null,null,null,null,null,null,null,null,null,null,null,null,null,null,null,null,null,null,null,null,null,null,null,null,null,{"$f":"'Annual Data'!$AD$15","v":1},{"$f":"'Annual Data'!$AG$15","v":0.1},0,0]
[null,null,null,null,null,null,null,null,null,null,null,null,null,null,null,null,null,null,null,null,null,null,null,null,null,null,null,null,null,null,null,null,{"$f":"'Annual Data'!$AD$15","v":1},{"$f":"'Annual Data'!$AG$15","v":0.1},0,0]
[null,null,null,null,null,null,null,null,null,null,null,null,null,null,null,null,null,null,null,null,null,null,null,null,null,null,null,null,null,null,null,null,{"$f":"'Annual Data'!$AD$15","v":1},{"$f":"'Annual Data'!$AG$15","v":0.1},0,0]
[null,null,null,null,null,null,null,null,null,null,null,null,null,null,null,null,null,null,null,null,null,null,null,null,null,null,null,null,null,null,null,null,{"$f":"'Annual Data'!$AD$15","v":1},{"$f":"'Annual Data'!$AG$15","v":0.1},0,0]
[null,null,null,null,null,null,null,null,null,null,null,null,null,null,null,null,null,null,null,null,null,null,null,null,null,null,null,null,null,null,null,null,{"$f":"'Annual Data'!$AD$15","v":1},{"$f":"'Annual Data'!$AG$15","v":0.1},0,0]
[null,null,null,null,null,null,null,null,null,null,null,null,null,null,null,null,null,null,null,null,null,null,null,null,null,null,null,null,null,null,null,null,{"$f":"'Annual Data'!$AD$15","v":1},{"$f":"'Annual Data'!$AG$15","v":0.1},0,0]
[null,null,null,null,null,null,null,null,null,null,null,null,null,null,null,null,null,null,null,null,null,null,null,null,null,null,null,null,null,null,null,null,{"$f":"'Annual Data'!$AD$15","v":1},{"$f":"'Annual Data'!$AG$15","v":0.1},0,0]
[null,null,null,null,null,null,null,null,null,null,null,null,null,null,null,null,null,null,null,null,null,null,null,null,null,null,null,null,null,null,null,null,{"$f":"'Annual Data'!$AD$15","v":1},{"$f":"'Annual Data'!$AG$15","v":0.1},0,0]
[null,null,null,null,null,null,null,null,null,null,null,null,null,null,null,null,null,null,null,null,null,null,null,null,null,null,null,null,null,null,null,null,{"$f":"'Annual Data'!$AD$15","v":1},{"$f":"'Annual Data'!$AG$15","v":0.1},0,0]
[null,null,null,null,null,null,null,null,null,null,null,null,null,null,null,null,null,null,null,null,null,null,null,null,null,null,null,null,null,null,null,null,{"$f":"'Annual Data'!$AD$15","v":1},{"$f":"'Annual Data'!$AG$15","v":0.1},0,0]
[null,null,null,null,null,null,null,null,null,null,null,null,null,null,null,null,null,null,null,null,null,null,null,null,null,null,null,null,null,null,null,null,{"$f":"'Annual Data'!$AD$15","v":1},{"$f":"'Annual Data'!$AG$15","v":0.1},0,0]
[null,null,null,null,null,null,null,null,null,null,null,null,null,null,null,null,null,null,null,null,null,null,null,null,null,null,null,null,null,null,null,null,{"$f":"'Annual Data'!$AD$15","v":1},{"$f":"'Annual Data'!$AG$15","v":0.1},0,0]
[null,null,null,null,null,null,null,null,null,null,null,null,null,null,null,null,null,null,null,null,null,null,null,null,null,null,null,null,null,null,null,null,{"$f":"'Annual Data'!$AD$15","v":1},{"$f":"'Annual Data'!$AG$15","v":0.1},0,0]
[null,null,null,null,null,null,null,null,null,null,null,null,null,null,null,null,null,null,null,null,null,null,null,null,null,null,null,null,null,null,null,null,{"$f":"'Annual Data'!$AD$15","v":1},{"$f":"'Annual Data'!$AG$15","v":0.1},0,0]
[null,null,null,null,null,null,null,null,null,null,null,null,null,null,null,null,null,null,null,null,null,null,null,null,null,null,null,null,null,null,null,null,{"$f":"'Annual Data'!$AD$15","v":1},{"$f":"'Annual Data'!$AG$15","v":0.1},0,0]
[null,null,null,null,null,null,null,null,null,null,null,null,null,null,null,null,null,null,null,null,null,null,null,null,null,null,null,null,null,null,null,null,{"$f":"'Annual Data'!$AD$15","v":1},{"$f":"'Annual Data'!$AG$15","v":0.1},0,0]
[null,null,null,null,null,null,null,null,null,null,null,null,null,null,null,null,null,null,null,null,null,null,null,null,null,null,null,null,null,null,null,null,{"$f":"'Annual Data'!$AD$15","v":1},{"$f":"'Annual Data'!$AG$15","v":0.1},0,0]
[null,null,null,null,null,null,null,null,null,null,null,null,null,null,null,null,null,null,null,null,null,null,null,null,null,null,null,null,null,null,null,null,{"$f":"'Annual Data'!$AD$15","v":1},{"$f":"'Annual Data'!$AG$15","v":0.1},0,0]
[null,null,null,null,null,null,null,null,null,null,null,null,null,null,null,null,null,null,null,null,null,null,null,null,null,null,null,null,null,null,null,null,{"$f":"'Annual Data'!$AD$15","v":1},{"$f":"'Annual Data'!$AG$15","v":0.1},0,0]
[null,null,null,null,null,null,null,null,null,null,null,null,null,null,null,null,null,null,null,null,null,null,null,null,null,null,null,null,null,null,null,null,{"$f":"'Annual Data'!$AD$15","v":1},{"$f":"'Annual Data'!$AG$15","v":0.1},0,0]
[null,null,null,null,null,null,null,null,null,null,null,null,null,null,null,null,null,null,null,null,null,null,null,null,null,null,null,null,null,null,null,null,{"$f":"'Annual Data'!$AD$15","v":1},{"$f":"'Annual Data'!$AG$15","v":0.1},0,0]
[null,null,null,null,null,null,null,null,null,null,null,null,null,null,null,null,null,null,null,null,null,null,null,null,null,null,null,null,null,null,null,null,{"$f":"'Annual Data'!$AD$15","v":1},{"$f":"'Annual Data'!$AG$15","v":0.1},0,0]
[null,null,null,null,null,null,null,null,null,null,null,null,null,null,null,null,null,null,null,null,null,null,null,null,null,null,null,null,null,null,null,null,{"$f":"'Annual Data'!$AD$15","v":1},{"$f":"'Annual Data'!$AG$15","v":0.1},0,0]
[null,null,null,null,null,null,null,null,null,null,null,null,null,null,null,null,null,null,null,null,null,null,null,null,null,null,null,null,null,null,null,null,{"$f":"'Annual Data'!$AD$15","v":1},{"$f":"'Annual Data'!$AG$15","v":0.1},0,0]
[null,null,null,null,null,null,null,null,null,null,null,null,null,null,null,null,null,null,null,null,null,null,null,null,null,null,null,null,null,null,null,null,{"$f":"'Annual Data'!$AD$15","v":1},{"$f":"'Annual Data'!$AG$15","v":0.1},0,0]
[null,null,null,null,null,null,null,null,null,null,null,null,null,null,null,null,null,null,null,null,null,null,null,null,null,null,null,null,null,null,null,null,{"$f":"'Annual Data'!$AD$15","v":1},{"$f":"'Annual Data'!$AG$15","v":0.1},0,0]
[null,null,null,null,null,null,null,null,null,null,null,null,null,null,null,null,null,null,null,null,null,null,null,null,null,null,null,null,null,null,null,null,{"$f":"'Annual Data'!$AD$15","v":1},{"$f":"'Annual Data'!$AG$15","v":0.1},0,0]
[null,null,null,null,null,null,null,null,null,null,null,null,null,null,null,null,null,null,null,null,null,null,null,null,null,null,null,null,null,null,null,null,{"$f":"'Annual Data'!$AD$15","v":1},{"$f":"'Annual Data'!$AG$15","v":0.1},0,0]
[null,null,null,null,null,null,null,null,null,null,null,null,null,null,null,null,null,null,null,null,null,null,null,null,null,null,null,null,null,null,null,null,{"$f":"'Annual Data'!$AD$15","v":1},{"$f":"'Annual Data'!$AG$15","v":0.1},0,0]
[null,null,null,null,null,null,null,null,null,null,null,null,null,null,null,null,null,null,null,null,null,null,null,null,null,null,null,null,null,null,null,null,{"$f":"'Annual Data'!$AD$15","v":1},{"$f":"'Annual Data'!$AG$15","v":0.1},0,0]
[null,null,null,null,null,null,null,null,null,null,null,null,null,null,null,null,null,null,null,null,null,null,null,null,null,null,null,null,null,null,null,null,{"$f":"'Annual Data'!$AD$15","v":1},{"$f":"'Annual Data'!$AG$15","v":0.1},0,0]
[null,null,null,null,null,null,null,null,null,null,null,null,null,null,null,null,null,null,null,null,null,null,null,null,null,null,null,null,null,null,null,null,{"$f":"'Annual Data'!$AD$15","v":1},{"$f":"'Annual Data'!$AG$15","v":0.1},0,0]
[null,null,null,null,null,null,null,null,null,null,null,null,null,null,null,null,null,null,null,null,null,null,null,null,null,null,null,null,null,null,null,null,{"$f":"'Annual Data'!$AD$15","v":1},{"$f":"'Annual Data'!$AG$15","v":0.1},0,0]
[null,null,null,null,null,null,null,null,null,null,null,null,null,null,null,null,null,null,null,null,null,null,null,null,null,null,null,null,null,null,null,null,{"$f":"'Annual Data'!$AD$15","v":1},{"$f":"'Annual Data'!$AG$15","v":0.1},0,0]
[null,null,null,null,null,null,null,null,null,null,null,null,null,null,null,null,null,null,null,null,null,null,null,null,null,null,null,null,null,null,null,null,{"$f":"'Annual Data'!$AD$15","v":1},{"$f":"'Annual Data'!$AG$15","v":0.1},{"$f":"MAX(C2506:F2506)","v":0},{"$f":"MAX(G2506:R2506)","v":0}]
[null,null,null,null,null,null,null,null,null,null,null,null,null,null,null,null,null,null,null,null,null,null,null,null,null,null,null,null,null,null,null,null,{"$f":"'Annual Data'!$AD$15","v":1},{"$f":"'Annual Data'!$AG$15","v":0.1},0,0]
[null,null,null,null,null,null,null,null,null,null,null,null,null,null,null,null,null,null,null,null,null,null,null,null,null,null,null,null,null,null,null,null,{"$f":"'Annual Data'!$AD$15","v":1},{"$f":"'Annual Data'!$AG$15","v":0.1},0,0]
[null,null,null,null,null,null,null,null,null,null,null,null,null,null,null,null,null,null,null,null,null,null,null,null,null,null,null,null,null,null,null,null,{"$f":"'Annual Data'!$AD$15","v":1},{"$f":"'Annual Data'!$AG$15","v":0.1},0,0]
[null,null,null,null,null,null,null,null,null,null,null,null,null,null,null,null,null,null,null,null,null,null,null,null,null,null,null,null,null,null,null,null,{"$f":"'Annual Data'!$AD$15","v":1},{"$f":"'Annual Data'!$AG$15","v":0.1},0,0]
[null,null,null,null,null,null,null,null,null,null,null,null,null,null,null,null,null,null,null,null,null,null,null,null,null,null,null,null,null,null,null,null,{"$f":"'Annual Data'!$AD$15","v":1},{"$f":"'Annual Data'!$AG$15","v":0.1},0,0]
[null,null,null,null,null,null,null,null,null,null,null,null,null,null,null,null,null,null,null,null,null,null,null,null,null,null,null,null,null,null,null,null,{"$f":"'Annual Data'!$AD$15","v":1},{"$f":"'Annual Data'!$AG$15","v":0.1},0,0]
[null,null,null,null,null,null,null,null,null,null,null,null,null,null,null,null,null,null,null,null,null,null,null,null,null,null,null,null,null,null,null,null,{"$f":"'Annual Data'!$AD$15","v":1},{"$f":"'Annual Data'!$AG$15","v":0.1},0,0]
[null,null,null,null,null,null,null,null,null,null,null,null,null,null,null,null,null,null,null,null,null,null,null,null,null,null,null,null,null,null,null,null,{"$f":"'Annual Data'!$AD$15","v":1},{"$f":"'Annual Data'!$AG$15","v":0.1},0,0]
[null,null,null,null,null,null,null,null,null,null,null,null,null,null,null,null,null,null,null,null,null,null,null,null,null,null,null,null,null,null,null,null,{"$f":"'Annual Data'!$AD$15","v":1},{"$f":"'Annual Data'!$AG$15","v":0.1},0,0]
[null,null,null,null,null,null,null,null,null,null,null,null,null,null,null,null,null,null,null,null,null,null,null,null,null,null,null,null,null,null,null,null,{"$f":"'Annual Data'!$AD$15","v":1},{"$f":"'Annual Data'!$AG$15","v":0.1},0,0]
[null,null,null,null,null,null,null,null,null,null,null,null,null,null,null,null,null,null,null,null,null,null,null,null,null,null,null,null,null,null,null,null,{"$f":"'Annual Data'!$AD$15","v":1},{"$f":"'Annual Data'!$AG$15","v":0.1},0,0]
[null,null,null,null,null,null,null,null,null,null,null,null,null,null,null,null,null,null,null,null,null,null,null,null,null,null,null,null,null,null,null,null,{"$f":"'Annual Data'!$AD$15","v":1},{"$f":"'Annual Data'!$AG$15","v":0.1},0,0]
[null,null,null,null,null,null,null,null,null,null,null,null,null,null,null,null,null,null,null,null,null,null,null,null,null,null,null,null,null,null,null,null,{"$f":"'Annual Data'!$AD$15","v":1},{"$f":"'Annual Data'!$AG$15","v":0.1},0,0]
[null,null,null,null,null,null,null,null,null,null,null,null,null,null,null,null,null,null,null,null,null,null,null,null,null,null,null,null,null,null,null,null,{"$f":"'Annual Data'!$AD$15","v":1},{"$f":"'Annual Data'!$AG$15","v":0.1},0,0]
[null,null,null,null,null,null,null,null,null,null,null,null,null,null,null,null,null,null,null,null,null,null,null,null,null,null,null,null,null,null,null,null,{"$f":"'Annual Data'!$AD$15","v":1},{"$f":"'Annual Data'!$AG$15","v":0.1},0,0]
[null,null,null,null,null,null,null,null,null,null,null,null,null,null,null,null,null,null,null,null,null,null,null,null,null,null,null,null,null,null,null,null,{"$f":"'Annual Data'!$AD$15","v":1},{"$f":"'Annual Data'!$AG$15","v":0.1},0,0]
[null,null,null,null,null,null,null,null,null,null,null,null,null,null,null,null,null,null,null,null,null,null,null,null,null,null,null,null,null,null,null,null,{"$f":"'Annual Data'!$AD$15","v":1},{"$f":"'Annual Data'!$AG$15","v":0.1},0,0]
[null,null,null,null,null,null,null,null,null,null,null,null,null,null,null,null,null,null,null,null,null,null,null,null,null,null,null,null,null,null,null,null,{"$f":"'Annual Data'!$AD$15","v":1},{"$f":"'Annual Data'!$AG$15","v":0.1},0,0]
[null,null,null,null,null,null,null,null,null,null,null,null,null,null,null,null,null,null,null,null,null,null,null,null,null,null,null,null,null,null,null,null,{"$f":"'Annual Data'!$AD$15","v":1},{"$f":"'Annual Data'!$AG$15","v":0.1},0,0]
[null,null,null,null,null,null,null,null,null,null,null,null,null,null,null,null,null,null,null,null,null,null,null,null,null,null,null,null,null,null,null,null,{"$f":"'Annual Data'!$AD$15","v":1},{"$f":"'Annual Data'!$AG$15","v":0.1},0,0]
[null,null,null,null,null,null,null,null,null,null,null,null,null,null,null,null,null,null,null,null,null,null,null,null,null,null,null,null,null,null,null,null,{"$f":"'Annual Data'!$AD$15","v":1},{"$f":"'Annual Data'!$AG$15","v":0.1},0,0]
[null,null,null,null,null,null,null,null,null,null,null,null,null,null,null,null,null,null,null,null,null,null,null,null,null,null,null,null,null,null,null,null,{"$f":"'Annual Data'!$AD$15","v":1},{"$f":"'Annual Data'!$AG$15","v":0.1},0,0]
[null,null,null,null,null,null,null,null,null,null,null,null,null,null,null,null,null,null,null,null,null,null,null,null,null,null,null,null,null,null,null,null,{"$f":"'Annual Data'!$AD$15","v":1},{"$f":"'Annual Data'!$AG$15","v":0.1},0,0]
[null,null,null,null,null,null,null,null,null,null,null,null,null,null,null,null,null,null,null,null,null,null,null,null,null,null,null,null,null,null,null,null,{"$f":"'Annual Data'!$AD$15","v":1},{"$f":"'Annual Data'!$AG$15","v":0.1},0,0]
[null,null,null,null,null,null,null,null,null,null,null,null,null,null,null,null,null,null,null,null,null,null,null,null,null,null,null,null,null,null,null,null,{"$f":"'Annual Data'!$AD$15","v":1},{"$f":"'Annual Data'!$AG$15","v":0.1},0,0]
[null,null,null,null,null,null,null,null,null,null,null,null,null,null,null,null,null,null,null,null,null,null,null,null,null,null,null,null,null,null,null,null,{"$f":"'Annual Data'!$AD$15","v":1},{"$f":"'Annual Data'!$AG$15","v":0.1},0,0]
[null,null,null,null,null,null,null,null,null,null,null,null,null,null,null,null,null,null,null,null,null,null,null,null,null,null,null,null,null,null,null,null,{"$f":"'Annual Data'!$AD$15","v":1},{"$f":"'Annual Data'!$AG$15","v":0.1},0,0]
[null,null,null,null,null,null,null,null,null,null,null,null,null,null,null,null,null,null,null,null,null,null,null,null,null,null,null,null,null,null,null,null,{"$f":"'Annual Data'!$AD$15","v":1},{"$f":"'Annual Data'!$AG$15","v":0.1},0,0]
[null,null,null,null,null,null,null,null,null,null,null,null,null,null,null,null,null,null,null,null,null,null,null,null,null,null,null,null,null,null,null,null,{"$f":"'Annual Data'!$AD$15","v":1},{"$f":"'Annual Data'!$AG$15","v":0.1},0,0]
[null,null,null,null,null,null,null,null,null,null,null,null,null,null,null,null,null,null,null,null,null,null,null,null,null,null,null,null,null,null,null,null,{"$f":"'Annual Data'!$AD$15","v":1},{"$f":"'Annual Data'!$AG$15","v":0.1},0,0]
[null,null,null,null,null,null,null,null,null,null,null,null,null,null,null,null,null,null,null,null,null,null,null,null,null,null,null,null,null,null,null,null,{"$f":"'Annual Data'!$AD$15","v":1},{"$f":"'Annual Data'!$AG$15","v":0.1},0,0]
[null,null,null,null,null,null,null,null,null,null,null,null,null,null,null,null,null,null,null,null,null,null,null,null,null,null,null,null,null,null,null,null,{"$f":"'Annual Data'!$AD$15","v":1},{"$f":"'Annual Data'!$AG$15","v":0.1},0,0]
[null,null,null,null,null,null,null,null,null,null,null,null,null,null,null,null,null,null,null,null,null,null,null,null,null,null,null,null,null,null,null,null,{"$f":"'Annual Data'!$AD$15","v":1},{"$f":"'Annual Data'!$AG$15","v":0.1},0,0]
[null,null,null,null,null,null,null,null,null,null,null,null,null,null,null,null,null,null,null,null,null,null,null,null,null,null,null,null,null,null,null,null,{"$f":"'Annual Data'!$AD$15","v":1},{"$f":"'Annual Data'!$AG$15","v":0.1},0,0]
[null,null,null,null,null,null,null,null,null,null,null,null,null,null,null,null,null,null,null,null,null,null,null,null,null,null,null,null,null,null,null,null,{"$f":"'Annual Data'!$AD$15","v":1},{"$f":"'Annual Data'!$AG$15","v":0.1},{"$f":"MAX(C2570:F2570)","v":0},{"$f":"MAX(G2570:R2570)","v":0}]
[null,null,null,null,null,null,null,null,null,null,null,null,null,null,null,null,null,null,null,null,null,null,null,null,null,null,null,null,null,null,null,null,{"$f":"'Annual Data'!$AD$15","v":1},{"$f":"'Annual Data'!$AG$15","v":0.1},0,0]
[null,null,null,null,null,null,null,null,null,null,null,null,null,null,null,null,null,null,null,null,null,null,null,null,null,null,null,null,null,null,null,null,{"$f":"'Annual Data'!$AD$15","v":1},{"$f":"'Annual Data'!$AG$15","v":0.1},0,0]
[null,null,null,null,null,null,null,null,null,null,null,null,null,null,null,null,null,null,null,null,null,null,null,null,null,null,null,null,null,null,null,null,{"$f":"'Annual Data'!$AD$15","v":1},{"$f":"'Annual Data'!$AG$15","v":0.1},0,0]
[null,null,null,null,null,null,null,null,null,null,null,null,null,null,null,null,null,null,null,null,null,null,null,null,null,null,null,null,null,null,null,null,{"$f":"'Annual Data'!$AD$15","v":1},{"$f":"'Annual Data'!$AG$15","v":0.1},0,0]
[null,null,null,null,null,null,null,null,null,null,null,null,null,null,null,null,null,null,null,null,null,null,null,null,null,null,null,null,null,null,null,null,{"$f":"'Annual Data'!$AD$15","v":1},{"$f":"'Annual Data'!$AG$15","v":0.1},0,0]
[null,null,null,null,null,null,null,null,null,null,null,null,null,null,null,null,null,null,null,null,null,null,null,null,null,null,null,null,null,null,null,null,{"$f":"'Annual Data'!$AD$15","v":1},{"$f":"'Annual Data'!$AG$15","v":0.1},0,0]
[null,null,null,null,null,null,null,null,null,null,null,null,null,null,null,null,null,null,null,null,null,null,null,null,null,null,null,null,null,null,null,null,{"$f":"'Annual Data'!$AD$15","v":1},{"$f":"'Annual Data'!$AG$15","v":0.1},0,0]
[null,null,null,null,null,null,null,null,null,null,null,null,null,null,null,null,null,null,null,null,null,null,null,null,null,null,null,null,null,null,null,null,{"$f":"'Annual Data'!$AD$15","v":1},{"$f":"'Annual Data'!$AG$15","v":0.1},0,0]
[null,null,null,null,null,null,null,null,null,null,null,null,null,null,null,null,null,null,null,null,null,null,null,null,null,null,null,null,null,null,null,null,{"$f":"'Annual Data'!$AD$15","v":1},{"$f":"'Annual Data'!$AG$15","v":0.1},0,0]
[null,null,null,null,null,null,null,null,null,null,null,null,null,null,null,null,null,null,null,null,null,null,null,null,null,null,null,null,null,null,null,null,{"$f":"'Annual Data'!$AD$15","v":1},{"$f":"'Annual Data'!$AG$15","v":0.1},0,0]
[null,null,null,null,null,null,null,null,null,null,null,null,null,null,null,null,null,null,null,null,null,null,null,null,null,null,null,null,null,null,null,null,{"$f":"'Annual Data'!$AD$15","v":1},{"$f":"'Annual Data'!$AG$15","v":0.1},0,0]
[null,null,null,null,null,null,null,null,null,null,null,null,null,null,null,null,null,null,null,null,null,null,null,null,null,null,null,null,null,null,null,null,{"$f":"'Annual Data'!$AD$15","v":1},{"$f":"'Annual Data'!$AG$15","v":0.1},0,0]
[null,null,null,null,null,null,null,null,null,null,null,null,null,null,null,null,null,null,null,null,null,null,null,null,null,null,null,null,null,null,null,null,{"$f":"'Annual Data'!$AD$15","v":1},{"$f":"'Annual Data'!$AG$15","v":0.1},0,0]
[null,null,null,null,null,null,null,null,null,null,null,null,null,null,null,null,null,null,null,null,null,null,null,null,null,null,null,null,null,null,null,null,{"$f":"'Annual Data'!$AD$15","v":1},{"$f":"'Annual Data'!$AG$15","v":0.1},0,0]
[null,null,null,null,null,null,null,null,null,null,null,null,null,null,null,null,null,null,null,null,null,null,null,null,null,null,null,null,null,null,null,null,{"$f":"'Annual Data'!$AD$15","v":1},{"$f":"'Annual Data'!$AG$15","v":0.1},0,0]
[null,null,null,null,null,null,null,null,null,null,null,null,null,null,null,null,null,null,null,null,null,null,null,null,null,null,null,null,null,null,null,null,{"$f":"'Annual Data'!$AD$15","v":1},{"$f":"'Annual Data'!$AG$15","v":0.1},0,0]
[null,null,null,null,null,null,null,null,null,null,null,null,null,null,null,null,null,null,null,null,null,null,null,null,null,null,null,null,null,null,null,null,{"$f":"'Annual Data'!$AD$15","v":1},{"$f":"'Annual Data'!$AG$15","v":0.1},0,0]
[null,null,null,null,null,null,null,null,null,null,null,null,null,null,null,null,null,null,null,null,null,null,null,null,null,null,null,null,null,null,null,null,{"$f":"'Annual Data'!$AD$15","v":1},{"$f":"'Annual Data'!$AG$15","v":0.1},0,0]
[null,null,null,null,null,null,null,null,null,null,null,null,null,null,null,null,null,null,null,null,null,null,null,null,null,null,null,null,null,null,null,null,{"$f":"'Annual Data'!$AD$15","v":1},{"$f":"'Annual Data'!$AG$15","v":0.1},0,0]
[null,null,null,null,null,null,null,null,null,null,null,null,null,null,null,null,null,null,null,null,null,null,null,null,null,null,null,null,null,null,null,null,{"$f":"'Annual Data'!$AD$15","v":1},{"$f":"'Annual Data'!$AG$15","v":0.1},0,0]
[null,null,null,null,null,null,null,null,null,null,null,null,null,null,null,null,null,null,null,null,null,null,null,null,null,null,null,null,null,null,null,null,{"$f":"'Annual Data'!$AD$15","v":1},{"$f":"'Annual Data'!$AG$15","v":0.1},0,0]
[null,null,null,null,null,null,null,null,null,null,null,null,null,null,null,null,null,null,null,null,null,null,null,null,null,null,null,null,null,null,null,null,{"$f":"'Annual Data'!$AD$15","v":1},{"$f":"'Annual Data'!$AG$15","v":0.1},0,0]
[null,null,null,null,null,null,null,null,null,null,null,null,null,null,null,null,null,null,null,null,null,null,null,null,null,null,null,null,null,null,null,null,{"$f":"'Annual Data'!$AD$15","v":1},{"$f":"'Annual Data'!$AG$15","v":0.1},0,0]
[null,null,null,null,null,null,null,null,null,null,null,null,null,null,null,null,null,null,null,null,null,null,null,null,null,null,null,null,null,null,null,null,{"$f":"'Annual Data'!$AD$15","v":1},{"$f":"'Annual Data'!$AG$15","v":0.1},0,0]
[null,null,null,null,null,null,null,null,null,null,null,null,null,null,null,null,null,null,null,null,null,null,null,null,null,null,null,null,null,null,null,null,{"$f":"'Annual Data'!$AD$15","v":1},{"$f":"'Annual Data'!$AG$15","v":0.1},0,0]
[null,null,null,null,null,null,null,null,null,null,null,null,null,null,null,null,null,null,null,null,null,null,null,null,null,null,null,null,null,null,null,null,{"$f":"'Annual Data'!$AD$15","v":1},{"$f":"'Annual Data'!$AG$15","v":0.1},0,0]
[null,null,null,null,null,null,null,null,null,null,null,null,null,null,null,null,null,null,null,null,null,null,null,null,null,null,null,null,null,null,null,null,{"$f":"'Annual Data'!$AD$15","v":1},{"$f":"'Annual Data'!$AG$15","v":0.1},0,0]
[null,null,null,null,null,null,null,null,null,null,null,null,null,null,null,null,null,null,null,null,null,null,null,null,null,null,null,null,null,null,null,null,{"$f":"'Annual Data'!$AD$15","v":1},{"$f":"'Annual Data'!$AG$15","v":0.1},0,0]
[null,null,null,null,null,null,null,null,null,null,null,null,null,null,null,null,null,null,null,null,null,null,null,null,null,null,null,null,null,null,null,null,{"$f":"'Annual Data'!$AD$15","v":1},{"$f":"'Annual Data'!$AG$15","v":0.1},0,0]
[null,null,null,null,null,null,null,null,null,null,null,null,null,null,null,null,null,null,null,null,null,null,null,null,null,null,null,null,null,null,null,null,{"$f":"'Annual Data'!$AD$15","v":1},{"$f":"'Annual Data'!$AG$15","v":0.1},0,0]
[null,null,null,null,null,null,null,null,null,null,null,null,null,null,null,null,null,null,null,null,null,null,null,null,null,null,null,null,null,null,null,null,{"$f":"'Annual Data'!$AD$15","v":1},{"$f":"'Annual Data'!$AG$15","v":0.1},0,0]
[null,null,null,null,null,null,null,null,null,null,null,null,null,null,null,null,null,null,null,null,null,null,null,null,null,null,null,null,null,null,null,null,{"$f":"'Annual Data'!$AD$15","v":1},{"$f":"'Annual Data'!$AG$15","v":0.1},0,0]
[null,null,null,null,null,null,null,null,null,null,null,null,null,null,null,null,null,null,null,null,null,null,null,null,null,null,null,null,null,null,null,null,{"$f":"'Annual Data'!$AD$15","v":1},{"$f":"'Annual Data'!$AG$15","v":0.1},0,0]
[null,null,null,null,null,null,null,null,null,null,null,null,null,null,null,null,null,null,null,null,null,null,null,null,null,null,null,null,null,null,null,null,{"$f":"'Annual Data'!$AD$15","v":1},{"$f":"'Annual Data'!$AG$15","v":0.1},0,0]
[null,null,null,null,null,null,null,null,null,null,null,null,null,null,null,null,null,null,null,null,null,null,null,null,null,null,null,null,null,null,null,null,{"$f":"'Annual Data'!$AD$15","v":1},{"$f":"'Annual Data'!$AG$15","v":0.1},0,0]
[null,null,null,null,null,null,null,null,null,null,null,null,null,null,null,null,null,null,null,null,null,null,null,null,null,null,null,null,null,null,null,null,{"$f":"'Annual Data'!$AD$15","v":1},{"$f":"'Annual Data'!$AG$15","v":0.1},0,0]
[null,null,null,null,null,null,null,null,null,null,null,null,null,null,null,null,null,null,null,null,null,null,null,null,null,null,null,null,null,null,null,null,{"$f":"'Annual Data'!$AD$15","v":1},{"$f":"'Annual Data'!$AG$15","v":0.1},0,0]
[null,null,null,null,null,null,null,null,null,null,null,null,null,null,null,null,null,null,null,null,null,null,null,null,null,null,null,null,null,null,null,null,{"$f":"'Annual Data'!$AD$15","v":1},{"$f":"'Annual Data'!$AG$15","v":0.1},0,0]
[null,null,null,null,null,null,null,null,null,null,null,null,null,null,null,null,null,null,null,null,null,null,null,null,null,null,null,null,null,null,null,null,{"$f":"'Annual Data'!$AD$15","v":1},{"$f":"'Annual Data'!$AG$15","v":0.1},0,0]
[null,null,null,null,null,null,null,null,null,null,null,null,null,null,null,null,null,null,null,null,null,null,null,null,null,null,null,null,null,null,null,null,{"$f":"'Annual Data'!$AD$15","v":1},{"$f":"'Annual Data'!$AG$15","v":0.1},0,0]
[null,null,null,null,null,null,null,null,null,null,null,null,null,null,null,null,null,null,null,null,null,null,null,null,null,null,null,null,null,null,null,null,{"$f":"'Annual Data'!$AD$15","v":1},{"$f":"'Annual Data'!$AG$15","v":0.1},0,0]
[null,null,null,null,null,null,null,null,null,null,null,null,null,null,null,null,null,null,null,null,null,null,null,null,null,null,null,null,null,null,null,null,{"$f":"'Annual Data'!$AD$15","v":1},{"$f":"'Annual Data'!$AG$15","v":0.1},0,0]
[null,null,null,null,null,null,null,null,null,null,null,null,null,null,null,null,null,null,null,null,null,null,null,null,null,null,null,null,null,null,null,null,{"$f":"'Annual Data'!$AD$15","v":1},{"$f":"'Annual Data'!$AG$15","v":0.1},0,0]
[null,null,null,null,null,null,null,null,null,null,null,null,null,null,null,null,null,null,null,null,null,null,null,null,null,null,null,null,null,null,null,null,{"$f":"'Annual Data'!$AD$15","v":1},{"$f":"'Annual Data'!$AG$15","v":0.1},0,0]
[null,null,null,null,null,null,null,null,null,null,null,null,null,null,null,null,null,null,null,null,null,null,null,null,null,null,null,null,null,null,null,null,{"$f":"'Annual Data'!$AD$15","v":1},{"$f":"'Annual Data'!$AG$15","v":0.1},0,0]
[null,null,null,null,null,null,null,null,null,null,null,null,null,null,null,null,null,null,null,null,null,null,null,null,null,null,null,null,null,null,null,null,{"$f":"'Annual Data'!$AD$15","v":1},{"$f":"'Annual Data'!$AG$15","v":0.1},0,0]
[null,null,null,null,null,null,null,null,null,null,null,null,null,null,null,null,null,null,null,null,null,null,null,null,null,null,null,null,null,null,null,null,{"$f":"'Annual Data'!$AD$15","v":1},{"$f":"'Annual Data'!$AG$15","v":0.1},0,0]
[null,null,null,null,null,null,null,null,null,null,null,null,null,null,null,null,null,null,null,null,null,null,null,null,null,null,null,null,null,null,null,null,{"$f":"'Annual Data'!$AD$15","v":1},{"$f":"'Annual Data'!$AG$15","v":0.1},0,0]
[null,null,null,null,null,null,null,null,null,null,null,null,null,null,null,null,null,null,null,null,null,null,null,null,null,null,null,null,null,null,null,null,{"$f":"'Annual Data'!$AD$15","v":1},{"$f":"'Annual Data'!$AG$15","v":0.1},0,0]
[null,null,null,null,null,null,null,null,null,null,null,null,null,null,null,null,null,null,null,null,null,null,null,null,null,null,null,null,null,null,null,null,{"$f":"'Annual Data'!$AD$15","v":1},{"$f":"'Annual Data'!$AG$15","v":0.1},0,0]
[null,null,null,null,null,null,null,null,null,null,null,null,null,null,null,null,null,null,null,null,null,null,null,null,null,null,null,null,null,null,null,null,{"$f":"'Annual Data'!$AD$15","v":1},{"$f":"'Annual Data'!$AG$15","v":0.1},0,0]
[null,null,null,null,null,null,null,null,null,null,null,null,null,null,null,null,null,null,null,null,null,null,null,null,null,null,null,null,null,null,null,null,{"$f":"'Annual Data'!$AD$15","v":1},{"$f":"'Annual Data'!$AG$15","v":0.1},0,0]
[null,null,null,null,null,null,null,null,null,null,null,null,null,null,null,null,null,null,null,null,null,null,null,null,null,null,null,null,null,null,null,null,{"$f":"'Annual Data'!$AD$15","v":1},{"$f":"'Annual Data'!$AG$15","v":0.1},0,0]
[null,null,null,null,null,null,null,null,null,null,null,null,null,null,null,null,null,null,null,null,null,null,null,null,null,null,null,null,null,null,null,null,{"$f":"'Annual Data'!$AD$15","v":1},{"$f":"'Annual Data'!$AG$15","v":0.1},0,0]
[null,null,null,null,null,null,null,null,null,null,null,null,null,null,null,null,null,null,null,null,null,null,null,null,null,null,null,null,null,null,null,null,{"$f":"'Annual Data'!$AD$15","v":1},{"$f":"'Annual Data'!$AG$15","v":0.1},0,0]
[null,null,null,null,null,null,null,null,null,null,null,null,null,null,null,null,null,null,null,null,null,null,null,null,null,null,null,null,null,null,null,null,{"$f":"'Annual Data'!$AD$15","v":1},{"$f":"'Annual Data'!$AG$15","v":0.1},0,0]
[null,null,null,null,null,null,null,null,null,null,null,null,null,null,null,null,null,null,null,null,null,null,null,null,null,null,null,null,null,null,null,null,{"$f":"'Annual Data'!$AD$15","v":1},{"$f":"'Annual Data'!$AG$15","v":0.1},0,0]
[null,null,null,null,null,null,null,null,null,null,null,null,null,null,null,null,null,null,null,null,null,null,null,null,null,null,null,null,null,null,null,null,{"$f":"'Annual Data'!$AD$15","v":1},{"$f":"'Annual Data'!$AG$15","v":0.1},0,0]
[null,null,null,null,null,null,null,null,null,null,null,null,null,null,null,null,null,null,null,null,null,null,null,null,null,null,null,null,null,null,null,null,{"$f":"'Annual Data'!$AD$15","v":1},{"$f":"'Annual Data'!$AG$15","v":0.1},0,0]
[null,null,null,null,null,null,null,null,null,null,null,null,null,null,null,null,null,null,null,null,null,null,null,null,null,null,null,null,null,null,null,null,{"$f":"'Annual Data'!$AD$15","v":1},{"$f":"'Annual Data'!$AG$15","v":0.1},0,0]
[null,null,null,null,null,null,null,null,null,null,null,null,null,null,null,null,null,null,null,null,null,null,null,null,null,null,null,null,null,null,null,null,{"$f":"'Annual Data'!$AD$15","v":1},{"$f":"'Annual Data'!$AG$15","v":0.1},0,0]
[null,null,null,null,null,null,null,null,null,null,null,null,null,null,null,null,null,null,null,null,null,null,null,null,null,null,null,null,null,null,null,null,{"$f":"'Annual Data'!$AD$15","v":1},{"$f":"'Annual Data'!$AG$15","v":0.1},0,0]
[null,null,null,null,null,null,null,null,null,null,null,null,null,null,null,null,null,null,null,null,null,null,null,null,null,null,null,null,null,null,null,null,{"$f":"'Annual Data'!$AD$15","v":1},{"$f":"'Annual Data'!$AG$15","v":0.1},0,0]
[null,null,null,null,null,null,null,null,null,null,null,null,null,null,null,null,null,null,null,null,null,null,null,null,null,null,null,null,null,null,null,null,{"$f":"'Annual Data'!$AD$15","v":1},{"$f":"'Annual Data'!$AG$15","v":0.1},0,0]
[null,null,null,null,null,null,null,null,null,null,null,null,null,null,null,null,null,null,null,null,null,null,null,null,null,null,null,null,null,null,null,null,{"$f":"'Annual Data'!$AD$15","v":1},{"$f":"'Annual Data'!$AG$15","v":0.1},0,0]
[null,null,null,null,null,null,null,null,null,null,null,null,null,null,null,null,null,null,null,null,null,null,null,null,null,null,null,null,null,null,null,null,{"$f":"'Annual Data'!$AD$15","v":1},{"$f":"'Annual Data'!$AG$15","v":0.1},0,0]
[null,null,null,null,null,null,null,null,null,null,null,null,null,null,null,null,null,null,null,null,null,null,null,null,null,null,null,null,null,null,null,null,{"$f":"'Annual Data'!$AD$15","v":1},{"$f":"'Annual Data'!$AG$15","v":0.1},0,0]
[null,null,null,null,null,null,null,null,null,null,null,null,null,null,null,null,null,null,null,null,null,null,null,null,null,null,null,null,null,null,null,null,{"$f":"'Annual Data'!$AD$15","v":1},{"$f":"'Annual Data'!$AG$15","v":0.1},0,0]
[null,null,null,null,null,null,null,null,null,null,null,null,null,null,null,null,null,null,null,null,null,null,null,null,null,null,null,null,null,null,null,null,{"$f":"'Annual Data'!$AD$15","v":1},{"$f":"'Annual Data'!$AG$15","v":0.1},0,0]
[null,null,null,null,null,null,null,null,null,null,null,null,null,null,null,null,null,null,null,null,null,null,null,null,null,null,null,null,null,null,null,null,{"$f":"'Annual Data'!$AD$15","v":1},{"$f":"'Annual Data'!$AG$15","v":0.1},0,0]
[null,null,null,null,null,null,null,null,null,null,null,null,null,null,null,null,null,null,null,null,null,null,null,null,null,null,null,null,null,null,null,null,{"$f":"'Annual Data'!$AD$15","v":1},{"$f":"'Annual Data'!$AG$15","v":0.1},0,0]
[null,null,null,null,null,null,null,null,null,null,null,null,null,null,null,null,null,null,null,null,null,null,null,null,null,null,null,null,null,null,null,null,{"$f":"'Annual Data'!$AD$15","v":1},{"$f":"'Annual Data'!$AG$15","v":0.1},0,0]
[null,null,null,null,null,null,null,null,null,null,null,null,null,null,null,null,null,null,null,null,null,null,null,null,null,null,null,null,null,null,null,null,{"$f":"'Annual Data'!$AD$15","v":1},{"$f":"'Annual Data'!$AG$15","v":0.1},0,0]
[null,null,null,null,null,null,null,null,null,null,null,null,null,null,null,null,null,null,null,null,null,null,null,null,null,null,null,null,null,null,null,null,{"$f":"'Annual Data'!$AD$15","v":1},{"$f":"'Annual Data'!$AG$15","v":0.1},0,0]
[null,null,null,null,null,null,null,null,null,null,null,null,null,null,null,null,null,null,null,null,null,null,null,null,null,null,null,null,null,null,null,null,{"$f":"'Annual Data'!$AD$15","v":1},{"$f":"'Annual Data'!$AG$15","v":0.1},0,0]
[null,null,null,null,null,null,null,null,null,null,null,null,null,null,null,null,null,null,null,null,null,null,null,null,null,null,null,null,null,null,null,null,{"$f":"'Annual Data'!$AD$15","v":1},{"$f":"'Annual Data'!$AG$15","v":0.1},0,0]
[null,null,null,null,null,null,null,null,null,null,null,null,null,null,null,null,null,null,null,null,null,null,null,null,null,null,null,null,null,null,null,null,{"$f":"'Annual Data'!$AD$15","v":1},{"$f":"'Annual Data'!$AG$15","v":0.1},0,0]
[null,null,null,null,null,null,null,null,null,null,null,null,null,null,null,null,null,null,null,null,null,null,null,null,null,null,null,null,null,null,null,null,{"$f":"'Annual Data'!$AD$15","v":1},{"$f":"'Annual Data'!$AG$15","v":0.1},0,0]
[null,null,null,null,null,null,null,null,null,null,null,null,null,null,null,null,null,null,null,null,null,null,null,null,null,null,null,null,null,null,null,null,{"$f":"'Annual Data'!$AD$15","v":1},{"$f":"'Annual Data'!$AG$15","v":0.1},0,0]
[null,null,null,null,null,null,null,null,null,null,null,null,null,null,null,null,null,null,null,null,null,null,null,null,null,null,null,null,null,null,null,null,{"$f":"'Annual Data'!$AD$15","v":1},{"$f":"'Annual Data'!$AG$15","v":0.1},0,0]
[null,null,null,null,null,null,null,null,null,null,null,null,null,null,null,null,null,null,null,null,null,null,null,null,null,null,null,null,null,null,null,null,{"$f":"'Annual Data'!$AD$15","v":1},{"$f":"'Annual Data'!$AG$15","v":0.1},0,0]
[null,null,null,null,null,null,null,null,null,null,null,null,null,null,null,null,null,null,null,null,null,null,null,null,null,null,null,null,null,null,null,null,{"$f":"'Annual Data'!$AD$15","v":1},{"$f":"'Annual Data'!$AG$15","v":0.1},0,0]
[null,null,null,null,null,null,null,null,null,null,null,null,null,null,null,null,null,null,null,null,null,null,null,null,null,null,null,null,null,null,null,null,{"$f":"'Annual Data'!$AD$15","v":1},{"$f":"'Annual Data'!$AG$15","v":0.1},0,0]
[null,null,null,null,null,null,null,null,null,null,null,null,null,null,null,null,null,null,null,null,null,null,null,null,null,null,null,null,null,null,null,null,{"$f":"'Annual Data'!$AD$15","v":1},{"$f":"'Annual Data'!$AG$15","v":0.1},0,0]
[null,null,null,null,null,null,null,null,null,null,null,null,null,null,null,null,null,null,null,null,null,null,null,null,null,null,null,null,null,null,null,null,{"$f":"'Annual Data'!$AD$15","v":1},{"$f":"'Annual Data'!$AG$15","v":0.1},0,0]
[null,null,null,null,null,null,null,null,null,null,null,null,null,null,null,null,null,null,null,null,null,null,null,null,null,null,null,null,null,null,null,null,{"$f":"'Annual Data'!$AD$15","v":1},{"$f":"'Annual Data'!$AG$15","v":0.1},0,0]
[null,null,null,null,null,null,null,null,null,null,null,null,null,null,null,null,null,null,null,null,null,null,null,null,null,null,null,null,null,null,null,null,{"$f":"'Annual Data'!$AD$15","v":1},{"$f":"'Annual Data'!$AG$15","v":0.1},0,0]
[null,null,null,null,null,null,null,null,null,null,null,null,null,null,null,null,null,null,null,null,null,null,null,null,null,null,null,null,null,null,null,null,{"$f":"'Annual Data'!$AD$15","v":1},{"$f":"'Annual Data'!$AG$15","v":0.1},0,0]
[null,null,null,null,null,null,null,null,null,null,null,null,null,null,null,null,null,null,null,null,null,null,null,null,null,null,null,null,null,null,null,null,{"$f":"'Annual Data'!$AD$15","v":1},{"$f":"'Annual Data'!$AG$15","v":0.1},0,0]
[null,null,null,null,null,null,null,null,null,null,null,null,null,null,null,null,null,null,null,null,null,null,null,null,null,null,null,null,null,null,null,null,{"$f":"'Annual Data'!$AD$15","v":1},{"$f":"'Annual Data'!$AG$15","v":0.1},0,0]
[null,null,null,null,null,null,null,null,null,null,null,null,null,null,null,null,null,null,null,null,null,null,null,null,null,null,null,null,null,null,null,null,{"$f":"'Annual Data'!$AD$15","v":1},{"$f":"'Annual Data'!$AG$15","v":0.1},0,0]
[null,null,null,null,null,null,null,null,null,null,null,null,null,null,null,null,null,null,null,null,null,null,null,null,null,null,null,null,null,null,null,null,{"$f":"'Annual Data'!$AD$15","v":1},{"$f":"'Annual Data'!$AG$15","v":0.1},0,0]
[null,null,null,null,null,null,null,null,null,null,null,null,null,null,null,null,null,null,null,null,null,null,null,null,null,null,null,null,null,null,null,null,{"$f":"'Annual Data'!$AD$15","v":1},{"$f":"'Annual Data'!$AG$15","v":0.1},0,0]
[null,null,null,null,null,null,null,null,null,null,null,null,null,null,null,null,null,null,null,null,null,null,null,null,null,null,null,null,null,null,null,null,{"$f":"'Annual Data'!$AD$15","v":1},{"$f":"'Annual Data'!$AG$15","v":0.1},0,0]
[null,null,null,null,null,null,null,null,null,null,null,null,null,null,null,null,null,null,null,null,null,null,null,null,null,null,null,null,null,null,null,null,{"$f":"'Annual Data'!$AD$15","v":1},{"$f":"'Annual Data'!$AG$15","v":0.1},0,0]
[null,null,null,null,null,null,null,null,null,null,null,null,null,null,null,null,null,null,null,null,null,null,null,null,null,null,null,null,null,null,null,null,{"$f":"'Annual Data'!$AD$15","v":1},{"$f":"'Annual Data'!$AG$15","v":0.1},0,0]
[null,null,null,null,null,null,null,null,null,null,null,null,null,null,null,null,null,null,null,null,null,null,null,null,null,null,null,null,null,null,null,null,{"$f":"'Annual Data'!$AD$15","v":1},{"$f":"'Annual Data'!$AG$15","v":0.1},0,0]
[null,null,null,null,null,null,null,null,null,null,null,null,null,null,null,null,null,null,null,null,null,null,null,null,null,null,null,null,null,null,null,null,{"$f":"'Annual Data'!$AD$15","v":1},{"$f":"'Annual Data'!$AG$15","v":0.1},0,0]
[null,null,null,null,null,null,null,null,null,null,null,null,null,null,null,null,null,null,null,null,null,null,null,null,null,null,null,null,null,null,null,null,{"$f":"'Annual Data'!$AD$15","v":1},{"$f":"'Annual Data'!$AG$15","v":0.1},0,0]
[null,null,null,null,null,null,null,null,null,null,null,null,null,null,null,null,null,null,null,null,null,null,null,null,null,null,null,null,null,null,null,null,{"$f":"'Annual Data'!$AD$15","v":1},{"$f":"'Annual Data'!$AG$15","v":0.1},0,0]
[null,null,null,null,null,null,null,null,null,null,null,null,null,null,null,null,null,null,null,null,null,null,null,null,null,null,null,null,null,null,null,null,{"$f":"'Annual Data'!$AD$15","v":1},{"$f":"'Annual Data'!$AG$15","v":0.1},0,0]
[null,null,null,null,null,null,null,null,null,null,null,null,null,null,null,null,null,null,null,null,null,null,null,null,null,null,null,null,null,null,null,null,{"$f":"'Annual Data'!$AD$15","v":1},{"$f":"'Annual Data'!$AG$15","v":0.1},0,0]
[null,null,null,null,null,null,null,null,null,null,null,null,null,null,null,null,null,null,null,null,null,null,null,null,null,null,null,null,null,null,null,null,{"$f":"'Annual Data'!$AD$15","v":1},{"$f":"'Annual Data'!$AG$15","v":0.1},0,0]
[null,null,null,null,null,null,null,null,null,null,null,null,null,null,null,null,null,null,null,null,null,null,null,null,null,null,null,null,null,null,null,null,{"$f":"'Annual Data'!$AD$15","v":1},{"$f":"'Annual Data'!$AG$15","v":0.1},0,0]
[null,null,null,null,null,null,null,null,null,null,null,null,null,null,null,null,null,null,null,null,null,null,null,null,null,null,null,null,null,null,null,null,{"$f":"'Annual Data'!$AD$15","v":1},{"$f":"'Annual Data'!$AG$15","v":0.1},0,0]
[null,null,null,null,null,null,null,null,null,null,null,null,null,null,null,null,null,null,null,null,null,null,null,null,null,null,null,null,null,null,null,null,{"$f":"'Annual Data'!$AD$15","v":1},{"$f":"'Annual Data'!$AG$15","v":0.1},0,0]
[null,null,null,null,null,null,null,null,null,null,null,null,null,null,null,null,null,null,null,null,null,null,null,null,null,null,null,null,null,null,null,null,{"$f":"'Annual Data'!$AD$15","v":1},{"$f":"'Annual Data'!$AG$15","v":0.1},{"$f":"MAX(C2762:F2762)","v":0},{"$f":"MAX(G2762:R2762)","v":0}]
[null,null,null,null,null,null,null,null,null,null,null,null,null,null,null,null,null,null,null,null,null,null,null,null,null,null,null,null,null,null,null,null,{"$f":"'Annual Data'!$AD$15","v":1},{"$f":"'Annual Data'!$AG$15","v":0.1},0,0]
[null,null,null,null,null,null,null,null,null,null,null,null,null,null,null,null,null,null,null,null,null,null,null,null,null,null,null,null,null,null,null,null,{"$f":"'Annual Data'!$AD$15","v":1},{"$f":"'Annual Data'!$AG$15","v":0.1},0,0]
[null,null,null,null,null,null,null,null,null,null,null,null,null,null,null,null,null,null,null,null,null,null,null,null,null,null,null,null,null,null,null,null,{"$f":"'Annual Data'!$AD$15","v":1},{"$f":"'Annual Data'!$AG$15","v":0.1},0,0]
[null,null,null,null,null,null,null,null,null,null,null,null,null,null,null,null,null,null,null,null,null,null,null,null,null,null,null,null,null,null,null,null,{"$f":"'Annual Data'!$AD$15","v":1},{"$f":"'Annual Data'!$AG$15","v":0.1},0,0]
[null,null,null,null,null,null,null,null,null,null,null,null,null,null,null,null,null,null,null,null,null,null,null,null,null,null,null,null,null,null,null,null,{"$f":"'Annual Data'!$AD$15","v":1},{"$f":"'Annual Data'!$AG$15","v":0.1},0,0]
[null,null,null,null,null,null,null,null,null,null,null,null,null,null,null,null,null,null,null,null,null,null,null,null,null,null,null,null,null,null,null,null,{"$f":"'Annual Data'!$AD$15","v":1},{"$f":"'Annual Data'!$AG$15","v":0.1},0,0]
[null,null,null,null,null,null,null,null,null,null,null,null,null,null,null,null,null,null,null,null,null,null,null,null,null,null,null,null,null,null,null,null,{"$f":"'Annual Data'!$AD$15","v":1},{"$f":"'Annual Data'!$AG$15","v":0.1},0,0]
[null,null,null,null,null,null,null,null,null,null,null,null,null,null,null,null,null,null,null,null,null,null,null,null,null,null,null,null,null,null,null,null,{"$f":"'Annual Data'!$AD$15","v":1},{"$f":"'Annual Data'!$AG$15","v":0.1},0,0]
[null,null,null,null,null,null,null,null,null,null,null,null,null,null,null,null,null,null,null,null,null,null,null,null,null,null,null,null,null,null,null,null,{"$f":"'Annual Data'!$AD$15","v":1},{"$f":"'Annual Data'!$AG$15","v":0.1},0,0]
[null,null,null,null,null,null,null,null,null,null,null,null,null,null,null,null,null,null,null,null,null,null,null,null,null,null,null,null,null,null,null,null,{"$f":"'Annual Data'!$AD$15","v":1},{"$f":"'Annual Data'!$AG$15","v":0.1},0,0]
[null,null,null,null,null,null,null,null,null,null,null,null,null,null,null,null,null,null,null,null,null,null,null,null,null,null,null,null,null,null,null,null,{"$f":"'Annual Data'!$AD$15","v":1},{"$f":"'Annual Data'!$AG$15","v":0.1},0,0]
[null,null,null,null,null,null,null,null,null,null,null,null,null,null,null,null,null,null,null,null,null,null,null,null,null,null,null,null,null,null,null,null,{"$f":"'Annual Data'!$AD$15","v":1},{"$f":"'Annual Data'!$AG$15","v":0.1},0,0]
[null,null,null,null,null,null,null,null,null,null,null,null,null,null,null,null,null,null,null,null,null,null,null,null,null,null,null,null,null,null,null,null,{"$f":"'Annual Data'!$AD$15","v":1},{"$f":"'Annual Data'!$AG$15","v":0.1},0,0]
[null,null,null,null,null,null,null,null,null,null,null,null,null,null,null,null,null,null,null,null,null,null,null,null,null,null,null,null,null,null,null,null,{"$f":"'Annual Data'!$AD$15","v":1},{"$f":"'Annual Data'!$AG$15","v":0.1},0,0]
[null,null,null,null,null,null,null,null,null,null,null,null,null,null,null,null,null,null,null,null,null,null,null,null,null,null,null,null,null,null,null,null,{"$f":"'Annual Data'!$AD$15","v":1},{"$f":"'Annual Data'!$AG$15","v":0.1},0,0]
[null,null,null,null,null,null,null,null,null,null,null,null,null,null,null,null,null,null,null,null,null,null,null,null,null,null,null,null,null,null,null,null,{"$f":"'Annual Data'!$AD$15","v":1},{"$f":"'Annual Data'!$AG$15","v":0.1},0,0]
[null,null,null,null,null,null,null,null,null,null,null,null,null,null,null,null,null,null,null,null,null,null,null,null,null,null,null,null,null,null,null,null,{"$f":"'Annual Data'!$AD$15","v":1},{"$f":"'Annual Data'!$AG$15","v":0.1},0,0]
[null,null,null,null,null,null,null,null,null,null,null,null,null,null,null,null,null,null,null,null,null,null,null,null,null,null,null,null,null,null,null,null,{"$f":"'Annual Data'!$AD$15","v":1},{"$f":"'Annual Data'!$AG$15","v":0.1},0,0]
[null,null,null,null,null,null,null,null,null,null,null,null,null,null,null,null,null,null,null,null,null,null,null,null,null,null,null,null,null,null,null,null,{"$f":"'Annual Data'!$AD$15","v":1},{"$f":"'Annual Data'!$AG$15","v":0.1},0,0]
[null,null,null,null,null,null,null,null,null,null,null,null,null,null,null,null,null,null,null,null,null,null,null,null,null,null,null,null,null,null,null,null,{"$f":"'Annual Data'!$AD$15","v":1},{"$f":"'Annual Data'!$AG$15","v":0.1},0,0]
[null,null,null,null,null,null,null,null,null,null,null,null,null,null,null,null,null,null,null,null,null,null,null,null,null,null,null,null,null,null,null,null,{"$f":"'Annual Data'!$AD$15","v":1},{"$f":"'Annual Data'!$AG$15","v":0.1},0,0]
[null,null,null,null,null,null,null,null,null,null,null,null,null,null,null,null,null,null,null,null,null,null,null,null,null,null,null,null,null,null,null,null,{"$f":"'Annual Data'!$AD$15","v":1},{"$f":"'Annual Data'!$AG$15","v":0.1},0,0]
[null,null,null,null,null,null,null,null,null,null,null,null,null,null,null,null,null,null,null,null,null,null,null,null,null,null,null,null,null,null,null,null,{"$f":"'Annual Data'!$AD$15","v":1},{"$f":"'Annual Data'!$AG$15","v":0.1},0,0]
[null,null,null,null,null,null,null,null,null,null,null,null,null,null,null,null,null,null,null,null,null,null,null,null,null,null,null,null,null,null,null,null,{"$f":"'Annual Data'!$AD$15","v":1},{"$f":"'Annual Data'!$AG$15","v":0.1},0,0]
[null,null,null,null,null,null,null,null,null,null,null,null,null,null,null,null,null,null,null,null,null,null,null,null,null,null,null,null,null,null,null,null,{"$f":"'Annual Data'!$AD$15","v":1},{"$f":"'Annual Data'!$AG$15","v":0.1},0,0]
[null,null,null,null,null,null,null,null,null,null,null,null,null,null,null,null,null,null,null,null,null,null,null,null,null,null,null,null,null,null,null,null,{"$f":"'Annual Data'!$AD$15","v":1},{"$f":"'Annual Data'!$AG$15","v":0.1},0,0]
[null,null,null,null,null,null,null,null,null,null,null,null,null,null,null,null,null,null,null,null,null,null,null,null,null,null,null,null,null,null,null,null,{"$f":"'Annual Data'!$AD$15","v":1},{"$f":"'Annual Data'!$AG$15","v":0.1},0,0]
[null,null,null,null,null,null,null,null,null,null,null,null,null,null,null,null,null,null,null,null,null,null,null,null,null,null,null,null,null,null,null,null,{"$f":"'Annual Data'!$AD$15","v":1},{"$f":"'Annual Data'!$AG$15","v":0.1},0,0]
[null,null,null,null,null,null,null,null,null,null,null,null,null,null,null,null,null,null,null,null,null,null,null,null,null,null,null,null,null,null,null,null,{"$f":"'Annual Data'!$AD$15","v":1},{"$f":"'Annual Data'!$AG$15","v":0.1},0,0]
[null,null,null,null,null,null,null,null,null,null,null,null,null,null,null,null,null,null,null,null,null,null,null,null,null,null,null,null,null,null,null,null,{"$f":"'Annual Data'!$AD$15","v":1},{"$f":"'Annual Data'!$AG$15","v":0.1},0,0]
[null,null,null,null,null,null,null,null,null,null,null,null,null,null,null,null,null,null,null,null,null,null,null,null,null,null,null,null,null,null,null,null,{"$f":"'Annual Data'!$AD$15","v":1},{"$f":"'Annual Data'!$AG$15","v":0.1},0,0]
[null,null,null,null,null,null,null,null,null,null,null,null,null,null,null,null,null,null,null,null,null,null,null,null,null,null,null,null,null,null,null,null,{"$f":"'Annual Data'!$AD$15","v":1},{"$f":"'Annual Data'!$AG$15","v":0.1},0,0]
[null,null,null,null,null,null,null,null,null,null,null,null,null,null,null,null,null,null,null,null,null,null,null,null,null,null,null,null,null,null,null,null,{"$f":"'Annual Data'!$AD$15","v":1},{"$f":"'Annual Data'!$AG$15","v":0.1},0,0]
[null,null,null,null,null,null,null,null,null,null,null,null,null,null,null,null,null,null,null,null,null,null,null,null,null,null,null,null,null,null,null,null,{"$f":"'Annual Data'!$AD$15","v":1},{"$f":"'Annual Data'!$AG$15","v":0.1},0,0]
[null,null,null,null,null,null,null,null,null,null,null,null,null,null,null,null,null,null,null,null,null,null,null,null,null,null,null,null,null,null,null,null,{"$f":"'Annual Data'!$AD$15","v":1},{"$f":"'Annual Data'!$AG$15","v":0.1},0,0]
[null,null,null,null,null,null,null,null,null,null,null,null,null,null,null,null,null,null,null,null,null,null,null,null,null,null,null,null,null,null,null,null,{"$f":"'Annual Data'!$AD$15","v":1},{"$f":"'Annual Data'!$AG$15","v":0.1},0,0]
[null,null,null,null,null,null,null,null,null,null,null,null,null,null,null,null,null,null,null,null,null,null,null,null,null,null,null,null,null,null,null,null,{"$f":"'Annual Data'!$AD$15","v":1},{"$f":"'Annual Data'!$AG$15","v":0.1},0,0]
[null,null,null,null,null,null,null,null,null,null,null,null,null,null,null,null,null,null,null,null,null,null,null,null,null,null,null,null,null,null,null,null,{"$f":"'Annual Data'!$AD$15","v":1},{"$f":"'Annual Data'!$AG$15","v":0.1},0,0]
[null,null,null,null,null,null,null,null,null,null,null,null,null,null,null,null,null,null,null,null,null,null,null,null,null,null,null,null,null,null,null,null,{"$f":"'Annual Data'!$AD$15","v":1},{"$f":"'Annual Data'!$AG$15","v":0.1},0,0]
[null,null,null,null,null,null,null,null,null,null,null,null,null,null,null,null,null,null,null,null,null,null,null,null,null,null,null,null,null,null,null,null,{"$f":"'Annual Data'!$AD$15","v":1},{"$f":"'Annual Data'!$AG$15","v":0.1},0,0]
[null,null,null,null,null,null,null,null,null,null,null,null,null,null,null,null,null,null,null,null,null,null,null,null,null,null,null,null,null,null,null,null,{"$f":"'Annual Data'!$AD$15","v":1},{"$f":"'Annual Data'!$AG$15","v":0.1},0,0]
[null,null,null,null,null,null,null,null,null,null,null,null,null,null,null,null,null,null,null,null,null,null,null,null,null,null,null,null,null,null,null,null,{"$f":"'Annual Data'!$AD$15","v":1},{"$f":"'Annual Data'!$AG$15","v":0.1},0,0]
[null,null,null,null,null,null,null,null,null,null,null,null,null,null,null,null,null,null,null,null,null,null,null,null,null,null,null,null,null,null,null,null,{"$f":"'Annual Data'!$AD$15","v":1},{"$f":"'Annual Data'!$AG$15","v":0.1},{"$f":"MAX(C2826:F2826)","v":0},{"$f":"MAX(G2826:R2826)","v":0}]
[null,null,null,null,null,null,null,null,null,null,null,null,null,null,null,null,null,null,null,null,null,null,null,null,null,null,null,null,null,null,null,null,{"$f":"'Annual Data'!$AD$15","v":1},{"$f":"'Annual Data'!$AG$15","v":0.1},0,0]
[null,null,null,null,null,null,null,null,null,null,null,null,null,null,null,null,null,null,null,null,null,null,null,null,null,null,null,null,null,null,null,null,{"$f":"'Annual Data'!$AD$15","v":1},{"$f":"'Annual Data'!$AG$15","v":0.1},0,0]
[null,null,null,null,null,null,null,null,null,null,null,null,null,null,null,null,null,null,null,null,null,null,null,null,null,null,null,null,null,null,null,null,{"$f":"'Annual Data'!$AD$15","v":1},{"$f":"'Annual Data'!$AG$15","v":0.1},0,0]
[null,null,null,null,null,null,null,null,null,null,null,null,null,null,null,null,null,null,null,null,null,null,null,null,null,null,null,null,null,null,null,null,{"$f":"'Annual Data'!$AD$15","v":1},{"$f":"'Annual Data'!$AG$15","v":0.1},0,0]
[null,null,null,null,null,null,null,null,null,null,null,null,null,null,null,null,null,null,null,null,null,null,null,null,null,null,null,null,null,null,null,null,{"$f":"'Annual Data'!$AD$15","v":1},{"$f":"'Annual Data'!$AG$15","v":0.1},0,0]
[null,null,null,null,null,null,null,null,null,null,null,null,null,null,null,null,null,null,null,null,null,null,null,null,null,null,null,null,null,null,null,null,{"$f":"'Annual Data'!$AD$15","v":1},{"$f":"'Annual Data'!$AG$15","v":0.1},0,0]
[null,null,null,null,null,null,null,null,null,null,null,null,null,null,null,null,null,null,null,null,null,null,null,null,null,null,null,null,null,null,null,null,{"$f":"'Annual Data'!$AD$15","v":1},{"$f":"'Annual Data'!$AG$15","v":0.1},0,0]
[null,null,null,null,null,null,null,null,null,null,null,null,null,null,null,null,null,null,null,null,null,null,null,null,null,null,null,null,null,null,null,null,{"$f":"'Annual Data'!$AD$15","v":1},{"$f":"'Annual Data'!$AG$15","v":0.1},0,0]
[null,null,null,null,null,null,null,null,null,null,null,null,null,null,null,null,null,null,null,null,null,null,null,null,null,null,null,null,null,null,null,null,{"$f":"'Annual Data'!$AD$15","v":1},{"$f":"'Annual Data'!$AG$15","v":0.1},0,0]
[null,null,null,null,null,null,null,null,null,null,null,null,null,null,null,null,null,null,null,null,null,null,null,null,null,null,null,null,null,null,null,null,{"$f":"'Annual Data'!$AD$15","v":1},{"$f":"'Annual Data'!$AG$15","v":0.1},0,0]
[null,null,null,null,null,null,null,null,null,null,null,null,null,null,null,null,null,null,null,null,null,null,null,null,null,null,null,null,null,null,null,null,{"$f":"'Annual Data'!$AD$15","v":1},{"$f":"'Annual Data'!$AG$15","v":0.1},0,0]
[null,null,null,null,null,null,null,null,null,null,null,null,null,null,null,null,null,null,null,null,null,null,null,null,null,null,null,null,null,null,null,null,{"$f":"'Annual Data'!$AD$15","v":1},{"$f":"'Annual Data'!$AG$15","v":0.1},0,0]
[null,null,null,null,null,null,null,null,null,null,null,null,null,null,null,null,null,null,null,null,null,null,null,null,null,null,null,null,null,null,null,null,{"$f":"'Annual Data'!$AD$15","v":1},{"$f":"'Annual Data'!$AG$15","v":0.1},0,0]
[null,null,null,null,null,null,null,null,null,null,null,null,null,null,null,null,null,null,null,null,null,null,null,null,null,null,null,null,null,null,null,null,{"$f":"'Annual Data'!$AD$15","v":1},{"$f":"'Annual Data'!$AG$15","v":0.1},0,0]
[null,null,null,null,null,null,null,null,null,null,null,null,null,null,null,null,null,null,null,null,null,null,null,null,null,null,null,null,null,null,null,null,{"$f":"'Annual Data'!$AD$15","v":1},{"$f":"'Annual Data'!$AG$15","v":0.1},0,0]
[null,null,null,null,null,null,null,null,null,null,null,null,null,null,null,null,null,null,null,null,null,null,null,null,null,null,null,null,null,null,null,null,{"$f":"'Annual Data'!$AD$15","v":1},{"$f":"'Annual Data'!$AG$15","v":0.1},0,0]
[null,null,null,null,null,null,null,null,null,null,null,null,null,null,null,null,null,null,null,null,null,null,null,null,null,null,null,null,null,null,null,null,{"$f":"'Annual Data'!$AD$15","v":1},{"$f":"'Annual Data'!$AG$15","v":0.1},0,0]
[null,null,null,null,null,null,null,null,null,null,null,null,null,null,null,null,null,null,null,null,null,null,null,null,null,null,null,null,null,null,null,null,{"$f":"'Annual Data'!$AD$15","v":1},{"$f":"'Annual Data'!$AG$15","v":0.1},0,0]
[null,null,null,null,null,null,null,null,null,null,null,null,null,null,null,null,null,null,null,null,null,null,null,null,null,null,null,null,null,null,null,null,{"$f":"'Annual Data'!$AD$15","v":1},{"$f":"'Annual Data'!$AG$15","v":0.1},0,0]
[null,null,null,null,null,null,null,null,null,null,null,null,null,null,null,null,null,null,null,null,null,null,null,null,null,null,null,null,null,null,null,null,{"$f":"'Annual Data'!$AD$15","v":1},{"$f":"'Annual Data'!$AG$15","v":0.1},0,0]
[null,null,null,null,null,null,null,null,null,null,null,null,null,null,null,null,null,null,null,null,null,null,null,null,null,null,null,null,null,null,null,null,{"$f":"'Annual Data'!$AD$15","v":1},{"$f":"'Annual Data'!$AG$15","v":0.1},0,0]
[null,null,null,null,null,null,null,null,null,null,null,null,null,null,null,null,null,null,null,null,null,null,null,null,null,null,null,null,null,null,null,null,{"$f":"'Annual Data'!$AD$15","v":1},{"$f":"'Annual Data'!$AG$15","v":0.1},0,0]
[null,null,null,null,null,null,null,null,null,null,null,null,null,null,null,null,null,null,null,null,null,null,null,null,null,null,null,null,null,null,null,null,{"$f":"'Annual Data'!$AD$15","v":1},{"$f":"'Annual Data'!$AG$15","v":0.1},0,0]
[null,null,null,null,null,null,null,null,null,null,null,null,null,null,null,null,null,null,null,null,null,null,null,null,null,null,null,null,null,null,null,null,{"$f":"'Annual Data'!$AD$15","v":1},{"$f":"'Annual Data'!$AG$15","v":0.1},0,0]
[null,null,null,null,null,null,null,null,null,null,null,null,null,null,null,null,null,null,null,null,null,null,null,null,null,null,null,null,null,null,null,null,{"$f":"'Annual Data'!$AD$15","v":1},{"$f":"'Annual Data'!$AG$15","v":0.1},0,0]
[null,null,null,null,null,null,null,null,null,null,null,null,null,null,null,null,null,null,null,null,null,null,null,null,null,null,null,null,null,null,null,null,{"$f":"'Annual Data'!$AD$15","v":1},{"$f":"'Annual Data'!$AG$15","v":0.1},0,0]
[null,null,null,null,null,null,null,null,null,null,null,null,null,null,null,null,null,null,null,null,null,null,null,null,null,null,null,null,null,null,null,null,{"$f":"'Annual Data'!$AD$15","v":1},{"$f":"'Annual Data'!$AG$15","v":0.1},0,0]
[null,null,null,null,null,null,null,null,null,null,null,null,null,null,null,null,null,null,null,null,null,null,null,null,null,null,null,null,null,null,null,null,{"$f":"'Annual Data'!$AD$15","v":1},{"$f":"'Annual Data'!$AG$15","v":0.1},0,0]
[null,null,null,null,null,null,null,null,null,null,null,null,null,null,null,null,null,null,null,null,null,null,null,null,null,null,null,null,null,null,null,null,{"$f":"'Annual Data'!$AD$15","v":1},{"$f":"'Annual Data'!$AG$15","v":0.1},0,0]
[null,null,null,null,null,null,null,null,null,null,null,null,null,null,null,null,null,null,null,null,null,null,null,null,null,null,null,null,null,null,null,null,{"$f":"'Annual Data'!$AD$15","v":1},{"$f":"'Annual Data'!$AG$15","v":0.1},0,0]
[null,null,null,null,null,null,null,null,null,null,null,null,null,null,null,null,null,null,null,null,null,null,null,null,null,null,null,null,null,null,null,null,{"$f":"'Annual Data'!$AD$15","v":1},{"$f":"'Annual Data'!$AG$15","v":0.1},0,0]
[null,null,null,null,null,null,null,null,null,null,null,null,null,null,null,null,null,null,null,null,null,null,null,null,null,null,null,null,null,null,null,null,{"$f":"'Annual Data'!$AD$15","v":1},{"$f":"'Annual Data'!$AG$15","v":0.1},0,0]
[null,null,null,null,null,null,null,null,null,null,null,null,null,null,null,null,null,null,null,null,null,null,null,null,null,null,null,null,null,null,null,null,{"$f":"'Annual Data'!$AD$15","v":1},{"$f":"'Annual Data'!$AG$15","v":0.1},0,0]
[null,null,null,null,null,null,null,null,null,null,null,null,null,null,null,null,null,null,null,null,null,null,null,null,null,null,null,null,null,null,null,null,{"$f":"'Annual Data'!$AD$15","v":1},{"$f":"'Annual Data'!$AG$15","v":0.1},0,0]
[null,null,null,null,null,null,null,null,null,null,null,null,null,null,null,null,null,null,null,null,null,null,null,null,null,null,null,null,null,null,null,null,{"$f":"'Annual Data'!$AD$15","v":1},{"$f":"'Annual Data'!$AG$15","v":0.1},0,0]
[null,null,null,null,null,null,null,null,null,null,null,null,null,null,null,null,null,null,null,null,null,null,null,null,null,null,null,null,null,null,null,null,{"$f":"'Annual Data'!$AD$15","v":1},{"$f":"'Annual Data'!$AG$15","v":0.1},0,0]
[null,null,null,null,null,null,null,null,null,null,null,null,null,null,null,null,null,null,null,null,null,null,null,null,null,null,null,null,null,null,null,null,{"$f":"'Annual Data'!$AD$15","v":1},{"$f":"'Annual Data'!$AG$15","v":0.1},0,0]
[null,null,null,null,null,null,null,null,null,null,null,null,null,null,null,null,null,null,null,null,null,null,null,null,null,null,null,null,null,null,null,null,{"$f":"'Annual Data'!$AD$15","v":1},{"$f":"'Annual Data'!$AG$15","v":0.1},0,0]
[null,null,null,null,null,null,null,null,null,null,null,null,null,null,null,null,null,null,null,null,null,null,null,null,null,null,null,null,null,null,null,null,{"$f":"'Annual Data'!$AD$15","v":1},{"$f":"'Annual Data'!$AG$15","v":0.1},0,0]
[null,null,null,null,null,null,null,null,null,null,null,null,null,null,null,null,null,null,null,null,null,null,null,null,null,null,null,null,null,null,null,null,{"$f":"'Annual Data'!$AD$15","v":1},{"$f":"'Annual Data'!$AG$15","v":0.1},0,0]
[null,null,null,null,null,null,null,null,null,null,null,null,null,null,null,null,null,null,null,null,null,null,null,null,null,null,null,null,null,null,null,null,{"$f":"'Annual Data'!$AD$15","v":1},{"$f":"'Annual Data'!$AG$15","v":0.1},0,0]
[null,null,null,null,null,null,null,null,null,null,null,null,null,null,null,null,null,null,null,null,null,null,null,null,null,null,null,null,null,null,null,null,{"$f":"'Annual Data'!$AD$15","v":1},{"$f":"'Annual Data'!$AG$15","v":0.1},0,0]
[null,null,null,null,null,null,null,null,null,null,null,null,null,null,null,null,null,null,null,null,null,null,null,null,null,null,null,null,null,null,null,null,{"$f":"'Annual Data'!$AD$15","v":1},{"$f":"'Annual Data'!$AG$15","v":0.1},0,0]
[null,null,null,null,null,null,null,null,null,null,null,null,null,null,null,null,null,null,null,null,null,null,null,null,null,null,null,null,null,null,null,null,{"$f":"'Annual Data'!$AD$15","v":1},{"$f":"'Annual Data'!$AG$15","v":0.1},0,0]
[null,null,null,null,null,null,null,null,null,null,null,null,null,null,null,null,null,null,null,null,null,null,null,null,null,null,null,null,null,null,null,null,{"$f":"'Annual Data'!$AD$15","v":1},{"$f":"'Annual Data'!$AG$15","v":0.1},0,0]
[null,null,null,null,null,null,null,null,null,null,null,null,null,null,null,null,null,null,null,null,null,null,null,null,null,null,null,null,null,null,null,null,{"$f":"'Annual Data'!$AD$15","v":1},{"$f":"'Annual Data'!$AG$15","v":0.1},0,0]
[null,null,null,null,null,null,null,null,null,null,null,null,null,null,null,null,null,null,null,null,null,null,null,null,null,null,null,null,null,null,null,null,{"$f":"'Annual Data'!$AD$15","v":1},{"$f":"'Annual Data'!$AG$15","v":0.1},0,0]
[null,null,null,null,null,null,null,null,null,null,null,null,null,null,null,null,null,null,null,null,null,null,null,null,null,null,null,null,null,null,null,null,{"$f":"'Annual Data'!$AD$15","v":1},{"$f":"'Annual Data'!$AG$15","v":0.1},0,0]
[null,null,null,null,null,null,null,null,null,null,null,null,null,null,null,null,null,null,null,null,null,null,null,null,null,null,null,null,null,null,null,null,{"$f":"'Annual Data'!$AD$15","v":1},{"$f":"'Annual Data'!$AG$15","v":0.1},0,0]
[null,null,null,null,null,null,null,null,null,null,null,null,null,null,null,null,null,null,null,null,null,null,null,null,null,null,null,null,null,null,null,null,{"$f":"'Annual Data'!$AD$15","v":1},{"$f":"'Annual Data'!$AG$15","v":0.1},0,0]
[null,null,null,null,null,null,null,null,null,null,null,null,null,null,null,null,null,null,null,null,null,null,null,null,null,null,null,null,null,null,null,null,{"$f":"'Annual Data'!$AD$15","v":1},{"$f":"'Annual Data'!$AG$15","v":0.1},0,0]
[null,null,null,null,null,null,null,null,null,null,null,null,null,null,null,null,null,null,null,null,null,null,null,null,null,null,null,null,null,null,null,null,{"$f":"'Annual Data'!$AD$15","v":1},{"$f":"'Annual Data'!$AG$15","v":0.1},0,0]
[null,null,null,null,null,null,null,null,null,null,null,null,null,null,null,null,null,null,null,null,null,null,null,null,null,null,null,null,null,null,null,null,{"$f":"'Annual Data'!$AD$15","v":1},{"$f":"'Annual Data'!$AG$15","v":0.1},0,0]
[null,null,null,null,null,null,null,null,null,null,null,null,null,null,null,null,null,null,null,null,null,null,null,null,null,null,null,null,null,null,null,null,{"$f":"'Annual Data'!$AD$15","v":1},{"$f":"'Annual Data'!$AG$15","v":0.1},0,0]
[null,null,null,null,null,null,null,null,null,null,null,null,null,null,null,null,null,null,null,null,null,null,null,null,null,null,null,null,null,null,null,null,{"$f":"'Annual Data'!$AD$15","v":1},{"$f":"'Annual Data'!$AG$15","v":0.1},0,0]
[null,null,null,null,null,null,null,null,null,null,null,null,null,null,null,null,null,null,null,null,null,null,null,null,null,null,null,null,null,null,null,null,{"$f":"'Annual Data'!$AD$15","v":1},{"$f":"'Annual Data'!$AG$15","v":0.1},0,0]
[null,null,null,null,null,null,null,null,null,null,null,null,null,null,null,null,null,null,null,null,null,null,null,null,null,null,null,null,null,null,null,null,{"$f":"'Annual Data'!$AD$15","v":1},{"$f":"'Annual Data'!$AG$15","v":0.1},0,0]
[null,null,null,null,null,null,null,null,null,null,null,null,null,null,null,null,null,null,null,null,null,null,null,null,null,null,null,null,null,null,null,null,{"$f":"'Annual Data'!$AD$15","v":1},{"$f":"'Annual Data'!$AG$15","v":0.1},0,0]
[null,null,null,null,null,null,null,null,null,null,null,null,null,null,null,null,null,null,null,null,null,null,null,null,null,null,null,null,null,null,null,null,{"$f":"'Annual Data'!$AD$15","v":1},{"$f":"'Annual Data'!$AG$15","v":0.1},0,0]
[null,null,null,null,null,null,null,null,null,null,null,null,null,null,null,null,null,null,null,null,null,null,null,null,null,null,null,null,null,null,null,null,{"$f":"'Annual Data'!$AD$15","v":1},{"$f":"'Annual Data'!$AG$15","v":0.1},0,0]
[null,null,null,null,null,null,null,null,null,null,null,null,null,null,null,null,null,null,null,null,null,null,null,null,null,null,null,null,null,null,null,null,{"$f":"'Annual Data'!$AD$15","v":1},{"$f":"'Annual Data'!$AG$15","v":0.1},0,0]
[null,null,null,null,null,null,null,null,null,null,null,null,null,null,null,null,null,null,null,null,null,null,null,null,null,null,null,null,null,null,null,null,{"$f":"'Annual Data'!$AD$15","v":1},{"$f":"'Annual Data'!$AG$15","v":0.1},0,0]
[null,null,null,null,null,null,null,null,null,null,null,null,null,null,null,null,null,null,null,null,null,null,null,null,null,null,null,null,null,null,null,null,{"$f":"'Annual Data'!$AD$15","v":1},{"$f":"'Annual Data'!$AG$15","v":0.1},0,0]
[null,null,null,null,null,null,null,null,null,null,null,null,null,null,null,null,null,null,null,null,null,null,null,null,null,null,null,null,null,null,null,null,{"$f":"'Annual Data'!$AD$15","v":1},{"$f":"'Annual Data'!$AG$15","v":0.1},{"$f":"MAX(C2890:F2890)","v":0},{"$f":"MAX(G2890:R2890)","v":0}]
[null,null,null,null,null,null,null,null,null,null,null,null,null,null,null,null,null,null,null,null,null,null,null,null,null,null,null,null,null,null,null,null,{"$f":"'Annual Data'!$AD$15","v":1},{"$f":"'Annual Data'!$AG$15","v":0.1},0,0]
[null,null,null,null,null,null,null,null,null,null,null,null,null,null,null,null,null,null,null,null,null,null,null,null,null,null,null,null,null,null,null,null,{"$f":"'Annual Data'!$AD$15","v":1},{"$f":"'Annual Data'!$AG$15","v":0.1},0,0]
[null,null,null,null,null,null,null,null,null,null,null,null,null,null,null,null,null,null,null,null,null,null,null,null,null,null,null,null,null,null,null,null,{"$f":"'Annual Data'!$AD$15","v":1},{"$f":"'Annual Data'!$AG$15","v":0.1},0,0]
[null,null,null,null,null,null,null,null,null,null,null,null,null,null,null,null,null,null,null,null,null,null,null,null,null,null,null,null,null,null,null,null,{"$f":"'Annual Data'!$AD$15","v":1},{"$f":"'Annual Data'!$AG$15","v":0.1},0,0]
[null,null,null,null,null,null,null,null,null,null,null,null,null,null,null,null,null,null,null,null,null,null,null,null,null,null,null,null,null,null,null,null,{"$f":"'Annual Data'!$AD$15","v":1},{"$f":"'Annual Data'!$AG$15","v":0.1},0,0]
[null,null,null,null,null,null,null,null,null,null,null,null,null,null,null,null,null,null,null,null,null,null,null,null,null,null,null,null,null,null,null,null,{"$f":"'Annual Data'!$AD$15","v":1},{"$f":"'Annual Data'!$AG$15","v":0.1},0,0]
[null,null,null,null,null,null,null,null,null,null,null,null,null,null,null,null,null,null,null,null,null,null,null,null,null,null,null,null,null,null,null,null,{"$f":"'Annual Data'!$AD$15","v":1},{"$f":"'Annual Data'!$AG$15","v":0.1},0,0]
[null,null,null,null,null,null,null,null,null,null,null,null,null,null,null,null,null,null,null,null,null,null,null,null,null,null,null,null,null,null,null,null,{"$f":"'Annual Data'!$AD$15","v":1},{"$f":"'Annual Data'!$AG$15","v":0.1},0,0]
[null,null,null,null,null,null,null,null,null,null,null,null,null,null,null,null,null,null,null,null,null,null,null,null,null,null,null,null,null,null,null,null,{"$f":"'Annual Data'!$AD$15","v":1},{"$f":"'Annual Data'!$AG$15","v":0.1},0,0]
[null,null,null,null,null,null,null,null,null,null,null,null,null,null,null,null,null,null,null,null,null,null,null,null,null,null,null,null,null,null,null,null,{"$f":"'Annual Data'!$AD$15","v":1},{"$f":"'Annual Data'!$AG$15","v":0.1},0,0]
[null,null,null,null,null,null,null,null,null,null,null,null,null,null,null,null,null,null,null,null,null,null,null,null,null,null,null,null,null,null,null,null,{"$f":"'Annual Data'!$AD$15","v":1},{"$f":"'Annual Data'!$AG$15","v":0.1},0,0]
[null,null,null,null,null,null,null,null,null,null,null,null,null,null,null,null,null,null,null,null,null,null,null,null,null,null,null,null,null,null,null,null,{"$f":"'Annual Data'!$AD$15","v":1},{"$f":"'Annual Data'!$AG$15","v":0.1},0,0]
[null,null,null,null,null,null,null,null,null,null,null,null,null,null,null,null,null,null,null,null,null,null,null,null,null,null,null,null,null,null,null,null,{"$f":"'Annual Data'!$AD$15","v":1},{"$f":"'Annual Data'!$AG$15","v":0.1},0,0]
[null,null,null,null,null,null,null,null,null,null,null,null,null,null,null,null,null,null,null,null,null,null,null,null,null,null,null,null,null,null,null,null,{"$f":"'Annual Data'!$AD$15","v":1},{"$f":"'Annual Data'!$AG$15","v":0.1},0,0]
[null,null,null,null,null,null,null,null,null,null,null,null,null,null,null,null,null,null,null,null,null,null,null,null,null,null,null,null,null,null,null,null,{"$f":"'Annual Data'!$AD$15","v":1},{"$f":"'Annual Data'!$AG$15","v":0.1},0,0]
[null,null,null,null,null,null,null,null,null,null,null,null,null,null,null,null,null,null,null,null,null,null,null,null,null,null,null,null,null,null,null,null,{"$f":"'Annual Data'!$AD$15","v":1},{"$f":"'Annual Data'!$AG$15","v":0.1},0,0]
[null,null,null,null,null,null,null,null,null,null,null,null,null,null,null,null,null,null,null,null,null,null,null,null,null,null,null,null,null,null,null,null,{"$f":"'Annual Data'!$AD$15","v":1},{"$f":"'Annual Data'!$AG$15","v":0.1},0,0]
[null,null,null,null,null,null,null,null,null,null,null,null,null,null,null,null,null,null,null,null,null,null,null,null,null,null,null,null,null,null,null,null,{"$f":"'Annual Data'!$AD$15","v":1},{"$f":"'Annual Data'!$AG$15","v":0.1},0,0]
[null,null,null,null,null,null,null,null,null,null,null,null,null,null,null,null,null,null,null,null,null,null,null,null,null,null,null,null,null,null,null,null,{"$f":"'Annual Data'!$AD$15","v":1},{"$f":"'Annual Data'!$AG$15","v":0.1},0,0]
[null,null,null,null,null,null,null,null,null,null,null,null,null,null,null,null,null,null,null,null,null,null,null,null,null,null,null,null,null,null,null,null,{"$f":"'Annual Data'!$AD$15","v":1},{"$f":"'Annual Data'!$AG$15","v":0.1},0,0]
[null,null,null,null,null,null,null,null,null,null,null,null,null,null,null,null,null,null,null,null,null,null,null,null,null,null,null,null,null,null,null,null,{"$f":"'Annual Data'!$AD$15","v":1},{"$f":"'Annual Data'!$AG$15","v":0.1},0,0]
[null,null,null,null,null,null,null,null,null,null,null,null,null,null,null,null,null,null,null,null,null,null,null,null,null,null,null,null,null,null,null,null,{"$f":"'Annual Data'!$AD$15","v":1},{"$f":"'Annual Data'!$AG$15","v":0.1},0,0]
[null,null,null,null,null,null,null,null,null,null,null,null,null,null,null,null,null,null,null,null,null,null,null,null,null,null,null,null,null,null,null,null,{"$f":"'Annual Data'!$AD$15","v":1},{"$f":"'Annual Data'!$AG$15","v":0.1},0,0]
[null,null,null,null,null,null,null,null,null,null,null,null,null,null,null,null,null,null,null,null,null,null,null,null,null,null,null,null,null,null,null,null,{"$f":"'Annual Data'!$AD$15","v":1},{"$f":"'Annual Data'!$AG$15","v":0.1},0,0]
[null,null,null,null,null,null,null,null,null,null,null,null,null,null,null,null,null,null,null,null,null,null,null,null,null,null,null,null,null,null,null,null,{"$f":"'Annual Data'!$AD$15","v":1},{"$f":"'Annual Data'!$AG$15","v":0.1},0,0]
[null,null,null,null,null,null,null,null,null,null,null,null,null,null,null,null,null,null,null,null,null,null,null,null,null,null,null,null,null,null,null,null,{"$f":"'Annual Data'!$AD$15","v":1},{"$f":"'Annual Data'!$AG$15","v":0.1},0,0]
[null,null,null,null,null,null,null,null,null,null,null,null,null,null,null,null,null,null,null,null,null,null,null,null,null,null,null,null,null,null,null,null,{"$f":"'Annual Data'!$AD$15","v":1},{"$f":"'Annual Data'!$AG$15","v":0.1},0,0]
[null,null,null,null,null,null,null,null,null,null,null,null,null,null,null,null,null,null,null,null,null,null,null,null,null,null,null,null,null,null,null,null,{"$f":"'Annual Data'!$AD$15","v":1},{"$f":"'Annual Data'!$AG$15","v":0.1},0,0]
[null,null,null,null,null,null,null,null,null,null,null,null,null,null,null,null,null,null,null,null,null,null,null,null,null,null,null,null,null,null,null,null,{"$f":"'Annual Data'!$AD$15","v":1},{"$f":"'Annual Data'!$AG$15","v":0.1},0,0]
[null,null,null,null,null,null,null,null,null,null,null,null,null,null,null,null,null,null,null,null,null,null,null,null,null,null,null,null,null,null,null,null,{"$f":"'Annual Data'!$AD$15","v":1},{"$f":"'Annual Data'!$AG$15","v":0.1},0,0]
[null,null,null,null,null,null,null,null,null,null,null,null,null,null,null,null,null,null,null,null,null,null,null,null,null,null,null,null,null,null,null,null,{"$f":"'Annual Data'!$AD$15","v":1},{"$f":"'Annual Data'!$AG$15","v":0.1},0,0]
[null,null,null,null,null,null,null,null,null,null,null,null,null,null,null,null,null,null,null,null,null,null,null,null,null,null,null,null,null,null,null,null,{"$f":"'Annual Data'!$AD$15","v":1},{"$f":"'Annual Data'!$AG$15","v":0.1},0,0]
[null,null,null,null,null,null,null,null,null,null,null,null,null,null,null,null,null,null,null,null,null,null,null,null,null,null,null,null,null,null,null,null,{"$f":"'Annual Data'!$AD$15","v":1},{"$f":"'Annual Data'!$AG$15","v":0.1},0,0]
[null,null,null,null,null,null,null,null,null,null,null,null,null,null,null,null,null,null,null,null,null,null,null,null,null,null,null,null,null,null,null,null,{"$f":"'Annual Data'!$AD$15","v":1},{"$f":"'Annual Data'!$AG$15","v":0.1},0,0]
[null,null,null,null,null,null,null,null,null,null,null,null,null,null,null,null,null,null,null,null,null,null,null,null,null,null,null,null,null,null,null,null,{"$f":"'Annual Data'!$AD$15","v":1},{"$f":"'Annual Data'!$AG$15","v":0.1},0,0]
[null,null,null,null,null,null,null,null,null,null,null,null,null,null,null,null,null,null,null,null,null,null,null,null,null,null,null,null,null,null,null,null,{"$f":"'Annual Data'!$AD$15","v":1},{"$f":"'Annual Data'!$AG$15","v":0.1},0,0]
[null,null,null,null,null,null,null,null,null,null,null,null,null,null,null,null,null,null,null,null,null,null,null,null,null,null,null,null,null,null,null,null,{"$f":"'Annual Data'!$AD$15","v":1},{"$f":"'Annual Data'!$AG$15","v":0.1},0,0]
[null,null,null,null,null,null,null,null,null,null,null,null,null,null,null,null,null,null,null,null,null,null,null,null,null,null,null,null,null,null,null,null,{"$f":"'Annual Data'!$AD$15","v":1},{"$f":"'Annual Data'!$AG$15","v":0.1},0,0]
[null,null,null,null,null,null,null,null,null,null,null,null,null,null,null,null,null,null,null,null,null,null,null,null,null,null,null,null,null,null,null,null,{"$f":"'Annual Data'!$AD$15","v":1},{"$f":"'Annual Data'!$AG$15","v":0.1},0,0]
[null,null,null,null,null,null,null,null,null,null,null,null,null,null,null,null,null,null,null,null,null,null,null,null,null,null,null,null,null,null,null,null,{"$f":"'Annual Data'!$AD$15","v":1},{"$f":"'Annual Data'!$AG$15","v":0.1},0,0]
[null,null,null,null,null,null,null,null,null,null,null,null,null,null,null,null,null,null,null,null,null,null,null,null,null,null,null,null,null,null,null,null,{"$f":"'Annual Data'!$AD$15","v":1},{"$f":"'Annual Data'!$AG$15","v":0.1},0,0]
[null,null,null,null,null,null,null,null,null,null,null,null,null,null,null,null,null,null,null,null,null,null,null,null,null,null,null,null,null,null,null,null,{"$f":"'Annual Data'!$AD$15","v":1},{"$f":"'Annual Data'!$AG$15","v":0.1},0,0]
[null,null,null,null,null,null,null,null,null,null,null,null,null,null,null,null,null,null,null,null,null,null,null,null,null,null,null,null,null,null,null,null,{"$f":"'Annual Data'!$AD$15","v":1},{"$f":"'Annual Data'!$AG$15","v":0.1},0,0]
[null,null,null,null,null,null,null,null,null,null,null,null,null,null,null,null,null,null,null,null,null,null,null,null,null,null,null,null,null,null,null,null,{"$f":"'Annual Data'!$AD$15","v":1},{"$f":"'Annual Data'!$AG$15","v":0.1},0,0]
[null,null,null,null,null,null,null,null,null,null,null,null,null,null,null,null,null,null,null,null,null,null,null,null,null,null,null,null,null,null,null,null,{"$f":"'Annual Data'!$AD$15","v":1},{"$f":"'Annual Data'!$AG$15","v":0.1},0,0]
[null,null,null,null,null,null,null,null,null,null,null,null,null,null,null,null,null,null,null,null,null,null,null,null,null,null,null,null,null,null,null,null,{"$f":"'Annual Data'!$AD$15","v":1},{"$f":"'Annual Data'!$AG$15","v":0.1},0,0]
[null,null,null,null,null,null,null,null,null,null,null,null,null,null,null,null,null,null,null,null,null,null,null,null,null,null,null,null,null,null,null,null,{"$f":"'Annual Data'!$AD$15","v":1},{"$f":"'Annual Data'!$AG$15","v":0.1},0,0]
[null,null,null,null,null,null,null,null,null,null,null,null,null,null,null,null,null,null,null,null,null,null,null,null,null,null,null,null,null,null,null,null,{"$f":"'Annual Data'!$AD$15","v":1},{"$f":"'Annual Data'!$AG$15","v":0.1},0,0]
[null,null,null,null,null,null,null,null,null,null,null,null,null,null,null,null,null,null,null,null,null,null,null,null,null,null,null,null,null,null,null,null,{"$f":"'Annual Data'!$AD$15","v":1},{"$f":"'Annual Data'!$AG$15","v":0.1},0,0]
[null,null,null,null,null,null,null,null,null,null,null,null,null,null,null,null,null,null,null,null,null,null,null,null,null,null,null,null,null,null,null,null,{"$f":"'Annual Data'!$AD$15","v":1},{"$f":"'Annual Data'!$AG$15","v":0.1},0,0]
[null,null,null,null,null,null,null,null,null,null,null,null,null,null,null,null,null,null,null,null,null,null,null,null,null,null,null,null,null,null,null,null,{"$f":"'Annual Data'!$AD$15","v":1},{"$f":"'Annual Data'!$AG$15","v":0.1},0,0]
[null,null,null,null,null,null,null,null,null,null,null,null,null,null,null,null,null,null,null,null,null,null,null,null,null,null,null,null,null,null,null,null,{"$f":"'Annual Data'!$AD$15","v":1},{"$f":"'Annual Data'!$AG$15","v":0.1},0,0]
[null,null,null,null,null,null,null,null,null,null,null,null,null,null,null,null,null,null,null,null,null,null,null,null,null,null,null,null,null,null,null,null,{"$f":"'Annual Data'!$AD$15","v":1},{"$f":"'Annual Data'!$AG$15","v":0.1},0,0]
[null,null,null,null,null,null,null,null,null,null,null,null,null,null,null,null,null,null,null,null,null,null,null,null,null,null,null,null,null,null,null,null,{"$f":"'Annual Data'!$AD$15","v":1},{"$f":"'Annual Data'!$AG$15","v":0.1},0,0]
[null,null,null,null,null,null,null,null,null,null,null,null,null,null,null,null,null,null,null,null,null,null,null,null,null,null,null,null,null,null,null,null,{"$f":"'Annual Data'!$AD$15","v":1},{"$f":"'Annual Data'!$AG$15","v":0.1},0,0]
[null,null,null,null,null,null,null,null,null,null,null,null,null,null,null,null,null,null,null,null,null,null,null,null,null,null,null,null,null,null,null,null,{"$f":"'Annual Data'!$AD$15","v":1},{"$f":"'Annual Data'!$AG$15","v":0.1},0,0]
[null,null,null,null,null,null,null,null,null,null,null,null,null,null,null,null,null,null,null,null,null,null,null,null,null,null,null,null,null,null,null,null,{"$f":"'Annual Data'!$AD$15","v":1},{"$f":"'Annual Data'!$AG$15","v":0.1},0,0]
[null,null,null,null,null,null,null,null,null,null,null,null,null,null,null,null,null,null,null,null,null,null,null,null,null,null,null,null,null,null,null,null,{"$f":"'Annual Data'!$AD$15","v":1},{"$f":"'Annual Data'!$AG$15","v":0.1},0,0]
[null,null,null,null,null,null,null,null,null,null,null,null,null,null,null,null,null,null,null,null,null,null,null,null,null,null,null,null,null,null,null,null,{"$f":"'Annual Data'!$AD$15","v":1},{"$f":"'Annual Data'!$AG$15","v":0.1},0,0]
[null,null,null,null,null,null,null,null,null,null,null,null,null,null,null,null,null,null,null,null,null,null,null,null,null,null,null,null,null,null,null,null,{"$f":"'Annual Data'!$AD$15","v":1},{"$f":"'Annual Data'!$AG$15","v":0.1},0,0]
[null,null,null,null,null,null,null,null,null,null,null,null,null,null,null,null,null,null,null,null,null,null,null,null,null,null,null,null,null,null,null,null,{"$f":"'Annual Data'!$AD$15","v":1},{"$f":"'Annual Data'!$AG$15","v":0.1},0,0]
[null,null,null,null,null,null,null,null,null,null,null,null,null,null,null,null,null,null,null,null,null,null,null,null,null,null,null,null,null,null,null,null,{"$f":"'Annual Data'!$AD$15","v":1},{"$f":"'Annual Data'!$AG$15","v":0.1},0,0]
[null,null,null,null,null,null,null,null,null,null,null,null,null,null,null,null,null,null,null,null,null,null,null,null,null,null,null,null,null,null,null,null,{"$f":"'Annual Data'!$AD$15","v":1},{"$f":"'Annual Data'!$AG$15","v":0.1},0,0]
[null,null,null,null,null,null,null,null,null,null,null,null,null,null,null,null,null,null,null,null,null,null,null,null,null,null,null,null,null,null,null,null,{"$f":"'Annual Data'!$AD$15","v":1},{"$f":"'Annual Data'!$AG$15","v":0.1},{"$f":"MAX(C2954:F2954)","v":0},{"$f":"MAX(G2954:R2954)","v":0}]
[null,null,null,null,null,null,null,null,null,null,null,null,null,null,null,null,null,null,null,null,null,null,null,null,null,null,null,null,null,null,null,null,{"$f":"'Annual Data'!$AD$15","v":1},{"$f":"'Annual Data'!$AG$15","v":0.1},0,0]
[null,null,null,null,null,null,null,null,null,null,null,null,null,null,null,null,null,null,null,null,null,null,null,null,null,null,null,null,null,null,null,null,{"$f":"'Annual Data'!$AD$15","v":1},{"$f":"'Annual Data'!$AG$15","v":0.1},0,0]
[null,null,null,null,null,null,null,null,null,null,null,null,null,null,null,null,null,null,null,null,null,null,null,null,null,null,null,null,null,null,null,null,{"$f":"'Annual Data'!$AD$15","v":1},{"$f":"'Annual Data'!$AG$15","v":0.1},0,0]
[null,null,null,null,null,null,null,null,null,null,null,null,null,null,null,null,null,null,null,null,null,null,null,null,null,null,null,null,null,null,null,null,{"$f":"'Annual Data'!$AD$15","v":1},{"$f":"'Annual Data'!$AG$15","v":0.1},0,0]
[null,null,null,null,null,null,null,null,null,null,null,null,null,null,null,null,null,null,null,null,null,null,null,null,null,null,null,null,null,null,null,null,{"$f":"'Annual Data'!$AD$15","v":1},{"$f":"'Annual Data'!$AG$15","v":0.1},0,0]
[null,null,null,null,null,null,null,null,null,null,null,null,null,null,null,null,null,null,null,null,null,null,null,null,null,null,null,null,null,null,null,null,{"$f":"'Annual Data'!$AD$15","v":1},{"$f":"'Annual Data'!$AG$15","v":0.1},0,0]
[null,null,null,null,null,null,null,null,null,null,null,null,null,null,null,null,null,null,null,null,null,null,null,null,null,null,null,null,null,null,null,null,{"$f":"'Annual Data'!$AD$15","v":1},{"$f":"'Annual Data'!$AG$15","v":0.1},0,0]
[null,null,null,null,null,null,null,null,null,null,null,null,null,null,null,null,null,null,null,null,null,null,null,null,null,null,null,null,null,null,null,null,{"$f":"'Annual Data'!$AD$15","v":1},{"$f":"'Annual Data'!$AG$15","v":0.1},0,0]
[null,null,null,null,null,null,null,null,null,null,null,null,null,null,null,null,null,null,null,null,null,null,null,null,null,null,null,null,null,null,null,null,{"$f":"'Annual Data'!$AD$15","v":1},{"$f":"'Annual Data'!$AG$15","v":0.1},0,0]
[null,null,null,null,null,null,null,null,null,null,null,null,null,null,null,null,null,null,null,null,null,null,null,null,null,null,null,null,null,null,null,null,{"$f":"'Annual Data'!$AD$15","v":1},{"$f":"'Annual Data'!$AG$15","v":0.1},0,0]
[null,null,null,null,null,null,null,null,null,null,null,null,null,null,null,null,null,null,null,null,null,null,null,null,null,null,null,null,null,null,null,null,{"$f":"'Annual Data'!$AD$15","v":1},{"$f":"'Annual Data'!$AG$15","v":0.1},0,0]
[null,null,null,null,null,null,null,null,null,null,null,null,null,null,null,null,null,null,null,null,null,null,null,null,null,null,null,null,null,null,null,null,{"$f":"'Annual Data'!$AD$15","v":1},{"$f":"'Annual Data'!$AG$15","v":0.1},0,0]
[null,null,null,null,null,null,null,null,null,null,null,null,null,null,null,null,null,null,null,null,null,null,null,null,null,null,null,null,null,null,null,null,{"$f":"'Annual Data'!$AD$15","v":1},{"$f":"'Annual Data'!$AG$15","v":0.1},0,0]
[null,null,null,null,null,null,null,null,null,null,null,null,null,null,null,null,null,null,null,null,null,null,null,null,null,null,null,null,null,null,null,null,{"$f":"'Annual Data'!$AD$15","v":1},{"$f":"'Annual Data'!$AG$15","v":0.1},0,0]
[null,null,null,null,null,null,null,null,null,null,null,null,null,null,null,null,null,null,null,null,null,null,null,null,null,null,null,null,null,null,null,null,{"$f":"'Annual Data'!$AD$15","v":1},{"$f":"'Annual Data'!$AG$15","v":0.1},0,0]
[null,null,null,null,null,null,null,null,null,null,null,null,null,null,null,null,null,null,null,null,null,null,null,null,null,null,null,null,null,null,null,null,{"$f":"'Annual Data'!$AD$15","v":1},{"$f":"'Annual Data'!$AG$15","v":0.1},0,0]
[null,null,null,null,null,null,null,null,null,null,null,null,null,null,null,null,null,null,null,null,null,null,null,null,null,null,null,null,null,null,null,null,{"$f":"'Annual Data'!$AD$15","v":1},{"$f":"'Annual Data'!$AG$15","v":0.1},0,0]
[null,null,null,null,null,null,null,null,null,null,null,null,null,null,null,null,null,null,null,null,null,null,null,null,null,null,null,null,null,null,null,null,{"$f":"'Annual Data'!$AD$15","v":1},{"$f":"'Annual Data'!$AG$15","v":0.1},0,0]
[null,null,null,null,null,null,null,null,null,null,null,null,null,null,null,null,null,null,null,null,null,null,null,null,null,null,null,null,null,null,null,null,{"$f":"'Annual Data'!$AD$15","v":1},{"$f":"'Annual Data'!$AG$15","v":0.1},0,0]
[null,null,null,null,null,null,null,null,null,null,null,null,null,null,null,null,null,null,null,null,null,null,null,null,null,null,null,null,null,null,null,null,{"$f":"'Annual Data'!$AD$15","v":1},{"$f":"'Annual Data'!$AG$15","v":0.1},0,0]
[null,null,null,null,null,null,null,null,null,null,null,null,null,null,null,null,null,null,null,null,null,null,null,null,null,null,null,null,null,null,null,null,{"$f":"'Annual Data'!$AD$15","v":1},{"$f":"'Annual Data'!$AG$15","v":0.1},0,0]
[null,null,null,null,null,null,null,null,null,null,null,null,null,null,null,null,null,null,null,null,null,null,null,null,null,null,null,null,null,null,null,null,{"$f":"'Annual Data'!$AD$15","v":1},{"$f":"'Annual Data'!$AG$15","v":0.1},0,0]
[null,null,null,null,null,null,null,null,null,null,null,null,null,null,null,null,null,null,null,null,null,null,null,null,null,null,null,null,null,null,null,null,{"$f":"'Annual Data'!$AD$15","v":1},{"$f":"'Annual Data'!$AG$15","v":0.1},0,0]
[null,null,null,null,null,null,null,null,null,null,null,null,null,null,null,null,null,null,null,null,null,null,null,null,null,null,null,null,null,null,null,null,{"$f":"'Annual Data'!$AD$15","v":1},{"$f":"'Annual Data'!$AG$15","v":0.1},0,0]
[null,null,null,null,null,null,null,null,null,null,null,null,null,null,null,null,null,null,null,null,null,null,null,null,null,null,null,null,null,null,null,null,{"$f":"'Annual Data'!$AD$15","v":1},{"$f":"'Annual Data'!$AG$15","v":0.1},0,0]
[null,null,null,null,null,null,null,null,null,null,null,null,null,null,null,null,null,null,null,null,null,null,null,null,null,null,null,null,null,null,null,null,{"$f":"'Annual Data'!$AD$15","v":1},{"$f":"'Annual Data'!$AG$15","v":0.1},0,0]
[null,null,null,null,null,null,null,null,null,null,null,null,null,null,null,null,null,null,null,null,null,null,null,null,null,null,null,null,null,null,null,null,{"$f":"'Annual Data'!$AD$15","v":1},{"$f":"'Annual Data'!$AG$15","v":0.1},0,0]
[null,null,null,null,null,null,null,null,null,null,null,null,null,null,null,null,null,null,null,null,null,null,null,null,null,null,null,null,null,null,null,null,{"$f":"'Annual Data'!$AD$15","v":1},{"$f":"'Annual Data'!$AG$15","v":0.1},0,0]
[null,null,null,null,null,null,null,null,null,null,null,null,null,null,null,null,null,null,null,null,null,null,null,null,null,null,null,null,null,null,null,null,{"$f":"'Annual Data'!$AD$15","v":1},{"$f":"'Annual Data'!$AG$15","v":0.1},0,0]
[null,null,null,null,null,null,null,null,null,null,null,null,null,null,null,null,null,null,null,null,null,null,null,null,null,null,null,null,null,null,null,null,{"$f":"'Annual Data'!$AD$15","v":1},{"$f":"'Annual Data'!$AG$15","v":0.1},0,0]
[null,null,null,null,null,null,null,null,null,null,null,null,null,null,null,null,null,null,null,null,null,null,null,null,null,null,null,null,null,null,null,null,{"$f":"'Annual Data'!$AD$15","v":1},{"$f":"'Annual Data'!$AG$15","v":0.1},0,0]
[null,null,null,null,null,null,null,null,null,null,null,null,null,null,null,null,null,null,null,null,null,null,null,null,null,null,null,null,null,null,null,null,{"$f":"'Annual Data'!$AD$15","v":1},{"$f":"'Annual Data'!$AG$15","v":0.1},0,0]
[null,null,null,null,null,null,null,null,null,null,null,null,null,null,null,null,null,null,null,null,null,null,null,null,null,null,null,null,null,null,null,null,{"$f":"'Annual Data'!$AD$15","v":1},{"$f":"'Annual Data'!$AG$15","v":0.1},0,0]
[null,null,null,null,null,null,null,null,null,null,null,null,null,null,null,null,null,null,null,null,null,null,null,null,null,null,null,null,null,null,null,null,{"$f":"'Annual Data'!$AD$15","v":1},{"$f":"'Annual Data'!$AG$15","v":0.1},0,0]
[null,null,null,null,null,null,null,null,null,null,null,null,null,null,null,null,null,null,null,null,null,null,null,null,null,null,null,null,null,null,null,null,{"$f":"'Annual Data'!$AD$15","v":1},{"$f":"'Annual Data'!$AG$15","v":0.1},0,0]
[null,null,null,null,null,null,null,null,null,null,null,null,null,null,null,null,null,null,null,null,null,null,null,null,null,null,null,null,null,null,null,null,{"$f":"'Annual Data'!$AD$15","v":1},{"$f":"'Annual Data'!$AG$15","v":0.1},0,0]
[null,null,null,null,null,null,null,null,null,null,null,null,null,null,null,null,null,null,null,null,null,null,null,null,null,null,null,null,null,null,null,null,{"$f":"'Annual Data'!$AD$15","v":1},{"$f":"'Annual Data'!$AG$15","v":0.1},0,0]
[null,null,null,null,null,null,null,null,null,null,null,null,null,null,null,null,null,null,null,null,null,null,null,null,null,null,null,null,null,null,null,null,{"$f":"'Annual Data'!$AD$15","v":1},{"$f":"'Annual Data'!$AG$15","v":0.1},0,0]
[null,null,null,null,null,null,null,null,null,null,null,null,null,null,null,null,null,null,null,null,null,null,null,null,null,null,null,null,null,null,null,null,{"$f":"'Annual Data'!$AD$15","v":1},{"$f":"'Annual Data'!$AG$15","v":0.1},0,0]
[null,null,null,null,null,null,null,null,null,null,null,null,null,null,null,null,null,null,null,null,null,null,null,null,null,null,null,null,null,null,null,null,{"$f":"'Annual Data'!$AD$15","v":1},{"$f":"'Annual Data'!$AG$15","v":0.1},0,0]
[null,null,null,null,null,null,null,null,null,null,null,null,null,null,null,null,null,null,null,null,null,null,null,null,null,null,null,null,null,null,null,null,{"$f":"'Annual Data'!$AD$15","v":1},{"$f":"'Annual Data'!$AG$15","v":0.1},0,0]
[null,null,null,null,null,null,null,null,null,null,null,null,null,null,null,null,null,null,null,null,null,null,null,null,null,null,null,null,null,null,null,null,{"$f":"'Annual Data'!$AD$15","v":1},{"$f":"'Annual Data'!$AG$15","v":0.1},0,0]
[null,null,null,null,null,null,null,null,null,null,null,null,null,null,null,null,null,null,null,null,null,null,null,null,null,null,null,null,null,null,null,null,{"$f":"'Annual Data'!$AD$15","v":1},{"$f":"'Annual Data'!$AG$15","v":0.1},0,0]
[null,null,null,null,null,null,null,null,null,null,null,null,null,null,null,null,null,null,null,null,null,null,null,null,null,null,null,null,null,null,null,null,{"$f":"'Annual Data'!$AD$15","v":1},{"$f":"'Annual Data'!$AG$15","v":0.1},0,0]
[null,null,null,null,null,null,null,null,null,null,null,null,null,null,null,null,null,null,null,null,null,null,null,null,null,null,null,null,null,null,null,null,{"$f":"'Annual Data'!$AD$15","v":1},{"$f":"'Annual Data'!$AG$15","v":0.1},0,0]
[null,null,null,null,null,null,null,null,null,null,null,null,null,null,null,null,null,null,null,null,null,null,null,null,null,null,null,null,null,null,null,null,{"$f":"'Annual Data'!$AD$15","v":1},{"$f":"'Annual Data'!$AG$15","v":0.1},0,0]
[null,null,null,null,null,null,null,null,null,null,null,null,null,null,null,null,null,null,null,null,null,null,null,null,null,null,null,null,null,null,null,null,{"$f":"'Annual Data'!$AD$15","v":1},{"$f":"'Annual Data'!$AG$15","v":0.1},0,0]
[null,null,null,null,null,null,null,null,null,null,null,null,null,null,null,null,null,null,null,null,null,null,null,null,null,null,null,null,null,null,null,null,{"$f":"'Annual Data'!$AD$15","v":1},{"$f":"'Annual Data'!$AG$15","v":0.1},0,0]
[null,null,null,null,null,null,null,null,null,null,null,null,null,null,null,null,null,null,null,null,null,null,null,null,null,null,null,null,null,null,null,null,{"$f":"'Annual Data'!$AD$15","v":1},{"$f":"'Annual Data'!$AG$15","v":0.1},0,0]
[null,null,null,null,null,null,null,null,null,null,null,null,null,null,null,null,null,null,null,null,null,null,null,null,null,null,null,null,null,null,null,null,{"$f":"'Annual Data'!$AD$15","v":1},{"$f":"'Annual Data'!$AG$15","v":0.1},0,0]
[null,null,null,null,null,null,null,null,null,null,null,null,null,null,null,null,null,null,null,null,null,null,null,null,null,null,null,null,null,null,null,null,{"$f":"'Annual Data'!$AD$15","v":1},{"$f":"'Annual Data'!$AG$15","v":0.1},0,0]
[null,null,null,null,null,null,null,null,null,null,null,null,null,null,null,null,null,null,null,null,null,null,null,null,null,null,null,null,null,null,null,null,{"$f":"'Annual Data'!$AD$15","v":1},{"$f":"'Annual Data'!$AG$15","v":0.1},0,0]
[null,null,null,null,null,null,null,null,null,null,null,null,null,null,null,null,null,null,null,null,null,null,null,null,null,null,null,null,null,null,null,null,{"$f":"'Annual Data'!$AD$15","v":1},{"$f":"'Annual Data'!$AG$15","v":0.1},0,0]
[null,null,null,null,null,null,null,null,null,null,null,null,null,null,null,null,null,null,null,null,null,null,null,null,null,null,null,null,null,null,null,null,{"$f":"'Annual Data'!$AD$15","v":1},{"$f":"'Annual Data'!$AG$15","v":0.1},0,0]
[null,null,null,null,null,null,null,null,null,null,null,null,null,null,null,null,null,null,null,null,null,null,null,null,null,null,null,null,null,null,null,null,{"$f":"'Annual Data'!$AD$15","v":1},{"$f":"'Annual Data'!$AG$15","v":0.1},0,0]
[null,null,null,null,null,null,null,null,null,null,null,null,null,null,null,null,null,null,null,null,null,null,null,null,null,null,null,null,null,null,null,null,{"$f":"'Annual Data'!$AD$15","v":1},{"$f":"'Annual Data'!$AG$15","v":0.1},0,0]
[null,null,null,null,null,null,null,null,null,null,null,null,null,null,null,null,null,null,null,null,null,null,null,null,null,null,null,null,null,null,null,null,{"$f":"'Annual Data'!$AD$15","v":1},{"$f":"'Annual Data'!$AG$15","v":0.1},0,0]
[null,null,null,null,null,null,null,null,null,null,null,null,null,null,null,null,null,null,null,null,null,null,null,null,null,null,null,null,null,null,null,null,{"$f":"'Annual Data'!$AD$15","v":1},{"$f":"'Annual Data'!$AG$15","v":0.1},0,0]
[null,null,null,null,null,null,null,null,null,null,null,null,null,null,null,null,null,null,null,null,null,null,null,null,null,null,null,null,null,null,null,null,{"$f":"'Annual Data'!$AD$15","v":1},{"$f":"'Annual Data'!$AG$15","v":0.1},0,0]
[null,null,null,null,null,null,null,null,null,null,null,null,null,null,null,null,null,null,null,null,null,null,null,null,null,null,null,null,null,null,null,null,{"$f":"'Annual Data'!$AD$15","v":1},{"$f":"'Annual Data'!$AG$15","v":0.1},0,0]
[null,null,null,null,null,null,null,null,null,null,null,null,null,null,null,null,null,null,null,null,null,null,null,null,null,null,null,null,null,null,null,null,{"$f":"'Annual Data'!$AD$15","v":1},{"$f":"'Annual Data'!$AG$15","v":0.1},0,0]
[null,null,null,null,null,null,null,null,null,null,null,null,null,null,null,null,null,null,null,null,null,null,null,null,null,null,null,null,null,null,null,null,{"$f":"'Annual Data'!$AD$15","v":1},{"$f":"'Annual Data'!$AG$15","v":0.1},0,0]
[null,null,null,null,null,null,null,null,null,null,null,null,null,null,null,null,null,null,null,null,null,null,null,null,null,null,null,null,null,null,null,null,{"$f":"'Annual Data'!$AD$15","v":1},{"$f":"'Annual Data'!$AG$15","v":0.1},0,0]
[null,null,null,null,null,null,null,null,null,null,null,null,null,null,null,null,null,null,null,null,null,null,null,null,null,null,null,null,null,null,null,null,{"$f":"'Annual Data'!$AD$15","v":1},{"$f":"'Annual Data'!$AG$15","v":0.1},{"$f":"MAX(C3018:F3018)","v":0},{"$f":"MAX(G3018:R3018)","v":0}]
[null,null,null,null,null,null,null,null,null,null,null,null,null,null,null,null,null,null,null,null,null,null,null,null,null,null,null,null,null,null,null,null,{"$f":"'Annual Data'!$AD$15","v":1},{"$f":"'Annual Data'!$AG$15","v":0.1},0,0]
[null,null,null,null,null,null,null,null,null,null,null,null,null,null,null,null,null,null,null,null,null,null,null,null,null,null,null,null,null,null,null,null,{"$f":"'Annual Data'!$AD$15","v":1},{"$f":"'Annual Data'!$AG$15","v":0.1},0,0]
[null,null,null,null,null,null,null,null,null,null,null,null,null,null,null,null,null,null,null,null,null,null,null,null,null,null,null,null,null,null,null,null,{"$f":"'Annual Data'!$AD$15","v":1},{"$f":"'Annual Data'!$AG$15","v":0.1},0,0]
[null,null,null,null,null,null,null,null,null,null,null,null,null,null,null,null,null,null,null,null,null,null,null,null,null,null,null,null,null,null,null,null,{"$f":"'Annual Data'!$AD$15","v":1},{"$f":"'Annual Data'!$AG$15","v":0.1},0,0]
[null,null,null,null,null,null,null,null,null,null,null,null,null,null,null,null,null,null,null,null,null,null,null,null,null,null,null,null,null,null,null,null,{"$f":"'Annual Data'!$AD$15","v":1},{"$f":"'Annual Data'!$AG$15","v":0.1},0,0]
[null,null,null,null,null,null,null,null,null,null,null,null,null,null,null,null,null,null,null,null,null,null,null,null,null,null,null,null,null,null,null,null,{"$f":"'Annual Data'!$AD$15","v":1},{"$f":"'Annual Data'!$AG$15","v":0.1},0,0]
[null,null,null,null,null,null,null,null,null,null,null,null,null,null,null,null,null,null,null,null,null,null,null,null,null,null,null,null,null,null,null,null,{"$f":"'Annual Data'!$AD$15","v":1},{"$f":"'Annual Data'!$AG$15","v":0.1},0,0]
[null,null,null,null,null,null,null,null,null,null,null,null,null,null,null,null,null,null,null,null,null,null,null,null,null,null,null,null,null,null,null,null,{"$f":"'Annual Data'!$AD$15","v":1},{"$f":"'Annual Data'!$AG$15","v":0.1},0,0]
[null,null,null,null,null,null,null,null,null,null,null,null,null,null,null,null,null,null,null,null,null,null,null,null,null,null,null,null,null,null,null,null,{"$f":"'Annual Data'!$AD$15","v":1},{"$f":"'Annual Data'!$AG$15","v":0.1},0,0]
[null,null,null,null,null,null,null,null,null,null,null,null,null,null,null,null,null,null,null,null,null,null,null,null,null,null,null,null,null,null,null,null,{"$f":"'Annual Data'!$AD$15","v":1},{"$f":"'Annual Data'!$AG$15","v":0.1},0,0]
[null,null,null,null,null,null,null,null,null,null,null,null,null,null,null,null,null,null,null,null,null,null,null,null,null,null,null,null,null,null,null,null,{"$f":"'Annual Data'!$AD$15","v":1},{"$f":"'Annual Data'!$AG$15","v":0.1},0,0]
[null,null,null,null,null,null,null,null,null,null,null,null,null,null,null,null,null,null,null,null,null,null,null,null,null,null,null,null,null,null,null,null,{"$f":"'Annual Data'!$AD$15","v":1},{"$f":"'Annual Data'!$AG$15","v":0.1},0,0]
[null,null,null,null,null,null,null,null,null,null,null,null,null,null,null,null,null,null,null,null,null,null,null,null,null,null,null,null,null,null,null,null,{"$f":"'Annual Data'!$AD$15","v":1},{"$f":"'Annual Data'!$AG$15","v":0.1},0,0]
[null,null,null,null,null,null,null,null,null,null,null,null,null,null,null,null,null,null,null,null,null,null,null,null,null,null,null,null,null,null,null,null,{"$f":"'Annual Data'!$AD$15","v":1},{"$f":"'Annual Data'!$AG$15","v":0.1},0,0]
[null,null,null,null,null,null,null,null,null,null,null,null,null,null,null,null,null,null,null,null,null,null,null,null,null,null,null,null,null,null,null,null,{"$f":"'Annual Data'!$AD$15","v":1},{"$f":"'Annual Data'!$AG$15","v":0.1},0,0]
[null,null,null,null,null,null,null,null,null,null,null,null,null,null,null,null,null,null,null,null,null,null,null,null,null,null,null,null,null,null,null,null,{"$f":"'Annual Data'!$AD$15","v":1},{"$f":"'Annual Data'!$AG$15","v":0.1},0,0]
[null,null,null,null,null,null,null,null,null,null,null,null,null,null,null,null,null,null,null,null,null,null,null,null,null,null,null,null,null,null,null,null,{"$f":"'Annual Data'!$AD$15","v":1},{"$f":"'Annual Data'!$AG$15","v":0.1},0,0]
[null,null,null,null,null,null,null,null,null,null,null,null,null,null,null,null,null,null,null,null,null,null,null,null,null,null,null,null,null,null,null,null,{"$f":"'Annual Data'!$AD$15","v":1},{"$f":"'Annual Data'!$AG$15","v":0.1},0,0]
[null,null,null,null,null,null,null,null,null,null,null,null,null,null,null,null,null,null,null,null,null,null,null,null,null,null,null,null,null,null,null,null,{"$f":"'Annual Data'!$AD$15","v":1},{"$f":"'Annual Data'!$AG$15","v":0.1},0,0]
[null,null,null,null,null,null,null,null,null,null,null,null,null,null,null,null,null,null,null,null,null,null,null,null,null,null,null,null,null,null,null,null,{"$f":"'Annual Data'!$AD$15","v":1},{"$f":"'Annual Data'!$AG$15","v":0.1},0,0]
[null,null,null,null,null,null,null,null,null,null,null,null,null,null,null,null,null,null,null,null,null,null,null,null,null,null,null,null,null,null,null,null,{"$f":"'Annual Data'!$AD$15","v":1},{"$f":"'Annual Data'!$AG$15","v":0.1},0,0]
[null,null,null,null,null,null,null,null,null,null,null,null,null,null,null,null,null,null,null,null,null,null,null,null,null,null,null,null,null,null,null,null,{"$f":"'Annual Data'!$AD$15","v":1},{"$f":"'Annual Data'!$AG$15","v":0.1},0,0]
[null,null,null,null,null,null,null,null,null,null,null,null,null,null,null,null,null,null,null,null,null,null,null,null,null,null,null,null,null,null,null,null,{"$f":"'Annual Data'!$AD$15","v":1},{"$f":"'Annual Data'!$AG$15","v":0.1},0,0]
[null,null,null,null,null,null,null,null,null,null,null,null,null,null,null,null,null,null,null,null,null,null,null,null,null,null,null,null,null,null,null,null,{"$f":"'Annual Data'!$AD$15","v":1},{"$f":"'Annual Data'!$AG$15","v":0.1},0,0]
[null,null,null,null,null,null,null,null,null,null,null,null,null,null,null,null,null,null,null,null,null,null,null,null,null,null,null,null,null,null,null,null,{"$f":"'Annual Data'!$AD$15","v":1},{"$f":"'Annual Data'!$AG$15","v":0.1},0,0]
[null,null,null,null,null,null,null,null,null,null,null,null,null,null,null,null,null,null,null,null,null,null,null,null,null,null,null,null,null,null,null,null,{"$f":"'Annual Data'!$AD$15","v":1},{"$f":"'Annual Data'!$AG$15","v":0.1},0,0]
[null,null,null,null,null,null,null,null,null,null,null,null,null,null,null,null,null,null,null,null,null,null,null,null,null,null,null,null,null,null,null,null,{"$f":"'Annual Data'!$AD$15","v":1},{"$f":"'Annual Data'!$AG$15","v":0.1},0,0]
[null,null,null,null,null,null,null,null,null,null,null,null,null,null,null,null,null,null,null,null,null,null,null,null,null,null,null,null,null,null,null,null,{"$f":"'Annual Data'!$AD$15","v":1},{"$f":"'Annual Data'!$AG$15","v":0.1},0,0]
[null,null,null,null,null,null,null,null,null,null,null,null,null,null,null,null,null,null,null,null,null,null,null,null,null,null,null,null,null,null,null,null,{"$f":"'Annual Data'!$AD$15","v":1},{"$f":"'Annual Data'!$AG$15","v":0.1},0,0]
[null,null,null,null,null,null,null,null,null,null,null,null,null,null,null,null,null,null,null,null,null,null,null,null,null,null,null,null,null,null,null,null,{"$f":"'Annual Data'!$AD$15","v":1},{"$f":"'Annual Data'!$AG$15","v":0.1},0,0]
[null,null,null,null,null,null,null,null,null,null,null,null,null,null,null,null,null,null,null,null,null,null,null,null,null,null,null,null,null,null,null,null,{"$f":"'Annual Data'!$AD$15","v":1},{"$f":"'Annual Data'!$AG$15","v":0.1},0,0]
[null,null,null,null,null,null,null,null,null,null,null,null,null,null,null,null,null,null,null,null,null,null,null,null,null,null,null,null,null,null,null,null,{"$f":"'Annual Data'!$AD$15","v":1},{"$f":"'Annual Data'!$AG$15","v":0.1},0,0]
[null,null,null,null,null,null,null,null,null,null,null,null,null,null,null,null,null,null,null,null,null,null,null,null,null,null,null,null,null,null,null,null,{"$f":"'Annual Data'!$AD$15","v":1},{"$f":"'Annual Data'!$AG$15","v":0.1},0,0]
[null,null,null,null,null,null,null,null,null,null,null,null,null,null,null,null,null,null,null,null,null,null,null,null,null,null,null,null,null,null,null,null,{"$f":"'Annual Data'!$AD$15","v":1},{"$f":"'Annual Data'!$AG$15","v":0.1},0,0]
[null,null,null,null,null,null,null,null,null,null,null,null,null,null,null,null,null,null,null,null,null,null,null,null,null,null,null,null,null,null,null,null,{"$f":"'Annual Data'!$AD$15","v":1},{"$f":"'Annual Data'!$AG$15","v":0.1},0,0]
[null,null,null,null,null,null,null,null,null,null,null,null,null,null,null,null,null,null,null,null,null,null,null,null,null,null,null,null,null,null,null,null,{"$f":"'Annual Data'!$AD$15","v":1},{"$f":"'Annual Data'!$AG$15","v":0.1},0,0]
[null,null,null,null,null,null,null,null,null,null,null,null,null,null,null,null,null,null,null,null,null,null,null,null,null,null,null,null,null,null,null,null,{"$f":"'Annual Data'!$AD$15","v":1},{"$f":"'Annual Data'!$AG$15","v":0.1},0,0]
[null,null,null,null,null,null,null,null,null,null,null,null,null,null,null,null,null,null,null,null,null,null,null,null,null,null,null,null,null,null,null,null,{"$f":"'Annual Data'!$AD$15","v":1},{"$f":"'Annual Data'!$AG$15","v":0.1},0,0]
[null,null,null,null,null,null,null,null,null,null,null,null,null,null,null,null,null,null,null,null,null,null,null,null,null,null,null,null,null,null,null,null,{"$f":"'Annual Data'!$AD$15","v":1},{"$f":"'Annual Data'!$AG$15","v":0.1},0,0]

{"sheet":"Annual Data","index":2,"n_rows":380,"n_cols":33,"rows_kept":380,"cut":false,"hidden":false,"merged":[]}
[]
[null,null,"Plant Name",null,null,null,null,"plant name"]
[null,null,"PWS #"]
[null,null,"Max. settled water turbidity goal",null,null,null,null,1,null,null,null,null,null,null,null,null,"Enter Begin Date:","2018-01-01"]
[null,null,"Filtered water turbidity optimization goal",null,null,null,null,0.1]
[null,null,"Filtered water turbidity regulation",null,null,null,null,0.3]
[null,null,"Instruction to users:  Input plant name and turbidity goals above.  Input begin date"]
[null,null,"in the cell to the right. The worksheet will find 366 days of turbidity data starting with"]
[null,null,"the begin date.  If a turbidity value exceeds the process goal the cell will turn yellow."]
[null,null,"The IFE and CFE cells will turn red if the value is less than or equal to 0.02 NTU"]
[null,null,"(suggesting checking intrument O&M and sample flow rate).  After entering the begin date, "]
[null,null,"develop the reports by clicking the UPDATE button."]
[]
[null,"Start Date","Raw","Sed 1","Sed 2","Sed 3","Sed 4","Filter 1","Filter 2","Filter 3","Filter 4","Filter 5","Filter 6","Filter 7","Filter 8","Filter 9","Filter 10","Filter 11","Filter 12","Combined",null,null,null,null,null,null,null,"MaxSed","MaxSedPlot","Sed Goal","Max Filter","MaxFilterPlot","Filter Goal"]
[{"$f":"VLOOKUP(StartDate,Database2,1,FALSE)","v":{"$error":"#N/A"}},{"$f":"R4","v":"2018-01-01"},{"$f":"IF(ISNA(A15),\"\",IF(LEN(LOOKUP(B15,Database!A:A,Database!B:B))=0,\"\",LOOKUP(B15,Database!A:A,Database!B:B)))","v":""},{"$f":"IF(ISNA(A15),\"\",IF(LEN(LOOKUP(B15,Database!A:A,Database!C:C))=0,\"\",LOOKUP(B15,Database!A:A,Database!C:C)))","v":""},{"$f":"IF(ISNA(A15),\"\",IF(LEN(LOOKUP(B15,Database!A:A,Database!D:D))=0,\"\",LOOKUP(B15,Database!A:A,Database!D:D)))","v":""},{"$f":"IF(ISNA(A15),\"\",IF(LEN(LOOKUP(B15,Database!A:A,Database!E:E))=0,\"\",LOOKUP(B15,Database!A:A,Database!E:E)))","v":""},{"$f":"IF(ISNA(A15),\"\",IF(LEN(LOOKUP(B15,Database!A:A,Database!F:F))=0,\"\",LOOKUP(B15,Database!A:A,Database!F:F)))","v":""},{"$f":"IF(ISNA(A15),\"\",IF(LEN(LOOKUP(B15,Database!A:A,Database!G:G))=0,\"\",LOOKUP(B15,Database!A:A,Database!G:G)))","v":""},{"$f":"IF(ISNA(A15),\"\",IF(LEN(LOOKUP(B15,Database!A:A,Database!H:H))=0,\"\",LOOKUP(B15,Database!A:A,Database!H:H)))","v":""},{"$f":"IF(ISNA(A15),\"\",IF(LEN(LOOKUP(B15,Database!A:A,Database!I:I))=0,\"\",LOOKUP(B15,Database!A:A,Database!I:I)))","v":""},{"$f":"IF(ISNA(A15),\"\",IF(LEN(LOOKUP(B15,Database!A:A,Database!J:J))=0,\"\",LOOKUP(B15,Database!A:A,Database!J:J)))","v":""},{"$f":"IF(ISNA(A15),\"\",IF(LEN(LOOKUP(B15,Database!A:A,Database!K:K))=0,\"\",LOOKUP(B15,Database!A:A,Database!K:K)))","v":""},{"$f":"IF(ISNA(A15),\"\",IF(LEN(LOOKUP(B15,Database!A:A,Database!L:L))=0,\"\",LOOKUP(B15,Database!A:A,Database!L:L)))","v":""},{"$f":"IF(ISNA(A15),\"\",IF(LEN(LOOKUP(B15,Database!A:A,Database!M:M))=0,\"\",LOOKUP(B15,Database!A:A,Database!M:M)))","v":""},{"$f":"IF(ISNA(A15),\"\",IF(LEN(LOOKUP(B15,Database!A:A,Database!N:N))=0,\"\",LOOKUP(B15,Database!A:A,Database!N:N)))","v":""},{"$f":"IF(ISNA(A15),\"\",IF(LEN(LOOKUP(B15,Database!A:A,Database!O:O))=0,\"\",LOOKUP(B15,Database!A:A,Database!O:O)))","v":""},{"$f":"IF(ISNA(A15),\"\",IF(LEN(LOOKUP(B15,Database!A:A,Database!P:P))=0,\"\",LOOKUP(B15,Database!A:A,Database!P:P)))","v":""},{"$f":"IF(ISNA(A15),\"\",IF(LEN(LOOKUP(B15,Database!A:A,Database!Q:Q))=0,\"\",LOOKUP(B15,Database!A:A,Database!Q:Q)))","v":""},{"$f":"IF(ISNA(A15),\"\",IF(LEN(LOOKUP(B15,Database!A:A,Database!R:R))=0,\"\",LOOKUP(B15,Database!A:A,Database!R:R)))","v":""},{"$f":"IF(ISNA(A15),\"\",IF(LEN(LOOKUP(B15,Database!A:A,Database!S:S))=0,\"\",LOOKUP(B15,Database!A:A,Database!S:S)))","v":""},null,null,null,null,null,null,1,{"$f":"MAX(D15:G15)","v":0},null,{"$f":"$H$4","v":1},{"$f":"MAX(H15:S15)","v":0},null,{"$f":"$H$5","v":0.1}]
[{"$f":"VLOOKUP(B16,Database2,1,FALSE)","v":{"$error":"#N/A"}},{"$f":"StartDate+1","v":"2018-01-02"},{"$f":"IF(ISNA(A16),\"\",IF(LEN(LOOKUP(B16,Database!A:A,Database!B:B))=0,\"\",LOOKUP(B16,Database!A:A,Database!B:B)))","v":""},{"$f":"IF(ISNA(A16),\"\",IF(LEN(LOOKUP(B16,Database!A:A,Database!C:C))=0,\"\",LOOKUP(B16,Database!A:A,Database!C:C)))","v":""},{"$f":"IF(ISNA(A16),\"\",IF(LEN(LOOKUP(B16,Database!A:A,Database!D:D))=0,\"\",LOOKUP(B16,Database!A:A,Database!D:D)))","v":""},{"$f":"IF(ISNA(A16),\"\",IF(LEN(LOOKUP(B16,Database!A:A,Database!E:E))=0,\"\",LOOKUP(B16,Database!A:A,Database!E:E)))","v":""},{"$f":"IF(ISNA(A16),\"\",IF(LEN(LOOKUP(B16,Database!A:A,Database!F:F))=0,\"\",LOOKUP(B16,Database!A:A,Database!F:F)))","v":""},{"$f":"IF(ISNA(A16),\"\",IF(LEN(LOOKUP(B16,Database!A:A,Database!G:G))=0,\"\",LOOKUP(B16,Database!A:A,Database!G:G)))","v":""},{"$f":"IF(ISNA(A16),\"\",IF(LEN(LOOKUP(B16,Database!A:A,Database!H:H))=0,\"\",LOOKUP(B16,Database!A:A,Database!H:H)))","v":""},{"$f":"IF(ISNA(A16),\"\",IF(LEN(LOOKUP(B16,Database!A:A,Database!I:I))=0,\"\",LOOKUP(B16,Database!A:A,Database!I:I)))","v":""},{"$f":"IF(ISNA(A16),\"\",IF(LEN(LOOKUP(B16,Database!A:A,Database!J:J))=0,\"\",LOOKUP(B16,Database!A:A,Database!J:J)))","v":""},{"$f":"IF(ISNA(A16),\"\",IF(LEN(LOOKUP(B16,Database!A:A,Database!K:K))=0,\"\",LOOKUP(B16,Database!A:A,Database!K:K)))","v":""},{"$f":"IF(ISNA(A16),\"\",IF(LEN(LOOKUP(B16,Database!A:A,Database!L:L))=0,\"\",LOOKUP(B16,Database!A:A,Database!L:L)))","v":""},{"$f":"IF(ISNA(A16),\"\",IF(LEN(LOOKUP(B16,Database!A:A,Database!M:M))=0,\"\",LOOKUP(B16,Database!A:A,Database!M:M)))","v":""},{"$f":"IF(ISNA(A16),\"\",IF(LEN(LOOKUP(B16,Database!A:A,Database!N:N))=0,\"\",LOOKUP(B16,Database!A:A,Database!N:N)))","v":""},{"$f":"IF(ISNA(A16),\"\",IF(LEN(LOOKUP(B16,Database!A:A,Database!O:O))=0,\"\",LOOKUP(B16,Database!A:A,Database!O:O)))","v":""},{"$f":"IF(ISNA(A16),\"\",IF(LEN(LOOKUP(B16,Database!A:A,Database!P:P))=0,\"\",LOOKUP(B16,Database!A:A,Database!P:P)))","v":""},{"$f":"IF(ISNA(A16),\"\",IF(LEN(LOOKUP(B16,Database!A:A,Database!Q:Q))=0,\"\",LOOKUP(B16,Database!A:A,Database!Q:Q)))","v":""},{"$f":"IF(ISNA(A16),\"\",IF(LEN(LOOKUP(B16,Database!A:A,Database!R:R))=0,\"\",LOOKUP(B16,Database!A:A,Database!R:R)))","v":""},{"$f":"IF(ISNA(A16),\"\",IF(LEN(LOOKUP(B16,Database!A:A,Database!S:S))=0,\"\",LOOKUP(B16,Database!A:A,Database!S:S)))","v":""},null,null,null,null,null,null,{"$f":"AA15+1","v":2},0,null,1,{"$f":"MAX(H16:S16)","v":0},null,0.1]
[{"$error":"#N/A"},{"$f":"B16+1","v":"2018-01-03"},{"$f":"IF(ISNA(A17),\"\",IF(LEN(LOOKUP(B17,Database!A:A,Database!B:B))=0,\"\",LOOKUP(B17,Database!A:A,Database!B:B)))","v":""},{"$f":"IF(ISNA(A17),\"\",IF(LEN(LOOKUP(B17,Database!A:A,Database!C:C))=0,\"\",LOOKUP(B17,Database!A:A,Database!C:C)))","v":""},{"$f":"IF(ISNA(A17),\"\",IF(LEN(LOOKUP(B17,Database!A:A,Database!D:D))=0,\"\",LOOKUP(B17,Database!A:A,Database!D:D)))","v":""},{"$f":"IF(ISNA(A17),\"\",IF(LEN(LOOKUP(B17,Database!A:A,Database!E:E))=0,\"\",LOOKUP(B17,Database!A:A,Database!E:E)))","v":""},{"$f":"IF(ISNA(A17),\"\",IF(LEN(LOOKUP(B17,Database!A:A,Database!F:F))=0,\"\",LOOKUP(B17,Database!A:A,Database!F:F)))","v":""},{"$f":"IF(ISNA(A17),\"\",IF(LEN(LOOKUP(B17,Database!A:A,Database!G:G))=0,\"\",LOOKUP(B17,Database!A:A,Database!G:G)))","v":""},{"$f":"IF(ISNA(A17),\"\",IF(LEN(LOOKUP(B17,Database!A:A,Database!H:H))=0,\"\",LOOKUP(B17,Database!A:A,Database!H:H)))","v":""},{"$f":"IF(ISNA(A17),\"\",IF(LEN(LOOKUP(B17,Database!A:A,Database!I:I))=0,\"\",LOOKUP(B17,Database!A:A,Database!I:I)))","v":""},{"$f":"IF(ISNA(A17),\"\",IF(LEN(LOOKUP(B17,Database!A:A,Database!J:J))=0,\"\",LOOKUP(B17,Database!A:A,Database!J:J)))","v":""},{"$f":"IF(ISNA(A17),\"\",IF(LEN(LOOKUP(B17,Database!A:A,Database!K:K))=0,\"\",LOOKUP(B17,Database!A:A,Database!K:K)))","v":""},{"$f":"IF(ISNA(A17),\"\",IF(LEN(LOOKUP(B17,Database!A:A,Database!L:L))=0,\"\",LOOKUP(B17,Database!A:A,Database!L:L)))","v":""},{"$f":"IF(ISNA(A17),\"\",IF(LEN(LOOKUP(B17,Database!A:A,Database!M:M))=0,\"\",LOOKUP(B17,Database!A:A,Database!M:M)))","v":""},{"$f":"IF(ISNA(A17),\"\",IF(LEN(LOOKUP(B17,Database!A:A,Database!N:N))=0,\"\",LOOKUP(B17,Database!A:A,Database!N:N)))","v":""},{"$f":"IF(ISNA(A17),\"\",IF(LEN(LOOKUP(B17,Database!A:A,Database!O:O))=0,\"\",LOOKUP(B17,Database!A:A,Database!O:O)))","v":""},{"$f":"IF(ISNA(A17),\"\",IF(LEN(LOOKUP(B17,Database!A:A,Database!P:P))=0,\"\",LOOKUP(B17,Database!A:A,Database!P:P)))","v":""},{"$f":"IF(ISNA(A17),\"\",IF(LEN(LOOKUP(B17,Database!A:A,Database!Q:Q))=0,\"\",LOOKUP(B17,Database!A:A,Database!Q:Q)))","v":""},{"$f":"IF(ISNA(A17),\"\",IF(LEN(LOOKUP(B17,Database!A:A,Database!R:R))=0,\"\",LOOKUP(B17,Database!A:A,Database!R:R)))","v":""},{"$f":"IF(ISNA(A17),\"\",IF(LEN(LOOKUP(B17,Database!A:A,Database!S:S))=0,\"\",LOOKUP(B17,Database!A:A,Database!S:S)))","v":""},null,null,null,null,null,null,3,0,null,1,{"$f":"MAX(H17:S17)","v":0},null,0.1]
[{"$error":"#N/A"},{"$f":"B17+1","v":"2018-01-04"},{"$f":"IF(ISNA(A18),\"\",IF(LEN(LOOKUP(B18,Database!A:A,Database!B:B))=0,\"\",LOOKUP(B18,Database!A:A,Database!B:B)))","v":""},{"$f":"IF(ISNA(A18),\"\",IF(LEN(LOOKUP(B18,Database!A:A,Database!C:C))=0,\"\",LOOKUP(B18,Database!A:A,Database!C:C)))","v":""},{"$f":"IF(ISNA(A18),\"\",IF(LEN(LOOKUP(B18,Database!A:A,Database!D:D))=0,\"\",LOOKUP(B18,Database!A:A,Database!D:D)))","v":""},{"$f":"IF(ISNA(A18),\"\",IF(LEN(LOOKUP(B18,Database!A:A,Database!E:E))=0,\"\",LOOKUP(B18,Database!A:A,Database!E:E)))","v":""},{"$f":"IF(ISNA(A18),\"\",IF(LEN(LOOKUP(B18,Database!A:A,Database!F:F))=0,\"\",LOOKUP(B18,Database!A:A,Database!F:F)))","v":""},{"$f":"IF(ISNA(A18),\"\",IF(LEN(LOOKUP(B18,Database!A:A,Database!G:G))=0,\"\",LOOKUP(B18,Database!A:A,Database!G:G)))","v":""},{"$f":"IF(ISNA(A18),\"\",IF(LEN(LOOKUP(B18,Database!A:A,Database!H:H))=0,\"\",LOOKUP(B18,Database!A:A,Database!H:H)))","v":""},{"$f":"IF(ISNA(A18),\"\",IF(LEN(LOOKUP(B18,Database!A:A,Database!I:I))=0,\"\",LOOKUP(B18,Database!A:A,Database!I:I)))","v":""},{"$f":"IF(ISNA(A18),\"\",IF(LEN(LOOKUP(B18,Database!A:A,Database!J:J))=0,\"\",LOOKUP(B18,Database!A:A,Database!J:J)))","v":""},{"$f":"IF(ISNA(A18),\"\",IF(LEN(LOOKUP(B18,Database!A:A,Database!K:K))=0,\"\",LOOKUP(B18,Database!A:A,Database!K:K)))","v":""},{"$f":"IF(ISNA(A18),\"\",IF(LEN(LOOKUP(B18,Database!A:A,Database!L:L))=0,\"\",LOOKUP(B18,Database!A:A,Database!L:L)))","v":""},{"$f":"IF(ISNA(A18),\"\",IF(LEN(LOOKUP(B18,Database!A:A,Database!M:M))=0,\"\",LOOKUP(B18,Database!A:A,Database!M:M)))","v":""},{"$f":"IF(ISNA(A18),\"\",IF(LEN(LOOKUP(B18,Database!A:A,Database!N:N))=0,\"\",LOOKUP(B18,Database!A:A,Database!N:N)))","v":""},{"$f":"IF(ISNA(A18),\"\",IF(LEN(LOOKUP(B18,Database!A:A,Database!O:O))=0,\"\",LOOKUP(B18,Database!A:A,Database!O:O)))","v":""},{"$f":"IF(ISNA(A18),\"\",IF(LEN(LOOKUP(B18,Database!A:A,Database!P:P))=0,\"\",LOOKUP(B18,Database!A:A,Database!P:P)))","v":""},{"$f":"IF(ISNA(A18),\"\",IF(LEN(LOOKUP(B18,Database!A:A,Database!Q:Q))=0,\"\",LOOKUP(B18,Database!A:A,Database!Q:Q)))","v":""},{"$f":"IF(ISNA(A18),\"\",IF(LEN(LOOKUP(B18,Database!A:A,Database!R:R))=0,\"\",LOOKUP(B18,Database!A:A,Database!R:R)))","v":""},{"$f":"IF(ISNA(A18),\"\",IF(LEN(LOOKUP(B18,Database!A:A,Database!S:S))=0,\"\",LOOKUP(B18,Database!A:A,Database!S:S)))","v":""},null,null,null,null,null,null,4,0,null,1,0,null,0.1]
[{"$error":"#N/A"},"2018-01-05",{"$f":"IF(ISNA(A19),\"\",IF(LEN(LOOKUP(B19,Database!A:A,Database!B:B))=0,\"\",LOOKUP(B19,Database!A:A,Database!B:B)))","v":""},{"$f":"IF(ISNA(A19),\"\",IF(LEN(LOOKUP(B19,Database!A:A,Database!C:C))=0,\"\",LOOKUP(B19,Database!A:A,Database!C:C)))","v":""},{"$f":"IF(ISNA(A19),\"\",IF(LEN(LOOKUP(B19,Database!A:A,Database!D:D))=0,\"\",LOOKUP(B19,Database!A:A,Database!D:D)))","v":""},{"$f":"IF(ISNA(A19),\"\",IF(LEN(LOOKUP(B19,Database!A:A,Database!E:E))=0,\"\",LOOKUP(B19,Database!A:A,Database!E:E)))","v":""},{"$f":"IF(ISNA(A19),\"\",IF(LEN(LOOKUP(B19,Database!A:A,Database!F:F))=0,\"\",LOOKUP(B19,Database!A:A,Database!F:F)))","v":""},{"$f":"IF(ISNA(A19),\"\",IF(LEN(LOOKUP(B19,Database!A:A,Database!G:G))=0,\"\",LOOKUP(B19,Database!A:A,Database!G:G)))","v":""},{"$f":"IF(ISNA(A19),\"\",IF(LEN(LOOKUP(B19,Database!A:A,Database!H:H))=0,\"\",LOOKUP(B19,Database!A:A,Database!H:H)))","v":""},{"$f":"IF(ISNA(A19),\"\",IF(LEN(LOOKUP(B19,Database!A:A,Database!I:I))=0,\"\",LOOKUP(B19,Database!A:A,Database!I:I)))","v":""},{"$f":"IF(ISNA(A19),\"\",IF(LEN(LOOKUP(B19,Database!A:A,Database!J:J))=0,\"\",LOOKUP(B19,Database!A:A,Database!J:J)))","v":""},{"$f":"IF(ISNA(A19),\"\",IF(LEN(LOOKUP(B19,Database!A:A,Database!K:K))=0,\"\",LOOKUP(B19,Database!A:A,Database!K:K)))","v":""},{"$f":"IF(ISNA(A19),\"\",IF(LEN(LOOKUP(B19,Database!A:A,Database!L:L))=0,\"\",LOOKUP(B19,Database!A:A,Database!L:L)))","v":""},{"$f":"IF(ISNA(A19),\"\",IF(LEN(LOOKUP(B19,Database!A:A,Database!M:M))=0,\"\",LOOKUP(B19,Database!A:A,Database!M:M)))","v":""},{"$f":"IF(ISNA(A19),\"\",IF(LEN(LOOKUP(B19,Database!A:A,Database!N:N))=0,\"\",LOOKUP(B19,Database!A:A,Database!N:N)))","v":""},{"$f":"IF(ISNA(A19),\"\",IF(LEN(LOOKUP(B19,Database!A:A,Database!O:O))=0,\"\",LOOKUP(B19,Database!A:A,Database!O:O)))","v":""},{"$f":"IF(ISNA(A19),\"\",IF(LEN(LOOKUP(B19,Database!A:A,Database!P:P))=0,\"\",LOOKUP(B19,Database!A:A,Database!P:P)))","v":""},{"$f":"IF(ISNA(A19),\"\",IF(LEN(LOOKUP(B19,Database!A:A,Database!Q:Q))=0,\"\",LOOKUP(B19,Database!A:A,Database!Q:Q)))","v":""},{"$f":"IF(ISNA(A19),\"\",IF(LEN(LOOKUP(B19,Database!A:A,Database!R:R))=0,\"\",LOOKUP(B19,Database!A:A,Database!R:R)))","v":""},{"$f":"IF(ISNA(A19),\"\",IF(LEN(LOOKUP(B19,Database!A:A,Database!S:S))=0,\"\",LOOKUP(B19,Database!A:A,Database!S:S)))","v":""},null,null,null,null,null,null,5,0,null,1,0,null,0.1]
[{"$error":"#N/A"},"2018-01-06",{"$f":"IF(ISNA(A20),\"\",IF(LEN(LOOKUP(B20,Database!A:A,Database!B:B))=0,\"\",LOOKUP(B20,Database!A:A,Database!B:B)))","v":""},{"$f":"IF(ISNA(A20),\"\",IF(LEN(LOOKUP(B20,Database!A:A,Database!C:C))=0,\"\",LOOKUP(B20,Database!A:A,Database!C:C)))","v":""},{"$f":"IF(ISNA(A20),\"\",IF(LEN(LOOKUP(B20,Database!A:A,Database!D:D))=0,\"\",LOOKUP(B20,Database!A:A,Database!D:D)))","v":""},{"$f":"IF(ISNA(A20),\"\",IF(LEN(LOOKUP(B20,Database!A:A,Database!E:E))=0,\"\",LOOKUP(B20,Database!A:A,Database!E:E)))","v":""},{"$f":"IF(ISNA(A20),\"\",IF(LEN(LOOKUP(B20,Database!A:A,Database!F:F))=0,\"\",LOOKUP(B20,Database!A:A,Database!F:F)))","v":""},{"$f":"IF(ISNA(A20),\"\",IF(LEN(LOOKUP(B20,Database!A:A,Database!G:G))=0,\"\",LOOKUP(B20,Database!A:A,Database!G:G)))","v":""},{"$f":"IF(ISNA(A20),\"\",IF(LEN(LOOKUP(B20,Database!A:A,Database!H:H))=0,\"\",LOOKUP(B20,Database!A:A,Database!H:H)))","v":""},{"$f":"IF(ISNA(A20),\"\",IF(LEN(LOOKUP(B20,Database!A:A,Database!I:I))=0,\"\",LOOKUP(B20,Database!A:A,Database!I:I)))","v":""},{"$f":"IF(ISNA(A20),\"\",IF(LEN(LOOKUP(B20,Database!A:A,Database!J:J))=0,\"\",LOOKUP(B20,Database!A:A,Database!J:J)))","v":""},{"$f":"IF(ISNA(A20),\"\",IF(LEN(LOOKUP(B20,Database!A:A,Database!K:K))=0,\"\",LOOKUP(B20,Database!A:A,Database!K:K)))","v":""},{"$f":"IF(ISNA(A20),\"\",IF(LEN(LOOKUP(B20,Database!A:A,Database!L:L))=0,\"\",LOOKUP(B20,Database!A:A,Database!L:L)))","v":""},{"$f":"IF(ISNA(A20),\"\",IF(LEN(LOOKUP(B20,Database!A:A,Database!M:M))=0,\"\",LOOKUP(B20,Database!A:A,Database!M:M)))","v":""},{"$f":"IF(ISNA(A20),\"\",IF(LEN(LOOKUP(B20,Database!A:A,Database!N:N))=0,\"\",LOOKUP(B20,Database!A:A,Database!N:N)))","v":""},{"$f":"IF(ISNA(A20),\"\",IF(LEN(LOOKUP(B20,Database!A:A,Database!O:O))=0,\"\",LOOKUP(B20,Database!A:A,Database!O:O)))","v":""},{"$f":"IF(ISNA(A20),\"\",IF(LEN(LOOKUP(B20,Database!A:A,Database!P:P))=0,\"\",LOOKUP(B20,Database!A:A,Database!P:P)))","v":""},{"$f":"IF(ISNA(A20),\"\",IF(LEN(LOOKUP(B20,Database!A:A,Database!Q:Q))=0,\"\",LOOKUP(B20,Database!A:A,Database!Q:Q)))","v":""},{"$f":"IF(ISNA(A20),\"\",IF(LEN(LOOKUP(B20,Database!A:A,Database!R:R))=0,\"\",LOOKUP(B20,Database!A:A,Database!R:R)))","v":""},{"$f":"IF(ISNA(A20),\"\",IF(LEN(LOOKUP(B20,Database!A:A,Database!S:S))=0,\"\",LOOKUP(B20,Database!A:A,Database!S:S)))","v":""},null,null,null,null,null,null,6,0,null,1,0,null,0.1]
[{"$error":"#N/A"},"2018-01-07",{"$f":"IF(ISNA(A21),\"\",IF(LEN(LOOKUP(B21,Database!A:A,Database!B:B))=0,\"\",LOOKUP(B21,Database!A:A,Database!B:B)))","v":""},{"$f":"IF(ISNA(A21),\"\",IF(LEN(LOOKUP(B21,Database!A:A,Database!C:C))=0,\"\",LOOKUP(B21,Database!A:A,Database!C:C)))","v":""},{"$f":"IF(ISNA(A21),\"\",IF(LEN(LOOKUP(B21,Database!A:A,Database!D:D))=0,\"\",LOOKUP(B21,Database!A:A,Database!D:D)))","v":""},{"$f":"IF(ISNA(A21),\"\",IF(LEN(LOOKUP(B21,Database!A:A,Database!E:E))=0,\"\",LOOKUP(B21,Database!A:A,Database!E:E)))","v":""},{"$f":"IF(ISNA(A21),\"\",IF(LEN(LOOKUP(B21,Database!A:A,Database!F:F))=0,\"\",LOOKUP(B21,Database!A:A,Database!F:F)))","v":""},{"$f":"IF(ISNA(A21),\"\",IF(LEN(LOOKUP(B21,Database!A:A,Database!G:G))=0,\"\",LOOKUP(B21,Database!A:A,Database!G:G)))","v":""},{"$f":"IF(ISNA(A21),\"\",IF(LEN(LOOKUP(B21,Database!A:A,Database!H:H))=0,\"\",LOOKUP(B21,Database!A:A,Database!H:H)))","v":""},{"$f":"IF(ISNA(A21),\"\",IF(LEN(LOOKUP(B21,Database!A:A,Database!I:I))=0,\"\",LOOKUP(B21,Database!A:A,Database!I:I)))","v":""},{"$f":"IF(ISNA(A21),\"\",IF(LEN(LOOKUP(B21,Database!A:A,Database!J:J))=0,\"\",LOOKUP(B21,Database!A:A,Database!J:J)))","v":""},{"$f":"IF(ISNA(A21),\"\",IF(LEN(LOOKUP(B21,Database!A:A,Database!K:K))=0,\"\",LOOKUP(B21,Database!A:A,Database!K:K)))","v":""},{"$f":"IF(ISNA(A21),\"\",IF(LEN(LOOKUP(B21,Database!A:A,Database!L:L))=0,\"\",LOOKUP(B21,Database!A:A,Database!L:L)))","v":""},{"$f":"IF(ISNA(A21),\"\",IF(LEN(LOOKUP(B21,Database!A:A,Database!M:M))=0,\"\",LOOKUP(B21,Database!A:A,Database!M:M)))","v":""},{"$f":"IF(ISNA(A21),\"\",IF(LEN(LOOKUP(B21,Database!A:A,Database!N:N))=0,\"\",LOOKUP(B21,Database!A:A,Database!N:N)))","v":""},{"$f":"IF(ISNA(A21),\"\",IF(LEN(LOOKUP(B21,Database!A:A,Database!O:O))=0,\"\",LOOKUP(B21,Database!A:A,Database!O:O)))","v":""},{"$f":"IF(ISNA(A21),\"\",IF(LEN(LOOKUP(B21,Database!A:A,Database!P:P))=0,\"\",LOOKUP(B21,Database!A:A,Database!P:P)))","v":""},{"$f":"IF(ISNA(A21),\"\",IF(LEN(LOOKUP(B21,Database!A:A,Database!Q:Q))=0,\"\",LOOKUP(B21,Database!A:A,Database!Q:Q)))","v":""},{"$f":"IF(ISNA(A21),\"\",IF(LEN(LOOKUP(B21,Database!A:A,Database!R:R))=0,\"\",LOOKUP(B21,Database!A:A,Database!R:R)))","v":""},{"$f":"IF(ISNA(A21),\"\",IF(LEN(LOOKUP(B21,Database!A:A,Database!S:S))=0,\"\",LOOKUP(B21,Database!A:A,Database!S:S)))","v":""},null,null,null,null,null,null,7,0,null,1,0,null,0.1]
[{"$error":"#N/A"},"2018-01-08",{"$f":"IF(ISNA(A22),\"\",IF(LEN(LOOKUP(B22,Database!A:A,Database!B:B))=0,\"\",LOOKUP(B22,Database!A:A,Database!B:B)))","v":""},{"$f":"IF(ISNA(A22),\"\",IF(LEN(LOOKUP(B22,Database!A:A,Database!C:C))=0,\"\",LOOKUP(B22,Database!A:A,Database!C:C)))","v":""},{"$f":"IF(ISNA(A22),\"\",IF(LEN(LOOKUP(B22,Database!A:A,Database!D:D))=0,\"\",LOOKUP(B22,Database!A:A,Database!D:D)))","v":""},{"$f":"IF(ISNA(A22),\"\",IF(LEN(LOOKUP(B22,Database!A:A,Database!E:E))=0,\"\",LOOKUP(B22,Database!A:A,Database!E:E)))","v":""},{"$f":"IF(ISNA(A22),\"\",IF(LEN(LOOKUP(B22,Database!A:A,Database!F:F))=0,\"\",LOOKUP(B22,Database!A:A,Database!F:F)))","v":""},{"$f":"IF(ISNA(A22),\"\",IF(LEN(LOOKUP(B22,Database!A:A,Database!G:G))=0,\"\",LOOKUP(B22,Database!A:A,Database!G:G)))","v":""},{"$f":"IF(ISNA(A22),\"\",IF(LEN(LOOKUP(B22,Database!A:A,Database!H:H))=0,\"\",LOOKUP(B22,Database!A:A,Database!H:H)))","v":""},{"$f":"IF(ISNA(A22),\"\",IF(LEN(LOOKUP(B22,Database!A:A,Database!I:I))=0,\"\",LOOKUP(B22,Database!A:A,Database!I:I)))","v":""},{"$f":"IF(ISNA(A22),\"\",IF(LEN(LOOKUP(B22,Database!A:A,Database!J:J))=0,\"\",LOOKUP(B22,Database!A:A,Database!J:J)))","v":""},{"$f":"IF(ISNA(A22),\"\",IF(LEN(LOOKUP(B22,Database!A:A,Database!K:K))=0,\"\",LOOKUP(B22,Database!A:A,Database!K:K)))","v":""},{"$f":"IF(ISNA(A22),\"\",IF(LEN(LOOKUP(B22,Database!A:A,Database!L:L))=0,\"\",LOOKUP(B22,Database!A:A,Database!L:L)))","v":""},{"$f":"IF(ISNA(A22),\"\",IF(LEN(LOOKUP(B22,Database!A:A,Database!M:M))=0,\"\",LOOKUP(B22,Database!A:A,Database!M:M)))","v":""},{"$f":"IF(ISNA(A22),\"\",IF(LEN(LOOKUP(B22,Database!A:A,Database!N:N))=0,\"\",LOOKUP(B22,Database!A:A,Database!N:N)))","v":""},{"$f":"IF(ISNA(A22),\"\",IF(LEN(LOOKUP(B22,Database!A:A,Database!O:O))=0,\"\",LOOKUP(B22,Database!A:A,Database!O:O)))","v":""},{"$f":"IF(ISNA(A22),\"\",IF(LEN(LOOKUP(B22,Database!A:A,Database!P:P))=0,\"\",LOOKUP(B22,Database!A:A,Database!P:P)))","v":""},{"$f":"IF(ISNA(A22),\"\",IF(LEN(LOOKUP(B22,Database!A:A,Database!Q:Q))=0,\"\",LOOKUP(B22,Database!A:A,Database!Q:Q)))","v":""},{"$f":"IF(ISNA(A22),\"\",IF(LEN(LOOKUP(B22,Database!A:A,Database!R:R))=0,\"\",LOOKUP(B22,Database!A:A,Database!R:R)))","v":""},{"$f":"IF(ISNA(A22),\"\",IF(LEN(LOOKUP(B22,Database!A:A,Database!S:S))=0,\"\",LOOKUP(B22,Database!A:A,Database!S:S)))","v":""},null,null,null,null,null,null,8,0,null,1,0,null,0.1]
[{"$error":"#N/A"},"2018-01-09",{"$f":"IF(ISNA(A23),\"\",IF(LEN(LOOKUP(B23,Database!A:A,Database!B:B))=0,\"\",LOOKUP(B23,Database!A:A,Database!B:B)))","v":""},{"$f":"IF(ISNA(A23),\"\",IF(LEN(LOOKUP(B23,Database!A:A,Database!C:C))=0,\"\",LOOKUP(B23,Database!A:A,Database!C:C)))","v":""},{"$f":"IF(ISNA(A23),\"\",IF(LEN(LOOKUP(B23,Database!A:A,Database!D:D))=0,\"\",LOOKUP(B23,Database!A:A,Database!D:D)))","v":""},{"$f":"IF(ISNA(A23),\"\",IF(LEN(LOOKUP(B23,Database!A:A,Database!E:E))=0,\"\",LOOKUP(B23,Database!A:A,Database!E:E)))","v":""},{"$f":"IF(ISNA(A23),\"\",IF(LEN(LOOKUP(B23,Database!A:A,Database!F:F))=0,\"\",LOOKUP(B23,Database!A:A,Database!F:F)))","v":""},{"$f":"IF(ISNA(A23),\"\",IF(LEN(LOOKUP(B23,Database!A:A,Database!G:G))=0,\"\",LOOKUP(B23,Database!A:A,Database!G:G)))","v":""},{"$f":"IF(ISNA(A23),\"\",IF(LEN(LOOKUP(B23,Database!A:A,Database!H:H))=0,\"\",LOOKUP(B23,Database!A:A,Database!H:H)))","v":""},{"$f":"IF(ISNA(A23),\"\",IF(LEN(LOOKUP(B23,Database!A:A,Database!I:I))=0,\"\",LOOKUP(B23,Database!A:A,Database!I:I)))","v":""},{"$f":"IF(ISNA(A23),\"\",IF(LEN(LOOKUP(B23,Database!A:A,Database!J:J))=0,\"\",LOOKUP(B23,Database!A:A,Database!J:J)))","v":""},{"$f":"IF(ISNA(A23),\"\",IF(LEN(LOOKUP(B23,Database!A:A,Database!K:K))=0,\"\",LOOKUP(B23,Database!A:A,Database!K:K)))","v":""},{"$f":"IF(ISNA(A23),\"\",IF(LEN(LOOKUP(B23,Database!A:A,Database!L:L))=0,\"\",LOOKUP(B23,Database!A:A,Database!L:L)))","v":""},{"$f":"IF(ISNA(A23),\"\",IF(LEN(LOOKUP(B23,Database!A:A,Database!M:M))=0,\"\",LOOKUP(B23,Database!A:A,Database!M:M)))","v":""},{"$f":"IF(ISNA(A23),\"\",IF(LEN(LOOKUP(B23,Database!A:A,Database!N:N))=0,\"\",LOOKUP(B23,Database!A:A,Database!N:N)))","v":""},{"$f":"IF(ISNA(A23),\"\",IF(LEN(LOOKUP(B23,Database!A:A,Database!O:O))=0,\"\",LOOKUP(B23,Database!A:A,Database!O:O)))","v":""},{"$f":"IF(ISNA(A23),\"\",IF(LEN(LOOKUP(B23,Database!A:A,Database!P:P))=0,\"\",LOOKUP(B23,Database!A:A,Database!P:P)))","v":""},{"$f":"IF(ISNA(A23),\"\",IF(LEN(LOOKUP(B23,Database!A:A,Database!Q:Q))=0,\"\",LOOKUP(B23,Database!A:A,Database!Q:Q)))","v":""},{"$f":"IF(ISNA(A23),\"\",IF(LEN(LOOKUP(B23,Database!A:A,Database!R:R))=0,\"\",LOOKUP(B23,Database!A:A,Database!R:R)))","v":""},{"$f":"IF(ISNA(A23),\"\",IF(LEN(LOOKUP(B23,Database!A:A,Database!S:S))=0,\"\",LOOKUP(B23,Database!A:A,Database!S:S)))","v":""},null,null,null,null,null,null,9,0,null,1,0,null,0.1]
[{"$error":"#N/A"},"2018-01-10",{"$f":"IF(ISNA(A24),\"\",IF(LEN(LOOKUP(B24,Database!A:A,Database!B:B))=0,\"\",LOOKUP(B24,Database!A:A,Database!B:B)))","v":""},{"$f":"IF(ISNA(A24),\"\",IF(LEN(LOOKUP(B24,Database!A:A,Database!C:C))=0,\"\",LOOKUP(B24,Database!A:A,Database!C:C)))","v":""},{"$f":"IF(ISNA(A24),\"\",IF(LEN(LOOKUP(B24,Database!A:A,Database!D:D))=0,\"\",LOOKUP(B24,Database!A:A,Database!D:D)))","v":""},{"$f":"IF(ISNA(A24),\"\",IF(LEN(LOOKUP(B24,Database!A:A,Database!E:E))=0,\"\",LOOKUP(B24,Database!A:A,Database!E:E)))","v":""},{"$f":"IF(ISNA(A24),\"\",IF(LEN(LOOKUP(B24,Database!A:A,Database!F:F))=0,\"\",LOOKUP(B24,Database!A:A,Database!F:F)))","v":""},{"$f":"IF(ISNA(A24),\"\",IF(LEN(LOOKUP(B24,Database!A:A,Database!G:G))=0,\"\",LOOKUP(B24,Database!A:A,Database!G:G)))","v":""},{"$f":"IF(ISNA(A24),\"\",IF(LEN(LOOKUP(B24,Database!A:A,Database!H:H))=0,\"\",LOOKUP(B24,Database!A:A,Database!H:H)))","v":""},{"$f":"IF(ISNA(A24),\"\",IF(LEN(LOOKUP(B24,Database!A:A,Database!I:I))=0,\"\",LOOKUP(B24,Database!A:A,Database!I:I)))","v":""},{"$f":"IF(ISNA(A24),\"\",IF(LEN(LOOKUP(B24,Database!A:A,Database!J:J))=0,\"\",LOOKUP(B24,Database!A:A,Database!J:J)))","v":""},{"$f":"IF(ISNA(A24),\"\",IF(LEN(LOOKUP(B24,Database!A:A,Database!K:K))=0,\"\",LOOKUP(B24,Database!A:A,Database!K:K)))","v":""},{"$f":"IF(ISNA(A24),\"\",IF(LEN(LOOKUP(B24,Database!A:A,Database!L:L))=0,\"\",LOOKUP(B24,Database!A:A,Database!L:L)))","v":""},{"$f":"IF(ISNA(A24),\"\",IF(LEN(LOOKUP(B24,Database!A:A,Database!M:M))=0,\"\",LOOKUP(B24,Database!A:A,Database!M:M)))","v":""},{"$f":"IF(ISNA(A24),\"\",IF(LEN(LOOKUP(B24,Database!A:A,Database!N:N))=0,\"\",LOOKUP(B24,Database!A:A,Database!N:N)))","v":""},{"$f":"IF(ISNA(A24),\"\",IF(LEN(LOOKUP(B24,Database!A:A,Database!O:O))=0,\"\",LOOKUP(B24,Database!A:A,Database!O:O)))","v":""},{"$f":"IF(ISNA(A24),\"\",IF(LEN(LOOKUP(B24,Database!A:A,Database!P:P))=0,\"\",LOOKUP(B24,Database!A:A,Database!P:P)))","v":""},{"$f":"IF(ISNA(A24),\"\",IF(LEN(LOOKUP(B24,Database!A:A,Database!Q:Q))=0,\"\",LOOKUP(B24,Database!A:A,Database!Q:Q)))","v":""},{"$f":"IF(ISNA(A24),\"\",IF(LEN(LOOKUP(B24,Database!A:A,Database!R:R))=0,\"\",LOOKUP(B24,Database!A:A,Database!R:R)))","v":""},{"$f":"IF(ISNA(A24),\"\",IF(LEN(LOOKUP(B24,Database!A:A,Database!S:S))=0,\"\",LOOKUP(B24,Database!A:A,Database!S:S)))","v":""},null,null,null,null,null,null,10,0,null,1,0,null,0.1]
[{"$error":"#N/A"},"2018-01-11",{"$f":"IF(ISNA(A25),\"\",IF(LEN(LOOKUP(B25,Database!A:A,Database!B:B))=0,\"\",LOOKUP(B25,Database!A:A,Database!B:B)))","v":""},{"$f":"IF(ISNA(A25),\"\",IF(LEN(LOOKUP(B25,Database!A:A,Database!C:C))=0,\"\",LOOKUP(B25,Database!A:A,Database!C:C)))","v":""},{"$f":"IF(ISNA(A25),\"\",IF(LEN(LOOKUP(B25,Database!A:A,Database!D:D))=0,\"\",LOOKUP(B25,Database!A:A,Database!D:D)))","v":""},{"$f":"IF(ISNA(A25),\"\",IF(LEN(LOOKUP(B25,Database!A:A,Database!E:E))=0,\"\",LOOKUP(B25,Database!A:A,Database!E:E)))","v":""},{"$f":"IF(ISNA(A25),\"\",IF(LEN(LOOKUP(B25,Database!A:A,Database!F:F))=0,\"\",LOOKUP(B25,Database!A:A,Database!F:F)))","v":""},{"$f":"IF(ISNA(A25),\"\",IF(LEN(LOOKUP(B25,Database!A:A,Database!G:G))=0,\"\",LOOKUP(B25,Database!A:A,Database!G:G)))","v":""},{"$f":"IF(ISNA(A25),\"\",IF(LEN(LOOKUP(B25,Database!A:A,Database!H:H))=0,\"\",LOOKUP(B25,Database!A:A,Database!H:H)))","v":""},{"$f":"IF(ISNA(A25),\"\",IF(LEN(LOOKUP(B25,Database!A:A,Database!I:I))=0,\"\",LOOKUP(B25,Database!A:A,Database!I:I)))","v":""},{"$f":"IF(ISNA(A25),\"\",IF(LEN(LOOKUP(B25,Database!A:A,Database!J:J))=0,\"\",LOOKUP(B25,Database!A:A,Database!J:J)))","v":""},{"$f":"IF(ISNA(A25),\"\",IF(LEN(LOOKUP(B25,Database!A:A,Database!K:K))=0,\"\",LOOKUP(B25,Database!A:A,Database!K:K)))","v":""},{"$f":"IF(ISNA(A25),\"\",IF(LEN(LOOKUP(B25,Database!A:A,Database!L:L))=0,\"\",LOOKUP(B25,Database!A:A,Database!L:L)))","v":""},{"$f":"IF(ISNA(A25),\"\",IF(LEN(LOOKUP(B25,Database!A:A,Database!M:M))=0,\"\",LOOKUP(B25,Database!A:A,Database!M:M)))","v":""},{"$f":"IF(ISNA(A25),\"\",IF(LEN(LOOKUP(B25,Database!A:A,Database!N:N))=0,\"\",LOOKUP(B25,Database!A:A,Database!N:N)))","v":""},{"$f":"IF(ISNA(A25),\"\",IF(LEN(LOOKUP(B25,Database!A:A,Database!O:O))=0,\"\",LOOKUP(B25,Database!A:A,Database!O:O)))","v":""},{"$f":"IF(ISNA(A25),\"\",IF(LEN(LOOKUP(B25,Database!A:A,Database!P:P))=0,\"\",LOOKUP(B25,Database!A:A,Database!P:P)))","v":""},{"$f":"IF(ISNA(A25),\"\",IF(LEN(LOOKUP(B25,Database!A:A,Database!Q:Q))=0,\"\",LOOKUP(B25,Database!A:A,Database!Q:Q)))","v":""},{"$f":"IF(ISNA(A25),\"\",IF(LEN(LOOKUP(B25,Database!A:A,Database!R:R))=0,\"\",LOOKUP(B25,Database!A:A,Database!R:R)))","v":""},{"$f":"IF(ISNA(A25),\"\",IF(LEN(LOOKUP(B25,Database!A:A,Database!S:S))=0,\"\",LOOKUP(B25,Database!A:A,Database!S:S)))","v":""},null,null,null,null,null,null,11,0,null,1,0,null,0.1]
[{"$error":"#N/A"},"2018-01-12",{"$f":"IF(ISNA(A26),\"\",IF(LEN(LOOKUP(B26,Database!A:A,Database!B:B))=0,\"\",LOOKUP(B26,Database!A:A,Database!B:B)))","v":""},{"$f":"IF(ISNA(A26),\"\",IF(LEN(LOOKUP(B26,Database!A:A,Database!C:C))=0,\"\",LOOKUP(B26,Database!A:A,Database!C:C)))","v":""},{"$f":"IF(ISNA(A26),\"\",IF(LEN(LOOKUP(B26,Database!A:A,Database!D:D))=0,\"\",LOOKUP(B26,Database!A:A,Database!D:D)))","v":""},{"$f":"IF(ISNA(A26),\"\",IF(LEN(LOOKUP(B26,Database!A:A,Database!E:E))=0,\"\",LOOKUP(B26,Database!A:A,Database!E:E)))","v":""},{"$f":"IF(ISNA(A26),\"\",IF(LEN(LOOKUP(B26,Database!A:A,Database!F:F))=0,\"\",LOOKUP(B26,Database!A:A,Database!F:F)))","v":""},{"$f":"IF(ISNA(A26),\"\",IF(LEN(LOOKUP(B26,Database!A:A,Database!G:G))=0,\"\",LOOKUP(B26,Database!A:A,Database!G:G)))","v":""},{"$f":"IF(ISNA(A26),\"\",IF(LEN(LOOKUP(B26,Database!A:A,Database!H:H))=0,\"\",LOOKUP(B26,Database!A:A,Database!H:H)))","v":""},{"$f":"IF(ISNA(A26),\"\",IF(LEN(LOOKUP(B26,Database!A:A,Database!I:I))=0,\"\",LOOKUP(B26,Database!A:A,Database!I:I)))","v":""},{"$f":"IF(ISNA(A26),\"\",IF(LEN(LOOKUP(B26,Database!A:A,Database!J:J))=0,\"\",LOOKUP(B26,Database!A:A,Database!J:J)))","v":""},{"$f":"IF(ISNA(A26),\"\",IF(LEN(LOOKUP(B26,Database!A:A,Database!K:K))=0,\"\",LOOKUP(B26,Database!A:A,Database!K:K)))","v":""},{"$f":"IF(ISNA(A26),\"\",IF(LEN(LOOKUP(B26,Database!A:A,Database!L:L))=0,\"\",LOOKUP(B26,Database!A:A,Database!L:L)))","v":""},{"$f":"IF(ISNA(A26),\"\",IF(LEN(LOOKUP(B26,Database!A:A,Database!M:M))=0,\"\",LOOKUP(B26,Database!A:A,Database!M:M)))","v":""},{"$f":"IF(ISNA(A26),\"\",IF(LEN(LOOKUP(B26,Database!A:A,Database!N:N))=0,\"\",LOOKUP(B26,Database!A:A,Database!N:N)))","v":""},{"$f":"IF(ISNA(A26),\"\",IF(LEN(LOOKUP(B26,Database!A:A,Database!O:O))=0,\"\",LOOKUP(B26,Database!A:A,Database!O:O)))","v":""},{"$f":"IF(ISNA(A26),\"\",IF(LEN(LOOKUP(B26,Database!A:A,Database!P:P))=0,\"\",LOOKUP(B26,Database!A:A,Database!P:P)))","v":""},{"$f":"IF(ISNA(A26),\"\",IF(LEN(LOOKUP(B26,Database!A:A,Database!Q:Q))=0,\"\",LOOKUP(B26,Database!A:A,Database!Q:Q)))","v":""},{"$f":"IF(ISNA(A26),\"\",IF(LEN(LOOKUP(B26,Database!A:A,Database!R:R))=0,\"\",LOOKUP(B26,Database!A:A,Database!R:R)))","v":""},{"$f":"IF(ISNA(A26),\"\",IF(LEN(LOOKUP(B26,Database!A:A,Database!S:S))=0,\"\",LOOKUP(B26,Database!A:A,Database!S:S)))","v":""},null,null,null,null,null,null,12,0,null,1,0,null,0.1]
[{"$error":"#N/A"},"2018-01-13",{"$f":"IF(ISNA(A27),\"\",IF(LEN(LOOKUP(B27,Database!A:A,Database!B:B))=0,\"\",LOOKUP(B27,Database!A:A,Database!B:B)))","v":""},{"$f":"IF(ISNA(A27),\"\",IF(LEN(LOOKUP(B27,Database!A:A,Database!C:C))=0,\"\",LOOKUP(B27,Database!A:A,Database!C:C)))","v":""},{"$f":"IF(ISNA(A27),\"\",IF(LEN(LOOKUP(B27,Database!A:A,Database!D:D))=0,\"\",LOOKUP(B27,Database!A:A,Database!D:D)))","v":""},{"$f":"IF(ISNA(A27),\"\",IF(LEN(LOOKUP(B27,Database!A:A,Database!E:E))=0,\"\",LOOKUP(B27,Database!A:A,Database!E:E)))","v":""},{"$f":"IF(ISNA(A27),\"\",IF(LEN(LOOKUP(B27,Database!A:A,Database!F:F))=0,\"\",LOOKUP(B27,Database!A:A,Database!F:F)))","v":""},{"$f":"IF(ISNA(A27),\"\",IF(LEN(LOOKUP(B27,Database!A:A,Database!G:G))=0,\"\",LOOKUP(B27,Database!A:A,Database!G:G)))","v":""},{"$f":"IF(ISNA(A27),\"\",IF(LEN(LOOKUP(B27,Database!A:A,Database!H:H))=0,\"\",LOOKUP(B27,Database!A:A,Database!H:H)))","v":""},{"$f":"IF(ISNA(A27),\"\",IF(LEN(LOOKUP(B27,Database!A:A,Database!I:I))=0,\"\",LOOKUP(B27,Database!A:A,Database!I:I)))","v":""},{"$f":"IF(ISNA(A27),\"\",IF(LEN(LOOKUP(B27,Database!A:A,Database!J:J))=0,\"\",LOOKUP(B27,Database!A:A,Database!J:J)))","v":""},{"$f":"IF(ISNA(A27),\"\",IF(LEN(LOOKUP(B27,Database!A:A,Database!K:K))=0,\"\",LOOKUP(B27,Database!A:A,Database!K:K)))","v":""},{"$f":"IF(ISNA(A27),\"\",IF(LEN(LOOKUP(B27,Database!A:A,Database!L:L))=0,\"\",LOOKUP(B27,Database!A:A,Database!L:L)))","v":""},{"$f":"IF(ISNA(A27),\"\",IF(LEN(LOOKUP(B27,Database!A:A,Database!M:M))=0,\"\",LOOKUP(B27,Database!A:A,Database!M:M)))","v":""},{"$f":"IF(ISNA(A27),\"\",IF(LEN(LOOKUP(B27,Database!A:A,Database!N:N))=0,\"\",LOOKUP(B27,Database!A:A,Database!N:N)))","v":""},{"$f":"IF(ISNA(A27),\"\",IF(LEN(LOOKUP(B27,Database!A:A,Database!O:O))=0,\"\",LOOKUP(B27,Database!A:A,Database!O:O)))","v":""},{"$f":"IF(ISNA(A27),\"\",IF(LEN(LOOKUP(B27,Database!A:A,Database!P:P))=0,\"\",LOOKUP(B27,Database!A:A,Database!P:P)))","v":""},{"$f":"IF(ISNA(A27),\"\",IF(LEN(LOOKUP(B27,Database!A:A,Database!Q:Q))=0,\"\",LOOKUP(B27,Database!A:A,Database!Q:Q)))","v":""},{"$f":"IF(ISNA(A27),\"\",IF(LEN(LOOKUP(B27,Database!A:A,Database!R:R))=0,\"\",LOOKUP(B27,Database!A:A,Database!R:R)))","v":""},{"$f":"IF(ISNA(A27),\"\",IF(LEN(LOOKUP(B27,Database!A:A,Database!S:S))=0,\"\",LOOKUP(B27,Database!A:A,Database!S:S)))","v":""},null,null,null,null,null,null,13,0,null,1,0,null,0.1]
[{"$error":"#N/A"},"2018-01-14",{"$f":"IF(ISNA(A28),\"\",IF(LEN(LOOKUP(B28,Database!A:A,Database!B:B))=0,\"\",LOOKUP(B28,Database!A:A,Database!B:B)))","v":""},{"$f":"IF(ISNA(A28),\"\",IF(LEN(LOOKUP(B28,Database!A:A,Database!C:C))=0,\"\",LOOKUP(B28,Database!A:A,Database!C:C)))","v":""},{"$f":"IF(ISNA(A28),\"\",IF(LEN(LOOKUP(B28,Database!A:A,Database!D:D))=0,\"\",LOOKUP(B28,Database!A:A,Database!D:D)))","v":""},{"$f":"IF(ISNA(A28),\"\",IF(LEN(LOOKUP(B28,Database!A:A,Database!E:E))=0,\"\",LOOKUP(B28,Database!A:A,Database!E:E)))","v":""},{"$f":"IF(ISNA(A28),\"\",IF(LEN(LOOKUP(B28,Database!A:A,Database!F:F))=0,\"\",LOOKUP(B28,Database!A:A,Database!F:F)))","v":""},{"$f":"IF(ISNA(A28),\"\",IF(LEN(LOOKUP(B28,Database!A:A,Database!G:G))=0,\"\",LOOKUP(B28,Database!A:A,Database!G:G)))","v":""},{"$f":"IF(ISNA(A28),\"\",IF(LEN(LOOKUP(B28,Database!A:A,Database!H:H))=0,\"\",LOOKUP(B28,Database!A:A,Database!H:H)))","v":""},{"$f":"IF(ISNA(A28),\"\",IF(LEN(LOOKUP(B28,Database!A:A,Database!I:I))=0,\"\",LOOKUP(B28,Database!A:A,Database!I:I)))","v":""},{"$f":"IF(ISNA(A28),\"\",IF(LEN(LOOKUP(B28,Database!A:A,Database!J:J))=0,\"\",LOOKUP(B28,Database!A:A,Database!J:J)))","v":""},{"$f":"IF(ISNA(A28),\"\",IF(LEN(LOOKUP(B28,Database!A:A,Database!K:K))=0,\"\",LOOKUP(B28,Database!A:A,Database!K:K)))","v":""},{"$f":"IF(ISNA(A28),\"\",IF(LEN(LOOKUP(B28,Database!A:A,Database!L:L))=0,\"\",LOOKUP(B28,Database!A:A,Database!L:L)))","v":""},{"$f":"IF(ISNA(A28),\"\",IF(LEN(LOOKUP(B28,Database!A:A,Database!M:M))=0,\"\",LOOKUP(B28,Database!A:A,Database!M:M)))","v":""},{"$f":"IF(ISNA(A28),\"\",IF(LEN(LOOKUP(B28,Database!A:A,Database!N:N))=0,\"\",LOOKUP(B28,Database!A:A,Database!N:N)))","v":""},{"$f":"IF(ISNA(A28),\"\",IF(LEN(LOOKUP(B28,Database!A:A,Database!O:O))=0,\"\",LOOKUP(B28,Database!A:A,Database!O:O)))","v":""},{"$f":"IF(ISNA(A28),\"\",IF(LEN(LOOKUP(B28,Database!A:A,Database!P:P))=0,\"\",LOOKUP(B28,Database!A:A,Database!P:P)))","v":""},{"$f":"IF(ISNA(A28),\"\",IF(LEN(LOOKUP(B28,Database!A:A,Database!Q:Q))=0,\"\",LOOKUP(B28,Database!A:A,Database!Q:Q)))","v":""},{"$f":"IF(ISNA(A28),\"\",IF(LEN(LOOKUP(B28,Database!A:A,Database!R:R))=0,\"\",LOOKUP(B28,Database!A:A,Database!R:R)))","v":""},{"$f":"IF(ISNA(A28),\"\",IF(LEN(LOOKUP(B28,Database!A:A,Database!S:S))=0,\"\",LOOKUP(B28,Database!A:A,Database!S:S)))","v":""},null,null,null,null,null,null,14,0,null,1,0,null,0.1]
[{"$error":"#N/A"},"2018-01-15",{"$f":"IF(ISNA(A29),\"\",IF(LEN(LOOKUP(B29,Database!A:A,Database!B:B))=0,\"\",LOOKUP(B29,Database!A:A,Database!B:B)))","v":""},{"$f":"IF(ISNA(A29),\"\",IF(LEN(LOOKUP(B29,Database!A:A,Database!C:C))=0,\"\",LOOKUP(B29,Database!A:A,Database!C:C)))","v":""},{"$f":"IF(ISNA(A29),\"\",IF(LEN(LOOKUP(B29,Database!A:A,Database!D:D))=0,\"\",LOOKUP(B29,Database!A:A,Database!D:D)))","v":""},{"$f":"IF(ISNA(A29),\"\",IF(LEN(LOOKUP(B29,Database!A:A,Database!E:E))=0,\"\",LOOKUP(B29,Database!A:A,Database!E:E)))","v":""},{"$f":"IF(ISNA(A29),\"\",IF(LEN(LOOKUP(B29,Database!A:A,Database!F:F))=0,\"\",LOOKUP(B29,Database!A:A,Database!F:F)))","v":""},{"$f":"IF(ISNA(A29),\"\",IF(LEN(LOOKUP(B29,Database!A:A,Database!G:G))=0,\"\",LOOKUP(B29,Database!A:A,Database!G:G)))","v":""},{"$f":"IF(ISNA(A29),\"\",IF(LEN(LOOKUP(B29,Database!A:A,Database!H:H))=0,\"\",LOOKUP(B29,Database!A:A,Database!H:H)))","v":""},{"$f":"IF(ISNA(A29),\"\",IF(LEN(LOOKUP(B29,Database!A:A,Database!I:I))=0,\"\",LOOKUP(B29,Database!A:A,Database!I:I)))","v":""},{"$f":"IF(ISNA(A29),\"\",IF(LEN(LOOKUP(B29,Database!A:A,Database!J:J))=0,\"\",LOOKUP(B29,Database!A:A,Database!J:J)))","v":""},{"$f":"IF(ISNA(A29),\"\",IF(LEN(LOOKUP(B29,Database!A:A,Database!K:K))=0,\"\",LOOKUP(B29,Database!A:A,Database!K:K)))","v":""},{"$f":"IF(ISNA(A29),\"\",IF(LEN(LOOKUP(B29,Database!A:A,Database!L:L))=0,\"\",LOOKUP(B29,Database!A:A,Database!L:L)))","v":""},{"$f":"IF(ISNA(A29),\"\",IF(LEN(LOOKUP(B29,Database!A:A,Database!M:M))=0,\"\",LOOKUP(B29,Database!A:A,Database!M:M)))","v":""},{"$f":"IF(ISNA(A29),\"\",IF(LEN(LOOKUP(B29,Database!A:A,Database!N:N))=0,\"\",LOOKUP(B29,Database!A:A,Database!N:N)))","v":""},{"$f":"IF(ISNA(A29),\"\",IF(LEN(LOOKUP(B29,Database!A:A,Database!O:O))=0,\"\",LOOKUP(B29,Database!A:A,Database!O:O)))","v":""},{"$f":"IF(ISNA(A29),\"\",IF(LEN(LOOKUP(B29,Database!A:A,Database!P:P))=0,\"\",LOOKUP(B29,Database!A:A,Database!P:P)))","v":""},{"$f":"IF(ISNA(A29),\"\",IF(LEN(LOOKUP(B29,Database!A:A,Database!Q:Q))=0,\"\",LOOKUP(B29,Database!A:A,Database!Q:Q)))","v":""},{"$f":"IF(ISNA(A29),\"\",IF(LEN(LOOKUP(B29,Database!A:A,Database!R:R))=0,\"\",LOOKUP(B29,Database!A:A,Database!R:R)))","v":""},{"$f":"IF(ISNA(A29),\"\",IF(LEN(LOOKUP(B29,Database!A:A,Database!S:S))=0,\"\",LOOKUP(B29,Database!A:A,Database!S:S)))","v":""},null,null,null,null,null,null,15,0,null,1,0,null,0.1]
[{"$error":"#N/A"},"2018-01-16",{"$f":"IF(ISNA(A30),\"\",IF(LEN(LOOKUP(B30,Database!A:A,Database!B:B))=0,\"\",LOOKUP(B30,Database!A:A,Database!B:B)))","v":""},{"$f":"IF(ISNA(A30),\"\",IF(LEN(LOOKUP(B30,Database!A:A,Database!C:C))=0,\"\",LOOKUP(B30,Database!A:A,Database!C:C)))","v":""},{"$f":"IF(ISNA(A30),\"\",IF(LEN(LOOKUP(B30,Database!A:A,Database!D:D))=0,\"\",LOOKUP(B30,Database!A:A,Database!D:D)))","v":""},{"$f":"IF(ISNA(A30),\"\",IF(LEN(LOOKUP(B30,Database!A:A,Database!E:E))=0,\"\",LOOKUP(B30,Database!A:A,Database!E:E)))","v":""},{"$f":"IF(ISNA(A30),\"\",IF(LEN(LOOKUP(B30,Database!A:A,Database!F:F))=0,\"\",LOOKUP(B30,Database!A:A,Database!F:F)))","v":""},{"$f":"IF(ISNA(A30),\"\",IF(LEN(LOOKUP(B30,Database!A:A,Database!G:G))=0,\"\",LOOKUP(B30,Database!A:A,Database!G:G)))","v":""},{"$f":"IF(ISNA(A30),\"\",IF(LEN(LOOKUP(B30,Database!A:A,Database!H:H))=0,\"\",LOOKUP(B30,Database!A:A,Database!H:H)))","v":""},{"$f":"IF(ISNA(A30),\"\",IF(LEN(LOOKUP(B30,Database!A:A,Database!I:I))=0,\"\",LOOKUP(B30,Database!A:A,Database!I:I)))","v":""},{"$f":"IF(ISNA(A30),\"\",IF(LEN(LOOKUP(B30,Database!A:A,Database!J:J))=0,\"\",LOOKUP(B30,Database!A:A,Database!J:J)))","v":""},{"$f":"IF(ISNA(A30),\"\",IF(LEN(LOOKUP(B30,Database!A:A,Database!K:K))=0,\"\",LOOKUP(B30,Database!A:A,Database!K:K)))","v":""},{"$f":"IF(ISNA(A30),\"\",IF(LEN(LOOKUP(B30,Database!A:A,Database!L:L))=0,\"\",LOOKUP(B30,Database!A:A,Database!L:L)))","v":""},{"$f":"IF(ISNA(A30),\"\",IF(LEN(LOOKUP(B30,Database!A:A,Database!M:M))=0,\"\",LOOKUP(B30,Database!A:A,Database!M:M)))","v":""},{"$f":"IF(ISNA(A30),\"\",IF(LEN(LOOKUP(B30,Database!A:A,Database!N:N))=0,\"\",LOOKUP(B30,Database!A:A,Database!N:N)))","v":""},{"$f":"IF(ISNA(A30),\"\",IF(LEN(LOOKUP(B30,Database!A:A,Database!O:O))=0,\"\",LOOKUP(B30,Database!A:A,Database!O:O)))","v":""},{"$f":"IF(ISNA(A30),\"\",IF(LEN(LOOKUP(B30,Database!A:A,Database!P:P))=0,\"\",LOOKUP(B30,Database!A:A,Database!P:P)))","v":""},{"$f":"IF(ISNA(A30),\"\",IF(LEN(LOOKUP(B30,Database!A:A,Database!Q:Q))=0,\"\",LOOKUP(B30,Database!A:A,Database!Q:Q)))","v":""},{"$f":"IF(ISNA(A30),\"\",IF(LEN(LOOKUP(B30,Database!A:A,Database!R:R))=0,\"\",LOOKUP(B30,Database!A:A,Database!R:R)))","v":""},{"$f":"IF(ISNA(A30),\"\",IF(LEN(LOOKUP(B30,Database!A:A,Database!S:S))=0,\"\",LOOKUP(B30,Database!A:A,Database!S:S)))","v":""},null,null,null,null,null,null,16,0,null,1,0,null,0.1]
[{"$error":"#N/A"},"2018-01-17",{"$f":"IF(ISNA(A31),\"\",IF(LEN(LOOKUP(B31,Database!A:A,Database!B:B))=0,\"\",LOOKUP(B31,Database!A:A,Database!B:B)))","v":""},{"$f":"IF(ISNA(A31),\"\",IF(LEN(LOOKUP(B31,Database!A:A,Database!C:C))=0,\"\",LOOKUP(B31,Database!A:A,Database!C:C)))","v":""},{"$f":"IF(ISNA(A31),\"\",IF(LEN(LOOKUP(B31,Database!A:A,Database!D:D))=0,\"\",LOOKUP(B31,Database!A:A,Database!D:D)))","v":""},{"$f":"IF(ISNA(A31),\"\",IF(LEN(LOOKUP(B31,Database!A:A,Database!E:E))=0,\"\",LOOKUP(B31,Database!A:A,Database!E:E)))","v":""},{"$f":"IF(ISNA(A31),\"\",IF(LEN(LOOKUP(B31,Database!A:A,Database!F:F))=0,\"\",LOOKUP(B31,Database!A:A,Database!F:F)))","v":""},{"$f":"IF(ISNA(A31),\"\",IF(LEN(LOOKUP(B31,Database!A:A,Database!G:G))=0,\"\",LOOKUP(B31,Database!A:A,Database!G:G)))","v":""},{"$f":"IF(ISNA(A31),\"\",IF(LEN(LOOKUP(B31,Database!A:A,Database!H:H))=0,\"\",LOOKUP(B31,Database!A:A,Database!H:H)))","v":""},{"$f":"IF(ISNA(A31),\"\",IF(LEN(LOOKUP(B31,Database!A:A,Database!I:I))=0,\"\",LOOKUP(B31,Database!A:A,Database!I:I)))","v":""},{"$f":"IF(ISNA(A31),\"\",IF(LEN(LOOKUP(B31,Database!A:A,Database!J:J))=0,\"\",LOOKUP(B31,Database!A:A,Database!J:J)))","v":""},{"$f":"IF(ISNA(A31),\"\",IF(LEN(LOOKUP(B31,Database!A:A,Database!K:K))=0,\"\",LOOKUP(B31,Database!A:A,Database!K:K)))","v":""},{"$f":"IF(ISNA(A31),\"\",IF(LEN(LOOKUP(B31,Database!A:A,Database!L:L))=0,\"\",LOOKUP(B31,Database!A:A,Database!L:L)))","v":""},{"$f":"IF(ISNA(A31),\"\",IF(LEN(LOOKUP(B31,Database!A:A,Database!M:M))=0,\"\",LOOKUP(B31,Database!A:A,Database!M:M)))","v":""},{"$f":"IF(ISNA(A31),\"\",IF(LEN(LOOKUP(B31,Database!A:A,Database!N:N))=0,\"\",LOOKUP(B31,Database!A:A,Database!N:N)))","v":""},{"$f":"IF(ISNA(A31),\"\",IF(LEN(LOOKUP(B31,Database!A:A,Database!O:O))=0,\"\",LOOKUP(B31,Database!A:A,Database!O:O)))","v":""},{"$f":"IF(ISNA(A31),\"\",IF(LEN(LOOKUP(B31,Database!A:A,Database!P:P))=0,\"\",LOOKUP(B31,Database!A:A,Database!P:P)))","v":""},{"$f":"IF(ISNA(A31),\"\",IF(LEN(LOOKUP(B31,Database!A:A,Database!Q:Q))=0,\"\",LOOKUP(B31,Database!A:A,Database!Q:Q)))","v":""},{"$f":"IF(ISNA(A31),\"\",IF(LEN(LOOKUP(B31,Database!A:A,Database!R:R))=0,\"\",LOOKUP(B31,Database!A:A,Database!R:R)))","v":""},{"$f":"IF(ISNA(A31),\"\",IF(LEN(LOOKUP(B31,Database!A:A,Database!S:S))=0,\"\",LOOKUP(B31,Database!A:A,Database!S:S)))","v":""},null,null,null,null,null,null,17,0,null,1,0,null,0.1]
[{"$error":"#N/A"},"2018-01-18",{"$f":"IF(ISNA(A32),\"\",IF(LEN(LOOKUP(B32,Database!A:A,Database!B:B))=0,\"\",LOOKUP(B32,Database!A:A,Database!B:B)))","v":""},{"$f":"IF(ISNA(A32),\"\",IF(LEN(LOOKUP(B32,Database!A:A,Database!C:C))=0,\"\",LOOKUP(B32,Database!A:A,Database!C:C)))","v":""},{"$f":"IF(ISNA(A32),\"\",IF(LEN(LOOKUP(B32,Database!A:A,Database!D:D))=0,\"\",LOOKUP(B32,Database!A:A,Database!D:D)))","v":""},{"$f":"IF(ISNA(A32),\"\",IF(LEN(LOOKUP(B32,Database!A:A,Database!E:E))=0,\"\",LOOKUP(B32,Database!A:A,Database!E:E)))","v":""},{"$f":"IF(ISNA(A32),\"\",IF(LEN(LOOKUP(B32,Database!A:A,Database!F:F))=0,\"\",LOOKUP(B32,Database!A:A,Database!F:F)))","v":""},{"$f":"IF(ISNA(A32),\"\",IF(LEN(LOOKUP(B32,Database!A:A,Database!G:G))=0,\"\",LOOKUP(B32,Database!A:A,Database!G:G)))","v":""},{"$f":"IF(ISNA(A32),\"\",IF(LEN(LOOKUP(B32,Database!A:A,Database!H:H))=0,\"\",LOOKUP(B32,Database!A:A,Database!H:H)))","v":""},{"$f":"IF(ISNA(A32),\"\",IF(LEN(LOOKUP(B32,Database!A:A,Database!I:I))=0,\"\",LOOKUP(B32,Database!A:A,Database!I:I)))","v":""},{"$f":"IF(ISNA(A32),\"\",IF(LEN(LOOKUP(B32,Database!A:A,Database!J:J))=0,\"\",LOOKUP(B32,Database!A:A,Database!J:J)))","v":""},{"$f":"IF(ISNA(A32),\"\",IF(LEN(LOOKUP(B32,Database!A:A,Database!K:K))=0,\"\",LOOKUP(B32,Database!A:A,Database!K:K)))","v":""},{"$f":"IF(ISNA(A32),\"\",IF(LEN(LOOKUP(B32,Database!A:A,Database!L:L))=0,\"\",LOOKUP(B32,Database!A:A,Database!L:L)))","v":""},{"$f":"IF(ISNA(A32),\"\",IF(LEN(LOOKUP(B32,Database!A:A,Database!M:M))=0,\"\",LOOKUP(B32,Database!A:A,Database!M:M)))","v":""},{"$f":"IF(ISNA(A32),\"\",IF(LEN(LOOKUP(B32,Database!A:A,Database!N:N))=0,\"\",LOOKUP(B32,Database!A:A,Database!N:N)))","v":""},{"$f":"IF(ISNA(A32),\"\",IF(LEN(LOOKUP(B32,Database!A:A,Database!O:O))=0,\"\",LOOKUP(B32,Database!A:A,Database!O:O)))","v":""},{"$f":"IF(ISNA(A32),\"\",IF(LEN(LOOKUP(B32,Database!A:A,Database!P:P))=0,\"\",LOOKUP(B32,Database!A:A,Database!P:P)))","v":""},{"$f":"IF(ISNA(A32),\"\",IF(LEN(LOOKUP(B32,Database!A:A,Database!Q:Q))=0,\"\",LOOKUP(B32,Database!A:A,Database!Q:Q)))","v":""},{"$f":"IF(ISNA(A32),\"\",IF(LEN(LOOKUP(B32,Database!A:A,Database!R:R))=0,\"\",LOOKUP(B32,Database!A:A,Database!R:R)))","v":""},{"$f":"IF(ISNA(A32),\"\",IF(LEN(LOOKUP(B32,Database!A:A,Database!S:S))=0,\"\",LOOKUP(B32,Database!A:A,Database!S:S)))","v":""},null,null,null,null,null,null,18,0,null,1,0,null,0.1]
[{"$error":"#N/A"},"2018-01-19",{"$f":"IF(ISNA(A33),\"\",IF(LEN(LOOKUP(B33,Database!A:A,Database!B:B))=0,\"\",LOOKUP(B33,Database!A:A,Database!B:B)))","v":""},{"$f":"IF(ISNA(A33),\"\",IF(LEN(LOOKUP(B33,Database!A:A,Database!C:C))=0,\"\",LOOKUP(B33,Database!A:A,Database!C:C)))","v":""},{"$f":"IF(ISNA(A33),\"\",IF(LEN(LOOKUP(B33,Database!A:A,Database!D:D))=0,\"\",LOOKUP(B33,Database!A:A,Database!D:D)))","v":""},{"$f":"IF(ISNA(A33),\"\",IF(LEN(LOOKUP(B33,Database!A:A,Database!E:E))=0,\"\",LOOKUP(B33,Database!A:A,Database!E:E)))","v":""},{"$f":"IF(ISNA(A33),\"\",IF(LEN(LOOKUP(B33,Database!A:A,Database!F:F))=0,\"\",LOOKUP(B33,Database!A:A,Database!F:F)))","v":""},{"$f":"IF(ISNA(A33),\"\",IF(LEN(LOOKUP(B33,Database!A:A,Database!G:G))=0,\"\",LOOKUP(B33,Database!A:A,Database!G:G)))","v":""},{"$f":"IF(ISNA(A33),\"\",IF(LEN(LOOKUP(B33,Database!A:A,Database!H:H))=0,\"\",LOOKUP(B33,Database!A:A,Database!H:H)))","v":""},{"$f":"IF(ISNA(A33),\"\",IF(LEN(LOOKUP(B33,Database!A:A,Database!I:I))=0,\"\",LOOKUP(B33,Database!A:A,Database!I:I)))","v":""},{"$f":"IF(ISNA(A33),\"\",IF(LEN(LOOKUP(B33,Database!A:A,Database!J:J))=0,\"\",LOOKUP(B33,Database!A:A,Database!J:J)))","v":""},{"$f":"IF(ISNA(A33),\"\",IF(LEN(LOOKUP(B33,Database!A:A,Database!K:K))=0,\"\",LOOKUP(B33,Database!A:A,Database!K:K)))","v":""},{"$f":"IF(ISNA(A33),\"\",IF(LEN(LOOKUP(B33,Database!A:A,Database!L:L))=0,\"\",LOOKUP(B33,Database!A:A,Database!L:L)))","v":""},{"$f":"IF(ISNA(A33),\"\",IF(LEN(LOOKUP(B33,Database!A:A,Database!M:M))=0,\"\",LOOKUP(B33,Database!A:A,Database!M:M)))","v":""},{"$f":"IF(ISNA(A33),\"\",IF(LEN(LOOKUP(B33,Database!A:A,Database!N:N))=0,\"\",LOOKUP(B33,Database!A:A,Database!N:N)))","v":""},{"$f":"IF(ISNA(A33),\"\",IF(LEN(LOOKUP(B33,Database!A:A,Database!O:O))=0,\"\",LOOKUP(B33,Database!A:A,Database!O:O)))","v":""},{"$f":"IF(ISNA(A33),\"\",IF(LEN(LOOKUP(B33,Database!A:A,Database!P:P))=0,\"\",LOOKUP(B33,Database!A:A,Database!P:P)))","v":""},{"$f":"IF(ISNA(A33),\"\",IF(LEN(LOOKUP(B33,Database!A:A,Database!Q:Q))=0,\"\",LOOKUP(B33,Database!A:A,Database!Q:Q)))","v":""},{"$f":"IF(ISNA(A33),\"\",IF(LEN(LOOKUP(B33,Database!A:A,Database!R:R))=0,\"\",LOOKUP(B33,Database!A:A,Database!R:R)))","v":""},{"$f":"IF(ISNA(A33),\"\",IF(LEN(LOOKUP(B33,Database!A:A,Database!S:S))=0,\"\",LOOKUP(B33,Database!A:A,Database!S:S)))","v":""},null,null,null,null,null,null,19,0,null,1,0,null,0.1]
[{"$error":"#N/A"},"2018-01-20",{"$f":"IF(ISNA(A34),\"\",IF(LEN(LOOKUP(B34,Database!A:A,Database!B:B))=0,\"\",LOOKUP(B34,Database!A:A,Database!B:B)))","v":""},{"$f":"IF(ISNA(A34),\"\",IF(LEN(LOOKUP(B34,Database!A:A,Database!C:C))=0,\"\",LOOKUP(B34,Database!A:A,Database!C:C)))","v":""},{"$f":"IF(ISNA(A34),\"\",IF(LEN(LOOKUP(B34,Database!A:A,Database!D:D))=0,\"\",LOOKUP(B34,Database!A:A,Database!D:D)))","v":""},{"$f":"IF(ISNA(A34),\"\",IF(LEN(LOOKUP(B34,Database!A:A,Database!E:E))=0,\"\",LOOKUP(B34,Database!A:A,Database!E:E)))","v":""},{"$f":"IF(ISNA(A34),\"\",IF(LEN(LOOKUP(B34,Database!A:A,Database!F:F))=0,\"\",LOOKUP(B34,Database!A:A,Database!F:F)))","v":""},{"$f":"IF(ISNA(A34),\"\",IF(LEN(LOOKUP(B34,Database!A:A,Database!G:G))=0,\"\",LOOKUP(B34,Database!A:A,Database!G:G)))","v":""},{"$f":"IF(ISNA(A34),\"\",IF(LEN(LOOKUP(B34,Database!A:A,Database!H:H))=0,\"\",LOOKUP(B34,Database!A:A,Database!H:H)))","v":""},{"$f":"IF(ISNA(A34),\"\",IF(LEN(LOOKUP(B34,Database!A:A,Database!I:I))=0,\"\",LOOKUP(B34,Database!A:A,Database!I:I)))","v":""},{"$f":"IF(ISNA(A34),\"\",IF(LEN(LOOKUP(B34,Database!A:A,Database!J:J))=0,\"\",LOOKUP(B34,Database!A:A,Database!J:J)))","v":""},{"$f":"IF(ISNA(A34),\"\",IF(LEN(LOOKUP(B34,Database!A:A,Database!K:K))=0,\"\",LOOKUP(B34,Database!A:A,Database!K:K)))","v":""},{"$f":"IF(ISNA(A34),\"\",IF(LEN(LOOKUP(B34,Database!A:A,Database!L:L))=0,\"\",LOOKUP(B34,Database!A:A,Database!L:L)))","v":""},{"$f":"IF(ISNA(A34),\"\",IF(LEN(LOOKUP(B34,Database!A:A,Database!M:M))=0,\"\",LOOKUP(B34,Database!A:A,Database!M:M)))","v":""},{"$f":"IF(ISNA(A34),\"\",IF(LEN(LOOKUP(B34,Database!A:A,Database!N:N))=0,\"\",LOOKUP(B34,Database!A:A,Database!N:N)))","v":""},{"$f":"IF(ISNA(A34),\"\",IF(LEN(LOOKUP(B34,Database!A:A,Database!O:O))=0,\"\",LOOKUP(B34,Database!A:A,Database!O:O)))","v":""},{"$f":"IF(ISNA(A34),\"\",IF(LEN(LOOKUP(B34,Database!A:A,Database!P:P))=0,\"\",LOOKUP(B34,Database!A:A,Database!P:P)))","v":""},{"$f":"IF(ISNA(A34),\"\",IF(LEN(LOOKUP(B34,Database!A:A,Database!Q:Q))=0,\"\",LOOKUP(B34,Database!A:A,Database!Q:Q)))","v":""},{"$f":"IF(ISNA(A34),\"\",IF(LEN(LOOKUP(B34,Database!A:A,Database!R:R))=0,\"\",LOOKUP(B34,Database!A:A,Database!R:R)))","v":""},{"$f":"IF(ISNA(A34),\"\",IF(LEN(LOOKUP(B34,Database!A:A,Database!S:S))=0,\"\",LOOKUP(B34,Database!A:A,Database!S:S)))","v":""},null,null,null,null,null,null,20,0,null,1,0,null,0.1]
[{"$error":"#N/A"},"2018-01-21",{"$f":"IF(ISNA(A35),\"\",IF(LEN(LOOKUP(B35,Database!A:A,Database!B:B))=0,\"\",LOOKUP(B35,Database!A:A,Database!B:B)))","v":""},{"$f":"IF(ISNA(A35),\"\",IF(LEN(LOOKUP(B35,Database!A:A,Database!C:C))=0,\"\",LOOKUP(B35,Database!A:A,Database!C:C)))","v":""},{"$f":"IF(ISNA(A35),\"\",IF(LEN(LOOKUP(B35,Database!A:A,Database!D:D))=0,\"\",LOOKUP(B35,Database!A:A,Database!D:D)))","v":""},{"$f":"IF(ISNA(A35),\"\",IF(LEN(LOOKUP(B35,Database!A:A,Database!E:E))=0,\"\",LOOKUP(B35,Database!A:A,Database!E:E)))","v":""},{"$f":"IF(ISNA(A35),\"\",IF(LEN(LOOKUP(B35,Database!A:A,Database!F:F))=0,\"\",LOOKUP(B35,Database!A:A,Database!F:F)))","v":""},{"$f":"IF(ISNA(A35),\"\",IF(LEN(LOOKUP(B35,Database!A:A,Database!G:G))=0,\"\",LOOKUP(B35,Database!A:A,Database!G:G)))","v":""},{"$f":"IF(ISNA(A35),\"\",IF(LEN(LOOKUP(B35,Database!A:A,Database!H:H))=0,\"\",LOOKUP(B35,Database!A:A,Database!H:H)))","v":""},{"$f":"IF(ISNA(A35),\"\",IF(LEN(LOOKUP(B35,Database!A:A,Database!I:I))=0,\"\",LOOKUP(B35,Database!A:A,Database!I:I)))","v":""},{"$f":"IF(ISNA(A35),\"\",IF(LEN(LOOKUP(B35,Database!A:A,Database!J:J))=0,\"\",LOOKUP(B35,Database!A:A,Database!J:J)))","v":""},{"$f":"IF(ISNA(A35),\"\",IF(LEN(LOOKUP(B35,Database!A:A,Database!K:K))=0,\"\",LOOKUP(B35,Database!A:A,Database!K:K)))","v":""},{"$f":"IF(ISNA(A35),\"\",IF(LEN(LOOKUP(B35,Database!A:A,Database!L:L))=0,\"\",LOOKUP(B35,Database!A:A,Database!L:L)))","v":""},{"$f":"IF(ISNA(A35),\"\",IF(LEN(LOOKUP(B35,Database!A:A,Database!M:M))=0,\"\",LOOKUP(B35,Database!A:A,Database!M:M)))","v":""},{"$f":"IF(ISNA(A35),\"\",IF(LEN(LOOKUP(B35,Database!A:A,Database!N:N))=0,\"\",LOOKUP(B35,Database!A:A,Database!N:N)))","v":""},{"$f":"IF(ISNA(A35),\"\",IF(LEN(LOOKUP(B35,Database!A:A,Database!O:O))=0,\"\",LOOKUP(B35,Database!A:A,Database!O:O)))","v":""},{"$f":"IF(ISNA(A35),\"\",IF(LEN(LOOKUP(B35,Database!A:A,Database!P:P))=0,\"\",LOOKUP(B35,Database!A:A,Database!P:P)))","v":""},{"$f":"IF(ISNA(A35),\"\",IF(LEN(LOOKUP(B35,Database!A:A,Database!Q:Q))=0,\"\",LOOKUP(B35,Database!A:A,Database!Q:Q)))","v":""},{"$f":"IF(ISNA(A35),\"\",IF(LEN(LOOKUP(B35,Database!A:A,Database!R:R))=0,\"\",LOOKUP(B35,Database!A:A,Database!R:R)))","v":""},{"$f":"IF(ISNA(A35),\"\",IF(LEN(LOOKUP(B35,Database!A:A,Database!S:S))=0,\"\",LOOKUP(B35,Database!A:A,Database!S:S)))","v":""},null,null,null,null,null,null,21,0,null,1,0,null,0.1]
[{"$error":"#N/A"},"2018-01-22",{"$f":"IF(ISNA(A36),\"\",IF(LEN(LOOKUP(B36,Database!A:A,Database!B:B))=0,\"\",LOOKUP(B36,Database!A:A,Database!B:B)))","v":""},{"$f":"IF(ISNA(A36),\"\",IF(LEN(LOOKUP(B36,Database!A:A,Database!C:C))=0,\"\",LOOKUP(B36,Database!A:A,Database!C:C)))","v":""},{"$f":"IF(ISNA(A36),\"\",IF(LEN(LOOKUP(B36,Database!A:A,Database!D:D))=0,\"\",LOOKUP(B36,Database!A:A,Database!D:D)))","v":""},{"$f":"IF(ISNA(A36),\"\",IF(LEN(LOOKUP(B36,Database!A:A,Database!E:E))=0,\"\",LOOKUP(B36,Database!A:A,Database!E:E)))","v":""},{"$f":"IF(ISNA(A36),\"\",IF(LEN(LOOKUP(B36,Database!A:A,Database!F:F))=0,\"\",LOOKUP(B36,Database!A:A,Database!F:F)))","v":""},{"$f":"IF(ISNA(A36),\"\",IF(LEN(LOOKUP(B36,Database!A:A,Database!G:G))=0,\"\",LOOKUP(B36,Database!A:A,Database!G:G)))","v":""},{"$f":"IF(ISNA(A36),\"\",IF(LEN(LOOKUP(B36,Database!A:A,Database!H:H))=0,\"\",LOOKUP(B36,Database!A:A,Database!H:H)))","v":""},{"$f":"IF(ISNA(A36),\"\",IF(LEN(LOOKUP(B36,Database!A:A,Database!I:I))=0,\"\",LOOKUP(B36,Database!A:A,Database!I:I)))","v":""},{"$f":"IF(ISNA(A36),\"\",IF(LEN(LOOKUP(B36,Database!A:A,Database!J:J))=0,\"\",LOOKUP(B36,Database!A:A,Database!J:J)))","v":""},{"$f":"IF(ISNA(A36),\"\",IF(LEN(LOOKUP(B36,Database!A:A,Database!K:K))=0,\"\",LOOKUP(B36,Database!A:A,Database!K:K)))","v":""},{"$f":"IF(ISNA(A36),\"\",IF(LEN(LOOKUP(B36,Database!A:A,Database!L:L))=0,\"\",LOOKUP(B36,Database!A:A,Database!L:L)))","v":""},{"$f":"IF(ISNA(A36),\"\",IF(LEN(LOOKUP(B36,Database!A:A,Database!M:M))=0,\"\",LOOKUP(B36,Database!A:A,Database!M:M)))","v":""},{"$f":"IF(ISNA(A36),\"\",IF(LEN(LOOKUP(B36,Database!A:A,Database!N:N))=0,\"\",LOOKUP(B36,Database!A:A,Database!N:N)))","v":""},{"$f":"IF(ISNA(A36),\"\",IF(LEN(LOOKUP(B36,Database!A:A,Database!O:O))=0,\"\",LOOKUP(B36,Database!A:A,Database!O:O)))","v":""},{"$f":"IF(ISNA(A36),\"\",IF(LEN(LOOKUP(B36,Database!A:A,Database!P:P))=0,\"\",LOOKUP(B36,Database!A:A,Database!P:P)))","v":""},{"$f":"IF(ISNA(A36),\"\",IF(LEN(LOOKUP(B36,Database!A:A,Database!Q:Q))=0,\"\",LOOKUP(B36,Database!A:A,Database!Q:Q)))","v":""},{"$f":"IF(ISNA(A36),\"\",IF(LEN(LOOKUP(B36,Database!A:A,Database!R:R))=0,\"\",LOOKUP(B36,Database!A:A,Database!R:R)))","v":""},{"$f":"IF(ISNA(A36),\"\",IF(LEN(LOOKUP(B36,Database!A:A,Database!S:S))=0,\"\",LOOKUP(B36,Database!A:A,Database!S:S)))","v":""},null,null,null,null,null,null,22,0,null,1,0,null,0.1]
[{"$error":"#N/A"},"2018-01-23",{"$f":"IF(ISNA(A37),\"\",IF(LEN(LOOKUP(B37,Database!A:A,Database!B:B))=0,\"\",LOOKUP(B37,Database!A:A,Database!B:B)))","v":""},{"$f":"IF(ISNA(A37),\"\",IF(LEN(LOOKUP(B37,Database!A:A,Database!C:C))=0,\"\",LOOKUP(B37,Database!A:A,Database!C:C)))","v":""},{"$f":"IF(ISNA(A37),\"\",IF(LEN(LOOKUP(B37,Database!A:A,Database!D:D))=0,\"\",LOOKUP(B37,Database!A:A,Database!D:D)))","v":""},{"$f":"IF(ISNA(A37),\"\",IF(LEN(LOOKUP(B37,Database!A:A,Database!E:E))=0,\"\",LOOKUP(B37,Database!A:A,Database!E:E)))","v":""},{"$f":"IF(ISNA(A37),\"\",IF(LEN(LOOKUP(B37,Database!A:A,Database!F:F))=0,\"\",LOOKUP(B37,Database!A:A,Database!F:F)))","v":""},{"$f":"IF(ISNA(A37),\"\",IF(LEN(LOOKUP(B37,Database!A:A,Database!G:G))=0,\"\",LOOKUP(B37,Database!A:A,Database!G:G)))","v":""},{"$f":"IF(ISNA(A37),\"\",IF(LEN(LOOKUP(B37,Database!A:A,Database!H:H))=0,\"\",LOOKUP(B37,Database!A:A,Database!H:H)))","v":""},{"$f":"IF(ISNA(A37),\"\",IF(LEN(LOOKUP(B37,Database!A:A,Database!I:I))=0,\"\",LOOKUP(B37,Database!A:A,Database!I:I)))","v":""},{"$f":"IF(ISNA(A37),\"\",IF(LEN(LOOKUP(B37,Database!A:A,Database!J:J))=0,\"\",LOOKUP(B37,Database!A:A,Database!J:J)))","v":""},{"$f":"IF(ISNA(A37),\"\",IF(LEN(LOOKUP(B37,Database!A:A,Database!K:K))=0,\"\",LOOKUP(B37,Database!A:A,Database!K:K)))","v":""},{"$f":"IF(ISNA(A37),\"\",IF(LEN(LOOKUP(B37,Database!A:A,Database!L:L))=0,\"\",LOOKUP(B37,Database!A:A,Database!L:L)))","v":""},{"$f":"IF(ISNA(A37),\"\",IF(LEN(LOOKUP(B37,Database!A:A,Database!M:M))=0,\"\",LOOKUP(B37,Database!A:A,Database!M:M)))","v":""},{"$f":"IF(ISNA(A37),\"\",IF(LEN(LOOKUP(B37,Database!A:A,Database!N:N))=0,\"\",LOOKUP(B37,Database!A:A,Database!N:N)))","v":""},{"$f":"IF(ISNA(A37),\"\",IF(LEN(LOOKUP(B37,Database!A:A,Database!O:O))=0,\"\",LOOKUP(B37,Database!A:A,Database!O:O)))","v":""},{"$f":"IF(ISNA(A37),\"\",IF(LEN(LOOKUP(B37,Database!A:A,Database!P:P))=0,\"\",LOOKUP(B37,Database!A:A,Database!P:P)))","v":""},{"$f":"IF(ISNA(A37),\"\",IF(LEN(LOOKUP(B37,Database!A:A,Database!Q:Q))=0,\"\",LOOKUP(B37,Database!A:A,Database!Q:Q)))","v":""},{"$f":"IF(ISNA(A37),\"\",IF(LEN(LOOKUP(B37,Database!A:A,Database!R:R))=0,\"\",LOOKUP(B37,Database!A:A,Database!R:R)))","v":""},{"$f":"IF(ISNA(A37),\"\",IF(LEN(LOOKUP(B37,Database!A:A,Database!S:S))=0,\"\",LOOKUP(B37,Database!A:A,Database!S:S)))","v":""},null,null,null,null,null,null,23,0,null,1,0,null,0.1]
[{"$error":"#N/A"},"2018-01-24",{"$f":"IF(ISNA(A38),\"\",IF(LEN(LOOKUP(B38,Database!A:A,Database!B:B))=0,\"\",LOOKUP(B38,Database!A:A,Database!B:B)))","v":""},{"$f":"IF(ISNA(A38),\"\",IF(LEN(LOOKUP(B38,Database!A:A,Database!C:C))=0,\"\",LOOKUP(B38,Database!A:A,Database!C:C)))","v":""},{"$f":"IF(ISNA(A38),\"\",IF(LEN(LOOKUP(B38,Database!A:A,Database!D:D))=0,\"\",LOOKUP(B38,Database!A:A,Database!D:D)))","v":""},{"$f":"IF(ISNA(A38),\"\",IF(LEN(LOOKUP(B38,Database!A:A,Database!E:E))=0,\"\",LOOKUP(B38,Database!A:A,Database!E:E)))","v":""},{"$f":"IF(ISNA(A38),\"\",IF(LEN(LOOKUP(B38,Database!A:A,Database!F:F))=0,\"\",LOOKUP(B38,Database!A:A,Database!F:F)))","v":""},{"$f":"IF(ISNA(A38),\"\",IF(LEN(LOOKUP(B38,Database!A:A,Database!G:G))=0,\"\",LOOKUP(B38,Database!A:A,Database!G:G)))","v":""},{"$f":"IF(ISNA(A38),\"\",IF(LEN(LOOKUP(B38,Database!A:A,Database!H:H))=0,\"\",LOOKUP(B38,Database!A:A,Database!H:H)))","v":""},{"$f":"IF(ISNA(A38),\"\",IF(LEN(LOOKUP(B38,Database!A:A,Database!I:I))=0,\"\",LOOKUP(B38,Database!A:A,Database!I:I)))","v":""},{"$f":"IF(ISNA(A38),\"\",IF(LEN(LOOKUP(B38,Database!A:A,Database!J:J))=0,\"\",LOOKUP(B38,Database!A:A,Database!J:J)))","v":""},{"$f":"IF(ISNA(A38),\"\",IF(LEN(LOOKUP(B38,Database!A:A,Database!K:K))=0,\"\",LOOKUP(B38,Database!A:A,Database!K:K)))","v":""},{"$f":"IF(ISNA(A38),\"\",IF(LEN(LOOKUP(B38,Database!A:A,Database!L:L))=0,\"\",LOOKUP(B38,Database!A:A,Database!L:L)))","v":""},{"$f":"IF(ISNA(A38),\"\",IF(LEN(LOOKUP(B38,Database!A:A,Database!M:M))=0,\"\",LOOKUP(B38,Database!A:A,Database!M:M)))","v":""},{"$f":"IF(ISNA(A38),\"\",IF(LEN(LOOKUP(B38,Database!A:A,Database!N:N))=0,\"\",LOOKUP(B38,Database!A:A,Database!N:N)))","v":""},{"$f":"IF(ISNA(A38),\"\",IF(LEN(LOOKUP(B38,Database!A:A,Database!O:O))=0,\"\",LOOKUP(B38,Database!A:A,Database!O:O)))","v":""},{"$f":"IF(ISNA(A38),\"\",IF(LEN(LOOKUP(B38,Database!A:A,Database!P:P))=0,\"\",LOOKUP(B38,Database!A:A,Database!P:P)))","v":""},{"$f":"IF(ISNA(A38),\"\",IF(LEN(LOOKUP(B38,Database!A:A,Database!Q:Q))=0,\"\",LOOKUP(B38,Database!A:A,Database!Q:Q)))","v":""},{"$f":"IF(ISNA(A38),\"\",IF(LEN(LOOKUP(B38,Database!A:A,Database!R:R))=0,\"\",LOOKUP(B38,Database!A:A,Database!R:R)))","v":""},{"$f":"IF(ISNA(A38),\"\",IF(LEN(LOOKUP(B38,Database!A:A,Database!S:S))=0,\"\",LOOKUP(B38,Database!A:A,Database!S:S)))","v":""},null,null,null,null,null,null,24,0,null,1,0,null,0.1]
[{"$error":"#N/A"},"2018-01-25",{"$f":"IF(ISNA(A39),\"\",IF(LEN(LOOKUP(B39,Database!A:A,Database!B:B))=0,\"\",LOOKUP(B39,Database!A:A,Database!B:B)))","v":""},{"$f":"IF(ISNA(A39),\"\",IF(LEN(LOOKUP(B39,Database!A:A,Database!C:C))=0,\"\",LOOKUP(B39,Database!A:A,Database!C:C)))","v":""},{"$f":"IF(ISNA(A39),\"\",IF(LEN(LOOKUP(B39,Database!A:A,Database!D:D))=0,\"\",LOOKUP(B39,Database!A:A,Database!D:D)))","v":""},{"$f":"IF(ISNA(A39),\"\",IF(LEN(LOOKUP(B39,Database!A:A,Database!E:E))=0,\"\",LOOKUP(B39,Database!A:A,Database!E:E)))","v":""},{"$f":"IF(ISNA(A39),\"\",IF(LEN(LOOKUP(B39,Database!A:A,Database!F:F))=0,\"\",LOOKUP(B39,Database!A:A,Database!F:F)))","v":""},{"$f":"IF(ISNA(A39),\"\",IF(LEN(LOOKUP(B39,Database!A:A,Database!G:G))=0,\"\",LOOKUP(B39,Database!A:A,Database!G:G)))","v":""},{"$f":"IF(ISNA(A39),\"\",IF(LEN(LOOKUP(B39,Database!A:A,Database!H:H))=0,\"\",LOOKUP(B39,Database!A:A,Database!H:H)))","v":""},{"$f":"IF(ISNA(A39),\"\",IF(LEN(LOOKUP(B39,Database!A:A,Database!I:I))=0,\"\",LOOKUP(B39,Database!A:A,Database!I:I)))","v":""},{"$f":"IF(ISNA(A39),\"\",IF(LEN(LOOKUP(B39,Database!A:A,Database!J:J))=0,\"\",LOOKUP(B39,Database!A:A,Database!J:J)))","v":""},{"$f":"IF(ISNA(A39),\"\",IF(LEN(LOOKUP(B39,Database!A:A,Database!K:K))=0,\"\",LOOKUP(B39,Database!A:A,Database!K:K)))","v":""},{"$f":"IF(ISNA(A39),\"\",IF(LEN(LOOKUP(B39,Database!A:A,Database!L:L))=0,\"\",LOOKUP(B39,Database!A:A,Database!L:L)))","v":""},{"$f":"IF(ISNA(A39),\"\",IF(LEN(LOOKUP(B39,Database!A:A,Database!M:M))=0,\"\",LOOKUP(B39,Database!A:A,Database!M:M)))","v":""},{"$f":"IF(ISNA(A39),\"\",IF(LEN(LOOKUP(B39,Database!A:A,Database!N:N))=0,\"\",LOOKUP(B39,Database!A:A,Database!N:N)))","v":""},{"$f":"IF(ISNA(A39),\"\",IF(LEN(LOOKUP(B39,Database!A:A,Database!O:O))=0,\"\",LOOKUP(B39,Database!A:A,Database!O:O)))","v":""},{"$f":"IF(ISNA(A39),\"\",IF(LEN(LOOKUP(B39,Database!A:A,Database!P:P))=0,\"\",LOOKUP(B39,Database!A:A,Database!P:P)))","v":""},{"$f":"IF(ISNA(A39),\"\",IF(LEN(LOOKUP(B39,Database!A:A,Database!Q:Q))=0,\"\",LOOKUP(B39,Database!A:A,Database!Q:Q)))","v":""},{"$f":"IF(ISNA(A39),\"\",IF(LEN(LOOKUP(B39,Database!A:A,Database!R:R))=0,\"\",LOOKUP(B39,Database!A:A,Database!R:R)))","v":""},{"$f":"IF(ISNA(A39),\"\",IF(LEN(LOOKUP(B39,Database!A:A,Database!S:S))=0,\"\",LOOKUP(B39,Database!A:A,Database!S:S)))","v":""},null,null,null,null,null,null,25,0,null,1,0,null,0.1]
[{"$error":"#N/A"},"2018-01-26",{"$f":"IF(ISNA(A40),\"\",IF(LEN(LOOKUP(B40,Database!A:A,Database!B:B))=0,\"\",LOOKUP(B40,Database!A:A,Database!B:B)))","v":""},{"$f":"IF(ISNA(A40),\"\",IF(LEN(LOOKUP(B40,Database!A:A,Database!C:C))=0,\"\",LOOKUP(B40,Database!A:A,Database!C:C)))","v":""},{"$f":"IF(ISNA(A40),\"\",IF(LEN(LOOKUP(B40,Database!A:A,Database!D:D))=0,\"\",LOOKUP(B40,Database!A:A,Database!D:D)))","v":""},{"$f":"IF(ISNA(A40),\"\",IF(LEN(LOOKUP(B40,Database!A:A,Database!E:E))=0,\"\",LOOKUP(B40,Database!A:A,Database!E:E)))","v":""},{"$f":"IF(ISNA(A40),\"\",IF(LEN(LOOKUP(B40,Database!A:A,Database!F:F))=0,\"\",LOOKUP(B40,Database!A:A,Database!F:F)))","v":""},{"$f":"IF(ISNA(A40),\"\",IF(LEN(LOOKUP(B40,Database!A:A,Database!G:G))=0,\"\",LOOKUP(B40,Database!A:A,Database!G:G)))","v":""},{"$f":"IF(ISNA(A40),\"\",IF(LEN(LOOKUP(B40,Database!A:A,Database!H:H))=0,\"\",LOOKUP(B40,Database!A:A,Database!H:H)))","v":""},{"$f":"IF(ISNA(A40),\"\",IF(LEN(LOOKUP(B40,Database!A:A,Database!I:I))=0,\"\",LOOKUP(B40,Database!A:A,Database!I:I)))","v":""},{"$f":"IF(ISNA(A40),\"\",IF(LEN(LOOKUP(B40,Database!A:A,Database!J:J))=0,\"\",LOOKUP(B40,Database!A:A,Database!J:J)))","v":""},{"$f":"IF(ISNA(A40),\"\",IF(LEN(LOOKUP(B40,Database!A:A,Database!K:K))=0,\"\",LOOKUP(B40,Database!A:A,Database!K:K)))","v":""},{"$f":"IF(ISNA(A40),\"\",IF(LEN(LOOKUP(B40,Database!A:A,Database!L:L))=0,\"\",LOOKUP(B40,Database!A:A,Database!L:L)))","v":""},{"$f":"IF(ISNA(A40),\"\",IF(LEN(LOOKUP(B40,Database!A:A,Database!M:M))=0,\"\",LOOKUP(B40,Database!A:A,Database!M:M)))","v":""},{"$f":"IF(ISNA(A40),\"\",IF(LEN(LOOKUP(B40,Database!A:A,Database!N:N))=0,\"\",LOOKUP(B40,Database!A:A,Database!N:N)))","v":""},{"$f":"IF(ISNA(A40),\"\",IF(LEN(LOOKUP(B40,Database!A:A,Database!O:O))=0,\"\",LOOKUP(B40,Database!A:A,Database!O:O)))","v":""},{"$f":"IF(ISNA(A40),\"\",IF(LEN(LOOKUP(B40,Database!A:A,Database!P:P))=0,\"\",LOOKUP(B40,Database!A:A,Database!P:P)))","v":""},{"$f":"IF(ISNA(A40),\"\",IF(LEN(LOOKUP(B40,Database!A:A,Database!Q:Q))=0,\"\",LOOKUP(B40,Database!A:A,Database!Q:Q)))","v":""},{"$f":"IF(ISNA(A40),\"\",IF(LEN(LOOKUP(B40,Database!A:A,Database!R:R))=0,\"\",LOOKUP(B40,Database!A:A,Database!R:R)))","v":""},{"$f":"IF(ISNA(A40),\"\",IF(LEN(LOOKUP(B40,Database!A:A,Database!S:S))=0,\"\",LOOKUP(B40,Database!A:A,Database!S:S)))","v":""},null,null,null,null,null,null,26,0,null,1,0,null,0.1]
[{"$error":"#N/A"},"2018-01-27",{"$f":"IF(ISNA(A41),\"\",IF(LEN(LOOKUP(B41,Database!A:A,Database!B:B))=0,\"\",LOOKUP(B41,Database!A:A,Database!B:B)))","v":""},{"$f":"IF(ISNA(A41),\"\",IF(LEN(LOOKUP(B41,Database!A:A,Database!C:C))=0,\"\",LOOKUP(B41,Database!A:A,Database!C:C)))","v":""},{"$f":"IF(ISNA(A41),\"\",IF(LEN(LOOKUP(B41,Database!A:A,Database!D:D))=0,\"\",LOOKUP(B41,Database!A:A,Database!D:D)))","v":""},{"$f":"IF(ISNA(A41),\"\",IF(LEN(LOOKUP(B41,Database!A:A,Database!E:E))=0,\"\",LOOKUP(B41,Database!A:A,Database!E:E)))","v":""},{"$f":"IF(ISNA(A41),\"\",IF(LEN(LOOKUP(B41,Database!A:A,Database!F:F))=0,\"\",LOOKUP(B41,Database!A:A,Database!F:F)))","v":""},{"$f":"IF(ISNA(A41),\"\",IF(LEN(LOOKUP(B41,Database!A:A,Database!G:G))=0,\"\",LOOKUP(B41,Database!A:A,Database!G:G)))","v":""},{"$f":"IF(ISNA(A41),\"\",IF(LEN(LOOKUP(B41,Database!A:A,Database!H:H))=0,\"\",LOOKUP(B41,Database!A:A,Database!H:H)))","v":""},{"$f":"IF(ISNA(A41),\"\",IF(LEN(LOOKUP(B41,Database!A:A,Database!I:I))=0,\"\",LOOKUP(B41,Database!A:A,Database!I:I)))","v":""},{"$f":"IF(ISNA(A41),\"\",IF(LEN(LOOKUP(B41,Database!A:A,Database!J:J))=0,\"\",LOOKUP(B41,Database!A:A,Database!J:J)))","v":""},{"$f":"IF(ISNA(A41),\"\",IF(LEN(LOOKUP(B41,Database!A:A,Database!K:K))=0,\"\",LOOKUP(B41,Database!A:A,Database!K:K)))","v":""},{"$f":"IF(ISNA(A41),\"\",IF(LEN(LOOKUP(B41,Database!A:A,Database!L:L))=0,\"\",LOOKUP(B41,Database!A:A,Database!L:L)))","v":""},{"$f":"IF(ISNA(A41),\"\",IF(LEN(LOOKUP(B41,Database!A:A,Database!M:M))=0,\"\",LOOKUP(B41,Database!A:A,Database!M:M)))","v":""},{"$f":"IF(ISNA(A41),\"\",IF(LEN(LOOKUP(B41,Database!A:A,Database!N:N))=0,\"\",LOOKUP(B41,Database!A:A,Database!N:N)))","v":""},{"$f":"IF(ISNA(A41),\"\",IF(LEN(LOOKUP(B41,Database!A:A,Database!O:O))=0,\"\",LOOKUP(B41,Database!A:A,Database!O:O)))","v":""},{"$f":"IF(ISNA(A41),\"\",IF(LEN(LOOKUP(B41,Database!A:A,Database!P:P))=0,\"\",LOOKUP(B41,Database!A:A,Database!P:P)))","v":""},{"$f":"IF(ISNA(A41),\"\",IF(LEN(LOOKUP(B41,Database!A:A,Database!Q:Q))=0,\"\",LOOKUP(B41,Database!A:A,Database!Q:Q)))","v":""},{"$f":"IF(ISNA(A41),\"\",IF(LEN(LOOKUP(B41,Database!A:A,Database!R:R))=0,\"\",LOOKUP(B41,Database!A:A,Database!R:R)))","v":""},{"$f":"IF(ISNA(A41),\"\",IF(LEN(LOOKUP(B41,Database!A:A,Database!S:S))=0,\"\",LOOKUP(B41,Database!A:A,Database!S:S)))","v":""},null,null,null,null,null,null,27,0,null,1,0,null,0.1]
[{"$error":"#N/A"},"2018-01-28",{"$f":"IF(ISNA(A42),\"\",IF(LEN(LOOKUP(B42,Database!A:A,Database!B:B))=0,\"\",LOOKUP(B42,Database!A:A,Database!B:B)))","v":""},{"$f":"IF(ISNA(A42),\"\",IF(LEN(LOOKUP(B42,Database!A:A,Database!C:C))=0,\"\",LOOKUP(B42,Database!A:A,Database!C:C)))","v":""},{"$f":"IF(ISNA(A42),\"\",IF(LEN(LOOKUP(B42,Database!A:A,Database!D:D))=0,\"\",LOOKUP(B42,Database!A:A,Database!D:D)))","v":""},{"$f":"IF(ISNA(A42),\"\",IF(LEN(LOOKUP(B42,Database!A:A,Database!E:E))=0,\"\",LOOKUP(B42,Database!A:A,Database!E:E)))","v":""},{"$f":"IF(ISNA(A42),\"\",IF(LEN(LOOKUP(B42,Database!A:A,Database!F:F))=0,\"\",LOOKUP(B42,Database!A:A,Database!F:F)))","v":""},{"$f":"IF(ISNA(A42),\"\",IF(LEN(LOOKUP(B42,Database!A:A,Database!G:G))=0,\"\",LOOKUP(B42,Database!A:A,Database!G:G)))","v":""},{"$f":"IF(ISNA(A42),\"\",IF(LEN(LOOKUP(B42,Database!A:A,Database!H:H))=0,\"\",LOOKUP(B42,Database!A:A,Database!H:H)))","v":""},{"$f":"IF(ISNA(A42),\"\",IF(LEN(LOOKUP(B42,Database!A:A,Database!I:I))=0,\"\",LOOKUP(B42,Database!A:A,Database!I:I)))","v":""},{"$f":"IF(ISNA(A42),\"\",IF(LEN(LOOKUP(B42,Database!A:A,Database!J:J))=0,\"\",LOOKUP(B42,Database!A:A,Database!J:J)))","v":""},{"$f":"IF(ISNA(A42),\"\",IF(LEN(LOOKUP(B42,Database!A:A,Database!K:K))=0,\"\",LOOKUP(B42,Database!A:A,Database!K:K)))","v":""},{"$f":"IF(ISNA(A42),\"\",IF(LEN(LOOKUP(B42,Database!A:A,Database!L:L))=0,\"\",LOOKUP(B42,Database!A:A,Database!L:L)))","v":""},{"$f":"IF(ISNA(A42),\"\",IF(LEN(LOOKUP(B42,Database!A:A,Database!M:M))=0,\"\",LOOKUP(B42,Database!A:A,Database!M:M)))","v":""},{"$f":"IF(ISNA(A42),\"\",IF(LEN(LOOKUP(B42,Database!A:A,Database!N:N))=0,\"\",LOOKUP(B42,Database!A:A,Database!N:N)))","v":""},{"$f":"IF(ISNA(A42),\"\",IF(LEN(LOOKUP(B42,Database!A:A,Database!O:O))=0,\"\",LOOKUP(B42,Database!A:A,Database!O:O)))","v":""},{"$f":"IF(ISNA(A42),\"\",IF(LEN(LOOKUP(B42,Database!A:A,Database!P:P))=0,\"\",LOOKUP(B42,Database!A:A,Database!P:P)))","v":""},{"$f":"IF(ISNA(A42),\"\",IF(LEN(LOOKUP(B42,Database!A:A,Database!Q:Q))=0,\"\",LOOKUP(B42,Database!A:A,Database!Q:Q)))","v":""},{"$f":"IF(ISNA(A42),\"\",IF(LEN(LOOKUP(B42,Database!A:A,Database!R:R))=0,\"\",LOOKUP(B42,Database!A:A,Database!R:R)))","v":""},{"$f":"IF(ISNA(A42),\"\",IF(LEN(LOOKUP(B42,Database!A:A,Database!S:S))=0,\"\",LOOKUP(B42,Database!A:A,Database!S:S)))","v":""},null,null,null,null,null,null,28,0,null,1,0,null,0.1]
[{"$error":"#N/A"},"2018-01-29",{"$f":"IF(ISNA(A43),\"\",IF(LEN(LOOKUP(B43,Database!A:A,Database!B:B))=0,\"\",LOOKUP(B43,Database!A:A,Database!B:B)))","v":""},{"$f":"IF(ISNA(A43),\"\",IF(LEN(LOOKUP(B43,Database!A:A,Database!C:C))=0,\"\",LOOKUP(B43,Database!A:A,Database!C:C)))","v":""},{"$f":"IF(ISNA(A43),\"\",IF(LEN(LOOKUP(B43,Database!A:A,Database!D:D))=0,\"\",LOOKUP(B43,Database!A:A,Database!D:D)))","v":""},{"$f":"IF(ISNA(A43),\"\",IF(LEN(LOOKUP(B43,Database!A:A,Database!E:E))=0,\"\",LOOKUP(B43,Database!A:A,Database!E:E)))","v":""},{"$f":"IF(ISNA(A43),\"\",IF(LEN(LOOKUP(B43,Database!A:A,Database!F:F))=0,\"\",LOOKUP(B43,Database!A:A,Database!F:F)))","v":""},{"$f":"IF(ISNA(A43),\"\",IF(LEN(LOOKUP(B43,Database!A:A,Database!G:G))=0,\"\",LOOKUP(B43,Database!A:A,Database!G:G)))","v":""},{"$f":"IF(ISNA(A43),\"\",IF(LEN(LOOKUP(B43,Database!A:A,Database!H:H))=0,\"\",LOOKUP(B43,Database!A:A,Database!H:H)))","v":""},{"$f":"IF(ISNA(A43),\"\",IF(LEN(LOOKUP(B43,Database!A:A,Database!I:I))=0,\"\",LOOKUP(B43,Database!A:A,Database!I:I)))","v":""},{"$f":"IF(ISNA(A43),\"\",IF(LEN(LOOKUP(B43,Database!A:A,Database!J:J))=0,\"\",LOOKUP(B43,Database!A:A,Database!J:J)))","v":""},{"$f":"IF(ISNA(A43),\"\",IF(LEN(LOOKUP(B43,Database!A:A,Database!K:K))=0,\"\",LOOKUP(B43,Database!A:A,Database!K:K)))","v":""},{"$f":"IF(ISNA(A43),\"\",IF(LEN(LOOKUP(B43,Database!A:A,Database!L:L))=0,\"\",LOOKUP(B43,Database!A:A,Database!L:L)))","v":""},{"$f":"IF(ISNA(A43),\"\",IF(LEN(LOOKUP(B43,Database!A:A,Database!M:M))=0,\"\",LOOKUP(B43,Database!A:A,Database!M:M)))","v":""},{"$f":"IF(ISNA(A43),\"\",IF(LEN(LOOKUP(B43,Database!A:A,Database!N:N))=0,\"\",LOOKUP(B43,Database!A:A,Database!N:N)))","v":""},{"$f":"IF(ISNA(A43),\"\",IF(LEN(LOOKUP(B43,Database!A:A,Database!O:O))=0,\"\",LOOKUP(B43,Database!A:A,Database!O:O)))","v":""},{"$f":"IF(ISNA(A43),\"\",IF(LEN(LOOKUP(B43,Database!A:A,Database!P:P))=0,\"\",LOOKUP(B43,Database!A:A,Database!P:P)))","v":""},{"$f":"IF(ISNA(A43),\"\",IF(LEN(LOOKUP(B43,Database!A:A,Database!Q:Q))=0,\"\",LOOKUP(B43,Database!A:A,Database!Q:Q)))","v":""},{"$f":"IF(ISNA(A43),\"\",IF(LEN(LOOKUP(B43,Database!A:A,Database!R:R))=0,\"\",LOOKUP(B43,Database!A:A,Database!R:R)))","v":""},{"$f":"IF(ISNA(A43),\"\",IF(LEN(LOOKUP(B43,Database!A:A,Database!S:S))=0,\"\",LOOKUP(B43,Database!A:A,Database!S:S)))","v":""},null,null,null,null,null,null,29,0,null,1,0,null,0.1]
[{"$error":"#N/A"},"2018-01-30",{"$f":"IF(ISNA(A44),\"\",IF(LEN(LOOKUP(B44,Database!A:A,Database!B:B))=0,\"\",LOOKUP(B44,Database!A:A,Database!B:B)))","v":""},{"$f":"IF(ISNA(A44),\"\",IF(LEN(LOOKUP(B44,Database!A:A,Database!C:C))=0,\"\",LOOKUP(B44,Database!A:A,Database!C:C)))","v":""},{"$f":"IF(ISNA(A44),\"\",IF(LEN(LOOKUP(B44,Database!A:A,Database!D:D))=0,\"\",LOOKUP(B44,Database!A:A,Database!D:D)))","v":""},{"$f":"IF(ISNA(A44),\"\",IF(LEN(LOOKUP(B44,Database!A:A,Database!E:E))=0,\"\",LOOKUP(B44,Database!A:A,Database!E:E)))","v":""},{"$f":"IF(ISNA(A44),\"\",IF(LEN(LOOKUP(B44,Database!A:A,Database!F:F))=0,\"\",LOOKUP(B44,Database!A:A,Database!F:F)))","v":""},{"$f":"IF(ISNA(A44),\"\",IF(LEN(LOOKUP(B44,Database!A:A,Database!G:G))=0,\"\",LOOKUP(B44,Database!A:A,Database!G:G)))","v":""},{"$f":"IF(ISNA(A44),\"\",IF(LEN(LOOKUP(B44,Database!A:A,Database!H:H))=0,\"\",LOOKUP(B44,Database!A:A,Database!H:H)))","v":""},{"$f":"IF(ISNA(A44),\"\",IF(LEN(LOOKUP(B44,Database!A:A,Database!I:I))=0,\"\",LOOKUP(B44,Database!A:A,Database!I:I)))","v":""},{"$f":"IF(ISNA(A44),\"\",IF(LEN(LOOKUP(B44,Database!A:A,Database!J:J))=0,\"\",LOOKUP(B44,Database!A:A,Database!J:J)))","v":""},{"$f":"IF(ISNA(A44),\"\",IF(LEN(LOOKUP(B44,Database!A:A,Database!K:K))=0,\"\",LOOKUP(B44,Database!A:A,Database!K:K)))","v":""},{"$f":"IF(ISNA(A44),\"\",IF(LEN(LOOKUP(B44,Database!A:A,Database!L:L))=0,\"\",LOOKUP(B44,Database!A:A,Database!L:L)))","v":""},{"$f":"IF(ISNA(A44),\"\",IF(LEN(LOOKUP(B44,Database!A:A,Database!M:M))=0,\"\",LOOKUP(B44,Database!A:A,Database!M:M)))","v":""},{"$f":"IF(ISNA(A44),\"\",IF(LEN(LOOKUP(B44,Database!A:A,Database!N:N))=0,\"\",LOOKUP(B44,Database!A:A,Database!N:N)))","v":""},{"$f":"IF(ISNA(A44),\"\",IF(LEN(LOOKUP(B44,Database!A:A,Database!O:O))=0,\"\",LOOKUP(B44,Database!A:A,Database!O:O)))","v":""},{"$f":"IF(ISNA(A44),\"\",IF(LEN(LOOKUP(B44,Database!A:A,Database!P:P))=0,\"\",LOOKUP(B44,Database!A:A,Database!P:P)))","v":""},{"$f":"IF(ISNA(A44),\"\",IF(LEN(LOOKUP(B44,Database!A:A,Database!Q:Q))=0,\"\",LOOKUP(B44,Database!A:A,Database!Q:Q)))","v":""},{"$f":"IF(ISNA(A44),\"\",IF(LEN(LOOKUP(B44,Database!A:A,Database!R:R))=0,\"\",LOOKUP(B44,Database!A:A,Database!R:R)))","v":""},{"$f":"IF(ISNA(A44),\"\",IF(LEN(LOOKUP(B44,Database!A:A,Database!S:S))=0,\"\",LOOKUP(B44,Database!A:A,Database!S:S)))","v":""},null,null,null,null,null,null,30,0,null,1,0,null,0.1]
[{"$error":"#N/A"},"2018-01-31",{"$f":"IF(ISNA(A45),\"\",IF(LEN(LOOKUP(B45,Database!A:A,Database!B:B))=0,\"\",LOOKUP(B45,Database!A:A,Database!B:B)))","v":""},{"$f":"IF(ISNA(A45),\"\",IF(LEN(LOOKUP(B45,Database!A:A,Database!C:C))=0,\"\",LOOKUP(B45,Database!A:A,Database!C:C)))","v":""},{"$f":"IF(ISNA(A45),\"\",IF(LEN(LOOKUP(B45,Database!A:A,Database!D:D))=0,\"\",LOOKUP(B45,Database!A:A,Database!D:D)))","v":""},{"$f":"IF(ISNA(A45),\"\",IF(LEN(LOOKUP(B45,Database!A:A,Database!E:E))=0,\"\",LOOKUP(B45,Database!A:A,Database!E:E)))","v":""},{"$f":"IF(ISNA(A45),\"\",IF(LEN(LOOKUP(B45,Database!A:A,Database!F:F))=0,\"\",LOOKUP(B45,Database!A:A,Database!F:F)))","v":""},{"$f":"IF(ISNA(A45),\"\",IF(LEN(LOOKUP(B45,Database!A:A,Database!G:G))=0,\"\",LOOKUP(B45,Database!A:A,Database!G:G)))","v":""},{"$f":"IF(ISNA(A45),\"\",IF(LEN(LOOKUP(B45,Database!A:A,Database!H:H))=0,\"\",LOOKUP(B45,Database!A:A,Database!H:H)))","v":""},{"$f":"IF(ISNA(A45),\"\",IF(LEN(LOOKUP(B45,Database!A:A,Database!I:I))=0,\"\",LOOKUP(B45,Database!A:A,Database!I:I)))","v":""},{"$f":"IF(ISNA(A45),\"\",IF(LEN(LOOKUP(B45,Database!A:A,Database!J:J))=0,\"\",LOOKUP(B45,Database!A:A,Database!J:J)))","v":""},{"$f":"IF(ISNA(A45),\"\",IF(LEN(LOOKUP(B45,Database!A:A,Database!K:K))=0,\"\",LOOKUP(B45,Database!A:A,Database!K:K)))","v":""},{"$f":"IF(ISNA(A45),\"\",IF(LEN(LOOKUP(B45,Database!A:A,Database!L:L))=0,\"\",LOOKUP(B45,Database!A:A,Database!L:L)))","v":""},{"$f":"IF(ISNA(A45),\"\",IF(LEN(LOOKUP(B45,Database!A:A,Database!M:M))=0,\"\",LOOKUP(B45,Database!A:A,Database!M:M)))","v":""},{"$f":"IF(ISNA(A45),\"\",IF(LEN(LOOKUP(B45,Database!A:A,Database!N:N))=0,\"\",LOOKUP(B45,Database!A:A,Database!N:N)))","v":""},{"$f":"IF(ISNA(A45),\"\",IF(LEN(LOOKUP(B45,Database!A:A,Database!O:O))=0,\"\",LOOKUP(B45,Database!A:A,Database!O:O)))","v":""},{"$f":"IF(ISNA(A45),\"\",IF(LEN(LOOKUP(B45,Database!A:A,Database!P:P))=0,\"\",LOOKUP(B45,Database!A:A,Database!P:P)))","v":""},{"$f":"IF(ISNA(A45),\"\",IF(LEN(LOOKUP(B45,Database!A:A,Database!Q:Q))=0,\"\",LOOKUP(B45,Database!A:A,Database!Q:Q)))","v":""},{"$f":"IF(ISNA(A45),\"\",IF(LEN(LOOKUP(B45,Database!A:A,Database!R:R))=0,\"\",LOOKUP(B45,Database!A:A,Database!R:R)))","v":""},{"$f":"IF(ISNA(A45),\"\",IF(LEN(LOOKUP(B45,Database!A:A,Database!S:S))=0,\"\",LOOKUP(B45,Database!A:A,Database!S:S)))","v":""},null,null,null,null,null,null,31,0,null,1,0,null,0.1]
[{"$error":"#N/A"},"2018-02-01",{"$f":"IF(ISNA(A46),\"\",IF(LEN(LOOKUP(B46,Database!A:A,Database!B:B))=0,\"\",LOOKUP(B46,Database!A:A,Database!B:B)))","v":""},{"$f":"IF(ISNA(A46),\"\",IF(LEN(LOOKUP(B46,Database!A:A,Database!C:C))=0,\"\",LOOKUP(B46,Database!A:A,Database!C:C)))","v":""},{"$f":"IF(ISNA(A46),\"\",IF(LEN(LOOKUP(B46,Database!A:A,Database!D:D))=0,\"\",LOOKUP(B46,Database!A:A,Database!D:D)))","v":""},{"$f":"IF(ISNA(A46),\"\",IF(LEN(LOOKUP(B46,Database!A:A,Database!E:E))=0,\"\",LOOKUP(B46,Database!A:A,Database!E:E)))","v":""},{"$f":"IF(ISNA(A46),\"\",IF(LEN(LOOKUP(B46,Database!A:A,Database!F:F))=0,\"\",LOOKUP(B46,Database!A:A,Database!F:F)))","v":""},{"$f":"IF(ISNA(A46),\"\",IF(LEN(LOOKUP(B46,Database!A:A,Database!G:G))=0,\"\",LOOKUP(B46,Database!A:A,Database!G:G)))","v":""},{"$f":"IF(ISNA(A46),\"\",IF(LEN(LOOKUP(B46,Database!A:A,Database!H:H))=0,\"\",LOOKUP(B46,Database!A:A,Database!H:H)))","v":""},{"$f":"IF(ISNA(A46),\"\",IF(LEN(LOOKUP(B46,Database!A:A,Database!I:I))=0,\"\",LOOKUP(B46,Database!A:A,Database!I:I)))","v":""},{"$f":"IF(ISNA(A46),\"\",IF(LEN(LOOKUP(B46,Database!A:A,Database!J:J))=0,\"\",LOOKUP(B46,Database!A:A,Database!J:J)))","v":""},{"$f":"IF(ISNA(A46),\"\",IF(LEN(LOOKUP(B46,Database!A:A,Database!K:K))=0,\"\",LOOKUP(B46,Database!A:A,Database!K:K)))","v":""},{"$f":"IF(ISNA(A46),\"\",IF(LEN(LOOKUP(B46,Database!A:A,Database!L:L))=0,\"\",LOOKUP(B46,Database!A:A,Database!L:L)))","v":""},{"$f":"IF(ISNA(A46),\"\",IF(LEN(LOOKUP(B46,Database!A:A,Database!M:M))=0,\"\",LOOKUP(B46,Database!A:A,Database!M:M)))","v":""},{"$f":"IF(ISNA(A46),\"\",IF(LEN(LOOKUP(B46,Database!A:A,Database!N:N))=0,\"\",LOOKUP(B46,Database!A:A,Database!N:N)))","v":""},{"$f":"IF(ISNA(A46),\"\",IF(LEN(LOOKUP(B46,Database!A:A,Database!O:O))=0,\"\",LOOKUP(B46,Database!A:A,Database!O:O)))","v":""},{"$f":"IF(ISNA(A46),\"\",IF(LEN(LOOKUP(B46,Database!A:A,Database!P:P))=0,\"\",LOOKUP(B46,Database!A:A,Database!P:P)))","v":""},{"$f":"IF(ISNA(A46),\"\",IF(LEN(LOOKUP(B46,Database!A:A,Database!Q:Q))=0,\"\",LOOKUP(B46,Database!A:A,Database!Q:Q)))","v":""},{"$f":"IF(ISNA(A46),\"\",IF(LEN(LOOKUP(B46,Database!A:A,Database!R:R))=0,\"\",LOOKUP(B46,Database!A:A,Database!R:R)))","v":""},{"$f":"IF(ISNA(A46),\"\",IF(LEN(LOOKUP(B46,Database!A:A,Database!S:S))=0,\"\",LOOKUP(B46,Database!A:A,Database!S:S)))","v":""},null,null,null,null,null,null,32,0,null,1,0,null,0.1]
[{"$error":"#N/A"},"2018-02-02",{"$f":"IF(ISNA(A47),\"\",IF(LEN(LOOKUP(B47,Database!A:A,Database!B:B))=0,\"\",LOOKUP(B47,Database!A:A,Database!B:B)))","v":""},{"$f":"IF(ISNA(A47),\"\",IF(LEN(LOOKUP(B47,Database!A:A,Database!C:C))=0,\"\",LOOKUP(B47,Database!A:A,Database!C:C)))","v":""},{"$f":"IF(ISNA(A47),\"\",IF(LEN(LOOKUP(B47,Database!A:A,Database!D:D))=0,\"\",LOOKUP(B47,Database!A:A,Database!D:D)))","v":""},{"$f":"IF(ISNA(A47),\"\",IF(LEN(LOOKUP(B47,Database!A:A,Database!E:E))=0,\"\",LOOKUP(B47,Database!A:A,Database!E:E)))","v":""},{"$f":"IF(ISNA(A47),\"\",IF(LEN(LOOKUP(B47,Database!A:A,Database!F:F))=0,\"\",LOOKUP(B47,Database!A:A,Database!F:F)))","v":""},{"$f":"IF(ISNA(A47),\"\",IF(LEN(LOOKUP(B47,Database!A:A,Database!G:G))=0,\"\",LOOKUP(B47,Database!A:A,Database!G:G)))","v":""},{"$f":"IF(ISNA(A47),\"\",IF(LEN(LOOKUP(B47,Database!A:A,Database!H:H))=0,\"\",LOOKUP(B47,Database!A:A,Database!H:H)))","v":""},{"$f":"IF(ISNA(A47),\"\",IF(LEN(LOOKUP(B47,Database!A:A,Database!I:I))=0,\"\",LOOKUP(B47,Database!A:A,Database!I:I)))","v":""},{"$f":"IF(ISNA(A47),\"\",IF(LEN(LOOKUP(B47,Database!A:A,Database!J:J))=0,\"\",LOOKUP(B47,Database!A:A,Database!J:J)))","v":""},{"$f":"IF(ISNA(A47),\"\",IF(LEN(LOOKUP(B47,Database!A:A,Database!K:K))=0,\"\",LOOKUP(B47,Database!A:A,Database!K:K)))","v":""},{"$f":"IF(ISNA(A47),\"\",IF(LEN(LOOKUP(B47,Database!A:A,Database!L:L))=0,\"\",LOOKUP(B47,Database!A:A,Database!L:L)))","v":""},{"$f":"IF(ISNA(A47),\"\",IF(LEN(LOOKUP(B47,Database!A:A,Database!M:M))=0,\"\",LOOKUP(B47,Database!A:A,Database!M:M)))","v":""},{"$f":"IF(ISNA(A47),\"\",IF(LEN(LOOKUP(B47,Database!A:A,Database!N:N))=0,\"\",LOOKUP(B47,Database!A:A,Database!N:N)))","v":""},{"$f":"IF(ISNA(A47),\"\",IF(LEN(LOOKUP(B47,Database!A:A,Database!O:O))=0,\"\",LOOKUP(B47,Database!A:A,Database!O:O)))","v":""},{"$f":"IF(ISNA(A47),\"\",IF(LEN(LOOKUP(B47,Database!A:A,Database!P:P))=0,\"\",LOOKUP(B47,Database!A:A,Database!P:P)))","v":""},{"$f":"IF(ISNA(A47),\"\",IF(LEN(LOOKUP(B47,Database!A:A,Database!Q:Q))=0,\"\",LOOKUP(B47,Database!A:A,Database!Q:Q)))","v":""},{"$f":"IF(ISNA(A47),\"\",IF(LEN(LOOKUP(B47,Database!A:A,Database!R:R))=0,\"\",LOOKUP(B47,Database!A:A,Database!R:R)))","v":""},{"$f":"IF(ISNA(A47),\"\",IF(LEN(LOOKUP(B47,Database!A:A,Database!S:S))=0,\"\",LOOKUP(B47,Database!A:A,Database!S:S)))","v":""},null,null,null,null,null,null,33,0,null,1,0,null,0.1]
[{"$error":"#N/A"},"2018-02-03",{"$f":"IF(ISNA(A48),\"\",IF(LEN(LOOKUP(B48,Database!A:A,Database!B:B))=0,\"\",LOOKUP(B48,Database!A:A,Database!B:B)))","v":""},{"$f":"IF(ISNA(A48),\"\",IF(LEN(LOOKUP(B48,Database!A:A,Database!C:C))=0,\"\",LOOKUP(B48,Database!A:A,Database!C:C)))","v":""},{"$f":"IF(ISNA(A48),\"\",IF(LEN(LOOKUP(B48,Database!A:A,Database!D:D))=0,\"\",LOOKUP(B48,Database!A:A,Database!D:D)))","v":""},{"$f":"IF(ISNA(A48),\"\",IF(LEN(LOOKUP(B48,Database!A:A,Database!E:E))=0,\"\",LOOKUP(B48,Database!A:A,Database!E:E)))","v":""},{"$f":"IF(ISNA(A48),\"\",IF(LEN(LOOKUP(B48,Database!A:A,Database!F:F))=0,\"\",LOOKUP(B48,Database!A:A,Database!F:F)))","v":""},{"$f":"IF(ISNA(A48),\"\",IF(LEN(LOOKUP(B48,Database!A:A,Database!G:G))=0,\"\",LOOKUP(B48,Database!A:A,Database!G:G)))","v":""},{"$f":"IF(ISNA(A48),\"\",IF(LEN(LOOKUP(B48,Database!A:A,Database!H:H))=0,\"\",LOOKUP(B48,Database!A:A,Database!H:H)))","v":""},{"$f":"IF(ISNA(A48),\"\",IF(LEN(LOOKUP(B48,Database!A:A,Database!I:I))=0,\"\",LOOKUP(B48,Database!A:A,Database!I:I)))","v":""},{"$f":"IF(ISNA(A48),\"\",IF(LEN(LOOKUP(B48,Database!A:A,Database!J:J))=0,\"\",LOOKUP(B48,Database!A:A,Database!J:J)))","v":""},{"$f":"IF(ISNA(A48),\"\",IF(LEN(LOOKUP(B48,Database!A:A,Database!K:K))=0,\"\",LOOKUP(B48,Database!A:A,Database!K:K)))","v":""},{"$f":"IF(ISNA(A48),\"\",IF(LEN(LOOKUP(B48,Database!A:A,Database!L:L))=0,\"\",LOOKUP(B48,Database!A:A,Database!L:L)))","v":""},{"$f":"IF(ISNA(A48),\"\",IF(LEN(LOOKUP(B48,Database!A:A,Database!M:M))=0,\"\",LOOKUP(B48,Database!A:A,Database!M:M)))","v":""},{"$f":"IF(ISNA(A48),\"\",IF(LEN(LOOKUP(B48,Database!A:A,Database!N:N))=0,\"\",LOOKUP(B48,Database!A:A,Database!N:N)))","v":""},{"$f":"IF(ISNA(A48),\"\",IF(LEN(LOOKUP(B48,Database!A:A,Database!O:O))=0,\"\",LOOKUP(B48,Database!A:A,Database!O:O)))","v":""},{"$f":"IF(ISNA(A48),\"\",IF(LEN(LOOKUP(B48,Database!A:A,Database!P:P))=0,\"\",LOOKUP(B48,Database!A:A,Database!P:P)))","v":""},{"$f":"IF(ISNA(A48),\"\",IF(LEN(LOOKUP(B48,Database!A:A,Database!Q:Q))=0,\"\",LOOKUP(B48,Database!A:A,Database!Q:Q)))","v":""},{"$f":"IF(ISNA(A48),\"\",IF(LEN(LOOKUP(B48,Database!A:A,Database!R:R))=0,\"\",LOOKUP(B48,Database!A:A,Database!R:R)))","v":""},{"$f":"IF(ISNA(A48),\"\",IF(LEN(LOOKUP(B48,Database!A:A,Database!S:S))=0,\"\",LOOKUP(B48,Database!A:A,Database!S:S)))","v":""},null,null,null,null,null,null,34,0,null,1,0,null,0.1]
[{"$error":"#N/A"},"2018-02-04",{"$f":"IF(ISNA(A49),\"\",IF(LEN(LOOKUP(B49,Database!A:A,Database!B:B))=0,\"\",LOOKUP(B49,Database!A:A,Database!B:B)))","v":""},{"$f":"IF(ISNA(A49),\"\",IF(LEN(LOOKUP(B49,Database!A:A,Database!C:C))=0,\"\",LOOKUP(B49,Database!A:A,Database!C:C)))","v":""},{"$f":"IF(ISNA(A49),\"\",IF(LEN(LOOKUP(B49,Database!A:A,Database!D:D))=0,\"\",LOOKUP(B49,Database!A:A,Database!D:D)))","v":""},{"$f":"IF(ISNA(A49),\"\",IF(LEN(LOOKUP(B49,Database!A:A,Database!E:E))=0,\"\",LOOKUP(B49,Database!A:A,Database!E:E)))","v":""},{"$f":"IF(ISNA(A49),\"\",IF(LEN(LOOKUP(B49,Database!A:A,Database!F:F))=0,\"\",LOOKUP(B49,Database!A:A,Database!F:F)))","v":""},{"$f":"IF(ISNA(A49),\"\",IF(LEN(LOOKUP(B49,Database!A:A,Database!G:G))=0,\"\",LOOKUP(B49,Database!A:A,Database!G:G)))","v":""},{"$f":"IF(ISNA(A49),\"\",IF(LEN(LOOKUP(B49,Database!A:A,Database!H:H))=0,\"\",LOOKUP(B49,Database!A:A,Database!H:H)))","v":""},{"$f":"IF(ISNA(A49),\"\",IF(LEN(LOOKUP(B49,Database!A:A,Database!I:I))=0,\"\",LOOKUP(B49,Database!A:A,Database!I:I)))","v":""},{"$f":"IF(ISNA(A49),\"\",IF(LEN(LOOKUP(B49,Database!A:A,Database!J:J))=0,\"\",LOOKUP(B49,Database!A:A,Database!J:J)))","v":""},{"$f":"IF(ISNA(A49),\"\",IF(LEN(LOOKUP(B49,Database!A:A,Database!K:K))=0,\"\",LOOKUP(B49,Database!A:A,Database!K:K)))","v":""},{"$f":"IF(ISNA(A49),\"\",IF(LEN(LOOKUP(B49,Database!A:A,Database!L:L))=0,\"\",LOOKUP(B49,Database!A:A,Database!L:L)))","v":""},{"$f":"IF(ISNA(A49),\"\",IF(LEN(LOOKUP(B49,Database!A:A,Database!M:M))=0,\"\",LOOKUP(B49,Database!A:A,Database!M:M)))","v":""},{"$f":"IF(ISNA(A49),\"\",IF(LEN(LOOKUP(B49,Database!A:A,Database!N:N))=0,\"\",LOOKUP(B49,Database!A:A,Database!N:N)))","v":""},{"$f":"IF(ISNA(A49),\"\",IF(LEN(LOOKUP(B49,Database!A:A,Database!O:O))=0,\"\",LOOKUP(B49,Database!A:A,Database!O:O)))","v":""},{"$f":"IF(ISNA(A49),\"\",IF(LEN(LOOKUP(B49,Database!A:A,Database!P:P))=0,\"\",LOOKUP(B49,Database!A:A,Database!P:P)))","v":""},{"$f":"IF(ISNA(A49),\"\",IF(LEN(LOOKUP(B49,Database!A:A,Database!Q:Q))=0,\"\",LOOKUP(B49,Database!A:A,Database!Q:Q)))","v":""},{"$f":"IF(ISNA(A49),\"\",IF(LEN(LOOKUP(B49,Database!A:A,Database!R:R))=0,\"\",LOOKUP(B49,Database!A:A,Database!R:R)))","v":""},{"$f":"IF(ISNA(A49),\"\",IF(LEN(LOOKUP(B49,Database!A:A,Database!S:S))=0,\"\",LOOKUP(B49,Database!A:A,Database!S:S)))","v":""},null,null,null,null,null,null,35,0,null,1,0,null,0.1]
[{"$error":"#N/A"},"2018-02-05",{"$f":"IF(ISNA(A50),\"\",IF(LEN(LOOKUP(B50,Database!A:A,Database!B:B))=0,\"\",LOOKUP(B50,Database!A:A,Database!B:B)))","v":""},{"$f":"IF(ISNA(A50),\"\",IF(LEN(LOOKUP(B50,Database!A:A,Database!C:C))=0,\"\",LOOKUP(B50,Database!A:A,Database!C:C)))","v":""},{"$f":"IF(ISNA(A50),\"\",IF(LEN(LOOKUP(B50,Database!A:A,Database!D:D))=0,\"\",LOOKUP(B50,Database!A:A,Database!D:D)))","v":""},{"$f":"IF(ISNA(A50),\"\",IF(LEN(LOOKUP(B50,Database!A:A,Database!E:E))=0,\"\",LOOKUP(B50,Database!A:A,Database!E:E)))","v":""},{"$f":"IF(ISNA(A50),\"\",IF(LEN(LOOKUP(B50,Database!A:A,Database!F:F))=0,\"\",LOOKUP(B50,Database!A:A,Database!F:F)))","v":""},{"$f":"IF(ISNA(A50),\"\",IF(LEN(LOOKUP(B50,Database!A:A,Database!G:G))=0,\"\",LOOKUP(B50,Database!A:A,Database!G:G)))","v":""},{"$f":"IF(ISNA(A50),\"\",IF(LEN(LOOKUP(B50,Database!A:A,Database!H:H))=0,\"\",LOOKUP(B50,Database!A:A,Database!H:H)))","v":""},{"$f":"IF(ISNA(A50),\"\",IF(LEN(LOOKUP(B50,Database!A:A,Database!I:I))=0,\"\",LOOKUP(B50,Database!A:A,Database!I:I)))","v":""},{"$f":"IF(ISNA(A50),\"\",IF(LEN(LOOKUP(B50,Database!A:A,Database!J:J))=0,\"\",LOOKUP(B50,Database!A:A,Database!J:J)))","v":""},{"$f":"IF(ISNA(A50),\"\",IF(LEN(LOOKUP(B50,Database!A:A,Database!K:K))=0,\"\",LOOKUP(B50,Database!A:A,Database!K:K)))","v":""},{"$f":"IF(ISNA(A50),\"\",IF(LEN(LOOKUP(B50,Database!A:A,Database!L:L))=0,\"\",LOOKUP(B50,Database!A:A,Database!L:L)))","v":""},{"$f":"IF(ISNA(A50),\"\",IF(LEN(LOOKUP(B50,Database!A:A,Database!M:M))=0,\"\",LOOKUP(B50,Database!A:A,Database!M:M)))","v":""},{"$f":"IF(ISNA(A50),\"\",IF(LEN(LOOKUP(B50,Database!A:A,Database!N:N))=0,\"\",LOOKUP(B50,Database!A:A,Database!N:N)))","v":""},{"$f":"IF(ISNA(A50),\"\",IF(LEN(LOOKUP(B50,Database!A:A,Database!O:O))=0,\"\",LOOKUP(B50,Database!A:A,Database!O:O)))","v":""},{"$f":"IF(ISNA(A50),\"\",IF(LEN(LOOKUP(B50,Database!A:A,Database!P:P))=0,\"\",LOOKUP(B50,Database!A:A,Database!P:P)))","v":""},{"$f":"IF(ISNA(A50),\"\",IF(LEN(LOOKUP(B50,Database!A:A,Database!Q:Q))=0,\"\",LOOKUP(B50,Database!A:A,Database!Q:Q)))","v":""},{"$f":"IF(ISNA(A50),\"\",IF(LEN(LOOKUP(B50,Database!A:A,Database!R:R))=0,\"\",LOOKUP(B50,Database!A:A,Database!R:R)))","v":""},{"$f":"IF(ISNA(A50),\"\",IF(LEN(LOOKUP(B50,Database!A:A,Database!S:S))=0,\"\",LOOKUP(B50,Database!A:A,Database!S:S)))","v":""},null,null,null,null,null,null,36,0,null,1,0,null,0.1]
[{"$error":"#N/A"},"2018-02-06",{"$f":"IF(ISNA(A51),\"\",IF(LEN(LOOKUP(B51,Database!A:A,Database!B:B))=0,\"\",LOOKUP(B51,Database!A:A,Database!B:B)))","v":""},{"$f":"IF(ISNA(A51),\"\",IF(LEN(LOOKUP(B51,Database!A:A,Database!C:C))=0,\"\",LOOKUP(B51,Database!A:A,Database!C:C)))","v":""},{"$f":"IF(ISNA(A51),\"\",IF(LEN(LOOKUP(B51,Database!A:A,Database!D:D))=0,\"\",LOOKUP(B51,Database!A:A,Database!D:D)))","v":""},{"$f":"IF(ISNA(A51),\"\",IF(LEN(LOOKUP(B51,Database!A:A,Database!E:E))=0,\"\",LOOKUP(B51,Database!A:A,Database!E:E)))","v":""},{"$f":"IF(ISNA(A51),\"\",IF(LEN(LOOKUP(B51,Database!A:A,Database!F:F))=0,\"\",LOOKUP(B51,Database!A:A,Database!F:F)))","v":""},{"$f":"IF(ISNA(A51),\"\",IF(LEN(LOOKUP(B51,Database!A:A,Database!G:G))=0,\"\",LOOKUP(B51,Database!A:A,Database!G:G)))","v":""},{"$f":"IF(ISNA(A51),\"\",IF(LEN(LOOKUP(B51,Database!A:A,Database!H:H))=0,\"\",LOOKUP(B51,Database!A:A,Database!H:H)))","v":""},{"$f":"IF(ISNA(A51),\"\",IF(LEN(LOOKUP(B51,Database!A:A,Database!I:I))=0,\"\",LOOKUP(B51,Database!A:A,Database!I:I)))","v":""},{"$f":"IF(ISNA(A51),\"\",IF(LEN(LOOKUP(B51,Database!A:A,Database!J:J))=0,\"\",LOOKUP(B51,Database!A:A,Database!J:J)))","v":""},{"$f":"IF(ISNA(A51),\"\",IF(LEN(LOOKUP(B51,Database!A:A,Database!K:K))=0,\"\",LOOKUP(B51,Database!A:A,Database!K:K)))","v":""},{"$f":"IF(ISNA(A51),\"\",IF(LEN(LOOKUP(B51,Database!A:A,Database!L:L))=0,\"\",LOOKUP(B51,Database!A:A,Database!L:L)))","v":""},{"$f":"IF(ISNA(A51),\"\",IF(LEN(LOOKUP(B51,Database!A:A,Database!M:M))=0,\"\",LOOKUP(B51,Database!A:A,Database!M:M)))","v":""},{"$f":"IF(ISNA(A51),\"\",IF(LEN(LOOKUP(B51,Database!A:A,Database!N:N))=0,\"\",LOOKUP(B51,Database!A:A,Database!N:N)))","v":""},{"$f":"IF(ISNA(A51),\"\",IF(LEN(LOOKUP(B51,Database!A:A,Database!O:O))=0,\"\",LOOKUP(B51,Database!A:A,Database!O:O)))","v":""},{"$f":"IF(ISNA(A51),\"\",IF(LEN(LOOKUP(B51,Database!A:A,Database!P:P))=0,\"\",LOOKUP(B51,Database!A:A,Database!P:P)))","v":""},{"$f":"IF(ISNA(A51),\"\",IF(LEN(LOOKUP(B51,Database!A:A,Database!Q:Q))=0,\"\",LOOKUP(B51,Database!A:A,Database!Q:Q)))","v":""},{"$f":"IF(ISNA(A51),\"\",IF(LEN(LOOKUP(B51,Database!A:A,Database!R:R))=0,\"\",LOOKUP(B51,Database!A:A,Database!R:R)))","v":""},{"$f":"IF(ISNA(A51),\"\",IF(LEN(LOOKUP(B51,Database!A:A,Database!S:S))=0,\"\",LOOKUP(B51,Database!A:A,Database!S:S)))","v":""},null,null,null,null,null,null,37,0,null,1,0,null,0.1]
[{"$error":"#N/A"},"2018-02-07",{"$f":"IF(ISNA(A52),\"\",IF(LEN(LOOKUP(B52,Database!A:A,Database!B:B))=0,\"\",LOOKUP(B52,Database!A:A,Database!B:B)))","v":""},{"$f":"IF(ISNA(A52),\"\",IF(LEN(LOOKUP(B52,Database!A:A,Database!C:C))=0,\"\",LOOKUP(B52,Database!A:A,Database!C:C)))","v":""},{"$f":"IF(ISNA(A52),\"\",IF(LEN(LOOKUP(B52,Database!A:A,Database!D:D))=0,\"\",LOOKUP(B52,Database!A:A,Database!D:D)))","v":""},{"$f":"IF(ISNA(A52),\"\",IF(LEN(LOOKUP(B52,Database!A:A,Database!E:E))=0,\"\",LOOKUP(B52,Database!A:A,Database!E:E)))","v":""},{"$f":"IF(ISNA(A52),\"\",IF(LEN(LOOKUP(B52,Database!A:A,Database!F:F))=0,\"\",LOOKUP(B52,Database!A:A,Database!F:F)))","v":""},{"$f":"IF(ISNA(A52),\"\",IF(LEN(LOOKUP(B52,Database!A:A,Database!G:G))=0,\"\",LOOKUP(B52,Database!A:A,Database!G:G)))","v":""},{"$f":"IF(ISNA(A52),\"\",IF(LEN(LOOKUP(B52,Database!A:A,Database!H:H))=0,\"\",LOOKUP(B52,Database!A:A,Database!H:H)))","v":""},{"$f":"IF(ISNA(A52),\"\",IF(LEN(LOOKUP(B52,Database!A:A,Database!I:I))=0,\"\",LOOKUP(B52,Database!A:A,Database!I:I)))","v":""},{"$f":"IF(ISNA(A52),\"\",IF(LEN(LOOKUP(B52,Database!A:A,Database!J:J))=0,\"\",LOOKUP(B52,Database!A:A,Database!J:J)))","v":""},{"$f":"IF(ISNA(A52),\"\",IF(LEN(LOOKUP(B52,Database!A:A,Database!K:K))=0,\"\",LOOKUP(B52,Database!A:A,Database!K:K)))","v":""},{"$f":"IF(ISNA(A52),\"\",IF(LEN(LOOKUP(B52,Database!A:A,Database!L:L))=0,\"\",LOOKUP(B52,Database!A:A,Database!L:L)))","v":""},{"$f":"IF(ISNA(A52),\"\",IF(LEN(LOOKUP(B52,Database!A:A,Database!M:M))=0,\"\",LOOKUP(B52,Database!A:A,Database!M:M)))","v":""},{"$f":"IF(ISNA(A52),\"\",IF(LEN(LOOKUP(B52,Database!A:A,Database!N:N))=0,\"\",LOOKUP(B52,Database!A:A,Database!N:N)))","v":""},{"$f":"IF(ISNA(A52),\"\",IF(LEN(LOOKUP(B52,Database!A:A,Database!O:O))=0,\"\",LOOKUP(B52,Database!A:A,Database!O:O)))","v":""},{"$f":"IF(ISNA(A52),\"\",IF(LEN(LOOKUP(B52,Database!A:A,Database!P:P))=0,\"\",LOOKUP(B52,Database!A:A,Database!P:P)))","v":""},{"$f":"IF(ISNA(A52),\"\",IF(LEN(LOOKUP(B52,Database!A:A,Database!Q:Q))=0,\"\",LOOKUP(B52,Database!A:A,Database!Q:Q)))","v":""},{"$f":"IF(ISNA(A52),\"\",IF(LEN(LOOKUP(B52,Database!A:A,Database!R:R))=0,\"\",LOOKUP(B52,Database!A:A,Database!R:R)))","v":""},{"$f":"IF(ISNA(A52),\"\",IF(LEN(LOOKUP(B52,Database!A:A,Database!S:S))=0,\"\",LOOKUP(B52,Database!A:A,Database!S:S)))","v":""},null,null,null,null,null,null,38,0,null,1,0,null,0.1]
[{"$error":"#N/A"},"2018-02-08",{"$f":"IF(ISNA(A53),\"\",IF(LEN(LOOKUP(B53,Database!A:A,Database!B:B))=0,\"\",LOOKUP(B53,Database!A:A,Database!B:B)))","v":""},{"$f":"IF(ISNA(A53),\"\",IF(LEN(LOOKUP(B53,Database!A:A,Database!C:C))=0,\"\",LOOKUP(B53,Database!A:A,Database!C:C)))","v":""},{"$f":"IF(ISNA(A53),\"\",IF(LEN(LOOKUP(B53,Database!A:A,Database!D:D))=0,\"\",LOOKUP(B53,Database!A:A,Database!D:D)))","v":""},{"$f":"IF(ISNA(A53),\"\",IF(LEN(LOOKUP(B53,Database!A:A,Database!E:E))=0,\"\",LOOKUP(B53,Database!A:A,Database!E:E)))","v":""},{"$f":"IF(ISNA(A53),\"\",IF(LEN(LOOKUP(B53,Database!A:A,Database!F:F))=0,\"\",LOOKUP(B53,Database!A:A,Database!F:F)))","v":""},{"$f":"IF(ISNA(A53),\"\",IF(LEN(LOOKUP(B53,Database!A:A,Database!G:G))=0,\"\",LOOKUP(B53,Database!A:A,Database!G:G)))","v":""},{"$f":"IF(ISNA(A53),\"\",IF(LEN(LOOKUP(B53,Database!A:A,Database!H:H))=0,\"\",LOOKUP(B53,Database!A:A,Database!H:H)))","v":""},{"$f":"IF(ISNA(A53),\"\",IF(LEN(LOOKUP(B53,Database!A:A,Database!I:I))=0,\"\",LOOKUP(B53,Database!A:A,Database!I:I)))","v":""},{"$f":"IF(ISNA(A53),\"\",IF(LEN(LOOKUP(B53,Database!A:A,Database!J:J))=0,\"\",LOOKUP(B53,Database!A:A,Database!J:J)))","v":""},{"$f":"IF(ISNA(A53),\"\",IF(LEN(LOOKUP(B53,Database!A:A,Database!K:K))=0,\"\",LOOKUP(B53,Database!A:A,Database!K:K)))","v":""},{"$f":"IF(ISNA(A53),\"\",IF(LEN(LOOKUP(B53,Database!A:A,Database!L:L))=0,\"\",LOOKUP(B53,Database!A:A,Database!L:L)))","v":""},{"$f":"IF(ISNA(A53),\"\",IF(LEN(LOOKUP(B53,Database!A:A,Database!M:M))=0,\"\",LOOKUP(B53,Database!A:A,Database!M:M)))","v":""},{"$f":"IF(ISNA(A53),\"\",IF(LEN(LOOKUP(B53,Database!A:A,Database!N:N))=0,\"\",LOOKUP(B53,Database!A:A,Database!N:N)))","v":""},{"$f":"IF(ISNA(A53),\"\",IF(LEN(LOOKUP(B53,Database!A:A,Database!O:O))=0,\"\",LOOKUP(B53,Database!A:A,Database!O:O)))","v":""},{"$f":"IF(ISNA(A53),\"\",IF(LEN(LOOKUP(B53,Database!A:A,Database!P:P))=0,\"\",LOOKUP(B53,Database!A:A,Database!P:P)))","v":""},{"$f":"IF(ISNA(A53),\"\",IF(LEN(LOOKUP(B53,Database!A:A,Database!Q:Q))=0,\"\",LOOKUP(B53,Database!A:A,Database!Q:Q)))","v":""},{"$f":"IF(ISNA(A53),\"\",IF(LEN(LOOKUP(B53,Database!A:A,Database!R:R))=0,\"\",LOOKUP(B53,Database!A:A,Database!R:R)))","v":""},{"$f":"IF(ISNA(A53),\"\",IF(LEN(LOOKUP(B53,Database!A:A,Database!S:S))=0,\"\",LOOKUP(B53,Database!A:A,Database!S:S)))","v":""},null,null,null,null,null,null,39,0,null,1,0,null,0.1]
[{"$error":"#N/A"},"2018-02-09",{"$f":"IF(ISNA(A54),\"\",IF(LEN(LOOKUP(B54,Database!A:A,Database!B:B))=0,\"\",LOOKUP(B54,Database!A:A,Database!B:B)))","v":""},{"$f":"IF(ISNA(A54),\"\",IF(LEN(LOOKUP(B54,Database!A:A,Database!C:C))=0,\"\",LOOKUP(B54,Database!A:A,Database!C:C)))","v":""},{"$f":"IF(ISNA(A54),\"\",IF(LEN(LOOKUP(B54,Database!A:A,Database!D:D))=0,\"\",LOOKUP(B54,Database!A:A,Database!D:D)))","v":""},{"$f":"IF(ISNA(A54),\"\",IF(LEN(LOOKUP(B54,Database!A:A,Database!E:E))=0,\"\",LOOKUP(B54,Database!A:A,Database!E:E)))","v":""},{"$f":"IF(ISNA(A54),\"\",IF(LEN(LOOKUP(B54,Database!A:A,Database!F:F))=0,\"\",LOOKUP(B54,Database!A:A,Database!F:F)))","v":""},{"$f":"IF(ISNA(A54),\"\",IF(LEN(LOOKUP(B54,Database!A:A,Database!G:G))=0,\"\",LOOKUP(B54,Database!A:A,Database!G:G)))","v":""},{"$f":"IF(ISNA(A54),\"\",IF(LEN(LOOKUP(B54,Database!A:A,Database!H:H))=0,\"\",LOOKUP(B54,Database!A:A,Database!H:H)))","v":""},{"$f":"IF(ISNA(A54),\"\",IF(LEN(LOOKUP(B54,Database!A:A,Database!I:I))=0,\"\",LOOKUP(B54,Database!A:A,Database!I:I)))","v":""},{"$f":"IF(ISNA(A54),\"\",IF(LEN(LOOKUP(B54,Database!A:A,Database!J:J))=0,\"\",LOOKUP(B54,Database!A:A,Database!J:J)))","v":""},{"$f":"IF(ISNA(A54),\"\",IF(LEN(LOOKUP(B54,Database!A:A,Database!K:K))=0,\"\",LOOKUP(B54,Database!A:A,Database!K:K)))","v":""},{"$f":"IF(ISNA(A54),\"\",IF(LEN(LOOKUP(B54,Database!A:A,Database!L:L))=0,\"\",LOOKUP(B54,Database!A:A,Database!L:L)))","v":""},{"$f":"IF(ISNA(A54),\"\",IF(LEN(LOOKUP(B54,Database!A:A,Database!M:M))=0,\"\",LOOKUP(B54,Database!A:A,Database!M:M)))","v":""},{"$f":"IF(ISNA(A54),\"\",IF(LEN(LOOKUP(B54,Database!A:A,Database!N:N))=0,\"\",LOOKUP(B54,Database!A:A,Database!N:N)))","v":""},{"$f":"IF(ISNA(A54),\"\",IF(LEN(LOOKUP(B54,Database!A:A,Database!O:O))=0,\"\",LOOKUP(B54,Database!A:A,Database!O:O)))","v":""},{"$f":"IF(ISNA(A54),\"\",IF(LEN(LOOKUP(B54,Database!A:A,Database!P:P))=0,\"\",LOOKUP(B54,Database!A:A,Database!P:P)))","v":""},{"$f":"IF(ISNA(A54),\"\",IF(LEN(LOOKUP(B54,Database!A:A,Database!Q:Q))=0,\"\",LOOKUP(B54,Database!A:A,Database!Q:Q)))","v":""},{"$f":"IF(ISNA(A54),\"\",IF(LEN(LOOKUP(B54,Database!A:A,Database!R:R))=0,\"\",LOOKUP(B54,Database!A:A,Database!R:R)))","v":""},{"$f":"IF(ISNA(A54),\"\",IF(LEN(LOOKUP(B54,Database!A:A,Database!S:S))=0,\"\",LOOKUP(B54,Database!A:A,Database!S:S)))","v":""},null,null,null,null,null,null,40,0,null,1,0,null,0.1]
[{"$error":"#N/A"},"2018-02-10",{"$f":"IF(ISNA(A55),\"\",IF(LEN(LOOKUP(B55,Database!A:A,Database!B:B))=0,\"\",LOOKUP(B55,Database!A:A,Database!B:B)))","v":""},{"$f":"IF(ISNA(A55),\"\",IF(LEN(LOOKUP(B55,Database!A:A,Database!C:C))=0,\"\",LOOKUP(B55,Database!A:A,Database!C:C)))","v":""},{"$f":"IF(ISNA(A55),\"\",IF(LEN(LOOKUP(B55,Database!A:A,Database!D:D))=0,\"\",LOOKUP(B55,Database!A:A,Database!D:D)))","v":""},{"$f":"IF(ISNA(A55),\"\",IF(LEN(LOOKUP(B55,Database!A:A,Database!E:E))=0,\"\",LOOKUP(B55,Database!A:A,Database!E:E)))","v":""},{"$f":"IF(ISNA(A55),\"\",IF(LEN(LOOKUP(B55,Database!A:A,Database!F:F))=0,\"\",LOOKUP(B55,Database!A:A,Database!F:F)))","v":""},{"$f":"IF(ISNA(A55),\"\",IF(LEN(LOOKUP(B55,Database!A:A,Database!G:G))=0,\"\",LOOKUP(B55,Database!A:A,Database!G:G)))","v":""},{"$f":"IF(ISNA(A55),\"\",IF(LEN(LOOKUP(B55,Database!A:A,Database!H:H))=0,\"\",LOOKUP(B55,Database!A:A,Database!H:H)))","v":""},{"$f":"IF(ISNA(A55),\"\",IF(LEN(LOOKUP(B55,Database!A:A,Database!I:I))=0,\"\",LOOKUP(B55,Database!A:A,Database!I:I)))","v":""},{"$f":"IF(ISNA(A55),\"\",IF(LEN(LOOKUP(B55,Database!A:A,Database!J:J))=0,\"\",LOOKUP(B55,Database!A:A,Database!J:J)))","v":""},{"$f":"IF(ISNA(A55),\"\",IF(LEN(LOOKUP(B55,Database!A:A,Database!K:K))=0,\"\",LOOKUP(B55,Database!A:A,Database!K:K)))","v":""},{"$f":"IF(ISNA(A55),\"\",IF(LEN(LOOKUP(B55,Database!A:A,Database!L:L))=0,\"\",LOOKUP(B55,Database!A:A,Database!L:L)))","v":""},{"$f":"IF(ISNA(A55),\"\",IF(LEN(LOOKUP(B55,Database!A:A,Database!M:M))=0,\"\",LOOKUP(B55,Database!A:A,Database!M:M)))","v":""},{"$f":"IF(ISNA(A55),\"\",IF(LEN(LOOKUP(B55,Database!A:A,Database!N:N))=0,\"\",LOOKUP(B55,Database!A:A,Database!N:N)))","v":""},{"$f":"IF(ISNA(A55),\"\",IF(LEN(LOOKUP(B55,Database!A:A,Database!O:O))=0,\"\",LOOKUP(B55,Database!A:A,Database!O:O)))","v":""},{"$f":"IF(ISNA(A55),\"\",IF(LEN(LOOKUP(B55,Database!A:A,Database!P:P))=0,\"\",LOOKUP(B55,Database!A:A,Database!P:P)))","v":""},{"$f":"IF(ISNA(A55),\"\",IF(LEN(LOOKUP(B55,Database!A:A,Database!Q:Q))=0,\"\",LOOKUP(B55,Database!A:A,Database!Q:Q)))","v":""},{"$f":"IF(ISNA(A55),\"\",IF(LEN(LOOKUP(B55,Database!A:A,Database!R:R))=0,\"\",LOOKUP(B55,Database!A:A,Database!R:R)))","v":""},{"$f":"IF(ISNA(A55),\"\",IF(LEN(LOOKUP(B55,Database!A:A,Database!S:S))=0,\"\",LOOKUP(B55,Database!A:A,Database!S:S)))","v":""},null,null,null,null,null,null,41,0,null,1,0,null,0.1]
[{"$error":"#N/A"},"2018-02-11",{"$f":"IF(ISNA(A56),\"\",IF(LEN(LOOKUP(B56,Database!A:A,Database!B:B))=0,\"\",LOOKUP(B56,Database!A:A,Database!B:B)))","v":""},{"$f":"IF(ISNA(A56),\"\",IF(LEN(LOOKUP(B56,Database!A:A,Database!C:C))=0,\"\",LOOKUP(B56,Database!A:A,Database!C:C)))","v":""},{"$f":"IF(ISNA(A56),\"\",IF(LEN(LOOKUP(B56,Database!A:A,Database!D:D))=0,\"\",LOOKUP(B56,Database!A:A,Database!D:D)))","v":""},{"$f":"IF(ISNA(A56),\"\",IF(LEN(LOOKUP(B56,Database!A:A,Database!E:E))=0,\"\",LOOKUP(B56,Database!A:A,Database!E:E)))","v":""},{"$f":"IF(ISNA(A56),\"\",IF(LEN(LOOKUP(B56,Database!A:A,Database!F:F))=0,\"\",LOOKUP(B56,Database!A:A,Database!F:F)))","v":""},{"$f":"IF(ISNA(A56),\"\",IF(LEN(LOOKUP(B56,Database!A:A,Database!G:G))=0,\"\",LOOKUP(B56,Database!A:A,Database!G:G)))","v":""},{"$f":"IF(ISNA(A56),\"\",IF(LEN(LOOKUP(B56,Database!A:A,Database!H:H))=0,\"\",LOOKUP(B56,Database!A:A,Database!H:H)))","v":""},{"$f":"IF(ISNA(A56),\"\",IF(LEN(LOOKUP(B56,Database!A:A,Database!I:I))=0,\"\",LOOKUP(B56,Database!A:A,Database!I:I)))","v":""},{"$f":"IF(ISNA(A56),\"\",IF(LEN(LOOKUP(B56,Database!A:A,Database!J:J))=0,\"\",LOOKUP(B56,Database!A:A,Database!J:J)))","v":""},{"$f":"IF(ISNA(A56),\"\",IF(LEN(LOOKUP(B56,Database!A:A,Database!K:K))=0,\"\",LOOKUP(B56,Database!A:A,Database!K:K)))","v":""},{"$f":"IF(ISNA(A56),\"\",IF(LEN(LOOKUP(B56,Database!A:A,Database!L:L))=0,\"\",LOOKUP(B56,Database!A:A,Database!L:L)))","v":""},{"$f":"IF(ISNA(A56),\"\",IF(LEN(LOOKUP(B56,Database!A:A,Database!M:M))=0,\"\",LOOKUP(B56,Database!A:A,Database!M:M)))","v":""},{"$f":"IF(ISNA(A56),\"\",IF(LEN(LOOKUP(B56,Database!A:A,Database!N:N))=0,\"\",LOOKUP(B56,Database!A:A,Database!N:N)))","v":""},{"$f":"IF(ISNA(A56),\"\",IF(LEN(LOOKUP(B56,Database!A:A,Database!O:O))=0,\"\",LOOKUP(B56,Database!A:A,Database!O:O)))","v":""},{"$f":"IF(ISNA(A56),\"\",IF(LEN(LOOKUP(B56,Database!A:A,Database!P:P))=0,\"\",LOOKUP(B56,Database!A:A,Database!P:P)))","v":""},{"$f":"IF(ISNA(A56),\"\",IF(LEN(LOOKUP(B56,Database!A:A,Database!Q:Q))=0,\"\",LOOKUP(B56,Database!A:A,Database!Q:Q)))","v":""},{"$f":"IF(ISNA(A56),\"\",IF(LEN(LOOKUP(B56,Database!A:A,Database!R:R))=0,\"\",LOOKUP(B56,Database!A:A,Database!R:R)))","v":""},{"$f":"IF(ISNA(A56),\"\",IF(LEN(LOOKUP(B56,Database!A:A,Database!S:S))=0,\"\",LOOKUP(B56,Database!A:A,Database!S:S)))","v":""},null,null,null,null,null,null,42,0,null,1,0,null,0.1]
[{"$error":"#N/A"},"2018-02-12",{"$f":"IF(ISNA(A57),\"\",IF(LEN(LOOKUP(B57,Database!A:A,Database!B:B))=0,\"\",LOOKUP(B57,Database!A:A,Database!B:B)))","v":""},{"$f":"IF(ISNA(A57),\"\",IF(LEN(LOOKUP(B57,Database!A:A,Database!C:C))=0,\"\",LOOKUP(B57,Database!A:A,Database!C:C)))","v":""},{"$f":"IF(ISNA(A57),\"\",IF(LEN(LOOKUP(B57,Database!A:A,Database!D:D))=0,\"\",LOOKUP(B57,Database!A:A,Database!D:D)))","v":""},{"$f":"IF(ISNA(A57),\"\",IF(LEN(LOOKUP(B57,Database!A:A,Database!E:E))=0,\"\",LOOKUP(B57,Database!A:A,Database!E:E)))","v":""},{"$f":"IF(ISNA(A57),\"\",IF(LEN(LOOKUP(B57,Database!A:A,Database!F:F))=0,\"\",LOOKUP(B57,Database!A:A,Database!F:F)))","v":""},{"$f":"IF(ISNA(A57),\"\",IF(LEN(LOOKUP(B57,Database!A:A,Database!G:G))=0,\"\",LOOKUP(B57,Database!A:A,Database!G:G)))","v":""},{"$f":"IF(ISNA(A57),\"\",IF(LEN(LOOKUP(B57,Database!A:A,Database!H:H))=0,\"\",LOOKUP(B57,Database!A:A,Database!H:H)))","v":""},{"$f":"IF(ISNA(A57),\"\",IF(LEN(LOOKUP(B57,Database!A:A,Database!I:I))=0,\"\",LOOKUP(B57,Database!A:A,Database!I:I)))","v":""},{"$f":"IF(ISNA(A57),\"\",IF(LEN(LOOKUP(B57,Database!A:A,Database!J:J))=0,\"\",LOOKUP(B57,Database!A:A,Database!J:J)))","v":""},{"$f":"IF(ISNA(A57),\"\",IF(LEN(LOOKUP(B57,Database!A:A,Database!K:K))=0,\"\",LOOKUP(B57,Database!A:A,Database!K:K)))","v":""},{"$f":"IF(ISNA(A57),\"\",IF(LEN(LOOKUP(B57,Database!A:A,Database!L:L))=0,\"\",LOOKUP(B57,Database!A:A,Database!L:L)))","v":""},{"$f":"IF(ISNA(A57),\"\",IF(LEN(LOOKUP(B57,Database!A:A,Database!M:M))=0,\"\",LOOKUP(B57,Database!A:A,Database!M:M)))","v":""},{"$f":"IF(ISNA(A57),\"\",IF(LEN(LOOKUP(B57,Database!A:A,Database!N:N))=0,\"\",LOOKUP(B57,Database!A:A,Database!N:N)))","v":""},{"$f":"IF(ISNA(A57),\"\",IF(LEN(LOOKUP(B57,Database!A:A,Database!O:O))=0,\"\",LOOKUP(B57,Database!A:A,Database!O:O)))","v":""},{"$f":"IF(ISNA(A57),\"\",IF(LEN(LOOKUP(B57,Database!A:A,Database!P:P))=0,\"\",LOOKUP(B57,Database!A:A,Database!P:P)))","v":""},{"$f":"IF(ISNA(A57),\"\",IF(LEN(LOOKUP(B57,Database!A:A,Database!Q:Q))=0,\"\",LOOKUP(B57,Database!A:A,Database!Q:Q)))","v":""},{"$f":"IF(ISNA(A57),\"\",IF(LEN(LOOKUP(B57,Database!A:A,Database!R:R))=0,\"\",LOOKUP(B57,Database!A:A,Database!R:R)))","v":""},{"$f":"IF(ISNA(A57),\"\",IF(LEN(LOOKUP(B57,Database!A:A,Database!S:S))=0,\"\",LOOKUP(B57,Database!A:A,Database!S:S)))","v":""},null,null,null,null,null,null,43,0,null,1,0,null,0.1]
[{"$error":"#N/A"},"2018-02-13",{"$f":"IF(ISNA(A58),\"\",IF(LEN(LOOKUP(B58,Database!A:A,Database!B:B))=0,\"\",LOOKUP(B58,Database!A:A,Database!B:B)))","v":""},{"$f":"IF(ISNA(A58),\"\",IF(LEN(LOOKUP(B58,Database!A:A,Database!C:C))=0,\"\",LOOKUP(B58,Database!A:A,Database!C:C)))","v":""},{"$f":"IF(ISNA(A58),\"\",IF(LEN(LOOKUP(B58,Database!A:A,Database!D:D))=0,\"\",LOOKUP(B58,Database!A:A,Database!D:D)))","v":""},{"$f":"IF(ISNA(A58),\"\",IF(LEN(LOOKUP(B58,Database!A:A,Database!E:E))=0,\"\",LOOKUP(B58,Database!A:A,Database!E:E)))","v":""},{"$f":"IF(ISNA(A58),\"\",IF(LEN(LOOKUP(B58,Database!A:A,Database!F:F))=0,\"\",LOOKUP(B58,Database!A:A,Database!F:F)))","v":""},{"$f":"IF(ISNA(A58),\"\",IF(LEN(LOOKUP(B58,Database!A:A,Database!G:G))=0,\"\",LOOKUP(B58,Database!A:A,Database!G:G)))","v":""},{"$f":"IF(ISNA(A58),\"\",IF(LEN(LOOKUP(B58,Database!A:A,Database!H:H))=0,\"\",LOOKUP(B58,Database!A:A,Database!H:H)))","v":""},{"$f":"IF(ISNA(A58),\"\",IF(LEN(LOOKUP(B58,Database!A:A,Database!I:I))=0,\"\",LOOKUP(B58,Database!A:A,Database!I:I)))","v":""},{"$f":"IF(ISNA(A58),\"\",IF(LEN(LOOKUP(B58,Database!A:A,Database!J:J))=0,\"\",LOOKUP(B58,Database!A:A,Database!J:J)))","v":""},{"$f":"IF(ISNA(A58),\"\",IF(LEN(LOOKUP(B58,Database!A:A,Database!K:K))=0,\"\",LOOKUP(B58,Database!A:A,Database!K:K)))","v":""},{"$f":"IF(ISNA(A58),\"\",IF(LEN(LOOKUP(B58,Database!A:A,Database!L:L))=0,\"\",LOOKUP(B58,Database!A:A,Database!L:L)))","v":""},{"$f":"IF(ISNA(A58),\"\",IF(LEN(LOOKUP(B58,Database!A:A,Database!M:M))=0,\"\",LOOKUP(B58,Database!A:A,Database!M:M)))","v":""},{"$f":"IF(ISNA(A58),\"\",IF(LEN(LOOKUP(B58,Database!A:A,Database!N:N))=0,\"\",LOOKUP(B58,Database!A:A,Database!N:N)))","v":""},{"$f":"IF(ISNA(A58),\"\",IF(LEN(LOOKUP(B58,Database!A:A,Database!O:O))=0,\"\",LOOKUP(B58,Database!A:A,Database!O:O)))","v":""},{"$f":"IF(ISNA(A58),\"\",IF(LEN(LOOKUP(B58,Database!A:A,Database!P:P))=0,\"\",LOOKUP(B58,Database!A:A,Database!P:P)))","v":""},{"$f":"IF(ISNA(A58),\"\",IF(LEN(LOOKUP(B58,Database!A:A,Database!Q:Q))=0,\"\",LOOKUP(B58,Database!A:A,Database!Q:Q)))","v":""},{"$f":"IF(ISNA(A58),\"\",IF(LEN(LOOKUP(B58,Database!A:A,Database!R:R))=0,\"\",LOOKUP(B58,Database!A:A,Database!R:R)))","v":""},{"$f":"IF(ISNA(A58),\"\",IF(LEN(LOOKUP(B58,Database!A:A,Database!S:S))=0,\"\",LOOKUP(B58,Database!A:A,Database!S:S)))","v":""},null,null,null,null,null,null,44,0,null,1,0,null,0.1]
[{"$error":"#N/A"},"2018-02-14",{"$f":"IF(ISNA(A59),\"\",IF(LEN(LOOKUP(B59,Database!A:A,Database!B:B))=0,\"\",LOOKUP(B59,Database!A:A,Database!B:B)))","v":""},{"$f":"IF(ISNA(A59),\"\",IF(LEN(LOOKUP(B59,Database!A:A,Database!C:C))=0,\"\",LOOKUP(B59,Database!A:A,Database!C:C)))","v":""},{"$f":"IF(ISNA(A59),\"\",IF(LEN(LOOKUP(B59,Database!A:A,Database!D:D))=0,\"\",LOOKUP(B59,Database!A:A,Database!D:D)))","v":""},{"$f":"IF(ISNA(A59),\"\",IF(LEN(LOOKUP(B59,Database!A:A,Database!E:E))=0,\"\",LOOKUP(B59,Database!A:A,Database!E:E)))","v":""},{"$f":"IF(ISNA(A59),\"\",IF(LEN(LOOKUP(B59,Database!A:A,Database!F:F))=0,\"\",LOOKUP(B59,Database!A:A,Database!F:F)))","v":""},{"$f":"IF(ISNA(A59),\"\",IF(LEN(LOOKUP(B59,Database!A:A,Database!G:G))=0,\"\",LOOKUP(B59,Database!A:A,Database!G:G)))","v":""},{"$f":"IF(ISNA(A59),\"\",IF(LEN(LOOKUP(B59,Database!A:A,Database!H:H))=0,\"\",LOOKUP(B59,Database!A:A,Database!H:H)))","v":""},{"$f":"IF(ISNA(A59),\"\",IF(LEN(LOOKUP(B59,Database!A:A,Database!I:I))=0,\"\",LOOKUP(B59,Database!A:A,Database!I:I)))","v":""},{"$f":"IF(ISNA(A59),\"\",IF(LEN(LOOKUP(B59,Database!A:A,Database!J:J))=0,\"\",LOOKUP(B59,Database!A:A,Database!J:J)))","v":""},{"$f":"IF(ISNA(A59),\"\",IF(LEN(LOOKUP(B59,Database!A:A,Database!K:K))=0,\"\",LOOKUP(B59,Database!A:A,Database!K:K)))","v":""},{"$f":"IF(ISNA(A59),\"\",IF(LEN(LOOKUP(B59,Database!A:A,Database!L:L))=0,\"\",LOOKUP(B59,Database!A:A,Database!L:L)))","v":""},{"$f":"IF(ISNA(A59),\"\",IF(LEN(LOOKUP(B59,Database!A:A,Database!M:M))=0,\"\",LOOKUP(B59,Database!A:A,Database!M:M)))","v":""},{"$f":"IF(ISNA(A59),\"\",IF(LEN(LOOKUP(B59,Database!A:A,Database!N:N))=0,\"\",LOOKUP(B59,Database!A:A,Database!N:N)))","v":""},{"$f":"IF(ISNA(A59),\"\",IF(LEN(LOOKUP(B59,Database!A:A,Database!O:O))=0,\"\",LOOKUP(B59,Database!A:A,Database!O:O)))","v":""},{"$f":"IF(ISNA(A59),\"\",IF(LEN(LOOKUP(B59,Database!A:A,Database!P:P))=0,\"\",LOOKUP(B59,Database!A:A,Database!P:P)))","v":""},{"$f":"IF(ISNA(A59),\"\",IF(LEN(LOOKUP(B59,Database!A:A,Database!Q:Q))=0,\"\",LOOKUP(B59,Database!A:A,Database!Q:Q)))","v":""},{"$f":"IF(ISNA(A59),\"\",IF(LEN(LOOKUP(B59,Database!A:A,Database!R:R))=0,\"\",LOOKUP(B59,Database!A:A,Database!R:R)))","v":""},{"$f":"IF(ISNA(A59),\"\",IF(LEN(LOOKUP(B59,Database!A:A,Database!S:S))=0,\"\",LOOKUP(B59,Database!A:A,Database!S:S)))","v":""},null,null,null,null,null,null,45,0,null,1,0,null,0.1]
[{"$error":"#N/A"},"2018-02-15",{"$f":"IF(ISNA(A60),\"\",IF(LEN(LOOKUP(B60,Database!A:A,Database!B:B))=0,\"\",LOOKUP(B60,Database!A:A,Database!B:B)))","v":""},{"$f":"IF(ISNA(A60),\"\",IF(LEN(LOOKUP(B60,Database!A:A,Database!C:C))=0,\"\",LOOKUP(B60,Database!A:A,Database!C:C)))","v":""},{"$f":"IF(ISNA(A60),\"\",IF(LEN(LOOKUP(B60,Database!A:A,Database!D:D))=0,\"\",LOOKUP(B60,Database!A:A,Database!D:D)))","v":""},{"$f":"IF(ISNA(A60),\"\",IF(LEN(LOOKUP(B60,Database!A:A,Database!E:E))=0,\"\",LOOKUP(B60,Database!A:A,Database!E:E)))","v":""},{"$f":"IF(ISNA(A60),\"\",IF(LEN(LOOKUP(B60,Database!A:A,Database!F:F))=0,\"\",LOOKUP(B60,Database!A:A,Database!F:F)))","v":""},{"$f":"IF(ISNA(A60),\"\",IF(LEN(LOOKUP(B60,Database!A:A,Database!G:G))=0,\"\",LOOKUP(B60,Database!A:A,Database!G:G)))","v":""},{"$f":"IF(ISNA(A60),\"\",IF(LEN(LOOKUP(B60,Database!A:A,Database!H:H))=0,\"\",LOOKUP(B60,Database!A:A,Database!H:H)))","v":""},{"$f":"IF(ISNA(A60),\"\",IF(LEN(LOOKUP(B60,Database!A:A,Database!I:I))=0,\"\",LOOKUP(B60,Database!A:A,Database!I:I)))","v":""},{"$f":"IF(ISNA(A60),\"\",IF(LEN(LOOKUP(B60,Database!A:A,Database!J:J))=0,\"\",LOOKUP(B60,Database!A:A,Database!J:J)))","v":""},{"$f":"IF(ISNA(A60),\"\",IF(LEN(LOOKUP(B60,Database!A:A,Database!K:K))=0,\"\",LOOKUP(B60,Database!A:A,Database!K:K)))","v":""},{"$f":"IF(ISNA(A60),\"\",IF(LEN(LOOKUP(B60,Database!A:A,Database!L:L))=0,\"\",LOOKUP(B60,Database!A:A,Database!L:L)))","v":""},{"$f":"IF(ISNA(A60),\"\",IF(LEN(LOOKUP(B60,Database!A:A,Database!M:M))=0,\"\",LOOKUP(B60,Database!A:A,Database!M:M)))","v":""},{"$f":"IF(ISNA(A60),\"\",IF(LEN(LOOKUP(B60,Database!A:A,Database!N:N))=0,\"\",LOOKUP(B60,Database!A:A,Database!N:N)))","v":""},{"$f":"IF(ISNA(A60),\"\",IF(LEN(LOOKUP(B60,Database!A:A,Database!O:O))=0,\"\",LOOKUP(B60,Database!A:A,Database!O:O)))","v":""},{"$f":"IF(ISNA(A60),\"\",IF(LEN(LOOKUP(B60,Database!A:A,Database!P:P))=0,\"\",LOOKUP(B60,Database!A:A,Database!P:P)))","v":""},{"$f":"IF(ISNA(A60),\"\",IF(LEN(LOOKUP(B60,Database!A:A,Database!Q:Q))=0,\"\",LOOKUP(B60,Database!A:A,Database!Q:Q)))","v":""},{"$f":"IF(ISNA(A60),\"\",IF(LEN(LOOKUP(B60,Database!A:A,Database!R:R))=0,\"\",LOOKUP(B60,Database!A:A,Database!R:R)))","v":""},{"$f":"IF(ISNA(A60),\"\",IF(LEN(LOOKUP(B60,Database!A:A,Database!S:S))=0,\"\",LOOKUP(B60,Database!A:A,Database!S:S)))","v":""},null,null,null,null,null,null,46,0,null,1,0,null,0.1]
[{"$error":"#N/A"},"2018-02-16",{"$f":"IF(ISNA(A61),\"\",IF(LEN(LOOKUP(B61,Database!A:A,Database!B:B))=0,\"\",LOOKUP(B61,Database!A:A,Database!B:B)))","v":""},{"$f":"IF(ISNA(A61),\"\",IF(LEN(LOOKUP(B61,Database!A:A,Database!C:C))=0,\"\",LOOKUP(B61,Database!A:A,Database!C:C)))","v":""},{"$f":"IF(ISNA(A61),\"\",IF(LEN(LOOKUP(B61,Database!A:A,Database!D:D))=0,\"\",LOOKUP(B61,Database!A:A,Database!D:D)))","v":""},{"$f":"IF(ISNA(A61),\"\",IF(LEN(LOOKUP(B61,Database!A:A,Database!E:E))=0,\"\",LOOKUP(B61,Database!A:A,Database!E:E)))","v":""},{"$f":"IF(ISNA(A61),\"\",IF(LEN(LOOKUP(B61,Database!A:A,Database!F:F))=0,\"\",LOOKUP(B61,Database!A:A,Database!F:F)))","v":""},{"$f":"IF(ISNA(A61),\"\",IF(LEN(LOOKUP(B61,Database!A:A,Database!G:G))=0,\"\",LOOKUP(B61,Database!A:A,Database!G:G)))","v":""},{"$f":"IF(ISNA(A61),\"\",IF(LEN(LOOKUP(B61,Database!A:A,Database!H:H))=0,\"\",LOOKUP(B61,Database!A:A,Database!H:H)))","v":""},{"$f":"IF(ISNA(A61),\"\",IF(LEN(LOOKUP(B61,Database!A:A,Database!I:I))=0,\"\",LOOKUP(B61,Database!A:A,Database!I:I)))","v":""},{"$f":"IF(ISNA(A61),\"\",IF(LEN(LOOKUP(B61,Database!A:A,Database!J:J))=0,\"\",LOOKUP(B61,Database!A:A,Database!J:J)))","v":""},{"$f":"IF(ISNA(A61),\"\",IF(LEN(LOOKUP(B61,Database!A:A,Database!K:K))=0,\"\",LOOKUP(B61,Database!A:A,Database!K:K)))","v":""},{"$f":"IF(ISNA(A61),\"\",IF(LEN(LOOKUP(B61,Database!A:A,Database!L:L))=0,\"\",LOOKUP(B61,Database!A:A,Database!L:L)))","v":""},{"$f":"IF(ISNA(A61),\"\",IF(LEN(LOOKUP(B61,Database!A:A,Database!M:M))=0,\"\",LOOKUP(B61,Database!A:A,Database!M:M)))","v":""},{"$f":"IF(ISNA(A61),\"\",IF(LEN(LOOKUP(B61,Database!A:A,Database!N:N))=0,\"\",LOOKUP(B61,Database!A:A,Database!N:N)))","v":""},{"$f":"IF(ISNA(A61),\"\",IF(LEN(LOOKUP(B61,Database!A:A,Database!O:O))=0,\"\",LOOKUP(B61,Database!A:A,Database!O:O)))","v":""},{"$f":"IF(ISNA(A61),\"\",IF(LEN(LOOKUP(B61,Database!A:A,Database!P:P))=0,\"\",LOOKUP(B61,Database!A:A,Database!P:P)))","v":""},{"$f":"IF(ISNA(A61),\"\",IF(LEN(LOOKUP(B61,Database!A:A,Database!Q:Q))=0,\"\",LOOKUP(B61,Database!A:A,Database!Q:Q)))","v":""},{"$f":"IF(ISNA(A61),\"\",IF(LEN(LOOKUP(B61,Database!A:A,Database!R:R))=0,\"\",LOOKUP(B61,Database!A:A,Database!R:R)))","v":""},{"$f":"IF(ISNA(A61),\"\",IF(LEN(LOOKUP(B61,Database!A:A,Database!S:S))=0,\"\",LOOKUP(B61,Database!A:A,Database!S:S)))","v":""},null,null,null,null,null,null,47,0,null,1,0,null,0.1]
[{"$error":"#N/A"},"2018-02-17",{"$f":"IF(ISNA(A62),\"\",IF(LEN(LOOKUP(B62,Database!A:A,Database!B:B))=0,\"\",LOOKUP(B62,Database!A:A,Database!B:B)))","v":""},{"$f":"IF(ISNA(A62),\"\",IF(LEN(LOOKUP(B62,Database!A:A,Database!C:C))=0,\"\",LOOKUP(B62,Database!A:A,Database!C:C)))","v":""},{"$f":"IF(ISNA(A62),\"\",IF(LEN(LOOKUP(B62,Database!A:A,Database!D:D))=0,\"\",LOOKUP(B62,Database!A:A,Database!D:D)))","v":""},{"$f":"IF(ISNA(A62),\"\",IF(LEN(LOOKUP(B62,Database!A:A,Database!E:E))=0,\"\",LOOKUP(B62,Database!A:A,Database!E:E)))","v":""},{"$f":"IF(ISNA(A62),\"\",IF(LEN(LOOKUP(B62,Database!A:A,Database!F:F))=0,\"\",LOOKUP(B62,Database!A:A,Database!F:F)))","v":""},{"$f":"IF(ISNA(A62),\"\",IF(LEN(LOOKUP(B62,Database!A:A,Database!G:G))=0,\"\",LOOKUP(B62,Database!A:A,Database!G:G)))","v":""},{"$f":"IF(ISNA(A62),\"\",IF(LEN(LOOKUP(B62,Database!A:A,Database!H:H))=0,\"\",LOOKUP(B62,Database!A:A,Database!H:H)))","v":""},{"$f":"IF(ISNA(A62),\"\",IF(LEN(LOOKUP(B62,Database!A:A,Database!I:I))=0,\"\",LOOKUP(B62,Database!A:A,Database!I:I)))","v":""},{"$f":"IF(ISNA(A62),\"\",IF(LEN(LOOKUP(B62,Database!A:A,Database!J:J))=0,\"\",LOOKUP(B62,Database!A:A,Database!J:J)))","v":""},{"$f":"IF(ISNA(A62),\"\",IF(LEN(LOOKUP(B62,Database!A:A,Database!K:K))=0,\"\",LOOKUP(B62,Database!A:A,Database!K:K)))","v":""},{"$f":"IF(ISNA(A62),\"\",IF(LEN(LOOKUP(B62,Database!A:A,Database!L:L))=0,\"\",LOOKUP(B62,Database!A:A,Database!L:L)))","v":""},{"$f":"IF(ISNA(A62),\"\",IF(LEN(LOOKUP(B62,Database!A:A,Database!M:M))=0,\"\",LOOKUP(B62,Database!A:A,Database!M:M)))","v":""},{"$f":"IF(ISNA(A62),\"\",IF(LEN(LOOKUP(B62,Database!A:A,Database!N:N))=0,\"\",LOOKUP(B62,Database!A:A,Database!N:N)))","v":""},{"$f":"IF(ISNA(A62),\"\",IF(LEN(LOOKUP(B62,Database!A:A,Database!O:O))=0,\"\",LOOKUP(B62,Database!A:A,Database!O:O)))","v":""},{"$f":"IF(ISNA(A62),\"\",IF(LEN(LOOKUP(B62,Database!A:A,Database!P:P))=0,\"\",LOOKUP(B62,Database!A:A,Database!P:P)))","v":""},{"$f":"IF(ISNA(A62),\"\",IF(LEN(LOOKUP(B62,Database!A:A,Database!Q:Q))=0,\"\",LOOKUP(B62,Database!A:A,Database!Q:Q)))","v":""},{"$f":"IF(ISNA(A62),\"\",IF(LEN(LOOKUP(B62,Database!A:A,Database!R:R))=0,\"\",LOOKUP(B62,Database!A:A,Database!R:R)))","v":""},{"$f":"IF(ISNA(A62),\"\",IF(LEN(LOOKUP(B62,Database!A:A,Database!S:S))=0,\"\",LOOKUP(B62,Database!A:A,Database!S:S)))","v":""},null,null,null,null,null,null,48,0,null,1,0,null,0.1]
[{"$error":"#N/A"},"2018-02-18",{"$f":"IF(ISNA(A63),\"\",IF(LEN(LOOKUP(B63,Database!A:A,Database!B:B))=0,\"\",LOOKUP(B63,Database!A:A,Database!B:B)))","v":""},{"$f":"IF(ISNA(A63),\"\",IF(LEN(LOOKUP(B63,Database!A:A,Database!C:C))=0,\"\",LOOKUP(B63,Database!A:A,Database!C:C)))","v":""},{"$f":"IF(ISNA(A63),\"\",IF(LEN(LOOKUP(B63,Database!A:A,Database!D:D))=0,\"\",LOOKUP(B63,Database!A:A,Database!D:D)))","v":""},{"$f":"IF(ISNA(A63),\"\",IF(LEN(LOOKUP(B63,Database!A:A,Database!E:E))=0,\"\",LOOKUP(B63,Database!A:A,Database!E:E)))","v":""},{"$f":"IF(ISNA(A63),\"\",IF(LEN(LOOKUP(B63,Database!A:A,Database!F:F))=0,\"\",LOOKUP(B63,Database!A:A,Database!F:F)))","v":""},{"$f":"IF(ISNA(A63),\"\",IF(LEN(LOOKUP(B63,Database!A:A,Database!G:G))=0,\"\",LOOKUP(B63,Database!A:A,Database!G:G)))","v":""},{"$f":"IF(ISNA(A63),\"\",IF(LEN(LOOKUP(B63,Database!A:A,Database!H:H))=0,\"\",LOOKUP(B63,Database!A:A,Database!H:H)))","v":""},{"$f":"IF(ISNA(A63),\"\",IF(LEN(LOOKUP(B63,Database!A:A,Database!I:I))=0,\"\",LOOKUP(B63,Database!A:A,Database!I:I)))","v":""},{"$f":"IF(ISNA(A63),\"\",IF(LEN(LOOKUP(B63,Database!A:A,Database!J:J))=0,\"\",LOOKUP(B63,Database!A:A,Database!J:J)))","v":""},{"$f":"IF(ISNA(A63),\"\",IF(LEN(LOOKUP(B63,Database!A:A,Database!K:K))=0,\"\",LOOKUP(B63,Database!A:A,Database!K:K)))","v":""},{"$f":"IF(ISNA(A63),\"\",IF(LEN(LOOKUP(B63,Database!A:A,Database!L:L))=0,\"\",LOOKUP(B63,Database!A:A,Database!L:L)))","v":""},{"$f":"IF(ISNA(A63),\"\",IF(LEN(LOOKUP(B63,Database!A:A,Database!M:M))=0,\"\",LOOKUP(B63,Database!A:A,Database!M:M)))","v":""},{"$f":"IF(ISNA(A63),\"\",IF(LEN(LOOKUP(B63,Database!A:A,Database!N:N))=0,\"\",LOOKUP(B63,Database!A:A,Database!N:N)))","v":""},{"$f":"IF(ISNA(A63),\"\",IF(LEN(LOOKUP(B63,Database!A:A,Database!O:O))=0,\"\",LOOKUP(B63,Database!A:A,Database!O:O)))","v":""},{"$f":"IF(ISNA(A63),\"\",IF(LEN(LOOKUP(B63,Database!A:A,Database!P:P))=0,\"\",LOOKUP(B63,Database!A:A,Database!P:P)))","v":""},{"$f":"IF(ISNA(A63),\"\",IF(LEN(LOOKUP(B63,Database!A:A,Database!Q:Q))=0,\"\",LOOKUP(B63,Database!A:A,Database!Q:Q)))","v":""},{"$f":"IF(ISNA(A63),\"\",IF(LEN(LOOKUP(B63,Database!A:A,Database!R:R))=0,\"\",LOOKUP(B63,Database!A:A,Database!R:R)))","v":""},{"$f":"IF(ISNA(A63),\"\",IF(LEN(LOOKUP(B63,Database!A:A,Database!S:S))=0,\"\",LOOKUP(B63,Database!A:A,Database!S:S)))","v":""},null,null,null,null,null,null,49,0,null,1,0,null,0.1]
[{"$error":"#N/A"},"2018-02-19",{"$f":"IF(ISNA(A64),\"\",IF(LEN(LOOKUP(B64,Database!A:A,Database!B:B))=0,\"\",LOOKUP(B64,Database!A:A,Database!B:B)))","v":""},{"$f":"IF(ISNA(A64),\"\",IF(LEN(LOOKUP(B64,Database!A:A,Database!C:C))=0,\"\",LOOKUP(B64,Database!A:A,Database!C:C)))","v":""},{"$f":"IF(ISNA(A64),\"\",IF(LEN(LOOKUP(B64,Database!A:A,Database!D:D))=0,\"\",LOOKUP(B64,Database!A:A,Database!D:D)))","v":""},{"$f":"IF(ISNA(A64),\"\",IF(LEN(LOOKUP(B64,Database!A:A,Database!E:E))=0,\"\",LOOKUP(B64,Database!A:A,Database!E:E)))","v":""},{"$f":"IF(ISNA(A64),\"\",IF(LEN(LOOKUP(B64,Database!A:A,Database!F:F))=0,\"\",LOOKUP(B64,Database!A:A,Database!F:F)))","v":""},{"$f":"IF(ISNA(A64),\"\",IF(LEN(LOOKUP(B64,Database!A:A,Database!G:G))=0,\"\",LOOKUP(B64,Database!A:A,Database!G:G)))","v":""},{"$f":"IF(ISNA(A64),\"\",IF(LEN(LOOKUP(B64,Database!A:A,Database!H:H))=0,\"\",LOOKUP(B64,Database!A:A,Database!H:H)))","v":""},{"$f":"IF(ISNA(A64),\"\",IF(LEN(LOOKUP(B64,Database!A:A,Database!I:I))=0,\"\",LOOKUP(B64,Database!A:A,Database!I:I)))","v":""},{"$f":"IF(ISNA(A64),\"\",IF(LEN(LOOKUP(B64,Database!A:A,Database!J:J))=0,\"\",LOOKUP(B64,Database!A:A,Database!J:J)))","v":""},{"$f":"IF(ISNA(A64),\"\",IF(LEN(LOOKUP(B64,Database!A:A,Database!K:K))=0,\"\",LOOKUP(B64,Database!A:A,Database!K:K)))","v":""},{"$f":"IF(ISNA(A64),\"\",IF(LEN(LOOKUP(B64,Database!A:A,Database!L:L))=0,\"\",LOOKUP(B64,Database!A:A,Database!L:L)))","v":""},{"$f":"IF(ISNA(A64),\"\",IF(LEN(LOOKUP(B64,Database!A:A,Database!M:M))=0,\"\",LOOKUP(B64,Database!A:A,Database!M:M)))","v":""},{"$f":"IF(ISNA(A64),\"\",IF(LEN(LOOKUP(B64,Database!A:A,Database!N:N))=0,\"\",LOOKUP(B64,Database!A:A,Database!N:N)))","v":""},{"$f":"IF(ISNA(A64),\"\",IF(LEN(LOOKUP(B64,Database!A:A,Database!O:O))=0,\"\",LOOKUP(B64,Database!A:A,Database!O:O)))","v":""},{"$f":"IF(ISNA(A64),\"\",IF(LEN(LOOKUP(B64,Database!A:A,Database!P:P))=0,\"\",LOOKUP(B64,Database!A:A,Database!P:P)))","v":""},{"$f":"IF(ISNA(A64),\"\",IF(LEN(LOOKUP(B64,Database!A:A,Database!Q:Q))=0,\"\",LOOKUP(B64,Database!A:A,Database!Q:Q)))","v":""},{"$f":"IF(ISNA(A64),\"\",IF(LEN(LOOKUP(B64,Database!A:A,Database!R:R))=0,\"\",LOOKUP(B64,Database!A:A,Database!R:R)))","v":""},{"$f":"IF(ISNA(A64),\"\",IF(LEN(LOOKUP(B64,Database!A:A,Database!S:S))=0,\"\",LOOKUP(B64,Database!A:A,Database!S:S)))","v":""},null,null,null,null,null,null,50,0,null,1,0,null,0.1]
[{"$error":"#N/A"},"2018-02-20",{"$f":"IF(ISNA(A65),\"\",IF(LEN(LOOKUP(B65,Database!A:A,Database!B:B))=0,\"\",LOOKUP(B65,Database!A:A,Database!B:B)))","v":""},{"$f":"IF(ISNA(A65),\"\",IF(LEN(LOOKUP(B65,Database!A:A,Database!C:C))=0,\"\",LOOKUP(B65,Database!A:A,Database!C:C)))","v":""},{"$f":"IF(ISNA(A65),\"\",IF(LEN(LOOKUP(B65,Database!A:A,Database!D:D))=0,\"\",LOOKUP(B65,Database!A:A,Database!D:D)))","v":""},{"$f":"IF(ISNA(A65),\"\",IF(LEN(LOOKUP(B65,Database!A:A,Database!E:E))=0,\"\",LOOKUP(B65,Database!A:A,Database!E:E)))","v":""},{"$f":"IF(ISNA(A65),\"\",IF(LEN(LOOKUP(B65,Database!A:A,Database!F:F))=0,\"\",LOOKUP(B65,Database!A:A,Database!F:F)))","v":""},{"$f":"IF(ISNA(A65),\"\",IF(LEN(LOOKUP(B65,Database!A:A,Database!G:G))=0,\"\",LOOKUP(B65,Database!A:A,Database!G:G)))","v":""},{"$f":"IF(ISNA(A65),\"\",IF(LEN(LOOKUP(B65,Database!A:A,Database!H:H))=0,\"\",LOOKUP(B65,Database!A:A,Database!H:H)))","v":""},{"$f":"IF(ISNA(A65),\"\",IF(LEN(LOOKUP(B65,Database!A:A,Database!I:I))=0,\"\",LOOKUP(B65,Database!A:A,Database!I:I)))","v":""},{"$f":"IF(ISNA(A65),\"\",IF(LEN(LOOKUP(B65,Database!A:A,Database!J:J))=0,\"\",LOOKUP(B65,Database!A:A,Database!J:J)))","v":""},{"$f":"IF(ISNA(A65),\"\",IF(LEN(LOOKUP(B65,Database!A:A,Database!K:K))=0,\"\",LOOKUP(B65,Database!A:A,Database!K:K)))","v":""},{"$f":"IF(ISNA(A65),\"\",IF(LEN(LOOKUP(B65,Database!A:A,Database!L:L))=0,\"\",LOOKUP(B65,Database!A:A,Database!L:L)))","v":""},{"$f":"IF(ISNA(A65),\"\",IF(LEN(LOOKUP(B65,Database!A:A,Database!M:M))=0,\"\",LOOKUP(B65,Database!A:A,Database!M:M)))","v":""},{"$f":"IF(ISNA(A65),\"\",IF(LEN(LOOKUP(B65,Database!A:A,Database!N:N))=0,\"\",LOOKUP(B65,Database!A:A,Database!N:N)))","v":""},{"$f":"IF(ISNA(A65),\"\",IF(LEN(LOOKUP(B65,Database!A:A,Database!O:O))=0,\"\",LOOKUP(B65,Database!A:A,Database!O:O)))","v":""},{"$f":"IF(ISNA(A65),\"\",IF(LEN(LOOKUP(B65,Database!A:A,Database!P:P))=0,\"\",LOOKUP(B65,Database!A:A,Database!P:P)))","v":""},{"$f":"IF(ISNA(A65),\"\",IF(LEN(LOOKUP(B65,Database!A:A,Database!Q:Q))=0,\"\",LOOKUP(B65,Database!A:A,Database!Q:Q)))","v":""},{"$f":"IF(ISNA(A65),\"\",IF(LEN(LOOKUP(B65,Database!A:A,Database!R:R))=0,\"\",LOOKUP(B65,Database!A:A,Database!R:R)))","v":""},{"$f":"IF(ISNA(A65),\"\",IF(LEN(LOOKUP(B65,Database!A:A,Database!S:S))=0,\"\",LOOKUP(B65,Database!A:A,Database!S:S)))","v":""},null,null,null,null,null,null,51,0,null,1,0,null,0.1]
[{"$error":"#N/A"},"2018-02-21",{"$f":"IF(ISNA(A66),\"\",IF(LEN(LOOKUP(B66,Database!A:A,Database!B:B))=0,\"\",LOOKUP(B66,Database!A:A,Database!B:B)))","v":""},{"$f":"IF(ISNA(A66),\"\",IF(LEN(LOOKUP(B66,Database!A:A,Database!C:C))=0,\"\",LOOKUP(B66,Database!A:A,Database!C:C)))","v":""},{"$f":"IF(ISNA(A66),\"\",IF(LEN(LOOKUP(B66,Database!A:A,Database!D:D))=0,\"\",LOOKUP(B66,Database!A:A,Database!D:D)))","v":""},{"$f":"IF(ISNA(A66),\"\",IF(LEN(LOOKUP(B66,Database!A:A,Database!E:E))=0,\"\",LOOKUP(B66,Database!A:A,Database!E:E)))","v":""},{"$f":"IF(ISNA(A66),\"\",IF(LEN(LOOKUP(B66,Database!A:A,Database!F:F))=0,\"\",LOOKUP(B66,Database!A:A,Database!F:F)))","v":""},{"$f":"IF(ISNA(A66),\"\",IF(LEN(LOOKUP(B66,Database!A:A,Database!G:G))=0,\"\",LOOKUP(B66,Database!A:A,Database!G:G)))","v":""},{"$f":"IF(ISNA(A66),\"\",IF(LEN(LOOKUP(B66,Database!A:A,Database!H:H))=0,\"\",LOOKUP(B66,Database!A:A,Database!H:H)))","v":""},{"$f":"IF(ISNA(A66),\"\",IF(LEN(LOOKUP(B66,Database!A:A,Database!I:I))=0,\"\",LOOKUP(B66,Database!A:A,Database!I:I)))","v":""},{"$f":"IF(ISNA(A66),\"\",IF(LEN(LOOKUP(B66,Database!A:A,Database!J:J))=0,\"\",LOOKUP(B66,Database!A:A,Database!J:J)))","v":""},{"$f":"IF(ISNA(A66),\"\",IF(LEN(LOOKUP(B66,Database!A:A,Database!K:K))=0,\"\",LOOKUP(B66,Database!A:A,Database!K:K)))","v":""},{"$f":"IF(ISNA(A66),\"\",IF(LEN(LOOKUP(B66,Database!A:A,Database!L:L))=0,\"\",LOOKUP(B66,Database!A:A,Database!L:L)))","v":""},{"$f":"IF(ISNA(A66),\"\",IF(LEN(LOOKUP(B66,Database!A:A,Database!M:M))=0,\"\",LOOKUP(B66,Database!A:A,Database!M:M)))","v":""},{"$f":"IF(ISNA(A66),\"\",IF(LEN(LOOKUP(B66,Database!A:A,Database!N:N))=0,\"\",LOOKUP(B66,Database!A:A,Database!N:N)))","v":""},{"$f":"IF(ISNA(A66),\"\",IF(LEN(LOOKUP(B66,Database!A:A,Database!O:O))=0,\"\",LOOKUP(B66,Database!A:A,Database!O:O)))","v":""},{"$f":"IF(ISNA(A66),\"\",IF(LEN(LOOKUP(B66,Database!A:A,Database!P:P))=0,\"\",LOOKUP(B66,Database!A:A,Database!P:P)))","v":""},{"$f":"IF(ISNA(A66),\"\",IF(LEN(LOOKUP(B66,Database!A:A,Database!Q:Q))=0,\"\",LOOKUP(B66,Database!A:A,Database!Q:Q)))","v":""},{"$f":"IF(ISNA(A66),\"\",IF(LEN(LOOKUP(B66,Database!A:A,Database!R:R))=0,\"\",LOOKUP(B66,Database!A:A,Database!R:R)))","v":""},{"$f":"IF(ISNA(A66),\"\",IF(LEN(LOOKUP(B66,Database!A:A,Database!S:S))=0,\"\",LOOKUP(B66,Database!A:A,Database!S:S)))","v":""},null,null,null,null,null,null,52,0,null,1,0,null,0.1]
[{"$error":"#N/A"},"2018-02-22",{"$f":"IF(ISNA(A67),\"\",IF(LEN(LOOKUP(B67,Database!A:A,Database!B:B))=0,\"\",LOOKUP(B67,Database!A:A,Database!B:B)))","v":""},{"$f":"IF(ISNA(A67),\"\",IF(LEN(LOOKUP(B67,Database!A:A,Database!C:C))=0,\"\",LOOKUP(B67,Database!A:A,Database!C:C)))","v":""},{"$f":"IF(ISNA(A67),\"\",IF(LEN(LOOKUP(B67,Database!A:A,Database!D:D))=0,\"\",LOOKUP(B67,Database!A:A,Database!D:D)))","v":""},{"$f":"IF(ISNA(A67),\"\",IF(LEN(LOOKUP(B67,Database!A:A,Database!E:E))=0,\"\",LOOKUP(B67,Database!A:A,Database!E:E)))","v":""},{"$f":"IF(ISNA(A67),\"\",IF(LEN(LOOKUP(B67,Database!A:A,Database!F:F))=0,\"\",LOOKUP(B67,Database!A:A,Database!F:F)))","v":""},{"$f":"IF(ISNA(A67),\"\",IF(LEN(LOOKUP(B67,Database!A:A,Database!G:G))=0,\"\",LOOKUP(B67,Database!A:A,Database!G:G)))","v":""},{"$f":"IF(ISNA(A67),\"\",IF(LEN(LOOKUP(B67,Database!A:A,Database!H:H))=0,\"\",LOOKUP(B67,Database!A:A,Database!H:H)))","v":""},{"$f":"IF(ISNA(A67),\"\",IF(LEN(LOOKUP(B67,Database!A:A,Database!I:I))=0,\"\",LOOKUP(B67,Database!A:A,Database!I:I)))","v":""},{"$f":"IF(ISNA(A67),\"\",IF(LEN(LOOKUP(B67,Database!A:A,Database!J:J))=0,\"\",LOOKUP(B67,Database!A:A,Database!J:J)))","v":""},{"$f":"IF(ISNA(A67),\"\",IF(LEN(LOOKUP(B67,Database!A:A,Database!K:K))=0,\"\",LOOKUP(B67,Database!A:A,Database!K:K)))","v":""},{"$f":"IF(ISNA(A67),\"\",IF(LEN(LOOKUP(B67,Database!A:A,Database!L:L))=0,\"\",LOOKUP(B67,Database!A:A,Database!L:L)))","v":""},{"$f":"IF(ISNA(A67),\"\",IF(LEN(LOOKUP(B67,Database!A:A,Database!M:M))=0,\"\",LOOKUP(B67,Database!A:A,Database!M:M)))","v":""},{"$f":"IF(ISNA(A67),\"\",IF(LEN(LOOKUP(B67,Database!A:A,Database!N:N))=0,\"\",LOOKUP(B67,Database!A:A,Database!N:N)))","v":""},{"$f":"IF(ISNA(A67),\"\",IF(LEN(LOOKUP(B67,Database!A:A,Database!O:O))=0,\"\",LOOKUP(B67,Database!A:A,Database!O:O)))","v":""},{"$f":"IF(ISNA(A67),\"\",IF(LEN(LOOKUP(B67,Database!A:A,Database!P:P))=0,\"\",LOOKUP(B67,Database!A:A,Database!P:P)))","v":""},{"$f":"IF(ISNA(A67),\"\",IF(LEN(LOOKUP(B67,Database!A:A,Database!Q:Q))=0,\"\",LOOKUP(B67,Database!A:A,Database!Q:Q)))","v":""},{"$f":"IF(ISNA(A67),\"\",IF(LEN(LOOKUP(B67,Database!A:A,Database!R:R))=0,\"\",LOOKUP(B67,Database!A:A,Database!R:R)))","v":""},{"$f":"IF(ISNA(A67),\"\",IF(LEN(LOOKUP(B67,Database!A:A,Database!S:S))=0,\"\",LOOKUP(B67,Database!A:A,Database!S:S)))","v":""},null,null,null,null,null,null,53,0,null,1,0,null,0.1]
[{"$error":"#N/A"},"2018-02-23",{"$f":"IF(ISNA(A68),\"\",IF(LEN(LOOKUP(B68,Database!A:A,Database!B:B))=0,\"\",LOOKUP(B68,Database!A:A,Database!B:B)))","v":""},{"$f":"IF(ISNA(A68),\"\",IF(LEN(LOOKUP(B68,Database!A:A,Database!C:C))=0,\"\",LOOKUP(B68,Database!A:A,Database!C:C)))","v":""},{"$f":"IF(ISNA(A68),\"\",IF(LEN(LOOKUP(B68,Database!A:A,Database!D:D))=0,\"\",LOOKUP(B68,Database!A:A,Database!D:D)))","v":""},{"$f":"IF(ISNA(A68),\"\",IF(LEN(LOOKUP(B68,Database!A:A,Database!E:E))=0,\"\",LOOKUP(B68,Database!A:A,Database!E:E)))","v":""},{"$f":"IF(ISNA(A68),\"\",IF(LEN(LOOKUP(B68,Database!A:A,Database!F:F))=0,\"\",LOOKUP(B68,Database!A:A,Database!F:F)))","v":""},{"$f":"IF(ISNA(A68),\"\",IF(LEN(LOOKUP(B68,Database!A:A,Database!G:G))=0,\"\",LOOKUP(B68,Database!A:A,Database!G:G)))","v":""},{"$f":"IF(ISNA(A68),\"\",IF(LEN(LOOKUP(B68,Database!A:A,Database!H:H))=0,\"\",LOOKUP(B68,Database!A:A,Database!H:H)))","v":""},{"$f":"IF(ISNA(A68),\"\",IF(LEN(LOOKUP(B68,Database!A:A,Database!I:I))=0,\"\",LOOKUP(B68,Database!A:A,Database!I:I)))","v":""},{"$f":"IF(ISNA(A68),\"\",IF(LEN(LOOKUP(B68,Database!A:A,Database!J:J))=0,\"\",LOOKUP(B68,Database!A:A,Database!J:J)))","v":""},{"$f":"IF(ISNA(A68),\"\",IF(LEN(LOOKUP(B68,Database!A:A,Database!K:K))=0,\"\",LOOKUP(B68,Database!A:A,Database!K:K)))","v":""},{"$f":"IF(ISNA(A68),\"\",IF(LEN(LOOKUP(B68,Database!A:A,Database!L:L))=0,\"\",LOOKUP(B68,Database!A:A,Database!L:L)))","v":""},{"$f":"IF(ISNA(A68),\"\",IF(LEN(LOOKUP(B68,Database!A:A,Database!M:M))=0,\"\",LOOKUP(B68,Database!A:A,Database!M:M)))","v":""},{"$f":"IF(ISNA(A68),\"\",IF(LEN(LOOKUP(B68,Database!A:A,Database!N:N))=0,\"\",LOOKUP(B68,Database!A:A,Database!N:N)))","v":""},{"$f":"IF(ISNA(A68),\"\",IF(LEN(LOOKUP(B68,Database!A:A,Database!O:O))=0,\"\",LOOKUP(B68,Database!A:A,Database!O:O)))","v":""},{"$f":"IF(ISNA(A68),\"\",IF(LEN(LOOKUP(B68,Database!A:A,Database!P:P))=0,\"\",LOOKUP(B68,Database!A:A,Database!P:P)))","v":""},{"$f":"IF(ISNA(A68),\"\",IF(LEN(LOOKUP(B68,Database!A:A,Database!Q:Q))=0,\"\",LOOKUP(B68,Database!A:A,Database!Q:Q)))","v":""},{"$f":"IF(ISNA(A68),\"\",IF(LEN(LOOKUP(B68,Database!A:A,Database!R:R))=0,\"\",LOOKUP(B68,Database!A:A,Database!R:R)))","v":""},{"$f":"IF(ISNA(A68),\"\",IF(LEN(LOOKUP(B68,Database!A:A,Database!S:S))=0,\"\",LOOKUP(B68,Database!A:A,Database!S:S)))","v":""},null,null,null,null,null,null,54,0,null,1,0,null,0.1]
[{"$error":"#N/A"},"2018-02-24",{"$f":"IF(ISNA(A69),\"\",IF(LEN(LOOKUP(B69,Database!A:A,Database!B:B))=0,\"\",LOOKUP(B69,Database!A:A,Database!B:B)))","v":""},{"$f":"IF(ISNA(A69),\"\",IF(LEN(LOOKUP(B69,Database!A:A,Database!C:C))=0,\"\",LOOKUP(B69,Database!A:A,Database!C:C)))","v":""},{"$f":"IF(ISNA(A69),\"\",IF(LEN(LOOKUP(B69,Database!A:A,Database!D:D))=0,\"\",LOOKUP(B69,Database!A:A,Database!D:D)))","v":""},{"$f":"IF(ISNA(A69),\"\",IF(LEN(LOOKUP(B69,Database!A:A,Database!E:E))=0,\"\",LOOKUP(B69,Database!A:A,Database!E:E)))","v":""},{"$f":"IF(ISNA(A69),\"\",IF(LEN(LOOKUP(B69,Database!A:A,Database!F:F))=0,\"\",LOOKUP(B69,Database!A:A,Database!F:F)))","v":""},{"$f":"IF(ISNA(A69),\"\",IF(LEN(LOOKUP(B69,Database!A:A,Database!G:G))=0,\"\",LOOKUP(B69,Database!A:A,Database!G:G)))","v":""},{"$f":"IF(ISNA(A69),\"\",IF(LEN(LOOKUP(B69,Database!A:A,Database!H:H))=0,\"\",LOOKUP(B69,Database!A:A,Database!H:H)))","v":""},{"$f":"IF(ISNA(A69),\"\",IF(LEN(LOOKUP(B69,Database!A:A,Database!I:I))=0,\"\",LOOKUP(B69,Database!A:A,Database!I:I)))","v":""},{"$f":"IF(ISNA(A69),\"\",IF(LEN(LOOKUP(B69,Database!A:A,Database!J:J))=0,\"\",LOOKUP(B69,Database!A:A,Database!J:J)))","v":""},{"$f":"IF(ISNA(A69),\"\",IF(LEN(LOOKUP(B69,Database!A:A,Database!K:K))=0,\"\",LOOKUP(B69,Database!A:A,Database!K:K)))","v":""},{"$f":"IF(ISNA(A69),\"\",IF(LEN(LOOKUP(B69,Database!A:A,Database!L:L))=0,\"\",LOOKUP(B69,Database!A:A,Database!L:L)))","v":""},{"$f":"IF(ISNA(A69),\"\",IF(LEN(LOOKUP(B69,Database!A:A,Database!M:M))=0,\"\",LOOKUP(B69,Database!A:A,Database!M:M)))","v":""},{"$f":"IF(ISNA(A69),\"\",IF(LEN(LOOKUP(B69,Database!A:A,Database!N:N))=0,\"\",LOOKUP(B69,Database!A:A,Database!N:N)))","v":""},{"$f":"IF(ISNA(A69),\"\",IF(LEN(LOOKUP(B69,Database!A:A,Database!O:O))=0,\"\",LOOKUP(B69,Database!A:A,Database!O:O)))","v":""},{"$f":"IF(ISNA(A69),\"\",IF(LEN(LOOKUP(B69,Database!A:A,Database!P:P))=0,\"\",LOOKUP(B69,Database!A:A,Database!P:P)))","v":""},{"$f":"IF(ISNA(A69),\"\",IF(LEN(LOOKUP(B69,Database!A:A,Database!Q:Q))=0,\"\",LOOKUP(B69,Database!A:A,Database!Q:Q)))","v":""},{"$f":"IF(ISNA(A69),\"\",IF(LEN(LOOKUP(B69,Database!A:A,Database!R:R))=0,\"\",LOOKUP(B69,Database!A:A,Database!R:R)))","v":""},{"$f":"IF(ISNA(A69),\"\",IF(LEN(LOOKUP(B69,Database!A:A,Database!S:S))=0,\"\",LOOKUP(B69,Database!A:A,Database!S:S)))","v":""},null,null,null,null,null,null,55,0,null,1,0,null,0.1]
[{"$error":"#N/A"},"2018-02-25",{"$f":"IF(ISNA(A70),\"\",IF(LEN(LOOKUP(B70,Database!A:A,Database!B:B))=0,\"\",LOOKUP(B70,Database!A:A,Database!B:B)))","v":""},{"$f":"IF(ISNA(A70),\"\",IF(LEN(LOOKUP(B70,Database!A:A,Database!C:C))=0,\"\",LOOKUP(B70,Database!A:A,Database!C:C)))","v":""},{"$f":"IF(ISNA(A70),\"\",IF(LEN(LOOKUP(B70,Database!A:A,Database!D:D))=0,\"\",LOOKUP(B70,Database!A:A,Database!D:D)))","v":""},{"$f":"IF(ISNA(A70),\"\",IF(LEN(LOOKUP(B70,Database!A:A,Database!E:E))=0,\"\",LOOKUP(B70,Database!A:A,Database!E:E)))","v":""},{"$f":"IF(ISNA(A70),\"\",IF(LEN(LOOKUP(B70,Database!A:A,Database!F:F))=0,\"\",LOOKUP(B70,Database!A:A,Database!F:F)))","v":""},{"$f":"IF(ISNA(A70),\"\",IF(LEN(LOOKUP(B70,Database!A:A,Database!G:G))=0,\"\",LOOKUP(B70,Database!A:A,Database!G:G)))","v":""},{"$f":"IF(ISNA(A70),\"\",IF(LEN(LOOKUP(B70,Database!A:A,Database!H:H))=0,\"\",LOOKUP(B70,Database!A:A,Database!H:H)))","v":""},{"$f":"IF(ISNA(A70),\"\",IF(LEN(LOOKUP(B70,Database!A:A,Database!I:I))=0,\"\",LOOKUP(B70,Database!A:A,Database!I:I)))","v":""},{"$f":"IF(ISNA(A70),\"\",IF(LEN(LOOKUP(B70,Database!A:A,Database!J:J))=0,\"\",LOOKUP(B70,Database!A:A,Database!J:J)))","v":""},{"$f":"IF(ISNA(A70),\"\",IF(LEN(LOOKUP(B70,Database!A:A,Database!K:K))=0,\"\",LOOKUP(B70,Database!A:A,Database!K:K)))","v":""},{"$f":"IF(ISNA(A70),\"\",IF(LEN(LOOKUP(B70,Database!A:A,Database!L:L))=0,\"\",LOOKUP(B70,Database!A:A,Database!L:L)))","v":""},{"$f":"IF(ISNA(A70),\"\",IF(LEN(LOOKUP(B70,Database!A:A,Database!M:M))=0,\"\",LOOKUP(B70,Database!A:A,Database!M:M)))","v":""},{"$f":"IF(ISNA(A70),\"\",IF(LEN(LOOKUP(B70,Database!A:A,Database!N:N))=0,\"\",LOOKUP(B70,Database!A:A,Database!N:N)))","v":""},{"$f":"IF(ISNA(A70),\"\",IF(LEN(LOOKUP(B70,Database!A:A,Database!O:O))=0,\"\",LOOKUP(B70,Database!A:A,Database!O:O)))","v":""},{"$f":"IF(ISNA(A70),\"\",IF(LEN(LOOKUP(B70,Database!A:A,Database!P:P))=0,\"\",LOOKUP(B70,Database!A:A,Database!P:P)))","v":""},{"$f":"IF(ISNA(A70),\"\",IF(LEN(LOOKUP(B70,Database!A:A,Database!Q:Q))=0,\"\",LOOKUP(B70,Database!A:A,Database!Q:Q)))","v":""},{"$f":"IF(ISNA(A70),\"\",IF(LEN(LOOKUP(B70,Database!A:A,Database!R:R))=0,\"\",LOOKUP(B70,Database!A:A,Database!R:R)))","v":""},{"$f":"IF(ISNA(A70),\"\",IF(LEN(LOOKUP(B70,Database!A:A,Database!S:S))=0,\"\",LOOKUP(B70,Database!A:A,Database!S:S)))","v":""},null,null,null,null,null,null,56,0,null,1,0,null,0.1]
[{"$error":"#N/A"},"2018-02-26",{"$f":"IF(ISNA(A71),\"\",IF(LEN(LOOKUP(B71,Database!A:A,Database!B:B))=0,\"\",LOOKUP(B71,Database!A:A,Database!B:B)))","v":""},{"$f":"IF(ISNA(A71),\"\",IF(LEN(LOOKUP(B71,Database!A:A,Database!C:C))=0,\"\",LOOKUP(B71,Database!A:A,Database!C:C)))","v":""},{"$f":"IF(ISNA(A71),\"\",IF(LEN(LOOKUP(B71,Database!A:A,Database!D:D))=0,\"\",LOOKUP(B71,Database!A:A,Database!D:D)))","v":""},{"$f":"IF(ISNA(A71),\"\",IF(LEN(LOOKUP(B71,Database!A:A,Database!E:E))=0,\"\",LOOKUP(B71,Database!A:A,Database!E:E)))","v":""},{"$f":"IF(ISNA(A71),\"\",IF(LEN(LOOKUP(B71,Database!A:A,Database!F:F))=0,\"\",LOOKUP(B71,Database!A:A,Database!F:F)))","v":""},{"$f":"IF(ISNA(A71),\"\",IF(LEN(LOOKUP(B71,Database!A:A,Database!G:G))=0,\"\",LOOKUP(B71,Database!A:A,Database!G:G)))","v":""},{"$f":"IF(ISNA(A71),\"\",IF(LEN(LOOKUP(B71,Database!A:A,Database!H:H))=0,\"\",LOOKUP(B71,Database!A:A,Database!H:H)))","v":""},{"$f":"IF(ISNA(A71),\"\",IF(LEN(LOOKUP(B71,Database!A:A,Database!I:I))=0,\"\",LOOKUP(B71,Database!A:A,Database!I:I)))","v":""},{"$f":"IF(ISNA(A71),\"\",IF(LEN(LOOKUP(B71,Database!A:A,Database!J:J))=0,\"\",LOOKUP(B71,Database!A:A,Database!J:J)))","v":""},{"$f":"IF(ISNA(A71),\"\",IF(LEN(LOOKUP(B71,Database!A:A,Database!K:K))=0,\"\",LOOKUP(B71,Database!A:A,Database!K:K)))","v":""},{"$f":"IF(ISNA(A71),\"\",IF(LEN(LOOKUP(B71,Database!A:A,Database!L:L))=0,\"\",LOOKUP(B71,Database!A:A,Database!L:L)))","v":""},{"$f":"IF(ISNA(A71),\"\",IF(LEN(LOOKUP(B71,Database!A:A,Database!M:M))=0,\"\",LOOKUP(B71,Database!A:A,Database!M:M)))","v":""},{"$f":"IF(ISNA(A71),\"\",IF(LEN(LOOKUP(B71,Database!A:A,Database!N:N))=0,\"\",LOOKUP(B71,Database!A:A,Database!N:N)))","v":""},{"$f":"IF(ISNA(A71),\"\",IF(LEN(LOOKUP(B71,Database!A:A,Database!O:O))=0,\"\",LOOKUP(B71,Database!A:A,Database!O:O)))","v":""},{"$f":"IF(ISNA(A71),\"\",IF(LEN(LOOKUP(B71,Database!A:A,Database!P:P))=0,\"\",LOOKUP(B71,Database!A:A,Database!P:P)))","v":""},{"$f":"IF(ISNA(A71),\"\",IF(LEN(LOOKUP(B71,Database!A:A,Database!Q:Q))=0,\"\",LOOKUP(B71,Database!A:A,Database!Q:Q)))","v":""},{"$f":"IF(ISNA(A71),\"\",IF(LEN(LOOKUP(B71,Database!A:A,Database!R:R))=0,\"\",LOOKUP(B71,Database!A:A,Database!R:R)))","v":""},{"$f":"IF(ISNA(A71),\"\",IF(LEN(LOOKUP(B71,Database!A:A,Database!S:S))=0,\"\",LOOKUP(B71,Database!A:A,Database!S:S)))","v":""},null,null,null,null,null,null,57,0,null,1,0,null,0.1]
[{"$error":"#N/A"},"2018-02-27",{"$f":"IF(ISNA(A72),\"\",IF(LEN(LOOKUP(B72,Database!A:A,Database!B:B))=0,\"\",LOOKUP(B72,Database!A:A,Database!B:B)))","v":""},{"$f":"IF(ISNA(A72),\"\",IF(LEN(LOOKUP(B72,Database!A:A,Database!C:C))=0,\"\",LOOKUP(B72,Database!A:A,Database!C:C)))","v":""},{"$f":"IF(ISNA(A72),\"\",IF(LEN(LOOKUP(B72,Database!A:A,Database!D:D))=0,\"\",LOOKUP(B72,Database!A:A,Database!D:D)))","v":""},{"$f":"IF(ISNA(A72),\"\",IF(LEN(LOOKUP(B72,Database!A:A,Database!E:E))=0,\"\",LOOKUP(B72,Database!A:A,Database!E:E)))","v":""},{"$f":"IF(ISNA(A72),\"\",IF(LEN(LOOKUP(B72,Database!A:A,Database!F:F))=0,\"\",LOOKUP(B72,Database!A:A,Database!F:F)))","v":""},{"$f":"IF(ISNA(A72),\"\",IF(LEN(LOOKUP(B72,Database!A:A,Database!G:G))=0,\"\",LOOKUP(B72,Database!A:A,Database!G:G)))","v":""},{"$f":"IF(ISNA(A72),\"\",IF(LEN(LOOKUP(B72,Database!A:A,Database!H:H))=0,\"\",LOOKUP(B72,Database!A:A,Database!H:H)))","v":""},{"$f":"IF(ISNA(A72),\"\",IF(LEN(LOOKUP(B72,Database!A:A,Database!I:I))=0,\"\",LOOKUP(B72,Database!A:A,Database!I:I)))","v":""},{"$f":"IF(ISNA(A72),\"\",IF(LEN(LOOKUP(B72,Database!A:A,Database!J:J))=0,\"\",LOOKUP(B72,Database!A:A,Database!J:J)))","v":""},{"$f":"IF(ISNA(A72),\"\",IF(LEN(LOOKUP(B72,Database!A:A,Database!K:K))=0,\"\",LOOKUP(B72,Database!A:A,Database!K:K)))","v":""},{"$f":"IF(ISNA(A72),\"\",IF(LEN(LOOKUP(B72,Database!A:A,Database!L:L))=0,\"\",LOOKUP(B72,Database!A:A,Database!L:L)))","v":""},{"$f":"IF(ISNA(A72),\"\",IF(LEN(LOOKUP(B72,Database!A:A,Database!M:M))=0,\"\",LOOKUP(B72,Database!A:A,Database!M:M)))","v":""},{"$f":"IF(ISNA(A72),\"\",IF(LEN(LOOKUP(B72,Database!A:A,Database!N:N))=0,\"\",LOOKUP(B72,Database!A:A,Database!N:N)))","v":""},{"$f":"IF(ISNA(A72),\"\",IF(LEN(LOOKUP(B72,Database!A:A,Database!O:O))=0,\"\",LOOKUP(B72,Database!A:A,Database!O:O)))","v":""},{"$f":"IF(ISNA(A72),\"\",IF(LEN(LOOKUP(B72,Database!A:A,Database!P:P))=0,\"\",LOOKUP(B72,Database!A:A,Database!P:P)))","v":""},{"$f":"IF(ISNA(A72),\"\",IF(LEN(LOOKUP(B72,Database!A:A,Database!Q:Q))=0,\"\",LOOKUP(B72,Database!A:A,Database!Q:Q)))","v":""},{"$f":"IF(ISNA(A72),\"\",IF(LEN(LOOKUP(B72,Database!A:A,Database!R:R))=0,\"\",LOOKUP(B72,Database!A:A,Database!R:R)))","v":""},{"$f":"IF(ISNA(A72),\"\",IF(LEN(LOOKUP(B72,Database!A:A,Database!S:S))=0,\"\",LOOKUP(B72,Database!A:A,Database!S:S)))","v":""},null,null,null,null,null,null,58,0,null,1,0,null,0.1]
[{"$error":"#N/A"},"2018-02-28",{"$f":"IF(ISNA(A73),\"\",IF(LEN(LOOKUP(B73,Database!A:A,Database!B:B))=0,\"\",LOOKUP(B73,Database!A:A,Database!B:B)))","v":""},{"$f":"IF(ISNA(A73),\"\",IF(LEN(LOOKUP(B73,Database!A:A,Database!C:C))=0,\"\",LOOKUP(B73,Database!A:A,Database!C:C)))","v":""},{"$f":"IF(ISNA(A73),\"\",IF(LEN(LOOKUP(B73,Database!A:A,Database!D:D))=0,\"\",LOOKUP(B73,Database!A:A,Database!D:D)))","v":""},{"$f":"IF(ISNA(A73),\"\",IF(LEN(LOOKUP(B73,Database!A:A,Database!E:E))=0,\"\",LOOKUP(B73,Database!A:A,Database!E:E)))","v":""},{"$f":"IF(ISNA(A73),\"\",IF(LEN(LOOKUP(B73,Database!A:A,Database!F:F))=0,\"\",LOOKUP(B73,Database!A:A,Database!F:F)))","v":""},{"$f":"IF(ISNA(A73),\"\",IF(LEN(LOOKUP(B73,Database!A:A,Database!G:G))=0,\"\",LOOKUP(B73,Database!A:A,Database!G:G)))","v":""},{"$f":"IF(ISNA(A73),\"\",IF(LEN(LOOKUP(B73,Database!A:A,Database!H:H))=0,\"\",LOOKUP(B73,Database!A:A,Database!H:H)))","v":""},{"$f":"IF(ISNA(A73),\"\",IF(LEN(LOOKUP(B73,Database!A:A,Database!I:I))=0,\"\",LOOKUP(B73,Database!A:A,Database!I:I)))","v":""},{"$f":"IF(ISNA(A73),\"\",IF(LEN(LOOKUP(B73,Database!A:A,Database!J:J))=0,\"\",LOOKUP(B73,Database!A:A,Database!J:J)))","v":""},{"$f":"IF(ISNA(A73),\"\",IF(LEN(LOOKUP(B73,Database!A:A,Database!K:K))=0,\"\",LOOKUP(B73,Database!A:A,Database!K:K)))","v":""},{"$f":"IF(ISNA(A73),\"\",IF(LEN(LOOKUP(B73,Database!A:A,Database!L:L))=0,\"\",LOOKUP(B73,Database!A:A,Database!L:L)))","v":""},{"$f":"IF(ISNA(A73),\"\",IF(LEN(LOOKUP(B73,Database!A:A,Database!M:M))=0,\"\",LOOKUP(B73,Database!A:A,Database!M:M)))","v":""},{"$f":"IF(ISNA(A73),\"\",IF(LEN(LOOKUP(B73,Database!A:A,Database!N:N))=0,\"\",LOOKUP(B73,Database!A:A,Database!N:N)))","v":""},{"$f":"IF(ISNA(A73),\"\",IF(LEN(LOOKUP(B73,Database!A:A,Database!O:O))=0,\"\",LOOKUP(B73,Database!A:A,Database!O:O)))","v":""},{"$f":"IF(ISNA(A73),\"\",IF(LEN(LOOKUP(B73,Database!A:A,Database!P:P))=0,\"\",LOOKUP(B73,Database!A:A,Database!P:P)))","v":""},{"$f":"IF(ISNA(A73),\"\",IF(LEN(LOOKUP(B73,Database!A:A,Database!Q:Q))=0,\"\",LOOKUP(B73,Database!A:A,Database!Q:Q)))","v":""},{"$f":"IF(ISNA(A73),\"\",IF(LEN(LOOKUP(B73,Database!A:A,Database!R:R))=0,\"\",LOOKUP(B73,Database!A:A,Database!R:R)))","v":""},{"$f":"IF(ISNA(A73),\"\",IF(LEN(LOOKUP(B73,Database!A:A,Database!S:S))=0,\"\",LOOKUP(B73,Database!A:A,Database!S:S)))","v":""},null,null,null,null,null,null,59,0,null,1,0,null,0.1]
[{"$error":"#N/A"},"2018-03-01",{"$f":"IF(ISNA(A74),\"\",IF(LEN(LOOKUP(B74,Database!A:A,Database!B:B))=0,\"\",LOOKUP(B74,Database!A:A,Database!B:B)))","v":""},{"$f":"IF(ISNA(A74),\"\",IF(LEN(LOOKUP(B74,Database!A:A,Database!C:C))=0,\"\",LOOKUP(B74,Database!A:A,Database!C:C)))","v":""},{"$f":"IF(ISNA(A74),\"\",IF(LEN(LOOKUP(B74,Database!A:A,Database!D:D))=0,\"\",LOOKUP(B74,Database!A:A,Database!D:D)))","v":""},{"$f":"IF(ISNA(A74),\"\",IF(LEN(LOOKUP(B74,Database!A:A,Database!E:E))=0,\"\",LOOKUP(B74,Database!A:A,Database!E:E)))","v":""},{"$f":"IF(ISNA(A74),\"\",IF(LEN(LOOKUP(B74,Database!A:A,Database!F:F))=0,\"\",LOOKUP(B74,Database!A:A,Database!F:F)))","v":""},{"$f":"IF(ISNA(A74),\"\",IF(LEN(LOOKUP(B74,Database!A:A,Database!G:G))=0,\"\",LOOKUP(B74,Database!A:A,Database!G:G)))","v":""},{"$f":"IF(ISNA(A74),\"\",IF(LEN(LOOKUP(B74,Database!A:A,Database!H:H))=0,\"\",LOOKUP(B74,Database!A:A,Database!H:H)))","v":""},{"$f":"IF(ISNA(A74),\"\",IF(LEN(LOOKUP(B74,Database!A:A,Database!I:I))=0,\"\",LOOKUP(B74,Database!A:A,Database!I:I)))","v":""},{"$f":"IF(ISNA(A74),\"\",IF(LEN(LOOKUP(B74,Database!A:A,Database!J:J))=0,\"\",LOOKUP(B74,Database!A:A,Database!J:J)))","v":""},{"$f":"IF(ISNA(A74),\"\",IF(LEN(LOOKUP(B74,Database!A:A,Database!K:K))=0,\"\",LOOKUP(B74,Database!A:A,Database!K:K)))","v":""},{"$f":"IF(ISNA(A74),\"\",IF(LEN(LOOKUP(B74,Database!A:A,Database!L:L))=0,\"\",LOOKUP(B74,Database!A:A,Database!L:L)))","v":""},{"$f":"IF(ISNA(A74),\"\",IF(LEN(LOOKUP(B74,Database!A:A,Database!M:M))=0,\"\",LOOKUP(B74,Database!A:A,Database!M:M)))","v":""},{"$f":"IF(ISNA(A74),\"\",IF(LEN(LOOKUP(B74,Database!A:A,Database!N:N))=0,\"\",LOOKUP(B74,Database!A:A,Database!N:N)))","v":""},{"$f":"IF(ISNA(A74),\"\",IF(LEN(LOOKUP(B74,Database!A:A,Database!O:O))=0,\"\",LOOKUP(B74,Database!A:A,Database!O:O)))","v":""},{"$f":"IF(ISNA(A74),\"\",IF(LEN(LOOKUP(B74,Database!A:A,Database!P:P))=0,\"\",LOOKUP(B74,Database!A:A,Database!P:P)))","v":""},{"$f":"IF(ISNA(A74),\"\",IF(LEN(LOOKUP(B74,Database!A:A,Database!Q:Q))=0,\"\",LOOKUP(B74,Database!A:A,Database!Q:Q)))","v":""},{"$f":"IF(ISNA(A74),\"\",IF(LEN(LOOKUP(B74,Database!A:A,Database!R:R))=0,\"\",LOOKUP(B74,Database!A:A,Database!R:R)))","v":""},{"$f":"IF(ISNA(A74),\"\",IF(LEN(LOOKUP(B74,Database!A:A,Database!S:S))=0,\"\",LOOKUP(B74,Database!A:A,Database!S:S)))","v":""},null,null,null,null,null,null,60,0,null,1,0,null,0.1]
[{"$error":"#N/A"},"2018-03-02",{"$f":"IF(ISNA(A75),\"\",IF(LEN(LOOKUP(B75,Database!A:A,Database!B:B))=0,\"\",LOOKUP(B75,Database!A:A,Database!B:B)))","v":""},{"$f":"IF(ISNA(A75),\"\",IF(LEN(LOOKUP(B75,Database!A:A,Database!C:C))=0,\"\",LOOKUP(B75,Database!A:A,Database!C:C)))","v":""},{"$f":"IF(ISNA(A75),\"\",IF(LEN(LOOKUP(B75,Database!A:A,Database!D:D))=0,\"\",LOOKUP(B75,Database!A:A,Database!D:D)))","v":""},{"$f":"IF(ISNA(A75),\"\",IF(LEN(LOOKUP(B75,Database!A:A,Database!E:E))=0,\"\",LOOKUP(B75,Database!A:A,Database!E:E)))","v":""},{"$f":"IF(ISNA(A75),\"\",IF(LEN(LOOKUP(B75,Database!A:A,Database!F:F))=0,\"\",LOOKUP(B75,Database!A:A,Database!F:F)))","v":""},{"$f":"IF(ISNA(A75),\"\",IF(LEN(LOOKUP(B75,Database!A:A,Database!G:G))=0,\"\",LOOKUP(B75,Database!A:A,Database!G:G)))","v":""},{"$f":"IF(ISNA(A75),\"\",IF(LEN(LOOKUP(B75,Database!A:A,Database!H:H))=0,\"\",LOOKUP(B75,Database!A:A,Database!H:H)))","v":""},{"$f":"IF(ISNA(A75),\"\",IF(LEN(LOOKUP(B75,Database!A:A,Database!I:I))=0,\"\",LOOKUP(B75,Database!A:A,Database!I:I)))","v":""},{"$f":"IF(ISNA(A75),\"\",IF(LEN(LOOKUP(B75,Database!A:A,Database!J:J))=0,\"\",LOOKUP(B75,Database!A:A,Database!J:J)))","v":""},{"$f":"IF(ISNA(A75),\"\",IF(LEN(LOOKUP(B75,Database!A:A,Database!K:K))=0,\"\",LOOKUP(B75,Database!A:A,Database!K:K)))","v":""},{"$f":"IF(ISNA(A75),\"\",IF(LEN(LOOKUP(B75,Database!A:A,Database!L:L))=0,\"\",LOOKUP(B75,Database!A:A,Database!L:L)))","v":""},{"$f":"IF(ISNA(A75),\"\",IF(LEN(LOOKUP(B75,Database!A:A,Database!M:M))=0,\"\",LOOKUP(B75,Database!A:A,Database!M:M)))","v":""},{"$f":"IF(ISNA(A75),\"\",IF(LEN(LOOKUP(B75,Database!A:A,Database!N:N))=0,\"\",LOOKUP(B75,Database!A:A,Database!N:N)))","v":""},{"$f":"IF(ISNA(A75),\"\",IF(LEN(LOOKUP(B75,Database!A:A,Database!O:O))=0,\"\",LOOKUP(B75,Database!A:A,Database!O:O)))","v":""},{"$f":"IF(ISNA(A75),\"\",IF(LEN(LOOKUP(B75,Database!A:A,Database!P:P))=0,\"\",LOOKUP(B75,Database!A:A,Database!P:P)))","v":""},{"$f":"IF(ISNA(A75),\"\",IF(LEN(LOOKUP(B75,Database!A:A,Database!Q:Q))=0,\"\",LOOKUP(B75,Database!A:A,Database!Q:Q)))","v":""},{"$f":"IF(ISNA(A75),\"\",IF(LEN(LOOKUP(B75,Database!A:A,Database!R:R))=0,\"\",LOOKUP(B75,Database!A:A,Database!R:R)))","v":""},{"$f":"IF(ISNA(A75),\"\",IF(LEN(LOOKUP(B75,Database!A:A,Database!S:S))=0,\"\",LOOKUP(B75,Database!A:A,Database!S:S)))","v":""},null,null,null,null,null,null,61,0,null,1,0,null,0.1]
[{"$error":"#N/A"},"2018-03-03",{"$f":"IF(ISNA(A76),\"\",IF(LEN(LOOKUP(B76,Database!A:A,Database!B:B))=0,\"\",LOOKUP(B76,Database!A:A,Database!B:B)))","v":""},{"$f":"IF(ISNA(A76),\"\",IF(LEN(LOOKUP(B76,Database!A:A,Database!C:C))=0,\"\",LOOKUP(B76,Database!A:A,Database!C:C)))","v":""},{"$f":"IF(ISNA(A76),\"\",IF(LEN(LOOKUP(B76,Database!A:A,Database!D:D))=0,\"\",LOOKUP(B76,Database!A:A,Database!D:D)))","v":""},{"$f":"IF(ISNA(A76),\"\",IF(LEN(LOOKUP(B76,Database!A:A,Database!E:E))=0,\"\",LOOKUP(B76,Database!A:A,Database!E:E)))","v":""},{"$f":"IF(ISNA(A76),\"\",IF(LEN(LOOKUP(B76,Database!A:A,Database!F:F))=0,\"\",LOOKUP(B76,Database!A:A,Database!F:F)))","v":""},{"$f":"IF(ISNA(A76),\"\",IF(LEN(LOOKUP(B76,Database!A:A,Database!G:G))=0,\"\",LOOKUP(B76,Database!A:A,Database!G:G)))","v":""},{"$f":"IF(ISNA(A76),\"\",IF(LEN(LOOKUP(B76,Database!A:A,Database!H:H))=0,\"\",LOOKUP(B76,Database!A:A,Database!H:H)))","v":""},{"$f":"IF(ISNA(A76),\"\",IF(LEN(LOOKUP(B76,Database!A:A,Database!I:I))=0,\"\",LOOKUP(B76,Database!A:A,Database!I:I)))","v":""},{"$f":"IF(ISNA(A76),\"\",IF(LEN(LOOKUP(B76,Database!A:A,Database!J:J))=0,\"\",LOOKUP(B76,Database!A:A,Database!J:J)))","v":""},{"$f":"IF(ISNA(A76),\"\",IF(LEN(LOOKUP(B76,Database!A:A,Database!K:K))=0,\"\",LOOKUP(B76,Database!A:A,Database!K:K)))","v":""},{"$f":"IF(ISNA(A76),\"\",IF(LEN(LOOKUP(B76,Database!A:A,Database!L:L))=0,\"\",LOOKUP(B76,Database!A:A,Database!L:L)))","v":""},{"$f":"IF(ISNA(A76),\"\",IF(LEN(LOOKUP(B76,Database!A:A,Database!M:M))=0,\"\",LOOKUP(B76,Database!A:A,Database!M:M)))","v":""},{"$f":"IF(ISNA(A76),\"\",IF(LEN(LOOKUP(B76,Database!A:A,Database!N:N))=0,\"\",LOOKUP(B76,Database!A:A,Database!N:N)))","v":""},{"$f":"IF(ISNA(A76),\"\",IF(LEN(LOOKUP(B76,Database!A:A,Database!O:O))=0,\"\",LOOKUP(B76,Database!A:A,Database!O:O)))","v":""},{"$f":"IF(ISNA(A76),\"\",IF(LEN(LOOKUP(B76,Database!A:A,Database!P:P))=0,\"\",LOOKUP(B76,Database!A:A,Database!P:P)))","v":""},{"$f":"IF(ISNA(A76),\"\",IF(LEN(LOOKUP(B76,Database!A:A,Database!Q:Q))=0,\"\",LOOKUP(B76,Database!A:A,Database!Q:Q)))","v":""},{"$f":"IF(ISNA(A76),\"\",IF(LEN(LOOKUP(B76,Database!A:A,Database!R:R))=0,\"\",LOOKUP(B76,Database!A:A,Database!R:R)))","v":""},{"$f":"IF(ISNA(A76),\"\",IF(LEN(LOOKUP(B76,Database!A:A,Database!S:S))=0,\"\",LOOKUP(B76,Database!A:A,Database!S:S)))","v":""},null,null,null,null,null,null,62,0,null,1,0,null,0.1]
[{"$error":"#N/A"},"2018-03-04",{"$f":"IF(ISNA(A77),\"\",IF(LEN(LOOKUP(B77,Database!A:A,Database!B:B))=0,\"\",LOOKUP(B77,Database!A:A,Database!B:B)))","v":""},{"$f":"IF(ISNA(A77),\"\",IF(LEN(LOOKUP(B77,Database!A:A,Database!C:C))=0,\"\",LOOKUP(B77,Database!A:A,Database!C:C)))","v":""},{"$f":"IF(ISNA(A77),\"\",IF(LEN(LOOKUP(B77,Database!A:A,Database!D:D))=0,\"\",LOOKUP(B77,Database!A:A,Database!D:D)))","v":""},{"$f":"IF(ISNA(A77),\"\",IF(LEN(LOOKUP(B77,Database!A:A,Database!E:E))=0,\"\",LOOKUP(B77,Database!A:A,Database!E:E)))","v":""},{"$f":"IF(ISNA(A77),\"\",IF(LEN(LOOKUP(B77,Database!A:A,Database!F:F))=0,\"\",LOOKUP(B77,Database!A:A,Database!F:F)))","v":""},{"$f":"IF(ISNA(A77),\"\",IF(LEN(LOOKUP(B77,Database!A:A,Database!G:G))=0,\"\",LOOKUP(B77,Database!A:A,Database!G:G)))","v":""},{"$f":"IF(ISNA(A77),\"\",IF(LEN(LOOKUP(B77,Database!A:A,Database!H:H))=0,\"\",LOOKUP(B77,Database!A:A,Database!H:H)))","v":""},{"$f":"IF(ISNA(A77),\"\",IF(LEN(LOOKUP(B77,Database!A:A,Database!I:I))=0,\"\",LOOKUP(B77,Database!A:A,Database!I:I)))","v":""},{"$f":"IF(ISNA(A77),\"\",IF(LEN(LOOKUP(B77,Database!A:A,Database!J:J))=0,\"\",LOOKUP(B77,Database!A:A,Database!J:J)))","v":""},{"$f":"IF(ISNA(A77),\"\",IF(LEN(LOOKUP(B77,Database!A:A,Database!K:K))=0,\"\",LOOKUP(B77,Database!A:A,Database!K:K)))","v":""},{"$f":"IF(ISNA(A77),\"\",IF(LEN(LOOKUP(B77,Database!A:A,Database!L:L))=0,\"\",LOOKUP(B77,Database!A:A,Database!L:L)))","v":""},{"$f":"IF(ISNA(A77),\"\",IF(LEN(LOOKUP(B77,Database!A:A,Database!M:M))=0,\"\",LOOKUP(B77,Database!A:A,Database!M:M)))","v":""},{"$f":"IF(ISNA(A77),\"\",IF(LEN(LOOKUP(B77,Database!A:A,Database!N:N))=0,\"\",LOOKUP(B77,Database!A:A,Database!N:N)))","v":""},{"$f":"IF(ISNA(A77),\"\",IF(LEN(LOOKUP(B77,Database!A:A,Database!O:O))=0,\"\",LOOKUP(B77,Database!A:A,Database!O:O)))","v":""},{"$f":"IF(ISNA(A77),\"\",IF(LEN(LOOKUP(B77,Database!A:A,Database!P:P))=0,\"\",LOOKUP(B77,Database!A:A,Database!P:P)))","v":""},{"$f":"IF(ISNA(A77),\"\",IF(LEN(LOOKUP(B77,Database!A:A,Database!Q:Q))=0,\"\",LOOKUP(B77,Database!A:A,Database!Q:Q)))","v":""},{"$f":"IF(ISNA(A77),\"\",IF(LEN(LOOKUP(B77,Database!A:A,Database!R:R))=0,\"\",LOOKUP(B77,Database!A:A,Database!R:R)))","v":""},{"$f":"IF(ISNA(A77),\"\",IF(LEN(LOOKUP(B77,Database!A:A,Database!S:S))=0,\"\",LOOKUP(B77,Database!A:A,Database!S:S)))","v":""},null,null,null,null,null,null,63,0,null,1,0,null,0.1]
[{"$error":"#N/A"},"2018-03-05",{"$f":"IF(ISNA(A78),\"\",IF(LEN(LOOKUP(B78,Database!A:A,Database!B:B))=0,\"\",LOOKUP(B78,Database!A:A,Database!B:B)))","v":""},{"$f":"IF(ISNA(A78),\"\",IF(LEN(LOOKUP(B78,Database!A:A,Database!C:C))=0,\"\",LOOKUP(B78,Database!A:A,Database!C:C)))","v":""},{"$f":"IF(ISNA(A78),\"\",IF(LEN(LOOKUP(B78,Database!A:A,Database!D:D))=0,\"\",LOOKUP(B78,Database!A:A,Database!D:D)))","v":""},{"$f":"IF(ISNA(A78),\"\",IF(LEN(LOOKUP(B78,Database!A:A,Database!E:E))=0,\"\",LOOKUP(B78,Database!A:A,Database!E:E)))","v":""},{"$f":"IF(ISNA(A78),\"\",IF(LEN(LOOKUP(B78,Database!A:A,Database!F:F))=0,\"\",LOOKUP(B78,Database!A:A,Database!F:F)))","v":""},{"$f":"IF(ISNA(A78),\"\",IF(LEN(LOOKUP(B78,Database!A:A,Database!G:G))=0,\"\",LOOKUP(B78,Database!A:A,Database!G:G)))","v":""},{"$f":"IF(ISNA(A78),\"\",IF(LEN(LOOKUP(B78,Database!A:A,Database!H:H))=0,\"\",LOOKUP(B78,Database!A:A,Database!H:H)))","v":""},{"$f":"IF(ISNA(A78),\"\",IF(LEN(LOOKUP(B78,Database!A:A,Database!I:I))=0,\"\",LOOKUP(B78,Database!A:A,Database!I:I)))","v":""},{"$f":"IF(ISNA(A78),\"\",IF(LEN(LOOKUP(B78,Database!A:A,Database!J:J))=0,\"\",LOOKUP(B78,Database!A:A,Database!J:J)))","v":""},{"$f":"IF(ISNA(A78),\"\",IF(LEN(LOOKUP(B78,Database!A:A,Database!K:K))=0,\"\",LOOKUP(B78,Database!A:A,Database!K:K)))","v":""},{"$f":"IF(ISNA(A78),\"\",IF(LEN(LOOKUP(B78,Database!A:A,Database!L:L))=0,\"\",LOOKUP(B78,Database!A:A,Database!L:L)))","v":""},{"$f":"IF(ISNA(A78),\"\",IF(LEN(LOOKUP(B78,Database!A:A,Database!M:M))=0,\"\",LOOKUP(B78,Database!A:A,Database!M:M)))","v":""},{"$f":"IF(ISNA(A78),\"\",IF(LEN(LOOKUP(B78,Database!A:A,Database!N:N))=0,\"\",LOOKUP(B78,Database!A:A,Database!N:N)))","v":""},{"$f":"IF(ISNA(A78),\"\",IF(LEN(LOOKUP(B78,Database!A:A,Database!O:O))=0,\"\",LOOKUP(B78,Database!A:A,Database!O:O)))","v":""},{"$f":"IF(ISNA(A78),\"\",IF(LEN(LOOKUP(B78,Database!A:A,Database!P:P))=0,\"\",LOOKUP(B78,Database!A:A,Database!P:P)))","v":""},{"$f":"IF(ISNA(A78),\"\",IF(LEN(LOOKUP(B78,Database!A:A,Database!Q:Q))=0,\"\",LOOKUP(B78,Database!A:A,Database!Q:Q)))","v":""},{"$f":"IF(ISNA(A78),\"\",IF(LEN(LOOKUP(B78,Database!A:A,Database!R:R))=0,\"\",LOOKUP(B78,Database!A:A,Database!R:R)))","v":""},{"$f":"IF(ISNA(A78),\"\",IF(LEN(LOOKUP(B78,Database!A:A,Database!S:S))=0,\"\",LOOKUP(B78,Database!A:A,Database!S:S)))","v":""},null,null,null,null,null,null,64,0,null,1,0,null,0.1]
[{"$error":"#N/A"},"2018-03-06",{"$f":"IF(ISNA(A79),\"\",IF(LEN(LOOKUP(B79,Database!A:A,Database!B:B))=0,\"\",LOOKUP(B79,Database!A:A,Database!B:B)))","v":""},{"$f":"IF(ISNA(A79),\"\",IF(LEN(LOOKUP(B79,Database!A:A,Database!C:C))=0,\"\",LOOKUP(B79,Database!A:A,Database!C:C)))","v":""},{"$f":"IF(ISNA(A79),\"\",IF(LEN(LOOKUP(B79,Database!A:A,Database!D:D))=0,\"\",LOOKUP(B79,Database!A:A,Database!D:D)))","v":""},{"$f":"IF(ISNA(A79),\"\",IF(LEN(LOOKUP(B79,Database!A:A,Database!E:E))=0,\"\",LOOKUP(B79,Database!A:A,Database!E:E)))","v":""},{"$f":"IF(ISNA(A79),\"\",IF(LEN(LOOKUP(B79,Database!A:A,Database!F:F))=0,\"\",LOOKUP(B79,Database!A:A,Database!F:F)))","v":""},{"$f":"IF(ISNA(A79),\"\",IF(LEN(LOOKUP(B79,Database!A:A,Database!G:G))=0,\"\",LOOKUP(B79,Database!A:A,Database!G:G)))","v":""},{"$f":"IF(ISNA(A79),\"\",IF(LEN(LOOKUP(B79,Database!A:A,Database!H:H))=0,\"\",LOOKUP(B79,Database!A:A,Database!H:H)))","v":""},{"$f":"IF(ISNA(A79),\"\",IF(LEN(LOOKUP(B79,Database!A:A,Database!I:I))=0,\"\",LOOKUP(B79,Database!A:A,Database!I:I)))","v":""},{"$f":"IF(ISNA(A79),\"\",IF(LEN(LOOKUP(B79,Database!A:A,Database!J:J))=0,\"\",LOOKUP(B79,Database!A:A,Database!J:J)))","v":""},{"$f":"IF(ISNA(A79),\"\",IF(LEN(LOOKUP(B79,Database!A:A,Database!K:K))=0,\"\",LOOKUP(B79,Database!A:A,Database!K:K)))","v":""},{"$f":"IF(ISNA(A79),\"\",IF(LEN(LOOKUP(B79,Database!A:A,Database!L:L))=0,\"\",LOOKUP(B79,Database!A:A,Database!L:L)))","v":""},{"$f":"IF(ISNA(A79),\"\",IF(LEN(LOOKUP(B79,Database!A:A,Database!M:M))=0,\"\",LOOKUP(B79,Database!A:A,Database!M:M)))","v":""},{"$f":"IF(ISNA(A79),\"\",IF(LEN(LOOKUP(B79,Database!A:A,Database!N:N))=0,\"\",LOOKUP(B79,Database!A:A,Database!N:N)))","v":""},{"$f":"IF(ISNA(A79),\"\",IF(LEN(LOOKUP(B79,Database!A:A,Database!O:O))=0,\"\",LOOKUP(B79,Database!A:A,Database!O:O)))","v":""},{"$f":"IF(ISNA(A79),\"\",IF(LEN(LOOKUP(B79,Database!A:A,Database!P:P))=0,\"\",LOOKUP(B79,Database!A:A,Database!P:P)))","v":""},{"$f":"IF(ISNA(A79),\"\",IF(LEN(LOOKUP(B79,Database!A:A,Database!Q:Q))=0,\"\",LOOKUP(B79,Database!A:A,Database!Q:Q)))","v":""},{"$f":"IF(ISNA(A79),\"\",IF(LEN(LOOKUP(B79,Database!A:A,Database!R:R))=0,\"\",LOOKUP(B79,Database!A:A,Database!R:R)))","v":""},{"$f":"IF(ISNA(A79),\"\",IF(LEN(LOOKUP(B79,Database!A:A,Database!S:S))=0,\"\",LOOKUP(B79,Database!A:A,Database!S:S)))","v":""},null,null,null,null,null,null,65,{"$f":"MAX(D79:G79)","v":0},null,{"$f":"$H$4","v":1},0,null,{"$f":"$H$5","v":0.1}]
[{"$f":"VLOOKUP(B80,Database2,1,FALSE)","v":{"$error":"#N/A"}},"2018-03-07",{"$f":"IF(ISNA(A80),\"\",IF(LEN(LOOKUP(B80,Database!A:A,Database!B:B))=0,\"\",LOOKUP(B80,Database!A:A,Database!B:B)))","v":""},{"$f":"IF(ISNA(A80),\"\",IF(LEN(LOOKUP(B80,Database!A:A,Database!C:C))=0,\"\",LOOKUP(B80,Database!A:A,Database!C:C)))","v":""},{"$f":"IF(ISNA(A80),\"\",IF(LEN(LOOKUP(B80,Database!A:A,Database!D:D))=0,\"\",LOOKUP(B80,Database!A:A,Database!D:D)))","v":""},{"$f":"IF(ISNA(A80),\"\",IF(LEN(LOOKUP(B80,Database!A:A,Database!E:E))=0,\"\",LOOKUP(B80,Database!A:A,Database!E:E)))","v":""},{"$f":"IF(ISNA(A80),\"\",IF(LEN(LOOKUP(B80,Database!A:A,Database!F:F))=0,\"\",LOOKUP(B80,Database!A:A,Database!F:F)))","v":""},{"$f":"IF(ISNA(A80),\"\",IF(LEN(LOOKUP(B80,Database!A:A,Database!G:G))=0,\"\",LOOKUP(B80,Database!A:A,Database!G:G)))","v":""},{"$f":"IF(ISNA(A80),\"\",IF(LEN(LOOKUP(B80,Database!A:A,Database!H:H))=0,\"\",LOOKUP(B80,Database!A:A,Database!H:H)))","v":""},{"$f":"IF(ISNA(A80),\"\",IF(LEN(LOOKUP(B80,Database!A:A,Database!I:I))=0,\"\",LOOKUP(B80,Database!A:A,Database!I:I)))","v":""},{"$f":"IF(ISNA(A80),\"\",IF(LEN(LOOKUP(B80,Database!A:A,Database!J:J))=0,\"\",LOOKUP(B80,Database!A:A,Database!J:J)))","v":""},{"$f":"IF(ISNA(A80),\"\",IF(LEN(LOOKUP(B80,Database!A:A,Database!K:K))=0,\"\",LOOKUP(B80,Database!A:A,Database!K:K)))","v":""},{"$f":"IF(ISNA(A80),\"\",IF(LEN(LOOKUP(B80,Database!A:A,Database!L:L))=0,\"\",LOOKUP(B80,Database!A:A,Database!L:L)))","v":""},{"$f":"IF(ISNA(A80),\"\",IF(LEN(LOOKUP(B80,Database!A:A,Database!M:M))=0,\"\",LOOKUP(B80,Database!A:A,Database!M:M)))","v":""},{"$f":"IF(ISNA(A80),\"\",IF(LEN(LOOKUP(B80,Database!A:A,Database!N:N))=0,\"\",LOOKUP(B80,Database!A:A,Database!N:N)))","v":""},{"$f":"IF(ISNA(A80),\"\",IF(LEN(LOOKUP(B80,Database!A:A,Database!O:O))=0,\"\",LOOKUP(B80,Database!A:A,Database!O:O)))","v":""},{"$f":"IF(ISNA(A80),\"\",IF(LEN(LOOKUP(B80,Database!A:A,Database!P:P))=0,\"\",LOOKUP(B80,Database!A:A,Database!P:P)))","v":""},{"$f":"IF(ISNA(A80),\"\",IF(LEN(LOOKUP(B80,Database!A:A,Database!Q:Q))=0,\"\",LOOKUP(B80,Database!A:A,Database!Q:Q)))","v":""},{"$f":"IF(ISNA(A80),\"\",IF(LEN(LOOKUP(B80,Database!A:A,Database!R:R))=0,\"\",LOOKUP(B80,Database!A:A,Database!R:R)))","v":""},{"$f":"IF(ISNA(A80),\"\",IF(LEN(LOOKUP(B80,Database!A:A,Database!S:S))=0,\"\",LOOKUP(B80,Database!A:A,Database!S:S)))","v":""},null,null,null,null,null,null,{"$f":"AA79+1","v":66},0,null,1,{"$f":"MAX(H80:S80)","v":0},null,0.1]
[{"$error":"#N/A"},"2018-03-08",{"$f":"IF(ISNA(A81),\"\",IF(LEN(LOOKUP(B81,Database!A:A,Database!B:B))=0,\"\",LOOKUP(B81,Database!A:A,Database!B:B)))","v":""},{"$f":"IF(ISNA(A81),\"\",IF(LEN(LOOKUP(B81,Database!A:A,Database!C:C))=0,\"\",LOOKUP(B81,Database!A:A,Database!C:C)))","v":""},{"$f":"IF(ISNA(A81),\"\",IF(LEN(LOOKUP(B81,Database!A:A,Database!D:D))=0,\"\",LOOKUP(B81,Database!A:A,Database!D:D)))","v":""},{"$f":"IF(ISNA(A81),\"\",IF(LEN(LOOKUP(B81,Database!A:A,Database!E:E))=0,\"\",LOOKUP(B81,Database!A:A,Database!E:E)))","v":""},{"$f":"IF(ISNA(A81),\"\",IF(LEN(LOOKUP(B81,Database!A:A,Database!F:F))=0,\"\",LOOKUP(B81,Database!A:A,Database!F:F)))","v":""},{"$f":"IF(ISNA(A81),\"\",IF(LEN(LOOKUP(B81,Database!A:A,Database!G:G))=0,\"\",LOOKUP(B81,Database!A:A,Database!G:G)))","v":""},{"$f":"IF(ISNA(A81),\"\",IF(LEN(LOOKUP(B81,Database!A:A,Database!H:H))=0,\"\",LOOKUP(B81,Database!A:A,Database!H:H)))","v":""},{"$f":"IF(ISNA(A81),\"\",IF(LEN(LOOKUP(B81,Database!A:A,Database!I:I))=0,\"\",LOOKUP(B81,Database!A:A,Database!I:I)))","v":""},{"$f":"IF(ISNA(A81),\"\",IF(LEN(LOOKUP(B81,Database!A:A,Database!J:J))=0,\"\",LOOKUP(B81,Database!A:A,Database!J:J)))","v":""},{"$f":"IF(ISNA(A81),\"\",IF(LEN(LOOKUP(B81,Database!A:A,Database!K:K))=0,\"\",LOOKUP(B81,Database!A:A,Database!K:K)))","v":""},{"$f":"IF(ISNA(A81),\"\",IF(LEN(LOOKUP(B81,Database!A:A,Database!L:L))=0,\"\",LOOKUP(B81,Database!A:A,Database!L:L)))","v":""},{"$f":"IF(ISNA(A81),\"\",IF(LEN(LOOKUP(B81,Database!A:A,Database!M:M))=0,\"\",LOOKUP(B81,Database!A:A,Database!M:M)))","v":""},{"$f":"IF(ISNA(A81),\"\",IF(LEN(LOOKUP(B81,Database!A:A,Database!N:N))=0,\"\",LOOKUP(B81,Database!A:A,Database!N:N)))","v":""},{"$f":"IF(ISNA(A81),\"\",IF(LEN(LOOKUP(B81,Database!A:A,Database!O:O))=0,\"\",LOOKUP(B81,Database!A:A,Database!O:O)))","v":""},{"$f":"IF(ISNA(A81),\"\",IF(LEN(LOOKUP(B81,Database!A:A,Database!P:P))=0,\"\",LOOKUP(B81,Database!A:A,Database!P:P)))","v":""},{"$f":"IF(ISNA(A81),\"\",IF(LEN(LOOKUP(B81,Database!A:A,Database!Q:Q))=0,\"\",LOOKUP(B81,Database!A:A,Database!Q:Q)))","v":""},{"$f":"IF(ISNA(A81),\"\",IF(LEN(LOOKUP(B81,Database!A:A,Database!R:R))=0,\"\",LOOKUP(B81,Database!A:A,Database!R:R)))","v":""},{"$f":"IF(ISNA(A81),\"\",IF(LEN(LOOKUP(B81,Database!A:A,Database!S:S))=0,\"\",LOOKUP(B81,Database!A:A,Database!S:S)))","v":""},null,null,null,null,null,null,67,0,null,1,0,null,0.1]
[{"$error":"#N/A"},{"$f":"B81+1","v":"2018-03-09"},{"$f":"IF(ISNA(A82),\"\",IF(LEN(LOOKUP(B82,Database!A:A,Database!B:B))=0,\"\",LOOKUP(B82,Database!A:A,Database!B:B)))","v":""},{"$f":"IF(ISNA(A82),\"\",IF(LEN(LOOKUP(B82,Database!A:A,Database!C:C))=0,\"\",LOOKUP(B82,Database!A:A,Database!C:C)))","v":""},{"$f":"IF(ISNA(A82),\"\",IF(LEN(LOOKUP(B82,Database!A:A,Database!D:D))=0,\"\",LOOKUP(B82,Database!A:A,Database!D:D)))","v":""},{"$f":"IF(ISNA(A82),\"\",IF(LEN(LOOKUP(B82,Database!A:A,Database!E:E))=0,\"\",LOOKUP(B82,Database!A:A,Database!E:E)))","v":""},{"$f":"IF(ISNA(A82),\"\",IF(LEN(LOOKUP(B82,Database!A:A,Database!F:F))=0,\"\",LOOKUP(B82,Database!A:A,Database!F:F)))","v":""},{"$f":"IF(ISNA(A82),\"\",IF(LEN(LOOKUP(B82,Database!A:A,Database!G:G))=0,\"\",LOOKUP(B82,Database!A:A,Database!G:G)))","v":""},{"$f":"IF(ISNA(A82),\"\",IF(LEN(LOOKUP(B82,Database!A:A,Database!H:H))=0,\"\",LOOKUP(B82,Database!A:A,Database!H:H)))","v":""},{"$f":"IF(ISNA(A82),\"\",IF(LEN(LOOKUP(B82,Database!A:A,Database!I:I))=0,\"\",LOOKUP(B82,Database!A:A,Database!I:I)))","v":""},{"$f":"IF(ISNA(A82),\"\",IF(LEN(LOOKUP(B82,Database!A:A,Database!J:J))=0,\"\",LOOKUP(B82,Database!A:A,Database!J:J)))","v":""},{"$f":"IF(ISNA(A82),\"\",IF(LEN(LOOKUP(B82,Database!A:A,Database!K:K))=0,\"\",LOOKUP(B82,Database!A:A,Database!K:K)))","v":""},{"$f":"IF(ISNA(A82),\"\",IF(LEN(LOOKUP(B82,Database!A:A,Database!L:L))=0,\"\",LOOKUP(B82,Database!A:A,Database!L:L)))","v":""},{"$f":"IF(ISNA(A82),\"\",IF(LEN(LOOKUP(B82,Database!A:A,Database!M:M))=0,\"\",LOOKUP(B82,Database!A:A,Database!M:M)))","v":""},{"$f":"IF(ISNA(A82),\"\",IF(LEN(LOOKUP(B82,Database!A:A,Database!N:N))=0,\"\",LOOKUP(B82,Database!A:A,Database!N:N)))","v":""},{"$f":"IF(ISNA(A82),\"\",IF(LEN(LOOKUP(B82,Database!A:A,Database!O:O))=0,\"\",LOOKUP(B82,Database!A:A,Database!O:O)))","v":""},{"$f":"IF(ISNA(A82),\"\",IF(LEN(LOOKUP(B82,Database!A:A,Database!P:P))=0,\"\",LOOKUP(B82,Database!A:A,Database!P:P)))","v":""},{"$f":"IF(ISNA(A82),\"\",IF(LEN(LOOKUP(B82,Database!A:A,Database!Q:Q))=0,\"\",LOOKUP(B82,Database!A:A,Database!Q:Q)))","v":""},{"$f":"IF(ISNA(A82),\"\",IF(LEN(LOOKUP(B82,Database!A:A,Database!R:R))=0,\"\",LOOKUP(B82,Database!A:A,Database!R:R)))","v":""},{"$f":"IF(ISNA(A82),\"\",IF(LEN(LOOKUP(B82,Database!A:A,Database!S:S))=0,\"\",LOOKUP(B82,Database!A:A,Database!S:S)))","v":""},null,null,null,null,null,null,68,0,null,1,0,null,0.1]
[{"$error":"#N/A"},"2018-03-10",{"$f":"IF(ISNA(A83),\"\",IF(LEN(LOOKUP(B83,Database!A:A,Database!B:B))=0,\"\",LOOKUP(B83,Database!A:A,Database!B:B)))","v":""},{"$f":"IF(ISNA(A83),\"\",IF(LEN(LOOKUP(B83,Database!A:A,Database!C:C))=0,\"\",LOOKUP(B83,Database!A:A,Database!C:C)))","v":""},{"$f":"IF(ISNA(A83),\"\",IF(LEN(LOOKUP(B83,Database!A:A,Database!D:D))=0,\"\",LOOKUP(B83,Database!A:A,Database!D:D)))","v":""},{"$f":"IF(ISNA(A83),\"\",IF(LEN(LOOKUP(B83,Database!A:A,Database!E:E))=0,\"\",LOOKUP(B83,Database!A:A,Database!E:E)))","v":""},{"$f":"IF(ISNA(A83),\"\",IF(LEN(LOOKUP(B83,Database!A:A,Database!F:F))=0,\"\",LOOKUP(B83,Database!A:A,Database!F:F)))","v":""},{"$f":"IF(ISNA(A83),\"\",IF(LEN(LOOKUP(B83,Database!A:A,Database!G:G))=0,\"\",LOOKUP(B83,Database!A:A,Database!G:G)))","v":""},{"$f":"IF(ISNA(A83),\"\",IF(LEN(LOOKUP(B83,Database!A:A,Database!H:H))=0,\"\",LOOKUP(B83,Database!A:A,Database!H:H)))","v":""},{"$f":"IF(ISNA(A83),\"\",IF(LEN(LOOKUP(B83,Database!A:A,Database!I:I))=0,\"\",LOOKUP(B83,Database!A:A,Database!I:I)))","v":""},{"$f":"IF(ISNA(A83),\"\",IF(LEN(LOOKUP(B83,Database!A:A,Database!J:J))=0,\"\",LOOKUP(B83,Database!A:A,Database!J:J)))","v":""},{"$f":"IF(ISNA(A83),\"\",IF(LEN(LOOKUP(B83,Database!A:A,Database!K:K))=0,\"\",LOOKUP(B83,Database!A:A,Database!K:K)))","v":""},{"$f":"IF(ISNA(A83),\"\",IF(LEN(LOOKUP(B83,Database!A:A,Database!L:L))=0,\"\",LOOKUP(B83,Database!A:A,Database!L:L)))","v":""},{"$f":"IF(ISNA(A83),\"\",IF(LEN(LOOKUP(B83,Database!A:A,Database!M:M))=0,\"\",LOOKUP(B83,Database!A:A,Database!M:M)))","v":""},{"$f":"IF(ISNA(A83),\"\",IF(LEN(LOOKUP(B83,Database!A:A,Database!N:N))=0,\"\",LOOKUP(B83,Database!A:A,Database!N:N)))","v":""},{"$f":"IF(ISNA(A83),\"\",IF(LEN(LOOKUP(B83,Database!A:A,Database!O:O))=0,\"\",LOOKUP(B83,Database!A:A,Database!O:O)))","v":""},{"$f":"IF(ISNA(A83),\"\",IF(LEN(LOOKUP(B83,Database!A:A,Database!P:P))=0,\"\",LOOKUP(B83,Database!A:A,Database!P:P)))","v":""},{"$f":"IF(ISNA(A83),\"\",IF(LEN(LOOKUP(B83,Database!A:A,Database!Q:Q))=0,\"\",LOOKUP(B83,Database!A:A,Database!Q:Q)))","v":""},{"$f":"IF(ISNA(A83),\"\",IF(LEN(LOOKUP(B83,Database!A:A,Database!R:R))=0,\"\",LOOKUP(B83,Database!A:A,Database!R:R)))","v":""},{"$f":"IF(ISNA(A83),\"\",IF(LEN(LOOKUP(B83,Database!A:A,Database!S:S))=0,\"\",LOOKUP(B83,Database!A:A,Database!S:S)))","v":""},null,null,null,null,null,null,69,0,null,1,0,null,0.1]
[{"$error":"#N/A"},"2018-03-11",{"$f":"IF(ISNA(A84),\"\",IF(LEN(LOOKUP(B84,Database!A:A,Database!B:B))=0,\"\",LOOKUP(B84,Database!A:A,Database!B:B)))","v":""},{"$f":"IF(ISNA(A84),\"\",IF(LEN(LOOKUP(B84,Database!A:A,Database!C:C))=0,\"\",LOOKUP(B84,Database!A:A,Database!C:C)))","v":""},{"$f":"IF(ISNA(A84),\"\",IF(LEN(LOOKUP(B84,Database!A:A,Database!D:D))=0,\"\",LOOKUP(B84,Database!A:A,Database!D:D)))","v":""},{"$f":"IF(ISNA(A84),\"\",IF(LEN(LOOKUP(B84,Database!A:A,Database!E:E))=0,\"\",LOOKUP(B84,Database!A:A,Database!E:E)))","v":""},{"$f":"IF(ISNA(A84),\"\",IF(LEN(LOOKUP(B84,Database!A:A,Database!F:F))=0,\"\",LOOKUP(B84,Database!A:A,Database!F:F)))","v":""},{"$f":"IF(ISNA(A84),\"\",IF(LEN(LOOKUP(B84,Database!A:A,Database!G:G))=0,\"\",LOOKUP(B84,Database!A:A,Database!G:G)))","v":""},{"$f":"IF(ISNA(A84),\"\",IF(LEN(LOOKUP(B84,Database!A:A,Database!H:H))=0,\"\",LOOKUP(B84,Database!A:A,Database!H:H)))","v":""},{"$f":"IF(ISNA(A84),\"\",IF(LEN(LOOKUP(B84,Database!A:A,Database!I:I))=0,\"\",LOOKUP(B84,Database!A:A,Database!I:I)))","v":""},{"$f":"IF(ISNA(A84),\"\",IF(LEN(LOOKUP(B84,Database!A:A,Database!J:J))=0,\"\",LOOKUP(B84,Database!A:A,Database!J:J)))","v":""},{"$f":"IF(ISNA(A84),\"\",IF(LEN(LOOKUP(B84,Database!A:A,Database!K:K))=0,\"\",LOOKUP(B84,Database!A:A,Database!K:K)))","v":""},{"$f":"IF(ISNA(A84),\"\",IF(LEN(LOOKUP(B84,Database!A:A,Database!L:L))=0,\"\",LOOKUP(B84,Database!A:A,Database!L:L)))","v":""},{"$f":"IF(ISNA(A84),\"\",IF(LEN(LOOKUP(B84,Database!A:A,Database!M:M))=0,\"\",LOOKUP(B84,Database!A:A,Database!M:M)))","v":""},{"$f":"IF(ISNA(A84),\"\",IF(LEN(LOOKUP(B84,Database!A:A,Database!N:N))=0,\"\",LOOKUP(B84,Database!A:A,Database!N:N)))","v":""},{"$f":"IF(ISNA(A84),\"\",IF(LEN(LOOKUP(B84,Database!A:A,Database!O:O))=0,\"\",LOOKUP(B84,Database!A:A,Database!O:O)))","v":""},{"$f":"IF(ISNA(A84),\"\",IF(LEN(LOOKUP(B84,Database!A:A,Database!P:P))=0,\"\",LOOKUP(B84,Database!A:A,Database!P:P)))","v":""},{"$f":"IF(ISNA(A84),\"\",IF(LEN(LOOKUP(B84,Database!A:A,Database!Q:Q))=0,\"\",LOOKUP(B84,Database!A:A,Database!Q:Q)))","v":""},{"$f":"IF(ISNA(A84),\"\",IF(LEN(LOOKUP(B84,Database!A:A,Database!R:R))=0,\"\",LOOKUP(B84,Database!A:A,Database!R:R)))","v":""},{"$f":"IF(ISNA(A84),\"\",IF(LEN(LOOKUP(B84,Database!A:A,Database!S:S))=0,\"\",LOOKUP(B84,Database!A:A,Database!S:S)))","v":""},null,null,null,null,null,null,70,0,null,1,0,null,0.1]
[{"$error":"#N/A"},"2018-03-12",{"$f":"IF(ISNA(A85),\"\",IF(LEN(LOOKUP(B85,Database!A:A,Database!B:B))=0,\"\",LOOKUP(B85,Database!A:A,Database!B:B)))","v":""},{"$f":"IF(ISNA(A85),\"\",IF(LEN(LOOKUP(B85,Database!A:A,Database!C:C))=0,\"\",LOOKUP(B85,Database!A:A,Database!C:C)))","v":""},{"$f":"IF(ISNA(A85),\"\",IF(LEN(LOOKUP(B85,Database!A:A,Database!D:D))=0,\"\",LOOKUP(B85,Database!A:A,Database!D:D)))","v":""},{"$f":"IF(ISNA(A85),\"\",IF(LEN(LOOKUP(B85,Database!A:A,Database!E:E))=0,\"\",LOOKUP(B85,Database!A:A,Database!E:E)))","v":""},{"$f":"IF(ISNA(A85),\"\",IF(LEN(LOOKUP(B85,Database!A:A,Database!F:F))=0,\"\",LOOKUP(B85,Database!A:A,Database!F:F)))","v":""},{"$f":"IF(ISNA(A85),\"\",IF(LEN(LOOKUP(B85,Database!A:A,Database!G:G))=0,\"\",LOOKUP(B85,Database!A:A,Database!G:G)))","v":""},{"$f":"IF(ISNA(A85),\"\",IF(LEN(LOOKUP(B85,Database!A:A,Database!H:H))=0,\"\",LOOKUP(B85,Database!A:A,Database!H:H)))","v":""},{"$f":"IF(ISNA(A85),\"\",IF(LEN(LOOKUP(B85,Database!A:A,Database!I:I))=0,\"\",LOOKUP(B85,Database!A:A,Database!I:I)))","v":""},{"$f":"IF(ISNA(A85),\"\",IF(LEN(LOOKUP(B85,Database!A:A,Database!J:J))=0,\"\",LOOKUP(B85,Database!A:A,Database!J:J)))","v":""},{"$f":"IF(ISNA(A85),\"\",IF(LEN(LOOKUP(B85,Database!A:A,Database!K:K))=0,\"\",LOOKUP(B85,Database!A:A,Database!K:K)))","v":""},{"$f":"IF(ISNA(A85),\"\",IF(LEN(LOOKUP(B85,Database!A:A,Database!L:L))=0,\"\",LOOKUP(B85,Database!A:A,Database!L:L)))","v":""},{"$f":"IF(ISNA(A85),\"\",IF(LEN(LOOKUP(B85,Database!A:A,Database!M:M))=0,\"\",LOOKUP(B85,Database!A:A,Database!M:M)))","v":""},{"$f":"IF(ISNA(A85),\"\",IF(LEN(LOOKUP(B85,Database!A:A,Database!N:N))=0,\"\",LOOKUP(B85,Database!A:A,Database!N:N)))","v":""},{"$f":"IF(ISNA(A85),\"\",IF(LEN(LOOKUP(B85,Database!A:A,Database!O:O))=0,\"\",LOOKUP(B85,Database!A:A,Database!O:O)))","v":""},{"$f":"IF(ISNA(A85),\"\",IF(LEN(LOOKUP(B85,Database!A:A,Database!P:P))=0,\"\",LOOKUP(B85,Database!A:A,Database!P:P)))","v":""},{"$f":"IF(ISNA(A85),\"\",IF(LEN(LOOKUP(B85,Database!A:A,Database!Q:Q))=0,\"\",LOOKUP(B85,Database!A:A,Database!Q:Q)))","v":""},{"$f":"IF(ISNA(A85),\"\",IF(LEN(LOOKUP(B85,Database!A:A,Database!R:R))=0,\"\",LOOKUP(B85,Database!A:A,Database!R:R)))","v":""},{"$f":"IF(ISNA(A85),\"\",IF(LEN(LOOKUP(B85,Database!A:A,Database!S:S))=0,\"\",LOOKUP(B85,Database!A:A,Database!S:S)))","v":""},null,null,null,null,null,null,71,0,null,1,0,null,0.1]
[{"$error":"#N/A"},"2018-03-13",{"$f":"IF(ISNA(A86),\"\",IF(LEN(LOOKUP(B86,Database!A:A,Database!B:B))=0,\"\",LOOKUP(B86,Database!A:A,Database!B:B)))","v":""},{"$f":"IF(ISNA(A86),\"\",IF(LEN(LOOKUP(B86,Database!A:A,Database!C:C))=0,\"\",LOOKUP(B86,Database!A:A,Database!C:C)))","v":""},{"$f":"IF(ISNA(A86),\"\",IF(LEN(LOOKUP(B86,Database!A:A,Database!D:D))=0,\"\",LOOKUP(B86,Database!A:A,Database!D:D)))","v":""},{"$f":"IF(ISNA(A86),\"\",IF(LEN(LOOKUP(B86,Database!A:A,Database!E:E))=0,\"\",LOOKUP(B86,Database!A:A,Database!E:E)))","v":""},{"$f":"IF(ISNA(A86),\"\",IF(LEN(LOOKUP(B86,Database!A:A,Database!F:F))=0,\"\",LOOKUP(B86,Database!A:A,Database!F:F)))","v":""},{"$f":"IF(ISNA(A86),\"\",IF(LEN(LOOKUP(B86,Database!A:A,Database!G:G))=0,\"\",LOOKUP(B86,Database!A:A,Database!G:G)))","v":""},{"$f":"IF(ISNA(A86),\"\",IF(LEN(LOOKUP(B86,Database!A:A,Database!H:H))=0,\"\",LOOKUP(B86,Database!A:A,Database!H:H)))","v":""},{"$f":"IF(ISNA(A86),\"\",IF(LEN(LOOKUP(B86,Database!A:A,Database!I:I))=0,\"\",LOOKUP(B86,Database!A:A,Database!I:I)))","v":""},{"$f":"IF(ISNA(A86),\"\",IF(LEN(LOOKUP(B86,Database!A:A,Database!J:J))=0,\"\",LOOKUP(B86,Database!A:A,Database!J:J)))","v":""},{"$f":"IF(ISNA(A86),\"\",IF(LEN(LOOKUP(B86,Database!A:A,Database!K:K))=0,\"\",LOOKUP(B86,Database!A:A,Database!K:K)))","v":""},{"$f":"IF(ISNA(A86),\"\",IF(LEN(LOOKUP(B86,Database!A:A,Database!L:L))=0,\"\",LOOKUP(B86,Database!A:A,Database!L:L)))","v":""},{"$f":"IF(ISNA(A86),\"\",IF(LEN(LOOKUP(B86,Database!A:A,Database!M:M))=0,\"\",LOOKUP(B86,Database!A:A,Database!M:M)))","v":""},{"$f":"IF(ISNA(A86),\"\",IF(LEN(LOOKUP(B86,Database!A:A,Database!N:N))=0,\"\",LOOKUP(B86,Database!A:A,Database!N:N)))","v":""},{"$f":"IF(ISNA(A86),\"\",IF(LEN(LOOKUP(B86,Database!A:A,Database!O:O))=0,\"\",LOOKUP(B86,Database!A:A,Database!O:O)))","v":""},{"$f":"IF(ISNA(A86),\"\",IF(LEN(LOOKUP(B86,Database!A:A,Database!P:P))=0,\"\",LOOKUP(B86,Database!A:A,Database!P:P)))","v":""},{"$f":"IF(ISNA(A86),\"\",IF(LEN(LOOKUP(B86,Database!A:A,Database!Q:Q))=0,\"\",LOOKUP(B86,Database!A:A,Database!Q:Q)))","v":""},{"$f":"IF(ISNA(A86),\"\",IF(LEN(LOOKUP(B86,Database!A:A,Database!R:R))=0,\"\",LOOKUP(B86,Database!A:A,Database!R:R)))","v":""},{"$f":"IF(ISNA(A86),\"\",IF(LEN(LOOKUP(B86,Database!A:A,Database!S:S))=0,\"\",LOOKUP(B86,Database!A:A,Database!S:S)))","v":""},null,null,null,null,null,null,72,0,null,1,0,null,0.1]
[{"$error":"#N/A"},"2018-03-14",{"$f":"IF(ISNA(A87),\"\",IF(LEN(LOOKUP(B87,Database!A:A,Database!B:B))=0,\"\",LOOKUP(B87,Database!A:A,Database!B:B)))","v":""},{"$f":"IF(ISNA(A87),\"\",IF(LEN(LOOKUP(B87,Database!A:A,Database!C:C))=0,\"\",LOOKUP(B87,Database!A:A,Database!C:C)))","v":""},{"$f":"IF(ISNA(A87),\"\",IF(LEN(LOOKUP(B87,Database!A:A,Database!D:D))=0,\"\",LOOKUP(B87,Database!A:A,Database!D:D)))","v":""},{"$f":"IF(ISNA(A87),\"\",IF(LEN(LOOKUP(B87,Database!A:A,Database!E:E))=0,\"\",LOOKUP(B87,Database!A:A,Database!E:E)))","v":""},{"$f":"IF(ISNA(A87),\"\",IF(LEN(LOOKUP(B87,Database!A:A,Database!F:F))=0,\"\",LOOKUP(B87,Database!A:A,Database!F:F)))","v":""},{"$f":"IF(ISNA(A87),\"\",IF(LEN(LOOKUP(B87,Database!A:A,Database!G:G))=0,\"\",LOOKUP(B87,Database!A:A,Database!G:G)))","v":""},{"$f":"IF(ISNA(A87),\"\",IF(LEN(LOOKUP(B87,Database!A:A,Database!H:H))=0,\"\",LOOKUP(B87,Database!A:A,Database!H:H)))","v":""},{"$f":"IF(ISNA(A87),\"\",IF(LEN(LOOKUP(B87,Database!A:A,Database!I:I))=0,\"\",LOOKUP(B87,Database!A:A,Database!I:I)))","v":""},{"$f":"IF(ISNA(A87),\"\",IF(LEN(LOOKUP(B87,Database!A:A,Database!J:J))=0,\"\",LOOKUP(B87,Database!A:A,Database!J:J)))","v":""},{"$f":"IF(ISNA(A87),\"\",IF(LEN(LOOKUP(B87,Database!A:A,Database!K:K))=0,\"\",LOOKUP(B87,Database!A:A,Database!K:K)))","v":""},{"$f":"IF(ISNA(A87),\"\",IF(LEN(LOOKUP(B87,Database!A:A,Database!L:L))=0,\"\",LOOKUP(B87,Database!A:A,Database!L:L)))","v":""},{"$f":"IF(ISNA(A87),\"\",IF(LEN(LOOKUP(B87,Database!A:A,Database!M:M))=0,\"\",LOOKUP(B87,Database!A:A,Database!M:M)))","v":""},{"$f":"IF(ISNA(A87),\"\",IF(LEN(LOOKUP(B87,Database!A:A,Database!N:N))=0,\"\",LOOKUP(B87,Database!A:A,Database!N:N)))","v":""},{"$f":"IF(ISNA(A87),\"\",IF(LEN(LOOKUP(B87,Database!A:A,Database!O:O))=0,\"\",LOOKUP(B87,Database!A:A,Database!O:O)))","v":""},{"$f":"IF(ISNA(A87),\"\",IF(LEN(LOOKUP(B87,Database!A:A,Database!P:P))=0,\"\",LOOKUP(B87,Database!A:A,Database!P:P)))","v":""},{"$f":"IF(ISNA(A87),\"\",IF(LEN(LOOKUP(B87,Database!A:A,Database!Q:Q))=0,\"\",LOOKUP(B87,Database!A:A,Database!Q:Q)))","v":""},{"$f":"IF(ISNA(A87),\"\",IF(LEN(LOOKUP(B87,Database!A:A,Database!R:R))=0,\"\",LOOKUP(B87,Database!A:A,Database!R:R)))","v":""},{"$f":"IF(ISNA(A87),\"\",IF(LEN(LOOKUP(B87,Database!A:A,Database!S:S))=0,\"\",LOOKUP(B87,Database!A:A,Database!S:S)))","v":""},null,null,null,null,null,null,73,0,null,1,0,null,0.1]
[{"$error":"#N/A"},"2018-03-15",{"$f":"IF(ISNA(A88),\"\",IF(LEN(LOOKUP(B88,Database!A:A,Database!B:B))=0,\"\",LOOKUP(B88,Database!A:A,Database!B:B)))","v":""},{"$f":"IF(ISNA(A88),\"\",IF(LEN(LOOKUP(B88,Database!A:A,Database!C:C))=0,\"\",LOOKUP(B88,Database!A:A,Database!C:C)))","v":""},{"$f":"IF(ISNA(A88),\"\",IF(LEN(LOOKUP(B88,Database!A:A,Database!D:D))=0,\"\",LOOKUP(B88,Database!A:A,Database!D:D)))","v":""},{"$f":"IF(ISNA(A88),\"\",IF(LEN(LOOKUP(B88,Database!A:A,Database!E:E))=0,\"\",LOOKUP(B88,Database!A:A,Database!E:E)))","v":""},{"$f":"IF(ISNA(A88),\"\",IF(LEN(LOOKUP(B88,Database!A:A,Database!F:F))=0,\"\",LOOKUP(B88,Database!A:A,Database!F:F)))","v":""},{"$f":"IF(ISNA(A88),\"\",IF(LEN(LOOKUP(B88,Database!A:A,Database!G:G))=0,\"\",LOOKUP(B88,Database!A:A,Database!G:G)))","v":""},{"$f":"IF(ISNA(A88),\"\",IF(LEN(LOOKUP(B88,Database!A:A,Database!H:H))=0,\"\",LOOKUP(B88,Database!A:A,Database!H:H)))","v":""},{"$f":"IF(ISNA(A88),\"\",IF(LEN(LOOKUP(B88,Database!A:A,Database!I:I))=0,\"\",LOOKUP(B88,Database!A:A,Database!I:I)))","v":""},{"$f":"IF(ISNA(A88),\"\",IF(LEN(LOOKUP(B88,Database!A:A,Database!J:J))=0,\"\",LOOKUP(B88,Database!A:A,Database!J:J)))","v":""},{"$f":"IF(ISNA(A88),\"\",IF(LEN(LOOKUP(B88,Database!A:A,Database!K:K))=0,\"\",LOOKUP(B88,Database!A:A,Database!K:K)))","v":""},{"$f":"IF(ISNA(A88),\"\",IF(LEN(LOOKUP(B88,Database!A:A,Database!L:L))=0,\"\",LOOKUP(B88,Database!A:A,Database!L:L)))","v":""},{"$f":"IF(ISNA(A88),\"\",IF(LEN(LOOKUP(B88,Database!A:A,Database!M:M))=0,\"\",LOOKUP(B88,Database!A:A,Database!M:M)))","v":""},{"$f":"IF(ISNA(A88),\"\",IF(LEN(LOOKUP(B88,Database!A:A,Database!N:N))=0,\"\",LOOKUP(B88,Database!A:A,Database!N:N)))","v":""},{"$f":"IF(ISNA(A88),\"\",IF(LEN(LOOKUP(B88,Database!A:A,Database!O:O))=0,\"\",LOOKUP(B88,Database!A:A,Database!O:O)))","v":""},{"$f":"IF(ISNA(A88),\"\",IF(LEN(LOOKUP(B88,Database!A:A,Database!P:P))=0,\"\",LOOKUP(B88,Database!A:A,Database!P:P)))","v":""},{"$f":"IF(ISNA(A88),\"\",IF(LEN(LOOKUP(B88,Database!A:A,Database!Q:Q))=0,\"\",LOOKUP(B88,Database!A:A,Database!Q:Q)))","v":""},{"$f":"IF(ISNA(A88),\"\",IF(LEN(LOOKUP(B88,Database!A:A,Database!R:R))=0,\"\",LOOKUP(B88,Database!A:A,Database!R:R)))","v":""},{"$f":"IF(ISNA(A88),\"\",IF(LEN(LOOKUP(B88,Database!A:A,Database!S:S))=0,\"\",LOOKUP(B88,Database!A:A,Database!S:S)))","v":""},null,null,null,null,null,null,74,0,null,1,0,null,0.1]
[{"$error":"#N/A"},"2018-03-16",{"$f":"IF(ISNA(A89),\"\",IF(LEN(LOOKUP(B89,Database!A:A,Database!B:B))=0,\"\",LOOKUP(B89,Database!A:A,Database!B:B)))","v":""},{"$f":"IF(ISNA(A89),\"\",IF(LEN(LOOKUP(B89,Database!A:A,Database!C:C))=0,\"\",LOOKUP(B89,Database!A:A,Database!C:C)))","v":""},{"$f":"IF(ISNA(A89),\"\",IF(LEN(LOOKUP(B89,Database!A:A,Database!D:D))=0,\"\",LOOKUP(B89,Database!A:A,Database!D:D)))","v":""},{"$f":"IF(ISNA(A89),\"\",IF(LEN(LOOKUP(B89,Database!A:A,Database!E:E))=0,\"\",LOOKUP(B89,Database!A:A,Database!E:E)))","v":""},{"$f":"IF(ISNA(A89),\"\",IF(LEN(LOOKUP(B89,Database!A:A,Database!F:F))=0,\"\",LOOKUP(B89,Database!A:A,Database!F:F)))","v":""},{"$f":"IF(ISNA(A89),\"\",IF(LEN(LOOKUP(B89,Database!A:A,Database!G:G))=0,\"\",LOOKUP(B89,Database!A:A,Database!G:G)))","v":""},{"$f":"IF(ISNA(A89),\"\",IF(LEN(LOOKUP(B89,Database!A:A,Database!H:H))=0,\"\",LOOKUP(B89,Database!A:A,Database!H:H)))","v":""},{"$f":"IF(ISNA(A89),\"\",IF(LEN(LOOKUP(B89,Database!A:A,Database!I:I))=0,\"\",LOOKUP(B89,Database!A:A,Database!I:I)))","v":""},{"$f":"IF(ISNA(A89),\"\",IF(LEN(LOOKUP(B89,Database!A:A,Database!J:J))=0,\"\",LOOKUP(B89,Database!A:A,Database!J:J)))","v":""},{"$f":"IF(ISNA(A89),\"\",IF(LEN(LOOKUP(B89,Database!A:A,Database!K:K))=0,\"\",LOOKUP(B89,Database!A:A,Database!K:K)))","v":""},{"$f":"IF(ISNA(A89),\"\",IF(LEN(LOOKUP(B89,Database!A:A,Database!L:L))=0,\"\",LOOKUP(B89,Database!A:A,Database!L:L)))","v":""},{"$f":"IF(ISNA(A89),\"\",IF(LEN(LOOKUP(B89,Database!A:A,Database!M:M))=0,\"\",LOOKUP(B89,Database!A:A,Database!M:M)))","v":""},{"$f":"IF(ISNA(A89),\"\",IF(LEN(LOOKUP(B89,Database!A:A,Database!N:N))=0,\"\",LOOKUP(B89,Database!A:A,Database!N:N)))","v":""},{"$f":"IF(ISNA(A89),\"\",IF(LEN(LOOKUP(B89,Database!A:A,Database!O:O))=0,\"\",LOOKUP(B89,Database!A:A,Database!O:O)))","v":""},{"$f":"IF(ISNA(A89),\"\",IF(LEN(LOOKUP(B89,Database!A:A,Database!P:P))=0,\"\",LOOKUP(B89,Database!A:A,Database!P:P)))","v":""},{"$f":"IF(ISNA(A89),\"\",IF(LEN(LOOKUP(B89,Database!A:A,Database!Q:Q))=0,\"\",LOOKUP(B89,Database!A:A,Database!Q:Q)))","v":""},{"$f":"IF(ISNA(A89),\"\",IF(LEN(LOOKUP(B89,Database!A:A,Database!R:R))=0,\"\",LOOKUP(B89,Database!A:A,Database!R:R)))","v":""},{"$f":"IF(ISNA(A89),\"\",IF(LEN(LOOKUP(B89,Database!A:A,Database!S:S))=0,\"\",LOOKUP(B89,Database!A:A,Database!S:S)))","v":""},null,null,null,null,null,null,75,0,null,1,0,null,0.1]
[{"$error":"#N/A"},"2018-03-17",{"$f":"IF(ISNA(A90),\"\",IF(LEN(LOOKUP(B90,Database!A:A,Database!B:B))=0,\"\",LOOKUP(B90,Database!A:A,Database!B:B)))","v":""},{"$f":"IF(ISNA(A90),\"\",IF(LEN(LOOKUP(B90,Database!A:A,Database!C:C))=0,\"\",LOOKUP(B90,Database!A:A,Database!C:C)))","v":""},{"$f":"IF(ISNA(A90),\"\",IF(LEN(LOOKUP(B90,Database!A:A,Database!D:D))=0,\"\",LOOKUP(B90,Database!A:A,Database!D:D)))","v":""},{"$f":"IF(ISNA(A90),\"\",IF(LEN(LOOKUP(B90,Database!A:A,Database!E:E))=0,\"\",LOOKUP(B90,Database!A:A,Database!E:E)))","v":""},{"$f":"IF(ISNA(A90),\"\",IF(LEN(LOOKUP(B90,Database!A:A,Database!F:F))=0,\"\",LOOKUP(B90,Database!A:A,Database!F:F)))","v":""},{"$f":"IF(ISNA(A90),\"\",IF(LEN(LOOKUP(B90,Database!A:A,Database!G:G))=0,\"\",LOOKUP(B90,Database!A:A,Database!G:G)))","v":""},{"$f":"IF(ISNA(A90),\"\",IF(LEN(LOOKUP(B90,Database!A:A,Database!H:H))=0,\"\",LOOKUP(B90,Database!A:A,Database!H:H)))","v":""},{"$f":"IF(ISNA(A90),\"\",IF(LEN(LOOKUP(B90,Database!A:A,Database!I:I))=0,\"\",LOOKUP(B90,Database!A:A,Database!I:I)))","v":""},{"$f":"IF(ISNA(A90),\"\",IF(LEN(LOOKUP(B90,Database!A:A,Database!J:J))=0,\"\",LOOKUP(B90,Database!A:A,Database!J:J)))","v":""},{"$f":"IF(ISNA(A90),\"\",IF(LEN(LOOKUP(B90,Database!A:A,Database!K:K))=0,\"\",LOOKUP(B90,Database!A:A,Database!K:K)))","v":""},{"$f":"IF(ISNA(A90),\"\",IF(LEN(LOOKUP(B90,Database!A:A,Database!L:L))=0,\"\",LOOKUP(B90,Database!A:A,Database!L:L)))","v":""},{"$f":"IF(ISNA(A90),\"\",IF(LEN(LOOKUP(B90,Database!A:A,Database!M:M))=0,\"\",LOOKUP(B90,Database!A:A,Database!M:M)))","v":""},{"$f":"IF(ISNA(A90),\"\",IF(LEN(LOOKUP(B90,Database!A:A,Database!N:N))=0,\"\",LOOKUP(B90,Database!A:A,Database!N:N)))","v":""},{"$f":"IF(ISNA(A90),\"\",IF(LEN(LOOKUP(B90,Database!A:A,Database!O:O))=0,\"\",LOOKUP(B90,Database!A:A,Database!O:O)))","v":""},{"$f":"IF(ISNA(A90),\"\",IF(LEN(LOOKUP(B90,Database!A:A,Database!P:P))=0,\"\",LOOKUP(B90,Database!A:A,Database!P:P)))","v":""},{"$f":"IF(ISNA(A90),\"\",IF(LEN(LOOKUP(B90,Database!A:A,Database!Q:Q))=0,\"\",LOOKUP(B90,Database!A:A,Database!Q:Q)))","v":""},{"$f":"IF(ISNA(A90),\"\",IF(LEN(LOOKUP(B90,Database!A:A,Database!R:R))=0,\"\",LOOKUP(B90,Database!A:A,Database!R:R)))","v":""},{"$f":"IF(ISNA(A90),\"\",IF(LEN(LOOKUP(B90,Database!A:A,Database!S:S))=0,\"\",LOOKUP(B90,Database!A:A,Database!S:S)))","v":""},null,null,null,null,null,null,76,0,null,1,0,null,0.1]
[{"$error":"#N/A"},"2018-03-18",{"$f":"IF(ISNA(A91),\"\",IF(LEN(LOOKUP(B91,Database!A:A,Database!B:B))=0,\"\",LOOKUP(B91,Database!A:A,Database!B:B)))","v":""},{"$f":"IF(ISNA(A91),\"\",IF(LEN(LOOKUP(B91,Database!A:A,Database!C:C))=0,\"\",LOOKUP(B91,Database!A:A,Database!C:C)))","v":""},{"$f":"IF(ISNA(A91),\"\",IF(LEN(LOOKUP(B91,Database!A:A,Database!D:D))=0,\"\",LOOKUP(B91,Database!A:A,Database!D:D)))","v":""},{"$f":"IF(ISNA(A91),\"\",IF(LEN(LOOKUP(B91,Database!A:A,Database!E:E))=0,\"\",LOOKUP(B91,Database!A:A,Database!E:E)))","v":""},{"$f":"IF(ISNA(A91),\"\",IF(LEN(LOOKUP(B91,Database!A:A,Database!F:F))=0,\"\",LOOKUP(B91,Database!A:A,Database!F:F)))","v":""},{"$f":"IF(ISNA(A91),\"\",IF(LEN(LOOKUP(B91,Database!A:A,Database!G:G))=0,\"\",LOOKUP(B91,Database!A:A,Database!G:G)))","v":""},{"$f":"IF(ISNA(A91),\"\",IF(LEN(LOOKUP(B91,Database!A:A,Database!H:H))=0,\"\",LOOKUP(B91,Database!A:A,Database!H:H)))","v":""},{"$f":"IF(ISNA(A91),\"\",IF(LEN(LOOKUP(B91,Database!A:A,Database!I:I))=0,\"\",LOOKUP(B91,Database!A:A,Database!I:I)))","v":""},{"$f":"IF(ISNA(A91),\"\",IF(LEN(LOOKUP(B91,Database!A:A,Database!J:J))=0,\"\",LOOKUP(B91,Database!A:A,Database!J:J)))","v":""},{"$f":"IF(ISNA(A91),\"\",IF(LEN(LOOKUP(B91,Database!A:A,Database!K:K))=0,\"\",LOOKUP(B91,Database!A:A,Database!K:K)))","v":""},{"$f":"IF(ISNA(A91),\"\",IF(LEN(LOOKUP(B91,Database!A:A,Database!L:L))=0,\"\",LOOKUP(B91,Database!A:A,Database!L:L)))","v":""},{"$f":"IF(ISNA(A91),\"\",IF(LEN(LOOKUP(B91,Database!A:A,Database!M:M))=0,\"\",LOOKUP(B91,Database!A:A,Database!M:M)))","v":""},{"$f":"IF(ISNA(A91),\"\",IF(LEN(LOOKUP(B91,Database!A:A,Database!N:N))=0,\"\",LOOKUP(B91,Database!A:A,Database!N:N)))","v":""},{"$f":"IF(ISNA(A91),\"\",IF(LEN(LOOKUP(B91,Database!A:A,Database!O:O))=0,\"\",LOOKUP(B91,Database!A:A,Database!O:O)))","v":""},{"$f":"IF(ISNA(A91),\"\",IF(LEN(LOOKUP(B91,Database!A:A,Database!P:P))=0,\"\",LOOKUP(B91,Database!A:A,Database!P:P)))","v":""},{"$f":"IF(ISNA(A91),\"\",IF(LEN(LOOKUP(B91,Database!A:A,Database!Q:Q))=0,\"\",LOOKUP(B91,Database!A:A,Database!Q:Q)))","v":""},{"$f":"IF(ISNA(A91),\"\",IF(LEN(LOOKUP(B91,Database!A:A,Database!R:R))=0,\"\",LOOKUP(B91,Database!A:A,Database!R:R)))","v":""},{"$f":"IF(ISNA(A91),\"\",IF(LEN(LOOKUP(B91,Database!A:A,Database!S:S))=0,\"\",LOOKUP(B91,Database!A:A,Database!S:S)))","v":""},null,null,null,null,null,null,77,0,null,1,0,null,0.1]
[{"$error":"#N/A"},"2018-03-19",{"$f":"IF(ISNA(A92),\"\",IF(LEN(LOOKUP(B92,Database!A:A,Database!B:B))=0,\"\",LOOKUP(B92,Database!A:A,Database!B:B)))","v":""},{"$f":"IF(ISNA(A92),\"\",IF(LEN(LOOKUP(B92,Database!A:A,Database!C:C))=0,\"\",LOOKUP(B92,Database!A:A,Database!C:C)))","v":""},{"$f":"IF(ISNA(A92),\"\",IF(LEN(LOOKUP(B92,Database!A:A,Database!D:D))=0,\"\",LOOKUP(B92,Database!A:A,Database!D:D)))","v":""},{"$f":"IF(ISNA(A92),\"\",IF(LEN(LOOKUP(B92,Database!A:A,Database!E:E))=0,\"\",LOOKUP(B92,Database!A:A,Database!E:E)))","v":""},{"$f":"IF(ISNA(A92),\"\",IF(LEN(LOOKUP(B92,Database!A:A,Database!F:F))=0,\"\",LOOKUP(B92,Database!A:A,Database!F:F)))","v":""},{"$f":"IF(ISNA(A92),\"\",IF(LEN(LOOKUP(B92,Database!A:A,Database!G:G))=0,\"\",LOOKUP(B92,Database!A:A,Database!G:G)))","v":""},{"$f":"IF(ISNA(A92),\"\",IF(LEN(LOOKUP(B92,Database!A:A,Database!H:H))=0,\"\",LOOKUP(B92,Database!A:A,Database!H:H)))","v":""},{"$f":"IF(ISNA(A92),\"\",IF(LEN(LOOKUP(B92,Database!A:A,Database!I:I))=0,\"\",LOOKUP(B92,Database!A:A,Database!I:I)))","v":""},{"$f":"IF(ISNA(A92),\"\",IF(LEN(LOOKUP(B92,Database!A:A,Database!J:J))=0,\"\",LOOKUP(B92,Database!A:A,Database!J:J)))","v":""},{"$f":"IF(ISNA(A92),\"\",IF(LEN(LOOKUP(B92,Database!A:A,Database!K:K))=0,\"\",LOOKUP(B92,Database!A:A,Database!K:K)))","v":""},{"$f":"IF(ISNA(A92),\"\",IF(LEN(LOOKUP(B92,Database!A:A,Database!L:L))=0,\"\",LOOKUP(B92,Database!A:A,Database!L:L)))","v":""},{"$f":"IF(ISNA(A92),\"\",IF(LEN(LOOKUP(B92,Database!A:A,Database!M:M))=0,\"\",LOOKUP(B92,Database!A:A,Database!M:M)))","v":""},{"$f":"IF(ISNA(A92),\"\",IF(LEN(LOOKUP(B92,Database!A:A,Database!N:N))=0,\"\",LOOKUP(B92,Database!A:A,Database!N:N)))","v":""},{"$f":"IF(ISNA(A92),\"\",IF(LEN(LOOKUP(B92,Database!A:A,Database!O:O))=0,\"\",LOOKUP(B92,Database!A:A,Database!O:O)))","v":""},{"$f":"IF(ISNA(A92),\"\",IF(LEN(LOOKUP(B92,Database!A:A,Database!P:P))=0,\"\",LOOKUP(B92,Database!A:A,Database!P:P)))","v":""},{"$f":"IF(ISNA(A92),\"\",IF(LEN(LOOKUP(B92,Database!A:A,Database!Q:Q))=0,\"\",LOOKUP(B92,Database!A:A,Database!Q:Q)))","v":""},{"$f":"IF(ISNA(A92),\"\",IF(LEN(LOOKUP(B92,Database!A:A,Database!R:R))=0,\"\",LOOKUP(B92,Database!A:A,Database!R:R)))","v":""},{"$f":"IF(ISNA(A92),\"\",IF(LEN(LOOKUP(B92,Database!A:A,Database!S:S))=0,\"\",LOOKUP(B92,Database!A:A,Database!S:S)))","v":""},null,null,null,null,null,null,78,0,null,1,0,null,0.1]
[{"$error":"#N/A"},"2018-03-20",{"$f":"IF(ISNA(A93),\"\",IF(LEN(LOOKUP(B93,Database!A:A,Database!B:B))=0,\"\",LOOKUP(B93,Database!A:A,Database!B:B)))","v":""},{"$f":"IF(ISNA(A93),\"\",IF(LEN(LOOKUP(B93,Database!A:A,Database!C:C))=0,\"\",LOOKUP(B93,Database!A:A,Database!C:C)))","v":""},{"$f":"IF(ISNA(A93),\"\",IF(LEN(LOOKUP(B93,Database!A:A,Database!D:D))=0,\"\",LOOKUP(B93,Database!A:A,Database!D:D)))","v":""},{"$f":"IF(ISNA(A93),\"\",IF(LEN(LOOKUP(B93,Database!A:A,Database!E:E))=0,\"\",LOOKUP(B93,Database!A:A,Database!E:E)))","v":""},{"$f":"IF(ISNA(A93),\"\",IF(LEN(LOOKUP(B93,Database!A:A,Database!F:F))=0,\"\",LOOKUP(B93,Database!A:A,Database!F:F)))","v":""},{"$f":"IF(ISNA(A93),\"\",IF(LEN(LOOKUP(B93,Database!A:A,Database!G:G))=0,\"\",LOOKUP(B93,Database!A:A,Database!G:G)))","v":""},{"$f":"IF(ISNA(A93),\"\",IF(LEN(LOOKUP(B93,Database!A:A,Database!H:H))=0,\"\",LOOKUP(B93,Database!A:A,Database!H:H)))","v":""},{"$f":"IF(ISNA(A93),\"\",IF(LEN(LOOKUP(B93,Database!A:A,Database!I:I))=0,\"\",LOOKUP(B93,Database!A:A,Database!I:I)))","v":""},{"$f":"IF(ISNA(A93),\"\",IF(LEN(LOOKUP(B93,Database!A:A,Database!J:J))=0,\"\",LOOKUP(B93,Database!A:A,Database!J:J)))","v":""},{"$f":"IF(ISNA(A93),\"\",IF(LEN(LOOKUP(B93,Database!A:A,Database!K:K))=0,\"\",LOOKUP(B93,Database!A:A,Database!K:K)))","v":""},{"$f":"IF(ISNA(A93),\"\",IF(LEN(LOOKUP(B93,Database!A:A,Database!L:L))=0,\"\",LOOKUP(B93,Database!A:A,Database!L:L)))","v":""},{"$f":"IF(ISNA(A93),\"\",IF(LEN(LOOKUP(B93,Database!A:A,Database!M:M))=0,\"\",LOOKUP(B93,Database!A:A,Database!M:M)))","v":""},{"$f":"IF(ISNA(A93),\"\",IF(LEN(LOOKUP(B93,Database!A:A,Database!N:N))=0,\"\",LOOKUP(B93,Database!A:A,Database!N:N)))","v":""},{"$f":"IF(ISNA(A93),\"\",IF(LEN(LOOKUP(B93,Database!A:A,Database!O:O))=0,\"\",LOOKUP(B93,Database!A:A,Database!O:O)))","v":""},{"$f":"IF(ISNA(A93),\"\",IF(LEN(LOOKUP(B93,Database!A:A,Database!P:P))=0,\"\",LOOKUP(B93,Database!A:A,Database!P:P)))","v":""},{"$f":"IF(ISNA(A93),\"\",IF(LEN(LOOKUP(B93,Database!A:A,Database!Q:Q))=0,\"\",LOOKUP(B93,Database!A:A,Database!Q:Q)))","v":""},{"$f":"IF(ISNA(A93),\"\",IF(LEN(LOOKUP(B93,Database!A:A,Database!R:R))=0,\"\",LOOKUP(B93,Database!A:A,Database!R:R)))","v":""},{"$f":"IF(ISNA(A93),\"\",IF(LEN(LOOKUP(B93,Database!A:A,Database!S:S))=0,\"\",LOOKUP(B93,Database!A:A,Database!S:S)))","v":""},null,null,null,null,null,null,79,0,null,1,0,null,0.1]
[{"$error":"#N/A"},"2018-03-21",{"$f":"IF(ISNA(A94),\"\",IF(LEN(LOOKUP(B94,Database!A:A,Database!B:B))=0,\"\",LOOKUP(B94,Database!A:A,Database!B:B)))","v":""},{"$f":"IF(ISNA(A94),\"\",IF(LEN(LOOKUP(B94,Database!A:A,Database!C:C))=0,\"\",LOOKUP(B94,Database!A:A,Database!C:C)))","v":""},{"$f":"IF(ISNA(A94),\"\",IF(LEN(LOOKUP(B94,Database!A:A,Database!D:D))=0,\"\",LOOKUP(B94,Database!A:A,Database!D:D)))","v":""},{"$f":"IF(ISNA(A94),\"\",IF(LEN(LOOKUP(B94,Database!A:A,Database!E:E))=0,\"\",LOOKUP(B94,Database!A:A,Database!E:E)))","v":""},{"$f":"IF(ISNA(A94),\"\",IF(LEN(LOOKUP(B94,Database!A:A,Database!F:F))=0,\"\",LOOKUP(B94,Database!A:A,Database!F:F)))","v":""},{"$f":"IF(ISNA(A94),\"\",IF(LEN(LOOKUP(B94,Database!A:A,Database!G:G))=0,\"\",LOOKUP(B94,Database!A:A,Database!G:G)))","v":""},{"$f":"IF(ISNA(A94),\"\",IF(LEN(LOOKUP(B94,Database!A:A,Database!H:H))=0,\"\",LOOKUP(B94,Database!A:A,Database!H:H)))","v":""},{"$f":"IF(ISNA(A94),\"\",IF(LEN(LOOKUP(B94,Database!A:A,Database!I:I))=0,\"\",LOOKUP(B94,Database!A:A,Database!I:I)))","v":""},{"$f":"IF(ISNA(A94),\"\",IF(LEN(LOOKUP(B94,Database!A:A,Database!J:J))=0,\"\",LOOKUP(B94,Database!A:A,Database!J:J)))","v":""},{"$f":"IF(ISNA(A94),\"\",IF(LEN(LOOKUP(B94,Database!A:A,Database!K:K))=0,\"\",LOOKUP(B94,Database!A:A,Database!K:K)))","v":""},{"$f":"IF(ISNA(A94),\"\",IF(LEN(LOOKUP(B94,Database!A:A,Database!L:L))=0,\"\",LOOKUP(B94,Database!A:A,Database!L:L)))","v":""},{"$f":"IF(ISNA(A94),\"\",IF(LEN(LOOKUP(B94,Database!A:A,Database!M:M))=0,\"\",LOOKUP(B94,Database!A:A,Database!M:M)))","v":""},{"$f":"IF(ISNA(A94),\"\",IF(LEN(LOOKUP(B94,Database!A:A,Database!N:N))=0,\"\",LOOKUP(B94,Database!A:A,Database!N:N)))","v":""},{"$f":"IF(ISNA(A94),\"\",IF(LEN(LOOKUP(B94,Database!A:A,Database!O:O))=0,\"\",LOOKUP(B94,Database!A:A,Database!O:O)))","v":""},{"$f":"IF(ISNA(A94),\"\",IF(LEN(LOOKUP(B94,Database!A:A,Database!P:P))=0,\"\",LOOKUP(B94,Database!A:A,Database!P:P)))","v":""},{"$f":"IF(ISNA(A94),\"\",IF(LEN(LOOKUP(B94,Database!A:A,Database!Q:Q))=0,\"\",LOOKUP(B94,Database!A:A,Database!Q:Q)))","v":""},{"$f":"IF(ISNA(A94),\"\",IF(LEN(LOOKUP(B94,Database!A:A,Database!R:R))=0,\"\",LOOKUP(B94,Database!A:A,Database!R:R)))","v":""},{"$f":"IF(ISNA(A94),\"\",IF(LEN(LOOKUP(B94,Database!A:A,Database!S:S))=0,\"\",LOOKUP(B94,Database!A:A,Database!S:S)))","v":""},null,null,null,null,null,null,80,0,null,1,0,null,0.1]
[{"$error":"#N/A"},"2018-03-22",{"$f":"IF(ISNA(A95),\"\",IF(LEN(LOOKUP(B95,Database!A:A,Database!B:B))=0,\"\",LOOKUP(B95,Database!A:A,Database!B:B)))","v":""},{"$f":"IF(ISNA(A95),\"\",IF(LEN(LOOKUP(B95,Database!A:A,Database!C:C))=0,\"\",LOOKUP(B95,Database!A:A,Database!C:C)))","v":""},{"$f":"IF(ISNA(A95),\"\",IF(LEN(LOOKUP(B95,Database!A:A,Database!D:D))=0,\"\",LOOKUP(B95,Database!A:A,Database!D:D)))","v":""},{"$f":"IF(ISNA(A95),\"\",IF(LEN(LOOKUP(B95,Database!A:A,Database!E:E))=0,\"\",LOOKUP(B95,Database!A:A,Database!E:E)))","v":""},{"$f":"IF(ISNA(A95),\"\",IF(LEN(LOOKUP(B95,Database!A:A,Database!F:F))=0,\"\",LOOKUP(B95,Database!A:A,Database!F:F)))","v":""},{"$f":"IF(ISNA(A95),\"\",IF(LEN(LOOKUP(B95,Database!A:A,Database!G:G))=0,\"\",LOOKUP(B95,Database!A:A,Database!G:G)))","v":""},{"$f":"IF(ISNA(A95),\"\",IF(LEN(LOOKUP(B95,Database!A:A,Database!H:H))=0,\"\",LOOKUP(B95,Database!A:A,Database!H:H)))","v":""},{"$f":"IF(ISNA(A95),\"\",IF(LEN(LOOKUP(B95,Database!A:A,Database!I:I))=0,\"\",LOOKUP(B95,Database!A:A,Database!I:I)))","v":""},{"$f":"IF(ISNA(A95),\"\",IF(LEN(LOOKUP(B95,Database!A:A,Database!J:J))=0,\"\",LOOKUP(B95,Database!A:A,Database!J:J)))","v":""},{"$f":"IF(ISNA(A95),\"\",IF(LEN(LOOKUP(B95,Database!A:A,Database!K:K))=0,\"\",LOOKUP(B95,Database!A:A,Database!K:K)))","v":""},{"$f":"IF(ISNA(A95),\"\",IF(LEN(LOOKUP(B95,Database!A:A,Database!L:L))=0,\"\",LOOKUP(B95,Database!A:A,Database!L:L)))","v":""},{"$f":"IF(ISNA(A95),\"\",IF(LEN(LOOKUP(B95,Database!A:A,Database!M:M))=0,\"\",LOOKUP(B95,Database!A:A,Database!M:M)))","v":""},{"$f":"IF(ISNA(A95),\"\",IF(LEN(LOOKUP(B95,Database!A:A,Database!N:N))=0,\"\",LOOKUP(B95,Database!A:A,Database!N:N)))","v":""},{"$f":"IF(ISNA(A95),\"\",IF(LEN(LOOKUP(B95,Database!A:A,Database!O:O))=0,\"\",LOOKUP(B95,Database!A:A,Database!O:O)))","v":""},{"$f":"IF(ISNA(A95),\"\",IF(LEN(LOOKUP(B95,Database!A:A,Database!P:P))=0,\"\",LOOKUP(B95,Database!A:A,Database!P:P)))","v":""},{"$f":"IF(ISNA(A95),\"\",IF(LEN(LOOKUP(B95,Database!A:A,Database!Q:Q))=0,\"\",LOOKUP(B95,Database!A:A,Database!Q:Q)))","v":""},{"$f":"IF(ISNA(A95),\"\",IF(LEN(LOOKUP(B95,Database!A:A,Database!R:R))=0,\"\",LOOKUP(B95,Database!A:A,Database!R:R)))","v":""},{"$f":"IF(ISNA(A95),\"\",IF(LEN(LOOKUP(B95,Database!A:A,Database!S:S))=0,\"\",LOOKUP(B95,Database!A:A,Database!S:S)))","v":""},null,null,null,null,null,null,81,0,null,1,0,null,0.1]
[{"$error":"#N/A"},"2018-03-23",{"$f":"IF(ISNA(A96),\"\",IF(LEN(LOOKUP(B96,Database!A:A,Database!B:B))=0,\"\",LOOKUP(B96,Database!A:A,Database!B:B)))","v":""},{"$f":"IF(ISNA(A96),\"\",IF(LEN(LOOKUP(B96,Database!A:A,Database!C:C))=0,\"\",LOOKUP(B96,Database!A:A,Database!C:C)))","v":""},{"$f":"IF(ISNA(A96),\"\",IF(LEN(LOOKUP(B96,Database!A:A,Database!D:D))=0,\"\",LOOKUP(B96,Database!A:A,Database!D:D)))","v":""},{"$f":"IF(ISNA(A96),\"\",IF(LEN(LOOKUP(B96,Database!A:A,Database!E:E))=0,\"\",LOOKUP(B96,Database!A:A,Database!E:E)))","v":""},{"$f":"IF(ISNA(A96),\"\",IF(LEN(LOOKUP(B96,Database!A:A,Database!F:F))=0,\"\",LOOKUP(B96,Database!A:A,Database!F:F)))","v":""},{"$f":"IF(ISNA(A96),\"\",IF(LEN(LOOKUP(B96,Database!A:A,Database!G:G))=0,\"\",LOOKUP(B96,Database!A:A,Database!G:G)))","v":""},{"$f":"IF(ISNA(A96),\"\",IF(LEN(LOOKUP(B96,Database!A:A,Database!H:H))=0,\"\",LOOKUP(B96,Database!A:A,Database!H:H)))","v":""},{"$f":"IF(ISNA(A96),\"\",IF(LEN(LOOKUP(B96,Database!A:A,Database!I:I))=0,\"\",LOOKUP(B96,Database!A:A,Database!I:I)))","v":""},{"$f":"IF(ISNA(A96),\"\",IF(LEN(LOOKUP(B96,Database!A:A,Database!J:J))=0,\"\",LOOKUP(B96,Database!A:A,Database!J:J)))","v":""},{"$f":"IF(ISNA(A96),\"\",IF(LEN(LOOKUP(B96,Database!A:A,Database!K:K))=0,\"\",LOOKUP(B96,Database!A:A,Database!K:K)))","v":""},{"$f":"IF(ISNA(A96),\"\",IF(LEN(LOOKUP(B96,Database!A:A,Database!L:L))=0,\"\",LOOKUP(B96,Database!A:A,Database!L:L)))","v":""},{"$f":"IF(ISNA(A96),\"\",IF(LEN(LOOKUP(B96,Database!A:A,Database!M:M))=0,\"\",LOOKUP(B96,Database!A:A,Database!M:M)))","v":""},{"$f":"IF(ISNA(A96),\"\",IF(LEN(LOOKUP(B96,Database!A:A,Database!N:N))=0,\"\",LOOKUP(B96,Database!A:A,Database!N:N)))","v":""},{"$f":"IF(ISNA(A96),\"\",IF(LEN(LOOKUP(B96,Database!A:A,Database!O:O))=0,\"\",LOOKUP(B96,Database!A:A,Database!O:O)))","v":""},{"$f":"IF(ISNA(A96),\"\",IF(LEN(LOOKUP(B96,Database!A:A,Database!P:P))=0,\"\",LOOKUP(B96,Database!A:A,Database!P:P)))","v":""},{"$f":"IF(ISNA(A96),\"\",IF(LEN(LOOKUP(B96,Database!A:A,Database!Q:Q))=0,\"\",LOOKUP(B96,Database!A:A,Database!Q:Q)))","v":""},{"$f":"IF(ISNA(A96),\"\",IF(LEN(LOOKUP(B96,Database!A:A,Database!R:R))=0,\"\",LOOKUP(B96,Database!A:A,Database!R:R)))","v":""},{"$f":"IF(ISNA(A96),\"\",IF(LEN(LOOKUP(B96,Database!A:A,Database!S:S))=0,\"\",LOOKUP(B96,Database!A:A,Database!S:S)))","v":""},null,null,null,null,null,null,82,0,null,1,0,null,0.1]
[{"$error":"#N/A"},"2018-03-24",{"$f":"IF(ISNA(A97),\"\",IF(LEN(LOOKUP(B97,Database!A:A,Database!B:B))=0,\"\",LOOKUP(B97,Database!A:A,Database!B:B)))","v":""},{"$f":"IF(ISNA(A97),\"\",IF(LEN(LOOKUP(B97,Database!A:A,Database!C:C))=0,\"\",LOOKUP(B97,Database!A:A,Database!C:C)))","v":""},{"$f":"IF(ISNA(A97),\"\",IF(LEN(LOOKUP(B97,Database!A:A,Database!D:D))=0,\"\",LOOKUP(B97,Database!A:A,Database!D:D)))","v":""},{"$f":"IF(ISNA(A97),\"\",IF(LEN(LOOKUP(B97,Database!A:A,Database!E:E))=0,\"\",LOOKUP(B97,Database!A:A,Database!E:E)))","v":""},{"$f":"IF(ISNA(A97),\"\",IF(LEN(LOOKUP(B97,Database!A:A,Database!F:F))=0,\"\",LOOKUP(B97,Database!A:A,Database!F:F)))","v":""},{"$f":"IF(ISNA(A97),\"\",IF(LEN(LOOKUP(B97,Database!A:A,Database!G:G))=0,\"\",LOOKUP(B97,Database!A:A,Database!G:G)))","v":""},{"$f":"IF(ISNA(A97),\"\",IF(LEN(LOOKUP(B97,Database!A:A,Database!H:H))=0,\"\",LOOKUP(B97,Database!A:A,Database!H:H)))","v":""},{"$f":"IF(ISNA(A97),\"\",IF(LEN(LOOKUP(B97,Database!A:A,Database!I:I))=0,\"\",LOOKUP(B97,Database!A:A,Database!I:I)))","v":""},{"$f":"IF(ISNA(A97),\"\",IF(LEN(LOOKUP(B97,Database!A:A,Database!J:J))=0,\"\",LOOKUP(B97,Database!A:A,Database!J:J)))","v":""},{"$f":"IF(ISNA(A97),\"\",IF(LEN(LOOKUP(B97,Database!A:A,Database!K:K))=0,\"\",LOOKUP(B97,Database!A:A,Database!K:K)))","v":""},{"$f":"IF(ISNA(A97),\"\",IF(LEN(LOOKUP(B97,Database!A:A,Database!L:L))=0,\"\",LOOKUP(B97,Database!A:A,Database!L:L)))","v":""},{"$f":"IF(ISNA(A97),\"\",IF(LEN(LOOKUP(B97,Database!A:A,Database!M:M))=0,\"\",LOOKUP(B97,Database!A:A,Database!M:M)))","v":""},{"$f":"IF(ISNA(A97),\"\",IF(LEN(LOOKUP(B97,Database!A:A,Database!N:N))=0,\"\",LOOKUP(B97,Database!A:A,Database!N:N)))","v":""},{"$f":"IF(ISNA(A97),\"\",IF(LEN(LOOKUP(B97,Database!A:A,Database!O:O))=0,\"\",LOOKUP(B97,Database!A:A,Database!O:O)))","v":""},{"$f":"IF(ISNA(A97),\"\",IF(LEN(LOOKUP(B97,Database!A:A,Database!P:P))=0,\"\",LOOKUP(B97,Database!A:A,Database!P:P)))","v":""},{"$f":"IF(ISNA(A97),\"\",IF(LEN(LOOKUP(B97,Database!A:A,Database!Q:Q))=0,\"\",LOOKUP(B97,Database!A:A,Database!Q:Q)))","v":""},{"$f":"IF(ISNA(A97),\"\",IF(LEN(LOOKUP(B97,Database!A:A,Database!R:R))=0,\"\",LOOKUP(B97,Database!A:A,Database!R:R)))","v":""},{"$f":"IF(ISNA(A97),\"\",IF(LEN(LOOKUP(B97,Database!A:A,Database!S:S))=0,\"\",LOOKUP(B97,Database!A:A,Database!S:S)))","v":""},null,null,null,null,null,null,83,0,null,1,0,null,0.1]
[{"$error":"#N/A"},"2018-03-25",{"$f":"IF(ISNA(A98),\"\",IF(LEN(LOOKUP(B98,Database!A:A,Database!B:B))=0,\"\",LOOKUP(B98,Database!A:A,Database!B:B)))","v":""},{"$f":"IF(ISNA(A98),\"\",IF(LEN(LOOKUP(B98,Database!A:A,Database!C:C))=0,\"\",LOOKUP(B98,Database!A:A,Database!C:C)))","v":""},{"$f":"IF(ISNA(A98),\"\",IF(LEN(LOOKUP(B98,Database!A:A,Database!D:D))=0,\"\",LOOKUP(B98,Database!A:A,Database!D:D)))","v":""},{"$f":"IF(ISNA(A98),\"\",IF(LEN(LOOKUP(B98,Database!A:A,Database!E:E))=0,\"\",LOOKUP(B98,Database!A:A,Database!E:E)))","v":""},{"$f":"IF(ISNA(A98),\"\",IF(LEN(LOOKUP(B98,Database!A:A,Database!F:F))=0,\"\",LOOKUP(B98,Database!A:A,Database!F:F)))","v":""},{"$f":"IF(ISNA(A98),\"\",IF(LEN(LOOKUP(B98,Database!A:A,Database!G:G))=0,\"\",LOOKUP(B98,Database!A:A,Database!G:G)))","v":""},{"$f":"IF(ISNA(A98),\"\",IF(LEN(LOOKUP(B98,Database!A:A,Database!H:H))=0,\"\",LOOKUP(B98,Database!A:A,Database!H:H)))","v":""},{"$f":"IF(ISNA(A98),\"\",IF(LEN(LOOKUP(B98,Database!A:A,Database!I:I))=0,\"\",LOOKUP(B98,Database!A:A,Database!I:I)))","v":""},{"$f":"IF(ISNA(A98),\"\",IF(LEN(LOOKUP(B98,Database!A:A,Database!J:J))=0,\"\",LOOKUP(B98,Database!A:A,Database!J:J)))","v":""},{"$f":"IF(ISNA(A98),\"\",IF(LEN(LOOKUP(B98,Database!A:A,Database!K:K))=0,\"\",LOOKUP(B98,Database!A:A,Database!K:K)))","v":""},{"$f":"IF(ISNA(A98),\"\",IF(LEN(LOOKUP(B98,Database!A:A,Database!L:L))=0,\"\",LOOKUP(B98,Database!A:A,Database!L:L)))","v":""},{"$f":"IF(ISNA(A98),\"\",IF(LEN(LOOKUP(B98,Database!A:A,Database!M:M))=0,\"\",LOOKUP(B98,Database!A:A,Database!M:M)))","v":""},{"$f":"IF(ISNA(A98),\"\",IF(LEN(LOOKUP(B98,Database!A:A,Database!N:N))=0,\"\",LOOKUP(B98,Database!A:A,Database!N:N)))","v":""},{"$f":"IF(ISNA(A98),\"\",IF(LEN(LOOKUP(B98,Database!A:A,Database!O:O))=0,\"\",LOOKUP(B98,Database!A:A,Database!O:O)))","v":""},{"$f":"IF(ISNA(A98),\"\",IF(LEN(LOOKUP(B98,Database!A:A,Database!P:P))=0,\"\",LOOKUP(B98,Database!A:A,Database!P:P)))","v":""},{"$f":"IF(ISNA(A98),\"\",IF(LEN(LOOKUP(B98,Database!A:A,Database!Q:Q))=0,\"\",LOOKUP(B98,Database!A:A,Database!Q:Q)))","v":""},{"$f":"IF(ISNA(A98),\"\",IF(LEN(LOOKUP(B98,Database!A:A,Database!R:R))=0,\"\",LOOKUP(B98,Database!A:A,Database!R:R)))","v":""},{"$f":"IF(ISNA(A98),\"\",IF(LEN(LOOKUP(B98,Database!A:A,Database!S:S))=0,\"\",LOOKUP(B98,Database!A:A,Database!S:S)))","v":""},null,null,null,null,null,null,84,0,null,1,0,null,0.1]
[{"$error":"#N/A"},"2018-03-26",{"$f":"IF(ISNA(A99),\"\",IF(LEN(LOOKUP(B99,Database!A:A,Database!B:B))=0,\"\",LOOKUP(B99,Database!A:A,Database!B:B)))","v":""},{"$f":"IF(ISNA(A99),\"\",IF(LEN(LOOKUP(B99,Database!A:A,Database!C:C))=0,\"\",LOOKUP(B99,Database!A:A,Database!C:C)))","v":""},{"$f":"IF(ISNA(A99),\"\",IF(LEN(LOOKUP(B99,Database!A:A,Database!D:D))=0,\"\",LOOKUP(B99,Database!A:A,Database!D:D)))","v":""},{"$f":"IF(ISNA(A99),\"\",IF(LEN(LOOKUP(B99,Database!A:A,Database!E:E))=0,\"\",LOOKUP(B99,Database!A:A,Database!E:E)))","v":""},{"$f":"IF(ISNA(A99),\"\",IF(LEN(LOOKUP(B99,Database!A:A,Database!F:F))=0,\"\",LOOKUP(B99,Database!A:A,Database!F:F)))","v":""},{"$f":"IF(ISNA(A99),\"\",IF(LEN(LOOKUP(B99,Database!A:A,Database!G:G))=0,\"\",LOOKUP(B99,Database!A:A,Database!G:G)))","v":""},{"$f":"IF(ISNA(A99),\"\",IF(LEN(LOOKUP(B99,Database!A:A,Database!H:H))=0,\"\",LOOKUP(B99,Database!A:A,Database!H:H)))","v":""},{"$f":"IF(ISNA(A99),\"\",IF(LEN(LOOKUP(B99,Database!A:A,Database!I:I))=0,\"\",LOOKUP(B99,Database!A:A,Database!I:I)))","v":""},{"$f":"IF(ISNA(A99),\"\",IF(LEN(LOOKUP(B99,Database!A:A,Database!J:J))=0,\"\",LOOKUP(B99,Database!A:A,Database!J:J)))","v":""},{"$f":"IF(ISNA(A99),\"\",IF(LEN(LOOKUP(B99,Database!A:A,Database!K:K))=0,\"\",LOOKUP(B99,Database!A:A,Database!K:K)))","v":""},{"$f":"IF(ISNA(A99),\"\",IF(LEN(LOOKUP(B99,Database!A:A,Database!L:L))=0,\"\",LOOKUP(B99,Database!A:A,Database!L:L)))","v":""},{"$f":"IF(ISNA(A99),\"\",IF(LEN(LOOKUP(B99,Database!A:A,Database!M:M))=0,\"\",LOOKUP(B99,Database!A:A,Database!M:M)))","v":""},{"$f":"IF(ISNA(A99),\"\",IF(LEN(LOOKUP(B99,Database!A:A,Database!N:N))=0,\"\",LOOKUP(B99,Database!A:A,Database!N:N)))","v":""},{"$f":"IF(ISNA(A99),\"\",IF(LEN(LOOKUP(B99,Database!A:A,Database!O:O))=0,\"\",LOOKUP(B99,Database!A:A,Database!O:O)))","v":""},{"$f":"IF(ISNA(A99),\"\",IF(LEN(LOOKUP(B99,Database!A:A,Database!P:P))=0,\"\",LOOKUP(B99,Database!A:A,Database!P:P)))","v":""},{"$f":"IF(ISNA(A99),\"\",IF(LEN(LOOKUP(B99,Database!A:A,Database!Q:Q))=0,\"\",LOOKUP(B99,Database!A:A,Database!Q:Q)))","v":""},{"$f":"IF(ISNA(A99),\"\",IF(LEN(LOOKUP(B99,Database!A:A,Database!R:R))=0,\"\",LOOKUP(B99,Database!A:A,Database!R:R)))","v":""},{"$f":"IF(ISNA(A99),\"\",IF(LEN(LOOKUP(B99,Database!A:A,Database!S:S))=0,\"\",LOOKUP(B99,Database!A:A,Database!S:S)))","v":""},null,null,null,null,null,null,85,0,null,1,0,null,0.1]
[{"$error":"#N/A"},"2018-03-27",{"$f":"IF(ISNA(A100),\"\",IF(LEN(LOOKUP(B100,Database!A:A,Database!B:B))=0,\"\",LOOKUP(B100,Database!A:A,Database!B:B)))","v":""},{"$f":"IF(ISNA(A100),\"\",IF(LEN(LOOKUP(B100,Database!A:A,Database!C:C))=0,\"\",LOOKUP(B100,Database!A:A,Database!C:C)))","v":""},{"$f":"IF(ISNA(A100),\"\",IF(LEN(LOOKUP(B100,Database!A:A,Database!D:D))=0,\"\",LOOKUP(B100,Database!A:A,Database!D:D)))","v":""},{"$f":"IF(ISNA(A100),\"\",IF(LEN(LOOKUP(B100,Database!A:A,Database!E:E))=0,\"\",LOOKUP(B100,Database!A:A,Database!E:E)))","v":""},{"$f":"IF(ISNA(A100),\"\",IF(LEN(LOOKUP(B100,Database!A:A,Database!F:F))=0,\"\",LOOKUP(B100,Database!A:A,Database!F:F)))","v":""},{"$f":"IF(ISNA(A100),\"\",IF(LEN(LOOKUP(B100,Database!A:A,Database!G:G))=0,\"\",LOOKUP(B100,Database!A:A,Database!G:G)))","v":""},{"$f":"IF(ISNA(A100),\"\",IF(LEN(LOOKUP(B100,Database!A:A,Database!H:H))=0,\"\",LOOKUP(B100,Database!A:A,Database!H:H)))","v":""},{"$f":"IF(ISNA(A100),\"\",IF(LEN(LOOKUP(B100,Database!A:A,Database!I:I))=0,\"\",LOOKUP(B100,Database!A:A,Database!I:I)))","v":""},{"$f":"IF(ISNA(A100),\"\",IF(LEN(LOOKUP(B100,Database!A:A,Database!J:J))=0,\"\",LOOKUP(B100,Database!A:A,Database!J:J)))","v":""},{"$f":"IF(ISNA(A100),\"\",IF(LEN(LOOKUP(B100,Database!A:A,Database!K:K))=0,\"\",LOOKUP(B100,Database!A:A,Database!K:K)))","v":""},{"$f":"IF(ISNA(A100),\"\",IF(LEN(LOOKUP(B100,Database!A:A,Database!L:L))=0,\"\",LOOKUP(B100,Database!A:A,Database!L:L)))","v":""},{"$f":"IF(ISNA(A100),\"\",IF(LEN(LOOKUP(B100,Database!A:A,Database!M:M))=0,\"\",LOOKUP(B100,Database!A:A,Database!M:M)))","v":""},{"$f":"IF(ISNA(A100),\"\",IF(LEN(LOOKUP(B100,Database!A:A,Database!N:N))=0,\"\",LOOKUP(B100,Database!A:A,Database!N:N)))","v":""},{"$f":"IF(ISNA(A100),\"\",IF(LEN(LOOKUP(B100,Database!A:A,Database!O:O))=0,\"\",LOOKUP(B100,Database!A:A,Database!O:O)))","v":""},{"$f":"IF(ISNA(A100),\"\",IF(LEN(LOOKUP(B100,Database!A:A,Database!P:P))=0,\"\",LOOKUP(B100,Database!A:A,Database!P:P)))","v":""},{"$f":"IF(ISNA(A100),\"\",IF(LEN(LOOKUP(B100,Database!A:A,Database!Q:Q))=0,\"\",LOOKUP(B100,Database!A:A,Database!Q:Q)))","v":""},{"$f":"IF(ISNA(A100),\"\",IF(LEN(LOOKUP(B100,Database!A:A,Database!R:R))=0,\"\",LOOKUP(B100,Database!A:A,Database!R:R)))","v":""},{"$f":"IF(ISNA(A100),\"\",IF(LEN(LOOKUP(B100,Database!A:A,Database!S:S))=0,\"\",LOOKUP(B100,Database!A:A,Database!S:S)))","v":""},null,null,null,null,null,null,86,0,null,1,0,null,0.1]
[{"$error":"#N/A"},"2018-03-28",{"$f":"IF(ISNA(A101),\"\",IF(LEN(LOOKUP(B101,Database!A:A,Database!B:B))=0,\"\",LOOKUP(B101,Database!A:A,Database!B:B)))","v":""},{"$f":"IF(ISNA(A101),\"\",IF(LEN(LOOKUP(B101,Database!A:A,Database!C:C))=0,\"\",LOOKUP(B101,Database!A:A,Database!C:C)))","v":""},{"$f":"IF(ISNA(A101),\"\",IF(LEN(LOOKUP(B101,Database!A:A,Database!D:D))=0,\"\",LOOKUP(B101,Database!A:A,Database!D:D)))","v":""},{"$f":"IF(ISNA(A101),\"\",IF(LEN(LOOKUP(B101,Database!A:A,Database!E:E))=0,\"\",LOOKUP(B101,Database!A:A,Database!E:E)))","v":""},{"$f":"IF(ISNA(A101),\"\",IF(LEN(LOOKUP(B101,Database!A:A,Database!F:F))=0,\"\",LOOKUP(B101,Database!A:A,Database!F:F)))","v":""},{"$f":"IF(ISNA(A101),\"\",IF(LEN(LOOKUP(B101,Database!A:A,Database!G:G))=0,\"\",LOOKUP(B101,Database!A:A,Database!G:G)))","v":""},{"$f":"IF(ISNA(A101),\"\",IF(LEN(LOOKUP(B101,Database!A:A,Database!H:H))=0,\"\",LOOKUP(B101,Database!A:A,Database!H:H)))","v":""},{"$f":"IF(ISNA(A101),\"\",IF(LEN(LOOKUP(B101,Database!A:A,Database!I:I))=0,\"\",LOOKUP(B101,Database!A:A,Database!I:I)))","v":""},{"$f":"IF(ISNA(A101),\"\",IF(LEN(LOOKUP(B101,Database!A:A,Database!J:J))=0,\"\",LOOKUP(B101,Database!A:A,Database!J:J)))","v":""},{"$f":"IF(ISNA(A101),\"\",IF(LEN(LOOKUP(B101,Database!A:A,Database!K:K))=0,\"\",LOOKUP(B101,Database!A:A,Database!K:K)))","v":""},{"$f":"IF(ISNA(A101),\"\",IF(LEN(LOOKUP(B101,Database!A:A,Database!L:L))=0,\"\",LOOKUP(B101,Database!A:A,Database!L:L)))","v":""},{"$f":"IF(ISNA(A101),\"\",IF(LEN(LOOKUP(B101,Database!A:A,Database!M:M))=0,\"\",LOOKUP(B101,Database!A:A,Database!M:M)))","v":""},{"$f":"IF(ISNA(A101),\"\",IF(LEN(LOOKUP(B101,Database!A:A,Database!N:N))=0,\"\",LOOKUP(B101,Database!A:A,Database!N:N)))","v":""},{"$f":"IF(ISNA(A101),\"\",IF(LEN(LOOKUP(B101,Database!A:A,Database!O:O))=0,\"\",LOOKUP(B101,Database!A:A,Database!O:O)))","v":""},{"$f":"IF(ISNA(A101),\"\",IF(LEN(LOOKUP(B101,Database!A:A,Database!P:P))=0,\"\",LOOKUP(B101,Database!A:A,Database!P:P)))","v":""},{"$f":"IF(ISNA(A101),\"\",IF(LEN(LOOKUP(B101,Database!A:A,Database!Q:Q))=0,\"\",LOOKUP(B101,Database!A:A,Database!Q:Q)))","v":""},{"$f":"IF(ISNA(A101),\"\",IF(LEN(LOOKUP(B101,Database!A:A,Database!R:R))=0,\"\",LOOKUP(B101,Database!A:A,Database!R:R)))","v":""},{"$f":"IF(ISNA(A101),\"\",IF(LEN(LOOKUP(B101,Database!A:A,Database!S:S))=0,\"\",LOOKUP(B101,Database!A:A,Database!S:S)))","v":""},null,null,null,null,null,null,87,0,null,1,0,null,0.1]
[{"$error":"#N/A"},"2018-03-29",{"$f":"IF(ISNA(A102),\"\",IF(LEN(LOOKUP(B102,Database!A:A,Database!B:B))=0,\"\",LOOKUP(B102,Database!A:A,Database!B:B)))","v":""},{"$f":"IF(ISNA(A102),\"\",IF(LEN(LOOKUP(B102,Database!A:A,Database!C:C))=0,\"\",LOOKUP(B102,Database!A:A,Database!C:C)))","v":""},{"$f":"IF(ISNA(A102),\"\",IF(LEN(LOOKUP(B102,Database!A:A,Database!D:D))=0,\"\",LOOKUP(B102,Database!A:A,Database!D:D)))","v":""},{"$f":"IF(ISNA(A102),\"\",IF(LEN(LOOKUP(B102,Database!A:A,Database!E:E))=0,\"\",LOOKUP(B102,Database!A:A,Database!E:E)))","v":""},{"$f":"IF(ISNA(A102),\"\",IF(LEN(LOOKUP(B102,Database!A:A,Database!F:F))=0,\"\",LOOKUP(B102,Database!A:A,Database!F:F)))","v":""},{"$f":"IF(ISNA(A102),\"\",IF(LEN(LOOKUP(B102,Database!A:A,Database!G:G))=0,\"\",LOOKUP(B102,Database!A:A,Database!G:G)))","v":""},{"$f":"IF(ISNA(A102),\"\",IF(LEN(LOOKUP(B102,Database!A:A,Database!H:H))=0,\"\",LOOKUP(B102,Database!A:A,Database!H:H)))","v":""},{"$f":"IF(ISNA(A102),\"\",IF(LEN(LOOKUP(B102,Database!A:A,Database!I:I))=0,\"\",LOOKUP(B102,Database!A:A,Database!I:I)))","v":""},{"$f":"IF(ISNA(A102),\"\",IF(LEN(LOOKUP(B102,Database!A:A,Database!J:J))=0,\"\",LOOKUP(B102,Database!A:A,Database!J:J)))","v":""},{"$f":"IF(ISNA(A102),\"\",IF(LEN(LOOKUP(B102,Database!A:A,Database!K:K))=0,\"\",LOOKUP(B102,Database!A:A,Database!K:K)))","v":""},{"$f":"IF(ISNA(A102),\"\",IF(LEN(LOOKUP(B102,Database!A:A,Database!L:L))=0,\"\",LOOKUP(B102,Database!A:A,Database!L:L)))","v":""},{"$f":"IF(ISNA(A102),\"\",IF(LEN(LOOKUP(B102,Database!A:A,Database!M:M))=0,\"\",LOOKUP(B102,Database!A:A,Database!M:M)))","v":""},{"$f":"IF(ISNA(A102),\"\",IF(LEN(LOOKUP(B102,Database!A:A,Database!N:N))=0,\"\",LOOKUP(B102,Database!A:A,Database!N:N)))","v":""},{"$f":"IF(ISNA(A102),\"\",IF(LEN(LOOKUP(B102,Database!A:A,Database!O:O))=0,\"\",LOOKUP(B102,Database!A:A,Database!O:O)))","v":""},{"$f":"IF(ISNA(A102),\"\",IF(LEN(LOOKUP(B102,Database!A:A,Database!P:P))=0,\"\",LOOKUP(B102,Database!A:A,Database!P:P)))","v":""},{"$f":"IF(ISNA(A102),\"\",IF(LEN(LOOKUP(B102,Database!A:A,Database!Q:Q))=0,\"\",LOOKUP(B102,Database!A:A,Database!Q:Q)))","v":""},{"$f":"IF(ISNA(A102),\"\",IF(LEN(LOOKUP(B102,Database!A:A,Database!R:R))=0,\"\",LOOKUP(B102,Database!A:A,Database!R:R)))","v":""},{"$f":"IF(ISNA(A102),\"\",IF(LEN(LOOKUP(B102,Database!A:A,Database!S:S))=0,\"\",LOOKUP(B102,Database!A:A,Database!S:S)))","v":""},null,null,null,null,null,null,88,0,null,1,0,null,0.1]
[{"$error":"#N/A"},"2018-03-30",{"$f":"IF(ISNA(A103),\"\",IF(LEN(LOOKUP(B103,Database!A:A,Database!B:B))=0,\"\",LOOKUP(B103,Database!A:A,Database!B:B)))","v":""},{"$f":"IF(ISNA(A103),\"\",IF(LEN(LOOKUP(B103,Database!A:A,Database!C:C))=0,\"\",LOOKUP(B103,Database!A:A,Database!C:C)))","v":""},{"$f":"IF(ISNA(A103),\"\",IF(LEN(LOOKUP(B103,Database!A:A,Database!D:D))=0,\"\",LOOKUP(B103,Database!A:A,Database!D:D)))","v":""},{"$f":"IF(ISNA(A103),\"\",IF(LEN(LOOKUP(B103,Database!A:A,Database!E:E))=0,\"\",LOOKUP(B103,Database!A:A,Database!E:E)))","v":""},{"$f":"IF(ISNA(A103),\"\",IF(LEN(LOOKUP(B103,Database!A:A,Database!F:F))=0,\"\",LOOKUP(B103,Database!A:A,Database!F:F)))","v":""},{"$f":"IF(ISNA(A103),\"\",IF(LEN(LOOKUP(B103,Database!A:A,Database!G:G))=0,\"\",LOOKUP(B103,Database!A:A,Database!G:G)))","v":""},{"$f":"IF(ISNA(A103),\"\",IF(LEN(LOOKUP(B103,Database!A:A,Database!H:H))=0,\"\",LOOKUP(B103,Database!A:A,Database!H:H)))","v":""},{"$f":"IF(ISNA(A103),\"\",IF(LEN(LOOKUP(B103,Database!A:A,Database!I:I))=0,\"\",LOOKUP(B103,Database!A:A,Database!I:I)))","v":""},{"$f":"IF(ISNA(A103),\"\",IF(LEN(LOOKUP(B103,Database!A:A,Database!J:J))=0,\"\",LOOKUP(B103,Database!A:A,Database!J:J)))","v":""},{"$f":"IF(ISNA(A103),\"\",IF(LEN(LOOKUP(B103,Database!A:A,Database!K:K))=0,\"\",LOOKUP(B103,Database!A:A,Database!K:K)))","v":""},{"$f":"IF(ISNA(A103),\"\",IF(LEN(LOOKUP(B103,Database!A:A,Database!L:L))=0,\"\",LOOKUP(B103,Database!A:A,Database!L:L)))","v":""},{"$f":"IF(ISNA(A103),\"\",IF(LEN(LOOKUP(B103,Database!A:A,Database!M:M))=0,\"\",LOOKUP(B103,Database!A:A,Database!M:M)))","v":""},{"$f":"IF(ISNA(A103),\"\",IF(LEN(LOOKUP(B103,Database!A:A,Database!N:N))=0,\"\",LOOKUP(B103,Database!A:A,Database!N:N)))","v":""},{"$f":"IF(ISNA(A103),\"\",IF(LEN(LOOKUP(B103,Database!A:A,Database!O:O))=0,\"\",LOOKUP(B103,Database!A:A,Database!O:O)))","v":""},{"$f":"IF(ISNA(A103),\"\",IF(LEN(LOOKUP(B103,Database!A:A,Database!P:P))=0,\"\",LOOKUP(B103,Database!A:A,Database!P:P)))","v":""},{"$f":"IF(ISNA(A103),\"\",IF(LEN(LOOKUP(B103,Database!A:A,Database!Q:Q))=0,\"\",LOOKUP(B103,Database!A:A,Database!Q:Q)))","v":""},{"$f":"IF(ISNA(A103),\"\",IF(LEN(LOOKUP(B103,Database!A:A,Database!R:R))=0,\"\",LOOKUP(B103,Database!A:A,Database!R:R)))","v":""},{"$f":"IF(ISNA(A103),\"\",IF(LEN(LOOKUP(B103,Database!A:A,Database!S:S))=0,\"\",LOOKUP(B103,Database!A:A,Database!S:S)))","v":""},null,null,null,null,null,null,89,0,null,1,0,null,0.1]
[{"$error":"#N/A"},"2018-03-31",{"$f":"IF(ISNA(A104),\"\",IF(LEN(LOOKUP(B104,Database!A:A,Database!B:B))=0,\"\",LOOKUP(B104,Database!A:A,Database!B:B)))","v":""},{"$f":"IF(ISNA(A104),\"\",IF(LEN(LOOKUP(B104,Database!A:A,Database!C:C))=0,\"\",LOOKUP(B104,Database!A:A,Database!C:C)))","v":""},{"$f":"IF(ISNA(A104),\"\",IF(LEN(LOOKUP(B104,Database!A:A,Database!D:D))=0,\"\",LOOKUP(B104,Database!A:A,Database!D:D)))","v":""},{"$f":"IF(ISNA(A104),\"\",IF(LEN(LOOKUP(B104,Database!A:A,Database!E:E))=0,\"\",LOOKUP(B104,Database!A:A,Database!E:E)))","v":""},{"$f":"IF(ISNA(A104),\"\",IF(LEN(LOOKUP(B104,Database!A:A,Database!F:F))=0,\"\",LOOKUP(B104,Database!A:A,Database!F:F)))","v":""},{"$f":"IF(ISNA(A104),\"\",IF(LEN(LOOKUP(B104,Database!A:A,Database!G:G))=0,\"\",LOOKUP(B104,Database!A:A,Database!G:G)))","v":""},{"$f":"IF(ISNA(A104),\"\",IF(LEN(LOOKUP(B104,Database!A:A,Database!H:H))=0,\"\",LOOKUP(B104,Database!A:A,Database!H:H)))","v":""},{"$f":"IF(ISNA(A104),\"\",IF(LEN(LOOKUP(B104,Database!A:A,Database!I:I))=0,\"\",LOOKUP(B104,Database!A:A,Database!I:I)))","v":""},{"$f":"IF(ISNA(A104),\"\",IF(LEN(LOOKUP(B104,Database!A:A,Database!J:J))=0,\"\",LOOKUP(B104,Database!A:A,Database!J:J)))","v":""},{"$f":"IF(ISNA(A104),\"\",IF(LEN(LOOKUP(B104,Database!A:A,Database!K:K))=0,\"\",LOOKUP(B104,Database!A:A,Database!K:K)))","v":""},{"$f":"IF(ISNA(A104),\"\",IF(LEN(LOOKUP(B104,Database!A:A,Database!L:L))=0,\"\",LOOKUP(B104,Database!A:A,Database!L:L)))","v":""},{"$f":"IF(ISNA(A104),\"\",IF(LEN(LOOKUP(B104,Database!A:A,Database!M:M))=0,\"\",LOOKUP(B104,Database!A:A,Database!M:M)))","v":""},{"$f":"IF(ISNA(A104),\"\",IF(LEN(LOOKUP(B104,Database!A:A,Database!N:N))=0,\"\",LOOKUP(B104,Database!A:A,Database!N:N)))","v":""},{"$f":"IF(ISNA(A104),\"\",IF(LEN(LOOKUP(B104,Database!A:A,Database!O:O))=0,\"\",LOOKUP(B104,Database!A:A,Database!O:O)))","v":""},{"$f":"IF(ISNA(A104),\"\",IF(LEN(LOOKUP(B104,Database!A:A,Database!P:P))=0,\"\",LOOKUP(B104,Database!A:A,Database!P:P)))","v":""},{"$f":"IF(ISNA(A104),\"\",IF(LEN(LOOKUP(B104,Database!A:A,Database!Q:Q))=0,\"\",LOOKUP(B104,Database!A:A,Database!Q:Q)))","v":""},{"$f":"IF(ISNA(A104),\"\",IF(LEN(LOOKUP(B104,Database!A:A,Database!R:R))=0,\"\",LOOKUP(B104,Database!A:A,Database!R:R)))","v":""},{"$f":"IF(ISNA(A104),\"\",IF(LEN(LOOKUP(B104,Database!A:A,Database!S:S))=0,\"\",LOOKUP(B104,Database!A:A,Database!S:S)))","v":""},null,null,null,null,null,null,90,0,null,1,0,null,0.1]
[{"$error":"#N/A"},"2018-04-01",{"$f":"IF(ISNA(A105),\"\",IF(LEN(LOOKUP(B105,Database!A:A,Database!B:B))=0,\"\",LOOKUP(B105,Database!A:A,Database!B:B)))","v":""},{"$f":"IF(ISNA(A105),\"\",IF(LEN(LOOKUP(B105,Database!A:A,Database!C:C))=0,\"\",LOOKUP(B105,Database!A:A,Database!C:C)))","v":""},{"$f":"IF(ISNA(A105),\"\",IF(LEN(LOOKUP(B105,Database!A:A,Database!D:D))=0,\"\",LOOKUP(B105,Database!A:A,Database!D:D)))","v":""},{"$f":"IF(ISNA(A105),\"\",IF(LEN(LOOKUP(B105,Database!A:A,Database!E:E))=0,\"\",LOOKUP(B105,Database!A:A,Database!E:E)))","v":""},{"$f":"IF(ISNA(A105),\"\",IF(LEN(LOOKUP(B105,Database!A:A,Database!F:F))=0,\"\",LOOKUP(B105,Database!A:A,Database!F:F)))","v":""},{"$f":"IF(ISNA(A105),\"\",IF(LEN(LOOKUP(B105,Database!A:A,Database!G:G))=0,\"\",LOOKUP(B105,Database!A:A,Database!G:G)))","v":""},{"$f":"IF(ISNA(A105),\"\",IF(LEN(LOOKUP(B105,Database!A:A,Database!H:H))=0,\"\",LOOKUP(B105,Database!A:A,Database!H:H)))","v":""},{"$f":"IF(ISNA(A105),\"\",IF(LEN(LOOKUP(B105,Database!A:A,Database!I:I))=0,\"\",LOOKUP(B105,Database!A:A,Database!I:I)))","v":""},{"$f":"IF(ISNA(A105),\"\",IF(LEN(LOOKUP(B105,Database!A:A,Database!J:J))=0,\"\",LOOKUP(B105,Database!A:A,Database!J:J)))","v":""},{"$f":"IF(ISNA(A105),\"\",IF(LEN(LOOKUP(B105,Database!A:A,Database!K:K))=0,\"\",LOOKUP(B105,Database!A:A,Database!K:K)))","v":""},{"$f":"IF(ISNA(A105),\"\",IF(LEN(LOOKUP(B105,Database!A:A,Database!L:L))=0,\"\",LOOKUP(B105,Database!A:A,Database!L:L)))","v":""},{"$f":"IF(ISNA(A105),\"\",IF(LEN(LOOKUP(B105,Database!A:A,Database!M:M))=0,\"\",LOOKUP(B105,Database!A:A,Database!M:M)))","v":""},{"$f":"IF(ISNA(A105),\"\",IF(LEN(LOOKUP(B105,Database!A:A,Database!N:N))=0,\"\",LOOKUP(B105,Database!A:A,Database!N:N)))","v":""},{"$f":"IF(ISNA(A105),\"\",IF(LEN(LOOKUP(B105,Database!A:A,Database!O:O))=0,\"\",LOOKUP(B105,Database!A:A,Database!O:O)))","v":""},{"$f":"IF(ISNA(A105),\"\",IF(LEN(LOOKUP(B105,Database!A:A,Database!P:P))=0,\"\",LOOKUP(B105,Database!A:A,Database!P:P)))","v":""},{"$f":"IF(ISNA(A105),\"\",IF(LEN(LOOKUP(B105,Database!A:A,Database!Q:Q))=0,\"\",LOOKUP(B105,Database!A:A,Database!Q:Q)))","v":""},{"$f":"IF(ISNA(A105),\"\",IF(LEN(LOOKUP(B105,Database!A:A,Database!R:R))=0,\"\",LOOKUP(B105,Database!A:A,Database!R:R)))","v":""},{"$f":"IF(ISNA(A105),\"\",IF(LEN(LOOKUP(B105,Database!A:A,Database!S:S))=0,\"\",LOOKUP(B105,Database!A:A,Database!S:S)))","v":""},null,null,null,null,null,null,91,0,null,1,0,null,0.1]
[{"$error":"#N/A"},"2018-04-02",{"$f":"IF(ISNA(A106),\"\",IF(LEN(LOOKUP(B106,Database!A:A,Database!B:B))=0,\"\",LOOKUP(B106,Database!A:A,Database!B:B)))","v":""},{"$f":"IF(ISNA(A106),\"\",IF(LEN(LOOKUP(B106,Database!A:A,Database!C:C))=0,\"\",LOOKUP(B106,Database!A:A,Database!C:C)))","v":""},{"$f":"IF(ISNA(A106),\"\",IF(LEN(LOOKUP(B106,Database!A:A,Database!D:D))=0,\"\",LOOKUP(B106,Database!A:A,Database!D:D)))","v":""},{"$f":"IF(ISNA(A106),\"\",IF(LEN(LOOKUP(B106,Database!A:A,Database!E:E))=0,\"\",LOOKUP(B106,Database!A:A,Database!E:E)))","v":""},{"$f":"IF(ISNA(A106),\"\",IF(LEN(LOOKUP(B106,Database!A:A,Database!F:F))=0,\"\",LOOKUP(B106,Database!A:A,Database!F:F)))","v":""},{"$f":"IF(ISNA(A106),\"\",IF(LEN(LOOKUP(B106,Database!A:A,Database!G:G))=0,\"\",LOOKUP(B106,Database!A:A,Database!G:G)))","v":""},{"$f":"IF(ISNA(A106),\"\",IF(LEN(LOOKUP(B106,Database!A:A,Database!H:H))=0,\"\",LOOKUP(B106,Database!A:A,Database!H:H)))","v":""},{"$f":"IF(ISNA(A106),\"\",IF(LEN(LOOKUP(B106,Database!A:A,Database!I:I))=0,\"\",LOOKUP(B106,Database!A:A,Database!I:I)))","v":""},{"$f":"IF(ISNA(A106),\"\",IF(LEN(LOOKUP(B106,Database!A:A,Database!J:J))=0,\"\",LOOKUP(B106,Database!A:A,Database!J:J)))","v":""},{"$f":"IF(ISNA(A106),\"\",IF(LEN(LOOKUP(B106,Database!A:A,Database!K:K))=0,\"\",LOOKUP(B106,Database!A:A,Database!K:K)))","v":""},{"$f":"IF(ISNA(A106),\"\",IF(LEN(LOOKUP(B106,Database!A:A,Database!L:L))=0,\"\",LOOKUP(B106,Database!A:A,Database!L:L)))","v":""},{"$f":"IF(ISNA(A106),\"\",IF(LEN(LOOKUP(B106,Database!A:A,Database!M:M))=0,\"\",LOOKUP(B106,Database!A:A,Database!M:M)))","v":""},{"$f":"IF(ISNA(A106),\"\",IF(LEN(LOOKUP(B106,Database!A:A,Database!N:N))=0,\"\",LOOKUP(B106,Database!A:A,Database!N:N)))","v":""},{"$f":"IF(ISNA(A106),\"\",IF(LEN(LOOKUP(B106,Database!A:A,Database!O:O))=0,\"\",LOOKUP(B106,Database!A:A,Database!O:O)))","v":""},{"$f":"IF(ISNA(A106),\"\",IF(LEN(LOOKUP(B106,Database!A:A,Database!P:P))=0,\"\",LOOKUP(B106,Database!A:A,Database!P:P)))","v":""},{"$f":"IF(ISNA(A106),\"\",IF(LEN(LOOKUP(B106,Database!A:A,Database!Q:Q))=0,\"\",LOOKUP(B106,Database!A:A,Database!Q:Q)))","v":""},{"$f":"IF(ISNA(A106),\"\",IF(LEN(LOOKUP(B106,Database!A:A,Database!R:R))=0,\"\",LOOKUP(B106,Database!A:A,Database!R:R)))","v":""},{"$f":"IF(ISNA(A106),\"\",IF(LEN(LOOKUP(B106,Database!A:A,Database!S:S))=0,\"\",LOOKUP(B106,Database!A:A,Database!S:S)))","v":""},null,null,null,null,null,null,92,0,null,1,0,null,0.1]
[{"$error":"#N/A"},"2018-04-03",{"$f":"IF(ISNA(A107),\"\",IF(LEN(LOOKUP(B107,Database!A:A,Database!B:B))=0,\"\",LOOKUP(B107,Database!A:A,Database!B:B)))","v":""},{"$f":"IF(ISNA(A107),\"\",IF(LEN(LOOKUP(B107,Database!A:A,Database!C:C))=0,\"\",LOOKUP(B107,Database!A:A,Database!C:C)))","v":""},{"$f":"IF(ISNA(A107),\"\",IF(LEN(LOOKUP(B107,Database!A:A,Database!D:D))=0,\"\",LOOKUP(B107,Database!A:A,Database!D:D)))","v":""},{"$f":"IF(ISNA(A107),\"\",IF(LEN(LOOKUP(B107,Database!A:A,Database!E:E))=0,\"\",LOOKUP(B107,Database!A:A,Database!E:E)))","v":""},{"$f":"IF(ISNA(A107),\"\",IF(LEN(LOOKUP(B107,Database!A:A,Database!F:F))=0,\"\",LOOKUP(B107,Database!A:A,Database!F:F)))","v":""},{"$f":"IF(ISNA(A107),\"\",IF(LEN(LOOKUP(B107,Database!A:A,Database!G:G))=0,\"\",LOOKUP(B107,Database!A:A,Database!G:G)))","v":""},{"$f":"IF(ISNA(A107),\"\",IF(LEN(LOOKUP(B107,Database!A:A,Database!H:H))=0,\"\",LOOKUP(B107,Database!A:A,Database!H:H)))","v":""},{"$f":"IF(ISNA(A107),\"\",IF(LEN(LOOKUP(B107,Database!A:A,Database!I:I))=0,\"\",LOOKUP(B107,Database!A:A,Database!I:I)))","v":""},{"$f":"IF(ISNA(A107),\"\",IF(LEN(LOOKUP(B107,Database!A:A,Database!J:J))=0,\"\",LOOKUP(B107,Database!A:A,Database!J:J)))","v":""},{"$f":"IF(ISNA(A107),\"\",IF(LEN(LOOKUP(B107,Database!A:A,Database!K:K))=0,\"\",LOOKUP(B107,Database!A:A,Database!K:K)))","v":""},{"$f":"IF(ISNA(A107),\"\",IF(LEN(LOOKUP(B107,Database!A:A,Database!L:L))=0,\"\",LOOKUP(B107,Database!A:A,Database!L:L)))","v":""},{"$f":"IF(ISNA(A107),\"\",IF(LEN(LOOKUP(B107,Database!A:A,Database!M:M))=0,\"\",LOOKUP(B107,Database!A:A,Database!M:M)))","v":""},{"$f":"IF(ISNA(A107),\"\",IF(LEN(LOOKUP(B107,Database!A:A,Database!N:N))=0,\"\",LOOKUP(B107,Database!A:A,Database!N:N)))","v":""},{"$f":"IF(ISNA(A107),\"\",IF(LEN(LOOKUP(B107,Database!A:A,Database!O:O))=0,\"\",LOOKUP(B107,Database!A:A,Database!O:O)))","v":""},{"$f":"IF(ISNA(A107),\"\",IF(LEN(LOOKUP(B107,Database!A:A,Database!P:P))=0,\"\",LOOKUP(B107,Database!A:A,Database!P:P)))","v":""},{"$f":"IF(ISNA(A107),\"\",IF(LEN(LOOKUP(B107,Database!A:A,Database!Q:Q))=0,\"\",LOOKUP(B107,Database!A:A,Database!Q:Q)))","v":""},{"$f":"IF(ISNA(A107),\"\",IF(LEN(LOOKUP(B107,Database!A:A,Database!R:R))=0,\"\",LOOKUP(B107,Database!A:A,Database!R:R)))","v":""},{"$f":"IF(ISNA(A107),\"\",IF(LEN(LOOKUP(B107,Database!A:A,Database!S:S))=0,\"\",LOOKUP(B107,Database!A:A,Database!S:S)))","v":""},null,null,null,null,null,null,93,0,null,1,0,null,0.1]
[{"$error":"#N/A"},"2018-04-04",{"$f":"IF(ISNA(A108),\"\",IF(LEN(LOOKUP(B108,Database!A:A,Database!B:B))=0,\"\",LOOKUP(B108,Database!A:A,Database!B:B)))","v":""},{"$f":"IF(ISNA(A108),\"\",IF(LEN(LOOKUP(B108,Database!A:A,Database!C:C))=0,\"\",LOOKUP(B108,Database!A:A,Database!C:C)))","v":""},{"$f":"IF(ISNA(A108),\"\",IF(LEN(LOOKUP(B108,Database!A:A,Database!D:D))=0,\"\",LOOKUP(B108,Database!A:A,Database!D:D)))","v":""},{"$f":"IF(ISNA(A108),\"\",IF(LEN(LOOKUP(B108,Database!A:A,Database!E:E))=0,\"\",LOOKUP(B108,Database!A:A,Database!E:E)))","v":""},{"$f":"IF(ISNA(A108),\"\",IF(LEN(LOOKUP(B108,Database!A:A,Database!F:F))=0,\"\",LOOKUP(B108,Database!A:A,Database!F:F)))","v":""},{"$f":"IF(ISNA(A108),\"\",IF(LEN(LOOKUP(B108,Database!A:A,Database!G:G))=0,\"\",LOOKUP(B108,Database!A:A,Database!G:G)))","v":""},{"$f":"IF(ISNA(A108),\"\",IF(LEN(LOOKUP(B108,Database!A:A,Database!H:H))=0,\"\",LOOKUP(B108,Database!A:A,Database!H:H)))","v":""},{"$f":"IF(ISNA(A108),\"\",IF(LEN(LOOKUP(B108,Database!A:A,Database!I:I))=0,\"\",LOOKUP(B108,Database!A:A,Database!I:I)))","v":""},{"$f":"IF(ISNA(A108),\"\",IF(LEN(LOOKUP(B108,Database!A:A,Database!J:J))=0,\"\",LOOKUP(B108,Database!A:A,Database!J:J)))","v":""},{"$f":"IF(ISNA(A108),\"\",IF(LEN(LOOKUP(B108,Database!A:A,Database!K:K))=0,\"\",LOOKUP(B108,Database!A:A,Database!K:K)))","v":""},{"$f":"IF(ISNA(A108),\"\",IF(LEN(LOOKUP(B108,Database!A:A,Database!L:L))=0,\"\",LOOKUP(B108,Database!A:A,Database!L:L)))","v":""},{"$f":"IF(ISNA(A108),\"\",IF(LEN(LOOKUP(B108,Database!A:A,Database!M:M))=0,\"\",LOOKUP(B108,Database!A:A,Database!M:M)))","v":""},{"$f":"IF(ISNA(A108),\"\",IF(LEN(LOOKUP(B108,Database!A:A,Database!N:N))=0,\"\",LOOKUP(B108,Database!A:A,Database!N:N)))","v":""},{"$f":"IF(ISNA(A108),\"\",IF(LEN(LOOKUP(B108,Database!A:A,Database!O:O))=0,\"\",LOOKUP(B108,Database!A:A,Database!O:O)))","v":""},{"$f":"IF(ISNA(A108),\"\",IF(LEN(LOOKUP(B108,Database!A:A,Database!P:P))=0,\"\",LOOKUP(B108,Database!A:A,Database!P:P)))","v":""},{"$f":"IF(ISNA(A108),\"\",IF(LEN(LOOKUP(B108,Database!A:A,Database!Q:Q))=0,\"\",LOOKUP(B108,Database!A:A,Database!Q:Q)))","v":""},{"$f":"IF(ISNA(A108),\"\",IF(LEN(LOOKUP(B108,Database!A:A,Database!R:R))=0,\"\",LOOKUP(B108,Database!A:A,Database!R:R)))","v":""},{"$f":"IF(ISNA(A108),\"\",IF(LEN(LOOKUP(B108,Database!A:A,Database!S:S))=0,\"\",LOOKUP(B108,Database!A:A,Database!S:S)))","v":""},null,null,null,null,null,null,94,0,null,1,0,null,0.1]
[{"$error":"#N/A"},"2018-04-05",{"$f":"IF(ISNA(A109),\"\",IF(LEN(LOOKUP(B109,Database!A:A,Database!B:B))=0,\"\",LOOKUP(B109,Database!A:A,Database!B:B)))","v":""},{"$f":"IF(ISNA(A109),\"\",IF(LEN(LOOKUP(B109,Database!A:A,Database!C:C))=0,\"\",LOOKUP(B109,Database!A:A,Database!C:C)))","v":""},{"$f":"IF(ISNA(A109),\"\",IF(LEN(LOOKUP(B109,Database!A:A,Database!D:D))=0,\"\",LOOKUP(B109,Database!A:A,Database!D:D)))","v":""},{"$f":"IF(ISNA(A109),\"\",IF(LEN(LOOKUP(B109,Database!A:A,Database!E:E))=0,\"\",LOOKUP(B109,Database!A:A,Database!E:E)))","v":""},{"$f":"IF(ISNA(A109),\"\",IF(LEN(LOOKUP(B109,Database!A:A,Database!F:F))=0,\"\",LOOKUP(B109,Database!A:A,Database!F:F)))","v":""},{"$f":"IF(ISNA(A109),\"\",IF(LEN(LOOKUP(B109,Database!A:A,Database!G:G))=0,\"\",LOOKUP(B109,Database!A:A,Database!G:G)))","v":""},{"$f":"IF(ISNA(A109),\"\",IF(LEN(LOOKUP(B109,Database!A:A,Database!H:H))=0,\"\",LOOKUP(B109,Database!A:A,Database!H:H)))","v":""},{"$f":"IF(ISNA(A109),\"\",IF(LEN(LOOKUP(B109,Database!A:A,Database!I:I))=0,\"\",LOOKUP(B109,Database!A:A,Database!I:I)))","v":""},{"$f":"IF(ISNA(A109),\"\",IF(LEN(LOOKUP(B109,Database!A:A,Database!J:J))=0,\"\",LOOKUP(B109,Database!A:A,Database!J:J)))","v":""},{"$f":"IF(ISNA(A109),\"\",IF(LEN(LOOKUP(B109,Database!A:A,Database!K:K))=0,\"\",LOOKUP(B109,Database!A:A,Database!K:K)))","v":""},{"$f":"IF(ISNA(A109),\"\",IF(LEN(LOOKUP(B109,Database!A:A,Database!L:L))=0,\"\",LOOKUP(B109,Database!A:A,Database!L:L)))","v":""},{"$f":"IF(ISNA(A109),\"\",IF(LEN(LOOKUP(B109,Database!A:A,Database!M:M))=0,\"\",LOOKUP(B109,Database!A:A,Database!M:M)))","v":""},{"$f":"IF(ISNA(A109),\"\",IF(LEN(LOOKUP(B109,Database!A:A,Database!N:N))=0,\"\",LOOKUP(B109,Database!A:A,Database!N:N)))","v":""},{"$f":"IF(ISNA(A109),\"\",IF(LEN(LOOKUP(B109,Database!A:A,Database!O:O))=0,\"\",LOOKUP(B109,Database!A:A,Database!O:O)))","v":""},{"$f":"IF(ISNA(A109),\"\",IF(LEN(LOOKUP(B109,Database!A:A,Database!P:P))=0,\"\",LOOKUP(B109,Database!A:A,Database!P:P)))","v":""},{"$f":"IF(ISNA(A109),\"\",IF(LEN(LOOKUP(B109,Database!A:A,Database!Q:Q))=0,\"\",LOOKUP(B109,Database!A:A,Database!Q:Q)))","v":""},{"$f":"IF(ISNA(A109),\"\",IF(LEN(LOOKUP(B109,Database!A:A,Database!R:R))=0,\"\",LOOKUP(B109,Database!A:A,Database!R:R)))","v":""},{"$f":"IF(ISNA(A109),\"\",IF(LEN(LOOKUP(B109,Database!A:A,Database!S:S))=0,\"\",LOOKUP(B109,Database!A:A,Database!S:S)))","v":""},null,null,null,null,null,null,95,0,null,1,0,null,0.1]
[{"$error":"#N/A"},"2018-04-06",{"$f":"IF(ISNA(A110),\"\",IF(LEN(LOOKUP(B110,Database!A:A,Database!B:B))=0,\"\",LOOKUP(B110,Database!A:A,Database!B:B)))","v":""},{"$f":"IF(ISNA(A110),\"\",IF(LEN(LOOKUP(B110,Database!A:A,Database!C:C))=0,\"\",LOOKUP(B110,Database!A:A,Database!C:C)))","v":""},{"$f":"IF(ISNA(A110),\"\",IF(LEN(LOOKUP(B110,Database!A:A,Database!D:D))=0,\"\",LOOKUP(B110,Database!A:A,Database!D:D)))","v":""},{"$f":"IF(ISNA(A110),\"\",IF(LEN(LOOKUP(B110,Database!A:A,Database!E:E))=0,\"\",LOOKUP(B110,Database!A:A,Database!E:E)))","v":""},{"$f":"IF(ISNA(A110),\"\",IF(LEN(LOOKUP(B110,Database!A:A,Database!F:F))=0,\"\",LOOKUP(B110,Database!A:A,Database!F:F)))","v":""},{"$f":"IF(ISNA(A110),\"\",IF(LEN(LOOKUP(B110,Database!A:A,Database!G:G))=0,\"\",LOOKUP(B110,Database!A:A,Database!G:G)))","v":""},{"$f":"IF(ISNA(A110),\"\",IF(LEN(LOOKUP(B110,Database!A:A,Database!H:H))=0,\"\",LOOKUP(B110,Database!A:A,Database!H:H)))","v":""},{"$f":"IF(ISNA(A110),\"\",IF(LEN(LOOKUP(B110,Database!A:A,Database!I:I))=0,\"\",LOOKUP(B110,Database!A:A,Database!I:I)))","v":""},{"$f":"IF(ISNA(A110),\"\",IF(LEN(LOOKUP(B110,Database!A:A,Database!J:J))=0,\"\",LOOKUP(B110,Database!A:A,Database!J:J)))","v":""},{"$f":"IF(ISNA(A110),\"\",IF(LEN(LOOKUP(B110,Database!A:A,Database!K:K))=0,\"\",LOOKUP(B110,Database!A:A,Database!K:K)))","v":""},{"$f":"IF(ISNA(A110),\"\",IF(LEN(LOOKUP(B110,Database!A:A,Database!L:L))=0,\"\",LOOKUP(B110,Database!A:A,Database!L:L)))","v":""},{"$f":"IF(ISNA(A110),\"\",IF(LEN(LOOKUP(B110,Database!A:A,Database!M:M))=0,\"\",LOOKUP(B110,Database!A:A,Database!M:M)))","v":""},{"$f":"IF(ISNA(A110),\"\",IF(LEN(LOOKUP(B110,Database!A:A,Database!N:N))=0,\"\",LOOKUP(B110,Database!A:A,Database!N:N)))","v":""},{"$f":"IF(ISNA(A110),\"\",IF(LEN(LOOKUP(B110,Database!A:A,Database!O:O))=0,\"\",LOOKUP(B110,Database!A:A,Database!O:O)))","v":""},{"$f":"IF(ISNA(A110),\"\",IF(LEN(LOOKUP(B110,Database!A:A,Database!P:P))=0,\"\",LOOKUP(B110,Database!A:A,Database!P:P)))","v":""},{"$f":"IF(ISNA(A110),\"\",IF(LEN(LOOKUP(B110,Database!A:A,Database!Q:Q))=0,\"\",LOOKUP(B110,Database!A:A,Database!Q:Q)))","v":""},{"$f":"IF(ISNA(A110),\"\",IF(LEN(LOOKUP(B110,Database!A:A,Database!R:R))=0,\"\",LOOKUP(B110,Database!A:A,Database!R:R)))","v":""},{"$f":"IF(ISNA(A110),\"\",IF(LEN(LOOKUP(B110,Database!A:A,Database!S:S))=0,\"\",LOOKUP(B110,Database!A:A,Database!S:S)))","v":""},null,null,null,null,null,null,96,0,null,1,0,null,0.1]
[{"$error":"#N/A"},"2018-04-07",{"$f":"IF(ISNA(A111),\"\",IF(LEN(LOOKUP(B111,Database!A:A,Database!B:B))=0,\"\",LOOKUP(B111,Database!A:A,Database!B:B)))","v":""},{"$f":"IF(ISNA(A111),\"\",IF(LEN(LOOKUP(B111,Database!A:A,Database!C:C))=0,\"\",LOOKUP(B111,Database!A:A,Database!C:C)))","v":""},{"$f":"IF(ISNA(A111),\"\",IF(LEN(LOOKUP(B111,Database!A:A,Database!D:D))=0,\"\",LOOKUP(B111,Database!A:A,Database!D:D)))","v":""},{"$f":"IF(ISNA(A111),\"\",IF(LEN(LOOKUP(B111,Database!A:A,Database!E:E))=0,\"\",LOOKUP(B111,Database!A:A,Database!E:E)))","v":""},{"$f":"IF(ISNA(A111),\"\",IF(LEN(LOOKUP(B111,Database!A:A,Database!F:F))=0,\"\",LOOKUP(B111,Database!A:A,Database!F:F)))","v":""},{"$f":"IF(ISNA(A111),\"\",IF(LEN(LOOKUP(B111,Database!A:A,Database!G:G))=0,\"\",LOOKUP(B111,Database!A:A,Database!G:G)))","v":""},{"$f":"IF(ISNA(A111),\"\",IF(LEN(LOOKUP(B111,Database!A:A,Database!H:H))=0,\"\",LOOKUP(B111,Database!A:A,Database!H:H)))","v":""},{"$f":"IF(ISNA(A111),\"\",IF(LEN(LOOKUP(B111,Database!A:A,Database!I:I))=0,\"\",LOOKUP(B111,Database!A:A,Database!I:I)))","v":""},{"$f":"IF(ISNA(A111),\"\",IF(LEN(LOOKUP(B111,Database!A:A,Database!J:J))=0,\"\",LOOKUP(B111,Database!A:A,Database!J:J)))","v":""},{"$f":"IF(ISNA(A111),\"\",IF(LEN(LOOKUP(B111,Database!A:A,Database!K:K))=0,\"\",LOOKUP(B111,Database!A:A,Database!K:K)))","v":""},{"$f":"IF(ISNA(A111),\"\",IF(LEN(LOOKUP(B111,Database!A:A,Database!L:L))=0,\"\",LOOKUP(B111,Database!A:A,Database!L:L)))","v":""},{"$f":"IF(ISNA(A111),\"\",IF(LEN(LOOKUP(B111,Database!A:A,Database!M:M))=0,\"\",LOOKUP(B111,Database!A:A,Database!M:M)))","v":""},{"$f":"IF(ISNA(A111),\"\",IF(LEN(LOOKUP(B111,Database!A:A,Database!N:N))=0,\"\",LOOKUP(B111,Database!A:A,Database!N:N)))","v":""},{"$f":"IF(ISNA(A111),\"\",IF(LEN(LOOKUP(B111,Database!A:A,Database!O:O))=0,\"\",LOOKUP(B111,Database!A:A,Database!O:O)))","v":""},{"$f":"IF(ISNA(A111),\"\",IF(LEN(LOOKUP(B111,Database!A:A,Database!P:P))=0,\"\",LOOKUP(B111,Database!A:A,Database!P:P)))","v":""},{"$f":"IF(ISNA(A111),\"\",IF(LEN(LOOKUP(B111,Database!A:A,Database!Q:Q))=0,\"\",LOOKUP(B111,Database!A:A,Database!Q:Q)))","v":""},{"$f":"IF(ISNA(A111),\"\",IF(LEN(LOOKUP(B111,Database!A:A,Database!R:R))=0,\"\",LOOKUP(B111,Database!A:A,Database!R:R)))","v":""},{"$f":"IF(ISNA(A111),\"\",IF(LEN(LOOKUP(B111,Database!A:A,Database!S:S))=0,\"\",LOOKUP(B111,Database!A:A,Database!S:S)))","v":""},null,null,null,null,null,null,97,0,null,1,0,null,0.1]
[{"$error":"#N/A"},"2018-04-08",{"$f":"IF(ISNA(A112),\"\",IF(LEN(LOOKUP(B112,Database!A:A,Database!B:B))=0,\"\",LOOKUP(B112,Database!A:A,Database!B:B)))","v":""},{"$f":"IF(ISNA(A112),\"\",IF(LEN(LOOKUP(B112,Database!A:A,Database!C:C))=0,\"\",LOOKUP(B112,Database!A:A,Database!C:C)))","v":""},{"$f":"IF(ISNA(A112),\"\",IF(LEN(LOOKUP(B112,Database!A:A,Database!D:D))=0,\"\",LOOKUP(B112,Database!A:A,Database!D:D)))","v":""},{"$f":"IF(ISNA(A112),\"\",IF(LEN(LOOKUP(B112,Database!A:A,Database!E:E))=0,\"\",LOOKUP(B112,Database!A:A,Database!E:E)))","v":""},{"$f":"IF(ISNA(A112),\"\",IF(LEN(LOOKUP(B112,Database!A:A,Database!F:F))=0,\"\",LOOKUP(B112,Database!A:A,Database!F:F)))","v":""},{"$f":"IF(ISNA(A112),\"\",IF(LEN(LOOKUP(B112,Database!A:A,Database!G:G))=0,\"\",LOOKUP(B112,Database!A:A,Database!G:G)))","v":""},{"$f":"IF(ISNA(A112),\"\",IF(LEN(LOOKUP(B112,Database!A:A,Database!H:H))=0,\"\",LOOKUP(B112,Database!A:A,Database!H:H)))","v":""},{"$f":"IF(ISNA(A112),\"\",IF(LEN(LOOKUP(B112,Database!A:A,Database!I:I))=0,\"\",LOOKUP(B112,Database!A:A,Database!I:I)))","v":""},{"$f":"IF(ISNA(A112),\"\",IF(LEN(LOOKUP(B112,Database!A:A,Database!J:J))=0,\"\",LOOKUP(B112,Database!A:A,Database!J:J)))","v":""},{"$f":"IF(ISNA(A112),\"\",IF(LEN(LOOKUP(B112,Database!A:A,Database!K:K))=0,\"\",LOOKUP(B112,Database!A:A,Database!K:K)))","v":""},{"$f":"IF(ISNA(A112),\"\",IF(LEN(LOOKUP(B112,Database!A:A,Database!L:L))=0,\"\",LOOKUP(B112,Database!A:A,Database!L:L)))","v":""},{"$f":"IF(ISNA(A112),\"\",IF(LEN(LOOKUP(B112,Database!A:A,Database!M:M))=0,\"\",LOOKUP(B112,Database!A:A,Database!M:M)))","v":""},{"$f":"IF(ISNA(A112),\"\",IF(LEN(LOOKUP(B112,Database!A:A,Database!N:N))=0,\"\",LOOKUP(B112,Database!A:A,Database!N:N)))","v":""},{"$f":"IF(ISNA(A112),\"\",IF(LEN(LOOKUP(B112,Database!A:A,Database!O:O))=0,\"\",LOOKUP(B112,Database!A:A,Database!O:O)))","v":""},{"$f":"IF(ISNA(A112),\"\",IF(LEN(LOOKUP(B112,Database!A:A,Database!P:P))=0,\"\",LOOKUP(B112,Database!A:A,Database!P:P)))","v":""},{"$f":"IF(ISNA(A112),\"\",IF(LEN(LOOKUP(B112,Database!A:A,Database!Q:Q))=0,\"\",LOOKUP(B112,Database!A:A,Database!Q:Q)))","v":""},{"$f":"IF(ISNA(A112),\"\",IF(LEN(LOOKUP(B112,Database!A:A,Database!R:R))=0,\"\",LOOKUP(B112,Database!A:A,Database!R:R)))","v":""},{"$f":"IF(ISNA(A112),\"\",IF(LEN(LOOKUP(B112,Database!A:A,Database!S:S))=0,\"\",LOOKUP(B112,Database!A:A,Database!S:S)))","v":""},null,null,null,null,null,null,98,0,null,1,0,null,0.1]
[{"$error":"#N/A"},"2018-04-09",{"$f":"IF(ISNA(A113),\"\",IF(LEN(LOOKUP(B113,Database!A:A,Database!B:B))=0,\"\",LOOKUP(B113,Database!A:A,Database!B:B)))","v":""},{"$f":"IF(ISNA(A113),\"\",IF(LEN(LOOKUP(B113,Database!A:A,Database!C:C))=0,\"\",LOOKUP(B113,Database!A:A,Database!C:C)))","v":""},{"$f":"IF(ISNA(A113),\"\",IF(LEN(LOOKUP(B113,Database!A:A,Database!D:D))=0,\"\",LOOKUP(B113,Database!A:A,Database!D:D)))","v":""},{"$f":"IF(ISNA(A113),\"\",IF(LEN(LOOKUP(B113,Database!A:A,Database!E:E))=0,\"\",LOOKUP(B113,Database!A:A,Database!E:E)))","v":""},{"$f":"IF(ISNA(A113),\"\",IF(LEN(LOOKUP(B113,Database!A:A,Database!F:F))=0,\"\",LOOKUP(B113,Database!A:A,Database!F:F)))","v":""},{"$f":"IF(ISNA(A113),\"\",IF(LEN(LOOKUP(B113,Database!A:A,Database!G:G))=0,\"\",LOOKUP(B113,Database!A:A,Database!G:G)))","v":""},{"$f":"IF(ISNA(A113),\"\",IF(LEN(LOOKUP(B113,Database!A:A,Database!H:H))=0,\"\",LOOKUP(B113,Database!A:A,Database!H:H)))","v":""},{"$f":"IF(ISNA(A113),\"\",IF(LEN(LOOKUP(B113,Database!A:A,Database!I:I))=0,\"\",LOOKUP(B113,Database!A:A,Database!I:I)))","v":""},{"$f":"IF(ISNA(A113),\"\",IF(LEN(LOOKUP(B113,Database!A:A,Database!J:J))=0,\"\",LOOKUP(B113,Database!A:A,Database!J:J)))","v":""},{"$f":"IF(ISNA(A113),\"\",IF(LEN(LOOKUP(B113,Database!A:A,Database!K:K))=0,\"\",LOOKUP(B113,Database!A:A,Database!K:K)))","v":""},{"$f":"IF(ISNA(A113),\"\",IF(LEN(LOOKUP(B113,Database!A:A,Database!L:L))=0,\"\",LOOKUP(B113,Database!A:A,Database!L:L)))","v":""},{"$f":"IF(ISNA(A113),\"\",IF(LEN(LOOKUP(B113,Database!A:A,Database!M:M))=0,\"\",LOOKUP(B113,Database!A:A,Database!M:M)))","v":""},{"$f":"IF(ISNA(A113),\"\",IF(LEN(LOOKUP(B113,Database!A:A,Database!N:N))=0,\"\",LOOKUP(B113,Database!A:A,Database!N:N)))","v":""},{"$f":"IF(ISNA(A113),\"\",IF(LEN(LOOKUP(B113,Database!A:A,Database!O:O))=0,\"\",LOOKUP(B113,Database!A:A,Database!O:O)))","v":""},{"$f":"IF(ISNA(A113),\"\",IF(LEN(LOOKUP(B113,Database!A:A,Database!P:P))=0,\"\",LOOKUP(B113,Database!A:A,Database!P:P)))","v":""},{"$f":"IF(ISNA(A113),\"\",IF(LEN(LOOKUP(B113,Database!A:A,Database!Q:Q))=0,\"\",LOOKUP(B113,Database!A:A,Database!Q:Q)))","v":""},{"$f":"IF(ISNA(A113),\"\",IF(LEN(LOOKUP(B113,Database!A:A,Database!R:R))=0,\"\",LOOKUP(B113,Database!A:A,Database!R:R)))","v":""},{"$f":"IF(ISNA(A113),\"\",IF(LEN(LOOKUP(B113,Database!A:A,Database!S:S))=0,\"\",LOOKUP(B113,Database!A:A,Database!S:S)))","v":""},null,null,null,null,null,null,99,0,null,1,0,null,0.1]
[{"$error":"#N/A"},"2018-04-10",{"$f":"IF(ISNA(A114),\"\",IF(LEN(LOOKUP(B114,Database!A:A,Database!B:B))=0,\"\",LOOKUP(B114,Database!A:A,Database!B:B)))","v":""},{"$f":"IF(ISNA(A114),\"\",IF(LEN(LOOKUP(B114,Database!A:A,Database!C:C))=0,\"\",LOOKUP(B114,Database!A:A,Database!C:C)))","v":""},{"$f":"IF(ISNA(A114),\"\",IF(LEN(LOOKUP(B114,Database!A:A,Database!D:D))=0,\"\",LOOKUP(B114,Database!A:A,Database!D:D)))","v":""},{"$f":"IF(ISNA(A114),\"\",IF(LEN(LOOKUP(B114,Database!A:A,Database!E:E))=0,\"\",LOOKUP(B114,Database!A:A,Database!E:E)))","v":""},{"$f":"IF(ISNA(A114),\"\",IF(LEN(LOOKUP(B114,Database!A:A,Database!F:F))=0,\"\",LOOKUP(B114,Database!A:A,Database!F:F)))","v":""},{"$f":"IF(ISNA(A114),\"\",IF(LEN(LOOKUP(B114,Database!A:A,Database!G:G))=0,\"\",LOOKUP(B114,Database!A:A,Database!G:G)))","v":""},{"$f":"IF(ISNA(A114),\"\",IF(LEN(LOOKUP(B114,Database!A:A,Database!H:H))=0,\"\",LOOKUP(B114,Database!A:A,Database!H:H)))","v":""},{"$f":"IF(ISNA(A114),\"\",IF(LEN(LOOKUP(B114,Database!A:A,Database!I:I))=0,\"\",LOOKUP(B114,Database!A:A,Database!I:I)))","v":""},{"$f":"IF(ISNA(A114),\"\",IF(LEN(LOOKUP(B114,Database!A:A,Database!J:J))=0,\"\",LOOKUP(B114,Database!A:A,Database!J:J)))","v":""},{"$f":"IF(ISNA(A114),\"\",IF(LEN(LOOKUP(B114,Database!A:A,Database!K:K))=0,\"\",LOOKUP(B114,Database!A:A,Database!K:K)))","v":""},{"$f":"IF(ISNA(A114),\"\",IF(LEN(LOOKUP(B114,Database!A:A,Database!L:L))=0,\"\",LOOKUP(B114,Database!A:A,Database!L:L)))","v":""},{"$f":"IF(ISNA(A114),\"\",IF(LEN(LOOKUP(B114,Database!A:A,Database!M:M))=0,\"\",LOOKUP(B114,Database!A:A,Database!M:M)))","v":""},{"$f":"IF(ISNA(A114),\"\",IF(LEN(LOOKUP(B114,Database!A:A,Database!N:N))=0,\"\",LOOKUP(B114,Database!A:A,Database!N:N)))","v":""},{"$f":"IF(ISNA(A114),\"\",IF(LEN(LOOKUP(B114,Database!A:A,Database!O:O))=0,\"\",LOOKUP(B114,Database!A:A,Database!O:O)))","v":""},{"$f":"IF(ISNA(A114),\"\",IF(LEN(LOOKUP(B114,Database!A:A,Database!P:P))=0,\"\",LOOKUP(B114,Database!A:A,Database!P:P)))","v":""},{"$f":"IF(ISNA(A114),\"\",IF(LEN(LOOKUP(B114,Database!A:A,Database!Q:Q))=0,\"\",LOOKUP(B114,Database!A:A,Database!Q:Q)))","v":""},{"$f":"IF(ISNA(A114),\"\",IF(LEN(LOOKUP(B114,Database!A:A,Database!R:R))=0,\"\",LOOKUP(B114,Database!A:A,Database!R:R)))","v":""},{"$f":"IF(ISNA(A114),\"\",IF(LEN(LOOKUP(B114,Database!A:A,Database!S:S))=0,\"\",LOOKUP(B114,Database!A:A,Database!S:S)))","v":""},null,null,null,null,null,null,100,0,null,1,0,null,0.1]
[{"$error":"#N/A"},"2018-04-11",{"$f":"IF(ISNA(A115),\"\",IF(LEN(LOOKUP(B115,Database!A:A,Database!B:B))=0,\"\",LOOKUP(B115,Database!A:A,Database!B:B)))","v":""},{"$f":"IF(ISNA(A115),\"\",IF(LEN(LOOKUP(B115,Database!A:A,Database!C:C))=0,\"\",LOOKUP(B115,Database!A:A,Database!C:C)))","v":""},{"$f":"IF(ISNA(A115),\"\",IF(LEN(LOOKUP(B115,Database!A:A,Database!D:D))=0,\"\",LOOKUP(B115,Database!A:A,Database!D:D)))","v":""},{"$f":"IF(ISNA(A115),\"\",IF(LEN(LOOKUP(B115,Database!A:A,Database!E:E))=0,\"\",LOOKUP(B115,Database!A:A,Database!E:E)))","v":""},{"$f":"IF(ISNA(A115),\"\",IF(LEN(LOOKUP(B115,Database!A:A,Database!F:F))=0,\"\",LOOKUP(B115,Database!A:A,Database!F:F)))","v":""},{"$f":"IF(ISNA(A115),\"\",IF(LEN(LOOKUP(B115,Database!A:A,Database!G:G))=0,\"\",LOOKUP(B115,Database!A:A,Database!G:G)))","v":""},{"$f":"IF(ISNA(A115),\"\",IF(LEN(LOOKUP(B115,Database!A:A,Database!H:H))=0,\"\",LOOKUP(B115,Database!A:A,Database!H:H)))","v":""},{"$f":"IF(ISNA(A115),\"\",IF(LEN(LOOKUP(B115,Database!A:A,Database!I:I))=0,\"\",LOOKUP(B115,Database!A:A,Database!I:I)))","v":""},{"$f":"IF(ISNA(A115),\"\",IF(LEN(LOOKUP(B115,Database!A:A,Database!J:J))=0,\"\",LOOKUP(B115,Database!A:A,Database!J:J)))","v":""},{"$f":"IF(ISNA(A115),\"\",IF(LEN(LOOKUP(B115,Database!A:A,Database!K:K))=0,\"\",LOOKUP(B115,Database!A:A,Database!K:K)))","v":""},{"$f":"IF(ISNA(A115),\"\",IF(LEN(LOOKUP(B115,Database!A:A,Database!L:L))=0,\"\",LOOKUP(B115,Database!A:A,Database!L:L)))","v":""},{"$f":"IF(ISNA(A115),\"\",IF(LEN(LOOKUP(B115,Database!A:A,Database!M:M))=0,\"\",LOOKUP(B115,Database!A:A,Database!M:M)))","v":""},{"$f":"IF(ISNA(A115),\"\",IF(LEN(LOOKUP(B115,Database!A:A,Database!N:N))=0,\"\",LOOKUP(B115,Database!A:A,Database!N:N)))","v":""},{"$f":"IF(ISNA(A115),\"\",IF(LEN(LOOKUP(B115,Database!A:A,Database!O:O))=0,\"\",LOOKUP(B115,Database!A:A,Database!O:O)))","v":""},{"$f":"IF(ISNA(A115),\"\",IF(LEN(LOOKUP(B115,Database!A:A,Database!P:P))=0,\"\",LOOKUP(B115,Database!A:A,Database!P:P)))","v":""},{"$f":"IF(ISNA(A115),\"\",IF(LEN(LOOKUP(B115,Database!A:A,Database!Q:Q))=0,\"\",LOOKUP(B115,Database!A:A,Database!Q:Q)))","v":""},{"$f":"IF(ISNA(A115),\"\",IF(LEN(LOOKUP(B115,Database!A:A,Database!R:R))=0,\"\",LOOKUP(B115,Database!A:A,Database!R:R)))","v":""},{"$f":"IF(ISNA(A115),\"\",IF(LEN(LOOKUP(B115,Database!A:A,Database!S:S))=0,\"\",LOOKUP(B115,Database!A:A,Database!S:S)))","v":""},null,null,null,null,null,null,101,0,null,1,0,null,0.1]
[{"$error":"#N/A"},"2018-04-12",{"$f":"IF(ISNA(A116),\"\",IF(LEN(LOOKUP(B116,Database!A:A,Database!B:B))=0,\"\",LOOKUP(B116,Database!A:A,Database!B:B)))","v":""},{"$f":"IF(ISNA(A116),\"\",IF(LEN(LOOKUP(B116,Database!A:A,Database!C:C))=0,\"\",LOOKUP(B116,Database!A:A,Database!C:C)))","v":""},{"$f":"IF(ISNA(A116),\"\",IF(LEN(LOOKUP(B116,Database!A:A,Database!D:D))=0,\"\",LOOKUP(B116,Database!A:A,Database!D:D)))","v":""},{"$f":"IF(ISNA(A116),\"\",IF(LEN(LOOKUP(B116,Database!A:A,Database!E:E))=0,\"\",LOOKUP(B116,Database!A:A,Database!E:E)))","v":""},{"$f":"IF(ISNA(A116),\"\",IF(LEN(LOOKUP(B116,Database!A:A,Database!F:F))=0,\"\",LOOKUP(B116,Database!A:A,Database!F:F)))","v":""},{"$f":"IF(ISNA(A116),\"\",IF(LEN(LOOKUP(B116,Database!A:A,Database!G:G))=0,\"\",LOOKUP(B116,Database!A:A,Database!G:G)))","v":""},{"$f":"IF(ISNA(A116),\"\",IF(LEN(LOOKUP(B116,Database!A:A,Database!H:H))=0,\"\",LOOKUP(B116,Database!A:A,Database!H:H)))","v":""},{"$f":"IF(ISNA(A116),\"\",IF(LEN(LOOKUP(B116,Database!A:A,Database!I:I))=0,\"\",LOOKUP(B116,Database!A:A,Database!I:I)))","v":""},{"$f":"IF(ISNA(A116),\"\",IF(LEN(LOOKUP(B116,Database!A:A,Database!J:J))=0,\"\",LOOKUP(B116,Database!A:A,Database!J:J)))","v":""},{"$f":"IF(ISNA(A116),\"\",IF(LEN(LOOKUP(B116,Database!A:A,Database!K:K))=0,\"\",LOOKUP(B116,Database!A:A,Database!K:K)))","v":""},{"$f":"IF(ISNA(A116),\"\",IF(LEN(LOOKUP(B116,Database!A:A,Database!L:L))=0,\"\",LOOKUP(B116,Database!A:A,Database!L:L)))","v":""},{"$f":"IF(ISNA(A116),\"\",IF(LEN(LOOKUP(B116,Database!A:A,Database!M:M))=0,\"\",LOOKUP(B116,Database!A:A,Database!M:M)))","v":""},{"$f":"IF(ISNA(A116),\"\",IF(LEN(LOOKUP(B116,Database!A:A,Database!N:N))=0,\"\",LOOKUP(B116,Database!A:A,Database!N:N)))","v":""},{"$f":"IF(ISNA(A116),\"\",IF(LEN(LOOKUP(B116,Database!A:A,Database!O:O))=0,\"\",LOOKUP(B116,Database!A:A,Database!O:O)))","v":""},{"$f":"IF(ISNA(A116),\"\",IF(LEN(LOOKUP(B116,Database!A:A,Database!P:P))=0,\"\",LOOKUP(B116,Database!A:A,Database!P:P)))","v":""},{"$f":"IF(ISNA(A116),\"\",IF(LEN(LOOKUP(B116,Database!A:A,Database!Q:Q))=0,\"\",LOOKUP(B116,Database!A:A,Database!Q:Q)))","v":""},{"$f":"IF(ISNA(A116),\"\",IF(LEN(LOOKUP(B116,Database!A:A,Database!R:R))=0,\"\",LOOKUP(B116,Database!A:A,Database!R:R)))","v":""},{"$f":"IF(ISNA(A116),\"\",IF(LEN(LOOKUP(B116,Database!A:A,Database!S:S))=0,\"\",LOOKUP(B116,Database!A:A,Database!S:S)))","v":""},null,null,null,null,null,null,102,0,null,1,0,null,0.1]
[{"$error":"#N/A"},"2018-04-13",{"$f":"IF(ISNA(A117),\"\",IF(LEN(LOOKUP(B117,Database!A:A,Database!B:B))=0,\"\",LOOKUP(B117,Database!A:A,Database!B:B)))","v":""},{"$f":"IF(ISNA(A117),\"\",IF(LEN(LOOKUP(B117,Database!A:A,Database!C:C))=0,\"\",LOOKUP(B117,Database!A:A,Database!C:C)))","v":""},{"$f":"IF(ISNA(A117),\"\",IF(LEN(LOOKUP(B117,Database!A:A,Database!D:D))=0,\"\",LOOKUP(B117,Database!A:A,Database!D:D)))","v":""},{"$f":"IF(ISNA(A117),\"\",IF(LEN(LOOKUP(B117,Database!A:A,Database!E:E))=0,\"\",LOOKUP(B117,Database!A:A,Database!E:E)))","v":""},{"$f":"IF(ISNA(A117),\"\",IF(LEN(LOOKUP(B117,Database!A:A,Database!F:F))=0,\"\",LOOKUP(B117,Database!A:A,Database!F:F)))","v":""},{"$f":"IF(ISNA(A117),\"\",IF(LEN(LOOKUP(B117,Database!A:A,Database!G:G))=0,\"\",LOOKUP(B117,Database!A:A,Database!G:G)))","v":""},{"$f":"IF(ISNA(A117),\"\",IF(LEN(LOOKUP(B117,Database!A:A,Database!H:H))=0,\"\",LOOKUP(B117,Database!A:A,Database!H:H)))","v":""},{"$f":"IF(ISNA(A117),\"\",IF(LEN(LOOKUP(B117,Database!A:A,Database!I:I))=0,\"\",LOOKUP(B117,Database!A:A,Database!I:I)))","v":""},{"$f":"IF(ISNA(A117),\"\",IF(LEN(LOOKUP(B117,Database!A:A,Database!J:J))=0,\"\",LOOKUP(B117,Database!A:A,Database!J:J)))","v":""},{"$f":"IF(ISNA(A117),\"\",IF(LEN(LOOKUP(B117,Database!A:A,Database!K:K))=0,\"\",LOOKUP(B117,Database!A:A,Database!K:K)))","v":""},{"$f":"IF(ISNA(A117),\"\",IF(LEN(LOOKUP(B117,Database!A:A,Database!L:L))=0,\"\",LOOKUP(B117,Database!A:A,Database!L:L)))","v":""},{"$f":"IF(ISNA(A117),\"\",IF(LEN(LOOKUP(B117,Database!A:A,Database!M:M))=0,\"\",LOOKUP(B117,Database!A:A,Database!M:M)))","v":""},{"$f":"IF(ISNA(A117),\"\",IF(LEN(LOOKUP(B117,Database!A:A,Database!N:N))=0,\"\",LOOKUP(B117,Database!A:A,Database!N:N)))","v":""},{"$f":"IF(ISNA(A117),\"\",IF(LEN(LOOKUP(B117,Database!A:A,Database!O:O))=0,\"\",LOOKUP(B117,Database!A:A,Database!O:O)))","v":""},{"$f":"IF(ISNA(A117),\"\",IF(LEN(LOOKUP(B117,Database!A:A,Database!P:P))=0,\"\",LOOKUP(B117,Database!A:A,Database!P:P)))","v":""},{"$f":"IF(ISNA(A117),\"\",IF(LEN(LOOKUP(B117,Database!A:A,Database!Q:Q))=0,\"\",LOOKUP(B117,Database!A:A,Database!Q:Q)))","v":""},{"$f":"IF(ISNA(A117),\"\",IF(LEN(LOOKUP(B117,Database!A:A,Database!R:R))=0,\"\",LOOKUP(B117,Database!A:A,Database!R:R)))","v":""},{"$f":"IF(ISNA(A117),\"\",IF(LEN(LOOKUP(B117,Database!A:A,Database!S:S))=0,\"\",LOOKUP(B117,Database!A:A,Database!S:S)))","v":""},null,null,null,null,null,null,103,0,null,1,0,null,0.1]
[{"$error":"#N/A"},"2018-04-14",{"$f":"IF(ISNA(A118),\"\",IF(LEN(LOOKUP(B118,Database!A:A,Database!B:B))=0,\"\",LOOKUP(B118,Database!A:A,Database!B:B)))","v":""},{"$f":"IF(ISNA(A118),\"\",IF(LEN(LOOKUP(B118,Database!A:A,Database!C:C))=0,\"\",LOOKUP(B118,Database!A:A,Database!C:C)))","v":""},{"$f":"IF(ISNA(A118),\"\",IF(LEN(LOOKUP(B118,Database!A:A,Database!D:D))=0,\"\",LOOKUP(B118,Database!A:A,Database!D:D)))","v":""},{"$f":"IF(ISNA(A118),\"\",IF(LEN(LOOKUP(B118,Database!A:A,Database!E:E))=0,\"\",LOOKUP(B118,Database!A:A,Database!E:E)))","v":""},{"$f":"IF(ISNA(A118),\"\",IF(LEN(LOOKUP(B118,Database!A:A,Database!F:F))=0,\"\",LOOKUP(B118,Database!A:A,Database!F:F)))","v":""},{"$f":"IF(ISNA(A118),\"\",IF(LEN(LOOKUP(B118,Database!A:A,Database!G:G))=0,\"\",LOOKUP(B118,Database!A:A,Database!G:G)))","v":""},{"$f":"IF(ISNA(A118),\"\",IF(LEN(LOOKUP(B118,Database!A:A,Database!H:H))=0,\"\",LOOKUP(B118,Database!A:A,Database!H:H)))","v":""},{"$f":"IF(ISNA(A118),\"\",IF(LEN(LOOKUP(B118,Database!A:A,Database!I:I))=0,\"\",LOOKUP(B118,Database!A:A,Database!I:I)))","v":""},{"$f":"IF(ISNA(A118),\"\",IF(LEN(LOOKUP(B118,Database!A:A,Database!J:J))=0,\"\",LOOKUP(B118,Database!A:A,Database!J:J)))","v":""},{"$f":"IF(ISNA(A118),\"\",IF(LEN(LOOKUP(B118,Database!A:A,Database!K:K))=0,\"\",LOOKUP(B118,Database!A:A,Database!K:K)))","v":""},{"$f":"IF(ISNA(A118),\"\",IF(LEN(LOOKUP(B118,Database!A:A,Database!L:L))=0,\"\",LOOKUP(B118,Database!A:A,Database!L:L)))","v":""},{"$f":"IF(ISNA(A118),\"\",IF(LEN(LOOKUP(B118,Database!A:A,Database!M:M))=0,\"\",LOOKUP(B118,Database!A:A,Database!M:M)))","v":""},{"$f":"IF(ISNA(A118),\"\",IF(LEN(LOOKUP(B118,Database!A:A,Database!N:N))=0,\"\",LOOKUP(B118,Database!A:A,Database!N:N)))","v":""},{"$f":"IF(ISNA(A118),\"\",IF(LEN(LOOKUP(B118,Database!A:A,Database!O:O))=0,\"\",LOOKUP(B118,Database!A:A,Database!O:O)))","v":""},{"$f":"IF(ISNA(A118),\"\",IF(LEN(LOOKUP(B118,Database!A:A,Database!P:P))=0,\"\",LOOKUP(B118,Database!A:A,Database!P:P)))","v":""},{"$f":"IF(ISNA(A118),\"\",IF(LEN(LOOKUP(B118,Database!A:A,Database!Q:Q))=0,\"\",LOOKUP(B118,Database!A:A,Database!Q:Q)))","v":""},{"$f":"IF(ISNA(A118),\"\",IF(LEN(LOOKUP(B118,Database!A:A,Database!R:R))=0,\"\",LOOKUP(B118,Database!A:A,Database!R:R)))","v":""},{"$f":"IF(ISNA(A118),\"\",IF(LEN(LOOKUP(B118,Database!A:A,Database!S:S))=0,\"\",LOOKUP(B118,Database!A:A,Database!S:S)))","v":""},null,null,null,null,null,null,104,0,null,1,0,null,0.1]
[{"$error":"#N/A"},"2018-04-15",{"$f":"IF(ISNA(A119),\"\",IF(LEN(LOOKUP(B119,Database!A:A,Database!B:B))=0,\"\",LOOKUP(B119,Database!A:A,Database!B:B)))","v":""},{"$f":"IF(ISNA(A119),\"\",IF(LEN(LOOKUP(B119,Database!A:A,Database!C:C))=0,\"\",LOOKUP(B119,Database!A:A,Database!C:C)))","v":""},{"$f":"IF(ISNA(A119),\"\",IF(LEN(LOOKUP(B119,Database!A:A,Database!D:D))=0,\"\",LOOKUP(B119,Database!A:A,Database!D:D)))","v":""},{"$f":"IF(ISNA(A119),\"\",IF(LEN(LOOKUP(B119,Database!A:A,Database!E:E))=0,\"\",LOOKUP(B119,Database!A:A,Database!E:E)))","v":""},{"$f":"IF(ISNA(A119),\"\",IF(LEN(LOOKUP(B119,Database!A:A,Database!F:F))=0,\"\",LOOKUP(B119,Database!A:A,Database!F:F)))","v":""},{"$f":"IF(ISNA(A119),\"\",IF(LEN(LOOKUP(B119,Database!A:A,Database!G:G))=0,\"\",LOOKUP(B119,Database!A:A,Database!G:G)))","v":""},{"$f":"IF(ISNA(A119),\"\",IF(LEN(LOOKUP(B119,Database!A:A,Database!H:H))=0,\"\",LOOKUP(B119,Database!A:A,Database!H:H)))","v":""},{"$f":"IF(ISNA(A119),\"\",IF(LEN(LOOKUP(B119,Database!A:A,Database!I:I))=0,\"\",LOOKUP(B119,Database!A:A,Database!I:I)))","v":""},{"$f":"IF(ISNA(A119),\"\",IF(LEN(LOOKUP(B119,Database!A:A,Database!J:J))=0,\"\",LOOKUP(B119,Database!A:A,Database!J:J)))","v":""},{"$f":"IF(ISNA(A119),\"\",IF(LEN(LOOKUP(B119,Database!A:A,Database!K:K))=0,\"\",LOOKUP(B119,Database!A:A,Database!K:K)))","v":""},{"$f":"IF(ISNA(A119),\"\",IF(LEN(LOOKUP(B119,Database!A:A,Database!L:L))=0,\"\",LOOKUP(B119,Database!A:A,Database!L:L)))","v":""},{"$f":"IF(ISNA(A119),\"\",IF(LEN(LOOKUP(B119,Database!A:A,Database!M:M))=0,\"\",LOOKUP(B119,Database!A:A,Database!M:M)))","v":""},{"$f":"IF(ISNA(A119),\"\",IF(LEN(LOOKUP(B119,Database!A:A,Database!N:N))=0,\"\",LOOKUP(B119,Database!A:A,Database!N:N)))","v":""},{"$f":"IF(ISNA(A119),\"\",IF(LEN(LOOKUP(B119,Database!A:A,Database!O:O))=0,\"\",LOOKUP(B119,Database!A:A,Database!O:O)))","v":""},{"$f":"IF(ISNA(A119),\"\",IF(LEN(LOOKUP(B119,Database!A:A,Database!P:P))=0,\"\",LOOKUP(B119,Database!A:A,Database!P:P)))","v":""},{"$f":"IF(ISNA(A119),\"\",IF(LEN(LOOKUP(B119,Database!A:A,Database!Q:Q))=0,\"\",LOOKUP(B119,Database!A:A,Database!Q:Q)))","v":""},{"$f":"IF(ISNA(A119),\"\",IF(LEN(LOOKUP(B119,Database!A:A,Database!R:R))=0,\"\",LOOKUP(B119,Database!A:A,Database!R:R)))","v":""},{"$f":"IF(ISNA(A119),\"\",IF(LEN(LOOKUP(B119,Database!A:A,Database!S:S))=0,\"\",LOOKUP(B119,Database!A:A,Database!S:S)))","v":""},null,null,null,null,null,null,105,0,null,1,0,null,0.1]
[{"$error":"#N/A"},"2018-04-16",{"$f":"IF(ISNA(A120),\"\",IF(LEN(LOOKUP(B120,Database!A:A,Database!B:B))=0,\"\",LOOKUP(B120,Database!A:A,Database!B:B)))","v":""},{"$f":"IF(ISNA(A120),\"\",IF(LEN(LOOKUP(B120,Database!A:A,Database!C:C))=0,\"\",LOOKUP(B120,Database!A:A,Database!C:C)))","v":""},{"$f":"IF(ISNA(A120),\"\",IF(LEN(LOOKUP(B120,Database!A:A,Database!D:D))=0,\"\",LOOKUP(B120,Database!A:A,Database!D:D)))","v":""},{"$f":"IF(ISNA(A120),\"\",IF(LEN(LOOKUP(B120,Database!A:A,Database!E:E))=0,\"\",LOOKUP(B120,Database!A:A,Database!E:E)))","v":""},{"$f":"IF(ISNA(A120),\"\",IF(LEN(LOOKUP(B120,Database!A:A,Database!F:F))=0,\"\",LOOKUP(B120,Database!A:A,Database!F:F)))","v":""},{"$f":"IF(ISNA(A120),\"\",IF(LEN(LOOKUP(B120,Database!A:A,Database!G:G))=0,\"\",LOOKUP(B120,Database!A:A,Database!G:G)))","v":""},{"$f":"IF(ISNA(A120),\"\",IF(LEN(LOOKUP(B120,Database!A:A,Database!H:H))=0,\"\",LOOKUP(B120,Database!A:A,Database!H:H)))","v":""},{"$f":"IF(ISNA(A120),\"\",IF(LEN(LOOKUP(B120,Database!A:A,Database!I:I))=0,\"\",LOOKUP(B120,Database!A:A,Database!I:I)))","v":""},{"$f":"IF(ISNA(A120),\"\",IF(LEN(LOOKUP(B120,Database!A:A,Database!J:J))=0,\"\",LOOKUP(B120,Database!A:A,Database!J:J)))","v":""},{"$f":"IF(ISNA(A120),\"\",IF(LEN(LOOKUP(B120,Database!A:A,Database!K:K))=0,\"\",LOOKUP(B120,Database!A:A,Database!K:K)))","v":""},{"$f":"IF(ISNA(A120),\"\",IF(LEN(LOOKUP(B120,Database!A:A,Database!L:L))=0,\"\",LOOKUP(B120,Database!A:A,Database!L:L)))","v":""},{"$f":"IF(ISNA(A120),\"\",IF(LEN(LOOKUP(B120,Database!A:A,Database!M:M))=0,\"\",LOOKUP(B120,Database!A:A,Database!M:M)))","v":""},{"$f":"IF(ISNA(A120),\"\",IF(LEN(LOOKUP(B120,Database!A:A,Database!N:N))=0,\"\",LOOKUP(B120,Database!A:A,Database!N:N)))","v":""},{"$f":"IF(ISNA(A120),\"\",IF(LEN(LOOKUP(B120,Database!A:A,Database!O:O))=0,\"\",LOOKUP(B120,Database!A:A,Database!O:O)))","v":""},{"$f":"IF(ISNA(A120),\"\",IF(LEN(LOOKUP(B120,Database!A:A,Database!P:P))=0,\"\",LOOKUP(B120,Database!A:A,Database!P:P)))","v":""},{"$f":"IF(ISNA(A120),\"\",IF(LEN(LOOKUP(B120,Database!A:A,Database!Q:Q))=0,\"\",LOOKUP(B120,Database!A:A,Database!Q:Q)))","v":""},{"$f":"IF(ISNA(A120),\"\",IF(LEN(LOOKUP(B120,Database!A:A,Database!R:R))=0,\"\",LOOKUP(B120,Database!A:A,Database!R:R)))","v":""},{"$f":"IF(ISNA(A120),\"\",IF(LEN(LOOKUP(B120,Database!A:A,Database!S:S))=0,\"\",LOOKUP(B120,Database!A:A,Database!S:S)))","v":""},null,null,null,null,null,null,106,0,null,1,0,null,0.1]
[{"$error":"#N/A"},"2018-04-17",{"$f":"IF(ISNA(A121),\"\",IF(LEN(LOOKUP(B121,Database!A:A,Database!B:B))=0,\"\",LOOKUP(B121,Database!A:A,Database!B:B)))","v":""},{"$f":"IF(ISNA(A121),\"\",IF(LEN(LOOKUP(B121,Database!A:A,Database!C:C))=0,\"\",LOOKUP(B121,Database!A:A,Database!C:C)))","v":""},{"$f":"IF(ISNA(A121),\"\",IF(LEN(LOOKUP(B121,Database!A:A,Database!D:D))=0,\"\",LOOKUP(B121,Database!A:A,Database!D:D)))","v":""},{"$f":"IF(ISNA(A121),\"\",IF(LEN(LOOKUP(B121,Database!A:A,Database!E:E))=0,\"\",LOOKUP(B121,Database!A:A,Database!E:E)))","v":""},{"$f":"IF(ISNA(A121),\"\",IF(LEN(LOOKUP(B121,Database!A:A,Database!F:F))=0,\"\",LOOKUP(B121,Database!A:A,Database!F:F)))","v":""},{"$f":"IF(ISNA(A121),\"\",IF(LEN(LOOKUP(B121,Database!A:A,Database!G:G))=0,\"\",LOOKUP(B121,Database!A:A,Database!G:G)))","v":""},{"$f":"IF(ISNA(A121),\"\",IF(LEN(LOOKUP(B121,Database!A:A,Database!H:H))=0,\"\",LOOKUP(B121,Database!A:A,Database!H:H)))","v":""},{"$f":"IF(ISNA(A121),\"\",IF(LEN(LOOKUP(B121,Database!A:A,Database!I:I))=0,\"\",LOOKUP(B121,Database!A:A,Database!I:I)))","v":""},{"$f":"IF(ISNA(A121),\"\",IF(LEN(LOOKUP(B121,Database!A:A,Database!J:J))=0,\"\",LOOKUP(B121,Database!A:A,Database!J:J)))","v":""},{"$f":"IF(ISNA(A121),\"\",IF(LEN(LOOKUP(B121,Database!A:A,Database!K:K))=0,\"\",LOOKUP(B121,Database!A:A,Database!K:K)))","v":""},{"$f":"IF(ISNA(A121),\"\",IF(LEN(LOOKUP(B121,Database!A:A,Database!L:L))=0,\"\",LOOKUP(B121,Database!A:A,Database!L:L)))","v":""},{"$f":"IF(ISNA(A121),\"\",IF(LEN(LOOKUP(B121,Database!A:A,Database!M:M))=0,\"\",LOOKUP(B121,Database!A:A,Database!M:M)))","v":""},{"$f":"IF(ISNA(A121),\"\",IF(LEN(LOOKUP(B121,Database!A:A,Database!N:N))=0,\"\",LOOKUP(B121,Database!A:A,Database!N:N)))","v":""},{"$f":"IF(ISNA(A121),\"\",IF(LEN(LOOKUP(B121,Database!A:A,Database!O:O))=0,\"\",LOOKUP(B121,Database!A:A,Database!O:O)))","v":""},{"$f":"IF(ISNA(A121),\"\",IF(LEN(LOOKUP(B121,Database!A:A,Database!P:P))=0,\"\",LOOKUP(B121,Database!A:A,Database!P:P)))","v":""},{"$f":"IF(ISNA(A121),\"\",IF(LEN(LOOKUP(B121,Database!A:A,Database!Q:Q))=0,\"\",LOOKUP(B121,Database!A:A,Database!Q:Q)))","v":""},{"$f":"IF(ISNA(A121),\"\",IF(LEN(LOOKUP(B121,Database!A:A,Database!R:R))=0,\"\",LOOKUP(B121,Database!A:A,Database!R:R)))","v":""},{"$f":"IF(ISNA(A121),\"\",IF(LEN(LOOKUP(B121,Database!A:A,Database!S:S))=0,\"\",LOOKUP(B121,Database!A:A,Database!S:S)))","v":""},null,null,null,null,null,null,107,0,null,1,0,null,0.1]
[{"$error":"#N/A"},"2018-04-18",{"$f":"IF(ISNA(A122),\"\",IF(LEN(LOOKUP(B122,Database!A:A,Database!B:B))=0,\"\",LOOKUP(B122,Database!A:A,Database!B:B)))","v":""},{"$f":"IF(ISNA(A122),\"\",IF(LEN(LOOKUP(B122,Database!A:A,Database!C:C))=0,\"\",LOOKUP(B122,Database!A:A,Database!C:C)))","v":""},{"$f":"IF(ISNA(A122),\"\",IF(LEN(LOOKUP(B122,Database!A:A,Database!D:D))=0,\"\",LOOKUP(B122,Database!A:A,Database!D:D)))","v":""},{"$f":"IF(ISNA(A122),\"\",IF(LEN(LOOKUP(B122,Database!A:A,Database!E:E))=0,\"\",LOOKUP(B122,Database!A:A,Database!E:E)))","v":""},{"$f":"IF(ISNA(A122),\"\",IF(LEN(LOOKUP(B122,Database!A:A,Database!F:F))=0,\"\",LOOKUP(B122,Database!A:A,Database!F:F)))","v":""},{"$f":"IF(ISNA(A122),\"\",IF(LEN(LOOKUP(B122,Database!A:A,Database!G:G))=0,\"\",LOOKUP(B122,Database!A:A,Database!G:G)))","v":""},{"$f":"IF(ISNA(A122),\"\",IF(LEN(LOOKUP(B122,Database!A:A,Database!H:H))=0,\"\",LOOKUP(B122,Database!A:A,Database!H:H)))","v":""},{"$f":"IF(ISNA(A122),\"\",IF(LEN(LOOKUP(B122,Database!A:A,Database!I:I))=0,\"\",LOOKUP(B122,Database!A:A,Database!I:I)))","v":""},{"$f":"IF(ISNA(A122),\"\",IF(LEN(LOOKUP(B122,Database!A:A,Database!J:J))=0,\"\",LOOKUP(B122,Database!A:A,Database!J:J)))","v":""},{"$f":"IF(ISNA(A122),\"\",IF(LEN(LOOKUP(B122,Database!A:A,Database!K:K))=0,\"\",LOOKUP(B122,Database!A:A,Database!K:K)))","v":""},{"$f":"IF(ISNA(A122),\"\",IF(LEN(LOOKUP(B122,Database!A:A,Database!L:L))=0,\"\",LOOKUP(B122,Database!A:A,Database!L:L)))","v":""},{"$f":"IF(ISNA(A122),\"\",IF(LEN(LOOKUP(B122,Database!A:A,Database!M:M))=0,\"\",LOOKUP(B122,Database!A:A,Database!M:M)))","v":""},{"$f":"IF(ISNA(A122),\"\",IF(LEN(LOOKUP(B122,Database!A:A,Database!N:N))=0,\"\",LOOKUP(B122,Database!A:A,Database!N:N)))","v":""},{"$f":"IF(ISNA(A122),\"\",IF(LEN(LOOKUP(B122,Database!A:A,Database!O:O))=0,\"\",LOOKUP(B122,Database!A:A,Database!O:O)))","v":""},{"$f":"IF(ISNA(A122),\"\",IF(LEN(LOOKUP(B122,Database!A:A,Database!P:P))=0,\"\",LOOKUP(B122,Database!A:A,Database!P:P)))","v":""},{"$f":"IF(ISNA(A122),\"\",IF(LEN(LOOKUP(B122,Database!A:A,Database!Q:Q))=0,\"\",LOOKUP(B122,Database!A:A,Database!Q:Q)))","v":""},{"$f":"IF(ISNA(A122),\"\",IF(LEN(LOOKUP(B122,Database!A:A,Database!R:R))=0,\"\",LOOKUP(B122,Database!A:A,Database!R:R)))","v":""},{"$f":"IF(ISNA(A122),\"\",IF(LEN(LOOKUP(B122,Database!A:A,Database!S:S))=0,\"\",LOOKUP(B122,Database!A:A,Database!S:S)))","v":""},null,null,null,null,null,null,108,0,null,1,0,null,0.1]
[{"$error":"#N/A"},"2018-04-19",{"$f":"IF(ISNA(A123),\"\",IF(LEN(LOOKUP(B123,Database!A:A,Database!B:B))=0,\"\",LOOKUP(B123,Database!A:A,Database!B:B)))","v":""},{"$f":"IF(ISNA(A123),\"\",IF(LEN(LOOKUP(B123,Database!A:A,Database!C:C))=0,\"\",LOOKUP(B123,Database!A:A,Database!C:C)))","v":""},{"$f":"IF(ISNA(A123),\"\",IF(LEN(LOOKUP(B123,Database!A:A,Database!D:D))=0,\"\",LOOKUP(B123,Database!A:A,Database!D:D)))","v":""},{"$f":"IF(ISNA(A123),\"\",IF(LEN(LOOKUP(B123,Database!A:A,Database!E:E))=0,\"\",LOOKUP(B123,Database!A:A,Database!E:E)))","v":""},{"$f":"IF(ISNA(A123),\"\",IF(LEN(LOOKUP(B123,Database!A:A,Database!F:F))=0,\"\",LOOKUP(B123,Database!A:A,Database!F:F)))","v":""},{"$f":"IF(ISNA(A123),\"\",IF(LEN(LOOKUP(B123,Database!A:A,Database!G:G))=0,\"\",LOOKUP(B123,Database!A:A,Database!G:G)))","v":""},{"$f":"IF(ISNA(A123),\"\",IF(LEN(LOOKUP(B123,Database!A:A,Database!H:H))=0,\"\",LOOKUP(B123,Database!A:A,Database!H:H)))","v":""},{"$f":"IF(ISNA(A123),\"\",IF(LEN(LOOKUP(B123,Database!A:A,Database!I:I))=0,\"\",LOOKUP(B123,Database!A:A,Database!I:I)))","v":""},{"$f":"IF(ISNA(A123),\"\",IF(LEN(LOOKUP(B123,Database!A:A,Database!J:J))=0,\"\",LOOKUP(B123,Database!A:A,Database!J:J)))","v":""},{"$f":"IF(ISNA(A123),\"\",IF(LEN(LOOKUP(B123,Database!A:A,Database!K:K))=0,\"\",LOOKUP(B123,Database!A:A,Database!K:K)))","v":""},{"$f":"IF(ISNA(A123),\"\",IF(LEN(LOOKUP(B123,Database!A:A,Database!L:L))=0,\"\",LOOKUP(B123,Database!A:A,Database!L:L)))","v":""},{"$f":"IF(ISNA(A123),\"\",IF(LEN(LOOKUP(B123,Database!A:A,Database!M:M))=0,\"\",LOOKUP(B123,Database!A:A,Database!M:M)))","v":""},{"$f":"IF(ISNA(A123),\"\",IF(LEN(LOOKUP(B123,Database!A:A,Database!N:N))=0,\"\",LOOKUP(B123,Database!A:A,Database!N:N)))","v":""},{"$f":"IF(ISNA(A123),\"\",IF(LEN(LOOKUP(B123,Database!A:A,Database!O:O))=0,\"\",LOOKUP(B123,Database!A:A,Database!O:O)))","v":""},{"$f":"IF(ISNA(A123),\"\",IF(LEN(LOOKUP(B123,Database!A:A,Database!P:P))=0,\"\",LOOKUP(B123,Database!A:A,Database!P:P)))","v":""},{"$f":"IF(ISNA(A123),\"\",IF(LEN(LOOKUP(B123,Database!A:A,Database!Q:Q))=0,\"\",LOOKUP(B123,Database!A:A,Database!Q:Q)))","v":""},{"$f":"IF(ISNA(A123),\"\",IF(LEN(LOOKUP(B123,Database!A:A,Database!R:R))=0,\"\",LOOKUP(B123,Database!A:A,Database!R:R)))","v":""},{"$f":"IF(ISNA(A123),\"\",IF(LEN(LOOKUP(B123,Database!A:A,Database!S:S))=0,\"\",LOOKUP(B123,Database!A:A,Database!S:S)))","v":""},null,null,null,null,null,null,109,0,null,1,0,null,0.1]
[{"$error":"#N/A"},"2018-04-20",{"$f":"IF(ISNA(A124),\"\",IF(LEN(LOOKUP(B124,Database!A:A,Database!B:B))=0,\"\",LOOKUP(B124,Database!A:A,Database!B:B)))","v":""},{"$f":"IF(ISNA(A124),\"\",IF(LEN(LOOKUP(B124,Database!A:A,Database!C:C))=0,\"\",LOOKUP(B124,Database!A:A,Database!C:C)))","v":""},{"$f":"IF(ISNA(A124),\"\",IF(LEN(LOOKUP(B124,Database!A:A,Database!D:D))=0,\"\",LOOKUP(B124,Database!A:A,Database!D:D)))","v":""},{"$f":"IF(ISNA(A124),\"\",IF(LEN(LOOKUP(B124,Database!A:A,Database!E:E))=0,\"\",LOOKUP(B124,Database!A:A,Database!E:E)))","v":""},{"$f":"IF(ISNA(A124),\"\",IF(LEN(LOOKUP(B124,Database!A:A,Database!F:F))=0,\"\",LOOKUP(B124,Database!A:A,Database!F:F)))","v":""},{"$f":"IF(ISNA(A124),\"\",IF(LEN(LOOKUP(B124,Database!A:A,Database!G:G))=0,\"\",LOOKUP(B124,Database!A:A,Database!G:G)))","v":""},{"$f":"IF(ISNA(A124),\"\",IF(LEN(LOOKUP(B124,Database!A:A,Database!H:H))=0,\"\",LOOKUP(B124,Database!A:A,Database!H:H)))","v":""},{"$f":"IF(ISNA(A124),\"\",IF(LEN(LOOKUP(B124,Database!A:A,Database!I:I))=0,\"\",LOOKUP(B124,Database!A:A,Database!I:I)))","v":""},{"$f":"IF(ISNA(A124),\"\",IF(LEN(LOOKUP(B124,Database!A:A,Database!J:J))=0,\"\",LOOKUP(B124,Database!A:A,Database!J:J)))","v":""},{"$f":"IF(ISNA(A124),\"\",IF(LEN(LOOKUP(B124,Database!A:A,Database!K:K))=0,\"\",LOOKUP(B124,Database!A:A,Database!K:K)))","v":""},{"$f":"IF(ISNA(A124),\"\",IF(LEN(LOOKUP(B124,Database!A:A,Database!L:L))=0,\"\",LOOKUP(B124,Database!A:A,Database!L:L)))","v":""},{"$f":"IF(ISNA(A124),\"\",IF(LEN(LOOKUP(B124,Database!A:A,Database!M:M))=0,\"\",LOOKUP(B124,Database!A:A,Database!M:M)))","v":""},{"$f":"IF(ISNA(A124),\"\",IF(LEN(LOOKUP(B124,Database!A:A,Database!N:N))=0,\"\",LOOKUP(B124,Database!A:A,Database!N:N)))","v":""},{"$f":"IF(ISNA(A124),\"\",IF(LEN(LOOKUP(B124,Database!A:A,Database!O:O))=0,\"\",LOOKUP(B124,Database!A:A,Database!O:O)))","v":""},{"$f":"IF(ISNA(A124),\"\",IF(LEN(LOOKUP(B124,Database!A:A,Database!P:P))=0,\"\",LOOKUP(B124,Database!A:A,Database!P:P)))","v":""},{"$f":"IF(ISNA(A124),\"\",IF(LEN(LOOKUP(B124,Database!A:A,Database!Q:Q))=0,\"\",LOOKUP(B124,Database!A:A,Database!Q:Q)))","v":""},{"$f":"IF(ISNA(A124),\"\",IF(LEN(LOOKUP(B124,Database!A:A,Database!R:R))=0,\"\",LOOKUP(B124,Database!A:A,Database!R:R)))","v":""},{"$f":"IF(ISNA(A124),\"\",IF(LEN(LOOKUP(B124,Database!A:A,Database!S:S))=0,\"\",LOOKUP(B124,Database!A:A,Database!S:S)))","v":""},null,null,null,null,null,null,110,0,null,1,0,null,0.1]
[{"$error":"#N/A"},"2018-04-21",{"$f":"IF(ISNA(A125),\"\",IF(LEN(LOOKUP(B125,Database!A:A,Database!B:B))=0,\"\",LOOKUP(B125,Database!A:A,Database!B:B)))","v":""},{"$f":"IF(ISNA(A125),\"\",IF(LEN(LOOKUP(B125,Database!A:A,Database!C:C))=0,\"\",LOOKUP(B125,Database!A:A,Database!C:C)))","v":""},{"$f":"IF(ISNA(A125),\"\",IF(LEN(LOOKUP(B125,Database!A:A,Database!D:D))=0,\"\",LOOKUP(B125,Database!A:A,Database!D:D)))","v":""},{"$f":"IF(ISNA(A125),\"\",IF(LEN(LOOKUP(B125,Database!A:A,Database!E:E))=0,\"\",LOOKUP(B125,Database!A:A,Database!E:E)))","v":""},{"$f":"IF(ISNA(A125),\"\",IF(LEN(LOOKUP(B125,Database!A:A,Database!F:F))=0,\"\",LOOKUP(B125,Database!A:A,Database!F:F)))","v":""},{"$f":"IF(ISNA(A125),\"\",IF(LEN(LOOKUP(B125,Database!A:A,Database!G:G))=0,\"\",LOOKUP(B125,Database!A:A,Database!G:G)))","v":""},{"$f":"IF(ISNA(A125),\"\",IF(LEN(LOOKUP(B125,Database!A:A,Database!H:H))=0,\"\",LOOKUP(B125,Database!A:A,Database!H:H)))","v":""},{"$f":"IF(ISNA(A125),\"\",IF(LEN(LOOKUP(B125,Database!A:A,Database!I:I))=0,\"\",LOOKUP(B125,Database!A:A,Database!I:I)))","v":""},{"$f":"IF(ISNA(A125),\"\",IF(LEN(LOOKUP(B125,Database!A:A,Database!J:J))=0,\"\",LOOKUP(B125,Database!A:A,Database!J:J)))","v":""},{"$f":"IF(ISNA(A125),\"\",IF(LEN(LOOKUP(B125,Database!A:A,Database!K:K))=0,\"\",LOOKUP(B125,Database!A:A,Database!K:K)))","v":""},{"$f":"IF(ISNA(A125),\"\",IF(LEN(LOOKUP(B125,Database!A:A,Database!L:L))=0,\"\",LOOKUP(B125,Database!A:A,Database!L:L)))","v":""},{"$f":"IF(ISNA(A125),\"\",IF(LEN(LOOKUP(B125,Database!A:A,Database!M:M))=0,\"\",LOOKUP(B125,Database!A:A,Database!M:M)))","v":""},{"$f":"IF(ISNA(A125),\"\",IF(LEN(LOOKUP(B125,Database!A:A,Database!N:N))=0,\"\",LOOKUP(B125,Database!A:A,Database!N:N)))","v":""},{"$f":"IF(ISNA(A125),\"\",IF(LEN(LOOKUP(B125,Database!A:A,Database!O:O))=0,\"\",LOOKUP(B125,Database!A:A,Database!O:O)))","v":""},{"$f":"IF(ISNA(A125),\"\",IF(LEN(LOOKUP(B125,Database!A:A,Database!P:P))=0,\"\",LOOKUP(B125,Database!A:A,Database!P:P)))","v":""},{"$f":"IF(ISNA(A125),\"\",IF(LEN(LOOKUP(B125,Database!A:A,Database!Q:Q))=0,\"\",LOOKUP(B125,Database!A:A,Database!Q:Q)))","v":""},{"$f":"IF(ISNA(A125),\"\",IF(LEN(LOOKUP(B125,Database!A:A,Database!R:R))=0,\"\",LOOKUP(B125,Database!A:A,Database!R:R)))","v":""},{"$f":"IF(ISNA(A125),\"\",IF(LEN(LOOKUP(B125,Database!A:A,Database!S:S))=0,\"\",LOOKUP(B125,Database!A:A,Database!S:S)))","v":""},null,null,null,null,null,null,111,0,null,1,0,null,0.1]
[{"$error":"#N/A"},"2018-04-22",{"$f":"IF(ISNA(A126),\"\",IF(LEN(LOOKUP(B126,Database!A:A,Database!B:B))=0,\"\",LOOKUP(B126,Database!A:A,Database!B:B)))","v":""},{"$f":"IF(ISNA(A126),\"\",IF(LEN(LOOKUP(B126,Database!A:A,Database!C:C))=0,\"\",LOOKUP(B126,Database!A:A,Database!C:C)))","v":""},{"$f":"IF(ISNA(A126),\"\",IF(LEN(LOOKUP(B126,Database!A:A,Database!D:D))=0,\"\",LOOKUP(B126,Database!A:A,Database!D:D)))","v":""},{"$f":"IF(ISNA(A126),\"\",IF(LEN(LOOKUP(B126,Database!A:A,Database!E:E))=0,\"\",LOOKUP(B126,Database!A:A,Database!E:E)))","v":""},{"$f":"IF(ISNA(A126),\"\",IF(LEN(LOOKUP(B126,Database!A:A,Database!F:F))=0,\"\",LOOKUP(B126,Database!A:A,Database!F:F)))","v":""},{"$f":"IF(ISNA(A126),\"\",IF(LEN(LOOKUP(B126,Database!A:A,Database!G:G))=0,\"\",LOOKUP(B126,Database!A:A,Database!G:G)))","v":""},{"$f":"IF(ISNA(A126),\"\",IF(LEN(LOOKUP(B126,Database!A:A,Database!H:H))=0,\"\",LOOKUP(B126,Database!A:A,Database!H:H)))","v":""},{"$f":"IF(ISNA(A126),\"\",IF(LEN(LOOKUP(B126,Database!A:A,Database!I:I))=0,\"\",LOOKUP(B126,Database!A:A,Database!I:I)))","v":""},{"$f":"IF(ISNA(A126),\"\",IF(LEN(LOOKUP(B126,Database!A:A,Database!J:J))=0,\"\",LOOKUP(B126,Database!A:A,Database!J:J)))","v":""},{"$f":"IF(ISNA(A126),\"\",IF(LEN(LOOKUP(B126,Database!A:A,Database!K:K))=0,\"\",LOOKUP(B126,Database!A:A,Database!K:K)))","v":""},{"$f":"IF(ISNA(A126),\"\",IF(LEN(LOOKUP(B126,Database!A:A,Database!L:L))=0,\"\",LOOKUP(B126,Database!A:A,Database!L:L)))","v":""},{"$f":"IF(ISNA(A126),\"\",IF(LEN(LOOKUP(B126,Database!A:A,Database!M:M))=0,\"\",LOOKUP(B126,Database!A:A,Database!M:M)))","v":""},{"$f":"IF(ISNA(A126),\"\",IF(LEN(LOOKUP(B126,Database!A:A,Database!N:N))=0,\"\",LOOKUP(B126,Database!A:A,Database!N:N)))","v":""},{"$f":"IF(ISNA(A126),\"\",IF(LEN(LOOKUP(B126,Database!A:A,Database!O:O))=0,\"\",LOOKUP(B126,Database!A:A,Database!O:O)))","v":""},{"$f":"IF(ISNA(A126),\"\",IF(LEN(LOOKUP(B126,Database!A:A,Database!P:P))=0,\"\",LOOKUP(B126,Database!A:A,Database!P:P)))","v":""},{"$f":"IF(ISNA(A126),\"\",IF(LEN(LOOKUP(B126,Database!A:A,Database!Q:Q))=0,\"\",LOOKUP(B126,Database!A:A,Database!Q:Q)))","v":""},{"$f":"IF(ISNA(A126),\"\",IF(LEN(LOOKUP(B126,Database!A:A,Database!R:R))=0,\"\",LOOKUP(B126,Database!A:A,Database!R:R)))","v":""},{"$f":"IF(ISNA(A126),\"\",IF(LEN(LOOKUP(B126,Database!A:A,Database!S:S))=0,\"\",LOOKUP(B126,Database!A:A,Database!S:S)))","v":""},null,null,null,null,null,null,112,0,null,1,0,null,0.1]
[{"$error":"#N/A"},"2018-04-23",{"$f":"IF(ISNA(A127),\"\",IF(LEN(LOOKUP(B127,Database!A:A,Database!B:B))=0,\"\",LOOKUP(B127,Database!A:A,Database!B:B)))","v":""},{"$f":"IF(ISNA(A127),\"\",IF(LEN(LOOKUP(B127,Database!A:A,Database!C:C))=0,\"\",LOOKUP(B127,Database!A:A,Database!C:C)))","v":""},{"$f":"IF(ISNA(A127),\"\",IF(LEN(LOOKUP(B127,Database!A:A,Database!D:D))=0,\"\",LOOKUP(B127,Database!A:A,Database!D:D)))","v":""},{"$f":"IF(ISNA(A127),\"\",IF(LEN(LOOKUP(B127,Database!A:A,Database!E:E))=0,\"\",LOOKUP(B127,Database!A:A,Database!E:E)))","v":""},{"$f":"IF(ISNA(A127),\"\",IF(LEN(LOOKUP(B127,Database!A:A,Database!F:F))=0,\"\",LOOKUP(B127,Database!A:A,Database!F:F)))","v":""},{"$f":"IF(ISNA(A127),\"\",IF(LEN(LOOKUP(B127,Database!A:A,Database!G:G))=0,\"\",LOOKUP(B127,Database!A:A,Database!G:G)))","v":""},{"$f":"IF(ISNA(A127),\"\",IF(LEN(LOOKUP(B127,Database!A:A,Database!H:H))=0,\"\",LOOKUP(B127,Database!A:A,Database!H:H)))","v":""},{"$f":"IF(ISNA(A127),\"\",IF(LEN(LOOKUP(B127,Database!A:A,Database!I:I))=0,\"\",LOOKUP(B127,Database!A:A,Database!I:I)))","v":""},{"$f":"IF(ISNA(A127),\"\",IF(LEN(LOOKUP(B127,Database!A:A,Database!J:J))=0,\"\",LOOKUP(B127,Database!A:A,Database!J:J)))","v":""},{"$f":"IF(ISNA(A127),\"\",IF(LEN(LOOKUP(B127,Database!A:A,Database!K:K))=0,\"\",LOOKUP(B127,Database!A:A,Database!K:K)))","v":""},{"$f":"IF(ISNA(A127),\"\",IF(LEN(LOOKUP(B127,Database!A:A,Database!L:L))=0,\"\",LOOKUP(B127,Database!A:A,Database!L:L)))","v":""},{"$f":"IF(ISNA(A127),\"\",IF(LEN(LOOKUP(B127,Database!A:A,Database!M:M))=0,\"\",LOOKUP(B127,Database!A:A,Database!M:M)))","v":""},{"$f":"IF(ISNA(A127),\"\",IF(LEN(LOOKUP(B127,Database!A:A,Database!N:N))=0,\"\",LOOKUP(B127,Database!A:A,Database!N:N)))","v":""},{"$f":"IF(ISNA(A127),\"\",IF(LEN(LOOKUP(B127,Database!A:A,Database!O:O))=0,\"\",LOOKUP(B127,Database!A:A,Database!O:O)))","v":""},{"$f":"IF(ISNA(A127),\"\",IF(LEN(LOOKUP(B127,Database!A:A,Database!P:P))=0,\"\",LOOKUP(B127,Database!A:A,Database!P:P)))","v":""},{"$f":"IF(ISNA(A127),\"\",IF(LEN(LOOKUP(B127,Database!A:A,Database!Q:Q))=0,\"\",LOOKUP(B127,Database!A:A,Database!Q:Q)))","v":""},{"$f":"IF(ISNA(A127),\"\",IF(LEN(LOOKUP(B127,Database!A:A,Database!R:R))=0,\"\",LOOKUP(B127,Database!A:A,Database!R:R)))","v":""},{"$f":"IF(ISNA(A127),\"\",IF(LEN(LOOKUP(B127,Database!A:A,Database!S:S))=0,\"\",LOOKUP(B127,Database!A:A,Database!S:S)))","v":""},null,null,null,null,null,null,113,0,null,1,0,null,0.1]
[{"$error":"#N/A"},"2018-04-24",{"$f":"IF(ISNA(A128),\"\",IF(LEN(LOOKUP(B128,Database!A:A,Database!B:B))=0,\"\",LOOKUP(B128,Database!A:A,Database!B:B)))","v":""},{"$f":"IF(ISNA(A128),\"\",IF(LEN(LOOKUP(B128,Database!A:A,Database!C:C))=0,\"\",LOOKUP(B128,Database!A:A,Database!C:C)))","v":""},{"$f":"IF(ISNA(A128),\"\",IF(LEN(LOOKUP(B128,Database!A:A,Database!D:D))=0,\"\",LOOKUP(B128,Database!A:A,Database!D:D)))","v":""},{"$f":"IF(ISNA(A128),\"\",IF(LEN(LOOKUP(B128,Database!A:A,Database!E:E))=0,\"\",LOOKUP(B128,Database!A:A,Database!E:E)))","v":""},{"$f":"IF(ISNA(A128),\"\",IF(LEN(LOOKUP(B128,Database!A:A,Database!F:F))=0,\"\",LOOKUP(B128,Database!A:A,Database!F:F)))","v":""},{"$f":"IF(ISNA(A128),\"\",IF(LEN(LOOKUP(B128,Database!A:A,Database!G:G))=0,\"\",LOOKUP(B128,Database!A:A,Database!G:G)))","v":""},{"$f":"IF(ISNA(A128),\"\",IF(LEN(LOOKUP(B128,Database!A:A,Database!H:H))=0,\"\",LOOKUP(B128,Database!A:A,Database!H:H)))","v":""},{"$f":"IF(ISNA(A128),\"\",IF(LEN(LOOKUP(B128,Database!A:A,Database!I:I))=0,\"\",LOOKUP(B128,Database!A:A,Database!I:I)))","v":""},{"$f":"IF(ISNA(A128),\"\",IF(LEN(LOOKUP(B128,Database!A:A,Database!J:J))=0,\"\",LOOKUP(B128,Database!A:A,Database!J:J)))","v":""},{"$f":"IF(ISNA(A128),\"\",IF(LEN(LOOKUP(B128,Database!A:A,Database!K:K))=0,\"\",LOOKUP(B128,Database!A:A,Database!K:K)))","v":""},{"$f":"IF(ISNA(A128),\"\",IF(LEN(LOOKUP(B128,Database!A:A,Database!L:L))=0,\"\",LOOKUP(B128,Database!A:A,Database!L:L)))","v":""},{"$f":"IF(ISNA(A128),\"\",IF(LEN(LOOKUP(B128,Database!A:A,Database!M:M))=0,\"\",LOOKUP(B128,Database!A:A,Database!M:M)))","v":""},{"$f":"IF(ISNA(A128),\"\",IF(LEN(LOOKUP(B128,Database!A:A,Database!N:N))=0,\"\",LOOKUP(B128,Database!A:A,Database!N:N)))","v":""},{"$f":"IF(ISNA(A128),\"\",IF(LEN(LOOKUP(B128,Database!A:A,Database!O:O))=0,\"\",LOOKUP(B128,Database!A:A,Database!O:O)))","v":""},{"$f":"IF(ISNA(A128),\"\",IF(LEN(LOOKUP(B128,Database!A:A,Database!P:P))=0,\"\",LOOKUP(B128,Database!A:A,Database!P:P)))","v":""},{"$f":"IF(ISNA(A128),\"\",IF(LEN(LOOKUP(B128,Database!A:A,Database!Q:Q))=0,\"\",LOOKUP(B128,Database!A:A,Database!Q:Q)))","v":""},{"$f":"IF(ISNA(A128),\"\",IF(LEN(LOOKUP(B128,Database!A:A,Database!R:R))=0,\"\",LOOKUP(B128,Database!A:A,Database!R:R)))","v":""},{"$f":"IF(ISNA(A128),\"\",IF(LEN(LOOKUP(B128,Database!A:A,Database!S:S))=0,\"\",LOOKUP(B128,Database!A:A,Database!S:S)))","v":""},null,null,null,null,null,null,114,0,null,1,0,null,0.1]
[{"$error":"#N/A"},"2018-04-25",{"$f":"IF(ISNA(A129),\"\",IF(LEN(LOOKUP(B129,Database!A:A,Database!B:B))=0,\"\",LOOKUP(B129,Database!A:A,Database!B:B)))","v":""},{"$f":"IF(ISNA(A129),\"\",IF(LEN(LOOKUP(B129,Database!A:A,Database!C:C))=0,\"\",LOOKUP(B129,Database!A:A,Database!C:C)))","v":""},{"$f":"IF(ISNA(A129),\"\",IF(LEN(LOOKUP(B129,Database!A:A,Database!D:D))=0,\"\",LOOKUP(B129,Database!A:A,Database!D:D)))","v":""},{"$f":"IF(ISNA(A129),\"\",IF(LEN(LOOKUP(B129,Database!A:A,Database!E:E))=0,\"\",LOOKUP(B129,Database!A:A,Database!E:E)))","v":""},{"$f":"IF(ISNA(A129),\"\",IF(LEN(LOOKUP(B129,Database!A:A,Database!F:F))=0,\"\",LOOKUP(B129,Database!A:A,Database!F:F)))","v":""},{"$f":"IF(ISNA(A129),\"\",IF(LEN(LOOKUP(B129,Database!A:A,Database!G:G))=0,\"\",LOOKUP(B129,Database!A:A,Database!G:G)))","v":""},{"$f":"IF(ISNA(A129),\"\",IF(LEN(LOOKUP(B129,Database!A:A,Database!H:H))=0,\"\",LOOKUP(B129,Database!A:A,Database!H:H)))","v":""},{"$f":"IF(ISNA(A129),\"\",IF(LEN(LOOKUP(B129,Database!A:A,Database!I:I))=0,\"\",LOOKUP(B129,Database!A:A,Database!I:I)))","v":""},{"$f":"IF(ISNA(A129),\"\",IF(LEN(LOOKUP(B129,Database!A:A,Database!J:J))=0,\"\",LOOKUP(B129,Database!A:A,Database!J:J)))","v":""},{"$f":"IF(ISNA(A129),\"\",IF(LEN(LOOKUP(B129,Database!A:A,Database!K:K))=0,\"\",LOOKUP(B129,Database!A:A,Database!K:K)))","v":""},{"$f":"IF(ISNA(A129),\"\",IF(LEN(LOOKUP(B129,Database!A:A,Database!L:L))=0,\"\",LOOKUP(B129,Database!A:A,Database!L:L)))","v":""},{"$f":"IF(ISNA(A129),\"\",IF(LEN(LOOKUP(B129,Database!A:A,Database!M:M))=0,\"\",LOOKUP(B129,Database!A:A,Database!M:M)))","v":""},{"$f":"IF(ISNA(A129),\"\",IF(LEN(LOOKUP(B129,Database!A:A,Database!N:N))=0,\"\",LOOKUP(B129,Database!A:A,Database!N:N)))","v":""},{"$f":"IF(ISNA(A129),\"\",IF(LEN(LOOKUP(B129,Database!A:A,Database!O:O))=0,\"\",LOOKUP(B129,Database!A:A,Database!O:O)))","v":""},{"$f":"IF(ISNA(A129),\"\",IF(LEN(LOOKUP(B129,Database!A:A,Database!P:P))=0,\"\",LOOKUP(B129,Database!A:A,Database!P:P)))","v":""},{"$f":"IF(ISNA(A129),\"\",IF(LEN(LOOKUP(B129,Database!A:A,Database!Q:Q))=0,\"\",LOOKUP(B129,Database!A:A,Database!Q:Q)))","v":""},{"$f":"IF(ISNA(A129),\"\",IF(LEN(LOOKUP(B129,Database!A:A,Database!R:R))=0,\"\",LOOKUP(B129,Database!A:A,Database!R:R)))","v":""},{"$f":"IF(ISNA(A129),\"\",IF(LEN(LOOKUP(B129,Database!A:A,Database!S:S))=0,\"\",LOOKUP(B129,Database!A:A,Database!S:S)))","v":""},null,null,null,null,null,null,115,0,null,1,0,null,0.1]
[{"$error":"#N/A"},"2018-04-26",{"$f":"IF(ISNA(A130),\"\",IF(LEN(LOOKUP(B130,Database!A:A,Database!B:B))=0,\"\",LOOKUP(B130,Database!A:A,Database!B:B)))","v":""},{"$f":"IF(ISNA(A130),\"\",IF(LEN(LOOKUP(B130,Database!A:A,Database!C:C))=0,\"\",LOOKUP(B130,Database!A:A,Database!C:C)))","v":""},{"$f":"IF(ISNA(A130),\"\",IF(LEN(LOOKUP(B130,Database!A:A,Database!D:D))=0,\"\",LOOKUP(B130,Database!A:A,Database!D:D)))","v":""},{"$f":"IF(ISNA(A130),\"\",IF(LEN(LOOKUP(B130,Database!A:A,Database!E:E))=0,\"\",LOOKUP(B130,Database!A:A,Database!E:E)))","v":""},{"$f":"IF(ISNA(A130),\"\",IF(LEN(LOOKUP(B130,Database!A:A,Database!F:F))=0,\"\",LOOKUP(B130,Database!A:A,Database!F:F)))","v":""},{"$f":"IF(ISNA(A130),\"\",IF(LEN(LOOKUP(B130,Database!A:A,Database!G:G))=0,\"\",LOOKUP(B130,Database!A:A,Database!G:G)))","v":""},{"$f":"IF(ISNA(A130),\"\",IF(LEN(LOOKUP(B130,Database!A:A,Database!H:H))=0,\"\",LOOKUP(B130,Database!A:A,Database!H:H)))","v":""},{"$f":"IF(ISNA(A130),\"\",IF(LEN(LOOKUP(B130,Database!A:A,Database!I:I))=0,\"\",LOOKUP(B130,Database!A:A,Database!I:I)))","v":""},{"$f":"IF(ISNA(A130),\"\",IF(LEN(LOOKUP(B130,Database!A:A,Database!J:J))=0,\"\",LOOKUP(B130,Database!A:A,Database!J:J)))","v":""},{"$f":"IF(ISNA(A130),\"\",IF(LEN(LOOKUP(B130,Database!A:A,Database!K:K))=0,\"\",LOOKUP(B130,Database!A:A,Database!K:K)))","v":""},{"$f":"IF(ISNA(A130),\"\",IF(LEN(LOOKUP(B130,Database!A:A,Database!L:L))=0,\"\",LOOKUP(B130,Database!A:A,Database!L:L)))","v":""},{"$f":"IF(ISNA(A130),\"\",IF(LEN(LOOKUP(B130,Database!A:A,Database!M:M))=0,\"\",LOOKUP(B130,Database!A:A,Database!M:M)))","v":""},{"$f":"IF(ISNA(A130),\"\",IF(LEN(LOOKUP(B130,Database!A:A,Database!N:N))=0,\"\",LOOKUP(B130,Database!A:A,Database!N:N)))","v":""},{"$f":"IF(ISNA(A130),\"\",IF(LEN(LOOKUP(B130,Database!A:A,Database!O:O))=0,\"\",LOOKUP(B130,Database!A:A,Database!O:O)))","v":""},{"$f":"IF(ISNA(A130),\"\",IF(LEN(LOOKUP(B130,Database!A:A,Database!P:P))=0,\"\",LOOKUP(B130,Database!A:A,Database!P:P)))","v":""},{"$f":"IF(ISNA(A130),\"\",IF(LEN(LOOKUP(B130,Database!A:A,Database!Q:Q))=0,\"\",LOOKUP(B130,Database!A:A,Database!Q:Q)))","v":""},{"$f":"IF(ISNA(A130),\"\",IF(LEN(LOOKUP(B130,Database!A:A,Database!R:R))=0,\"\",LOOKUP(B130,Database!A:A,Database!R:R)))","v":""},{"$f":"IF(ISNA(A130),\"\",IF(LEN(LOOKUP(B130,Database!A:A,Database!S:S))=0,\"\",LOOKUP(B130,Database!A:A,Database!S:S)))","v":""},null,null,null,null,null,null,116,0,null,1,0,null,0.1]
[{"$error":"#N/A"},"2018-04-27",{"$f":"IF(ISNA(A131),\"\",IF(LEN(LOOKUP(B131,Database!A:A,Database!B:B))=0,\"\",LOOKUP(B131,Database!A:A,Database!B:B)))","v":""},{"$f":"IF(ISNA(A131),\"\",IF(LEN(LOOKUP(B131,Database!A:A,Database!C:C))=0,\"\",LOOKUP(B131,Database!A:A,Database!C:C)))","v":""},{"$f":"IF(ISNA(A131),\"\",IF(LEN(LOOKUP(B131,Database!A:A,Database!D:D))=0,\"\",LOOKUP(B131,Database!A:A,Database!D:D)))","v":""},{"$f":"IF(ISNA(A131),\"\",IF(LEN(LOOKUP(B131,Database!A:A,Database!E:E))=0,\"\",LOOKUP(B131,Database!A:A,Database!E:E)))","v":""},{"$f":"IF(ISNA(A131),\"\",IF(LEN(LOOKUP(B131,Database!A:A,Database!F:F))=0,\"\",LOOKUP(B131,Database!A:A,Database!F:F)))","v":""},{"$f":"IF(ISNA(A131),\"\",IF(LEN(LOOKUP(B131,Database!A:A,Database!G:G))=0,\"\",LOOKUP(B131,Database!A:A,Database!G:G)))","v":""},{"$f":"IF(ISNA(A131),\"\",IF(LEN(LOOKUP(B131,Database!A:A,Database!H:H))=0,\"\",LOOKUP(B131,Database!A:A,Database!H:H)))","v":""},{"$f":"IF(ISNA(A131),\"\",IF(LEN(LOOKUP(B131,Database!A:A,Database!I:I))=0,\"\",LOOKUP(B131,Database!A:A,Database!I:I)))","v":""},{"$f":"IF(ISNA(A131),\"\",IF(LEN(LOOKUP(B131,Database!A:A,Database!J:J))=0,\"\",LOOKUP(B131,Database!A:A,Database!J:J)))","v":""},{"$f":"IF(ISNA(A131),\"\",IF(LEN(LOOKUP(B131,Database!A:A,Database!K:K))=0,\"\",LOOKUP(B131,Database!A:A,Database!K:K)))","v":""},{"$f":"IF(ISNA(A131),\"\",IF(LEN(LOOKUP(B131,Database!A:A,Database!L:L))=0,\"\",LOOKUP(B131,Database!A:A,Database!L:L)))","v":""},{"$f":"IF(ISNA(A131),\"\",IF(LEN(LOOKUP(B131,Database!A:A,Database!M:M))=0,\"\",LOOKUP(B131,Database!A:A,Database!M:M)))","v":""},{"$f":"IF(ISNA(A131),\"\",IF(LEN(LOOKUP(B131,Database!A:A,Database!N:N))=0,\"\",LOOKUP(B131,Database!A:A,Database!N:N)))","v":""},{"$f":"IF(ISNA(A131),\"\",IF(LEN(LOOKUP(B131,Database!A:A,Database!O:O))=0,\"\",LOOKUP(B131,Database!A:A,Database!O:O)))","v":""},{"$f":"IF(ISNA(A131),\"\",IF(LEN(LOOKUP(B131,Database!A:A,Database!P:P))=0,\"\",LOOKUP(B131,Database!A:A,Database!P:P)))","v":""},{"$f":"IF(ISNA(A131),\"\",IF(LEN(LOOKUP(B131,Database!A:A,Database!Q:Q))=0,\"\",LOOKUP(B131,Database!A:A,Database!Q:Q)))","v":""},{"$f":"IF(ISNA(A131),\"\",IF(LEN(LOOKUP(B131,Database!A:A,Database!R:R))=0,\"\",LOOKUP(B131,Database!A:A,Database!R:R)))","v":""},{"$f":"IF(ISNA(A131),\"\",IF(LEN(LOOKUP(B131,Database!A:A,Database!S:S))=0,\"\",LOOKUP(B131,Database!A:A,Database!S:S)))","v":""},null,null,null,null,null,null,117,0,null,1,0,null,0.1]
[{"$error":"#N/A"},"2018-04-28",{"$f":"IF(ISNA(A132),\"\",IF(LEN(LOOKUP(B132,Database!A:A,Database!B:B))=0,\"\",LOOKUP(B132,Database!A:A,Database!B:B)))","v":""},{"$f":"IF(ISNA(A132),\"\",IF(LEN(LOOKUP(B132,Database!A:A,Database!C:C))=0,\"\",LOOKUP(B132,Database!A:A,Database!C:C)))","v":""},{"$f":"IF(ISNA(A132),\"\",IF(LEN(LOOKUP(B132,Database!A:A,Database!D:D))=0,\"\",LOOKUP(B132,Database!A:A,Database!D:D)))","v":""},{"$f":"IF(ISNA(A132),\"\",IF(LEN(LOOKUP(B132,Database!A:A,Database!E:E))=0,\"\",LOOKUP(B132,Database!A:A,Database!E:E)))","v":""},{"$f":"IF(ISNA(A132),\"\",IF(LEN(LOOKUP(B132,Database!A:A,Database!F:F))=0,\"\",LOOKUP(B132,Database!A:A,Database!F:F)))","v":""},{"$f":"IF(ISNA(A132),\"\",IF(LEN(LOOKUP(B132,Database!A:A,Database!G:G))=0,\"\",LOOKUP(B132,Database!A:A,Database!G:G)))","v":""},{"$f":"IF(ISNA(A132),\"\",IF(LEN(LOOKUP(B132,Database!A:A,Database!H:H))=0,\"\",LOOKUP(B132,Database!A:A,Database!H:H)))","v":""},{"$f":"IF(ISNA(A132),\"\",IF(LEN(LOOKUP(B132,Database!A:A,Database!I:I))=0,\"\",LOOKUP(B132,Database!A:A,Database!I:I)))","v":""},{"$f":"IF(ISNA(A132),\"\",IF(LEN(LOOKUP(B132,Database!A:A,Database!J:J))=0,\"\",LOOKUP(B132,Database!A:A,Database!J:J)))","v":""},{"$f":"IF(ISNA(A132),\"\",IF(LEN(LOOKUP(B132,Database!A:A,Database!K:K))=0,\"\",LOOKUP(B132,Database!A:A,Database!K:K)))","v":""},{"$f":"IF(ISNA(A132),\"\",IF(LEN(LOOKUP(B132,Database!A:A,Database!L:L))=0,\"\",LOOKUP(B132,Database!A:A,Database!L:L)))","v":""},{"$f":"IF(ISNA(A132),\"\",IF(LEN(LOOKUP(B132,Database!A:A,Database!M:M))=0,\"\",LOOKUP(B132,Database!A:A,Database!M:M)))","v":""},{"$f":"IF(ISNA(A132),\"\",IF(LEN(LOOKUP(B132,Database!A:A,Database!N:N))=0,\"\",LOOKUP(B132,Database!A:A,Database!N:N)))","v":""},{"$f":"IF(ISNA(A132),\"\",IF(LEN(LOOKUP(B132,Database!A:A,Database!O:O))=0,\"\",LOOKUP(B132,Database!A:A,Database!O:O)))","v":""},{"$f":"IF(ISNA(A132),\"\",IF(LEN(LOOKUP(B132,Database!A:A,Database!P:P))=0,\"\",LOOKUP(B132,Database!A:A,Database!P:P)))","v":""},{"$f":"IF(ISNA(A132),\"\",IF(LEN(LOOKUP(B132,Database!A:A,Database!Q:Q))=0,\"\",LOOKUP(B132,Database!A:A,Database!Q:Q)))","v":""},{"$f":"IF(ISNA(A132),\"\",IF(LEN(LOOKUP(B132,Database!A:A,Database!R:R))=0,\"\",LOOKUP(B132,Database!A:A,Database!R:R)))","v":""},{"$f":"IF(ISNA(A132),\"\",IF(LEN(LOOKUP(B132,Database!A:A,Database!S:S))=0,\"\",LOOKUP(B132,Database!A:A,Database!S:S)))","v":""},null,null,null,null,null,null,118,0,null,1,0,null,0.1]
[{"$error":"#N/A"},"2018-04-29",{"$f":"IF(ISNA(A133),\"\",IF(LEN(LOOKUP(B133,Database!A:A,Database!B:B))=0,\"\",LOOKUP(B133,Database!A:A,Database!B:B)))","v":""},{"$f":"IF(ISNA(A133),\"\",IF(LEN(LOOKUP(B133,Database!A:A,Database!C:C))=0,\"\",LOOKUP(B133,Database!A:A,Database!C:C)))","v":""},{"$f":"IF(ISNA(A133),\"\",IF(LEN(LOOKUP(B133,Database!A:A,Database!D:D))=0,\"\",LOOKUP(B133,Database!A:A,Database!D:D)))","v":""},{"$f":"IF(ISNA(A133),\"\",IF(LEN(LOOKUP(B133,Database!A:A,Database!E:E))=0,\"\",LOOKUP(B133,Database!A:A,Database!E:E)))","v":""},{"$f":"IF(ISNA(A133),\"\",IF(LEN(LOOKUP(B133,Database!A:A,Database!F:F))=0,\"\",LOOKUP(B133,Database!A:A,Database!F:F)))","v":""},{"$f":"IF(ISNA(A133),\"\",IF(LEN(LOOKUP(B133,Database!A:A,Database!G:G))=0,\"\",LOOKUP(B133,Database!A:A,Database!G:G)))","v":""},{"$f":"IF(ISNA(A133),\"\",IF(LEN(LOOKUP(B133,Database!A:A,Database!H:H))=0,\"\",LOOKUP(B133,Database!A:A,Database!H:H)))","v":""},{"$f":"IF(ISNA(A133),\"\",IF(LEN(LOOKUP(B133,Database!A:A,Database!I:I))=0,\"\",LOOKUP(B133,Database!A:A,Database!I:I)))","v":""},{"$f":"IF(ISNA(A133),\"\",IF(LEN(LOOKUP(B133,Database!A:A,Database!J:J))=0,\"\",LOOKUP(B133,Database!A:A,Database!J:J)))","v":""},{"$f":"IF(ISNA(A133),\"\",IF(LEN(LOOKUP(B133,Database!A:A,Database!K:K))=0,\"\",LOOKUP(B133,Database!A:A,Database!K:K)))","v":""},{"$f":"IF(ISNA(A133),\"\",IF(LEN(LOOKUP(B133,Database!A:A,Database!L:L))=0,\"\",LOOKUP(B133,Database!A:A,Database!L:L)))","v":""},{"$f":"IF(ISNA(A133),\"\",IF(LEN(LOOKUP(B133,Database!A:A,Database!M:M))=0,\"\",LOOKUP(B133,Database!A:A,Database!M:M)))","v":""},{"$f":"IF(ISNA(A133),\"\",IF(LEN(LOOKUP(B133,Database!A:A,Database!N:N))=0,\"\",LOOKUP(B133,Database!A:A,Database!N:N)))","v":""},{"$f":"IF(ISNA(A133),\"\",IF(LEN(LOOKUP(B133,Database!A:A,Database!O:O))=0,\"\",LOOKUP(B133,Database!A:A,Database!O:O)))","v":""},{"$f":"IF(ISNA(A133),\"\",IF(LEN(LOOKUP(B133,Database!A:A,Database!P:P))=0,\"\",LOOKUP(B133,Database!A:A,Database!P:P)))","v":""},{"$f":"IF(ISNA(A133),\"\",IF(LEN(LOOKUP(B133,Database!A:A,Database!Q:Q))=0,\"\",LOOKUP(B133,Database!A:A,Database!Q:Q)))","v":""},{"$f":"IF(ISNA(A133),\"\",IF(LEN(LOOKUP(B133,Database!A:A,Database!R:R))=0,\"\",LOOKUP(B133,Database!A:A,Database!R:R)))","v":""},{"$f":"IF(ISNA(A133),\"\",IF(LEN(LOOKUP(B133,Database!A:A,Database!S:S))=0,\"\",LOOKUP(B133,Database!A:A,Database!S:S)))","v":""},null,null,null,null,null,null,119,0,null,1,0,null,0.1]
[{"$error":"#N/A"},"2018-04-30",{"$f":"IF(ISNA(A134),\"\",IF(LEN(LOOKUP(B134,Database!A:A,Database!B:B))=0,\"\",LOOKUP(B134,Database!A:A,Database!B:B)))","v":""},{"$f":"IF(ISNA(A134),\"\",IF(LEN(LOOKUP(B134,Database!A:A,Database!C:C))=0,\"\",LOOKUP(B134,Database!A:A,Database!C:C)))","v":""},{"$f":"IF(ISNA(A134),\"\",IF(LEN(LOOKUP(B134,Database!A:A,Database!D:D))=0,\"\",LOOKUP(B134,Database!A:A,Database!D:D)))","v":""},{"$f":"IF(ISNA(A134),\"\",IF(LEN(LOOKUP(B134,Database!A:A,Database!E:E))=0,\"\",LOOKUP(B134,Database!A:A,Database!E:E)))","v":""},{"$f":"IF(ISNA(A134),\"\",IF(LEN(LOOKUP(B134,Database!A:A,Database!F:F))=0,\"\",LOOKUP(B134,Database!A:A,Database!F:F)))","v":""},{"$f":"IF(ISNA(A134),\"\",IF(LEN(LOOKUP(B134,Database!A:A,Database!G:G))=0,\"\",LOOKUP(B134,Database!A:A,Database!G:G)))","v":""},{"$f":"IF(ISNA(A134),\"\",IF(LEN(LOOKUP(B134,Database!A:A,Database!H:H))=0,\"\",LOOKUP(B134,Database!A:A,Database!H:H)))","v":""},{"$f":"IF(ISNA(A134),\"\",IF(LEN(LOOKUP(B134,Database!A:A,Database!I:I))=0,\"\",LOOKUP(B134,Database!A:A,Database!I:I)))","v":""},{"$f":"IF(ISNA(A134),\"\",IF(LEN(LOOKUP(B134,Database!A:A,Database!J:J))=0,\"\",LOOKUP(B134,Database!A:A,Database!J:J)))","v":""},{"$f":"IF(ISNA(A134),\"\",IF(LEN(LOOKUP(B134,Database!A:A,Database!K:K))=0,\"\",LOOKUP(B134,Database!A:A,Database!K:K)))","v":""},{"$f":"IF(ISNA(A134),\"\",IF(LEN(LOOKUP(B134,Database!A:A,Database!L:L))=0,\"\",LOOKUP(B134,Database!A:A,Database!L:L)))","v":""},{"$f":"IF(ISNA(A134),\"\",IF(LEN(LOOKUP(B134,Database!A:A,Database!M:M))=0,\"\",LOOKUP(B134,Database!A:A,Database!M:M)))","v":""},{"$f":"IF(ISNA(A134),\"\",IF(LEN(LOOKUP(B134,Database!A:A,Database!N:N))=0,\"\",LOOKUP(B134,Database!A:A,Database!N:N)))","v":""},{"$f":"IF(ISNA(A134),\"\",IF(LEN(LOOKUP(B134,Database!A:A,Database!O:O))=0,\"\",LOOKUP(B134,Database!A:A,Database!O:O)))","v":""},{"$f":"IF(ISNA(A134),\"\",IF(LEN(LOOKUP(B134,Database!A:A,Database!P:P))=0,\"\",LOOKUP(B134,Database!A:A,Database!P:P)))","v":""},{"$f":"IF(ISNA(A134),\"\",IF(LEN(LOOKUP(B134,Database!A:A,Database!Q:Q))=0,\"\",LOOKUP(B134,Database!A:A,Database!Q:Q)))","v":""},{"$f":"IF(ISNA(A134),\"\",IF(LEN(LOOKUP(B134,Database!A:A,Database!R:R))=0,\"\",LOOKUP(B134,Database!A:A,Database!R:R)))","v":""},{"$f":"IF(ISNA(A134),\"\",IF(LEN(LOOKUP(B134,Database!A:A,Database!S:S))=0,\"\",LOOKUP(B134,Database!A:A,Database!S:S)))","v":""},null,null,null,null,null,null,120,0,null,1,0,null,0.1]
[{"$error":"#N/A"},"2018-05-01",{"$f":"IF(ISNA(A135),\"\",IF(LEN(LOOKUP(B135,Database!A:A,Database!B:B))=0,\"\",LOOKUP(B135,Database!A:A,Database!B:B)))","v":""},{"$f":"IF(ISNA(A135),\"\",IF(LEN(LOOKUP(B135,Database!A:A,Database!C:C))=0,\"\",LOOKUP(B135,Database!A:A,Database!C:C)))","v":""},{"$f":"IF(ISNA(A135),\"\",IF(LEN(LOOKUP(B135,Database!A:A,Database!D:D))=0,\"\",LOOKUP(B135,Database!A:A,Database!D:D)))","v":""},{"$f":"IF(ISNA(A135),\"\",IF(LEN(LOOKUP(B135,Database!A:A,Database!E:E))=0,\"\",LOOKUP(B135,Database!A:A,Database!E:E)))","v":""},{"$f":"IF(ISNA(A135),\"\",IF(LEN(LOOKUP(B135,Database!A:A,Database!F:F))=0,\"\",LOOKUP(B135,Database!A:A,Database!F:F)))","v":""},{"$f":"IF(ISNA(A135),\"\",IF(LEN(LOOKUP(B135,Database!A:A,Database!G:G))=0,\"\",LOOKUP(B135,Database!A:A,Database!G:G)))","v":""},{"$f":"IF(ISNA(A135),\"\",IF(LEN(LOOKUP(B135,Database!A:A,Database!H:H))=0,\"\",LOOKUP(B135,Database!A:A,Database!H:H)))","v":""},{"$f":"IF(ISNA(A135),\"\",IF(LEN(LOOKUP(B135,Database!A:A,Database!I:I))=0,\"\",LOOKUP(B135,Database!A:A,Database!I:I)))","v":""},{"$f":"IF(ISNA(A135),\"\",IF(LEN(LOOKUP(B135,Database!A:A,Database!J:J))=0,\"\",LOOKUP(B135,Database!A:A,Database!J:J)))","v":""},{"$f":"IF(ISNA(A135),\"\",IF(LEN(LOOKUP(B135,Database!A:A,Database!K:K))=0,\"\",LOOKUP(B135,Database!A:A,Database!K:K)))","v":""},{"$f":"IF(ISNA(A135),\"\",IF(LEN(LOOKUP(B135,Database!A:A,Database!L:L))=0,\"\",LOOKUP(B135,Database!A:A,Database!L:L)))","v":""},{"$f":"IF(ISNA(A135),\"\",IF(LEN(LOOKUP(B135,Database!A:A,Database!M:M))=0,\"\",LOOKUP(B135,Database!A:A,Database!M:M)))","v":""},{"$f":"IF(ISNA(A135),\"\",IF(LEN(LOOKUP(B135,Database!A:A,Database!N:N))=0,\"\",LOOKUP(B135,Database!A:A,Database!N:N)))","v":""},{"$f":"IF(ISNA(A135),\"\",IF(LEN(LOOKUP(B135,Database!A:A,Database!O:O))=0,\"\",LOOKUP(B135,Database!A:A,Database!O:O)))","v":""},{"$f":"IF(ISNA(A135),\"\",IF(LEN(LOOKUP(B135,Database!A:A,Database!P:P))=0,\"\",LOOKUP(B135,Database!A:A,Database!P:P)))","v":""},{"$f":"IF(ISNA(A135),\"\",IF(LEN(LOOKUP(B135,Database!A:A,Database!Q:Q))=0,\"\",LOOKUP(B135,Database!A:A,Database!Q:Q)))","v":""},{"$f":"IF(ISNA(A135),\"\",IF(LEN(LOOKUP(B135,Database!A:A,Database!R:R))=0,\"\",LOOKUP(B135,Database!A:A,Database!R:R)))","v":""},{"$f":"IF(ISNA(A135),\"\",IF(LEN(LOOKUP(B135,Database!A:A,Database!S:S))=0,\"\",LOOKUP(B135,Database!A:A,Database!S:S)))","v":""},null,null,null,null,null,null,121,0,null,1,0,null,0.1]
[{"$error":"#N/A"},"2018-05-02",{"$f":"IF(ISNA(A136),\"\",IF(LEN(LOOKUP(B136,Database!A:A,Database!B:B))=0,\"\",LOOKUP(B136,Database!A:A,Database!B:B)))","v":""},{"$f":"IF(ISNA(A136),\"\",IF(LEN(LOOKUP(B136,Database!A:A,Database!C:C))=0,\"\",LOOKUP(B136,Database!A:A,Database!C:C)))","v":""},{"$f":"IF(ISNA(A136),\"\",IF(LEN(LOOKUP(B136,Database!A:A,Database!D:D))=0,\"\",LOOKUP(B136,Database!A:A,Database!D:D)))","v":""},{"$f":"IF(ISNA(A136),\"\",IF(LEN(LOOKUP(B136,Database!A:A,Database!E:E))=0,\"\",LOOKUP(B136,Database!A:A,Database!E:E)))","v":""},{"$f":"IF(ISNA(A136),\"\",IF(LEN(LOOKUP(B136,Database!A:A,Database!F:F))=0,\"\",LOOKUP(B136,Database!A:A,Database!F:F)))","v":""},{"$f":"IF(ISNA(A136),\"\",IF(LEN(LOOKUP(B136,Database!A:A,Database!G:G))=0,\"\",LOOKUP(B136,Database!A:A,Database!G:G)))","v":""},{"$f":"IF(ISNA(A136),\"\",IF(LEN(LOOKUP(B136,Database!A:A,Database!H:H))=0,\"\",LOOKUP(B136,Database!A:A,Database!H:H)))","v":""},{"$f":"IF(ISNA(A136),\"\",IF(LEN(LOOKUP(B136,Database!A:A,Database!I:I))=0,\"\",LOOKUP(B136,Database!A:A,Database!I:I)))","v":""},{"$f":"IF(ISNA(A136),\"\",IF(LEN(LOOKUP(B136,Database!A:A,Database!J:J))=0,\"\",LOOKUP(B136,Database!A:A,Database!J:J)))","v":""},{"$f":"IF(ISNA(A136),\"\",IF(LEN(LOOKUP(B136,Database!A:A,Database!K:K))=0,\"\",LOOKUP(B136,Database!A:A,Database!K:K)))","v":""},{"$f":"IF(ISNA(A136),\"\",IF(LEN(LOOKUP(B136,Database!A:A,Database!L:L))=0,\"\",LOOKUP(B136,Database!A:A,Database!L:L)))","v":""},{"$f":"IF(ISNA(A136),\"\",IF(LEN(LOOKUP(B136,Database!A:A,Database!M:M))=0,\"\",LOOKUP(B136,Database!A:A,Database!M:M)))","v":""},{"$f":"IF(ISNA(A136),\"\",IF(LEN(LOOKUP(B136,Database!A:A,Database!N:N))=0,\"\",LOOKUP(B136,Database!A:A,Database!N:N)))","v":""},{"$f":"IF(ISNA(A136),\"\",IF(LEN(LOOKUP(B136,Database!A:A,Database!O:O))=0,\"\",LOOKUP(B136,Database!A:A,Database!O:O)))","v":""},{"$f":"IF(ISNA(A136),\"\",IF(LEN(LOOKUP(B136,Database!A:A,Database!P:P))=0,\"\",LOOKUP(B136,Database!A:A,Database!P:P)))","v":""},{"$f":"IF(ISNA(A136),\"\",IF(LEN(LOOKUP(B136,Database!A:A,Database!Q:Q))=0,\"\",LOOKUP(B136,Database!A:A,Database!Q:Q)))","v":""},{"$f":"IF(ISNA(A136),\"\",IF(LEN(LOOKUP(B136,Database!A:A,Database!R:R))=0,\"\",LOOKUP(B136,Database!A:A,Database!R:R)))","v":""},{"$f":"IF(ISNA(A136),\"\",IF(LEN(LOOKUP(B136,Database!A:A,Database!S:S))=0,\"\",LOOKUP(B136,Database!A:A,Database!S:S)))","v":""},null,null,null,null,null,null,122,0,null,1,0,null,0.1]
[{"$error":"#N/A"},"2018-05-03",{"$f":"IF(ISNA(A137),\"\",IF(LEN(LOOKUP(B137,Database!A:A,Database!B:B))=0,\"\",LOOKUP(B137,Database!A:A,Database!B:B)))","v":""},{"$f":"IF(ISNA(A137),\"\",IF(LEN(LOOKUP(B137,Database!A:A,Database!C:C))=0,\"\",LOOKUP(B137,Database!A:A,Database!C:C)))","v":""},{"$f":"IF(ISNA(A137),\"\",IF(LEN(LOOKUP(B137,Database!A:A,Database!D:D))=0,\"\",LOOKUP(B137,Database!A:A,Database!D:D)))","v":""},{"$f":"IF(ISNA(A137),\"\",IF(LEN(LOOKUP(B137,Database!A:A,Database!E:E))=0,\"\",LOOKUP(B137,Database!A:A,Database!E:E)))","v":""},{"$f":"IF(ISNA(A137),\"\",IF(LEN(LOOKUP(B137,Database!A:A,Database!F:F))=0,\"\",LOOKUP(B137,Database!A:A,Database!F:F)))","v":""},{"$f":"IF(ISNA(A137),\"\",IF(LEN(LOOKUP(B137,Database!A:A,Database!G:G))=0,\"\",LOOKUP(B137,Database!A:A,Database!G:G)))","v":""},{"$f":"IF(ISNA(A137),\"\",IF(LEN(LOOKUP(B137,Database!A:A,Database!H:H))=0,\"\",LOOKUP(B137,Database!A:A,Database!H:H)))","v":""},{"$f":"IF(ISNA(A137),\"\",IF(LEN(LOOKUP(B137,Database!A:A,Database!I:I))=0,\"\",LOOKUP(B137,Database!A:A,Database!I:I)))","v":""},{"$f":"IF(ISNA(A137),\"\",IF(LEN(LOOKUP(B137,Database!A:A,Database!J:J))=0,\"\",LOOKUP(B137,Database!A:A,Database!J:J)))","v":""},{"$f":"IF(ISNA(A137),\"\",IF(LEN(LOOKUP(B137,Database!A:A,Database!K:K))=0,\"\",LOOKUP(B137,Database!A:A,Database!K:K)))","v":""},{"$f":"IF(ISNA(A137),\"\",IF(LEN(LOOKUP(B137,Database!A:A,Database!L:L))=0,\"\",LOOKUP(B137,Database!A:A,Database!L:L)))","v":""},{"$f":"IF(ISNA(A137),\"\",IF(LEN(LOOKUP(B137,Database!A:A,Database!M:M))=0,\"\",LOOKUP(B137,Database!A:A,Database!M:M)))","v":""},{"$f":"IF(ISNA(A137),\"\",IF(LEN(LOOKUP(B137,Database!A:A,Database!N:N))=0,\"\",LOOKUP(B137,Database!A:A,Database!N:N)))","v":""},{"$f":"IF(ISNA(A137),\"\",IF(LEN(LOOKUP(B137,Database!A:A,Database!O:O))=0,\"\",LOOKUP(B137,Database!A:A,Database!O:O)))","v":""},{"$f":"IF(ISNA(A137),\"\",IF(LEN(LOOKUP(B137,Database!A:A,Database!P:P))=0,\"\",LOOKUP(B137,Database!A:A,Database!P:P)))","v":""},{"$f":"IF(ISNA(A137),\"\",IF(LEN(LOOKUP(B137,Database!A:A,Database!Q:Q))=0,\"\",LOOKUP(B137,Database!A:A,Database!Q:Q)))","v":""},{"$f":"IF(ISNA(A137),\"\",IF(LEN(LOOKUP(B137,Database!A:A,Database!R:R))=0,\"\",LOOKUP(B137,Database!A:A,Database!R:R)))","v":""},{"$f":"IF(ISNA(A137),\"\",IF(LEN(LOOKUP(B137,Database!A:A,Database!S:S))=0,\"\",LOOKUP(B137,Database!A:A,Database!S:S)))","v":""},null,null,null,null,null,null,123,0,null,1,0,null,0.1]
[{"$error":"#N/A"},"2018-05-04",{"$f":"IF(ISNA(A138),\"\",IF(LEN(LOOKUP(B138,Database!A:A,Database!B:B))=0,\"\",LOOKUP(B138,Database!A:A,Database!B:B)))","v":""},{"$f":"IF(ISNA(A138),\"\",IF(LEN(LOOKUP(B138,Database!A:A,Database!C:C))=0,\"\",LOOKUP(B138,Database!A:A,Database!C:C)))","v":""},{"$f":"IF(ISNA(A138),\"\",IF(LEN(LOOKUP(B138,Database!A:A,Database!D:D))=0,\"\",LOOKUP(B138,Database!A:A,Database!D:D)))","v":""},{"$f":"IF(ISNA(A138),\"\",IF(LEN(LOOKUP(B138,Database!A:A,Database!E:E))=0,\"\",LOOKUP(B138,Database!A:A,Database!E:E)))","v":""},{"$f":"IF(ISNA(A138),\"\",IF(LEN(LOOKUP(B138,Database!A:A,Database!F:F))=0,\"\",LOOKUP(B138,Database!A:A,Database!F:F)))","v":""},{"$f":"IF(ISNA(A138),\"\",IF(LEN(LOOKUP(B138,Database!A:A,Database!G:G))=0,\"\",LOOKUP(B138,Database!A:A,Database!G:G)))","v":""},{"$f":"IF(ISNA(A138),\"\",IF(LEN(LOOKUP(B138,Database!A:A,Database!H:H))=0,\"\",LOOKUP(B138,Database!A:A,Database!H:H)))","v":""},{"$f":"IF(ISNA(A138),\"\",IF(LEN(LOOKUP(B138,Database!A:A,Database!I:I))=0,\"\",LOOKUP(B138,Database!A:A,Database!I:I)))","v":""},{"$f":"IF(ISNA(A138),\"\",IF(LEN(LOOKUP(B138,Database!A:A,Database!J:J))=0,\"\",LOOKUP(B138,Database!A:A,Database!J:J)))","v":""},{"$f":"IF(ISNA(A138),\"\",IF(LEN(LOOKUP(B138,Database!A:A,Database!K:K))=0,\"\",LOOKUP(B138,Database!A:A,Database!K:K)))","v":""},{"$f":"IF(ISNA(A138),\"\",IF(LEN(LOOKUP(B138,Database!A:A,Database!L:L))=0,\"\",LOOKUP(B138,Database!A:A,Database!L:L)))","v":""},{"$f":"IF(ISNA(A138),\"\",IF(LEN(LOOKUP(B138,Database!A:A,Database!M:M))=0,\"\",LOOKUP(B138,Database!A:A,Database!M:M)))","v":""},{"$f":"IF(ISNA(A138),\"\",IF(LEN(LOOKUP(B138,Database!A:A,Database!N:N))=0,\"\",LOOKUP(B138,Database!A:A,Database!N:N)))","v":""},{"$f":"IF(ISNA(A138),\"\",IF(LEN(LOOKUP(B138,Database!A:A,Database!O:O))=0,\"\",LOOKUP(B138,Database!A:A,Database!O:O)))","v":""},{"$f":"IF(ISNA(A138),\"\",IF(LEN(LOOKUP(B138,Database!A:A,Database!P:P))=0,\"\",LOOKUP(B138,Database!A:A,Database!P:P)))","v":""},{"$f":"IF(ISNA(A138),\"\",IF(LEN(LOOKUP(B138,Database!A:A,Database!Q:Q))=0,\"\",LOOKUP(B138,Database!A:A,Database!Q:Q)))","v":""},{"$f":"IF(ISNA(A138),\"\",IF(LEN(LOOKUP(B138,Database!A:A,Database!R:R))=0,\"\",LOOKUP(B138,Database!A:A,Database!R:R)))","v":""},{"$f":"IF(ISNA(A138),\"\",IF(LEN(LOOKUP(B138,Database!A:A,Database!S:S))=0,\"\",LOOKUP(B138,Database!A:A,Database!S:S)))","v":""},null,null,null,null,null,null,124,0,null,1,0,null,0.1]
[{"$error":"#N/A"},"2018-05-05",{"$f":"IF(ISNA(A139),\"\",IF(LEN(LOOKUP(B139,Database!A:A,Database!B:B))=0,\"\",LOOKUP(B139,Database!A:A,Database!B:B)))","v":""},{"$f":"IF(ISNA(A139),\"\",IF(LEN(LOOKUP(B139,Database!A:A,Database!C:C))=0,\"\",LOOKUP(B139,Database!A:A,Database!C:C)))","v":""},{"$f":"IF(ISNA(A139),\"\",IF(LEN(LOOKUP(B139,Database!A:A,Database!D:D))=0,\"\",LOOKUP(B139,Database!A:A,Database!D:D)))","v":""},{"$f":"IF(ISNA(A139),\"\",IF(LEN(LOOKUP(B139,Database!A:A,Database!E:E))=0,\"\",LOOKUP(B139,Database!A:A,Database!E:E)))","v":""},{"$f":"IF(ISNA(A139),\"\",IF(LEN(LOOKUP(B139,Database!A:A,Database!F:F))=0,\"\",LOOKUP(B139,Database!A:A,Database!F:F)))","v":""},{"$f":"IF(ISNA(A139),\"\",IF(LEN(LOOKUP(B139,Database!A:A,Database!G:G))=0,\"\",LOOKUP(B139,Database!A:A,Database!G:G)))","v":""},{"$f":"IF(ISNA(A139),\"\",IF(LEN(LOOKUP(B139,Database!A:A,Database!H:H))=0,\"\",LOOKUP(B139,Database!A:A,Database!H:H)))","v":""},{"$f":"IF(ISNA(A139),\"\",IF(LEN(LOOKUP(B139,Database!A:A,Database!I:I))=0,\"\",LOOKUP(B139,Database!A:A,Database!I:I)))","v":""},{"$f":"IF(ISNA(A139),\"\",IF(LEN(LOOKUP(B139,Database!A:A,Database!J:J))=0,\"\",LOOKUP(B139,Database!A:A,Database!J:J)))","v":""},{"$f":"IF(ISNA(A139),\"\",IF(LEN(LOOKUP(B139,Database!A:A,Database!K:K))=0,\"\",LOOKUP(B139,Database!A:A,Database!K:K)))","v":""},{"$f":"IF(ISNA(A139),\"\",IF(LEN(LOOKUP(B139,Database!A:A,Database!L:L))=0,\"\",LOOKUP(B139,Database!A:A,Database!L:L)))","v":""},{"$f":"IF(ISNA(A139),\"\",IF(LEN(LOOKUP(B139,Database!A:A,Database!M:M))=0,\"\",LOOKUP(B139,Database!A:A,Database!M:M)))","v":""},{"$f":"IF(ISNA(A139),\"\",IF(LEN(LOOKUP(B139,Database!A:A,Database!N:N))=0,\"\",LOOKUP(B139,Database!A:A,Database!N:N)))","v":""},{"$f":"IF(ISNA(A139),\"\",IF(LEN(LOOKUP(B139,Database!A:A,Database!O:O))=0,\"\",LOOKUP(B139,Database!A:A,Database!O:O)))","v":""},{"$f":"IF(ISNA(A139),\"\",IF(LEN(LOOKUP(B139,Database!A:A,Database!P:P))=0,\"\",LOOKUP(B139,Database!A:A,Database!P:P)))","v":""},{"$f":"IF(ISNA(A139),\"\",IF(LEN(LOOKUP(B139,Database!A:A,Database!Q:Q))=0,\"\",LOOKUP(B139,Database!A:A,Database!Q:Q)))","v":""},{"$f":"IF(ISNA(A139),\"\",IF(LEN(LOOKUP(B139,Database!A:A,Database!R:R))=0,\"\",LOOKUP(B139,Database!A:A,Database!R:R)))","v":""},{"$f":"IF(ISNA(A139),\"\",IF(LEN(LOOKUP(B139,Database!A:A,Database!S:S))=0,\"\",LOOKUP(B139,Database!A:A,Database!S:S)))","v":""},null,null,null,null,null,null,125,0,null,1,0,null,0.1]
[{"$error":"#N/A"},"2018-05-06",{"$f":"IF(ISNA(A140),\"\",IF(LEN(LOOKUP(B140,Database!A:A,Database!B:B))=0,\"\",LOOKUP(B140,Database!A:A,Database!B:B)))","v":""},{"$f":"IF(ISNA(A140),\"\",IF(LEN(LOOKUP(B140,Database!A:A,Database!C:C))=0,\"\",LOOKUP(B140,Database!A:A,Database!C:C)))","v":""},{"$f":"IF(ISNA(A140),\"\",IF(LEN(LOOKUP(B140,Database!A:A,Database!D:D))=0,\"\",LOOKUP(B140,Database!A:A,Database!D:D)))","v":""},{"$f":"IF(ISNA(A140),\"\",IF(LEN(LOOKUP(B140,Database!A:A,Database!E:E))=0,\"\",LOOKUP(B140,Database!A:A,Database!E:E)))","v":""},{"$f":"IF(ISNA(A140),\"\",IF(LEN(LOOKUP(B140,Database!A:A,Database!F:F))=0,\"\",LOOKUP(B140,Database!A:A,Database!F:F)))","v":""},{"$f":"IF(ISNA(A140),\"\",IF(LEN(LOOKUP(B140,Database!A:A,Database!G:G))=0,\"\",LOOKUP(B140,Database!A:A,Database!G:G)))","v":""},{"$f":"IF(ISNA(A140),\"\",IF(LEN(LOOKUP(B140,Database!A:A,Database!H:H))=0,\"\",LOOKUP(B140,Database!A:A,Database!H:H)))","v":""},{"$f":"IF(ISNA(A140),\"\",IF(LEN(LOOKUP(B140,Database!A:A,Database!I:I))=0,\"\",LOOKUP(B140,Database!A:A,Database!I:I)))","v":""},{"$f":"IF(ISNA(A140),\"\",IF(LEN(LOOKUP(B140,Database!A:A,Database!J:J))=0,\"\",LOOKUP(B140,Database!A:A,Database!J:J)))","v":""},{"$f":"IF(ISNA(A140),\"\",IF(LEN(LOOKUP(B140,Database!A:A,Database!K:K))=0,\"\",LOOKUP(B140,Database!A:A,Database!K:K)))","v":""},{"$f":"IF(ISNA(A140),\"\",IF(LEN(LOOKUP(B140,Database!A:A,Database!L:L))=0,\"\",LOOKUP(B140,Database!A:A,Database!L:L)))","v":""},{"$f":"IF(ISNA(A140),\"\",IF(LEN(LOOKUP(B140,Database!A:A,Database!M:M))=0,\"\",LOOKUP(B140,Database!A:A,Database!M:M)))","v":""},{"$f":"IF(ISNA(A140),\"\",IF(LEN(LOOKUP(B140,Database!A:A,Database!N:N))=0,\"\",LOOKUP(B140,Database!A:A,Database!N:N)))","v":""},{"$f":"IF(ISNA(A140),\"\",IF(LEN(LOOKUP(B140,Database!A:A,Database!O:O))=0,\"\",LOOKUP(B140,Database!A:A,Database!O:O)))","v":""},{"$f":"IF(ISNA(A140),\"\",IF(LEN(LOOKUP(B140,Database!A:A,Database!P:P))=0,\"\",LOOKUP(B140,Database!A:A,Database!P:P)))","v":""},{"$f":"IF(ISNA(A140),\"\",IF(LEN(LOOKUP(B140,Database!A:A,Database!Q:Q))=0,\"\",LOOKUP(B140,Database!A:A,Database!Q:Q)))","v":""},{"$f":"IF(ISNA(A140),\"\",IF(LEN(LOOKUP(B140,Database!A:A,Database!R:R))=0,\"\",LOOKUP(B140,Database!A:A,Database!R:R)))","v":""},{"$f":"IF(ISNA(A140),\"\",IF(LEN(LOOKUP(B140,Database!A:A,Database!S:S))=0,\"\",LOOKUP(B140,Database!A:A,Database!S:S)))","v":""},null,null,null,null,null,null,126,0,null,1,0,null,0.1]
[{"$error":"#N/A"},"2018-05-07",{"$f":"IF(ISNA(A141),\"\",IF(LEN(LOOKUP(B141,Database!A:A,Database!B:B))=0,\"\",LOOKUP(B141,Database!A:A,Database!B:B)))","v":""},{"$f":"IF(ISNA(A141),\"\",IF(LEN(LOOKUP(B141,Database!A:A,Database!C:C))=0,\"\",LOOKUP(B141,Database!A:A,Database!C:C)))","v":""},{"$f":"IF(ISNA(A141),\"\",IF(LEN(LOOKUP(B141,Database!A:A,Database!D:D))=0,\"\",LOOKUP(B141,Database!A:A,Database!D:D)))","v":""},{"$f":"IF(ISNA(A141),\"\",IF(LEN(LOOKUP(B141,Database!A:A,Database!E:E))=0,\"\",LOOKUP(B141,Database!A:A,Database!E:E)))","v":""},{"$f":"IF(ISNA(A141),\"\",IF(LEN(LOOKUP(B141,Database!A:A,Database!F:F))=0,\"\",LOOKUP(B141,Database!A:A,Database!F:F)))","v":""},{"$f":"IF(ISNA(A141),\"\",IF(LEN(LOOKUP(B141,Database!A:A,Database!G:G))=0,\"\",LOOKUP(B141,Database!A:A,Database!G:G)))","v":""},{"$f":"IF(ISNA(A141),\"\",IF(LEN(LOOKUP(B141,Database!A:A,Database!H:H))=0,\"\",LOOKUP(B141,Database!A:A,Database!H:H)))","v":""},{"$f":"IF(ISNA(A141),\"\",IF(LEN(LOOKUP(B141,Database!A:A,Database!I:I))=0,\"\",LOOKUP(B141,Database!A:A,Database!I:I)))","v":""},{"$f":"IF(ISNA(A141),\"\",IF(LEN(LOOKUP(B141,Database!A:A,Database!J:J))=0,\"\",LOOKUP(B141,Database!A:A,Database!J:J)))","v":""},{"$f":"IF(ISNA(A141),\"\",IF(LEN(LOOKUP(B141,Database!A:A,Database!K:K))=0,\"\",LOOKUP(B141,Database!A:A,Database!K:K)))","v":""},{"$f":"IF(ISNA(A141),\"\",IF(LEN(LOOKUP(B141,Database!A:A,Database!L:L))=0,\"\",LOOKUP(B141,Database!A:A,Database!L:L)))","v":""},{"$f":"IF(ISNA(A141),\"\",IF(LEN(LOOKUP(B141,Database!A:A,Database!M:M))=0,\"\",LOOKUP(B141,Database!A:A,Database!M:M)))","v":""},{"$f":"IF(ISNA(A141),\"\",IF(LEN(LOOKUP(B141,Database!A:A,Database!N:N))=0,\"\",LOOKUP(B141,Database!A:A,Database!N:N)))","v":""},{"$f":"IF(ISNA(A141),\"\",IF(LEN(LOOKUP(B141,Database!A:A,Database!O:O))=0,\"\",LOOKUP(B141,Database!A:A,Database!O:O)))","v":""},{"$f":"IF(ISNA(A141),\"\",IF(LEN(LOOKUP(B141,Database!A:A,Database!P:P))=0,\"\",LOOKUP(B141,Database!A:A,Database!P:P)))","v":""},{"$f":"IF(ISNA(A141),\"\",IF(LEN(LOOKUP(B141,Database!A:A,Database!Q:Q))=0,\"\",LOOKUP(B141,Database!A:A,Database!Q:Q)))","v":""},{"$f":"IF(ISNA(A141),\"\",IF(LEN(LOOKUP(B141,Database!A:A,Database!R:R))=0,\"\",LOOKUP(B141,Database!A:A,Database!R:R)))","v":""},{"$f":"IF(ISNA(A141),\"\",IF(LEN(LOOKUP(B141,Database!A:A,Database!S:S))=0,\"\",LOOKUP(B141,Database!A:A,Database!S:S)))","v":""},null,null,null,null,null,null,127,0,null,1,0,null,0.1]
[{"$error":"#N/A"},"2018-05-08",{"$f":"IF(ISNA(A142),\"\",IF(LEN(LOOKUP(B142,Database!A:A,Database!B:B))=0,\"\",LOOKUP(B142,Database!A:A,Database!B:B)))","v":""},{"$f":"IF(ISNA(A142),\"\",IF(LEN(LOOKUP(B142,Database!A:A,Database!C:C))=0,\"\",LOOKUP(B142,Database!A:A,Database!C:C)))","v":""},{"$f":"IF(ISNA(A142),\"\",IF(LEN(LOOKUP(B142,Database!A:A,Database!D:D))=0,\"\",LOOKUP(B142,Database!A:A,Database!D:D)))","v":""},{"$f":"IF(ISNA(A142),\"\",IF(LEN(LOOKUP(B142,Database!A:A,Database!E:E))=0,\"\",LOOKUP(B142,Database!A:A,Database!E:E)))","v":""},{"$f":"IF(ISNA(A142),\"\",IF(LEN(LOOKUP(B142,Database!A:A,Database!F:F))=0,\"\",LOOKUP(B142,Database!A:A,Database!F:F)))","v":""},{"$f":"IF(ISNA(A142),\"\",IF(LEN(LOOKUP(B142,Database!A:A,Database!G:G))=0,\"\",LOOKUP(B142,Database!A:A,Database!G:G)))","v":""},{"$f":"IF(ISNA(A142),\"\",IF(LEN(LOOKUP(B142,Database!A:A,Database!H:H))=0,\"\",LOOKUP(B142,Database!A:A,Database!H:H)))","v":""},{"$f":"IF(ISNA(A142),\"\",IF(LEN(LOOKUP(B142,Database!A:A,Database!I:I))=0,\"\",LOOKUP(B142,Database!A:A,Database!I:I)))","v":""},{"$f":"IF(ISNA(A142),\"\",IF(LEN(LOOKUP(B142,Database!A:A,Database!J:J))=0,\"\",LOOKUP(B142,Database!A:A,Database!J:J)))","v":""},{"$f":"IF(ISNA(A142),\"\",IF(LEN(LOOKUP(B142,Database!A:A,Database!K:K))=0,\"\",LOOKUP(B142,Database!A:A,Database!K:K)))","v":""},{"$f":"IF(ISNA(A142),\"\",IF(LEN(LOOKUP(B142,Database!A:A,Database!L:L))=0,\"\",LOOKUP(B142,Database!A:A,Database!L:L)))","v":""},{"$f":"IF(ISNA(A142),\"\",IF(LEN(LOOKUP(B142,Database!A:A,Database!M:M))=0,\"\",LOOKUP(B142,Database!A:A,Database!M:M)))","v":""},{"$f":"IF(ISNA(A142),\"\",IF(LEN(LOOKUP(B142,Database!A:A,Database!N:N))=0,\"\",LOOKUP(B142,Database!A:A,Database!N:N)))","v":""},{"$f":"IF(ISNA(A142),\"\",IF(LEN(LOOKUP(B142,Database!A:A,Database!O:O))=0,\"\",LOOKUP(B142,Database!A:A,Database!O:O)))","v":""},{"$f":"IF(ISNA(A142),\"\",IF(LEN(LOOKUP(B142,Database!A:A,Database!P:P))=0,\"\",LOOKUP(B142,Database!A:A,Database!P:P)))","v":""},{"$f":"IF(ISNA(A142),\"\",IF(LEN(LOOKUP(B142,Database!A:A,Database!Q:Q))=0,\"\",LOOKUP(B142,Database!A:A,Database!Q:Q)))","v":""},{"$f":"IF(ISNA(A142),\"\",IF(LEN(LOOKUP(B142,Database!A:A,Database!R:R))=0,\"\",LOOKUP(B142,Database!A:A,Database!R:R)))","v":""},{"$f":"IF(ISNA(A142),\"\",IF(LEN(LOOKUP(B142,Database!A:A,Database!S:S))=0,\"\",LOOKUP(B142,Database!A:A,Database!S:S)))","v":""},null,null,null,null,null,null,128,0,null,1,0,null,0.1]
[{"$error":"#N/A"},"2018-05-09",{"$f":"IF(ISNA(A143),\"\",IF(LEN(LOOKUP(B143,Database!A:A,Database!B:B))=0,\"\",LOOKUP(B143,Database!A:A,Database!B:B)))","v":""},{"$f":"IF(ISNA(A143),\"\",IF(LEN(LOOKUP(B143,Database!A:A,Database!C:C))=0,\"\",LOOKUP(B143,Database!A:A,Database!C:C)))","v":""},{"$f":"IF(ISNA(A143),\"\",IF(LEN(LOOKUP(B143,Database!A:A,Database!D:D))=0,\"\",LOOKUP(B143,Database!A:A,Database!D:D)))","v":""},{"$f":"IF(ISNA(A143),\"\",IF(LEN(LOOKUP(B143,Database!A:A,Database!E:E))=0,\"\",LOOKUP(B143,Database!A:A,Database!E:E)))","v":""},{"$f":"IF(ISNA(A143),\"\",IF(LEN(LOOKUP(B143,Database!A:A,Database!F:F))=0,\"\",LOOKUP(B143,Database!A:A,Database!F:F)))","v":""},{"$f":"IF(ISNA(A143),\"\",IF(LEN(LOOKUP(B143,Database!A:A,Database!G:G))=0,\"\",LOOKUP(B143,Database!A:A,Database!G:G)))","v":""},{"$f":"IF(ISNA(A143),\"\",IF(LEN(LOOKUP(B143,Database!A:A,Database!H:H))=0,\"\",LOOKUP(B143,Database!A:A,Database!H:H)))","v":""},{"$f":"IF(ISNA(A143),\"\",IF(LEN(LOOKUP(B143,Database!A:A,Database!I:I))=0,\"\",LOOKUP(B143,Database!A:A,Database!I:I)))","v":""},{"$f":"IF(ISNA(A143),\"\",IF(LEN(LOOKUP(B143,Database!A:A,Database!J:J))=0,\"\",LOOKUP(B143,Database!A:A,Database!J:J)))","v":""},{"$f":"IF(ISNA(A143),\"\",IF(LEN(LOOKUP(B143,Database!A:A,Database!K:K))=0,\"\",LOOKUP(B143,Database!A:A,Database!K:K)))","v":""},{"$f":"IF(ISNA(A143),\"\",IF(LEN(LOOKUP(B143,Database!A:A,Database!L:L))=0,\"\",LOOKUP(B143,Database!A:A,Database!L:L)))","v":""},{"$f":"IF(ISNA(A143),\"\",IF(LEN(LOOKUP(B143,Database!A:A,Database!M:M))=0,\"\",LOOKUP(B143,Database!A:A,Database!M:M)))","v":""},{"$f":"IF(ISNA(A143),\"\",IF(LEN(LOOKUP(B143,Database!A:A,Database!N:N))=0,\"\",LOOKUP(B143,Database!A:A,Database!N:N)))","v":""},{"$f":"IF(ISNA(A143),\"\",IF(LEN(LOOKUP(B143,Database!A:A,Database!O:O))=0,\"\",LOOKUP(B143,Database!A:A,Database!O:O)))","v":""},{"$f":"IF(ISNA(A143),\"\",IF(LEN(LOOKUP(B143,Database!A:A,Database!P:P))=0,\"\",LOOKUP(B143,Database!A:A,Database!P:P)))","v":""},{"$f":"IF(ISNA(A143),\"\",IF(LEN(LOOKUP(B143,Database!A:A,Database!Q:Q))=0,\"\",LOOKUP(B143,Database!A:A,Database!Q:Q)))","v":""},{"$f":"IF(ISNA(A143),\"\",IF(LEN(LOOKUP(B143,Database!A:A,Database!R:R))=0,\"\",LOOKUP(B143,Database!A:A,Database!R:R)))","v":""},{"$f":"IF(ISNA(A143),\"\",IF(LEN(LOOKUP(B143,Database!A:A,Database!S:S))=0,\"\",LOOKUP(B143,Database!A:A,Database!S:S)))","v":""},null,null,null,null,null,null,129,{"$f":"MAX(D143:G143)","v":0},null,{"$f":"$H$4","v":1},0,null,{"$f":"$H$5","v":0.1}]
[{"$f":"VLOOKUP(B144,Database2,1,FALSE)","v":{"$error":"#N/A"}},"2018-05-10",{"$f":"IF(ISNA(A144),\"\",IF(LEN(LOOKUP(B144,Database!A:A,Database!B:B))=0,\"\",LOOKUP(B144,Database!A:A,Database!B:B)))","v":""},{"$f":"IF(ISNA(A144),\"\",IF(LEN(LOOKUP(B144,Database!A:A,Database!C:C))=0,\"\",LOOKUP(B144,Database!A:A,Database!C:C)))","v":""},{"$f":"IF(ISNA(A144),\"\",IF(LEN(LOOKUP(B144,Database!A:A,Database!D:D))=0,\"\",LOOKUP(B144,Database!A:A,Database!D:D)))","v":""},{"$f":"IF(ISNA(A144),\"\",IF(LEN(LOOKUP(B144,Database!A:A,Database!E:E))=0,\"\",LOOKUP(B144,Database!A:A,Database!E:E)))","v":""},{"$f":"IF(ISNA(A144),\"\",IF(LEN(LOOKUP(B144,Database!A:A,Database!F:F))=0,\"\",LOOKUP(B144,Database!A:A,Database!F:F)))","v":""},{"$f":"IF(ISNA(A144),\"\",IF(LEN(LOOKUP(B144,Database!A:A,Database!G:G))=0,\"\",LOOKUP(B144,Database!A:A,Database!G:G)))","v":""},{"$f":"IF(ISNA(A144),\"\",IF(LEN(LOOKUP(B144,Database!A:A,Database!H:H))=0,\"\",LOOKUP(B144,Database!A:A,Database!H:H)))","v":""},{"$f":"IF(ISNA(A144),\"\",IF(LEN(LOOKUP(B144,Database!A:A,Database!I:I))=0,\"\",LOOKUP(B144,Database!A:A,Database!I:I)))","v":""},{"$f":"IF(ISNA(A144),\"\",IF(LEN(LOOKUP(B144,Database!A:A,Database!J:J))=0,\"\",LOOKUP(B144,Database!A:A,Database!J:J)))","v":""},{"$f":"IF(ISNA(A144),\"\",IF(LEN(LOOKUP(B144,Database!A:A,Database!K:K))=0,\"\",LOOKUP(B144,Database!A:A,Database!K:K)))","v":""},{"$f":"IF(ISNA(A144),\"\",IF(LEN(LOOKUP(B144,Database!A:A,Database!L:L))=0,\"\",LOOKUP(B144,Database!A:A,Database!L:L)))","v":""},{"$f":"IF(ISNA(A144),\"\",IF(LEN(LOOKUP(B144,Database!A:A,Database!M:M))=0,\"\",LOOKUP(B144,Database!A:A,Database!M:M)))","v":""},{"$f":"IF(ISNA(A144),\"\",IF(LEN(LOOKUP(B144,Database!A:A,Database!N:N))=0,\"\",LOOKUP(B144,Database!A:A,Database!N:N)))","v":""},{"$f":"IF(ISNA(A144),\"\",IF(LEN(LOOKUP(B144,Database!A:A,Database!O:O))=0,\"\",LOOKUP(B144,Database!A:A,Database!O:O)))","v":""},{"$f":"IF(ISNA(A144),\"\",IF(LEN(LOOKUP(B144,Database!A:A,Database!P:P))=0,\"\",LOOKUP(B144,Database!A:A,Database!P:P)))","v":""},{"$f":"IF(ISNA(A144),\"\",IF(LEN(LOOKUP(B144,Database!A:A,Database!Q:Q))=0,\"\",LOOKUP(B144,Database!A:A,Database!Q:Q)))","v":""},{"$f":"IF(ISNA(A144),\"\",IF(LEN(LOOKUP(B144,Database!A:A,Database!R:R))=0,\"\",LOOKUP(B144,Database!A:A,Database!R:R)))","v":""},{"$f":"IF(ISNA(A144),\"\",IF(LEN(LOOKUP(B144,Database!A:A,Database!S:S))=0,\"\",LOOKUP(B144,Database!A:A,Database!S:S)))","v":""},null,null,null,null,null,null,{"$f":"AA143+1","v":130},0,null,1,{"$f":"MAX(H144:S144)","v":0},null,0.1]
[{"$error":"#N/A"},"2018-05-11",{"$f":"IF(ISNA(A145),\"\",IF(LEN(LOOKUP(B145,Database!A:A,Database!B:B))=0,\"\",LOOKUP(B145,Database!A:A,Database!B:B)))","v":""},{"$f":"IF(ISNA(A145),\"\",IF(LEN(LOOKUP(B145,Database!A:A,Database!C:C))=0,\"\",LOOKUP(B145,Database!A:A,Database!C:C)))","v":""},{"$f":"IF(ISNA(A145),\"\",IF(LEN(LOOKUP(B145,Database!A:A,Database!D:D))=0,\"\",LOOKUP(B145,Database!A:A,Database!D:D)))","v":""},{"$f":"IF(ISNA(A145),\"\",IF(LEN(LOOKUP(B145,Database!A:A,Database!E:E))=0,\"\",LOOKUP(B145,Database!A:A,Database!E:E)))","v":""},{"$f":"IF(ISNA(A145),\"\",IF(LEN(LOOKUP(B145,Database!A:A,Database!F:F))=0,\"\",LOOKUP(B145,Database!A:A,Database!F:F)))","v":""},{"$f":"IF(ISNA(A145),\"\",IF(LEN(LOOKUP(B145,Database!A:A,Database!G:G))=0,\"\",LOOKUP(B145,Database!A:A,Database!G:G)))","v":""},{"$f":"IF(ISNA(A145),\"\",IF(LEN(LOOKUP(B145,Database!A:A,Database!H:H))=0,\"\",LOOKUP(B145,Database!A:A,Database!H:H)))","v":""},{"$f":"IF(ISNA(A145),\"\",IF(LEN(LOOKUP(B145,Database!A:A,Database!I:I))=0,\"\",LOOKUP(B145,Database!A:A,Database!I:I)))","v":""},{"$f":"IF(ISNA(A145),\"\",IF(LEN(LOOKUP(B145,Database!A:A,Database!J:J))=0,\"\",LOOKUP(B145,Database!A:A,Database!J:J)))","v":""},{"$f":"IF(ISNA(A145),\"\",IF(LEN(LOOKUP(B145,Database!A:A,Database!K:K))=0,\"\",LOOKUP(B145,Database!A:A,Database!K:K)))","v":""},{"$f":"IF(ISNA(A145),\"\",IF(LEN(LOOKUP(B145,Database!A:A,Database!L:L))=0,\"\",LOOKUP(B145,Database!A:A,Database!L:L)))","v":""},{"$f":"IF(ISNA(A145),\"\",IF(LEN(LOOKUP(B145,Database!A:A,Database!M:M))=0,\"\",LOOKUP(B145,Database!A:A,Database!M:M)))","v":""},{"$f":"IF(ISNA(A145),\"\",IF(LEN(LOOKUP(B145,Database!A:A,Database!N:N))=0,\"\",LOOKUP(B145,Database!A:A,Database!N:N)))","v":""},{"$f":"IF(ISNA(A145),\"\",IF(LEN(LOOKUP(B145,Database!A:A,Database!O:O))=0,\"\",LOOKUP(B145,Database!A:A,Database!O:O)))","v":""},{"$f":"IF(ISNA(A145),\"\",IF(LEN(LOOKUP(B145,Database!A:A,Database!P:P))=0,\"\",LOOKUP(B145,Database!A:A,Database!P:P)))","v":""},{"$f":"IF(ISNA(A145),\"\",IF(LEN(LOOKUP(B145,Database!A:A,Database!Q:Q))=0,\"\",LOOKUP(B145,Database!A:A,Database!Q:Q)))","v":""},{"$f":"IF(ISNA(A145),\"\",IF(LEN(LOOKUP(B145,Database!A:A,Database!R:R))=0,\"\",LOOKUP(B145,Database!A:A,Database!R:R)))","v":""},{"$f":"IF(ISNA(A145),\"\",IF(LEN(LOOKUP(B145,Database!A:A,Database!S:S))=0,\"\",LOOKUP(B145,Database!A:A,Database!S:S)))","v":""},null,null,null,null,null,null,131,0,null,1,0,null,0.1]
[{"$error":"#N/A"},{"$f":"B145+1","v":"2018-05-12"},{"$f":"IF(ISNA(A146),\"\",IF(LEN(LOOKUP(B146,Database!A:A,Database!B:B))=0,\"\",LOOKUP(B146,Database!A:A,Database!B:B)))","v":""},{"$f":"IF(ISNA(A146),\"\",IF(LEN(LOOKUP(B146,Database!A:A,Database!C:C))=0,\"\",LOOKUP(B146,Database!A:A,Database!C:C)))","v":""},{"$f":"IF(ISNA(A146),\"\",IF(LEN(LOOKUP(B146,Database!A:A,Database!D:D))=0,\"\",LOOKUP(B146,Database!A:A,Database!D:D)))","v":""},{"$f":"IF(ISNA(A146),\"\",IF(LEN(LOOKUP(B146,Database!A:A,Database!E:E))=0,\"\",LOOKUP(B146,Database!A:A,Database!E:E)))","v":""},{"$f":"IF(ISNA(A146),\"\",IF(LEN(LOOKUP(B146,Database!A:A,Database!F:F))=0,\"\",LOOKUP(B146,Database!A:A,Database!F:F)))","v":""},{"$f":"IF(ISNA(A146),\"\",IF(LEN(LOOKUP(B146,Database!A:A,Database!G:G))=0,\"\",LOOKUP(B146,Database!A:A,Database!G:G)))","v":""},{"$f":"IF(ISNA(A146),\"\",IF(LEN(LOOKUP(B146,Database!A:A,Database!H:H))=0,\"\",LOOKUP(B146,Database!A:A,Database!H:H)))","v":""},{"$f":"IF(ISNA(A146),\"\",IF(LEN(LOOKUP(B146,Database!A:A,Database!I:I))=0,\"\",LOOKUP(B146,Database!A:A,Database!I:I)))","v":""},{"$f":"IF(ISNA(A146),\"\",IF(LEN(LOOKUP(B146,Database!A:A,Database!J:J))=0,\"\",LOOKUP(B146,Database!A:A,Database!J:J)))","v":""},{"$f":"IF(ISNA(A146),\"\",IF(LEN(LOOKUP(B146,Database!A:A,Database!K:K))=0,\"\",LOOKUP(B146,Database!A:A,Database!K:K)))","v":""},{"$f":"IF(ISNA(A146),\"\",IF(LEN(LOOKUP(B146,Database!A:A,Database!L:L))=0,\"\",LOOKUP(B146,Database!A:A,Database!L:L)))","v":""},{"$f":"IF(ISNA(A146),\"\",IF(LEN(LOOKUP(B146,Database!A:A,Database!M:M))=0,\"\",LOOKUP(B146,Database!A:A,Database!M:M)))","v":""},{"$f":"IF(ISNA(A146),\"\",IF(LEN(LOOKUP(B146,Database!A:A,Database!N:N))=0,\"\",LOOKUP(B146,Database!A:A,Database!N:N)))","v":""},{"$f":"IF(ISNA(A146),\"\",IF(LEN(LOOKUP(B146,Database!A:A,Database!O:O))=0,\"\",LOOKUP(B146,Database!A:A,Database!O:O)))","v":""},{"$f":"IF(ISNA(A146),\"\",IF(LEN(LOOKUP(B146,Database!A:A,Database!P:P))=0,\"\",LOOKUP(B146,Database!A:A,Database!P:P)))","v":""},{"$f":"IF(ISNA(A146),\"\",IF(LEN(LOOKUP(B146,Database!A:A,Database!Q:Q))=0,\"\",LOOKUP(B146,Database!A:A,Database!Q:Q)))","v":""},{"$f":"IF(ISNA(A146),\"\",IF(LEN(LOOKUP(B146,Database!A:A,Database!R:R))=0,\"\",LOOKUP(B146,Database!A:A,Database!R:R)))","v":""},{"$f":"IF(ISNA(A146),\"\",IF(LEN(LOOKUP(B146,Database!A:A,Database!S:S))=0,\"\",LOOKUP(B146,Database!A:A,Database!S:S)))","v":""},null,null,null,null,null,null,132,0,null,1,0,null,0.1]
[{"$error":"#N/A"},"2018-05-13",{"$f":"IF(ISNA(A147),\"\",IF(LEN(LOOKUP(B147,Database!A:A,Database!B:B))=0,\"\",LOOKUP(B147,Database!A:A,Database!B:B)))","v":""},{"$f":"IF(ISNA(A147),\"\",IF(LEN(LOOKUP(B147,Database!A:A,Database!C:C))=0,\"\",LOOKUP(B147,Database!A:A,Database!C:C)))","v":""},{"$f":"IF(ISNA(A147),\"\",IF(LEN(LOOKUP(B147,Database!A:A,Database!D:D))=0,\"\",LOOKUP(B147,Database!A:A,Database!D:D)))","v":""},{"$f":"IF(ISNA(A147),\"\",IF(LEN(LOOKUP(B147,Database!A:A,Database!E:E))=0,\"\",LOOKUP(B147,Database!A:A,Database!E:E)))","v":""},{"$f":"IF(ISNA(A147),\"\",IF(LEN(LOOKUP(B147,Database!A:A,Database!F:F))=0,\"\",LOOKUP(B147,Database!A:A,Database!F:F)))","v":""},{"$f":"IF(ISNA(A147),\"\",IF(LEN(LOOKUP(B147,Database!A:A,Database!G:G))=0,\"\",LOOKUP(B147,Database!A:A,Database!G:G)))","v":""},{"$f":"IF(ISNA(A147),\"\",IF(LEN(LOOKUP(B147,Database!A:A,Database!H:H))=0,\"\",LOOKUP(B147,Database!A:A,Database!H:H)))","v":""},{"$f":"IF(ISNA(A147),\"\",IF(LEN(LOOKUP(B147,Database!A:A,Database!I:I))=0,\"\",LOOKUP(B147,Database!A:A,Database!I:I)))","v":""},{"$f":"IF(ISNA(A147),\"\",IF(LEN(LOOKUP(B147,Database!A:A,Database!J:J))=0,\"\",LOOKUP(B147,Database!A:A,Database!J:J)))","v":""},{"$f":"IF(ISNA(A147),\"\",IF(LEN(LOOKUP(B147,Database!A:A,Database!K:K))=0,\"\",LOOKUP(B147,Database!A:A,Database!K:K)))","v":""},{"$f":"IF(ISNA(A147),\"\",IF(LEN(LOOKUP(B147,Database!A:A,Database!L:L))=0,\"\",LOOKUP(B147,Database!A:A,Database!L:L)))","v":""},{"$f":"IF(ISNA(A147),\"\",IF(LEN(LOOKUP(B147,Database!A:A,Database!M:M))=0,\"\",LOOKUP(B147,Database!A:A,Database!M:M)))","v":""},{"$f":"IF(ISNA(A147),\"\",IF(LEN(LOOKUP(B147,Database!A:A,Database!N:N))=0,\"\",LOOKUP(B147,Database!A:A,Database!N:N)))","v":""},{"$f":"IF(ISNA(A147),\"\",IF(LEN(LOOKUP(B147,Database!A:A,Database!O:O))=0,\"\",LOOKUP(B147,Database!A:A,Database!O:O)))","v":""},{"$f":"IF(ISNA(A147),\"\",IF(LEN(LOOKUP(B147,Database!A:A,Database!P:P))=0,\"\",LOOKUP(B147,Database!A:A,Database!P:P)))","v":""},{"$f":"IF(ISNA(A147),\"\",IF(LEN(LOOKUP(B147,Database!A:A,Database!Q:Q))=0,\"\",LOOKUP(B147,Database!A:A,Database!Q:Q)))","v":""},{"$f":"IF(ISNA(A147),\"\",IF(LEN(LOOKUP(B147,Database!A:A,Database!R:R))=0,\"\",LOOKUP(B147,Database!A:A,Database!R:R)))","v":""},{"$f":"IF(ISNA(A147),\"\",IF(LEN(LOOKUP(B147,Database!A:A,Database!S:S))=0,\"\",LOOKUP(B147,Database!A:A,Database!S:S)))","v":""},null,null,null,null,null,null,133,0,null,1,0,null,0.1]
[{"$error":"#N/A"},"2018-05-14",{"$f":"IF(ISNA(A148),\"\",IF(LEN(LOOKUP(B148,Database!A:A,Database!B:B))=0,\"\",LOOKUP(B148,Database!A:A,Database!B:B)))","v":""},{"$f":"IF(ISNA(A148),\"\",IF(LEN(LOOKUP(B148,Database!A:A,Database!C:C))=0,\"\",LOOKUP(B148,Database!A:A,Database!C:C)))","v":""},{"$f":"IF(ISNA(A148),\"\",IF(LEN(LOOKUP(B148,Database!A:A,Database!D:D))=0,\"\",LOOKUP(B148,Database!A:A,Database!D:D)))","v":""},{"$f":"IF(ISNA(A148),\"\",IF(LEN(LOOKUP(B148,Database!A:A,Database!E:E))=0,\"\",LOOKUP(B148,Database!A:A,Database!E:E)))","v":""},{"$f":"IF(ISNA(A148),\"\",IF(LEN(LOOKUP(B148,Database!A:A,Database!F:F))=0,\"\",LOOKUP(B148,Database!A:A,Database!F:F)))","v":""},{"$f":"IF(ISNA(A148),\"\",IF(LEN(LOOKUP(B148,Database!A:A,Database!G:G))=0,\"\",LOOKUP(B148,Database!A:A,Database!G:G)))","v":""},{"$f":"IF(ISNA(A148),\"\",IF(LEN(LOOKUP(B148,Database!A:A,Database!H:H))=0,\"\",LOOKUP(B148,Database!A:A,Database!H:H)))","v":""},{"$f":"IF(ISNA(A148),\"\",IF(LEN(LOOKUP(B148,Database!A:A,Database!I:I))=0,\"\",LOOKUP(B148,Database!A:A,Database!I:I)))","v":""},{"$f":"IF(ISNA(A148),\"\",IF(LEN(LOOKUP(B148,Database!A:A,Database!J:J))=0,\"\",LOOKUP(B148,Database!A:A,Database!J:J)))","v":""},{"$f":"IF(ISNA(A148),\"\",IF(LEN(LOOKUP(B148,Database!A:A,Database!K:K))=0,\"\",LOOKUP(B148,Database!A:A,Database!K:K)))","v":""},{"$f":"IF(ISNA(A148),\"\",IF(LEN(LOOKUP(B148,Database!A:A,Database!L:L))=0,\"\",LOOKUP(B148,Database!A:A,Database!L:L)))","v":""},{"$f":"IF(ISNA(A148),\"\",IF(LEN(LOOKUP(B148,Database!A:A,Database!M:M))=0,\"\",LOOKUP(B148,Database!A:A,Database!M:M)))","v":""},{"$f":"IF(ISNA(A148),\"\",IF(LEN(LOOKUP(B148,Database!A:A,Database!N:N))=0,\"\",LOOKUP(B148,Database!A:A,Database!N:N)))","v":""},{"$f":"IF(ISNA(A148),\"\",IF(LEN(LOOKUP(B148,Database!A:A,Database!O:O))=0,\"\",LOOKUP(B148,Database!A:A,Database!O:O)))","v":""},{"$f":"IF(ISNA(A148),\"\",IF(LEN(LOOKUP(B148,Database!A:A,Database!P:P))=0,\"\",LOOKUP(B148,Database!A:A,Database!P:P)))","v":""},{"$f":"IF(ISNA(A148),\"\",IF(LEN(LOOKUP(B148,Database!A:A,Database!Q:Q))=0,\"\",LOOKUP(B148,Database!A:A,Database!Q:Q)))","v":""},{"$f":"IF(ISNA(A148),\"\",IF(LEN(LOOKUP(B148,Database!A:A,Database!R:R))=0,\"\",LOOKUP(B148,Database!A:A,Database!R:R)))","v":""},{"$f":"IF(ISNA(A148),\"\",IF(LEN(LOOKUP(B148,Database!A:A,Database!S:S))=0,\"\",LOOKUP(B148,Database!A:A,Database!S:S)))","v":""},null,null,null,null,null,null,134,0,null,1,0,null,0.1]
[{"$error":"#N/A"},"2018-05-15",{"$f":"IF(ISNA(A149),\"\",IF(LEN(LOOKUP(B149,Database!A:A,Database!B:B))=0,\"\",LOOKUP(B149,Database!A:A,Database!B:B)))","v":""},{"$f":"IF(ISNA(A149),\"\",IF(LEN(LOOKUP(B149,Database!A:A,Database!C:C))=0,\"\",LOOKUP(B149,Database!A:A,Database!C:C)))","v":""},{"$f":"IF(ISNA(A149),\"\",IF(LEN(LOOKUP(B149,Database!A:A,Database!D:D))=0,\"\",LOOKUP(B149,Database!A:A,Database!D:D)))","v":""},{"$f":"IF(ISNA(A149),\"\",IF(LEN(LOOKUP(B149,Database!A:A,Database!E:E))=0,\"\",LOOKUP(B149,Database!A:A,Database!E:E)))","v":""},{"$f":"IF(ISNA(A149),\"\",IF(LEN(LOOKUP(B149,Database!A:A,Database!F:F))=0,\"\",LOOKUP(B149,Database!A:A,Database!F:F)))","v":""},{"$f":"IF(ISNA(A149),\"\",IF(LEN(LOOKUP(B149,Database!A:A,Database!G:G))=0,\"\",LOOKUP(B149,Database!A:A,Database!G:G)))","v":""},{"$f":"IF(ISNA(A149),\"\",IF(LEN(LOOKUP(B149,Database!A:A,Database!H:H))=0,\"\",LOOKUP(B149,Database!A:A,Database!H:H)))","v":""},{"$f":"IF(ISNA(A149),\"\",IF(LEN(LOOKUP(B149,Database!A:A,Database!I:I))=0,\"\",LOOKUP(B149,Database!A:A,Database!I:I)))","v":""},{"$f":"IF(ISNA(A149),\"\",IF(LEN(LOOKUP(B149,Database!A:A,Database!J:J))=0,\"\",LOOKUP(B149,Database!A:A,Database!J:J)))","v":""},{"$f":"IF(ISNA(A149),\"\",IF(LEN(LOOKUP(B149,Database!A:A,Database!K:K))=0,\"\",LOOKUP(B149,Database!A:A,Database!K:K)))","v":""},{"$f":"IF(ISNA(A149),\"\",IF(LEN(LOOKUP(B149,Database!A:A,Database!L:L))=0,\"\",LOOKUP(B149,Database!A:A,Database!L:L)))","v":""},{"$f":"IF(ISNA(A149),\"\",IF(LEN(LOOKUP(B149,Database!A:A,Database!M:M))=0,\"\",LOOKUP(B149,Database!A:A,Database!M:M)))","v":""},{"$f":"IF(ISNA(A149),\"\",IF(LEN(LOOKUP(B149,Database!A:A,Database!N:N))=0,\"\",LOOKUP(B149,Database!A:A,Database!N:N)))","v":""},{"$f":"IF(ISNA(A149),\"\",IF(LEN(LOOKUP(B149,Database!A:A,Database!O:O))=0,\"\",LOOKUP(B149,Database!A:A,Database!O:O)))","v":""},{"$f":"IF(ISNA(A149),\"\",IF(LEN(LOOKUP(B149,Database!A:A,Database!P:P))=0,\"\",LOOKUP(B149,Database!A:A,Database!P:P)))","v":""},{"$f":"IF(ISNA(A149),\"\",IF(LEN(LOOKUP(B149,Database!A:A,Database!Q:Q))=0,\"\",LOOKUP(B149,Database!A:A,Database!Q:Q)))","v":""},{"$f":"IF(ISNA(A149),\"\",IF(LEN(LOOKUP(B149,Database!A:A,Database!R:R))=0,\"\",LOOKUP(B149,Database!A:A,Database!R:R)))","v":""},{"$f":"IF(ISNA(A149),\"\",IF(LEN(LOOKUP(B149,Database!A:A,Database!S:S))=0,\"\",LOOKUP(B149,Database!A:A,Database!S:S)))","v":""},null,null,null,null,null,null,135,0,null,1,0,null,0.1]
[{"$error":"#N/A"},"2018-05-16",{"$f":"IF(ISNA(A150),\"\",IF(LEN(LOOKUP(B150,Database!A:A,Database!B:B))=0,\"\",LOOKUP(B150,Database!A:A,Database!B:B)))","v":""},{"$f":"IF(ISNA(A150),\"\",IF(LEN(LOOKUP(B150,Database!A:A,Database!C:C))=0,\"\",LOOKUP(B150,Database!A:A,Database!C:C)))","v":""},{"$f":"IF(ISNA(A150),\"\",IF(LEN(LOOKUP(B150,Database!A:A,Database!D:D))=0,\"\",LOOKUP(B150,Database!A:A,Database!D:D)))","v":""},{"$f":"IF(ISNA(A150),\"\",IF(LEN(LOOKUP(B150,Database!A:A,Database!E:E))=0,\"\",LOOKUP(B150,Database!A:A,Database!E:E)))","v":""},{"$f":"IF(ISNA(A150),\"\",IF(LEN(LOOKUP(B150,Database!A:A,Database!F:F))=0,\"\",LOOKUP(B150,Database!A:A,Database!F:F)))","v":""},{"$f":"IF(ISNA(A150),\"\",IF(LEN(LOOKUP(B150,Database!A:A,Database!G:G))=0,\"\",LOOKUP(B150,Database!A:A,Database!G:G)))","v":""},{"$f":"IF(ISNA(A150),\"\",IF(LEN(LOOKUP(B150,Database!A:A,Database!H:H))=0,\"\",LOOKUP(B150,Database!A:A,Database!H:H)))","v":""},{"$f":"IF(ISNA(A150),\"\",IF(LEN(LOOKUP(B150,Database!A:A,Database!I:I))=0,\"\",LOOKUP(B150,Database!A:A,Database!I:I)))","v":""},{"$f":"IF(ISNA(A150),\"\",IF(LEN(LOOKUP(B150,Database!A:A,Database!J:J))=0,\"\",LOOKUP(B150,Database!A:A,Database!J:J)))","v":""},{"$f":"IF(ISNA(A150),\"\",IF(LEN(LOOKUP(B150,Database!A:A,Database!K:K))=0,\"\",LOOKUP(B150,Database!A:A,Database!K:K)))","v":""},{"$f":"IF(ISNA(A150),\"\",IF(LEN(LOOKUP(B150,Database!A:A,Database!L:L))=0,\"\",LOOKUP(B150,Database!A:A,Database!L:L)))","v":""},{"$f":"IF(ISNA(A150),\"\",IF(LEN(LOOKUP(B150,Database!A:A,Database!M:M))=0,\"\",LOOKUP(B150,Database!A:A,Database!M:M)))","v":""},{"$f":"IF(ISNA(A150),\"\",IF(LEN(LOOKUP(B150,Database!A:A,Database!N:N))=0,\"\",LOOKUP(B150,Database!A:A,Database!N:N)))","v":""},{"$f":"IF(ISNA(A150),\"\",IF(LEN(LOOKUP(B150,Database!A:A,Database!O:O))=0,\"\",LOOKUP(B150,Database!A:A,Database!O:O)))","v":""},{"$f":"IF(ISNA(A150),\"\",IF(LEN(LOOKUP(B150,Database!A:A,Database!P:P))=0,\"\",LOOKUP(B150,Database!A:A,Database!P:P)))","v":""},{"$f":"IF(ISNA(A150),\"\",IF(LEN(LOOKUP(B150,Database!A:A,Database!Q:Q))=0,\"\",LOOKUP(B150,Database!A:A,Database!Q:Q)))","v":""},{"$f":"IF(ISNA(A150),\"\",IF(LEN(LOOKUP(B150,Database!A:A,Database!R:R))=0,\"\",LOOKUP(B150,Database!A:A,Database!R:R)))","v":""},{"$f":"IF(ISNA(A150),\"\",IF(LEN(LOOKUP(B150,Database!A:A,Database!S:S))=0,\"\",LOOKUP(B150,Database!A:A,Database!S:S)))","v":""},null,null,null,null,null,null,136,0,null,1,0,null,0.1]
[{"$error":"#N/A"},"2018-05-17",{"$f":"IF(ISNA(A151),\"\",IF(LEN(LOOKUP(B151,Database!A:A,Database!B:B))=0,\"\",LOOKUP(B151,Database!A:A,Database!B:B)))","v":""},{"$f":"IF(ISNA(A151),\"\",IF(LEN(LOOKUP(B151,Database!A:A,Database!C:C))=0,\"\",LOOKUP(B151,Database!A:A,Database!C:C)))","v":""},{"$f":"IF(ISNA(A151),\"\",IF(LEN(LOOKUP(B151,Database!A:A,Database!D:D))=0,\"\",LOOKUP(B151,Database!A:A,Database!D:D)))","v":""},{"$f":"IF(ISNA(A151),\"\",IF(LEN(LOOKUP(B151,Database!A:A,Database!E:E))=0,\"\",LOOKUP(B151,Database!A:A,Database!E:E)))","v":""},{"$f":"IF(ISNA(A151),\"\",IF(LEN(LOOKUP(B151,Database!A:A,Database!F:F))=0,\"\",LOOKUP(B151,Database!A:A,Database!F:F)))","v":""},{"$f":"IF(ISNA(A151),\"\",IF(LEN(LOOKUP(B151,Database!A:A,Database!G:G))=0,\"\",LOOKUP(B151,Database!A:A,Database!G:G)))","v":""},{"$f":"IF(ISNA(A151),\"\",IF(LEN(LOOKUP(B151,Database!A:A,Database!H:H))=0,\"\",LOOKUP(B151,Database!A:A,Database!H:H)))","v":""},{"$f":"IF(ISNA(A151),\"\",IF(LEN(LOOKUP(B151,Database!A:A,Database!I:I))=0,\"\",LOOKUP(B151,Database!A:A,Database!I:I)))","v":""},{"$f":"IF(ISNA(A151),\"\",IF(LEN(LOOKUP(B151,Database!A:A,Database!J:J))=0,\"\",LOOKUP(B151,Database!A:A,Database!J:J)))","v":""},{"$f":"IF(ISNA(A151),\"\",IF(LEN(LOOKUP(B151,Database!A:A,Database!K:K))=0,\"\",LOOKUP(B151,Database!A:A,Database!K:K)))","v":""},{"$f":"IF(ISNA(A151),\"\",IF(LEN(LOOKUP(B151,Database!A:A,Database!L:L))=0,\"\",LOOKUP(B151,Database!A:A,Database!L:L)))","v":""},{"$f":"IF(ISNA(A151),\"\",IF(LEN(LOOKUP(B151,Database!A:A,Database!M:M))=0,\"\",LOOKUP(B151,Database!A:A,Database!M:M)))","v":""},{"$f":"IF(ISNA(A151),\"\",IF(LEN(LOOKUP(B151,Database!A:A,Database!N:N))=0,\"\",LOOKUP(B151,Database!A:A,Database!N:N)))","v":""},{"$f":"IF(ISNA(A151),\"\",IF(LEN(LOOKUP(B151,Database!A:A,Database!O:O))=0,\"\",LOOKUP(B151,Database!A:A,Database!O:O)))","v":""},{"$f":"IF(ISNA(A151),\"\",IF(LEN(LOOKUP(B151,Database!A:A,Database!P:P))=0,\"\",LOOKUP(B151,Database!A:A,Database!P:P)))","v":""},{"$f":"IF(ISNA(A151),\"\",IF(LEN(LOOKUP(B151,Database!A:A,Database!Q:Q))=0,\"\",LOOKUP(B151,Database!A:A,Database!Q:Q)))","v":""},{"$f":"IF(ISNA(A151),\"\",IF(LEN(LOOKUP(B151,Database!A:A,Database!R:R))=0,\"\",LOOKUP(B151,Database!A:A,Database!R:R)))","v":""},{"$f":"IF(ISNA(A151),\"\",IF(LEN(LOOKUP(B151,Database!A:A,Database!S:S))=0,\"\",LOOKUP(B151,Database!A:A,Database!S:S)))","v":""},null,null,null,null,null,null,137,0,null,1,0,null,0.1]
[{"$error":"#N/A"},"2018-05-18",{"$f":"IF(ISNA(A152),\"\",IF(LEN(LOOKUP(B152,Database!A:A,Database!B:B))=0,\"\",LOOKUP(B152,Database!A:A,Database!B:B)))","v":""},{"$f":"IF(ISNA(A152),\"\",IF(LEN(LOOKUP(B152,Database!A:A,Database!C:C))=0,\"\",LOOKUP(B152,Database!A:A,Database!C:C)))","v":""},{"$f":"IF(ISNA(A152),\"\",IF(LEN(LOOKUP(B152,Database!A:A,Database!D:D))=0,\"\",LOOKUP(B152,Database!A:A,Database!D:D)))","v":""},{"$f":"IF(ISNA(A152),\"\",IF(LEN(LOOKUP(B152,Database!A:A,Database!E:E))=0,\"\",LOOKUP(B152,Database!A:A,Database!E:E)))","v":""},{"$f":"IF(ISNA(A152),\"\",IF(LEN(LOOKUP(B152,Database!A:A,Database!F:F))=0,\"\",LOOKUP(B152,Database!A:A,Database!F:F)))","v":""},{"$f":"IF(ISNA(A152),\"\",IF(LEN(LOOKUP(B152,Database!A:A,Database!G:G))=0,\"\",LOOKUP(B152,Database!A:A,Database!G:G)))","v":""},{"$f":"IF(ISNA(A152),\"\",IF(LEN(LOOKUP(B152,Database!A:A,Database!H:H))=0,\"\",LOOKUP(B152,Database!A:A,Database!H:H)))","v":""},{"$f":"IF(ISNA(A152),\"\",IF(LEN(LOOKUP(B152,Database!A:A,Database!I:I))=0,\"\",LOOKUP(B152,Database!A:A,Database!I:I)))","v":""},{"$f":"IF(ISNA(A152),\"\",IF(LEN(LOOKUP(B152,Database!A:A,Database!J:J))=0,\"\",LOOKUP(B152,Database!A:A,Database!J:J)))","v":""},{"$f":"IF(ISNA(A152),\"\",IF(LEN(LOOKUP(B152,Database!A:A,Database!K:K))=0,\"\",LOOKUP(B152,Database!A:A,Database!K:K)))","v":""},{"$f":"IF(ISNA(A152),\"\",IF(LEN(LOOKUP(B152,Database!A:A,Database!L:L))=0,\"\",LOOKUP(B152,Database!A:A,Database!L:L)))","v":""},{"$f":"IF(ISNA(A152),\"\",IF(LEN(LOOKUP(B152,Database!A:A,Database!M:M))=0,\"\",LOOKUP(B152,Database!A:A,Database!M:M)))","v":""},{"$f":"IF(ISNA(A152),\"\",IF(LEN(LOOKUP(B152,Database!A:A,Database!N:N))=0,\"\",LOOKUP(B152,Database!A:A,Database!N:N)))","v":""},{"$f":"IF(ISNA(A152),\"\",IF(LEN(LOOKUP(B152,Database!A:A,Database!O:O))=0,\"\",LOOKUP(B152,Database!A:A,Database!O:O)))","v":""},{"$f":"IF(ISNA(A152),\"\",IF(LEN(LOOKUP(B152,Database!A:A,Database!P:P))=0,\"\",LOOKUP(B152,Database!A:A,Database!P:P)))","v":""},{"$f":"IF(ISNA(A152),\"\",IF(LEN(LOOKUP(B152,Database!A:A,Database!Q:Q))=0,\"\",LOOKUP(B152,Database!A:A,Database!Q:Q)))","v":""},{"$f":"IF(ISNA(A152),\"\",IF(LEN(LOOKUP(B152,Database!A:A,Database!R:R))=0,\"\",LOOKUP(B152,Database!A:A,Database!R:R)))","v":""},{"$f":"IF(ISNA(A152),\"\",IF(LEN(LOOKUP(B152,Database!A:A,Database!S:S))=0,\"\",LOOKUP(B152,Database!A:A,Database!S:S)))","v":""},null,null,null,null,null,null,138,0,null,1,0,null,0.1]
[{"$error":"#N/A"},"2018-05-19",{"$f":"IF(ISNA(A153),\"\",IF(LEN(LOOKUP(B153,Database!A:A,Database!B:B))=0,\"\",LOOKUP(B153,Database!A:A,Database!B:B)))","v":""},{"$f":"IF(ISNA(A153),\"\",IF(LEN(LOOKUP(B153,Database!A:A,Database!C:C))=0,\"\",LOOKUP(B153,Database!A:A,Database!C:C)))","v":""},{"$f":"IF(ISNA(A153),\"\",IF(LEN(LOOKUP(B153,Database!A:A,Database!D:D))=0,\"\",LOOKUP(B153,Database!A:A,Database!D:D)))","v":""},{"$f":"IF(ISNA(A153),\"\",IF(LEN(LOOKUP(B153,Database!A:A,Database!E:E))=0,\"\",LOOKUP(B153,Database!A:A,Database!E:E)))","v":""},{"$f":"IF(ISNA(A153),\"\",IF(LEN(LOOKUP(B153,Database!A:A,Database!F:F))=0,\"\",LOOKUP(B153,Database!A:A,Database!F:F)))","v":""},{"$f":"IF(ISNA(A153),\"\",IF(LEN(LOOKUP(B153,Database!A:A,Database!G:G))=0,\"\",LOOKUP(B153,Database!A:A,Database!G:G)))","v":""},{"$f":"IF(ISNA(A153),\"\",IF(LEN(LOOKUP(B153,Database!A:A,Database!H:H))=0,\"\",LOOKUP(B153,Database!A:A,Database!H:H)))","v":""},{"$f":"IF(ISNA(A153),\"\",IF(LEN(LOOKUP(B153,Database!A:A,Database!I:I))=0,\"\",LOOKUP(B153,Database!A:A,Database!I:I)))","v":""},{"$f":"IF(ISNA(A153),\"\",IF(LEN(LOOKUP(B153,Database!A:A,Database!J:J))=0,\"\",LOOKUP(B153,Database!A:A,Database!J:J)))","v":""},{"$f":"IF(ISNA(A153),\"\",IF(LEN(LOOKUP(B153,Database!A:A,Database!K:K))=0,\"\",LOOKUP(B153,Database!A:A,Database!K:K)))","v":""},{"$f":"IF(ISNA(A153),\"\",IF(LEN(LOOKUP(B153,Database!A:A,Database!L:L))=0,\"\",LOOKUP(B153,Database!A:A,Database!L:L)))","v":""},{"$f":"IF(ISNA(A153),\"\",IF(LEN(LOOKUP(B153,Database!A:A,Database!M:M))=0,\"\",LOOKUP(B153,Database!A:A,Database!M:M)))","v":""},{"$f":"IF(ISNA(A153),\"\",IF(LEN(LOOKUP(B153,Database!A:A,Database!N:N))=0,\"\",LOOKUP(B153,Database!A:A,Database!N:N)))","v":""},{"$f":"IF(ISNA(A153),\"\",IF(LEN(LOOKUP(B153,Database!A:A,Database!O:O))=0,\"\",LOOKUP(B153,Database!A:A,Database!O:O)))","v":""},{"$f":"IF(ISNA(A153),\"\",IF(LEN(LOOKUP(B153,Database!A:A,Database!P:P))=0,\"\",LOOKUP(B153,Database!A:A,Database!P:P)))","v":""},{"$f":"IF(ISNA(A153),\"\",IF(LEN(LOOKUP(B153,Database!A:A,Database!Q:Q))=0,\"\",LOOKUP(B153,Database!A:A,Database!Q:Q)))","v":""},{"$f":"IF(ISNA(A153),\"\",IF(LEN(LOOKUP(B153,Database!A:A,Database!R:R))=0,\"\",LOOKUP(B153,Database!A:A,Database!R:R)))","v":""},{"$f":"IF(ISNA(A153),\"\",IF(LEN(LOOKUP(B153,Database!A:A,Database!S:S))=0,\"\",LOOKUP(B153,Database!A:A,Database!S:S)))","v":""},null,null,null,null,null,null,139,0,null,1,0,null,0.1]
[{"$error":"#N/A"},"2018-05-20",{"$f":"IF(ISNA(A154),\"\",IF(LEN(LOOKUP(B154,Database!A:A,Database!B:B))=0,\"\",LOOKUP(B154,Database!A:A,Database!B:B)))","v":""},{"$f":"IF(ISNA(A154),\"\",IF(LEN(LOOKUP(B154,Database!A:A,Database!C:C))=0,\"\",LOOKUP(B154,Database!A:A,Database!C:C)))","v":""},{"$f":"IF(ISNA(A154),\"\",IF(LEN(LOOKUP(B154,Database!A:A,Database!D:D))=0,\"\",LOOKUP(B154,Database!A:A,Database!D:D)))","v":""},{"$f":"IF(ISNA(A154),\"\",IF(LEN(LOOKUP(B154,Database!A:A,Database!E:E))=0,\"\",LOOKUP(B154,Database!A:A,Database!E:E)))","v":""},{"$f":"IF(ISNA(A154),\"\",IF(LEN(LOOKUP(B154,Database!A:A,Database!F:F))=0,\"\",LOOKUP(B154,Database!A:A,Database!F:F)))","v":""},{"$f":"IF(ISNA(A154),\"\",IF(LEN(LOOKUP(B154,Database!A:A,Database!G:G))=0,\"\",LOOKUP(B154,Database!A:A,Database!G:G)))","v":""},{"$f":"IF(ISNA(A154),\"\",IF(LEN(LOOKUP(B154,Database!A:A,Database!H:H))=0,\"\",LOOKUP(B154,Database!A:A,Database!H:H)))","v":""},{"$f":"IF(ISNA(A154),\"\",IF(LEN(LOOKUP(B154,Database!A:A,Database!I:I))=0,\"\",LOOKUP(B154,Database!A:A,Database!I:I)))","v":""},{"$f":"IF(ISNA(A154),\"\",IF(LEN(LOOKUP(B154,Database!A:A,Database!J:J))=0,\"\",LOOKUP(B154,Database!A:A,Database!J:J)))","v":""},{"$f":"IF(ISNA(A154),\"\",IF(LEN(LOOKUP(B154,Database!A:A,Database!K:K))=0,\"\",LOOKUP(B154,Database!A:A,Database!K:K)))","v":""},{"$f":"IF(ISNA(A154),\"\",IF(LEN(LOOKUP(B154,Database!A:A,Database!L:L))=0,\"\",LOOKUP(B154,Database!A:A,Database!L:L)))","v":""},{"$f":"IF(ISNA(A154),\"\",IF(LEN(LOOKUP(B154,Database!A:A,Database!M:M))=0,\"\",LOOKUP(B154,Database!A:A,Database!M:M)))","v":""},{"$f":"IF(ISNA(A154),\"\",IF(LEN(LOOKUP(B154,Database!A:A,Database!N:N))=0,\"\",LOOKUP(B154,Database!A:A,Database!N:N)))","v":""},{"$f":"IF(ISNA(A154),\"\",IF(LEN(LOOKUP(B154,Database!A:A,Database!O:O))=0,\"\",LOOKUP(B154,Database!A:A,Database!O:O)))","v":""},{"$f":"IF(ISNA(A154),\"\",IF(LEN(LOOKUP(B154,Database!A:A,Database!P:P))=0,\"\",LOOKUP(B154,Database!A:A,Database!P:P)))","v":""},{"$f":"IF(ISNA(A154),\"\",IF(LEN(LOOKUP(B154,Database!A:A,Database!Q:Q))=0,\"\",LOOKUP(B154,Database!A:A,Database!Q:Q)))","v":""},{"$f":"IF(ISNA(A154),\"\",IF(LEN(LOOKUP(B154,Database!A:A,Database!R:R))=0,\"\",LOOKUP(B154,Database!A:A,Database!R:R)))","v":""},{"$f":"IF(ISNA(A154),\"\",IF(LEN(LOOKUP(B154,Database!A:A,Database!S:S))=0,\"\",LOOKUP(B154,Database!A:A,Database!S:S)))","v":""},null,null,null,null,null,null,140,0,null,1,0,null,0.1]
[{"$error":"#N/A"},"2018-05-21",{"$f":"IF(ISNA(A155),\"\",IF(LEN(LOOKUP(B155,Database!A:A,Database!B:B))=0,\"\",LOOKUP(B155,Database!A:A,Database!B:B)))","v":""},{"$f":"IF(ISNA(A155),\"\",IF(LEN(LOOKUP(B155,Database!A:A,Database!C:C))=0,\"\",LOOKUP(B155,Database!A:A,Database!C:C)))","v":""},{"$f":"IF(ISNA(A155),\"\",IF(LEN(LOOKUP(B155,Database!A:A,Database!D:D))=0,\"\",LOOKUP(B155,Database!A:A,Database!D:D)))","v":""},{"$f":"IF(ISNA(A155),\"\",IF(LEN(LOOKUP(B155,Database!A:A,Database!E:E))=0,\"\",LOOKUP(B155,Database!A:A,Database!E:E)))","v":""},{"$f":"IF(ISNA(A155),\"\",IF(LEN(LOOKUP(B155,Database!A:A,Database!F:F))=0,\"\",LOOKUP(B155,Database!A:A,Database!F:F)))","v":""},{"$f":"IF(ISNA(A155),\"\",IF(LEN(LOOKUP(B155,Database!A:A,Database!G:G))=0,\"\",LOOKUP(B155,Database!A:A,Database!G:G)))","v":""},{"$f":"IF(ISNA(A155),\"\",IF(LEN(LOOKUP(B155,Database!A:A,Database!H:H))=0,\"\",LOOKUP(B155,Database!A:A,Database!H:H)))","v":""},{"$f":"IF(ISNA(A155),\"\",IF(LEN(LOOKUP(B155,Database!A:A,Database!I:I))=0,\"\",LOOKUP(B155,Database!A:A,Database!I:I)))","v":""},{"$f":"IF(ISNA(A155),\"\",IF(LEN(LOOKUP(B155,Database!A:A,Database!J:J))=0,\"\",LOOKUP(B155,Database!A:A,Database!J:J)))","v":""},{"$f":"IF(ISNA(A155),\"\",IF(LEN(LOOKUP(B155,Database!A:A,Database!K:K))=0,\"\",LOOKUP(B155,Database!A:A,Database!K:K)))","v":""},{"$f":"IF(ISNA(A155),\"\",IF(LEN(LOOKUP(B155,Database!A:A,Database!L:L))=0,\"\",LOOKUP(B155,Database!A:A,Database!L:L)))","v":""},{"$f":"IF(ISNA(A155),\"\",IF(LEN(LOOKUP(B155,Database!A:A,Database!M:M))=0,\"\",LOOKUP(B155,Database!A:A,Database!M:M)))","v":""},{"$f":"IF(ISNA(A155),\"\",IF(LEN(LOOKUP(B155,Database!A:A,Database!N:N))=0,\"\",LOOKUP(B155,Database!A:A,Database!N:N)))","v":""},{"$f":"IF(ISNA(A155),\"\",IF(LEN(LOOKUP(B155,Database!A:A,Database!O:O))=0,\"\",LOOKUP(B155,Database!A:A,Database!O:O)))","v":""},{"$f":"IF(ISNA(A155),\"\",IF(LEN(LOOKUP(B155,Database!A:A,Database!P:P))=0,\"\",LOOKUP(B155,Database!A:A,Database!P:P)))","v":""},{"$f":"IF(ISNA(A155),\"\",IF(LEN(LOOKUP(B155,Database!A:A,Database!Q:Q))=0,\"\",LOOKUP(B155,Database!A:A,Database!Q:Q)))","v":""},{"$f":"IF(ISNA(A155),\"\",IF(LEN(LOOKUP(B155,Database!A:A,Database!R:R))=0,\"\",LOOKUP(B155,Database!A:A,Database!R:R)))","v":""},{"$f":"IF(ISNA(A155),\"\",IF(LEN(LOOKUP(B155,Database!A:A,Database!S:S))=0,\"\",LOOKUP(B155,Database!A:A,Database!S:S)))","v":""},null,null,null,null,null,null,141,0,null,1,0,null,0.1]
[{"$error":"#N/A"},"2018-05-22",{"$f":"IF(ISNA(A156),\"\",IF(LEN(LOOKUP(B156,Database!A:A,Database!B:B))=0,\"\",LOOKUP(B156,Database!A:A,Database!B:B)))","v":""},{"$f":"IF(ISNA(A156),\"\",IF(LEN(LOOKUP(B156,Database!A:A,Database!C:C))=0,\"\",LOOKUP(B156,Database!A:A,Database!C:C)))","v":""},{"$f":"IF(ISNA(A156),\"\",IF(LEN(LOOKUP(B156,Database!A:A,Database!D:D))=0,\"\",LOOKUP(B156,Database!A:A,Database!D:D)))","v":""},{"$f":"IF(ISNA(A156),\"\",IF(LEN(LOOKUP(B156,Database!A:A,Database!E:E))=0,\"\",LOOKUP(B156,Database!A:A,Database!E:E)))","v":""},{"$f":"IF(ISNA(A156),\"\",IF(LEN(LOOKUP(B156,Database!A:A,Database!F:F))=0,\"\",LOOKUP(B156,Database!A:A,Database!F:F)))","v":""},{"$f":"IF(ISNA(A156),\"\",IF(LEN(LOOKUP(B156,Database!A:A,Database!G:G))=0,\"\",LOOKUP(B156,Database!A:A,Database!G:G)))","v":""},{"$f":"IF(ISNA(A156),\"\",IF(LEN(LOOKUP(B156,Database!A:A,Database!H:H))=0,\"\",LOOKUP(B156,Database!A:A,Database!H:H)))","v":""},{"$f":"IF(ISNA(A156),\"\",IF(LEN(LOOKUP(B156,Database!A:A,Database!I:I))=0,\"\",LOOKUP(B156,Database!A:A,Database!I:I)))","v":""},{"$f":"IF(ISNA(A156),\"\",IF(LEN(LOOKUP(B156,Database!A:A,Database!J:J))=0,\"\",LOOKUP(B156,Database!A:A,Database!J:J)))","v":""},{"$f":"IF(ISNA(A156),\"\",IF(LEN(LOOKUP(B156,Database!A:A,Database!K:K))=0,\"\",LOOKUP(B156,Database!A:A,Database!K:K)))","v":""},{"$f":"IF(ISNA(A156),\"\",IF(LEN(LOOKUP(B156,Database!A:A,Database!L:L))=0,\"\",LOOKUP(B156,Database!A:A,Database!L:L)))","v":""},{"$f":"IF(ISNA(A156),\"\",IF(LEN(LOOKUP(B156,Database!A:A,Database!M:M))=0,\"\",LOOKUP(B156,Database!A:A,Database!M:M)))","v":""},{"$f":"IF(ISNA(A156),\"\",IF(LEN(LOOKUP(B156,Database!A:A,Database!N:N))=0,\"\",LOOKUP(B156,Database!A:A,Database!N:N)))","v":""},{"$f":"IF(ISNA(A156),\"\",IF(LEN(LOOKUP(B156,Database!A:A,Database!O:O))=0,\"\",LOOKUP(B156,Database!A:A,Database!O:O)))","v":""},{"$f":"IF(ISNA(A156),\"\",IF(LEN(LOOKUP(B156,Database!A:A,Database!P:P))=0,\"\",LOOKUP(B156,Database!A:A,Database!P:P)))","v":""},{"$f":"IF(ISNA(A156),\"\",IF(LEN(LOOKUP(B156,Database!A:A,Database!Q:Q))=0,\"\",LOOKUP(B156,Database!A:A,Database!Q:Q)))","v":""},{"$f":"IF(ISNA(A156),\"\",IF(LEN(LOOKUP(B156,Database!A:A,Database!R:R))=0,\"\",LOOKUP(B156,Database!A:A,Database!R:R)))","v":""},{"$f":"IF(ISNA(A156),\"\",IF(LEN(LOOKUP(B156,Database!A:A,Database!S:S))=0,\"\",LOOKUP(B156,Database!A:A,Database!S:S)))","v":""},null,null,null,null,null,null,142,0,null,1,0,null,0.1]
[{"$error":"#N/A"},"2018-05-23",{"$f":"IF(ISNA(A157),\"\",IF(LEN(LOOKUP(B157,Database!A:A,Database!B:B))=0,\"\",LOOKUP(B157,Database!A:A,Database!B:B)))","v":""},{"$f":"IF(ISNA(A157),\"\",IF(LEN(LOOKUP(B157,Database!A:A,Database!C:C))=0,\"\",LOOKUP(B157,Database!A:A,Database!C:C)))","v":""},{"$f":"IF(ISNA(A157),\"\",IF(LEN(LOOKUP(B157,Database!A:A,Database!D:D))=0,\"\",LOOKUP(B157,Database!A:A,Database!D:D)))","v":""},{"$f":"IF(ISNA(A157),\"\",IF(LEN(LOOKUP(B157,Database!A:A,Database!E:E))=0,\"\",LOOKUP(B157,Database!A:A,Database!E:E)))","v":""},{"$f":"IF(ISNA(A157),\"\",IF(LEN(LOOKUP(B157,Database!A:A,Database!F:F))=0,\"\",LOOKUP(B157,Database!A:A,Database!F:F)))","v":""},{"$f":"IF(ISNA(A157),\"\",IF(LEN(LOOKUP(B157,Database!A:A,Database!G:G))=0,\"\",LOOKUP(B157,Database!A:A,Database!G:G)))","v":""},{"$f":"IF(ISNA(A157),\"\",IF(LEN(LOOKUP(B157,Database!A:A,Database!H:H))=0,\"\",LOOKUP(B157,Database!A:A,Database!H:H)))","v":""},{"$f":"IF(ISNA(A157),\"\",IF(LEN(LOOKUP(B157,Database!A:A,Database!I:I))=0,\"\",LOOKUP(B157,Database!A:A,Database!I:I)))","v":""},{"$f":"IF(ISNA(A157),\"\",IF(LEN(LOOKUP(B157,Database!A:A,Database!J:J))=0,\"\",LOOKUP(B157,Database!A:A,Database!J:J)))","v":""},{"$f":"IF(ISNA(A157),\"\",IF(LEN(LOOKUP(B157,Database!A:A,Database!K:K))=0,\"\",LOOKUP(B157,Database!A:A,Database!K:K)))","v":""},{"$f":"IF(ISNA(A157),\"\",IF(LEN(LOOKUP(B157,Database!A:A,Database!L:L))=0,\"\",LOOKUP(B157,Database!A:A,Database!L:L)))","v":""},{"$f":"IF(ISNA(A157),\"\",IF(LEN(LOOKUP(B157,Database!A:A,Database!M:M))=0,\"\",LOOKUP(B157,Database!A:A,Database!M:M)))","v":""},{"$f":"IF(ISNA(A157),\"\",IF(LEN(LOOKUP(B157,Database!A:A,Database!N:N))=0,\"\",LOOKUP(B157,Database!A:A,Database!N:N)))","v":""},{"$f":"IF(ISNA(A157),\"\",IF(LEN(LOOKUP(B157,Database!A:A,Database!O:O))=0,\"\",LOOKUP(B157,Database!A:A,Database!O:O)))","v":""},{"$f":"IF(ISNA(A157),\"\",IF(LEN(LOOKUP(B157,Database!A:A,Database!P:P))=0,\"\",LOOKUP(B157,Database!A:A,Database!P:P)))","v":""},{"$f":"IF(ISNA(A157),\"\",IF(LEN(LOOKUP(B157,Database!A:A,Database!Q:Q))=0,\"\",LOOKUP(B157,Database!A:A,Database!Q:Q)))","v":""},{"$f":"IF(ISNA(A157),\"\",IF(LEN(LOOKUP(B157,Database!A:A,Database!R:R))=0,\"\",LOOKUP(B157,Database!A:A,Database!R:R)))","v":""},{"$f":"IF(ISNA(A157),\"\",IF(LEN(LOOKUP(B157,Database!A:A,Database!S:S))=0,\"\",LOOKUP(B157,Database!A:A,Database!S:S)))","v":""},null,null,null,null,null,null,143,0,null,1,0,null,0.1]
[{"$error":"#N/A"},"2018-05-24",{"$f":"IF(ISNA(A158),\"\",IF(LEN(LOOKUP(B158,Database!A:A,Database!B:B))=0,\"\",LOOKUP(B158,Database!A:A,Database!B:B)))","v":""},{"$f":"IF(ISNA(A158),\"\",IF(LEN(LOOKUP(B158,Database!A:A,Database!C:C))=0,\"\",LOOKUP(B158,Database!A:A,Database!C:C)))","v":""},{"$f":"IF(ISNA(A158),\"\",IF(LEN(LOOKUP(B158,Database!A:A,Database!D:D))=0,\"\",LOOKUP(B158,Database!A:A,Database!D:D)))","v":""},{"$f":"IF(ISNA(A158),\"\",IF(LEN(LOOKUP(B158,Database!A:A,Database!E:E))=0,\"\",LOOKUP(B158,Database!A:A,Database!E:E)))","v":""},{"$f":"IF(ISNA(A158),\"\",IF(LEN(LOOKUP(B158,Database!A:A,Database!F:F))=0,\"\",LOOKUP(B158,Database!A:A,Database!F:F)))","v":""},{"$f":"IF(ISNA(A158),\"\",IF(LEN(LOOKUP(B158,Database!A:A,Database!G:G))=0,\"\",LOOKUP(B158,Database!A:A,Database!G:G)))","v":""},{"$f":"IF(ISNA(A158),\"\",IF(LEN(LOOKUP(B158,Database!A:A,Database!H:H))=0,\"\",LOOKUP(B158,Database!A:A,Database!H:H)))","v":""},{"$f":"IF(ISNA(A158),\"\",IF(LEN(LOOKUP(B158,Database!A:A,Database!I:I))=0,\"\",LOOKUP(B158,Database!A:A,Database!I:I)))","v":""},{"$f":"IF(ISNA(A158),\"\",IF(LEN(LOOKUP(B158,Database!A:A,Database!J:J))=0,\"\",LOOKUP(B158,Database!A:A,Database!J:J)))","v":""},{"$f":"IF(ISNA(A158),\"\",IF(LEN(LOOKUP(B158,Database!A:A,Database!K:K))=0,\"\",LOOKUP(B158,Database!A:A,Database!K:K)))","v":""},{"$f":"IF(ISNA(A158),\"\",IF(LEN(LOOKUP(B158,Database!A:A,Database!L:L))=0,\"\",LOOKUP(B158,Database!A:A,Database!L:L)))","v":""},{"$f":"IF(ISNA(A158),\"\",IF(LEN(LOOKUP(B158,Database!A:A,Database!M:M))=0,\"\",LOOKUP(B158,Database!A:A,Database!M:M)))","v":""},{"$f":"IF(ISNA(A158),\"\",IF(LEN(LOOKUP(B158,Database!A:A,Database!N:N))=0,\"\",LOOKUP(B158,Database!A:A,Database!N:N)))","v":""},{"$f":"IF(ISNA(A158),\"\",IF(LEN(LOOKUP(B158,Database!A:A,Database!O:O))=0,\"\",LOOKUP(B158,Database!A:A,Database!O:O)))","v":""},{"$f":"IF(ISNA(A158),\"\",IF(LEN(LOOKUP(B158,Database!A:A,Database!P:P))=0,\"\",LOOKUP(B158,Database!A:A,Database!P:P)))","v":""},{"$f":"IF(ISNA(A158),\"\",IF(LEN(LOOKUP(B158,Database!A:A,Database!Q:Q))=0,\"\",LOOKUP(B158,Database!A:A,Database!Q:Q)))","v":""},{"$f":"IF(ISNA(A158),\"\",IF(LEN(LOOKUP(B158,Database!A:A,Database!R:R))=0,\"\",LOOKUP(B158,Database!A:A,Database!R:R)))","v":""},{"$f":"IF(ISNA(A158),\"\",IF(LEN(LOOKUP(B158,Database!A:A,Database!S:S))=0,\"\",LOOKUP(B158,Database!A:A,Database!S:S)))","v":""},null,null,null,null,null,null,144,0,null,1,0,null,0.1]
[{"$error":"#N/A"},"2018-05-25",{"$f":"IF(ISNA(A159),\"\",IF(LEN(LOOKUP(B159,Database!A:A,Database!B:B))=0,\"\",LOOKUP(B159,Database!A:A,Database!B:B)))","v":""},{"$f":"IF(ISNA(A159),\"\",IF(LEN(LOOKUP(B159,Database!A:A,Database!C:C))=0,\"\",LOOKUP(B159,Database!A:A,Database!C:C)))","v":""},{"$f":"IF(ISNA(A159),\"\",IF(LEN(LOOKUP(B159,Database!A:A,Database!D:D))=0,\"\",LOOKUP(B159,Database!A:A,Database!D:D)))","v":""},{"$f":"IF(ISNA(A159),\"\",IF(LEN(LOOKUP(B159,Database!A:A,Database!E:E))=0,\"\",LOOKUP(B159,Database!A:A,Database!E:E)))","v":""},{"$f":"IF(ISNA(A159),\"\",IF(LEN(LOOKUP(B159,Database!A:A,Database!F:F))=0,\"\",LOOKUP(B159,Database!A:A,Database!F:F)))","v":""},{"$f":"IF(ISNA(A159),\"\",IF(LEN(LOOKUP(B159,Database!A:A,Database!G:G))=0,\"\",LOOKUP(B159,Database!A:A,Database!G:G)))","v":""},{"$f":"IF(ISNA(A159),\"\",IF(LEN(LOOKUP(B159,Database!A:A,Database!H:H))=0,\"\",LOOKUP(B159,Database!A:A,Database!H:H)))","v":""},{"$f":"IF(ISNA(A159),\"\",IF(LEN(LOOKUP(B159,Database!A:A,Database!I:I))=0,\"\",LOOKUP(B159,Database!A:A,Database!I:I)))","v":""},{"$f":"IF(ISNA(A159),\"\",IF(LEN(LOOKUP(B159,Database!A:A,Database!J:J))=0,\"\",LOOKUP(B159,Database!A:A,Database!J:J)))","v":""},{"$f":"IF(ISNA(A159),\"\",IF(LEN(LOOKUP(B159,Database!A:A,Database!K:K))=0,\"\",LOOKUP(B159,Database!A:A,Database!K:K)))","v":""},{"$f":"IF(ISNA(A159),\"\",IF(LEN(LOOKUP(B159,Database!A:A,Database!L:L))=0,\"\",LOOKUP(B159,Database!A:A,Database!L:L)))","v":""},{"$f":"IF(ISNA(A159),\"\",IF(LEN(LOOKUP(B159,Database!A:A,Database!M:M))=0,\"\",LOOKUP(B159,Database!A:A,Database!M:M)))","v":""},{"$f":"IF(ISNA(A159),\"\",IF(LEN(LOOKUP(B159,Database!A:A,Database!N:N))=0,\"\",LOOKUP(B159,Database!A:A,Database!N:N)))","v":""},{"$f":"IF(ISNA(A159),\"\",IF(LEN(LOOKUP(B159,Database!A:A,Database!O:O))=0,\"\",LOOKUP(B159,Database!A:A,Database!O:O)))","v":""},{"$f":"IF(ISNA(A159),\"\",IF(LEN(LOOKUP(B159,Database!A:A,Database!P:P))=0,\"\",LOOKUP(B159,Database!A:A,Database!P:P)))","v":""},{"$f":"IF(ISNA(A159),\"\",IF(LEN(LOOKUP(B159,Database!A:A,Database!Q:Q))=0,\"\",LOOKUP(B159,Database!A:A,Database!Q:Q)))","v":""},{"$f":"IF(ISNA(A159),\"\",IF(LEN(LOOKUP(B159,Database!A:A,Database!R:R))=0,\"\",LOOKUP(B159,Database!A:A,Database!R:R)))","v":""},{"$f":"IF(ISNA(A159),\"\",IF(LEN(LOOKUP(B159,Database!A:A,Database!S:S))=0,\"\",LOOKUP(B159,Database!A:A,Database!S:S)))","v":""},null,null,null,null,null,null,145,0,null,1,0,null,0.1]
[{"$error":"#N/A"},"2018-05-26",{"$f":"IF(ISNA(A160),\"\",IF(LEN(LOOKUP(B160,Database!A:A,Database!B:B))=0,\"\",LOOKUP(B160,Database!A:A,Database!B:B)))","v":""},{"$f":"IF(ISNA(A160),\"\",IF(LEN(LOOKUP(B160,Database!A:A,Database!C:C))=0,\"\",LOOKUP(B160,Database!A:A,Database!C:C)))","v":""},{"$f":"IF(ISNA(A160),\"\",IF(LEN(LOOKUP(B160,Database!A:A,Database!D:D))=0,\"\",LOOKUP(B160,Database!A:A,Database!D:D)))","v":""},{"$f":"IF(ISNA(A160),\"\",IF(LEN(LOOKUP(B160,Database!A:A,Database!E:E))=0,\"\",LOOKUP(B160,Database!A:A,Database!E:E)))","v":""},{"$f":"IF(ISNA(A160),\"\",IF(LEN(LOOKUP(B160,Database!A:A,Database!F:F))=0,\"\",LOOKUP(B160,Database!A:A,Database!F:F)))","v":""},{"$f":"IF(ISNA(A160),\"\",IF(LEN(LOOKUP(B160,Database!A:A,Database!G:G))=0,\"\",LOOKUP(B160,Database!A:A,Database!G:G)))","v":""},{"$f":"IF(ISNA(A160),\"\",IF(LEN(LOOKUP(B160,Database!A:A,Database!H:H))=0,\"\",LOOKUP(B160,Database!A:A,Database!H:H)))","v":""},{"$f":"IF(ISNA(A160),\"\",IF(LEN(LOOKUP(B160,Database!A:A,Database!I:I))=0,\"\",LOOKUP(B160,Database!A:A,Database!I:I)))","v":""},{"$f":"IF(ISNA(A160),\"\",IF(LEN(LOOKUP(B160,Database!A:A,Database!J:J))=0,\"\",LOOKUP(B160,Database!A:A,Database!J:J)))","v":""},{"$f":"IF(ISNA(A160),\"\",IF(LEN(LOOKUP(B160,Database!A:A,Database!K:K))=0,\"\",LOOKUP(B160,Database!A:A,Database!K:K)))","v":""},{"$f":"IF(ISNA(A160),\"\",IF(LEN(LOOKUP(B160,Database!A:A,Database!L:L))=0,\"\",LOOKUP(B160,Database!A:A,Database!L:L)))","v":""},{"$f":"IF(ISNA(A160),\"\",IF(LEN(LOOKUP(B160,Database!A:A,Database!M:M))=0,\"\",LOOKUP(B160,Database!A:A,Database!M:M)))","v":""},{"$f":"IF(ISNA(A160),\"\",IF(LEN(LOOKUP(B160,Database!A:A,Database!N:N))=0,\"\",LOOKUP(B160,Database!A:A,Database!N:N)))","v":""},{"$f":"IF(ISNA(A160),\"\",IF(LEN(LOOKUP(B160,Database!A:A,Database!O:O))=0,\"\",LOOKUP(B160,Database!A:A,Database!O:O)))","v":""},{"$f":"IF(ISNA(A160),\"\",IF(LEN(LOOKUP(B160,Database!A:A,Database!P:P))=0,\"\",LOOKUP(B160,Database!A:A,Database!P:P)))","v":""},{"$f":"IF(ISNA(A160),\"\",IF(LEN(LOOKUP(B160,Database!A:A,Database!Q:Q))=0,\"\",LOOKUP(B160,Database!A:A,Database!Q:Q)))","v":""},{"$f":"IF(ISNA(A160),\"\",IF(LEN(LOOKUP(B160,Database!A:A,Database!R:R))=0,\"\",LOOKUP(B160,Database!A:A,Database!R:R)))","v":""},{"$f":"IF(ISNA(A160),\"\",IF(LEN(LOOKUP(B160,Database!A:A,Database!S:S))=0,\"\",LOOKUP(B160,Database!A:A,Database!S:S)))","v":""},null,null,null,null,null,null,146,0,null,1,0,null,0.1]
[{"$error":"#N/A"},"2018-05-27",{"$f":"IF(ISNA(A161),\"\",IF(LEN(LOOKUP(B161,Database!A:A,Database!B:B))=0,\"\",LOOKUP(B161,Database!A:A,Database!B:B)))","v":""},{"$f":"IF(ISNA(A161),\"\",IF(LEN(LOOKUP(B161,Database!A:A,Database!C:C))=0,\"\",LOOKUP(B161,Database!A:A,Database!C:C)))","v":""},{"$f":"IF(ISNA(A161),\"\",IF(LEN(LOOKUP(B161,Database!A:A,Database!D:D))=0,\"\",LOOKUP(B161,Database!A:A,Database!D:D)))","v":""},{"$f":"IF(ISNA(A161),\"\",IF(LEN(LOOKUP(B161,Database!A:A,Database!E:E))=0,\"\",LOOKUP(B161,Database!A:A,Database!E:E)))","v":""},{"$f":"IF(ISNA(A161),\"\",IF(LEN(LOOKUP(B161,Database!A:A,Database!F:F))=0,\"\",LOOKUP(B161,Database!A:A,Database!F:F)))","v":""},{"$f":"IF(ISNA(A161),\"\",IF(LEN(LOOKUP(B161,Database!A:A,Database!G:G))=0,\"\",LOOKUP(B161,Database!A:A,Database!G:G)))","v":""},{"$f":"IF(ISNA(A161),\"\",IF(LEN(LOOKUP(B161,Database!A:A,Database!H:H))=0,\"\",LOOKUP(B161,Database!A:A,Database!H:H)))","v":""},{"$f":"IF(ISNA(A161),\"\",IF(LEN(LOOKUP(B161,Database!A:A,Database!I:I))=0,\"\",LOOKUP(B161,Database!A:A,Database!I:I)))","v":""},{"$f":"IF(ISNA(A161),\"\",IF(LEN(LOOKUP(B161,Database!A:A,Database!J:J))=0,\"\",LOOKUP(B161,Database!A:A,Database!J:J)))","v":""},{"$f":"IF(ISNA(A161),\"\",IF(LEN(LOOKUP(B161,Database!A:A,Database!K:K))=0,\"\",LOOKUP(B161,Database!A:A,Database!K:K)))","v":""},{"$f":"IF(ISNA(A161),\"\",IF(LEN(LOOKUP(B161,Database!A:A,Database!L:L))=0,\"\",LOOKUP(B161,Database!A:A,Database!L:L)))","v":""},{"$f":"IF(ISNA(A161),\"\",IF(LEN(LOOKUP(B161,Database!A:A,Database!M:M))=0,\"\",LOOKUP(B161,Database!A:A,Database!M:M)))","v":""},{"$f":"IF(ISNA(A161),\"\",IF(LEN(LOOKUP(B161,Database!A:A,Database!N:N))=0,\"\",LOOKUP(B161,Database!A:A,Database!N:N)))","v":""},{"$f":"IF(ISNA(A161),\"\",IF(LEN(LOOKUP(B161,Database!A:A,Database!O:O))=0,\"\",LOOKUP(B161,Database!A:A,Database!O:O)))","v":""},{"$f":"IF(ISNA(A161),\"\",IF(LEN(LOOKUP(B161,Database!A:A,Database!P:P))=0,\"\",LOOKUP(B161,Database!A:A,Database!P:P)))","v":""},{"$f":"IF(ISNA(A161),\"\",IF(LEN(LOOKUP(B161,Database!A:A,Database!Q:Q))=0,\"\",LOOKUP(B161,Database!A:A,Database!Q:Q)))","v":""},{"$f":"IF(ISNA(A161),\"\",IF(LEN(LOOKUP(B161,Database!A:A,Database!R:R))=0,\"\",LOOKUP(B161,Database!A:A,Database!R:R)))","v":""},{"$f":"IF(ISNA(A161),\"\",IF(LEN(LOOKUP(B161,Database!A:A,Database!S:S))=0,\"\",LOOKUP(B161,Database!A:A,Database!S:S)))","v":""},null,null,null,null,null,null,147,0,null,1,0,null,0.1]
[{"$error":"#N/A"},"2018-05-28",{"$f":"IF(ISNA(A162),\"\",IF(LEN(LOOKUP(B162,Database!A:A,Database!B:B))=0,\"\",LOOKUP(B162,Database!A:A,Database!B:B)))","v":""},{"$f":"IF(ISNA(A162),\"\",IF(LEN(LOOKUP(B162,Database!A:A,Database!C:C))=0,\"\",LOOKUP(B162,Database!A:A,Database!C:C)))","v":""},{"$f":"IF(ISNA(A162),\"\",IF(LEN(LOOKUP(B162,Database!A:A,Database!D:D))=0,\"\",LOOKUP(B162,Database!A:A,Database!D:D)))","v":""},{"$f":"IF(ISNA(A162),\"\",IF(LEN(LOOKUP(B162,Database!A:A,Database!E:E))=0,\"\",LOOKUP(B162,Database!A:A,Database!E:E)))","v":""},{"$f":"IF(ISNA(A162),\"\",IF(LEN(LOOKUP(B162,Database!A:A,Database!F:F))=0,\"\",LOOKUP(B162,Database!A:A,Database!F:F)))","v":""},{"$f":"IF(ISNA(A162),\"\",IF(LEN(LOOKUP(B162,Database!A:A,Database!G:G))=0,\"\",LOOKUP(B162,Database!A:A,Database!G:G)))","v":""},{"$f":"IF(ISNA(A162),\"\",IF(LEN(LOOKUP(B162,Database!A:A,Database!H:H))=0,\"\",LOOKUP(B162,Database!A:A,Database!H:H)))","v":""},{"$f":"IF(ISNA(A162),\"\",IF(LEN(LOOKUP(B162,Database!A:A,Database!I:I))=0,\"\",LOOKUP(B162,Database!A:A,Database!I:I)))","v":""},{"$f":"IF(ISNA(A162),\"\",IF(LEN(LOOKUP(B162,Database!A:A,Database!J:J))=0,\"\",LOOKUP(B162,Database!A:A,Database!J:J)))","v":""},{"$f":"IF(ISNA(A162),\"\",IF(LEN(LOOKUP(B162,Database!A:A,Database!K:K))=0,\"\",LOOKUP(B162,Database!A:A,Database!K:K)))","v":""},{"$f":"IF(ISNA(A162),\"\",IF(LEN(LOOKUP(B162,Database!A:A,Database!L:L))=0,\"\",LOOKUP(B162,Database!A:A,Database!L:L)))","v":""},{"$f":"IF(ISNA(A162),\"\",IF(LEN(LOOKUP(B162,Database!A:A,Database!M:M))=0,\"\",LOOKUP(B162,Database!A:A,Database!M:M)))","v":""},{"$f":"IF(ISNA(A162),\"\",IF(LEN(LOOKUP(B162,Database!A:A,Database!N:N))=0,\"\",LOOKUP(B162,Database!A:A,Database!N:N)))","v":""},{"$f":"IF(ISNA(A162),\"\",IF(LEN(LOOKUP(B162,Database!A:A,Database!O:O))=0,\"\",LOOKUP(B162,Database!A:A,Database!O:O)))","v":""},{"$f":"IF(ISNA(A162),\"\",IF(LEN(LOOKUP(B162,Database!A:A,Database!P:P))=0,\"\",LOOKUP(B162,Database!A:A,Database!P:P)))","v":""},{"$f":"IF(ISNA(A162),\"\",IF(LEN(LOOKUP(B162,Database!A:A,Database!Q:Q))=0,\"\",LOOKUP(B162,Database!A:A,Database!Q:Q)))","v":""},{"$f":"IF(ISNA(A162),\"\",IF(LEN(LOOKUP(B162,Database!A:A,Database!R:R))=0,\"\",LOOKUP(B162,Database!A:A,Database!R:R)))","v":""},{"$f":"IF(ISNA(A162),\"\",IF(LEN(LOOKUP(B162,Database!A:A,Database!S:S))=0,\"\",LOOKUP(B162,Database!A:A,Database!S:S)))","v":""},null,null,null,null,null,null,148,0,null,1,0,null,0.1]
[{"$error":"#N/A"},"2018-05-29",{"$f":"IF(ISNA(A163),\"\",IF(LEN(LOOKUP(B163,Database!A:A,Database!B:B))=0,\"\",LOOKUP(B163,Database!A:A,Database!B:B)))","v":""},{"$f":"IF(ISNA(A163),\"\",IF(LEN(LOOKUP(B163,Database!A:A,Database!C:C))=0,\"\",LOOKUP(B163,Database!A:A,Database!C:C)))","v":""},{"$f":"IF(ISNA(A163),\"\",IF(LEN(LOOKUP(B163,Database!A:A,Database!D:D))=0,\"\",LOOKUP(B163,Database!A:A,Database!D:D)))","v":""},{"$f":"IF(ISNA(A163),\"\",IF(LEN(LOOKUP(B163,Database!A:A,Database!E:E))=0,\"\",LOOKUP(B163,Database!A:A,Database!E:E)))","v":""},{"$f":"IF(ISNA(A163),\"\",IF(LEN(LOOKUP(B163,Database!A:A,Database!F:F))=0,\"\",LOOKUP(B163,Database!A:A,Database!F:F)))","v":""},{"$f":"IF(ISNA(A163),\"\",IF(LEN(LOOKUP(B163,Database!A:A,Database!G:G))=0,\"\",LOOKUP(B163,Database!A:A,Database!G:G)))","v":""},{"$f":"IF(ISNA(A163),\"\",IF(LEN(LOOKUP(B163,Database!A:A,Database!H:H))=0,\"\",LOOKUP(B163,Database!A:A,Database!H:H)))","v":""},{"$f":"IF(ISNA(A163),\"\",IF(LEN(LOOKUP(B163,Database!A:A,Database!I:I))=0,\"\",LOOKUP(B163,Database!A:A,Database!I:I)))","v":""},{"$f":"IF(ISNA(A163),\"\",IF(LEN(LOOKUP(B163,Database!A:A,Database!J:J))=0,\"\",LOOKUP(B163,Database!A:A,Database!J:J)))","v":""},{"$f":"IF(ISNA(A163),\"\",IF(LEN(LOOKUP(B163,Database!A:A,Database!K:K))=0,\"\",LOOKUP(B163,Database!A:A,Database!K:K)))","v":""},{"$f":"IF(ISNA(A163),\"\",IF(LEN(LOOKUP(B163,Database!A:A,Database!L:L))=0,\"\",LOOKUP(B163,Database!A:A,Database!L:L)))","v":""},{"$f":"IF(ISNA(A163),\"\",IF(LEN(LOOKUP(B163,Database!A:A,Database!M:M))=0,\"\",LOOKUP(B163,Database!A:A,Database!M:M)))","v":""},{"$f":"IF(ISNA(A163),\"\",IF(LEN(LOOKUP(B163,Database!A:A,Database!N:N))=0,\"\",LOOKUP(B163,Database!A:A,Database!N:N)))","v":""},{"$f":"IF(ISNA(A163),\"\",IF(LEN(LOOKUP(B163,Database!A:A,Database!O:O))=0,\"\",LOOKUP(B163,Database!A:A,Database!O:O)))","v":""},{"$f":"IF(ISNA(A163),\"\",IF(LEN(LOOKUP(B163,Database!A:A,Database!P:P))=0,\"\",LOOKUP(B163,Database!A:A,Database!P:P)))","v":""},{"$f":"IF(ISNA(A163),\"\",IF(LEN(LOOKUP(B163,Database!A:A,Database!Q:Q))=0,\"\",LOOKUP(B163,Database!A:A,Database!Q:Q)))","v":""},{"$f":"IF(ISNA(A163),\"\",IF(LEN(LOOKUP(B163,Database!A:A,Database!R:R))=0,\"\",LOOKUP(B163,Database!A:A,Database!R:R)))","v":""},{"$f":"IF(ISNA(A163),\"\",IF(LEN(LOOKUP(B163,Database!A:A,Database!S:S))=0,\"\",LOOKUP(B163,Database!A:A,Database!S:S)))","v":""},null,null,null,null,null,null,149,0,null,1,0,null,0.1]
[{"$error":"#N/A"},"2018-05-30",{"$f":"IF(ISNA(A164),\"\",IF(LEN(LOOKUP(B164,Database!A:A,Database!B:B))=0,\"\",LOOKUP(B164,Database!A:A,Database!B:B)))","v":""},{"$f":"IF(ISNA(A164),\"\",IF(LEN(LOOKUP(B164,Database!A:A,Database!C:C))=0,\"\",LOOKUP(B164,Database!A:A,Database!C:C)))","v":""},{"$f":"IF(ISNA(A164),\"\",IF(LEN(LOOKUP(B164,Database!A:A,Database!D:D))=0,\"\",LOOKUP(B164,Database!A:A,Database!D:D)))","v":""},{"$f":"IF(ISNA(A164),\"\",IF(LEN(LOOKUP(B164,Database!A:A,Database!E:E))=0,\"\",LOOKUP(B164,Database!A:A,Database!E:E)))","v":""},{"$f":"IF(ISNA(A164),\"\",IF(LEN(LOOKUP(B164,Database!A:A,Database!F:F))=0,\"\",LOOKUP(B164,Database!A:A,Database!F:F)))","v":""},{"$f":"IF(ISNA(A164),\"\",IF(LEN(LOOKUP(B164,Database!A:A,Database!G:G))=0,\"\",LOOKUP(B164,Database!A:A,Database!G:G)))","v":""},{"$f":"IF(ISNA(A164),\"\",IF(LEN(LOOKUP(B164,Database!A:A,Database!H:H))=0,\"\",LOOKUP(B164,Database!A:A,Database!H:H)))","v":""},{"$f":"IF(ISNA(A164),\"\",IF(LEN(LOOKUP(B164,Database!A:A,Database!I:I))=0,\"\",LOOKUP(B164,Database!A:A,Database!I:I)))","v":""},{"$f":"IF(ISNA(A164),\"\",IF(LEN(LOOKUP(B164,Database!A:A,Database!J:J))=0,\"\",LOOKUP(B164,Database!A:A,Database!J:J)))","v":""},{"$f":"IF(ISNA(A164),\"\",IF(LEN(LOOKUP(B164,Database!A:A,Database!K:K))=0,\"\",LOOKUP(B164,Database!A:A,Database!K:K)))","v":""},{"$f":"IF(ISNA(A164),\"\",IF(LEN(LOOKUP(B164,Database!A:A,Database!L:L))=0,\"\",LOOKUP(B164,Database!A:A,Database!L:L)))","v":""},{"$f":"IF(ISNA(A164),\"\",IF(LEN(LOOKUP(B164,Database!A:A,Database!M:M))=0,\"\",LOOKUP(B164,Database!A:A,Database!M:M)))","v":""},{"$f":"IF(ISNA(A164),\"\",IF(LEN(LOOKUP(B164,Database!A:A,Database!N:N))=0,\"\",LOOKUP(B164,Database!A:A,Database!N:N)))","v":""},{"$f":"IF(ISNA(A164),\"\",IF(LEN(LOOKUP(B164,Database!A:A,Database!O:O))=0,\"\",LOOKUP(B164,Database!A:A,Database!O:O)))","v":""},{"$f":"IF(ISNA(A164),\"\",IF(LEN(LOOKUP(B164,Database!A:A,Database!P:P))=0,\"\",LOOKUP(B164,Database!A:A,Database!P:P)))","v":""},{"$f":"IF(ISNA(A164),\"\",IF(LEN(LOOKUP(B164,Database!A:A,Database!Q:Q))=0,\"\",LOOKUP(B164,Database!A:A,Database!Q:Q)))","v":""},{"$f":"IF(ISNA(A164),\"\",IF(LEN(LOOKUP(B164,Database!A:A,Database!R:R))=0,\"\",LOOKUP(B164,Database!A:A,Database!R:R)))","v":""},{"$f":"IF(ISNA(A164),\"\",IF(LEN(LOOKUP(B164,Database!A:A,Database!S:S))=0,\"\",LOOKUP(B164,Database!A:A,Database!S:S)))","v":""},null,null,null,null,null,null,150,0,null,1,0,null,0.1]
[{"$error":"#N/A"},"2018-05-31",{"$f":"IF(ISNA(A165),\"\",IF(LEN(LOOKUP(B165,Database!A:A,Database!B:B))=0,\"\",LOOKUP(B165,Database!A:A,Database!B:B)))","v":""},{"$f":"IF(ISNA(A165),\"\",IF(LEN(LOOKUP(B165,Database!A:A,Database!C:C))=0,\"\",LOOKUP(B165,Database!A:A,Database!C:C)))","v":""},{"$f":"IF(ISNA(A165),\"\",IF(LEN(LOOKUP(B165,Database!A:A,Database!D:D))=0,\"\",LOOKUP(B165,Database!A:A,Database!D:D)))","v":""},{"$f":"IF(ISNA(A165),\"\",IF(LEN(LOOKUP(B165,Database!A:A,Database!E:E))=0,\"\",LOOKUP(B165,Database!A:A,Database!E:E)))","v":""},{"$f":"IF(ISNA(A165),\"\",IF(LEN(LOOKUP(B165,Database!A:A,Database!F:F))=0,\"\",LOOKUP(B165,Database!A:A,Database!F:F)))","v":""},{"$f":"IF(ISNA(A165),\"\",IF(LEN(LOOKUP(B165,Database!A:A,Database!G:G))=0,\"\",LOOKUP(B165,Database!A:A,Database!G:G)))","v":""},{"$f":"IF(ISNA(A165),\"\",IF(LEN(LOOKUP(B165,Database!A:A,Database!H:H))=0,\"\",LOOKUP(B165,Database!A:A,Database!H:H)))","v":""},{"$f":"IF(ISNA(A165),\"\",IF(LEN(LOOKUP(B165,Database!A:A,Database!I:I))=0,\"\",LOOKUP(B165,Database!A:A,Database!I:I)))","v":""},{"$f":"IF(ISNA(A165),\"\",IF(LEN(LOOKUP(B165,Database!A:A,Database!J:J))=0,\"\",LOOKUP(B165,Database!A:A,Database!J:J)))","v":""},{"$f":"IF(ISNA(A165),\"\",IF(LEN(LOOKUP(B165,Database!A:A,Database!K:K))=0,\"\",LOOKUP(B165,Database!A:A,Database!K:K)))","v":""},{"$f":"IF(ISNA(A165),\"\",IF(LEN(LOOKUP(B165,Database!A:A,Database!L:L))=0,\"\",LOOKUP(B165,Database!A:A,Database!L:L)))","v":""},{"$f":"IF(ISNA(A165),\"\",IF(LEN(LOOKUP(B165,Database!A:A,Database!M:M))=0,\"\",LOOKUP(B165,Database!A:A,Database!M:M)))","v":""},{"$f":"IF(ISNA(A165),\"\",IF(LEN(LOOKUP(B165,Database!A:A,Database!N:N))=0,\"\",LOOKUP(B165,Database!A:A,Database!N:N)))","v":""},{"$f":"IF(ISNA(A165),\"\",IF(LEN(LOOKUP(B165,Database!A:A,Database!O:O))=0,\"\",LOOKUP(B165,Database!A:A,Database!O:O)))","v":""},{"$f":"IF(ISNA(A165),\"\",IF(LEN(LOOKUP(B165,Database!A:A,Database!P:P))=0,\"\",LOOKUP(B165,Database!A:A,Database!P:P)))","v":""},{"$f":"IF(ISNA(A165),\"\",IF(LEN(LOOKUP(B165,Database!A:A,Database!Q:Q))=0,\"\",LOOKUP(B165,Database!A:A,Database!Q:Q)))","v":""},{"$f":"IF(ISNA(A165),\"\",IF(LEN(LOOKUP(B165,Database!A:A,Database!R:R))=0,\"\",LOOKUP(B165,Database!A:A,Database!R:R)))","v":""},{"$f":"IF(ISNA(A165),\"\",IF(LEN(LOOKUP(B165,Database!A:A,Database!S:S))=0,\"\",LOOKUP(B165,Database!A:A,Database!S:S)))","v":""},null,null,null,null,null,null,151,0,null,1,0,null,0.1]
[{"$error":"#N/A"},"2018-06-01",{"$f":"IF(ISNA(A166),\"\",IF(LEN(LOOKUP(B166,Database!A:A,Database!B:B))=0,\"\",LOOKUP(B166,Database!A:A,Database!B:B)))","v":""},{"$f":"IF(ISNA(A166),\"\",IF(LEN(LOOKUP(B166,Database!A:A,Database!C:C))=0,\"\",LOOKUP(B166,Database!A:A,Database!C:C)))","v":""},{"$f":"IF(ISNA(A166),\"\",IF(LEN(LOOKUP(B166,Database!A:A,Database!D:D))=0,\"\",LOOKUP(B166,Database!A:A,Database!D:D)))","v":""},{"$f":"IF(ISNA(A166),\"\",IF(LEN(LOOKUP(B166,Database!A:A,Database!E:E))=0,\"\",LOOKUP(B166,Database!A:A,Database!E:E)))","v":""},{"$f":"IF(ISNA(A166),\"\",IF(LEN(LOOKUP(B166,Database!A:A,Database!F:F))=0,\"\",LOOKUP(B166,Database!A:A,Database!F:F)))","v":""},{"$f":"IF(ISNA(A166),\"\",IF(LEN(LOOKUP(B166,Database!A:A,Database!G:G))=0,\"\",LOOKUP(B166,Database!A:A,Database!G:G)))","v":""},{"$f":"IF(ISNA(A166),\"\",IF(LEN(LOOKUP(B166,Database!A:A,Database!H:H))=0,\"\",LOOKUP(B166,Database!A:A,Database!H:H)))","v":""},{"$f":"IF(ISNA(A166),\"\",IF(LEN(LOOKUP(B166,Database!A:A,Database!I:I))=0,\"\",LOOKUP(B166,Database!A:A,Database!I:I)))","v":""},{"$f":"IF(ISNA(A166),\"\",IF(LEN(LOOKUP(B166,Database!A:A,Database!J:J))=0,\"\",LOOKUP(B166,Database!A:A,Database!J:J)))","v":""},{"$f":"IF(ISNA(A166),\"\",IF(LEN(LOOKUP(B166,Database!A:A,Database!K:K))=0,\"\",LOOKUP(B166,Database!A:A,Database!K:K)))","v":""},{"$f":"IF(ISNA(A166),\"\",IF(LEN(LOOKUP(B166,Database!A:A,Database!L:L))=0,\"\",LOOKUP(B166,Database!A:A,Database!L:L)))","v":""},{"$f":"IF(ISNA(A166),\"\",IF(LEN(LOOKUP(B166,Database!A:A,Database!M:M))=0,\"\",LOOKUP(B166,Database!A:A,Database!M:M)))","v":""},{"$f":"IF(ISNA(A166),\"\",IF(LEN(LOOKUP(B166,Database!A:A,Database!N:N))=0,\"\",LOOKUP(B166,Database!A:A,Database!N:N)))","v":""},{"$f":"IF(ISNA(A166),\"\",IF(LEN(LOOKUP(B166,Database!A:A,Database!O:O))=0,\"\",LOOKUP(B166,Database!A:A,Database!O:O)))","v":""},{"$f":"IF(ISNA(A166),\"\",IF(LEN(LOOKUP(B166,Database!A:A,Database!P:P))=0,\"\",LOOKUP(B166,Database!A:A,Database!P:P)))","v":""},{"$f":"IF(ISNA(A166),\"\",IF(LEN(LOOKUP(B166,Database!A:A,Database!Q:Q))=0,\"\",LOOKUP(B166,Database!A:A,Database!Q:Q)))","v":""},{"$f":"IF(ISNA(A166),\"\",IF(LEN(LOOKUP(B166,Database!A:A,Database!R:R))=0,\"\",LOOKUP(B166,Database!A:A,Database!R:R)))","v":""},{"$f":"IF(ISNA(A166),\"\",IF(LEN(LOOKUP(B166,Database!A:A,Database!S:S))=0,\"\",LOOKUP(B166,Database!A:A,Database!S:S)))","v":""},null,null,null,null,null,null,152,0,null,1,0,null,0.1]
[{"$error":"#N/A"},"2018-06-02",{"$f":"IF(ISNA(A167),\"\",IF(LEN(LOOKUP(B167,Database!A:A,Database!B:B))=0,\"\",LOOKUP(B167,Database!A:A,Database!B:B)))","v":""},{"$f":"IF(ISNA(A167),\"\",IF(LEN(LOOKUP(B167,Database!A:A,Database!C:C))=0,\"\",LOOKUP(B167,Database!A:A,Database!C:C)))","v":""},{"$f":"IF(ISNA(A167),\"\",IF(LEN(LOOKUP(B167,Database!A:A,Database!D:D))=0,\"\",LOOKUP(B167,Database!A:A,Database!D:D)))","v":""},{"$f":"IF(ISNA(A167),\"\",IF(LEN(LOOKUP(B167,Database!A:A,Database!E:E))=0,\"\",LOOKUP(B167,Database!A:A,Database!E:E)))","v":""},{"$f":"IF(ISNA(A167),\"\",IF(LEN(LOOKUP(B167,Database!A:A,Database!F:F))=0,\"\",LOOKUP(B167,Database!A:A,Database!F:F)))","v":""},{"$f":"IF(ISNA(A167),\"\",IF(LEN(LOOKUP(B167,Database!A:A,Database!G:G))=0,\"\",LOOKUP(B167,Database!A:A,Database!G:G)))","v":""},{"$f":"IF(ISNA(A167),\"\",IF(LEN(LOOKUP(B167,Database!A:A,Database!H:H))=0,\"\",LOOKUP(B167,Database!A:A,Database!H:H)))","v":""},{"$f":"IF(ISNA(A167),\"\",IF(LEN(LOOKUP(B167,Database!A:A,Database!I:I))=0,\"\",LOOKUP(B167,Database!A:A,Database!I:I)))","v":""},{"$f":"IF(ISNA(A167),\"\",IF(LEN(LOOKUP(B167,Database!A:A,Database!J:J))=0,\"\",LOOKUP(B167,Database!A:A,Database!J:J)))","v":""},{"$f":"IF(ISNA(A167),\"\",IF(LEN(LOOKUP(B167,Database!A:A,Database!K:K))=0,\"\",LOOKUP(B167,Database!A:A,Database!K:K)))","v":""},{"$f":"IF(ISNA(A167),\"\",IF(LEN(LOOKUP(B167,Database!A:A,Database!L:L))=0,\"\",LOOKUP(B167,Database!A:A,Database!L:L)))","v":""},{"$f":"IF(ISNA(A167),\"\",IF(LEN(LOOKUP(B167,Database!A:A,Database!M:M))=0,\"\",LOOKUP(B167,Database!A:A,Database!M:M)))","v":""},{"$f":"IF(ISNA(A167),\"\",IF(LEN(LOOKUP(B167,Database!A:A,Database!N:N))=0,\"\",LOOKUP(B167,Database!A:A,Database!N:N)))","v":""},{"$f":"IF(ISNA(A167),\"\",IF(LEN(LOOKUP(B167,Database!A:A,Database!O:O))=0,\"\",LOOKUP(B167,Database!A:A,Database!O:O)))","v":""},{"$f":"IF(ISNA(A167),\"\",IF(LEN(LOOKUP(B167,Database!A:A,Database!P:P))=0,\"\",LOOKUP(B167,Database!A:A,Database!P:P)))","v":""},{"$f":"IF(ISNA(A167),\"\",IF(LEN(LOOKUP(B167,Database!A:A,Database!Q:Q))=0,\"\",LOOKUP(B167,Database!A:A,Database!Q:Q)))","v":""},{"$f":"IF(ISNA(A167),\"\",IF(LEN(LOOKUP(B167,Database!A:A,Database!R:R))=0,\"\",LOOKUP(B167,Database!A:A,Database!R:R)))","v":""},{"$f":"IF(ISNA(A167),\"\",IF(LEN(LOOKUP(B167,Database!A:A,Database!S:S))=0,\"\",LOOKUP(B167,Database!A:A,Database!S:S)))","v":""},null,null,null,null,null,null,153,0,null,1,0,null,0.1]
[{"$error":"#N/A"},"2018-06-03",{"$f":"IF(ISNA(A168),\"\",IF(LEN(LOOKUP(B168,Database!A:A,Database!B:B))=0,\"\",LOOKUP(B168,Database!A:A,Database!B:B)))","v":""},{"$f":"IF(ISNA(A168),\"\",IF(LEN(LOOKUP(B168,Database!A:A,Database!C:C))=0,\"\",LOOKUP(B168,Database!A:A,Database!C:C)))","v":""},{"$f":"IF(ISNA(A168),\"\",IF(LEN(LOOKUP(B168,Database!A:A,Database!D:D))=0,\"\",LOOKUP(B168,Database!A:A,Database!D:D)))","v":""},{"$f":"IF(ISNA(A168),\"\",IF(LEN(LOOKUP(B168,Database!A:A,Database!E:E))=0,\"\",LOOKUP(B168,Database!A:A,Database!E:E)))","v":""},{"$f":"IF(ISNA(A168),\"\",IF(LEN(LOOKUP(B168,Database!A:A,Database!F:F))=0,\"\",LOOKUP(B168,Database!A:A,Database!F:F)))","v":""},{"$f":"IF(ISNA(A168),\"\",IF(LEN(LOOKUP(B168,Database!A:A,Database!G:G))=0,\"\",LOOKUP(B168,Database!A:A,Database!G:G)))","v":""},{"$f":"IF(ISNA(A168),\"\",IF(LEN(LOOKUP(B168,Database!A:A,Database!H:H))=0,\"\",LOOKUP(B168,Database!A:A,Database!H:H)))","v":""},{"$f":"IF(ISNA(A168),\"\",IF(LEN(LOOKUP(B168,Database!A:A,Database!I:I))=0,\"\",LOOKUP(B168,Database!A:A,Database!I:I)))","v":""},{"$f":"IF(ISNA(A168),\"\",IF(LEN(LOOKUP(B168,Database!A:A,Database!J:J))=0,\"\",LOOKUP(B168,Database!A:A,Database!J:J)))","v":""},{"$f":"IF(ISNA(A168),\"\",IF(LEN(LOOKUP(B168,Database!A:A,Database!K:K))=0,\"\",LOOKUP(B168,Database!A:A,Database!K:K)))","v":""},{"$f":"IF(ISNA(A168),\"\",IF(LEN(LOOKUP(B168,Database!A:A,Database!L:L))=0,\"\",LOOKUP(B168,Database!A:A,Database!L:L)))","v":""},{"$f":"IF(ISNA(A168),\"\",IF(LEN(LOOKUP(B168,Database!A:A,Database!M:M))=0,\"\",LOOKUP(B168,Database!A:A,Database!M:M)))","v":""},{"$f":"IF(ISNA(A168),\"\",IF(LEN(LOOKUP(B168,Database!A:A,Database!N:N))=0,\"\",LOOKUP(B168,Database!A:A,Database!N:N)))","v":""},{"$f":"IF(ISNA(A168),\"\",IF(LEN(LOOKUP(B168,Database!A:A,Database!O:O))=0,\"\",LOOKUP(B168,Database!A:A,Database!O:O)))","v":""},{"$f":"IF(ISNA(A168),\"\",IF(LEN(LOOKUP(B168,Database!A:A,Database!P:P))=0,\"\",LOOKUP(B168,Database!A:A,Database!P:P)))","v":""},{"$f":"IF(ISNA(A168),\"\",IF(LEN(LOOKUP(B168,Database!A:A,Database!Q:Q))=0,\"\",LOOKUP(B168,Database!A:A,Database!Q:Q)))","v":""},{"$f":"IF(ISNA(A168),\"\",IF(LEN(LOOKUP(B168,Database!A:A,Database!R:R))=0,\"\",LOOKUP(B168,Database!A:A,Database!R:R)))","v":""},{"$f":"IF(ISNA(A168),\"\",IF(LEN(LOOKUP(B168,Database!A:A,Database!S:S))=0,\"\",LOOKUP(B168,Database!A:A,Database!S:S)))","v":""},null,null,null,null,null,null,154,0,null,1,0,null,0.1]
[{"$error":"#N/A"},"2018-06-04",{"$f":"IF(ISNA(A169),\"\",IF(LEN(LOOKUP(B169,Database!A:A,Database!B:B))=0,\"\",LOOKUP(B169,Database!A:A,Database!B:B)))","v":""},{"$f":"IF(ISNA(A169),\"\",IF(LEN(LOOKUP(B169,Database!A:A,Database!C:C))=0,\"\",LOOKUP(B169,Database!A:A,Database!C:C)))","v":""},{"$f":"IF(ISNA(A169),\"\",IF(LEN(LOOKUP(B169,Database!A:A,Database!D:D))=0,\"\",LOOKUP(B169,Database!A:A,Database!D:D)))","v":""},{"$f":"IF(ISNA(A169),\"\",IF(LEN(LOOKUP(B169,Database!A:A,Database!E:E))=0,\"\",LOOKUP(B169,Database!A:A,Database!E:E)))","v":""},{"$f":"IF(ISNA(A169),\"\",IF(LEN(LOOKUP(B169,Database!A:A,Database!F:F))=0,\"\",LOOKUP(B169,Database!A:A,Database!F:F)))","v":""},{"$f":"IF(ISNA(A169),\"\",IF(LEN(LOOKUP(B169,Database!A:A,Database!G:G))=0,\"\",LOOKUP(B169,Database!A:A,Database!G:G)))","v":""},{"$f":"IF(ISNA(A169),\"\",IF(LEN(LOOKUP(B169,Database!A:A,Database!H:H))=0,\"\",LOOKUP(B169,Database!A:A,Database!H:H)))","v":""},{"$f":"IF(ISNA(A169),\"\",IF(LEN(LOOKUP(B169,Database!A:A,Database!I:I))=0,\"\",LOOKUP(B169,Database!A:A,Database!I:I)))","v":""},{"$f":"IF(ISNA(A169),\"\",IF(LEN(LOOKUP(B169,Database!A:A,Database!J:J))=0,\"\",LOOKUP(B169,Database!A:A,Database!J:J)))","v":""},{"$f":"IF(ISNA(A169),\"\",IF(LEN(LOOKUP(B169,Database!A:A,Database!K:K))=0,\"\",LOOKUP(B169,Database!A:A,Database!K:K)))","v":""},{"$f":"IF(ISNA(A169),\"\",IF(LEN(LOOKUP(B169,Database!A:A,Database!L:L))=0,\"\",LOOKUP(B169,Database!A:A,Database!L:L)))","v":""},{"$f":"IF(ISNA(A169),\"\",IF(LEN(LOOKUP(B169,Database!A:A,Database!M:M))=0,\"\",LOOKUP(B169,Database!A:A,Database!M:M)))","v":""},{"$f":"IF(ISNA(A169),\"\",IF(LEN(LOOKUP(B169,Database!A:A,Database!N:N))=0,\"\",LOOKUP(B169,Database!A:A,Database!N:N)))","v":""},{"$f":"IF(ISNA(A169),\"\",IF(LEN(LOOKUP(B169,Database!A:A,Database!O:O))=0,\"\",LOOKUP(B169,Database!A:A,Database!O:O)))","v":""},{"$f":"IF(ISNA(A169),\"\",IF(LEN(LOOKUP(B169,Database!A:A,Database!P:P))=0,\"\",LOOKUP(B169,Database!A:A,Database!P:P)))","v":""},{"$f":"IF(ISNA(A169),\"\",IF(LEN(LOOKUP(B169,Database!A:A,Database!Q:Q))=0,\"\",LOOKUP(B169,Database!A:A,Database!Q:Q)))","v":""},{"$f":"IF(ISNA(A169),\"\",IF(LEN(LOOKUP(B169,Database!A:A,Database!R:R))=0,\"\",LOOKUP(B169,Database!A:A,Database!R:R)))","v":""},{"$f":"IF(ISNA(A169),\"\",IF(LEN(LOOKUP(B169,Database!A:A,Database!S:S))=0,\"\",LOOKUP(B169,Database!A:A,Database!S:S)))","v":""},null,null,null,null,null,null,155,0,null,1,0,null,0.1]
[{"$error":"#N/A"},"2018-06-05",{"$f":"IF(ISNA(A170),\"\",IF(LEN(LOOKUP(B170,Database!A:A,Database!B:B))=0,\"\",LOOKUP(B170,Database!A:A,Database!B:B)))","v":""},{"$f":"IF(ISNA(A170),\"\",IF(LEN(LOOKUP(B170,Database!A:A,Database!C:C))=0,\"\",LOOKUP(B170,Database!A:A,Database!C:C)))","v":""},{"$f":"IF(ISNA(A170),\"\",IF(LEN(LOOKUP(B170,Database!A:A,Database!D:D))=0,\"\",LOOKUP(B170,Database!A:A,Database!D:D)))","v":""},{"$f":"IF(ISNA(A170),\"\",IF(LEN(LOOKUP(B170,Database!A:A,Database!E:E))=0,\"\",LOOKUP(B170,Database!A:A,Database!E:E)))","v":""},{"$f":"IF(ISNA(A170),\"\",IF(LEN(LOOKUP(B170,Database!A:A,Database!F:F))=0,\"\",LOOKUP(B170,Database!A:A,Database!F:F)))","v":""},{"$f":"IF(ISNA(A170),\"\",IF(LEN(LOOKUP(B170,Database!A:A,Database!G:G))=0,\"\",LOOKUP(B170,Database!A:A,Database!G:G)))","v":""},{"$f":"IF(ISNA(A170),\"\",IF(LEN(LOOKUP(B170,Database!A:A,Database!H:H))=0,\"\",LOOKUP(B170,Database!A:A,Database!H:H)))","v":""},{"$f":"IF(ISNA(A170),\"\",IF(LEN(LOOKUP(B170,Database!A:A,Database!I:I))=0,\"\",LOOKUP(B170,Database!A:A,Database!I:I)))","v":""},{"$f":"IF(ISNA(A170),\"\",IF(LEN(LOOKUP(B170,Database!A:A,Database!J:J))=0,\"\",LOOKUP(B170,Database!A:A,Database!J:J)))","v":""},{"$f":"IF(ISNA(A170),\"\",IF(LEN(LOOKUP(B170,Database!A:A,Database!K:K))=0,\"\",LOOKUP(B170,Database!A:A,Database!K:K)))","v":""},{"$f":"IF(ISNA(A170),\"\",IF(LEN(LOOKUP(B170,Database!A:A,Database!L:L))=0,\"\",LOOKUP(B170,Database!A:A,Database!L:L)))","v":""},{"$f":"IF(ISNA(A170),\"\",IF(LEN(LOOKUP(B170,Database!A:A,Database!M:M))=0,\"\",LOOKUP(B170,Database!A:A,Database!M:M)))","v":""},{"$f":"IF(ISNA(A170),\"\",IF(LEN(LOOKUP(B170,Database!A:A,Database!N:N))=0,\"\",LOOKUP(B170,Database!A:A,Database!N:N)))","v":""},{"$f":"IF(ISNA(A170),\"\",IF(LEN(LOOKUP(B170,Database!A:A,Database!O:O))=0,\"\",LOOKUP(B170,Database!A:A,Database!O:O)))","v":""},{"$f":"IF(ISNA(A170),\"\",IF(LEN(LOOKUP(B170,Database!A:A,Database!P:P))=0,\"\",LOOKUP(B170,Database!A:A,Database!P:P)))","v":""},{"$f":"IF(ISNA(A170),\"\",IF(LEN(LOOKUP(B170,Database!A:A,Database!Q:Q))=0,\"\",LOOKUP(B170,Database!A:A,Database!Q:Q)))","v":""},{"$f":"IF(ISNA(A170),\"\",IF(LEN(LOOKUP(B170,Database!A:A,Database!R:R))=0,\"\",LOOKUP(B170,Database!A:A,Database!R:R)))","v":""},{"$f":"IF(ISNA(A170),\"\",IF(LEN(LOOKUP(B170,Database!A:A,Database!S:S))=0,\"\",LOOKUP(B170,Database!A:A,Database!S:S)))","v":""},null,null,null,null,null,null,156,0,null,1,0,null,0.1]
[{"$error":"#N/A"},"2018-06-06",{"$f":"IF(ISNA(A171),\"\",IF(LEN(LOOKUP(B171,Database!A:A,Database!B:B))=0,\"\",LOOKUP(B171,Database!A:A,Database!B:B)))","v":""},{"$f":"IF(ISNA(A171),\"\",IF(LEN(LOOKUP(B171,Database!A:A,Database!C:C))=0,\"\",LOOKUP(B171,Database!A:A,Database!C:C)))","v":""},{"$f":"IF(ISNA(A171),\"\",IF(LEN(LOOKUP(B171,Database!A:A,Database!D:D))=0,\"\",LOOKUP(B171,Database!A:A,Database!D:D)))","v":""},{"$f":"IF(ISNA(A171),\"\",IF(LEN(LOOKUP(B171,Database!A:A,Database!E:E))=0,\"\",LOOKUP(B171,Database!A:A,Database!E:E)))","v":""},{"$f":"IF(ISNA(A171),\"\",IF(LEN(LOOKUP(B171,Database!A:A,Database!F:F))=0,\"\",LOOKUP(B171,Database!A:A,Database!F:F)))","v":""},{"$f":"IF(ISNA(A171),\"\",IF(LEN(LOOKUP(B171,Database!A:A,Database!G:G))=0,\"\",LOOKUP(B171,Database!A:A,Database!G:G)))","v":""},{"$f":"IF(ISNA(A171),\"\",IF(LEN(LOOKUP(B171,Database!A:A,Database!H:H))=0,\"\",LOOKUP(B171,Database!A:A,Database!H:H)))","v":""},{"$f":"IF(ISNA(A171),\"\",IF(LEN(LOOKUP(B171,Database!A:A,Database!I:I))=0,\"\",LOOKUP(B171,Database!A:A,Database!I:I)))","v":""},{"$f":"IF(ISNA(A171),\"\",IF(LEN(LOOKUP(B171,Database!A:A,Database!J:J))=0,\"\",LOOKUP(B171,Database!A:A,Database!J:J)))","v":""},{"$f":"IF(ISNA(A171),\"\",IF(LEN(LOOKUP(B171,Database!A:A,Database!K:K))=0,\"\",LOOKUP(B171,Database!A:A,Database!K:K)))","v":""},{"$f":"IF(ISNA(A171),\"\",IF(LEN(LOOKUP(B171,Database!A:A,Database!L:L))=0,\"\",LOOKUP(B171,Database!A:A,Database!L:L)))","v":""},{"$f":"IF(ISNA(A171),\"\",IF(LEN(LOOKUP(B171,Database!A:A,Database!M:M))=0,\"\",LOOKUP(B171,Database!A:A,Database!M:M)))","v":""},{"$f":"IF(ISNA(A171),\"\",IF(LEN(LOOKUP(B171,Database!A:A,Database!N:N))=0,\"\",LOOKUP(B171,Database!A:A,Database!N:N)))","v":""},{"$f":"IF(ISNA(A171),\"\",IF(LEN(LOOKUP(B171,Database!A:A,Database!O:O))=0,\"\",LOOKUP(B171,Database!A:A,Database!O:O)))","v":""},{"$f":"IF(ISNA(A171),\"\",IF(LEN(LOOKUP(B171,Database!A:A,Database!P:P))=0,\"\",LOOKUP(B171,Database!A:A,Database!P:P)))","v":""},{"$f":"IF(ISNA(A171),\"\",IF(LEN(LOOKUP(B171,Database!A:A,Database!Q:Q))=0,\"\",LOOKUP(B171,Database!A:A,Database!Q:Q)))","v":""},{"$f":"IF(ISNA(A171),\"\",IF(LEN(LOOKUP(B171,Database!A:A,Database!R:R))=0,\"\",LOOKUP(B171,Database!A:A,Database!R:R)))","v":""},{"$f":"IF(ISNA(A171),\"\",IF(LEN(LOOKUP(B171,Database!A:A,Database!S:S))=0,\"\",LOOKUP(B171,Database!A:A,Database!S:S)))","v":""},null,null,null,null,null,null,157,0,null,1,0,null,0.1]
[{"$error":"#N/A"},"2018-06-07",{"$f":"IF(ISNA(A172),\"\",IF(LEN(LOOKUP(B172,Database!A:A,Database!B:B))=0,\"\",LOOKUP(B172,Database!A:A,Database!B:B)))","v":""},{"$f":"IF(ISNA(A172),\"\",IF(LEN(LOOKUP(B172,Database!A:A,Database!C:C))=0,\"\",LOOKUP(B172,Database!A:A,Database!C:C)))","v":""},{"$f":"IF(ISNA(A172),\"\",IF(LEN(LOOKUP(B172,Database!A:A,Database!D:D))=0,\"\",LOOKUP(B172,Database!A:A,Database!D:D)))","v":""},{"$f":"IF(ISNA(A172),\"\",IF(LEN(LOOKUP(B172,Database!A:A,Database!E:E))=0,\"\",LOOKUP(B172,Database!A:A,Database!E:E)))","v":""},{"$f":"IF(ISNA(A172),\"\",IF(LEN(LOOKUP(B172,Database!A:A,Database!F:F))=0,\"\",LOOKUP(B172,Database!A:A,Database!F:F)))","v":""},{"$f":"IF(ISNA(A172),\"\",IF(LEN(LOOKUP(B172,Database!A:A,Database!G:G))=0,\"\",LOOKUP(B172,Database!A:A,Database!G:G)))","v":""},{"$f":"IF(ISNA(A172),\"\",IF(LEN(LOOKUP(B172,Database!A:A,Database!H:H))=0,\"\",LOOKUP(B172,Database!A:A,Database!H:H)))","v":""},{"$f":"IF(ISNA(A172),\"\",IF(LEN(LOOKUP(B172,Database!A:A,Database!I:I))=0,\"\",LOOKUP(B172,Database!A:A,Database!I:I)))","v":""},{"$f":"IF(ISNA(A172),\"\",IF(LEN(LOOKUP(B172,Database!A:A,Database!J:J))=0,\"\",LOOKUP(B172,Database!A:A,Database!J:J)))","v":""},{"$f":"IF(ISNA(A172),\"\",IF(LEN(LOOKUP(B172,Database!A:A,Database!K:K))=0,\"\",LOOKUP(B172,Database!A:A,Database!K:K)))","v":""},{"$f":"IF(ISNA(A172),\"\",IF(LEN(LOOKUP(B172,Database!A:A,Database!L:L))=0,\"\",LOOKUP(B172,Database!A:A,Database!L:L)))","v":""},{"$f":"IF(ISNA(A172),\"\",IF(LEN(LOOKUP(B172,Database!A:A,Database!M:M))=0,\"\",LOOKUP(B172,Database!A:A,Database!M:M)))","v":""},{"$f":"IF(ISNA(A172),\"\",IF(LEN(LOOKUP(B172,Database!A:A,Database!N:N))=0,\"\",LOOKUP(B172,Database!A:A,Database!N:N)))","v":""},{"$f":"IF(ISNA(A172),\"\",IF(LEN(LOOKUP(B172,Database!A:A,Database!O:O))=0,\"\",LOOKUP(B172,Database!A:A,Database!O:O)))","v":""},{"$f":"IF(ISNA(A172),\"\",IF(LEN(LOOKUP(B172,Database!A:A,Database!P:P))=0,\"\",LOOKUP(B172,Database!A:A,Database!P:P)))","v":""},{"$f":"IF(ISNA(A172),\"\",IF(LEN(LOOKUP(B172,Database!A:A,Database!Q:Q))=0,\"\",LOOKUP(B172,Database!A:A,Database!Q:Q)))","v":""},{"$f":"IF(ISNA(A172),\"\",IF(LEN(LOOKUP(B172,Database!A:A,Database!R:R))=0,\"\",LOOKUP(B172,Database!A:A,Database!R:R)))","v":""},{"$f":"IF(ISNA(A172),\"\",IF(LEN(LOOKUP(B172,Database!A:A,Database!S:S))=0,\"\",LOOKUP(B172,Database!A:A,Database!S:S)))","v":""},null,null,null,null,null,null,158,0,null,1,0,null,0.1]
[{"$error":"#N/A"},"2018-06-08",{"$f":"IF(ISNA(A173),\"\",IF(LEN(LOOKUP(B173,Database!A:A,Database!B:B))=0,\"\",LOOKUP(B173,Database!A:A,Database!B:B)))","v":""},{"$f":"IF(ISNA(A173),\"\",IF(LEN(LOOKUP(B173,Database!A:A,Database!C:C))=0,\"\",LOOKUP(B173,Database!A:A,Database!C:C)))","v":""},{"$f":"IF(ISNA(A173),\"\",IF(LEN(LOOKUP(B173,Database!A:A,Database!D:D))=0,\"\",LOOKUP(B173,Database!A:A,Database!D:D)))","v":""},{"$f":"IF(ISNA(A173),\"\",IF(LEN(LOOKUP(B173,Database!A:A,Database!E:E))=0,\"\",LOOKUP(B173,Database!A:A,Database!E:E)))","v":""},{"$f":"IF(ISNA(A173),\"\",IF(LEN(LOOKUP(B173,Database!A:A,Database!F:F))=0,\"\",LOOKUP(B173,Database!A:A,Database!F:F)))","v":""},{"$f":"IF(ISNA(A173),\"\",IF(LEN(LOOKUP(B173,Database!A:A,Database!G:G))=0,\"\",LOOKUP(B173,Database!A:A,Database!G:G)))","v":""},{"$f":"IF(ISNA(A173),\"\",IF(LEN(LOOKUP(B173,Database!A:A,Database!H:H))=0,\"\",LOOKUP(B173,Database!A:A,Database!H:H)))","v":""},{"$f":"IF(ISNA(A173),\"\",IF(LEN(LOOKUP(B173,Database!A:A,Database!I:I))=0,\"\",LOOKUP(B173,Database!A:A,Database!I:I)))","v":""},{"$f":"IF(ISNA(A173),\"\",IF(LEN(LOOKUP(B173,Database!A:A,Database!J:J))=0,\"\",LOOKUP(B173,Database!A:A,Database!J:J)))","v":""},{"$f":"IF(ISNA(A173),\"\",IF(LEN(LOOKUP(B173,Database!A:A,Database!K:K))=0,\"\",LOOKUP(B173,Database!A:A,Database!K:K)))","v":""},{"$f":"IF(ISNA(A173),\"\",IF(LEN(LOOKUP(B173,Database!A:A,Database!L:L))=0,\"\",LOOKUP(B173,Database!A:A,Database!L:L)))","v":""},{"$f":"IF(ISNA(A173),\"\",IF(LEN(LOOKUP(B173,Database!A:A,Database!M:M))=0,\"\",LOOKUP(B173,Database!A:A,Database!M:M)))","v":""},{"$f":"IF(ISNA(A173),\"\",IF(LEN(LOOKUP(B173,Database!A:A,Database!N:N))=0,\"\",LOOKUP(B173,Database!A:A,Database!N:N)))","v":""},{"$f":"IF(ISNA(A173),\"\",IF(LEN(LOOKUP(B173,Database!A:A,Database!O:O))=0,\"\",LOOKUP(B173,Database!A:A,Database!O:O)))","v":""},{"$f":"IF(ISNA(A173),\"\",IF(LEN(LOOKUP(B173,Database!A:A,Database!P:P))=0,\"\",LOOKUP(B173,Database!A:A,Database!P:P)))","v":""},{"$f":"IF(ISNA(A173),\"\",IF(LEN(LOOKUP(B173,Database!A:A,Database!Q:Q))=0,\"\",LOOKUP(B173,Database!A:A,Database!Q:Q)))","v":""},{"$f":"IF(ISNA(A173),\"\",IF(LEN(LOOKUP(B173,Database!A:A,Database!R:R))=0,\"\",LOOKUP(B173,Database!A:A,Database!R:R)))","v":""},{"$f":"IF(ISNA(A173),\"\",IF(LEN(LOOKUP(B173,Database!A:A,Database!S:S))=0,\"\",LOOKUP(B173,Database!A:A,Database!S:S)))","v":""},null,null,null,null,null,null,159,0,null,1,0,null,0.1]
[{"$error":"#N/A"},"2018-06-09",{"$f":"IF(ISNA(A174),\"\",IF(LEN(LOOKUP(B174,Database!A:A,Database!B:B))=0,\"\",LOOKUP(B174,Database!A:A,Database!B:B)))","v":""},{"$f":"IF(ISNA(A174),\"\",IF(LEN(LOOKUP(B174,Database!A:A,Database!C:C))=0,\"\",LOOKUP(B174,Database!A:A,Database!C:C)))","v":""},{"$f":"IF(ISNA(A174),\"\",IF(LEN(LOOKUP(B174,Database!A:A,Database!D:D))=0,\"\",LOOKUP(B174,Database!A:A,Database!D:D)))","v":""},{"$f":"IF(ISNA(A174),\"\",IF(LEN(LOOKUP(B174,Database!A:A,Database!E:E))=0,\"\",LOOKUP(B174,Database!A:A,Database!E:E)))","v":""},{"$f":"IF(ISNA(A174),\"\",IF(LEN(LOOKUP(B174,Database!A:A,Database!F:F))=0,\"\",LOOKUP(B174,Database!A:A,Database!F:F)))","v":""},{"$f":"IF(ISNA(A174),\"\",IF(LEN(LOOKUP(B174,Database!A:A,Database!G:G))=0,\"\",LOOKUP(B174,Database!A:A,Database!G:G)))","v":""},{"$f":"IF(ISNA(A174),\"\",IF(LEN(LOOKUP(B174,Database!A:A,Database!H:H))=0,\"\",LOOKUP(B174,Database!A:A,Database!H:H)))","v":""},{"$f":"IF(ISNA(A174),\"\",IF(LEN(LOOKUP(B174,Database!A:A,Database!I:I))=0,\"\",LOOKUP(B174,Database!A:A,Database!I:I)))","v":""},{"$f":"IF(ISNA(A174),\"\",IF(LEN(LOOKUP(B174,Database!A:A,Database!J:J))=0,\"\",LOOKUP(B174,Database!A:A,Database!J:J)))","v":""},{"$f":"IF(ISNA(A174),\"\",IF(LEN(LOOKUP(B174,Database!A:A,Database!K:K))=0,\"\",LOOKUP(B174,Database!A:A,Database!K:K)))","v":""},{"$f":"IF(ISNA(A174),\"\",IF(LEN(LOOKUP(B174,Database!A:A,Database!L:L))=0,\"\",LOOKUP(B174,Database!A:A,Database!L:L)))","v":""},{"$f":"IF(ISNA(A174),\"\",IF(LEN(LOOKUP(B174,Database!A:A,Database!M:M))=0,\"\",LOOKUP(B174,Database!A:A,Database!M:M)))","v":""},{"$f":"IF(ISNA(A174),\"\",IF(LEN(LOOKUP(B174,Database!A:A,Database!N:N))=0,\"\",LOOKUP(B174,Database!A:A,Database!N:N)))","v":""},{"$f":"IF(ISNA(A174),\"\",IF(LEN(LOOKUP(B174,Database!A:A,Database!O:O))=0,\"\",LOOKUP(B174,Database!A:A,Database!O:O)))","v":""},{"$f":"IF(ISNA(A174),\"\",IF(LEN(LOOKUP(B174,Database!A:A,Database!P:P))=0,\"\",LOOKUP(B174,Database!A:A,Database!P:P)))","v":""},{"$f":"IF(ISNA(A174),\"\",IF(LEN(LOOKUP(B174,Database!A:A,Database!Q:Q))=0,\"\",LOOKUP(B174,Database!A:A,Database!Q:Q)))","v":""},{"$f":"IF(ISNA(A174),\"\",IF(LEN(LOOKUP(B174,Database!A:A,Database!R:R))=0,\"\",LOOKUP(B174,Database!A:A,Database!R:R)))","v":""},{"$f":"IF(ISNA(A174),\"\",IF(LEN(LOOKUP(B174,Database!A:A,Database!S:S))=0,\"\",LOOKUP(B174,Database!A:A,Database!S:S)))","v":""},null,null,null,null,null,null,160,0,null,1,0,null,0.1]
[{"$error":"#N/A"},"2018-06-10",{"$f":"IF(ISNA(A175),\"\",IF(LEN(LOOKUP(B175,Database!A:A,Database!B:B))=0,\"\",LOOKUP(B175,Database!A:A,Database!B:B)))","v":""},{"$f":"IF(ISNA(A175),\"\",IF(LEN(LOOKUP(B175,Database!A:A,Database!C:C))=0,\"\",LOOKUP(B175,Database!A:A,Database!C:C)))","v":""},{"$f":"IF(ISNA(A175),\"\",IF(LEN(LOOKUP(B175,Database!A:A,Database!D:D))=0,\"\",LOOKUP(B175,Database!A:A,Database!D:D)))","v":""},{"$f":"IF(ISNA(A175),\"\",IF(LEN(LOOKUP(B175,Database!A:A,Database!E:E))=0,\"\",LOOKUP(B175,Database!A:A,Database!E:E)))","v":""},{"$f":"IF(ISNA(A175),\"\",IF(LEN(LOOKUP(B175,Database!A:A,Database!F:F))=0,\"\",LOOKUP(B175,Database!A:A,Database!F:F)))","v":""},{"$f":"IF(ISNA(A175),\"\",IF(LEN(LOOKUP(B175,Database!A:A,Database!G:G))=0,\"\",LOOKUP(B175,Database!A:A,Database!G:G)))","v":""},{"$f":"IF(ISNA(A175),\"\",IF(LEN(LOOKUP(B175,Database!A:A,Database!H:H))=0,\"\",LOOKUP(B175,Database!A:A,Database!H:H)))","v":""},{"$f":"IF(ISNA(A175),\"\",IF(LEN(LOOKUP(B175,Database!A:A,Database!I:I))=0,\"\",LOOKUP(B175,Database!A:A,Database!I:I)))","v":""},{"$f":"IF(ISNA(A175),\"\",IF(LEN(LOOKUP(B175,Database!A:A,Database!J:J))=0,\"\",LOOKUP(B175,Database!A:A,Database!J:J)))","v":""},{"$f":"IF(ISNA(A175),\"\",IF(LEN(LOOKUP(B175,Database!A:A,Database!K:K))=0,\"\",LOOKUP(B175,Database!A:A,Database!K:K)))","v":""},{"$f":"IF(ISNA(A175),\"\",IF(LEN(LOOKUP(B175,Database!A:A,Database!L:L))=0,\"\",LOOKUP(B175,Database!A:A,Database!L:L)))","v":""},{"$f":"IF(ISNA(A175),\"\",IF(LEN(LOOKUP(B175,Database!A:A,Database!M:M))=0,\"\",LOOKUP(B175,Database!A:A,Database!M:M)))","v":""},{"$f":"IF(ISNA(A175),\"\",IF(LEN(LOOKUP(B175,Database!A:A,Database!N:N))=0,\"\",LOOKUP(B175,Database!A:A,Database!N:N)))","v":""},{"$f":"IF(ISNA(A175),\"\",IF(LEN(LOOKUP(B175,Database!A:A,Database!O:O))=0,\"\",LOOKUP(B175,Database!A:A,Database!O:O)))","v":""},{"$f":"IF(ISNA(A175),\"\",IF(LEN(LOOKUP(B175,Database!A:A,Database!P:P))=0,\"\",LOOKUP(B175,Database!A:A,Database!P:P)))","v":""},{"$f":"IF(ISNA(A175),\"\",IF(LEN(LOOKUP(B175,Database!A:A,Database!Q:Q))=0,\"\",LOOKUP(B175,Database!A:A,Database!Q:Q)))","v":""},{"$f":"IF(ISNA(A175),\"\",IF(LEN(LOOKUP(B175,Database!A:A,Database!R:R))=0,\"\",LOOKUP(B175,Database!A:A,Database!R:R)))","v":""},{"$f":"IF(ISNA(A175),\"\",IF(LEN(LOOKUP(B175,Database!A:A,Database!S:S))=0,\"\",LOOKUP(B175,Database!A:A,Database!S:S)))","v":""},null,null,null,null,null,null,161,0,null,1,0,null,0.1]
[{"$error":"#N/A"},"2018-06-11",{"$f":"IF(ISNA(A176),\"\",IF(LEN(LOOKUP(B176,Database!A:A,Database!B:B))=0,\"\",LOOKUP(B176,Database!A:A,Database!B:B)))","v":""},{"$f":"IF(ISNA(A176),\"\",IF(LEN(LOOKUP(B176,Database!A:A,Database!C:C))=0,\"\",LOOKUP(B176,Database!A:A,Database!C:C)))","v":""},{"$f":"IF(ISNA(A176),\"\",IF(LEN(LOOKUP(B176,Database!A:A,Database!D:D))=0,\"\",LOOKUP(B176,Database!A:A,Database!D:D)))","v":""},{"$f":"IF(ISNA(A176),\"\",IF(LEN(LOOKUP(B176,Database!A:A,Database!E:E))=0,\"\",LOOKUP(B176,Database!A:A,Database!E:E)))","v":""},{"$f":"IF(ISNA(A176),\"\",IF(LEN(LOOKUP(B176,Database!A:A,Database!F:F))=0,\"\",LOOKUP(B176,Database!A:A,Database!F:F)))","v":""},{"$f":"IF(ISNA(A176),\"\",IF(LEN(LOOKUP(B176,Database!A:A,Database!G:G))=0,\"\",LOOKUP(B176,Database!A:A,Database!G:G)))","v":""},{"$f":"IF(ISNA(A176),\"\",IF(LEN(LOOKUP(B176,Database!A:A,Database!H:H))=0,\"\",LOOKUP(B176,Database!A:A,Database!H:H)))","v":""},{"$f":"IF(ISNA(A176),\"\",IF(LEN(LOOKUP(B176,Database!A:A,Database!I:I))=0,\"\",LOOKUP(B176,Database!A:A,Database!I:I)))","v":""},{"$f":"IF(ISNA(A176),\"\",IF(LEN(LOOKUP(B176,Database!A:A,Database!J:J))=0,\"\",LOOKUP(B176,Database!A:A,Database!J:J)))","v":""},{"$f":"IF(ISNA(A176),\"\",IF(LEN(LOOKUP(B176,Database!A:A,Database!K:K))=0,\"\",LOOKUP(B176,Database!A:A,Database!K:K)))","v":""},{"$f":"IF(ISNA(A176),\"\",IF(LEN(LOOKUP(B176,Database!A:A,Database!L:L))=0,\"\",LOOKUP(B176,Database!A:A,Database!L:L)))","v":""},{"$f":"IF(ISNA(A176),\"\",IF(LEN(LOOKUP(B176,Database!A:A,Database!M:M))=0,\"\",LOOKUP(B176,Database!A:A,Database!M:M)))","v":""},{"$f":"IF(ISNA(A176),\"\",IF(LEN(LOOKUP(B176,Database!A:A,Database!N:N))=0,\"\",LOOKUP(B176,Database!A:A,Database!N:N)))","v":""},{"$f":"IF(ISNA(A176),\"\",IF(LEN(LOOKUP(B176,Database!A:A,Database!O:O))=0,\"\",LOOKUP(B176,Database!A:A,Database!O:O)))","v":""},{"$f":"IF(ISNA(A176),\"\",IF(LEN(LOOKUP(B176,Database!A:A,Database!P:P))=0,\"\",LOOKUP(B176,Database!A:A,Database!P:P)))","v":""},{"$f":"IF(ISNA(A176),\"\",IF(LEN(LOOKUP(B176,Database!A:A,Database!Q:Q))=0,\"\",LOOKUP(B176,Database!A:A,Database!Q:Q)))","v":""},{"$f":"IF(ISNA(A176),\"\",IF(LEN(LOOKUP(B176,Database!A:A,Database!R:R))=0,\"\",LOOKUP(B176,Database!A:A,Database!R:R)))","v":""},{"$f":"IF(ISNA(A176),\"\",IF(LEN(LOOKUP(B176,Database!A:A,Database!S:S))=0,\"\",LOOKUP(B176,Database!A:A,Database!S:S)))","v":""},null,null,null,null,null,null,162,0,null,1,0,null,0.1]
[{"$error":"#N/A"},"2018-06-12",{"$f":"IF(ISNA(A177),\"\",IF(LEN(LOOKUP(B177,Database!A:A,Database!B:B))=0,\"\",LOOKUP(B177,Database!A:A,Database!B:B)))","v":""},{"$f":"IF(ISNA(A177),\"\",IF(LEN(LOOKUP(B177,Database!A:A,Database!C:C))=0,\"\",LOOKUP(B177,Database!A:A,Database!C:C)))","v":""},{"$f":"IF(ISNA(A177),\"\",IF(LEN(LOOKUP(B177,Database!A:A,Database!D:D))=0,\"\",LOOKUP(B177,Database!A:A,Database!D:D)))","v":""},{"$f":"IF(ISNA(A177),\"\",IF(LEN(LOOKUP(B177,Database!A:A,Database!E:E))=0,\"\",LOOKUP(B177,Database!A:A,Database!E:E)))","v":""},{"$f":"IF(ISNA(A177),\"\",IF(LEN(LOOKUP(B177,Database!A:A,Database!F:F))=0,\"\",LOOKUP(B177,Database!A:A,Database!F:F)))","v":""},{"$f":"IF(ISNA(A177),\"\",IF(LEN(LOOKUP(B177,Database!A:A,Database!G:G))=0,\"\",LOOKUP(B177,Database!A:A,Database!G:G)))","v":""},{"$f":"IF(ISNA(A177),\"\",IF(LEN(LOOKUP(B177,Database!A:A,Database!H:H))=0,\"\",LOOKUP(B177,Database!A:A,Database!H:H)))","v":""},{"$f":"IF(ISNA(A177),\"\",IF(LEN(LOOKUP(B177,Database!A:A,Database!I:I))=0,\"\",LOOKUP(B177,Database!A:A,Database!I:I)))","v":""},{"$f":"IF(ISNA(A177),\"\",IF(LEN(LOOKUP(B177,Database!A:A,Database!J:J))=0,\"\",LOOKUP(B177,Database!A:A,Database!J:J)))","v":""},{"$f":"IF(ISNA(A177),\"\",IF(LEN(LOOKUP(B177,Database!A:A,Database!K:K))=0,\"\",LOOKUP(B177,Database!A:A,Database!K:K)))","v":""},{"$f":"IF(ISNA(A177),\"\",IF(LEN(LOOKUP(B177,Database!A:A,Database!L:L))=0,\"\",LOOKUP(B177,Database!A:A,Database!L:L)))","v":""},{"$f":"IF(ISNA(A177),\"\",IF(LEN(LOOKUP(B177,Database!A:A,Database!M:M))=0,\"\",LOOKUP(B177,Database!A:A,Database!M:M)))","v":""},{"$f":"IF(ISNA(A177),\"\",IF(LEN(LOOKUP(B177,Database!A:A,Database!N:N))=0,\"\",LOOKUP(B177,Database!A:A,Database!N:N)))","v":""},{"$f":"IF(ISNA(A177),\"\",IF(LEN(LOOKUP(B177,Database!A:A,Database!O:O))=0,\"\",LOOKUP(B177,Database!A:A,Database!O:O)))","v":""},{"$f":"IF(ISNA(A177),\"\",IF(LEN(LOOKUP(B177,Database!A:A,Database!P:P))=0,\"\",LOOKUP(B177,Database!A:A,Database!P:P)))","v":""},{"$f":"IF(ISNA(A177),\"\",IF(LEN(LOOKUP(B177,Database!A:A,Database!Q:Q))=0,\"\",LOOKUP(B177,Database!A:A,Database!Q:Q)))","v":""},{"$f":"IF(ISNA(A177),\"\",IF(LEN(LOOKUP(B177,Database!A:A,Database!R:R))=0,\"\",LOOKUP(B177,Database!A:A,Database!R:R)))","v":""},{"$f":"IF(ISNA(A177),\"\",IF(LEN(LOOKUP(B177,Database!A:A,Database!S:S))=0,\"\",LOOKUP(B177,Database!A:A,Database!S:S)))","v":""},null,null,null,null,null,null,163,0,null,1,0,null,0.1]
[{"$error":"#N/A"},"2018-06-13",{"$f":"IF(ISNA(A178),\"\",IF(LEN(LOOKUP(B178,Database!A:A,Database!B:B))=0,\"\",LOOKUP(B178,Database!A:A,Database!B:B)))","v":""},{"$f":"IF(ISNA(A178),\"\",IF(LEN(LOOKUP(B178,Database!A:A,Database!C:C))=0,\"\",LOOKUP(B178,Database!A:A,Database!C:C)))","v":""},{"$f":"IF(ISNA(A178),\"\",IF(LEN(LOOKUP(B178,Database!A:A,Database!D:D))=0,\"\",LOOKUP(B178,Database!A:A,Database!D:D)))","v":""},{"$f":"IF(ISNA(A178),\"\",IF(LEN(LOOKUP(B178,Database!A:A,Database!E:E))=0,\"\",LOOKUP(B178,Database!A:A,Database!E:E)))","v":""},{"$f":"IF(ISNA(A178),\"\",IF(LEN(LOOKUP(B178,Database!A:A,Database!F:F))=0,\"\",LOOKUP(B178,Database!A:A,Database!F:F)))","v":""},{"$f":"IF(ISNA(A178),\"\",IF(LEN(LOOKUP(B178,Database!A:A,Database!G:G))=0,\"\",LOOKUP(B178,Database!A:A,Database!G:G)))","v":""},{"$f":"IF(ISNA(A178),\"\",IF(LEN(LOOKUP(B178,Database!A:A,Database!H:H))=0,\"\",LOOKUP(B178,Database!A:A,Database!H:H)))","v":""},{"$f":"IF(ISNA(A178),\"\",IF(LEN(LOOKUP(B178,Database!A:A,Database!I:I))=0,\"\",LOOKUP(B178,Database!A:A,Database!I:I)))","v":""},{"$f":"IF(ISNA(A178),\"\",IF(LEN(LOOKUP(B178,Database!A:A,Database!J:J))=0,\"\",LOOKUP(B178,Database!A:A,Database!J:J)))","v":""},{"$f":"IF(ISNA(A178),\"\",IF(LEN(LOOKUP(B178,Database!A:A,Database!K:K))=0,\"\",LOOKUP(B178,Database!A:A,Database!K:K)))","v":""},{"$f":"IF(ISNA(A178),\"\",IF(LEN(LOOKUP(B178,Database!A:A,Database!L:L))=0,\"\",LOOKUP(B178,Database!A:A,Database!L:L)))","v":""},{"$f":"IF(ISNA(A178),\"\",IF(LEN(LOOKUP(B178,Database!A:A,Database!M:M))=0,\"\",LOOKUP(B178,Database!A:A,Database!M:M)))","v":""},{"$f":"IF(ISNA(A178),\"\",IF(LEN(LOOKUP(B178,Database!A:A,Database!N:N))=0,\"\",LOOKUP(B178,Database!A:A,Database!N:N)))","v":""},{"$f":"IF(ISNA(A178),\"\",IF(LEN(LOOKUP(B178,Database!A:A,Database!O:O))=0,\"\",LOOKUP(B178,Database!A:A,Database!O:O)))","v":""},{"$f":"IF(ISNA(A178),\"\",IF(LEN(LOOKUP(B178,Database!A:A,Database!P:P))=0,\"\",LOOKUP(B178,Database!A:A,Database!P:P)))","v":""},{"$f":"IF(ISNA(A178),\"\",IF(LEN(LOOKUP(B178,Database!A:A,Database!Q:Q))=0,\"\",LOOKUP(B178,Database!A:A,Database!Q:Q)))","v":""},{"$f":"IF(ISNA(A178),\"\",IF(LEN(LOOKUP(B178,Database!A:A,Database!R:R))=0,\"\",LOOKUP(B178,Database!A:A,Database!R:R)))","v":""},{"$f":"IF(ISNA(A178),\"\",IF(LEN(LOOKUP(B178,Database!A:A,Database!S:S))=0,\"\",LOOKUP(B178,Database!A:A,Database!S:S)))","v":""},null,null,null,null,null,null,164,0,null,1,0,null,0.1]
[{"$error":"#N/A"},"2018-06-14",{"$f":"IF(ISNA(A179),\"\",IF(LEN(LOOKUP(B179,Database!A:A,Database!B:B))=0,\"\",LOOKUP(B179,Database!A:A,Database!B:B)))","v":""},{"$f":"IF(ISNA(A179),\"\",IF(LEN(LOOKUP(B179,Database!A:A,Database!C:C))=0,\"\",LOOKUP(B179,Database!A:A,Database!C:C)))","v":""},{"$f":"IF(ISNA(A179),\"\",IF(LEN(LOOKUP(B179,Database!A:A,Database!D:D))=0,\"\",LOOKUP(B179,Database!A:A,Database!D:D)))","v":""},{"$f":"IF(ISNA(A179),\"\",IF(LEN(LOOKUP(B179,Database!A:A,Database!E:E))=0,\"\",LOOKUP(B179,Database!A:A,Database!E:E)))","v":""},{"$f":"IF(ISNA(A179),\"\",IF(LEN(LOOKUP(B179,Database!A:A,Database!F:F))=0,\"\",LOOKUP(B179,Database!A:A,Database!F:F)))","v":""},{"$f":"IF(ISNA(A179),\"\",IF(LEN(LOOKUP(B179,Database!A:A,Database!G:G))=0,\"\",LOOKUP(B179,Database!A:A,Database!G:G)))","v":""},{"$f":"IF(ISNA(A179),\"\",IF(LEN(LOOKUP(B179,Database!A:A,Database!H:H))=0,\"\",LOOKUP(B179,Database!A:A,Database!H:H)))","v":""},{"$f":"IF(ISNA(A179),\"\",IF(LEN(LOOKUP(B179,Database!A:A,Database!I:I))=0,\"\",LOOKUP(B179,Database!A:A,Database!I:I)))","v":""},{"$f":"IF(ISNA(A179),\"\",IF(LEN(LOOKUP(B179,Database!A:A,Database!J:J))=0,\"\",LOOKUP(B179,Database!A:A,Database!J:J)))","v":""},{"$f":"IF(ISNA(A179),\"\",IF(LEN(LOOKUP(B179,Database!A:A,Database!K:K))=0,\"\",LOOKUP(B179,Database!A:A,Database!K:K)))","v":""},{"$f":"IF(ISNA(A179),\"\",IF(LEN(LOOKUP(B179,Database!A:A,Database!L:L))=0,\"\",LOOKUP(B179,Database!A:A,Database!L:L)))","v":""},{"$f":"IF(ISNA(A179),\"\",IF(LEN(LOOKUP(B179,Database!A:A,Database!M:M))=0,\"\",LOOKUP(B179,Database!A:A,Database!M:M)))","v":""},{"$f":"IF(ISNA(A179),\"\",IF(LEN(LOOKUP(B179,Database!A:A,Database!N:N))=0,\"\",LOOKUP(B179,Database!A:A,Database!N:N)))","v":""},{"$f":"IF(ISNA(A179),\"\",IF(LEN(LOOKUP(B179,Database!A:A,Database!O:O))=0,\"\",LOOKUP(B179,Database!A:A,Database!O:O)))","v":""},{"$f":"IF(ISNA(A179),\"\",IF(LEN(LOOKUP(B179,Database!A:A,Database!P:P))=0,\"\",LOOKUP(B179,Database!A:A,Database!P:P)))","v":""},{"$f":"IF(ISNA(A179),\"\",IF(LEN(LOOKUP(B179,Database!A:A,Database!Q:Q))=0,\"\",LOOKUP(B179,Database!A:A,Database!Q:Q)))","v":""},{"$f":"IF(ISNA(A179),\"\",IF(LEN(LOOKUP(B179,Database!A:A,Database!R:R))=0,\"\",LOOKUP(B179,Database!A:A,Database!R:R)))","v":""},{"$f":"IF(ISNA(A179),\"\",IF(LEN(LOOKUP(B179,Database!A:A,Database!S:S))=0,\"\",LOOKUP(B179,Database!A:A,Database!S:S)))","v":""},null,null,null,null,null,null,165,0,null,1,0,null,0.1]
[{"$error":"#N/A"},"2018-06-15",{"$f":"IF(ISNA(A180),\"\",IF(LEN(LOOKUP(B180,Database!A:A,Database!B:B))=0,\"\",LOOKUP(B180,Database!A:A,Database!B:B)))","v":""},{"$f":"IF(ISNA(A180),\"\",IF(LEN(LOOKUP(B180,Database!A:A,Database!C:C))=0,\"\",LOOKUP(B180,Database!A:A,Database!C:C)))","v":""},{"$f":"IF(ISNA(A180),\"\",IF(LEN(LOOKUP(B180,Database!A:A,Database!D:D))=0,\"\",LOOKUP(B180,Database!A:A,Database!D:D)))","v":""},{"$f":"IF(ISNA(A180),\"\",IF(LEN(LOOKUP(B180,Database!A:A,Database!E:E))=0,\"\",LOOKUP(B180,Database!A:A,Database!E:E)))","v":""},{"$f":"IF(ISNA(A180),\"\",IF(LEN(LOOKUP(B180,Database!A:A,Database!F:F))=0,\"\",LOOKUP(B180,Database!A:A,Database!F:F)))","v":""},{"$f":"IF(ISNA(A180),\"\",IF(LEN(LOOKUP(B180,Database!A:A,Database!G:G))=0,\"\",LOOKUP(B180,Database!A:A,Database!G:G)))","v":""},{"$f":"IF(ISNA(A180),\"\",IF(LEN(LOOKUP(B180,Database!A:A,Database!H:H))=0,\"\",LOOKUP(B180,Database!A:A,Database!H:H)))","v":""},{"$f":"IF(ISNA(A180),\"\",IF(LEN(LOOKUP(B180,Database!A:A,Database!I:I))=0,\"\",LOOKUP(B180,Database!A:A,Database!I:I)))","v":""},{"$f":"IF(ISNA(A180),\"\",IF(LEN(LOOKUP(B180,Database!A:A,Database!J:J))=0,\"\",LOOKUP(B180,Database!A:A,Database!J:J)))","v":""},{"$f":"IF(ISNA(A180),\"\",IF(LEN(LOOKUP(B180,Database!A:A,Database!K:K))=0,\"\",LOOKUP(B180,Database!A:A,Database!K:K)))","v":""},{"$f":"IF(ISNA(A180),\"\",IF(LEN(LOOKUP(B180,Database!A:A,Database!L:L))=0,\"\",LOOKUP(B180,Database!A:A,Database!L:L)))","v":""},{"$f":"IF(ISNA(A180),\"\",IF(LEN(LOOKUP(B180,Database!A:A,Database!M:M))=0,\"\",LOOKUP(B180,Database!A:A,Database!M:M)))","v":""},{"$f":"IF(ISNA(A180),\"\",IF(LEN(LOOKUP(B180,Database!A:A,Database!N:N))=0,\"\",LOOKUP(B180,Database!A:A,Database!N:N)))","v":""},{"$f":"IF(ISNA(A180),\"\",IF(LEN(LOOKUP(B180,Database!A:A,Database!O:O))=0,\"\",LOOKUP(B180,Database!A:A,Database!O:O)))","v":""},{"$f":"IF(ISNA(A180),\"\",IF(LEN(LOOKUP(B180,Database!A:A,Database!P:P))=0,\"\",LOOKUP(B180,Database!A:A,Database!P:P)))","v":""},{"$f":"IF(ISNA(A180),\"\",IF(LEN(LOOKUP(B180,Database!A:A,Database!Q:Q))=0,\"\",LOOKUP(B180,Database!A:A,Database!Q:Q)))","v":""},{"$f":"IF(ISNA(A180),\"\",IF(LEN(LOOKUP(B180,Database!A:A,Database!R:R))=0,\"\",LOOKUP(B180,Database!A:A,Database!R:R)))","v":""},{"$f":"IF(ISNA(A180),\"\",IF(LEN(LOOKUP(B180,Database!A:A,Database!S:S))=0,\"\",LOOKUP(B180,Database!A:A,Database!S:S)))","v":""},null,null,null,null,null,null,166,0,null,1,0,null,0.1]
[{"$error":"#N/A"},"2018-06-16",{"$f":"IF(ISNA(A181),\"\",IF(LEN(LOOKUP(B181,Database!A:A,Database!B:B))=0,\"\",LOOKUP(B181,Database!A:A,Database!B:B)))","v":""},{"$f":"IF(ISNA(A181),\"\",IF(LEN(LOOKUP(B181,Database!A:A,Database!C:C))=0,\"\",LOOKUP(B181,Database!A:A,Database!C:C)))","v":""},{"$f":"IF(ISNA(A181),\"\",IF(LEN(LOOKUP(B181,Database!A:A,Database!D:D))=0,\"\",LOOKUP(B181,Database!A:A,Database!D:D)))","v":""},{"$f":"IF(ISNA(A181),\"\",IF(LEN(LOOKUP(B181,Database!A:A,Database!E:E))=0,\"\",LOOKUP(B181,Database!A:A,Database!E:E)))","v":""},{"$f":"IF(ISNA(A181),\"\",IF(LEN(LOOKUP(B181,Database!A:A,Database!F:F))=0,\"\",LOOKUP(B181,Database!A:A,Database!F:F)))","v":""},{"$f":"IF(ISNA(A181),\"\",IF(LEN(LOOKUP(B181,Database!A:A,Database!G:G))=0,\"\",LOOKUP(B181,Database!A:A,Database!G:G)))","v":""},{"$f":"IF(ISNA(A181),\"\",IF(LEN(LOOKUP(B181,Database!A:A,Database!H:H))=0,\"\",LOOKUP(B181,Database!A:A,Database!H:H)))","v":""},{"$f":"IF(ISNA(A181),\"\",IF(LEN(LOOKUP(B181,Database!A:A,Database!I:I))=0,\"\",LOOKUP(B181,Database!A:A,Database!I:I)))","v":""},{"$f":"IF(ISNA(A181),\"\",IF(LEN(LOOKUP(B181,Database!A:A,Database!J:J))=0,\"\",LOOKUP(B181,Database!A:A,Database!J:J)))","v":""},{"$f":"IF(ISNA(A181),\"\",IF(LEN(LOOKUP(B181,Database!A:A,Database!K:K))=0,\"\",LOOKUP(B181,Database!A:A,Database!K:K)))","v":""},{"$f":"IF(ISNA(A181),\"\",IF(LEN(LOOKUP(B181,Database!A:A,Database!L:L))=0,\"\",LOOKUP(B181,Database!A:A,Database!L:L)))","v":""},{"$f":"IF(ISNA(A181),\"\",IF(LEN(LOOKUP(B181,Database!A:A,Database!M:M))=0,\"\",LOOKUP(B181,Database!A:A,Database!M:M)))","v":""},{"$f":"IF(ISNA(A181),\"\",IF(LEN(LOOKUP(B181,Database!A:A,Database!N:N))=0,\"\",LOOKUP(B181,Database!A:A,Database!N:N)))","v":""},{"$f":"IF(ISNA(A181),\"\",IF(LEN(LOOKUP(B181,Database!A:A,Database!O:O))=0,\"\",LOOKUP(B181,Database!A:A,Database!O:O)))","v":""},{"$f":"IF(ISNA(A181),\"\",IF(LEN(LOOKUP(B181,Database!A:A,Database!P:P))=0,\"\",LOOKUP(B181,Database!A:A,Database!P:P)))","v":""},{"$f":"IF(ISNA(A181),\"\",IF(LEN(LOOKUP(B181,Database!A:A,Database!Q:Q))=0,\"\",LOOKUP(B181,Database!A:A,Database!Q:Q)))","v":""},{"$f":"IF(ISNA(A181),\"\",IF(LEN(LOOKUP(B181,Database!A:A,Database!R:R))=0,\"\",LOOKUP(B181,Database!A:A,Database!R:R)))","v":""},{"$f":"IF(ISNA(A181),\"\",IF(LEN(LOOKUP(B181,Database!A:A,Database!S:S))=0,\"\",LOOKUP(B181,Database!A:A,Database!S:S)))","v":""},null,null,null,null,null,null,167,0,null,1,0,null,0.1]
[{"$error":"#N/A"},"2018-06-17",{"$f":"IF(ISNA(A182),\"\",IF(LEN(LOOKUP(B182,Database!A:A,Database!B:B))=0,\"\",LOOKUP(B182,Database!A:A,Database!B:B)))","v":""},{"$f":"IF(ISNA(A182),\"\",IF(LEN(LOOKUP(B182,Database!A:A,Database!C:C))=0,\"\",LOOKUP(B182,Database!A:A,Database!C:C)))","v":""},{"$f":"IF(ISNA(A182),\"\",IF(LEN(LOOKUP(B182,Database!A:A,Database!D:D))=0,\"\",LOOKUP(B182,Database!A:A,Database!D:D)))","v":""},{"$f":"IF(ISNA(A182),\"\",IF(LEN(LOOKUP(B182,Database!A:A,Database!E:E))=0,\"\",LOOKUP(B182,Database!A:A,Database!E:E)))","v":""},{"$f":"IF(ISNA(A182),\"\",IF(LEN(LOOKUP(B182,Database!A:A,Database!F:F))=0,\"\",LOOKUP(B182,Database!A:A,Database!F:F)))","v":""},{"$f":"IF(ISNA(A182),\"\",IF(LEN(LOOKUP(B182,Database!A:A,Database!G:G))=0,\"\",LOOKUP(B182,Database!A:A,Database!G:G)))","v":""},{"$f":"IF(ISNA(A182),\"\",IF(LEN(LOOKUP(B182,Database!A:A,Database!H:H))=0,\"\",LOOKUP(B182,Database!A:A,Database!H:H)))","v":""},{"$f":"IF(ISNA(A182),\"\",IF(LEN(LOOKUP(B182,Database!A:A,Database!I:I))=0,\"\",LOOKUP(B182,Database!A:A,Database!I:I)))","v":""},{"$f":"IF(ISNA(A182),\"\",IF(LEN(LOOKUP(B182,Database!A:A,Database!J:J))=0,\"\",LOOKUP(B182,Database!A:A,Database!J:J)))","v":""},{"$f":"IF(ISNA(A182),\"\",IF(LEN(LOOKUP(B182,Database!A:A,Database!K:K))=0,\"\",LOOKUP(B182,Database!A:A,Database!K:K)))","v":""},{"$f":"IF(ISNA(A182),\"\",IF(LEN(LOOKUP(B182,Database!A:A,Database!L:L))=0,\"\",LOOKUP(B182,Database!A:A,Database!L:L)))","v":""},{"$f":"IF(ISNA(A182),\"\",IF(LEN(LOOKUP(B182,Database!A:A,Database!M:M))=0,\"\",LOOKUP(B182,Database!A:A,Database!M:M)))","v":""},{"$f":"IF(ISNA(A182),\"\",IF(LEN(LOOKUP(B182,Database!A:A,Database!N:N))=0,\"\",LOOKUP(B182,Database!A:A,Database!N:N)))","v":""},{"$f":"IF(ISNA(A182),\"\",IF(LEN(LOOKUP(B182,Database!A:A,Database!O:O))=0,\"\",LOOKUP(B182,Database!A:A,Database!O:O)))","v":""},{"$f":"IF(ISNA(A182),\"\",IF(LEN(LOOKUP(B182,Database!A:A,Database!P:P))=0,\"\",LOOKUP(B182,Database!A:A,Database!P:P)))","v":""},{"$f":"IF(ISNA(A182),\"\",IF(LEN(LOOKUP(B182,Database!A:A,Database!Q:Q))=0,\"\",LOOKUP(B182,Database!A:A,Database!Q:Q)))","v":""},{"$f":"IF(ISNA(A182),\"\",IF(LEN(LOOKUP(B182,Database!A:A,Database!R:R))=0,\"\",LOOKUP(B182,Database!A:A,Database!R:R)))","v":""},{"$f":"IF(ISNA(A182),\"\",IF(LEN(LOOKUP(B182,Database!A:A,Database!S:S))=0,\"\",LOOKUP(B182,Database!A:A,Database!S:S)))","v":""},null,null,null,null,null,null,168,0,null,1,0,null,0.1]
[{"$error":"#N/A"},"2018-06-18",{"$f":"IF(ISNA(A183),\"\",IF(LEN(LOOKUP(B183,Database!A:A,Database!B:B))=0,\"\",LOOKUP(B183,Database!A:A,Database!B:B)))","v":""},{"$f":"IF(ISNA(A183),\"\",IF(LEN(LOOKUP(B183,Database!A:A,Database!C:C))=0,\"\",LOOKUP(B183,Database!A:A,Database!C:C)))","v":""},{"$f":"IF(ISNA(A183),\"\",IF(LEN(LOOKUP(B183,Database!A:A,Database!D:D))=0,\"\",LOOKUP(B183,Database!A:A,Database!D:D)))","v":""},{"$f":"IF(ISNA(A183),\"\",IF(LEN(LOOKUP(B183,Database!A:A,Database!E:E))=0,\"\",LOOKUP(B183,Database!A:A,Database!E:E)))","v":""},{"$f":"IF(ISNA(A183),\"\",IF(LEN(LOOKUP(B183,Database!A:A,Database!F:F))=0,\"\",LOOKUP(B183,Database!A:A,Database!F:F)))","v":""},{"$f":"IF(ISNA(A183),\"\",IF(LEN(LOOKUP(B183,Database!A:A,Database!G:G))=0,\"\",LOOKUP(B183,Database!A:A,Database!G:G)))","v":""},{"$f":"IF(ISNA(A183),\"\",IF(LEN(LOOKUP(B183,Database!A:A,Database!H:H))=0,\"\",LOOKUP(B183,Database!A:A,Database!H:H)))","v":""},{"$f":"IF(ISNA(A183),\"\",IF(LEN(LOOKUP(B183,Database!A:A,Database!I:I))=0,\"\",LOOKUP(B183,Database!A:A,Database!I:I)))","v":""},{"$f":"IF(ISNA(A183),\"\",IF(LEN(LOOKUP(B183,Database!A:A,Database!J:J))=0,\"\",LOOKUP(B183,Database!A:A,Database!J:J)))","v":""},{"$f":"IF(ISNA(A183),\"\",IF(LEN(LOOKUP(B183,Database!A:A,Database!K:K))=0,\"\",LOOKUP(B183,Database!A:A,Database!K:K)))","v":""},{"$f":"IF(ISNA(A183),\"\",IF(LEN(LOOKUP(B183,Database!A:A,Database!L:L))=0,\"\",LOOKUP(B183,Database!A:A,Database!L:L)))","v":""},{"$f":"IF(ISNA(A183),\"\",IF(LEN(LOOKUP(B183,Database!A:A,Database!M:M))=0,\"\",LOOKUP(B183,Database!A:A,Database!M:M)))","v":""},{"$f":"IF(ISNA(A183),\"\",IF(LEN(LOOKUP(B183,Database!A:A,Database!N:N))=0,\"\",LOOKUP(B183,Database!A:A,Database!N:N)))","v":""},{"$f":"IF(ISNA(A183),\"\",IF(LEN(LOOKUP(B183,Database!A:A,Database!O:O))=0,\"\",LOOKUP(B183,Database!A:A,Database!O:O)))","v":""},{"$f":"IF(ISNA(A183),\"\",IF(LEN(LOOKUP(B183,Database!A:A,Database!P:P))=0,\"\",LOOKUP(B183,Database!A:A,Database!P:P)))","v":""},{"$f":"IF(ISNA(A183),\"\",IF(LEN(LOOKUP(B183,Database!A:A,Database!Q:Q))=0,\"\",LOOKUP(B183,Database!A:A,Database!Q:Q)))","v":""},{"$f":"IF(ISNA(A183),\"\",IF(LEN(LOOKUP(B183,Database!A:A,Database!R:R))=0,\"\",LOOKUP(B183,Database!A:A,Database!R:R)))","v":""},{"$f":"IF(ISNA(A183),\"\",IF(LEN(LOOKUP(B183,Database!A:A,Database!S:S))=0,\"\",LOOKUP(B183,Database!A:A,Database!S:S)))","v":""},null,null,null,null,null,null,169,0,null,1,0,null,0.1]
[{"$error":"#N/A"},"2018-06-19",{"$f":"IF(ISNA(A184),\"\",IF(LEN(LOOKUP(B184,Database!A:A,Database!B:B))=0,\"\",LOOKUP(B184,Database!A:A,Database!B:B)))","v":""},{"$f":"IF(ISNA(A184),\"\",IF(LEN(LOOKUP(B184,Database!A:A,Database!C:C))=0,\"\",LOOKUP(B184,Database!A:A,Database!C:C)))","v":""},{"$f":"IF(ISNA(A184),\"\",IF(LEN(LOOKUP(B184,Database!A:A,Database!D:D))=0,\"\",LOOKUP(B184,Database!A:A,Database!D:D)))","v":""},{"$f":"IF(ISNA(A184),\"\",IF(LEN(LOOKUP(B184,Database!A:A,Database!E:E))=0,\"\",LOOKUP(B184,Database!A:A,Database!E:E)))","v":""},{"$f":"IF(ISNA(A184),\"\",IF(LEN(LOOKUP(B184,Database!A:A,Database!F:F))=0,\"\",LOOKUP(B184,Database!A:A,Database!F:F)))","v":""},{"$f":"IF(ISNA(A184),\"\",IF(LEN(LOOKUP(B184,Database!A:A,Database!G:G))=0,\"\",LOOKUP(B184,Database!A:A,Database!G:G)))","v":""},{"$f":"IF(ISNA(A184),\"\",IF(LEN(LOOKUP(B184,Database!A:A,Database!H:H))=0,\"\",LOOKUP(B184,Database!A:A,Database!H:H)))","v":""},{"$f":"IF(ISNA(A184),\"\",IF(LEN(LOOKUP(B184,Database!A:A,Database!I:I))=0,\"\",LOOKUP(B184,Database!A:A,Database!I:I)))","v":""},{"$f":"IF(ISNA(A184),\"\",IF(LEN(LOOKUP(B184,Database!A:A,Database!J:J))=0,\"\",LOOKUP(B184,Database!A:A,Database!J:J)))","v":""},{"$f":"IF(ISNA(A184),\"\",IF(LEN(LOOKUP(B184,Database!A:A,Database!K:K))=0,\"\",LOOKUP(B184,Database!A:A,Database!K:K)))","v":""},{"$f":"IF(ISNA(A184),\"\",IF(LEN(LOOKUP(B184,Database!A:A,Database!L:L))=0,\"\",LOOKUP(B184,Database!A:A,Database!L:L)))","v":""},{"$f":"IF(ISNA(A184),\"\",IF(LEN(LOOKUP(B184,Database!A:A,Database!M:M))=0,\"\",LOOKUP(B184,Database!A:A,Database!M:M)))","v":""},{"$f":"IF(ISNA(A184),\"\",IF(LEN(LOOKUP(B184,Database!A:A,Database!N:N))=0,\"\",LOOKUP(B184,Database!A:A,Database!N:N)))","v":""},{"$f":"IF(ISNA(A184),\"\",IF(LEN(LOOKUP(B184,Database!A:A,Database!O:O))=0,\"\",LOOKUP(B184,Database!A:A,Database!O:O)))","v":""},{"$f":"IF(ISNA(A184),\"\",IF(LEN(LOOKUP(B184,Database!A:A,Database!P:P))=0,\"\",LOOKUP(B184,Database!A:A,Database!P:P)))","v":""},{"$f":"IF(ISNA(A184),\"\",IF(LEN(LOOKUP(B184,Database!A:A,Database!Q:Q))=0,\"\",LOOKUP(B184,Database!A:A,Database!Q:Q)))","v":""},{"$f":"IF(ISNA(A184),\"\",IF(LEN(LOOKUP(B184,Database!A:A,Database!R:R))=0,\"\",LOOKUP(B184,Database!A:A,Database!R:R)))","v":""},{"$f":"IF(ISNA(A184),\"\",IF(LEN(LOOKUP(B184,Database!A:A,Database!S:S))=0,\"\",LOOKUP(B184,Database!A:A,Database!S:S)))","v":""},null,null,null,null,null,null,170,0,null,1,0,null,0.1]
[{"$error":"#N/A"},"2018-06-20",{"$f":"IF(ISNA(A185),\"\",IF(LEN(LOOKUP(B185,Database!A:A,Database!B:B))=0,\"\",LOOKUP(B185,Database!A:A,Database!B:B)))","v":""},{"$f":"IF(ISNA(A185),\"\",IF(LEN(LOOKUP(B185,Database!A:A,Database!C:C))=0,\"\",LOOKUP(B185,Database!A:A,Database!C:C)))","v":""},{"$f":"IF(ISNA(A185),\"\",IF(LEN(LOOKUP(B185,Database!A:A,Database!D:D))=0,\"\",LOOKUP(B185,Database!A:A,Database!D:D)))","v":""},{"$f":"IF(ISNA(A185),\"\",IF(LEN(LOOKUP(B185,Database!A:A,Database!E:E))=0,\"\",LOOKUP(B185,Database!A:A,Database!E:E)))","v":""},{"$f":"IF(ISNA(A185),\"\",IF(LEN(LOOKUP(B185,Database!A:A,Database!F:F))=0,\"\",LOOKUP(B185,Database!A:A,Database!F:F)))","v":""},{"$f":"IF(ISNA(A185),\"\",IF(LEN(LOOKUP(B185,Database!A:A,Database!G:G))=0,\"\",LOOKUP(B185,Database!A:A,Database!G:G)))","v":""},{"$f":"IF(ISNA(A185),\"\",IF(LEN(LOOKUP(B185,Database!A:A,Database!H:H))=0,\"\",LOOKUP(B185,Database!A:A,Database!H:H)))","v":""},{"$f":"IF(ISNA(A185),\"\",IF(LEN(LOOKUP(B185,Database!A:A,Database!I:I))=0,\"\",LOOKUP(B185,Database!A:A,Database!I:I)))","v":""},{"$f":"IF(ISNA(A185),\"\",IF(LEN(LOOKUP(B185,Database!A:A,Database!J:J))=0,\"\",LOOKUP(B185,Database!A:A,Database!J:J)))","v":""},{"$f":"IF(ISNA(A185),\"\",IF(LEN(LOOKUP(B185,Database!A:A,Database!K:K))=0,\"\",LOOKUP(B185,Database!A:A,Database!K:K)))","v":""},{"$f":"IF(ISNA(A185),\"\",IF(LEN(LOOKUP(B185,Database!A:A,Database!L:L))=0,\"\",LOOKUP(B185,Database!A:A,Database!L:L)))","v":""},{"$f":"IF(ISNA(A185),\"\",IF(LEN(LOOKUP(B185,Database!A:A,Database!M:M))=0,\"\",LOOKUP(B185,Database!A:A,Database!M:M)))","v":""},{"$f":"IF(ISNA(A185),\"\",IF(LEN(LOOKUP(B185,Database!A:A,Database!N:N))=0,\"\",LOOKUP(B185,Database!A:A,Database!N:N)))","v":""},{"$f":"IF(ISNA(A185),\"\",IF(LEN(LOOKUP(B185,Database!A:A,Database!O:O))=0,\"\",LOOKUP(B185,Database!A:A,Database!O:O)))","v":""},{"$f":"IF(ISNA(A185),\"\",IF(LEN(LOOKUP(B185,Database!A:A,Database!P:P))=0,\"\",LOOKUP(B185,Database!A:A,Database!P:P)))","v":""},{"$f":"IF(ISNA(A185),\"\",IF(LEN(LOOKUP(B185,Database!A:A,Database!Q:Q))=0,\"\",LOOKUP(B185,Database!A:A,Database!Q:Q)))","v":""},{"$f":"IF(ISNA(A185),\"\",IF(LEN(LOOKUP(B185,Database!A:A,Database!R:R))=0,\"\",LOOKUP(B185,Database!A:A,Database!R:R)))","v":""},{"$f":"IF(ISNA(A185),\"\",IF(LEN(LOOKUP(B185,Database!A:A,Database!S:S))=0,\"\",LOOKUP(B185,Database!A:A,Database!S:S)))","v":""},null,null,null,null,null,null,171,0,null,1,0,null,0.1]
[{"$error":"#N/A"},"2018-06-21",{"$f":"IF(ISNA(A186),\"\",IF(LEN(LOOKUP(B186,Database!A:A,Database!B:B))=0,\"\",LOOKUP(B186,Database!A:A,Database!B:B)))","v":""},{"$f":"IF(ISNA(A186),\"\",IF(LEN(LOOKUP(B186,Database!A:A,Database!C:C))=0,\"\",LOOKUP(B186,Database!A:A,Database!C:C)))","v":""},{"$f":"IF(ISNA(A186),\"\",IF(LEN(LOOKUP(B186,Database!A:A,Database!D:D))=0,\"\",LOOKUP(B186,Database!A:A,Database!D:D)))","v":""},{"$f":"IF(ISNA(A186),\"\",IF(LEN(LOOKUP(B186,Database!A:A,Database!E:E))=0,\"\",LOOKUP(B186,Database!A:A,Database!E:E)))","v":""},{"$f":"IF(ISNA(A186),\"\",IF(LEN(LOOKUP(B186,Database!A:A,Database!F:F))=0,\"\",LOOKUP(B186,Database!A:A,Database!F:F)))","v":""},{"$f":"IF(ISNA(A186),\"\",IF(LEN(LOOKUP(B186,Database!A:A,Database!G:G))=0,\"\",LOOKUP(B186,Database!A:A,Database!G:G)))","v":""},{"$f":"IF(ISNA(A186),\"\",IF(LEN(LOOKUP(B186,Database!A:A,Database!H:H))=0,\"\",LOOKUP(B186,Database!A:A,Database!H:H)))","v":""},{"$f":"IF(ISNA(A186),\"\",IF(LEN(LOOKUP(B186,Database!A:A,Database!I:I))=0,\"\",LOOKUP(B186,Database!A:A,Database!I:I)))","v":""},{"$f":"IF(ISNA(A186),\"\",IF(LEN(LOOKUP(B186,Database!A:A,Database!J:J))=0,\"\",LOOKUP(B186,Database!A:A,Database!J:J)))","v":""},{"$f":"IF(ISNA(A186),\"\",IF(LEN(LOOKUP(B186,Database!A:A,Database!K:K))=0,\"\",LOOKUP(B186,Database!A:A,Database!K:K)))","v":""},{"$f":"IF(ISNA(A186),\"\",IF(LEN(LOOKUP(B186,Database!A:A,Database!L:L))=0,\"\",LOOKUP(B186,Database!A:A,Database!L:L)))","v":""},{"$f":"IF(ISNA(A186),\"\",IF(LEN(LOOKUP(B186,Database!A:A,Database!M:M))=0,\"\",LOOKUP(B186,Database!A:A,Database!M:M)))","v":""},{"$f":"IF(ISNA(A186),\"\",IF(LEN(LOOKUP(B186,Database!A:A,Database!N:N))=0,\"\",LOOKUP(B186,Database!A:A,Database!N:N)))","v":""},{"$f":"IF(ISNA(A186),\"\",IF(LEN(LOOKUP(B186,Database!A:A,Database!O:O))=0,\"\",LOOKUP(B186,Database!A:A,Database!O:O)))","v":""},{"$f":"IF(ISNA(A186),\"\",IF(LEN(LOOKUP(B186,Database!A:A,Database!P:P))=0,\"\",LOOKUP(B186,Database!A:A,Database!P:P)))","v":""},{"$f":"IF(ISNA(A186),\"\",IF(LEN(LOOKUP(B186,Database!A:A,Database!Q:Q))=0,\"\",LOOKUP(B186,Database!A:A,Database!Q:Q)))","v":""},{"$f":"IF(ISNA(A186),\"\",IF(LEN(LOOKUP(B186,Database!A:A,Database!R:R))=0,\"\",LOOKUP(B186,Database!A:A,Database!R:R)))","v":""},{"$f":"IF(ISNA(A186),\"\",IF(LEN(LOOKUP(B186,Database!A:A,Database!S:S))=0,\"\",LOOKUP(B186,Database!A:A,Database!S:S)))","v":""},null,null,null,null,null,null,172,0,null,1,0,null,0.1]
[{"$error":"#N/A"},"2018-06-22",{"$f":"IF(ISNA(A187),\"\",IF(LEN(LOOKUP(B187,Database!A:A,Database!B:B))=0,\"\",LOOKUP(B187,Database!A:A,Database!B:B)))","v":""},{"$f":"IF(ISNA(A187),\"\",IF(LEN(LOOKUP(B187,Database!A:A,Database!C:C))=0,\"\",LOOKUP(B187,Database!A:A,Database!C:C)))","v":""},{"$f":"IF(ISNA(A187),\"\",IF(LEN(LOOKUP(B187,Database!A:A,Database!D:D))=0,\"\",LOOKUP(B187,Database!A:A,Database!D:D)))","v":""},{"$f":"IF(ISNA(A187),\"\",IF(LEN(LOOKUP(B187,Database!A:A,Database!E:E))=0,\"\",LOOKUP(B187,Database!A:A,Database!E:E)))","v":""},{"$f":"IF(ISNA(A187),\"\",IF(LEN(LOOKUP(B187,Database!A:A,Database!F:F))=0,\"\",LOOKUP(B187,Database!A:A,Database!F:F)))","v":""},{"$f":"IF(ISNA(A187),\"\",IF(LEN(LOOKUP(B187,Database!A:A,Database!G:G))=0,\"\",LOOKUP(B187,Database!A:A,Database!G:G)))","v":""},{"$f":"IF(ISNA(A187),\"\",IF(LEN(LOOKUP(B187,Database!A:A,Database!H:H))=0,\"\",LOOKUP(B187,Database!A:A,Database!H:H)))","v":""},{"$f":"IF(ISNA(A187),\"\",IF(LEN(LOOKUP(B187,Database!A:A,Database!I:I))=0,\"\",LOOKUP(B187,Database!A:A,Database!I:I)))","v":""},{"$f":"IF(ISNA(A187),\"\",IF(LEN(LOOKUP(B187,Database!A:A,Database!J:J))=0,\"\",LOOKUP(B187,Database!A:A,Database!J:J)))","v":""},{"$f":"IF(ISNA(A187),\"\",IF(LEN(LOOKUP(B187,Database!A:A,Database!K:K))=0,\"\",LOOKUP(B187,Database!A:A,Database!K:K)))","v":""},{"$f":"IF(ISNA(A187),\"\",IF(LEN(LOOKUP(B187,Database!A:A,Database!L:L))=0,\"\",LOOKUP(B187,Database!A:A,Database!L:L)))","v":""},{"$f":"IF(ISNA(A187),\"\",IF(LEN(LOOKUP(B187,Database!A:A,Database!M:M))=0,\"\",LOOKUP(B187,Database!A:A,Database!M:M)))","v":""},{"$f":"IF(ISNA(A187),\"\",IF(LEN(LOOKUP(B187,Database!A:A,Database!N:N))=0,\"\",LOOKUP(B187,Database!A:A,Database!N:N)))","v":""},{"$f":"IF(ISNA(A187),\"\",IF(LEN(LOOKUP(B187,Database!A:A,Database!O:O))=0,\"\",LOOKUP(B187,Database!A:A,Database!O:O)))","v":""},{"$f":"IF(ISNA(A187),\"\",IF(LEN(LOOKUP(B187,Database!A:A,Database!P:P))=0,\"\",LOOKUP(B187,Database!A:A,Database!P:P)))","v":""},{"$f":"IF(ISNA(A187),\"\",IF(LEN(LOOKUP(B187,Database!A:A,Database!Q:Q))=0,\"\",LOOKUP(B187,Database!A:A,Database!Q:Q)))","v":""},{"$f":"IF(ISNA(A187),\"\",IF(LEN(LOOKUP(B187,Database!A:A,Database!R:R))=0,\"\",LOOKUP(B187,Database!A:A,Database!R:R)))","v":""},{"$f":"IF(ISNA(A187),\"\",IF(LEN(LOOKUP(B187,Database!A:A,Database!S:S))=0,\"\",LOOKUP(B187,Database!A:A,Database!S:S)))","v":""},null,null,null,null,null,null,173,0,null,1,0,null,0.1]
[{"$error":"#N/A"},"2018-06-23",{"$f":"IF(ISNA(A188),\"\",IF(LEN(LOOKUP(B188,Database!A:A,Database!B:B))=0,\"\",LOOKUP(B188,Database!A:A,Database!B:B)))","v":""},{"$f":"IF(ISNA(A188),\"\",IF(LEN(LOOKUP(B188,Database!A:A,Database!C:C))=0,\"\",LOOKUP(B188,Database!A:A,Database!C:C)))","v":""},{"$f":"IF(ISNA(A188),\"\",IF(LEN(LOOKUP(B188,Database!A:A,Database!D:D))=0,\"\",LOOKUP(B188,Database!A:A,Database!D:D)))","v":""},{"$f":"IF(ISNA(A188),\"\",IF(LEN(LOOKUP(B188,Database!A:A,Database!E:E))=0,\"\",LOOKUP(B188,Database!A:A,Database!E:E)))","v":""},{"$f":"IF(ISNA(A188),\"\",IF(LEN(LOOKUP(B188,Database!A:A,Database!F:F))=0,\"\",LOOKUP(B188,Database!A:A,Database!F:F)))","v":""},{"$f":"IF(ISNA(A188),\"\",IF(LEN(LOOKUP(B188,Database!A:A,Database!G:G))=0,\"\",LOOKUP(B188,Database!A:A,Database!G:G)))","v":""},{"$f":"IF(ISNA(A188),\"\",IF(LEN(LOOKUP(B188,Database!A:A,Database!H:H))=0,\"\",LOOKUP(B188,Database!A:A,Database!H:H)))","v":""},{"$f":"IF(ISNA(A188),\"\",IF(LEN(LOOKUP(B188,Database!A:A,Database!I:I))=0,\"\",LOOKUP(B188,Database!A:A,Database!I:I)))","v":""},{"$f":"IF(ISNA(A188),\"\",IF(LEN(LOOKUP(B188,Database!A:A,Database!J:J))=0,\"\",LOOKUP(B188,Database!A:A,Database!J:J)))","v":""},{"$f":"IF(ISNA(A188),\"\",IF(LEN(LOOKUP(B188,Database!A:A,Database!K:K))=0,\"\",LOOKUP(B188,Database!A:A,Database!K:K)))","v":""},{"$f":"IF(ISNA(A188),\"\",IF(LEN(LOOKUP(B188,Database!A:A,Database!L:L))=0,\"\",LOOKUP(B188,Database!A:A,Database!L:L)))","v":""},{"$f":"IF(ISNA(A188),\"\",IF(LEN(LOOKUP(B188,Database!A:A,Database!M:M))=0,\"\",LOOKUP(B188,Database!A:A,Database!M:M)))","v":""},{"$f":"IF(ISNA(A188),\"\",IF(LEN(LOOKUP(B188,Database!A:A,Database!N:N))=0,\"\",LOOKUP(B188,Database!A:A,Database!N:N)))","v":""},{"$f":"IF(ISNA(A188),\"\",IF(LEN(LOOKUP(B188,Database!A:A,Database!O:O))=0,\"\",LOOKUP(B188,Database!A:A,Database!O:O)))","v":""},{"$f":"IF(ISNA(A188),\"\",IF(LEN(LOOKUP(B188,Database!A:A,Database!P:P))=0,\"\",LOOKUP(B188,Database!A:A,Database!P:P)))","v":""},{"$f":"IF(ISNA(A188),\"\",IF(LEN(LOOKUP(B188,Database!A:A,Database!Q:Q))=0,\"\",LOOKUP(B188,Database!A:A,Database!Q:Q)))","v":""},{"$f":"IF(ISNA(A188),\"\",IF(LEN(LOOKUP(B188,Database!A:A,Database!R:R))=0,\"\",LOOKUP(B188,Database!A:A,Database!R:R)))","v":""},{"$f":"IF(ISNA(A188),\"\",IF(LEN(LOOKUP(B188,Database!A:A,Database!S:S))=0,\"\",LOOKUP(B188,Database!A:A,Database!S:S)))","v":""},null,null,null,null,null,null,174,0,null,1,0,null,0.1]
[{"$error":"#N/A"},"2018-06-24",{"$f":"IF(ISNA(A189),\"\",IF(LEN(LOOKUP(B189,Database!A:A,Database!B:B))=0,\"\",LOOKUP(B189,Database!A:A,Database!B:B)))","v":""},{"$f":"IF(ISNA(A189),\"\",IF(LEN(LOOKUP(B189,Database!A:A,Database!C:C))=0,\"\",LOOKUP(B189,Database!A:A,Database!C:C)))","v":""},{"$f":"IF(ISNA(A189),\"\",IF(LEN(LOOKUP(B189,Database!A:A,Database!D:D))=0,\"\",LOOKUP(B189,Database!A:A,Database!D:D)))","v":""},{"$f":"IF(ISNA(A189),\"\",IF(LEN(LOOKUP(B189,Database!A:A,Database!E:E))=0,\"\",LOOKUP(B189,Database!A:A,Database!E:E)))","v":""},{"$f":"IF(ISNA(A189),\"\",IF(LEN(LOOKUP(B189,Database!A:A,Database!F:F))=0,\"\",LOOKUP(B189,Database!A:A,Database!F:F)))","v":""},{"$f":"IF(ISNA(A189),\"\",IF(LEN(LOOKUP(B189,Database!A:A,Database!G:G))=0,\"\",LOOKUP(B189,Database!A:A,Database!G:G)))","v":""},{"$f":"IF(ISNA(A189),\"\",IF(LEN(LOOKUP(B189,Database!A:A,Database!H:H))=0,\"\",LOOKUP(B189,Database!A:A,Database!H:H)))","v":""},{"$f":"IF(ISNA(A189),\"\",IF(LEN(LOOKUP(B189,Database!A:A,Database!I:I))=0,\"\",LOOKUP(B189,Database!A:A,Database!I:I)))","v":""},{"$f":"IF(ISNA(A189),\"\",IF(LEN(LOOKUP(B189,Database!A:A,Database!J:J))=0,\"\",LOOKUP(B189,Database!A:A,Database!J:J)))","v":""},{"$f":"IF(ISNA(A189),\"\",IF(LEN(LOOKUP(B189,Database!A:A,Database!K:K))=0,\"\",LOOKUP(B189,Database!A:A,Database!K:K)))","v":""},{"$f":"IF(ISNA(A189),\"\",IF(LEN(LOOKUP(B189,Database!A:A,Database!L:L))=0,\"\",LOOKUP(B189,Database!A:A,Database!L:L)))","v":""},{"$f":"IF(ISNA(A189),\"\",IF(LEN(LOOKUP(B189,Database!A:A,Database!M:M))=0,\"\",LOOKUP(B189,Database!A:A,Database!M:M)))","v":""},{"$f":"IF(ISNA(A189),\"\",IF(LEN(LOOKUP(B189,Database!A:A,Database!N:N))=0,\"\",LOOKUP(B189,Database!A:A,Database!N:N)))","v":""},{"$f":"IF(ISNA(A189),\"\",IF(LEN(LOOKUP(B189,Database!A:A,Database!O:O))=0,\"\",LOOKUP(B189,Database!A:A,Database!O:O)))","v":""},{"$f":"IF(ISNA(A189),\"\",IF(LEN(LOOKUP(B189,Database!A:A,Database!P:P))=0,\"\",LOOKUP(B189,Database!A:A,Database!P:P)))","v":""},{"$f":"IF(ISNA(A189),\"\",IF(LEN(LOOKUP(B189,Database!A:A,Database!Q:Q))=0,\"\",LOOKUP(B189,Database!A:A,Database!Q:Q)))","v":""},{"$f":"IF(ISNA(A189),\"\",IF(LEN(LOOKUP(B189,Database!A:A,Database!R:R))=0,\"\",LOOKUP(B189,Database!A:A,Database!R:R)))","v":""},{"$f":"IF(ISNA(A189),\"\",IF(LEN(LOOKUP(B189,Database!A:A,Database!S:S))=0,\"\",LOOKUP(B189,Database!A:A,Database!S:S)))","v":""},null,null,null,null,null,null,175,0,null,1,0,null,0.1]
[{"$error":"#N/A"},"2018-06-25",{"$f":"IF(ISNA(A190),\"\",IF(LEN(LOOKUP(B190,Database!A:A,Database!B:B))=0,\"\",LOOKUP(B190,Database!A:A,Database!B:B)))","v":""},{"$f":"IF(ISNA(A190),\"\",IF(LEN(LOOKUP(B190,Database!A:A,Database!C:C))=0,\"\",LOOKUP(B190,Database!A:A,Database!C:C)))","v":""},{"$f":"IF(ISNA(A190),\"\",IF(LEN(LOOKUP(B190,Database!A:A,Database!D:D))=0,\"\",LOOKUP(B190,Database!A:A,Database!D:D)))","v":""},{"$f":"IF(ISNA(A190),\"\",IF(LEN(LOOKUP(B190,Database!A:A,Database!E:E))=0,\"\",LOOKUP(B190,Database!A:A,Database!E:E)))","v":""},{"$f":"IF(ISNA(A190),\"\",IF(LEN(LOOKUP(B190,Database!A:A,Database!F:F))=0,\"\",LOOKUP(B190,Database!A:A,Database!F:F)))","v":""},{"$f":"IF(ISNA(A190),\"\",IF(LEN(LOOKUP(B190,Database!A:A,Database!G:G))=0,\"\",LOOKUP(B190,Database!A:A,Database!G:G)))","v":""},{"$f":"IF(ISNA(A190),\"\",IF(LEN(LOOKUP(B190,Database!A:A,Database!H:H))=0,\"\",LOOKUP(B190,Database!A:A,Database!H:H)))","v":""},{"$f":"IF(ISNA(A190),\"\",IF(LEN(LOOKUP(B190,Database!A:A,Database!I:I))=0,\"\",LOOKUP(B190,Database!A:A,Database!I:I)))","v":""},{"$f":"IF(ISNA(A190),\"\",IF(LEN(LOOKUP(B190,Database!A:A,Database!J:J))=0,\"\",LOOKUP(B190,Database!A:A,Database!J:J)))","v":""},{"$f":"IF(ISNA(A190),\"\",IF(LEN(LOOKUP(B190,Database!A:A,Database!K:K))=0,\"\",LOOKUP(B190,Database!A:A,Database!K:K)))","v":""},{"$f":"IF(ISNA(A190),\"\",IF(LEN(LOOKUP(B190,Database!A:A,Database!L:L))=0,\"\",LOOKUP(B190,Database!A:A,Database!L:L)))","v":""},{"$f":"IF(ISNA(A190),\"\",IF(LEN(LOOKUP(B190,Database!A:A,Database!M:M))=0,\"\",LOOKUP(B190,Database!A:A,Database!M:M)))","v":""},{"$f":"IF(ISNA(A190),\"\",IF(LEN(LOOKUP(B190,Database!A:A,Database!N:N))=0,\"\",LOOKUP(B190,Database!A:A,Database!N:N)))","v":""},{"$f":"IF(ISNA(A190),\"\",IF(LEN(LOOKUP(B190,Database!A:A,Database!O:O))=0,\"\",LOOKUP(B190,Database!A:A,Database!O:O)))","v":""},{"$f":"IF(ISNA(A190),\"\",IF(LEN(LOOKUP(B190,Database!A:A,Database!P:P))=0,\"\",LOOKUP(B190,Database!A:A,Database!P:P)))","v":""},{"$f":"IF(ISNA(A190),\"\",IF(LEN(LOOKUP(B190,Database!A:A,Database!Q:Q))=0,\"\",LOOKUP(B190,Database!A:A,Database!Q:Q)))","v":""},{"$f":"IF(ISNA(A190),\"\",IF(LEN(LOOKUP(B190,Database!A:A,Database!R:R))=0,\"\",LOOKUP(B190,Database!A:A,Database!R:R)))","v":""},{"$f":"IF(ISNA(A190),\"\",IF(LEN(LOOKUP(B190,Database!A:A,Database!S:S))=0,\"\",LOOKUP(B190,Database!A:A,Database!S:S)))","v":""},null,null,null,null,null,null,176,0,null,1,0,null,0.1]
[{"$error":"#N/A"},"2018-06-26",{"$f":"IF(ISNA(A191),\"\",IF(LEN(LOOKUP(B191,Database!A:A,Database!B:B))=0,\"\",LOOKUP(B191,Database!A:A,Database!B:B)))","v":""},{"$f":"IF(ISNA(A191),\"\",IF(LEN(LOOKUP(B191,Database!A:A,Database!C:C))=0,\"\",LOOKUP(B191,Database!A:A,Database!C:C)))","v":""},{"$f":"IF(ISNA(A191),\"\",IF(LEN(LOOKUP(B191,Database!A:A,Database!D:D))=0,\"\",LOOKUP(B191,Database!A:A,Database!D:D)))","v":""},{"$f":"IF(ISNA(A191),\"\",IF(LEN(LOOKUP(B191,Database!A:A,Database!E:E))=0,\"\",LOOKUP(B191,Database!A:A,Database!E:E)))","v":""},{"$f":"IF(ISNA(A191),\"\",IF(LEN(LOOKUP(B191,Database!A:A,Database!F:F))=0,\"\",LOOKUP(B191,Database!A:A,Database!F:F)))","v":""},{"$f":"IF(ISNA(A191),\"\",IF(LEN(LOOKUP(B191,Database!A:A,Database!G:G))=0,\"\",LOOKUP(B191,Database!A:A,Database!G:G)))","v":""},{"$f":"IF(ISNA(A191),\"\",IF(LEN(LOOKUP(B191,Database!A:A,Database!H:H))=0,\"\",LOOKUP(B191,Database!A:A,Database!H:H)))","v":""},{"$f":"IF(ISNA(A191),\"\",IF(LEN(LOOKUP(B191,Database!A:A,Database!I:I))=0,\"\",LOOKUP(B191,Database!A:A,Database!I:I)))","v":""},{"$f":"IF(ISNA(A191),\"\",IF(LEN(LOOKUP(B191,Database!A:A,Database!J:J))=0,\"\",LOOKUP(B191,Database!A:A,Database!J:J)))","v":""},{"$f":"IF(ISNA(A191),\"\",IF(LEN(LOOKUP(B191,Database!A:A,Database!K:K))=0,\"\",LOOKUP(B191,Database!A:A,Database!K:K)))","v":""},{"$f":"IF(ISNA(A191),\"\",IF(LEN(LOOKUP(B191,Database!A:A,Database!L:L))=0,\"\",LOOKUP(B191,Database!A:A,Database!L:L)))","v":""},{"$f":"IF(ISNA(A191),\"\",IF(LEN(LOOKUP(B191,Database!A:A,Database!M:M))=0,\"\",LOOKUP(B191,Database!A:A,Database!M:M)))","v":""},{"$f":"IF(ISNA(A191),\"\",IF(LEN(LOOKUP(B191,Database!A:A,Database!N:N))=0,\"\",LOOKUP(B191,Database!A:A,Database!N:N)))","v":""},{"$f":"IF(ISNA(A191),\"\",IF(LEN(LOOKUP(B191,Database!A:A,Database!O:O))=0,\"\",LOOKUP(B191,Database!A:A,Database!O:O)))","v":""},{"$f":"IF(ISNA(A191),\"\",IF(LEN(LOOKUP(B191,Database!A:A,Database!P:P))=0,\"\",LOOKUP(B191,Database!A:A,Database!P:P)))","v":""},{"$f":"IF(ISNA(A191),\"\",IF(LEN(LOOKUP(B191,Database!A:A,Database!Q:Q))=0,\"\",LOOKUP(B191,Database!A:A,Database!Q:Q)))","v":""},{"$f":"IF(ISNA(A191),\"\",IF(LEN(LOOKUP(B191,Database!A:A,Database!R:R))=0,\"\",LOOKUP(B191,Database!A:A,Database!R:R)))","v":""},{"$f":"IF(ISNA(A191),\"\",IF(LEN(LOOKUP(B191,Database!A:A,Database!S:S))=0,\"\",LOOKUP(B191,Database!A:A,Database!S:S)))","v":""},null,null,null,null,null,null,177,0,null,1,0,null,0.1]
[{"$error":"#N/A"},"2018-06-27",{"$f":"IF(ISNA(A192),\"\",IF(LEN(LOOKUP(B192,Database!A:A,Database!B:B))=0,\"\",LOOKUP(B192,Database!A:A,Database!B:B)))","v":""},{"$f":"IF(ISNA(A192),\"\",IF(LEN(LOOKUP(B192,Database!A:A,Database!C:C))=0,\"\",LOOKUP(B192,Database!A:A,Database!C:C)))","v":""},{"$f":"IF(ISNA(A192),\"\",IF(LEN(LOOKUP(B192,Database!A:A,Database!D:D))=0,\"\",LOOKUP(B192,Database!A:A,Database!D:D)))","v":""},{"$f":"IF(ISNA(A192),\"\",IF(LEN(LOOKUP(B192,Database!A:A,Database!E:E))=0,\"\",LOOKUP(B192,Database!A:A,Database!E:E)))","v":""},{"$f":"IF(ISNA(A192),\"\",IF(LEN(LOOKUP(B192,Database!A:A,Database!F:F))=0,\"\",LOOKUP(B192,Database!A:A,Database!F:F)))","v":""},{"$f":"IF(ISNA(A192),\"\",IF(LEN(LOOKUP(B192,Database!A:A,Database!G:G))=0,\"\",LOOKUP(B192,Database!A:A,Database!G:G)))","v":""},{"$f":"IF(ISNA(A192),\"\",IF(LEN(LOOKUP(B192,Database!A:A,Database!H:H))=0,\"\",LOOKUP(B192,Database!A:A,Database!H:H)))","v":""},{"$f":"IF(ISNA(A192),\"\",IF(LEN(LOOKUP(B192,Database!A:A,Database!I:I))=0,\"\",LOOKUP(B192,Database!A:A,Database!I:I)))","v":""},{"$f":"IF(ISNA(A192),\"\",IF(LEN(LOOKUP(B192,Database!A:A,Database!J:J))=0,\"\",LOOKUP(B192,Database!A:A,Database!J:J)))","v":""},{"$f":"IF(ISNA(A192),\"\",IF(LEN(LOOKUP(B192,Database!A:A,Database!K:K))=0,\"\",LOOKUP(B192,Database!A:A,Database!K:K)))","v":""},{"$f":"IF(ISNA(A192),\"\",IF(LEN(LOOKUP(B192,Database!A:A,Database!L:L))=0,\"\",LOOKUP(B192,Database!A:A,Database!L:L)))","v":""},{"$f":"IF(ISNA(A192),\"\",IF(LEN(LOOKUP(B192,Database!A:A,Database!M:M))=0,\"\",LOOKUP(B192,Database!A:A,Database!M:M)))","v":""},{"$f":"IF(ISNA(A192),\"\",IF(LEN(LOOKUP(B192,Database!A:A,Database!N:N))=0,\"\",LOOKUP(B192,Database!A:A,Database!N:N)))","v":""},{"$f":"IF(ISNA(A192),\"\",IF(LEN(LOOKUP(B192,Database!A:A,Database!O:O))=0,\"\",LOOKUP(B192,Database!A:A,Database!O:O)))","v":""},{"$f":"IF(ISNA(A192),\"\",IF(LEN(LOOKUP(B192,Database!A:A,Database!P:P))=0,\"\",LOOKUP(B192,Database!A:A,Database!P:P)))","v":""},{"$f":"IF(ISNA(A192),\"\",IF(LEN(LOOKUP(B192,Database!A:A,Database!Q:Q))=0,\"\",LOOKUP(B192,Database!A:A,Database!Q:Q)))","v":""},{"$f":"IF(ISNA(A192),\"\",IF(LEN(LOOKUP(B192,Database!A:A,Database!R:R))=0,\"\",LOOKUP(B192,Database!A:A,Database!R:R)))","v":""},{"$f":"IF(ISNA(A192),\"\",IF(LEN(LOOKUP(B192,Database!A:A,Database!S:S))=0,\"\",LOOKUP(B192,Database!A:A,Database!S:S)))","v":""},null,null,null,null,null,null,178,0,null,1,0,null,0.1]
[{"$error":"#N/A"},"2018-06-28",{"$f":"IF(ISNA(A193),\"\",IF(LEN(LOOKUP(B193,Database!A:A,Database!B:B))=0,\"\",LOOKUP(B193,Database!A:A,Database!B:B)))","v":""},{"$f":"IF(ISNA(A193),\"\",IF(LEN(LOOKUP(B193,Database!A:A,Database!C:C))=0,\"\",LOOKUP(B193,Database!A:A,Database!C:C)))","v":""},{"$f":"IF(ISNA(A193),\"\",IF(LEN(LOOKUP(B193,Database!A:A,Database!D:D))=0,\"\",LOOKUP(B193,Database!A:A,Database!D:D)))","v":""},{"$f":"IF(ISNA(A193),\"\",IF(LEN(LOOKUP(B193,Database!A:A,Database!E:E))=0,\"\",LOOKUP(B193,Database!A:A,Database!E:E)))","v":""},{"$f":"IF(ISNA(A193),\"\",IF(LEN(LOOKUP(B193,Database!A:A,Database!F:F))=0,\"\",LOOKUP(B193,Database!A:A,Database!F:F)))","v":""},{"$f":"IF(ISNA(A193),\"\",IF(LEN(LOOKUP(B193,Database!A:A,Database!G:G))=0,\"\",LOOKUP(B193,Database!A:A,Database!G:G)))","v":""},{"$f":"IF(ISNA(A193),\"\",IF(LEN(LOOKUP(B193,Database!A:A,Database!H:H))=0,\"\",LOOKUP(B193,Database!A:A,Database!H:H)))","v":""},{"$f":"IF(ISNA(A193),\"\",IF(LEN(LOOKUP(B193,Database!A:A,Database!I:I))=0,\"\",LOOKUP(B193,Database!A:A,Database!I:I)))","v":""},{"$f":"IF(ISNA(A193),\"\",IF(LEN(LOOKUP(B193,Database!A:A,Database!J:J))=0,\"\",LOOKUP(B193,Database!A:A,Database!J:J)))","v":""},{"$f":"IF(ISNA(A193),\"\",IF(LEN(LOOKUP(B193,Database!A:A,Database!K:K))=0,\"\",LOOKUP(B193,Database!A:A,Database!K:K)))","v":""},{"$f":"IF(ISNA(A193),\"\",IF(LEN(LOOKUP(B193,Database!A:A,Database!L:L))=0,\"\",LOOKUP(B193,Database!A:A,Database!L:L)))","v":""},{"$f":"IF(ISNA(A193),\"\",IF(LEN(LOOKUP(B193,Database!A:A,Database!M:M))=0,\"\",LOOKUP(B193,Database!A:A,Database!M:M)))","v":""},{"$f":"IF(ISNA(A193),\"\",IF(LEN(LOOKUP(B193,Database!A:A,Database!N:N))=0,\"\",LOOKUP(B193,Database!A:A,Database!N:N)))","v":""},{"$f":"IF(ISNA(A193),\"\",IF(LEN(LOOKUP(B193,Database!A:A,Database!O:O))=0,\"\",LOOKUP(B193,Database!A:A,Database!O:O)))","v":""},{"$f":"IF(ISNA(A193),\"\",IF(LEN(LOOKUP(B193,Database!A:A,Database!P:P))=0,\"\",LOOKUP(B193,Database!A:A,Database!P:P)))","v":""},{"$f":"IF(ISNA(A193),\"\",IF(LEN(LOOKUP(B193,Database!A:A,Database!Q:Q))=0,\"\",LOOKUP(B193,Database!A:A,Database!Q:Q)))","v":""},{"$f":"IF(ISNA(A193),\"\",IF(LEN(LOOKUP(B193,Database!A:A,Database!R:R))=0,\"\",LOOKUP(B193,Database!A:A,Database!R:R)))","v":""},{"$f":"IF(ISNA(A193),\"\",IF(LEN(LOOKUP(B193,Database!A:A,Database!S:S))=0,\"\",LOOKUP(B193,Database!A:A,Database!S:S)))","v":""},null,null,null,null,null,null,179,0,null,1,0,null,0.1]
[{"$error":"#N/A"},"2018-06-29",{"$f":"IF(ISNA(A194),\"\",IF(LEN(LOOKUP(B194,Database!A:A,Database!B:B))=0,\"\",LOOKUP(B194,Database!A:A,Database!B:B)))","v":""},{"$f":"IF(ISNA(A194),\"\",IF(LEN(LOOKUP(B194,Database!A:A,Database!C:C))=0,\"\",LOOKUP(B194,Database!A:A,Database!C:C)))","v":""},{"$f":"IF(ISNA(A194),\"\",IF(LEN(LOOKUP(B194,Database!A:A,Database!D:D))=0,\"\",LOOKUP(B194,Database!A:A,Database!D:D)))","v":""},{"$f":"IF(ISNA(A194),\"\",IF(LEN(LOOKUP(B194,Database!A:A,Database!E:E))=0,\"\",LOOKUP(B194,Database!A:A,Database!E:E)))","v":""},{"$f":"IF(ISNA(A194),\"\",IF(LEN(LOOKUP(B194,Database!A:A,Database!F:F))=0,\"\",LOOKUP(B194,Database!A:A,Database!F:F)))","v":""},{"$f":"IF(ISNA(A194),\"\",IF(LEN(LOOKUP(B194,Database!A:A,Database!G:G))=0,\"\",LOOKUP(B194,Database!A:A,Database!G:G)))","v":""},{"$f":"IF(ISNA(A194),\"\",IF(LEN(LOOKUP(B194,Database!A:A,Database!H:H))=0,\"\",LOOKUP(B194,Database!A:A,Database!H:H)))","v":""},{"$f":"IF(ISNA(A194),\"\",IF(LEN(LOOKUP(B194,Database!A:A,Database!I:I))=0,\"\",LOOKUP(B194,Database!A:A,Database!I:I)))","v":""},{"$f":"IF(ISNA(A194),\"\",IF(LEN(LOOKUP(B194,Database!A:A,Database!J:J))=0,\"\",LOOKUP(B194,Database!A:A,Database!J:J)))","v":""},{"$f":"IF(ISNA(A194),\"\",IF(LEN(LOOKUP(B194,Database!A:A,Database!K:K))=0,\"\",LOOKUP(B194,Database!A:A,Database!K:K)))","v":""},{"$f":"IF(ISNA(A194),\"\",IF(LEN(LOOKUP(B194,Database!A:A,Database!L:L))=0,\"\",LOOKUP(B194,Database!A:A,Database!L:L)))","v":""},{"$f":"IF(ISNA(A194),\"\",IF(LEN(LOOKUP(B194,Database!A:A,Database!M:M))=0,\"\",LOOKUP(B194,Database!A:A,Database!M:M)))","v":""},{"$f":"IF(ISNA(A194),\"\",IF(LEN(LOOKUP(B194,Database!A:A,Database!N:N))=0,\"\",LOOKUP(B194,Database!A:A,Database!N:N)))","v":""},{"$f":"IF(ISNA(A194),\"\",IF(LEN(LOOKUP(B194,Database!A:A,Database!O:O))=0,\"\",LOOKUP(B194,Database!A:A,Database!O:O)))","v":""},{"$f":"IF(ISNA(A194),\"\",IF(LEN(LOOKUP(B194,Database!A:A,Database!P:P))=0,\"\",LOOKUP(B194,Database!A:A,Database!P:P)))","v":""},{"$f":"IF(ISNA(A194),\"\",IF(LEN(LOOKUP(B194,Database!A:A,Database!Q:Q))=0,\"\",LOOKUP(B194,Database!A:A,Database!Q:Q)))","v":""},{"$f":"IF(ISNA(A194),\"\",IF(LEN(LOOKUP(B194,Database!A:A,Database!R:R))=0,\"\",LOOKUP(B194,Database!A:A,Database!R:R)))","v":""},{"$f":"IF(ISNA(A194),\"\",IF(LEN(LOOKUP(B194,Database!A:A,Database!S:S))=0,\"\",LOOKUP(B194,Database!A:A,Database!S:S)))","v":""},null,null,null,null,null,null,180,0,null,1,0,null,0.1]
[{"$error":"#N/A"},"2018-06-30",{"$f":"IF(ISNA(A195),\"\",IF(LEN(LOOKUP(B195,Database!A:A,Database!B:B))=0,\"\",LOOKUP(B195,Database!A:A,Database!B:B)))","v":""},{"$f":"IF(ISNA(A195),\"\",IF(LEN(LOOKUP(B195,Database!A:A,Database!C:C))=0,\"\",LOOKUP(B195,Database!A:A,Database!C:C)))","v":""},{"$f":"IF(ISNA(A195),\"\",IF(LEN(LOOKUP(B195,Database!A:A,Database!D:D))=0,\"\",LOOKUP(B195,Database!A:A,Database!D:D)))","v":""},{"$f":"IF(ISNA(A195),\"\",IF(LEN(LOOKUP(B195,Database!A:A,Database!E:E))=0,\"\",LOOKUP(B195,Database!A:A,Database!E:E)))","v":""},{"$f":"IF(ISNA(A195),\"\",IF(LEN(LOOKUP(B195,Database!A:A,Database!F:F))=0,\"\",LOOKUP(B195,Database!A:A,Database!F:F)))","v":""},{"$f":"IF(ISNA(A195),\"\",IF(LEN(LOOKUP(B195,Database!A:A,Database!G:G))=0,\"\",LOOKUP(B195,Database!A:A,Database!G:G)))","v":""},{"$f":"IF(ISNA(A195),\"\",IF(LEN(LOOKUP(B195,Database!A:A,Database!H:H))=0,\"\",LOOKUP(B195,Database!A:A,Database!H:H)))","v":""},{"$f":"IF(ISNA(A195),\"\",IF(LEN(LOOKUP(B195,Database!A:A,Database!I:I))=0,\"\",LOOKUP(B195,Database!A:A,Database!I:I)))","v":""},{"$f":"IF(ISNA(A195),\"\",IF(LEN(LOOKUP(B195,Database!A:A,Database!J:J))=0,\"\",LOOKUP(B195,Database!A:A,Database!J:J)))","v":""},{"$f":"IF(ISNA(A195),\"\",IF(LEN(LOOKUP(B195,Database!A:A,Database!K:K))=0,\"\",LOOKUP(B195,Database!A:A,Database!K:K)))","v":""},{"$f":"IF(ISNA(A195),\"\",IF(LEN(LOOKUP(B195,Database!A:A,Database!L:L))=0,\"\",LOOKUP(B195,Database!A:A,Database!L:L)))","v":""},{"$f":"IF(ISNA(A195),\"\",IF(LEN(LOOKUP(B195,Database!A:A,Database!M:M))=0,\"\",LOOKUP(B195,Database!A:A,Database!M:M)))","v":""},{"$f":"IF(ISNA(A195),\"\",IF(LEN(LOOKUP(B195,Database!A:A,Database!N:N))=0,\"\",LOOKUP(B195,Database!A:A,Database!N:N)))","v":""},{"$f":"IF(ISNA(A195),\"\",IF(LEN(LOOKUP(B195,Database!A:A,Database!O:O))=0,\"\",LOOKUP(B195,Database!A:A,Database!O:O)))","v":""},{"$f":"IF(ISNA(A195),\"\",IF(LEN(LOOKUP(B195,Database!A:A,Database!P:P))=0,\"\",LOOKUP(B195,Database!A:A,Database!P:P)))","v":""},{"$f":"IF(ISNA(A195),\"\",IF(LEN(LOOKUP(B195,Database!A:A,Database!Q:Q))=0,\"\",LOOKUP(B195,Database!A:A,Database!Q:Q)))","v":""},{"$f":"IF(ISNA(A195),\"\",IF(LEN(LOOKUP(B195,Database!A:A,Database!R:R))=0,\"\",LOOKUP(B195,Database!A:A,Database!R:R)))","v":""},{"$f":"IF(ISNA(A195),\"\",IF(LEN(LOOKUP(B195,Database!A:A,Database!S:S))=0,\"\",LOOKUP(B195,Database!A:A,Database!S:S)))","v":""},null,null,null,null,null,null,181,0,null,1,0,null,0.1]
[{"$error":"#N/A"},"2018-07-01",{"$f":"IF(ISNA(A196),\"\",IF(LEN(LOOKUP(B196,Database!A:A,Database!B:B))=0,\"\",LOOKUP(B196,Database!A:A,Database!B:B)))","v":""},{"$f":"IF(ISNA(A196),\"\",IF(LEN(LOOKUP(B196,Database!A:A,Database!C:C))=0,\"\",LOOKUP(B196,Database!A:A,Database!C:C)))","v":""},{"$f":"IF(ISNA(A196),\"\",IF(LEN(LOOKUP(B196,Database!A:A,Database!D:D))=0,\"\",LOOKUP(B196,Database!A:A,Database!D:D)))","v":""},{"$f":"IF(ISNA(A196),\"\",IF(LEN(LOOKUP(B196,Database!A:A,Database!E:E))=0,\"\",LOOKUP(B196,Database!A:A,Database!E:E)))","v":""},{"$f":"IF(ISNA(A196),\"\",IF(LEN(LOOKUP(B196,Database!A:A,Database!F:F))=0,\"\",LOOKUP(B196,Database!A:A,Database!F:F)))","v":""},{"$f":"IF(ISNA(A196),\"\",IF(LEN(LOOKUP(B196,Database!A:A,Database!G:G))=0,\"\",LOOKUP(B196,Database!A:A,Database!G:G)))","v":""},{"$f":"IF(ISNA(A196),\"\",IF(LEN(LOOKUP(B196,Database!A:A,Database!H:H))=0,\"\",LOOKUP(B196,Database!A:A,Database!H:H)))","v":""},{"$f":"IF(ISNA(A196),\"\",IF(LEN(LOOKUP(B196,Database!A:A,Database!I:I))=0,\"\",LOOKUP(B196,Database!A:A,Database!I:I)))","v":""},{"$f":"IF(ISNA(A196),\"\",IF(LEN(LOOKUP(B196,Database!A:A,Database!J:J))=0,\"\",LOOKUP(B196,Database!A:A,Database!J:J)))","v":""},{"$f":"IF(ISNA(A196),\"\",IF(LEN(LOOKUP(B196,Database!A:A,Database!K:K))=0,\"\",LOOKUP(B196,Database!A:A,Database!K:K)))","v":""},{"$f":"IF(ISNA(A196),\"\",IF(LEN(LOOKUP(B196,Database!A:A,Database!L:L))=0,\"\",LOOKUP(B196,Database!A:A,Database!L:L)))","v":""},{"$f":"IF(ISNA(A196),\"\",IF(LEN(LOOKUP(B196,Database!A:A,Database!M:M))=0,\"\",LOOKUP(B196,Database!A:A,Database!M:M)))","v":""},{"$f":"IF(ISNA(A196),\"\",IF(LEN(LOOKUP(B196,Database!A:A,Database!N:N))=0,\"\",LOOKUP(B196,Database!A:A,Database!N:N)))","v":""},{"$f":"IF(ISNA(A196),\"\",IF(LEN(LOOKUP(B196,Database!A:A,Database!O:O))=0,\"\",LOOKUP(B196,Database!A:A,Database!O:O)))","v":""},{"$f":"IF(ISNA(A196),\"\",IF(LEN(LOOKUP(B196,Database!A:A,Database!P:P))=0,\"\",LOOKUP(B196,Database!A:A,Database!P:P)))","v":""},{"$f":"IF(ISNA(A196),\"\",IF(LEN(LOOKUP(B196,Database!A:A,Database!Q:Q))=0,\"\",LOOKUP(B196,Database!A:A,Database!Q:Q)))","v":""},{"$f":"IF(ISNA(A196),\"\",IF(LEN(LOOKUP(B196,Database!A:A,Database!R:R))=0,\"\",LOOKUP(B196,Database!A:A,Database!R:R)))","v":""},{"$f":"IF(ISNA(A196),\"\",IF(LEN(LOOKUP(B196,Database!A:A,Database!S:S))=0,\"\",LOOKUP(B196,Database!A:A,Database!S:S)))","v":""},null,null,null,null,null,null,182,0,null,1,0,null,0.1]
[{"$error":"#N/A"},"2018-07-02",{"$f":"IF(ISNA(A197),\"\",IF(LEN(LOOKUP(B197,Database!A:A,Database!B:B))=0,\"\",LOOKUP(B197,Database!A:A,Database!B:B)))","v":""},{"$f":"IF(ISNA(A197),\"\",IF(LEN(LOOKUP(B197,Database!A:A,Database!C:C))=0,\"\",LOOKUP(B197,Database!A:A,Database!C:C)))","v":""},{"$f":"IF(ISNA(A197),\"\",IF(LEN(LOOKUP(B197,Database!A:A,Database!D:D))=0,\"\",LOOKUP(B197,Database!A:A,Database!D:D)))","v":""},{"$f":"IF(ISNA(A197),\"\",IF(LEN(LOOKUP(B197,Database!A:A,Database!E:E))=0,\"\",LOOKUP(B197,Database!A:A,Database!E:E)))","v":""},{"$f":"IF(ISNA(A197),\"\",IF(LEN(LOOKUP(B197,Database!A:A,Database!F:F))=0,\"\",LOOKUP(B197,Database!A:A,Database!F:F)))","v":""},{"$f":"IF(ISNA(A197),\"\",IF(LEN(LOOKUP(B197,Database!A:A,Database!G:G))=0,\"\",LOOKUP(B197,Database!A:A,Database!G:G)))","v":""},{"$f":"IF(ISNA(A197),\"\",IF(LEN(LOOKUP(B197,Database!A:A,Database!H:H))=0,\"\",LOOKUP(B197,Database!A:A,Database!H:H)))","v":""},{"$f":"IF(ISNA(A197),\"\",IF(LEN(LOOKUP(B197,Database!A:A,Database!I:I))=0,\"\",LOOKUP(B197,Database!A:A,Database!I:I)))","v":""},{"$f":"IF(ISNA(A197),\"\",IF(LEN(LOOKUP(B197,Database!A:A,Database!J:J))=0,\"\",LOOKUP(B197,Database!A:A,Database!J:J)))","v":""},{"$f":"IF(ISNA(A197),\"\",IF(LEN(LOOKUP(B197,Database!A:A,Database!K:K))=0,\"\",LOOKUP(B197,Database!A:A,Database!K:K)))","v":""},{"$f":"IF(ISNA(A197),\"\",IF(LEN(LOOKUP(B197,Database!A:A,Database!L:L))=0,\"\",LOOKUP(B197,Database!A:A,Database!L:L)))","v":""},{"$f":"IF(ISNA(A197),\"\",IF(LEN(LOOKUP(B197,Database!A:A,Database!M:M))=0,\"\",LOOKUP(B197,Database!A:A,Database!M:M)))","v":""},{"$f":"IF(ISNA(A197),\"\",IF(LEN(LOOKUP(B197,Database!A:A,Database!N:N))=0,\"\",LOOKUP(B197,Database!A:A,Database!N:N)))","v":""},{"$f":"IF(ISNA(A197),\"\",IF(LEN(LOOKUP(B197,Database!A:A,Database!O:O))=0,\"\",LOOKUP(B197,Database!A:A,Database!O:O)))","v":""},{"$f":"IF(ISNA(A197),\"\",IF(LEN(LOOKUP(B197,Database!A:A,Database!P:P))=0,\"\",LOOKUP(B197,Database!A:A,Database!P:P)))","v":""},{"$f":"IF(ISNA(A197),\"\",IF(LEN(LOOKUP(B197,Database!A:A,Database!Q:Q))=0,\"\",LOOKUP(B197,Database!A:A,Database!Q:Q)))","v":""},{"$f":"IF(ISNA(A197),\"\",IF(LEN(LOOKUP(B197,Database!A:A,Database!R:R))=0,\"\",LOOKUP(B197,Database!A:A,Database!R:R)))","v":""},{"$f":"IF(ISNA(A197),\"\",IF(LEN(LOOKUP(B197,Database!A:A,Database!S:S))=0,\"\",LOOKUP(B197,Database!A:A,Database!S:S)))","v":""},null,null,null,null,null,null,183,0,null,1,0,null,0.1]
[{"$error":"#N/A"},"2018-07-03",{"$f":"IF(ISNA(A198),\"\",IF(LEN(LOOKUP(B198,Database!A:A,Database!B:B))=0,\"\",LOOKUP(B198,Database!A:A,Database!B:B)))","v":""},{"$f":"IF(ISNA(A198),\"\",IF(LEN(LOOKUP(B198,Database!A:A,Database!C:C))=0,\"\",LOOKUP(B198,Database!A:A,Database!C:C)))","v":""},{"$f":"IF(ISNA(A198),\"\",IF(LEN(LOOKUP(B198,Database!A:A,Database!D:D))=0,\"\",LOOKUP(B198,Database!A:A,Database!D:D)))","v":""},{"$f":"IF(ISNA(A198),\"\",IF(LEN(LOOKUP(B198,Database!A:A,Database!E:E))=0,\"\",LOOKUP(B198,Database!A:A,Database!E:E)))","v":""},{"$f":"IF(ISNA(A198),\"\",IF(LEN(LOOKUP(B198,Database!A:A,Database!F:F))=0,\"\",LOOKUP(B198,Database!A:A,Database!F:F)))","v":""},{"$f":"IF(ISNA(A198),\"\",IF(LEN(LOOKUP(B198,Database!A:A,Database!G:G))=0,\"\",LOOKUP(B198,Database!A:A,Database!G:G)))","v":""},{"$f":"IF(ISNA(A198),\"\",IF(LEN(LOOKUP(B198,Database!A:A,Database!H:H))=0,\"\",LOOKUP(B198,Database!A:A,Database!H:H)))","v":""},{"$f":"IF(ISNA(A198),\"\",IF(LEN(LOOKUP(B198,Database!A:A,Database!I:I))=0,\"\",LOOKUP(B198,Database!A:A,Database!I:I)))","v":""},{"$f":"IF(ISNA(A198),\"\",IF(LEN(LOOKUP(B198,Database!A:A,Database!J:J))=0,\"\",LOOKUP(B198,Database!A:A,Database!J:J)))","v":""},{"$f":"IF(ISNA(A198),\"\",IF(LEN(LOOKUP(B198,Database!A:A,Database!K:K))=0,\"\",LOOKUP(B198,Database!A:A,Database!K:K)))","v":""},{"$f":"IF(ISNA(A198),\"\",IF(LEN(LOOKUP(B198,Database!A:A,Database!L:L))=0,\"\",LOOKUP(B198,Database!A:A,Database!L:L)))","v":""},{"$f":"IF(ISNA(A198),\"\",IF(LEN(LOOKUP(B198,Database!A:A,Database!M:M))=0,\"\",LOOKUP(B198,Database!A:A,Database!M:M)))","v":""},{"$f":"IF(ISNA(A198),\"\",IF(LEN(LOOKUP(B198,Database!A:A,Database!N:N))=0,\"\",LOOKUP(B198,Database!A:A,Database!N:N)))","v":""},{"$f":"IF(ISNA(A198),\"\",IF(LEN(LOOKUP(B198,Database!A:A,Database!O:O))=0,\"\",LOOKUP(B198,Database!A:A,Database!O:O)))","v":""},{"$f":"IF(ISNA(A198),\"\",IF(LEN(LOOKUP(B198,Database!A:A,Database!P:P))=0,\"\",LOOKUP(B198,Database!A:A,Database!P:P)))","v":""},{"$f":"IF(ISNA(A198),\"\",IF(LEN(LOOKUP(B198,Database!A:A,Database!Q:Q))=0,\"\",LOOKUP(B198,Database!A:A,Database!Q:Q)))","v":""},{"$f":"IF(ISNA(A198),\"\",IF(LEN(LOOKUP(B198,Database!A:A,Database!R:R))=0,\"\",LOOKUP(B198,Database!A:A,Database!R:R)))","v":""},{"$f":"IF(ISNA(A198),\"\",IF(LEN(LOOKUP(B198,Database!A:A,Database!S:S))=0,\"\",LOOKUP(B198,Database!A:A,Database!S:S)))","v":""},null,null,null,null,null,null,184,0,null,1,0,null,0.1]
[{"$error":"#N/A"},"2018-07-04",{"$f":"IF(ISNA(A199),\"\",IF(LEN(LOOKUP(B199,Database!A:A,Database!B:B))=0,\"\",LOOKUP(B199,Database!A:A,Database!B:B)))","v":""},{"$f":"IF(ISNA(A199),\"\",IF(LEN(LOOKUP(B199,Database!A:A,Database!C:C))=0,\"\",LOOKUP(B199,Database!A:A,Database!C:C)))","v":""},{"$f":"IF(ISNA(A199),\"\",IF(LEN(LOOKUP(B199,Database!A:A,Database!D:D))=0,\"\",LOOKUP(B199,Database!A:A,Database!D:D)))","v":""},{"$f":"IF(ISNA(A199),\"\",IF(LEN(LOOKUP(B199,Database!A:A,Database!E:E))=0,\"\",LOOKUP(B199,Database!A:A,Database!E:E)))","v":""},{"$f":"IF(ISNA(A199),\"\",IF(LEN(LOOKUP(B199,Database!A:A,Database!F:F))=0,\"\",LOOKUP(B199,Database!A:A,Database!F:F)))","v":""},{"$f":"IF(ISNA(A199),\"\",IF(LEN(LOOKUP(B199,Database!A:A,Database!G:G))=0,\"\",LOOKUP(B199,Database!A:A,Database!G:G)))","v":""},{"$f":"IF(ISNA(A199),\"\",IF(LEN(LOOKUP(B199,Database!A:A,Database!H:H))=0,\"\",LOOKUP(B199,Database!A:A,Database!H:H)))","v":""},{"$f":"IF(ISNA(A199),\"\",IF(LEN(LOOKUP(B199,Database!A:A,Database!I:I))=0,\"\",LOOKUP(B199,Database!A:A,Database!I:I)))","v":""},{"$f":"IF(ISNA(A199),\"\",IF(LEN(LOOKUP(B199,Database!A:A,Database!J:J))=0,\"\",LOOKUP(B199,Database!A:A,Database!J:J)))","v":""},{"$f":"IF(ISNA(A199),\"\",IF(LEN(LOOKUP(B199,Database!A:A,Database!K:K))=0,\"\",LOOKUP(B199,Database!A:A,Database!K:K)))","v":""},{"$f":"IF(ISNA(A199),\"\",IF(LEN(LOOKUP(B199,Database!A:A,Database!L:L))=0,\"\",LOOKUP(B199,Database!A:A,Database!L:L)))","v":""},{"$f":"IF(ISNA(A199),\"\",IF(LEN(LOOKUP(B199,Database!A:A,Database!M:M))=0,\"\",LOOKUP(B199,Database!A:A,Database!M:M)))","v":""},{"$f":"IF(ISNA(A199),\"\",IF(LEN(LOOKUP(B199,Database!A:A,Database!N:N))=0,\"\",LOOKUP(B199,Database!A:A,Database!N:N)))","v":""},{"$f":"IF(ISNA(A199),\"\",IF(LEN(LOOKUP(B199,Database!A:A,Database!O:O))=0,\"\",LOOKUP(B199,Database!A:A,Database!O:O)))","v":""},{"$f":"IF(ISNA(A199),\"\",IF(LEN(LOOKUP(B199,Database!A:A,Database!P:P))=0,\"\",LOOKUP(B199,Database!A:A,Database!P:P)))","v":""},{"$f":"IF(ISNA(A199),\"\",IF(LEN(LOOKUP(B199,Database!A:A,Database!Q:Q))=0,\"\",LOOKUP(B199,Database!A:A,Database!Q:Q)))","v":""},{"$f":"IF(ISNA(A199),\"\",IF(LEN(LOOKUP(B199,Database!A:A,Database!R:R))=0,\"\",LOOKUP(B199,Database!A:A,Database!R:R)))","v":""},{"$f":"IF(ISNA(A199),\"\",IF(LEN(LOOKUP(B199,Database!A:A,Database!S:S))=0,\"\",LOOKUP(B199,Database!A:A,Database!S:S)))","v":""},null,null,null,null,null,null,185,0,null,1,0,null,0.1]
[{"$error":"#N/A"},"2018-07-05",{"$f":"IF(ISNA(A200),\"\",IF(LEN(LOOKUP(B200,Database!A:A,Database!B:B))=0,\"\",LOOKUP(B200,Database!A:A,Database!B:B)))","v":""},{"$f":"IF(ISNA(A200),\"\",IF(LEN(LOOKUP(B200,Database!A:A,Database!C:C))=0,\"\",LOOKUP(B200,Database!A:A,Database!C:C)))","v":""},{"$f":"IF(ISNA(A200),\"\",IF(LEN(LOOKUP(B200,Database!A:A,Database!D:D))=0,\"\",LOOKUP(B200,Database!A:A,Database!D:D)))","v":""},{"$f":"IF(ISNA(A200),\"\",IF(LEN(LOOKUP(B200,Database!A:A,Database!E:E))=0,\"\",LOOKUP(B200,Database!A:A,Database!E:E)))","v":""},{"$f":"IF(ISNA(A200),\"\",IF(LEN(LOOKUP(B200,Database!A:A,Database!F:F))=0,\"\",LOOKUP(B200,Database!A:A,Database!F:F)))","v":""},{"$f":"IF(ISNA(A200),\"\",IF(LEN(LOOKUP(B200,Database!A:A,Database!G:G))=0,\"\",LOOKUP(B200,Database!A:A,Database!G:G)))","v":""},{"$f":"IF(ISNA(A200),\"\",IF(LEN(LOOKUP(B200,Database!A:A,Database!H:H))=0,\"\",LOOKUP(B200,Database!A:A,Database!H:H)))","v":""},{"$f":"IF(ISNA(A200),\"\",IF(LEN(LOOKUP(B200,Database!A:A,Database!I:I))=0,\"\",LOOKUP(B200,Database!A:A,Database!I:I)))","v":""},{"$f":"IF(ISNA(A200),\"\",IF(LEN(LOOKUP(B200,Database!A:A,Database!J:J))=0,\"\",LOOKUP(B200,Database!A:A,Database!J:J)))","v":""},{"$f":"IF(ISNA(A200),\"\",IF(LEN(LOOKUP(B200,Database!A:A,Database!K:K))=0,\"\",LOOKUP(B200,Database!A:A,Database!K:K)))","v":""},{"$f":"IF(ISNA(A200),\"\",IF(LEN(LOOKUP(B200,Database!A:A,Database!L:L))=0,\"\",LOOKUP(B200,Database!A:A,Database!L:L)))","v":""},{"$f":"IF(ISNA(A200),\"\",IF(LEN(LOOKUP(B200,Database!A:A,Database!M:M))=0,\"\",LOOKUP(B200,Database!A:A,Database!M:M)))","v":""},{"$f":"IF(ISNA(A200),\"\",IF(LEN(LOOKUP(B200,Database!A:A,Database!N:N))=0,\"\",LOOKUP(B200,Database!A:A,Database!N:N)))","v":""},{"$f":"IF(ISNA(A200),\"\",IF(LEN(LOOKUP(B200,Database!A:A,Database!O:O))=0,\"\",LOOKUP(B200,Database!A:A,Database!O:O)))","v":""},{"$f":"IF(ISNA(A200),\"\",IF(LEN(LOOKUP(B200,Database!A:A,Database!P:P))=0,\"\",LOOKUP(B200,Database!A:A,Database!P:P)))","v":""},{"$f":"IF(ISNA(A200),\"\",IF(LEN(LOOKUP(B200,Database!A:A,Database!Q:Q))=0,\"\",LOOKUP(B200,Database!A:A,Database!Q:Q)))","v":""},{"$f":"IF(ISNA(A200),\"\",IF(LEN(LOOKUP(B200,Database!A:A,Database!R:R))=0,\"\",LOOKUP(B200,Database!A:A,Database!R:R)))","v":""},{"$f":"IF(ISNA(A200),\"\",IF(LEN(LOOKUP(B200,Database!A:A,Database!S:S))=0,\"\",LOOKUP(B200,Database!A:A,Database!S:S)))","v":""},null,null,null,null,null,null,186,0,null,1,0,null,0.1]
[{"$error":"#N/A"},"2018-07-06",{"$f":"IF(ISNA(A201),\"\",IF(LEN(LOOKUP(B201,Database!A:A,Database!B:B))=0,\"\",LOOKUP(B201,Database!A:A,Database!B:B)))","v":""},{"$f":"IF(ISNA(A201),\"\",IF(LEN(LOOKUP(B201,Database!A:A,Database!C:C))=0,\"\",LOOKUP(B201,Database!A:A,Database!C:C)))","v":""},{"$f":"IF(ISNA(A201),\"\",IF(LEN(LOOKUP(B201,Database!A:A,Database!D:D))=0,\"\",LOOKUP(B201,Database!A:A,Database!D:D)))","v":""},{"$f":"IF(ISNA(A201),\"\",IF(LEN(LOOKUP(B201,Database!A:A,Database!E:E))=0,\"\",LOOKUP(B201,Database!A:A,Database!E:E)))","v":""},{"$f":"IF(ISNA(A201),\"\",IF(LEN(LOOKUP(B201,Database!A:A,Database!F:F))=0,\"\",LOOKUP(B201,Database!A:A,Database!F:F)))","v":""},{"$f":"IF(ISNA(A201),\"\",IF(LEN(LOOKUP(B201,Database!A:A,Database!G:G))=0,\"\",LOOKUP(B201,Database!A:A,Database!G:G)))","v":""},{"$f":"IF(ISNA(A201),\"\",IF(LEN(LOOKUP(B201,Database!A:A,Database!H:H))=0,\"\",LOOKUP(B201,Database!A:A,Database!H:H)))","v":""},{"$f":"IF(ISNA(A201),\"\",IF(LEN(LOOKUP(B201,Database!A:A,Database!I:I))=0,\"\",LOOKUP(B201,Database!A:A,Database!I:I)))","v":""},{"$f":"IF(ISNA(A201),\"\",IF(LEN(LOOKUP(B201,Database!A:A,Database!J:J))=0,\"\",LOOKUP(B201,Database!A:A,Database!J:J)))","v":""},{"$f":"IF(ISNA(A201),\"\",IF(LEN(LOOKUP(B201,Database!A:A,Database!K:K))=0,\"\",LOOKUP(B201,Database!A:A,Database!K:K)))","v":""},{"$f":"IF(ISNA(A201),\"\",IF(LEN(LOOKUP(B201,Database!A:A,Database!L:L))=0,\"\",LOOKUP(B201,Database!A:A,Database!L:L)))","v":""},{"$f":"IF(ISNA(A201),\"\",IF(LEN(LOOKUP(B201,Database!A:A,Database!M:M))=0,\"\",LOOKUP(B201,Database!A:A,Database!M:M)))","v":""},{"$f":"IF(ISNA(A201),\"\",IF(LEN(LOOKUP(B201,Database!A:A,Database!N:N))=0,\"\",LOOKUP(B201,Database!A:A,Database!N:N)))","v":""},{"$f":"IF(ISNA(A201),\"\",IF(LEN(LOOKUP(B201,Database!A:A,Database!O:O))=0,\"\",LOOKUP(B201,Database!A:A,Database!O:O)))","v":""},{"$f":"IF(ISNA(A201),\"\",IF(LEN(LOOKUP(B201,Database!A:A,Database!P:P))=0,\"\",LOOKUP(B201,Database!A:A,Database!P:P)))","v":""},{"$f":"IF(ISNA(A201),\"\",IF(LEN(LOOKUP(B201,Database!A:A,Database!Q:Q))=0,\"\",LOOKUP(B201,Database!A:A,Database!Q:Q)))","v":""},{"$f":"IF(ISNA(A201),\"\",IF(LEN(LOOKUP(B201,Database!A:A,Database!R:R))=0,\"\",LOOKUP(B201,Database!A:A,Database!R:R)))","v":""},{"$f":"IF(ISNA(A201),\"\",IF(LEN(LOOKUP(B201,Database!A:A,Database!S:S))=0,\"\",LOOKUP(B201,Database!A:A,Database!S:S)))","v":""},null,null,null,null,null,null,187,0,null,1,0,null,0.1]
[{"$error":"#N/A"},"2018-07-07",{"$f":"IF(ISNA(A202),\"\",IF(LEN(LOOKUP(B202,Database!A:A,Database!B:B))=0,\"\",LOOKUP(B202,Database!A:A,Database!B:B)))","v":""},{"$f":"IF(ISNA(A202),\"\",IF(LEN(LOOKUP(B202,Database!A:A,Database!C:C))=0,\"\",LOOKUP(B202,Database!A:A,Database!C:C)))","v":""},{"$f":"IF(ISNA(A202),\"\",IF(LEN(LOOKUP(B202,Database!A:A,Database!D:D))=0,\"\",LOOKUP(B202,Database!A:A,Database!D:D)))","v":""},{"$f":"IF(ISNA(A202),\"\",IF(LEN(LOOKUP(B202,Database!A:A,Database!E:E))=0,\"\",LOOKUP(B202,Database!A:A,Database!E:E)))","v":""},{"$f":"IF(ISNA(A202),\"\",IF(LEN(LOOKUP(B202,Database!A:A,Database!F:F))=0,\"\",LOOKUP(B202,Database!A:A,Database!F:F)))","v":""},{"$f":"IF(ISNA(A202),\"\",IF(LEN(LOOKUP(B202,Database!A:A,Database!G:G))=0,\"\",LOOKUP(B202,Database!A:A,Database!G:G)))","v":""},{"$f":"IF(ISNA(A202),\"\",IF(LEN(LOOKUP(B202,Database!A:A,Database!H:H))=0,\"\",LOOKUP(B202,Database!A:A,Database!H:H)))","v":""},{"$f":"IF(ISNA(A202),\"\",IF(LEN(LOOKUP(B202,Database!A:A,Database!I:I))=0,\"\",LOOKUP(B202,Database!A:A,Database!I:I)))","v":""},{"$f":"IF(ISNA(A202),\"\",IF(LEN(LOOKUP(B202,Database!A:A,Database!J:J))=0,\"\",LOOKUP(B202,Database!A:A,Database!J:J)))","v":""},{"$f":"IF(ISNA(A202),\"\",IF(LEN(LOOKUP(B202,Database!A:A,Database!K:K))=0,\"\",LOOKUP(B202,Database!A:A,Database!K:K)))","v":""},{"$f":"IF(ISNA(A202),\"\",IF(LEN(LOOKUP(B202,Database!A:A,Database!L:L))=0,\"\",LOOKUP(B202,Database!A:A,Database!L:L)))","v":""},{"$f":"IF(ISNA(A202),\"\",IF(LEN(LOOKUP(B202,Database!A:A,Database!M:M))=0,\"\",LOOKUP(B202,Database!A:A,Database!M:M)))","v":""},{"$f":"IF(ISNA(A202),\"\",IF(LEN(LOOKUP(B202,Database!A:A,Database!N:N))=0,\"\",LOOKUP(B202,Database!A:A,Database!N:N)))","v":""},{"$f":"IF(ISNA(A202),\"\",IF(LEN(LOOKUP(B202,Database!A:A,Database!O:O))=0,\"\",LOOKUP(B202,Database!A:A,Database!O:O)))","v":""},{"$f":"IF(ISNA(A202),\"\",IF(LEN(LOOKUP(B202,Database!A:A,Database!P:P))=0,\"\",LOOKUP(B202,Database!A:A,Database!P:P)))","v":""},{"$f":"IF(ISNA(A202),\"\",IF(LEN(LOOKUP(B202,Database!A:A,Database!Q:Q))=0,\"\",LOOKUP(B202,Database!A:A,Database!Q:Q)))","v":""},{"$f":"IF(ISNA(A202),\"\",IF(LEN(LOOKUP(B202,Database!A:A,Database!R:R))=0,\"\",LOOKUP(B202,Database!A:A,Database!R:R)))","v":""},{"$f":"IF(ISNA(A202),\"\",IF(LEN(LOOKUP(B202,Database!A:A,Database!S:S))=0,\"\",LOOKUP(B202,Database!A:A,Database!S:S)))","v":""},null,null,null,null,null,null,188,0,null,1,0,null,0.1]
[{"$error":"#N/A"},"2018-07-08",{"$f":"IF(ISNA(A203),\"\",IF(LEN(LOOKUP(B203,Database!A:A,Database!B:B))=0,\"\",LOOKUP(B203,Database!A:A,Database!B:B)))","v":""},{"$f":"IF(ISNA(A203),\"\",IF(LEN(LOOKUP(B203,Database!A:A,Database!C:C))=0,\"\",LOOKUP(B203,Database!A:A,Database!C:C)))","v":""},{"$f":"IF(ISNA(A203),\"\",IF(LEN(LOOKUP(B203,Database!A:A,Database!D:D))=0,\"\",LOOKUP(B203,Database!A:A,Database!D:D)))","v":""},{"$f":"IF(ISNA(A203),\"\",IF(LEN(LOOKUP(B203,Database!A:A,Database!E:E))=0,\"\",LOOKUP(B203,Database!A:A,Database!E:E)))","v":""},{"$f":"IF(ISNA(A203),\"\",IF(LEN(LOOKUP(B203,Database!A:A,Database!F:F))=0,\"\",LOOKUP(B203,Database!A:A,Database!F:F)))","v":""},{"$f":"IF(ISNA(A203),\"\",IF(LEN(LOOKUP(B203,Database!A:A,Database!G:G))=0,\"\",LOOKUP(B203,Database!A:A,Database!G:G)))","v":""},{"$f":"IF(ISNA(A203),\"\",IF(LEN(LOOKUP(B203,Database!A:A,Database!H:H))=0,\"\",LOOKUP(B203,Database!A:A,Database!H:H)))","v":""},{"$f":"IF(ISNA(A203),\"\",IF(LEN(LOOKUP(B203,Database!A:A,Database!I:I))=0,\"\",LOOKUP(B203,Database!A:A,Database!I:I)))","v":""},{"$f":"IF(ISNA(A203),\"\",IF(LEN(LOOKUP(B203,Database!A:A,Database!J:J))=0,\"\",LOOKUP(B203,Database!A:A,Database!J:J)))","v":""},{"$f":"IF(ISNA(A203),\"\",IF(LEN(LOOKUP(B203,Database!A:A,Database!K:K))=0,\"\",LOOKUP(B203,Database!A:A,Database!K:K)))","v":""},{"$f":"IF(ISNA(A203),\"\",IF(LEN(LOOKUP(B203,Database!A:A,Database!L:L))=0,\"\",LOOKUP(B203,Database!A:A,Database!L:L)))","v":""},{"$f":"IF(ISNA(A203),\"\",IF(LEN(LOOKUP(B203,Database!A:A,Database!M:M))=0,\"\",LOOKUP(B203,Database!A:A,Database!M:M)))","v":""},{"$f":"IF(ISNA(A203),\"\",IF(LEN(LOOKUP(B203,Database!A:A,Database!N:N))=0,\"\",LOOKUP(B203,Database!A:A,Database!N:N)))","v":""},{"$f":"IF(ISNA(A203),\"\",IF(LEN(LOOKUP(B203,Database!A:A,Database!O:O))=0,\"\",LOOKUP(B203,Database!A:A,Database!O:O)))","v":""},{"$f":"IF(ISNA(A203),\"\",IF(LEN(LOOKUP(B203,Database!A:A,Database!P:P))=0,\"\",LOOKUP(B203,Database!A:A,Database!P:P)))","v":""},{"$f":"IF(ISNA(A203),\"\",IF(LEN(LOOKUP(B203,Database!A:A,Database!Q:Q))=0,\"\",LOOKUP(B203,Database!A:A,Database!Q:Q)))","v":""},{"$f":"IF(ISNA(A203),\"\",IF(LEN(LOOKUP(B203,Database!A:A,Database!R:R))=0,\"\",LOOKUP(B203,Database!A:A,Database!R:R)))","v":""},{"$f":"IF(ISNA(A203),\"\",IF(LEN(LOOKUP(B203,Database!A:A,Database!S:S))=0,\"\",LOOKUP(B203,Database!A:A,Database!S:S)))","v":""},null,null,null,null,null,null,189,0,null,1,0,null,0.1]
[{"$error":"#N/A"},"2018-07-09",{"$f":"IF(ISNA(A204),\"\",IF(LEN(LOOKUP(B204,Database!A:A,Database!B:B))=0,\"\",LOOKUP(B204,Database!A:A,Database!B:B)))","v":""},{"$f":"IF(ISNA(A204),\"\",IF(LEN(LOOKUP(B204,Database!A:A,Database!C:C))=0,\"\",LOOKUP(B204,Database!A:A,Database!C:C)))","v":""},{"$f":"IF(ISNA(A204),\"\",IF(LEN(LOOKUP(B204,Database!A:A,Database!D:D))=0,\"\",LOOKUP(B204,Database!A:A,Database!D:D)))","v":""},{"$f":"IF(ISNA(A204),\"\",IF(LEN(LOOKUP(B204,Database!A:A,Database!E:E))=0,\"\",LOOKUP(B204,Database!A:A,Database!E:E)))","v":""},{"$f":"IF(ISNA(A204),\"\",IF(LEN(LOOKUP(B204,Database!A:A,Database!F:F))=0,\"\",LOOKUP(B204,Database!A:A,Database!F:F)))","v":""},{"$f":"IF(ISNA(A204),\"\",IF(LEN(LOOKUP(B204,Database!A:A,Database!G:G))=0,\"\",LOOKUP(B204,Database!A:A,Database!G:G)))","v":""},{"$f":"IF(ISNA(A204),\"\",IF(LEN(LOOKUP(B204,Database!A:A,Database!H:H))=0,\"\",LOOKUP(B204,Database!A:A,Database!H:H)))","v":""},{"$f":"IF(ISNA(A204),\"\",IF(LEN(LOOKUP(B204,Database!A:A,Database!I:I))=0,\"\",LOOKUP(B204,Database!A:A,Database!I:I)))","v":""},{"$f":"IF(ISNA(A204),\"\",IF(LEN(LOOKUP(B204,Database!A:A,Database!J:J))=0,\"\",LOOKUP(B204,Database!A:A,Database!J:J)))","v":""},{"$f":"IF(ISNA(A204),\"\",IF(LEN(LOOKUP(B204,Database!A:A,Database!K:K))=0,\"\",LOOKUP(B204,Database!A:A,Database!K:K)))","v":""},{"$f":"IF(ISNA(A204),\"\",IF(LEN(LOOKUP(B204,Database!A:A,Database!L:L))=0,\"\",LOOKUP(B204,Database!A:A,Database!L:L)))","v":""},{"$f":"IF(ISNA(A204),\"\",IF(LEN(LOOKUP(B204,Database!A:A,Database!M:M))=0,\"\",LOOKUP(B204,Database!A:A,Database!M:M)))","v":""},{"$f":"IF(ISNA(A204),\"\",IF(LEN(LOOKUP(B204,Database!A:A,Database!N:N))=0,\"\",LOOKUP(B204,Database!A:A,Database!N:N)))","v":""},{"$f":"IF(ISNA(A204),\"\",IF(LEN(LOOKUP(B204,Database!A:A,Database!O:O))=0,\"\",LOOKUP(B204,Database!A:A,Database!O:O)))","v":""},{"$f":"IF(ISNA(A204),\"\",IF(LEN(LOOKUP(B204,Database!A:A,Database!P:P))=0,\"\",LOOKUP(B204,Database!A:A,Database!P:P)))","v":""},{"$f":"IF(ISNA(A204),\"\",IF(LEN(LOOKUP(B204,Database!A:A,Database!Q:Q))=0,\"\",LOOKUP(B204,Database!A:A,Database!Q:Q)))","v":""},{"$f":"IF(ISNA(A204),\"\",IF(LEN(LOOKUP(B204,Database!A:A,Database!R:R))=0,\"\",LOOKUP(B204,Database!A:A,Database!R:R)))","v":""},{"$f":"IF(ISNA(A204),\"\",IF(LEN(LOOKUP(B204,Database!A:A,Database!S:S))=0,\"\",LOOKUP(B204,Database!A:A,Database!S:S)))","v":""},null,null,null,null,null,null,190,0,null,1,0,null,0.1]
[{"$error":"#N/A"},"2018-07-10",{"$f":"IF(ISNA(A205),\"\",IF(LEN(LOOKUP(B205,Database!A:A,Database!B:B))=0,\"\",LOOKUP(B205,Database!A:A,Database!B:B)))","v":""},{"$f":"IF(ISNA(A205),\"\",IF(LEN(LOOKUP(B205,Database!A:A,Database!C:C))=0,\"\",LOOKUP(B205,Database!A:A,Database!C:C)))","v":""},{"$f":"IF(ISNA(A205),\"\",IF(LEN(LOOKUP(B205,Database!A:A,Database!D:D))=0,\"\",LOOKUP(B205,Database!A:A,Database!D:D)))","v":""},{"$f":"IF(ISNA(A205),\"\",IF(LEN(LOOKUP(B205,Database!A:A,Database!E:E))=0,\"\",LOOKUP(B205,Database!A:A,Database!E:E)))","v":""},{"$f":"IF(ISNA(A205),\"\",IF(LEN(LOOKUP(B205,Database!A:A,Database!F:F))=0,\"\",LOOKUP(B205,Database!A:A,Database!F:F)))","v":""},{"$f":"IF(ISNA(A205),\"\",IF(LEN(LOOKUP(B205,Database!A:A,Database!G:G))=0,\"\",LOOKUP(B205,Database!A:A,Database!G:G)))","v":""},{"$f":"IF(ISNA(A205),\"\",IF(LEN(LOOKUP(B205,Database!A:A,Database!H:H))=0,\"\",LOOKUP(B205,Database!A:A,Database!H:H)))","v":""},{"$f":"IF(ISNA(A205),\"\",IF(LEN(LOOKUP(B205,Database!A:A,Database!I:I))=0,\"\",LOOKUP(B205,Database!A:A,Database!I:I)))","v":""},{"$f":"IF(ISNA(A205),\"\",IF(LEN(LOOKUP(B205,Database!A:A,Database!J:J))=0,\"\",LOOKUP(B205,Database!A:A,Database!J:J)))","v":""},{"$f":"IF(ISNA(A205),\"\",IF(LEN(LOOKUP(B205,Database!A:A,Database!K:K))=0,\"\",LOOKUP(B205,Database!A:A,Database!K:K)))","v":""},{"$f":"IF(ISNA(A205),\"\",IF(LEN(LOOKUP(B205,Database!A:A,Database!L:L))=0,\"\",LOOKUP(B205,Database!A:A,Database!L:L)))","v":""},{"$f":"IF(ISNA(A205),\"\",IF(LEN(LOOKUP(B205,Database!A:A,Database!M:M))=0,\"\",LOOKUP(B205,Database!A:A,Database!M:M)))","v":""},{"$f":"IF(ISNA(A205),\"\",IF(LEN(LOOKUP(B205,Database!A:A,Database!N:N))=0,\"\",LOOKUP(B205,Database!A:A,Database!N:N)))","v":""},{"$f":"IF(ISNA(A205),\"\",IF(LEN(LOOKUP(B205,Database!A:A,Database!O:O))=0,\"\",LOOKUP(B205,Database!A:A,Database!O:O)))","v":""},{"$f":"IF(ISNA(A205),\"\",IF(LEN(LOOKUP(B205,Database!A:A,Database!P:P))=0,\"\",LOOKUP(B205,Database!A:A,Database!P:P)))","v":""},{"$f":"IF(ISNA(A205),\"\",IF(LEN(LOOKUP(B205,Database!A:A,Database!Q:Q))=0,\"\",LOOKUP(B205,Database!A:A,Database!Q:Q)))","v":""},{"$f":"IF(ISNA(A205),\"\",IF(LEN(LOOKUP(B205,Database!A:A,Database!R:R))=0,\"\",LOOKUP(B205,Database!A:A,Database!R:R)))","v":""},{"$f":"IF(ISNA(A205),\"\",IF(LEN(LOOKUP(B205,Database!A:A,Database!S:S))=0,\"\",LOOKUP(B205,Database!A:A,Database!S:S)))","v":""},null,null,null,null,null,null,191,0,null,1,0,null,0.1]
[{"$error":"#N/A"},"2018-07-11",{"$f":"IF(ISNA(A206),\"\",IF(LEN(LOOKUP(B206,Database!A:A,Database!B:B))=0,\"\",LOOKUP(B206,Database!A:A,Database!B:B)))","v":""},{"$f":"IF(ISNA(A206),\"\",IF(LEN(LOOKUP(B206,Database!A:A,Database!C:C))=0,\"\",LOOKUP(B206,Database!A:A,Database!C:C)))","v":""},{"$f":"IF(ISNA(A206),\"\",IF(LEN(LOOKUP(B206,Database!A:A,Database!D:D))=0,\"\",LOOKUP(B206,Database!A:A,Database!D:D)))","v":""},{"$f":"IF(ISNA(A206),\"\",IF(LEN(LOOKUP(B206,Database!A:A,Database!E:E))=0,\"\",LOOKUP(B206,Database!A:A,Database!E:E)))","v":""},{"$f":"IF(ISNA(A206),\"\",IF(LEN(LOOKUP(B206,Database!A:A,Database!F:F))=0,\"\",LOOKUP(B206,Database!A:A,Database!F:F)))","v":""},{"$f":"IF(ISNA(A206),\"\",IF(LEN(LOOKUP(B206,Database!A:A,Database!G:G))=0,\"\",LOOKUP(B206,Database!A:A,Database!G:G)))","v":""},{"$f":"IF(ISNA(A206),\"\",IF(LEN(LOOKUP(B206,Database!A:A,Database!H:H))=0,\"\",LOOKUP(B206,Database!A:A,Database!H:H)))","v":""},{"$f":"IF(ISNA(A206),\"\",IF(LEN(LOOKUP(B206,Database!A:A,Database!I:I))=0,\"\",LOOKUP(B206,Database!A:A,Database!I:I)))","v":""},{"$f":"IF(ISNA(A206),\"\",IF(LEN(LOOKUP(B206,Database!A:A,Database!J:J))=0,\"\",LOOKUP(B206,Database!A:A,Database!J:J)))","v":""},{"$f":"IF(ISNA(A206),\"\",IF(LEN(LOOKUP(B206,Database!A:A,Database!K:K))=0,\"\",LOOKUP(B206,Database!A:A,Database!K:K)))","v":""},{"$f":"IF(ISNA(A206),\"\",IF(LEN(LOOKUP(B206,Database!A:A,Database!L:L))=0,\"\",LOOKUP(B206,Database!A:A,Database!L:L)))","v":""},{"$f":"IF(ISNA(A206),\"\",IF(LEN(LOOKUP(B206,Database!A:A,Database!M:M))=0,\"\",LOOKUP(B206,Database!A:A,Database!M:M)))","v":""},{"$f":"IF(ISNA(A206),\"\",IF(LEN(LOOKUP(B206,Database!A:A,Database!N:N))=0,\"\",LOOKUP(B206,Database!A:A,Database!N:N)))","v":""},{"$f":"IF(ISNA(A206),\"\",IF(LEN(LOOKUP(B206,Database!A:A,Database!O:O))=0,\"\",LOOKUP(B206,Database!A:A,Database!O:O)))","v":""},{"$f":"IF(ISNA(A206),\"\",IF(LEN(LOOKUP(B206,Database!A:A,Database!P:P))=0,\"\",LOOKUP(B206,Database!A:A,Database!P:P)))","v":""},{"$f":"IF(ISNA(A206),\"\",IF(LEN(LOOKUP(B206,Database!A:A,Database!Q:Q))=0,\"\",LOOKUP(B206,Database!A:A,Database!Q:Q)))","v":""},{"$f":"IF(ISNA(A206),\"\",IF(LEN(LOOKUP(B206,Database!A:A,Database!R:R))=0,\"\",LOOKUP(B206,Database!A:A,Database!R:R)))","v":""},{"$f":"IF(ISNA(A206),\"\",IF(LEN(LOOKUP(B206,Database!A:A,Database!S:S))=0,\"\",LOOKUP(B206,Database!A:A,Database!S:S)))","v":""},null,null,null,null,null,null,192,0,null,1,0,null,0.1]
[{"$error":"#N/A"},"2018-07-12",{"$f":"IF(ISNA(A207),\"\",IF(LEN(LOOKUP(B207,Database!A:A,Database!B:B))=0,\"\",LOOKUP(B207,Database!A:A,Database!B:B)))","v":""},{"$f":"IF(ISNA(A207),\"\",IF(LEN(LOOKUP(B207,Database!A:A,Database!C:C))=0,\"\",LOOKUP(B207,Database!A:A,Database!C:C)))","v":""},{"$f":"IF(ISNA(A207),\"\",IF(LEN(LOOKUP(B207,Database!A:A,Database!D:D))=0,\"\",LOOKUP(B207,Database!A:A,Database!D:D)))","v":""},{"$f":"IF(ISNA(A207),\"\",IF(LEN(LOOKUP(B207,Database!A:A,Database!E:E))=0,\"\",LOOKUP(B207,Database!A:A,Database!E:E)))","v":""},{"$f":"IF(ISNA(A207),\"\",IF(LEN(LOOKUP(B207,Database!A:A,Database!F:F))=0,\"\",LOOKUP(B207,Database!A:A,Database!F:F)))","v":""},{"$f":"IF(ISNA(A207),\"\",IF(LEN(LOOKUP(B207,Database!A:A,Database!G:G))=0,\"\",LOOKUP(B207,Database!A:A,Database!G:G)))","v":""},{"$f":"IF(ISNA(A207),\"\",IF(LEN(LOOKUP(B207,Database!A:A,Database!H:H))=0,\"\",LOOKUP(B207,Database!A:A,Database!H:H)))","v":""},{"$f":"IF(ISNA(A207),\"\",IF(LEN(LOOKUP(B207,Database!A:A,Database!I:I))=0,\"\",LOOKUP(B207,Database!A:A,Database!I:I)))","v":""},{"$f":"IF(ISNA(A207),\"\",IF(LEN(LOOKUP(B207,Database!A:A,Database!J:J))=0,\"\",LOOKUP(B207,Database!A:A,Database!J:J)))","v":""},{"$f":"IF(ISNA(A207),\"\",IF(LEN(LOOKUP(B207,Database!A:A,Database!K:K))=0,\"\",LOOKUP(B207,Database!A:A,Database!K:K)))","v":""},{"$f":"IF(ISNA(A207),\"\",IF(LEN(LOOKUP(B207,Database!A:A,Database!L:L))=0,\"\",LOOKUP(B207,Database!A:A,Database!L:L)))","v":""},{"$f":"IF(ISNA(A207),\"\",IF(LEN(LOOKUP(B207,Database!A:A,Database!M:M))=0,\"\",LOOKUP(B207,Database!A:A,Database!M:M)))","v":""},{"$f":"IF(ISNA(A207),\"\",IF(LEN(LOOKUP(B207,Database!A:A,Database!N:N))=0,\"\",LOOKUP(B207,Database!A:A,Database!N:N)))","v":""},{"$f":"IF(ISNA(A207),\"\",IF(LEN(LOOKUP(B207,Database!A:A,Database!O:O))=0,\"\",LOOKUP(B207,Database!A:A,Database!O:O)))","v":""},{"$f":"IF(ISNA(A207),\"\",IF(LEN(LOOKUP(B207,Database!A:A,Database!P:P))=0,\"\",LOOKUP(B207,Database!A:A,Database!P:P)))","v":""},{"$f":"IF(ISNA(A207),\"\",IF(LEN(LOOKUP(B207,Database!A:A,Database!Q:Q))=0,\"\",LOOKUP(B207,Database!A:A,Database!Q:Q)))","v":""},{"$f":"IF(ISNA(A207),\"\",IF(LEN(LOOKUP(B207,Database!A:A,Database!R:R))=0,\"\",LOOKUP(B207,Database!A:A,Database!R:R)))","v":""},{"$f":"IF(ISNA(A207),\"\",IF(LEN(LOOKUP(B207,Database!A:A,Database!S:S))=0,\"\",LOOKUP(B207,Database!A:A,Database!S:S)))","v":""},null,null,null,null,null,null,193,{"$f":"MAX(D207:G207)","v":0},null,{"$f":"$H$4","v":1},0,null,{"$f":"$H$5","v":0.1}]
[{"$f":"VLOOKUP(B208,Database2,1,FALSE)","v":{"$error":"#N/A"}},"2018-07-13",{"$f":"IF(ISNA(A208),\"\",IF(LEN(LOOKUP(B208,Database!A:A,Database!B:B))=0,\"\",LOOKUP(B208,Database!A:A,Database!B:B)))","v":""},{"$f":"IF(ISNA(A208),\"\",IF(LEN(LOOKUP(B208,Database!A:A,Database!C:C))=0,\"\",LOOKUP(B208,Database!A:A,Database!C:C)))","v":""},{"$f":"IF(ISNA(A208),\"\",IF(LEN(LOOKUP(B208,Database!A:A,Database!D:D))=0,\"\",LOOKUP(B208,Database!A:A,Database!D:D)))","v":""},{"$f":"IF(ISNA(A208),\"\",IF(LEN(LOOKUP(B208,Database!A:A,Database!E:E))=0,\"\",LOOKUP(B208,Database!A:A,Database!E:E)))","v":""},{"$f":"IF(ISNA(A208),\"\",IF(LEN(LOOKUP(B208,Database!A:A,Database!F:F))=0,\"\",LOOKUP(B208,Database!A:A,Database!F:F)))","v":""},{"$f":"IF(ISNA(A208),\"\",IF(LEN(LOOKUP(B208,Database!A:A,Database!G:G))=0,\"\",LOOKUP(B208,Database!A:A,Database!G:G)))","v":""},{"$f":"IF(ISNA(A208),\"\",IF(LEN(LOOKUP(B208,Database!A:A,Database!H:H))=0,\"\",LOOKUP(B208,Database!A:A,Database!H:H)))","v":""},{"$f":"IF(ISNA(A208),\"\",IF(LEN(LOOKUP(B208,Database!A:A,Database!I:I))=0,\"\",LOOKUP(B208,Database!A:A,Database!I:I)))","v":""},{"$f":"IF(ISNA(A208),\"\",IF(LEN(LOOKUP(B208,Database!A:A,Database!J:J))=0,\"\",LOOKUP(B208,Database!A:A,Database!J:J)))","v":""},{"$f":"IF(ISNA(A208),\"\",IF(LEN(LOOKUP(B208,Database!A:A,Database!K:K))=0,\"\",LOOKUP(B208,Database!A:A,Database!K:K)))","v":""},{"$f":"IF(ISNA(A208),\"\",IF(LEN(LOOKUP(B208,Database!A:A,Database!L:L))=0,\"\",LOOKUP(B208,Database!A:A,Database!L:L)))","v":""},{"$f":"IF(ISNA(A208),\"\",IF(LEN(LOOKUP(B208,Database!A:A,Database!M:M))=0,\"\",LOOKUP(B208,Database!A:A,Database!M:M)))","v":""},{"$f":"IF(ISNA(A208),\"\",IF(LEN(LOOKUP(B208,Database!A:A,Database!N:N))=0,\"\",LOOKUP(B208,Database!A:A,Database!N:N)))","v":""},{"$f":"IF(ISNA(A208),\"\",IF(LEN(LOOKUP(B208,Database!A:A,Database!O:O))=0,\"\",LOOKUP(B208,Database!A:A,Database!O:O)))","v":""},{"$f":"IF(ISNA(A208),\"\",IF(LEN(LOOKUP(B208,Database!A:A,Database!P:P))=0,\"\",LOOKUP(B208,Database!A:A,Database!P:P)))","v":""},{"$f":"IF(ISNA(A208),\"\",IF(LEN(LOOKUP(B208,Database!A:A,Database!Q:Q))=0,\"\",LOOKUP(B208,Database!A:A,Database!Q:Q)))","v":""},{"$f":"IF(ISNA(A208),\"\",IF(LEN(LOOKUP(B208,Database!A:A,Database!R:R))=0,\"\",LOOKUP(B208,Database!A:A,Database!R:R)))","v":""},{"$f":"IF(ISNA(A208),\"\",IF(LEN(LOOKUP(B208,Database!A:A,Database!S:S))=0,\"\",LOOKUP(B208,Database!A:A,Database!S:S)))","v":""},null,null,null,null,null,null,{"$f":"AA207+1","v":194},0,null,1,{"$f":"MAX(H208:S208)","v":0},null,0.1]
[{"$error":"#N/A"},"2018-07-14",{"$f":"IF(ISNA(A209),\"\",IF(LEN(LOOKUP(B209,Database!A:A,Database!B:B))=0,\"\",LOOKUP(B209,Database!A:A,Database!B:B)))","v":""},{"$f":"IF(ISNA(A209),\"\",IF(LEN(LOOKUP(B209,Database!A:A,Database!C:C))=0,\"\",LOOKUP(B209,Database!A:A,Database!C:C)))","v":""},{"$f":"IF(ISNA(A209),\"\",IF(LEN(LOOKUP(B209,Database!A:A,Database!D:D))=0,\"\",LOOKUP(B209,Database!A:A,Database!D:D)))","v":""},{"$f":"IF(ISNA(A209),\"\",IF(LEN(LOOKUP(B209,Database!A:A,Database!E:E))=0,\"\",LOOKUP(B209,Database!A:A,Database!E:E)))","v":""},{"$f":"IF(ISNA(A209),\"\",IF(LEN(LOOKUP(B209,Database!A:A,Database!F:F))=0,\"\",LOOKUP(B209,Database!A:A,Database!F:F)))","v":""},{"$f":"IF(ISNA(A209),\"\",IF(LEN(LOOKUP(B209,Database!A:A,Database!G:G))=0,\"\",LOOKUP(B209,Database!A:A,Database!G:G)))","v":""},{"$f":"IF(ISNA(A209),\"\",IF(LEN(LOOKUP(B209,Database!A:A,Database!H:H))=0,\"\",LOOKUP(B209,Database!A:A,Database!H:H)))","v":""},{"$f":"IF(ISNA(A209),\"\",IF(LEN(LOOKUP(B209,Database!A:A,Database!I:I))=0,\"\",LOOKUP(B209,Database!A:A,Database!I:I)))","v":""},{"$f":"IF(ISNA(A209),\"\",IF(LEN(LOOKUP(B209,Database!A:A,Database!J:J))=0,\"\",LOOKUP(B209,Database!A:A,Database!J:J)))","v":""},{"$f":"IF(ISNA(A209),\"\",IF(LEN(LOOKUP(B209,Database!A:A,Database!K:K))=0,\"\",LOOKUP(B209,Database!A:A,Database!K:K)))","v":""},{"$f":"IF(ISNA(A209),\"\",IF(LEN(LOOKUP(B209,Database!A:A,Database!L:L))=0,\"\",LOOKUP(B209,Database!A:A,Database!L:L)))","v":""},{"$f":"IF(ISNA(A209),\"\",IF(LEN(LOOKUP(B209,Database!A:A,Database!M:M))=0,\"\",LOOKUP(B209,Database!A:A,Database!M:M)))","v":""},{"$f":"IF(ISNA(A209),\"\",IF(LEN(LOOKUP(B209,Database!A:A,Database!N:N))=0,\"\",LOOKUP(B209,Database!A:A,Database!N:N)))","v":""},{"$f":"IF(ISNA(A209),\"\",IF(LEN(LOOKUP(B209,Database!A:A,Database!O:O))=0,\"\",LOOKUP(B209,Database!A:A,Database!O:O)))","v":""},{"$f":"IF(ISNA(A209),\"\",IF(LEN(LOOKUP(B209,Database!A:A,Database!P:P))=0,\"\",LOOKUP(B209,Database!A:A,Database!P:P)))","v":""},{"$f":"IF(ISNA(A209),\"\",IF(LEN(LOOKUP(B209,Database!A:A,Database!Q:Q))=0,\"\",LOOKUP(B209,Database!A:A,Database!Q:Q)))","v":""},{"$f":"IF(ISNA(A209),\"\",IF(LEN(LOOKUP(B209,Database!A:A,Database!R:R))=0,\"\",LOOKUP(B209,Database!A:A,Database!R:R)))","v":""},{"$f":"IF(ISNA(A209),\"\",IF(LEN(LOOKUP(B209,Database!A:A,Database!S:S))=0,\"\",LOOKUP(B209,Database!A:A,Database!S:S)))","v":""},null,null,null,null,null,null,195,0,null,1,0,null,0.1]
[{"$error":"#N/A"},{"$f":"B209+1","v":"2018-07-15"},{"$f":"IF(ISNA(A210),\"\",IF(LEN(LOOKUP(B210,Database!A:A,Database!B:B))=0,\"\",LOOKUP(B210,Database!A:A,Database!B:B)))","v":""},{"$f":"IF(ISNA(A210),\"\",IF(LEN(LOOKUP(B210,Database!A:A,Database!C:C))=0,\"\",LOOKUP(B210,Database!A:A,Database!C:C)))","v":""},{"$f":"IF(ISNA(A210),\"\",IF(LEN(LOOKUP(B210,Database!A:A,Database!D:D))=0,\"\",LOOKUP(B210,Database!A:A,Database!D:D)))","v":""},{"$f":"IF(ISNA(A210),\"\",IF(LEN(LOOKUP(B210,Database!A:A,Database!E:E))=0,\"\",LOOKUP(B210,Database!A:A,Database!E:E)))","v":""},{"$f":"IF(ISNA(A210),\"\",IF(LEN(LOOKUP(B210,Database!A:A,Database!F:F))=0,\"\",LOOKUP(B210,Database!A:A,Database!F:F)))","v":""},{"$f":"IF(ISNA(A210),\"\",IF(LEN(LOOKUP(B210,Database!A:A,Database!G:G))=0,\"\",LOOKUP(B210,Database!A:A,Database!G:G)))","v":""},{"$f":"IF(ISNA(A210),\"\",IF(LEN(LOOKUP(B210,Database!A:A,Database!H:H))=0,\"\",LOOKUP(B210,Database!A:A,Database!H:H)))","v":""},{"$f":"IF(ISNA(A210),\"\",IF(LEN(LOOKUP(B210,Database!A:A,Database!I:I))=0,\"\",LOOKUP(B210,Database!A:A,Database!I:I)))","v":""},{"$f":"IF(ISNA(A210),\"\",IF(LEN(LOOKUP(B210,Database!A:A,Database!J:J))=0,\"\",LOOKUP(B210,Database!A:A,Database!J:J)))","v":""},{"$f":"IF(ISNA(A210),\"\",IF(LEN(LOOKUP(B210,Database!A:A,Database!K:K))=0,\"\",LOOKUP(B210,Database!A:A,Database!K:K)))","v":""},{"$f":"IF(ISNA(A210),\"\",IF(LEN(LOOKUP(B210,Database!A:A,Database!L:L))=0,\"\",LOOKUP(B210,Database!A:A,Database!L:L)))","v":""},{"$f":"IF(ISNA(A210),\"\",IF(LEN(LOOKUP(B210,Database!A:A,Database!M:M))=0,\"\",LOOKUP(B210,Database!A:A,Database!M:M)))","v":""},{"$f":"IF(ISNA(A210),\"\",IF(LEN(LOOKUP(B210,Database!A:A,Database!N:N))=0,\"\",LOOKUP(B210,Database!A:A,Database!N:N)))","v":""},{"$f":"IF(ISNA(A210),\"\",IF(LEN(LOOKUP(B210,Database!A:A,Database!O:O))=0,\"\",LOOKUP(B210,Database!A:A,Database!O:O)))","v":""},{"$f":"IF(ISNA(A210),\"\",IF(LEN(LOOKUP(B210,Database!A:A,Database!P:P))=0,\"\",LOOKUP(B210,Database!A:A,Database!P:P)))","v":""},{"$f":"IF(ISNA(A210),\"\",IF(LEN(LOOKUP(B210,Database!A:A,Database!Q:Q))=0,\"\",LOOKUP(B210,Database!A:A,Database!Q:Q)))","v":""},{"$f":"IF(ISNA(A210),\"\",IF(LEN(LOOKUP(B210,Database!A:A,Database!R:R))=0,\"\",LOOKUP(B210,Database!A:A,Database!R:R)))","v":""},{"$f":"IF(ISNA(A210),\"\",IF(LEN(LOOKUP(B210,Database!A:A,Database!S:S))=0,\"\",LOOKUP(B210,Database!A:A,Database!S:S)))","v":""},null,null,null,null,null,null,196,0,null,1,0,null,0.1]
[{"$error":"#N/A"},"2018-07-16",{"$f":"IF(ISNA(A211),\"\",IF(LEN(LOOKUP(B211,Database!A:A,Database!B:B))=0,\"\",LOOKUP(B211,Database!A:A,Database!B:B)))","v":""},{"$f":"IF(ISNA(A211),\"\",IF(LEN(LOOKUP(B211,Database!A:A,Database!C:C))=0,\"\",LOOKUP(B211,Database!A:A,Database!C:C)))","v":""},{"$f":"IF(ISNA(A211),\"\",IF(LEN(LOOKUP(B211,Database!A:A,Database!D:D))=0,\"\",LOOKUP(B211,Database!A:A,Database!D:D)))","v":""},{"$f":"IF(ISNA(A211),\"\",IF(LEN(LOOKUP(B211,Database!A:A,Database!E:E))=0,\"\",LOOKUP(B211,Database!A:A,Database!E:E)))","v":""},{"$f":"IF(ISNA(A211),\"\",IF(LEN(LOOKUP(B211,Database!A:A,Database!F:F))=0,\"\",LOOKUP(B211,Database!A:A,Database!F:F)))","v":""},{"$f":"IF(ISNA(A211),\"\",IF(LEN(LOOKUP(B211,Database!A:A,Database!G:G))=0,\"\",LOOKUP(B211,Database!A:A,Database!G:G)))","v":""},{"$f":"IF(ISNA(A211),\"\",IF(LEN(LOOKUP(B211,Database!A:A,Database!H:H))=0,\"\",LOOKUP(B211,Database!A:A,Database!H:H)))","v":""},{"$f":"IF(ISNA(A211),\"\",IF(LEN(LOOKUP(B211,Database!A:A,Database!I:I))=0,\"\",LOOKUP(B211,Database!A:A,Database!I:I)))","v":""},{"$f":"IF(ISNA(A211),\"\",IF(LEN(LOOKUP(B211,Database!A:A,Database!J:J))=0,\"\",LOOKUP(B211,Database!A:A,Database!J:J)))","v":""},{"$f":"IF(ISNA(A211),\"\",IF(LEN(LOOKUP(B211,Database!A:A,Database!K:K))=0,\"\",LOOKUP(B211,Database!A:A,Database!K:K)))","v":""},{"$f":"IF(ISNA(A211),\"\",IF(LEN(LOOKUP(B211,Database!A:A,Database!L:L))=0,\"\",LOOKUP(B211,Database!A:A,Database!L:L)))","v":""},{"$f":"IF(ISNA(A211),\"\",IF(LEN(LOOKUP(B211,Database!A:A,Database!M:M))=0,\"\",LOOKUP(B211,Database!A:A,Database!M:M)))","v":""},{"$f":"IF(ISNA(A211),\"\",IF(LEN(LOOKUP(B211,Database!A:A,Database!N:N))=0,\"\",LOOKUP(B211,Database!A:A,Database!N:N)))","v":""},{"$f":"IF(ISNA(A211),\"\",IF(LEN(LOOKUP(B211,Database!A:A,Database!O:O))=0,\"\",LOOKUP(B211,Database!A:A,Database!O:O)))","v":""},{"$f":"IF(ISNA(A211),\"\",IF(LEN(LOOKUP(B211,Database!A:A,Database!P:P))=0,\"\",LOOKUP(B211,Database!A:A,Database!P:P)))","v":""},{"$f":"IF(ISNA(A211),\"\",IF(LEN(LOOKUP(B211,Database!A:A,Database!Q:Q))=0,\"\",LOOKUP(B211,Database!A:A,Database!Q:Q)))","v":""},{"$f":"IF(ISNA(A211),\"\",IF(LEN(LOOKUP(B211,Database!A:A,Database!R:R))=0,\"\",LOOKUP(B211,Database!A:A,Database!R:R)))","v":""},{"$f":"IF(ISNA(A211),\"\",IF(LEN(LOOKUP(B211,Database!A:A,Database!S:S))=0,\"\",LOOKUP(B211,Database!A:A,Database!S:S)))","v":""},null,null,null,null,null,null,197,0,null,1,0,null,0.1]
[{"$error":"#N/A"},"2018-07-17",{"$f":"IF(ISNA(A212),\"\",IF(LEN(LOOKUP(B212,Database!A:A,Database!B:B))=0,\"\",LOOKUP(B212,Database!A:A,Database!B:B)))","v":""},{"$f":"IF(ISNA(A212),\"\",IF(LEN(LOOKUP(B212,Database!A:A,Database!C:C))=0,\"\",LOOKUP(B212,Database!A:A,Database!C:C)))","v":""},{"$f":"IF(ISNA(A212),\"\",IF(LEN(LOOKUP(B212,Database!A:A,Database!D:D))=0,\"\",LOOKUP(B212,Database!A:A,Database!D:D)))","v":""},{"$f":"IF(ISNA(A212),\"\",IF(LEN(LOOKUP(B212,Database!A:A,Database!E:E))=0,\"\",LOOKUP(B212,Database!A:A,Database!E:E)))","v":""},{"$f":"IF(ISNA(A212),\"\",IF(LEN(LOOKUP(B212,Database!A:A,Database!F:F))=0,\"\",LOOKUP(B212,Database!A:A,Database!F:F)))","v":""},{"$f":"IF(ISNA(A212),\"\",IF(LEN(LOOKUP(B212,Database!A:A,Database!G:G))=0,\"\",LOOKUP(B212,Database!A:A,Database!G:G)))","v":""},{"$f":"IF(ISNA(A212),\"\",IF(LEN(LOOKUP(B212,Database!A:A,Database!H:H))=0,\"\",LOOKUP(B212,Database!A:A,Database!H:H)))","v":""},{"$f":"IF(ISNA(A212),\"\",IF(LEN(LOOKUP(B212,Database!A:A,Database!I:I))=0,\"\",LOOKUP(B212,Database!A:A,Database!I:I)))","v":""},{"$f":"IF(ISNA(A212),\"\",IF(LEN(LOOKUP(B212,Database!A:A,Database!J:J))=0,\"\",LOOKUP(B212,Database!A:A,Database!J:J)))","v":""},{"$f":"IF(ISNA(A212),\"\",IF(LEN(LOOKUP(B212,Database!A:A,Database!K:K))=0,\"\",LOOKUP(B212,Database!A:A,Database!K:K)))","v":""},{"$f":"IF(ISNA(A212),\"\",IF(LEN(LOOKUP(B212,Database!A:A,Database!L:L))=0,\"\",LOOKUP(B212,Database!A:A,Database!L:L)))","v":""},{"$f":"IF(ISNA(A212),\"\",IF(LEN(LOOKUP(B212,Database!A:A,Database!M:M))=0,\"\",LOOKUP(B212,Database!A:A,Database!M:M)))","v":""},{"$f":"IF(ISNA(A212),\"\",IF(LEN(LOOKUP(B212,Database!A:A,Database!N:N))=0,\"\",LOOKUP(B212,Database!A:A,Database!N:N)))","v":""},{"$f":"IF(ISNA(A212),\"\",IF(LEN(LOOKUP(B212,Database!A:A,Database!O:O))=0,\"\",LOOKUP(B212,Database!A:A,Database!O:O)))","v":""},{"$f":"IF(ISNA(A212),\"\",IF(LEN(LOOKUP(B212,Database!A:A,Database!P:P))=0,\"\",LOOKUP(B212,Database!A:A,Database!P:P)))","v":""},{"$f":"IF(ISNA(A212),\"\",IF(LEN(LOOKUP(B212,Database!A:A,Database!Q:Q))=0,\"\",LOOKUP(B212,Database!A:A,Database!Q:Q)))","v":""},{"$f":"IF(ISNA(A212),\"\",IF(LEN(LOOKUP(B212,Database!A:A,Database!R:R))=0,\"\",LOOKUP(B212,Database!A:A,Database!R:R)))","v":""},{"$f":"IF(ISNA(A212),\"\",IF(LEN(LOOKUP(B212,Database!A:A,Database!S:S))=0,\"\",LOOKUP(B212,Database!A:A,Database!S:S)))","v":""},null,null,null,null,null,null,198,0,null,1,0,null,0.1]
[{"$error":"#N/A"},"2018-07-18",{"$f":"IF(ISNA(A213),\"\",IF(LEN(LOOKUP(B213,Database!A:A,Database!B:B))=0,\"\",LOOKUP(B213,Database!A:A,Database!B:B)))","v":""},{"$f":"IF(ISNA(A213),\"\",IF(LEN(LOOKUP(B213,Database!A:A,Database!C:C))=0,\"\",LOOKUP(B213,Database!A:A,Database!C:C)))","v":""},{"$f":"IF(ISNA(A213),\"\",IF(LEN(LOOKUP(B213,Database!A:A,Database!D:D))=0,\"\",LOOKUP(B213,Database!A:A,Database!D:D)))","v":""},{"$f":"IF(ISNA(A213),\"\",IF(LEN(LOOKUP(B213,Database!A:A,Database!E:E))=0,\"\",LOOKUP(B213,Database!A:A,Database!E:E)))","v":""},{"$f":"IF(ISNA(A213),\"\",IF(LEN(LOOKUP(B213,Database!A:A,Database!F:F))=0,\"\",LOOKUP(B213,Database!A:A,Database!F:F)))","v":""},{"$f":"IF(ISNA(A213),\"\",IF(LEN(LOOKUP(B213,Database!A:A,Database!G:G))=0,\"\",LOOKUP(B213,Database!A:A,Database!G:G)))","v":""},{"$f":"IF(ISNA(A213),\"\",IF(LEN(LOOKUP(B213,Database!A:A,Database!H:H))=0,\"\",LOOKUP(B213,Database!A:A,Database!H:H)))","v":""},{"$f":"IF(ISNA(A213),\"\",IF(LEN(LOOKUP(B213,Database!A:A,Database!I:I))=0,\"\",LOOKUP(B213,Database!A:A,Database!I:I)))","v":""},{"$f":"IF(ISNA(A213),\"\",IF(LEN(LOOKUP(B213,Database!A:A,Database!J:J))=0,\"\",LOOKUP(B213,Database!A:A,Database!J:J)))","v":""},{"$f":"IF(ISNA(A213),\"\",IF(LEN(LOOKUP(B213,Database!A:A,Database!K:K))=0,\"\",LOOKUP(B213,Database!A:A,Database!K:K)))","v":""},{"$f":"IF(ISNA(A213),\"\",IF(LEN(LOOKUP(B213,Database!A:A,Database!L:L))=0,\"\",LOOKUP(B213,Database!A:A,Database!L:L)))","v":""},{"$f":"IF(ISNA(A213),\"\",IF(LEN(LOOKUP(B213,Database!A:A,Database!M:M))=0,\"\",LOOKUP(B213,Database!A:A,Database!M:M)))","v":""},{"$f":"IF(ISNA(A213),\"\",IF(LEN(LOOKUP(B213,Database!A:A,Database!N:N))=0,\"\",LOOKUP(B213,Database!A:A,Database!N:N)))","v":""},{"$f":"IF(ISNA(A213),\"\",IF(LEN(LOOKUP(B213,Database!A:A,Database!O:O))=0,\"\",LOOKUP(B213,Database!A:A,Database!O:O)))","v":""},{"$f":"IF(ISNA(A213),\"\",IF(LEN(LOOKUP(B213,Database!A:A,Database!P:P))=0,\"\",LOOKUP(B213,Database!A:A,Database!P:P)))","v":""},{"$f":"IF(ISNA(A213),\"\",IF(LEN(LOOKUP(B213,Database!A:A,Database!Q:Q))=0,\"\",LOOKUP(B213,Database!A:A,Database!Q:Q)))","v":""},{"$f":"IF(ISNA(A213),\"\",IF(LEN(LOOKUP(B213,Database!A:A,Database!R:R))=0,\"\",LOOKUP(B213,Database!A:A,Database!R:R)))","v":""},{"$f":"IF(ISNA(A213),\"\",IF(LEN(LOOKUP(B213,Database!A:A,Database!S:S))=0,\"\",LOOKUP(B213,Database!A:A,Database!S:S)))","v":""},null,null,null,null,null,null,199,0,null,1,0,null,0.1]
[{"$error":"#N/A"},"2018-07-19",{"$f":"IF(ISNA(A214),\"\",IF(LEN(LOOKUP(B214,Database!A:A,Database!B:B))=0,\"\",LOOKUP(B214,Database!A:A,Database!B:B)))","v":""},{"$f":"IF(ISNA(A214),\"\",IF(LEN(LOOKUP(B214,Database!A:A,Database!C:C))=0,\"\",LOOKUP(B214,Database!A:A,Database!C:C)))","v":""},{"$f":"IF(ISNA(A214),\"\",IF(LEN(LOOKUP(B214,Database!A:A,Database!D:D))=0,\"\",LOOKUP(B214,Database!A:A,Database!D:D)))","v":""},{"$f":"IF(ISNA(A214),\"\",IF(LEN(LOOKUP(B214,Database!A:A,Database!E:E))=0,\"\",LOOKUP(B214,Database!A:A,Database!E:E)))","v":""},{"$f":"IF(ISNA(A214),\"\",IF(LEN(LOOKUP(B214,Database!A:A,Database!F:F))=0,\"\",LOOKUP(B214,Database!A:A,Database!F:F)))","v":""},{"$f":"IF(ISNA(A214),\"\",IF(LEN(LOOKUP(B214,Database!A:A,Database!G:G))=0,\"\",LOOKUP(B214,Database!A:A,Database!G:G)))","v":""},{"$f":"IF(ISNA(A214),\"\",IF(LEN(LOOKUP(B214,Database!A:A,Database!H:H))=0,\"\",LOOKUP(B214,Database!A:A,Database!H:H)))","v":""},{"$f":"IF(ISNA(A214),\"\",IF(LEN(LOOKUP(B214,Database!A:A,Database!I:I))=0,\"\",LOOKUP(B214,Database!A:A,Database!I:I)))","v":""},{"$f":"IF(ISNA(A214),\"\",IF(LEN(LOOKUP(B214,Database!A:A,Database!J:J))=0,\"\",LOOKUP(B214,Database!A:A,Database!J:J)))","v":""},{"$f":"IF(ISNA(A214),\"\",IF(LEN(LOOKUP(B214,Database!A:A,Database!K:K))=0,\"\",LOOKUP(B214,Database!A:A,Database!K:K)))","v":""},{"$f":"IF(ISNA(A214),\"\",IF(LEN(LOOKUP(B214,Database!A:A,Database!L:L))=0,\"\",LOOKUP(B214,Database!A:A,Database!L:L)))","v":""},{"$f":"IF(ISNA(A214),\"\",IF(LEN(LOOKUP(B214,Database!A:A,Database!M:M))=0,\"\",LOOKUP(B214,Database!A:A,Database!M:M)))","v":""},{"$f":"IF(ISNA(A214),\"\",IF(LEN(LOOKUP(B214,Database!A:A,Database!N:N))=0,\"\",LOOKUP(B214,Database!A:A,Database!N:N)))","v":""},{"$f":"IF(ISNA(A214),\"\",IF(LEN(LOOKUP(B214,Database!A:A,Database!O:O))=0,\"\",LOOKUP(B214,Database!A:A,Database!O:O)))","v":""},{"$f":"IF(ISNA(A214),\"\",IF(LEN(LOOKUP(B214,Database!A:A,Database!P:P))=0,\"\",LOOKUP(B214,Database!A:A,Database!P:P)))","v":""},{"$f":"IF(ISNA(A214),\"\",IF(LEN(LOOKUP(B214,Database!A:A,Database!Q:Q))=0,\"\",LOOKUP(B214,Database!A:A,Database!Q:Q)))","v":""},{"$f":"IF(ISNA(A214),\"\",IF(LEN(LOOKUP(B214,Database!A:A,Database!R:R))=0,\"\",LOOKUP(B214,Database!A:A,Database!R:R)))","v":""},{"$f":"IF(ISNA(A214),\"\",IF(LEN(LOOKUP(B214,Database!A:A,Database!S:S))=0,\"\",LOOKUP(B214,Database!A:A,Database!S:S)))","v":""},null,null,null,null,null,null,200,0,null,1,0,null,0.1]
[{"$error":"#N/A"},"2018-07-20",{"$f":"IF(ISNA(A215),\"\",IF(LEN(LOOKUP(B215,Database!A:A,Database!B:B))=0,\"\",LOOKUP(B215,Database!A:A,Database!B:B)))","v":""},{"$f":"IF(ISNA(A215),\"\",IF(LEN(LOOKUP(B215,Database!A:A,Database!C:C))=0,\"\",LOOKUP(B215,Database!A:A,Database!C:C)))","v":""},{"$f":"IF(ISNA(A215),\"\",IF(LEN(LOOKUP(B215,Database!A:A,Database!D:D))=0,\"\",LOOKUP(B215,Database!A:A,Database!D:D)))","v":""},{"$f":"IF(ISNA(A215),\"\",IF(LEN(LOOKUP(B215,Database!A:A,Database!E:E))=0,\"\",LOOKUP(B215,Database!A:A,Database!E:E)))","v":""},{"$f":"IF(ISNA(A215),\"\",IF(LEN(LOOKUP(B215,Database!A:A,Database!F:F))=0,\"\",LOOKUP(B215,Database!A:A,Database!F:F)))","v":""},{"$f":"IF(ISNA(A215),\"\",IF(LEN(LOOKUP(B215,Database!A:A,Database!G:G))=0,\"\",LOOKUP(B215,Database!A:A,Database!G:G)))","v":""},{"$f":"IF(ISNA(A215),\"\",IF(LEN(LOOKUP(B215,Database!A:A,Database!H:H))=0,\"\",LOOKUP(B215,Database!A:A,Database!H:H)))","v":""},{"$f":"IF(ISNA(A215),\"\",IF(LEN(LOOKUP(B215,Database!A:A,Database!I:I))=0,\"\",LOOKUP(B215,Database!A:A,Database!I:I)))","v":""},{"$f":"IF(ISNA(A215),\"\",IF(LEN(LOOKUP(B215,Database!A:A,Database!J:J))=0,\"\",LOOKUP(B215,Database!A:A,Database!J:J)))","v":""},{"$f":"IF(ISNA(A215),\"\",IF(LEN(LOOKUP(B215,Database!A:A,Database!K:K))=0,\"\",LOOKUP(B215,Database!A:A,Database!K:K)))","v":""},{"$f":"IF(ISNA(A215),\"\",IF(LEN(LOOKUP(B215,Database!A:A,Database!L:L))=0,\"\",LOOKUP(B215,Database!A:A,Database!L:L)))","v":""},{"$f":"IF(ISNA(A215),\"\",IF(LEN(LOOKUP(B215,Database!A:A,Database!M:M))=0,\"\",LOOKUP(B215,Database!A:A,Database!M:M)))","v":""},{"$f":"IF(ISNA(A215),\"\",IF(LEN(LOOKUP(B215,Database!A:A,Database!N:N))=0,\"\",LOOKUP(B215,Database!A:A,Database!N:N)))","v":""},{"$f":"IF(ISNA(A215),\"\",IF(LEN(LOOKUP(B215,Database!A:A,Database!O:O))=0,\"\",LOOKUP(B215,Database!A:A,Database!O:O)))","v":""},{"$f":"IF(ISNA(A215),\"\",IF(LEN(LOOKUP(B215,Database!A:A,Database!P:P))=0,\"\",LOOKUP(B215,Database!A:A,Database!P:P)))","v":""},{"$f":"IF(ISNA(A215),\"\",IF(LEN(LOOKUP(B215,Database!A:A,Database!Q:Q))=0,\"\",LOOKUP(B215,Database!A:A,Database!Q:Q)))","v":""},{"$f":"IF(ISNA(A215),\"\",IF(LEN(LOOKUP(B215,Database!A:A,Database!R:R))=0,\"\",LOOKUP(B215,Database!A:A,Database!R:R)))","v":""},{"$f":"IF(ISNA(A215),\"\",IF(LEN(LOOKUP(B215,Database!A:A,Database!S:S))=0,\"\",LOOKUP(B215,Database!A:A,Database!S:S)))","v":""},null,null,null,null,null,null,201,0,null,1,0,null,0.1]
[{"$error":"#N/A"},"2018-07-21",{"$f":"IF(ISNA(A216),\"\",IF(LEN(LOOKUP(B216,Database!A:A,Database!B:B))=0,\"\",LOOKUP(B216,Database!A:A,Database!B:B)))","v":""},{"$f":"IF(ISNA(A216),\"\",IF(LEN(LOOKUP(B216,Database!A:A,Database!C:C))=0,\"\",LOOKUP(B216,Database!A:A,Database!C:C)))","v":""},{"$f":"IF(ISNA(A216),\"\",IF(LEN(LOOKUP(B216,Database!A:A,Database!D:D))=0,\"\",LOOKUP(B216,Database!A:A,Database!D:D)))","v":""},{"$f":"IF(ISNA(A216),\"\",IF(LEN(LOOKUP(B216,Database!A:A,Database!E:E))=0,\"\",LOOKUP(B216,Database!A:A,Database!E:E)))","v":""},{"$f":"IF(ISNA(A216),\"\",IF(LEN(LOOKUP(B216,Database!A:A,Database!F:F))=0,\"\",LOOKUP(B216,Database!A:A,Database!F:F)))","v":""},{"$f":"IF(ISNA(A216),\"\",IF(LEN(LOOKUP(B216,Database!A:A,Database!G:G))=0,\"\",LOOKUP(B216,Database!A:A,Database!G:G)))","v":""},{"$f":"IF(ISNA(A216),\"\",IF(LEN(LOOKUP(B216,Database!A:A,Database!H:H))=0,\"\",LOOKUP(B216,Database!A:A,Database!H:H)))","v":""},{"$f":"IF(ISNA(A216),\"\",IF(LEN(LOOKUP(B216,Database!A:A,Database!I:I))=0,\"\",LOOKUP(B216,Database!A:A,Database!I:I)))","v":""},{"$f":"IF(ISNA(A216),\"\",IF(LEN(LOOKUP(B216,Database!A:A,Database!J:J))=0,\"\",LOOKUP(B216,Database!A:A,Database!J:J)))","v":""},{"$f":"IF(ISNA(A216),\"\",IF(LEN(LOOKUP(B216,Database!A:A,Database!K:K))=0,\"\",LOOKUP(B216,Database!A:A,Database!K:K)))","v":""},{"$f":"IF(ISNA(A216),\"\",IF(LEN(LOOKUP(B216,Database!A:A,Database!L:L))=0,\"\",LOOKUP(B216,Database!A:A,Database!L:L)))","v":""},{"$f":"IF(ISNA(A216),\"\",IF(LEN(LOOKUP(B216,Database!A:A,Database!M:M))=0,\"\",LOOKUP(B216,Database!A:A,Database!M:M)))","v":""},{"$f":"IF(ISNA(A216),\"\",IF(LEN(LOOKUP(B216,Database!A:A,Database!N:N))=0,\"\",LOOKUP(B216,Database!A:A,Database!N:N)))","v":""},{"$f":"IF(ISNA(A216),\"\",IF(LEN(LOOKUP(B216,Database!A:A,Database!O:O))=0,\"\",LOOKUP(B216,Database!A:A,Database!O:O)))","v":""},{"$f":"IF(ISNA(A216),\"\",IF(LEN(LOOKUP(B216,Database!A:A,Database!P:P))=0,\"\",LOOKUP(B216,Database!A:A,Database!P:P)))","v":""},{"$f":"IF(ISNA(A216),\"\",IF(LEN(LOOKUP(B216,Database!A:A,Database!Q:Q))=0,\"\",LOOKUP(B216,Database!A:A,Database!Q:Q)))","v":""},{"$f":"IF(ISNA(A216),\"\",IF(LEN(LOOKUP(B216,Database!A:A,Database!R:R))=0,\"\",LOOKUP(B216,Database!A:A,Database!R:R)))","v":""},{"$f":"IF(ISNA(A216),\"\",IF(LEN(LOOKUP(B216,Database!A:A,Database!S:S))=0,\"\",LOOKUP(B216,Database!A:A,Database!S:S)))","v":""},null,null,null,null,null,null,202,0,null,1,0,null,0.1]
[{"$error":"#N/A"},"2018-07-22",{"$f":"IF(ISNA(A217),\"\",IF(LEN(LOOKUP(B217,Database!A:A,Database!B:B))=0,\"\",LOOKUP(B217,Database!A:A,Database!B:B)))","v":""},{"$f":"IF(ISNA(A217),\"\",IF(LEN(LOOKUP(B217,Database!A:A,Database!C:C))=0,\"\",LOOKUP(B217,Database!A:A,Database!C:C)))","v":""},{"$f":"IF(ISNA(A217),\"\",IF(LEN(LOOKUP(B217,Database!A:A,Database!D:D))=0,\"\",LOOKUP(B217,Database!A:A,Database!D:D)))","v":""},{"$f":"IF(ISNA(A217),\"\",IF(LEN(LOOKUP(B217,Database!A:A,Database!E:E))=0,\"\",LOOKUP(B217,Database!A:A,Database!E:E)))","v":""},{"$f":"IF(ISNA(A217),\"\",IF(LEN(LOOKUP(B217,Database!A:A,Database!F:F))=0,\"\",LOOKUP(B217,Database!A:A,Database!F:F)))","v":""},{"$f":"IF(ISNA(A217),\"\",IF(LEN(LOOKUP(B217,Database!A:A,Database!G:G))=0,\"\",LOOKUP(B217,Database!A:A,Database!G:G)))","v":""},{"$f":"IF(ISNA(A217),\"\",IF(LEN(LOOKUP(B217,Database!A:A,Database!H:H))=0,\"\",LOOKUP(B217,Database!A:A,Database!H:H)))","v":""},{"$f":"IF(ISNA(A217),\"\",IF(LEN(LOOKUP(B217,Database!A:A,Database!I:I))=0,\"\",LOOKUP(B217,Database!A:A,Database!I:I)))","v":""},{"$f":"IF(ISNA(A217),\"\",IF(LEN(LOOKUP(B217,Database!A:A,Database!J:J))=0,\"\",LOOKUP(B217,Database!A:A,Database!J:J)))","v":""},{"$f":"IF(ISNA(A217),\"\",IF(LEN(LOOKUP(B217,Database!A:A,Database!K:K))=0,\"\",LOOKUP(B217,Database!A:A,Database!K:K)))","v":""},{"$f":"IF(ISNA(A217),\"\",IF(LEN(LOOKUP(B217,Database!A:A,Database!L:L))=0,\"\",LOOKUP(B217,Database!A:A,Database!L:L)))","v":""},{"$f":"IF(ISNA(A217),\"\",IF(LEN(LOOKUP(B217,Database!A:A,Database!M:M))=0,\"\",LOOKUP(B217,Database!A:A,Database!M:M)))","v":""},{"$f":"IF(ISNA(A217),\"\",IF(LEN(LOOKUP(B217,Database!A:A,Database!N:N))=0,\"\",LOOKUP(B217,Database!A:A,Database!N:N)))","v":""},{"$f":"IF(ISNA(A217),\"\",IF(LEN(LOOKUP(B217,Database!A:A,Database!O:O))=0,\"\",LOOKUP(B217,Database!A:A,Database!O:O)))","v":""},{"$f":"IF(ISNA(A217),\"\",IF(LEN(LOOKUP(B217,Database!A:A,Database!P:P))=0,\"\",LOOKUP(B217,Database!A:A,Database!P:P)))","v":""},{"$f":"IF(ISNA(A217),\"\",IF(LEN(LOOKUP(B217,Database!A:A,Database!Q:Q))=0,\"\",LOOKUP(B217,Database!A:A,Database!Q:Q)))","v":""},{"$f":"IF(ISNA(A217),\"\",IF(LEN(LOOKUP(B217,Database!A:A,Database!R:R))=0,\"\",LOOKUP(B217,Database!A:A,Database!R:R)))","v":""},{"$f":"IF(ISNA(A217),\"\",IF(LEN(LOOKUP(B217,Database!A:A,Database!S:S))=0,\"\",LOOKUP(B217,Database!A:A,Database!S:S)))","v":""},null,null,null,null,null,null,203,0,null,1,0,null,0.1]
[{"$error":"#N/A"},"2018-07-23",{"$f":"IF(ISNA(A218),\"\",IF(LEN(LOOKUP(B218,Database!A:A,Database!B:B))=0,\"\",LOOKUP(B218,Database!A:A,Database!B:B)))","v":""},{"$f":"IF(ISNA(A218),\"\",IF(LEN(LOOKUP(B218,Database!A:A,Database!C:C))=0,\"\",LOOKUP(B218,Database!A:A,Database!C:C)))","v":""},{"$f":"IF(ISNA(A218),\"\",IF(LEN(LOOKUP(B218,Database!A:A,Database!D:D))=0,\"\",LOOKUP(B218,Database!A:A,Database!D:D)))","v":""},{"$f":"IF(ISNA(A218),\"\",IF(LEN(LOOKUP(B218,Database!A:A,Database!E:E))=0,\"\",LOOKUP(B218,Database!A:A,Database!E:E)))","v":""},{"$f":"IF(ISNA(A218),\"\",IF(LEN(LOOKUP(B218,Database!A:A,Database!F:F))=0,\"\",LOOKUP(B218,Database!A:A,Database!F:F)))","v":""},{"$f":"IF(ISNA(A218),\"\",IF(LEN(LOOKUP(B218,Database!A:A,Database!G:G))=0,\"\",LOOKUP(B218,Database!A:A,Database!G:G)))","v":""},{"$f":"IF(ISNA(A218),\"\",IF(LEN(LOOKUP(B218,Database!A:A,Database!H:H))=0,\"\",LOOKUP(B218,Database!A:A,Database!H:H)))","v":""},{"$f":"IF(ISNA(A218),\"\",IF(LEN(LOOKUP(B218,Database!A:A,Database!I:I))=0,\"\",LOOKUP(B218,Database!A:A,Database!I:I)))","v":""},{"$f":"IF(ISNA(A218),\"\",IF(LEN(LOOKUP(B218,Database!A:A,Database!J:J))=0,\"\",LOOKUP(B218,Database!A:A,Database!J:J)))","v":""},{"$f":"IF(ISNA(A218),\"\",IF(LEN(LOOKUP(B218,Database!A:A,Database!K:K))=0,\"\",LOOKUP(B218,Database!A:A,Database!K:K)))","v":""},{"$f":"IF(ISNA(A218),\"\",IF(LEN(LOOKUP(B218,Database!A:A,Database!L:L))=0,\"\",LOOKUP(B218,Database!A:A,Database!L:L)))","v":""},{"$f":"IF(ISNA(A218),\"\",IF(LEN(LOOKUP(B218,Database!A:A,Database!M:M))=0,\"\",LOOKUP(B218,Database!A:A,Database!M:M)))","v":""},{"$f":"IF(ISNA(A218),\"\",IF(LEN(LOOKUP(B218,Database!A:A,Database!N:N))=0,\"\",LOOKUP(B218,Database!A:A,Database!N:N)))","v":""},{"$f":"IF(ISNA(A218),\"\",IF(LEN(LOOKUP(B218,Database!A:A,Database!O:O))=0,\"\",LOOKUP(B218,Database!A:A,Database!O:O)))","v":""},{"$f":"IF(ISNA(A218),\"\",IF(LEN(LOOKUP(B218,Database!A:A,Database!P:P))=0,\"\",LOOKUP(B218,Database!A:A,Database!P:P)))","v":""},{"$f":"IF(ISNA(A218),\"\",IF(LEN(LOOKUP(B218,Database!A:A,Database!Q:Q))=0,\"\",LOOKUP(B218,Database!A:A,Database!Q:Q)))","v":""},{"$f":"IF(ISNA(A218),\"\",IF(LEN(LOOKUP(B218,Database!A:A,Database!R:R))=0,\"\",LOOKUP(B218,Database!A:A,Database!R:R)))","v":""},{"$f":"IF(ISNA(A218),\"\",IF(LEN(LOOKUP(B218,Database!A:A,Database!S:S))=0,\"\",LOOKUP(B218,Database!A:A,Database!S:S)))","v":""},null,null,null,null,null,null,204,0,null,1,0,null,0.1]
[{"$error":"#N/A"},"2018-07-24",{"$f":"IF(ISNA(A219),\"\",IF(LEN(LOOKUP(B219,Database!A:A,Database!B:B))=0,\"\",LOOKUP(B219,Database!A:A,Database!B:B)))","v":""},{"$f":"IF(ISNA(A219),\"\",IF(LEN(LOOKUP(B219,Database!A:A,Database!C:C))=0,\"\",LOOKUP(B219,Database!A:A,Database!C:C)))","v":""},{"$f":"IF(ISNA(A219),\"\",IF(LEN(LOOKUP(B219,Database!A:A,Database!D:D))=0,\"\",LOOKUP(B219,Database!A:A,Database!D:D)))","v":""},{"$f":"IF(ISNA(A219),\"\",IF(LEN(LOOKUP(B219,Database!A:A,Database!E:E))=0,\"\",LOOKUP(B219,Database!A:A,Database!E:E)))","v":""},{"$f":"IF(ISNA(A219),\"\",IF(LEN(LOOKUP(B219,Database!A:A,Database!F:F))=0,\"\",LOOKUP(B219,Database!A:A,Database!F:F)))","v":""},{"$f":"IF(ISNA(A219),\"\",IF(LEN(LOOKUP(B219,Database!A:A,Database!G:G))=0,\"\",LOOKUP(B219,Database!A:A,Database!G:G)))","v":""},{"$f":"IF(ISNA(A219),\"\",IF(LEN(LOOKUP(B219,Database!A:A,Database!H:H))=0,\"\",LOOKUP(B219,Database!A:A,Database!H:H)))","v":""},{"$f":"IF(ISNA(A219),\"\",IF(LEN(LOOKUP(B219,Database!A:A,Database!I:I))=0,\"\",LOOKUP(B219,Database!A:A,Database!I:I)))","v":""},{"$f":"IF(ISNA(A219),\"\",IF(LEN(LOOKUP(B219,Database!A:A,Database!J:J))=0,\"\",LOOKUP(B219,Database!A:A,Database!J:J)))","v":""},{"$f":"IF(ISNA(A219),\"\",IF(LEN(LOOKUP(B219,Database!A:A,Database!K:K))=0,\"\",LOOKUP(B219,Database!A:A,Database!K:K)))","v":""},{"$f":"IF(ISNA(A219),\"\",IF(LEN(LOOKUP(B219,Database!A:A,Database!L:L))=0,\"\",LOOKUP(B219,Database!A:A,Database!L:L)))","v":""},{"$f":"IF(ISNA(A219),\"\",IF(LEN(LOOKUP(B219,Database!A:A,Database!M:M))=0,\"\",LOOKUP(B219,Database!A:A,Database!M:M)))","v":""},{"$f":"IF(ISNA(A219),\"\",IF(LEN(LOOKUP(B219,Database!A:A,Database!N:N))=0,\"\",LOOKUP(B219,Database!A:A,Database!N:N)))","v":""},{"$f":"IF(ISNA(A219),\"\",IF(LEN(LOOKUP(B219,Database!A:A,Database!O:O))=0,\"\",LOOKUP(B219,Database!A:A,Database!O:O)))","v":""},{"$f":"IF(ISNA(A219),\"\",IF(LEN(LOOKUP(B219,Database!A:A,Database!P:P))=0,\"\",LOOKUP(B219,Database!A:A,Database!P:P)))","v":""},{"$f":"IF(ISNA(A219),\"\",IF(LEN(LOOKUP(B219,Database!A:A,Database!Q:Q))=0,\"\",LOOKUP(B219,Database!A:A,Database!Q:Q)))","v":""},{"$f":"IF(ISNA(A219),\"\",IF(LEN(LOOKUP(B219,Database!A:A,Database!R:R))=0,\"\",LOOKUP(B219,Database!A:A,Database!R:R)))","v":""},{"$f":"IF(ISNA(A219),\"\",IF(LEN(LOOKUP(B219,Database!A:A,Database!S:S))=0,\"\",LOOKUP(B219,Database!A:A,Database!S:S)))","v":""},null,null,null,null,null,null,205,0,null,1,0,null,0.1]
[{"$error":"#N/A"},"2018-07-25",{"$f":"IF(ISNA(A220),\"\",IF(LEN(LOOKUP(B220,Database!A:A,Database!B:B))=0,\"\",LOOKUP(B220,Database!A:A,Database!B:B)))","v":""},{"$f":"IF(ISNA(A220),\"\",IF(LEN(LOOKUP(B220,Database!A:A,Database!C:C))=0,\"\",LOOKUP(B220,Database!A:A,Database!C:C)))","v":""},{"$f":"IF(ISNA(A220),\"\",IF(LEN(LOOKUP(B220,Database!A:A,Database!D:D))=0,\"\",LOOKUP(B220,Database!A:A,Database!D:D)))","v":""},{"$f":"IF(ISNA(A220),\"\",IF(LEN(LOOKUP(B220,Database!A:A,Database!E:E))=0,\"\",LOOKUP(B220,Database!A:A,Database!E:E)))","v":""},{"$f":"IF(ISNA(A220),\"\",IF(LEN(LOOKUP(B220,Database!A:A,Database!F:F))=0,\"\",LOOKUP(B220,Database!A:A,Database!F:F)))","v":""},{"$f":"IF(ISNA(A220),\"\",IF(LEN(LOOKUP(B220,Database!A:A,Database!G:G))=0,\"\",LOOKUP(B220,Database!A:A,Database!G:G)))","v":""},{"$f":"IF(ISNA(A220),\"\",IF(LEN(LOOKUP(B220,Database!A:A,Database!H:H))=0,\"\",LOOKUP(B220,Database!A:A,Database!H:H)))","v":""},{"$f":"IF(ISNA(A220),\"\",IF(LEN(LOOKUP(B220,Database!A:A,Database!I:I))=0,\"\",LOOKUP(B220,Database!A:A,Database!I:I)))","v":""},{"$f":"IF(ISNA(A220),\"\",IF(LEN(LOOKUP(B220,Database!A:A,Database!J:J))=0,\"\",LOOKUP(B220,Database!A:A,Database!J:J)))","v":""},{"$f":"IF(ISNA(A220),\"\",IF(LEN(LOOKUP(B220,Database!A:A,Database!K:K))=0,\"\",LOOKUP(B220,Database!A:A,Database!K:K)))","v":""},{"$f":"IF(ISNA(A220),\"\",IF(LEN(LOOKUP(B220,Database!A:A,Database!L:L))=0,\"\",LOOKUP(B220,Database!A:A,Database!L:L)))","v":""},{"$f":"IF(ISNA(A220),\"\",IF(LEN(LOOKUP(B220,Database!A:A,Database!M:M))=0,\"\",LOOKUP(B220,Database!A:A,Database!M:M)))","v":""},{"$f":"IF(ISNA(A220),\"\",IF(LEN(LOOKUP(B220,Database!A:A,Database!N:N))=0,\"\",LOOKUP(B220,Database!A:A,Database!N:N)))","v":""},{"$f":"IF(ISNA(A220),\"\",IF(LEN(LOOKUP(B220,Database!A:A,Database!O:O))=0,\"\",LOOKUP(B220,Database!A:A,Database!O:O)))","v":""},{"$f":"IF(ISNA(A220),\"\",IF(LEN(LOOKUP(B220,Database!A:A,Database!P:P))=0,\"\",LOOKUP(B220,Database!A:A,Database!P:P)))","v":""},{"$f":"IF(ISNA(A220),\"\",IF(LEN(LOOKUP(B220,Database!A:A,Database!Q:Q))=0,\"\",LOOKUP(B220,Database!A:A,Database!Q:Q)))","v":""},{"$f":"IF(ISNA(A220),\"\",IF(LEN(LOOKUP(B220,Database!A:A,Database!R:R))=0,\"\",LOOKUP(B220,Database!A:A,Database!R:R)))","v":""},{"$f":"IF(ISNA(A220),\"\",IF(LEN(LOOKUP(B220,Database!A:A,Database!S:S))=0,\"\",LOOKUP(B220,Database!A:A,Database!S:S)))","v":""},null,null,null,null,null,null,206,0,null,1,0,null,0.1]
[{"$error":"#N/A"},"2018-07-26",{"$f":"IF(ISNA(A221),\"\",IF(LEN(LOOKUP(B221,Database!A:A,Database!B:B))=0,\"\",LOOKUP(B221,Database!A:A,Database!B:B)))","v":""},{"$f":"IF(ISNA(A221),\"\",IF(LEN(LOOKUP(B221,Database!A:A,Database!C:C))=0,\"\",LOOKUP(B221,Database!A:A,Database!C:C)))","v":""},{"$f":"IF(ISNA(A221),\"\",IF(LEN(LOOKUP(B221,Database!A:A,Database!D:D))=0,\"\",LOOKUP(B221,Database!A:A,Database!D:D)))","v":""},{"$f":"IF(ISNA(A221),\"\",IF(LEN(LOOKUP(B221,Database!A:A,Database!E:E))=0,\"\",LOOKUP(B221,Database!A:A,Database!E:E)))","v":""},{"$f":"IF(ISNA(A221),\"\",IF(LEN(LOOKUP(B221,Database!A:A,Database!F:F))=0,\"\",LOOKUP(B221,Database!A:A,Database!F:F)))","v":""},{"$f":"IF(ISNA(A221),\"\",IF(LEN(LOOKUP(B221,Database!A:A,Database!G:G))=0,\"\",LOOKUP(B221,Database!A:A,Database!G:G)))","v":""},{"$f":"IF(ISNA(A221),\"\",IF(LEN(LOOKUP(B221,Database!A:A,Database!H:H))=0,\"\",LOOKUP(B221,Database!A:A,Database!H:H)))","v":""},{"$f":"IF(ISNA(A221),\"\",IF(LEN(LOOKUP(B221,Database!A:A,Database!I:I))=0,\"\",LOOKUP(B221,Database!A:A,Database!I:I)))","v":""},{"$f":"IF(ISNA(A221),\"\",IF(LEN(LOOKUP(B221,Database!A:A,Database!J:J))=0,\"\",LOOKUP(B221,Database!A:A,Database!J:J)))","v":""},{"$f":"IF(ISNA(A221),\"\",IF(LEN(LOOKUP(B221,Database!A:A,Database!K:K))=0,\"\",LOOKUP(B221,Database!A:A,Database!K:K)))","v":""},{"$f":"IF(ISNA(A221),\"\",IF(LEN(LOOKUP(B221,Database!A:A,Database!L:L))=0,\"\",LOOKUP(B221,Database!A:A,Database!L:L)))","v":""},{"$f":"IF(ISNA(A221),\"\",IF(LEN(LOOKUP(B221,Database!A:A,Database!M:M))=0,\"\",LOOKUP(B221,Database!A:A,Database!M:M)))","v":""},{"$f":"IF(ISNA(A221),\"\",IF(LEN(LOOKUP(B221,Database!A:A,Database!N:N))=0,\"\",LOOKUP(B221,Database!A:A,Database!N:N)))","v":""},{"$f":"IF(ISNA(A221),\"\",IF(LEN(LOOKUP(B221,Database!A:A,Database!O:O))=0,\"\",LOOKUP(B221,Database!A:A,Database!O:O)))","v":""},{"$f":"IF(ISNA(A221),\"\",IF(LEN(LOOKUP(B221,Database!A:A,Database!P:P))=0,\"\",LOOKUP(B221,Database!A:A,Database!P:P)))","v":""},{"$f":"IF(ISNA(A221),\"\",IF(LEN(LOOKUP(B221,Database!A:A,Database!Q:Q))=0,\"\",LOOKUP(B221,Database!A:A,Database!Q:Q)))","v":""},{"$f":"IF(ISNA(A221),\"\",IF(LEN(LOOKUP(B221,Database!A:A,Database!R:R))=0,\"\",LOOKUP(B221,Database!A:A,Database!R:R)))","v":""},{"$f":"IF(ISNA(A221),\"\",IF(LEN(LOOKUP(B221,Database!A:A,Database!S:S))=0,\"\",LOOKUP(B221,Database!A:A,Database!S:S)))","v":""},null,null,null,null,null,null,207,0,null,1,0,null,0.1]
[{"$error":"#N/A"},"2018-07-27",{"$f":"IF(ISNA(A222),\"\",IF(LEN(LOOKUP(B222,Database!A:A,Database!B:B))=0,\"\",LOOKUP(B222,Database!A:A,Database!B:B)))","v":""},{"$f":"IF(ISNA(A222),\"\",IF(LEN(LOOKUP(B222,Database!A:A,Database!C:C))=0,\"\",LOOKUP(B222,Database!A:A,Database!C:C)))","v":""},{"$f":"IF(ISNA(A222),\"\",IF(LEN(LOOKUP(B222,Database!A:A,Database!D:D))=0,\"\",LOOKUP(B222,Database!A:A,Database!D:D)))","v":""},{"$f":"IF(ISNA(A222),\"\",IF(LEN(LOOKUP(B222,Database!A:A,Database!E:E))=0,\"\",LOOKUP(B222,Database!A:A,Database!E:E)))","v":""},{"$f":"IF(ISNA(A222),\"\",IF(LEN(LOOKUP(B222,Database!A:A,Database!F:F))=0,\"\",LOOKUP(B222,Database!A:A,Database!F:F)))","v":""},{"$f":"IF(ISNA(A222),\"\",IF(LEN(LOOKUP(B222,Database!A:A,Database!G:G))=0,\"\",LOOKUP(B222,Database!A:A,Database!G:G)))","v":""},{"$f":"IF(ISNA(A222),\"\",IF(LEN(LOOKUP(B222,Database!A:A,Database!H:H))=0,\"\",LOOKUP(B222,Database!A:A,Database!H:H)))","v":""},{"$f":"IF(ISNA(A222),\"\",IF(LEN(LOOKUP(B222,Database!A:A,Database!I:I))=0,\"\",LOOKUP(B222,Database!A:A,Database!I:I)))","v":""},{"$f":"IF(ISNA(A222),\"\",IF(LEN(LOOKUP(B222,Database!A:A,Database!J:J))=0,\"\",LOOKUP(B222,Database!A:A,Database!J:J)))","v":""},{"$f":"IF(ISNA(A222),\"\",IF(LEN(LOOKUP(B222,Database!A:A,Database!K:K))=0,\"\",LOOKUP(B222,Database!A:A,Database!K:K)))","v":""},{"$f":"IF(ISNA(A222),\"\",IF(LEN(LOOKUP(B222,Database!A:A,Database!L:L))=0,\"\",LOOKUP(B222,Database!A:A,Database!L:L)))","v":""},{"$f":"IF(ISNA(A222),\"\",IF(LEN(LOOKUP(B222,Database!A:A,Database!M:M))=0,\"\",LOOKUP(B222,Database!A:A,Database!M:M)))","v":""},{"$f":"IF(ISNA(A222),\"\",IF(LEN(LOOKUP(B222,Database!A:A,Database!N:N))=0,\"\",LOOKUP(B222,Database!A:A,Database!N:N)))","v":""},{"$f":"IF(ISNA(A222),\"\",IF(LEN(LOOKUP(B222,Database!A:A,Database!O:O))=0,\"\",LOOKUP(B222,Database!A:A,Database!O:O)))","v":""},{"$f":"IF(ISNA(A222),\"\",IF(LEN(LOOKUP(B222,Database!A:A,Database!P:P))=0,\"\",LOOKUP(B222,Database!A:A,Database!P:P)))","v":""},{"$f":"IF(ISNA(A222),\"\",IF(LEN(LOOKUP(B222,Database!A:A,Database!Q:Q))=0,\"\",LOOKUP(B222,Database!A:A,Database!Q:Q)))","v":""},{"$f":"IF(ISNA(A222),\"\",IF(LEN(LOOKUP(B222,Database!A:A,Database!R:R))=0,\"\",LOOKUP(B222,Database!A:A,Database!R:R)))","v":""},{"$f":"IF(ISNA(A222),\"\",IF(LEN(LOOKUP(B222,Database!A:A,Database!S:S))=0,\"\",LOOKUP(B222,Database!A:A,Database!S:S)))","v":""},null,null,null,null,null,null,208,0,null,1,0,null,0.1]
[{"$error":"#N/A"},"2018-07-28",{"$f":"IF(ISNA(A223),\"\",IF(LEN(LOOKUP(B223,Database!A:A,Database!B:B))=0,\"\",LOOKUP(B223,Database!A:A,Database!B:B)))","v":""},{"$f":"IF(ISNA(A223),\"\",IF(LEN(LOOKUP(B223,Database!A:A,Database!C:C))=0,\"\",LOOKUP(B223,Database!A:A,Database!C:C)))","v":""},{"$f":"IF(ISNA(A223),\"\",IF(LEN(LOOKUP(B223,Database!A:A,Database!D:D))=0,\"\",LOOKUP(B223,Database!A:A,Database!D:D)))","v":""},{"$f":"IF(ISNA(A223),\"\",IF(LEN(LOOKUP(B223,Database!A:A,Database!E:E))=0,\"\",LOOKUP(B223,Database!A:A,Database!E:E)))","v":""},{"$f":"IF(ISNA(A223),\"\",IF(LEN(LOOKUP(B223,Database!A:A,Database!F:F))=0,\"\",LOOKUP(B223,Database!A:A,Database!F:F)))","v":""},{"$f":"IF(ISNA(A223),\"\",IF(LEN(LOOKUP(B223,Database!A:A,Database!G:G))=0,\"\",LOOKUP(B223,Database!A:A,Database!G:G)))","v":""},{"$f":"IF(ISNA(A223),\"\",IF(LEN(LOOKUP(B223,Database!A:A,Database!H:H))=0,\"\",LOOKUP(B223,Database!A:A,Database!H:H)))","v":""},{"$f":"IF(ISNA(A223),\"\",IF(LEN(LOOKUP(B223,Database!A:A,Database!I:I))=0,\"\",LOOKUP(B223,Database!A:A,Database!I:I)))","v":""},{"$f":"IF(ISNA(A223),\"\",IF(LEN(LOOKUP(B223,Database!A:A,Database!J:J))=0,\"\",LOOKUP(B223,Database!A:A,Database!J:J)))","v":""},{"$f":"IF(ISNA(A223),\"\",IF(LEN(LOOKUP(B223,Database!A:A,Database!K:K))=0,\"\",LOOKUP(B223,Database!A:A,Database!K:K)))","v":""},{"$f":"IF(ISNA(A223),\"\",IF(LEN(LOOKUP(B223,Database!A:A,Database!L:L))=0,\"\",LOOKUP(B223,Database!A:A,Database!L:L)))","v":""},{"$f":"IF(ISNA(A223),\"\",IF(LEN(LOOKUP(B223,Database!A:A,Database!M:M))=0,\"\",LOOKUP(B223,Database!A:A,Database!M:M)))","v":""},{"$f":"IF(ISNA(A223),\"\",IF(LEN(LOOKUP(B223,Database!A:A,Database!N:N))=0,\"\",LOOKUP(B223,Database!A:A,Database!N:N)))","v":""},{"$f":"IF(ISNA(A223),\"\",IF(LEN(LOOKUP(B223,Database!A:A,Database!O:O))=0,\"\",LOOKUP(B223,Database!A:A,Database!O:O)))","v":""},{"$f":"IF(ISNA(A223),\"\",IF(LEN(LOOKUP(B223,Database!A:A,Database!P:P))=0,\"\",LOOKUP(B223,Database!A:A,Database!P:P)))","v":""},{"$f":"IF(ISNA(A223),\"\",IF(LEN(LOOKUP(B223,Database!A:A,Database!Q:Q))=0,\"\",LOOKUP(B223,Database!A:A,Database!Q:Q)))","v":""},{"$f":"IF(ISNA(A223),\"\",IF(LEN(LOOKUP(B223,Database!A:A,Database!R:R))=0,\"\",LOOKUP(B223,Database!A:A,Database!R:R)))","v":""},{"$f":"IF(ISNA(A223),\"\",IF(LEN(LOOKUP(B223,Database!A:A,Database!S:S))=0,\"\",LOOKUP(B223,Database!A:A,Database!S:S)))","v":""},null,null,null,null,null,null,209,0,null,1,0,null,0.1]
[{"$error":"#N/A"},"2018-07-29",{"$f":"IF(ISNA(A224),\"\",IF(LEN(LOOKUP(B224,Database!A:A,Database!B:B))=0,\"\",LOOKUP(B224,Database!A:A,Database!B:B)))","v":""},{"$f":"IF(ISNA(A224),\"\",IF(LEN(LOOKUP(B224,Database!A:A,Database!C:C))=0,\"\",LOOKUP(B224,Database!A:A,Database!C:C)))","v":""},{"$f":"IF(ISNA(A224),\"\",IF(LEN(LOOKUP(B224,Database!A:A,Database!D:D))=0,\"\",LOOKUP(B224,Database!A:A,Database!D:D)))","v":""},{"$f":"IF(ISNA(A224),\"\",IF(LEN(LOOKUP(B224,Database!A:A,Database!E:E))=0,\"\",LOOKUP(B224,Database!A:A,Database!E:E)))","v":""},{"$f":"IF(ISNA(A224),\"\",IF(LEN(LOOKUP(B224,Database!A:A,Database!F:F))=0,\"\",LOOKUP(B224,Database!A:A,Database!F:F)))","v":""},{"$f":"IF(ISNA(A224),\"\",IF(LEN(LOOKUP(B224,Database!A:A,Database!G:G))=0,\"\",LOOKUP(B224,Database!A:A,Database!G:G)))","v":""},{"$f":"IF(ISNA(A224),\"\",IF(LEN(LOOKUP(B224,Database!A:A,Database!H:H))=0,\"\",LOOKUP(B224,Database!A:A,Database!H:H)))","v":""},{"$f":"IF(ISNA(A224),\"\",IF(LEN(LOOKUP(B224,Database!A:A,Database!I:I))=0,\"\",LOOKUP(B224,Database!A:A,Database!I:I)))","v":""},{"$f":"IF(ISNA(A224),\"\",IF(LEN(LOOKUP(B224,Database!A:A,Database!J:J))=0,\"\",LOOKUP(B224,Database!A:A,Database!J:J)))","v":""},{"$f":"IF(ISNA(A224),\"\",IF(LEN(LOOKUP(B224,Database!A:A,Database!K:K))=0,\"\",LOOKUP(B224,Database!A:A,Database!K:K)))","v":""},{"$f":"IF(ISNA(A224),\"\",IF(LEN(LOOKUP(B224,Database!A:A,Database!L:L))=0,\"\",LOOKUP(B224,Database!A:A,Database!L:L)))","v":""},{"$f":"IF(ISNA(A224),\"\",IF(LEN(LOOKUP(B224,Database!A:A,Database!M:M))=0,\"\",LOOKUP(B224,Database!A:A,Database!M:M)))","v":""},{"$f":"IF(ISNA(A224),\"\",IF(LEN(LOOKUP(B224,Database!A:A,Database!N:N))=0,\"\",LOOKUP(B224,Database!A:A,Database!N:N)))","v":""},{"$f":"IF(ISNA(A224),\"\",IF(LEN(LOOKUP(B224,Database!A:A,Database!O:O))=0,\"\",LOOKUP(B224,Database!A:A,Database!O:O)))","v":""},{"$f":"IF(ISNA(A224),\"\",IF(LEN(LOOKUP(B224,Database!A:A,Database!P:P))=0,\"\",LOOKUP(B224,Database!A:A,Database!P:P)))","v":""},{"$f":"IF(ISNA(A224),\"\",IF(LEN(LOOKUP(B224,Database!A:A,Database!Q:Q))=0,\"\",LOOKUP(B224,Database!A:A,Database!Q:Q)))","v":""},{"$f":"IF(ISNA(A224),\"\",IF(LEN(LOOKUP(B224,Database!A:A,Database!R:R))=0,\"\",LOOKUP(B224,Database!A:A,Database!R:R)))","v":""},{"$f":"IF(ISNA(A224),\"\",IF(LEN(LOOKUP(B224,Database!A:A,Database!S:S))=0,\"\",LOOKUP(B224,Database!A:A,Database!S:S)))","v":""},null,null,null,null,null,null,210,0,null,1,0,null,0.1]
[{"$error":"#N/A"},"2018-07-30",{"$f":"IF(ISNA(A225),\"\",IF(LEN(LOOKUP(B225,Database!A:A,Database!B:B))=0,\"\",LOOKUP(B225,Database!A:A,Database!B:B)))","v":""},{"$f":"IF(ISNA(A225),\"\",IF(LEN(LOOKUP(B225,Database!A:A,Database!C:C))=0,\"\",LOOKUP(B225,Database!A:A,Database!C:C)))","v":""},{"$f":"IF(ISNA(A225),\"\",IF(LEN(LOOKUP(B225,Database!A:A,Database!D:D))=0,\"\",LOOKUP(B225,Database!A:A,Database!D:D)))","v":""},{"$f":"IF(ISNA(A225),\"\",IF(LEN(LOOKUP(B225,Database!A:A,Database!E:E))=0,\"\",LOOKUP(B225,Database!A:A,Database!E:E)))","v":""},{"$f":"IF(ISNA(A225),\"\",IF(LEN(LOOKUP(B225,Database!A:A,Database!F:F))=0,\"\",LOOKUP(B225,Database!A:A,Database!F:F)))","v":""},{"$f":"IF(ISNA(A225),\"\",IF(LEN(LOOKUP(B225,Database!A:A,Database!G:G))=0,\"\",LOOKUP(B225,Database!A:A,Database!G:G)))","v":""},{"$f":"IF(ISNA(A225),\"\",IF(LEN(LOOKUP(B225,Database!A:A,Database!H:H))=0,\"\",LOOKUP(B225,Database!A:A,Database!H:H)))","v":""},{"$f":"IF(ISNA(A225),\"\",IF(LEN(LOOKUP(B225,Database!A:A,Database!I:I))=0,\"\",LOOKUP(B225,Database!A:A,Database!I:I)))","v":""},{"$f":"IF(ISNA(A225),\"\",IF(LEN(LOOKUP(B225,Database!A:A,Database!J:J))=0,\"\",LOOKUP(B225,Database!A:A,Database!J:J)))","v":""},{"$f":"IF(ISNA(A225),\"\",IF(LEN(LOOKUP(B225,Database!A:A,Database!K:K))=0,\"\",LOOKUP(B225,Database!A:A,Database!K:K)))","v":""},{"$f":"IF(ISNA(A225),\"\",IF(LEN(LOOKUP(B225,Database!A:A,Database!L:L))=0,\"\",LOOKUP(B225,Database!A:A,Database!L:L)))","v":""},{"$f":"IF(ISNA(A225),\"\",IF(LEN(LOOKUP(B225,Database!A:A,Database!M:M))=0,\"\",LOOKUP(B225,Database!A:A,Database!M:M)))","v":""},{"$f":"IF(ISNA(A225),\"\",IF(LEN(LOOKUP(B225,Database!A:A,Database!N:N))=0,\"\",LOOKUP(B225,Database!A:A,Database!N:N)))","v":""},{"$f":"IF(ISNA(A225),\"\",IF(LEN(LOOKUP(B225,Database!A:A,Database!O:O))=0,\"\",LOOKUP(B225,Database!A:A,Database!O:O)))","v":""},{"$f":"IF(ISNA(A225),\"\",IF(LEN(LOOKUP(B225,Database!A:A,Database!P:P))=0,\"\",LOOKUP(B225,Database!A:A,Database!P:P)))","v":""},{"$f":"IF(ISNA(A225),\"\",IF(LEN(LOOKUP(B225,Database!A:A,Database!Q:Q))=0,\"\",LOOKUP(B225,Database!A:A,Database!Q:Q)))","v":""},{"$f":"IF(ISNA(A225),\"\",IF(LEN(LOOKUP(B225,Database!A:A,Database!R:R))=0,\"\",LOOKUP(B225,Database!A:A,Database!R:R)))","v":""},{"$f":"IF(ISNA(A225),\"\",IF(LEN(LOOKUP(B225,Database!A:A,Database!S:S))=0,\"\",LOOKUP(B225,Database!A:A,Database!S:S)))","v":""},null,null,null,null,null,null,211,0,null,1,0,null,0.1]
[{"$error":"#N/A"},"2018-07-31",{"$f":"IF(ISNA(A226),\"\",IF(LEN(LOOKUP(B226,Database!A:A,Database!B:B))=0,\"\",LOOKUP(B226,Database!A:A,Database!B:B)))","v":""},{"$f":"IF(ISNA(A226),\"\",IF(LEN(LOOKUP(B226,Database!A:A,Database!C:C))=0,\"\",LOOKUP(B226,Database!A:A,Database!C:C)))","v":""},{"$f":"IF(ISNA(A226),\"\",IF(LEN(LOOKUP(B226,Database!A:A,Database!D:D))=0,\"\",LOOKUP(B226,Database!A:A,Database!D:D)))","v":""},{"$f":"IF(ISNA(A226),\"\",IF(LEN(LOOKUP(B226,Database!A:A,Database!E:E))=0,\"\",LOOKUP(B226,Database!A:A,Database!E:E)))","v":""},{"$f":"IF(ISNA(A226),\"\",IF(LEN(LOOKUP(B226,Database!A:A,Database!F:F))=0,\"\",LOOKUP(B226,Database!A:A,Database!F:F)))","v":""},{"$f":"IF(ISNA(A226),\"\",IF(LEN(LOOKUP(B226,Database!A:A,Database!G:G))=0,\"\",LOOKUP(B226,Database!A:A,Database!G:G)))","v":""},{"$f":"IF(ISNA(A226),\"\",IF(LEN(LOOKUP(B226,Database!A:A,Database!H:H))=0,\"\",LOOKUP(B226,Database!A:A,Database!H:H)))","v":""},{"$f":"IF(ISNA(A226),\"\",IF(LEN(LOOKUP(B226,Database!A:A,Database!I:I))=0,\"\",LOOKUP(B226,Database!A:A,Database!I:I)))","v":""},{"$f":"IF(ISNA(A226),\"\",IF(LEN(LOOKUP(B226,Database!A:A,Database!J:J))=0,\"\",LOOKUP(B226,Database!A:A,Database!J:J)))","v":""},{"$f":"IF(ISNA(A226),\"\",IF(LEN(LOOKUP(B226,Database!A:A,Database!K:K))=0,\"\",LOOKUP(B226,Database!A:A,Database!K:K)))","v":""},{"$f":"IF(ISNA(A226),\"\",IF(LEN(LOOKUP(B226,Database!A:A,Database!L:L))=0,\"\",LOOKUP(B226,Database!A:A,Database!L:L)))","v":""},{"$f":"IF(ISNA(A226),\"\",IF(LEN(LOOKUP(B226,Database!A:A,Database!M:M))=0,\"\",LOOKUP(B226,Database!A:A,Database!M:M)))","v":""},{"$f":"IF(ISNA(A226),\"\",IF(LEN(LOOKUP(B226,Database!A:A,Database!N:N))=0,\"\",LOOKUP(B226,Database!A:A,Database!N:N)))","v":""},{"$f":"IF(ISNA(A226),\"\",IF(LEN(LOOKUP(B226,Database!A:A,Database!O:O))=0,\"\",LOOKUP(B226,Database!A:A,Database!O:O)))","v":""},{"$f":"IF(ISNA(A226),\"\",IF(LEN(LOOKUP(B226,Database!A:A,Database!P:P))=0,\"\",LOOKUP(B226,Database!A:A,Database!P:P)))","v":""},{"$f":"IF(ISNA(A226),\"\",IF(LEN(LOOKUP(B226,Database!A:A,Database!Q:Q))=0,\"\",LOOKUP(B226,Database!A:A,Database!Q:Q)))","v":""},{"$f":"IF(ISNA(A226),\"\",IF(LEN(LOOKUP(B226,Database!A:A,Database!R:R))=0,\"\",LOOKUP(B226,Database!A:A,Database!R:R)))","v":""},{"$f":"IF(ISNA(A226),\"\",IF(LEN(LOOKUP(B226,Database!A:A,Database!S:S))=0,\"\",LOOKUP(B226,Database!A:A,Database!S:S)))","v":""},null,null,null,null,null,null,212,0,null,1,0,null,0.1]
[{"$error":"#N/A"},"2018-08-01",{"$f":"IF(ISNA(A227),\"\",IF(LEN(LOOKUP(B227,Database!A:A,Database!B:B))=0,\"\",LOOKUP(B227,Database!A:A,Database!B:B)))","v":""},{"$f":"IF(ISNA(A227),\"\",IF(LEN(LOOKUP(B227,Database!A:A,Database!C:C))=0,\"\",LOOKUP(B227,Database!A:A,Database!C:C)))","v":""},{"$f":"IF(ISNA(A227),\"\",IF(LEN(LOOKUP(B227,Database!A:A,Database!D:D))=0,\"\",LOOKUP(B227,Database!A:A,Database!D:D)))","v":""},{"$f":"IF(ISNA(A227),\"\",IF(LEN(LOOKUP(B227,Database!A:A,Database!E:E))=0,\"\",LOOKUP(B227,Database!A:A,Database!E:E)))","v":""},{"$f":"IF(ISNA(A227),\"\",IF(LEN(LOOKUP(B227,Database!A:A,Database!F:F))=0,\"\",LOOKUP(B227,Database!A:A,Database!F:F)))","v":""},{"$f":"IF(ISNA(A227),\"\",IF(LEN(LOOKUP(B227,Database!A:A,Database!G:G))=0,\"\",LOOKUP(B227,Database!A:A,Database!G:G)))","v":""},{"$f":"IF(ISNA(A227),\"\",IF(LEN(LOOKUP(B227,Database!A:A,Database!H:H))=0,\"\",LOOKUP(B227,Database!A:A,Database!H:H)))","v":""},{"$f":"IF(ISNA(A227),\"\",IF(LEN(LOOKUP(B227,Database!A:A,Database!I:I))=0,\"\",LOOKUP(B227,Database!A:A,Database!I:I)))","v":""},{"$f":"IF(ISNA(A227),\"\",IF(LEN(LOOKUP(B227,Database!A:A,Database!J:J))=0,\"\",LOOKUP(B227,Database!A:A,Database!J:J)))","v":""},{"$f":"IF(ISNA(A227),\"\",IF(LEN(LOOKUP(B227,Database!A:A,Database!K:K))=0,\"\",LOOKUP(B227,Database!A:A,Database!K:K)))","v":""},{"$f":"IF(ISNA(A227),\"\",IF(LEN(LOOKUP(B227,Database!A:A,Database!L:L))=0,\"\",LOOKUP(B227,Database!A:A,Database!L:L)))","v":""},{"$f":"IF(ISNA(A227),\"\",IF(LEN(LOOKUP(B227,Database!A:A,Database!M:M))=0,\"\",LOOKUP(B227,Database!A:A,Database!M:M)))","v":""},{"$f":"IF(ISNA(A227),\"\",IF(LEN(LOOKUP(B227,Database!A:A,Database!N:N))=0,\"\",LOOKUP(B227,Database!A:A,Database!N:N)))","v":""},{"$f":"IF(ISNA(A227),\"\",IF(LEN(LOOKUP(B227,Database!A:A,Database!O:O))=0,\"\",LOOKUP(B227,Database!A:A,Database!O:O)))","v":""},{"$f":"IF(ISNA(A227),\"\",IF(LEN(LOOKUP(B227,Database!A:A,Database!P:P))=0,\"\",LOOKUP(B227,Database!A:A,Database!P:P)))","v":""},{"$f":"IF(ISNA(A227),\"\",IF(LEN(LOOKUP(B227,Database!A:A,Database!Q:Q))=0,\"\",LOOKUP(B227,Database!A:A,Database!Q:Q)))","v":""},{"$f":"IF(ISNA(A227),\"\",IF(LEN(LOOKUP(B227,Database!A:A,Database!R:R))=0,\"\",LOOKUP(B227,Database!A:A,Database!R:R)))","v":""},{"$f":"IF(ISNA(A227),\"\",IF(LEN(LOOKUP(B227,Database!A:A,Database!S:S))=0,\"\",LOOKUP(B227,Database!A:A,Database!S:S)))","v":""},null,null,null,null,null,null,213,0,null,1,0,null,0.1]
[{"$error":"#N/A"},"2018-08-02",{"$f":"IF(ISNA(A228),\"\",IF(LEN(LOOKUP(B228,Database!A:A,Database!B:B))=0,\"\",LOOKUP(B228,Database!A:A,Database!B:B)))","v":""},{"$f":"IF(ISNA(A228),\"\",IF(LEN(LOOKUP(B228,Database!A:A,Database!C:C))=0,\"\",LOOKUP(B228,Database!A:A,Database!C:C)))","v":""},{"$f":"IF(ISNA(A228),\"\",IF(LEN(LOOKUP(B228,Database!A:A,Database!D:D))=0,\"\",LOOKUP(B228,Database!A:A,Database!D:D)))","v":""},{"$f":"IF(ISNA(A228),\"\",IF(LEN(LOOKUP(B228,Database!A:A,Database!E:E))=0,\"\",LOOKUP(B228,Database!A:A,Database!E:E)))","v":""},{"$f":"IF(ISNA(A228),\"\",IF(LEN(LOOKUP(B228,Database!A:A,Database!F:F))=0,\"\",LOOKUP(B228,Database!A:A,Database!F:F)))","v":""},{"$f":"IF(ISNA(A228),\"\",IF(LEN(LOOKUP(B228,Database!A:A,Database!G:G))=0,\"\",LOOKUP(B228,Database!A:A,Database!G:G)))","v":""},{"$f":"IF(ISNA(A228),\"\",IF(LEN(LOOKUP(B228,Database!A:A,Database!H:H))=0,\"\",LOOKUP(B228,Database!A:A,Database!H:H)))","v":""},{"$f":"IF(ISNA(A228),\"\",IF(LEN(LOOKUP(B228,Database!A:A,Database!I:I))=0,\"\",LOOKUP(B228,Database!A:A,Database!I:I)))","v":""},{"$f":"IF(ISNA(A228),\"\",IF(LEN(LOOKUP(B228,Database!A:A,Database!J:J))=0,\"\",LOOKUP(B228,Database!A:A,Database!J:J)))","v":""},{"$f":"IF(ISNA(A228),\"\",IF(LEN(LOOKUP(B228,Database!A:A,Database!K:K))=0,\"\",LOOKUP(B228,Database!A:A,Database!K:K)))","v":""},{"$f":"IF(ISNA(A228),\"\",IF(LEN(LOOKUP(B228,Database!A:A,Database!L:L))=0,\"\",LOOKUP(B228,Database!A:A,Database!L:L)))","v":""},{"$f":"IF(ISNA(A228),\"\",IF(LEN(LOOKUP(B228,Database!A:A,Database!M:M))=0,\"\",LOOKUP(B228,Database!A:A,Database!M:M)))","v":""},{"$f":"IF(ISNA(A228),\"\",IF(LEN(LOOKUP(B228,Database!A:A,Database!N:N))=0,\"\",LOOKUP(B228,Database!A:A,Database!N:N)))","v":""},{"$f":"IF(ISNA(A228),\"\",IF(LEN(LOOKUP(B228,Database!A:A,Database!O:O))=0,\"\",LOOKUP(B228,Database!A:A,Database!O:O)))","v":""},{"$f":"IF(ISNA(A228),\"\",IF(LEN(LOOKUP(B228,Database!A:A,Database!P:P))=0,\"\",LOOKUP(B228,Database!A:A,Database!P:P)))","v":""},{"$f":"IF(ISNA(A228),\"\",IF(LEN(LOOKUP(B228,Database!A:A,Database!Q:Q))=0,\"\",LOOKUP(B228,Database!A:A,Database!Q:Q)))","v":""},{"$f":"IF(ISNA(A228),\"\",IF(LEN(LOOKUP(B228,Database!A:A,Database!R:R))=0,\"\",LOOKUP(B228,Database!A:A,Database!R:R)))","v":""},{"$f":"IF(ISNA(A228),\"\",IF(LEN(LOOKUP(B228,Database!A:A,Database!S:S))=0,\"\",LOOKUP(B228,Database!A:A,Database!S:S)))","v":""},null,null,null,null,null,null,214,0,null,1,0,null,0.1]
[{"$error":"#N/A"},"2018-08-03",{"$f":"IF(ISNA(A229),\"\",IF(LEN(LOOKUP(B229,Database!A:A,Database!B:B))=0,\"\",LOOKUP(B229,Database!A:A,Database!B:B)))","v":""},{"$f":"IF(ISNA(A229),\"\",IF(LEN(LOOKUP(B229,Database!A:A,Database!C:C))=0,\"\",LOOKUP(B229,Database!A:A,Database!C:C)))","v":""},{"$f":"IF(ISNA(A229),\"\",IF(LEN(LOOKUP(B229,Database!A:A,Database!D:D))=0,\"\",LOOKUP(B229,Database!A:A,Database!D:D)))","v":""},{"$f":"IF(ISNA(A229),\"\",IF(LEN(LOOKUP(B229,Database!A:A,Database!E:E))=0,\"\",LOOKUP(B229,Database!A:A,Database!E:E)))","v":""},{"$f":"IF(ISNA(A229),\"\",IF(LEN(LOOKUP(B229,Database!A:A,Database!F:F))=0,\"\",LOOKUP(B229,Database!A:A,Database!F:F)))","v":""},{"$f":"IF(ISNA(A229),\"\",IF(LEN(LOOKUP(B229,Database!A:A,Database!G:G))=0,\"\",LOOKUP(B229,Database!A:A,Database!G:G)))","v":""},{"$f":"IF(ISNA(A229),\"\",IF(LEN(LOOKUP(B229,Database!A:A,Database!H:H))=0,\"\",LOOKUP(B229,Database!A:A,Database!H:H)))","v":""},{"$f":"IF(ISNA(A229),\"\",IF(LEN(LOOKUP(B229,Database!A:A,Database!I:I))=0,\"\",LOOKUP(B229,Database!A:A,Database!I:I)))","v":""},{"$f":"IF(ISNA(A229),\"\",IF(LEN(LOOKUP(B229,Database!A:A,Database!J:J))=0,\"\",LOOKUP(B229,Database!A:A,Database!J:J)))","v":""},{"$f":"IF(ISNA(A229),\"\",IF(LEN(LOOKUP(B229,Database!A:A,Database!K:K))=0,\"\",LOOKUP(B229,Database!A:A,Database!K:K)))","v":""},{"$f":"IF(ISNA(A229),\"\",IF(LEN(LOOKUP(B229,Database!A:A,Database!L:L))=0,\"\",LOOKUP(B229,Database!A:A,Database!L:L)))","v":""},{"$f":"IF(ISNA(A229),\"\",IF(LEN(LOOKUP(B229,Database!A:A,Database!M:M))=0,\"\",LOOKUP(B229,Database!A:A,Database!M:M)))","v":""},{"$f":"IF(ISNA(A229),\"\",IF(LEN(LOOKUP(B229,Database!A:A,Database!N:N))=0,\"\",LOOKUP(B229,Database!A:A,Database!N:N)))","v":""},{"$f":"IF(ISNA(A229),\"\",IF(LEN(LOOKUP(B229,Database!A:A,Database!O:O))=0,\"\",LOOKUP(B229,Database!A:A,Database!O:O)))","v":""},{"$f":"IF(ISNA(A229),\"\",IF(LEN(LOOKUP(B229,Database!A:A,Database!P:P))=0,\"\",LOOKUP(B229,Database!A:A,Database!P:P)))","v":""},{"$f":"IF(ISNA(A229),\"\",IF(LEN(LOOKUP(B229,Database!A:A,Database!Q:Q))=0,\"\",LOOKUP(B229,Database!A:A,Database!Q:Q)))","v":""},{"$f":"IF(ISNA(A229),\"\",IF(LEN(LOOKUP(B229,Database!A:A,Database!R:R))=0,\"\",LOOKUP(B229,Database!A:A,Database!R:R)))","v":""},{"$f":"IF(ISNA(A229),\"\",IF(LEN(LOOKUP(B229,Database!A:A,Database!S:S))=0,\"\",LOOKUP(B229,Database!A:A,Database!S:S)))","v":""},null,null,null,null,null,null,215,0,null,1,0,null,0.1]
[{"$error":"#N/A"},"2018-08-04",{"$f":"IF(ISNA(A230),\"\",IF(LEN(LOOKUP(B230,Database!A:A,Database!B:B))=0,\"\",LOOKUP(B230,Database!A:A,Database!B:B)))","v":""},{"$f":"IF(ISNA(A230),\"\",IF(LEN(LOOKUP(B230,Database!A:A,Database!C:C))=0,\"\",LOOKUP(B230,Database!A:A,Database!C:C)))","v":""},{"$f":"IF(ISNA(A230),\"\",IF(LEN(LOOKUP(B230,Database!A:A,Database!D:D))=0,\"\",LOOKUP(B230,Database!A:A,Database!D:D)))","v":""},{"$f":"IF(ISNA(A230),\"\",IF(LEN(LOOKUP(B230,Database!A:A,Database!E:E))=0,\"\",LOOKUP(B230,Database!A:A,Database!E:E)))","v":""},{"$f":"IF(ISNA(A230),\"\",IF(LEN(LOOKUP(B230,Database!A:A,Database!F:F))=0,\"\",LOOKUP(B230,Database!A:A,Database!F:F)))","v":""},{"$f":"IF(ISNA(A230),\"\",IF(LEN(LOOKUP(B230,Database!A:A,Database!G:G))=0,\"\",LOOKUP(B230,Database!A:A,Database!G:G)))","v":""},{"$f":"IF(ISNA(A230),\"\",IF(LEN(LOOKUP(B230,Database!A:A,Database!H:H))=0,\"\",LOOKUP(B230,Database!A:A,Database!H:H)))","v":""},{"$f":"IF(ISNA(A230),\"\",IF(LEN(LOOKUP(B230,Database!A:A,Database!I:I))=0,\"\",LOOKUP(B230,Database!A:A,Database!I:I)))","v":""},{"$f":"IF(ISNA(A230),\"\",IF(LEN(LOOKUP(B230,Database!A:A,Database!J:J))=0,\"\",LOOKUP(B230,Database!A:A,Database!J:J)))","v":""},{"$f":"IF(ISNA(A230),\"\",IF(LEN(LOOKUP(B230,Database!A:A,Database!K:K))=0,\"\",LOOKUP(B230,Database!A:A,Database!K:K)))","v":""},{"$f":"IF(ISNA(A230),\"\",IF(LEN(LOOKUP(B230,Database!A:A,Database!L:L))=0,\"\",LOOKUP(B230,Database!A:A,Database!L:L)))","v":""},{"$f":"IF(ISNA(A230),\"\",IF(LEN(LOOKUP(B230,Database!A:A,Database!M:M))=0,\"\",LOOKUP(B230,Database!A:A,Database!M:M)))","v":""},{"$f":"IF(ISNA(A230),\"\",IF(LEN(LOOKUP(B230,Database!A:A,Database!N:N))=0,\"\",LOOKUP(B230,Database!A:A,Database!N:N)))","v":""},{"$f":"IF(ISNA(A230),\"\",IF(LEN(LOOKUP(B230,Database!A:A,Database!O:O))=0,\"\",LOOKUP(B230,Database!A:A,Database!O:O)))","v":""},{"$f":"IF(ISNA(A230),\"\",IF(LEN(LOOKUP(B230,Database!A:A,Database!P:P))=0,\"\",LOOKUP(B230,Database!A:A,Database!P:P)))","v":""},{"$f":"IF(ISNA(A230),\"\",IF(LEN(LOOKUP(B230,Database!A:A,Database!Q:Q))=0,\"\",LOOKUP(B230,Database!A:A,Database!Q:Q)))","v":""},{"$f":"IF(ISNA(A230),\"\",IF(LEN(LOOKUP(B230,Database!A:A,Database!R:R))=0,\"\",LOOKUP(B230,Database!A:A,Database!R:R)))","v":""},{"$f":"IF(ISNA(A230),\"\",IF(LEN(LOOKUP(B230,Database!A:A,Database!S:S))=0,\"\",LOOKUP(B230,Database!A:A,Database!S:S)))","v":""},null,null,null,null,null,null,216,0,null,1,0,null,0.1]
[{"$error":"#N/A"},"2018-08-05",{"$f":"IF(ISNA(A231),\"\",IF(LEN(LOOKUP(B231,Database!A:A,Database!B:B))=0,\"\",LOOKUP(B231,Database!A:A,Database!B:B)))","v":""},{"$f":"IF(ISNA(A231),\"\",IF(LEN(LOOKUP(B231,Database!A:A,Database!C:C))=0,\"\",LOOKUP(B231,Database!A:A,Database!C:C)))","v":""},{"$f":"IF(ISNA(A231),\"\",IF(LEN(LOOKUP(B231,Database!A:A,Database!D:D))=0,\"\",LOOKUP(B231,Database!A:A,Database!D:D)))","v":""},{"$f":"IF(ISNA(A231),\"\",IF(LEN(LOOKUP(B231,Database!A:A,Database!E:E))=0,\"\",LOOKUP(B231,Database!A:A,Database!E:E)))","v":""},{"$f":"IF(ISNA(A231),\"\",IF(LEN(LOOKUP(B231,Database!A:A,Database!F:F))=0,\"\",LOOKUP(B231,Database!A:A,Database!F:F)))","v":""},{"$f":"IF(ISNA(A231),\"\",IF(LEN(LOOKUP(B231,Database!A:A,Database!G:G))=0,\"\",LOOKUP(B231,Database!A:A,Database!G:G)))","v":""},{"$f":"IF(ISNA(A231),\"\",IF(LEN(LOOKUP(B231,Database!A:A,Database!H:H))=0,\"\",LOOKUP(B231,Database!A:A,Database!H:H)))","v":""},{"$f":"IF(ISNA(A231),\"\",IF(LEN(LOOKUP(B231,Database!A:A,Database!I:I))=0,\"\",LOOKUP(B231,Database!A:A,Database!I:I)))","v":""},{"$f":"IF(ISNA(A231),\"\",IF(LEN(LOOKUP(B231,Database!A:A,Database!J:J))=0,\"\",LOOKUP(B231,Database!A:A,Database!J:J)))","v":""},{"$f":"IF(ISNA(A231),\"\",IF(LEN(LOOKUP(B231,Database!A:A,Database!K:K))=0,\"\",LOOKUP(B231,Database!A:A,Database!K:K)))","v":""},{"$f":"IF(ISNA(A231),\"\",IF(LEN(LOOKUP(B231,Database!A:A,Database!L:L))=0,\"\",LOOKUP(B231,Database!A:A,Database!L:L)))","v":""},{"$f":"IF(ISNA(A231),\"\",IF(LEN(LOOKUP(B231,Database!A:A,Database!M:M))=0,\"\",LOOKUP(B231,Database!A:A,Database!M:M)))","v":""},{"$f":"IF(ISNA(A231),\"\",IF(LEN(LOOKUP(B231,Database!A:A,Database!N:N))=0,\"\",LOOKUP(B231,Database!A:A,Database!N:N)))","v":""},{"$f":"IF(ISNA(A231),\"\",IF(LEN(LOOKUP(B231,Database!A:A,Database!O:O))=0,\"\",LOOKUP(B231,Database!A:A,Database!O:O)))","v":""},{"$f":"IF(ISNA(A231),\"\",IF(LEN(LOOKUP(B231,Database!A:A,Database!P:P))=0,\"\",LOOKUP(B231,Database!A:A,Database!P:P)))","v":""},{"$f":"IF(ISNA(A231),\"\",IF(LEN(LOOKUP(B231,Database!A:A,Database!Q:Q))=0,\"\",LOOKUP(B231,Database!A:A,Database!Q:Q)))","v":""},{"$f":"IF(ISNA(A231),\"\",IF(LEN(LOOKUP(B231,Database!A:A,Database!R:R))=0,\"\",LOOKUP(B231,Database!A:A,Database!R:R)))","v":""},{"$f":"IF(ISNA(A231),\"\",IF(LEN(LOOKUP(B231,Database!A:A,Database!S:S))=0,\"\",LOOKUP(B231,Database!A:A,Database!S:S)))","v":""},null,null,null,null,null,null,217,0,null,1,0,null,0.1]
[{"$error":"#N/A"},"2018-08-06",{"$f":"IF(ISNA(A232),\"\",IF(LEN(LOOKUP(B232,Database!A:A,Database!B:B))=0,\"\",LOOKUP(B232,Database!A:A,Database!B:B)))","v":""},{"$f":"IF(ISNA(A232),\"\",IF(LEN(LOOKUP(B232,Database!A:A,Database!C:C))=0,\"\",LOOKUP(B232,Database!A:A,Database!C:C)))","v":""},{"$f":"IF(ISNA(A232),\"\",IF(LEN(LOOKUP(B232,Database!A:A,Database!D:D))=0,\"\",LOOKUP(B232,Database!A:A,Database!D:D)))","v":""},{"$f":"IF(ISNA(A232),\"\",IF(LEN(LOOKUP(B232,Database!A:A,Database!E:E))=0,\"\",LOOKUP(B232,Database!A:A,Database!E:E)))","v":""},{"$f":"IF(ISNA(A232),\"\",IF(LEN(LOOKUP(B232,Database!A:A,Database!F:F))=0,\"\",LOOKUP(B232,Database!A:A,Database!F:F)))","v":""},{"$f":"IF(ISNA(A232),\"\",IF(LEN(LOOKUP(B232,Database!A:A,Database!G:G))=0,\"\",LOOKUP(B232,Database!A:A,Database!G:G)))","v":""},{"$f":"IF(ISNA(A232),\"\",IF(LEN(LOOKUP(B232,Database!A:A,Database!H:H))=0,\"\",LOOKUP(B232,Database!A:A,Database!H:H)))","v":""},{"$f":"IF(ISNA(A232),\"\",IF(LEN(LOOKUP(B232,Database!A:A,Database!I:I))=0,\"\",LOOKUP(B232,Database!A:A,Database!I:I)))","v":""},{"$f":"IF(ISNA(A232),\"\",IF(LEN(LOOKUP(B232,Database!A:A,Database!J:J))=0,\"\",LOOKUP(B232,Database!A:A,Database!J:J)))","v":""},{"$f":"IF(ISNA(A232),\"\",IF(LEN(LOOKUP(B232,Database!A:A,Database!K:K))=0,\"\",LOOKUP(B232,Database!A:A,Database!K:K)))","v":""},{"$f":"IF(ISNA(A232),\"\",IF(LEN(LOOKUP(B232,Database!A:A,Database!L:L))=0,\"\",LOOKUP(B232,Database!A:A,Database!L:L)))","v":""},{"$f":"IF(ISNA(A232),\"\",IF(LEN(LOOKUP(B232,Database!A:A,Database!M:M))=0,\"\",LOOKUP(B232,Database!A:A,Database!M:M)))","v":""},{"$f":"IF(ISNA(A232),\"\",IF(LEN(LOOKUP(B232,Database!A:A,Database!N:N))=0,\"\",LOOKUP(B232,Database!A:A,Database!N:N)))","v":""},{"$f":"IF(ISNA(A232),\"\",IF(LEN(LOOKUP(B232,Database!A:A,Database!O:O))=0,\"\",LOOKUP(B232,Database!A:A,Database!O:O)))","v":""},{"$f":"IF(ISNA(A232),\"\",IF(LEN(LOOKUP(B232,Database!A:A,Database!P:P))=0,\"\",LOOKUP(B232,Database!A:A,Database!P:P)))","v":""},{"$f":"IF(ISNA(A232),\"\",IF(LEN(LOOKUP(B232,Database!A:A,Database!Q:Q))=0,\"\",LOOKUP(B232,Database!A:A,Database!Q:Q)))","v":""},{"$f":"IF(ISNA(A232),\"\",IF(LEN(LOOKUP(B232,Database!A:A,Database!R:R))=0,\"\",LOOKUP(B232,Database!A:A,Database!R:R)))","v":""},{"$f":"IF(ISNA(A232),\"\",IF(LEN(LOOKUP(B232,Database!A:A,Database!S:S))=0,\"\",LOOKUP(B232,Database!A:A,Database!S:S)))","v":""},null,null,null,null,null,null,218,0,null,1,0,null,0.1]
[{"$error":"#N/A"},"2018-08-07",{"$f":"IF(ISNA(A233),\"\",IF(LEN(LOOKUP(B233,Database!A:A,Database!B:B))=0,\"\",LOOKUP(B233,Database!A:A,Database!B:B)))","v":""},{"$f":"IF(ISNA(A233),\"\",IF(LEN(LOOKUP(B233,Database!A:A,Database!C:C))=0,\"\",LOOKUP(B233,Database!A:A,Database!C:C)))","v":""},{"$f":"IF(ISNA(A233),\"\",IF(LEN(LOOKUP(B233,Database!A:A,Database!D:D))=0,\"\",LOOKUP(B233,Database!A:A,Database!D:D)))","v":""},{"$f":"IF(ISNA(A233),\"\",IF(LEN(LOOKUP(B233,Database!A:A,Database!E:E))=0,\"\",LOOKUP(B233,Database!A:A,Database!E:E)))","v":""},{"$f":"IF(ISNA(A233),\"\",IF(LEN(LOOKUP(B233,Database!A:A,Database!F:F))=0,\"\",LOOKUP(B233,Database!A:A,Database!F:F)))","v":""},{"$f":"IF(ISNA(A233),\"\",IF(LEN(LOOKUP(B233,Database!A:A,Database!G:G))=0,\"\",LOOKUP(B233,Database!A:A,Database!G:G)))","v":""},{"$f":"IF(ISNA(A233),\"\",IF(LEN(LOOKUP(B233,Database!A:A,Database!H:H))=0,\"\",LOOKUP(B233,Database!A:A,Database!H:H)))","v":""},{"$f":"IF(ISNA(A233),\"\",IF(LEN(LOOKUP(B233,Database!A:A,Database!I:I))=0,\"\",LOOKUP(B233,Database!A:A,Database!I:I)))","v":""},{"$f":"IF(ISNA(A233),\"\",IF(LEN(LOOKUP(B233,Database!A:A,Database!J:J))=0,\"\",LOOKUP(B233,Database!A:A,Database!J:J)))","v":""},{"$f":"IF(ISNA(A233),\"\",IF(LEN(LOOKUP(B233,Database!A:A,Database!K:K))=0,\"\",LOOKUP(B233,Database!A:A,Database!K:K)))","v":""},{"$f":"IF(ISNA(A233),\"\",IF(LEN(LOOKUP(B233,Database!A:A,Database!L:L))=0,\"\",LOOKUP(B233,Database!A:A,Database!L:L)))","v":""},{"$f":"IF(ISNA(A233),\"\",IF(LEN(LOOKUP(B233,Database!A:A,Database!M:M))=0,\"\",LOOKUP(B233,Database!A:A,Database!M:M)))","v":""},{"$f":"IF(ISNA(A233),\"\",IF(LEN(LOOKUP(B233,Database!A:A,Database!N:N))=0,\"\",LOOKUP(B233,Database!A:A,Database!N:N)))","v":""},{"$f":"IF(ISNA(A233),\"\",IF(LEN(LOOKUP(B233,Database!A:A,Database!O:O))=0,\"\",LOOKUP(B233,Database!A:A,Database!O:O)))","v":""},{"$f":"IF(ISNA(A233),\"\",IF(LEN(LOOKUP(B233,Database!A:A,Database!P:P))=0,\"\",LOOKUP(B233,Database!A:A,Database!P:P)))","v":""},{"$f":"IF(ISNA(A233),\"\",IF(LEN(LOOKUP(B233,Database!A:A,Database!Q:Q))=0,\"\",LOOKUP(B233,Database!A:A,Database!Q:Q)))","v":""},{"$f":"IF(ISNA(A233),\"\",IF(LEN(LOOKUP(B233,Database!A:A,Database!R:R))=0,\"\",LOOKUP(B233,Database!A:A,Database!R:R)))","v":""},{"$f":"IF(ISNA(A233),\"\",IF(LEN(LOOKUP(B233,Database!A:A,Database!S:S))=0,\"\",LOOKUP(B233,Database!A:A,Database!S:S)))","v":""},null,null,null,null,null,null,219,0,null,1,0,null,0.1]
[{"$error":"#N/A"},"2018-08-08",{"$f":"IF(ISNA(A234),\"\",IF(LEN(LOOKUP(B234,Database!A:A,Database!B:B))=0,\"\",LOOKUP(B234,Database!A:A,Database!B:B)))","v":""},{"$f":"IF(ISNA(A234),\"\",IF(LEN(LOOKUP(B234,Database!A:A,Database!C:C))=0,\"\",LOOKUP(B234,Database!A:A,Database!C:C)))","v":""},{"$f":"IF(ISNA(A234),\"\",IF(LEN(LOOKUP(B234,Database!A:A,Database!D:D))=0,\"\",LOOKUP(B234,Database!A:A,Database!D:D)))","v":""},{"$f":"IF(ISNA(A234),\"\",IF(LEN(LOOKUP(B234,Database!A:A,Database!E:E))=0,\"\",LOOKUP(B234,Database!A:A,Database!E:E)))","v":""},{"$f":"IF(ISNA(A234),\"\",IF(LEN(LOOKUP(B234,Database!A:A,Database!F:F))=0,\"\",LOOKUP(B234,Database!A:A,Database!F:F)))","v":""},{"$f":"IF(ISNA(A234),\"\",IF(LEN(LOOKUP(B234,Database!A:A,Database!G:G))=0,\"\",LOOKUP(B234,Database!A:A,Database!G:G)))","v":""},{"$f":"IF(ISNA(A234),\"\",IF(LEN(LOOKUP(B234,Database!A:A,Database!H:H))=0,\"\",LOOKUP(B234,Database!A:A,Database!H:H)))","v":""},{"$f":"IF(ISNA(A234),\"\",IF(LEN(LOOKUP(B234,Database!A:A,Database!I:I))=0,\"\",LOOKUP(B234,Database!A:A,Database!I:I)))","v":""},{"$f":"IF(ISNA(A234),\"\",IF(LEN(LOOKUP(B234,Database!A:A,Database!J:J))=0,\"\",LOOKUP(B234,Database!A:A,Database!J:J)))","v":""},{"$f":"IF(ISNA(A234),\"\",IF(LEN(LOOKUP(B234,Database!A:A,Database!K:K))=0,\"\",LOOKUP(B234,Database!A:A,Database!K:K)))","v":""},{"$f":"IF(ISNA(A234),\"\",IF(LEN(LOOKUP(B234,Database!A:A,Database!L:L))=0,\"\",LOOKUP(B234,Database!A:A,Database!L:L)))","v":""},{"$f":"IF(ISNA(A234),\"\",IF(LEN(LOOKUP(B234,Database!A:A,Database!M:M))=0,\"\",LOOKUP(B234,Database!A:A,Database!M:M)))","v":""},{"$f":"IF(ISNA(A234),\"\",IF(LEN(LOOKUP(B234,Database!A:A,Database!N:N))=0,\"\",LOOKUP(B234,Database!A:A,Database!N:N)))","v":""},{"$f":"IF(ISNA(A234),\"\",IF(LEN(LOOKUP(B234,Database!A:A,Database!O:O))=0,\"\",LOOKUP(B234,Database!A:A,Database!O:O)))","v":""},{"$f":"IF(ISNA(A234),\"\",IF(LEN(LOOKUP(B234,Database!A:A,Database!P:P))=0,\"\",LOOKUP(B234,Database!A:A,Database!P:P)))","v":""},{"$f":"IF(ISNA(A234),\"\",IF(LEN(LOOKUP(B234,Database!A:A,Database!Q:Q))=0,\"\",LOOKUP(B234,Database!A:A,Database!Q:Q)))","v":""},{"$f":"IF(ISNA(A234),\"\",IF(LEN(LOOKUP(B234,Database!A:A,Database!R:R))=0,\"\",LOOKUP(B234,Database!A:A,Database!R:R)))","v":""},{"$f":"IF(ISNA(A234),\"\",IF(LEN(LOOKUP(B234,Database!A:A,Database!S:S))=0,\"\",LOOKUP(B234,Database!A:A,Database!S:S)))","v":""},null,null,null,null,null,null,220,0,null,1,0,null,0.1]
[{"$error":"#N/A"},"2018-08-09",{"$f":"IF(ISNA(A235),\"\",IF(LEN(LOOKUP(B235,Database!A:A,Database!B:B))=0,\"\",LOOKUP(B235,Database!A:A,Database!B:B)))","v":""},{"$f":"IF(ISNA(A235),\"\",IF(LEN(LOOKUP(B235,Database!A:A,Database!C:C))=0,\"\",LOOKUP(B235,Database!A:A,Database!C:C)))","v":""},{"$f":"IF(ISNA(A235),\"\",IF(LEN(LOOKUP(B235,Database!A:A,Database!D:D))=0,\"\",LOOKUP(B235,Database!A:A,Database!D:D)))","v":""},{"$f":"IF(ISNA(A235),\"\",IF(LEN(LOOKUP(B235,Database!A:A,Database!E:E))=0,\"\",LOOKUP(B235,Database!A:A,Database!E:E)))","v":""},{"$f":"IF(ISNA(A235),\"\",IF(LEN(LOOKUP(B235,Database!A:A,Database!F:F))=0,\"\",LOOKUP(B235,Database!A:A,Database!F:F)))","v":""},{"$f":"IF(ISNA(A235),\"\",IF(LEN(LOOKUP(B235,Database!A:A,Database!G:G))=0,\"\",LOOKUP(B235,Database!A:A,Database!G:G)))","v":""},{"$f":"IF(ISNA(A235),\"\",IF(LEN(LOOKUP(B235,Database!A:A,Database!H:H))=0,\"\",LOOKUP(B235,Database!A:A,Database!H:H)))","v":""},{"$f":"IF(ISNA(A235),\"\",IF(LEN(LOOKUP(B235,Database!A:A,Database!I:I))=0,\"\",LOOKUP(B235,Database!A:A,Database!I:I)))","v":""},{"$f":"IF(ISNA(A235),\"\",IF(LEN(LOOKUP(B235,Database!A:A,Database!J:J))=0,\"\",LOOKUP(B235,Database!A:A,Database!J:J)))","v":""},{"$f":"IF(ISNA(A235),\"\",IF(LEN(LOOKUP(B235,Database!A:A,Database!K:K))=0,\"\",LOOKUP(B235,Database!A:A,Database!K:K)))","v":""},{"$f":"IF(ISNA(A235),\"\",IF(LEN(LOOKUP(B235,Database!A:A,Database!L:L))=0,\"\",LOOKUP(B235,Database!A:A,Database!L:L)))","v":""},{"$f":"IF(ISNA(A235),\"\",IF(LEN(LOOKUP(B235,Database!A:A,Database!M:M))=0,\"\",LOOKUP(B235,Database!A:A,Database!M:M)))","v":""},{"$f":"IF(ISNA(A235),\"\",IF(LEN(LOOKUP(B235,Database!A:A,Database!N:N))=0,\"\",LOOKUP(B235,Database!A:A,Database!N:N)))","v":""},{"$f":"IF(ISNA(A235),\"\",IF(LEN(LOOKUP(B235,Database!A:A,Database!O:O))=0,\"\",LOOKUP(B235,Database!A:A,Database!O:O)))","v":""},{"$f":"IF(ISNA(A235),\"\",IF(LEN(LOOKUP(B235,Database!A:A,Database!P:P))=0,\"\",LOOKUP(B235,Database!A:A,Database!P:P)))","v":""},{"$f":"IF(ISNA(A235),\"\",IF(LEN(LOOKUP(B235,Database!A:A,Database!Q:Q))=0,\"\",LOOKUP(B235,Database!A:A,Database!Q:Q)))","v":""},{"$f":"IF(ISNA(A235),\"\",IF(LEN(LOOKUP(B235,Database!A:A,Database!R:R))=0,\"\",LOOKUP(B235,Database!A:A,Database!R:R)))","v":""},{"$f":"IF(ISNA(A235),\"\",IF(LEN(LOOKUP(B235,Database!A:A,Database!S:S))=0,\"\",LOOKUP(B235,Database!A:A,Database!S:S)))","v":""},null,null,null,null,null,null,221,0,null,1,0,null,0.1]
[{"$error":"#N/A"},"2018-08-10",{"$f":"IF(ISNA(A236),\"\",IF(LEN(LOOKUP(B236,Database!A:A,Database!B:B))=0,\"\",LOOKUP(B236,Database!A:A,Database!B:B)))","v":""},{"$f":"IF(ISNA(A236),\"\",IF(LEN(LOOKUP(B236,Database!A:A,Database!C:C))=0,\"\",LOOKUP(B236,Database!A:A,Database!C:C)))","v":""},{"$f":"IF(ISNA(A236),\"\",IF(LEN(LOOKUP(B236,Database!A:A,Database!D:D))=0,\"\",LOOKUP(B236,Database!A:A,Database!D:D)))","v":""},{"$f":"IF(ISNA(A236),\"\",IF(LEN(LOOKUP(B236,Database!A:A,Database!E:E))=0,\"\",LOOKUP(B236,Database!A:A,Database!E:E)))","v":""},{"$f":"IF(ISNA(A236),\"\",IF(LEN(LOOKUP(B236,Database!A:A,Database!F:F))=0,\"\",LOOKUP(B236,Database!A:A,Database!F:F)))","v":""},{"$f":"IF(ISNA(A236),\"\",IF(LEN(LOOKUP(B236,Database!A:A,Database!G:G))=0,\"\",LOOKUP(B236,Database!A:A,Database!G:G)))","v":""},{"$f":"IF(ISNA(A236),\"\",IF(LEN(LOOKUP(B236,Database!A:A,Database!H:H))=0,\"\",LOOKUP(B236,Database!A:A,Database!H:H)))","v":""},{"$f":"IF(ISNA(A236),\"\",IF(LEN(LOOKUP(B236,Database!A:A,Database!I:I))=0,\"\",LOOKUP(B236,Database!A:A,Database!I:I)))","v":""},{"$f":"IF(ISNA(A236),\"\",IF(LEN(LOOKUP(B236,Database!A:A,Database!J:J))=0,\"\",LOOKUP(B236,Database!A:A,Database!J:J)))","v":""},{"$f":"IF(ISNA(A236),\"\",IF(LEN(LOOKUP(B236,Database!A:A,Database!K:K))=0,\"\",LOOKUP(B236,Database!A:A,Database!K:K)))","v":""},{"$f":"IF(ISNA(A236),\"\",IF(LEN(LOOKUP(B236,Database!A:A,Database!L:L))=0,\"\",LOOKUP(B236,Database!A:A,Database!L:L)))","v":""},{"$f":"IF(ISNA(A236),\"\",IF(LEN(LOOKUP(B236,Database!A:A,Database!M:M))=0,\"\",LOOKUP(B236,Database!A:A,Database!M:M)))","v":""},{"$f":"IF(ISNA(A236),\"\",IF(LEN(LOOKUP(B236,Database!A:A,Database!N:N))=0,\"\",LOOKUP(B236,Database!A:A,Database!N:N)))","v":""},{"$f":"IF(ISNA(A236),\"\",IF(LEN(LOOKUP(B236,Database!A:A,Database!O:O))=0,\"\",LOOKUP(B236,Database!A:A,Database!O:O)))","v":""},{"$f":"IF(ISNA(A236),\"\",IF(LEN(LOOKUP(B236,Database!A:A,Database!P:P))=0,\"\",LOOKUP(B236,Database!A:A,Database!P:P)))","v":""},{"$f":"IF(ISNA(A236),\"\",IF(LEN(LOOKUP(B236,Database!A:A,Database!Q:Q))=0,\"\",LOOKUP(B236,Database!A:A,Database!Q:Q)))","v":""},{"$f":"IF(ISNA(A236),\"\",IF(LEN(LOOKUP(B236,Database!A:A,Database!R:R))=0,\"\",LOOKUP(B236,Database!A:A,Database!R:R)))","v":""},{"$f":"IF(ISNA(A236),\"\",IF(LEN(LOOKUP(B236,Database!A:A,Database!S:S))=0,\"\",LOOKUP(B236,Database!A:A,Database!S:S)))","v":""},null,null,null,null,null,null,222,0,null,1,0,null,0.1]
[{"$error":"#N/A"},"2018-08-11",{"$f":"IF(ISNA(A237),\"\",IF(LEN(LOOKUP(B237,Database!A:A,Database!B:B))=0,\"\",LOOKUP(B237,Database!A:A,Database!B:B)))","v":""},{"$f":"IF(ISNA(A237),\"\",IF(LEN(LOOKUP(B237,Database!A:A,Database!C:C))=0,\"\",LOOKUP(B237,Database!A:A,Database!C:C)))","v":""},{"$f":"IF(ISNA(A237),\"\",IF(LEN(LOOKUP(B237,Database!A:A,Database!D:D))=0,\"\",LOOKUP(B237,Database!A:A,Database!D:D)))","v":""},{"$f":"IF(ISNA(A237),\"\",IF(LEN(LOOKUP(B237,Database!A:A,Database!E:E))=0,\"\",LOOKUP(B237,Database!A:A,Database!E:E)))","v":""},{"$f":"IF(ISNA(A237),\"\",IF(LEN(LOOKUP(B237,Database!A:A,Database!F:F))=0,\"\",LOOKUP(B237,Database!A:A,Database!F:F)))","v":""},{"$f":"IF(ISNA(A237),\"\",IF(LEN(LOOKUP(B237,Database!A:A,Database!G:G))=0,\"\",LOOKUP(B237,Database!A:A,Database!G:G)))","v":""},{"$f":"IF(ISNA(A237),\"\",IF(LEN(LOOKUP(B237,Database!A:A,Database!H:H))=0,\"\",LOOKUP(B237,Database!A:A,Database!H:H)))","v":""},{"$f":"IF(ISNA(A237),\"\",IF(LEN(LOOKUP(B237,Database!A:A,Database!I:I))=0,\"\",LOOKUP(B237,Database!A:A,Database!I:I)))","v":""},{"$f":"IF(ISNA(A237),\"\",IF(LEN(LOOKUP(B237,Database!A:A,Database!J:J))=0,\"\",LOOKUP(B237,Database!A:A,Database!J:J)))","v":""},{"$f":"IF(ISNA(A237),\"\",IF(LEN(LOOKUP(B237,Database!A:A,Database!K:K))=0,\"\",LOOKUP(B237,Database!A:A,Database!K:K)))","v":""},{"$f":"IF(ISNA(A237),\"\",IF(LEN(LOOKUP(B237,Database!A:A,Database!L:L))=0,\"\",LOOKUP(B237,Database!A:A,Database!L:L)))","v":""},{"$f":"IF(ISNA(A237),\"\",IF(LEN(LOOKUP(B237,Database!A:A,Database!M:M))=0,\"\",LOOKUP(B237,Database!A:A,Database!M:M)))","v":""},{"$f":"IF(ISNA(A237),\"\",IF(LEN(LOOKUP(B237,Database!A:A,Database!N:N))=0,\"\",LOOKUP(B237,Database!A:A,Database!N:N)))","v":""},{"$f":"IF(ISNA(A237),\"\",IF(LEN(LOOKUP(B237,Database!A:A,Database!O:O))=0,\"\",LOOKUP(B237,Database!A:A,Database!O:O)))","v":""},{"$f":"IF(ISNA(A237),\"\",IF(LEN(LOOKUP(B237,Database!A:A,Database!P:P))=0,\"\",LOOKUP(B237,Database!A:A,Database!P:P)))","v":""},{"$f":"IF(ISNA(A237),\"\",IF(LEN(LOOKUP(B237,Database!A:A,Database!Q:Q))=0,\"\",LOOKUP(B237,Database!A:A,Database!Q:Q)))","v":""},{"$f":"IF(ISNA(A237),\"\",IF(LEN(LOOKUP(B237,Database!A:A,Database!R:R))=0,\"\",LOOKUP(B237,Database!A:A,Database!R:R)))","v":""},{"$f":"IF(ISNA(A237),\"\",IF(LEN(LOOKUP(B237,Database!A:A,Database!S:S))=0,\"\",LOOKUP(B237,Database!A:A,Database!S:S)))","v":""},null,null,null,null,null,null,223,0,null,1,0,null,0.1]
[{"$error":"#N/A"},"2018-08-12",{"$f":"IF(ISNA(A238),\"\",IF(LEN(LOOKUP(B238,Database!A:A,Database!B:B))=0,\"\",LOOKUP(B238,Database!A:A,Database!B:B)))","v":""},{"$f":"IF(ISNA(A238),\"\",IF(LEN(LOOKUP(B238,Database!A:A,Database!C:C))=0,\"\",LOOKUP(B238,Database!A:A,Database!C:C)))","v":""},{"$f":"IF(ISNA(A238),\"\",IF(LEN(LOOKUP(B238,Database!A:A,Database!D:D))=0,\"\",LOOKUP(B238,Database!A:A,Database!D:D)))","v":""},{"$f":"IF(ISNA(A238),\"\",IF(LEN(LOOKUP(B238,Database!A:A,Database!E:E))=0,\"\",LOOKUP(B238,Database!A:A,Database!E:E)))","v":""},{"$f":"IF(ISNA(A238),\"\",IF(LEN(LOOKUP(B238,Database!A:A,Database!F:F))=0,\"\",LOOKUP(B238,Database!A:A,Database!F:F)))","v":""},{"$f":"IF(ISNA(A238),\"\",IF(LEN(LOOKUP(B238,Database!A:A,Database!G:G))=0,\"\",LOOKUP(B238,Database!A:A,Database!G:G)))","v":""},{"$f":"IF(ISNA(A238),\"\",IF(LEN(LOOKUP(B238,Database!A:A,Database!H:H))=0,\"\",LOOKUP(B238,Database!A:A,Database!H:H)))","v":""},{"$f":"IF(ISNA(A238),\"\",IF(LEN(LOOKUP(B238,Database!A:A,Database!I:I))=0,\"\",LOOKUP(B238,Database!A:A,Database!I:I)))","v":""},{"$f":"IF(ISNA(A238),\"\",IF(LEN(LOOKUP(B238,Database!A:A,Database!J:J))=0,\"\",LOOKUP(B238,Database!A:A,Database!J:J)))","v":""},{"$f":"IF(ISNA(A238),\"\",IF(LEN(LOOKUP(B238,Database!A:A,Database!K:K))=0,\"\",LOOKUP(B238,Database!A:A,Database!K:K)))","v":""},{"$f":"IF(ISNA(A238),\"\",IF(LEN(LOOKUP(B238,Database!A:A,Database!L:L))=0,\"\",LOOKUP(B238,Database!A:A,Database!L:L)))","v":""},{"$f":"IF(ISNA(A238),\"\",IF(LEN(LOOKUP(B238,Database!A:A,Database!M:M))=0,\"\",LOOKUP(B238,Database!A:A,Database!M:M)))","v":""},{"$f":"IF(ISNA(A238),\"\",IF(LEN(LOOKUP(B238,Database!A:A,Database!N:N))=0,\"\",LOOKUP(B238,Database!A:A,Database!N:N)))","v":""},{"$f":"IF(ISNA(A238),\"\",IF(LEN(LOOKUP(B238,Database!A:A,Database!O:O))=0,\"\",LOOKUP(B238,Database!A:A,Database!O:O)))","v":""},{"$f":"IF(ISNA(A238),\"\",IF(LEN(LOOKUP(B238,Database!A:A,Database!P:P))=0,\"\",LOOKUP(B238,Database!A:A,Database!P:P)))","v":""},{"$f":"IF(ISNA(A238),\"\",IF(LEN(LOOKUP(B238,Database!A:A,Database!Q:Q))=0,\"\",LOOKUP(B238,Database!A:A,Database!Q:Q)))","v":""},{"$f":"IF(ISNA(A238),\"\",IF(LEN(LOOKUP(B238,Database!A:A,Database!R:R))=0,\"\",LOOKUP(B238,Database!A:A,Database!R:R)))","v":""},{"$f":"IF(ISNA(A238),\"\",IF(LEN(LOOKUP(B238,Database!A:A,Database!S:S))=0,\"\",LOOKUP(B238,Database!A:A,Database!S:S)))","v":""},null,null,null,null,null,null,224,0,null,1,0,null,0.1]
[{"$error":"#N/A"},"2018-08-13",{"$f":"IF(ISNA(A239),\"\",IF(LEN(LOOKUP(B239,Database!A:A,Database!B:B))=0,\"\",LOOKUP(B239,Database!A:A,Database!B:B)))","v":""},{"$f":"IF(ISNA(A239),\"\",IF(LEN(LOOKUP(B239,Database!A:A,Database!C:C))=0,\"\",LOOKUP(B239,Database!A:A,Database!C:C)))","v":""},{"$f":"IF(ISNA(A239),\"\",IF(LEN(LOOKUP(B239,Database!A:A,Database!D:D))=0,\"\",LOOKUP(B239,Database!A:A,Database!D:D)))","v":""},{"$f":"IF(ISNA(A239),\"\",IF(LEN(LOOKUP(B239,Database!A:A,Database!E:E))=0,\"\",LOOKUP(B239,Database!A:A,Database!E:E)))","v":""},{"$f":"IF(ISNA(A239),\"\",IF(LEN(LOOKUP(B239,Database!A:A,Database!F:F))=0,\"\",LOOKUP(B239,Database!A:A,Database!F:F)))","v":""},{"$f":"IF(ISNA(A239),\"\",IF(LEN(LOOKUP(B239,Database!A:A,Database!G:G))=0,\"\",LOOKUP(B239,Database!A:A,Database!G:G)))","v":""},{"$f":"IF(ISNA(A239),\"\",IF(LEN(LOOKUP(B239,Database!A:A,Database!H:H))=0,\"\",LOOKUP(B239,Database!A:A,Database!H:H)))","v":""},{"$f":"IF(ISNA(A239),\"\",IF(LEN(LOOKUP(B239,Database!A:A,Database!I:I))=0,\"\",LOOKUP(B239,Database!A:A,Database!I:I)))","v":""},{"$f":"IF(ISNA(A239),\"\",IF(LEN(LOOKUP(B239,Database!A:A,Database!J:J))=0,\"\",LOOKUP(B239,Database!A:A,Database!J:J)))","v":""},{"$f":"IF(ISNA(A239),\"\",IF(LEN(LOOKUP(B239,Database!A:A,Database!K:K))=0,\"\",LOOKUP(B239,Database!A:A,Database!K:K)))","v":""},{"$f":"IF(ISNA(A239),\"\",IF(LEN(LOOKUP(B239,Database!A:A,Database!L:L))=0,\"\",LOOKUP(B239,Database!A:A,Database!L:L)))","v":""},{"$f":"IF(ISNA(A239),\"\",IF(LEN(LOOKUP(B239,Database!A:A,Database!M:M))=0,\"\",LOOKUP(B239,Database!A:A,Database!M:M)))","v":""},{"$f":"IF(ISNA(A239),\"\",IF(LEN(LOOKUP(B239,Database!A:A,Database!N:N))=0,\"\",LOOKUP(B239,Database!A:A,Database!N:N)))","v":""},{"$f":"IF(ISNA(A239),\"\",IF(LEN(LOOKUP(B239,Database!A:A,Database!O:O))=0,\"\",LOOKUP(B239,Database!A:A,Database!O:O)))","v":""},{"$f":"IF(ISNA(A239),\"\",IF(LEN(LOOKUP(B239,Database!A:A,Database!P:P))=0,\"\",LOOKUP(B239,Database!A:A,Database!P:P)))","v":""},{"$f":"IF(ISNA(A239),\"\",IF(LEN(LOOKUP(B239,Database!A:A,Database!Q:Q))=0,\"\",LOOKUP(B239,Database!A:A,Database!Q:Q)))","v":""},{"$f":"IF(ISNA(A239),\"\",IF(LEN(LOOKUP(B239,Database!A:A,Database!R:R))=0,\"\",LOOKUP(B239,Database!A:A,Database!R:R)))","v":""},{"$f":"IF(ISNA(A239),\"\",IF(LEN(LOOKUP(B239,Database!A:A,Database!S:S))=0,\"\",LOOKUP(B239,Database!A:A,Database!S:S)))","v":""},null,null,null,null,null,null,225,0,null,1,0,null,0.1]
[{"$error":"#N/A"},"2018-08-14",{"$f":"IF(ISNA(A240),\"\",IF(LEN(LOOKUP(B240,Database!A:A,Database!B:B))=0,\"\",LOOKUP(B240,Database!A:A,Database!B:B)))","v":""},{"$f":"IF(ISNA(A240),\"\",IF(LEN(LOOKUP(B240,Database!A:A,Database!C:C))=0,\"\",LOOKUP(B240,Database!A:A,Database!C:C)))","v":""},{"$f":"IF(ISNA(A240),\"\",IF(LEN(LOOKUP(B240,Database!A:A,Database!D:D))=0,\"\",LOOKUP(B240,Database!A:A,Database!D:D)))","v":""},{"$f":"IF(ISNA(A240),\"\",IF(LEN(LOOKUP(B240,Database!A:A,Database!E:E))=0,\"\",LOOKUP(B240,Database!A:A,Database!E:E)))","v":""},{"$f":"IF(ISNA(A240),\"\",IF(LEN(LOOKUP(B240,Database!A:A,Database!F:F))=0,\"\",LOOKUP(B240,Database!A:A,Database!F:F)))","v":""},{"$f":"IF(ISNA(A240),\"\",IF(LEN(LOOKUP(B240,Database!A:A,Database!G:G))=0,\"\",LOOKUP(B240,Database!A:A,Database!G:G)))","v":""},{"$f":"IF(ISNA(A240),\"\",IF(LEN(LOOKUP(B240,Database!A:A,Database!H:H))=0,\"\",LOOKUP(B240,Database!A:A,Database!H:H)))","v":""},{"$f":"IF(ISNA(A240),\"\",IF(LEN(LOOKUP(B240,Database!A:A,Database!I:I))=0,\"\",LOOKUP(B240,Database!A:A,Database!I:I)))","v":""},{"$f":"IF(ISNA(A240),\"\",IF(LEN(LOOKUP(B240,Database!A:A,Database!J:J))=0,\"\",LOOKUP(B240,Database!A:A,Database!J:J)))","v":""},{"$f":"IF(ISNA(A240),\"\",IF(LEN(LOOKUP(B240,Database!A:A,Database!K:K))=0,\"\",LOOKUP(B240,Database!A:A,Database!K:K)))","v":""},{"$f":"IF(ISNA(A240),\"\",IF(LEN(LOOKUP(B240,Database!A:A,Database!L:L))=0,\"\",LOOKUP(B240,Database!A:A,Database!L:L)))","v":""},{"$f":"IF(ISNA(A240),\"\",IF(LEN(LOOKUP(B240,Database!A:A,Database!M:M))=0,\"\",LOOKUP(B240,Database!A:A,Database!M:M)))","v":""},{"$f":"IF(ISNA(A240),\"\",IF(LEN(LOOKUP(B240,Database!A:A,Database!N:N))=0,\"\",LOOKUP(B240,Database!A:A,Database!N:N)))","v":""},{"$f":"IF(ISNA(A240),\"\",IF(LEN(LOOKUP(B240,Database!A:A,Database!O:O))=0,\"\",LOOKUP(B240,Database!A:A,Database!O:O)))","v":""},{"$f":"IF(ISNA(A240),\"\",IF(LEN(LOOKUP(B240,Database!A:A,Database!P:P))=0,\"\",LOOKUP(B240,Database!A:A,Database!P:P)))","v":""},{"$f":"IF(ISNA(A240),\"\",IF(LEN(LOOKUP(B240,Database!A:A,Database!Q:Q))=0,\"\",LOOKUP(B240,Database!A:A,Database!Q:Q)))","v":""},{"$f":"IF(ISNA(A240),\"\",IF(LEN(LOOKUP(B240,Database!A:A,Database!R:R))=0,\"\",LOOKUP(B240,Database!A:A,Database!R:R)))","v":""},{"$f":"IF(ISNA(A240),\"\",IF(LEN(LOOKUP(B240,Database!A:A,Database!S:S))=0,\"\",LOOKUP(B240,Database!A:A,Database!S:S)))","v":""},null,null,null,null,null,null,226,0,null,1,0,null,0.1]
[{"$error":"#N/A"},"2018-08-15",{"$f":"IF(ISNA(A241),\"\",IF(LEN(LOOKUP(B241,Database!A:A,Database!B:B))=0,\"\",LOOKUP(B241,Database!A:A,Database!B:B)))","v":""},{"$f":"IF(ISNA(A241),\"\",IF(LEN(LOOKUP(B241,Database!A:A,Database!C:C))=0,\"\",LOOKUP(B241,Database!A:A,Database!C:C)))","v":""},{"$f":"IF(ISNA(A241),\"\",IF(LEN(LOOKUP(B241,Database!A:A,Database!D:D))=0,\"\",LOOKUP(B241,Database!A:A,Database!D:D)))","v":""},{"$f":"IF(ISNA(A241),\"\",IF(LEN(LOOKUP(B241,Database!A:A,Database!E:E))=0,\"\",LOOKUP(B241,Database!A:A,Database!E:E)))","v":""},{"$f":"IF(ISNA(A241),\"\",IF(LEN(LOOKUP(B241,Database!A:A,Database!F:F))=0,\"\",LOOKUP(B241,Database!A:A,Database!F:F)))","v":""},{"$f":"IF(ISNA(A241),\"\",IF(LEN(LOOKUP(B241,Database!A:A,Database!G:G))=0,\"\",LOOKUP(B241,Database!A:A,Database!G:G)))","v":""},{"$f":"IF(ISNA(A241),\"\",IF(LEN(LOOKUP(B241,Database!A:A,Database!H:H))=0,\"\",LOOKUP(B241,Database!A:A,Database!H:H)))","v":""},{"$f":"IF(ISNA(A241),\"\",IF(LEN(LOOKUP(B241,Database!A:A,Database!I:I))=0,\"\",LOOKUP(B241,Database!A:A,Database!I:I)))","v":""},{"$f":"IF(ISNA(A241),\"\",IF(LEN(LOOKUP(B241,Database!A:A,Database!J:J))=0,\"\",LOOKUP(B241,Database!A:A,Database!J:J)))","v":""},{"$f":"IF(ISNA(A241),\"\",IF(LEN(LOOKUP(B241,Database!A:A,Database!K:K))=0,\"\",LOOKUP(B241,Database!A:A,Database!K:K)))","v":""},{"$f":"IF(ISNA(A241),\"\",IF(LEN(LOOKUP(B241,Database!A:A,Database!L:L))=0,\"\",LOOKUP(B241,Database!A:A,Database!L:L)))","v":""},{"$f":"IF(ISNA(A241),\"\",IF(LEN(LOOKUP(B241,Database!A:A,Database!M:M))=0,\"\",LOOKUP(B241,Database!A:A,Database!M:M)))","v":""},{"$f":"IF(ISNA(A241),\"\",IF(LEN(LOOKUP(B241,Database!A:A,Database!N:N))=0,\"\",LOOKUP(B241,Database!A:A,Database!N:N)))","v":""},{"$f":"IF(ISNA(A241),\"\",IF(LEN(LOOKUP(B241,Database!A:A,Database!O:O))=0,\"\",LOOKUP(B241,Database!A:A,Database!O:O)))","v":""},{"$f":"IF(ISNA(A241),\"\",IF(LEN(LOOKUP(B241,Database!A:A,Database!P:P))=0,\"\",LOOKUP(B241,Database!A:A,Database!P:P)))","v":""},{"$f":"IF(ISNA(A241),\"\",IF(LEN(LOOKUP(B241,Database!A:A,Database!Q:Q))=0,\"\",LOOKUP(B241,Database!A:A,Database!Q:Q)))","v":""},{"$f":"IF(ISNA(A241),\"\",IF(LEN(LOOKUP(B241,Database!A:A,Database!R:R))=0,\"\",LOOKUP(B241,Database!A:A,Database!R:R)))","v":""},{"$f":"IF(ISNA(A241),\"\",IF(LEN(LOOKUP(B241,Database!A:A,Database!S:S))=0,\"\",LOOKUP(B241,Database!A:A,Database!S:S)))","v":""},null,null,null,null,null,null,227,0,null,1,0,null,0.1]
[{"$error":"#N/A"},"2018-08-16",{"$f":"IF(ISNA(A242),\"\",IF(LEN(LOOKUP(B242,Database!A:A,Database!B:B))=0,\"\",LOOKUP(B242,Database!A:A,Database!B:B)))","v":""},{"$f":"IF(ISNA(A242),\"\",IF(LEN(LOOKUP(B242,Database!A:A,Database!C:C))=0,\"\",LOOKUP(B242,Database!A:A,Database!C:C)))","v":""},{"$f":"IF(ISNA(A242),\"\",IF(LEN(LOOKUP(B242,Database!A:A,Database!D:D))=0,\"\",LOOKUP(B242,Database!A:A,Database!D:D)))","v":""},{"$f":"IF(ISNA(A242),\"\",IF(LEN(LOOKUP(B242,Database!A:A,Database!E:E))=0,\"\",LOOKUP(B242,Database!A:A,Database!E:E)))","v":""},{"$f":"IF(ISNA(A242),\"\",IF(LEN(LOOKUP(B242,Database!A:A,Database!F:F))=0,\"\",LOOKUP(B242,Database!A:A,Database!F:F)))","v":""},{"$f":"IF(ISNA(A242),\"\",IF(LEN(LOOKUP(B242,Database!A:A,Database!G:G))=0,\"\",LOOKUP(B242,Database!A:A,Database!G:G)))","v":""},{"$f":"IF(ISNA(A242),\"\",IF(LEN(LOOKUP(B242,Database!A:A,Database!H:H))=0,\"\",LOOKUP(B242,Database!A:A,Database!H:H)))","v":""},{"$f":"IF(ISNA(A242),\"\",IF(LEN(LOOKUP(B242,Database!A:A,Database!I:I))=0,\"\",LOOKUP(B242,Database!A:A,Database!I:I)))","v":""},{"$f":"IF(ISNA(A242),\"\",IF(LEN(LOOKUP(B242,Database!A:A,Database!J:J))=0,\"\",LOOKUP(B242,Database!A:A,Database!J:J)))","v":""},{"$f":"IF(ISNA(A242),\"\",IF(LEN(LOOKUP(B242,Database!A:A,Database!K:K))=0,\"\",LOOKUP(B242,Database!A:A,Database!K:K)))","v":""},{"$f":"IF(ISNA(A242),\"\",IF(LEN(LOOKUP(B242,Database!A:A,Database!L:L))=0,\"\",LOOKUP(B242,Database!A:A,Database!L:L)))","v":""},{"$f":"IF(ISNA(A242),\"\",IF(LEN(LOOKUP(B242,Database!A:A,Database!M:M))=0,\"\",LOOKUP(B242,Database!A:A,Database!M:M)))","v":""},{"$f":"IF(ISNA(A242),\"\",IF(LEN(LOOKUP(B242,Database!A:A,Database!N:N))=0,\"\",LOOKUP(B242,Database!A:A,Database!N:N)))","v":""},{"$f":"IF(ISNA(A242),\"\",IF(LEN(LOOKUP(B242,Database!A:A,Database!O:O))=0,\"\",LOOKUP(B242,Database!A:A,Database!O:O)))","v":""},{"$f":"IF(ISNA(A242),\"\",IF(LEN(LOOKUP(B242,Database!A:A,Database!P:P))=0,\"\",LOOKUP(B242,Database!A:A,Database!P:P)))","v":""},{"$f":"IF(ISNA(A242),\"\",IF(LEN(LOOKUP(B242,Database!A:A,Database!Q:Q))=0,\"\",LOOKUP(B242,Database!A:A,Database!Q:Q)))","v":""},{"$f":"IF(ISNA(A242),\"\",IF(LEN(LOOKUP(B242,Database!A:A,Database!R:R))=0,\"\",LOOKUP(B242,Database!A:A,Database!R:R)))","v":""},{"$f":"IF(ISNA(A242),\"\",IF(LEN(LOOKUP(B242,Database!A:A,Database!S:S))=0,\"\",LOOKUP(B242,Database!A:A,Database!S:S)))","v":""},null,null,null,null,null,null,228,0,null,1,0,null,0.1]
[{"$error":"#N/A"},"2018-08-17",{"$f":"IF(ISNA(A243),\"\",IF(LEN(LOOKUP(B243,Database!A:A,Database!B:B))=0,\"\",LOOKUP(B243,Database!A:A,Database!B:B)))","v":""},{"$f":"IF(ISNA(A243),\"\",IF(LEN(LOOKUP(B243,Database!A:A,Database!C:C))=0,\"\",LOOKUP(B243,Database!A:A,Database!C:C)))","v":""},{"$f":"IF(ISNA(A243),\"\",IF(LEN(LOOKUP(B243,Database!A:A,Database!D:D))=0,\"\",LOOKUP(B243,Database!A:A,Database!D:D)))","v":""},{"$f":"IF(ISNA(A243),\"\",IF(LEN(LOOKUP(B243,Database!A:A,Database!E:E))=0,\"\",LOOKUP(B243,Database!A:A,Database!E:E)))","v":""},{"$f":"IF(ISNA(A243),\"\",IF(LEN(LOOKUP(B243,Database!A:A,Database!F:F))=0,\"\",LOOKUP(B243,Database!A:A,Database!F:F)))","v":""},{"$f":"IF(ISNA(A243),\"\",IF(LEN(LOOKUP(B243,Database!A:A,Database!G:G))=0,\"\",LOOKUP(B243,Database!A:A,Database!G:G)))","v":""},{"$f":"IF(ISNA(A243),\"\",IF(LEN(LOOKUP(B243,Database!A:A,Database!H:H))=0,\"\",LOOKUP(B243,Database!A:A,Database!H:H)))","v":""},{"$f":"IF(ISNA(A243),\"\",IF(LEN(LOOKUP(B243,Database!A:A,Database!I:I))=0,\"\",LOOKUP(B243,Database!A:A,Database!I:I)))","v":""},{"$f":"IF(ISNA(A243),\"\",IF(LEN(LOOKUP(B243,Database!A:A,Database!J:J))=0,\"\",LOOKUP(B243,Database!A:A,Database!J:J)))","v":""},{"$f":"IF(ISNA(A243),\"\",IF(LEN(LOOKUP(B243,Database!A:A,Database!K:K))=0,\"\",LOOKUP(B243,Database!A:A,Database!K:K)))","v":""},{"$f":"IF(ISNA(A243),\"\",IF(LEN(LOOKUP(B243,Database!A:A,Database!L:L))=0,\"\",LOOKUP(B243,Database!A:A,Database!L:L)))","v":""},{"$f":"IF(ISNA(A243),\"\",IF(LEN(LOOKUP(B243,Database!A:A,Database!M:M))=0,\"\",LOOKUP(B243,Database!A:A,Database!M:M)))","v":""},{"$f":"IF(ISNA(A243),\"\",IF(LEN(LOOKUP(B243,Database!A:A,Database!N:N))=0,\"\",LOOKUP(B243,Database!A:A,Database!N:N)))","v":""},{"$f":"IF(ISNA(A243),\"\",IF(LEN(LOOKUP(B243,Database!A:A,Database!O:O))=0,\"\",LOOKUP(B243,Database!A:A,Database!O:O)))","v":""},{"$f":"IF(ISNA(A243),\"\",IF(LEN(LOOKUP(B243,Database!A:A,Database!P:P))=0,\"\",LOOKUP(B243,Database!A:A,Database!P:P)))","v":""},{"$f":"IF(ISNA(A243),\"\",IF(LEN(LOOKUP(B243,Database!A:A,Database!Q:Q))=0,\"\",LOOKUP(B243,Database!A:A,Database!Q:Q)))","v":""},{"$f":"IF(ISNA(A243),\"\",IF(LEN(LOOKUP(B243,Database!A:A,Database!R:R))=0,\"\",LOOKUP(B243,Database!A:A,Database!R:R)))","v":""},{"$f":"IF(ISNA(A243),\"\",IF(LEN(LOOKUP(B243,Database!A:A,Database!S:S))=0,\"\",LOOKUP(B243,Database!A:A,Database!S:S)))","v":""},null,null,null,null,null,null,229,0,null,1,0,null,0.1]
[{"$error":"#N/A"},"2018-08-18",{"$f":"IF(ISNA(A244),\"\",IF(LEN(LOOKUP(B244,Database!A:A,Database!B:B))=0,\"\",LOOKUP(B244,Database!A:A,Database!B:B)))","v":""},{"$f":"IF(ISNA(A244),\"\",IF(LEN(LOOKUP(B244,Database!A:A,Database!C:C))=0,\"\",LOOKUP(B244,Database!A:A,Database!C:C)))","v":""},{"$f":"IF(ISNA(A244),\"\",IF(LEN(LOOKUP(B244,Database!A:A,Database!D:D))=0,\"\",LOOKUP(B244,Database!A:A,Database!D:D)))","v":""},{"$f":"IF(ISNA(A244),\"\",IF(LEN(LOOKUP(B244,Database!A:A,Database!E:E))=0,\"\",LOOKUP(B244,Database!A:A,Database!E:E)))","v":""},{"$f":"IF(ISNA(A244),\"\",IF(LEN(LOOKUP(B244,Database!A:A,Database!F:F))=0,\"\",LOOKUP(B244,Database!A:A,Database!F:F)))","v":""},{"$f":"IF(ISNA(A244),\"\",IF(LEN(LOOKUP(B244,Database!A:A,Database!G:G))=0,\"\",LOOKUP(B244,Database!A:A,Database!G:G)))","v":""},{"$f":"IF(ISNA(A244),\"\",IF(LEN(LOOKUP(B244,Database!A:A,Database!H:H))=0,\"\",LOOKUP(B244,Database!A:A,Database!H:H)))","v":""},{"$f":"IF(ISNA(A244),\"\",IF(LEN(LOOKUP(B244,Database!A:A,Database!I:I))=0,\"\",LOOKUP(B244,Database!A:A,Database!I:I)))","v":""},{"$f":"IF(ISNA(A244),\"\",IF(LEN(LOOKUP(B244,Database!A:A,Database!J:J))=0,\"\",LOOKUP(B244,Database!A:A,Database!J:J)))","v":""},{"$f":"IF(ISNA(A244),\"\",IF(LEN(LOOKUP(B244,Database!A:A,Database!K:K))=0,\"\",LOOKUP(B244,Database!A:A,Database!K:K)))","v":""},{"$f":"IF(ISNA(A244),\"\",IF(LEN(LOOKUP(B244,Database!A:A,Database!L:L))=0,\"\",LOOKUP(B244,Database!A:A,Database!L:L)))","v":""},{"$f":"IF(ISNA(A244),\"\",IF(LEN(LOOKUP(B244,Database!A:A,Database!M:M))=0,\"\",LOOKUP(B244,Database!A:A,Database!M:M)))","v":""},{"$f":"IF(ISNA(A244),\"\",IF(LEN(LOOKUP(B244,Database!A:A,Database!N:N))=0,\"\",LOOKUP(B244,Database!A:A,Database!N:N)))","v":""},{"$f":"IF(ISNA(A244),\"\",IF(LEN(LOOKUP(B244,Database!A:A,Database!O:O))=0,\"\",LOOKUP(B244,Database!A:A,Database!O:O)))","v":""},{"$f":"IF(ISNA(A244),\"\",IF(LEN(LOOKUP(B244,Database!A:A,Database!P:P))=0,\"\",LOOKUP(B244,Database!A:A,Database!P:P)))","v":""},{"$f":"IF(ISNA(A244),\"\",IF(LEN(LOOKUP(B244,Database!A:A,Database!Q:Q))=0,\"\",LOOKUP(B244,Database!A:A,Database!Q:Q)))","v":""},{"$f":"IF(ISNA(A244),\"\",IF(LEN(LOOKUP(B244,Database!A:A,Database!R:R))=0,\"\",LOOKUP(B244,Database!A:A,Database!R:R)))","v":""},{"$f":"IF(ISNA(A244),\"\",IF(LEN(LOOKUP(B244,Database!A:A,Database!S:S))=0,\"\",LOOKUP(B244,Database!A:A,Database!S:S)))","v":""},null,null,null,null,null,null,230,0,null,1,0,null,0.1]
[{"$error":"#N/A"},"2018-08-19",{"$f":"IF(ISNA(A245),\"\",IF(LEN(LOOKUP(B245,Database!A:A,Database!B:B))=0,\"\",LOOKUP(B245,Database!A:A,Database!B:B)))","v":""},{"$f":"IF(ISNA(A245),\"\",IF(LEN(LOOKUP(B245,Database!A:A,Database!C:C))=0,\"\",LOOKUP(B245,Database!A:A,Database!C:C)))","v":""},{"$f":"IF(ISNA(A245),\"\",IF(LEN(LOOKUP(B245,Database!A:A,Database!D:D))=0,\"\",LOOKUP(B245,Database!A:A,Database!D:D)))","v":""},{"$f":"IF(ISNA(A245),\"\",IF(LEN(LOOKUP(B245,Database!A:A,Database!E:E))=0,\"\",LOOKUP(B245,Database!A:A,Database!E:E)))","v":""},{"$f":"IF(ISNA(A245),\"\",IF(LEN(LOOKUP(B245,Database!A:A,Database!F:F))=0,\"\",LOOKUP(B245,Database!A:A,Database!F:F)))","v":""},{"$f":"IF(ISNA(A245),\"\",IF(LEN(LOOKUP(B245,Database!A:A,Database!G:G))=0,\"\",LOOKUP(B245,Database!A:A,Database!G:G)))","v":""},{"$f":"IF(ISNA(A245),\"\",IF(LEN(LOOKUP(B245,Database!A:A,Database!H:H))=0,\"\",LOOKUP(B245,Database!A:A,Database!H:H)))","v":""},{"$f":"IF(ISNA(A245),\"\",IF(LEN(LOOKUP(B245,Database!A:A,Database!I:I))=0,\"\",LOOKUP(B245,Database!A:A,Database!I:I)))","v":""},{"$f":"IF(ISNA(A245),\"\",IF(LEN(LOOKUP(B245,Database!A:A,Database!J:J))=0,\"\",LOOKUP(B245,Database!A:A,Database!J:J)))","v":""},{"$f":"IF(ISNA(A245),\"\",IF(LEN(LOOKUP(B245,Database!A:A,Database!K:K))=0,\"\",LOOKUP(B245,Database!A:A,Database!K:K)))","v":""},{"$f":"IF(ISNA(A245),\"\",IF(LEN(LOOKUP(B245,Database!A:A,Database!L:L))=0,\"\",LOOKUP(B245,Database!A:A,Database!L:L)))","v":""},{"$f":"IF(ISNA(A245),\"\",IF(LEN(LOOKUP(B245,Database!A:A,Database!M:M))=0,\"\",LOOKUP(B245,Database!A:A,Database!M:M)))","v":""},{"$f":"IF(ISNA(A245),\"\",IF(LEN(LOOKUP(B245,Database!A:A,Database!N:N))=0,\"\",LOOKUP(B245,Database!A:A,Database!N:N)))","v":""},{"$f":"IF(ISNA(A245),\"\",IF(LEN(LOOKUP(B245,Database!A:A,Database!O:O))=0,\"\",LOOKUP(B245,Database!A:A,Database!O:O)))","v":""},{"$f":"IF(ISNA(A245),\"\",IF(LEN(LOOKUP(B245,Database!A:A,Database!P:P))=0,\"\",LOOKUP(B245,Database!A:A,Database!P:P)))","v":""},{"$f":"IF(ISNA(A245),\"\",IF(LEN(LOOKUP(B245,Database!A:A,Database!Q:Q))=0,\"\",LOOKUP(B245,Database!A:A,Database!Q:Q)))","v":""},{"$f":"IF(ISNA(A245),\"\",IF(LEN(LOOKUP(B245,Database!A:A,Database!R:R))=0,\"\",LOOKUP(B245,Database!A:A,Database!R:R)))","v":""},{"$f":"IF(ISNA(A245),\"\",IF(LEN(LOOKUP(B245,Database!A:A,Database!S:S))=0,\"\",LOOKUP(B245,Database!A:A,Database!S:S)))","v":""},null,null,null,null,null,null,231,0,null,1,0,null,0.1]
[{"$error":"#N/A"},"2018-08-20",{"$f":"IF(ISNA(A246),\"\",IF(LEN(LOOKUP(B246,Database!A:A,Database!B:B))=0,\"\",LOOKUP(B246,Database!A:A,Database!B:B)))","v":""},{"$f":"IF(ISNA(A246),\"\",IF(LEN(LOOKUP(B246,Database!A:A,Database!C:C))=0,\"\",LOOKUP(B246,Database!A:A,Database!C:C)))","v":""},{"$f":"IF(ISNA(A246),\"\",IF(LEN(LOOKUP(B246,Database!A:A,Database!D:D))=0,\"\",LOOKUP(B246,Database!A:A,Database!D:D)))","v":""},{"$f":"IF(ISNA(A246),\"\",IF(LEN(LOOKUP(B246,Database!A:A,Database!E:E))=0,\"\",LOOKUP(B246,Database!A:A,Database!E:E)))","v":""},{"$f":"IF(ISNA(A246),\"\",IF(LEN(LOOKUP(B246,Database!A:A,Database!F:F))=0,\"\",LOOKUP(B246,Database!A:A,Database!F:F)))","v":""},{"$f":"IF(ISNA(A246),\"\",IF(LEN(LOOKUP(B246,Database!A:A,Database!G:G))=0,\"\",LOOKUP(B246,Database!A:A,Database!G:G)))","v":""},{"$f":"IF(ISNA(A246),\"\",IF(LEN(LOOKUP(B246,Database!A:A,Database!H:H))=0,\"\",LOOKUP(B246,Database!A:A,Database!H:H)))","v":""},{"$f":"IF(ISNA(A246),\"\",IF(LEN(LOOKUP(B246,Database!A:A,Database!I:I))=0,\"\",LOOKUP(B246,Database!A:A,Database!I:I)))","v":""},{"$f":"IF(ISNA(A246),\"\",IF(LEN(LOOKUP(B246,Database!A:A,Database!J:J))=0,\"\",LOOKUP(B246,Database!A:A,Database!J:J)))","v":""},{"$f":"IF(ISNA(A246),\"\",IF(LEN(LOOKUP(B246,Database!A:A,Database!K:K))=0,\"\",LOOKUP(B246,Database!A:A,Database!K:K)))","v":""},{"$f":"IF(ISNA(A246),\"\",IF(LEN(LOOKUP(B246,Database!A:A,Database!L:L))=0,\"\",LOOKUP(B246,Database!A:A,Database!L:L)))","v":""},{"$f":"IF(ISNA(A246),\"\",IF(LEN(LOOKUP(B246,Database!A:A,Database!M:M))=0,\"\",LOOKUP(B246,Database!A:A,Database!M:M)))","v":""},{"$f":"IF(ISNA(A246),\"\",IF(LEN(LOOKUP(B246,Database!A:A,Database!N:N))=0,\"\",LOOKUP(B246,Database!A:A,Database!N:N)))","v":""},{"$f":"IF(ISNA(A246),\"\",IF(LEN(LOOKUP(B246,Database!A:A,Database!O:O))=0,\"\",LOOKUP(B246,Database!A:A,Database!O:O)))","v":""},{"$f":"IF(ISNA(A246),\"\",IF(LEN(LOOKUP(B246,Database!A:A,Database!P:P))=0,\"\",LOOKUP(B246,Database!A:A,Database!P:P)))","v":""},{"$f":"IF(ISNA(A246),\"\",IF(LEN(LOOKUP(B246,Database!A:A,Database!Q:Q))=0,\"\",LOOKUP(B246,Database!A:A,Database!Q:Q)))","v":""},{"$f":"IF(ISNA(A246),\"\",IF(LEN(LOOKUP(B246,Database!A:A,Database!R:R))=0,\"\",LOOKUP(B246,Database!A:A,Database!R:R)))","v":""},{"$f":"IF(ISNA(A246),\"\",IF(LEN(LOOKUP(B246,Database!A:A,Database!S:S))=0,\"\",LOOKUP(B246,Database!A:A,Database!S:S)))","v":""},null,null,null,null,null,null,232,0,null,1,0,null,0.1]
[{"$error":"#N/A"},"2018-08-21",{"$f":"IF(ISNA(A247),\"\",IF(LEN(LOOKUP(B247,Database!A:A,Database!B:B))=0,\"\",LOOKUP(B247,Database!A:A,Database!B:B)))","v":""},{"$f":"IF(ISNA(A247),\"\",IF(LEN(LOOKUP(B247,Database!A:A,Database!C:C))=0,\"\",LOOKUP(B247,Database!A:A,Database!C:C)))","v":""},{"$f":"IF(ISNA(A247),\"\",IF(LEN(LOOKUP(B247,Database!A:A,Database!D:D))=0,\"\",LOOKUP(B247,Database!A:A,Database!D:D)))","v":""},{"$f":"IF(ISNA(A247),\"\",IF(LEN(LOOKUP(B247,Database!A:A,Database!E:E))=0,\"\",LOOKUP(B247,Database!A:A,Database!E:E)))","v":""},{"$f":"IF(ISNA(A247),\"\",IF(LEN(LOOKUP(B247,Database!A:A,Database!F:F))=0,\"\",LOOKUP(B247,Database!A:A,Database!F:F)))","v":""},{"$f":"IF(ISNA(A247),\"\",IF(LEN(LOOKUP(B247,Database!A:A,Database!G:G))=0,\"\",LOOKUP(B247,Database!A:A,Database!G:G)))","v":""},{"$f":"IF(ISNA(A247),\"\",IF(LEN(LOOKUP(B247,Database!A:A,Database!H:H))=0,\"\",LOOKUP(B247,Database!A:A,Database!H:H)))","v":""},{"$f":"IF(ISNA(A247),\"\",IF(LEN(LOOKUP(B247,Database!A:A,Database!I:I))=0,\"\",LOOKUP(B247,Database!A:A,Database!I:I)))","v":""},{"$f":"IF(ISNA(A247),\"\",IF(LEN(LOOKUP(B247,Database!A:A,Database!J:J))=0,\"\",LOOKUP(B247,Database!A:A,Database!J:J)))","v":""},{"$f":"IF(ISNA(A247),\"\",IF(LEN(LOOKUP(B247,Database!A:A,Database!K:K))=0,\"\",LOOKUP(B247,Database!A:A,Database!K:K)))","v":""},{"$f":"IF(ISNA(A247),\"\",IF(LEN(LOOKUP(B247,Database!A:A,Database!L:L))=0,\"\",LOOKUP(B247,Database!A:A,Database!L:L)))","v":""},{"$f":"IF(ISNA(A247),\"\",IF(LEN(LOOKUP(B247,Database!A:A,Database!M:M))=0,\"\",LOOKUP(B247,Database!A:A,Database!M:M)))","v":""},{"$f":"IF(ISNA(A247),\"\",IF(LEN(LOOKUP(B247,Database!A:A,Database!N:N))=0,\"\",LOOKUP(B247,Database!A:A,Database!N:N)))","v":""},{"$f":"IF(ISNA(A247),\"\",IF(LEN(LOOKUP(B247,Database!A:A,Database!O:O))=0,\"\",LOOKUP(B247,Database!A:A,Database!O:O)))","v":""},{"$f":"IF(ISNA(A247),\"\",IF(LEN(LOOKUP(B247,Database!A:A,Database!P:P))=0,\"\",LOOKUP(B247,Database!A:A,Database!P:P)))","v":""},{"$f":"IF(ISNA(A247),\"\",IF(LEN(LOOKUP(B247,Database!A:A,Database!Q:Q))=0,\"\",LOOKUP(B247,Database!A:A,Database!Q:Q)))","v":""},{"$f":"IF(ISNA(A247),\"\",IF(LEN(LOOKUP(B247,Database!A:A,Database!R:R))=0,\"\",LOOKUP(B247,Database!A:A,Database!R:R)))","v":""},{"$f":"IF(ISNA(A247),\"\",IF(LEN(LOOKUP(B247,Database!A:A,Database!S:S))=0,\"\",LOOKUP(B247,Database!A:A,Database!S:S)))","v":""},null,null,null,null,null,null,233,0,null,1,0,null,0.1]
[{"$error":"#N/A"},"2018-08-22",{"$f":"IF(ISNA(A248),\"\",IF(LEN(LOOKUP(B248,Database!A:A,Database!B:B))=0,\"\",LOOKUP(B248,Database!A:A,Database!B:B)))","v":""},{"$f":"IF(ISNA(A248),\"\",IF(LEN(LOOKUP(B248,Database!A:A,Database!C:C))=0,\"\",LOOKUP(B248,Database!A:A,Database!C:C)))","v":""},{"$f":"IF(ISNA(A248),\"\",IF(LEN(LOOKUP(B248,Database!A:A,Database!D:D))=0,\"\",LOOKUP(B248,Database!A:A,Database!D:D)))","v":""},{"$f":"IF(ISNA(A248),\"\",IF(LEN(LOOKUP(B248,Database!A:A,Database!E:E))=0,\"\",LOOKUP(B248,Database!A:A,Database!E:E)))","v":""},{"$f":"IF(ISNA(A248),\"\",IF(LEN(LOOKUP(B248,Database!A:A,Database!F:F))=0,\"\",LOOKUP(B248,Database!A:A,Database!F:F)))","v":""},{"$f":"IF(ISNA(A248),\"\",IF(LEN(LOOKUP(B248,Database!A:A,Database!G:G))=0,\"\",LOOKUP(B248,Database!A:A,Database!G:G)))","v":""},{"$f":"IF(ISNA(A248),\"\",IF(LEN(LOOKUP(B248,Database!A:A,Database!H:H))=0,\"\",LOOKUP(B248,Database!A:A,Database!H:H)))","v":""},{"$f":"IF(ISNA(A248),\"\",IF(LEN(LOOKUP(B248,Database!A:A,Database!I:I))=0,\"\",LOOKUP(B248,Database!A:A,Database!I:I)))","v":""},{"$f":"IF(ISNA(A248),\"\",IF(LEN(LOOKUP(B248,Database!A:A,Database!J:J))=0,\"\",LOOKUP(B248,Database!A:A,Database!J:J)))","v":""},{"$f":"IF(ISNA(A248),\"\",IF(LEN(LOOKUP(B248,Database!A:A,Database!K:K))=0,\"\",LOOKUP(B248,Database!A:A,Database!K:K)))","v":""},{"$f":"IF(ISNA(A248),\"\",IF(LEN(LOOKUP(B248,Database!A:A,Database!L:L))=0,\"\",LOOKUP(B248,Database!A:A,Database!L:L)))","v":""},{"$f":"IF(ISNA(A248),\"\",IF(LEN(LOOKUP(B248,Database!A:A,Database!M:M))=0,\"\",LOOKUP(B248,Database!A:A,Database!M:M)))","v":""},{"$f":"IF(ISNA(A248),\"\",IF(LEN(LOOKUP(B248,Database!A:A,Database!N:N))=0,\"\",LOOKUP(B248,Database!A:A,Database!N:N)))","v":""},{"$f":"IF(ISNA(A248),\"\",IF(LEN(LOOKUP(B248,Database!A:A,Database!O:O))=0,\"\",LOOKUP(B248,Database!A:A,Database!O:O)))","v":""},{"$f":"IF(ISNA(A248),\"\",IF(LEN(LOOKUP(B248,Database!A:A,Database!P:P))=0,\"\",LOOKUP(B248,Database!A:A,Database!P:P)))","v":""},{"$f":"IF(ISNA(A248),\"\",IF(LEN(LOOKUP(B248,Database!A:A,Database!Q:Q))=0,\"\",LOOKUP(B248,Database!A:A,Database!Q:Q)))","v":""},{"$f":"IF(ISNA(A248),\"\",IF(LEN(LOOKUP(B248,Database!A:A,Database!R:R))=0,\"\",LOOKUP(B248,Database!A:A,Database!R:R)))","v":""},{"$f":"IF(ISNA(A248),\"\",IF(LEN(LOOKUP(B248,Database!A:A,Database!S:S))=0,\"\",LOOKUP(B248,Database!A:A,Database!S:S)))","v":""},null,null,null,null,null,null,234,0,null,1,0,null,0.1]
[{"$error":"#N/A"},"2018-08-23",{"$f":"IF(ISNA(A249),\"\",IF(LEN(LOOKUP(B249,Database!A:A,Database!B:B))=0,\"\",LOOKUP(B249,Database!A:A,Database!B:B)))","v":""},{"$f":"IF(ISNA(A249),\"\",IF(LEN(LOOKUP(B249,Database!A:A,Database!C:C))=0,\"\",LOOKUP(B249,Database!A:A,Database!C:C)))","v":""},{"$f":"IF(ISNA(A249),\"\",IF(LEN(LOOKUP(B249,Database!A:A,Database!D:D))=0,\"\",LOOKUP(B249,Database!A:A,Database!D:D)))","v":""},{"$f":"IF(ISNA(A249),\"\",IF(LEN(LOOKUP(B249,Database!A:A,Database!E:E))=0,\"\",LOOKUP(B249,Database!A:A,Database!E:E)))","v":""},{"$f":"IF(ISNA(A249),\"\",IF(LEN(LOOKUP(B249,Database!A:A,Database!F:F))=0,\"\",LOOKUP(B249,Database!A:A,Database!F:F)))","v":""},{"$f":"IF(ISNA(A249),\"\",IF(LEN(LOOKUP(B249,Database!A:A,Database!G:G))=0,\"\",LOOKUP(B249,Database!A:A,Database!G:G)))","v":""},{"$f":"IF(ISNA(A249),\"\",IF(LEN(LOOKUP(B249,Database!A:A,Database!H:H))=0,\"\",LOOKUP(B249,Database!A:A,Database!H:H)))","v":""},{"$f":"IF(ISNA(A249),\"\",IF(LEN(LOOKUP(B249,Database!A:A,Database!I:I))=0,\"\",LOOKUP(B249,Database!A:A,Database!I:I)))","v":""},{"$f":"IF(ISNA(A249),\"\",IF(LEN(LOOKUP(B249,Database!A:A,Database!J:J))=0,\"\",LOOKUP(B249,Database!A:A,Database!J:J)))","v":""},{"$f":"IF(ISNA(A249),\"\",IF(LEN(LOOKUP(B249,Database!A:A,Database!K:K))=0,\"\",LOOKUP(B249,Database!A:A,Database!K:K)))","v":""},{"$f":"IF(ISNA(A249),\"\",IF(LEN(LOOKUP(B249,Database!A:A,Database!L:L))=0,\"\",LOOKUP(B249,Database!A:A,Database!L:L)))","v":""},{"$f":"IF(ISNA(A249),\"\",IF(LEN(LOOKUP(B249,Database!A:A,Database!M:M))=0,\"\",LOOKUP(B249,Database!A:A,Database!M:M)))","v":""},{"$f":"IF(ISNA(A249),\"\",IF(LEN(LOOKUP(B249,Database!A:A,Database!N:N))=0,\"\",LOOKUP(B249,Database!A:A,Database!N:N)))","v":""},{"$f":"IF(ISNA(A249),\"\",IF(LEN(LOOKUP(B249,Database!A:A,Database!O:O))=0,\"\",LOOKUP(B249,Database!A:A,Database!O:O)))","v":""},{"$f":"IF(ISNA(A249),\"\",IF(LEN(LOOKUP(B249,Database!A:A,Database!P:P))=0,\"\",LOOKUP(B249,Database!A:A,Database!P:P)))","v":""},{"$f":"IF(ISNA(A249),\"\",IF(LEN(LOOKUP(B249,Database!A:A,Database!Q:Q))=0,\"\",LOOKUP(B249,Database!A:A,Database!Q:Q)))","v":""},{"$f":"IF(ISNA(A249),\"\",IF(LEN(LOOKUP(B249,Database!A:A,Database!R:R))=0,\"\",LOOKUP(B249,Database!A:A,Database!R:R)))","v":""},{"$f":"IF(ISNA(A249),\"\",IF(LEN(LOOKUP(B249,Database!A:A,Database!S:S))=0,\"\",LOOKUP(B249,Database!A:A,Database!S:S)))","v":""},null,null,null,null,null,null,235,0,null,1,0,null,0.1]
[{"$error":"#N/A"},"2018-08-24",{"$f":"IF(ISNA(A250),\"\",IF(LEN(LOOKUP(B250,Database!A:A,Database!B:B))=0,\"\",LOOKUP(B250,Database!A:A,Database!B:B)))","v":""},{"$f":"IF(ISNA(A250),\"\",IF(LEN(LOOKUP(B250,Database!A:A,Database!C:C))=0,\"\",LOOKUP(B250,Database!A:A,Database!C:C)))","v":""},{"$f":"IF(ISNA(A250),\"\",IF(LEN(LOOKUP(B250,Database!A:A,Database!D:D))=0,\"\",LOOKUP(B250,Database!A:A,Database!D:D)))","v":""},{"$f":"IF(ISNA(A250),\"\",IF(LEN(LOOKUP(B250,Database!A:A,Database!E:E))=0,\"\",LOOKUP(B250,Database!A:A,Database!E:E)))","v":""},{"$f":"IF(ISNA(A250),\"\",IF(LEN(LOOKUP(B250,Database!A:A,Database!F:F))=0,\"\",LOOKUP(B250,Database!A:A,Database!F:F)))","v":""},{"$f":"IF(ISNA(A250),\"\",IF(LEN(LOOKUP(B250,Database!A:A,Database!G:G))=0,\"\",LOOKUP(B250,Database!A:A,Database!G:G)))","v":""},{"$f":"IF(ISNA(A250),\"\",IF(LEN(LOOKUP(B250,Database!A:A,Database!H:H))=0,\"\",LOOKUP(B250,Database!A:A,Database!H:H)))","v":""},{"$f":"IF(ISNA(A250),\"\",IF(LEN(LOOKUP(B250,Database!A:A,Database!I:I))=0,\"\",LOOKUP(B250,Database!A:A,Database!I:I)))","v":""},{"$f":"IF(ISNA(A250),\"\",IF(LEN(LOOKUP(B250,Database!A:A,Database!J:J))=0,\"\",LOOKUP(B250,Database!A:A,Database!J:J)))","v":""},{"$f":"IF(ISNA(A250),\"\",IF(LEN(LOOKUP(B250,Database!A:A,Database!K:K))=0,\"\",LOOKUP(B250,Database!A:A,Database!K:K)))","v":""},{"$f":"IF(ISNA(A250),\"\",IF(LEN(LOOKUP(B250,Database!A:A,Database!L:L))=0,\"\",LOOKUP(B250,Database!A:A,Database!L:L)))","v":""},{"$f":"IF(ISNA(A250),\"\",IF(LEN(LOOKUP(B250,Database!A:A,Database!M:M))=0,\"\",LOOKUP(B250,Database!A:A,Database!M:M)))","v":""},{"$f":"IF(ISNA(A250),\"\",IF(LEN(LOOKUP(B250,Database!A:A,Database!N:N))=0,\"\",LOOKUP(B250,Database!A:A,Database!N:N)))","v":""},{"$f":"IF(ISNA(A250),\"\",IF(LEN(LOOKUP(B250,Database!A:A,Database!O:O))=0,\"\",LOOKUP(B250,Database!A:A,Database!O:O)))","v":""},{"$f":"IF(ISNA(A250),\"\",IF(LEN(LOOKUP(B250,Database!A:A,Database!P:P))=0,\"\",LOOKUP(B250,Database!A:A,Database!P:P)))","v":""},{"$f":"IF(ISNA(A250),\"\",IF(LEN(LOOKUP(B250,Database!A:A,Database!Q:Q))=0,\"\",LOOKUP(B250,Database!A:A,Database!Q:Q)))","v":""},{"$f":"IF(ISNA(A250),\"\",IF(LEN(LOOKUP(B250,Database!A:A,Database!R:R))=0,\"\",LOOKUP(B250,Database!A:A,Database!R:R)))","v":""},{"$f":"IF(ISNA(A250),\"\",IF(LEN(LOOKUP(B250,Database!A:A,Database!S:S))=0,\"\",LOOKUP(B250,Database!A:A,Database!S:S)))","v":""},null,null,null,null,null,null,236,0,null,1,0,null,0.1]
[{"$error":"#N/A"},"2018-08-25",{"$f":"IF(ISNA(A251),\"\",IF(LEN(LOOKUP(B251,Database!A:A,Database!B:B))=0,\"\",LOOKUP(B251,Database!A:A,Database!B:B)))","v":""},{"$f":"IF(ISNA(A251),\"\",IF(LEN(LOOKUP(B251,Database!A:A,Database!C:C))=0,\"\",LOOKUP(B251,Database!A:A,Database!C:C)))","v":""},{"$f":"IF(ISNA(A251),\"\",IF(LEN(LOOKUP(B251,Database!A:A,Database!D:D))=0,\"\",LOOKUP(B251,Database!A:A,Database!D:D)))","v":""},{"$f":"IF(ISNA(A251),\"\",IF(LEN(LOOKUP(B251,Database!A:A,Database!E:E))=0,\"\",LOOKUP(B251,Database!A:A,Database!E:E)))","v":""},{"$f":"IF(ISNA(A251),\"\",IF(LEN(LOOKUP(B251,Database!A:A,Database!F:F))=0,\"\",LOOKUP(B251,Database!A:A,Database!F:F)))","v":""},{"$f":"IF(ISNA(A251),\"\",IF(LEN(LOOKUP(B251,Database!A:A,Database!G:G))=0,\"\",LOOKUP(B251,Database!A:A,Database!G:G)))","v":""},{"$f":"IF(ISNA(A251),\"\",IF(LEN(LOOKUP(B251,Database!A:A,Database!H:H))=0,\"\",LOOKUP(B251,Database!A:A,Database!H:H)))","v":""},{"$f":"IF(ISNA(A251),\"\",IF(LEN(LOOKUP(B251,Database!A:A,Database!I:I))=0,\"\",LOOKUP(B251,Database!A:A,Database!I:I)))","v":""},{"$f":"IF(ISNA(A251),\"\",IF(LEN(LOOKUP(B251,Database!A:A,Database!J:J))=0,\"\",LOOKUP(B251,Database!A:A,Database!J:J)))","v":""},{"$f":"IF(ISNA(A251),\"\",IF(LEN(LOOKUP(B251,Database!A:A,Database!K:K))=0,\"\",LOOKUP(B251,Database!A:A,Database!K:K)))","v":""},{"$f":"IF(ISNA(A251),\"\",IF(LEN(LOOKUP(B251,Database!A:A,Database!L:L))=0,\"\",LOOKUP(B251,Database!A:A,Database!L:L)))","v":""},{"$f":"IF(ISNA(A251),\"\",IF(LEN(LOOKUP(B251,Database!A:A,Database!M:M))=0,\"\",LOOKUP(B251,Database!A:A,Database!M:M)))","v":""},{"$f":"IF(ISNA(A251),\"\",IF(LEN(LOOKUP(B251,Database!A:A,Database!N:N))=0,\"\",LOOKUP(B251,Database!A:A,Database!N:N)))","v":""},{"$f":"IF(ISNA(A251),\"\",IF(LEN(LOOKUP(B251,Database!A:A,Database!O:O))=0,\"\",LOOKUP(B251,Database!A:A,Database!O:O)))","v":""},{"$f":"IF(ISNA(A251),\"\",IF(LEN(LOOKUP(B251,Database!A:A,Database!P:P))=0,\"\",LOOKUP(B251,Database!A:A,Database!P:P)))","v":""},{"$f":"IF(ISNA(A251),\"\",IF(LEN(LOOKUP(B251,Database!A:A,Database!Q:Q))=0,\"\",LOOKUP(B251,Database!A:A,Database!Q:Q)))","v":""},{"$f":"IF(ISNA(A251),\"\",IF(LEN(LOOKUP(B251,Database!A:A,Database!R:R))=0,\"\",LOOKUP(B251,Database!A:A,Database!R:R)))","v":""},{"$f":"IF(ISNA(A251),\"\",IF(LEN(LOOKUP(B251,Database!A:A,Database!S:S))=0,\"\",LOOKUP(B251,Database!A:A,Database!S:S)))","v":""},null,null,null,null,null,null,237,0,null,1,0,null,0.1]
[{"$error":"#N/A"},"2018-08-26",{"$f":"IF(ISNA(A252),\"\",IF(LEN(LOOKUP(B252,Database!A:A,Database!B:B))=0,\"\",LOOKUP(B252,Database!A:A,Database!B:B)))","v":""},{"$f":"IF(ISNA(A252),\"\",IF(LEN(LOOKUP(B252,Database!A:A,Database!C:C))=0,\"\",LOOKUP(B252,Database!A:A,Database!C:C)))","v":""},{"$f":"IF(ISNA(A252),\"\",IF(LEN(LOOKUP(B252,Database!A:A,Database!D:D))=0,\"\",LOOKUP(B252,Database!A:A,Database!D:D)))","v":""},{"$f":"IF(ISNA(A252),\"\",IF(LEN(LOOKUP(B252,Database!A:A,Database!E:E))=0,\"\",LOOKUP(B252,Database!A:A,Database!E:E)))","v":""},{"$f":"IF(ISNA(A252),\"\",IF(LEN(LOOKUP(B252,Database!A:A,Database!F:F))=0,\"\",LOOKUP(B252,Database!A:A,Database!F:F)))","v":""},{"$f":"IF(ISNA(A252),\"\",IF(LEN(LOOKUP(B252,Database!A:A,Database!G:G))=0,\"\",LOOKUP(B252,Database!A:A,Database!G:G)))","v":""},{"$f":"IF(ISNA(A252),\"\",IF(LEN(LOOKUP(B252,Database!A:A,Database!H:H))=0,\"\",LOOKUP(B252,Database!A:A,Database!H:H)))","v":""},{"$f":"IF(ISNA(A252),\"\",IF(LEN(LOOKUP(B252,Database!A:A,Database!I:I))=0,\"\",LOOKUP(B252,Database!A:A,Database!I:I)))","v":""},{"$f":"IF(ISNA(A252),\"\",IF(LEN(LOOKUP(B252,Database!A:A,Database!J:J))=0,\"\",LOOKUP(B252,Database!A:A,Database!J:J)))","v":""},{"$f":"IF(ISNA(A252),\"\",IF(LEN(LOOKUP(B252,Database!A:A,Database!K:K))=0,\"\",LOOKUP(B252,Database!A:A,Database!K:K)))","v":""},{"$f":"IF(ISNA(A252),\"\",IF(LEN(LOOKUP(B252,Database!A:A,Database!L:L))=0,\"\",LOOKUP(B252,Database!A:A,Database!L:L)))","v":""},{"$f":"IF(ISNA(A252),\"\",IF(LEN(LOOKUP(B252,Database!A:A,Database!M:M))=0,\"\",LOOKUP(B252,Database!A:A,Database!M:M)))","v":""},{"$f":"IF(ISNA(A252),\"\",IF(LEN(LOOKUP(B252,Database!A:A,Database!N:N))=0,\"\",LOOKUP(B252,Database!A:A,Database!N:N)))","v":""},{"$f":"IF(ISNA(A252),\"\",IF(LEN(LOOKUP(B252,Database!A:A,Database!O:O))=0,\"\",LOOKUP(B252,Database!A:A,Database!O:O)))","v":""},{"$f":"IF(ISNA(A252),\"\",IF(LEN(LOOKUP(B252,Database!A:A,Database!P:P))=0,\"\",LOOKUP(B252,Database!A:A,Database!P:P)))","v":""},{"$f":"IF(ISNA(A252),\"\",IF(LEN(LOOKUP(B252,Database!A:A,Database!Q:Q))=0,\"\",LOOKUP(B252,Database!A:A,Database!Q:Q)))","v":""},{"$f":"IF(ISNA(A252),\"\",IF(LEN(LOOKUP(B252,Database!A:A,Database!R:R))=0,\"\",LOOKUP(B252,Database!A:A,Database!R:R)))","v":""},{"$f":"IF(ISNA(A252),\"\",IF(LEN(LOOKUP(B252,Database!A:A,Database!S:S))=0,\"\",LOOKUP(B252,Database!A:A,Database!S:S)))","v":""},null,null,null,null,null,null,238,0,null,1,0,null,0.1]
[{"$error":"#N/A"},"2018-08-27",{"$f":"IF(ISNA(A253),\"\",IF(LEN(LOOKUP(B253,Database!A:A,Database!B:B))=0,\"\",LOOKUP(B253,Database!A:A,Database!B:B)))","v":""},{"$f":"IF(ISNA(A253),\"\",IF(LEN(LOOKUP(B253,Database!A:A,Database!C:C))=0,\"\",LOOKUP(B253,Database!A:A,Database!C:C)))","v":""},{"$f":"IF(ISNA(A253),\"\",IF(LEN(LOOKUP(B253,Database!A:A,Database!D:D))=0,\"\",LOOKUP(B253,Database!A:A,Database!D:D)))","v":""},{"$f":"IF(ISNA(A253),\"\",IF(LEN(LOOKUP(B253,Database!A:A,Database!E:E))=0,\"\",LOOKUP(B253,Database!A:A,Database!E:E)))","v":""},{"$f":"IF(ISNA(A253),\"\",IF(LEN(LOOKUP(B253,Database!A:A,Database!F:F))=0,\"\",LOOKUP(B253,Database!A:A,Database!F:F)))","v":""},{"$f":"IF(ISNA(A253),\"\",IF(LEN(LOOKUP(B253,Database!A:A,Database!G:G))=0,\"\",LOOKUP(B253,Database!A:A,Database!G:G)))","v":""},{"$f":"IF(ISNA(A253),\"\",IF(LEN(LOOKUP(B253,Database!A:A,Database!H:H))=0,\"\",LOOKUP(B253,Database!A:A,Database!H:H)))","v":""},{"$f":"IF(ISNA(A253),\"\",IF(LEN(LOOKUP(B253,Database!A:A,Database!I:I))=0,\"\",LOOKUP(B253,Database!A:A,Database!I:I)))","v":""},{"$f":"IF(ISNA(A253),\"\",IF(LEN(LOOKUP(B253,Database!A:A,Database!J:J))=0,\"\",LOOKUP(B253,Database!A:A,Database!J:J)))","v":""},{"$f":"IF(ISNA(A253),\"\",IF(LEN(LOOKUP(B253,Database!A:A,Database!K:K))=0,\"\",LOOKUP(B253,Database!A:A,Database!K:K)))","v":""},{"$f":"IF(ISNA(A253),\"\",IF(LEN(LOOKUP(B253,Database!A:A,Database!L:L))=0,\"\",LOOKUP(B253,Database!A:A,Database!L:L)))","v":""},{"$f":"IF(ISNA(A253),\"\",IF(LEN(LOOKUP(B253,Database!A:A,Database!M:M))=0,\"\",LOOKUP(B253,Database!A:A,Database!M:M)))","v":""},{"$f":"IF(ISNA(A253),\"\",IF(LEN(LOOKUP(B253,Database!A:A,Database!N:N))=0,\"\",LOOKUP(B253,Database!A:A,Database!N:N)))","v":""},{"$f":"IF(ISNA(A253),\"\",IF(LEN(LOOKUP(B253,Database!A:A,Database!O:O))=0,\"\",LOOKUP(B253,Database!A:A,Database!O:O)))","v":""},{"$f":"IF(ISNA(A253),\"\",IF(LEN(LOOKUP(B253,Database!A:A,Database!P:P))=0,\"\",LOOKUP(B253,Database!A:A,Database!P:P)))","v":""},{"$f":"IF(ISNA(A253),\"\",IF(LEN(LOOKUP(B253,Database!A:A,Database!Q:Q))=0,\"\",LOOKUP(B253,Database!A:A,Database!Q:Q)))","v":""},{"$f":"IF(ISNA(A253),\"\",IF(LEN(LOOKUP(B253,Database!A:A,Database!R:R))=0,\"\",LOOKUP(B253,Database!A:A,Database!R:R)))","v":""},{"$f":"IF(ISNA(A253),\"\",IF(LEN(LOOKUP(B253,Database!A:A,Database!S:S))=0,\"\",LOOKUP(B253,Database!A:A,Database!S:S)))","v":""},null,null,null,null,null,null,239,0,null,1,0,null,0.1]
[{"$error":"#N/A"},"2018-08-28",{"$f":"IF(ISNA(A254),\"\",IF(LEN(LOOKUP(B254,Database!A:A,Database!B:B))=0,\"\",LOOKUP(B254,Database!A:A,Database!B:B)))","v":""},{"$f":"IF(ISNA(A254),\"\",IF(LEN(LOOKUP(B254,Database!A:A,Database!C:C))=0,\"\",LOOKUP(B254,Database!A:A,Database!C:C)))","v":""},{"$f":"IF(ISNA(A254),\"\",IF(LEN(LOOKUP(B254,Database!A:A,Database!D:D))=0,\"\",LOOKUP(B254,Database!A:A,Database!D:D)))","v":""},{"$f":"IF(ISNA(A254),\"\",IF(LEN(LOOKUP(B254,Database!A:A,Database!E:E))=0,\"\",LOOKUP(B254,Database!A:A,Database!E:E)))","v":""},{"$f":"IF(ISNA(A254),\"\",IF(LEN(LOOKUP(B254,Database!A:A,Database!F:F))=0,\"\",LOOKUP(B254,Database!A:A,Database!F:F)))","v":""},{"$f":"IF(ISNA(A254),\"\",IF(LEN(LOOKUP(B254,Database!A:A,Database!G:G))=0,\"\",LOOKUP(B254,Database!A:A,Database!G:G)))","v":""},{"$f":"IF(ISNA(A254),\"\",IF(LEN(LOOKUP(B254,Database!A:A,Database!H:H))=0,\"\",LOOKUP(B254,Database!A:A,Database!H:H)))","v":""},{"$f":"IF(ISNA(A254),\"\",IF(LEN(LOOKUP(B254,Database!A:A,Database!I:I))=0,\"\",LOOKUP(B254,Database!A:A,Database!I:I)))","v":""},{"$f":"IF(ISNA(A254),\"\",IF(LEN(LOOKUP(B254,Database!A:A,Database!J:J))=0,\"\",LOOKUP(B254,Database!A:A,Database!J:J)))","v":""},{"$f":"IF(ISNA(A254),\"\",IF(LEN(LOOKUP(B254,Database!A:A,Database!K:K))=0,\"\",LOOKUP(B254,Database!A:A,Database!K:K)))","v":""},{"$f":"IF(ISNA(A254),\"\",IF(LEN(LOOKUP(B254,Database!A:A,Database!L:L))=0,\"\",LOOKUP(B254,Database!A:A,Database!L:L)))","v":""},{"$f":"IF(ISNA(A254),\"\",IF(LEN(LOOKUP(B254,Database!A:A,Database!M:M))=0,\"\",LOOKUP(B254,Database!A:A,Database!M:M)))","v":""},{"$f":"IF(ISNA(A254),\"\",IF(LEN(LOOKUP(B254,Database!A:A,Database!N:N))=0,\"\",LOOKUP(B254,Database!A:A,Database!N:N)))","v":""},{"$f":"IF(ISNA(A254),\"\",IF(LEN(LOOKUP(B254,Database!A:A,Database!O:O))=0,\"\",LOOKUP(B254,Database!A:A,Database!O:O)))","v":""},{"$f":"IF(ISNA(A254),\"\",IF(LEN(LOOKUP(B254,Database!A:A,Database!P:P))=0,\"\",LOOKUP(B254,Database!A:A,Database!P:P)))","v":""},{"$f":"IF(ISNA(A254),\"\",IF(LEN(LOOKUP(B254,Database!A:A,Database!Q:Q))=0,\"\",LOOKUP(B254,Database!A:A,Database!Q:Q)))","v":""},{"$f":"IF(ISNA(A254),\"\",IF(LEN(LOOKUP(B254,Database!A:A,Database!R:R))=0,\"\",LOOKUP(B254,Database!A:A,Database!R:R)))","v":""},{"$f":"IF(ISNA(A254),\"\",IF(LEN(LOOKUP(B254,Database!A:A,Database!S:S))=0,\"\",LOOKUP(B254,Database!A:A,Database!S:S)))","v":""},null,null,null,null,null,null,240,0,null,1,0,null,0.1]
[{"$error":"#N/A"},"2018-08-29",{"$f":"IF(ISNA(A255),\"\",IF(LEN(LOOKUP(B255,Database!A:A,Database!B:B))=0,\"\",LOOKUP(B255,Database!A:A,Database!B:B)))","v":""},{"$f":"IF(ISNA(A255),\"\",IF(LEN(LOOKUP(B255,Database!A:A,Database!C:C))=0,\"\",LOOKUP(B255,Database!A:A,Database!C:C)))","v":""},{"$f":"IF(ISNA(A255),\"\",IF(LEN(LOOKUP(B255,Database!A:A,Database!D:D))=0,\"\",LOOKUP(B255,Database!A:A,Database!D:D)))","v":""},{"$f":"IF(ISNA(A255),\"\",IF(LEN(LOOKUP(B255,Database!A:A,Database!E:E))=0,\"\",LOOKUP(B255,Database!A:A,Database!E:E)))","v":""},{"$f":"IF(ISNA(A255),\"\",IF(LEN(LOOKUP(B255,Database!A:A,Database!F:F))=0,\"\",LOOKUP(B255,Database!A:A,Database!F:F)))","v":""},{"$f":"IF(ISNA(A255),\"\",IF(LEN(LOOKUP(B255,Database!A:A,Database!G:G))=0,\"\",LOOKUP(B255,Database!A:A,Database!G:G)))","v":""},{"$f":"IF(ISNA(A255),\"\",IF(LEN(LOOKUP(B255,Database!A:A,Database!H:H))=0,\"\",LOOKUP(B255,Database!A:A,Database!H:H)))","v":""},{"$f":"IF(ISNA(A255),\"\",IF(LEN(LOOKUP(B255,Database!A:A,Database!I:I))=0,\"\",LOOKUP(B255,Database!A:A,Database!I:I)))","v":""},{"$f":"IF(ISNA(A255),\"\",IF(LEN(LOOKUP(B255,Database!A:A,Database!J:J))=0,\"\",LOOKUP(B255,Database!A:A,Database!J:J)))","v":""},{"$f":"IF(ISNA(A255),\"\",IF(LEN(LOOKUP(B255,Database!A:A,Database!K:K))=0,\"\",LOOKUP(B255,Database!A:A,Database!K:K)))","v":""},{"$f":"IF(ISNA(A255),\"\",IF(LEN(LOOKUP(B255,Database!A:A,Database!L:L))=0,\"\",LOOKUP(B255,Database!A:A,Database!L:L)))","v":""},{"$f":"IF(ISNA(A255),\"\",IF(LEN(LOOKUP(B255,Database!A:A,Database!M:M))=0,\"\",LOOKUP(B255,Database!A:A,Database!M:M)))","v":""},{"$f":"IF(ISNA(A255),\"\",IF(LEN(LOOKUP(B255,Database!A:A,Database!N:N))=0,\"\",LOOKUP(B255,Database!A:A,Database!N:N)))","v":""},{"$f":"IF(ISNA(A255),\"\",IF(LEN(LOOKUP(B255,Database!A:A,Database!O:O))=0,\"\",LOOKUP(B255,Database!A:A,Database!O:O)))","v":""},{"$f":"IF(ISNA(A255),\"\",IF(LEN(LOOKUP(B255,Database!A:A,Database!P:P))=0,\"\",LOOKUP(B255,Database!A:A,Database!P:P)))","v":""},{"$f":"IF(ISNA(A255),\"\",IF(LEN(LOOKUP(B255,Database!A:A,Database!Q:Q))=0,\"\",LOOKUP(B255,Database!A:A,Database!Q:Q)))","v":""},{"$f":"IF(ISNA(A255),\"\",IF(LEN(LOOKUP(B255,Database!A:A,Database!R:R))=0,\"\",LOOKUP(B255,Database!A:A,Database!R:R)))","v":""},{"$f":"IF(ISNA(A255),\"\",IF(LEN(LOOKUP(B255,Database!A:A,Database!S:S))=0,\"\",LOOKUP(B255,Database!A:A,Database!S:S)))","v":""},null,null,null,null,null,null,241,0,null,1,0,null,0.1]
[{"$error":"#N/A"},"2018-08-30",{"$f":"IF(ISNA(A256),\"\",IF(LEN(LOOKUP(B256,Database!A:A,Database!B:B))=0,\"\",LOOKUP(B256,Database!A:A,Database!B:B)))","v":""},{"$f":"IF(ISNA(A256),\"\",IF(LEN(LOOKUP(B256,Database!A:A,Database!C:C))=0,\"\",LOOKUP(B256,Database!A:A,Database!C:C)))","v":""},{"$f":"IF(ISNA(A256),\"\",IF(LEN(LOOKUP(B256,Database!A:A,Database!D:D))=0,\"\",LOOKUP(B256,Database!A:A,Database!D:D)))","v":""},{"$f":"IF(ISNA(A256),\"\",IF(LEN(LOOKUP(B256,Database!A:A,Database!E:E))=0,\"\",LOOKUP(B256,Database!A:A,Database!E:E)))","v":""},{"$f":"IF(ISNA(A256),\"\",IF(LEN(LOOKUP(B256,Database!A:A,Database!F:F))=0,\"\",LOOKUP(B256,Database!A:A,Database!F:F)))","v":""},{"$f":"IF(ISNA(A256),\"\",IF(LEN(LOOKUP(B256,Database!A:A,Database!G:G))=0,\"\",LOOKUP(B256,Database!A:A,Database!G:G)))","v":""},{"$f":"IF(ISNA(A256),\"\",IF(LEN(LOOKUP(B256,Database!A:A,Database!H:H))=0,\"\",LOOKUP(B256,Database!A:A,Database!H:H)))","v":""},{"$f":"IF(ISNA(A256),\"\",IF(LEN(LOOKUP(B256,Database!A:A,Database!I:I))=0,\"\",LOOKUP(B256,Database!A:A,Database!I:I)))","v":""},{"$f":"IF(ISNA(A256),\"\",IF(LEN(LOOKUP(B256,Database!A:A,Database!J:J))=0,\"\",LOOKUP(B256,Database!A:A,Database!J:J)))","v":""},{"$f":"IF(ISNA(A256),\"\",IF(LEN(LOOKUP(B256,Database!A:A,Database!K:K))=0,\"\",LOOKUP(B256,Database!A:A,Database!K:K)))","v":""},{"$f":"IF(ISNA(A256),\"\",IF(LEN(LOOKUP(B256,Database!A:A,Database!L:L))=0,\"\",LOOKUP(B256,Database!A:A,Database!L:L)))","v":""},{"$f":"IF(ISNA(A256),\"\",IF(LEN(LOOKUP(B256,Database!A:A,Database!M:M))=0,\"\",LOOKUP(B256,Database!A:A,Database!M:M)))","v":""},{"$f":"IF(ISNA(A256),\"\",IF(LEN(LOOKUP(B256,Database!A:A,Database!N:N))=0,\"\",LOOKUP(B256,Database!A:A,Database!N:N)))","v":""},{"$f":"IF(ISNA(A256),\"\",IF(LEN(LOOKUP(B256,Database!A:A,Database!O:O))=0,\"\",LOOKUP(B256,Database!A:A,Database!O:O)))","v":""},{"$f":"IF(ISNA(A256),\"\",IF(LEN(LOOKUP(B256,Database!A:A,Database!P:P))=0,\"\",LOOKUP(B256,Database!A:A,Database!P:P)))","v":""},{"$f":"IF(ISNA(A256),\"\",IF(LEN(LOOKUP(B256,Database!A:A,Database!Q:Q))=0,\"\",LOOKUP(B256,Database!A:A,Database!Q:Q)))","v":""},{"$f":"IF(ISNA(A256),\"\",IF(LEN(LOOKUP(B256,Database!A:A,Database!R:R))=0,\"\",LOOKUP(B256,Database!A:A,Database!R:R)))","v":""},{"$f":"IF(ISNA(A256),\"\",IF(LEN(LOOKUP(B256,Database!A:A,Database!S:S))=0,\"\",LOOKUP(B256,Database!A:A,Database!S:S)))","v":""},null,null,null,null,null,null,242,0,null,1,0,null,0.1]
[{"$error":"#N/A"},"2018-08-31",{"$f":"IF(ISNA(A257),\"\",IF(LEN(LOOKUP(B257,Database!A:A,Database!B:B))=0,\"\",LOOKUP(B257,Database!A:A,Database!B:B)))","v":""},{"$f":"IF(ISNA(A257),\"\",IF(LEN(LOOKUP(B257,Database!A:A,Database!C:C))=0,\"\",LOOKUP(B257,Database!A:A,Database!C:C)))","v":""},{"$f":"IF(ISNA(A257),\"\",IF(LEN(LOOKUP(B257,Database!A:A,Database!D:D))=0,\"\",LOOKUP(B257,Database!A:A,Database!D:D)))","v":""},{"$f":"IF(ISNA(A257),\"\",IF(LEN(LOOKUP(B257,Database!A:A,Database!E:E))=0,\"\",LOOKUP(B257,Database!A:A,Database!E:E)))","v":""},{"$f":"IF(ISNA(A257),\"\",IF(LEN(LOOKUP(B257,Database!A:A,Database!F:F))=0,\"\",LOOKUP(B257,Database!A:A,Database!F:F)))","v":""},{"$f":"IF(ISNA(A257),\"\",IF(LEN(LOOKUP(B257,Database!A:A,Database!G:G))=0,\"\",LOOKUP(B257,Database!A:A,Database!G:G)))","v":""},{"$f":"IF(ISNA(A257),\"\",IF(LEN(LOOKUP(B257,Database!A:A,Database!H:H))=0,\"\",LOOKUP(B257,Database!A:A,Database!H:H)))","v":""},{"$f":"IF(ISNA(A257),\"\",IF(LEN(LOOKUP(B257,Database!A:A,Database!I:I))=0,\"\",LOOKUP(B257,Database!A:A,Database!I:I)))","v":""},{"$f":"IF(ISNA(A257),\"\",IF(LEN(LOOKUP(B257,Database!A:A,Database!J:J))=0,\"\",LOOKUP(B257,Database!A:A,Database!J:J)))","v":""},{"$f":"IF(ISNA(A257),\"\",IF(LEN(LOOKUP(B257,Database!A:A,Database!K:K))=0,\"\",LOOKUP(B257,Database!A:A,Database!K:K)))","v":""},{"$f":"IF(ISNA(A257),\"\",IF(LEN(LOOKUP(B257,Database!A:A,Database!L:L))=0,\"\",LOOKUP(B257,Database!A:A,Database!L:L)))","v":""},{"$f":"IF(ISNA(A257),\"\",IF(LEN(LOOKUP(B257,Database!A:A,Database!M:M))=0,\"\",LOOKUP(B257,Database!A:A,Database!M:M)))","v":""},{"$f":"IF(ISNA(A257),\"\",IF(LEN(LOOKUP(B257,Database!A:A,Database!N:N))=0,\"\",LOOKUP(B257,Database!A:A,Database!N:N)))","v":""},{"$f":"IF(ISNA(A257),\"\",IF(LEN(LOOKUP(B257,Database!A:A,Database!O:O))=0,\"\",LOOKUP(B257,Database!A:A,Database!O:O)))","v":""},{"$f":"IF(ISNA(A257),\"\",IF(LEN(LOOKUP(B257,Database!A:A,Database!P:P))=0,\"\",LOOKUP(B257,Database!A:A,Database!P:P)))","v":""},{"$f":"IF(ISNA(A257),\"\",IF(LEN(LOOKUP(B257,Database!A:A,Database!Q:Q))=0,\"\",LOOKUP(B257,Database!A:A,Database!Q:Q)))","v":""},{"$f":"IF(ISNA(A257),\"\",IF(LEN(LOOKUP(B257,Database!A:A,Database!R:R))=0,\"\",LOOKUP(B257,Database!A:A,Database!R:R)))","v":""},{"$f":"IF(ISNA(A257),\"\",IF(LEN(LOOKUP(B257,Database!A:A,Database!S:S))=0,\"\",LOOKUP(B257,Database!A:A,Database!S:S)))","v":""},null,null,null,null,null,null,243,0,null,1,0,null,0.1]
[{"$error":"#N/A"},"2018-09-01",{"$f":"IF(ISNA(A258),\"\",IF(LEN(LOOKUP(B258,Database!A:A,Database!B:B))=0,\"\",LOOKUP(B258,Database!A:A,Database!B:B)))","v":""},{"$f":"IF(ISNA(A258),\"\",IF(LEN(LOOKUP(B258,Database!A:A,Database!C:C))=0,\"\",LOOKUP(B258,Database!A:A,Database!C:C)))","v":""},{"$f":"IF(ISNA(A258),\"\",IF(LEN(LOOKUP(B258,Database!A:A,Database!D:D))=0,\"\",LOOKUP(B258,Database!A:A,Database!D:D)))","v":""},{"$f":"IF(ISNA(A258),\"\",IF(LEN(LOOKUP(B258,Database!A:A,Database!E:E))=0,\"\",LOOKUP(B258,Database!A:A,Database!E:E)))","v":""},{"$f":"IF(ISNA(A258),\"\",IF(LEN(LOOKUP(B258,Database!A:A,Database!F:F))=0,\"\",LOOKUP(B258,Database!A:A,Database!F:F)))","v":""},{"$f":"IF(ISNA(A258),\"\",IF(LEN(LOOKUP(B258,Database!A:A,Database!G:G))=0,\"\",LOOKUP(B258,Database!A:A,Database!G:G)))","v":""},{"$f":"IF(ISNA(A258),\"\",IF(LEN(LOOKUP(B258,Database!A:A,Database!H:H))=0,\"\",LOOKUP(B258,Database!A:A,Database!H:H)))","v":""},{"$f":"IF(ISNA(A258),\"\",IF(LEN(LOOKUP(B258,Database!A:A,Database!I:I))=0,\"\",LOOKUP(B258,Database!A:A,Database!I:I)))","v":""},{"$f":"IF(ISNA(A258),\"\",IF(LEN(LOOKUP(B258,Database!A:A,Database!J:J))=0,\"\",LOOKUP(B258,Database!A:A,Database!J:J)))","v":""},{"$f":"IF(ISNA(A258),\"\",IF(LEN(LOOKUP(B258,Database!A:A,Database!K:K))=0,\"\",LOOKUP(B258,Database!A:A,Database!K:K)))","v":""},{"$f":"IF(ISNA(A258),\"\",IF(LEN(LOOKUP(B258,Database!A:A,Database!L:L))=0,\"\",LOOKUP(B258,Database!A:A,Database!L:L)))","v":""},{"$f":"IF(ISNA(A258),\"\",IF(LEN(LOOKUP(B258,Database!A:A,Database!M:M))=0,\"\",LOOKUP(B258,Database!A:A,Database!M:M)))","v":""},{"$f":"IF(ISNA(A258),\"\",IF(LEN(LOOKUP(B258,Database!A:A,Database!N:N))=0,\"\",LOOKUP(B258,Database!A:A,Database!N:N)))","v":""},{"$f":"IF(ISNA(A258),\"\",IF(LEN(LOOKUP(B258,Database!A:A,Database!O:O))=0,\"\",LOOKUP(B258,Database!A:A,Database!O:O)))","v":""},{"$f":"IF(ISNA(A258),\"\",IF(LEN(LOOKUP(B258,Database!A:A,Database!P:P))=0,\"\",LOOKUP(B258,Database!A:A,Database!P:P)))","v":""},{"$f":"IF(ISNA(A258),\"\",IF(LEN(LOOKUP(B258,Database!A:A,Database!Q:Q))=0,\"\",LOOKUP(B258,Database!A:A,Database!Q:Q)))","v":""},{"$f":"IF(ISNA(A258),\"\",IF(LEN(LOOKUP(B258,Database!A:A,Database!R:R))=0,\"\",LOOKUP(B258,Database!A:A,Database!R:R)))","v":""},{"$f":"IF(ISNA(A258),\"\",IF(LEN(LOOKUP(B258,Database!A:A,Database!S:S))=0,\"\",LOOKUP(B258,Database!A:A,Database!S:S)))","v":""},null,null,null,null,null,null,244,0,null,1,0,null,0.1]
[{"$error":"#N/A"},"2018-09-02",{"$f":"IF(ISNA(A259),\"\",IF(LEN(LOOKUP(B259,Database!A:A,Database!B:B))=0,\"\",LOOKUP(B259,Database!A:A,Database!B:B)))","v":""},{"$f":"IF(ISNA(A259),\"\",IF(LEN(LOOKUP(B259,Database!A:A,Database!C:C))=0,\"\",LOOKUP(B259,Database!A:A,Database!C:C)))","v":""},{"$f":"IF(ISNA(A259),\"\",IF(LEN(LOOKUP(B259,Database!A:A,Database!D:D))=0,\"\",LOOKUP(B259,Database!A:A,Database!D:D)))","v":""},{"$f":"IF(ISNA(A259),\"\",IF(LEN(LOOKUP(B259,Database!A:A,Database!E:E))=0,\"\",LOOKUP(B259,Database!A:A,Database!E:E)))","v":""},{"$f":"IF(ISNA(A259),\"\",IF(LEN(LOOKUP(B259,Database!A:A,Database!F:F))=0,\"\",LOOKUP(B259,Database!A:A,Database!F:F)))","v":""},{"$f":"IF(ISNA(A259),\"\",IF(LEN(LOOKUP(B259,Database!A:A,Database!G:G))=0,\"\",LOOKUP(B259,Database!A:A,Database!G:G)))","v":""},{"$f":"IF(ISNA(A259),\"\",IF(LEN(LOOKUP(B259,Database!A:A,Database!H:H))=0,\"\",LOOKUP(B259,Database!A:A,Database!H:H)))","v":""},{"$f":"IF(ISNA(A259),\"\",IF(LEN(LOOKUP(B259,Database!A:A,Database!I:I))=0,\"\",LOOKUP(B259,Database!A:A,Database!I:I)))","v":""},{"$f":"IF(ISNA(A259),\"\",IF(LEN(LOOKUP(B259,Database!A:A,Database!J:J))=0,\"\",LOOKUP(B259,Database!A:A,Database!J:J)))","v":""},{"$f":"IF(ISNA(A259),\"\",IF(LEN(LOOKUP(B259,Database!A:A,Database!K:K))=0,\"\",LOOKUP(B259,Database!A:A,Database!K:K)))","v":""},{"$f":"IF(ISNA(A259),\"\",IF(LEN(LOOKUP(B259,Database!A:A,Database!L:L))=0,\"\",LOOKUP(B259,Database!A:A,Database!L:L)))","v":""},{"$f":"IF(ISNA(A259),\"\",IF(LEN(LOOKUP(B259,Database!A:A,Database!M:M))=0,\"\",LOOKUP(B259,Database!A:A,Database!M:M)))","v":""},{"$f":"IF(ISNA(A259),\"\",IF(LEN(LOOKUP(B259,Database!A:A,Database!N:N))=0,\"\",LOOKUP(B259,Database!A:A,Database!N:N)))","v":""},{"$f":"IF(ISNA(A259),\"\",IF(LEN(LOOKUP(B259,Database!A:A,Database!O:O))=0,\"\",LOOKUP(B259,Database!A:A,Database!O:O)))","v":""},{"$f":"IF(ISNA(A259),\"\",IF(LEN(LOOKUP(B259,Database!A:A,Database!P:P))=0,\"\",LOOKUP(B259,Database!A:A,Database!P:P)))","v":""},{"$f":"IF(ISNA(A259),\"\",IF(LEN(LOOKUP(B259,Database!A:A,Database!Q:Q))=0,\"\",LOOKUP(B259,Database!A:A,Database!Q:Q)))","v":""},{"$f":"IF(ISNA(A259),\"\",IF(LEN(LOOKUP(B259,Database!A:A,Database!R:R))=0,\"\",LOOKUP(B259,Database!A:A,Database!R:R)))","v":""},{"$f":"IF(ISNA(A259),\"\",IF(LEN(LOOKUP(B259,Database!A:A,Database!S:S))=0,\"\",LOOKUP(B259,Database!A:A,Database!S:S)))","v":""},null,null,null,null,null,null,245,0,null,1,0,null,0.1]
[{"$error":"#N/A"},"2018-09-03",{"$f":"IF(ISNA(A260),\"\",IF(LEN(LOOKUP(B260,Database!A:A,Database!B:B))=0,\"\",LOOKUP(B260,Database!A:A,Database!B:B)))","v":""},{"$f":"IF(ISNA(A260),\"\",IF(LEN(LOOKUP(B260,Database!A:A,Database!C:C))=0,\"\",LOOKUP(B260,Database!A:A,Database!C:C)))","v":""},{"$f":"IF(ISNA(A260),\"\",IF(LEN(LOOKUP(B260,Database!A:A,Database!D:D))=0,\"\",LOOKUP(B260,Database!A:A,Database!D:D)))","v":""},{"$f":"IF(ISNA(A260),\"\",IF(LEN(LOOKUP(B260,Database!A:A,Database!E:E))=0,\"\",LOOKUP(B260,Database!A:A,Database!E:E)))","v":""},{"$f":"IF(ISNA(A260),\"\",IF(LEN(LOOKUP(B260,Database!A:A,Database!F:F))=0,\"\",LOOKUP(B260,Database!A:A,Database!F:F)))","v":""},{"$f":"IF(ISNA(A260),\"\",IF(LEN(LOOKUP(B260,Database!A:A,Database!G:G))=0,\"\",LOOKUP(B260,Database!A:A,Database!G:G)))","v":""},{"$f":"IF(ISNA(A260),\"\",IF(LEN(LOOKUP(B260,Database!A:A,Database!H:H))=0,\"\",LOOKUP(B260,Database!A:A,Database!H:H)))","v":""},{"$f":"IF(ISNA(A260),\"\",IF(LEN(LOOKUP(B260,Database!A:A,Database!I:I))=0,\"\",LOOKUP(B260,Database!A:A,Database!I:I)))","v":""},{"$f":"IF(ISNA(A260),\"\",IF(LEN(LOOKUP(B260,Database!A:A,Database!J:J))=0,\"\",LOOKUP(B260,Database!A:A,Database!J:J)))","v":""},{"$f":"IF(ISNA(A260),\"\",IF(LEN(LOOKUP(B260,Database!A:A,Database!K:K))=0,\"\",LOOKUP(B260,Database!A:A,Database!K:K)))","v":""},{"$f":"IF(ISNA(A260),\"\",IF(LEN(LOOKUP(B260,Database!A:A,Database!L:L))=0,\"\",LOOKUP(B260,Database!A:A,Database!L:L)))","v":""},{"$f":"IF(ISNA(A260),\"\",IF(LEN(LOOKUP(B260,Database!A:A,Database!M:M))=0,\"\",LOOKUP(B260,Database!A:A,Database!M:M)))","v":""},{"$f":"IF(ISNA(A260),\"\",IF(LEN(LOOKUP(B260,Database!A:A,Database!N:N))=0,\"\",LOOKUP(B260,Database!A:A,Database!N:N)))","v":""},{"$f":"IF(ISNA(A260),\"\",IF(LEN(LOOKUP(B260,Database!A:A,Database!O:O))=0,\"\",LOOKUP(B260,Database!A:A,Database!O:O)))","v":""},{"$f":"IF(ISNA(A260),\"\",IF(LEN(LOOKUP(B260,Database!A:A,Database!P:P))=0,\"\",LOOKUP(B260,Database!A:A,Database!P:P)))","v":""},{"$f":"IF(ISNA(A260),\"\",IF(LEN(LOOKUP(B260,Database!A:A,Database!Q:Q))=0,\"\",LOOKUP(B260,Database!A:A,Database!Q:Q)))","v":""},{"$f":"IF(ISNA(A260),\"\",IF(LEN(LOOKUP(B260,Database!A:A,Database!R:R))=0,\"\",LOOKUP(B260,Database!A:A,Database!R:R)))","v":""},{"$f":"IF(ISNA(A260),\"\",IF(LEN(LOOKUP(B260,Database!A:A,Database!S:S))=0,\"\",LOOKUP(B260,Database!A:A,Database!S:S)))","v":""},null,null,null,null,null,null,246,0,null,1,0,null,0.1]
[{"$error":"#N/A"},"2018-09-04",{"$f":"IF(ISNA(A261),\"\",IF(LEN(LOOKUP(B261,Database!A:A,Database!B:B))=0,\"\",LOOKUP(B261,Database!A:A,Database!B:B)))","v":""},{"$f":"IF(ISNA(A261),\"\",IF(LEN(LOOKUP(B261,Database!A:A,Database!C:C))=0,\"\",LOOKUP(B261,Database!A:A,Database!C:C)))","v":""},{"$f":"IF(ISNA(A261),\"\",IF(LEN(LOOKUP(B261,Database!A:A,Database!D:D))=0,\"\",LOOKUP(B261,Database!A:A,Database!D:D)))","v":""},{"$f":"IF(ISNA(A261),\"\",IF(LEN(LOOKUP(B261,Database!A:A,Database!E:E))=0,\"\",LOOKUP(B261,Database!A:A,Database!E:E)))","v":""},{"$f":"IF(ISNA(A261),\"\",IF(LEN(LOOKUP(B261,Database!A:A,Database!F:F))=0,\"\",LOOKUP(B261,Database!A:A,Database!F:F)))","v":""},{"$f":"IF(ISNA(A261),\"\",IF(LEN(LOOKUP(B261,Database!A:A,Database!G:G))=0,\"\",LOOKUP(B261,Database!A:A,Database!G:G)))","v":""},{"$f":"IF(ISNA(A261),\"\",IF(LEN(LOOKUP(B261,Database!A:A,Database!H:H))=0,\"\",LOOKUP(B261,Database!A:A,Database!H:H)))","v":""},{"$f":"IF(ISNA(A261),\"\",IF(LEN(LOOKUP(B261,Database!A:A,Database!I:I))=0,\"\",LOOKUP(B261,Database!A:A,Database!I:I)))","v":""},{"$f":"IF(ISNA(A261),\"\",IF(LEN(LOOKUP(B261,Database!A:A,Database!J:J))=0,\"\",LOOKUP(B261,Database!A:A,Database!J:J)))","v":""},{"$f":"IF(ISNA(A261),\"\",IF(LEN(LOOKUP(B261,Database!A:A,Database!K:K))=0,\"\",LOOKUP(B261,Database!A:A,Database!K:K)))","v":""},{"$f":"IF(ISNA(A261),\"\",IF(LEN(LOOKUP(B261,Database!A:A,Database!L:L))=0,\"\",LOOKUP(B261,Database!A:A,Database!L:L)))","v":""},{"$f":"IF(ISNA(A261),\"\",IF(LEN(LOOKUP(B261,Database!A:A,Database!M:M))=0,\"\",LOOKUP(B261,Database!A:A,Database!M:M)))","v":""},{"$f":"IF(ISNA(A261),\"\",IF(LEN(LOOKUP(B261,Database!A:A,Database!N:N))=0,\"\",LOOKUP(B261,Database!A:A,Database!N:N)))","v":""},{"$f":"IF(ISNA(A261),\"\",IF(LEN(LOOKUP(B261,Database!A:A,Database!O:O))=0,\"\",LOOKUP(B261,Database!A:A,Database!O:O)))","v":""},{"$f":"IF(ISNA(A261),\"\",IF(LEN(LOOKUP(B261,Database!A:A,Database!P:P))=0,\"\",LOOKUP(B261,Database!A:A,Database!P:P)))","v":""},{"$f":"IF(ISNA(A261),\"\",IF(LEN(LOOKUP(B261,Database!A:A,Database!Q:Q))=0,\"\",LOOKUP(B261,Database!A:A,Database!Q:Q)))","v":""},{"$f":"IF(ISNA(A261),\"\",IF(LEN(LOOKUP(B261,Database!A:A,Database!R:R))=0,\"\",LOOKUP(B261,Database!A:A,Database!R:R)))","v":""},{"$f":"IF(ISNA(A261),\"\",IF(LEN(LOOKUP(B261,Database!A:A,Database!S:S))=0,\"\",LOOKUP(B261,Database!A:A,Database!S:S)))","v":""},null,null,null,null,null,null,247,0,null,1,0,null,0.1]
[{"$error":"#N/A"},"2018-09-05",{"$f":"IF(ISNA(A262),\"\",IF(LEN(LOOKUP(B262,Database!A:A,Database!B:B))=0,\"\",LOOKUP(B262,Database!A:A,Database!B:B)))","v":""},{"$f":"IF(ISNA(A262),\"\",IF(LEN(LOOKUP(B262,Database!A:A,Database!C:C))=0,\"\",LOOKUP(B262,Database!A:A,Database!C:C)))","v":""},{"$f":"IF(ISNA(A262),\"\",IF(LEN(LOOKUP(B262,Database!A:A,Database!D:D))=0,\"\",LOOKUP(B262,Database!A:A,Database!D:D)))","v":""},{"$f":"IF(ISNA(A262),\"\",IF(LEN(LOOKUP(B262,Database!A:A,Database!E:E))=0,\"\",LOOKUP(B262,Database!A:A,Database!E:E)))","v":""},{"$f":"IF(ISNA(A262),\"\",IF(LEN(LOOKUP(B262,Database!A:A,Database!F:F))=0,\"\",LOOKUP(B262,Database!A:A,Database!F:F)))","v":""},{"$f":"IF(ISNA(A262),\"\",IF(LEN(LOOKUP(B262,Database!A:A,Database!G:G))=0,\"\",LOOKUP(B262,Database!A:A,Database!G:G)))","v":""},{"$f":"IF(ISNA(A262),\"\",IF(LEN(LOOKUP(B262,Database!A:A,Database!H:H))=0,\"\",LOOKUP(B262,Database!A:A,Database!H:H)))","v":""},{"$f":"IF(ISNA(A262),\"\",IF(LEN(LOOKUP(B262,Database!A:A,Database!I:I))=0,\"\",LOOKUP(B262,Database!A:A,Database!I:I)))","v":""},{"$f":"IF(ISNA(A262),\"\",IF(LEN(LOOKUP(B262,Database!A:A,Database!J:J))=0,\"\",LOOKUP(B262,Database!A:A,Database!J:J)))","v":""},{"$f":"IF(ISNA(A262),\"\",IF(LEN(LOOKUP(B262,Database!A:A,Database!K:K))=0,\"\",LOOKUP(B262,Database!A:A,Database!K:K)))","v":""},{"$f":"IF(ISNA(A262),\"\",IF(LEN(LOOKUP(B262,Database!A:A,Database!L:L))=0,\"\",LOOKUP(B262,Database!A:A,Database!L:L)))","v":""},{"$f":"IF(ISNA(A262),\"\",IF(LEN(LOOKUP(B262,Database!A:A,Database!M:M))=0,\"\",LOOKUP(B262,Database!A:A,Database!M:M)))","v":""},{"$f":"IF(ISNA(A262),\"\",IF(LEN(LOOKUP(B262,Database!A:A,Database!N:N))=0,\"\",LOOKUP(B262,Database!A:A,Database!N:N)))","v":""},{"$f":"IF(ISNA(A262),\"\",IF(LEN(LOOKUP(B262,Database!A:A,Database!O:O))=0,\"\",LOOKUP(B262,Database!A:A,Database!O:O)))","v":""},{"$f":"IF(ISNA(A262),\"\",IF(LEN(LOOKUP(B262,Database!A:A,Database!P:P))=0,\"\",LOOKUP(B262,Database!A:A,Database!P:P)))","v":""},{"$f":"IF(ISNA(A262),\"\",IF(LEN(LOOKUP(B262,Database!A:A,Database!Q:Q))=0,\"\",LOOKUP(B262,Database!A:A,Database!Q:Q)))","v":""},{"$f":"IF(ISNA(A262),\"\",IF(LEN(LOOKUP(B262,Database!A:A,Database!R:R))=0,\"\",LOOKUP(B262,Database!A:A,Database!R:R)))","v":""},{"$f":"IF(ISNA(A262),\"\",IF(LEN(LOOKUP(B262,Database!A:A,Database!S:S))=0,\"\",LOOKUP(B262,Database!A:A,Database!S:S)))","v":""},null,null,null,null,null,null,248,0,null,1,0,null,0.1]
[{"$error":"#N/A"},"2018-09-06",{"$f":"IF(ISNA(A263),\"\",IF(LEN(LOOKUP(B263,Database!A:A,Database!B:B))=0,\"\",LOOKUP(B263,Database!A:A,Database!B:B)))","v":""},{"$f":"IF(ISNA(A263),\"\",IF(LEN(LOOKUP(B263,Database!A:A,Database!C:C))=0,\"\",LOOKUP(B263,Database!A:A,Database!C:C)))","v":""},{"$f":"IF(ISNA(A263),\"\",IF(LEN(LOOKUP(B263,Database!A:A,Database!D:D))=0,\"\",LOOKUP(B263,Database!A:A,Database!D:D)))","v":""},{"$f":"IF(ISNA(A263),\"\",IF(LEN(LOOKUP(B263,Database!A:A,Database!E:E))=0,\"\",LOOKUP(B263,Database!A:A,Database!E:E)))","v":""},{"$f":"IF(ISNA(A263),\"\",IF(LEN(LOOKUP(B263,Database!A:A,Database!F:F))=0,\"\",LOOKUP(B263,Database!A:A,Database!F:F)))","v":""},{"$f":"IF(ISNA(A263),\"\",IF(LEN(LOOKUP(B263,Database!A:A,Database!G:G))=0,\"\",LOOKUP(B263,Database!A:A,Database!G:G)))","v":""},{"$f":"IF(ISNA(A263),\"\",IF(LEN(LOOKUP(B263,Database!A:A,Database!H:H))=0,\"\",LOOKUP(B263,Database!A:A,Database!H:H)))","v":""},{"$f":"IF(ISNA(A263),\"\",IF(LEN(LOOKUP(B263,Database!A:A,Database!I:I))=0,\"\",LOOKUP(B263,Database!A:A,Database!I:I)))","v":""},{"$f":"IF(ISNA(A263),\"\",IF(LEN(LOOKUP(B263,Database!A:A,Database!J:J))=0,\"\",LOOKUP(B263,Database!A:A,Database!J:J)))","v":""},{"$f":"IF(ISNA(A263),\"\",IF(LEN(LOOKUP(B263,Database!A:A,Database!K:K))=0,\"\",LOOKUP(B263,Database!A:A,Database!K:K)))","v":""},{"$f":"IF(ISNA(A263),\"\",IF(LEN(LOOKUP(B263,Database!A:A,Database!L:L))=0,\"\",LOOKUP(B263,Database!A:A,Database!L:L)))","v":""},{"$f":"IF(ISNA(A263),\"\",IF(LEN(LOOKUP(B263,Database!A:A,Database!M:M))=0,\"\",LOOKUP(B263,Database!A:A,Database!M:M)))","v":""},{"$f":"IF(ISNA(A263),\"\",IF(LEN(LOOKUP(B263,Database!A:A,Database!N:N))=0,\"\",LOOKUP(B263,Database!A:A,Database!N:N)))","v":""},{"$f":"IF(ISNA(A263),\"\",IF(LEN(LOOKUP(B263,Database!A:A,Database!O:O))=0,\"\",LOOKUP(B263,Database!A:A,Database!O:O)))","v":""},{"$f":"IF(ISNA(A263),\"\",IF(LEN(LOOKUP(B263,Database!A:A,Database!P:P))=0,\"\",LOOKUP(B263,Database!A:A,Database!P:P)))","v":""},{"$f":"IF(ISNA(A263),\"\",IF(LEN(LOOKUP(B263,Database!A:A,Database!Q:Q))=0,\"\",LOOKUP(B263,Database!A:A,Database!Q:Q)))","v":""},{"$f":"IF(ISNA(A263),\"\",IF(LEN(LOOKUP(B263,Database!A:A,Database!R:R))=0,\"\",LOOKUP(B263,Database!A:A,Database!R:R)))","v":""},{"$f":"IF(ISNA(A263),\"\",IF(LEN(LOOKUP(B263,Database!A:A,Database!S:S))=0,\"\",LOOKUP(B263,Database!A:A,Database!S:S)))","v":""},null,null,null,null,null,null,249,0,null,1,0,null,0.1]
[{"$error":"#N/A"},"2018-09-07",{"$f":"IF(ISNA(A264),\"\",IF(LEN(LOOKUP(B264,Database!A:A,Database!B:B))=0,\"\",LOOKUP(B264,Database!A:A,Database!B:B)))","v":""},{"$f":"IF(ISNA(A264),\"\",IF(LEN(LOOKUP(B264,Database!A:A,Database!C:C))=0,\"\",LOOKUP(B264,Database!A:A,Database!C:C)))","v":""},{"$f":"IF(ISNA(A264),\"\",IF(LEN(LOOKUP(B264,Database!A:A,Database!D:D))=0,\"\",LOOKUP(B264,Database!A:A,Database!D:D)))","v":""},{"$f":"IF(ISNA(A264),\"\",IF(LEN(LOOKUP(B264,Database!A:A,Database!E:E))=0,\"\",LOOKUP(B264,Database!A:A,Database!E:E)))","v":""},{"$f":"IF(ISNA(A264),\"\",IF(LEN(LOOKUP(B264,Database!A:A,Database!F:F))=0,\"\",LOOKUP(B264,Database!A:A,Database!F:F)))","v":""},{"$f":"IF(ISNA(A264),\"\",IF(LEN(LOOKUP(B264,Database!A:A,Database!G:G))=0,\"\",LOOKUP(B264,Database!A:A,Database!G:G)))","v":""},{"$f":"IF(ISNA(A264),\"\",IF(LEN(LOOKUP(B264,Database!A:A,Database!H:H))=0,\"\",LOOKUP(B264,Database!A:A,Database!H:H)))","v":""},{"$f":"IF(ISNA(A264),\"\",IF(LEN(LOOKUP(B264,Database!A:A,Database!I:I))=0,\"\",LOOKUP(B264,Database!A:A,Database!I:I)))","v":""},{"$f":"IF(ISNA(A264),\"\",IF(LEN(LOOKUP(B264,Database!A:A,Database!J:J))=0,\"\",LOOKUP(B264,Database!A:A,Database!J:J)))","v":""},{"$f":"IF(ISNA(A264),\"\",IF(LEN(LOOKUP(B264,Database!A:A,Database!K:K))=0,\"\",LOOKUP(B264,Database!A:A,Database!K:K)))","v":""},{"$f":"IF(ISNA(A264),\"\",IF(LEN(LOOKUP(B264,Database!A:A,Database!L:L))=0,\"\",LOOKUP(B264,Database!A:A,Database!L:L)))","v":""},{"$f":"IF(ISNA(A264),\"\",IF(LEN(LOOKUP(B264,Database!A:A,Database!M:M))=0,\"\",LOOKUP(B264,Database!A:A,Database!M:M)))","v":""},{"$f":"IF(ISNA(A264),\"\",IF(LEN(LOOKUP(B264,Database!A:A,Database!N:N))=0,\"\",LOOKUP(B264,Database!A:A,Database!N:N)))","v":""},{"$f":"IF(ISNA(A264),\"\",IF(LEN(LOOKUP(B264,Database!A:A,Database!O:O))=0,\"\",LOOKUP(B264,Database!A:A,Database!O:O)))","v":""},{"$f":"IF(ISNA(A264),\"\",IF(LEN(LOOKUP(B264,Database!A:A,Database!P:P))=0,\"\",LOOKUP(B264,Database!A:A,Database!P:P)))","v":""},{"$f":"IF(ISNA(A264),\"\",IF(LEN(LOOKUP(B264,Database!A:A,Database!Q:Q))=0,\"\",LOOKUP(B264,Database!A:A,Database!Q:Q)))","v":""},{"$f":"IF(ISNA(A264),\"\",IF(LEN(LOOKUP(B264,Database!A:A,Database!R:R))=0,\"\",LOOKUP(B264,Database!A:A,Database!R:R)))","v":""},{"$f":"IF(ISNA(A264),\"\",IF(LEN(LOOKUP(B264,Database!A:A,Database!S:S))=0,\"\",LOOKUP(B264,Database!A:A,Database!S:S)))","v":""},null,null,null,null,null,null,250,0,null,1,0,null,0.1]
[{"$error":"#N/A"},"2018-09-08",{"$f":"IF(ISNA(A265),\"\",IF(LEN(LOOKUP(B265,Database!A:A,Database!B:B))=0,\"\",LOOKUP(B265,Database!A:A,Database!B:B)))","v":""},{"$f":"IF(ISNA(A265),\"\",IF(LEN(LOOKUP(B265,Database!A:A,Database!C:C))=0,\"\",LOOKUP(B265,Database!A:A,Database!C:C)))","v":""},{"$f":"IF(ISNA(A265),\"\",IF(LEN(LOOKUP(B265,Database!A:A,Database!D:D))=0,\"\",LOOKUP(B265,Database!A:A,Database!D:D)))","v":""},{"$f":"IF(ISNA(A265),\"\",IF(LEN(LOOKUP(B265,Database!A:A,Database!E:E))=0,\"\",LOOKUP(B265,Database!A:A,Database!E:E)))","v":""},{"$f":"IF(ISNA(A265),\"\",IF(LEN(LOOKUP(B265,Database!A:A,Database!F:F))=0,\"\",LOOKUP(B265,Database!A:A,Database!F:F)))","v":""},{"$f":"IF(ISNA(A265),\"\",IF(LEN(LOOKUP(B265,Database!A:A,Database!G:G))=0,\"\",LOOKUP(B265,Database!A:A,Database!G:G)))","v":""},{"$f":"IF(ISNA(A265),\"\",IF(LEN(LOOKUP(B265,Database!A:A,Database!H:H))=0,\"\",LOOKUP(B265,Database!A:A,Database!H:H)))","v":""},{"$f":"IF(ISNA(A265),\"\",IF(LEN(LOOKUP(B265,Database!A:A,Database!I:I))=0,\"\",LOOKUP(B265,Database!A:A,Database!I:I)))","v":""},{"$f":"IF(ISNA(A265),\"\",IF(LEN(LOOKUP(B265,Database!A:A,Database!J:J))=0,\"\",LOOKUP(B265,Database!A:A,Database!J:J)))","v":""},{"$f":"IF(ISNA(A265),\"\",IF(LEN(LOOKUP(B265,Database!A:A,Database!K:K))=0,\"\",LOOKUP(B265,Database!A:A,Database!K:K)))","v":""},{"$f":"IF(ISNA(A265),\"\",IF(LEN(LOOKUP(B265,Database!A:A,Database!L:L))=0,\"\",LOOKUP(B265,Database!A:A,Database!L:L)))","v":""},{"$f":"IF(ISNA(A265),\"\",IF(LEN(LOOKUP(B265,Database!A:A,Database!M:M))=0,\"\",LOOKUP(B265,Database!A:A,Database!M:M)))","v":""},{"$f":"IF(ISNA(A265),\"\",IF(LEN(LOOKUP(B265,Database!A:A,Database!N:N))=0,\"\",LOOKUP(B265,Database!A:A,Database!N:N)))","v":""},{"$f":"IF(ISNA(A265),\"\",IF(LEN(LOOKUP(B265,Database!A:A,Database!O:O))=0,\"\",LOOKUP(B265,Database!A:A,Database!O:O)))","v":""},{"$f":"IF(ISNA(A265),\"\",IF(LEN(LOOKUP(B265,Database!A:A,Database!P:P))=0,\"\",LOOKUP(B265,Database!A:A,Database!P:P)))","v":""},{"$f":"IF(ISNA(A265),\"\",IF(LEN(LOOKUP(B265,Database!A:A,Database!Q:Q))=0,\"\",LOOKUP(B265,Database!A:A,Database!Q:Q)))","v":""},{"$f":"IF(ISNA(A265),\"\",IF(LEN(LOOKUP(B265,Database!A:A,Database!R:R))=0,\"\",LOOKUP(B265,Database!A:A,Database!R:R)))","v":""},{"$f":"IF(ISNA(A265),\"\",IF(LEN(LOOKUP(B265,Database!A:A,Database!S:S))=0,\"\",LOOKUP(B265,Database!A:A,Database!S:S)))","v":""},null,null,null,null,null,null,251,0,null,1,0,null,0.1]
[{"$error":"#N/A"},"2018-09-09",{"$f":"IF(ISNA(A266),\"\",IF(LEN(LOOKUP(B266,Database!A:A,Database!B:B))=0,\"\",LOOKUP(B266,Database!A:A,Database!B:B)))","v":""},{"$f":"IF(ISNA(A266),\"\",IF(LEN(LOOKUP(B266,Database!A:A,Database!C:C))=0,\"\",LOOKUP(B266,Database!A:A,Database!C:C)))","v":""},{"$f":"IF(ISNA(A266),\"\",IF(LEN(LOOKUP(B266,Database!A:A,Database!D:D))=0,\"\",LOOKUP(B266,Database!A:A,Database!D:D)))","v":""},{"$f":"IF(ISNA(A266),\"\",IF(LEN(LOOKUP(B266,Database!A:A,Database!E:E))=0,\"\",LOOKUP(B266,Database!A:A,Database!E:E)))","v":""},{"$f":"IF(ISNA(A266),\"\",IF(LEN(LOOKUP(B266,Database!A:A,Database!F:F))=0,\"\",LOOKUP(B266,Database!A:A,Database!F:F)))","v":""},{"$f":"IF(ISNA(A266),\"\",IF(LEN(LOOKUP(B266,Database!A:A,Database!G:G))=0,\"\",LOOKUP(B266,Database!A:A,Database!G:G)))","v":""},{"$f":"IF(ISNA(A266),\"\",IF(LEN(LOOKUP(B266,Database!A:A,Database!H:H))=0,\"\",LOOKUP(B266,Database!A:A,Database!H:H)))","v":""},{"$f":"IF(ISNA(A266),\"\",IF(LEN(LOOKUP(B266,Database!A:A,Database!I:I))=0,\"\",LOOKUP(B266,Database!A:A,Database!I:I)))","v":""},{"$f":"IF(ISNA(A266),\"\",IF(LEN(LOOKUP(B266,Database!A:A,Database!J:J))=0,\"\",LOOKUP(B266,Database!A:A,Database!J:J)))","v":""},{"$f":"IF(ISNA(A266),\"\",IF(LEN(LOOKUP(B266,Database!A:A,Database!K:K))=0,\"\",LOOKUP(B266,Database!A:A,Database!K:K)))","v":""},{"$f":"IF(ISNA(A266),\"\",IF(LEN(LOOKUP(B266,Database!A:A,Database!L:L))=0,\"\",LOOKUP(B266,Database!A:A,Database!L:L)))","v":""},{"$f":"IF(ISNA(A266),\"\",IF(LEN(LOOKUP(B266,Database!A:A,Database!M:M))=0,\"\",LOOKUP(B266,Database!A:A,Database!M:M)))","v":""},{"$f":"IF(ISNA(A266),\"\",IF(LEN(LOOKUP(B266,Database!A:A,Database!N:N))=0,\"\",LOOKUP(B266,Database!A:A,Database!N:N)))","v":""},{"$f":"IF(ISNA(A266),\"\",IF(LEN(LOOKUP(B266,Database!A:A,Database!O:O))=0,\"\",LOOKUP(B266,Database!A:A,Database!O:O)))","v":""},{"$f":"IF(ISNA(A266),\"\",IF(LEN(LOOKUP(B266,Database!A:A,Database!P:P))=0,\"\",LOOKUP(B266,Database!A:A,Database!P:P)))","v":""},{"$f":"IF(ISNA(A266),\"\",IF(LEN(LOOKUP(B266,Database!A:A,Database!Q:Q))=0,\"\",LOOKUP(B266,Database!A:A,Database!Q:Q)))","v":""},{"$f":"IF(ISNA(A266),\"\",IF(LEN(LOOKUP(B266,Database!A:A,Database!R:R))=0,\"\",LOOKUP(B266,Database!A:A,Database!R:R)))","v":""},{"$f":"IF(ISNA(A266),\"\",IF(LEN(LOOKUP(B266,Database!A:A,Database!S:S))=0,\"\",LOOKUP(B266,Database!A:A,Database!S:S)))","v":""},null,null,null,null,null,null,252,0,null,1,0,null,0.1]
[{"$error":"#N/A"},"2018-09-10",{"$f":"IF(ISNA(A267),\"\",IF(LEN(LOOKUP(B267,Database!A:A,Database!B:B))=0,\"\",LOOKUP(B267,Database!A:A,Database!B:B)))","v":""},{"$f":"IF(ISNA(A267),\"\",IF(LEN(LOOKUP(B267,Database!A:A,Database!C:C))=0,\"\",LOOKUP(B267,Database!A:A,Database!C:C)))","v":""},{"$f":"IF(ISNA(A267),\"\",IF(LEN(LOOKUP(B267,Database!A:A,Database!D:D))=0,\"\",LOOKUP(B267,Database!A:A,Database!D:D)))","v":""},{"$f":"IF(ISNA(A267),\"\",IF(LEN(LOOKUP(B267,Database!A:A,Database!E:E))=0,\"\",LOOKUP(B267,Database!A:A,Database!E:E)))","v":""},{"$f":"IF(ISNA(A267),\"\",IF(LEN(LOOKUP(B267,Database!A:A,Database!F:F))=0,\"\",LOOKUP(B267,Database!A:A,Database!F:F)))","v":""},{"$f":"IF(ISNA(A267),\"\",IF(LEN(LOOKUP(B267,Database!A:A,Database!G:G))=0,\"\",LOOKUP(B267,Database!A:A,Database!G:G)))","v":""},{"$f":"IF(ISNA(A267),\"\",IF(LEN(LOOKUP(B267,Database!A:A,Database!H:H))=0,\"\",LOOKUP(B267,Database!A:A,Database!H:H)))","v":""},{"$f":"IF(ISNA(A267),\"\",IF(LEN(LOOKUP(B267,Database!A:A,Database!I:I))=0,\"\",LOOKUP(B267,Database!A:A,Database!I:I)))","v":""},{"$f":"IF(ISNA(A267),\"\",IF(LEN(LOOKUP(B267,Database!A:A,Database!J:J))=0,\"\",LOOKUP(B267,Database!A:A,Database!J:J)))","v":""},{"$f":"IF(ISNA(A267),\"\",IF(LEN(LOOKUP(B267,Database!A:A,Database!K:K))=0,\"\",LOOKUP(B267,Database!A:A,Database!K:K)))","v":""},{"$f":"IF(ISNA(A267),\"\",IF(LEN(LOOKUP(B267,Database!A:A,Database!L:L))=0,\"\",LOOKUP(B267,Database!A:A,Database!L:L)))","v":""},{"$f":"IF(ISNA(A267),\"\",IF(LEN(LOOKUP(B267,Database!A:A,Database!M:M))=0,\"\",LOOKUP(B267,Database!A:A,Database!M:M)))","v":""},{"$f":"IF(ISNA(A267),\"\",IF(LEN(LOOKUP(B267,Database!A:A,Database!N:N))=0,\"\",LOOKUP(B267,Database!A:A,Database!N:N)))","v":""},{"$f":"IF(ISNA(A267),\"\",IF(LEN(LOOKUP(B267,Database!A:A,Database!O:O))=0,\"\",LOOKUP(B267,Database!A:A,Database!O:O)))","v":""},{"$f":"IF(ISNA(A267),\"\",IF(LEN(LOOKUP(B267,Database!A:A,Database!P:P))=0,\"\",LOOKUP(B267,Database!A:A,Database!P:P)))","v":""},{"$f":"IF(ISNA(A267),\"\",IF(LEN(LOOKUP(B267,Database!A:A,Database!Q:Q))=0,\"\",LOOKUP(B267,Database!A:A,Database!Q:Q)))","v":""},{"$f":"IF(ISNA(A267),\"\",IF(LEN(LOOKUP(B267,Database!A:A,Database!R:R))=0,\"\",LOOKUP(B267,Database!A:A,Database!R:R)))","v":""},{"$f":"IF(ISNA(A267),\"\",IF(LEN(LOOKUP(B267,Database!A:A,Database!S:S))=0,\"\",LOOKUP(B267,Database!A:A,Database!S:S)))","v":""},null,null,null,null,null,null,253,0,null,1,0,null,0.1]
[{"$error":"#N/A"},"2018-09-11",{"$f":"IF(ISNA(A268),\"\",IF(LEN(LOOKUP(B268,Database!A:A,Database!B:B))=0,\"\",LOOKUP(B268,Database!A:A,Database!B:B)))","v":""},{"$f":"IF(ISNA(A268),\"\",IF(LEN(LOOKUP(B268,Database!A:A,Database!C:C))=0,\"\",LOOKUP(B268,Database!A:A,Database!C:C)))","v":""},{"$f":"IF(ISNA(A268),\"\",IF(LEN(LOOKUP(B268,Database!A:A,Database!D:D))=0,\"\",LOOKUP(B268,Database!A:A,Database!D:D)))","v":""},{"$f":"IF(ISNA(A268),\"\",IF(LEN(LOOKUP(B268,Database!A:A,Database!E:E))=0,\"\",LOOKUP(B268,Database!A:A,Database!E:E)))","v":""},{"$f":"IF(ISNA(A268),\"\",IF(LEN(LOOKUP(B268,Database!A:A,Database!F:F))=0,\"\",LOOKUP(B268,Database!A:A,Database!F:F)))","v":""},{"$f":"IF(ISNA(A268),\"\",IF(LEN(LOOKUP(B268,Database!A:A,Database!G:G))=0,\"\",LOOKUP(B268,Database!A:A,Database!G:G)))","v":""},{"$f":"IF(ISNA(A268),\"\",IF(LEN(LOOKUP(B268,Database!A:A,Database!H:H))=0,\"\",LOOKUP(B268,Database!A:A,Database!H:H)))","v":""},{"$f":"IF(ISNA(A268),\"\",IF(LEN(LOOKUP(B268,Database!A:A,Database!I:I))=0,\"\",LOOKUP(B268,Database!A:A,Database!I:I)))","v":""},{"$f":"IF(ISNA(A268),\"\",IF(LEN(LOOKUP(B268,Database!A:A,Database!J:J))=0,\"\",LOOKUP(B268,Database!A:A,Database!J:J)))","v":""},{"$f":"IF(ISNA(A268),\"\",IF(LEN(LOOKUP(B268,Database!A:A,Database!K:K))=0,\"\",LOOKUP(B268,Database!A:A,Database!K:K)))","v":""},{"$f":"IF(ISNA(A268),\"\",IF(LEN(LOOKUP(B268,Database!A:A,Database!L:L))=0,\"\",LOOKUP(B268,Database!A:A,Database!L:L)))","v":""},{"$f":"IF(ISNA(A268),\"\",IF(LEN(LOOKUP(B268,Database!A:A,Database!M:M))=0,\"\",LOOKUP(B268,Database!A:A,Database!M:M)))","v":""},{"$f":"IF(ISNA(A268),\"\",IF(LEN(LOOKUP(B268,Database!A:A,Database!N:N))=0,\"\",LOOKUP(B268,Database!A:A,Database!N:N)))","v":""},{"$f":"IF(ISNA(A268),\"\",IF(LEN(LOOKUP(B268,Database!A:A,Database!O:O))=0,\"\",LOOKUP(B268,Database!A:A,Database!O:O)))","v":""},{"$f":"IF(ISNA(A268),\"\",IF(LEN(LOOKUP(B268,Database!A:A,Database!P:P))=0,\"\",LOOKUP(B268,Database!A:A,Database!P:P)))","v":""},{"$f":"IF(ISNA(A268),\"\",IF(LEN(LOOKUP(B268,Database!A:A,Database!Q:Q))=0,\"\",LOOKUP(B268,Database!A:A,Database!Q:Q)))","v":""},{"$f":"IF(ISNA(A268),\"\",IF(LEN(LOOKUP(B268,Database!A:A,Database!R:R))=0,\"\",LOOKUP(B268,Database!A:A,Database!R:R)))","v":""},{"$f":"IF(ISNA(A268),\"\",IF(LEN(LOOKUP(B268,Database!A:A,Database!S:S))=0,\"\",LOOKUP(B268,Database!A:A,Database!S:S)))","v":""},null,null,null,null,null,null,254,0,null,1,0,null,0.1]
[{"$error":"#N/A"},"2018-09-12",{"$f":"IF(ISNA(A269),\"\",IF(LEN(LOOKUP(B269,Database!A:A,Database!B:B))=0,\"\",LOOKUP(B269,Database!A:A,Database!B:B)))","v":""},{"$f":"IF(ISNA(A269),\"\",IF(LEN(LOOKUP(B269,Database!A:A,Database!C:C))=0,\"\",LOOKUP(B269,Database!A:A,Database!C:C)))","v":""},{"$f":"IF(ISNA(A269),\"\",IF(LEN(LOOKUP(B269,Database!A:A,Database!D:D))=0,\"\",LOOKUP(B269,Database!A:A,Database!D:D)))","v":""},{"$f":"IF(ISNA(A269),\"\",IF(LEN(LOOKUP(B269,Database!A:A,Database!E:E))=0,\"\",LOOKUP(B269,Database!A:A,Database!E:E)))","v":""},{"$f":"IF(ISNA(A269),\"\",IF(LEN(LOOKUP(B269,Database!A:A,Database!F:F))=0,\"\",LOOKUP(B269,Database!A:A,Database!F:F)))","v":""},{"$f":"IF(ISNA(A269),\"\",IF(LEN(LOOKUP(B269,Database!A:A,Database!G:G))=0,\"\",LOOKUP(B269,Database!A:A,Database!G:G)))","v":""},{"$f":"IF(ISNA(A269),\"\",IF(LEN(LOOKUP(B269,Database!A:A,Database!H:H))=0,\"\",LOOKUP(B269,Database!A:A,Database!H:H)))","v":""},{"$f":"IF(ISNA(A269),\"\",IF(LEN(LOOKUP(B269,Database!A:A,Database!I:I))=0,\"\",LOOKUP(B269,Database!A:A,Database!I:I)))","v":""},{"$f":"IF(ISNA(A269),\"\",IF(LEN(LOOKUP(B269,Database!A:A,Database!J:J))=0,\"\",LOOKUP(B269,Database!A:A,Database!J:J)))","v":""},{"$f":"IF(ISNA(A269),\"\",IF(LEN(LOOKUP(B269,Database!A:A,Database!K:K))=0,\"\",LOOKUP(B269,Database!A:A,Database!K:K)))","v":""},{"$f":"IF(ISNA(A269),\"\",IF(LEN(LOOKUP(B269,Database!A:A,Database!L:L))=0,\"\",LOOKUP(B269,Database!A:A,Database!L:L)))","v":""},{"$f":"IF(ISNA(A269),\"\",IF(LEN(LOOKUP(B269,Database!A:A,Database!M:M))=0,\"\",LOOKUP(B269,Database!A:A,Database!M:M)))","v":""},{"$f":"IF(ISNA(A269),\"\",IF(LEN(LOOKUP(B269,Database!A:A,Database!N:N))=0,\"\",LOOKUP(B269,Database!A:A,Database!N:N)))","v":""},{"$f":"IF(ISNA(A269),\"\",IF(LEN(LOOKUP(B269,Database!A:A,Database!O:O))=0,\"\",LOOKUP(B269,Database!A:A,Database!O:O)))","v":""},{"$f":"IF(ISNA(A269),\"\",IF(LEN(LOOKUP(B269,Database!A:A,Database!P:P))=0,\"\",LOOKUP(B269,Database!A:A,Database!P:P)))","v":""},{"$f":"IF(ISNA(A269),\"\",IF(LEN(LOOKUP(B269,Database!A:A,Database!Q:Q))=0,\"\",LOOKUP(B269,Database!A:A,Database!Q:Q)))","v":""},{"$f":"IF(ISNA(A269),\"\",IF(LEN(LOOKUP(B269,Database!A:A,Database!R:R))=0,\"\",LOOKUP(B269,Database!A:A,Database!R:R)))","v":""},{"$f":"IF(ISNA(A269),\"\",IF(LEN(LOOKUP(B269,Database!A:A,Database!S:S))=0,\"\",LOOKUP(B269,Database!A:A,Database!S:S)))","v":""},null,null,null,null,null,null,255,0,null,1,0,null,0.1]
[{"$error":"#N/A"},"2018-09-13",{"$f":"IF(ISNA(A270),\"\",IF(LEN(LOOKUP(B270,Database!A:A,Database!B:B))=0,\"\",LOOKUP(B270,Database!A:A,Database!B:B)))","v":""},{"$f":"IF(ISNA(A270),\"\",IF(LEN(LOOKUP(B270,Database!A:A,Database!C:C))=0,\"\",LOOKUP(B270,Database!A:A,Database!C:C)))","v":""},{"$f":"IF(ISNA(A270),\"\",IF(LEN(LOOKUP(B270,Database!A:A,Database!D:D))=0,\"\",LOOKUP(B270,Database!A:A,Database!D:D)))","v":""},{"$f":"IF(ISNA(A270),\"\",IF(LEN(LOOKUP(B270,Database!A:A,Database!E:E))=0,\"\",LOOKUP(B270,Database!A:A,Database!E:E)))","v":""},{"$f":"IF(ISNA(A270),\"\",IF(LEN(LOOKUP(B270,Database!A:A,Database!F:F))=0,\"\",LOOKUP(B270,Database!A:A,Database!F:F)))","v":""},{"$f":"IF(ISNA(A270),\"\",IF(LEN(LOOKUP(B270,Database!A:A,Database!G:G))=0,\"\",LOOKUP(B270,Database!A:A,Database!G:G)))","v":""},{"$f":"IF(ISNA(A270),\"\",IF(LEN(LOOKUP(B270,Database!A:A,Database!H:H))=0,\"\",LOOKUP(B270,Database!A:A,Database!H:H)))","v":""},{"$f":"IF(ISNA(A270),\"\",IF(LEN(LOOKUP(B270,Database!A:A,Database!I:I))=0,\"\",LOOKUP(B270,Database!A:A,Database!I:I)))","v":""},{"$f":"IF(ISNA(A270),\"\",IF(LEN(LOOKUP(B270,Database!A:A,Database!J:J))=0,\"\",LOOKUP(B270,Database!A:A,Database!J:J)))","v":""},{"$f":"IF(ISNA(A270),\"\",IF(LEN(LOOKUP(B270,Database!A:A,Database!K:K))=0,\"\",LOOKUP(B270,Database!A:A,Database!K:K)))","v":""},{"$f":"IF(ISNA(A270),\"\",IF(LEN(LOOKUP(B270,Database!A:A,Database!L:L))=0,\"\",LOOKUP(B270,Database!A:A,Database!L:L)))","v":""},{"$f":"IF(ISNA(A270),\"\",IF(LEN(LOOKUP(B270,Database!A:A,Database!M:M))=0,\"\",LOOKUP(B270,Database!A:A,Database!M:M)))","v":""},{"$f":"IF(ISNA(A270),\"\",IF(LEN(LOOKUP(B270,Database!A:A,Database!N:N))=0,\"\",LOOKUP(B270,Database!A:A,Database!N:N)))","v":""},{"$f":"IF(ISNA(A270),\"\",IF(LEN(LOOKUP(B270,Database!A:A,Database!O:O))=0,\"\",LOOKUP(B270,Database!A:A,Database!O:O)))","v":""},{"$f":"IF(ISNA(A270),\"\",IF(LEN(LOOKUP(B270,Database!A:A,Database!P:P))=0,\"\",LOOKUP(B270,Database!A:A,Database!P:P)))","v":""},{"$f":"IF(ISNA(A270),\"\",IF(LEN(LOOKUP(B270,Database!A:A,Database!Q:Q))=0,\"\",LOOKUP(B270,Database!A:A,Database!Q:Q)))","v":""},{"$f":"IF(ISNA(A270),\"\",IF(LEN(LOOKUP(B270,Database!A:A,Database!R:R))=0,\"\",LOOKUP(B270,Database!A:A,Database!R:R)))","v":""},{"$f":"IF(ISNA(A270),\"\",IF(LEN(LOOKUP(B270,Database!A:A,Database!S:S))=0,\"\",LOOKUP(B270,Database!A:A,Database!S:S)))","v":""},null,null,null,null,null,null,256,0,null,1,0,null,0.1]
[{"$error":"#N/A"},"2018-09-14",{"$f":"IF(ISNA(A271),\"\",IF(LEN(LOOKUP(B271,Database!A:A,Database!B:B))=0,\"\",LOOKUP(B271,Database!A:A,Database!B:B)))","v":""},{"$f":"IF(ISNA(A271),\"\",IF(LEN(LOOKUP(B271,Database!A:A,Database!C:C))=0,\"\",LOOKUP(B271,Database!A:A,Database!C:C)))","v":""},{"$f":"IF(ISNA(A271),\"\",IF(LEN(LOOKUP(B271,Database!A:A,Database!D:D))=0,\"\",LOOKUP(B271,Database!A:A,Database!D:D)))","v":""},{"$f":"IF(ISNA(A271),\"\",IF(LEN(LOOKUP(B271,Database!A:A,Database!E:E))=0,\"\",LOOKUP(B271,Database!A:A,Database!E:E)))","v":""},{"$f":"IF(ISNA(A271),\"\",IF(LEN(LOOKUP(B271,Database!A:A,Database!F:F))=0,\"\",LOOKUP(B271,Database!A:A,Database!F:F)))","v":""},{"$f":"IF(ISNA(A271),\"\",IF(LEN(LOOKUP(B271,Database!A:A,Database!G:G))=0,\"\",LOOKUP(B271,Database!A:A,Database!G:G)))","v":""},{"$f":"IF(ISNA(A271),\"\",IF(LEN(LOOKUP(B271,Database!A:A,Database!H:H))=0,\"\",LOOKUP(B271,Database!A:A,Database!H:H)))","v":""},{"$f":"IF(ISNA(A271),\"\",IF(LEN(LOOKUP(B271,Database!A:A,Database!I:I))=0,\"\",LOOKUP(B271,Database!A:A,Database!I:I)))","v":""},{"$f":"IF(ISNA(A271),\"\",IF(LEN(LOOKUP(B271,Database!A:A,Database!J:J))=0,\"\",LOOKUP(B271,Database!A:A,Database!J:J)))","v":""},{"$f":"IF(ISNA(A271),\"\",IF(LEN(LOOKUP(B271,Database!A:A,Database!K:K))=0,\"\",LOOKUP(B271,Database!A:A,Database!K:K)))","v":""},{"$f":"IF(ISNA(A271),\"\",IF(LEN(LOOKUP(B271,Database!A:A,Database!L:L))=0,\"\",LOOKUP(B271,Database!A:A,Database!L:L)))","v":""},{"$f":"IF(ISNA(A271),\"\",IF(LEN(LOOKUP(B271,Database!A:A,Database!M:M))=0,\"\",LOOKUP(B271,Database!A:A,Database!M:M)))","v":""},{"$f":"IF(ISNA(A271),\"\",IF(LEN(LOOKUP(B271,Database!A:A,Database!N:N))=0,\"\",LOOKUP(B271,Database!A:A,Database!N:N)))","v":""},{"$f":"IF(ISNA(A271),\"\",IF(LEN(LOOKUP(B271,Database!A:A,Database!O:O))=0,\"\",LOOKUP(B271,Database!A:A,Database!O:O)))","v":""},{"$f":"IF(ISNA(A271),\"\",IF(LEN(LOOKUP(B271,Database!A:A,Database!P:P))=0,\"\",LOOKUP(B271,Database!A:A,Database!P:P)))","v":""},{"$f":"IF(ISNA(A271),\"\",IF(LEN(LOOKUP(B271,Database!A:A,Database!Q:Q))=0,\"\",LOOKUP(B271,Database!A:A,Database!Q:Q)))","v":""},{"$f":"IF(ISNA(A271),\"\",IF(LEN(LOOKUP(B271,Database!A:A,Database!R:R))=0,\"\",LOOKUP(B271,Database!A:A,Database!R:R)))","v":""},{"$f":"IF(ISNA(A271),\"\",IF(LEN(LOOKUP(B271,Database!A:A,Database!S:S))=0,\"\",LOOKUP(B271,Database!A:A,Database!S:S)))","v":""},null,null,null,null,null,null,257,{"$f":"MAX(D271:G271)","v":0},null,{"$f":"$H$4","v":1},0,null,{"$f":"$H$5","v":0.1}]
[{"$f":"VLOOKUP(B272,Database2,1,FALSE)","v":{"$error":"#N/A"}},"2018-09-15",{"$f":"IF(ISNA(A272),\"\",IF(LEN(LOOKUP(B272,Database!A:A,Database!B:B))=0,\"\",LOOKUP(B272,Database!A:A,Database!B:B)))","v":""},{"$f":"IF(ISNA(A272),\"\",IF(LEN(LOOKUP(B272,Database!A:A,Database!C:C))=0,\"\",LOOKUP(B272,Database!A:A,Database!C:C)))","v":""},{"$f":"IF(ISNA(A272),\"\",IF(LEN(LOOKUP(B272,Database!A:A,Database!D:D))=0,\"\",LOOKUP(B272,Database!A:A,Database!D:D)))","v":""},{"$f":"IF(ISNA(A272),\"\",IF(LEN(LOOKUP(B272,Database!A:A,Database!E:E))=0,\"\",LOOKUP(B272,Database!A:A,Database!E:E)))","v":""},{"$f":"IF(ISNA(A272),\"\",IF(LEN(LOOKUP(B272,Database!A:A,Database!F:F))=0,\"\",LOOKUP(B272,Database!A:A,Database!F:F)))","v":""},{"$f":"IF(ISNA(A272),\"\",IF(LEN(LOOKUP(B272,Database!A:A,Database!G:G))=0,\"\",LOOKUP(B272,Database!A:A,Database!G:G)))","v":""},{"$f":"IF(ISNA(A272),\"\",IF(LEN(LOOKUP(B272,Database!A:A,Database!H:H))=0,\"\",LOOKUP(B272,Database!A:A,Database!H:H)))","v":""},{"$f":"IF(ISNA(A272),\"\",IF(LEN(LOOKUP(B272,Database!A:A,Database!I:I))=0,\"\",LOOKUP(B272,Database!A:A,Database!I:I)))","v":""},{"$f":"IF(ISNA(A272),\"\",IF(LEN(LOOKUP(B272,Database!A:A,Database!J:J))=0,\"\",LOOKUP(B272,Database!A:A,Database!J:J)))","v":""},{"$f":"IF(ISNA(A272),\"\",IF(LEN(LOOKUP(B272,Database!A:A,Database!K:K))=0,\"\",LOOKUP(B272,Database!A:A,Database!K:K)))","v":""},{"$f":"IF(ISNA(A272),\"\",IF(LEN(LOOKUP(B272,Database!A:A,Database!L:L))=0,\"\",LOOKUP(B272,Database!A:A,Database!L:L)))","v":""},{"$f":"IF(ISNA(A272),\"\",IF(LEN(LOOKUP(B272,Database!A:A,Database!M:M))=0,\"\",LOOKUP(B272,Database!A:A,Database!M:M)))","v":""},{"$f":"IF(ISNA(A272),\"\",IF(LEN(LOOKUP(B272,Database!A:A,Database!N:N))=0,\"\",LOOKUP(B272,Database!A:A,Database!N:N)))","v":""},{"$f":"IF(ISNA(A272),\"\",IF(LEN(LOOKUP(B272,Database!A:A,Database!O:O))=0,\"\",LOOKUP(B272,Database!A:A,Database!O:O)))","v":""},{"$f":"IF(ISNA(A272),\"\",IF(LEN(LOOKUP(B272,Database!A:A,Database!P:P))=0,\"\",LOOKUP(B272,Database!A:A,Database!P:P)))","v":""},{"$f":"IF(ISNA(A272),\"\",IF(LEN(LOOKUP(B272,Database!A:A,Database!Q:Q))=0,\"\",LOOKUP(B272,Database!A:A,Database!Q:Q)))","v":""},{"$f":"IF(ISNA(A272),\"\",IF(LEN(LOOKUP(B272,Database!A:A,Database!R:R))=0,\"\",LOOKUP(B272,Database!A:A,Database!R:R)))","v":""},{"$f":"IF(ISNA(A272),\"\",IF(LEN(LOOKUP(B272,Database!A:A,Database!S:S))=0,\"\",LOOKUP(B272,Database!A:A,Database!S:S)))","v":""},null,null,null,null,null,null,{"$f":"AA271+1","v":258},0,null,1,{"$f":"MAX(H272:S272)","v":0},null,0.1]
[{"$error":"#N/A"},"2018-09-16",{"$f":"IF(ISNA(A273),\"\",IF(LEN(LOOKUP(B273,Database!A:A,Database!B:B))=0,\"\",LOOKUP(B273,Database!A:A,Database!B:B)))","v":""},{"$f":"IF(ISNA(A273),\"\",IF(LEN(LOOKUP(B273,Database!A:A,Database!C:C))=0,\"\",LOOKUP(B273,Database!A:A,Database!C:C)))","v":""},{"$f":"IF(ISNA(A273),\"\",IF(LEN(LOOKUP(B273,Database!A:A,Database!D:D))=0,\"\",LOOKUP(B273,Database!A:A,Database!D:D)))","v":""},{"$f":"IF(ISNA(A273),\"\",IF(LEN(LOOKUP(B273,Database!A:A,Database!E:E))=0,\"\",LOOKUP(B273,Database!A:A,Database!E:E)))","v":""},{"$f":"IF(ISNA(A273),\"\",IF(LEN(LOOKUP(B273,Database!A:A,Database!F:F))=0,\"\",LOOKUP(B273,Database!A:A,Database!F:F)))","v":""},{"$f":"IF(ISNA(A273),\"\",IF(LEN(LOOKUP(B273,Database!A:A,Database!G:G))=0,\"\",LOOKUP(B273,Database!A:A,Database!G:G)))","v":""},{"$f":"IF(ISNA(A273),\"\",IF(LEN(LOOKUP(B273,Database!A:A,Database!H:H))=0,\"\",LOOKUP(B273,Database!A:A,Database!H:H)))","v":""},{"$f":"IF(ISNA(A273),\"\",IF(LEN(LOOKUP(B273,Database!A:A,Database!I:I))=0,\"\",LOOKUP(B273,Database!A:A,Database!I:I)))","v":""},{"$f":"IF(ISNA(A273),\"\",IF(LEN(LOOKUP(B273,Database!A:A,Database!J:J))=0,\"\",LOOKUP(B273,Database!A:A,Database!J:J)))","v":""},{"$f":"IF(ISNA(A273),\"\",IF(LEN(LOOKUP(B273,Database!A:A,Database!K:K))=0,\"\",LOOKUP(B273,Database!A:A,Database!K:K)))","v":""},{"$f":"IF(ISNA(A273),\"\",IF(LEN(LOOKUP(B273,Database!A:A,Database!L:L))=0,\"\",LOOKUP(B273,Database!A:A,Database!L:L)))","v":""},{"$f":"IF(ISNA(A273),\"\",IF(LEN(LOOKUP(B273,Database!A:A,Database!M:M))=0,\"\",LOOKUP(B273,Database!A:A,Database!M:M)))","v":""},{"$f":"IF(ISNA(A273),\"\",IF(LEN(LOOKUP(B273,Database!A:A,Database!N:N))=0,\"\",LOOKUP(B273,Database!A:A,Database!N:N)))","v":""},{"$f":"IF(ISNA(A273),\"\",IF(LEN(LOOKUP(B273,Database!A:A,Database!O:O))=0,\"\",LOOKUP(B273,Database!A:A,Database!O:O)))","v":""},{"$f":"IF(ISNA(A273),\"\",IF(LEN(LOOKUP(B273,Database!A:A,Database!P:P))=0,\"\",LOOKUP(B273,Database!A:A,Database!P:P)))","v":""},{"$f":"IF(ISNA(A273),\"\",IF(LEN(LOOKUP(B273,Database!A:A,Database!Q:Q))=0,\"\",LOOKUP(B273,Database!A:A,Database!Q:Q)))","v":""},{"$f":"IF(ISNA(A273),\"\",IF(LEN(LOOKUP(B273,Database!A:A,Database!R:R))=0,\"\",LOOKUP(B273,Database!A:A,Database!R:R)))","v":""},{"$f":"IF(ISNA(A273),\"\",IF(LEN(LOOKUP(B273,Database!A:A,Database!S:S))=0,\"\",LOOKUP(B273,Database!A:A,Database!S:S)))","v":""},null,null,null,null,null,null,259,0,null,1,0,null,0.1]
[{"$error":"#N/A"},{"$f":"B273+1","v":"2018-09-17"},{"$f":"IF(ISNA(A274),\"\",IF(LEN(LOOKUP(B274,Database!A:A,Database!B:B))=0,\"\",LOOKUP(B274,Database!A:A,Database!B:B)))","v":""},{"$f":"IF(ISNA(A274),\"\",IF(LEN(LOOKUP(B274,Database!A:A,Database!C:C))=0,\"\",LOOKUP(B274,Database!A:A,Database!C:C)))","v":""},{"$f":"IF(ISNA(A274),\"\",IF(LEN(LOOKUP(B274,Database!A:A,Database!D:D))=0,\"\",LOOKUP(B274,Database!A:A,Database!D:D)))","v":""},{"$f":"IF(ISNA(A274),\"\",IF(LEN(LOOKUP(B274,Database!A:A,Database!E:E))=0,\"\",LOOKUP(B274,Database!A:A,Database!E:E)))","v":""},{"$f":"IF(ISNA(A274),\"\",IF(LEN(LOOKUP(B274,Database!A:A,Database!F:F))=0,\"\",LOOKUP(B274,Database!A:A,Database!F:F)))","v":""},{"$f":"IF(ISNA(A274),\"\",IF(LEN(LOOKUP(B274,Database!A:A,Database!G:G))=0,\"\",LOOKUP(B274,Database!A:A,Database!G:G)))","v":""},{"$f":"IF(ISNA(A274),\"\",IF(LEN(LOOKUP(B274,Database!A:A,Database!H:H))=0,\"\",LOOKUP(B274,Database!A:A,Database!H:H)))","v":""},{"$f":"IF(ISNA(A274),\"\",IF(LEN(LOOKUP(B274,Database!A:A,Database!I:I))=0,\"\",LOOKUP(B274,Database!A:A,Database!I:I)))","v":""},{"$f":"IF(ISNA(A274),\"\",IF(LEN(LOOKUP(B274,Database!A:A,Database!J:J))=0,\"\",LOOKUP(B274,Database!A:A,Database!J:J)))","v":""},{"$f":"IF(ISNA(A274),\"\",IF(LEN(LOOKUP(B274,Database!A:A,Database!K:K))=0,\"\",LOOKUP(B274,Database!A:A,Database!K:K)))","v":""},{"$f":"IF(ISNA(A274),\"\",IF(LEN(LOOKUP(B274,Database!A:A,Database!L:L))=0,\"\",LOOKUP(B274,Database!A:A,Database!L:L)))","v":""},{"$f":"IF(ISNA(A274),\"\",IF(LEN(LOOKUP(B274,Database!A:A,Database!M:M))=0,\"\",LOOKUP(B274,Database!A:A,Database!M:M)))","v":""},{"$f":"IF(ISNA(A274),\"\",IF(LEN(LOOKUP(B274,Database!A:A,Database!N:N))=0,\"\",LOOKUP(B274,Database!A:A,Database!N:N)))","v":""},{"$f":"IF(ISNA(A274),\"\",IF(LEN(LOOKUP(B274,Database!A:A,Database!O:O))=0,\"\",LOOKUP(B274,Database!A:A,Database!O:O)))","v":""},{"$f":"IF(ISNA(A274),\"\",IF(LEN(LOOKUP(B274,Database!A:A,Database!P:P))=0,\"\",LOOKUP(B274,Database!A:A,Database!P:P)))","v":""},{"$f":"IF(ISNA(A274),\"\",IF(LEN(LOOKUP(B274,Database!A:A,Database!Q:Q))=0,\"\",LOOKUP(B274,Database!A:A,Database!Q:Q)))","v":""},{"$f":"IF(ISNA(A274),\"\",IF(LEN(LOOKUP(B274,Database!A:A,Database!R:R))=0,\"\",LOOKUP(B274,Database!A:A,Database!R:R)))","v":""},{"$f":"IF(ISNA(A274),\"\",IF(LEN(LOOKUP(B274,Database!A:A,Database!S:S))=0,\"\",LOOKUP(B274,Database!A:A,Database!S:S)))","v":""},null,null,null,null,null,null,260,0,null,1,0,null,0.1]
[{"$error":"#N/A"},"2018-09-18",{"$f":"IF(ISNA(A275),\"\",IF(LEN(LOOKUP(B275,Database!A:A,Database!B:B))=0,\"\",LOOKUP(B275,Database!A:A,Database!B:B)))","v":""},{"$f":"IF(ISNA(A275),\"\",IF(LEN(LOOKUP(B275,Database!A:A,Database!C:C))=0,\"\",LOOKUP(B275,Database!A:A,Database!C:C)))","v":""},{"$f":"IF(ISNA(A275),\"\",IF(LEN(LOOKUP(B275,Database!A:A,Database!D:D))=0,\"\",LOOKUP(B275,Database!A:A,Database!D:D)))","v":""},{"$f":"IF(ISNA(A275),\"\",IF(LEN(LOOKUP(B275,Database!A:A,Database!E:E))=0,\"\",LOOKUP(B275,Database!A:A,Database!E:E)))","v":""},{"$f":"IF(ISNA(A275),\"\",IF(LEN(LOOKUP(B275,Database!A:A,Database!F:F))=0,\"\",LOOKUP(B275,Database!A:A,Database!F:F)))","v":""},{"$f":"IF(ISNA(A275),\"\",IF(LEN(LOOKUP(B275,Database!A:A,Database!G:G))=0,\"\",LOOKUP(B275,Database!A:A,Database!G:G)))","v":""},{"$f":"IF(ISNA(A275),\"\",IF(LEN(LOOKUP(B275,Database!A:A,Database!H:H))=0,\"\",LOOKUP(B275,Database!A:A,Database!H:H)))","v":""},{"$f":"IF(ISNA(A275),\"\",IF(LEN(LOOKUP(B275,Database!A:A,Database!I:I))=0,\"\",LOOKUP(B275,Database!A:A,Database!I:I)))","v":""},{"$f":"IF(ISNA(A275),\"\",IF(LEN(LOOKUP(B275,Database!A:A,Database!J:J))=0,\"\",LOOKUP(B275,Database!A:A,Database!J:J)))","v":""},{"$f":"IF(ISNA(A275),\"\",IF(LEN(LOOKUP(B275,Database!A:A,Database!K:K))=0,\"\",LOOKUP(B275,Database!A:A,Database!K:K)))","v":""},{"$f":"IF(ISNA(A275),\"\",IF(LEN(LOOKUP(B275,Database!A:A,Database!L:L))=0,\"\",LOOKUP(B275,Database!A:A,Database!L:L)))","v":""},{"$f":"IF(ISNA(A275),\"\",IF(LEN(LOOKUP(B275,Database!A:A,Database!M:M))=0,\"\",LOOKUP(B275,Database!A:A,Database!M:M)))","v":""},{"$f":"IF(ISNA(A275),\"\",IF(LEN(LOOKUP(B275,Database!A:A,Database!N:N))=0,\"\",LOOKUP(B275,Database!A:A,Database!N:N)))","v":""},{"$f":"IF(ISNA(A275),\"\",IF(LEN(LOOKUP(B275,Database!A:A,Database!O:O))=0,\"\",LOOKUP(B275,Database!A:A,Database!O:O)))","v":""},{"$f":"IF(ISNA(A275),\"\",IF(LEN(LOOKUP(B275,Database!A:A,Database!P:P))=0,\"\",LOOKUP(B275,Database!A:A,Database!P:P)))","v":""},{"$f":"IF(ISNA(A275),\"\",IF(LEN(LOOKUP(B275,Database!A:A,Database!Q:Q))=0,\"\",LOOKUP(B275,Database!A:A,Database!Q:Q)))","v":""},{"$f":"IF(ISNA(A275),\"\",IF(LEN(LOOKUP(B275,Database!A:A,Database!R:R))=0,\"\",LOOKUP(B275,Database!A:A,Database!R:R)))","v":""},{"$f":"IF(ISNA(A275),\"\",IF(LEN(LOOKUP(B275,Database!A:A,Database!S:S))=0,\"\",LOOKUP(B275,Database!A:A,Database!S:S)))","v":""},null,null,null,null,null,null,261,0,null,1,0,null,0.1]
[{"$error":"#N/A"},"2018-09-19",{"$f":"IF(ISNA(A276),\"\",IF(LEN(LOOKUP(B276,Database!A:A,Database!B:B))=0,\"\",LOOKUP(B276,Database!A:A,Database!B:B)))","v":""},{"$f":"IF(ISNA(A276),\"\",IF(LEN(LOOKUP(B276,Database!A:A,Database!C:C))=0,\"\",LOOKUP(B276,Database!A:A,Database!C:C)))","v":""},{"$f":"IF(ISNA(A276),\"\",IF(LEN(LOOKUP(B276,Database!A:A,Database!D:D))=0,\"\",LOOKUP(B276,Database!A:A,Database!D:D)))","v":""},{"$f":"IF(ISNA(A276),\"\",IF(LEN(LOOKUP(B276,Database!A:A,Database!E:E))=0,\"\",LOOKUP(B276,Database!A:A,Database!E:E)))","v":""},{"$f":"IF(ISNA(A276),\"\",IF(LEN(LOOKUP(B276,Database!A:A,Database!F:F))=0,\"\",LOOKUP(B276,Database!A:A,Database!F:F)))","v":""},{"$f":"IF(ISNA(A276),\"\",IF(LEN(LOOKUP(B276,Database!A:A,Database!G:G))=0,\"\",LOOKUP(B276,Database!A:A,Database!G:G)))","v":""},{"$f":"IF(ISNA(A276),\"\",IF(LEN(LOOKUP(B276,Database!A:A,Database!H:H))=0,\"\",LOOKUP(B276,Database!A:A,Database!H:H)))","v":""},{"$f":"IF(ISNA(A276),\"\",IF(LEN(LOOKUP(B276,Database!A:A,Database!I:I))=0,\"\",LOOKUP(B276,Database!A:A,Database!I:I)))","v":""},{"$f":"IF(ISNA(A276),\"\",IF(LEN(LOOKUP(B276,Database!A:A,Database!J:J))=0,\"\",LOOKUP(B276,Database!A:A,Database!J:J)))","v":""},{"$f":"IF(ISNA(A276),\"\",IF(LEN(LOOKUP(B276,Database!A:A,Database!K:K))=0,\"\",LOOKUP(B276,Database!A:A,Database!K:K)))","v":""},{"$f":"IF(ISNA(A276),\"\",IF(LEN(LOOKUP(B276,Database!A:A,Database!L:L))=0,\"\",LOOKUP(B276,Database!A:A,Database!L:L)))","v":""},{"$f":"IF(ISNA(A276),\"\",IF(LEN(LOOKUP(B276,Database!A:A,Database!M:M))=0,\"\",LOOKUP(B276,Database!A:A,Database!M:M)))","v":""},{"$f":"IF(ISNA(A276),\"\",IF(LEN(LOOKUP(B276,Database!A:A,Database!N:N))=0,\"\",LOOKUP(B276,Database!A:A,Database!N:N)))","v":""},{"$f":"IF(ISNA(A276),\"\",IF(LEN(LOOKUP(B276,Database!A:A,Database!O:O))=0,\"\",LOOKUP(B276,Database!A:A,Database!O:O)))","v":""},{"$f":"IF(ISNA(A276),\"\",IF(LEN(LOOKUP(B276,Database!A:A,Database!P:P))=0,\"\",LOOKUP(B276,Database!A:A,Database!P:P)))","v":""},{"$f":"IF(ISNA(A276),\"\",IF(LEN(LOOKUP(B276,Database!A:A,Database!Q:Q))=0,\"\",LOOKUP(B276,Database!A:A,Database!Q:Q)))","v":""},{"$f":"IF(ISNA(A276),\"\",IF(LEN(LOOKUP(B276,Database!A:A,Database!R:R))=0,\"\",LOOKUP(B276,Database!A:A,Database!R:R)))","v":""},{"$f":"IF(ISNA(A276),\"\",IF(LEN(LOOKUP(B276,Database!A:A,Database!S:S))=0,\"\",LOOKUP(B276,Database!A:A,Database!S:S)))","v":""},null,null,null,null,null,null,262,0,null,1,0,null,0.1]
[{"$error":"#N/A"},"2018-09-20",{"$f":"IF(ISNA(A277),\"\",IF(LEN(LOOKUP(B277,Database!A:A,Database!B:B))=0,\"\",LOOKUP(B277,Database!A:A,Database!B:B)))","v":""},{"$f":"IF(ISNA(A277),\"\",IF(LEN(LOOKUP(B277,Database!A:A,Database!C:C))=0,\"\",LOOKUP(B277,Database!A:A,Database!C:C)))","v":""},{"$f":"IF(ISNA(A277),\"\",IF(LEN(LOOKUP(B277,Database!A:A,Database!D:D))=0,\"\",LOOKUP(B277,Database!A:A,Database!D:D)))","v":""},{"$f":"IF(ISNA(A277),\"\",IF(LEN(LOOKUP(B277,Database!A:A,Database!E:E))=0,\"\",LOOKUP(B277,Database!A:A,Database!E:E)))","v":""},{"$f":"IF(ISNA(A277),\"\",IF(LEN(LOOKUP(B277,Database!A:A,Database!F:F))=0,\"\",LOOKUP(B277,Database!A:A,Database!F:F)))","v":""},{"$f":"IF(ISNA(A277),\"\",IF(LEN(LOOKUP(B277,Database!A:A,Database!G:G))=0,\"\",LOOKUP(B277,Database!A:A,Database!G:G)))","v":""},{"$f":"IF(ISNA(A277),\"\",IF(LEN(LOOKUP(B277,Database!A:A,Database!H:H))=0,\"\",LOOKUP(B277,Database!A:A,Database!H:H)))","v":""},{"$f":"IF(ISNA(A277),\"\",IF(LEN(LOOKUP(B277,Database!A:A,Database!I:I))=0,\"\",LOOKUP(B277,Database!A:A,Database!I:I)))","v":""},{"$f":"IF(ISNA(A277),\"\",IF(LEN(LOOKUP(B277,Database!A:A,Database!J:J))=0,\"\",LOOKUP(B277,Database!A:A,Database!J:J)))","v":""},{"$f":"IF(ISNA(A277),\"\",IF(LEN(LOOKUP(B277,Database!A:A,Database!K:K))=0,\"\",LOOKUP(B277,Database!A:A,Database!K:K)))","v":""},{"$f":"IF(ISNA(A277),\"\",IF(LEN(LOOKUP(B277,Database!A:A,Database!L:L))=0,\"\",LOOKUP(B277,Database!A:A,Database!L:L)))","v":""},{"$f":"IF(ISNA(A277),\"\",IF(LEN(LOOKUP(B277,Database!A:A,Database!M:M))=0,\"\",LOOKUP(B277,Database!A:A,Database!M:M)))","v":""},{"$f":"IF(ISNA(A277),\"\",IF(LEN(LOOKUP(B277,Database!A:A,Database!N:N))=0,\"\",LOOKUP(B277,Database!A:A,Database!N:N)))","v":""},{"$f":"IF(ISNA(A277),\"\",IF(LEN(LOOKUP(B277,Database!A:A,Database!O:O))=0,\"\",LOOKUP(B277,Database!A:A,Database!O:O)))","v":""},{"$f":"IF(ISNA(A277),\"\",IF(LEN(LOOKUP(B277,Database!A:A,Database!P:P))=0,\"\",LOOKUP(B277,Database!A:A,Database!P:P)))","v":""},{"$f":"IF(ISNA(A277),\"\",IF(LEN(LOOKUP(B277,Database!A:A,Database!Q:Q))=0,\"\",LOOKUP(B277,Database!A:A,Database!Q:Q)))","v":""},{"$f":"IF(ISNA(A277),\"\",IF(LEN(LOOKUP(B277,Database!A:A,Database!R:R))=0,\"\",LOOKUP(B277,Database!A:A,Database!R:R)))","v":""},{"$f":"IF(ISNA(A277),\"\",IF(LEN(LOOKUP(B277,Database!A:A,Database!S:S))=0,\"\",LOOKUP(B277,Database!A:A,Database!S:S)))","v":""},null,null,null,null,null,null,263,0,null,1,0,null,0.1]
[{"$error":"#N/A"},"2018-09-21",{"$f":"IF(ISNA(A278),\"\",IF(LEN(LOOKUP(B278,Database!A:A,Database!B:B))=0,\"\",LOOKUP(B278,Database!A:A,Database!B:B)))","v":""},{"$f":"IF(ISNA(A278),\"\",IF(LEN(LOOKUP(B278,Database!A:A,Database!C:C))=0,\"\",LOOKUP(B278,Database!A:A,Database!C:C)))","v":""},{"$f":"IF(ISNA(A278),\"\",IF(LEN(LOOKUP(B278,Database!A:A,Database!D:D))=0,\"\",LOOKUP(B278,Database!A:A,Database!D:D)))","v":""},{"$f":"IF(ISNA(A278),\"\",IF(LEN(LOOKUP(B278,Database!A:A,Database!E:E))=0,\"\",LOOKUP(B278,Database!A:A,Database!E:E)))","v":""},{"$f":"IF(ISNA(A278),\"\",IF(LEN(LOOKUP(B278,Database!A:A,Database!F:F))=0,\"\",LOOKUP(B278,Database!A:A,Database!F:F)))","v":""},{"$f":"IF(ISNA(A278),\"\",IF(LEN(LOOKUP(B278,Database!A:A,Database!G:G))=0,\"\",LOOKUP(B278,Database!A:A,Database!G:G)))","v":""},{"$f":"IF(ISNA(A278),\"\",IF(LEN(LOOKUP(B278,Database!A:A,Database!H:H))=0,\"\",LOOKUP(B278,Database!A:A,Database!H:H)))","v":""},{"$f":"IF(ISNA(A278),\"\",IF(LEN(LOOKUP(B278,Database!A:A,Database!I:I))=0,\"\",LOOKUP(B278,Database!A:A,Database!I:I)))","v":""},{"$f":"IF(ISNA(A278),\"\",IF(LEN(LOOKUP(B278,Database!A:A,Database!J:J))=0,\"\",LOOKUP(B278,Database!A:A,Database!J:J)))","v":""},{"$f":"IF(ISNA(A278),\"\",IF(LEN(LOOKUP(B278,Database!A:A,Database!K:K))=0,\"\",LOOKUP(B278,Database!A:A,Database!K:K)))","v":""},{"$f":"IF(ISNA(A278),\"\",IF(LEN(LOOKUP(B278,Database!A:A,Database!L:L))=0,\"\",LOOKUP(B278,Database!A:A,Database!L:L)))","v":""},{"$f":"IF(ISNA(A278),\"\",IF(LEN(LOOKUP(B278,Database!A:A,Database!M:M))=0,\"\",LOOKUP(B278,Database!A:A,Database!M:M)))","v":""},{"$f":"IF(ISNA(A278),\"\",IF(LEN(LOOKUP(B278,Database!A:A,Database!N:N))=0,\"\",LOOKUP(B278,Database!A:A,Database!N:N)))","v":""},{"$f":"IF(ISNA(A278),\"\",IF(LEN(LOOKUP(B278,Database!A:A,Database!O:O))=0,\"\",LOOKUP(B278,Database!A:A,Database!O:O)))","v":""},{"$f":"IF(ISNA(A278),\"\",IF(LEN(LOOKUP(B278,Database!A:A,Database!P:P))=0,\"\",LOOKUP(B278,Database!A:A,Database!P:P)))","v":""},{"$f":"IF(ISNA(A278),\"\",IF(LEN(LOOKUP(B278,Database!A:A,Database!Q:Q))=0,\"\",LOOKUP(B278,Database!A:A,Database!Q:Q)))","v":""},{"$f":"IF(ISNA(A278),\"\",IF(LEN(LOOKUP(B278,Database!A:A,Database!R:R))=0,\"\",LOOKUP(B278,Database!A:A,Database!R:R)))","v":""},{"$f":"IF(ISNA(A278),\"\",IF(LEN(LOOKUP(B278,Database!A:A,Database!S:S))=0,\"\",LOOKUP(B278,Database!A:A,Database!S:S)))","v":""},null,null,null,null,null,null,264,0,null,1,0,null,0.1]
[{"$error":"#N/A"},"2018-09-22",{"$f":"IF(ISNA(A279),\"\",IF(LEN(LOOKUP(B279,Database!A:A,Database!B:B))=0,\"\",LOOKUP(B279,Database!A:A,Database!B:B)))","v":""},{"$f":"IF(ISNA(A279),\"\",IF(LEN(LOOKUP(B279,Database!A:A,Database!C:C))=0,\"\",LOOKUP(B279,Database!A:A,Database!C:C)))","v":""},{"$f":"IF(ISNA(A279),\"\",IF(LEN(LOOKUP(B279,Database!A:A,Database!D:D))=0,\"\",LOOKUP(B279,Database!A:A,Database!D:D)))","v":""},{"$f":"IF(ISNA(A279),\"\",IF(LEN(LOOKUP(B279,Database!A:A,Database!E:E))=0,\"\",LOOKUP(B279,Database!A:A,Database!E:E)))","v":""},{"$f":"IF(ISNA(A279),\"\",IF(LEN(LOOKUP(B279,Database!A:A,Database!F:F))=0,\"\",LOOKUP(B279,Database!A:A,Database!F:F)))","v":""},{"$f":"IF(ISNA(A279),\"\",IF(LEN(LOOKUP(B279,Database!A:A,Database!G:G))=0,\"\",LOOKUP(B279,Database!A:A,Database!G:G)))","v":""},{"$f":"IF(ISNA(A279),\"\",IF(LEN(LOOKUP(B279,Database!A:A,Database!H:H))=0,\"\",LOOKUP(B279,Database!A:A,Database!H:H)))","v":""},{"$f":"IF(ISNA(A279),\"\",IF(LEN(LOOKUP(B279,Database!A:A,Database!I:I))=0,\"\",LOOKUP(B279,Database!A:A,Database!I:I)))","v":""},{"$f":"IF(ISNA(A279),\"\",IF(LEN(LOOKUP(B279,Database!A:A,Database!J:J))=0,\"\",LOOKUP(B279,Database!A:A,Database!J:J)))","v":""},{"$f":"IF(ISNA(A279),\"\",IF(LEN(LOOKUP(B279,Database!A:A,Database!K:K))=0,\"\",LOOKUP(B279,Database!A:A,Database!K:K)))","v":""},{"$f":"IF(ISNA(A279),\"\",IF(LEN(LOOKUP(B279,Database!A:A,Database!L:L))=0,\"\",LOOKUP(B279,Database!A:A,Database!L:L)))","v":""},{"$f":"IF(ISNA(A279),\"\",IF(LEN(LOOKUP(B279,Database!A:A,Database!M:M))=0,\"\",LOOKUP(B279,Database!A:A,Database!M:M)))","v":""},{"$f":"IF(ISNA(A279),\"\",IF(LEN(LOOKUP(B279,Database!A:A,Database!N:N))=0,\"\",LOOKUP(B279,Database!A:A,Database!N:N)))","v":""},{"$f":"IF(ISNA(A279),\"\",IF(LEN(LOOKUP(B279,Database!A:A,Database!O:O))=0,\"\",LOOKUP(B279,Database!A:A,Database!O:O)))","v":""},{"$f":"IF(ISNA(A279),\"\",IF(LEN(LOOKUP(B279,Database!A:A,Database!P:P))=0,\"\",LOOKUP(B279,Database!A:A,Database!P:P)))","v":""},{"$f":"IF(ISNA(A279),\"\",IF(LEN(LOOKUP(B279,Database!A:A,Database!Q:Q))=0,\"\",LOOKUP(B279,Database!A:A,Database!Q:Q)))","v":""},{"$f":"IF(ISNA(A279),\"\",IF(LEN(LOOKUP(B279,Database!A:A,Database!R:R))=0,\"\",LOOKUP(B279,Database!A:A,Database!R:R)))","v":""},{"$f":"IF(ISNA(A279),\"\",IF(LEN(LOOKUP(B279,Database!A:A,Database!S:S))=0,\"\",LOOKUP(B279,Database!A:A,Database!S:S)))","v":""},null,null,null,null,null,null,265,0,null,1,0,null,0.1]
[{"$error":"#N/A"},"2018-09-23",{"$f":"IF(ISNA(A280),\"\",IF(LEN(LOOKUP(B280,Database!A:A,Database!B:B))=0,\"\",LOOKUP(B280,Database!A:A,Database!B:B)))","v":""},{"$f":"IF(ISNA(A280),\"\",IF(LEN(LOOKUP(B280,Database!A:A,Database!C:C))=0,\"\",LOOKUP(B280,Database!A:A,Database!C:C)))","v":""},{"$f":"IF(ISNA(A280),\"\",IF(LEN(LOOKUP(B280,Database!A:A,Database!D:D))=0,\"\",LOOKUP(B280,Database!A:A,Database!D:D)))","v":""},{"$f":"IF(ISNA(A280),\"\",IF(LEN(LOOKUP(B280,Database!A:A,Database!E:E))=0,\"\",LOOKUP(B280,Database!A:A,Database!E:E)))","v":""},{"$f":"IF(ISNA(A280),\"\",IF(LEN(LOOKUP(B280,Database!A:A,Database!F:F))=0,\"\",LOOKUP(B280,Database!A:A,Database!F:F)))","v":""},{"$f":"IF(ISNA(A280),\"\",IF(LEN(LOOKUP(B280,Database!A:A,Database!G:G))=0,\"\",LOOKUP(B280,Database!A:A,Database!G:G)))","v":""},{"$f":"IF(ISNA(A280),\"\",IF(LEN(LOOKUP(B280,Database!A:A,Database!H:H))=0,\"\",LOOKUP(B280,Database!A:A,Database!H:H)))","v":""},{"$f":"IF(ISNA(A280),\"\",IF(LEN(LOOKUP(B280,Database!A:A,Database!I:I))=0,\"\",LOOKUP(B280,Database!A:A,Database!I:I)))","v":""},{"$f":"IF(ISNA(A280),\"\",IF(LEN(LOOKUP(B280,Database!A:A,Database!J:J))=0,\"\",LOOKUP(B280,Database!A:A,Database!J:J)))","v":""},{"$f":"IF(ISNA(A280),\"\",IF(LEN(LOOKUP(B280,Database!A:A,Database!K:K))=0,\"\",LOOKUP(B280,Database!A:A,Database!K:K)))","v":""},{"$f":"IF(ISNA(A280),\"\",IF(LEN(LOOKUP(B280,Database!A:A,Database!L:L))=0,\"\",LOOKUP(B280,Database!A:A,Database!L:L)))","v":""},{"$f":"IF(ISNA(A280),\"\",IF(LEN(LOOKUP(B280,Database!A:A,Database!M:M))=0,\"\",LOOKUP(B280,Database!A:A,Database!M:M)))","v":""},{"$f":"IF(ISNA(A280),\"\",IF(LEN(LOOKUP(B280,Database!A:A,Database!N:N))=0,\"\",LOOKUP(B280,Database!A:A,Database!N:N)))","v":""},{"$f":"IF(ISNA(A280),\"\",IF(LEN(LOOKUP(B280,Database!A:A,Database!O:O))=0,\"\",LOOKUP(B280,Database!A:A,Database!O:O)))","v":""},{"$f":"IF(ISNA(A280),\"\",IF(LEN(LOOKUP(B280,Database!A:A,Database!P:P))=0,\"\",LOOKUP(B280,Database!A:A,Database!P:P)))","v":""},{"$f":"IF(ISNA(A280),\"\",IF(LEN(LOOKUP(B280,Database!A:A,Database!Q:Q))=0,\"\",LOOKUP(B280,Database!A:A,Database!Q:Q)))","v":""},{"$f":"IF(ISNA(A280),\"\",IF(LEN(LOOKUP(B280,Database!A:A,Database!R:R))=0,\"\",LOOKUP(B280,Database!A:A,Database!R:R)))","v":""},{"$f":"IF(ISNA(A280),\"\",IF(LEN(LOOKUP(B280,Database!A:A,Database!S:S))=0,\"\",LOOKUP(B280,Database!A:A,Database!S:S)))","v":""},null,null,null,null,null,null,266,0,null,1,0,null,0.1]
[{"$error":"#N/A"},"2018-09-24",{"$f":"IF(ISNA(A281),\"\",IF(LEN(LOOKUP(B281,Database!A:A,Database!B:B))=0,\"\",LOOKUP(B281,Database!A:A,Database!B:B)))","v":""},{"$f":"IF(ISNA(A281),\"\",IF(LEN(LOOKUP(B281,Database!A:A,Database!C:C))=0,\"\",LOOKUP(B281,Database!A:A,Database!C:C)))","v":""},{"$f":"IF(ISNA(A281),\"\",IF(LEN(LOOKUP(B281,Database!A:A,Database!D:D))=0,\"\",LOOKUP(B281,Database!A:A,Database!D:D)))","v":""},{"$f":"IF(ISNA(A281),\"\",IF(LEN(LOOKUP(B281,Database!A:A,Database!E:E))=0,\"\",LOOKUP(B281,Database!A:A,Database!E:E)))","v":""},{"$f":"IF(ISNA(A281),\"\",IF(LEN(LOOKUP(B281,Database!A:A,Database!F:F))=0,\"\",LOOKUP(B281,Database!A:A,Database!F:F)))","v":""},{"$f":"IF(ISNA(A281),\"\",IF(LEN(LOOKUP(B281,Database!A:A,Database!G:G))=0,\"\",LOOKUP(B281,Database!A:A,Database!G:G)))","v":""},{"$f":"IF(ISNA(A281),\"\",IF(LEN(LOOKUP(B281,Database!A:A,Database!H:H))=0,\"\",LOOKUP(B281,Database!A:A,Database!H:H)))","v":""},{"$f":"IF(ISNA(A281),\"\",IF(LEN(LOOKUP(B281,Database!A:A,Database!I:I))=0,\"\",LOOKUP(B281,Database!A:A,Database!I:I)))","v":""},{"$f":"IF(ISNA(A281),\"\",IF(LEN(LOOKUP(B281,Database!A:A,Database!J:J))=0,\"\",LOOKUP(B281,Database!A:A,Database!J:J)))","v":""},{"$f":"IF(ISNA(A281),\"\",IF(LEN(LOOKUP(B281,Database!A:A,Database!K:K))=0,\"\",LOOKUP(B281,Database!A:A,Database!K:K)))","v":""},{"$f":"IF(ISNA(A281),\"\",IF(LEN(LOOKUP(B281,Database!A:A,Database!L:L))=0,\"\",LOOKUP(B281,Database!A:A,Database!L:L)))","v":""},{"$f":"IF(ISNA(A281),\"\",IF(LEN(LOOKUP(B281,Database!A:A,Database!M:M))=0,\"\",LOOKUP(B281,Database!A:A,Database!M:M)))","v":""},{"$f":"IF(ISNA(A281),\"\",IF(LEN(LOOKUP(B281,Database!A:A,Database!N:N))=0,\"\",LOOKUP(B281,Database!A:A,Database!N:N)))","v":""},{"$f":"IF(ISNA(A281),\"\",IF(LEN(LOOKUP(B281,Database!A:A,Database!O:O))=0,\"\",LOOKUP(B281,Database!A:A,Database!O:O)))","v":""},{"$f":"IF(ISNA(A281),\"\",IF(LEN(LOOKUP(B281,Database!A:A,Database!P:P))=0,\"\",LOOKUP(B281,Database!A:A,Database!P:P)))","v":""},{"$f":"IF(ISNA(A281),\"\",IF(LEN(LOOKUP(B281,Database!A:A,Database!Q:Q))=0,\"\",LOOKUP(B281,Database!A:A,Database!Q:Q)))","v":""},{"$f":"IF(ISNA(A281),\"\",IF(LEN(LOOKUP(B281,Database!A:A,Database!R:R))=0,\"\",LOOKUP(B281,Database!A:A,Database!R:R)))","v":""},{"$f":"IF(ISNA(A281),\"\",IF(LEN(LOOKUP(B281,Database!A:A,Database!S:S))=0,\"\",LOOKUP(B281,Database!A:A,Database!S:S)))","v":""},null,null,null,null,null,null,267,0,null,1,0,null,0.1]
[{"$error":"#N/A"},"2018-09-25",{"$f":"IF(ISNA(A282),\"\",IF(LEN(LOOKUP(B282,Database!A:A,Database!B:B))=0,\"\",LOOKUP(B282,Database!A:A,Database!B:B)))","v":""},{"$f":"IF(ISNA(A282),\"\",IF(LEN(LOOKUP(B282,Database!A:A,Database!C:C))=0,\"\",LOOKUP(B282,Database!A:A,Database!C:C)))","v":""},{"$f":"IF(ISNA(A282),\"\",IF(LEN(LOOKUP(B282,Database!A:A,Database!D:D))=0,\"\",LOOKUP(B282,Database!A:A,Database!D:D)))","v":""},{"$f":"IF(ISNA(A282),\"\",IF(LEN(LOOKUP(B282,Database!A:A,Database!E:E))=0,\"\",LOOKUP(B282,Database!A:A,Database!E:E)))","v":""},{"$f":"IF(ISNA(A282),\"\",IF(LEN(LOOKUP(B282,Database!A:A,Database!F:F))=0,\"\",LOOKUP(B282,Database!A:A,Database!F:F)))","v":""},{"$f":"IF(ISNA(A282),\"\",IF(LEN(LOOKUP(B282,Database!A:A,Database!G:G))=0,\"\",LOOKUP(B282,Database!A:A,Database!G:G)))","v":""},{"$f":"IF(ISNA(A282),\"\",IF(LEN(LOOKUP(B282,Database!A:A,Database!H:H))=0,\"\",LOOKUP(B282,Database!A:A,Database!H:H)))","v":""},{"$f":"IF(ISNA(A282),\"\",IF(LEN(LOOKUP(B282,Database!A:A,Database!I:I))=0,\"\",LOOKUP(B282,Database!A:A,Database!I:I)))","v":""},{"$f":"IF(ISNA(A282),\"\",IF(LEN(LOOKUP(B282,Database!A:A,Database!J:J))=0,\"\",LOOKUP(B282,Database!A:A,Database!J:J)))","v":""},{"$f":"IF(ISNA(A282),\"\",IF(LEN(LOOKUP(B282,Database!A:A,Database!K:K))=0,\"\",LOOKUP(B282,Database!A:A,Database!K:K)))","v":""},{"$f":"IF(ISNA(A282),\"\",IF(LEN(LOOKUP(B282,Database!A:A,Database!L:L))=0,\"\",LOOKUP(B282,Database!A:A,Database!L:L)))","v":""},{"$f":"IF(ISNA(A282),\"\",IF(LEN(LOOKUP(B282,Database!A:A,Database!M:M))=0,\"\",LOOKUP(B282,Database!A:A,Database!M:M)))","v":""},{"$f":"IF(ISNA(A282),\"\",IF(LEN(LOOKUP(B282,Database!A:A,Database!N:N))=0,\"\",LOOKUP(B282,Database!A:A,Database!N:N)))","v":""},{"$f":"IF(ISNA(A282),\"\",IF(LEN(LOOKUP(B282,Database!A:A,Database!O:O))=0,\"\",LOOKUP(B282,Database!A:A,Database!O:O)))","v":""},{"$f":"IF(ISNA(A282),\"\",IF(LEN(LOOKUP(B282,Database!A:A,Database!P:P))=0,\"\",LOOKUP(B282,Database!A:A,Database!P:P)))","v":""},{"$f":"IF(ISNA(A282),\"\",IF(LEN(LOOKUP(B282,Database!A:A,Database!Q:Q))=0,\"\",LOOKUP(B282,Database!A:A,Database!Q:Q)))","v":""},{"$f":"IF(ISNA(A282),\"\",IF(LEN(LOOKUP(B282,Database!A:A,Database!R:R))=0,\"\",LOOKUP(B282,Database!A:A,Database!R:R)))","v":""},{"$f":"IF(ISNA(A282),\"\",IF(LEN(LOOKUP(B282,Database!A:A,Database!S:S))=0,\"\",LOOKUP(B282,Database!A:A,Database!S:S)))","v":""},null,null,null,null,null,null,268,0,null,1,0,null,0.1]
[{"$error":"#N/A"},"2018-09-26",{"$f":"IF(ISNA(A283),\"\",IF(LEN(LOOKUP(B283,Database!A:A,Database!B:B))=0,\"\",LOOKUP(B283,Database!A:A,Database!B:B)))","v":""},{"$f":"IF(ISNA(A283),\"\",IF(LEN(LOOKUP(B283,Database!A:A,Database!C:C))=0,\"\",LOOKUP(B283,Database!A:A,Database!C:C)))","v":""},{"$f":"IF(ISNA(A283),\"\",IF(LEN(LOOKUP(B283,Database!A:A,Database!D:D))=0,\"\",LOOKUP(B283,Database!A:A,Database!D:D)))","v":""},{"$f":"IF(ISNA(A283),\"\",IF(LEN(LOOKUP(B283,Database!A:A,Database!E:E))=0,\"\",LOOKUP(B283,Database!A:A,Database!E:E)))","v":""},{"$f":"IF(ISNA(A283),\"\",IF(LEN(LOOKUP(B283,Database!A:A,Database!F:F))=0,\"\",LOOKUP(B283,Database!A:A,Database!F:F)))","v":""},{"$f":"IF(ISNA(A283),\"\",IF(LEN(LOOKUP(B283,Database!A:A,Database!G:G))=0,\"\",LOOKUP(B283,Database!A:A,Database!G:G)))","v":""},{"$f":"IF(ISNA(A283),\"\",IF(LEN(LOOKUP(B283,Database!A:A,Database!H:H))=0,\"\",LOOKUP(B283,Database!A:A,Database!H:H)))","v":""},{"$f":"IF(ISNA(A283),\"\",IF(LEN(LOOKUP(B283,Database!A:A,Database!I:I))=0,\"\",LOOKUP(B283,Database!A:A,Database!I:I)))","v":""},{"$f":"IF(ISNA(A283),\"\",IF(LEN(LOOKUP(B283,Database!A:A,Database!J:J))=0,\"\",LOOKUP(B283,Database!A:A,Database!J:J)))","v":""},{"$f":"IF(ISNA(A283),\"\",IF(LEN(LOOKUP(B283,Database!A:A,Database!K:K))=0,\"\",LOOKUP(B283,Database!A:A,Database!K:K)))","v":""},{"$f":"IF(ISNA(A283),\"\",IF(LEN(LOOKUP(B283,Database!A:A,Database!L:L))=0,\"\",LOOKUP(B283,Database!A:A,Database!L:L)))","v":""},{"$f":"IF(ISNA(A283),\"\",IF(LEN(LOOKUP(B283,Database!A:A,Database!M:M))=0,\"\",LOOKUP(B283,Database!A:A,Database!M:M)))","v":""},{"$f":"IF(ISNA(A283),\"\",IF(LEN(LOOKUP(B283,Database!A:A,Database!N:N))=0,\"\",LOOKUP(B283,Database!A:A,Database!N:N)))","v":""},{"$f":"IF(ISNA(A283),\"\",IF(LEN(LOOKUP(B283,Database!A:A,Database!O:O))=0,\"\",LOOKUP(B283,Database!A:A,Database!O:O)))","v":""},{"$f":"IF(ISNA(A283),\"\",IF(LEN(LOOKUP(B283,Database!A:A,Database!P:P))=0,\"\",LOOKUP(B283,Database!A:A,Database!P:P)))","v":""},{"$f":"IF(ISNA(A283),\"\",IF(LEN(LOOKUP(B283,Database!A:A,Database!Q:Q))=0,\"\",LOOKUP(B283,Database!A:A,Database!Q:Q)))","v":""},{"$f":"IF(ISNA(A283),\"\",IF(LEN(LOOKUP(B283,Database!A:A,Database!R:R))=0,\"\",LOOKUP(B283,Database!A:A,Database!R:R)))","v":""},{"$f":"IF(ISNA(A283),\"\",IF(LEN(LOOKUP(B283,Database!A:A,Database!S:S))=0,\"\",LOOKUP(B283,Database!A:A,Database!S:S)))","v":""},null,null,null,null,null,null,269,0,null,1,0,null,0.1]
[{"$error":"#N/A"},"2018-09-27",{"$f":"IF(ISNA(A284),\"\",IF(LEN(LOOKUP(B284,Database!A:A,Database!B:B))=0,\"\",LOOKUP(B284,Database!A:A,Database!B:B)))","v":""},{"$f":"IF(ISNA(A284),\"\",IF(LEN(LOOKUP(B284,Database!A:A,Database!C:C))=0,\"\",LOOKUP(B284,Database!A:A,Database!C:C)))","v":""},{"$f":"IF(ISNA(A284),\"\",IF(LEN(LOOKUP(B284,Database!A:A,Database!D:D))=0,\"\",LOOKUP(B284,Database!A:A,Database!D:D)))","v":""},{"$f":"IF(ISNA(A284),\"\",IF(LEN(LOOKUP(B284,Database!A:A,Database!E:E))=0,\"\",LOOKUP(B284,Database!A:A,Database!E:E)))","v":""},{"$f":"IF(ISNA(A284),\"\",IF(LEN(LOOKUP(B284,Database!A:A,Database!F:F))=0,\"\",LOOKUP(B284,Database!A:A,Database!F:F)))","v":""},{"$f":"IF(ISNA(A284),\"\",IF(LEN(LOOKUP(B284,Database!A:A,Database!G:G))=0,\"\",LOOKUP(B284,Database!A:A,Database!G:G)))","v":""},{"$f":"IF(ISNA(A284),\"\",IF(LEN(LOOKUP(B284,Database!A:A,Database!H:H))=0,\"\",LOOKUP(B284,Database!A:A,Database!H:H)))","v":""},{"$f":"IF(ISNA(A284),\"\",IF(LEN(LOOKUP(B284,Database!A:A,Database!I:I))=0,\"\",LOOKUP(B284,Database!A:A,Database!I:I)))","v":""},{"$f":"IF(ISNA(A284),\"\",IF(LEN(LOOKUP(B284,Database!A:A,Database!J:J))=0,\"\",LOOKUP(B284,Database!A:A,Database!J:J)))","v":""},{"$f":"IF(ISNA(A284),\"\",IF(LEN(LOOKUP(B284,Database!A:A,Database!K:K))=0,\"\",LOOKUP(B284,Database!A:A,Database!K:K)))","v":""},{"$f":"IF(ISNA(A284),\"\",IF(LEN(LOOKUP(B284,Database!A:A,Database!L:L))=0,\"\",LOOKUP(B284,Database!A:A,Database!L:L)))","v":""},{"$f":"IF(ISNA(A284),\"\",IF(LEN(LOOKUP(B284,Database!A:A,Database!M:M))=0,\"\",LOOKUP(B284,Database!A:A,Database!M:M)))","v":""},{"$f":"IF(ISNA(A284),\"\",IF(LEN(LOOKUP(B284,Database!A:A,Database!N:N))=0,\"\",LOOKUP(B284,Database!A:A,Database!N:N)))","v":""},{"$f":"IF(ISNA(A284),\"\",IF(LEN(LOOKUP(B284,Database!A:A,Database!O:O))=0,\"\",LOOKUP(B284,Database!A:A,Database!O:O)))","v":""},{"$f":"IF(ISNA(A284),\"\",IF(LEN(LOOKUP(B284,Database!A:A,Database!P:P))=0,\"\",LOOKUP(B284,Database!A:A,Database!P:P)))","v":""},{"$f":"IF(ISNA(A284),\"\",IF(LEN(LOOKUP(B284,Database!A:A,Database!Q:Q))=0,\"\",LOOKUP(B284,Database!A:A,Database!Q:Q)))","v":""},{"$f":"IF(ISNA(A284),\"\",IF(LEN(LOOKUP(B284,Database!A:A,Database!R:R))=0,\"\",LOOKUP(B284,Database!A:A,Database!R:R)))","v":""},{"$f":"IF(ISNA(A284),\"\",IF(LEN(LOOKUP(B284,Database!A:A,Database!S:S))=0,\"\",LOOKUP(B284,Database!A:A,Database!S:S)))","v":""},null,null,null,null,null,null,270,0,null,1,0,null,0.1]
[{"$error":"#N/A"},"2018-09-28",{"$f":"IF(ISNA(A285),\"\",IF(LEN(LOOKUP(B285,Database!A:A,Database!B:B))=0,\"\",LOOKUP(B285,Database!A:A,Database!B:B)))","v":""},{"$f":"IF(ISNA(A285),\"\",IF(LEN(LOOKUP(B285,Database!A:A,Database!C:C))=0,\"\",LOOKUP(B285,Database!A:A,Database!C:C)))","v":""},{"$f":"IF(ISNA(A285),\"\",IF(LEN(LOOKUP(B285,Database!A:A,Database!D:D))=0,\"\",LOOKUP(B285,Database!A:A,Database!D:D)))","v":""},{"$f":"IF(ISNA(A285),\"\",IF(LEN(LOOKUP(B285,Database!A:A,Database!E:E))=0,\"\",LOOKUP(B285,Database!A:A,Database!E:E)))","v":""},{"$f":"IF(ISNA(A285),\"\",IF(LEN(LOOKUP(B285,Database!A:A,Database!F:F))=0,\"\",LOOKUP(B285,Database!A:A,Database!F:F)))","v":""},{"$f":"IF(ISNA(A285),\"\",IF(LEN(LOOKUP(B285,Database!A:A,Database!G:G))=0,\"\",LOOKUP(B285,Database!A:A,Database!G:G)))","v":""},{"$f":"IF(ISNA(A285),\"\",IF(LEN(LOOKUP(B285,Database!A:A,Database!H:H))=0,\"\",LOOKUP(B285,Database!A:A,Database!H:H)))","v":""},{"$f":"IF(ISNA(A285),\"\",IF(LEN(LOOKUP(B285,Database!A:A,Database!I:I))=0,\"\",LOOKUP(B285,Database!A:A,Database!I:I)))","v":""},{"$f":"IF(ISNA(A285),\"\",IF(LEN(LOOKUP(B285,Database!A:A,Database!J:J))=0,\"\",LOOKUP(B285,Database!A:A,Database!J:J)))","v":""},{"$f":"IF(ISNA(A285),\"\",IF(LEN(LOOKUP(B285,Database!A:A,Database!K:K))=0,\"\",LOOKUP(B285,Database!A:A,Database!K:K)))","v":""},{"$f":"IF(ISNA(A285),\"\",IF(LEN(LOOKUP(B285,Database!A:A,Database!L:L))=0,\"\",LOOKUP(B285,Database!A:A,Database!L:L)))","v":""},{"$f":"IF(ISNA(A285),\"\",IF(LEN(LOOKUP(B285,Database!A:A,Database!M:M))=0,\"\",LOOKUP(B285,Database!A:A,Database!M:M)))","v":""},{"$f":"IF(ISNA(A285),\"\",IF(LEN(LOOKUP(B285,Database!A:A,Database!N:N))=0,\"\",LOOKUP(B285,Database!A:A,Database!N:N)))","v":""},{"$f":"IF(ISNA(A285),\"\",IF(LEN(LOOKUP(B285,Database!A:A,Database!O:O))=0,\"\",LOOKUP(B285,Database!A:A,Database!O:O)))","v":""},{"$f":"IF(ISNA(A285),\"\",IF(LEN(LOOKUP(B285,Database!A:A,Database!P:P))=0,\"\",LOOKUP(B285,Database!A:A,Database!P:P)))","v":""},{"$f":"IF(ISNA(A285),\"\",IF(LEN(LOOKUP(B285,Database!A:A,Database!Q:Q))=0,\"\",LOOKUP(B285,Database!A:A,Database!Q:Q)))","v":""},{"$f":"IF(ISNA(A285),\"\",IF(LEN(LOOKUP(B285,Database!A:A,Database!R:R))=0,\"\",LOOKUP(B285,Database!A:A,Database!R:R)))","v":""},{"$f":"IF(ISNA(A285),\"\",IF(LEN(LOOKUP(B285,Database!A:A,Database!S:S))=0,\"\",LOOKUP(B285,Database!A:A,Database!S:S)))","v":""},null,null,null,null,null,null,271,0,null,1,0,null,0.1]
[{"$error":"#N/A"},"2018-09-29",{"$f":"IF(ISNA(A286),\"\",IF(LEN(LOOKUP(B286,Database!A:A,Database!B:B))=0,\"\",LOOKUP(B286,Database!A:A,Database!B:B)))","v":""},{"$f":"IF(ISNA(A286),\"\",IF(LEN(LOOKUP(B286,Database!A:A,Database!C:C))=0,\"\",LOOKUP(B286,Database!A:A,Database!C:C)))","v":""},{"$f":"IF(ISNA(A286),\"\",IF(LEN(LOOKUP(B286,Database!A:A,Database!D:D))=0,\"\",LOOKUP(B286,Database!A:A,Database!D:D)))","v":""},{"$f":"IF(ISNA(A286),\"\",IF(LEN(LOOKUP(B286,Database!A:A,Database!E:E))=0,\"\",LOOKUP(B286,Database!A:A,Database!E:E)))","v":""},{"$f":"IF(ISNA(A286),\"\",IF(LEN(LOOKUP(B286,Database!A:A,Database!F:F))=0,\"\",LOOKUP(B286,Database!A:A,Database!F:F)))","v":""},{"$f":"IF(ISNA(A286),\"\",IF(LEN(LOOKUP(B286,Database!A:A,Database!G:G))=0,\"\",LOOKUP(B286,Database!A:A,Database!G:G)))","v":""},{"$f":"IF(ISNA(A286),\"\",IF(LEN(LOOKUP(B286,Database!A:A,Database!H:H))=0,\"\",LOOKUP(B286,Database!A:A,Database!H:H)))","v":""},{"$f":"IF(ISNA(A286),\"\",IF(LEN(LOOKUP(B286,Database!A:A,Database!I:I))=0,\"\",LOOKUP(B286,Database!A:A,Database!I:I)))","v":""},{"$f":"IF(ISNA(A286),\"\",IF(LEN(LOOKUP(B286,Database!A:A,Database!J:J))=0,\"\",LOOKUP(B286,Database!A:A,Database!J:J)))","v":""},{"$f":"IF(ISNA(A286),\"\",IF(LEN(LOOKUP(B286,Database!A:A,Database!K:K))=0,\"\",LOOKUP(B286,Database!A:A,Database!K:K)))","v":""},{"$f":"IF(ISNA(A286),\"\",IF(LEN(LOOKUP(B286,Database!A:A,Database!L:L))=0,\"\",LOOKUP(B286,Database!A:A,Database!L:L)))","v":""},{"$f":"IF(ISNA(A286),\"\",IF(LEN(LOOKUP(B286,Database!A:A,Database!M:M))=0,\"\",LOOKUP(B286,Database!A:A,Database!M:M)))","v":""},{"$f":"IF(ISNA(A286),\"\",IF(LEN(LOOKUP(B286,Database!A:A,Database!N:N))=0,\"\",LOOKUP(B286,Database!A:A,Database!N:N)))","v":""},{"$f":"IF(ISNA(A286),\"\",IF(LEN(LOOKUP(B286,Database!A:A,Database!O:O))=0,\"\",LOOKUP(B286,Database!A:A,Database!O:O)))","v":""},{"$f":"IF(ISNA(A286),\"\",IF(LEN(LOOKUP(B286,Database!A:A,Database!P:P))=0,\"\",LOOKUP(B286,Database!A:A,Database!P:P)))","v":""},{"$f":"IF(ISNA(A286),\"\",IF(LEN(LOOKUP(B286,Database!A:A,Database!Q:Q))=0,\"\",LOOKUP(B286,Database!A:A,Database!Q:Q)))","v":""},{"$f":"IF(ISNA(A286),\"\",IF(LEN(LOOKUP(B286,Database!A:A,Database!R:R))=0,\"\",LOOKUP(B286,Database!A:A,Database!R:R)))","v":""},{"$f":"IF(ISNA(A286),\"\",IF(LEN(LOOKUP(B286,Database!A:A,Database!S:S))=0,\"\",LOOKUP(B286,Database!A:A,Database!S:S)))","v":""},null,null,null,null,null,null,272,0,null,1,0,null,0.1]
[{"$error":"#N/A"},"2018-09-30",{"$f":"IF(ISNA(A287),\"\",IF(LEN(LOOKUP(B287,Database!A:A,Database!B:B))=0,\"\",LOOKUP(B287,Database!A:A,Database!B:B)))","v":""},{"$f":"IF(ISNA(A287),\"\",IF(LEN(LOOKUP(B287,Database!A:A,Database!C:C))=0,\"\",LOOKUP(B287,Database!A:A,Database!C:C)))","v":""},{"$f":"IF(ISNA(A287),\"\",IF(LEN(LOOKUP(B287,Database!A:A,Database!D:D))=0,\"\",LOOKUP(B287,Database!A:A,Database!D:D)))","v":""},{"$f":"IF(ISNA(A287),\"\",IF(LEN(LOOKUP(B287,Database!A:A,Database!E:E))=0,\"\",LOOKUP(B287,Database!A:A,Database!E:E)))","v":""},{"$f":"IF(ISNA(A287),\"\",IF(LEN(LOOKUP(B287,Database!A:A,Database!F:F))=0,\"\",LOOKUP(B287,Database!A:A,Database!F:F)))","v":""},{"$f":"IF(ISNA(A287),\"\",IF(LEN(LOOKUP(B287,Database!A:A,Database!G:G))=0,\"\",LOOKUP(B287,Database!A:A,Database!G:G)))","v":""},{"$f":"IF(ISNA(A287),\"\",IF(LEN(LOOKUP(B287,Database!A:A,Database!H:H))=0,\"\",LOOKUP(B287,Database!A:A,Database!H:H)))","v":""},{"$f":"IF(ISNA(A287),\"\",IF(LEN(LOOKUP(B287,Database!A:A,Database!I:I))=0,\"\",LOOKUP(B287,Database!A:A,Database!I:I)))","v":""},{"$f":"IF(ISNA(A287),\"\",IF(LEN(LOOKUP(B287,Database!A:A,Database!J:J))=0,\"\",LOOKUP(B287,Database!A:A,Database!J:J)))","v":""},{"$f":"IF(ISNA(A287),\"\",IF(LEN(LOOKUP(B287,Database!A:A,Database!K:K))=0,\"\",LOOKUP(B287,Database!A:A,Database!K:K)))","v":""},{"$f":"IF(ISNA(A287),\"\",IF(LEN(LOOKUP(B287,Database!A:A,Database!L:L))=0,\"\",LOOKUP(B287,Database!A:A,Database!L:L)))","v":""},{"$f":"IF(ISNA(A287),\"\",IF(LEN(LOOKUP(B287,Database!A:A,Database!M:M))=0,\"\",LOOKUP(B287,Database!A:A,Database!M:M)))","v":""},{"$f":"IF(ISNA(A287),\"\",IF(LEN(LOOKUP(B287,Database!A:A,Database!N:N))=0,\"\",LOOKUP(B287,Database!A:A,Database!N:N)))","v":""},{"$f":"IF(ISNA(A287),\"\",IF(LEN(LOOKUP(B287,Database!A:A,Database!O:O))=0,\"\",LOOKUP(B287,Database!A:A,Database!O:O)))","v":""},{"$f":"IF(ISNA(A287),\"\",IF(LEN(LOOKUP(B287,Database!A:A,Database!P:P))=0,\"\",LOOKUP(B287,Database!A:A,Database!P:P)))","v":""},{"$f":"IF(ISNA(A287),\"\",IF(LEN(LOOKUP(B287,Database!A:A,Database!Q:Q))=0,\"\",LOOKUP(B287,Database!A:A,Database!Q:Q)))","v":""},{"$f":"IF(ISNA(A287),\"\",IF(LEN(LOOKUP(B287,Database!A:A,Database!R:R))=0,\"\",LOOKUP(B287,Database!A:A,Database!R:R)))","v":""},{"$f":"IF(ISNA(A287),\"\",IF(LEN(LOOKUP(B287,Database!A:A,Database!S:S))=0,\"\",LOOKUP(B287,Database!A:A,Database!S:S)))","v":""},null,null,null,null,null,null,273,0,null,1,0,null,0.1]
[{"$error":"#N/A"},"2018-10-01",{"$f":"IF(ISNA(A288),\"\",IF(LEN(LOOKUP(B288,Database!A:A,Database!B:B))=0,\"\",LOOKUP(B288,Database!A:A,Database!B:B)))","v":""},{"$f":"IF(ISNA(A288),\"\",IF(LEN(LOOKUP(B288,Database!A:A,Database!C:C))=0,\"\",LOOKUP(B288,Database!A:A,Database!C:C)))","v":""},{"$f":"IF(ISNA(A288),\"\",IF(LEN(LOOKUP(B288,Database!A:A,Database!D:D))=0,\"\",LOOKUP(B288,Database!A:A,Database!D:D)))","v":""},{"$f":"IF(ISNA(A288),\"\",IF(LEN(LOOKUP(B288,Database!A:A,Database!E:E))=0,\"\",LOOKUP(B288,Database!A:A,Database!E:E)))","v":""},{"$f":"IF(ISNA(A288),\"\",IF(LEN(LOOKUP(B288,Database!A:A,Database!F:F))=0,\"\",LOOKUP(B288,Database!A:A,Database!F:F)))","v":""},{"$f":"IF(ISNA(A288),\"\",IF(LEN(LOOKUP(B288,Database!A:A,Database!G:G))=0,\"\",LOOKUP(B288,Database!A:A,Database!G:G)))","v":""},{"$f":"IF(ISNA(A288),\"\",IF(LEN(LOOKUP(B288,Database!A:A,Database!H:H))=0,\"\",LOOKUP(B288,Database!A:A,Database!H:H)))","v":""},{"$f":"IF(ISNA(A288),\"\",IF(LEN(LOOKUP(B288,Database!A:A,Database!I:I))=0,\"\",LOOKUP(B288,Database!A:A,Database!I:I)))","v":""},{"$f":"IF(ISNA(A288),\"\",IF(LEN(LOOKUP(B288,Database!A:A,Database!J:J))=0,\"\",LOOKUP(B288,Database!A:A,Database!J:J)))","v":""},{"$f":"IF(ISNA(A288),\"\",IF(LEN(LOOKUP(B288,Database!A:A,Database!K:K))=0,\"\",LOOKUP(B288,Database!A:A,Database!K:K)))","v":""},{"$f":"IF(ISNA(A288),\"\",IF(LEN(LOOKUP(B288,Database!A:A,Database!L:L))=0,\"\",LOOKUP(B288,Database!A:A,Database!L:L)))","v":""},{"$f":"IF(ISNA(A288),\"\",IF(LEN(LOOKUP(B288,Database!A:A,Database!M:M))=0,\"\",LOOKUP(B288,Database!A:A,Database!M:M)))","v":""},{"$f":"IF(ISNA(A288),\"\",IF(LEN(LOOKUP(B288,Database!A:A,Database!N:N))=0,\"\",LOOKUP(B288,Database!A:A,Database!N:N)))","v":""},{"$f":"IF(ISNA(A288),\"\",IF(LEN(LOOKUP(B288,Database!A:A,Database!O:O))=0,\"\",LOOKUP(B288,Database!A:A,Database!O:O)))","v":""},{"$f":"IF(ISNA(A288),\"\",IF(LEN(LOOKUP(B288,Database!A:A,Database!P:P))=0,\"\",LOOKUP(B288,Database!A:A,Database!P:P)))","v":""},{"$f":"IF(ISNA(A288),\"\",IF(LEN(LOOKUP(B288,Database!A:A,Database!Q:Q))=0,\"\",LOOKUP(B288,Database!A:A,Database!Q:Q)))","v":""},{"$f":"IF(ISNA(A288),\"\",IF(LEN(LOOKUP(B288,Database!A:A,Database!R:R))=0,\"\",LOOKUP(B288,Database!A:A,Database!R:R)))","v":""},{"$f":"IF(ISNA(A288),\"\",IF(LEN(LOOKUP(B288,Database!A:A,Database!S:S))=0,\"\",LOOKUP(B288,Database!A:A,Database!S:S)))","v":""},null,null,null,null,null,null,274,0,null,1,0,null,0.1]
[{"$error":"#N/A"},"2018-10-02",{"$f":"IF(ISNA(A289),\"\",IF(LEN(LOOKUP(B289,Database!A:A,Database!B:B))=0,\"\",LOOKUP(B289,Database!A:A,Database!B:B)))","v":""},{"$f":"IF(ISNA(A289),\"\",IF(LEN(LOOKUP(B289,Database!A:A,Database!C:C))=0,\"\",LOOKUP(B289,Database!A:A,Database!C:C)))","v":""},{"$f":"IF(ISNA(A289),\"\",IF(LEN(LOOKUP(B289,Database!A:A,Database!D:D))=0,\"\",LOOKUP(B289,Database!A:A,Database!D:D)))","v":""},{"$f":"IF(ISNA(A289),\"\",IF(LEN(LOOKUP(B289,Database!A:A,Database!E:E))=0,\"\",LOOKUP(B289,Database!A:A,Database!E:E)))","v":""},{"$f":"IF(ISNA(A289),\"\",IF(LEN(LOOKUP(B289,Database!A:A,Database!F:F))=0,\"\",LOOKUP(B289,Database!A:A,Database!F:F)))","v":""},{"$f":"IF(ISNA(A289),\"\",IF(LEN(LOOKUP(B289,Database!A:A,Database!G:G))=0,\"\",LOOKUP(B289,Database!A:A,Database!G:G)))","v":""},{"$f":"IF(ISNA(A289),\"\",IF(LEN(LOOKUP(B289,Database!A:A,Database!H:H))=0,\"\",LOOKUP(B289,Database!A:A,Database!H:H)))","v":""},{"$f":"IF(ISNA(A289),\"\",IF(LEN(LOOKUP(B289,Database!A:A,Database!I:I))=0,\"\",LOOKUP(B289,Database!A:A,Database!I:I)))","v":""},{"$f":"IF(ISNA(A289),\"\",IF(LEN(LOOKUP(B289,Database!A:A,Database!J:J))=0,\"\",LOOKUP(B289,Database!A:A,Database!J:J)))","v":""},{"$f":"IF(ISNA(A289),\"\",IF(LEN(LOOKUP(B289,Database!A:A,Database!K:K))=0,\"\",LOOKUP(B289,Database!A:A,Database!K:K)))","v":""},{"$f":"IF(ISNA(A289),\"\",IF(LEN(LOOKUP(B289,Database!A:A,Database!L:L))=0,\"\",LOOKUP(B289,Database!A:A,Database!L:L)))","v":""},{"$f":"IF(ISNA(A289),\"\",IF(LEN(LOOKUP(B289,Database!A:A,Database!M:M))=0,\"\",LOOKUP(B289,Database!A:A,Database!M:M)))","v":""},{"$f":"IF(ISNA(A289),\"\",IF(LEN(LOOKUP(B289,Database!A:A,Database!N:N))=0,\"\",LOOKUP(B289,Database!A:A,Database!N:N)))","v":""},{"$f":"IF(ISNA(A289),\"\",IF(LEN(LOOKUP(B289,Database!A:A,Database!O:O))=0,\"\",LOOKUP(B289,Database!A:A,Database!O:O)))","v":""},{"$f":"IF(ISNA(A289),\"\",IF(LEN(LOOKUP(B289,Database!A:A,Database!P:P))=0,\"\",LOOKUP(B289,Database!A:A,Database!P:P)))","v":""},{"$f":"IF(ISNA(A289),\"\",IF(LEN(LOOKUP(B289,Database!A:A,Database!Q:Q))=0,\"\",LOOKUP(B289,Database!A:A,Database!Q:Q)))","v":""},{"$f":"IF(ISNA(A289),\"\",IF(LEN(LOOKUP(B289,Database!A:A,Database!R:R))=0,\"\",LOOKUP(B289,Database!A:A,Database!R:R)))","v":""},{"$f":"IF(ISNA(A289),\"\",IF(LEN(LOOKUP(B289,Database!A:A,Database!S:S))=0,\"\",LOOKUP(B289,Database!A:A,Database!S:S)))","v":""},null,null,null,null,null,null,275,0,null,1,0,null,0.1]
[{"$error":"#N/A"},"2018-10-03",{"$f":"IF(ISNA(A290),\"\",IF(LEN(LOOKUP(B290,Database!A:A,Database!B:B))=0,\"\",LOOKUP(B290,Database!A:A,Database!B:B)))","v":""},{"$f":"IF(ISNA(A290),\"\",IF(LEN(LOOKUP(B290,Database!A:A,Database!C:C))=0,\"\",LOOKUP(B290,Database!A:A,Database!C:C)))","v":""},{"$f":"IF(ISNA(A290),\"\",IF(LEN(LOOKUP(B290,Database!A:A,Database!D:D))=0,\"\",LOOKUP(B290,Database!A:A,Database!D:D)))","v":""},{"$f":"IF(ISNA(A290),\"\",IF(LEN(LOOKUP(B290,Database!A:A,Database!E:E))=0,\"\",LOOKUP(B290,Database!A:A,Database!E:E)))","v":""},{"$f":"IF(ISNA(A290),\"\",IF(LEN(LOOKUP(B290,Database!A:A,Database!F:F))=0,\"\",LOOKUP(B290,Database!A:A,Database!F:F)))","v":""},{"$f":"IF(ISNA(A290),\"\",IF(LEN(LOOKUP(B290,Database!A:A,Database!G:G))=0,\"\",LOOKUP(B290,Database!A:A,Database!G:G)))","v":""},{"$f":"IF(ISNA(A290),\"\",IF(LEN(LOOKUP(B290,Database!A:A,Database!H:H))=0,\"\",LOOKUP(B290,Database!A:A,Database!H:H)))","v":""},{"$f":"IF(ISNA(A290),\"\",IF(LEN(LOOKUP(B290,Database!A:A,Database!I:I))=0,\"\",LOOKUP(B290,Database!A:A,Database!I:I)))","v":""},{"$f":"IF(ISNA(A290),\"\",IF(LEN(LOOKUP(B290,Database!A:A,Database!J:J))=0,\"\",LOOKUP(B290,Database!A:A,Database!J:J)))","v":""},{"$f":"IF(ISNA(A290),\"\",IF(LEN(LOOKUP(B290,Database!A:A,Database!K:K))=0,\"\",LOOKUP(B290,Database!A:A,Database!K:K)))","v":""},{"$f":"IF(ISNA(A290),\"\",IF(LEN(LOOKUP(B290,Database!A:A,Database!L:L))=0,\"\",LOOKUP(B290,Database!A:A,Database!L:L)))","v":""},{"$f":"IF(ISNA(A290),\"\",IF(LEN(LOOKUP(B290,Database!A:A,Database!M:M))=0,\"\",LOOKUP(B290,Database!A:A,Database!M:M)))","v":""},{"$f":"IF(ISNA(A290),\"\",IF(LEN(LOOKUP(B290,Database!A:A,Database!N:N))=0,\"\",LOOKUP(B290,Database!A:A,Database!N:N)))","v":""},{"$f":"IF(ISNA(A290),\"\",IF(LEN(LOOKUP(B290,Database!A:A,Database!O:O))=0,\"\",LOOKUP(B290,Database!A:A,Database!O:O)))","v":""},{"$f":"IF(ISNA(A290),\"\",IF(LEN(LOOKUP(B290,Database!A:A,Database!P:P))=0,\"\",LOOKUP(B290,Database!A:A,Database!P:P)))","v":""},{"$f":"IF(ISNA(A290),\"\",IF(LEN(LOOKUP(B290,Database!A:A,Database!Q:Q))=0,\"\",LOOKUP(B290,Database!A:A,Database!Q:Q)))","v":""},{"$f":"IF(ISNA(A290),\"\",IF(LEN(LOOKUP(B290,Database!A:A,Database!R:R))=0,\"\",LOOKUP(B290,Database!A:A,Database!R:R)))","v":""},{"$f":"IF(ISNA(A290),\"\",IF(LEN(LOOKUP(B290,Database!A:A,Database!S:S))=0,\"\",LOOKUP(B290,Database!A:A,Database!S:S)))","v":""},null,null,null,null,null,null,276,0,null,1,0,null,0.1]
[{"$error":"#N/A"},"2018-10-04",{"$f":"IF(ISNA(A291),\"\",IF(LEN(LOOKUP(B291,Database!A:A,Database!B:B))=0,\"\",LOOKUP(B291,Database!A:A,Database!B:B)))","v":""},{"$f":"IF(ISNA(A291),\"\",IF(LEN(LOOKUP(B291,Database!A:A,Database!C:C))=0,\"\",LOOKUP(B291,Database!A:A,Database!C:C)))","v":""},{"$f":"IF(ISNA(A291),\"\",IF(LEN(LOOKUP(B291,Database!A:A,Database!D:D))=0,\"\",LOOKUP(B291,Database!A:A,Database!D:D)))","v":""},{"$f":"IF(ISNA(A291),\"\",IF(LEN(LOOKUP(B291,Database!A:A,Database!E:E))=0,\"\",LOOKUP(B291,Database!A:A,Database!E:E)))","v":""},{"$f":"IF(ISNA(A291),\"\",IF(LEN(LOOKUP(B291,Database!A:A,Database!F:F))=0,\"\",LOOKUP(B291,Database!A:A,Database!F:F)))","v":""},{"$f":"IF(ISNA(A291),\"\",IF(LEN(LOOKUP(B291,Database!A:A,Database!G:G))=0,\"\",LOOKUP(B291,Database!A:A,Database!G:G)))","v":""},{"$f":"IF(ISNA(A291),\"\",IF(LEN(LOOKUP(B291,Database!A:A,Database!H:H))=0,\"\",LOOKUP(B291,Database!A:A,Database!H:H)))","v":""},{"$f":"IF(ISNA(A291),\"\",IF(LEN(LOOKUP(B291,Database!A:A,Database!I:I))=0,\"\",LOOKUP(B291,Database!A:A,Database!I:I)))","v":""},{"$f":"IF(ISNA(A291),\"\",IF(LEN(LOOKUP(B291,Database!A:A,Database!J:J))=0,\"\",LOOKUP(B291,Database!A:A,Database!J:J)))","v":""},{"$f":"IF(ISNA(A291),\"\",IF(LEN(LOOKUP(B291,Database!A:A,Database!K:K))=0,\"\",LOOKUP(B291,Database!A:A,Database!K:K)))","v":""},{"$f":"IF(ISNA(A291),\"\",IF(LEN(LOOKUP(B291,Database!A:A,Database!L:L))=0,\"\",LOOKUP(B291,Database!A:A,Database!L:L)))","v":""},{"$f":"IF(ISNA(A291),\"\",IF(LEN(LOOKUP(B291,Database!A:A,Database!M:M))=0,\"\",LOOKUP(B291,Database!A:A,Database!M:M)))","v":""},{"$f":"IF(ISNA(A291),\"\",IF(LEN(LOOKUP(B291,Database!A:A,Database!N:N))=0,\"\",LOOKUP(B291,Database!A:A,Database!N:N)))","v":""},{"$f":"IF(ISNA(A291),\"\",IF(LEN(LOOKUP(B291,Database!A:A,Database!O:O))=0,\"\",LOOKUP(B291,Database!A:A,Database!O:O)))","v":""},{"$f":"IF(ISNA(A291),\"\",IF(LEN(LOOKUP(B291,Database!A:A,Database!P:P))=0,\"\",LOOKUP(B291,Database!A:A,Database!P:P)))","v":""},{"$f":"IF(ISNA(A291),\"\",IF(LEN(LOOKUP(B291,Database!A:A,Database!Q:Q))=0,\"\",LOOKUP(B291,Database!A:A,Database!Q:Q)))","v":""},{"$f":"IF(ISNA(A291),\"\",IF(LEN(LOOKUP(B291,Database!A:A,Database!R:R))=0,\"\",LOOKUP(B291,Database!A:A,Database!R:R)))","v":""},{"$f":"IF(ISNA(A291),\"\",IF(LEN(LOOKUP(B291,Database!A:A,Database!S:S))=0,\"\",LOOKUP(B291,Database!A:A,Database!S:S)))","v":""},null,null,null,null,null,null,277,0,null,1,0,null,0.1]
[{"$error":"#N/A"},"2018-10-05",{"$f":"IF(ISNA(A292),\"\",IF(LEN(LOOKUP(B292,Database!A:A,Database!B:B))=0,\"\",LOOKUP(B292,Database!A:A,Database!B:B)))","v":""},{"$f":"IF(ISNA(A292),\"\",IF(LEN(LOOKUP(B292,Database!A:A,Database!C:C))=0,\"\",LOOKUP(B292,Database!A:A,Database!C:C)))","v":""},{"$f":"IF(ISNA(A292),\"\",IF(LEN(LOOKUP(B292,Database!A:A,Database!D:D))=0,\"\",LOOKUP(B292,Database!A:A,Database!D:D)))","v":""},{"$f":"IF(ISNA(A292),\"\",IF(LEN(LOOKUP(B292,Database!A:A,Database!E:E))=0,\"\",LOOKUP(B292,Database!A:A,Database!E:E)))","v":""},{"$f":"IF(ISNA(A292),\"\",IF(LEN(LOOKUP(B292,Database!A:A,Database!F:F))=0,\"\",LOOKUP(B292,Database!A:A,Database!F:F)))","v":""},{"$f":"IF(ISNA(A292),\"\",IF(LEN(LOOKUP(B292,Database!A:A,Database!G:G))=0,\"\",LOOKUP(B292,Database!A:A,Database!G:G)))","v":""},{"$f":"IF(ISNA(A292),\"\",IF(LEN(LOOKUP(B292,Database!A:A,Database!H:H))=0,\"\",LOOKUP(B292,Database!A:A,Database!H:H)))","v":""},{"$f":"IF(ISNA(A292),\"\",IF(LEN(LOOKUP(B292,Database!A:A,Database!I:I))=0,\"\",LOOKUP(B292,Database!A:A,Database!I:I)))","v":""},{"$f":"IF(ISNA(A292),\"\",IF(LEN(LOOKUP(B292,Database!A:A,Database!J:J))=0,\"\",LOOKUP(B292,Database!A:A,Database!J:J)))","v":""},{"$f":"IF(ISNA(A292),\"\",IF(LEN(LOOKUP(B292,Database!A:A,Database!K:K))=0,\"\",LOOKUP(B292,Database!A:A,Database!K:K)))","v":""},{"$f":"IF(ISNA(A292),\"\",IF(LEN(LOOKUP(B292,Database!A:A,Database!L:L))=0,\"\",LOOKUP(B292,Database!A:A,Database!L:L)))","v":""},{"$f":"IF(ISNA(A292),\"\",IF(LEN(LOOKUP(B292,Database!A:A,Database!M:M))=0,\"\",LOOKUP(B292,Database!A:A,Database!M:M)))","v":""},{"$f":"IF(ISNA(A292),\"\",IF(LEN(LOOKUP(B292,Database!A:A,Database!N:N))=0,\"\",LOOKUP(B292,Database!A:A,Database!N:N)))","v":""},{"$f":"IF(ISNA(A292),\"\",IF(LEN(LOOKUP(B292,Database!A:A,Database!O:O))=0,\"\",LOOKUP(B292,Database!A:A,Database!O:O)))","v":""},{"$f":"IF(ISNA(A292),\"\",IF(LEN(LOOKUP(B292,Database!A:A,Database!P:P))=0,\"\",LOOKUP(B292,Database!A:A,Database!P:P)))","v":""},{"$f":"IF(ISNA(A292),\"\",IF(LEN(LOOKUP(B292,Database!A:A,Database!Q:Q))=0,\"\",LOOKUP(B292,Database!A:A,Database!Q:Q)))","v":""},{"$f":"IF(ISNA(A292),\"\",IF(LEN(LOOKUP(B292,Database!A:A,Database!R:R))=0,\"\",LOOKUP(B292,Database!A:A,Database!R:R)))","v":""},{"$f":"IF(ISNA(A292),\"\",IF(LEN(LOOKUP(B292,Database!A:A,Database!S:S))=0,\"\",LOOKUP(B292,Database!A:A,Database!S:S)))","v":""},null,null,null,null,null,null,278,0,null,1,0,null,0.1]
[{"$error":"#N/A"},"2018-10-06",{"$f":"IF(ISNA(A293),\"\",IF(LEN(LOOKUP(B293,Database!A:A,Database!B:B))=0,\"\",LOOKUP(B293,Database!A:A,Database!B:B)))","v":""},{"$f":"IF(ISNA(A293),\"\",IF(LEN(LOOKUP(B293,Database!A:A,Database!C:C))=0,\"\",LOOKUP(B293,Database!A:A,Database!C:C)))","v":""},{"$f":"IF(ISNA(A293),\"\",IF(LEN(LOOKUP(B293,Database!A:A,Database!D:D))=0,\"\",LOOKUP(B293,Database!A:A,Database!D:D)))","v":""},{"$f":"IF(ISNA(A293),\"\",IF(LEN(LOOKUP(B293,Database!A:A,Database!E:E))=0,\"\",LOOKUP(B293,Database!A:A,Database!E:E)))","v":""},{"$f":"IF(ISNA(A293),\"\",IF(LEN(LOOKUP(B293,Database!A:A,Database!F:F))=0,\"\",LOOKUP(B293,Database!A:A,Database!F:F)))","v":""},{"$f":"IF(ISNA(A293),\"\",IF(LEN(LOOKUP(B293,Database!A:A,Database!G:G))=0,\"\",LOOKUP(B293,Database!A:A,Database!G:G)))","v":""},{"$f":"IF(ISNA(A293),\"\",IF(LEN(LOOKUP(B293,Database!A:A,Database!H:H))=0,\"\",LOOKUP(B293,Database!A:A,Database!H:H)))","v":""},{"$f":"IF(ISNA(A293),\"\",IF(LEN(LOOKUP(B293,Database!A:A,Database!I:I))=0,\"\",LOOKUP(B293,Database!A:A,Database!I:I)))","v":""},{"$f":"IF(ISNA(A293),\"\",IF(LEN(LOOKUP(B293,Database!A:A,Database!J:J))=0,\"\",LOOKUP(B293,Database!A:A,Database!J:J)))","v":""},{"$f":"IF(ISNA(A293),\"\",IF(LEN(LOOKUP(B293,Database!A:A,Database!K:K))=0,\"\",LOOKUP(B293,Database!A:A,Database!K:K)))","v":""},{"$f":"IF(ISNA(A293),\"\",IF(LEN(LOOKUP(B293,Database!A:A,Database!L:L))=0,\"\",LOOKUP(B293,Database!A:A,Database!L:L)))","v":""},{"$f":"IF(ISNA(A293),\"\",IF(LEN(LOOKUP(B293,Database!A:A,Database!M:M))=0,\"\",LOOKUP(B293,Database!A:A,Database!M:M)))","v":""},{"$f":"IF(ISNA(A293),\"\",IF(LEN(LOOKUP(B293,Database!A:A,Database!N:N))=0,\"\",LOOKUP(B293,Database!A:A,Database!N:N)))","v":""},{"$f":"IF(ISNA(A293),\"\",IF(LEN(LOOKUP(B293,Database!A:A,Database!O:O))=0,\"\",LOOKUP(B293,Database!A:A,Database!O:O)))","v":""},{"$f":"IF(ISNA(A293),\"\",IF(LEN(LOOKUP(B293,Database!A:A,Database!P:P))=0,\"\",LOOKUP(B293,Database!A:A,Database!P:P)))","v":""},{"$f":"IF(ISNA(A293),\"\",IF(LEN(LOOKUP(B293,Database!A:A,Database!Q:Q))=0,\"\",LOOKUP(B293,Database!A:A,Database!Q:Q)))","v":""},{"$f":"IF(ISNA(A293),\"\",IF(LEN(LOOKUP(B293,Database!A:A,Database!R:R))=0,\"\",LOOKUP(B293,Database!A:A,Database!R:R)))","v":""},{"$f":"IF(ISNA(A293),\"\",IF(LEN(LOOKUP(B293,Database!A:A,Database!S:S))=0,\"\",LOOKUP(B293,Database!A:A,Database!S:S)))","v":""},null,null,null,null,null,null,279,0,null,1,0,null,0.1]
[{"$error":"#N/A"},"2018-10-07",{"$f":"IF(ISNA(A294),\"\",IF(LEN(LOOKUP(B294,Database!A:A,Database!B:B))=0,\"\",LOOKUP(B294,Database!A:A,Database!B:B)))","v":""},{"$f":"IF(ISNA(A294),\"\",IF(LEN(LOOKUP(B294,Database!A:A,Database!C:C))=0,\"\",LOOKUP(B294,Database!A:A,Database!C:C)))","v":""},{"$f":"IF(ISNA(A294),\"\",IF(LEN(LOOKUP(B294,Database!A:A,Database!D:D))=0,\"\",LOOKUP(B294,Database!A:A,Database!D:D)))","v":""},{"$f":"IF(ISNA(A294),\"\",IF(LEN(LOOKUP(B294,Database!A:A,Database!E:E))=0,\"\",LOOKUP(B294,Database!A:A,Database!E:E)))","v":""},{"$f":"IF(ISNA(A294),\"\",IF(LEN(LOOKUP(B294,Database!A:A,Database!F:F))=0,\"\",LOOKUP(B294,Database!A:A,Database!F:F)))","v":""},{"$f":"IF(ISNA(A294),\"\",IF(LEN(LOOKUP(B294,Database!A:A,Database!G:G))=0,\"\",LOOKUP(B294,Database!A:A,Database!G:G)))","v":""},{"$f":"IF(ISNA(A294),\"\",IF(LEN(LOOKUP(B294,Database!A:A,Database!H:H))=0,\"\",LOOKUP(B294,Database!A:A,Database!H:H)))","v":""},{"$f":"IF(ISNA(A294),\"\",IF(LEN(LOOKUP(B294,Database!A:A,Database!I:I))=0,\"\",LOOKUP(B294,Database!A:A,Database!I:I)))","v":""},{"$f":"IF(ISNA(A294),\"\",IF(LEN(LOOKUP(B294,Database!A:A,Database!J:J))=0,\"\",LOOKUP(B294,Database!A:A,Database!J:J)))","v":""},{"$f":"IF(ISNA(A294),\"\",IF(LEN(LOOKUP(B294,Database!A:A,Database!K:K))=0,\"\",LOOKUP(B294,Database!A:A,Database!K:K)))","v":""},{"$f":"IF(ISNA(A294),\"\",IF(LEN(LOOKUP(B294,Database!A:A,Database!L:L))=0,\"\",LOOKUP(B294,Database!A:A,Database!L:L)))","v":""},{"$f":"IF(ISNA(A294),\"\",IF(LEN(LOOKUP(B294,Database!A:A,Database!M:M))=0,\"\",LOOKUP(B294,Database!A:A,Database!M:M)))","v":""},{"$f":"IF(ISNA(A294),\"\",IF(LEN(LOOKUP(B294,Database!A:A,Database!N:N))=0,\"\",LOOKUP(B294,Database!A:A,Database!N:N)))","v":""},{"$f":"IF(ISNA(A294),\"\",IF(LEN(LOOKUP(B294,Database!A:A,Database!O:O))=0,\"\",LOOKUP(B294,Database!A:A,Database!O:O)))","v":""},{"$f":"IF(ISNA(A294),\"\",IF(LEN(LOOKUP(B294,Database!A:A,Database!P:P))=0,\"\",LOOKUP(B294,Database!A:A,Database!P:P)))","v":""},{"$f":"IF(ISNA(A294),\"\",IF(LEN(LOOKUP(B294,Database!A:A,Database!Q:Q))=0,\"\",LOOKUP(B294,Database!A:A,Database!Q:Q)))","v":""},{"$f":"IF(ISNA(A294),\"\",IF(LEN(LOOKUP(B294,Database!A:A,Database!R:R))=0,\"\",LOOKUP(B294,Database!A:A,Database!R:R)))","v":""},{"$f":"IF(ISNA(A294),\"\",IF(LEN(LOOKUP(B294,Database!A:A,Database!S:S))=0,\"\",LOOKUP(B294,Database!A:A,Database!S:S)))","v":""},null,null,null,null,null,null,280,0,null,1,0,null,0.1]
[{"$error":"#N/A"},"2018-10-08",{"$f":"IF(ISNA(A295),\"\",IF(LEN(LOOKUP(B295,Database!A:A,Database!B:B))=0,\"\",LOOKUP(B295,Database!A:A,Database!B:B)))","v":""},{"$f":"IF(ISNA(A295),\"\",IF(LEN(LOOKUP(B295,Database!A:A,Database!C:C))=0,\"\",LOOKUP(B295,Database!A:A,Database!C:C)))","v":""},{"$f":"IF(ISNA(A295),\"\",IF(LEN(LOOKUP(B295,Database!A:A,Database!D:D))=0,\"\",LOOKUP(B295,Database!A:A,Database!D:D)))","v":""},{"$f":"IF(ISNA(A295),\"\",IF(LEN(LOOKUP(B295,Database!A:A,Database!E:E))=0,\"\",LOOKUP(B295,Database!A:A,Database!E:E)))","v":""},{"$f":"IF(ISNA(A295),\"\",IF(LEN(LOOKUP(B295,Database!A:A,Database!F:F))=0,\"\",LOOKUP(B295,Database!A:A,Database!F:F)))","v":""},{"$f":"IF(ISNA(A295),\"\",IF(LEN(LOOKUP(B295,Database!A:A,Database!G:G))=0,\"\",LOOKUP(B295,Database!A:A,Database!G:G)))","v":""},{"$f":"IF(ISNA(A295),\"\",IF(LEN(LOOKUP(B295,Database!A:A,Database!H:H))=0,\"\",LOOKUP(B295,Database!A:A,Database!H:H)))","v":""},{"$f":"IF(ISNA(A295),\"\",IF(LEN(LOOKUP(B295,Database!A:A,Database!I:I))=0,\"\",LOOKUP(B295,Database!A:A,Database!I:I)))","v":""},{"$f":"IF(ISNA(A295),\"\",IF(LEN(LOOKUP(B295,Database!A:A,Database!J:J))=0,\"\",LOOKUP(B295,Database!A:A,Database!J:J)))","v":""},{"$f":"IF(ISNA(A295),\"\",IF(LEN(LOOKUP(B295,Database!A:A,Database!K:K))=0,\"\",LOOKUP(B295,Database!A:A,Database!K:K)))","v":""},{"$f":"IF(ISNA(A295),\"\",IF(LEN(LOOKUP(B295,Database!A:A,Database!L:L))=0,\"\",LOOKUP(B295,Database!A:A,Database!L:L)))","v":""},{"$f":"IF(ISNA(A295),\"\",IF(LEN(LOOKUP(B295,Database!A:A,Database!M:M))=0,\"\",LOOKUP(B295,Database!A:A,Database!M:M)))","v":""},{"$f":"IF(ISNA(A295),\"\",IF(LEN(LOOKUP(B295,Database!A:A,Database!N:N))=0,\"\",LOOKUP(B295,Database!A:A,Database!N:N)))","v":""},{"$f":"IF(ISNA(A295),\"\",IF(LEN(LOOKUP(B295,Database!A:A,Database!O:O))=0,\"\",LOOKUP(B295,Database!A:A,Database!O:O)))","v":""},{"$f":"IF(ISNA(A295),\"\",IF(LEN(LOOKUP(B295,Database!A:A,Database!P:P))=0,\"\",LOOKUP(B295,Database!A:A,Database!P:P)))","v":""},{"$f":"IF(ISNA(A295),\"\",IF(LEN(LOOKUP(B295,Database!A:A,Database!Q:Q))=0,\"\",LOOKUP(B295,Database!A:A,Database!Q:Q)))","v":""},{"$f":"IF(ISNA(A295),\"\",IF(LEN(LOOKUP(B295,Database!A:A,Database!R:R))=0,\"\",LOOKUP(B295,Database!A:A,Database!R:R)))","v":""},{"$f":"IF(ISNA(A295),\"\",IF(LEN(LOOKUP(B295,Database!A:A,Database!S:S))=0,\"\",LOOKUP(B295,Database!A:A,Database!S:S)))","v":""},null,null,null,null,null,null,281,0,null,1,0,null,0.1]
[{"$error":"#N/A"},"2018-10-09",{"$f":"IF(ISNA(A296),\"\",IF(LEN(LOOKUP(B296,Database!A:A,Database!B:B))=0,\"\",LOOKUP(B296,Database!A:A,Database!B:B)))","v":""},{"$f":"IF(ISNA(A296),\"\",IF(LEN(LOOKUP(B296,Database!A:A,Database!C:C))=0,\"\",LOOKUP(B296,Database!A:A,Database!C:C)))","v":""},{"$f":"IF(ISNA(A296),\"\",IF(LEN(LOOKUP(B296,Database!A:A,Database!D:D))=0,\"\",LOOKUP(B296,Database!A:A,Database!D:D)))","v":""},{"$f":"IF(ISNA(A296),\"\",IF(LEN(LOOKUP(B296,Database!A:A,Database!E:E))=0,\"\",LOOKUP(B296,Database!A:A,Database!E:E)))","v":""},{"$f":"IF(ISNA(A296),\"\",IF(LEN(LOOKUP(B296,Database!A:A,Database!F:F))=0,\"\",LOOKUP(B296,Database!A:A,Database!F:F)))","v":""},{"$f":"IF(ISNA(A296),\"\",IF(LEN(LOOKUP(B296,Database!A:A,Database!G:G))=0,\"\",LOOKUP(B296,Database!A:A,Database!G:G)))","v":""},{"$f":"IF(ISNA(A296),\"\",IF(LEN(LOOKUP(B296,Database!A:A,Database!H:H))=0,\"\",LOOKUP(B296,Database!A:A,Database!H:H)))","v":""},{"$f":"IF(ISNA(A296),\"\",IF(LEN(LOOKUP(B296,Database!A:A,Database!I:I))=0,\"\",LOOKUP(B296,Database!A:A,Database!I:I)))","v":""},{"$f":"IF(ISNA(A296),\"\",IF(LEN(LOOKUP(B296,Database!A:A,Database!J:J))=0,\"\",LOOKUP(B296,Database!A:A,Database!J:J)))","v":""},{"$f":"IF(ISNA(A296),\"\",IF(LEN(LOOKUP(B296,Database!A:A,Database!K:K))=0,\"\",LOOKUP(B296,Database!A:A,Database!K:K)))","v":""},{"$f":"IF(ISNA(A296),\"\",IF(LEN(LOOKUP(B296,Database!A:A,Database!L:L))=0,\"\",LOOKUP(B296,Database!A:A,Database!L:L)))","v":""},{"$f":"IF(ISNA(A296),\"\",IF(LEN(LOOKUP(B296,Database!A:A,Database!M:M))=0,\"\",LOOKUP(B296,Database!A:A,Database!M:M)))","v":""},{"$f":"IF(ISNA(A296),\"\",IF(LEN(LOOKUP(B296,Database!A:A,Database!N:N))=0,\"\",LOOKUP(B296,Database!A:A,Database!N:N)))","v":""},{"$f":"IF(ISNA(A296),\"\",IF(LEN(LOOKUP(B296,Database!A:A,Database!O:O))=0,\"\",LOOKUP(B296,Database!A:A,Database!O:O)))","v":""},{"$f":"IF(ISNA(A296),\"\",IF(LEN(LOOKUP(B296,Database!A:A,Database!P:P))=0,\"\",LOOKUP(B296,Database!A:A,Database!P:P)))","v":""},{"$f":"IF(ISNA(A296),\"\",IF(LEN(LOOKUP(B296,Database!A:A,Database!Q:Q))=0,\"\",LOOKUP(B296,Database!A:A,Database!Q:Q)))","v":""},{"$f":"IF(ISNA(A296),\"\",IF(LEN(LOOKUP(B296,Database!A:A,Database!R:R))=0,\"\",LOOKUP(B296,Database!A:A,Database!R:R)))","v":""},{"$f":"IF(ISNA(A296),\"\",IF(LEN(LOOKUP(B296,Database!A:A,Database!S:S))=0,\"\",LOOKUP(B296,Database!A:A,Database!S:S)))","v":""},null,null,null,null,null,null,282,0,null,1,0,null,0.1]
[{"$error":"#N/A"},"2018-10-10",{"$f":"IF(ISNA(A297),\"\",IF(LEN(LOOKUP(B297,Database!A:A,Database!B:B))=0,\"\",LOOKUP(B297,Database!A:A,Database!B:B)))","v":""},{"$f":"IF(ISNA(A297),\"\",IF(LEN(LOOKUP(B297,Database!A:A,Database!C:C))=0,\"\",LOOKUP(B297,Database!A:A,Database!C:C)))","v":""},{"$f":"IF(ISNA(A297),\"\",IF(LEN(LOOKUP(B297,Database!A:A,Database!D:D))=0,\"\",LOOKUP(B297,Database!A:A,Database!D:D)))","v":""},{"$f":"IF(ISNA(A297),\"\",IF(LEN(LOOKUP(B297,Database!A:A,Database!E:E))=0,\"\",LOOKUP(B297,Database!A:A,Database!E:E)))","v":""},{"$f":"IF(ISNA(A297),\"\",IF(LEN(LOOKUP(B297,Database!A:A,Database!F:F))=0,\"\",LOOKUP(B297,Database!A:A,Database!F:F)))","v":""},{"$f":"IF(ISNA(A297),\"\",IF(LEN(LOOKUP(B297,Database!A:A,Database!G:G))=0,\"\",LOOKUP(B297,Database!A:A,Database!G:G)))","v":""},{"$f":"IF(ISNA(A297),\"\",IF(LEN(LOOKUP(B297,Database!A:A,Database!H:H))=0,\"\",LOOKUP(B297,Database!A:A,Database!H:H)))","v":""},{"$f":"IF(ISNA(A297),\"\",IF(LEN(LOOKUP(B297,Database!A:A,Database!I:I))=0,\"\",LOOKUP(B297,Database!A:A,Database!I:I)))","v":""},{"$f":"IF(ISNA(A297),\"\",IF(LEN(LOOKUP(B297,Database!A:A,Database!J:J))=0,\"\",LOOKUP(B297,Database!A:A,Database!J:J)))","v":""},{"$f":"IF(ISNA(A297),\"\",IF(LEN(LOOKUP(B297,Database!A:A,Database!K:K))=0,\"\",LOOKUP(B297,Database!A:A,Database!K:K)))","v":""},{"$f":"IF(ISNA(A297),\"\",IF(LEN(LOOKUP(B297,Database!A:A,Database!L:L))=0,\"\",LOOKUP(B297,Database!A:A,Database!L:L)))","v":""},{"$f":"IF(ISNA(A297),\"\",IF(LEN(LOOKUP(B297,Database!A:A,Database!M:M))=0,\"\",LOOKUP(B297,Database!A:A,Database!M:M)))","v":""},{"$f":"IF(ISNA(A297),\"\",IF(LEN(LOOKUP(B297,Database!A:A,Database!N:N))=0,\"\",LOOKUP(B297,Database!A:A,Database!N:N)))","v":""},{"$f":"IF(ISNA(A297),\"\",IF(LEN(LOOKUP(B297,Database!A:A,Database!O:O))=0,\"\",LOOKUP(B297,Database!A:A,Database!O:O)))","v":""},{"$f":"IF(ISNA(A297),\"\",IF(LEN(LOOKUP(B297,Database!A:A,Database!P:P))=0,\"\",LOOKUP(B297,Database!A:A,Database!P:P)))","v":""},{"$f":"IF(ISNA(A297),\"\",IF(LEN(LOOKUP(B297,Database!A:A,Database!Q:Q))=0,\"\",LOOKUP(B297,Database!A:A,Database!Q:Q)))","v":""},{"$f":"IF(ISNA(A297),\"\",IF(LEN(LOOKUP(B297,Database!A:A,Database!R:R))=0,\"\",LOOKUP(B297,Database!A:A,Database!R:R)))","v":""},{"$f":"IF(ISNA(A297),\"\",IF(LEN(LOOKUP(B297,Database!A:A,Database!S:S))=0,\"\",LOOKUP(B297,Database!A:A,Database!S:S)))","v":""},null,null,null,null,null,null,283,0,null,1,0,null,0.1]
[{"$error":"#N/A"},"2018-10-11",{"$f":"IF(ISNA(A298),\"\",IF(LEN(LOOKUP(B298,Database!A:A,Database!B:B))=0,\"\",LOOKUP(B298,Database!A:A,Database!B:B)))","v":""},{"$f":"IF(ISNA(A298),\"\",IF(LEN(LOOKUP(B298,Database!A:A,Database!C:C))=0,\"\",LOOKUP(B298,Database!A:A,Database!C:C)))","v":""},{"$f":"IF(ISNA(A298),\"\",IF(LEN(LOOKUP(B298,Database!A:A,Database!D:D))=0,\"\",LOOKUP(B298,Database!A:A,Database!D:D)))","v":""},{"$f":"IF(ISNA(A298),\"\",IF(LEN(LOOKUP(B298,Database!A:A,Database!E:E))=0,\"\",LOOKUP(B298,Database!A:A,Database!E:E)))","v":""},{"$f":"IF(ISNA(A298),\"\",IF(LEN(LOOKUP(B298,Database!A:A,Database!F:F))=0,\"\",LOOKUP(B298,Database!A:A,Database!F:F)))","v":""},{"$f":"IF(ISNA(A298),\"\",IF(LEN(LOOKUP(B298,Database!A:A,Database!G:G))=0,\"\",LOOKUP(B298,Database!A:A,Database!G:G)))","v":""},{"$f":"IF(ISNA(A298),\"\",IF(LEN(LOOKUP(B298,Database!A:A,Database!H:H))=0,\"\",LOOKUP(B298,Database!A:A,Database!H:H)))","v":""},{"$f":"IF(ISNA(A298),\"\",IF(LEN(LOOKUP(B298,Database!A:A,Database!I:I))=0,\"\",LOOKUP(B298,Database!A:A,Database!I:I)))","v":""},{"$f":"IF(ISNA(A298),\"\",IF(LEN(LOOKUP(B298,Database!A:A,Database!J:J))=0,\"\",LOOKUP(B298,Database!A:A,Database!J:J)))","v":""},{"$f":"IF(ISNA(A298),\"\",IF(LEN(LOOKUP(B298,Database!A:A,Database!K:K))=0,\"\",LOOKUP(B298,Database!A:A,Database!K:K)))","v":""},{"$f":"IF(ISNA(A298),\"\",IF(LEN(LOOKUP(B298,Database!A:A,Database!L:L))=0,\"\",LOOKUP(B298,Database!A:A,Database!L:L)))","v":""},{"$f":"IF(ISNA(A298),\"\",IF(LEN(LOOKUP(B298,Database!A:A,Database!M:M))=0,\"\",LOOKUP(B298,Database!A:A,Database!M:M)))","v":""},{"$f":"IF(ISNA(A298),\"\",IF(LEN(LOOKUP(B298,Database!A:A,Database!N:N))=0,\"\",LOOKUP(B298,Database!A:A,Database!N:N)))","v":""},{"$f":"IF(ISNA(A298),\"\",IF(LEN(LOOKUP(B298,Database!A:A,Database!O:O))=0,\"\",LOOKUP(B298,Database!A:A,Database!O:O)))","v":""},{"$f":"IF(ISNA(A298),\"\",IF(LEN(LOOKUP(B298,Database!A:A,Database!P:P))=0,\"\",LOOKUP(B298,Database!A:A,Database!P:P)))","v":""},{"$f":"IF(ISNA(A298),\"\",IF(LEN(LOOKUP(B298,Database!A:A,Database!Q:Q))=0,\"\",LOOKUP(B298,Database!A:A,Database!Q:Q)))","v":""},{"$f":"IF(ISNA(A298),\"\",IF(LEN(LOOKUP(B298,Database!A:A,Database!R:R))=0,\"\",LOOKUP(B298,Database!A:A,Database!R:R)))","v":""},{"$f":"IF(ISNA(A298),\"\",IF(LEN(LOOKUP(B298,Database!A:A,Database!S:S))=0,\"\",LOOKUP(B298,Database!A:A,Database!S:S)))","v":""},null,null,null,null,null,null,284,0,null,1,0,null,0.1]
[{"$error":"#N/A"},"2018-10-12",{"$f":"IF(ISNA(A299),\"\",IF(LEN(LOOKUP(B299,Database!A:A,Database!B:B))=0,\"\",LOOKUP(B299,Database!A:A,Database!B:B)))","v":""},{"$f":"IF(ISNA(A299),\"\",IF(LEN(LOOKUP(B299,Database!A:A,Database!C:C))=0,\"\",LOOKUP(B299,Database!A:A,Database!C:C)))","v":""},{"$f":"IF(ISNA(A299),\"\",IF(LEN(LOOKUP(B299,Database!A:A,Database!D:D))=0,\"\",LOOKUP(B299,Database!A:A,Database!D:D)))","v":""},{"$f":"IF(ISNA(A299),\"\",IF(LEN(LOOKUP(B299,Database!A:A,Database!E:E))=0,\"\",LOOKUP(B299,Database!A:A,Database!E:E)))","v":""},{"$f":"IF(ISNA(A299),\"\",IF(LEN(LOOKUP(B299,Database!A:A,Database!F:F))=0,\"\",LOOKUP(B299,Database!A:A,Database!F:F)))","v":""},{"$f":"IF(ISNA(A299),\"\",IF(LEN(LOOKUP(B299,Database!A:A,Database!G:G))=0,\"\",LOOKUP(B299,Database!A:A,Database!G:G)))","v":""},{"$f":"IF(ISNA(A299),\"\",IF(LEN(LOOKUP(B299,Database!A:A,Database!H:H))=0,\"\",LOOKUP(B299,Database!A:A,Database!H:H)))","v":""},{"$f":"IF(ISNA(A299),\"\",IF(LEN(LOOKUP(B299,Database!A:A,Database!I:I))=0,\"\",LOOKUP(B299,Database!A:A,Database!I:I)))","v":""},{"$f":"IF(ISNA(A299),\"\",IF(LEN(LOOKUP(B299,Database!A:A,Database!J:J))=0,\"\",LOOKUP(B299,Database!A:A,Database!J:J)))","v":""},{"$f":"IF(ISNA(A299),\"\",IF(LEN(LOOKUP(B299,Database!A:A,Database!K:K))=0,\"\",LOOKUP(B299,Database!A:A,Database!K:K)))","v":""},{"$f":"IF(ISNA(A299),\"\",IF(LEN(LOOKUP(B299,Database!A:A,Database!L:L))=0,\"\",LOOKUP(B299,Database!A:A,Database!L:L)))","v":""},{"$f":"IF(ISNA(A299),\"\",IF(LEN(LOOKUP(B299,Database!A:A,Database!M:M))=0,\"\",LOOKUP(B299,Database!A:A,Database!M:M)))","v":""},{"$f":"IF(ISNA(A299),\"\",IF(LEN(LOOKUP(B299,Database!A:A,Database!N:N))=0,\"\",LOOKUP(B299,Database!A:A,Database!N:N)))","v":""},{"$f":"IF(ISNA(A299),\"\",IF(LEN(LOOKUP(B299,Database!A:A,Database!O:O))=0,\"\",LOOKUP(B299,Database!A:A,Database!O:O)))","v":""},{"$f":"IF(ISNA(A299),\"\",IF(LEN(LOOKUP(B299,Database!A:A,Database!P:P))=0,\"\",LOOKUP(B299,Database!A:A,Database!P:P)))","v":""},{"$f":"IF(ISNA(A299),\"\",IF(LEN(LOOKUP(B299,Database!A:A,Database!Q:Q))=0,\"\",LOOKUP(B299,Database!A:A,Database!Q:Q)))","v":""},{"$f":"IF(ISNA(A299),\"\",IF(LEN(LOOKUP(B299,Database!A:A,Database!R:R))=0,\"\",LOOKUP(B299,Database!A:A,Database!R:R)))","v":""},{"$f":"IF(ISNA(A299),\"\",IF(LEN(LOOKUP(B299,Database!A:A,Database!S:S))=0,\"\",LOOKUP(B299,Database!A:A,Database!S:S)))","v":""},null,null,null,null,null,null,285,0,null,1,0,null,0.1]
[{"$error":"#N/A"},"2018-10-13",{"$f":"IF(ISNA(A300),\"\",IF(LEN(LOOKUP(B300,Database!A:A,Database!B:B))=0,\"\",LOOKUP(B300,Database!A:A,Database!B:B)))","v":""},{"$f":"IF(ISNA(A300),\"\",IF(LEN(LOOKUP(B300,Database!A:A,Database!C:C))=0,\"\",LOOKUP(B300,Database!A:A,Database!C:C)))","v":""},{"$f":"IF(ISNA(A300),\"\",IF(LEN(LOOKUP(B300,Database!A:A,Database!D:D))=0,\"\",LOOKUP(B300,Database!A:A,Database!D:D)))","v":""},{"$f":"IF(ISNA(A300),\"\",IF(LEN(LOOKUP(B300,Database!A:A,Database!E:E))=0,\"\",LOOKUP(B300,Database!A:A,Database!E:E)))","v":""},{"$f":"IF(ISNA(A300),\"\",IF(LEN(LOOKUP(B300,Database!A:A,Database!F:F))=0,\"\",LOOKUP(B300,Database!A:A,Database!F:F)))","v":""},{"$f":"IF(ISNA(A300),\"\",IF(LEN(LOOKUP(B300,Database!A:A,Database!G:G))=0,\"\",LOOKUP(B300,Database!A:A,Database!G:G)))","v":""},{"$f":"IF(ISNA(A300),\"\",IF(LEN(LOOKUP(B300,Database!A:A,Database!H:H))=0,\"\",LOOKUP(B300,Database!A:A,Database!H:H)))","v":""},{"$f":"IF(ISNA(A300),\"\",IF(LEN(LOOKUP(B300,Database!A:A,Database!I:I))=0,\"\",LOOKUP(B300,Database!A:A,Database!I:I)))","v":""},{"$f":"IF(ISNA(A300),\"\",IF(LEN(LOOKUP(B300,Database!A:A,Database!J:J))=0,\"\",LOOKUP(B300,Database!A:A,Database!J:J)))","v":""},{"$f":"IF(ISNA(A300),\"\",IF(LEN(LOOKUP(B300,Database!A:A,Database!K:K))=0,\"\",LOOKUP(B300,Database!A:A,Database!K:K)))","v":""},{"$f":"IF(ISNA(A300),\"\",IF(LEN(LOOKUP(B300,Database!A:A,Database!L:L))=0,\"\",LOOKUP(B300,Database!A:A,Database!L:L)))","v":""},{"$f":"IF(ISNA(A300),\"\",IF(LEN(LOOKUP(B300,Database!A:A,Database!M:M))=0,\"\",LOOKUP(B300,Database!A:A,Database!M:M)))","v":""},{"$f":"IF(ISNA(A300),\"\",IF(LEN(LOOKUP(B300,Database!A:A,Database!N:N))=0,\"\",LOOKUP(B300,Database!A:A,Database!N:N)))","v":""},{"$f":"IF(ISNA(A300),\"\",IF(LEN(LOOKUP(B300,Database!A:A,Database!O:O))=0,\"\",LOOKUP(B300,Database!A:A,Database!O:O)))","v":""},{"$f":"IF(ISNA(A300),\"\",IF(LEN(LOOKUP(B300,Database!A:A,Database!P:P))=0,\"\",LOOKUP(B300,Database!A:A,Database!P:P)))","v":""},{"$f":"IF(ISNA(A300),\"\",IF(LEN(LOOKUP(B300,Database!A:A,Database!Q:Q))=0,\"\",LOOKUP(B300,Database!A:A,Database!Q:Q)))","v":""},{"$f":"IF(ISNA(A300),\"\",IF(LEN(LOOKUP(B300,Database!A:A,Database!R:R))=0,\"\",LOOKUP(B300,Database!A:A,Database!R:R)))","v":""},{"$f":"IF(ISNA(A300),\"\",IF(LEN(LOOKUP(B300,Database!A:A,Database!S:S))=0,\"\",LOOKUP(B300,Database!A:A,Database!S:S)))","v":""},null,null,null,null,null,null,286,0,null,1,0,null,0.1]
[{"$error":"#N/A"},"2018-10-14",{"$f":"IF(ISNA(A301),\"\",IF(LEN(LOOKUP(B301,Database!A:A,Database!B:B))=0,\"\",LOOKUP(B301,Database!A:A,Database!B:B)))","v":""},{"$f":"IF(ISNA(A301),\"\",IF(LEN(LOOKUP(B301,Database!A:A,Database!C:C))=0,\"\",LOOKUP(B301,Database!A:A,Database!C:C)))","v":""},{"$f":"IF(ISNA(A301),\"\",IF(LEN(LOOKUP(B301,Database!A:A,Database!D:D))=0,\"\",LOOKUP(B301,Database!A:A,Database!D:D)))","v":""},{"$f":"IF(ISNA(A301),\"\",IF(LEN(LOOKUP(B301,Database!A:A,Database!E:E))=0,\"\",LOOKUP(B301,Database!A:A,Database!E:E)))","v":""},{"$f":"IF(ISNA(A301),\"\",IF(LEN(LOOKUP(B301,Database!A:A,Database!F:F))=0,\"\",LOOKUP(B301,Database!A:A,Database!F:F)))","v":""},{"$f":"IF(ISNA(A301),\"\",IF(LEN(LOOKUP(B301,Database!A:A,Database!G:G))=0,\"\",LOOKUP(B301,Database!A:A,Database!G:G)))","v":""},{"$f":"IF(ISNA(A301),\"\",IF(LEN(LOOKUP(B301,Database!A:A,Database!H:H))=0,\"\",LOOKUP(B301,Database!A:A,Database!H:H)))","v":""},{"$f":"IF(ISNA(A301),\"\",IF(LEN(LOOKUP(B301,Database!A:A,Database!I:I))=0,\"\",LOOKUP(B301,Database!A:A,Database!I:I)))","v":""},{"$f":"IF(ISNA(A301),\"\",IF(LEN(LOOKUP(B301,Database!A:A,Database!J:J))=0,\"\",LOOKUP(B301,Database!A:A,Database!J:J)))","v":""},{"$f":"IF(ISNA(A301),\"\",IF(LEN(LOOKUP(B301,Database!A:A,Database!K:K))=0,\"\",LOOKUP(B301,Database!A:A,Database!K:K)))","v":""},{"$f":"IF(ISNA(A301),\"\",IF(LEN(LOOKUP(B301,Database!A:A,Database!L:L))=0,\"\",LOOKUP(B301,Database!A:A,Database!L:L)))","v":""},{"$f":"IF(ISNA(A301),\"\",IF(LEN(LOOKUP(B301,Database!A:A,Database!M:M))=0,\"\",LOOKUP(B301,Database!A:A,Database!M:M)))","v":""},{"$f":"IF(ISNA(A301),\"\",IF(LEN(LOOKUP(B301,Database!A:A,Database!N:N))=0,\"\",LOOKUP(B301,Database!A:A,Database!N:N)))","v":""},{"$f":"IF(ISNA(A301),\"\",IF(LEN(LOOKUP(B301,Database!A:A,Database!O:O))=0,\"\",LOOKUP(B301,Database!A:A,Database!O:O)))","v":""},{"$f":"IF(ISNA(A301),\"\",IF(LEN(LOOKUP(B301,Database!A:A,Database!P:P))=0,\"\",LOOKUP(B301,Database!A:A,Database!P:P)))","v":""},{"$f":"IF(ISNA(A301),\"\",IF(LEN(LOOKUP(B301,Database!A:A,Database!Q:Q))=0,\"\",LOOKUP(B301,Database!A:A,Database!Q:Q)))","v":""},{"$f":"IF(ISNA(A301),\"\",IF(LEN(LOOKUP(B301,Database!A:A,Database!R:R))=0,\"\",LOOKUP(B301,Database!A:A,Database!R:R)))","v":""},{"$f":"IF(ISNA(A301),\"\",IF(LEN(LOOKUP(B301,Database!A:A,Database!S:S))=0,\"\",LOOKUP(B301,Database!A:A,Database!S:S)))","v":""},null,null,null,null,null,null,287,0,null,1,0,null,0.1]
[{"$error":"#N/A"},"2018-10-15",{"$f":"IF(ISNA(A302),\"\",IF(LEN(LOOKUP(B302,Database!A:A,Database!B:B))=0,\"\",LOOKUP(B302,Database!A:A,Database!B:B)))","v":""},{"$f":"IF(ISNA(A302),\"\",IF(LEN(LOOKUP(B302,Database!A:A,Database!C:C))=0,\"\",LOOKUP(B302,Database!A:A,Database!C:C)))","v":""},{"$f":"IF(ISNA(A302),\"\",IF(LEN(LOOKUP(B302,Database!A:A,Database!D:D))=0,\"\",LOOKUP(B302,Database!A:A,Database!D:D)))","v":""},{"$f":"IF(ISNA(A302),\"\",IF(LEN(LOOKUP(B302,Database!A:A,Database!E:E))=0,\"\",LOOKUP(B302,Database!A:A,Database!E:E)))","v":""},{"$f":"IF(ISNA(A302),\"\",IF(LEN(LOOKUP(B302,Database!A:A,Database!F:F))=0,\"\",LOOKUP(B302,Database!A:A,Database!F:F)))","v":""},{"$f":"IF(ISNA(A302),\"\",IF(LEN(LOOKUP(B302,Database!A:A,Database!G:G))=0,\"\",LOOKUP(B302,Database!A:A,Database!G:G)))","v":""},{"$f":"IF(ISNA(A302),\"\",IF(LEN(LOOKUP(B302,Database!A:A,Database!H:H))=0,\"\",LOOKUP(B302,Database!A:A,Database!H:H)))","v":""},{"$f":"IF(ISNA(A302),\"\",IF(LEN(LOOKUP(B302,Database!A:A,Database!I:I))=0,\"\",LOOKUP(B302,Database!A:A,Database!I:I)))","v":""},{"$f":"IF(ISNA(A302),\"\",IF(LEN(LOOKUP(B302,Database!A:A,Database!J:J))=0,\"\",LOOKUP(B302,Database!A:A,Database!J:J)))","v":""},{"$f":"IF(ISNA(A302),\"\",IF(LEN(LOOKUP(B302,Database!A:A,Database!K:K))=0,\"\",LOOKUP(B302,Database!A:A,Database!K:K)))","v":""},{"$f":"IF(ISNA(A302),\"\",IF(LEN(LOOKUP(B302,Database!A:A,Database!L:L))=0,\"\",LOOKUP(B302,Database!A:A,Database!L:L)))","v":""},{"$f":"IF(ISNA(A302),\"\",IF(LEN(LOOKUP(B302,Database!A:A,Database!M:M))=0,\"\",LOOKUP(B302,Database!A:A,Database!M:M)))","v":""},{"$f":"IF(ISNA(A302),\"\",IF(LEN(LOOKUP(B302,Database!A:A,Database!N:N))=0,\"\",LOOKUP(B302,Database!A:A,Database!N:N)))","v":""},{"$f":"IF(ISNA(A302),\"\",IF(LEN(LOOKUP(B302,Database!A:A,Database!O:O))=0,\"\",LOOKUP(B302,Database!A:A,Database!O:O)))","v":""},{"$f":"IF(ISNA(A302),\"\",IF(LEN(LOOKUP(B302,Database!A:A,Database!P:P))=0,\"\",LOOKUP(B302,Database!A:A,Database!P:P)))","v":""},{"$f":"IF(ISNA(A302),\"\",IF(LEN(LOOKUP(B302,Database!A:A,Database!Q:Q))=0,\"\",LOOKUP(B302,Database!A:A,Database!Q:Q)))","v":""},{"$f":"IF(ISNA(A302),\"\",IF(LEN(LOOKUP(B302,Database!A:A,Database!R:R))=0,\"\",LOOKUP(B302,Database!A:A,Database!R:R)))","v":""},{"$f":"IF(ISNA(A302),\"\",IF(LEN(LOOKUP(B302,Database!A:A,Database!S:S))=0,\"\",LOOKUP(B302,Database!A:A,Database!S:S)))","v":""},null,null,null,null,null,null,288,0,null,1,0,null,0.1]
[{"$error":"#N/A"},"2018-10-16",{"$f":"IF(ISNA(A303),\"\",IF(LEN(LOOKUP(B303,Database!A:A,Database!B:B))=0,\"\",LOOKUP(B303,Database!A:A,Database!B:B)))","v":""},{"$f":"IF(ISNA(A303),\"\",IF(LEN(LOOKUP(B303,Database!A:A,Database!C:C))=0,\"\",LOOKUP(B303,Database!A:A,Database!C:C)))","v":""},{"$f":"IF(ISNA(A303),\"\",IF(LEN(LOOKUP(B303,Database!A:A,Database!D:D))=0,\"\",LOOKUP(B303,Database!A:A,Database!D:D)))","v":""},{"$f":"IF(ISNA(A303),\"\",IF(LEN(LOOKUP(B303,Database!A:A,Database!E:E))=0,\"\",LOOKUP(B303,Database!A:A,Database!E:E)))","v":""},{"$f":"IF(ISNA(A303),\"\",IF(LEN(LOOKUP(B303,Database!A:A,Database!F:F))=0,\"\",LOOKUP(B303,Database!A:A,Database!F:F)))","v":""},{"$f":"IF(ISNA(A303),\"\",IF(LEN(LOOKUP(B303,Database!A:A,Database!G:G))=0,\"\",LOOKUP(B303,Database!A:A,Database!G:G)))","v":""},{"$f":"IF(ISNA(A303),\"\",IF(LEN(LOOKUP(B303,Database!A:A,Database!H:H))=0,\"\",LOOKUP(B303,Database!A:A,Database!H:H)))","v":""},{"$f":"IF(ISNA(A303),\"\",IF(LEN(LOOKUP(B303,Database!A:A,Database!I:I))=0,\"\",LOOKUP(B303,Database!A:A,Database!I:I)))","v":""},{"$f":"IF(ISNA(A303),\"\",IF(LEN(LOOKUP(B303,Database!A:A,Database!J:J))=0,\"\",LOOKUP(B303,Database!A:A,Database!J:J)))","v":""},{"$f":"IF(ISNA(A303),\"\",IF(LEN(LOOKUP(B303,Database!A:A,Database!K:K))=0,\"\",LOOKUP(B303,Database!A:A,Database!K:K)))","v":""},{"$f":"IF(ISNA(A303),\"\",IF(LEN(LOOKUP(B303,Database!A:A,Database!L:L))=0,\"\",LOOKUP(B303,Database!A:A,Database!L:L)))","v":""},{"$f":"IF(ISNA(A303),\"\",IF(LEN(LOOKUP(B303,Database!A:A,Database!M:M))=0,\"\",LOOKUP(B303,Database!A:A,Database!M:M)))","v":""},{"$f":"IF(ISNA(A303),\"\",IF(LEN(LOOKUP(B303,Database!A:A,Database!N:N))=0,\"\",LOOKUP(B303,Database!A:A,Database!N:N)))","v":""},{"$f":"IF(ISNA(A303),\"\",IF(LEN(LOOKUP(B303,Database!A:A,Database!O:O))=0,\"\",LOOKUP(B303,Database!A:A,Database!O:O)))","v":""},{"$f":"IF(ISNA(A303),\"\",IF(LEN(LOOKUP(B303,Database!A:A,Database!P:P))=0,\"\",LOOKUP(B303,Database!A:A,Database!P:P)))","v":""},{"$f":"IF(ISNA(A303),\"\",IF(LEN(LOOKUP(B303,Database!A:A,Database!Q:Q))=0,\"\",LOOKUP(B303,Database!A:A,Database!Q:Q)))","v":""},{"$f":"IF(ISNA(A303),\"\",IF(LEN(LOOKUP(B303,Database!A:A,Database!R:R))=0,\"\",LOOKUP(B303,Database!A:A,Database!R:R)))","v":""},{"$f":"IF(ISNA(A303),\"\",IF(LEN(LOOKUP(B303,Database!A:A,Database!S:S))=0,\"\",LOOKUP(B303,Database!A:A,Database!S:S)))","v":""},null,null,null,null,null,null,289,0,null,1,0,null,0.1]
[{"$error":"#N/A"},"2018-10-17",{"$f":"IF(ISNA(A304),\"\",IF(LEN(LOOKUP(B304,Database!A:A,Database!B:B))=0,\"\",LOOKUP(B304,Database!A:A,Database!B:B)))","v":""},{"$f":"IF(ISNA(A304),\"\",IF(LEN(LOOKUP(B304,Database!A:A,Database!C:C))=0,\"\",LOOKUP(B304,Database!A:A,Database!C:C)))","v":""},{"$f":"IF(ISNA(A304),\"\",IF(LEN(LOOKUP(B304,Database!A:A,Database!D:D))=0,\"\",LOOKUP(B304,Database!A:A,Database!D:D)))","v":""},{"$f":"IF(ISNA(A304),\"\",IF(LEN(LOOKUP(B304,Database!A:A,Database!E:E))=0,\"\",LOOKUP(B304,Database!A:A,Database!E:E)))","v":""},{"$f":"IF(ISNA(A304),\"\",IF(LEN(LOOKUP(B304,Database!A:A,Database!F:F))=0,\"\",LOOKUP(B304,Database!A:A,Database!F:F)))","v":""},{"$f":"IF(ISNA(A304),\"\",IF(LEN(LOOKUP(B304,Database!A:A,Database!G:G))=0,\"\",LOOKUP(B304,Database!A:A,Database!G:G)))","v":""},{"$f":"IF(ISNA(A304),\"\",IF(LEN(LOOKUP(B304,Database!A:A,Database!H:H))=0,\"\",LOOKUP(B304,Database!A:A,Database!H:H)))","v":""},{"$f":"IF(ISNA(A304),\"\",IF(LEN(LOOKUP(B304,Database!A:A,Database!I:I))=0,\"\",LOOKUP(B304,Database!A:A,Database!I:I)))","v":""},{"$f":"IF(ISNA(A304),\"\",IF(LEN(LOOKUP(B304,Database!A:A,Database!J:J))=0,\"\",LOOKUP(B304,Database!A:A,Database!J:J)))","v":""},{"$f":"IF(ISNA(A304),\"\",IF(LEN(LOOKUP(B304,Database!A:A,Database!K:K))=0,\"\",LOOKUP(B304,Database!A:A,Database!K:K)))","v":""},{"$f":"IF(ISNA(A304),\"\",IF(LEN(LOOKUP(B304,Database!A:A,Database!L:L))=0,\"\",LOOKUP(B304,Database!A:A,Database!L:L)))","v":""},{"$f":"IF(ISNA(A304),\"\",IF(LEN(LOOKUP(B304,Database!A:A,Database!M:M))=0,\"\",LOOKUP(B304,Database!A:A,Database!M:M)))","v":""},{"$f":"IF(ISNA(A304),\"\",IF(LEN(LOOKUP(B304,Database!A:A,Database!N:N))=0,\"\",LOOKUP(B304,Database!A:A,Database!N:N)))","v":""},{"$f":"IF(ISNA(A304),\"\",IF(LEN(LOOKUP(B304,Database!A:A,Database!O:O))=0,\"\",LOOKUP(B304,Database!A:A,Database!O:O)))","v":""},{"$f":"IF(ISNA(A304),\"\",IF(LEN(LOOKUP(B304,Database!A:A,Database!P:P))=0,\"\",LOOKUP(B304,Database!A:A,Database!P:P)))","v":""},{"$f":"IF(ISNA(A304),\"\",IF(LEN(LOOKUP(B304,Database!A:A,Database!Q:Q))=0,\"\",LOOKUP(B304,Database!A:A,Database!Q:Q)))","v":""},{"$f":"IF(ISNA(A304),\"\",IF(LEN(LOOKUP(B304,Database!A:A,Database!R:R))=0,\"\",LOOKUP(B304,Database!A:A,Database!R:R)))","v":""},{"$f":"IF(ISNA(A304),\"\",IF(LEN(LOOKUP(B304,Database!A:A,Database!S:S))=0,\"\",LOOKUP(B304,Database!A:A,Database!S:S)))","v":""},null,null,null,null,null,null,290,0,null,1,0,null,0.1]
[{"$error":"#N/A"},"2018-10-18",{"$f":"IF(ISNA(A305),\"\",IF(LEN(LOOKUP(B305,Database!A:A,Database!B:B))=0,\"\",LOOKUP(B305,Database!A:A,Database!B:B)))","v":""},{"$f":"IF(ISNA(A305),\"\",IF(LEN(LOOKUP(B305,Database!A:A,Database!C:C))=0,\"\",LOOKUP(B305,Database!A:A,Database!C:C)))","v":""},{"$f":"IF(ISNA(A305),\"\",IF(LEN(LOOKUP(B305,Database!A:A,Database!D:D))=0,\"\",LOOKUP(B305,Database!A:A,Database!D:D)))","v":""},{"$f":"IF(ISNA(A305),\"\",IF(LEN(LOOKUP(B305,Database!A:A,Database!E:E))=0,\"\",LOOKUP(B305,Database!A:A,Database!E:E)))","v":""},{"$f":"IF(ISNA(A305),\"\",IF(LEN(LOOKUP(B305,Database!A:A,Database!F:F))=0,\"\",LOOKUP(B305,Database!A:A,Database!F:F)))","v":""},{"$f":"IF(ISNA(A305),\"\",IF(LEN(LOOKUP(B305,Database!A:A,Database!G:G))=0,\"\",LOOKUP(B305,Database!A:A,Database!G:G)))","v":""},{"$f":"IF(ISNA(A305),\"\",IF(LEN(LOOKUP(B305,Database!A:A,Database!H:H))=0,\"\",LOOKUP(B305,Database!A:A,Database!H:H)))","v":""},{"$f":"IF(ISNA(A305),\"\",IF(LEN(LOOKUP(B305,Database!A:A,Database!I:I))=0,\"\",LOOKUP(B305,Database!A:A,Database!I:I)))","v":""},{"$f":"IF(ISNA(A305),\"\",IF(LEN(LOOKUP(B305,Database!A:A,Database!J:J))=0,\"\",LOOKUP(B305,Database!A:A,Database!J:J)))","v":""},{"$f":"IF(ISNA(A305),\"\",IF(LEN(LOOKUP(B305,Database!A:A,Database!K:K))=0,\"\",LOOKUP(B305,Database!A:A,Database!K:K)))","v":""},{"$f":"IF(ISNA(A305),\"\",IF(LEN(LOOKUP(B305,Database!A:A,Database!L:L))=0,\"\",LOOKUP(B305,Database!A:A,Database!L:L)))","v":""},{"$f":"IF(ISNA(A305),\"\",IF(LEN(LOOKUP(B305,Database!A:A,Database!M:M))=0,\"\",LOOKUP(B305,Database!A:A,Database!M:M)))","v":""},{"$f":"IF(ISNA(A305),\"\",IF(LEN(LOOKUP(B305,Database!A:A,Database!N:N))=0,\"\",LOOKUP(B305,Database!A:A,Database!N:N)))","v":""},{"$f":"IF(ISNA(A305),\"\",IF(LEN(LOOKUP(B305,Database!A:A,Database!O:O))=0,\"\",LOOKUP(B305,Database!A:A,Database!O:O)))","v":""},{"$f":"IF(ISNA(A305),\"\",IF(LEN(LOOKUP(B305,Database!A:A,Database!P:P))=0,\"\",LOOKUP(B305,Database!A:A,Database!P:P)))","v":""},{"$f":"IF(ISNA(A305),\"\",IF(LEN(LOOKUP(B305,Database!A:A,Database!Q:Q))=0,\"\",LOOKUP(B305,Database!A:A,Database!Q:Q)))","v":""},{"$f":"IF(ISNA(A305),\"\",IF(LEN(LOOKUP(B305,Database!A:A,Database!R:R))=0,\"\",LOOKUP(B305,Database!A:A,Database!R:R)))","v":""},{"$f":"IF(ISNA(A305),\"\",IF(LEN(LOOKUP(B305,Database!A:A,Database!S:S))=0,\"\",LOOKUP(B305,Database!A:A,Database!S:S)))","v":""},null,null,null,null,null,null,291,0,null,1,0,null,0.1]
[{"$error":"#N/A"},"2018-10-19",{"$f":"IF(ISNA(A306),\"\",IF(LEN(LOOKUP(B306,Database!A:A,Database!B:B))=0,\"\",LOOKUP(B306,Database!A:A,Database!B:B)))","v":""},{"$f":"IF(ISNA(A306),\"\",IF(LEN(LOOKUP(B306,Database!A:A,Database!C:C))=0,\"\",LOOKUP(B306,Database!A:A,Database!C:C)))","v":""},{"$f":"IF(ISNA(A306),\"\",IF(LEN(LOOKUP(B306,Database!A:A,Database!D:D))=0,\"\",LOOKUP(B306,Database!A:A,Database!D:D)))","v":""},{"$f":"IF(ISNA(A306),\"\",IF(LEN(LOOKUP(B306,Database!A:A,Database!E:E))=0,\"\",LOOKUP(B306,Database!A:A,Database!E:E)))","v":""},{"$f":"IF(ISNA(A306),\"\",IF(LEN(LOOKUP(B306,Database!A:A,Database!F:F))=0,\"\",LOOKUP(B306,Database!A:A,Database!F:F)))","v":""},{"$f":"IF(ISNA(A306),\"\",IF(LEN(LOOKUP(B306,Database!A:A,Database!G:G))=0,\"\",LOOKUP(B306,Database!A:A,Database!G:G)))","v":""},{"$f":"IF(ISNA(A306),\"\",IF(LEN(LOOKUP(B306,Database!A:A,Database!H:H))=0,\"\",LOOKUP(B306,Database!A:A,Database!H:H)))","v":""},{"$f":"IF(ISNA(A306),\"\",IF(LEN(LOOKUP(B306,Database!A:A,Database!I:I))=0,\"\",LOOKUP(B306,Database!A:A,Database!I:I)))","v":""},{"$f":"IF(ISNA(A306),\"\",IF(LEN(LOOKUP(B306,Database!A:A,Database!J:J))=0,\"\",LOOKUP(B306,Database!A:A,Database!J:J)))","v":""},{"$f":"IF(ISNA(A306),\"\",IF(LEN(LOOKUP(B306,Database!A:A,Database!K:K))=0,\"\",LOOKUP(B306,Database!A:A,Database!K:K)))","v":""},{"$f":"IF(ISNA(A306),\"\",IF(LEN(LOOKUP(B306,Database!A:A,Database!L:L))=0,\"\",LOOKUP(B306,Database!A:A,Database!L:L)))","v":""},{"$f":"IF(ISNA(A306),\"\",IF(LEN(LOOKUP(B306,Database!A:A,Database!M:M))=0,\"\",LOOKUP(B306,Database!A:A,Database!M:M)))","v":""},{"$f":"IF(ISNA(A306),\"\",IF(LEN(LOOKUP(B306,Database!A:A,Database!N:N))=0,\"\",LOOKUP(B306,Database!A:A,Database!N:N)))","v":""},{"$f":"IF(ISNA(A306),\"\",IF(LEN(LOOKUP(B306,Database!A:A,Database!O:O))=0,\"\",LOOKUP(B306,Database!A:A,Database!O:O)))","v":""},{"$f":"IF(ISNA(A306),\"\",IF(LEN(LOOKUP(B306,Database!A:A,Database!P:P))=0,\"\",LOOKUP(B306,Database!A:A,Database!P:P)))","v":""},{"$f":"IF(ISNA(A306),\"\",IF(LEN(LOOKUP(B306,Database!A:A,Database!Q:Q))=0,\"\",LOOKUP(B306,Database!A:A,Database!Q:Q)))","v":""},{"$f":"IF(ISNA(A306),\"\",IF(LEN(LOOKUP(B306,Database!A:A,Database!R:R))=0,\"\",LOOKUP(B306,Database!A:A,Database!R:R)))","v":""},{"$f":"IF(ISNA(A306),\"\",IF(LEN(LOOKUP(B306,Database!A:A,Database!S:S))=0,\"\",LOOKUP(B306,Database!A:A,Database!S:S)))","v":""},null,null,null,null,null,null,292,0,null,1,0,null,0.1]
[{"$error":"#N/A"},"2018-10-20",{"$f":"IF(ISNA(A307),\"\",IF(LEN(LOOKUP(B307,Database!A:A,Database!B:B))=0,\"\",LOOKUP(B307,Database!A:A,Database!B:B)))","v":""},{"$f":"IF(ISNA(A307),\"\",IF(LEN(LOOKUP(B307,Database!A:A,Database!C:C))=0,\"\",LOOKUP(B307,Database!A:A,Database!C:C)))","v":""},{"$f":"IF(ISNA(A307),\"\",IF(LEN(LOOKUP(B307,Database!A:A,Database!D:D))=0,\"\",LOOKUP(B307,Database!A:A,Database!D:D)))","v":""},{"$f":"IF(ISNA(A307),\"\",IF(LEN(LOOKUP(B307,Database!A:A,Database!E:E))=0,\"\",LOOKUP(B307,Database!A:A,Database!E:E)))","v":""},{"$f":"IF(ISNA(A307),\"\",IF(LEN(LOOKUP(B307,Database!A:A,Database!F:F))=0,\"\",LOOKUP(B307,Database!A:A,Database!F:F)))","v":""},{"$f":"IF(ISNA(A307),\"\",IF(LEN(LOOKUP(B307,Database!A:A,Database!G:G))=0,\"\",LOOKUP(B307,Database!A:A,Database!G:G)))","v":""},{"$f":"IF(ISNA(A307),\"\",IF(LEN(LOOKUP(B307,Database!A:A,Database!H:H))=0,\"\",LOOKUP(B307,Database!A:A,Database!H:H)))","v":""},{"$f":"IF(ISNA(A307),\"\",IF(LEN(LOOKUP(B307,Database!A:A,Database!I:I))=0,\"\",LOOKUP(B307,Database!A:A,Database!I:I)))","v":""},{"$f":"IF(ISNA(A307),\"\",IF(LEN(LOOKUP(B307,Database!A:A,Database!J:J))=0,\"\",LOOKUP(B307,Database!A:A,Database!J:J)))","v":""},{"$f":"IF(ISNA(A307),\"\",IF(LEN(LOOKUP(B307,Database!A:A,Database!K:K))=0,\"\",LOOKUP(B307,Database!A:A,Database!K:K)))","v":""},{"$f":"IF(ISNA(A307),\"\",IF(LEN(LOOKUP(B307,Database!A:A,Database!L:L))=0,\"\",LOOKUP(B307,Database!A:A,Database!L:L)))","v":""},{"$f":"IF(ISNA(A307),\"\",IF(LEN(LOOKUP(B307,Database!A:A,Database!M:M))=0,\"\",LOOKUP(B307,Database!A:A,Database!M:M)))","v":""},{"$f":"IF(ISNA(A307),\"\",IF(LEN(LOOKUP(B307,Database!A:A,Database!N:N))=0,\"\",LOOKUP(B307,Database!A:A,Database!N:N)))","v":""},{"$f":"IF(ISNA(A307),\"\",IF(LEN(LOOKUP(B307,Database!A:A,Database!O:O))=0,\"\",LOOKUP(B307,Database!A:A,Database!O:O)))","v":""},{"$f":"IF(ISNA(A307),\"\",IF(LEN(LOOKUP(B307,Database!A:A,Database!P:P))=0,\"\",LOOKUP(B307,Database!A:A,Database!P:P)))","v":""},{"$f":"IF(ISNA(A307),\"\",IF(LEN(LOOKUP(B307,Database!A:A,Database!Q:Q))=0,\"\",LOOKUP(B307,Database!A:A,Database!Q:Q)))","v":""},{"$f":"IF(ISNA(A307),\"\",IF(LEN(LOOKUP(B307,Database!A:A,Database!R:R))=0,\"\",LOOKUP(B307,Database!A:A,Database!R:R)))","v":""},{"$f":"IF(ISNA(A307),\"\",IF(LEN(LOOKUP(B307,Database!A:A,Database!S:S))=0,\"\",LOOKUP(B307,Database!A:A,Database!S:S)))","v":""},null,null,null,null,null,null,293,0,null,1,0,null,0.1]
[{"$error":"#N/A"},"2018-10-21",{"$f":"IF(ISNA(A308),\"\",IF(LEN(LOOKUP(B308,Database!A:A,Database!B:B))=0,\"\",LOOKUP(B308,Database!A:A,Database!B:B)))","v":""},{"$f":"IF(ISNA(A308),\"\",IF(LEN(LOOKUP(B308,Database!A:A,Database!C:C))=0,\"\",LOOKUP(B308,Database!A:A,Database!C:C)))","v":""},{"$f":"IF(ISNA(A308),\"\",IF(LEN(LOOKUP(B308,Database!A:A,Database!D:D))=0,\"\",LOOKUP(B308,Database!A:A,Database!D:D)))","v":""},{"$f":"IF(ISNA(A308),\"\",IF(LEN(LOOKUP(B308,Database!A:A,Database!E:E))=0,\"\",LOOKUP(B308,Database!A:A,Database!E:E)))","v":""},{"$f":"IF(ISNA(A308),\"\",IF(LEN(LOOKUP(B308,Database!A:A,Database!F:F))=0,\"\",LOOKUP(B308,Database!A:A,Database!F:F)))","v":""},{"$f":"IF(ISNA(A308),\"\",IF(LEN(LOOKUP(B308,Database!A:A,Database!G:G))=0,\"\",LOOKUP(B308,Database!A:A,Database!G:G)))","v":""},{"$f":"IF(ISNA(A308),\"\",IF(LEN(LOOKUP(B308,Database!A:A,Database!H:H))=0,\"\",LOOKUP(B308,Database!A:A,Database!H:H)))","v":""},{"$f":"IF(ISNA(A308),\"\",IF(LEN(LOOKUP(B308,Database!A:A,Database!I:I))=0,\"\",LOOKUP(B308,Database!A:A,Database!I:I)))","v":""},{"$f":"IF(ISNA(A308),\"\",IF(LEN(LOOKUP(B308,Database!A:A,Database!J:J))=0,\"\",LOOKUP(B308,Database!A:A,Database!J:J)))","v":""},{"$f":"IF(ISNA(A308),\"\",IF(LEN(LOOKUP(B308,Database!A:A,Database!K:K))=0,\"\",LOOKUP(B308,Database!A:A,Database!K:K)))","v":""},{"$f":"IF(ISNA(A308),\"\",IF(LEN(LOOKUP(B308,Database!A:A,Database!L:L))=0,\"\",LOOKUP(B308,Database!A:A,Database!L:L)))","v":""},{"$f":"IF(ISNA(A308),\"\",IF(LEN(LOOKUP(B308,Database!A:A,Database!M:M))=0,\"\",LOOKUP(B308,Database!A:A,Database!M:M)))","v":""},{"$f":"IF(ISNA(A308),\"\",IF(LEN(LOOKUP(B308,Database!A:A,Database!N:N))=0,\"\",LOOKUP(B308,Database!A:A,Database!N:N)))","v":""},{"$f":"IF(ISNA(A308),\"\",IF(LEN(LOOKUP(B308,Database!A:A,Database!O:O))=0,\"\",LOOKUP(B308,Database!A:A,Database!O:O)))","v":""},{"$f":"IF(ISNA(A308),\"\",IF(LEN(LOOKUP(B308,Database!A:A,Database!P:P))=0,\"\",LOOKUP(B308,Database!A:A,Database!P:P)))","v":""},{"$f":"IF(ISNA(A308),\"\",IF(LEN(LOOKUP(B308,Database!A:A,Database!Q:Q))=0,\"\",LOOKUP(B308,Database!A:A,Database!Q:Q)))","v":""},{"$f":"IF(ISNA(A308),\"\",IF(LEN(LOOKUP(B308,Database!A:A,Database!R:R))=0,\"\",LOOKUP(B308,Database!A:A,Database!R:R)))","v":""},{"$f":"IF(ISNA(A308),\"\",IF(LEN(LOOKUP(B308,Database!A:A,Database!S:S))=0,\"\",LOOKUP(B308,Database!A:A,Database!S:S)))","v":""},null,null,null,null,null,null,294,0,null,1,0,null,0.1]
[{"$error":"#N/A"},"2018-10-22",{"$f":"IF(ISNA(A309),\"\",IF(LEN(LOOKUP(B309,Database!A:A,Database!B:B))=0,\"\",LOOKUP(B309,Database!A:A,Database!B:B)))","v":""},{"$f":"IF(ISNA(A309),\"\",IF(LEN(LOOKUP(B309,Database!A:A,Database!C:C))=0,\"\",LOOKUP(B309,Database!A:A,Database!C:C)))","v":""},{"$f":"IF(ISNA(A309),\"\",IF(LEN(LOOKUP(B309,Database!A:A,Database!D:D))=0,\"\",LOOKUP(B309,Database!A:A,Database!D:D)))","v":""},{"$f":"IF(ISNA(A309),\"\",IF(LEN(LOOKUP(B309,Database!A:A,Database!E:E))=0,\"\",LOOKUP(B309,Database!A:A,Database!E:E)))","v":""},{"$f":"IF(ISNA(A309),\"\",IF(LEN(LOOKUP(B309,Database!A:A,Database!F:F))=0,\"\",LOOKUP(B309,Database!A:A,Database!F:F)))","v":""},{"$f":"IF(ISNA(A309),\"\",IF(LEN(LOOKUP(B309,Database!A:A,Database!G:G))=0,\"\",LOOKUP(B309,Database!A:A,Database!G:G)))","v":""},{"$f":"IF(ISNA(A309),\"\",IF(LEN(LOOKUP(B309,Database!A:A,Database!H:H))=0,\"\",LOOKUP(B309,Database!A:A,Database!H:H)))","v":""},{"$f":"IF(ISNA(A309),\"\",IF(LEN(LOOKUP(B309,Database!A:A,Database!I:I))=0,\"\",LOOKUP(B309,Database!A:A,Database!I:I)))","v":""},{"$f":"IF(ISNA(A309),\"\",IF(LEN(LOOKUP(B309,Database!A:A,Database!J:J))=0,\"\",LOOKUP(B309,Database!A:A,Database!J:J)))","v":""},{"$f":"IF(ISNA(A309),\"\",IF(LEN(LOOKUP(B309,Database!A:A,Database!K:K))=0,\"\",LOOKUP(B309,Database!A:A,Database!K:K)))","v":""},{"$f":"IF(ISNA(A309),\"\",IF(LEN(LOOKUP(B309,Database!A:A,Database!L:L))=0,\"\",LOOKUP(B309,Database!A:A,Database!L:L)))","v":""},{"$f":"IF(ISNA(A309),\"\",IF(LEN(LOOKUP(B309,Database!A:A,Database!M:M))=0,\"\",LOOKUP(B309,Database!A:A,Database!M:M)))","v":""},{"$f":"IF(ISNA(A309),\"\",IF(LEN(LOOKUP(B309,Database!A:A,Database!N:N))=0,\"\",LOOKUP(B309,Database!A:A,Database!N:N)))","v":""},{"$f":"IF(ISNA(A309),\"\",IF(LEN(LOOKUP(B309,Database!A:A,Database!O:O))=0,\"\",LOOKUP(B309,Database!A:A,Database!O:O)))","v":""},{"$f":"IF(ISNA(A309),\"\",IF(LEN(LOOKUP(B309,Database!A:A,Database!P:P))=0,\"\",LOOKUP(B309,Database!A:A,Database!P:P)))","v":""},{"$f":"IF(ISNA(A309),\"\",IF(LEN(LOOKUP(B309,Database!A:A,Database!Q:Q))=0,\"\",LOOKUP(B309,Database!A:A,Database!Q:Q)))","v":""},{"$f":"IF(ISNA(A309),\"\",IF(LEN(LOOKUP(B309,Database!A:A,Database!R:R))=0,\"\",LOOKUP(B309,Database!A:A,Database!R:R)))","v":""},{"$f":"IF(ISNA(A309),\"\",IF(LEN(LOOKUP(B309,Database!A:A,Database!S:S))=0,\"\",LOOKUP(B309,Database!A:A,Database!S:S)))","v":""},null,null,null,null,null,null,295,0,null,1,0,null,0.1]
[{"$error":"#N/A"},"2018-10-23",{"$f":"IF(ISNA(A310),\"\",IF(LEN(LOOKUP(B310,Database!A:A,Database!B:B))=0,\"\",LOOKUP(B310,Database!A:A,Database!B:B)))","v":""},{"$f":"IF(ISNA(A310),\"\",IF(LEN(LOOKUP(B310,Database!A:A,Database!C:C))=0,\"\",LOOKUP(B310,Database!A:A,Database!C:C)))","v":""},{"$f":"IF(ISNA(A310),\"\",IF(LEN(LOOKUP(B310,Database!A:A,Database!D:D))=0,\"\",LOOKUP(B310,Database!A:A,Database!D:D)))","v":""},{"$f":"IF(ISNA(A310),\"\",IF(LEN(LOOKUP(B310,Database!A:A,Database!E:E))=0,\"\",LOOKUP(B310,Database!A:A,Database!E:E)))","v":""},{"$f":"IF(ISNA(A310),\"\",IF(LEN(LOOKUP(B310,Database!A:A,Database!F:F))=0,\"\",LOOKUP(B310,Database!A:A,Database!F:F)))","v":""},{"$f":"IF(ISNA(A310),\"\",IF(LEN(LOOKUP(B310,Database!A:A,Database!G:G))=0,\"\",LOOKUP(B310,Database!A:A,Database!G:G)))","v":""},{"$f":"IF(ISNA(A310),\"\",IF(LEN(LOOKUP(B310,Database!A:A,Database!H:H))=0,\"\",LOOKUP(B310,Database!A:A,Database!H:H)))","v":""},{"$f":"IF(ISNA(A310),\"\",IF(LEN(LOOKUP(B310,Database!A:A,Database!I:I))=0,\"\",LOOKUP(B310,Database!A:A,Database!I:I)))","v":""},{"$f":"IF(ISNA(A310),\"\",IF(LEN(LOOKUP(B310,Database!A:A,Database!J:J))=0,\"\",LOOKUP(B310,Database!A:A,Database!J:J)))","v":""},{"$f":"IF(ISNA(A310),\"\",IF(LEN(LOOKUP(B310,Database!A:A,Database!K:K))=0,\"\",LOOKUP(B310,Database!A:A,Database!K:K)))","v":""},{"$f":"IF(ISNA(A310),\"\",IF(LEN(LOOKUP(B310,Database!A:A,Database!L:L))=0,\"\",LOOKUP(B310,Database!A:A,Database!L:L)))","v":""},{"$f":"IF(ISNA(A310),\"\",IF(LEN(LOOKUP(B310,Database!A:A,Database!M:M))=0,\"\",LOOKUP(B310,Database!A:A,Database!M:M)))","v":""},{"$f":"IF(ISNA(A310),\"\",IF(LEN(LOOKUP(B310,Database!A:A,Database!N:N))=0,\"\",LOOKUP(B310,Database!A:A,Database!N:N)))","v":""},{"$f":"IF(ISNA(A310),\"\",IF(LEN(LOOKUP(B310,Database!A:A,Database!O:O))=0,\"\",LOOKUP(B310,Database!A:A,Database!O:O)))","v":""},{"$f":"IF(ISNA(A310),\"\",IF(LEN(LOOKUP(B310,Database!A:A,Database!P:P))=0,\"\",LOOKUP(B310,Database!A:A,Database!P:P)))","v":""},{"$f":"IF(ISNA(A310),\"\",IF(LEN(LOOKUP(B310,Database!A:A,Database!Q:Q))=0,\"\",LOOKUP(B310,Database!A:A,Database!Q:Q)))","v":""},{"$f":"IF(ISNA(A310),\"\",IF(LEN(LOOKUP(B310,Database!A:A,Database!R:R))=0,\"\",LOOKUP(B310,Database!A:A,Database!R:R)))","v":""},{"$f":"IF(ISNA(A310),\"\",IF(LEN(LOOKUP(B310,Database!A:A,Database!S:S))=0,\"\",LOOKUP(B310,Database!A:A,Database!S:S)))","v":""},null,null,null,null,null,null,296,0,null,1,0,null,0.1]
[{"$error":"#N/A"},"2018-10-24",{"$f":"IF(ISNA(A311),\"\",IF(LEN(LOOKUP(B311,Database!A:A,Database!B:B))=0,\"\",LOOKUP(B311,Database!A:A,Database!B:B)))","v":""},{"$f":"IF(ISNA(A311),\"\",IF(LEN(LOOKUP(B311,Database!A:A,Database!C:C))=0,\"\",LOOKUP(B311,Database!A:A,Database!C:C)))","v":""},{"$f":"IF(ISNA(A311),\"\",IF(LEN(LOOKUP(B311,Database!A:A,Database!D:D))=0,\"\",LOOKUP(B311,Database!A:A,Database!D:D)))","v":""},{"$f":"IF(ISNA(A311),\"\",IF(LEN(LOOKUP(B311,Database!A:A,Database!E:E))=0,\"\",LOOKUP(B311,Database!A:A,Database!E:E)))","v":""},{"$f":"IF(ISNA(A311),\"\",IF(LEN(LOOKUP(B311,Database!A:A,Database!F:F))=0,\"\",LOOKUP(B311,Database!A:A,Database!F:F)))","v":""},{"$f":"IF(ISNA(A311),\"\",IF(LEN(LOOKUP(B311,Database!A:A,Database!G:G))=0,\"\",LOOKUP(B311,Database!A:A,Database!G:G)))","v":""},{"$f":"IF(ISNA(A311),\"\",IF(LEN(LOOKUP(B311,Database!A:A,Database!H:H))=0,\"\",LOOKUP(B311,Database!A:A,Database!H:H)))","v":""},{"$f":"IF(ISNA(A311),\"\",IF(LEN(LOOKUP(B311,Database!A:A,Database!I:I))=0,\"\",LOOKUP(B311,Database!A:A,Database!I:I)))","v":""},{"$f":"IF(ISNA(A311),\"\",IF(LEN(LOOKUP(B311,Database!A:A,Database!J:J))=0,\"\",LOOKUP(B311,Database!A:A,Database!J:J)))","v":""},{"$f":"IF(ISNA(A311),\"\",IF(LEN(LOOKUP(B311,Database!A:A,Database!K:K))=0,\"\",LOOKUP(B311,Database!A:A,Database!K:K)))","v":""},{"$f":"IF(ISNA(A311),\"\",IF(LEN(LOOKUP(B311,Database!A:A,Database!L:L))=0,\"\",LOOKUP(B311,Database!A:A,Database!L:L)))","v":""},{"$f":"IF(ISNA(A311),\"\",IF(LEN(LOOKUP(B311,Database!A:A,Database!M:M))=0,\"\",LOOKUP(B311,Database!A:A,Database!M:M)))","v":""},{"$f":"IF(ISNA(A311),\"\",IF(LEN(LOOKUP(B311,Database!A:A,Database!N:N))=0,\"\",LOOKUP(B311,Database!A:A,Database!N:N)))","v":""},{"$f":"IF(ISNA(A311),\"\",IF(LEN(LOOKUP(B311,Database!A:A,Database!O:O))=0,\"\",LOOKUP(B311,Database!A:A,Database!O:O)))","v":""},{"$f":"IF(ISNA(A311),\"\",IF(LEN(LOOKUP(B311,Database!A:A,Database!P:P))=0,\"\",LOOKUP(B311,Database!A:A,Database!P:P)))","v":""},{"$f":"IF(ISNA(A311),\"\",IF(LEN(LOOKUP(B311,Database!A:A,Database!Q:Q))=0,\"\",LOOKUP(B311,Database!A:A,Database!Q:Q)))","v":""},{"$f":"IF(ISNA(A311),\"\",IF(LEN(LOOKUP(B311,Database!A:A,Database!R:R))=0,\"\",LOOKUP(B311,Database!A:A,Database!R:R)))","v":""},{"$f":"IF(ISNA(A311),\"\",IF(LEN(LOOKUP(B311,Database!A:A,Database!S:S))=0,\"\",LOOKUP(B311,Database!A:A,Database!S:S)))","v":""},null,null,null,null,null,null,297,0,null,1,0,null,0.1]
[{"$error":"#N/A"},"2018-10-25",{"$f":"IF(ISNA(A312),\"\",IF(LEN(LOOKUP(B312,Database!A:A,Database!B:B))=0,\"\",LOOKUP(B312,Database!A:A,Database!B:B)))","v":""},{"$f":"IF(ISNA(A312),\"\",IF(LEN(LOOKUP(B312,Database!A:A,Database!C:C))=0,\"\",LOOKUP(B312,Database!A:A,Database!C:C)))","v":""},{"$f":"IF(ISNA(A312),\"\",IF(LEN(LOOKUP(B312,Database!A:A,Database!D:D))=0,\"\",LOOKUP(B312,Database!A:A,Database!D:D)))","v":""},{"$f":"IF(ISNA(A312),\"\",IF(LEN(LOOKUP(B312,Database!A:A,Database!E:E))=0,\"\",LOOKUP(B312,Database!A:A,Database!E:E)))","v":""},{"$f":"IF(ISNA(A312),\"\",IF(LEN(LOOKUP(B312,Database!A:A,Database!F:F))=0,\"\",LOOKUP(B312,Database!A:A,Database!F:F)))","v":""},{"$f":"IF(ISNA(A312),\"\",IF(LEN(LOOKUP(B312,Database!A:A,Database!G:G))=0,\"\",LOOKUP(B312,Database!A:A,Database!G:G)))","v":""},{"$f":"IF(ISNA(A312),\"\",IF(LEN(LOOKUP(B312,Database!A:A,Database!H:H))=0,\"\",LOOKUP(B312,Database!A:A,Database!H:H)))","v":""},{"$f":"IF(ISNA(A312),\"\",IF(LEN(LOOKUP(B312,Database!A:A,Database!I:I))=0,\"\",LOOKUP(B312,Database!A:A,Database!I:I)))","v":""},{"$f":"IF(ISNA(A312),\"\",IF(LEN(LOOKUP(B312,Database!A:A,Database!J:J))=0,\"\",LOOKUP(B312,Database!A:A,Database!J:J)))","v":""},{"$f":"IF(ISNA(A312),\"\",IF(LEN(LOOKUP(B312,Database!A:A,Database!K:K))=0,\"\",LOOKUP(B312,Database!A:A,Database!K:K)))","v":""},{"$f":"IF(ISNA(A312),\"\",IF(LEN(LOOKUP(B312,Database!A:A,Database!L:L))=0,\"\",LOOKUP(B312,Database!A:A,Database!L:L)))","v":""},{"$f":"IF(ISNA(A312),\"\",IF(LEN(LOOKUP(B312,Database!A:A,Database!M:M))=0,\"\",LOOKUP(B312,Database!A:A,Database!M:M)))","v":""},{"$f":"IF(ISNA(A312),\"\",IF(LEN(LOOKUP(B312,Database!A:A,Database!N:N))=0,\"\",LOOKUP(B312,Database!A:A,Database!N:N)))","v":""},{"$f":"IF(ISNA(A312),\"\",IF(LEN(LOOKUP(B312,Database!A:A,Database!O:O))=0,\"\",LOOKUP(B312,Database!A:A,Database!O:O)))","v":""},{"$f":"IF(ISNA(A312),\"\",IF(LEN(LOOKUP(B312,Database!A:A,Database!P:P))=0,\"\",LOOKUP(B312,Database!A:A,Database!P:P)))","v":""},{"$f":"IF(ISNA(A312),\"\",IF(LEN(LOOKUP(B312,Database!A:A,Database!Q:Q))=0,\"\",LOOKUP(B312,Database!A:A,Database!Q:Q)))","v":""},{"$f":"IF(ISNA(A312),\"\",IF(LEN(LOOKUP(B312,Database!A:A,Database!R:R))=0,\"\",LOOKUP(B312,Database!A:A,Database!R:R)))","v":""},{"$f":"IF(ISNA(A312),\"\",IF(LEN(LOOKUP(B312,Database!A:A,Database!S:S))=0,\"\",LOOKUP(B312,Database!A:A,Database!S:S)))","v":""},null,null,null,null,null,null,298,0,null,1,0,null,0.1]
[{"$error":"#N/A"},"2018-10-26",{"$f":"IF(ISNA(A313),\"\",IF(LEN(LOOKUP(B313,Database!A:A,Database!B:B))=0,\"\",LOOKUP(B313,Database!A:A,Database!B:B)))","v":""},{"$f":"IF(ISNA(A313),\"\",IF(LEN(LOOKUP(B313,Database!A:A,Database!C:C))=0,\"\",LOOKUP(B313,Database!A:A,Database!C:C)))","v":""},{"$f":"IF(ISNA(A313),\"\",IF(LEN(LOOKUP(B313,Database!A:A,Database!D:D))=0,\"\",LOOKUP(B313,Database!A:A,Database!D:D)))","v":""},{"$f":"IF(ISNA(A313),\"\",IF(LEN(LOOKUP(B313,Database!A:A,Database!E:E))=0,\"\",LOOKUP(B313,Database!A:A,Database!E:E)))","v":""},{"$f":"IF(ISNA(A313),\"\",IF(LEN(LOOKUP(B313,Database!A:A,Database!F:F))=0,\"\",LOOKUP(B313,Database!A:A,Database!F:F)))","v":""},{"$f":"IF(ISNA(A313),\"\",IF(LEN(LOOKUP(B313,Database!A:A,Database!G:G))=0,\"\",LOOKUP(B313,Database!A:A,Database!G:G)))","v":""},{"$f":"IF(ISNA(A313),\"\",IF(LEN(LOOKUP(B313,Database!A:A,Database!H:H))=0,\"\",LOOKUP(B313,Database!A:A,Database!H:H)))","v":""},{"$f":"IF(ISNA(A313),\"\",IF(LEN(LOOKUP(B313,Database!A:A,Database!I:I))=0,\"\",LOOKUP(B313,Database!A:A,Database!I:I)))","v":""},{"$f":"IF(ISNA(A313),\"\",IF(LEN(LOOKUP(B313,Database!A:A,Database!J:J))=0,\"\",LOOKUP(B313,Database!A:A,Database!J:J)))","v":""},{"$f":"IF(ISNA(A313),\"\",IF(LEN(LOOKUP(B313,Database!A:A,Database!K:K))=0,\"\",LOOKUP(B313,Database!A:A,Database!K:K)))","v":""},{"$f":"IF(ISNA(A313),\"\",IF(LEN(LOOKUP(B313,Database!A:A,Database!L:L))=0,\"\",LOOKUP(B313,Database!A:A,Database!L:L)))","v":""},{"$f":"IF(ISNA(A313),\"\",IF(LEN(LOOKUP(B313,Database!A:A,Database!M:M))=0,\"\",LOOKUP(B313,Database!A:A,Database!M:M)))","v":""},{"$f":"IF(ISNA(A313),\"\",IF(LEN(LOOKUP(B313,Database!A:A,Database!N:N))=0,\"\",LOOKUP(B313,Database!A:A,Database!N:N)))","v":""},{"$f":"IF(ISNA(A313),\"\",IF(LEN(LOOKUP(B313,Database!A:A,Database!O:O))=0,\"\",LOOKUP(B313,Database!A:A,Database!O:O)))","v":""},{"$f":"IF(ISNA(A313),\"\",IF(LEN(LOOKUP(B313,Database!A:A,Database!P:P))=0,\"\",LOOKUP(B313,Database!A:A,Database!P:P)))","v":""},{"$f":"IF(ISNA(A313),\"\",IF(LEN(LOOKUP(B313,Database!A:A,Database!Q:Q))=0,\"\",LOOKUP(B313,Database!A:A,Database!Q:Q)))","v":""},{"$f":"IF(ISNA(A313),\"\",IF(LEN(LOOKUP(B313,Database!A:A,Database!R:R))=0,\"\",LOOKUP(B313,Database!A:A,Database!R:R)))","v":""},{"$f":"IF(ISNA(A313),\"\",IF(LEN(LOOKUP(B313,Database!A:A,Database!S:S))=0,\"\",LOOKUP(B313,Database!A:A,Database!S:S)))","v":""},null,null,null,null,null,null,299,0,null,1,0,null,0.1]
[{"$error":"#N/A"},"2018-10-27",{"$f":"IF(ISNA(A314),\"\",IF(LEN(LOOKUP(B314,Database!A:A,Database!B:B))=0,\"\",LOOKUP(B314,Database!A:A,Database!B:B)))","v":""},{"$f":"IF(ISNA(A314),\"\",IF(LEN(LOOKUP(B314,Database!A:A,Database!C:C))=0,\"\",LOOKUP(B314,Database!A:A,Database!C:C)))","v":""},{"$f":"IF(ISNA(A314),\"\",IF(LEN(LOOKUP(B314,Database!A:A,Database!D:D))=0,\"\",LOOKUP(B314,Database!A:A,Database!D:D)))","v":""},{"$f":"IF(ISNA(A314),\"\",IF(LEN(LOOKUP(B314,Database!A:A,Database!E:E))=0,\"\",LOOKUP(B314,Database!A:A,Database!E:E)))","v":""},{"$f":"IF(ISNA(A314),\"\",IF(LEN(LOOKUP(B314,Database!A:A,Database!F:F))=0,\"\",LOOKUP(B314,Database!A:A,Database!F:F)))","v":""},{"$f":"IF(ISNA(A314),\"\",IF(LEN(LOOKUP(B314,Database!A:A,Database!G:G))=0,\"\",LOOKUP(B314,Database!A:A,Database!G:G)))","v":""},{"$f":"IF(ISNA(A314),\"\",IF(LEN(LOOKUP(B314,Database!A:A,Database!H:H))=0,\"\",LOOKUP(B314,Database!A:A,Database!H:H)))","v":""},{"$f":"IF(ISNA(A314),\"\",IF(LEN(LOOKUP(B314,Database!A:A,Database!I:I))=0,\"\",LOOKUP(B314,Database!A:A,Database!I:I)))","v":""},{"$f":"IF(ISNA(A314),\"\",IF(LEN(LOOKUP(B314,Database!A:A,Database!J:J))=0,\"\",LOOKUP(B314,Database!A:A,Database!J:J)))","v":""},{"$f":"IF(ISNA(A314),\"\",IF(LEN(LOOKUP(B314,Database!A:A,Database!K:K))=0,\"\",LOOKUP(B314,Database!A:A,Database!K:K)))","v":""},{"$f":"IF(ISNA(A314),\"\",IF(LEN(LOOKUP(B314,Database!A:A,Database!L:L))=0,\"\",LOOKUP(B314,Database!A:A,Database!L:L)))","v":""},{"$f":"IF(ISNA(A314),\"\",IF(LEN(LOOKUP(B314,Database!A:A,Database!M:M))=0,\"\",LOOKUP(B314,Database!A:A,Database!M:M)))","v":""},{"$f":"IF(ISNA(A314),\"\",IF(LEN(LOOKUP(B314,Database!A:A,Database!N:N))=0,\"\",LOOKUP(B314,Database!A:A,Database!N:N)))","v":""},{"$f":"IF(ISNA(A314),\"\",IF(LEN(LOOKUP(B314,Database!A:A,Database!O:O))=0,\"\",LOOKUP(B314,Database!A:A,Database!O:O)))","v":""},{"$f":"IF(ISNA(A314),\"\",IF(LEN(LOOKUP(B314,Database!A:A,Database!P:P))=0,\"\",LOOKUP(B314,Database!A:A,Database!P:P)))","v":""},{"$f":"IF(ISNA(A314),\"\",IF(LEN(LOOKUP(B314,Database!A:A,Database!Q:Q))=0,\"\",LOOKUP(B314,Database!A:A,Database!Q:Q)))","v":""},{"$f":"IF(ISNA(A314),\"\",IF(LEN(LOOKUP(B314,Database!A:A,Database!R:R))=0,\"\",LOOKUP(B314,Database!A:A,Database!R:R)))","v":""},{"$f":"IF(ISNA(A314),\"\",IF(LEN(LOOKUP(B314,Database!A:A,Database!S:S))=0,\"\",LOOKUP(B314,Database!A:A,Database!S:S)))","v":""},null,null,null,null,null,null,300,0,null,1,0,null,0.1]
[{"$error":"#N/A"},"2018-10-28",{"$f":"IF(ISNA(A315),\"\",IF(LEN(LOOKUP(B315,Database!A:A,Database!B:B))=0,\"\",LOOKUP(B315,Database!A:A,Database!B:B)))","v":""},{"$f":"IF(ISNA(A315),\"\",IF(LEN(LOOKUP(B315,Database!A:A,Database!C:C))=0,\"\",LOOKUP(B315,Database!A:A,Database!C:C)))","v":""},{"$f":"IF(ISNA(A315),\"\",IF(LEN(LOOKUP(B315,Database!A:A,Database!D:D))=0,\"\",LOOKUP(B315,Database!A:A,Database!D:D)))","v":""},{"$f":"IF(ISNA(A315),\"\",IF(LEN(LOOKUP(B315,Database!A:A,Database!E:E))=0,\"\",LOOKUP(B315,Database!A:A,Database!E:E)))","v":""},{"$f":"IF(ISNA(A315),\"\",IF(LEN(LOOKUP(B315,Database!A:A,Database!F:F))=0,\"\",LOOKUP(B315,Database!A:A,Database!F:F)))","v":""},{"$f":"IF(ISNA(A315),\"\",IF(LEN(LOOKUP(B315,Database!A:A,Database!G:G))=0,\"\",LOOKUP(B315,Database!A:A,Database!G:G)))","v":""},{"$f":"IF(ISNA(A315),\"\",IF(LEN(LOOKUP(B315,Database!A:A,Database!H:H))=0,\"\",LOOKUP(B315,Database!A:A,Database!H:H)))","v":""},{"$f":"IF(ISNA(A315),\"\",IF(LEN(LOOKUP(B315,Database!A:A,Database!I:I))=0,\"\",LOOKUP(B315,Database!A:A,Database!I:I)))","v":""},{"$f":"IF(ISNA(A315),\"\",IF(LEN(LOOKUP(B315,Database!A:A,Database!J:J))=0,\"\",LOOKUP(B315,Database!A:A,Database!J:J)))","v":""},{"$f":"IF(ISNA(A315),\"\",IF(LEN(LOOKUP(B315,Database!A:A,Database!K:K))=0,\"\",LOOKUP(B315,Database!A:A,Database!K:K)))","v":""},{"$f":"IF(ISNA(A315),\"\",IF(LEN(LOOKUP(B315,Database!A:A,Database!L:L))=0,\"\",LOOKUP(B315,Database!A:A,Database!L:L)))","v":""},{"$f":"IF(ISNA(A315),\"\",IF(LEN(LOOKUP(B315,Database!A:A,Database!M:M))=0,\"\",LOOKUP(B315,Database!A:A,Database!M:M)))","v":""},{"$f":"IF(ISNA(A315),\"\",IF(LEN(LOOKUP(B315,Database!A:A,Database!N:N))=0,\"\",LOOKUP(B315,Database!A:A,Database!N:N)))","v":""},{"$f":"IF(ISNA(A315),\"\",IF(LEN(LOOKUP(B315,Database!A:A,Database!O:O))=0,\"\",LOOKUP(B315,Database!A:A,Database!O:O)))","v":""},{"$f":"IF(ISNA(A315),\"\",IF(LEN(LOOKUP(B315,Database!A:A,Database!P:P))=0,\"\",LOOKUP(B315,Database!A:A,Database!P:P)))","v":""},{"$f":"IF(ISNA(A315),\"\",IF(LEN(LOOKUP(B315,Database!A:A,Database!Q:Q))=0,\"\",LOOKUP(B315,Database!A:A,Database!Q:Q)))","v":""},{"$f":"IF(ISNA(A315),\"\",IF(LEN(LOOKUP(B315,Database!A:A,Database!R:R))=0,\"\",LOOKUP(B315,Database!A:A,Database!R:R)))","v":""},{"$f":"IF(ISNA(A315),\"\",IF(LEN(LOOKUP(B315,Database!A:A,Database!S:S))=0,\"\",LOOKUP(B315,Database!A:A,Database!S:S)))","v":""},null,null,null,null,null,null,301,0,null,1,0,null,0.1]
[{"$error":"#N/A"},"2018-10-29",{"$f":"IF(ISNA(A316),\"\",IF(LEN(LOOKUP(B316,Database!A:A,Database!B:B))=0,\"\",LOOKUP(B316,Database!A:A,Database!B:B)))","v":""},{"$f":"IF(ISNA(A316),\"\",IF(LEN(LOOKUP(B316,Database!A:A,Database!C:C))=0,\"\",LOOKUP(B316,Database!A:A,Database!C:C)))","v":""},{"$f":"IF(ISNA(A316),\"\",IF(LEN(LOOKUP(B316,Database!A:A,Database!D:D))=0,\"\",LOOKUP(B316,Database!A:A,Database!D:D)))","v":""},{"$f":"IF(ISNA(A316),\"\",IF(LEN(LOOKUP(B316,Database!A:A,Database!E:E))=0,\"\",LOOKUP(B316,Database!A:A,Database!E:E)))","v":""},{"$f":"IF(ISNA(A316),\"\",IF(LEN(LOOKUP(B316,Database!A:A,Database!F:F))=0,\"\",LOOKUP(B316,Database!A:A,Database!F:F)))","v":""},{"$f":"IF(ISNA(A316),\"\",IF(LEN(LOOKUP(B316,Database!A:A,Database!G:G))=0,\"\",LOOKUP(B316,Database!A:A,Database!G:G)))","v":""},{"$f":"IF(ISNA(A316),\"\",IF(LEN(LOOKUP(B316,Database!A:A,Database!H:H))=0,\"\",LOOKUP(B316,Database!A:A,Database!H:H)))","v":""},{"$f":"IF(ISNA(A316),\"\",IF(LEN(LOOKUP(B316,Database!A:A,Database!I:I))=0,\"\",LOOKUP(B316,Database!A:A,Database!I:I)))","v":""},{"$f":"IF(ISNA(A316),\"\",IF(LEN(LOOKUP(B316,Database!A:A,Database!J:J))=0,\"\",LOOKUP(B316,Database!A:A,Database!J:J)))","v":""},{"$f":"IF(ISNA(A316),\"\",IF(LEN(LOOKUP(B316,Database!A:A,Database!K:K))=0,\"\",LOOKUP(B316,Database!A:A,Database!K:K)))","v":""},{"$f":"IF(ISNA(A316),\"\",IF(LEN(LOOKUP(B316,Database!A:A,Database!L:L))=0,\"\",LOOKUP(B316,Database!A:A,Database!L:L)))","v":""},{"$f":"IF(ISNA(A316),\"\",IF(LEN(LOOKUP(B316,Database!A:A,Database!M:M))=0,\"\",LOOKUP(B316,Database!A:A,Database!M:M)))","v":""},{"$f":"IF(ISNA(A316),\"\",IF(LEN(LOOKUP(B316,Database!A:A,Database!N:N))=0,\"\",LOOKUP(B316,Database!A:A,Database!N:N)))","v":""},{"$f":"IF(ISNA(A316),\"\",IF(LEN(LOOKUP(B316,Database!A:A,Database!O:O))=0,\"\",LOOKUP(B316,Database!A:A,Database!O:O)))","v":""},{"$f":"IF(ISNA(A316),\"\",IF(LEN(LOOKUP(B316,Database!A:A,Database!P:P))=0,\"\",LOOKUP(B316,Database!A:A,Database!P:P)))","v":""},{"$f":"IF(ISNA(A316),\"\",IF(LEN(LOOKUP(B316,Database!A:A,Database!Q:Q))=0,\"\",LOOKUP(B316,Database!A:A,Database!Q:Q)))","v":""},{"$f":"IF(ISNA(A316),\"\",IF(LEN(LOOKUP(B316,Database!A:A,Database!R:R))=0,\"\",LOOKUP(B316,Database!A:A,Database!R:R)))","v":""},{"$f":"IF(ISNA(A316),\"\",IF(LEN(LOOKUP(B316,Database!A:A,Database!S:S))=0,\"\",LOOKUP(B316,Database!A:A,Database!S:S)))","v":""},null,null,null,null,null,null,302,0,null,1,0,null,0.1]
[{"$error":"#N/A"},"2018-10-30",{"$f":"IF(ISNA(A317),\"\",IF(LEN(LOOKUP(B317,Database!A:A,Database!B:B))=0,\"\",LOOKUP(B317,Database!A:A,Database!B:B)))","v":""},{"$f":"IF(ISNA(A317),\"\",IF(LEN(LOOKUP(B317,Database!A:A,Database!C:C))=0,\"\",LOOKUP(B317,Database!A:A,Database!C:C)))","v":""},{"$f":"IF(ISNA(A317),\"\",IF(LEN(LOOKUP(B317,Database!A:A,Database!D:D))=0,\"\",LOOKUP(B317,Database!A:A,Database!D:D)))","v":""},{"$f":"IF(ISNA(A317),\"\",IF(LEN(LOOKUP(B317,Database!A:A,Database!E:E))=0,\"\",LOOKUP(B317,Database!A:A,Database!E:E)))","v":""},{"$f":"IF(ISNA(A317),\"\",IF(LEN(LOOKUP(B317,Database!A:A,Database!F:F))=0,\"\",LOOKUP(B317,Database!A:A,Database!F:F)))","v":""},{"$f":"IF(ISNA(A317),\"\",IF(LEN(LOOKUP(B317,Database!A:A,Database!G:G))=0,\"\",LOOKUP(B317,Database!A:A,Database!G:G)))","v":""},{"$f":"IF(ISNA(A317),\"\",IF(LEN(LOOKUP(B317,Database!A:A,Database!H:H))=0,\"\",LOOKUP(B317,Database!A:A,Database!H:H)))","v":""},{"$f":"IF(ISNA(A317),\"\",IF(LEN(LOOKUP(B317,Database!A:A,Database!I:I))=0,\"\",LOOKUP(B317,Database!A:A,Database!I:I)))","v":""},{"$f":"IF(ISNA(A317),\"\",IF(LEN(LOOKUP(B317,Database!A:A,Database!J:J))=0,\"\",LOOKUP(B317,Database!A:A,Database!J:J)))","v":""},{"$f":"IF(ISNA(A317),\"\",IF(LEN(LOOKUP(B317,Database!A:A,Database!K:K))=0,\"\",LOOKUP(B317,Database!A:A,Database!K:K)))","v":""},{"$f":"IF(ISNA(A317),\"\",IF(LEN(LOOKUP(B317,Database!A:A,Database!L:L))=0,\"\",LOOKUP(B317,Database!A:A,Database!L:L)))","v":""},{"$f":"IF(ISNA(A317),\"\",IF(LEN(LOOKUP(B317,Database!A:A,Database!M:M))=0,\"\",LOOKUP(B317,Database!A:A,Database!M:M)))","v":""},{"$f":"IF(ISNA(A317),\"\",IF(LEN(LOOKUP(B317,Database!A:A,Database!N:N))=0,\"\",LOOKUP(B317,Database!A:A,Database!N:N)))","v":""},{"$f":"IF(ISNA(A317),\"\",IF(LEN(LOOKUP(B317,Database!A:A,Database!O:O))=0,\"\",LOOKUP(B317,Database!A:A,Database!O:O)))","v":""},{"$f":"IF(ISNA(A317),\"\",IF(LEN(LOOKUP(B317,Database!A:A,Database!P:P))=0,\"\",LOOKUP(B317,Database!A:A,Database!P:P)))","v":""},{"$f":"IF(ISNA(A317),\"\",IF(LEN(LOOKUP(B317,Database!A:A,Database!Q:Q))=0,\"\",LOOKUP(B317,Database!A:A,Database!Q:Q)))","v":""},{"$f":"IF(ISNA(A317),\"\",IF(LEN(LOOKUP(B317,Database!A:A,Database!R:R))=0,\"\",LOOKUP(B317,Database!A:A,Database!R:R)))","v":""},{"$f":"IF(ISNA(A317),\"\",IF(LEN(LOOKUP(B317,Database!A:A,Database!S:S))=0,\"\",LOOKUP(B317,Database!A:A,Database!S:S)))","v":""},null,null,null,null,null,null,303,0,null,1,0,null,0.1]
[{"$error":"#N/A"},"2018-10-31",{"$f":"IF(ISNA(A318),\"\",IF(LEN(LOOKUP(B318,Database!A:A,Database!B:B))=0,\"\",LOOKUP(B318,Database!A:A,Database!B:B)))","v":""},{"$f":"IF(ISNA(A318),\"\",IF(LEN(LOOKUP(B318,Database!A:A,Database!C:C))=0,\"\",LOOKUP(B318,Database!A:A,Database!C:C)))","v":""},{"$f":"IF(ISNA(A318),\"\",IF(LEN(LOOKUP(B318,Database!A:A,Database!D:D))=0,\"\",LOOKUP(B318,Database!A:A,Database!D:D)))","v":""},{"$f":"IF(ISNA(A318),\"\",IF(LEN(LOOKUP(B318,Database!A:A,Database!E:E))=0,\"\",LOOKUP(B318,Database!A:A,Database!E:E)))","v":""},{"$f":"IF(ISNA(A318),\"\",IF(LEN(LOOKUP(B318,Database!A:A,Database!F:F))=0,\"\",LOOKUP(B318,Database!A:A,Database!F:F)))","v":""},{"$f":"IF(ISNA(A318),\"\",IF(LEN(LOOKUP(B318,Database!A:A,Database!G:G))=0,\"\",LOOKUP(B318,Database!A:A,Database!G:G)))","v":""},{"$f":"IF(ISNA(A318),\"\",IF(LEN(LOOKUP(B318,Database!A:A,Database!H:H))=0,\"\",LOOKUP(B318,Database!A:A,Database!H:H)))","v":""},{"$f":"IF(ISNA(A318),\"\",IF(LEN(LOOKUP(B318,Database!A:A,Database!I:I))=0,\"\",LOOKUP(B318,Database!A:A,Database!I:I)))","v":""},{"$f":"IF(ISNA(A318),\"\",IF(LEN(LOOKUP(B318,Database!A:A,Database!J:J))=0,\"\",LOOKUP(B318,Database!A:A,Database!J:J)))","v":""},{"$f":"IF(ISNA(A318),\"\",IF(LEN(LOOKUP(B318,Database!A:A,Database!K:K))=0,\"\",LOOKUP(B318,Database!A:A,Database!K:K)))","v":""},{"$f":"IF(ISNA(A318),\"\",IF(LEN(LOOKUP(B318,Database!A:A,Database!L:L))=0,\"\",LOOKUP(B318,Database!A:A,Database!L:L)))","v":""},{"$f":"IF(ISNA(A318),\"\",IF(LEN(LOOKUP(B318,Database!A:A,Database!M:M))=0,\"\",LOOKUP(B318,Database!A:A,Database!M:M)))","v":""},{"$f":"IF(ISNA(A318),\"\",IF(LEN(LOOKUP(B318,Database!A:A,Database!N:N))=0,\"\",LOOKUP(B318,Database!A:A,Database!N:N)))","v":""},{"$f":"IF(ISNA(A318),\"\",IF(LEN(LOOKUP(B318,Database!A:A,Database!O:O))=0,\"\",LOOKUP(B318,Database!A:A,Database!O:O)))","v":""},{"$f":"IF(ISNA(A318),\"\",IF(LEN(LOOKUP(B318,Database!A:A,Database!P:P))=0,\"\",LOOKUP(B318,Database!A:A,Database!P:P)))","v":""},{"$f":"IF(ISNA(A318),\"\",IF(LEN(LOOKUP(B318,Database!A:A,Database!Q:Q))=0,\"\",LOOKUP(B318,Database!A:A,Database!Q:Q)))","v":""},{"$f":"IF(ISNA(A318),\"\",IF(LEN(LOOKUP(B318,Database!A:A,Database!R:R))=0,\"\",LOOKUP(B318,Database!A:A,Database!R:R)))","v":""},{"$f":"IF(ISNA(A318),\"\",IF(LEN(LOOKUP(B318,Database!A:A,Database!S:S))=0,\"\",LOOKUP(B318,Database!A:A,Database!S:S)))","v":""},null,null,null,null,null,null,304,0,null,1,0,null,0.1]
[{"$error":"#N/A"},"2018-11-01",{"$f":"IF(ISNA(A319),\"\",IF(LEN(LOOKUP(B319,Database!A:A,Database!B:B))=0,\"\",LOOKUP(B319,Database!A:A,Database!B:B)))","v":""},{"$f":"IF(ISNA(A319),\"\",IF(LEN(LOOKUP(B319,Database!A:A,Database!C:C))=0,\"\",LOOKUP(B319,Database!A:A,Database!C:C)))","v":""},{"$f":"IF(ISNA(A319),\"\",IF(LEN(LOOKUP(B319,Database!A:A,Database!D:D))=0,\"\",LOOKUP(B319,Database!A:A,Database!D:D)))","v":""},{"$f":"IF(ISNA(A319),\"\",IF(LEN(LOOKUP(B319,Database!A:A,Database!E:E))=0,\"\",LOOKUP(B319,Database!A:A,Database!E:E)))","v":""},{"$f":"IF(ISNA(A319),\"\",IF(LEN(LOOKUP(B319,Database!A:A,Database!F:F))=0,\"\",LOOKUP(B319,Database!A:A,Database!F:F)))","v":""},{"$f":"IF(ISNA(A319),\"\",IF(LEN(LOOKUP(B319,Database!A:A,Database!G:G))=0,\"\",LOOKUP(B319,Database!A:A,Database!G:G)))","v":""},{"$f":"IF(ISNA(A319),\"\",IF(LEN(LOOKUP(B319,Database!A:A,Database!H:H))=0,\"\",LOOKUP(B319,Database!A:A,Database!H:H)))","v":""},{"$f":"IF(ISNA(A319),\"\",IF(LEN(LOOKUP(B319,Database!A:A,Database!I:I))=0,\"\",LOOKUP(B319,Database!A:A,Database!I:I)))","v":""},{"$f":"IF(ISNA(A319),\"\",IF(LEN(LOOKUP(B319,Database!A:A,Database!J:J))=0,\"\",LOOKUP(B319,Database!A:A,Database!J:J)))","v":""},{"$f":"IF(ISNA(A319),\"\",IF(LEN(LOOKUP(B319,Database!A:A,Database!K:K))=0,\"\",LOOKUP(B319,Database!A:A,Database!K:K)))","v":""},{"$f":"IF(ISNA(A319),\"\",IF(LEN(LOOKUP(B319,Database!A:A,Database!L:L))=0,\"\",LOOKUP(B319,Database!A:A,Database!L:L)))","v":""},{"$f":"IF(ISNA(A319),\"\",IF(LEN(LOOKUP(B319,Database!A:A,Database!M:M))=0,\"\",LOOKUP(B319,Database!A:A,Database!M:M)))","v":""},{"$f":"IF(ISNA(A319),\"\",IF(LEN(LOOKUP(B319,Database!A:A,Database!N:N))=0,\"\",LOOKUP(B319,Database!A:A,Database!N:N)))","v":""},{"$f":"IF(ISNA(A319),\"\",IF(LEN(LOOKUP(B319,Database!A:A,Database!O:O))=0,\"\",LOOKUP(B319,Database!A:A,Database!O:O)))","v":""},{"$f":"IF(ISNA(A319),\"\",IF(LEN(LOOKUP(B319,Database!A:A,Database!P:P))=0,\"\",LOOKUP(B319,Database!A:A,Database!P:P)))","v":""},{"$f":"IF(ISNA(A319),\"\",IF(LEN(LOOKUP(B319,Database!A:A,Database!Q:Q))=0,\"\",LOOKUP(B319,Database!A:A,Database!Q:Q)))","v":""},{"$f":"IF(ISNA(A319),\"\",IF(LEN(LOOKUP(B319,Database!A:A,Database!R:R))=0,\"\",LOOKUP(B319,Database!A:A,Database!R:R)))","v":""},{"$f":"IF(ISNA(A319),\"\",IF(LEN(LOOKUP(B319,Database!A:A,Database!S:S))=0,\"\",LOOKUP(B319,Database!A:A,Database!S:S)))","v":""},null,null,null,null,null,null,305,0,null,1,0,null,0.1]
[{"$error":"#N/A"},"2018-11-02",{"$f":"IF(ISNA(A320),\"\",IF(LEN(LOOKUP(B320,Database!A:A,Database!B:B))=0,\"\",LOOKUP(B320,Database!A:A,Database!B:B)))","v":""},{"$f":"IF(ISNA(A320),\"\",IF(LEN(LOOKUP(B320,Database!A:A,Database!C:C))=0,\"\",LOOKUP(B320,Database!A:A,Database!C:C)))","v":""},{"$f":"IF(ISNA(A320),\"\",IF(LEN(LOOKUP(B320,Database!A:A,Database!D:D))=0,\"\",LOOKUP(B320,Database!A:A,Database!D:D)))","v":""},{"$f":"IF(ISNA(A320),\"\",IF(LEN(LOOKUP(B320,Database!A:A,Database!E:E))=0,\"\",LOOKUP(B320,Database!A:A,Database!E:E)))","v":""},{"$f":"IF(ISNA(A320),\"\",IF(LEN(LOOKUP(B320,Database!A:A,Database!F:F))=0,\"\",LOOKUP(B320,Database!A:A,Database!F:F)))","v":""},{"$f":"IF(ISNA(A320),\"\",IF(LEN(LOOKUP(B320,Database!A:A,Database!G:G))=0,\"\",LOOKUP(B320,Database!A:A,Database!G:G)))","v":""},{"$f":"IF(ISNA(A320),\"\",IF(LEN(LOOKUP(B320,Database!A:A,Database!H:H))=0,\"\",LOOKUP(B320,Database!A:A,Database!H:H)))","v":""},{"$f":"IF(ISNA(A320),\"\",IF(LEN(LOOKUP(B320,Database!A:A,Database!I:I))=0,\"\",LOOKUP(B320,Database!A:A,Database!I:I)))","v":""},{"$f":"IF(ISNA(A320),\"\",IF(LEN(LOOKUP(B320,Database!A:A,Database!J:J))=0,\"\",LOOKUP(B320,Database!A:A,Database!J:J)))","v":""},{"$f":"IF(ISNA(A320),\"\",IF(LEN(LOOKUP(B320,Database!A:A,Database!K:K))=0,\"\",LOOKUP(B320,Database!A:A,Database!K:K)))","v":""},{"$f":"IF(ISNA(A320),\"\",IF(LEN(LOOKUP(B320,Database!A:A,Database!L:L))=0,\"\",LOOKUP(B320,Database!A:A,Database!L:L)))","v":""},{"$f":"IF(ISNA(A320),\"\",IF(LEN(LOOKUP(B320,Database!A:A,Database!M:M))=0,\"\",LOOKUP(B320,Database!A:A,Database!M:M)))","v":""},{"$f":"IF(ISNA(A320),\"\",IF(LEN(LOOKUP(B320,Database!A:A,Database!N:N))=0,\"\",LOOKUP(B320,Database!A:A,Database!N:N)))","v":""},{"$f":"IF(ISNA(A320),\"\",IF(LEN(LOOKUP(B320,Database!A:A,Database!O:O))=0,\"\",LOOKUP(B320,Database!A:A,Database!O:O)))","v":""},{"$f":"IF(ISNA(A320),\"\",IF(LEN(LOOKUP(B320,Database!A:A,Database!P:P))=0,\"\",LOOKUP(B320,Database!A:A,Database!P:P)))","v":""},{"$f":"IF(ISNA(A320),\"\",IF(LEN(LOOKUP(B320,Database!A:A,Database!Q:Q))=0,\"\",LOOKUP(B320,Database!A:A,Database!Q:Q)))","v":""},{"$f":"IF(ISNA(A320),\"\",IF(LEN(LOOKUP(B320,Database!A:A,Database!R:R))=0,\"\",LOOKUP(B320,Database!A:A,Database!R:R)))","v":""},{"$f":"IF(ISNA(A320),\"\",IF(LEN(LOOKUP(B320,Database!A:A,Database!S:S))=0,\"\",LOOKUP(B320,Database!A:A,Database!S:S)))","v":""},null,null,null,null,null,null,306,0,null,1,0,null,0.1]
[{"$error":"#N/A"},"2018-11-03",{"$f":"IF(ISNA(A321),\"\",IF(LEN(LOOKUP(B321,Database!A:A,Database!B:B))=0,\"\",LOOKUP(B321,Database!A:A,Database!B:B)))","v":""},{"$f":"IF(ISNA(A321),\"\",IF(LEN(LOOKUP(B321,Database!A:A,Database!C:C))=0,\"\",LOOKUP(B321,Database!A:A,Database!C:C)))","v":""},{"$f":"IF(ISNA(A321),\"\",IF(LEN(LOOKUP(B321,Database!A:A,Database!D:D))=0,\"\",LOOKUP(B321,Database!A:A,Database!D:D)))","v":""},{"$f":"IF(ISNA(A321),\"\",IF(LEN(LOOKUP(B321,Database!A:A,Database!E:E))=0,\"\",LOOKUP(B321,Database!A:A,Database!E:E)))","v":""},{"$f":"IF(ISNA(A321),\"\",IF(LEN(LOOKUP(B321,Database!A:A,Database!F:F))=0,\"\",LOOKUP(B321,Database!A:A,Database!F:F)))","v":""},{"$f":"IF(ISNA(A321),\"\",IF(LEN(LOOKUP(B321,Database!A:A,Database!G:G))=0,\"\",LOOKUP(B321,Database!A:A,Database!G:G)))","v":""},{"$f":"IF(ISNA(A321),\"\",IF(LEN(LOOKUP(B321,Database!A:A,Database!H:H))=0,\"\",LOOKUP(B321,Database!A:A,Database!H:H)))","v":""},{"$f":"IF(ISNA(A321),\"\",IF(LEN(LOOKUP(B321,Database!A:A,Database!I:I))=0,\"\",LOOKUP(B321,Database!A:A,Database!I:I)))","v":""},{"$f":"IF(ISNA(A321),\"\",IF(LEN(LOOKUP(B321,Database!A:A,Database!J:J))=0,\"\",LOOKUP(B321,Database!A:A,Database!J:J)))","v":""},{"$f":"IF(ISNA(A321),\"\",IF(LEN(LOOKUP(B321,Database!A:A,Database!K:K))=0,\"\",LOOKUP(B321,Database!A:A,Database!K:K)))","v":""},{"$f":"IF(ISNA(A321),\"\",IF(LEN(LOOKUP(B321,Database!A:A,Database!L:L))=0,\"\",LOOKUP(B321,Database!A:A,Database!L:L)))","v":""},{"$f":"IF(ISNA(A321),\"\",IF(LEN(LOOKUP(B321,Database!A:A,Database!M:M))=0,\"\",LOOKUP(B321,Database!A:A,Database!M:M)))","v":""},{"$f":"IF(ISNA(A321),\"\",IF(LEN(LOOKUP(B321,Database!A:A,Database!N:N))=0,\"\",LOOKUP(B321,Database!A:A,Database!N:N)))","v":""},{"$f":"IF(ISNA(A321),\"\",IF(LEN(LOOKUP(B321,Database!A:A,Database!O:O))=0,\"\",LOOKUP(B321,Database!A:A,Database!O:O)))","v":""},{"$f":"IF(ISNA(A321),\"\",IF(LEN(LOOKUP(B321,Database!A:A,Database!P:P))=0,\"\",LOOKUP(B321,Database!A:A,Database!P:P)))","v":""},{"$f":"IF(ISNA(A321),\"\",IF(LEN(LOOKUP(B321,Database!A:A,Database!Q:Q))=0,\"\",LOOKUP(B321,Database!A:A,Database!Q:Q)))","v":""},{"$f":"IF(ISNA(A321),\"\",IF(LEN(LOOKUP(B321,Database!A:A,Database!R:R))=0,\"\",LOOKUP(B321,Database!A:A,Database!R:R)))","v":""},{"$f":"IF(ISNA(A321),\"\",IF(LEN(LOOKUP(B321,Database!A:A,Database!S:S))=0,\"\",LOOKUP(B321,Database!A:A,Database!S:S)))","v":""},null,null,null,null,null,null,307,0,null,1,0,null,0.1]
[{"$error":"#N/A"},"2018-11-04",{"$f":"IF(ISNA(A322),\"\",IF(LEN(LOOKUP(B322,Database!A:A,Database!B:B))=0,\"\",LOOKUP(B322,Database!A:A,Database!B:B)))","v":""},{"$f":"IF(ISNA(A322),\"\",IF(LEN(LOOKUP(B322,Database!A:A,Database!C:C))=0,\"\",LOOKUP(B322,Database!A:A,Database!C:C)))","v":""},{"$f":"IF(ISNA(A322),\"\",IF(LEN(LOOKUP(B322,Database!A:A,Database!D:D))=0,\"\",LOOKUP(B322,Database!A:A,Database!D:D)))","v":""},{"$f":"IF(ISNA(A322),\"\",IF(LEN(LOOKUP(B322,Database!A:A,Database!E:E))=0,\"\",LOOKUP(B322,Database!A:A,Database!E:E)))","v":""},{"$f":"IF(ISNA(A322),\"\",IF(LEN(LOOKUP(B322,Database!A:A,Database!F:F))=0,\"\",LOOKUP(B322,Database!A:A,Database!F:F)))","v":""},{"$f":"IF(ISNA(A322),\"\",IF(LEN(LOOKUP(B322,Database!A:A,Database!G:G))=0,\"\",LOOKUP(B322,Database!A:A,Database!G:G)))","v":""},{"$f":"IF(ISNA(A322),\"\",IF(LEN(LOOKUP(B322,Database!A:A,Database!H:H))=0,\"\",LOOKUP(B322,Database!A:A,Database!H:H)))","v":""},{"$f":"IF(ISNA(A322),\"\",IF(LEN(LOOKUP(B322,Database!A:A,Database!I:I))=0,\"\",LOOKUP(B322,Database!A:A,Database!I:I)))","v":""},{"$f":"IF(ISNA(A322),\"\",IF(LEN(LOOKUP(B322,Database!A:A,Database!J:J))=0,\"\",LOOKUP(B322,Database!A:A,Database!J:J)))","v":""},{"$f":"IF(ISNA(A322),\"\",IF(LEN(LOOKUP(B322,Database!A:A,Database!K:K))=0,\"\",LOOKUP(B322,Database!A:A,Database!K:K)))","v":""},{"$f":"IF(ISNA(A322),\"\",IF(LEN(LOOKUP(B322,Database!A:A,Database!L:L))=0,\"\",LOOKUP(B322,Database!A:A,Database!L:L)))","v":""},{"$f":"IF(ISNA(A322),\"\",IF(LEN(LOOKUP(B322,Database!A:A,Database!M:M))=0,\"\",LOOKUP(B322,Database!A:A,Database!M:M)))","v":""},{"$f":"IF(ISNA(A322),\"\",IF(LEN(LOOKUP(B322,Database!A:A,Database!N:N))=0,\"\",LOOKUP(B322,Database!A:A,Database!N:N)))","v":""},{"$f":"IF(ISNA(A322),\"\",IF(LEN(LOOKUP(B322,Database!A:A,Database!O:O))=0,\"\",LOOKUP(B322,Database!A:A,Database!O:O)))","v":""},{"$f":"IF(ISNA(A322),\"\",IF(LEN(LOOKUP(B322,Database!A:A,Database!P:P))=0,\"\",LOOKUP(B322,Database!A:A,Database!P:P)))","v":""},{"$f":"IF(ISNA(A322),\"\",IF(LEN(LOOKUP(B322,Database!A:A,Database!Q:Q))=0,\"\",LOOKUP(B322,Database!A:A,Database!Q:Q)))","v":""},{"$f":"IF(ISNA(A322),\"\",IF(LEN(LOOKUP(B322,Database!A:A,Database!R:R))=0,\"\",LOOKUP(B322,Database!A:A,Database!R:R)))","v":""},{"$f":"IF(ISNA(A322),\"\",IF(LEN(LOOKUP(B322,Database!A:A,Database!S:S))=0,\"\",LOOKUP(B322,Database!A:A,Database!S:S)))","v":""},null,null,null,null,null,null,308,0,null,1,0,null,0.1]
[{"$error":"#N/A"},"2018-11-05",{"$f":"IF(ISNA(A323),\"\",IF(LEN(LOOKUP(B323,Database!A:A,Database!B:B))=0,\"\",LOOKUP(B323,Database!A:A,Database!B:B)))","v":""},{"$f":"IF(ISNA(A323),\"\",IF(LEN(LOOKUP(B323,Database!A:A,Database!C:C))=0,\"\",LOOKUP(B323,Database!A:A,Database!C:C)))","v":""},{"$f":"IF(ISNA(A323),\"\",IF(LEN(LOOKUP(B323,Database!A:A,Database!D:D))=0,\"\",LOOKUP(B323,Database!A:A,Database!D:D)))","v":""},{"$f":"IF(ISNA(A323),\"\",IF(LEN(LOOKUP(B323,Database!A:A,Database!E:E))=0,\"\",LOOKUP(B323,Database!A:A,Database!E:E)))","v":""},{"$f":"IF(ISNA(A323),\"\",IF(LEN(LOOKUP(B323,Database!A:A,Database!F:F))=0,\"\",LOOKUP(B323,Database!A:A,Database!F:F)))","v":""},{"$f":"IF(ISNA(A323),\"\",IF(LEN(LOOKUP(B323,Database!A:A,Database!G:G))=0,\"\",LOOKUP(B323,Database!A:A,Database!G:G)))","v":""},{"$f":"IF(ISNA(A323),\"\",IF(LEN(LOOKUP(B323,Database!A:A,Database!H:H))=0,\"\",LOOKUP(B323,Database!A:A,Database!H:H)))","v":""},{"$f":"IF(ISNA(A323),\"\",IF(LEN(LOOKUP(B323,Database!A:A,Database!I:I))=0,\"\",LOOKUP(B323,Database!A:A,Database!I:I)))","v":""},{"$f":"IF(ISNA(A323),\"\",IF(LEN(LOOKUP(B323,Database!A:A,Database!J:J))=0,\"\",LOOKUP(B323,Database!A:A,Database!J:J)))","v":""},{"$f":"IF(ISNA(A323),\"\",IF(LEN(LOOKUP(B323,Database!A:A,Database!K:K))=0,\"\",LOOKUP(B323,Database!A:A,Database!K:K)))","v":""},{"$f":"IF(ISNA(A323),\"\",IF(LEN(LOOKUP(B323,Database!A:A,Database!L:L))=0,\"\",LOOKUP(B323,Database!A:A,Database!L:L)))","v":""},{"$f":"IF(ISNA(A323),\"\",IF(LEN(LOOKUP(B323,Database!A:A,Database!M:M))=0,\"\",LOOKUP(B323,Database!A:A,Database!M:M)))","v":""},{"$f":"IF(ISNA(A323),\"\",IF(LEN(LOOKUP(B323,Database!A:A,Database!N:N))=0,\"\",LOOKUP(B323,Database!A:A,Database!N:N)))","v":""},{"$f":"IF(ISNA(A323),\"\",IF(LEN(LOOKUP(B323,Database!A:A,Database!O:O))=0,\"\",LOOKUP(B323,Database!A:A,Database!O:O)))","v":""},{"$f":"IF(ISNA(A323),\"\",IF(LEN(LOOKUP(B323,Database!A:A,Database!P:P))=0,\"\",LOOKUP(B323,Database!A:A,Database!P:P)))","v":""},{"$f":"IF(ISNA(A323),\"\",IF(LEN(LOOKUP(B323,Database!A:A,Database!Q:Q))=0,\"\",LOOKUP(B323,Database!A:A,Database!Q:Q)))","v":""},{"$f":"IF(ISNA(A323),\"\",IF(LEN(LOOKUP(B323,Database!A:A,Database!R:R))=0,\"\",LOOKUP(B323,Database!A:A,Database!R:R)))","v":""},{"$f":"IF(ISNA(A323),\"\",IF(LEN(LOOKUP(B323,Database!A:A,Database!S:S))=0,\"\",LOOKUP(B323,Database!A:A,Database!S:S)))","v":""},null,null,null,null,null,null,309,0,null,1,0,null,0.1]
[{"$error":"#N/A"},"2018-11-06",{"$f":"IF(ISNA(A324),\"\",IF(LEN(LOOKUP(B324,Database!A:A,Database!B:B))=0,\"\",LOOKUP(B324,Database!A:A,Database!B:B)))","v":""},{"$f":"IF(ISNA(A324),\"\",IF(LEN(LOOKUP(B324,Database!A:A,Database!C:C))=0,\"\",LOOKUP(B324,Database!A:A,Database!C:C)))","v":""},{"$f":"IF(ISNA(A324),\"\",IF(LEN(LOOKUP(B324,Database!A:A,Database!D:D))=0,\"\",LOOKUP(B324,Database!A:A,Database!D:D)))","v":""},{"$f":"IF(ISNA(A324),\"\",IF(LEN(LOOKUP(B324,Database!A:A,Database!E:E))=0,\"\",LOOKUP(B324,Database!A:A,Database!E:E)))","v":""},{"$f":"IF(ISNA(A324),\"\",IF(LEN(LOOKUP(B324,Database!A:A,Database!F:F))=0,\"\",LOOKUP(B324,Database!A:A,Database!F:F)))","v":""},{"$f":"IF(ISNA(A324),\"\",IF(LEN(LOOKUP(B324,Database!A:A,Database!G:G))=0,\"\",LOOKUP(B324,Database!A:A,Database!G:G)))","v":""},{"$f":"IF(ISNA(A324),\"\",IF(LEN(LOOKUP(B324,Database!A:A,Database!H:H))=0,\"\",LOOKUP(B324,Database!A:A,Database!H:H)))","v":""},{"$f":"IF(ISNA(A324),\"\",IF(LEN(LOOKUP(B324,Database!A:A,Database!I:I))=0,\"\",LOOKUP(B324,Database!A:A,Database!I:I)))","v":""},{"$f":"IF(ISNA(A324),\"\",IF(LEN(LOOKUP(B324,Database!A:A,Database!J:J))=0,\"\",LOOKUP(B324,Database!A:A,Database!J:J)))","v":""},{"$f":"IF(ISNA(A324),\"\",IF(LEN(LOOKUP(B324,Database!A:A,Database!K:K))=0,\"\",LOOKUP(B324,Database!A:A,Database!K:K)))","v":""},{"$f":"IF(ISNA(A324),\"\",IF(LEN(LOOKUP(B324,Database!A:A,Database!L:L))=0,\"\",LOOKUP(B324,Database!A:A,Database!L:L)))","v":""},{"$f":"IF(ISNA(A324),\"\",IF(LEN(LOOKUP(B324,Database!A:A,Database!M:M))=0,\"\",LOOKUP(B324,Database!A:A,Database!M:M)))","v":""},{"$f":"IF(ISNA(A324),\"\",IF(LEN(LOOKUP(B324,Database!A:A,Database!N:N))=0,\"\",LOOKUP(B324,Database!A:A,Database!N:N)))","v":""},{"$f":"IF(ISNA(A324),\"\",IF(LEN(LOOKUP(B324,Database!A:A,Database!O:O))=0,\"\",LOOKUP(B324,Database!A:A,Database!O:O)))","v":""},{"$f":"IF(ISNA(A324),\"\",IF(LEN(LOOKUP(B324,Database!A:A,Database!P:P))=0,\"\",LOOKUP(B324,Database!A:A,Database!P:P)))","v":""},{"$f":"IF(ISNA(A324),\"\",IF(LEN(LOOKUP(B324,Database!A:A,Database!Q:Q))=0,\"\",LOOKUP(B324,Database!A:A,Database!Q:Q)))","v":""},{"$f":"IF(ISNA(A324),\"\",IF(LEN(LOOKUP(B324,Database!A:A,Database!R:R))=0,\"\",LOOKUP(B324,Database!A:A,Database!R:R)))","v":""},{"$f":"IF(ISNA(A324),\"\",IF(LEN(LOOKUP(B324,Database!A:A,Database!S:S))=0,\"\",LOOKUP(B324,Database!A:A,Database!S:S)))","v":""},null,null,null,null,null,null,310,0,null,1,0,null,0.1]
[{"$error":"#N/A"},"2018-11-07",{"$f":"IF(ISNA(A325),\"\",IF(LEN(LOOKUP(B325,Database!A:A,Database!B:B))=0,\"\",LOOKUP(B325,Database!A:A,Database!B:B)))","v":""},{"$f":"IF(ISNA(A325),\"\",IF(LEN(LOOKUP(B325,Database!A:A,Database!C:C))=0,\"\",LOOKUP(B325,Database!A:A,Database!C:C)))","v":""},{"$f":"IF(ISNA(A325),\"\",IF(LEN(LOOKUP(B325,Database!A:A,Database!D:D))=0,\"\",LOOKUP(B325,Database!A:A,Database!D:D)))","v":""},{"$f":"IF(ISNA(A325),\"\",IF(LEN(LOOKUP(B325,Database!A:A,Database!E:E))=0,\"\",LOOKUP(B325,Database!A:A,Database!E:E)))","v":""},{"$f":"IF(ISNA(A325),\"\",IF(LEN(LOOKUP(B325,Database!A:A,Database!F:F))=0,\"\",LOOKUP(B325,Database!A:A,Database!F:F)))","v":""},{"$f":"IF(ISNA(A325),\"\",IF(LEN(LOOKUP(B325,Database!A:A,Database!G:G))=0,\"\",LOOKUP(B325,Database!A:A,Database!G:G)))","v":""},{"$f":"IF(ISNA(A325),\"\",IF(LEN(LOOKUP(B325,Database!A:A,Database!H:H))=0,\"\",LOOKUP(B325,Database!A:A,Database!H:H)))","v":""},{"$f":"IF(ISNA(A325),\"\",IF(LEN(LOOKUP(B325,Database!A:A,Database!I:I))=0,\"\",LOOKUP(B325,Database!A:A,Database!I:I)))","v":""},{"$f":"IF(ISNA(A325),\"\",IF(LEN(LOOKUP(B325,Database!A:A,Database!J:J))=0,\"\",LOOKUP(B325,Database!A:A,Database!J:J)))","v":""},{"$f":"IF(ISNA(A325),\"\",IF(LEN(LOOKUP(B325,Database!A:A,Database!K:K))=0,\"\",LOOKUP(B325,Database!A:A,Database!K:K)))","v":""},{"$f":"IF(ISNA(A325),\"\",IF(LEN(LOOKUP(B325,Database!A:A,Database!L:L))=0,\"\",LOOKUP(B325,Database!A:A,Database!L:L)))","v":""},{"$f":"IF(ISNA(A325),\"\",IF(LEN(LOOKUP(B325,Database!A:A,Database!M:M))=0,\"\",LOOKUP(B325,Database!A:A,Database!M:M)))","v":""},{"$f":"IF(ISNA(A325),\"\",IF(LEN(LOOKUP(B325,Database!A:A,Database!N:N))=0,\"\",LOOKUP(B325,Database!A:A,Database!N:N)))","v":""},{"$f":"IF(ISNA(A325),\"\",IF(LEN(LOOKUP(B325,Database!A:A,Database!O:O))=0,\"\",LOOKUP(B325,Database!A:A,Database!O:O)))","v":""},{"$f":"IF(ISNA(A325),\"\",IF(LEN(LOOKUP(B325,Database!A:A,Database!P:P))=0,\"\",LOOKUP(B325,Database!A:A,Database!P:P)))","v":""},{"$f":"IF(ISNA(A325),\"\",IF(LEN(LOOKUP(B325,Database!A:A,Database!Q:Q))=0,\"\",LOOKUP(B325,Database!A:A,Database!Q:Q)))","v":""},{"$f":"IF(ISNA(A325),\"\",IF(LEN(LOOKUP(B325,Database!A:A,Database!R:R))=0,\"\",LOOKUP(B325,Database!A:A,Database!R:R)))","v":""},{"$f":"IF(ISNA(A325),\"\",IF(LEN(LOOKUP(B325,Database!A:A,Database!S:S))=0,\"\",LOOKUP(B325,Database!A:A,Database!S:S)))","v":""},null,null,null,null,null,null,311,0,null,1,0,null,0.1]
[{"$error":"#N/A"},"2018-11-08",{"$f":"IF(ISNA(A326),\"\",IF(LEN(LOOKUP(B326,Database!A:A,Database!B:B))=0,\"\",LOOKUP(B326,Database!A:A,Database!B:B)))","v":""},{"$f":"IF(ISNA(A326),\"\",IF(LEN(LOOKUP(B326,Database!A:A,Database!C:C))=0,\"\",LOOKUP(B326,Database!A:A,Database!C:C)))","v":""},{"$f":"IF(ISNA(A326),\"\",IF(LEN(LOOKUP(B326,Database!A:A,Database!D:D))=0,\"\",LOOKUP(B326,Database!A:A,Database!D:D)))","v":""},{"$f":"IF(ISNA(A326),\"\",IF(LEN(LOOKUP(B326,Database!A:A,Database!E:E))=0,\"\",LOOKUP(B326,Database!A:A,Database!E:E)))","v":""},{"$f":"IF(ISNA(A326),\"\",IF(LEN(LOOKUP(B326,Database!A:A,Database!F:F))=0,\"\",LOOKUP(B326,Database!A:A,Database!F:F)))","v":""},{"$f":"IF(ISNA(A326),\"\",IF(LEN(LOOKUP(B326,Database!A:A,Database!G:G))=0,\"\",LOOKUP(B326,Database!A:A,Database!G:G)))","v":""},{"$f":"IF(ISNA(A326),\"\",IF(LEN(LOOKUP(B326,Database!A:A,Database!H:H))=0,\"\",LOOKUP(B326,Database!A:A,Database!H:H)))","v":""},{"$f":"IF(ISNA(A326),\"\",IF(LEN(LOOKUP(B326,Database!A:A,Database!I:I))=0,\"\",LOOKUP(B326,Database!A:A,Database!I:I)))","v":""},{"$f":"IF(ISNA(A326),\"\",IF(LEN(LOOKUP(B326,Database!A:A,Database!J:J))=0,\"\",LOOKUP(B326,Database!A:A,Database!J:J)))","v":""},{"$f":"IF(ISNA(A326),\"\",IF(LEN(LOOKUP(B326,Database!A:A,Database!K:K))=0,\"\",LOOKUP(B326,Database!A:A,Database!K:K)))","v":""},{"$f":"IF(ISNA(A326),\"\",IF(LEN(LOOKUP(B326,Database!A:A,Database!L:L))=0,\"\",LOOKUP(B326,Database!A:A,Database!L:L)))","v":""},{"$f":"IF(ISNA(A326),\"\",IF(LEN(LOOKUP(B326,Database!A:A,Database!M:M))=0,\"\",LOOKUP(B326,Database!A:A,Database!M:M)))","v":""},{"$f":"IF(ISNA(A326),\"\",IF(LEN(LOOKUP(B326,Database!A:A,Database!N:N))=0,\"\",LOOKUP(B326,Database!A:A,Database!N:N)))","v":""},{"$f":"IF(ISNA(A326),\"\",IF(LEN(LOOKUP(B326,Database!A:A,Database!O:O))=0,\"\",LOOKUP(B326,Database!A:A,Database!O:O)))","v":""},{"$f":"IF(ISNA(A326),\"\",IF(LEN(LOOKUP(B326,Database!A:A,Database!P:P))=0,\"\",LOOKUP(B326,Database!A:A,Database!P:P)))","v":""},{"$f":"IF(ISNA(A326),\"\",IF(LEN(LOOKUP(B326,Database!A:A,Database!Q:Q))=0,\"\",LOOKUP(B326,Database!A:A,Database!Q:Q)))","v":""},{"$f":"IF(ISNA(A326),\"\",IF(LEN(LOOKUP(B326,Database!A:A,Database!R:R))=0,\"\",LOOKUP(B326,Database!A:A,Database!R:R)))","v":""},{"$f":"IF(ISNA(A326),\"\",IF(LEN(LOOKUP(B326,Database!A:A,Database!S:S))=0,\"\",LOOKUP(B326,Database!A:A,Database!S:S)))","v":""},null,null,null,null,null,null,312,0,null,1,0,null,0.1]
[{"$error":"#N/A"},"2018-11-09",{"$f":"IF(ISNA(A327),\"\",IF(LEN(LOOKUP(B327,Database!A:A,Database!B:B))=0,\"\",LOOKUP(B327,Database!A:A,Database!B:B)))","v":""},{"$f":"IF(ISNA(A327),\"\",IF(LEN(LOOKUP(B327,Database!A:A,Database!C:C))=0,\"\",LOOKUP(B327,Database!A:A,Database!C:C)))","v":""},{"$f":"IF(ISNA(A327),\"\",IF(LEN(LOOKUP(B327,Database!A:A,Database!D:D))=0,\"\",LOOKUP(B327,Database!A:A,Database!D:D)))","v":""},{"$f":"IF(ISNA(A327),\"\",IF(LEN(LOOKUP(B327,Database!A:A,Database!E:E))=0,\"\",LOOKUP(B327,Database!A:A,Database!E:E)))","v":""},{"$f":"IF(ISNA(A327),\"\",IF(LEN(LOOKUP(B327,Database!A:A,Database!F:F))=0,\"\",LOOKUP(B327,Database!A:A,Database!F:F)))","v":""},{"$f":"IF(ISNA(A327),\"\",IF(LEN(LOOKUP(B327,Database!A:A,Database!G:G))=0,\"\",LOOKUP(B327,Database!A:A,Database!G:G)))","v":""},{"$f":"IF(ISNA(A327),\"\",IF(LEN(LOOKUP(B327,Database!A:A,Database!H:H))=0,\"\",LOOKUP(B327,Database!A:A,Database!H:H)))","v":""},{"$f":"IF(ISNA(A327),\"\",IF(LEN(LOOKUP(B327,Database!A:A,Database!I:I))=0,\"\",LOOKUP(B327,Database!A:A,Database!I:I)))","v":""},{"$f":"IF(ISNA(A327),\"\",IF(LEN(LOOKUP(B327,Database!A:A,Database!J:J))=0,\"\",LOOKUP(B327,Database!A:A,Database!J:J)))","v":""},{"$f":"IF(ISNA(A327),\"\",IF(LEN(LOOKUP(B327,Database!A:A,Database!K:K))=0,\"\",LOOKUP(B327,Database!A:A,Database!K:K)))","v":""},{"$f":"IF(ISNA(A327),\"\",IF(LEN(LOOKUP(B327,Database!A:A,Database!L:L))=0,\"\",LOOKUP(B327,Database!A:A,Database!L:L)))","v":""},{"$f":"IF(ISNA(A327),\"\",IF(LEN(LOOKUP(B327,Database!A:A,Database!M:M))=0,\"\",LOOKUP(B327,Database!A:A,Database!M:M)))","v":""},{"$f":"IF(ISNA(A327),\"\",IF(LEN(LOOKUP(B327,Database!A:A,Database!N:N))=0,\"\",LOOKUP(B327,Database!A:A,Database!N:N)))","v":""},{"$f":"IF(ISNA(A327),\"\",IF(LEN(LOOKUP(B327,Database!A:A,Database!O:O))=0,\"\",LOOKUP(B327,Database!A:A,Database!O:O)))","v":""},{"$f":"IF(ISNA(A327),\"\",IF(LEN(LOOKUP(B327,Database!A:A,Database!P:P))=0,\"\",LOOKUP(B327,Database!A:A,Database!P:P)))","v":""},{"$f":"IF(ISNA(A327),\"\",IF(LEN(LOOKUP(B327,Database!A:A,Database!Q:Q))=0,\"\",LOOKUP(B327,Database!A:A,Database!Q:Q)))","v":""},{"$f":"IF(ISNA(A327),\"\",IF(LEN(LOOKUP(B327,Database!A:A,Database!R:R))=0,\"\",LOOKUP(B327,Database!A:A,Database!R:R)))","v":""},{"$f":"IF(ISNA(A327),\"\",IF(LEN(LOOKUP(B327,Database!A:A,Database!S:S))=0,\"\",LOOKUP(B327,Database!A:A,Database!S:S)))","v":""},null,null,null,null,null,null,313,0,null,1,0,null,0.1]
[{"$error":"#N/A"},"2018-11-10",{"$f":"IF(ISNA(A328),\"\",IF(LEN(LOOKUP(B328,Database!A:A,Database!B:B))=0,\"\",LOOKUP(B328,Database!A:A,Database!B:B)))","v":""},{"$f":"IF(ISNA(A328),\"\",IF(LEN(LOOKUP(B328,Database!A:A,Database!C:C))=0,\"\",LOOKUP(B328,Database!A:A,Database!C:C)))","v":""},{"$f":"IF(ISNA(A328),\"\",IF(LEN(LOOKUP(B328,Database!A:A,Database!D:D))=0,\"\",LOOKUP(B328,Database!A:A,Database!D:D)))","v":""},{"$f":"IF(ISNA(A328),\"\",IF(LEN(LOOKUP(B328,Database!A:A,Database!E:E))=0,\"\",LOOKUP(B328,Database!A:A,Database!E:E)))","v":""},{"$f":"IF(ISNA(A328),\"\",IF(LEN(LOOKUP(B328,Database!A:A,Database!F:F))=0,\"\",LOOKUP(B328,Database!A:A,Database!F:F)))","v":""},{"$f":"IF(ISNA(A328),\"\",IF(LEN(LOOKUP(B328,Database!A:A,Database!G:G))=0,\"\",LOOKUP(B328,Database!A:A,Database!G:G)))","v":""},{"$f":"IF(ISNA(A328),\"\",IF(LEN(LOOKUP(B328,Database!A:A,Database!H:H))=0,\"\",LOOKUP(B328,Database!A:A,Database!H:H)))","v":""},{"$f":"IF(ISNA(A328),\"\",IF(LEN(LOOKUP(B328,Database!A:A,Database!I:I))=0,\"\",LOOKUP(B328,Database!A:A,Database!I:I)))","v":""},{"$f":"IF(ISNA(A328),\"\",IF(LEN(LOOKUP(B328,Database!A:A,Database!J:J))=0,\"\",LOOKUP(B328,Database!A:A,Database!J:J)))","v":""},{"$f":"IF(ISNA(A328),\"\",IF(LEN(LOOKUP(B328,Database!A:A,Database!K:K))=0,\"\",LOOKUP(B328,Database!A:A,Database!K:K)))","v":""},{"$f":"IF(ISNA(A328),\"\",IF(LEN(LOOKUP(B328,Database!A:A,Database!L:L))=0,\"\",LOOKUP(B328,Database!A:A,Database!L:L)))","v":""},{"$f":"IF(ISNA(A328),\"\",IF(LEN(LOOKUP(B328,Database!A:A,Database!M:M))=0,\"\",LOOKUP(B328,Database!A:A,Database!M:M)))","v":""},{"$f":"IF(ISNA(A328),\"\",IF(LEN(LOOKUP(B328,Database!A:A,Database!N:N))=0,\"\",LOOKUP(B328,Database!A:A,Database!N:N)))","v":""},{"$f":"IF(ISNA(A328),\"\",IF(LEN(LOOKUP(B328,Database!A:A,Database!O:O))=0,\"\",LOOKUP(B328,Database!A:A,Database!O:O)))","v":""},{"$f":"IF(ISNA(A328),\"\",IF(LEN(LOOKUP(B328,Database!A:A,Database!P:P))=0,\"\",LOOKUP(B328,Database!A:A,Database!P:P)))","v":""},{"$f":"IF(ISNA(A328),\"\",IF(LEN(LOOKUP(B328,Database!A:A,Database!Q:Q))=0,\"\",LOOKUP(B328,Database!A:A,Database!Q:Q)))","v":""},{"$f":"IF(ISNA(A328),\"\",IF(LEN(LOOKUP(B328,Database!A:A,Database!R:R))=0,\"\",LOOKUP(B328,Database!A:A,Database!R:R)))","v":""},{"$f":"IF(ISNA(A328),\"\",IF(LEN(LOOKUP(B328,Database!A:A,Database!S:S))=0,\"\",LOOKUP(B328,Database!A:A,Database!S:S)))","v":""},null,null,null,null,null,null,314,0,null,1,0,null,0.1]
[{"$error":"#N/A"},"2018-11-11",{"$f":"IF(ISNA(A329),\"\",IF(LEN(LOOKUP(B329,Database!A:A,Database!B:B))=0,\"\",LOOKUP(B329,Database!A:A,Database!B:B)))","v":""},{"$f":"IF(ISNA(A329),\"\",IF(LEN(LOOKUP(B329,Database!A:A,Database!C:C))=0,\"\",LOOKUP(B329,Database!A:A,Database!C:C)))","v":""},{"$f":"IF(ISNA(A329),\"\",IF(LEN(LOOKUP(B329,Database!A:A,Database!D:D))=0,\"\",LOOKUP(B329,Database!A:A,Database!D:D)))","v":""},{"$f":"IF(ISNA(A329),\"\",IF(LEN(LOOKUP(B329,Database!A:A,Database!E:E))=0,\"\",LOOKUP(B329,Database!A:A,Database!E:E)))","v":""},{"$f":"IF(ISNA(A329),\"\",IF(LEN(LOOKUP(B329,Database!A:A,Database!F:F))=0,\"\",LOOKUP(B329,Database!A:A,Database!F:F)))","v":""},{"$f":"IF(ISNA(A329),\"\",IF(LEN(LOOKUP(B329,Database!A:A,Database!G:G))=0,\"\",LOOKUP(B329,Database!A:A,Database!G:G)))","v":""},{"$f":"IF(ISNA(A329),\"\",IF(LEN(LOOKUP(B329,Database!A:A,Database!H:H))=0,\"\",LOOKUP(B329,Database!A:A,Database!H:H)))","v":""},{"$f":"IF(ISNA(A329),\"\",IF(LEN(LOOKUP(B329,Database!A:A,Database!I:I))=0,\"\",LOOKUP(B329,Database!A:A,Database!I:I)))","v":""},{"$f":"IF(ISNA(A329),\"\",IF(LEN(LOOKUP(B329,Database!A:A,Database!J:J))=0,\"\",LOOKUP(B329,Database!A:A,Database!J:J)))","v":""},{"$f":"IF(ISNA(A329),\"\",IF(LEN(LOOKUP(B329,Database!A:A,Database!K:K))=0,\"\",LOOKUP(B329,Database!A:A,Database!K:K)))","v":""},{"$f":"IF(ISNA(A329),\"\",IF(LEN(LOOKUP(B329,Database!A:A,Database!L:L))=0,\"\",LOOKUP(B329,Database!A:A,Database!L:L)))","v":""},{"$f":"IF(ISNA(A329),\"\",IF(LEN(LOOKUP(B329,Database!A:A,Database!M:M))=0,\"\",LOOKUP(B329,Database!A:A,Database!M:M)))","v":""},{"$f":"IF(ISNA(A329),\"\",IF(LEN(LOOKUP(B329,Database!A:A,Database!N:N))=0,\"\",LOOKUP(B329,Database!A:A,Database!N:N)))","v":""},{"$f":"IF(ISNA(A329),\"\",IF(LEN(LOOKUP(B329,Database!A:A,Database!O:O))=0,\"\",LOOKUP(B329,Database!A:A,Database!O:O)))","v":""},{"$f":"IF(ISNA(A329),\"\",IF(LEN(LOOKUP(B329,Database!A:A,Database!P:P))=0,\"\",LOOKUP(B329,Database!A:A,Database!P:P)))","v":""},{"$f":"IF(ISNA(A329),\"\",IF(LEN(LOOKUP(B329,Database!A:A,Database!Q:Q))=0,\"\",LOOKUP(B329,Database!A:A,Database!Q:Q)))","v":""},{"$f":"IF(ISNA(A329),\"\",IF(LEN(LOOKUP(B329,Database!A:A,Database!R:R))=0,\"\",LOOKUP(B329,Database!A:A,Database!R:R)))","v":""},{"$f":"IF(ISNA(A329),\"\",IF(LEN(LOOKUP(B329,Database!A:A,Database!S:S))=0,\"\",LOOKUP(B329,Database!A:A,Database!S:S)))","v":""},null,null,null,null,null,null,315,0,null,1,0,null,0.1]
[{"$error":"#N/A"},"2018-11-12",{"$f":"IF(ISNA(A330),\"\",IF(LEN(LOOKUP(B330,Database!A:A,Database!B:B))=0,\"\",LOOKUP(B330,Database!A:A,Database!B:B)))","v":""},{"$f":"IF(ISNA(A330),\"\",IF(LEN(LOOKUP(B330,Database!A:A,Database!C:C))=0,\"\",LOOKUP(B330,Database!A:A,Database!C:C)))","v":""},{"$f":"IF(ISNA(A330),\"\",IF(LEN(LOOKUP(B330,Database!A:A,Database!D:D))=0,\"\",LOOKUP(B330,Database!A:A,Database!D:D)))","v":""},{"$f":"IF(ISNA(A330),\"\",IF(LEN(LOOKUP(B330,Database!A:A,Database!E:E))=0,\"\",LOOKUP(B330,Database!A:A,Database!E:E)))","v":""},{"$f":"IF(ISNA(A330),\"\",IF(LEN(LOOKUP(B330,Database!A:A,Database!F:F))=0,\"\",LOOKUP(B330,Database!A:A,Database!F:F)))","v":""},{"$f":"IF(ISNA(A330),\"\",IF(LEN(LOOKUP(B330,Database!A:A,Database!G:G))=0,\"\",LOOKUP(B330,Database!A:A,Database!G:G)))","v":""},{"$f":"IF(ISNA(A330),\"\",IF(LEN(LOOKUP(B330,Database!A:A,Database!H:H))=0,\"\",LOOKUP(B330,Database!A:A,Database!H:H)))","v":""},{"$f":"IF(ISNA(A330),\"\",IF(LEN(LOOKUP(B330,Database!A:A,Database!I:I))=0,\"\",LOOKUP(B330,Database!A:A,Database!I:I)))","v":""},{"$f":"IF(ISNA(A330),\"\",IF(LEN(LOOKUP(B330,Database!A:A,Database!J:J))=0,\"\",LOOKUP(B330,Database!A:A,Database!J:J)))","v":""},{"$f":"IF(ISNA(A330),\"\",IF(LEN(LOOKUP(B330,Database!A:A,Database!K:K))=0,\"\",LOOKUP(B330,Database!A:A,Database!K:K)))","v":""},{"$f":"IF(ISNA(A330),\"\",IF(LEN(LOOKUP(B330,Database!A:A,Database!L:L))=0,\"\",LOOKUP(B330,Database!A:A,Database!L:L)))","v":""},{"$f":"IF(ISNA(A330),\"\",IF(LEN(LOOKUP(B330,Database!A:A,Database!M:M))=0,\"\",LOOKUP(B330,Database!A:A,Database!M:M)))","v":""},{"$f":"IF(ISNA(A330),\"\",IF(LEN(LOOKUP(B330,Database!A:A,Database!N:N))=0,\"\",LOOKUP(B330,Database!A:A,Database!N:N)))","v":""},{"$f":"IF(ISNA(A330),\"\",IF(LEN(LOOKUP(B330,Database!A:A,Database!O:O))=0,\"\",LOOKUP(B330,Database!A:A,Database!O:O)))","v":""},{"$f":"IF(ISNA(A330),\"\",IF(LEN(LOOKUP(B330,Database!A:A,Database!P:P))=0,\"\",LOOKUP(B330,Database!A:A,Database!P:P)))","v":""},{"$f":"IF(ISNA(A330),\"\",IF(LEN(LOOKUP(B330,Database!A:A,Database!Q:Q))=0,\"\",LOOKUP(B330,Database!A:A,Database!Q:Q)))","v":""},{"$f":"IF(ISNA(A330),\"\",IF(LEN(LOOKUP(B330,Database!A:A,Database!R:R))=0,\"\",LOOKUP(B330,Database!A:A,Database!R:R)))","v":""},{"$f":"IF(ISNA(A330),\"\",IF(LEN(LOOKUP(B330,Database!A:A,Database!S:S))=0,\"\",LOOKUP(B330,Database!A:A,Database!S:S)))","v":""},null,null,null,null,null,null,316,0,null,1,0,null,0.1]
[{"$error":"#N/A"},"2018-11-13",{"$f":"IF(ISNA(A331),\"\",IF(LEN(LOOKUP(B331,Database!A:A,Database!B:B))=0,\"\",LOOKUP(B331,Database!A:A,Database!B:B)))","v":""},{"$f":"IF(ISNA(A331),\"\",IF(LEN(LOOKUP(B331,Database!A:A,Database!C:C))=0,\"\",LOOKUP(B331,Database!A:A,Database!C:C)))","v":""},{"$f":"IF(ISNA(A331),\"\",IF(LEN(LOOKUP(B331,Database!A:A,Database!D:D))=0,\"\",LOOKUP(B331,Database!A:A,Database!D:D)))","v":""},{"$f":"IF(ISNA(A331),\"\",IF(LEN(LOOKUP(B331,Database!A:A,Database!E:E))=0,\"\",LOOKUP(B331,Database!A:A,Database!E:E)))","v":""},{"$f":"IF(ISNA(A331),\"\",IF(LEN(LOOKUP(B331,Database!A:A,Database!F:F))=0,\"\",LOOKUP(B331,Database!A:A,Database!F:F)))","v":""},{"$f":"IF(ISNA(A331),\"\",IF(LEN(LOOKUP(B331,Database!A:A,Database!G:G))=0,\"\",LOOKUP(B331,Database!A:A,Database!G:G)))","v":""},{"$f":"IF(ISNA(A331),\"\",IF(LEN(LOOKUP(B331,Database!A:A,Database!H:H))=0,\"\",LOOKUP(B331,Database!A:A,Database!H:H)))","v":""},{"$f":"IF(ISNA(A331),\"\",IF(LEN(LOOKUP(B331,Database!A:A,Database!I:I))=0,\"\",LOOKUP(B331,Database!A:A,Database!I:I)))","v":""},{"$f":"IF(ISNA(A331),\"\",IF(LEN(LOOKUP(B331,Database!A:A,Database!J:J))=0,\"\",LOOKUP(B331,Database!A:A,Database!J:J)))","v":""},{"$f":"IF(ISNA(A331),\"\",IF(LEN(LOOKUP(B331,Database!A:A,Database!K:K))=0,\"\",LOOKUP(B331,Database!A:A,Database!K:K)))","v":""},{"$f":"IF(ISNA(A331),\"\",IF(LEN(LOOKUP(B331,Database!A:A,Database!L:L))=0,\"\",LOOKUP(B331,Database!A:A,Database!L:L)))","v":""},{"$f":"IF(ISNA(A331),\"\",IF(LEN(LOOKUP(B331,Database!A:A,Database!M:M))=0,\"\",LOOKUP(B331,Database!A:A,Database!M:M)))","v":""},{"$f":"IF(ISNA(A331),\"\",IF(LEN(LOOKUP(B331,Database!A:A,Database!N:N))=0,\"\",LOOKUP(B331,Database!A:A,Database!N:N)))","v":""},{"$f":"IF(ISNA(A331),\"\",IF(LEN(LOOKUP(B331,Database!A:A,Database!O:O))=0,\"\",LOOKUP(B331,Database!A:A,Database!O:O)))","v":""},{"$f":"IF(ISNA(A331),\"\",IF(LEN(LOOKUP(B331,Database!A:A,Database!P:P))=0,\"\",LOOKUP(B331,Database!A:A,Database!P:P)))","v":""},{"$f":"IF(ISNA(A331),\"\",IF(LEN(LOOKUP(B331,Database!A:A,Database!Q:Q))=0,\"\",LOOKUP(B331,Database!A:A,Database!Q:Q)))","v":""},{"$f":"IF(ISNA(A331),\"\",IF(LEN(LOOKUP(B331,Database!A:A,Database!R:R))=0,\"\",LOOKUP(B331,Database!A:A,Database!R:R)))","v":""},{"$f":"IF(ISNA(A331),\"\",IF(LEN(LOOKUP(B331,Database!A:A,Database!S:S))=0,\"\",LOOKUP(B331,Database!A:A,Database!S:S)))","v":""},null,null,null,null,null,null,317,0,null,1,0,null,0.1]
[{"$error":"#N/A"},"2018-11-14",{"$f":"IF(ISNA(A332),\"\",IF(LEN(LOOKUP(B332,Database!A:A,Database!B:B))=0,\"\",LOOKUP(B332,Database!A:A,Database!B:B)))","v":""},{"$f":"IF(ISNA(A332),\"\",IF(LEN(LOOKUP(B332,Database!A:A,Database!C:C))=0,\"\",LOOKUP(B332,Database!A:A,Database!C:C)))","v":""},{"$f":"IF(ISNA(A332),\"\",IF(LEN(LOOKUP(B332,Database!A:A,Database!D:D))=0,\"\",LOOKUP(B332,Database!A:A,Database!D:D)))","v":""},{"$f":"IF(ISNA(A332),\"\",IF(LEN(LOOKUP(B332,Database!A:A,Database!E:E))=0,\"\",LOOKUP(B332,Database!A:A,Database!E:E)))","v":""},{"$f":"IF(ISNA(A332),\"\",IF(LEN(LOOKUP(B332,Database!A:A,Database!F:F))=0,\"\",LOOKUP(B332,Database!A:A,Database!F:F)))","v":""},{"$f":"IF(ISNA(A332),\"\",IF(LEN(LOOKUP(B332,Database!A:A,Database!G:G))=0,\"\",LOOKUP(B332,Database!A:A,Database!G:G)))","v":""},{"$f":"IF(ISNA(A332),\"\",IF(LEN(LOOKUP(B332,Database!A:A,Database!H:H))=0,\"\",LOOKUP(B332,Database!A:A,Database!H:H)))","v":""},{"$f":"IF(ISNA(A332),\"\",IF(LEN(LOOKUP(B332,Database!A:A,Database!I:I))=0,\"\",LOOKUP(B332,Database!A:A,Database!I:I)))","v":""},{"$f":"IF(ISNA(A332),\"\",IF(LEN(LOOKUP(B332,Database!A:A,Database!J:J))=0,\"\",LOOKUP(B332,Database!A:A,Database!J:J)))","v":""},{"$f":"IF(ISNA(A332),\"\",IF(LEN(LOOKUP(B332,Database!A:A,Database!K:K))=0,\"\",LOOKUP(B332,Database!A:A,Database!K:K)))","v":""},{"$f":"IF(ISNA(A332),\"\",IF(LEN(LOOKUP(B332,Database!A:A,Database!L:L))=0,\"\",LOOKUP(B332,Database!A:A,Database!L:L)))","v":""},{"$f":"IF(ISNA(A332),\"\",IF(LEN(LOOKUP(B332,Database!A:A,Database!M:M))=0,\"\",LOOKUP(B332,Database!A:A,Database!M:M)))","v":""},{"$f":"IF(ISNA(A332),\"\",IF(LEN(LOOKUP(B332,Database!A:A,Database!N:N))=0,\"\",LOOKUP(B332,Database!A:A,Database!N:N)))","v":""},{"$f":"IF(ISNA(A332),\"\",IF(LEN(LOOKUP(B332,Database!A:A,Database!O:O))=0,\"\",LOOKUP(B332,Database!A:A,Database!O:O)))","v":""},{"$f":"IF(ISNA(A332),\"\",IF(LEN(LOOKUP(B332,Database!A:A,Database!P:P))=0,\"\",LOOKUP(B332,Database!A:A,Database!P:P)))","v":""},{"$f":"IF(ISNA(A332),\"\",IF(LEN(LOOKUP(B332,Database!A:A,Database!Q:Q))=0,\"\",LOOKUP(B332,Database!A:A,Database!Q:Q)))","v":""},{"$f":"IF(ISNA(A332),\"\",IF(LEN(LOOKUP(B332,Database!A:A,Database!R:R))=0,\"\",LOOKUP(B332,Database!A:A,Database!R:R)))","v":""},{"$f":"IF(ISNA(A332),\"\",IF(LEN(LOOKUP(B332,Database!A:A,Database!S:S))=0,\"\",LOOKUP(B332,Database!A:A,Database!S:S)))","v":""},null,null,null,null,null,null,318,0,null,1,0,null,0.1]
[{"$error":"#N/A"},"2018-11-15",{"$f":"IF(ISNA(A333),\"\",IF(LEN(LOOKUP(B333,Database!A:A,Database!B:B))=0,\"\",LOOKUP(B333,Database!A:A,Database!B:B)))","v":""},{"$f":"IF(ISNA(A333),\"\",IF(LEN(LOOKUP(B333,Database!A:A,Database!C:C))=0,\"\",LOOKUP(B333,Database!A:A,Database!C:C)))","v":""},{"$f":"IF(ISNA(A333),\"\",IF(LEN(LOOKUP(B333,Database!A:A,Database!D:D))=0,\"\",LOOKUP(B333,Database!A:A,Database!D:D)))","v":""},{"$f":"IF(ISNA(A333),\"\",IF(LEN(LOOKUP(B333,Database!A:A,Database!E:E))=0,\"\",LOOKUP(B333,Database!A:A,Database!E:E)))","v":""},{"$f":"IF(ISNA(A333),\"\",IF(LEN(LOOKUP(B333,Database!A:A,Database!F:F))=0,\"\",LOOKUP(B333,Database!A:A,Database!F:F)))","v":""},{"$f":"IF(ISNA(A333),\"\",IF(LEN(LOOKUP(B333,Database!A:A,Database!G:G))=0,\"\",LOOKUP(B333,Database!A:A,Database!G:G)))","v":""},{"$f":"IF(ISNA(A333),\"\",IF(LEN(LOOKUP(B333,Database!A:A,Database!H:H))=0,\"\",LOOKUP(B333,Database!A:A,Database!H:H)))","v":""},{"$f":"IF(ISNA(A333),\"\",IF(LEN(LOOKUP(B333,Database!A:A,Database!I:I))=0,\"\",LOOKUP(B333,Database!A:A,Database!I:I)))","v":""},{"$f":"IF(ISNA(A333),\"\",IF(LEN(LOOKUP(B333,Database!A:A,Database!J:J))=0,\"\",LOOKUP(B333,Database!A:A,Database!J:J)))","v":""},{"$f":"IF(ISNA(A333),\"\",IF(LEN(LOOKUP(B333,Database!A:A,Database!K:K))=0,\"\",LOOKUP(B333,Database!A:A,Database!K:K)))","v":""},{"$f":"IF(ISNA(A333),\"\",IF(LEN(LOOKUP(B333,Database!A:A,Database!L:L))=0,\"\",LOOKUP(B333,Database!A:A,Database!L:L)))","v":""},{"$f":"IF(ISNA(A333),\"\",IF(LEN(LOOKUP(B333,Database!A:A,Database!M:M))=0,\"\",LOOKUP(B333,Database!A:A,Database!M:M)))","v":""},{"$f":"IF(ISNA(A333),\"\",IF(LEN(LOOKUP(B333,Database!A:A,Database!N:N))=0,\"\",LOOKUP(B333,Database!A:A,Database!N:N)))","v":""},{"$f":"IF(ISNA(A333),\"\",IF(LEN(LOOKUP(B333,Database!A:A,Database!O:O))=0,\"\",LOOKUP(B333,Database!A:A,Database!O:O)))","v":""},{"$f":"IF(ISNA(A333),\"\",IF(LEN(LOOKUP(B333,Database!A:A,Database!P:P))=0,\"\",LOOKUP(B333,Database!A:A,Database!P:P)))","v":""},{"$f":"IF(ISNA(A333),\"\",IF(LEN(LOOKUP(B333,Database!A:A,Database!Q:Q))=0,\"\",LOOKUP(B333,Database!A:A,Database!Q:Q)))","v":""},{"$f":"IF(ISNA(A333),\"\",IF(LEN(LOOKUP(B333,Database!A:A,Database!R:R))=0,\"\",LOOKUP(B333,Database!A:A,Database!R:R)))","v":""},{"$f":"IF(ISNA(A333),\"\",IF(LEN(LOOKUP(B333,Database!A:A,Database!S:S))=0,\"\",LOOKUP(B333,Database!A:A,Database!S:S)))","v":""},null,null,null,null,null,null,319,0,null,1,0,null,0.1]
[{"$error":"#N/A"},"2018-11-16",{"$f":"IF(ISNA(A334),\"\",IF(LEN(LOOKUP(B334,Database!A:A,Database!B:B))=0,\"\",LOOKUP(B334,Database!A:A,Database!B:B)))","v":""},{"$f":"IF(ISNA(A334),\"\",IF(LEN(LOOKUP(B334,Database!A:A,Database!C:C))=0,\"\",LOOKUP(B334,Database!A:A,Database!C:C)))","v":""},{"$f":"IF(ISNA(A334),\"\",IF(LEN(LOOKUP(B334,Database!A:A,Database!D:D))=0,\"\",LOOKUP(B334,Database!A:A,Database!D:D)))","v":""},{"$f":"IF(ISNA(A334),\"\",IF(LEN(LOOKUP(B334,Database!A:A,Database!E:E))=0,\"\",LOOKUP(B334,Database!A:A,Database!E:E)))","v":""},{"$f":"IF(ISNA(A334),\"\",IF(LEN(LOOKUP(B334,Database!A:A,Database!F:F))=0,\"\",LOOKUP(B334,Database!A:A,Database!F:F)))","v":""},{"$f":"IF(ISNA(A334),\"\",IF(LEN(LOOKUP(B334,Database!A:A,Database!G:G))=0,\"\",LOOKUP(B334,Database!A:A,Database!G:G)))","v":""},{"$f":"IF(ISNA(A334),\"\",IF(LEN(LOOKUP(B334,Database!A:A,Database!H:H))=0,\"\",LOOKUP(B334,Database!A:A,Database!H:H)))","v":""},{"$f":"IF(ISNA(A334),\"\",IF(LEN(LOOKUP(B334,Database!A:A,Database!I:I))=0,\"\",LOOKUP(B334,Database!A:A,Database!I:I)))","v":""},{"$f":"IF(ISNA(A334),\"\",IF(LEN(LOOKUP(B334,Database!A:A,Database!J:J))=0,\"\",LOOKUP(B334,Database!A:A,Database!J:J)))","v":""},{"$f":"IF(ISNA(A334),\"\",IF(LEN(LOOKUP(B334,Database!A:A,Database!K:K))=0,\"\",LOOKUP(B334,Database!A:A,Database!K:K)))","v":""},{"$f":"IF(ISNA(A334),\"\",IF(LEN(LOOKUP(B334,Database!A:A,Database!L:L))=0,\"\",LOOKUP(B334,Database!A:A,Database!L:L)))","v":""},{"$f":"IF(ISNA(A334),\"\",IF(LEN(LOOKUP(B334,Database!A:A,Database!M:M))=0,\"\",LOOKUP(B334,Database!A:A,Database!M:M)))","v":""},{"$f":"IF(ISNA(A334),\"\",IF(LEN(LOOKUP(B334,Database!A:A,Database!N:N))=0,\"\",LOOKUP(B334,Database!A:A,Database!N:N)))","v":""},{"$f":"IF(ISNA(A334),\"\",IF(LEN(LOOKUP(B334,Database!A:A,Database!O:O))=0,\"\",LOOKUP(B334,Database!A:A,Database!O:O)))","v":""},{"$f":"IF(ISNA(A334),\"\",IF(LEN(LOOKUP(B334,Database!A:A,Database!P:P))=0,\"\",LOOKUP(B334,Database!A:A,Database!P:P)))","v":""},{"$f":"IF(ISNA(A334),\"\",IF(LEN(LOOKUP(B334,Database!A:A,Database!Q:Q))=0,\"\",LOOKUP(B334,Database!A:A,Database!Q:Q)))","v":""},{"$f":"IF(ISNA(A334),\"\",IF(LEN(LOOKUP(B334,Database!A:A,Database!R:R))=0,\"\",LOOKUP(B334,Database!A:A,Database!R:R)))","v":""},{"$f":"IF(ISNA(A334),\"\",IF(LEN(LOOKUP(B334,Database!A:A,Database!S:S))=0,\"\",LOOKUP(B334,Database!A:A,Database!S:S)))","v":""},null,null,null,null,null,null,320,0,null,1,0,null,0.1]
[{"$error":"#N/A"},"2018-11-17",{"$f":"IF(ISNA(A335),\"\",IF(LEN(LOOKUP(B335,Database!A:A,Database!B:B))=0,\"\",LOOKUP(B335,Database!A:A,Database!B:B)))","v":""},{"$f":"IF(ISNA(A335),\"\",IF(LEN(LOOKUP(B335,Database!A:A,Database!C:C))=0,\"\",LOOKUP(B335,Database!A:A,Database!C:C)))","v":""},{"$f":"IF(ISNA(A335),\"\",IF(LEN(LOOKUP(B335,Database!A:A,Database!D:D))=0,\"\",LOOKUP(B335,Database!A:A,Database!D:D)))","v":""},{"$f":"IF(ISNA(A335),\"\",IF(LEN(LOOKUP(B335,Database!A:A,Database!E:E))=0,\"\",LOOKUP(B335,Database!A:A,Database!E:E)))","v":""},{"$f":"IF(ISNA(A335),\"\",IF(LEN(LOOKUP(B335,Database!A:A,Database!F:F))=0,\"\",LOOKUP(B335,Database!A:A,Database!F:F)))","v":""},{"$f":"IF(ISNA(A335),\"\",IF(LEN(LOOKUP(B335,Database!A:A,Database!G:G))=0,\"\",LOOKUP(B335,Database!A:A,Database!G:G)))","v":""},{"$f":"IF(ISNA(A335),\"\",IF(LEN(LOOKUP(B335,Database!A:A,Database!H:H))=0,\"\",LOOKUP(B335,Database!A:A,Database!H:H)))","v":""},{"$f":"IF(ISNA(A335),\"\",IF(LEN(LOOKUP(B335,Database!A:A,Database!I:I))=0,\"\",LOOKUP(B335,Database!A:A,Database!I:I)))","v":""},{"$f":"IF(ISNA(A335),\"\",IF(LEN(LOOKUP(B335,Database!A:A,Database!J:J))=0,\"\",LOOKUP(B335,Database!A:A,Database!J:J)))","v":""},{"$f":"IF(ISNA(A335),\"\",IF(LEN(LOOKUP(B335,Database!A:A,Database!K:K))=0,\"\",LOOKUP(B335,Database!A:A,Database!K:K)))","v":""},{"$f":"IF(ISNA(A335),\"\",IF(LEN(LOOKUP(B335,Database!A:A,Database!L:L))=0,\"\",LOOKUP(B335,Database!A:A,Database!L:L)))","v":""},{"$f":"IF(ISNA(A335),\"\",IF(LEN(LOOKUP(B335,Database!A:A,Database!M:M))=0,\"\",LOOKUP(B335,Database!A:A,Database!M:M)))","v":""},{"$f":"IF(ISNA(A335),\"\",IF(LEN(LOOKUP(B335,Database!A:A,Database!N:N))=0,\"\",LOOKUP(B335,Database!A:A,Database!N:N)))","v":""},{"$f":"IF(ISNA(A335),\"\",IF(LEN(LOOKUP(B335,Database!A:A,Database!O:O))=0,\"\",LOOKUP(B335,Database!A:A,Database!O:O)))","v":""},{"$f":"IF(ISNA(A335),\"\",IF(LEN(LOOKUP(B335,Database!A:A,Database!P:P))=0,\"\",LOOKUP(B335,Database!A:A,Database!P:P)))","v":""},{"$f":"IF(ISNA(A335),\"\",IF(LEN(LOOKUP(B335,Database!A:A,Database!Q:Q))=0,\"\",LOOKUP(B335,Database!A:A,Database!Q:Q)))","v":""},{"$f":"IF(ISNA(A335),\"\",IF(LEN(LOOKUP(B335,Database!A:A,Database!R:R))=0,\"\",LOOKUP(B335,Database!A:A,Database!R:R)))","v":""},{"$f":"IF(ISNA(A335),\"\",IF(LEN(LOOKUP(B335,Database!A:A,Database!S:S))=0,\"\",LOOKUP(B335,Database!A:A,Database!S:S)))","v":""},null,null,null,null,null,null,321,{"$f":"MAX(D335:G335)","v":0},null,{"$f":"$H$4","v":1},0,null,{"$f":"$H$5","v":0.1}]
[{"$f":"VLOOKUP(B336,Database2,1,FALSE)","v":{"$error":"#N/A"}},"2018-11-18",{"$f":"IF(ISNA(A336),\"\",IF(LEN(LOOKUP(B336,Database!A:A,Database!B:B))=0,\"\",LOOKUP(B336,Database!A:A,Database!B:B)))","v":""},{"$f":"IF(ISNA(A336),\"\",IF(LEN(LOOKUP(B336,Database!A:A,Database!C:C))=0,\"\",LOOKUP(B336,Database!A:A,Database!C:C)))","v":""},{"$f":"IF(ISNA(A336),\"\",IF(LEN(LOOKUP(B336,Database!A:A,Database!D:D))=0,\"\",LOOKUP(B336,Database!A:A,Database!D:D)))","v":""},{"$f":"IF(ISNA(A336),\"\",IF(LEN(LOOKUP(B336,Database!A:A,Database!E:E))=0,\"\",LOOKUP(B336,Database!A:A,Database!E:E)))","v":""},{"$f":"IF(ISNA(A336),\"\",IF(LEN(LOOKUP(B336,Database!A:A,Database!F:F))=0,\"\",LOOKUP(B336,Database!A:A,Database!F:F)))","v":""},{"$f":"IF(ISNA(A336),\"\",IF(LEN(LOOKUP(B336,Database!A:A,Database!G:G))=0,\"\",LOOKUP(B336,Database!A:A,Database!G:G)))","v":""},{"$f":"IF(ISNA(A336),\"\",IF(LEN(LOOKUP(B336,Database!A:A,Database!H:H))=0,\"\",LOOKUP(B336,Database!A:A,Database!H:H)))","v":""},{"$f":"IF(ISNA(A336),\"\",IF(LEN(LOOKUP(B336,Database!A:A,Database!I:I))=0,\"\",LOOKUP(B336,Database!A:A,Database!I:I)))","v":""},{"$f":"IF(ISNA(A336),\"\",IF(LEN(LOOKUP(B336,Database!A:A,Database!J:J))=0,\"\",LOOKUP(B336,Database!A:A,Database!J:J)))","v":""},{"$f":"IF(ISNA(A336),\"\",IF(LEN(LOOKUP(B336,Database!A:A,Database!K:K))=0,\"\",LOOKUP(B336,Database!A:A,Database!K:K)))","v":""},{"$f":"IF(ISNA(A336),\"\",IF(LEN(LOOKUP(B336,Database!A:A,Database!L:L))=0,\"\",LOOKUP(B336,Database!A:A,Database!L:L)))","v":""},{"$f":"IF(ISNA(A336),\"\",IF(LEN(LOOKUP(B336,Database!A:A,Database!M:M))=0,\"\",LOOKUP(B336,Database!A:A,Database!M:M)))","v":""},{"$f":"IF(ISNA(A336),\"\",IF(LEN(LOOKUP(B336,Database!A:A,Database!N:N))=0,\"\",LOOKUP(B336,Database!A:A,Database!N:N)))","v":""},{"$f":"IF(ISNA(A336),\"\",IF(LEN(LOOKUP(B336,Database!A:A,Database!O:O))=0,\"\",LOOKUP(B336,Database!A:A,Database!O:O)))","v":""},{"$f":"IF(ISNA(A336),\"\",IF(LEN(LOOKUP(B336,Database!A:A,Database!P:P))=0,\"\",LOOKUP(B336,Database!A:A,Database!P:P)))","v":""},{"$f":"IF(ISNA(A336),\"\",IF(LEN(LOOKUP(B336,Database!A:A,Database!Q:Q))=0,\"\",LOOKUP(B336,Database!A:A,Database!Q:Q)))","v":""},{"$f":"IF(ISNA(A336),\"\",IF(LEN(LOOKUP(B336,Database!A:A,Database!R:R))=0,\"\",LOOKUP(B336,Database!A:A,Database!R:R)))","v":""},{"$f":"IF(ISNA(A336),\"\",IF(LEN(LOOKUP(B336,Database!A:A,Database!S:S))=0,\"\",LOOKUP(B336,Database!A:A,Database!S:S)))","v":""},null,null,null,null,null,null,{"$f":"AA335+1","v":322},0,null,1,{"$f":"MAX(H336:S336)","v":0},null,0.1]
[{"$error":"#N/A"},"2018-11-19",{"$f":"IF(ISNA(A337),\"\",IF(LEN(LOOKUP(B337,Database!A:A,Database!B:B))=0,\"\",LOOKUP(B337,Database!A:A,Database!B:B)))","v":""},{"$f":"IF(ISNA(A337),\"\",IF(LEN(LOOKUP(B337,Database!A:A,Database!C:C))=0,\"\",LOOKUP(B337,Database!A:A,Database!C:C)))","v":""},{"$f":"IF(ISNA(A337),\"\",IF(LEN(LOOKUP(B337,Database!A:A,Database!D:D))=0,\"\",LOOKUP(B337,Database!A:A,Database!D:D)))","v":""},{"$f":"IF(ISNA(A337),\"\",IF(LEN(LOOKUP(B337,Database!A:A,Database!E:E))=0,\"\",LOOKUP(B337,Database!A:A,Database!E:E)))","v":""},{"$f":"IF(ISNA(A337),\"\",IF(LEN(LOOKUP(B337,Database!A:A,Database!F:F))=0,\"\",LOOKUP(B337,Database!A:A,Database!F:F)))","v":""},{"$f":"IF(ISNA(A337),\"\",IF(LEN(LOOKUP(B337,Database!A:A,Database!G:G))=0,\"\",LOOKUP(B337,Database!A:A,Database!G:G)))","v":""},{"$f":"IF(ISNA(A337),\"\",IF(LEN(LOOKUP(B337,Database!A:A,Database!H:H))=0,\"\",LOOKUP(B337,Database!A:A,Database!H:H)))","v":""},{"$f":"IF(ISNA(A337),\"\",IF(LEN(LOOKUP(B337,Database!A:A,Database!I:I))=0,\"\",LOOKUP(B337,Database!A:A,Database!I:I)))","v":""},{"$f":"IF(ISNA(A337),\"\",IF(LEN(LOOKUP(B337,Database!A:A,Database!J:J))=0,\"\",LOOKUP(B337,Database!A:A,Database!J:J)))","v":""},{"$f":"IF(ISNA(A337),\"\",IF(LEN(LOOKUP(B337,Database!A:A,Database!K:K))=0,\"\",LOOKUP(B337,Database!A:A,Database!K:K)))","v":""},{"$f":"IF(ISNA(A337),\"\",IF(LEN(LOOKUP(B337,Database!A:A,Database!L:L))=0,\"\",LOOKUP(B337,Database!A:A,Database!L:L)))","v":""},{"$f":"IF(ISNA(A337),\"\",IF(LEN(LOOKUP(B337,Database!A:A,Database!M:M))=0,\"\",LOOKUP(B337,Database!A:A,Database!M:M)))","v":""},{"$f":"IF(ISNA(A337),\"\",IF(LEN(LOOKUP(B337,Database!A:A,Database!N:N))=0,\"\",LOOKUP(B337,Database!A:A,Database!N:N)))","v":""},{"$f":"IF(ISNA(A337),\"\",IF(LEN(LOOKUP(B337,Database!A:A,Database!O:O))=0,\"\",LOOKUP(B337,Database!A:A,Database!O:O)))","v":""},{"$f":"IF(ISNA(A337),\"\",IF(LEN(LOOKUP(B337,Database!A:A,Database!P:P))=0,\"\",LOOKUP(B337,Database!A:A,Database!P:P)))","v":""},{"$f":"IF(ISNA(A337),\"\",IF(LEN(LOOKUP(B337,Database!A:A,Database!Q:Q))=0,\"\",LOOKUP(B337,Database!A:A,Database!Q:Q)))","v":""},{"$f":"IF(ISNA(A337),\"\",IF(LEN(LOOKUP(B337,Database!A:A,Database!R:R))=0,\"\",LOOKUP(B337,Database!A:A,Database!R:R)))","v":""},{"$f":"IF(ISNA(A337),\"\",IF(LEN(LOOKUP(B337,Database!A:A,Database!S:S))=0,\"\",LOOKUP(B337,Database!A:A,Database!S:S)))","v":""},null,null,null,null,null,null,323,0,null,1,0,null,0.1]
[{"$error":"#N/A"},{"$f":"B337+1","v":"2018-11-20"},{"$f":"IF(ISNA(A338),\"\",IF(LEN(LOOKUP(B338,Database!A:A,Database!B:B))=0,\"\",LOOKUP(B338,Database!A:A,Database!B:B)))","v":""},{"$f":"IF(ISNA(A338),\"\",IF(LEN(LOOKUP(B338,Database!A:A,Database!C:C))=0,\"\",LOOKUP(B338,Database!A:A,Database!C:C)))","v":""},{"$f":"IF(ISNA(A338),\"\",IF(LEN(LOOKUP(B338,Database!A:A,Database!D:D))=0,\"\",LOOKUP(B338,Database!A:A,Database!D:D)))","v":""},{"$f":"IF(ISNA(A338),\"\",IF(LEN(LOOKUP(B338,Database!A:A,Database!E:E))=0,\"\",LOOKUP(B338,Database!A:A,Database!E:E)))","v":""},{"$f":"IF(ISNA(A338),\"\",IF(LEN(LOOKUP(B338,Database!A:A,Database!F:F))=0,\"\",LOOKUP(B338,Database!A:A,Database!F:F)))","v":""},{"$f":"IF(ISNA(A338),\"\",IF(LEN(LOOKUP(B338,Database!A:A,Database!G:G))=0,\"\",LOOKUP(B338,Database!A:A,Database!G:G)))","v":""},{"$f":"IF(ISNA(A338),\"\",IF(LEN(LOOKUP(B338,Database!A:A,Database!H:H))=0,\"\",LOOKUP(B338,Database!A:A,Database!H:H)))","v":""},{"$f":"IF(ISNA(A338),\"\",IF(LEN(LOOKUP(B338,Database!A:A,Database!I:I))=0,\"\",LOOKUP(B338,Database!A:A,Database!I:I)))","v":""},{"$f":"IF(ISNA(A338),\"\",IF(LEN(LOOKUP(B338,Database!A:A,Database!J:J))=0,\"\",LOOKUP(B338,Database!A:A,Database!J:J)))","v":""},{"$f":"IF(ISNA(A338),\"\",IF(LEN(LOOKUP(B338,Database!A:A,Database!K:K))=0,\"\",LOOKUP(B338,Database!A:A,Database!K:K)))","v":""},{"$f":"IF(ISNA(A338),\"\",IF(LEN(LOOKUP(B338,Database!A:A,Database!L:L))=0,\"\",LOOKUP(B338,Database!A:A,Database!L:L)))","v":""},{"$f":"IF(ISNA(A338),\"\",IF(LEN(LOOKUP(B338,Database!A:A,Database!M:M))=0,\"\",LOOKUP(B338,Database!A:A,Database!M:M)))","v":""},{"$f":"IF(ISNA(A338),\"\",IF(LEN(LOOKUP(B338,Database!A:A,Database!N:N))=0,\"\",LOOKUP(B338,Database!A:A,Database!N:N)))","v":""},{"$f":"IF(ISNA(A338),\"\",IF(LEN(LOOKUP(B338,Database!A:A,Database!O:O))=0,\"\",LOOKUP(B338,Database!A:A,Database!O:O)))","v":""},{"$f":"IF(ISNA(A338),\"\",IF(LEN(LOOKUP(B338,Database!A:A,Database!P:P))=0,\"\",LOOKUP(B338,Database!A:A,Database!P:P)))","v":""},{"$f":"IF(ISNA(A338),\"\",IF(LEN(LOOKUP(B338,Database!A:A,Database!Q:Q))=0,\"\",LOOKUP(B338,Database!A:A,Database!Q:Q)))","v":""},{"$f":"IF(ISNA(A338),\"\",IF(LEN(LOOKUP(B338,Database!A:A,Database!R:R))=0,\"\",LOOKUP(B338,Database!A:A,Database!R:R)))","v":""},{"$f":"IF(ISNA(A338),\"\",IF(LEN(LOOKUP(B338,Database!A:A,Database!S:S))=0,\"\",LOOKUP(B338,Database!A:A,Database!S:S)))","v":""},null,null,null,null,null,null,324,0,null,1,0,null,0.1]
[{"$error":"#N/A"},"2018-11-21",{"$f":"IF(ISNA(A339),\"\",IF(LEN(LOOKUP(B339,Database!A:A,Database!B:B))=0,\"\",LOOKUP(B339,Database!A:A,Database!B:B)))","v":""},{"$f":"IF(ISNA(A339),\"\",IF(LEN(LOOKUP(B339,Database!A:A,Database!C:C))=0,\"\",LOOKUP(B339,Database!A:A,Database!C:C)))","v":""},{"$f":"IF(ISNA(A339),\"\",IF(LEN(LOOKUP(B339,Database!A:A,Database!D:D))=0,\"\",LOOKUP(B339,Database!A:A,Database!D:D)))","v":""},{"$f":"IF(ISNA(A339),\"\",IF(LEN(LOOKUP(B339,Database!A:A,Database!E:E))=0,\"\",LOOKUP(B339,Database!A:A,Database!E:E)))","v":""},{"$f":"IF(ISNA(A339),\"\",IF(LEN(LOOKUP(B339,Database!A:A,Database!F:F))=0,\"\",LOOKUP(B339,Database!A:A,Database!F:F)))","v":""},{"$f":"IF(ISNA(A339),\"\",IF(LEN(LOOKUP(B339,Database!A:A,Database!G:G))=0,\"\",LOOKUP(B339,Database!A:A,Database!G:G)))","v":""},{"$f":"IF(ISNA(A339),\"\",IF(LEN(LOOKUP(B339,Database!A:A,Database!H:H))=0,\"\",LOOKUP(B339,Database!A:A,Database!H:H)))","v":""},{"$f":"IF(ISNA(A339),\"\",IF(LEN(LOOKUP(B339,Database!A:A,Database!I:I))=0,\"\",LOOKUP(B339,Database!A:A,Database!I:I)))","v":""},{"$f":"IF(ISNA(A339),\"\",IF(LEN(LOOKUP(B339,Database!A:A,Database!J:J))=0,\"\",LOOKUP(B339,Database!A:A,Database!J:J)))","v":""},{"$f":"IF(ISNA(A339),\"\",IF(LEN(LOOKUP(B339,Database!A:A,Database!K:K))=0,\"\",LOOKUP(B339,Database!A:A,Database!K:K)))","v":""},{"$f":"IF(ISNA(A339),\"\",IF(LEN(LOOKUP(B339,Database!A:A,Database!L:L))=0,\"\",LOOKUP(B339,Database!A:A,Database!L:L)))","v":""},{"$f":"IF(ISNA(A339),\"\",IF(LEN(LOOKUP(B339,Database!A:A,Database!M:M))=0,\"\",LOOKUP(B339,Database!A:A,Database!M:M)))","v":""},{"$f":"IF(ISNA(A339),\"\",IF(LEN(LOOKUP(B339,Database!A:A,Database!N:N))=0,\"\",LOOKUP(B339,Database!A:A,Database!N:N)))","v":""},{"$f":"IF(ISNA(A339),\"\",IF(LEN(LOOKUP(B339,Database!A:A,Database!O:O))=0,\"\",LOOKUP(B339,Database!A:A,Database!O:O)))","v":""},{"$f":"IF(ISNA(A339),\"\",IF(LEN(LOOKUP(B339,Database!A:A,Database!P:P))=0,\"\",LOOKUP(B339,Database!A:A,Database!P:P)))","v":""},{"$f":"IF(ISNA(A339),\"\",IF(LEN(LOOKUP(B339,Database!A:A,Database!Q:Q))=0,\"\",LOOKUP(B339,Database!A:A,Database!Q:Q)))","v":""},{"$f":"IF(ISNA(A339),\"\",IF(LEN(LOOKUP(B339,Database!A:A,Database!R:R))=0,\"\",LOOKUP(B339,Database!A:A,Database!R:R)))","v":""},{"$f":"IF(ISNA(A339),\"\",IF(LEN(LOOKUP(B339,Database!A:A,Database!S:S))=0,\"\",LOOKUP(B339,Database!A:A,Database!S:S)))","v":""},null,null,null,null,null,null,325,0,null,1,0,null,0.1]
[{"$error":"#N/A"},"2018-11-22",{"$f":"IF(ISNA(A340),\"\",IF(LEN(LOOKUP(B340,Database!A:A,Database!B:B))=0,\"\",LOOKUP(B340,Database!A:A,Database!B:B)))","v":""},{"$f":"IF(ISNA(A340),\"\",IF(LEN(LOOKUP(B340,Database!A:A,Database!C:C))=0,\"\",LOOKUP(B340,Database!A:A,Database!C:C)))","v":""},{"$f":"IF(ISNA(A340),\"\",IF(LEN(LOOKUP(B340,Database!A:A,Database!D:D))=0,\"\",LOOKUP(B340,Database!A:A,Database!D:D)))","v":""},{"$f":"IF(ISNA(A340),\"\",IF(LEN(LOOKUP(B340,Database!A:A,Database!E:E))=0,\"\",LOOKUP(B340,Database!A:A,Database!E:E)))","v":""},{"$f":"IF(ISNA(A340),\"\",IF(LEN(LOOKUP(B340,Database!A:A,Database!F:F))=0,\"\",LOOKUP(B340,Database!A:A,Database!F:F)))","v":""},{"$f":"IF(ISNA(A340),\"\",IF(LEN(LOOKUP(B340,Database!A:A,Database!G:G))=0,\"\",LOOKUP(B340,Database!A:A,Database!G:G)))","v":""},{"$f":"IF(ISNA(A340),\"\",IF(LEN(LOOKUP(B340,Database!A:A,Database!H:H))=0,\"\",LOOKUP(B340,Database!A:A,Database!H:H)))","v":""},{"$f":"IF(ISNA(A340),\"\",IF(LEN(LOOKUP(B340,Database!A:A,Database!I:I))=0,\"\",LOOKUP(B340,Database!A:A,Database!I:I)))","v":""},{"$f":"IF(ISNA(A340),\"\",IF(LEN(LOOKUP(B340,Database!A:A,Database!J:J))=0,\"\",LOOKUP(B340,Database!A:A,Database!J:J)))","v":""},{"$f":"IF(ISNA(A340),\"\",IF(LEN(LOOKUP(B340,Database!A:A,Database!K:K))=0,\"\",LOOKUP(B340,Database!A:A,Database!K:K)))","v":""},{"$f":"IF(ISNA(A340),\"\",IF(LEN(LOOKUP(B340,Database!A:A,Database!L:L))=0,\"\",LOOKUP(B340,Database!A:A,Database!L:L)))","v":""},{"$f":"IF(ISNA(A340),\"\",IF(LEN(LOOKUP(B340,Database!A:A,Database!M:M))=0,\"\",LOOKUP(B340,Database!A:A,Database!M:M)))","v":""},{"$f":"IF(ISNA(A340),\"\",IF(LEN(LOOKUP(B340,Database!A:A,Database!N:N))=0,\"\",LOOKUP(B340,Database!A:A,Database!N:N)))","v":""},{"$f":"IF(ISNA(A340),\"\",IF(LEN(LOOKUP(B340,Database!A:A,Database!O:O))=0,\"\",LOOKUP(B340,Database!A:A,Database!O:O)))","v":""},{"$f":"IF(ISNA(A340),\"\",IF(LEN(LOOKUP(B340,Database!A:A,Database!P:P))=0,\"\",LOOKUP(B340,Database!A:A,Database!P:P)))","v":""},{"$f":"IF(ISNA(A340),\"\",IF(LEN(LOOKUP(B340,Database!A:A,Database!Q:Q))=0,\"\",LOOKUP(B340,Database!A:A,Database!Q:Q)))","v":""},{"$f":"IF(ISNA(A340),\"\",IF(LEN(LOOKUP(B340,Database!A:A,Database!R:R))=0,\"\",LOOKUP(B340,Database!A:A,Database!R:R)))","v":""},{"$f":"IF(ISNA(A340),\"\",IF(LEN(LOOKUP(B340,Database!A:A,Database!S:S))=0,\"\",LOOKUP(B340,Database!A:A,Database!S:S)))","v":""},null,null,null,null,null,null,326,0,null,1,0,null,0.1]
[{"$error":"#N/A"},"2018-11-23",{"$f":"IF(ISNA(A341),\"\",IF(LEN(LOOKUP(B341,Database!A:A,Database!B:B))=0,\"\",LOOKUP(B341,Database!A:A,Database!B:B)))","v":""},{"$f":"IF(ISNA(A341),\"\",IF(LEN(LOOKUP(B341,Database!A:A,Database!C:C))=0,\"\",LOOKUP(B341,Database!A:A,Database!C:C)))","v":""},{"$f":"IF(ISNA(A341),\"\",IF(LEN(LOOKUP(B341,Database!A:A,Database!D:D))=0,\"\",LOOKUP(B341,Database!A:A,Database!D:D)))","v":""},{"$f":"IF(ISNA(A341),\"\",IF(LEN(LOOKUP(B341,Database!A:A,Database!E:E))=0,\"\",LOOKUP(B341,Database!A:A,Database!E:E)))","v":""},{"$f":"IF(ISNA(A341),\"\",IF(LEN(LOOKUP(B341,Database!A:A,Database!F:F))=0,\"\",LOOKUP(B341,Database!A:A,Database!F:F)))","v":""},{"$f":"IF(ISNA(A341),\"\",IF(LEN(LOOKUP(B341,Database!A:A,Database!G:G))=0,\"\",LOOKUP(B341,Database!A:A,Database!G:G)))","v":""},{"$f":"IF(ISNA(A341),\"\",IF(LEN(LOOKUP(B341,Database!A:A,Database!H:H))=0,\"\",LOOKUP(B341,Database!A:A,Database!H:H)))","v":""},{"$f":"IF(ISNA(A341),\"\",IF(LEN(LOOKUP(B341,Database!A:A,Database!I:I))=0,\"\",LOOKUP(B341,Database!A:A,Database!I:I)))","v":""},{"$f":"IF(ISNA(A341),\"\",IF(LEN(LOOKUP(B341,Database!A:A,Database!J:J))=0,\"\",LOOKUP(B341,Database!A:A,Database!J:J)))","v":""},{"$f":"IF(ISNA(A341),\"\",IF(LEN(LOOKUP(B341,Database!A:A,Database!K:K))=0,\"\",LOOKUP(B341,Database!A:A,Database!K:K)))","v":""},{"$f":"IF(ISNA(A341),\"\",IF(LEN(LOOKUP(B341,Database!A:A,Database!L:L))=0,\"\",LOOKUP(B341,Database!A:A,Database!L:L)))","v":""},{"$f":"IF(ISNA(A341),\"\",IF(LEN(LOOKUP(B341,Database!A:A,Database!M:M))=0,\"\",LOOKUP(B341,Database!A:A,Database!M:M)))","v":""},{"$f":"IF(ISNA(A341),\"\",IF(LEN(LOOKUP(B341,Database!A:A,Database!N:N))=0,\"\",LOOKUP(B341,Database!A:A,Database!N:N)))","v":""},{"$f":"IF(ISNA(A341),\"\",IF(LEN(LOOKUP(B341,Database!A:A,Database!O:O))=0,\"\",LOOKUP(B341,Database!A:A,Database!O:O)))","v":""},{"$f":"IF(ISNA(A341),\"\",IF(LEN(LOOKUP(B341,Database!A:A,Database!P:P))=0,\"\",LOOKUP(B341,Database!A:A,Database!P:P)))","v":""},{"$f":"IF(ISNA(A341),\"\",IF(LEN(LOOKUP(B341,Database!A:A,Database!Q:Q))=0,\"\",LOOKUP(B341,Database!A:A,Database!Q:Q)))","v":""},{"$f":"IF(ISNA(A341),\"\",IF(LEN(LOOKUP(B341,Database!A:A,Database!R:R))=0,\"\",LOOKUP(B341,Database!A:A,Database!R:R)))","v":""},{"$f":"IF(ISNA(A341),\"\",IF(LEN(LOOKUP(B341,Database!A:A,Database!S:S))=0,\"\",LOOKUP(B341,Database!A:A,Database!S:S)))","v":""},null,null,null,null,null,null,327,0,null,1,0,null,0.1]
[{"$error":"#N/A"},"2018-11-24",{"$f":"IF(ISNA(A342),\"\",IF(LEN(LOOKUP(B342,Database!A:A,Database!B:B))=0,\"\",LOOKUP(B342,Database!A:A,Database!B:B)))","v":""},{"$f":"IF(ISNA(A342),\"\",IF(LEN(LOOKUP(B342,Database!A:A,Database!C:C))=0,\"\",LOOKUP(B342,Database!A:A,Database!C:C)))","v":""},{"$f":"IF(ISNA(A342),\"\",IF(LEN(LOOKUP(B342,Database!A:A,Database!D:D))=0,\"\",LOOKUP(B342,Database!A:A,Database!D:D)))","v":""},{"$f":"IF(ISNA(A342),\"\",IF(LEN(LOOKUP(B342,Database!A:A,Database!E:E))=0,\"\",LOOKUP(B342,Database!A:A,Database!E:E)))","v":""},{"$f":"IF(ISNA(A342),\"\",IF(LEN(LOOKUP(B342,Database!A:A,Database!F:F))=0,\"\",LOOKUP(B342,Database!A:A,Database!F:F)))","v":""},{"$f":"IF(ISNA(A342),\"\",IF(LEN(LOOKUP(B342,Database!A:A,Database!G:G))=0,\"\",LOOKUP(B342,Database!A:A,Database!G:G)))","v":""},{"$f":"IF(ISNA(A342),\"\",IF(LEN(LOOKUP(B342,Database!A:A,Database!H:H))=0,\"\",LOOKUP(B342,Database!A:A,Database!H:H)))","v":""},{"$f":"IF(ISNA(A342),\"\",IF(LEN(LOOKUP(B342,Database!A:A,Database!I:I))=0,\"\",LOOKUP(B342,Database!A:A,Database!I:I)))","v":""},{"$f":"IF(ISNA(A342),\"\",IF(LEN(LOOKUP(B342,Database!A:A,Database!J:J))=0,\"\",LOOKUP(B342,Database!A:A,Database!J:J)))","v":""},{"$f":"IF(ISNA(A342),\"\",IF(LEN(LOOKUP(B342,Database!A:A,Database!K:K))=0,\"\",LOOKUP(B342,Database!A:A,Database!K:K)))","v":""},{"$f":"IF(ISNA(A342),\"\",IF(LEN(LOOKUP(B342,Database!A:A,Database!L:L))=0,\"\",LOOKUP(B342,Database!A:A,Database!L:L)))","v":""},{"$f":"IF(ISNA(A342),\"\",IF(LEN(LOOKUP(B342,Database!A:A,Database!M:M))=0,\"\",LOOKUP(B342,Database!A:A,Database!M:M)))","v":""},{"$f":"IF(ISNA(A342),\"\",IF(LEN(LOOKUP(B342,Database!A:A,Database!N:N))=0,\"\",LOOKUP(B342,Database!A:A,Database!N:N)))","v":""},{"$f":"IF(ISNA(A342),\"\",IF(LEN(LOOKUP(B342,Database!A:A,Database!O:O))=0,\"\",LOOKUP(B342,Database!A:A,Database!O:O)))","v":""},{"$f":"IF(ISNA(A342),\"\",IF(LEN(LOOKUP(B342,Database!A:A,Database!P:P))=0,\"\",LOOKUP(B342,Database!A:A,Database!P:P)))","v":""},{"$f":"IF(ISNA(A342),\"\",IF(LEN(LOOKUP(B342,Database!A:A,Database!Q:Q))=0,\"\",LOOKUP(B342,Database!A:A,Database!Q:Q)))","v":""},{"$f":"IF(ISNA(A342),\"\",IF(LEN(LOOKUP(B342,Database!A:A,Database!R:R))=0,\"\",LOOKUP(B342,Database!A:A,Database!R:R)))","v":""},{"$f":"IF(ISNA(A342),\"\",IF(LEN(LOOKUP(B342,Database!A:A,Database!S:S))=0,\"\",LOOKUP(B342,Database!A:A,Database!S:S)))","v":""},null,null,null,null,null,null,328,0,null,1,0,null,0.1]
[{"$error":"#N/A"},"2018-11-25",{"$f":"IF(ISNA(A343),\"\",IF(LEN(LOOKUP(B343,Database!A:A,Database!B:B))=0,\"\",LOOKUP(B343,Database!A:A,Database!B:B)))","v":""},{"$f":"IF(ISNA(A343),\"\",IF(LEN(LOOKUP(B343,Database!A:A,Database!C:C))=0,\"\",LOOKUP(B343,Database!A:A,Database!C:C)))","v":""},{"$f":"IF(ISNA(A343),\"\",IF(LEN(LOOKUP(B343,Database!A:A,Database!D:D))=0,\"\",LOOKUP(B343,Database!A:A,Database!D:D)))","v":""},{"$f":"IF(ISNA(A343),\"\",IF(LEN(LOOKUP(B343,Database!A:A,Database!E:E))=0,\"\",LOOKUP(B343,Database!A:A,Database!E:E)))","v":""},{"$f":"IF(ISNA(A343),\"\",IF(LEN(LOOKUP(B343,Database!A:A,Database!F:F))=0,\"\",LOOKUP(B343,Database!A:A,Database!F:F)))","v":""},{"$f":"IF(ISNA(A343),\"\",IF(LEN(LOOKUP(B343,Database!A:A,Database!G:G))=0,\"\",LOOKUP(B343,Database!A:A,Database!G:G)))","v":""},{"$f":"IF(ISNA(A343),\"\",IF(LEN(LOOKUP(B343,Database!A:A,Database!H:H))=0,\"\",LOOKUP(B343,Database!A:A,Database!H:H)))","v":""},{"$f":"IF(ISNA(A343),\"\",IF(LEN(LOOKUP(B343,Database!A:A,Database!I:I))=0,\"\",LOOKUP(B343,Database!A:A,Database!I:I)))","v":""},{"$f":"IF(ISNA(A343),\"\",IF(LEN(LOOKUP(B343,Database!A:A,Database!J:J))=0,\"\",LOOKUP(B343,Database!A:A,Database!J:J)))","v":""},{"$f":"IF(ISNA(A343),\"\",IF(LEN(LOOKUP(B343,Database!A:A,Database!K:K))=0,\"\",LOOKUP(B343,Database!A:A,Database!K:K)))","v":""},{"$f":"IF(ISNA(A343),\"\",IF(LEN(LOOKUP(B343,Database!A:A,Database!L:L))=0,\"\",LOOKUP(B343,Database!A:A,Database!L:L)))","v":""},{"$f":"IF(ISNA(A343),\"\",IF(LEN(LOOKUP(B343,Database!A:A,Database!M:M))=0,\"\",LOOKUP(B343,Database!A:A,Database!M:M)))","v":""},{"$f":"IF(ISNA(A343),\"\",IF(LEN(LOOKUP(B343,Database!A:A,Database!N:N))=0,\"\",LOOKUP(B343,Database!A:A,Database!N:N)))","v":""},{"$f":"IF(ISNA(A343),\"\",IF(LEN(LOOKUP(B343,Database!A:A,Database!O:O))=0,\"\",LOOKUP(B343,Database!A:A,Database!O:O)))","v":""},{"$f":"IF(ISNA(A343),\"\",IF(LEN(LOOKUP(B343,Database!A:A,Database!P:P))=0,\"\",LOOKUP(B343,Database!A:A,Database!P:P)))","v":""},{"$f":"IF(ISNA(A343),\"\",IF(LEN(LOOKUP(B343,Database!A:A,Database!Q:Q))=0,\"\",LOOKUP(B343,Database!A:A,Database!Q:Q)))","v":""},{"$f":"IF(ISNA(A343),\"\",IF(LEN(LOOKUP(B343,Database!A:A,Database!R:R))=0,\"\",LOOKUP(B343,Database!A:A,Database!R:R)))","v":""},{"$f":"IF(ISNA(A343),\"\",IF(LEN(LOOKUP(B343,Database!A:A,Database!S:S))=0,\"\",LOOKUP(B343,Database!A:A,Database!S:S)))","v":""},null,null,null,null,null,null,329,0,null,1,0,null,0.1]
[{"$error":"#N/A"},"2018-11-26",{"$f":"IF(ISNA(A344),\"\",IF(LEN(LOOKUP(B344,Database!A:A,Database!B:B))=0,\"\",LOOKUP(B344,Database!A:A,Database!B:B)))","v":""},{"$f":"IF(ISNA(A344),\"\",IF(LEN(LOOKUP(B344,Database!A:A,Database!C:C))=0,\"\",LOOKUP(B344,Database!A:A,Database!C:C)))","v":""},{"$f":"IF(ISNA(A344),\"\",IF(LEN(LOOKUP(B344,Database!A:A,Database!D:D))=0,\"\",LOOKUP(B344,Database!A:A,Database!D:D)))","v":""},{"$f":"IF(ISNA(A344),\"\",IF(LEN(LOOKUP(B344,Database!A:A,Database!E:E))=0,\"\",LOOKUP(B344,Database!A:A,Database!E:E)))","v":""},{"$f":"IF(ISNA(A344),\"\",IF(LEN(LOOKUP(B344,Database!A:A,Database!F:F))=0,\"\",LOOKUP(B344,Database!A:A,Database!F:F)))","v":""},{"$f":"IF(ISNA(A344),\"\",IF(LEN(LOOKUP(B344,Database!A:A,Database!G:G))=0,\"\",LOOKUP(B344,Database!A:A,Database!G:G)))","v":""},{"$f":"IF(ISNA(A344),\"\",IF(LEN(LOOKUP(B344,Database!A:A,Database!H:H))=0,\"\",LOOKUP(B344,Database!A:A,Database!H:H)))","v":""},{"$f":"IF(ISNA(A344),\"\",IF(LEN(LOOKUP(B344,Database!A:A,Database!I:I))=0,\"\",LOOKUP(B344,Database!A:A,Database!I:I)))","v":""},{"$f":"IF(ISNA(A344),\"\",IF(LEN(LOOKUP(B344,Database!A:A,Database!J:J))=0,\"\",LOOKUP(B344,Database!A:A,Database!J:J)))","v":""},{"$f":"IF(ISNA(A344),\"\",IF(LEN(LOOKUP(B344,Database!A:A,Database!K:K))=0,\"\",LOOKUP(B344,Database!A:A,Database!K:K)))","v":""},{"$f":"IF(ISNA(A344),\"\",IF(LEN(LOOKUP(B344,Database!A:A,Database!L:L))=0,\"\",LOOKUP(B344,Database!A:A,Database!L:L)))","v":""},{"$f":"IF(ISNA(A344),\"\",IF(LEN(LOOKUP(B344,Database!A:A,Database!M:M))=0,\"\",LOOKUP(B344,Database!A:A,Database!M:M)))","v":""},{"$f":"IF(ISNA(A344),\"\",IF(LEN(LOOKUP(B344,Database!A:A,Database!N:N))=0,\"\",LOOKUP(B344,Database!A:A,Database!N:N)))","v":""},{"$f":"IF(ISNA(A344),\"\",IF(LEN(LOOKUP(B344,Database!A:A,Database!O:O))=0,\"\",LOOKUP(B344,Database!A:A,Database!O:O)))","v":""},{"$f":"IF(ISNA(A344),\"\",IF(LEN(LOOKUP(B344,Database!A:A,Database!P:P))=0,\"\",LOOKUP(B344,Database!A:A,Database!P:P)))","v":""},{"$f":"IF(ISNA(A344),\"\",IF(LEN(LOOKUP(B344,Database!A:A,Database!Q:Q))=0,\"\",LOOKUP(B344,Database!A:A,Database!Q:Q)))","v":""},{"$f":"IF(ISNA(A344),\"\",IF(LEN(LOOKUP(B344,Database!A:A,Database!R:R))=0,\"\",LOOKUP(B344,Database!A:A,Database!R:R)))","v":""},{"$f":"IF(ISNA(A344),\"\",IF(LEN(LOOKUP(B344,Database!A:A,Database!S:S))=0,\"\",LOOKUP(B344,Database!A:A,Database!S:S)))","v":""},null,null,null,null,null,null,330,0,null,1,0,null,0.1]
[{"$error":"#N/A"},"2018-11-27",{"$f":"IF(ISNA(A345),\"\",IF(LEN(LOOKUP(B345,Database!A:A,Database!B:B))=0,\"\",LOOKUP(B345,Database!A:A,Database!B:B)))","v":""},{"$f":"IF(ISNA(A345),\"\",IF(LEN(LOOKUP(B345,Database!A:A,Database!C:C))=0,\"\",LOOKUP(B345,Database!A:A,Database!C:C)))","v":""},{"$f":"IF(ISNA(A345),\"\",IF(LEN(LOOKUP(B345,Database!A:A,Database!D:D))=0,\"\",LOOKUP(B345,Database!A:A,Database!D:D)))","v":""},{"$f":"IF(ISNA(A345),\"\",IF(LEN(LOOKUP(B345,Database!A:A,Database!E:E))=0,\"\",LOOKUP(B345,Database!A:A,Database!E:E)))","v":""},{"$f":"IF(ISNA(A345),\"\",IF(LEN(LOOKUP(B345,Database!A:A,Database!F:F))=0,\"\",LOOKUP(B345,Database!A:A,Database!F:F)))","v":""},{"$f":"IF(ISNA(A345),\"\",IF(LEN(LOOKUP(B345,Database!A:A,Database!G:G))=0,\"\",LOOKUP(B345,Database!A:A,Database!G:G)))","v":""},{"$f":"IF(ISNA(A345),\"\",IF(LEN(LOOKUP(B345,Database!A:A,Database!H:H))=0,\"\",LOOKUP(B345,Database!A:A,Database!H:H)))","v":""},{"$f":"IF(ISNA(A345),\"\",IF(LEN(LOOKUP(B345,Database!A:A,Database!I:I))=0,\"\",LOOKUP(B345,Database!A:A,Database!I:I)))","v":""},{"$f":"IF(ISNA(A345),\"\",IF(LEN(LOOKUP(B345,Database!A:A,Database!J:J))=0,\"\",LOOKUP(B345,Database!A:A,Database!J:J)))","v":""},{"$f":"IF(ISNA(A345),\"\",IF(LEN(LOOKUP(B345,Database!A:A,Database!K:K))=0,\"\",LOOKUP(B345,Database!A:A,Database!K:K)))","v":""},{"$f":"IF(ISNA(A345),\"\",IF(LEN(LOOKUP(B345,Database!A:A,Database!L:L))=0,\"\",LOOKUP(B345,Database!A:A,Database!L:L)))","v":""},{"$f":"IF(ISNA(A345),\"\",IF(LEN(LOOKUP(B345,Database!A:A,Database!M:M))=0,\"\",LOOKUP(B345,Database!A:A,Database!M:M)))","v":""},{"$f":"IF(ISNA(A345),\"\",IF(LEN(LOOKUP(B345,Database!A:A,Database!N:N))=0,\"\",LOOKUP(B345,Database!A:A,Database!N:N)))","v":""},{"$f":"IF(ISNA(A345),\"\",IF(LEN(LOOKUP(B345,Database!A:A,Database!O:O))=0,\"\",LOOKUP(B345,Database!A:A,Database!O:O)))","v":""},{"$f":"IF(ISNA(A345),\"\",IF(LEN(LOOKUP(B345,Database!A:A,Database!P:P))=0,\"\",LOOKUP(B345,Database!A:A,Database!P:P)))","v":""},{"$f":"IF(ISNA(A345),\"\",IF(LEN(LOOKUP(B345,Database!A:A,Database!Q:Q))=0,\"\",LOOKUP(B345,Database!A:A,Database!Q:Q)))","v":""},{"$f":"IF(ISNA(A345),\"\",IF(LEN(LOOKUP(B345,Database!A:A,Database!R:R))=0,\"\",LOOKUP(B345,Database!A:A,Database!R:R)))","v":""},{"$f":"IF(ISNA(A345),\"\",IF(LEN(LOOKUP(B345,Database!A:A,Database!S:S))=0,\"\",LOOKUP(B345,Database!A:A,Database!S:S)))","v":""},null,null,null,null,null,null,331,0,null,1,0,null,0.1]
[{"$error":"#N/A"},"2018-11-28",{"$f":"IF(ISNA(A346),\"\",IF(LEN(LOOKUP(B346,Database!A:A,Database!B:B))=0,\"\",LOOKUP(B346,Database!A:A,Database!B:B)))","v":""},{"$f":"IF(ISNA(A346),\"\",IF(LEN(LOOKUP(B346,Database!A:A,Database!C:C))=0,\"\",LOOKUP(B346,Database!A:A,Database!C:C)))","v":""},{"$f":"IF(ISNA(A346),\"\",IF(LEN(LOOKUP(B346,Database!A:A,Database!D:D))=0,\"\",LOOKUP(B346,Database!A:A,Database!D:D)))","v":""},{"$f":"IF(ISNA(A346),\"\",IF(LEN(LOOKUP(B346,Database!A:A,Database!E:E))=0,\"\",LOOKUP(B346,Database!A:A,Database!E:E)))","v":""},{"$f":"IF(ISNA(A346),\"\",IF(LEN(LOOKUP(B346,Database!A:A,Database!F:F))=0,\"\",LOOKUP(B346,Database!A:A,Database!F:F)))","v":""},{"$f":"IF(ISNA(A346),\"\",IF(LEN(LOOKUP(B346,Database!A:A,Database!G:G))=0,\"\",LOOKUP(B346,Database!A:A,Database!G:G)))","v":""},{"$f":"IF(ISNA(A346),\"\",IF(LEN(LOOKUP(B346,Database!A:A,Database!H:H))=0,\"\",LOOKUP(B346,Database!A:A,Database!H:H)))","v":""},{"$f":"IF(ISNA(A346),\"\",IF(LEN(LOOKUP(B346,Database!A:A,Database!I:I))=0,\"\",LOOKUP(B346,Database!A:A,Database!I:I)))","v":""},{"$f":"IF(ISNA(A346),\"\",IF(LEN(LOOKUP(B346,Database!A:A,Database!J:J))=0,\"\",LOOKUP(B346,Database!A:A,Database!J:J)))","v":""},{"$f":"IF(ISNA(A346),\"\",IF(LEN(LOOKUP(B346,Database!A:A,Database!K:K))=0,\"\",LOOKUP(B346,Database!A:A,Database!K:K)))","v":""},{"$f":"IF(ISNA(A346),\"\",IF(LEN(LOOKUP(B346,Database!A:A,Database!L:L))=0,\"\",LOOKUP(B346,Database!A:A,Database!L:L)))","v":""},{"$f":"IF(ISNA(A346),\"\",IF(LEN(LOOKUP(B346,Database!A:A,Database!M:M))=0,\"\",LOOKUP(B346,Database!A:A,Database!M:M)))","v":""},{"$f":"IF(ISNA(A346),\"\",IF(LEN(LOOKUP(B346,Database!A:A,Database!N:N))=0,\"\",LOOKUP(B346,Database!A:A,Database!N:N)))","v":""},{"$f":"IF(ISNA(A346),\"\",IF(LEN(LOOKUP(B346,Database!A:A,Database!O:O))=0,\"\",LOOKUP(B346,Database!A:A,Database!O:O)))","v":""},{"$f":"IF(ISNA(A346),\"\",IF(LEN(LOOKUP(B346,Database!A:A,Database!P:P))=0,\"\",LOOKUP(B346,Database!A:A,Database!P:P)))","v":""},{"$f":"IF(ISNA(A346),\"\",IF(LEN(LOOKUP(B346,Database!A:A,Database!Q:Q))=0,\"\",LOOKUP(B346,Database!A:A,Database!Q:Q)))","v":""},{"$f":"IF(ISNA(A346),\"\",IF(LEN(LOOKUP(B346,Database!A:A,Database!R:R))=0,\"\",LOOKUP(B346,Database!A:A,Database!R:R)))","v":""},{"$f":"IF(ISNA(A346),\"\",IF(LEN(LOOKUP(B346,Database!A:A,Database!S:S))=0,\"\",LOOKUP(B346,Database!A:A,Database!S:S)))","v":""},null,null,null,null,null,null,332,0,null,1,0,null,0.1]
[{"$error":"#N/A"},"2018-11-29",{"$f":"IF(ISNA(A347),\"\",IF(LEN(LOOKUP(B347,Database!A:A,Database!B:B))=0,\"\",LOOKUP(B347,Database!A:A,Database!B:B)))","v":""},{"$f":"IF(ISNA(A347),\"\",IF(LEN(LOOKUP(B347,Database!A:A,Database!C:C))=0,\"\",LOOKUP(B347,Database!A:A,Database!C:C)))","v":""},{"$f":"IF(ISNA(A347),\"\",IF(LEN(LOOKUP(B347,Database!A:A,Database!D:D))=0,\"\",LOOKUP(B347,Database!A:A,Database!D:D)))","v":""},{"$f":"IF(ISNA(A347),\"\",IF(LEN(LOOKUP(B347,Database!A:A,Database!E:E))=0,\"\",LOOKUP(B347,Database!A:A,Database!E:E)))","v":""},{"$f":"IF(ISNA(A347),\"\",IF(LEN(LOOKUP(B347,Database!A:A,Database!F:F))=0,\"\",LOOKUP(B347,Database!A:A,Database!F:F)))","v":""},{"$f":"IF(ISNA(A347),\"\",IF(LEN(LOOKUP(B347,Database!A:A,Database!G:G))=0,\"\",LOOKUP(B347,Database!A:A,Database!G:G)))","v":""},{"$f":"IF(ISNA(A347),\"\",IF(LEN(LOOKUP(B347,Database!A:A,Database!H:H))=0,\"\",LOOKUP(B347,Database!A:A,Database!H:H)))","v":""},{"$f":"IF(ISNA(A347),\"\",IF(LEN(LOOKUP(B347,Database!A:A,Database!I:I))=0,\"\",LOOKUP(B347,Database!A:A,Database!I:I)))","v":""},{"$f":"IF(ISNA(A347),\"\",IF(LEN(LOOKUP(B347,Database!A:A,Database!J:J))=0,\"\",LOOKUP(B347,Database!A:A,Database!J:J)))","v":""},{"$f":"IF(ISNA(A347),\"\",IF(LEN(LOOKUP(B347,Database!A:A,Database!K:K))=0,\"\",LOOKUP(B347,Database!A:A,Database!K:K)))","v":""},{"$f":"IF(ISNA(A347),\"\",IF(LEN(LOOKUP(B347,Database!A:A,Database!L:L))=0,\"\",LOOKUP(B347,Database!A:A,Database!L:L)))","v":""},{"$f":"IF(ISNA(A347),\"\",IF(LEN(LOOKUP(B347,Database!A:A,Database!M:M))=0,\"\",LOOKUP(B347,Database!A:A,Database!M:M)))","v":""},{"$f":"IF(ISNA(A347),\"\",IF(LEN(LOOKUP(B347,Database!A:A,Database!N:N))=0,\"\",LOOKUP(B347,Database!A:A,Database!N:N)))","v":""},{"$f":"IF(ISNA(A347),\"\",IF(LEN(LOOKUP(B347,Database!A:A,Database!O:O))=0,\"\",LOOKUP(B347,Database!A:A,Database!O:O)))","v":""},{"$f":"IF(ISNA(A347),\"\",IF(LEN(LOOKUP(B347,Database!A:A,Database!P:P))=0,\"\",LOOKUP(B347,Database!A:A,Database!P:P)))","v":""},{"$f":"IF(ISNA(A347),\"\",IF(LEN(LOOKUP(B347,Database!A:A,Database!Q:Q))=0,\"\",LOOKUP(B347,Database!A:A,Database!Q:Q)))","v":""},{"$f":"IF(ISNA(A347),\"\",IF(LEN(LOOKUP(B347,Database!A:A,Database!R:R))=0,\"\",LOOKUP(B347,Database!A:A,Database!R:R)))","v":""},{"$f":"IF(ISNA(A347),\"\",IF(LEN(LOOKUP(B347,Database!A:A,Database!S:S))=0,\"\",LOOKUP(B347,Database!A:A,Database!S:S)))","v":""},null,null,null,null,null,null,333,0,null,1,0,null,0.1]
[{"$error":"#N/A"},"2018-11-30",{"$f":"IF(ISNA(A348),\"\",IF(LEN(LOOKUP(B348,Database!A:A,Database!B:B))=0,\"\",LOOKUP(B348,Database!A:A,Database!B:B)))","v":""},{"$f":"IF(ISNA(A348),\"\",IF(LEN(LOOKUP(B348,Database!A:A,Database!C:C))=0,\"\",LOOKUP(B348,Database!A:A,Database!C:C)))","v":""},{"$f":"IF(ISNA(A348),\"\",IF(LEN(LOOKUP(B348,Database!A:A,Database!D:D))=0,\"\",LOOKUP(B348,Database!A:A,Database!D:D)))","v":""},{"$f":"IF(ISNA(A348),\"\",IF(LEN(LOOKUP(B348,Database!A:A,Database!E:E))=0,\"\",LOOKUP(B348,Database!A:A,Database!E:E)))","v":""},{"$f":"IF(ISNA(A348),\"\",IF(LEN(LOOKUP(B348,Database!A:A,Database!F:F))=0,\"\",LOOKUP(B348,Database!A:A,Database!F:F)))","v":""},{"$f":"IF(ISNA(A348),\"\",IF(LEN(LOOKUP(B348,Database!A:A,Database!G:G))=0,\"\",LOOKUP(B348,Database!A:A,Database!G:G)))","v":""},{"$f":"IF(ISNA(A348),\"\",IF(LEN(LOOKUP(B348,Database!A:A,Database!H:H))=0,\"\",LOOKUP(B348,Database!A:A,Database!H:H)))","v":""},{"$f":"IF(ISNA(A348),\"\",IF(LEN(LOOKUP(B348,Database!A:A,Database!I:I))=0,\"\",LOOKUP(B348,Database!A:A,Database!I:I)))","v":""},{"$f":"IF(ISNA(A348),\"\",IF(LEN(LOOKUP(B348,Database!A:A,Database!J:J))=0,\"\",LOOKUP(B348,Database!A:A,Database!J:J)))","v":""},{"$f":"IF(ISNA(A348),\"\",IF(LEN(LOOKUP(B348,Database!A:A,Database!K:K))=0,\"\",LOOKUP(B348,Database!A:A,Database!K:K)))","v":""},{"$f":"IF(ISNA(A348),\"\",IF(LEN(LOOKUP(B348,Database!A:A,Database!L:L))=0,\"\",LOOKUP(B348,Database!A:A,Database!L:L)))","v":""},{"$f":"IF(ISNA(A348),\"\",IF(LEN(LOOKUP(B348,Database!A:A,Database!M:M))=0,\"\",LOOKUP(B348,Database!A:A,Database!M:M)))","v":""},{"$f":"IF(ISNA(A348),\"\",IF(LEN(LOOKUP(B348,Database!A:A,Database!N:N))=0,\"\",LOOKUP(B348,Database!A:A,Database!N:N)))","v":""},{"$f":"IF(ISNA(A348),\"\",IF(LEN(LOOKUP(B348,Database!A:A,Database!O:O))=0,\"\",LOOKUP(B348,Database!A:A,Database!O:O)))","v":""},{"$f":"IF(ISNA(A348),\"\",IF(LEN(LOOKUP(B348,Database!A:A,Database!P:P))=0,\"\",LOOKUP(B348,Database!A:A,Database!P:P)))","v":""},{"$f":"IF(ISNA(A348),\"\",IF(LEN(LOOKUP(B348,Database!A:A,Database!Q:Q))=0,\"\",LOOKUP(B348,Database!A:A,Database!Q:Q)))","v":""},{"$f":"IF(ISNA(A348),\"\",IF(LEN(LOOKUP(B348,Database!A:A,Database!R:R))=0,\"\",LOOKUP(B348,Database!A:A,Database!R:R)))","v":""},{"$f":"IF(ISNA(A348),\"\",IF(LEN(LOOKUP(B348,Database!A:A,Database!S:S))=0,\"\",LOOKUP(B348,Database!A:A,Database!S:S)))","v":""},null,null,null,null,null,null,334,0,null,1,0,null,0.1]
[{"$error":"#N/A"},"2018-12-01",{"$f":"IF(ISNA(A349),\"\",IF(LEN(LOOKUP(B349,Database!A:A,Database!B:B))=0,\"\",LOOKUP(B349,Database!A:A,Database!B:B)))","v":""},{"$f":"IF(ISNA(A349),\"\",IF(LEN(LOOKUP(B349,Database!A:A,Database!C:C))=0,\"\",LOOKUP(B349,Database!A:A,Database!C:C)))","v":""},{"$f":"IF(ISNA(A349),\"\",IF(LEN(LOOKUP(B349,Database!A:A,Database!D:D))=0,\"\",LOOKUP(B349,Database!A:A,Database!D:D)))","v":""},{"$f":"IF(ISNA(A349),\"\",IF(LEN(LOOKUP(B349,Database!A:A,Database!E:E))=0,\"\",LOOKUP(B349,Database!A:A,Database!E:E)))","v":""},{"$f":"IF(ISNA(A349),\"\",IF(LEN(LOOKUP(B349,Database!A:A,Database!F:F))=0,\"\",LOOKUP(B349,Database!A:A,Database!F:F)))","v":""},{"$f":"IF(ISNA(A349),\"\",IF(LEN(LOOKUP(B349,Database!A:A,Database!G:G))=0,\"\",LOOKUP(B349,Database!A:A,Database!G:G)))","v":""},{"$f":"IF(ISNA(A349),\"\",IF(LEN(LOOKUP(B349,Database!A:A,Database!H:H))=0,\"\",LOOKUP(B349,Database!A:A,Database!H:H)))","v":""},{"$f":"IF(ISNA(A349),\"\",IF(LEN(LOOKUP(B349,Database!A:A,Database!I:I))=0,\"\",LOOKUP(B349,Database!A:A,Database!I:I)))","v":""},{"$f":"IF(ISNA(A349),\"\",IF(LEN(LOOKUP(B349,Database!A:A,Database!J:J))=0,\"\",LOOKUP(B349,Database!A:A,Database!J:J)))","v":""},{"$f":"IF(ISNA(A349),\"\",IF(LEN(LOOKUP(B349,Database!A:A,Database!K:K))=0,\"\",LOOKUP(B349,Database!A:A,Database!K:K)))","v":""},{"$f":"IF(ISNA(A349),\"\",IF(LEN(LOOKUP(B349,Database!A:A,Database!L:L))=0,\"\",LOOKUP(B349,Database!A:A,Database!L:L)))","v":""},{"$f":"IF(ISNA(A349),\"\",IF(LEN(LOOKUP(B349,Database!A:A,Database!M:M))=0,\"\",LOOKUP(B349,Database!A:A,Database!M:M)))","v":""},{"$f":"IF(ISNA(A349),\"\",IF(LEN(LOOKUP(B349,Database!A:A,Database!N:N))=0,\"\",LOOKUP(B349,Database!A:A,Database!N:N)))","v":""},{"$f":"IF(ISNA(A349),\"\",IF(LEN(LOOKUP(B349,Database!A:A,Database!O:O))=0,\"\",LOOKUP(B349,Database!A:A,Database!O:O)))","v":""},{"$f":"IF(ISNA(A349),\"\",IF(LEN(LOOKUP(B349,Database!A:A,Database!P:P))=0,\"\",LOOKUP(B349,Database!A:A,Database!P:P)))","v":""},{"$f":"IF(ISNA(A349),\"\",IF(LEN(LOOKUP(B349,Database!A:A,Database!Q:Q))=0,\"\",LOOKUP(B349,Database!A:A,Database!Q:Q)))","v":""},{"$f":"IF(ISNA(A349),\"\",IF(LEN(LOOKUP(B349,Database!A:A,Database!R:R))=0,\"\",LOOKUP(B349,Database!A:A,Database!R:R)))","v":""},{"$f":"IF(ISNA(A349),\"\",IF(LEN(LOOKUP(B349,Database!A:A,Database!S:S))=0,\"\",LOOKUP(B349,Database!A:A,Database!S:S)))","v":""},null,null,null,null,null,null,335,0,null,1,0,null,0.1]
[{"$error":"#N/A"},"2018-12-02",{"$f":"IF(ISNA(A350),\"\",IF(LEN(LOOKUP(B350,Database!A:A,Database!B:B))=0,\"\",LOOKUP(B350,Database!A:A,Database!B:B)))","v":""},{"$f":"IF(ISNA(A350),\"\",IF(LEN(LOOKUP(B350,Database!A:A,Database!C:C))=0,\"\",LOOKUP(B350,Database!A:A,Database!C:C)))","v":""},{"$f":"IF(ISNA(A350),\"\",IF(LEN(LOOKUP(B350,Database!A:A,Database!D:D))=0,\"\",LOOKUP(B350,Database!A:A,Database!D:D)))","v":""},{"$f":"IF(ISNA(A350),\"\",IF(LEN(LOOKUP(B350,Database!A:A,Database!E:E))=0,\"\",LOOKUP(B350,Database!A:A,Database!E:E)))","v":""},{"$f":"IF(ISNA(A350),\"\",IF(LEN(LOOKUP(B350,Database!A:A,Database!F:F))=0,\"\",LOOKUP(B350,Database!A:A,Database!F:F)))","v":""},{"$f":"IF(ISNA(A350),\"\",IF(LEN(LOOKUP(B350,Database!A:A,Database!G:G))=0,\"\",LOOKUP(B350,Database!A:A,Database!G:G)))","v":""},{"$f":"IF(ISNA(A350),\"\",IF(LEN(LOOKUP(B350,Database!A:A,Database!H:H))=0,\"\",LOOKUP(B350,Database!A:A,Database!H:H)))","v":""},{"$f":"IF(ISNA(A350),\"\",IF(LEN(LOOKUP(B350,Database!A:A,Database!I:I))=0,\"\",LOOKUP(B350,Database!A:A,Database!I:I)))","v":""},{"$f":"IF(ISNA(A350),\"\",IF(LEN(LOOKUP(B350,Database!A:A,Database!J:J))=0,\"\",LOOKUP(B350,Database!A:A,Database!J:J)))","v":""},{"$f":"IF(ISNA(A350),\"\",IF(LEN(LOOKUP(B350,Database!A:A,Database!K:K))=0,\"\",LOOKUP(B350,Database!A:A,Database!K:K)))","v":""},{"$f":"IF(ISNA(A350),\"\",IF(LEN(LOOKUP(B350,Database!A:A,Database!L:L))=0,\"\",LOOKUP(B350,Database!A:A,Database!L:L)))","v":""},{"$f":"IF(ISNA(A350),\"\",IF(LEN(LOOKUP(B350,Database!A:A,Database!M:M))=0,\"\",LOOKUP(B350,Database!A:A,Database!M:M)))","v":""},{"$f":"IF(ISNA(A350),\"\",IF(LEN(LOOKUP(B350,Database!A:A,Database!N:N))=0,\"\",LOOKUP(B350,Database!A:A,Database!N:N)))","v":""},{"$f":"IF(ISNA(A350),\"\",IF(LEN(LOOKUP(B350,Database!A:A,Database!O:O))=0,\"\",LOOKUP(B350,Database!A:A,Database!O:O)))","v":""},{"$f":"IF(ISNA(A350),\"\",IF(LEN(LOOKUP(B350,Database!A:A,Database!P:P))=0,\"\",LOOKUP(B350,Database!A:A,Database!P:P)))","v":""},{"$f":"IF(ISNA(A350),\"\",IF(LEN(LOOKUP(B350,Database!A:A,Database!Q:Q))=0,\"\",LOOKUP(B350,Database!A:A,Database!Q:Q)))","v":""},{"$f":"IF(ISNA(A350),\"\",IF(LEN(LOOKUP(B350,Database!A:A,Database!R:R))=0,\"\",LOOKUP(B350,Database!A:A,Database!R:R)))","v":""},{"$f":"IF(ISNA(A350),\"\",IF(LEN(LOOKUP(B350,Database!A:A,Database!S:S))=0,\"\",LOOKUP(B350,Database!A:A,Database!S:S)))","v":""},null,null,null,null,null,null,336,0,null,1,0,null,0.1]
[{"$error":"#N/A"},"2018-12-03",{"$f":"IF(ISNA(A351),\"\",IF(LEN(LOOKUP(B351,Database!A:A,Database!B:B))=0,\"\",LOOKUP(B351,Database!A:A,Database!B:B)))","v":""},{"$f":"IF(ISNA(A351),\"\",IF(LEN(LOOKUP(B351,Database!A:A,Database!C:C))=0,\"\",LOOKUP(B351,Database!A:A,Database!C:C)))","v":""},{"$f":"IF(ISNA(A351),\"\",IF(LEN(LOOKUP(B351,Database!A:A,Database!D:D))=0,\"\",LOOKUP(B351,Database!A:A,Database!D:D)))","v":""},{"$f":"IF(ISNA(A351),\"\",IF(LEN(LOOKUP(B351,Database!A:A,Database!E:E))=0,\"\",LOOKUP(B351,Database!A:A,Database!E:E)))","v":""},{"$f":"IF(ISNA(A351),\"\",IF(LEN(LOOKUP(B351,Database!A:A,Database!F:F))=0,\"\",LOOKUP(B351,Database!A:A,Database!F:F)))","v":""},{"$f":"IF(ISNA(A351),\"\",IF(LEN(LOOKUP(B351,Database!A:A,Database!G:G))=0,\"\",LOOKUP(B351,Database!A:A,Database!G:G)))","v":""},{"$f":"IF(ISNA(A351),\"\",IF(LEN(LOOKUP(B351,Database!A:A,Database!H:H))=0,\"\",LOOKUP(B351,Database!A:A,Database!H:H)))","v":""},{"$f":"IF(ISNA(A351),\"\",IF(LEN(LOOKUP(B351,Database!A:A,Database!I:I))=0,\"\",LOOKUP(B351,Database!A:A,Database!I:I)))","v":""},{"$f":"IF(ISNA(A351),\"\",IF(LEN(LOOKUP(B351,Database!A:A,Database!J:J))=0,\"\",LOOKUP(B351,Database!A:A,Database!J:J)))","v":""},{"$f":"IF(ISNA(A351),\"\",IF(LEN(LOOKUP(B351,Database!A:A,Database!K:K))=0,\"\",LOOKUP(B351,Database!A:A,Database!K:K)))","v":""},{"$f":"IF(ISNA(A351),\"\",IF(LEN(LOOKUP(B351,Database!A:A,Database!L:L))=0,\"\",LOOKUP(B351,Database!A:A,Database!L:L)))","v":""},{"$f":"IF(ISNA(A351),\"\",IF(LEN(LOOKUP(B351,Database!A:A,Database!M:M))=0,\"\",LOOKUP(B351,Database!A:A,Database!M:M)))","v":""},{"$f":"IF(ISNA(A351),\"\",IF(LEN(LOOKUP(B351,Database!A:A,Database!N:N))=0,\"\",LOOKUP(B351,Database!A:A,Database!N:N)))","v":""},{"$f":"IF(ISNA(A351),\"\",IF(LEN(LOOKUP(B351,Database!A:A,Database!O:O))=0,\"\",LOOKUP(B351,Database!A:A,Database!O:O)))","v":""},{"$f":"IF(ISNA(A351),\"\",IF(LEN(LOOKUP(B351,Database!A:A,Database!P:P))=0,\"\",LOOKUP(B351,Database!A:A,Database!P:P)))","v":""},{"$f":"IF(ISNA(A351),\"\",IF(LEN(LOOKUP(B351,Database!A:A,Database!Q:Q))=0,\"\",LOOKUP(B351,Database!A:A,Database!Q:Q)))","v":""},{"$f":"IF(ISNA(A351),\"\",IF(LEN(LOOKUP(B351,Database!A:A,Database!R:R))=0,\"\",LOOKUP(B351,Database!A:A,Database!R:R)))","v":""},{"$f":"IF(ISNA(A351),\"\",IF(LEN(LOOKUP(B351,Database!A:A,Database!S:S))=0,\"\",LOOKUP(B351,Database!A:A,Database!S:S)))","v":""},null,null,null,null,null,null,337,0,null,1,0,null,0.1]
[{"$error":"#N/A"},"2018-12-04",{"$f":"IF(ISNA(A352),\"\",IF(LEN(LOOKUP(B352,Database!A:A,Database!B:B))=0,\"\",LOOKUP(B352,Database!A:A,Database!B:B)))","v":""},{"$f":"IF(ISNA(A352),\"\",IF(LEN(LOOKUP(B352,Database!A:A,Database!C:C))=0,\"\",LOOKUP(B352,Database!A:A,Database!C:C)))","v":""},{"$f":"IF(ISNA(A352),\"\",IF(LEN(LOOKUP(B352,Database!A:A,Database!D:D))=0,\"\",LOOKUP(B352,Database!A:A,Database!D:D)))","v":""},{"$f":"IF(ISNA(A352),\"\",IF(LEN(LOOKUP(B352,Database!A:A,Database!E:E))=0,\"\",LOOKUP(B352,Database!A:A,Database!E:E)))","v":""},{"$f":"IF(ISNA(A352),\"\",IF(LEN(LOOKUP(B352,Database!A:A,Database!F:F))=0,\"\",LOOKUP(B352,Database!A:A,Database!F:F)))","v":""},{"$f":"IF(ISNA(A352),\"\",IF(LEN(LOOKUP(B352,Database!A:A,Database!G:G))=0,\"\",LOOKUP(B352,Database!A:A,Database!G:G)))","v":""},{"$f":"IF(ISNA(A352),\"\",IF(LEN(LOOKUP(B352,Database!A:A,Database!H:H))=0,\"\",LOOKUP(B352,Database!A:A,Database!H:H)))","v":""},{"$f":"IF(ISNA(A352),\"\",IF(LEN(LOOKUP(B352,Database!A:A,Database!I:I))=0,\"\",LOOKUP(B352,Database!A:A,Database!I:I)))","v":""},{"$f":"IF(ISNA(A352),\"\",IF(LEN(LOOKUP(B352,Database!A:A,Database!J:J))=0,\"\",LOOKUP(B352,Database!A:A,Database!J:J)))","v":""},{"$f":"IF(ISNA(A352),\"\",IF(LEN(LOOKUP(B352,Database!A:A,Database!K:K))=0,\"\",LOOKUP(B352,Database!A:A,Database!K:K)))","v":""},{"$f":"IF(ISNA(A352),\"\",IF(LEN(LOOKUP(B352,Database!A:A,Database!L:L))=0,\"\",LOOKUP(B352,Database!A:A,Database!L:L)))","v":""},{"$f":"IF(ISNA(A352),\"\",IF(LEN(LOOKUP(B352,Database!A:A,Database!M:M))=0,\"\",LOOKUP(B352,Database!A:A,Database!M:M)))","v":""},{"$f":"IF(ISNA(A352),\"\",IF(LEN(LOOKUP(B352,Database!A:A,Database!N:N))=0,\"\",LOOKUP(B352,Database!A:A,Database!N:N)))","v":""},{"$f":"IF(ISNA(A352),\"\",IF(LEN(LOOKUP(B352,Database!A:A,Database!O:O))=0,\"\",LOOKUP(B352,Database!A:A,Database!O:O)))","v":""},{"$f":"IF(ISNA(A352),\"\",IF(LEN(LOOKUP(B352,Database!A:A,Database!P:P))=0,\"\",LOOKUP(B352,Database!A:A,Database!P:P)))","v":""},{"$f":"IF(ISNA(A352),\"\",IF(LEN(LOOKUP(B352,Database!A:A,Database!Q:Q))=0,\"\",LOOKUP(B352,Database!A:A,Database!Q:Q)))","v":""},{"$f":"IF(ISNA(A352),\"\",IF(LEN(LOOKUP(B352,Database!A:A,Database!R:R))=0,\"\",LOOKUP(B352,Database!A:A,Database!R:R)))","v":""},{"$f":"IF(ISNA(A352),\"\",IF(LEN(LOOKUP(B352,Database!A:A,Database!S:S))=0,\"\",LOOKUP(B352,Database!A:A,Database!S:S)))","v":""},null,null,null,null,null,null,338,0,null,1,0,null,0.1]
[{"$error":"#N/A"},"2018-12-05",{"$f":"IF(ISNA(A353),\"\",IF(LEN(LOOKUP(B353,Database!A:A,Database!B:B))=0,\"\",LOOKUP(B353,Database!A:A,Database!B:B)))","v":""},{"$f":"IF(ISNA(A353),\"\",IF(LEN(LOOKUP(B353,Database!A:A,Database!C:C))=0,\"\",LOOKUP(B353,Database!A:A,Database!C:C)))","v":""},{"$f":"IF(ISNA(A353),\"\",IF(LEN(LOOKUP(B353,Database!A:A,Database!D:D))=0,\"\",LOOKUP(B353,Database!A:A,Database!D:D)))","v":""},{"$f":"IF(ISNA(A353),\"\",IF(LEN(LOOKUP(B353,Database!A:A,Database!E:E))=0,\"\",LOOKUP(B353,Database!A:A,Database!E:E)))","v":""},{"$f":"IF(ISNA(A353),\"\",IF(LEN(LOOKUP(B353,Database!A:A,Database!F:F))=0,\"\",LOOKUP(B353,Database!A:A,Database!F:F)))","v":""},{"$f":"IF(ISNA(A353),\"\",IF(LEN(LOOKUP(B353,Database!A:A,Database!G:G))=0,\"\",LOOKUP(B353,Database!A:A,Database!G:G)))","v":""},{"$f":"IF(ISNA(A353),\"\",IF(LEN(LOOKUP(B353,Database!A:A,Database!H:H))=0,\"\",LOOKUP(B353,Database!A:A,Database!H:H)))","v":""},{"$f":"IF(ISNA(A353),\"\",IF(LEN(LOOKUP(B353,Database!A:A,Database!I:I))=0,\"\",LOOKUP(B353,Database!A:A,Database!I:I)))","v":""},{"$f":"IF(ISNA(A353),\"\",IF(LEN(LOOKUP(B353,Database!A:A,Database!J:J))=0,\"\",LOOKUP(B353,Database!A:A,Database!J:J)))","v":""},{"$f":"IF(ISNA(A353),\"\",IF(LEN(LOOKUP(B353,Database!A:A,Database!K:K))=0,\"\",LOOKUP(B353,Database!A:A,Database!K:K)))","v":""},{"$f":"IF(ISNA(A353),\"\",IF(LEN(LOOKUP(B353,Database!A:A,Database!L:L))=0,\"\",LOOKUP(B353,Database!A:A,Database!L:L)))","v":""},{"$f":"IF(ISNA(A353),\"\",IF(LEN(LOOKUP(B353,Database!A:A,Database!M:M))=0,\"\",LOOKUP(B353,Database!A:A,Database!M:M)))","v":""},{"$f":"IF(ISNA(A353),\"\",IF(LEN(LOOKUP(B353,Database!A:A,Database!N:N))=0,\"\",LOOKUP(B353,Database!A:A,Database!N:N)))","v":""},{"$f":"IF(ISNA(A353),\"\",IF(LEN(LOOKUP(B353,Database!A:A,Database!O:O))=0,\"\",LOOKUP(B353,Database!A:A,Database!O:O)))","v":""},{"$f":"IF(ISNA(A353),\"\",IF(LEN(LOOKUP(B353,Database!A:A,Database!P:P))=0,\"\",LOOKUP(B353,Database!A:A,Database!P:P)))","v":""},{"$f":"IF(ISNA(A353),\"\",IF(LEN(LOOKUP(B353,Database!A:A,Database!Q:Q))=0,\"\",LOOKUP(B353,Database!A:A,Database!Q:Q)))","v":""},{"$f":"IF(ISNA(A353),\"\",IF(LEN(LOOKUP(B353,Database!A:A,Database!R:R))=0,\"\",LOOKUP(B353,Database!A:A,Database!R:R)))","v":""},{"$f":"IF(ISNA(A353),\"\",IF(LEN(LOOKUP(B353,Database!A:A,Database!S:S))=0,\"\",LOOKUP(B353,Database!A:A,Database!S:S)))","v":""},null,null,null,null,null,null,339,0,null,1,0,null,0.1]
[{"$error":"#N/A"},"2018-12-06",{"$f":"IF(ISNA(A354),\"\",IF(LEN(LOOKUP(B354,Database!A:A,Database!B:B))=0,\"\",LOOKUP(B354,Database!A:A,Database!B:B)))","v":""},{"$f":"IF(ISNA(A354),\"\",IF(LEN(LOOKUP(B354,Database!A:A,Database!C:C))=0,\"\",LOOKUP(B354,Database!A:A,Database!C:C)))","v":""},{"$f":"IF(ISNA(A354),\"\",IF(LEN(LOOKUP(B354,Database!A:A,Database!D:D))=0,\"\",LOOKUP(B354,Database!A:A,Database!D:D)))","v":""},{"$f":"IF(ISNA(A354),\"\",IF(LEN(LOOKUP(B354,Database!A:A,Database!E:E))=0,\"\",LOOKUP(B354,Database!A:A,Database!E:E)))","v":""},{"$f":"IF(ISNA(A354),\"\",IF(LEN(LOOKUP(B354,Database!A:A,Database!F:F))=0,\"\",LOOKUP(B354,Database!A:A,Database!F:F)))","v":""},{"$f":"IF(ISNA(A354),\"\",IF(LEN(LOOKUP(B354,Database!A:A,Database!G:G))=0,\"\",LOOKUP(B354,Database!A:A,Database!G:G)))","v":""},{"$f":"IF(ISNA(A354),\"\",IF(LEN(LOOKUP(B354,Database!A:A,Database!H:H))=0,\"\",LOOKUP(B354,Database!A:A,Database!H:H)))","v":""},{"$f":"IF(ISNA(A354),\"\",IF(LEN(LOOKUP(B354,Database!A:A,Database!I:I))=0,\"\",LOOKUP(B354,Database!A:A,Database!I:I)))","v":""},{"$f":"IF(ISNA(A354),\"\",IF(LEN(LOOKUP(B354,Database!A:A,Database!J:J))=0,\"\",LOOKUP(B354,Database!A:A,Database!J:J)))","v":""},{"$f":"IF(ISNA(A354),\"\",IF(LEN(LOOKUP(B354,Database!A:A,Database!K:K))=0,\"\",LOOKUP(B354,Database!A:A,Database!K:K)))","v":""},{"$f":"IF(ISNA(A354),\"\",IF(LEN(LOOKUP(B354,Database!A:A,Database!L:L))=0,\"\",LOOKUP(B354,Database!A:A,Database!L:L)))","v":""},{"$f":"IF(ISNA(A354),\"\",IF(LEN(LOOKUP(B354,Database!A:A,Database!M:M))=0,\"\",LOOKUP(B354,Database!A:A,Database!M:M)))","v":""},{"$f":"IF(ISNA(A354),\"\",IF(LEN(LOOKUP(B354,Database!A:A,Database!N:N))=0,\"\",LOOKUP(B354,Database!A:A,Database!N:N)))","v":""},{"$f":"IF(ISNA(A354),\"\",IF(LEN(LOOKUP(B354,Database!A:A,Database!O:O))=0,\"\",LOOKUP(B354,Database!A:A,Database!O:O)))","v":""},{"$f":"IF(ISNA(A354),\"\",IF(LEN(LOOKUP(B354,Database!A:A,Database!P:P))=0,\"\",LOOKUP(B354,Database!A:A,Database!P:P)))","v":""},{"$f":"IF(ISNA(A354),\"\",IF(LEN(LOOKUP(B354,Database!A:A,Database!Q:Q))=0,\"\",LOOKUP(B354,Database!A:A,Database!Q:Q)))","v":""},{"$f":"IF(ISNA(A354),\"\",IF(LEN(LOOKUP(B354,Database!A:A,Database!R:R))=0,\"\",LOOKUP(B354,Database!A:A,Database!R:R)))","v":""},{"$f":"IF(ISNA(A354),\"\",IF(LEN(LOOKUP(B354,Database!A:A,Database!S:S))=0,\"\",LOOKUP(B354,Database!A:A,Database!S:S)))","v":""},null,null,null,null,null,null,340,0,null,1,0,null,0.1]
[{"$error":"#N/A"},"2018-12-07",{"$f":"IF(ISNA(A355),\"\",IF(LEN(LOOKUP(B355,Database!A:A,Database!B:B))=0,\"\",LOOKUP(B355,Database!A:A,Database!B:B)))","v":""},{"$f":"IF(ISNA(A355),\"\",IF(LEN(LOOKUP(B355,Database!A:A,Database!C:C))=0,\"\",LOOKUP(B355,Database!A:A,Database!C:C)))","v":""},{"$f":"IF(ISNA(A355),\"\",IF(LEN(LOOKUP(B355,Database!A:A,Database!D:D))=0,\"\",LOOKUP(B355,Database!A:A,Database!D:D)))","v":""},{"$f":"IF(ISNA(A355),\"\",IF(LEN(LOOKUP(B355,Database!A:A,Database!E:E))=0,\"\",LOOKUP(B355,Database!A:A,Database!E:E)))","v":""},{"$f":"IF(ISNA(A355),\"\",IF(LEN(LOOKUP(B355,Database!A:A,Database!F:F))=0,\"\",LOOKUP(B355,Database!A:A,Database!F:F)))","v":""},{"$f":"IF(ISNA(A355),\"\",IF(LEN(LOOKUP(B355,Database!A:A,Database!G:G))=0,\"\",LOOKUP(B355,Database!A:A,Database!G:G)))","v":""},{"$f":"IF(ISNA(A355),\"\",IF(LEN(LOOKUP(B355,Database!A:A,Database!H:H))=0,\"\",LOOKUP(B355,Database!A:A,Database!H:H)))","v":""},{"$f":"IF(ISNA(A355),\"\",IF(LEN(LOOKUP(B355,Database!A:A,Database!I:I))=0,\"\",LOOKUP(B355,Database!A:A,Database!I:I)))","v":""},{"$f":"IF(ISNA(A355),\"\",IF(LEN(LOOKUP(B355,Database!A:A,Database!J:J))=0,\"\",LOOKUP(B355,Database!A:A,Database!J:J)))","v":""},{"$f":"IF(ISNA(A355),\"\",IF(LEN(LOOKUP(B355,Database!A:A,Database!K:K))=0,\"\",LOOKUP(B355,Database!A:A,Database!K:K)))","v":""},{"$f":"IF(ISNA(A355),\"\",IF(LEN(LOOKUP(B355,Database!A:A,Database!L:L))=0,\"\",LOOKUP(B355,Database!A:A,Database!L:L)))","v":""},{"$f":"IF(ISNA(A355),\"\",IF(LEN(LOOKUP(B355,Database!A:A,Database!M:M))=0,\"\",LOOKUP(B355,Database!A:A,Database!M:M)))","v":""},{"$f":"IF(ISNA(A355),\"\",IF(LEN(LOOKUP(B355,Database!A:A,Database!N:N))=0,\"\",LOOKUP(B355,Database!A:A,Database!N:N)))","v":""},{"$f":"IF(ISNA(A355),\"\",IF(LEN(LOOKUP(B355,Database!A:A,Database!O:O))=0,\"\",LOOKUP(B355,Database!A:A,Database!O:O)))","v":""},{"$f":"IF(ISNA(A355),\"\",IF(LEN(LOOKUP(B355,Database!A:A,Database!P:P))=0,\"\",LOOKUP(B355,Database!A:A,Database!P:P)))","v":""},{"$f":"IF(ISNA(A355),\"\",IF(LEN(LOOKUP(B355,Database!A:A,Database!Q:Q))=0,\"\",LOOKUP(B355,Database!A:A,Database!Q:Q)))","v":""},{"$f":"IF(ISNA(A355),\"\",IF(LEN(LOOKUP(B355,Database!A:A,Database!R:R))=0,\"\",LOOKUP(B355,Database!A:A,Database!R:R)))","v":""},{"$f":"IF(ISNA(A355),\"\",IF(LEN(LOOKUP(B355,Database!A:A,Database!S:S))=0,\"\",LOOKUP(B355,Database!A:A,Database!S:S)))","v":""},null,null,null,null,null,null,341,0,null,1,0,null,0.1]
[{"$error":"#N/A"},"2018-12-08",{"$f":"IF(ISNA(A356),\"\",IF(LEN(LOOKUP(B356,Database!A:A,Database!B:B))=0,\"\",LOOKUP(B356,Database!A:A,Database!B:B)))","v":""},{"$f":"IF(ISNA(A356),\"\",IF(LEN(LOOKUP(B356,Database!A:A,Database!C:C))=0,\"\",LOOKUP(B356,Database!A:A,Database!C:C)))","v":""},{"$f":"IF(ISNA(A356),\"\",IF(LEN(LOOKUP(B356,Database!A:A,Database!D:D))=0,\"\",LOOKUP(B356,Database!A:A,Database!D:D)))","v":""},{"$f":"IF(ISNA(A356),\"\",IF(LEN(LOOKUP(B356,Database!A:A,Database!E:E))=0,\"\",LOOKUP(B356,Database!A:A,Database!E:E)))","v":""},{"$f":"IF(ISNA(A356),\"\",IF(LEN(LOOKUP(B356,Database!A:A,Database!F:F))=0,\"\",LOOKUP(B356,Database!A:A,Database!F:F)))","v":""},{"$f":"IF(ISNA(A356),\"\",IF(LEN(LOOKUP(B356,Database!A:A,Database!G:G))=0,\"\",LOOKUP(B356,Database!A:A,Database!G:G)))","v":""},{"$f":"IF(ISNA(A356),\"\",IF(LEN(LOOKUP(B356,Database!A:A,Database!H:H))=0,\"\",LOOKUP(B356,Database!A:A,Database!H:H)))","v":""},{"$f":"IF(ISNA(A356),\"\",IF(LEN(LOOKUP(B356,Database!A:A,Database!I:I))=0,\"\",LOOKUP(B356,Database!A:A,Database!I:I)))","v":""},{"$f":"IF(ISNA(A356),\"\",IF(LEN(LOOKUP(B356,Database!A:A,Database!J:J))=0,\"\",LOOKUP(B356,Database!A:A,Database!J:J)))","v":""},{"$f":"IF(ISNA(A356),\"\",IF(LEN(LOOKUP(B356,Database!A:A,Database!K:K))=0,\"\",LOOKUP(B356,Database!A:A,Database!K:K)))","v":""},{"$f":"IF(ISNA(A356),\"\",IF(LEN(LOOKUP(B356,Database!A:A,Database!L:L))=0,\"\",LOOKUP(B356,Database!A:A,Database!L:L)))","v":""},{"$f":"IF(ISNA(A356),\"\",IF(LEN(LOOKUP(B356,Database!A:A,Database!M:M))=0,\"\",LOOKUP(B356,Database!A:A,Database!M:M)))","v":""},{"$f":"IF(ISNA(A356),\"\",IF(LEN(LOOKUP(B356,Database!A:A,Database!N:N))=0,\"\",LOOKUP(B356,Database!A:A,Database!N:N)))","v":""},{"$f":"IF(ISNA(A356),\"\",IF(LEN(LOOKUP(B356,Database!A:A,Database!O:O))=0,\"\",LOOKUP(B356,Database!A:A,Database!O:O)))","v":""},{"$f":"IF(ISNA(A356),\"\",IF(LEN(LOOKUP(B356,Database!A:A,Database!P:P))=0,\"\",LOOKUP(B356,Database!A:A,Database!P:P)))","v":""},{"$f":"IF(ISNA(A356),\"\",IF(LEN(LOOKUP(B356,Database!A:A,Database!Q:Q))=0,\"\",LOOKUP(B356,Database!A:A,Database!Q:Q)))","v":""},{"$f":"IF(ISNA(A356),\"\",IF(LEN(LOOKUP(B356,Database!A:A,Database!R:R))=0,\"\",LOOKUP(B356,Database!A:A,Database!R:R)))","v":""},{"$f":"IF(ISNA(A356),\"\",IF(LEN(LOOKUP(B356,Database!A:A,Database!S:S))=0,\"\",LOOKUP(B356,Database!A:A,Database!S:S)))","v":""},null,null,null,null,null,null,342,0,null,1,0,null,0.1]
[{"$error":"#N/A"},"2018-12-09",{"$f":"IF(ISNA(A357),\"\",IF(LEN(LOOKUP(B357,Database!A:A,Database!B:B))=0,\"\",LOOKUP(B357,Database!A:A,Database!B:B)))","v":""},{"$f":"IF(ISNA(A357),\"\",IF(LEN(LOOKUP(B357,Database!A:A,Database!C:C))=0,\"\",LOOKUP(B357,Database!A:A,Database!C:C)))","v":""},{"$f":"IF(ISNA(A357),\"\",IF(LEN(LOOKUP(B357,Database!A:A,Database!D:D))=0,\"\",LOOKUP(B357,Database!A:A,Database!D:D)))","v":""},{"$f":"IF(ISNA(A357),\"\",IF(LEN(LOOKUP(B357,Database!A:A,Database!E:E))=0,\"\",LOOKUP(B357,Database!A:A,Database!E:E)))","v":""},{"$f":"IF(ISNA(A357),\"\",IF(LEN(LOOKUP(B357,Database!A:A,Database!F:F))=0,\"\",LOOKUP(B357,Database!A:A,Database!F:F)))","v":""},{"$f":"IF(ISNA(A357),\"\",IF(LEN(LOOKUP(B357,Database!A:A,Database!G:G))=0,\"\",LOOKUP(B357,Database!A:A,Database!G:G)))","v":""},{"$f":"IF(ISNA(A357),\"\",IF(LEN(LOOKUP(B357,Database!A:A,Database!H:H))=0,\"\",LOOKUP(B357,Database!A:A,Database!H:H)))","v":""},{"$f":"IF(ISNA(A357),\"\",IF(LEN(LOOKUP(B357,Database!A:A,Database!I:I))=0,\"\",LOOKUP(B357,Database!A:A,Database!I:I)))","v":""},{"$f":"IF(ISNA(A357),\"\",IF(LEN(LOOKUP(B357,Database!A:A,Database!J:J))=0,\"\",LOOKUP(B357,Database!A:A,Database!J:J)))","v":""},{"$f":"IF(ISNA(A357),\"\",IF(LEN(LOOKUP(B357,Database!A:A,Database!K:K))=0,\"\",LOOKUP(B357,Database!A:A,Database!K:K)))","v":""},{"$f":"IF(ISNA(A357),\"\",IF(LEN(LOOKUP(B357,Database!A:A,Database!L:L))=0,\"\",LOOKUP(B357,Database!A:A,Database!L:L)))","v":""},{"$f":"IF(ISNA(A357),\"\",IF(LEN(LOOKUP(B357,Database!A:A,Database!M:M))=0,\"\",LOOKUP(B357,Database!A:A,Database!M:M)))","v":""},{"$f":"IF(ISNA(A357),\"\",IF(LEN(LOOKUP(B357,Database!A:A,Database!N:N))=0,\"\",LOOKUP(B357,Database!A:A,Database!N:N)))","v":""},{"$f":"IF(ISNA(A357),\"\",IF(LEN(LOOKUP(B357,Database!A:A,Database!O:O))=0,\"\",LOOKUP(B357,Database!A:A,Database!O:O)))","v":""},{"$f":"IF(ISNA(A357),\"\",IF(LEN(LOOKUP(B357,Database!A:A,Database!P:P))=0,\"\",LOOKUP(B357,Database!A:A,Database!P:P)))","v":""},{"$f":"IF(ISNA(A357),\"\",IF(LEN(LOOKUP(B357,Database!A:A,Database!Q:Q))=0,\"\",LOOKUP(B357,Database!A:A,Database!Q:Q)))","v":""},{"$f":"IF(ISNA(A357),\"\",IF(LEN(LOOKUP(B357,Database!A:A,Database!R:R))=0,\"\",LOOKUP(B357,Database!A:A,Database!R:R)))","v":""},{"$f":"IF(ISNA(A357),\"\",IF(LEN(LOOKUP(B357,Database!A:A,Database!S:S))=0,\"\",LOOKUP(B357,Database!A:A,Database!S:S)))","v":""},null,null,null,null,null,null,343,0,null,1,0,null,0.1]
[{"$error":"#N/A"},"2018-12-10",{"$f":"IF(ISNA(A358),\"\",IF(LEN(LOOKUP(B358,Database!A:A,Database!B:B))=0,\"\",LOOKUP(B358,Database!A:A,Database!B:B)))","v":""},{"$f":"IF(ISNA(A358),\"\",IF(LEN(LOOKUP(B358,Database!A:A,Database!C:C))=0,\"\",LOOKUP(B358,Database!A:A,Database!C:C)))","v":""},{"$f":"IF(ISNA(A358),\"\",IF(LEN(LOOKUP(B358,Database!A:A,Database!D:D))=0,\"\",LOOKUP(B358,Database!A:A,Database!D:D)))","v":""},{"$f":"IF(ISNA(A358),\"\",IF(LEN(LOOKUP(B358,Database!A:A,Database!E:E))=0,\"\",LOOKUP(B358,Database!A:A,Database!E:E)))","v":""},{"$f":"IF(ISNA(A358),\"\",IF(LEN(LOOKUP(B358,Database!A:A,Database!F:F))=0,\"\",LOOKUP(B358,Database!A:A,Database!F:F)))","v":""},{"$f":"IF(ISNA(A358),\"\",IF(LEN(LOOKUP(B358,Database!A:A,Database!G:G))=0,\"\",LOOKUP(B358,Database!A:A,Database!G:G)))","v":""},{"$f":"IF(ISNA(A358),\"\",IF(LEN(LOOKUP(B358,Database!A:A,Database!H:H))=0,\"\",LOOKUP(B358,Database!A:A,Database!H:H)))","v":""},{"$f":"IF(ISNA(A358),\"\",IF(LEN(LOOKUP(B358,Database!A:A,Database!I:I))=0,\"\",LOOKUP(B358,Database!A:A,Database!I:I)))","v":""},{"$f":"IF(ISNA(A358),\"\",IF(LEN(LOOKUP(B358,Database!A:A,Database!J:J))=0,\"\",LOOKUP(B358,Database!A:A,Database!J:J)))","v":""},{"$f":"IF(ISNA(A358),\"\",IF(LEN(LOOKUP(B358,Database!A:A,Database!K:K))=0,\"\",LOOKUP(B358,Database!A:A,Database!K:K)))","v":""},{"$f":"IF(ISNA(A358),\"\",IF(LEN(LOOKUP(B358,Database!A:A,Database!L:L))=0,\"\",LOOKUP(B358,Database!A:A,Database!L:L)))","v":""},{"$f":"IF(ISNA(A358),\"\",IF(LEN(LOOKUP(B358,Database!A:A,Database!M:M))=0,\"\",LOOKUP(B358,Database!A:A,Database!M:M)))","v":""},{"$f":"IF(ISNA(A358),\"\",IF(LEN(LOOKUP(B358,Database!A:A,Database!N:N))=0,\"\",LOOKUP(B358,Database!A:A,Database!N:N)))","v":""},{"$f":"IF(ISNA(A358),\"\",IF(LEN(LOOKUP(B358,Database!A:A,Database!O:O))=0,\"\",LOOKUP(B358,Database!A:A,Database!O:O)))","v":""},{"$f":"IF(ISNA(A358),\"\",IF(LEN(LOOKUP(B358,Database!A:A,Database!P:P))=0,\"\",LOOKUP(B358,Database!A:A,Database!P:P)))","v":""},{"$f":"IF(ISNA(A358),\"\",IF(LEN(LOOKUP(B358,Database!A:A,Database!Q:Q))=0,\"\",LOOKUP(B358,Database!A:A,Database!Q:Q)))","v":""},{"$f":"IF(ISNA(A358),\"\",IF(LEN(LOOKUP(B358,Database!A:A,Database!R:R))=0,\"\",LOOKUP(B358,Database!A:A,Database!R:R)))","v":""},{"$f":"IF(ISNA(A358),\"\",IF(LEN(LOOKUP(B358,Database!A:A,Database!S:S))=0,\"\",LOOKUP(B358,Database!A:A,Database!S:S)))","v":""},null,null,null,null,null,null,344,0,null,1,0,null,0.1]
[{"$error":"#N/A"},"2018-12-11",{"$f":"IF(ISNA(A359),\"\",IF(LEN(LOOKUP(B359,Database!A:A,Database!B:B))=0,\"\",LOOKUP(B359,Database!A:A,Database!B:B)))","v":""},{"$f":"IF(ISNA(A359),\"\",IF(LEN(LOOKUP(B359,Database!A:A,Database!C:C))=0,\"\",LOOKUP(B359,Database!A:A,Database!C:C)))","v":""},{"$f":"IF(ISNA(A359),\"\",IF(LEN(LOOKUP(B359,Database!A:A,Database!D:D))=0,\"\",LOOKUP(B359,Database!A:A,Database!D:D)))","v":""},{"$f":"IF(ISNA(A359),\"\",IF(LEN(LOOKUP(B359,Database!A:A,Database!E:E))=0,\"\",LOOKUP(B359,Database!A:A,Database!E:E)))","v":""},{"$f":"IF(ISNA(A359),\"\",IF(LEN(LOOKUP(B359,Database!A:A,Database!F:F))=0,\"\",LOOKUP(B359,Database!A:A,Database!F:F)))","v":""},{"$f":"IF(ISNA(A359),\"\",IF(LEN(LOOKUP(B359,Database!A:A,Database!G:G))=0,\"\",LOOKUP(B359,Database!A:A,Database!G:G)))","v":""},{"$f":"IF(ISNA(A359),\"\",IF(LEN(LOOKUP(B359,Database!A:A,Database!H:H))=0,\"\",LOOKUP(B359,Database!A:A,Database!H:H)))","v":""},{"$f":"IF(ISNA(A359),\"\",IF(LEN(LOOKUP(B359,Database!A:A,Database!I:I))=0,\"\",LOOKUP(B359,Database!A:A,Database!I:I)))","v":""},{"$f":"IF(ISNA(A359),\"\",IF(LEN(LOOKUP(B359,Database!A:A,Database!J:J))=0,\"\",LOOKUP(B359,Database!A:A,Database!J:J)))","v":""},{"$f":"IF(ISNA(A359),\"\",IF(LEN(LOOKUP(B359,Database!A:A,Database!K:K))=0,\"\",LOOKUP(B359,Database!A:A,Database!K:K)))","v":""},{"$f":"IF(ISNA(A359),\"\",IF(LEN(LOOKUP(B359,Database!A:A,Database!L:L))=0,\"\",LOOKUP(B359,Database!A:A,Database!L:L)))","v":""},{"$f":"IF(ISNA(A359),\"\",IF(LEN(LOOKUP(B359,Database!A:A,Database!M:M))=0,\"\",LOOKUP(B359,Database!A:A,Database!M:M)))","v":""},{"$f":"IF(ISNA(A359),\"\",IF(LEN(LOOKUP(B359,Database!A:A,Database!N:N))=0,\"\",LOOKUP(B359,Database!A:A,Database!N:N)))","v":""},{"$f":"IF(ISNA(A359),\"\",IF(LEN(LOOKUP(B359,Database!A:A,Database!O:O))=0,\"\",LOOKUP(B359,Database!A:A,Database!O:O)))","v":""},{"$f":"IF(ISNA(A359),\"\",IF(LEN(LOOKUP(B359,Database!A:A,Database!P:P))=0,\"\",LOOKUP(B359,Database!A:A,Database!P:P)))","v":""},{"$f":"IF(ISNA(A359),\"\",IF(LEN(LOOKUP(B359,Database!A:A,Database!Q:Q))=0,\"\",LOOKUP(B359,Database!A:A,Database!Q:Q)))","v":""},{"$f":"IF(ISNA(A359),\"\",IF(LEN(LOOKUP(B359,Database!A:A,Database!R:R))=0,\"\",LOOKUP(B359,Database!A:A,Database!R:R)))","v":""},{"$f":"IF(ISNA(A359),\"\",IF(LEN(LOOKUP(B359,Database!A:A,Database!S:S))=0,\"\",LOOKUP(B359,Database!A:A,Database!S:S)))","v":""},null,null,null,null,null,null,345,0,null,1,0,null,0.1]
[{"$error":"#N/A"},"2018-12-12",{"$f":"IF(ISNA(A360),\"\",IF(LEN(LOOKUP(B360,Database!A:A,Database!B:B))=0,\"\",LOOKUP(B360,Database!A:A,Database!B:B)))","v":""},{"$f":"IF(ISNA(A360),\"\",IF(LEN(LOOKUP(B360,Database!A:A,Database!C:C))=0,\"\",LOOKUP(B360,Database!A:A,Database!C:C)))","v":""},{"$f":"IF(ISNA(A360),\"\",IF(LEN(LOOKUP(B360,Database!A:A,Database!D:D))=0,\"\",LOOKUP(B360,Database!A:A,Database!D:D)))","v":""},{"$f":"IF(ISNA(A360),\"\",IF(LEN(LOOKUP(B360,Database!A:A,Database!E:E))=0,\"\",LOOKUP(B360,Database!A:A,Database!E:E)))","v":""},{"$f":"IF(ISNA(A360),\"\",IF(LEN(LOOKUP(B360,Database!A:A,Database!F:F))=0,\"\",LOOKUP(B360,Database!A:A,Database!F:F)))","v":""},{"$f":"IF(ISNA(A360),\"\",IF(LEN(LOOKUP(B360,Database!A:A,Database!G:G))=0,\"\",LOOKUP(B360,Database!A:A,Database!G:G)))","v":""},{"$f":"IF(ISNA(A360),\"\",IF(LEN(LOOKUP(B360,Database!A:A,Database!H:H))=0,\"\",LOOKUP(B360,Database!A:A,Database!H:H)))","v":""},{"$f":"IF(ISNA(A360),\"\",IF(LEN(LOOKUP(B360,Database!A:A,Database!I:I))=0,\"\",LOOKUP(B360,Database!A:A,Database!I:I)))","v":""},{"$f":"IF(ISNA(A360),\"\",IF(LEN(LOOKUP(B360,Database!A:A,Database!J:J))=0,\"\",LOOKUP(B360,Database!A:A,Database!J:J)))","v":""},{"$f":"IF(ISNA(A360),\"\",IF(LEN(LOOKUP(B360,Database!A:A,Database!K:K))=0,\"\",LOOKUP(B360,Database!A:A,Database!K:K)))","v":""},{"$f":"IF(ISNA(A360),\"\",IF(LEN(LOOKUP(B360,Database!A:A,Database!L:L))=0,\"\",LOOKUP(B360,Database!A:A,Database!L:L)))","v":""},{"$f":"IF(ISNA(A360),\"\",IF(LEN(LOOKUP(B360,Database!A:A,Database!M:M))=0,\"\",LOOKUP(B360,Database!A:A,Database!M:M)))","v":""},{"$f":"IF(ISNA(A360),\"\",IF(LEN(LOOKUP(B360,Database!A:A,Database!N:N))=0,\"\",LOOKUP(B360,Database!A:A,Database!N:N)))","v":""},{"$f":"IF(ISNA(A360),\"\",IF(LEN(LOOKUP(B360,Database!A:A,Database!O:O))=0,\"\",LOOKUP(B360,Database!A:A,Database!O:O)))","v":""},{"$f":"IF(ISNA(A360),\"\",IF(LEN(LOOKUP(B360,Database!A:A,Database!P:P))=0,\"\",LOOKUP(B360,Database!A:A,Database!P:P)))","v":""},{"$f":"IF(ISNA(A360),\"\",IF(LEN(LOOKUP(B360,Database!A:A,Database!Q:Q))=0,\"\",LOOKUP(B360,Database!A:A,Database!Q:Q)))","v":""},{"$f":"IF(ISNA(A360),\"\",IF(LEN(LOOKUP(B360,Database!A:A,Database!R:R))=0,\"\",LOOKUP(B360,Database!A:A,Database!R:R)))","v":""},{"$f":"IF(ISNA(A360),\"\",IF(LEN(LOOKUP(B360,Database!A:A,Database!S:S))=0,\"\",LOOKUP(B360,Database!A:A,Database!S:S)))","v":""},null,null,null,null,null,null,346,0,null,1,0,null,0.1]
[{"$error":"#N/A"},"2018-12-13",{"$f":"IF(ISNA(A361),\"\",IF(LEN(LOOKUP(B361,Database!A:A,Database!B:B))=0,\"\",LOOKUP(B361,Database!A:A,Database!B:B)))","v":""},{"$f":"IF(ISNA(A361),\"\",IF(LEN(LOOKUP(B361,Database!A:A,Database!C:C))=0,\"\",LOOKUP(B361,Database!A:A,Database!C:C)))","v":""},{"$f":"IF(ISNA(A361),\"\",IF(LEN(LOOKUP(B361,Database!A:A,Database!D:D))=0,\"\",LOOKUP(B361,Database!A:A,Database!D:D)))","v":""},{"$f":"IF(ISNA(A361),\"\",IF(LEN(LOOKUP(B361,Database!A:A,Database!E:E))=0,\"\",LOOKUP(B361,Database!A:A,Database!E:E)))","v":""},{"$f":"IF(ISNA(A361),\"\",IF(LEN(LOOKUP(B361,Database!A:A,Database!F:F))=0,\"\",LOOKUP(B361,Database!A:A,Database!F:F)))","v":""},{"$f":"IF(ISNA(A361),\"\",IF(LEN(LOOKUP(B361,Database!A:A,Database!G:G))=0,\"\",LOOKUP(B361,Database!A:A,Database!G:G)))","v":""},{"$f":"IF(ISNA(A361),\"\",IF(LEN(LOOKUP(B361,Database!A:A,Database!H:H))=0,\"\",LOOKUP(B361,Database!A:A,Database!H:H)))","v":""},{"$f":"IF(ISNA(A361),\"\",IF(LEN(LOOKUP(B361,Database!A:A,Database!I:I))=0,\"\",LOOKUP(B361,Database!A:A,Database!I:I)))","v":""},{"$f":"IF(ISNA(A361),\"\",IF(LEN(LOOKUP(B361,Database!A:A,Database!J:J))=0,\"\",LOOKUP(B361,Database!A:A,Database!J:J)))","v":""},{"$f":"IF(ISNA(A361),\"\",IF(LEN(LOOKUP(B361,Database!A:A,Database!K:K))=0,\"\",LOOKUP(B361,Database!A:A,Database!K:K)))","v":""},{"$f":"IF(ISNA(A361),\"\",IF(LEN(LOOKUP(B361,Database!A:A,Database!L:L))=0,\"\",LOOKUP(B361,Database!A:A,Database!L:L)))","v":""},{"$f":"IF(ISNA(A361),\"\",IF(LEN(LOOKUP(B361,Database!A:A,Database!M:M))=0,\"\",LOOKUP(B361,Database!A:A,Database!M:M)))","v":""},{"$f":"IF(ISNA(A361),\"\",IF(LEN(LOOKUP(B361,Database!A:A,Database!N:N))=0,\"\",LOOKUP(B361,Database!A:A,Database!N:N)))","v":""},{"$f":"IF(ISNA(A361),\"\",IF(LEN(LOOKUP(B361,Database!A:A,Database!O:O))=0,\"\",LOOKUP(B361,Database!A:A,Database!O:O)))","v":""},{"$f":"IF(ISNA(A361),\"\",IF(LEN(LOOKUP(B361,Database!A:A,Database!P:P))=0,\"\",LOOKUP(B361,Database!A:A,Database!P:P)))","v":""},{"$f":"IF(ISNA(A361),\"\",IF(LEN(LOOKUP(B361,Database!A:A,Database!Q:Q))=0,\"\",LOOKUP(B361,Database!A:A,Database!Q:Q)))","v":""},{"$f":"IF(ISNA(A361),\"\",IF(LEN(LOOKUP(B361,Database!A:A,Database!R:R))=0,\"\",LOOKUP(B361,Database!A:A,Database!R:R)))","v":""},{"$f":"IF(ISNA(A361),\"\",IF(LEN(LOOKUP(B361,Database!A:A,Database!S:S))=0,\"\",LOOKUP(B361,Database!A:A,Database!S:S)))","v":""},null,null,null,null,null,null,347,0,null,1,0,null,0.1]
[{"$error":"#N/A"},"2018-12-14",{"$f":"IF(ISNA(A362),\"\",IF(LEN(LOOKUP(B362,Database!A:A,Database!B:B))=0,\"\",LOOKUP(B362,Database!A:A,Database!B:B)))","v":""},{"$f":"IF(ISNA(A362),\"\",IF(LEN(LOOKUP(B362,Database!A:A,Database!C:C))=0,\"\",LOOKUP(B362,Database!A:A,Database!C:C)))","v":""},{"$f":"IF(ISNA(A362),\"\",IF(LEN(LOOKUP(B362,Database!A:A,Database!D:D))=0,\"\",LOOKUP(B362,Database!A:A,Database!D:D)))","v":""},{"$f":"IF(ISNA(A362),\"\",IF(LEN(LOOKUP(B362,Database!A:A,Database!E:E))=0,\"\",LOOKUP(B362,Database!A:A,Database!E:E)))","v":""},{"$f":"IF(ISNA(A362),\"\",IF(LEN(LOOKUP(B362,Database!A:A,Database!F:F))=0,\"\",LOOKUP(B362,Database!A:A,Database!F:F)))","v":""},{"$f":"IF(ISNA(A362),\"\",IF(LEN(LOOKUP(B362,Database!A:A,Database!G:G))=0,\"\",LOOKUP(B362,Database!A:A,Database!G:G)))","v":""},{"$f":"IF(ISNA(A362),\"\",IF(LEN(LOOKUP(B362,Database!A:A,Database!H:H))=0,\"\",LOOKUP(B362,Database!A:A,Database!H:H)))","v":""},{"$f":"IF(ISNA(A362),\"\",IF(LEN(LOOKUP(B362,Database!A:A,Database!I:I))=0,\"\",LOOKUP(B362,Database!A:A,Database!I:I)))","v":""},{"$f":"IF(ISNA(A362),\"\",IF(LEN(LOOKUP(B362,Database!A:A,Database!J:J))=0,\"\",LOOKUP(B362,Database!A:A,Database!J:J)))","v":""},{"$f":"IF(ISNA(A362),\"\",IF(LEN(LOOKUP(B362,Database!A:A,Database!K:K))=0,\"\",LOOKUP(B362,Database!A:A,Database!K:K)))","v":""},{"$f":"IF(ISNA(A362),\"\",IF(LEN(LOOKUP(B362,Database!A:A,Database!L:L))=0,\"\",LOOKUP(B362,Database!A:A,Database!L:L)))","v":""},{"$f":"IF(ISNA(A362),\"\",IF(LEN(LOOKUP(B362,Database!A:A,Database!M:M))=0,\"\",LOOKUP(B362,Database!A:A,Database!M:M)))","v":""},{"$f":"IF(ISNA(A362),\"\",IF(LEN(LOOKUP(B362,Database!A:A,Database!N:N))=0,\"\",LOOKUP(B362,Database!A:A,Database!N:N)))","v":""},{"$f":"IF(ISNA(A362),\"\",IF(LEN(LOOKUP(B362,Database!A:A,Database!O:O))=0,\"\",LOOKUP(B362,Database!A:A,Database!O:O)))","v":""},{"$f":"IF(ISNA(A362),\"\",IF(LEN(LOOKUP(B362,Database!A:A,Database!P:P))=0,\"\",LOOKUP(B362,Database!A:A,Database!P:P)))","v":""},{"$f":"IF(ISNA(A362),\"\",IF(LEN(LOOKUP(B362,Database!A:A,Database!Q:Q))=0,\"\",LOOKUP(B362,Database!A:A,Database!Q:Q)))","v":""},{"$f":"IF(ISNA(A362),\"\",IF(LEN(LOOKUP(B362,Database!A:A,Database!R:R))=0,\"\",LOOKUP(B362,Database!A:A,Database!R:R)))","v":""},{"$f":"IF(ISNA(A362),\"\",IF(LEN(LOOKUP(B362,Database!A:A,Database!S:S))=0,\"\",LOOKUP(B362,Database!A:A,Database!S:S)))","v":""},null,null,null,null,null,null,348,0,null,1,0,null,0.1]
[{"$error":"#N/A"},"2018-12-15",{"$f":"IF(ISNA(A363),\"\",IF(LEN(LOOKUP(B363,Database!A:A,Database!B:B))=0,\"\",LOOKUP(B363,Database!A:A,Database!B:B)))","v":""},{"$f":"IF(ISNA(A363),\"\",IF(LEN(LOOKUP(B363,Database!A:A,Database!C:C))=0,\"\",LOOKUP(B363,Database!A:A,Database!C:C)))","v":""},{"$f":"IF(ISNA(A363),\"\",IF(LEN(LOOKUP(B363,Database!A:A,Database!D:D))=0,\"\",LOOKUP(B363,Database!A:A,Database!D:D)))","v":""},{"$f":"IF(ISNA(A363),\"\",IF(LEN(LOOKUP(B363,Database!A:A,Database!E:E))=0,\"\",LOOKUP(B363,Database!A:A,Database!E:E)))","v":""},{"$f":"IF(ISNA(A363),\"\",IF(LEN(LOOKUP(B363,Database!A:A,Database!F:F))=0,\"\",LOOKUP(B363,Database!A:A,Database!F:F)))","v":""},{"$f":"IF(ISNA(A363),\"\",IF(LEN(LOOKUP(B363,Database!A:A,Database!G:G))=0,\"\",LOOKUP(B363,Database!A:A,Database!G:G)))","v":""},{"$f":"IF(ISNA(A363),\"\",IF(LEN(LOOKUP(B363,Database!A:A,Database!H:H))=0,\"\",LOOKUP(B363,Database!A:A,Database!H:H)))","v":""},{"$f":"IF(ISNA(A363),\"\",IF(LEN(LOOKUP(B363,Database!A:A,Database!I:I))=0,\"\",LOOKUP(B363,Database!A:A,Database!I:I)))","v":""},{"$f":"IF(ISNA(A363),\"\",IF(LEN(LOOKUP(B363,Database!A:A,Database!J:J))=0,\"\",LOOKUP(B363,Database!A:A,Database!J:J)))","v":""},{"$f":"IF(ISNA(A363),\"\",IF(LEN(LOOKUP(B363,Database!A:A,Database!K:K))=0,\"\",LOOKUP(B363,Database!A:A,Database!K:K)))","v":""},{"$f":"IF(ISNA(A363),\"\",IF(LEN(LOOKUP(B363,Database!A:A,Database!L:L))=0,\"\",LOOKUP(B363,Database!A:A,Database!L:L)))","v":""},{"$f":"IF(ISNA(A363),\"\",IF(LEN(LOOKUP(B363,Database!A:A,Database!M:M))=0,\"\",LOOKUP(B363,Database!A:A,Database!M:M)))","v":""},{"$f":"IF(ISNA(A363),\"\",IF(LEN(LOOKUP(B363,Database!A:A,Database!N:N))=0,\"\",LOOKUP(B363,Database!A:A,Database!N:N)))","v":""},{"$f":"IF(ISNA(A363),\"\",IF(LEN(LOOKUP(B363,Database!A:A,Database!O:O))=0,\"\",LOOKUP(B363,Database!A:A,Database!O:O)))","v":""},{"$f":"IF(ISNA(A363),\"\",IF(LEN(LOOKUP(B363,Database!A:A,Database!P:P))=0,\"\",LOOKUP(B363,Database!A:A,Database!P:P)))","v":""},{"$f":"IF(ISNA(A363),\"\",IF(LEN(LOOKUP(B363,Database!A:A,Database!Q:Q))=0,\"\",LOOKUP(B363,Database!A:A,Database!Q:Q)))","v":""},{"$f":"IF(ISNA(A363),\"\",IF(LEN(LOOKUP(B363,Database!A:A,Database!R:R))=0,\"\",LOOKUP(B363,Database!A:A,Database!R:R)))","v":""},{"$f":"IF(ISNA(A363),\"\",IF(LEN(LOOKUP(B363,Database!A:A,Database!S:S))=0,\"\",LOOKUP(B363,Database!A:A,Database!S:S)))","v":""},null,null,null,null,null,null,349,0,null,1,0,null,0.1]
[{"$error":"#N/A"},"2018-12-16",{"$f":"IF(ISNA(A364),\"\",IF(LEN(LOOKUP(B364,Database!A:A,Database!B:B))=0,\"\",LOOKUP(B364,Database!A:A,Database!B:B)))","v":""},{"$f":"IF(ISNA(A364),\"\",IF(LEN(LOOKUP(B364,Database!A:A,Database!C:C))=0,\"\",LOOKUP(B364,Database!A:A,Database!C:C)))","v":""},{"$f":"IF(ISNA(A364),\"\",IF(LEN(LOOKUP(B364,Database!A:A,Database!D:D))=0,\"\",LOOKUP(B364,Database!A:A,Database!D:D)))","v":""},{"$f":"IF(ISNA(A364),\"\",IF(LEN(LOOKUP(B364,Database!A:A,Database!E:E))=0,\"\",LOOKUP(B364,Database!A:A,Database!E:E)))","v":""},{"$f":"IF(ISNA(A364),\"\",IF(LEN(LOOKUP(B364,Database!A:A,Database!F:F))=0,\"\",LOOKUP(B364,Database!A:A,Database!F:F)))","v":""},{"$f":"IF(ISNA(A364),\"\",IF(LEN(LOOKUP(B364,Database!A:A,Database!G:G))=0,\"\",LOOKUP(B364,Database!A:A,Database!G:G)))","v":""},{"$f":"IF(ISNA(A364),\"\",IF(LEN(LOOKUP(B364,Database!A:A,Database!H:H))=0,\"\",LOOKUP(B364,Database!A:A,Database!H:H)))","v":""},{"$f":"IF(ISNA(A364),\"\",IF(LEN(LOOKUP(B364,Database!A:A,Database!I:I))=0,\"\",LOOKUP(B364,Database!A:A,Database!I:I)))","v":""},{"$f":"IF(ISNA(A364),\"\",IF(LEN(LOOKUP(B364,Database!A:A,Database!J:J))=0,\"\",LOOKUP(B364,Database!A:A,Database!J:J)))","v":""},{"$f":"IF(ISNA(A364),\"\",IF(LEN(LOOKUP(B364,Database!A:A,Database!K:K))=0,\"\",LOOKUP(B364,Database!A:A,Database!K:K)))","v":""},{"$f":"IF(ISNA(A364),\"\",IF(LEN(LOOKUP(B364,Database!A:A,Database!L:L))=0,\"\",LOOKUP(B364,Database!A:A,Database!L:L)))","v":""},{"$f":"IF(ISNA(A364),\"\",IF(LEN(LOOKUP(B364,Database!A:A,Database!M:M))=0,\"\",LOOKUP(B364,Database!A:A,Database!M:M)))","v":""},{"$f":"IF(ISNA(A364),\"\",IF(LEN(LOOKUP(B364,Database!A:A,Database!N:N))=0,\"\",LOOKUP(B364,Database!A:A,Database!N:N)))","v":""},{"$f":"IF(ISNA(A364),\"\",IF(LEN(LOOKUP(B364,Database!A:A,Database!O:O))=0,\"\",LOOKUP(B364,Database!A:A,Database!O:O)))","v":""},{"$f":"IF(ISNA(A364),\"\",IF(LEN(LOOKUP(B364,Database!A:A,Database!P:P))=0,\"\",LOOKUP(B364,Database!A:A,Database!P:P)))","v":""},{"$f":"IF(ISNA(A364),\"\",IF(LEN(LOOKUP(B364,Database!A:A,Database!Q:Q))=0,\"\",LOOKUP(B364,Database!A:A,Database!Q:Q)))","v":""},{"$f":"IF(ISNA(A364),\"\",IF(LEN(LOOKUP(B364,Database!A:A,Database!R:R))=0,\"\",LOOKUP(B364,Database!A:A,Database!R:R)))","v":""},{"$f":"IF(ISNA(A364),\"\",IF(LEN(LOOKUP(B364,Database!A:A,Database!S:S))=0,\"\",LOOKUP(B364,Database!A:A,Database!S:S)))","v":""},null,null,null,null,null,null,350,0,null,1,0,null,0.1]
[{"$error":"#N/A"},"2018-12-17",{"$f":"IF(ISNA(A365),\"\",IF(LEN(LOOKUP(B365,Database!A:A,Database!B:B))=0,\"\",LOOKUP(B365,Database!A:A,Database!B:B)))","v":""},{"$f":"IF(ISNA(A365),\"\",IF(LEN(LOOKUP(B365,Database!A:A,Database!C:C))=0,\"\",LOOKUP(B365,Database!A:A,Database!C:C)))","v":""},{"$f":"IF(ISNA(A365),\"\",IF(LEN(LOOKUP(B365,Database!A:A,Database!D:D))=0,\"\",LOOKUP(B365,Database!A:A,Database!D:D)))","v":""},{"$f":"IF(ISNA(A365),\"\",IF(LEN(LOOKUP(B365,Database!A:A,Database!E:E))=0,\"\",LOOKUP(B365,Database!A:A,Database!E:E)))","v":""},{"$f":"IF(ISNA(A365),\"\",IF(LEN(LOOKUP(B365,Database!A:A,Database!F:F))=0,\"\",LOOKUP(B365,Database!A:A,Database!F:F)))","v":""},{"$f":"IF(ISNA(A365),\"\",IF(LEN(LOOKUP(B365,Database!A:A,Database!G:G))=0,\"\",LOOKUP(B365,Database!A:A,Database!G:G)))","v":""},{"$f":"IF(ISNA(A365),\"\",IF(LEN(LOOKUP(B365,Database!A:A,Database!H:H))=0,\"\",LOOKUP(B365,Database!A:A,Database!H:H)))","v":""},{"$f":"IF(ISNA(A365),\"\",IF(LEN(LOOKUP(B365,Database!A:A,Database!I:I))=0,\"\",LOOKUP(B365,Database!A:A,Database!I:I)))","v":""},{"$f":"IF(ISNA(A365),\"\",IF(LEN(LOOKUP(B365,Database!A:A,Database!J:J))=0,\"\",LOOKUP(B365,Database!A:A,Database!J:J)))","v":""},{"$f":"IF(ISNA(A365),\"\",IF(LEN(LOOKUP(B365,Database!A:A,Database!K:K))=0,\"\",LOOKUP(B365,Database!A:A,Database!K:K)))","v":""},{"$f":"IF(ISNA(A365),\"\",IF(LEN(LOOKUP(B365,Database!A:A,Database!L:L))=0,\"\",LOOKUP(B365,Database!A:A,Database!L:L)))","v":""},{"$f":"IF(ISNA(A365),\"\",IF(LEN(LOOKUP(B365,Database!A:A,Database!M:M))=0,\"\",LOOKUP(B365,Database!A:A,Database!M:M)))","v":""},{"$f":"IF(ISNA(A365),\"\",IF(LEN(LOOKUP(B365,Database!A:A,Database!N:N))=0,\"\",LOOKUP(B365,Database!A:A,Database!N:N)))","v":""},{"$f":"IF(ISNA(A365),\"\",IF(LEN(LOOKUP(B365,Database!A:A,Database!O:O))=0,\"\",LOOKUP(B365,Database!A:A,Database!O:O)))","v":""},{"$f":"IF(ISNA(A365),\"\",IF(LEN(LOOKUP(B365,Database!A:A,Database!P:P))=0,\"\",LOOKUP(B365,Database!A:A,Database!P:P)))","v":""},{"$f":"IF(ISNA(A365),\"\",IF(LEN(LOOKUP(B365,Database!A:A,Database!Q:Q))=0,\"\",LOOKUP(B365,Database!A:A,Database!Q:Q)))","v":""},{"$f":"IF(ISNA(A365),\"\",IF(LEN(LOOKUP(B365,Database!A:A,Database!R:R))=0,\"\",LOOKUP(B365,Database!A:A,Database!R:R)))","v":""},{"$f":"IF(ISNA(A365),\"\",IF(LEN(LOOKUP(B365,Database!A:A,Database!S:S))=0,\"\",LOOKUP(B365,Database!A:A,Database!S:S)))","v":""},null,null,null,null,null,null,351,0,null,1,0,null,0.1]
[{"$error":"#N/A"},"2018-12-18",{"$f":"IF(ISNA(A366),\"\",IF(LEN(LOOKUP(B366,Database!A:A,Database!B:B))=0,\"\",LOOKUP(B366,Database!A:A,Database!B:B)))","v":""},{"$f":"IF(ISNA(A366),\"\",IF(LEN(LOOKUP(B366,Database!A:A,Database!C:C))=0,\"\",LOOKUP(B366,Database!A:A,Database!C:C)))","v":""},{"$f":"IF(ISNA(A366),\"\",IF(LEN(LOOKUP(B366,Database!A:A,Database!D:D))=0,\"\",LOOKUP(B366,Database!A:A,Database!D:D)))","v":""},{"$f":"IF(ISNA(A366),\"\",IF(LEN(LOOKUP(B366,Database!A:A,Database!E:E))=0,\"\",LOOKUP(B366,Database!A:A,Database!E:E)))","v":""},{"$f":"IF(ISNA(A366),\"\",IF(LEN(LOOKUP(B366,Database!A:A,Database!F:F))=0,\"\",LOOKUP(B366,Database!A:A,Database!F:F)))","v":""},{"$f":"IF(ISNA(A366),\"\",IF(LEN(LOOKUP(B366,Database!A:A,Database!G:G))=0,\"\",LOOKUP(B366,Database!A:A,Database!G:G)))","v":""},{"$f":"IF(ISNA(A366),\"\",IF(LEN(LOOKUP(B366,Database!A:A,Database!H:H))=0,\"\",LOOKUP(B366,Database!A:A,Database!H:H)))","v":""},{"$f":"IF(ISNA(A366),\"\",IF(LEN(LOOKUP(B366,Database!A:A,Database!I:I))=0,\"\",LOOKUP(B366,Database!A:A,Database!I:I)))","v":""},{"$f":"IF(ISNA(A366),\"\",IF(LEN(LOOKUP(B366,Database!A:A,Database!J:J))=0,\"\",LOOKUP(B366,Database!A:A,Database!J:J)))","v":""},{"$f":"IF(ISNA(A366),\"\",IF(LEN(LOOKUP(B366,Database!A:A,Database!K:K))=0,\"\",LOOKUP(B366,Database!A:A,Database!K:K)))","v":""},{"$f":"IF(ISNA(A366),\"\",IF(LEN(LOOKUP(B366,Database!A:A,Database!L:L))=0,\"\",LOOKUP(B366,Database!A:A,Database!L:L)))","v":""},{"$f":"IF(ISNA(A366),\"\",IF(LEN(LOOKUP(B366,Database!A:A,Database!M:M))=0,\"\",LOOKUP(B366,Database!A:A,Database!M:M)))","v":""},{"$f":"IF(ISNA(A366),\"\",IF(LEN(LOOKUP(B366,Database!A:A,Database!N:N))=0,\"\",LOOKUP(B366,Database!A:A,Database!N:N)))","v":""},{"$f":"IF(ISNA(A366),\"\",IF(LEN(LOOKUP(B366,Database!A:A,Database!O:O))=0,\"\",LOOKUP(B366,Database!A:A,Database!O:O)))","v":""},{"$f":"IF(ISNA(A366),\"\",IF(LEN(LOOKUP(B366,Database!A:A,Database!P:P))=0,\"\",LOOKUP(B366,Database!A:A,Database!P:P)))","v":""},{"$f":"IF(ISNA(A366),\"\",IF(LEN(LOOKUP(B366,Database!A:A,Database!Q:Q))=0,\"\",LOOKUP(B366,Database!A:A,Database!Q:Q)))","v":""},{"$f":"IF(ISNA(A366),\"\",IF(LEN(LOOKUP(B366,Database!A:A,Database!R:R))=0,\"\",LOOKUP(B366,Database!A:A,Database!R:R)))","v":""},{"$f":"IF(ISNA(A366),\"\",IF(LEN(LOOKUP(B366,Database!A:A,Database!S:S))=0,\"\",LOOKUP(B366,Database!A:A,Database!S:S)))","v":""},null,null,null,null,null,null,352,0,null,1,0,null,0.1]
[{"$error":"#N/A"},"2018-12-19",{"$f":"IF(ISNA(A367),\"\",IF(LEN(LOOKUP(B367,Database!A:A,Database!B:B))=0,\"\",LOOKUP(B367,Database!A:A,Database!B:B)))","v":""},{"$f":"IF(ISNA(A367),\"\",IF(LEN(LOOKUP(B367,Database!A:A,Database!C:C))=0,\"\",LOOKUP(B367,Database!A:A,Database!C:C)))","v":""},{"$f":"IF(ISNA(A367),\"\",IF(LEN(LOOKUP(B367,Database!A:A,Database!D:D))=0,\"\",LOOKUP(B367,Database!A:A,Database!D:D)))","v":""},{"$f":"IF(ISNA(A367),\"\",IF(LEN(LOOKUP(B367,Database!A:A,Database!E:E))=0,\"\",LOOKUP(B367,Database!A:A,Database!E:E)))","v":""},{"$f":"IF(ISNA(A367),\"\",IF(LEN(LOOKUP(B367,Database!A:A,Database!F:F))=0,\"\",LOOKUP(B367,Database!A:A,Database!F:F)))","v":""},{"$f":"IF(ISNA(A367),\"\",IF(LEN(LOOKUP(B367,Database!A:A,Database!G:G))=0,\"\",LOOKUP(B367,Database!A:A,Database!G:G)))","v":""},{"$f":"IF(ISNA(A367),\"\",IF(LEN(LOOKUP(B367,Database!A:A,Database!H:H))=0,\"\",LOOKUP(B367,Database!A:A,Database!H:H)))","v":""},{"$f":"IF(ISNA(A367),\"\",IF(LEN(LOOKUP(B367,Database!A:A,Database!I:I))=0,\"\",LOOKUP(B367,Database!A:A,Database!I:I)))","v":""},{"$f":"IF(ISNA(A367),\"\",IF(LEN(LOOKUP(B367,Database!A:A,Database!J:J))=0,\"\",LOOKUP(B367,Database!A:A,Database!J:J)))","v":""},{"$f":"IF(ISNA(A367),\"\",IF(LEN(LOOKUP(B367,Database!A:A,Database!K:K))=0,\"\",LOOKUP(B367,Database!A:A,Database!K:K)))","v":""},{"$f":"IF(ISNA(A367),\"\",IF(LEN(LOOKUP(B367,Database!A:A,Database!L:L))=0,\"\",LOOKUP(B367,Database!A:A,Database!L:L)))","v":""},{"$f":"IF(ISNA(A367),\"\",IF(LEN(LOOKUP(B367,Database!A:A,Database!M:M))=0,\"\",LOOKUP(B367,Database!A:A,Database!M:M)))","v":""},{"$f":"IF(ISNA(A367),\"\",IF(LEN(LOOKUP(B367,Database!A:A,Database!N:N))=0,\"\",LOOKUP(B367,Database!A:A,Database!N:N)))","v":""},{"$f":"IF(ISNA(A367),\"\",IF(LEN(LOOKUP(B367,Database!A:A,Database!O:O))=0,\"\",LOOKUP(B367,Database!A:A,Database!O:O)))","v":""},{"$f":"IF(ISNA(A367),\"\",IF(LEN(LOOKUP(B367,Database!A:A,Database!P:P))=0,\"\",LOOKUP(B367,Database!A:A,Database!P:P)))","v":""},{"$f":"IF(ISNA(A367),\"\",IF(LEN(LOOKUP(B367,Database!A:A,Database!Q:Q))=0,\"\",LOOKUP(B367,Database!A:A,Database!Q:Q)))","v":""},{"$f":"IF(ISNA(A367),\"\",IF(LEN(LOOKUP(B367,Database!A:A,Database!R:R))=0,\"\",LOOKUP(B367,Database!A:A,Database!R:R)))","v":""},{"$f":"IF(ISNA(A367),\"\",IF(LEN(LOOKUP(B367,Database!A:A,Database!S:S))=0,\"\",LOOKUP(B367,Database!A:A,Database!S:S)))","v":""},null,null,null,null,null,null,353,0,null,1,0,null,0.1]
[{"$error":"#N/A"},"2018-12-20",{"$f":"IF(ISNA(A368),\"\",IF(LEN(LOOKUP(B368,Database!A:A,Database!B:B))=0,\"\",LOOKUP(B368,Database!A:A,Database!B:B)))","v":""},{"$f":"IF(ISNA(A368),\"\",IF(LEN(LOOKUP(B368,Database!A:A,Database!C:C))=0,\"\",LOOKUP(B368,Database!A:A,Database!C:C)))","v":""},{"$f":"IF(ISNA(A368),\"\",IF(LEN(LOOKUP(B368,Database!A:A,Database!D:D))=0,\"\",LOOKUP(B368,Database!A:A,Database!D:D)))","v":""},{"$f":"IF(ISNA(A368),\"\",IF(LEN(LOOKUP(B368,Database!A:A,Database!E:E))=0,\"\",LOOKUP(B368,Database!A:A,Database!E:E)))","v":""},{"$f":"IF(ISNA(A368),\"\",IF(LEN(LOOKUP(B368,Database!A:A,Database!F:F))=0,\"\",LOOKUP(B368,Database!A:A,Database!F:F)))","v":""},{"$f":"IF(ISNA(A368),\"\",IF(LEN(LOOKUP(B368,Database!A:A,Database!G:G))=0,\"\",LOOKUP(B368,Database!A:A,Database!G:G)))","v":""},{"$f":"IF(ISNA(A368),\"\",IF(LEN(LOOKUP(B368,Database!A:A,Database!H:H))=0,\"\",LOOKUP(B368,Database!A:A,Database!H:H)))","v":""},{"$f":"IF(ISNA(A368),\"\",IF(LEN(LOOKUP(B368,Database!A:A,Database!I:I))=0,\"\",LOOKUP(B368,Database!A:A,Database!I:I)))","v":""},{"$f":"IF(ISNA(A368),\"\",IF(LEN(LOOKUP(B368,Database!A:A,Database!J:J))=0,\"\",LOOKUP(B368,Database!A:A,Database!J:J)))","v":""},{"$f":"IF(ISNA(A368),\"\",IF(LEN(LOOKUP(B368,Database!A:A,Database!K:K))=0,\"\",LOOKUP(B368,Database!A:A,Database!K:K)))","v":""},{"$f":"IF(ISNA(A368),\"\",IF(LEN(LOOKUP(B368,Database!A:A,Database!L:L))=0,\"\",LOOKUP(B368,Database!A:A,Database!L:L)))","v":""},{"$f":"IF(ISNA(A368),\"\",IF(LEN(LOOKUP(B368,Database!A:A,Database!M:M))=0,\"\",LOOKUP(B368,Database!A:A,Database!M:M)))","v":""},{"$f":"IF(ISNA(A368),\"\",IF(LEN(LOOKUP(B368,Database!A:A,Database!N:N))=0,\"\",LOOKUP(B368,Database!A:A,Database!N:N)))","v":""},{"$f":"IF(ISNA(A368),\"\",IF(LEN(LOOKUP(B368,Database!A:A,Database!O:O))=0,\"\",LOOKUP(B368,Database!A:A,Database!O:O)))","v":""},{"$f":"IF(ISNA(A368),\"\",IF(LEN(LOOKUP(B368,Database!A:A,Database!P:P))=0,\"\",LOOKUP(B368,Database!A:A,Database!P:P)))","v":""},{"$f":"IF(ISNA(A368),\"\",IF(LEN(LOOKUP(B368,Database!A:A,Database!Q:Q))=0,\"\",LOOKUP(B368,Database!A:A,Database!Q:Q)))","v":""},{"$f":"IF(ISNA(A368),\"\",IF(LEN(LOOKUP(B368,Database!A:A,Database!R:R))=0,\"\",LOOKUP(B368,Database!A:A,Database!R:R)))","v":""},{"$f":"IF(ISNA(A368),\"\",IF(LEN(LOOKUP(B368,Database!A:A,Database!S:S))=0,\"\",LOOKUP(B368,Database!A:A,Database!S:S)))","v":""},null,null,null,null,null,null,354,0,null,1,0,null,0.1]
[{"$error":"#N/A"},"2018-12-21",{"$f":"IF(ISNA(A369),\"\",IF(LEN(LOOKUP(B369,Database!A:A,Database!B:B))=0,\"\",LOOKUP(B369,Database!A:A,Database!B:B)))","v":""},{"$f":"IF(ISNA(A369),\"\",IF(LEN(LOOKUP(B369,Database!A:A,Database!C:C))=0,\"\",LOOKUP(B369,Database!A:A,Database!C:C)))","v":""},{"$f":"IF(ISNA(A369),\"\",IF(LEN(LOOKUP(B369,Database!A:A,Database!D:D))=0,\"\",LOOKUP(B369,Database!A:A,Database!D:D)))","v":""},{"$f":"IF(ISNA(A369),\"\",IF(LEN(LOOKUP(B369,Database!A:A,Database!E:E))=0,\"\",LOOKUP(B369,Database!A:A,Database!E:E)))","v":""},{"$f":"IF(ISNA(A369),\"\",IF(LEN(LOOKUP(B369,Database!A:A,Database!F:F))=0,\"\",LOOKUP(B369,Database!A:A,Database!F:F)))","v":""},{"$f":"IF(ISNA(A369),\"\",IF(LEN(LOOKUP(B369,Database!A:A,Database!G:G))=0,\"\",LOOKUP(B369,Database!A:A,Database!G:G)))","v":""},{"$f":"IF(ISNA(A369),\"\",IF(LEN(LOOKUP(B369,Database!A:A,Database!H:H))=0,\"\",LOOKUP(B369,Database!A:A,Database!H:H)))","v":""},{"$f":"IF(ISNA(A369),\"\",IF(LEN(LOOKUP(B369,Database!A:A,Database!I:I))=0,\"\",LOOKUP(B369,Database!A:A,Database!I:I)))","v":""},{"$f":"IF(ISNA(A369),\"\",IF(LEN(LOOKUP(B369,Database!A:A,Database!J:J))=0,\"\",LOOKUP(B369,Database!A:A,Database!J:J)))","v":""},{"$f":"IF(ISNA(A369),\"\",IF(LEN(LOOKUP(B369,Database!A:A,Database!K:K))=0,\"\",LOOKUP(B369,Database!A:A,Database!K:K)))","v":""},{"$f":"IF(ISNA(A369),\"\",IF(LEN(LOOKUP(B369,Database!A:A,Database!L:L))=0,\"\",LOOKUP(B369,Database!A:A,Database!L:L)))","v":""},{"$f":"IF(ISNA(A369),\"\",IF(LEN(LOOKUP(B369,Database!A:A,Database!M:M))=0,\"\",LOOKUP(B369,Database!A:A,Database!M:M)))","v":""},{"$f":"IF(ISNA(A369),\"\",IF(LEN(LOOKUP(B369,Database!A:A,Database!N:N))=0,\"\",LOOKUP(B369,Database!A:A,Database!N:N)))","v":""},{"$f":"IF(ISNA(A369),\"\",IF(LEN(LOOKUP(B369,Database!A:A,Database!O:O))=0,\"\",LOOKUP(B369,Database!A:A,Database!O:O)))","v":""},{"$f":"IF(ISNA(A369),\"\",IF(LEN(LOOKUP(B369,Database!A:A,Database!P:P))=0,\"\",LOOKUP(B369,Database!A:A,Database!P:P)))","v":""},{"$f":"IF(ISNA(A369),\"\",IF(LEN(LOOKUP(B369,Database!A:A,Database!Q:Q))=0,\"\",LOOKUP(B369,Database!A:A,Database!Q:Q)))","v":""},{"$f":"IF(ISNA(A369),\"\",IF(LEN(LOOKUP(B369,Database!A:A,Database!R:R))=0,\"\",LOOKUP(B369,Database!A:A,Database!R:R)))","v":""},{"$f":"IF(ISNA(A369),\"\",IF(LEN(LOOKUP(B369,Database!A:A,Database!S:S))=0,\"\",LOOKUP(B369,Database!A:A,Database!S:S)))","v":""},null,null,null,null,null,null,355,0,null,1,0,null,0.1]
[{"$error":"#N/A"},"2018-12-22",{"$f":"IF(ISNA(A370),\"\",IF(LEN(LOOKUP(B370,Database!A:A,Database!B:B))=0,\"\",LOOKUP(B370,Database!A:A,Database!B:B)))","v":""},{"$f":"IF(ISNA(A370),\"\",IF(LEN(LOOKUP(B370,Database!A:A,Database!C:C))=0,\"\",LOOKUP(B370,Database!A:A,Database!C:C)))","v":""},{"$f":"IF(ISNA(A370),\"\",IF(LEN(LOOKUP(B370,Database!A:A,Database!D:D))=0,\"\",LOOKUP(B370,Database!A:A,Database!D:D)))","v":""},{"$f":"IF(ISNA(A370),\"\",IF(LEN(LOOKUP(B370,Database!A:A,Database!E:E))=0,\"\",LOOKUP(B370,Database!A:A,Database!E:E)))","v":""},{"$f":"IF(ISNA(A370),\"\",IF(LEN(LOOKUP(B370,Database!A:A,Database!F:F))=0,\"\",LOOKUP(B370,Database!A:A,Database!F:F)))","v":""},{"$f":"IF(ISNA(A370),\"\",IF(LEN(LOOKUP(B370,Database!A:A,Database!G:G))=0,\"\",LOOKUP(B370,Database!A:A,Database!G:G)))","v":""},{"$f":"IF(ISNA(A370),\"\",IF(LEN(LOOKUP(B370,Database!A:A,Database!H:H))=0,\"\",LOOKUP(B370,Database!A:A,Database!H:H)))","v":""},{"$f":"IF(ISNA(A370),\"\",IF(LEN(LOOKUP(B370,Database!A:A,Database!I:I))=0,\"\",LOOKUP(B370,Database!A:A,Database!I:I)))","v":""},{"$f":"IF(ISNA(A370),\"\",IF(LEN(LOOKUP(B370,Database!A:A,Database!J:J))=0,\"\",LOOKUP(B370,Database!A:A,Database!J:J)))","v":""},{"$f":"IF(ISNA(A370),\"\",IF(LEN(LOOKUP(B370,Database!A:A,Database!K:K))=0,\"\",LOOKUP(B370,Database!A:A,Database!K:K)))","v":""},{"$f":"IF(ISNA(A370),\"\",IF(LEN(LOOKUP(B370,Database!A:A,Database!L:L))=0,\"\",LOOKUP(B370,Database!A:A,Database!L:L)))","v":""},{"$f":"IF(ISNA(A370),\"\",IF(LEN(LOOKUP(B370,Database!A:A,Database!M:M))=0,\"\",LOOKUP(B370,Database!A:A,Database!M:M)))","v":""},{"$f":"IF(ISNA(A370),\"\",IF(LEN(LOOKUP(B370,Database!A:A,Database!N:N))=0,\"\",LOOKUP(B370,Database!A:A,Database!N:N)))","v":""},{"$f":"IF(ISNA(A370),\"\",IF(LEN(LOOKUP(B370,Database!A:A,Database!O:O))=0,\"\",LOOKUP(B370,Database!A:A,Database!O:O)))","v":""},{"$f":"IF(ISNA(A370),\"\",IF(LEN(LOOKUP(B370,Database!A:A,Database!P:P))=0,\"\",LOOKUP(B370,Database!A:A,Database!P:P)))","v":""},{"$f":"IF(ISNA(A370),\"\",IF(LEN(LOOKUP(B370,Database!A:A,Database!Q:Q))=0,\"\",LOOKUP(B370,Database!A:A,Database!Q:Q)))","v":""},{"$f":"IF(ISNA(A370),\"\",IF(LEN(LOOKUP(B370,Database!A:A,Database!R:R))=0,\"\",LOOKUP(B370,Database!A:A,Database!R:R)))","v":""},{"$f":"IF(ISNA(A370),\"\",IF(LEN(LOOKUP(B370,Database!A:A,Database!S:S))=0,\"\",LOOKUP(B370,Database!A:A,Database!S:S)))","v":""},null,null,null,null,null,null,356,0,null,1,0,null,0.1]
[{"$error":"#N/A"},"2018-12-23",{"$f":"IF(ISNA(A371),\"\",IF(LEN(LOOKUP(B371,Database!A:A,Database!B:B))=0,\"\",LOOKUP(B371,Database!A:A,Database!B:B)))","v":""},{"$f":"IF(ISNA(A371),\"\",IF(LEN(LOOKUP(B371,Database!A:A,Database!C:C))=0,\"\",LOOKUP(B371,Database!A:A,Database!C:C)))","v":""},{"$f":"IF(ISNA(A371),\"\",IF(LEN(LOOKUP(B371,Database!A:A,Database!D:D))=0,\"\",LOOKUP(B371,Database!A:A,Database!D:D)))","v":""},{"$f":"IF(ISNA(A371),\"\",IF(LEN(LOOKUP(B371,Database!A:A,Database!E:E))=0,\"\",LOOKUP(B371,Database!A:A,Database!E:E)))","v":""},{"$f":"IF(ISNA(A371),\"\",IF(LEN(LOOKUP(B371,Database!A:A,Database!F:F))=0,\"\",LOOKUP(B371,Database!A:A,Database!F:F)))","v":""},{"$f":"IF(ISNA(A371),\"\",IF(LEN(LOOKUP(B371,Database!A:A,Database!G:G))=0,\"\",LOOKUP(B371,Database!A:A,Database!G:G)))","v":""},{"$f":"IF(ISNA(A371),\"\",IF(LEN(LOOKUP(B371,Database!A:A,Database!H:H))=0,\"\",LOOKUP(B371,Database!A:A,Database!H:H)))","v":""},{"$f":"IF(ISNA(A371),\"\",IF(LEN(LOOKUP(B371,Database!A:A,Database!I:I))=0,\"\",LOOKUP(B371,Database!A:A,Database!I:I)))","v":""},{"$f":"IF(ISNA(A371),\"\",IF(LEN(LOOKUP(B371,Database!A:A,Database!J:J))=0,\"\",LOOKUP(B371,Database!A:A,Database!J:J)))","v":""},{"$f":"IF(ISNA(A371),\"\",IF(LEN(LOOKUP(B371,Database!A:A,Database!K:K))=0,\"\",LOOKUP(B371,Database!A:A,Database!K:K)))","v":""},{"$f":"IF(ISNA(A371),\"\",IF(LEN(LOOKUP(B371,Database!A:A,Database!L:L))=0,\"\",LOOKUP(B371,Database!A:A,Database!L:L)))","v":""},{"$f":"IF(ISNA(A371),\"\",IF(LEN(LOOKUP(B371,Database!A:A,Database!M:M))=0,\"\",LOOKUP(B371,Database!A:A,Database!M:M)))","v":""},{"$f":"IF(ISNA(A371),\"\",IF(LEN(LOOKUP(B371,Database!A:A,Database!N:N))=0,\"\",LOOKUP(B371,Database!A:A,Database!N:N)))","v":""},{"$f":"IF(ISNA(A371),\"\",IF(LEN(LOOKUP(B371,Database!A:A,Database!O:O))=0,\"\",LOOKUP(B371,Database!A:A,Database!O:O)))","v":""},{"$f":"IF(ISNA(A371),\"\",IF(LEN(LOOKUP(B371,Database!A:A,Database!P:P))=0,\"\",LOOKUP(B371,Database!A:A,Database!P:P)))","v":""},{"$f":"IF(ISNA(A371),\"\",IF(LEN(LOOKUP(B371,Database!A:A,Database!Q:Q))=0,\"\",LOOKUP(B371,Database!A:A,Database!Q:Q)))","v":""},{"$f":"IF(ISNA(A371),\"\",IF(LEN(LOOKUP(B371,Database!A:A,Database!R:R))=0,\"\",LOOKUP(B371,Database!A:A,Database!R:R)))","v":""},{"$f":"IF(ISNA(A371),\"\",IF(LEN(LOOKUP(B371,Database!A:A,Database!S:S))=0,\"\",LOOKUP(B371,Database!A:A,Database!S:S)))","v":""},null,null,null,null,null,null,357,0,null,1,0,null,0.1]
[{"$error":"#N/A"},"2018-12-24",{"$f":"IF(ISNA(A372),\"\",IF(LEN(LOOKUP(B372,Database!A:A,Database!B:B))=0,\"\",LOOKUP(B372,Database!A:A,Database!B:B)))","v":""},{"$f":"IF(ISNA(A372),\"\",IF(LEN(LOOKUP(B372,Database!A:A,Database!C:C))=0,\"\",LOOKUP(B372,Database!A:A,Database!C:C)))","v":""},{"$f":"IF(ISNA(A372),\"\",IF(LEN(LOOKUP(B372,Database!A:A,Database!D:D))=0,\"\",LOOKUP(B372,Database!A:A,Database!D:D)))","v":""},{"$f":"IF(ISNA(A372),\"\",IF(LEN(LOOKUP(B372,Database!A:A,Database!E:E))=0,\"\",LOOKUP(B372,Database!A:A,Database!E:E)))","v":""},{"$f":"IF(ISNA(A372),\"\",IF(LEN(LOOKUP(B372,Database!A:A,Database!F:F))=0,\"\",LOOKUP(B372,Database!A:A,Database!F:F)))","v":""},{"$f":"IF(ISNA(A372),\"\",IF(LEN(LOOKUP(B372,Database!A:A,Database!G:G))=0,\"\",LOOKUP(B372,Database!A:A,Database!G:G)))","v":""},{"$f":"IF(ISNA(A372),\"\",IF(LEN(LOOKUP(B372,Database!A:A,Database!H:H))=0,\"\",LOOKUP(B372,Database!A:A,Database!H:H)))","v":""},{"$f":"IF(ISNA(A372),\"\",IF(LEN(LOOKUP(B372,Database!A:A,Database!I:I))=0,\"\",LOOKUP(B372,Database!A:A,Database!I:I)))","v":""},{"$f":"IF(ISNA(A372),\"\",IF(LEN(LOOKUP(B372,Database!A:A,Database!J:J))=0,\"\",LOOKUP(B372,Database!A:A,Database!J:J)))","v":""},{"$f":"IF(ISNA(A372),\"\",IF(LEN(LOOKUP(B372,Database!A:A,Database!K:K))=0,\"\",LOOKUP(B372,Database!A:A,Database!K:K)))","v":""},{"$f":"IF(ISNA(A372),\"\",IF(LEN(LOOKUP(B372,Database!A:A,Database!L:L))=0,\"\",LOOKUP(B372,Database!A:A,Database!L:L)))","v":""},{"$f":"IF(ISNA(A372),\"\",IF(LEN(LOOKUP(B372,Database!A:A,Database!M:M))=0,\"\",LOOKUP(B372,Database!A:A,Database!M:M)))","v":""},{"$f":"IF(ISNA(A372),\"\",IF(LEN(LOOKUP(B372,Database!A:A,Database!N:N))=0,\"\",LOOKUP(B372,Database!A:A,Database!N:N)))","v":""},{"$f":"IF(ISNA(A372),\"\",IF(LEN(LOOKUP(B372,Database!A:A,Database!O:O))=0,\"\",LOOKUP(B372,Database!A:A,Database!O:O)))","v":""},{"$f":"IF(ISNA(A372),\"\",IF(LEN(LOOKUP(B372,Database!A:A,Database!P:P))=0,\"\",LOOKUP(B372,Database!A:A,Database!P:P)))","v":""},{"$f":"IF(ISNA(A372),\"\",IF(LEN(LOOKUP(B372,Database!A:A,Database!Q:Q))=0,\"\",LOOKUP(B372,Database!A:A,Database!Q:Q)))","v":""},{"$f":"IF(ISNA(A372),\"\",IF(LEN(LOOKUP(B372,Database!A:A,Database!R:R))=0,\"\",LOOKUP(B372,Database!A:A,Database!R:R)))","v":""},{"$f":"IF(ISNA(A372),\"\",IF(LEN(LOOKUP(B372,Database!A:A,Database!S:S))=0,\"\",LOOKUP(B372,Database!A:A,Database!S:S)))","v":""},null,null,null,null,null,null,358,0,null,1,0,null,0.1]
[{"$error":"#N/A"},"2018-12-25",{"$f":"IF(ISNA(A373),\"\",IF(LEN(LOOKUP(B373,Database!A:A,Database!B:B))=0,\"\",LOOKUP(B373,Database!A:A,Database!B:B)))","v":""},{"$f":"IF(ISNA(A373),\"\",IF(LEN(LOOKUP(B373,Database!A:A,Database!C:C))=0,\"\",LOOKUP(B373,Database!A:A,Database!C:C)))","v":""},{"$f":"IF(ISNA(A373),\"\",IF(LEN(LOOKUP(B373,Database!A:A,Database!D:D))=0,\"\",LOOKUP(B373,Database!A:A,Database!D:D)))","v":""},{"$f":"IF(ISNA(A373),\"\",IF(LEN(LOOKUP(B373,Database!A:A,Database!E:E))=0,\"\",LOOKUP(B373,Database!A:A,Database!E:E)))","v":""},{"$f":"IF(ISNA(A373),\"\",IF(LEN(LOOKUP(B373,Database!A:A,Database!F:F))=0,\"\",LOOKUP(B373,Database!A:A,Database!F:F)))","v":""},{"$f":"IF(ISNA(A373),\"\",IF(LEN(LOOKUP(B373,Database!A:A,Database!G:G))=0,\"\",LOOKUP(B373,Database!A:A,Database!G:G)))","v":""},{"$f":"IF(ISNA(A373),\"\",IF(LEN(LOOKUP(B373,Database!A:A,Database!H:H))=0,\"\",LOOKUP(B373,Database!A:A,Database!H:H)))","v":""},{"$f":"IF(ISNA(A373),\"\",IF(LEN(LOOKUP(B373,Database!A:A,Database!I:I))=0,\"\",LOOKUP(B373,Database!A:A,Database!I:I)))","v":""},{"$f":"IF(ISNA(A373),\"\",IF(LEN(LOOKUP(B373,Database!A:A,Database!J:J))=0,\"\",LOOKUP(B373,Database!A:A,Database!J:J)))","v":""},{"$f":"IF(ISNA(A373),\"\",IF(LEN(LOOKUP(B373,Database!A:A,Database!K:K))=0,\"\",LOOKUP(B373,Database!A:A,Database!K:K)))","v":""},{"$f":"IF(ISNA(A373),\"\",IF(LEN(LOOKUP(B373,Database!A:A,Database!L:L))=0,\"\",LOOKUP(B373,Database!A:A,Database!L:L)))","v":""},{"$f":"IF(ISNA(A373),\"\",IF(LEN(LOOKUP(B373,Database!A:A,Database!M:M))=0,\"\",LOOKUP(B373,Database!A:A,Database!M:M)))","v":""},{"$f":"IF(ISNA(A373),\"\",IF(LEN(LOOKUP(B373,Database!A:A,Database!N:N))=0,\"\",LOOKUP(B373,Database!A:A,Database!N:N)))","v":""},{"$f":"IF(ISNA(A373),\"\",IF(LEN(LOOKUP(B373,Database!A:A,Database!O:O))=0,\"\",LOOKUP(B373,Database!A:A,Database!O:O)))","v":""},{"$f":"IF(ISNA(A373),\"\",IF(LEN(LOOKUP(B373,Database!A:A,Database!P:P))=0,\"\",LOOKUP(B373,Database!A:A,Database!P:P)))","v":""},{"$f":"IF(ISNA(A373),\"\",IF(LEN(LOOKUP(B373,Database!A:A,Database!Q:Q))=0,\"\",LOOKUP(B373,Database!A:A,Database!Q:Q)))","v":""},{"$f":"IF(ISNA(A373),\"\",IF(LEN(LOOKUP(B373,Database!A:A,Database!R:R))=0,\"\",LOOKUP(B373,Database!A:A,Database!R:R)))","v":""},{"$f":"IF(ISNA(A373),\"\",IF(LEN(LOOKUP(B373,Database!A:A,Database!S:S))=0,\"\",LOOKUP(B373,Database!A:A,Database!S:S)))","v":""},null,null,null,null,null,null,359,0,null,1,0,null,0.1]
[{"$error":"#N/A"},"2018-12-26",{"$f":"IF(ISNA(A374),\"\",IF(LEN(LOOKUP(B374,Database!A:A,Database!B:B))=0,\"\",LOOKUP(B374,Database!A:A,Database!B:B)))","v":""},{"$f":"IF(ISNA(A374),\"\",IF(LEN(LOOKUP(B374,Database!A:A,Database!C:C))=0,\"\",LOOKUP(B374,Database!A:A,Database!C:C)))","v":""},{"$f":"IF(ISNA(A374),\"\",IF(LEN(LOOKUP(B374,Database!A:A,Database!D:D))=0,\"\",LOOKUP(B374,Database!A:A,Database!D:D)))","v":""},{"$f":"IF(ISNA(A374),\"\",IF(LEN(LOOKUP(B374,Database!A:A,Database!E:E))=0,\"\",LOOKUP(B374,Database!A:A,Database!E:E)))","v":""},{"$f":"IF(ISNA(A374),\"\",IF(LEN(LOOKUP(B374,Database!A:A,Database!F:F))=0,\"\",LOOKUP(B374,Database!A:A,Database!F:F)))","v":""},{"$f":"IF(ISNA(A374),\"\",IF(LEN(LOOKUP(B374,Database!A:A,Database!G:G))=0,\"\",LOOKUP(B374,Database!A:A,Database!G:G)))","v":""},{"$f":"IF(ISNA(A374),\"\",IF(LEN(LOOKUP(B374,Database!A:A,Database!H:H))=0,\"\",LOOKUP(B374,Database!A:A,Database!H:H)))","v":""},{"$f":"IF(ISNA(A374),\"\",IF(LEN(LOOKUP(B374,Database!A:A,Database!I:I))=0,\"\",LOOKUP(B374,Database!A:A,Database!I:I)))","v":""},{"$f":"IF(ISNA(A374),\"\",IF(LEN(LOOKUP(B374,Database!A:A,Database!J:J))=0,\"\",LOOKUP(B374,Database!A:A,Database!J:J)))","v":""},{"$f":"IF(ISNA(A374),\"\",IF(LEN(LOOKUP(B374,Database!A:A,Database!K:K))=0,\"\",LOOKUP(B374,Database!A:A,Database!K:K)))","v":""},{"$f":"IF(ISNA(A374),\"\",IF(LEN(LOOKUP(B374,Database!A:A,Database!L:L))=0,\"\",LOOKUP(B374,Database!A:A,Database!L:L)))","v":""},{"$f":"IF(ISNA(A374),\"\",IF(LEN(LOOKUP(B374,Database!A:A,Database!M:M))=0,\"\",LOOKUP(B374,Database!A:A,Database!M:M)))","v":""},{"$f":"IF(ISNA(A374),\"\",IF(LEN(LOOKUP(B374,Database!A:A,Database!N:N))=0,\"\",LOOKUP(B374,Database!A:A,Database!N:N)))","v":""},{"$f":"IF(ISNA(A374),\"\",IF(LEN(LOOKUP(B374,Database!A:A,Database!O:O))=0,\"\",LOOKUP(B374,Database!A:A,Database!O:O)))","v":""},{"$f":"IF(ISNA(A374),\"\",IF(LEN(LOOKUP(B374,Database!A:A,Database!P:P))=0,\"\",LOOKUP(B374,Database!A:A,Database!P:P)))","v":""},{"$f":"IF(ISNA(A374),\"\",IF(LEN(LOOKUP(B374,Database!A:A,Database!Q:Q))=0,\"\",LOOKUP(B374,Database!A:A,Database!Q:Q)))","v":""},{"$f":"IF(ISNA(A374),\"\",IF(LEN(LOOKUP(B374,Database!A:A,Database!R:R))=0,\"\",LOOKUP(B374,Database!A:A,Database!R:R)))","v":""},{"$f":"IF(ISNA(A374),\"\",IF(LEN(LOOKUP(B374,Database!A:A,Database!S:S))=0,\"\",LOOKUP(B374,Database!A:A,Database!S:S)))","v":""},null,null,null,null,null,null,360,0,null,1,0,null,0.1]
[{"$error":"#N/A"},"2018-12-27",{"$f":"IF(ISNA(A375),\"\",IF(LEN(LOOKUP(B375,Database!A:A,Database!B:B))=0,\"\",LOOKUP(B375,Database!A:A,Database!B:B)))","v":""},{"$f":"IF(ISNA(A375),\"\",IF(LEN(LOOKUP(B375,Database!A:A,Database!C:C))=0,\"\",LOOKUP(B375,Database!A:A,Database!C:C)))","v":""},{"$f":"IF(ISNA(A375),\"\",IF(LEN(LOOKUP(B375,Database!A:A,Database!D:D))=0,\"\",LOOKUP(B375,Database!A:A,Database!D:D)))","v":""},{"$f":"IF(ISNA(A375),\"\",IF(LEN(LOOKUP(B375,Database!A:A,Database!E:E))=0,\"\",LOOKUP(B375,Database!A:A,Database!E:E)))","v":""},{"$f":"IF(ISNA(A375),\"\",IF(LEN(LOOKUP(B375,Database!A:A,Database!F:F))=0,\"\",LOOKUP(B375,Database!A:A,Database!F:F)))","v":""},{"$f":"IF(ISNA(A375),\"\",IF(LEN(LOOKUP(B375,Database!A:A,Database!G:G))=0,\"\",LOOKUP(B375,Database!A:A,Database!G:G)))","v":""},{"$f":"IF(ISNA(A375),\"\",IF(LEN(LOOKUP(B375,Database!A:A,Database!H:H))=0,\"\",LOOKUP(B375,Database!A:A,Database!H:H)))","v":""},{"$f":"IF(ISNA(A375),\"\",IF(LEN(LOOKUP(B375,Database!A:A,Database!I:I))=0,\"\",LOOKUP(B375,Database!A:A,Database!I:I)))","v":""},{"$f":"IF(ISNA(A375),\"\",IF(LEN(LOOKUP(B375,Database!A:A,Database!J:J))=0,\"\",LOOKUP(B375,Database!A:A,Database!J:J)))","v":""},{"$f":"IF(ISNA(A375),\"\",IF(LEN(LOOKUP(B375,Database!A:A,Database!K:K))=0,\"\",LOOKUP(B375,Database!A:A,Database!K:K)))","v":""},{"$f":"IF(ISNA(A375),\"\",IF(LEN(LOOKUP(B375,Database!A:A,Database!L:L))=0,\"\",LOOKUP(B375,Database!A:A,Database!L:L)))","v":""},{"$f":"IF(ISNA(A375),\"\",IF(LEN(LOOKUP(B375,Database!A:A,Database!M:M))=0,\"\",LOOKUP(B375,Database!A:A,Database!M:M)))","v":""},{"$f":"IF(ISNA(A375),\"\",IF(LEN(LOOKUP(B375,Database!A:A,Database!N:N))=0,\"\",LOOKUP(B375,Database!A:A,Database!N:N)))","v":""},{"$f":"IF(ISNA(A375),\"\",IF(LEN(LOOKUP(B375,Database!A:A,Database!O:O))=0,\"\",LOOKUP(B375,Database!A:A,Database!O:O)))","v":""},{"$f":"IF(ISNA(A375),\"\",IF(LEN(LOOKUP(B375,Database!A:A,Database!P:P))=0,\"\",LOOKUP(B375,Database!A:A,Database!P:P)))","v":""},{"$f":"IF(ISNA(A375),\"\",IF(LEN(LOOKUP(B375,Database!A:A,Database!Q:Q))=0,\"\",LOOKUP(B375,Database!A:A,Database!Q:Q)))","v":""},{"$f":"IF(ISNA(A375),\"\",IF(LEN(LOOKUP(B375,Database!A:A,Database!R:R))=0,\"\",LOOKUP(B375,Database!A:A,Database!R:R)))","v":""},{"$f":"IF(ISNA(A375),\"\",IF(LEN(LOOKUP(B375,Database!A:A,Database!S:S))=0,\"\",LOOKUP(B375,Database!A:A,Database!S:S)))","v":""},null,null,null,null,null,null,361,0,null,1,0,null,0.1]
[{"$error":"#N/A"},"2018-12-28",{"$f":"IF(ISNA(A376),\"\",IF(LEN(LOOKUP(B376,Database!A:A,Database!B:B))=0,\"\",LOOKUP(B376,Database!A:A,Database!B:B)))","v":""},{"$f":"IF(ISNA(A376),\"\",IF(LEN(LOOKUP(B376,Database!A:A,Database!C:C))=0,\"\",LOOKUP(B376,Database!A:A,Database!C:C)))","v":""},{"$f":"IF(ISNA(A376),\"\",IF(LEN(LOOKUP(B376,Database!A:A,Database!D:D))=0,\"\",LOOKUP(B376,Database!A:A,Database!D:D)))","v":""},{"$f":"IF(ISNA(A376),\"\",IF(LEN(LOOKUP(B376,Database!A:A,Database!E:E))=0,\"\",LOOKUP(B376,Database!A:A,Database!E:E)))","v":""},{"$f":"IF(ISNA(A376),\"\",IF(LEN(LOOKUP(B376,Database!A:A,Database!F:F))=0,\"\",LOOKUP(B376,Database!A:A,Database!F:F)))","v":""},{"$f":"IF(ISNA(A376),\"\",IF(LEN(LOOKUP(B376,Database!A:A,Database!G:G))=0,\"\",LOOKUP(B376,Database!A:A,Database!G:G)))","v":""},{"$f":"IF(ISNA(A376),\"\",IF(LEN(LOOKUP(B376,Database!A:A,Database!H:H))=0,\"\",LOOKUP(B376,Database!A:A,Database!H:H)))","v":""},{"$f":"IF(ISNA(A376),\"\",IF(LEN(LOOKUP(B376,Database!A:A,Database!I:I))=0,\"\",LOOKUP(B376,Database!A:A,Database!I:I)))","v":""},{"$f":"IF(ISNA(A376),\"\",IF(LEN(LOOKUP(B376,Database!A:A,Database!J:J))=0,\"\",LOOKUP(B376,Database!A:A,Database!J:J)))","v":""},{"$f":"IF(ISNA(A376),\"\",IF(LEN(LOOKUP(B376,Database!A:A,Database!K:K))=0,\"\",LOOKUP(B376,Database!A:A,Database!K:K)))","v":""},{"$f":"IF(ISNA(A376),\"\",IF(LEN(LOOKUP(B376,Database!A:A,Database!L:L))=0,\"\",LOOKUP(B376,Database!A:A,Database!L:L)))","v":""},{"$f":"IF(ISNA(A376),\"\",IF(LEN(LOOKUP(B376,Database!A:A,Database!M:M))=0,\"\",LOOKUP(B376,Database!A:A,Database!M:M)))","v":""},{"$f":"IF(ISNA(A376),\"\",IF(LEN(LOOKUP(B376,Database!A:A,Database!N:N))=0,\"\",LOOKUP(B376,Database!A:A,Database!N:N)))","v":""},{"$f":"IF(ISNA(A376),\"\",IF(LEN(LOOKUP(B376,Database!A:A,Database!O:O))=0,\"\",LOOKUP(B376,Database!A:A,Database!O:O)))","v":""},{"$f":"IF(ISNA(A376),\"\",IF(LEN(LOOKUP(B376,Database!A:A,Database!P:P))=0,\"\",LOOKUP(B376,Database!A:A,Database!P:P)))","v":""},{"$f":"IF(ISNA(A376),\"\",IF(LEN(LOOKUP(B376,Database!A:A,Database!Q:Q))=0,\"\",LOOKUP(B376,Database!A:A,Database!Q:Q)))","v":""},{"$f":"IF(ISNA(A376),\"\",IF(LEN(LOOKUP(B376,Database!A:A,Database!R:R))=0,\"\",LOOKUP(B376,Database!A:A,Database!R:R)))","v":""},{"$f":"IF(ISNA(A376),\"\",IF(LEN(LOOKUP(B376,Database!A:A,Database!S:S))=0,\"\",LOOKUP(B376,Database!A:A,Database!S:S)))","v":""},null,null,null,null,null,null,362,0,null,1,0,null,0.1]
[{"$error":"#N/A"},"2018-12-29",{"$f":"IF(ISNA(A377),\"\",IF(LEN(LOOKUP(B377,Database!A:A,Database!B:B))=0,\"\",LOOKUP(B377,Database!A:A,Database!B:B)))","v":""},{"$f":"IF(ISNA(A377),\"\",IF(LEN(LOOKUP(B377,Database!A:A,Database!C:C))=0,\"\",LOOKUP(B377,Database!A:A,Database!C:C)))","v":""},{"$f":"IF(ISNA(A377),\"\",IF(LEN(LOOKUP(B377,Database!A:A,Database!D:D))=0,\"\",LOOKUP(B377,Database!A:A,Database!D:D)))","v":""},{"$f":"IF(ISNA(A377),\"\",IF(LEN(LOOKUP(B377,Database!A:A,Database!E:E))=0,\"\",LOOKUP(B377,Database!A:A,Database!E:E)))","v":""},{"$f":"IF(ISNA(A377),\"\",IF(LEN(LOOKUP(B377,Database!A:A,Database!F:F))=0,\"\",LOOKUP(B377,Database!A:A,Database!F:F)))","v":""},{"$f":"IF(ISNA(A377),\"\",IF(LEN(LOOKUP(B377,Database!A:A,Database!G:G))=0,\"\",LOOKUP(B377,Database!A:A,Database!G:G)))","v":""},{"$f":"IF(ISNA(A377),\"\",IF(LEN(LOOKUP(B377,Database!A:A,Database!H:H))=0,\"\",LOOKUP(B377,Database!A:A,Database!H:H)))","v":""},{"$f":"IF(ISNA(A377),\"\",IF(LEN(LOOKUP(B377,Database!A:A,Database!I:I))=0,\"\",LOOKUP(B377,Database!A:A,Database!I:I)))","v":""},{"$f":"IF(ISNA(A377),\"\",IF(LEN(LOOKUP(B377,Database!A:A,Database!J:J))=0,\"\",LOOKUP(B377,Database!A:A,Database!J:J)))","v":""},{"$f":"IF(ISNA(A377),\"\",IF(LEN(LOOKUP(B377,Database!A:A,Database!K:K))=0,\"\",LOOKUP(B377,Database!A:A,Database!K:K)))","v":""},{"$f":"IF(ISNA(A377),\"\",IF(LEN(LOOKUP(B377,Database!A:A,Database!L:L))=0,\"\",LOOKUP(B377,Database!A:A,Database!L:L)))","v":""},{"$f":"IF(ISNA(A377),\"\",IF(LEN(LOOKUP(B377,Database!A:A,Database!M:M))=0,\"\",LOOKUP(B377,Database!A:A,Database!M:M)))","v":""},{"$f":"IF(ISNA(A377),\"\",IF(LEN(LOOKUP(B377,Database!A:A,Database!N:N))=0,\"\",LOOKUP(B377,Database!A:A,Database!N:N)))","v":""},{"$f":"IF(ISNA(A377),\"\",IF(LEN(LOOKUP(B377,Database!A:A,Database!O:O))=0,\"\",LOOKUP(B377,Database!A:A,Database!O:O)))","v":""},{"$f":"IF(ISNA(A377),\"\",IF(LEN(LOOKUP(B377,Database!A:A,Database!P:P))=0,\"\",LOOKUP(B377,Database!A:A,Database!P:P)))","v":""},{"$f":"IF(ISNA(A377),\"\",IF(LEN(LOOKUP(B377,Database!A:A,Database!Q:Q))=0,\"\",LOOKUP(B377,Database!A:A,Database!Q:Q)))","v":""},{"$f":"IF(ISNA(A377),\"\",IF(LEN(LOOKUP(B377,Database!A:A,Database!R:R))=0,\"\",LOOKUP(B377,Database!A:A,Database!R:R)))","v":""},{"$f":"IF(ISNA(A377),\"\",IF(LEN(LOOKUP(B377,Database!A:A,Database!S:S))=0,\"\",LOOKUP(B377,Database!A:A,Database!S:S)))","v":""},null,null,null,null,null,null,363,0,null,1,0,null,0.1]
[{"$error":"#N/A"},"2018-12-30",{"$f":"IF(ISNA(A378),\"\",IF(LEN(LOOKUP(B378,Database!A:A,Database!B:B))=0,\"\",LOOKUP(B378,Database!A:A,Database!B:B)))","v":""},{"$f":"IF(ISNA(A378),\"\",IF(LEN(LOOKUP(B378,Database!A:A,Database!C:C))=0,\"\",LOOKUP(B378,Database!A:A,Database!C:C)))","v":""},{"$f":"IF(ISNA(A378),\"\",IF(LEN(LOOKUP(B378,Database!A:A,Database!D:D))=0,\"\",LOOKUP(B378,Database!A:A,Database!D:D)))","v":""},{"$f":"IF(ISNA(A378),\"\",IF(LEN(LOOKUP(B378,Database!A:A,Database!E:E))=0,\"\",LOOKUP(B378,Database!A:A,Database!E:E)))","v":""},{"$f":"IF(ISNA(A378),\"\",IF(LEN(LOOKUP(B378,Database!A:A,Database!F:F))=0,\"\",LOOKUP(B378,Database!A:A,Database!F:F)))","v":""},{"$f":"IF(ISNA(A378),\"\",IF(LEN(LOOKUP(B378,Database!A:A,Database!G:G))=0,\"\",LOOKUP(B378,Database!A:A,Database!G:G)))","v":""},{"$f":"IF(ISNA(A378),\"\",IF(LEN(LOOKUP(B378,Database!A:A,Database!H:H))=0,\"\",LOOKUP(B378,Database!A:A,Database!H:H)))","v":""},{"$f":"IF(ISNA(A378),\"\",IF(LEN(LOOKUP(B378,Database!A:A,Database!I:I))=0,\"\",LOOKUP(B378,Database!A:A,Database!I:I)))","v":""},{"$f":"IF(ISNA(A378),\"\",IF(LEN(LOOKUP(B378,Database!A:A,Database!J:J))=0,\"\",LOOKUP(B378,Database!A:A,Database!J:J)))","v":""},{"$f":"IF(ISNA(A378),\"\",IF(LEN(LOOKUP(B378,Database!A:A,Database!K:K))=0,\"\",LOOKUP(B378,Database!A:A,Database!K:K)))","v":""},{"$f":"IF(ISNA(A378),\"\",IF(LEN(LOOKUP(B378,Database!A:A,Database!L:L))=0,\"\",LOOKUP(B378,Database!A:A,Database!L:L)))","v":""},{"$f":"IF(ISNA(A378),\"\",IF(LEN(LOOKUP(B378,Database!A:A,Database!M:M))=0,\"\",LOOKUP(B378,Database!A:A,Database!M:M)))","v":""},{"$f":"IF(ISNA(A378),\"\",IF(LEN(LOOKUP(B378,Database!A:A,Database!N:N))=0,\"\",LOOKUP(B378,Database!A:A,Database!N:N)))","v":""},{"$f":"IF(ISNA(A378),\"\",IF(LEN(LOOKUP(B378,Database!A:A,Database!O:O))=0,\"\",LOOKUP(B378,Database!A:A,Database!O:O)))","v":""},{"$f":"IF(ISNA(A378),\"\",IF(LEN(LOOKUP(B378,Database!A:A,Database!P:P))=0,\"\",LOOKUP(B378,Database!A:A,Database!P:P)))","v":""},{"$f":"IF(ISNA(A378),\"\",IF(LEN(LOOKUP(B378,Database!A:A,Database!Q:Q))=0,\"\",LOOKUP(B378,Database!A:A,Database!Q:Q)))","v":""},{"$f":"IF(ISNA(A378),\"\",IF(LEN(LOOKUP(B378,Database!A:A,Database!R:R))=0,\"\",LOOKUP(B378,Database!A:A,Database!R:R)))","v":""},{"$f":"IF(ISNA(A378),\"\",IF(LEN(LOOKUP(B378,Database!A:A,Database!S:S))=0,\"\",LOOKUP(B378,Database!A:A,Database!S:S)))","v":""},null,null,null,null,null,null,364,0,null,1,0,null,0.1]
[{"$error":"#N/A"},"2018-12-31",{"$f":"IF(ISNA(A379),\"\",IF(LEN(LOOKUP(B379,Database!A:A,Database!B:B))=0,\"\",LOOKUP(B379,Database!A:A,Database!B:B)))","v":""},{"$f":"IF(ISNA(A379),\"\",IF(LEN(LOOKUP(B379,Database!A:A,Database!C:C))=0,\"\",LOOKUP(B379,Database!A:A,Database!C:C)))","v":""},{"$f":"IF(ISNA(A379),\"\",IF(LEN(LOOKUP(B379,Database!A:A,Database!D:D))=0,\"\",LOOKUP(B379,Database!A:A,Database!D:D)))","v":""},{"$f":"IF(ISNA(A379),\"\",IF(LEN(LOOKUP(B379,Database!A:A,Database!E:E))=0,\"\",LOOKUP(B379,Database!A:A,Database!E:E)))","v":""},{"$f":"IF(ISNA(A379),\"\",IF(LEN(LOOKUP(B379,Database!A:A,Database!F:F))=0,\"\",LOOKUP(B379,Database!A:A,Database!F:F)))","v":""},{"$f":"IF(ISNA(A379),\"\",IF(LEN(LOOKUP(B379,Database!A:A,Database!G:G))=0,\"\",LOOKUP(B379,Database!A:A,Database!G:G)))","v":""},{"$f":"IF(ISNA(A379),\"\",IF(LEN(LOOKUP(B379,Database!A:A,Database!H:H))=0,\"\",LOOKUP(B379,Database!A:A,Database!H:H)))","v":""},{"$f":"IF(ISNA(A379),\"\",IF(LEN(LOOKUP(B379,Database!A:A,Database!I:I))=0,\"\",LOOKUP(B379,Database!A:A,Database!I:I)))","v":""},{"$f":"IF(ISNA(A379),\"\",IF(LEN(LOOKUP(B379,Database!A:A,Database!J:J))=0,\"\",LOOKUP(B379,Database!A:A,Database!J:J)))","v":""},{"$f":"IF(ISNA(A379),\"\",IF(LEN(LOOKUP(B379,Database!A:A,Database!K:K))=0,\"\",LOOKUP(B379,Database!A:A,Database!K:K)))","v":""},{"$f":"IF(ISNA(A379),\"\",IF(LEN(LOOKUP(B379,Database!A:A,Database!L:L))=0,\"\",LOOKUP(B379,Database!A:A,Database!L:L)))","v":""},{"$f":"IF(ISNA(A379),\"\",IF(LEN(LOOKUP(B379,Database!A:A,Database!M:M))=0,\"\",LOOKUP(B379,Database!A:A,Database!M:M)))","v":""},{"$f":"IF(ISNA(A379),\"\",IF(LEN(LOOKUP(B379,Database!A:A,Database!N:N))=0,\"\",LOOKUP(B379,Database!A:A,Database!N:N)))","v":""},{"$f":"IF(ISNA(A379),\"\",IF(LEN(LOOKUP(B379,Database!A:A,Database!O:O))=0,\"\",LOOKUP(B379,Database!A:A,Database!O:O)))","v":""},{"$f":"IF(ISNA(A379),\"\",IF(LEN(LOOKUP(B379,Database!A:A,Database!P:P))=0,\"\",LOOKUP(B379,Database!A:A,Database!P:P)))","v":""},{"$f":"IF(ISNA(A379),\"\",IF(LEN(LOOKUP(B379,Database!A:A,Database!Q:Q))=0,\"\",LOOKUP(B379,Database!A:A,Database!Q:Q)))","v":""},{"$f":"IF(ISNA(A379),\"\",IF(LEN(LOOKUP(B379,Database!A:A,Database!R:R))=0,\"\",LOOKUP(B379,Database!A:A,Database!R:R)))","v":""},{"$f":"IF(ISNA(A379),\"\",IF(LEN(LOOKUP(B379,Database!A:A,Database!S:S))=0,\"\",LOOKUP(B379,Database!A:A,Database!S:S)))","v":""},null,null,null,null,null,null,365,0,null,1,0,null,0.1]
[{"$error":"#N/A"},"2019-01-01",{"$f":"IF(ISNA(A380),\"\",IF(LEN(LOOKUP(B380,Database!A:A,Database!B:B))=0,\"\",LOOKUP(B380,Database!A:A,Database!B:B)))","v":""},{"$f":"IF(ISNA(A380),\"\",IF(LEN(LOOKUP(B380,Database!A:A,Database!C:C))=0,\"\",LOOKUP(B380,Database!A:A,Database!C:C)))","v":""},{"$f":"IF(ISNA(A380),\"\",IF(LEN(LOOKUP(B380,Database!A:A,Database!D:D))=0,\"\",LOOKUP(B380,Database!A:A,Database!D:D)))","v":""},{"$f":"IF(ISNA(A380),\"\",IF(LEN(LOOKUP(B380,Database!A:A,Database!E:E))=0,\"\",LOOKUP(B380,Database!A:A,Database!E:E)))","v":""},{"$f":"IF(ISNA(A380),\"\",IF(LEN(LOOKUP(B380,Database!A:A,Database!F:F))=0,\"\",LOOKUP(B380,Database!A:A,Database!F:F)))","v":""},{"$f":"IF(ISNA(A380),\"\",IF(LEN(LOOKUP(B380,Database!A:A,Database!G:G))=0,\"\",LOOKUP(B380,Database!A:A,Database!G:G)))","v":""},{"$f":"IF(ISNA(A380),\"\",IF(LEN(LOOKUP(B380,Database!A:A,Database!H:H))=0,\"\",LOOKUP(B380,Database!A:A,Database!H:H)))","v":""},{"$f":"IF(ISNA(A380),\"\",IF(LEN(LOOKUP(B380,Database!A:A,Database!I:I))=0,\"\",LOOKUP(B380,Database!A:A,Database!I:I)))","v":""},{"$f":"IF(ISNA(A380),\"\",IF(LEN(LOOKUP(B380,Database!A:A,Database!J:J))=0,\"\",LOOKUP(B380,Database!A:A,Database!J:J)))","v":""},{"$f":"IF(ISNA(A380),\"\",IF(LEN(LOOKUP(B380,Database!A:A,Database!K:K))=0,\"\",LOOKUP(B380,Database!A:A,Database!K:K)))","v":""},{"$f":"IF(ISNA(A380),\"\",IF(LEN(LOOKUP(B380,Database!A:A,Database!L:L))=0,\"\",LOOKUP(B380,Database!A:A,Database!L:L)))","v":""},{"$f":"IF(ISNA(A380),\"\",IF(LEN(LOOKUP(B380,Database!A:A,Database!M:M))=0,\"\",LOOKUP(B380,Database!A:A,Database!M:M)))","v":""},{"$f":"IF(ISNA(A380),\"\",IF(LEN(LOOKUP(B380,Database!A:A,Database!N:N))=0,\"\",LOOKUP(B380,Database!A:A,Database!N:N)))","v":""},{"$f":"IF(ISNA(A380),\"\",IF(LEN(LOOKUP(B380,Database!A:A,Database!O:O))=0,\"\",LOOKUP(B380,Database!A:A,Database!O:O)))","v":""},{"$f":"IF(ISNA(A380),\"\",IF(LEN(LOOKUP(B380,Database!A:A,Database!P:P))=0,\"\",LOOKUP(B380,Database!A:A,Database!P:P)))","v":""},{"$f":"IF(ISNA(A380),\"\",IF(LEN(LOOKUP(B380,Database!A:A,Database!Q:Q))=0,\"\",LOOKUP(B380,Database!A:A,Database!Q:Q)))","v":""},{"$f":"IF(ISNA(A380),\"\",IF(LEN(LOOKUP(B380,Database!A:A,Database!R:R))=0,\"\",LOOKUP(B380,Database!A:A,Database!R:R)))","v":""},{"$f":"IF(ISNA(A380),\"\",IF(LEN(LOOKUP(B380,Database!A:A,Database!S:S))=0,\"\",LOOKUP(B380,Database!A:A,Database!S:S)))","v":""},null,null,null,null,null,null,366,0,null,1,{"$f":"MAX(H380:S380)","v":0},null,0.1]

{"sheet":"Summary","index":3,"n_rows":43,"n_cols":17,"rows_kept":43,"cut":false,"hidden":false,"merged":[]}
[]
[null,null,{"$f":"'Annual Data'!H2&\"  \"&'Annual Data'!H3","v":"plant name  "},null,null,null,null,null,null,null,null,null,null,null,null,null,"Treatment Barrier Performance Summary"]
[]
[]
[]
[]
[]
[]
[]
[]
[]
[]
[]
[]
[]
[]
[]
[]
[]
[]
[]
[]
[]
[]
[null,null,null,"ANNUAL DATA",null,"Avg","Min","Max","RSQ",0.95,"Opt. Goal","Reg."]
[null,null,null,null,null,"NTU","NTU","NTU",null,"NTU","% Values","% Values"]
[null,null,"Raw Turbidity",null,null,{"$f":"IF(SUM(Raw)=0,,AVERAGE(Raw))","v":0},{"$f":"IF(SUM(Raw)=0,,MIN(Raw))","v":0},{"$f":"IF(SUM(Raw)=0,,MAX(Raw))","v":0},"n/a",{"$f":"IF(SUM(Raw)=0,,PERCENTILE(Raw, 0.95))","v":0},"n/a","n/a"]
[null,null,"Max. Settled Turbidity",null,null,{"$f":"IF(SUM(MaxSedPlot)=0,,AVERAGE(MaxSedPlot))","v":0},{"$f":"IF(SUM(MaxSedPlot)=0,,MIN(MaxSedPlot))","v":0},{"$f":"IF(SUM(MaxSedPlot)=0,,MAX(MaxSedPlot))","v":0},{"$f":"IF(SUM(Raw)=0,,IF(SUM(MaxSedPlot)=0,,RSQ(Raw,MaxSedPlot)))","v":0},{"$f":"IF(SUM(MaxSedPlot)=0,,PERCENTILE(MaxSedPlot,0.95))","v":0},{"$f":"IF(SUM(MaxSedPlot)=0,,(COUNTIFS(MaxSedPlot,\"<=\"&'Annual Data'!H4)/COUNT(MaxSedPlot))*100)","v":0},"n/a"]
[null,null,"Max. Filtered Turbidity",null,null,{"$f":"IF(SUM(MaxFilterPlot)=0,,AVERAGE(MaxFilterPlot))","v":0},{"$f":"IF(SUM(MaxFilterPlot)=0,,MIN(MaxFilterPlot))","v":0},{"$f":"IF(SUM(MaxFilterPlot)=0,,MAX(MaxFilterPlot))","v":0},{"$f":"IF(SUM(MaxSedPlot)=0,,IF(SUM(MaxFilterPlot)=0,,RSQ(MaxSedPlot,MaxFilterPlot)))","v":0},{"$f":"IF(SUM(MaxFilterPlot)=0,,PERCENTILE(MaxFilterPlot,0.95))","v":0},{"$f":"IF(SUM(MaxFilterPlot)=0,,(COUNTIFS(MaxFilterPlot,\"<=\"&'Annual Data'!H5)/COUNT(MaxFilterPlot))*100)","v":0},"n/a"]
[null,null,"Combined Filtered Turbidity",null,null,{"$f":"IF(SUM(Comb)=0,,AVERAGE(Comb))","v":0},{"$f":"IF(SUM(Comb)=0,,MIN(Comb))","v":0},{"$f":"IF(SUM(Comb)=0,,MAX(Comb))","v":0},{"$f":"IF(SUM(MaxFilterPlot)=0,,IF(SUM(Comb)=0,,RSQ(MaxFilterPlot,Comb)))","v":0},{"$f":"IF(SUM(Comb)=0,,PERCENTILE(Comb,0.95))","v":0},{"$f":"IF(SUM(Comb)=0,,(COUNTIFS(Comb,\"<=\"&'Annual Data'!H5)/COUNT(Comb))*100)","v":0},{"$f":"IF(SUM(Comb)=0,,(COUNTIFS(Comb,\"<=\"&'Annual Data'!H6)/COUNT(Comb))*100)","v":0}]
[]
[null,null,"RSQ = Correlation Coefficient for two selected data sets (> ~ 0.25 suggests correlation)"]
[null,null,"95% = 95th Percentile value for data set"]
[null,null,"Opt. Goal = % of values in data set that are less than or equal to the selected optimization turbidity goal"]
[null,null,"Reg.  = % of values in data set that are less than or equal to the regulated turbidity requirement"]
[]
[]
[]
[]
[]
[]
[]
[null,null,{"$f":"Instructions!B1","v":"Optimization Assessment Software - Version 37 (EPA 815-B-19-017)"}]

{"sheet":"OptimizationTrend","index":6,"n_rows":40,"n_cols":28,"rows_kept":40,"cut":false,"hidden":false,"merged":[]}
[]
[null,null,{"$f":"'Annual Data'!H2&\"  \"&'Annual Data'!H3","v":"plant name  "},null,null,null,null,null,null,null,null,null,null,null,null,null,null,null,null,null,null,null,null,null,"Optimization Trend Report"]
[]
[]
[null,null,null,null,null,null,null,"Settled Water Turbidity",null,null,null,null,null,null,null,null,null,null,"Filtered Water Turbidity"]
[null,null,null,null,"95th Percentile Values (NTU)",null,null,null,null,"% Values Meeting Goal",null,null,null,null,null,null,null,null,"95th Percentile Values (NTU)",null,null,null,null,null,null,"  % Values Meeting Goal All Filters"]
[null,null,null,"Sed 1","Sed 2","Sed 3","Sed 4","All Sed","3 NTU","2 NTU","1 NTU","Filter 1","Filter 2","Filter 3","Filter 4","Filter 5","Filter 6","Filter 7","Filter 8","Filter 9","Filter 10","Filter 11","Filter 12","Combined","All Filters",0.3,0.2,0.1]
[null,null,"2018-01-01"]
[null,null,"2018-02-01"]
[null,null,"2018-03-01"]
[null,null,"2018-04-01"]
[null,null,"2018-05-01"]
[null,null,"2018-06-01"]
[null,null,"2018-07-01"]
[null,null,"2018-08-01"]
[null,null,"2018-09-01"]
[null,null,"2018-10-01"]
[null,null,"2018-11-01"]
[null,null,"2018-12-01"]
[null,null,"Yr. 95%",{"$f":"IF(SUM('Annual Data'!D15:D380)=0,,PERCENTILE('Annual Data'!D15:D380,0.95))","v":0},{"$f":"IF(SUM('Annual Data'!E15:E380)=0,,PERCENTILE('Annual Data'!E15:E380,0.95))","v":0},{"$f":"IF(SUM('Annual Data'!F15:F380)=0,,PERCENTILE('Annual Data'!F15:F380,0.95))","v":0},{"$f":"IF(SUM('Annual Data'!G15:G380)=0,,PERCENTILE('Annual Data'!G15:G380,0.95))","v":0},null,null,null,null,{"$f":"IF(SUM('Annual Data'!H15:H380)=0,,PERCENTILE('Annual Data'!H15:H380,0.95))","v":0},{"$f":"IF(SUM('Annual Data'!I15:I380)=0,,PERCENTILE('Annual Data'!I15:I380,0.95))","v":0},{"$f":"IF(SUM('Annual Data'!J15:J380)=0,,PERCENTILE('Annual Data'!J15:J380,0.95))","v":0},{"$f":"IF(SUM('Annual Data'!K15:K380)=0,,PERCENTILE('Annual Data'!K15:K380,0.95))","v":0},{"$f":"IF(SUM('Annual Data'!L15:L380)=0,,PERCENTILE('Annual Data'!L15:L380,0.95))","v":0},{"$f":"IF(SUM('Annual Data'!M15:M380)=0,,PERCENTILE('Annual Data'!M15:M380,0.95))","v":0},{"$f":"IF(SUM('Annual Data'!N15:N380)=0,,PERCENTILE('Annual Data'!N15:N380,0.95))","v":0},{"$f":"IF(SUM('Annual Data'!O15:O380)=0,,PERCENTILE('Annual Data'!O15:O380,0.95))","v":0},{"$f":"IF(SUM('Annual Data'!P15:P380)=0,,PERCENTILE('Annual Data'!P15:P380,0.95))","v":0},{"$f":"IF(SUM('Annual Data'!Q15:Q380)=0,,PERCENTILE('Annual Data'!Q15:Q380,0.95))","v":0},{"$f":"IF(SUM('Annual Data'!R15:R380)=0,,PERCENTILE('Annual Data'!R15:R380,0.95))","v":0},{"$f":"IF(SUM('Annual Data'!S15:S379)=0,,PERCENTILE('Annual Data'!S15:S379,0.95))","v":0},{"$f":"IF(SUM([0]!Comb)=0,,PERCENTILE([0]!Comb,0.95))","v":0}]
[null,null,"Yr. Goal",{"$f":"IF(SUM('Annual Data'!D15:D380)=0,,FREQUENCY('Annual Data'!D15:D380,'Annual Data'!$H$4)/COUNT('Annual Data'!D15:D380))","v":0},{"$f":"IF(SUM('Annual Data'!E15:E380)=0,,FREQUENCY('Annual Data'!E15:E380,'Annual Data'!$H$4)/COUNT('Annual Data'!E15:E380))","v":0},{"$f":"IF(SUM('Annual Data'!F15:F380)=0,,FREQUENCY('Annual Data'!F15:F380,'Annual Data'!$H$4)/COUNT('Annual Data'!F15:F380))","v":0},{"$f":"IF(SUM('Annual Data'!G15:G380)=0,,FREQUENCY('Annual Data'!G15:G380,'Annual Data'!$H$4)/COUNT('Annual Data'!G15:G380))","v":0},null,null,null,null,{"$f":"IF(SUM('Annual Data'!H15:H380)=0,,FREQUENCY('Annual Data'!H15:H380,'Annual Data'!$H$5)/COUNT('Annual Data'!H15:H380))","v":0},{"$f":"IF(SUM('Annual Data'!I15:I380)=0,,FREQUENCY('Annual Data'!I15:I380,'Annual Data'!$H$5)/COUNT('Annual Data'!I15:I380))","v":0},{"$f":"IF(SUM('Annual Data'!J15:J380)=0,,FREQUENCY('Annual Data'!J15:J380,'Annual Data'!$H$5)/COUNT('Annual Data'!J15:J380))","v":0},{"$f":"IF(SUM('Annual Data'!K15:K380)=0,,FREQUENCY('Annual Data'!K15:K380,'Annual Data'!$H$5)/COUNT('Annual Data'!K15:K380))","v":0},{"$f":"IF(SUM('Annual Data'!L15:L380)=0,,FREQUENCY('Annual Data'!L15:L380,'Annual Data'!$H$5)/COUNT('Annual Data'!L15:L380))","v":0},{"$f":"IF(SUM('Annual Data'!M15:M380)=0,,FREQUENCY('Annual Data'!M15:M380,'Annual Data'!$H$5)/COUNT('Annual Data'!M15:M380))","v":0},{"$f":"IF(SUM('Annual Data'!N15:N380)=0,,FREQUENCY('Annual Data'!N15:N380,'Annual Data'!$H$5)/COUNT('Annual Data'!N15:N380))","v":0},{"$f":"IF(SUM('Annual Data'!O15:O380)=0,,FREQUENCY('Annual Data'!O15:O380,'Annual Data'!$H$5)/COUNT('Annual Data'!O15:O380))","v":0},{"$f":"IF(SUM('Annual Data'!P15:P380)=0,,FREQUENCY('Annual Data'!P15:P380,'Annual Data'!$H$5)/COUNT('Annual Data'!P15:P380))","v":0},{"$f":"IF(SUM('Annual Data'!Q15:Q380)=0,,FREQUENCY('Annual Data'!Q15:Q380,'Annual Data'!$H$5)/COUNT('Annual Data'!Q15:Q380))","v":0},{"$f":"IF(SUM('Annual Data'!R15:R380)=0,,FREQUENCY('Annual Data'!R15:R380,'Annual Data'!$H$5)/COUNT('Annual Data'!R15:R380))","v":0},{"$f":"IF(SUM('Annual Data'!S15:S379)=0,,FREQUENCY('Annual Data'!S15:S379,'Annual Data'!$H$5)/COUNT('Annual Data'!S15:S379))","v":0},{"$f":"IF(SUM([0]!Comb)=0,,FREQUENCY([0]!Comb,'Annual Data'!$H$5)/COUNT([0]!Comb))","v":0}]
[]
[]
[]
[]
[]
[]
[]
[]
[]
[]
[]
[]
[]
[]
[]
[]
[]
[]
[null,null,null,{"$f":"Instructions!B1","v":"Optimization Assessment Software - Version 37 (EPA 815-B-19-017)"}]

{"sheet":"SedSum","index":7,"n_rows":1,"n_cols":7,"rows_kept":1,"cut":false,"hidden":false,"merged":[]}
[null,null,null,null,null,null,"Sedimentation Performance Summary"]

{"sheet":"FilterSum(1-4)","index":9,"n_rows":1,"n_cols":8,"rows_kept":1,"cut":false,"hidden":false,"merged":[]}
[null,null,null,null,null,null,null,"Filtration Performance Summary (Filters 1 - 4)"]

{"sheet":"FilterSum(5-8)","index":10,"n_rows":1,"n_cols":7,"rows_kept":1,"cut":false,"hidden":false,"merged":[]}
[null,null,null,null,null,null,"Filtration Performance Summary (Filters 5 - 8)"]

{"sheet":"FilterSum(9-12)","index":11,"n_rows":1,"n_cols":7,"rows_kept":1,"cut":false,"hidden":false,"merged":[]}
[null,null,null,null,null,null,"Filtration Performance Summary (Filters 9 - 12)"]

{"sheet":"BW Data","index":12,"n_rows":14,"n_cols":20,"rows_kept":14,"cut":false,"hidden":false,"merged":[]}
[null,"Data input screen for filter backwash data."]
[null,"For filters with filter-to-waste (FTW) capability, input three values",null,null,null,null,null,"Return to Service Turbidity (% values <= goal)"]
[null,"per backwash: 1) max. turbidity during FTW period, 2) turbidity at",null,null,null,null,null,null,"Filter #"]
[null,"return to service (RTS) and 3) FTW time.",null,null,null,null,null,"Goal",1,2,3,4,5,6,7,8,9,10,11,12]
[null,"For filters without FTW capability, input two values per backwash:",null,null,null,null,null,"Peak",{"$f":"IFERROR(COUNTIFS(Table1[Filter],I4,Table1[Peak Turbidity],\"<=\"&ROUND($D$10,2))/COUNTIF(Table1[Filter],I4),\"\")","v":""},{"$f":"IFERROR(COUNTIFS(Table1[Filter],J4,Table1[Peak Turbidity],\"<=\"&ROUND($D$10,2))/COUNTIF(Table1[Filter],J4),\"\")","v":""},{"$f":"IFERROR(COUNTIFS(Table1[Filter],K4,Table1[Peak Turbidity],\"<=\"&ROUND($D$10,2))/COUNTIF(Table1[Filter],K4),\"\")","v":""},{"$f":"IFERROR(COUNTIFS(Table1[Filter],L4,Table1[Peak Turbidity],\"<=\"&ROUND($D$10,2))/COUNTIF(Table1[Filter],L4),\"\")","v":""},{"$f":"IFERROR(COUNTIFS(Table1[Filter],M4,Table1[Peak Turbidity],\"<=\"&ROUND($D$10,2))/COUNTIF(Table1[Filter],M4),\"\")","v":""},{"$f":"IFERROR(COUNTIFS(Table1[Filter],N4,Table1[Peak Turbidity],\"<=\"&ROUND($D$10,2))/COUNTIF(Table1[Filter],N4),\"\")","v":""},{"$f":"IFERROR(COUNTIFS(Table1[Filter],O4,Table1[Peak Turbidity],\"<=\"&ROUND($D$10,2))/COUNTIF(Table1[Filter],O4),\"\")","v":""},{"$f":"IFERROR(COUNTIFS(Table1[Filter],P4,Table1[Peak Turbidity],\"<=\"&ROUND($D$10,2))/COUNTIF(Table1[Filter],P4),\"\")","v":""},{"$f":"IFERROR(COUNTIFS(Table1[Filter],Q4,Table1[Peak Turbidity],\"<=\"&ROUND($D$10,2))/COUNTIF(Table1[Filter],Q4),\"\")","v":""},{"$f":"IFERROR(COUNTIFS(Table1[Filter],R4,Table1[Peak Turbidity],\"<=\"&ROUND($D$10,2))/COUNTIF(Table1[Filter],R4),\"\")","v":""},{"$f":"IFERROR(COUNTIFS(Table1[Filter],S4,Table1[Peak Turbidity],\"<=\"&ROUND($D$10,2))/COUNTIF(Table1[Filter],S4),\"\")","v":""},{"$f":"IFERROR(COUNTIFS(Table1[Filter],T4,Table1[Peak Turbidity],\"<=\"&ROUND($D$10,2))/COUNTIF(Table1[Filter],T4),\"\")","v":""}]
[null,"1) max. turbidity during initial 15 minutes of filter run and",null,null,null,null,null,"RTS",{"$f":"IFERROR(COUNTIFS(Table1[Filter],I4,Table1[RTS Turbidity],\"<=\"&ROUND($E$10,2))/COUNTIF(Table1[Filter],I4),\"\")","v":""},{"$f":"IFERROR(COUNTIFS(Table1[Filter],J4,Table1[RTS Turbidity],\"<=\"&ROUND($E$10,2))/COUNTIF(Table1[Filter],J4),\"\")","v":""},{"$f":"IFERROR(COUNTIFS(Table1[Filter],K4,Table1[RTS Turbidity],\"<=\"&ROUND($E$10,2))/COUNTIF(Table1[Filter],K4),\"\")","v":""},{"$f":"IFERROR(COUNTIFS(Table1[Filter],L4,Table1[RTS Turbidity],\"<=\"&ROUND($E$10,2))/COUNTIF(Table1[Filter],L4),\"\")","v":""},{"$f":"IFERROR(COUNTIFS(Table1[Filter],M4,Table1[RTS Turbidity],\"<=\"&ROUND($E$10,2))/COUNTIF(Table1[Filter],M4),\"\")","v":""},{"$f":"IFERROR(COUNTIFS(Table1[Filter],N4,Table1[RTS Turbidity],\"<=\"&ROUND($E$10,2))/COUNTIF(Table1[Filter],N4),\"\")","v":""},{"$f":"IFERROR(COUNTIFS(Table1[Filter],O4,Table1[RTS Turbidity],\"<=\"&ROUND($E$10,2))/COUNTIF(Table1[Filter],O4),\"\")","v":""},{"$f":"IFERROR(COUNTIFS(Table1[Filter],P4,Table1[RTS Turbidity],\"<=\"&ROUND($E$10,2))/COUNTIF(Table1[Filter],P4),\"\")","v":""},{"$f":"IFERROR(COUNTIFS(Table1[Filter],Q4,Table1[RTS Turbidity],\"<=\"&ROUND($E$10,2))/COUNTIF(Table1[Filter],Q4),\"\")","v":""},{"$f":"IFERROR(COUNTIFS(Table1[Filter],R4,Table1[RTS Turbidity],\"<=\"&ROUND($E$10,2))/COUNTIF(Table1[Filter],R4),\"\")","v":""},{"$f":"IFERROR(COUNTIFS(Table1[Filter],S4,Table1[RTS Turbidity],\"<=\"&ROUND($E$10,2))/COUNTIF(Table1[Filter],S4),\"\")","v":""},{"$f":"IFERROR(COUNTIFS(Table1[Filter],T4,Table1[RTS Turbidity],\"<=\"&ROUND($E$10,2))/COUNTIF(Table1[Filter],T4),\"\")","v":""}]
[null,"2) turbidity after 15 minutes of filter run."]
[null,"To start, delete rows with demo data, but leave a few rows for new."]
[null,"Add new data to bottom of table.",null,null,null,null,null,"Turbidity during FTW (95th percentile)"]
[null,null,"Perf. Goals (NTU)",null,null,"Avg FTW",null,null,"Filter #"]
[null,null,"% values <= Goal",{"$f":"COUNTIF(D15:D19,\"<=\"&ROUND(D10,2))/COUNT(D15:D19)*100","v":{"$error":"#DIV/0!"}},{"$f":"COUNTIF(E15:E19,\"<=\"&ROUND(E10,2))/COUNT(E15:E19)*100","v":{"$error":"#DIV/0!"}},"Time",null,"Percentile",1,2,3,4,5,6,7,8,9,10,11,12]
[null,null,"95th % NTU",{"$f":"IF(SUM(D15:D19)=0,\"\",PERCENTILE(D15:D19,0.95))","v":""},{"$f":"IF(SUM(E15:E19)=0,\"\",PERCENTILE(E15:E19,0.95))","v":""},{"$f":"IF(SUM(F15:F19)=0,\"\",AVERAGE(F15:F19))","v":""},null,"Peak",{"$f":"IFERROR(PERCENTILE(IF(Table1[Filter]=I$11,Table1[Peak Turbidity],\"\"),0.95),\"\")","v":""},{"$f":"IFERROR(PERCENTILE(IF(Table1[Filter]=J$11,Table1[Peak Turbidity],\"\"),0.95),\"\")","v":""},{"$f":"IFERROR(PERCENTILE(IF(Table1[Filter]=K$11,Table1[Peak Turbidity],\"\"),0.95),\"\")","v":""},{"$f":"IFERROR(PERCENTILE(IF(Table1[Filter]=L$11,Table1[Peak Turbidity],\"\"),0.95),\"\")","v":""},{"$f":"IFERROR(PERCENTILE(IF(Table1[Filter]=M$11,Table1[Peak Turbidity],\"\"),0.95),\"\")","v":""},{"$f":"IFERROR(PERCENTILE(IF(Table1[Filter]=N$11,Table1[Peak Turbidity],\"\"),0.95),\"\")","v":""},{"$f":"IFERROR(PERCENTILE(IF(Table1[Filter]=O$11,Table1[Peak Turbidity],\"\"),0.95),\"\")","v":""},{"$f":"IFERROR(PERCENTILE(IF(Table1[Filter]=P$11,Table1[Peak Turbidity],\"\"),0.95),\"\")","v":""},{"$f":"IFERROR(PERCENTILE(IF(Table1[Filter]=Q$11,Table1[Peak Turbidity],\"\"),0.95),\"\")","v":""},{"$f":"IFERROR(PERCENTILE(IF(Table1[Filter]=R$11,Table1[Peak Turbidity],\"\"),0.95),\"\")","v":""},{"$f":"IFERROR(PERCENTILE(IF(Table1[Filter]=S$11,Table1[Peak Turbidity],\"\"),0.95),\"\")","v":""},{"$f":"IFERROR(PERCENTILE(IF(Table1[Filter]=T$11,Table1[Peak Turbidity],\"\"),0.95),\"\")","v":""}]
[null,null,null,null,null,null,null,"RTS",{"$f":"IFERROR(PERCENTILE(IF(Table1[Filter]=I$11,Table1[RTS Turbidity],\"\"),0.95),\"\")","v":""},{"$f":"IFERROR(PERCENTILE(IF(Table1[Filter]=J$11,Table1[RTS Turbidity],\"\"),0.95),\"\")","v":""},{"$f":"IFERROR(PERCENTILE(IF(Table1[Filter]=K$11,Table1[RTS Turbidity],\"\"),0.95),\"\")","v":""},{"$f":"IFERROR(PERCENTILE(IF(Table1[Filter]=L$11,Table1[RTS Turbidity],\"\"),0.95),\"\")","v":""},{"$f":"IFERROR(PERCENTILE(IF(Table1[Filter]=M$11,Table1[RTS Turbidity],\"\"),0.95),\"\")","v":""},{"$f":"IFERROR(PERCENTILE(IF(Table1[Filter]=N$11,Table1[RTS Turbidity],\"\"),0.95),\"\")","v":""},{"$f":"IFERROR(PERCENTILE(IF(Table1[Filter]=O$11,Table1[RTS Turbidity],\"\"),0.95),\"\")","v":""},{"$f":"IFERROR(PERCENTILE(IF(Table1[Filter]=P$11,Table1[RTS Turbidity],\"\"),0.95),\"\")","v":""},{"$f":"IFERROR(PERCENTILE(IF(Table1[Filter]=Q$11,Table1[RTS Turbidity],\"\"),0.95),\"\")","v":""},{"$f":"IFERROR(PERCENTILE(IF(Table1[Filter]=R$11,Table1[RTS Turbidity],\"\"),0.95),\"\")","v":""},{"$f":"IFERROR(PERCENTILE(IF(Table1[Filter]=S$11,Table1[RTS Turbidity],\"\"),0.95),\"\")","v":""},{"$f":"IFERROR(PERCENTILE(IF(Table1[Filter]=T$11,Table1[RTS Turbidity],\"\"),0.95),\"\")","v":""}]
[null,"BW Date","Filter","Peak Turbidity","RTS Turbidity","FTW Time (min)"]

{"sheet":"BW Data PT","index":14,"n_rows":5,"n_cols":4,"rows_kept":5,"cut":false,"hidden":true,"merged":[]}
["Filter","(All)",null,"Pivot table for creating charts. Do not enter data here."]
[]
["Row Labels","Average of FTW Time (min)","Max of Peak Turbidity","Max of RTS Turbidity"]
["(blank)"]
["Grand Total"]

{"sheet":"Long Term ","index":15,"n_rows":0,"n_cols":0,"rows_kept":0,"cut":false,"hidden":false,"merged":[]}

{"sheet":"LT Data","index":16,"n_rows":59,"n_cols":10,"rows_kept":59,"cut":false,"hidden":false,"merged":[]}
[null,"The following table is used to manually develop monthly long-term data trends."]
[]
[null,null,"Settled Water (All Sed)",null,null,null,"Filtered Water (All Filters)"]
[null,null,"Turbidity","% Values Meeting Goal",null,null,"Turbidity","% Values Meeting Goal"]
[null,"Month/Yr","95th %","3 NTU","2 NTU","1 NTU","95th %","0.3 NTU","0.2 NTU","0.1 NTU"]
[null,"2018-01-01"]
[null,"2018-02-01"]
[null,"2018-03-01"]
[null,"2018-04-01"]
[null,"2018-05-01"]
[null,"2018-06-01"]
[null,"2018-07-01"]
[null,"2018-08-01"]
[null,"2018-09-01"]
[null,"2018-10-01"]
[null,"2018-11-01"]
[null,"2018-12-01"]
[]
[null,"The area in blue can be copied to the long-term trend table below to develop up to three year trend charts."]
[null,"1. Develop Year 1 data (e.g., 2018) by entering the beginning date of Year 1 on the Annual Data tab "]
[null,"    and clicking the green button to update the reports."]
[null,"2. Copy the summary data for Year 1 from the table above to the Year 1 table below."]
[null,"3. Repeat steps 1 and 2 for Year 2 by changing the \"Enter Begin Date\" on the Annual Data tab to reflect the"]
[null,"    first day of Year 2 and clicking the green button to update the reports, then copying the updated data in "]
[null,"    the blue chart above to Year 2.  Repeat the same steps for Year 3.  "]
[]
[null,null,"Settled Water (All Sed)",null,null,null,"Filtered Water (All Filters)"]
[null,null,"Turbidity","% Values Meeting Goal",null,null,"Turbidity","% Values Meeting Goal"]
[null,"Month/Yr","95th %","3 NTU","2 NTU","1 NTU","95th %","0.3 NTU","0.2 NTU","0.1 NTU"]
[]
[]
[]
[]
[]
["Year 1"]
[]
[]
[]
[]
[]
[]
[]
[]
[]
[]
[]
["Year 2"]
[]
[]
[]
[]
[]
[]
[]
[]
[]
[]
[]
["Year 3"]

{"sheet":"PT setup","index":18,"n_rows":1,"n_cols":2,"rows_kept":1,"cut":false,"hidden":true,"merged":[]}
[null,"Use to screen shots to recreate BW pivot table and charts"]

{"sheet":"AllDataSort","index":21,"n_rows":371,"n_cols":32,"rows_kept":371,"cut":false,"hidden":true,"merged":[]}
[]
[null,null,null,null,null,{"$f":"'Annual Data'!H2","v":"plant name"},null,null,null,"2018-02-01"]
[null,null,null,null,null,"Cell to identify if year is a leap year or not.",null,null,null,{"$f":"IF(MOD(YEAR(J2)/4,1)=0,1,2)","v":2}]
[null,null,null,null,"Data Entry Area",null,null,null,null,null,null,null,null,null,null,null,null,null,null,null,null,null,null,null,null,null,null,null,null,null,null,"Yearly Data Sort Table"]
["FebValue","FebFind",null,null,null,"Raw","Sed 1","Sed 2","Sed 3","Sed 4","Filter 1","Filter 2","Filter 3","Filter 4","Filter 5","Filter 6","Filter 7","Filter 8","Filter 9","Filter 10","Filter 11","Filter 12","Combined"]
[0,{"$f":"IF(MONTH(E6)=2,\"feb\",)","v":0},{"$f":"MONTH(E6)","v":1},1,"2018-01-01","","","","","","","","","","","","","","","","","",""]
[0,0,{"$f":"MONTH(E7)","v":1},1,"2018-01-02","","","","","","","","","","","","","","","","","",""]
[0,0,1,1,"2018-01-03","","","","","","","","","","","","","","","","","",""]
[0,0,1,1,"2018-01-04","","","","","","","","","","","","","","","","","",""]
[0,0,1,1,"2018-01-05","","","","","","","","","","","","","","","","","",""]
[0,0,1,1,"2018-01-06","","","","","","","","","","","","","","","","","",""]
[0,0,1,1,"2018-01-07","","","","","","","","","","","","","","","","","",""]
[0,0,1,1,"2018-01-08","","","","","","","","","","","","","","","","","",""]
[0,0,1,1,"2018-01-09","","","","","","","","","","","","","","","","","",""]
[0,0,1,1,"2018-01-10","","","","","","","","","","","","","","","","","",""]
[0,0,1,1,"2018-01-11","","","","","","","","","","","","","","","","","",""]
[0,0,1,1,"2018-01-12","","","","","","","","","","","","","","","","","",""]
[0,0,1,1,"2018-01-13","","","","","","","","","","","","","","","","","",""]
[0,0,1,1,"2018-01-14","","","","","","","","","","","","","","","","","",""]
[0,0,1,1,"2018-01-15","","","","","","","","","","","","","","","","","",""]
[0,0,1,1,"2018-01-16","","","","","","","","","","","","","","","","","",""]
[0,0,1,1,"2018-01-17","","","","","","","","","","","","","","","","","",""]
[0,0,1,1,"2018-01-18","","","","","","","","","","","","","","","","","",""]
[0,0,1,1,"2018-01-19","","","","","","","","","","","","","","","","","",""]
[0,0,1,1,"2018-01-20","","","","","","","","","","","","","","","","","",""]
[0,0,1,1,"2018-01-21","","","","","","","","","","","","","","","","","",""]
[0,0,1,1,"2018-01-22","","","","","","","","","","","","","","","","","",""]
[0,0,1,1,"2018-01-23","","","","","","","","","","","","","","","","","",""]
[0,0,1,1,"2018-01-24","","","","","","","","","","","","","","","","","",""]
[0,0,1,1,"2018-01-25","","","","","","","","","","","","","","","","","",""]
[0,0,1,1,"2018-01-26","","","","","","","","","","","","","","","","","",""]
[0,0,1,1,"2018-01-27","","","","","","","","","","","","","","","","","",""]
[0,0,1,1,"2018-01-28","","","","","","","","","","","","","","","","","",""]
[0,0,1,1,"2018-01-29","","","","","","","","","","","","","","","","","",""]
[0,0,1,1,"2018-01-30","","","","","","","","","","","","","","","","","",""]
[0,0,1,1,"2018-01-31","","","","","","","","","","","","","","","","","",""]
["feb","feb",2,2,"2018-02-01","","","","","","","","","","","","","","","","","",""]
["feb","feb",2,2,"2018-02-02","","","","","","","","","","","","","","","","","",""]
["feb","feb",2,2,"2018-02-03","","","","","","","","","","","","","","","","","",""]
["feb","feb",2,2,"2018-02-04","","","","","","","","","","","","","","","","","",""]
["feb","feb",2,2,"2018-02-05","","","","","","","","","","","","","","","","","",""]
["feb","feb",2,2,"2018-02-06","","","","","","","","","","","","","","","","","",""]
["feb","feb",2,2,"2018-02-07","","","","","","","","","","","","","","","","","",""]
["feb","feb",2,2,"2018-02-08","","","","","","","","","","","","","","","","","",""]
["feb","feb",2,2,"2018-02-09","","","","","","","","","","","","","","","","","",""]
["feb","feb",2,2,"2018-02-10","","","","","","","","","","","","","","","","","",""]
["feb","feb",2,2,"2018-02-11","","","","","","","","","","","","","","","","","",""]
["feb","feb",2,2,"2018-02-12","","","","","","","","","","","","","","","","","",""]
["feb","feb",2,2,"2018-02-13","","","","","","","","","","","","","","","","","",""]
["feb","feb",2,2,"2018-02-14","","","","","","","","","","","","","","","","","",""]
["feb","feb",2,2,"2018-02-15","","","","","","","","","","","","","","","","","",""]
["feb","feb",2,2,"2018-02-16","","","","","","","","","","","","","","","","","",""]
["feb","feb",2,2,"2018-02-17","","","","","","","","","","","","","","","","","",""]
["feb","feb",2,2,"2018-02-18","","","","","","","","","","","","","","","","","",""]
["feb","feb",2,2,"2018-02-19","","","","","","","","","","","","","","","","","",""]
["feb","feb",2,2,"2018-02-20","","","","","","","","","","","","","","","","","",""]
["feb","feb",2,2,"2018-02-21","","","","","","","","","","","","","","","","","",""]
["feb","feb",2,2,"2018-02-22","","","","","","","","","","","","","","","","","",""]
["feb","feb",2,2,"2018-02-23","","","","","","","","","","","","","","","","","",""]
["feb","feb",2,2,"2018-02-24","","","","","","","","","","","","","","","","","",""]
["feb","feb",2,2,"2018-02-25","","","","","","","","","","","","","","","","","",""]
["feb","feb",2,2,"2018-02-26","","","","","","","","","","","","","","","","","",""]
["feb","feb",2,2,"2018-02-27","","","","","","","","","","","","","","","","","",""]
["feb","feb",2,2,"2018-02-28","","","","","","","","","","","","","","","","","",""]
[0,0,3,3,"2018-03-01","","","","","","","","","","","","","","","","","",""]
[0,0,3,3,"2018-03-02","","","","","","","","","","","","","","","","","",""]
[0,0,3,3,"2018-03-03","","","","","","","","","","","","","","","","","",""]
[0,0,3,3,"2018-03-04","","","","","","","","","","","","","","","","","",""]
[0,0,3,3,"2018-03-05","","","","","","","","","","","","","","","","","",""]
[0,0,3,3,"2018-03-06","","","","","","","","","","","","","","","","","",""]
[0,{"$f":"IF(MONTH(E71)=2,\"feb\",)","v":0},{"$f":"MONTH(E71)","v":3},3,"2018-03-07","","","","","","","","","","","","","","","","","",""]
[0,0,3,3,"2018-03-08","","","","","","","","","","","","","","","","","",""]
[0,0,3,3,"2018-03-09","","","","","","","","","","","","","","","","","",""]
[0,0,3,3,"2018-03-10","","","","","","","","","","","","","","","","","",""]
[0,0,3,3,"2018-03-11","","","","","","","","","","","","","","","","","",""]
[0,0,3,3,"2018-03-12","","","","","","","","","","","","","","","","","",""]
[0,0,3,3,"2018-03-13","","","","","","","","","","","","","","","","","",""]
[0,0,3,3,"2018-03-14","","","","","","","","","","","","","","","","","",""]
[0,0,3,3,"2018-03-15","","","","","","","","","","","","","","","","","",""]
[0,0,3,3,"2018-03-16","","","","","","","","","","","","","","","","","",""]
[0,0,3,3,"2018-03-17","","","","","","","","","","","","","","","","","",""]
[0,0,3,3,"2018-03-18","","","","","","","","","","","","","","","","","",""]
[0,0,3,3,"2018-03-19","","","","","","","","","","","","","","","","","",""]
[0,0,3,3,"2018-03-20","","","","","","","","","","","","","","","","","",""]
[0,0,3,3,"2018-03-21","","","","","","","","","","","","","","","","","",""]
[0,0,3,3,"2018-03-22","","","","","","","","","","","","","","","","","",""]
[0,0,3,3,"2018-03-23","","","","","","","","","","","","","","","","","",""]
[0,0,3,3,"2018-03-24","","","","","","","","","","","","","","","","","",""]
[0,0,3,3,"2018-03-25","","","","","","","","","","","","","","","","","",""]
[0,0,3,3,"2018-03-26","","","","","","","","","","","","","","","","","",""]
[0,0,3,3,"2018-03-27","","","","","","","","","","","","","","","","","",""]
[0,0,3,3,"2018-03-28","","","","","","","","","","","","","","","","","",""]
[0,0,3,3,"2018-03-29","","","","","","","","","","","","","","","","","",""]
[0,0,3,3,"2018-03-30","","","","","","","","","","","","","","","","","",""]
[0,0,3,3,"2018-03-31","","","","","","","","","","","","","","","","","",""]
[0,0,4,4,"2018-04-01","","","","","","","","","","","","","","","","","",""]
[0,0,4,4,"2018-04-02","","","","","","","","","","","","","","","","","",""]
[0,0,4,4,"2018-04-03","","","","","","","","","","","","","","","","","",""]
[0,0,4,4,"2018-04-04","","","","","","","","","","","","","","","","","",""]
[0,0,4,4,"2018-04-05","","","","","","","","","","","","","","","","","",""]
[0,0,4,4,"2018-04-06","","","","","","","","","","","","","","","","","",""]
[0,0,4,4,"2018-04-07","","","","","","","","","","","","","","","","","",""]
[0,0,4,4,"2018-04-08","","","","","","","","","","","","","","","","","",""]
[0,0,4,4,"2018-04-09","","","","","","","","","","","","","","","","","",""]
[0,0,4,4,"2018-04-10","","","","","","","","","","","","","","","","","",""]
[0,0,4,4,"2018-04-11","","","","","","","","","","","","","","","","","",""]
[0,0,4,4,"2018-04-12","","","","","","","","","","","","","","","","","",""]
[0,0,4,4,"2018-04-13","","","","","","","","","","","","","","","","","",""]
[0,0,4,4,"2018-04-14","","","","","","","","","","","","","","","","","",""]
[0,0,4,4,"2018-04-15","","","","","","","","","","","","","","","","","",""]
[0,0,4,4,"2018-04-16","","","","","","","","","","","","","","","","","",""]
[0,0,4,4,"2018-04-17","","","","","","","","","","","","","","","","","",""]
[0,0,4,4,"2018-04-18","","","","","","","","","","","","","","","","","",""]
[0,0,4,4,"2018-04-19","","","","","","","","","","","","","","","","","",""]
[0,0,4,4,"2018-04-20","","","","","","","","","","","","","","","","","",""]
[0,0,4,4,"2018-04-21","","","","","","","","","","","","","","","","","",""]
[0,0,4,4,"2018-04-22","","","","","","","","","","","","","","","","","",""]
[0,0,4,4,"2018-04-23","","","","","","","","","","","","","","","","","",""]
[0,0,4,4,"2018-04-24","","","","","","","","","","","","","","","","","",""]
[0,0,4,4,"2018-04-25","","","","","","","","","","","","","","","","","",""]
[0,0,4,4,"2018-04-26","","","","","","","","","","","","","","","","","",""]
[0,0,4,4,"2018-04-27","","","","","","","","","","","","","","","","","",""]
[0,0,4,4,"2018-04-28","","","","","","","","","","","","","","","","","",""]
[0,0,4,4,"2018-04-29","","","","","","","","","","","","","","","","","",""]
[0,0,4,4,"2018-04-30","","","","","","","","","","","","","","","","","",""]
[0,0,5,5,"2018-05-01","","","","","","","","","","","","","","","","","",""]
[0,0,5,5,"2018-05-02","","","","","","","","","","","","","","","","","",""]
[0,0,5,5,"2018-05-03","","","","","","","","","","","","","","","","","",""]
[0,0,5,5,"2018-05-04","","","","","","","","","","","","","","","","","",""]
[0,0,5,5,"2018-05-05","","","","","","","","","","","","","","","","","",""]
[0,0,5,5,"2018-05-06","","","","","","","","","","","","","","","","","",""]
[0,0,5,5,"2018-05-07","","","","","","","","","","","","","","","","","",""]
[0,0,5,5,"2018-05-08","","","","","","","","","","","","","","","","","",""]
[0,0,5,5,"2018-05-09","","","","","","","","","","","","","","","","","",""]
[0,{"$f":"IF(MONTH(E135)=2,\"feb\",)","v":0},{"$f":"MONTH(E135)","v":5},5,"2018-05-10","","","","","","","","","","","","","","","","","",""]
[0,0,5,5,"2018-05-11","","","","","","","","","","","","","","","","","",""]
[0,0,5,5,"2018-05-12","","","","","","","","","","","","","","","","","",""]
[0,0,5,5,"2018-05-13","","","","","","","","","","","","","","","","","",""]
[0,0,5,5,"2018-05-14","","","","","","","","","","","","","","","","","",""]
[0,0,5,5,"2018-05-15","","","","","","","","","","","","","","","","","",""]
[0,0,5,5,"2018-05-16","","","","","","","","","","","","","","","","","",""]
[0,0,5,5,"2018-05-17","","","","","","","","","","","","","","","","","",""]
[0,0,5,5,"2018-05-18","","","","","","","","","","","","","","","","","",""]
[0,0,5,5,"2018-05-19","","","","","","","","","","","","","","","","","",""]
[0,0,5,5,"2018-05-20","","","","","","","","","","","","","","","","","",""]
[0,0,5,5,"2018-05-21","","","","","","","","","","","","","","","","","",""]
[0,0,5,5,"2018-05-22","","","","","","","","","","","","","","","","","",""]
[0,0,5,5,"2018-05-23","","","","","","","","","","","","","","","","","",""]
[0,0,5,5,"2018-05-24","","","","","","","","","","","","","","","","","",""]
[0,0,5,5,"2018-05-25","","","","","","","","","","","","","","","","","",""]
[0,0,5,5,"2018-05-26","","","","","","","","","","","","","","","","","",""]
[0,0,5,5,"2018-05-27","","","","","","","","","","","","","","","","","",""]
[0,0,5,5,"2018-05-28","","","","","","","","","","","","","","","","","",""]
[0,0,5,5,"2018-05-29","","","","","","","","","","","","","","","","","",""]
[0,0,5,5,"2018-05-30","","","","","","","","","","","","","","","","","",""]
[0,0,5,5,"2018-05-31","","","","","","","","","","","","","","","","","",""]
[0,0,6,6,"2018-06-01","","","","","","","","","","","","","","","","","",""]
[0,0,6,6,"2018-06-02","","","","","","","","","","","","","","","","","",""]
[0,0,6,6,"2018-06-03","","","","","","","","","","","","","","","","","",""]
[0,0,6,6,"2018-06-04","","","","","","","","","","","","","","","","","",""]
[0,0,6,6,"2018-06-05","","","","","","","","","","","","","","","","","",""]
[0,0,6,6,"2018-06-06","","","","","","","","","","","","","","","","","",""]
[0,0,6,6,"2018-06-07","","","","","","","","","","","","","","","","","",""]
[0,0,6,6,"2018-06-08","","","","","","","","","","","","","","","","","",""]
[0,0,6,6,"2018-06-09","","","","","","","","","","","","","","","","","",""]
[0,0,6,6,"2018-06-10","","","","","","","","","","","","","","","","","",""]
[0,0,6,6,"2018-06-11","","","","","","","","","","","","","","","","","",""]
[0,0,6,6,"2018-06-12","","","","","","","","","","","","","","","","","",""]
[0,0,6,6,"2018-06-13","","","","","","","","","","","","","","","","","",""]
[0,0,6,6,"2018-06-14","","","","","","","","","","","","","","","","","",""]
[0,0,6,6,"2018-06-15","","","","","","","","","","","","","","","","","",""]
[0,0,6,6,"2018-06-16","","","","","","","","","","","","","","","","","",""]
[0,0,6,6,"2018-06-17","","","","","","","","","","","","","","","","","",""]
[0,0,6,6,"2018-06-18","","","","","","","","","","","","","","","","","",""]
[0,0,6,6,"2018-06-19","","","","","","","","","","","","","","","","","",""]
[0,0,6,6,"2018-06-20","","","","","","","","","","","","","","","","","",""]
[0,0,6,6,"2018-06-21","","","","","","","","","","","","","","","","","",""]
[0,0,6,6,"2018-06-22","","","","","","","","","","","","","","","","","",""]
[0,0,6,6,"2018-06-23","","","","","","","","","","","","","","","","","",""]
[0,0,6,6,"2018-06-24","","","","","","","","","","","","","","","","","",""]
[0,0,6,6,"2018-06-25","","","","","","","","","","","","","","","","","",""]
[0,0,6,6,"2018-06-26","","","","","","","","","","","","","","","","","",""]
[0,0,6,6,"2018-06-27","","","","","","","","","","","","","","","","","",""]
[0,0,6,6,"2018-06-28","","","","","","","","","","","","","","","","","",""]
[0,0,6,6,"2018-06-29","","","","","","","","","","","","","","","","","",""]
[0,0,6,6,"2018-06-30","","","","","","","","","","","","","","","","","",""]
[0,0,7,7,"2018-07-01","","","","","","","","","","","","","","","","","",""]
[0,0,7,7,"2018-07-02","","","","","","","","","","","","","","","","","",""]
[0,0,7,7,"2018-07-03","","","","","","","","","","","","","","","","","",""]
[0,0,7,7,"2018-07-04","","","","","","","","","","","","","","","","","",""]
[0,0,7,7,"2018-07-05","","","","","","","","","","","","","","","","","",""]
[0,0,7,7,"2018-07-06","","","","","","","","","","","","","","","","","",""]
[0,0,7,7,"2018-07-07","","","","","","","","","","","","","","","","","",""]
[0,0,7,7,"2018-07-08","","","","","","","","","","","","","","","","","",""]
[0,0,7,7,"2018-07-09","","","","","","","","","","","","","","","","","",""]
[0,0,7,7,"2018-07-10","","","","","","","","","","","","","","","","","",""]
[0,0,7,7,"2018-07-11","","","","","","","","","","","","","","","","","",""]
[0,0,7,7,"2018-07-12","","","","","","","","","","","","","","","","","",""]
[0,{"$f":"IF(MONTH(E199)=2,\"feb\",)","v":0},{"$f":"MONTH(E199)","v":7},7,"2018-07-13","","","","","","","","","","","","","","","","","",""]
[0,0,7,7,"2018-07-14","","","","","","","","","","","","","","","","","",""]
[0,0,7,7,"2018-07-15","","","","","","","","","","","","","","","","","",""]
[0,0,7,7,"2018-07-16","","","","","","","","","","","","","","","","","",""]
[0,0,7,7,"2018-07-17","","","","","","","","","","","","","","","","","",""]
[0,0,7,7,"2018-07-18","","","","","","","","","","","","","","","","","",""]
[0,0,7,7,"2018-07-19","","","","","","","","","","","","","","","","","",""]
[0,0,7,7,"2018-07-20","","","","","","","","","","","","","","","","","",""]
[0,0,7,7,"2018-07-21","","","","","","","","","","","","","","","","","",""]
[0,0,7,7,"2018-07-22","","","","","","","","","","","","","","","","","",""]
[0,0,7,7,"2018-07-23","","","","","","","","","","","","","","","","","",""]
[0,0,7,7,"2018-07-24","","","","","","","","","","","","","","","","","",""]
[0,0,7,7,"2018-07-25","","","","","","","","","","","","","","","","","",""]
[0,0,7,7,"2018-07-26","","","","","","","","","","","","","","","","","",""]
[0,0,7,7,"2018-07-27","","","","","","","","","","","","","","","","","",""]
[0,0,7,7,"2018-07-28","","","","","","","","","","","","","","","","","",""]
[0,0,7,7,"2018-07-29","","","","","","","","","","","","","","","","","",""]
[0,0,7,7,"2018-07-30","","","","","","","","","","","","","","","","","",""]
[0,0,7,7,"2018-07-31","","","","","","","","","","","","","","","","","",""]
[0,0,8,8,"2018-08-01","","","","","","","","","","","","","","","","","",""]
[0,0,8,8,"2018-08-02","","","","","","","","","","","","","","","","","",""]
[0,0,8,8,"2018-08-03","","","","","","","","","","","","","","","","","",""]
[0,0,8,8,"2018-08-04","","","","","","","","","","","","","","","","","",""]
[0,0,8,8,"2018-08-05","","","","","","","","","","","","","","","","","",""]
[0,0,8,8,"2018-08-06","","","","","","","","","","","","","","","","","",""]
[0,0,8,8,"2018-08-07","","","","","","","","","","","","","","","","","",""]
[0,0,8,8,"2018-08-08","","","","","","","","","","","","","","","","","",""]
[0,0,8,8,"2018-08-09","","","","","","","","","","","","","","","","","",""]
[0,0,8,8,"2018-08-10","","","","","","","","","","","","","","","","","",""]
[0,0,8,8,"2018-08-11","","","","","","","","","","","","","","","","","",""]
[0,0,8,8,"2018-08-12","","","","","","","","","","","","","","","","","",""]
[0,0,8,8,"2018-08-13","","","","","","","","","","","","","","","","","",""]
[0,0,8,8,"2018-08-14","","","","","","","","","","","","","","","","","",""]
[0,0,8,8,"2018-08-15","","","","","","","","","","","","","","","","","",""]
[0,0,8,8,"2018-08-16","","","","","","","","","","","","","","","","","",""]
[0,0,8,8,"2018-08-17","","","","","","","","","","","","","","","","","",""]
[0,0,8,8,"2018-08-18","","","","","","","","","","","","","","","","","",""]
[0,0,8,8,"2018-08-19","","","","","","","","","","","","","","","","","",""]
[0,0,8,8,"2018-08-20","","","","","","","","","","","","","","","","","",""]
[0,0,8,8,"2018-08-21","","","","","","","","","","","","","","","","","",""]
[0,0,8,8,"2018-08-22","","","","","","","","","","","","","","","","","",""]
[0,0,8,8,"2018-08-23","","","","","","","","","","","","","","","","","",""]
[0,0,8,8,"2018-08-24","","","","","","","","","","","","","","","","","",""]
[0,0,8,8,"2018-08-25","","","","","","","","","","","","","","","","","",""]
[0,0,8,8,"2018-08-26","","","","","","","","","","","","","","","","","",""]
[0,0,8,8,"2018-08-27","","","","","","","","","","","","","","","","","",""]
[0,0,8,8,"2018-08-28","","","","","","","","","","","","","","","","","",""]
[0,0,8,8,"2018-08-29","","","","","","","","","","","","","","","","","",""]
[0,0,8,8,"2018-08-30","","","","","","","","","","","","","","","","","",""]
[0,0,8,8,"2018-08-31","","","","","","","","","","","","","","","","","",""]
[0,0,9,9,"2018-09-01","","","","","","","","","","","","","","","","","",""]
[0,0,9,9,"2018-09-02","","","","","","","","","","","","","","","","","",""]
[0,0,9,9,"2018-09-03","","","","","","","","","","","","","","","","","",""]
[0,0,9,9,"2018-09-04","","","","","","","","","","","","","","","","","",""]
[0,0,9,9,"2018-09-05","","","","","","","","","","","","","","","","","",""]
[0,0,9,9,"2018-09-06","","","","","","","","","","","","","","","","","",""]
[0,0,9,9,"2018-09-07","","","","","","","","","","","","","","","","","",""]
[0,0,9,9,"2018-09-08","","","","","","","","","","","","","","","","","",""]
[0,0,9,9,"2018-09-09","","","","","","","","","","","","","","","","","",""]
[0,0,9,9,"2018-09-10","","","","","","","","","","","","","","","","","",""]
[0,0,9,9,"2018-09-11","","","","","","","","","","","","","","","","","",""]
[0,0,9,9,"2018-09-12","","","","","","","","","","","","","","","","","",""]
[0,0,9,9,"2018-09-13","","","","","","","","","","","","","","","","","",""]
[0,0,9,9,"2018-09-14","","","","","","","","","","","","","","","","","",""]
[0,{"$f":"IF(MONTH(E263)=2,\"feb\",)","v":0},{"$f":"MONTH(E263)","v":9},9,"2018-09-15","","","","","","","","","","","","","","","","","",""]
[0,0,9,9,"2018-09-16","","","","","","","","","","","","","","","","","",""]
[0,0,9,9,"2018-09-17","","","","","","","","","","","","","","","","","",""]
[0,0,9,9,"2018-09-18","","","","","","","","","","","","","","","","","",""]
[0,0,9,9,"2018-09-19","","","","","","","","","","","","","","","","","",""]
[0,0,9,9,"2018-09-20","","","","","","","","","","","","","","","","","",""]
[0,0,9,9,"2018-09-21","","","","","","","","","","","","","","","","","",""]
[0,0,9,9,"2018-09-22","","","","","","","","","","","","","","","","","",""]
[0,0,9,9,"2018-09-23","","","","","","","","","","","","","","","","","",""]
[0,0,9,9,"2018-09-24","","","","","","","","","","","","","","","","","",""]
[0,0,9,9,"2018-09-25","","","","","","","","","","","","","","","","","",""]
[0,0,9,9,"2018-09-26","","","","","","","","","","","","","","","","","",""]
[0,0,9,9,"2018-09-27","","","","","","","","","","","","","","","","","",""]
[0,0,9,9,"2018-09-28","","","","","","","","","","","","","","","","","",""]
[0,0,9,9,"2018-09-29","","","","","","","","","","","","","","","","","",""]
[0,0,9,9,"2018-09-30","","","","","","","","","","","","","","","","","",""]
[0,0,10,10,"2018-10-01","","","","","","","","","","","","","","","","","",""]
[0,0,10,10,"2018-10-02","","","","","","","","","","","","","","","","","",""]
[0,0,10,10,"2018-10-03","","","","","","","","","","","","","","","","","",""]
[0,0,10,10,"2018-10-04","","","","","","","","","","","","","","","","","",""]
[0,0,10,10,"2018-10-05","","","","","","","","","","","","","","","","","",""]
[0,0,10,10,"2018-10-06","","","","","","","","","","","","","","","","","",""]
[0,0,10,10,"2018-10-07","","","","","","","","","","","","","","","","","",""]
[0,0,10,10,"2018-10-08","","","","","","","","","","","","","","","","","",""]
[0,0,10,10,"2018-10-09","","","","","","","","","","","","","","","","","",""]
[0,0,10,10,"2018-10-10","","","","","","","","","","","","","","","","","",""]
[0,0,10,10,"2018-10-11","","","","","","","","","","","","","","","","","",""]
[0,0,10,10,"2018-10-12","","","","","","","","","","","","","","","","","",""]
[0,0,10,10,"2018-10-13","","","","","","","","","","","","","","","","","",""]
[0,0,10,10,"2018-10-14","","","","","","","","","","","","","","","","","",""]
[0,0,10,10,"2018-10-15","","","","","","","","","","","","","","","","","",""]
[0,0,10,10,"2018-10-16","","","","","","","","","","","","","","","","","",""]
[0,0,10,10,"2018-10-17","","","","","","","","","","","","","","","","","",""]
[0,0,10,10,"2018-10-18","","","","","","","","","","","","","","","","","",""]
[0,0,10,10,"2018-10-19","","","","","","","","","","","","","","","","","",""]
[0,0,10,10,"2018-10-20","","","","","","","","","","","","","","","","","",""]
[0,0,10,10,"2018-10-21","","","","","","","","","","","","","","","","","",""]
[0,0,10,10,"2018-10-22","","","","","","","","","","","","","","","","","",""]
[0,0,10,10,"2018-10-23","","","","","","","","","","","","","","","","","",""]
[0,0,10,10,"2018-10-24","","","","","","","","","","","","","","","","","",""]
[0,0,10,10,"2018-10-25","","","","","","","","","","","","","","","","","",""]
[0,0,10,10,"2018-10-26","","","","","","","","","","","","","","","","","",""]
[0,0,10,10,"2018-10-27","","","","","","","","","","","","","","","","","",""]
[0,0,10,10,"2018-10-28","","","","","","","","","","","","","","","","","",""]
[0,0,10,10,"2018-10-29","","","","","","","","","","","","","","","","","",""]
[0,0,10,10,"2018-10-30","","","","","","","","","","","","","","","","","",""]
[0,0,10,10,"2018-10-31","","","","","","","","","","","","","","","","","",""]
[0,0,11,11,"2018-11-01","","","","","","","","","","","","","","","","","",""]
[0,0,11,11,"2018-11-02","","","","","","","","","","","","","","","","","",""]
[0,0,11,11,"2018-11-03","","","","","","","","","","","","","","","","","",""]
[0,0,11,11,"2018-11-04","","","","","","","","","","","","","","","","","",""]
[0,0,11,11,"2018-11-05","","","","","","","","","","","","","","","","","",""]
[0,0,11,11,"2018-11-06","","","","","","","","","","","","","","","","","",""]
[0,0,11,11,"2018-11-07","","","","","","","","","","","","","","","","","",""]
[0,0,11,11,"2018-11-08","","","","","","","","","","","","","","","","","",""]
[0,0,11,11,"2018-11-09","","","","","","","","","","","","","","","","","",""]
[0,0,11,11,"2018-11-10","","","","","","","","","","","","","","","","","",""]
[0,0,11,11,"2018-11-11","","","","","","","","","","","","","","","","","",""]
[0,0,11,11,"2018-11-12","","","","","","","","","","","","","","","","","",""]
[0,0,11,11,"2018-11-13","","","","","","","","","","","","","","","","","",""]
[0,0,11,11,"2018-11-14","","","","","","","","","","","","","","","","","",""]
[0,0,11,11,"2018-11-15","","","","","","","","","","","","","","","","","",""]
[0,0,11,11,"2018-11-16","","","","","","","","","","","","","","","","","",""]
[0,0,11,11,"2018-11-17","","","","","","","","","","","","","","","","","",""]
[0,{"$f":"IF(MONTH(E327)=2,\"feb\",)","v":0},{"$f":"MONTH(E327)","v":11},11,"2018-11-18","","","","","","","","","","","","","","","","","",""]
[0,0,11,11,"2018-11-19","","","","","","","","","","","","","","","","","",""]
[0,0,11,11,"2018-11-20","","","","","","","","","","","","","","","","","",""]
[0,0,11,11,"2018-11-21","","","","","","","","","","","","","","","","","",""]
[0,0,11,11,"2018-11-22","","","","","","","","","","","","","","","","","",""]
[0,0,11,11,"2018-11-23","","","","","","","","","","","","","","","","","",""]
[0,0,11,11,"2018-11-24","","","","","","","","","","","","","","","","","",""]
[0,0,11,11,"2018-11-25","","","","","","","","","","","","","","","","","",""]
[0,0,11,11,"2018-11-26","","","","","","","","","","","","","","","","","",""]
[0,0,11,11,"2018-11-27","","","","","","","","","","","","","","","","","",""]
[0,0,11,11,"2018-11-28","","","","","","","","","","","","","","","","","",""]
[0,0,11,11,"2018-11-29","","","","","","","","","","","","","","","","","",""]
[0,0,11,11,"2018-11-30","","","","","","","","","","","","","","","","","",""]
[0,0,12,12,"2018-12-01","","","","","","","","","","","","","","","","","",""]
[0,0,12,12,"2018-12-02","","","","","","","","","","","","","","","","","",""]
[0,0,12,12,"2018-12-03","","","","","","","","","","","","","","","","","",""]
[0,0,12,12,"2018-12-04","","","","","","","","","","","","","","","","","",""]
[0,0,12,12,"2018-12-05","","","","","","","","","","","","","","","","","",""]
[0,0,12,12,"2018-12-06","","","","","","","","","","","","","","","","","",""]
[0,0,12,12,"2018-12-07","","","","","","","","","","","","","","","","","",""]
[0,0,12,12,"2018-12-08","","","","","","","","","","","","","","","","","",""]
[0,0,12,12,"2018-12-09","","","","","","","","","","","","","","","","","",""]
[0,0,12,12,"2018-12-10","","","","","","","","","","","","","","","","","",""]
[0,0,12,12,"2018-12-11","","","","","","","","","","","","","","","","","",""]
[0,0,12,12,"2018-12-12","","","","","","","","","","","","","","","","","",""]
[0,0,12,12,"2018-12-13","","","","","","","","","","","","","","","","","",""]
[0,0,12,12,"2018-12-14","","","","","","","","","","","","","","","","","",""]
[0,0,12,12,"2018-12-15","","","","","","","","","","","","","","","","","",""]
[0,0,12,12,"2018-12-16","","","","","","","","","","","","","","","","","",""]
[0,0,12,12,"2018-12-17","","","","","","","","","","","","","","","","","",""]
[0,0,12,12,"2018-12-18","","","","","","","","","","","","","","","","","",""]
[0,0,12,12,"2018-12-19","","","","","","","","","","","","","","","","","",""]
[0,0,12,12,"2018-12-20","","","","","","","","","","","","","","","","","",""]
[0,0,12,12,"2018-12-21","","","","","","","","","","","","","","","","","",""]
[0,0,12,12,"2018-12-22","","","","","","","","","","","","","","","","","",""]
[0,0,12,12,"2018-12-23","","","","","","","","","","","","","","","","","",""]
[0,0,12,12,"2018-12-24","","","","","","","","","","","","","","","","","",""]
[0,0,12,12,"2018-12-25","","","","","","","","","","","","","","","","","",""]
[0,0,12,12,"2018-12-26","","","","","","","","","","","","","","","","","",""]
[0,0,12,12,"2018-12-27","","","","","","","","","","","","","","","","","",""]
[0,0,12,12,"2018-12-28","","","","","","","","","","","","","","","","","",""]
[0,0,12,12,"2018-12-29","","","","","","","","","","","","","","","","","",""]
[0,0,12,12,"2018-12-30","","","","","","","","","","","","","","","","","",""]
[0,0,12,12,"2018-12-31","","","","","","","","","","","","","","","","","",""]
[0,0,{"$f":"IF(J3=1,MONTH(E371),13)","v":13},13,"2019-01-01","","","","","","","","","","","","","","","","","",""]

{"sheet":"MonthDist","index":22,"n_rows":43,"n_cols":29,"rows_kept":43,"cut":false,"hidden":true,"merged":[]}
[null,"Settled Turbidity",null,null,null,null,null,null,null,"Filtered Turbidity"]
["MONTH","Sed1 95%","Sed2 95%","Sed3 95%","Sed4 95%","All Sed 95th P","Goal 3","Goal 2","Goal 1","95% #1","95% #2","95% #3","95% #4","95% #5","95% #6","95% #7","95% #8","95% #9","95% #10","95% #11","95% #12","95% Comb","95% All Filters","Goal .3","Goal .2","Goal .1"]
[{"$f":"MonthStart","v":"2018-12-01"},{"$f":"IF(SUM(_Sed1)=0,,PERCENTILE(_Sed1,0.95))","v":0},{"$f":"IF(SUM(_Sed2)=0,,PERCENTILE(_Sed2,0.95))","v":0},{"$f":"IF(SUM(_Sed3)=0,,PERCENTILE(_Sed3,0.95))","v":0},{"$f":"IF(SUM(_Sed4)=0,,PERCENTILE(_Sed4,0.95))","v":0},{"$f":"IF(SUM(SedGoalPercent)=0,,PERCENTILE(SedGoalPercent,0.95))","v":0},{"$f":"IF(SUM(SedGoalPercent)=0,,100*FREQUENCY(SedGoalPercent,3)/COUNT(SedGoalPercent))","v":0},{"$f":"IF(SUM(SedGoalPercent)=0,,100*FREQUENCY(SedGoalPercent,2)/COUNT(SedGoalPercent))","v":0},{"$f":"IF(SUM(SedGoalPercent)=0,,100*FREQUENCY(SedGoalPercent,1)/COUNT(SedGoalPercent))","v":0},{"$f":"IF(SUM(Filter1)=0,,PERCENTILE(Filter1,0.95))","v":0},{"$f":"IF(SUM(Filter2)=0,,PERCENTILE(Filter2,0.95))","v":0},{"$f":"IF(SUM(Filter3)=0,,PERCENTILE(Filter3,0.95))","v":0},{"$f":"IF(SUM(Filter4)=0,,PERCENTILE(Filter4,0.95))","v":0},{"$f":"IF(SUM(Filter5)=0,,PERCENTILE(Filter5,0.95))","v":0},{"$f":"IF(SUM(Filter6)=0,,PERCENTILE(Filter6,0.95))","v":0},{"$f":"IF(SUM(Filter7)=0,,PERCENTILE(Filter7,0.95))","v":0},{"$f":"IF(SUM(Filter8)=0,,PERCENTILE(Filter8,0.95))","v":0},{"$f":"IF(SUM(Filter9)=0,,PERCENTILE(Filter9,0.95))","v":0},{"$f":"IF(SUM(Filter10)=0,,PERCENTILE(Filter10,0.95))","v":0},{"$f":"IF(SUM(Filter11)=0,,PERCENTILE(Filter11,0.95))","v":0},{"$f":"IF(SUM(Filter12)=0,,PERCENTILE(Filter12,0.95))","v":0},{"$f":"IF(SUM(Combined)=0,,PERCENTILE(Combined,0.95))","v":0},{"$f":"IF(SUM(FilterGoalPercent)=0,,PERCENTILE(FilterGoalPercent,0.95))","v":0},{"$f":"IF(SUM(FilterGoalPercent)=0,,100*FREQUENCY(FilterGoalPercent,0.3)/COUNT(FilterGoalPercent))","v":0},{"$f":"IF(SUM(FilterGoalPercent)=0,,100*FREQUENCY(FilterGoalPercent,0.2)/COUNT(FilterGoalPercent))","v":0},{"$f":"IF(SUM(FilterGoalPercent)=0,,100*FREQUENCY(FilterGoalPercent,0.1)/COUNT(FilterGoalPercent))","v":0}]
[]
[]
["Monthly Data"]
[null,"Raw","Sed 1","Sed 2","Sed 3","Sed 4","Filter 1","Filter 2","Filter 3","Filter 4","Filter 5","Filter 6","Filter 7","Filter 8","Filter 9","Filter 10","Filter 11","Filter 12","Combined"]
[]
[]
["2018-12-01","","","","","","","","","","","","","","","","","",""]
["2018-12-02","","","","","","","","","","","","","","","","","",""]
["2018-12-03","","","","","","","","","","","","","","","","","",""]
["2018-12-04","","","","","","","","","","","","","","","","","",""]
["2018-12-05","","","","","","","","","","","","","","","","","",""]
["2018-12-06","","","","","","","","","","","","","","","","","",""]
["2018-12-07","","","","","","","","","","","","","","","","","",""]
["2018-12-08","","","","","","","","","","","","","","","","","",""]
["2018-12-09","","","","","","","","","","","","","","","","","",""]
["2018-12-10","","","","","","","","","","","","","","","","","",""]
["2018-12-11","","","","","","","","","","","","","","","","","",""]
["2018-12-12","","","","","","","","","","","","","","","","","",""]
["2018-12-13","","","","","","","","","","","","","","","","","",""]
["2018-12-14","","","","","","","","","","","","","","","","","",""]
["2018-12-15","","","","","","","","","","","","","","","","","",""]
["2018-12-16","","","","","","","","","","","","","","","","","",""]
["2018-12-17","","","","","","","","","","","","","","","","","",""]
["2018-12-18","","","","","","","","","","","","","","","","","",""]
["2018-12-19","","","","","","","","","","","","","","","","","",""]
["2018-12-20","","","","","","","","","","","","","","","","","",""]
["2018-12-21","","","","","","","","","","","","","","","","","",""]
["2018-12-22","","","","","","","","","","","","","","","","","",""]
["2018-12-23","","","","","","","","","","","","","","","","","",""]
["2018-12-24","","","","","","","","","","","","","","","","","",""]
["2018-12-25","","","","","","","","","","","","","","","","","",""]
["2018-12-26","","","","","","","","","","","","","","","","","",""]
["2018-12-27","","","","","","","","","","","","","","","","","",""]
["2018-12-28","","","","","","","","","","","","","","","","","",""]
["2018-12-29","","","","","","","","","","","","","","","","","",""]
["2018-12-30","","","","","","","","","","","","","","","","","",""]
["2018-12-31","","","","","","","","","","","","","","","","","",""]
[]
[]
[null,null,null,null,null,null,null,null,null,null,null,null,null,null,null,null,null,null,null,null,null,null,null,null,null,null,null,null,{"$f":"COUNT(_CFC1)","v":0}]