{"text_format":"1","workbook":"xlsx","n_sheets":8,"sheets":["all results -->","most recent fuel","emissions","by territory -->","American Samoa","N. Mariana Islands","Guam","Virgin Islands"],"not_rendered":{"charts":0,"images":0,"macros":0,"external_links":0,"defined_names":0,"comments":2,"pivot_tables":0},"unopened":[],"bounds":{"document_bytes":16777216,"sheet_cells":100000,"rows_first":2000,"rows_last":500,"rows_between":2000,"halvings":0,"cell_chars":16384,"cell_head_chars":4096},"cells_cut":0,"cells_raw":0,"read":"whole","date_system":"1900"}

{"sheet":"all results -->","index":0,"n_rows":0,"n_cols":0,"rows_kept":0,"cut":false,"hidden":false,"merged":[]}

{"sheet":"most recent fuel","index":1,"n_rows":60,"n_cols":19,"rows_kept":60,"cut":false,"hidden":false,"merged":[[23,6,23,9],[23,10,23,13],[0,2,0,5],[0,6,0,13],[8,6,8,9],[8,10,8,13],[4,6,4,9],[4,10,4,13],[1,6,1,9],[1,10,1,13]]}
[null,"Location","Unit Details",null,null,null,"Fuel Use"]
["Unit","American Samoa","MW",null,null,null,"turbine",null,null,null,"engine generator"]
[null,null,45,"diesel",176356,"MWh generation",{"$f":"E3*N60/1000/$O$53","v":20322194.707142856},"gallons ULSD"]
[null,null,5,"PV"]
[null,"Northern Mariana Islands","MW",null,null,null,"turbine",null,null,null,"engine generator"]
[null,"Saipan",34.5,"diesel/fuel oil",null,null,1623579,"gallons ULSD"]
[null,"Tinian",3,"diesel/fuel oil",null,null,92815,"gallons ULSD"]
[null,"Rota",2,"diesel/fuel oil",null,null,65386,"gallons ULSD"]
[null,"Guam","MW",null,null,null,"turbine",null,null,null,"engine generator"]
["Cabras 1 ","base",66,"diesel/fuel oil",null,null,1670.75,"gallons ULSD",545881.36,"gallons fuel oil"]
["Cabras 2","base",66,"diesel/fuel oil",null,null,1738.95,"gallons ULSD",267047.55,"gallons fuel oil"]
["MEC 8 (IPP)","base",44.2,"diesel",null,null,{"$f":"437455.05-K12","v":0},"gallons ULSD",null,null,437455.05,"gallons ULSD"]
["MEC 9 (IPP)","base",44.2,"diesel",null,null,{"$f":"443401.94-K13","v":0},"gallons ULSD",null,null,443401.94,"gallons ULSD"]
["MDI  Dsl","peaking",10.6,"diesel",null,null,null,null,null,null,10569.4,"gallons ULSD"]
["Dededo CT #1","peaking",23,"diesel",null,null,153817.51,"gallons ULSD"]
["Dededo CT #2","peaking",22,"diesel",null,null,152640.32000000001,"gallons ULSD"]
["Macheche  CT ","peaking",22,"diesel",null,null,105297.81,"gallons ULSD"]
["Yigo  CT ","peaking",22,"diesel",null,null,87926.31,"gallons ULSD"]
["Talofofo","peaking",8.8000000000000007,"diesel",null,null,null,null,null,null,10473.18,"gallons ULSD"]
["Yigo Diesels","peaking",40,"diesel",null,null,null,null,null,null,110480.53,"gallons ULSD"]
["Tenjo","peaking",{"$f":"4.4*6","v":26.400000000000002},"diesel",null,null,null,null,null,null,28184.660000000003,"gallons ULSD"]
["TEMES (IPP) (Piti 7)","peaking",40,"diesel",null,null,341849.78000000009,"gallons ULSD"]
[null,"other",null,null,null,null,{"$f":"5582-K23","v":0.36999999999989086},"gallons ULSD",null,null,5581.63,"gallons ULSD"]
[null,"Virgin Islands","MW",null,null,null,"turbine",null,null,null,"engine generator"]
[14,"St. Thomas",15.1,"diesel","turbine","215 MWh diesel",{"$f":"214.5*18040/1000/$O$53","v":27639.857142857141},"gallons ULSD",null,null,null,null,null,null,"using 2022 values - most recent, and electricity split for some units is for 2022"]
[15,null,26.6,"LPG & diesel","turbine","4623 MWh diesel, 87111 LPG",{"$f":"4622.8*22767/1000/$O$53","v":751766.34},"gallons ULSD",{"$f":"87111.2*17388/1000/$N$53","v":16553984.104918031},"gallons LPG",null,null,null,null,387793.434637381,"barrels diesel, 2022",null,null,{"$f":"O26*42","v":16287324.254770001}]
[23,null,42,"diesel","turbine","89461 MWh diesel",{"$f":"89461.3*14688/1000/$O$53","v":9385768.3885714281},"gallons ULSD",null,null,null,null,null,null,748634.99433106533,"barrels LPG, 2022",null,null,{"$f":"O27*42","v":31442669.761904743}]
[27,null,26,"diesel","turbine","68269 MWh diesel",{"$f":"68269*12388/1000/$O$53","v":6040831.228571428},"gallons ULSD"]
["Wartsila 1",null,7,"LPG","engine","48871 MWh LPG",null,null,null,null,null,null,{"$f":"48871*9552/1000/$N$53","v":5101811.9344262294},"gallons LPG"]
["Wartsila 2",null,7,"LPG","engine","48434 MWh LPG",null,null,null,null,null,null,{"$f":"48434.3*9552/1000/$N$53","v":5056223.3180327872},"gallons LPG"]
["Wartsila 3",null,7,"LPG","engine","44425 MWh LPG",null,null,null,null,null,null,{"$f":"44425.1*9552/1000/$N$53","v":4637689.1278688526},"gallons LPG"]
["Wartsila 4",null,9,"LPG & diesel","engine"]
["Wartsila 5",null,9,"LPG & diesel","engine"]
["Wartsila 6",null,9,"LPG & diesel","engine"]
["Wartsila 7",null,9,"LPG & diesel","engine"]
[17,"St. Croix",21.9,"LPG & diesel","turbine","6529 MWh diesel, 20003 LPG",{"$f":"6529.3*19130/1000/$O$53","v":892182.20714285714},"gallons ULSD",{"$f":"20002.7*17076/1000/$N$53","v":3732962.8983606556},"gallons LPG",null,null,null,null,105667.69442520001,"barrels diesel, 2022",null,null,{"$f":"O36*42","v":4438043.1658584001}]
[19,null,24.5,"diesel","turbine","8006 MWh diesel",{"$f":"8006.2*21742/1000/$O$53","v":1243362.8599999999},"gallons ULSD",null,null,null,null,null,null,919263.04761904757,"barrels LPG, 2022",null,null,{"$f":"O37*42","v":38609048}]
[20,null,24.5,"LPG & diesel","turbine","16976 MWh diesel, 20003 LPG",{"$f":"16975.9*19138/1000/$O$53","v":2320605.5300000003},"gallons ULSD",{"$f":"83100.6*20493/1000/$N$53","v":18611809.790163938},"gallons LPG"]
["Aggreko",null,{"$f":"18*1.1","v":19.8},"LPG","engine","141175 MWh LPG",null,null,null,null,null,null,{"$f":"141174.8*10515/1000/$N$53","v":16223530.295081964},"gallons LPG"]
[null,null,null,null,null,null,"Gal"]
[null,null,null,null,null,null,{"$f":"SUM(G25:G35)","v":16206005.814285712},null,{"$f":"SUM(I25:I35,M25:M35)","v":31349708.485245898}]
[null,null,null,null,null,null,{"$f":"SUM(G36:G39)","v":4456150.5971428575},null,{"$f":"SUM(I36:I39,M36:M39)","v":38568302.983606555}]
[null,null,null,null,null,null,null,null,null,null,null,null,"Notes: "]
[null,null,null,null,null,null,null,null,null,null,null,null,"AP-42 chapter 3 (all appears to be internal combustion) only has diesel or gasoline engines, no diesel turbines or LPG engine/turbine"]
[null,null,null,null,null,null,null,null,null,null,null,null,null,"chapter 1 (external combustion) has propane boilers -> may not represent turbine correctly"]
[null,null,null,null,null,null,null,null,null,null,null,null,"technology type not stated, using assumption"]
[null,null,null,null,null,null,null,null,null,null,null,null,"internal combustion generators (or combustion turbine)"]
[null,null,null,null,null,null,null,null,null,null,null,null,"internal combustion uses engines and turbines, external combustion is boilers and heaters"]
[null,null,null,null,null,null,null,null,null,null,null,null,null,"external can be steam/electric generating plants"]
[null,null,null,null,null,null,null,null,null,null,null,null,"not commissioned yet, starting sometime 2023"]
[null,null,null,null,null,null,null,null,null,null,null,null,null,"LPG","No. 2 diesel","CNG"]
[null,null,null,null,null,null,null,null,null,null,null,null,"HHV (Btu/gallon)",91500,140000,138700,"https://www.bts.gov/content/energy-consumption-mode-transportation"]
[null,null,null,null,null,null,null,null,null,null,null,null,"MMBtu/gal",{"$f":"N52/1000000","v":9.1499999999999998E-2},{"$f":"O52/1000000","v":0.14000000000000001},{"$f":"P52/1000000","v":0.13869999999999999}]
[null,null,null,null,null,null,null,null,null,null,null,null,"----------------------------------------------------------------"]
[null,null,null,null,null,null,null,null,null,null,null,null,"Weighted average diesel turbine, higher for closer MW size"]
[null,null,null,null,null,null,null,null,null,null,null,null,"MW","heat rate","close to American Samoa size"]
[null,null,null,null,null,null,null,null,null,null,null,null,26.6,22767,1]
[null,null,null,null,null,null,null,null,null,null,null,null,42,14688,2]
[null,null,null,null,null,null,null,null,null,null,null,null,26,12388,1]
[null,null,null,null,null,null,null,null,null,null,null,null,null,{"$f":"SUMPRODUCT(N57:N59,O57:O59)/SUM(O57:O59)","v":16132.75}]

{"sheet":"emissions","index":2,"n_rows":44,"n_cols":27,"rows_kept":44,"cut":false,"hidden":false,"merged":[[0,20,0,26]]}
[null,"AP-42 Chapter 3.3",null,null,"AP-42 Chapter 3.4",null,null,"AP-42 Chapter 3.1",null,null,"South Coast AQMD",null,"AP-42 Chapter 3.1",null,null,null,null,null,null,null,"tons/year pollutant emissions (uncontrolled)"]
[null,"<600 hp, diesel ind. Engine",null,null,"> 600 hp, diesel ind. Engine",null,null,"diesel turbine",null,null,"LPG turbine/engine",null,"natural gas turbine",null,null,null,"American Samoa","MW","fuel","tech","NOx","CO","SO2","PM*","PM10","PM2.5","VOC/TOC"]
[null,"PTE","controlled",null,"PTE","controlled",null,"PTE","controlled",null,null,null,"PTE","controlled",null,null,null,45,"diesel","turbine",{"$f":"$H$14*('most recent fuel'!$G3/1000)/2000","v":1251.8471939599999},{"$f":"$H$15*('most recent fuel'!$G3/1000)/2000","v":4.69442697735},{"$f":"$H$16*('most recent fuel'!$G3/1000)/2000","v":2.1551687486924997},{"$f":"$H$17*('most recent fuel'!$G3/1000)/2000","v":17.070643554},{"$f":"$H$17*('most recent fuel'!$G3/1000)/2000","v":17.070643554},{"$f":"$H$17*('most recent fuel'!$G3/1000)/2000","v":17.070643554},{"$f":"$H$20*('most recent fuel'!$G3/1000)/2000","v":0.58324698809499986}]
[null,"lb/MMBtu",null,null,"lb/MMBtu",null,null,"lb/MMBtu",null,null,"lb/1000 gal",null,"lb/MMBtu",null,null,null,"Northern Mariana Islands"]
["NOx",4.41,null,null,3.2,1.9,null,0.88,0.24,null,139,null,0.32,0.13,null,null,"Saipan",34.5,"diesel/fuel oil","turbine",{"$f":"($H$14*('most recent fuel'!$G6/1000)+$K$14*('most recent fuel'!$I6/1000))/2000","v":100.01246640000001},{"$f":"($H$15*('most recent fuel'!$G6/1000)+$K$15*('most recent fuel'!$I6/1000))/2000","v":0.37504674900000001},{"$f":"($H$16*('most recent fuel'!$G6/1000)+$K$16*('most recent fuel'!$I6/1000))/2000","v":0.17218055294999998},{"$f":"($H$17*('most recent fuel'!$G6/1000)+$K$17*('most recent fuel'!$I6/1000))/2000","v":1.3638063599999999},{"$f":"($H$17*('most recent fuel'!$G6/1000)+$K$17*('most recent fuel'!$I6/1000))/2000","v":1.3638063599999999},{"$f":"($H$17*('most recent fuel'!$G6/1000)+$K$17*('most recent fuel'!$I6/1000))/2000","v":1.3638063599999999},{"$f":"($H$20*('most recent fuel'!$G6/1000)+$K$20*('most recent fuel'!$I6/1000))/2000","v":4.65967173E-2}]
["CO",0.95,null,null,0.85,null,null,3.3E-3,7.5999999999999998E-2,null,129,null,8.2000000000000003E-2,0.03,null,null,"Tinian",3,"diesel/fuel oil","turbine",{"$f":"($H$14*('most recent fuel'!$G7/1000)+$K$14*('most recent fuel'!$I7/1000))/2000","v":5.7174039999999993},{"$f":"($H$15*('most recent fuel'!$G7/1000)+$K$15*('most recent fuel'!$I7/1000))/2000","v":2.1440265E-2},{"$f":"($H$16*('most recent fuel'!$G7/1000)+$K$16*('most recent fuel'!$I7/1000))/2000","v":9.8430307500000005E-3},{"$f":"($H$17*('most recent fuel'!$G7/1000)+$K$17*('most recent fuel'!$I7/1000))/2000","v":7.7964599999999995E-2},{"$f":"($H$17*('most recent fuel'!$G7/1000)+$K$17*('most recent fuel'!$I7/1000))/2000","v":7.7964599999999995E-2},{"$f":"($H$17*('most recent fuel'!$G7/1000)+$K$17*('most recent fuel'!$I7/1000))/2000","v":7.7964599999999995E-2},{"$f":"($H$20*('most recent fuel'!$G7/1000)+$K$20*('most recent fuel'!$I7/1000))/2000","v":2.6637904999999998E-3}]
["SO2",0.28999999999999998,null,null,{"$f":"1.01*B31","v":1.5150000000000001E-3},null,null,{"$f":"1.01*B31","v":1.5150000000000001E-3},null,null,0.35,null,3.3999999999999998E-3,null,null,null,"Rota",2,"diesel/fuel oil","turbine",{"$f":"($H$14*('most recent fuel'!$G8/1000)+$K$14*('most recent fuel'!$I8/1000))/2000","v":4.0277776000000003},{"$f":"($H$15*('most recent fuel'!$G8/1000)+$K$15*('most recent fuel'!$I8/1000))/2000","v":1.5104165999999999E-2},{"$f":"($H$16*('most recent fuel'!$G8/1000)+$K$16*('most recent fuel'!$I8/1000))/2000","v":6.9341853000000004E-3},{"$f":"($H$17*('most recent fuel'!$G8/1000)+$K$17*('most recent fuel'!$I8/1000))/2000","v":5.4924239999999999E-2},{"$f":"($H$17*('most recent fuel'!$G8/1000)+$K$17*('most recent fuel'!$I8/1000))/2000","v":5.4924239999999999E-2},{"$f":"($H$17*('most recent fuel'!$G8/1000)+$K$17*('most recent fuel'!$I8/1000))/2000","v":5.4924239999999999E-2},{"$f":"($H$20*('most recent fuel'!$G8/1000)+$K$20*('most recent fuel'!$I8/1000))/2000","v":1.8765781999999999E-3}]
["PM*",0.31,null,null,6.2E-2,null,null,1.2E-2,null,null,5,null,6.6E-3,null,null,null,"Guam"]
["PM10","--",null,null,4.9599999999999998E-2,null,null,null,null,null,null,null,null,null,null,"Cabras 1 ","base",66,"diesel/fuel oil","turbine",{"$f":"($H$14*('most recent fuel'!$G10/1000+'most recent fuel'!$I10/1000))/2000","v":33.729209976},{"$f":"($H$15*('most recent fuel'!$G10/1000+'most recent fuel'!$I10/1000))/2000","v":0.12648453741000001},{"$f":"($H$16*('most recent fuel'!$G10/1000+'most recent fuel'!$I10/1000))/2000","v":5.8067901265499995E-2},{"$f":"($H$17*('most recent fuel'!$G10/1000+'most recent fuel'!$I10/1000))/2000","v":0.45994377239999995},{"$f":"($H$17*('most recent fuel'!$G10/1000+'most recent fuel'!$I10/1000))/2000","v":0.45994377239999995},{"$f":"($H$17*('most recent fuel'!$G10/1000+'most recent fuel'!$I10/1000))/2000","v":0.45994377239999995},{"$f":"($H$20*('most recent fuel'!$G10/1000+'most recent fuel'!$I10/1000))/2000","v":1.5714745557E-2}]
["PM2.5","--",null,null,4.7899999999999998E-2,null,null,null,null,null,null,null,null,null,null,"Cabras 2","base",66,"diesel/fuel oil","turbine",{"$f":"($H$14*('most recent fuel'!$G11/1000+'most recent fuel'!$I11/1000))/2000","v":16.557248399999999},{"$f":"($H$15*('most recent fuel'!$G11/1000+'most recent fuel'!$I11/1000))/2000","v":6.20896815E-2},{"$f":"($H$16*('most recent fuel'!$G11/1000+'most recent fuel'!$I11/1000))/2000","v":2.8504808324999999E-2},{"$f":"($H$17*('most recent fuel'!$G11/1000+'most recent fuel'!$I11/1000))/2000","v":0.22578065999999999},{"$f":"($H$17*('most recent fuel'!$G11/1000+'most recent fuel'!$I11/1000))/2000","v":0.22578065999999999},{"$f":"($H$17*('most recent fuel'!$G11/1000+'most recent fuel'!$I11/1000))/2000","v":0.22578065999999999},{"$f":"($H$20*('most recent fuel'!$G11/1000+'most recent fuel'!$I11/1000))/2000","v":7.7141725499999996E-3}]
["VOC/TOC",0.36,null,null,{"$f":"0.09*91%","v":8.1900000000000001E-2},null,null,4.0999999999999999E-4,null,null,83,null,2.0999999999999999E-3,null,null,"MEC 8 (IPP)","base",44.2,"diesel","engine",{"$f":"($E$14*('most recent fuel'!$K12/1000)+$K$14*('most recent fuel'!$M12/1000))/2000","v":97.989931199999987},{"$f":"($E$15*('most recent fuel'!$K12/1000)+$K$15*('most recent fuel'!$M12/1000))/2000","v":26.028575474999997},{"$f":"($E$16*('most recent fuel'!$K12/1000)+$K$16*('most recent fuel'!$M12/1000))/2000","v":4.6392108052499999E-2},{"$f":"($E$17*('most recent fuel'!$K12/1000)+$K$17*('most recent fuel'!$M12/1000))/2000","v":1.8985549169999998},{"$f":"($E$18*('most recent fuel'!$K12/1000)+$K$17*('most recent fuel'!$M12/1000))/2000","v":1.5188439335999999},{"$f":"($E$19*('most recent fuel'!$K12/1000)+$K$17*('most recent fuel'!$M12/1000))/2000","v":1.4667867826500001},{"$f":"($E$20*('most recent fuel'!$K12/1000)+$K$20*('most recent fuel'!$M12/1000))/2000","v":2.5079298016499996}]
[null,null,null,null,null,null,null,null,null,null,null,null,null,null,null,"MEC 9 (IPP)","base",44.2,"diesel","engine",{"$f":"($E$14*('most recent fuel'!$K13/1000)+$K$14*('most recent fuel'!$M13/1000))/2000","v":99.322034560000006},{"$f":"($E$15*('most recent fuel'!$K13/1000)+$K$15*('most recent fuel'!$M13/1000))/2000","v":26.382415430000002},{"$f":"($E$16*('most recent fuel'!$K13/1000)+$K$16*('most recent fuel'!$M13/1000))/2000","v":4.7022775737000005E-2},{"$f":"($E$17*('most recent fuel'!$K13/1000)+$K$17*('most recent fuel'!$M13/1000))/2000","v":1.9243644196},{"$f":"($E$18*('most recent fuel'!$K13/1000)+$K$17*('most recent fuel'!$M13/1000))/2000","v":1.5394915356800001},{"$f":"($E$19*('most recent fuel'!$K13/1000)+$K$17*('most recent fuel'!$M13/1000))/2000","v":1.4867267048200001},{"$f":"($E$20*('most recent fuel'!$K13/1000)+$K$20*('most recent fuel'!$M13/1000))/2000","v":2.5420233220199999}]
[null,"N/A",null,null,"lb/1000 gal",null,null,"lb/1000 gal",null,null,"lb/1000 gal",null,"lb/1000 gal",null,null,"MDI  Dsl","peaking",10.6,"diesel","engine",{"$f":"($E$14*('most recent fuel'!$K14/1000)+$K$14*('most recent fuel'!$M14/1000))/2000","v":2.3675456000000001},{"$f":"($E$15*('most recent fuel'!$K14/1000)+$K$15*('most recent fuel'!$M14/1000))/2000","v":0.62887929999999992},{"$f":"($E$16*('most recent fuel'!$K14/1000)+$K$16*('most recent fuel'!$M14/1000))/2000","v":1.1208848699999999E-3},{"$f":"($E$17*('most recent fuel'!$K14/1000)+$K$17*('most recent fuel'!$M14/1000))/2000","v":4.5871195999999996E-2},{"$f":"($E$18*('most recent fuel'!$K14/1000)+$K$17*('most recent fuel'!$M14/1000))/2000","v":3.66969568E-2},{"$f":"($E$19*('most recent fuel'!$K14/1000)+$K$17*('most recent fuel'!$M14/1000))/2000","v":3.5439198200000001E-2},{"$f":"($E$20*('most recent fuel'!$K14/1000)+$K$20*('most recent fuel'!$M14/1000))/2000","v":6.059437019999999E-2}]
["NOx",null,null,null,{"$f":"E5*'most recent fuel'!$O$52/1000","v":448},{"$f":"F5*'most recent fuel'!$O$52/1000","v":266},null,{"$f":"H5*'most recent fuel'!$O$52/1000","v":123.2},{"$f":"I5*'most recent fuel'!$O$52/1000","v":33.6},null,{"$f":"K5","v":139},null,{"$f":"M5*'most recent fuel'!$P$52/1000","v":44.384},{"$f":"N5*'most recent fuel'!$P$52/1000","v":18.030999999999999},null,"Dededo CT #1","peaking",23,"diesel","turbine",{"$f":"($H$14*('most recent fuel'!$G15/1000)+$K$14*('most recent fuel'!$I15/1000))/2000","v":9.4751586159999999},{"$f":"($H$15*('most recent fuel'!$G15/1000)+$K$15*('most recent fuel'!$I15/1000))/2000","v":3.5531844810000004E-2},{"$f":"($H$16*('most recent fuel'!$G15/1000)+$K$16*('most recent fuel'!$I15/1000))/2000","v":1.6312346935499999E-2},{"$f":"($H$17*('most recent fuel'!$G15/1000)+$K$17*('most recent fuel'!$I15/1000))/2000","v":0.12920670840000001},{"$f":"($H$17*('most recent fuel'!$G15/1000)+$K$17*('most recent fuel'!$I15/1000))/2000","v":0.12920670840000001},{"$f":"($H$17*('most recent fuel'!$G15/1000)+$K$17*('most recent fuel'!$I15/1000))/2000","v":0.12920670840000001},{"$f":"($H$20*('most recent fuel'!$G15/1000)+$K$20*('most recent fuel'!$I15/1000))/2000","v":4.4145625370000004E-3}]
["CO",null,null,null,{"$f":"E6*'most recent fuel'!$O$52/1000","v":119},null,null,{"$f":"H6*'most recent fuel'!$O$52/1000","v":0.46200000000000002},{"$f":"I6*'most recent fuel'!$O$52/1000","v":10.64},null,129,null,{"$f":"M6*'most recent fuel'!$P$52/1000","v":11.3734},{"$f":"N6*'most recent fuel'!$P$52/1000","v":4.1609999999999996},null,"Dededo CT #2","peaking",22,"diesel","turbine",{"$f":"($H$14*('most recent fuel'!$G16/1000)+$K$14*('most recent fuel'!$I16/1000))/2000","v":9.4026437120000015},{"$f":"($H$15*('most recent fuel'!$G16/1000)+$K$15*('most recent fuel'!$I16/1000))/2000","v":3.5259913920000004E-2},{"$f":"($H$16*('most recent fuel'!$G16/1000)+$K$16*('most recent fuel'!$I16/1000))/2000","v":1.6187505936000001E-2},{"$f":"($H$17*('most recent fuel'!$G16/1000)+$K$17*('most recent fuel'!$I16/1000))/2000","v":0.1282178688},{"$f":"($H$17*('most recent fuel'!$G16/1000)+$K$17*('most recent fuel'!$I16/1000))/2000","v":0.1282178688},{"$f":"($H$17*('most recent fuel'!$G16/1000)+$K$17*('most recent fuel'!$I16/1000))/2000","v":0.1282178688},{"$f":"($H$20*('most recent fuel'!$G16/1000)+$K$20*('most recent fuel'!$I16/1000))/2000","v":4.3807771839999999E-3}]
["SO2",null,null,null,{"$f":"E7*'most recent fuel'!$O$52/1000","v":0.21210000000000001},null,null,{"$f":"H7*'most recent fuel'!$O$52/1000","v":0.21210000000000001},null,null,0.35,null,{"$f":"M7*'most recent fuel'!$P$52/1000","v":0.47158},null,null,"Macheche  CT ","peaking",22,"diesel","turbine",{"$f":"($H$14*('most recent fuel'!$G17/1000)+$K$14*('most recent fuel'!$I17/1000))/2000","v":6.486345096},{"$f":"($H$15*('most recent fuel'!$G17/1000)+$K$15*('most recent fuel'!$I17/1000))/2000","v":2.4323794110000001E-2},{"$f":"($H$16*('most recent fuel'!$G17/1000)+$K$16*('most recent fuel'!$I17/1000))/2000","v":1.11668327505E-2},{"$f":"($H$17*('most recent fuel'!$G17/1000)+$K$17*('most recent fuel'!$I17/1000))/2000","v":8.8450160400000005E-2},{"$f":"($H$17*('most recent fuel'!$G17/1000)+$K$17*('most recent fuel'!$I17/1000))/2000","v":8.8450160400000005E-2},{"$f":"($H$17*('most recent fuel'!$G17/1000)+$K$17*('most recent fuel'!$I17/1000))/2000","v":8.8450160400000005E-2},{"$f":"($H$20*('most recent fuel'!$G17/1000)+$K$20*('most recent fuel'!$I17/1000))/2000","v":3.0220471469999998E-3}]
["PM*",null,null,null,{"$f":"E8*'most recent fuel'!$O$52/1000","v":8.68},null,null,{"$f":"H8*'most recent fuel'!$O$52/1000","v":1.68},null,null,5,null,{"$f":"M8*'most recent fuel'!$P$52/1000","v":0.91542000000000001},null,null,"Yigo  CT ","peaking",22,"diesel","turbine",{"$f":"($H$14*('most recent fuel'!$G18/1000)+$K$14*('most recent fuel'!$I18/1000))/2000","v":5.4162606960000002},{"$f":"($H$15*('most recent fuel'!$G18/1000)+$K$15*('most recent fuel'!$I18/1000))/2000","v":2.0310977610000003E-2},{"$f":"($H$16*('most recent fuel'!$G18/1000)+$K$16*('most recent fuel'!$I18/1000))/2000","v":9.3245851755000015E-3},{"$f":"($H$17*('most recent fuel'!$G18/1000)+$K$17*('most recent fuel'!$I18/1000))/2000","v":7.3858100400000001E-2},{"$f":"($H$17*('most recent fuel'!$G18/1000)+$K$17*('most recent fuel'!$I18/1000))/2000","v":7.3858100400000001E-2},{"$f":"($H$17*('most recent fuel'!$G18/1000)+$K$17*('most recent fuel'!$I18/1000))/2000","v":7.3858100400000001E-2},{"$f":"($H$20*('most recent fuel'!$G18/1000)+$K$20*('most recent fuel'!$I18/1000))/2000","v":2.5234850969999998E-3}]
["PM10",null,null,null,{"$f":"E9*'most recent fuel'!$O$52/1000","v":6.944},null,null,{"$f":"H9*'most recent fuel'!$O$52/1000","v":0},null,null,0,null,{"$f":"M9*'most recent fuel'!$P$52/1000","v":0},null,null,"Talofofo","peaking",8.8000000000000007,"diesel","engine",{"$f":"($E$14*('most recent fuel'!$K19/1000)+$K$14*('most recent fuel'!$M19/1000))/2000","v":2.3459923200000001},{"$f":"($E$15*('most recent fuel'!$K19/1000)+$K$15*('most recent fuel'!$M19/1000))/2000","v":0.62315421000000004},{"$f":"($E$16*('most recent fuel'!$K19/1000)+$K$16*('most recent fuel'!$M19/1000))/2000","v":1.1106807390000003E-3},{"$f":"($E$17*('most recent fuel'!$K19/1000)+$K$17*('most recent fuel'!$M19/1000))/2000","v":4.5453601199999999E-2},{"$f":"($E$18*('most recent fuel'!$K19/1000)+$K$17*('most recent fuel'!$M19/1000))/2000","v":3.6362880960000003E-2},{"$f":"($E$19*('most recent fuel'!$K19/1000)+$K$17*('most recent fuel'!$M19/1000))/2000","v":3.5116572540000009E-2},{"$f":"($E$20*('most recent fuel'!$K19/1000)+$K$20*('most recent fuel'!$M19/1000))/2000","v":6.0042740939999999E-2}]
["PM2.5",null,null,null,{"$f":"E10*'most recent fuel'!$O$52/1000","v":6.7060000000000004},null,null,{"$f":"H10*'most recent fuel'!$O$52/1000","v":0},null,null,0,null,{"$f":"M10*'most recent fuel'!$P$52/1000","v":0},null,null,"Yigo Diesels","peaking",40,"diesel","engine",{"$f":"($E$14*('most recent fuel'!$K20/1000)+$K$14*('most recent fuel'!$M20/1000))/2000","v":24.747638719999998},{"$f":"($E$15*('most recent fuel'!$K20/1000)+$K$15*('most recent fuel'!$M20/1000))/2000","v":6.5735915350000003},{"$f":"($E$16*('most recent fuel'!$K20/1000)+$K$16*('most recent fuel'!$M20/1000))/2000","v":1.1716460206500001E-2},{"$f":"($E$17*('most recent fuel'!$K20/1000)+$K$17*('most recent fuel'!$M20/1000))/2000","v":0.47948550019999997},{"$f":"($E$18*('most recent fuel'!$K20/1000)+$K$17*('most recent fuel'!$M20/1000))/2000","v":0.38358840016000001},{"$f":"($E$19*('most recent fuel'!$K20/1000)+$K$17*('most recent fuel'!$M20/1000))/2000","v":0.37044121709},{"$f":"($E$20*('most recent fuel'!$K20/1000)+$K$20*('most recent fuel'!$M20/1000))/2000","v":0.63338487849000003}]
["VOC/TOC",null,null,null,{"$f":"E11*'most recent fuel'!$O$52/1000","v":11.465999999999999},null,null,{"$f":"H11*'most recent fuel'!$O$52/1000","v":5.74E-2},null,null,83,null,{"$f":"M11*'most recent fuel'!$P$52/1000","v":0.29126999999999997},null,null,"Tenjo","peaking",{"$f":"4.4*6","v":26.400000000000002},"diesel","engine",{"$f":"($E$14*('most recent fuel'!$K21/1000)+$K$14*('most recent fuel'!$M21/1000))/2000","v":6.3133638400000009},{"$f":"($E$15*('most recent fuel'!$K21/1000)+$K$15*('most recent fuel'!$M21/1000))/2000","v":1.6769872700000004},{"$f":"($E$16*('most recent fuel'!$K21/1000)+$K$16*('most recent fuel'!$M21/1000))/2000","v":2.9889831930000007E-3},{"$f":"($E$17*('most recent fuel'!$K21/1000)+$K$17*('most recent fuel'!$M21/1000))/2000","v":0.12232142440000002},{"$f":"($E$18*('most recent fuel'!$K21/1000)+$K$17*('most recent fuel'!$M21/1000))/2000","v":9.7857139520000025E-2},{"$f":"($E$19*('most recent fuel'!$K21/1000)+$K$17*('most recent fuel'!$M21/1000))/2000","v":9.4503164980000026E-2},{"$f":"($E$20*('most recent fuel'!$K21/1000)+$K$20*('most recent fuel'!$M21/1000))/2000","v":0.16158265578}]
[null,null,null,null,null,null,null,null,null,null,null,null,null,null,null,"TEMES (IPP) (Piti 7)","peaking",40,"diesel","turbine",{"$f":"($H$14*('most recent fuel'!$G22/1000)+$K$14*('most recent fuel'!$I22/1000))/2000","v":21.057946448000006},{"$f":"($H$15*('most recent fuel'!$G22/1000)+$K$15*('most recent fuel'!$I22/1000))/2000","v":7.896729918000002E-2},{"$f":"($H$16*('most recent fuel'!$G22/1000)+$K$16*('most recent fuel'!$I22/1000))/2000","v":3.625316916900001E-2},{"$f":"($H$17*('most recent fuel'!$G22/1000)+$K$17*('most recent fuel'!$I22/1000))/2000","v":0.28715381520000005},{"$f":"($H$17*('most recent fuel'!$G22/1000)+$K$17*('most recent fuel'!$I22/1000))/2000","v":0.28715381520000005},{"$f":"($H$17*('most recent fuel'!$G22/1000)+$K$17*('most recent fuel'!$I22/1000))/2000","v":0.28715381520000005},{"$f":"($H$20*('most recent fuel'!$G22/1000)+$K$20*('most recent fuel'!$I22/1000))/2000","v":9.8110886860000007E-3}]
[null,null,null,null,null,null,null,null,null,null,null,null,null,null,null,null,"other",null,null,"engine",{"$f":"($E$14*('most recent fuel'!$K23/1000)+$K$14*('most recent fuel'!$M23/1000))/2000","v":1.25028512},{"$f":"($E$15*('most recent fuel'!$K23/1000)+$K$15*('most recent fuel'!$M23/1000))/2000","v":0.33210698500000002},{"$f":"($E$16*('most recent fuel'!$K23/1000)+$K$16*('most recent fuel'!$M23/1000))/2000","v":5.919318615000001E-4},{"$f":"($E$17*('most recent fuel'!$K23/1000)+$K$17*('most recent fuel'!$M23/1000))/2000","v":2.42242742E-2},{"$f":"($E$18*('most recent fuel'!$K23/1000)+$K$17*('most recent fuel'!$M23/1000))/2000","v":1.937941936E-2},{"$f":"($E$19*('most recent fuel'!$K23/1000)+$K$17*('most recent fuel'!$M23/1000))/2000","v":1.871520539E-2},{"$f":"($E$20*('most recent fuel'!$K23/1000)+$K$20*('most recent fuel'!$M23/1000))/2000","v":3.1999484789999998E-2}]
[null,"Notes:",null,null,null,null,null,null,null,null,null,null,null,null,null,null,"Virgin Islands"]
[null,"Potential alternate EF for propane/LPG engine or turbine, diesel (micro?) turbine",null,null,null,null,null,null,null,null,null,null,null,null,null,14,"St. Thomas",15.1,"diesel","turbine",{"$f":"($H$14*('most recent fuel'!$G25/1000)+$M$14*('most recent fuel'!$I25/1000))/2000","v":1.7026151999999999},{"$f":"($H$15*('most recent fuel'!$G25/1000)+$M$15*('most recent fuel'!$I25/1000))/2000","v":6.3848070000000002E-3},{"$f":"($H$16*('most recent fuel'!$G25/1000)+$M$16*('most recent fuel'!$I25/1000))/2000","v":2.9312068500000001E-3},{"$f":"($H$17*('most recent fuel'!$G25/1000)+$M$17*('most recent fuel'!$I25/1000))/2000","v":2.3217479999999999E-2},{"$f":"($H$17*('most recent fuel'!$G25/1000)+$M$17*('most recent fuel'!$I25/1000))/2000","v":2.3217479999999999E-2},{"$f":"($H$17*('most recent fuel'!$G25/1000)+$M$17*('most recent fuel'!$I25/1000))/2000","v":2.3217479999999999E-2},{"$f":"($H$20*('most recent fuel'!$G25/1000)+$M$20*('most recent fuel'!$I25/1000))/2000","v":7.9326389999999998E-4}]
[null,"https://www.aqmd.gov/docs/default-source/planning/annual-emission-reporting/combustion-emission-factors-2021.pdf",null,null,null,null,null,null,null,null,null,null,null,null,null,15,null,26.6,"LPG & diesel","turbine",{"$f":"($H$14*('most recent fuel'!$G26/1000)+$M$14*('most recent fuel'!$I26/1000))/2000","v":413.67482180034096},{"$f":"($H$15*('most recent fuel'!$G26/1000)+$M$15*('most recent fuel'!$I26/1000))/2000","v":94.311199433977364},{"$f":"($H$16*('most recent fuel'!$G26/1000)+$M$16*('most recent fuel'!$I26/1000))/2000","v":3.982988732455623},{"$f":"($H$17*('most recent fuel'!$G26/1000)+$M$17*('most recent fuel'!$I26/1000))/2000","v":8.2084077902620312},{"$f":"($H$17*('most recent fuel'!$G26/1000)+$M$17*('most recent fuel'!$I26/1000))/2000","v":8.2084077902620312},{"$f":"($H$17*('most recent fuel'!$G26/1000)+$M$17*('most recent fuel'!$I26/1000))/2000","v":8.2084077902620312},{"$f":"($H$20*('most recent fuel'!$G26/1000)+$M$20*('most recent fuel'!$I26/1000))/2000","v":2.4324151690777374}]
[null,"https://www.aqmd.gov/docs/default-source/planning/annual-emission-reporting/default-combustion-emission-factors.pdf?sfvrsn=12",null,null,null,null,null,null,null,null,null,null,null,null,null,23,null,42,"diesel","turbine",{"$f":"($H$14*('most recent fuel'!$G27/1000)+$M$14*('most recent fuel'!$I27/1000))/2000","v":578.16333273600003},{"$f":"($H$15*('most recent fuel'!$G27/1000)+$M$15*('most recent fuel'!$I27/1000))/2000","v":2.1681124977600001},{"$f":"($H$16*('most recent fuel'!$G27/1000)+$M$16*('most recent fuel'!$I27/1000))/2000","v":0.99536073760800003},{"$f":"($H$17*('most recent fuel'!$G27/1000)+$M$17*('most recent fuel'!$I27/1000))/2000","v":7.8840454463999992},{"$f":"($H$17*('most recent fuel'!$G27/1000)+$M$17*('most recent fuel'!$I27/1000))/2000","v":7.8840454463999992},{"$f":"($H$17*('most recent fuel'!$G27/1000)+$M$17*('most recent fuel'!$I27/1000))/2000","v":7.8840454463999992},{"$f":"($H$20*('most recent fuel'!$G27/1000)+$M$20*('most recent fuel'!$I27/1000))/2000","v":0.26937155275200003}]
[null,null,"https://www.epa.gov/natural-gas-star-program/engine-exhaust",null,null,null,null,null,null,null,null,null,null,null,null,27,null,26,"diesel","turbine",{"$f":"($H$14*('most recent fuel'!$G28/1000)+$M$14*('most recent fuel'!$I28/1000))/2000","v":372.11520367999998},{"$f":"($H$15*('most recent fuel'!$G28/1000)+$M$15*('most recent fuel'!$I28/1000))/2000","v":1.3954320138},{"$f":"($H$16*('most recent fuel'!$G28/1000)+$M$16*('most recent fuel'!$I28/1000))/2000","v":0.64063015179000005},{"$f":"($H$17*('most recent fuel'!$G28/1000)+$M$17*('most recent fuel'!$I28/1000))/2000","v":5.0742982319999994},{"$f":"($H$17*('most recent fuel'!$G28/1000)+$M$17*('most recent fuel'!$I28/1000))/2000","v":5.0742982319999994},{"$f":"($H$17*('most recent fuel'!$G28/1000)+$M$17*('most recent fuel'!$I28/1000))/2000","v":5.0742982319999994},{"$f":"($H$20*('most recent fuel'!$G28/1000)+$M$20*('most recent fuel'!$I28/1000))/2000","v":0.17337185625999998}]
[null,null,"turbines have lower emissions than engines for same fuel - natural gas may be needed to represent propane turbines",null,null,null,null,null,null,null,null,null,null,null,null,"Wartsila 1",null,7,"LPG","engine",{"$f":"($E$14*('most recent fuel'!$K29/1000)+$K$14*('most recent fuel'!$M29/1000))/2000","v":354.57592944262291},{"$f":"($E$15*('most recent fuel'!$K29/1000)+$K$15*('most recent fuel'!$M29/1000))/2000","v":329.06686977049179},{"$f":"($E$16*('most recent fuel'!$K29/1000)+$K$16*('most recent fuel'!$M29/1000))/2000","v":0.89281708852459007},{"$f":"($E$17*('most recent fuel'!$K29/1000)+$K$17*('most recent fuel'!$M29/1000))/2000","v":12.754529836065574},{"$f":"($E$18*('most recent fuel'!$K29/1000)+$K$17*('most recent fuel'!$M29/1000))/2000","v":12.754529836065574},{"$f":"($E$19*('most recent fuel'!$K29/1000)+$K$17*('most recent fuel'!$M29/1000))/2000","v":12.754529836065574},{"$f":"($E$20*('most recent fuel'!$K29/1000)+$K$20*('most recent fuel'!$M29/1000))/2000","v":211.72519527868855}]
[null,null,"emission factors for propane are on same scale as diesel engine - higher than turbine. Close to scale for engines, too high for turbines",null,null,null,null,null,null,null,null,null,null,null,null,"Wartsila 2",null,7,"LPG","engine",{"$f":"($E$14*('most recent fuel'!$K30/1000)+$K$14*('most recent fuel'!$M30/1000))/2000","v":351.40752060327873},{"$f":"($E$15*('most recent fuel'!$K30/1000)+$K$15*('most recent fuel'!$M30/1000))/2000","v":326.12640401311478},{"$f":"($E$16*('most recent fuel'!$K30/1000)+$K$16*('most recent fuel'!$M30/1000))/2000","v":0.8848390806557378},{"$f":"($E$17*('most recent fuel'!$K30/1000)+$K$17*('most recent fuel'!$M30/1000))/2000","v":12.64055829508197},{"$f":"($E$18*('most recent fuel'!$K30/1000)+$K$17*('most recent fuel'!$M30/1000))/2000","v":12.64055829508197},{"$f":"($E$19*('most recent fuel'!$K30/1000)+$K$17*('most recent fuel'!$M30/1000))/2000","v":12.64055829508197},{"$f":"($E$20*('most recent fuel'!$K30/1000)+$K$20*('most recent fuel'!$M30/1000))/2000","v":209.83326769836069}]
[null,{"$f":"1/36","v":2.7777777777777776E-2},"of VOC are crankcase/slip emissions",null,null,null,null,null,null,null,null,null,null,null,null,"Wartsila 3",null,7,"LPG","engine",{"$f":"($E$14*('most recent fuel'!$K31/1000)+$K$14*('most recent fuel'!$M31/1000))/2000","v":322.31939438688528},{"$f":"($E$15*('most recent fuel'!$K31/1000)+$K$15*('most recent fuel'!$M31/1000))/2000","v":299.13094874754103},{"$f":"($E$16*('most recent fuel'!$K31/1000)+$K$16*('most recent fuel'!$M31/1000))/2000","v":0.81159559737704923},{"$f":"($E$17*('most recent fuel'!$K31/1000)+$K$17*('most recent fuel'!$M31/1000))/2000","v":11.594222819672131},{"$f":"($E$18*('most recent fuel'!$K31/1000)+$K$17*('most recent fuel'!$M31/1000))/2000","v":11.594222819672131},{"$f":"($E$19*('most recent fuel'!$K31/1000)+$K$17*('most recent fuel'!$M31/1000))/2000","v":11.594222819672131},{"$f":"($E$20*('most recent fuel'!$K31/1000)+$K$20*('most recent fuel'!$M31/1000))/2000","v":192.46409880655739}]
[null,{"$f":"15/1000000*100","v":1.5E-3},"% ULSD sulfur content (maximum)",null,null,null,null,null,null,null,null,null,null,null,null,"Wartsila 4",null,9,"LPG & diesel",{"$error":"#N/A"}]
[null,null,null,null,null,null,null,null,null,null,null,null,null,null,null,"Wartsila 5",null,9,"LPG & diesel",{"$error":"#N/A"}]
[null,"*PM=PM10=PM2.5 for several sets of emission factors",null,null,null,null,null,null,null,null,null,null,null,null,null,"Wartsila 6",null,9,"LPG & diesel",{"$error":"#N/A"}]
[null,null,null,null,null,null,null,null,null,null,null,null,null,null,null,"Wartsila 7",null,9,"LPG & diesel",{"$error":"#N/A"}]
[null,600,"hp",{"$f":"CONVERT(B35,\"HP\",\"W\")/1000000","v":0.44741992294936211},"MW",null,null,null,null,null,null,null,null,null,null,17,"St. Croix",21.9,"LPG & diesel","turbine",{"$f":"($H$14*('most recent fuel'!$G36/1000)+$M$14*('most recent fuel'!$I36/1000))/2000","v":137.80033660041966},{"$f":"($H$15*('most recent fuel'!$G36/1000)+$M$15*('most recent fuel'!$I36/1000))/2000","v":21.434334203957544},{"$f":"($H$16*('most recent fuel'!$G36/1000)+$M$16*('most recent fuel'!$I36/1000))/2000","v":0.97481124487195903},{"$f":"($H$17*('most recent fuel'!$G36/1000)+$M$17*('most recent fuel'!$I36/1000))/2000","v":2.4580475022086556},{"$f":"($H$17*('most recent fuel'!$G36/1000)+$M$17*('most recent fuel'!$I36/1000))/2000","v":2.4580475022086556},{"$f":"($H$17*('most recent fuel'!$G36/1000)+$M$17*('most recent fuel'!$I36/1000))/2000","v":2.4580475022086556},{"$f":"($H$20*('most recent fuel'!$G36/1000)+$M$20*('most recent fuel'!$I36/1000))/2000","v":0.56925568104775404}]
[null,null,"All engines are larger than 600 hp = 0.45 MW",null,null,null,null,null,null,null,null,null,null,null,null,19,null,24.5,"diesel","turbine",{"$f":"($H$14*('most recent fuel'!$G37/1000)+$M$14*('most recent fuel'!$I37/1000))/2000","v":76.591152176000008},{"$f":"($H$15*('most recent fuel'!$G37/1000)+$M$15*('most recent fuel'!$I37/1000))/2000","v":0.28721682065999998},{"$f":"($H$16*('most recent fuel'!$G37/1000)+$M$16*('most recent fuel'!$I37/1000))/2000","v":0.13185863130300002},{"$f":"($H$17*('most recent fuel'!$G37/1000)+$M$17*('most recent fuel'!$I37/1000))/2000","v":1.0444248023999998},{"$f":"($H$17*('most recent fuel'!$G37/1000)+$M$17*('most recent fuel'!$I37/1000))/2000","v":1.0444248023999998},{"$f":"($H$17*('most recent fuel'!$G37/1000)+$M$17*('most recent fuel'!$I37/1000))/2000","v":1.0444248023999998},{"$f":"($H$20*('most recent fuel'!$G37/1000)+$M$20*('most recent fuel'!$I37/1000))/2000","v":3.5684514081999998E-2}]
[null,1,"MW = ",{"$f":"CONVERT(1,\"J\",\"BTU\")*3600","v":3.4121416331279417},"MMBtu/hr",null,null,null,null,null,null,null,null,null,null,20,null,24.5,"LPG & diesel","turbine",{"$f":"($H$14*('most recent fuel'!$G38/1000)+$M$14*('most recent fuel'!$I38/1000))/2000","v":555.98258351131813},{"$f":"($H$15*('most recent fuel'!$G38/1000)+$M$15*('most recent fuel'!$I38/1000))/2000","v":106.37583861115527},{"$f":"($H$16*('most recent fuel'!$G38/1000)+$M$16*('most recent fuel'!$I38/1000))/2000","v":4.6345788468792541},{"$f":"($H$17*('most recent fuel'!$G38/1000)+$M$17*('most recent fuel'!$I38/1000))/2000","v":10.468120104255936},{"$f":"($H$17*('most recent fuel'!$G38/1000)+$M$17*('most recent fuel'!$I38/1000))/2000","v":10.468120104255936},{"$f":"($H$17*('most recent fuel'!$G38/1000)+$M$17*('most recent fuel'!$I38/1000))/2000","v":10.468120104255936},{"$f":"($H$20*('most recent fuel'!$G38/1000)+$M$20*('most recent fuel'!$I38/1000))/2000","v":2.7771322975015251}]
[null,null,null,null,null,null,null,null,null,null,null,null,null,null,null,"Aggreko",null,{"$f":"18*1.1","v":19.8},"LPG","engine",{"$f":"($E$14*('most recent fuel'!$K39/1000)+$K$14*('most recent fuel'!$M39/1000))/2000","v":1127.5353555081963},{"$f":"($E$15*('most recent fuel'!$K39/1000)+$K$15*('most recent fuel'!$M39/1000))/2000","v":1046.4177040327866},{"$f":"($E$16*('most recent fuel'!$K39/1000)+$K$16*('most recent fuel'!$M39/1000))/2000","v":2.8391178016393437},{"$f":"($E$17*('most recent fuel'!$K39/1000)+$K$17*('most recent fuel'!$M39/1000))/2000","v":40.558825737704908},{"$f":"($E$18*('most recent fuel'!$K39/1000)+$K$17*('most recent fuel'!$M39/1000))/2000","v":40.558825737704908},{"$f":"($E$19*('most recent fuel'!$K39/1000)+$K$17*('most recent fuel'!$M39/1000))/2000","v":40.558825737704908},{"$f":"($E$20*('most recent fuel'!$K39/1000)+$K$20*('most recent fuel'!$M39/1000))/2000","v":673.27650724590148}]
[null,"convert from lb/MMBtu to lb/1000 gal -> multiply by fuel heat content"]
[null,null,null,null,null,null,null,null,null,null,null,null,null,null,null,null,null,null,null,null,"Totals"]
[null,null,null,null,null,null,null,null,null,null,null,null,null,null,null,null,"American Samoa",null,null,null,{"$f":"U3","v":1251.8471939599999},{"$f":"V3","v":4.69442697735},2.1551687486924997,17.070643554,17.070643554,17.070643554,0.58324698809499986]
[null,null,null,null,null,null,null,null,null,null,null,null,null,null,null,null,"Northern Mariana Islands",null,null,null,{"$f":"SUM(U5:U7)","v":109.75764800000002},{"$f":"SUM(V5:V7)","v":0.41159118},0.188957769,1.4966952,1.4966952,1.4966952,5.1137085999999998E-2]
[null,null,null,null,null,null,null,null,null,null,null,null,null,null,null,null,"Guam",null,null,null,{"$f":"SUM(U9:U22)","v":336.46160430399999},{"$f":"SUM(V9:V22)","v":62.628678253540009},0.28676097421649999,5.9328864181999998,5.0248313516799996,4.9003399312700004,6.0451381326279998]
[null,null,null,null,null,null,null,null,null,null,null,null,null,null,null,null,"Virgin Islands",null,null,null,{"$f":"SUM(U24:U38)","v":4291.8682456450615},{"$f":"SUM(V24:V38)","v":2226.7204449522442},16.791529119954557,112.70869804605121,112.70869804605121,112.70869804605121,1293.5570933641293]

{"sheet":"by territory -->","index":3,"n_rows":0,"n_cols":0,"rows_kept":0,"cut":false,"hidden":false,"merged":[]}

{"sheet":"American Samoa","index":4,"n_rows":9,"n_cols":23,"rows_kept":9,"cut":false,"hidden":false,"merged":[[1,3,1,6],[1,7,1,14],[2,7,2,10],[2,11,2,14]]}
[]
[null,null,null,"Unit Details",null,null,null,"Fuel Use",null,null,null,null,null,null,null,"NOx","CO","SO2","PM*","PM10","PM2.5","VOC/TOC"]
[null,null,null,"MW",null,null,null,"turbine",null,null,null,"engine generator"]
[null,null,null,45,"diesel","turbine",null,{"$f":"'most recent fuel'!G3","v":20322194.707142856},"gallons ULSD",null,null,null,null,null,null,{"$f":"emissions!U3","v":1251.8471939599999},{"$f":"emissions!V3","v":4.69442697735},{"$f":"emissions!W3","v":2.1551687486924997},{"$f":"emissions!X3","v":17.070643554},{"$f":"emissions!Y3","v":17.070643554},{"$f":"emissions!Z3","v":17.070643554},{"$f":"emissions!AA3","v":0.58324698809499986}]
[null,null,null,5,"PV"]
[null,null,null,null,null,null,null,null,null,null,null,null,null,null,null,{"$f":"SUM(P4:P5)","v":1251.8471939599999},4.69442697735,2.1551687486924997,17.070643554,17.070643554,17.070643554,0.58324698809499986,"Total"]
[null,null,null,"Fuel calculation assumptions = \"most recent fuel\" worksheet"]
[null,null,null,"Emission factors and emission assumptions = \"emissions\" worksheet"]
[null,null,null,"Fuel use is estiamted based on heat rate of turbines close to the stated rating (from Virgin Islands) and electricity production"]

{"sheet":"N. Mariana Islands","index":5,"n_rows":9,"n_cols":17,"rows_kept":9,"cut":false,"hidden":false,"merged":[[1,3,1,6],[1,7,1,8],[2,7,2,8]]}
[]
[null,null,null,"Unit Details",null,null,null,"Fuel Use",null,"NOx","CO","SO2","PM*","PM10","PM2.5","VOC/TOC"]
[null,null,null,"MW",null,null,null,"turbine"]
[null,null,"Saipan",34.5,"diesel/fuel oil","turbine",null,{"$f":"'most recent fuel'!G6","v":1623579},"gallons ULSD",{"$f":"emissions!U5","v":100.01246640000001},{"$f":"emissions!V5","v":0.37504674900000001},{"$f":"emissions!W5","v":0.17218055294999998},{"$f":"emissions!X5","v":1.3638063599999999},{"$f":"emissions!Y5","v":1.3638063599999999},{"$f":"emissions!Z5","v":1.3638063599999999},{"$f":"emissions!AA5","v":4.65967173E-2}]
[null,null,"Tinian",3,"diesel/fuel oil","turbine",null,{"$f":"'most recent fuel'!G7","v":92815},"gallons ULSD",{"$f":"emissions!U6","v":5.7174039999999993},{"$f":"emissions!V6","v":2.1440265E-2},{"$f":"emissions!W6","v":9.8430307500000005E-3},{"$f":"emissions!X6","v":7.7964599999999995E-2},{"$f":"emissions!Y6","v":7.7964599999999995E-2},{"$f":"emissions!Z6","v":7.7964599999999995E-2},{"$f":"emissions!AA6","v":2.6637904999999998E-3}]
[null,null,"Rota",2,"diesel/fuel oil","turbine",null,{"$f":"'most recent fuel'!G8","v":65386},"gallons ULSD",{"$f":"emissions!U7","v":4.0277776000000003},{"$f":"emissions!V7","v":1.5104165999999999E-2},{"$f":"emissions!W7","v":6.9341853000000004E-3},{"$f":"emissions!X7","v":5.4924239999999999E-2},{"$f":"emissions!Y7","v":5.4924239999999999E-2},{"$f":"emissions!Z7","v":5.4924239999999999E-2},{"$f":"emissions!AA7","v":1.8765781999999999E-3}]
[null,null,null,null,null,null,null,null,null,{"$f":"SUM(J4:J6)","v":109.75764800000002},{"$f":"SUM(K4:K6)","v":0.41159118},0.188957769,1.4966952,1.4966952,1.4966952,5.1137085999999998E-2,"Total"]
[null,null,null,"Fuel calculation assumptions = \"most recent fuel\" worksheet"]
[null,null,null,"Emission factors and emission assumptions = \"emissions\" worksheet"]

{"sheet":"Guam","index":6,"n_rows":20,"n_cols":23,"rows_kept":20,"cut":false,"hidden":false,"merged":[[1,3,1,6],[1,7,1,14],[2,7,2,10],[2,11,2,14]]}
[]
[null,null,null,"Unit Details",null,null,null,"Fuel Use",null,null,null,null,null,null,null,"NOx","CO","SO2","PM*","PM10","PM2.5","VOC/TOC"]
[null,null,null,"MW",null,null,null,"turbine",null,null,null,"engine generator"]
[null,"Cabras 1 ","base",66,"diesel/fuel oil","turbine",null,{"$f":"'most recent fuel'!G10","v":1670.75},"gallons ULSD",{"$f":"'most recent fuel'!I10","v":545881.36},"gallons fuel oil",null,null,null,null,{"$f":"emissions!U9","v":33.729209976},{"$f":"emissions!V9","v":0.12648453741000001},{"$f":"emissions!W9","v":5.8067901265499995E-2},{"$f":"emissions!X9","v":0.45994377239999995},{"$f":"emissions!Y9","v":0.45994377239999995},{"$f":"emissions!Z9","v":0.45994377239999995},{"$f":"emissions!AA9","v":1.5714745557E-2}]
[null,"Cabras 2","base",66,"diesel/fuel oil","turbine",null,{"$f":"'most recent fuel'!G11","v":1738.95},"gallons ULSD",{"$f":"'most recent fuel'!I11","v":267047.55},"gallons fuel oil",null,null,null,null,{"$f":"emissions!U10","v":16.557248399999999},{"$f":"emissions!V10","v":6.20896815E-2},{"$f":"emissions!W10","v":2.8504808324999999E-2},{"$f":"emissions!X10","v":0.22578065999999999},{"$f":"emissions!Y10","v":0.22578065999999999},{"$f":"emissions!Z10","v":0.22578065999999999},{"$f":"emissions!AA10","v":7.7141725499999996E-3}]
[null,"MEC 8 (IPP)","base",44.2,"diesel","not listed",null,{"$f":"'most recent fuel'!G12","v":0},"gallons ULSD",null,null,{"$f":"'most recent fuel'!K12","v":437455.05},"gallons ULSD",null,null,{"$f":"emissions!U11","v":97.989931199999987},{"$f":"emissions!V11","v":26.028575474999997},{"$f":"emissions!W11","v":4.6392108052499999E-2},{"$f":"emissions!X11","v":1.8985549169999998},{"$f":"emissions!Y11","v":1.5188439335999999},{"$f":"emissions!Z11","v":1.4667867826500001},{"$f":"emissions!AA11","v":2.5079298016499996}]
[null,"MEC 9 (IPP)","base",44.2,"diesel","not listed",null,{"$f":"'most recent fuel'!G13","v":0},"gallons ULSD",null,null,{"$f":"'most recent fuel'!K13","v":443401.94},"gallons ULSD",null,null,{"$f":"emissions!U12","v":99.322034560000006},{"$f":"emissions!V12","v":26.382415430000002},{"$f":"emissions!W12","v":4.7022775737000005E-2},{"$f":"emissions!X12","v":1.9243644196},{"$f":"emissions!Y12","v":1.5394915356800001},{"$f":"emissions!Z12","v":1.4867267048200001},{"$f":"emissions!AA12","v":2.5420233220199999}]
[null,"MDI  Dsl","peaking",10.6,"diesel","engine",null,null,null,null,null,{"$f":"'most recent fuel'!K14","v":10569.4},"gallons ULSD",null,null,{"$f":"emissions!U13","v":2.3675456000000001},{"$f":"emissions!V13","v":0.62887929999999992},{"$f":"emissions!W13","v":1.1208848699999999E-3},{"$f":"emissions!X13","v":4.5871195999999996E-2},{"$f":"emissions!Y13","v":3.66969568E-2},{"$f":"emissions!Z13","v":3.5439198200000001E-2},{"$f":"emissions!AA13","v":6.059437019999999E-2}]
[null,"Dededo CT #1","peaking",23,"diesel","turbine",null,{"$f":"'most recent fuel'!G15","v":153817.51},"gallons ULSD",null,null,null,null,null,null,{"$f":"emissions!U14","v":9.4751586159999999},{"$f":"emissions!V14","v":3.5531844810000004E-2},{"$f":"emissions!W14","v":1.6312346935499999E-2},{"$f":"emissions!X14","v":0.12920670840000001},{"$f":"emissions!Y14","v":0.12920670840000001},{"$f":"emissions!Z14","v":0.12920670840000001},{"$f":"emissions!AA14","v":4.4145625370000004E-3}]
[null,"Dededo CT #2","peaking",22,"diesel","turbine",null,{"$f":"'most recent fuel'!G16","v":152640.32000000001},"gallons ULSD",null,null,null,null,null,null,{"$f":"emissions!U15","v":9.4026437120000015},{"$f":"emissions!V15","v":3.5259913920000004E-2},{"$f":"emissions!W15","v":1.6187505936000001E-2},{"$f":"emissions!X15","v":0.1282178688},{"$f":"emissions!Y15","v":0.1282178688},{"$f":"emissions!Z15","v":0.1282178688},{"$f":"emissions!AA15","v":4.3807771839999999E-3}]
[null,"Macheche  CT ","peaking",22,"diesel","turbine",null,{"$f":"'most recent fuel'!G17","v":105297.81},"gallons ULSD",null,null,null,null,null,null,{"$f":"emissions!U16","v":6.486345096},{"$f":"emissions!V16","v":2.4323794110000001E-2},{"$f":"emissions!W16","v":1.11668327505E-2},{"$f":"emissions!X16","v":8.8450160400000005E-2},{"$f":"emissions!Y16","v":8.8450160400000005E-2},{"$f":"emissions!Z16","v":8.8450160400000005E-2},{"$f":"emissions!AA16","v":3.0220471469999998E-3}]
[null,"Yigo  CT ","peaking",22,"diesel","turbine",null,{"$f":"'most recent fuel'!G18","v":87926.31},"gallons ULSD",null,null,null,null,null,null,{"$f":"emissions!U17","v":5.4162606960000002},{"$f":"emissions!V17","v":2.0310977610000003E-2},{"$f":"emissions!W17","v":9.3245851755000015E-3},{"$f":"emissions!X17","v":7.3858100400000001E-2},{"$f":"emissions!Y17","v":7.3858100400000001E-2},{"$f":"emissions!Z17","v":7.3858100400000001E-2},{"$f":"emissions!AA17","v":2.5234850969999998E-3}]
[null,"Talofofo","peaking",8.8000000000000007,"diesel","engine",null,null,null,null,null,{"$f":"'most recent fuel'!K19","v":10473.18},"gallons ULSD",null,null,{"$f":"emissions!U18","v":2.3459923200000001},{"$f":"emissions!V18","v":0.62315421000000004},{"$f":"emissions!W18","v":1.1106807390000003E-3},{"$f":"emissions!X18","v":4.5453601199999999E-2},{"$f":"emissions!Y18","v":3.6362880960000003E-2},{"$f":"emissions!Z18","v":3.5116572540000009E-2},{"$f":"emissions!AA18","v":6.0042740939999999E-2}]
[null,"Yigo Diesels","peaking",40,"diesel","engine",null,null,null,null,null,{"$f":"'most recent fuel'!K20","v":110480.53},"gallons ULSD",null,null,{"$f":"emissions!U19","v":24.747638719999998},{"$f":"emissions!V19","v":6.5735915350000003},{"$f":"emissions!W19","v":1.1716460206500001E-2},{"$f":"emissions!X19","v":0.47948550019999997},{"$f":"emissions!Y19","v":0.38358840016000001},{"$f":"emissions!Z19","v":0.37044121709},{"$f":"emissions!AA19","v":0.63338487849000003}]
[null,"Tenjo","peaking",{"$f":"4.4*6","v":26.400000000000002},"diesel","engine",null,null,null,null,null,{"$f":"'most recent fuel'!K21","v":28184.660000000003},"gallons ULSD",null,null,{"$f":"emissions!U20","v":6.3133638400000009},{"$f":"emissions!V20","v":1.6769872700000004},{"$f":"emissions!W20","v":2.9889831930000007E-3},{"$f":"emissions!X20","v":0.12232142440000002},{"$f":"emissions!Y20","v":9.7857139520000025E-2},{"$f":"emissions!Z20","v":9.4503164980000026E-2},{"$f":"emissions!AA20","v":0.16158265578}]
[null,"TEMES (IPP) (Piti 7)","peaking",40,"diesel","turbine",null,{"$f":"'most recent fuel'!G22","v":341849.78000000009},"gallons ULSD",null,null,null,null,null,null,{"$f":"emissions!U21","v":21.057946448000006},{"$f":"emissions!V21","v":7.896729918000002E-2},{"$f":"emissions!W21","v":3.625316916900001E-2},{"$f":"emissions!X21","v":0.28715381520000005},{"$f":"emissions!Y21","v":0.28715381520000005},{"$f":"emissions!Z21","v":0.28715381520000005},{"$f":"emissions!AA21","v":9.8110886860000007E-3}]
[null,null,"other",null,null,"not listed",null,{"$f":"'most recent fuel'!G23","v":0.36999999999989086},"gallons ULSD",null,null,{"$f":"'most recent fuel'!K23","v":5581.63},"gallons ULSD",null,null,{"$f":"emissions!U22","v":1.25028512},{"$f":"emissions!V22","v":0.33210698500000002},{"$f":"emissions!W22","v":5.919318615000001E-4},{"$f":"emissions!X22","v":2.42242742E-2},{"$f":"emissions!Y22","v":1.937941936E-2},{"$f":"emissions!Z22","v":1.871520539E-2},{"$f":"emissions!AA22","v":3.1999484789999998E-2}]
[null,null,null,null,null,null,null,null,null,null,null,null,null,null,null,{"$f":"SUM(P4:P17)","v":336.46160430399999},{"$f":"SUM(Q4:Q17)","v":62.628678253540009},0.28676097421649999,5.9328864181999998,5.0248313516799996,4.9003399312700004,6.0451381326279998,"Total"]
[null,null,null,"Fuel calculation assumptions = \"most recent fuel\" worksheet"]
[null,null,null,"Emission factors and emission assumptions = \"emissions\" worksheet"]

{"sheet":"Virgin Islands","index":7,"n_rows":22,"n_cols":23,"rows_kept":22,"cut":false,"hidden":false,"merged":[[1,3,1,6],[1,7,1,14],[2,7,2,10],[2,11,2,14]]}
[]
[null,null,null,"Unit Details",null,null,null,"Fuel Use",null,null,null,null,null,null,null,"NOx","CO","SO2","PM*","PM10","PM2.5","VOC/TOC"]
[null,null,null,"MW",null,null,null,"turbine",null,null,null,"engine generator"]
[null,14,"St. Thomas",15.1,"diesel","turbine",null,{"$f":"'most recent fuel'!G25","v":27639.857142857141},"gallons ULSD",null,null,null,null,null,null,{"$f":"emissions!U24","v":1.7026151999999999},{"$f":"emissions!V24","v":6.3848070000000002E-3},{"$f":"emissions!W24","v":2.9312068500000001E-3},{"$f":"emissions!X24","v":2.3217479999999999E-2},{"$f":"emissions!Y24","v":2.3217479999999999E-2},{"$f":"emissions!Z24","v":2.3217479999999999E-2},{"$f":"emissions!AA24","v":7.9326389999999998E-4}]
[null,15,null,26.6,"LPG & diesel","turbine",null,{"$f":"'most recent fuel'!G26","v":751766.34},"gallons ULSD",{"$f":"'most recent fuel'!I26","v":16553984.104918031},"gallons LPG",null,null,null,null,{"$f":"emissions!U25","v":413.67482180034096},{"$f":"emissions!V25","v":94.311199433977364},{"$f":"emissions!W25","v":3.982988732455623},{"$f":"emissions!X25","v":8.2084077902620312},{"$f":"emissions!Y25","v":8.2084077902620312},{"$f":"emissions!Z25","v":8.2084077902620312},{"$f":"emissions!AA25","v":2.4324151690777374}]
[null,23,null,42,"diesel","turbine",null,{"$f":"'most recent fuel'!G27","v":9385768.3885714281},"gallons ULSD",null,null,null,null,null,null,{"$f":"emissions!U26","v":578.16333273600003},{"$f":"emissions!V26","v":2.1681124977600001},{"$f":"emissions!W26","v":0.99536073760800003},{"$f":"emissions!X26","v":7.8840454463999992},{"$f":"emissions!Y26","v":7.8840454463999992},{"$f":"emissions!Z26","v":7.8840454463999992},{"$f":"emissions!AA26","v":0.26937155275200003}]
[null,27,null,26,"diesel","turbine",null,{"$f":"'most recent fuel'!G28","v":6040831.228571428},"gallons ULSD",null,null,null,null,null,null,{"$f":"emissions!U27","v":372.11520367999998},{"$f":"emissions!V27","v":1.3954320138},{"$f":"emissions!W27","v":0.64063015179000005},{"$f":"emissions!X27","v":5.0742982319999994},{"$f":"emissions!Y27","v":5.0742982319999994},{"$f":"emissions!Z27","v":5.0742982319999994},{"$f":"emissions!AA27","v":0.17337185625999998}]
[null,"Wartsila 1",null,7,"LPG","engine",null,null,null,null,null,null,null,{"$f":"'most recent fuel'!M29","v":5101811.9344262294},"gallons LPG",{"$f":"emissions!U28","v":354.57592944262291},{"$f":"emissions!V28","v":329.06686977049179},{"$f":"emissions!W28","v":0.89281708852459007},{"$f":"emissions!X28","v":12.754529836065574},{"$f":"emissions!Y28","v":12.754529836065574},{"$f":"emissions!Z28","v":12.754529836065574},{"$f":"emissions!AA28","v":211.72519527868855}]
[null,"Wartsila 2",null,7,"LPG","engine",null,null,null,null,null,null,null,{"$f":"'most recent fuel'!M30","v":5056223.3180327872},"gallons LPG",{"$f":"emissions!U29","v":351.40752060327873},{"$f":"emissions!V29","v":326.12640401311478},{"$f":"emissions!W29","v":0.8848390806557378},{"$f":"emissions!X29","v":12.64055829508197},{"$f":"emissions!Y29","v":12.64055829508197},{"$f":"emissions!Z29","v":12.64055829508197},{"$f":"emissions!AA29","v":209.83326769836069}]
[null,"Wartsila 3",null,7,"LPG","engine",null,null,null,null,null,null,null,{"$f":"'most recent fuel'!M31","v":4637689.1278688526},"gallons LPG",{"$f":"emissions!U30","v":322.31939438688528},{"$f":"emissions!V30","v":299.13094874754103},{"$f":"emissions!W30","v":0.81159559737704923},{"$f":"emissions!X30","v":11.594222819672131},{"$f":"emissions!Y30","v":11.594222819672131},{"$f":"emissions!Z30","v":11.594222819672131},{"$f":"emissions!AA30","v":192.46409880655739}]
[null,"Wartsila 4",null,9,"LPG & diesel","engine",null,null,null,null,null,null,null,null,null,{"$f":"emissions!U31","v":0},{"$f":"emissions!V31","v":0},{"$f":"emissions!W31","v":0},{"$f":"emissions!X31","v":0},{"$f":"emissions!Y31","v":0},{"$f":"emissions!Z31","v":0},{"$f":"emissions!AA31","v":0}]
[null,"Wartsila 5",null,9,"LPG & diesel","engine",null,null,null,null,null,null,null,null,null,{"$f":"emissions!U32","v":0},{"$f":"emissions!V32","v":0},{"$f":"emissions!W32","v":0},{"$f":"emissions!X32","v":0},{"$f":"emissions!Y32","v":0},{"$f":"emissions!Z32","v":0},{"$f":"emissions!AA32","v":0}]
[null,"Wartsila 6",null,9,"LPG & diesel","engine",null,null,null,null,null,null,null,null,null,{"$f":"emissions!U33","v":0},{"$f":"emissions!V33","v":0},{"$f":"emissions!W33","v":0},{"$f":"emissions!X33","v":0},{"$f":"emissions!Y33","v":0},{"$f":"emissions!Z33","v":0},{"$f":"emissions!AA33","v":0}]
[null,"Wartsila 7",null,9,"LPG & diesel","engine",null,null,null,null,null,null,null,null,null,{"$f":"emissions!U34","v":0},{"$f":"emissions!V34","v":0},{"$f":"emissions!W34","v":0},{"$f":"emissions!X34","v":0},{"$f":"emissions!Y34","v":0},{"$f":"emissions!Z34","v":0},{"$f":"emissions!AA34","v":0}]
[null,17,"St. Croix",21.9,"LPG & diesel","turbine",null,{"$f":"'most recent fuel'!G36","v":892182.20714285714},"gallons ULSD",{"$f":"'most recent fuel'!I36","v":3732962.8983606556},"gallons LPG",null,null,null,null,{"$f":"emissions!U35","v":137.80033660041966},{"$f":"emissions!V35","v":21.434334203957544},{"$f":"emissions!W35","v":0.97481124487195903},{"$f":"emissions!X35","v":2.4580475022086556},{"$f":"emissions!Y35","v":2.4580475022086556},{"$f":"emissions!Z35","v":2.4580475022086556},{"$f":"emissions!AA35","v":0.56925568104775404}]
[null,19,null,24.5,"diesel","turbine",null,{"$f":"'most recent fuel'!G37","v":1243362.8599999999},"gallons ULSD",null,null,null,null,null,null,{"$f":"emissions!U36","v":76.591152176000008},{"$f":"emissions!V36","v":0.28721682065999998},{"$f":"emissions!W36","v":0.13185863130300002},{"$f":"emissions!X36","v":1.0444248023999998},{"$f":"emissions!Y36","v":1.0444248023999998},{"$f":"emissions!Z36","v":1.0444248023999998},{"$f":"emissions!AA36","v":3.5684514081999998E-2}]
[null,20,null,24.5,"LPG & diesel","turbine",null,{"$f":"'most recent fuel'!G38","v":2320605.5300000003},"gallons ULSD",{"$f":"'most recent fuel'!I38","v":18611809.790163938},"gallons LPG",null,null,null,null,{"$f":"emissions!U37","v":555.98258351131813},{"$f":"emissions!V37","v":106.37583861115527},{"$f":"emissions!W37","v":4.6345788468792541},{"$f":"emissions!X37","v":10.468120104255936},{"$f":"emissions!Y37","v":10.468120104255936},{"$f":"emissions!Z37","v":10.468120104255936},{"$f":"emissions!AA37","v":2.7771322975015251}]
[null,"Aggreko",null,19.8,"LPG","engine",null,null,null,null,null,null,null,{"$f":"'most recent fuel'!M39","v":16223530.295081964},"gallons LPG",{"$f":"emissions!U38","v":1127.5353555081963},{"$f":"emissions!V38","v":1046.4177040327866},{"$f":"emissions!W38","v":2.8391178016393437},{"$f":"emissions!X38","v":40.558825737704908},{"$f":"emissions!Y38","v":40.558825737704908},{"$f":"emissions!Z38","v":40.558825737704908},{"$f":"emissions!AA38","v":673.27650724590148}]
[null,null,null,null,null,null,null,null,null,null,null,null,null,null,null,{"$f":"SUM(P4:P18)","v":4291.8682456450615},{"$f":"SUM(Q4:Q18)","v":2226.7204449522442},16.791529119954557,112.70869804605121,112.70869804605121,112.70869804605121,1293.5570933641293,"Total"]
[null,null,null,"Fuel calculation assumptions = \"most recent fuel\" worksheet"]
[null,null,null,"Emission factors and emission assumptions = \"emissions\" worksheet"]
[null,null,null,"9 MW engines are new, no fuel use or emissions recorded yet"]