Workbook
Name _2017NEI_Nonpoint_TSCA_Chem_List: #REF!
Name _2017NEI_tsca_chemicals_wSCCdetail_Query: #REF!
Name AT: #REF!
Name AT_50th_non_cancer: #REF!
Name AT_50th_non_cancer_DC: #REF!
Name AT_95th_non_cancer: #REF!
Name AT_95th_non_cancer_DC: #REF!
Name AT_AC: #REF!
Name AT_AC_DC: #REF!
Name AT_ADC_high: #REF!
Name AT_ADC_mid: #REF!
Name AT_cancer: #REF!
Name AT_cancer_DC: #REF!
Name AT_LADC: #REF!
Name AWD: #REF!
Name AWD_DC_50th: #REF!
Name AWD_DC_95th: #REF!
Name CASRN: #REF!
Name ED: #REF!
Name ED_AC: #REF!
Name ED_AC_DC: #REF!
Name ED_chronic: #REF!
Name ED_chronic_DC: #REF!
Name EF: #REF!
Name EG: #REF!
Name what: #REF!
Name WY_50th: #REF!
Name WY_50th_DC: #REF!
Name WY_95th: #REF!
Name WY_95th_DC: #REF!
Name WY_high: #REF!
Name WY_mid: #REF!

Sheet Cover Page
A1: PUBLIC RELEASE DRAFT
A2: JULY 20206
A5: Draft Integrated Indoor Outdoor Air Calculator (IIOAC) Generic Scenario Exposure and Risk Analysis for trans-1,2-Dichloroethylene
A7: CASRN 156-60-5
A23: July 2026

Sheet ReadMe
A1: Tab Names | B1: Description of the tabs
A2: Chemical | B2: This tab provides the chemical properties used for the inputs into the IIOAC Model.
A3: Hazard Values | B3: The hazard values are provided in order to screen the output concentrations from the IIOAC Model.
A4: Source Inputs Stack | B4: This tab provides the source inputs stack properties used for the inputs into the IIOAC Model.
A5: Source Inputs Fugitive | B5: This tab provides the source inputs fugitive properties used for the inputs into the IIOAC Model.
A6: Trans 1,2-DCE Stk Outputs | B6: This tab shows the daily and annual outdoor air concentrations modeled from the IIOAC Model for 1,2 DCE for stack emissions from generic scenarios. In addition, the tab provides acute and chronic daily doses for all lifestages.
A7: Trans 1,2-DCE Stk Risk Screen | B7: This tab provides the trans 1,2-DCE stack release outdoor concentration values and the corresponding non-cancer risk estimates for all lifestages.
A8: Trans 1,2-DCE Fug Outputs | B8: This tab shows the daily and annual outdoor air concentrations modeled from the IIOAC Model for 1,2 DCE for fugitive emissions from generic scenarios. In addition, the tab provides acute and chronic daily doses for all lifestages.
A9: Trans 1,2-DCE Fug Risk Screen | B9: This tab provides the trans 1,2-DCE fugitive release outdoor concentration values and the corresponding non-cancer risk estimates for all lifestages.

Sheet Chemical
A1: Chemical Information and Properties
A3: Step 1: Enter Chemical Information | D3: Step 2: Enter Chemical Properties
A5: Chemical Information | D5: Chemical Properties
A6: Chemical Name | B6: Trans-1,2-dichloroethylene | D6: Vapor Pressure (Torr)
A7: CAS Number | C7: 156-60-5 | D7: Solubility (mg/L)
D8: Org. Carbon Sorption Coeff (KoC) (mL/g)
D9: Volatilization Half-Life (hrs)
D10: Molecular Weight (g/mol) | F10: 54.09

Sheet Hazard Values
A1: trans-1,2-Dichloroethylene | B1: Observed health affects | C1: HEC (ug/m3) | D1: HED (mg/kg-day) | E1: IUR or CSF (µg/m3)-1 | F1: Benchmark
A2: Acute Non-cancer (HEC) | B2: Sensory Irritation | C2: 7930000 | D2: - | E2: - | F2: 30
A3: Chronic Non-cancer (HEC) | B3: Reduced Immune Function | C3: 117000 | D3: - | E3: - | F3: 100

Sheet Source Inputs Stack
A1: Point Source
A3: Step 1: Select Point Source Type | C3: Stack | E3: Step 2: Select Location and Deposition Settings
A5: Source Parameters | E5: Location and Deposition Settings
A6: Release Height (m) | C6: =IFERROR(VLOOKUP($C$3,[1]lookups!$B$1:$F$4,2,FALSE),"") -> 10 | E6: Select Urban or Rural | G6: Urban
A7: Stack Inside Diameter (m) | C7: =IFERROR(VLOOKUP($C$3,[1]lookups!$B$1:$F$4,3,FALSE),"") -> 2 | E7: Population | G7: =IFERROR(VLOOKUP($G$6,[1]lookups!$G$1:$H$3,2,FALSE),"") -> 1000000
A8: Exit Gas Temperature (K) | C8: =IFERROR(VLOOKUP($C$3,[1]lookups!$B$1:$F$4,4,FALSE),"") -> 300
A9: Exit Gas Velocity (m/s) | C9: =IFERROR(VLOOKUP($C$3,[1]lookups!$B$1:$F$4,5,FALSE),"") -> 5 | E9: Select Particle Size | G9: No particles (vapor only)
E10: Mean Aerodynamic Diameter (mm) | G10: =IFERROR(VLOOKUP($G$9,[1]lookups!$J$1:$K$4,2,FALSE),"") -> N/A for Vapor
E11: Density (g/cm3) | G11: =IFERROR(VLOOKUP($G$9,[1]lookups!$J$2:$L$4,3,FALSE),"") -> N/A for Vapor
E13: Select Climate Region | G13: South (Coastal)
E14: Surface Station | G14: =IFERROR(VLOOKUP($G$13,[1]lookups!$M$1:$O$15,2,FALSE),"") -> Lake Charles, LA
E15: Upper-air Station | G15: =IFERROR(VLOOKUP($G$13,[1]lookups!$M$1:$O$15,3,FALSE),"") -> Lake Charles, LA
A16: Step 3: Define Emission Scenarios
E17: Select Cyclical or Consecutive | G17: Consecutive
A18: Scenario # | B18: Scenario Name | D18: Release # | E18: Release Amount (kg/site/day) | F18: Release Duration (hours/day) | G18: Release Frequency (days/year)
A19: 1 | B19: Vapor Degreasing - 95th Release | D19: 1 | E19: 31.927717 | F19: 24 hr/day (continuous) | G19: 296
A20: 2 | B20: Use of Adhesives - 95th Release | D20: 1 | E20: 1177.4087 | F20: 24 hr/day (continuous) | G20: 250
A21: 3 | B21: Use as a Blowing Agent in Spray Foam - 95th Release | D21: 1 | E21: 1.026384 | F21: 24 hr/day (continuous) | G21: 260
A22: 4 | B22: Laboratory Chemicals - 95th Release | D22: 1 | E22: 0.11341523 | F22: 24 hr/day (continuous) | G22: 258
A23: 5 | B23: Aerosol Degreasing - 95th Release | D23: 1 | E23: 5.486128 | F23: 24 hr/day (continuous) | G23: 250
A24: 6 | B24: Import-Repackaging - 95th Release | D24: 1 | E24: 0.6272885 | F24: 24 hr/day (continuous) | G24: 119

Sheet Source Inputs Fugitive
A1: Fugitive Source
A3: Step 1: Enter Source Parameters | E3: Step 2: Select Location and Deposition Settings
A5: Source Parameters | E5: Location and Deposition Settings
A6: Area of Source (m2) | C6: 100 | E6: Select Urban or Rural | G6: Rural
A7: Release Height (m) | C7: 3.05 | E7: Population | G7: =IFERROR(VLOOKUP($G$6,[1]lookups!$G$1:$H$3,2,FALSE),"") -> N/A for Rural
E9: Select Particle Size | G9: No particles (vapor only)
E10: Mean Aerodynamic Diameter (mm) | G10: =IFERROR(VLOOKUP($G$9,[1]lookups!$J$1:$K$4,2,FALSE),"") -> N/A for Vapor
E11: Density (g/cm3) | G11: =IFERROR(VLOOKUP($G$9,[1]lookups!$J$2:$L$4,3,FALSE),"") -> N/A for Vapor
E13: Select Climate Region | G13: South (Coastal)
E14: Surface Station | G14: =IFERROR(VLOOKUP($G$13,[1]lookups!$M$1:$O$15,2,FALSE),"") -> Lake Charles, LA
E15: Upper-air Station | G15: =IFERROR(VLOOKUP($G$13,[1]lookups!$M$1:$O$15,3,FALSE),"") -> Lake Charles, LA
A16: Step 3: Define Emission Scenarios
E17: Select Cyclical or Consecutive | G17: Consecutive
A18: Scenario # | B18: Scenario Name | D18: Release # | E18: Release Amount (kg/site/day) | F18: Release Duration (hours/day) | G18: Release Frequency (days/year)
A19: 1 | B19: Vapor Degreasing - 95th Release | D19: 1 | E19: 31.927717 | F19: 24 hr/day (continuous) | G19: 296
A20: 2 | B20: Use of Adhesives - 95th Release | D20: 1 | E20: 1177.4087 | F20: 24 hr/day (continuous) | G20: 250
A21: 3 | B21: Use as a Blowing Agent in Spray Foam - 95th Release | D21: 1 | E21: 1.026384 | F21: 24 hr/day (continuous) | G21: 260
A22: 4 | B22: Laboratory Chemicals - 95th Release | D22: 1 | E22: 0.11341523 | F22: 24 hr/day (continuous) | G22: 258
A23: 5 | B23: Aerosol Degreasing - 95th Release | D23: 1 | E23: 5.486128 | F23: 24 hr/day (continuous) | G23: 250
A24: 6 | B24: Import-Repackaging - 95th Release | D24: 1 | E24: 0.6272885 | F24: 24 hr/day (continuous) | G24: 119

Sheet Trans 1,2-DCE Stk Outputs
L1: Acute Dose (mg/kg/day) | S1: Chronic Dose (mg/kg/day)
A2: Source Type | B2: Emission Scenario | C2: Statistic | D2: Location | E2: Outdoor Air Concentration (µg/m3) | G2: Indoor Air Concentration (µg/m3) | I2: Total Annual Particle Deposition (g/m2) | L2: Infant | M2: Young Toddler | N2: Toddler | O2: Small Child | P2: Child | Q2: Teen | R2: Adult | S2: Infant | T2: Young Toddler | U2: Toddler | V2: Small Child | W2: Child | X2: Teen | Y2: Adult | Z2: Lifetime
E3: Daily | F3: Annual | G3: Daily | H3: Annual | I3: Total | J3: Wet | K3: Dry | L3: <1 year | M3: 1 - <2 years | N3: 2 - <3 years | O3: 3 - < 6 years | P3: 6 - <11 years | Q3: 11 - <16 years | R3: 16 - <78 years | S3: <1 year | T3: 1 - <2 years | U3: 2 - <3 years | V3: 3 - < 6 years | W3: 6 - <11 years | X3: 11 - <16 years | Y3: 16 - <78 years
A4: Stack | B4: Vapor Degreasing - 95th Release | C4: High-End | D4: Fenceline Avg | E4: 2.6311121 | F4: 2.1337238 | G4: 2.6311121 | H4: 2.1337238 | I4: 0 | J4: 0 | K4: 0 | L4: 0.0036759435 | M4: 0.003988212 | N4: 0.0032946099 | O4: 0.002240689 | P4: 0.0013105917 | Q4: 0.00086715526 | R4: 0.0005885816 | S4: 0.0014709075 | T4: 0.00149735 | U4: 0.0013760972 | V4: 0.001158635 | W4: 0.00080517879 | X4: 0.00057099651 | Y4: 0.00041121257 | Z4: 0.00018823724
D5: Outer-boundary Avg | E5: 0.35874722 | F5: 0.29092925 | G5: 0.35874722 | H5: 0.29092925 | I5: 0 | J5: 0 | K5: 0 | L5: 0.00050120803 | M5: 0.00054378526 | N5: 0.00044921391 | O5: 0.00030551376 | P5: 0.00017869673 | Q5: 0.000118235 | R5: 8.0252002e-05 | S5: 0.00020055549 | T5: 0.00020416088 | U5: 0.00018762829 | V5: 0.00015797771 | W5: 0.00010978462 | X5: 7.7854307e-05 | Y5: 5.6068066e-05 | Z5: 2.5665796e-05
D6: Community Avg | E6: 0.68473018 | F6: 0.55528803 | G6: 0.68473018 | H6: 0.55528803 | I6: 0 | J6: 0 | K6: 0 | L6: 0.0009566409 | M6: 0.0010379068 | N6: 0.00085740126 | O6: 0.00058312505 | P6: 0.00034107314 | Q6: 0.00022567164 | R6: 0.00015317461 | S6: 0.0003827943 | T6: 0.00038967581 | U6: 0.00035812054 | V6: 0.00030152737 | W6: 0.00020954265 | X6: 0.00014859821 | Y6: 0.00010701545 | Z6: 4.8987543e-05
C7: Mean | D7: Fenceline Avg | E7: 1.8273158 | F7: 1.481878 | G7: 1.1877553 | H7: 0.9632207 | I7: 0 | J7: 0 | K7: 0 | L7: 0.0017074065 | M7: 0.0018255128 | N7: 0.0015310002 | O7: 0.001053586 | P7: 0.00062219741 | Q7: 0.00040695624 | R7: 0.0002926761 | S7: 0.00068320881 | T7: 0.0006853777 | U7: 0.00063947028 | V7: 0.00054479739 | W7: 0.00038225495 | X7: 0.00026796885 | Y7: 0.00020447817 | Z7: 9.2575524e-05
D8: Outer-boundary Avg | E8: 0.32230944 | F8: 0.26137971 | G8: 0.20950114 | H8: 0.16989681 | I8: 0 | J8: 0 | K8: 0 | L8: 0.00030115936 | M8: 0.00032199142 | N8: 0.00027004409 | O8: 0.00018583581 | P8: 0.00010974573 | Q8: 7.1780609e-05 | R8: 5.1623409e-05 | S8: 0.00012050717 | T8: 0.00012088973 | U8: 0.00011279239 | V8: 9.6093596e-05 | W8: 6.7423693e-05 | X8: 4.7265442e-05 | Y8: 3.6066698e-05 | Z8: 1.632885e-05
D9: Community Avg | E9: 0.59587442 | F9: 0.48322967 | G9: 0.38731838 | H9: 0.31409929 | I9: 0 | J9: 0 | K9: 0 | L9: 0.00055677289 | M9: 0.00059528648 | N9: 0.00049924807 | O9: 0.00034356675 | P9: 0.00020289407 | Q9: 0.00013270548 | R9: 9.5439554e-05 | S9: 0.00022278944 | T9: 0.0002234967 | U9: 0.00020852662 | V9: 0.00017765448 | W9: 0.00012465057 | X9: 8.7382698e-05 | Y9: 6.667885e-05 | Z9: 3.0188207e-05
B10: Use of Adhesives - 95th Release | C10: High-End | D10: Fenceline Avg | E10: 108.2709 | F10: 74.158151 | G10: 108.2709 | H10: 74.158151 | I10: 0 | J10: 0 | K10: 0 | L10: 0.15126597 | M10: 0.16411589 | N10: 0.135574 | O10: 0.092204895 | P10: 0.053931165 | Q10: 0.035683649 | R10: 0.024220275 | S10: 0.051121789 | T10: 0.052040807 | U10: 0.047826633 | V10: 0.040268673 | W10: 0.027984208 | X10: 0.019845139 | Y10: 0.014291805 | Z10: 0.0065422364
D11: Outer-boundary Avg | E11: 13.740226 | F11: 9.4111136 | G11: 13.740226 | H11: 9.4111136 | I11: 0 | J11: 0 | K11: 0 | L11: 0.019196557 | M11: 0.02082729 | N11: 0.017205152 | O11: 0.011701354 | P11: 0.006844188 | Q11: 0.0045284688 | R11: 0.003073698 | S11: 0.0064876613 | T11: 0.0066042902 | U11: 0.0060694863 | V11: 0.0051103359 | W11: 0.0035513636 | X11: 0.002518467 | Y11: 0.0018137156 | Z11: 0.00083024899
D12: Community Avg | E12: 27.26938 | F12: 18.677658 | G12: 27.26938 | H12: 18.677658 | I12: 0 | J12: 0 | K12: 0 | L12: 0.038098225 | M12: 0.04133464 | N12: 0.034146007 | O12: 0.023222956 | P12: 0.013583238 | Q12: 0.0089873732 | R12: 0.0061001792 | S12: 0.012875662 | T12: 0.013107128 | U12: 0.012045736 | V12: 0.010142169 | W12: 0.0070481727 | X12: 0.0049982464 | Y12: 0.0035995697 | Z12: 0.0016477441
C13: Mean | D13: Fenceline Avg | E13: 68.003197 | F13: 46.577532 | G13: 44.202078 | H13: 30.275396 | I13: 0 | J13: 0 | K13: 0 | L13: 0.063540798 | M13: 0.067936098 | N13: 0.056975872 | O13: 0.039208995 | P13: 0.023154954 | Q13: 0.015144797 | R13: 0.010891884 | S13: 0.021474224 | T13: 0.021542395 | U13: 0.02009946 | V13: 0.017123757 | W13: 0.012014816 | X13: 0.0084226418 | Y13: 0.0064270397 | Z13: 0.0029097803
D14: Outer-boundary Avg | E14: 11.884936 | F14: 8.1403673 | G14: 7.7252086 | H14: 5.2912388 | I14: 0 | J14: 0 | K14: 0 | L14: 0.011105042 | M14: 0.011873209 | N14: 0.0099576879 | O14: 0.0068525661 | P14: 0.0040467973 | Q14: 0.00264686 | R14: 0.0019035773 | S14: 0.0037530557 | T14: 0.00376497 | U14: 0.0035127878 | V14: 0.0029927234 | W14: 0.0020998326 | X14: 0.0014720273 | Y14: 0.0011232554 | Z14: 0.00050854306
D15: Community Avg | E15: 22.009013 | F15: 15.074666 | G15: 14.305858 | H15: 9.798533 | I15: 0 | J15: 0 | K15: 0 | L15: 0.020564772 | M15: 0.021987296 | N15: 0.018440055 | O15: 0.012689863 | P15: 0.0074940253 | Q15: 0.0049015639 | R15: 0.0035251225 | S15: 0.0069500626 | T15: 0.0069721259 | U15: 0.0065051246 | V15: 0.0055420479 | W15: 0.0038885561 | X15: 0.0027259605 | Y15: 0.0020800904 | Z15: 0.00094174089
B16: Use as a Blowing Agent in Spray Foam - 95th Release | C16: High-End | D16: Fenceline Avg | E16: 0.092027819 | F16: 0.065554063 | G16: 0.092027819 | H16: 0.065554063 | I16: 0 | J16: 0 | K16: 0 | L16: 0.00012857265 | M16: 0.0001394948 | N16: 0.00011523483 | O16: 7.8372078e-05 | P16: 4.5840272e-05 | Q16: 3.0330295e-05 | R16: 2.0586687e-05 | S16: 4.519046e-05 | T16: 4.6002851e-05 | U16: 4.227762e-05 | V16: 3.5596561e-05 | W16: 2.4737382e-05 | X16: 1.7542637e-05 | Y16: 1.263362e-05 | Z16: 5.7831833e-06
D17: Outer-boundary Avg | E17: 0.011863899 | F17: 0.0084509966 | G17: 0.011863899 | H17: 0.0084509966 | I17: 0 | J17: 0 | K17: 0 | L17: 1.6575129e-05 | M17: 1.7983173e-05 | N17: 1.4855665e-05 | O17: 1.010345e-05 | P17: 5.9095648e-06 | Q17: 3.9100738e-06 | R17: 2.6539624e-06 | S17: 5.8257934e-06 | T17: 5.9305239e-06 | U17: 5.4502804e-06 | V17: 4.588982e-06 | W17: 3.1890553e-06 | X17: 2.2615343e-06 | Y17: 1.6286813e-06 | Z17: 7.4554741e-07
D18: Community Avg | E18: 0.023349744 | F18: 0.016632694 | G18: 0.023349744 | H18: 0.016632694 | I18: 0 | J18: 0 | K18: 0 | L18: 3.2622076e-05 | M18: 3.5393295e-05 | N18: 2.923794e-05 | O18: 1.9884943e-05 | P18: 1.1630816e-05 | Q18: 7.6955493e-06 | R18: 5.2233538e-06 | S18: 1.1465942e-05 | T18: 1.1672066e-05 | U18: 1.0726882e-05 | V18: 9.0317317e-06 | W18: 6.2764883e-06 | X18: 4.4510026e-06 | Y18: 3.2054631e-06 | Z18: 1.4673372e-06
C19: Mean | D19: Fenceline Avg | E19: 0.059151541 | F19: 0.042135344 | G19: 0.038448502 | H19: 0.027387974 | I19: 0 | J19: 0 | K19: 0 | L19: 5.5269992e-05 | M19: 5.9093176e-05 | N19: 4.9559591e-05 | O19: 3.4105344e-05 | P19: 2.0140983e-05 | Q19: 1.317347e-05 | R19: 9.4741383e-06 | S19: 1.9426187e-05 | T19: 1.9487856e-05 | U19: 1.8182536e-05 | V19: 1.5490631e-05 | W19: 1.0868941e-05 | X19: 7.6193584e-06 | Y19: 5.8140807e-06 | Z19: 2.632269e-06
D20: Outer-boundary Avg | E20: 0.010360752 | F20: 0.007380262 | G20: 0.0067344891 | H20: 0.0047971703 | I20: 0 | J20: 0 | K20: 0 | L20: 9.6808755e-06 | M20: 1.035053e-05 | N20: 8.680664e-06 | O20: 5.9737587e-06 | P20: 3.5278158e-06 | Q20: 2.3074134e-06 | R20: 1.659453e-06 | S20: 3.4026148e-06 | T20: 3.4134166e-06 | U20: 3.1847819e-06 | V20: 2.7132784e-06 | W20: 1.9037611e-06 | X20: 1.334577e-06 | Y20: 1.0183716e-06 | Z20: 4.6105794e-07
D21: Community Avg | E21: 0.019178715 | F21: 0.01366155 | G21: 0.012466165 | H21: 0.0088800077 | I21: 0 | J21: 0 | K21: 0 | L21: 1.7920199e-05 | M21: 1.9159791e-05 | N21: 1.6068715e-05 | O21: 1.1057982e-05 | P21: 6.5303145e-06 | Q21: 4.2712364e-06 | R21: 3.0718016e-06 | S21: 6.298556e-06 | T21: 6.3185511e-06 | U21: 5.8953271e-06 | V21: 5.0225302e-06 | W21: 3.5240386e-06 | X21: 2.4704259e-06 | Y21: 1.8851004e-06 | Z21: 8.5346106e-07
B22: Laboratory Chemicals - 95th Release | C22: High-End | D22: Fenceline Avg | E22: 0.010220759 | F22: 0.0072245363 | G22: 0.010220759 | H22: 0.0072245363 | I22: 0 | J22: 0 | K22: 0 | L22: 1.4279487e-05 | M22: 1.5492519e-05 | N22: 1.2798167e-05 | O22: 8.70413e-06 | P22: 5.0910949e-06 | Q22: 3.3685318e-06 | R22: 2.2863908e-06 | S22: 4.9803187e-06 | T22: 5.0698501e-06 | U22: 4.6593024e-06 | V22: 3.9230009e-06 | W22: 2.7262401e-06 | X22: 1.9333266e-06 | Y22: 1.3923171e-06 | Z22: 6.3734902e-07
D23: Outer-boundary Avg | E23: 0.0013127264 | F23: 0.00092789972 | G23: 0.0013127264 | H23: 0.00092789972 | I23: 0 | J23: 0 | K23: 0 | L23: 1.8340184e-06 | M23: 1.9898168e-06 | N23: 1.6437617e-06 | O23: 1.1179347e-06 | P23: 6.5388633e-07 | Q23: 4.3264502e-07 | R23: 2.9365779e-07 | S23: 6.3965853e-07 | T23: 6.511577e-07 | U23: 5.9842808e-07 | V23: 5.0385953e-07 | W23: 3.5015084e-07 | X23: 2.4831119e-07 | Y23: 1.7882541e-07 | Z23: 8.1859368e-08
D24: Community Avg | E24: 0.0025895525 | F24: 0.0018304234 | G24: 0.0025895525 | H24: 0.0018304234 | I24: 0 | J24: 0 | K24: 0 | L24: 3.6178803e-06 | M24: 3.9252164e-06 | N24: 3.2425701e-06 | O24: 2.2052963e-06 | P24: 1.2898903e-06 | Q24: 8.5345814e-07 | R24: 5.7928468e-07 | S24: 1.2618238e-06 | T24: 1.2845077e-06 | U24: 1.1804905e-06 | V24: 9.9393959e-07 | W24: 6.9072581e-07 | X24: 4.8983162e-07 | Y24: 3.5276033e-07 | Z24: 1.6148006e-07
C25: Mean | D25: Fenceline Avg | E25: 0.0065390559 | F25: 0.0046221272 | G25: 0.0042503863 | H25: 0.0030043827 | I25: 0 | J25: 0 | K25: 0 | L25: 6.1099602e-06 | M25: 6.5326038e-06 | N25: 5.4786896e-06 | O25: 3.7702611e-06 | P25: 2.2265356e-06 | Q25: 1.4562943e-06 | R25: 1.0473424e-06 | S25: 2.1309973e-06 | T25: 2.1377623e-06 | U25: 1.9945724e-06 | V25: 1.6992781e-06 | W25: 1.1922918e-06 | X25: 8.358219e-07 | Y25: 6.3778808e-07 | Z25: 2.8875241e-07
D26: Outer-boundary Avg | E26: 0.0011448574 | F26: 0.00080924169 | G26: 0.00074415733 | H26: 0.0005260071 | I26: 0 | J26: 0 | K26: 0 | L26: 1.0697314e-06 | M26: 1.1437278e-06 | N26: 9.5920859e-07 | O26: 6.6009704e-07 | P26: 3.8982169e-07 | Q26: 2.5496791e-07 | R26: 1.8336864e-07 | S26: 3.7309486e-07 | T26: 3.7427926e-07 | U26: 3.4920959e-07 | V26: 2.9750949e-07 | W26: 2.0874636e-07 | X26: 1.4633564e-07 | Y26: 1.1166389e-07 | Z26: 5.0554751e-08
D27: Community Avg | E27: 0.0021194089 | F27: 0.0014981027 | G27: 0.0013776158 | H27: 0.00097376676 | I27: 0 | J27: 0 | K27: 0 | L27: 1.9803324e-06 | M27: 2.1173176e-06 | N27: 1.7757278e-06 | O27: 1.2219998e-06 | P27: 7.2165453e-07 | Q27: 4.7200746e-07 | R27: 3.3945984e-07 | S27: 6.906891e-07 | T27: 6.9288173e-07 | U27: 6.4647168e-07 | V27: 5.5076224e-07 | W27: 3.8644016e-07 | X27: 2.7090277e-07 | Y27: 2.0671695e-07 | Z27: 9.358911e-08
B28: Aerosol Degreasing - 95th Release | C28: High-End | D28: Fenceline Avg | E28: 0.50448753 | F28: 0.3455394 | G28: 0.50448753 | H28: 0.3455394 | I28: 0 | J28: 0 | K28: 0 | L28: 0.00070482275 | M28: 0.00076469689 | N28: 0.00063170612 | O28: 0.00042962809 | P28: 0.0002512919 | Q28: 0.00016626772 | R28: 0.00011285421 | S28: 0.00023820163 | T28: 0.00024248379 | U28: 0.00022284788 | V28: 0.00018763161 | W28: 0.00013039223 | X28: 9.2468291e-05 | Y28: 6.6592567e-05 | Z28: 3.0483506e-05
D29: Outer-boundary Avg | E29: 0.06402249 | F29: 0.04385102 | G29: 0.06402249 | H29: 0.04385102 | I29: 0 | J29: 0 | K29: 0 | L29: 8.9446229e-05 | M29: 9.7044616e-05 | N29: 8.0167291e-05 | O29: 5.4522378e-05 | P29: 3.1890448e-05 | Q29: 2.110037e-05 | R29: 1.4321875e-05 | S29: 3.0229214e-05 | T29: 3.0772646e-05 | U29: 2.8280731e-05 | V29: 2.3811576e-05 | W29: 1.6547555e-05 | X29: 1.173478e-05 | Y29: 8.4509957e-06 | Z29: 3.8685396e-06
D30: Community Avg | E30: 0.12706149 | F30: 0.08702842 | G30: 0.12706149 | H30: 0.08702842 | I30: 0 | J30: 0 | K30: 0 | L30: 0.00017751842 | M30: 0.00019259847 | N30: 0.00015910309 | O30: 0.00010820721 | P30: 6.3291008e-05 | Q30: 4.1876605e-05 | R30: 2.8423744e-05 | S30: 5.999406e-05 | T30: 6.1072576e-05 | U30: 5.6127025e-05 | V30: 4.7257368e-05 | W30: 3.2840913e-05 | X30: 2.3289296e-05 | Y30: 1.6772171e-05 | Z30: 7.6776523e-06
C31: Mean | D31: Fenceline Avg | E31: 0.31686044 | F31: 0.2170277 | G31: 0.20595929 | H31: 0.141068 | I31: 0 | J31: 0 | K31: 0 | L31: 0.00029606792 | M31: 0.00031654779 | N31: 0.00026547869 | O31: 0.00018269405 | P31: 0.00010789035 | Q31: 7.0567077e-05 | R31: 5.0750658e-05 | S31: 0.000100059 | T31: 0.00010037665 | U31: 9.3653299e-05 | V31: 7.9788029e-05 | W31: 5.5982956e-05 | X31: 3.9245243e-05 | Y31: 2.9946748e-05 | Z31: 1.3558102e-05
D32: Outer-boundary Avg | E32: 0.055377781 | F32: 0.037929987 | G32: 0.035995557 | H32: 0.024654491 | I32: 0 | J32: 0 | K32: 0 | L32: 5.1743867e-05 | M32: 5.5323139e-05 | N32: 4.639778e-05 | O32: 3.1929486e-05 | P32: 1.8856025e-05 | Q32: 1.2333026e-05 | R32: 8.8697056e-06 | S32: 1.7487338e-05 | T32: 1.7542852e-05 | U32: 1.6367811e-05 | V32: 1.3944574e-05 | W32: 9.7841558e-06 | X32: 6.8589012e-06 | Y32: 5.233801e-06 | Z32: 2.369553e-06
D33: Community Avg | E33: 0.10255085 | F33: 0.070240305 | G33: 0.06665805 | H33: 0.045656198 | I33: 0 | J33: 0 | K33: 0 | L33: 9.5821415e-05 | M33: 0.00010244966 | N33: 8.5921311e-05 | O33: 5.9128331e-05 | P33: 3.491836e-05 | Q33: 2.2838804e-05 | R33: 1.6425285e-05 | S33: 3.238377e-05 | T33: 3.2486574e-05 | U33: 3.0310584e-05 | V33: 2.5823135e-05 | W33: 1.8118701e-05 | X33: 1.2701595e-05 | Y33: 9.6921673e-06 | Z33: 4.3880354e-06
B34: Import-Repackaging - 95th Release | C34: High-End | D34: Fenceline Avg | E34: 0.079951104 | F34: 0.026066251 | G34: 0.079951104 | H34: 0.026066251 | I34: 0 | J34: 0 | K34: 0 | L34: 0.0001117002 | M34: 0.00012118904 | N34: 0.00010011269 | O34: 6.8087392e-05 | P34: 3.9824701e-05 | Q34: 2.6350082e-05 | R34: 1.7885117e-05 | S34: 1.7969075e-05 | T34: 1.8292106e-05 | U34: 1.6810843e-05 | V34: 1.4154254e-05 | W34: 9.8363209e-06 | X34: 6.9754755e-06 | Y34: 5.0235039e-06 | Z34: 2.2995661e-06
D35: Outer-boundary Avg | E35: 0.0086382941 | F35: 0.0028163205 | G35: 0.0086382941 | H35: 0.0028163205 | I35: 0 | J35: 0 | K35: 0 | L35: 1.2068616e-05 | M35: 1.3093835e-05 | N35: 1.0816647e-05 | O35: 7.3564827e-06 | P35: 4.3028484e-06 | Q35: 2.8469871e-06 | R35: 1.9323924e-06 | S35: 1.9414635e-06 | T35: 1.9763653e-06 | U35: 1.8163227e-06 | V35: 1.5292923e-06 | W35: 1.0627625e-06 | X35: 7.5366324e-07 | Y35: 5.4276304e-07 | Z35: 2.4845596e-07
D36: Community Avg | E36: 0.018951967 | F36: 0.0061788606 | G36: 0.018951967 | H36: 0.0061788606 | I36: 0 | J36: 0 | K36: 0 | L36: 2.6477915e-05 | M36: 2.8727193e-05 | N36: 2.3731159e-05 | O36: 1.613974e-05 | P36: 9.4402253e-06 | Q36: 6.2461414e-06 | R36: 4.2395682e-06 | S36: 4.2594699e-06 | T36: 4.3360425e-06 | U36: 3.9849173e-06 | V36: 3.3551878e-06 | W36: 2.3316455e-06 | X36: 1.6534979e-06 | Y36: 1.1907938e-06 | Z36: 5.4509944e-07
C37: Mean | D37: Fenceline Avg | E37: 0.036613801 | F37: 0.011937102 | G37: 0.02379897 | H37: 0.0077591164 | I37: 0 | J37: 0 | K37: 0 | L37: 3.4211187e-05 | M37: 3.6577674e-05 | N37: 3.0676546e-05 | O37: 2.111063e-05 | P37: 1.2466927e-05 | Q37: 8.1541543e-06 | R37: 5.8643309e-06 | S37: 5.503512e-06 | T37: 5.5209832e-06 | U37: 5.1511812e-06 | V37: 4.3885543e-06 | W37: 3.0792119e-06 | X37: 2.158593e-06 | Y37: 1.647151e-06 | Z37: 7.4573176e-07
D38: Outer-boundary Avg | E38: 0.0063217898 | F38: 0.0020610767 | G38: 0.0041091634 | H38: 0.0013396998 | I38: 0 | J38: 0 | K38: 0 | L38: 5.9069513e-06 | M38: 6.3155521e-06 | N38: 5.2966552e-06 | O38: 3.6449907e-06 | P38: 2.1525569e-06 | Q38: 1.4079076e-06 | R38: 1.0125435e-06 | S38: 9.5024405e-07 | T38: 9.5326065e-07 | U38: 8.8941012e-07 | V38: 7.577339e-07 | W38: 5.3166101e-07 | X38: 3.7270567e-07 | Y38: 2.8439939e-07 | Z38: 1.2875908e-07
D39: Community Avg | E39: 0.011742325 | F39: 0.0038283198 | G39: 0.0076325115 | H39: 0.0024884079 | I39: 0 | J39: 0 | K39: 0 | L39: 1.0971789e-05 | M39: 1.1730739e-05 | N39: 9.8382026e-06 | O39: 6.7703402e-06 | P39: 3.9982386e-06 | Q39: 2.6150995e-06 | R39: 1.8807357e-06 | S39: 1.7650183e-06 | T39: 1.7706215e-06 | U39: 1.6520231e-06 | V39: 1.4074429e-06 | W39: 9.8752677e-07 | X39: 6.9227726e-07 | Y39: 5.2825391e-07 | Z39: 2.3916187e-07
D40: Max | E40: =MAX(E4:E39) -> 108.2709 | F40: =MAX(F4:F39) -> 74.158151 | G40: =MAX(G4:G39) -> 108.2709 | H40: =MAX(H4:H39) -> 74.158151 | I40: =MAX(I4:I39) -> 0 | J40: =MAX(J4:J39) -> 0 | K40: =MAX(K4:K39) -> 0 | L40: =MAX(L4:L39) -> 0.15126597 | ... Z40: =MAX(Z4:Z39) -> 0.0065422364

Sheet Trans 1,2-DCE Stk Risk Screen
B1: Outdoor Air Concentration (ug/m3) | N1: Non-cancer Risk Estimate
B2: Stack | N2: Total
B3: Daily | H3: Annual | N3: Acute MOE = Acute HEC/Daily HEC = 7,930,000 ug/m3 (Benchmark = 30) | T3: Chronic MOE = Chronic HEC/Annual HEC = 117,000 ug/m3 (Benchmark = 100)
B4: High-End | E4: Mean | H4: High-End | K4: Mean | N4: High-end | Q4: Mean | T4: High-end | W4: Mean
A5: Emission Scenario | B5: Fenceline Avg (100m) | C5: Outer-boundary Avg (1000 m) | D5: Community Avg (100-1000 m) | E5: Fenceline Avg (100m) | F5: Outer-boundary Avg (1000 m) | G5: Community Avg (100-1000 m) | H5: Fenceline Avg (100m) | I5: Outer-boundary Avg (1000 m) | J5: Community Avg (100-1000 m) | K5: Fenceline Avg (100m) | L5: Outer-boundary Avg (1000 m) | M5: Community Avg (100-1000 m) | N5: Fenceline Avg (100m) | O5: Outer-boundary Avg (1000 m) | P5: Community Avg (100-1000 m) | Q5: Fenceline Avg (100m) | R5: Outer-boundary Avg (1000 m) | S5: Community Avg (100-1000 m) | T5: Fenceline Avg (100m) | U5: Outer-boundary Avg (1000 m) | V5: Community Avg (100-1000 m) | W5: Fenceline Avg (100m) | X5: Outer-boundary Avg (1000 m) | Y5: Community Avg (100-1000 m)
A6: Vapor Degreasing - 95th Release | B6: 2.6311121 | C6: 0.35874722 | D6: 0.68473018 | E6: 1.8273158 | F6: 0.32230944 | G6: 0.59587442 | H6: 2.1337238 | I6: 0.29092925 | J6: 0.55528803 | K6: 1.481878 | L6: 0.26137971 | M6: 0.48322967 | N6: ='Hazard Values'!$C$2/B6 -> 3013934.7 | O6: ='Hazard Values'!$C$2/C6 -> 22104701 | P6: ='Hazard Values'!$C$2/D6 -> 11581204 | Q6: ='Hazard Values'!$C$2/E6 -> 4339698.8 | R6: ='Hazard Values'!$C$2/F6 -> 24603685 | S6: ='Hazard Values'!$C$2/G6 -> 13308173 | T6: ='Hazard Values'!$C$3/H6 -> 54833.714 | U6: ='Hazard Values'!$C$3/I6 -> 402159.63 | V6: ='Hazard Values'!$C$3/J6 -> 210701.46 | W6: ='Hazard Values'!$C$3/K6 -> 78953.868 | X6: ='Hazard Values'!$C$3/L6 -> 447624.65 | Y6: ='Hazard Values'!$C$3/M6 -> 242120.89
A7: Use of Adhesives - 95th Release | B7: 108.2709 | C7: 13.740226 | D7: 27.26938 | E7: 68.003197 | F7: 11.884936 | G7: 22.009013 | H7: 74.158151 | I7: 9.4111136 | J7: 18.677658 | K7: 46.577532 | L7: 8.1403673 | M7: 15.074666 | N7: ='Hazard Values'!$C$2/B7 -> 73242.21 | O7: ='Hazard Values'!$C$2/C7 -> 577137.53 | P7: ='Hazard Values'!$C$2/D7 -> 290802.35 | Q7: ='Hazard Values'!$C$2/E7 -> 116612.16 | R7: ='Hazard Values'!$C$2/F7 -> 667231.17 | S7: ='Hazard Values'!$C$2/G7 -> 360306.94 | T7: ='Hazard Values'!$C$3/H7 -> 1577.7092 | U7: ='Hazard Values'!$C$3/I7 -> 12432.11 | V7: ='Hazard Values'!$C$3/J7 -> 6264.1688 | W7: ='Hazard Values'!$C$3/K7 -> 2511.9407 | X7: ='Hazard Values'!$C$3/L7 -> 14372.816 | Y7: ='Hazard Values'!$C$3/M7 -> 7761.3659
A8: Use as a Blowing Agent in Spray Foam - 95th Release | B8: 0.092027819 | C8: 0.011863899 | D8: 0.023349744 | E8: 0.059151541 | F8: 0.010360752 | G8: 0.019178715 | H8: 0.065554063 | I8: 0.0084509966 | J8: 0.016632694 | K8: 0.042135344 | L8: 0.007380262 | M8: 0.01366155 | N8: ='Hazard Values'!$C$2/B8 -> 86169596 | O8: ='Hazard Values'!$C$2/C8 -> 6.6841432e+08 | P8: ='Hazard Values'!$C$2/D8 -> 3.3961829e+08 | Q8: ='Hazard Values'!$C$2/E8 -> 1.3406244e+08 | R8: ='Hazard Values'!$C$2/F8 -> 7.6538842e+08 | S8: ='Hazard Values'!$C$2/G8 -> 4.1347922e+08 | T8: ='Hazard Values'!$C$3/H8 -> 1784786.4 | U8: ='Hazard Values'!$C$3/I8 -> 13844521 | V8: ='Hazard Values'!$C$3/J8 -> 7034338.5 | W8: ='Hazard Values'!$C$3/K8 -> 2776766.2 | X8: ='Hazard Values'!$C$3/L8 -> 15853096 | Y8: ='Hazard Values'!$C$3/M8 -> 8564181.8
A9: Laboratory Chemicals - 95th Release | B9: 0.010220759 | C9: 0.0013127264 | D9: 0.0025895525 | E9: 0.0065390559 | F9: 0.0011448574 | G9: 0.0021194089 | H9: 0.0072245363 | I9: 0.00092789972 | J9: 0.0018304234 | K9: 0.0046221272 | L9: 0.00080924169 | M9: 0.0014981027 | N9: ='Hazard Values'!$C$2/B9 -> 7.7587195e+08 | O9: ='Hazard Values'!$C$2/C9 -> 6.040863e+09 | P9: ='Hazard Values'!$C$2/D9 -> 3.0623052e+09 | Q9: ='Hazard Values'!$C$2/E9 -> 1.2127133e+09 | R9: ='Hazard Values'!$C$2/F9 -> 6.9266267e+09 | S9: ='Hazard Values'!$C$2/G9 -> 3.7416093e+09 | T9: ='Hazard Values'!$C$3/H9 -> 16194811 | U9: ='Hazard Values'!$C$3/I9 -> 1.2609121e+08 | V9: ='Hazard Values'!$C$3/J9 -> 63919637 | W9: ='Hazard Values'!$C$3/K9 -> 25313021 | X9: ='Hazard Values'!$C$3/L9 -> 1.445798e+08 | Y9: ='Hazard Values'!$C$3/M9 -> 78098784
A10: Aerosol Degreasing - 95th Release | B10: 0.50448753 | C10: 0.06402249 | D10: 0.12706149 | E10: 0.31686044 | F10: 0.055377781 | G10: 0.10255085 | H10: 0.3455394 | I10: 0.04385102 | J10: 0.08702842 | K10: 0.2170277 | L10: 0.037929987 | M10: 0.070240305 | N10: ='Hazard Values'!$C$2/B10 -> 15718922 | O10: ='Hazard Values'!$C$2/C10 -> 1.2386272e+08 | P10: ='Hazard Values'!$C$2/D10 -> 62410725 | Q10: ='Hazard Values'!$C$2/E10 -> 25026791 | R10: ='Hazard Values'!$C$2/F10 -> 1.4319823e+08 | S10: ='Hazard Values'!$C$2/G10 -> 77327495 | T10: ='Hazard Values'!$C$3/H10 -> 338601.04 | U10: ='Hazard Values'!$C$3/I10 -> 2668124.9 | V10: ='Hazard Values'!$C$3/J10 -> 1344388.4 | W10: ='Hazard Values'!$C$3/K10 -> 539101.7 | X10: ='Hazard Values'!$C$3/L10 -> 3084630.7 | Y10: ='Hazard Values'!$C$3/M10 -> 1665710.3
A11: Import-Repackaging - 95th Release | B11: 0.079951104 | C11: 0.0086382941 | D11: 0.018951967 | E11: 0.036613801 | F11: 0.0063217898 | G11: 0.011742325 | H11: 0.026066251 | I11: 0.0028163205 | J11: 0.0061788606 | K11: 0.011937102 | L11: 0.0020610767 | M11: 0.0038283198 | N11: ='Hazard Values'!$C$2/B11 -> 99185622 | O11: ='Hazard Values'!$C$2/C11 -> 9.1800533e+08 | P11: ='Hazard Values'!$C$2/D11 -> 4.1842622e+08 | Q11: ='Hazard Values'!$C$2/E11 -> 2.16585e+08 | R11: ='Hazard Values'!$C$2/F11 -> 1.2543916e+09 | S11: ='Hazard Values'!$C$2/G11 -> 6.7533471e+08 | T11: ='Hazard Values'!$C$3/H11 -> 4488562.7 | U11: ='Hazard Values'!$C$3/I11 -> 41543567 | V11: ='Hazard Values'!$C$3/J11 -> 18935530 | W11: ='Hazard Values'!$C$3/K11 -> 9801373.8 | X11: ='Hazard Values'!$C$3/L11 -> 56766447 | Y11: ='Hazard Values'!$C$3/M11 -> 30561710
A14: *Note - Stack Releases Modeled without Release Control Efficiency

Sheet Trans 1,2-DCE Fug Outputs
L1: Acute Dose (mg/kg/day) | S1: Chronic Dose (mg/kg/day)
A2: Source Type | B2: Emission Scenario | C2: Statistic | D2: Location | E2: Outdoor Air Concentration (µg/m3) | G2: Indoor Air Concentration (µg/m3) | I2: Total Annual Particle Deposition (g/m2) | L2: Infant | M2: Young Toddler | N2: Toddler | O2: Small Child | P2: Child | Q2: Teen | R2: Adult | S2: Infant | T2: Young Toddler | U2: Toddler | V2: Small Child | W2: Child | X2: Teen | Y2: Adult | Z2: Lifetime
E3: Daily | F3: Annual | G3: Daily | H3: Annual | I3: Total | J3: Wet | K3: Dry | L3: <1 year | M3: 1 - <2 years | N3: 2 - <3 years | O3: 3 - < 6 years | P3: 6 - <11 years | Q3: 11 - <16 years | R3: 16 - <78 years | S3: <1 year | T3: 1 - <2 years | U3: 2 - <3 years | V3: 3 - < 6 years | W3: 6 - <11 years | X3: 11 - <16 years | Y3: 16 - <78 years
A4: Fugitive Source | B4: Vapor Degreasing - 95th Release | C4: High-End | D4: Fenceline Avg | E4: 56.510447 | F4: 45.82765 | G4: 56.510447 | H4: 45.82765 | I4: 0 | J4: 0 | K4: 0 | L4: 0.078951106 | M4: 0.08565794 | N4: 0.070760907 | O4: 0.048125026 | P4: 0.0281486 | Q4: 0.01862457 | R4: 0.012641426 | S4: 0.031591827 | T4: 0.032159754 | U4: 0.029555513 | V4: 0.024884907 | W4: 0.017293453 | X4: 0.012263737 | Y4: 0.008831933 | Z4: 0.004042918
D5: Outer-boundary Avg | E5: 2.5995216 | F5: 2.1081052 | G5: 2.5995216 | H5: 2.1081052 | I5: 0 | J5: 0 | K5: 0 | L5: 0.0036318083 | M5: 0.0039403275 | N5: 0.0032550532 | O5: 0.0022137862 | P5: 0.0012948561 | Q5: 0.00085674375 | R5: 0.00058151479 | S5: 0.001453247 | T5: 0.0014793721 | U5: 0.0013595751 | V5: 0.0011447238 | W5: 0.0007955114 | X5: 0.00056414083 | Y5: 0.00040627534 | Z5: 0.00018597717
D6: Community Avg | E6: 6.5336043 | F6: 5.2984846 | G6: 6.5336043 | H6: 5.2984846 | I6: 0 | J6: 0 | K6: 0 | L6: 0.0091281403 | M6: 0.0099035687 | N6: 0.0081812089 | O6: 0.0055641017 | P6: 0.0032544746 | Q6: 0.0021533287 | R6: 0.0014615718 | S6: 0.0036525724 | T6: 0.0037182348 | U6: 0.0034171386 | V6: 0.0028771341 | W6: 0.0019994282 | X6: 0.0014179043 | Y6: 0.0010211272 | Z6: 0.00046743262
C7: Mean | D7: Fenceline Avg | E7: 50.211845 | F7: 40.719743 | G7: 32.637699 | H7: 26.467833 | I7: 0 | J7: 0 | K7: 0 | L7: 0.046916923 | M7: 0.050162301 | N7: 0.042069547 | O7: 0.028950933 | P7: 0.017097034 | Q7: 0.011182536 | R7: 0.008042292 | S7: 0.018773534 | T7: 0.018833132 | U7: 0.017571666 | V7: 0.0149702 | W7: 0.010503782 | X7: 0.0073633744 | Y7: 0.0056187478 | Z7: 0.0025438339
D8: Outer-boundary Avg | E8: 2.1596009 | F8: 1.7513476 | G8: 1.4037406 | H8: 1.1383759 | I8: 0 | J8: 0 | K8: 0 | L8: 0.002017887 | M8: 0.00215747 | N8: 0.0018094024 | O8: 0.0012451735 | P8: 0.00073533985 | Q8: 0.00048095851 | R8: 0.00034589729 | S8: 0.00080744576 | T8: 0.00081000904 | U8: 0.00075575367 | V8: 0.00064386515 | W8: 0.00045176545 | X8: 0.00031669719 | Y8: 0.00024166116 | Z8: 0.00010940976
D9: Community Avg | E9: 5.6824462 | F9: 4.6082304 | G9: 3.69359 | H9: 2.9953497 | I9: 0 | J9: 0 | K9: 0 | L9: 0.0053095617 | M9: 0.0056768393 | N9: 0.0047609869 | O9: 0.0032763607 | P9: 0.0019348617 | Q9: 0.0012655213 | R9: 0.00091014165 | S9: 0.0021245903 | T9: 0.0021313349 | U9: 0.0019885756 | V9: 0.0016941691 | W9: 0.0011887071 | X9: 0.00083330893 | Y9: 0.00063587052 | Z9: 0.00028788425
B10: Use of Adhesives - 95th Release | C10: High-End | D10: Fenceline Avg | E10: 2127.5544 | F10: 1457.2291 | G10: 2127.5544 | H10: 1457.2291 | I10: 0 | J10: 0 | K10: 0 | L10: 2.9724199 | M10: 3.2249246 | N10: 2.6640681 | O10: 1.8118528 | P10: 1.059763 | Q10: 0.70119399 | R10: 0.47593539 | S10: 1.0045579 | T10: 1.0226169 | U10: 0.93980714 | V10: 0.79129104 | W10: 0.54989776 | X10: 0.3899627 | Y10: 0.28083808 | Z10: 0.12855683
D11: Outer-boundary Avg | E11: 97.036469 | F11: 66.463335 | G11: 97.036469 | H11: 66.463335 | I11: 0 | J11: 0 | K11: 0 | L11: 0.13557027 | M11: 0.14708686 | N11: 0.12150653 | O11: 0.082637509 | P11: 0.048335147 | Q11: 0.031981033 | R11: 0.021707125 | S11: 0.045817278 | T11: 0.046640937 | U11: 0.042864035 | V11: 0.036090305 | W11: 0.025080504 | X11: 0.017785963 | Y11: 0.012808855 | Z11: 0.0058633993
D12: Community Avg | E12: 243.43446 | F12: 166.73593 | G12: 243.43446 | H12: 166.73593 | I12: 0 | J12: 0 | K12: 0 | L12: 0.34010383 | M12: 0.36899539 | N12: 0.30482228 | O12: 0.20731193 | P12: 0.12125792 | Q12: 0.080230511 | R12: 0.054456457 | S12: 0.11494136 | T12: 0.11700767 | U12: 0.10753259 | V12: 0.090539403 | W12: 0.062919219 | X12: 0.044619474 | Y12: 0.032133452 | Z12: 0.014709453
C13: Mean | D13: Fenceline Avg | E13: 1851.5161 | F13: 1268.1617 | G13: 1203.4855 | H13: 824.30511 | I13: 0 | J13: 0 | K13: 0 | L13: 1.7300188 | M13: 1.8496892 | N13: 1.5512762 | O13: 1.0675393 | P13: 0.63043758 | Q13: 0.41234583 | R13: 0.2965522 | S13: 0.58467651 | T13: 0.5865326 | U13: 0.54724595 | V13: 0.46622677 | W13: 0.32712618 | X13: 0.22932241 | Y13: 0.17498835 | Z13: 0.079224292
D14: Outer-boundary Avg | E14: 79.692533 | F14: 54.583927 | G14: 51.800146 | H14: 35.479552 | I14: 0 | J14: 0 | K14: 0 | L14: 0.074463075 | M14: 0.0796139 | N14: 0.066769678 | O14: 0.045948782 | P14: 0.02713515 | Q14: 0.017748095 | R14: 0.012764132 | S14: 0.025165513 | T14: 0.025245402 | U14: 0.023554435 | V14: 0.020067226 | W14: 0.01408009 | X14: 0.0098704426 | Y14: 0.0075318088 | Z14: 0.0034099539
D15: Community Avg | E15: 209.6911 | F15: 143.62404 | G15: 136.29921 | H15: 93.355625 | I15: 0 | J15: 0 | K15: 0 | L15: 0.19593108 | M15: 0.20948419 | N15: 0.17568781 | O15: 0.1209028 | P15: 0.071399404 | Q15: 0.046699701 | R15: 0.033585641 | S15: 0.066216793 | T15: 0.066427002 | U15: 0.061977642 | V15: 0.052801919 | W15: 0.037048259 | X15: 0.025971617 | Y15: 0.019818083 | Z15: 0.0089724462
B16: Use as a Blowing Agent in Spray Foam - 95th Release | C16: High-End | D16: Fenceline Avg | E16: 1.8436457 | F16: 1.3132818 | G16: 1.8436457 | H16: 1.3132818 | I16: 0 | J16: 0 | K16: 0 | L16: 0.0025757691 | M16: 0.0027945787 | N16: 0.002308565 | O16: 0.0015700724 | P16: 0.00091834426 | Q16: 0.00060762407 | R16: 0.00041242481 | S16: 0.00090532621 | T16: 0.0009216013 | U16: 0.00084697163 | V16: 0.00071312616 | W16: 0.00049557806 | X16: 0.00035144162 | Y16: 0.00025309649 | Z16: 0.0001158578
D17: Outer-boundary Avg | E17: 0.084532634 | F17: 0.060215027 | G17: 0.084532634 | H17: 0.060215027 | I17: 0 | J17: 0 | K17: 0 | L17: 0.00011810108 | M17: 0.00012813368 | N17: 0.00010584956 | O17: 7.1989082e-05 | P17: 4.2106821e-05 | Q17: 2.7860051e-05 | R17: 1.8910009e-05 | S17: 4.1509933e-05 | T17: 4.2256159e-05 | U17: 3.8834329e-05 | V17: 3.2697407e-05 | W17: 2.2722652e-05 | X17: 1.611388e-05 | Y17: 1.1604677e-05 | Z17: 5.3121732e-06
D18: Community Avg | E18: 0.21182173 | F18: 0.15088671 | G18: 0.21182173 | H18: 0.15088671 | I18: 0 | J18: 0 | K18: 0 | L18: 0.00029593749 | M18: 0.00032107715 | N18: 0.00026523765 | O18: 0.00018039012 | P18: 0.0001055112 | Q18: 6.9811669e-05 | R18: 4.7384668e-05 | S18: 0.00010401552 | T18: 0.00010588541 | U18: 9.7310996e-05 | V18: 8.1933108e-05 | W18: 5.6938382e-05 | X18: 4.0378134e-05 | Y18: 2.9078981e-05 | Z18: 1.3311235e-05
C19: Mean | D19: Fenceline Avg | E19: 1.6141971 | F19: 1.1498391 | G19: 1.0492281 | H19: 0.74739538 | I19: 0 | J19: 0 | K19: 0 | L19: 0.0015082728 | M19: 0.0016126044 | N19: 0.0013524407 | O19: 0.00093070693 | P19: 0.00054963094 | Q19: 0.0003594932 | R19: 0.00025854148 | S19: 0.00053012473 | T19: 0.00053180764 | U19: 0.00049618653 | V19: 0.00042272665 | W19: 0.00029660449 | X19: 0.00020792605 | Y19: 0.0001586615 | Z19: 7.1832467e-05
D20: Outer-boundary Avg | E20: 0.069467383 | F20: 0.049483615 | G20: 0.045153799 | H20: 0.03216435 | I20: 0 | J20: 0 | K20: 0 | L20: 6.4908904e-05 | M20: 6.939884e-05 | N20: 5.8202627e-05 | O20: 4.0053209e-05 | P20: 2.3653507e-05 | Q20: 1.5470881e-05 | R20: 1.1126398e-05 | S20: 2.2814052e-05 | T20: 2.2886477e-05 | U20: 2.1353513e-05 | V20: 1.8192149e-05 | W20: 1.2764449e-05 | X20: 8.9481505e-06 | Y20: 6.8280381e-06 | Z20: 3.0913284e-06
D21: Community Avg | E21: 0.18278918 | F21: 0.13020599 | G21: 0.11881297 | H21: 0.084633896 | I21: 0 | J21: 0 | K21: 0 | L21: 0.00017079448 | M21: 0.00018260883 | N21: 0.00015314829 | O21: 0.00010539181 | P21: 6.2239356e-05 | Q21: 4.0708454e-05 | R21: 2.9276837e-05 | S21: 6.0030504e-05 | T21: 6.0221074e-05 | U21: 5.6187395e-05 | V21: 4.7868911e-05 | W21: 3.3587033e-05 | X21: 2.3545224e-05 | Y21: 1.7966583e-05 | Z21: 8.1341974e-06
B22: Laboratory Chemicals - 95th Release | C22: High-End | D22: Fenceline Avg | E22: 0.20393528 | F22: 0.14415151 | G22: 0.20393528 | H22: 0.14415151 | I22: 0 | J22: 0 | K22: 0 | L22: 0.00028491928 | M22: 0.00030912295 | N22: 0.00025536244 | O22: 0.00017367392 | P22: 0.00010158286 | Q22: 6.7212473e-05 | R22: 4.5620463e-05 | S22: 9.9372533e-05 | T22: 0.00010115896 | U22: 9.296728e-05 | V22: 7.8275822e-05 | W22: 5.4396798e-05 | X22: 3.8575757e-05 | Y22: 2.7780969e-05 | Z22: 1.2717055e-05
D23: Outer-boundary Avg | E23: 0.0093509247 | F23: 0.0066096947 | G23: 0.0093509247 | H23: 0.0066096947 | I23: 0 | J23: 0 | K23: 0 | L23: 1.3064237e-05 | M23: 1.4174033e-05 | N23: 1.1708984e-05 | O23: 7.9633681e-06 | P23: 4.6578191e-06 | Q23: 3.0818541e-06 | R23: 2.0918083e-06 | S23: 4.5564704e-06 | T23: 4.6383823e-06 | U23: 4.2627741e-06 | V23: 3.5891353e-06 | W23: 2.4942244e-06 | X23: 1.7687915e-06 | Y23: 1.2738245e-06 | Z23: 5.8310765e-07
D24: Community Avg | E24: 0.023393071 | F24: 0.016535376 | G24: 0.023393071 | H24: 0.016535376 | I24: 0 | J24: 0 | K24: 0 | L24: 3.2682609e-05 | M24: 3.5458971e-05 | N24: 2.9292193e-05 | O24: 1.9921841e-05 | P24: 1.1652398e-05 | Q24: 7.709829e-06 | R24: 5.2330462e-06 | S24: 1.1398855e-05 | T24: 1.1603773e-05 | U24: 1.0664119e-05 | V24: 8.9788871e-06 | W24: 6.2397646e-06 | X24: 4.4249598e-06 | Y24: 3.1867079e-06 | Z24: 1.4587519e-06
C25: Mean | D25: Fenceline Avg | E25: 0.17836546 | F25: 0.1260775 | G25: 0.11593755 | H25: 0.081950377 | I25: 0 | J25: 0 | K25: 0 | L25: 0.00016666104 | M25: 0.00017818947 | N25: 0.00014944191 | O25: 0.0001028412 | P25: 6.0733087e-05 | Q25: 3.9723259e-05 | R25: 2.8568301e-05 | S25: 5.8127094e-05 | T25: 5.8311621e-05 | U25: 5.440584e-05 | V25: 4.6351113e-05 | W25: 3.2522076e-05 | X25: 2.2798667e-05 | Y25: 1.739691e-05 | Z25: 7.8762833e-06
D26: Outer-boundary Avg | E26: 0.0076762504 | F26: 0.0054259524 | G26: 0.0049895628 | H26: 0.003526869 | I26: 0 | J26: 0 | K26: 0 | L26: 7.1725316e-06 | M26: 7.6686763e-06 | N26: 6.431478e-06 | O26: 4.4259399e-06 | P26: 2.6137481e-06 | Q26: 1.7095557e-06 | R26: 1.2294837e-06 | S26: 2.5015949e-06 | T26: 2.5095364e-06 | U26: 2.3414446e-06 | V26: 1.9947963e-06 | W26: 1.399641e-06 | X26: 9.8117807e-07 | Y26: 7.4870458e-07 | Z26: 3.3896878e-07
D27: Community Avg | E27: 0.020198394 | F27: 0.014277221 | G27: 0.013128956 | H27: 0.0092801936 | I27: 0 | J27: 0 | K27: 0 | L27: 1.8872967e-05 | M27: 2.0178464e-05 | N27: 1.6923044e-05 | O27: 1.1645904e-05 | P27: 6.8775133e-06 | Q27: 4.4983263e-06 | R27: 3.2351208e-06 | S27: 6.5824064e-06 | T27: 6.6033026e-06 | U27: 6.1610055e-06 | V27: 5.2488753e-06 | W27: 3.6828527e-06 | X27: 2.581758e-06 | Y27: 1.9700543e-06 | Z27: 8.9192309e-07
B28: Aerosol Degreasing - 95th Release | C28: High-End | D28: Fenceline Avg | E28: 9.9133255 | F28: 6.7899489 | G28: 9.9133255 | H28: 6.7899489 | I28: 0 | J28: 0 | K28: 0 | L28: 0.01384997 | M28: 0.015026514 | N28: 0.012413208 | O28: 0.0084423159 | P28: 0.0049379583 | Q28: 0.0032672087 | R28: 0.0022176178 | S28: 0.0046807308 | T28: 0.0047648765 | U28: 0.004379025 | V28: 0.0036870153 | W28: 0.0025622449 | X28: 0.0018170286 | Y28: 0.0013085632 | Z28: 0.00059900969
D29: Outer-boundary Avg | E29: 0.45214077 | F29: 0.30968546 | G29: 0.45214077 | H29: 0.30968546 | I29: 0 | J29: 0 | K29: 0 | L29: 0.00063168876 | M29: 0.00068535022 | N29: 0.00056615888 | O29: 0.00038504892 | P29: 0.00022521729 | Q29: 0.00014901541 | R29: 0.0001011442 | S29: 0.0002134853 | T29: 0.00021732313 | U29: 0.00019972468 | V29: 0.00016816254 | W29: 0.00011686244 | X29: 8.2873574e-05 | Y29: 5.9682773e-05 | Z29: 2.7320469e-05
D30: Community Avg | E30: 1.1342812 | F30: 0.77690494 | G30: 1.1342812 | H30: 0.77690494 | I30: 0 | J30: 0 | K30: 0 | L30: 0.0015847115 | M30: 0.0017193315 | N30: 0.0014203173 | O30: 0.00096596852 | P30: 0.00056500045 | Q30: 0.00037383353 | R30: 0.00025373949 | S30: 0.00053556851 | T30: 0.00054519645 | U30: 0.00050104739 | V30: 0.00042186774 | W30: 0.00029317168 | X30: 0.00020790414 | Y30: 0.0001497256 | Z30: 6.8538599e-05
C31: Mean | D31: Fenceline Avg | E31: 8.6271268 | F31: 5.9089909 | G31: 5.6076324 | H31: 3.8408441 | I31: 0 | J31: 0 | K31: 0 | L31: 0.0080610111 | M31: 0.0086186144 | N31: 0.0072281612 | O31: 0.0049741921 | P31: 0.0029375196 | Q31: 0.0019213226 | R31: 0.001381783 | S31: 0.0027242963 | T31: 0.0027329447 | U31: 0.0025498888 | V31: 0.0021723805 | W31: 0.0015242422 | X31: 0.0010685262 | Y31: 0.00081535706 | Z31: 0.00036914505
D32: Outer-boundary Avg | E32: 0.37132682 | F32: 0.25433344 | G32: 0.24136243 | H32: 0.16531673 | I32: 0 | J32: 0 | K32: 0 | L32: 0.0003469602 | M32: 0.00037096043 | N32: 0.00031111286 | O32: 0.00021409804 | P32: 0.00012643605 | Q32: 8.2697128e-05 | R32: 5.9474387e-05 | S32: 0.00011725854 | T32: 0.00011763078 | U32: 0.00010975173 | V32: 9.3503105e-05 | W32: 6.5606086e-05 | X32: 4.5991261e-05 | Y32: 3.5094412e-05 | Z32: 1.5888657e-05
D33: Community Avg | E33: 0.97705425 | F33: 0.66921524 | G33: 0.63508526 | H33: 0.4349899 | I33: 0 | J33: 0 | K33: 0 | L33: 0.00091293953 | M33: 0.00097609019 | N33: 0.00081861618 | O33: 0.00056334579 | P33: 0.00033268504 | Q33: 0.00021759694 | R33: 0.00015649207 | S33: 0.0003085367 | T33: 0.00030951617 | U33: 0.00028878441 | V33: 0.00024603018 | W33: 0.00017262611 | X33: 0.00012101457 | Y33: 9.2342224e-05 | Z33: 4.1807052e-05
B34: Import-Repackaging - 95th Release | C34: High-End | D34: Fenceline Avg | E34: 1.2091554 | F34: 0.39421779 | G34: 1.2091554 | H34: 0.39421779 | I34: 0 | J34: 0 | K34: 0 | L34: 0.0016893187 | M34: 0.001832825 | N34: 0.0015140729 | O34: 0.0010297324 | P34: 0.00060229628 | Q34: 0.00039851038 | R34: 0.0002704889 | S34: 0.00027175865 | T34: 0.00027664406 | U34: 0.00025424191 | V34: 0.0002140645 | W34: 0.00014876143 | X34: 0.0001054949 | Y34: 7.5973897e-05 | Z34: 3.4777917e-05
D35: Outer-boundary Avg | E35: 0.053034993 | F35: 0.017290861 | G35: 0.053034993 | H35: 0.017290861 | I35: 0 | J35: 0 | K35: 0 | L35: 7.4095527e-05 | M35: 8.0389884e-05 | N35: 6.6409034e-05 | O35: 4.5165284e-05 | P35: 2.641743e-05 | Q35: 1.7479138e-05 | R35: 1.1863965e-05 | S35: 1.1919657e-05 | T35: 1.2133937e-05 | U35: 1.1151352e-05 | V35: 9.3891233e-06 | W35: 6.5248531e-06 | X35: 4.6271317e-06 | Y35: 3.3323054e-06 | Z35: 1.5254007e-06
D36: Community Avg | E36: 0.13690601 | F36: 0.044635111 | G36: 0.13690601 | H36: 0.044635111 | I36: 0 | J36: 0 | K36: 0 | L36: 0.00019127226 | M36: 0.00020752069 | N36: 0.00017143014 | O36: 0.00011659093 | P36: 6.8194693e-05 | Q36: 4.5121136e-05 | R36: 3.062597e-05 | S36: 3.0769736e-05 | T36: 3.1322885e-05 | U36: 2.8786412e-05 | V36: 2.4237345e-05 | W36: 1.6843438e-05 | X36: 1.1944607e-05 | Y36: 8.6021061e-06 | Z36: 3.9377121e-06
C37: Mean | D37: Fenceline Avg | E37: 0.98328218 | F37: 0.32057693 | G37: 0.63913342 | H37: 0.20837501 | I37: 0 | J37: 0 | K37: 0 | L37: 0.00091875879 | M37: 0.00098231198 | N37: 0.00082383421 | O37: 0.00056693667 | P37: 0.00033480564 | Q37: 0.00021898395 | R37: 0.00015748958 | S37: 0.00014779961 | T37: 0.0001482688 | U37: 0.00013833758 | V37: 0.00011785685 | W37: 8.2693797e-05 | X37: 5.797011e-05 | Y37: 4.4235076e-05 | Z37: 2.0027004e-05
D38: Outer-boundary Avg | E38: 0.042412043 | F38: 0.013827488 | G38: 0.027567828 | H38: 0.0089878671 | I38: 0 | J38: 0 | K38: 0 | L38: 3.9628946e-05 | M38: 4.2370195e-05 | N38: 3.5534552e-05 | O38: 2.4453755e-05 | P38: 1.4441217e-05 | Q38: 9.4454641e-06 | R38: 6.7930193e-06 | S38: 6.3750603e-06 | T38: 6.3952983e-06 | U38: 5.9669336e-06 | V38: 5.0835355e-06 | W38: 3.5668427e-06 | X38: 2.5004325e-06 | Y38: 1.9079975e-06 | Z38: 8.6382748e-07
D39: Community Avg | E39: 0.1114573 | F39: 0.036338134 | G39: 0.072447245 | H39: 0.023619787 | I39: 0 | J39: 0 | K39: 0 | L39: 0.00010414342 | M39: 0.00011134733 | N39: 9.3383505e-05 | O39: 6.4263577e-05 | P39: 3.7950991e-05 | Q39: 2.4822335e-05 | R39: 1.7851807e-05 | S39: 1.6753426e-05 | T39: 1.6806611e-05 | U39: 1.5680884e-05 | V39: 1.3359346e-05 | W39: 9.3735324e-06 | X39: 6.5710455e-06 | Y39: 5.0141478e-06 | Z39: 2.2701071e-06
D40: Max | E40: =MAX(E4:E39) -> 2127.5544 | F40: =MAX(F4:F39) -> 1457.2291 | G40: =MAX(G4:G39) -> 2127.5544 | H40: =MAX(H4:H39) -> 1457.2291 | I40: =MAX(I4:I39) -> 0 | J40: =MAX(J4:J39) -> 0 | K40: =MAX(K4:K39) -> 0 | L40: =MAX(L4:L39) -> 2.9724199 | ... Z40: =MAX(Z4:Z39) -> 0.12855683

Sheet Trans 1,2-DCE Fug Risk Screen
B1: Outdoor Air Concentration (ug/m3) | N1: Non-cancer Risk Estimate
B2: Fugitives | N2: Total
B3: Daily | H3: Annual | N3: Acute MOE = Acute HEC/Daily HEC = 7,930,000 ug/m3 (Benchmark = 30) | T3: Chronic MOE = Chronic HEC/Annual HEC = 117,000 ug/m3 (Benchmark = 100)
B4: High-End | E4: Mean | H4: High-End | K4: Mean | N4: High-end | Q4: Mean | T4: High-end | W4: Mean
A5: Emission Scenario | B5: Fen cline Avg (100m) | C5: Outer-boundary Avg (1000 m) | D5: Community Avg (100-1000 m) | E5: Fenceline Avg (100m) | F5: Outer-boundary Avg (1000 m) | G5: Community Avg (100-1000 m) | H5: Fenceline Avg (100m) | I5: Outer-boundary Avg (1000 m) | J5: Community Avg (100-1000 m) | K5: Fenceline Avg (100m) | L5: Outer-boundary Avg (1000 m) | M5: Community Avg (100-1000 m) | N5: Fenceline Avg (100m) | O5: Outer-boundary Avg (1000 m) | P5: Community Avg (100-1000 m) | Q5: Fenceline Avg (100m) | R5: Outer-boundary Avg (1000 m) | S5: Community Avg (100-1000 m) | T5: Fenceline Avg (100m) | U5: Outer-boundary Avg (1000 m) | V5: Community Avg (100-1000 m) | W5: Fenceline Avg (100m) | X5: Outer-boundary Avg (1000 m) | Y5: Community Avg (100-1000 m)
A6: Vapor Degreasing - 95th Release | B6: 56.510447 | C6: 2.5995216 | D6: 6.5336043 | E6: 50.211845 | F6: 2.1596009 | G6: 5.6824462 | H6: 45.82765 | I6: 2.1081052 | J6: 5.2984846 | K6: 40.719743 | L6: 1.7513476 | M6: 4.6082304 | N6: ='Hazard Values'!$C$2/B6 -> 140328.04 | O6: ='Hazard Values'!$C$2/C6 -> 3050561.3 | P6: ='Hazard Values'!$C$2/D6 -> 1213725.2 | Q6: ='Hazard Values'!$C$2/E6 -> 157930.86 | R6: ='Hazard Values'!$C$2/F6 -> 3671974.7 | S6: ='Hazard Values'!$C$2/G6 -> 1395525.7 | T6: ='Hazard Values'!$C$3/H6 -> 2553.0439 | U6: ='Hazard Values'!$C$3/I6 -> 55500.076 | V6: ='Hazard Values'!$C$3/J6 -> 22081.785 | W6: ='Hazard Values'!$C$3/K6 -> 2873.2991 | X6: ='Hazard Values'!$C$3/L6 -> 66805.699 | Y6: ='Hazard Values'!$C$3/M6 -> 25389.356
A7: Use of Adhesives - 95th Release | B7: 2127.5544 | C7: 97.036469 | D7: 243.43446 | E7: 1851.5161 | F7: 79.692533 | G7: 209.6911 | H7: 1457.2291 | I7: 66.463335 | J7: 166.73593 | K7: 1268.1617 | L7: 54.583927 | M7: 143.62404 | N7: ='Hazard Values'!$C$2/B7 -> 3727.2842 | O7: ='Hazard Values'!$C$2/C7 -> 81721.853 | P7: ='Hazard Values'!$C$2/D7 -> 32575.503 | Q7: ='Hazard Values'!$C$2/E7 -> 4282.9765 | R7: ='Hazard Values'!$C$2/F7 -> 99507.441 | S7: ='Hazard Values'!$C$2/G7 -> 37817.533 | T7: ='Hazard Values'!$C$3/H7 -> 80.289368 | U7: ='Hazard Values'!$C$3/I7 -> 1760.3691 | V7: ='Hazard Values'!$C$3/J7 -> 701.70838 | W7: ='Hazard Values'!$C$3/K7 -> 92.259527 | X7: ='Hazard Values'!$C$3/L7 -> 2143.4882 | Y7: ='Hazard Values'!$C$3/M7 -> 814.62687
A8: Use as a Blowing Agent in Spray Foam - 95th Release | B8: 1.8436457 | C8: 0.084532634 | D8: 0.21182173 | E8: 1.6141971 | F8: 0.069467383 | G8: 0.18278918 | H8: 1.3132818 | I8: 0.060215027 | J8: 0.15088671 | K8: 1.1498391 | L8: 0.049483615 | M8: 0.13020599 | N8: ='Hazard Values'!$C$2/B8 -> 4301260.3 | O8: ='Hazard Values'!$C$2/C8 -> 93809925 | P8: ='Hazard Values'!$C$2/D8 -> 37437141 | Q8: ='Hazard Values'!$C$2/E8 -> 4912659 | R8: ='Hazard Values'!$C$2/F8 -> 1.1415429e+08 | S8: ='Hazard Values'!$C$2/G8 -> 43383311 | T8: ='Hazard Values'!$C$3/H8 -> 89089.787 | U8: ='Hazard Values'!$C$3/I8 -> 1943036.6 | V8: ='Hazard Values'!$C$3/J8 -> 775416.19 | W8: ='Hazard Values'!$C$3/K8 -> 101753.37 | X8: ='Hazard Values'!$C$3/L8 -> 2364419 | Y8: ='Hazard Values'!$C$3/M8 -> 898576.14
A9: Laboratory Chemicals - 95th Release | B9: 0.20393528 | C9: 0.0093509247 | D9: 0.023393071 | E9: 0.17836546 | F9: 0.0076762504 | G9: 0.020198394 | H9: 0.14415151 | I9: 0.0066096947 | J9: 0.016535376 | K9: 0.1260775 | L9: 0.0054259524 | M9: 0.014277221 | N9: ='Hazard Values'!$C$2/B9 -> 38884885 | O9: ='Hazard Values'!$C$2/C9 -> 8.4804447e+08 | P9: ='Hazard Values'!$C$2/D9 -> 3.3898927e+08 | Q9: ='Hazard Values'!$C$2/E9 -> 44459281 | R9: ='Hazard Values'!$C$2/F9 -> 1.0330564e+09 | S9: ='Hazard Values'!$C$2/G9 -> 3.9260547e+08 | T9: ='Hazard Values'!$C$3/H9 -> 811646 | U9: ='Hazard Values'!$C$3/I9 -> 17701271 | V9: ='Hazard Values'!$C$3/J9 -> 7075738.6 | W9: ='Hazard Values'!$C$3/K9 -> 928000.61 | X9: ='Hazard Values'!$C$3/L9 -> 21563035 | Y9: ='Hazard Values'!$C$3/M9 -> 8194872.1
A10: Aerosol Degreasing - 95th Release | B10: 9.9133255 | C10: 0.45214077 | D10: 1.1342812 | E10: 8.6271268 | F10: 0.37132682 | G10: 0.97705425 | H10: 6.7899489 | I10: 0.30968546 | J10: 0.77690494 | K10: 5.9089909 | L10: 0.25433344 | M10: 0.66921524 | N10: ='Hazard Values'!$C$2/B10 -> 799933.39 | O10: ='Hazard Values'!$C$2/C10 -> 17538785 | P10: ='Hazard Values'!$C$2/D10 -> 6991211.6 | Q10: ='Hazard Values'!$C$2/E10 -> 919193.63 | R10: ='Hazard Values'!$C$2/F10 -> 21355850 | S10: ='Hazard Values'!$C$2/G10 -> 8116233.1 | T10: ='Hazard Values'!$C$3/H10 -> 17231.352 | U10: ='Hazard Values'!$C$3/I10 -> 377802.69 | V10: ='Hazard Values'!$C$3/J10 -> 150597.57 | W10: ='Hazard Values'!$C$3/K10 -> 19800.335 | X10: ='Hazard Values'!$C$3/L10 -> 460026.02 | Y10: ='Hazard Values'!$C$3/M10 -> 174831.64
A11: Import-Repackaging - 95th Release | B11: 1.2091554 | C11: 0.053034993 | D11: 0.13690601 | E11: 0.98328218 | F11: 0.042412043 | G11: 0.1114573 | H11: 0.39421779 | I11: 0.017290861 | J11: 0.044635111 | K11: 0.32057693 | L11: 0.013827488 | M11: 0.036338134 | N11: ='Hazard Values'!$C$2/B11 -> 6558296.7 | O11: ='Hazard Values'!$C$2/C11 -> 1.4952392e+08 | P11: ='Hazard Values'!$C$2/D11 -> 57922949 | Q11: ='Hazard Values'!$C$2/E11 -> 8064826.3 | R11: ='Hazard Values'!$C$2/F11 -> 1.869752e+08 | S11: ='Hazard Values'!$C$2/G11 -> 71148323 | T11: ='Hazard Values'!$C$3/H11 -> 296790.26 | U11: ='Hazard Values'!$C$3/I11 -> 6766580.5 | V11: ='Hazard Values'!$C$3/J11 -> 2621254.8 | W11: ='Hazard Values'!$C$3/K11 -> 364967 | X11: ='Hazard Values'!$C$3/L11 -> 8461406.8 | Y11: ='Hazard Values'!$C$3/M11 -> 3219758.1
