Workbook
Name _2017NEI_Nonpoint_TSCA_Chem_List: #REF!
Name _2017NEI_tsca_chemicals_wSCCdetail_Query: #REF!
Name AT: #REF!
Name AT_50th_non_cancer: #REF!
Name AT_50th_non_cancer_DC: #REF!
Name AT_95th_non_cancer: #REF!
Name AT_95th_non_cancer_DC: #REF!
Name AT_AC: #REF!
Name AT_AC_DC: #REF!
Name AT_ADC_high: #REF!
Name AT_ADC_mid: #REF!
Name AT_cancer: #REF!
Name AT_cancer_DC: #REF!
Name AT_LADC: #REF!
Name AWD: #REF!
Name AWD_DC_50th: #REF!
Name AWD_DC_95th: #REF!
Name CASRN: #REF!
Name ED: #REF!
Name ED_AC: #REF!
Name ED_AC_DC: #REF!
Name ED_chronic: #REF!
Name ED_chronic_DC: #REF!
Name EF: #REF!
Name EG: #REF!
Name what: #REF!
Name WY_50th: #REF!
Name WY_50th_DC: #REF!
Name WY_95th: #REF!
Name WY_95th_DC: #REF!
Name WY_high: #REF!
Name WY_mid: #REF!

Sheet Cover Page
A1: PUBLIC RELEASE DRAFT
A2: July 2026
A4: Draft Land Releases for 1,2-Dichloropropane
A6: CASRN 78-87-5

Sheet READ ME
A1: Description of this spreadsheet
A3: This spreadsheet contains a summary of land releases for the 1,2-dichloropropane risk evaluation.
A4: TRI data in this spreadsheet are for the 2019-2023 reporting years from basic plus data files downloaded from EPA's webpage on 6/24/2025.
A6: Worksheet | B6: Description
A7: Versions | B7: This tab contains a summary of versions of this file. This tab is for internal tracking purposes.
A8: OES Summary | B8: This tab contains a summary of the annual and daily release estimates per OES.
A9: Overall Release Summary | B9: This tab contains a summary of the total on- and off-site land releases per year.
A10: Facility Summary | B10: This worksheet contains a summary of unique facilities that reported land releases of 1,2-dichloropropane, with median and maximum values reported from 2019-2023.
A11: 2019-2023 TRI_Nonzero Unique | B11: This worksheet contains 2019-2023 TRI data for facilities that reported non-zero land releases of 1,2-dichloropropane (without off-site transfer locations).
A12: 2019-2023 TRI Data_All | B12: This worksheet contains 2019-2023 TRI data for facilities that reported land releases of 1,2-dichloropropane.

Sheet OES Summary
F1: Annual Release Range (kg/site-day) | H1: Daily Release Range (kg/site-day)
A2: OES | B2: Release Days | C2: # of Facilities | D2: Min (kg/site-yr) | E2: Max (kg/site-yr) | F2: 50th Percentile | G2: 95th Percentile | H2: 50th Percentile | I2: 95th Percentile | J2: Notes
A3: Manufacture | B3: 350 | C3: =COUNTIFS('Facility Summary'!A:A,A3,'Facility Summary'!D:D,">0") -> 4 | D3: {=CONVERT(MIN(IF('2019-2023 TRI_Nonzero Unique'!$C:$C='OES Summary'!A3,'2019-2023 TRI_Nonzero Unique'!$AQ:$AQ,"")), "lbm", "kg")} -> 0.0045359237 | E3: {=CONVERT(MAX(IF('2019-2023 TRI_Nonzero Unique'!$C:$C='OES Summary'!A3,'2019-2023 TRI_Nonzero Unique'!$AQ:$AQ,"")), "lbm", "kg")} -> 216.36356 | F3: {=IFERROR(PERCENTILE(IF('2019-2023 TRI_Nonzero Unique'!$C:$C=$A3,'2019-2023 TRI_Nonzero Unique'!$AQ:$AQ),0.5)*0.453592,"")} -> 0.907184 | G3: {=IFERROR(PERCENTILE(IF('2019-2023 TRI_Nonzero Unique'!$C:$C=$A3,'2019-2023 TRI_Nonzero Unique'!$AQ:$AQ),0.95)*0.453592,"")} -> 109.39278 | H3: {=IFERROR(PERCENTILE(IF('2019-2023 TRI_Nonzero Unique'!$C:$C=$A3,'2019-2023 TRI_Nonzero Unique'!$AQ:$AQ),0.5)*0.453592/B3,"")} -> 0.0025919543 | I3: {=IFERROR(PERCENTILE(IF('2019-2023 TRI_Nonzero Unique'!$C:$C=$A3,'2019-2023 TRI_Nonzero Unique'!$AQ:$AQ),0.95)*0.453592/B3,"")} -> 0.31255081 | J3: Assumes facility operates 7 days/week and 50 weeks/yr (with two weeks down for turnaround) and that the facility is producing and releasing the chemical daily during operation.
A4: Repackaging | B4: 250 | C4: =COUNTIFS('Facility Summary'!A:A,A4,'Facility Summary'!D:D,">0") -> 0 | F4: {=IFERROR(PERCENTILE(IF('2019-2023 TRI_Nonzero Unique'!$C:$C=$A4,'2019-2023 TRI_Nonzero Unique'!$AQ:$AQ),0.5)*0.453592,"")} | G4: {=IFERROR(PERCENTILE(IF('2019-2023 TRI_Nonzero Unique'!$C:$C=$A4,'2019-2023 TRI_Nonzero Unique'!$AQ:$AQ),0.95)*0.453592,"")} | H4: {=IFERROR(PERCENTILE(IF('2019-2023 TRI_Nonzero Unique'!$C:$C=$A4,'2019-2023 TRI_Nonzero Unique'!$AQ:$AQ),0.5)*0.453592/B4,"")} | I4: {=IFERROR(PERCENTILE(IF('2019-2023 TRI_Nonzero Unique'!$C:$C=$A4,'2019-2023 TRI_Nonzero Unique'!$AQ:$AQ),0.95)*0.453592/B4,"")} | J4: Assumes operation 5 days/week for 50 weeks/yr.
A5: Processing as a reactant | B5: 350 | C5: =COUNTIFS('Facility Summary'!A:A,A5,'Facility Summary'!D:D,">0") -> 1 | D5: {=CONVERT(MIN(IF('2019-2023 TRI_Nonzero Unique'!$C:$C='OES Summary'!A5,'2019-2023 TRI_Nonzero Unique'!$AQ:$AQ,"")), "lbm", "kg")} -> 0.45359237 | E5: {=CONVERT(MAX(IF('2019-2023 TRI_Nonzero Unique'!$C:$C='OES Summary'!A5,'2019-2023 TRI_Nonzero Unique'!$AQ:$AQ,"")), "lbm", "kg")} -> 1.3607771 | F5: {=IFERROR(PERCENTILE(IF('2019-2023 TRI_Nonzero Unique'!$C:$C=$A5,'2019-2023 TRI_Nonzero Unique'!$AQ:$AQ),0.5)*0.453592,"")} -> 0.907184 | G5: {=IFERROR(PERCENTILE(IF('2019-2023 TRI_Nonzero Unique'!$C:$C=$A5,'2019-2023 TRI_Nonzero Unique'!$AQ:$AQ),0.95)*0.453592,"")} -> 1.3154168 | H5: {=IFERROR(PERCENTILE(IF('2019-2023 TRI_Nonzero Unique'!$C:$C=$A5,'2019-2023 TRI_Nonzero Unique'!$AQ:$AQ),0.5)*0.453592/B5,"")} -> 0.0025919543 | I5: {=IFERROR(PERCENTILE(IF('2019-2023 TRI_Nonzero Unique'!$C:$C=$A5,'2019-2023 TRI_Nonzero Unique'!$AQ:$AQ),0.95)*0.453592/B5,"")} -> 0.0037583337 | J5: Assumes facility operates 7 days/week and 50 weeks/yr (with two weeks down for turnaround) and that the facility is producing and releasing the chemical daily during operation.
A6: Formulation of cleaning and furnishing care products | B6: 300 | C6: =COUNTIFS('Facility Summary'!A:A,A6,'Facility Summary'!D:D,">0") -> 0 | F6: {=IFERROR(PERCENTILE(IF('2019-2023 TRI_Nonzero Unique'!$C:$C=$A6,'2019-2023 TRI_Nonzero Unique'!$AQ:$AQ),0.5)*0.453592,"")} | G6: {=IFERROR(PERCENTILE(IF('2019-2023 TRI_Nonzero Unique'!$C:$C=$A6,'2019-2023 TRI_Nonzero Unique'!$AQ:$AQ),0.95)*0.453592,"")} | H6: {=IFERROR(PERCENTILE(IF('2019-2023 TRI_Nonzero Unique'!$C:$C=$A6,'2019-2023 TRI_Nonzero Unique'!$AQ:$AQ),0.5)*0.453592/B6,"")} | I6: {=IFERROR(PERCENTILE(IF('2019-2023 TRI_Nonzero Unique'!$C:$C=$A6,'2019-2023 TRI_Nonzero Unique'!$AQ:$AQ),0.95)*0.453592/B6,"")} | J6: EPA does not expect that chemical will be used year-round, even if the facility operates year-round. Therefore, EPA assumes 300 day/yr for release frequency, which is based on an EU SpERC that uses a default of 300 days/yr for release
A7: Distribution in commerce | B7: 365 | C7: =COUNTIFS('Facility Summary'!A:A,A7,'Facility Summary'!D:D,">0") -> 0 | F7: {=IFERROR(PERCENTILE(IF('2019-2023 TRI_Nonzero Unique'!$C:$C=$A7,'2019-2023 TRI_Nonzero Unique'!$AQ:$AQ),0.5)*0.453592,"")} | G7: {=IFERROR(PERCENTILE(IF('2019-2023 TRI_Nonzero Unique'!$C:$C=$A7,'2019-2023 TRI_Nonzero Unique'!$AQ:$AQ),0.95)*0.453592,"")} | H7: {=IFERROR(PERCENTILE(IF('2019-2023 TRI_Nonzero Unique'!$C:$C=$A7,'2019-2023 TRI_Nonzero Unique'!$AQ:$AQ),0.5)*0.453592/B7,"")} | I7: {=IFERROR(PERCENTILE(IF('2019-2023 TRI_Nonzero Unique'!$C:$C=$A7,'2019-2023 TRI_Nonzero Unique'!$AQ:$AQ),0.95)*0.453592/B7,"")} | J7: Assumes year round operation
A8: Processing aid | B8: 300 | C8: =COUNTIFS('Facility Summary'!A:A,A8,'Facility Summary'!D:D,">0") -> 0 | F8: {=IFERROR(PERCENTILE(IF('2019-2023 TRI_Nonzero Unique'!$C:$C=$A8,'2019-2023 TRI_Nonzero Unique'!$AQ:$AQ),0.5)*0.453592,"")} | G8: {=IFERROR(PERCENTILE(IF('2019-2023 TRI_Nonzero Unique'!$C:$C=$A8,'2019-2023 TRI_Nonzero Unique'!$AQ:$AQ),0.95)*0.453592,"")} | H8: {=IFERROR(PERCENTILE(IF('2019-2023 TRI_Nonzero Unique'!$C:$C=$A8,'2019-2023 TRI_Nonzero Unique'!$AQ:$AQ),0.5)*0.453592/B8,"")} | I8: {=IFERROR(PERCENTILE(IF('2019-2023 TRI_Nonzero Unique'!$C:$C=$A8,'2019-2023 TRI_Nonzero Unique'!$AQ:$AQ),0.95)*0.453592/B8,"")} | J8: EPA does not expect that chemical will be used year-round, even if the facility operates year-round. Therefore, EPA assumes 300 day/yr for release frequency, which is based on an EU SpERC that uses a default of 300 days/yr for release
A9: All purpose liquid spray cleaner | B9: Use GS/ESD | C9: =COUNTIFS('Facility Summary'!A:A,A9,'Facility Summary'!D:D,">0") -> 0 | F9: {=IFERROR(PERCENTILE(IF('2019-2023 TRI_Nonzero Unique'!$C:$C=$A9,'2019-2023 TRI_Nonzero Unique'!$AQ:$AQ),0.5)*0.453592,"")} | G9: {=IFERROR(PERCENTILE(IF('2019-2023 TRI_Nonzero Unique'!$C:$C=$A9,'2019-2023 TRI_Nonzero Unique'!$AQ:$AQ),0.95)*0.453592,"")} | H9: {=IFERROR(PERCENTILE(IF('2019-2023 TRI_Nonzero Unique'!$C:$C=$A9,'2019-2023 TRI_Nonzero Unique'!$AQ:$AQ),0.5)*0.453592/B9,"")} | I9: {=IFERROR(PERCENTILE(IF('2019-2023 TRI_Nonzero Unique'!$C:$C=$A9,'2019-2023 TRI_Nonzero Unique'!$AQ:$AQ),0.95)*0.453592/B9,"")} | J9: EPA will use GS/ESD information for number of release days.
A10: All purpose waxes and polishes | B10: Use GS/ESD | C10: =COUNTIFS('Facility Summary'!A:A,A10,'Facility Summary'!D:D,">0") -> 0 | F10: {=IFERROR(PERCENTILE(IF('2019-2023 TRI_Nonzero Unique'!$C:$C=$A10,'2019-2023 TRI_Nonzero Unique'!$AQ:$AQ),0.5)*0.453592,"")} | G10: {=IFERROR(PERCENTILE(IF('2019-2023 TRI_Nonzero Unique'!$C:$C=$A10,'2019-2023 TRI_Nonzero Unique'!$AQ:$AQ),0.95)*0.453592,"")} | H10: {=IFERROR(PERCENTILE(IF('2019-2023 TRI_Nonzero Unique'!$C:$C=$A10,'2019-2023 TRI_Nonzero Unique'!$AQ:$AQ),0.5)*0.453592/B10,"")} | I10: {=IFERROR(PERCENTILE(IF('2019-2023 TRI_Nonzero Unique'!$C:$C=$A10,'2019-2023 TRI_Nonzero Unique'!$AQ:$AQ),0.95)*0.453592/B10,"")} | J10: EPA will use GS/ESD information for number of release days.
A11: All purpose liquid cleaner/polish | B11: Use GS/ESD | C11: =COUNTIFS('Facility Summary'!A:A,A11,'Facility Summary'!D:D,">0") -> 0 | F11: {=IFERROR(PERCENTILE(IF('2019-2023 TRI_Nonzero Unique'!$C:$C=$A11,'2019-2023 TRI_Nonzero Unique'!$AQ:$AQ),0.5)*0.453592,"")} | G11: {=IFERROR(PERCENTILE(IF('2019-2023 TRI_Nonzero Unique'!$C:$C=$A11,'2019-2023 TRI_Nonzero Unique'!$AQ:$AQ),0.95)*0.453592,"")} | H11: {=IFERROR(PERCENTILE(IF('2019-2023 TRI_Nonzero Unique'!$C:$C=$A11,'2019-2023 TRI_Nonzero Unique'!$AQ:$AQ),0.5)*0.453592/B11,"")} | I11: {=IFERROR(PERCENTILE(IF('2019-2023 TRI_Nonzero Unique'!$C:$C=$A11,'2019-2023 TRI_Nonzero Unique'!$AQ:$AQ),0.95)*0.453592/B11,"")} | J11: EPA will use GS/ESD information for number of release days.
A12: Use of laboratory chemicals | B12: 260 | C12: =COUNTIFS('Facility Summary'!A:A,A12,'Facility Summary'!D:D,">0") -> 0 | F12: {=IFERROR(PERCENTILE(IF('2019-2023 TRI_Nonzero Unique'!$C:$C=$A12,'2019-2023 TRI_Nonzero Unique'!$AQ:$AQ),0.5)*0.453592,"")} | G12: {=IFERROR(PERCENTILE(IF('2019-2023 TRI_Nonzero Unique'!$C:$C=$A12,'2019-2023 TRI_Nonzero Unique'!$AQ:$AQ),0.95)*0.453592,"")} | H12: {=IFERROR(PERCENTILE(IF('2019-2023 TRI_Nonzero Unique'!$C:$C=$A12,'2019-2023 TRI_Nonzero Unique'!$AQ:$AQ),0.5)*0.453592/B12,"")} | I12: {=IFERROR(PERCENTILE(IF('2019-2023 TRI_Nonzero Unique'!$C:$C=$A12,'2019-2023 TRI_Nonzero Unique'!$AQ:$AQ),0.95)*0.453592/B12,"")} | J12: June 2022 Laboratory Chems GS estimates 260 days/yr.
A13: Disposal to incineration | B13: 250 | C13: =COUNTIFS('Facility Summary'!A:A,A13,'Facility Summary'!D:D,">0") -> 0 | F13: {=IFERROR(PERCENTILE(IF('2019-2023 TRI_Nonzero Unique'!$C:$C=$A13,'2019-2023 TRI_Nonzero Unique'!$AQ:$AQ),0.5)*0.453592,"")} | G13: {=IFERROR(PERCENTILE(IF('2019-2023 TRI_Nonzero Unique'!$C:$C=$A13,'2019-2023 TRI_Nonzero Unique'!$AQ:$AQ),0.95)*0.453592,"")} | H13: {=IFERROR(PERCENTILE(IF('2019-2023 TRI_Nonzero Unique'!$C:$C=$A13,'2019-2023 TRI_Nonzero Unique'!$AQ:$AQ),0.5)*0.453592/B13,"")} | I13: {=IFERROR(PERCENTILE(IF('2019-2023 TRI_Nonzero Unique'!$C:$C=$A13,'2019-2023 TRI_Nonzero Unique'!$AQ:$AQ),0.95)*0.453592/B13,"")} | J13: Assumes operation 5 days/week for 50 weeks/yr.
A14: Disposal to landfill | B14: 250 | C14: =COUNTIFS('Facility Summary'!A:A,A14,'Facility Summary'!D:D,">0") -> 0 | F14: {=IFERROR(PERCENTILE(IF('2019-2023 TRI_Nonzero Unique'!$C:$C=$A14,'2019-2023 TRI_Nonzero Unique'!$AQ:$AQ),0.5)*0.453592,"")} | G14: {=IFERROR(PERCENTILE(IF('2019-2023 TRI_Nonzero Unique'!$C:$C=$A14,'2019-2023 TRI_Nonzero Unique'!$AQ:$AQ),0.95)*0.453592,"")} | H14: {=IFERROR(PERCENTILE(IF('2019-2023 TRI_Nonzero Unique'!$C:$C=$A14,'2019-2023 TRI_Nonzero Unique'!$AQ:$AQ),0.5)*0.453592/B14,"")} | I14: {=IFERROR(PERCENTILE(IF('2019-2023 TRI_Nonzero Unique'!$C:$C=$A14,'2019-2023 TRI_Nonzero Unique'!$AQ:$AQ),0.95)*0.453592/B14,"")} | J14: Assumes operation 5 days/week for 50 weeks/yr.
C15: =COUNTIFS('Facility Summary'!A:A,A15,'Facility Summary'!D:D,">0") -> 0 | H15: {=IFERROR(PERCENTILE(IF('2019-2023 TRI_Nonzero Unique'!$C:$C=$A15,'2019-2023 TRI_Nonzero Unique'!$AQ:$AQ),0.5)*0.453592/B15,"")} | I15: {=IFERROR(PERCENTILE(IF('2019-2023 TRI_Nonzero Unique'!$C:$C=$A15,'2019-2023 TRI_Nonzero Unique'!$AQ:$AQ),0.95)*0.453592/B15,"")} | J15: Assumes operation 5 days/week for 50 weeks/yr.
A16: Unknown | B16: 250 | C16: =COUNTIFS('Facility Summary'!A:A,A16,'Facility Summary'!D:D,">0") -> 0 | G16: {=IFERROR(PERCENTILE(IF('2019-2023 TRI_Nonzero Unique'!$C:$C=$A16,'2019-2023 TRI_Nonzero Unique'!$AQ:$AQ),0.95)*0.453592,"")} | H16: {=IFERROR(PERCENTILE(IF('2019-2023 TRI_Nonzero Unique'!$C:$C=$A16,'2019-2023 TRI_Nonzero Unique'!$AQ:$AQ),0.5)*0.453592/B16,"")} | I16: {=IFERROR(PERCENTILE(IF('2019-2023 TRI_Nonzero Unique'!$C:$C=$A16,'2019-2023 TRI_Nonzero Unique'!$AQ:$AQ),0.95)*0.453592/B16,"")} | J16: Assumes operation 5 days/week for 50 weeks/yr.
A17: # of Mapped Facilities | C17: =SUM(C3:C8) -> 5
A18: # of Total Facilities | C18: =COUNTA('Facility Summary'!C:C)-1 -> 8

Sheet Overall Release Summary
B1: TRI Annual Releases (lb/yr) | H1: TRI Annual Releases (kg/yr)
A2: Land Release Category | B2: 2023 | C2: 2022 | D2: 2021 | E2: 2020 | F2: 2019 | H2: 2023 | I2: 2022 | J2: 2021 | K2: 2020 | L2: 2019
A3: TOTAL ON-SITE UGRND INJ TO CL I WELLS – POUNDS | B3: =SUMIF('2019-2023 TRI_Nonzero Unique'!$E:$E, B$2,'2019-2023 TRI_Nonzero Unique'!$X:$X) -> 0 | C3: =SUMIF('2019-2023 TRI_Nonzero Unique'!$E:$E, C$2,'2019-2023 TRI_Nonzero Unique'!$X:$X) -> 0 | D3: =SUMIF('2019-2023 TRI_Nonzero Unique'!$E:$E, D$2,'2019-2023 TRI_Nonzero Unique'!$X:$X) -> 0 | E3: =SUMIF('2019-2023 TRI_Nonzero Unique'!$E:$E, E$2,'2019-2023 TRI_Nonzero Unique'!$X:$X) -> 0 | F3: =SUMIF('2019-2023 TRI_Nonzero Unique'!$E:$E, F$2,'2019-2023 TRI_Nonzero Unique'!$X:$X) -> 0 | H3: =CONVERT(B3,"lbm", "g")/1000 -> 0 | I3: =CONVERT(C3,"lbm", "g")/1000 -> 0 | J3: =CONVERT(D3,"lbm", "g")/1000 -> 0 | K3: =CONVERT(E3,"lbm", "g")/1000 -> 0 | L3: =CONVERT(F3,"lbm", "g")/1000 -> 0
A4: TOTAL ON-SITE UGRND INJ TO CL II-V WELLS – POUNDS | B4: =SUMIF('2019-2023 TRI_Nonzero Unique'!$E:$E, B$2,'2019-2023 TRI_Nonzero Unique'!$Y:$Y) -> 0 | C4: =SUMIF('2019-2023 TRI_Nonzero Unique'!$E:$E, C$2,'2019-2023 TRI_Nonzero Unique'!$Y:$Y) -> 0 | D4: =SUMIF('2019-2023 TRI_Nonzero Unique'!$E:$E, D$2,'2019-2023 TRI_Nonzero Unique'!$Y:$Y) -> 0 | E4: =SUMIF('2019-2023 TRI_Nonzero Unique'!$E:$E, E$2,'2019-2023 TRI_Nonzero Unique'!$Y:$Y) -> 0 | F4: =SUMIF('2019-2023 TRI_Nonzero Unique'!$E:$E, F$2,'2019-2023 TRI_Nonzero Unique'!$Y:$Y) -> 0 | H4: =CONVERT(B4,"lbm", "g")/1000 -> 0 | I4: =CONVERT(C4,"lbm", "g")/1000 -> 0 | J4: =CONVERT(D4,"lbm", "g")/1000 -> 0 | K4: =CONVERT(E4,"lbm", "g")/1000 -> 0 | L4: =CONVERT(F4,"lbm", "g")/1000 -> 0
A5: TOTAL ON-SITE RCRA SUBTITLE C LANDFILLS | B5: =SUMIF('2019-2023 TRI_Nonzero Unique'!$E:$E, B$2,'2019-2023 TRI_Nonzero Unique'!$Z:$Z) -> 0 | C5: =SUMIF('2019-2023 TRI_Nonzero Unique'!$E:$E, C$2,'2019-2023 TRI_Nonzero Unique'!$Z:$Z) -> 0 | D5: =SUMIF('2019-2023 TRI_Nonzero Unique'!$E:$E, D$2,'2019-2023 TRI_Nonzero Unique'!$Z:$Z) -> 0 | E5: =SUMIF('2019-2023 TRI_Nonzero Unique'!$E:$E, E$2,'2019-2023 TRI_Nonzero Unique'!$Z:$Z) -> 0 | F5: =SUMIF('2019-2023 TRI_Nonzero Unique'!$E:$E, F$2,'2019-2023 TRI_Nonzero Unique'!$Z:$Z) -> 0 | H5: =CONVERT(B5,"lbm", "g")/1000 -> 0 | I5: =CONVERT(C5,"lbm", "g")/1000 -> 0 | J5: =CONVERT(D5,"lbm", "g")/1000 -> 0 | K5: =CONVERT(E5,"lbm", "g")/1000 -> 0 | L5: =CONVERT(F5,"lbm", "g")/1000 -> 0
A6: TOTAL OTHER ON-SITE LANDFILLS | B6: =SUMIF('2019-2023 TRI_Nonzero Unique'!$E:$E, B$2,'2019-2023 TRI_Nonzero Unique'!$AA:$AA) -> 479 | C6: =SUMIF('2019-2023 TRI_Nonzero Unique'!$E:$E, C$2,'2019-2023 TRI_Nonzero Unique'!$AA:$AA) -> 2 | D6: =SUMIF('2019-2023 TRI_Nonzero Unique'!$E:$E, D$2,'2019-2023 TRI_Nonzero Unique'!$AA:$AA) -> 1 | E6: =SUMIF('2019-2023 TRI_Nonzero Unique'!$E:$E, E$2,'2019-2023 TRI_Nonzero Unique'!$AA:$AA) -> 1 | F6: =SUMIF('2019-2023 TRI_Nonzero Unique'!$E:$E, F$2,'2019-2023 TRI_Nonzero Unique'!$AA:$AA) -> 3 | H6: =CONVERT(B6,"lbm", "g")/1000 -> 217.27075 | I6: =CONVERT(C6,"lbm", "g")/1000 -> 0.90718474 | J6: =CONVERT(D6,"lbm", "g")/1000 -> 0.45359237 | K6: =CONVERT(E6,"lbm", "g")/1000 -> 0.45359237 | L6: =CONVERT(F6,"lbm", "g")/1000 -> 1.3607771
A7: TOTAL ON-SITE LAND TREATMENT | B7: =SUMIF('2019-2023 TRI_Nonzero Unique'!$E:$E, B$2,'2019-2023 TRI_Nonzero Unique'!$AB:$AB) -> 0 | C7: =SUMIF('2019-2023 TRI_Nonzero Unique'!$E:$E, C$2,'2019-2023 TRI_Nonzero Unique'!$AB:$AB) -> 0 | D7: =SUMIF('2019-2023 TRI_Nonzero Unique'!$E:$E, D$2,'2019-2023 TRI_Nonzero Unique'!$AB:$AB) -> 0 | E7: =SUMIF('2019-2023 TRI_Nonzero Unique'!$E:$E, E$2,'2019-2023 TRI_Nonzero Unique'!$AB:$AB) -> 0 | F7: =SUMIF('2019-2023 TRI_Nonzero Unique'!$E:$E, F$2,'2019-2023 TRI_Nonzero Unique'!$AB:$AB) -> 0 | H7: =CONVERT(B7,"lbm", "g")/1000 -> 0 | I7: =CONVERT(C7,"lbm", "g")/1000 -> 0 | J7: =CONVERT(D7,"lbm", "g")/1000 -> 0 | K7: =CONVERT(E7,"lbm", "g")/1000 -> 0 | L7: =CONVERT(F7,"lbm", "g")/1000 -> 0
A8: TOTAL RCRA C SURFACE IMPOUNDMENTS | B8: =SUMIF('2019-2023 TRI_Nonzero Unique'!$E:$E, B$2,'2019-2023 TRI_Nonzero Unique'!$AC:$AC) -> 0 | C8: =SUMIF('2019-2023 TRI_Nonzero Unique'!$E:$E, C$2,'2019-2023 TRI_Nonzero Unique'!$AC:$AC) -> 0 | D8: =SUMIF('2019-2023 TRI_Nonzero Unique'!$E:$E, D$2,'2019-2023 TRI_Nonzero Unique'!$AC:$AC) -> 0 | E8: =SUMIF('2019-2023 TRI_Nonzero Unique'!$E:$E, E$2,'2019-2023 TRI_Nonzero Unique'!$AC:$AC) -> 0 | F8: =SUMIF('2019-2023 TRI_Nonzero Unique'!$E:$E, F$2,'2019-2023 TRI_Nonzero Unique'!$AC:$AC) -> 0 | H8: =CONVERT(B8,"lbm", "g")/1000 -> 0 | I8: =CONVERT(C8,"lbm", "g")/1000 -> 0 | J8: =CONVERT(D8,"lbm", "g")/1000 -> 0 | K8: =CONVERT(E8,"lbm", "g")/1000 -> 0 | L8: =CONVERT(F8,"lbm", "g")/1000 -> 0
A9: TOTAL OTHER SURFACE IMPOUNDMENTS | B9: =SUMIF('2019-2023 TRI_Nonzero Unique'!$E:$E, B$2,'2019-2023 TRI_Nonzero Unique'!$AD:$AD) -> 0 | C9: =SUMIF('2019-2023 TRI_Nonzero Unique'!$E:$E, C$2,'2019-2023 TRI_Nonzero Unique'!$AD:$AD) -> 0 | D9: =SUMIF('2019-2023 TRI_Nonzero Unique'!$E:$E, D$2,'2019-2023 TRI_Nonzero Unique'!$AD:$AD) -> 0 | E9: =SUMIF('2019-2023 TRI_Nonzero Unique'!$E:$E, E$2,'2019-2023 TRI_Nonzero Unique'!$AD:$AD) -> 0 | F9: =SUMIF('2019-2023 TRI_Nonzero Unique'!$E:$E, F$2,'2019-2023 TRI_Nonzero Unique'!$AD:$AD) -> 0 | H9: =CONVERT(B9,"lbm", "g")/1000 -> 0 | I9: =CONVERT(C9,"lbm", "g")/1000 -> 0 | J9: =CONVERT(D9,"lbm", "g")/1000 -> 0 | K9: =CONVERT(E9,"lbm", "g")/1000 -> 0 | L9: =CONVERT(F9,"lbm", "g")/1000 -> 0
A10: TOTAL OTHER DISPOSAL | B10: =SUMIF('2019-2023 TRI_Nonzero Unique'!$E:$E, B$2,'2019-2023 TRI_Nonzero Unique'!$AE:$AE) -> 0 | C10: =SUMIF('2019-2023 TRI_Nonzero Unique'!$E:$E, C$2,'2019-2023 TRI_Nonzero Unique'!$AE:$AE) -> 0 | D10: =SUMIF('2019-2023 TRI_Nonzero Unique'!$E:$E, D$2,'2019-2023 TRI_Nonzero Unique'!$AE:$AE) -> 0 | E10: =SUMIF('2019-2023 TRI_Nonzero Unique'!$E:$E, E$2,'2019-2023 TRI_Nonzero Unique'!$AE:$AE) -> 0 | F10: =SUMIF('2019-2023 TRI_Nonzero Unique'!$E:$E, F$2,'2019-2023 TRI_Nonzero Unique'!$AE:$AE) -> 0 | H10: =CONVERT(B10,"lbm", "g")/1000 -> 0 | I10: =CONVERT(C10,"lbm", "g")/1000 -> 0 | J10: =CONVERT(D10,"lbm", "g")/1000 -> 0 | K10: =CONVERT(E10,"lbm", "g")/1000 -> 0 | L10: =CONVERT(F10,"lbm", "g")/1000 -> 0
A11: WASTE ROCK QUANTITY | B11: =SUMIF('2019-2023 TRI_Nonzero Unique'!$E:$E, B$2,'2019-2023 TRI_Nonzero Unique'!$AF:$AF) -> 0 | C11: =SUMIF('2019-2023 TRI_Nonzero Unique'!$E:$E, C$2,'2019-2023 TRI_Nonzero Unique'!$AF:$AF) -> 0 | D11: =SUMIF('2019-2023 TRI_Nonzero Unique'!$E:$E, D$2,'2019-2023 TRI_Nonzero Unique'!$AF:$AF) -> 0 | E11: =SUMIF('2019-2023 TRI_Nonzero Unique'!$E:$E, E$2,'2019-2023 TRI_Nonzero Unique'!$AF:$AF) -> 0 | F11: =SUMIF('2019-2023 TRI_Nonzero Unique'!$E:$E, F$2,'2019-2023 TRI_Nonzero Unique'!$AF:$AF) -> 0 | H11: =CONVERT(B11,"lbm", "g")/1000 -> 0 | I11: =CONVERT(C11,"lbm", "g")/1000 -> 0 | J11: =CONVERT(D11,"lbm", "g")/1000 -> 0 | K11: =CONVERT(E11,"lbm", "g")/1000 -> 0 | L11: =CONVERT(F11,"lbm", "g")/1000 -> 0
A12: OFF-SITE – UNDERGROUND INJECTION - CLASS 1 WELLS | B12: =SUMIF('2019-2023 TRI_Nonzero Unique'!$E:$E, B$2,'2019-2023 TRI_Nonzero Unique'!$AG:$AG) -> 0 | C12: =SUMIF('2019-2023 TRI_Nonzero Unique'!$E:$E, C$2,'2019-2023 TRI_Nonzero Unique'!$AG:$AG) -> 0 | D12: =SUMIF('2019-2023 TRI_Nonzero Unique'!$E:$E, D$2,'2019-2023 TRI_Nonzero Unique'!$AG:$AG) -> 0 | E12: =SUMIF('2019-2023 TRI_Nonzero Unique'!$E:$E, E$2,'2019-2023 TRI_Nonzero Unique'!$AG:$AG) -> 0 | F12: =SUMIF('2019-2023 TRI_Nonzero Unique'!$E:$E, F$2,'2019-2023 TRI_Nonzero Unique'!$AG:$AG) -> 0 | H12: =CONVERT(B12,"lbm", "g")/1000 -> 0 | I12: =CONVERT(C12,"lbm", "g")/1000 -> 0 | J12: =CONVERT(D12,"lbm", "g")/1000 -> 0 | K12: =CONVERT(E12,"lbm", "g")/1000 -> 0 | L12: =CONVERT(F12,"lbm", "g")/1000 -> 0
A13: OFF-SITE – UNDERGROUND INJECTION - CLASS II-V WELLS | B13: =SUMIF('2019-2023 TRI_Nonzero Unique'!$E:$E, B$2,'2019-2023 TRI_Nonzero Unique'!$AH:$AH) -> 0 | C13: =SUMIF('2019-2023 TRI_Nonzero Unique'!$E:$E, C$2,'2019-2023 TRI_Nonzero Unique'!$AH:$AH) -> 0 | D13: =SUMIF('2019-2023 TRI_Nonzero Unique'!$E:$E, D$2,'2019-2023 TRI_Nonzero Unique'!$AH:$AH) -> 0 | E13: =SUMIF('2019-2023 TRI_Nonzero Unique'!$E:$E, E$2,'2019-2023 TRI_Nonzero Unique'!$AH:$AH) -> 0 | F13: =SUMIF('2019-2023 TRI_Nonzero Unique'!$E:$E, F$2,'2019-2023 TRI_Nonzero Unique'!$AH:$AH) -> 0 | H13: =CONVERT(B13,"lbm", "g")/1000 -> 0 | I13: =CONVERT(C13,"lbm", "g")/1000 -> 0 | J13: =CONVERT(D13,"lbm", "g")/1000 -> 0 | K13: =CONVERT(E13,"lbm", "g")/1000 -> 0 | L13: =CONVERT(F13,"lbm", "g")/1000 -> 0
A14: OFF-SITE - RCRA SUBTITLE C SURFACE IMPOUNDMENTS | B14: =SUMIF('2019-2023 TRI_Nonzero Unique'!$E:$E, B$2,'2019-2023 TRI_Nonzero Unique'!$AI:$AI) -> 0 | C14: =SUMIF('2019-2023 TRI_Nonzero Unique'!$E:$E, C$2,'2019-2023 TRI_Nonzero Unique'!$AI:$AI) -> 0 | D14: =SUMIF('2019-2023 TRI_Nonzero Unique'!$E:$E, D$2,'2019-2023 TRI_Nonzero Unique'!$AI:$AI) -> 0 | E14: =SUMIF('2019-2023 TRI_Nonzero Unique'!$E:$E, E$2,'2019-2023 TRI_Nonzero Unique'!$AI:$AI) -> 0 | F14: =SUMIF('2019-2023 TRI_Nonzero Unique'!$E:$E, F$2,'2019-2023 TRI_Nonzero Unique'!$AI:$AI) -> 0 | H14: =CONVERT(B14,"lbm", "g")/1000 -> 0 | I14: =CONVERT(C14,"lbm", "g")/1000 -> 0 | J14: =CONVERT(D14,"lbm", "g")/1000 -> 0 | K14: =CONVERT(E14,"lbm", "g")/1000 -> 0 | L14: =CONVERT(F14,"lbm", "g")/1000 -> 0
A15: OFF-SITE - OTHER SURFACE IMPOUNDMENTS | B15: =SUMIF('2019-2023 TRI_Nonzero Unique'!$E:$E, B$2,'2019-2023 TRI_Nonzero Unique'!$AJ:$AJ) -> 0 | C15: =SUMIF('2019-2023 TRI_Nonzero Unique'!$E:$E, C$2,'2019-2023 TRI_Nonzero Unique'!$AJ:$AJ) -> 0 | D15: =SUMIF('2019-2023 TRI_Nonzero Unique'!$E:$E, D$2,'2019-2023 TRI_Nonzero Unique'!$AJ:$AJ) -> 0 | E15: =SUMIF('2019-2023 TRI_Nonzero Unique'!$E:$E, E$2,'2019-2023 TRI_Nonzero Unique'!$AJ:$AJ) -> 0 | F15: =SUMIF('2019-2023 TRI_Nonzero Unique'!$E:$E, F$2,'2019-2023 TRI_Nonzero Unique'!$AJ:$AJ) -> 0 | H15: =CONVERT(B15,"lbm", "g")/1000 -> 0 | I15: =CONVERT(C15,"lbm", "g")/1000 -> 0 | J15: =CONVERT(D15,"lbm", "g")/1000 -> 0 | K15: =CONVERT(E15,"lbm", "g")/1000 -> 0 | L15: =CONVERT(F15,"lbm", "g")/1000 -> 0
A16: OFF-SITE - OTHER LANDFILLS | B16: =SUMIF('2019-2023 TRI_Nonzero Unique'!$E:$E, B$2,'2019-2023 TRI_Nonzero Unique'!$AK:$AK) -> 1 | C16: =SUMIF('2019-2023 TRI_Nonzero Unique'!$E:$E, C$2,'2019-2023 TRI_Nonzero Unique'!$AK:$AK) -> 96.95 | D16: =SUMIF('2019-2023 TRI_Nonzero Unique'!$E:$E, D$2,'2019-2023 TRI_Nonzero Unique'!$AK:$AK) -> 11 | E16: =SUMIF('2019-2023 TRI_Nonzero Unique'!$E:$E, E$2,'2019-2023 TRI_Nonzero Unique'!$AK:$AK) -> 0 | F16: =SUMIF('2019-2023 TRI_Nonzero Unique'!$E:$E, F$2,'2019-2023 TRI_Nonzero Unique'!$AK:$AK) -> 11 | H16: =CONVERT(B16,"lbm", "g")/1000 -> 0.45359237 | I16: =CONVERT(C16,"lbm", "g")/1000 -> 43.97578 | J16: =CONVERT(D16,"lbm", "g")/1000 -> 4.9895161 | K16: =CONVERT(E16,"lbm", "g")/1000 -> 0 | L16: =CONVERT(F16,"lbm", "g")/1000 -> 4.9895161
A17: OFF-SITE - RCRA SUBTITLE C LANDFILLS | B17: =SUMIF('2019-2023 TRI_Nonzero Unique'!$E:$E, B$2,'2019-2023 TRI_Nonzero Unique'!$AL:$AL) -> 0 | C17: =SUMIF('2019-2023 TRI_Nonzero Unique'!$E:$E, C$2,'2019-2023 TRI_Nonzero Unique'!$AL:$AL) -> 1.1 | D17: =SUMIF('2019-2023 TRI_Nonzero Unique'!$E:$E, D$2,'2019-2023 TRI_Nonzero Unique'!$AL:$AL) -> 0.01 | E17: =SUMIF('2019-2023 TRI_Nonzero Unique'!$E:$E, E$2,'2019-2023 TRI_Nonzero Unique'!$AL:$AL) -> 3 | F17: =SUMIF('2019-2023 TRI_Nonzero Unique'!$E:$E, F$2,'2019-2023 TRI_Nonzero Unique'!$AL:$AL) -> 0 | H17: =CONVERT(B17,"lbm", "g")/1000 -> 0 | I17: =CONVERT(C17,"lbm", "g")/1000 -> 0.49895161 | J17: =CONVERT(D17,"lbm", "g")/1000 -> 0.0045359237 | K17: =CONVERT(E17,"lbm", "g")/1000 -> 1.3607771 | L17: =CONVERT(F17,"lbm", "g")/1000 -> 0
A18: OFF-SITE - DISPOSAL - LAND TREATMENT | B18: =SUMIF('2019-2023 TRI_Nonzero Unique'!$E:$E, B$2,'2019-2023 TRI_Nonzero Unique'!$AM:$AM) -> 0 | C18: =SUMIF('2019-2023 TRI_Nonzero Unique'!$E:$E, C$2,'2019-2023 TRI_Nonzero Unique'!$AM:$AM) -> 0 | D18: =SUMIF('2019-2023 TRI_Nonzero Unique'!$E:$E, D$2,'2019-2023 TRI_Nonzero Unique'!$AM:$AM) -> 0 | E18: =SUMIF('2019-2023 TRI_Nonzero Unique'!$E:$E, E$2,'2019-2023 TRI_Nonzero Unique'!$AM:$AM) -> 0 | F18: =SUMIF('2019-2023 TRI_Nonzero Unique'!$E:$E, F$2,'2019-2023 TRI_Nonzero Unique'!$AM:$AM) -> 0 | H18: =CONVERT(B18,"lbm", "g")/1000 -> 0 | I18: =CONVERT(C18,"lbm", "g")/1000 -> 0 | J18: =CONVERT(D18,"lbm", "g")/1000 -> 0 | K18: =CONVERT(E18,"lbm", "g")/1000 -> 0 | L18: =CONVERT(F18,"lbm", "g")/1000 -> 0
A19: OFF-SITE - DISPOSAL - OTHER LAND DISPOSAL | B19: =SUMIF('2019-2023 TRI_Nonzero Unique'!$E:$E, B$2,'2019-2023 TRI_Nonzero Unique'!$AN:$AN) -> 0 | C19: =SUMIF('2019-2023 TRI_Nonzero Unique'!$E:$E, C$2,'2019-2023 TRI_Nonzero Unique'!$AN:$AN) -> 0 | D19: =SUMIF('2019-2023 TRI_Nonzero Unique'!$E:$E, D$2,'2019-2023 TRI_Nonzero Unique'!$AN:$AN) -> 0 | E19: =SUMIF('2019-2023 TRI_Nonzero Unique'!$E:$E, E$2,'2019-2023 TRI_Nonzero Unique'!$AN:$AN) -> 0 | F19: =SUMIF('2019-2023 TRI_Nonzero Unique'!$E:$E, F$2,'2019-2023 TRI_Nonzero Unique'!$AN:$AN) -> 0 | H19: =CONVERT(B19,"lbm", "g")/1000 -> 0 | I19: =CONVERT(C19,"lbm", "g")/1000 -> 0 | J19: =CONVERT(D19,"lbm", "g")/1000 -> 0 | K19: =CONVERT(E19,"lbm", "g")/1000 -> 0 | L19: =CONVERT(F19,"lbm", "g")/1000 -> 0
A20: OFF-SITE - DISPOSAL - TRANSFER TO WASTE BROKER | B20: =SUMIF('2019-2023 TRI_Nonzero Unique'!$E:$E, B$2,'2019-2023 TRI_Nonzero Unique'!$AO:$AO) -> 0 | C20: =SUMIF('2019-2023 TRI_Nonzero Unique'!$E:$E, C$2,'2019-2023 TRI_Nonzero Unique'!$AO:$AO) -> 0 | D20: =SUMIF('2019-2023 TRI_Nonzero Unique'!$E:$E, D$2,'2019-2023 TRI_Nonzero Unique'!$AO:$AO) -> 0 | E20: =SUMIF('2019-2023 TRI_Nonzero Unique'!$E:$E, E$2,'2019-2023 TRI_Nonzero Unique'!$AO:$AO) -> 0 | F20: =SUMIF('2019-2023 TRI_Nonzero Unique'!$E:$E, F$2,'2019-2023 TRI_Nonzero Unique'!$AO:$AO) -> 0 | H20: =CONVERT(B20,"lbm", "g")/1000 -> 0 | I20: =CONVERT(C20,"lbm", "g")/1000 -> 0 | J20: =CONVERT(D20,"lbm", "g")/1000 -> 0 | K20: =CONVERT(E20,"lbm", "g")/1000 -> 0 | L20: =CONVERT(F20,"lbm", "g")/1000 -> 0
A21: OFF-SITE - SOLIDIFICATION/STABILIZATION TREATMENT– NON META | B21: =SUMIF('2019-2023 TRI_Nonzero Unique'!$E:$E, B$2,'2019-2023 TRI_Nonzero Unique'!$AP:$AP) -> 0 | C21: =SUMIF('2019-2023 TRI_Nonzero Unique'!$E:$E, C$2,'2019-2023 TRI_Nonzero Unique'!$AP:$AP) -> 0 | D21: =SUMIF('2019-2023 TRI_Nonzero Unique'!$E:$E, D$2,'2019-2023 TRI_Nonzero Unique'!$AP:$AP) -> 0 | E21: =SUMIF('2019-2023 TRI_Nonzero Unique'!$E:$E, E$2,'2019-2023 TRI_Nonzero Unique'!$AP:$AP) -> 0 | F21: =SUMIF('2019-2023 TRI_Nonzero Unique'!$E:$E, F$2,'2019-2023 TRI_Nonzero Unique'!$AP:$AP) -> 0 | H21: =CONVERT(B21,"lbm", "g")/1000 -> 0 | I21: =CONVERT(C21,"lbm", "g")/1000 -> 0 | J21: =CONVERT(D21,"lbm", "g")/1000 -> 0 | K21: =CONVERT(E21,"lbm", "g")/1000 -> 0 | L21: =CONVERT(F21,"lbm", "g")/1000 -> 0

Sheet Facility Summary
A1: COU Determination | B1: Determination Notes | C1: 9 TRIFD | D1: 74 FRS FACILITY ID | E1: 51 RCRA NR A | F1: 10 FACILITY NAME | G1: 11 FACILITY STREET | H1: 12 FACILITY CITY | I1: 13 FACILITY COUNTY | J1: 14 FACILITY STATE | K1: 15 FACILITY ZIP CODE | L1: 47 LATITUDE | M1: 48 LONGITUDE | N1: Median Release (lb/yr) | O1: Maximum Release (lb/yr)
A2: Manufacture | B2: Public Comment (EPA-HQ-OPPT-2018-0428-0011) | C2: 25515KZCHMSTATE | D2: 110000607772 | F2: ICL-IP AMERICA INC | G2: 11636 HUNTINGTON | H2: GALLIPOLIS FERRY | I2: MASON | J2: WV | K2: 25515 | L2: 38.77222 | M2: -82.20556 | N2: {=MEDIAN(IF('2019-2023 TRI_Nonzero Unique'!F:F='Facility Summary'!$C2,'2019-2023 TRI_Nonzero Unique'!AK:AK))} -> 83.95 | O2: {=MAX(IF('2019-2023 TRI_Nonzero Unique'!F:F='Facility Summary'!$C2,'2019-2023 TRI_Nonzero Unique'!AK:AK))} -> 83.95 | P2: OFF-SITE - OTHER LANDFILLS
A3: Manufacture | B3: VI Final Study Plan | C3: 70765THDWCHIGHW | D3: 110001244724 | E3: LAD008187080 | F3: THE DOW CHEMICAL CO - LOUISIANA OPERATIONS | G3: 21255 LA HWY 1 S | H3: PLAQUEMINE | I3: IBERVILLE PARISH | J3: LA | K3: 70764 | L3: 30.320903 | M3: -91.239015 | N3: {=MEDIAN(IF('2019-2023 TRI_Nonzero Unique'!F:F='Facility Summary'!$C3,'2019-2023 TRI_Nonzero Unique'!AA:AA))} -> 0 | O3: {=MAX(IF('2019-2023 TRI_Nonzero Unique'!F:F='Facility Summary'!$C3,'2019-2023 TRI_Nonzero Unique'!AA:AA))} -> 477 | P3: TOTAL OTHER ON-SITE LANDFILLS
A4: Manufacture | B4: VI Final Study Plan | C4: 70765THDWCHIGHW | D4: "" | F4: "" | G4: "" | H4: "" | I4: "" | J4: "" | K4: "" | L4: "" | M4: "" | N4: {=MEDIAN(IF('2019-2023 TRI_Nonzero Unique'!F:F='Facility Summary'!$C4,'2019-2023 TRI_Nonzero Unique'!AK:AK))} -> 0 | O4: {=MAX(IF('2019-2023 TRI_Nonzero Unique'!F:F='Facility Summary'!$C4,'2019-2023 TRI_Nonzero Unique'!AK:AK))} -> 11 | P4: OFF-SITE - OTHER LANDFILLS
A5: Manufacture | B5: VI Final Study Plan | C5: 70765THDWCHIGHW | D5: "" | F5: "" | G5: "" | H5: "" | I5: "" | J5: "" | K5: "" | L5: "" | M5: "" | N5: {=MEDIAN(IF('2019-2023 TRI_Nonzero Unique'!F:F='Facility Summary'!$C5,'2019-2023 TRI_Nonzero Unique'!AL:AL))} -> 0.005 | O5: {=MAX(IF('2019-2023 TRI_Nonzero Unique'!F:F='Facility Summary'!$C5,'2019-2023 TRI_Nonzero Unique'!AL:AL))} -> 0.1 | P5: OFF-SITE - RCRA SUBTITLE C LANDFILLS
A6: Manufacture | B6: VI Final Study Plan | C6: 77541THDWCBUILD | D6: 110008170237 | E6: TXR000017855 | F6: DOW CHEMICAL CO FREEPORT FACILITY | G6: 2301 N BRAZOSPORT BLVD | H6: FREEPORT | I6: BRAZORIA | J6: TX | K6: 775413257 | L6: 28.9792 | M6: -95.3549 | N6: {=MEDIAN(IF('2019-2023 TRI_Nonzero Unique'!F:F='Facility Summary'!$C6,'2019-2023 TRI_Nonzero Unique'!AA:AA))} -> 1.5 | O6: {=MAX(IF('2019-2023 TRI_Nonzero Unique'!F:F='Facility Summary'!$C6,'2019-2023 TRI_Nonzero Unique'!AA:AA))} -> 3 | P6: TOTAL OTHER ON-SITE LANDFILLS
A7: Manufacture | B7: VI Final Study Plan | C7: 77541THDWCBUILD | D7: "" | F7: "" | G7: "" | H7: "" | I7: "" | J7: "" | K7: "" | L7: "" | M7: "" | N7: {=MEDIAN(IF('2019-2023 TRI_Nonzero Unique'!F:F='Facility Summary'!$C7,'2019-2023 TRI_Nonzero Unique'!AK:AK))} -> 0 | O7: {=MAX(IF('2019-2023 TRI_Nonzero Unique'!F:F='Facility Summary'!$C7,'2019-2023 TRI_Nonzero Unique'!AK:AK))} -> 11 | P7: OFF-SITE - OTHER LANDFILLS
A8: Manufacture | B8: VI Final Study Plan | C8: 7754WBLCBP231NB | D8: 110066943605 | E8: TXR000083481 | F8: FREEPORT_OLIN BC | G8: 2301 N BRAZOSPORT BLVD | H8: FREEPORT | I8: BRAZORIA | J8: TX | K8: 77541 | L8: 28.969389 | M8: -95.379528 | N8: {=MEDIAN(IF('2019-2023 TRI_Nonzero Unique'!F:F='Facility Summary'!$C8,'2019-2023 TRI_Nonzero Unique'!AK:AK))} -> 7 | O8: {=MAX(IF('2019-2023 TRI_Nonzero Unique'!F:F='Facility Summary'!$C8,'2019-2023 TRI_Nonzero Unique'!AK:AK))} -> 13 | P8: OFF-SITE - OTHER LANDFILLS
A9: Processing as a reactant | B9: Based on NAICS code and TRI use codes. | C9: 7076WBLCBP21255 | D9: 110070828281 | E9: LAR000086074 | F9: BLUE CUBE OPERATIONS LLC - PLAQUEMINE SITE | G9: 21255 HIGHWAY 1 | H9: PLAQUEMINE | I9: IBERVILLE PARISH | J9: LA | K9: 70764 | L9: 30.313897 | M9: -91.240605 | N9: {=MEDIAN(IF('2019-2023 TRI_Nonzero Unique'!F:F='Facility Summary'!$C9,'2019-2023 TRI_Nonzero Unique'!AL:AL))} -> 2 | O9: {=MAX(IF('2019-2023 TRI_Nonzero Unique'!F:F='Facility Summary'!$C9,'2019-2023 TRI_Nonzero Unique'!AL:AL))} -> 3 | P9: OFF-SITE - RCRA SUBTITLE C LANDFILLS

Sheet 2019-2023 TRI_Nonzero Unique
A1: TRI CHEMICAL ID | B1: CHEMICAL NAME | C1: COU Determination | D1: FORM TYPE | E1: REPORTING YEAR | F1: TRIFD | G1: FRS FACILITY ID | H1: RCRA NR A | I1: FACILITY NAME | J1: FACILITY STREET | K1: FACILITY CITY | L1: FACILITY COUNTY | M1: FACILITY STATE | N1: FACILITY ZIP CODE | O1: LATITUDE | P1: LONGITUDE | Q1: DOCUMENT CONTROL NUMBER | R1: MAXIMUM AMOUNT ON SITE | S1: Code Expansion | T1: STANDARDIZED PARENT COMPANY NAME | U1: PRIMARY SIC CODE | V1: SIC Desc | W1: PRIMARY NAICS CODE | X1: TOTAL ON-SITE UGRND INJ TO CL I WELLS – POUNDS | Y1: TOTAL ON-SITE UGRND INJ TO CL II-V WELLS – POUNDS | Z1: TOTAL ON-SITE RCRA SUBTITLE C LANDFILLS | AA1: TOTAL OTHER ON-SITE LANDFILLS | AB1: TOTAL ON-SITE LAND TREATMENT | AC1: TOTAL RCRA C SURFACE IMPOUNDMENTS | AD1: TOTAL OTHER SURFACE IMPOUNDMENTS | AE1: TOTAL OTHER DISPOSAL | AF1: WASTE ROCK QUANTITY | AG1: OFF-SITE – UNDERGROUND INJECTION - CLASS 1 WELLS | AH1: OFF-SITE – UNDERGROUND INJECTION - CLASS II-V WELLS | AI1: OFF-SITE - RCRA SUBTITLE C SURFACE IMPOUNDMENTS | AJ1: OFF-SITE - OTHER SURFACE IMPOUNDMENTS | AK1: OFF-SITE - OTHER LANDFILLS | AL1: OFF-SITE - RCRA SUBTITLE C LANDFILLS | AM1: OFF-SITE - DISPOSAL - LAND TREATMENT | AN1: OFF-SITE - DISPOSAL - OTHER LAND DISPOSAL | AO1: OFF-SITE - DISPOSAL - TRANSFER TO WASTE BROKER | AP1: OFF-SITE - SOLIDIFICATION/STABILIZATION TREATMENT– NON META | AQ1: Land Release
A2: 78875 | B2: 1,2-Dichloropropane | C2: Manufacture | D2: R | E2: 2022 | F2: 25515KZCHMSTATE | G2: 110000607772 | I2: ICL-IP AMERICA INC | J2: 11636 HUNTINGTON | K2: GALLIPOLIS FERRY | L2: MASON | M2: WV | N2: 25515 | O2: 38.77222 | P2: -82.20556 | Q2: 1322221417734 | R2: 04 | S2: 10,000 to 99,999 | T2: ICL SPECIALTY PRODUCTS NORTH AMERICA INC | W2: 325998 | X2: 0 | Y2: 0 | Z2: 0 | AA2: 0 | AB2: 0 | AC2: 0 | AD2: 0 | AE2: 0 | AG2: 0 | AH2: 0 | AI2: 0 | AJ2: 0 | AK2: 83.95 | AL2: 0 | AM2: 0 | AN2: 0 | AO2: 0 | AP2: 0 | AQ2: =SUM(X2:AP2) -> 83.95
A3: 78875 | B3: 1,2-Dichloropropane | C3: Manufacture | D3: R | E3: 2019 | F3: 70765THDWCHIGHW | G3: 110001244724 | H3: LAD008187080 | I3: THE DOW CHEMICAL CO - LOUISIANA OPERATIONS | J3: 21255 LA HWY 1 S | K3: PLAQUEMINE | L3: IBERVILLE PARISH | M3: LA | N3: 70764 | O3: 30.320903 | P3: -91.239015 | Q3: 1319218119016 | R3: 6 | S3: 1,000,000 to 9,999,999 | T3: DOW INC | W3: 325199 | X3: 0 | Y3: 0 | Z3: 0 | AA3: 0 | AB3: 0 | AC3: 0 | AD3: 0 | AE3: 0 | AG3: 0 | AH3: 0 | AI3: 0 | AJ3: 0 | AK3: 11 | AL3: 0 | AM3: 0 | AN3: 0 | AO3: 0 | AP3: 0 | AQ3: =SUM(X3:AP3) -> 11
A4: 78875 | B4: 1,2-Dichloropropane | C4: Manufacture | D4: R | E4: 2021 | F4: 70765THDWCHIGHW | G4: 110001244724 | I4: THE DOW CHEMICAL CO - LOUISIANA OPERATIONS | J4: 21255 LA HWY 1 S | K4: PLAQUEMINE | L4: IBERVILLE PARISH | M4: LA | N4: 70764 | O4: 30.320903 | P4: -91.239015 | Q4: 1321220221776 | R4: 6 | S4: 1,000,000 to 9,999,999 | T4: DOW INC | W4: 325199 | X4: 0 | Y4: 0 | Z4: 0 | AA4: 0 | AB4: 0 | AC4: 0 | AD4: 0 | AE4: 0 | AG4: 0 | AH4: 0 | AI4: 0 | AJ4: 0 | AK4: 0 | AL4: 0.01 | AM4: 0 | AN4: 0 | AO4: 0 | AP4: 0 | AQ4: =SUM(X4:AP4) -> 0.01
A5: 78875 | B5: 1,2-Dichloropropane | C5: Manufacture | D5: R | E5: 2022 | F5: 70765THDWCHIGHW | G5: 110001244724 | H5: LAD008187080 | I5: THE DOW CHEMICAL CO - LOUISIANA OPERATIONS | J5: 21255 LA HWY 1 S | K5: PLAQUEMINE | L5: IBERVILLE PARISH | M5: LA | N5: 70764 | O5: 30.320903 | P5: -91.239015 | Q5: 1322220774246 | R5: 06 | S5: 1,000,000 to 9,999,999 | T5: DOW INC | W5: 325199 | X5: 0 | Y5: 0 | Z5: 0 | AA5: 0 | AB5: 0 | AC5: 0 | AD5: 0 | AE5: 0 | AG5: 0 | AH5: 0 | AI5: 0 | AJ5: 0 | AK5: 0 | AL5: 0.1 | AM5: 0 | AN5: 0 | AO5: 0 | AP5: 0 | AQ5: =SUM(X5:AP5) -> 0.1
A6: 78875 | B6: 1,2-Dichloropropane | C6: Manufacture | D6: R | E6: 2023 | F6: 70765THDWCHIGHW | G6: 110001244724 | H6: LAD008187080 | I6: THE DOW CHEMICAL CO - LOUISIANA OPERATIONS | J6: 21255 LA HWY 1 S | K6: PLAQUEMINE | L6: IBERVILLE PARISH | M6: LA | N6: 70764 | O6: 30.320903 | P6: -91.239015 | Q6: 1323221935048 | R6: 06 | S6: 1,000,000 to 9,999,999 | T6: DOW INC | W6: 325199 | X6: 0 | Y6: 0 | Z6: 0 | AA6: 477 | AB6: 0 | AC6: 0 | AD6: 0 | AE6: 0 | AG6: 0 | AH6: 0 | AI6: 0 | AJ6: 0 | AK6: 0 | AL6: 0 | AM6: 0 | AN6: 0 | AO6: 0 | AP6: 0 | AQ6: =SUM(X6:AP6) -> 477
A7: 78875 | B7: 1,2-Dichloropropane | C7: Manufacture | D7: R | E7: 2019 | F7: 77541THDWCBUILD | G7: 110008170237 | H7: TXR000017855 | I7: DOW CHEMICAL CO FREEPORT FACILITY | J7: 2301 N BRAZOSPORT BLVD | K7: FREEPORT | L7: BRAZORIA | M7: TX | N7: 775413257 | O7: 28.9792 | P7: -95.3549 | Q7: 1319218250987 | R7: 7 | S7: 10,000,000 to 49,999,999 | T7: DOW INC | W7: 325199 | X7: 0 | Y7: 0 | Z7: 0 | AA7: 3 | AB7: 0 | AC7: 0 | AD7: 0 | AE7: 0 | AG7: 0 | AH7: 0 | AI7: 0 | AJ7: 0 | AK7: 0 | AL7: 0 | AM7: 0 | AN7: 0 | AO7: 0 | AP7: 0 | AQ7: =SUM(X7:AP7) -> 3
A8: 78875 | B8: 1,2-Dichloropropane | C8: Manufacture | D8: R | E8: 2020 | F8: 77541THDWCBUILD | G8: 110008170237 | H8: TXR000017855 | I8: DOW CHEMICAL CO FREEPORT FACILITY | J8: 2301 N BRAZOSPORT BLVD | K8: FREEPORT | L8: BRAZORIA | M8: TX | N8: 775413257 | O8: 28.9792 | P8: -95.3549 | Q8: 1320220606483 | R8: 7 | S8: 10,000,000 to 49,999,999 | T8: DOW INC | W8: 325199 | X8: 0 | Y8: 0 | Z8: 0 | AA8: 1 | AB8: 0 | AC8: 0 | AD8: 0 | AE8: 0 | AG8: 0 | AH8: 0 | AI8: 0 | AJ8: 0 | AK8: 0 | AL8: 0 | AM8: 0 | AN8: 0 | AO8: 0 | AP8: 0 | AQ8: =SUM(X8:AP8) -> 1
A9: 78875 | B9: 1,2-Dichloropropane | C9: Manufacture | D9: R | E9: 2021 | F9: 77541THDWCBUILD | G9: 110008170237 | H9: TXR000083481 | I9: DOW CHEMICAL CO FREEPORT FACILITY | J9: 2301 N BRAZOSPORT BLVD | K9: FREEPORT | L9: BRAZORIA | M9: TX | N9: 775413257 | O9: 28.9792 | P9: -95.3549 | Q9: 1321220569065 | R9: 7 | S9: 10,000,000 to 49,999,999 | T9: DOW INC | W9: 325199 | X9: 0 | Y9: 0 | Z9: 0 | AA9: 1 | AB9: 0 | AC9: 0 | AD9: 0 | AE9: 0 | AG9: 0 | AH9: 0 | AI9: 0 | AJ9: 0 | AK9: 0 | AL9: 0 | AM9: 0 | AN9: 0 | AO9: 0 | AP9: 0 | AQ9: =SUM(X9:AP9) -> 1
A10: 78875 | B10: 1,2-Dichloropropane | C10: Manufacture | D10: R | E10: 2021 | F10: 77541THDWCBUILD | G10: 110008170237 | H10: TXR000017855 | I10: DOW CHEMICAL CO FREEPORT FACILITY | J10: 2301 N BRAZOSPORT BLVD | K10: FREEPORT | L10: BRAZORIA | M10: TX | N10: 775413257 | O10: 28.9792 | P10: -95.3549 | Q10: 1321220216143 | R10: 1 | S10: 0 to 99 | T10: DOW INC | W10: 325199 | X10: 0 | Y10: 0 | Z10: 0 | AA10: 0 | AB10: 0 | AC10: 0 | AD10: 0 | AE10: 0 | AG10: 0 | AH10: 0 | AI10: 0 | AJ10: 0 | AK10: 11 | AL10: 0 | AM10: 0 | AN10: 0 | AO10: 0 | AP10: 0 | AQ10: =SUM(X10:AP10) -> 11
A11: 78875 | B11: 1,2-Dichloropropane | C11: Manufacture | D11: R | E11: 2022 | F11: 77541THDWCBUILD | G11: 110008170237 | H11: TXR000017855 | I11: DOW CHEMICAL CO FREEPORT FACILITY | J11: 2301 N BRAZOSPORT BLVD | K11: FREEPORT | L11: BRAZORIA | M11: TX | N11: 775413257 | O11: 28.980147 | P11: -95.342272 | Q11: 1322221240346 | R11: 07 | S11: 10,000,000 to 49,999,999 | T11: DOW INC | W11: 325199 | X11: 0 | Y11: 0 | Z11: 0 | AA11: 2 | AB11: 0 | AC11: 0 | AD11: 0 | AE11: 0 | AG11: 0 | AH11: 0 | AI11: 0 | AJ11: 0 | AK11: 0 | AL11: 0 | AM11: 0 | AN11: 0 | AO11: 0 | AP11: 0 | AQ11: =SUM(X11:AP11) -> 2
A12: 78875 | B12: 1,2-Dichloropropane | C12: Manufacture | D12: R | E12: 2023 | F12: 77541THDWCBUILD | G12: 110008170237 | H12: TXR000017855 | I12: DOW CHEMICAL CO FREEPORT FACILITY | J12: 2301 N BRAZOSPORT BLVD | K12: FREEPORT | L12: BRAZORIA | M12: TX | N12: 775413257 | O12: 28.980147 | P12: -95.342272 | Q12: 1323222253522 | R12: 07 | S12: 10,000,000 to 49,999,999 | T12: DOW INC | W12: 325199 | X12: 0 | Y12: 0 | Z12: 0 | AA12: 2 | AB12: 0 | AC12: 0 | AD12: 0 | AE12: 0 | AG12: 0 | AH12: 0 | AI12: 0 | AJ12: 0 | AK12: 0 | AL12: 0 | AM12: 0 | AN12: 0 | AO12: 0 | AP12: 0 | AQ12: =SUM(X12:AP12) -> 2
A13: 78875 | B13: 1,2-Dichloropropane | C13: Manufacture | D13: R | E13: 2022 | F13: 7754WBLCBP231NB | G13: 110066943605 | H13: TXR000083481 | I13: FREEPORT_OLIN BC | J13: 2301 N BRAZOSPORT BLVD | K13: FREEPORT | L13: BRAZORIA | M13: TX | N13: 77541 | O13: 28.969389 | P13: -95.379528 | Q13: 1322221487681 | R13: 07 | S13: 10,000,000 to 49,999,999 | T13: OLIN CORP | W13: 325199 | X13: 0 | Y13: 0 | Z13: 0 | AA13: 0 | AB13: 0 | AC13: 0 | AD13: 0 | AE13: 0 | AG13: 0 | AH13: 0 | AI13: 0 | AJ13: 0 | AK13: 13 | AL13: 0 | AM13: 0 | AN13: 0 | AO13: 0 | AP13: 0 | AQ13: =SUM(X13:AP13) -> 13
A14: 78875 | B14: 1,2-Dichloropropane | C14: Manufacture | D14: R | E14: 2023 | F14: 7754WBLCBP231NB | G14: 110066943605 | H14: TXR000083481 | I14: FREEPORT_OLIN BC | J14: 2301 N BRAZOSPORT BLVD | K14: FREEPORT | L14: BRAZORIA | M14: TX | N14: 77541 | O14: 28.969389 | P14: -95.379528 | Q14: 1323221997760 | R14: 07 | S14: 10,000,000 to 49,999,999 | T14: OLIN CORP | W14: 325199 | X14: 0 | Y14: 0 | Z14: 0 | AA14: 0 | AB14: 0 | AC14: 0 | AD14: 0 | AE14: 0 | AG14: 0 | AH14: 0 | AI14: 0 | AJ14: 0 | AK14: 1 | AL14: 0 | AM14: 0 | AN14: 0 | AO14: 0 | AP14: 0 | AQ14: =SUM(X14:AP14) -> 1
A15: 78875 | B15: 1,2-Dichloropropane | C15: Processing as a reactant | D15: R | E15: 2020 | F15: 7076WBLCBP21255 | G15: 110070828281 | H15: LAR000086074 | I15: BLUE CUBE OPERATIONS LLC - PLAQUEMINE SITE | J15: 21255 HIGHWAY 1 | K15: PLAQUEMINE | L15: IBERVILLE PARISH | M15: LA | N15: 70764 | O15: 30.313897 | P15: -91.240605 | Q15: 1320219127608 | R15: 6 | S15: 1,000,000 to 9,999,999 | T15: OLIN CORP | W15: 325199 | X15: 0 | Y15: 0 | Z15: 0 | AA15: 0 | AB15: 0 | AC15: 0 | AD15: 0 | AE15: 0 | AG15: 0 | AH15: 0 | AI15: 0 | AJ15: 0 | AK15: 0 | AL15: 3 | AM15: 0 | AN15: 0 | AO15: 0 | AP15: 0 | AQ15: =SUM(X15:AP15) -> 3
A16: 78875 | B16: 1,2-Dichloropropane | C16: Processing as a reactant | D16: R | E16: 2022 | F16: 7076WBLCBP21255 | G16: 110070828281 | H16: LAR000086074 | I16: BLUE CUBE OPERATIONS LLC - PLAQUEMINE SITE | J16: 21255 HIGHWAY 1 | K16: PLAQUEMINE | L16: IBERVILLE PARISH | M16: LA | N16: 70764 | O16: 30.313897 | P16: -91.240605 | Q16: 1322221399785 | R16: 06 | S16: 1,000,000 to 9,999,999 | T16: OLIN CORP | W16: 325199 | X16: 0 | Y16: 0 | Z16: 0 | AA16: 0 | AB16: 0 | AC16: 0 | AD16: 0 | AE16: 0 | AG16: 0 | AH16: 0 | AI16: 0 | AJ16: 0 | AK16: 0 | AL16: 1 | AM16: 0 | AN16: 0 | AO16: 0 | AP16: 0 | AQ16: =SUM(X16:AP16) -> 1

Sheet 2019-2023 TRI Data_All
A1: TRI CHEMICAL ID | B1: CHEMICAL NAME | C1: FORM TYPE | D1: REPORTING YEAR | E1: TRIFD | F1: FRS FACILITY ID | G1: RCRA NR A | H1: FACILITY NAME | I1: FACILITY STREET | J1: FACILITY CITY | K1: FACILITY COUNTY | L1: FACILITY STATE | M1: FACILITY ZIP CODE | N1: LATITUDE | O1: LONGITUDE | P1: DOCUMENT CONTROL NUMBER | Q1: MAXIMUM AMOUNT ON SITE | R1: Code Expansion | S1: STANDARDIZED PARENT COMPANY NAME | T1: PRIMARY SIC CODE | U1: SIC Desc | V1: PRIMARY NAICS CODE | W1: TOTAL ON-SITE UGRND INJ TO CL I WELLS – POUNDS | X1: TOTAL ON-SITE UGRND INJ TO CL II-V WELLS – POUNDS | Y1: TOTAL ON-SITE RCRA SUBTITLE C LANDFILLS | Z1: TOTAL OTHER ON-SITE LANDFILLS | AA1: TOTAL ON-SITE LAND TREATMENT | AB1: TOTAL RCRA C SURFACE IMPOUNDMENTS | AC1: TOTAL OTHER SURFACE IMPOUNDMENTS | AD1: TOTAL OTHER DISPOSAL | AE1: WASTE ROCK QUANTITY | AF1: OFF-SITE – UNDERGROUND INJECTION - CLASS 1 WELLS | AG1: OFF-SITE – UNDERGROUND INJECTION - CLASS II-V WELLS | AH1: OFF-SITE - RCRA SUBTITLE C SURFACE IMPOUNDMENTS | AI1: OFF-SITE - OTHER SURFACE IMPOUNDMENTS | AJ1: OFF-SITE - OTHER LANDFILLS | AK1: OFF-SITE - RCRA SUBTITLE C LANDFILLS | AL1: OFF-SITE - DISPOSAL - LAND TREATMENT | AM1: OFF-SITE - DISPOSAL - OTHER LAND DISPOSAL | AN1: OFF-SITE - DISPOSAL - TRANSFER TO WASTE BROKER | AO1: OFF-SITE - SOLIDIFICATION/STABILIZATION TREATMENT– NON META
A2: 78875 | B2: 1,2-Dichloropropane | C2: R | D2: 2019 | E2: 41129CLGNCUSROU | F2: 110008459578 | G2: KYD005009923 | H2: CALGON CARBON CORP | I2: 15024 US 23 | J2: CATLETTSBURG | K2: BOYD | L2: KY | M2: 41129 | N2: 38.33721 | O2: -82.58925 | P2: 1319217926450 | Q2: 4 | R2: 10,000 to 99,999 | V2: 325998 | W2: 0 | X2: 0 | Y2: 0 | Z2: 0 | AA2: 0 | AB2: 0 | AC2: 0 | AD2: 0 | AF2: 0 | AG2: 0 | AH2: 0 | AI2: 0 | AJ2: 0 | AK2: 0 | AL2: 0 | AM2: 0 | AN2: 0 | AO2: 0
A3: 78875 | B3: 1,2-Dichloropropane | C3: R | D3: 2019 | E3: 43920VNRLL1250S | F3: 110027242320 | G3: OHD980613541 | H3: HERITAGE THERMAL SERVICES | I3: 1250 ST GEORGE ST | J3: EAST LIVERPOOL | K3: COLUMBIANA | L3: OH | M3: 43920 | N3: 40.631622 | O3: -80.54632 | P3: 1319217973890 | Q3: 2 | R3: 100 to 999 | S3: HERITAGE-WTI LLC | V3: 562213 | W3: 0 | X3: 0 | Y3: 0 | Z3: 0 | AA3: 0 | AB3: 0 | AC3: 0 | AD3: 0 | AF3: 0 | AG3: 0 | AH3: 0 | AI3: 0 | AJ3: 0 | AK3: 0 | AL3: 0 | AM3: 0 | AN3: 0 | AO3: 0
A4: 78875 | B4: 1,2-Dichloropropane | C4: R | D4: 2019 | E4: 25515KZCHMSTATE | F4: 110000607772 | H4: ICL-IP AMERICA INC | I4: 11636 HUNTINGTON | J4: GALLIPOLIS FERRY | K4: MASON | L4: WV | M4: 25515 | N4: 38.77222 | O4: -82.20556 | P4: 1319218499438 | Q4: 4 | R4: 10,000 to 99,999 | V4: 325998 | W4: 0 | X4: 0 | Y4: 0 | Z4: 0 | AA4: 0 | AB4: 0 | AC4: 0 | AD4: 0 | AF4: 0 | AG4: 0 | AH4: 0 | AI4: 0 | AJ4: 0 | AK4: 0 | AL4: 0 | AM4: 0 | AN4: 0 | AO4: 0
A5: 78875 | B5: 1,2-Dichloropropane | C5: R | D5: 2019 | E5: 23851HRCLSROUTE | F5: 110000499611 | G5: VAD003122165 | H5: SOLENIS LLC | I5: 27123 SHADY BROOK TRAIL | J5: COURTLAND | K5: SOUTHAMPTON | L5: VA | M5: 23837 | N5: 36.6512 | O5: -76.999045 | P5: 1319218210058 | Q5: 5 | R5: 100,000 to 999,999 | V5: 325199 | W5: 0 | X5: 0 | Y5: 0 | Z5: 0 | AA5: 0 | AB5: 0 | AC5: 0 | AD5: 0 | AF5: 0 | AG5: 0 | AH5: 0 | AI5: 0 | AJ5: 0 | AK5: 0 | AL5: 0 | AM5: 0 | AN5: 0 | AO5: 0
A6: 78875 | B6: 1,2-Dichloropropane | C6: R | D6: 2019 | E6: 70765THDWCHIGHW | F6: 110001244724 | G6: LAD008187080 | H6: THE DOW CHEMICAL CO - LOUISIANA OPERATIONS | I6: 21255 LA HWY 1 S | J6: PLAQUEMINE | K6: IBERVILLE PARISH | L6: LA | M6: 70764 | N6: 30.320903 | O6: -91.239015 | P6: 1319218119016 | Q6: 6 | R6: 1,000,000 to 9,999,999 | S6: DOW INC | V6: 325199 | W6: 0 | X6: 0 | Y6: 0 | Z6: 0 | AA6: 0 | AB6: 0 | AC6: 0 | AD6: 0 | AF6: 0 | AG6: 0 | AH6: 0 | AI6: 0 | AJ6: 11 | AK6: 0 | AL6: 0 | AM6: 0 | AN6: 0 | AO6: 0
A7: 78875 | B7: 1,2-Dichloropropane | C7: R | D7: 2019 | E7: 77541THDWCBUILD | F7: 110008170237 | G7: TXR000017855 | H7: DOW CHEMICAL CO FREEPORT FACILITY | I7: 2301 N BRAZOSPORT BLVD | J7: FREEPORT | K7: BRAZORIA | L7: TX | M7: 775413257 | N7: 28.9792 | O7: -95.3549 | P7: 1319218250987 | Q7: 7 | R7: 10,000,000 to 49,999,999 | S7: DOW INC | V7: 325199 | W7: 0 | X7: 0 | Y7: 0 | Z7: 3 | AA7: 0 | AB7: 0 | AC7: 0 | AD7: 0 | AF7: 0 | AG7: 0 | AH7: 0 | AI7: 0 | AJ7: 0 | AK7: 0 | AL7: 0 | AM7: 0 | AN7: 0 | AO7: 0
A8: 78875 | B8: 1,2-Dichloropropane | C8: R | D8: 2019 | E8: 7754WBLCBP231NB | F8: 110066943605 | G8: TXR000083481 | H8: FREEPORT_OLIN BC | I8: 2301 N BRAZOSPORT BLVD | J8: FREEPORT | K8: BRAZORIA | L8: TX | M8: 77541 | N8: 28.969389 | O8: -95.379528 | P8: 1319218302418 | Q8: 7 | R8: 10,000,000 to 49,999,999 | S8: OLIN CORP | V8: 325199 | W8: 0 | X8: 0 | Y8: 0 | Z8: 0 | AA8: 0 | AB8: 0 | AC8: 0 | AD8: 0 | AF8: 0 | AG8: 0 | AH8: 0 | AI8: 0 | AJ8: 0 | AK8: 0 | AL8: 0 | AM8: 0 | AN8: 0 | AO8: 0
A9: 78875 | B9: 1,2-Dichloropropane | C9: R | D9: 2019 | E9: 48667THDWCMICHI | F9: 110043787408 | H9: THE DOW CHEMICAL CO | I9: 1790 BUILDING | J9: MIDLAND | K9: MIDLAND | L9: MI | M9: 48667 | N9: 43.6003 | O9: -84.2234 | P9: 1319218283531 | Q9: 1 | R9: 0 to 99 | S9: DOW INC | V9: 325211 | W9: 0 | X9: 0 | Y9: 0 | Z9: 0 | AA9: 0 | AB9: 0 | AC9: 0 | AD9: 0 | AF9: 0 | AG9: 0 | AH9: 0 | AI9: 0 | AJ9: 0 | AK9: 0 | AL9: 0 | AM9: 0 | AN9: 0 | AO9: 0
A10: 78875 | B10: 1,2-Dichloropropane | C10: R | D10: 2019 | E10: 77541THDWCBUILD | F10: 110008170237 | G10: TXR000017855 | H10: DOW CHEMICAL CO FREEPORT FACILITY | I10: 2301 N BRAZOSPORT BLVD | J10: FREEPORT | K10: BRAZORIA | L10: TX | M10: 775413257 | N10: 28.9792 | O10: -95.3549 | P10: 1319218250049 | Q10: 1 | R10: 0 to 99 | S10: DOW INC | V10: 486990 | W10: 0 | X10: 0 | Y10: 0 | Z10: 0 | AA10: 0 | AB10: 0 | AC10: 0 | AD10: 0 | AF10: 0 | AG10: 0 | AH10: 0 | AI10: 0 | AJ10: 0 | AK10: 0 | AL10: 0 | AM10: 0 | AN10: 0 | AO10: 0
A11: 78875 | B11: 1,2-Dichloropropane | C11: R | D11: 2019 | E11: 7076WBLCBP21255 | F11: 110070828281 | G11: LAR000086074 | H11: BLUE CUBE OPERATIONS LLC - PLAQUEMINE SITE | I11: 21255 HIGHWAY 1 | J11: PLAQUEMINE | K11: IBERVILLE PARISH | L11: LA | M11: 70764 | N11: 30.313897 | O11: -91.240605 | P11: 1319218459295 | Q11: 6 | R11: 1,000,000 to 9,999,999 | S11: OLIN CORP | V11: 325199 | W11: 0 | X11: 0 | Y11: 0 | Z11: 0 | AA11: 0 | AB11: 0 | AC11: 0 | AD11: 0 | AF11: 0 | AG11: 0 | AH11: 0 | AI11: 0 | AJ11: 0 | AK11: 0 | AL11: 0 | AM11: 0 | AN11: 0 | AO11: 0
A12: 78875 | B12: 1,2-Dichloropropane | C12: R | D12: 2019 | E12: 70734VLCNMASHLA | F12: 110000449774 | G12: LAD092681824 | H12: OCCIDENTAL CHEMICAL HOLDING CORP - GEISMAR PLANT | I12: 8318 ASHLAND RD | J12: GEISMAR | K12: ASCENSION PARISH | L12: LA | M12: 70734 | N12: 30.1851 | O12: -90.9804 | P12: 1319218431157 | Q12: 6 | R12: 1,000,000 to 9,999,999 | S12: OCCIDENTAL CHEMICAL HOLDING CORP | V12: 325199 | W12: 0 | X12: 0 | Y12: 0 | Z12: 0 | AA12: 0 | AB12: 0 | AC12: 0 | AD12: 0 | AF12: 0 | AG12: 0 | AH12: 0 | AI12: 0 | AJ12: 0 | AK12: 0 | AL12: 0 | AM12: 0 | AN12: 0 | AO12: 0
A13: 78875 | B13: 1,2-Dichloropropane | C13: R | D13: 2019 | E13: 77536SFTYK2027B | F13: 110000463365 | G13: TXR000085319 | H13: CLEAN HARBORS DEER PARK LLC | I13: 2027 INDEPENDENCE PARKWAY SOUTH | J13: LA PORTE | K13: HARRIS | L13: TX | M13: 77571 | N13: 29.73028 | O13: -95.08981 | P13: 1319218392672 | Q13: 3 | R13: 1,000 to 9,999 | S13: CLEAN HARBORS INC | V13: 562211 | W13: 0 | X13: 0 | Y13: 0 | Z13: 0 | AA13: 0 | AB13: 0 | AC13: 0 | AD13: 0 | AF13: 0 | AG13: 0 | AH13: 0 | AI13: 0 | AJ13: 0 | AK13: 0 | AL13: 0 | AM13: 0 | AN13: 0 | AO13: 0
A14: 78875 | B14: 1,2-Dichloropropane | C14: R | D14: 2020 | E14: 43920VNRLL1250S | F14: 110027242320 | G14: OHD980613541 | H14: HERITAGE THERMAL SERVICES | I14: 1250 ST GEORGE ST | J14: EAST LIVERPOOL | K14: COLUMBIANA | L14: OH | M14: 43920 | N14: 40.631622 | O14: -80.54632 | P14: 1320218993703 | Q14: 2 | R14: 100 to 999 | S14: HERITAGE-WTI LLC | V14: 562213 | W14: 0 | X14: 0 | Y14: 0 | Z14: 0 | AA14: 0 | AB14: 0 | AC14: 0 | AD14: 0 | AF14: 0 | AG14: 0 | AH14: 0 | AI14: 0 | AJ14: 0 | AK14: 0 | AL14: 0 | AM14: 0 | AN14: 0 | AO14: 0
A15: 78875 | B15: 1,2-Dichloropropane | C15: R | D15: 2020 | E15: 70765THDWCHIGHW | F15: 110001244724 | G15: LAD008187080 | H15: THE DOW CHEMICAL CO - LOUISIANA OPERATIONS | I15: 21255 LA HWY 1 S | J15: PLAQUEMINE | K15: IBERVILLE PARISH | L15: LA | M15: 70764 | N15: 30.320903 | O15: -91.239015 | P15: 1320219015688 | Q15: 6 | R15: 1,000,000 to 9,999,999 | S15: DOW INC | V15: 325199 | W15: 0 | X15: 0 | Y15: 0 | Z15: 0 | AA15: 0 | AB15: 0 | AC15: 0 | AD15: 0 | AF15: 0 | AG15: 0 | AH15: 0 | AI15: 0 | AJ15: 0 | AK15: 0 | AL15: 0 | AM15: 0 | AN15: 0 | AO15: 0
A16: 78875 | B16: 1,2-Dichloropropane | C16: R | D16: 2020 | E16: 41129CLGNCUSROU | F16: 110008459578 | G16: KYD005009923 | H16: CALGON CARBON CORP | I16: 15024 US 23 | J16: CATLETTSBURG | K16: BOYD | L16: KY | M16: 41129 | N16: 38.33721 | O16: -82.58925 | P16: 1320219043256 | Q16: 4 | R16: 10,000 to 99,999 | V16: 325998 | W16: 0 | X16: 0 | Y16: 0 | Z16: 0 | AA16: 0 | AB16: 0 | AC16: 0 | AD16: 0 | AF16: 0 | AG16: 0 | AH16: 0 | AI16: 0 | AJ16: 0 | AK16: 0 | AL16: 0 | AM16: 0 | AN16: 0 | AO16: 0
A17: 78875 | B17: 1,2-Dichloropropane | C17: R | D17: 2020 | E17: 7076WBLCBP21255 | F17: 110070828281 | G17: LAR000086074 | H17: BLUE CUBE OPERATIONS LLC - PLAQUEMINE SITE | I17: 21255 HIGHWAY 1 | J17: PLAQUEMINE | K17: IBERVILLE PARISH | L17: LA | M17: 70764 | N17: 30.313897 | O17: -91.240605 | P17: 1320219127608 | Q17: 6 | R17: 1,000,000 to 9,999,999 | S17: OLIN CORP | V17: 325199 | W17: 0 | X17: 0 | Y17: 0 | Z17: 0 | AA17: 0 | AB17: 0 | AC17: 0 | AD17: 0 | AF17: 0 | AG17: 0 | AH17: 0 | AI17: 0 | AJ17: 0 | AK17: 3 | AL17: 0 | AM17: 0 | AN17: 0 | AO17: 0
A18: 78875 | B18: 1,2-Dichloropropane | C18: R | D18: 2020 | E18: 71836SHGRVPOBOX | F18: 110000597729 | G18: ARD981512270 | H18: ASH GROVE CEMENT | I18: 4343 HWY 108 | J18: FOREMAN | K18: LITTLE RIVER | L18: AR | M18: 71836 | N18: 33.6936 | O18: -94.4166 | P18: 1320219148261 | Q18: 2 | R18: 100 to 999 | S18: CRH AMERICAS INC | V18: 327310 | W18: 0 | X18: 0 | Y18: 0 | Z18: 0 | AA18: 0 | AB18: 0 | AC18: 0 | AD18: 0 | AF18: 0 | AG18: 0 | AH18: 0 | AI18: 0 | AJ18: 0 | AK18: 0 | AL18: 0 | AM18: 0 | AN18: 0 | AO18: 0
A19: 78875 | B19: 1,2-Dichloropropane | C19: R | D19: 2020 | E19: 23851HRCLSROUTE | F19: 110000499611 | G19: VAD003122165 | H19: SOLENIS LLC | I19: 27123 SHADY BROOK TRAIL | J19: COURTLAND | K19: SOUTHAMPTON | L19: VA | M19: 23837 | N19: 36.6512 | O19: -76.999045 | P19: 1320219158488 | Q19: 5 | R19: 100,000 to 999,999 | V19: 325199 | W19: 0 | X19: 0 | Y19: 0 | Z19: 0 | AA19: 0 | AB19: 0 | AC19: 0 | AD19: 0 | AF19: 0 | AG19: 0 | AH19: 0 | AI19: 0 | AJ19: 0 | AK19: 0 | AL19: 0 | AM19: 0 | AN19: 0 | AO19: 0
A20: 78875 | B20: 1,2-Dichloropropane | C20: R | D20: 2020 | E20: 77541THDWCBUILD | F20: 110008170237 | G20: TXR000017855 | H20: DOW CHEMICAL CO FREEPORT FACILITY | I20: 2301 N BRAZOSPORT BLVD | J20: FREEPORT | K20: BRAZORIA | L20: TX | M20: 775413257 | N20: 28.9792 | O20: -95.3549 | P20: 1320219311887 | Q20: 1 | R20: 0 to 99 | S20: DOW INC | V20: 486990 | W20: 0 | X20: 0 | Y20: 0 | Z20: 0 | AA20: 0 | AB20: 0 | AC20: 0 | AD20: 0 | AF20: 0 | AG20: 0 | AH20: 0 | AI20: 0 | AJ20: 0 | AK20: 0 | AL20: 0 | AM20: 0 | AN20: 0 | AO20: 0
A21: 78875 | B21: 1,2-Dichloropropane | C21: R | D21: 2020 | E21: 77536SFTYK2027B | F21: 110000463365 | G21: TXR000085319 | H21: CLEAN HARBORS DEER PARK LLC | I21: 2027 INDEPENDENCE PARKWAY SOUTH | J21: LA PORTE | K21: HARRIS | L21: TX | M21: 77571 | N21: 29.73028 | O21: -95.08981 | P21: 1320219365259 | Q21: 4 | R21: 10,000 to 99,999 | S21: CLEAN HARBORS INC | V21: 562211 | W21: 0 | X21: 0 | Y21: 0 | Z21: 0 | AA21: 0 | AB21: 0 | AC21: 0 | AD21: 0 | AF21: 0 | AG21: 0 | AH21: 0 | AI21: 0 | AJ21: 0 | AK21: 0 | AL21: 0 | AM21: 0 | AN21: 0 | AO21: 0
A22: 78875 | B22: 1,2-Dichloropropane | C22: R | D22: 2020 | E22: 12047NRLTC628SO | F22: 110000324159 | G22: NYD080469935 | H22: NORLITE LLC | I22: 628 S SARATOGA ST | J22: COHOES | K22: ALBANY | L22: NY | M22: 12047 | N22: 42.7555 | O22: -73.705667 | P22: 1320219389552 | Q22: 1 | R22: 0 to 99 | V22: 327992 | W22: 0 | X22: 0 | Y22: 0 | Z22: 0 | AA22: 0 | AB22: 0 | AC22: 0 | AD22: 0 | AF22: 0 | AG22: 0 | AH22: 0 | AI22: 0 | AJ22: 0 | AK22: 0 | AL22: 0 | AM22: 0 | AN22: 0 | AO22: 0
A23: 78875 | B23: 1,2-Dichloropropane | C23: R | D23: 2020 | E23: 77541THDWCBUILD | F23: 110008170237 | G23: TXR000017855 | H23: DOW CHEMICAL CO FREEPORT FACILITY | I23: 2301 N BRAZOSPORT BLVD | J23: FREEPORT | K23: BRAZORIA | L23: TX | M23: 775413257 | N23: 28.9792 | O23: -95.3549 | P23: 1320220606483 | Q23: 7 | R23: 10,000,000 to 49,999,999 | S23: DOW INC | V23: 325199 | W23: 0 | X23: 0 | Y23: 0 | Z23: 1 | AA23: 0 | AB23: 0 | AC23: 0 | AD23: 0 | AF23: 0 | AG23: 0 | AH23: 0 | AI23: 0 | AJ23: 0 | AK23: 0 | AL23: 0 | AM23: 0 | AN23: 0 | AO23: 0
A24: 78875 | B24: 1,2-Dichloropropane | C24: R | D24: 2020 | E24: 7754WBLCBP231NB | F24: 110066943605 | G24: TXR000083481 | H24: FREEPORT_OLIN BC | I24: 2301 N BRAZOSPORT BLVD | J24: FREEPORT | K24: BRAZORIA | L24: TX | M24: 77541 | N24: 28.969389 | O24: -95.379528 | P24: 1320220597645 | Q24: 7 | R24: 10,000,000 to 49,999,999 | S24: OLIN CORP | V24: 325180 | W24: 0 | X24: 0 | Y24: 0 | Z24: 0 | AA24: 0 | AB24: 0 | AC24: 0 | AD24: 0 | AF24: 0 | AG24: 0 | AH24: 0 | AI24: 0 | AJ24: 0 | AK24: 0 | AL24: 0 | AM24: 0 | AN24: 0 | AO24: 0
A25: 78875 | B25: 1,2-Dichloropropane | C25: R | D25: 2020 | E25: 70734VLCNMASHLA | F25: 110000449774 | G25: LAD092681824 | H25: OCCIDENTAL CHEMICAL HOLDING CORP - GEISMAR PLANT | I25: 8318 ASHLAND RD | J25: GEISMAR | K25: ASCENSION PARISH | L25: LA | M25: 70734 | N25: 30.1851 | O25: -90.9804 | P25: 1320219266172 | Q25: 6 | R25: 1,000,000 to 9,999,999 | S25: OCCIDENTAL CHEMICAL HOLDING CORP | V25: 325199 | W25: 0 | X25: 0 | Y25: 0 | Z25: 0 | AA25: 0 | AB25: 0 | AC25: 0 | AD25: 0 | AF25: 0 | AG25: 0 | AH25: 0 | AI25: 0 | AJ25: 0 | AK25: 0 | AL25: 0 | AM25: 0 | AN25: 0 | AO25: 0
A26: 78875 | B26: 1,2-Dichloropropane | C26: R | D26: 2020 | E26: 25515KZCHMSTATE | F26: 110000607772 | G26: LAR000086074 | H26: ICL-IP AMERICA INC | I26: 11636 HUNTINGTON | J26: GALLIPOLIS FERRY | K26: MASON | L26: WV | M26: 25515 | N26: 38.77222 | O26: -82.20556 | P26: 1320219372644 | Q26: 4 | R26: 10,000 to 99,999 | V26: 325998 | W26: 0 | X26: 0 | Y26: 0 | Z26: 0 | AA26: 0 | AB26: 0 | AC26: 0 | AD26: 0 | AF26: 0 | AG26: 0 | AH26: 0 | AI26: 0 | AJ26: 0 | AK26: 0 | AL26: 0 | AM26: 0 | AN26: 0 | AO26: 0
A27: 78875 | B27: 1,2-Dichloropropane | C27: R | D27: 2021 | E27: 7076WBLCBP21255 | F27: 110070828281 | G27: KYD005009923 | H27: BLUE CUBE OPERATIONS LLC - PLAQUEMINE SITE | I27: 21255 HIGHWAY 1 | J27: PLAQUEMINE | K27: IBERVILLE PARISH | L27: LA | M27: 70764 | N27: 30.313897 | O27: -91.240605 | P27: 1321220366621 | Q27: 6 | R27: 1,000,000 to 9,999,999 | S27: OLIN CORP | V27: 325199 | W27: 0 | X27: 0 | Y27: 0 | Z27: 0 | AA27: 0 | AB27: 0 | AC27: 0 | AD27: 0 | AF27: 0 | AG27: 0 | AH27: 0 | AI27: 0 | AJ27: 0 | AK27: 0 | AL27: 0 | AM27: 0 | AN27: 0 | AO27: 0
A28: 78875 | B28: 1,2-Dichloropropane | C28: R | D28: 2021 | E28: 41129CLGNCUSROU | F28: 110008459578 | G28: TXR000085319 | H28: CALGON CARBON CORP | I28: 15024 US 23 | J28: CATLETTSBURG | K28: BOYD | L28: KY | M28: 41129 | N28: 38.33721 | O28: -82.58925 | P28: 1321219795438 | Q28: 3 | R28: 1,000 to 9,999 | V28: 325998 | W28: 0 | X28: 0 | Y28: 0 | Z28: 0 | AA28: 0 | AB28: 0 | AC28: 0 | AD28: 0 | AF28: 0 | AG28: 0 | AH28: 0 | AI28: 0 | AJ28: 0 | AK28: 0 | AL28: 0 | AM28: 0 | AN28: 0 | AO28: 0
A29: 78875 | B29: 1,2-Dichloropropane | C29: R | D29: 2021 | E29: 77536SFTYK2027B | F29: 110000463365 | G29: TXR000017855 | H29: CLEAN HARBORS DEER PARK LLC | I29: 2027 INDEPENDENCE PARKWAY SOUTH | J29: LA PORTE | K29: HARRIS | L29: TX | M29: 77571 | N29: 29.73028 | O29: -95.08981 | P29: 1321220581805 | Q29: 4 | R29: 10,000 to 99,999 | S29: CLEAN HARBORS INC | V29: 562211 | W29: 0 | X29: 0 | Y29: 0 | Z29: 0 | AA29: 0 | AB29: 0 | AC29: 0 | AD29: 0 | AF29: 0 | AG29: 0 | AH29: 0 | AI29: 0 | AJ29: 0 | AK29: 0 | AL29: 0 | AM29: 0 | AN29: 0 | AO29: 0
A30: 78875 | B30: 1,2-Dichloropropane | C30: R | D30: 2021 | E30: 77541THDWCBUILD | F30: 110008170237 | G30: TXR000017855 | H30: DOW CHEMICAL CO FREEPORT FACILITY | I30: 2301 N BRAZOSPORT BLVD | J30: FREEPORT | K30: BRAZORIA | L30: TX | M30: 775413257 | N30: 28.9792 | O30: -95.3549 | P30: 1321220216143 | Q30: 1 | R30: 0 to 99 | S30: DOW INC | V30: 325199 | W30: 0 | X30: 0 | Y30: 0 | Z30: 0 | AA30: 0 | AB30: 0 | AC30: 0 | AD30: 0 | AF30: 0 | AG30: 0 | AH30: 0 | AI30: 0 | AJ30: 11 | AK30: 0 | AL30: 0 | AM30: 0 | AN30: 0 | AO30: 0
A31: 78875 | B31: 1,2-Dichloropropane | C31: R | D31: 2021 | E31: 77541THDWCBUILD | F31: 110008170237 | G31: TXR000083481 | H31: DOW CHEMICAL CO FREEPORT FACILITY | I31: 2301 N BRAZOSPORT BLVD | J31: FREEPORT | K31: BRAZORIA | L31: TX | M31: 775413257 | N31: 28.9792 | O31: -95.3549 | P31: 1321220569065 | Q31: 7 | R31: 10,000,000 to 49,999,999 | S31: DOW INC | V31: 325199 | W31: 0 | X31: 0 | Y31: 0 | Z31: 1 | AA31: 0 | AB31: 0 | AC31: 0 | AD31: 0 | AF31: 0 | AG31: 0 | AH31: 0 | AI31: 0 | AJ31: 0 | AK31: 0 | AL31: 0 | AM31: 0 | AN31: 0 | AO31: 0
A32: 78875 | B32: 1,2-Dichloropropane | C32: R | D32: 2021 | E32: 7754WBLCBP231NB | F32: 110066943605 | G32: OHD980613541 | H32: FREEPORT_OLIN BC | I32: 2301 N BRAZOSPORT BLVD | J32: FREEPORT | K32: BRAZORIA | L32: TX | M32: 77541 | N32: 28.969389 | O32: -95.379528 | P32: 1321220196048 | Q32: 7 | R32: 10,000,000 to 49,999,999 | S32: OLIN CORP | V32: 325199 | W32: 0 | X32: 0 | Y32: 0 | Z32: 0 | AA32: 0 | AB32: 0 | AC32: 0 | AD32: 0 | AF32: 0 | AG32: 0 | AH32: 0 | AI32: 0 | AJ32: 0 | AK32: 0 | AL32: 0 | AM32: 0 | AN32: 0 | AO32: 0
A33: 78875 | B33: 1,2-Dichloropropane | C33: R | D33: 2021 | E33: 43920VNRLL1250S | F33: 110027242320 | H33: HERITAGE THERMAL SERVICES | I33: 1250 ST GEORGE ST | J33: EAST LIVERPOOL | K33: COLUMBIANA | L33: OH | M33: 43920 | N33: 40.631622 | O33: -80.54632 | P33: 1321220571386 | Q33: 2 | R33: 100 to 999 | S33: HERITAGE-WTI LLC | V33: 562213 | W33: 0 | X33: 0 | Y33: 0 | Z33: 0 | AA33: 0 | AB33: 0 | AC33: 0 | AD33: 0 | AF33: 0 | AG33: 0 | AH33: 0 | AI33: 0 | AJ33: 0 | AK33: 0 | AL33: 0 | AM33: 0 | AN33: 0 | AO33: 0
A34: 78875 | B34: 1,2-Dichloropropane | C34: R | D34: 2021 | E34: 25515KZCHMSTATE | F34: 110000607772 | G34: LAD092681824 | H34: ICL-IP AMERICA INC | I34: 11636 HUNTINGTON | J34: GALLIPOLIS FERRY | K34: MASON | L34: WV | M34: 25515 | N34: 38.77222 | O34: -82.20556 | P34: 1321220533867 | Q34: 4 | R34: 10,000 to 99,999 | V34: 325998 | W34: 0 | X34: 0 | Y34: 0 | Z34: 0 | AA34: 0 | AB34: 0 | AC34: 0 | AD34: 0 | AF34: 0 | AG34: 0 | AH34: 0 | AI34: 0 | AJ34: 0 | AK34: 0 | AL34: 0 | AM34: 0 | AN34: 0 | AO34: 0
A35: 78875 | B35: 1,2-Dichloropropane | C35: R | D35: 2021 | E35: 70734VLCNMASHLA | F35: 110000449774 | G35: VAD003122165 | H35: OCCIDENTAL CHEMICAL HOLDING CORP - GEISMAR PLANT | I35: 8318 ASHLAND RD | J35: GEISMAR | K35: ASCENSION PARISH | L35: LA | M35: 70734 | N35: 30.1851 | O35: -90.9804 | P35: 1321220303438 | Q35: 6 | R35: 1,000,000 to 9,999,999 | S35: OCCIDENTAL CHEMICAL HOLDING CORP | V35: 325199 | W35: 0 | X35: 0 | Y35: 0 | Z35: 0 | AA35: 0 | AB35: 0 | AC35: 0 | AD35: 0 | AF35: 0 | AG35: 0 | AH35: 0 | AI35: 0 | AJ35: 0 | AK35: 0 | AL35: 0 | AM35: 0 | AN35: 0 | AO35: 0
A36: 78875 | B36: 1,2-Dichloropropane | C36: R | D36: 2021 | E36: 23851HRCLSROUTE | F36: 110000499611 | G36: LAD008187080 | H36: SOLENIS LLC | I36: 27123 SHADY BROOK TRAIL | J36: COURTLAND | K36: SOUTHAMPTON | L36: VA | M36: 23837 | N36: 36.6512 | O36: -76.999045 | P36: 1321220270060 | Q36: 5 | R36: 100,000 to 999,999 | V36: 325199 | W36: 0 | X36: 0 | Y36: 0 | Z36: 0 | AA36: 0 | AB36: 0 | AC36: 0 | AD36: 0 | AF36: 0 | AG36: 0 | AH36: 0 | AI36: 0 | AJ36: 0 | AK36: 0 | AL36: 0 | AM36: 0 | AN36: 0 | AO36: 0
A37: 78875 | B37: 1,2-Dichloropropane | C37: R | D37: 2021 | E37: 70765THDWCHIGHW | F37: 110001244724 | H37: THE DOW CHEMICAL CO - LOUISIANA OPERATIONS | I37: 21255 LA HWY 1 S | J37: PLAQUEMINE | K37: IBERVILLE PARISH | L37: LA | M37: 70764 | N37: 30.320903 | O37: -91.239015 | P37: 1321220221776 | Q37: 6 | R37: 1,000,000 to 9,999,999 | S37: DOW INC | V37: 325199 | W37: 0 | X37: 0 | Y37: 0 | Z37: 0 | AA37: 0 | AB37: 0 | AC37: 0 | AD37: 0 | AF37: 0 | AG37: 0 | AH37: 0 | AI37: 0 | AJ37: 0 | AK37: 0.01 | AL37: 0 | AM37: 0 | AN37: 0 | AO37: 0
A38: 78875 | B38: 1,2-Dichloropropane | C38: R | D38: 2022 | E38: 7754WBLCBP231NB | F38: 110066943605 | G38: TXR000083481 | H38: FREEPORT_OLIN BC | I38: 2301 N BRAZOSPORT BLVD | J38: FREEPORT | K38: BRAZORIA | L38: TX | M38: 77541 | N38: 28.969389 | O38: -95.379528 | P38: 1322221487681 | Q38: 07 | R38: 10,000,000 to 49,999,999 | S38: OLIN CORP | V38: 325199 | W38: 0 | X38: 0 | Y38: 0 | Z38: 0 | AA38: 0 | AB38: 0 | AC38: 0 | AD38: 0 | AF38: 0 | AG38: 0 | AH38: 0 | AI38: 0 | AJ38: 13 | AK38: 0 | AL38: 0 | AM38: 0 | AN38: 0 | AO38: 0
A39: 78875 | B39: 1,2-Dichloropropane | C39: R | D39: 2022 | E39: 71730NVRNM309AM | F39: 110000521221 | G39: ARD069748192 | H39: CLEAN HARBORS EL DORADO LLC | I39: 309 AMERICAN CIR UNION | J39: EL DORADO | K39: UNION | L39: AR | M39: 71730 | N39: 33.2044 | O39: -92.6308 | P39: 1322220924118 | Q39: 04 | R39: 10,000 to 99,999 | S39: CLEAN HARBORS INC | V39: 562211 | W39: 0 | X39: 0 | Y39: 0 | Z39: 0 | AA39: 0 | AB39: 0 | AC39: 0 | AD39: 0 | AF39: 0 | AG39: 0 | AH39: 0 | AI39: 0 | AJ39: 0 | AK39: 0 | AL39: 0 | AM39: 0 | AN39: 0 | AO39: 0
A40: 78875 | B40: 1,2-Dichloropropane | C40: R | D40: 2022 | E40: 23851HRCLSROUTE | F40: 110000499611 | G40: VAD003122165 | H40: SOLENIS LLC | I40: 27123 SHADY BROOK TRAIL | J40: COURTLAND | K40: SOUTHAMPTON | L40: VA | M40: 23837 | N40: 36.6512 | O40: -76.999045 | P40: 1322221088166 | Q40: 05 | R40: 100,000 to 999,999 | S40: OLYMPUS WATER US HOLDING CORP | V40: 325199 | W40: 0 | X40: 0 | Y40: 0 | Z40: 0 | AA40: 0 | AB40: 0 | AC40: 0 | AD40: 0 | AF40: 0 | AG40: 0 | AH40: 0 | AI40: 0 | AJ40: 0 | AK40: 0 | AL40: 0 | AM40: 0 | AN40: 0 | AO40: 0
A41: 78875 | B41: 1,2-Dichloropropane | C41: R | D41: 2022 | E41: 77536SFTYK2027B | F41: 110000463365 | G41: TXR000085319 | H41: CLEAN HARBORS DEER PARK LLC | I41: 2027 INDEPENDENCE PARKWAY SOUTH | J41: LA PORTE | K41: HARRIS | L41: TX | M41: 77571 | N41: 29.73028 | O41: -95.08981 | P41: 1322220933636 | Q41: 04 | R41: 10,000 to 99,999 | S41: CLEAN HARBORS INC | V41: 562211 | W41: 0 | X41: 0 | Y41: 0 | Z41: 0 | AA41: 0 | AB41: 0 | AC41: 0 | AD41: 0 | AF41: 0 | AG41: 0 | AH41: 0 | AI41: 0 | AJ41: 0 | AK41: 0 | AL41: 0 | AM41: 0 | AN41: 0 | AO41: 0
A42: 78875 | B42: 1,2-Dichloropropane | C42: R | D42: 2022 | E42: 70765GRGGLHIGHW | F42: 110000613747 | G42: LAD057117434 | H42: WESTLAKE CHEMICALS & VINYLS LLC | I42: 26100 HWY 405 S | J42: PLAQUEMINE | K42: IBERVILLE PARISH | L42: LA | M42: 70764 | N42: 30.262255 | O42: -91.185837 | P42: 1322221121092 | Q42: 03 | R42: 1,000 to 9,999 | S42: WESTLAKE CORP | V42: 325211 | W42: 0 | X42: 0 | Y42: 0 | Z42: 0 | AA42: 0 | AB42: 0 | AC42: 0 | AD42: 0 | AF42: 0 | AG42: 0 | AH42: 0 | AI42: 0 | AJ42: 0 | AK42: 0 | AL42: 0 | AM42: 0 | AN42: 0 | AO42: 0
A43: 78875 | B43: 1,2-Dichloropropane | C43: R | D43: 2022 | E43: 7076WBLCBP21255 | F43: 110070828281 | G43: LAR000086074 | H43: BLUE CUBE OPERATIONS LLC - PLAQUEMINE SITE | I43: 21255 HIGHWAY 1 | J43: PLAQUEMINE | K43: IBERVILLE PARISH | L43: LA | M43: 70764 | N43: 30.313897 | O43: -91.240605 | P43: 1322221399785 | Q43: 06 | R43: 1,000,000 to 9,999,999 | S43: OLIN CORP | V43: 325199 | W43: 0 | X43: 0 | Y43: 0 | Z43: 0 | AA43: 0 | AB43: 0 | AC43: 0 | AD43: 0 | AF43: 0 | AG43: 0 | AH43: 0 | AI43: 0 | AJ43: 0 | AK43: 1 | AL43: 0 | AM43: 0 | AN43: 0 | AO43: 0
A44: 78875 | B44: 1,2-Dichloropropane | C44: R | D44: 2022 | E44: 70734VLCNMASHLA | F44: 110000449774 | G44: LAD092681824 | H44: OCCIDENTAL CHEMICAL HOLDING CORP - GEISMAR PLANT | I44: 8318 ASHLAND RD | J44: GEISMAR | K44: ASCENSION PARISH | L44: LA | M44: 70734 | N44: 30.181862 | O44: -90.986959 | P44: 1322221279894 | Q44: 06 | R44: 1,000,000 to 9,999,999 | S44: OCCIDENTAL PETROLEUM CORP | V44: 325199 | W44: 0 | X44: 0 | Y44: 0 | Z44: 0 | AA44: 0 | AB44: 0 | AC44: 0 | AD44: 0 | AF44: 0 | AG44: 0 | AH44: 0 | AI44: 0 | AJ44: 0 | AK44: 0 | AL44: 0 | AM44: 0 | AN44: 0 | AO44: 0
A45: 78875 | B45: 1,2-Dichloropropane | C45: R | D45: 2022 | E45: 77541THDWCBUILD | F45: 110008170237 | G45: TXR000017855 | H45: DOW CHEMICAL CO FREEPORT FACILITY | I45: 2301 N BRAZOSPORT BLVD | J45: FREEPORT | K45: BRAZORIA | L45: TX | M45: 775413257 | N45: 28.980147 | O45: -95.342272 | P45: 1322221240346 | Q45: 07 | R45: 10,000,000 to 49,999,999 | S45: DOW INC | V45: 325199 | W45: 0 | X45: 0 | Y45: 0 | Z45: 2 | AA45: 0 | AB45: 0 | AC45: 0 | AD45: 0 | AF45: 0 | AG45: 0 | AH45: 0 | AI45: 0 | AJ45: 0 | AK45: 0 | AL45: 0 | AM45: 0 | AN45: 0 | AO45: 0
A46: 78875 | B46: 1,2-Dichloropropane | C46: R | D46: 2022 | E46: 77541THDWCBUILD | F46: 110008170237 | G46: TXR000017855 | H46: DOW CHEMICAL CO FREEPORT FACILITY | I46: 2301 N BRAZOSPORT BLVD | J46: FREEPORT | K46: BRAZORIA | L46: TX | M46: 775413257 | N46: 28.980147 | O46: -95.342272 | P46: 1322221237668 | Q46: 01 | R46: 0 to 99 | S46: DOW INC | V46: 325199 | W46: 0 | X46: 0 | Y46: 0 | Z46: 0 | AA46: 0 | AB46: 0 | AC46: 0 | AD46: 0 | AF46: 0 | AG46: 0 | AH46: 0 | AI46: 0 | AJ46: 0 | AK46: 0 | AL46: 0 | AM46: 0 | AN46: 0 | AO46: 0
A47: 78875 | B47: 1,2-Dichloropropane | C47: R | D47: 2022 | E47: 41129CLGNCUSROU | F47: 110008459578 | G47: KYD005009923 | H47: CALGON CARBON CORP | I47: 15024 US 23 | J47: CATLETTSBURG | K47: BOYD | L47: KY | M47: 41129 | N47: 38.33721 | O47: -82.58925 | P47: 1322221333572 | Q47: 04 | R47: 10,000 to 99,999 | S47: KURARAY HOLDINGS USA INC | V47: 325998 | W47: 0 | X47: 0 | Y47: 0 | Z47: 0 | AA47: 0 | AB47: 0 | AC47: 0 | AD47: 0 | AF47: 0 | AG47: 0 | AH47: 0 | AI47: 0 | AJ47: 0 | AK47: 0 | AL47: 0 | AM47: 0 | AN47: 0 | AO47: 0
A48: 78875 | B48: 1,2-Dichloropropane | C48: R | D48: 2022 | E48: 70765THDWCHIGHW | F48: 110001244724 | G48: LAD008187080 | H48: THE DOW CHEMICAL CO - LOUISIANA OPERATIONS | I48: 21255 LA HWY 1 S | J48: PLAQUEMINE | K48: IBERVILLE PARISH | L48: LA | M48: 70764 | N48: 30.320903 | O48: -91.239015 | P48: 1322220774246 | Q48: 06 | R48: 1,000,000 to 9,999,999 | S48: DOW INC | V48: 325199 | W48: 0 | X48: 0 | Y48: 0 | Z48: 0 | AA48: 0 | AB48: 0 | AC48: 0 | AD48: 0 | AF48: 0 | AG48: 0 | AH48: 0 | AI48: 0 | AJ48: 0 | AK48: 0.1 | AL48: 0 | AM48: 0 | AN48: 0 | AO48: 0
A49: 78875 | B49: 1,2-Dichloropropane | C49: R | D49: 2022 | E49: 25515KZCHMSTATE | F49: 110000607772 | H49: ICL-IP AMERICA INC | I49: 11636 HUNTINGTON | J49: GALLIPOLIS FERRY | K49: MASON | L49: WV | M49: 25515 | N49: 38.77222 | O49: -82.20556 | P49: 1322221417734 | Q49: 04 | R49: 10,000 to 99,999 | S49: ICL SPECIALTY PRODUCTS NORTH AMERICA INC | V49: 325998 | W49: 0 | X49: 0 | Y49: 0 | Z49: 0 | AA49: 0 | AB49: 0 | AC49: 0 | AD49: 0 | AF49: 0 | AG49: 0 | AH49: 0 | AI49: 0 | AJ49: 83.95 | AK49: 0 | AL49: 0 | AM49: 0 | AN49: 0 | AO49: 0
A50: 78875 | B50: 1,2-Dichloropropane | C50: R | D50: 2022 | E50: 43920VNRLL1250S | F50: 110027242320 | G50: OHR000220285 | H50: HERITAGE THERMAL SERVICES | I50: 1250 ST GEORGE ST | J50: EAST LIVERPOOL | K50: COLUMBIANA | L50: OH | M50: 43920 | N50: 40.631622 | O50: -80.54632 | P50: 1322221438245 | Q50: 02 | R50: 100 to 999 | S50: HERITAGE-WTI LLC | V50: 562213 | W50: 0 | X50: 0 | Y50: 0 | Z50: 0 | AA50: 0 | AB50: 0 | AC50: 0 | AD50: 0 | AF50: 0 | AG50: 0 | AH50: 0 | AI50: 0 | AJ50: 0 | AK50: 0 | AL50: 0 | AM50: 0 | AN50: 0 | AO50: 0
A51: 78875 | B51: 1,2-Dichloropropane | C51: R | D51: 2023 | E51: 7076WBLCBP21255 | F51: 110070828281 | G51: LAR000086074 | H51: BLUE CUBE OPERATIONS LLC - PLAQUEMINE SITE | I51: 21255 HIGHWAY 1 | J51: PLAQUEMINE | K51: IBERVILLE PARISH | L51: LA | M51: 70764 | N51: 30.313897 | O51: -91.240605 | P51: 1323222226983 | Q51: 06 | R51: 1,000,000 to 9,999,999 | S51: OLIN CORP | V51: 325199 | W51: 0 | X51: 0 | Y51: 0 | Z51: 0 | AA51: 0 | AB51: 0 | AC51: 0 | AD51: 0 | AF51: 0 | AG51: 0 | AH51: 0 | AI51: 0 | AJ51: 0 | AK51: 0 | AL51: 0 | AM51: 0 | AN51: 0 | AO51: 0
A52: 78875 | B52: 1,2-Dichloropropane | C52: R | D52: 2023 | E52: 25515KZCHMSTATE | F52: 110000607772 | H52: ICL-IP AMERICA INC | I52: 11636 HUNTINGTON | J52: GALLIPOLIS FERRY | K52: MASON | L52: WV | M52: 25515 | N52: 38.77222 | O52: -82.20556 | P52: 1323221972262 | Q52: 04 | R52: 10,000 to 99,999 | S52: ICL SPECIALTY PRODUCTS NORTH AMERICA INC | V52: 325998 | W52: 0 | X52: 0 | Y52: 0 | Z52: 0 | AA52: 0 | AB52: 0 | AC52: 0 | AD52: 0 | AF52: 0 | AG52: 0 | AH52: 0 | AI52: 0 | AJ52: 0 | AK52: 0 | AL52: 0 | AM52: 0 | AN52: 0 | AO52: 0
A53: 78875 | B53: 1,2-Dichloropropane | C53: R | D53: 2023 | E53: 41129CLGNCUSROU | F53: 110008459578 | G53: KYD005009923 | H53: CALGON CARBON CORP | I53: 15024 US 23 | J53: CATLETTSBURG | K53: BOYD | L53: KY | M53: 41129 | N53: 38.33721 | O53: -82.58925 | P53: 1323222129999 | Q53: 03 | R53: 1,000 to 9,999 | S53: KURARAY HOLDINGS USA INC | V53: 325998 | W53: 0 | X53: 0 | Y53: 0 | Z53: 0 | AA53: 0 | AB53: 0 | AC53: 0 | AD53: 0 | AF53: 0 | AG53: 0 | AH53: 0 | AI53: 0 | AJ53: 0 | AK53: 0 | AL53: 0 | AM53: 0 | AN53: 0 | AO53: 0
A54: 78875 | B54: 1,2-Dichloropropane | C54: R | D54: 2023 | E54: 70765THDWCHIGHW | F54: 110001244724 | G54: LAD008187080 | H54: THE DOW CHEMICAL CO - LOUISIANA OPERATIONS | I54: 21255 LA HWY 1 S | J54: PLAQUEMINE | K54: IBERVILLE PARISH | L54: LA | M54: 70764 | N54: 30.320903 | O54: -91.239015 | P54: 1323221935048 | Q54: 06 | R54: 1,000,000 to 9,999,999 | S54: DOW INC | V54: 325199 | W54: 0 | X54: 0 | Y54: 0 | Z54: 477 | AA54: 0 | AB54: 0 | AC54: 0 | AD54: 0 | AF54: 0 | AG54: 0 | AH54: 0 | AI54: 0 | AJ54: 0 | AK54: 0 | AL54: 0 | AM54: 0 | AN54: 0 | AO54: 0
A55: 78875 | B55: 1,2-Dichloropropane | C55: R | D55: 2023 | E55: 77536SFTYK2027B | F55: 110000463365 | G55: TXR000085319 | H55: CLEAN HARBORS DEER PARK LLC | I55: 2027 INDEPENDENCE PARKWAY SOUTH | J55: LA PORTE | K55: HARRIS | L55: TX | M55: 77571 | N55: 29.73028 | O55: -95.08981 | P55: 1323221966310 | Q55: 03 | R55: 1,000 to 9,999 | S55: CLEAN HARBORS INC | V55: 562211 | W55: 0 | X55: 0 | Y55: 0 | Z55: 0 | AA55: 0 | AB55: 0 | AC55: 0 | AD55: 0 | AF55: 0 | AG55: 0 | AH55: 0 | AI55: 0 | AJ55: 0 | AK55: 0 | AL55: 0 | AM55: 0 | AN55: 0 | AO55: 0
A56: 78875 | B56: 1,2-Dichloropropane | C56: R | D56: 2023 | E56: 7754WBLCBP231NB | F56: 110066943605 | G56: TXR000083481 | H56: FREEPORT_OLIN BC | I56: 2301 N BRAZOSPORT BLVD | J56: FREEPORT | K56: BRAZORIA | L56: TX | M56: 77541 | N56: 28.969389 | O56: -95.379528 | P56: 1323221997760 | Q56: 07 | R56: 10,000,000 to 49,999,999 | S56: OLIN CORP | V56: 325199 | W56: 0 | X56: 0 | Y56: 0 | Z56: 0 | AA56: 0 | AB56: 0 | AC56: 0 | AD56: 0 | AF56: 0 | AG56: 0 | AH56: 0 | AI56: 0 | AJ56: 1 | AK56: 0 | AL56: 0 | AM56: 0 | AN56: 0 | AO56: 0
A57: 78875 | B57: 1,2-Dichloropropane | C57: R | D57: 2023 | E57: 77541THDWCBUILD | F57: 110008170237 | G57: TXR000017855 | H57: DOW CHEMICAL CO FREEPORT FACILITY | I57: 2301 N BRAZOSPORT BLVD | J57: FREEPORT | K57: BRAZORIA | L57: TX | M57: 775413257 | N57: 28.980147 | O57: -95.342272 | P57: 1323222252518 | Q57: 01 | R57: 0 to 99 | S57: DOW INC | V57: 325199 | W57: 0 | X57: 0 | Y57: 0 | Z57: 0 | AA57: 0 | AB57: 0 | AC57: 0 | AD57: 0 | AF57: 0 | AG57: 0 | AH57: 0 | AI57: 0 | AJ57: 0 | AK57: 0 | AL57: 0 | AM57: 0 | AN57: 0 | AO57: 0
A58: 78875 | B58: 1,2-Dichloropropane | C58: R | D58: 2023 | E58: 77541THDWCBUILD | F58: 110008170237 | G58: TXR000017855 | H58: DOW CHEMICAL CO FREEPORT FACILITY | I58: 2301 N BRAZOSPORT BLVD | J58: FREEPORT | K58: BRAZORIA | L58: TX | M58: 775413257 | N58: 28.980147 | O58: -95.342272 | P58: 1323222253522 | Q58: 07 | R58: 10,000,000 to 49,999,999 | S58: DOW INC | V58: 325199 | W58: 0 | X58: 0 | Y58: 0 | Z58: 2 | AA58: 0 | AB58: 0 | AC58: 0 | AD58: 0 | AF58: 0 | AG58: 0 | AH58: 0 | AI58: 0 | AJ58: 0 | AK58: 0 | AL58: 0 | AM58: 0 | AN58: 0 | AO58: 0
A59: 78875 | B59: 1,2-Dichloropropane | C59: R | D59: 2023 | E59: 43920VNRLL1250S | F59: 110027242320 | G59: OHR000220285 | H59: HERITAGE THERMAL SERVICES | I59: 1250 ST GEORGE ST | J59: EAST LIVERPOOL | K59: COLUMBIANA | L59: OH | M59: 43920 | N59: 40.631622 | O59: -80.54632 | P59: 1323221750932 | Q59: 02 | R59: 100 to 999 | S59: HERITAGE-WTI LLC | V59: 562213 | W59: 0 | X59: 0 | Y59: 0 | Z59: 0 | AA59: 0 | AB59: 0 | AC59: 0 | AD59: 0 | AF59: 0 | AG59: 0 | AH59: 0 | AI59: 0 | AJ59: 0 | AK59: 0 | AL59: 0 | AM59: 0 | AN59: 0 | AO59: 0
A60: 78875 | B60: 1,2-Dichloropropane | C60: R | D60: 2023 | E60: 23851HRCLSROUTE | F60: 110000499611 | G60: VAD003122165 | H60: SOLENIS LLC | I60: 27123 SHADY BROOK TRAIL | J60: COURTLAND | K60: SOUTHAMPTON | L60: VA | M60: 23837 | N60: 36.6512 | O60: -76.999045 | P60: 1323222133338 | Q60: 05 | R60: 100,000 to 999,999 | S60: OLYMPUS WATER US HOLDING CORP | V60: 325199 | W60: 0 | X60: 0 | Y60: 0 | Z60: 0 | AA60: 0 | AB60: 0 | AC60: 0 | AD60: 0 | AF60: 0 | AG60: 0 | AH60: 0 | AI60: 0 | AJ60: 0 | AK60: 0 | AL60: 0 | AM60: 0 | AN60: 0 | AO60: 0
A61: 78875 | B61: 1,2-Dichloropropane | C61: R | D61: 2023 | E61: 70765GRGGLHIGHW | F61: 110000613747 | G61: LAD057117434 | H61: WESTLAKE CHEMICALS & VINYLS LLC | I61: 26100 HWY 405 S | J61: PLAQUEMINE | K61: IBERVILLE PARISH | L61: LA | M61: 70764 | N61: 30.262255 | O61: -91.185837 | P61: 1323222060358 | Q61: 03 | R61: 1,000 to 9,999 | S61: WESTLAKE CORP | V61: 325211 | W61: 0 | X61: 0 | Y61: 0 | Z61: 0 | AA61: 0 | AB61: 0 | AC61: 0 | AD61: 0 | AF61: 0 | AG61: 0 | AH61: 0 | AI61: 0 | AJ61: 0 | AK61: 0 | AL61: 0 | AM61: 0 | AN61: 0 | AO61: 0
A62: 78875 | B62: 1,2-Dichloropropane | C62: R | D62: 2023 | E62: 70734VLCNMASHLA | F62: 110000449774 | G62: LAD092681824 | H62: OCCIDENTAL CHEMICAL HOLDING CORP - GEISMAR PLANT | I62: 8318 ASHLAND RD | J62: GEISMAR | K62: ASCENSION PARISH | L62: LA | M62: 70734 | N62: 30.181862 | O62: -90.986959 | P62: 1323222085920 | Q62: 06 | R62: 1,000,000 to 9,999,999 | S62: OCCIDENTAL PETROLEUM CORP | V62: 325199 | W62: 0 | X62: 0 | Y62: 0 | Z62: 0 | AA62: 0 | AB62: 0 | AC62: 0 | AD62: 0 | AF62: 0 | AG62: 0 | AH62: 0 | AI62: 0 | AJ62: 0 | AK62: 0 | AL62: 0 | AM62: 0 | AN62: 0 | AO62: 0
