Workbook
Name _2017NEI_Nonpoint_TSCA_Chem_List: #REF!
Name _2017NEI_tsca_chemicals_wSCCdetail_Query: #REF!
Name AT: #REF!
Name AT_50th_non_cancer: #REF!
Name AT_50th_non_cancer_DC: #REF!
Name AT_95th_non_cancer: #REF!
Name AT_95th_non_cancer_DC: #REF!
Name AT_AC: #REF!
Name AT_AC_DC: #REF!
Name AT_ADC_high: #REF!
Name AT_ADC_mid: #REF!
Name AT_cancer: #REF!
Name AT_cancer_DC: #REF!
Name AT_LADC: #REF!
Name AWD: #REF!
Name AWD_DC_50th: #REF!
Name AWD_DC_95th: #REF!
Name CASRN: #REF!
Name ED: #REF!
Name ED_AC: #REF!
Name ED_AC_DC: #REF!
Name ED_chronic: #REF!
Name ED_chronic_DC: #REF!
Name EF: #REF!
Name EG: #REF!
Name what: #REF!
Name WY_50th: #REF!
Name WY_50th_DC: #REF!
Name WY_95th: #REF!
Name WY_95th_DC: #REF!
Name WY_high: #REF!
Name WY_mid: #REF!

Sheet Cover Page
A1: PUBLIC RELEASE DRAFT
A2: July 2026
A4: Draft Water Releases for 1,2-Dichloropropane
A6: CASRN 78-87-5

Sheet Read Me
A1: Title: Supplemental Water Release Assessment Data that is Based on DMR and TRI Data
A2: This spreadsheet contains DMR data downloaded on July 7, 2025 and TRI data downloaded on March 1, 2025.
A3: The data are for reporting years 2019-2023; (reporting year and year of release to water or transfer to POTW or WWT are the same)
A5: Worksheet | B5: Summary of Information
A6: Versions | B6: Version control information.
A7: Summary tabs
A8: Total Annual Releases | B8: This worksheet contains the total of the annual releases to surface water from all sites. The total annual release amount is given for each of the reporting years. Total annual releases are calculated by summing data reported in DMR and TRI. Total releases calculated from TRI data are given separately from total release calculated from DMR data. TRI releases are categorized as On-Site (direct discharge), Transfer to POTW (indirect discharge) or Transfer to WWT (non-POTW) (indirect discharge). This worksheet also contains information about the total number of sites.
A9: TRI and DMR OES Summary | B9: This worksheet provides a summary of releases by OES, with release days, annual min, max, 50th percentile and 95th percentile.
A10: Facility Discharge Summary | B10: This worksheet contains a summary of the rates of direct and indirect discharges to surface water from each facility that reported discharge data to DMR and TRI. These discharges occurred during the reporting period of 2019 - 2023. The type of discharge data given in this worksheet include the median, maximum and most recently reported annual discharge in units of kg/yr. and the average daily discharge that corresponds to each of these annual discharges in units of kg/day. Annual discharge rates were obtained from the data provided in the worksheets named "Processed Non-zero DMR Data" and "Processed Non-zero TRI Data." Daily discharge rates were calculated by dividing the annual discharge rates by the estimated number of release days. EPA estimated the number of release days by assuming that release days are equal to operating days and by estimating the number of operating days for any facility in a given COU. Note: The reporting year of maximum discharge for Form A facilities will show the most recent year reported; however the discharge is the same across all years reported.
A11: Processed Data Tabs
A12: Processed Non-zero DMR Data | B12: Processed Non-zero DMR data for 2019-2023. EPA obtained this data from https://echo.epa.gov/trends/loading-tool/get-data/custom-search. EPA/OPPT used the custom search and set non-detects to 1/2 the LOD if a discharge is equal to zero over the monitoring period, and retained any non-zero data. Non-zero DMR data are the annual water discharge rates obtained from this data source whose values are greater than zero. Furthermore, data pertaining to facilities that correspond to the bottom 10th percentile of total releases in a given year are also not included in this worksheet. Duplicate entries (same facility, year, release number) were removed. Note that some facilities have multiple reports in a year, but reported different release amounts; these values were kept.
A13: Processed Non-zero TRI Data | B13: Processed Non-zero TRI data for 2019-2023. EPA obtained this data from https://www.epa.gov/toxics-release-inventory-tri-program/tri-basic-plus-data-files-calendar-years-1987-present. If the on-site release amount and the off-site transfer amount reported by a site in a specific year equal zero, then the TRI data of this site and specific year are not included in this worksheet. For Form A facilities, EPA assessed a "what-if" scenario assuming the entire 500 lbs reporting threshold is going to all release points for a single media, but is not additive. If a facility submitted a Form A in a specific year, then EPA assumed that during that specific year 500 lb. is released on-site to surface water from this facility, 500 lb. is transferred from this facility to POTW, and 500 lb. is transferred from this facility to non-POTW WWT. Note: Grey columns contain data pulled directly from TRI/DMR, green columns contain data added by EPA/OPPT.
A14: Raw Data Tabs
A15: Raw Non-zero DMR Data | B15: This worksheet contains raw non-zero DMR data for 2019-2023. EPA obtained this data from https://echo.epa.gov/trends/loading-tool/get-data/custom-search. This sheet differs from "Processed Non-zero DMR Data" as it includes facilities that correspond to the bottom 10th percentile of total releases in a given year.
A16: Raw TRI Data | B16: This worksheet contains raw TRI data for 2019 - 2023. EPA obtained this data from https://www.epa.gov/toxics-release-inventory-tri-program/tri-basic-plus-data-files-calendar-years-1987-present. This sheet differs from "Processed Non-zero TRI Data" as it includes facilities that report zero discharges to water over the reporting period.
A17: Off-Site Locations | B17: This worksheet contains a list of facilities that are reported in TRI as off-site locations that received transfers from TRI facilities. The "Non-POTW Offsite Transfer FRS IDs" and "POTW Transfer FRS IDs" data were pulled from the 3A and 3C Basic Plus TRI data files.
A18: Crosswalk and Lookup Tabs
A19: TRIFD-OES Crosswalk | B19: Crosswalk of TRI to OES mappings
A20: 11DCA Mapping | B20: Mapping from 1,1-dichloroethane (11DCA) risk evaluation - reviewed as reference for mapping 1,2-dichloropropane
A21: NAICS OES Crosswalk | B21: Crosswalk of NAICS codes to potential OES - used a first pass for mapping
A22: 2017 to 2022 NAICS | B22: The list of NAICS codes are periodically updated; however, a crosswalk of SIC codes to NAICS codes were only available for 2017 NAICS codes. Therefore, this worksheet help convert the 2017 NAICS codes to the most recent NAICS codes (i.e., 2022 NAICS codes) for use in the summary worksheet.
A23: 2022 SIC to NAICS | B23: Crosswalk of 2022 SIC Codes to NAICS codes

Sheet Total Annual Releases
A1: Annual Water Releases (kg/yr-all sites)
A2: TRI (Form R Only)
C3: 2019 | D3: 2020 | E3: 2021 | F3: 2022 | G3: 2023
A4: On-Site | B4: =SUMIFS('Processed Non-zero TRI Data'!$T$2:$T$6, 'Processed Non-zero TRI Data'!$A$2:$A$6, B3, 'Processed Non-zero TRI Data'!$K$2:$K$6, "R") -> 0 | C4: =SUMIFS('Processed Non-zero TRI Data'!$T$2:$T$6, 'Processed Non-zero TRI Data'!$A$2:$A$6, C3, 'Processed Non-zero TRI Data'!$K$2:$K$6, "R") -> 540.22851 | D4: =SUMIFS('Processed Non-zero TRI Data'!$T$2:$T$6, 'Processed Non-zero TRI Data'!$A$2:$A$6, D3, 'Processed Non-zero TRI Data'!$K$2:$K$6, "R") -> 43.99846 | E4: =SUMIFS('Processed Non-zero TRI Data'!$T$2:$T$6, 'Processed Non-zero TRI Data'!$A$2:$A$6, E3, 'Processed Non-zero TRI Data'!$K$2:$K$6, "R") -> 98.883137 | F4: =SUMIFS('Processed Non-zero TRI Data'!$T$2:$T$6, 'Processed Non-zero TRI Data'!$A$2:$A$6, F3, 'Processed Non-zero TRI Data'!$K$2:$K$6, "R") -> 85.275366 | G4: =SUMIFS('Processed Non-zero TRI Data'!$T$2:$T$6, 'Processed Non-zero TRI Data'!$A$2:$A$6, G3, 'Processed Non-zero TRI Data'!$K$2:$K$6, "R") -> 0
A5: Transfer to POTW | B5: =SUMIFS('Processed Non-zero TRI Data'!$V$2:$V$6, 'Processed Non-zero TRI Data'!$A$2:$A$6, B3, 'Processed Non-zero TRI Data'!$K$2:$K$6, "R") -> 0 | C5: =SUMIFS('Processed Non-zero TRI Data'!$V$2:$V$6, 'Processed Non-zero TRI Data'!$A$2:$A$6, C3, 'Processed Non-zero TRI Data'!$K$2:$K$6, "R") -> 0 | D5: =SUMIFS('Processed Non-zero TRI Data'!$V$2:$V$6, 'Processed Non-zero TRI Data'!$A$2:$A$6, D3, 'Processed Non-zero TRI Data'!$K$2:$K$6, "R") -> 0 | E5: =SUMIFS('Processed Non-zero TRI Data'!$V$2:$V$6, 'Processed Non-zero TRI Data'!$A$2:$A$6, E3, 'Processed Non-zero TRI Data'!$K$2:$K$6, "R") -> 0 | F5: =SUMIFS('Processed Non-zero TRI Data'!$V$2:$V$6, 'Processed Non-zero TRI Data'!$A$2:$A$6, F3, 'Processed Non-zero TRI Data'!$K$2:$K$6, "R") -> 0 | G5: =SUMIFS('Processed Non-zero TRI Data'!$V$2:$V$6, 'Processed Non-zero TRI Data'!$A$2:$A$6, G3, 'Processed Non-zero TRI Data'!$K$2:$K$6, "R") -> 0
A6: Transfer to WWT (non-POTW) | B6: =SUMIFS('Processed Non-zero TRI Data'!$X$2:$X$6, 'Processed Non-zero TRI Data'!$A$2:$A$6, B3, 'Processed Non-zero TRI Data'!$K$2:$K$6, "R") -> 0 | C6: =SUMIFS('Processed Non-zero TRI Data'!$X:$X, 'Processed Non-zero TRI Data'!$A:$A, C3, 'Processed Non-zero TRI Data'!$K:$K, "R") -> 488.06539 | D6: =SUMIFS('Processed Non-zero TRI Data'!$X:$X, 'Processed Non-zero TRI Data'!$A:$A, D3, 'Processed Non-zero TRI Data'!$K:$K, "R") -> 3305.7812 | E6: =SUMIFS('Processed Non-zero TRI Data'!$X:$X, 'Processed Non-zero TRI Data'!$A:$A, E3, 'Processed Non-zero TRI Data'!$K:$K, "R") -> 572.88716 | F6: =SUMIFS('Processed Non-zero TRI Data'!$X:$X, 'Processed Non-zero TRI Data'!$A:$A, F3, 'Processed Non-zero TRI Data'!$K:$K, "R") -> 1885.1299 | G6: =SUMIFS('Processed Non-zero TRI Data'!$X:$X, 'Processed Non-zero TRI Data'!$A:$A, G3, 'Processed Non-zero TRI Data'!$K:$K, "R") -> 1124.4555
A7: DMR
A8: On-Site | C8: =SUMIF('Processed Non-zero DMR Data'!$A:$A, 'Total Annual Releases'!C3, 'Processed Non-zero DMR Data'!$W:$W) -> 571.87103 | D8: =SUMIF('Processed Non-zero DMR Data'!$A:$A, 'Total Annual Releases'!D3, 'Processed Non-zero DMR Data'!$W:$W) -> 531.84424 | E8: =SUMIF('Processed Non-zero DMR Data'!$A:$A, 'Total Annual Releases'!E3, 'Processed Non-zero DMR Data'!$W:$W) -> 937.64273 | F8: =SUMIF('Processed Non-zero DMR Data'!$A:$A, 'Total Annual Releases'!F3, 'Processed Non-zero DMR Data'!$W:$W) -> 715.00631 | G8: =SUMIF('Processed Non-zero DMR Data'!$A:$A, 'Total Annual Releases'!G3, 'Processed Non-zero DMR Data'!$W:$W) -> 303.55538
A11: (1) Releases associated with TRI Form A are not included in the total annual TRI releases shown above. EPA assumes a maximum release of 500 lbs/yr from each site that submits a Form A. Therefore, the total TRI releases shown above would be greater if releases associated with Form A were included. The number of TRI sites that submit Form A may vary from one reporting year to the other. The maximum and minimum of this range of number of sites is given below (if the maximum and minimum values of the range are equal, then the number of sites does not vary by reporting year.) Also given below are the total of annual releases in units of kg/yr that correspond to this maximum and minimum number of sites.
A12: Maximum Number of Sites that Submitted Form A: | E12: 0
A13: Maximum Total Potential Releases Corresponding to the Maximum Number of Sites that Submitted Form A: | E13: =E12*CONVERT(500,"lbm","kg") -> 0 | F13: kg/yr
A14: Minimum Number of Sites that Submitted Form A: | E14: 0
A15: Maximum Total Potential Releases Corresponding to the Minimum Number of Sites that Submitted Form A: | E15: =E14*CONVERT(500,"lbm","kg") -> 0 | F15: kg/yr

Sheet TRI and DMR OES Summary
A1: DMR | G1: Annual | I1: Daily
A2: OES | B2: # of facilities | C2: # of reports | D2: Release Days (days/yr) | E2: Min (kg/site-yr) | F2: Max (kg/site-yr) | G2: 50th percentile (kg/site-yr) | H2: 95th percentile (kg/site-yr) | I2: 50th percentile (kg/site-day) | J2: 95th percentile (kg/site-day)
A3: Manufacture | B3: {=SUM(--(FREQUENCY(IF(('Processed Non-zero DMR Data'!W:W>0)*('Processed Non-zero DMR Data'!S:S=A3),MATCH('Processed Non-zero DMR Data'!$I:$I,'Processed Non-zero DMR Data'!$I:$I,0)),ROW('Processed Non-zero DMR Data'!$I:$I)-ROW('Processed Non-zero DMR Data'!$I$2)+1)>0))} -> 1 | C3: =COUNTIF('Processed Non-zero DMR Data'!S:S, 'TRI and DMR OES Summary'!A3) -> 5 | D3: 350 | E3: =IF(B3>0, _xlfn.MINIFS('Processed Non-zero DMR Data'!$W:$W,'Processed Non-zero DMR Data'!$S:$S,$A3), "n/a") -> 0.51358977 | F3: =IF(E3>0, _xlfn.MAXIFS('Processed Non-zero DMR Data'!$W:$W,'Processed Non-zero DMR Data'!$S:$S,$A3), "n/a") -> 6.0027199 | G3: {=IFERROR(PERCENTILE(IF('Processed Non-zero DMR Data'!$S:$S=$A3, 'Processed Non-zero DMR Data'!$W:$W),0.5), "n/a")} -> 1.646431 | H3: {=IFERROR(PERCENTILE(IF('Processed Non-zero DMR Data'!$S:$S=$A3, 'Processed Non-zero DMR Data'!$W:$W),0.95), "n/a")} -> 5.428369 | I3: =IFERROR(G3/D3, "") -> 0.0047040886 | J3: =IFERROR(H3/D3, "") -> 0.015509626
A4: Repackaging | B4: {=SUM(--(FREQUENCY(IF(('Processed Non-zero DMR Data'!W:W>0)*('Processed Non-zero DMR Data'!S:S=A4),MATCH('Processed Non-zero DMR Data'!$I:$I,'Processed Non-zero DMR Data'!$I:$I,0)),ROW('Processed Non-zero DMR Data'!$I:$I)-ROW('Processed Non-zero DMR Data'!$I$2)+1)>0))} -> 4 | C4: =COUNTIF('Processed Non-zero DMR Data'!S:S, 'TRI and DMR OES Summary'!A4) -> 17 | D4: 250 | E4: =IF(B4>0, _xlfn.MINIFS('Processed Non-zero DMR Data'!$W:$W,'Processed Non-zero DMR Data'!$S:$S,$A4), "n/a") -> 0.0085171016 | F4: =IF(E4>0, _xlfn.MAXIFS('Processed Non-zero DMR Data'!$W:$W,'Processed Non-zero DMR Data'!$S:$S,$A4), "n/a") -> 427.35197 | G4: {=IFERROR(PERCENTILE(IF('Processed Non-zero DMR Data'!$S:$S=$A4, 'Processed Non-zero DMR Data'!$W:$W),0.5), "n/a")} -> 0.09670675 | H4: {=IFERROR(PERCENTILE(IF('Processed Non-zero DMR Data'!$S:$S=$A4, 'Processed Non-zero DMR Data'!$W:$W),0.95), "n/a")} -> 87.826254 | I4: =IFERROR(G4/D4, "") -> 0.000386827 | J4: =IFERROR(H4/D4, "") -> 0.35130502
A5: Processing as a reactant | B5: {=SUM(--(FREQUENCY(IF(('Processed Non-zero DMR Data'!W:W>0)*('Processed Non-zero DMR Data'!S:S=A5),MATCH('Processed Non-zero DMR Data'!$I:$I,'Processed Non-zero DMR Data'!$I:$I,0)),ROW('Processed Non-zero DMR Data'!$I:$I)-ROW('Processed Non-zero DMR Data'!$I$2)+1)>0))} -> 43 | C5: =COUNTIF('Processed Non-zero DMR Data'!S:S, 'TRI and DMR OES Summary'!A5) -> 161 | D5: 350 | E5: =IF(B5>0, _xlfn.MINIFS('Processed Non-zero DMR Data'!$W:$W,'Processed Non-zero DMR Data'!$S:$S,$A5), "n/a") -> 0.0016571 | F5: =IF(E5>0, _xlfn.MAXIFS('Processed Non-zero DMR Data'!$W:$W,'Processed Non-zero DMR Data'!$S:$S,$A5), "n/a") -> 14.06492 | G5: {=IFERROR(PERCENTILE(IF('Processed Non-zero DMR Data'!$S:$S=$A5, 'Processed Non-zero DMR Data'!$W:$W),0.5), "n/a")} -> 0.414275 | H5: {=IFERROR(PERCENTILE(IF('Processed Non-zero DMR Data'!$S:$S=$A5, 'Processed Non-zero DMR Data'!$W:$W),0.95), "n/a")} -> 9.77689 | I5: =IFERROR(G5/D5, "") -> 0.0011836429 | J5: =IFERROR(H5/D5, "") -> 0.027933971
A6: Impurity in Plastics | B6: {=SUM(--(FREQUENCY(IF(('Processed Non-zero DMR Data'!W:W>0)*('Processed Non-zero DMR Data'!S:S=A6),MATCH('Processed Non-zero DMR Data'!$I:$I,'Processed Non-zero DMR Data'!$I:$I,0)),ROW('Processed Non-zero DMR Data'!$I:$I)-ROW('Processed Non-zero DMR Data'!$I$2)+1)>0))} -> 13 | C6: =COUNTIF('Processed Non-zero DMR Data'!S:S, 'TRI and DMR OES Summary'!A6) -> 46 | D6: 350 | E6: =IF(B6>0, _xlfn.MINIFS('Processed Non-zero DMR Data'!$W:$W,'Processed Non-zero DMR Data'!$S:$S,$A6), "n/a") -> 0.003546194 | F6: =IF(E6>0, _xlfn.MAXIFS('Processed Non-zero DMR Data'!$W:$W,'Processed Non-zero DMR Data'!$S:$S,$A6), "n/a") -> 10.85968 | G6: {=IFERROR(PERCENTILE(IF('Processed Non-zero DMR Data'!$S:$S=$A6, 'Processed Non-zero DMR Data'!$W:$W),0.5), "n/a")} -> 0.3591367 | H6: {=IFERROR(PERCENTILE(IF('Processed Non-zero DMR Data'!$S:$S=$A6, 'Processed Non-zero DMR Data'!$W:$W),0.95), "n/a")} -> 7.3094 | I6: =IFERROR(G6/D6, "") -> 0.0010261049 | J6: =IFERROR(H6/D6, "") -> 0.020884
A7: Distribution in commerce | B7: {=SUM(--(FREQUENCY(IF(('Processed Non-zero DMR Data'!W:W>0)*('Processed Non-zero DMR Data'!S:S=A7),MATCH('Processed Non-zero DMR Data'!$I:$I,'Processed Non-zero DMR Data'!$I:$I,0)),ROW('Processed Non-zero DMR Data'!$I:$I)-ROW('Processed Non-zero DMR Data'!$I$2)+1)>0))} -> 0 | C7: =COUNTIF('Processed Non-zero DMR Data'!S:S, 'TRI and DMR OES Summary'!A7) -> 0 | D7: 365 | E7: =IF(B7>0, _xlfn.MINIFS('Processed Non-zero DMR Data'!$W:$W,'Processed Non-zero DMR Data'!$S:$S,$A7), "n/a") -> n/a | F7: =IF(E7>0, _xlfn.MAXIFS('Processed Non-zero DMR Data'!$W:$W,'Processed Non-zero DMR Data'!$S:$S,$A7), "n/a") -> 0 | G7: {=IFERROR(PERCENTILE(IF('Processed Non-zero DMR Data'!$S:$S=$A7, 'Processed Non-zero DMR Data'!$W:$W),0.5), "n/a")} -> n/a | H7: {=IFERROR(PERCENTILE(IF('Processed Non-zero DMR Data'!$S:$S=$A7, 'Processed Non-zero DMR Data'!$W:$W),0.95), "n/a")} -> n/a | I7: =IFERROR(G7/D7, "") | J7: =IFERROR(H7/D7, "")
A8: Processing Aid | B8: {=SUM(--(FREQUENCY(IF(('Processed Non-zero DMR Data'!W:W>0)*('Processed Non-zero DMR Data'!S:S=A8),MATCH('Processed Non-zero DMR Data'!$I:$I,'Processed Non-zero DMR Data'!$I:$I,0)),ROW('Processed Non-zero DMR Data'!$I:$I)-ROW('Processed Non-zero DMR Data'!$I$2)+1)>0))} -> 1 | C8: =COUNTIF('Processed Non-zero DMR Data'!S:S, 'TRI and DMR OES Summary'!A8) -> 2 | D8: 300 | E8: =IF(B8>0, _xlfn.MINIFS('Processed Non-zero DMR Data'!$W:$W,'Processed Non-zero DMR Data'!$S:$S,$A8), "n/a") -> 3.462204 | F8: =IF(E8>0, _xlfn.MAXIFS('Processed Non-zero DMR Data'!$W:$W,'Processed Non-zero DMR Data'!$S:$S,$A8), "n/a") -> 4.271232 | G8: {=IFERROR(PERCENTILE(IF('Processed Non-zero DMR Data'!$S:$S=$A8, 'Processed Non-zero DMR Data'!$W:$W),0.5), "n/a")} -> 3.866718 | H8: {=IFERROR(PERCENTILE(IF('Processed Non-zero DMR Data'!$S:$S=$A8, 'Processed Non-zero DMR Data'!$W:$W),0.95), "n/a")} -> 4.2307806 | I8: =IFERROR(G8/D8, "") -> 0.01288906 | J8: =IFERROR(H8/D8, "") -> 0.014102602
A9: Use of laboratory chemicals | B9: {=SUM(--(FREQUENCY(IF(('Processed Non-zero DMR Data'!W:W>0)*('Processed Non-zero DMR Data'!S:S=A9),MATCH('Processed Non-zero DMR Data'!$I:$I,'Processed Non-zero DMR Data'!$I:$I,0)),ROW('Processed Non-zero DMR Data'!$I:$I)-ROW('Processed Non-zero DMR Data'!$I$2)+1)>0))} -> 1 | C9: =COUNTIF('Processed Non-zero DMR Data'!S:S, 'TRI and DMR OES Summary'!A9) -> 3 | D9: 260 | E9: =IF(B9>0, _xlfn.MINIFS('Processed Non-zero DMR Data'!$W:$W,'Processed Non-zero DMR Data'!$S:$S,$A9), "n/a") -> 0.002652528 | F9: =IF(E9>0, _xlfn.MAXIFS('Processed Non-zero DMR Data'!$W:$W,'Processed Non-zero DMR Data'!$S:$S,$A9), "n/a") -> 0.0095877835 | G9: {=IFERROR(PERCENTILE(IF('Processed Non-zero DMR Data'!$S:$S=$A9, 'Processed Non-zero DMR Data'!$W:$W),0.5), "n/a")} -> 0.0040637558 | H9: {=IFERROR(PERCENTILE(IF('Processed Non-zero DMR Data'!$S:$S=$A9, 'Processed Non-zero DMR Data'!$W:$W),0.95), "n/a")} -> 0.0090353807 | I9: =IFERROR(G9/D9, "") -> 1.562983e-05 | J9: =IFERROR(H9/D9, "") -> 3.4751464e-05
A10: Waste Handling, Disposal and Treatment (POTW) | B10: {=SUM(--(FREQUENCY(IF(('Processed Non-zero DMR Data'!W:W>0)*('Processed Non-zero DMR Data'!S:S=A10),MATCH('Processed Non-zero DMR Data'!$I:$I,'Processed Non-zero DMR Data'!$I:$I,0)),ROW('Processed Non-zero DMR Data'!$I:$I)-ROW('Processed Non-zero DMR Data'!$I$2)+1)>0))} -> 99 | C10: =COUNTIF('Processed Non-zero DMR Data'!S:S, 'TRI and DMR OES Summary'!A10) -> 229 | D10: 365 | E10: =IF(B10>0, _xlfn.MINIFS('Processed Non-zero DMR Data'!$W:$W,'Processed Non-zero DMR Data'!$S:$S,$A10), "n/a") -> 0.0012218898 | F10: =IF(E10>0, _xlfn.MAXIFS('Processed Non-zero DMR Data'!$W:$W,'Processed Non-zero DMR Data'!$S:$S,$A10), "n/a") -> 358.70799 | G10: {=IFERROR(PERCENTILE(IF('Processed Non-zero DMR Data'!$S:$S=$A10, 'Processed Non-zero DMR Data'!$W:$W),0.5), "n/a")} -> 2.2311629 | H10: {=IFERROR(PERCENTILE(IF('Processed Non-zero DMR Data'!$S:$S=$A10, 'Processed Non-zero DMR Data'!$W:$W),0.95), "n/a")} -> 28.959527 | I10: =IFERROR(G10/D10, "") -> 0.006112775 | J10: =IFERROR(H10/D10, "") -> 0.07934117
A11: Waste Handling, Disposal and Treatment (non-POTW WWT) | B11: {=SUM(--(FREQUENCY(IF(('Processed Non-zero DMR Data'!W:W>0)*('Processed Non-zero DMR Data'!S:S=A11),MATCH('Processed Non-zero DMR Data'!$I:$I,'Processed Non-zero DMR Data'!$I:$I,0)),ROW('Processed Non-zero DMR Data'!$I:$I)-ROW('Processed Non-zero DMR Data'!$I$2)+1)>0))} -> 9 | C11: =COUNTIF('Processed Non-zero DMR Data'!S:S, 'TRI and DMR OES Summary'!A11) -> 48 | D11: 250 | E11: =IF(B11>0, _xlfn.MINIFS('Processed Non-zero DMR Data'!$W:$W,'Processed Non-zero DMR Data'!$S:$S,$A11), "n/a") -> 0.0025072994 | F11: =IF(E11>0, _xlfn.MAXIFS('Processed Non-zero DMR Data'!$W:$W,'Processed Non-zero DMR Data'!$S:$S,$A11), "n/a") -> 3.86827 | G11: {=IFERROR(PERCENTILE(IF('Processed Non-zero DMR Data'!$S:$S=$A11, 'Processed Non-zero DMR Data'!$W:$W),0.5), "n/a")} -> 0.055526944 | H11: {=IFERROR(PERCENTILE(IF('Processed Non-zero DMR Data'!$S:$S=$A11, 'Processed Non-zero DMR Data'!$W:$W),0.95), "n/a")} -> 1.5263434 | I11: =IFERROR(G11/D11, "") -> 0.00022210777 | J11: =IFERROR(H11/D11, "") -> 0.0061053734
A12: Waste Handling, Disposal and Treatment (Landfill) | B12: {=SUM(--(FREQUENCY(IF(('Processed Non-zero DMR Data'!W:W>0)*('Processed Non-zero DMR Data'!S:S=A12),MATCH('Processed Non-zero DMR Data'!$I:$I,'Processed Non-zero DMR Data'!$I:$I,0)),ROW('Processed Non-zero DMR Data'!$I:$I)-ROW('Processed Non-zero DMR Data'!$I$2)+1)>0))} -> 4 | C12: =COUNTIF('Processed Non-zero DMR Data'!S:S, 'TRI and DMR OES Summary'!A12) -> 16 | D12: 250 | E12: =IF(B12>0, _xlfn.MINIFS('Processed Non-zero DMR Data'!$W:$W,'Processed Non-zero DMR Data'!$S:$S,$A12), "n/a") -> 0.011851039 | F12: =IF(E12>0, _xlfn.MAXIFS('Processed Non-zero DMR Data'!$W:$W,'Processed Non-zero DMR Data'!$S:$S,$A12), "n/a") -> 0.21013462 | G12: {=IFERROR(PERCENTILE(IF('Processed Non-zero DMR Data'!$S:$S=$A12, 'Processed Non-zero DMR Data'!$W:$W),0.5), "n/a")} -> 0.059454118 | H12: {=IFERROR(PERCENTILE(IF('Processed Non-zero DMR Data'!$S:$S=$A12, 'Processed Non-zero DMR Data'!$W:$W),0.95), "n/a")} -> 0.15938834 | I12: =IFERROR(G12/D12, "") -> 0.00023781647 | J12: =IFERROR(H12/D12, "") -> 0.00063755337
A13: Waste Handling, Disposal and Treatment (Incinerator) | B13: {=SUM(--(FREQUENCY(IF(('Processed Non-zero DMR Data'!W:W>0)*('Processed Non-zero DMR Data'!S:S=A13),MATCH('Processed Non-zero DMR Data'!$I:$I,'Processed Non-zero DMR Data'!$I:$I,0)),ROW('Processed Non-zero DMR Data'!$I:$I)-ROW('Processed Non-zero DMR Data'!$I$2)+1)>0))} -> 3 | C13: =COUNTIF('Processed Non-zero DMR Data'!S:S, 'TRI and DMR OES Summary'!A13) -> 12 | D13: 250 | E13: =IF(B13>0, _xlfn.MINIFS('Processed Non-zero DMR Data'!$W:$W,'Processed Non-zero DMR Data'!$S:$S,$A13), "n/a") -> 0.0019980504 | F13: =IF(E13>0, _xlfn.MAXIFS('Processed Non-zero DMR Data'!$W:$W,'Processed Non-zero DMR Data'!$S:$S,$A13), "n/a") -> 0.99645803 | G13: {=IFERROR(PERCENTILE(IF('Processed Non-zero DMR Data'!$S:$S=$A13, 'Processed Non-zero DMR Data'!$W:$W),0.5), "n/a")} -> 0.10706819 | H13: {=IFERROR(PERCENTILE(IF('Processed Non-zero DMR Data'!$S:$S=$A13, 'Processed Non-zero DMR Data'!$W:$W),0.95), "n/a")} -> 0.95939767 | I13: =IFERROR(G13/D13, "") -> 0.00042827275 | J13: =IFERROR(H13/D13, "") -> 0.0038375907
A14: Waste Handling, Disposal and Treatment (Remediation) | B14: {=SUM(--(FREQUENCY(IF(('Processed Non-zero DMR Data'!W:W>0)*('Processed Non-zero DMR Data'!S:S=A14),MATCH('Processed Non-zero DMR Data'!$I:$I,'Processed Non-zero DMR Data'!$I:$I,0)),ROW('Processed Non-zero DMR Data'!$I:$I)-ROW('Processed Non-zero DMR Data'!$I$2)+1)>0))} -> 5 | C14: =COUNTIF('Processed Non-zero DMR Data'!S:S, 'TRI and DMR OES Summary'!A14) -> 23 | D14: 250 | E14: =IF(B14>0, _xlfn.MINIFS('Processed Non-zero DMR Data'!$W:$W,'Processed Non-zero DMR Data'!$S:$S,$A14), "n/a") -> 0.0021399557 | F14: =IF(E14>0, _xlfn.MAXIFS('Processed Non-zero DMR Data'!$W:$W,'Processed Non-zero DMR Data'!$S:$S,$A14), "n/a") -> 0.63700112 | G14: {=IFERROR(PERCENTILE(IF('Processed Non-zero DMR Data'!$S:$S=$A14, 'Processed Non-zero DMR Data'!$W:$W),0.5), "n/a")} -> 0.044369402 | H14: {=IFERROR(PERCENTILE(IF('Processed Non-zero DMR Data'!$S:$S=$A14, 'Processed Non-zero DMR Data'!$W:$W),0.95), "n/a")} -> 0.60224028 | I14: =IFERROR(G14/D14, "") -> 0.00017747761 | J14: =IFERROR(H14/D14, "") -> 0.0024089611
A15: Unknown | B15: {=SUM(--(FREQUENCY(IF(('Processed Non-zero DMR Data'!W:W>0)*('Processed Non-zero DMR Data'!S:S=A15),MATCH('Processed Non-zero DMR Data'!$I:$I,'Processed Non-zero DMR Data'!$I:$I,0)),ROW('Processed Non-zero DMR Data'!$I:$I)-ROW('Processed Non-zero DMR Data'!$I$2)+1)>0))} -> 30 | C15: =COUNTIF('Processed Non-zero DMR Data'!S:S, 'TRI and DMR OES Summary'!A15) -> 88 | D15: 250 | E15: =IF(B15>0, _xlfn.MINIFS('Processed Non-zero DMR Data'!$W:$W,'Processed Non-zero DMR Data'!$S:$S,$A15), "n/a") -> 0.0019505064 | F15: =IF(E15>0, _xlfn.MAXIFS('Processed Non-zero DMR Data'!$W:$W,'Processed Non-zero DMR Data'!$S:$S,$A15), "n/a") -> 6.7440745 | G15: {=IFERROR(PERCENTILE(IF('Processed Non-zero DMR Data'!$S:$S=$A15, 'Processed Non-zero DMR Data'!$W:$W),0.5), "n/a")} -> 0.040160203 | H15: {=IFERROR(PERCENTILE(IF('Processed Non-zero DMR Data'!$S:$S=$A15, 'Processed Non-zero DMR Data'!$W:$W),0.95), "n/a")} -> 1.8885712 | I15: =IFERROR(G15/D15, "") -> 0.00016064081 | J15: =IFERROR(H15/D15, "") -> 0.0075542847
A16: Total | B16: =SUM(B3:B15) -> 213 | C16: =SUM(C3:C15) -> 650
A18: TRI | G18: Annual | I18: Daily
A19: OES | B19: # of facilities | C19: # of reports | D19: Release Days (days/yr) | E19: Min (kg/site-yr) | F19: Max (kg/site-yr) | G19: 50th percentile (kg/site-yr) | H19: 95th percentile (kg/site-yr) | I19: 50th percentile (kg/site-day) | J19: 95th percentile (kg/site-day)
A20: Manufacture | B20: {=SUM(--(FREQUENCY(IF(('Processed Non-zero TRI Data'!S:S>0)*('Processed Non-zero TRI Data'!O:O=A20),MATCH('Processed Non-zero TRI Data'!$I:$I,'Processed Non-zero TRI Data'!$I:$I,0)),ROW('Processed Non-zero TRI Data'!$I:$I)-ROW('Processed Non-zero TRI Data'!$I$2)+1)>0))} -> 4 | C20: =COUNTIF('Processed Non-zero TRI Data'!$O:$O,'TRI and DMR OES Summary'!A20) -> 16 | D20: 350 | E20: =_xlfn.MINIFS('Processed Non-zero TRI Data'!$T:$T,'Processed Non-zero TRI Data'!$O:$O,$A20,'Processed Non-zero TRI Data'!$Q:$Q, "Direct") -> 0.81601267 | F20: =_xlfn.MAXIFS('Processed Non-zero TRI Data'!$T:$T,'Processed Non-zero TRI Data'!$O:$O,'TRI and DMR OES Summary'!$A20,'Processed Non-zero TRI Data'!$Q:$Q, "Direct") -> 3305.7812 | G20: {=IFERROR(PERCENTILE(IF(('Processed Non-zero TRI Data'!$O:$O=$A20)*('Processed Non-zero TRI Data'!$Q:$Q="Direct"), 'Processed Non-zero TRI Data'!$T:$T),0.5), "n/a")} -> 92.079251 | H20: {=IFERROR(PERCENTILE(IF(('Processed Non-zero TRI Data'!$O:$O=$A20)*('Processed Non-zero TRI Data'!$Q:$Q="Direct"), 'Processed Non-zero TRI Data'!$T:$T),0.95), "n/a")} -> 2240.2927 | I20: =G20/D20 -> 0.26308357 | J20: =H20/D20 -> 6.4008363
A21: Impurity in Plastics | B21: {=SUM(--(FREQUENCY(IF(('Processed Non-zero TRI Data'!S:S>0)*('Processed Non-zero TRI Data'!O:O=A21),MATCH('Processed Non-zero TRI Data'!$I:$I,'Processed Non-zero TRI Data'!$I:$I,0)),ROW('Processed Non-zero TRI Data'!$I:$I)-ROW('Processed Non-zero TRI Data'!$I$2)+1)>0))} -> 1 | C21: =COUNTIF('Processed Non-zero TRI Data'!$O:$O,'TRI and DMR OES Summary'!A21) -> 1 | D21: 350 | E21: =_xlfn.MINIFS('Processed Non-zero TRI Data'!$T:$T,'Processed Non-zero TRI Data'!$O:$O,$A21,'Processed Non-zero TRI Data'!$Q:$Q, "Direct") -> 11.339809 | F21: =_xlfn.MAXIFS('Processed Non-zero TRI Data'!$T:$T,'Processed Non-zero TRI Data'!$O:$O,'TRI and DMR OES Summary'!$A21,'Processed Non-zero TRI Data'!$Q:$Q, "Direct") -> 11.339809 | G21: {=IFERROR(PERCENTILE(IF(('Processed Non-zero TRI Data'!$O:$O=$A21)*('Processed Non-zero TRI Data'!$Q:$Q="Direct"), 'Processed Non-zero TRI Data'!$T:$T),0.5), "n/a")} -> 11.339809 | H21: {=IFERROR(PERCENTILE(IF(('Processed Non-zero TRI Data'!$O:$O=$A21)*('Processed Non-zero TRI Data'!$Q:$Q="Direct"), 'Processed Non-zero TRI Data'!$T:$T),0.95), "n/a")} -> 11.339809 | I21: =G21/D21 -> 0.032399455 | J21: =H21/D21 -> 0.032399455
A22: Processing Aid | B22: {=SUM(--(FREQUENCY(IF(('Processed Non-zero TRI Data'!S:S>0)*('Processed Non-zero TRI Data'!O:O=A22),MATCH('Processed Non-zero TRI Data'!$I:$I,'Processed Non-zero TRI Data'!$I:$I,0)),ROW('Processed Non-zero TRI Data'!$I:$I)-ROW('Processed Non-zero TRI Data'!$I$2)+1)>0))} -> 1 | C22: =COUNTIF('Processed Non-zero TRI Data'!$O:$O,'TRI and DMR OES Summary'!A22) -> 5 | D22: 300 | E22: =_xlfn.MINIFS('Processed Non-zero TRI Data'!$T:$T,'Processed Non-zero TRI Data'!$O:$O,$A22,'Processed Non-zero TRI Data'!$Q:$Q, "Direct") -> 10.6821 | F22: =_xlfn.MAXIFS('Processed Non-zero TRI Data'!$T:$T,'Processed Non-zero TRI Data'!$O:$O,'TRI and DMR OES Summary'!$A22,'Processed Non-zero TRI Data'!$Q:$Q, "Direct") -> 41.02743 | G22: {=IFERROR(PERCENTILE(IF(('Processed Non-zero TRI Data'!$O:$O=$A22)*('Processed Non-zero TRI Data'!$Q:$Q="Direct"), 'Processed Non-zero TRI Data'!$T:$T),0.5), "n/a")} -> 28.004793 | H22: {=IFERROR(PERCENTILE(IF(('Processed Non-zero TRI Data'!$O:$O=$A22)*('Processed Non-zero TRI Data'!$Q:$Q="Direct"), 'Processed Non-zero TRI Data'!$T:$T),0.95), "n/a")} -> 38.830228 | I22: =G22/D22 -> 0.09334931 | J22: =H22/D22 -> 0.12943409
A23: Total | B23: =SUM(B20:B22) -> 6 | C23: =SUM(C20:C22) -> 22

Sheet Facility Discharge Summary
P1: ANNUAL and AVERAGE DAILY Direct Discharge | AD1: ANNUAL and AVERAGE DAILY Indirect Discharge
P2: DMR | W2: TRI | AD2: TRI- Transfer to POTW | AK2: TRI- Transfer to non-POTW
A3: Row Number | B3: Data Source | C3: Shorthand COU | D3: OES | E3: OES Basis | F3: Facility Name | G3: City | H3: State | I3: TRI Facility ID(s) | J3: FRS ID | K3: NPDES Permit # | L3: Direct Discharge Receiving Waterbody Name | M3: HUC 12 Code | N3: Offsite Transfer FRS ID | O3: Number of Release Days | P3: Most Recent ANNUAL Discharge (kg/yr) | Q3: Most Recent ANNUAL AVERAGE DAILY DISCHARGE (kg/day) | R3: Median ANNUAL Discharge (kg/yr) | S3: Daily Discharge Corresponding to Median ANNUAL Discharge (kg/day) | T3: Maximum ANNUAL Discharge (kg/yr) | U3: Daily Discharge Corresponding to Maximum ANNUAL Discharge (kg/day) | V3: Reporting Year of Maximum Annual Discharge | W3: Most Recent ANNUAL Discharge (kg/yr) | X3: Most Recent ANNUAL AVERAGE DAILY DISCHARGE (kg/day) | Y3: Median ANNUAL Discharge (kg/yr) | Z3: Daily Discharge Corresponding to Median ANNUAL Discharge (kg/day) | AA3: Maximum ANNUAL Discharge (kg/yr) | AB3: Daily Discharge Corresponding to Maximum ANNUAL Discharge (kg/day) | AC3: Reporting Year of Maximum Annual Discharge | AD3: Most Recent ANNUAL Discharge (kg/yr) | AE3: Most Recent ANNUAL AVERAGE DAILY DISCHARGE (kg/day) | AF3: Median ANNUAL Discharge (kg/yr) | AG3: Daily Discharge Corresponding to Median ANNUAL Discharge (kg/day) | AH3: Maximum ANNUAL Discharge (kg/yr) | AI3: Daily Discharge Corresponding to Maximum ANNUAL Discharge (kg/day) | AJ3: Reporting Year of Maximum Annual Discharge | AK3: Most Recent ANNUAL Discharge (kg/yr) | AL3: Most Recent ANNUAL AVERAGE DAILY DISCHARGE (kg/day) | AM3: Median ANNUAL Discharge (kg/yr) | AN3: Daily Discharge Corresponding to Median ANNUAL Discharge (kg/day) | AO3: Maximum ANNUAL Discharge (kg/yr) | AP3: Daily Discharge Corresponding to Maximum ANNUAL Discharge (kg/day) | AQ3: Reporting Year of Maximum Annual Discharge | AR3: Maximum Annual TRI Discharge (kg/yr) | AS3: Maximum Annual DMR Discharge (kg/yr)
A4: 1 | B4: TRI Form R/DMR | C4: =VLOOKUP(D4,#REF!, 2, FALSE) -> #REF! | D4: =IF(I4<>"",INDEX('Processed Non-zero TRI Data'!$O:$O,MATCH(I4,'Processed Non-zero TRI Data'!$I:$I,0)),INDEX('Processed Non-zero DMR Data'!$S:$S,MATCH(J4,'Processed Non-zero DMR Data'!$I:$I,0))) -> Manufacture | E4: =IF(I4<>"",INDEX('Processed Non-zero TRI Data'!$P:$P,MATCH(I4,'Processed Non-zero TRI Data'!$I:$I,0)),INDEX('Processed Non-zero DMR Data'!$T:$T,MATCH(J4,'Processed Non-zero DMR Data'!$I:$I,0))) -> EarthJustice Technical Report (EPA-HQ-OPPT-2018-0428-0011) | F4: =_xlfn.XLOOKUP(J4, 'Processed Non-zero DMR Data'!I:I, 'Processed Non-zero DMR Data'!B:B) -> ICL-NORTH AMERICA INC - GALLIPOLIS FERRY PLANT | G4: =_xlfn.XLOOKUP(J4, 'Processed Non-zero DMR Data'!I:I, 'Processed Non-zero DMR Data'!C:C) -> GALLIPOLIS FERRY | H4: =_xlfn.XLOOKUP(J4, 'Processed Non-zero DMR Data'!I:I, 'Processed Non-zero DMR Data'!E:E) -> WV | I4: 25515KZCHMSTATE | J4: 110000607772 | K4: =IFERROR(INDEX('Raw Non-zero DMR Data'!$C:$C, MATCH($J4,'Raw Non-zero DMR Data'!$D:$D,0)),"") -> WV0002496 | L4: =IFERROR(INDEX('Raw Non-zero DMR Data'!$U:$U, MATCH($J4,'Raw Non-zero DMR Data'!$D:$D,0)),"") -> Long Run-Ohio River | M4: =IFERROR(INDEX('Raw Non-zero DMR Data'!$T:$T, MATCH($J4,'Raw Non-zero DMR Data'!$D:$D,0)),"") -> 050901010103 | N4: =IFERROR(INDEX('Off-site Locations'!$E:$E,MATCH(I4,'Off-site Locations'!$B:$B,0)),"No offsite transfers") -> No offsite transfers | O4: =INDEX('TRI and DMR OES Summary'!D:D,MATCH('Facility Discharge Summary'!D4,'TRI and DMR OES Summary'!A:A,0)) -> 350 | P4: {=IFERROR(_xlfn.XLOOKUP(1, (MAX(IF(J4 = 'Processed Non-zero DMR Data'!$I$2:$I$651,'Processed Non-zero DMR Data'!$A$2:$A$651)) = 'Processed Non-zero DMR Data'!$A$2:$A$651)*('Processed Non-zero DMR Data'!$I$2:$I$651 = J4),'Processed Non-zero DMR Data'!$W$2:$W$651), "N/A- Facility Does Not Report DMRs")} -> 0.51358977 | Q4: =IFERROR(P4/$O4, "N/A - Facility Does Not Report DMRs") -> 0.0014673993 | R4: {=IF(COUNTIF('Processed Non-zero DMR Data'!$I:$I,$J4)>0,MEDIAN(IF('Processed Non-zero DMR Data'!$I:$I=J4,'Processed Non-zero DMR Data'!$W:$W)),"N/A - Facility Does Not Report DMRs")} -> 1.646431 | S4: =IFERROR(R4/$O4, "N/A - Facility Does Not Report DMRs") -> 0.0047040886 | T4: =IF(COUNTIF('Processed Non-zero DMR Data'!$I:$I,$J4)>0,_xlfn.MAXIFS('Processed Non-zero DMR Data'!$W:$W,'Processed Non-zero DMR Data'!$I:$I,$J4), "N/A - Facility Does Not Report DMRs") -> 6.0027199 | U4: =IFERROR(T4/$O4, "N/A - Facility Does Not Report DMRs") -> 0.017150628 | V4: {=IF(COUNTIF('Processed Non-zero DMR Data'!$I:$I,$J4)>0,INDEX('Processed Non-zero DMR Data'!$A:$A,MATCH(1,($J4='Processed Non-zero DMR Data'!$I:$I)*($T4='Processed Non-zero DMR Data'!$W:$W),0)), "N/A - Facility Does Not Report DMRs")} -> 2021 | W4: {=IFERROR(_xlfn.XLOOKUP(1, (MAX(IF(I4 = 'Processed Non-zero TRI Data'!$I:$I,'Processed Non-zero TRI Data'!$A:$A)) = 'Processed Non-zero TRI Data'!$A:$A)*('Processed Non-zero TRI Data'!$I:$I = I4), 'Processed Non-zero TRI Data'!$T:$T), "N/A- Facility Does Not Report to TRI")} -> 0.81601267 | X4: =IFERROR(W4/$O4, "N/A - Facility Does Not Report to TRI") -> 0.0023314648 | Y4: {=IF(COUNTIF('Processed Non-zero TRI Data'!$I:$I,$I4)>0,MEDIAN(IF('Processed Non-zero TRI Data'!$I:$I=I4,'Processed Non-zero TRI Data'!$T:$T)), "N/A - Facility Does Not Report to TRI")} -> 1.6751166 | Z4: =IFERROR(Y4/$O4, "N/A - Facility Does Not Report to TRI") -> 0.0047860475 | AA4: =IF(COUNTIF('Processed Non-zero TRI Data'!$I:$I,$I4)>0,_xlfn.MAXIFS('Processed Non-zero TRI Data'!$T:$T,'Processed Non-zero TRI Data'!$I:$I,$I4), "N/A - Facility Does Not Report to TRI") -> 5.4208824 | AB4: =IFERROR(AA4/$O4, "N/A - Facility Does Not Report to TRI") -> 0.015488235 | AC4: {=IFERROR(IF(B4 = "TRI Form R", IF(AA4 = 0, "Facility has no on-site water discharges between 2017-2022.", IF(COUNTIF('Processed Non-zero TRI Data'!$I:$I,$I4)>0,INDEX('Processed Non-zero TRI Data'!$A:$A,MATCH(1,($I4='Processed Non-zero TRI Data'!$I:$I)*(AA4='Processed Non-zero TRI Data'!$T:$T),0)))), VLOOKUP(I4,#REF!, 2, FALSE)), ("N/A - Facility Does Not Report to TRI"))} -> N/A - Facility Does Not Report to TRI | AD4: {=IFERROR(_xlfn.XLOOKUP(1, (MAX(IF(I4 = 'Processed Non-zero TRI Data'!$I$2:$I$6,'Processed Non-zero TRI Data'!$A$2:$A$6)) = 'Processed Non-zero TRI Data'!$A$2:$A$6)*('Processed Non-zero TRI Data'!$I$2:$I$6 = I4), 'Processed Non-zero TRI Data'!$V$2:$V$6), "N/A- Facility Does Not Report to TRI")} -> N/A- Facility Does Not Report to TRI | AE4: =IFERROR(AD4/$O4, "N/A - Facility Does Not Report to TRI") -> N/A - Facility Does Not Report to TRI | AF4: {=IF(COUNTIF('Processed Non-zero TRI Data'!$I:$I,$I4)>0,MEDIAN(IF('Processed Non-zero TRI Data'!$I:$I=I4,'Processed Non-zero TRI Data'!$V:$V)), "N/A - Facility Does Not Report to TRI")} -> 0 | AG4: =IFERROR(AF4/$O4, "N/A - Facility Does Not Report to TRI") -> 0 | AH4: =IF(COUNTIF('Processed Non-zero TRI Data'!$I:$I,$I4)>0,_xlfn.MAXIFS('Processed Non-zero TRI Data'!$V:$V,'Processed Non-zero TRI Data'!$I:$I,$I4), "N/A - Facility Does Not Report to TRI") -> 0 | AI4: =IFERROR(AH4/$O4, "N/A - Facility Does Not Report to TRI") -> 0 | AJ4: {=IF(B4="TRI Form A",AC4,IF(AH4=0,"Facility has no transfers to POTWs between 2019-2023.",IF(COUNTIF('Processed Non-zero TRI Data'!$I:$I,$I4)>0,INDEX('Processed Non-zero TRI Data'!$A:$A,MATCH(1,($I4='Processed Non-zero TRI Data'!$I:$I)*(AH4='Processed Non-zero TRI Data'!$V:$V),0)),"N/A - Facility Does Not Report to TRI")))} -> Facility has no transfers to POTWs between 2019-2023. | AK4: {=IFERROR(_xlfn.XLOOKUP(1, (MAX(IF(I4 = 'Processed Non-zero TRI Data'!$I$2:$I$6,'Processed Non-zero TRI Data'!$A$2:$A$6)) = 'Processed Non-zero TRI Data'!$A$2:$A$6)*('Processed Non-zero TRI Data'!$I$2:$I$6 = I4), 'Processed Non-zero TRI Data'!$X$2:$X$6), "N/A- Facility Does Not Report to TRI")} -> N/A- Facility Does Not Report to TRI | AL4: =IFERROR(AK4/$O4, "N/A - Facility Does Not Report to TRI") -> N/A - Facility Does Not Report to TRI | AM4: {=IF(COUNTIF('Processed Non-zero TRI Data'!$I:$I,$I4)>0,MEDIAN(IF('Processed Non-zero TRI Data'!$I:$I=I4,'Processed Non-zero TRI Data'!$X:$X)), "N/A - Facility Does Not Report to TRI")} -> 0 | AN4: =IFERROR(AM4/$O4, "N/A - Facility Does Not Report to TRI") -> 0 | AO4: =IF(COUNTIF('Processed Non-zero TRI Data'!$I:$I,$I4)>0,_xlfn.MAXIFS('Processed Non-zero TRI Data'!$X:$X,'Processed Non-zero TRI Data'!$I:$I,$I4), "N/A - Facility Does Not Report to TRI") -> 0 | AP4: =IFERROR(AO4/$O4, "N/A - Facility Does Not Report to TRI") -> 0 | AQ4: {=IF(B4="TRI Form A",AC4,IF(AO4=0,"Facility has no transfers to non-POTWs between 2019-2023.",IF(COUNTIF('Processed Non-zero TRI Data'!$I:$I,$I4)>0,INDEX('Processed Non-zero TRI Data'!$A:$A,MATCH(1,($I4='Processed Non-zero TRI Data'!$I:$I)*(AO4='Processed Non-zero TRI Data'!$X:$X),0)),"N/A - Facility Does Not Report to TRI")))} -> Facility has no transfers to non-POTWs between 2019-2023. | AR4: =MAX(AA4,AH4,AO4) -> 5.4208824 | AS4: =T4 -> 6.0027199
A5: 2 | B5: =IFERROR("TRI Form "& VLOOKUP(I5, 'Processed Non-zero TRI Data'!$I$2:$K$6, 3, FALSE), "DMR") -> DMR | C5: =VLOOKUP(D5,#REF!, 2, FALSE) -> #REF! | D5: =IF(I5<>"",INDEX('Processed Non-zero TRI Data'!$O:$O,MATCH(I5,'Processed Non-zero TRI Data'!$I:$I,0)),INDEX('Processed Non-zero DMR Data'!$S:$S,MATCH(J5,'Processed Non-zero DMR Data'!$I:$I,0))) -> Manufacture | E5: =IF(I5<>"",INDEX('Processed Non-zero TRI Data'!$P:$P,MATCH(I5,'Processed Non-zero TRI Data'!$I:$I,0)),INDEX('Processed Non-zero DMR Data'!$T:$T,MATCH(J5,'Processed Non-zero DMR Data'!$I:$I,0))) -> VI Final Study Plan | F5: THE DOW CHEMICAL CO - LOUISIANA OPERATIONS | G5: PLAQUEMINE | H5: LA | I5: 70765THDWCHIGHW | J5: 110001244724 | K5: =IFERROR(INDEX('Raw Non-zero DMR Data'!$C:$C, MATCH(J5,'Raw Non-zero DMR Data'!$D:$D,0)),"") | L5: =IFERROR(INDEX('Raw Non-zero DMR Data'!$U:$U, MATCH($J5,'Raw Non-zero DMR Data'!$D:$D,0)),"") | M5: =IFERROR(INDEX('Raw Non-zero DMR Data'!$T:$T, MATCH($J5,'Raw Non-zero DMR Data'!$D:$D,0)),"") | N5: =IFERROR(INDEX('Off-site Locations'!$E:$E,MATCH(I5,'Off-site Locations'!$B:$B,0)),"No offsite transfers") -> No offsite transfers | O5: =INDEX('TRI and DMR OES Summary'!D:D,MATCH('Facility Discharge Summary'!D5,'TRI and DMR OES Summary'!A:A,0)) -> 350 | P5: {=IFERROR(_xlfn.XLOOKUP(1, (MAX(IF(J5 = 'Processed Non-zero DMR Data'!$I$2:$I$651,'Processed Non-zero DMR Data'!$A$2:$A$651)) = 'Processed Non-zero DMR Data'!$A$2:$A$651)*('Processed Non-zero DMR Data'!$I$2:$I$651 = J5),'Processed Non-zero DMR Data'!$W$2:$W$651), "N/A- Facility Does Not Report DMRs")} -> N/A- Facility Does Not Report DMRs | Q5: =IFERROR(P5/$O5, "N/A - Facility Does Not Report DMRs") -> N/A - Facility Does Not Report DMRs | R5: {=IF(COUNTIF('Processed Non-zero DMR Data'!$I:$I,$J5)>0,MEDIAN(IF('Processed Non-zero DMR Data'!$I:$I=J5,'Processed Non-zero DMR Data'!$W:$W)),"N/A - Facility Does Not Report DMRs")} -> N/A - Facility Does Not Report DMRs | S5: =IFERROR(R5/$O5, "N/A - Facility Does Not Report DMRs") -> N/A - Facility Does Not Report DMRs | T5: =IF(COUNTIF('Processed Non-zero DMR Data'!$I:$I,$J5)>0,_xlfn.MAXIFS('Processed Non-zero DMR Data'!$W:$W,'Processed Non-zero DMR Data'!$I:$I,$J5), "N/A - Facility Does Not Report DMRs") -> N/A - Facility Does Not Report DMRs | U5: =IFERROR(T5/$O5, "N/A - Facility Does Not Report DMRs") -> N/A - Facility Does Not Report DMRs | V5: {=IF(COUNTIF('Processed Non-zero DMR Data'!$I:$I,$J5)>0,INDEX('Processed Non-zero DMR Data'!$A:$A,MATCH(1,($J5='Processed Non-zero DMR Data'!$I:$I)*($T5='Processed Non-zero DMR Data'!$W:$W),0)), "N/A - Facility Does Not Report DMRs")} -> N/A - Facility Does Not Report DMRs | W5: {=IFERROR(_xlfn.XLOOKUP(1, (MAX(IF(I5 = 'Processed Non-zero TRI Data'!$I$2:$I$6,'Processed Non-zero TRI Data'!$A$2:$A$6)) = 'Processed Non-zero TRI Data'!$A$2:$A$6)*('Processed Non-zero TRI Data'!$I$2:$I$6 = I5), 'Processed Non-zero TRI Data'!$T$2:$T$6), "N/A- Facility Does Not Report to TRI")} -> N/A- Facility Does Not Report to TRI | X5: =IFERROR(W5/$O5, "N/A - Facility Does Not Report to TRI") -> N/A - Facility Does Not Report to TRI | Y5: {=IF(COUNTIF('Processed Non-zero TRI Data'!$I:$I,$I5)>0,MEDIAN(IF('Processed Non-zero TRI Data'!$I:$I=I5,'Processed Non-zero TRI Data'!$T:$T)), "N/A - Facility Does Not Report to TRI")} -> 254.01173 | Z5: =IFERROR(Y5/$O5, "N/A - Facility Does Not Report to TRI") -> 0.72574779 | AA5: =IF(COUNTIF('Processed Non-zero TRI Data'!$I:$I,$I5)>0,_xlfn.MAXIFS('Processed Non-zero TRI Data'!$T:$T,'Processed Non-zero TRI Data'!$I:$I,$I5), "N/A - Facility Does Not Report to TRI") -> 302.09252 | AB5: =IFERROR(AA5/$O5, "N/A - Facility Does Not Report to TRI") -> 0.86312148 | AC5: {=IFERROR(IF(B5 = "TRI Form R", IF(AA5 = 0, "Facility has no on-site water discharges between 2017-2022.", IF(COUNTIF('Processed Non-zero TRI Data'!$I:$I,$I5)>0,INDEX('Processed Non-zero TRI Data'!$A:$A,MATCH(1,($I5='Processed Non-zero TRI Data'!$I:$I)*(AA5='Processed Non-zero TRI Data'!$T:$T),0)))), VLOOKUP(I5,#REF!, 2, FALSE)), ("N/A - Facility Does Not Report to TRI"))} -> N/A - Facility Does Not Report to TRI | AD5: {=IFERROR(_xlfn.XLOOKUP(1, (MAX(IF(I5 = 'Processed Non-zero TRI Data'!$I$2:$I$6,'Processed Non-zero TRI Data'!$A$2:$A$6)) = 'Processed Non-zero TRI Data'!$A$2:$A$6)*('Processed Non-zero TRI Data'!$I$2:$I$6 = I5), 'Processed Non-zero TRI Data'!$V$2:$V$6), "N/A- Facility Does Not Report to TRI")} -> N/A- Facility Does Not Report to TRI | AE5: =IFERROR(AD5/$O5, "N/A - Facility Does Not Report to TRI") -> N/A - Facility Does Not Report to TRI | AF5: {=IF(COUNTIF('Processed Non-zero TRI Data'!$I:$I,$I5)>0,MEDIAN(IF('Processed Non-zero TRI Data'!$I:$I=I5,'Processed Non-zero TRI Data'!$V:$V)), "N/A - Facility Does Not Report to TRI")} -> 0 | AG5: =IFERROR(AF5/$O5, "N/A - Facility Does Not Report to TRI") -> 0 | AH5: =IF(COUNTIF('Processed Non-zero TRI Data'!$I:$I,$I5)>0,_xlfn.MAXIFS('Processed Non-zero TRI Data'!$V:$V,'Processed Non-zero TRI Data'!$I:$I,$I5), "N/A - Facility Does Not Report to TRI") -> 0 | AI5: =IFERROR(AH5/$O5, "N/A - Facility Does Not Report to TRI") -> 0 | AJ5: {=IF(B5="TRI Form A",AC5,IF(AH5=0,"Facility has no transfers to POTWs between 2019-2023.",IF(COUNTIF('Processed Non-zero TRI Data'!$I:$I,$I5)>0,INDEX('Processed Non-zero TRI Data'!$A:$A,MATCH(1,($I5='Processed Non-zero TRI Data'!$I:$I)*(AH5='Processed Non-zero TRI Data'!$V:$V),0)),"N/A - Facility Does Not Report to TRI")))} -> Facility has no transfers to POTWs between 2019-2023. | AK5: {=IFERROR(_xlfn.XLOOKUP(1, (MAX(IF(I5 = 'Processed Non-zero TRI Data'!$I$2:$I$6,'Processed Non-zero TRI Data'!$A$2:$A$6)) = 'Processed Non-zero TRI Data'!$A$2:$A$6)*('Processed Non-zero TRI Data'!$I$2:$I$6 = I5), 'Processed Non-zero TRI Data'!$X$2:$X$6), "N/A- Facility Does Not Report to TRI")} -> N/A- Facility Does Not Report to TRI | AL5: =IFERROR(AK5/$O5, "N/A - Facility Does Not Report to TRI") -> N/A - Facility Does Not Report to TRI | AM5: {=IF(COUNTIF('Processed Non-zero TRI Data'!$I:$I,$I5)>0,MEDIAN(IF('Processed Non-zero TRI Data'!$I:$I=I5,'Processed Non-zero TRI Data'!$X:$X)), "N/A - Facility Does Not Report to TRI")} -> 0 | AN5: =IFERROR(AM5/$O5, "N/A - Facility Does Not Report to TRI") -> 0 | AO5: =IF(COUNTIF('Processed Non-zero TRI Data'!$I:$I,$I5)>0,_xlfn.MAXIFS('Processed Non-zero TRI Data'!$X:$X,'Processed Non-zero TRI Data'!$I:$I,$I5), "N/A - Facility Does Not Report to TRI") -> 0 | AP5: =IFERROR(AO5/$O5, "N/A - Facility Does Not Report to TRI") -> 0 | AQ5: {=IF(B5="TRI Form A",AC5,IF(AO5=0,"Facility has no transfers to non-POTWs between 2019-2023.",IF(COUNTIF('Processed Non-zero TRI Data'!$I:$I,$I5)>0,INDEX('Processed Non-zero TRI Data'!$A:$A,MATCH(1,($I5='Processed Non-zero TRI Data'!$I:$I)*(AO5='Processed Non-zero TRI Data'!$X:$X),0)),"N/A - Facility Does Not Report to TRI")))} -> Facility has no transfers to non-POTWs between 2019-2023. | AR5: =MAX(AA5,AH5,AO5) -> 302.09252 | AS5: =T5 -> N/A - Facility Does Not Report DMRs
A6: 3 | B6: =IFERROR("TRI Form "& VLOOKUP(I6, 'Processed Non-zero TRI Data'!$I$2:$K$6, 3, FALSE), "DMR") -> DMR | C6: =VLOOKUP(D6,#REF!, 2, FALSE) -> #REF! | D6: =IF(I6<>"",INDEX('Processed Non-zero TRI Data'!$O:$O,MATCH(I6,'Processed Non-zero TRI Data'!$I:$I,0)),INDEX('Processed Non-zero DMR Data'!$S:$S,MATCH(J6,'Processed Non-zero DMR Data'!$I:$I,0))) -> Processing aid | E6: =IF(I6<>"",INDEX('Processed Non-zero TRI Data'!$P:$P,MATCH(I6,'Processed Non-zero TRI Data'!$I:$I,0)),INDEX('Processed Non-zero DMR Data'!$T:$T,MATCH(J6,'Processed Non-zero DMR Data'!$I:$I,0))) -> TRI Use: Chemical Processing Aid | F6: SOLENIS LLC | G6: COURTLAND | H6: VA | I6: 23851HRCLSROUTE | J6: 110000499611 | K6: =IFERROR(INDEX('Raw Non-zero DMR Data'!$C:$C, MATCH(J6,'Raw Non-zero DMR Data'!$D:$D,0)),"") | L6: =IFERROR(INDEX('Raw Non-zero DMR Data'!$U:$U, MATCH($J6,'Raw Non-zero DMR Data'!$D:$D,0)),"") | M6: =IFERROR(INDEX('Raw Non-zero DMR Data'!$T:$T, MATCH($J6,'Raw Non-zero DMR Data'!$D:$D,0)),"") | N6: =IFERROR(INDEX('Off-site Locations'!$E:$E,MATCH(I6,'Off-site Locations'!$B:$B,0)),"No offsite transfers") -> No offsite transfers | O6: =INDEX('TRI and DMR OES Summary'!D:D,MATCH('Facility Discharge Summary'!D6,'TRI and DMR OES Summary'!A:A,0)) -> 300 | P6: {=IFERROR(_xlfn.XLOOKUP(1, (MAX(IF(J6 = 'Processed Non-zero DMR Data'!$I$2:$I$651,'Processed Non-zero DMR Data'!$A$2:$A$651)) = 'Processed Non-zero DMR Data'!$A$2:$A$651)*('Processed Non-zero DMR Data'!$I$2:$I$651 = J6),'Processed Non-zero DMR Data'!$W$2:$W$651), "N/A- Facility Does Not Report DMRs")} -> N/A- Facility Does Not Report DMRs | Q6: =IFERROR(P6/$O6, "N/A - Facility Does Not Report DMRs") -> N/A - Facility Does Not Report DMRs | R6: {=IF(COUNTIF('Processed Non-zero DMR Data'!$I:$I,$J6)>0,MEDIAN(IF('Processed Non-zero DMR Data'!$I:$I=J6,'Processed Non-zero DMR Data'!$W:$W)),"N/A - Facility Does Not Report DMRs")} -> N/A - Facility Does Not Report DMRs | S6: =IFERROR(R6/$O6, "N/A - Facility Does Not Report DMRs") -> N/A - Facility Does Not Report DMRs | T6: =IF(COUNTIF('Processed Non-zero DMR Data'!$I:$I,$J6)>0,_xlfn.MAXIFS('Processed Non-zero DMR Data'!$W:$W,'Processed Non-zero DMR Data'!$I:$I,$J6), "N/A - Facility Does Not Report DMRs") -> N/A - Facility Does Not Report DMRs | U6: =IFERROR(T6/$O6, "N/A - Facility Does Not Report DMRs") -> N/A - Facility Does Not Report DMRs | V6: {=IF(COUNTIF('Processed Non-zero DMR Data'!$I:$I,$J6)>0,INDEX('Processed Non-zero DMR Data'!$A:$A,MATCH(1,($J6='Processed Non-zero DMR Data'!$I:$I)*($T6='Processed Non-zero DMR Data'!$W:$W),0)), "N/A - Facility Does Not Report DMRs")} -> N/A - Facility Does Not Report DMRs | W6: {=IFERROR(_xlfn.XLOOKUP(1, (MAX(IF(I6 = 'Processed Non-zero TRI Data'!$I$2:$I$6,'Processed Non-zero TRI Data'!$A$2:$A$6)) = 'Processed Non-zero TRI Data'!$A$2:$A$6)*('Processed Non-zero TRI Data'!$I$2:$I$6 = I6), 'Processed Non-zero TRI Data'!$T$2:$T$6), "N/A- Facility Does Not Report to TRI")} -> N/A- Facility Does Not Report to TRI | X6: =IFERROR(W6/$O6, "N/A - Facility Does Not Report to TRI") -> N/A - Facility Does Not Report to TRI | Y6: {=IF(COUNTIF('Processed Non-zero TRI Data'!$I:$I,$I6)>0,MEDIAN(IF('Processed Non-zero TRI Data'!$I:$I=I6,'Processed Non-zero TRI Data'!$T:$T)), "N/A - Facility Does Not Report to TRI")} -> 28.004793 | Z6: =IFERROR(Y6/$O6, "N/A - Facility Does Not Report to TRI") -> 0.09334931 | AA6: =IF(COUNTIF('Processed Non-zero TRI Data'!$I:$I,$I6)>0,_xlfn.MAXIFS('Processed Non-zero TRI Data'!$T:$T,'Processed Non-zero TRI Data'!$I:$I,$I6), "N/A - Facility Does Not Report to TRI") -> 41.02743 | AB6: =IFERROR(AA6/$O6, "N/A - Facility Does Not Report to TRI") -> 0.1367581 | AC6: {=IFERROR(IF(B6 = "TRI Form R", IF(AA6 = 0, "Facility has no on-site water discharges between 2017-2022.", IF(COUNTIF('Processed Non-zero TRI Data'!$I:$I,$I6)>0,INDEX('Processed Non-zero TRI Data'!$A:$A,MATCH(1,($I6='Processed Non-zero TRI Data'!$I:$I)*(AA6='Processed Non-zero TRI Data'!$T:$T),0)))), VLOOKUP(I6,#REF!, 2, FALSE)), ("N/A - Facility Does Not Report to TRI"))} -> N/A - Facility Does Not Report to TRI | AD6: {=IFERROR(_xlfn.XLOOKUP(1, (MAX(IF(I6 = 'Processed Non-zero TRI Data'!$I$2:$I$6,'Processed Non-zero TRI Data'!$A$2:$A$6)) = 'Processed Non-zero TRI Data'!$A$2:$A$6)*('Processed Non-zero TRI Data'!$I$2:$I$6 = I6), 'Processed Non-zero TRI Data'!$V$2:$V$6), "N/A- Facility Does Not Report to TRI")} -> N/A- Facility Does Not Report to TRI | AE6: =IFERROR(AD6/$O6, "N/A - Facility Does Not Report to TRI") -> N/A - Facility Does Not Report to TRI | AF6: {=IF(COUNTIF('Processed Non-zero TRI Data'!$I:$I,$I6)>0,MEDIAN(IF('Processed Non-zero TRI Data'!$I:$I=I6,'Processed Non-zero TRI Data'!$V:$V)), "N/A - Facility Does Not Report to TRI")} -> 0 | AG6: =IFERROR(AF6/$O6, "N/A - Facility Does Not Report to TRI") -> 0 | AH6: =IF(COUNTIF('Processed Non-zero TRI Data'!$I:$I,$I6)>0,_xlfn.MAXIFS('Processed Non-zero TRI Data'!$V:$V,'Processed Non-zero TRI Data'!$I:$I,$I6), "N/A - Facility Does Not Report to TRI") -> 0 | AI6: =IFERROR(AH6/$O6, "N/A - Facility Does Not Report to TRI") -> 0 | AJ6: {=IF(B6="TRI Form A",AC6,IF(AH6=0,"Facility has no transfers to POTWs between 2019-2023.",IF(COUNTIF('Processed Non-zero TRI Data'!$I:$I,$I6)>0,INDEX('Processed Non-zero TRI Data'!$A:$A,MATCH(1,($I6='Processed Non-zero TRI Data'!$I:$I)*(AH6='Processed Non-zero TRI Data'!$V:$V),0)),"N/A - Facility Does Not Report to TRI")))} -> Facility has no transfers to POTWs between 2019-2023. | AK6: {=IFERROR(_xlfn.XLOOKUP(1, (MAX(IF(I6 = 'Processed Non-zero TRI Data'!$I$2:$I$6,'Processed Non-zero TRI Data'!$A$2:$A$6)) = 'Processed Non-zero TRI Data'!$A$2:$A$6)*('Processed Non-zero TRI Data'!$I$2:$I$6 = I6), 'Processed Non-zero TRI Data'!$X$2:$X$6), "N/A- Facility Does Not Report to TRI")} -> N/A- Facility Does Not Report to TRI | AL6: =IFERROR(AK6/$O6, "N/A - Facility Does Not Report to TRI") -> N/A - Facility Does Not Report to TRI | AM6: {=IF(COUNTIF('Processed Non-zero TRI Data'!$I:$I,$I6)>0,MEDIAN(IF('Processed Non-zero TRI Data'!$I:$I=I6,'Processed Non-zero TRI Data'!$X:$X)), "N/A - Facility Does Not Report to TRI")} -> 0 | AN6: =IFERROR(AM6/$O6, "N/A - Facility Does Not Report to TRI") -> 0 | AO6: =IF(COUNTIF('Processed Non-zero TRI Data'!$I:$I,$I6)>0,_xlfn.MAXIFS('Processed Non-zero TRI Data'!$X:$X,'Processed Non-zero TRI Data'!$I:$I,$I6), "N/A - Facility Does Not Report to TRI") -> 0 | AP6: =IFERROR(AO6/$O6, "N/A - Facility Does Not Report to TRI") -> 0 | AQ6: {=IF(B6="TRI Form A",AC6,IF(AO6=0,"Facility has no transfers to non-POTWs between 2019-2023.",IF(COUNTIF('Processed Non-zero TRI Data'!$I:$I,$I6)>0,INDEX('Processed Non-zero TRI Data'!$A:$A,MATCH(1,($I6='Processed Non-zero TRI Data'!$I:$I)*(AO6='Processed Non-zero TRI Data'!$X:$X),0)),"N/A - Facility Does Not Report to TRI")))} -> Facility has no transfers to non-POTWs between 2019-2023. | AR6: =MAX(AA6,AH6,AO6) -> 41.02743 | AS6: =T6 -> N/A - Facility Does Not Report DMRs
A7: 4 | B7: =IFERROR("TRI Form "& VLOOKUP(I7, 'Processed Non-zero TRI Data'!$I$2:$K$6, 3, FALSE), "DMR") -> TRI Form R | C7: =VLOOKUP(D7,#REF!, 2, FALSE) -> #REF! | D7: =IF(I7<>"",INDEX('Processed Non-zero TRI Data'!$O:$O,MATCH(I7,'Processed Non-zero TRI Data'!$I:$I,0)),INDEX('Processed Non-zero DMR Data'!$S:$S,MATCH(J7,'Processed Non-zero DMR Data'!$I:$I,0))) -> Manufacture | E7: =IF(I7<>"",INDEX('Processed Non-zero TRI Data'!$P:$P,MATCH(I7,'Processed Non-zero TRI Data'!$I:$I,0)),INDEX('Processed Non-zero DMR Data'!$T:$T,MATCH(J7,'Processed Non-zero DMR Data'!$I:$I,0))) -> VI Final Study Plan | F7: DOW CHEMICAL CO FREEPORT FACILITY | G7: FREEPORT | H7: TX | I7: 77541THDWCBUILD | J7: 110008170237 | K7: =IFERROR(INDEX('Raw Non-zero DMR Data'!$C:$C, MATCH(J7,'Raw Non-zero DMR Data'!$D:$D,0)),"") | L7: =IFERROR(INDEX('Raw Non-zero DMR Data'!$U:$U, MATCH($J7,'Raw Non-zero DMR Data'!$D:$D,0)),"") | M7: =IFERROR(INDEX('Raw Non-zero DMR Data'!$T:$T, MATCH($J7,'Raw Non-zero DMR Data'!$D:$D,0)),"") | N7: =IFERROR(INDEX('Off-site Locations'!$E:$E,MATCH(I7,'Off-site Locations'!$B:$B,0)),"No offsite transfers") -> No offsite transfers | O7: =INDEX('TRI and DMR OES Summary'!D:D,MATCH('Facility Discharge Summary'!D7,'TRI and DMR OES Summary'!A:A,0)) -> 350 | P7: {=IFERROR(_xlfn.XLOOKUP(1, (MAX(IF(J7 = 'Processed Non-zero DMR Data'!$I$2:$I$651,'Processed Non-zero DMR Data'!$A$2:$A$651)) = 'Processed Non-zero DMR Data'!$A$2:$A$651)*('Processed Non-zero DMR Data'!$I$2:$I$651 = J7),'Processed Non-zero DMR Data'!$W$2:$W$651), "N/A- Facility Does Not Report DMRs")} -> N/A- Facility Does Not Report DMRs | Q7: =IFERROR(P7/$O7, "N/A - Facility Does Not Report DMRs") -> N/A - Facility Does Not Report DMRs | R7: {=IF(COUNTIF('Processed Non-zero DMR Data'!$I:$I,$J7)>0,MEDIAN(IF('Processed Non-zero DMR Data'!$I:$I=J7,'Processed Non-zero DMR Data'!$W:$W)),"N/A - Facility Does Not Report DMRs")} -> N/A - Facility Does Not Report DMRs | S7: =IFERROR(R7/$O7, "N/A - Facility Does Not Report DMRs") -> N/A - Facility Does Not Report DMRs | T7: =IF(COUNTIF('Processed Non-zero DMR Data'!$I:$I,$J7)>0,_xlfn.MAXIFS('Processed Non-zero DMR Data'!$W:$W,'Processed Non-zero DMR Data'!$I:$I,$J7), "N/A - Facility Does Not Report DMRs") -> N/A - Facility Does Not Report DMRs | U7: =IFERROR(T7/$O7, "N/A - Facility Does Not Report DMRs") -> N/A - Facility Does Not Report DMRs | V7: {=IF(COUNTIF('Processed Non-zero DMR Data'!$I:$I,$J7)>0,INDEX('Processed Non-zero DMR Data'!$A:$A,MATCH(1,($J7='Processed Non-zero DMR Data'!$I:$I)*($T7='Processed Non-zero DMR Data'!$W:$W),0)), "N/A - Facility Does Not Report DMRs")} -> N/A - Facility Does Not Report DMRs | W7: {=IFERROR(_xlfn.XLOOKUP(1, (MAX(IF(I7 = 'Processed Non-zero TRI Data'!$I$2:$I$6,'Processed Non-zero TRI Data'!$A$2:$A$6)) = 'Processed Non-zero TRI Data'!$A$2:$A$6)*('Processed Non-zero TRI Data'!$I$2:$I$6 = I7), 'Processed Non-zero TRI Data'!$T$2:$T$6), "N/A- Facility Does Not Report to TRI")} -> 85.275366 | X7: =IFERROR(W7/$O7, "N/A - Facility Does Not Report to TRI") -> 0.2436439 | Y7: {=IF(COUNTIF('Processed Non-zero TRI Data'!$I:$I,$I7)>0,MEDIAN(IF('Processed Non-zero TRI Data'!$I:$I=I7,'Processed Non-zero TRI Data'!$T:$T)), "N/A - Facility Does Not Report to TRI")} -> 68.719244 | Z7: =IFERROR(Y7/$O7, "N/A - Facility Does Not Report to TRI") -> 0.1963407 | AA7: =IF(COUNTIF('Processed Non-zero TRI Data'!$I:$I,$I7)>0,_xlfn.MAXIFS('Processed Non-zero TRI Data'!$T:$T,'Processed Non-zero TRI Data'!$I:$I,$I7), "N/A - Facility Does Not Report to TRI") -> 98.883137 | AB7: =IFERROR(AA7/$O7, "N/A - Facility Does Not Report to TRI") -> 0.28252325 | AC7: {=IFERROR(IF(B7 = "TRI Form R", IF(AA7 = 0, "Facility has no on-site water discharges between 2017-2022.", IF(COUNTIF('Processed Non-zero TRI Data'!$I:$I,$I7)>0,INDEX('Processed Non-zero TRI Data'!$A:$A,MATCH(1,($I7='Processed Non-zero TRI Data'!$I:$I)*(AA7='Processed Non-zero TRI Data'!$T:$T),0)))), VLOOKUP(I7,#REF!, 2, FALSE)), ("N/A - Facility Does Not Report to TRI"))} -> 2021 | AD7: {=IFERROR(_xlfn.XLOOKUP(1, (MAX(IF(I7 = 'Processed Non-zero TRI Data'!$I$2:$I$6,'Processed Non-zero TRI Data'!$A$2:$A$6)) = 'Processed Non-zero TRI Data'!$A$2:$A$6)*('Processed Non-zero TRI Data'!$I$2:$I$6 = I7), 'Processed Non-zero TRI Data'!$V$2:$V$6), "N/A- Facility Does Not Report to TRI")} -> 0 | AE7: =IFERROR(AD7/$O7, "N/A - Facility Does Not Report to TRI") -> 0 | AF7: {=IF(COUNTIF('Processed Non-zero TRI Data'!$I:$I,$I7)>0,MEDIAN(IF('Processed Non-zero TRI Data'!$I:$I=I7,'Processed Non-zero TRI Data'!$V:$V)), "N/A - Facility Does Not Report to TRI")} -> 0 | AG7: =IFERROR(AF7/$O7, "N/A - Facility Does Not Report to TRI") -> 0 | AH7: =IF(COUNTIF('Processed Non-zero TRI Data'!$I:$I,$I7)>0,_xlfn.MAXIFS('Processed Non-zero TRI Data'!$V:$V,'Processed Non-zero TRI Data'!$I:$I,$I7), "N/A - Facility Does Not Report to TRI") -> 0 | AI7: =IFERROR(AH7/$O7, "N/A - Facility Does Not Report to TRI") -> 0 | AJ7: {=IF(B7="TRI Form A",AC7,IF(AH7=0,"Facility has no transfers to POTWs between 2019-2023.",IF(COUNTIF('Processed Non-zero TRI Data'!$I:$I,$I7)>0,INDEX('Processed Non-zero TRI Data'!$A:$A,MATCH(1,($I7='Processed Non-zero TRI Data'!$I:$I)*(AH7='Processed Non-zero TRI Data'!$V:$V),0)),"N/A - Facility Does Not Report to TRI")))} -> Facility has no transfers to POTWs between 2019-2023. | AK7: {=IFERROR(_xlfn.XLOOKUP(1, (MAX(IF(I7 = 'Processed Non-zero TRI Data'!$I$2:$I$6,'Processed Non-zero TRI Data'!$A$2:$A$6)) = 'Processed Non-zero TRI Data'!$A$2:$A$6)*('Processed Non-zero TRI Data'!$I$2:$I$6 = I7), 'Processed Non-zero TRI Data'!$X$2:$X$6), "N/A- Facility Does Not Report to TRI")} -> 0 | AL7: =IFERROR(AK7/$O7, "N/A - Facility Does Not Report to TRI") -> 0 | AM7: {=IF(COUNTIF('Processed Non-zero TRI Data'!$I:$I,$I7)>0,MEDIAN(IF('Processed Non-zero TRI Data'!$I:$I=I7,'Processed Non-zero TRI Data'!$X:$X)), "N/A - Facility Does Not Report to TRI")} -> 0 | AN7: =IFERROR(AM7/$O7, "N/A - Facility Does Not Report to TRI") -> 0 | AO7: =IF(COUNTIF('Processed Non-zero TRI Data'!$I:$I,$I7)>0,_xlfn.MAXIFS('Processed Non-zero TRI Data'!$X:$X,'Processed Non-zero TRI Data'!$I:$I,$I7), "N/A - Facility Does Not Report to TRI") -> 0 | AP7: =IFERROR(AO7/$O7, "N/A - Facility Does Not Report to TRI") -> 0 | AQ7: {=IF(B7="TRI Form A",AC7,IF(AO7=0,"Facility has no transfers to non-POTWs between 2019-2023.",IF(COUNTIF('Processed Non-zero TRI Data'!$I:$I,$I7)>0,INDEX('Processed Non-zero TRI Data'!$A:$A,MATCH(1,($I7='Processed Non-zero TRI Data'!$I:$I)*(AO7='Processed Non-zero TRI Data'!$X:$X),0)),"N/A - Facility Does Not Report to TRI")))} -> Facility has no transfers to non-POTWs between 2019-2023. | AR7: =MAX(AA7,AH7,AO7) -> 98.883137 | AS7: =T7 -> N/A - Facility Does Not Report DMRs
