Workbook
Name _2017NEI_Nonpoint_TSCA_Chem_List: #REF!
Name _2017NEI_tsca_chemicals_wSCCdetail_Query: #REF!
Name _8_hr: 8
Name _Hlk219824212: 'Dermal Exposure'!$A$41
Name _Hlk219824212: 'Dermal Sensitivity Analysis'!$A$71
Name _Hlk219824212: 'Inhalation Exposure (mg m3)'!#REF!
Name _Hlk219824212: 'Inhalation Exposure (ppm)'!#REF!
Name AT: #REF!
Name AT_50th_non_cancer: #REF!
Name AT_50th_non_cancer_DC: #REF!
Name AT_95th_non_cancer: #REF!
Name AT_95th_non_cancer_DC: #REF!
Name AT_AC: #REF!
Name AT_AC_DC: #REF!
Name AT_ADC_high: #REF!
Name AT_ADC_mid: #REF!
Name AT_cancer: #REF!
Name AT_cancer_DC: #REF!
Name AT_LADC: #REF!
Name AWD: #REF!
Name AWD_DC_50th: #REF!
Name AWD_DC_95th: #REF!
Name BW_default: #REF!
Name BW_F: #REF!
Name CASRN: #REF!
Name CEM_Input__Area_of_Article_Mouthed: #REF!
Name CEM_Input__Chemical_Migration_Rate: #REF!
Name CEM_Input__Mouthing_Duration: #REF!
Name CEM_Input__Product_Density: #REF!
Name CEM_Input__Surface_Area_of_Articles: #REF!
Name ED: #REF!
Name ED_8: #REF!
Name ED_AC: #REF!
Name ED_AC_DC: #REF!
Name ED_chronic: #REF!
Name ED_chronic_DC: #REF!
Name EF: #REF!
Name EFID: #REF!
Name ID: #REF!
Name LT: #REF!
Name Mol_Vol: #REF!
Name MW: #REF!
Name Registry_ID_Xwalk: #REF!
Name Registry_ID_Xwalk: #REF!
Name WorkBreathRate: #REF!
Name WY_50th: #REF!
Name WY_50th_DC: #REF!
Name WY_95th: #REF!
Name WY_95th_DC: #REF!
Name WY_high: #REF!
Name WY_high: #REF!
Name WY_mid: #REF!
Name WY_mid: #REF!

Sheet Title Page
A1: PUBLIC RELEASE DRAFT
A2: July 2026
A4: Draft Consumer Exposure Analysis and Risk Calculator
A6: CASRN 78-87-5

Sheet Table of Contents
A1: Table of Contents
A3: Tab Name | B3: Description
A4: Hazard Equations & Inputs | B4: Contains human hazard values used in the calculation of margin of exposure (MOE) values
A5: P-Chem | B5: Values for physical chemical properties used in consumer modeling
A6: Use Report Information | B6: Provides snip picture of consumer related information from Use Report
A7: COU Crosswalk | B7: Crosswalk of products identified by EPA Use Report to COUs and consumer scenarios
A8: General Inputs | B8: Compilation of used information from product SDSs, TDSs, and online search
A9: Compiled Products | B9: Inputs for product consumer scenarios compiled in one tab
A10: Dermal Exposure | B10: Inputs, calculations, and dermal exposure estimates for consumer scenarios
A11: Dermal Sensitivity Analysis | B11: Inputs, calculations, and dermal exposure estimates for the dermal sensitivity analysis

Sheet Hazard Equations & Inputs
A1: NONCANCER HEDs AND HECs for 1,2-DICHLOROPROPANE
B3: STUDY INFO | L3: ORAL/DERMAL | O3: INHALATIONb
A4: Exposure | B4: Health | C4: Exposure | D4: Exposure | E4: Species | F4: Doses* | G4: POD Type | H4: Effect at LOAEL | I4: POD | J4: Reference | K4: HERO ID | L4: DAFa | M4: HED-Daily (mg/kg-day) | N4: Total UF (UFA = 3; UFH = 10, UFL = 1 or 10) | O4: HEC-Daily, 24 hr (mg/m3) | P4: HEC-Daily, 24 hr (ppm)c | Q4: Total UF (UFA = 3; UFH = 10, UFL = 1 or 10)
A5: Scenario | B5: Outcome | C5: Route | D5: Duration | E5: (sex) | F5: (mg/kg/day) M/F | I5: (mg/kg-day)
A6: Acute | B6: Neurological | C6: Oral/Dermal | D6: GD6-15 | E6: Rats | G6: NOAEL | H6: CNS Depression | I6: 30 | J6: Kirk, 1995 | K6: 688858 | M6: 7.2 | N6: 30
A7: Acute | B7: Neurological | C7: Inhalation | D7: GD6-15 | E7: Rats | G7: NOAEL | H7: CNS Depression | I7: 30 | J7: Kirk, 1995 | K7: 688858 | O7: 39 | P7: 8.4 | Q7: 30
A8: Intermediate | B8: Neurological | C8: Oral/Dermal | D8: GD6-15 | E8: Rats | G8: NOAEL | H8: CNS Depression | I8: 30 | J8: Kirk, 1995 | K8: 688858 | M8: 7.2 | N8: 30
A9: Intermediate | B9: Respiratory | C9: Inhalation | D9: 13 weeks | E9: Rats | H9: Nasal lesions | O9: 0.25 | P9: 0.054 | Q9: 30
A10: Chronic | B10: Neurological | C10: Oral/Dermal | D10: GD6-15 | E10: Rats | G10: NOAEL | H10: CNS Depression | I10: 30 | J10: Kirk, 1995 | K10: 688858 | M10: 7.2 | N10: 30
A11: Chronic | B11: Respiratory | C11: Inhalation | D11: 13 weeks | E11: Rats | H11: Nasal lesions | O11: 0.25 | P11: 0.054 | Q11: 30
B18: aDosimetric adjustment factors (DAFs)
B19: Species | D19: Animal bw (kg)* | E19: DAF based
E20: on 80 kg
B21: Mouse | D21: 0.025 | E21: 0.1329574
B22: Rat | D22: 0.25 | E22: 0.2364354
B23: Dog | D23: 12 | E23: 0.62233298
B24: *Body weights from Recommended Use of Body Weight 3/4 as the Default Method in Derivation of the Oral Reference Dose(U.S. EPA, 2011).
B26: b Conversion to Inhalation HEC
B27: Breathing rate (m3/hr) | D27: 0.6125
B28: Hrs/day | D28: 24
B29: Body weight (adult) | D29: 80
B31: c Conversion from mg/m3 to ppm
B32: Molar volume of gas at standard temp/pressure (L/mol) | D32: 24.45
B33: 12DCP molecular weight | D33: 112.99

Sheet P-Chem
A1: Physical and Chemical Properties for DEHP Used in Consumer Modeling
A2: 1,2-Dichloropropane CAS 78875
A3: Property or Endpoint | B3: Mean | C3: Selected Value | D3: Unit
A4: Molecular weight | C4: 112.99 | D4: g/mol
A5: Vapor pressure | C5: 49.66 | D5: mm Hg
A6: Water solubility | C6: 2740 | D6: mg/L
A7: Octanol/water partition coefficient (log Kow) | C7: 1.99 | D7: -
A8: Henry’s Law constant | C8: 0.00282 | D8: atm·m3/mol
A9: Octanol/air partition coefficient (log KOA) | D9: -
A11: Source of physical and chemical properties information: Draft Chemistry, Fate, Release, and Exposure Assessment for 1,2-Dichloropropane

Sheet Use Report Information
A1: Use Report for 1,2-Dichloropropane (CASRN 78-87-5) | H1: Hero No. | I1: 11350096
A21: Product | B21: HERO No.
A22: Cera TeWax | B22: 6191173
A23: Cera Fluida | B23: 6183572
A24: Cera Distaccante | B24: 6191178
A25: Lustro Italiano Stone Polish | B25: 6184099
A26: W&S Ultra Premium Sealer | B26: 6183646

Sheet COU Crosswalk
A1: COU | B1: Sub Category COU | C1: Use Scenario Name for Modeling | D1: Exposures Modeled | E1: Frequency of Exposure (Acute and/or Chronic) | F1: CEM ENV | G1: Source | H1: Product Name | I1: Manufacturer | J1: Weight Fractions (%) | M1: Form | N1: Density (g/cm3) | O1: Product Size and Format | P1: Use Description
J2: Min | K2: Average/Mid | L2: Max
A3: Cleaning and furnishing care product | B3: All-purpose liquid cleaner/polish | C3: Cera Fluida Classic Liquid Wax | D3: Inhalation and dermal | E3: Only acute, because application is once every 2 years | F3: Kitchen | G3: SDS | H3: Cera Fluida Classic Liquid Wax | I3: Tenax | L3: 54.12 | M3: Liquid | N3: 1.1 | O3: 20 - 30m2 per liter | P3: Solution waxes to protect and brighten Adhesive system/ treatment for stone sector. Video from the Tenax link below by the product, shows the used pouring from the container onto the surface, spreading with a rag, and then buffing. Assuming no gloves use, direct dermal contact can be expected during application.
A4: Cleaning and furnishing care product | B4: All-purpose liquid cleaner/polish | C4: UniBlack2 black granite treatment | D4: Inhalation and dermal | E4: Only acute, because application is once every 2 years | F4: Kitchen | G4: SDS | H4: UniBlack2 black granite treatment | I4: Tenax | J4: 30 | K4: 40 | L4: 50 | M4: Liquid | N4: 0.91 | O4: 215 - 323 ft2 per quart | P4: YouTube video (see link below by product information) shows user pouring from container a splash, spreading with a plastic spreader, then removing excess with rag. Assuming no gloves are used for application.
A5: Cleaning and furnishing care product | B5: All-purpose waxes and polishes (paste) | C5: Cera TeWax | D5: Inhalation and dermal | E5: Only acute, because application is once every 2 years | F5: Kitchen | G5: SDS | H5: Cera TeWax | I5: Tenax | J5: 30 | K5: 40 | L5: 50 | M5: Paste | N5: 1.1 | O5: 20 - 30m2 per liter | P5: Wax for natural stones. Spread wax uniformly on surface using a clean sponge or cloth. Let the wax completely dry and clean with a clean cloth. If wax is not dry it will not shine after removal. Remove any excess immediately.
A6: Cleaning and furnishing care product | B6: All-purpose waxes and polishes (paste) | C6: Quartz Toner | D6: Inhalation and dermal | E6: Only acute, because application is once every 2 years | F6: Kitchen | G6: SDS | H6: Quarzo (Quartz Toner) | I6: Tenax | J6: 1 | K6: =AVERAGE(J6,L6) -> 2.25 | L6: 3.5 | M6: Paste | N6: 0.88 | O6: 250 - 300 ft2 per liter | P6: Wax for quartz. Apply product to a completely clean and dry surface. Spread the product using a brush, cloth, sponge or spray gun. Apply as much product as the material can absorb. After a few seconds clean (buff) the surface with a cloth to avoid the formation of glossy and sticky films. Repeat after 10-15 minutes. If using on the floor do not walk on the surface for 24 hours. 1 Liter covers approximately 250-300 sq feet
A7: Cleaning and furnishing care product | B7: All-purpose liquid spray cleaner/polish | C7: Lustro Italiano | D7: Inhalation and dermal | E7: Acute and chronic. | F7: Kitchen | G7: SDS | H7: Lustro Italiano | I7: Tenax | J7: 1 | K7: =AVERAGE(J7,L7) -> 2.25 | L7: 3.5 | M7: Liquid spray | N7: 0.8 | O7: 32 fl oz | P7: Spray cleaner and polish. Spray surface and let Lustro Italiano stone cleaner sit for approximately 30 seconds before wiping with a sponge or light-duty pad. Wipe dry with paper towel, changing towels frequently.
A9: Product Research:
A10: Cera Fluida Classic Liquid Wax
A11: Liquid
A12: Use based on Technical Data Sheet (TDS)
A13: Last accessed on 14-Jul-2026
A14: https://www.amazon.com/Tenax-Fluida-Clear-Liquid-Liter/dp/B0016ZWB28
A15: https://tenaxusa.com/products/cera-fluida?srsltid=AfmBOorhRR5GFWcSt57YCyIqOa_Tt9tw2hefuPpvBIsa_LIu4RYrHZxo
A16: https://atlaspreservation.com/products/liquid-wax-cera-fluida-1-quart?srsltid=AfmBOor2W4wxfo4MkqNVHC7oE5huaNSiFB8ADlni6vfGBt7UttnH4_NV
A17: SDS and TDS were updated to show recent reformulation not containing DCP. The information on the TDS is used to garner product use information for modeling purposes.
A18: This product will last at least 2 years, thus older formulations containing DCP are likely to be in use after reformulation.
A38: UniBlack2
A39: Liquid
... A119: https://www.youtube.com/watch?v=qchXa89ewt4

Sheet General Inputs
A1: COU | B1: Sub Category COU | C1: Use Scenario Name for Modeling | D1: Exposure Scenario | E1: Counter area (ft2) | F1: Counter area (m2) | G1: Coverage area ft2 | H1: Amount of product in ml | I1: Density of product | J1: Amount of product per use in grams | K1: Duration of use | L1: Weight Fraction (%) | M1: Room of Use
A2: Cleaning and furnishing care product | B2: All-purpose liquid cleaner/polish | C2: Cera Fluida Classic Liquid Wax | D2: High | E2: 60 | F2: 5.6 | G2: 20 | H2: =(F2/G2)*1000 -> 280 | I2: 1.1 | J2: =H2*I2 -> 308 | K2: 120 | L2: 54.12 | M2: Kitchen
D3: Medium | E3: 40 | F3: 3.7 | G3: 20 | H3: =(F3/G3)*1000 -> 185 | I3: 1.1 | J3: =H3*I3 -> 203.5 | K3: 90 | L3: 54.12 | M3: Kitchen
D4: Low | E4: 30 | F4: 2.8 | G4: 20 | H4: =(F4/G4)*1000 -> 140 | I4: 1.1 | J4: =H4*I4 -> 154 | K4: 60 | L4: 54.12 | M4: Kitchen
A5: Typical kitchen countertops area coverage 30 to 60 ft2, see snip pic of online search output below. Last accessed 7-Apr-2026
A6: Coverage area obtained from product application rate. Information was provided by online retailer and distributor information. See COU Crosswalk Tab Product Size and Format column
A8: COU | B8: Sub Category COU | C8: Use Scenario Name for Modeling | D8: Exposure Scenario | E8: Counter area (ft2) | F8: Coverage area (ft2) | G8: Coverage area (1 quart = 946.353 ml) | H8: Amount of product in ml | I8: Density of product | J8: Amount of product per use in grams
A9: Cleaning and furnishing care product | B9: All-purpose liquid cleaner/polish | C9: UniBlack2 black granite treatment | D9: High | E9: 60 | F9: 215 | G9: 946.353 | H9: =(E9*G9)/F9 -> 264.09851 | I9: 0.91 | J9: =H9*I9 -> 240.32965
D10: Medium | E10: 40 | F10: 215 | G10: 946.353 | H10: =(E10*G10)/F10 -> 176.06567 | I10: 0.91 | J10: =H10*I10 -> 160.21976
D11: Low | E11: 30 | F11: 215 | G11: 946.353 | H11: =(E11*G11)/F11 -> 132.04926 | I11: 0.91 | J11: =H11*I11 -> 120.16482
A12: Typical kitchen countertops area coverage 30 to 60 ft2, see snip pic of online search output below. Last accessed 7-Apr-2026
A13: Coverage area obtained from product application rate. Information was provided by online retailer and distributor information. See COU Crosswalk Tab Product Size and Format column
A15: COU | B15: Sub Category COU | C15: Use Scenario Name for Modeling | D15: Exposure Scenario | E15: Counter area (ft2) | F15: Counter area (m2) | G15: Coverage area ft2 | H15: Amount of product in ml | I15: Density of product | J15: Amount of product per use in grams
A16: Cleaning and furnishing care product | B16: All-purpose waxes and polishes (paste) | C16: Cera TeWax | D16: High | E16: 60 | F16: 5.6 | G16: 20 | H16: =(F16/G16)*1000 -> 280 | I16: 1.1 | J16: =H16*I16 -> 308
D17: Medium | E17: 40 | F17: 3.7 | G17: 20 | H17: =(F17/G17)*1000 -> 185 | I17: 1.1 | J17: =H17*I17 -> 203.5
D18: Low | E18: 30 | F18: 2.8 | G18: 20 | H18: =(F18/G18)*1000 -> 140 | I18: 1.1 | J18: =H18*I18 -> 154
A19: Typical kitchen countertops area coverage 30 to 60 ft2, see snip pic of online search output below. Last accessed 7-Apr-2026
A20: Coverage area obtained from product application rate. Information was provided by online retailer and distributor information. See COU Crosswalk Tab Product Size and Format column
A22: COU | B22: Sub Category COU | C22: Use Scenario Name for Modeling | D22: Exposure Scenario | E22: Counter area (ft2) | F22: Coverage area per use(ft2) | G22: Coverage area (1 liter = 1000 ml) | H22: Amount of product in ml | I22: Density of product (from original SDS) | J22: Amount of product per use in grams
A23: Cleaning and furnishing care product | B23: All-purpose waxes and polishes (paste) | C23: Quartz Toner | D23: High | E23: 60 | F23: 250 | G23: 1000 | H23: =(E23*G23)/F23 -> 240 | I23: 0.88 | J23: =H23*I23 -> 211.2
D24: Medium | E24: 40 | F24: 250 | G24: 1000 | H24: =(E24*G24)/F24 -> 160 | I24: 0.88 | J24: =H24*I24 -> 140.8
D25: Low | E25: 30 | F25: 250 | G25: 1000 | H25: =(E25*G25)/F25 -> 120 | I25: 0.88 | J25: =H25*I25 -> 105.6
A26: Typical kitchen countertops area coverage 30 to 60 ft2, see snip pic of online search output below. Last accessed 7-Apr-2026
A27: Coverage area obtained from product application rate. Information was provided by online retailer and distributor information. See COU Crosswalk Tab Product Size and Format column
A29: COU | B29: Sub Category COU | C29: Use Scenario Name for Modeling | D29: Exposure Scenario | E29: Assumption (min) | F29: Counter area (ft2) | G29: Coverage area per use (mm2) | H29: Coverage area (255 mm or squared = 65025mm2/spray) | I29: Amount of product in ml (0.14 ml/spray) | J29: Density of product (from original SDS) | K29: Amount of product per use in grams | L29: Duration of use/ Time (need to translate based on volume used/rate
A30: Cleaning and furnishing care product | B30: All-purpose liquid spray cleaner/polish | C30: Lustro Italiano | D30: High | E30: 15 | F30: 60 | G30: 5574000 | H30: =G30/65025 -> 85.720877 | I30: =H30*0.14 -> 12.000923 | J30: 0.8 | K30: =I30*J30 -> 9.6007382
D31: Medium | E31: 10 | F31: 40 | G31: 3716000 | H31: =G31/65025 -> 57.147251 | I31: =H31*0.14 -> 8.0006151 | J31: 0.8 | K31: =I31*J31 -> 6.4004921
D32: Low | E32: 5 | F32: 30 | G32: 2787000 | H32: =G32/65025 -> 42.860438 | I32: =H32*0.14 -> 6.0004614 | J32: 0.8 | K32: =I32*J32 -> 4.8003691
A34: Source for volume and amount of sprays per bottle
A35: https://gamutpackaging.com/blogs/resources/understanding-spray-bottle-capacity-how-many-sprays-are-in-common-sizes?srsltid=AfmBOopDgEyckhVaASm1VnIfU4GWlj-vXIkOGWoiGlhW6gUyMtkNTcHJ
A36: 0.14 ml per spray
A37: Source for spray coverage:
A38: https://www.lorric.com/en/Articles/nozzle/all/spray-angle-intro#topic3
A39: 8 inches at 65 degree angle converted to approx 200mm at 65 degree angle = 255 mm of coverage
A42: Online search for typical kitchen countertops area coverage, last accessed on 7-Apr-2026

Sheet CeraFluida
A1: CeraFluida
A2: Liquid
A3: Use based on Technical Data Sheet (TDS)
A4: 20 - 30m2 per liter
A6: Exposure Scenario | B6: Counter area (ft2) | C6: Counter area (m2) | D6: Coverage area | E6: Amount of product in ml | F6: Density of product | G6: Amount of product per use in grams | H6: Duration of use | I6: Wt Fraction | J6: Room of Use | K6: Size of Room of Use
A7: High | B7: 60 | C7: 5.6 | D7: 20 | E7: =(C7/D7)*1000 -> 280 | F7: 1.1 | G7: =E7*F7 -> 308 | H7: 120 | I7: 54.12 | J7: Kitchen
A8: Medium | B8: 40 | C8: 3.7 | D8: 20 | E8: =(C8/D8)*1000 -> 185 | F8: 1.1 | G8: =E8*F8 -> 203.5 | H8: 90 | I8: 54.12 | J8: Kitchen
A9: Low | B9: 30 | C9: 2.8 | D9: 20 | E9: =(C9/D9)*1000 -> 140 | F9: 1.1 | G9: =E9*F9 -> 154 | H9: 60 | I9: 54.12 | J9: Kitchen
A34: CEM OUTPUTS | B34: (Scenario: All-purpose waxes and polishes)
A35: High
B36: Chronic ADC Zone1 (mg/m3) | C36: Chronic ADC Zone 2 (mg/m3) | D36: Peak Concentration (mg/m3) | E36: Inh risk cal
A37: Adult | B37: 0.172 | C37: 0.0325 | D37: 854 | E37: =39/D37 -> 0.045667447
A38: Youth/Child/Infant | B38: 0.0142 | C38: 0.0495 | D38: 194 | E38: =39/D38 -> 0.20103093
A40: Medium
B41: Chronic ADC Zone1 (mg/m3) | C41: Chronic ADC Zone 2 (mg/m3) | D41: Peak Concentration (mg/m3) | E41: Inh risk cal
A42: Adult | B42: 0.126 | C42: 0.0194 | D42: 720 | E42: =39/D42 -> 0.054166667
A43: Youth/Child/Infant | B43: 0.00823 | C43: 0.0335 | D43: 139 | E43: =39/D43 -> 0.28057554
A45: Low
B46: Chronic ADC Zone1 (mg/m3) | C46: Chronic ADC Zone 2 (mg/m3) | D46: Peak Concentration (mg/m3) | E46: Inh risk cal
A47: Adult | B47: 0.0549 | C47: 0.0193 | D47: 594 | E47: =39/D47 -> 0.065656566
A48: Youth/Child/Infant | B48: 0.00428 | C48: 0.0193 | D48: 88.3 | E48: =39/D48 -> 0.4416761
A50: CeraFluida YouTube use demonstration video;
A51: https://www.google.com/url?sa=t&rct=j&q=&esrc=s&source=web&cd=&cad=rja&uact=8&ved=2ahUKEwiAjoTfz8OVAxXMGVkFHf_qGC4QtwJ6BAgZEAI&url=https%3A%2F%2Fwww.youtube.com%2Fwatch%3Fv%3DVnXGlCxFlDw&usg=AOvVaw0NTTxoT6LclrpQZNIQECKl&opi=89978449
A53: Tenax Cera Fluida commercial:
A54: https://www.google.com/url?sa=i&source=web&rct=j&url=https://www.youtube.com/watch?v%3DI6SpzUsYwVw%26t%3D88&ved=2ahUKEwje48Xfz8OVAxUiF1kFHaXPBuwQ__QQegoIAAgACAAIDhAG&opi=89978449&cd&psig=AOvVaw0I_R6j4GuRClULFl-Ar8Ks&ust=1783618746241000

Sheet UniBlack2
A1: UniBlack2
A2: Liquid
A3: Use based on website description
A4: 215 - 323 ft2 per quart
A6: Exposure Scenario | B6: Counter area (ft2) | C6: Coverage area (ft2) | D6: Coverage area (1 quart = 946.353 ml) | E6: Amount of product in ml | F6: Density of product | G6: Amount of product per use in grams
A7: High | B7: 60 | C7: 215 | D7: 946.353 | E7: =(B7*D7)/C7 -> 264.09851 | F7: 0.91 | G7: =E7*F7 -> 240.32965
A8: Medium | B8: 40 | C8: 215 | D8: 946.353 | E8: =(B8*D8)/C8 -> 176.06567 | F8: 0.91 | G8: =E8*F8 -> 160.21976
A9: Low | B9: 30 | C9: 215 | D9: 946.353 | E9: =(B9*D9)/C9 -> 132.04926 | F9: 0.91 | G9: =E9*F9 -> 120.16482
A31: CEM OUTPUTS | B31: (Scenario: All-purpose cleaner)
A32: High
B33: Chronic ADC Zone1 (mg/m3) | C33: Chronic ADC Zone 2 (mg/m3) | D33: Peak Concentration (mg/m3) | E33: Inh risk cal
A34: Adult | B34: 0.124 | C34: 3.34 E-02 | D34: 615 | E34: =39/D34 -> 0.063414634
A35: Youth/Child/Infant | B35: 0.0102 | C35: 0.0356 | D35: 140 | E35: =39/D35 -> 0.27857143
A37: Medium
B38: Chronic ADC Zone1 (mg/m3) | C38: Chronic ADC Zone 2 (mg/m3) | D38: Peak Concentration (mg/m3) | E38: Inh risk cal
A39: Adult | B39: 0.0733 | C39: 0.0112 | D39: 417 | E39: =39/D39 -> 0.09352518
A40: Youth/Child/Infant | B40: 0.00477 | C40: 0.0194 | D40: 80.8 | E40: =39/D40 -> 0.48267327
A42: Low
B43: Chronic ADC Zone1 (mg/m3) | C43: Chronic ADC Zone 2 (mg/m3) | D43: Peak Concentration (mg/m3) | E43: Inh risk cal
A44: Adult | B44: 0.0304 | C44: 0.0107 | D44: 329 | E44: =39/D44 -> 0.11854103
A45: Youth/Child/Infant | B45: 0.00237 | C45: 0.0107 | D45: 48.9 | E45: =39/D45 -> 0.79754601

Sheet TeWax
A1: TeWax
A2: Paste Wax
A3: Use based on Technical Data Sheet (TDS)
A4: 20 - 30m2 per liter
A6: Exposure Scenario | B6: Counter area (ft2) | C6: Counter area (m2) | D6: Coverage area | E6: Amount of product in ml | F6: Density of product | G6: Amount of product per use in grams
A7: High | B7: 60 | C7: 5.6 | D7: 20 | E7: =(C7/D7)*1000 -> 280 | F7: 1.1 | G7: =E7*F7 -> 308
A8: Medium | B8: 40 | C8: 3.7 | D8: 20 | E8: =(C8/D8)*1000 -> 185 | F8: 1.1 | G8: =E8*F8 -> 203.5
A9: Low | B9: 30 | C9: 2.8 | D9: 20 | E9: =(C9/D9)*1000 -> 140 | F9: 1.1 | G9: =E9*F9 -> 154
A28: CEM OUTPUTS | B28: (Scenario: All-purpose waxes and polishes)
A29: High
B30: Chronic ADC Zone1 (mg/m3) | C30: Chronic ADC Zone 2 (mg/m3) | D30: Peak Concentration (mg/m3) | E30: Inh risk cal
A31: Adult | B31: 0.159 | C31: 3.00 E-02 | D31: 789 | E31: =39/$D$31 -> 0.049429658
A32: Youth/Child/Infant | B32: 0.0131 | C32: 0.0457 | D32: 179 | E32: =39/$D$32 -> 0.21787709
A34: Medium
B35: Chronic ADC Zone1 (mg/m3) | C35: Chronic ADC Zone 2 (mg/m3) | D35: Peak Concentration (mg/m3) | E35: Inh risk cal
A36: Adult | B36: 0.0934 | C36: 0.0143 | D36: 532 | E36: =39/$D$36 -> 0.073308271
A37: Youth/Child/Infant | B37: 0.00609 | C37: 0.0248 | D37: 103 | E37: =39/$D$37 -> 0.37864078
A39: Low
B40: Chronic ADC Zone1 (mg/m3) | C40: Chronic ADC Zone 2 (mg/m3) | D40: Peak Concentration (mg/m3) | E40: Inh risk cal
A41: Adult | B41: 0.0391 | C41: 0.0138 | D41: 422 | E41: =1.68/$D$41 -> 0.0039810427
A42: Youth/Child/Infant | B42: 0.00304 | C42: 0.0138 | D42: 62.8 | E42: =1.68/$D$42 -> 0.026751592

Sheet QuartzToner
A1: QuartzToner
A2: Liquid
A3: Amount of product based on website description of QuartzToner Plus
A4: 250 - 300 ft2 per liter
A6: Exposure Scenario | B6: Counter area (ft2) | C6: Coverage area per use(ft2) | D6: Coverage area (1 liter = 1000 ml) | E6: Amount of product in ml | F6: Density of product (from original SDS) | G6: Amount of product per use in grams
A7: High | B7: 60 | C7: 250 | D7: 1000 | E7: =(B7*D7)/C7 -> 240 | F7: 0.88 | G7: =E7*F7 -> 211.2
A8: Medium | B8: 40 | C8: 250 | D8: 1000 | E8: =(B8*D8)/C8 -> 160 | F8: 0.88 | G8: =E8*F8 -> 140.8
A9: Low | B9: 30 | C9: 250 | D9: 1000 | E9: =(B9*D9)/C9 -> 120 | F9: 0.88 | G9: =E9*F9 -> 105.6
A49: https://www.selectstonetools.com/quartz-toner-plus-250ml-p/1mpa00bg501q05.htm
A53: CEM OUTPUTS | B53: (Scenario: All-purpose waxes and polishes)
A54: High
B55: Chronic ADC Zone1 (mg/m3) | C55: Chronic ADC Zone 2 (mg/m3) | D55: Peak Concentration (mg/m3) | E55: Inh risk cal
A56: Adult | B56: 0.00762 | C56: 0.00144 | D56: 37.8 | E56: =39/D56 -> 1.031746
A57: Youth/Child/Infant | B57: 0.000629 | C57: 0.00219 | D57: 8.61 | E57: =39/D57 -> 4.5296167
A59: Medium
B60: Chronic ADC Zone1 (mg/m3) | C60: Chronic ADC Zone 2 (mg/m3) | D60: Peak Concentration (mg/m3) | E60: Inh risk cal
A61: Adult | B61: 0.00363 | C61: 0.000556 | D61: 20.7 | E61: =39/D61 -> 1.884058
A62: Youth/Child/Infant | B62: 0.000236 | C62: 0.00096 | D62: 4.01 | E62: =39/D62 -> 9.7256858
A64: Low
B65: Chronic ADC Zone1 (mg/m3) | C65: Chronic ADC Zone 2 (mg/m3) | D65: Peak Concentration (mg/m3) | E65: Inh risk cal
A66: Adult | B66: 0.000897 | C66: 0.000316 | D66: 9.69 | E66: =39/D66 -> 4.0247678
A67: Youth/Child/Infant | B67: 6.99e-05 | C67: 0.000316 | D67: 1.44 | E67: =39/D67 -> 27.083333

Sheet LustroItaliano
A1: Lustro Italiano Stone Cleaner
A2: Spray liquid
A3: Daily Cleaner in 32oz spray bottle (946.353 ml)
A6: Exposure Scenario | B6: CEM default durations | C6: Counter area (ft2) | D6: Coverage area per use (mm2) | E6: Coverage area (255 mm or squared = 65025mm2/spray) | F6: Amount of product in ml (0.14 ml/spray) | G6: Density of product (from original SDS) | H6: Amount of product per use in grams | I6: Duration of use/ Time (need to translate based on volume used/rate
A7: High | B7: 30 | C7: 60 | D7: 5574000 | E7: =D7/65025 -> 85.720877 | F7: =E7*0.14 -> 12.000923 | G7: 0.8 | H7: =F7*G7 -> 9.6007382
A8: Medium | B8: 15 | C8: 40 | D8: 3716000 | E8: =D8/65025 -> 57.147251 | F8: =E8*0.14 -> 8.0006151 | G8: 0.8 | H8: =F8*G8 -> 6.4004921
A9: Low | B9: 5 | C9: 30 | D9: 2787000 | E9: =D9/65025 -> 42.860438 | F9: =E9*0.14 -> 6.0004614 | G9: 0.8 | H9: =F9*G9 -> 4.8003691
H12: Source for volume and amount of sprays per bottle
H13: https://gamutpackaging.com/blogs/resources/understanding-spray-bottle-capacity-how-many-sprays-are-in-common-sizes?srsltid=AfmBOopDgEyckhVaASm1VnIfU4GWlj-vXIkOGWoiGlhW6gUyMtkNTcHJ
H14: 0.14 ml per spray
H15: Source for spray coverage:
H16: https://www.lorric.com/en/Articles/nozzle/all/spray-angle-intro#topic3
H17: 8 inches at 65 degree angle converted to approx 200mm at 65 degree angle = 255 mm of coverage
A36: https://www.tenax4you.com/lustro-italiano-stone-cleaner-32-fl-oz-p/lustroclean.htm
A39: Lustro Italiano™ Stone Cleaner
A40: Lustro Italiano™ stone cleaner is a bottle with attachable sprayer that contains no harsh detergents that can strip away stones natural polish. Unlike some other household solvents, this cleaner will not shorten the life of stone sealants. Lustro Italiano™ Cleaner can be used on natural stone, quartz stone, solid surface products, such as corian, as well as stainless steel and ceramic tile. Packaging specifically designed with the homeowner in mind, Lustro Italiano™ is for the showroom/retail environment and to keep customers coming back. Lustro Italiano™ uses the long history of Italian stone masters to enhance credibility. Elegant, specialized stone care products and packaging to support the consumer’s perception that stone is a valuable addition to their home. All products are UPC2 barcoded and packed in cases for easy ordering for multiple locations and shipping.
A42: Features
A43: 16 Ounce Spray Bottle
A44: Won't Break Down Sealer
A45: No Harsh Detergents
A46: Safe For Stone and Other Materials
A47: Quartz Friendly
A48: Designed for Home Owner Use
A49: Case Packaged
A52: CEM OUTPUTS | B52: (Scenario: All-purpose cleaner) | D52: Dermal changed to use permeability (e.g., wet rag scenario limits evaporation)
A53: High
B54: Chronic ADC Zone1 (mg/m3) | C54: Chronic ADC Zone 2 (mg/m3) | D54: Peak Concentration (mg/m3) | E54: Acute Inh risk cal
A55: Adult | B55: 0.138 | C55: 0.0423 | D55: 6.28 | E55: =39/D55 -> 6.2101911
A56: Youth/Child/Infant | B56: 1.36e-06 | C56: 0.0423 | D56: 0.508 | E56: =39/D56 -> 76.771654
A58: Medium
B59: Chronic ADC Zone1 (mg/m3) | C59: Chronic ADC Zone 2 (mg/m3) | D59: Peak Concentration (mg/m3) | E59: Acute Inh risk cal
A60: Adult | B60: 0.0449 | C60: 0.0127 | D60: 3.99 | E60: =39/D60 -> 9.7744361
A61: Youth/Child/Infant | B61: 4.05e-07 | C61: 0.0127 | D61: 0.186 | E61: =39/D61 -> 209.67742
A63: Low
B64: Chronic ADC Zone1 (mg/m3) | C64: Chronic ADC Zone 2 (mg/m3) | D64: Peak Concentration (mg/m3) | E64: Inh risk cal
A65: Adult | B65: 0.00841 | C65: 0.00226 | D65: 2.22 | E65: =39/D65 -> 17.567568
A66: Youth/Child/Infant | B66: 7.23e-08 | C66: 0.00226 | D66: 0.0664 | E66: =39/D66 -> 587.3494

Sheet Compiled Products
A1: Product | D1: ='COU Crosswalk'!C3 -> Cera Fluida Classic Liquid Wax | E1: ='COU Crosswalk'!C4 -> UniBlack2 black granite treatment | F1: ='COU Crosswalk'!C5 -> Cera TeWax | G1: ='COU Crosswalk'!C6 -> Quartz Toner | H1: ='COU Crosswalk'!C7 -> Lustro Italiano
A2: Dermal Spreadsheet Inputs | B2: Units | C2: Exposure Level | D2: Value | E2: Value | F2: Value | G2: Value | H2: Value
A3: Users | D3: Adult/Youth | E3: Adult/Youth | F3: Adult/Youth | G3: Adult/Youth | H3: Adult/Youth
A4: Frequency of Product Contact | B4: events/day | D4: 1 | E4: 1 | F4: 1 | G4: 1 | H4: 1
A5: Frequency of Product Contact | B5: events/year | C5: High | D5: 1 | E5: 1 | F5: 1 | G5: 1 | H5: 365
C6: Med | D6: 1 | E6: 1 | F6: 1 | G6: 1 | H6: 300
C7: Low | D7: 1 | E7: 1 | F7: 1 | G7: 1 | H7: 185
A8: Duration of Product Contact | B8: min/event | C8: High | D8: 120 | E8: 120 | F8: 120 | G8: 120 | H8: 15
C9: Med | D9: 90 | E9: 90 | F9: 90 | G9: 90 | H9: 10
C10: Low | D10: 60 | E10: 60 | F10: 60 | G10: 60 | H10: 5
A11: Model Selection
A12: CEM Models: | D12: Inhalation: E1, P_INH2 | E12: Inhalation: E1, P_INH2 | F12: Inhalation: E1, P_INH2 | G12: Inhalation: E1, P_INH2 | H12: Inhalation: E1, P_INH2
A13: CEM Saved Analysis: | D13: n/a | E13: n/a | F13: n/a | G13: n/a | H13: n/a
A14: Input Parameter | B14: Units | D14: Value | E14: Value | F14: Value | G14: Value | H14: Value
A15: Scenario Screen Parameters
A16: Weight Fraction | B16: (-) | C16: High | D16: ='COU Crosswalk'!L3 -> 54.12 | E16: ='COU Crosswalk'!L4 -> 50 | F16: ='COU Crosswalk'!L5 -> 50 | G16: ='COU Crosswalk'!L6 -> 3.5 | H16: ='COU Crosswalk'!L7 -> 3.5
C17: Med | D17: =D16 -> 54.12 | E17: ='COU Crosswalk'!K4 -> 40 | F17: ='COU Crosswalk'!K5 -> 40 | G17: ='COU Crosswalk'!K6 -> 2.25 | H17: ='COU Crosswalk'!K7 -> 2.25
C18: Low | D18: =D16 -> 54.12 | E18: ='COU Crosswalk'!J4 -> 30 | F18: ='COU Crosswalk'!J5 -> 30 | G18: ='COU Crosswalk'!J6 -> 1 | H18: ='COU Crosswalk'!J7 -> 1
A19: Initial Concentration of SVOC in Article | B19: mg/cm3 | D19: n/a | E19: n/a | F19: n/a | G19: n/a | H19: n/a
A20: Background Air Concentration | B20: mg/m3 | D20: n/a | E20: n/a | F20: n/a | G20: n/a | H20: n/a
A21: Background Dust Concentration | B21: ug/mg | D21: n/a | E21: n/a | F21: n/a | G21: n/a | H21: n/a
A22: Product/Article Use Environment | B22: - | D22: Residence - Kitchen | E22: Residence - Kitchen | F22: Residence - Kitchen | G22: Residence - Kitchen | H22: Residence - Kitchen
A23: Route Assessed | B23: - | D23: Inhalation and dermal | E23: Inhalation and dermal | F23: Inhalation and dermal | G23: Inhalation and dermal | H23: Inhalation and dermal
A24: Product Users | B24: - | D24: Adult, Youth | E24: Adult, Youth | F24: Adult, Youth | G24: Adult, Youth | H24: Adult, Youth
A25: Activity Pattern | B25: - | D25: Stay-At-Home | E25: Stay-At-Home | F25: Stay-At-Home | G25: Stay-At-Home | H25: Stay-At-Home
A26: User-defined Emission Rates | B26: - | D26: Let CEM Estimate Emission Rate | E26: Let CEM Estimate Emission Rate | F26: Let CEM Estimate Emission Rate | G26: Let CEM Estimate Emission Rate | H26: Let CEM Estimate Emission Rate
A27: Use Near-field Zone? (E1, E2, E3 only) | B27: - | D27: User Near-field area in zone 1 (P_INH2) | E27: User Near-field area in zone 1 (P_INH2) | F27: User Near-field area in zone 1 (P_INH2) | G27: User Near-field area in zone 1 (P_INH2) | H27: User Near-field area in zone 1 (P_INH2)
A28: Dermal Absorption or Permeability? | B28: - | D28: n/a | E28: n/a | F28: n/a | G28: n/a | H28: n/a
A29: Emission Factor Method (E1 only) | B29: - | D29: n/a | E29: n/a | F29: n/a | G29: n/a | H29: n/a
A30: Product/Article Properties Screen Parameters
A31: Product/Article and Use Inputs
A32: User Defined Emission Rate | B32: mg/hr | D32: n/a | E32: n/a | F32: n/a | G32: n/a | H32: n/a
A33: Density of Product/Article | B33: g/cm3 | D33: ='COU Crosswalk'!N3 -> 1.1 | E33: ='COU Crosswalk'!N4 -> 0.91 | F33: ='COU Crosswalk'!N5 -> 1.1 | G33: ='COU Crosswalk'!N6 -> 0.88 | H33: ='COU Crosswalk'!N7 -> 0.8
A34: Surface Area of Article | B34: m2 | D34: n/a | E34: n/a | F34: n/a | G34: n/a | H34: n/a
A35: Thickness of Article Surface Layer | B35: cm | D35: n/a | E35: n/a | F35: n/a | G35: n/a | H35: n/a
A36: Duration of Article Contact | B36: min/day | D36: n/a | E36: n/a | F36: n/a | G36: n/a | H36: n/a
A37: Area of Article mouthed | B37: cm2 | D37: n/a | E37: n/a | F37: n/a | G37: n/a | H37: n/a
A38: Chronic and Acute Assessments
A39: Duration of Use (acute) | B39: min/event | C39: High | D39: 120 | E39: 120 | F39: 120 | G39: 120 | H39: 15
C40: Med | D40: 90 | E40: 90 | F40: 90 | G40: 90 | H40: 10
...

Sheet Dermal Exposure
C1: Dermal Calculations for Consumer Scenarios
A2: COU | B2: Sub Category COU | C2: Product/Article Name | D2: Exposure Level | E2: User(s) [A zero indicates that the population was not assessed for dermal exposure] | O2: Dose per event mg/kg bw | R2: Acute Dose mg/kg bw day | U2: Acute Non-Cancer Risk (MOE) | X2: Chronic Dose mg/kg bw year | AA2: Chronic Non-Cancer Risk (MOE) | AD2: Lifetime Dose | AE2: Chronic Risk HED | AF2: Dermal Benchmark | AG2: Cancer OSF
E3: Adult | F3: Youth | G3: Weight Fraction (Decimal) | H3: Frequency (chronic) | I3: Lifetime (cancer) | J3: Frequency (acute) | K3: Qu (mg/cm2-event | L3: Fraction Absorbed (Test Order) | M3: Dermal Absorption per event Qu * WF * Fabs (mg/cm2-event) | N3: Contact Area | O3: ADULTS ≥21 | P3: YOUTHS (16-20) | Q3: YOUTHS (11 to <15) | R3: ADULTS >21 | S3: YOUTHS (16-20) | T3: YOUTHS (11 to <15) | U3: ADULTS >21 | V3: YOUTHS (16-20) | W3: YOUTHS (11 to <15) | X3: ADULTS >21 | Y3: YOUTHS (16-20) | Z3: YOUTHS (11 to <15) | AA3: ADULTS >21 | AB3: YOUTHS (16-20) | AC3: YOUTHS (11 to <15) | AD3: 11 - 78 years | AE3: ='Hazard Equations & Inputs'!M6 -> 7.2 | AF3: =30 -> 30 | AG3: 0.04
A4: Cleaning and furnishing care product | B4: All-purpose liquid cleaner/polish | C4: ='COU Crosswalk'!C3 -> Cera Fluida Classic Liquid Wax | D4: Low | E4: 1 | F4: 1 | G4: =G5 -> 0.5412 | H4: 1 | J4: 1 | K4: 0.7 | L4: =$N$23 -> 0.015508 | M4: =K4*G4*L4 -> 0.0058750507 | N4: Inside of one hand (palms, fingers) | O4: =(INDEX('Dermal Exposure'!$B$25:$D$31, MATCH($N4,'Dermal Exposure'!$A$25:$A$31, 0), MATCH(O$3, 'Dermal Exposure'!$B$24:$D$24, 0)))*$M4*$E4 -> 0.018194726 | P4: =(INDEX('Dermal Exposure'!$B$25:$D$31, MATCH($N4,'Dermal Exposure'!$A$25:$A$31, 0), MATCH(P$3, 'Dermal Exposure'!$B$24:$D$24, 0)))*$M4*$F4 -> 0.01702616 | Q4: =(INDEX('Dermal Exposure'!$B$25:$D$31, MATCH($N4,'Dermal Exposure'!$A$25:$A$31, 0), MATCH(Q$3, 'Dermal Exposure'!$B$24:$D$24, 0)))*$M4*$F4 -> 0.018618118 | R4: =O4*$J4 -> 0.018194726 | S4: =P4*$J4 -> 0.01702616 | T4: =Q4*$J4 -> 0.018618118 | U4: =$AE$3/R4 -> 395.71906 | V4: =$AE$3/S4 -> 422.87869 | W4: =$AE$3/T4 -> 386.72007 | X4: n/a | Y4: n/a | Z4: n/a | AA4: n/a | AB4: n/a | AC4: n/a
D5: Medium | E5: 1 | F5: 1 | G5: =G6 -> 0.5412 | H5: 1 | J5: 1 | K5: 1.4 | L5: =$N$23 -> 0.015508 | M5: =K5*G5*L5 -> 0.011750101 | N5: Inside of one hand (palms, fingers) | O5: =(INDEX('Dermal Exposure'!$B$25:$D$31, MATCH($N5,'Dermal Exposure'!$A$25:$A$31, 0), MATCH(O$3, 'Dermal Exposure'!$B$24:$D$24, 0)))*$M5*$E5 -> 0.036389452 | P5: =(INDEX('Dermal Exposure'!$B$25:$D$31, MATCH($N5,'Dermal Exposure'!$A$25:$A$31, 0), MATCH(P$3, 'Dermal Exposure'!$B$24:$D$24, 0)))*$M5*$F5 -> 0.034052319 | Q5: =(INDEX('Dermal Exposure'!$B$25:$D$31, MATCH($N5,'Dermal Exposure'!$A$25:$A$31, 0), MATCH(Q$3, 'Dermal Exposure'!$B$24:$D$24, 0)))*$M5*$F5 -> 0.037236237 | R5: =O5*$J5 -> 0.036389452 | S5: =P5*$J5 -> 0.034052319 | T5: =Q5*$J5 -> 0.037236237 | U5: =$AE$3/R5 -> 197.85953 | V5: =$AE$3/S5 -> 211.43934 | W5: =$AE$3/T5 -> 193.36003 | X5: n/a | Y5: n/a | Z5: n/a | AA5: n/a | AB5: n/a | AC5: n/a
D6: High | E6: 1 | F6: 1 | G6: =('COU Crosswalk'!L3)/100 -> 0.5412 | H6: 1 | J6: 1 | K6: 2.1 | L6: =$N$23 -> 0.015508 | M6: =K6*G6*L6 -> 0.017625152 | N6: Inside of two hands (palms, fingers) | O6: =(INDEX('Dermal Exposure'!$B$25:$D$31, MATCH($N6,'Dermal Exposure'!$A$25:$A$31, 0), MATCH(O$3, 'Dermal Exposure'!$B$24:$D$24, 0)))*$M6*$E6 -> 0.10916836 | P6: =(INDEX('Dermal Exposure'!$B$25:$D$31, MATCH($N6,'Dermal Exposure'!$A$25:$A$31, 0), MATCH(P$3, 'Dermal Exposure'!$B$24:$D$24, 0)))*$M6*$F6 -> 0.10215696 | Q6: =(INDEX('Dermal Exposure'!$B$25:$D$31, MATCH($N6,'Dermal Exposure'!$A$25:$A$31, 0), MATCH(Q$3, 'Dermal Exposure'!$B$24:$D$24, 0)))*$M6*$F6 -> 0.11170871 | R6: =O6*$J6 -> 0.10916836 | S6: =P6*$J6 -> 0.10215696 | T6: =Q6*$J6 -> 0.11170871 | U6: =$AE$3/R6 -> 65.953177 | V6: =$AE$3/S6 -> 70.479781 | W6: =$AE$3/T6 -> 64.453344 | X6: n/a | Y6: n/a | Z6: n/a | AA6: n/a | AB6: n/a | AC6: n/a
A7: Cleaning and furnishing care product | B7: All-purpose liquid cleaner/polish | C7: ='COU Crosswalk'!C4 -> UniBlack2 black granite treatment | D7: Low | E7: 1 | F7: 1 | G7: =('COU Crosswalk'!J4)/100 -> 0.3 | H7: 1 | J7: 1 | K7: 0.7 | L7: =$N$23 -> 0.015508 | M7: =K7*G7*L7 -> 0.00325668 | N7: Inside of one hand (palms, fingers) | O7: =(INDEX('Dermal Exposure'!$B$25:$D$31, MATCH($N7,'Dermal Exposure'!$A$25:$A$31, 0), MATCH(O$3, 'Dermal Exposure'!$B$24:$D$24, 0)))*$M7*$E7 -> 0.010085768 | P7: =(INDEX('Dermal Exposure'!$B$25:$D$31, MATCH($N7,'Dermal Exposure'!$A$25:$A$31, 0), MATCH(P$3, 'Dermal Exposure'!$B$24:$D$24, 0)))*$M7*$F7 -> 0.0094380042 | Q7: =(INDEX('Dermal Exposure'!$B$25:$D$31, MATCH($N7,'Dermal Exposure'!$A$25:$A$31, 0), MATCH(Q$3, 'Dermal Exposure'!$B$24:$D$24, 0)))*$M7*$F7 -> 0.010320465 | R7: =O7*$J7 -> 0.010085768 | S7: =P7*$J7 -> 0.0094380042 | T7: =Q7*$J7 -> 0.010320465 | U7: =$AE$3/R7 -> 713.87719 | V7: =$AE$3/S7 -> 762.87315 | W7: =$AE$3/T7 -> 697.643 | X7: n/a | Y7: n/a | Z7: n/a | AA7: n/a | AB7: n/a | AC7: n/a
D8: Medium | E8: 1 | F8: 1 | G8: =('COU Crosswalk'!K4)/100 -> 0.4 | H8: 1 | J8: 1 | K8: 1.4 | L8: =$N$23 -> 0.015508 | M8: =K8*G8*L8 -> 0.00868448 | N8: Inside of one hand (palms, fingers) | O8: =(INDEX('Dermal Exposure'!$B$25:$D$31, MATCH($N8,'Dermal Exposure'!$A$25:$A$31, 0), MATCH(O$3, 'Dermal Exposure'!$B$24:$D$24, 0)))*$M8*$E8 -> 0.026895382 | P8: =(INDEX('Dermal Exposure'!$B$25:$D$31, MATCH($N8,'Dermal Exposure'!$A$25:$A$31, 0), MATCH(P$3, 'Dermal Exposure'!$B$24:$D$24, 0)))*$M8*$F8 -> 0.025168011 | Q8: =(INDEX('Dermal Exposure'!$B$25:$D$31, MATCH($N8,'Dermal Exposure'!$A$25:$A$31, 0), MATCH(Q$3, 'Dermal Exposure'!$B$24:$D$24, 0)))*$M8*$F8 -> 0.027521239 | R8: =O8*$J8 -> 0.026895382 | S8: =P8*$J8 -> 0.025168011 | T8: =Q8*$J8 -> 0.027521239 | U8: =$AE$3/R8 -> 267.70395 | V8: =$AE$3/S8 -> 286.07743 | W8: =$AE$3/T8 -> 261.61612 | X8: n/a | Y8: n/a | Z8: n/a | AA8: n/a | AB8: n/a | AC8: n/a
D9: High | E9: 1 | F9: 1 | G9: =('COU Crosswalk'!L4)/100 -> 0.5 | H9: 1 | J9: 1 | K9: 2.1 | L9: =$N$23 -> 0.015508 | M9: =K9*G9*L9 -> 0.0162834 | N9: Inside of two hands (palms, fingers) | O9: =(INDEX('Dermal Exposure'!$B$25:$D$31, MATCH($N9,'Dermal Exposure'!$A$25:$A$31, 0), MATCH(O$3, 'Dermal Exposure'!$B$24:$D$24, 0)))*$M9*$E9 -> 0.10085768 | P9: =(INDEX('Dermal Exposure'!$B$25:$D$31, MATCH($N9,'Dermal Exposure'!$A$25:$A$31, 0), MATCH(P$3, 'Dermal Exposure'!$B$24:$D$24, 0)))*$M9*$F9 -> 0.094380042 | Q9: =(INDEX('Dermal Exposure'!$B$25:$D$31, MATCH($N9,'Dermal Exposure'!$A$25:$A$31, 0), MATCH(Q$3, 'Dermal Exposure'!$B$24:$D$24, 0)))*$M9*$F9 -> 0.10320465 | R9: =O9*$J9 -> 0.10085768 | S9: =P9*$J9 -> 0.094380042 | T9: =Q9*$J9 -> 0.10320465 | U9: =$AE$3/R9 -> 71.387719 | V9: =$AE$3/S9 -> 76.287315 | W9: =$AE$3/T9 -> 69.7643 | X9: n/a | Y9: n/a | Z9: n/a | AA9: n/a | AB9: n/a | AC9: n/a
A10: Cleaning and furnishing care product | B10: All-purpose waxes and polishes (paste) | C10: ='COU Crosswalk'!C5 -> Cera TeWax | D10: Low | E10: 1 | F10: 1 | G10: =('COU Crosswalk'!J5)/100 -> 0.3 | H10: 1 | J10: 1 | K10: 0.7 | L10: =$N$23 -> 0.015508 | M10: =K10*G10*L10 -> 0.00325668 | N10: Inside of one hand (palms, fingers) | O10: =(INDEX('Dermal Exposure'!$B$25:$D$31, MATCH($N10,'Dermal Exposure'!$A$25:$A$31, 0), MATCH(O$3, 'Dermal Exposure'!$B$24:$D$24, 0)))*$M10*$E10 -> 0.010085768 | P10: =(INDEX('Dermal Exposure'!$B$25:$D$31, MATCH($N10,'Dermal Exposure'!$A$25:$A$31, 0), MATCH(P$3, 'Dermal Exposure'!$B$24:$D$24, 0)))*$M10*$F10 -> 0.0094380042 | Q10: =(INDEX('Dermal Exposure'!$B$25:$D$31, MATCH($N10,'Dermal Exposure'!$A$25:$A$31, 0), MATCH(Q$3, 'Dermal Exposure'!$B$24:$D$24, 0)))*$M10*$F10 -> 0.010320465 | R10: =O10*$J10 -> 0.010085768 | S10: =P10*$J10 -> 0.0094380042 | T10: =Q10*$J10 -> 0.010320465 | U10: =$AE$3/R10 -> 713.87719 | V10: =$AE$3/S10 -> 762.87315 | W10: =$AE$3/T10 -> 697.643 | X10: n/a | Y10: n/a | Z10: n/a | AA10: n/a | AB10: n/a | AC10: n/a
D11: Medium | E11: 1 | F11: 1 | G11: =('COU Crosswalk'!K5)/100 -> 0.4 | H11: 1 | J11: 1 | K11: 1.4 | L11: =$N$23 -> 0.015508 | M11: =K11*G11*L11 -> 0.00868448 | N11: Inside of one hand (palms, fingers) | O11: =(INDEX('Dermal Exposure'!$B$25:$D$31, MATCH($N11,'Dermal Exposure'!$A$25:$A$31, 0), MATCH(O$3, 'Dermal Exposure'!$B$24:$D$24, 0)))*$M11*$E11 -> 0.026895382 | P11: =(INDEX('Dermal Exposure'!$B$25:$D$31, MATCH($N11,'Dermal Exposure'!$A$25:$A$31, 0), MATCH(P$3, 'Dermal Exposure'!$B$24:$D$24, 0)))*$M11*$F11 -> 0.025168011 | Q11: =(INDEX('Dermal Exposure'!$B$25:$D$31, MATCH($N11,'Dermal Exposure'!$A$25:$A$31, 0), MATCH(Q$3, 'Dermal Exposure'!$B$24:$D$24, 0)))*$M11*$F11 -> 0.027521239 | R11: =O11*$J11 -> 0.026895382 | S11: =P11*$J11 -> 0.025168011 | T11: =Q11*$J11 -> 0.027521239 | U11: =$AE$3/R11 -> 267.70395 | V11: =$AE$3/S11 -> 286.07743 | W11: =$AE$3/T11 -> 261.61612 | X11: n/a | Y11: n/a | Z11: n/a | AA11: n/a | AB11: n/a | AC11: n/a
D12: High | E12: 1 | F12: 1 | G12: =('COU Crosswalk'!L5)/100 -> 0.5 | H12: 1 | J12: 1 | K12: 2.1 | L12: =$N$23 -> 0.015508 | M12: =K12*G12*L12 -> 0.0162834 | N12: Inside of two hands (palms, fingers) | O12: =(INDEX('Dermal Exposure'!$B$25:$D$31, MATCH($N12,'Dermal Exposure'!$A$25:$A$31, 0), MATCH(O$3, 'Dermal Exposure'!$B$24:$D$24, 0)))*$M12*$E12 -> 0.10085768 | P12: =(INDEX('Dermal Exposure'!$B$25:$D$31, MATCH($N12,'Dermal Exposure'!$A$25:$A$31, 0), MATCH(P$3, 'Dermal Exposure'!$B$24:$D$24, 0)))*$M12*$F12 -> 0.094380042 | Q12: =(INDEX('Dermal Exposure'!$B$25:$D$31, MATCH($N12,'Dermal Exposure'!$A$25:$A$31, 0), MATCH(Q$3, 'Dermal Exposure'!$B$24:$D$24, 0)))*$M12*$F12 -> 0.10320465 | R12: =O12*$J12 -> 0.10085768 | S12: =P12*$J12 -> 0.094380042 | T12: =Q12*$J12 -> 0.10320465 | U12: =$AE$3/R12 -> 71.387719 | V12: =$AE$3/S12 -> 76.287315 | W12: =$AE$3/T12 -> 69.7643 | X12: n/a | Y12: n/a | Z12: n/a | AA12: n/a | AB12: n/a | AC12: n/a
A13: Cleaning and furnishing care product | B13: All-purpose waxes and polishes (paste) | C13: ='COU Crosswalk'!C6 -> Quartz Toner | D13: Low | E13: 1 | F13: 1 | G13: =('COU Crosswalk'!J6)/100 -> 0.01 | H13: 1 | J13: 1 | K13: 0.7 | L13: =$N$24 -> 0.011614 | M13: =K13*G13*L13 -> 8.1298e-05 | N13: Inside of one hand (palms, fingers) | O13: =(INDEX('Dermal Exposure'!$B$25:$D$31, MATCH($N13,'Dermal Exposure'!$A$25:$A$31, 0), MATCH(O$3, 'Dermal Exposure'!$B$24:$D$24, 0)))*$M13*$E13 -> 0.00025177567 | P13: =(INDEX('Dermal Exposure'!$B$25:$D$31, MATCH($N13,'Dermal Exposure'!$A$25:$A$31, 0), MATCH(P$3, 'Dermal Exposure'!$B$24:$D$24, 0)))*$M13*$F13 -> 0.00023560524 | Q13: =(INDEX('Dermal Exposure'!$B$25:$D$31, MATCH($N13,'Dermal Exposure'!$A$25:$A$31, 0), MATCH(Q$3, 'Dermal Exposure'!$B$24:$D$24, 0)))*$M13*$F13 -> 0.00025763451 | R13: =O13*$J13 -> 0.00025177567 | S13: =P13*$J13 -> 0.00023560524 | T13: =Q13*$J13 -> 0.00025763451 | U13: =$AE$3/R13 -> 28596.885 | V13: =$AE$3/S13 -> 30559.592 | W13: =$AE$3/T13 -> 27946.567 | X13: n/a | Y13: n/a | Z13: n/a | AA13: n/a | AB13: n/a | AC13: n/a
D14: Medium | E14: 1 | F14: 1 | G14: =('COU Crosswalk'!K6)/100 -> 0.0225 | H14: 1 | J14: 1 | K14: 1.4 | L14: =$N$24 -> 0.011614 | M14: =K14*G14*L14 -> 0.000365841 | N14: Inside of one hand (palms, fingers) | O14: =(INDEX('Dermal Exposure'!$B$25:$D$31, MATCH($N14,'Dermal Exposure'!$A$25:$A$31, 0), MATCH(O$3, 'Dermal Exposure'!$B$24:$D$24, 0)))*$M14*$E14 -> 0.0011329905 | P14: =(INDEX('Dermal Exposure'!$B$25:$D$31, MATCH($N14,'Dermal Exposure'!$A$25:$A$31, 0), MATCH(P$3, 'Dermal Exposure'!$B$24:$D$24, 0)))*$M14*$F14 -> 0.0010602236 | Q14: =(INDEX('Dermal Exposure'!$B$25:$D$31, MATCH($N14,'Dermal Exposure'!$A$25:$A$31, 0), MATCH(Q$3, 'Dermal Exposure'!$B$24:$D$24, 0)))*$M14*$F14 -> 0.0011593553 | R14: =O14*$J14 -> 0.0011329905 | S14: =P14*$J14 -> 0.0010602236 | T14: =Q14*$J14 -> 0.0011593553 | U14: =$AE$3/R14 -> 6354.8634 | V14: =$AE$3/S14 -> 6791.0205 | W14: =$AE$3/T14 -> 6210.3482 | X14: n/a | Y14: n/a | Z14: n/a | AA14: n/a | AB14: n/a | AC14: n/a
D15: High | E15: 1 | F15: 1 | G15: =('COU Crosswalk'!L6)/100 -> 0.035 | H15: 1 | J15: 1 | K15: 2.1 | L15: =$N$24 -> 0.011614 | M15: =K15*G15*L15 -> 0.000853629 | N15: Inside of two hands (palms, fingers) | O15: =(INDEX('Dermal Exposure'!$B$25:$D$31, MATCH($N15,'Dermal Exposure'!$A$25:$A$31, 0), MATCH(O$3, 'Dermal Exposure'!$B$24:$D$24, 0)))*$M15*$E15 -> 0.0052872891 | P15: =(INDEX('Dermal Exposure'!$B$25:$D$31, MATCH($N15,'Dermal Exposure'!$A$25:$A$31, 0), MATCH(P$3, 'Dermal Exposure'!$B$24:$D$24, 0)))*$M15*$F15 -> 0.00494771 | Q15: =(INDEX('Dermal Exposure'!$B$25:$D$31, MATCH($N15,'Dermal Exposure'!$A$25:$A$31, 0), MATCH(Q$3, 'Dermal Exposure'!$B$24:$D$24, 0)))*$M15*$F15 -> 0.0054103246 | R15: =O15*$J15 -> 0.0052872891 | S15: =P15*$J15 -> 0.00494771 | T15: =Q15*$J15 -> 0.0054103246 | U15: =$AE$3/R15 -> 1361.7564 | V15: =$AE$3/S15 -> 1455.2187 | W15: =$AE$3/T15 -> 1330.7889 | X15: n/a | Y15: n/a | Z15: n/a | AA15: n/a | AB15: n/a | AC15: n/a | AE15: Cancer Risk
A16: Cleaning and furnishing care product | B16: All-purpose liquid spray cleaner/polish | C16: ='COU Crosswalk'!C7 -> Lustro Italiano | D16: Low | E16: 1 | F16: 1 | G16: =('COU Crosswalk'!J7)/100 -> 0.01 | H16: 185 | I16: 57 | J16: =J14 -> 1 | K16: 0.7 | L16: =$N$24 -> 0.011614 | M16: =K16*G16*L16 -> 8.1298e-05 | N16: Inside of one hand (palms, fingers) | O16: =(INDEX('Dermal Exposure'!$B$25:$D$31, MATCH($N16,'Dermal Exposure'!$A$25:$A$31, 0), MATCH(O$3, 'Dermal Exposure'!$B$24:$D$24, 0)))*$M16*$E16 -> 0.00025177567 | P16: =(INDEX('Dermal Exposure'!$B$25:$D$31, MATCH($N16,'Dermal Exposure'!$A$25:$A$31, 0), MATCH(P$3, 'Dermal Exposure'!$B$24:$D$24, 0)))*$M16*$F16 -> 0.00023560524 | Q16: =(INDEX('Dermal Exposure'!$B$25:$D$31, MATCH($N16,'Dermal Exposure'!$A$25:$A$31, 0), MATCH(Q$3, 'Dermal Exposure'!$B$24:$D$24, 0)))*$M16*$F16 -> 0.00025763451 | R16: =O16*$J16 -> 0.00025177567 | S16: =P16*$J16 -> 0.00023560524 | T16: =Q16*$J16 -> 0.00025763451 | U16: =$AE$3/R16 -> 28596.885 | V16: =$AE$3/S16 -> 30559.592 | W16: =$AE$3/T16 -> 27946.567 | X16: =O16*$H16 -> 0.0465785 | Y16: =P16*$H16 -> 0.043586969 | Z16: =Q16*$H16 -> 0.047662384 | AA16: =$AE$3/X16 -> 154.57776 | AB16: =$AE$3/Y16 -> 165.18699 | AC16: =$AE$3/Z16 -> 151.06252 | AD16: =((Z16*5/78)+(Y16*5/78)+(X16*57/78)) -> 0.039887452 | AE16: =AD16*$AG$3 -> 0.0015954981
D17: Medium | E17: 1 | F17: 1 | G17: =('COU Crosswalk'!K7)/100 -> 0.0225 | H17: 300 | I17: 57 | J17: =J16 -> 1 | K17: 1.4 | L17: =$N$24 -> 0.011614 | M17: =K17*G17*L17 -> 0.000365841 | N17: Inside of one hand (palms, fingers) | O17: =(INDEX('Dermal Exposure'!$B$25:$D$31, MATCH($N17,'Dermal Exposure'!$A$25:$A$31, 0), MATCH(O$3, 'Dermal Exposure'!$B$24:$D$24, 0)))*$M17*$E17 -> 0.0011329905 | P17: =(INDEX('Dermal Exposure'!$B$25:$D$31, MATCH($N17,'Dermal Exposure'!$A$25:$A$31, 0), MATCH(P$3, 'Dermal Exposure'!$B$24:$D$24, 0)))*$M17*$F17 -> 0.0010602236 | Q17: =(INDEX('Dermal Exposure'!$B$25:$D$31, MATCH($N17,'Dermal Exposure'!$A$25:$A$31, 0), MATCH(Q$3, 'Dermal Exposure'!$B$24:$D$24, 0)))*$M17*$F17 -> 0.0011593553 | R17: =O17*$J17 -> 0.0011329905 | S17: =P17*$J17 -> 0.0010602236 | T17: =Q17*$J17 -> 0.0011593553 | U17: =$AE$3/R17 -> 6354.8634 | V17: =$AE$3/S17 -> 6791.0205 | W17: =$AE$3/T17 -> 6210.3482 | X17: =O17*$H17 -> 0.33989716 | Y17: =P17*$H17 -> 0.31806707 | Z17: =Q17*$H17 -> 0.34780658 | AA17: =$AE$3/X17 -> 21.182878 | AB17: =$AE$3/Y17 -> 22.636735 | AC17: =$AE$3/Z17 -> 20.701161 | AD17: =((Z17*5/78)+(Y17*5/78)+(X17*57/78)) -> 0.29107059 | AE17: =AD17*$AG$3 -> 0.011642824
D18: High | E18: 1 | F18: 1 | G18: =('COU Crosswalk'!L7)/100 -> 0.035 | H18: 365 | I18: 57 | J18: 1 | K18: 2.1 | L18: =$N$24 -> 0.011614 | M18: =K18*G18*L18 -> 0.000853629 | N18: Inside of two hands (palms, fingers) | O18: =(INDEX('Dermal Exposure'!$B$25:$D$31, MATCH($N18,'Dermal Exposure'!$A$25:$A$31, 0), MATCH(O$3, 'Dermal Exposure'!$B$24:$D$24, 0)))*$M18*$E18 -> 0.0052872891 | P18: =(INDEX('Dermal Exposure'!$B$25:$D$31, MATCH($N18,'Dermal Exposure'!$A$25:$A$31, 0), MATCH(P$3, 'Dermal Exposure'!$B$24:$D$24, 0)))*$M18*$F18 -> 0.00494771 | Q18: =(INDEX('Dermal Exposure'!$B$25:$D$31, MATCH($N18,'Dermal Exposure'!$A$25:$A$31, 0), MATCH(Q$3, 'Dermal Exposure'!$B$24:$D$24, 0)))*$M18*$F18 -> 0.0054103246 | R18: =O18*$J18 -> 0.0052872891 | S18: =P18*$J18 -> 0.00494771 | T18: =Q18*$J18 -> 0.0054103246 | U18: =$AE$3/R18 -> 1361.7564 | V18: =$AE$3/S18 -> 1455.2187 | W18: =$AE$3/T18 -> 1330.7889 | X18: =O18*$H18 -> 1.9298605 | Y18: =P18*$H18 -> 1.8059141 | Z18: =Q18*$H18 -> 1.9747685 | AA18: =$AE$3/X18 -> 3.7308395 | AB18: =$AE$3/Y18 -> 3.9869005 | AC18: =$AE$3/Z18 -> 3.645997 | AD18: =((Z18*5/78)+(Y18*5/78)+(X18*57/78)) -> 1.6526342 | AE18: =AD18*$AG$3 -> 0.066105366
A20: LOOKUP TABLES AND SUPPLEMENTARY CALCULATIONS
A22: Surface Area/BW ratios | H22: Fraction absorbed empirically obtained from test order | P22: Qu = Amount Retained on Skin (mg/cm2-event)
A23: Contact Area | B23: Population | H23: 50% (to be used for products with WF > 30%) = 1.5508% | N23: =1.5508/100 -> 0.015508 | P23: Using these Qu values the analysis offers a range of possible dermal exposures
B24: ADULTS ≥21 | C24: YOUTHS (16-20) | D24: YOUTHS (11 to <15) | H24: 1% in HHN (for WF < 10%) = 1.1614% | N24: =1.1614/100 -> 0.011614 | P24: From U.S. EPA 1992
A25: Entire Body | B25: 245.88722 | C25: 256.98324 | D25: 279.92958 | H25: 10% in HHN (for products with WF >10% but below 30%) = 1.0947% | N25: =1.0947/100 -> 0.010947 | P25: https://hero.epa.gov/reference/1064974/
A26: 50% of Entire Body Surface Area | B26: 122.94361 | C26: 128.49162 | D26: 139.96479 | P26: HERO No. = | Q26: 1064974
A27: 25% of Face, Hands, and Arms | B27: 15.753353 | C27: 14.909218 | D27: 16.373239 | R27: High intensity use exposure scenario | S27: 2.1 | T27: mg/cm2-event
A28: Both Hands (entire surface area) | B28: 12.387792 | C28: 11.592179 | D28: 12.676056 | R28: Medium intensity use exposure scenario | S28: 1.4 | T28: mg/cm2-event
A29: Inside of two hands (palms, fingers) | B29: 6.1938959 | C29: 5.7960894 | D29: 6.3380282 | R29: Low intensity use exposure scenario | S29: 0.7 | T29: mg/cm2-event
A30: Inside of one hand (palms, fingers) | B30: 3.0969479 | C30: 2.8980447 | D30: 3.1690141
A31: 10% of Hands (some fingers) | B31: 1.2387792 | C31: 1.1592179 | D31: 1.2676056
A34: Equations and Calculations
J35: Not use for this analysis. Qu used was that from US EPA 1992 study
A36: From CEM Version 3.2 Equations 95 and 96 | J36: From CEM Version 3.2 Equation 94
J39: Qu = Amount Retained on Skin (mg/cm2-event)
A40: DD = Daily Dose (mg/kg-day) | J40: FT = Film thickness (cm), CEM default for all-purpose waxes and polishes (density of 1.017 g/cm3) = 0.0021 cm
A41: Qu = Amount Retained on Skin (mg/cm2-event) | J41: ρ = Density of formulation (g/cm3)
A42: WF = Weight Fraction | J42: FracRemove = Fraction of product removed by washing or wearing (unitless), assuming 0
A43: fabs = Fraction Absorbed | J43: CF1 = Conversion factor (1000 mg/g)
A44: FQ = Frequency of Contact | K44: Density (g/cm3) | L44: Film Thickness (cm) | M44: CF1 | N44: Qu (mg/cm2-event)
A45: · Acute: (events/day) | J45: Cera Fluida Classic Liquid Wax | K45: 1.1 | L45: 0.0021 | M45: 1000 | N45: =K45*L45*M45 -> 2.31
A46: · Chronic: (events/year) | J46: UniBlack2 black granite treatment | K46: 0.91 | L46: 0.0021 | M46: 1000 | N46: =K46*L46*M46 -> 1.911
...

Sheet Dermal Sensitivity Analysis
C1: Dermal Calculations for Consumer Scenarios
A2: COU | B2: Sub Category COU | C2: Product/Article Name | D2: Exposure Level | E2: User(s) [A zero indicates that the population was not assessed for dermal exposure] | N2: Dose per event mg/kg bw | Q2: Acute Dose mg/kg bw day | T2: Acute Non-Cancer Risk (MOE) | W2: Chronic Dose mg/kg bw year | Z2: Chronic Non-Cancer Risk (MOE) | AD2: Chronic Risk HED | AE2: Dermal Benchmark
E3: Adult | F3: Youth | G3: Weight Fraction (Decimal) | H3: Frequency (chronic) | I3: Frequency (acute) | J3: Qu (mg/cm2-event | K3: Fraction Absorbed (Test Order) | L3: Dermal Absorption per event Qu * WF * Fabs (mg/cm2-event) | M3: Contact Area | N3: ADULTS ≥21 | O3: YOUTHS (16-20) | P3: YOUTHS (11 to <15) | Q3: ADULTS >21 | R3: YOUTHS (16-20) | S3: YOUTHS (11 to <15) | T3: ADULTS >21 | U3: YOUTHS (16-20) | V3: YOUTHS (11 to <15) | W3: ADULTS >21 | X3: YOUTHS (16-20) | Y3: YOUTHS (11 to <15) | Z3: ADULTS >21 | AA3: YOUTHS (16-20) | AB3: YOUTHS (11 to <15) | AD3: ='Hazard Equations & Inputs'!M6 -> 7.2 | AE3: =30 -> 30
AD4: Overall Sensitivity Analysis Figure. Not shown in RE | AR4: Figure 5-4
A5: Cleaning and furnishing care product | B5: All-purpose liquid cleaner/polish | C5: ='COU Crosswalk'!C3 -> Cera Fluida Classic Liquid Wax | D5: High | E5: 1 | F5: 1 | G5: =('COU Crosswalk'!L3)/100 -> 0.5412 | H5: 1 | I5: 1 | J5: 2.1 | K5: =$M$53 -> 0.015508 | L5: =J5*G5*K5 -> 0.017625152 | M5: Inside of two hands (palms, fingers) | N5: =(INDEX('Dermal Sensitivity Analysis'!$B$55:$D$61, MATCH($M5,'Dermal Sensitivity Analysis'!$A$55:$A$61, 0), MATCH(N$3, 'Dermal Sensitivity Analysis'!$B$54:$D$54, 0)))*$L5*$E5 -> 0.10916836 | O5: =(INDEX('Dermal Sensitivity Analysis'!$B$55:$D$61, MATCH($M5,'Dermal Sensitivity Analysis'!$A$55:$A$61, 0), MATCH(O$3, 'Dermal Sensitivity Analysis'!$B$54:$D$54, 0)))*$L5*$F5 -> 0.10215696 | P5: =(INDEX('Dermal Sensitivity Analysis'!$B$55:$D$61, MATCH($M5,'Dermal Sensitivity Analysis'!$A$55:$A$61, 0), MATCH(P$3, 'Dermal Sensitivity Analysis'!$B$54:$D$54, 0)))*$L5*$F5 -> 0.11170871 | Q5: =N5*$I5 -> 0.10916836 | R5: =O5*$I5 -> 0.10215696 | S5: =P5*$I5 -> 0.11170871 | T5: =$AD$3/Q5 -> 65.953177 | U5: =$AD$3/R5 -> 70.479781 | V5: =$AD$3/S5 -> 64.453344 | W5: n/a | X5: n/a | Y5: n/a | Z5: n/a | AA5: n/a | AB5: n/a | AD5: Youth 11 to 15 Years of Age Inside of Two Hands Sensitivity Analysis Matrix | AR5: Youth 11 to 15 Years of Age Inside of Two Hands Sensitivity Analysis Matrix | BE5: Figure 5-3
D6: Sensitivity High | E6: 1 | F6: 1 | G6: =G5 -> 0.5412 | H6: 1 | I6: 1 | J6: 2.1 | K6: =$M$53 -> 0.015508 | L6: =J6*G6*K6 -> 0.017625152 | M6: Both Hands (entire surface area) | N6: =(INDEX('Dermal Sensitivity Analysis'!$B$55:$D$61, MATCH($M6,'Dermal Sensitivity Analysis'!$A$55:$A$61, 0), MATCH(N$3, 'Dermal Sensitivity Analysis'!$B$54:$D$54, 0)))*$L6*$E6 -> 0.21833671 | O6: =(INDEX('Dermal Sensitivity Analysis'!$B$55:$D$61, MATCH($M6,'Dermal Sensitivity Analysis'!$A$55:$A$61, 0), MATCH(O$3, 'Dermal Sensitivity Analysis'!$B$54:$D$54, 0)))*$L6*$F6 -> 0.20431391 | P6: =(INDEX('Dermal Sensitivity Analysis'!$B$55:$D$61, MATCH($M6,'Dermal Sensitivity Analysis'!$A$55:$A$61, 0), MATCH(P$3, 'Dermal Sensitivity Analysis'!$B$54:$D$54, 0)))*$L6*$F6 -> 0.22341742 | Q6: =N6*$I6 -> 0.21833671 | R6: =O6*$I6 -> 0.20431391 | S6: =P6*$I6 -> 0.22341742 | T6: =$AD$3/Q6 -> 32.976589 | U6: =$AD$3/R6 -> 35.239891 | V6: =$AD$3/S6 -> 32.226672 | W6: n/a | X6: n/a | Y6: n/a | Z6: n/a | AA6: n/a | AB6: n/a | AD6: Chronic freq = 365 events per year, fraction absorbed = 1.16%; weight fraction outside reported range | AR6: Acute freq = 1 event per day, fraction absorbed = 1.55%; weight fraction outside reported range | BE6: Youth 11 to 15 Years of Age Inside of Two Hands Sensitivity Analysis Matrix
D7: Sensitivity High | E7: 1 | F7: 1 | G7: =G6 -> 0.5412 | H7: 1 | I7: 1 | J7: 1.4 | K7: =$M$53 -> 0.015508 | L7: =J7*G7*K7 -> 0.011750101 | M7: Both Hands (entire surface area) | N7: =(INDEX('Dermal Sensitivity Analysis'!$B$55:$D$61, MATCH($M7,'Dermal Sensitivity Analysis'!$A$55:$A$61, 0), MATCH(N$3, 'Dermal Sensitivity Analysis'!$B$54:$D$54, 0)))*$L7*$E7 -> 0.14555781 | O7: =(INDEX('Dermal Sensitivity Analysis'!$B$55:$D$61, MATCH($M7,'Dermal Sensitivity Analysis'!$A$55:$A$61, 0), MATCH(O$3, 'Dermal Sensitivity Analysis'!$B$54:$D$54, 0)))*$L7*$F7 -> 0.13620928 | P7: =(INDEX('Dermal Sensitivity Analysis'!$B$55:$D$61, MATCH($M7,'Dermal Sensitivity Analysis'!$A$55:$A$61, 0), MATCH(P$3, 'Dermal Sensitivity Analysis'!$B$54:$D$54, 0)))*$L7*$F7 -> 0.14894495 | Q7: =N7*$I7 -> 0.14555781 | R7: =O7*$I7 -> 0.13620928 | S7: =P7*$I7 -> 0.14894495 | T7: =$AD$3/Q7 -> 49.464883 | U7: =$AD$3/R7 -> 52.859836 | V7: =$AD$3/S7 -> 48.340008 | W7: n/a | X7: n/a | Y7: n/a | Z7: n/a | AA7: n/a | AB7: n/a | AD7: Chronic freq = 365 events per year, fraction absorbed = 1.16% | AR7: Acute freq = 1 event per day, fraction absorbed = 1.55% | BE7: Acute freq = 1 event per day; fraction absorbed = 1.09%; WF outside reported range
D8: Sensitivity High | E8: 1 | F8: 1 | G8: =G5 -> 0.5412 | H8: 1 | I8: 1 | J8: 2.3 | K8: =$M$53 -> 0.015508 | L8: =J8*G8*K8 -> 0.019303738 | M8: Inside of two hands (palms, fingers) | N8: =(INDEX('Dermal Sensitivity Analysis'!$B$55:$D$61, MATCH($M8,'Dermal Sensitivity Analysis'!$A$55:$A$61, 0), MATCH(N$3, 'Dermal Sensitivity Analysis'!$B$54:$D$54, 0)))*$L8*$E8 -> 0.11956534 | O8: =(INDEX('Dermal Sensitivity Analysis'!$B$55:$D$61, MATCH($M8,'Dermal Sensitivity Analysis'!$A$55:$A$61, 0), MATCH(O$3, 'Dermal Sensitivity Analysis'!$B$54:$D$54, 0)))*$L8*$F8 -> 0.11188619 | P8: =(INDEX('Dermal Sensitivity Analysis'!$B$55:$D$61, MATCH($M8,'Dermal Sensitivity Analysis'!$A$55:$A$61, 0), MATCH(P$3, 'Dermal Sensitivity Analysis'!$B$54:$D$54, 0)))*$L8*$F8 -> 0.12234764 | Q8: =N8*$I8 -> 0.11956534 | R8: =O8*$I8 -> 0.11188619 | S8: =P8*$I8 -> 0.12234764 | T8: =$AD$3/Q8 -> 60.218118 | U8: =$AD$3/R8 -> 64.351105 | V8: =$AD$3/S8 -> 58.848706 | W8: n/a | X8: n/a | Y8: n/a | Z8: n/a | AA8: n/a | AB8: n/a | AD8: Acute freq = 1 event per day; Chronic freq = 1 event per year; fraction absorbed = 1.09%; weight fraction outside reported range | AR8: Acute freq = 1 event per day; Chronic freq = 1 event per year; fraction absorbed = 1.55%; weight fraction outside reported range | BE8: Acute freq = 1 event per day; fraction absorbed = 1.55%
D9: Sensitivity High | E9: 1 | F9: 1 | G9: =G8 -> 0.5412 | H9: 1 | I9: 1 | J9: 2.3 | K9: =$M$53 -> 0.015508 | L9: =J9*G9*K9 -> 0.019303738 | M9: Both Hands (entire surface area) | N9: =(INDEX('Dermal Sensitivity Analysis'!$B$55:$D$61, MATCH($M9,'Dermal Sensitivity Analysis'!$A$55:$A$61, 0), MATCH(N$3, 'Dermal Sensitivity Analysis'!$B$54:$D$54, 0)))*$L9*$E9 -> 0.23913069 | O9: =(INDEX('Dermal Sensitivity Analysis'!$B$55:$D$61, MATCH($M9,'Dermal Sensitivity Analysis'!$A$55:$A$61, 0), MATCH(O$3, 'Dermal Sensitivity Analysis'!$B$54:$D$54, 0)))*$L9*$F9 -> 0.22377238 | P9: =(INDEX('Dermal Sensitivity Analysis'!$B$55:$D$61, MATCH($M9,'Dermal Sensitivity Analysis'!$A$55:$A$61, 0), MATCH(P$3, 'Dermal Sensitivity Analysis'!$B$54:$D$54, 0)))*$L9*$F9 -> 0.24469527 | Q9: =N9*$I9 -> 0.23913069 | R9: =O9*$I9 -> 0.22377238 | S9: =P9*$I9 -> 0.24469527 | T9: =$AD$3/Q9 -> 30.109059 | U9: =$AD$3/R9 -> 32.175552 | V9: =$AD$3/S9 -> 29.424353 | W9: n/a | X9: n/a | Y9: n/a | Z9: n/a | AA9: n/a | AB9: n/a | AD9: Acute freq = 1 event per day; Chronic freq = 1 event per year; fraction absorbed = 1.55% | AR9: Acute freq = 1 event per day; Chronic freq = 1 event per year; fraction absorbed = 1.55% | BE9: Youth 11 to 15 years skin surface area to body weight ratio = 6.34
D10: Medium | E10: 1 | F10: 1 | G10: =G5 -> 0.5412 | H10: 1 | I10: =I5 -> 1 | J10: 1.4 | K10: =$M$53 -> 0.015508 | L10: =J10*G10*K10 -> 0.011750101 | M10: Inside of two hands (palms, fingers) | N10: =(INDEX('Dermal Sensitivity Analysis'!$B$55:$D$61, MATCH($M10,'Dermal Sensitivity Analysis'!$A$55:$A$61, 0), MATCH(N$3, 'Dermal Sensitivity Analysis'!$B$54:$D$54, 0)))*$L10*$E10 -> 0.072778905 | O10: =(INDEX('Dermal Sensitivity Analysis'!$B$55:$D$61, MATCH($M10,'Dermal Sensitivity Analysis'!$A$55:$A$61, 0), MATCH(O$3, 'Dermal Sensitivity Analysis'!$B$54:$D$54, 0)))*$L10*$F10 -> 0.068104638 | P10: =(INDEX('Dermal Sensitivity Analysis'!$B$55:$D$61, MATCH($M10,'Dermal Sensitivity Analysis'!$A$55:$A$61, 0), MATCH(P$3, 'Dermal Sensitivity Analysis'!$B$54:$D$54, 0)))*$L10*$F10 -> 0.074472474 | Q10: =N10*$I10 -> 0.072778905 | R10: =O10*$I10 -> 0.068104638 | S10: =P10*$I10 -> 0.074472474 | T10: =$AD$3/Q10 -> 98.929766 | U10: =$AD$3/R10 -> 105.71967 | V10: =$AD$3/S10 -> 96.680016 | W10: n/a | X10: n/a | Y10: n/a | Z10: n/a | AA10: n/a | AB10: n/a | AD10: Youth 11 to 15 years skin surface area to body weight ratio = 6.34 | AR10: Youth 11 to 15 years skin surface area to body weight ratio = 6.34 | BE10: Matrix content = MOEs Dermal Benchmark < 30 | BG10: Weight Fraction (%)
