Workbook
Name _2017NEI_Nonpoint_TSCA_Chem_List: #REF!
Name _2017NEI_tsca_chemicals_wSCCdetail_Query: #REF!
Name _8_hr: 8
Name _Hlk219824212: 'Dermal Exposure'!$A$41
Name _Hlk219824212: 'Dermal Sensitivity Analysis'!$A$71
Name _Hlk219824212: 'Inhalation Exposure (mg m3)'!#REF!
Name _Hlk219824212: 'Inhalation Exposure (ppm)'!#REF!
Name AT: #REF!
Name AT_50th_non_cancer: #REF!
Name AT_50th_non_cancer_DC: #REF!
Name AT_95th_non_cancer: #REF!
Name AT_95th_non_cancer_DC: #REF!
Name AT_AC: #REF!
Name AT_AC_DC: #REF!
Name AT_ADC_high: #REF!
Name AT_ADC_mid: #REF!
Name AT_cancer: #REF!
Name AT_cancer_DC: #REF!
Name AT_LADC: #REF!
Name AWD: #REF!
Name AWD_DC_50th: #REF!
Name AWD_DC_95th: #REF!
Name BW_default: #REF!
Name BW_F: #REF!
Name CASRN: #REF!
Name CEM_Input__Area_of_Article_Mouthed: #REF!
Name CEM_Input__Chemical_Migration_Rate: #REF!
Name CEM_Input__Mouthing_Duration: #REF!
Name CEM_Input__Product_Density: #REF!
Name CEM_Input__Surface_Area_of_Articles: #REF!
Name ED: #REF!
Name ED_8: #REF!
Name ED_AC: #REF!
Name ED_AC_DC: #REF!
Name ED_chronic: #REF!
Name ED_chronic_DC: #REF!
Name EF: #REF!
Name EFID: #REF!
Name ID: #REF!
Name LT: #REF!
Name Mol_Vol: #REF!
Name MW: #REF!
Name Registry_ID_Xwalk: #REF!
Name Registry_ID_Xwalk: #REF!
Name WorkBreathRate: #REF!
Name WY_50th: #REF!
Name WY_50th_DC: #REF!
Name WY_95th: #REF!
Name WY_95th_DC: #REF!
Name WY_high: #REF!
Name WY_high: #REF!
Name WY_mid: #REF!
Name WY_mid: #REF!

Sheet Title Page
A1: PUBLIC RELEASE DRAFT
A2: July 2026
A4: Draft Consumer Exposure Analysis and Risk Calculator
A6: CASRN 78-87-5

Sheet Table of Contents
A1: Table of Contents
A3: Tab Name | B3: Description
A4: Hazard Equations & Inputs | B4: Contains human hazard values used in the calculation of margin of exposure (MOE) values
A5: P-Chem | B5: Values for physical chemical properties used in consumer modeling
A6: Use Report Information | B6: Provides snip picture of consumer related information from Use Report
A7: COU Crosswalk | B7: Crosswalk of products identified by EPA Use Report to COUs and consumer scenarios
A8: General Inputs | B8: Compilation of used information from product SDSs, TDSs, and online search
A9: Compiled Products | B9: Inputs for product consumer scenarios compiled in one tab
A10: Dermal Exposure | B10: Inputs, calculations, and dermal exposure estimates for consumer scenarios
A11: Dermal Sensitivity Analysis | B11: Inputs, calculations, and dermal exposure estimates for the dermal sensitivity analysis

Sheet Hazard Equations & Inputs
A1: NONCANCER HEDs AND HECs for 1,2-DICHLOROPROPANE
B3: STUDY INFO | L3: ORAL/DERMAL | O3: INHALATIONb
A4: Exposure | B4: Health | C4: Exposure | D4: Exposure | E4: Species | F4: Doses* | G4: POD Type | H4: Effect at LOAEL | I4: POD | J4: Reference | K4: HERO ID | L4: DAFa | M4: HED-Daily (mg/kg-day) | N4: Total UF (UFA = 3; UFH = 10, UFL = 1 or 10) | O4: HEC-Daily, 24 hr (mg/m3) | P4: HEC-Daily, 24 hr (ppm)c | Q4: Total UF (UFA = 3; UFH = 10, UFL = 1 or 10)
A5: Scenario | B5: Outcome | C5: Route | D5: Duration | E5: (sex) | F5: (mg/kg/day) M/F | I5: (mg/kg-day)
A6: Acute | B6: Neurological | C6: Oral/Dermal | D6: GD6-15 | E6: Rats | G6: NOAEL | H6: CNS Depression | I6: 30 | J6: Kirk, 1995 | K6: 688858 | M6: 7.2 | N6: 30
A7: Acute | B7: Neurological | C7: Inhalation | D7: GD6-15 | E7: Rats | G7: NOAEL | H7: CNS Depression | I7: 30 | J7: Kirk, 1995 | K7: 688858 | O7: 39 | P7: 8.4 | Q7: 30
A8: Intermediate | B8: Neurological | C8: Oral/Dermal | D8: GD6-15 | E8: Rats | G8: NOAEL | H8: CNS Depression | I8: 30 | J8: Kirk, 1995 | K8: 688858 | M8: 7.2 | N8: 30
A9: Intermediate | B9: Respiratory | C9: Inhalation | D9: 13 weeks | E9: Rats | H9: Nasal lesions | O9: 0.25 | P9: 0.054 | Q9: 30
A10: Chronic | B10: Neurological | C10: Oral/Dermal | D10: GD6-15 | E10: Rats | G10: NOAEL | H10: CNS Depression | I10: 30 | J10: Kirk, 1995 | K10: 688858 | M10: 7.2 | N10: 30
A11: Chronic | B11: Respiratory | C11: Inhalation | D11: 13 weeks | E11: Rats | H11: Nasal lesions | O11: 0.25 | P11: 0.054 | Q11: 30
B18: aDosimetric adjustment factors (DAFs)
B19: Species | D19: Animal bw (kg)* | E19: DAF based
E20: on 80 kg
B21: Mouse | D21: 0.025 | E21: 0.1329574
B22: Rat | D22: 0.25 | E22: 0.2364354
B23: Dog | D23: 12 | E23: 0.62233298
B24: *Body weights from Recommended Use of Body Weight 3/4 as the Default Method in Derivation of the Oral Reference Dose(U.S. EPA, 2011).
B26: b Conversion to Inhalation HEC
B27: Breathing rate (m3/hr) | D27: 0.6125
B28: Hrs/day | D28: 24
B29: Body weight (adult) | D29: 80
B31: c Conversion from mg/m3 to ppm
B32: Molar volume of gas at standard temp/pressure (L/mol) | D32: 24.45
B33: 12DCP molecular weight | D33: 112.99

Sheet P-Chem
A1: Physical and Chemical Properties for DEHP Used in Consumer Modeling
A2: 1,2-Dichloropropane CAS 78875
A3: Property or Endpoint | B3: Mean | C3: Selected Value | D3: Unit
A4: Molecular weight | C4: 112.99 | D4: g/mol
A5: Vapor pressure | C5: 49.66 | D5: mm Hg
A6: Water solubility | C6: 2740 | D6: mg/L
A7: Octanol/water partition coefficient (log Kow) | C7: 1.99 | D7: -
A8: Henry’s Law constant | C8: 0.00282 | D8: atm·m3/mol
A9: Octanol/air partition coefficient (log KOA) | D9: -
A11: Source of physical and chemical properties information: Draft Chemistry, Fate, Release, and Exposure Assessment for 1,2-Dichloropropane

Sheet Use Report Information
A1: Use Report for 1,2-Dichloropropane (CASRN 78-87-5) | H1: Hero No. | I1: 11350096
A21: Product | B21: HERO No.
A22: Cera TeWax | B22: 6191173
A23: Cera Fluida | B23: 6183572
A24: Cera Distaccante | B24: 6191178
A25: Lustro Italiano Stone Polish | B25: 6184099
A26: W&S Ultra Premium Sealer | B26: 6183646

Sheet COU Crosswalk
A1: COU | B1: Sub Category COU | C1: Use Scenario Name for Modeling | D1: Exposures Modeled | E1: Frequency of Exposure (Acute and/or Chronic) | F1: CEM ENV | G1: Source | H1: Product Name | I1: Manufacturer | J1: Weight Fractions (%) | M1: Form | N1: Density (g/cm3) | O1: Product Size and Format | P1: Use Description
J2: Min | K2: Average/Mid | L2: Max
A3: Cleaning and furnishing care product | B3: All-purpose liquid cleaner/polish | C3: Cera Fluida Classic Liquid Wax | D3: Inhalation and dermal | E3: Only acute, because application is once every 2 years | F3: Kitchen | G3: SDS | H3: Cera Fluida Classic Liquid Wax | I3: Tenax | L3: 54.12 | M3: Liquid | N3: 1.1 | O3: 20 - 30m2 per liter | P3: Solution waxes to protect and brighten Adhesive system/ treatment for stone sector. Video from the Tenax link below by the product, shows the used pouring from the container onto the surface, spreading with a rag, and then buffing. Assuming no gloves use, direct dermal contact can be expected during application.
A4: Cleaning and furnishing care product | B4: All-purpose liquid cleaner/polish | C4: UniBlack2 black granite treatment | D4: Inhalation and dermal | E4: Only acute, because application is once every 2 years | F4: Kitchen | G4: SDS | H4: UniBlack2 black granite treatment | I4: Tenax | J4: 30 | K4: 40 | L4: 50 | M4: Liquid | N4: 0.91 | O4: 215 - 323 ft2 per quart | P4: YouTube video (see link below by product information) shows user pouring from container a splash, spreading with a plastic spreader, then removing excess with rag. Assuming no gloves are used for application.
A5: Cleaning and furnishing care product | B5: All-purpose waxes and polishes (paste) | C5: Cera TeWax | D5: Inhalation and dermal | E5: Only acute, because application is once every 2 years | F5: Kitchen | G5: SDS | H5: Cera TeWax | I5: Tenax | J5: 30 | K5: 40 | L5: 50 | M5: Paste | N5: 1.1 | O5: 20 - 30m2 per liter | P5: Wax for natural stones. Spread wax uniformly on surface using a clean sponge or cloth. Let the wax completely dry and clean with a clean cloth. If wax is not dry it will not shine after removal. Remove any excess immediately.
A6: Cleaning and furnishing care product | B6: All-purpose waxes and polishes (paste) | C6: Quartz Toner | D6: Inhalation and dermal | E6: Only acute, because application is once every 2 years | F6: Kitchen | G6: SDS | H6: Quarzo (Quartz Toner) | I6: Tenax | J6: 1 | K6: =AVERAGE(J6,L6) -> 2.25 | L6: 3.5 | M6: Paste | N6: 0.88 | O6: 250 - 300 ft2 per liter | P6: Wax for quartz. Apply product to a completely clean and dry surface. Spread the product using a brush, cloth, sponge or spray gun. Apply as much product as the material can absorb. After a few seconds clean (buff) the surface with a cloth to avoid the formation of glossy and sticky films. Repeat after 10-15 minutes. If using on the floor do not walk on the surface for 24 hours. 1 Liter covers approximately 250-300 sq feet
A7: Cleaning and furnishing care product | B7: All-purpose liquid spray cleaner/polish | C7: Lustro Italiano | D7: Inhalation and dermal | E7: Acute and chronic. | F7: Kitchen | G7: SDS | H7: Lustro Italiano | I7: Tenax | J7: 1 | K7: =AVERAGE(J7,L7) -> 2.25 | L7: 3.5 | M7: Liquid spray | N7: 0.8 | O7: 32 fl oz | P7: Spray cleaner and polish. Spray surface and let Lustro Italiano stone cleaner sit for approximately 30 seconds before wiping with a sponge or light-duty pad. Wipe dry with paper towel, changing towels frequently.
A9: Product Research:
A10: Cera Fluida Classic Liquid Wax
A11: Liquid
A12: Use based on Technical Data Sheet (TDS)
A13: Last accessed on 14-Jul-2026
A14: https://www.amazon.com/Tenax-Fluida-Clear-Liquid-Liter/dp/B0016ZWB28
A15: https://tenaxusa.com/products/cera-fluida?srsltid=AfmBOorhRR5GFWcSt57YCyIqOa_Tt9tw2hefuPpvBIsa_LIu4RYrHZxo
A16: https://atlaspreservation.com/products/liquid-wax-cera-fluida-1-quart?srsltid=AfmBOor2W4wxfo4MkqNVHC7oE5huaNSiFB8ADlni6vfGBt7UttnH4_NV
A17: SDS and TDS were updated to show recent reformulation not containing DCP. The information on the TDS is used to garner product use information for modeling purposes.
A18: This product will last at least 2 years, thus older formulations containing DCP are likely to be in use after reformulation.
A38: UniBlack2
A39: Liquid
... A119: https://www.youtube.com/watch?v=qchXa89ewt4

Sheet General Inputs
A1: COU | B1: Sub Category COU | C1: Use Scenario Name for Modeling | D1: Exposure Scenario | E1: Counter area (ft2) | F1: Counter area (m2) | G1: Coverage area ft2 | H1: Amount of product in ml | I1: Density of product | J1: Amount of product per use in grams | K1: Duration of use | L1: Weight Fraction (%) | M1: Room of Use
A2: Cleaning and furnishing care product | B2: All-purpose liquid cleaner/polish | C2: Cera Fluida Classic Liquid Wax | D2: High | E2: 60 | F2: 5.6 | G2: 20 | H2: =(F2/G2)*1000 -> 280 | I2: 1.1 | J2: =H2*I2 -> 308 | K2: 120 | L2: 54.12 | M2: Kitchen
D3: Medium | E3: 40 | F3: 3.7 | G3: 20 | H3: =(F3/G3)*1000 -> 185 | I3: 1.1 | J3: =H3*I3 -> 203.5 | K3: 90 | L3: 54.12 | M3: Kitchen
D4: Low | E4: 30 | F4: 2.8 | G4: 20 | H4: =(F4/G4)*1000 -> 140 | I4: 1.1 | J4: =H4*I4 -> 154 | K4: 60 | L4: 54.12 | M4: Kitchen
A5: Typical kitchen countertops area coverage 30 to 60 ft2, see snip pic of online search output below. Last accessed 7-Apr-2026
A6: Coverage area obtained from product application rate. Information was provided by online retailer and distributor information. See COU Crosswalk Tab Product Size and Format column
A8: COU | B8: Sub Category COU | C8: Use Scenario Name for Modeling | D8: Exposure Scenario | E8: Counter area (ft2) | F8: Coverage area (ft2) | G8: Coverage area (1 quart = 946.353 ml) | H8: Amount of product in ml | I8: Density of product | J8: Amount of product per use in grams
A9: Cleaning and furnishing care product | B9: All-purpose liquid cleaner/polish | C9: UniBlack2 black granite treatment | D9: High | E9: 60 | F9: 215 | G9: 946.353 | H9: =(E9*G9)/F9 -> 264.09851 | I9: 0.91 | J9: =H9*I9 -> 240.32965
D10: Medium | E10: 40 | F10: 215 | G10: 946.353 | H10: =(E10*G10)/F10 -> 176.06567 | I10: 0.91 | J10: =H10*I10 -> 160.21976
D11: Low | E11: 30 | F11: 215 | G11: 946.353 | H11: =(E11*G11)/F11 -> 132.04926 | I11: 0.91 | J11: =H11*I11 -> 120.16482
A12: Typical kitchen countertops area coverage 30 to 60 ft2, see snip pic of online search output below. Last accessed 7-Apr-2026
A13: Coverage area obtained from product application rate. Information was provided by online retailer and distributor information. See COU Crosswalk Tab Product Size and Format column
A15: COU | B15: Sub Category COU | C15: Use Scenario Name for Modeling | D15: Exposure Scenario | E15: Counter area (ft2) | F15: Counter area (m2) | G15: Coverage area ft2 | H15: Amount of product in ml | I15: Density of product | J15: Amount of product per use in grams
A16: Cleaning and furnishing care product | B16: All-purpose waxes and polishes (paste) | C16: Cera TeWax | D16: High | E16: 60 | F16: 5.6 | G16: 20 | H16: =(F16/G16)*1000 -> 280 | I16: 1.1 | J16: =H16*I16 -> 308
D17: Medium | E17: 40 | F17: 3.7 | G17: 20 | H17: =(F17/G17)*1000 -> 185 | I17: 1.1 | J17: =H17*I17 -> 203.5
D18: Low | E18: 30 | F18: 2.8 | G18: 20 | H18: =(F18/G18)*1000 -> 140 | I18: 1.1 | J18: =H18*I18 -> 154
A19: Typical kitchen countertops area coverage 30 to 60 ft2, see snip pic of online search output below. Last accessed 7-Apr-2026
A20: Coverage area obtained from product application rate. Information was provided by online retailer and distributor information. See COU Crosswalk Tab Product Size and Format column
A22: COU | B22: Sub Category COU | C22: Use Scenario Name for Modeling | D22: Exposure Scenario | E22: Counter area (ft2) | F22: Coverage area per use(ft2) | G22: Coverage area (1 liter = 1000 ml) | H22: Amount of product in ml | I22: Density of product (from original SDS) | J22: Amount of product per use in grams
A23: Cleaning and furnishing care product | B23: All-purpose waxes and polishes (paste) | C23: Quartz Toner | D23: High | E23: 60 | F23: 250 | G23: 1000 | H23: =(E23*G23)/F23 -> 240 | I23: 0.88 | J23: =H23*I23 -> 211.2
D24: Medium | E24: 40 | F24: 250 | G24: 1000 | H24: =(E24*G24)/F24 -> 160 | I24: 0.88 | J24: =H24*I24 -> 140.8
D25: Low | E25: 30 | F25: 250 | G25: 1000 | H25: =(E25*G25)/F25 -> 120 | I25: 0.88 | J25: =H25*I25 -> 105.6
A26: Typical kitchen countertops area coverage 30 to 60 ft2, see snip pic of online search output below. Last accessed 7-Apr-2026
A27: Coverage area obtained from product application rate. Information was provided by online retailer and distributor information. See COU Crosswalk Tab Product Size and Format column
A29: COU | B29: Sub Category COU | C29: Use Scenario Name for Modeling | D29: Exposure Scenario | E29: Assumption (min) | F29: Counter area (ft2) | G29: Coverage area per use (mm2) | H29: Coverage area (255 mm or squared = 65025mm2/spray) | I29: Amount of product in ml (0.14 ml/spray) | J29: Density of product (from original SDS) | K29: Amount of product per use in grams | L29: Duration of use/ Time (need to translate based on volume used/rate
A30: Cleaning and furnishing care product | B30: All-purpose liquid spray cleaner/polish | C30: Lustro Italiano | D30: High | E30: 15 | F30: 60 | G30: 5574000 | H30: =G30/65025 -> 85.720877 | I30: =H30*0.14 -> 12.000923 | J30: 0.8 | K30: =I30*J30 -> 9.6007382
D31: Medium | E31: 10 | F31: 40 | G31: 3716000 | H31: =G31/65025 -> 57.147251 | I31: =H31*0.14 -> 8.0006151 | J31: 0.8 | K31: =I31*J31 -> 6.4004921
D32: Low | E32: 5 | F32: 30 | G32: 2787000 | H32: =G32/65025 -> 42.860438 | I32: =H32*0.14 -> 6.0004614 | J32: 0.8 | K32: =I32*J32 -> 4.8003691
A34: Source for volume and amount of sprays per bottle
A35: https://gamutpackaging.com/blogs/resources/understanding-spray-bottle-capacity-how-many-sprays-are-in-common-sizes?srsltid=AfmBOopDgEyckhVaASm1VnIfU4GWlj-vXIkOGWoiGlhW6gUyMtkNTcHJ
A36: 0.14 ml per spray
A37: Source for spray coverage:
A38: https://www.lorric.com/en/Articles/nozzle/all/spray-angle-intro#topic3
A39: 8 inches at 65 degree angle converted to approx 200mm at 65 degree angle = 255 mm of coverage
A42: Online search for typical kitchen countertops area coverage, last accessed on 7-Apr-2026

Sheet CeraFluida
A1: CeraFluida
A2: Liquid
A3: Use based on Technical Data Sheet (TDS)
A4: 20 - 30m2 per liter
A6: Exposure Scenario | B6: Counter area (ft2) | C6: Counter area (m2) | D6: Coverage area | E6: Amount of product in ml | F6: Density of product | G6: Amount of product per use in grams | H6: Duration of use | I6: Wt Fraction | J6: Room of Use | K6: Size of Room of Use
A7: High | B7: 60 | C7: 5.6 | D7: 20 | E7: =(C7/D7)*1000 -> 280 | F7: 1.1 | G7: =E7*F7 -> 308 | H7: 120 | I7: 54.12 | J7: Kitchen
A8: Medium | B8: 40 | C8: 3.7 | D8: 20 | E8: =(C8/D8)*1000 -> 185 | F8: 1.1 | G8: =E8*F8 -> 203.5 | H8: 90 | I8: 54.12 | J8: Kitchen
A9: Low | B9: 30 | C9: 2.8 | D9: 20 | E9: =(C9/D9)*1000 -> 140 | F9: 1.1 | G9: =E9*F9 -> 154 | H9: 60 | I9: 54.12 | J9: Kitchen
A34: CEM OUTPUTS | B34: (Scenario: All-purpose waxes and polishes)
A35: High
B36: Chronic ADC Zone1 (mg/m3) | C36: Chronic ADC Zone 2 (mg/m3) | D36: Peak Concentration (mg/m3) | E36: Inh risk cal
A37: Adult | B37: 0.172 | C37: 0.0325 | D37: 854 | E37: =39/D37 -> 0.045667447
A38: Youth/Child/Infant | B38: 0.0142 | C38: 0.0495 | D38: 194 | E38: =39/D38 -> 0.20103093
A40: Medium
B41: Chronic ADC Zone1 (mg/m3) | C41: Chronic ADC Zone 2 (mg/m3) | D41: Peak Concentration (mg/m3) | E41: Inh risk cal
A42: Adult | B42: 0.126 | C42: 0.0194 | D42: 720 | E42: =39/D42 -> 0.054166667
A43: Youth/Child/Infant | B43: 0.00823 | C43: 0.0335 | D43: 139 | E43: =39/D43 -> 0.28057554
A45: Low
B46: Chronic ADC Zone1 (mg/m3) | C46: Chronic ADC Zone 2 (mg/m3) | D46: Peak Concentration (mg/m3) | E46: Inh risk cal
A47: Adult | B47: 0.0549 | C47: 0.0193 | D47: 594 | E47: =39/D47 -> 0.065656566
A48: Youth/Child/Infant | B48: 0.00428 | C48: 0.0193 | D48: 88.3 | E48: =39/D48 -> 0.4416761
A50: CeraFluida YouTube use demonstration video;
A51: https://www.google.com/url?sa=t&rct=j&q=&esrc=s&source=web&cd=&cad=rja&uact=8&ved=2ahUKEwiAjoTfz8OVAxXMGVkFHf_qGC4QtwJ6BAgZEAI&url=https%3A%2F%2Fwww.youtube.com%2Fwatch%3Fv%3DVnXGlCxFlDw&usg=AOvVaw0NTTxoT6LclrpQZNIQECKl&opi=89978449
A53: Tenax Cera Fluida commercial:
A54: https://www.google.com/url?sa=i&source=web&rct=j&url=https://www.youtube.com/watch?v%3DI6SpzUsYwVw%26t%3D88&ved=2ahUKEwje48Xfz8OVAxUiF1kFHaXPBuwQ__QQegoIAAgACAAIDhAG&opi=89978449&cd&psig=AOvVaw0I_R6j4GuRClULFl-Ar8Ks&ust=1783618746241000

Sheet UniBlack2
A1: UniBlack2
A2: Liquid
A3: Use based on website description
A4: 215 - 323 ft2 per quart
A6: Exposure Scenario | B6: Counter area (ft2) | C6: Coverage area (ft2) | D6: Coverage area (1 quart = 946.353 ml) | E6: Amount of product in ml | F6: Density of product | G6: Amount of product per use in grams
A7: High | B7: 60 | C7: 215 | D7: 946.353 | E7: =(B7*D7)/C7 -> 264.09851 | F7: 0.91 | G7: =E7*F7 -> 240.32965
A8: Medium | B8: 40 | C8: 215 | D8: 946.353 | E8: =(B8*D8)/C8 -> 176.06567 | F8: 0.91 | G8: =E8*F8 -> 160.21976
A9: Low | B9: 30 | C9: 215 | D9: 946.353 | E9: =(B9*D9)/C9 -> 132.04926 | F9: 0.91 | G9: =E9*F9 -> 120.16482
A31: CEM OUTPUTS | B31: (Scenario: All-purpose cleaner)
A32: High
B33: Chronic ADC Zone1 (mg/m3) | C33: Chronic ADC Zone 2 (mg/m3) | D33: Peak Concentration (mg/m3) | E33: Inh risk cal
A34: Adult | B34: 0.124 | C34: 3.34 E-02 | D34: 615 | E34: =39/D34 -> 0.063414634
A35: Youth/Child/Infant | B35: 0.0102 | C35: 0.0356 | D35: 140 | E35: =39/D35 -> 0.27857143
A37: Medium
B38: Chronic ADC Zone1 (mg/m3) | C38: Chronic ADC Zone 2 (mg/m3) | D38: Peak Concentration (mg/m3) | E38: Inh risk cal
A39: Adult | B39: 0.0733 | C39: 0.0112 | D39: 417 | E39: =39/D39 -> 0.09352518
A40: Youth/Child/Infant | B40: 0.00477 | C40: 0.0194 | D40: 80.8 | E40: =39/D40 -> 0.48267327
A42: Low
B43: Chronic ADC Zone1 (mg/m3) | C43: Chronic ADC Zone 2 (mg/m3) | D43: Peak Concentration (mg/m3) | E43: Inh risk cal
A44: Adult | B44: 0.0304 | C44: 0.0107 | D44: 329 | E44: =39/D44 -> 0.11854103
A45: Youth/Child/Infant | B45: 0.00237 | C45: 0.0107 | D45: 48.9 | E45: =39/D45 -> 0.79754601

Sheet TeWax
A1: TeWax
A2: Paste Wax
A3: Use based on Technical Data Sheet (TDS)
A4: 20 - 30m2 per liter
A6: Exposure Scenario | B6: Counter area (ft2) | C6: Counter area (m2) | D6: Coverage area | E6: Amount of product in ml | F6: Density of product | G6: Amount of product per use in grams
A7: High | B7: 60 | C7: 5.6 | D7: 20 | E7: =(C7/D7)*1000 -> 280 | F7: 1.1 | G7: =E7*F7 -> 308
A8: Medium | B8: 40 | C8: 3.7 | D8: 20 | E8: =(C8/D8)*1000 -> 185 | F8: 1.1 | G8: =E8*F8 -> 203.5
A9: Low | B9: 30 | C9: 2.8 | D9: 20 | E9: =(C9/D9)*1000 -> 140 | F9: 1.1 | G9: =E9*F9 -> 154
A28: CEM OUTPUTS | B28: (Scenario: All-purpose waxes and polishes)
A29: High
B30: Chronic ADC Zone1 (mg/m3) | C30: Chronic ADC Zone 2 (mg/m3) | D30: Peak Concentration (mg/m3) | E30: Inh risk cal
A31: Adult | B31: 0.159 | C31: 3.00 E-02 | D31: 789 | E31: =39/$D$31 -> 0.049429658
A32: Youth/Child/Infant | B32: 0.0131 | C32: 0.0457 | D32: 179 | E32: =39/$D$32 -> 0.21787709
A34: Medium
B35: Chronic ADC Zone1 (mg/m3) | C35: Chronic ADC Zone 2 (mg/m3) | D35: Peak Concentration (mg/m3) | E35: Inh risk cal
A36: Adult | B36: 0.0934 | C36: 0.0143 | D36: 532 | E36: =39/$D$36 -> 0.073308271
A37: Youth/Child/Infant | B37: 0.00609 | C37: 0.0248 | D37: 103 | E37: =39/$D$37 -> 0.37864078
A39: Low
B40: Chronic ADC Zone1 (mg/m3) | C40: Chronic ADC Zone 2 (mg/m3) | D40: Peak Concentration (mg/m3) | E40: Inh risk cal
A41: Adult | B41: 0.0391 | C41: 0.0138 | D41: 422 | E41: =1.68/$D$41 -> 0.0039810427
A42: Youth/Child/Infant | B42: 0.00304 | C42: 0.0138 | D42: 62.8 | E42: =1.68/$D$42 -> 0.026751592

Sheet QuartzToner
A1: QuartzToner
A2: Liquid
A3: Amount of product based on website description of QuartzToner Plus
A4: 250 - 300 ft2 per liter
A6: Exposure Scenario | B6: Counter area (ft2) | C6: Coverage area per use(ft2) | D6: Coverage area (1 liter = 1000 ml) | E6: Amount of product in ml | F6: Density of product (from original SDS) | G6: Amount of product per use in grams
A7: High | B7: 60 | C7: 250 | D7: 1000 | E7: =(B7*D7)/C7 -> 240 | F7: 0.88 | G7: =E7*F7 -> 211.2
A8: Medium | B8: 40 | C8: 250 | D8: 1000 | E8: =(B8*D8)/C8 -> 160 | F8: 0.88 | G8: =E8*F8 -> 140.8
A9: Low | B9: 30 | C9: 250 | D9: 1000 | E9: =(B9*D9)/C9 -> 120 | F9: 0.88 | G9: =E9*F9 -> 105.6
A49: https://www.selectstonetools.com/quartz-toner-plus-250ml-p/1mpa00bg501q05.htm
A53: CEM OUTPUTS | B53: (Scenario: All-purpose waxes and polishes)
A54: High
B55: Chronic ADC Zone1 (mg/m3) | C55: Chronic ADC Zone 2 (mg/m3) | D55: Peak Concentration (mg/m3) | E55: Inh risk cal
A56: Adult | B56: 0.00762 | C56: 0.00144 | D56: 37.8 | E56: =39/D56 -> 1.031746
A57: Youth/Child/Infant | B57: 0.000629 | C57: 0.00219 | D57: 8.61 | E57: =39/D57 -> 4.5296167
A59: Medium
B60: Chronic ADC Zone1 (mg/m3) | C60: Chronic ADC Zone 2 (mg/m3) | D60: Peak Concentration (mg/m3) | E60: Inh risk cal
A61: Adult | B61: 0.00363 | C61: 0.000556 | D61: 20.7 | E61: =39/D61 -> 1.884058
A62: Youth/Child/Infant | B62: 0.000236 | C62: 0.00096 | D62: 4.01 | E62: =39/D62 -> 9.7256858
A64: Low
B65: Chronic ADC Zone1 (mg/m3) | C65: Chronic ADC Zone 2 (mg/m3) | D65: Peak Concentration (mg/m3) | E65: Inh risk cal
A66: Adult | B66: 0.000897 | C66: 0.000316 | D66: 9.69 | E66: =39/D66 -> 4.0247678
A67: Youth/Child/Infant | B67: 6.99e-05 | C67: 0.000316 | D67: 1.44 | E67: =39/D67 -> 27.083333

Sheet LustroItaliano
A1: Lustro Italiano Stone Cleaner
A2: Spray liquid
A3: Daily Cleaner in 32oz spray bottle (946.353 ml)
A6: Exposure Scenario | B6: CEM default durations | C6: Counter area (ft2) | D6: Coverage area per use (mm2) | E6: Coverage area (255 mm or squared = 65025mm2/spray) | F6: Amount of product in ml (0.14 ml/spray) | G6: Density of product (from original SDS) | H6: Amount of product per use in grams | I6: Duration of use/ Time (need to translate based on volume used/rate
A7: High | B7: 30 | C7: 60 | D7: 5574000 | E7: =D7/65025 -> 85.720877 | F7: =E7*0.14 -> 12.000923 | G7: 0.8 | H7: =F7*G7 -> 9.6007382
A8: Medium | B8: 15 | C8: 40 | D8: 3716000 | E8: =D8/65025 -> 57.147251 | F8: =E8*0.14 -> 8.0006151 | G8: 0.8 | H8: =F8*G8 -> 6.4004921
A9: Low | B9: 5 | C9: 30 | D9: 2787000 | E9: =D9/65025 -> 42.860438 | F9: =E9*0.14 -> 6.0004614 | G9: 0.8 | H9: =F9*G9 -> 4.8003691
H12: Source for volume and amount of sprays per bottle
H13: https://gamutpackaging.com/blogs/resources/understanding-spray-bottle-capacity-how-many-sprays-are-in-common-sizes?srsltid=AfmBOopDgEyckhVaASm1VnIfU4GWlj-vXIkOGWoiGlhW6gUyMtkNTcHJ
H14: 0.14 ml per spray
H15: Source for spray coverage:
H16: https://www.lorric.com/en/Articles/nozzle/all/spray-angle-intro#topic3
H17: 8 inches at 65 degree angle converted to approx 200mm at 65 degree angle = 255 mm of coverage
A36: https://www.tenax4you.com/lustro-italiano-stone-cleaner-32-fl-oz-p/lustroclean.htm
A39: Lustro Italiano™ Stone Cleaner
A40: Lustro Italiano™ stone cleaner is a bottle with attachable sprayer that contains no harsh detergents that can strip away stones natural polish. Unlike some other household solvents, this cleaner will not shorten the life of stone sealants. Lustro Italiano™ Cleaner can be used on natural stone, quartz stone, solid surface products, such as corian, as well as stainless steel and ceramic tile. Packaging specifically designed with the homeowner in mind, Lustro Italiano™ is for the showroom/retail environment and to keep customers coming back. Lustro Italiano™ uses the long history of Italian stone masters to enhance credibility. Elegant, specialized stone care products and packaging to support the consumer’s perception that stone is a valuable addition to their home. All products are UPC2 barcoded and packed in cases for easy ordering for multiple locations and shipping.
A42: Features
A43: 16 Ounce Spray Bottle
A44: Won't Break Down Sealer
A45: No Harsh Detergents
A46: Safe For Stone and Other Materials
A47: Quartz Friendly
A48: Designed for Home Owner Use
A49: Case Packaged
A52: CEM OUTPUTS | B52: (Scenario: All-purpose cleaner) | D52: Dermal changed to use permeability (e.g., wet rag scenario limits evaporation)
A53: High
B54: Chronic ADC Zone1 (mg/m3) | C54: Chronic ADC Zone 2 (mg/m3) | D54: Peak Concentration (mg/m3) | E54: Acute Inh risk cal
A55: Adult | B55: 0.138 | C55: 0.0423 | D55: 6.28 | E55: =39/D55 -> 6.2101911
A56: Youth/Child/Infant | B56: 1.36e-06 | C56: 0.0423 | D56: 0.508 | E56: =39/D56 -> 76.771654
A58: Medium
B59: Chronic ADC Zone1 (mg/m3) | C59: Chronic ADC Zone 2 (mg/m3) | D59: Peak Concentration (mg/m3) | E59: Acute Inh risk cal
A60: Adult | B60: 0.0449 | C60: 0.0127 | D60: 3.99 | E60: =39/D60 -> 9.7744361
A61: Youth/Child/Infant | B61: 4.05e-07 | C61: 0.0127 | D61: 0.186 | E61: =39/D61 -> 209.67742
A63: Low
B64: Chronic ADC Zone1 (mg/m3) | C64: Chronic ADC Zone 2 (mg/m3) | D64: Peak Concentration (mg/m3) | E64: Inh risk cal
A65: Adult | B65: 0.00841 | C65: 0.00226 | D65: 2.22 | E65: =39/D65 -> 17.567568
A66: Youth/Child/Infant | B66: 7.23e-08 | C66: 0.00226 | D66: 0.0664 | E66: =39/D66 -> 587.3494

Sheet Compiled Products
A1: Product | D1: ='COU Crosswalk'!C3 -> Cera Fluida Classic Liquid Wax | E1: ='COU Crosswalk'!C4 -> UniBlack2 black granite treatment | F1: ='COU Crosswalk'!C5 -> Cera TeWax | G1: ='COU Crosswalk'!C6 -> Quartz Toner | H1: ='COU Crosswalk'!C7 -> Lustro Italiano
A2: Dermal Spreadsheet Inputs | B2: Units | C2: Exposure Level | D2: Value | E2: Value | F2: Value | G2: Value | H2: Value
A3: Users | D3: Adult/Youth | E3: Adult/Youth | F3: Adult/Youth | G3: Adult/Youth | H3: Adult/Youth
A4: Frequency of Product Contact | B4: events/day | D4: 1 | E4: 1 | F4: 1 | G4: 1 | H4: 1
A5: Frequency of Product Contact | B5: events/year | C5: High | D5: 1 | E5: 1 | F5: 1 | G5: 1 | H5: 365
C6: Med | D6: 1 | E6: 1 | F6: 1 | G6: 1 | H6: 300
C7: Low | D7: 1 | E7: 1 | F7: 1 | G7: 1 | H7: 185
A8: Duration of Product Contact | B8: min/event | C8: High | D8: 120 | E8: 120 | F8: 120 | G8: 120 | H8: 15
C9: Med | D9: 90 | E9: 90 | F9: 90 | G9: 90 | H9: 10
C10: Low | D10: 60 | E10: 60 | F10: 60 | G10: 60 | H10: 5
A11: Model Selection
A12: CEM Models: | D12: Inhalation: E1, P_INH2 | E12: Inhalation: E1, P_INH2 | F12: Inhalation: E1, P_INH2 | G12: Inhalation: E1, P_INH2 | H12: Inhalation: E1, P_INH2
A13: CEM Saved Analysis: | D13: n/a | E13: n/a | F13: n/a | G13: n/a | H13: n/a
A14: Input Parameter | B14: Units | D14: Value | E14: Value | F14: Value | G14: Value | H14: Value
A15: Scenario Screen Parameters
A16: Weight Fraction | B16: (-) | C16: High | D16: ='COU Crosswalk'!L3 -> 54.12 | E16: ='COU Crosswalk'!L4 -> 50 | F16: ='COU Crosswalk'!L5 -> 50 | G16: ='COU Crosswalk'!L6 -> 3.5 | H16: ='COU Crosswalk'!L7 -> 3.5
C17: Med | D17: =D16 -> 54.12 | E17: ='COU Crosswalk'!K4 -> 40 | F17: ='COU Crosswalk'!K5 -> 40 | G17: ='COU Crosswalk'!K6 -> 2.25 | H17: ='COU Crosswalk'!K7 -> 2.25
C18: Low | D18: =D16 -> 54.12 | E18: ='COU Crosswalk'!J4 -> 30 | F18: ='COU Crosswalk'!J5 -> 30 | G18: ='COU Crosswalk'!J6 -> 1 | H18: ='COU Crosswalk'!J7 -> 1
A19: Initial Concentration of SVOC in Article | B19: mg/cm3 | D19: n/a | E19: n/a | F19: n/a | G19: n/a | H19: n/a
A20: Background Air Concentration | B20: mg/m3 | D20: n/a | E20: n/a | F20: n/a | G20: n/a | H20: n/a
A21: Background Dust Concentration | B21: ug/mg | D21: n/a | E21: n/a | F21: n/a | G21: n/a | H21: n/a
A22: Product/Article Use Environment | B22: - | D22: Residence - Kitchen | E22: Residence - Kitchen | F22: Residence - Kitchen | G22: Residence - Kitchen | H22: Residence - Kitchen
A23: Route Assessed | B23: - | D23: Inhalation and dermal | E23: Inhalation and dermal | F23: Inhalation and dermal | G23: Inhalation and dermal | H23: Inhalation and dermal
A24: Product Users | B24: - | D24: Adult, Youth | E24: Adult, Youth | F24: Adult, Youth | G24: Adult, Youth | H24: Adult, Youth
A25: Activity Pattern | B25: - | D25: Stay-At-Home | E25: Stay-At-Home | F25: Stay-At-Home | G25: Stay-At-Home | H25: Stay-At-Home
A26: User-defined Emission Rates | B26: - | D26: Let CEM Estimate Emission Rate | E26: Let CEM Estimate Emission Rate | F26: Let CEM Estimate Emission Rate | G26: Let CEM Estimate Emission Rate | H26: Let CEM Estimate Emission Rate
A27: Use Near-field Zone? (E1, E2, E3 only) | B27: - | D27: User Near-field area in zone 1 (P_INH2) | E27: User Near-field area in zone 1 (P_INH2) | F27: User Near-field area in zone 1 (P_INH2) | G27: User Near-field area in zone 1 (P_INH2) | H27: User Near-field area in zone 1 (P_INH2)
A28: Dermal Absorption or Permeability? | B28: - | D28: n/a | E28: n/a | F28: n/a | G28: n/a | H28: n/a
A29: Emission Factor Method (E1 only) | B29: - | D29: n/a | E29: n/a | F29: n/a | G29: n/a | H29: n/a
A30: Product/Article Properties Screen Parameters
A31: Product/Article and Use Inputs
A32: User Defined Emission Rate | B32: mg/hr | D32: n/a | E32: n/a | F32: n/a | G32: n/a | H32: n/a
A33: Density of Product/Article | B33: g/cm3 | D33: ='COU Crosswalk'!N3 -> 1.1 | E33: ='COU Crosswalk'!N4 -> 0.91 | F33: ='COU Crosswalk'!N5 -> 1.1 | G33: ='COU Crosswalk'!N6 -> 0.88 | H33: ='COU Crosswalk'!N7 -> 0.8
A34: Surface Area of Article | B34: m2 | D34: n/a | E34: n/a | F34: n/a | G34: n/a | H34: n/a
A35: Thickness of Article Surface Layer | B35: cm | D35: n/a | E35: n/a | F35: n/a | G35: n/a | H35: n/a
A36: Duration of Article Contact | B36: min/day | D36: n/a | E36: n/a | F36: n/a | G36: n/a | H36: n/a
A37: Area of Article mouthed | B37: cm2 | D37: n/a | E37: n/a | F37: n/a | G37: n/a | H37: n/a
A38: Chronic and Acute Assessments
A39: Duration of Use (acute) | B39: min/event | C39: High | D39: 120 | E39: 120 | F39: 120 | G39: 120 | H39: 15
C40: Med | D40: 90 | E40: 90 | F40: 90 | G40: 90 | H40: 10
C41: Low | D41: 60 | E41: 60 | F41: 60 | G41: 60 | H41: 5
A42: Mass of Product Used Per Event (acute) | B42: oz/event
A43: Mass of Product Used Per Event | B43: g/event | C43: High | D43: ='General Inputs'!J2 -> 308 | E43: ='General Inputs'!J9 -> 240.32965 | F43: ='General Inputs'!J16 -> 308 | G43: ='General Inputs'!J23 -> 211.2 | H43: ='General Inputs'!K30 -> 9.6007382
C44: Med | D44: ='General Inputs'!J3 -> 203.5 | E44: ='General Inputs'!J10 -> 160.21976 | F44: ='General Inputs'!J17 -> 203.5 | G44: ='General Inputs'!J24 -> 140.8 | H44: ='General Inputs'!K31 -> 6.4004921
C45: Low | D45: ='General Inputs'!J4 -> 154 | E45: ='General Inputs'!J11 -> 120.16482 | F45: ='General Inputs'!J18 -> 154 | G45: ='General Inputs'!J25 -> 105.6 | H45: ='General Inputs'!K32 -> 4.8003691
A46: Frequency of Use (Chronic) | B46: events/yr | C46: High | D46: 1 | E46: 1 | F46: 1 | G46: 1 | H46: 365
C47: Med | D47: 1 | E47: 1 | F47: 1 | G47: 1 | H47: 300
C48: Low | D48: 1 | E48: 1 | F48: 1 | G48: 1 | H48: 185
A49: Frequency of Use (acute) | B49: events/day | D49: 1 | E49: 1 | F49: 1 | G49: 1 | H49: 1
A50: All Assessments
A51: Aerosol fraction | B51: unitless | D51: n/a | E51: n/a | F51: n/a | G51: n/a | H51: n/a
A52: FractionProduct Ingested | B52: unitless | D52: n/a | E52: n/a | F52: n/a | G52: n/a | H52: n/a
A53: Inputs for Dermal and Ingestion Exposure
A54: Film Thickness on Skin | B54: cm | D54: n/a | E54: n/a | F54: n/a | G54: n/a | H54: n/a
A55: Amount Retained on Skin | B55: g/cm2 | D55: n/a | E55: n/a | F55: n/a | G55: n/a | H55: n/a
A56: Skin Permeability Coefficient | B56: cm/hr | D56: n/a | E56: n/a | F56: n/a | G56: n/a | H56: n/a
A57: Chemical Migration Rate | B57: mg/cm2/hr | D57: n/a | E57: n/a | F57: n/a | G57: n/a | H57: n/a
A58: Thickness of Contact Layer | B58: cm | D58: n/a | E58: n/a | F58: n/a | G58: n/a | H58: n/a
A59: Surface Loading | B59: mg/cm2 | D59: n/a | E59: n/a | F59: n/a | G59: n/a | H59: n/a
A60: Mouthing Transfer Efficiency | B60: (per event) | D60: n/a | E60: n/a | F60: n/a | G60: n/a | H60: n/a
A61: Fraction of Chemical that is Dislodgeable | B61: (-) | D61: n/a | E61: n/a | F61: n/a | G61: n/a | H61: n/a
A62: Product Dilution Factor | B62: (-) | D62: n/a | E62: n/a | F62: n/a | G62: n/a | H62: n/a
A63: Transdermal Permeability Coefficient | B63: m/hr | D63: n/a | E63: n/a | F63: n/a | G63: n/a | H63: n/a
A64: Absorption Fraction-Acute | B64: (-) | D64: n/a | E64: n/a | F64: n/a | G64: n/a | H64: n/a
A65: Absorption Fraction-Chronic | B65: (-) | D65: n/a | E65: n/a | F65: n/a | G65: n/a | H65: n/a
... A72: Adherence Factor | B72: mg/cm2*event) | D72: n/a | E72: n/a | F72: n/a | G72: n/a | H72: n/a
A73: Environment Inputs
A74: Environment Property/Attribute
A75: Building Volume (Residence) | B75: m3 | D75: 492 | E75: 492 | F75: 492 | G75: 492 | H75: 492
A76: Use Environment Volume | B76: m3 | D76: 24 | E76: 24 | F76: 24 | G76: 24 | H76: 24
A77: Yard Area | B77: m2 | D77: n/a | E77: n/a | F77: n/a | G77: n/a | H77: n/a
A78: Air Exchange Rate, Zone 1 (Residence) | B78: hr-1 | D78: 0.45 | E78: 0.45 | F78: 0.45 | G78: 0.45 | H78: 0.45
A79: Air Exchange Rate, Zone 2 (Residence) | B79: hr-1 | D79: 0.45 | E79: 0.45 | F79: 0.45 | G79: 0.45 | H79: 0.45
A80: Interzone Ventilation Rate | B80: m3/hr | D80: 108.978 | E80: 108.978 | F80: 108.978 | G80: 108.978 | H80: 108.978
A81: Area of Interior Surface | B81: m2 | D81: n/a | E81: n/a | F81: n/a | G81: n/a | H81: n/a
A82: Thickness of Interior Surface | B82: m | D82: n/a | E82: n/a | F82: n/a | G82: n/a | H82: n/a
A83: Near Field Environmental Inputs
A84: Near Field Volume | B84: m3 | D84: 1 | E84: 1 | F84: 1 | G84: 1 | H84: 1
A85: Far-Field Volume | B85: m3 | D85: 23 | E85: 23 | F85: 23 | G85: 23 | H85: 23
A86: Air Exchange Rate at Near-field Boundary | B86: per hour | D86: 402 | E86: 402 | F86: 402 | G86: 402 | H86: 402
A87: Soil Properties
A88: Soil Mixing Depth | B88: m | D88: n/a | E88: n/a | F88: n/a | G88: n/a | H88: n/a
A89: Soil Density | B89: kg/m3 | D89: n/a | E89: n/a | F89: n/a | G89: n/a | H89: n/a
A90: Soil Porosity | B90: (-) | D90: n/a | E90: n/a | F90: n/a | G90: n/a | H90: n/a
A91: Chronic Concentration in Soil/Powders | B91: mg/kg | D91: n/a | E91: n/a | F91: n/a | G91: n/a | H91: n/a
A92: Acute Concentration in Soil/Powders | B92: mg/kg | D92: n/a | E92: n/a | F92: n/a | G92: n/a | H92: n/a
A93: Dust Parameter Inputs
A94: RP | D94: n/a | E94: n/a | F94: n/a | G94: n/a | H94: n/a
A95: Deposition rate | B95: per hour | D95: n/a | E95: n/a | F95: n/a | G95: n/a | H95: n/a
A96: Resuspension rate | B96: per hour | D96: n/a | E96: n/a | F96: n/a | G96: n/a | H96: n/a
A97: Mass Generation Rate, Suspended | B97: mg/hr | D97: n/a | E97: n/a | F97: n/a | G97: n/a | H97: n/a
A98: Mass Generation Rate, Floor | B98: mg/hr | D98: n/a | E98: n/a | F98: n/a | G98: n/a | H98: n/a
A99: Radius of Particle | B99: m | D99: n/a | E99: n/a | F99: n/a | G99: n/a | H99: n/a
A100: Density of Particle | B100: mg/m3 | D100: n/a | E100: n/a | F100: n/a | G100: n/a | H100: n/a
A101: Dust | D101: n/a | E101: n/a | F101: n/a | G101: n/a | H101: n/a
A102: Deposition rate | B102: per hour | D102: n/a | E102: n/a | F102: n/a | G102: n/a | H102: n/a
A103: Resuspension rate | B103: per hour | D103: n/a | E103: n/a | F103: n/a | G103: n/a | H103: n/a
A104: Mass Generation Rate, Suspended | B104: mg/hr | D104: n/a | E104: n/a | F104: n/a | G104: n/a | H104: n/a
A105: Mass Generation Rate, Floor | B105: mg/hr | D105: n/a | E105: n/a | F105: n/a | G105: n/a | H105: n/a
A106: Radius of Particle | B106: m | D106: n/a | E106: n/a | F106: n/a | G106: n/a | H106: n/a
...

Sheet Dermal Exposure
C1: Dermal Calculations for Consumer Scenarios
A2: COU | B2: Sub Category COU | C2: Product/Article Name | D2: Exposure Level | E2: User(s) [A zero indicates that the population was not assessed for dermal exposure] | O2: Dose per event mg/kg bw | R2: Acute Dose mg/kg bw day | U2: Acute Non-Cancer Risk (MOE) | X2: Chronic Dose mg/kg bw year | AA2: Chronic Non-Cancer Risk (MOE) | AD2: Lifetime Dose | AE2: Chronic Risk HED | AF2: Dermal Benchmark | AG2: Cancer OSF
E3: Adult | F3: Youth | G3: Weight Fraction (Decimal) | H3: Frequency (chronic) | I3: Lifetime (cancer) | J3: Frequency (acute) | K3: Qu (mg/cm2-event | L3: Fraction Absorbed (Test Order) | M3: Dermal Absorption per event Qu * WF * Fabs (mg/cm2-event) | N3: Contact Area | O3: ADULTS ≥21 | P3: YOUTHS (16-20) | Q3: YOUTHS (11 to <15) | R3: ADULTS >21 | S3: YOUTHS (16-20) | T3: YOUTHS (11 to <15) | U3: ADULTS >21 | V3: YOUTHS (16-20) | W3: YOUTHS (11 to <15) | X3: ADULTS >21 | Y3: YOUTHS (16-20) | Z3: YOUTHS (11 to <15) | AA3: ADULTS >21 | AB3: YOUTHS (16-20) | AC3: YOUTHS (11 to <15) | AD3: 11 - 78 years | AE3: ='Hazard Equations & Inputs'!M6 -> 7.2 | AF3: =30 -> 30 | AG3: 0.04
A4: Cleaning and furnishing care product | B4: All-purpose liquid cleaner/polish | C4: ='COU Crosswalk'!C3 -> Cera Fluida Classic Liquid Wax | D4: Low | E4: 1 | F4: 1 | G4: =G5 -> 0.5412 | H4: 1 | J4: 1 | K4: 0.7 | L4: =$N$23 -> 0.015508 | M4: =K4*G4*L4 -> 0.0058750507 | N4: Inside of one hand (palms, fingers) | O4: =(INDEX('Dermal Exposure'!$B$25:$D$31, MATCH($N4,'Dermal Exposure'!$A$25:$A$31, 0), MATCH(O$3, 'Dermal Exposure'!$B$24:$D$24, 0)))*$M4*$E4 -> 0.018194726 | P4: =(INDEX('Dermal Exposure'!$B$25:$D$31, MATCH($N4,'Dermal Exposure'!$A$25:$A$31, 0), MATCH(P$3, 'Dermal Exposure'!$B$24:$D$24, 0)))*$M4*$F4 -> 0.01702616 | Q4: =(INDEX('Dermal Exposure'!$B$25:$D$31, MATCH($N4,'Dermal Exposure'!$A$25:$A$31, 0), MATCH(Q$3, 'Dermal Exposure'!$B$24:$D$24, 0)))*$M4*$F4 -> 0.018618118 | R4: =O4*$J4 -> 0.018194726 | S4: =P4*$J4 -> 0.01702616 | T4: =Q4*$J4 -> 0.018618118 | U4: =$AE$3/R4 -> 395.71906 | V4: =$AE$3/S4 -> 422.87869 | W4: =$AE$3/T4 -> 386.72007 | X4: n/a | Y4: n/a | Z4: n/a | AA4: n/a | AB4: n/a | AC4: n/a
D5: Medium | E5: 1 | F5: 1 | G5: =G6 -> 0.5412 | H5: 1 | J5: 1 | K5: 1.4 | L5: =$N$23 -> 0.015508 | M5: =K5*G5*L5 -> 0.011750101 | N5: Inside of one hand (palms, fingers) | O5: =(INDEX('Dermal Exposure'!$B$25:$D$31, MATCH($N5,'Dermal Exposure'!$A$25:$A$31, 0), MATCH(O$3, 'Dermal Exposure'!$B$24:$D$24, 0)))*$M5*$E5 -> 0.036389452 | P5: =(INDEX('Dermal Exposure'!$B$25:$D$31, MATCH($N5,'Dermal Exposure'!$A$25:$A$31, 0), MATCH(P$3, 'Dermal Exposure'!$B$24:$D$24, 0)))*$M5*$F5 -> 0.034052319 | Q5: =(INDEX('Dermal Exposure'!$B$25:$D$31, MATCH($N5,'Dermal Exposure'!$A$25:$A$31, 0), MATCH(Q$3, 'Dermal Exposure'!$B$24:$D$24, 0)))*$M5*$F5 -> 0.037236237 | R5: =O5*$J5 -> 0.036389452 | S5: =P5*$J5 -> 0.034052319 | T5: =Q5*$J5 -> 0.037236237 | U5: =$AE$3/R5 -> 197.85953 | V5: =$AE$3/S5 -> 211.43934 | W5: =$AE$3/T5 -> 193.36003 | X5: n/a | Y5: n/a | Z5: n/a | AA5: n/a | AB5: n/a | AC5: n/a
D6: High | E6: 1 | F6: 1 | G6: =('COU Crosswalk'!L3)/100 -> 0.5412 | H6: 1 | J6: 1 | K6: 2.1 | L6: =$N$23 -> 0.015508 | M6: =K6*G6*L6 -> 0.017625152 | N6: Inside of two hands (palms, fingers) | O6: =(INDEX('Dermal Exposure'!$B$25:$D$31, MATCH($N6,'Dermal Exposure'!$A$25:$A$31, 0), MATCH(O$3, 'Dermal Exposure'!$B$24:$D$24, 0)))*$M6*$E6 -> 0.10916836 | P6: =(INDEX('Dermal Exposure'!$B$25:$D$31, MATCH($N6,'Dermal Exposure'!$A$25:$A$31, 0), MATCH(P$3, 'Dermal Exposure'!$B$24:$D$24, 0)))*$M6*$F6 -> 0.10215696 | Q6: =(INDEX('Dermal Exposure'!$B$25:$D$31, MATCH($N6,'Dermal Exposure'!$A$25:$A$31, 0), MATCH(Q$3, 'Dermal Exposure'!$B$24:$D$24, 0)))*$M6*$F6 -> 0.11170871 | R6: =O6*$J6 -> 0.10916836 | S6: =P6*$J6 -> 0.10215696 | T6: =Q6*$J6 -> 0.11170871 | U6: =$AE$3/R6 -> 65.953177 | V6: =$AE$3/S6 -> 70.479781 | W6: =$AE$3/T6 -> 64.453344 | X6: n/a | Y6: n/a | Z6: n/a | AA6: n/a | AB6: n/a | AC6: n/a
A7: Cleaning and furnishing care product | B7: All-purpose liquid cleaner/polish | C7: ='COU Crosswalk'!C4 -> UniBlack2 black granite treatment | D7: Low | E7: 1 | F7: 1 | G7: =('COU Crosswalk'!J4)/100 -> 0.3 | H7: 1 | J7: 1 | K7: 0.7 | L7: =$N$23 -> 0.015508 | M7: =K7*G7*L7 -> 0.00325668 | N7: Inside of one hand (palms, fingers) | O7: =(INDEX('Dermal Exposure'!$B$25:$D$31, MATCH($N7,'Dermal Exposure'!$A$25:$A$31, 0), MATCH(O$3, 'Dermal Exposure'!$B$24:$D$24, 0)))*$M7*$E7 -> 0.010085768 | P7: =(INDEX('Dermal Exposure'!$B$25:$D$31, MATCH($N7,'Dermal Exposure'!$A$25:$A$31, 0), MATCH(P$3, 'Dermal Exposure'!$B$24:$D$24, 0)))*$M7*$F7 -> 0.0094380042 | Q7: =(INDEX('Dermal Exposure'!$B$25:$D$31, MATCH($N7,'Dermal Exposure'!$A$25:$A$31, 0), MATCH(Q$3, 'Dermal Exposure'!$B$24:$D$24, 0)))*$M7*$F7 -> 0.010320465 | R7: =O7*$J7 -> 0.010085768 | S7: =P7*$J7 -> 0.0094380042 | T7: =Q7*$J7 -> 0.010320465 | U7: =$AE$3/R7 -> 713.87719 | V7: =$AE$3/S7 -> 762.87315 | W7: =$AE$3/T7 -> 697.643 | X7: n/a | Y7: n/a | Z7: n/a | AA7: n/a | AB7: n/a | AC7: n/a
D8: Medium | E8: 1 | F8: 1 | G8: =('COU Crosswalk'!K4)/100 -> 0.4 | H8: 1 | J8: 1 | K8: 1.4 | L8: =$N$23 -> 0.015508 | M8: =K8*G8*L8 -> 0.00868448 | N8: Inside of one hand (palms, fingers) | O8: =(INDEX('Dermal Exposure'!$B$25:$D$31, MATCH($N8,'Dermal Exposure'!$A$25:$A$31, 0), MATCH(O$3, 'Dermal Exposure'!$B$24:$D$24, 0)))*$M8*$E8 -> 0.026895382 | P8: =(INDEX('Dermal Exposure'!$B$25:$D$31, MATCH($N8,'Dermal Exposure'!$A$25:$A$31, 0), MATCH(P$3, 'Dermal Exposure'!$B$24:$D$24, 0)))*$M8*$F8 -> 0.025168011 | Q8: =(INDEX('Dermal Exposure'!$B$25:$D$31, MATCH($N8,'Dermal Exposure'!$A$25:$A$31, 0), MATCH(Q$3, 'Dermal Exposure'!$B$24:$D$24, 0)))*$M8*$F8 -> 0.027521239 | R8: =O8*$J8 -> 0.026895382 | S8: =P8*$J8 -> 0.025168011 | T8: =Q8*$J8 -> 0.027521239 | U8: =$AE$3/R8 -> 267.70395 | V8: =$AE$3/S8 -> 286.07743 | W8: =$AE$3/T8 -> 261.61612 | X8: n/a | Y8: n/a | Z8: n/a | AA8: n/a | AB8: n/a | AC8: n/a
D9: High | E9: 1 | F9: 1 | G9: =('COU Crosswalk'!L4)/100 -> 0.5 | H9: 1 | J9: 1 | K9: 2.1 | L9: =$N$23 -> 0.015508 | M9: =K9*G9*L9 -> 0.0162834 | N9: Inside of two hands (palms, fingers) | O9: =(INDEX('Dermal Exposure'!$B$25:$D$31, MATCH($N9,'Dermal Exposure'!$A$25:$A$31, 0), MATCH(O$3, 'Dermal Exposure'!$B$24:$D$24, 0)))*$M9*$E9 -> 0.10085768 | P9: =(INDEX('Dermal Exposure'!$B$25:$D$31, MATCH($N9,'Dermal Exposure'!$A$25:$A$31, 0), MATCH(P$3, 'Dermal Exposure'!$B$24:$D$24, 0)))*$M9*$F9 -> 0.094380042 | Q9: =(INDEX('Dermal Exposure'!$B$25:$D$31, MATCH($N9,'Dermal Exposure'!$A$25:$A$31, 0), MATCH(Q$3, 'Dermal Exposure'!$B$24:$D$24, 0)))*$M9*$F9 -> 0.10320465 | R9: =O9*$J9 -> 0.10085768 | S9: =P9*$J9 -> 0.094380042 | T9: =Q9*$J9 -> 0.10320465 | U9: =$AE$3/R9 -> 71.387719 | V9: =$AE$3/S9 -> 76.287315 | W9: =$AE$3/T9 -> 69.7643 | X9: n/a | Y9: n/a | Z9: n/a | AA9: n/a | AB9: n/a | AC9: n/a
A10: Cleaning and furnishing care product | B10: All-purpose waxes and polishes (paste) | C10: ='COU Crosswalk'!C5 -> Cera TeWax | D10: Low | E10: 1 | F10: 1 | G10: =('COU Crosswalk'!J5)/100 -> 0.3 | H10: 1 | J10: 1 | K10: 0.7 | L10: =$N$23 -> 0.015508 | M10: =K10*G10*L10 -> 0.00325668 | N10: Inside of one hand (palms, fingers) | O10: =(INDEX('Dermal Exposure'!$B$25:$D$31, MATCH($N10,'Dermal Exposure'!$A$25:$A$31, 0), MATCH(O$3, 'Dermal Exposure'!$B$24:$D$24, 0)))*$M10*$E10 -> 0.010085768 | P10: =(INDEX('Dermal Exposure'!$B$25:$D$31, MATCH($N10,'Dermal Exposure'!$A$25:$A$31, 0), MATCH(P$3, 'Dermal Exposure'!$B$24:$D$24, 0)))*$M10*$F10 -> 0.0094380042 | Q10: =(INDEX('Dermal Exposure'!$B$25:$D$31, MATCH($N10,'Dermal Exposure'!$A$25:$A$31, 0), MATCH(Q$3, 'Dermal Exposure'!$B$24:$D$24, 0)))*$M10*$F10 -> 0.010320465 | R10: =O10*$J10 -> 0.010085768 | S10: =P10*$J10 -> 0.0094380042 | T10: =Q10*$J10 -> 0.010320465 | U10: =$AE$3/R10 -> 713.87719 | V10: =$AE$3/S10 -> 762.87315 | W10: =$AE$3/T10 -> 697.643 | X10: n/a | Y10: n/a | Z10: n/a | AA10: n/a | AB10: n/a | AC10: n/a
D11: Medium | E11: 1 | F11: 1 | G11: =('COU Crosswalk'!K5)/100 -> 0.4 | H11: 1 | J11: 1 | K11: 1.4 | L11: =$N$23 -> 0.015508 | M11: =K11*G11*L11 -> 0.00868448 | N11: Inside of one hand (palms, fingers) | O11: =(INDEX('Dermal Exposure'!$B$25:$D$31, MATCH($N11,'Dermal Exposure'!$A$25:$A$31, 0), MATCH(O$3, 'Dermal Exposure'!$B$24:$D$24, 0)))*$M11*$E11 -> 0.026895382 | P11: =(INDEX('Dermal Exposure'!$B$25:$D$31, MATCH($N11,'Dermal Exposure'!$A$25:$A$31, 0), MATCH(P$3, 'Dermal Exposure'!$B$24:$D$24, 0)))*$M11*$F11 -> 0.025168011 | Q11: =(INDEX('Dermal Exposure'!$B$25:$D$31, MATCH($N11,'Dermal Exposure'!$A$25:$A$31, 0), MATCH(Q$3, 'Dermal Exposure'!$B$24:$D$24, 0)))*$M11*$F11 -> 0.027521239 | R11: =O11*$J11 -> 0.026895382 | S11: =P11*$J11 -> 0.025168011 | T11: =Q11*$J11 -> 0.027521239 | U11: =$AE$3/R11 -> 267.70395 | V11: =$AE$3/S11 -> 286.07743 | W11: =$AE$3/T11 -> 261.61612 | X11: n/a | Y11: n/a | Z11: n/a | AA11: n/a | AB11: n/a | AC11: n/a
D12: High | E12: 1 | F12: 1 | G12: =('COU Crosswalk'!L5)/100 -> 0.5 | H12: 1 | J12: 1 | K12: 2.1 | L12: =$N$23 -> 0.015508 | M12: =K12*G12*L12 -> 0.0162834 | N12: Inside of two hands (palms, fingers) | O12: =(INDEX('Dermal Exposure'!$B$25:$D$31, MATCH($N12,'Dermal Exposure'!$A$25:$A$31, 0), MATCH(O$3, 'Dermal Exposure'!$B$24:$D$24, 0)))*$M12*$E12 -> 0.10085768 | P12: =(INDEX('Dermal Exposure'!$B$25:$D$31, MATCH($N12,'Dermal Exposure'!$A$25:$A$31, 0), MATCH(P$3, 'Dermal Exposure'!$B$24:$D$24, 0)))*$M12*$F12 -> 0.094380042 | Q12: =(INDEX('Dermal Exposure'!$B$25:$D$31, MATCH($N12,'Dermal Exposure'!$A$25:$A$31, 0), MATCH(Q$3, 'Dermal Exposure'!$B$24:$D$24, 0)))*$M12*$F12 -> 0.10320465 | R12: =O12*$J12 -> 0.10085768 | S12: =P12*$J12 -> 0.094380042 | T12: =Q12*$J12 -> 0.10320465 | U12: =$AE$3/R12 -> 71.387719 | V12: =$AE$3/S12 -> 76.287315 | W12: =$AE$3/T12 -> 69.7643 | X12: n/a | Y12: n/a | Z12: n/a | AA12: n/a | AB12: n/a | AC12: n/a
A13: Cleaning and furnishing care product | B13: All-purpose waxes and polishes (paste) | C13: ='COU Crosswalk'!C6 -> Quartz Toner | D13: Low | E13: 1 | F13: 1 | G13: =('COU Crosswalk'!J6)/100 -> 0.01 | H13: 1 | J13: 1 | K13: 0.7 | L13: =$N$24 -> 0.011614 | M13: =K13*G13*L13 -> 8.1298e-05 | N13: Inside of one hand (palms, fingers) | O13: =(INDEX('Dermal Exposure'!$B$25:$D$31, MATCH($N13,'Dermal Exposure'!$A$25:$A$31, 0), MATCH(O$3, 'Dermal Exposure'!$B$24:$D$24, 0)))*$M13*$E13 -> 0.00025177567 | P13: =(INDEX('Dermal Exposure'!$B$25:$D$31, MATCH($N13,'Dermal Exposure'!$A$25:$A$31, 0), MATCH(P$3, 'Dermal Exposure'!$B$24:$D$24, 0)))*$M13*$F13 -> 0.00023560524 | Q13: =(INDEX('Dermal Exposure'!$B$25:$D$31, MATCH($N13,'Dermal Exposure'!$A$25:$A$31, 0), MATCH(Q$3, 'Dermal Exposure'!$B$24:$D$24, 0)))*$M13*$F13 -> 0.00025763451 | R13: =O13*$J13 -> 0.00025177567 | S13: =P13*$J13 -> 0.00023560524 | T13: =Q13*$J13 -> 0.00025763451 | U13: =$AE$3/R13 -> 28596.885 | V13: =$AE$3/S13 -> 30559.592 | W13: =$AE$3/T13 -> 27946.567 | X13: n/a | Y13: n/a | Z13: n/a | AA13: n/a | AB13: n/a | AC13: n/a
D14: Medium | E14: 1 | F14: 1 | G14: =('COU Crosswalk'!K6)/100 -> 0.0225 | H14: 1 | J14: 1 | K14: 1.4 | L14: =$N$24 -> 0.011614 | M14: =K14*G14*L14 -> 0.000365841 | N14: Inside of one hand (palms, fingers) | O14: =(INDEX('Dermal Exposure'!$B$25:$D$31, MATCH($N14,'Dermal Exposure'!$A$25:$A$31, 0), MATCH(O$3, 'Dermal Exposure'!$B$24:$D$24, 0)))*$M14*$E14 -> 0.0011329905 | P14: =(INDEX('Dermal Exposure'!$B$25:$D$31, MATCH($N14,'Dermal Exposure'!$A$25:$A$31, 0), MATCH(P$3, 'Dermal Exposure'!$B$24:$D$24, 0)))*$M14*$F14 -> 0.0010602236 | Q14: =(INDEX('Dermal Exposure'!$B$25:$D$31, MATCH($N14,'Dermal Exposure'!$A$25:$A$31, 0), MATCH(Q$3, 'Dermal Exposure'!$B$24:$D$24, 0)))*$M14*$F14 -> 0.0011593553 | R14: =O14*$J14 -> 0.0011329905 | S14: =P14*$J14 -> 0.0010602236 | T14: =Q14*$J14 -> 0.0011593553 | U14: =$AE$3/R14 -> 6354.8634 | V14: =$AE$3/S14 -> 6791.0205 | W14: =$AE$3/T14 -> 6210.3482 | X14: n/a | Y14: n/a | Z14: n/a | AA14: n/a | AB14: n/a | AC14: n/a
D15: High | E15: 1 | F15: 1 | G15: =('COU Crosswalk'!L6)/100 -> 0.035 | H15: 1 | J15: 1 | K15: 2.1 | L15: =$N$24 -> 0.011614 | M15: =K15*G15*L15 -> 0.000853629 | N15: Inside of two hands (palms, fingers) | O15: =(INDEX('Dermal Exposure'!$B$25:$D$31, MATCH($N15,'Dermal Exposure'!$A$25:$A$31, 0), MATCH(O$3, 'Dermal Exposure'!$B$24:$D$24, 0)))*$M15*$E15 -> 0.0052872891 | P15: =(INDEX('Dermal Exposure'!$B$25:$D$31, MATCH($N15,'Dermal Exposure'!$A$25:$A$31, 0), MATCH(P$3, 'Dermal Exposure'!$B$24:$D$24, 0)))*$M15*$F15 -> 0.00494771 | Q15: =(INDEX('Dermal Exposure'!$B$25:$D$31, MATCH($N15,'Dermal Exposure'!$A$25:$A$31, 0), MATCH(Q$3, 'Dermal Exposure'!$B$24:$D$24, 0)))*$M15*$F15 -> 0.0054103246 | R15: =O15*$J15 -> 0.0052872891 | S15: =P15*$J15 -> 0.00494771 | T15: =Q15*$J15 -> 0.0054103246 | U15: =$AE$3/R15 -> 1361.7564 | V15: =$AE$3/S15 -> 1455.2187 | W15: =$AE$3/T15 -> 1330.7889 | X15: n/a | Y15: n/a | Z15: n/a | AA15: n/a | AB15: n/a | AC15: n/a | AE15: Cancer Risk
A16: Cleaning and furnishing care product | B16: All-purpose liquid spray cleaner/polish | C16: ='COU Crosswalk'!C7 -> Lustro Italiano | D16: Low | E16: 1 | F16: 1 | G16: =('COU Crosswalk'!J7)/100 -> 0.01 | H16: 185 | I16: 57 | J16: =J14 -> 1 | K16: 0.7 | L16: =$N$24 -> 0.011614 | M16: =K16*G16*L16 -> 8.1298e-05 | N16: Inside of one hand (palms, fingers) | O16: =(INDEX('Dermal Exposure'!$B$25:$D$31, MATCH($N16,'Dermal Exposure'!$A$25:$A$31, 0), MATCH(O$3, 'Dermal Exposure'!$B$24:$D$24, 0)))*$M16*$E16 -> 0.00025177567 | P16: =(INDEX('Dermal Exposure'!$B$25:$D$31, MATCH($N16,'Dermal Exposure'!$A$25:$A$31, 0), MATCH(P$3, 'Dermal Exposure'!$B$24:$D$24, 0)))*$M16*$F16 -> 0.00023560524 | Q16: =(INDEX('Dermal Exposure'!$B$25:$D$31, MATCH($N16,'Dermal Exposure'!$A$25:$A$31, 0), MATCH(Q$3, 'Dermal Exposure'!$B$24:$D$24, 0)))*$M16*$F16 -> 0.00025763451 | R16: =O16*$J16 -> 0.00025177567 | S16: =P16*$J16 -> 0.00023560524 | T16: =Q16*$J16 -> 0.00025763451 | U16: =$AE$3/R16 -> 28596.885 | V16: =$AE$3/S16 -> 30559.592 | W16: =$AE$3/T16 -> 27946.567 | X16: =O16*$H16 -> 0.0465785 | Y16: =P16*$H16 -> 0.043586969 | Z16: =Q16*$H16 -> 0.047662384 | AA16: =$AE$3/X16 -> 154.57776 | AB16: =$AE$3/Y16 -> 165.18699 | AC16: =$AE$3/Z16 -> 151.06252 | AD16: =((Z16*5/78)+(Y16*5/78)+(X16*57/78)) -> 0.039887452 | AE16: =AD16*$AG$3 -> 0.0015954981
D17: Medium | E17: 1 | F17: 1 | G17: =('COU Crosswalk'!K7)/100 -> 0.0225 | H17: 300 | I17: 57 | J17: =J16 -> 1 | K17: 1.4 | L17: =$N$24 -> 0.011614 | M17: =K17*G17*L17 -> 0.000365841 | N17: Inside of one hand (palms, fingers) | O17: =(INDEX('Dermal Exposure'!$B$25:$D$31, MATCH($N17,'Dermal Exposure'!$A$25:$A$31, 0), MATCH(O$3, 'Dermal Exposure'!$B$24:$D$24, 0)))*$M17*$E17 -> 0.0011329905 | P17: =(INDEX('Dermal Exposure'!$B$25:$D$31, MATCH($N17,'Dermal Exposure'!$A$25:$A$31, 0), MATCH(P$3, 'Dermal Exposure'!$B$24:$D$24, 0)))*$M17*$F17 -> 0.0010602236 | Q17: =(INDEX('Dermal Exposure'!$B$25:$D$31, MATCH($N17,'Dermal Exposure'!$A$25:$A$31, 0), MATCH(Q$3, 'Dermal Exposure'!$B$24:$D$24, 0)))*$M17*$F17 -> 0.0011593553 | R17: =O17*$J17 -> 0.0011329905 | S17: =P17*$J17 -> 0.0010602236 | T17: =Q17*$J17 -> 0.0011593553 | U17: =$AE$3/R17 -> 6354.8634 | V17: =$AE$3/S17 -> 6791.0205 | W17: =$AE$3/T17 -> 6210.3482 | X17: =O17*$H17 -> 0.33989716 | Y17: =P17*$H17 -> 0.31806707 | Z17: =Q17*$H17 -> 0.34780658 | AA17: =$AE$3/X17 -> 21.182878 | AB17: =$AE$3/Y17 -> 22.636735 | AC17: =$AE$3/Z17 -> 20.701161 | AD17: =((Z17*5/78)+(Y17*5/78)+(X17*57/78)) -> 0.29107059 | AE17: =AD17*$AG$3 -> 0.011642824
D18: High | E18: 1 | F18: 1 | G18: =('COU Crosswalk'!L7)/100 -> 0.035 | H18: 365 | I18: 57 | J18: 1 | K18: 2.1 | L18: =$N$24 -> 0.011614 | M18: =K18*G18*L18 -> 0.000853629 | N18: Inside of two hands (palms, fingers) | O18: =(INDEX('Dermal Exposure'!$B$25:$D$31, MATCH($N18,'Dermal Exposure'!$A$25:$A$31, 0), MATCH(O$3, 'Dermal Exposure'!$B$24:$D$24, 0)))*$M18*$E18 -> 0.0052872891 | P18: =(INDEX('Dermal Exposure'!$B$25:$D$31, MATCH($N18,'Dermal Exposure'!$A$25:$A$31, 0), MATCH(P$3, 'Dermal Exposure'!$B$24:$D$24, 0)))*$M18*$F18 -> 0.00494771 | Q18: =(INDEX('Dermal Exposure'!$B$25:$D$31, MATCH($N18,'Dermal Exposure'!$A$25:$A$31, 0), MATCH(Q$3, 'Dermal Exposure'!$B$24:$D$24, 0)))*$M18*$F18 -> 0.0054103246 | R18: =O18*$J18 -> 0.0052872891 | S18: =P18*$J18 -> 0.00494771 | T18: =Q18*$J18 -> 0.0054103246 | U18: =$AE$3/R18 -> 1361.7564 | V18: =$AE$3/S18 -> 1455.2187 | W18: =$AE$3/T18 -> 1330.7889 | X18: =O18*$H18 -> 1.9298605 | Y18: =P18*$H18 -> 1.8059141 | Z18: =Q18*$H18 -> 1.9747685 | AA18: =$AE$3/X18 -> 3.7308395 | AB18: =$AE$3/Y18 -> 3.9869005 | AC18: =$AE$3/Z18 -> 3.645997 | AD18: =((Z18*5/78)+(Y18*5/78)+(X18*57/78)) -> 1.6526342 | AE18: =AD18*$AG$3 -> 0.066105366
A20: LOOKUP TABLES AND SUPPLEMENTARY CALCULATIONS
A22: Surface Area/BW ratios | H22: Fraction absorbed empirically obtained from test order | P22: Qu = Amount Retained on Skin (mg/cm2-event)
A23: Contact Area | B23: Population | H23: 50% (to be used for products with WF > 30%) = 1.5508% | N23: =1.5508/100 -> 0.015508 | P23: Using these Qu values the analysis offers a range of possible dermal exposures
B24: ADULTS ≥21 | C24: YOUTHS (16-20) | D24: YOUTHS (11 to <15) | H24: 1% in HHN (for WF < 10%) = 1.1614% | N24: =1.1614/100 -> 0.011614 | P24: From U.S. EPA 1992
A25: Entire Body | B25: 245.88722 | C25: 256.98324 | D25: 279.92958 | H25: 10% in HHN (for products with WF >10% but below 30%) = 1.0947% | N25: =1.0947/100 -> 0.010947 | P25: https://hero.epa.gov/reference/1064974/
A26: 50% of Entire Body Surface Area | B26: 122.94361 | C26: 128.49162 | D26: 139.96479 | P26: HERO No. = | Q26: 1064974
A27: 25% of Face, Hands, and Arms | B27: 15.753353 | C27: 14.909218 | D27: 16.373239 | R27: High intensity use exposure scenario | S27: 2.1 | T27: mg/cm2-event
A28: Both Hands (entire surface area) | B28: 12.387792 | C28: 11.592179 | D28: 12.676056 | R28: Medium intensity use exposure scenario | S28: 1.4 | T28: mg/cm2-event
A29: Inside of two hands (palms, fingers) | B29: 6.1938959 | C29: 5.7960894 | D29: 6.3380282 | R29: Low intensity use exposure scenario | S29: 0.7 | T29: mg/cm2-event
A30: Inside of one hand (palms, fingers) | B30: 3.0969479 | C30: 2.8980447 | D30: 3.1690141
A31: 10% of Hands (some fingers) | B31: 1.2387792 | C31: 1.1592179 | D31: 1.2676056
A34: Equations and Calculations
J35: Not use for this analysis. Qu used was that from US EPA 1992 study
A36: From CEM Version 3.2 Equations 95 and 96 | J36: From CEM Version 3.2 Equation 94
J39: Qu = Amount Retained on Skin (mg/cm2-event)
A40: DD = Daily Dose (mg/kg-day) | J40: FT = Film thickness (cm), CEM default for all-purpose waxes and polishes (density of 1.017 g/cm3) = 0.0021 cm
A41: Qu = Amount Retained on Skin (mg/cm2-event) | J41: ρ = Density of formulation (g/cm3)
A42: WF = Weight Fraction | J42: FracRemove = Fraction of product removed by washing or wearing (unitless), assuming 0
A43: fabs = Fraction Absorbed | J43: CF1 = Conversion factor (1000 mg/g)
A44: FQ = Frequency of Contact | K44: Density (g/cm3) | L44: Film Thickness (cm) | M44: CF1 | N44: Qu (mg/cm2-event)
A45: · Acute: (events/day) | J45: Cera Fluida Classic Liquid Wax | K45: 1.1 | L45: 0.0021 | M45: 1000 | N45: =K45*L45*M45 -> 2.31
A46: · Chronic: (events/year) | J46: UniBlack2 black granite treatment | K46: 0.91 | L46: 0.0021 | M46: 1000 | N46: =K46*L46*M46 -> 1.911
A47: ED = Exposure Duration | J47: Cera TeWax | K47: 1.1 | L47: 0.0021 | M47: 1000 | N47: =K47*L47*M47 -> 2.31
A48: · Acute: (1 day) | J48: Quartz Toner | K48: 0.88 | L48: 0.0021 | M48: 1000 | N48: =K48*L48*M48 -> 1.848
A49: · Chronic: (1 year) | J49: Lustro Italiano | K49: 0.8 | L49: 0.0021 | M49: 1000 | N49: =K49*L49*M49 -> 1.68
A50: SA = Surface Area of Contact (cm2)
A51: BW = Body Weigh (kg) | J51: Density was obtained from product SDSs
A52: AT = Averaging Time | J52: Film thickness was a default used in CEM, Table B-3 for All-purpose waxes and polishes (furniture, floor, etc.)
A53: · Acute: (1 day)
A54: Chronic: (365 days)

Sheet Dermal Sensitivity Analysis
C1: Dermal Calculations for Consumer Scenarios
A2: COU | B2: Sub Category COU | C2: Product/Article Name | D2: Exposure Level | E2: User(s) [A zero indicates that the population was not assessed for dermal exposure] | N2: Dose per event mg/kg bw | Q2: Acute Dose mg/kg bw day | T2: Acute Non-Cancer Risk (MOE) | W2: Chronic Dose mg/kg bw year | Z2: Chronic Non-Cancer Risk (MOE) | AD2: Chronic Risk HED | AE2: Dermal Benchmark
E3: Adult | F3: Youth | G3: Weight Fraction (Decimal) | H3: Frequency (chronic) | I3: Frequency (acute) | J3: Qu (mg/cm2-event | K3: Fraction Absorbed (Test Order) | L3: Dermal Absorption per event Qu * WF * Fabs (mg/cm2-event) | M3: Contact Area | N3: ADULTS ≥21 | O3: YOUTHS (16-20) | P3: YOUTHS (11 to <15) | Q3: ADULTS >21 | R3: YOUTHS (16-20) | S3: YOUTHS (11 to <15) | T3: ADULTS >21 | U3: YOUTHS (16-20) | V3: YOUTHS (11 to <15) | W3: ADULTS >21 | X3: YOUTHS (16-20) | Y3: YOUTHS (11 to <15) | Z3: ADULTS >21 | AA3: YOUTHS (16-20) | AB3: YOUTHS (11 to <15) | AD3: ='Hazard Equations & Inputs'!M6 -> 7.2 | AE3: =30 -> 30
AD4: Overall Sensitivity Analysis Figure. Not shown in RE | AR4: Figure 5-4
A5: Cleaning and furnishing care product | B5: All-purpose liquid cleaner/polish | C5: ='COU Crosswalk'!C3 -> Cera Fluida Classic Liquid Wax | D5: High | E5: 1 | F5: 1 | G5: =('COU Crosswalk'!L3)/100 -> 0.5412 | H5: 1 | I5: 1 | J5: 2.1 | K5: =$M$53 -> 0.015508 | L5: =J5*G5*K5 -> 0.017625152 | M5: Inside of two hands (palms, fingers) | N5: =(INDEX('Dermal Sensitivity Analysis'!$B$55:$D$61, MATCH($M5,'Dermal Sensitivity Analysis'!$A$55:$A$61, 0), MATCH(N$3, 'Dermal Sensitivity Analysis'!$B$54:$D$54, 0)))*$L5*$E5 -> 0.10916836 | O5: =(INDEX('Dermal Sensitivity Analysis'!$B$55:$D$61, MATCH($M5,'Dermal Sensitivity Analysis'!$A$55:$A$61, 0), MATCH(O$3, 'Dermal Sensitivity Analysis'!$B$54:$D$54, 0)))*$L5*$F5 -> 0.10215696 | P5: =(INDEX('Dermal Sensitivity Analysis'!$B$55:$D$61, MATCH($M5,'Dermal Sensitivity Analysis'!$A$55:$A$61, 0), MATCH(P$3, 'Dermal Sensitivity Analysis'!$B$54:$D$54, 0)))*$L5*$F5 -> 0.11170871 | Q5: =N5*$I5 -> 0.10916836 | R5: =O5*$I5 -> 0.10215696 | S5: =P5*$I5 -> 0.11170871 | T5: =$AD$3/Q5 -> 65.953177 | U5: =$AD$3/R5 -> 70.479781 | V5: =$AD$3/S5 -> 64.453344 | W5: n/a | X5: n/a | Y5: n/a | Z5: n/a | AA5: n/a | AB5: n/a | AD5: Youth 11 to 15 Years of Age Inside of Two Hands Sensitivity Analysis Matrix | AR5: Youth 11 to 15 Years of Age Inside of Two Hands Sensitivity Analysis Matrix | BE5: Figure 5-3
D6: Sensitivity High | E6: 1 | F6: 1 | G6: =G5 -> 0.5412 | H6: 1 | I6: 1 | J6: 2.1 | K6: =$M$53 -> 0.015508 | L6: =J6*G6*K6 -> 0.017625152 | M6: Both Hands (entire surface area) | N6: =(INDEX('Dermal Sensitivity Analysis'!$B$55:$D$61, MATCH($M6,'Dermal Sensitivity Analysis'!$A$55:$A$61, 0), MATCH(N$3, 'Dermal Sensitivity Analysis'!$B$54:$D$54, 0)))*$L6*$E6 -> 0.21833671 | O6: =(INDEX('Dermal Sensitivity Analysis'!$B$55:$D$61, MATCH($M6,'Dermal Sensitivity Analysis'!$A$55:$A$61, 0), MATCH(O$3, 'Dermal Sensitivity Analysis'!$B$54:$D$54, 0)))*$L6*$F6 -> 0.20431391 | P6: =(INDEX('Dermal Sensitivity Analysis'!$B$55:$D$61, MATCH($M6,'Dermal Sensitivity Analysis'!$A$55:$A$61, 0), MATCH(P$3, 'Dermal Sensitivity Analysis'!$B$54:$D$54, 0)))*$L6*$F6 -> 0.22341742 | Q6: =N6*$I6 -> 0.21833671 | R6: =O6*$I6 -> 0.20431391 | S6: =P6*$I6 -> 0.22341742 | T6: =$AD$3/Q6 -> 32.976589 | U6: =$AD$3/R6 -> 35.239891 | V6: =$AD$3/S6 -> 32.226672 | W6: n/a | X6: n/a | Y6: n/a | Z6: n/a | AA6: n/a | AB6: n/a | AD6: Chronic freq = 365 events per year, fraction absorbed = 1.16%; weight fraction outside reported range | AR6: Acute freq = 1 event per day, fraction absorbed = 1.55%; weight fraction outside reported range | BE6: Youth 11 to 15 Years of Age Inside of Two Hands Sensitivity Analysis Matrix
D7: Sensitivity High | E7: 1 | F7: 1 | G7: =G6 -> 0.5412 | H7: 1 | I7: 1 | J7: 1.4 | K7: =$M$53 -> 0.015508 | L7: =J7*G7*K7 -> 0.011750101 | M7: Both Hands (entire surface area) | N7: =(INDEX('Dermal Sensitivity Analysis'!$B$55:$D$61, MATCH($M7,'Dermal Sensitivity Analysis'!$A$55:$A$61, 0), MATCH(N$3, 'Dermal Sensitivity Analysis'!$B$54:$D$54, 0)))*$L7*$E7 -> 0.14555781 | O7: =(INDEX('Dermal Sensitivity Analysis'!$B$55:$D$61, MATCH($M7,'Dermal Sensitivity Analysis'!$A$55:$A$61, 0), MATCH(O$3, 'Dermal Sensitivity Analysis'!$B$54:$D$54, 0)))*$L7*$F7 -> 0.13620928 | P7: =(INDEX('Dermal Sensitivity Analysis'!$B$55:$D$61, MATCH($M7,'Dermal Sensitivity Analysis'!$A$55:$A$61, 0), MATCH(P$3, 'Dermal Sensitivity Analysis'!$B$54:$D$54, 0)))*$L7*$F7 -> 0.14894495 | Q7: =N7*$I7 -> 0.14555781 | R7: =O7*$I7 -> 0.13620928 | S7: =P7*$I7 -> 0.14894495 | T7: =$AD$3/Q7 -> 49.464883 | U7: =$AD$3/R7 -> 52.859836 | V7: =$AD$3/S7 -> 48.340008 | W7: n/a | X7: n/a | Y7: n/a | Z7: n/a | AA7: n/a | AB7: n/a | AD7: Chronic freq = 365 events per year, fraction absorbed = 1.16% | AR7: Acute freq = 1 event per day, fraction absorbed = 1.55% | BE7: Acute freq = 1 event per day; fraction absorbed = 1.09%; WF outside reported range
D8: Sensitivity High | E8: 1 | F8: 1 | G8: =G5 -> 0.5412 | H8: 1 | I8: 1 | J8: 2.3 | K8: =$M$53 -> 0.015508 | L8: =J8*G8*K8 -> 0.019303738 | M8: Inside of two hands (palms, fingers) | N8: =(INDEX('Dermal Sensitivity Analysis'!$B$55:$D$61, MATCH($M8,'Dermal Sensitivity Analysis'!$A$55:$A$61, 0), MATCH(N$3, 'Dermal Sensitivity Analysis'!$B$54:$D$54, 0)))*$L8*$E8 -> 0.11956534 | O8: =(INDEX('Dermal Sensitivity Analysis'!$B$55:$D$61, MATCH($M8,'Dermal Sensitivity Analysis'!$A$55:$A$61, 0), MATCH(O$3, 'Dermal Sensitivity Analysis'!$B$54:$D$54, 0)))*$L8*$F8 -> 0.11188619 | P8: =(INDEX('Dermal Sensitivity Analysis'!$B$55:$D$61, MATCH($M8,'Dermal Sensitivity Analysis'!$A$55:$A$61, 0), MATCH(P$3, 'Dermal Sensitivity Analysis'!$B$54:$D$54, 0)))*$L8*$F8 -> 0.12234764 | Q8: =N8*$I8 -> 0.11956534 | R8: =O8*$I8 -> 0.11188619 | S8: =P8*$I8 -> 0.12234764 | T8: =$AD$3/Q8 -> 60.218118 | U8: =$AD$3/R8 -> 64.351105 | V8: =$AD$3/S8 -> 58.848706 | W8: n/a | X8: n/a | Y8: n/a | Z8: n/a | AA8: n/a | AB8: n/a | AD8: Acute freq = 1 event per day; Chronic freq = 1 event per year; fraction absorbed = 1.09%; weight fraction outside reported range | AR8: Acute freq = 1 event per day; Chronic freq = 1 event per year; fraction absorbed = 1.55%; weight fraction outside reported range | BE8: Acute freq = 1 event per day; fraction absorbed = 1.55%
D9: Sensitivity High | E9: 1 | F9: 1 | G9: =G8 -> 0.5412 | H9: 1 | I9: 1 | J9: 2.3 | K9: =$M$53 -> 0.015508 | L9: =J9*G9*K9 -> 0.019303738 | M9: Both Hands (entire surface area) | N9: =(INDEX('Dermal Sensitivity Analysis'!$B$55:$D$61, MATCH($M9,'Dermal Sensitivity Analysis'!$A$55:$A$61, 0), MATCH(N$3, 'Dermal Sensitivity Analysis'!$B$54:$D$54, 0)))*$L9*$E9 -> 0.23913069 | O9: =(INDEX('Dermal Sensitivity Analysis'!$B$55:$D$61, MATCH($M9,'Dermal Sensitivity Analysis'!$A$55:$A$61, 0), MATCH(O$3, 'Dermal Sensitivity Analysis'!$B$54:$D$54, 0)))*$L9*$F9 -> 0.22377238 | P9: =(INDEX('Dermal Sensitivity Analysis'!$B$55:$D$61, MATCH($M9,'Dermal Sensitivity Analysis'!$A$55:$A$61, 0), MATCH(P$3, 'Dermal Sensitivity Analysis'!$B$54:$D$54, 0)))*$L9*$F9 -> 0.24469527 | Q9: =N9*$I9 -> 0.23913069 | R9: =O9*$I9 -> 0.22377238 | S9: =P9*$I9 -> 0.24469527 | T9: =$AD$3/Q9 -> 30.109059 | U9: =$AD$3/R9 -> 32.175552 | V9: =$AD$3/S9 -> 29.424353 | W9: n/a | X9: n/a | Y9: n/a | Z9: n/a | AA9: n/a | AB9: n/a | AD9: Acute freq = 1 event per day; Chronic freq = 1 event per year; fraction absorbed = 1.55% | AR9: Acute freq = 1 event per day; Chronic freq = 1 event per year; fraction absorbed = 1.55% | BE9: Youth 11 to 15 years skin surface area to body weight ratio = 6.34
D10: Medium | E10: 1 | F10: 1 | G10: =G5 -> 0.5412 | H10: 1 | I10: =I5 -> 1 | J10: 1.4 | K10: =$M$53 -> 0.015508 | L10: =J10*G10*K10 -> 0.011750101 | M10: Inside of two hands (palms, fingers) | N10: =(INDEX('Dermal Sensitivity Analysis'!$B$55:$D$61, MATCH($M10,'Dermal Sensitivity Analysis'!$A$55:$A$61, 0), MATCH(N$3, 'Dermal Sensitivity Analysis'!$B$54:$D$54, 0)))*$L10*$E10 -> 0.072778905 | O10: =(INDEX('Dermal Sensitivity Analysis'!$B$55:$D$61, MATCH($M10,'Dermal Sensitivity Analysis'!$A$55:$A$61, 0), MATCH(O$3, 'Dermal Sensitivity Analysis'!$B$54:$D$54, 0)))*$L10*$F10 -> 0.068104638 | P10: =(INDEX('Dermal Sensitivity Analysis'!$B$55:$D$61, MATCH($M10,'Dermal Sensitivity Analysis'!$A$55:$A$61, 0), MATCH(P$3, 'Dermal Sensitivity Analysis'!$B$54:$D$54, 0)))*$L10*$F10 -> 0.074472474 | Q10: =N10*$I10 -> 0.072778905 | R10: =O10*$I10 -> 0.068104638 | S10: =P10*$I10 -> 0.074472474 | T10: =$AD$3/Q10 -> 98.929766 | U10: =$AD$3/R10 -> 105.71967 | V10: =$AD$3/S10 -> 96.680016 | W10: n/a | X10: n/a | Y10: n/a | Z10: n/a | AA10: n/a | AB10: n/a | AD10: Youth 11 to 15 years skin surface area to body weight ratio = 6.34 | AR10: Youth 11 to 15 years skin surface area to body weight ratio = 6.34 | BE10: Matrix content = MOEs Dermal Benchmark < 30 | BG10: Weight Fraction (%)
D11: Low | E11: 1 | F11: 1 | G11: =G10 -> 0.5412 | H11: 1 | I11: =I5 -> 1 | J11: 0.7 | K11: =$M$53 -> 0.015508 | L11: =J11*G11*K11 -> 0.0058750507 | M11: Inside of two hands (palms, fingers) | N11: =(INDEX('Dermal Sensitivity Analysis'!$B$55:$D$61, MATCH($M11,'Dermal Sensitivity Analysis'!$A$55:$A$61, 0), MATCH(N$3, 'Dermal Sensitivity Analysis'!$B$54:$D$54, 0)))*$L11*$E11 -> 0.036389452 | O11: =(INDEX('Dermal Sensitivity Analysis'!$B$55:$D$61, MATCH($M11,'Dermal Sensitivity Analysis'!$A$55:$A$61, 0), MATCH(O$3, 'Dermal Sensitivity Analysis'!$B$54:$D$54, 0)))*$L11*$F11 -> 0.034052319 | P11: =(INDEX('Dermal Sensitivity Analysis'!$B$55:$D$61, MATCH($M11,'Dermal Sensitivity Analysis'!$A$55:$A$61, 0), MATCH(P$3, 'Dermal Sensitivity Analysis'!$B$54:$D$54, 0)))*$L11*$F11 -> 0.037236237 | Q11: =N11*$I11 -> 0.036389452 | R11: =O11*$I11 -> 0.034052319 | S11: =P11*$I11 -> 0.037236237 | T11: =$AD$3/Q11 -> 197.85953 | U11: =$AD$3/R11 -> 211.43934 | V11: =$AD$3/S11 -> 193.36003 | W11: n/a | X11: n/a | Y11: n/a | Z11: n/a | AA11: n/a | AB11: n/a | AD11: Matrix content = MOEs Dermal Benchmark < 30 | AF11: Weight Fraction (%) | AR11: Matrix content = MOEs Dermal Benchmark < 30 | AT11: Weight Fraction (%) | BG11: Outside Range | BI11: Uniblack2 | BL11: Cera Fluida
C12: ='COU Crosswalk'!C4 -> UniBlack2 black granite treatment | D12: High | E12: 1 | F12: 1 | G12: =('COU Crosswalk'!L4)/100 -> 0.5 | H12: 1 | I12: 1 | J12: 2.1 | K12: =$M$53 -> 0.015508 | L12: =J12*G12*K12 -> 0.0162834 | M12: Inside of two hands (palms, fingers) | N12: =(INDEX('Dermal Sensitivity Analysis'!$B$55:$D$61, MATCH($M12,'Dermal Sensitivity Analysis'!$A$55:$A$61, 0), MATCH(N$3, 'Dermal Sensitivity Analysis'!$B$54:$D$54, 0)))*$L12*$E12 -> 0.10085768 | O12: =(INDEX('Dermal Sensitivity Analysis'!$B$55:$D$61, MATCH($M12,'Dermal Sensitivity Analysis'!$A$55:$A$61, 0), MATCH(O$3, 'Dermal Sensitivity Analysis'!$B$54:$D$54, 0)))*$L12*$F12 -> 0.094380042 | P12: =(INDEX('Dermal Sensitivity Analysis'!$B$55:$D$61, MATCH($M12,'Dermal Sensitivity Analysis'!$A$55:$A$61, 0), MATCH(P$3, 'Dermal Sensitivity Analysis'!$B$54:$D$54, 0)))*$L12*$F12 -> 0.10320465 | Q12: =N12*$I12 -> 0.10085768 | R12: =O12*$I12 -> 0.094380042 | S12: =P12*$I12 -> 0.10320465 | T12: =$AD$3/Q12 -> 71.387719 | U12: =$AD$3/R12 -> 76.287315 | V12: =$AD$3/S12 -> 69.7643 | W12: n/a | X12: n/a | Y12: n/a | Z12: n/a | AA12: n/a | AB12: n/a | AF12: 0.1 | AG12: 0.5 | AH12: 1 | AI12: 2.25 | AJ12: 3.5 | AK12: 10 | AL12: 20 | AM12: 30 | AN12: 40 | AO12: 54 | AT12: Outside Range | AV12: Quartz Toner | AY12: Outside Range | BA12: Cera TeWax | BG12: 10 | BH12: 20 | BI12: 30 | BJ12: 40 | BK12: 50 | BL12: 54
D13: Medium | E13: 1 | F13: 1 | G13: =('COU Crosswalk'!K4)/100 -> 0.4 | H13: 1 | I13: 1 | J13: 1.4 | K13: =$M$53 -> 0.015508 | L13: =J13*G13*K13 -> 0.00868448 | M13: Inside of one hand (palms, fingers) | N13: =(INDEX('Dermal Sensitivity Analysis'!$B$55:$D$61, MATCH($M13,'Dermal Sensitivity Analysis'!$A$55:$A$61, 0), MATCH(N$3, 'Dermal Sensitivity Analysis'!$B$54:$D$54, 0)))*$L13*$E13 -> 0.026895382 | O13: =(INDEX('Dermal Sensitivity Analysis'!$B$55:$D$61, MATCH($M13,'Dermal Sensitivity Analysis'!$A$55:$A$61, 0), MATCH(O$3, 'Dermal Sensitivity Analysis'!$B$54:$D$54, 0)))*$L13*$F13 -> 0.025168011 | P13: =(INDEX('Dermal Sensitivity Analysis'!$B$55:$D$61, MATCH($M13,'Dermal Sensitivity Analysis'!$A$55:$A$61, 0), MATCH(P$3, 'Dermal Sensitivity Analysis'!$B$54:$D$54, 0)))*$L13*$F13 -> 0.027521239 | Q13: =N13*$I13 -> 0.026895382 | R13: =O13*$I13 -> 0.025168011 | S13: =P13*$I13 -> 0.027521239 | T13: =$AD$3/Q13 -> 267.70395 | U13: =$AD$3/R13 -> 286.07743 | V13: =$AD$3/S13 -> 261.61612 | W13: n/a | X13: n/a | Y13: n/a | Z13: n/a | AA13: n/a | AB13: n/a | AD13: Qu (mg/cm2-event | AE13: 0.7 | AF13: 383 | AG13: 77 | AH13: 38 | AI13: 17 | AJ13: 11 | AK13: 1482 | AL13: 741 | AM13: 349 | AN13: 262 | AO13: 193 | AT13: 0.1 | AU13: 0.5 | AV13: 1 | AW13: 2.25 | AX13: 3.5 | AY13: 10 | AZ13: 20 | BA13: 30 | BB13: 40 | BC13: 50 | BE13: Qu (mg/cm2-event | BF13: 0.7 | BG13: 1482 | BH13: 741 | BI13: 349 | BJ13: 262 | BK13: 209 | BL13: 193
D14: Low | E14: 1 | F14: 1 | G14: =('COU Crosswalk'!J4)/100 -> 0.3 | H14: 1 | I14: 1 | J14: 0.7 | K14: =$M$53 -> 0.015508 | L14: =J14*G14*K14 -> 0.00325668 | M14: Inside of one hand (palms, fingers) | N14: =(INDEX('Dermal Sensitivity Analysis'!$B$55:$D$61, MATCH($M14,'Dermal Sensitivity Analysis'!$A$55:$A$61, 0), MATCH(N$3, 'Dermal Sensitivity Analysis'!$B$54:$D$54, 0)))*$L14*$E14 -> 0.010085768 | O14: =(INDEX('Dermal Sensitivity Analysis'!$B$55:$D$61, MATCH($M14,'Dermal Sensitivity Analysis'!$A$55:$A$61, 0), MATCH(O$3, 'Dermal Sensitivity Analysis'!$B$54:$D$54, 0)))*$L14*$F14 -> 0.0094380042 | P14: =(INDEX('Dermal Sensitivity Analysis'!$B$55:$D$61, MATCH($M14,'Dermal Sensitivity Analysis'!$A$55:$A$61, 0), MATCH(P$3, 'Dermal Sensitivity Analysis'!$B$54:$D$54, 0)))*$L14*$F14 -> 0.010320465 | Q14: =N14*$I14 -> 0.010085768 | R14: =O14*$I14 -> 0.0094380042 | S14: =P14*$I14 -> 0.010320465 | T14: =$AD$3/Q14 -> 713.87719 | U14: =$AD$3/R14 -> 762.87315 | V14: =$AD$3/S14 -> 697.643 | W14: n/a | X14: n/a | Y14: n/a | Z14: n/a | AA14: n/a | AB14: n/a | AE14: 1.4 | AF14: 191 | AG14: 38 | AH14: 19 | AI14: 9 | AJ14: 5 | AK14: 741 | AL14: 371 | AM14: 174 | AN14: 131 | AO14: 97 | AR14: Qu (mg/cm2-event | AS14: 0.7 | AT14: 104646 | AU14: 20929 | AV14: 10465 | AW14: 4661 | AX14: 2990 | AY14: 1046 | AZ14: 523 | BA14: 349 | BB14: 262 | BC14: 209 | BF14: 1.4 | BG14: 741 | BH14: 371 | BI14: 174 | BJ14: 131 | BK14: 105 | BL14: 97
B15: All-purpose waxes and polishes (paste) | C15: ='COU Crosswalk'!C5 -> Cera TeWax | D15: High | E15: 1 | F15: 1 | G15: 0.5 | H15: 1 | I15: 1 | J15: 2.1 | K15: =$M$53 -> 0.015508 | L15: =J15*G15*K15 -> 0.0162834 | M15: Inside of two hands (palms, fingers) | N15: =(INDEX('Dermal Sensitivity Analysis'!$B$55:$D$61, MATCH($M15,'Dermal Sensitivity Analysis'!$A$55:$A$61, 0), MATCH(N$3, 'Dermal Sensitivity Analysis'!$B$54:$D$54, 0)))*$L15*$E15 -> 0.10085768 | O15: =(INDEX('Dermal Sensitivity Analysis'!$B$55:$D$61, MATCH($M15,'Dermal Sensitivity Analysis'!$A$55:$A$61, 0), MATCH(O$3, 'Dermal Sensitivity Analysis'!$B$54:$D$54, 0)))*$L15*$F15 -> 0.094380042 | P15: =(INDEX('Dermal Sensitivity Analysis'!$B$55:$D$61, MATCH($M15,'Dermal Sensitivity Analysis'!$A$55:$A$61, 0), MATCH(P$3, 'Dermal Sensitivity Analysis'!$B$54:$D$54, 0)))*$L15*$F15 -> 0.10320465 | Q15: =N15*$I15 -> 0.10085768 | R15: =O15*$I15 -> 0.094380042 | S15: =P15*$I15 -> 0.10320465 | T15: =$AD$3/Q15 -> 71.387719 | U15: =$AD$3/R15 -> 76.287315 | V15: =$AD$3/S15 -> 69.7643 | W15: n/a | X15: n/a | Y15: n/a | Z15: n/a | AA15: n/a | AB15: n/a | AE15: 2.1 | AF15: 128 | AG15: 26 | AH15: 13 | AI15: 6 | AJ15: 4 | AK15: 494 | AL15: 247 | AM15: 116 | AN15: 87 | AO15: 64 | AS15: 1.4 | AT15: 52323 | AU15: 10465 | AV15: 5232 | AW15: 2325 | AX15: 1495 | AY15: 523 | AZ15: 262 | BA15: 174 | BB15: 131 | BC15: 105 | BF15: 2.1 | BG15: 494 | BH15: 247 | BI15: 116 | BJ15: 87 | BK15: 70 | BL15: 64
D16: Medium | E16: 1 | F16: 1 | G16: =('COU Crosswalk'!K5)/100 -> 0.4 | H16: 1 | I16: 1 | J16: 1.4 | K16: =$M$53 -> 0.015508 | L16: =J16*G16*K16 -> 0.00868448 | M16: Inside of one hand (palms, fingers) | N16: =(INDEX('Dermal Sensitivity Analysis'!$B$55:$D$61, MATCH($M16,'Dermal Sensitivity Analysis'!$A$55:$A$61, 0), MATCH(N$3, 'Dermal Sensitivity Analysis'!$B$54:$D$54, 0)))*$L16*$E16 -> 0.026895382 | O16: =(INDEX('Dermal Sensitivity Analysis'!$B$55:$D$61, MATCH($M16,'Dermal Sensitivity Analysis'!$A$55:$A$61, 0), MATCH(O$3, 'Dermal Sensitivity Analysis'!$B$54:$D$54, 0)))*$L16*$F16 -> 0.025168011 | P16: =(INDEX('Dermal Sensitivity Analysis'!$B$55:$D$61, MATCH($M16,'Dermal Sensitivity Analysis'!$A$55:$A$61, 0), MATCH(P$3, 'Dermal Sensitivity Analysis'!$B$54:$D$54, 0)))*$L16*$F16 -> 0.027521239 | Q16: =N16*$I16 -> 0.026895382 | R16: =O16*$I16 -> 0.025168011 | S16: =P16*$I16 -> 0.027521239 | T16: =$AD$3/Q16 -> 267.70395 | U16: =$AD$3/R16 -> 286.07743 | V16: =$AD$3/S16 -> 261.61612 | W16: n/a | X16: n/a | Y16: n/a | Z16: n/a | AA16: n/a | AB16: n/a | AE16: 2.3 | AF16: 117 | AG16: 23 | AH16: 12 | AI16: 5 | AJ16: 3 | AK16: 451 | AL16: 226 | AM16: 106 | AN16: 80 | AO16: 59 | AS16: 2.1 | AT16: 34882 | AU16: 6976 | AV16: 3488 | AW16: 1550 | AX16: 997 | AY16: 349 | AZ16: 174 | BA16: 116 | BB16: 87 | BC16: 70 | BF16: 2.3 | BG16: 451 | BH16: 226 | BI16: 106 | BJ16: 80 | BK16: 64 | BL16: 59
D17: Low | E17: 1 | F17: 1 | G17: =('COU Crosswalk'!J5)/100 -> 0.3 | H17: 1 | I17: 1 | J17: 0.7 | K17: =$M$53 -> 0.015508 | L17: =J17*G17*K17 -> 0.00325668 | M17: Inside of one hand (palms, fingers) | N17: =(INDEX('Dermal Sensitivity Analysis'!$B$55:$D$61, MATCH($M17,'Dermal Sensitivity Analysis'!$A$55:$A$61, 0), MATCH(N$3, 'Dermal Sensitivity Analysis'!$B$54:$D$54, 0)))*$L17*$E17 -> 0.010085768 | O17: =(INDEX('Dermal Sensitivity Analysis'!$B$55:$D$61, MATCH($M17,'Dermal Sensitivity Analysis'!$A$55:$A$61, 0), MATCH(O$3, 'Dermal Sensitivity Analysis'!$B$54:$D$54, 0)))*$L17*$F17 -> 0.0094380042 | P17: =(INDEX('Dermal Sensitivity Analysis'!$B$55:$D$61, MATCH($M17,'Dermal Sensitivity Analysis'!$A$55:$A$61, 0), MATCH(P$3, 'Dermal Sensitivity Analysis'!$B$54:$D$54, 0)))*$L17*$F17 -> 0.010320465 | Q17: =N17*$I17 -> 0.010085768 | R17: =O17*$I17 -> 0.0094380042 | S17: =P17*$I17 -> 0.010320465 | T17: =$AD$3/Q17 -> 713.87719 | U17: =$AD$3/R17 -> 762.87315 | V17: =$AD$3/S17 -> 697.643 | W17: n/a | X17: n/a | Y17: n/a | Z17: n/a | AA17: n/a | AB17: n/a | AD17: Qu from U.S. EPA, 1992 | AS17: 2.3 | AT17: 31849 | AU17: 6370 | AV17: 3185 | AW17: 1416 | AX17: 910 | AY17: 318 | AZ17: 159 | BA17: 106 | BB17: 80 | BC17: 64 | BE17: Qu from U.S. EPA, 1992
C18: For Sensitivity | D18: Sensitivity Product | E18: 1 | F18: 1 | G18: 0.2 | H18: 1 | I18: 1 | J18: 2.3 | K18: =$M$53 -> 0.015508 | L18: =J18*G18*K18 -> 0.00713368 | M18: Inside of two hands (palms, fingers) | N18: =(INDEX('Dermal Sensitivity Analysis'!$B$55:$D$61, MATCH($M18,'Dermal Sensitivity Analysis'!$A$55:$A$61, 0), MATCH(N$3, 'Dermal Sensitivity Analysis'!$B$54:$D$54, 0)))*$L18*$E18 -> 0.044185271 | O18: =(INDEX('Dermal Sensitivity Analysis'!$B$55:$D$61, MATCH($M18,'Dermal Sensitivity Analysis'!$A$55:$A$61, 0), MATCH(O$3, 'Dermal Sensitivity Analysis'!$B$54:$D$54, 0)))*$L18*$F18 -> 0.041347447 | P18: =(INDEX('Dermal Sensitivity Analysis'!$B$55:$D$61, MATCH($M18,'Dermal Sensitivity Analysis'!$A$55:$A$61, 0), MATCH(P$3, 'Dermal Sensitivity Analysis'!$B$54:$D$54, 0)))*$L18*$F18 -> 0.045213465 | Q18: =N18*$I18 -> 0.044185271 | R18: =O18*$I18 -> 0.041347447 | S18: =P18*$I18 -> 0.045213465 | T18: =$AD$3/Q18 -> 162.95023 | U18: =$AD$3/R18 -> 174.13409 | V18: =$AD$3/S18 -> 159.2446 | W18: n/a | X18: n/a | Y18: n/a | Z18: n/a | AA18: n/a | AB18: n/a | AD18: Qu calculated based on 1.1 g/cm3 product density and film thickness was a default used in CEM, Table B-3 for All-purpose | AR18: Qu from U.S. EPA, 1992 | BE18: Qu calculated based on 1.1 g/cm3 product density and film thickness was a default used in
C19: For Sensitivity | D19: Sensitivity Product | E19: 1 | F19: 1 | G19: 0.1 | H19: 1 | I19: 1 | J19: 2.1 | K19: =$M$53 -> 0.015508 | L19: =J19*G19*K19 -> 0.00325668 | M19: Inside of two hands (palms, fingers) | N19: =(INDEX('Dermal Sensitivity Analysis'!$B$55:$D$61, MATCH($M19,'Dermal Sensitivity Analysis'!$A$55:$A$61, 0), MATCH(N$3, 'Dermal Sensitivity Analysis'!$B$54:$D$54, 0)))*$L19*$E19 -> 0.020171537 | O19: =(INDEX('Dermal Sensitivity Analysis'!$B$55:$D$61, MATCH($M19,'Dermal Sensitivity Analysis'!$A$55:$A$61, 0), MATCH(O$3, 'Dermal Sensitivity Analysis'!$B$54:$D$54, 0)))*$L19*$F19 -> 0.018876008 | P19: =(INDEX('Dermal Sensitivity Analysis'!$B$55:$D$61, MATCH($M19,'Dermal Sensitivity Analysis'!$A$55:$A$61, 0), MATCH(P$3, 'Dermal Sensitivity Analysis'!$B$54:$D$54, 0)))*$L19*$F19 -> 0.02064093 | Q19: =N19*$I19 -> 0.020171537 | R19: =O19*$I19 -> 0.018876008 | S19: =P19*$I19 -> 0.02064093 | T19: =$AD$3/Q19 -> 356.93859 | U19: =$AD$3/R19 -> 381.43658 | V19: =$AD$3/S19 -> 348.8215 | W19: n/a | X19: n/a | Y19: n/a | Z19: n/a | AA19: n/a | AB19: n/a | AD19: waxes and polishes (furniture, floor, etc.) | AR19: Qu calculated based on 1.1 g/cm3 product density and film thickness was a default used in CEM, Table B-3 for All-purpose waxes and | BE19: CEM, Table B-3 for All-purpose waxes and polishes (furniture, floor, etc.)
C20: For Sensitivity | D20: Sensitivity Product | E20: 1 | F20: 1 | G20: 0.2 | H20: 1 | I20: 1 | J20: 0.7 | K20: =$M$53 -> 0.015508 | L20: =J20*G20*K20 -> 0.00217112 | M20: Inside of two hands (palms, fingers) | N20: =(INDEX('Dermal Sensitivity Analysis'!$B$55:$D$61, MATCH($M20,'Dermal Sensitivity Analysis'!$A$55:$A$61, 0), MATCH(N$3, 'Dermal Sensitivity Analysis'!$B$54:$D$54, 0)))*$L20*$E20 -> 0.013447691 | O20: =(INDEX('Dermal Sensitivity Analysis'!$B$55:$D$61, MATCH($M20,'Dermal Sensitivity Analysis'!$A$55:$A$61, 0), MATCH(O$3, 'Dermal Sensitivity Analysis'!$B$54:$D$54, 0)))*$L20*$F20 -> 0.012584006 | P20: =(INDEX('Dermal Sensitivity Analysis'!$B$55:$D$61, MATCH($M20,'Dermal Sensitivity Analysis'!$A$55:$A$61, 0), MATCH(P$3, 'Dermal Sensitivity Analysis'!$B$54:$D$54, 0)))*$L20*$F20 -> 0.01376062 | Q20: =N20*$I20 -> 0.013447691 | R20: =O20*$I20 -> 0.012584006 | S20: =P20*$I20 -> 0.01376062 | T20: =$AD$3/Q20 -> 535.40789 | U20: =$AD$3/R20 -> 572.15486 | V20: =$AD$3/S20 -> 523.23225 | W20: n/a | X20: n/a | Y20: n/a | Z20: n/a | AA20: n/a | AB20: n/a | AR20: polishes (furniture, floor, etc.)
C21: For Sensitivity | D21: Sensitivity Product | E21: 1 | F21: 1 | G21: 0.005 | H21: 1 | I21: 1 | J21: 0.7 | K21: =$M$53 -> 0.015508 | L21: =J21*G21*K21 -> 5.4278e-05 | M21: Inside of two hands (palms, fingers) | N21: =(INDEX('Dermal Sensitivity Analysis'!$B$55:$D$61, MATCH($M21,'Dermal Sensitivity Analysis'!$A$55:$A$61, 0), MATCH(N$3, 'Dermal Sensitivity Analysis'!$B$54:$D$54, 0)))*$L21*$E21 -> 0.00033619228 | O21: =(INDEX('Dermal Sensitivity Analysis'!$B$55:$D$61, MATCH($M21,'Dermal Sensitivity Analysis'!$A$55:$A$61, 0), MATCH(O$3, 'Dermal Sensitivity Analysis'!$B$54:$D$54, 0)))*$L21*$F21 -> 0.00031460014 | P21: =(INDEX('Dermal Sensitivity Analysis'!$B$55:$D$61, MATCH($M21,'Dermal Sensitivity Analysis'!$A$55:$A$61, 0), MATCH(P$3, 'Dermal Sensitivity Analysis'!$B$54:$D$54, 0)))*$L21*$F21 -> 0.00034401549 | Q21: =N21*$I21 -> 0.00033619228 | R21: =O21*$I21 -> 0.00031460014 | S21: =P21*$I21 -> 0.00034401549 | T21: =$AD$3/Q21 -> 21416.316 | U21: =$AD$3/R21 -> 22886.195 | V21: =$AD$3/S21 -> 20929.29 | AD21: Figure 5-5 Panel B | AL21: Figure 5-5 Panel A
B22: All-purpose waxes and polishes (paste) | C22: ='COU Crosswalk'!C6 -> Quartz Toner | D22: High | E22: 1 | F22: 1 | G22: =('COU Crosswalk'!L6)/100 -> 0.035 | H22: 1 | I22: 1 | J22: 2.1 | K22: =$M$54 -> 0.011614 | L22: =J22*G22*K22 -> 0.000853629 | M22: Inside of two hands (palms, fingers) | N22: =(INDEX('Dermal Sensitivity Analysis'!$B$55:$D$61, MATCH($M22,'Dermal Sensitivity Analysis'!$A$55:$A$61, 0), MATCH(N$3, 'Dermal Sensitivity Analysis'!$B$54:$D$54, 0)))*$L22*$E22 -> 0.0052872891 | O22: =(INDEX('Dermal Sensitivity Analysis'!$B$55:$D$61, MATCH($M22,'Dermal Sensitivity Analysis'!$A$55:$A$61, 0), MATCH(O$3, 'Dermal Sensitivity Analysis'!$B$54:$D$54, 0)))*$L22*$F22 -> 0.00494771 | P22: =(INDEX('Dermal Sensitivity Analysis'!$B$55:$D$61, MATCH($M22,'Dermal Sensitivity Analysis'!$A$55:$A$61, 0), MATCH(P$3, 'Dermal Sensitivity Analysis'!$B$54:$D$54, 0)))*$L22*$F22 -> 0.0054103246 | Q22: =N22*$I22 -> 0.0052872891 | R22: =O22*$I22 -> 0.00494771 | S22: =P22*$I22 -> 0.0054103246 | T22: =$AD$3/Q22 -> 1361.7564 | U22: =$AD$3/R22 -> 1455.2187 | V22: =$AD$3/S22 -> 1330.7889 | W22: n/a | X22: n/a | Y22: n/a | Z22: n/a | AA22: n/a | AB22: n/a | AD22: Panel B. Youth 11 to 15 Years of Age Inside of One Hand Sensitivity Analysis Matrix | AL22: Panel A. Youth 11 to 15 Years of Age Inside of Two Hands Sensitivity Analysis Matrix
D23: Sensitivity High | E23: 1 | F23: 1 | G23: =('COU Crosswalk'!L7)/100 -> 0.035 | H23: 1 | I23: 1 | J23: 2.3 | K23: =$M$53 -> 0.015508 | L23: =J23*G23*K23 -> 0.001248394 | M23: Inside of two hands (palms, fingers) | N23: =(INDEX('Dermal Sensitivity Analysis'!$B$55:$D$61, MATCH($M23,'Dermal Sensitivity Analysis'!$A$55:$A$61, 0), MATCH(N$3, 'Dermal Sensitivity Analysis'!$B$54:$D$54, 0)))*$L23*$E23 -> 0.0077324224 | O23: =(INDEX('Dermal Sensitivity Analysis'!$B$55:$D$61, MATCH($M23,'Dermal Sensitivity Analysis'!$A$55:$A$61, 0), MATCH(O$3, 'Dermal Sensitivity Analysis'!$B$54:$D$54, 0)))*$L23*$F23 -> 0.0072358032 | P23: =(INDEX('Dermal Sensitivity Analysis'!$B$55:$D$61, MATCH($M23,'Dermal Sensitivity Analysis'!$A$55:$A$61, 0), MATCH(P$3, 'Dermal Sensitivity Analysis'!$B$54:$D$54, 0)))*$L23*$F23 -> 0.0079123563 | Q23: =N23*$I23 -> 0.0077324224 | R23: =O23*$I23 -> 0.0072358032 | S23: =P23*$I23 -> 0.0079123563 | T23: =$AD$3/Q23 -> 931.14416 | U23: =$AD$3/R23 -> 995.05194 | V23: =$AD$3/S23 -> 909.96913 | W23: n/a | X23: n/a | Y23: n/a | Z23: n/a | AA23: n/a | AB23: n/a | AD23: Chronic freq = 365 events/yr; fraction absorbed = 1.16%; WF outside reported range | AL23: Chronic freq = 365 events/yr; fraction absorbed = 1.16%; WF outside reported range
D24: Medium | E24: 1 | F24: 1 | G24: =('COU Crosswalk'!K6)/100 -> 0.0225 | H24: 1 | I24: 1 | J24: 1.4 | K24: =$M$54 -> 0.011614 | L24: =J24*G24*K24 -> 0.000365841 | M24: Inside of one hand (palms, fingers) | N24: =(INDEX('Dermal Sensitivity Analysis'!$B$55:$D$61, MATCH($M24,'Dermal Sensitivity Analysis'!$A$55:$A$61, 0), MATCH(N$3, 'Dermal Sensitivity Analysis'!$B$54:$D$54, 0)))*$L24*$E24 -> 0.0011329905 | O24: =(INDEX('Dermal Sensitivity Analysis'!$B$55:$D$61, MATCH($M24,'Dermal Sensitivity Analysis'!$A$55:$A$61, 0), MATCH(O$3, 'Dermal Sensitivity Analysis'!$B$54:$D$54, 0)))*$L24*$F24 -> 0.0010602236 | P24: =(INDEX('Dermal Sensitivity Analysis'!$B$55:$D$61, MATCH($M24,'Dermal Sensitivity Analysis'!$A$55:$A$61, 0), MATCH(P$3, 'Dermal Sensitivity Analysis'!$B$54:$D$54, 0)))*$L24*$F24 -> 0.0011593553 | Q24: =N24*$I24 -> 0.0011329905 | R24: =O24*$I24 -> 0.0010602236 | S24: =P24*$I24 -> 0.0011593553 | T24: =$AD$3/Q24 -> 6354.8634 | U24: =$AD$3/R24 -> 6791.0205 | V24: =$AD$3/S24 -> 6210.3482 | W24: n/a | X24: n/a | Y24: n/a | Z24: n/a | AA24: n/a | AB24: n/a | AD24: Chronic freq = 365 events/yr; fraction absorbed = 1.16% | AL24: Chronic freq = 365 events/yr; fraction absorbed = 1.16%
D25: Sensitivity Medium | E25: 1 | F25: 1 | G25: =('COU Crosswalk'!K7)/100 -> 0.0225 | H25: 1 | I25: 1 | J25: 2.3 | K25: =$M$53 -> 0.015508 | L25: =J25*G25*K25 -> 0.000802539 | M25: Inside of two hands (palms, fingers) | N25: =(INDEX('Dermal Sensitivity Analysis'!$B$55:$D$61, MATCH($M25,'Dermal Sensitivity Analysis'!$A$55:$A$61, 0), MATCH(N$3, 'Dermal Sensitivity Analysis'!$B$54:$D$54, 0)))*$L25*$E25 -> 0.004970843 | O25: =(INDEX('Dermal Sensitivity Analysis'!$B$55:$D$61, MATCH($M25,'Dermal Sensitivity Analysis'!$A$55:$A$61, 0), MATCH(O$3, 'Dermal Sensitivity Analysis'!$B$54:$D$54, 0)))*$L25*$F25 -> 0.0046515878 | P25: =(INDEX('Dermal Sensitivity Analysis'!$B$55:$D$61, MATCH($M25,'Dermal Sensitivity Analysis'!$A$55:$A$61, 0), MATCH(P$3, 'Dermal Sensitivity Analysis'!$B$54:$D$54, 0)))*$L25*$F25 -> 0.0050865148 | Q25: =N25*$I25 -> 0.004970843 | R25: =O25*$I25 -> 0.0046515878 | S25: =P25*$I25 -> 0.0050865148 | T25: =$AD$3/Q25 -> 1448.4465 | U25: =$AD$3/R25 -> 1547.8586 | V25: =$AD$3/S25 -> 1415.5075 | W25: n/a | X25: n/a | Y25: n/a | Z25: n/a | AA25: n/a | AB25: n/a | AD25: Youth 11 to 15 years skin surface area to body weight ratio = 3.17 | AL25: Youth 11 to 15 years skin surface area to body weight ratio = 6.34
D26: Low | E26: 1 | F26: 1 | G26: =('COU Crosswalk'!J6)/100 -> 0.01 | H26: 1 | I26: 1 | J26: 0.7 | K26: =$M$54 -> 0.011614 | L26: =J26*G26*K26 -> 8.1298e-05 | M26: Inside of one hand (palms, fingers) | N26: =(INDEX('Dermal Sensitivity Analysis'!$B$55:$D$61, MATCH($M26,'Dermal Sensitivity Analysis'!$A$55:$A$61, 0), MATCH(N$3, 'Dermal Sensitivity Analysis'!$B$54:$D$54, 0)))*$L26*$E26 -> 0.00025177567 | O26: =(INDEX('Dermal Sensitivity Analysis'!$B$55:$D$61, MATCH($M26,'Dermal Sensitivity Analysis'!$A$55:$A$61, 0), MATCH(O$3, 'Dermal Sensitivity Analysis'!$B$54:$D$54, 0)))*$L26*$F26 -> 0.00023560524 | P26: =(INDEX('Dermal Sensitivity Analysis'!$B$55:$D$61, MATCH($M26,'Dermal Sensitivity Analysis'!$A$55:$A$61, 0), MATCH(P$3, 'Dermal Sensitivity Analysis'!$B$54:$D$54, 0)))*$L26*$F26 -> 0.00025763451 | Q26: =N26*$I26 -> 0.00025177567 | R26: =O26*$I26 -> 0.00023560524 | S26: =P26*$I26 -> 0.00025763451 | T26: =$AD$3/Q26 -> 28596.885 | U26: =$AD$3/R26 -> 30559.592 | V26: =$AD$3/S26 -> 27946.567 | W26: n/a | X26: n/a | Y26: n/a | Z26: n/a | AA26: n/a | AB26: n/a | AD26: Matrix content = MOEs Dermal Benchmark < 30 | AF26: Weight Fraction (%) | AL26: Matrix content = MOEs Dermal Benchmark < 30 | AN26: Weight Fraction (%)
D27: Sensitivity Low | E27: 1 | F27: 1 | G27: =('COU Crosswalk'!J7)/100 -> 0.01 | H27: 1 | I27: 1 | J27: 2.3 | K27: =$M$53 -> 0.015508 | L27: =J27*G27*K27 -> 0.000356684 | M27: Inside of two hands (palms, fingers) | N27: =(INDEX('Dermal Sensitivity Analysis'!$B$55:$D$61, MATCH($M27,'Dermal Sensitivity Analysis'!$A$55:$A$61, 0), MATCH(N$3, 'Dermal Sensitivity Analysis'!$B$54:$D$54, 0)))*$L27*$E27 -> 0.0022092636 | O27: =(INDEX('Dermal Sensitivity Analysis'!$B$55:$D$61, MATCH($M27,'Dermal Sensitivity Analysis'!$A$55:$A$61, 0), MATCH(O$3, 'Dermal Sensitivity Analysis'!$B$54:$D$54, 0)))*$L27*$F27 -> 0.0020673723 | P27: =(INDEX('Dermal Sensitivity Analysis'!$B$55:$D$61, MATCH($M27,'Dermal Sensitivity Analysis'!$A$55:$A$61, 0), MATCH(P$3, 'Dermal Sensitivity Analysis'!$B$54:$D$54, 0)))*$L27*$F27 -> 0.0022606732 | Q27: =N27*$I27 -> 0.0022092636 | R27: =O27*$I27 -> 0.0020673723 | S27: =P27*$I27 -> 0.0022606732 | T27: =$AD$3/Q27 -> 3259.0046 | U27: =$AD$3/R27 -> 3482.6818 | V27: =$AD$3/S27 -> 3184.8919 | W27: n/a | X27: n/a | Y27: n/a | Z27: n/a | AA27: n/a | AB27: n/a | AF27: 0.1 | AG27: 0.5 | AH27: 1 | AI27: 2.25 | AJ27: 3.5 | AN27: 0.1 | AO27: 0.5 | AP27: 1 | AQ27: 2.25 | AR27: 3.5
B28: All-purpose liquid spray cleaner/polish | C28: ='COU Crosswalk'!C7 -> Lustro Italiano | D28: High | E28: 1 | F28: 1 | G28: =('COU Crosswalk'!L7)/100 -> 0.035 | H28: 365 | I28: 1 | J28: 2.1 | K28: =$M$54 -> 0.011614 | L28: =J28*G28*K28 -> 0.000853629 | M28: Inside of two hands (palms, fingers) | N28: =(INDEX('Dermal Sensitivity Analysis'!$B$55:$D$61, MATCH($M28,'Dermal Sensitivity Analysis'!$A$55:$A$61, 0), MATCH(N$3, 'Dermal Sensitivity Analysis'!$B$54:$D$54, 0)))*$L28*$E28 -> 0.0052872891 | O28: =(INDEX('Dermal Sensitivity Analysis'!$B$55:$D$61, MATCH($M28,'Dermal Sensitivity Analysis'!$A$55:$A$61, 0), MATCH(O$3, 'Dermal Sensitivity Analysis'!$B$54:$D$54, 0)))*$L28*$F28 -> 0.00494771 | P28: =(INDEX('Dermal Sensitivity Analysis'!$B$55:$D$61, MATCH($M28,'Dermal Sensitivity Analysis'!$A$55:$A$61, 0), MATCH(P$3, 'Dermal Sensitivity Analysis'!$B$54:$D$54, 0)))*$L28*$F28 -> 0.0054103246 | Q28: =N28*$I28 -> 0.0052872891 | R28: =O28*$I28 -> 0.00494771 | S28: =P28*$I28 -> 0.0054103246 | T28: =$AD$3/Q28 -> 1361.7564 | U28: =$AD$3/R28 -> 1455.2187 | V28: =$AD$3/S28 -> 1330.7889 | W28: =N28*$H28 -> 1.9298605 | X28: =O28*$H28 -> 1.8059141 | Y28: =P28*$H28 -> 1.9747685 | Z28: =$AD$3/W28 -> 3.7308395 | AA28: =$AD$3/X28 -> 3.9869005 | AB28: =$AD$3/Y28 -> 3.645997 | AD28: Qu (mg/cm2-event) | AE28: 0.7 | AF28: 766 | AG28: 153 | AH28: 77 | AI28: 34 | AJ28: 22 | AL28: Qu (mg/cm2-event) | AM28: 0.7 | AN28: 383 | AO28: 77 | AP28: 38 | AQ28: 17 | AR28: 11
D29: Sensitivity High | E29: 1 | F29: 1 | G29: =G28 -> 0.035 | H29: =H34 -> 300 | I29: =I26 -> 1 | J29: 2.1 | K29: =$M$54 -> 0.011614 | L29: =J29*G29*K29 -> 0.000853629 | M29: Inside of two hands (palms, fingers) | N29: =(INDEX('Dermal Sensitivity Analysis'!$B$55:$D$61, MATCH($M29,'Dermal Sensitivity Analysis'!$A$55:$A$61, 0), MATCH(N$3, 'Dermal Sensitivity Analysis'!$B$54:$D$54, 0)))*$L29*$E29 -> 0.0052872891 | O29: =(INDEX('Dermal Sensitivity Analysis'!$B$55:$D$61, MATCH($M29,'Dermal Sensitivity Analysis'!$A$55:$A$61, 0), MATCH(O$3, 'Dermal Sensitivity Analysis'!$B$54:$D$54, 0)))*$L29*$F29 -> 0.00494771 | P29: =(INDEX('Dermal Sensitivity Analysis'!$B$55:$D$61, MATCH($M29,'Dermal Sensitivity Analysis'!$A$55:$A$61, 0), MATCH(P$3, 'Dermal Sensitivity Analysis'!$B$54:$D$54, 0)))*$L29*$F29 -> 0.0054103246 | Q29: =N29*$I29 -> 0.0052872891 | R29: =O29*$I29 -> 0.00494771 | S29: =P29*$I29 -> 0.0054103246 | T29: =$AD$3/Q29 -> 1361.7564 | U29: =$AD$3/R29 -> 1455.2187 | V29: =$AD$3/S29 -> 1330.7889 | W29: =N29*$H29 -> 1.5861867 | X29: =O29*$H29 -> 1.484313 | Y29: =P29*$H29 -> 1.6230974 | Z29: =$AD$3/W29 -> 4.5391881 | AA29: =$AD$3/X29 -> 4.8507289 | AB29: =$AD$3/Y29 -> 4.435963 | AE29: 1.4 | AF29: 383 | AG29: 77 | AH29: 38 | AI29: 17 | AJ29: 11 | AM29: 1.4 | AN29: 191 | AO29: 38 | AP29: 19 | AQ29: 9 | AR29: 5
D30: Sensitivity High | E30: 1 | F30: 1 | G30: =G29 -> 0.035 | H30: =H28 -> 365 | I30: =I28 -> 1 | J30: 2.1 | K30: =$M$54 -> 0.011614 | L30: =J30*G30*K30 -> 0.000853629 | M30: Inside of one hand (palms, fingers) | N30: =(INDEX('Dermal Sensitivity Analysis'!$B$55:$D$61, MATCH($M30,'Dermal Sensitivity Analysis'!$A$55:$A$61, 0), MATCH(N$3, 'Dermal Sensitivity Analysis'!$B$54:$D$54, 0)))*$L30*$E30 -> 0.0026436446 | O30: =(INDEX('Dermal Sensitivity Analysis'!$B$55:$D$61, MATCH($M30,'Dermal Sensitivity Analysis'!$A$55:$A$61, 0), MATCH(O$3, 'Dermal Sensitivity Analysis'!$B$54:$D$54, 0)))*$L30*$F30 -> 0.002473855 | P30: =(INDEX('Dermal Sensitivity Analysis'!$B$55:$D$61, MATCH($M30,'Dermal Sensitivity Analysis'!$A$55:$A$61, 0), MATCH(P$3, 'Dermal Sensitivity Analysis'!$B$54:$D$54, 0)))*$L30*$F30 -> 0.0027051623 | Q30: =N30*$I30 -> 0.0026436446 | R30: =O30*$I30 -> 0.002473855 | S30: =P30*$I30 -> 0.0027051623 | T30: =$AD$3/Q30 -> 2723.5129 | U30: =$AD$3/R30 -> 2910.4374 | V30: =$AD$3/S30 -> 2661.5778 | W30: =N30*$H30 -> 0.96493027 | X30: =O30*$H30 -> 0.90295707 | Y30: =P30*$H30 -> 0.98738425 | Z30: =$AD$3/W30 -> 7.4616791 | AA30: =$AD$3/X30 -> 7.973801 | AB30: =$AD$3/Y30 -> 7.291994 | AE30: 2.1 | AF30: 255 | AG30: 51 | AH30: 26 | AI30: 11 | AJ30: 7.3 | AM30: 2.1 | AN30: 128 | AO30: 26 | AP30: 13 | AQ30: 6 | AR30: 4
D31: Sensitivity High | E31: 1 | F31: 1 | G31: =G30 -> 0.035 | H31: =H28 -> 365 | I31: =I29 -> 1 | J31: 1.4 | K31: =$M$54 -> 0.011614 | L31: =J31*G31*K31 -> 0.000569086 | M31: Inside of two hands (palms, fingers) | N31: =(INDEX('Dermal Sensitivity Analysis'!$B$55:$D$61, MATCH($M31,'Dermal Sensitivity Analysis'!$A$55:$A$61, 0), MATCH(N$3, 'Dermal Sensitivity Analysis'!$B$54:$D$54, 0)))*$L31*$E31 -> 0.0035248594 | O31: =(INDEX('Dermal Sensitivity Analysis'!$B$55:$D$61, MATCH($M31,'Dermal Sensitivity Analysis'!$A$55:$A$61, 0), MATCH(O$3, 'Dermal Sensitivity Analysis'!$B$54:$D$54, 0)))*$L31*$F31 -> 0.0032984733 | P31: =(INDEX('Dermal Sensitivity Analysis'!$B$55:$D$61, MATCH($M31,'Dermal Sensitivity Analysis'!$A$55:$A$61, 0), MATCH(P$3, 'Dermal Sensitivity Analysis'!$B$54:$D$54, 0)))*$L31*$F31 -> 0.0036068831 | Q31: =N31*$I31 -> 0.0035248594 | R31: =O31*$I31 -> 0.0032984733 | S31: =P31*$I31 -> 0.0036068831 | T31: =$AD$3/Q31 -> 2042.6347 | U31: =$AD$3/R31 -> 2182.828 | V31: =$AD$3/S31 -> 1996.1834 | W31: =N31*$H31 -> 1.2865737 | X31: =O31*$H31 -> 1.2039428 | Y31: =P31*$H31 -> 1.3165123 | Z31: =$AD$3/W31 -> 5.5962593 | AA31: =$AD$3/X31 -> 5.9803507 | AB31: =$AD$3/Y31 -> 5.4689955 | AE31: 2.3 | AF31: 233 | AG31: 47 | AH31: 23 | AI31: 10 | AJ31: 6.7 | AM31: 2.3 | AN31: 117 | AO31: 23 | AP31: 12 | AQ31: 5 | AR31: 3
D32: Sensitivity High | E32: 1 | F32: 1 | G32: =G31 -> 0.035 | H32: 365 | I32: =I30 -> 1 | J32: 0.7 | K32: =$M$54 -> 0.011614 | L32: =J32*G32*K32 -> 0.000284543 | M32: Inside of two hands (palms, fingers) | N32: =(INDEX('Dermal Sensitivity Analysis'!$B$55:$D$61, MATCH($M32,'Dermal Sensitivity Analysis'!$A$55:$A$61, 0), MATCH(N$3, 'Dermal Sensitivity Analysis'!$B$54:$D$54, 0)))*$L32*$E32 -> 0.0017624297 | O32: =(INDEX('Dermal Sensitivity Analysis'!$B$55:$D$61, MATCH($M32,'Dermal Sensitivity Analysis'!$A$55:$A$61, 0), MATCH(O$3, 'Dermal Sensitivity Analysis'!$B$54:$D$54, 0)))*$L32*$F32 -> 0.0016492367 | P32: =(INDEX('Dermal Sensitivity Analysis'!$B$55:$D$61, MATCH($M32,'Dermal Sensitivity Analysis'!$A$55:$A$61, 0), MATCH(P$3, 'Dermal Sensitivity Analysis'!$B$54:$D$54, 0)))*$L32*$F32 -> 0.0018034415 | Q32: =N32*$I32 -> 0.0017624297 | R32: =O32*$I32 -> 0.0016492367 | S32: =P32*$I32 -> 0.0018034415 | T32: =$AD$3/Q32 -> 4085.2693 | U32: =$AD$3/R32 -> 4365.656 | V32: =$AD$3/S32 -> 3992.3667 | W32: =N32*$H32 -> 0.64328685 | X32: =O32*$H32 -> 0.60197138 | Y32: =P32*$H32 -> 0.65825617 | Z32: =$AD$3/W32 -> 11.192519 | AA32: =$AD$3/X32 -> 11.960701 | AB32: =$AD$3/Y32 -> 10.937991 | AD32: Qu from US EPA 1992 | AL32: Qu from US EPA 1992
D33: Sensitivity High | E33: 1 | F33: 1 | G33: =G31 -> 0.035 | H33: =H38 -> 185 | I33: =I30 -> 1 | J33: =J38 -> 0.7 | K33: =$M$54 -> 0.011614 | L33: =J33*G33*K33 -> 0.000284543 | M33: Inside of one hand (palms, fingers) | N33: =(INDEX('Dermal Sensitivity Analysis'!$B$55:$D$61, MATCH($M33,'Dermal Sensitivity Analysis'!$A$55:$A$61, 0), MATCH(N$3, 'Dermal Sensitivity Analysis'!$B$54:$D$54, 0)))*$L33*$E33 -> 0.00088121486 | O33: =(INDEX('Dermal Sensitivity Analysis'!$B$55:$D$61, MATCH($M33,'Dermal Sensitivity Analysis'!$A$55:$A$61, 0), MATCH(O$3, 'Dermal Sensitivity Analysis'!$B$54:$D$54, 0)))*$L33*$F33 -> 0.00082461833 | P33: =(INDEX('Dermal Sensitivity Analysis'!$B$55:$D$61, MATCH($M33,'Dermal Sensitivity Analysis'!$A$55:$A$61, 0), MATCH(P$3, 'Dermal Sensitivity Analysis'!$B$54:$D$54, 0)))*$L33*$F33 -> 0.00090172077 | Q33: =N33*$I33 -> 0.00088121486 | R33: =O33*$I33 -> 0.00082461833 | S33: =P33*$I33 -> 0.00090172077 | T33: =$AD$3/Q33 -> 8170.5386 | U33: =$AD$3/R33 -> 8731.3121 | V33: =$AD$3/S33 -> 7984.7334 | W33: =N33*$H33 -> 0.16302475 | X33: =O33*$H33 -> 0.15255439 | Y33: =P33*$H33 -> 0.16681834 | Z33: =$AD$3/W33 -> 44.165074 | AA33: =$AD$3/X33 -> 47.196282 | AB33: =$AD$3/Y33 -> 43.160721 | AD33: Qu calculated based on 1.1 g/cm3 product density and film thickness is CEM | AL33: Qu calculated based on 1.1 g/cm3 product density and film thickness is CEM
D34: Medium | E34: 1 | F34: 1 | G34: =('COU Crosswalk'!K7)/100 -> 0.0225 | H34: 300 | I34: =I28 -> 1 | J34: 1.4 | K34: =$M$54 -> 0.011614 | L34: =J34*G34*K34 -> 0.000365841 | M34: Inside of one hand (palms, fingers) | N34: =(INDEX('Dermal Sensitivity Analysis'!$B$55:$D$61, MATCH($M34,'Dermal Sensitivity Analysis'!$A$55:$A$61, 0), MATCH(N$3, 'Dermal Sensitivity Analysis'!$B$54:$D$54, 0)))*$L34*$E34 -> 0.0011329905 | O34: =(INDEX('Dermal Sensitivity Analysis'!$B$55:$D$61, MATCH($M34,'Dermal Sensitivity Analysis'!$A$55:$A$61, 0), MATCH(O$3, 'Dermal Sensitivity Analysis'!$B$54:$D$54, 0)))*$L34*$F34 -> 0.0010602236 | P34: =(INDEX('Dermal Sensitivity Analysis'!$B$55:$D$61, MATCH($M34,'Dermal Sensitivity Analysis'!$A$55:$A$61, 0), MATCH(P$3, 'Dermal Sensitivity Analysis'!$B$54:$D$54, 0)))*$L34*$F34 -> 0.0011593553 | Q34: =N34*$I34 -> 0.0011329905 | R34: =O34*$I34 -> 0.0010602236 | S34: =P34*$I34 -> 0.0011593553 | T34: =$AD$3/Q34 -> 6354.8634 | U34: =$AD$3/R34 -> 6791.0205 | V34: =$AD$3/S34 -> 6210.3482 | W34: =N34*$H34 -> 0.33989716 | X34: =O34*$H34 -> 0.31806707 | Y34: =P34*$H34 -> 0.34780658 | Z34: =$AD$3/W34 -> 21.182878 | AA34: =$AD$3/X34 -> 22.636735 | AB34: =$AD$3/Y34 -> 20.701161 | AD34: default, Table B-3 for All-purpose waxes and polishes (furniture, floor, etc.) | AL34: default, Table B-3 for All-purpose waxes and polishes (furniture, floor, etc.)
D35: Sensitivity Medium | E35: 1 | F35: 1 | G35: =G34 -> 0.0225 | H35: 185 | I35: =I28 -> 1 | J35: 2.3 | K35: =$M$54 -> 0.011614 | L35: =J35*G35*K35 -> 0.0006010245 | M35: Inside of one hand (palms, fingers) | N35: =(INDEX('Dermal Sensitivity Analysis'!$B$55:$D$61, MATCH($M35,'Dermal Sensitivity Analysis'!$A$55:$A$61, 0), MATCH(N$3, 'Dermal Sensitivity Analysis'!$B$54:$D$54, 0)))*$L35*$E35 -> 0.0018613416 | O35: =(INDEX('Dermal Sensitivity Analysis'!$B$55:$D$61, MATCH($M35,'Dermal Sensitivity Analysis'!$A$55:$A$61, 0), MATCH(O$3, 'Dermal Sensitivity Analysis'!$B$54:$D$54, 0)))*$L35*$F35 -> 0.0017417959 | P35: =(INDEX('Dermal Sensitivity Analysis'!$B$55:$D$61, MATCH($M35,'Dermal Sensitivity Analysis'!$A$55:$A$61, 0), MATCH(P$3, 'Dermal Sensitivity Analysis'!$B$54:$D$54, 0)))*$L35*$F35 -> 0.0019046551 | Q35: =N35*$I35 -> 0.0018613416 | R35: =O35*$I35 -> 0.0017417959 | S35: =P35*$I35 -> 0.0019046551 | T35: =$AD$3/Q35 -> 3868.1777 | U35: =$AD$3/R35 -> 4133.6647 | V35: =$AD$3/S35 -> 3780.212 | W35: =N35*$H35 -> 0.34434819 | X35: =O35*$H35 -> 0.32223223 | Y35: =P35*$H35 -> 0.35236119 | Z35: =$AD$3/W35 -> 20.909069 | AA35: =$AD$3/X35 -> 22.344133 | AB35: =$AD$3/Y35 -> 20.433578 | AD35: Figure 5-5 Panel C
D36: Sensitivity Medium | E36: 1 | F36: 1 | G36: =G34 -> 0.0225 | H36: 300 | I36: =I29 -> 1 | J36: 0.7 | K36: =$M$54 -> 0.011614 | L36: =J36*G36*K36 -> 0.0001829205 | M36: Inside of one hand (palms, fingers) | N36: =(INDEX('Dermal Sensitivity Analysis'!$B$55:$D$61, MATCH($M36,'Dermal Sensitivity Analysis'!$A$55:$A$61, 0), MATCH(N$3, 'Dermal Sensitivity Analysis'!$B$54:$D$54, 0)))*$L36*$E36 -> 0.00056649526 | O36: =(INDEX('Dermal Sensitivity Analysis'!$B$55:$D$61, MATCH($M36,'Dermal Sensitivity Analysis'!$A$55:$A$61, 0), MATCH(O$3, 'Dermal Sensitivity Analysis'!$B$54:$D$54, 0)))*$L36*$F36 -> 0.00053011178 | P36: =(INDEX('Dermal Sensitivity Analysis'!$B$55:$D$61, MATCH($M36,'Dermal Sensitivity Analysis'!$A$55:$A$61, 0), MATCH(P$3, 'Dermal Sensitivity Analysis'!$B$54:$D$54, 0)))*$L36*$F36 -> 0.00057967764 | Q36: =N36*$I36 -> 0.00056649526 | R36: =O36*$I36 -> 0.00053011178 | S36: =P36*$I36 -> 0.00057967764 | T36: =$AD$3/Q36 -> 12709.727 | U36: =$AD$3/R36 -> 13582.041 | V36: =$AD$3/S36 -> 12420.696 | W36: =N36*$H36 -> 0.16994858 | X36: =O36*$H36 -> 0.15903354 | Y36: =P36*$H36 -> 0.17390329 | Z36: =$AD$3/W36 -> 42.365756 | AA36: =$AD$3/X36 -> 45.27347 | AB36: =$AD$3/Y36 -> 41.402321 | AD36: Panel C. Youth 11 to 15 Years of Age Inside of One Hand Sensitivity Analysis Matrix
D37: Sensitivity Medium | E37: 1 | F37: 1 | G37: =G35 -> 0.0225 | H37: 365 | I37: =I30 -> 1 | J37: 0.7 | K37: =$M$54 -> 0.011614 | L37: =J37*G37*K37 -> 0.0001829205 | M37: Inside of two hands (palms, fingers) | N37: =(INDEX('Dermal Sensitivity Analysis'!$B$55:$D$61, MATCH($M37,'Dermal Sensitivity Analysis'!$A$55:$A$61, 0), MATCH(N$3, 'Dermal Sensitivity Analysis'!$B$54:$D$54, 0)))*$L37*$E37 -> 0.0011329905 | O37: =(INDEX('Dermal Sensitivity Analysis'!$B$55:$D$61, MATCH($M37,'Dermal Sensitivity Analysis'!$A$55:$A$61, 0), MATCH(O$3, 'Dermal Sensitivity Analysis'!$B$54:$D$54, 0)))*$L37*$F37 -> 0.0010602236 | P37: =(INDEX('Dermal Sensitivity Analysis'!$B$55:$D$61, MATCH($M37,'Dermal Sensitivity Analysis'!$A$55:$A$61, 0), MATCH(P$3, 'Dermal Sensitivity Analysis'!$B$54:$D$54, 0)))*$L37*$F37 -> 0.0011593553 | Q37: =N37*$I37 -> 0.0011329905 | R37: =O37*$I37 -> 0.0010602236 | S37: =P37*$I37 -> 0.0011593553 | T37: =$AD$3/Q37 -> 6354.8634 | U37: =$AD$3/R37 -> 6791.0205 | V37: =$AD$3/S37 -> 6210.3482 | W37: =N37*$H37 -> 0.41354154 | X37: =O37*$H37 -> 0.3869816 | Y37: =P37*$H37 -> 0.42316468 | Z37: =$AD$3/W37 -> 17.410585 | AA37: =$AD$3/X37 -> 18.605536 | AB37: =$AD$3/Y37 -> 17.014653 | AD37: Chronic freq = 185 events/yr; fraction absorbed = 1.16%; WF outside reported range
D38: Low | E38: 1 | F38: 1 | G38: =('COU Crosswalk'!J7)/100 -> 0.01 | H38: 185 | I38: =I28 -> 1 | J38: 0.7 | K38: =$M$54 -> 0.011614 | L38: =J38*G38*K38 -> 8.1298e-05 | M38: Inside of one hand (palms, fingers) | N38: =(INDEX('Dermal Sensitivity Analysis'!$B$55:$D$61, MATCH($M38,'Dermal Sensitivity Analysis'!$A$55:$A$61, 0), MATCH(N$3, 'Dermal Sensitivity Analysis'!$B$54:$D$54, 0)))*$L38*$E38 -> 0.00025177567 | O38: =(INDEX('Dermal Sensitivity Analysis'!$B$55:$D$61, MATCH($M38,'Dermal Sensitivity Analysis'!$A$55:$A$61, 0), MATCH(O$3, 'Dermal Sensitivity Analysis'!$B$54:$D$54, 0)))*$L38*$F38 -> 0.00023560524 | P38: =(INDEX('Dermal Sensitivity Analysis'!$B$55:$D$61, MATCH($M38,'Dermal Sensitivity Analysis'!$A$55:$A$61, 0), MATCH(P$3, 'Dermal Sensitivity Analysis'!$B$54:$D$54, 0)))*$L38*$F38 -> 0.00025763451 | Q38: =N38*$I38 -> 0.00025177567 | R38: =O38*$I38 -> 0.00023560524 | S38: =P38*$I38 -> 0.00025763451 | T38: =$AD$3/Q38 -> 28596.885 | U38: =$AD$3/R38 -> 30559.592 | V38: =$AD$3/S38 -> 27946.567 | W38: =N38*$H38 -> 0.0465785 | X38: =O38*$H38 -> 0.043586969 | Y38: =P38*$H38 -> 0.047662384 | Z38: =$AD$3/W38 -> 154.57776 | AA38: =$AD$3/X38 -> 165.18699 | AB38: =$AD$3/Y38 -> 151.06252 | AD38: Chronic freq = 185 events/yr; fraction absorbed = 1.16%
D39: Sensitivity Low | E39: 1 | F39: 1 | G39: =G38 -> 0.01 | H39: 185 | I39: =I29 -> 1 | J39: 0.7 | K39: =$M$54 -> 0.011614 | L39: =J39*G39*K39 -> 8.1298e-05 | M39: Inside of one hand (palms, fingers) | N39: =(INDEX('Dermal Sensitivity Analysis'!$B$55:$D$61, MATCH($M39,'Dermal Sensitivity Analysis'!$A$55:$A$61, 0), MATCH(N$3, 'Dermal Sensitivity Analysis'!$B$54:$D$54, 0)))*$L39*$E39 -> 0.00025177567 | O39: =(INDEX('Dermal Sensitivity Analysis'!$B$55:$D$61, MATCH($M39,'Dermal Sensitivity Analysis'!$A$55:$A$61, 0), MATCH(O$3, 'Dermal Sensitivity Analysis'!$B$54:$D$54, 0)))*$L39*$F39 -> 0.00023560524 | P39: =(INDEX('Dermal Sensitivity Analysis'!$B$55:$D$61, MATCH($M39,'Dermal Sensitivity Analysis'!$A$55:$A$61, 0), MATCH(P$3, 'Dermal Sensitivity Analysis'!$B$54:$D$54, 0)))*$L39*$F39 -> 0.00025763451 | Q39: =N39*$I39 -> 0.00025177567 | R39: =O39*$I39 -> 0.00023560524 | S39: =P39*$I39 -> 0.00025763451 | T39: =$AD$3/Q39 -> 28596.885 | U39: =$AD$3/R39 -> 30559.592 | V39: =$AD$3/S39 -> 27946.567 | W39: =N39*$H39 -> 0.0465785 | X39: =O39*$H39 -> 0.043586969 | Y39: =P39*$H39 -> 0.047662384 | Z39: =$AD$3/W39 -> 154.57776 | AA39: =$AD$3/X39 -> 165.18699 | AB39: =$AD$3/Y39 -> 151.06252 | AD39: Youth 11 to 15 years skin surface area to body weight ratio = 3.17
D40: Sensitivity Low | E40: 1 | F40: 1 | G40: =G38 -> 0.01 | H40: 185 | I40: =I20 -> 1 | J40: 2.3 | K40: =$M$54 -> 0.011614 | L40: =J40*G40*K40 -> 0.000267122 | M40: Inside of one hand (palms, fingers) | N40: =(INDEX('Dermal Sensitivity Analysis'!$B$55:$D$61, MATCH($M40,'Dermal Sensitivity Analysis'!$A$55:$A$61, 0), MATCH(N$3, 'Dermal Sensitivity Analysis'!$B$54:$D$54, 0)))*$L40*$E40 -> 0.00082726293 | O40: =(INDEX('Dermal Sensitivity Analysis'!$B$55:$D$61, MATCH($M40,'Dermal Sensitivity Analysis'!$A$55:$A$61, 0), MATCH(O$3, 'Dermal Sensitivity Analysis'!$B$54:$D$54, 0)))*$L40*$F40 -> 0.00077413149 | P40: =(INDEX('Dermal Sensitivity Analysis'!$B$55:$D$61, MATCH($M40,'Dermal Sensitivity Analysis'!$A$55:$A$61, 0), MATCH(P$3, 'Dermal Sensitivity Analysis'!$B$54:$D$54, 0)))*$L40*$F40 -> 0.00084651338 | Q40: =N40*$I40 -> 0.00082726293 | R40: =O40*$I40 -> 0.00077413149 | S40: =P40*$I40 -> 0.00084651338 | T40: =$AD$3/Q40 -> 8703.3998 | U40: =$AD$3/R40 -> 9300.7455 | V40: =$AD$3/S40 -> 8505.4769 | W40: =N40*$H40 -> 0.15304364 | X40: =O40*$H40 -> 0.14321433 | Y40: =P40*$H40 -> 0.15660498 | Z40: =$AD$3/W40 -> 47.045404 | AA40: =$AD$3/X40 -> 50.2743 | AB40: =$AD$3/Y40 -> 45.975551 | AD40: Matrix content = MOEs Dermal Benchmark < 30 | AF40: Weight Fraction (%)
D41: Sensitivity Low | E41: 1 | F41: 1 | G41: =G38 -> 0.01 | H41: 185 | I41: =I22 -> 1 | J41: 2.1 | K41: =$M$54 -> 0.011614 | L41: =J41*G41*K41 -> 0.000243894 | M41: Inside of one hand (palms, fingers) | N41: =(INDEX('Dermal Sensitivity Analysis'!$B$55:$D$61, MATCH($M41,'Dermal Sensitivity Analysis'!$A$55:$A$61, 0), MATCH(N$3, 'Dermal Sensitivity Analysis'!$B$54:$D$54, 0)))*$L41*$E41 -> 0.00075532702 | O41: =(INDEX('Dermal Sensitivity Analysis'!$B$55:$D$61, MATCH($M41,'Dermal Sensitivity Analysis'!$A$55:$A$61, 0), MATCH(O$3, 'Dermal Sensitivity Analysis'!$B$54:$D$54, 0)))*$L41*$F41 -> 0.00070681571 | P41: =(INDEX('Dermal Sensitivity Analysis'!$B$55:$D$61, MATCH($M41,'Dermal Sensitivity Analysis'!$A$55:$A$61, 0), MATCH(P$3, 'Dermal Sensitivity Analysis'!$B$54:$D$54, 0)))*$L41*$F41 -> 0.00077290352 | Q41: =N41*$I41 -> 0.00075532702 | R41: =O41*$I41 -> 0.00070681571 | S41: =P41*$I41 -> 0.00077290352 | T41: =$AD$3/Q41 -> 9532.295 | U41: =$AD$3/R41 -> 10186.531 | V41: =$AD$3/S41 -> 9315.5223 | W41: =N41*$H41 -> 0.1397355 | X41: =O41*$H41 -> 0.13076091 | Y41: =P41*$H41 -> 0.14298715 | Z41: =$AD$3/W41 -> 51.525919 | AA41: =$AD$3/X41 -> 55.062328 | AB41: =$AD$3/Y41 -> 50.354175 | AF41: 0.1 | AG41: 0.5 | AH41: 1 | AI41: 2.25 | AJ41: 3.5
D42: Sensitivity Low | E42: 1 | F42: 1 | G42: =G38 -> 0.01 | H42: 300 | I42: =I24 -> 1 | J42: 0.7 | K42: =$M$54 -> 0.011614 | L42: =J42*G42*K42 -> 8.1298e-05 | M42: Inside of one hand (palms, fingers) | N42: =(INDEX('Dermal Sensitivity Analysis'!$B$55:$D$61, MATCH($M42,'Dermal Sensitivity Analysis'!$A$55:$A$61, 0), MATCH(N$3, 'Dermal Sensitivity Analysis'!$B$54:$D$54, 0)))*$L42*$E42 -> 0.00025177567 | O42: =(INDEX('Dermal Sensitivity Analysis'!$B$55:$D$61, MATCH($M42,'Dermal Sensitivity Analysis'!$A$55:$A$61, 0), MATCH(O$3, 'Dermal Sensitivity Analysis'!$B$54:$D$54, 0)))*$L42*$F42 -> 0.00023560524 | P42: =(INDEX('Dermal Sensitivity Analysis'!$B$55:$D$61, MATCH($M42,'Dermal Sensitivity Analysis'!$A$55:$A$61, 0), MATCH(P$3, 'Dermal Sensitivity Analysis'!$B$54:$D$54, 0)))*$L42*$F42 -> 0.00025763451 | Q42: =N42*$I42 -> 0.00025177567 | R42: =O42*$I42 -> 0.00023560524 | S42: =P42*$I42 -> 0.00025763451 | T42: =$AD$3/Q42 -> 28596.885 | U42: =$AD$3/R42 -> 30559.592 | V42: =$AD$3/S42 -> 27946.567 | W42: =N42*$H42 -> 0.075532702 | X42: =O42*$H42 -> 0.070681571 | Y42: =P42*$H42 -> 0.077290352 | Z42: =$AD$3/W42 -> 95.32295 | AA42: =$AD$3/X42 -> 101.86531 | AB42: =$AD$3/Y42 -> 93.155223 | AD42: Qu (mg/cm2-event) | AE42: 0.7 | AF42: 1511 | AG42: 302 | AH42: 151 | AI42: 67 | AJ42: 43
D43: Sensitivity Low | E43: 1 | F43: 1 | G43: =G38 -> 0.01 | H43: 300 | I43: =I26 -> 1 | J43: 1.4 | K43: =$M$54 -> 0.011614 | L43: =J43*G43*K43 -> 0.000162596 | M43: Inside of one hand (palms, fingers) | N43: =(INDEX('Dermal Sensitivity Analysis'!$B$55:$D$61, MATCH($M43,'Dermal Sensitivity Analysis'!$A$55:$A$61, 0), MATCH(N$3, 'Dermal Sensitivity Analysis'!$B$54:$D$54, 0)))*$L43*$E43 -> 0.00050355135 | O43: =(INDEX('Dermal Sensitivity Analysis'!$B$55:$D$61, MATCH($M43,'Dermal Sensitivity Analysis'!$A$55:$A$61, 0), MATCH(O$3, 'Dermal Sensitivity Analysis'!$B$54:$D$54, 0)))*$L43*$F43 -> 0.00047121047 | P43: =(INDEX('Dermal Sensitivity Analysis'!$B$55:$D$61, MATCH($M43,'Dermal Sensitivity Analysis'!$A$55:$A$61, 0), MATCH(P$3, 'Dermal Sensitivity Analysis'!$B$54:$D$54, 0)))*$L43*$F43 -> 0.00051526901 | Q43: =N43*$I43 -> 0.00050355135 | R43: =O43*$I43 -> 0.00047121047 | S43: =P43*$I43 -> 0.00051526901 | T43: =$AD$3/Q43 -> 14298.443 | U43: =$AD$3/R43 -> 15279.796 | V43: =$AD$3/S43 -> 13973.283 | W43: =N43*$H43 -> 0.1510654 | X43: =O43*$H43 -> 0.14136314 | Y43: =P43*$H43 -> 0.1545807 | Z43: =$AD$3/W43 -> 47.661475 | AA43: =$AD$3/X43 -> 50.932654 | AB43: =$AD$3/Y43 -> 46.577612 | AE43: 1.4 | AF43: 755 | AG43: 151 | AH43: 76 | AI43: 34 | AJ43: 22
D44: Sensitivity Low | E44: 1 | F44: 1 | G44: =G40 -> 0.01 | H44: 300 | I44: =I28 -> 1 | J44: 2.1 | K44: =$M$54 -> 0.011614 | L44: =J44*G44*K44 -> 0.000243894 | M44: Inside of one hand (palms, fingers) | N44: =(INDEX('Dermal Sensitivity Analysis'!$B$55:$D$61, MATCH($M44,'Dermal Sensitivity Analysis'!$A$55:$A$61, 0), MATCH(N$3, 'Dermal Sensitivity Analysis'!$B$54:$D$54, 0)))*$L44*$E44 -> 0.00075532702 | O44: =(INDEX('Dermal Sensitivity Analysis'!$B$55:$D$61, MATCH($M44,'Dermal Sensitivity Analysis'!$A$55:$A$61, 0), MATCH(O$3, 'Dermal Sensitivity Analysis'!$B$54:$D$54, 0)))*$L44*$F44 -> 0.00070681571 | P44: =(INDEX('Dermal Sensitivity Analysis'!$B$55:$D$61, MATCH($M44,'Dermal Sensitivity Analysis'!$A$55:$A$61, 0), MATCH(P$3, 'Dermal Sensitivity Analysis'!$B$54:$D$54, 0)))*$L44*$F44 -> 0.00077290352 | Q44: =N44*$I44 -> 0.00075532702 | R44: =O44*$I44 -> 0.00070681571 | S44: =P44*$I44 -> 0.00077290352 | T44: =$AD$3/Q44 -> 9532.295 | U44: =$AD$3/R44 -> 10186.531 | V44: =$AD$3/S44 -> 9315.5223 | W44: =N44*$H44 -> 0.22659811 | X44: =O44*$H44 -> 0.21204471 | Y44: =P44*$H44 -> 0.23187106 | Z44: =$AD$3/W44 -> 31.774317 | AA44: =$AD$3/X44 -> 33.955103 | AB44: =$AD$3/Y44 -> 31.051741 | AE44: 2.1 | AF44: 504 | AG44: 101 | AH44: 50 | AI44: 22 | AJ44: 14
D45: Sensitivity Low | E45: 1 | F45: 1 | G45: =G38 -> 0.01 | H45: 365 | I45: =I28 -> 1 | J45: 0.7 | K45: =$M$54 -> 0.011614 | L45: =J45*G45*K45 -> 8.1298e-05 | M45: Inside of two hands (palms, fingers) | N45: =(INDEX('Dermal Sensitivity Analysis'!$B$55:$D$61, MATCH($M45,'Dermal Sensitivity Analysis'!$A$55:$A$61, 0), MATCH(N$3, 'Dermal Sensitivity Analysis'!$B$54:$D$54, 0)))*$L45*$E45 -> 0.00050355135 | O45: =(INDEX('Dermal Sensitivity Analysis'!$B$55:$D$61, MATCH($M45,'Dermal Sensitivity Analysis'!$A$55:$A$61, 0), MATCH(O$3, 'Dermal Sensitivity Analysis'!$B$54:$D$54, 0)))*$L45*$F45 -> 0.00047121047 | P45: =(INDEX('Dermal Sensitivity Analysis'!$B$55:$D$61, MATCH($M45,'Dermal Sensitivity Analysis'!$A$55:$A$61, 0), MATCH(P$3, 'Dermal Sensitivity Analysis'!$B$54:$D$54, 0)))*$L45*$F45 -> 0.00051526901 | Q45: =N45*$I45 -> 0.00050355135 | R45: =O45*$I45 -> 0.00047121047 | S45: =P45*$I45 -> 0.00051526901 | T45: =$AD$3/Q45 -> 14298.443 | U45: =$AD$3/R45 -> 15279.796 | V45: =$AD$3/S45 -> 13973.283 | W45: =N45*$H45 -> 0.18379624 | X45: =O45*$H45 -> 0.17199182 | Y45: =P45*$H45 -> 0.18807319 | Z45: =$AD$3/W45 -> 39.173815 | AA45: =$AD$3/X45 -> 41.862455 | AB45: =$AD$3/Y45 -> 38.282968 | AE45: 2.3
D46: Sensitivity Low | E46: 1 | F46: 1 | G46: =G40 -> 0.01 | H46: 365 | I46: =I29 -> 1 | J46: 1.4 | K46: =$M$54 -> 0.011614 | L46: =J46*G46*K46 -> 0.000162596 | M46: Inside of two hands (palms, fingers) | N46: =(INDEX('Dermal Sensitivity Analysis'!$B$55:$D$61, MATCH($M46,'Dermal Sensitivity Analysis'!$A$55:$A$61, 0), MATCH(N$3, 'Dermal Sensitivity Analysis'!$B$54:$D$54, 0)))*$L46*$E46 -> 0.0010071027 | O46: =(INDEX('Dermal Sensitivity Analysis'!$B$55:$D$61, MATCH($M46,'Dermal Sensitivity Analysis'!$A$55:$A$61, 0), MATCH(O$3, 'Dermal Sensitivity Analysis'!$B$54:$D$54, 0)))*$L46*$F46 -> 0.00094242095 | P46: =(INDEX('Dermal Sensitivity Analysis'!$B$55:$D$61, MATCH($M46,'Dermal Sensitivity Analysis'!$A$55:$A$61, 0), MATCH(P$3, 'Dermal Sensitivity Analysis'!$B$54:$D$54, 0)))*$L46*$F46 -> 0.001030538 | Q46: =N46*$I46 -> 0.0010071027 | R46: =O46*$I46 -> 0.00094242095 | S46: =P46*$I46 -> 0.001030538 | T46: =$AD$3/Q46 -> 7149.2213 | U46: =$AD$3/R46 -> 7639.8981 | V46: =$AD$3/S46 -> 6986.6417 | W46: =N46*$H46 -> 0.36759248 | X46: =O46*$H46 -> 0.34398365 | Y46: =P46*$H46 -> 0.37614638 | Z46: =$AD$3/W46 -> 19.586908 | AA46: =$AD$3/X46 -> 20.931228 | AB46: =$AD$3/Y46 -> 19.141484 | AD46: Qu from US EPA 1992
D47: Sensitivity Low | E47: 1 | F47: 1 | G47: =G38 -> 0.01 | H47: 365 | I47: =I29 -> 1 | J47: 2.3 | K47: =$M$54 -> 0.011614 | L47: =J47*G47*K47 -> 0.000267122 | M47: Inside of one hand (palms, fingers) | N47: =(INDEX('Dermal Sensitivity Analysis'!$B$55:$D$61, MATCH($M47,'Dermal Sensitivity Analysis'!$A$55:$A$61, 0), MATCH(N$3, 'Dermal Sensitivity Analysis'!$B$54:$D$54, 0)))*$L47*$E47 -> 0.00082726293 | O47: =(INDEX('Dermal Sensitivity Analysis'!$B$55:$D$61, MATCH($M47,'Dermal Sensitivity Analysis'!$A$55:$A$61, 0), MATCH(O$3, 'Dermal Sensitivity Analysis'!$B$54:$D$54, 0)))*$L47*$F47 -> 0.00077413149 | P47: =(INDEX('Dermal Sensitivity Analysis'!$B$55:$D$61, MATCH($M47,'Dermal Sensitivity Analysis'!$A$55:$A$61, 0), MATCH(P$3, 'Dermal Sensitivity Analysis'!$B$54:$D$54, 0)))*$L47*$F47 -> 0.00084651338 | Q47: =N47*$I47 -> 0.00082726293 | R47: =O47*$I47 -> 0.00077413149 | S47: =P47*$I47 -> 0.00084651338 | T47: =$AD$3/Q47 -> 8703.3998 | U47: =$AD$3/R47 -> 9300.7455 | V47: =$AD$3/S47 -> 8505.4769 | W47: =N47*$H47 -> 0.30195097 | X47: =O47*$H47 -> 0.282558 | Y47: =P47*$H47 -> 0.30897738 | Z47: =$AD$3/W47 -> 23.844931 | AA47: =$AD$3/X47 -> 25.481494 | AB47: =$AD$3/Y47 -> 23.302676 | AD47: Qu calculated based on 1.1 g/cm3 product density and
D48: Sensitivity Low | E48: 1 | F48: 1 | G48: 0.005 | H48: 185 | I48: =I30 -> 1 | J48: 0.7 | K48: =$M$54 -> 0.011614 | L48: =J48*G48*K48 -> 4.0649e-05 | M48: Inside of one hand (palms, fingers) | N48: =(INDEX('Dermal Sensitivity Analysis'!$B$55:$D$61, MATCH($M48,'Dermal Sensitivity Analysis'!$A$55:$A$61, 0), MATCH(N$3, 'Dermal Sensitivity Analysis'!$B$54:$D$54, 0)))*$L48*$E48 -> 0.00012588784 | O48: =(INDEX('Dermal Sensitivity Analysis'!$B$55:$D$61, MATCH($M48,'Dermal Sensitivity Analysis'!$A$55:$A$61, 0), MATCH(O$3, 'Dermal Sensitivity Analysis'!$B$54:$D$54, 0)))*$L48*$F48 -> 0.00011780262 | P48: =(INDEX('Dermal Sensitivity Analysis'!$B$55:$D$61, MATCH($M48,'Dermal Sensitivity Analysis'!$A$55:$A$61, 0), MATCH(P$3, 'Dermal Sensitivity Analysis'!$B$54:$D$54, 0)))*$L48*$F48 -> 0.00012881725 | Q48: =N48*$I48 -> 0.00012588784 | R48: =O48*$I48 -> 0.00011780262 | S48: =P48*$I48 -> 0.00012881725 | T48: =$AD$3/Q48 -> 57193.77 | U48: =$AD$3/R48 -> 61119.185 | V48: =$AD$3/S48 -> 55893.134 | W48: =N48*$H48 -> 0.02328925 | X48: =O48*$H48 -> 0.021793484 | Y48: =P48*$H48 -> 0.023831192 | Z48: =$AD$3/W48 -> 309.15551 | AA48: =$AD$3/X48 -> 330.37397 | AB48: =$AD$3/Y48 -> 302.12505 | AD48: film thickness is CEM default, Table B-3 for All-purpose
AD49: waxes and polishes (furniture, floor, etc.)
A50: LOOKUP TABLES AND SUPPLEMENTARY CALCULATIONS
A52: Surface Area/BW ratios | H52: Fraction absorbed empirically obtained from test order | O52: Qu = Amount Retained on Skin (mg/cm2-event)
A53: Contact Area | B53: Population | H53: 50% (to be used for products with WF > 30%) = 1.5508% | M53: =1.5508/100 -> 0.015508 | O53: Using these Qu values the analysis offers a range of possible dermal exposures
B54: ADULTS ≥21 | C54: YOUTHS (16-20) | D54: YOUTHS (11 to <15) | H54: 1% in HHN (for WF < 10%) = 1.1614% | M54: =1.1614/100 -> 0.011614 | O54: From U.S. EPA 1992
A55: Entire Body | B55: 245.88722 | C55: 256.98324 | D55: 279.92958 | H55: 10% in HHN (for products with WF >10% but below 30%) = 1.0947% | M55: =1.0947/100 -> 0.010947 | O55: https://hero.epa.gov/reference/1064974/
A56: 50% of Entire Body Surface Area | B56: 122.94361 | C56: 128.49162 | D56: 139.96479 | O56: HERO No. = | P56: 1064974
A57: 25% of Face, Hands, and Arms | B57: 15.753353 | C57: 14.909218 | D57: 16.373239 | Q57: High intensity use exposure scenario | R57: 2.1 | S57: mg/cm2-event
A58: Both Hands (entire surface area) | B58: 12.387792 | C58: 11.592179 | D58: 12.676056 | Q58: Medium intensity use exposure scenario | R58: 1.4 | S58: mg/cm2-event
A59: Inside of two hands (palms, fingers) | B59: 6.1938959 | C59: 5.7960894 | D59: 6.3380282 | Q59: Low intensity use exposure scenario | R59: 0.7 | S59: mg/cm2-event
A60: Inside of one hand (palms, fingers) | B60: 3.0969479 | C60: 2.8980447 | D60: 3.1690141
A61: 10% of Hands (some fingers) | B61: 1.2387792 | C61: 1.1592179 | D61: 1.2676056
A64: Equations and Calculations
I65: Not use for this analysis. Qu used was that from US EPA 1992 study
A66: From CEM Version 3.2 Equations 95 and 96 | I66: From CEM Version 3.2 Equation 94
I69: Qu = Amount Retained on Skin (mg/cm2-event)
A70: DD = Daily Dose (mg/kg-day) | I70: FT = Film thickness (cm), CEM default for all-purpose waxes and polishes (density of 1.017 g/cm3) = 0.0021 cm
A71: Qu = Amount Retained on Skin (mg/cm2-event) | I71: ρ = Density of formulation (g/cm3)
A72: WF = Weight Fraction | I72: FracRemove = Fraction of product removed by washing or wearing (unitless), assuming 0
A73: fabs = Fraction Absorbed | I73: CF1 = Conversion factor (1000 mg/g)
A74: FQ = Frequency of Contact | J74: Density (g/cm3) | K74: Film Thickness (cm) | L74: CF1 | M74: Qu (mg/cm2-event)
A75: · Acute: (events/day) | I75: Cera Fluida Classic Liquid Wax | J75: 1.1 | K75: 0.0021 | L75: 1000 | M75: =J75*K75*L75 -> 2.31
A76: · Chronic: (events/year) | I76: UniBlack2 black granite treatment | J76: 0.91 | K76: 0.0021 | L76: 1000 | M76: =J76*K76*L76 -> 1.911
A77: ED = Exposure Duration | I77: Cera TeWax | J77: 1.1 | K77: 0.0021 | L77: 1000 | M77: =J77*K77*L77 -> 2.31
A78: · Acute: (1 day) | I78: Quartz Toner | J78: 0.88 | K78: 0.0021 | L78: 1000 | M78: =J78*K78*L78 -> 1.848
A79: · Chronic: (1 year) | I79: Lustro Italiano | J79: 0.8 | K79: 0.0021 | L79: 1000 | M79: =J79*K79*L79 -> 1.68
A80: SA = Surface Area of Contact (cm2)
A81: BW = Body Weigh (kg) | I81: Density was obtained from product SDSs
A82: AT = Averaging Time | I82: Film thickness was a default used in CEM, Table B-3 for All-purpose waxes and polishes (furniture, floor, etc.)
A83: · Acute: (1 day)
A84: Chronic: (365 days)

Sheet Inhalation Exposure (mg m3)
A1: Inhalation Calculations for Consumer Scenarios
A2: COU | B2: Sub Category COU | C2: Product/Article Name | D2: Exposure Level | E2: User(s) [A zero indicates that the population was not assessed for dermal exposure] | J2: Acute Inhalation POD (mg/m3) | L2: Peak concentration (mg/m3) | N2: Acute Non-Cancer Risk (MOE) | P2: Chronic Non-Cancer Concentration | R2: Chronic Non-Cancer Risk (MOE) | U2: Cancer Risk | V2: Acute HEC (mg/m3) | W2: Acute Inhalation Benchmark | X2: Chronic HEC (mg/m3) | Y2: Acute Inhalation Benchmark | Z2: Cancer IUR
E3: Adult | F3: Youth | G3: Weight Fraction (Decimal) | H3: Frequency (chronic) | I3: Frequency (acute) | J3: USER (ADULTS >21/ YOUTHS (16-20 AND 11 to <15) | K3: BYSTANDER | L3: USER (ADULTS >21/ YOUTHS (16-20 AND 11 to <15) | M3: BYSTANDER | N3: USER (ADULTS >21/ YOUTHS (16-20 AND 11 to <15) | O3: BYSTANDER | P3: USER (ADULTS >21/ YOUTHS (16-20 AND 11 to <15), Zone 1 | Q3: BYSTANDER (Zone 2) | R3: ADULTS >21 | S3: YOUTHS (16-20) | T3: YOUTHS (11 to <15) | U3: ADULTS >21 | V3: ='Hazard Equations & Inputs'!O7 -> 39 | W3: =30 -> 30 | X3: ='Hazard Equations & Inputs'!O11 -> 0.25 | Y3: =30 -> 30 | Z3: 0.0037 | AA3: Scenario Comparison (12 min/event x 10 events)per day - acute peak conc (mg/m3) | AB3: Acute risk | AC3: peak conc. ppm
A4: Cleaning and furnishing care product | B4: All-purpose liquid cleaner/polish | C4: ='COU Crosswalk'!C3 -> Cera Fluida Classic Liquid Wax | D4: Low | E4: 1 | F4: 1 | G4: =G5 -> 0.5412 | H4: 1 | I4: 1 | J4: 39 | K4: 39 | L4: 594 | M4: 88.3 | N4: =$V$3/L4 -> 0.065656566 | O4: =$V$3/M4 -> 0.4416761 | P4: n/a | Q4: n/a | R4: n/a | S4: n/a | T4: n/a
D5: Medium | E5: 1 | F5: 1 | G5: =G6 -> 0.5412 | H5: 1 | I5: 1 | J5: 39 | K5: 39 | L5: 720 | M5: 139 | N5: =$V$3/L5 -> 0.054166667 | O5: =$V$3/M5 -> 0.28057554 | P5: n/a | Q5: n/a | R5: n/a | S5: n/a | T5: n/a
D6: High | E6: 1 | F6: 1 | G6: =('COU Crosswalk'!L3)/100 -> 0.5412 | H6: 1 | I6: 1 | J6: 39 | K6: 39 | L6: 854 | M6: 194 | N6: =$V$3/L6 -> 0.045667447 | O6: =$V$3/M6 -> 0.20103093 | P6: n/a | Q6: n/a | R6: n/a | S6: n/a | T6: n/a
A7: Cleaning and furnishing care product | B7: All-purpose liquid cleaner/polish | C7: ='COU Crosswalk'!C4 -> UniBlack2 black granite treatment | D7: Low | E7: 1 | F7: 1 | G7: =('COU Crosswalk'!J4)/100 -> 0.3 | H7: 1 | I7: 1 | J7: 39 | K7: 39 | L7: 329 | M7: 49 | N7: =$V$3/L7 -> 0.11854103 | O7: =$V$3/M7 -> 0.79591837 | P7: n/a | Q7: n/a | R7: n/a | S7: n/a | T7: n/a
D8: Medium | E8: 1 | F8: 1 | G8: =('COU Crosswalk'!K4)/100 -> 0.4 | H8: 1 | I8: 1 | J8: 39 | K8: 39 | L8: 417 | M8: 81 | N8: =$V$3/L8 -> 0.09352518 | O8: =$V$3/M8 -> 0.48148148 | P8: n/a | Q8: n/a | R8: n/a | S8: n/a | T8: n/a
D9: High | E9: 1 | F9: 1 | G9: =('COU Crosswalk'!L4)/100 -> 0.5 | H9: 1 | I9: 1 | J9: 39 | K9: 39 | L9: 615 | M9: 140 | N9: =$V$3/L9 -> 0.063414634 | O9: =$V$3/M9 -> 0.27857143 | P9: n/a | Q9: n/a | R9: n/a | S9: n/a | T9: n/a
A10: Cleaning and furnishing care product | B10: All-purpose waxes and polishes (paste) | C10: ='COU Crosswalk'!C5 -> Cera TeWax | D10: Low | E10: 1 | F10: 1 | G10: =('COU Crosswalk'!J5)/100 -> 0.3 | H10: 1 | I10: 1 | J10: 39 | K10: 39 | L10: 422 | M10: 62.8 | N10: =$V$3/L10 -> 0.092417062 | O10: =$V$3/M10 -> 0.62101911 | P10: n/a | Q10: n/a | R10: n/a | S10: n/a | T10: n/a
D11: Medium | E11: 1 | F11: 1 | G11: =('COU Crosswalk'!K5)/100 -> 0.4 | H11: 1 | I11: 1 | J11: 39 | K11: 39 | L11: 532 | M11: 103 | N11: =$V$3/L11 -> 0.073308271 | O11: =$V$3/M11 -> 0.37864078 | P11: n/a | Q11: n/a | R11: n/a | S11: n/a | T11: n/a
D12: High | E12: 1 | F12: 1 | G12: =('COU Crosswalk'!L5)/100 -> 0.5 | H12: 1 | I12: 1 | J12: 39 | K12: 39 | L12: 789 | M12: 179 | N12: =$V$3/L12 -> 0.049429658 | O12: =$V$3/M12 -> 0.21787709 | P12: n/a | Q12: n/a | R12: n/a | S12: n/a | T12: n/a | AA12: 391 | AB12: =$V$3/AA12 -> 0.099744246
A13: Cleaning and furnishing care product | B13: All-purpose waxes and polishes (paste) | C13: ='COU Crosswalk'!C6 -> Quartz Toner | D13: Low | E13: 1 | F13: 1 | G13: =('COU Crosswalk'!J6)/100 -> 0.01 | H13: 1 | I13: 1 | J13: 39 | K13: 39 | L13: 9.69 | M13: 1.44 | N13: =$V$3/L13 -> 4.0247678 | O13: =$V$3/M13 -> 27.083333 | P13: n/a | Q13: n/a | R13: n/a | S13: n/a | T13: n/a
D14: Medium | E14: 1 | F14: 1 | G14: =('COU Crosswalk'!K6)/100 -> 0.0225 | H14: 1 | I14: 1 | J14: 39 | K14: 39 | L14: 20.7 | M14: 4.01 | N14: =$V$3/L14 -> 1.884058 | O14: =$V$3/M14 -> 9.7256858 | P14: n/a | Q14: n/a | R14: n/a | S14: n/a | T14: n/a
D15: High | E15: 1 | F15: 1 | G15: =('COU Crosswalk'!L6)/100 -> 0.035 | H15: 1 | I15: 1 | J15: 39 | K15: 39 | L15: 37.8 | M15: 8.61 | N15: =$V$3/L15 -> 1.031746 | O15: =$V$3/M15 -> 4.5296167 | P15: n/a | Q15: n/a | R15: n/a | S15: n/a | T15: n/a
A16: Cleaning and furnishing care product | B16: All-purpose liquid spray cleaner/polish | C16: ='COU Crosswalk'!C7 -> Lustro Italiano | D16: Low | E16: 1 | F16: 1 | G16: =('COU Crosswalk'!$J$7)/100 -> 0.01 | H16: 185 | I16: =I14 -> 1 | J16: 39 | K16: 39 | L16: 1.55 | M16: 0.066 | N16: =$V$3/L16 -> 25.16129 | O16: =$V$3/M16 -> 590.90909 | P16: =0.0159 -> 0.0159 | Q16: 0.00186 | R16: =$X$3/P16 -> 15.72327 | S16: =$X$3/Q16 -> 134.4086 | T16: =$V$3/#REF! -> #REF!
D17: Medium | E17: 1 | F17: 1 | G17: =('COU Crosswalk'!$K$7)/100 -> 0.0225 | H17: 300 | I17: =I16 -> 1 | J17: 39 | K17: 39 | L17: 3.63 | M17: 0.186 | N17: =$V$3/L17 -> 10.743802 | O17: =$V$3/M17 -> 209.67742 | P17: =0.0933 -> 0.0933 | Q17: 0.0102 | R17: =$X$3/P17 -> 2.6795284 | S17: =$X$3/Q17 -> 24.509804 | T17: =$V$3/#REF! -> #REF!
D18: High | E18: 1 | F18: 1 | G18: =('COU Crosswalk'!$L$7)/100 -> 0.035 | H18: 365 | I18: 1 | J18: 39 | K18: 39 | L18: 8.15 | M18: 0.508 | N18: =$V$3/L18 -> 4.7852761 | O18: =$V$3/M18 -> 76.771654 | P18: =0.31 -> 0.31 | Q18: 0.0328 | R18: =$X$3/P18 -> 0.80645161 | S18: =$X$3/Q18 -> 7.6219512 | T18: =$V$3/#REF! -> #REF!
A20: Chronic
A21: Cleaning and furnishing care product | B21: All-purpose liquid spray cleaner/polish | C21: ='COU Crosswalk'!C10 -> 0 | D21: Low | E21: 1 | F21: 1 | G21: =('COU Crosswalk'!$J$7)/100 -> 0.01 | H21: 185 | I21: 1 | J21: 39 | K21: 39 | L21: 1.55 | M21: 0.066 | N21: =$V$3/L21 -> 25.16129 | O21: =$V$3/M21 -> 590.90909 | P21: =0.0159 -> 0.0159 | Q21: 0.00186 | R21: =$X$3/P21 -> 15.72327 | S21: =$X$3/Q21 -> 134.4086 | T21: =$V$3/#REF! -> #REF!
D22: Medium | E22: 1 | F22: 1 | G22: =('COU Crosswalk'!$K$7)/100 -> 0.0225 | H22: 300 | I22: =I21 -> 1 | J22: 39 | K22: 39 | L22: 3.63 | M22: 0.186 | N22: =$V$3/L22 -> 10.743802 | O22: =$V$3/M22 -> 209.67742 | P22: =0.0933 -> 0.0933 | Q22: 0.0102 | R22: =$X$3/P22 -> 2.6795284 | S22: =$X$3/Q22 -> 24.509804 | T22: =$V$3/#REF! -> #REF!
D23: High | E23: 1 | F23: 1 | G23: =('COU Crosswalk'!$L$7)/100 -> 0.035 | H23: 365 | I23: =I22 -> 1 | J23: 39 | K23: 39 | L23: 8.15 | M23: 0.508 | N23: =$V$3/L23 -> 4.7852761 | O23: =$V$3/M23 -> 76.771654 | P23: =0.31 -> 0.31 | Q23: 0.0328 | R23: =$X$3/P23 -> 0.80645161 | S23: =$X$3/Q23 -> 7.6219512 | T23: =$V$3/#REF! -> #REF!
A24: Chronic (Cancer): for lifetime - 78 years averaging time; 57 years exposure duration | P24: Chronic concentration (lifetime) | U24: Cancer risk | V24: Cancer risk
A25: Cleaning and furnishing care product | B25: All-purpose liquid spray cleaner/polish | C25: ='COU Crosswalk'!C14 -> 0 | D25: Low | E25: 1 | F25: 1 | G25: =('COU Crosswalk'!J14)/100 -> 0 | H25: 185 | I25: 57 yrs | J25: 39 | K25: 39 | L25: 1.55 | M25: 0.066 | N25: =$V$3/L25 -> 25.16129 | O25: =$V$3/M25 -> 590.90909 | P25: 0.0143 | Q25: 0.00168 | R25: =$X$3/P25 -> 17.482517 | S25: =$X$3/Q25 -> 148.80952 | T25: =$V$3/#REF! -> #REF! | U25: =P25*$Z$3 -> 5.291e-05 | V25: =Q25*$Z$3 -> 6.216e-06
D26: Medium | E26: 1 | F26: 1 | G26: =('COU Crosswalk'!K14)/100 -> 0 | H26: 300 | I26: =I25 -> 57 yrs | J26: 39 | K26: 39 | L26: 3.63 | M26: 0.186 | N26: =$V$3/L26 -> 10.743802 | O26: =$V$3/M26 -> 209.67742 | P26: =0.0682 -> 0.0682 | Q26: 0.00747 | R26: =$X$3/P26 -> 3.6656891 | S26: =$X$3/Q26 -> 33.467202 | T26: =$V$3/#REF! -> #REF! | U26: =P26*$Z$3 -> 0.00025234 | V26: =Q26*$Z$3 -> 2.7639e-05
D27: High | E27: 1 | F27: 1 | G27: =('COU Crosswalk'!L14)/100 -> 0 | H27: 365 | I27: 57 yrs | J27: 39 | K27: 39 | L27: 8.15 | M27: 0.508 | N27: =$V$3/L27 -> 4.7852761 | O27: =$V$3/M27 -> 76.771654 | P27: =0.22 -> 0.22 | Q27: 0.02 | R27: =$X$3/P27 -> 1.1363636 | S27: =$X$3/Q27 -> 12.5 | T27: =$V$3/#REF! -> #REF! | U27: =P27*$Z$3 -> 0.000814 | V27: =Q27*$Z$3 -> 7.4e-05
A30: MOE = POD/Exposure (air conc)

Sheet Inhalation Exposure (ppm)
A1: Inhalation Calculations for Consumer Scenarios
A2: COU | B2: Sub Category COU | C2: Product/Article Name | D2: Exposure Level | E2: User(s) [A zero indicates that the population was not assessed for dermal exposure] | J2: Acute Inhalation POD (ppm) | L2: Peak concentration (ppm) | N2: Acute Non-Cancer Risk (MOE) | P2: Chronic Non-Cancer Concentration (ppm) | R2: Chronic Non-Cancer Risk (MOE) | U2: Cancer Risk | V2: Acute HEC (ppm) | W2: Acute Inhalation Benchmark | X2: Chronic HEC (ppm) | Y2: Acute Inhalation Benchmark | Z2: Cancer IUR
E3: Adult | F3: Youth | G3: Weight Fraction (Decimal) | H3: Frequency (chronic) | I3: Frequency (acute) | J3: USER (ADULTS >21/ YOUTHS (16-20 AND 11 to <15) | K3: BYSTANDER | L3: USER (ADULTS >21/ YOUTHS (16-20 AND 11 to <15) | M3: BYSTANDER | N3: USER (ADULTS >21/ YOUTHS (16-20 AND 11 to <15) | O3: BYSTANDER | P3: USER (ADULTS >21/ YOUTHS (16-20 AND 11 to <15), Zone 1 | Q3: BYSTANDER (Zone 2) | R3: ADULTS >21 | S3: YOUTHS (16-20) | T3: YOUTHS (11 to <15) | U3: ADULTS >21 | V3: =8.4 -> 8.4 | W3: =30 -> 30 | X3: =0.054 -> 0.054 | Y3: =30 -> 30 | Z3: 0.0037 | AA3: Scenario Comparison (12 min/event x 10 events)per day - acute peak conc (mg/m3) | AB3: Acute risk | AC3: peak conc. ppm
A4: Cleaning and furnishing care product | B4: All-purpose liquid cleaner/polish | C4: ='COU Crosswalk'!C3 -> Cera Fluida Classic Liquid Wax | D4: Low | E4: 1 | F4: 1 | G4: =G5 -> 0.5412 | H4: 1 | I4: 1 | J4: 8.4 | K4: 8.4 | L4: =('Inhalation Exposure (mg m3)'!L4*24.45)/$B$34 -> 128.53615 | M4: =('Inhalation Exposure (mg m3)'!M4*24.45)/$B$34 -> 19.10731 | N4: =$V$3/L4 -> 0.065351263 | O4: =$V$3/M4 -> 0.43962231 | P4: n/a | Q4: n/a | R4: n/a | S4: n/a | T4: n/a
D5: Medium | E5: 1 | F5: 1 | G5: =G6 -> 0.5412 | H5: 1 | I5: 1 | J5: 8.4 | K5: 8.4 | L5: =('Inhalation Exposure (mg m3)'!L5*24.45)/$B$34 -> 155.8014 | M5: =('Inhalation Exposure (mg m3)'!M5*24.45)/$B$34 -> 30.078326 | N5: =$V$3/L5 -> 0.053914792 | O5: =$V$3/M5 -> 0.27927087 | P5: n/a | Q5: n/a | R5: n/a | S5: n/a | T5: n/a
D6: High | E6: 1 | F6: 1 | G6: =('COU Crosswalk'!L3)/100 -> 0.5412 | H6: 1 | I6: 1 | J6: 8.4 | K6: 8.4 | L6: =('Inhalation Exposure (mg m3)'!L6*24.45)/$B$34 -> 184.79777 | M6: =('Inhalation Exposure (mg m3)'!M6*24.45)/$B$34 -> 41.979821 | N6: =$V$3/L6 -> 0.045455094 | O6: =$V$3/M6 -> 0.20009614 | P6: n/a | Q6: n/a | R6: n/a | S6: n/a | T6: n/a
A7: Cleaning and furnishing care product | B7: All-purpose liquid cleaner/polish | C7: ='COU Crosswalk'!C4 -> UniBlack2 black granite treatment | D7: Low | E7: 1 | F7: 1 | G7: =('COU Crosswalk'!J4)/100 -> 0.3 | H7: 1 | I7: 1 | J7: 8.4 | K7: 8.4 | L7: =('Inhalation Exposure (mg m3)'!L7*24.45)/$B$34 -> 71.192583 | M7: =('Inhalation Exposure (mg m3)'!M7*24.45)/$B$34 -> 10.603151 | N7: =$V$3/L7 -> 0.11798982 | O7: =$V$3/M7 -> 0.79221735 | P7: n/a | Q7: n/a | R7: n/a | S7: n/a | T7: n/a
D8: Medium | E8: 1 | F8: 1 | G8: =('COU Crosswalk'!K4)/100 -> 0.4 | H8: 1 | I8: 1 | J8: 8.4 | K8: 8.4 | L8: =('Inhalation Exposure (mg m3)'!L8*24.45)/$B$34 -> 90.234977 | M8: =('Inhalation Exposure (mg m3)'!M8*24.45)/$B$34 -> 17.527657 | N8: =$V$3/L8 -> 0.093090289 | O8: =$V$3/M8 -> 0.4792426 | P8: n/a | Q8: n/a | R8: n/a | S8: n/a | T8: n/a
D9: High | E9: 1 | F9: 1 | G9: =('COU Crosswalk'!L4)/100 -> 0.5 | H9: 1 | I9: 1 | J9: 8.4 | K9: 8.4 | L9: =('Inhalation Exposure (mg m3)'!L9*24.45)/$B$34 -> 133.08036 | M9: =('Inhalation Exposure (mg m3)'!M9*24.45)/$B$34 -> 30.294716 | N9: =$V$3/L9 -> 0.063119757 | O9: =$V$3/M9 -> 0.27727607 | P9: n/a | Q9: n/a | R9: n/a | S9: n/a | T9: n/a
A10: Cleaning and furnishing care product | B10: All-purpose waxes and polishes (paste) | C10: ='COU Crosswalk'!C5 -> Cera TeWax | D10: Low | E10: 1 | F10: 1 | G10: =('COU Crosswalk'!J5)/100 -> 0.3 | H10: 1 | I10: 1 | J10: 8.4 | K10: 8.4 | L10: =('Inhalation Exposure (mg m3)'!L10*24.45)/$B$34 -> 91.316931 | M10: =('Inhalation Exposure (mg m3)'!M10*24.45)/$B$34 -> 13.589344 | N10: =$V$3/L10 -> 0.091987323 | O10: =$V$3/M10 -> 0.61813137 | P10: n/a | Q10: n/a | R10: n/a | S10: n/a | T10: n/a
D11: Medium | E11: 1 | F11: 1 | G11: =('COU Crosswalk'!K5)/100 -> 0.4 | H11: 1 | I11: 1 | J11: 8.4 | K11: 8.4 | L11: =('Inhalation Exposure (mg m3)'!L11*24.45)/$B$34 -> 115.11992 | M11: =('Inhalation Exposure (mg m3)'!M11*24.45)/$B$34 -> 22.288256 | N11: =$V$3/L11 -> 0.072967388 | O11: =$V$3/M11 -> 0.3768801 | P11: n/a | Q11: n/a | R11: n/a | S11: n/a | T11: n/a
D12: High | E12: 1 | F12: 1 | G12: =('COU Crosswalk'!L5)/100 -> 0.5 | H12: 1 | I12: 1 | J12: 8.4 | K12: 8.4 | L12: =('Inhalation Exposure (mg m3)'!L12*24.45)/$B$34 -> 170.73237 | M12: =('Inhalation Exposure (mg m3)'!M12*24.45)/$B$34 -> 38.733959 | N12: =$V$3/L12 -> 0.04919981 | O12: =$V$3/M12 -> 0.21686397 | P12: n/a | Q12: n/a | R12: n/a | S12: n/a | T12: n/a | AA12: 391 | AB12: =$V$3/AA12 -> 0.021483376
A13: Cleaning and furnishing care product | B13: All-purpose waxes and polishes (paste) | C13: ='COU Crosswalk'!C6 -> Quartz Toner | D13: Low | E13: 1 | F13: 1 | G13: =('COU Crosswalk'!J6)/100 -> 0.01 | H13: 1 | I13: 1 | J13: 8.4 | K13: 8.4 | L13: =('Inhalation Exposure (mg m3)'!L13*24.45)/$B$34 -> 2.0968272 | M13: =('Inhalation Exposure (mg m3)'!M13*24.45)/$B$34 -> 0.3116028 | N13: =$V$3/L13 -> 4.0060527 | O13: =$V$3/M13 -> 26.957396 | P13: n/a | Q13: n/a | R13: n/a | S13: n/a | T13: n/a
D14: Medium | E14: 1 | F14: 1 | G14: =('COU Crosswalk'!K6)/100 -> 0.0225 | H14: 1 | I14: 1 | J14: 8.4 | K14: 8.4 | L14: =('Inhalation Exposure (mg m3)'!L14*24.45)/$B$34 -> 4.4792902 | M14: =('Inhalation Exposure (mg m3)'!M14*24.45)/$B$34 -> 0.86772723 | N14: =$V$3/L14 -> 1.8752971 | O14: =$V$3/M14 -> 9.6804614 | P14: n/a | Q14: n/a | R14: n/a | S14: n/a | T14: n/a
D15: High | E15: 1 | F15: 1 | G15: =('COU Crosswalk'!L6)/100 -> 0.035 | H15: 1 | I15: 1 | J15: 8.4 | K15: 8.4 | L15: =('Inhalation Exposure (mg m3)'!L15*24.45)/$B$34 -> 8.1795734 | M15: =('Inhalation Exposure (mg m3)'!M15*24.45)/$B$34 -> 1.8631251 | N15: =$V$3/L15 -> 1.0269484 | O15: =$V$3/M15 -> 4.508554 | P15: n/a | Q15: n/a | R15: n/a | S15: n/a | T15: n/a
A16: Cleaning and furnishing care product | B16: All-purpose liquid spray cleaner/polish | C16: ='COU Crosswalk'!C7 -> Lustro Italiano | D16: Low | E16: 1 | F16: 1 | G16: =('COU Crosswalk'!$J$7)/100 -> 0.01 | H16: 185 | I16: =I14 -> 1 | J16: 8.4 | K16: 8.4 | L16: =('Inhalation Exposure (mg m3)'!L16*24.45)/$B$34 -> 0.33540579 | M16: =('Inhalation Exposure (mg m3)'!M16*24.45)/$B$34 -> 0.014281795 | N16: =$V$3/L16 -> 25.044291 | O16: =$V$3/M16 -> 588.16137 | P16: =('Inhalation Exposure (mg m3)'!P16*24.45)/$B$34 -> 0.0034406142 | Q16: =('Inhalation Exposure (mg m3)'!Q16*24.45)/$B$34 -> 0.00040248695 | R16: =$X$3/P16 -> 15.694872 | S16: =$X$3/Q16 -> 134.16584 | T16: =$V$3/#REF! -> #REF!
D17: Medium | E17: 1 | F17: 1 | G17: =('COU Crosswalk'!$K$7)/100 -> 0.0225 | H17: 300 | I17: =I16 -> 1 | J17: 8.4 | K17: 8.4 | L17: =('Inhalation Exposure (mg m3)'!L17*24.45)/$B$34 -> 0.78549872 | M17: =('Inhalation Exposure (mg m3)'!M17*24.45)/$B$34 -> 0.040248695 | N17: =$V$3/L17 -> 10.693843 | O17: =$V$3/M17 -> 208.70242 | P17: =('Inhalation Exposure (mg m3)'!P17*24.45)/$B$34 -> 0.020189265 | Q17: =('Inhalation Exposure (mg m3)'!Q17*24.45)/$B$34 -> 0.0022071865 | R17: =$X$3/P17 -> 2.6746888 | S17: =$X$3/Q17 -> 24.465536 | T17: =$V$3/#REF! -> #REF!
D18: High | E18: 1 | F18: 1 | G18: =('COU Crosswalk'!$L$7)/100 -> 0.035 | H18: 365 | I18: 1 | J18: 8.4 | K18: 8.4 | L18: =('Inhalation Exposure (mg m3)'!L18*24.45)/$B$34 -> 1.7635853 | M18: =('Inhalation Exposure (mg m3)'!M18*24.45)/$B$34 -> 0.10992654 | N18: =$V$3/L18 -> 4.7630246 | O18: =$V$3/M18 -> 76.414666 | P18: =('Inhalation Exposure (mg m3)'!P18*24.45)/$B$34 -> 0.067081158 | Q18: =('Inhalation Exposure (mg m3)'!Q18*24.45)/$B$34 -> 0.0070976193 | R18: =$X$3/P18 -> 0.80499505 | S18: =$X$3/Q18 -> 7.6081849 | T18: =$V$3/#REF! -> #REF!
A20: Chronic
A21: Cleaning and furnishing care product | B21: All-purpose liquid spray cleaner/polish | C21: ='COU Crosswalk'!C10 -> 0 | D21: Low | E21: 1 | F21: 1 | G21: =('COU Crosswalk'!$J$7)/100 -> 0.01 | H21: 185 | I21: 1 | J21: 0.054 | K21: 0.054 | L21: =('Inhalation Exposure (mg m3)'!L21*24.45)/$B$34 -> 0.33540579 | M21: =('Inhalation Exposure (mg m3)'!M21*24.45)/$B$34 -> 0.014281795 | N21: =$V$3/L21 -> 25.044291 | O21: =$V$3/M21 -> 588.16137 | P21: =('Inhalation Exposure (mg m3)'!P21*24.45)/$B$34 -> 0.0034406142 | Q21: =('Inhalation Exposure (mg m3)'!Q21*24.45)/$B$34 -> 0.00040248695 | R21: =$X$3/P21 -> 15.694872 | S21: =$X$3/Q21 -> 134.16584 | T21: =$V$3/#REF! -> #REF!
D22: Medium | E22: 1 | F22: 1 | G22: =('COU Crosswalk'!$K$7)/100 -> 0.0225 | H22: 300 | I22: =I21 -> 1 | J22: 0.054 | K22: 0.054 | L22: =('Inhalation Exposure (mg m3)'!L22*24.45)/$B$34 -> 0.78549872 | M22: =('Inhalation Exposure (mg m3)'!M22*24.45)/$B$34 -> 0.040248695 | N22: =$V$3/L22 -> 10.693843 | O22: =$V$3/M22 -> 208.70242 | P22: =('Inhalation Exposure (mg m3)'!P22*24.45)/$B$34 -> 0.020189265 | Q22: =('Inhalation Exposure (mg m3)'!Q22*24.45)/$B$34 -> 0.0022071865 | R22: =$X$3/P22 -> 2.6746888 | S22: =$X$3/Q22 -> 24.465536 | T22: =$V$3/#REF! -> #REF!
D23: High | E23: 1 | F23: 1 | G23: =('COU Crosswalk'!$L$7)/100 -> 0.035 | H23: 365 | I23: =I22 -> 1 | J23: 0.054 | K23: 0.054 | L23: =('Inhalation Exposure (mg m3)'!L23*24.45)/$B$34 -> 1.7635853 | M23: =('Inhalation Exposure (mg m3)'!M23*24.45)/$B$34 -> 0.10992654 | N23: =$V$3/L23 -> 4.7630246 | O23: =$V$3/M23 -> 76.414666 | P23: =('Inhalation Exposure (mg m3)'!P23*24.45)/$B$34 -> 0.067081158 | Q23: =('Inhalation Exposure (mg m3)'!Q23*24.45)/$B$34 -> 0.0070976193 | R23: =$X$3/P23 -> 0.80499505 | S23: =$X$3/Q23 -> 7.6081849 | T23: =$V$3/#REF! -> #REF!
A24: Chronic (Cancer): for lifetime - 78 years averaging time; 57 years exposure duration | P24: Chronic concentration (lifetime) | U24: Cancer risk | V24: Cancer risk
A25: Cleaning and furnishing care product | B25: All-purpose liquid spray cleaner/polish | C25: ='COU Crosswalk'!C14 -> 0 | D25: Low | E25: 1 | F25: 1 | G25: =('COU Crosswalk'!J14)/100 -> 0 | H25: 185 | I25: 57 yrs | J25: 0.054 | K25: 0.054 | L25: =('Inhalation Exposure (mg m3)'!L25*24.45)/$B$34 -> 0.33540579 | M25: =('Inhalation Exposure (mg m3)'!M25*24.45)/$B$34 -> 0.014281795 | N25: =$V$3/L25 -> 25.044291 | O25: =$V$3/M25 -> 588.16137 | P25: 0.0143 | Q25: 0.00168 | R25: =$X$3/P25 -> 3.7762238 | S25: =$X$3/Q25 -> 32.142857 | T25: =$V$3/#REF! -> #REF! | U25: =P25*$Z$3 -> 5.291e-05 | V25: =Q25*$Z$3 -> 6.216e-06
D26: Medium | E26: 1 | F26: 1 | G26: =('COU Crosswalk'!K14)/100 -> 0 | H26: 300 | I26: =I25 -> 57 yrs | J26: 0.054 | K26: 0.054 | L26: =('Inhalation Exposure (mg m3)'!L26*24.45)/$B$34 -> 0.78549872 | M26: =('Inhalation Exposure (mg m3)'!M26*24.45)/$B$34 -> 0.040248695 | N26: =$V$3/L26 -> 10.693843 | O26: =$V$3/M26 -> 208.70242 | P26: =0.0682 -> 0.0682 | Q26: 0.00747 | R26: =$X$3/P26 -> 0.79178886 | S26: =$X$3/Q26 -> 7.2289157 | T26: =$V$3/#REF! -> #REF! | U26: =P26*$Z$3 -> 0.00025234 | V26: =Q26*$Z$3 -> 2.7639e-05
D27: High | E27: 1 | F27: 1 | G27: =('COU Crosswalk'!L14)/100 -> 0 | H27: 365 | I27: 57 yrs | J27: 0.054 | K27: 0.054 | L27: =('Inhalation Exposure (mg m3)'!L27*24.45)/$B$34 -> 1.7635853 | M27: =('Inhalation Exposure (mg m3)'!M27*24.45)/$B$34 -> 0.10992654 | N27: =$V$3/L27 -> 4.7630246 | O27: =$V$3/M27 -> 76.414666 | P27: =0.22 -> 0.22 | Q27: 0.02 | R27: =$X$3/P27 -> 0.24545455 | S27: =$X$3/Q27 -> 2.7 | T27: =$V$3/#REF! -> #REF! | U27: =P27*$Z$3 -> 0.000814 | V27: =Q27*$Z$3 -> 7.4e-05
A30: MOE = POD/Exposure (air conc)
A32: ppm = (mg/m3 * 24.45)/mw
B33: Molecular weight
B34: 112.99
