Workbook
Name AT: #REF!
Name AT_50th_non_cancer: #REF!
Name AT_50th_non_cancer_DC: #REF!
Name AT_95th_non_cancer: #REF!
Name AT_95th_non_cancer_DC: #REF!
Name AT_AC: #REF!
Name AT_AC_DC: #REF!
Name AT_ADC_high: #REF!
Name AT_ADC_mid: #REF!
Name AT_cancer: #REF!
Name AT_cancer_DC: #REF!
Name AT_LADC: #REF!
Name AWD: #REF!
Name AWD_DC_50th: #REF!
Name AWD_DC_95th: #REF!
Name CASRN: #REF!
Name ED: #REF!
Name ED_AC: #REF!
Name ED_AC_DC: #REF!
Name ED_chronic: #REF!
Name ED_chronic_DC: #REF!
Name EF: #REF!
Name WY_50th: #REF!
Name WY_50th_DC: #REF!
Name WY_95th: #REF!
Name WY_95th_DC: #REF!
Name WY_high: #REF!
Name WY_mid: #REF!

Sheet Cover Page
A1: PUBLIC RELEASE DRAFT
A2: July 2026
A4: Draft General Population Fish Ingestion Estimates for 1,2-Dichloropropane
A6: CASRN 78-87-5

Sheet READ ME
A21: Inputs | B21: Details
A22: SWC | B22: According to EFAST guidance, "the distinction between acute and chronic fish ingestion is made on the basis of daily ingestion rate. The mean long-term fish ingestion rate is used to calculate chronic exposures and the mean serving size is used to calculate acute fish ingestion exposures for adults. This is in contrast to drinking water estimates, where the distinction between acute and chronic values is made on the basis of stream flows and on ingestion rates. The reason for this difference is that it takes time for chemical concentrations to accumulate in fish; therefore, the harmonic mean flow is used to calculate concentrations for both acute and chronic scenarios. It is not appropriate to use a very low streamflow value that occurs rarely as the basis for calculating a chemical residue in fish."
A23: BAF | B23: Use BAF because it considers exposure from the water column
A24: Fish Ingestion Rate
B25: Age Group* | C25: Mean BW (kg)a | D25: Fish Ingestion Rate (g/kg-day)
D26: 50th Percentile | E26: 90th percentile
B27: Infant (<1 year)b | C27: 7.83 | D27: N/A | E27: N/A
B28: Young toddler (1 to <2 years)b | C28: 11.4 | D28: 0.053 | E28: 0.412 | F28: Table 20a. 50th and 90th percentile IR is 0.6 and 4.7, respectively. Divide by BW of 11.4 to derive IR in g/kg-day
B29: Toddler (2 to <3 years)b | C29: 13.8 | D29: 0.043 | E29: 0.341 | F29: Table 20a. 50th and 90th percentile IR is 0.6 and 4.7, respectively. Divide by BW of 13.8 to derive IR in g/kg-day
B30: Small child (3 to <6 years)b | C30: 18.6 | D30: 0.038 | E30: 0.312 | F30: Table 20a. 50th and 90th percentile IR is 0.7 and 5.8, respectively. Divide by BW of 18.6 to derive IR in g/kg-day
B31: Child (6 to <11 years)b | C31: 31.8 | D31: 0.035 | E31: 0.242 | F31: Table 20a. 50th and 90th percentile IR is 1.1 and 7.7, respectively. Divide by BW of 31.8 to derive IR in g/kg-day
B32: Teen (11 to <16 years)b | C32: 56.8 | D32: 0.019 | E32: 0.146 | F32: Table 20a. 50th and 90th percentile IR is 1.1 and 8.3, respectively. Divide by BW of 56.8 to derive IR in g/kg-day
B33: Adult (16 to <70 years)c | C33: 80 | D33: 0.063 | E33: 0.277 | F33: Even though table 9a is for adults >=21, those rates were used and divided by 80 kg. The 90th percentile rate is 22 and not sure where HBCD got 22.2. TCEP used 22.2 as well, but it's a minor difference.
B34: Subsistence fisher (adult)d | C34: 80 | D34: 1.78
B35: a {U.S. EPA, 2011, 786546@@U.S. EPA-2011}, Table 8-1
B36: b {U.S. EPA, 2014, 3809132@@U.S. EPA-2014}, Table 20a
B37: c {U.S. EPA, 2014, 3809132@@U.S. EPA-2014}, Table 9a
B38: d {U.S. EPA, 2000, 19428@@U.S. EPA-2000}
B39: *The IR in the OW publication is in g/day, and we wanted to account for BW by deriving an IR in g/kg-day. The BW for different age groups that are found in the Exposure Factors Handbook do not match the age groups for the IRs. As you pointed out, they are only for groups <21 and >21. See table below for details on how we derived our IRs. Despite including IRs for different age groups, we only used the adult IR because it was most conservative.
B41: For subsistence fisher, we only have a single value and only for adults. Use the same ingestion rate for acute, chronic, and cancer estimates and vary the PODs to estimate acute, chronic, or cancer risks.
A43: ED and AT | B43: The years within an age group (e.g., 1 year for infants) was used for the exposure duration and averaging time, so they cancel out for ADR and ADD.

Sheet EFAST Calcs_Waterbody Conc
V1: Calculated Flow Values | AB1: Release Concentrations (OES days of release) | AE1: Release Concentrations (ECO 21 days of release) | AH1: Eco Screen (Chronic COC) | AJ1: 812
A2: Reporting. Year | B2: Facility. Name | C2: City | D2: County | E2: State | F2: Facility. Latitude | G2: Facility. Longitude | H2: FRS.ID | I2: X4.Digit. SIC.Code | J2: SIC.Description | K2: NAICS | L2: NAICS.description | M2: IS.Code | N2: Industry.Sector.Designation | O2: OES | P2: OES.Basis | Q2: Operating Days of Release | R2: Annual Discharge (kg/yr) | S2: OES Daily Release (operating days), kg/day | T2: Eco: 21 days, Daily Release (kg.day) | U2: NPDES Permit Number | V2: Pick 30Q5 mld | W2: Note30Q5 | X2: PickHMmld | Y2: NoteHM | Z2: Pick7Q10 mld | AA2: Note7Q10 | AB2: 7Q10 Concentration (ug/L) | AC2: 30Q5 Concentration (ug/L) | AD2: Harmonic Mean Concentration (ug/L) | AE2: 7Q10 Concentration (ug/L) | AF2: 30Q5 Concentration (ug/L) | AG2: Harmonic Mean Concentration (ug/L) | AH2: Chronic Aquatic COC (812 ug/L) | AI2: Acute Aquatic COC (24,250 ug/L) | AJ2: Sediment COC (2,900 ug/L) | AK2: Pore Water COC (9,300 ug/L)
A3: 2022 | B3: FIRMENICH INCORPORATED | C3: PLAINSBORO | D3: MIDDLESEX | E3: NJ | F3: 40.331944 | G3: -74.619722 | H3: 110000321651 | I3: 2869 | J3: Industrial Organic Chemicals, Nec | K3: 325180 | L3: Other Basic Inorganic Chemical Manufacturing | M3: IS19 | N3: All Other Basic Inorganic Chemical Manufacturing | O3: Processing as a reactant | P3: NAICS OES Crosswalk | Q3: 350 | R3: 0.030695 | S3: =R3/Q3 -> 8.77e-05 | T3: =R3/21 -> 0.0014616667 | U3: NJ0031445 | V3: 0.15131834 | W3: Coastal | X3: 0.15131834 | Y3: Coastal | Z3: 0.15131834 | AA3: Coastal | AB3: 0.57957285 | AC3: 0.57957285 | AD3: 0.57957285 | AE3: 9.6595475 | AF3: 9.6595475 | AG3: 9.6595475 | AH3: =IF($AE3>$AJ$1,"YES","NO") -> NO
A4: 2023 | B4: AVANTOR PERFORMANCE MATERIALS | C4: PHILLIPSBURG | D4: WARREN | E4: NJ | F4: 40.703099 | G4: -75.197676 | H4: 110000322311 | I4: 2819 | J4: Platemaking Services | K4: 323120 | L4: Support Activities for Printing | M4: IS10 | N4: Printing and Related Support Activities | O4: Processing as a reactant | P4: Facility produces specialty and custom laboratory products. | Q4: 350 | R4: 0.1544 | S4: =R4/Q4 -> 0.00044114286 | T4: =R4/21 -> 0.007352381 | U4: NJ0004006 | V4: 8328.8998 | W4: 30Q5 Flow | X4: 15559.687 | Y4: HM Flow | Z4: 6097.9706 | AA4: 7Q10 Flow | AB4: 7.2342568e-05 | AC4: 5.2965322e-05 | AD4: 2.8351654e-05 | AE4: 0.0012057095 | AF4: 0.00088275537 | AG4: 0.00047252757 | AH4: =IF($AE4>$AJ$1,"YES","NO") -> NO
A5: 2023 | B5: SHELL CHEMICAL APPALACHIA LLC | C5: MONACA | D5: BEAVER | E5: PA | F5: 40.67058 | G5: -80.3365 | H5: 110000329038 | I5: 2869 | J5: Industrial Organic Chemicals, Nec | K5: 325180 | L5: Other Basic Inorganic Chemical Manufacturing | M5: IS19 | N5: All Other Basic Inorganic Chemical Manufacturing | O5: Processing as a reactant | P5: NAICS OES Crosswalk | Q5: 350 | R5: 0.028148 | S5: =R5/Q5 -> 8.0422857e-05 | T5: =R5/21 -> 0.001340381 | U5: PA0002208 | V5: 0.58594544 | W5: Plant Flow | X5: 0.58594544 | Y5: Plant Flow | Z5: 0.58594544 | AA5: Plant Flow | AB5: 0.13725315 | AC5: 0.13725315 | AD5: 0.13725315 | AE5: 2.2875525 | AF5: 2.2875525 | AG5: 2.2875525 | AH5: =IF($AE5>$AJ$1,"YES","NO") -> NO
A6: 2019 | B6: FORMOSA PLASTICS CORPORATION | C6: DELAWARE CITY | D6: NEW CASTLE | E6: DE | F6: 39.5851 | G6: -75.6492 | H6: 110000338536 | I6: 2821 | J6: Platemaking Services | K6: 323120 | L6: Support Activities for Printing | M6: IS10 | N6: Printing and Related Support Activities | O6: Not mapped to OES | P6: Facility produces plastic resins and petrochemicals. | Q6: 350 | R6: 0.005448 | S6: =R6/Q6 -> 1.5565714e-05 | T6: =R6/21 -> 0.00025942857 | U6: DE0000612 | V6: 1.3202934 | W6: 30Q5 Flow | X6: 1.3987469 | Y6: HM Flow | Z6: 0.71041326 | AA6: 7Q10 Flow | AB6: 0.021910788 | AC6: 0.011789587 | AD6: 0.011128328 | AE6: 0.3651798 | AF6: 0.19649312 | AG6: 0.18547214 | AH6: =IF($AE6>$AJ$1,"YES","NO") -> NO
A7: 2021 | B7: TEKNOR APEX TENNESSEE COMPANY | C7: BROWNSVILLE | D7: HAYWOOD | E7: TN | F7: 35.6076 | G7: -89.2377 | H7: 110000373621 | I7: 3087 | J7: Custom Compound Purchased Resins | K7: 325991 | L7: Custom Compounding of Purchased Resins | M7: IS32 | N7: Custom Compounding of Purchased Resin | O7: Not mapped to OES | P7: Facility is a plastics manufacturer; assumed processing as a reactant. | Q7: 350 | R7: 0.78056163 | S7: =R7/Q7 -> 0.0022301761 | T7: =R7/21 -> 0.037169601 | U7: TN0041939 | V7: 4.4260614 | W7: Plant Flow | X7: 4.4260614 | Y7: Plant Flow | Z7: 4.4260614 | AA7: Plant Flow | AB7: 0.50387373 | AC7: 0.50387373 | AD7: 0.50387373 | AE7: 8.3978956 | AF7: 8.3978956 | AG7: 8.3978956 | AH7: =IF($AE7>$AJ$1,"YES","NO") -> NO
A8: 2021 | B8: MONUMENT CHEMICAL KENTUCKY LLC | C8: BRANDENBURG | D8: MEADE | E8: KY | F8: 38.002597 | G8: -86.117905 | H8: 110000377976 | I8: 2869 | J8: Industrial Organic Chemicals, Nec | K8: 325180 | L8: Other Basic Inorganic Chemical Manufacturing | M8: IS19 | N8: All Other Basic Inorganic Chemical Manufacturing | O8: Processing as a reactant | P8: NAICS OES Crosswalk | Q8: 350 | R8: 0.783377 | S8: =R8/Q8 -> 0.00223822 | T8: =R8/21 -> 0.037303667 | U8: KY0002119 | V8: 109171.49 | W8: 30Q5 Flow | X8: 248481.08 | Y8: HM Flow | Z8: 87507.184 | AA8: 7Q10 Flow | AB8: 2.5577557e-05 | AC8: 2.0501872e-05 | AD8: 9.0076072e-06 | AE8: 0.00042629262 | AF8: 0.00034169787 | AG8: 0.00015012679 | AH8: =IF($AE8>$AJ$1,"YES","NO") -> NO
A9: 2023 | B9: BAKELITE SYNTHETICS | C9: LOUISVILLE | D9: JEFFERSON | E9: KY | F9: 38.195278 | G9: -85.872222 | H9: 110000378467 | I9: 2869 | J9: Industrial Organic Chemicals, Nec | K9: 325180 | L9: Other Basic Inorganic Chemical Manufacturing | M9: IS19 | N9: All Other Basic Inorganic Chemical Manufacturing | O9: Processing as a reactant | P9: NAICS OES Crosswalk | Q9: 350 | R9: 0.911405 | S9: =R9/Q9 -> 0.0026040143 | T9: =R9/21 -> 0.043400238 | U9: KY0001112 | V9: 106660.54 | W9: 30Q5 Flow | X9: 241491.87 | Y9: HM Flow | Z9: 85424.515 | AA9: 7Q10 Flow | AB9: 3.048322e-05 | AC9: 2.4414036e-05 | AD9: 1.0783031e-05 | AE9: 0.00050805367 | AF9: 0.0004069006 | AG9: 0.00017971718 | AH9: =IF($AE9>$AJ$1,"YES","NO") -> NO
A10: 2019 | B10: SABIC INNOVATIVE PLASTICS - MT. VERNON | C10: MT. VERNON | D10: POSEY | E10: IN | F10: 37.9072 | G10: -87.9271 | H10: 110000403670 | I10: 2821 | J10: Platemaking Services | K10: 323120 | L10: Support Activities for Printing | M10: IS10 | N10: Printing and Related Support Activities | O10: Not mapped to OES | P10: Plastic resin manufacturer; assumed processing as a reactant. | Q10: 350 | R10: 10.85968 | S10: =R10/Q10 -> 0.031027657 | T10: =R10/21 -> 0.51712762 | U10: IN0002101 | V10: 115692.48 | W10: 30Q5 Flow | X10: 270269.05 | Y10: HM Flow | Z10: 92923.699 | AA10: 7Q10 Flow | AB10: 0.00033390467 | AC10: 0.00026819078 | AD10: 0.00011480285 | AE10: 0.0055650779 | AF10: 0.0044698464 | AG10: 0.0019133808 | AH10: =IF($AE10>$AJ$1,"YES","NO") -> NO
A11: 2019 | B11: STEPAN CO | C11: ELWOOD | D11: WILL | E11: IL | F11: 41.441667 | G11: -88.15972 | H11: 110000432504 | I11: 2843 | J11: Platemaking Services | K11: 323120 | L11: Support Activities for Printing | M11: IS10 | N11: Printing and Related Support Activities | O11: Processing as a reactant | P11: The site produces multiple materials including alkoxylates, alpha sulfo methyl esters, amides, amine oxides, esters, sulfosuccinates, sulfacetates, sulfonates, sulfates, blends, phosphate esters, quaternaries, phthalic anhydride, and polyols (https://www.stepan.com/content/stepan-dot-com/en/you-stepan/locations.html). 1,1 DCA is likely used in the manufacturing process. | Q11: 350 | R11: 0.745014 | S11: =R11/Q11 -> 0.0021286114 | T11: =R11/21 -> 0.035476857 | U11: IL0002453 | V11: 12.110024 | W11: 30Q5 Flow | X11: 19.752695 | Y11: HM Flow | Z11: 7.0447362 | AA11: 7Q10 Flow | AB11: 0.3021563 | AC11: 0.17577268 | AD11: 0.10776309 | AE11: 5.0359383 | AF11: 2.9295446 | AG11: 1.7960514 | AH11: =IF($AE11>$AJ$1,"YES","NO") -> NO
A12: 2023 | B12: EQUISTAR CHEMICALS, LP - MORRIS PLANT | C12: MORRIS | D12: GRUNDY | E12: IL | F12: 41.412897 | G12: -88.329773 | H12: 110000433013 | I12: 2821 | J12: Platemaking Services | K12: 323120 | L12: Support Activities for Printing | M12: IS10 | N12: Printing and Related Support Activities | O12: Not mapped to OES | P12: Facility produces Ethylene, Propylene, Polyethylene (Low Density and High Density), and Linear Low Density PolyethyleneÂ used to create a variety of products. | Q12: 350 | R12: 2.09748 | S12: =R12/Q12 -> 0.0059928 | T12: =R12/21 -> 0.09988 | U12: IL0002917 | V12: 2.7410623 | W12: Plant Flow | X12: 2.7410623 | Y12: Plant Flow | Z12: 2.7410623 | AA12: Plant Flow | AB12: 2.1863056 | AC12: 2.1863056 | AD12: 2.1863056 | AE12: 36.438427 | AF12: 36.438427 | AG12: 36.438427 | AH12: =IF($AE12>$AJ$1,"YES","NO") -> NO | AM12: =2.19*AN12 -> 36.5 | AN12: =350/21 -> 16.666667 | AO12: (21 day concentration is linear releative to 350 day concentration)
A13: 2020 | B13: HB FULLER CO | C13: MORRIS | D13: GRUNDY | E13: IL | F13: 41.30532 | G13: -88.56177 | H13: 110000433022 | I13: 2821 | J13: Platemaking Services | K13: 323120 | L13: Support Activities for Printing | M13: IS10 | N13: Printing and Related Support Activities | O13: Not mapped to OES | P13: Adhesive/sealant and abrasives manufacturer. | Q13: 350 | R13: 0.20465185 | S13: =R13/Q13 -> 0.00058471957 | T13: =R13/21 -> 0.0097453262 | U13: IL0079758 | V13: 14.066015 | W13: 30Q5 Flow | X13: 23.003356 | Y13: HM Flow | Z13: 8.2258294 | AA13: 7Q10 Flow | AB13: 0.071083358 | AC13: 0.041569669 | AD13: 0.025418881 | AE13: 1.1847226 | AF13: 0.69282781 | AG13: 0.42364801 | AH13: =IF($AE13>$AJ$1,"YES","NO") -> NO
A14: 2023 | B14: BAYER CROPSCIENCE KANSAS CITY | C14: KANSAS CITY | D14: JACKSON | E14: MO | F14: 39.121472 | G14: -94.473417 | H14: 110000443226 | I14: 2879 | J14: Agricultural Chemicals, Nec | K14: 325320 | L14: Pesticide and Other Agricultural Chemical Manufacturing | M14: IS25 | N14: Pesticide, Fertilizer, and Other Agricultural Chemical Manufacturing | O14: Processing as a reactant | P14: Facility produces agrochemicals. | Q14: 350 | R14: 13.2568 | S14: =R14/Q14 -> 0.037876571 | T14: =R14/21 -> 0.63127619 | U14: MO0002526 | V14: 260.00978 | W14: 30Q5 Flow | X14: 414.30549 | Y14: HM Flow | Z14: 168.49629 | AA14: 7Q10 Flow | AB14: 0.22479173 | AC14: 0.14567364 | AD14: 0.091421843 | AE14: 3.7465288 | AF14: 2.427894 | AG14: 1.5236974 | AH14: =IF($AE14>$AJ$1,"YES","NO") -> NO
A15: 2021 | B15: BASF CORPORATION | C15: WEST MEMPHIS | D15: CRITTENDEN | E15: AR | F15: 35.136057 | G15: -90.096893 | H15: 110000452082 | I15: 2869 | J15: Industrial Organic Chemicals, Nec | K15: 325180 | L15: Other Basic Inorganic Chemical Manufacturing | M15: IS19 | N15: All Other Basic Inorganic Chemical Manufacturing | O15: Processing as a reactant | P15: NAICS OES Crosswalk | Q15: 350 | R15: 0.05930148 | S15: =R15/Q15 -> 0.0001694328 | T15: =R15/21 -> 0.00282388 | U15: AR0037770 | V15: 746038.25 | W15: 30Q5 Flow | X15: 1489612.5 | Y15: HM Flow | Z15: 639845.76 | AA15: 7Q10 Flow | AB15: 2.6480257e-07 | AC15: 2.2711007e-07 | AD15: 1.1374287e-07 | AE15: 4.4133762e-06 | AF15: 3.7851679e-06 | AG15: 1.8957144e-06 | AH15: =IF($AE15>$AJ$1,"YES","NO") -> NO
A16: 2021 | B16: ECO SERVICES OPERATIONS HOUSTON | C16: HOUSTON | D16: HARRIS | E16: TX | F16: 29.718139 | G16: -95.26875 | H16: 110000460901 | I16: 2819 | J16: Platemaking Services | K16: 323120 | L16: Support Activities for Printing | M16: IS10 | N16: Printing and Related Support Activities | O16: Processing as a reactant | P16: Facility is a chemical manufacturer. | Q16: 350 | R16: 14.06492 | S16: =R16/Q16 -> 0.040185486 | T16: =R16/21 -> 0.6697581 | U16: TX0007072 | V16: 123.81174 | W16: 30Q5 Flow | X16: 185.24007 | Y16: HM Flow | Z16: 78.166387 | AA16: 7Q10 Flow | AB16: 0.51410187 | AC16: 0.32456928 | AD16: 0.21693732 | AE16: 8.5683645 | AF16: 5.409488 | AG16: 3.6156221 | AH16: =IF($AE16>$AJ$1,"YES","NO") -> NO
A17: 2021 | B17: MONUMENT CHEMICAL HOUSTON | C17: HOUSTON | D17: HARRIS COUNTY | E17: TX | F17: 29.75487 | G17: -95.10327 | H17: 110000460983 | I17: 2869 | J17: Industrial Organic Chemicals, Nec | K17: 325180 | L17: Other Basic Inorganic Chemical Manufacturing | M17: IS19 | N17: All Other Basic Inorganic Chemical Manufacturing | O17: Processing as a reactant | P17: NAICS OES Crosswalk | Q17: 350 | R17: 0.3745046 | S17: =R17/Q17 -> 0.0010700131 | T17: =R17/21 -> 0.017833552 | U17: TX0085979 | V17: 24.865526 | W17: 30Q5 Flow | X17: 50.489349 | Y17: HM Flow | Z17: 14.835961 | AA17: 7Q10 Flow | AB17: 0.07212294 | AC17: 0.043031994 | AD17: 0.021192849 | AE17: 1.202049 | AF17: 0.71719989 | AG17: 0.35321415 | AH17: =IF($AE17>$AJ$1,"YES","NO") -> NO
A18: 2023 | B18: INVISTA HOUSTON | C18: HOUSTON | D18: HARRIS | E18: TX | F18: 29.706248 | G18: -95.251079 | H18: 110000461107 | I18: 2869 | J18: Industrial Organic Chemicals, Nec | K18: 325180 | L18: Other Basic Inorganic Chemical Manufacturing | M18: IS19 | N18: All Other Basic Inorganic Chemical Manufacturing | O18: Processing as a reactant | P18: NAICS OES Crosswalk | Q18: 350 | R18: 0.0579985 | S18: =R18/Q18 -> 0.00016571 | T18: =R18/21 -> 0.0027618333 | U18: TX0006068 | V18: 270.42543 | W18: 30Q5 Flow | X18: 343.92271 | Y18: HM Flow | Z18: 175.48848 | AA18: 7Q10 Flow | AB18: 0.00094427852 | AC18: 0.00061277522 | AD18: 0.00048182338 | AE18: 0.015737975 | AF18: 0.01021292 | AG18: 0.0080303896 | AH18: =IF($AE18>$AJ$1,"YES","NO") -> NO
A19: 2020 | B19: BRASKEM AMERICA INC - LAPORTE SITE | C19: LA PORTE | D19: HARRIS | E19: TX | F19: 29.704027 | G19: -95.079932 | H19: 110000463631 | I19: 2821 | J19: Platemaking Services | K19: 323120 | L19: Support Activities for Printing | M19: IS10 | N19: Printing and Related Support Activities | O19: Not mapped to OES | P19: Facility produces plastic products (polypropylene, polyethylene, UTEC). | Q19: 350 | R19: 0.0961118 | S19: =R19/Q19 -> 0.00027460514 | T19: =R19/21 -> 0.0045767524 | U19: TX0074276 | V19: 2.3530001 | W19: Manual Lookup | X19: 2.3530001 | Y19: Manual Lookup/Plant | Z19: 2.3530001 | AA19: Manual Lookup/Plant Flow | AB19: 0.11670426 | AC19: 0.11670426 | AD19: 0.11670426 | AE19: 1.945071 | AF19: 1.945071 | AG19: 1.945071 | AH19: =IF($AE19>$AJ$1,"YES","NO") -> NO
A20: 2022 | B20: METTON AMERICA LA PORTE PLANT | C20: LA PORTE | D20: HARRIS | E20: TX | F20: 29.726066 | G20: -95.079584 | H20: 110000463677 | I20: 2821 | J20: Platemaking Services | K20: 323120 | L20: Support Activities for Printing | M20: IS10 | N20: Printing and Related Support Activities | O20: Not mapped to OES | P20: Facility performs plastic fabrication; assumed processing as a reactant. | Q20: 350 | R20: 0.003993611 | S20: =R20/Q20 -> 1.1410317e-05 | T20: =R20/21 -> 0.00019017195 | U20: TX0084808 | V20: 1.0391198 | W20: 30Q5 Flow | X20: 2.639735 | Y20: HM Flow | Z20: 0.55442814 | AA20: 7Q10 Flow | AB20: 0.020580336 | AC20: 0.010980752 | AD20: 0.0043225236 | AE20: 0.34300559 | AF20: 0.18301254 | AG20: 0.072042061 | AH20: =IF($AE20>$AJ$1,"YES","NO") -> NO
A21: 2023 | B21: HANSON PERMANENTE CEMENT | C21: CUPERTINO | D21: SANTA CLARA | E21: CA | F21: 37.318059 | G21: -122.09263 | H21: 110000484039 | I21: 3241 | J21: Fabricated Rubber Products, Nec | K21: 326299 | L21: All Other Rubber Product Manufacturing | M21: IS36 | N21: Rubber Product Manufacturing | O21: Disposal to Incineration | P21: Cement producer; assumed incineration in cement kilns. | Q21: 250 | R21: 0.022587934 | S21: =R21/Q21 -> 9.0351736e-05 | T21: =R21/21 -> 0.0010756159 | U21: CA0030210 | V21: 0.31784841 | W21: 30Q5 Flow | X21: 0.9186388 | Y21: HM Flow | Z21: 0.16266391 | AA21: 7Q10 Flow | AB21: 0.55545042 | AC21: 0.28426046 | AD21: 0.09835393 | AE21: 6.612505 | AF21: 3.3840531 | AG21: 1.1708801 | AH21: =IF($AE21>$AJ$1,"YES","NO") -> NO
A22: 2020 | B22: BOEING COMPANY (THE) | C22: PORTLAND | D22: MULTNOMAH | E22: OR | F22: 45.543847 | G22: -122.46656 | H22: 110000487633 | I22: 3728 | J22: Office Machines, Nec | K22: 339940 | L22: Office Supplies (except Paper) Manufacturing | M22: IS45 | N22: Miscellaneous Manufacturing | O22: Processing as a reactant | P22: Aircraft parts manufacturer and chemical processor; assumed processing as a reactant. | Q22: 350 | R22: 0.035311779 | S22: =R22/Q22 -> 0.0001008908 | T22: =R22/21 -> 0.0016815133 | U22: OR0031828 | V22: 5.1564792 | W22: 30Q5 Flow | X22: 13.663442 | Y22: HM Flow | Z22: 2.9108586 | AA22: 7Q10 Flow | AB22: 0.03466015 | AC22: 0.01956583 | AD22: 0.0073839959 | AE22: 0.57766917 | AF22: 0.32609717 | AG22: 0.1230666 | AH22: =IF($AE22>$AJ$1,"YES","NO") -> NO
A23: 2019 | B23: KODAK PARK DIVISION | C23: ROCHESTER | D23: MONROE | E23: NY | F23: 43.197788 | G23: -77.629836 | H23: 110000492173 | I23: 3861 | J23: Office Machines, Nec | K23: 339940 | L23: Office Supplies (except Paper) Manufacturing | M23: IS45 | N23: Miscellaneous Manufacturing | O23: Processing Aid | P23: Kodak potentially uses 1,2-DCP as a paper sizing agent similar to Solenis which would fall under processing aid. | Q23: 300 | R23: 4.271232 | S23: =R23/Q23 -> 0.01423744 | T23: =R23/21 -> 0.203392 | U23: NY0001643 | V23: 2190.0416 | W23: 30Q5 Flow | X23: 4395.0256 | Y23: HM Flow | Z23: 1529.7811 | AA23: 7Q10 Flow | AB23: 0.0093068479 | AC23: 0.0065009908 | AD23: 0.0032394442 | AE23: 0.13295497 | AF23: 0.092871297 | AG23: 0.046277774 | AH23: =IF($AE23>$AJ$1,"YES","NO") -> NO
A24: 2022 | B24: KRATON CHEMICAL, LLC | C24: DOVER | D24: TUSCARAWAS | E24: OH | F24: 40.50632 | G24: -81.4743 | H24: 110000496981 | I24: 2869 | J24: Industrial Organic Chemicals, Nec | K24: 325180 | L24: Other Basic Inorganic Chemical Manufacturing | M24: IS19 | N24: All Other Basic Inorganic Chemical Manufacturing | O24: Processing as a reactant | P24: NAICS OES Crosswalk | Q24: 350 | R24: 0.93744 | S24: =R24/Q24 -> 0.0026784 | T24: =R24/21 -> 0.04464 | U24: OH0007196 | V24: 293.05379 | W24: 30Q5 Flow | X24: 522.96928 | Y24: HM Flow | Z24: 190.71151 | AA24: 7Q10 Flow | AB24: 0.01404425 | AC24: 0.0091396191 | AD24: 0.0051215245 | AE24: 0.23407083 | AF24: 0.15232698 | AG24: 0.085358742 | AH24: =IF($AE24>$AJ$1,"YES","NO") -> NO
... A63: 2021 | B63: ISP CHEMICALS LLC | C63: CALVERT CITY | D63: MARSHALL | E63: KY | F63: 37.047737 | G63: -88.35866 | H63: 110000741608 | I63: 2869 | J63: Industrial Organic Chemicals, Nec | K63: 325180 | L63: Other Basic Inorganic Chemical Manufacturing | M63: IS19 | N63: All Other Basic Inorganic Chemical Manufacturing | O63: Processing as a reactant | P63: NAICS OES Crosswalk | Q63: 350 | R63: 8.202645 | S63: =R63/Q63 -> 0.023436129 | T63: =R63/21 -> 0.39060214 | U63: KY0003701 | V63: 5.0691643 | W63: Plant Flow | X63: 5.0691643 | Y63: Plant Flow | Z63: 5.0691643 | AA63: Plant Flow | AB63: 4.6232726 | AC63: 4.6232726 | AD63: 4.6232726 | AE63: 77.054544 | AF63: 77.054544 | AG63: 77.054544 | AH63: =IF($AE63>$AJ$1,"YES","NO") -> NO
A64: 2020 | B64: EQUISTAR CHEMICALS LP TUSCOLA PLANT | C64: TUSCOLA | D64: DOUGLAS | E64: IL | F64: 39.795812 | G64: -88.347946 | H64: 110000746211 | I64: 2869 | J64: Industrial Organic Chemicals, Nec | K64: 325180 | L64: Other Basic Inorganic Chemical Manufacturing | M64: IS19 | N64: All Other Basic Inorganic Chemical Manufacturing | O64: Processing as a reactant | P64: NAICS OES Crosswalk | Q64: 350 | R64: 7.0363015 | S64: =R64/Q64 -> 0.020103719 | T64: =R64/21 -> 0.33506198 | U64: IL0000141 | V64: 0.056744377 | W64: Plant Flow | X64: 0.10308218 | Y64: HM Flow | Z64: 0.056744377 | AA64: Plant Flow | AB64: 354.28565 | AC64: 354.28565 | AD64: 195.02613 | AE64: 5904.7609 | AF64: 5904.7609 | AG64: 3250.4355 | AH64: =IF($AE64>$AJ$1,"YES","NO") -> YES | AI64: Conducted refinement (use effluent concentration: 5 ug/L)
A65: 2022 | B65: OWENSBORO SPECIALTY POLYMERS INC. | C65: OWENSBORO | D65: DAVIESS | E65: KY | F65: 37.8125 | G65: -87.05 | H65: 110000747835 | I65: 2821 | J65: Platemaking Services | K65: 323120 | L65: Support Activities for Printing | M65: IS10 | N65: Printing and Related Support Activities | O65: Not mapped to OES | P65: Facility produces PVC and polyvinyl acetate latex emulsions. | Q65: 350 | R65: 0.8914038 | S65: =R65/Q65 -> 0.002546868 | T65: =R65/21 -> 0.0424478 | U65: KY0001953 | V65: 11.809291 | W65: 30Q5 Flow | X65: 20.990457 | Y65: HM Flow | Z65: 6.8637129 | AA65: 7Q10 Flow | AB65: 0.37106272 | AC65: 0.21566646 | AD65: 0.12133456 | AE65: 6.1843787 | AF65: 3.594441 | AG65: 2.0222427 | AH65: =IF($AE65>$AJ$1,"YES","NO") -> NO
A66: 2021 | B66: HUNTSMAN PETROCHEMICAL LLC - CONROE PLANT | C66: CONROE | D66: MONTGOMERY | E66: TX | F66: 30.311361 | G66: -95.387083 | H66: 110000748095 | I66: 2869 | J66: Industrial Organic Chemicals, Nec | K66: 325180 | L66: Other Basic Inorganic Chemical Manufacturing | M66: IS19 | N66: All Other Basic Inorganic Chemical Manufacturing | O66: Processing as a reactant | P66: NAICS OES Crosswalk | Q66: 350 | R66: 4.0184675 | S66: =R66/Q66 -> 0.011481336 | T66: =R66/21 -> 0.1913556 | U66: TX0005592 | V66: 5.3202934 | W66: 30Q5 Flow | X66: 11.944371 | Y66: HM Flow | Z66: 3.0066407 | AA66: 7Q10 Flow | AB66: 3.8186591 | AC66: 2.1580268 | AD66: 0.96123405 | AE66: 63.644318 | AF66: 35.967113 | AG66: 16.020568 | AH66: =IF($AE66>$AJ$1,"YES","NO") -> NO
A67: 2020 | B67: GREENUP JOINT SEWER AGENCY | C67: WURTLAND | D67: GREENUP | E67: KY | F67: 38.55163 | G67: -82.7782 | H67: 110000759723 | I67: 4952 | J67: Manufacturing Industries, Nec | K67: 339999 | L67: All Other Miscellaneous Manufacturing | M67: IS45 | N67: Miscellaneous Manufacturing | O67: Disposal to POTW | P67: Disposal to POTW (consistent with 1,1-DCA) | Q67: 365 | R67: 1.381525 | S67: =R67/Q67 -> 0.003785 | T67: =R67/21 -> 0.065786905 | U67: KY0033553 | V67: 3.8704156 | W67: 30Q5 Flow | X67: 5.8390555 | Y67: HM Flow | Z67: 2.1629162 | AA67: 7Q10 Flow | AB67: 1.7499523 | AC67: 0.97793114 | AD67: 0.64822128 | AE67: 30.415837 | AF67: 16.997375 | AG67: 11.266703 | AH67: =IF($AE67>$AJ$1,"YES","NO") -> NO
A68: 2021 | B68: GEORGETOWN STP #2 | C68: GEORGETOWN | D68: SCOTT | E68: KY | F68: 38.267438 | G68: -84.527996 | H68: 110000759741 | I68: 4952 | J68: Manufacturing Industries, Nec | K68: 339999 | L68: All Other Miscellaneous Manufacturing | M68: IS45 | N68: Miscellaneous Manufacturing | O68: Disposal to POTW | P68: Disposal to POTW (consistent with 1,1-DCA) | Q68: 365 | R68: 4.5728478 | S68: =R68/Q68 -> 0.01252835 | T68: =R68/21 -> 0.21775465 | U68: KY0082007 | V68: 5.1448235 | W68: Plant Flow | X68: 5.1448235 | Y68: Plant Flow | Z68: 5.1448235 | AA68: Plant Flow | AB68: 2.435137 | AC68: 2.435137 | AD68: 2.435137 | AE68: 42.325 | AF68: 42.325 | AG68: 42.325 | AH68: =IF($AE68>$AJ$1,"YES","NO") -> NO
A69: 2019 | B69: MAYSVILLE STP | C69: MAYSVILLE | D69: MASON | E69: KY | F69: 38.68653 | G69: -83.78868 | H69: 110000761104 | I69: 4952 | J69: Manufacturing Industries, Nec | K69: 339999 | L69: All Other Miscellaneous Manufacturing | M69: IS45 | N69: Miscellaneous Manufacturing | O69: Disposal to POTW | P69: Disposal to POTW (consistent with 1,1-DCA) | Q69: 365 | R69: 0.4697185 | S69: =R69/Q69 -> 0.0012869 | T69: =R69/21 -> 0.022367548 | U69: KY0020257 | V69: 5.0880791 | W69: Plant Flow | X69: 5.0880791 | Y69: Plant Flow | Z69: 5.0880791 | AA69: Plant Flow | AB69: 0.25292453 | AC69: 0.25292453 | AD69: 0.25292453 | AE69: 4.3960692 | AF69: 4.3960692 | AG69: 4.3960692 | AH69: =IF($AE69>$AJ$1,"YES","NO") -> NO
A70: 2022 | B70: AMCOL HEALTH & BEAUTY SOLUTIONS INC | C70: LAFAYETTE | D70: LAFAYETTE | E70: LA | F70: 30.27083 | G70: -92.03728 | H70: 110000846602 | I70: 2821 | J70: Platemaking Services | K70: 323120 | L70: Support Activities for Printing | M70: IS10 | N70: Printing and Related Support Activities | O70: Use of laboratory chemicals | P70: Facility is a skin care clinic; assumed to be laboratory use. This also matches 1,1-DCA mapping. | Q70: 260 | R70: 0.009587784 | S70: =R70/Q70 -> 3.6876092e-05 | T70: =R70/21 -> 0.00045656114 | U70: LA0108936 | V70: 1.8914792 | W70: Plant Flow | X70: 1.8914792 | Y70: Plant Flow | Z70: 1.8914792 | AA70: Plant Flow | AB70: 0.019495901 | AC70: 0.019495901 | AD70: 0.019495901 | AE70: 0.24137783 | AF70: 0.24137783 | AG70: 0.24137783 | AH70: =IF($AE70>$AJ$1,"YES","NO") -> NO
A71: 2021 | B71: SHAW INDUSTRIES GROUP INC PLANT 8S | C71: COLUMBIA | D71: RICHLAND | E71: SC | F71: 34.047217 | G71: -81.151326 | H71: 110000854246 | I71: 2824 | J71: Platemaking Services | K71: 323120 | L71: Support Activities for Printing | M71: IS10 | N71: Printing and Related Support Activities | O71: Processing as a reactant | P71: Commercial flooring product manufacturer; assumed processing as a reactant. | Q71: 350 | R71: 0.33142 | S71: =R71/Q71 -> 0.00094691429 | T71: =R71/21 -> 0.015781905 | U71: SC0003557 | V71: 26.989307 | W71: Plant Flow | X71: 26.989307 | Y71: Plant Flow | Z71: 26.989307 | AA71: Plant Flow | AB71: 0.035084795 | AC71: 0.035084795 | AD71: 0.035084795 | AE71: 0.58474658 | AF71: 0.58474658 | AG71: 0.58474658 | AH71: =IF($AE71>$AJ$1,"YES","NO") -> NO
A72: 2020 | B72: QUALAWASH HOLDINGS LLC - QUALA - GEISMAR TERMINAL 260 | C72: GEISMAR | D72: ASCENSION | E72: LA | F72: 30.233012 | G72: -91.022057 | H72: 110000911309 | I72: 4789 | J72: Manufacturing Industries, Nec | K72: 339999 | L72: All Other Miscellaneous Manufacturing | M72: IS45 | N72: Miscellaneous Manufacturing | O72: Not mapped to OES | P72: Unknown; per "terminal 260" in facility name, this may be "Distribution in Commerce". | Q72: 250 | R72: 0.023930663 | S72: =R72/Q72 -> 9.5722652e-05 | T72: =R72/21 -> 0.0011395554 | U72: LA0098191 | V72: 3.0660147 | W72: 30Q5 Flow | X72: 5.5268659 | Y72: HM Flow | Z72: 1.8914792 | AA72: Plant Flow | AB72: 0.050607298 | AC72: 0.031220546 | AD72: 0.017319518 | AE72: 0.60246783 | AF72: 0.37167317 | AG72: 0.20618474 | AH72: =IF($AE72>$AJ$1,"YES","NO") -> NO
A73: 2022 | B73: MILLIKEN & COMPANY/MAGNOLIA PLANT | C73: BLACKSBURG | D73: CHEROKEE | E73: SC | F73: 35.118553 | G73: -81.559533 | H73: 110000915984 | I73: 2261 | J73: Finishing Plants, Cotton | K73: 313310 | L73: Textile and Fabric Finishing Mills | M73: IS7 | N73: Textiles, apparel, and leather manufacturing | O73: Processing as a reactant | P73: Facility produces textile, chemical, and floor covering products; assumed processing as a reactant. | Q73: 350 | R73: 9.77689 | S73: =R73/Q73 -> 0.027933971 | T73: =R73/21 -> 0.46556619 | U73: SC0003182 | V73: 241.85086 | W73: 30Q5 Flow | X73: 373.63074 | Y73: HM Flow | Z73: 156.32971 | AA73: 7Q10 Flow | AB73: 0.17868626 | AC73: 0.11550082 | AD73: 0.074763579 | AE73: 2.9781044 | AF73: 1.9250136 | AG73: 1.2460596 | AH73: =IF($AE73>$AJ$1,"YES","NO") -> NO
A74: 2021 | B74: CHRIN BROTHERS INC | C74: EASTON | D74: NORTHAMPTON | E74: PA | F74: 40.70099 | G74: -75.21478 | H74: 110001075345 | I74: 4953 | J74: Manufacturing Industries, Nec | K74: 339999 | L74: All Other Miscellaneous Manufacturing | M74: IS45 | N74: Miscellaneous Manufacturing | O74: Disposal to Landfill | P74: Facility provides waste management services(https://www.chrin.org/). | Q74: 250 | R74: 0.068386623 | S74: =R74/Q74 -> 0.00027354649 | T74: =R74/21 -> 0.0032565059 | U74: PA0063142 | V74: 3551.4279 | W74: 30Q5 Flow | X74: 5744.5991 | Y74: HM Flow | Z74: 2523.3076 | AA74: 7Q10 Flow | AB74: 0.00010840791 | AC74: 7.7024369e-05 | AD74: 4.761803e-05 | AE74: 0.0012905703 | AF74: 0.00091695678 | AG74: 0.00056688131 | AH74: =IF($AE74>$AJ$1,"YES","NO") -> NO
A75: 2021 | B75: DISCOVERY BAY WWTP | C75: DISCOVERY BAY | D75: CONTRA COSTA | E75: CA | F75: 37.894722 | G75: -121.58722 | H75: 110001103911 | I75: 4952 | J75: Manufacturing Industries, Nec | K75: 339999 | L75: All Other Miscellaneous Manufacturing | M75: IS45 | N75: Miscellaneous Manufacturing | O75: Disposal to POTW | P75: Site Name is WWTP | Q75: 250 | R75: 0.069950434 | S75: =R75/Q75 -> 0.00027980174 | T75: =R75/21 -> 0.003330973 | U75: CA0078590 | V75: 7.9442127 | W75: Plant Flow | X75: 7.9442127 | Y75: Plant Flow | Z75: 7.9442127 | AA75: Plant Flow | AB75: 0.035220826 | AC75: 0.035220826 | AD75: 0.035220826 | AE75: 0.41929555 | AF75: 0.41929555 | AG75: 0.41929555 | AH75: =IF($AE75>$AJ$1,"YES","NO") -> NO
A76: 2019 | B76: GLASGOW STP | C76: GLASGOW | D76: BARREN | E76: KY | F76: 36.98381 | G76: -85.95709 | H76: 110001123276 | I76: 4952 | J76: Manufacturing Industries, Nec | K76: 339999 | L76: All Other Miscellaneous Manufacturing | M76: IS45 | N76: Miscellaneous Manufacturing | O76: Disposal to POTW | P76: Disposal to POTW (consistent with 1,1-DCA) | Q76: 365 | R76: 5.2014416 | S76: =R76/Q76 -> 0.014250525 | T76: =R76/21 -> 0.2476877 | U76: KY0021164 | V76: 8.284679 | W76: Plant Flow | X76: 8.284679 | Y76: Plant Flow | Z76: 8.284679 | AA76: Plant Flow | AB76: 1.7201059 | AC76: 1.7201059 | AD76: 1.7201059 | AE76: 29.897078 | AF76: 29.897078 | AG76: 29.897078 | AH76: =IF($AE76>$AJ$1,"YES","NO") -> NO
... A86: 2019 | B86: FLEMINGSBURG STP | C86: FLEMINGSBURG | D86: FLEMING | E86: KY | F86: 38.421496 | G86: -83.734424 | H86: 110003251427 | I86: 4952 | J86: Manufacturing Industries, Nec | K86: 339999 | L86: All Other Miscellaneous Manufacturing | M86: IS45 | N86: Miscellaneous Manufacturing | O86: Disposal to POTW | P86: Disposal to POTW (consistent with 1,1-DCA) | Q86: 365 | R86: 0.4752446 | S86: =R86/Q86 -> 0.00130204 | T86: =R86/21 -> 0.022630695 | U86: KY0021229 | V86: 6.0709046 | W86: 30Q5 Flow | X86: 9.6062304 | Y86: HM Flow | Z86: 3.4468068 | AA86: 7Q10 Flow | AB86: 0.37775253 | AC86: 0.21447215 | AD86: 0.1355412 | AE86: 6.5656988 | AF86: 3.7277303 | AG86: 2.3558351 | AH86: =IF($AE86>$AJ$1,"YES","NO") -> NO
A87: 2023 | B87: GOLDEN NUGGET | C87: LAS VEGAS | D87: CLARK | E87: NV | F87: 36.17082 | G87: -115.14431 | H87: 110004300596 | I87: 7011 | J87: Communication Services, Nec | K87: 517810 | L87: All Other Telecommunications | M87: NAICS/SIC Not Provided | N87: NAICS/SIC Not Provided | O87: Not mapped to OES | P87: Facility is a hotel in Las Vegas; no OES to map to. | Q87: 250 | R87: 0.002289878 | S87: =R87/Q87 -> 9.159512e-06 | T87: =R87/21 -> 0.00010904181 | U87: NV0022993 | V87: NA | W87: Permit Lookup Failed | X87: NA | Y87: NA | Z87: NA | AA87: Permit Lookup Failed | AB87: 1 | AC87: 1 | AD87: 1 | AE87: 1 | AF87: 1 | AG87: 1 | AH87: =IF($AE87>$AJ$1,"YES","NO") -> NO
...

Sheet Inputs
A1: INPUTS SELECTED FOR EXPOSURE AND RISK EQUATIONS
A3: Exposure Inputs
B4: 30Q5/ADR/Acute | C4: HM/ADD/Chronic | D4: Source / Notes
A5: SWC for EFAST calc results, Manufacturing as a Byproduct (ug/L) | B5: 0.000227 | C5: 0.000108
A6: SWC for EFAST calc results, Processing as a Reactant (ug/L) | B6: 4.62 | C6: 4.62 | D6: 350 day average from Processing as a Reactant: ISP Chemical (KY0003701) OES operating days release
A7: SWC for EFAST calc results, Processing Aid (ug/L) | B7: 0.0065 | C7: 0.00324
A8: SWC for EFAST calc results, Use of Laboratory Chemical (ug/L) | B8: 0.0195 | C8: 0.0195
A9: SWC for EFAST calc results, All Purpose Liquid Cleaner (ug/L) | B9: 5 | C9: 5
A10: SWC for EFAST calc results, Formulation of cleaning and furnishing care products (ug/L) | B10: 0.913 | C10: 0.913
A11: SWC for EFAST calc results, Repackaging (ug/L) | B11: 2.61 | C11: 1.8
A12: SWC for EFAST calc results, Distribution in Commerce (ug/L) | B12: 0.735 | C12: 0.735
A13: SWC for EFAST calc results, POTW (ug/L) | B13: 10.8 | C13: 5.25
A14: SWC for EFAST calc results, Remediation (ug/L) | B14: 0.5 | C14: 0.5
A15: SWC for EFAST calc results, Waste Handling, Treatment and Disposal (ug/L) | B15: 3.55 | C15: 2.07
A16: SWC for EFAST calc results, Not mapped to OES (ug/L) - also tribal | B16: 9.06 | C16: 9.06 | D16: 250 day average from Unknown: Northern Edge Casino (NN0030343)
A17: BCF (modeled, regression-based) (L/kg) | B17: 6.9 | C17: 6.9
A18: BAF (modeled, Arnot-Gobas) (L/kg) | B18: 7.4 | C18: 7.4 | D18: U.S. EPA, 2012, 2347246
A19: Empirical fish tissue conc (mg/kg)
A20: CF1 (mg/ug) | B20: 0.001 | C20: 0.001
A21: CF2 (kg/g) | B21: 0.001 | C21: 0.001
A22: ED (day for ADR, years for ADD, LADD) | B22: 1 | C22: 62
A23: AT (day for ADR, years for ADD, LADD) | B23: 1 | C23: 62 | D23: 78
A24: Fish Ingestion Rate (IR) (g/kg-day, general population) | D24: Refer to ReadMe tab
A25: Infant (<1 year) | B25: N/A | C25: N/A
A26: Young toddler (1 to <2 years) | B26: 0.412 | C26: 0.053
A27: Toddler (2 to <3 years) | B27: 0.341 | C27: 0.043
A28: Small child (3 to <6 years) | B28: 0.312 | C28: 0.038
A29: Child (6 to <11 years) | B29: 0.242 | C29: 0.035
A30: Teen ( 11 to < 16 years) | B30: 0.146 | C30: 0.019
A31: Adult (16 to <70 years) | B31: =22.2/80 -> 0.2775 | C31: =5.04/80 -> 0.063
A32: Fish Ingestion Rate (IR) (g/kg-day, subsistence fisher) | D32: Refer to ReadMe tab
A33: Adult | B33: 1.78 | C33: 1.78
A34: Fish Ingestion Rate (IR)(g/kg-day, tribal population)
A35: Adult (current) | B35: 2.7 | C35: 2.7
A36: Adult (heritage) | B36: 20.58 | C36: 20.58
A37: Hazard Values
A38: PODs (mg/kg-day for non-cancer) | B38: 7.2 | C38: 7.2
A39: Benchmark | B39: 30 | C39: 30
A40: Fish Ingestion Rate (IR)(g/kg-day, tribal population)
A41: Child (3-5 years) | B41: 0.2469 | C41: 0.2469
...

Sheet Exp and Risk_Gen Pop 
A1: GENERAL POPULATION EXPOSURE AND RISK
A9: Fish Ingestion Exposure and Risk EFAST Calc SWC Results, Processing as a Reactant (ug/L): ISP Chemical (KY0003701) OES operating days release | B9: Adult (16 to <70 years) | D9: Young toddler (1 to <2 years) | F9: Toddler (2 to <3 years) | H9: Small child (3 to <6 years) | J9: Child (6 to <11 years) | L9: Teen (11 to < 16 years)
B10: ADR (mg/kg-day) | C10: ADD (mg/kg-day) | D10: ADR (mg/kg-day) | E10: ADD (mg/kg-day) | F10: ADR (mg/kg-day) | G10: ADD (mg/kg-day) | H10: ADR (mg/kg-day) | I10: ADD (mg/kg-day) | J10: ADR (mg/kg-day) | K10: ADD (mg/kg-day) | L10: ADR (mg/kg-day) | M10: ADD (mg/kg-day)
A11: Dose - BCF | B11: =(Inputs!$B$6*Inputs!$B$17*Inputs!$B$31*Inputs!$B$20*Inputs!$B$21*Inputs!$B$22)/Inputs!$B$23 -> 8.846145e-06 | C11: =(Inputs!$C$6*Inputs!$C$17*Inputs!$C$31*Inputs!$C$20*Inputs!$C$21*Inputs!$C$22)/Inputs!$C$23 -> 2.008314e-06 | D11: =(Inputs!$B$6*Inputs!$B$17*Inputs!$B$26*Inputs!$B$20*Inputs!$B$21*Inputs!$B$22)/Inputs!$B$23 -> 1.3133736e-05 | E11: =(Inputs!$C$6*Inputs!$C$17*Inputs!$C$26*Inputs!$C$20*Inputs!$C$21*Inputs!$C$22)/Inputs!$C$23 -> 1.689534e-06 | F11: =(Inputs!$B$6*Inputs!$B$17*Inputs!$B$27*Inputs!$B$20*Inputs!$B$21*Inputs!$B$22)/Inputs!$B$23 -> 1.0870398e-05 | G11: =(Inputs!$C$6*Inputs!$C$17*Inputs!$C$27*Inputs!$C$20*Inputs!$C$21*Inputs!$C$22)/Inputs!$C$23 -> 1.370754e-06 | H11: =(Inputs!$B$6*Inputs!$B$17*Inputs!$B$28*Inputs!$B$20*Inputs!$B$21*Inputs!$B$22)/Inputs!$B$23 -> 9.945936e-06 | I11: =(Inputs!$C$6*Inputs!$C$17*Inputs!$C$28*Inputs!$C$20*Inputs!$C$21*Inputs!$C$22)/Inputs!$C$23 -> 1.211364e-06 | J11: =(Inputs!$B$6*Inputs!$B$17*Inputs!$B$29*Inputs!$B$20*Inputs!$B$21*Inputs!$B$22)/Inputs!$B$23 -> 7.714476e-06 | K11: =(Inputs!$C$6*Inputs!$C$17*Inputs!$C$29*Inputs!$C$20*Inputs!$C$21*Inputs!$C$22)/Inputs!$C$23 -> 1.11573e-06 | L11: =(Inputs!$B$6*Inputs!$B$17*Inputs!$B$30*Inputs!$B$20*Inputs!$B$21*Inputs!$B$22)/Inputs!$B$23 -> 4.654188e-06 | M11: =(Inputs!$C$6*Inputs!$C$17*Inputs!$C$30*Inputs!$C$20*Inputs!$C$21*Inputs!$C$22)/Inputs!$C$23 -> 6.05682e-07
A12: MOE - BCF | B12: =Inputs!$B$38/B11 -> 813913.86 | C12: =Inputs!$C$38/C11 -> 3585096.8 | D12: =Inputs!$B$38/D11 -> 548206.54 | E12: =Inputs!$C$38/E11 -> 4261530.1 | F12: =Inputs!$B$38/F11 -> 662349.25 | G12: =Inputs!$C$38/G11 -> 5252583.6 | H12: =Inputs!$B$38/H11 -> 723913.77 | I12: =Inputs!$C$38/I11 -> 5943713 | J12: =Inputs!$B$38/J11 -> 933310.31 | K12: =Inputs!$C$38/K11 -> 6453174.2 | L12: =Inputs!$B$38/L11 -> 1546993.8 | M12: =Inputs!$C$38/M11 -> 11887426
A15: Fish Ingestion Exposure and Risk EFAST Calc SWC Results for Processing Aid: Kodak Park (NY0001643) OES operating days release | B15: Adult (16 to <70 years) | D15: Young toddler (1 to <2 years) | F15: Toddler (2 to <3 years) | H15: Small child (3 to <6 years) | J15: Child (6 to <11 years) | L15: Teen (11 to < 16 years)
B16: ADR (mg/kg-day) | C16: ADD (mg/kg-day) | D16: ADR (mg/kg-day) | E16: ADD (mg/kg-day) | F16: ADR (mg/kg-day) | G16: ADD (mg/kg-day) | H16: ADR (mg/kg-day) | I16: ADD (mg/kg-day) | J16: ADR (mg/kg-day) | K16: ADD (mg/kg-day) | L16: ADR (mg/kg-day) | M16: ADD (mg/kg-day)
A17: Dose - BCF | B17: =(Inputs!$B$7*Inputs!$B$17*Inputs!$B$31*Inputs!$B$20*Inputs!$B$21*Inputs!$B$22)/Inputs!$B$23 -> 1.2445875e-08 | C17: =(Inputs!$C$7*Inputs!$C$17*Inputs!$C$31*Inputs!$C$20*Inputs!$C$21*Inputs!$C$22)/Inputs!$C$23 -> 1.408428e-09 | D17: =(Inputs!$B$7*Inputs!$B$17*Inputs!$B$26*Inputs!$B$20*Inputs!$B$21*Inputs!$B$22)/Inputs!$B$23 -> 1.84782e-08 | E17: =(Inputs!$C$7*Inputs!$C$17*Inputs!$C$26*Inputs!$C$20*Inputs!$C$21*Inputs!$C$22)/Inputs!$C$23 -> 1.184868e-09 | F17: =(Inputs!$B$7*Inputs!$B$17*Inputs!$B$27*Inputs!$B$20*Inputs!$B$21*Inputs!$B$22)/Inputs!$B$23 -> 1.529385e-08 | G17: =(Inputs!$C$7*Inputs!$C$17*Inputs!$C$27*Inputs!$C$20*Inputs!$C$21*Inputs!$C$22)/Inputs!$C$23 -> 9.61308e-10 | H17: =(Inputs!$B$7*Inputs!$B$17*Inputs!$B$28*Inputs!$B$20*Inputs!$B$21*Inputs!$B$22)/Inputs!$B$23 -> 1.39932e-08 | I17: =(Inputs!$C$7*Inputs!$C$17*Inputs!$C$28*Inputs!$C$20*Inputs!$C$21*Inputs!$C$22)/Inputs!$C$23 -> 8.49528e-10 | J17: =(Inputs!$B$7*Inputs!$B$17*Inputs!$B$29*Inputs!$B$20*Inputs!$B$21*Inputs!$B$22)/Inputs!$B$23 -> 1.08537e-08 | K17: =(Inputs!$C$7*Inputs!$C$17*Inputs!$C$29*Inputs!$C$20*Inputs!$C$21*Inputs!$C$22)/Inputs!$C$23 -> 7.8246e-10 | L17: =(Inputs!$B$7*Inputs!$B$17*Inputs!$B$30*Inputs!$B$20*Inputs!$B$21*Inputs!$B$22)/Inputs!$B$23 -> 6.5481e-09 | M17: =(Inputs!$C$7*Inputs!$C$17*Inputs!$C$30*Inputs!$C$20*Inputs!$C$21*Inputs!$C$22)/Inputs!$C$23 -> 4.24764e-10
A18: MOE - BCF | B18: =Inputs!$B$38/B17 -> 5.7850493e+08 | C18: =Inputs!$C$38/C17 -> 5.1120824e+09 | D18: =Inputs!$B$38/D17 -> 3.8964834e+08 | E18: =Inputs!$C$38/E17 -> 6.0766263e+09 | F18: =Inputs!$B$38/F17 -> 4.7077747e+08 | G18: =Inputs!$C$38/G17 -> 7.4897952e+09 | H18: =Inputs!$B$38/H17 -> 5.1453563e+08 | I18: =Inputs!$C$38/I17 -> 8.4752945e+09 | J18: =Inputs!$B$38/J17 -> 6.6336825e+08 | K18: =Inputs!$C$38/K17 -> 9.2017483e+09 | L18: =Inputs!$B$38/L17 -> 1.0995556e+09 | M18: =Inputs!$C$38/M17 -> 1.6950589e+10
A21: Fish Ingestion Exposure and Risk Using EFAST Calc SWC Results, Use of Laboratory Chemical: Amcol Health & Beauty Solutions, Inc (LA0108936) | B21: Adult (16 to <70 years) | D21: Young toddler (1 to <2 years) | F21: Toddler (2 to <3 years) | H21: Small child (3 to <6 years) | J21: Child (6 to <11 years) | L21: Teen (11 to < 16 years)
B22: ADR (mg/kg-day) | C22: ADD (mg/kg-day) | D22: ADR (mg/kg-day) | E22: ADD (mg/kg-day) | F22: ADR (mg/kg-day) | G22: ADD (mg/kg-day) | H22: ADR (mg/kg-day) | I22: ADD (mg/kg-day) | J22: ADR (mg/kg-day) | K22: ADD (mg/kg-day) | L22: ADR (mg/kg-day) | M22: ADD (mg/kg-day)
A23: Dose - BCF | B23: =(Inputs!$B$8*Inputs!$B$17*Inputs!$B$31*Inputs!$B$20*Inputs!$B$21*Inputs!$B$22)/Inputs!$B$23 -> 3.7337625e-08 | C23: =(Inputs!$C$8*Inputs!$C$17*Inputs!$C$31*Inputs!$C$20*Inputs!$C$21*Inputs!$C$22)/Inputs!$C$23 -> 8.47665e-09 | D23: =(Inputs!$B$8*Inputs!$B$17*Inputs!$B$26*Inputs!$B$20*Inputs!$B$21*Inputs!$B$22)/Inputs!$B$23 -> 5.54346e-08 | E23: =(Inputs!$C$8*Inputs!$C$17*Inputs!$C$26*Inputs!$C$20*Inputs!$C$21*Inputs!$C$22)/Inputs!$C$23 -> 7.13115e-09 | F23: =(Inputs!$B$8*Inputs!$B$17*Inputs!$B$27*Inputs!$B$20*Inputs!$B$21*Inputs!$B$22)/Inputs!$B$23 -> 4.588155e-08 | G23: =(Inputs!$C$8*Inputs!$C$17*Inputs!$C$27*Inputs!$C$20*Inputs!$C$21*Inputs!$C$22)/Inputs!$C$23 -> 5.78565e-09 | H23: =(Inputs!$B$8*Inputs!$B$17*Inputs!$B$28*Inputs!$B$20*Inputs!$B$21*Inputs!$B$22)/Inputs!$B$23 -> 4.19796e-08 | I23: =(Inputs!$C$8*Inputs!$C$17*Inputs!$C$28*Inputs!$C$20*Inputs!$C$21*Inputs!$C$22)/Inputs!$C$23 -> 5.1129e-09 | J23: =(Inputs!$B$8*Inputs!$B$17*Inputs!$B$29*Inputs!$B$20*Inputs!$B$21*Inputs!$B$22)/Inputs!$B$23 -> 3.25611e-08 | K23: =(Inputs!$C$8*Inputs!$C$17*Inputs!$C$29*Inputs!$C$20*Inputs!$C$21*Inputs!$C$22)/Inputs!$C$23 -> 4.70925e-09 | L23: =(Inputs!$B$8*Inputs!$B$17*Inputs!$B$30*Inputs!$B$20*Inputs!$B$21*Inputs!$B$22)/Inputs!$B$23 -> 1.96443e-08 | M23: =(Inputs!$C$8*Inputs!$C$17*Inputs!$C$30*Inputs!$C$20*Inputs!$C$21*Inputs!$C$22)/Inputs!$C$23 -> 2.55645e-09
A24: MOE - BCF | B24: =Inputs!$B$38/B23 -> 1.9283498e+08 | C24: =Inputs!$C$38/C23 -> 8.4939215e+08 | D24: =Inputs!$B$38/D23 -> 1.2988278e+08 | E24: =Inputs!$C$38/E23 -> 1.0096548e+09 | F24: =Inputs!$B$38/F23 -> 1.5692582e+08 | G24: =Inputs!$C$38/G23 -> 1.2444583e+09 | H24: =Inputs!$B$38/H23 -> 1.7151188e+08 | I24: =Inputs!$C$38/I23 -> 1.4082028e+09 | J24: =Inputs!$B$38/J23 -> 2.2112275e+08 | K24: =Inputs!$C$38/K23 -> 1.5289059e+09 | L24: =Inputs!$B$38/L23 -> 3.6651853e+08 | M24: =Inputs!$C$38/M23 -> 2.8164056e+09
A27: Fish Ingestion Exposure and Risk Using EFAST Calc SWC, All Purpose Liquid Cleaner: Allegiant Stadium (NV0024239) | B27: Adult (16 to <70 years) | D27: Young toddler (1 to <2 years) | F27: Toddler (2 to <3 years) | H27: Small child (3 to <6 years) | J27: Child (6 to <11 years) | L27: Teen (11 to < 16 years)
B28: ADR (mg/kg-day) | C28: ADD (mg/kg-day) | D28: ADR (mg/kg-day) | E28: ADD (mg/kg-day) | F28: ADR (mg/kg-day) | G28: ADD (mg/kg-day) | H28: ADR (mg/kg-day) | I28: ADD (mg/kg-day) | J28: ADR (mg/kg-day) | K28: ADD (mg/kg-day) | L28: ADR (mg/kg-day) | M28: ADD (mg/kg-day)
A29: Dose - BCF | B29: =(Inputs!$B$9*Inputs!$B$17*Inputs!$B$31*Inputs!$B$20*Inputs!$B$21*Inputs!$B$22)/Inputs!$B$23 -> 9.57375e-06 | C29: =(Inputs!$C$9*Inputs!$C$17*Inputs!$C$31*Inputs!$C$20*Inputs!$C$21*Inputs!$C$22)/Inputs!$C$23 -> 2.1735e-06 | D29: =(Inputs!$B$9*Inputs!$B$17*Inputs!$B$26*Inputs!$B$20*Inputs!$B$21*Inputs!$B$22)/Inputs!$B$23 -> 1.4214e-05 | E29: =(Inputs!$C$9*Inputs!$C$17*Inputs!$C$26*Inputs!$C$20*Inputs!$C$21*Inputs!$C$22)/Inputs!$C$23 -> 1.8285e-06 | F29: =(Inputs!$B$9*Inputs!$B$17*Inputs!$B$27*Inputs!$B$20*Inputs!$B$21*Inputs!$B$22)/Inputs!$B$23 -> 1.17645e-05 | G29: =(Inputs!$C$9*Inputs!$C$17*Inputs!$C$27*Inputs!$C$20*Inputs!$C$21*Inputs!$C$22)/Inputs!$C$23 -> 1.4835e-06 | H29: =(Inputs!$B$9*Inputs!$B$17*Inputs!$B$28*Inputs!$B$20*Inputs!$B$21*Inputs!$B$22)/Inputs!$B$23 -> 1.0764e-05 | I29: =(Inputs!$C$9*Inputs!$C$17*Inputs!$C$28*Inputs!$C$20*Inputs!$C$21*Inputs!$C$22)/Inputs!$C$23 -> 1.311e-06 | J29: =(Inputs!$B$9*Inputs!$B$17*Inputs!$B$29*Inputs!$B$20*Inputs!$B$21*Inputs!$B$22)/Inputs!$B$23 -> 8.349e-06 | K29: =(Inputs!$C$9*Inputs!$C$17*Inputs!$C$29*Inputs!$C$20*Inputs!$C$21*Inputs!$C$22)/Inputs!$C$23 -> 1.2075e-06 | L29: =(Inputs!$B$9*Inputs!$B$17*Inputs!$B$30*Inputs!$B$20*Inputs!$B$21*Inputs!$B$22)/Inputs!$B$23 -> 5.037e-06 | M29: =(Inputs!$C$9*Inputs!$C$17*Inputs!$C$30*Inputs!$C$20*Inputs!$C$21*Inputs!$C$22)/Inputs!$C$23 -> 6.555e-07
A30: MOE - BCF | B30: =Inputs!$B$38/B29 -> 752056.4 | C30: =Inputs!$C$38/C29 -> 3312629.4 | D30: =Inputs!$B$38/D29 -> 506542.85 | E30: =Inputs!$C$38/E29 -> 3937653.8 | F30: =Inputs!$B$38/F29 -> 612010.71 | G30: =Inputs!$C$38/G29 -> 4853387.3 | H30: =Inputs!$B$38/H29 -> 668896.32 | I30: =Inputs!$C$38/I29 -> 5491990.8 | J30: =Inputs!$B$38/J29 -> 862378.73 | K30: =Inputs!$C$38/K29 -> 5962732.9 | L30: =Inputs!$B$38/L29 -> 1429422.3 | M30: =Inputs!$C$38/M29 -> 10983982
A33: Fish Ingestion Exposure and Risk Using EFAST Calc SWC, Formulation of cleaning and furnishing care products: BAE Systems Ordnance Systems, Inc (TN0003671) | B33: Adult (16 to <70 years) | D33: Young toddler (1 to <2 years) | F33: Toddler (2 to <3 years) | H33: Small child (3 to <6 years) | J33: Child (6 to <11 years) | L33: Teen (11 to < 16 years)
B34: ADR (mg/kg-day) | C34: ADD (mg/kg-day) | D34: ADR (mg/kg-day) | E34: ADD (mg/kg-day) | F34: ADR (mg/kg-day) | G34: ADD (mg/kg-day) | H34: ADR (mg/kg-day) | I34: ADD (mg/kg-day) | J34: ADR (mg/kg-day) | K34: ADD (mg/kg-day) | L34: ADR (mg/kg-day) | M34: ADD (mg/kg-day)
A35: Dose - BCF | B35: =(Inputs!$B$10*Inputs!$B$17*Inputs!$B$31*Inputs!$B$20*Inputs!$B$21*Inputs!$B$22)/Inputs!$B$23 -> 1.7481668e-06 | C35: =(Inputs!$C$10*Inputs!$C$17*Inputs!$C$31*Inputs!$C$20*Inputs!$C$21*Inputs!$C$22)/Inputs!$C$23 -> 3.968811e-07 | D35: =(Inputs!$B$10*Inputs!$B$17*Inputs!$B$26*Inputs!$B$20*Inputs!$B$21*Inputs!$B$22)/Inputs!$B$23 -> 2.5954764e-06 | E35: =(Inputs!$C$10*Inputs!$C$17*Inputs!$C$26*Inputs!$C$20*Inputs!$C$21*Inputs!$C$22)/Inputs!$C$23 -> 3.338841e-07 | F35: =(Inputs!$B$10*Inputs!$B$17*Inputs!$B$27*Inputs!$B$20*Inputs!$B$21*Inputs!$B$22)/Inputs!$B$23 -> 2.1481977e-06 | G35: =(Inputs!$C$10*Inputs!$C$17*Inputs!$C$27*Inputs!$C$20*Inputs!$C$21*Inputs!$C$22)/Inputs!$C$23 -> 2.708871e-07 | H35: =(Inputs!$B$10*Inputs!$B$17*Inputs!$B$28*Inputs!$B$20*Inputs!$B$21*Inputs!$B$22)/Inputs!$B$23 -> 1.9655064e-06 | I35: =(Inputs!$C$10*Inputs!$C$17*Inputs!$C$28*Inputs!$C$20*Inputs!$C$21*Inputs!$C$22)/Inputs!$C$23 -> 2.393886e-07 | J35: =(Inputs!$B$10*Inputs!$B$17*Inputs!$B$29*Inputs!$B$20*Inputs!$B$21*Inputs!$B$22)/Inputs!$B$23 -> 1.5245274e-06 | K35: =(Inputs!$C$10*Inputs!$C$17*Inputs!$C$29*Inputs!$C$20*Inputs!$C$21*Inputs!$C$22)/Inputs!$C$23 -> 2.204895e-07 | L35: =(Inputs!$B$10*Inputs!$B$17*Inputs!$B$30*Inputs!$B$20*Inputs!$B$21*Inputs!$B$22)/Inputs!$B$23 -> 9.197562e-07 | M35: =(Inputs!$C$10*Inputs!$C$17*Inputs!$C$30*Inputs!$C$20*Inputs!$C$21*Inputs!$C$22)/Inputs!$C$23 -> 1.196943e-07
A36: MOE - BCF | B36: =Inputs!$B$38/B35 -> 4118600.2 | C36: =Inputs!$C$38/C35 -> 18141453 | D36: =Inputs!$B$38/D35 -> 2774057.2 | E36: =Inputs!$C$38/E35 -> 21564369 | F36: =Inputs!$B$38/F35 -> 3351646.8 | G36: =Inputs!$C$38/G35 -> 26579339 | H36: =Inputs!$B$38/H35 -> 3663178.1 | I36: =Inputs!$C$38/I35 -> 30076620 | J36: =Inputs!$B$38/J35 -> 4722775.1 | K36: =Inputs!$C$38/K35 -> 32654616 | L36: =Inputs!$B$38/L35 -> 7828161.4 | M36: =Inputs!$C$38/M35 -> 60153240
A39: Fish Ingestion Exposure and Risk Using EFAST Calc SWC, Repackaging: IMTT-Illinois, LLC (IL0005126) | B39: Adult (16 to <70 years) | D39: Young toddler (1 to <2 years) | F39: Toddler (2 to <3 years) | H39: Small child (3 to <6 years) | J39: Child (6 to <11 years) | L39: Teen (11 to < 16 years)
B40: ADR (mg/kg-day) | C40: ADD (mg/kg-day) | D40: ADR (mg/kg-day) | E40: ADD (mg/kg-day) | F40: ADR (mg/kg-day) | G40: ADD (mg/kg-day) | H40: ADR (mg/kg-day) | I40: ADD (mg/kg-day) | J40: ADR (mg/kg-day) | K40: ADD (mg/kg-day) | L40: ADR (mg/kg-day) | M40: ADD (mg/kg-day)
A41: Dose - BCF | B41: =(Inputs!$B$11*Inputs!$B$17*Inputs!$B$31*Inputs!$B$20*Inputs!$B$21*Inputs!$B$22)/Inputs!$B$23 -> 4.9974975e-06 | C41: =(Inputs!$C$11*Inputs!$C$17*Inputs!$C$31*Inputs!$C$20*Inputs!$C$21*Inputs!$C$22)/Inputs!$C$23 -> 7.8246e-07 | D41: =(Inputs!$B$11*Inputs!$B$17*Inputs!$B$26*Inputs!$B$20*Inputs!$B$21*Inputs!$B$22)/Inputs!$B$23 -> 7.419708e-06 | E41: =(Inputs!$C$11*Inputs!$C$17*Inputs!$C$26*Inputs!$C$20*Inputs!$C$21*Inputs!$C$22)/Inputs!$C$23 -> 6.5826e-07 | F41: =(Inputs!$B$11*Inputs!$B$17*Inputs!$B$27*Inputs!$B$20*Inputs!$B$21*Inputs!$B$22)/Inputs!$B$23 -> 6.141069e-06 | G41: =(Inputs!$C$11*Inputs!$C$17*Inputs!$C$27*Inputs!$C$20*Inputs!$C$21*Inputs!$C$22)/Inputs!$C$23 -> 5.3406e-07 | H41: =(Inputs!$B$11*Inputs!$B$17*Inputs!$B$28*Inputs!$B$20*Inputs!$B$21*Inputs!$B$22)/Inputs!$B$23 -> 5.618808e-06 | I41: =(Inputs!$C$11*Inputs!$C$17*Inputs!$C$28*Inputs!$C$20*Inputs!$C$21*Inputs!$C$22)/Inputs!$C$23 -> 4.7196e-07 | J41: =(Inputs!$B$11*Inputs!$B$17*Inputs!$B$29*Inputs!$B$20*Inputs!$B$21*Inputs!$B$22)/Inputs!$B$23 -> 4.358178e-06 | K41: =(Inputs!$C$11*Inputs!$C$17*Inputs!$C$29*Inputs!$C$20*Inputs!$C$21*Inputs!$C$22)/Inputs!$C$23 -> 4.347e-07 | L41: =(Inputs!$B$11*Inputs!$B$17*Inputs!$B$30*Inputs!$B$20*Inputs!$B$21*Inputs!$B$22)/Inputs!$B$23 -> 2.629314e-06 | M41: =(Inputs!$C$11*Inputs!$C$17*Inputs!$C$30*Inputs!$C$20*Inputs!$C$21*Inputs!$C$22)/Inputs!$C$23 -> 2.3598e-07
A42: MOE - BCF | B42: =Inputs!$B$38/B41 -> 1440721.1 | C42: =Inputs!$C$38/C41 -> 9201748.3 | D42: =Inputs!$B$38/D41 -> 970388.59 | E42: =Inputs!$C$38/E41 -> 10937927 | F42: =Inputs!$B$38/F41 -> 1172434.3 | G42: =Inputs!$C$38/G41 -> 13481631 | H42: =Inputs!$B$38/H41 -> 1281410.6 | I42: =Inputs!$C$38/I41 -> 15255530 | J42: =Inputs!$B$38/J41 -> 1652066.5 | K42: =Inputs!$C$38/K41 -> 16563147 | L42: =Inputs!$B$38/L41 -> 2738356.8 | M42: =Inputs!$C$38/M41 -> 30511060
A45: Fish Ingestion Exposure and Risk Using EFAST Calc SWC, Distribution in Commerce: Vpak Termal, Long Beach, Inc (CA0064165) | B45: Adult (16 to <70 years) | D45: Young toddler (1 to <2 years) | F45: Toddler (2 to <3 years) | H45: Small child (3 to <6 years) | J45: Child (6 to <11 years) | L45: Teen (11 to < 16 years)
B46: ADR (mg/kg-day) | C46: ADD (mg/kg-day) | D46: ADR (mg/kg-day) | E46: ADD (mg/kg-day) | F46: ADR (mg/kg-day) | G46: ADD (mg/kg-day) | H46: ADR (mg/kg-day) | I46: ADD (mg/kg-day) | J46: ADR (mg/kg-day) | K46: ADD (mg/kg-day) | L46: ADR (mg/kg-day) | M46: ADD (mg/kg-day)
A47: Dose - BCF | B47: =(Inputs!$B$12*Inputs!$B$17*Inputs!$B$31*Inputs!$B$20*Inputs!$B$21*Inputs!$B$22)/Inputs!$B$23 -> 1.4073412e-06 | C47: =(Inputs!$C$12*Inputs!$C$17*Inputs!$C$31*Inputs!$C$20*Inputs!$C$21*Inputs!$C$22)/Inputs!$C$23 -> 3.195045e-07 | D47: =(Inputs!$B$12*Inputs!$B$17*Inputs!$B$26*Inputs!$B$20*Inputs!$B$21*Inputs!$B$22)/Inputs!$B$23 -> 2.089458e-06 | E47: =(Inputs!$C$12*Inputs!$C$17*Inputs!$C$26*Inputs!$C$20*Inputs!$C$21*Inputs!$C$22)/Inputs!$C$23 -> 2.687895e-07 | F47: =(Inputs!$B$12*Inputs!$B$17*Inputs!$B$27*Inputs!$B$20*Inputs!$B$21*Inputs!$B$22)/Inputs!$B$23 -> 1.7293815e-06 | G47: =(Inputs!$C$12*Inputs!$C$17*Inputs!$C$27*Inputs!$C$20*Inputs!$C$21*Inputs!$C$22)/Inputs!$C$23 -> 2.180745e-07 | H47: =(Inputs!$B$12*Inputs!$B$17*Inputs!$B$28*Inputs!$B$20*Inputs!$B$21*Inputs!$B$22)/Inputs!$B$23 -> 1.582308e-06 | I47: =(Inputs!$C$12*Inputs!$C$17*Inputs!$C$28*Inputs!$C$20*Inputs!$C$21*Inputs!$C$22)/Inputs!$C$23 -> 1.92717e-07 | J47: =(Inputs!$B$12*Inputs!$B$17*Inputs!$B$29*Inputs!$B$20*Inputs!$B$21*Inputs!$B$22)/Inputs!$B$23 -> 1.227303e-06 | K47: =(Inputs!$C$12*Inputs!$C$17*Inputs!$C$29*Inputs!$C$20*Inputs!$C$21*Inputs!$C$22)/Inputs!$C$23 -> 1.775025e-07 | L47: =(Inputs!$B$12*Inputs!$B$17*Inputs!$B$30*Inputs!$B$20*Inputs!$B$21*Inputs!$B$22)/Inputs!$B$23 -> 7.40439e-07 | M47: =(Inputs!$C$12*Inputs!$C$17*Inputs!$C$30*Inputs!$C$20*Inputs!$C$21*Inputs!$C$22)/Inputs!$C$23 -> 9.63585e-08
A48: MOE - BCF | B48: =Inputs!$B$38/B47 -> 5116030 | C48: =Inputs!$C$38/C47 -> 22534894 | D48: =Inputs!$B$38/D47 -> 3445869.7 | E48: =Inputs!$C$38/E47 -> 26786761 | F48: =Inputs!$B$38/F47 -> 4163338.2 | G48: =Inputs!$C$38/G47 -> 33016240 | H48: =Inputs!$B$38/H47 -> 4550315.1 | I48: =Inputs!$C$38/I47 -> 37360482 | J48: =Inputs!$B$38/J47 -> 5866522 | K48: =Inputs!$C$38/K47 -> 40562809 | L48: =Inputs!$B$38/L47 -> 9723961.1 | M48: =Inputs!$C$38/M47 -> 74720964
A51: Fish Ingestion Exposure and Risk Using EFAST Calc SWC, POTW: Franklin TWP Sew Auth. (PA0046326) | B51: Adult (16 to <70 years) | D51: Young toddler (1 to <2 years) | F51: Toddler (2 to <3 years) | H51: Small child (3 to <6 years) | J51: Child (6 to <11 years) | L51: Teen (11 to < 16 years)
B52: ADR (mg/kg-day) | C52: ADD (mg/kg-day) | D52: ADR (mg/kg-day) | E52: ADD (mg/kg-day) | F52: ADR (mg/kg-day) | G52: ADD (mg/kg-day) | H52: ADR (mg/kg-day) | I52: ADD (mg/kg-day) | J52: ADR (mg/kg-day) | K52: ADD (mg/kg-day) | L52: ADR (mg/kg-day) | M52: ADD (mg/kg-day)
A53: Dose - BCF | B53: =(Inputs!$B$13*Inputs!$B$17*Inputs!$B$31*Inputs!$B$20*Inputs!$B$21*Inputs!$B$22)/Inputs!$B$23 -> 2.06793e-05 | C53: =(Inputs!$C$13*Inputs!$C$17*Inputs!$C$31*Inputs!$C$20*Inputs!$C$21*Inputs!$C$22)/Inputs!$C$23 -> 2.282175e-06 | D53: =(Inputs!$B$13*Inputs!$B$17*Inputs!$B$26*Inputs!$B$20*Inputs!$B$21*Inputs!$B$22)/Inputs!$B$23 -> 3.070224e-05 | E53: =(Inputs!$C$13*Inputs!$C$17*Inputs!$C$26*Inputs!$C$20*Inputs!$C$21*Inputs!$C$22)/Inputs!$C$23 -> 1.919925e-06 | F53: =(Inputs!$B$13*Inputs!$B$17*Inputs!$B$27*Inputs!$B$20*Inputs!$B$21*Inputs!$B$22)/Inputs!$B$23 -> 2.541132e-05 | G53: =(Inputs!$C$13*Inputs!$C$17*Inputs!$C$27*Inputs!$C$20*Inputs!$C$21*Inputs!$C$22)/Inputs!$C$23 -> 1.557675e-06 | H53: =(Inputs!$B$13*Inputs!$B$17*Inputs!$B$28*Inputs!$B$20*Inputs!$B$21*Inputs!$B$22)/Inputs!$B$23 -> 2.325024e-05 | I53: =(Inputs!$C$13*Inputs!$C$17*Inputs!$C$28*Inputs!$C$20*Inputs!$C$21*Inputs!$C$22)/Inputs!$C$23 -> 1.37655e-06 | J53: =(Inputs!$B$13*Inputs!$B$17*Inputs!$B$29*Inputs!$B$20*Inputs!$B$21*Inputs!$B$22)/Inputs!$B$23 -> 1.803384e-05 | K53: =(Inputs!$C$13*Inputs!$C$17*Inputs!$C$29*Inputs!$C$20*Inputs!$C$21*Inputs!$C$22)/Inputs!$C$23 -> 1.267875e-06 | L53: =(Inputs!$B$13*Inputs!$B$17*Inputs!$B$30*Inputs!$B$20*Inputs!$B$21*Inputs!$B$22)/Inputs!$B$23 -> 1.087992e-05 | M53: =(Inputs!$C$13*Inputs!$C$17*Inputs!$C$30*Inputs!$C$20*Inputs!$C$21*Inputs!$C$22)/Inputs!$C$23 -> 6.88275e-07
A54: MOE - BCF | B54: =Inputs!$B$38/B53 -> 348174.26 | C54: =Inputs!$C$38/C53 -> 3154885.1 | D54: =Inputs!$B$38/D53 -> 234510.58 | E54: =Inputs!$C$38/E53 -> 3750146.5 | F54: =Inputs!$B$38/F53 -> 283338.29 | G54: =Inputs!$C$38/G53 -> 4622273.6 | H54: =Inputs!$B$38/H53 -> 309674.22 | I54: =Inputs!$C$38/I53 -> 5230467.5 | J54: =Inputs!$B$38/J53 -> 399249.41 | K54: =Inputs!$C$38/K53 -> 5678793.3 | L54: =Inputs!$B$38/L53 -> 661769.57 | M54: =Inputs!$C$38/M53 -> 10460935
A57: Fish Ingestion Exposure and Risk Using EFAST Calc SWC, Remediation: Las Vegas Convention and Visitors Authority Remediation System (NV0024232) | B57: Adult (16 to <70 years) | D57: Young toddler (1 to <2 years) | F57: Toddler (2 to <3 years) | H57: Small child (3 to <6 years) | J57: Child (6 to <11 years) | L57: Teen (11 to < 16 years)
B58: ADR (mg/kg-day) | C58: ADD (mg/kg-day) | D58: ADR (mg/kg-day) | E58: ADD (mg/kg-day) | F58: ADR (mg/kg-day) | G58: ADD (mg/kg-day) | H58: ADR (mg/kg-day) | I58: ADD (mg/kg-day) | J58: ADR (mg/kg-day) | K58: ADD (mg/kg-day) | L58: ADR (mg/kg-day) | M58: ADD (mg/kg-day)
A59: Dose - BCF | B59: =(Inputs!$B$14*Inputs!$B$17*Inputs!$B$31*Inputs!$B$20*Inputs!$B$21*Inputs!$B$22)/Inputs!$B$23 -> 9.57375e-07 | C59: =(Inputs!$C$14*Inputs!$C$17*Inputs!$C$31*Inputs!$C$20*Inputs!$C$21*Inputs!$C$22)/Inputs!$C$23 -> 2.1735e-07 | D59: =(Inputs!$B$14*Inputs!$B$17*Inputs!$B$26*Inputs!$B$20*Inputs!$B$21*Inputs!$B$22)/Inputs!$B$23 -> 1.4214e-06 | E59: =(Inputs!$C$14*Inputs!$C$17*Inputs!$C$26*Inputs!$C$20*Inputs!$C$21*Inputs!$C$22)/Inputs!$C$23 -> 1.8285e-07 | F59: =(Inputs!$B$14*Inputs!$B$17*Inputs!$B$27*Inputs!$B$20*Inputs!$B$21*Inputs!$B$22)/Inputs!$B$23 -> 1.17645e-06 | G59: =(Inputs!$C$14*Inputs!$C$17*Inputs!$C$27*Inputs!$C$20*Inputs!$C$21*Inputs!$C$22)/Inputs!$C$23 -> 1.4835e-07 | H59: =(Inputs!$B$14*Inputs!$B$17*Inputs!$B$28*Inputs!$B$20*Inputs!$B$21*Inputs!$B$22)/Inputs!$B$23 -> 1.0764e-06 | I59: =(Inputs!$C$14*Inputs!$C$17*Inputs!$C$28*Inputs!$C$20*Inputs!$C$21*Inputs!$C$22)/Inputs!$C$23 -> 1.311e-07 | J59: =(Inputs!$B$14*Inputs!$B$17*Inputs!$B$29*Inputs!$B$20*Inputs!$B$21*Inputs!$B$22)/Inputs!$B$23 -> 8.349e-07 | K59: =(Inputs!$C$14*Inputs!$C$17*Inputs!$C$29*Inputs!$C$20*Inputs!$C$21*Inputs!$C$22)/Inputs!$C$23 -> 1.2075e-07 | L59: =(Inputs!$B$14*Inputs!$B$17*Inputs!$B$30*Inputs!$B$20*Inputs!$B$21*Inputs!$B$22)/Inputs!$B$23 -> 5.037e-07 | M59: =(Inputs!$C$14*Inputs!$C$17*Inputs!$C$30*Inputs!$C$20*Inputs!$C$21*Inputs!$C$22)/Inputs!$C$23 -> 6.555e-08
A60: MOE - BCF | B60: =Inputs!$B$38/B59 -> 7520564 | C60: =Inputs!$C$38/C59 -> 33126294 | D60: =Inputs!$B$38/D59 -> 5065428.5 | E60: =Inputs!$C$38/E59 -> 39376538 | F60: =Inputs!$B$38/F59 -> 6120107.1 | G60: =Inputs!$C$38/G59 -> 48533873 | H60: =Inputs!$B$38/H59 -> 6688963.2 | I60: =Inputs!$C$38/I59 -> 54919908 | J60: =Inputs!$B$38/J59 -> 8623787.3 | K60: =Inputs!$C$38/K59 -> 59627329 | L60: =Inputs!$B$38/L59 -> 14294223 | M60: =Inputs!$C$38/M59 -> 1.0983982e+08
