Workbook
Name AT: #REF!
Name AT_50th_non_cancer: #REF!
Name AT_50th_non_cancer_DC: #REF!
Name AT_95th_non_cancer: #REF!
Name AT_95th_non_cancer_DC: #REF!
Name AT_AC: #REF!
Name AT_AC_DC: #REF!
Name AT_ADC_high: #REF!
Name AT_ADC_mid: #REF!
Name AT_cancer: #REF!
Name AT_cancer_DC: #REF!
Name AT_LADC: #REF!
Name AWD: #REF!
Name AWD_DC_50th: #REF!
Name AWD_DC_95th: #REF!
Name CASRN: #REF!
Name ED: #REF!
Name ED_AC: #REF!
Name ED_AC_DC: #REF!
Name ED_chronic: #REF!
Name ED_chronic_DC: #REF!
Name EF: #REF!
Name WY_50th: #REF!
Name WY_50th_DC: #REF!
Name WY_95th: #REF!
Name WY_95th_DC: #REF!
Name WY_high: #REF!
Name WY_mid: #REF!

Sheet Cover Page
A1: PUBLIC RELEASE DRAFT
A2: July 2026
A4: Draft General Population Fish Ingestion Estimates for 1,2-Dichloropropane
A6: CASRN 78-87-5

Sheet READ ME
A21: Inputs | B21: Details
A22: SWC | B22: According to EFAST guidance, "the distinction between acute and chronic fish ingestion is made on the basis of daily ingestion rate. The mean long-term fish ingestion rate is used to calculate chronic exposures and the mean serving size is used to calculate acute fish ingestion exposures for adults. This is in contrast to drinking water estimates, where the distinction between acute and chronic values is made on the basis of stream flows and on ingestion rates. The reason for this difference is that it takes time for chemical concentrations to accumulate in fish; therefore, the harmonic mean flow is used to calculate concentrations for both acute and chronic scenarios. It is not appropriate to use a very low streamflow value that occurs rarely as the basis for calculating a chemical residue in fish."
A23: BAF | B23: Use BAF because it considers exposure from the water column
A24: Fish Ingestion Rate
B25: Age Group* | C25: Mean BW (kg)a | D25: Fish Ingestion Rate (g/kg-day)
D26: 50th Percentile | E26: 90th percentile
B27: Infant (<1 year)b | C27: 7.83 | D27: N/A | E27: N/A
B28: Young toddler (1 to <2 years)b | C28: 11.4 | D28: 0.053 | E28: 0.412 | F28: Table 20a. 50th and 90th percentile IR is 0.6 and 4.7, respectively. Divide by BW of 11.4 to derive IR in g/kg-day
B29: Toddler (2 to <3 years)b | C29: 13.8 | D29: 0.043 | E29: 0.341 | F29: Table 20a. 50th and 90th percentile IR is 0.6 and 4.7, respectively. Divide by BW of 13.8 to derive IR in g/kg-day
B30: Small child (3 to <6 years)b | C30: 18.6 | D30: 0.038 | E30: 0.312 | F30: Table 20a. 50th and 90th percentile IR is 0.7 and 5.8, respectively. Divide by BW of 18.6 to derive IR in g/kg-day
B31: Child (6 to <11 years)b | C31: 31.8 | D31: 0.035 | E31: 0.242 | F31: Table 20a. 50th and 90th percentile IR is 1.1 and 7.7, respectively. Divide by BW of 31.8 to derive IR in g/kg-day
B32: Teen (11 to <16 years)b | C32: 56.8 | D32: 0.019 | E32: 0.146 | F32: Table 20a. 50th and 90th percentile IR is 1.1 and 8.3, respectively. Divide by BW of 56.8 to derive IR in g/kg-day
B33: Adult (16 to <70 years)c | C33: 80 | D33: 0.063 | E33: 0.277 | F33: Even though table 9a is for adults >=21, those rates were used and divided by 80 kg. The 90th percentile rate is 22 and not sure where HBCD got 22.2. TCEP used 22.2 as well, but it's a minor difference.
B34: Subsistence fisher (adult)d | C34: 80 | D34: 1.78
B35: a {U.S. EPA, 2011, 786546@@U.S. EPA-2011}, Table 8-1
B36: b {U.S. EPA, 2014, 3809132@@U.S. EPA-2014}, Table 20a
B37: c {U.S. EPA, 2014, 3809132@@U.S. EPA-2014}, Table 9a
B38: d {U.S. EPA, 2000, 19428@@U.S. EPA-2000}
B39: *The IR in the OW publication is in g/day, and we wanted to account for BW by deriving an IR in g/kg-day. The BW for different age groups that are found in the Exposure Factors Handbook do not match the age groups for the IRs. As you pointed out, they are only for groups <21 and >21. See table below for details on how we derived our IRs. Despite including IRs for different age groups, we only used the adult IR because it was most conservative.
B41: For subsistence fisher, we only have a single value and only for adults. Use the same ingestion rate for acute, chronic, and cancer estimates and vary the PODs to estimate acute, chronic, or cancer risks.
A43: ED and AT | B43: The years within an age group (e.g., 1 year for infants) was used for the exposure duration and averaging time, so they cancel out for ADR and ADD.

Sheet EFAST Calcs_Waterbody Conc
V1: Calculated Flow Values | AB1: Release Concentrations (OES days of release) | AE1: Release Concentrations (ECO 21 days of release) | AH1: Eco Screen (Chronic COC) | AJ1: 812
A2: Reporting. Year | B2: Facility. Name | C2: City | D2: County | E2: State | F2: Facility. Latitude | G2: Facility. Longitude | H2: FRS.ID | I2: X4.Digit. SIC.Code | J2: SIC.Description | K2: NAICS | L2: NAICS.description | M2: IS.Code | N2: Industry.Sector.Designation | O2: OES | P2: OES.Basis | Q2: Operating Days of Release | R2: Annual Discharge (kg/yr) | S2: OES Daily Release (operating days), kg/day | T2: Eco: 21 days, Daily Release (kg.day) | U2: NPDES Permit Number | V2: Pick 30Q5 mld | W2: Note30Q5 | X2: PickHMmld | Y2: NoteHM | Z2: Pick7Q10 mld | AA2: Note7Q10 | AB2: 7Q10 Concentration (ug/L) | AC2: 30Q5 Concentration (ug/L) | AD2: Harmonic Mean Concentration (ug/L) | AE2: 7Q10 Concentration (ug/L) | AF2: 30Q5 Concentration (ug/L) | AG2: Harmonic Mean Concentration (ug/L) | AH2: Chronic Aquatic COC (812 ug/L) | AI2: Acute Aquatic COC (24,250 ug/L) | AJ2: Sediment COC (2,900 ug/L) | AK2: Pore Water COC (9,300 ug/L)
A3: 2022 | B3: FIRMENICH INCORPORATED | C3: PLAINSBORO | D3: MIDDLESEX | E3: NJ | F3: 40.331944 | G3: -74.619722 | H3: 110000321651 | I3: 2869 | J3: Industrial Organic Chemicals, Nec | K3: 325180 | L3: Other Basic Inorganic Chemical Manufacturing | M3: IS19 | N3: All Other Basic Inorganic Chemical Manufacturing | O3: Processing as a reactant | P3: NAICS OES Crosswalk | Q3: 350 | R3: 0.030695 | S3: =R3/Q3 -> 8.77e-05 | T3: =R3/21 -> 0.0014616667 | U3: NJ0031445 | V3: 0.15131834 | W3: Coastal | X3: 0.15131834 | Y3: Coastal | Z3: 0.15131834 | AA3: Coastal | AB3: 0.57957285 | AC3: 0.57957285 | AD3: 0.57957285 | AE3: 9.6595475 | AF3: 9.6595475 | AG3: 9.6595475 | AH3: =IF($AE3>$AJ$1,"YES","NO") -> NO
A4: 2023 | B4: AVANTOR PERFORMANCE MATERIALS | C4: PHILLIPSBURG | D4: WARREN | E4: NJ | F4: 40.703099 | G4: -75.197676 | H4: 110000322311 | I4: 2819 | J4: Platemaking Services | K4: 323120 | L4: Support Activities for Printing | M4: IS10 | N4: Printing and Related Support Activities | O4: Processing as a reactant | P4: Facility produces specialty and custom laboratory products. | Q4: 350 | R4: 0.1544 | S4: =R4/Q4 -> 0.00044114286 | T4: =R4/21 -> 0.007352381 | U4: NJ0004006 | V4: 8328.8998 | W4: 30Q5 Flow | X4: 15559.687 | Y4: HM Flow | Z4: 6097.9706 | AA4: 7Q10 Flow | AB4: 7.2342568e-05 | AC4: 5.2965322e-05 | AD4: 2.8351654e-05 | AE4: 0.0012057095 | AF4: 0.00088275537 | AG4: 0.00047252757 | AH4: =IF($AE4>$AJ$1,"YES","NO") -> NO
A5: 2023 | B5: SHELL CHEMICAL APPALACHIA LLC | C5: MONACA | D5: BEAVER | E5: PA | F5: 40.67058 | G5: -80.3365 | H5: 110000329038 | I5: 2869 | J5: Industrial Organic Chemicals, Nec | K5: 325180 | L5: Other Basic Inorganic Chemical Manufacturing | M5: IS19 | N5: All Other Basic Inorganic Chemical Manufacturing | O5: Processing as a reactant | P5: NAICS OES Crosswalk | Q5: 350 | R5: 0.028148 | S5: =R5/Q5 -> 8.0422857e-05 | T5: =R5/21 -> 0.001340381 | U5: PA0002208 | V5: 0.58594544 | W5: Plant Flow | X5: 0.58594544 | Y5: Plant Flow | Z5: 0.58594544 | AA5: Plant Flow | AB5: 0.13725315 | AC5: 0.13725315 | AD5: 0.13725315 | AE5: 2.2875525 | AF5: 2.2875525 | AG5: 2.2875525 | AH5: =IF($AE5>$AJ$1,"YES","NO") -> NO
A6: 2019 | B6: FORMOSA PLASTICS CORPORATION | C6: DELAWARE CITY | D6: NEW CASTLE | E6: DE | F6: 39.5851 | G6: -75.6492 | H6: 110000338536 | I6: 2821 | J6: Platemaking Services | K6: 323120 | L6: Support Activities for Printing | M6: IS10 | N6: Printing and Related Support Activities | O6: Not mapped to OES | P6: Facility produces plastic resins and petrochemicals. | Q6: 350 | R6: 0.005448 | S6: =R6/Q6 -> 1.5565714e-05 | T6: =R6/21 -> 0.00025942857 | U6: DE0000612 | V6: 1.3202934 | W6: 30Q5 Flow | X6: 1.3987469 | Y6: HM Flow | Z6: 0.71041326 | AA6: 7Q10 Flow | AB6: 0.021910788 | AC6: 0.011789587 | AD6: 0.011128328 | AE6: 0.3651798 | AF6: 0.19649312 | AG6: 0.18547214 | AH6: =IF($AE6>$AJ$1,"YES","NO") -> NO
A7: 2021 | B7: TEKNOR APEX TENNESSEE COMPANY | C7: BROWNSVILLE | D7: HAYWOOD | E7: TN | F7: 35.6076 | G7: -89.2377 | H7: 110000373621 | I7: 3087 | J7: Custom Compound Purchased Resins | K7: 325991 | L7: Custom Compounding of Purchased Resins | M7: IS32 | N7: Custom Compounding of Purchased Resin | O7: Not mapped to OES | P7: Facility is a plastics manufacturer; assumed processing as a reactant. | Q7: 350 | R7: 0.78056163 | S7: =R7/Q7 -> 0.0022301761 | T7: =R7/21 -> 0.037169601 | U7: TN0041939 | V7: 4.4260614 | W7: Plant Flow | X7: 4.4260614 | Y7: Plant Flow | Z7: 4.4260614 | AA7: Plant Flow | AB7: 0.50387373 | AC7: 0.50387373 | AD7: 0.50387373 | AE7: 8.3978956 | AF7: 8.3978956 | AG7: 8.3978956 | AH7: =IF($AE7>$AJ$1,"YES","NO") -> NO
A8: 2021 | B8: MONUMENT CHEMICAL KENTUCKY LLC | C8: BRANDENBURG | D8: MEADE | E8: KY | F8: 38.002597 | G8: -86.117905 | H8: 110000377976 | I8: 2869 | J8: Industrial Organic Chemicals, Nec | K8: 325180 | L8: Other Basic Inorganic Chemical Manufacturing | M8: IS19 | N8: All Other Basic Inorganic Chemical Manufacturing | O8: Processing as a reactant | P8: NAICS OES Crosswalk | Q8: 350 | R8: 0.783377 | S8: =R8/Q8 -> 0.00223822 | T8: =R8/21 -> 0.037303667 | U8: KY0002119 | V8: 109171.49 | W8: 30Q5 Flow | X8: 248481.08 | Y8: HM Flow | Z8: 87507.184 | AA8: 7Q10 Flow | AB8: 2.5577557e-05 | AC8: 2.0501872e-05 | AD8: 9.0076072e-06 | AE8: 0.00042629262 | AF8: 0.00034169787 | AG8: 0.00015012679 | AH8: =IF($AE8>$AJ$1,"YES","NO") -> NO
A9: 2023 | B9: BAKELITE SYNTHETICS | C9: LOUISVILLE | D9: JEFFERSON | E9: KY | F9: 38.195278 | G9: -85.872222 | H9: 110000378467 | I9: 2869 | J9: Industrial Organic Chemicals, Nec | K9: 325180 | L9: Other Basic Inorganic Chemical Manufacturing | M9: IS19 | N9: All Other Basic Inorganic Chemical Manufacturing | O9: Processing as a reactant | P9: NAICS OES Crosswalk | Q9: 350 | R9: 0.911405 | S9: =R9/Q9 -> 0.0026040143 | T9: =R9/21 -> 0.043400238 | U9: KY0001112 | V9: 106660.54 | W9: 30Q5 Flow | X9: 241491.87 | Y9: HM Flow | Z9: 85424.515 | AA9: 7Q10 Flow | AB9: 3.048322e-05 | AC9: 2.4414036e-05 | AD9: 1.0783031e-05 | AE9: 0.00050805367 | AF9: 0.0004069006 | AG9: 0.00017971718 | AH9: =IF($AE9>$AJ$1,"YES","NO") -> NO
A10: 2019 | B10: SABIC INNOVATIVE PLASTICS - MT. VERNON | C10: MT. VERNON | D10: POSEY | E10: IN | F10: 37.9072 | G10: -87.9271 | H10: 110000403670 | I10: 2821 | J10: Platemaking Services | K10: 323120 | L10: Support Activities for Printing | M10: IS10 | N10: Printing and Related Support Activities | O10: Not mapped to OES | P10: Plastic resin manufacturer; assumed processing as a reactant. | Q10: 350 | R10: 10.85968 | S10: =R10/Q10 -> 0.031027657 | T10: =R10/21 -> 0.51712762 | U10: IN0002101 | V10: 115692.48 | W10: 30Q5 Flow | X10: 270269.05 | Y10: HM Flow | Z10: 92923.699 | AA10: 7Q10 Flow | AB10: 0.00033390467 | AC10: 0.00026819078 | AD10: 0.00011480285 | AE10: 0.0055650779 | AF10: 0.0044698464 | AG10: 0.0019133808 | AH10: =IF($AE10>$AJ$1,"YES","NO") -> NO
A11: 2019 | B11: STEPAN CO | C11: ELWOOD | D11: WILL | E11: IL | F11: 41.441667 | G11: -88.15972 | H11: 110000432504 | I11: 2843 | J11: Platemaking Services | K11: 323120 | L11: Support Activities for Printing | M11: IS10 | N11: Printing and Related Support Activities | O11: Processing as a reactant | P11: The site produces multiple materials including alkoxylates, alpha sulfo methyl esters, amides, amine oxides, esters, sulfosuccinates, sulfacetates, sulfonates, sulfates, blends, phosphate esters, quaternaries, phthalic anhydride, and polyols (https://www.stepan.com/content/stepan-dot-com/en/you-stepan/locations.html). 1,1 DCA is likely used in the manufacturing process. | Q11: 350 | R11: 0.745014 | S11: =R11/Q11 -> 0.0021286114 | T11: =R11/21 -> 0.035476857 | U11: IL0002453 | V11: 12.110024 | W11: 30Q5 Flow | X11: 19.752695 | Y11: HM Flow | Z11: 7.0447362 | AA11: 7Q10 Flow | AB11: 0.3021563 | AC11: 0.17577268 | AD11: 0.10776309 | AE11: 5.0359383 | AF11: 2.9295446 | AG11: 1.7960514 | AH11: =IF($AE11>$AJ$1,"YES","NO") -> NO
A12: 2023 | B12: EQUISTAR CHEMICALS, LP - MORRIS PLANT | C12: MORRIS | D12: GRUNDY | E12: IL | F12: 41.412897 | G12: -88.329773 | H12: 110000433013 | I12: 2821 | J12: Platemaking Services | K12: 323120 | L12: Support Activities for Printing | M12: IS10 | N12: Printing and Related Support Activities | O12: Not mapped to OES | P12: Facility produces Ethylene, Propylene, Polyethylene (Low Density and High Density), and Linear Low Density PolyethyleneÂ used to create a variety of products. | Q12: 350 | R12: 2.09748 | S12: =R12/Q12 -> 0.0059928 | T12: =R12/21 -> 0.09988 | U12: IL0002917 | V12: 2.7410623 | W12: Plant Flow | X12: 2.7410623 | Y12: Plant Flow | Z12: 2.7410623 | AA12: Plant Flow | AB12: 2.1863056 | AC12: 2.1863056 | AD12: 2.1863056 | AE12: 36.438427 | AF12: 36.438427 | AG12: 36.438427 | AH12: =IF($AE12>$AJ$1,"YES","NO") -> NO | AM12: =2.19*AN12 -> 36.5 | AN12: =350/21 -> 16.666667 | AO12: (21 day concentration is linear releative to 350 day concentration)
A13: 2020 | B13: HB FULLER CO | C13: MORRIS | D13: GRUNDY | E13: IL | F13: 41.30532 | G13: -88.56177 | H13: 110000433022 | I13: 2821 | J13: Platemaking Services | K13: 323120 | L13: Support Activities for Printing | M13: IS10 | N13: Printing and Related Support Activities | O13: Not mapped to OES | P13: Adhesive/sealant and abrasives manufacturer. | Q13: 350 | R13: 0.20465185 | S13: =R13/Q13 -> 0.00058471957 | T13: =R13/21 -> 0.0097453262 | U13: IL0079758 | V13: 14.066015 | W13: 30Q5 Flow | X13: 23.003356 | Y13: HM Flow | Z13: 8.2258294 | AA13: 7Q10 Flow | AB13: 0.071083358 | AC13: 0.041569669 | AD13: 0.025418881 | AE13: 1.1847226 | AF13: 0.69282781 | AG13: 0.42364801 | AH13: =IF($AE13>$AJ$1,"YES","NO") -> NO
A14: 2023 | B14: BAYER CROPSCIENCE KANSAS CITY | C14: KANSAS CITY | D14: JACKSON | E14: MO | F14: 39.121472 | G14: -94.473417 | H14: 110000443226 | I14: 2879 | J14: Agricultural Chemicals, Nec | K14: 325320 | L14: Pesticide and Other Agricultural Chemical Manufacturing | M14: IS25 | N14: Pesticide, Fertilizer, and Other Agricultural Chemical Manufacturing | O14: Processing as a reactant | P14: Facility produces agrochemicals. | Q14: 350 | R14: 13.2568 | S14: =R14/Q14 -> 0.037876571 | T14: =R14/21 -> 0.63127619 | U14: MO0002526 | V14: 260.00978 | W14: 30Q5 Flow | X14: 414.30549 | Y14: HM Flow | Z14: 168.49629 | AA14: 7Q10 Flow | AB14: 0.22479173 | AC14: 0.14567364 | AD14: 0.091421843 | AE14: 3.7465288 | AF14: 2.427894 | AG14: 1.5236974 | AH14: =IF($AE14>$AJ$1,"YES","NO") -> NO
A15: 2021 | B15: BASF CORPORATION | C15: WEST MEMPHIS | D15: CRITTENDEN | E15: AR | F15: 35.136057 | G15: -90.096893 | H15: 110000452082 | I15: 2869 | J15: Industrial Organic Chemicals, Nec | K15: 325180 | L15: Other Basic Inorganic Chemical Manufacturing | M15: IS19 | N15: All Other Basic Inorganic Chemical Manufacturing | O15: Processing as a reactant | P15: NAICS OES Crosswalk | Q15: 350 | R15: 0.05930148 | S15: =R15/Q15 -> 0.0001694328 | T15: =R15/21 -> 0.00282388 | U15: AR0037770 | V15: 746038.25 | W15: 30Q5 Flow | X15: 1489612.5 | Y15: HM Flow | Z15: 639845.76 | AA15: 7Q10 Flow | AB15: 2.6480257e-07 | AC15: 2.2711007e-07 | AD15: 1.1374287e-07 | AE15: 4.4133762e-06 | AF15: 3.7851679e-06 | AG15: 1.8957144e-06 | AH15: =IF($AE15>$AJ$1,"YES","NO") -> NO
A16: 2021 | B16: ECO SERVICES OPERATIONS HOUSTON | C16: HOUSTON | D16: HARRIS | E16: TX | F16: 29.718139 | G16: -95.26875 | H16: 110000460901 | I16: 2819 | J16: Platemaking Services | K16: 323120 | L16: Support Activities for Printing | M16: IS10 | N16: Printing and Related Support Activities | O16: Processing as a reactant | P16: Facility is a chemical manufacturer. | Q16: 350 | R16: 14.06492 | S16: =R16/Q16 -> 0.040185486 | T16: =R16/21 -> 0.6697581 | U16: TX0007072 | V16: 123.81174 | W16: 30Q5 Flow | X16: 185.24007 | Y16: HM Flow | Z16: 78.166387 | AA16: 7Q10 Flow | AB16: 0.51410187 | AC16: 0.32456928 | AD16: 0.21693732 | AE16: 8.5683645 | AF16: 5.409488 | AG16: 3.6156221 | AH16: =IF($AE16>$AJ$1,"YES","NO") -> NO
A17: 2021 | B17: MONUMENT CHEMICAL HOUSTON | C17: HOUSTON | D17: HARRIS COUNTY | E17: TX | F17: 29.75487 | G17: -95.10327 | H17: 110000460983 | I17: 2869 | J17: Industrial Organic Chemicals, Nec | K17: 325180 | L17: Other Basic Inorganic Chemical Manufacturing | M17: IS19 | N17: All Other Basic Inorganic Chemical Manufacturing | O17: Processing as a reactant | P17: NAICS OES Crosswalk | Q17: 350 | R17: 0.3745046 | S17: =R17/Q17 -> 0.0010700131 | T17: =R17/21 -> 0.017833552 | U17: TX0085979 | V17: 24.865526 | W17: 30Q5 Flow | X17: 50.489349 | Y17: HM Flow | Z17: 14.835961 | AA17: 7Q10 Flow | AB17: 0.07212294 | AC17: 0.043031994 | AD17: 0.021192849 | AE17: 1.202049 | AF17: 0.71719989 | AG17: 0.35321415 | AH17: =IF($AE17>$AJ$1,"YES","NO") -> NO
A18: 2023 | B18: INVISTA HOUSTON | C18: HOUSTON | D18: HARRIS | E18: TX | F18: 29.706248 | G18: -95.251079 | H18: 110000461107 | I18: 2869 | J18: Industrial Organic Chemicals, Nec | K18: 325180 | L18: Other Basic Inorganic Chemical Manufacturing | M18: IS19 | N18: All Other Basic Inorganic Chemical Manufacturing | O18: Processing as a reactant | P18: NAICS OES Crosswalk | Q18: 350 | R18: 0.0579985 | S18: =R18/Q18 -> 0.00016571 | T18: =R18/21 -> 0.0027618333 | U18: TX0006068 | V18: 270.42543 | W18: 30Q5 Flow | X18: 343.92271 | Y18: HM Flow | Z18: 175.48848 | AA18: 7Q10 Flow | AB18: 0.00094427852 | AC18: 0.00061277522 | AD18: 0.00048182338 | AE18: 0.015737975 | AF18: 0.01021292 | AG18: 0.0080303896 | AH18: =IF($AE18>$AJ$1,"YES","NO") -> NO
A19: 2020 | B19: BRASKEM AMERICA INC - LAPORTE SITE | C19: LA PORTE | D19: HARRIS | E19: TX | F19: 29.704027 | G19: -95.079932 | H19: 110000463631 | I19: 2821 | J19: Platemaking Services | K19: 323120 | L19: Support Activities for Printing | M19: IS10 | N19: Printing and Related Support Activities | O19: Not mapped to OES | P19: Facility produces plastic products (polypropylene, polyethylene, UTEC). | Q19: 350 | R19: 0.0961118 | S19: =R19/Q19 -> 0.00027460514 | T19: =R19/21 -> 0.0045767524 | U19: TX0074276 | V19: 2.3530001 | W19: Manual Lookup | X19: 2.3530001 | Y19: Manual Lookup/Plant | Z19: 2.3530001 | AA19: Manual Lookup/Plant Flow | AB19: 0.11670426 | AC19: 0.11670426 | AD19: 0.11670426 | AE19: 1.945071 | AF19: 1.945071 | AG19: 1.945071 | AH19: =IF($AE19>$AJ$1,"YES","NO") -> NO
A20: 2022 | B20: METTON AMERICA LA PORTE PLANT | C20: LA PORTE | D20: HARRIS | E20: TX | F20: 29.726066 | G20: -95.079584 | H20: 110000463677 | I20: 2821 | J20: Platemaking Services | K20: 323120 | L20: Support Activities for Printing | M20: IS10 | N20: Printing and Related Support Activities | O20: Not mapped to OES | P20: Facility performs plastic fabrication; assumed processing as a reactant. | Q20: 350 | R20: 0.003993611 | S20: =R20/Q20 -> 1.1410317e-05 | T20: =R20/21 -> 0.00019017195 | U20: TX0084808 | V20: 1.0391198 | W20: 30Q5 Flow | X20: 2.639735 | Y20: HM Flow | Z20: 0.55442814 | AA20: 7Q10 Flow | AB20: 0.020580336 | AC20: 0.010980752 | AD20: 0.0043225236 | AE20: 0.34300559 | AF20: 0.18301254 | AG20: 0.072042061 | AH20: =IF($AE20>$AJ$1,"YES","NO") -> NO
A21: 2023 | B21: HANSON PERMANENTE CEMENT | C21: CUPERTINO | D21: SANTA CLARA | E21: CA | F21: 37.318059 | G21: -122.09263 | H21: 110000484039 | I21: 3241 | J21: Fabricated Rubber Products, Nec | K21: 326299 | L21: All Other Rubber Product Manufacturing | M21: IS36 | N21: Rubber Product Manufacturing | O21: Disposal to Incineration | P21: Cement producer; assumed incineration in cement kilns. | Q21: 250 | R21: 0.022587934 | S21: =R21/Q21 -> 9.0351736e-05 | T21: =R21/21 -> 0.0010756159 | U21: CA0030210 | V21: 0.31784841 | W21: 30Q5 Flow | X21: 0.9186388 | Y21: HM Flow | Z21: 0.16266391 | AA21: 7Q10 Flow | AB21: 0.55545042 | AC21: 0.28426046 | AD21: 0.09835393 | AE21: 6.612505 | AF21: 3.3840531 | AG21: 1.1708801 | AH21: =IF($AE21>$AJ$1,"YES","NO") -> NO
A22: 2020 | B22: BOEING COMPANY (THE) | C22: PORTLAND | D22: MULTNOMAH | E22: OR | F22: 45.543847 | G22: -122.46656 | H22: 110000487633 | I22: 3728 | J22: Office Machines, Nec | K22: 339940 | L22: Office Supplies (except Paper) Manufacturing | M22: IS45 | N22: Miscellaneous Manufacturing | O22: Processing as a reactant | P22: Aircraft parts manufacturer and chemical processor; assumed processing as a reactant. | Q22: 350 | R22: 0.035311779 | S22: =R22/Q22 -> 0.0001008908 | T22: =R22/21 -> 0.0016815133 | U22: OR0031828 | V22: 5.1564792 | W22: 30Q5 Flow | X22: 13.663442 | Y22: HM Flow | Z22: 2.9108586 | AA22: 7Q10 Flow | AB22: 0.03466015 | AC22: 0.01956583 | AD22: 0.0073839959 | AE22: 0.57766917 | AF22: 0.32609717 | AG22: 0.1230666 | AH22: =IF($AE22>$AJ$1,"YES","NO") -> NO
A23: 2019 | B23: KODAK PARK DIVISION | C23: ROCHESTER | D23: MONROE | E23: NY | F23: 43.197788 | G23: -77.629836 | H23: 110000492173 | I23: 3861 | J23: Office Machines, Nec | K23: 339940 | L23: Office Supplies (except Paper) Manufacturing | M23: IS45 | N23: Miscellaneous Manufacturing | O23: Processing Aid | P23: Kodak potentially uses 1,2-DCP as a paper sizing agent similar to Solenis which would fall under processing aid. | Q23: 300 | R23: 4.271232 | S23: =R23/Q23 -> 0.01423744 | T23: =R23/21 -> 0.203392 | U23: NY0001643 | V23: 2190.0416 | W23: 30Q5 Flow | X23: 4395.0256 | Y23: HM Flow | Z23: 1529.7811 | AA23: 7Q10 Flow | AB23: 0.0093068479 | AC23: 0.0065009908 | AD23: 0.0032394442 | AE23: 0.13295497 | AF23: 0.092871297 | AG23: 0.046277774 | AH23: =IF($AE23>$AJ$1,"YES","NO") -> NO
A24: 2022 | B24: KRATON CHEMICAL, LLC | C24: DOVER | D24: TUSCARAWAS | E24: OH | F24: 40.50632 | G24: -81.4743 | H24: 110000496981 | I24: 2869 | J24: Industrial Organic Chemicals, Nec | K24: 325180 | L24: Other Basic Inorganic Chemical Manufacturing | M24: IS19 | N24: All Other Basic Inorganic Chemical Manufacturing | O24: Processing as a reactant | P24: NAICS OES Crosswalk | Q24: 350 | R24: 0.93744 | S24: =R24/Q24 -> 0.0026784 | T24: =R24/21 -> 0.04464 | U24: OH0007196 | V24: 293.05379 | W24: 30Q5 Flow | X24: 522.96928 | Y24: HM Flow | Z24: 190.71151 | AA24: 7Q10 Flow | AB24: 0.01404425 | AC24: 0.0091396191 | AD24: 0.0051215245 | AE24: 0.23407083 | AF24: 0.15232698 | AG24: 0.085358742 | AH24: =IF($AE24>$AJ$1,"YES","NO") -> NO
... A63: 2021 | B63: ISP CHEMICALS LLC | C63: CALVERT CITY | D63: MARSHALL | E63: KY | F63: 37.047737 | G63: -88.35866 | H63: 110000741608 | I63: 2869 | J63: Industrial Organic Chemicals, Nec | K63: 325180 | L63: Other Basic Inorganic Chemical Manufacturing | M63: IS19 | N63: All Other Basic Inorganic Chemical Manufacturing | O63: Processing as a reactant | P63: NAICS OES Crosswalk | Q63: 350 | R63: 8.202645 | S63: =R63/Q63 -> 0.023436129 | T63: =R63/21 -> 0.39060214 | U63: KY0003701 | V63: 5.0691643 | W63: Plant Flow | X63: 5.0691643 | Y63: Plant Flow | Z63: 5.0691643 | AA63: Plant Flow | AB63: 4.6232726 | AC63: 4.6232726 | AD63: 4.6232726 | AE63: 77.054544 | AF63: 77.054544 | AG63: 77.054544 | AH63: =IF($AE63>$AJ$1,"YES","NO") -> NO
A64: 2020 | B64: EQUISTAR CHEMICALS LP TUSCOLA PLANT | C64: TUSCOLA | D64: DOUGLAS | E64: IL | F64: 39.795812 | G64: -88.347946 | H64: 110000746211 | I64: 2869 | J64: Industrial Organic Chemicals, Nec | K64: 325180 | L64: Other Basic Inorganic Chemical Manufacturing | M64: IS19 | N64: All Other Basic Inorganic Chemical Manufacturing | O64: Processing as a reactant | P64: NAICS OES Crosswalk | Q64: 350 | R64: 7.0363015 | S64: =R64/Q64 -> 0.020103719 | T64: =R64/21 -> 0.33506198 | U64: IL0000141 | V64: 0.056744377 | W64: Plant Flow | X64: 0.10308218 | Y64: HM Flow | Z64: 0.056744377 | AA64: Plant Flow | AB64: 354.28565 | AC64: 354.28565 | AD64: 195.02613 | AE64: 5904.7609 | AF64: 5904.7609 | AG64: 3250.4355 | AH64: =IF($AE64>$AJ$1,"YES","NO") -> YES | AI64: Conducted refinement (use effluent concentration: 5 ug/L)
A65: 2022 | B65: OWENSBORO SPECIALTY POLYMERS INC. | C65: OWENSBORO | D65: DAVIESS | E65: KY | F65: 37.8125 | G65: -87.05 | H65: 110000747835 | I65: 2821 | J65: Platemaking Services | K65: 323120 | L65: Support Activities for Printing | M65: IS10 | N65: Printing and Related Support Activities | O65: Not mapped to OES | P65: Facility produces PVC and polyvinyl acetate latex emulsions. | Q65: 350 | R65: 0.8914038 | S65: =R65/Q65 -> 0.002546868 | T65: =R65/21 -> 0.0424478 | U65: KY0001953 | V65: 11.809291 | W65: 30Q5 Flow | X65: 20.990457 | Y65: HM Flow | Z65: 6.8637129 | AA65: 7Q10 Flow | AB65: 0.37106272 | AC65: 0.21566646 | AD65: 0.12133456 | AE65: 6.1843787 | AF65: 3.594441 | AG65: 2.0222427 | AH65: =IF($AE65>$AJ$1,"YES","NO") -> NO
A66: 2021 | B66: HUNTSMAN PETROCHEMICAL LLC - CONROE PLANT | C66: CONROE | D66: MONTGOMERY | E66: TX | F66: 30.311361 | G66: -95.387083 | H66: 110000748095 | I66: 2869 | J66: Industrial Organic Chemicals, Nec | K66: 325180 | L66: Other Basic Inorganic Chemical Manufacturing | M66: IS19 | N66: All Other Basic Inorganic Chemical Manufacturing | O66: Processing as a reactant | P66: NAICS OES Crosswalk | Q66: 350 | R66: 4.0184675 | S66: =R66/Q66 -> 0.011481336 | T66: =R66/21 -> 0.1913556 | U66: TX0005592 | V66: 5.3202934 | W66: 30Q5 Flow | X66: 11.944371 | Y66: HM Flow | Z66: 3.0066407 | AA66: 7Q10 Flow | AB66: 3.8186591 | AC66: 2.1580268 | AD66: 0.96123405 | AE66: 63.644318 | AF66: 35.967113 | AG66: 16.020568 | AH66: =IF($AE66>$AJ$1,"YES","NO") -> NO
A67: 2020 | B67: GREENUP JOINT SEWER AGENCY | C67: WURTLAND | D67: GREENUP | E67: KY | F67: 38.55163 | G67: -82.7782 | H67: 110000759723 | I67: 4952 | J67: Manufacturing Industries, Nec | K67: 339999 | L67: All Other Miscellaneous Manufacturing | M67: IS45 | N67: Miscellaneous Manufacturing | O67: Disposal to POTW | P67: Disposal to POTW (consistent with 1,1-DCA) | Q67: 365 | R67: 1.381525 | S67: =R67/Q67 -> 0.003785 | T67: =R67/21 -> 0.065786905 | U67: KY0033553 | V67: 3.8704156 | W67: 30Q5 Flow | X67: 5.8390555 | Y67: HM Flow | Z67: 2.1629162 | AA67: 7Q10 Flow | AB67: 1.7499523 | AC67: 0.97793114 | AD67: 0.64822128 | AE67: 30.415837 | AF67: 16.997375 | AG67: 11.266703 | AH67: =IF($AE67>$AJ$1,"YES","NO") -> NO
A68: 2021 | B68: GEORGETOWN STP #2 | C68: GEORGETOWN | D68: SCOTT | E68: KY | F68: 38.267438 | G68: -84.527996 | H68: 110000759741 | I68: 4952 | J68: Manufacturing Industries, Nec | K68: 339999 | L68: All Other Miscellaneous Manufacturing | M68: IS45 | N68: Miscellaneous Manufacturing | O68: Disposal to POTW | P68: Disposal to POTW (consistent with 1,1-DCA) | Q68: 365 | R68: 4.5728478 | S68: =R68/Q68 -> 0.01252835 | T68: =R68/21 -> 0.21775465 | U68: KY0082007 | V68: 5.1448235 | W68: Plant Flow | X68: 5.1448235 | Y68: Plant Flow | Z68: 5.1448235 | AA68: Plant Flow | AB68: 2.435137 | AC68: 2.435137 | AD68: 2.435137 | AE68: 42.325 | AF68: 42.325 | AG68: 42.325 | AH68: =IF($AE68>$AJ$1,"YES","NO") -> NO
A69: 2019 | B69: MAYSVILLE STP | C69: MAYSVILLE | D69: MASON | E69: KY | F69: 38.68653 | G69: -83.78868 | H69: 110000761104 | I69: 4952 | J69: Manufacturing Industries, Nec | K69: 339999 | L69: All Other Miscellaneous Manufacturing | M69: IS45 | N69: Miscellaneous Manufacturing | O69: Disposal to POTW | P69: Disposal to POTW (consistent with 1,1-DCA) | Q69: 365 | R69: 0.4697185 | S69: =R69/Q69 -> 0.0012869 | T69: =R69/21 -> 0.022367548 | U69: KY0020257 | V69: 5.0880791 | W69: Plant Flow | X69: 5.0880791 | Y69: Plant Flow | Z69: 5.0880791 | AA69: Plant Flow | AB69: 0.25292453 | AC69: 0.25292453 | AD69: 0.25292453 | AE69: 4.3960692 | AF69: 4.3960692 | AG69: 4.3960692 | AH69: =IF($AE69>$AJ$1,"YES","NO") -> NO
A70: 2022 | B70: AMCOL HEALTH & BEAUTY SOLUTIONS INC | C70: LAFAYETTE | D70: LAFAYETTE | E70: LA | F70: 30.27083 | G70: -92.03728 | H70: 110000846602 | I70: 2821 | J70: Platemaking Services | K70: 323120 | L70: Support Activities for Printing | M70: IS10 | N70: Printing and Related Support Activities | O70: Use of laboratory chemicals | P70: Facility is a skin care clinic; assumed to be laboratory use. This also matches 1,1-DCA mapping. | Q70: 260 | R70: 0.009587784 | S70: =R70/Q70 -> 3.6876092e-05 | T70: =R70/21 -> 0.00045656114 | U70: LA0108936 | V70: 1.8914792 | W70: Plant Flow | X70: 1.8914792 | Y70: Plant Flow | Z70: 1.8914792 | AA70: Plant Flow | AB70: 0.019495901 | AC70: 0.019495901 | AD70: 0.019495901 | AE70: 0.24137783 | AF70: 0.24137783 | AG70: 0.24137783 | AH70: =IF($AE70>$AJ$1,"YES","NO") -> NO
A71: 2021 | B71: SHAW INDUSTRIES GROUP INC PLANT 8S | C71: COLUMBIA | D71: RICHLAND | E71: SC | F71: 34.047217 | G71: -81.151326 | H71: 110000854246 | I71: 2824 | J71: Platemaking Services | K71: 323120 | L71: Support Activities for Printing | M71: IS10 | N71: Printing and Related Support Activities | O71: Processing as a reactant | P71: Commercial flooring product manufacturer; assumed processing as a reactant. | Q71: 350 | R71: 0.33142 | S71: =R71/Q71 -> 0.00094691429 | T71: =R71/21 -> 0.015781905 | U71: SC0003557 | V71: 26.989307 | W71: Plant Flow | X71: 26.989307 | Y71: Plant Flow | Z71: 26.989307 | AA71: Plant Flow | AB71: 0.035084795 | AC71: 0.035084795 | AD71: 0.035084795 | AE71: 0.58474658 | AF71: 0.58474658 | AG71: 0.58474658 | AH71: =IF($AE71>$AJ$1,"YES","NO") -> NO
A72: 2020 | B72: QUALAWASH HOLDINGS LLC - QUALA - GEISMAR TERMINAL 260 | C72: GEISMAR | D72: ASCENSION | E72: LA | F72: 30.233012 | G72: -91.022057 | H72: 110000911309 | I72: 4789 | J72: Manufacturing Industries, Nec | K72: 339999 | L72: All Other Miscellaneous Manufacturing | M72: IS45 | N72: Miscellaneous Manufacturing | O72: Not mapped to OES | P72: Unknown; per "terminal 260" in facility name, this may be "Distribution in Commerce". | Q72: 250 | R72: 0.023930663 | S72: =R72/Q72 -> 9.5722652e-05 | T72: =R72/21 -> 0.0011395554 | U72: LA0098191 | V72: 3.0660147 | W72: 30Q5 Flow | X72: 5.5268659 | Y72: HM Flow | Z72: 1.8914792 | AA72: Plant Flow | AB72: 0.050607298 | AC72: 0.031220546 | AD72: 0.017319518 | AE72: 0.60246783 | AF72: 0.37167317 | AG72: 0.20618474 | AH72: =IF($AE72>$AJ$1,"YES","NO") -> NO
A73: 2022 | B73: MILLIKEN & COMPANY/MAGNOLIA PLANT | C73: BLACKSBURG | D73: CHEROKEE | E73: SC | F73: 35.118553 | G73: -81.559533 | H73: 110000915984 | I73: 2261 | J73: Finishing Plants, Cotton | K73: 313310 | L73: Textile and Fabric Finishing Mills | M73: IS7 | N73: Textiles, apparel, and leather manufacturing | O73: Processing as a reactant | P73: Facility produces textile, chemical, and floor covering products; assumed processing as a reactant. | Q73: 350 | R73: 9.77689 | S73: =R73/Q73 -> 0.027933971 | T73: =R73/21 -> 0.46556619 | U73: SC0003182 | V73: 241.85086 | W73: 30Q5 Flow | X73: 373.63074 | Y73: HM Flow | Z73: 156.32971 | AA73: 7Q10 Flow | AB73: 0.17868626 | AC73: 0.11550082 | AD73: 0.074763579 | AE73: 2.9781044 | AF73: 1.9250136 | AG73: 1.2460596 | AH73: =IF($AE73>$AJ$1,"YES","NO") -> NO
A74: 2021 | B74: CHRIN BROTHERS INC | C74: EASTON | D74: NORTHAMPTON | E74: PA | F74: 40.70099 | G74: -75.21478 | H74: 110001075345 | I74: 4953 | J74: Manufacturing Industries, Nec | K74: 339999 | L74: All Other Miscellaneous Manufacturing | M74: IS45 | N74: Miscellaneous Manufacturing | O74: Disposal to Landfill | P74: Facility provides waste management services(https://www.chrin.org/). | Q74: 250 | R74: 0.068386623 | S74: =R74/Q74 -> 0.00027354649 | T74: =R74/21 -> 0.0032565059 | U74: PA0063142 | V74: 3551.4279 | W74: 30Q5 Flow | X74: 5744.5991 | Y74: HM Flow | Z74: 2523.3076 | AA74: 7Q10 Flow | AB74: 0.00010840791 | AC74: 7.7024369e-05 | AD74: 4.761803e-05 | AE74: 0.0012905703 | AF74: 0.00091695678 | AG74: 0.00056688131 | AH74: =IF($AE74>$AJ$1,"YES","NO") -> NO
A75: 2021 | B75: DISCOVERY BAY WWTP | C75: DISCOVERY BAY | D75: CONTRA COSTA | E75: CA | F75: 37.894722 | G75: -121.58722 | H75: 110001103911 | I75: 4952 | J75: Manufacturing Industries, Nec | K75: 339999 | L75: All Other Miscellaneous Manufacturing | M75: IS45 | N75: Miscellaneous Manufacturing | O75: Disposal to POTW | P75: Site Name is WWTP | Q75: 250 | R75: 0.069950434 | S75: =R75/Q75 -> 0.00027980174 | T75: =R75/21 -> 0.003330973 | U75: CA0078590 | V75: 7.9442127 | W75: Plant Flow | X75: 7.9442127 | Y75: Plant Flow | Z75: 7.9442127 | AA75: Plant Flow | AB75: 0.035220826 | AC75: 0.035220826 | AD75: 0.035220826 | AE75: 0.41929555 | AF75: 0.41929555 | AG75: 0.41929555 | AH75: =IF($AE75>$AJ$1,"YES","NO") -> NO
A76: 2019 | B76: GLASGOW STP | C76: GLASGOW | D76: BARREN | E76: KY | F76: 36.98381 | G76: -85.95709 | H76: 110001123276 | I76: 4952 | J76: Manufacturing Industries, Nec | K76: 339999 | L76: All Other Miscellaneous Manufacturing | M76: IS45 | N76: Miscellaneous Manufacturing | O76: Disposal to POTW | P76: Disposal to POTW (consistent with 1,1-DCA) | Q76: 365 | R76: 5.2014416 | S76: =R76/Q76 -> 0.014250525 | T76: =R76/21 -> 0.2476877 | U76: KY0021164 | V76: 8.284679 | W76: Plant Flow | X76: 8.284679 | Y76: Plant Flow | Z76: 8.284679 | AA76: Plant Flow | AB76: 1.7201059 | AC76: 1.7201059 | AD76: 1.7201059 | AE76: 29.897078 | AF76: 29.897078 | AG76: 29.897078 | AH76: =IF($AE76>$AJ$1,"YES","NO") -> NO
... A86: 2019 | B86: FLEMINGSBURG STP | C86: FLEMINGSBURG | D86: FLEMING | E86: KY | F86: 38.421496 | G86: -83.734424 | H86: 110003251427 | I86: 4952 | J86: Manufacturing Industries, Nec | K86: 339999 | L86: All Other Miscellaneous Manufacturing | M86: IS45 | N86: Miscellaneous Manufacturing | O86: Disposal to POTW | P86: Disposal to POTW (consistent with 1,1-DCA) | Q86: 365 | R86: 0.4752446 | S86: =R86/Q86 -> 0.00130204 | T86: =R86/21 -> 0.022630695 | U86: KY0021229 | V86: 6.0709046 | W86: 30Q5 Flow | X86: 9.6062304 | Y86: HM Flow | Z86: 3.4468068 | AA86: 7Q10 Flow | AB86: 0.37775253 | AC86: 0.21447215 | AD86: 0.1355412 | AE86: 6.5656988 | AF86: 3.7277303 | AG86: 2.3558351 | AH86: =IF($AE86>$AJ$1,"YES","NO") -> NO
A87: 2023 | B87: GOLDEN NUGGET | C87: LAS VEGAS | D87: CLARK | E87: NV | F87: 36.17082 | G87: -115.14431 | H87: 110004300596 | I87: 7011 | J87: Communication Services, Nec | K87: 517810 | L87: All Other Telecommunications | M87: NAICS/SIC Not Provided | N87: NAICS/SIC Not Provided | O87: Not mapped to OES | P87: Facility is a hotel in Las Vegas; no OES to map to. | Q87: 250 | R87: 0.002289878 | S87: =R87/Q87 -> 9.159512e-06 | T87: =R87/21 -> 0.00010904181 | U87: NV0022993 | V87: NA | W87: Permit Lookup Failed | X87: NA | Y87: NA | Z87: NA | AA87: Permit Lookup Failed | AB87: 1 | AC87: 1 | AD87: 1 | AE87: 1 | AF87: 1 | AG87: 1 | AH87: =IF($AE87>$AJ$1,"YES","NO") -> NO
A88: 2023 | B88: VENETIAN HOTEL AND CASINO | C88: LAS VEGAS | D88: CLARK COUNTY | E88: NV | F88: 36.1221 | G88: -115.17139 | H88: 110004306938 | I88: 7011 | J88: Communication Services, Nec | K88: 517810 | L88: All Other Telecommunications | M88: NAICS/SIC Not Provided | N88: NAICS/SIC Not Provided | O88: Disposal to Non-POTW WWT | P88: Based on 1,1-DCA mapping and reasoning "Discharge of non-contact cooling water from facility, and general discharge". | Q88: 250 | R88: 0.67112412 | S88: =R88/Q88 -> 0.0026844965 | T88: =R88/21 -> 0.031958292 | U88: NV0022888 | V88: 3.2684761 | W88: Plant Flow | X88: 3.2684761 | Y88: Plant Flow | Z88: 3.2684761 | AA88: Plant Flow | AB88: 0.8213297 | AC88: 0.8213297 | AD88: 0.8213297 | AE88: 9.7777345 | AF88: 9.7777345 | AG88: 9.7777345 | AH88: =IF($AE88>$AJ$1,"YES","NO") -> NO
A89: 2020 | B89: SAND ISLAND WASTE WATER TREATMENT PLANT | C89: HONOLULU | D89: HONOLULU COUNTY | E89: HI | F89: 21.3045 | G89: -157.88206 | H89: 110005726802 | I89: 4952 | J89: Manufacturing Industries, Nec | K89: 339999 | L89: All Other Miscellaneous Manufacturing | M89: IS45 | N89: Miscellaneous Manufacturing | O89: Disposal to POTW | P89: Disposal to POTW (consistent with 1,1-DCA) | Q89: 365 | R89: 10.63046 | S89: =R89/Q89 -> 0.029124548 | T89: =R89/21 -> 0.50621239 | U89: HI0020117 | V89: 225.88045 | W89: Flow Lookup Failed | X89: 225.88045 | Y89: Flow Lookup Failed | Z89: 225.88045 | AA89: Flow Lookup Failed | AB89: 0.12893789 | AC89: 0.12893789 | AD89: 0.12893789 | AE89: 2.2410633 | AF89: 2.2410633 | AG89: 2.2410633 | AH89: =IF($AE89>$AJ$1,"YES","NO") -> NO
A90: 2023 | B90: PADUCAH/MCCRACKEN COUNTY JSA - REIDLAND | C90: REIDLAND | D90: MCCRACKEN | E90: KY | F90: 37.021974 | G90: -88.512833 | H90: 110006367136 | I90: 4952 | J90: Manufacturing Industries, Nec | K90: 339999 | L90: All Other Miscellaneous Manufacturing | M90: IS45 | N90: Miscellaneous Manufacturing | O90: Disposal to POTW | P90: Disposal to POTW (consistent with 1,1-DCA) | Q90: 365 | R90: 0.8178628 | S90: =R90/Q90 -> 0.00224072 | T90: =R90/21 -> 0.038945848 | U90: KY0025810 | V90: 2.7017115 | W90: 30Q5 Flow | X90: 3.91794 | Y90: HM Flow | Z90: 2.1184567 | AA90: Plant Flow | AB90: 1.0577134 | AC90: 0.82937057 | AD90: 0.57191279 | AE90: 18.384066 | AF90: 14.41525 | AG90: 9.9403889 | AH90: =IF($AE90>$AJ$1,"YES","NO") -> NO
A91: 2019 | B91: PIKEVILLE WWTP | C91: PIKEVILLE | D91: PIKE | E91: KY | F91: 37.491857 | G91: -82.539703 | H91: 110006644872 | I91: 4952 | J91: Manufacturing Industries, Nec | K91: 339999 | L91: All Other Miscellaneous Manufacturing | M91: IS45 | N91: Miscellaneous Manufacturing | O91: Disposal to POTW | P91: Disposal to POTW (consistent with 1,1-DCA) | Q91: 365 | R91: 7.6501947 | S91: =R91/Q91 -> 0.020959438 | T91: =R91/21 -> 0.36429499 | U91: KY0025291 | V91: 1164.176 | W91: 30Q5 Flow | X91: 2321.866 | Y91: HM Flow | Z91: 795.30831 | AA91: 7Q10 Flow | AB91: 0.026353852 | AC91: 0.018003667 | AD91: 0.00902698 | AE91: 0.45805504 | AF91: 0.31292088 | AG91: 0.15689751 | AH91: =IF($AE91>$AJ$1,"YES","NO") -> NO
A92: 2020 | B92: IRVINE STP | C92: IRVINE | D92: ESTILL | E92: KY | F92: 37.700833 | G92: -83.984444 | H92: 110006749162 | I92: 8711 | J92: Civic and Social Associations | K92: 921150 | L92: American Indian and Alaska Native Tribal Governments | M92: IS47 | N92: Services | O92: Disposal to POTW | P92: Disposal to POTW (consistent with 1,1-DCA) | Q92: 365 | R92: 0.63481074 | S92: =R92/Q92 -> 0.0017392075 | T92: =R92/21 -> 0.030229083 | U92: KY0025909 | V92: 2246.9291 | W92: 30Q5 Flow | X92: 5637.3173 | Y92: HM Flow | Z92: 1570.9354 | AA92: 7Q10 Flow | AB92: 0.0011071159 | AC92: 0.00077403755 | AD92: 0.00030851687 | AE92: 0.019242728 | AF92: 0.01345351 | AG92: 0.0053623171 | AH92: =IF($AE92>$AJ$1,"YES","NO") -> NO
A93: 2020 | B93: WILLIAMSBURG STP | C93: WILLIAMSBURG | D93: WHITLEY | E93: KY | F93: 36.747222 | G93: -84.171944 | H93: 110006751737 | I93: 4952 | J93: Manufacturing Industries, Nec | K93: 339999 | L93: All Other Miscellaneous Manufacturing | M93: IS45 | N93: Miscellaneous Manufacturing | O93: Disposal to POTW | P93: Disposal to POTW (consistent with 1,1-DCA) | Q93: 365 | R93: 5.4673852 | S93: =R93/Q93 -> 0.014979138 | T93: =R93/21 -> 0.26035168 | U93: KY0028347 | V93: 1388.9315 | W93: 30Q5 Flow | X93: 3345.5643 | Y93: HM Flow | Z93: 954.7644 | AA93: 7Q10 Flow | AB93: 0.015688831 | AC93: 0.010784648 | AD93: 0.0044773127 | AE93: 0.27268683 | AF93: 0.18744745 | AG93: 0.077819959 | AH93: =IF($AE93>$AJ$1,"YES","NO") -> NO
A94: 2021 | B94: KAHALA HOTEL & RESORT | C94: HONOLULU | D94: HONOLULU | E94: HI | F94: 21.27167 | G94: -157.77396 | H94: 110006777210 | I94: NA | J94: #N/A | K94: #N/A | L94: #N/A | M94: NAICS/SIC Not Provided | N94: NAICS/SIC Not Provided | O94: Not mapped to OES | P94: Hotel and resort; no OES to map to. | Q94: 250 | R94: 6.7440745 | S94: =R94/Q94 -> 0.026976298 | T94: =R94/21 -> 0.32114641 | U94: HI0021890 | V94: NA | W94: Flow Lookup Failed | X94: NA | Y94: Flow Lookup Failed | Z94: NA | AA94: Flow Lookup Failed | AB94: 2 | AC94: 2 | AD94: 2 | AE94: 2 | AF94: 2 | AG94: 2 | AH94: =IF($AE94>$AJ$1,"YES","NO") -> NO
A95: 2022 | B95: ALOUN KAUAI FARMING LLC | C95: KEKAHA | D95: KAUAI | E95: HI | F95: 21.994944 | G95: -159.75364 | H95: 110006777247 | I95: 913 | J95: #N/A | K95: #N/A | L95: #N/A | M95: NAICS/SIC Not Provided | N95: NAICS/SIC Not Provided | O95: Not mapped to OES | P95: Facility is a farm growing fresh produce for sale; no OES to map to. | Q95: 250 | R95: 3.4399972 | S95: =R95/Q95 -> 0.013759989 | T95: =R95/21 -> 0.16380939 | U95: HI0021654 | V95: 15.027802 | W95: Flow Lookup Failed | X95: 15.027802 | Y95: Flow Lookup Failed | Z95: 15.027802 | AA95: Flow Lookup Failed | AB95: 0.91563548 | AC95: 0.91563548 | AD95: 0.91563548 | AE95: 10.900422 | AF95: 10.900422 | AG95: 10.900422 | AH95: =IF($AE95>$AJ$1,"YES","NO") -> NO
A96: 2021 | B96: NALCO PRODUCTION LLC - GARYVILLE FACILITY | C96: GARYVILLE | D96: ST. JOHN PARISH | E96: LA | F96: 30.048591 | G96: -90.630941 | H96: 110007015871 | I96: 2869 | J96: Industrial Organic Chemicals, Nec | K96: 325180 | L96: Other Basic Inorganic Chemical Manufacturing | M96: IS19 | N96: All Other Basic Inorganic Chemical Manufacturing | O96: Processing as a reactant | P96: NAICS OES Crosswalk | Q96: 350 | R96: 0.16571 | S96: =R96/Q96 -> 0.00047345714 | T96: =R96/21 -> 0.0078909524 | U96: LA0038890 | V96: 49.821563 | W96: Flow Lookup Failed | X96: 49.821563 | Y96: Flow Lookup Failed | Z96: 49.821563 | AA96: Flow Lookup Failed | AB96: 0.0095030569 | AC96: 0.0095030569 | AD96: 0.0095030569 | AE96: 0.15838428 | AF96: 0.15838428 | AG96: 0.15838428 | AH96: =IF($AE96>$AJ$1,"YES","NO") -> NO
A97: 2021 | B97: CHEMOURS-CHAMBERS WORKS | C97: PENNS GROVE | D97: SALEM | E97: NJ | F97: 39.69828 | G97: -75.503975 | H97: 110007970142 | I97: 2869 | J97: Industrial Organic Chemicals, Nec | K97: 325180 | L97: Other Basic Inorganic Chemical Manufacturing | M97: IS19 | N97: All Other Basic Inorganic Chemical Manufacturing | O97: Processing as a reactant | P97: NAICS OES Crosswalk | Q97: 350 | R97: 1.77 | S97: =R97/Q97 -> 0.0050571429 | T97: =R97/21 -> 0.084285714 | U97: NJ0005100 | V97: 236.8132 | W97: Plant Flow | X97: 236.8132 | Y97: Plant Flow | Z97: 236.8132 | AA97: Plant Flow | AB97: 0.021354987 | AC97: 0.021354987 | AD97: 0.021354987 | AE97: 0.35591646 | AF97: 0.35591646 | AG97: 0.35591646 | AH97: =IF($AE97>$AJ$1,"YES","NO") -> NO
A98: 2021 | B98: SASOL CHEM USA LLC/OIL CITY | C98: OIL CITY | D98: VENANGO | E98: PA | F98: 41.452778 | G98: -79.690278 | H98: 110008476327 | I98: 2865 | J98: Platemaking Services | K98: 323120 | L98: Support Activities for Printing | M98: IS10 | N98: Printing and Related Support Activities | O98: Processing as a reactant | P98: Chemical manufacturer; assumed processing as a reactant. | Q98: 350 | R98: 0.01077115 | S98: =R98/Q98 -> 3.0774714e-05 | T98: =R98/21 -> 0.0005129119 | U98: PA0103381 | V98: 551.69682 | W98: 30Q5 Flow | X98: 952.38333 | Y98: HM Flow | Z98: 367.11434 | AA98: 7Q10 Flow | AB98: 8.382869e-05 | AC98: 5.5781931e-05 | AD98: 3.2313369e-05 | AE98: 0.0013971448 | AF98: 0.00092969886 | AG98: 0.00053855616 | AH98: =IF($AE98>$AJ$1,"YES","NO") -> NO
A99: 2023 | B99: MARYLAND VILLAS APARTMENT COMPLEX | C99: LAS VEGAS | D99: CLARK COUNTY | E99: NV | F99: 36.17664 | G99: -115.12892 | H99: 110008995490 | I99: 6513 | J99: Communication Services, Nec | K99: 517810 | L99: All Other Telecommunications | M99: NAICS/SIC Not Provided | N99: NAICS/SIC Not Provided | O99: Not mapped to OES | P99: Apartment complex; no OES to map to. | Q99: 250 | R99: 0.25150663 | S99: =R99/Q99 -> 0.0010060265 | T99: =R99/21 -> 0.011976506 | U99: NV0023043 | V99: 1.5131834 | W99: Flow Lookup Failed | X99: 1.5131834 | Y99: Flow Lookup Failed | Z99: 1.5131834 | AA99: Flow Lookup Failed | AB99: 0.6648411 | AC99: 0.6648411 | AD99: 0.6648411 | AE99: 7.914775 | AF99: 7.914775 | AG99: 7.914775 | AH99: =IF($AE99>$AJ$1,"YES","NO") -> NO
A100: 2019 | B100: LOMPOC WASTEWATER PLANT | C100: LOMPOC | D100: SANTA BARBARA | E100: CA | F100: 34.66108 | G100: -120.48135 | H100: 110009547222 | I100: 4952 | J100: Manufacturing Industries, Nec | K100: 339999 | L100: All Other Miscellaneous Manufacturing | M100: IS45 | N100: Miscellaneous Manufacturing | O100: Disposal to POTW | P100: Disposal to POTW (consistent with 1,1-DCA) | Q100: 365 | R100: 1.0603204 | S100: =R100/Q100 -> 0.0029049875 | T100: =R100/21 -> 0.050491449 | U100: CA0048127 | V100: 11.894252 | W100: Plant Flow | X100: 11.894252 | Y100: Plant Flow | Z100: 11.894252 | AA100: Plant Flow | AB100: 0.24423457 | AC100: 0.24423457 | AD100: 0.24423457 | AE100: 4.2450295 | AF100: 4.2450295 | AG100: 4.2450295 | AH100: =IF($AE100>$AJ$1,"YES","NO") -> NO
A101: 2019 | B101: COLUMBIA/ADAIR COUNTY STP | C101: COLUMBIA | D101: ADAIR | E101: KY | F101: 37.108094 | G101: -85.303034 | H101: 110009696356 | I101: 4952 | J101: Manufacturing Industries, Nec | K101: 339999 | L101: All Other Miscellaneous Manufacturing | M101: IS45 | N101: Miscellaneous Manufacturing | O101: Disposal to POTW | P101: Disposal to POTW (consistent with 1,1-DCA) | Q101: 365 | R101: 4.641924 | S101: =R101/Q101 -> 0.0127176 | T101: =R101/21 -> 0.221044 | U101: KY0024317 | V101: 109.26406 | W101: 30Q5 Flow | X101: 237.51413 | Y101: HM Flow | Z101: 68.679123 | AA101: 7Q10 Flow | AB101: 0.18517418 | AC101: 0.11639326 | AD101: 0.053544604 | AE101: 3.2185035 | AF101: 2.0230257 | AG101: 0.93065621 | AH101: =IF($AE101>$AJ$1,"YES","NO") -> NO
A102: 2019 | B102: CLUB CAL NEVA | C102: RENO | D102: WASHOE COUNTY | E102: NV | F102: 39.52626 | G102: -119.81308 | H102: 110009830273 | I102: 7011 | J102: Communication Services, Nec | K102: 517810 | L102: All Other Telecommunications | M102: NAICS/SIC Not Provided | N102: NAICS/SIC Not Provided | O102: Not mapped to OES | P102: Facility is a casino; no OES to map to. | Q102: 250 | R102: 0.48152253 | S102: =R102/Q102 -> 0.0019260901 | T102: =R102/21 -> 0.022929644 | U102: NV0021067 | V102: NA | W102: Flow Lookup Failed | X102: NA | Y102: Flow Lookup Failed | Z102: NA | AA102: Flow Lookup Failed | AB102: 11.3 | AC102: 11.3 | AD102: 11.3 | AE102: 11.3 | AF102: 11.3 | AG102: 11.3 | AH102: =IF($AE102>$AJ$1,"YES","NO") -> NO
A103: 2021 | B103: JERRY L RILEY STP | C103: BARDSTOWN | D103: NELSON | E103: KY | F103: 37.78076 | G103: -85.510741 | H103: 110009933402 | I103: 4952 | J103: Manufacturing Industries, Nec | K103: 339999 | L103: All Other Miscellaneous Manufacturing | M103: IS45 | N103: Miscellaneous Manufacturing | O103: Disposal to POTW | P103: Disposal to POTW (consistent with 1,1-DCA) | Q103: 365 | R103: 1.6219104 | S103: =R103/Q103 -> 0.00444359 | T103: =R103/21 -> 0.077233826 | U103: KY0104027 | V103: 501.07824 | W103: 30Q5 Flow | X103: 1140.3324 | Y103: HM Flow | Z103: 332.30374 | AA103: 7Q10 Flow | AB103: 0.013372073 | AC103: 0.0088680562 | AD103: 0.0038967497 | AE103: 0.23241937 | AF103: 0.15413526 | AG103: 0.067729221 | AH103: =IF($AE103>$AJ$1,"YES","NO") -> NO
A104: 2019 | B104: RICHMOND SILVER CREEK STP | C104: BEREA | D104: MADISON | E104: KY | F104: 37.640973 | G104: -84.312661 | H104: 110009933484 | I104: 4952 | J104: Manufacturing Industries, Nec | K104: 339999 | L104: All Other Miscellaneous Manufacturing | M104: IS45 | N104: Miscellaneous Manufacturing | O104: Disposal to POTW | P104: Disposal to POTW (consistent with 1,1-DCA) | Q104: 365 | R104: 3.2327685 | S104: =R104/Q104 -> 0.0088569 | T104: =R104/21 -> 0.15394136 | U104: KY0103357 | V104: 56.511002 | W104: 30Q5 Flow | X104: 101.58289 | Y104: HM Flow | Z104: 34.705724 | AA104: 7Q10 Flow | AB104: 0.25519998 | AC104: 0.15672877 | AD104: 0.087188897 | AE104: 4.4356187 | AF104: 2.7240953 | AG104: 1.5154261 | AH104: =IF($AE104>$AJ$1,"YES","NO") -> NO
A105: 2019 | B105: GUTHRIE STP | C105: GUTHRIE | D105: TODD | E105: KY | F105: 36.64485 | G105: -87.18795 | H105: 110009937499 | I105: 4952 | J105: Manufacturing Industries, Nec | K105: 339999 | L105: All Other Miscellaneous Manufacturing | M105: IS45 | N105: Miscellaneous Manufacturing | O105: Disposal to POTW | P105: Disposal to POTW (consistent with 1,1-DCA) | Q105: 365 | R105: 1.0534128 | S105: =R105/Q105 -> 0.0028860625 | T105: =R105/21 -> 0.050162515 | U105: KY0063649 | V105: 13.821516 | W105: 30Q5 Flow | X105: 24.319795 | Y105: HM Flow | Z105: 8.0778586 | AA105: 7Q10 Flow | AB105: 0.35728064 | AC105: 0.2088094 | AD105: 0.11867133 | AE105: 6.2098778 | AF105: 3.6293063 | AG105: 2.0626208 | AH105: =IF($AE105>$AJ$1,"YES","NO") -> NO
A106: 2019 | B106: BURKESVILLE WWTP | C106: BURKESVILLE | D106: CUMBERLAND | E106: KY | F106: 36.78726 | G106: -85.36924 | H106: 110009938265 | I106: 4952 | J106: Manufacturing Industries, Nec | K106: 339999 | L106: All Other Miscellaneous Manufacturing | M106: IS45 | N106: Miscellaneous Manufacturing | O106: Disposal to POTW | P106: Disposal to POTW (consistent with 1,1-DCA) | Q106: 365 | R106: 0.31346802 | S106: =R106/Q106 -> 0.0008588165 | T106: =R106/21 -> 0.014927049 | U106: KY0036854 | V106: 12155.455 | W106: 30Q5 Flow | X106: 21451.031 | Y106: HM Flow | Z106: 9018.7878 | AA106: 7Q10 Flow | AB106: 9.522527e-05 | AC106: 7.0652766e-05 | AD106: 4.0036141e-05 | AE106: 0.0016551059 | AF106: 0.0012280124 | AG106: 0.00069586625 | AH106: =IF($AE106>$AJ$1,"YES","NO") -> NO
A107: 2021 | B107: RED RIVER WWTP | C107: STANTON | D107: POWELL | E107: KY | F107: 37.861111 | G107: -83.871667 | H107: 110009938470 | I107: 4952 | J107: Manufacturing Industries, Nec | K107: 339999 | L107: All Other Miscellaneous Manufacturing | M107: IS45 | N107: Miscellaneous Manufacturing | O107: Disposal to POTW | P107: Site Name is WWTP | Q107: 365 | R107: 3.9718844 | S107: =R107/Q107 -> 0.010881875 | T107: =R107/21 -> 0.18913735 | U107: KY0034428 | V107: 3.2382124 | W107: Plant Flow | X107: 3.2382124 | Y107: Plant Flow | Z107: 3.2382124 | AA107: Plant Flow | AB107: 3.3604574 | AC107: 3.3604574 | AD107: 3.3604574 | AE107: 58.407951 | AF107: 58.407951 | AG107: 58.407951 | AH107: =IF($AE107>$AJ$1,"YES","NO") -> NO
A108: 2019 | B108: EDDYVILLE STP | C108: EDDYVILLE | D108: LYON | E108: KY | F108: 37.075278 | G108: -88.09 | H108: 110009938719 | I108: 4952 | J108: Manufacturing Industries, Nec | K108: 339999 | L108: All Other Miscellaneous Manufacturing | M108: IS45 | N108: Miscellaneous Manufacturing | O108: Disposal to POTW | P108: Disposal to POTW (consistent with 1,1-DCA) | Q108: 365 | R108: 1.8616049 | S108: =R108/Q108 -> 0.0051002875 | T108: =R108/21 -> 0.088647854 | U108: KY0027979 | V108: 3.3838631 | W108: 30Q5 Flow | X108: 5.455464 | Y108: HM Flow | Z108: 1.8820932 | AA108: 7Q10 Flow | AB108: 2.7099017 | AC108: 1.5072381 | AD108: 0.93489527 | AE108: 47.100672 | AF108: 26.197234 | AG108: 16.24937 | AH108: =IF($AE108>$AJ$1,"YES","NO") -> NO
A109: 2019 | B109: KENTUCKY AMERICAN WATER CO - NORTHERN STP | C109: OWENTON | D109: OWEN | E109: KY | F109: 38.542222 | G109: -84.831944 | H109: 110009938737 | I109: 4952 | J109: Manufacturing Industries, Nec | K109: 339999 | L109: All Other Miscellaneous Manufacturing | M109: IS45 | N109: Miscellaneous Manufacturing | O109: Disposal to POTW | P109: Disposal to POTW (consistent with 1,1-DCA) | Q109: 365 | R109: 0.65795128 | S109: =R109/Q109 -> 0.0018026062 | T109: =R109/21 -> 0.031331013 | U109: KY0028312 | V109: 4.2347188 | W109: 30Q5 Flow | X109: 6.489101 | Y109: HM Flow | Z109: 2.374006 | AA109: 7Q10 Flow | AB109: 0.75930989 | AC109: 0.42567318 | AD109: 0.27778983 | AE109: 13.197529 | AF109: 7.3986054 | AG109: 4.8282518 | AH109: =IF($AE109>$AJ$1,"YES","NO") -> NO
A110: 2019 | B110: MANCHESTER STP | C110: MANCHESTER | D110: CLAY | E110: KY | F110: 37.177222 | G110: -83.761389 | H110: 110009938808 | I110: 4952 | J110: Manufacturing Industries, Nec | K110: 339999 | L110: All Other Miscellaneous Manufacturing | M110: IS45 | N110: Miscellaneous Manufacturing | O110: Disposal to POTW | P110: Disposal to POTW (consistent with 1,1-DCA) | Q110: 365 | R110: 3.4469049 | S110: =R110/Q110 -> 0.009443575 | T110: =R110/21 -> 0.16413833 | U110: KY0029122 | V110: 141.92421 | W110: 30Q5 Flow | X110: 342.97517 | Y110: HM Flow | Z110: 90.033031 | AA110: 7Q10 Flow | AB110: 0.10489012 | AC110: 0.066539566 | AD110: 0.027534281 | AE110: 1.8230901 | AF110: 1.156521 | AG110: 0.47857203 | AH110: =IF($AE110>$AJ$1,"YES","NO") -> NO
A111: 2019 | B111: PORTOLA WWTP | C111: PORTOLA | D111: PLUMAS | E111: CA | F111: 39.80548 | G111: -120.47149 | H111: 110010058757 | I111: 4952 | J111: Manufacturing Industries, Nec | K111: 339999 | L111: All Other Miscellaneous Manufacturing | M111: IS45 | N111: Miscellaneous Manufacturing | O111: Disposal to POTW | P111: Disposal to POTW (consistent with 1,1-DCA) | Q111: 365 | R111: 0.008081921 | S111: =R111/Q111 -> 2.2142249e-05 | T111: =R111/21 -> 0.00038485338 | U111: CA0077844 | V111: 164.67237 | W111: 30Q5 Flow | X111: 392.65566 | Y111: HM Flow | Z111: 105.01197 | AA111: 7Q10 Flow | AB111: 0.00021085453 | AC111: 0.00013446244 | AD111: 5.639101e-05 | AE111: 0.0036648526 | AF111: 0.0023370853 | AG111: 0.00098012946 | AH111: =IF($AE111>$AJ$1,"YES","NO") -> NO
A112: 2022 | B112: LOLETA WWTF | C112: LOLETA | D112: HUMBOLDT | E112: CA | F112: 40.6383 | G112: -124.22553 | H112: 110010059649 | I112: 4952 | J112: Manufacturing Industries, Nec | K112: 339999 | L112: All Other Miscellaneous Manufacturing | M112: IS45 | N112: Miscellaneous Manufacturing | O112: Disposal to POTW | P112: City of Loleta WWT | Q112: 365 | R112: 0.068385488 | S112: =R112/Q112 -> 0.0001873575 | T112: =R112/21 -> 0.0032564518 | U112: CA0023671 | V112: 0.74816626 | W112: 30Q5 Flow | X112: 2.2748446 | Y112: HM Flow | Z112: 0.39459889 | AA112: 7Q10 Flow | AB112: 0.47480494 | AC112: 0.25042228 | AD112: 0.082360572 | AE112: 8.252562 | AF112: 4.3525777 | AG112: 1.4315052 | AH112: =IF($AE112>$AJ$1,"YES","NO") -> NO
A113: 2022 | B113: WAILUA WASTEWATER TREATMENT PLANT | C113: KAPAA | D113: KAUAI | E113: HI | F113: 22.079093 | G113: -159.35139 | H113: 110010731262 | I113: 4952 | J113: Manufacturing Industries, Nec | K113: 339999 | L113: All Other Miscellaneous Manufacturing | M113: IS45 | N113: Miscellaneous Manufacturing | O113: Disposal to POTW | P113: Disposal to POTW (consistent with 1,1-DCA) | Q113: 365 | R113: 0.21862633 | S113: =R113/Q113 -> 0.00059897625 | T113: =R113/21 -> 0.010410778 | U113: HI0020257 | V113: 1.7439438 | W113: Flow Lookup Failed | X113: 1.7439438 | Y113: Flow Lookup Failed | Z113: 1.7439438 | AA113: Flow Lookup Failed | AB113: 0.34346074 | AC113: 0.34346074 | AD113: 0.34346074 | AE113: 5.9696748 | AF113: 5.9696748 | AG113: 5.9696748 | AH113: =IF($AE113>$AJ$1,"YES","NO") -> NO
A114: 2021 | B114: JACKSON WWTP | C114: JACKSON | D114: AMADOR | E114: CA | F114: 38.3333 | G114: -120.7833 | H114: 110011373637 | I114: 4952 | J114: Manufacturing Industries, Nec | K114: 339999 | L114: All Other Miscellaneous Manufacturing | M114: IS45 | N114: Miscellaneous Manufacturing | O114: Disposal to POTW | P114: Site Name is WWTP | Q114: 365 | R114: 0.13427666 | S114: =R114/Q114 -> 0.00036788126 | T114: =R114/21 -> 0.0063941267 | U114: CA0079391 | V114: 2.0831491 | W114: Plant Flow | X114: 2.0831491 | Y114: Plant Flow | Z114: 2.0831491 | AA114: Plant Flow | AB114: 0.17659862 | AC114: 0.17659862 | AD114: 0.17659862 | AE114: 3.0694522 | AF114: 3.0694522 | AG114: 3.0694522 | AH114: =IF($AE114>$AJ$1,"YES","NO") -> NO
A115: 2023 | B115: LARIMER ENERGY FACILITY | C115: FORT COLLINS | D115: LARIMER | E115: CO | F115: 40.49682 | G115: -105.11552 | H115: 110012150858 | I115: 4953 | J115: Manufacturing Industries, Nec | K115: 339999 | L115: All Other Miscellaneous Manufacturing | M115: IS45 | N115: Miscellaneous Manufacturing | O115: Not mapped to OES | P115: Solar energy project; no OES to map to. | Q115: 250 | R115: 0.002470249 | S115: =R115/Q115 -> 9.880996e-06 | T115: =R115/21 -> 0.0001176309 | U115: CO0049056 | V115: NA | W115: Permit Lookup Failed | X115: NA | Y115: NA | Z115: NA | AA115: Permit Lookup Failed | AB115: 0.7 | AC115: 0.7 | AD115: 0.7 | AE115: 0.7 | AF115: 0.7 | AG115: 0.7 | AH115: =IF($AE115>$AJ$1,"YES","NO") -> NO
A116: 2020 | B116: CITY OF SAFFORD - GILA RESOURCES WRP | C116: SAFFORD | D116: GRAHAM | E116: AZ | F116: 32.802 | G116: -109.711 | H116: 110012330520 | I116: NA | J116: #N/A | K116: #N/A | L116: #N/A | M116: NAICS/SIC Not Provided | N116: NAICS/SIC Not Provided | O116: Disposal to POTW | P116: Disposal to POTW (consistent with 1,1-DCA) | Q116: 365 | R116: 0.28321262 | S116: =R116/Q116 -> 0.000775925 | T116: =R116/21 -> 0.013486315 | U116: AZ0024911 | V116: 2.6947274 | W116: Flow Lookup Failed | X116: 2.6947274 | Y116: Flow Lookup Failed | Z116: 2.6947274 | AA116: Flow Lookup Failed | AB116: 0.28794193 | AC116: 0.28794193 | AD116: 0.28794193 | AE116: 5.0047049 | AF116: 5.0047049 | AG116: 5.0047049 | AH116: =IF($AE116>$AJ$1,"YES","NO") -> NO
A117: 2023 | B117: COUNTRY LIFE MH & RV PARK | C117: EL CENTRO | D117: IMPERIAL | E117: CA | F117: 32.78149 | G117: -115.5035 | H117: 110012876557 | I117: 6515 | J117: Communication Services, Nec | K117: 517810 | L117: All Other Telecommunications | M117: NAICS/SIC Not Provided | N117: NAICS/SIC Not Provided | O117: Not mapped to OES | P117: RV park; no OES to map to. | Q117: 250 | R117: 0.007943769 | S117: =R117/Q117 -> 3.1775076e-05 | T117: =R117/21 -> 0.00037827471 | U117: CA0104264 | V117: 0.084170826 | W117: Flow Lookup Failed | X117: 0.084170826 | Y117: Flow Lookup Failed | Z117: 0.084170826 | AA117: Flow Lookup Failed | AB117: 0.377507 | AC117: 0.377507 | AD117: 0.377507 | AE117: 4.4941309 | AF117: 4.4941309 | AG117: 4.4941309 | AH117: =IF($AE117>$AJ$1,"YES","NO") -> NO
A118: 2023 | B118: DATE GARDENS MOBILE HOME PARK | C118: EL CENTRO | D118: IMPERIAL | E118: CA | F118: 32.796432 | G118: -115.66776 | H118: 110013128169 | I118: 4952 | J118: Manufacturing Industries, Nec | K118: 339999 | L118: All Other Miscellaneous Manufacturing | M118: IS45 | N118: Miscellaneous Manufacturing | O118: Not mapped to OES | P118: Mobile home complex; no OES to map to. | Q118: 250 | R118: 0.002072288 | S118: =R118/Q118 -> 8.289152e-06 | T118: =R118/21 -> 9.8680381e-05 | U118: CA0104841 | V118: 0.075659169 | W118: Flow Lookup Failed | X118: 0.075659169 | Y118: Flow Lookup Failed | Z118: 0.075659169 | AA118: Flow Lookup Failed | AB118: 0.10955912 | AC118: 0.10955912 | AD118: 0.10955912 | AE118: 1.3042752 | AF118: 1.3042752 | AG118: 1.3042752 | AH118: =IF($AE118>$AJ$1,"YES","NO") -> NO
A119: 2023 | B119: SOLVAY SOLEXIS INC | C119: THOROFARE | D119: GLOUCESTER | E119: NJ | F119: 39.845474 | G119: -75.209486 | H119: 110013317614 | I119: 2821 | J119: Platemaking Services | K119: 323120 | L119: Support Activities for Printing | M119: IS10 | N119: Printing and Related Support Activities | O119: Not mapped to OES | P119: Chemical manufacturer; assumed processing as a reactant. | Q119: 350 | R119: 0.0366616 | S119: =R119/Q119 -> 0.00010474743 | T119: =R119/21 -> 0.0017457905 | U119: NJ0005185 | V119: 1.6259169 | W119: 30Q5 Flow | X119: 1.6542269 | Y119: HM Flow | Z119: 1.551013 | AA119: Plant Flow | AB119: 0.067534851 | AC119: 0.064423606 | AD119: 0.063321077 | AE119: 1.1255808 | AF119: 1.0737268 | AG119: 1.0553513 | AH119: =IF($AE119>$AJ$1,"YES","NO") -> NO
A120: 2021 | B120: HAWAII COUNTY HILO WWTP | C120: HILO | D120: HAWAII | E120: HI | F120: 19.71375 | G120: -155.01928 | H120: 110013786698 | I120: 4952 | J120: Manufacturing Industries, Nec | K120: 339999 | L120: All Other Miscellaneous Manufacturing | M120: IS45 | N120: Miscellaneous Manufacturing | O120: Disposal to POTW | P120: Site Name is WWTP | Q120: 365 | R120: 2.3057652 | S120: =R120/Q120 -> 0.006317165 | T120: =R120/21 -> 0.10979834 | U120: HI0021377 | V120: 11.916319 | W120: Flow Lookup Failed | X120: 11.916319 | Y120: Flow Lookup Failed | Z120: 11.916319 | AA120: Flow Lookup Failed | AB120: 0.53012721 | AC120: 0.53012721 | AD120: 0.53012721 | AE120: 9.2141158 | AF120: 9.2141158 | AG120: 9.2141158 | AH120: =IF($AE120>$AJ$1,"YES","NO") -> NO
A121: 2019 | B121: SANTA CRUZ WASTEWATER TREATMENT PLANT | C121: SANTA CRUZ | D121: SANTA CRUZ | E121: CA | F121: 36.963246 | G121: -122.03401 | H121: 110013848453 | I121: 4952 | J121: Manufacturing Industries, Nec | K121: 339999 | L121: All Other Miscellaneous Manufacturing | M121: IS45 | N121: Miscellaneous Manufacturing | O121: Disposal to POTW | P121: Disposal to POTW (consistent with 1,1-DCA) | Q121: 365 | R121: 1.4856314 | S121: =R121/Q121 -> 0.0040702231 | T121: =R121/21 -> 0.070744354 | U121: CA0048194 | V121: 31.861967 | W121: Coastal | X121: 31.861967 | Y121: Coastal | Z121: 31.861967 | AA121: Coastal | AB121: 0.1277455 | AC121: 0.1277455 | AD121: 0.1277455 | AE121: 2.2203385 | AF121: 2.2203385 | AG121: 2.2203385 | AH121: =IF($AE121>$AJ$1,"YES","NO") -> NO
A122: 2019 | B122: CARROLLTON REGIONAL WWTP | C122: CARROLLTON | D122: CARROLL | E122: KY | F122: 38.627778 | G122: -85.115833 | H122: 110015632216 | I122: 4952 | J122: Manufacturing Industries, Nec | K122: 339999 | L122: All Other Miscellaneous Manufacturing | M122: IS45 | N122: Miscellaneous Manufacturing | O122: Disposal to POTW | P122: Disposal to POTW (consistent with 1,1-DCA) | Q122: 365 | R122: 5.8714813 | S122: =R122/Q122 -> 0.01608625 | T122: =R122/21 -> 0.27959435 | U122: KY0104931 | V122: 6300.4792 | W122: 30Q5 Flow | X122: 14278.185 | Y122: HM Flow | Z122: 4567.7733 | AA122: 7Q10 Flow | AB122: 0.0035216831 | AC122: 0.0025531788 | AD122: 0.0011266313 | AE122: 0.061210206 | AF122: 0.044376679 | AG122: 0.019581925 | AH122: =IF($AE122>$AJ$1,"YES","NO") -> NO
A123: 2020 | B123: CAESAR'S PALACE (257) | C123: LAS VEGAS | D123: CLARK | E123: NV | F123: 36.116161 | G123: -115.17274 | H123: 110015972562 | I123: 7011 | J123: Communication Services, Nec | K123: 517810 | L123: All Other Telecommunications | M123: NAICS/SIC Not Provided | N123: NAICS/SIC Not Provided | O123: Not mapped to OES | P123: Facility is a hotel in Las Vegas; no OES to map to. | Q123: 250 | R123: 0.28724449 | S123: =R123/Q123 -> 0.001148978 | T123: =R123/21 -> 0.013678309 | U123: NV0023191 | V123: 1.7750611 | W123: 30Q5 Flow | X123: 2.5050787 | Y123: HM Flow | Z123: 1.634238 | AA123: Plant Flow | AB123: 0.70306647 | AC123: 0.64728924 | AD123: 0.45865943 | AE123: 8.3698389 | AF123: 7.7058243 | AG123: 5.4602313 | AH123: =IF($AE123>$AJ$1,"YES","NO") -> NO
A124: 2019 | B124: NORTHERN MADISON COUNTY SANITATION DISTRICT | C124: RICHMOND | D124: MADISON | E124: KY | F124: 37.85222 | G124: -84.36308 | H124: 110016759444 | I124: 4952 | J124: Manufacturing Industries, Nec | K124: 339999 | L124: All Other Miscellaneous Manufacturing | M124: IS45 | N124: Miscellaneous Manufacturing | O124: Disposal to POTW | P124: Disposal to POTW (consistent with 1,1-DCA) | Q124: 365 | R124: 0.97397513 | S124: =R124/Q124 -> 0.002668425 | T124: =R124/21 -> 0.046379768 | U124: KY0105376 | V124: 3465.9511 | W124: 30Q5 Flow | X124: 8097.3612 | Y124: HM Flow | Z124: 2460.465 | AA124: 7Q10 Flow | AB124: 0.0010845206 | AC124: 0.0007698969 | AD124: 0.00032954254 | AE124: 0.018850001 | AF124: 0.013381541 | AG124: 0.0057277632 | AH124: =IF($AE124>$AJ$1,"YES","NO") -> NO
A125: 2019 | B125: VOPAK TERMINAL LONG BEACH INC | C125: SAN PEDRO | D125: LOS ANGELES | E125: CA | F125: 33.76235 | G125: -118.24178 | H125: 110017217545 | I125: 5171 | J125: Chemicals and Allied Products, Nec | K125: 425120 | L125: Wholesale Trade Agents and Brokers | M125: IS46 | N125: Wholesale and Retail Trade | O125: Repackaging | P125: Vopak is a storage and distribution company | Q125: 250 | R125: 0.008517102 | S125: =R125/Q125 -> 3.4068408e-05 | T125: =R125/21 -> 0.00040557629 | U125: CA0064165 | V125: 0.046381592 | W125: Coastal | X125: 0.046381592 | Y125: Coastal | Z125: 0.046381592 | AA125: Coastal | AB125: 0.73452434 | AC125: 0.73452434 | AD125: 0.73452434 | AE125: 8.7443374 | AF125: 8.7443374 | AG125: 8.7443374 | AH125: =IF($AE125>$AJ$1,"YES","NO") -> NO
A126: 2020 | B126: LAS VEGAS ACADEMY | C126: LAS VEGAS | D126: CLARK | E126: NV | F126: 36.16478 | G126: -115.14067 | H126: 110017237373 | I126: 8211 | J126: Amusement and Recreation, Nec | K126: 812990 | L126: All Other Personal Services | M126: IS47 | N126: Services | O126: Not mapped to OES | P126: Apartment complex; no OES to map to. | Q126: 250 | R126: 0.003350198 | S126: =R126/Q126 -> 1.3400792e-05 | T126: =R126/21 -> 0.00015953324 | U126: NV0023485 | V126: 0.37829584 | W126: Flow Lookup Failed | X126: 0.37829584 | Y126: Flow Lookup Failed | Z126: 0.37829584 | AA126: Flow Lookup Failed | AB126: 0.035424106 | AC126: 0.035424106 | AD126: 0.035424106 | AE126: 0.42171555 | AF126: 0.42171555 | AG126: 0.42171555 | AH126: =IF($AE126>$AJ$1,"YES","NO") -> NO
A127: 2019 | B127: FUTUREFUEL CHEMICAL COMPANY | C127: BATESVILLE | D127: INDEPENDENCE COUNTY | E127: AR | F127: 35.722342 | G127: -91.524983 | H127: 110017432937 | I127: 2865 | J127: Platemaking Services | K127: 323120 | L127: Support Activities for Printing | M127: IS10 | N127: Printing and Related Support Activities | O127: Processing as a reactant | P127: Specialty chemical and biodiesel manufacturer. | Q127: 350 | R127: 5.80666 | S127: =R127/Q127 -> 0.016590457 | T127: =R127/21 -> 0.27650762 | U127: AR0035386 | V127: 15544.046 | W127: 30Q5 Flow | X127: 27046.122 | Y127: HM Flow | Z127: 11633.226 | AA127: 7Q10 Flow | AB127: 0.001426127 | AC127: 0.0010673191 | AD127: 0.00061341353 | AE127: 0.023768783 | AF127: 0.017788651 | AG127: 0.010223559 | AH127: =IF($AE127>$AJ$1,"YES","NO") -> NO
A128: 2021 | B128: IMTT-ILLINOIS LLC | C128: LEMONT | D128: COOK | E128: IL | F128: 41.692782 | G128: -87.951101 | H128: 110018199377 | I128: 4226 | J128: Manufacturing Industries, Nec | K128: 339999 | L128: All Other Miscellaneous Manufacturing | M128: IS45 | N128: Miscellaneous Manufacturing | O128: Repackaging | P128: Facility provides bulk liquid storage. Could be repackaging but also potentially "Distribution in Commerce". | Q128: 250 | R128: 427.35197 | S128: =R128/Q128 -> 1.7094079 | T128: =R128/21 -> 20.350094 | U128: IL0005126 | V128: 654.08313 | W128: 30Q5 Flow | X128: 948.76647 | Y128: HM Flow | Z128: 437.86097 | AA128: 7Q10 Flow | AB128: 3.9039969 | AC128: 2.6134413 | AD128: 1.8017162 | AE128: 46.476154 | AF128: 31.112397 | AG128: 21.449002 | AH128: =IF($AE128>$AJ$1,"YES","NO") -> NO
... A153: 2019 | B153: MOUNT STERLING HINKSTON CREEK STP | C153: MT STERLING | D153: MONTGOMERY | E153: KY | F153: 38.101582 | G153: -83.919771 | H153: 110039705361 | I153: 4952 | J153: Manufacturing Industries, Nec | K153: 339999 | L153: All Other Miscellaneous Manufacturing | M153: IS45 | N153: Miscellaneous Manufacturing | O153: Disposal to POTW | P153: Disposal to POTW (consistent with 1,1-DCA) | Q153: 365 | R153: 11.086738 | S153: =R153/Q153 -> 0.030374625 | T153: =R153/21 -> 0.52793991 | U153: KY0104400 | V153: 14.696822 | W153: 30Q5 Flow | X153: 24.597262 | Y153: HM Flow | Z153: 8.6080086 | AA153: 7Q10 Flow | AB153: 3.5286471 | AC153: 2.0667479 | AD153: 1.2348783 | AE153: 61.331248 | AF153: 35.922047 | AG153: 21.463361 | AH153: =IF($AE153>$AJ$1,"YES","NO") -> NO
A154: 2021 | B154: HANGTOWN CREEK WWTP | C154: PLACERVILLE | D154: EL DORADO | E154: CA | F154: 38.730833 | G154: -120.84667 | H154: 110039757992 | I154: 4952 | J154: Manufacturing Industries, Nec | K154: 339999 | L154: All Other Miscellaneous Manufacturing | M154: IS45 | N154: Miscellaneous Manufacturing | O154: Disposal to POTW | P154: Disposal to POTW (consistent with 1,1-DCA) | Q154: 365 | R154: 0.071705462 | S154: =R154/Q154 -> 0.00019645332 | T154: =R154/21 -> 0.0034145458 | U154: CAC439621 | V154: NA | W154: Permit Lookup Failed | X154: NA | Y154: NA | Z154: NA | AA154: Permit Lookup Failed | AB154: 0.066 | AC154: 0.066 | AD154: 0.066 | AE154: 0.066 | AF154: 0.066 | AG154: 0.066 | AH154: =IF($AE154>$AJ$1,"YES","NO") -> NO
A155: 2021 | B155: WOODLAND WPCF | C155: WOODLAND | D155: YOLO | E155: CA | F155: 38.66215 | G155: -121.71407 | H155: 110039782349 | I155: 4952 | J155: Manufacturing Industries, Nec | K155: 339999 | L155: All Other Miscellaneous Manufacturing | M155: IS45 | N155: Miscellaneous Manufacturing | O155: Disposal to POTW | P155: Disposal to POTW (consistent with 1,1-DCA) | Q155: 365 | R155: 0.32078026 | S155: =R155/Q155 -> 0.00087885004 | T155: =R155/21 -> 0.015275251 | U155: CA0077950 | V155: 14.138807 | W155: Flow Lookup Failed | X155: 14.138807 | Y155: Flow Lookup Failed | Z155: 14.138807 | AA155: Flow Lookup Failed | AB155: 0.062158712 | AC155: 0.062158712 | AD155: 0.062158712 | AE155: 1.0803776 | AF155: 1.0803776 | AG155: 1.0803776 | AH155: =IF($AE155>$AJ$1,"YES","NO") -> NO
A156: 2022 | B156: MANTECA WWQCF | C156: MANTECA | D156: SAN JOAQUIN | E156: CA | F156: 37.79559 | G156: -121.26001 | H156: 110039801462 | I156: 4952 | J156: Manufacturing Industries, Nec | K156: 339999 | L156: All Other Miscellaneous Manufacturing | M156: IS45 | N156: Miscellaneous Manufacturing | O156: Disposal to POTW | P156: City of Manteca WWT | Q156: 365 | R156: 0.27096563 | S156: =R156/Q156 -> 0.00074237158 | T156: =R156/21 -> 0.012903125 | U156: CA0081558 | V156: 4954.0391 | W156: 30Q5 Flow | X156: 8930.0772 | Y156: HM Flow | Z156: 3561.3529 | AA156: 7Q10 Flow | AB156: 0.00020845212 | AC156: 0.00014985178 | AD156: 8.3131597e-05 | AE156: 0.0036230964 | AF156: 0.0026045667 | AG156: 0.0014449063 | AH156: =IF($AE156>$AJ$1,"YES","NO") -> NO
A157: 2022 | B157: FRANKLIN TWP SEW AUTH STP | C157: WAYNESBURG | D157: GREENE | E157: PA | F157: 39.90495 | G157: -80.15044 | H157: 110039840740 | I157: 4952 | J157: Manufacturing Industries, Nec | K157: 339999 | L157: All Other Miscellaneous Manufacturing | M157: IS45 | N157: Miscellaneous Manufacturing | O157: Disposal to POTW | P157: STP assumed to be Disposal to POTW (based on 1,1-DCA mapping) | Q157: 365 | R157: 358.70799 | S157: =R157/Q157 -> 0.98276163 | T157: =R157/21 -> 17.081333 | U157: PA0046426 | V157: 91.154034 | W157: 30Q5 Flow | X157: 187.13093 | Y157: HM Flow | Z157: 56.931551 | AA157: 7Q10 Flow | AB157: 17.262162 | AC157: 10.781329 | AD157: 5.2517326 | AE157: 300.03281 | AF157: 187.38977 | AG157: 91.280115 | AH157: =IF($AE157>$AJ$1,"YES","NO") -> NO
A158: 2021 | B158: HOPKINSVILLE HAMMOND WOOD STP | C158: HOPKINSVILLE | D158: CHRISTIAN | E158: KY | F158: 36.803611 | G158: -87.516389 | H158: 110039994897 | I158: 4952 | J158: Manufacturing Industries, Nec | K158: 339999 | L158: All Other Miscellaneous Manufacturing | M158: IS45 | N158: Miscellaneous Manufacturing | O158: Disposal to POTW | P158: Disposal to POTW (consistent with 1,1-DCA) | Q158: 365 | R158: 13.051957 | S158: =R158/Q158 -> 0.035758788 | T158: =R158/21 -> 0.62152178 | U158: KY0066532 | V158: 51.481663 | W158: 30Q5 Flow | X158: 103.81646 | Y158: HM Flow | Z158: 31.513435 | AA158: 7Q10 Flow | AB158: 1.1347156 | AC158: 0.69459271 | AD158: 0.34444237 | AE158: 19.722438 | AF158: 12.072683 | AG158: 5.9867364 | AH158: =IF($AE158>$AJ$1,"YES","NO") -> NO
A159: 2020 | B159: RWRA MAX RHOADS WWTP | C159: OWENSBORO | D159: DAVIESS | E159: KY | F159: 37.790278 | G159: -87.140278 | H159: 110039998214 | I159: 4952 | J159: Manufacturing Industries, Nec | K159: 339999 | L159: All Other Miscellaneous Manufacturing | M159: IS45 | N159: Miscellaneous Manufacturing | O159: Disposal to POTW | P159: Disposal to POTW (consistent with 1,1-DCA) | Q159: 365 | R159: 49.955944 | S159: =R159/Q159 -> 0.1368656 | T159: =R159/21 -> 2.3788545 | U159: KY0020095 | V159: 104853.23 | W159: 30Q5 Flow | X159: 243042.78 | Y159: HM Flow | Z159: 83926.537 | AA159: 7Q10 Flow | AB159: 0.0016307786 | AC159: 0.0013053065 | AD159: 0.00056313378 | AE159: 0.028344485 | AF159: 0.02268747 | AG159: 0.0097878014 | AH159: =IF($AE159>$AJ$1,"YES","NO") -> NO
A160: 2020 | B160: BEREA MUNICIPAL UTILITIES WWTP | C160: BEREA | D160: MADISON | E160: KY | F160: 37.608496 | G160: -84.287074 | H160: 110040000398 | I160: 4952 | J160: Manufacturing Industries, Nec | K160: 339999 | L160: All Other Miscellaneous Manufacturing | M160: IS45 | N160: Miscellaneous Manufacturing | O160: Disposal to POTW | P160: Disposal to POTW (consistent with 1,1-DCA) | Q160: 365 | R160: 2.8480138 | S160: =R160/Q160 -> 0.0078027775 | T160: =R160/21 -> 0.1356197 | U160: KY0079898 | V160: 36.635697 | W160: 30Q5 Flow | X160: 64.721419 | Y160: HM Flow | Z160: 22.158834 | AA160: 7Q10 Flow | AB160: 0.35212943 | AC160: 0.21298291 | AD160: 0.12055943 | AE160: 6.1203448 | AF160: 3.7018459 | AG160: 2.0954378 | AH160: =IF($AE160>$AJ$1,"YES","NO") -> NO
A161: 2020 | B161: PHILLIPS 66 BAYWAY REFINERY | C161: LINDEN | D161: UNION | E161: NJ | F161: 40.640135 | G161: -74.21888 | H161: 110041133163 | I161: 2911 | J161: Explosives | K161: 325920 | L161: Explosives Manufacturing | M161: IS31 | N161: Explosives Manufacturing | O161: Processing as a reactant | P161: Petroleum refinery; assumed processing as a reactant. | Q161: 350 | R161: 2.305 | S161: =R161/Q161 -> 0.0065857143 | T161: =R161/21 -> 0.1097619 | U161: NJ0001511 | V161: 1403.4776 | W161: Plant Flow | X161: 1403.4776 | Y161: Plant Flow | Z161: 1403.4776 | AA161: Plant Flow | AB161: 0.0046924257 | AC161: 0.0046924257 | AD161: 0.0046924257 | AE161: 0.078207095 | AF161: 0.078207095 | AG161: 0.078207095 | AH161: =IF($AE161>$AJ$1,"YES","NO") -> NO
A162: 2023 | B162: RESORTS WORLD LAS VEGAS | C162: LAS VEGAS | D162: CLARK | E162: NV | F162: 36.13257 | G162: -115.16477 | H162: 110041253256 | I162: 7011 | J162: Communication Services, Nec | K162: 517810 | L162: All Other Telecommunications | M162: NAICS/SIC Not Provided | N162: NAICS/SIC Not Provided | O162: Not mapped to OES | P162: Facility is a hotel; no OES to map to. | Q162: 250 | R162: 0.1271003 | S162: =R162/Q162 -> 0.0005084012 | T162: =R162/21 -> 0.0060523952 | U162: NV0023621 | V162: 1.7750611 | W162: 30Q5 Flow | X162: 2.5050787 | Y162: HM Flow | Z162: 1.6266721 | AA162: Plant Flow | AB162: 0.31254067 | AC162: 0.28641335 | AD162: 0.2029482 | AE162: 3.7207223 | AF162: 3.4096827 | AG162: 2.4160499 | AH162: =IF($AE162>$AJ$1,"YES","NO") -> NO
A163: 2021 | B163: US MARINE CORPS BASE HAWAII | C163: M C B H KANEOHE BAY | D163: HONOLULU | E163: HI | F163: 21.438639 | G163: -157.75847 | H163: 110041973460 | I163: 4952 | J163: Manufacturing Industries, Nec | K163: 339999 | L163: All Other Miscellaneous Manufacturing | M163: IS45 | N163: Miscellaneous Manufacturing | O163: Disposal to POTW | P163: Disposal to POTW (consistent with 1,1-DCA) | Q163: 365 | R163: 1.7476291 | S163: =R163/Q163 -> 0.004788025 | T163: =R163/21 -> 0.083220435 | U163: HI0110078 | V163: 4.2369134 | W163: Flow Lookup Failed | X163: 4.2369134 | Y163: Flow Lookup Failed | Z163: 4.2369134 | AA163: Flow Lookup Failed | AB163: 1.1300738 | AC163: 1.1300738 | AD163: 1.1300738 | AE163: 19.641759 | AF163: 19.641759 | AG163: 19.641759 | AH163: =IF($AE163>$AJ$1,"YES","NO") -> NO
A164: 2021 | B164: US DEPARTMENT OF THE AIR FORCE | C164: SAN ANTONIO | D164: BEXAR | E164: TX | F164: 29.3787 | G164: -98.55167 | H164: 110042004915 | I164: 9711 | J164: National Security | K164: 928110 | L164: National Security | M164: IS47 | N164: Services | O164: Not mapped to OES | P164: US Airforce Base; no OES to map to. | Q164: 250 | R164: 0.036077093 | S164: =R164/Q164 -> 0.00014430837 | T164: =R164/21 -> 0.0017179568 | U164: TX0116114 | V164: 29.273839 | W164: 30Q5 Flow | X164: 51.700541 | Y164: HM Flow | Z164: 17.566805 | AA164: 7Q10 Flow | AB164: 0.0082148334 | AC164: 0.004929602 | AD164: 0.0027912352 | AE164: 0.097795635 | AF164: 0.058685738 | AG164: 0.033228991 | AH164: =IF($AE164>$AJ$1,"YES","NO") -> NO
A165: 2021 | B165: APS FOUR CORNERS POWER PLANT | C165: FRUITLAND | D165: SAN JUAN | E165: NM | F165: 36.68881 | G165: -108.48036 | H165: 110042068473 | I165: 4911 | J165: Manufacturing Industries, Nec | K165: 339999 | L165: All Other Miscellaneous Manufacturing | M165: IS45 | N165: Miscellaneous Manufacturing | O165: Not mapped to OES | P165: Facility is a powerplant; no OES to map to. | Q165: 250 | R165: 1.619223 | S165: =R165/Q165 -> 0.006476892 | T165: =R165/21 -> 0.077105857 | U165: NN0000019 | V165: 6476.4248 | W165: Flow Lookup Failed | X165: 6476.4248 | Y165: Flow Lookup Failed | Z165: 6476.4248 | AA165: Flow Lookup Failed | AB165: 0.0010000721 | AC165: 0.0010000721 | AD165: 0.0010000721 | AE165: 0.011905621 | AF165: 0.011905621 | AG165: 0.011905621 | AH165: =IF($AE165>$AJ$1,"YES","NO") -> NO
A166: 2019 | B166: CEDAR CREEK WWTP | C166: LOUISVILLE | D166: JEFFERSON | E166: KY | F166: 38.122354 | G166: -85.587648 | H166: 110043485421 | I166: 4952 | J166: Manufacturing Industries, Nec | K166: 339999 | L166: All Other Miscellaneous Manufacturing | M166: IS45 | N166: Miscellaneous Manufacturing | O166: Disposal to POTW | P166: Disposal to POTW (consistent with 1,1-DCA) | Q166: 365 | R166: 27.765199 | S166: =R166/Q166 -> 0.076069038 | T166: =R166/21 -> 1.3221523 | U166: KY0098540 | V166: 22.5313 | W166: Plant Flow | X166: 22.5313 | Y166: Plant Flow | Z166: 22.5313 | AA166: Plant Flow | AB166: 3.3761494 | AC166: 3.3761494 | AD166: 3.3761494 | AE166: 58.680693 | AF166: 58.680693 | AG166: 58.680693 | AH166: =IF($AE166>$AJ$1,"YES","NO") -> NO
... A185: 2019 | B185: BVPV STYRENICS LLC/BEAVER | C185: MONACA | D185: BEAVER | E185: PA | F185: 40.655278 | G185: -80.356389 | H185: 110059344473 | I185: 2821 | J185: Platemaking Services | K185: 323120 | L185: Support Activities for Printing | M185: IS10 | N185: Printing and Related Support Activities | O185: Not mapped to OES | P185: Assumed processing as a reactant based on SIC and NAICS; this also matches 1,1,-DCA mapping. | Q185: 350 | R185: 0.66284 | S185: =R185/Q185 -> 0.0018938286 | T185: =R185/21 -> 0.03156381 | U185: PA0006254 | V185: 40451.049 | W185: 30Q5 Flow | X185: 80817.659 | Y185: HM Flow | Z185: 31310.264 | AA185: 7Q10 Flow | AB185: 6.0485871e-05 | AC185: 4.6817787e-05 | AD185: 2.3433351e-05 | AE185: 0.0010080978 | AF185: 0.00078029644 | AG185: 0.00039055585 | AH185: =IF($AE185>$AJ$1,"YES","NO") -> NO
A186: 2020 | B186: LAS VEGAS CONVENTION AND VISITORS AUTHORITY REMEDIATION SYSTEM | C186: LAS VEGAS | D186: CLARK | E186: NV | F186: 36.13149 | G186: -115.15483 | H186: 110059844156 | I186: 1799 | J186: Special Trade Contractors, Nec | K186: 238990 | L186: All Other Specialty Trade Contractors | M186: IS5 | N186: Construction | O186: Disposal to Remediation | P186: Site name indicates remediation | Q186: 250 | R186: 0.04521904 | S186: =R186/Q186 -> 0.00018087616 | T186: =R186/21 -> 0.0021532876 | U186: NV0024232 | V186: NA | W186: Permit Lookup Failed | X186: NA | Y186: NA | Z186: NA | AA186: Permit Lookup Failed | AB186: 0.5 | AC186: 0.5 | AD186: 0.5 | AE186: 0.5 | AF186: 0.5 | AG186: 0.5 | AH186: =IF($AE186>$AJ$1,"YES","NO") -> NO
A187: 2019 | B187: ENTERPRISE PASADENA PLANT | C187: PASADENA | D187: HARRIS | E187: TX | F187: 29.741954 | G187: -95.165229 | H187: 110060340162 | I187: 2869 | J187: Industrial Organic Chemicals, Nec | K187: 325180 | L187: Other Basic Inorganic Chemical Manufacturing | M187: IS19 | N187: All Other Basic Inorganic Chemical Manufacturing | O187: Processing as a reactant | P187: NAICS OES Crosswalk | Q187: 350 | R187: 0.828915 | S187: =R187/Q187 -> 0.0023683286 | T187: =R187/21 -> 0.039472143 | U187: TX0131768 | V187: 0.27237301 | W187: Flow Lookup Failed | X187: 0.27237301 | Y187: Flow Lookup Failed | Z187: 0.27237301 | AA187: Flow Lookup Failed | AB187: 8.6951662 | AC187: 8.6951662 | AD187: 8.6951662 | AE187: 144.91944 | AF187: 144.91944 | AG187: 144.91944 | AH187: =IF($AE187>$AJ$1,"YES","NO") -> NO | AI187: (use if Equistar receiving waterbody conc is changed to 5ug/L)
A188: 2020 | B188: MCCARRAN INTERNATIONAL AIRPORT | C188: LAS VEGAS | D188: CLARK | E188: NV | F188: 36.0754 | G188: -115.1669 | H188: 110064134459 | I188: 4581 | J188: Manufacturing Industries, Nec | K188: 339999 | L188: All Other Miscellaneous Manufacturing | M188: IS45 | N188: Miscellaneous Manufacturing | O188: Not mapped to OES | P188: Airport; no OES to map to. | Q188: 250 | R188: 0.028470202 | S188: =R188/Q188 -> 0.00011388081 | T188: =R188/21 -> 0.0013557239 | U188: NV0023761 | V188: 1.8914792 | W188: Flow Lookup Failed | X188: 1.8914792 | Y188: Flow Lookup Failed | Z188: 1.8914792 | AA188: Flow Lookup Failed | AB188: 0.060207274 | AC188: 0.060207274 | AD188: 0.060207274 | AE188: 0.71675326 | AF188: 0.71675326 | AG188: 0.71675326 | AH188: =IF($AE188>$AJ$1,"YES","NO") -> NO
A189: 2019 | B189: WEST COUNTY AGENCY COMMON OUTFALL | C189: RICHMOND | D189: CONTRA COSTA | E189: CA | F189: 37.97715 | G189: -122.33269 | H189: 110064252419 | I189: 4952 | J189: Manufacturing Industries, Nec | K189: 339999 | L189: All Other Miscellaneous Manufacturing | M189: IS45 | N189: Miscellaneous Manufacturing | O189: Disposal to POTW | P189: Disposal to POTW (consistent with 1,1-DCA) | Q189: 365 | R189: 3.7646556 | S189: =R189/Q189 -> 0.010314125 | T189: =R189/21 -> 0.17926932 | U189: CA0038539 | V189: 34.158601 | W189: Coastal | X189: 34.158601 | Y189: Coastal | Z189: 34.158601 | AA189: Coastal | AB189: 0.30194811 | AC189: 0.30194811 | AD189: 0.30194811 | AE189: 5.2481456 | AF189: 5.2481456 | AG189: 5.2481456 | AH189: =IF($AE189>$AJ$1,"YES","NO") -> NO
...

Sheet Inputs
A1: INPUTS SELECTED FOR EXPOSURE AND RISK EQUATIONS
A3: Exposure Inputs
B4: 30Q5/ADR/Acute | C4: HM/ADD/Chronic | D4: Source / Notes
A5: SWC for EFAST calc results, Manufacturing as a Byproduct (ug/L) | B5: 0.000227 | C5: 0.000108
A6: SWC for EFAST calc results, Processing as a Reactant (ug/L) | B6: 4.62 | C6: 4.62 | D6: 350 day average from Processing as a Reactant: ISP Chemical (KY0003701) OES operating days release
A7: SWC for EFAST calc results, Processing Aid (ug/L) | B7: 0.0065 | C7: 0.00324
A8: SWC for EFAST calc results, Use of Laboratory Chemical (ug/L) | B8: 0.0195 | C8: 0.0195
A9: SWC for EFAST calc results, All Purpose Liquid Cleaner (ug/L) | B9: 5 | C9: 5
A10: SWC for EFAST calc results, Formulation of cleaning and furnishing care products (ug/L) | B10: 0.913 | C10: 0.913
A11: SWC for EFAST calc results, Repackaging (ug/L) | B11: 2.61 | C11: 1.8
A12: SWC for EFAST calc results, Distribution in Commerce (ug/L) | B12: 0.735 | C12: 0.735
A13: SWC for EFAST calc results, POTW (ug/L) | B13: 10.8 | C13: 5.25
A14: SWC for EFAST calc results, Remediation (ug/L) | B14: 0.5 | C14: 0.5
A15: SWC for EFAST calc results, Waste Handling, Treatment and Disposal (ug/L) | B15: 3.55 | C15: 2.07
A16: SWC for EFAST calc results, Not mapped to OES (ug/L) - also tribal | B16: 9.06 | C16: 9.06 | D16: 250 day average from Unknown: Northern Edge Casino (NN0030343)
A17: BCF (modeled, regression-based) (L/kg) | B17: 6.9 | C17: 6.9
A18: BAF (modeled, Arnot-Gobas) (L/kg) | B18: 7.4 | C18: 7.4 | D18: U.S. EPA, 2012, 2347246
A19: Empirical fish tissue conc (mg/kg)
A20: CF1 (mg/ug) | B20: 0.001 | C20: 0.001
A21: CF2 (kg/g) | B21: 0.001 | C21: 0.001
A22: ED (day for ADR, years for ADD, LADD) | B22: 1 | C22: 62
A23: AT (day for ADR, years for ADD, LADD) | B23: 1 | C23: 62 | D23: 78
A24: Fish Ingestion Rate (IR) (g/kg-day, general population) | D24: Refer to ReadMe tab
A25: Infant (<1 year) | B25: N/A | C25: N/A
A26: Young toddler (1 to <2 years) | B26: 0.412 | C26: 0.053
A27: Toddler (2 to <3 years) | B27: 0.341 | C27: 0.043
A28: Small child (3 to <6 years) | B28: 0.312 | C28: 0.038
A29: Child (6 to <11 years) | B29: 0.242 | C29: 0.035
A30: Teen ( 11 to < 16 years) | B30: 0.146 | C30: 0.019
A31: Adult (16 to <70 years) | B31: =22.2/80 -> 0.2775 | C31: =5.04/80 -> 0.063
A32: Fish Ingestion Rate (IR) (g/kg-day, subsistence fisher) | D32: Refer to ReadMe tab
A33: Adult | B33: 1.78 | C33: 1.78
A34: Fish Ingestion Rate (IR)(g/kg-day, tribal population)
A35: Adult (current) | B35: 2.7 | C35: 2.7
A36: Adult (heritage) | B36: 20.58 | C36: 20.58
A37: Hazard Values
A38: PODs (mg/kg-day for non-cancer) | B38: 7.2 | C38: 7.2
A39: Benchmark | B39: 30 | C39: 30
A40: Fish Ingestion Rate (IR)(g/kg-day, tribal population)
A41: Child (3-5 years) | B41: 0.2469 | C41: 0.2469
A42: Youth (6-11 years) | B42: 0.3302 | C42: 0.3302

Sheet Exp and Risk_Gen Pop 
A1: GENERAL POPULATION EXPOSURE AND RISK
A9: Fish Ingestion Exposure and Risk EFAST Calc SWC Results, Processing as a Reactant (ug/L): ISP Chemical (KY0003701) OES operating days release | B9: Adult (16 to <70 years) | D9: Young toddler (1 to <2 years) | F9: Toddler (2 to <3 years) | H9: Small child (3 to <6 years) | J9: Child (6 to <11 years) | L9: Teen (11 to < 16 years)
B10: ADR (mg/kg-day) | C10: ADD (mg/kg-day) | D10: ADR (mg/kg-day) | E10: ADD (mg/kg-day) | F10: ADR (mg/kg-day) | G10: ADD (mg/kg-day) | H10: ADR (mg/kg-day) | I10: ADD (mg/kg-day) | J10: ADR (mg/kg-day) | K10: ADD (mg/kg-day) | L10: ADR (mg/kg-day) | M10: ADD (mg/kg-day)
A11: Dose - BCF | B11: =(Inputs!$B$6*Inputs!$B$17*Inputs!$B$31*Inputs!$B$20*Inputs!$B$21*Inputs!$B$22)/Inputs!$B$23 -> 8.846145e-06 | C11: =(Inputs!$C$6*Inputs!$C$17*Inputs!$C$31*Inputs!$C$20*Inputs!$C$21*Inputs!$C$22)/Inputs!$C$23 -> 2.008314e-06 | D11: =(Inputs!$B$6*Inputs!$B$17*Inputs!$B$26*Inputs!$B$20*Inputs!$B$21*Inputs!$B$22)/Inputs!$B$23 -> 1.3133736e-05 | E11: =(Inputs!$C$6*Inputs!$C$17*Inputs!$C$26*Inputs!$C$20*Inputs!$C$21*Inputs!$C$22)/Inputs!$C$23 -> 1.689534e-06 | F11: =(Inputs!$B$6*Inputs!$B$17*Inputs!$B$27*Inputs!$B$20*Inputs!$B$21*Inputs!$B$22)/Inputs!$B$23 -> 1.0870398e-05 | G11: =(Inputs!$C$6*Inputs!$C$17*Inputs!$C$27*Inputs!$C$20*Inputs!$C$21*Inputs!$C$22)/Inputs!$C$23 -> 1.370754e-06 | H11: =(Inputs!$B$6*Inputs!$B$17*Inputs!$B$28*Inputs!$B$20*Inputs!$B$21*Inputs!$B$22)/Inputs!$B$23 -> 9.945936e-06 | I11: =(Inputs!$C$6*Inputs!$C$17*Inputs!$C$28*Inputs!$C$20*Inputs!$C$21*Inputs!$C$22)/Inputs!$C$23 -> 1.211364e-06 | J11: =(Inputs!$B$6*Inputs!$B$17*Inputs!$B$29*Inputs!$B$20*Inputs!$B$21*Inputs!$B$22)/Inputs!$B$23 -> 7.714476e-06 | K11: =(Inputs!$C$6*Inputs!$C$17*Inputs!$C$29*Inputs!$C$20*Inputs!$C$21*Inputs!$C$22)/Inputs!$C$23 -> 1.11573e-06 | L11: =(Inputs!$B$6*Inputs!$B$17*Inputs!$B$30*Inputs!$B$20*Inputs!$B$21*Inputs!$B$22)/Inputs!$B$23 -> 4.654188e-06 | M11: =(Inputs!$C$6*Inputs!$C$17*Inputs!$C$30*Inputs!$C$20*Inputs!$C$21*Inputs!$C$22)/Inputs!$C$23 -> 6.05682e-07
A12: MOE - BCF | B12: =Inputs!$B$38/B11 -> 813913.86 | C12: =Inputs!$C$38/C11 -> 3585096.8 | D12: =Inputs!$B$38/D11 -> 548206.54 | E12: =Inputs!$C$38/E11 -> 4261530.1 | F12: =Inputs!$B$38/F11 -> 662349.25 | G12: =Inputs!$C$38/G11 -> 5252583.6 | H12: =Inputs!$B$38/H11 -> 723913.77 | I12: =Inputs!$C$38/I11 -> 5943713 | J12: =Inputs!$B$38/J11 -> 933310.31 | K12: =Inputs!$C$38/K11 -> 6453174.2 | L12: =Inputs!$B$38/L11 -> 1546993.8 | M12: =Inputs!$C$38/M11 -> 11887426
A15: Fish Ingestion Exposure and Risk EFAST Calc SWC Results for Processing Aid: Kodak Park (NY0001643) OES operating days release | B15: Adult (16 to <70 years) | D15: Young toddler (1 to <2 years) | F15: Toddler (2 to <3 years) | H15: Small child (3 to <6 years) | J15: Child (6 to <11 years) | L15: Teen (11 to < 16 years)
B16: ADR (mg/kg-day) | C16: ADD (mg/kg-day) | D16: ADR (mg/kg-day) | E16: ADD (mg/kg-day) | F16: ADR (mg/kg-day) | G16: ADD (mg/kg-day) | H16: ADR (mg/kg-day) | I16: ADD (mg/kg-day) | J16: ADR (mg/kg-day) | K16: ADD (mg/kg-day) | L16: ADR (mg/kg-day) | M16: ADD (mg/kg-day)
A17: Dose - BCF | B17: =(Inputs!$B$7*Inputs!$B$17*Inputs!$B$31*Inputs!$B$20*Inputs!$B$21*Inputs!$B$22)/Inputs!$B$23 -> 1.2445875e-08 | C17: =(Inputs!$C$7*Inputs!$C$17*Inputs!$C$31*Inputs!$C$20*Inputs!$C$21*Inputs!$C$22)/Inputs!$C$23 -> 1.408428e-09 | D17: =(Inputs!$B$7*Inputs!$B$17*Inputs!$B$26*Inputs!$B$20*Inputs!$B$21*Inputs!$B$22)/Inputs!$B$23 -> 1.84782e-08 | E17: =(Inputs!$C$7*Inputs!$C$17*Inputs!$C$26*Inputs!$C$20*Inputs!$C$21*Inputs!$C$22)/Inputs!$C$23 -> 1.184868e-09 | F17: =(Inputs!$B$7*Inputs!$B$17*Inputs!$B$27*Inputs!$B$20*Inputs!$B$21*Inputs!$B$22)/Inputs!$B$23 -> 1.529385e-08 | G17: =(Inputs!$C$7*Inputs!$C$17*Inputs!$C$27*Inputs!$C$20*Inputs!$C$21*Inputs!$C$22)/Inputs!$C$23 -> 9.61308e-10 | H17: =(Inputs!$B$7*Inputs!$B$17*Inputs!$B$28*Inputs!$B$20*Inputs!$B$21*Inputs!$B$22)/Inputs!$B$23 -> 1.39932e-08 | I17: =(Inputs!$C$7*Inputs!$C$17*Inputs!$C$28*Inputs!$C$20*Inputs!$C$21*Inputs!$C$22)/Inputs!$C$23 -> 8.49528e-10 | J17: =(Inputs!$B$7*Inputs!$B$17*Inputs!$B$29*Inputs!$B$20*Inputs!$B$21*Inputs!$B$22)/Inputs!$B$23 -> 1.08537e-08 | K17: =(Inputs!$C$7*Inputs!$C$17*Inputs!$C$29*Inputs!$C$20*Inputs!$C$21*Inputs!$C$22)/Inputs!$C$23 -> 7.8246e-10 | L17: =(Inputs!$B$7*Inputs!$B$17*Inputs!$B$30*Inputs!$B$20*Inputs!$B$21*Inputs!$B$22)/Inputs!$B$23 -> 6.5481e-09 | M17: =(Inputs!$C$7*Inputs!$C$17*Inputs!$C$30*Inputs!$C$20*Inputs!$C$21*Inputs!$C$22)/Inputs!$C$23 -> 4.24764e-10
A18: MOE - BCF | B18: =Inputs!$B$38/B17 -> 5.7850493e+08 | C18: =Inputs!$C$38/C17 -> 5.1120824e+09 | D18: =Inputs!$B$38/D17 -> 3.8964834e+08 | E18: =Inputs!$C$38/E17 -> 6.0766263e+09 | F18: =Inputs!$B$38/F17 -> 4.7077747e+08 | G18: =Inputs!$C$38/G17 -> 7.4897952e+09 | H18: =Inputs!$B$38/H17 -> 5.1453563e+08 | I18: =Inputs!$C$38/I17 -> 8.4752945e+09 | J18: =Inputs!$B$38/J17 -> 6.6336825e+08 | K18: =Inputs!$C$38/K17 -> 9.2017483e+09 | L18: =Inputs!$B$38/L17 -> 1.0995556e+09 | M18: =Inputs!$C$38/M17 -> 1.6950589e+10
A21: Fish Ingestion Exposure and Risk Using EFAST Calc SWC Results, Use of Laboratory Chemical: Amcol Health & Beauty Solutions, Inc (LA0108936) | B21: Adult (16 to <70 years) | D21: Young toddler (1 to <2 years) | F21: Toddler (2 to <3 years) | H21: Small child (3 to <6 years) | J21: Child (6 to <11 years) | L21: Teen (11 to < 16 years)
B22: ADR (mg/kg-day) | C22: ADD (mg/kg-day) | D22: ADR (mg/kg-day) | E22: ADD (mg/kg-day) | F22: ADR (mg/kg-day) | G22: ADD (mg/kg-day) | H22: ADR (mg/kg-day) | I22: ADD (mg/kg-day) | J22: ADR (mg/kg-day) | K22: ADD (mg/kg-day) | L22: ADR (mg/kg-day) | M22: ADD (mg/kg-day)
A23: Dose - BCF | B23: =(Inputs!$B$8*Inputs!$B$17*Inputs!$B$31*Inputs!$B$20*Inputs!$B$21*Inputs!$B$22)/Inputs!$B$23 -> 3.7337625e-08 | C23: =(Inputs!$C$8*Inputs!$C$17*Inputs!$C$31*Inputs!$C$20*Inputs!$C$21*Inputs!$C$22)/Inputs!$C$23 -> 8.47665e-09 | D23: =(Inputs!$B$8*Inputs!$B$17*Inputs!$B$26*Inputs!$B$20*Inputs!$B$21*Inputs!$B$22)/Inputs!$B$23 -> 5.54346e-08 | E23: =(Inputs!$C$8*Inputs!$C$17*Inputs!$C$26*Inputs!$C$20*Inputs!$C$21*Inputs!$C$22)/Inputs!$C$23 -> 7.13115e-09 | F23: =(Inputs!$B$8*Inputs!$B$17*Inputs!$B$27*Inputs!$B$20*Inputs!$B$21*Inputs!$B$22)/Inputs!$B$23 -> 4.588155e-08 | G23: =(Inputs!$C$8*Inputs!$C$17*Inputs!$C$27*Inputs!$C$20*Inputs!$C$21*Inputs!$C$22)/Inputs!$C$23 -> 5.78565e-09 | H23: =(Inputs!$B$8*Inputs!$B$17*Inputs!$B$28*Inputs!$B$20*Inputs!$B$21*Inputs!$B$22)/Inputs!$B$23 -> 4.19796e-08 | I23: =(Inputs!$C$8*Inputs!$C$17*Inputs!$C$28*Inputs!$C$20*Inputs!$C$21*Inputs!$C$22)/Inputs!$C$23 -> 5.1129e-09 | J23: =(Inputs!$B$8*Inputs!$B$17*Inputs!$B$29*Inputs!$B$20*Inputs!$B$21*Inputs!$B$22)/Inputs!$B$23 -> 3.25611e-08 | K23: =(Inputs!$C$8*Inputs!$C$17*Inputs!$C$29*Inputs!$C$20*Inputs!$C$21*Inputs!$C$22)/Inputs!$C$23 -> 4.70925e-09 | L23: =(Inputs!$B$8*Inputs!$B$17*Inputs!$B$30*Inputs!$B$20*Inputs!$B$21*Inputs!$B$22)/Inputs!$B$23 -> 1.96443e-08 | M23: =(Inputs!$C$8*Inputs!$C$17*Inputs!$C$30*Inputs!$C$20*Inputs!$C$21*Inputs!$C$22)/Inputs!$C$23 -> 2.55645e-09
A24: MOE - BCF | B24: =Inputs!$B$38/B23 -> 1.9283498e+08 | C24: =Inputs!$C$38/C23 -> 8.4939215e+08 | D24: =Inputs!$B$38/D23 -> 1.2988278e+08 | E24: =Inputs!$C$38/E23 -> 1.0096548e+09 | F24: =Inputs!$B$38/F23 -> 1.5692582e+08 | G24: =Inputs!$C$38/G23 -> 1.2444583e+09 | H24: =Inputs!$B$38/H23 -> 1.7151188e+08 | I24: =Inputs!$C$38/I23 -> 1.4082028e+09 | J24: =Inputs!$B$38/J23 -> 2.2112275e+08 | K24: =Inputs!$C$38/K23 -> 1.5289059e+09 | L24: =Inputs!$B$38/L23 -> 3.6651853e+08 | M24: =Inputs!$C$38/M23 -> 2.8164056e+09
A27: Fish Ingestion Exposure and Risk Using EFAST Calc SWC, All Purpose Liquid Cleaner: Allegiant Stadium (NV0024239) | B27: Adult (16 to <70 years) | D27: Young toddler (1 to <2 years) | F27: Toddler (2 to <3 years) | H27: Small child (3 to <6 years) | J27: Child (6 to <11 years) | L27: Teen (11 to < 16 years)
B28: ADR (mg/kg-day) | C28: ADD (mg/kg-day) | D28: ADR (mg/kg-day) | E28: ADD (mg/kg-day) | F28: ADR (mg/kg-day) | G28: ADD (mg/kg-day) | H28: ADR (mg/kg-day) | I28: ADD (mg/kg-day) | J28: ADR (mg/kg-day) | K28: ADD (mg/kg-day) | L28: ADR (mg/kg-day) | M28: ADD (mg/kg-day)
A29: Dose - BCF | B29: =(Inputs!$B$9*Inputs!$B$17*Inputs!$B$31*Inputs!$B$20*Inputs!$B$21*Inputs!$B$22)/Inputs!$B$23 -> 9.57375e-06 | C29: =(Inputs!$C$9*Inputs!$C$17*Inputs!$C$31*Inputs!$C$20*Inputs!$C$21*Inputs!$C$22)/Inputs!$C$23 -> 2.1735e-06 | D29: =(Inputs!$B$9*Inputs!$B$17*Inputs!$B$26*Inputs!$B$20*Inputs!$B$21*Inputs!$B$22)/Inputs!$B$23 -> 1.4214e-05 | E29: =(Inputs!$C$9*Inputs!$C$17*Inputs!$C$26*Inputs!$C$20*Inputs!$C$21*Inputs!$C$22)/Inputs!$C$23 -> 1.8285e-06 | F29: =(Inputs!$B$9*Inputs!$B$17*Inputs!$B$27*Inputs!$B$20*Inputs!$B$21*Inputs!$B$22)/Inputs!$B$23 -> 1.17645e-05 | G29: =(Inputs!$C$9*Inputs!$C$17*Inputs!$C$27*Inputs!$C$20*Inputs!$C$21*Inputs!$C$22)/Inputs!$C$23 -> 1.4835e-06 | H29: =(Inputs!$B$9*Inputs!$B$17*Inputs!$B$28*Inputs!$B$20*Inputs!$B$21*Inputs!$B$22)/Inputs!$B$23 -> 1.0764e-05 | I29: =(Inputs!$C$9*Inputs!$C$17*Inputs!$C$28*Inputs!$C$20*Inputs!$C$21*Inputs!$C$22)/Inputs!$C$23 -> 1.311e-06 | J29: =(Inputs!$B$9*Inputs!$B$17*Inputs!$B$29*Inputs!$B$20*Inputs!$B$21*Inputs!$B$22)/Inputs!$B$23 -> 8.349e-06 | K29: =(Inputs!$C$9*Inputs!$C$17*Inputs!$C$29*Inputs!$C$20*Inputs!$C$21*Inputs!$C$22)/Inputs!$C$23 -> 1.2075e-06 | L29: =(Inputs!$B$9*Inputs!$B$17*Inputs!$B$30*Inputs!$B$20*Inputs!$B$21*Inputs!$B$22)/Inputs!$B$23 -> 5.037e-06 | M29: =(Inputs!$C$9*Inputs!$C$17*Inputs!$C$30*Inputs!$C$20*Inputs!$C$21*Inputs!$C$22)/Inputs!$C$23 -> 6.555e-07
A30: MOE - BCF | B30: =Inputs!$B$38/B29 -> 752056.4 | C30: =Inputs!$C$38/C29 -> 3312629.4 | D30: =Inputs!$B$38/D29 -> 506542.85 | E30: =Inputs!$C$38/E29 -> 3937653.8 | F30: =Inputs!$B$38/F29 -> 612010.71 | G30: =Inputs!$C$38/G29 -> 4853387.3 | H30: =Inputs!$B$38/H29 -> 668896.32 | I30: =Inputs!$C$38/I29 -> 5491990.8 | J30: =Inputs!$B$38/J29 -> 862378.73 | K30: =Inputs!$C$38/K29 -> 5962732.9 | L30: =Inputs!$B$38/L29 -> 1429422.3 | M30: =Inputs!$C$38/M29 -> 10983982
A33: Fish Ingestion Exposure and Risk Using EFAST Calc SWC, Formulation of cleaning and furnishing care products: BAE Systems Ordnance Systems, Inc (TN0003671) | B33: Adult (16 to <70 years) | D33: Young toddler (1 to <2 years) | F33: Toddler (2 to <3 years) | H33: Small child (3 to <6 years) | J33: Child (6 to <11 years) | L33: Teen (11 to < 16 years)
B34: ADR (mg/kg-day) | C34: ADD (mg/kg-day) | D34: ADR (mg/kg-day) | E34: ADD (mg/kg-day) | F34: ADR (mg/kg-day) | G34: ADD (mg/kg-day) | H34: ADR (mg/kg-day) | I34: ADD (mg/kg-day) | J34: ADR (mg/kg-day) | K34: ADD (mg/kg-day) | L34: ADR (mg/kg-day) | M34: ADD (mg/kg-day)
A35: Dose - BCF | B35: =(Inputs!$B$10*Inputs!$B$17*Inputs!$B$31*Inputs!$B$20*Inputs!$B$21*Inputs!$B$22)/Inputs!$B$23 -> 1.7481668e-06 | C35: =(Inputs!$C$10*Inputs!$C$17*Inputs!$C$31*Inputs!$C$20*Inputs!$C$21*Inputs!$C$22)/Inputs!$C$23 -> 3.968811e-07 | D35: =(Inputs!$B$10*Inputs!$B$17*Inputs!$B$26*Inputs!$B$20*Inputs!$B$21*Inputs!$B$22)/Inputs!$B$23 -> 2.5954764e-06 | E35: =(Inputs!$C$10*Inputs!$C$17*Inputs!$C$26*Inputs!$C$20*Inputs!$C$21*Inputs!$C$22)/Inputs!$C$23 -> 3.338841e-07 | F35: =(Inputs!$B$10*Inputs!$B$17*Inputs!$B$27*Inputs!$B$20*Inputs!$B$21*Inputs!$B$22)/Inputs!$B$23 -> 2.1481977e-06 | G35: =(Inputs!$C$10*Inputs!$C$17*Inputs!$C$27*Inputs!$C$20*Inputs!$C$21*Inputs!$C$22)/Inputs!$C$23 -> 2.708871e-07 | H35: =(Inputs!$B$10*Inputs!$B$17*Inputs!$B$28*Inputs!$B$20*Inputs!$B$21*Inputs!$B$22)/Inputs!$B$23 -> 1.9655064e-06 | I35: =(Inputs!$C$10*Inputs!$C$17*Inputs!$C$28*Inputs!$C$20*Inputs!$C$21*Inputs!$C$22)/Inputs!$C$23 -> 2.393886e-07 | J35: =(Inputs!$B$10*Inputs!$B$17*Inputs!$B$29*Inputs!$B$20*Inputs!$B$21*Inputs!$B$22)/Inputs!$B$23 -> 1.5245274e-06 | K35: =(Inputs!$C$10*Inputs!$C$17*Inputs!$C$29*Inputs!$C$20*Inputs!$C$21*Inputs!$C$22)/Inputs!$C$23 -> 2.204895e-07 | L35: =(Inputs!$B$10*Inputs!$B$17*Inputs!$B$30*Inputs!$B$20*Inputs!$B$21*Inputs!$B$22)/Inputs!$B$23 -> 9.197562e-07 | M35: =(Inputs!$C$10*Inputs!$C$17*Inputs!$C$30*Inputs!$C$20*Inputs!$C$21*Inputs!$C$22)/Inputs!$C$23 -> 1.196943e-07
A36: MOE - BCF | B36: =Inputs!$B$38/B35 -> 4118600.2 | C36: =Inputs!$C$38/C35 -> 18141453 | D36: =Inputs!$B$38/D35 -> 2774057.2 | E36: =Inputs!$C$38/E35 -> 21564369 | F36: =Inputs!$B$38/F35 -> 3351646.8 | G36: =Inputs!$C$38/G35 -> 26579339 | H36: =Inputs!$B$38/H35 -> 3663178.1 | I36: =Inputs!$C$38/I35 -> 30076620 | J36: =Inputs!$B$38/J35 -> 4722775.1 | K36: =Inputs!$C$38/K35 -> 32654616 | L36: =Inputs!$B$38/L35 -> 7828161.4 | M36: =Inputs!$C$38/M35 -> 60153240
A39: Fish Ingestion Exposure and Risk Using EFAST Calc SWC, Repackaging: IMTT-Illinois, LLC (IL0005126) | B39: Adult (16 to <70 years) | D39: Young toddler (1 to <2 years) | F39: Toddler (2 to <3 years) | H39: Small child (3 to <6 years) | J39: Child (6 to <11 years) | L39: Teen (11 to < 16 years)
B40: ADR (mg/kg-day) | C40: ADD (mg/kg-day) | D40: ADR (mg/kg-day) | E40: ADD (mg/kg-day) | F40: ADR (mg/kg-day) | G40: ADD (mg/kg-day) | H40: ADR (mg/kg-day) | I40: ADD (mg/kg-day) | J40: ADR (mg/kg-day) | K40: ADD (mg/kg-day) | L40: ADR (mg/kg-day) | M40: ADD (mg/kg-day)
A41: Dose - BCF | B41: =(Inputs!$B$11*Inputs!$B$17*Inputs!$B$31*Inputs!$B$20*Inputs!$B$21*Inputs!$B$22)/Inputs!$B$23 -> 4.9974975e-06 | C41: =(Inputs!$C$11*Inputs!$C$17*Inputs!$C$31*Inputs!$C$20*Inputs!$C$21*Inputs!$C$22)/Inputs!$C$23 -> 7.8246e-07 | D41: =(Inputs!$B$11*Inputs!$B$17*Inputs!$B$26*Inputs!$B$20*Inputs!$B$21*Inputs!$B$22)/Inputs!$B$23 -> 7.419708e-06 | E41: =(Inputs!$C$11*Inputs!$C$17*Inputs!$C$26*Inputs!$C$20*Inputs!$C$21*Inputs!$C$22)/Inputs!$C$23 -> 6.5826e-07 | F41: =(Inputs!$B$11*Inputs!$B$17*Inputs!$B$27*Inputs!$B$20*Inputs!$B$21*Inputs!$B$22)/Inputs!$B$23 -> 6.141069e-06 | G41: =(Inputs!$C$11*Inputs!$C$17*Inputs!$C$27*Inputs!$C$20*Inputs!$C$21*Inputs!$C$22)/Inputs!$C$23 -> 5.3406e-07 | H41: =(Inputs!$B$11*Inputs!$B$17*Inputs!$B$28*Inputs!$B$20*Inputs!$B$21*Inputs!$B$22)/Inputs!$B$23 -> 5.618808e-06 | I41: =(Inputs!$C$11*Inputs!$C$17*Inputs!$C$28*Inputs!$C$20*Inputs!$C$21*Inputs!$C$22)/Inputs!$C$23 -> 4.7196e-07 | J41: =(Inputs!$B$11*Inputs!$B$17*Inputs!$B$29*Inputs!$B$20*Inputs!$B$21*Inputs!$B$22)/Inputs!$B$23 -> 4.358178e-06 | K41: =(Inputs!$C$11*Inputs!$C$17*Inputs!$C$29*Inputs!$C$20*Inputs!$C$21*Inputs!$C$22)/Inputs!$C$23 -> 4.347e-07 | L41: =(Inputs!$B$11*Inputs!$B$17*Inputs!$B$30*Inputs!$B$20*Inputs!$B$21*Inputs!$B$22)/Inputs!$B$23 -> 2.629314e-06 | M41: =(Inputs!$C$11*Inputs!$C$17*Inputs!$C$30*Inputs!$C$20*Inputs!$C$21*Inputs!$C$22)/Inputs!$C$23 -> 2.3598e-07
A42: MOE - BCF | B42: =Inputs!$B$38/B41 -> 1440721.1 | C42: =Inputs!$C$38/C41 -> 9201748.3 | D42: =Inputs!$B$38/D41 -> 970388.59 | E42: =Inputs!$C$38/E41 -> 10937927 | F42: =Inputs!$B$38/F41 -> 1172434.3 | G42: =Inputs!$C$38/G41 -> 13481631 | H42: =Inputs!$B$38/H41 -> 1281410.6 | I42: =Inputs!$C$38/I41 -> 15255530 | J42: =Inputs!$B$38/J41 -> 1652066.5 | K42: =Inputs!$C$38/K41 -> 16563147 | L42: =Inputs!$B$38/L41 -> 2738356.8 | M42: =Inputs!$C$38/M41 -> 30511060
A45: Fish Ingestion Exposure and Risk Using EFAST Calc SWC, Distribution in Commerce: Vpak Termal, Long Beach, Inc (CA0064165) | B45: Adult (16 to <70 years) | D45: Young toddler (1 to <2 years) | F45: Toddler (2 to <3 years) | H45: Small child (3 to <6 years) | J45: Child (6 to <11 years) | L45: Teen (11 to < 16 years)
B46: ADR (mg/kg-day) | C46: ADD (mg/kg-day) | D46: ADR (mg/kg-day) | E46: ADD (mg/kg-day) | F46: ADR (mg/kg-day) | G46: ADD (mg/kg-day) | H46: ADR (mg/kg-day) | I46: ADD (mg/kg-day) | J46: ADR (mg/kg-day) | K46: ADD (mg/kg-day) | L46: ADR (mg/kg-day) | M46: ADD (mg/kg-day)
A47: Dose - BCF | B47: =(Inputs!$B$12*Inputs!$B$17*Inputs!$B$31*Inputs!$B$20*Inputs!$B$21*Inputs!$B$22)/Inputs!$B$23 -> 1.4073412e-06 | C47: =(Inputs!$C$12*Inputs!$C$17*Inputs!$C$31*Inputs!$C$20*Inputs!$C$21*Inputs!$C$22)/Inputs!$C$23 -> 3.195045e-07 | D47: =(Inputs!$B$12*Inputs!$B$17*Inputs!$B$26*Inputs!$B$20*Inputs!$B$21*Inputs!$B$22)/Inputs!$B$23 -> 2.089458e-06 | E47: =(Inputs!$C$12*Inputs!$C$17*Inputs!$C$26*Inputs!$C$20*Inputs!$C$21*Inputs!$C$22)/Inputs!$C$23 -> 2.687895e-07 | F47: =(Inputs!$B$12*Inputs!$B$17*Inputs!$B$27*Inputs!$B$20*Inputs!$B$21*Inputs!$B$22)/Inputs!$B$23 -> 1.7293815e-06 | G47: =(Inputs!$C$12*Inputs!$C$17*Inputs!$C$27*Inputs!$C$20*Inputs!$C$21*Inputs!$C$22)/Inputs!$C$23 -> 2.180745e-07 | H47: =(Inputs!$B$12*Inputs!$B$17*Inputs!$B$28*Inputs!$B$20*Inputs!$B$21*Inputs!$B$22)/Inputs!$B$23 -> 1.582308e-06 | I47: =(Inputs!$C$12*Inputs!$C$17*Inputs!$C$28*Inputs!$C$20*Inputs!$C$21*Inputs!$C$22)/Inputs!$C$23 -> 1.92717e-07 | J47: =(Inputs!$B$12*Inputs!$B$17*Inputs!$B$29*Inputs!$B$20*Inputs!$B$21*Inputs!$B$22)/Inputs!$B$23 -> 1.227303e-06 | K47: =(Inputs!$C$12*Inputs!$C$17*Inputs!$C$29*Inputs!$C$20*Inputs!$C$21*Inputs!$C$22)/Inputs!$C$23 -> 1.775025e-07 | L47: =(Inputs!$B$12*Inputs!$B$17*Inputs!$B$30*Inputs!$B$20*Inputs!$B$21*Inputs!$B$22)/Inputs!$B$23 -> 7.40439e-07 | M47: =(Inputs!$C$12*Inputs!$C$17*Inputs!$C$30*Inputs!$C$20*Inputs!$C$21*Inputs!$C$22)/Inputs!$C$23 -> 9.63585e-08
A48: MOE - BCF | B48: =Inputs!$B$38/B47 -> 5116030 | C48: =Inputs!$C$38/C47 -> 22534894 | D48: =Inputs!$B$38/D47 -> 3445869.7 | E48: =Inputs!$C$38/E47 -> 26786761 | F48: =Inputs!$B$38/F47 -> 4163338.2 | G48: =Inputs!$C$38/G47 -> 33016240 | H48: =Inputs!$B$38/H47 -> 4550315.1 | I48: =Inputs!$C$38/I47 -> 37360482 | J48: =Inputs!$B$38/J47 -> 5866522 | K48: =Inputs!$C$38/K47 -> 40562809 | L48: =Inputs!$B$38/L47 -> 9723961.1 | M48: =Inputs!$C$38/M47 -> 74720964
A51: Fish Ingestion Exposure and Risk Using EFAST Calc SWC, POTW: Franklin TWP Sew Auth. (PA0046326) | B51: Adult (16 to <70 years) | D51: Young toddler (1 to <2 years) | F51: Toddler (2 to <3 years) | H51: Small child (3 to <6 years) | J51: Child (6 to <11 years) | L51: Teen (11 to < 16 years)
B52: ADR (mg/kg-day) | C52: ADD (mg/kg-day) | D52: ADR (mg/kg-day) | E52: ADD (mg/kg-day) | F52: ADR (mg/kg-day) | G52: ADD (mg/kg-day) | H52: ADR (mg/kg-day) | I52: ADD (mg/kg-day) | J52: ADR (mg/kg-day) | K52: ADD (mg/kg-day) | L52: ADR (mg/kg-day) | M52: ADD (mg/kg-day)
A53: Dose - BCF | B53: =(Inputs!$B$13*Inputs!$B$17*Inputs!$B$31*Inputs!$B$20*Inputs!$B$21*Inputs!$B$22)/Inputs!$B$23 -> 2.06793e-05 | C53: =(Inputs!$C$13*Inputs!$C$17*Inputs!$C$31*Inputs!$C$20*Inputs!$C$21*Inputs!$C$22)/Inputs!$C$23 -> 2.282175e-06 | D53: =(Inputs!$B$13*Inputs!$B$17*Inputs!$B$26*Inputs!$B$20*Inputs!$B$21*Inputs!$B$22)/Inputs!$B$23 -> 3.070224e-05 | E53: =(Inputs!$C$13*Inputs!$C$17*Inputs!$C$26*Inputs!$C$20*Inputs!$C$21*Inputs!$C$22)/Inputs!$C$23 -> 1.919925e-06 | F53: =(Inputs!$B$13*Inputs!$B$17*Inputs!$B$27*Inputs!$B$20*Inputs!$B$21*Inputs!$B$22)/Inputs!$B$23 -> 2.541132e-05 | G53: =(Inputs!$C$13*Inputs!$C$17*Inputs!$C$27*Inputs!$C$20*Inputs!$C$21*Inputs!$C$22)/Inputs!$C$23 -> 1.557675e-06 | H53: =(Inputs!$B$13*Inputs!$B$17*Inputs!$B$28*Inputs!$B$20*Inputs!$B$21*Inputs!$B$22)/Inputs!$B$23 -> 2.325024e-05 | I53: =(Inputs!$C$13*Inputs!$C$17*Inputs!$C$28*Inputs!$C$20*Inputs!$C$21*Inputs!$C$22)/Inputs!$C$23 -> 1.37655e-06 | J53: =(Inputs!$B$13*Inputs!$B$17*Inputs!$B$29*Inputs!$B$20*Inputs!$B$21*Inputs!$B$22)/Inputs!$B$23 -> 1.803384e-05 | K53: =(Inputs!$C$13*Inputs!$C$17*Inputs!$C$29*Inputs!$C$20*Inputs!$C$21*Inputs!$C$22)/Inputs!$C$23 -> 1.267875e-06 | L53: =(Inputs!$B$13*Inputs!$B$17*Inputs!$B$30*Inputs!$B$20*Inputs!$B$21*Inputs!$B$22)/Inputs!$B$23 -> 1.087992e-05 | M53: =(Inputs!$C$13*Inputs!$C$17*Inputs!$C$30*Inputs!$C$20*Inputs!$C$21*Inputs!$C$22)/Inputs!$C$23 -> 6.88275e-07
A54: MOE - BCF | B54: =Inputs!$B$38/B53 -> 348174.26 | C54: =Inputs!$C$38/C53 -> 3154885.1 | D54: =Inputs!$B$38/D53 -> 234510.58 | E54: =Inputs!$C$38/E53 -> 3750146.5 | F54: =Inputs!$B$38/F53 -> 283338.29 | G54: =Inputs!$C$38/G53 -> 4622273.6 | H54: =Inputs!$B$38/H53 -> 309674.22 | I54: =Inputs!$C$38/I53 -> 5230467.5 | J54: =Inputs!$B$38/J53 -> 399249.41 | K54: =Inputs!$C$38/K53 -> 5678793.3 | L54: =Inputs!$B$38/L53 -> 661769.57 | M54: =Inputs!$C$38/M53 -> 10460935
A57: Fish Ingestion Exposure and Risk Using EFAST Calc SWC, Remediation: Las Vegas Convention and Visitors Authority Remediation System (NV0024232) | B57: Adult (16 to <70 years) | D57: Young toddler (1 to <2 years) | F57: Toddler (2 to <3 years) | H57: Small child (3 to <6 years) | J57: Child (6 to <11 years) | L57: Teen (11 to < 16 years)
B58: ADR (mg/kg-day) | C58: ADD (mg/kg-day) | D58: ADR (mg/kg-day) | E58: ADD (mg/kg-day) | F58: ADR (mg/kg-day) | G58: ADD (mg/kg-day) | H58: ADR (mg/kg-day) | I58: ADD (mg/kg-day) | J58: ADR (mg/kg-day) | K58: ADD (mg/kg-day) | L58: ADR (mg/kg-day) | M58: ADD (mg/kg-day)
A59: Dose - BCF | B59: =(Inputs!$B$14*Inputs!$B$17*Inputs!$B$31*Inputs!$B$20*Inputs!$B$21*Inputs!$B$22)/Inputs!$B$23 -> 9.57375e-07 | C59: =(Inputs!$C$14*Inputs!$C$17*Inputs!$C$31*Inputs!$C$20*Inputs!$C$21*Inputs!$C$22)/Inputs!$C$23 -> 2.1735e-07 | D59: =(Inputs!$B$14*Inputs!$B$17*Inputs!$B$26*Inputs!$B$20*Inputs!$B$21*Inputs!$B$22)/Inputs!$B$23 -> 1.4214e-06 | E59: =(Inputs!$C$14*Inputs!$C$17*Inputs!$C$26*Inputs!$C$20*Inputs!$C$21*Inputs!$C$22)/Inputs!$C$23 -> 1.8285e-07 | F59: =(Inputs!$B$14*Inputs!$B$17*Inputs!$B$27*Inputs!$B$20*Inputs!$B$21*Inputs!$B$22)/Inputs!$B$23 -> 1.17645e-06 | G59: =(Inputs!$C$14*Inputs!$C$17*Inputs!$C$27*Inputs!$C$20*Inputs!$C$21*Inputs!$C$22)/Inputs!$C$23 -> 1.4835e-07 | H59: =(Inputs!$B$14*Inputs!$B$17*Inputs!$B$28*Inputs!$B$20*Inputs!$B$21*Inputs!$B$22)/Inputs!$B$23 -> 1.0764e-06 | I59: =(Inputs!$C$14*Inputs!$C$17*Inputs!$C$28*Inputs!$C$20*Inputs!$C$21*Inputs!$C$22)/Inputs!$C$23 -> 1.311e-07 | J59: =(Inputs!$B$14*Inputs!$B$17*Inputs!$B$29*Inputs!$B$20*Inputs!$B$21*Inputs!$B$22)/Inputs!$B$23 -> 8.349e-07 | K59: =(Inputs!$C$14*Inputs!$C$17*Inputs!$C$29*Inputs!$C$20*Inputs!$C$21*Inputs!$C$22)/Inputs!$C$23 -> 1.2075e-07 | L59: =(Inputs!$B$14*Inputs!$B$17*Inputs!$B$30*Inputs!$B$20*Inputs!$B$21*Inputs!$B$22)/Inputs!$B$23 -> 5.037e-07 | M59: =(Inputs!$C$14*Inputs!$C$17*Inputs!$C$30*Inputs!$C$20*Inputs!$C$21*Inputs!$C$22)/Inputs!$C$23 -> 6.555e-08
A60: MOE - BCF | B60: =Inputs!$B$38/B59 -> 7520564 | C60: =Inputs!$C$38/C59 -> 33126294 | D60: =Inputs!$B$38/D59 -> 5065428.5 | E60: =Inputs!$C$38/E59 -> 39376538 | F60: =Inputs!$B$38/F59 -> 6120107.1 | G60: =Inputs!$C$38/G59 -> 48533873 | H60: =Inputs!$B$38/H59 -> 6688963.2 | I60: =Inputs!$C$38/I59 -> 54919908 | J60: =Inputs!$B$38/J59 -> 8623787.3 | K60: =Inputs!$C$38/K59 -> 59627329 | L60: =Inputs!$B$38/L59 -> 14294223 | M60: =Inputs!$C$38/M59 -> 1.0983982e+08
A63: Fish Ingestion Exposure and Risk Using EFAST Calc SWC, Waste Handling, Treatment and Disposal: Green America Recycling, LLC (MO0111686) | B63: Adult (16 to <70 years) | D63: Young toddler (1 to <2 years) | F63: Toddler (2 to <3 years) | H63: Small child (3 to <6 years) | J63: Child (6 to <11 years) | L63: Teen (11 to < 16 years)
B64: ADR (mg/kg-day) | C64: ADD (mg/kg-day) | D64: ADR (mg/kg-day) | E64: ADD (mg/kg-day) | F64: ADR (mg/kg-day) | G64: ADD (mg/kg-day) | H64: ADR (mg/kg-day) | I64: ADD (mg/kg-day) | J64: ADR (mg/kg-day) | K64: ADD (mg/kg-day) | L64: ADR (mg/kg-day) | M64: ADD (mg/kg-day)
A65: Dose - BCF | B65: =(Inputs!$B$15*Inputs!$B$17*Inputs!$B$31*Inputs!$B$20*Inputs!$B$21*Inputs!$B$22)/Inputs!$B$23 -> 6.7973625e-06 | C65: =(Inputs!$C$15*Inputs!$C$17*Inputs!$C$31*Inputs!$C$20*Inputs!$C$21*Inputs!$C$22)/Inputs!$C$23 -> 8.99829e-07 | D65: =(Inputs!$B$15*Inputs!$B$17*Inputs!$B$26*Inputs!$B$20*Inputs!$B$21*Inputs!$B$22)/Inputs!$B$23 -> 1.009194e-05 | E65: =(Inputs!$C$15*Inputs!$C$17*Inputs!$C$26*Inputs!$C$20*Inputs!$C$21*Inputs!$C$22)/Inputs!$C$23 -> 7.56999e-07 | F65: =(Inputs!$B$15*Inputs!$B$17*Inputs!$B$27*Inputs!$B$20*Inputs!$B$21*Inputs!$B$22)/Inputs!$B$23 -> 8.352795e-06 | G65: =(Inputs!$C$15*Inputs!$C$17*Inputs!$C$27*Inputs!$C$20*Inputs!$C$21*Inputs!$C$22)/Inputs!$C$23 -> 6.14169e-07 | H65: =(Inputs!$B$15*Inputs!$B$17*Inputs!$B$28*Inputs!$B$20*Inputs!$B$21*Inputs!$B$22)/Inputs!$B$23 -> 7.64244e-06 | I65: =(Inputs!$C$15*Inputs!$C$17*Inputs!$C$28*Inputs!$C$20*Inputs!$C$21*Inputs!$C$22)/Inputs!$C$23 -> 5.42754e-07 | J65: =(Inputs!$B$15*Inputs!$B$17*Inputs!$B$29*Inputs!$B$20*Inputs!$B$21*Inputs!$B$22)/Inputs!$B$23 -> 5.92779e-06 | K65: =(Inputs!$C$15*Inputs!$C$17*Inputs!$C$29*Inputs!$C$20*Inputs!$C$21*Inputs!$C$22)/Inputs!$C$23 -> 4.99905e-07 | L65: =(Inputs!$B$15*Inputs!$B$17*Inputs!$B$30*Inputs!$B$20*Inputs!$B$21*Inputs!$B$22)/Inputs!$B$23 -> 3.57627e-06 | M65: =(Inputs!$C$15*Inputs!$C$17*Inputs!$C$30*Inputs!$C$20*Inputs!$C$21*Inputs!$C$22)/Inputs!$C$23 -> 2.71377e-07
A66: MOE - BCF | B66: =Inputs!$B$38/B65 -> 1059234.4 | C66: =Inputs!$C$38/C65 -> 8001520.3 | D66: =Inputs!$B$38/D65 -> 713440.63 | E66: =Inputs!$C$38/E65 -> 9511241.1 | F66: =Inputs!$B$38/F65 -> 861986.92 | G66: =Inputs!$C$38/G65 -> 11723158 | H66: =Inputs!$B$38/H65 -> 942107.49 | I66: =Inputs!$C$38/I65 -> 13265678 | J66: =Inputs!$B$38/J65 -> 1214617.9 | K66: =Inputs!$C$38/K65 -> 14402737 | L66: =Inputs!$B$38/L65 -> 2013270.8 | M66: =Inputs!$C$38/M65 -> 26531357
A69: Fish Ingestion Exposure and Risk Using EFAST Calc SWC, Unknown: Northern Edge Casino (NN0030343) | B69: Adult (16 to <70 years) | D69: Young toddler (1 to <2 years) | F69: Toddler (2 to <3 years) | H69: Small child (3 to <6 years) | J69: Child (6 to <11 years) | L69: Teen (11 to < 16 years)
B70: ADR (mg/kg-day) | C70: ADD (mg/kg-day) | D70: ADR (mg/kg-day) | E70: ADD (mg/kg-day) | F70: ADR (mg/kg-day) | G70: ADD (mg/kg-day) | H70: ADR (mg/kg-day) | I70: ADD (mg/kg-day) | J70: ADR (mg/kg-day) | K70: ADD (mg/kg-day) | L70: ADR (mg/kg-day) | M70: ADD (mg/kg-day)
A71: Dose - BCF | B71: =(Inputs!$B$16*Inputs!$B$17*Inputs!$B$31*Inputs!$B$20*Inputs!$B$21*Inputs!$B$22)/Inputs!$B$23 -> 1.7347635e-05 | C71: =(Inputs!$C$16*Inputs!$C$17*Inputs!$C$31*Inputs!$C$20*Inputs!$C$21*Inputs!$C$22)/Inputs!$C$23 -> 3.938382e-06 | D71: =(Inputs!$B$16*Inputs!$B$17*Inputs!$B$26*Inputs!$B$20*Inputs!$B$21*Inputs!$B$22)/Inputs!$B$23 -> 2.5755768e-05 | E71: =(Inputs!$C$16*Inputs!$C$17*Inputs!$C$26*Inputs!$C$20*Inputs!$C$21*Inputs!$C$22)/Inputs!$C$23 -> 3.313242e-06 | F71: =(Inputs!$B$16*Inputs!$B$17*Inputs!$B$27*Inputs!$B$20*Inputs!$B$21*Inputs!$B$22)/Inputs!$B$23 -> 2.1317274e-05 | G71: =(Inputs!$C$16*Inputs!$C$17*Inputs!$C$27*Inputs!$C$20*Inputs!$C$21*Inputs!$C$22)/Inputs!$C$23 -> 2.688102e-06 | H71: =(Inputs!$B$16*Inputs!$B$17*Inputs!$B$28*Inputs!$B$20*Inputs!$B$21*Inputs!$B$22)/Inputs!$B$23 -> 1.9504368e-05 | I71: =(Inputs!$C$16*Inputs!$C$17*Inputs!$C$28*Inputs!$C$20*Inputs!$C$21*Inputs!$C$22)/Inputs!$C$23 -> 2.375532e-06 | J71: =(Inputs!$B$16*Inputs!$B$17*Inputs!$B$29*Inputs!$B$20*Inputs!$B$21*Inputs!$B$22)/Inputs!$B$23 -> 1.5128388e-05 | K71: =(Inputs!$C$16*Inputs!$C$17*Inputs!$C$29*Inputs!$C$20*Inputs!$C$21*Inputs!$C$22)/Inputs!$C$23 -> 2.18799e-06 | L71: =(Inputs!$B$16*Inputs!$B$17*Inputs!$B$30*Inputs!$B$20*Inputs!$B$21*Inputs!$B$22)/Inputs!$B$23 -> 9.127044e-06 | M71: =(Inputs!$C$16*Inputs!$C$17*Inputs!$C$30*Inputs!$C$20*Inputs!$C$21*Inputs!$C$22)/Inputs!$C$23 -> 1.187766e-06
A72: MOE - BCF | B72: =Inputs!$B$38/B71 -> 415042.17 | C72: =Inputs!$C$38/C71 -> 1828161.9 | D72: =Inputs!$B$38/D71 -> 279549.03 | E72: =Inputs!$C$38/E71 -> 2173098.1 | F72: =Inputs!$B$38/F71 -> 337754.26 | G72: =Inputs!$C$38/G71 -> 2678469.8 | H72: =Inputs!$B$38/H71 -> 369148.08 | I72: =Inputs!$C$38/I71 -> 3030900 | J72: =Inputs!$B$38/J71 -> 475926.45 | K72: =Inputs!$C$38/K71 -> 3290691.5 | L72: =Inputs!$B$38/L71 -> 788864.39 | M72: =Inputs!$C$38/M71 -> 6061800.1

Sheet Fish Tissue Conc
A1: FISH TISSUE CONCENTRATIONS
A3: Fish Tissue Concentration Based on Surface Water Concentrations (SWC)
A5: SWC Type | B5: Fish Tissue Conc (mg/kg) Using BCF | C5: Fish Tissue Conc (mg/kg) Using BAF (mg/kg)
A6: Modeled SWC, Processing as a reactant (ug/L) | B6: =Inputs!$B$6*Inputs!$B$17*Inputs!$B$20 -> 0.031878 | C6: =Inputs!$B$6*Inputs!$B$18*Inputs!$B$20 -> 0.034188
A7: Modeled SWC, Processing Aid (ug/L) | B7: =Inputs!$B$7*Inputs!$B$17*Inputs!$B$20 -> 4.485e-05 | C7: =Inputs!$B$7*Inputs!$B$18*Inputs!$B$20 -> 4.81e-05
A8: Modeled SWC, Use of Laboratory Chemical (ug/L) | B8: =Inputs!$B$8*Inputs!$B$17*Inputs!$B$20 -> 0.00013455 | C8: =Inputs!$B$8*Inputs!$B$18*Inputs!$B$20 -> 0.0001443
A9: Modeled SWC, All purpose liquid cleaner (ug/L) | B9: =Inputs!$B$9*Inputs!$B$17*Inputs!$B$20 -> 0.0345 | C9: =Inputs!$B9*Inputs!$B$18*Inputs!$B$20 -> 0.037
A10: Modeled SWC, Formulation of Cleaning and Furnishing care products (ug/L) | B10: =Inputs!$B$10*Inputs!$B$17*Inputs!$B$20 -> 0.0062997 | C10: =Inputs!$B$10*Inputs!$B$18*Inputs!$B$20 -> 0.0067562
A11: Modeled SWC, Repackaging (ug/L) | B11: =Inputs!$B$11*Inputs!$B$17*Inputs!$B$20 -> 0.018009 | C11: =Inputs!$B11*Inputs!$B$18*Inputs!$B$20 -> 0.019314
A12: Modeled SWC, Distribution in Commerce (ug/L) | B12: =Inputs!$B$12*Inputs!$B$17*Inputs!$B$20 -> 0.0050715 | C12: =Inputs!$B12*Inputs!$B$18*Inputs!$B$20 -> 0.005439
A13: Modeled SWC, POTW (ug/L) | B13: =Inputs!$B$13*Inputs!$B$17*Inputs!$B$20 -> 0.07452 | C13: =Inputs!$B13*Inputs!$B$18*Inputs!$B$20 -> 0.07992
A14: Modeled SWC, Remediation (ug/L) | B14: =Inputs!$B$14*Inputs!$B$17*Inputs!$B$20 -> 0.00345 | C14: =Inputs!$B14*Inputs!$B$18*Inputs!$B$20 -> 0.0037
A15: Modeled SWC, Waste Handling, Treatment and Disposal (ug/L) | B15: =Inputs!$B$15*Inputs!$B$17*Inputs!$B$20 -> 0.024495 | C15: =Inputs!$B15*Inputs!$B$18*Inputs!$B$20 -> 0.02627
A16: Modeled SWC, Unknown (ug/L) | B16: =Inputs!$B$16*Inputs!$B$17*Inputs!$B$20 -> 0.062514 | C16: =Inputs!$B16*Inputs!$B$18*Inputs!$B$20 -> 0.067044
A17: NN0030343, Tribal exposure from Northern Edge Casino release | B17: =Inputs!$B$16*Inputs!$B$17*Inputs!$B$20 -> 0.062514 | C17: =Inputs!$B16*Inputs!$B$18*Inputs!$B$20 -> 0.067044
A19: Empirical Fish Tissue Concentration
A20: HERO | B20: Fish Tissue Concentration (mg/kg) | C20: Notes
B21: =Inputs!B19 -> 0 | C21: Data from US study only

Sheet Exp and Risk_Subsistence Fisher
A1: SUBSISTENCE FISHER EXPOSURE AND RISK
A6: Fish Ingestion Exposure and Risk EFAST Calc SWC Results, Processing as a Reactant (ug/L): ISP Chemical (KY0003701) OES operating days release | B6: Adult (16 to <70 years)
B7: ADR (mg/kg-day) | C7: ADD (mg/kg-day)
A8: Dose - BCF | B8: =(Inputs!$B$6*Inputs!$B$17*Inputs!$B$33*Inputs!$B$20*Inputs!$B$21*Inputs!$B$22)/Inputs!$B$23 -> 5.674284e-05 | C8: =(Inputs!$C$6*Inputs!$C$17*Inputs!$C$33*Inputs!$C$20*Inputs!$C$21*Inputs!$C$22)/Inputs!$C$23 -> 5.674284e-05
A9: MOE - BCF | B9: =Inputs!$B$38/B8 -> 126888.26 | C9: =Inputs!$C$38/C8 -> 126888.26
A12: Fish Ingestion Exposure and Risk EFAST Calc SWC Results for Processing Aid: Kodak Park (NY0001643) OES operating days release | B12: Adult (16 to <70 years) | D12: Adult (78 years)
B13: ADR (mg/kg-day) | C13: ADD (mg/kg-day) | D13: LADD (mg/kg-day)
A14: Dose - BCF | B14: =(Inputs!$B$7*Inputs!$B$17*Inputs!$B$33*Inputs!$B$20*Inputs!$B$21*Inputs!$B$22)/Inputs!$B$23 -> 7.9833e-08 | C14: =(Inputs!$C$7*Inputs!$C$17*Inputs!$C$33*Inputs!$C$20*Inputs!$C$21*Inputs!$C$22)/Inputs!$C$23 -> 3.979368e-08 | D14: =(Inputs!$C$7*Inputs!$C$17*Inputs!$C$33*Inputs!$C$20*Inputs!$C$21*Inputs!$C$22)/Inputs!$D$23 -> 3.1630874e-08
A15: MOE - BCF | B15: =Inputs!$B$38/B14 -> 90188268 | C15: =Inputs!$C$38/C14 -> 1.8093325e+08
A18: Fish Ingestion Exposure and Risk Using EFAST Calc SWC Results, Use of Laboratory Chemical: Amcol Health & Beauty Solutions, Inc (LA0108936) | B18: Adult (16 to <70 years) | D18: Adult (78 years)
B19: ADR (mg/kg-day) | C19: ADD (mg/kg-day) | D19: LADD (mg/kg-day)
A20: Dose - BCF | B20: =(Inputs!$B$8*Inputs!$B$17*Inputs!$B$33*Inputs!$B$20*Inputs!$B$21*Inputs!$B$22)/Inputs!$B$23 -> 2.39499e-07 | C20: =(Inputs!$C$8*Inputs!$C$17*Inputs!$C$33*Inputs!$C$20*Inputs!$C$21*Inputs!$C$22)/Inputs!$C$23 -> 2.39499e-07 | D20: =(Inputs!$C$8*Inputs!$C$17*Inputs!$C$33*Inputs!$C$20*Inputs!$C$21*Inputs!$C$22)/Inputs!$D$23 -> 1.90371e-07
A21: MOE - BCF | B21: =Inputs!$B$38/B20 -> 30062756 | C21: =Inputs!$C$38/C20 -> 30062756
A24: Fish Ingestion Exposure and Risk Using EFAST Calc SWC, All Purpose Liquid Cleaner: Allegiant Stadium (NV0024239) | B24: Adult (16 to <70 years) | D24: Adult (78 years)
B25: ADR (mg/kg-day) | C25: ADD (mg/kg-day) | D25: LADD (mg/kg-day)
A26: Dose - BCF | B26: =(Inputs!$B$9*Inputs!$B$17*Inputs!$B$33*Inputs!$B$20*Inputs!$B$21*Inputs!$B$22)/Inputs!$B$23 -> 6.141e-05 | C26: =(Inputs!$C$9*Inputs!$C$17*Inputs!$C$33*Inputs!$C$20*Inputs!$C$21*Inputs!$C$22)/Inputs!$C$23 -> 6.141e-05 | D26: =(Inputs!$C$9*Inputs!$C$17*Inputs!$C$33*Inputs!$C$20*Inputs!$C$21*Inputs!$C$22)/Inputs!$D$23 -> 4.8813077e-05
A27: MOE - BCF | B27: =Inputs!$B$38/B26 -> 117244.75 | C27: =Inputs!$C$38/C26 -> 117244.75
A30: Fish Ingestion Exposure and Risk Using EFAST Calc SWC, Formulation of cleaning and furnishing care products: BAE Systems Ordnance Systems, Inc (TN0003671) | B30: Adult (16 to <70 years) | D30: Adult (78 years)
B31: ADR (mg/kg-day) | C31: ADD (mg/kg-day) | D31: LADD (mg/kg-day)
A32: Dose - BCF | B32: =(Inputs!$B$10*Inputs!$B$17*Inputs!$B$33*Inputs!$B$20*Inputs!$B$21*Inputs!$B$22)/Inputs!$B$23 -> 1.1213466e-05 | C32: =(Inputs!$C$10*Inputs!$C$17*Inputs!$C$33*Inputs!$C$20*Inputs!$C$21*Inputs!$C$22)/Inputs!$C$23 -> 1.1213466e-05 | D32: =(Inputs!$C$10*Inputs!$C$17*Inputs!$C$33*Inputs!$C$20*Inputs!$C$21*Inputs!$C$22)/Inputs!$D$23 -> 8.9132678e-06
A33: MOE - BCF | B33: =Inputs!$B$38/B32 -> 642085.15 | C33: =Inputs!$C$38/C32 -> 642085.15
A36: Fish Ingestion Exposure and Risk Using EFAST Calc SWC, Repackaging: IMTT-Illinois, LLC (IL0005126) | B36: Adult (16 to <70 years) | D36: Adult (78 years)
B37: ADR (mg/kg-day) | C37: ADD (mg/kg-day) | D37: LADD (mg/kg-day)
A38: Dose - BCF | B38: =(Inputs!$B$11*Inputs!$B$17*Inputs!$B$33*Inputs!$B$20*Inputs!$B$21*Inputs!$B$22)/Inputs!$B$23 -> 3.205602e-05 | C38: =(Inputs!$C$11*Inputs!$C$17*Inputs!$C$33*Inputs!$C$20*Inputs!$C$21*Inputs!$C$22)/Inputs!$C$23 -> 2.21076e-05 | D38: =(Inputs!$C$11*Inputs!$C$17*Inputs!$C$33*Inputs!$C$20*Inputs!$C$21*Inputs!$C$22)/Inputs!$D$23 -> 1.7572708e-05
A39: MOE - BCF | B39: =Inputs!$B$38/B38 -> 224606.8 | C39: =Inputs!$C$38/C38 -> 325679.86
A42: Fish Ingestion Exposure and Risk Using EFAST Calc SWC, Distribution in Commerce: Vpak Termal, Long Beach, Inc (CA0064165) | B42: Adult (16 to <70 years) | D42: Adult (78 years)
B43: ADR (mg/kg-day) | C43: ADD (mg/kg-day) | D43: LADD (mg/kg-day)
A44: Dose - BCF | B44: =(Inputs!$B$12*Inputs!$B$17*Inputs!$B$33*Inputs!$B$20*Inputs!$B$21*Inputs!$B$22)/Inputs!$B$23 -> 9.02727e-06 | C44: =(Inputs!$C$11*Inputs!$C$17*Inputs!$C$33*Inputs!$C$20*Inputs!$C$21*Inputs!$C$22)/Inputs!$C$23 -> 2.21076e-05 | D44: =(Inputs!$C$11*Inputs!$C$17*Inputs!$C$33*Inputs!$C$20*Inputs!$C$21*Inputs!$C$22)/Inputs!$D$23 -> 1.7572708e-05
A45: MOE - BCF | B45: =Inputs!$B$38/B44 -> 797583.32 | C45: =Inputs!$C$38/C44 -> 325679.86
A48: Fish Ingestion Exposure and Risk Using EFAST Calc SWC, POTW: Franklin TWP Sew Auth. (PA0046326) | B48: Adult (16 to <70 years) | D48: Adult (78 years)
B49: ADR (mg/kg-day) | C49: ADD (mg/kg-day) | D49: LADD (mg/kg-day)
A50: Dose - BCF | B50: =(Inputs!$B$13*Inputs!$B$17*Inputs!$B$33*Inputs!$B$20*Inputs!$B$21*Inputs!$B$22)/Inputs!$B$23 -> 0.0001326456 | C50: =(Inputs!$C$11*Inputs!$C$17*Inputs!$C$33*Inputs!$C$20*Inputs!$C$21*Inputs!$C$22)/Inputs!$C$23 -> 2.21076e-05 | D50: =(Inputs!$C$11*Inputs!$C$17*Inputs!$C$33*Inputs!$C$20*Inputs!$C$21*Inputs!$C$22)/Inputs!$D$23 -> 1.7572708e-05
A51: MOE - BCF | B51: =Inputs!$B$38/B50 -> 54279.976 | C51: =Inputs!$C$38/C50 -> 325679.86
A54: Fish Ingestion Exposure and Risk Using EFAST Calc SWC, Remediation: Las Vegas Convention and Visitors Authority Remediation System (NV0024232) | B54: Adult (16 to <70 years) | D54: Adult (78 years)
B55: ADR (mg/kg-day) | C55: ADD (mg/kg-day) | D55: LADD (mg/kg-day)
A56: Dose - BCF | B56: =(Inputs!$B$14*Inputs!$B$17*Inputs!$B$33*Inputs!$B$20*Inputs!$B$21*Inputs!$B$22)/Inputs!$B$23 -> 6.141e-06 | C56: =(Inputs!$C$11*Inputs!$C$17*Inputs!$C$33*Inputs!$C$20*Inputs!$C$21*Inputs!$C$22)/Inputs!$C$23 -> 2.21076e-05 | D56: =(Inputs!$C$11*Inputs!$C$17*Inputs!$C$33*Inputs!$C$20*Inputs!$C$21*Inputs!$C$22)/Inputs!$D$23 -> 1.7572708e-05
A57: MOE - BCF | B57: =Inputs!$B$38/B56 -> 1172447.5 | C57: =Inputs!$C$38/C56 -> 325679.86
A60: Fish Ingestion Exposure and Risk Using EFAST Calc SWC, Waste Handling, Treatment and Disposal: Green America Recycling, LLC (MO0111686) | B60: Adult (16 to <70 years) | D60: Adult (78 years)
B61: ADR (mg/kg-day) | C61: ADD (mg/kg-day) | D61: LADD (mg/kg-day)
A62: Dose - BCF | B62: =(Inputs!$B$15*Inputs!$B$17*Inputs!$B$33*Inputs!$B$20*Inputs!$B$21*Inputs!$B$22)/Inputs!$B$23 -> 4.36011e-05 | C62: =(Inputs!$C$11*Inputs!$C$17*Inputs!$C$33*Inputs!$C$20*Inputs!$C$21*Inputs!$C$22)/Inputs!$C$23 -> 2.21076e-05 | D62: =(Inputs!$C$11*Inputs!$C$17*Inputs!$C$33*Inputs!$C$20*Inputs!$C$21*Inputs!$C$22)/Inputs!$D$23 -> 1.7572708e-05
A63: MOE - BCF | B63: =Inputs!$B$38/B62 -> 165133.45 | C63: =Inputs!$C$38/C62 -> 325679.86
A66: Fish Ingestion Exposure and Risk Using EFAST Calc SWC, Unknown: Northern Edge Casino (NN0030343) | B66: Adult (16 to <70 years) | D66: Adult (78 years)
B67: ADR (mg/kg-day) | C67: ADD (mg/kg-day) | D67: LADD (mg/kg-day)
A68: Dose - BCF | B68: =(Inputs!$B$16*Inputs!$B$17*Inputs!$B$33*Inputs!$B$20*Inputs!$B$21*Inputs!$B$22)/Inputs!$B$23 -> 0.00011127492 | C68: =(Inputs!$C$11*Inputs!$C$17*Inputs!$C$33*Inputs!$C$20*Inputs!$C$21*Inputs!$C$22)/Inputs!$C$23 -> 2.21076e-05 | D68: =(Inputs!$C$11*Inputs!$C$17*Inputs!$C$33*Inputs!$C$20*Inputs!$C$21*Inputs!$C$22)/Inputs!$D$23 -> 1.7572708e-05
A69: MOE - BCF | B69: =Inputs!$B$38/B68 -> 64704.607 | C69: =Inputs!$C$38/C68 -> 325679.86

Sheet Exp and Risk_Tribal
A1: TRIBAL EXPOSURE AND RISK
A6: Exposure and Risk Using SWC | B6: Adult (16 to <70 years)
B7: Current | D7: Heritage
B8: ADR (mg/kg-day) | C8: ADD (mg/kg-day) | D8: ADR (mg/kg-day) | E8: ADD (mg/kg-day)
A9: Dose - BCF | B9: =(Inputs!$B$6*Inputs!$B$17*Inputs!B35*Inputs!B20*Inputs!B21*Inputs!B22)/Inputs!B23 -> 8.60706e-05 | C9: =(Inputs!C6*Inputs!C17*Inputs!C35*Inputs!C20*Inputs!C21*Inputs!C22)/Inputs!C23 -> 8.60706e-05 | D9: =(Inputs!B6*Inputs!$B$17*Inputs!B36*Inputs!B20*Inputs!B21*Inputs!B22)/Inputs!B23 -> 0.00065604924 | E9: =(Inputs!C6*Inputs!C17*Inputs!C36*Inputs!C20*Inputs!C21*Inputs!C22)/Inputs!C23 -> 0.00065604924
A10: MOE - BCF | B10: =Inputs!$B$38/B9 -> 83652.258 | C10: =Inputs!$C$38/C9 -> 83652.258 | D10: =Inputs!$B$38/D9 -> 10974.786 | E10: =Inputs!$C$38/E9 -> 10974.786
A13: Exposure and Risk Using Modeled SWC, | B13: Adult (16 to <70 years)
B14: Current | D14: Heritage
B15: ADR (mg/kg-day) | C15: ADD (mg/kg-day) | D15: ADR (mg/kg-day) | E15: ADD (mg/kg-day)
A16: Dose - BCF | B16: =(Inputs!B7*Inputs!$B$17*Inputs!B35*Inputs!B20*Inputs!B21*Inputs!B22)/Inputs!B23 -> 1.21095e-07 | C16: =(Inputs!C7*Inputs!C17*Inputs!C35*Inputs!C20*Inputs!C21*Inputs!C22)/Inputs!C23 -> 6.03612e-08 | D16: =(Inputs!B7*Inputs!$B$17*Inputs!B36*Inputs!B20*Inputs!B21*Inputs!B22)/Inputs!B23 -> 9.23013e-07 | E16: =(Inputs!C7*Inputs!C17*Inputs!C36*Inputs!C20*Inputs!C21*Inputs!C22)/Inputs!C23 -> 4.6008648e-07
A17: MOE - BCF | B17: =Inputs!$B$38/B16 -> 59457451 | C17: =Inputs!$C$38/C16 -> 1.1928192e+08 | D17: =Inputs!$B$38/D16 -> 7800540.2 | E17: =Inputs!$C$38/E16 -> 15649232
A20: Exposure and Risk Using Modeled SWC, | B20: Adult (16 to <70 years)
B21: Current | D21: Heritage
B22: ADR (mg/kg-day) | C22: ADD (mg/kg-day) | D22: ADR (mg/kg-day) | E22: ADD (mg/kg-day)
A23: Dose - BCF | B23: =(Inputs!B8*Inputs!$B$17*Inputs!B35*Inputs!B20*Inputs!B21*Inputs!B22)/Inputs!B23 -> 3.63285e-07 | C23: =(Inputs!C8*Inputs!C17*Inputs!C35*Inputs!C20*Inputs!C21*Inputs!C22)/Inputs!C23 -> 3.63285e-07 | D23: =(Inputs!B8*Inputs!$B$17*Inputs!B36*Inputs!B20*Inputs!B21*Inputs!B22)/Inputs!B23 -> 2.769039e-06 | E23: =(Inputs!C8*Inputs!C17*Inputs!C36*Inputs!C20*Inputs!C21*Inputs!C22)/Inputs!C23 -> 2.769039e-06
A24: MOE - BCF | B24: =Inputs!$B$38/B23 -> 19819150 | C24: =Inputs!$C$38/C23 -> 19819150 | D24: =Inputs!$B$38/D23 -> 2600180.1 | E24: =Inputs!$C$38/E23 -> 2600180.1
A27: Exposure and Risk Using Modeled SWC, | B27: Adult (16 to <70 years)
B28: Current | D28: Heritage
B29: ADR (mg/kg-day) | C29: ADD (mg/kg-day) | D29: ADR (mg/kg-day) | E29: ADD (mg/kg-day)
A30: Dose - BCF | B30: =(Inputs!$B$9*Inputs!$B$17*Inputs!$B$35*Inputs!$B$20*Inputs!$B$21*Inputs!$B$22)/Inputs!$B$23 -> 9.315e-05 | C30: =(Inputs!$C$9*Inputs!$C$17*Inputs!$C$35*Inputs!$C$20*Inputs!$C$21*Inputs!$C$22)/Inputs!$C$23 -> 9.315e-05 | D30: =(Inputs!$B$9*Inputs!$B$17*Inputs!$B$36*Inputs!$B$20*Inputs!$B$21*Inputs!$B$22)/Inputs!$B$23 -> 0.00071001 | E30: =(Inputs!$C$9*Inputs!$C$17*Inputs!$C$36*Inputs!$C$20*Inputs!$C$21*Inputs!$C$22)/Inputs!$C$23 -> 0.00071001
A31: MOE - BCF | B31: =Inputs!$B$38/B30 -> 77294.686 | C31: =Inputs!$C$38/C30 -> 77294.686 | D31: =Inputs!$B$38/D30 -> 10140.702 | E31: =Inputs!$C$38/E30 -> 10140.702
A34: Exposure and Risk Using Modeled SWC, | B34: Adult (16 to <70 years)
B35: Current | D35: Heritage
B36: ADR (mg/kg-day) | C36: ADD (mg/kg-day) | D36: ADR (mg/kg-day) | E36: ADD (mg/kg-day)
A37: Dose - BCF | B37: =(Inputs!$B$10*Inputs!$B$17*Inputs!$B$35*Inputs!$B$20*Inputs!$B$21*Inputs!$B$22)/Inputs!$B$23 -> 1.700919e-05 | C37: =(Inputs!$C$10*Inputs!$C$17*Inputs!$C$35*Inputs!$C$20*Inputs!$C$21*Inputs!$C$22)/Inputs!$C$23 -> 1.700919e-05 | D37: =(Inputs!$B$10*Inputs!$B$17*Inputs!$B$36*Inputs!$B$20*Inputs!$B$21*Inputs!$B$22)/Inputs!$B$23 -> 0.00012964783 | E37: =(Inputs!$C$10*Inputs!$C$17*Inputs!$C$36*Inputs!$C$20*Inputs!$C$21*Inputs!$C$22)/Inputs!$C$23 -> 0.00012964783
A38: MOE - BCF | B38: =Inputs!$B$38/B37 -> 423300.58 | C38: =Inputs!$C$38/C37 -> 423300.58 | D38: =Inputs!$B$38/D37 -> 55535.062 | E38: =Inputs!$C$38/E37 -> 55535.062
A41: Exposure and Risk Using Modeled SWC, | B41: Adult (16 to <70 years)
B42: Current | D42: Heritage
B43: ADR (mg/kg-day) | C43: ADD (mg/kg-day) | D43: ADR (mg/kg-day) | E43: ADD (mg/kg-day)
A44: Dose - BCF | B44: =(Inputs!$B$11*Inputs!$B$17*Inputs!$B$35*Inputs!$B$20*Inputs!$B$21*Inputs!$B$22)/Inputs!$B$23 -> 4.86243e-05 | C44: =(Inputs!$C11*Inputs!$C$17*Inputs!$C$35*Inputs!$C$20*Inputs!$C$21*Inputs!$C$22)/Inputs!$C$23 -> 3.3534e-05 | D44: =(Inputs!$B$11*Inputs!$B$17*Inputs!$B$36*Inputs!$B$20*Inputs!$B$21*Inputs!$B$22)/Inputs!$B$23 -> 0.00037062522 | E44: =(Inputs!$C11*Inputs!$C$17*Inputs!$C$36*Inputs!$C$20*Inputs!$C$21*Inputs!$C$22)/Inputs!$C$23 -> 0.0002556036
A45: MOE - BCF | B45: =Inputs!$B$38/B44 -> 148074.11 | C45: =Inputs!$C$38/C44 -> 214707.46 | D45: =Inputs!$B$38/D44 -> 19426.633 | E45: =Inputs!$C$38/E44 -> 28168.617
A48: Exposure and Risk Using Monitoring | B48: Adult (16 to <70 years)
B49: Current | D49: Heritage
B50: ADR (mg/kg-day) | C50: ADD (mg/kg-day) | D50: ADR (mg/kg-day) | E50: ADD (mg/kg-day)
A51: Dose - BCF | B51: =(Inputs!$B$12*Inputs!$B$17*Inputs!$B$35*Inputs!$B$20*Inputs!$B$21*Inputs!$B$22)/Inputs!$B$23 -> 1.369305e-05 | C51: =(Inputs!$C$12*Inputs!$C$17*Inputs!$C$35*Inputs!$C$20*Inputs!$C$21*Inputs!$C$22)/Inputs!$C$23 -> 1.369305e-05 | D51: =(Inputs!$B$12*Inputs!$B$17*Inputs!$B$36*Inputs!$B$20*Inputs!$B$21*Inputs!$B$22)/Inputs!$B$23 -> 0.00010437147 | E51: =(Inputs!$C$12*Inputs!$C$17*Inputs!$C$36*Inputs!$C$20*Inputs!$C$21*Inputs!$C$22)/Inputs!$C$23 -> 0.00010437147
A52: MOE - BCF | B52: =Inputs!$B$38/B51 -> 525814.19 | C52: =Inputs!$C$38/C51 -> 525814.19 | D52: =Inputs!$B$38/D51 -> 68984.369 | E52: =Inputs!$C$38/E51 -> 68984.369
A55: Exposure and Risk Using Northern Edge Casino (NN0030343) | B55: Adult (16 to <70 years)
B56: Current | D56: Heritage
B57: ADR (mg/kg-day) | C57: ADD (mg/kg-day) | D57: ADR (mg/kg-day) | E57: ADD (mg/kg-day) | F57: LADD (mg/kg-day)
A58: Dose - BCF | B58: =(Inputs!$B$16*Inputs!$B$17*Inputs!$B$35*Inputs!$B$20*Inputs!$B$21*Inputs!$B$22)/Inputs!$B$23 -> 0.0001687878 | C58: =(Inputs!$C$16*Inputs!$C$17*Inputs!$C$35*Inputs!$C$20*Inputs!$C$21*Inputs!$C$22)/Inputs!$C$23 -> 0.0001687878 | D58: =(Inputs!$B$16*Inputs!$B$17*Inputs!$B$36*Inputs!$B$20*Inputs!$B$21*Inputs!$B$22)/Inputs!$B$23 -> 0.0012865381 | E58: =(Inputs!$C$16*Inputs!$C$17*Inputs!$C$36*Inputs!$C$20*Inputs!$C$21*Inputs!$C$22)/Inputs!$C$23 -> 0.0012865381 | F58: =(Inputs!$C$16*Inputs!$C$17*Inputs!$C$35*Inputs!$C$20*Inputs!$C$21*Inputs!$C$22)/Inputs!$D$23 -> 0.00013416466
A59: MOE - BCF | B59: =Inputs!$B$38/B58 -> 42657.111 | C59: =Inputs!$C$38/C58 -> 42657.111 | D59: =Inputs!$B$38/D58 -> 5596.414 | E59: =Inputs!$C$38/E58 -> 5596.414
A62: Exposure and Risk Using Northern Edge Casino (NN0030343) | B62: Child (3-5 years)
B63: Current | D63: Heritage
B64: ADR (mg/kg-day) | C64: ADD (mg/kg-day) | D64: ADR (mg/kg-day) | E64: ADD (mg/kg-day)
A65: Dose - BCF | B65: =(Inputs!$B$16*Inputs!$B$17*Inputs!$B$41*Inputs!$B$20*Inputs!$B$21*Inputs!$B$22)/Inputs!$B$23 -> 1.5434707e-05 | C65: =(Inputs!$C$16*Inputs!$C$17*Inputs!$C$41*Inputs!$C$20*Inputs!$C$21*Inputs!$C$22)/Inputs!$C$23 -> 1.5434707e-05
A66: MOE - BCF | B66: =Inputs!$B$38/B65 -> 466481.17 | C66: =Inputs!$C$38/C65 -> 466481.17
A69: Exposure and Risk Using Northern Edge Casino (NN0030343) | B69: Youth (6-11 years)
B70: Current | D70: Heritage
B71: ADR (mg/kg-day) | C71: ADD (mg/kg-day) | D71: ADR (mg/kg-day) | E71: ADD (mg/kg-day)
A72: Dose - BCF | B72: =(Inputs!$B$16*Inputs!$B$17*Inputs!$B$42*Inputs!$B$20*Inputs!$B$21*Inputs!$B$22)/Inputs!$B$23 -> 2.0642123e-05 | C72: =(Inputs!$C$16*Inputs!$C$17*Inputs!$C$42*Inputs!$C$20*Inputs!$C$21*Inputs!$C$22)/Inputs!$C$23 -> 2.0642123e-05
A73: MOE - BCF | B73: =Inputs!$B$38/B72 -> 348801.34 | C73: =Inputs!$C$38/C72 -> 348801.34
