Workbook
Name ClassIChemicals: Lists!$B$3:$B$24
Name CompleteRows: '3 - Export Summary'!$K$1
Name Countries: Lists!$F$3:$F$204
Name EndDate: Lists!$E$4
Name EndRowS2: '2 - Export Data'!$A$1511
Name NewIntendedUses: Lists!$J$5:$J$7
Name ReportingYear: Lists!$C$3:$C$12
Name ReportYr: '1 - Report Identification'!$C$10
Name StartDate: Lists!$E$3
Name StartRowS2: '2 - Export Data'!$A$12
Name TransactionType: Lists!$I$3:$I$4
Name UsedIntendedUses: Lists!$K$5:$K$8

Sheet Instructions
B1: U.S. Environmental Protection Agency (EPA) | D1: OMB Control Number: 2060-0170
D2: Expiration Date: 8/31/27
B4: Clean Air Act - Class I Exporter Annual Report
B5: Worksheet Instructions:
B6: Complete and submit a Class I Exporter Annual Report if your company exports class I ozone depleting substances (ODS). Section 1 must be completed prior to submission. Section 2 must be completed if your company exported class I ODS during the reporting year.
B7: Version:
B8: 6
B9: Updated:
B10: 46280
B11: External Links:
B12: ODS Recordkeeping and Reporting webpage
B13: Reporting Form Navigation:
B14: Section 1 - Report Identification Information
B15: Section 2 - Export Transaction Data
B16: Section 3 - Export Summary
B18: All information submitted to EPA will be treated as confidential in accordance with 40 CFR Part 2, Subpart B, and will only be disclosed by the means set forth in the subpart.
B20: This collection of information is approved by OMB under the Paperwork Reduction Act, 44 U.S.C. 3501 et seq. (OMB Control No. 2060-0170). Responses to this collection of information are mandatory (40 CFR 82.13). An agency may not conduct or sponsor, and a person is not required to respond to, a collection of information unless it displays a currently valid OMB control number. The number and expiration date are displayed in the upper right corner of the form. The public reporting and recordkeeping burden for this collection of information is estimated to be 2 hours per response. Send comments on the Agency’s need this formation, the accuracy of the provided burden estimates and any suggested methods for minimizing respondent burden including through the use of automated collection techniques to the Director, Regulatory Support Division, U.S. Environmental Protection Agency (2821T), 1200 Pennsylvania Ave., NW, Washington, D.C. 20460. Include the OMB control number in any correspondence. Do not send the completed form to this address.
B30: EPA Form #5900-149

Sheet 1 - Report Identification
B1: U.S. Environmental Protection Agency (EPA) | D1: OMB Control Number: 2060-0170
D2: Expiration Date: 08/31/27
B4: Clean Air Act - Class I Exporter Annual Report
B5: Go to Section 2 - Export Transaction Data
B7: Section 1 - Report Identification Information
B8: Instructions: Complete the following identification information.
B9: Company Name
B10: Reporting Year
B11: Employer Identification Number (EIN)

Sheet 2 - Export Data
C1: U.S. Environmental Protection Agency (EPA) | R1: OMB Control Number: 2060-0170
R2: Expiration Date: 08/31/27
C4: Clean Air Act - Class I Exporter Annual Report
C5: Go to Section 3 - Export Summary
C7: Section 2 - Export Transaction Data
C8: Instructions: Enter the quantity of each class I controlled substance exported during the reporting period. If no controlled substances were exported, the table may be left blank. For all controlled substances that are exported, all fields are required.
C9: Class I Export Data
C10: 1 | D10: 2 | E10: 3 | F10: 4 | G10: 5 | H10: 6 | I10: 7 | J10: 8 | K10: 9 | L10: 10 | M10: 11 | N10: 12 | O10: 13 | P10: 14 | Q10: 15 | R10: 16
C11: Transaction Number | D11: Date of Export | E11: Recipient Company | F11: Recipient Company Street Address | G11: Recipient Company City | H11: Recipient Company Country | I11: Recipient Company Postal Code | J11: Recipient Company Contact Name | K11: Recipient Company Phone Number | L11: Name of the Class I Chemical Exported | M11: Quantity of the Class I Chemical Exported (kg) | N11: Commodity Code | O11: Port of Exit from the United States | P11: Shipment EIN | Q11: Transaction Type | R11: Intended Use
A12: 1st | B12: 1 | C12: =IF(L12=0,"",1)
B13: 2 | C13: =IF(L13=0,"",MAX($C$12:C12)+1)
B14: 3 | C14: =IF(L14=0,"",MAX($C$12:C13)+1)
B15: 4 | C15: =IF(L15=0,"",MAX($C$12:C14)+1)
B16: 5 | C16: =IF(L16=0,"",MAX($C$12:C15)+1)
B17: 6 | C17: =IF(L17=0,"",MAX($C$12:C16)+1)
B18: 7 | C18: =IF(L18=0,"",MAX($C$12:C17)+1)
B19: 8 | C19: =IF(L19=0,"",MAX($C$12:C18)+1)
B20: 9 | C20: =IF(L20=0,"",MAX($C$12:C19)+1)
B21: 10 | C21: =IF(L21=0,"",MAX($C$12:C20)+1)
B22: 11 | C22: =IF(L22=0,"",MAX($C$12:C21)+1)
B23: 12 | C23: =IF(L23=0,"",MAX($C$12:C22)+1)
B24: 13 | C24: =IF(L24=0,"",MAX($C$12:C23)+1)
... B1510: 1499 | C1510: =IF(L1510=0,"",MAX($C$12:C1509)+1)
A1511: =IF(COUNTA(L42:L1511)>0,0,1) -> 1 | B1511: 1500 | C1511: =IF(L1511=0,"",MAX($C$12:C1510)+1)

Sheet 3 - Export Summary
D1: U.S. Environmental Protection Agency (EPA) | F1: OMB Control Number: 2060-0170
F2: Expiration Date: 08/31/27
D4: Clean Air Act - Class I Exporter Annual Report
D6: Section 3 - Export Summary
D7: The values in the table below are calculated based on data entered in Section 2. If the totals appear to be incorrect, please return to Section 2 to review your data.
D8: Class I Export Summary
D9: 1 | E9: 2 | F9: 3
D10: Chemical Name | E10: Country | F10: Total Quantity Exported (kg)
A11: 1 | C11: 1 | D11: =IFERROR(VLOOKUP(A11,'Data for Summary'!$B$3:$F$1515,COLUMNS('Data for Summary'!$B$2:$D$2),0),"") | E11: =IFERROR(VLOOKUP(A11,'Data for Summary'!$B$3:$F$1515,COLUMNS('Data for Summary'!$B$2:$E$2),0),"") | F11: =IF(D11="","",SUMIFS('Data for Summary'!$F$3:$F$1515,'Data for Summary'!$D$3:$D$1515,D11,'Data for Summary'!$E$3:$E$1515,E11))
A12: =A11+1 -> 2 | C12: 2 | D12: =IFERROR(VLOOKUP(A12,'Data for Summary'!$B$3:$F$1515,COLUMNS('Data for Summary'!$B$2:$D$2),0),"") | E12: =IFERROR(VLOOKUP(A12,'Data for Summary'!$B$3:$F$1515,COLUMNS('Data for Summary'!$B$2:$E$2),0),"") | F12: =IF(D12="","",SUMIFS('Data for Summary'!$F$3:$F$1515,'Data for Summary'!$D$3:$D$1515,D12,'Data for Summary'!$E$3:$E$1515,E12))
A13: =A12+1 -> 3 | C13: 3 | D13: =IFERROR(VLOOKUP(A13,'Data for Summary'!$B$3:$F$1515,COLUMNS('Data for Summary'!$B$2:$D$2),0),"") | E13: =IFERROR(VLOOKUP(A13,'Data for Summary'!$B$3:$F$1515,COLUMNS('Data for Summary'!$B$2:$E$2),0),"") | F13: =IF(D13="","",SUMIFS('Data for Summary'!$F$3:$F$1515,'Data for Summary'!$D$3:$D$1515,D13,'Data for Summary'!$E$3:$E$1515,E13))
A14: =A13+1 -> 4 | C14: 4 | D14: =IFERROR(VLOOKUP(A14,'Data for Summary'!$B$3:$F$1515,COLUMNS('Data for Summary'!$B$2:$D$2),0),"") | E14: =IFERROR(VLOOKUP(A14,'Data for Summary'!$B$3:$F$1515,COLUMNS('Data for Summary'!$B$2:$E$2),0),"") | F14: =IF(D14="","",SUMIFS('Data for Summary'!$F$3:$F$1515,'Data for Summary'!$D$3:$D$1515,D14,'Data for Summary'!$E$3:$E$1515,E14))
A15: =A14+1 -> 5 | C15: 5 | D15: =IFERROR(VLOOKUP(A15,'Data for Summary'!$B$3:$F$1515,COLUMNS('Data for Summary'!$B$2:$D$2),0),"") | E15: =IFERROR(VLOOKUP(A15,'Data for Summary'!$B$3:$F$1515,COLUMNS('Data for Summary'!$B$2:$E$2),0),"") | F15: =IF(D15="","",SUMIFS('Data for Summary'!$F$3:$F$1515,'Data for Summary'!$D$3:$D$1515,D15,'Data for Summary'!$E$3:$E$1515,E15))
A16: =A15+1 -> 6 | C16: 6 | D16: =IFERROR(VLOOKUP(A16,'Data for Summary'!$B$3:$F$1515,COLUMNS('Data for Summary'!$B$2:$D$2),0),"") | E16: =IFERROR(VLOOKUP(A16,'Data for Summary'!$B$3:$F$1515,COLUMNS('Data for Summary'!$B$2:$E$2),0),"") | F16: =IF(D16="","",SUMIFS('Data for Summary'!$F$3:$F$1515,'Data for Summary'!$D$3:$D$1515,D16,'Data for Summary'!$E$3:$E$1515,E16))
A17: =A16+1 -> 7 | C17: 7 | D17: =IFERROR(VLOOKUP(A17,'Data for Summary'!$B$3:$F$1515,COLUMNS('Data for Summary'!$B$2:$D$2),0),"") | E17: =IFERROR(VLOOKUP(A17,'Data for Summary'!$B$3:$F$1515,COLUMNS('Data for Summary'!$B$2:$E$2),0),"") | F17: =IF(D17="","",SUMIFS('Data for Summary'!$F$3:$F$1515,'Data for Summary'!$D$3:$D$1515,D17,'Data for Summary'!$E$3:$E$1515,E17))
A18: =A17+1 -> 8 | C18: 8 | D18: =IFERROR(VLOOKUP(A18,'Data for Summary'!$B$3:$F$1515,COLUMNS('Data for Summary'!$B$2:$D$2),0),"") | E18: =IFERROR(VLOOKUP(A18,'Data for Summary'!$B$3:$F$1515,COLUMNS('Data for Summary'!$B$2:$E$2),0),"") | F18: =IF(D18="","",SUMIFS('Data for Summary'!$F$3:$F$1515,'Data for Summary'!$D$3:$D$1515,D18,'Data for Summary'!$E$3:$E$1515,E18))
A19: =A18+1 -> 9 | C19: 9 | D19: =IFERROR(VLOOKUP(A19,'Data for Summary'!$B$3:$F$1515,COLUMNS('Data for Summary'!$B$2:$D$2),0),"") | E19: =IFERROR(VLOOKUP(A19,'Data for Summary'!$B$3:$F$1515,COLUMNS('Data for Summary'!$B$2:$E$2),0),"") | F19: =IF(D19="","",SUMIFS('Data for Summary'!$F$3:$F$1515,'Data for Summary'!$D$3:$D$1515,D19,'Data for Summary'!$E$3:$E$1515,E19))
A20: =A19+1 -> 10 | C20: 10 | D20: =IFERROR(VLOOKUP(A20,'Data for Summary'!$B$3:$F$1515,COLUMNS('Data for Summary'!$B$2:$D$2),0),"") | E20: =IFERROR(VLOOKUP(A20,'Data for Summary'!$B$3:$F$1515,COLUMNS('Data for Summary'!$B$2:$E$2),0),"") | F20: =IF(D20="","",SUMIFS('Data for Summary'!$F$3:$F$1515,'Data for Summary'!$D$3:$D$1515,D20,'Data for Summary'!$E$3:$E$1515,E20))
A21: =A20+1 -> 11 | C21: 11 | D21: =IFERROR(VLOOKUP(A21,'Data for Summary'!$B$3:$F$1515,COLUMNS('Data for Summary'!$B$2:$D$2),0),"") | E21: =IFERROR(VLOOKUP(A21,'Data for Summary'!$B$3:$F$1515,COLUMNS('Data for Summary'!$B$2:$E$2),0),"") | F21: =IF(D21="","",SUMIFS('Data for Summary'!$F$3:$F$1515,'Data for Summary'!$D$3:$D$1515,D21,'Data for Summary'!$E$3:$E$1515,E21))
A22: =A21+1 -> 12 | C22: 12 | D22: =IFERROR(VLOOKUP(A22,'Data for Summary'!$B$3:$F$1515,COLUMNS('Data for Summary'!$B$2:$D$2),0),"") | E22: =IFERROR(VLOOKUP(A22,'Data for Summary'!$B$3:$F$1515,COLUMNS('Data for Summary'!$B$2:$E$2),0),"") | F22: =IF(D22="","",SUMIFS('Data for Summary'!$F$3:$F$1515,'Data for Summary'!$D$3:$D$1515,D22,'Data for Summary'!$E$3:$E$1515,E22))
A23: =A22+1 -> 13 | C23: 13 | D23: =IFERROR(VLOOKUP(A23,'Data for Summary'!$B$3:$F$1515,COLUMNS('Data for Summary'!$B$2:$D$2),0),"") | E23: =IFERROR(VLOOKUP(A23,'Data for Summary'!$B$3:$F$1515,COLUMNS('Data for Summary'!$B$2:$E$2),0),"") | F23: =IF(D23="","",SUMIFS('Data for Summary'!$F$3:$F$1515,'Data for Summary'!$D$3:$D$1515,D23,'Data for Summary'!$E$3:$E$1515,E23))
... A260: =A259+1 -> 250 | C260: 250 | D260: =IFERROR(VLOOKUP(A260,'Data for Summary'!$B$3:$F$1515,COLUMNS('Data for Summary'!$B$2:$D$2),0),"") | E260: =IFERROR(VLOOKUP(A260,'Data for Summary'!$B$3:$F$1515,COLUMNS('Data for Summary'!$B$2:$E$2),0),"") | F260: =IF(D260="","",SUMIFS('Data for Summary'!$F$3:$F$1515,'Data for Summary'!$D$3:$D$1515,D260,'Data for Summary'!$E$3:$E$1515,E260))

Sheet Lists
B2: Class I Chemicals | C2: Reporting Year | D2: Year | E2: Date Range | F2: Country List | G2: Port of Exit List | H2: Commodity Code | I2: Transaction Types | J2: Intended Uses - If New | K2: Intended Uses - If Used
B3: CBM | C3: 2020 | D3: =ReportYr -> 0 | E3: =DATE(ReportYr,1,1) -> 1 | F3: Afghanistan | G3: Aberdeen, Washington - 3003 | H3: 2903.14.0000 | I3: New | J3: New | K3: Used
B4: CCL4 | C4: 2021 | E4: =DATE(ReportYr,12,31) -> 366 | F4: Albania | G4: Addison Airport, Texas - 5584 | H4: 2903.19.6010 | I4: Used | J4: NewIntendedUses | K4: UsedIntendedUses
B5: CFC-11 | C5: 2022 | F5: Algeria | G5: Aguadilla, Puerto Rico - 4901 | H5: 2903.76.0100 | J5: Global Lab | K5: Transformation
B6: CFC-12 | C6: 2023 | F6: Andorra | G6: Air France (Mach Plus), Jamaica, New York - 4774 | H6: 2903.77.0010 | J6: Transformation | K6: Destruction
B7: CFC-13 | C7: 2024 | F7: Angola | G7: Albany, New York - 1002 | H7: 2903.77.0020 | J7: Destruction | K7: Aircraft Halon Bottles
B8: CFC-111 | C8: 2025 | F8: Antigua and Barbuda | G8: Albuquerque, New Mexico - 2407 | H8: 2903.77.0030 | K8: Other
B9: CFC-112 | C9: 2026 | F9: Argentina | G9: Alcan, Alaska - 3104 | H9: 2903.77.0040
B10: CFC-113 | C10: 2027 | F10: Armenia | G10: Alexandria Bay, New York - 0708 | H10: 2903.77.0050
B11: CFC-114 | C11: 2028 | F11: Australia | G11: Alexandria, Virginia - 5402 | H11: 2903.77.0080
B12: CFC-115 | C12: 2029 | F12: Austria | G12: Algonac, Michigan - 3814 | H12: 2903.79.1000
B13: CFC-211 | F13: Azerbaijan | G13: Allentown (Lehigh Valley Intl Airpt), Pennsylvania - 1119 | H13: 3827.11.0000
B14: CFC-212 | F14: Bahamas | G14: Alliance Airport, Texas - 5583 | H14: 3827.12.0000
B15: CFC-213 | F15: Bahrain | G15: Alpena, Michigan - 3843 | H15: 3827.13.0000
B16: CFC-214 | F16: Bangladesh | G16: Amarillo, Texas - 5502 | H16: 3827.14.0000
B17: CFC-215 | F17: Barbados | G17: Ambrose, North Dakota - 3410 | H17: 3827.20.0000
B18: CFC-216 | F18: Belarus | G18: Anacortes - 3010
B19: CFC-217 | F19: Belgium | G19: Anchorage, Alaska - 3126
B20: CH3CCL3 | F20: Belize | G20: Andrade - Class A, California - 2502
B21: Halon 1211 | F21: Benin | G21: Annapolis, Maryland - 1301
B22: Halon 1301 | F22: Bermuda | G22: Antler, North Dakota - 3413
B23: Halon 2402 | F23: Bhutan | G23: Appleton International Airport, Wisconsin - 3781
B24: HBFCs | F24: Bolivia | G24: Area Port of Jacksonville, Florida - 1803
F25: Bosnia and Herzegovina | G25: Area Port of Sweetgrass, Montana - 3310
F26: Botswana | G26: Area Port of Tampa, Florida - 1801
F27: Brazil | G27: Ashland, Wisconsin - 3511
F28: British Virgin Islands | G28: Ashtabula/Conneaut, Ohio - 4122
F29: Brunei Darussalam | G29: Astoria, Oregon - 2901
F30: Bulgaria | G30: Atlanta, Georgia - 1704
F31: Burkina Faso | G31: Atlantic City Regional Airport, New Jersey - 1182
F32: Burundi | G32: Austin, Texas - 5506
F33: Cabo Verde | G33: Baltimore, Maryland - 1303
F34: Cambodia | G34: Bangor, Maine - 0102
F35: Cameroon | G35: Bar Harbor, Maine - 0112
F36: Canada | G36: Bath, Maine - 0111
... F204: Zimbabwe | G204: Longview, Washington - 2905
G205: Lorain, Ohio - 4121
G206: Los Angeles International Airport-Cargo Operations, California - 2720
G207: Los Angeles, California - 2791
G208: Los Angeles/Long Beach Seaport, California - 2704
...

Sheet Data for Summary
B2: Order | C2: Unique ID | D2: Class I Chemical | E2: Country | F2: Total Exported | J2: Class I Chem List
B3: =IF(C3="","",1) | C3: =IF(D3="","",D3&"_"&E3) | D3: =IF(ISBLANK('2 - Export Data'!L12),"",'2 - Export Data'!L12) | E3: =IF($D3="","",'2 - Export Data'!H12) | F3: =IF($D3="","",'2 - Export Data'!M12) | I3: =IF(COUNTIF($D$3:$D$1002,J3)>0,1,0) -> 0 | J3: =Lists!B3 -> CBM
B4: =IF(OR(C4="",COUNTIF($C3:C$3,C4)>0),"",MAX($B3:B$3)+1) | C4: =IF(D4="","",D4&"_"&E4) | D4: =IF(ISBLANK('2 - Export Data'!L13),"",'2 - Export Data'!L13) | E4: =IF($D4="","",'2 - Export Data'!H13) | F4: =IF($D4="","",'2 - Export Data'!M13) | I4: =IF(COUNTIF($D$3:$D$1002,J4)>0,MAX($I$3:I3)+1,0) -> 0 | J4: =Lists!B4 -> CCL4
B5: =IF(OR(C5="",COUNTIF($C$3:C4,C5)>0),"",MAX($B$3:B4)+1) | C5: =IF(D5="","",D5&"_"&E5) | D5: =IF(ISBLANK('2 - Export Data'!L14),"",'2 - Export Data'!L14) | E5: =IF($D5="","",'2 - Export Data'!H14) | F5: =IF($D5="","",'2 - Export Data'!M14) | I5: =IF(COUNTIF($D$3:$D$1002,J5)>0,MAX($I$3:I4)+1,0) -> 0 | J5: =Lists!B5 -> CFC-11
B6: =IF(OR(C6="",COUNTIF($C$3:C5,C6)>0),"",MAX($B$3:B5)+1) | C6: =IF(D6="","",D6&"_"&E6) | D6: =IF(ISBLANK('2 - Export Data'!L15),"",'2 - Export Data'!L15) | E6: =IF($D6="","",'2 - Export Data'!H15) | F6: =IF($D6="","",'2 - Export Data'!M15) | I6: =IF(COUNTIF($D$3:$D$1002,J6)>0,MAX($I$3:I5)+1,0) -> 0 | J6: =Lists!B6 -> CFC-12
B7: =IF(OR(C7="",COUNTIF($C$3:C6,C7)>0),"",MAX($B$3:B6)+1) | C7: =IF(D7="","",D7&"_"&E7) | D7: =IF(ISBLANK('2 - Export Data'!L16),"",'2 - Export Data'!L16) | E7: =IF($D7="","",'2 - Export Data'!H16) | F7: =IF($D7="","",'2 - Export Data'!M16) | I7: =IF(COUNTIF($D$3:$D$1002,J7)>0,MAX($I$3:I6)+1,0) -> 0 | J7: =Lists!B7 -> CFC-13
B8: =IF(OR(C8="",COUNTIF($C$3:C7,C8)>0),"",MAX($B$3:B7)+1) | C8: =IF(D8="","",D8&"_"&E8) | D8: =IF(ISBLANK('2 - Export Data'!L17),"",'2 - Export Data'!L17) | E8: =IF($D8="","",'2 - Export Data'!H17) | F8: =IF($D8="","",'2 - Export Data'!M17) | I8: =IF(COUNTIF($D$3:$D$1002,J8)>0,MAX($I$3:I7)+1,0) -> 0 | J8: =Lists!B8 -> CFC-111
B9: =IF(OR(C9="",COUNTIF($C$3:C8,C9)>0),"",MAX($B$3:B8)+1) | C9: =IF(D9="","",D9&"_"&E9) | D9: =IF(ISBLANK('2 - Export Data'!L18),"",'2 - Export Data'!L18) | E9: =IF($D9="","",'2 - Export Data'!H18) | F9: =IF($D9="","",'2 - Export Data'!M18) | I9: =IF(COUNTIF($D$3:$D$1002,J9)>0,MAX($I$3:I8)+1,0) -> 0 | J9: =Lists!B9 -> CFC-112
B10: =IF(OR(C10="",COUNTIF($C$3:C9,C10)>0),"",MAX($B$3:B9)+1) | C10: =IF(D10="","",D10&"_"&E10) | D10: =IF(ISBLANK('2 - Export Data'!L19),"",'2 - Export Data'!L19) | E10: =IF($D10="","",'2 - Export Data'!H19) | F10: =IF($D10="","",'2 - Export Data'!M19) | I10: =IF(COUNTIF($D$3:$D$1002,J10)>0,MAX($I$3:I9)+1,0) -> 0 | J10: =Lists!B10 -> CFC-113
B11: =IF(OR(C11="",COUNTIF($C$3:C10,C11)>0),"",MAX($B$3:B10)+1) | C11: =IF(D11="","",D11&"_"&E11) | D11: =IF(ISBLANK('2 - Export Data'!L20),"",'2 - Export Data'!L20) | E11: =IF($D11="","",'2 - Export Data'!H20) | F11: =IF($D11="","",'2 - Export Data'!M20) | I11: =IF(COUNTIF($D$3:$D$1002,J11)>0,MAX($I$3:I10)+1,0) -> 0 | J11: =Lists!B11 -> CFC-114
B12: =IF(OR(C12="",COUNTIF($C$3:C11,C12)>0),"",MAX($B$3:B11)+1) | C12: =IF(D12="","",D12&"_"&E12) | D12: =IF(ISBLANK('2 - Export Data'!L21),"",'2 - Export Data'!L21) | E12: =IF($D12="","",'2 - Export Data'!H21) | F12: =IF($D12="","",'2 - Export Data'!M21) | I12: =IF(COUNTIF($D$3:$D$1002,J12)>0,MAX($I$3:I11)+1,0) -> 0 | J12: =Lists!B12 -> CFC-115
B13: =IF(OR(C13="",COUNTIF($C$3:C12,C13)>0),"",MAX($B$3:B12)+1) | C13: =IF(D13="","",D13&"_"&E13) | D13: =IF(ISBLANK('2 - Export Data'!L22),"",'2 - Export Data'!L22) | E13: =IF($D13="","",'2 - Export Data'!H22) | F13: =IF($D13="","",'2 - Export Data'!M22) | I13: =IF(COUNTIF($D$3:$D$1002,J13)>0,MAX($I$3:I12)+1,0) -> 0 | J13: =Lists!B13 -> CFC-211
B14: =IF(OR(C14="",COUNTIF($C$3:C13,C14)>0),"",MAX($B$3:B13)+1) | C14: =IF(D14="","",D14&"_"&E14) | D14: =IF(ISBLANK('2 - Export Data'!L23),"",'2 - Export Data'!L23) | E14: =IF($D14="","",'2 - Export Data'!H23) | F14: =IF($D14="","",'2 - Export Data'!M23) | I14: =IF(COUNTIF($D$3:$D$1002,J14)>0,MAX($I$3:I13)+1,0) -> 0 | J14: =Lists!B14 -> CFC-212
B15: =IF(OR(C15="",COUNTIF($C$3:C14,C15)>0),"",MAX($B$3:B14)+1) | C15: =IF(D15="","",D15&"_"&E15) | D15: =IF(ISBLANK('2 - Export Data'!L24),"",'2 - Export Data'!L24) | E15: =IF($D15="","",'2 - Export Data'!H24) | F15: =IF($D15="","",'2 - Export Data'!M24) | I15: =IF(COUNTIF($D$3:$D$1002,J15)>0,MAX($I$3:I14)+1,0) -> 0 | J15: =Lists!B15 -> CFC-213
B16: =IF(OR(C16="",COUNTIF($C$3:C15,C16)>0),"",MAX($B$3:B15)+1) | C16: =IF(D16="","",D16&"_"&E16) | D16: =IF(ISBLANK('2 - Export Data'!L25),"",'2 - Export Data'!L25) | E16: =IF($D16="","",'2 - Export Data'!H25) | F16: =IF($D16="","",'2 - Export Data'!M25) | I16: =IF(COUNTIF($D$3:$D$1002,J16)>0,MAX($I$3:I15)+1,0) -> 0 | J16: =Lists!B16 -> CFC-214
... B24: =IF(OR(C24="",COUNTIF($C$3:C23,C24)>0),"",MAX($B$3:B23)+1) | C24: =IF(D24="","",D24&"_"&E24) | D24: =IF(ISBLANK('2 - Export Data'!L33),"",'2 - Export Data'!L33) | E24: =IF($D24="","",'2 - Export Data'!H33) | F24: =IF($D24="","",'2 - Export Data'!M33) | I24: =IF(COUNTIF($D$3:$D$1002,J24)>0,MAX($I$3:I23)+1,0) -> 0 | J24: =Lists!B24 -> HBFCs
B25: =IF(OR(C25="",COUNTIF($C$3:C24,C25)>0),"",MAX($B$3:B24)+1) | C25: =IF(D25="","",D25&"_"&E25) | D25: =IF(ISBLANK('2 - Export Data'!L34),"",'2 - Export Data'!L34) | E25: =IF($D25="","",'2 - Export Data'!H34) | F25: =IF($D25="","",'2 - Export Data'!M34)
B26: =IF(OR(C26="",COUNTIF($C$3:C25,C26)>0),"",MAX($B$3:B25)+1) | C26: =IF(D26="","",D26&"_"&E26) | D26: =IF(ISBLANK('2 - Export Data'!L35),"",'2 - Export Data'!L35) | E26: =IF($D26="","",'2 - Export Data'!H35) | F26: =IF($D26="","",'2 - Export Data'!M35)
B27: =IF(OR(C27="",COUNTIF($C$3:C26,C27)>0),"",MAX($B$3:B26)+1) | C27: =IF(D27="","",D27&"_"&E27) | D27: =IF(ISBLANK('2 - Export Data'!L36),"",'2 - Export Data'!L36) | E27: =IF($D27="","",'2 - Export Data'!H36) | F27: =IF($D27="","",'2 - Export Data'!M36)
B28: =IF(OR(C28="",COUNTIF($C$3:C27,C28)>0),"",MAX($B$3:B27)+1) | C28: =IF(D28="","",D28&"_"&E28) | D28: =IF(ISBLANK('2 - Export Data'!L37),"",'2 - Export Data'!L37) | E28: =IF($D28="","",'2 - Export Data'!H37) | F28: =IF($D28="","",'2 - Export Data'!M37)
B29: =IF(OR(C29="",COUNTIF($C$3:C28,C29)>0),"",MAX($B$3:B28)+1) | C29: =IF(D29="","",D29&"_"&E29) | D29: =IF(ISBLANK('2 - Export Data'!L38),"",'2 - Export Data'!L38) | E29: =IF($D29="","",'2 - Export Data'!H38) | F29: =IF($D29="","",'2 - Export Data'!M38)
B30: =IF(OR(C30="",COUNTIF($C$3:C29,C30)>0),"",MAX($B$3:B29)+1) | C30: =IF(D30="","",D30&"_"&E30) | D30: =IF(ISBLANK('2 - Export Data'!L39),"",'2 - Export Data'!L39) | E30: =IF($D30="","",'2 - Export Data'!H39) | F30: =IF($D30="","",'2 - Export Data'!M39)
B31: =IF(OR(C31="",COUNTIF($C$3:C30,C31)>0),"",MAX($B$3:B30)+1) | C31: =IF(D31="","",D31&"_"&E31) | D31: =IF(ISBLANK('2 - Export Data'!L40),"",'2 - Export Data'!L40) | E31: =IF($D31="","",'2 - Export Data'!H40) | F31: =IF($D31="","",'2 - Export Data'!M40)
B32: =IF(OR(C32="",COUNTIF($C$3:C31,C32)>0),"",MAX($B$3:B31)+1) | C32: =IF(D32="","",D32&"_"&E32) | D32: =IF(ISBLANK('2 - Export Data'!L41),"",'2 - Export Data'!L41) | E32: =IF($D32="","",'2 - Export Data'!H41) | F32: =IF($D32="","",'2 - Export Data'!M41)
B33: =IF(OR(C33="",COUNTIF($C$3:C32,C33)>0),"",MAX($B$3:B32)+1) | C33: =IF(D33="","",D33&"_"&E33) | D33: =IF(ISBLANK('2 - Export Data'!L42),"",'2 - Export Data'!L42) | E33: =IF($D33="","",'2 - Export Data'!H42) | F33: =IF($D33="","",'2 - Export Data'!M42)
B34: =IF(OR(C34="",COUNTIF($C$3:C33,C34)>0),"",MAX($B$3:B33)+1) | C34: =IF(D34="","",D34&"_"&E34) | D34: =IF(ISBLANK('2 - Export Data'!L43),"",'2 - Export Data'!L43) | E34: =IF($D34="","",'2 - Export Data'!H43) | F34: =IF($D34="","",'2 - Export Data'!M43)
B35: =IF(OR(C35="",COUNTIF($C$3:C34,C35)>0),"",MAX($B$3:B34)+1) | C35: =IF(D35="","",D35&"_"&E35) | D35: =IF(ISBLANK('2 - Export Data'!L44),"",'2 - Export Data'!L44) | E35: =IF($D35="","",'2 - Export Data'!H44) | F35: =IF($D35="","",'2 - Export Data'!M44)
B36: =IF(OR(C36="",COUNTIF($C$3:C35,C36)>0),"",MAX($B$3:B35)+1) | C36: =IF(D36="","",D36&"_"&E36) | D36: =IF(ISBLANK('2 - Export Data'!L45),"",'2 - Export Data'!L45) | E36: =IF($D36="","",'2 - Export Data'!H45) | F36: =IF($D36="","",'2 - Export Data'!M45)
... B1502: =IF(OR(C1502="",COUNTIF($C$3:C1501,C1502)>0),"",MAX($B$3:B1501)+1) | C1502: =IF(D1502="","",D1502&"_"&E1502) | D1502: =IF(ISBLANK('2 - Export Data'!L1511),"",'2 - Export Data'!L1511) | E1502: =IF($D1502="","",'2 - Export Data'!H1511) | F1502: =IF($D1502="","",'2 - Export Data'!M1511)
