Workbook
Name AllError: #REF!
Name ClassIChemicals: Lists!$C$3:$C$26
Name CompleteLab: #REF!
Name CompName: #REF!
Name CSVDate: Lists!#REF!
Name CSVS2End: Lists!#REF!
Name CSVS3End: Lists!#REF!
Name CSVS3Start: Lists!#REF!
Name EndDate: Lists!#REF!
Name LastCol: #REF!
Name LastRow: #REF!
Name LockStatus: Instructions!$H$15
Name MaxOutput: Lists!#REF!
Name ReportingQuarter: Lists!$E$3:$E$6
Name ReportingYear: Lists!$D$3:$D$12
Name ReportQtr: '1 - Report Identification'!$C$11
Name ReportType: Lists!#REF!
Name ReportYr: '1 - Report Identification'!$C$10
Name RowComplete: #REF!
Name Sec1Status: #REF!
Name Sec2Complete: #REF!
Name Sec2Error: #REF!
Name Sec2NegNumber: #REF!
Name Sec2ValidChem: #REF!
Name Sec2ValidState: #REF!
Name Sec3Complete: #REF!
Name Sec3CompleteLab: #REF!
Name Sec3Error: #REF!
Name Sec3NegNumber: #REF!
Name Sec3PasteRow: Lists!#REF!
Name Sec3ValidChem: #REF!
Name Sec3ValidChem2: #REF!
Name Sec3ValidState: #REF!
Name StartDate: Lists!#REF!
Name StartRowS2: '2 - Amounts Purchased'!$A$12
Name States: Lists!$B$3:$B$55
Name SubmissionType: Lists!#REF!
Name SubTSelection: '1 - Report Identification'!#REF!
Name ValidChem: #REF!
Name ValidCountry: #REF!
Name ValidState: #REF!

Sheet Instructions
B1: U.S. Environmental Protection Agency (EPA) | D1: OMB Control Number: 2060-0170
D2: Expiration Date: 08/31/27
B4: Clean Air Act - Class I Lab Supplier Quarterly Report
B5: Worksheet Instructions:
B6: Complete and submit a Class I Lab Supplier Quarterly Report if your company is a lab supplier of class I ozone depleting substances (ODS) under the global essential laboratory and analytical use exemption. Section 1 must be completed prior to submission. Section 2 must be completed if class I controlled substances were purchased or received during the reporting period by your company. Section 3 must be completed if class I controlled substances were supplied to laboratory customers or distributors under the global essential laboratory and analytical use exemption during the reporting period.
B7: Version:
B8: 5
B9: Updated:
B10: 46280
B11: External Links:
B12: ODS Recordkeeping and Reporting webpage
B13: Reporting Form Navigation:
B14: Section 1 - Report Identification Information | C14: Section 3 - Amounts Supplied to Laboratories
B15: Section 2 - Amounts Purchased/Received | C15: Section 4 - Summary
B17: All information submitted to EPA will be treated as confidential in accordance with 40 CFR Part 2, Subpart B, and will only be disclosed by the means set forth in the subpart.
B19: This collection of information is approved by OMB under the Paperwork Reduction Act, 44 U.S.C. 3501 et seq. (OMB Control No. 2060-0170). Responses to this collection of information are mandatory (40 CFR 82.13). An agency may not conduct or sponsor, and a person is not required to respond to, a collection of information unless it displays a currently valid OMB control number. The number and expiration date are displayed in the upper right corner of the form. The public reporting and recordkeeping burden for this collection of information is estimated to be 4 hours per response. Send comments on the Agency’s need this formation, the accuracy of the provided burden estimates and any suggested methods for minimizing respondent burden including through the use of automated collection techniques to the Director, Regulatory Support Division, U.S. Environmental Protection Agency (2821T), 1200 Pennsylvania Ave., NW, Washington, D.C. 20460. Include the OMB control number in any correspondence. Do not send the completed form to this address.
B28: EPA Form #5900-153

Sheet 1 - Report Identification
B1: U.S. Environmental Protection Agency (EPA) | D1: OMB Control Number: 2060-0170
D2: Expiration Date: 08/31/27
B4: Clean Air Act - Class I Lab Supplier Quarterly Report
B5: Go to Section 2 - Amounts Purchased, Received
B7: Section 1 - Report Identification Information
B8: Instructions: Complete the following identification information.
B9: Company Name
B10: Reporting Year | E10: =IF(C10>YEAR(TODAY()),"PLEASE CHOOSE A CURRENT OR PAST YEAR","")
B11: Reporting Quarter

Sheet 2 - Amounts Purchased
B1: U.S. Environmental Protection Agency (EPA) | I1: OMB Control Number: 2060-0170
I2: Expiration Date: 08/31/27
B4: Clean Air Act - Class I Lab Supplier Quarterly Report
B5: Go to Section 3 - Amounts Supplied to Laboratories
B7: Section 2 - Amounts Purchased/Received
B8: Instructions: Enter data for each transaction in which a class I controlled substance was purchased or received under the global essential laboratory and analytical use exemption from a producer, importer, and/or distributor during the reporting period. If no controlled substances were purchased or received under the global essential laboratory and analytical use exemption during the reporting period, the table may be left blank. For each transaction, all fields are required.
B9: Class I Amounts Purchased/Received
B10: 1 | C10: 2 | E10: 3 | F10: 4 | G10: 5 | H10: 6 | I10: 7
B11: Transaction Number | C11: Source Company | D11: Source Company Street Address | E11: Source Company City | F11: Source Company State | G11: Source Company Postal Code | H11: Name of Class I Chemical Purchased or Received | I11: Quantity of Class I Chemical Purchased or Received (kg)
A12: 1 | B12: =IF(C12=0,"",1)
A13: 2 | B13: =IF(C13=0,"",MAX($B$12:B12)+1)
A14: 3 | B14: =IF(C14=0,"",MAX($B$12:B13)+1)
A15: 4 | B15: =IF(C15=0,"",MAX($B$12:B14)+1)
A16: 5 | B16: =IF(C16=0,"",MAX($B$12:B15)+1)
A17: 6 | B17: =IF(C17=0,"",MAX($B$12:B16)+1)
A18: 7 | B18: =IF(C18=0,"",MAX($B$12:B17)+1)
A19: 8 | B19: =IF(C19=0,"",MAX($B$12:B18)+1)
A20: 9 | B20: =IF(C20=0,"",MAX($B$12:B19)+1)
A21: 10 | B21: =IF(C21=0,"",MAX($B$12:B20)+1)
A22: 11 | B22: =IF(C22=0,"",MAX($B$12:B21)+1)
A23: 12 | B23: =IF(C23=0,"",MAX($B$12:B22)+1)
A24: 13 | B24: =IF(C24=0,"",MAX($B$12:B23)+1)
... A26: 15 | B26: =IF(C26=0,"",MAX($B$12:B25)+1)

Sheet 3 - Amounts Supplied
B1: U.S. Environmental Protection Agency (EPA) | M1: OMB Control Number: 2060-0170
M2: Expiration Date: 08/31/27
B4: Clean Air Act - Class I Lab Supplier Quarterly Report
B5: Go to Section 4 - Summary
B7: Section 3 - Amounts Supplied to Laboratories
B8: Instructions: Provide the name and quantity of each class I controlled substance supplied to a laboratory customer or distributor during the reporting period. Up to three chemicals may be entered per row. You may enter more than one row of data per laboratory customer, as needed. If no controlled substances were supplied to laboratory customers under the global essential laboratory and analytical use exemption during the reporting period, the table may be left blank.
B9: Class I Amounts Supplied to Laboratories
B10: 1 | C10: 2 | D10: 3 | E10: 4 | F10: 5 | G10: 6 | H10: 7 | I10: 8 | J10: 9 | K10: 10 | L10: 11 | M10: 12
B11: Transaction Number | C11: Lab Company Name | D11: Lab Company Street Address | E11: Lab Company City | F11: Lab Company State | G11: Lab Company Postal Code | H11: Class I Chemical Supplied to Lab | J11: Class I Chemical Supplied to Lab | L11: Class I Chemical Supplied to Lab
H12: Name | I12: Quantity (kg) | J12: Name | K12: Quantity (kg) | L12: Name | M12: Quantity (kg)
A13: 1 | B13: =IF(C13=0,"",1)
A14: 2 | B14: =IF(C14=0,"",MAX(B13)+1)
A15: 3 | B15: =IF(C15=0,"",MAX($B$13:B14)+1)
A16: 4 | B16: =IF(C16=0,"",MAX($B$13:B15)+1)
A17: 5 | B17: =IF(C17=0,"",MAX($B$13:B16)+1)
A18: 6 | B18: =IF(C18=0,"",MAX($B$13:B17)+1)
A19: 7 | B19: =IF(C19=0,"",MAX($B$13:B18)+1)
A20: 8 | B20: =IF(C20=0,"",MAX($B$13:B19)+1)
A21: 9 | B21: =IF(C21=0,"",MAX($B$13:B20)+1)
A22: 10 | B22: =IF(C22=0,"",MAX($B$13:B21)+1)
A23: 11 | B23: =IF(C23=0,"",MAX($B$13:B22)+1)
A24: 12 | B24: =IF(C24=0,"",MAX($B$13:B23)+1)
A25: 13 | B25: =IF(C25=0,"",MAX($B$13:B24)+1)
A26: 14 | B26: =IF(C26=0,"",MAX($B$13:B25)+1)
... A4012: 4000 | B4012: =IF(C4012=0,"",MAX($B$13:B4011)+1)

Sheet 4 - Summary
B1: U.S. Environmental Protection Agency (EPA) | D1: OMB Control Number: 2060-0170
D2: Expiration Date: 08/31/27
B4: Clean Air Act - Class I Lab Supplier Quarterly Report
B6: Section 4 - Summary
B7: Instructions: The values in the table below are calculated based on data entered in Section 2 and Section 3. If the totals appear to be incorrect, please return to Section 2 or Section 3 to review your data.
B8: Quarterly Lab Supplier Summary
B9: 1 | C9: 2 | D9: 3
B10: Chemical Name | C10: Total Quantity of Class I Chemical Purchased or Received (kg) | D10: Total Quantity of Class I Chemical Supplied (kg)
A12: 1 | B12: =IF(COUNTIF('Data for Summary'!$H$3:$H$26,A12)>0,VLOOKUP(A12,'Data for Summary'!$H$3:$M$26,2,0),"") | C12: =IF(B12="","",VLOOKUP(A12,'Data for Summary'!$H$3:$M$26,5,0)) | D12: =IF(B12="","",VLOOKUP(A12,'Data for Summary'!$H$3:$M$26,6,0))
A13: 2 | B13: =IF(COUNTIF('Data for Summary'!$H$3:$H$26,A13)>0,VLOOKUP(A13,'Data for Summary'!$H$3:$M$26,2,0),"") | C13: =IF(B13="","",VLOOKUP(A13,'Data for Summary'!$H$3:$M$26,5,0)) | D13: =IF(B13="","",VLOOKUP(A13,'Data for Summary'!$H$3:$M$26,6,0))
A14: 3 | B14: =IF(COUNTIF('Data for Summary'!$H$3:$H$26,A14)>0,VLOOKUP(A14,'Data for Summary'!$H$3:$M$26,2,0),"") | C14: =IF(B14="","",VLOOKUP(A14,'Data for Summary'!$H$3:$M$26,5,0)) | D14: =IF(B14="","",VLOOKUP(A14,'Data for Summary'!$H$3:$M$26,6,0))
A15: 4 | B15: =IF(COUNTIF('Data for Summary'!$H$3:$H$26,A15)>0,VLOOKUP(A15,'Data for Summary'!$H$3:$M$26,2,0),"") | C15: =IF(B15="","",VLOOKUP(A15,'Data for Summary'!$H$3:$M$26,5,0)) | D15: =IF(B15="","",VLOOKUP(A15,'Data for Summary'!$H$3:$M$26,6,0))
A16: 5 | B16: =IF(COUNTIF('Data for Summary'!$H$3:$H$26,A16)>0,VLOOKUP(A16,'Data for Summary'!$H$3:$M$26,2,0),"") | C16: =IF(B16="","",VLOOKUP(A16,'Data for Summary'!$H$3:$M$26,5,0)) | D16: =IF(B16="","",VLOOKUP(A16,'Data for Summary'!$H$3:$M$26,6,0))
A17: 6 | B17: =IF(COUNTIF('Data for Summary'!$H$3:$H$26,A17)>0,VLOOKUP(A17,'Data for Summary'!$H$3:$M$26,2,0),"") | C17: =IF(B17="","",VLOOKUP(A17,'Data for Summary'!$H$3:$M$26,5,0)) | D17: =IF(B17="","",VLOOKUP(A17,'Data for Summary'!$H$3:$M$26,6,0))
A18: 7 | B18: =IF(COUNTIF('Data for Summary'!$H$3:$H$26,A18)>0,VLOOKUP(A18,'Data for Summary'!$H$3:$M$26,2,0),"") | C18: =IF(B18="","",VLOOKUP(A18,'Data for Summary'!$H$3:$M$26,5,0)) | D18: =IF(B18="","",VLOOKUP(A18,'Data for Summary'!$H$3:$M$26,6,0))
A19: 8 | B19: =IF(COUNTIF('Data for Summary'!$H$3:$H$26,A19)>0,VLOOKUP(A19,'Data for Summary'!$H$3:$M$26,2,0),"") | C19: =IF(B19="","",VLOOKUP(A19,'Data for Summary'!$H$3:$M$26,5,0)) | D19: =IF(B19="","",VLOOKUP(A19,'Data for Summary'!$H$3:$M$26,6,0))
A20: 9 | B20: =IF(COUNTIF('Data for Summary'!$H$3:$H$26,A20)>0,VLOOKUP(A20,'Data for Summary'!$H$3:$M$26,2,0),"") | C20: =IF(B20="","",VLOOKUP(A20,'Data for Summary'!$H$3:$M$26,5,0)) | D20: =IF(B20="","",VLOOKUP(A20,'Data for Summary'!$H$3:$M$26,6,0))
A21: 10 | B21: =IF(COUNTIF('Data for Summary'!$H$3:$H$26,A21)>0,VLOOKUP(A21,'Data for Summary'!$H$3:$M$26,2,0),"") | C21: =IF(B21="","",VLOOKUP(A21,'Data for Summary'!$H$3:$M$26,5,0)) | D21: =IF(B21="","",VLOOKUP(A21,'Data for Summary'!$H$3:$M$26,6,0))
A22: 11 | B22: =IF(COUNTIF('Data for Summary'!$H$3:$H$26,A22)>0,VLOOKUP(A22,'Data for Summary'!$H$3:$M$26,2,0),"") | C22: =IF(B22="","",VLOOKUP(A22,'Data for Summary'!$H$3:$M$26,5,0)) | D22: =IF(B22="","",VLOOKUP(A22,'Data for Summary'!$H$3:$M$26,6,0))
A23: 12 | B23: =IF(COUNTIF('Data for Summary'!$H$3:$H$26,A23)>0,VLOOKUP(A23,'Data for Summary'!$H$3:$M$26,2,0),"") | C23: =IF(B23="","",VLOOKUP(A23,'Data for Summary'!$H$3:$M$26,5,0)) | D23: =IF(B23="","",VLOOKUP(A23,'Data for Summary'!$H$3:$M$26,6,0))
... A31: 20 | B31: =IF(COUNTIF('Data for Summary'!$H$3:$H$26,A31)>0,VLOOKUP(A31,'Data for Summary'!$H$3:$M$26,2,0),"") | C31: =IF(B31="","",VLOOKUP(A31,'Data for Summary'!$H$3:$M$26,5,0)) | D31: =IF(B31="","",VLOOKUP(A31,'Data for Summary'!$H$3:$M$26,6,0))

Sheet Lists
B2: States | C2: Class I Chemicals | D2: Reporting Year | E2: Reporting Quarter
B3: Alaska | C3: CBM | D3: 2020 | E3: 1
B4: Alabama | C4: CCL4 | D4: 2021 | E4: 2
B5: Arkansas | C5: CFC-11 | D5: 2022 | E5: 3
B6: Arizona | C6: CFC-12 | D6: 2023 | E6: 4
B7: California | C7: CFC-13 | D7: 2024
B8: Colorado | C8: CFC-111 | D8: 2025
B9: Connecticut | C9: CFC-112 | D9: 2026
B10: District of Columbia | C10: CFC-113 | D10: 2027
B11: Delaware | C11: CFC-114 | D11: 2028
B12: Florida | C12: CFC-115 | D12: 2029
B13: Georgia | C13: CFC-211
B14: Hawaii | C14: CFC-212
B15: Iowa | C15: CFC-213
B16: Idaho | C16: CFC-214
B17: Illinois | C17: CFC-215
B18: Indiana | C18: CFC-216
B19: Kansas | C19: CFC-217
B20: Kentucky | C20: CH3Br
B21: Louisiana | C21: CH3CCL3
B22: Massachusetts | C22: Halon 1202
B23: Maryland | C23: Halon 1211
B24: Maine | C24: Halon 1301
... B26: Minnesota | C26: HBFCs
B27: Missouri
B28: Mississippi
B29: Montana
B30: North Carolina
B31: North Dakota
B32: Nebraska
B33: New Hampshire
B34: New Jersey
B35: New Mexico
B36: Nevada
B37: New York
B38: Ohio
... B55: Wyoming

Sheet Data for Summary
A1: Full Set - Section 2 | D1: Full Set - Section 3
A2: Column Set | B2: Class I Chemical | C2: Quantity Purchased/Received | D2: Column Set | E2: Class I Chemical | F2: Quantity Supplied | H2: Active Chem? | I2: Class I Chem List | J2: Tally - Section 2 | K2: Tally - Section 3 | L2: Sum - Section 2 | M2: Sum - Section 3
A3: =IF(ISBLANK('2 - Amounts Purchased'!B12),"",'2 - Amounts Purchased'!B12) | B3: =IF(ISBLANK('2 - Amounts Purchased'!H12),"",'2 - Amounts Purchased'!H12) | C3: =IF($A3="","",'2 - Amounts Purchased'!I12) | D3: 1 | E3: =IF('3 - Amounts Supplied'!B13="","",'3 - Amounts Supplied'!H13) | F3: =IF(E3="","",'3 - Amounts Supplied'!I13) | H3: =IF(OR(J3,K3>0),1,0) -> 0 | I3: =Lists!C3 -> CBM | J3: =COUNTIF($B$3:$B$17,I3) -> 0 | K3: =COUNTIF($E$3:$E$12002,I3) -> 0 | L3: =IF(J3="","",SUMIF($B$3:$C$17,I3,$C$3:$C$17)) -> 0 | M3: =IF(K3="","",SUMIF($E$3:$F$12002,I3,$F$3:$F$12002)) -> 0
A4: =IF(ISBLANK('2 - Amounts Purchased'!B13),"",'2 - Amounts Purchased'!B13) | B4: =IF(ISBLANK('2 - Amounts Purchased'!H13),"",'2 - Amounts Purchased'!H13) | C4: =IF($A4="","",'2 - Amounts Purchased'!I13) | D4: 1 | E4: =IF('3 - Amounts Supplied'!B14="","",'3 - Amounts Supplied'!H14) | F4: =IF(E4="","",'3 - Amounts Supplied'!I14) | H4: =IF(OR(J4,K4>0),MAX($H$3:H3)+1,0) -> 0 | I4: =Lists!C4 -> CCL4 | J4: =COUNTIF($B$3:$B$17,I4) -> 0 | K4: =COUNTIF($E$3:$E$12002,I4) -> 0 | L4: =IF(J4="","",SUMIF($B$3:$C$17,I4,$C$3:$C$17)) -> 0 | M4: =IF(K4="","",SUMIF($E$3:$F$12002,I4,$F$3:$F$12002)) -> 0
A5: =IF(ISBLANK('2 - Amounts Purchased'!B14),"",'2 - Amounts Purchased'!B14) | B5: =IF(ISBLANK('2 - Amounts Purchased'!H14),"",'2 - Amounts Purchased'!H14) | C5: =IF($A5="","",'2 - Amounts Purchased'!I14) | D5: 1 | E5: =IF('3 - Amounts Supplied'!B15="","",'3 - Amounts Supplied'!H15) | F5: =IF(E5="","",'3 - Amounts Supplied'!I15) | H5: =IF(OR(J5,K5>0),MAX($H$3:H4)+1,0) -> 0 | I5: =Lists!C5 -> CFC-11 | J5: =COUNTIF($B$3:$B$17,I5) -> 0 | K5: =COUNTIF($E$3:$E$12002,I5) -> 0 | L5: =IF(J5="","",SUMIF($B$3:$C$17,I5,$C$3:$C$17)) -> 0 | M5: =IF(K5="","",SUMIF($E$3:$F$12002,I5,$F$3:$F$12002)) -> 0
A6: =IF(ISBLANK('2 - Amounts Purchased'!B15),"",'2 - Amounts Purchased'!B15) | B6: =IF(ISBLANK('2 - Amounts Purchased'!H15),"",'2 - Amounts Purchased'!H15) | C6: =IF($A6="","",'2 - Amounts Purchased'!I15) | D6: 1 | E6: =IF('3 - Amounts Supplied'!B16="","",'3 - Amounts Supplied'!H16) | F6: =IF(E6="","",'3 - Amounts Supplied'!I16) | H6: =IF(OR(J6,K6>0),MAX($H$3:H5)+1,0) -> 0 | I6: =Lists!C6 -> CFC-12 | J6: =COUNTIF($B$3:$B$17,I6) -> 0 | K6: =COUNTIF($E$3:$E$12002,I6) -> 0 | L6: =IF(J6="","",SUMIF($B$3:$C$17,I6,$C$3:$C$17)) -> 0 | M6: =IF(K6="","",SUMIF($E$3:$F$12002,I6,$F$3:$F$12002)) -> 0
A7: =IF(ISBLANK('2 - Amounts Purchased'!B16),"",'2 - Amounts Purchased'!B16) | B7: =IF(ISBLANK('2 - Amounts Purchased'!H16),"",'2 - Amounts Purchased'!H16) | C7: =IF($A7="","",'2 - Amounts Purchased'!I16) | D7: 1 | E7: =IF('3 - Amounts Supplied'!B17="","",'3 - Amounts Supplied'!H17) | F7: =IF(E7="","",'3 - Amounts Supplied'!I17) | H7: =IF(OR(J7,K7>0),MAX($H$3:H6)+1,0) -> 0 | I7: =Lists!C7 -> CFC-13 | J7: =COUNTIF($B$3:$B$17,I7) -> 0 | K7: =COUNTIF($E$3:$E$12002,I7) -> 0 | L7: =IF(J7="","",SUMIF($B$3:$C$17,I7,$C$3:$C$17)) -> 0 | M7: =IF(K7="","",SUMIF($E$3:$F$12002,I7,$F$3:$F$12002)) -> 0
A8: =IF(ISBLANK('2 - Amounts Purchased'!B17),"",'2 - Amounts Purchased'!B17) | B8: =IF(ISBLANK('2 - Amounts Purchased'!H17),"",'2 - Amounts Purchased'!H17) | C8: =IF($A8="","",'2 - Amounts Purchased'!I17) | D8: 1 | E8: =IF('3 - Amounts Supplied'!B18="","",'3 - Amounts Supplied'!H18) | F8: =IF(E8="","",'3 - Amounts Supplied'!I18) | H8: =IF(OR(J8,K8>0),MAX($H$3:H7)+1,0) -> 0 | I8: =Lists!C8 -> CFC-111 | J8: =COUNTIF($B$3:$B$17,I8) -> 0 | K8: =COUNTIF($E$3:$E$12002,I8) -> 0 | L8: =IF(J8="","",SUMIF($B$3:$C$17,I8,$C$3:$C$17)) -> 0 | M8: =IF(K8="","",SUMIF($E$3:$F$12002,I8,$F$3:$F$12002)) -> 0
A9: =IF(ISBLANK('2 - Amounts Purchased'!B18),"",'2 - Amounts Purchased'!B18) | B9: =IF(ISBLANK('2 - Amounts Purchased'!H18),"",'2 - Amounts Purchased'!H18) | C9: =IF($A9="","",'2 - Amounts Purchased'!I18) | D9: 1 | E9: =IF('3 - Amounts Supplied'!B19="","",'3 - Amounts Supplied'!H19) | F9: =IF(E9="","",'3 - Amounts Supplied'!I19) | H9: =IF(OR(J9,K9>0),MAX($H$3:H8)+1,0) -> 0 | I9: =Lists!C9 -> CFC-112 | J9: =COUNTIF($B$3:$B$17,I9) -> 0 | K9: =COUNTIF($E$3:$E$12002,I9) -> 0 | L9: =IF(J9="","",SUMIF($B$3:$C$17,I9,$C$3:$C$17)) -> 0 | M9: =IF(K9="","",SUMIF($E$3:$F$12002,I9,$F$3:$F$12002)) -> 0
A10: =IF(ISBLANK('2 - Amounts Purchased'!B19),"",'2 - Amounts Purchased'!B19) | B10: =IF(ISBLANK('2 - Amounts Purchased'!H19),"",'2 - Amounts Purchased'!H19) | C10: =IF($A10="","",'2 - Amounts Purchased'!I19) | D10: 1 | E10: =IF('3 - Amounts Supplied'!B20="","",'3 - Amounts Supplied'!H20) | F10: =IF(E10="","",'3 - Amounts Supplied'!I20) | H10: =IF(OR(J10,K10>0),MAX($H$3:H9)+1,0) -> 0 | I10: =Lists!C10 -> CFC-113 | J10: =COUNTIF($B$3:$B$17,I10) -> 0 | K10: =COUNTIF($E$3:$E$12002,I10) -> 0 | L10: =IF(J10="","",SUMIF($B$3:$C$17,I10,$C$3:$C$17)) -> 0 | M10: =IF(K10="","",SUMIF($E$3:$F$12002,I10,$F$3:$F$12002)) -> 0
A11: =IF(ISBLANK('2 - Amounts Purchased'!B20),"",'2 - Amounts Purchased'!B20) | B11: =IF(ISBLANK('2 - Amounts Purchased'!H20),"",'2 - Amounts Purchased'!H20) | C11: =IF($A11="","",'2 - Amounts Purchased'!I20) | D11: 1 | E11: =IF('3 - Amounts Supplied'!B21="","",'3 - Amounts Supplied'!H21) | F11: =IF(E11="","",'3 - Amounts Supplied'!I21) | H11: =IF(OR(J11,K11>0),MAX($H$3:H10)+1,0) -> 0 | I11: =Lists!C11 -> CFC-114 | J11: =COUNTIF($B$3:$B$17,I11) -> 0 | K11: =COUNTIF($E$3:$E$12002,I11) -> 0 | L11: =IF(J11="","",SUMIF($B$3:$C$17,I11,$C$3:$C$17)) -> 0 | M11: =IF(K11="","",SUMIF($E$3:$F$12002,I11,$F$3:$F$12002)) -> 0
A12: =IF(ISBLANK('2 - Amounts Purchased'!B21),"",'2 - Amounts Purchased'!B21) | B12: =IF(ISBLANK('2 - Amounts Purchased'!H21),"",'2 - Amounts Purchased'!H21) | C12: =IF($A12="","",'2 - Amounts Purchased'!I21) | D12: 1 | E12: =IF('3 - Amounts Supplied'!B22="","",'3 - Amounts Supplied'!H22) | F12: =IF(E12="","",'3 - Amounts Supplied'!I22) | H12: =IF(OR(J12,K12>0),MAX($H$3:H11)+1,0) -> 0 | I12: =Lists!C12 -> CFC-115 | J12: =COUNTIF($B$3:$B$17,I12) -> 0 | K12: =COUNTIF($E$3:$E$12002,I12) -> 0 | L12: =IF(J12="","",SUMIF($B$3:$C$17,I12,$C$3:$C$17)) -> 0 | M12: =IF(K12="","",SUMIF($E$3:$F$12002,I12,$F$3:$F$12002)) -> 0
A13: =IF(ISBLANK('2 - Amounts Purchased'!B22),"",'2 - Amounts Purchased'!B22) | B13: =IF(ISBLANK('2 - Amounts Purchased'!H22),"",'2 - Amounts Purchased'!H22) | C13: =IF($A13="","",'2 - Amounts Purchased'!I22) | D13: 1 | E13: =IF('3 - Amounts Supplied'!B23="","",'3 - Amounts Supplied'!H23) | F13: =IF(E13="","",'3 - Amounts Supplied'!I23) | H13: =IF(OR(J13,K13>0),MAX($H$3:H12)+1,0) -> 0 | I13: =Lists!C13 -> CFC-211 | J13: =COUNTIF($B$3:$B$17,I13) -> 0 | K13: =COUNTIF($E$3:$E$12002,I13) -> 0 | L13: =IF(J13="","",SUMIF($B$3:$C$17,I13,$C$3:$C$17)) -> 0 | M13: =IF(K13="","",SUMIF($E$3:$F$12002,I13,$F$3:$F$12002)) -> 0
A14: =IF(ISBLANK('2 - Amounts Purchased'!B23),"",'2 - Amounts Purchased'!B23) | B14: =IF(ISBLANK('2 - Amounts Purchased'!H23),"",'2 - Amounts Purchased'!H23) | C14: =IF($A14="","",'2 - Amounts Purchased'!I23) | D14: 1 | E14: =IF('3 - Amounts Supplied'!B24="","",'3 - Amounts Supplied'!H24) | F14: =IF(E14="","",'3 - Amounts Supplied'!I24) | H14: =IF(OR(J14,K14>0),MAX($H$3:H13)+1,0) -> 0 | I14: =Lists!C14 -> CFC-212 | J14: =COUNTIF($B$3:$B$17,I14) -> 0 | K14: =COUNTIF($E$3:$E$12002,I14) -> 0 | L14: =IF(J14="","",SUMIF($B$3:$C$17,I14,$C$3:$C$17)) -> 0 | M14: =IF(K14="","",SUMIF($E$3:$F$12002,I14,$F$3:$F$12002)) -> 0
A15: =IF(ISBLANK('2 - Amounts Purchased'!B24),"",'2 - Amounts Purchased'!B24) | B15: =IF(ISBLANK('2 - Amounts Purchased'!H24),"",'2 - Amounts Purchased'!H24) | C15: =IF($A15="","",'2 - Amounts Purchased'!I24) | D15: 1 | E15: =IF('3 - Amounts Supplied'!B25="","",'3 - Amounts Supplied'!H25) | F15: =IF(E15="","",'3 - Amounts Supplied'!I25) | H15: =IF(OR(J15,K15>0),MAX($H$3:H14)+1,0) -> 0 | I15: =Lists!C15 -> CFC-213 | J15: =COUNTIF($B$3:$B$17,I15) -> 0 | K15: =COUNTIF($E$3:$E$12002,I15) -> 0 | L15: =IF(J15="","",SUMIF($B$3:$C$17,I15,$C$3:$C$17)) -> 0 | M15: =IF(K15="","",SUMIF($E$3:$F$12002,I15,$F$3:$F$12002)) -> 0
... A17: =IF(ISBLANK('2 - Amounts Purchased'!B26),"",'2 - Amounts Purchased'!B26) | B17: =IF(ISBLANK('2 - Amounts Purchased'!H26),"",'2 - Amounts Purchased'!H26) | C17: =IF($A17="","",'2 - Amounts Purchased'!I26) | D17: 1 | E17: =IF('3 - Amounts Supplied'!B27="","",'3 - Amounts Supplied'!H27) | F17: =IF(E17="","",'3 - Amounts Supplied'!I27) | H17: =IF(OR(J17,K17>0),MAX($H$3:H16)+1,0) -> 0 | I17: =Lists!C17 -> CFC-215 | J17: =COUNTIF($B$3:$B$17,I17) -> 0 | K17: =COUNTIF($E$3:$E$12002,I17) -> 0 | L17: =IF(J17="","",SUMIF($B$3:$C$17,I17,$C$3:$C$17)) -> 0 | M17: =IF(K17="","",SUMIF($E$3:$F$12002,I17,$F$3:$F$12002)) -> 0
D18: 1 | E18: =IF('3 - Amounts Supplied'!B28="","",'3 - Amounts Supplied'!H28) | F18: =IF(E18="","",'3 - Amounts Supplied'!I28) | H18: =IF(OR(J18,K18>0),MAX($H$3:H17)+1,0) -> 0 | I18: =Lists!C18 -> CFC-216 | J18: =COUNTIF($B$3:$B$17,I18) -> 0 | K18: =COUNTIF($E$3:$E$12002,I18) -> 0 | L18: =IF(J18="","",SUMIF($B$3:$C$17,I18,$C$3:$C$17)) -> 0 | M18: =IF(K18="","",SUMIF($E$3:$F$12002,I18,$F$3:$F$12002)) -> 0
D19: 1 | E19: =IF('3 - Amounts Supplied'!B29="","",'3 - Amounts Supplied'!H29) | F19: =IF(E19="","",'3 - Amounts Supplied'!I29) | H19: =IF(OR(J19,K19>0),MAX($H$3:H18)+1,0) -> 0 | I19: =Lists!C19 -> CFC-217 | J19: =COUNTIF($B$3:$B$17,I19) -> 0 | K19: =COUNTIF($E$3:$E$12002,I19) -> 0 | L19: =IF(J19="","",SUMIF($B$3:$C$17,I19,$C$3:$C$17)) -> 0 | M19: =IF(K19="","",SUMIF($E$3:$F$12002,I19,$F$3:$F$12002)) -> 0
D20: 1 | E20: =IF('3 - Amounts Supplied'!B30="","",'3 - Amounts Supplied'!H30) | F20: =IF(E20="","",'3 - Amounts Supplied'!I30) | H20: =IF(OR(J20,K20>0),MAX($H$3:H19)+1,0) -> 0 | I20: =Lists!C20 -> CH3Br | J20: =COUNTIF($B$3:$B$17,I20) -> 0 | K20: =COUNTIF($E$3:$E$12002,I20) -> 0 | L20: =IF(J20="","",SUMIF($B$3:$C$17,I20,$C$3:$C$17)) -> 0 | M20: =IF(K20="","",SUMIF($E$3:$F$12002,I20,$F$3:$F$12002)) -> 0
D21: 1 | E21: =IF('3 - Amounts Supplied'!B31="","",'3 - Amounts Supplied'!H31) | F21: =IF(E21="","",'3 - Amounts Supplied'!I31) | H21: =IF(OR(J21,K21>0),MAX($H$3:H20)+1,0) -> 0 | I21: =Lists!C21 -> CH3CCL3 | J21: =COUNTIF($B$3:$B$17,I21) -> 0 | K21: =COUNTIF($E$3:$E$12002,I21) -> 0 | L21: =IF(J21="","",SUMIF($B$3:$C$17,I21,$C$3:$C$17)) -> 0 | M21: =IF(K21="","",SUMIF($E$3:$F$12002,I21,$F$3:$F$12002)) -> 0
D22: 1 | E22: =IF('3 - Amounts Supplied'!B32="","",'3 - Amounts Supplied'!H32) | F22: =IF(E22="","",'3 - Amounts Supplied'!I32) | H22: =IF(OR(J22,K22>0),MAX($H$3:H21)+1,0) -> 0 | I22: =Lists!C22 -> Halon 1202 | J22: =COUNTIF($B$3:$B$17,I22) -> 0 | K22: =COUNTIF($E$3:$E$12002,I22) -> 0 | L22: =IF(J22="","",SUMIF($B$3:$C$17,I22,$C$3:$C$17)) -> 0 | M22: =IF(K22="","",SUMIF($E$3:$F$12002,I22,$F$3:$F$12002)) -> 0
D23: 1 | E23: =IF('3 - Amounts Supplied'!B33="","",'3 - Amounts Supplied'!H33) | F23: =IF(E23="","",'3 - Amounts Supplied'!I33) | H23: =IF(OR(J23,K23>0),MAX($H$3:H22)+1,0) -> 0 | I23: =Lists!C23 -> Halon 1211 | J23: =COUNTIF($B$3:$B$17,I23) -> 0 | K23: =COUNTIF($E$3:$E$12002,I23) -> 0 | L23: =IF(J23="","",SUMIF($B$3:$C$17,I23,$C$3:$C$17)) -> 0 | M23: =IF(K23="","",SUMIF($E$3:$F$12002,I23,$F$3:$F$12002)) -> 0
D24: 1 | E24: =IF('3 - Amounts Supplied'!B34="","",'3 - Amounts Supplied'!H34) | F24: =IF(E24="","",'3 - Amounts Supplied'!I34) | H24: =IF(OR(J24,K24>0),MAX($H$3:H23)+1,0) -> 0 | I24: =Lists!C24 -> Halon 1301 | J24: =COUNTIF($B$3:$B$17,I24) -> 0 | K24: =COUNTIF($E$3:$E$12002,I24) -> 0 | L24: =IF(J24="","",SUMIF($B$3:$C$17,I24,$C$3:$C$17)) -> 0 | M24: =IF(K24="","",SUMIF($E$3:$F$12002,I24,$F$3:$F$12002)) -> 0
D25: 1 | E25: =IF('3 - Amounts Supplied'!B35="","",'3 - Amounts Supplied'!H35) | F25: =IF(E25="","",'3 - Amounts Supplied'!I35) | H25: =IF(OR(J25,K25>0),MAX($H$3:H24)+1,0) -> 0 | I25: =Lists!C25 -> Halon 2402 | J25: =COUNTIF($B$3:$B$17,I25) -> 0 | K25: =COUNTIF($E$3:$E$12002,I25) -> 0 | L25: =IF(J25="","",SUMIF($B$3:$C$17,I25,$C$3:$C$17)) -> 0 | M25: =IF(K25="","",SUMIF($E$3:$F$12002,I25,$F$3:$F$12002)) -> 0
D26: 1 | E26: =IF('3 - Amounts Supplied'!B36="","",'3 - Amounts Supplied'!H36) | F26: =IF(E26="","",'3 - Amounts Supplied'!I36) | H26: =IF(OR(J26,K26>0),MAX($H$3:H25)+1,0) -> 0 | I26: =Lists!C26 -> HBFCs | J26: =COUNTIF($B$3:$B$17,I26) -> 0 | K26: =COUNTIF($E$3:$E$12002,I26) -> 0 | L26: =IF(J26="","",SUMIF($B$3:$C$17,I26,$C$3:$C$17)) -> 0 | M26: =IF(K26="","",SUMIF($E$3:$F$12002,I26,$F$3:$F$12002)) -> 0
D27: 1 | E27: =IF('3 - Amounts Supplied'!B37="","",'3 - Amounts Supplied'!H37) | F27: =IF(E27="","",'3 - Amounts Supplied'!I37)
D28: 1 | E28: =IF('3 - Amounts Supplied'!B38="","",'3 - Amounts Supplied'!H38) | F28: =IF(E28="","",'3 - Amounts Supplied'!I38)
D29: 1 | E29: =IF('3 - Amounts Supplied'!B39="","",'3 - Amounts Supplied'!H39) | F29: =IF(E29="","",'3 - Amounts Supplied'!I39)
D30: 1 | E30: =IF('3 - Amounts Supplied'!B40="","",'3 - Amounts Supplied'!H40) | F30: =IF(E30="","",'3 - Amounts Supplied'!I40)
D31: 1 | E31: =IF('3 - Amounts Supplied'!B41="","",'3 - Amounts Supplied'!H41) | F31: =IF(E31="","",'3 - Amounts Supplied'!I41)
D32: 1 | E32: =IF('3 - Amounts Supplied'!B42="","",'3 - Amounts Supplied'!H42) | F32: =IF(E32="","",'3 - Amounts Supplied'!I42)
D33: 1 | E33: =IF('3 - Amounts Supplied'!B43="","",'3 - Amounts Supplied'!H43) | F33: =IF(E33="","",'3 - Amounts Supplied'!I43)
D34: 1 | E34: =IF('3 - Amounts Supplied'!B44="","",'3 - Amounts Supplied'!H44) | F34: =IF(E34="","",'3 - Amounts Supplied'!I44)
D35: 1 | E35: =IF('3 - Amounts Supplied'!B45="","",'3 - Amounts Supplied'!H45) | F35: =IF(E35="","",'3 - Amounts Supplied'!I45)
D36: 1 | E36: =IF('3 - Amounts Supplied'!B46="","",'3 - Amounts Supplied'!H46) | F36: =IF(E36="","",'3 - Amounts Supplied'!I46)
D37: 1 | E37: =IF('3 - Amounts Supplied'!B47="","",'3 - Amounts Supplied'!H47) | F37: =IF(E37="","",'3 - Amounts Supplied'!I47)
D38: 1 | E38: =IF('3 - Amounts Supplied'!B48="","",'3 - Amounts Supplied'!H48) | F38: =IF(E38="","",'3 - Amounts Supplied'!I48)
... D4002: 1 | E4002: =IF('3 - Amounts Supplied'!B4012="","",'3 - Amounts Supplied'!H4012) | F4002: =IF(E4002="","",'3 - Amounts Supplied'!I4012)
D4003: 2 | E4003: =IF('3 - Amounts Supplied'!B13="","",'3 - Amounts Supplied'!J13) | F4003: =IF(E4003="","",'3 - Amounts Supplied'!K13)
D4004: 2 | E4004: =IF('3 - Amounts Supplied'!B14="","",'3 - Amounts Supplied'!J14) | F4004: =IF(E4004="","",'3 - Amounts Supplied'!K14)
...
