Workbook
Name ChemicalList: Lists!$B$3:$B$68
Name ChemQuantity: #REF!
Name ClassIIChemicals: Lists!$C$3:$C$44
Name ClassIIFormula: '2 - Import Data'!$H$2:$O$2
Name ClassIIOther: '2 - Import Data'!$H$1:$O$1
Name ClassIPurpose: [1]Lists!$I$3:$I$6
Name CommodityCodes: Lists!$J$3:$J$10
Name Countries: Lists!$H$3:$H$204
Name EndDate: Lists!$G$4
Name HeelsIntendedUses: Lists!$O$5:$O$8
Name ImporterCol: '2 - Import Data'!$R$1
Name ImportNum: '2 - Import Data'!$R$2
Name LockStatus: Instructions!$H$15
Name NewIntendedUses: Lists!$M$5:$M$9
Name Purpose: Lists!$K$3:$K$4
Name ReportingQuarter: Lists!$E$3:$E$6
Name ReportingYear: Lists!$D$3:$D$12
Name ReportQtr: '1 - Report Identification'!$C$11
Name ReportYr: '1 - Report Identification'!$C$10
Name StartDate: Lists!$G$3
Name TransactionType: Lists!$L$3:$L$5
Name UsedIntendedUses: Lists!$N$5:$N$10

Sheet Instructions
B1: U.S. Environmental Protection Agency (EPA) | D1: OMB Control Number: 2060-0170
D2: Expiration Date: 8/31/2027
B4: Clean Air Act - Class II Importer Quarterly Report
B5: Worksheet Instructions:
B6: Complete and submit a Class II Importer Quarterly Report if your company imports class II ozone depleting substances (ODS). Section 1 must be completed prior to submission. Section 2 must be completed if your company imported class II ODS during the reporting quarter. Section 3 must be completed if your company sold or shipped imported ODS to a second party during the quarter for transformation or destruction.
B7: Version:
B8: 6
B9: Updated:
B10: 46280
B11: External Links:
B12: ODS Recordkeeping and Reporting webpage
B13: Reporting Form Navigation:
B14: Section 1 - Report Identification | C14: Section 3 - Shipment and Sales Data
B15: Section 2 - Import Transaction Data | C15: Section 4 - Summary
B17: All information submitted to EPA will be treated as confidential in accordance with 40 CFR Part 2, Subpart B, and will only be disclosed by the means set forth in the subpart.
B19: This collection of information is approved by OMB under the Paperwork Reduction Act, 44 U.S.C. 3501 et seq. (OMB Control No. 2060-0170). Responses to this collection of information are mandatory (40 CFR 82.24). An agency may not conduct or sponsor, and a person is not required to respond to, a collection of information unless it displays a currently valid OMB control number. The number and expiration date are displayed in the upper right corner of the form. The public reporting and recordkeeping burden for this collection of information is estimated to be 4 hours per response. Send comments on the Agency’s need this formation, the accuracy of the provided burden estimates and any suggested methods for minimizing respondent burden including through the use of automated collection techniques to the Director, Regulatory Support Division, U.S. Environmental Protection Agency (2821T), 1200 Pennsylvania Ave., NW, Washington, D.C. 20460. Include the OMB control number in any correspondence. Do not send the completed form to this address.
B29: EPA Form #5900-200

Sheet 1 - Report Identification
B1: U.S. Environmental Protection Agency (EPA) | D1: OMB Control Number: 2060-0170
D2: Expiration Date: 8/31/2027
B4: Clean Air Act - Class II Importer Quarterly Report
B5: Go to Section 2 - Import Transaction Data
B7: Section 1 - Report Identification Information
B8: Instructions: Complete all fields below. No fields may be left blank.
B9: Company Name
B10: Reporting Year
B11: Reporting Quarter
B12: Importer Number

Sheet 2 - Import Data
B1: U.S. Environmental Protection Agency (EPA) | U1: OMB Control Number: 2060-0170
U2: Expiration Date: 8/31/2027
B4: Clean Air Act - Class II Importer Quarterly Report
B5: Go to Section 3 - Shipment Data
B7: Section 2 - Import Transaction Data
B8: Instructions: Enter data for each import transaction containing a class II controlled substance that took place during the reporting period. If no controlled substances were imported, the table may be left blank. For all controlled substances that are imported, all fields are required unless otherwise indicated. As a reminder, if material was imported for second party transformation or second party destruction, a copy of the transformation and/or destruction verification from each company for whom material was imported must be provided to EPA along with the submission of this report.
B9: If blends were imported, refer to the table of HCFC blends provided in the Blend Breakout tab, as needed.
B10: Class II Import
B11: 1 | C11: 2 | D11: 3 | E11: 4 | F11: 5 | G11: 6 | H11: 7a | I11: 7b | J11: 7c | K11: 7d | L11: 7e | M11: 7f | N11: 7g | O11: 7h | P11: 8 | Q11: 9 | R11: 10 | S11: 11 | T11: 12 | U11: 13 | W11: TO HIDE
B12: Transaction Number | C12: Date of Import | D12: Source Country | E12: Name of the Chemical Imported | F12: Quantity of Chemical Imported (kg) | G12: Commodity Code | H12: Blend Information | P12: Port of Entry into the United States | Q12: Customs Entry Summary Number | R12: Shipment Importer Number | S12: Transaction Type | T12: Intended Use | U12: Date of Non-Objection Notice or Acknowledgement Letter | W12: 7a | X12: 7b | Y12: 7c | Z12: 7d | AA12: 7e | AB12: 7f | AC12: 7g | AD12: 7h
H13: Class II Chemical | I13: Quantity Imported in Blend (kg) | J13: Class II Chemical | K13: Quantity Imported in Blend (kg) | L13: Class II Chemical | M13: Quantity Imported in Blend (kg) | N13: Class II Chemical | O13: Quantity Imported in Blend (kg) | W13: Class II Chemical | X13: Quantity (kg) | Y13: Class II Chemical | Z13: Quantity (kg) | AA13: Class II Chemical | AB13: Quantity (kg) | AC13: Class II Chemical | AD13: Quantity (kg)
A14: 1 | B14: =IF(E14=0,"",1) | W14: =IF(LEFT($E14,1)="R",INDEX('Blend Breakout'!B$28:B$50,MATCH($E14,'Blend Breakout'!$A$28:$A$50,0)),IF(LEFT($E14,1)="H",$E14,IF($E14="Other",H14,""))) | X14: =IF($E14="Other",I14,IF(LEFT($E14,1)="R",$F14*INDEX('Blend Breakout'!C$28:C$50,MATCH('2 - Import Data'!$E14,'Blend Breakout'!$A$28:$A$50,0)),IF(LEFT('2 - Import Data'!$E14,1)="H",'2 - Import Data'!$F14,""))) | Y14: =IF(LEFT($E14,1)="R",INDEX('Blend Breakout'!D$28:D$50,MATCH($E14,'Blend Breakout'!$A$28:$A$50,0)),IF(AND($E14="Other",J14<>""),J14,"")) | Z14: =IF(AND($E14="Other",K14<>""),K14,IF(LEFT($E14,1)="R",IFERROR($F14*INDEX('Blend Breakout'!E$28:E$50,MATCH('2 - Import Data'!$E14,'Blend Breakout'!$A$28:$A$50,0)),""),"")) | AA14: =IF(LEFT($E14,1)="R",INDEX('Blend Breakout'!F$28:F$50,MATCH($E14,'Blend Breakout'!$A$28:$A$50,0)),IF(AND($E14="Other",L14<>""),L14,"")) | AB14: =IF(AND($E14="Other",M14<>""),M14,IF(LEFT($E14,1)="R",IFERROR($F14*INDEX('Blend Breakout'!G$28:G$50,MATCH('2 - Import Data'!$E14,'Blend Breakout'!$A$28:$A$50,0)),""),"")) | AC14: =IF(LEFT($E14,1)="R",INDEX('Blend Breakout'!H$28:H$50,MATCH($E14,'Blend Breakout'!$A$28:$A$50,0)),IF(AND($E14="Other",N14<>""),N14,"")) | AD14: =IF(AND($E14="Other",O14<>""),O14,IF(LEFT($E14,1)="R",IFERROR($F14*INDEX('Blend Breakout'!I$28:I$50,MATCH('2 - Import Data'!$E14,'Blend Breakout'!$A$28:$A$50,0)),""),""))
A15: 2 | B15: =IF(E15=0,"",MAX($B$14:B14)+1) | W15: =IF(LEFT($E15,1)="R",INDEX('Blend Breakout'!B$28:B$50,MATCH($E15,'Blend Breakout'!$A$28:$A$50,0)),IF(LEFT($E15,1)="H",$E15,IF($E15="Other",H15,""))) | X15: =IF($E15="Other",I15,IF(LEFT($E15,1)="R",$F15*INDEX('Blend Breakout'!C$28:C$50,MATCH('2 - Import Data'!$E15,'Blend Breakout'!$A$28:$A$50,0)),IF(LEFT('2 - Import Data'!$E15,1)="H",'2 - Import Data'!$F15,""))) | Y15: =IF(LEFT($E15,1)="R",INDEX('Blend Breakout'!D$28:D$50,MATCH($E15,'Blend Breakout'!$A$28:$A$50,0)),IF(AND($E15="Other",J15<>""),J15,"")) | Z15: =IF(AND($E15="Other",K15<>""),K15,IF(LEFT($E15,1)="R",IFERROR($F15*INDEX('Blend Breakout'!E$28:E$50,MATCH('2 - Import Data'!$E15,'Blend Breakout'!$A$28:$A$50,0)),""),"")) | AA15: =IF(LEFT($E15,1)="R",INDEX('Blend Breakout'!F$28:F$50,MATCH($E15,'Blend Breakout'!$A$28:$A$50,0)),IF(AND($E15="Other",L15<>""),L15,"")) | AB15: =IF(AND($E15="Other",M15<>""),M15,IF(LEFT($E15,1)="R",IFERROR($F15*INDEX('Blend Breakout'!G$28:G$50,MATCH('2 - Import Data'!$E15,'Blend Breakout'!$A$28:$A$50,0)),""),"")) | AC15: =IF(LEFT($E15,1)="R",INDEX('Blend Breakout'!H$28:H$50,MATCH($E15,'Blend Breakout'!$A$28:$A$50,0)),IF(AND($E15="Other",N15<>""),N15,"")) | AD15: =IF(AND($E15="Other",O15<>""),O15,IF(LEFT($E15,1)="R",IFERROR($F15*INDEX('Blend Breakout'!I$28:I$50,MATCH('2 - Import Data'!$E15,'Blend Breakout'!$A$28:$A$50,0)),""),""))
A16: 3 | B16: =IF(E16=0,"",MAX($B$14:B15)+1) | W16: =IF(LEFT($E16,1)="R",INDEX('Blend Breakout'!B$28:B$50,MATCH($E16,'Blend Breakout'!$A$28:$A$50,0)),IF(LEFT($E16,1)="H",$E16,IF($E16="Other",H16,""))) | X16: =IF($E16="Other",I16,IF(LEFT($E16,1)="R",$F16*INDEX('Blend Breakout'!C$28:C$50,MATCH('2 - Import Data'!$E16,'Blend Breakout'!$A$28:$A$50,0)),IF(LEFT('2 - Import Data'!$E16,1)="H",'2 - Import Data'!$F16,""))) | Y16: =IF(LEFT($E16,1)="R",INDEX('Blend Breakout'!D$28:D$50,MATCH($E16,'Blend Breakout'!$A$28:$A$50,0)),IF(AND($E16="Other",J16<>""),J16,"")) | Z16: =IF(AND($E16="Other",K16<>""),K16,IF(LEFT($E16,1)="R",IFERROR($F16*INDEX('Blend Breakout'!E$28:E$50,MATCH('2 - Import Data'!$E16,'Blend Breakout'!$A$28:$A$50,0)),""),"")) | AA16: =IF(LEFT($E16,1)="R",INDEX('Blend Breakout'!F$28:F$50,MATCH($E16,'Blend Breakout'!$A$28:$A$50,0)),IF(AND($E16="Other",L16<>""),L16,"")) | AB16: =IF(AND($E16="Other",M16<>""),M16,IF(LEFT($E16,1)="R",IFERROR($F16*INDEX('Blend Breakout'!G$28:G$50,MATCH('2 - Import Data'!$E16,'Blend Breakout'!$A$28:$A$50,0)),""),"")) | AC16: =IF(LEFT($E16,1)="R",INDEX('Blend Breakout'!H$28:H$50,MATCH($E16,'Blend Breakout'!$A$28:$A$50,0)),IF(AND($E16="Other",N16<>""),N16,"")) | AD16: =IF(AND($E16="Other",O16<>""),O16,IF(LEFT($E16,1)="R",IFERROR($F16*INDEX('Blend Breakout'!I$28:I$50,MATCH('2 - Import Data'!$E16,'Blend Breakout'!$A$28:$A$50,0)),""),""))
A17: 4 | B17: =IF(E17=0,"",MAX($B$14:B16)+1) | W17: =IF(LEFT($E17,1)="R",INDEX('Blend Breakout'!B$28:B$50,MATCH($E17,'Blend Breakout'!$A$28:$A$50,0)),IF(LEFT($E17,1)="H",$E17,IF($E17="Other",H17,""))) | X17: =IF($E17="Other",I17,IF(LEFT($E17,1)="R",$F17*INDEX('Blend Breakout'!C$28:C$50,MATCH('2 - Import Data'!$E17,'Blend Breakout'!$A$28:$A$50,0)),IF(LEFT('2 - Import Data'!$E17,1)="H",'2 - Import Data'!$F17,""))) | Y17: =IF(LEFT($E17,1)="R",INDEX('Blend Breakout'!D$28:D$50,MATCH($E17,'Blend Breakout'!$A$28:$A$50,0)),IF(AND($E17="Other",J17<>""),J17,"")) | Z17: =IF(AND($E17="Other",K17<>""),K17,IF(LEFT($E17,1)="R",IFERROR($F17*INDEX('Blend Breakout'!E$28:E$50,MATCH('2 - Import Data'!$E17,'Blend Breakout'!$A$28:$A$50,0)),""),"")) | AA17: =IF(LEFT($E17,1)="R",INDEX('Blend Breakout'!F$28:F$50,MATCH($E17,'Blend Breakout'!$A$28:$A$50,0)),IF(AND($E17="Other",L17<>""),L17,"")) | AB17: =IF(AND($E17="Other",M17<>""),M17,IF(LEFT($E17,1)="R",IFERROR($F17*INDEX('Blend Breakout'!G$28:G$50,MATCH('2 - Import Data'!$E17,'Blend Breakout'!$A$28:$A$50,0)),""),"")) | AC17: =IF(LEFT($E17,1)="R",INDEX('Blend Breakout'!H$28:H$50,MATCH($E17,'Blend Breakout'!$A$28:$A$50,0)),IF(AND($E17="Other",N17<>""),N17,"")) | AD17: =IF(AND($E17="Other",O17<>""),O17,IF(LEFT($E17,1)="R",IFERROR($F17*INDEX('Blend Breakout'!I$28:I$50,MATCH('2 - Import Data'!$E17,'Blend Breakout'!$A$28:$A$50,0)),""),""))
A18: 5 | B18: =IF(E18=0,"",MAX($B$14:B17)+1) | W18: =IF(LEFT($E18,1)="R",INDEX('Blend Breakout'!B$28:B$50,MATCH($E18,'Blend Breakout'!$A$28:$A$50,0)),IF(LEFT($E18,1)="H",$E18,IF($E18="Other",H18,""))) | X18: =IF($E18="Other",I18,IF(LEFT($E18,1)="R",$F18*INDEX('Blend Breakout'!C$28:C$50,MATCH('2 - Import Data'!$E18,'Blend Breakout'!$A$28:$A$50,0)),IF(LEFT('2 - Import Data'!$E18,1)="H",'2 - Import Data'!$F18,""))) | Y18: =IF(LEFT($E18,1)="R",INDEX('Blend Breakout'!D$28:D$50,MATCH($E18,'Blend Breakout'!$A$28:$A$50,0)),IF(AND($E18="Other",J18<>""),J18,"")) | Z18: =IF(AND($E18="Other",K18<>""),K18,IF(LEFT($E18,1)="R",IFERROR($F18*INDEX('Blend Breakout'!E$28:E$50,MATCH('2 - Import Data'!$E18,'Blend Breakout'!$A$28:$A$50,0)),""),"")) | AA18: =IF(LEFT($E18,1)="R",INDEX('Blend Breakout'!F$28:F$50,MATCH($E18,'Blend Breakout'!$A$28:$A$50,0)),IF(AND($E18="Other",L18<>""),L18,"")) | AB18: =IF(AND($E18="Other",M18<>""),M18,IF(LEFT($E18,1)="R",IFERROR($F18*INDEX('Blend Breakout'!G$28:G$50,MATCH('2 - Import Data'!$E18,'Blend Breakout'!$A$28:$A$50,0)),""),"")) | AC18: =IF(LEFT($E18,1)="R",INDEX('Blend Breakout'!H$28:H$50,MATCH($E18,'Blend Breakout'!$A$28:$A$50,0)),IF(AND($E18="Other",N18<>""),N18,"")) | AD18: =IF(AND($E18="Other",O18<>""),O18,IF(LEFT($E18,1)="R",IFERROR($F18*INDEX('Blend Breakout'!I$28:I$50,MATCH('2 - Import Data'!$E18,'Blend Breakout'!$A$28:$A$50,0)),""),""))
A19: 6 | B19: =IF(E19=0,"",MAX($B$14:B18)+1) | W19: =IF(LEFT($E19,1)="R",INDEX('Blend Breakout'!B$28:B$50,MATCH($E19,'Blend Breakout'!$A$28:$A$50,0)),IF(LEFT($E19,1)="H",$E19,IF($E19="Other",H19,""))) | X19: =IF($E19="Other",I19,IF(LEFT($E19,1)="R",$F19*INDEX('Blend Breakout'!C$28:C$50,MATCH('2 - Import Data'!$E19,'Blend Breakout'!$A$28:$A$50,0)),IF(LEFT('2 - Import Data'!$E19,1)="H",'2 - Import Data'!$F19,""))) | Y19: =IF(LEFT($E19,1)="R",INDEX('Blend Breakout'!D$28:D$50,MATCH($E19,'Blend Breakout'!$A$28:$A$50,0)),IF(AND($E19="Other",J19<>""),J19,"")) | Z19: =IF(AND($E19="Other",K19<>""),K19,IF(LEFT($E19,1)="R",IFERROR($F19*INDEX('Blend Breakout'!E$28:E$50,MATCH('2 - Import Data'!$E19,'Blend Breakout'!$A$28:$A$50,0)),""),"")) | AA19: =IF(LEFT($E19,1)="R",INDEX('Blend Breakout'!F$28:F$50,MATCH($E19,'Blend Breakout'!$A$28:$A$50,0)),IF(AND($E19="Other",L19<>""),L19,"")) | AB19: =IF(AND($E19="Other",M19<>""),M19,IF(LEFT($E19,1)="R",IFERROR($F19*INDEX('Blend Breakout'!G$28:G$50,MATCH('2 - Import Data'!$E19,'Blend Breakout'!$A$28:$A$50,0)),""),"")) | AC19: =IF(LEFT($E19,1)="R",INDEX('Blend Breakout'!H$28:H$50,MATCH($E19,'Blend Breakout'!$A$28:$A$50,0)),IF(AND($E19="Other",N19<>""),N19,"")) | AD19: =IF(AND($E19="Other",O19<>""),O19,IF(LEFT($E19,1)="R",IFERROR($F19*INDEX('Blend Breakout'!I$28:I$50,MATCH('2 - Import Data'!$E19,'Blend Breakout'!$A$28:$A$50,0)),""),""))
A20: 7 | B20: =IF(E20=0,"",MAX($B$14:B19)+1) | W20: =IF(LEFT($E20,1)="R",INDEX('Blend Breakout'!B$28:B$50,MATCH($E20,'Blend Breakout'!$A$28:$A$50,0)),IF(LEFT($E20,1)="H",$E20,IF($E20="Other",H20,""))) | X20: =IF($E20="Other",I20,IF(LEFT($E20,1)="R",$F20*INDEX('Blend Breakout'!C$28:C$50,MATCH('2 - Import Data'!$E20,'Blend Breakout'!$A$28:$A$50,0)),IF(LEFT('2 - Import Data'!$E20,1)="H",'2 - Import Data'!$F20,""))) | Y20: =IF(LEFT($E20,1)="R",INDEX('Blend Breakout'!D$28:D$50,MATCH($E20,'Blend Breakout'!$A$28:$A$50,0)),IF(AND($E20="Other",J20<>""),J20,"")) | Z20: =IF(AND($E20="Other",K20<>""),K20,IF(LEFT($E20,1)="R",IFERROR($F20*INDEX('Blend Breakout'!E$28:E$50,MATCH('2 - Import Data'!$E20,'Blend Breakout'!$A$28:$A$50,0)),""),"")) | AA20: =IF(LEFT($E20,1)="R",INDEX('Blend Breakout'!F$28:F$50,MATCH($E20,'Blend Breakout'!$A$28:$A$50,0)),IF(AND($E20="Other",L20<>""),L20,"")) | AB20: =IF(AND($E20="Other",M20<>""),M20,IF(LEFT($E20,1)="R",IFERROR($F20*INDEX('Blend Breakout'!G$28:G$50,MATCH('2 - Import Data'!$E20,'Blend Breakout'!$A$28:$A$50,0)),""),"")) | AC20: =IF(LEFT($E20,1)="R",INDEX('Blend Breakout'!H$28:H$50,MATCH($E20,'Blend Breakout'!$A$28:$A$50,0)),IF(AND($E20="Other",N20<>""),N20,"")) | AD20: =IF(AND($E20="Other",O20<>""),O20,IF(LEFT($E20,1)="R",IFERROR($F20*INDEX('Blend Breakout'!I$28:I$50,MATCH('2 - Import Data'!$E20,'Blend Breakout'!$A$28:$A$50,0)),""),""))
A21: 8 | B21: =IF(E21=0,"",MAX($B$14:B20)+1) | W21: =IF(LEFT($E21,1)="R",INDEX('Blend Breakout'!B$28:B$50,MATCH($E21,'Blend Breakout'!$A$28:$A$50,0)),IF(LEFT($E21,1)="H",$E21,IF($E21="Other",H21,""))) | X21: =IF($E21="Other",I21,IF(LEFT($E21,1)="R",$F21*INDEX('Blend Breakout'!C$28:C$50,MATCH('2 - Import Data'!$E21,'Blend Breakout'!$A$28:$A$50,0)),IF(LEFT('2 - Import Data'!$E21,1)="H",'2 - Import Data'!$F21,""))) | Y21: =IF(LEFT($E21,1)="R",INDEX('Blend Breakout'!D$28:D$50,MATCH($E21,'Blend Breakout'!$A$28:$A$50,0)),IF(AND($E21="Other",J21<>""),J21,"")) | Z21: =IF(AND($E21="Other",K21<>""),K21,IF(LEFT($E21,1)="R",IFERROR($F21*INDEX('Blend Breakout'!E$28:E$50,MATCH('2 - Import Data'!$E21,'Blend Breakout'!$A$28:$A$50,0)),""),"")) | AA21: =IF(LEFT($E21,1)="R",INDEX('Blend Breakout'!F$28:F$50,MATCH($E21,'Blend Breakout'!$A$28:$A$50,0)),IF(AND($E21="Other",L21<>""),L21,"")) | AB21: =IF(AND($E21="Other",M21<>""),M21,IF(LEFT($E21,1)="R",IFERROR($F21*INDEX('Blend Breakout'!G$28:G$50,MATCH('2 - Import Data'!$E21,'Blend Breakout'!$A$28:$A$50,0)),""),"")) | AC21: =IF(LEFT($E21,1)="R",INDEX('Blend Breakout'!H$28:H$50,MATCH($E21,'Blend Breakout'!$A$28:$A$50,0)),IF(AND($E21="Other",N21<>""),N21,"")) | AD21: =IF(AND($E21="Other",O21<>""),O21,IF(LEFT($E21,1)="R",IFERROR($F21*INDEX('Blend Breakout'!I$28:I$50,MATCH('2 - Import Data'!$E21,'Blend Breakout'!$A$28:$A$50,0)),""),""))
A22: 9 | B22: =IF(E22=0,"",MAX($B$14:B21)+1) | W22: =IF(LEFT($E22,1)="R",INDEX('Blend Breakout'!B$28:B$50,MATCH($E22,'Blend Breakout'!$A$28:$A$50,0)),IF(LEFT($E22,1)="H",$E22,IF($E22="Other",H22,""))) | X22: =IF($E22="Other",I22,IF(LEFT($E22,1)="R",$F22*INDEX('Blend Breakout'!C$28:C$50,MATCH('2 - Import Data'!$E22,'Blend Breakout'!$A$28:$A$50,0)),IF(LEFT('2 - Import Data'!$E22,1)="H",'2 - Import Data'!$F22,""))) | Y22: =IF(LEFT($E22,1)="R",INDEX('Blend Breakout'!D$28:D$50,MATCH($E22,'Blend Breakout'!$A$28:$A$50,0)),IF(AND($E22="Other",J22<>""),J22,"")) | Z22: =IF(AND($E22="Other",K22<>""),K22,IF(LEFT($E22,1)="R",IFERROR($F22*INDEX('Blend Breakout'!E$28:E$50,MATCH('2 - Import Data'!$E22,'Blend Breakout'!$A$28:$A$50,0)),""),"")) | AA22: =IF(LEFT($E22,1)="R",INDEX('Blend Breakout'!F$28:F$50,MATCH($E22,'Blend Breakout'!$A$28:$A$50,0)),IF(AND($E22="Other",L22<>""),L22,"")) | AB22: =IF(AND($E22="Other",M22<>""),M22,IF(LEFT($E22,1)="R",IFERROR($F22*INDEX('Blend Breakout'!G$28:G$50,MATCH('2 - Import Data'!$E22,'Blend Breakout'!$A$28:$A$50,0)),""),"")) | AC22: =IF(LEFT($E22,1)="R",INDEX('Blend Breakout'!H$28:H$50,MATCH($E22,'Blend Breakout'!$A$28:$A$50,0)),IF(AND($E22="Other",N22<>""),N22,"")) | AD22: =IF(AND($E22="Other",O22<>""),O22,IF(LEFT($E22,1)="R",IFERROR($F22*INDEX('Blend Breakout'!I$28:I$50,MATCH('2 - Import Data'!$E22,'Blend Breakout'!$A$28:$A$50,0)),""),""))
A23: 10 | B23: =IF(E23=0,"",MAX($B$14:B22)+1) | W23: =IF(LEFT($E23,1)="R",INDEX('Blend Breakout'!B$28:B$50,MATCH($E23,'Blend Breakout'!$A$28:$A$50,0)),IF(LEFT($E23,1)="H",$E23,IF($E23="Other",H23,""))) | X23: =IF($E23="Other",I23,IF(LEFT($E23,1)="R",$F23*INDEX('Blend Breakout'!C$28:C$50,MATCH('2 - Import Data'!$E23,'Blend Breakout'!$A$28:$A$50,0)),IF(LEFT('2 - Import Data'!$E23,1)="H",'2 - Import Data'!$F23,""))) | Y23: =IF(LEFT($E23,1)="R",INDEX('Blend Breakout'!D$28:D$50,MATCH($E23,'Blend Breakout'!$A$28:$A$50,0)),IF(AND($E23="Other",J23<>""),J23,"")) | Z23: =IF(AND($E23="Other",K23<>""),K23,IF(LEFT($E23,1)="R",IFERROR($F23*INDEX('Blend Breakout'!E$28:E$50,MATCH('2 - Import Data'!$E23,'Blend Breakout'!$A$28:$A$50,0)),""),"")) | AA23: =IF(LEFT($E23,1)="R",INDEX('Blend Breakout'!F$28:F$50,MATCH($E23,'Blend Breakout'!$A$28:$A$50,0)),IF(AND($E23="Other",L23<>""),L23,"")) | AB23: =IF(AND($E23="Other",M23<>""),M23,IF(LEFT($E23,1)="R",IFERROR($F23*INDEX('Blend Breakout'!G$28:G$50,MATCH('2 - Import Data'!$E23,'Blend Breakout'!$A$28:$A$50,0)),""),"")) | AC23: =IF(LEFT($E23,1)="R",INDEX('Blend Breakout'!H$28:H$50,MATCH($E23,'Blend Breakout'!$A$28:$A$50,0)),IF(AND($E23="Other",N23<>""),N23,"")) | AD23: =IF(AND($E23="Other",O23<>""),O23,IF(LEFT($E23,1)="R",IFERROR($F23*INDEX('Blend Breakout'!I$28:I$50,MATCH('2 - Import Data'!$E23,'Blend Breakout'!$A$28:$A$50,0)),""),""))
A24: 11 | B24: =IF(E24=0,"",MAX($B$14:B23)+1) | W24: =IF(LEFT($E24,1)="R",INDEX('Blend Breakout'!B$28:B$50,MATCH($E24,'Blend Breakout'!$A$28:$A$50,0)),IF(LEFT($E24,1)="H",$E24,IF($E24="Other",H24,""))) | X24: =IF($E24="Other",I24,IF(LEFT($E24,1)="R",$F24*INDEX('Blend Breakout'!C$28:C$50,MATCH('2 - Import Data'!$E24,'Blend Breakout'!$A$28:$A$50,0)),IF(LEFT('2 - Import Data'!$E24,1)="H",'2 - Import Data'!$F24,""))) | Y24: =IF(LEFT($E24,1)="R",INDEX('Blend Breakout'!D$28:D$50,MATCH($E24,'Blend Breakout'!$A$28:$A$50,0)),IF(AND($E24="Other",J24<>""),J24,"")) | Z24: =IF(AND($E24="Other",K24<>""),K24,IF(LEFT($E24,1)="R",IFERROR($F24*INDEX('Blend Breakout'!E$28:E$50,MATCH('2 - Import Data'!$E24,'Blend Breakout'!$A$28:$A$50,0)),""),"")) | AA24: =IF(LEFT($E24,1)="R",INDEX('Blend Breakout'!F$28:F$50,MATCH($E24,'Blend Breakout'!$A$28:$A$50,0)),IF(AND($E24="Other",L24<>""),L24,"")) | AB24: =IF(AND($E24="Other",M24<>""),M24,IF(LEFT($E24,1)="R",IFERROR($F24*INDEX('Blend Breakout'!G$28:G$50,MATCH('2 - Import Data'!$E24,'Blend Breakout'!$A$28:$A$50,0)),""),"")) | AC24: =IF(LEFT($E24,1)="R",INDEX('Blend Breakout'!H$28:H$50,MATCH($E24,'Blend Breakout'!$A$28:$A$50,0)),IF(AND($E24="Other",N24<>""),N24,"")) | AD24: =IF(AND($E24="Other",O24<>""),O24,IF(LEFT($E24,1)="R",IFERROR($F24*INDEX('Blend Breakout'!I$28:I$50,MATCH('2 - Import Data'!$E24,'Blend Breakout'!$A$28:$A$50,0)),""),""))
A25: 12 | B25: =IF(E25=0,"",MAX($B$14:B24)+1) | W25: =IF(LEFT($E25,1)="R",INDEX('Blend Breakout'!B$28:B$50,MATCH($E25,'Blend Breakout'!$A$28:$A$50,0)),IF(LEFT($E25,1)="H",$E25,IF($E25="Other",H25,""))) | X25: =IF($E25="Other",I25,IF(LEFT($E25,1)="R",$F25*INDEX('Blend Breakout'!C$28:C$50,MATCH('2 - Import Data'!$E25,'Blend Breakout'!$A$28:$A$50,0)),IF(LEFT('2 - Import Data'!$E25,1)="H",'2 - Import Data'!$F25,""))) | Y25: =IF(LEFT($E25,1)="R",INDEX('Blend Breakout'!D$28:D$50,MATCH($E25,'Blend Breakout'!$A$28:$A$50,0)),IF(AND($E25="Other",J25<>""),J25,"")) | Z25: =IF(AND($E25="Other",K25<>""),K25,IF(LEFT($E25,1)="R",IFERROR($F25*INDEX('Blend Breakout'!E$28:E$50,MATCH('2 - Import Data'!$E25,'Blend Breakout'!$A$28:$A$50,0)),""),"")) | AA25: =IF(LEFT($E25,1)="R",INDEX('Blend Breakout'!F$28:F$50,MATCH($E25,'Blend Breakout'!$A$28:$A$50,0)),IF(AND($E25="Other",L25<>""),L25,"")) | AB25: =IF(AND($E25="Other",M25<>""),M25,IF(LEFT($E25,1)="R",IFERROR($F25*INDEX('Blend Breakout'!G$28:G$50,MATCH('2 - Import Data'!$E25,'Blend Breakout'!$A$28:$A$50,0)),""),"")) | AC25: =IF(LEFT($E25,1)="R",INDEX('Blend Breakout'!H$28:H$50,MATCH($E25,'Blend Breakout'!$A$28:$A$50,0)),IF(AND($E25="Other",N25<>""),N25,"")) | AD25: =IF(AND($E25="Other",O25<>""),O25,IF(LEFT($E25,1)="R",IFERROR($F25*INDEX('Blend Breakout'!I$28:I$50,MATCH('2 - Import Data'!$E25,'Blend Breakout'!$A$28:$A$50,0)),""),""))
A26: 13 | B26: =IF(E26=0,"",MAX($B$14:B25)+1) | W26: =IF(LEFT($E26,1)="R",INDEX('Blend Breakout'!B$28:B$50,MATCH($E26,'Blend Breakout'!$A$28:$A$50,0)),IF(LEFT($E26,1)="H",$E26,IF($E26="Other",H26,""))) | X26: =IF($E26="Other",I26,IF(LEFT($E26,1)="R",$F26*INDEX('Blend Breakout'!C$28:C$50,MATCH('2 - Import Data'!$E26,'Blend Breakout'!$A$28:$A$50,0)),IF(LEFT('2 - Import Data'!$E26,1)="H",'2 - Import Data'!$F26,""))) | Y26: =IF(LEFT($E26,1)="R",INDEX('Blend Breakout'!D$28:D$50,MATCH($E26,'Blend Breakout'!$A$28:$A$50,0)),IF(AND($E26="Other",J26<>""),J26,"")) | Z26: =IF(AND($E26="Other",K26<>""),K26,IF(LEFT($E26,1)="R",IFERROR($F26*INDEX('Blend Breakout'!E$28:E$50,MATCH('2 - Import Data'!$E26,'Blend Breakout'!$A$28:$A$50,0)),""),"")) | AA26: =IF(LEFT($E26,1)="R",INDEX('Blend Breakout'!F$28:F$50,MATCH($E26,'Blend Breakout'!$A$28:$A$50,0)),IF(AND($E26="Other",L26<>""),L26,"")) | AB26: =IF(AND($E26="Other",M26<>""),M26,IF(LEFT($E26,1)="R",IFERROR($F26*INDEX('Blend Breakout'!G$28:G$50,MATCH('2 - Import Data'!$E26,'Blend Breakout'!$A$28:$A$50,0)),""),"")) | AC26: =IF(LEFT($E26,1)="R",INDEX('Blend Breakout'!H$28:H$50,MATCH($E26,'Blend Breakout'!$A$28:$A$50,0)),IF(AND($E26="Other",N26<>""),N26,"")) | AD26: =IF(AND($E26="Other",O26<>""),O26,IF(LEFT($E26,1)="R",IFERROR($F26*INDEX('Blend Breakout'!I$28:I$50,MATCH('2 - Import Data'!$E26,'Blend Breakout'!$A$28:$A$50,0)),""),""))
... A313: 300 | B313: =IF(E313=0,"",MAX($B$14:B312)+1) | W313: =IF(LEFT($E313,1)="R",INDEX('Blend Breakout'!B$28:B$50,MATCH($E313,'Blend Breakout'!$A$28:$A$50,0)),IF(LEFT($E313,1)="H",$E313,IF($E313="Other",H313,""))) | X313: =IF($E313="Other",I313,IF(LEFT($E313,1)="R",$F313*INDEX('Blend Breakout'!C$28:C$50,MATCH('2 - Import Data'!$E313,'Blend Breakout'!$A$28:$A$50,0)),IF(LEFT('2 - Import Data'!$E313,1)="H",'2 - Import Data'!$F313,""))) | Y313: =IF(LEFT($E313,1)="R",INDEX('Blend Breakout'!D$28:D$50,MATCH($E313,'Blend Breakout'!$A$28:$A$50,0)),IF(AND($E313="Other",J313<>""),J313,"")) | Z313: =IF(AND($E313="Other",K313<>""),K313,IF(LEFT($E313,1)="R",IFERROR($F313*INDEX('Blend Breakout'!E$28:E$50,MATCH('2 - Import Data'!$E313,'Blend Breakout'!$A$28:$A$50,0)),""),"")) | AA313: =IF(LEFT($E313,1)="R",INDEX('Blend Breakout'!F$28:F$50,MATCH($E313,'Blend Breakout'!$A$28:$A$50,0)),IF(AND($E313="Other",L313<>""),L313,"")) | AB313: =IF(AND($E313="Other",M313<>""),M313,IF(LEFT($E313,1)="R",IFERROR($F313*INDEX('Blend Breakout'!G$28:G$50,MATCH('2 - Import Data'!$E313,'Blend Breakout'!$A$28:$A$50,0)),""),"")) | AC313: =IF(LEFT($E313,1)="R",INDEX('Blend Breakout'!H$28:H$50,MATCH($E313,'Blend Breakout'!$A$28:$A$50,0)),IF(AND($E313="Other",N313<>""),N313,"")) | AD313: =IF(AND($E313="Other",O313<>""),O313,IF(LEFT($E313,1)="R",IFERROR($F313*INDEX('Blend Breakout'!I$28:I$50,MATCH('2 - Import Data'!$E313,'Blend Breakout'!$A$28:$A$50,0)),""),""))

Sheet 3 - Shipment and Sales
B1: U.S. Environmental Protection Agency (EPA) | E1: OMB Control Number: 2060-0170
E2: Expiration Date: 8/31/2027
B4: Clean Air Act - Class II Importer Quarterly Report
B5: Go to Section 4 - Summary
B7: Section 3 - Shipment Data
B8: Instructions: Identify the recipient companies of the material imported for second party transformation or second party destruction, and the amount shipped to each company during the quarter. Due to a potential time lag between the date of import and the date of shipment, it is recognized that for a given quarter the information in Section 3 may not match the information reported in Section 2 for seond party transformation and second party destruction within a given quarter. However, all material imported for second party transformation or second party destruction must ultimately be shipped to a second party and must be reported as such in the applicable quarterly report.
B9: As a reminder, a copy of the transformation or destruction verification from each second party for whom material was imported must be provided to EPA along with the submission of this report.
B10: Shipment and Sales Data
B11: 1 | C11: 2 | D11: 3 | E11: 4
B12: Chemical Name | C12: Recipient Company Name | D12: Quantity (kg) | E12: Purpose
A13: 1
A14: 2
A15: 3
A16: 4
A17: 5
A18: 6
A19: 7
A20: 8
A21: 9
A22: 10

Sheet 4 - Summary
B1: U.S. Environmental Protection Agency (EPA) | K1: OMB Control Number: 2060-0170
K2: Expiration Date: 8/31/2027
B4: Clean Air Act - Class II Importer Quarterly Report
B6: Section 4 - Summary
B7: The values in the table below are calculated based on data entered in Section 2. If the totals appear to be incorrect, please return to Section 2 to review your data.
B8: Class II Quarterly Import Summary
B9: 1 | C9: 2 | D9: 3 | E9: 4 | F9: 5 | G9: 6 | H9: 7 | J9: 8 | K9: 9
C10: New Imports (kg) | J10: Total Used Imports (kg) | K10: Total Heel Imports (kg)
B11: Chemical Name | C11: Gross Imports | D11: In-House Transformation | E11: Second Party Transformation | F11: In-House Destruction | G11: Second Party Destruction | H11: Net Imports | I11: Used Imports - Reuse (using allowances) (kg)
A12: 1 | B12: =IFERROR(VLOOKUP(A12,'Data for Summary'!$A$3:$B$44,2,0),"") | C12: =IF($B12="","",SUM(SUMIFS('2 - Import Data'!$X:$X,'2 - Import Data'!$W:$W,$B12,'2 - Import Data'!$S:$S,Lists!$L$3),SUMIFS('2 - Import Data'!$Z:$Z,'2 - Import Data'!$Y:$Y,$B12,'2 - Import Data'!$S:$S,Lists!$L$3),SUMIFS('2 - Import Data'!$AB:$AB,'2 - Import Data'!$AA:$AA,$B12,'2 - Import Data'!$S:$S,Lists!$L$3),SUMIFS('2 - Import Data'!$AD:$AD,'2 - Import Data'!$AC:$AC,$B12,'2 - Import Data'!$S:$S,Lists!$L$3))) | D12: =IF($B12="","",SUM(SUMIFS('2 - Import Data'!$X:$X,'2 - Import Data'!$W:$W,$B12,'2 - Import Data'!$S:$S,Lists!$L$3,'2 - Import Data'!$T:$T,Lists!$M$5),SUMIFS('2 - Import Data'!$Z:$Z,'2 - Import Data'!$Y:$Y,$B12,'2 - Import Data'!$S:$S,Lists!$L$3,'2 - Import Data'!$T:$T,Lists!$M$5),SUMIFS('2 - Import Data'!$AB:$AB,'2 - Import Data'!$AA:$AA,$B12,'2 - Import Data'!$S:$S,Lists!$L$3,'2 - Import Data'!$T:$T,Lists!$M$5),SUMIFS('2 - Import Data'!$AD:$AD,'2 - Import Data'!$AC:$AC,$B12,'2 - Import Data'!$S:$S,Lists!$L$3,'2 - Import Data'!$T:$T,Lists!$M$5))) | E12: =IF($B12="","",SUM(SUMIFS('2 - Import Data'!$X:$X,'2 - Import Data'!$W:$W,$B12,'2 - Import Data'!$S:$S,Lists!$L$3,'2 - Import Data'!$T:$T,Lists!$M$6),SUMIFS('2 - Import Data'!$Z:$Z,'2 - Import Data'!$Y:$Y,$B12,'2 - Import Data'!$S:$S,Lists!$L$3,'2 - Import Data'!$T:$T,Lists!$M$6),SUMIFS('2 - Import Data'!$AB:$AB,'2 - Import Data'!$AA:$AA,$B12,'2 - Import Data'!$S:$S,Lists!$L$3,'2 - Import Data'!$T:$T,Lists!$M$6),SUMIFS('2 - Import Data'!$AD:$AD,'2 - Import Data'!$AC:$AC,$B12,'2 - Import Data'!$S:$S,Lists!$L$3,'2 - Import Data'!$T:$T,Lists!$M$6))) | F12: =IF($B12="","",SUM(SUMIFS('2 - Import Data'!$X:$X,'2 - Import Data'!$W:$W,$B12,'2 - Import Data'!$S:$S,Lists!$L$3,'2 - Import Data'!$T:$T,Lists!$M$7),SUMIFS('2 - Import Data'!$Z:$Z,'2 - Import Data'!$Y:$Y,$B12,'2 - Import Data'!$S:$S,Lists!$L$3,'2 - Import Data'!$T:$T,Lists!$M$7),SUMIFS('2 - Import Data'!$AB:$AB,'2 - Import Data'!$AA:$AA,$B12,'2 - Import Data'!$S:$S,Lists!$L$3,'2 - Import Data'!$T:$T,Lists!$M$7),SUMIFS('2 - Import Data'!$AD:$AD,'2 - Import Data'!$AC:$AC,$B12,'2 - Import Data'!$S:$S,Lists!$L$3,'2 - Import Data'!$T:$T,Lists!$M$7))) | G12: =IF($B12="","",SUM(SUMIFS('2 - Import Data'!$X:$X,'2 - Import Data'!$W:$W,$B12,'2 - Import Data'!$S:$S,Lists!$L$3,'2 - Import Data'!$T:$T,Lists!$M$8),SUMIFS('2 - Import Data'!$Z:$Z,'2 - Import Data'!$Y:$Y,$B12,'2 - Import Data'!$S:$S,Lists!$L$3,'2 - Import Data'!$T:$T,Lists!$M$8),SUMIFS('2 - Import Data'!$AB:$AB,'2 - Import Data'!$AA:$AA,$B12,'2 - Import Data'!$S:$S,Lists!$L$3,'2 - Import Data'!$T:$T,Lists!$M$8),SUMIFS('2 - Import Data'!$AD:$AD,'2 - Import Data'!$AC:$AC,$B12,'2 - Import Data'!$S:$S,Lists!$L$3,'2 - Import Data'!$T:$T,Lists!$M$8))) | H12: =IF($B12="","",C12-SUM(D12:G12)) | I12: =IF($B12="","",SUM(SUMIFS('2 - Import Data'!$X:$X,'2 - Import Data'!$W:$W,$B12,'2 - Import Data'!$S:$S,Lists!$L$4,'2 - Import Data'!$T:$T,Lists!$N$10),SUMIFS('2 - Import Data'!$Z:$Z,'2 - Import Data'!$Y:$Y,$B12,'2 - Import Data'!$S:$S,Lists!$L$4,'2 - Import Data'!$T:$T,Lists!$N$10),SUMIFS('2 - Import Data'!$AB:$AB,'2 - Import Data'!$AA:$AA,$B12,'2 - Import Data'!$S:$S,Lists!$L$4,'2 - Import Data'!$T:$T,Lists!$N$10),SUMIFS('2 - Import Data'!$AD:$AD,'2 - Import Data'!$AC:$AC,$B12,'2 - Import Data'!$S:$S,Lists!$L$4,'2 - Import Data'!$T:$T,Lists!$N$10))) | J12: =IF($B12="","",SUM(SUMIFS('2 - Import Data'!$X:$X,'2 - Import Data'!$W:$W,$B12,'2 - Import Data'!$S:$S,Lists!$L$4),SUMIFS('2 - Import Data'!$Z:$Z,'2 - Import Data'!$Y:$Y,$B12,'2 - Import Data'!$S:$S,Lists!$L$4),SUMIFS('2 - Import Data'!$AB:$AB,'2 - Import Data'!$AA:$AA,$B12,'2 - Import Data'!$S:$S,Lists!$L$4),SUMIFS('2 - Import Data'!$AD:$AD,'2 - Import Data'!$AC:$AC,$B12,'2 - Import Data'!$S:$S,Lists!$L$4))) | K12: =IF($B12="","",SUM(SUMIFS('2 - Import Data'!$X:$X,'2 - Import Data'!$W:$W,$B12,'2 - Import Data'!$S:$S,Lists!$L$5),SUMIFS('2 - Import Data'!$Z:$Z,'2 - Import Data'!$Y:$Y,$B12,'2 - Import Data'!$S:$S,Lists!$L$5),SUMIFS('2 - Import Data'!$AB:$AB,'2 - Import Data'!$AA:$AA,$B12,'2 - Import Data'!$S:$S,Lists!$L$5),SUMIFS('2 - Import Data'!$AD:$AD,'2 - Import Data'!$AC:$AC,$B12,'2 - Import Data'!$S:$S,Lists!$L$5)))
A13: 2 | B13: =IFERROR(VLOOKUP(A13,'Data for Summary'!$A$3:$B$44,2,0),"") | C13: =IF($B13="","",SUM(SUMIFS('2 - Import Data'!$X:$X,'2 - Import Data'!$W:$W,$B13,'2 - Import Data'!$S:$S,Lists!$L$3),SUMIFS('2 - Import Data'!$Z:$Z,'2 - Import Data'!$Y:$Y,$B13,'2 - Import Data'!$S:$S,Lists!$L$3),SUMIFS('2 - Import Data'!$AB:$AB,'2 - Import Data'!$AA:$AA,$B13,'2 - Import Data'!$S:$S,Lists!$L$3),SUMIFS('2 - Import Data'!$AD:$AD,'2 - Import Data'!$AC:$AC,$B13,'2 - Import Data'!$S:$S,Lists!$L$3))) | D13: =IF($B13="","",SUM(SUMIFS('2 - Import Data'!$X:$X,'2 - Import Data'!$W:$W,$B13,'2 - Import Data'!$S:$S,Lists!$L$3,'2 - Import Data'!$T:$T,Lists!$M$5),SUMIFS('2 - Import Data'!$Z:$Z,'2 - Import Data'!$Y:$Y,$B13,'2 - Import Data'!$S:$S,Lists!$L$3,'2 - Import Data'!$T:$T,Lists!$M$5),SUMIFS('2 - Import Data'!$AB:$AB,'2 - Import Data'!$AA:$AA,$B13,'2 - Import Data'!$S:$S,Lists!$L$3,'2 - Import Data'!$T:$T,Lists!$M$5),SUMIFS('2 - Import Data'!$AD:$AD,'2 - Import Data'!$AC:$AC,$B13,'2 - Import Data'!$S:$S,Lists!$L$3,'2 - Import Data'!$T:$T,Lists!$M$5))) | E13: =IF($B13="","",SUM(SUMIFS('2 - Import Data'!$X:$X,'2 - Import Data'!$W:$W,$B13,'2 - Import Data'!$S:$S,Lists!$L$3,'2 - Import Data'!$T:$T,Lists!$M$6),SUMIFS('2 - Import Data'!$Z:$Z,'2 - Import Data'!$Y:$Y,$B13,'2 - Import Data'!$S:$S,Lists!$L$3,'2 - Import Data'!$T:$T,Lists!$M$6),SUMIFS('2 - Import Data'!$AB:$AB,'2 - Import Data'!$AA:$AA,$B13,'2 - Import Data'!$S:$S,Lists!$L$3,'2 - Import Data'!$T:$T,Lists!$M$6),SUMIFS('2 - Import Data'!$AD:$AD,'2 - Import Data'!$AC:$AC,$B13,'2 - Import Data'!$S:$S,Lists!$L$3,'2 - Import Data'!$T:$T,Lists!$M$6))) | F13: =IF($B13="","",SUM(SUMIFS('2 - Import Data'!$X:$X,'2 - Import Data'!$W:$W,$B13,'2 - Import Data'!$S:$S,Lists!$L$3,'2 - Import Data'!$T:$T,Lists!$M$7),SUMIFS('2 - Import Data'!$Z:$Z,'2 - Import Data'!$Y:$Y,$B13,'2 - Import Data'!$S:$S,Lists!$L$3,'2 - Import Data'!$T:$T,Lists!$M$7),SUMIFS('2 - Import Data'!$AB:$AB,'2 - Import Data'!$AA:$AA,$B13,'2 - Import Data'!$S:$S,Lists!$L$3,'2 - Import Data'!$T:$T,Lists!$M$7),SUMIFS('2 - Import Data'!$AD:$AD,'2 - Import Data'!$AC:$AC,$B13,'2 - Import Data'!$S:$S,Lists!$L$3,'2 - Import Data'!$T:$T,Lists!$M$7))) | G13: =IF($B13="","",SUM(SUMIFS('2 - Import Data'!$X:$X,'2 - Import Data'!$W:$W,$B13,'2 - Import Data'!$S:$S,Lists!$L$3,'2 - Import Data'!$T:$T,Lists!$M$8),SUMIFS('2 - Import Data'!$Z:$Z,'2 - Import Data'!$Y:$Y,$B13,'2 - Import Data'!$S:$S,Lists!$L$3,'2 - Import Data'!$T:$T,Lists!$M$8),SUMIFS('2 - Import Data'!$AB:$AB,'2 - Import Data'!$AA:$AA,$B13,'2 - Import Data'!$S:$S,Lists!$L$3,'2 - Import Data'!$T:$T,Lists!$M$8),SUMIFS('2 - Import Data'!$AD:$AD,'2 - Import Data'!$AC:$AC,$B13,'2 - Import Data'!$S:$S,Lists!$L$3,'2 - Import Data'!$T:$T,Lists!$M$8))) | H13: =IF($B13="","",C13-SUM(D13:G13)) | I13: =IF($B13="","",SUM(SUMIFS('2 - Import Data'!$X:$X,'2 - Import Data'!$W:$W,$B13,'2 - Import Data'!$S:$S,Lists!$L$4,'2 - Import Data'!$T:$T,Lists!$N$10),SUMIFS('2 - Import Data'!$Z:$Z,'2 - Import Data'!$Y:$Y,$B13,'2 - Import Data'!$S:$S,Lists!$L$4,'2 - Import Data'!$T:$T,Lists!$N$10),SUMIFS('2 - Import Data'!$AB:$AB,'2 - Import Data'!$AA:$AA,$B13,'2 - Import Data'!$S:$S,Lists!$L$4,'2 - Import Data'!$T:$T,Lists!$N$10),SUMIFS('2 - Import Data'!$AD:$AD,'2 - Import Data'!$AC:$AC,$B13,'2 - Import Data'!$S:$S,Lists!$L$4,'2 - Import Data'!$T:$T,Lists!$N$10))) | J13: =IF($B13="","",SUM(SUMIFS('2 - Import Data'!$X:$X,'2 - Import Data'!$W:$W,$B13,'2 - Import Data'!$S:$S,Lists!$L$4),SUMIFS('2 - Import Data'!$Z:$Z,'2 - Import Data'!$Y:$Y,$B13,'2 - Import Data'!$S:$S,Lists!$L$4),SUMIFS('2 - Import Data'!$AB:$AB,'2 - Import Data'!$AA:$AA,$B13,'2 - Import Data'!$S:$S,Lists!$L$4),SUMIFS('2 - Import Data'!$AD:$AD,'2 - Import Data'!$AC:$AC,$B13,'2 - Import Data'!$S:$S,Lists!$L$4))) | K13: =IF($B13="","",SUM(SUMIFS('2 - Import Data'!$X:$X,'2 - Import Data'!$W:$W,$B13,'2 - Import Data'!$S:$S,Lists!$L$5),SUMIFS('2 - Import Data'!$Z:$Z,'2 - Import Data'!$Y:$Y,$B13,'2 - Import Data'!$S:$S,Lists!$L$5),SUMIFS('2 - Import Data'!$AB:$AB,'2 - Import Data'!$AA:$AA,$B13,'2 - Import Data'!$S:$S,Lists!$L$5),SUMIFS('2 - Import Data'!$AD:$AD,'2 - Import Data'!$AC:$AC,$B13,'2 - Import Data'!$S:$S,Lists!$L$5)))
A14: 3 | B14: =IFERROR(VLOOKUP(A14,'Data for Summary'!$A$3:$B$44,2,0),"") | C14: =IF($B14="","",SUM(SUMIFS('2 - Import Data'!$X:$X,'2 - Import Data'!$W:$W,$B14,'2 - Import Data'!$S:$S,Lists!$L$3),SUMIFS('2 - Import Data'!$Z:$Z,'2 - Import Data'!$Y:$Y,$B14,'2 - Import Data'!$S:$S,Lists!$L$3),SUMIFS('2 - Import Data'!$AB:$AB,'2 - Import Data'!$AA:$AA,$B14,'2 - Import Data'!$S:$S,Lists!$L$3),SUMIFS('2 - Import Data'!$AD:$AD,'2 - Import Data'!$AC:$AC,$B14,'2 - Import Data'!$S:$S,Lists!$L$3))) | D14: =IF($B14="","",SUM(SUMIFS('2 - Import Data'!$X:$X,'2 - Import Data'!$W:$W,$B14,'2 - Import Data'!$S:$S,Lists!$L$3,'2 - Import Data'!$T:$T,Lists!$M$5),SUMIFS('2 - Import Data'!$Z:$Z,'2 - Import Data'!$Y:$Y,$B14,'2 - Import Data'!$S:$S,Lists!$L$3,'2 - Import Data'!$T:$T,Lists!$M$5),SUMIFS('2 - Import Data'!$AB:$AB,'2 - Import Data'!$AA:$AA,$B14,'2 - Import Data'!$S:$S,Lists!$L$3,'2 - Import Data'!$T:$T,Lists!$M$5),SUMIFS('2 - Import Data'!$AD:$AD,'2 - Import Data'!$AC:$AC,$B14,'2 - Import Data'!$S:$S,Lists!$L$3,'2 - Import Data'!$T:$T,Lists!$M$5))) | E14: =IF($B14="","",SUM(SUMIFS('2 - Import Data'!$X:$X,'2 - Import Data'!$W:$W,$B14,'2 - Import Data'!$S:$S,Lists!$L$3,'2 - Import Data'!$T:$T,Lists!$M$6),SUMIFS('2 - Import Data'!$Z:$Z,'2 - Import Data'!$Y:$Y,$B14,'2 - Import Data'!$S:$S,Lists!$L$3,'2 - Import Data'!$T:$T,Lists!$M$6),SUMIFS('2 - Import Data'!$AB:$AB,'2 - Import Data'!$AA:$AA,$B14,'2 - Import Data'!$S:$S,Lists!$L$3,'2 - Import Data'!$T:$T,Lists!$M$6),SUMIFS('2 - Import Data'!$AD:$AD,'2 - Import Data'!$AC:$AC,$B14,'2 - Import Data'!$S:$S,Lists!$L$3,'2 - Import Data'!$T:$T,Lists!$M$6))) | F14: =IF($B14="","",SUM(SUMIFS('2 - Import Data'!$X:$X,'2 - Import Data'!$W:$W,$B14,'2 - Import Data'!$S:$S,Lists!$L$3,'2 - Import Data'!$T:$T,Lists!$M$7),SUMIFS('2 - Import Data'!$Z:$Z,'2 - Import Data'!$Y:$Y,$B14,'2 - Import Data'!$S:$S,Lists!$L$3,'2 - Import Data'!$T:$T,Lists!$M$7),SUMIFS('2 - Import Data'!$AB:$AB,'2 - Import Data'!$AA:$AA,$B14,'2 - Import Data'!$S:$S,Lists!$L$3,'2 - Import Data'!$T:$T,Lists!$M$7),SUMIFS('2 - Import Data'!$AD:$AD,'2 - Import Data'!$AC:$AC,$B14,'2 - Import Data'!$S:$S,Lists!$L$3,'2 - Import Data'!$T:$T,Lists!$M$7))) | G14: =IF($B14="","",SUM(SUMIFS('2 - Import Data'!$X:$X,'2 - Import Data'!$W:$W,$B14,'2 - Import Data'!$S:$S,Lists!$L$3,'2 - Import Data'!$T:$T,Lists!$M$8),SUMIFS('2 - Import Data'!$Z:$Z,'2 - Import Data'!$Y:$Y,$B14,'2 - Import Data'!$S:$S,Lists!$L$3,'2 - Import Data'!$T:$T,Lists!$M$8),SUMIFS('2 - Import Data'!$AB:$AB,'2 - Import Data'!$AA:$AA,$B14,'2 - Import Data'!$S:$S,Lists!$L$3,'2 - Import Data'!$T:$T,Lists!$M$8),SUMIFS('2 - Import Data'!$AD:$AD,'2 - Import Data'!$AC:$AC,$B14,'2 - Import Data'!$S:$S,Lists!$L$3,'2 - Import Data'!$T:$T,Lists!$M$8))) | H14: =IF($B14="","",C14-SUM(D14:G14)) | I14: =IF($B14="","",SUM(SUMIFS('2 - Import Data'!$X:$X,'2 - Import Data'!$W:$W,$B14,'2 - Import Data'!$S:$S,Lists!$L$4,'2 - Import Data'!$T:$T,Lists!$N$10),SUMIFS('2 - Import Data'!$Z:$Z,'2 - Import Data'!$Y:$Y,$B14,'2 - Import Data'!$S:$S,Lists!$L$4,'2 - Import Data'!$T:$T,Lists!$N$10),SUMIFS('2 - Import Data'!$AB:$AB,'2 - Import Data'!$AA:$AA,$B14,'2 - Import Data'!$S:$S,Lists!$L$4,'2 - Import Data'!$T:$T,Lists!$N$10),SUMIFS('2 - Import Data'!$AD:$AD,'2 - Import Data'!$AC:$AC,$B14,'2 - Import Data'!$S:$S,Lists!$L$4,'2 - Import Data'!$T:$T,Lists!$N$10))) | J14: =IF($B14="","",SUM(SUMIFS('2 - Import Data'!$X:$X,'2 - Import Data'!$W:$W,$B14,'2 - Import Data'!$S:$S,Lists!$L$4),SUMIFS('2 - Import Data'!$Z:$Z,'2 - Import Data'!$Y:$Y,$B14,'2 - Import Data'!$S:$S,Lists!$L$4),SUMIFS('2 - Import Data'!$AB:$AB,'2 - Import Data'!$AA:$AA,$B14,'2 - Import Data'!$S:$S,Lists!$L$4),SUMIFS('2 - Import Data'!$AD:$AD,'2 - Import Data'!$AC:$AC,$B14,'2 - Import Data'!$S:$S,Lists!$L$4))) | K14: =IF($B14="","",SUM(SUMIFS('2 - Import Data'!$X:$X,'2 - Import Data'!$W:$W,$B14,'2 - Import Data'!$S:$S,Lists!$L$5),SUMIFS('2 - Import Data'!$Z:$Z,'2 - Import Data'!$Y:$Y,$B14,'2 - Import Data'!$S:$S,Lists!$L$5),SUMIFS('2 - Import Data'!$AB:$AB,'2 - Import Data'!$AA:$AA,$B14,'2 - Import Data'!$S:$S,Lists!$L$5),SUMIFS('2 - Import Data'!$AD:$AD,'2 - Import Data'!$AC:$AC,$B14,'2 - Import Data'!$S:$S,Lists!$L$5)))
A15: 4 | B15: =IFERROR(VLOOKUP(A15,'Data for Summary'!$A$3:$B$44,2,0),"") | C15: =IF($B15="","",SUM(SUMIFS('2 - Import Data'!$X:$X,'2 - Import Data'!$W:$W,$B15,'2 - Import Data'!$S:$S,Lists!$L$3),SUMIFS('2 - Import Data'!$Z:$Z,'2 - Import Data'!$Y:$Y,$B15,'2 - Import Data'!$S:$S,Lists!$L$3),SUMIFS('2 - Import Data'!$AB:$AB,'2 - Import Data'!$AA:$AA,$B15,'2 - Import Data'!$S:$S,Lists!$L$3),SUMIFS('2 - Import Data'!$AD:$AD,'2 - Import Data'!$AC:$AC,$B15,'2 - Import Data'!$S:$S,Lists!$L$3))) | D15: =IF($B15="","",SUM(SUMIFS('2 - Import Data'!$X:$X,'2 - Import Data'!$W:$W,$B15,'2 - Import Data'!$S:$S,Lists!$L$3,'2 - Import Data'!$T:$T,Lists!$M$5),SUMIFS('2 - Import Data'!$Z:$Z,'2 - Import Data'!$Y:$Y,$B15,'2 - Import Data'!$S:$S,Lists!$L$3,'2 - Import Data'!$T:$T,Lists!$M$5),SUMIFS('2 - Import Data'!$AB:$AB,'2 - Import Data'!$AA:$AA,$B15,'2 - Import Data'!$S:$S,Lists!$L$3,'2 - Import Data'!$T:$T,Lists!$M$5),SUMIFS('2 - Import Data'!$AD:$AD,'2 - Import Data'!$AC:$AC,$B15,'2 - Import Data'!$S:$S,Lists!$L$3,'2 - Import Data'!$T:$T,Lists!$M$5))) | E15: =IF($B15="","",SUM(SUMIFS('2 - Import Data'!$X:$X,'2 - Import Data'!$W:$W,$B15,'2 - Import Data'!$S:$S,Lists!$L$3,'2 - Import Data'!$T:$T,Lists!$M$6),SUMIFS('2 - Import Data'!$Z:$Z,'2 - Import Data'!$Y:$Y,$B15,'2 - Import Data'!$S:$S,Lists!$L$3,'2 - Import Data'!$T:$T,Lists!$M$6),SUMIFS('2 - Import Data'!$AB:$AB,'2 - Import Data'!$AA:$AA,$B15,'2 - Import Data'!$S:$S,Lists!$L$3,'2 - Import Data'!$T:$T,Lists!$M$6),SUMIFS('2 - Import Data'!$AD:$AD,'2 - Import Data'!$AC:$AC,$B15,'2 - Import Data'!$S:$S,Lists!$L$3,'2 - Import Data'!$T:$T,Lists!$M$6))) | F15: =IF($B15="","",SUM(SUMIFS('2 - Import Data'!$X:$X,'2 - Import Data'!$W:$W,$B15,'2 - Import Data'!$S:$S,Lists!$L$3,'2 - Import Data'!$T:$T,Lists!$M$7),SUMIFS('2 - Import Data'!$Z:$Z,'2 - Import Data'!$Y:$Y,$B15,'2 - Import Data'!$S:$S,Lists!$L$3,'2 - Import Data'!$T:$T,Lists!$M$7),SUMIFS('2 - Import Data'!$AB:$AB,'2 - Import Data'!$AA:$AA,$B15,'2 - Import Data'!$S:$S,Lists!$L$3,'2 - Import Data'!$T:$T,Lists!$M$7),SUMIFS('2 - Import Data'!$AD:$AD,'2 - Import Data'!$AC:$AC,$B15,'2 - Import Data'!$S:$S,Lists!$L$3,'2 - Import Data'!$T:$T,Lists!$M$7))) | G15: =IF($B15="","",SUM(SUMIFS('2 - Import Data'!$X:$X,'2 - Import Data'!$W:$W,$B15,'2 - Import Data'!$S:$S,Lists!$L$3,'2 - Import Data'!$T:$T,Lists!$M$8),SUMIFS('2 - Import Data'!$Z:$Z,'2 - Import Data'!$Y:$Y,$B15,'2 - Import Data'!$S:$S,Lists!$L$3,'2 - Import Data'!$T:$T,Lists!$M$8),SUMIFS('2 - Import Data'!$AB:$AB,'2 - Import Data'!$AA:$AA,$B15,'2 - Import Data'!$S:$S,Lists!$L$3,'2 - Import Data'!$T:$T,Lists!$M$8),SUMIFS('2 - Import Data'!$AD:$AD,'2 - Import Data'!$AC:$AC,$B15,'2 - Import Data'!$S:$S,Lists!$L$3,'2 - Import Data'!$T:$T,Lists!$M$8))) | H15: =IF($B15="","",C15-SUM(D15:G15)) | I15: =IF($B15="","",SUM(SUMIFS('2 - Import Data'!$X:$X,'2 - Import Data'!$W:$W,$B15,'2 - Import Data'!$S:$S,Lists!$L$4,'2 - Import Data'!$T:$T,Lists!$N$10),SUMIFS('2 - Import Data'!$Z:$Z,'2 - Import Data'!$Y:$Y,$B15,'2 - Import Data'!$S:$S,Lists!$L$4,'2 - Import Data'!$T:$T,Lists!$N$10),SUMIFS('2 - Import Data'!$AB:$AB,'2 - Import Data'!$AA:$AA,$B15,'2 - Import Data'!$S:$S,Lists!$L$4,'2 - Import Data'!$T:$T,Lists!$N$10),SUMIFS('2 - Import Data'!$AD:$AD,'2 - Import Data'!$AC:$AC,$B15,'2 - Import Data'!$S:$S,Lists!$L$4,'2 - Import Data'!$T:$T,Lists!$N$10))) | J15: =IF($B15="","",SUM(SUMIFS('2 - Import Data'!$X:$X,'2 - Import Data'!$W:$W,$B15,'2 - Import Data'!$S:$S,Lists!$L$4),SUMIFS('2 - Import Data'!$Z:$Z,'2 - Import Data'!$Y:$Y,$B15,'2 - Import Data'!$S:$S,Lists!$L$4),SUMIFS('2 - Import Data'!$AB:$AB,'2 - Import Data'!$AA:$AA,$B15,'2 - Import Data'!$S:$S,Lists!$L$4),SUMIFS('2 - Import Data'!$AD:$AD,'2 - Import Data'!$AC:$AC,$B15,'2 - Import Data'!$S:$S,Lists!$L$4))) | K15: =IF($B15="","",SUM(SUMIFS('2 - Import Data'!$X:$X,'2 - Import Data'!$W:$W,$B15,'2 - Import Data'!$S:$S,Lists!$L$5),SUMIFS('2 - Import Data'!$Z:$Z,'2 - Import Data'!$Y:$Y,$B15,'2 - Import Data'!$S:$S,Lists!$L$5),SUMIFS('2 - Import Data'!$AB:$AB,'2 - Import Data'!$AA:$AA,$B15,'2 - Import Data'!$S:$S,Lists!$L$5),SUMIFS('2 - Import Data'!$AD:$AD,'2 - Import Data'!$AC:$AC,$B15,'2 - Import Data'!$S:$S,Lists!$L$5)))
A16: 5 | B16: =IFERROR(VLOOKUP(A16,'Data for Summary'!$A$3:$B$44,2,0),"") | C16: =IF($B16="","",SUM(SUMIFS('2 - Import Data'!$X:$X,'2 - Import Data'!$W:$W,$B16,'2 - Import Data'!$S:$S,Lists!$L$3),SUMIFS('2 - Import Data'!$Z:$Z,'2 - Import Data'!$Y:$Y,$B16,'2 - Import Data'!$S:$S,Lists!$L$3),SUMIFS('2 - Import Data'!$AB:$AB,'2 - Import Data'!$AA:$AA,$B16,'2 - Import Data'!$S:$S,Lists!$L$3),SUMIFS('2 - Import Data'!$AD:$AD,'2 - Import Data'!$AC:$AC,$B16,'2 - Import Data'!$S:$S,Lists!$L$3))) | D16: =IF($B16="","",SUM(SUMIFS('2 - Import Data'!$X:$X,'2 - Import Data'!$W:$W,$B16,'2 - Import Data'!$S:$S,Lists!$L$3,'2 - Import Data'!$T:$T,Lists!$M$5),SUMIFS('2 - Import Data'!$Z:$Z,'2 - Import Data'!$Y:$Y,$B16,'2 - Import Data'!$S:$S,Lists!$L$3,'2 - Import Data'!$T:$T,Lists!$M$5),SUMIFS('2 - Import Data'!$AB:$AB,'2 - Import Data'!$AA:$AA,$B16,'2 - Import Data'!$S:$S,Lists!$L$3,'2 - Import Data'!$T:$T,Lists!$M$5),SUMIFS('2 - Import Data'!$AD:$AD,'2 - Import Data'!$AC:$AC,$B16,'2 - Import Data'!$S:$S,Lists!$L$3,'2 - Import Data'!$T:$T,Lists!$M$5))) | E16: =IF($B16="","",SUM(SUMIFS('2 - Import Data'!$X:$X,'2 - Import Data'!$W:$W,$B16,'2 - Import Data'!$S:$S,Lists!$L$3,'2 - Import Data'!$T:$T,Lists!$M$6),SUMIFS('2 - Import Data'!$Z:$Z,'2 - Import Data'!$Y:$Y,$B16,'2 - Import Data'!$S:$S,Lists!$L$3,'2 - Import Data'!$T:$T,Lists!$M$6),SUMIFS('2 - Import Data'!$AB:$AB,'2 - Import Data'!$AA:$AA,$B16,'2 - Import Data'!$S:$S,Lists!$L$3,'2 - Import Data'!$T:$T,Lists!$M$6),SUMIFS('2 - Import Data'!$AD:$AD,'2 - Import Data'!$AC:$AC,$B16,'2 - Import Data'!$S:$S,Lists!$L$3,'2 - Import Data'!$T:$T,Lists!$M$6))) | F16: =IF($B16="","",SUM(SUMIFS('2 - Import Data'!$X:$X,'2 - Import Data'!$W:$W,$B16,'2 - Import Data'!$S:$S,Lists!$L$3,'2 - Import Data'!$T:$T,Lists!$M$7),SUMIFS('2 - Import Data'!$Z:$Z,'2 - Import Data'!$Y:$Y,$B16,'2 - Import Data'!$S:$S,Lists!$L$3,'2 - Import Data'!$T:$T,Lists!$M$7),SUMIFS('2 - Import Data'!$AB:$AB,'2 - Import Data'!$AA:$AA,$B16,'2 - Import Data'!$S:$S,Lists!$L$3,'2 - Import Data'!$T:$T,Lists!$M$7),SUMIFS('2 - Import Data'!$AD:$AD,'2 - Import Data'!$AC:$AC,$B16,'2 - Import Data'!$S:$S,Lists!$L$3,'2 - Import Data'!$T:$T,Lists!$M$7))) | G16: =IF($B16="","",SUM(SUMIFS('2 - Import Data'!$X:$X,'2 - Import Data'!$W:$W,$B16,'2 - Import Data'!$S:$S,Lists!$L$3,'2 - Import Data'!$T:$T,Lists!$M$8),SUMIFS('2 - Import Data'!$Z:$Z,'2 - Import Data'!$Y:$Y,$B16,'2 - Import Data'!$S:$S,Lists!$L$3,'2 - Import Data'!$T:$T,Lists!$M$8),SUMIFS('2 - Import Data'!$AB:$AB,'2 - Import Data'!$AA:$AA,$B16,'2 - Import Data'!$S:$S,Lists!$L$3,'2 - Import Data'!$T:$T,Lists!$M$8),SUMIFS('2 - Import Data'!$AD:$AD,'2 - Import Data'!$AC:$AC,$B16,'2 - Import Data'!$S:$S,Lists!$L$3,'2 - Import Data'!$T:$T,Lists!$M$8))) | H16: =IF($B16="","",C16-SUM(D16:G16)) | I16: =IF($B16="","",SUM(SUMIFS('2 - Import Data'!$X:$X,'2 - Import Data'!$W:$W,$B16,'2 - Import Data'!$S:$S,Lists!$L$4,'2 - Import Data'!$T:$T,Lists!$N$10),SUMIFS('2 - Import Data'!$Z:$Z,'2 - Import Data'!$Y:$Y,$B16,'2 - Import Data'!$S:$S,Lists!$L$4,'2 - Import Data'!$T:$T,Lists!$N$10),SUMIFS('2 - Import Data'!$AB:$AB,'2 - Import Data'!$AA:$AA,$B16,'2 - Import Data'!$S:$S,Lists!$L$4,'2 - Import Data'!$T:$T,Lists!$N$10),SUMIFS('2 - Import Data'!$AD:$AD,'2 - Import Data'!$AC:$AC,$B16,'2 - Import Data'!$S:$S,Lists!$L$4,'2 - Import Data'!$T:$T,Lists!$N$10))) | J16: =IF($B16="","",SUM(SUMIFS('2 - Import Data'!$X:$X,'2 - Import Data'!$W:$W,$B16,'2 - Import Data'!$S:$S,Lists!$L$4),SUMIFS('2 - Import Data'!$Z:$Z,'2 - Import Data'!$Y:$Y,$B16,'2 - Import Data'!$S:$S,Lists!$L$4),SUMIFS('2 - Import Data'!$AB:$AB,'2 - Import Data'!$AA:$AA,$B16,'2 - Import Data'!$S:$S,Lists!$L$4),SUMIFS('2 - Import Data'!$AD:$AD,'2 - Import Data'!$AC:$AC,$B16,'2 - Import Data'!$S:$S,Lists!$L$4))) | K16: =IF($B16="","",SUM(SUMIFS('2 - Import Data'!$X:$X,'2 - Import Data'!$W:$W,$B16,'2 - Import Data'!$S:$S,Lists!$L$5),SUMIFS('2 - Import Data'!$Z:$Z,'2 - Import Data'!$Y:$Y,$B16,'2 - Import Data'!$S:$S,Lists!$L$5),SUMIFS('2 - Import Data'!$AB:$AB,'2 - Import Data'!$AA:$AA,$B16,'2 - Import Data'!$S:$S,Lists!$L$5),SUMIFS('2 - Import Data'!$AD:$AD,'2 - Import Data'!$AC:$AC,$B16,'2 - Import Data'!$S:$S,Lists!$L$5)))
A17: 6 | B17: =IFERROR(VLOOKUP(A17,'Data for Summary'!$A$3:$B$44,2,0),"") | C17: =IF($B17="","",SUM(SUMIFS('2 - Import Data'!$X:$X,'2 - Import Data'!$W:$W,$B17,'2 - Import Data'!$S:$S,Lists!$L$3),SUMIFS('2 - Import Data'!$Z:$Z,'2 - Import Data'!$Y:$Y,$B17,'2 - Import Data'!$S:$S,Lists!$L$3),SUMIFS('2 - Import Data'!$AB:$AB,'2 - Import Data'!$AA:$AA,$B17,'2 - Import Data'!$S:$S,Lists!$L$3),SUMIFS('2 - Import Data'!$AD:$AD,'2 - Import Data'!$AC:$AC,$B17,'2 - Import Data'!$S:$S,Lists!$L$3))) | D17: =IF($B17="","",SUM(SUMIFS('2 - Import Data'!$X:$X,'2 - Import Data'!$W:$W,$B17,'2 - Import Data'!$S:$S,Lists!$L$3,'2 - Import Data'!$T:$T,Lists!$M$5),SUMIFS('2 - Import Data'!$Z:$Z,'2 - Import Data'!$Y:$Y,$B17,'2 - Import Data'!$S:$S,Lists!$L$3,'2 - Import Data'!$T:$T,Lists!$M$5),SUMIFS('2 - Import Data'!$AB:$AB,'2 - Import Data'!$AA:$AA,$B17,'2 - Import Data'!$S:$S,Lists!$L$3,'2 - Import Data'!$T:$T,Lists!$M$5),SUMIFS('2 - Import Data'!$AD:$AD,'2 - Import Data'!$AC:$AC,$B17,'2 - Import Data'!$S:$S,Lists!$L$3,'2 - Import Data'!$T:$T,Lists!$M$5))) | E17: =IF($B17="","",SUM(SUMIFS('2 - Import Data'!$X:$X,'2 - Import Data'!$W:$W,$B17,'2 - Import Data'!$S:$S,Lists!$L$3,'2 - Import Data'!$T:$T,Lists!$M$6),SUMIFS('2 - Import Data'!$Z:$Z,'2 - Import Data'!$Y:$Y,$B17,'2 - Import Data'!$S:$S,Lists!$L$3,'2 - Import Data'!$T:$T,Lists!$M$6),SUMIFS('2 - Import Data'!$AB:$AB,'2 - Import Data'!$AA:$AA,$B17,'2 - Import Data'!$S:$S,Lists!$L$3,'2 - Import Data'!$T:$T,Lists!$M$6),SUMIFS('2 - Import Data'!$AD:$AD,'2 - Import Data'!$AC:$AC,$B17,'2 - Import Data'!$S:$S,Lists!$L$3,'2 - Import Data'!$T:$T,Lists!$M$6))) | F17: =IF($B17="","",SUM(SUMIFS('2 - Import Data'!$X:$X,'2 - Import Data'!$W:$W,$B17,'2 - Import Data'!$S:$S,Lists!$L$3,'2 - Import Data'!$T:$T,Lists!$M$7),SUMIFS('2 - Import Data'!$Z:$Z,'2 - Import Data'!$Y:$Y,$B17,'2 - Import Data'!$S:$S,Lists!$L$3,'2 - Import Data'!$T:$T,Lists!$M$7),SUMIFS('2 - Import Data'!$AB:$AB,'2 - Import Data'!$AA:$AA,$B17,'2 - Import Data'!$S:$S,Lists!$L$3,'2 - Import Data'!$T:$T,Lists!$M$7),SUMIFS('2 - Import Data'!$AD:$AD,'2 - Import Data'!$AC:$AC,$B17,'2 - Import Data'!$S:$S,Lists!$L$3,'2 - Import Data'!$T:$T,Lists!$M$7))) | G17: =IF($B17="","",SUM(SUMIFS('2 - Import Data'!$X:$X,'2 - Import Data'!$W:$W,$B17,'2 - Import Data'!$S:$S,Lists!$L$3,'2 - Import Data'!$T:$T,Lists!$M$8),SUMIFS('2 - Import Data'!$Z:$Z,'2 - Import Data'!$Y:$Y,$B17,'2 - Import Data'!$S:$S,Lists!$L$3,'2 - Import Data'!$T:$T,Lists!$M$8),SUMIFS('2 - Import Data'!$AB:$AB,'2 - Import Data'!$AA:$AA,$B17,'2 - Import Data'!$S:$S,Lists!$L$3,'2 - Import Data'!$T:$T,Lists!$M$8),SUMIFS('2 - Import Data'!$AD:$AD,'2 - Import Data'!$AC:$AC,$B17,'2 - Import Data'!$S:$S,Lists!$L$3,'2 - Import Data'!$T:$T,Lists!$M$8))) | H17: =IF($B17="","",C17-SUM(D17:G17)) | I17: =IF($B17="","",SUM(SUMIFS('2 - Import Data'!$X:$X,'2 - Import Data'!$W:$W,$B17,'2 - Import Data'!$S:$S,Lists!$L$4,'2 - Import Data'!$T:$T,Lists!$N$10),SUMIFS('2 - Import Data'!$Z:$Z,'2 - Import Data'!$Y:$Y,$B17,'2 - Import Data'!$S:$S,Lists!$L$4,'2 - Import Data'!$T:$T,Lists!$N$10),SUMIFS('2 - Import Data'!$AB:$AB,'2 - Import Data'!$AA:$AA,$B17,'2 - Import Data'!$S:$S,Lists!$L$4,'2 - Import Data'!$T:$T,Lists!$N$10),SUMIFS('2 - Import Data'!$AD:$AD,'2 - Import Data'!$AC:$AC,$B17,'2 - Import Data'!$S:$S,Lists!$L$4,'2 - Import Data'!$T:$T,Lists!$N$10))) | J17: =IF($B17="","",SUM(SUMIFS('2 - Import Data'!$X:$X,'2 - Import Data'!$W:$W,$B17,'2 - Import Data'!$S:$S,Lists!$L$4),SUMIFS('2 - Import Data'!$Z:$Z,'2 - Import Data'!$Y:$Y,$B17,'2 - Import Data'!$S:$S,Lists!$L$4),SUMIFS('2 - Import Data'!$AB:$AB,'2 - Import Data'!$AA:$AA,$B17,'2 - Import Data'!$S:$S,Lists!$L$4),SUMIFS('2 - Import Data'!$AD:$AD,'2 - Import Data'!$AC:$AC,$B17,'2 - Import Data'!$S:$S,Lists!$L$4))) | K17: =IF($B17="","",SUM(SUMIFS('2 - Import Data'!$X:$X,'2 - Import Data'!$W:$W,$B17,'2 - Import Data'!$S:$S,Lists!$L$5),SUMIFS('2 - Import Data'!$Z:$Z,'2 - Import Data'!$Y:$Y,$B17,'2 - Import Data'!$S:$S,Lists!$L$5),SUMIFS('2 - Import Data'!$AB:$AB,'2 - Import Data'!$AA:$AA,$B17,'2 - Import Data'!$S:$S,Lists!$L$5),SUMIFS('2 - Import Data'!$AD:$AD,'2 - Import Data'!$AC:$AC,$B17,'2 - Import Data'!$S:$S,Lists!$L$5)))
A18: 7 | B18: =IFERROR(VLOOKUP(A18,'Data for Summary'!$A$3:$B$44,2,0),"") | C18: =IF($B18="","",SUM(SUMIFS('2 - Import Data'!$X:$X,'2 - Import Data'!$W:$W,$B18,'2 - Import Data'!$S:$S,Lists!$L$3),SUMIFS('2 - Import Data'!$Z:$Z,'2 - Import Data'!$Y:$Y,$B18,'2 - Import Data'!$S:$S,Lists!$L$3),SUMIFS('2 - Import Data'!$AB:$AB,'2 - Import Data'!$AA:$AA,$B18,'2 - Import Data'!$S:$S,Lists!$L$3),SUMIFS('2 - Import Data'!$AD:$AD,'2 - Import Data'!$AC:$AC,$B18,'2 - Import Data'!$S:$S,Lists!$L$3))) | D18: =IF($B18="","",SUM(SUMIFS('2 - Import Data'!$X:$X,'2 - Import Data'!$W:$W,$B18,'2 - Import Data'!$S:$S,Lists!$L$3,'2 - Import Data'!$T:$T,Lists!$M$5),SUMIFS('2 - Import Data'!$Z:$Z,'2 - Import Data'!$Y:$Y,$B18,'2 - Import Data'!$S:$S,Lists!$L$3,'2 - Import Data'!$T:$T,Lists!$M$5),SUMIFS('2 - Import Data'!$AB:$AB,'2 - Import Data'!$AA:$AA,$B18,'2 - Import Data'!$S:$S,Lists!$L$3,'2 - Import Data'!$T:$T,Lists!$M$5),SUMIFS('2 - Import Data'!$AD:$AD,'2 - Import Data'!$AC:$AC,$B18,'2 - Import Data'!$S:$S,Lists!$L$3,'2 - Import Data'!$T:$T,Lists!$M$5))) | E18: =IF($B18="","",SUM(SUMIFS('2 - Import Data'!$X:$X,'2 - Import Data'!$W:$W,$B18,'2 - Import Data'!$S:$S,Lists!$L$3,'2 - Import Data'!$T:$T,Lists!$M$6),SUMIFS('2 - Import Data'!$Z:$Z,'2 - Import Data'!$Y:$Y,$B18,'2 - Import Data'!$S:$S,Lists!$L$3,'2 - Import Data'!$T:$T,Lists!$M$6),SUMIFS('2 - Import Data'!$AB:$AB,'2 - Import Data'!$AA:$AA,$B18,'2 - Import Data'!$S:$S,Lists!$L$3,'2 - Import Data'!$T:$T,Lists!$M$6),SUMIFS('2 - Import Data'!$AD:$AD,'2 - Import Data'!$AC:$AC,$B18,'2 - Import Data'!$S:$S,Lists!$L$3,'2 - Import Data'!$T:$T,Lists!$M$6))) | F18: =IF($B18="","",SUM(SUMIFS('2 - Import Data'!$X:$X,'2 - Import Data'!$W:$W,$B18,'2 - Import Data'!$S:$S,Lists!$L$3,'2 - Import Data'!$T:$T,Lists!$M$7),SUMIFS('2 - Import Data'!$Z:$Z,'2 - Import Data'!$Y:$Y,$B18,'2 - Import Data'!$S:$S,Lists!$L$3,'2 - Import Data'!$T:$T,Lists!$M$7),SUMIFS('2 - Import Data'!$AB:$AB,'2 - Import Data'!$AA:$AA,$B18,'2 - Import Data'!$S:$S,Lists!$L$3,'2 - Import Data'!$T:$T,Lists!$M$7),SUMIFS('2 - Import Data'!$AD:$AD,'2 - Import Data'!$AC:$AC,$B18,'2 - Import Data'!$S:$S,Lists!$L$3,'2 - Import Data'!$T:$T,Lists!$M$7))) | G18: =IF($B18="","",SUM(SUMIFS('2 - Import Data'!$X:$X,'2 - Import Data'!$W:$W,$B18,'2 - Import Data'!$S:$S,Lists!$L$3,'2 - Import Data'!$T:$T,Lists!$M$8),SUMIFS('2 - Import Data'!$Z:$Z,'2 - Import Data'!$Y:$Y,$B18,'2 - Import Data'!$S:$S,Lists!$L$3,'2 - Import Data'!$T:$T,Lists!$M$8),SUMIFS('2 - Import Data'!$AB:$AB,'2 - Import Data'!$AA:$AA,$B18,'2 - Import Data'!$S:$S,Lists!$L$3,'2 - Import Data'!$T:$T,Lists!$M$8),SUMIFS('2 - Import Data'!$AD:$AD,'2 - Import Data'!$AC:$AC,$B18,'2 - Import Data'!$S:$S,Lists!$L$3,'2 - Import Data'!$T:$T,Lists!$M$8))) | H18: =IF($B18="","",C18-SUM(D18:G18)) | I18: =IF($B18="","",SUM(SUMIFS('2 - Import Data'!$X:$X,'2 - Import Data'!$W:$W,$B18,'2 - Import Data'!$S:$S,Lists!$L$4,'2 - Import Data'!$T:$T,Lists!$N$10),SUMIFS('2 - Import Data'!$Z:$Z,'2 - Import Data'!$Y:$Y,$B18,'2 - Import Data'!$S:$S,Lists!$L$4,'2 - Import Data'!$T:$T,Lists!$N$10),SUMIFS('2 - Import Data'!$AB:$AB,'2 - Import Data'!$AA:$AA,$B18,'2 - Import Data'!$S:$S,Lists!$L$4,'2 - Import Data'!$T:$T,Lists!$N$10),SUMIFS('2 - Import Data'!$AD:$AD,'2 - Import Data'!$AC:$AC,$B18,'2 - Import Data'!$S:$S,Lists!$L$4,'2 - Import Data'!$T:$T,Lists!$N$10))) | J18: =IF($B18="","",SUM(SUMIFS('2 - Import Data'!$X:$X,'2 - Import Data'!$W:$W,$B18,'2 - Import Data'!$S:$S,Lists!$L$4),SUMIFS('2 - Import Data'!$Z:$Z,'2 - Import Data'!$Y:$Y,$B18,'2 - Import Data'!$S:$S,Lists!$L$4),SUMIFS('2 - Import Data'!$AB:$AB,'2 - Import Data'!$AA:$AA,$B18,'2 - Import Data'!$S:$S,Lists!$L$4),SUMIFS('2 - Import Data'!$AD:$AD,'2 - Import Data'!$AC:$AC,$B18,'2 - Import Data'!$S:$S,Lists!$L$4))) | K18: =IF($B18="","",SUM(SUMIFS('2 - Import Data'!$X:$X,'2 - Import Data'!$W:$W,$B18,'2 - Import Data'!$S:$S,Lists!$L$5),SUMIFS('2 - Import Data'!$Z:$Z,'2 - Import Data'!$Y:$Y,$B18,'2 - Import Data'!$S:$S,Lists!$L$5),SUMIFS('2 - Import Data'!$AB:$AB,'2 - Import Data'!$AA:$AA,$B18,'2 - Import Data'!$S:$S,Lists!$L$5),SUMIFS('2 - Import Data'!$AD:$AD,'2 - Import Data'!$AC:$AC,$B18,'2 - Import Data'!$S:$S,Lists!$L$5)))
A19: 8 | B19: =IFERROR(VLOOKUP(A19,'Data for Summary'!$A$3:$B$44,2,0),"") | C19: =IF($B19="","",SUM(SUMIFS('2 - Import Data'!$X:$X,'2 - Import Data'!$W:$W,$B19,'2 - Import Data'!$S:$S,Lists!$L$3),SUMIFS('2 - Import Data'!$Z:$Z,'2 - Import Data'!$Y:$Y,$B19,'2 - Import Data'!$S:$S,Lists!$L$3),SUMIFS('2 - Import Data'!$AB:$AB,'2 - Import Data'!$AA:$AA,$B19,'2 - Import Data'!$S:$S,Lists!$L$3),SUMIFS('2 - Import Data'!$AD:$AD,'2 - Import Data'!$AC:$AC,$B19,'2 - Import Data'!$S:$S,Lists!$L$3))) | D19: =IF($B19="","",SUM(SUMIFS('2 - Import Data'!$X:$X,'2 - Import Data'!$W:$W,$B19,'2 - Import Data'!$S:$S,Lists!$L$3,'2 - Import Data'!$T:$T,Lists!$M$5),SUMIFS('2 - Import Data'!$Z:$Z,'2 - Import Data'!$Y:$Y,$B19,'2 - Import Data'!$S:$S,Lists!$L$3,'2 - Import Data'!$T:$T,Lists!$M$5),SUMIFS('2 - Import Data'!$AB:$AB,'2 - Import Data'!$AA:$AA,$B19,'2 - Import Data'!$S:$S,Lists!$L$3,'2 - Import Data'!$T:$T,Lists!$M$5),SUMIFS('2 - Import Data'!$AD:$AD,'2 - Import Data'!$AC:$AC,$B19,'2 - Import Data'!$S:$S,Lists!$L$3,'2 - Import Data'!$T:$T,Lists!$M$5))) | E19: =IF($B19="","",SUM(SUMIFS('2 - Import Data'!$X:$X,'2 - Import Data'!$W:$W,$B19,'2 - Import Data'!$S:$S,Lists!$L$3,'2 - Import Data'!$T:$T,Lists!$M$6),SUMIFS('2 - Import Data'!$Z:$Z,'2 - Import Data'!$Y:$Y,$B19,'2 - Import Data'!$S:$S,Lists!$L$3,'2 - Import Data'!$T:$T,Lists!$M$6),SUMIFS('2 - Import Data'!$AB:$AB,'2 - Import Data'!$AA:$AA,$B19,'2 - Import Data'!$S:$S,Lists!$L$3,'2 - Import Data'!$T:$T,Lists!$M$6),SUMIFS('2 - Import Data'!$AD:$AD,'2 - Import Data'!$AC:$AC,$B19,'2 - Import Data'!$S:$S,Lists!$L$3,'2 - Import Data'!$T:$T,Lists!$M$6))) | F19: =IF($B19="","",SUM(SUMIFS('2 - Import Data'!$X:$X,'2 - Import Data'!$W:$W,$B19,'2 - Import Data'!$S:$S,Lists!$L$3,'2 - Import Data'!$T:$T,Lists!$M$7),SUMIFS('2 - Import Data'!$Z:$Z,'2 - Import Data'!$Y:$Y,$B19,'2 - Import Data'!$S:$S,Lists!$L$3,'2 - Import Data'!$T:$T,Lists!$M$7),SUMIFS('2 - Import Data'!$AB:$AB,'2 - Import Data'!$AA:$AA,$B19,'2 - Import Data'!$S:$S,Lists!$L$3,'2 - Import Data'!$T:$T,Lists!$M$7),SUMIFS('2 - Import Data'!$AD:$AD,'2 - Import Data'!$AC:$AC,$B19,'2 - Import Data'!$S:$S,Lists!$L$3,'2 - Import Data'!$T:$T,Lists!$M$7))) | G19: =IF($B19="","",SUM(SUMIFS('2 - Import Data'!$X:$X,'2 - Import Data'!$W:$W,$B19,'2 - Import Data'!$S:$S,Lists!$L$3,'2 - Import Data'!$T:$T,Lists!$M$8),SUMIFS('2 - Import Data'!$Z:$Z,'2 - Import Data'!$Y:$Y,$B19,'2 - Import Data'!$S:$S,Lists!$L$3,'2 - Import Data'!$T:$T,Lists!$M$8),SUMIFS('2 - Import Data'!$AB:$AB,'2 - Import Data'!$AA:$AA,$B19,'2 - Import Data'!$S:$S,Lists!$L$3,'2 - Import Data'!$T:$T,Lists!$M$8),SUMIFS('2 - Import Data'!$AD:$AD,'2 - Import Data'!$AC:$AC,$B19,'2 - Import Data'!$S:$S,Lists!$L$3,'2 - Import Data'!$T:$T,Lists!$M$8))) | H19: =IF($B19="","",C19-SUM(D19:G19)) | I19: =IF($B19="","",SUM(SUMIFS('2 - Import Data'!$X:$X,'2 - Import Data'!$W:$W,$B19,'2 - Import Data'!$S:$S,Lists!$L$4,'2 - Import Data'!$T:$T,Lists!$N$10),SUMIFS('2 - Import Data'!$Z:$Z,'2 - Import Data'!$Y:$Y,$B19,'2 - Import Data'!$S:$S,Lists!$L$4,'2 - Import Data'!$T:$T,Lists!$N$10),SUMIFS('2 - Import Data'!$AB:$AB,'2 - Import Data'!$AA:$AA,$B19,'2 - Import Data'!$S:$S,Lists!$L$4,'2 - Import Data'!$T:$T,Lists!$N$10),SUMIFS('2 - Import Data'!$AD:$AD,'2 - Import Data'!$AC:$AC,$B19,'2 - Import Data'!$S:$S,Lists!$L$4,'2 - Import Data'!$T:$T,Lists!$N$10))) | J19: =IF($B19="","",SUM(SUMIFS('2 - Import Data'!$X:$X,'2 - Import Data'!$W:$W,$B19,'2 - Import Data'!$S:$S,Lists!$L$4),SUMIFS('2 - Import Data'!$Z:$Z,'2 - Import Data'!$Y:$Y,$B19,'2 - Import Data'!$S:$S,Lists!$L$4),SUMIFS('2 - Import Data'!$AB:$AB,'2 - Import Data'!$AA:$AA,$B19,'2 - Import Data'!$S:$S,Lists!$L$4),SUMIFS('2 - Import Data'!$AD:$AD,'2 - Import Data'!$AC:$AC,$B19,'2 - Import Data'!$S:$S,Lists!$L$4))) | K19: =IF($B19="","",SUM(SUMIFS('2 - Import Data'!$X:$X,'2 - Import Data'!$W:$W,$B19,'2 - Import Data'!$S:$S,Lists!$L$5),SUMIFS('2 - Import Data'!$Z:$Z,'2 - Import Data'!$Y:$Y,$B19,'2 - Import Data'!$S:$S,Lists!$L$5),SUMIFS('2 - Import Data'!$AB:$AB,'2 - Import Data'!$AA:$AA,$B19,'2 - Import Data'!$S:$S,Lists!$L$5),SUMIFS('2 - Import Data'!$AD:$AD,'2 - Import Data'!$AC:$AC,$B19,'2 - Import Data'!$S:$S,Lists!$L$5)))
A20: 9 | B20: =IFERROR(VLOOKUP(A20,'Data for Summary'!$A$3:$B$44,2,0),"") | C20: =IF($B20="","",SUM(SUMIFS('2 - Import Data'!$X:$X,'2 - Import Data'!$W:$W,$B20,'2 - Import Data'!$S:$S,Lists!$L$3),SUMIFS('2 - Import Data'!$Z:$Z,'2 - Import Data'!$Y:$Y,$B20,'2 - Import Data'!$S:$S,Lists!$L$3),SUMIFS('2 - Import Data'!$AB:$AB,'2 - Import Data'!$AA:$AA,$B20,'2 - Import Data'!$S:$S,Lists!$L$3),SUMIFS('2 - Import Data'!$AD:$AD,'2 - Import Data'!$AC:$AC,$B20,'2 - Import Data'!$S:$S,Lists!$L$3))) | D20: =IF($B20="","",SUM(SUMIFS('2 - Import Data'!$X:$X,'2 - Import Data'!$W:$W,$B20,'2 - Import Data'!$S:$S,Lists!$L$3,'2 - Import Data'!$T:$T,Lists!$M$5),SUMIFS('2 - Import Data'!$Z:$Z,'2 - Import Data'!$Y:$Y,$B20,'2 - Import Data'!$S:$S,Lists!$L$3,'2 - Import Data'!$T:$T,Lists!$M$5),SUMIFS('2 - Import Data'!$AB:$AB,'2 - Import Data'!$AA:$AA,$B20,'2 - Import Data'!$S:$S,Lists!$L$3,'2 - Import Data'!$T:$T,Lists!$M$5),SUMIFS('2 - Import Data'!$AD:$AD,'2 - Import Data'!$AC:$AC,$B20,'2 - Import Data'!$S:$S,Lists!$L$3,'2 - Import Data'!$T:$T,Lists!$M$5))) | E20: =IF($B20="","",SUM(SUMIFS('2 - Import Data'!$X:$X,'2 - Import Data'!$W:$W,$B20,'2 - Import Data'!$S:$S,Lists!$L$3,'2 - Import Data'!$T:$T,Lists!$M$6),SUMIFS('2 - Import Data'!$Z:$Z,'2 - Import Data'!$Y:$Y,$B20,'2 - Import Data'!$S:$S,Lists!$L$3,'2 - Import Data'!$T:$T,Lists!$M$6),SUMIFS('2 - Import Data'!$AB:$AB,'2 - Import Data'!$AA:$AA,$B20,'2 - Import Data'!$S:$S,Lists!$L$3,'2 - Import Data'!$T:$T,Lists!$M$6),SUMIFS('2 - Import Data'!$AD:$AD,'2 - Import Data'!$AC:$AC,$B20,'2 - Import Data'!$S:$S,Lists!$L$3,'2 - Import Data'!$T:$T,Lists!$M$6))) | F20: =IF($B20="","",SUM(SUMIFS('2 - Import Data'!$X:$X,'2 - Import Data'!$W:$W,$B20,'2 - Import Data'!$S:$S,Lists!$L$3,'2 - Import Data'!$T:$T,Lists!$M$7),SUMIFS('2 - Import Data'!$Z:$Z,'2 - Import Data'!$Y:$Y,$B20,'2 - Import Data'!$S:$S,Lists!$L$3,'2 - Import Data'!$T:$T,Lists!$M$7),SUMIFS('2 - Import Data'!$AB:$AB,'2 - Import Data'!$AA:$AA,$B20,'2 - Import Data'!$S:$S,Lists!$L$3,'2 - Import Data'!$T:$T,Lists!$M$7),SUMIFS('2 - Import Data'!$AD:$AD,'2 - Import Data'!$AC:$AC,$B20,'2 - Import Data'!$S:$S,Lists!$L$3,'2 - Import Data'!$T:$T,Lists!$M$7))) | G20: =IF($B20="","",SUM(SUMIFS('2 - Import Data'!$X:$X,'2 - Import Data'!$W:$W,$B20,'2 - Import Data'!$S:$S,Lists!$L$3,'2 - Import Data'!$T:$T,Lists!$M$8),SUMIFS('2 - Import Data'!$Z:$Z,'2 - Import Data'!$Y:$Y,$B20,'2 - Import Data'!$S:$S,Lists!$L$3,'2 - Import Data'!$T:$T,Lists!$M$8),SUMIFS('2 - Import Data'!$AB:$AB,'2 - Import Data'!$AA:$AA,$B20,'2 - Import Data'!$S:$S,Lists!$L$3,'2 - Import Data'!$T:$T,Lists!$M$8),SUMIFS('2 - Import Data'!$AD:$AD,'2 - Import Data'!$AC:$AC,$B20,'2 - Import Data'!$S:$S,Lists!$L$3,'2 - Import Data'!$T:$T,Lists!$M$8))) | H20: =IF($B20="","",C20-SUM(D20:G20)) | I20: =IF($B20="","",SUM(SUMIFS('2 - Import Data'!$X:$X,'2 - Import Data'!$W:$W,$B20,'2 - Import Data'!$S:$S,Lists!$L$4,'2 - Import Data'!$T:$T,Lists!$N$10),SUMIFS('2 - Import Data'!$Z:$Z,'2 - Import Data'!$Y:$Y,$B20,'2 - Import Data'!$S:$S,Lists!$L$4,'2 - Import Data'!$T:$T,Lists!$N$10),SUMIFS('2 - Import Data'!$AB:$AB,'2 - Import Data'!$AA:$AA,$B20,'2 - Import Data'!$S:$S,Lists!$L$4,'2 - Import Data'!$T:$T,Lists!$N$10),SUMIFS('2 - Import Data'!$AD:$AD,'2 - Import Data'!$AC:$AC,$B20,'2 - Import Data'!$S:$S,Lists!$L$4,'2 - Import Data'!$T:$T,Lists!$N$10))) | J20: =IF($B20="","",SUM(SUMIFS('2 - Import Data'!$X:$X,'2 - Import Data'!$W:$W,$B20,'2 - Import Data'!$S:$S,Lists!$L$4),SUMIFS('2 - Import Data'!$Z:$Z,'2 - Import Data'!$Y:$Y,$B20,'2 - Import Data'!$S:$S,Lists!$L$4),SUMIFS('2 - Import Data'!$AB:$AB,'2 - Import Data'!$AA:$AA,$B20,'2 - Import Data'!$S:$S,Lists!$L$4),SUMIFS('2 - Import Data'!$AD:$AD,'2 - Import Data'!$AC:$AC,$B20,'2 - Import Data'!$S:$S,Lists!$L$4))) | K20: =IF($B20="","",SUM(SUMIFS('2 - Import Data'!$X:$X,'2 - Import Data'!$W:$W,$B20,'2 - Import Data'!$S:$S,Lists!$L$5),SUMIFS('2 - Import Data'!$Z:$Z,'2 - Import Data'!$Y:$Y,$B20,'2 - Import Data'!$S:$S,Lists!$L$5),SUMIFS('2 - Import Data'!$AB:$AB,'2 - Import Data'!$AA:$AA,$B20,'2 - Import Data'!$S:$S,Lists!$L$5),SUMIFS('2 - Import Data'!$AD:$AD,'2 - Import Data'!$AC:$AC,$B20,'2 - Import Data'!$S:$S,Lists!$L$5)))
A21: 10 | B21: =IFERROR(VLOOKUP(A21,'Data for Summary'!$A$3:$B$44,2,0),"") | C21: =IF($B21="","",SUM(SUMIFS('2 - Import Data'!$X:$X,'2 - Import Data'!$W:$W,$B21,'2 - Import Data'!$S:$S,Lists!$L$3),SUMIFS('2 - Import Data'!$Z:$Z,'2 - Import Data'!$Y:$Y,$B21,'2 - Import Data'!$S:$S,Lists!$L$3),SUMIFS('2 - Import Data'!$AB:$AB,'2 - Import Data'!$AA:$AA,$B21,'2 - Import Data'!$S:$S,Lists!$L$3),SUMIFS('2 - Import Data'!$AD:$AD,'2 - Import Data'!$AC:$AC,$B21,'2 - Import Data'!$S:$S,Lists!$L$3))) | D21: =IF($B21="","",SUM(SUMIFS('2 - Import Data'!$X:$X,'2 - Import Data'!$W:$W,$B21,'2 - Import Data'!$S:$S,Lists!$L$3,'2 - Import Data'!$T:$T,Lists!$M$5),SUMIFS('2 - Import Data'!$Z:$Z,'2 - Import Data'!$Y:$Y,$B21,'2 - Import Data'!$S:$S,Lists!$L$3,'2 - Import Data'!$T:$T,Lists!$M$5),SUMIFS('2 - Import Data'!$AB:$AB,'2 - Import Data'!$AA:$AA,$B21,'2 - Import Data'!$S:$S,Lists!$L$3,'2 - Import Data'!$T:$T,Lists!$M$5),SUMIFS('2 - Import Data'!$AD:$AD,'2 - Import Data'!$AC:$AC,$B21,'2 - Import Data'!$S:$S,Lists!$L$3,'2 - Import Data'!$T:$T,Lists!$M$5))) | E21: =IF($B21="","",SUM(SUMIFS('2 - Import Data'!$X:$X,'2 - Import Data'!$W:$W,$B21,'2 - Import Data'!$S:$S,Lists!$L$3,'2 - Import Data'!$T:$T,Lists!$M$6),SUMIFS('2 - Import Data'!$Z:$Z,'2 - Import Data'!$Y:$Y,$B21,'2 - Import Data'!$S:$S,Lists!$L$3,'2 - Import Data'!$T:$T,Lists!$M$6),SUMIFS('2 - Import Data'!$AB:$AB,'2 - Import Data'!$AA:$AA,$B21,'2 - Import Data'!$S:$S,Lists!$L$3,'2 - Import Data'!$T:$T,Lists!$M$6),SUMIFS('2 - Import Data'!$AD:$AD,'2 - Import Data'!$AC:$AC,$B21,'2 - Import Data'!$S:$S,Lists!$L$3,'2 - Import Data'!$T:$T,Lists!$M$6))) | F21: =IF($B21="","",SUM(SUMIFS('2 - Import Data'!$X:$X,'2 - Import Data'!$W:$W,$B21,'2 - Import Data'!$S:$S,Lists!$L$3,'2 - Import Data'!$T:$T,Lists!$M$7),SUMIFS('2 - Import Data'!$Z:$Z,'2 - Import Data'!$Y:$Y,$B21,'2 - Import Data'!$S:$S,Lists!$L$3,'2 - Import Data'!$T:$T,Lists!$M$7),SUMIFS('2 - Import Data'!$AB:$AB,'2 - Import Data'!$AA:$AA,$B21,'2 - Import Data'!$S:$S,Lists!$L$3,'2 - Import Data'!$T:$T,Lists!$M$7),SUMIFS('2 - Import Data'!$AD:$AD,'2 - Import Data'!$AC:$AC,$B21,'2 - Import Data'!$S:$S,Lists!$L$3,'2 - Import Data'!$T:$T,Lists!$M$7))) | G21: =IF($B21="","",SUM(SUMIFS('2 - Import Data'!$X:$X,'2 - Import Data'!$W:$W,$B21,'2 - Import Data'!$S:$S,Lists!$L$3,'2 - Import Data'!$T:$T,Lists!$M$8),SUMIFS('2 - Import Data'!$Z:$Z,'2 - Import Data'!$Y:$Y,$B21,'2 - Import Data'!$S:$S,Lists!$L$3,'2 - Import Data'!$T:$T,Lists!$M$8),SUMIFS('2 - Import Data'!$AB:$AB,'2 - Import Data'!$AA:$AA,$B21,'2 - Import Data'!$S:$S,Lists!$L$3,'2 - Import Data'!$T:$T,Lists!$M$8),SUMIFS('2 - Import Data'!$AD:$AD,'2 - Import Data'!$AC:$AC,$B21,'2 - Import Data'!$S:$S,Lists!$L$3,'2 - Import Data'!$T:$T,Lists!$M$8))) | H21: =IF($B21="","",C21-SUM(D21:G21)) | I21: =IF($B21="","",SUM(SUMIFS('2 - Import Data'!$X:$X,'2 - Import Data'!$W:$W,$B21,'2 - Import Data'!$S:$S,Lists!$L$4,'2 - Import Data'!$T:$T,Lists!$N$10),SUMIFS('2 - Import Data'!$Z:$Z,'2 - Import Data'!$Y:$Y,$B21,'2 - Import Data'!$S:$S,Lists!$L$4,'2 - Import Data'!$T:$T,Lists!$N$10),SUMIFS('2 - Import Data'!$AB:$AB,'2 - Import Data'!$AA:$AA,$B21,'2 - Import Data'!$S:$S,Lists!$L$4,'2 - Import Data'!$T:$T,Lists!$N$10),SUMIFS('2 - Import Data'!$AD:$AD,'2 - Import Data'!$AC:$AC,$B21,'2 - Import Data'!$S:$S,Lists!$L$4,'2 - Import Data'!$T:$T,Lists!$N$10))) | J21: =IF($B21="","",SUM(SUMIFS('2 - Import Data'!$X:$X,'2 - Import Data'!$W:$W,$B21,'2 - Import Data'!$S:$S,Lists!$L$4),SUMIFS('2 - Import Data'!$Z:$Z,'2 - Import Data'!$Y:$Y,$B21,'2 - Import Data'!$S:$S,Lists!$L$4),SUMIFS('2 - Import Data'!$AB:$AB,'2 - Import Data'!$AA:$AA,$B21,'2 - Import Data'!$S:$S,Lists!$L$4),SUMIFS('2 - Import Data'!$AD:$AD,'2 - Import Data'!$AC:$AC,$B21,'2 - Import Data'!$S:$S,Lists!$L$4))) | K21: =IF($B21="","",SUM(SUMIFS('2 - Import Data'!$X:$X,'2 - Import Data'!$W:$W,$B21,'2 - Import Data'!$S:$S,Lists!$L$5),SUMIFS('2 - Import Data'!$Z:$Z,'2 - Import Data'!$Y:$Y,$B21,'2 - Import Data'!$S:$S,Lists!$L$5),SUMIFS('2 - Import Data'!$AB:$AB,'2 - Import Data'!$AA:$AA,$B21,'2 - Import Data'!$S:$S,Lists!$L$5),SUMIFS('2 - Import Data'!$AD:$AD,'2 - Import Data'!$AC:$AC,$B21,'2 - Import Data'!$S:$S,Lists!$L$5)))
B23: Allowance Summary
B24: 1 | C24: 2
B25: Chemical Name | C25: Consumption Allowances Expended (kg)
A26: 1 | B26: =IFERROR(VLOOKUP(A26,'Data for Summary'!$E$3:$F$9,2,0),"") | C26: =IF(B26="","",SUM(INDEX($H$12:$H$21,MATCH($B26,$B$12:$B$21,0)),INDEX($I$12:$I$21,MATCH($B26,$B$12:$B$21,0)),0))
A27: 2 | B27: =IFERROR(VLOOKUP(A27,'Data for Summary'!$E$3:$F$9,2,0),"") | C27: =IF(B27="","",SUM(INDEX($H$12:$H$21,MATCH($B27,$B$12:$B$21,0)),INDEX($I$12:$I$21,MATCH($B27,$B$12:$B$21,0)),0))

Sheet Blend Breakout
A1: ODS Blend | B1: HCFC-22 | C1: HCFC-124 | D1: HCFC-142b
A2: R-401A | B2: 0.53 | C2: 0.34
A3: R-401B | B3: 0.61 | C3: 0.28
A4: R-401C | B4: 0.33 | C4: 0.52
A5: R-402A | B5: 0.38
A6: R-402B | B6: 0.6
A7: R-403A | B7: 0.75
A8: R-403B | B8: 0.56
A9: R-405A | B9: 0.45 | D9: 0.055
A10: R-406A | B10: 0.55 | D10: 0.41
A11: R-408A | B11: 0.46
A12: R-409A | B12: 0.6 | C12: 0.25 | D12: 0.15
A13: R-409B | B13: 0.65 | C13: 0.25 | D13: 0.1
A14: R-411A | B14: 0.875
A15: R-411B | B15: 0.94
A16: R-411C | B16: 0.955
A17: R-412A | B17: 0.7 | D17: 0.25
A18: R-414A | B18: 0.51 | C18: 0.285 | D18: 0.165
A19: R-414B | B19: 0.5 | C19: 0.39 | D19: 0.095
A20: R-415A | B20: 0.82
A21: R-415B | B21: 0.25
A22: R-416A | C22: 0.39
A23: R-418A | B23: 0.96
A24: R-420A | D24: 0.12
A27: Chemical Name | B27: Chem 1 | C27: Chem 1 (%) | D27: Chem 2 | E27: Chem 2 (%) | F27: Chem 3 | G27: Chem 3 (%) | H27: Chem 4 | I27: Chem 4 (%)
A28: R-401A | B28: HCFC-22 | C28: =IFERROR(VLOOKUP($A28,$A$2:$D$24,MATCH(B28,$A$1:$D$1,0),0),"") -> 0.53 | D28: HCFC-124 | E28: =IFERROR(VLOOKUP($A28,$A$2:$D$24,MATCH(D28,$A$1:$D$1,0),0),"") -> 0.34 | F28: ="" | G28: =IFERROR(VLOOKUP($A28,$A$2:$D$24,MATCH(F28,$A$1:$D$1,0),0),"") | H28: ="" | I28: =""
A29: R-401B | B29: HCFC-22 | C29: =IFERROR(VLOOKUP($A29,$A$2:$D$24,MATCH(B29,$A$1:$D$1,0),0),"") -> 0.61 | D29: HCFC-124 | E29: =IFERROR(VLOOKUP($A29,$A$2:$D$24,MATCH(D29,$A$1:$D$1,0),0),"") -> 0.28 | F29: ="" | G29: =IFERROR(VLOOKUP($A29,$A$2:$D$24,MATCH(F29,$A$1:$D$1,0),0),"") | H29: ="" | I29: =""
A30: R-401C | B30: HCFC-22 | C30: =IFERROR(VLOOKUP($A30,$A$2:$D$24,MATCH(B30,$A$1:$D$1,0),0),"") -> 0.33 | D30: HCFC-124 | E30: =IFERROR(VLOOKUP($A30,$A$2:$D$24,MATCH(D30,$A$1:$D$1,0),0),"") -> 0.52 | F30: ="" | G30: =IFERROR(VLOOKUP($A30,$A$2:$D$24,MATCH(F30,$A$1:$D$1,0),0),"") | H30: ="" | I30: =""
A31: R-402A | B31: HCFC-22 | C31: =IFERROR(VLOOKUP($A31,$A$2:$D$24,MATCH(B31,$A$1:$D$1,0),0),"") -> 0.38 | D31: ="" | E31: =IFERROR(VLOOKUP($A31,$A$2:$D$24,MATCH(D31,$A$1:$D$1,0),0),"") | F31: ="" | G31: =IFERROR(VLOOKUP($A31,$A$2:$D$24,MATCH(F31,$A$1:$D$1,0),0),"") | H31: ="" | I31: =""
A32: R-402B | B32: HCFC-22 | C32: =IFERROR(VLOOKUP($A32,$A$2:$D$24,MATCH(B32,$A$1:$D$1,0),0),"") -> 0.6 | D32: ="" | E32: =IFERROR(VLOOKUP($A32,$A$2:$D$24,MATCH(D32,$A$1:$D$1,0),0),"") | F32: ="" | G32: =IFERROR(VLOOKUP($A32,$A$2:$D$24,MATCH(F32,$A$1:$D$1,0),0),"") | H32: ="" | I32: =""
A33: R-403A | B33: HCFC-22 | C33: =IFERROR(VLOOKUP($A33,$A$2:$D$24,MATCH(B33,$A$1:$D$1,0),0),"") -> 0.75 | D33: ="" | E33: =IFERROR(VLOOKUP($A33,$A$2:$D$24,MATCH(D33,$A$1:$D$1,0),0),"") | F33: ="" | G33: =IFERROR(VLOOKUP($A33,$A$2:$D$24,MATCH(F33,$A$1:$D$1,0),0),"") | H33: ="" | I33: =""
A34: R-403B | B34: HCFC-22 | C34: =IFERROR(VLOOKUP($A34,$A$2:$D$24,MATCH(B34,$A$1:$D$1,0),0),"") -> 0.56 | D34: ="" | E34: =IFERROR(VLOOKUP($A34,$A$2:$D$24,MATCH(D34,$A$1:$D$1,0),0),"") | F34: ="" | G34: =IFERROR(VLOOKUP($A34,$A$2:$D$24,MATCH(F34,$A$1:$D$1,0),0),"") | H34: ="" | I34: =""
A35: R-405A | B35: HCFC-22 | C35: =IFERROR(VLOOKUP($A35,$A$2:$D$24,MATCH(B35,$A$1:$D$1,0),0),"") -> 0.45 | D35: HCFC-142b | E35: =IFERROR(VLOOKUP($A35,$A$2:$D$24,MATCH(D35,$A$1:$D$1,0),0),"") -> 0.055 | F35: ="" | G35: =IFERROR(VLOOKUP($A35,$A$2:$D$24,MATCH(F35,$A$1:$D$1,0),0),"") | H35: ="" | I35: =""
A36: R-406A | B36: HCFC-22 | C36: =IFERROR(VLOOKUP($A36,$A$2:$D$24,MATCH(B36,$A$1:$D$1,0),0),"") -> 0.55 | D36: HCFC-142b | E36: =IFERROR(VLOOKUP($A36,$A$2:$D$24,MATCH(D36,$A$1:$D$1,0),0),"") -> 0.41 | F36: ="" | G36: =IFERROR(VLOOKUP($A36,$A$2:$D$24,MATCH(F36,$A$1:$D$1,0),0),"") | H36: ="" | I36: =""
A37: R-408A | B37: HCFC-22 | C37: =IFERROR(VLOOKUP($A37,$A$2:$D$24,MATCH(B37,$A$1:$D$1,0),0),"") -> 0.46 | D37: ="" | E37: =IFERROR(VLOOKUP($A37,$A$2:$D$24,MATCH(D37,$A$1:$D$1,0),0),"") | F37: ="" | G37: =IFERROR(VLOOKUP($A37,$A$2:$D$24,MATCH(F37,$A$1:$D$1,0),0),"") | H37: ="" | I37: =""
A38: R-409A | B38: HCFC-22 | C38: =IFERROR(VLOOKUP($A38,$A$2:$D$24,MATCH(B38,$A$1:$D$1,0),0),"") -> 0.6 | D38: HCFC-124 | E38: =IFERROR(VLOOKUP($A38,$A$2:$D$24,MATCH(D38,$A$1:$D$1,0),0),"") -> 0.25 | F38: HCFC-142b | G38: =IFERROR(VLOOKUP($A38,$A$2:$D$24,MATCH(F38,$A$1:$D$1,0),0),"") -> 0.15 | H38: ="" | I38: =""
A39: R-409B | B39: HCFC-22 | C39: =IFERROR(VLOOKUP($A39,$A$2:$D$24,MATCH(B39,$A$1:$D$1,0),0),"") -> 0.65 | D39: HCFC-124 | E39: =IFERROR(VLOOKUP($A39,$A$2:$D$24,MATCH(D39,$A$1:$D$1,0),0),"") -> 0.25 | F39: HCFC-142b | G39: =IFERROR(VLOOKUP($A39,$A$2:$D$24,MATCH(F39,$A$1:$D$1,0),0),"") -> 0.1 | H39: ="" | I39: =""
A40: R-411A | B40: HCFC-22 | C40: =IFERROR(VLOOKUP($A40,$A$2:$D$24,MATCH(B40,$A$1:$D$1,0),0),"") -> 0.875 | D40: ="" | E40: =IFERROR(VLOOKUP($A40,$A$2:$D$24,MATCH(D40,$A$1:$D$1,0),0),"") | F40: ="" | G40: =IFERROR(VLOOKUP($A40,$A$2:$D$24,MATCH(F40,$A$1:$D$1,0),0),"") | H40: ="" | I40: =""
A41: R-411B | B41: HCFC-22 | C41: =IFERROR(VLOOKUP($A41,$A$2:$D$24,MATCH(B41,$A$1:$D$1,0),0),"") -> 0.94 | D41: ="" | E41: =IFERROR(VLOOKUP($A41,$A$2:$D$24,MATCH(D41,$A$1:$D$1,0),0),"") | F41: ="" | G41: =IFERROR(VLOOKUP($A41,$A$2:$D$24,MATCH(F41,$A$1:$D$1,0),0),"") | H41: ="" | I41: =""
A42: R-411C | B42: HCFC-22 | C42: =IFERROR(VLOOKUP($A42,$A$2:$D$24,MATCH(B42,$A$1:$D$1,0),0),"") -> 0.955 | D42: ="" | E42: =IFERROR(VLOOKUP($A42,$A$2:$D$24,MATCH(D42,$A$1:$D$1,0),0),"") | F42: ="" | G42: =IFERROR(VLOOKUP($A42,$A$2:$D$24,MATCH(F42,$A$1:$D$1,0),0),"") | H42: ="" | I42: =""
A43: R-412A | B43: HCFC-22 | C43: =IFERROR(VLOOKUP($A43,$A$2:$D$24,MATCH(B43,$A$1:$D$1,0),0),"") -> 0.7 | D43: HCFC-142b | E43: =IFERROR(VLOOKUP($A43,$A$2:$D$24,MATCH(D43,$A$1:$D$1,0),0),"") -> 0.25 | F43: ="" | G43: =IFERROR(VLOOKUP($A43,$A$2:$D$24,MATCH(F43,$A$1:$D$1,0),0),"") | H43: ="" | I43: =""
A44: R-414A | B44: HCFC-22 | C44: =IFERROR(VLOOKUP($A44,$A$2:$D$24,MATCH(B44,$A$1:$D$1,0),0),"") -> 0.51 | D44: HCFC-124 | E44: =IFERROR(VLOOKUP($A44,$A$2:$D$24,MATCH(D44,$A$1:$D$1,0),0),"") -> 0.285 | F44: HCFC-142b | G44: =IFERROR(VLOOKUP($A44,$A$2:$D$24,MATCH(F44,$A$1:$D$1,0),0),"") -> 0.165 | H44: ="" | I44: =""
A45: R-414B | B45: HCFC-22 | C45: =IFERROR(VLOOKUP($A45,$A$2:$D$24,MATCH(B45,$A$1:$D$1,0),0),"") -> 0.5 | D45: HCFC-124 | E45: =IFERROR(VLOOKUP($A45,$A$2:$D$24,MATCH(D45,$A$1:$D$1,0),0),"") -> 0.39 | F45: HCFC-142b | G45: =IFERROR(VLOOKUP($A45,$A$2:$D$24,MATCH(F45,$A$1:$D$1,0),0),"") -> 0.095 | H45: ="" | I45: =""
A46: R-415A | B46: HCFC-22 | C46: =IFERROR(VLOOKUP($A46,$A$2:$D$24,MATCH(B46,$A$1:$D$1,0),0),"") -> 0.82 | D46: ="" | E46: =IFERROR(VLOOKUP($A46,$A$2:$D$24,MATCH(D46,$A$1:$D$1,0),0),"") | F46: ="" | G46: =IFERROR(VLOOKUP($A46,$A$2:$D$24,MATCH(F46,$A$1:$D$1,0),0),"") | H46: ="" | I46: =""
A47: R-415B | B47: HCFC-22 | C47: =IFERROR(VLOOKUP($A47,$A$2:$D$24,MATCH(B47,$A$1:$D$1,0),0),"") -> 0.25 | D47: ="" | E47: =IFERROR(VLOOKUP($A47,$A$2:$D$24,MATCH(D47,$A$1:$D$1,0),0),"") | F47: ="" | G47: =IFERROR(VLOOKUP($A47,$A$2:$D$24,MATCH(F47,$A$1:$D$1,0),0),"") | H47: ="" | I47: =""
A48: R-416A | B48: HCFC-124 | C48: =IFERROR(VLOOKUP($A48,$A$2:$D$24,MATCH(B48,$A$1:$D$1,0),0),"") -> 0.39 | D48: ="" | E48: =IFERROR(VLOOKUP($A48,$A$2:$D$24,MATCH(D48,$A$1:$D$1,0),0),"") | F48: ="" | G48: =IFERROR(VLOOKUP($A48,$A$2:$D$24,MATCH(F48,$A$1:$D$1,0),0),"") | H48: ="" | I48: =""
A49: R-418A | B49: HCFC-22 | C49: =IFERROR(VLOOKUP($A49,$A$2:$D$24,MATCH(B49,$A$1:$D$1,0),0),"") -> 0.96 | D49: ="" | E49: =IFERROR(VLOOKUP($A49,$A$2:$D$24,MATCH(D49,$A$1:$D$1,0),0),"") | F49: ="" | G49: =IFERROR(VLOOKUP($A49,$A$2:$D$24,MATCH(F49,$A$1:$D$1,0),0),"") | H49: ="" | I49: =""
A50: R-420A | B50: HCFC-142b | C50: =IFERROR(VLOOKUP($A50,$A$2:$D$24,MATCH(B50,$A$1:$D$1,0),0),"") -> 0.12 | D50: ="" | E50: =IFERROR(VLOOKUP($A50,$A$2:$D$24,MATCH(D50,$A$1:$D$1,0),0),"") | F50: ="" | G50: =IFERROR(VLOOKUP($A50,$A$2:$D$24,MATCH(F50,$A$1:$D$1,0),0),"") | H50: ="" | I50: =""

Sheet Lists
R1: NOT CURRENTLY USED | U1: FOR REFERENCE ONLY
B2: Chemical List | C2: Class II Chemicals | D2: Reporting Year | E2: Reporting Quarter | F2: Quarter Start Month | G2: Date Range | H2: Country List | I2: Port of Entry List | J2: Commodity Code | K2: Purpose | L2: Transaction Type | M2: Intended Uses_New | N2: Intended Uses_Used | O2: Intended Uses_Heels | R2: Chemical Name | S2: Commodity Code | U2: Form Type | V2: Form Code
B3: HCFC-21 | C3: HCFC-21 | D3: 2020 | E3: 1 | F3: 1 | G3: =IF(OR(ISBLANK(ReportYr),ISBLANK(ReportQtr)),DATE(2020,1,1),DATE(ReportYr,VLOOKUP(ReportQtr,$E$3:$F$6,2,0),1)) -> 43831 | H3: Afghanistan | I3: Aberdeen, Washington - 3003 | J3: 2903.71.0100 | K3: Transformation | L3: New | M3: New | N3: Used | O3: Heels | R3: HCFC-21 | S3: 2903.79.9070 | U3: Class I Producer | V3: PROD1
B4: HCFC-22 | C4: HCFC-22 | D4: 2021 | E4: 2 | F4: 4 | G4: =IF(OR(ISBLANK(ReportYr),ISBLANK(ReportQtr)),DATE(2030,1,1),IF(ReportQtr=4,DATE(ReportYr+1,1,1)-1,DATE(ReportYr,VLOOKUP(ReportQtr,$E$3:$F$6,2,0)+3,1)-1)) -> 47484 | H4: Albania | I4: Addison Airport, Texas - 5584 | J4: 2903.72.0100 | K4: Destruction | L4: Used | M4: NewIntendedUses | N4: UsedIntendedUses | O4: HeelsIntendedUses | R4: HCFC-22 | S4: 2903.71.0100 | U4: MeBr Producer | V4: PROD3
B5: HCFC-31 | C5: HCFC-31 | D5: 2022 | E5: 3 | F5: 7 | H5: Algeria | I5: Aguadilla, Puerto Rico - 4901 | J5: 2903.73.0100 | L5: Heels | M5: In-House Trans | N5: In-House Trans | O5: Future Shipment | R5: HCFC-31 | S5: 2903.79.9070 | U5: Class II Producer | V5: PROD2
B6: HCFC-121 | C6: HCFC-121 | D6: 2023 | E6: 4 | F6: 10 | H6: Andorra | I6: Air France (Mach Plus), Jamaica, New York - 4774 | J6: 2903.74.0100 | M6: 2nd Party Trans | N6: 2nd Party Trans | O6: Transformation | R6: HCFC-121 | S6: 2903.79.9070 | U6: Class I Importer | V6: IMPT1
B7: HCFC-122 | C7: HCFC-122 | D7: 2024 | H7: Angola | I7: Albany, New York - 1002 | J7: 2903.75.0100 | M7: In-House Dest | N7: In-House Dest | O7: Destruction | R7: HCFC-122 | S7: 2903.79.9070 | U7: MeBr Importer | V7: IMPT3
B8: HCFC-123 | C8: HCFC-123 | D8: 2025 | H8: Antigua and Barbuda | I8: Albuquerque, New Mexico - 2407 | J8: 2903.79.9030 | M8: 2nd Party Dest | N8: 2nd Party Dest | O8: Non-Emissive Use | R8: HCFC-123 | S8: 2903.72.0100 | U8: Class II Importer | V8: IMPT2
B9: HCFC-123a | C9: HCFC-123a | D9: 2026 | H9: Argentina | I9: Alcan, Alaska - 3104 | J9: 2903.79.9070 | M9: None Apply | N9: Reuse (with approved petition) | R9: HCFC-123a | S9: 2903.72.0100 | U9: Class I Exporter | V9: EXPT1
B10: HCFC-123b | C10: HCFC-123b | D10: 2027 | H10: Armenia | I10: Alexandria Bay, New York - 0708 | J10: 3827.31.0000 | N10: Reuse (using allowances) | R10: HCFC-123b | S10: 2903.72.0100 | U10: MeBr Exporter | V10: EXPT3
B11: HCFC-124 | C11: HCFC-124 | D11: 2028 | H11: Australia | I11: Alexandria, Virginia - 5402 | J11: 3827.32.0000 | R11: HCFC-124 | S11: 2903.79.9030 | U11: Class II Exporter | V11: EXPT2
B12: HCFC-124a | C12: HCFC-124a | D12: 2029 | H12: Austria | I12: Algonac, Michigan - 3814 | J12: 3827.39.0000 | R12: HCFC-124a | S12: 2903.79.9070 | U12: Class I Lab Supplier | V12: LABS1
B13: HCFC-131 | C13: HCFC-131 | H13: Azerbaijan | I13: Allentown (Lehigh Valley Intl Airpt), Pennsylvania - 1119 | R13: HCFC-131 | S13: 2903.79.9070 | U13: Class I Destruction | V13: DEST1
B14: HCFC-132b | C14: HCFC-132b | H14: Bahamas | I14: Alliance Airport, Texas - 5583 | R14: HCFC-132 | S14: 2903.79.9070 | U14: MeBr Destruction | V14: DEST3
B15: HCFC-133a | C15: HCFC-133a | H15: Bahrain | I15: Alpena, Michigan - 3843 | R15: HCFC-133 | S15: 2903.79.9070 | U15: Class II Destruction | V15: DEST2
B16: HCFC-141 | C16: HCFC-141 | H16: Bangladesh | I16: Amarillo, Texas - 5502 | R16: HCFC-141 | S16: 2903.73.0100 | U16: Class I Transformation | V16: TRAN1
B17: HCFC-141a | C17: HCFC-141a | H17: Barbados | I17: Ambrose, North Dakota - 3410 | R17: HCFC-141a | S17: 2903.73.0100 | U17: MeBr Transformation | V17: TRAN3
B18: HCFC-141b | C18: HCFC-141b | H18: Belarus | I18: Anacortes - 3010 | R18: HCFC-141b | S18: 2903.73.0100 | U18: Class II Transformation | V18: TRAN2
B19: HCFC-142 | C19: HCFC-142 | H19: Belgium | I19: Anchorage, Alaska - 3126 | R19: HCFC-142 | S19: 2903.74.0100 | U19: MeBr Trades | V19: TRAD3
B20: HCFC-142a | C20: HCFC-142a | H20: Belize | I20: Andrade - Class A, California - 2502 | R20: HCFC-142a | S20: 2903.74.0100 | U20: Class II Trades | V20: TRAD2
B21: HCFC-142b | C21: HCFC-142b | H21: Benin | I21: Annapolis, Maryland - 1301 | R21: HCFC-142b | S21: 2903.74.0100 | U21: Class II RACA | V21: RACA2
B22: HCFC-151 | C22: HCFC-151 | H22: Bermuda | I22: Antler, North Dakota - 3413 | R22: HCFC-151 | S22: 2903.79.9070 | U22: MeBr Distributor of QPS | V22: MBQPS
B23: HCFC-221 | C23: HCFC-221 | H23: Bhutan | I23: Appleton International Airport, Wisconsin - 3781 | R23: HCFC-221 | S23: 2903.79.9070 | U23: MeBr Pre-2005 Stocks | V23: MB05S
B24: HCFC-222 | C24: HCFC-222 | H24: Bolivia | I24: Area Port of Jacksonville, Florida - 1803 | R24: HCFC-222 | S24: 2903.79.9070 | U24: MeBr Sales of CU | V24: MBCUE
B25: HCFC-223 | C25: HCFC-223 | H25: Bosnia and Herzegovina | I25: Area Port of Sweetgrass, Montana - 3310 | R25: HCFC-223 | S25: 2903.79.9070 | U25: Petitions | V25: PETIT
B26: HCFC-224 | C26: HCFC-224 | H26: Botswana | I26: Area Port of Tampa, Florida - 1801 | R26: HCFC-224 | S26: 2903.79.9070
B27: HCFC-225ca | C27: HCFC-225ca | H27: Brazil | I27: Ashland, Wisconsin - 3511 | R27: HCFC-225ca | S27: 2903.75.0100
B28: HCFC-225cb | C28: HCFC-225cb | H28: British Virgin Islands | I28: Ashtabula/Conneaut, Ohio - 4122 | R28: HCFC-225cb | S28: 2903.75.0100
B29: HCFC-226 | C29: HCFC-226 | H29: Brunei Darussalam | I29: Astoria, Oregon - 2901 | R29: HCFC-226 | S29: 2903.79.9070
B30: HCFC-231 | C30: HCFC-231 | H30: Bulgaria | I30: Atlanta, Georgia - 1704 | R30: HCFC-231 | S30: 2903.79.9070
B31: HCFC-232 | C31: HCFC-232 | H31: Burkina Faso | I31: Atlantic City Regional Airport, New Jersey - 1182 | R31: HCFC-232 | S31: 2903.79.9070
B32: HCFC-233 | C32: HCFC-233 | H32: Burundi | I32: Austin, Texas - 5506 | R32: R-401A | S32: 3827.31.0000
B33: HCFC-234 | C33: HCFC-234 | H33: Cabo Verde | I33: Baltimore, Maryland - 1303 | R33: R-401B | S33: 3827.31.0000
B34: HCFC-235 | C34: HCFC-235 | H34: Cambodia | I34: Bangor, Maine - 0102 | R34: R-401C | S34: 3827.31.0000
B35: HCFC-241 | C35: HCFC-241 | H35: Cameroon | I35: Bar Harbor, Maine - 0112 | R35: R-402A | S35: 3827.31.0000
B36: HCFC-242 | C36: HCFC-242 | H36: Canada | I36: Bath, Maine - 0111 | R36: R-402B | S36: 3827.31.0000
B37: HCFC-243 | C37: HCFC-243 | H37: Central African Republic | I37: Baton Rouge, Louisiana - 2004 | R37: R-403A | S37: 3827.32.0000
... B44: HCFC-271 | C44: HCFC-271 | H44: Cook Islands | I44: Binghamton, New York - 0981 | R44: R-411A | S44: 3827.31.0000
B45: R-401A | H45: Costa Rica | I45: Birmingham, Alabama - 1904 | R45: R-411B | S45: 3827.31.0000
B46: R-401B | H46: Cote d'Ivoire | I46: Blaine, Washington - 3004 | R46: R-411C | S46: 3827.31.0000
B47: R-401C | H47: Croatia | I47: Boca Grande, Florida - 1807 | R47: R-412A | S47: 3827.32.0000
B48: R-402A | H48: Cuba | I48: Boise, Idaho - 2907 | R48: R-414A | S48: 3827.32.0000
B49: R-402B | H49: Cyprus | I49: Boston, Massachusetts - 0401 | R49: R-414B | S49: 3827.32.0000
B50: R-403A | H50: Czech Republic | I50: Boundary, Washington - 3015 | R50: R-415A | S50: 3827.31.0000
B51: R-403B | H51: Democratic Republic of the Congo | I51: Bozeman Yellowstone User Fee Airport, Montana - 3386 | R51: R-415B | S51: 3827.31.0000
B52: R-405A | H52: Denmark | I52: Bridgeport, Connecticut - 0410 | R52: R-416A | S52: 3827.31.0000
B53: R-406A | H53: Djibouti | I53: Bridgewater, Maine - 0127 | R53: R-418A | S53: 3827.31.0000
B54: R-408A | H54: Dominica | I54: Brownsville, Texas - 2301 | R54: R-420A | S54: 3827.31.0000
B55: R-409A | H55: Dominican Republic | I55: Brunswick, Georgia - 1701 | R55: Other | S55: 3827.39.0000
B56: R-409B | H56: Ecuador | I56: Buffalo, New York - 0901
B57: R-411A | H57: Egypt | I57: Burlington International Airport, Vermont - 0207
B58: R-411B | H58: El Salvador | I58: Butte Airport, Montana - 3305
B59: R-411C | H59: Equatorial Guinea | I59: Bwi International Airport, Maryland - 1305
B60: R-412A | H60: Eritrea | I60: Calais, Maine - 0115
B61: R-414A | H61: Estonia | I61: Calexico East - Class A, California - 2507
B62: R-414B | H62: Eswatini | I62: Calexico West - Class A, California - 2503
B63: R-415A | H63: Ethiopia | I63: Cambridge, Maryland - 1302
B64: R-415B | H64: Fiji | I64: Camden, New Jersey - 1107
B65: R-416A | H65: Finland | I65: Cape Canaveral, Florida - 1816
B66: R-418A | H66: France | I66: Cape Vincent, New York - 0706
B67: R-420A | H67: Gabon | I67: Capital Region International Airport Lansing, Michigan - 3883
B68: Other | H68: Gambia | I68: Capitan, California - 2715
B69: 0 | H69: Georgia | I69: Carbury, North Dakota - 3421
H70: Germany | I70: Carquinez Strait, California - 2830
H71: Ghana | I71: Centennial Airport, Colorado - 3384
H72: Greece | I72: Champaign, Illinois - 3987
H73: Grenada | I73: Champlain, New York - 0712
H74: Guatemala | I74: Charleston, South Carolina - 1601
H75: Guinea | I75: Charleston, West Virginia - 1409
H76: Guinea-Bissau | I76: Charlotte Amalie (Area Port of St. Thomas), Virgin Islands - 5101
H77: Guyana | I77: Charlotte, North Carolina - 1512
H78: Haiti | I78: Chattanooga, Tennessee - 2008
H79: Holy See | I79: Chester, Pennsylvania - 1102
H80: Honduras | I80: Chicago Midway International Airport, Illinois - 3910
H81: Hong Kong | I81: Chicago, Illinois - 3901
... H204: Zimbabwe | I204: Longview, Washington - 2905
I205: Lorain, Ohio - 4121
I206: Los Angeles International Airport-Cargo Operations, California - 2720
I207: Los Angeles, California - 2791
I208: Los Angeles/Long Beach Seaport, California - 2704
I209: Louisville, Kentucky - 4115
I210: Lubbock, Texas - 5503
I211: Luis Munoz Marin International Airport, Puerto Rico - 4913
I212: Lukeville, Arizona - 2602
I213: Lynden, Washington - 3023
I214: Madawaska, Maine - 0109
I215: Maida, North Dakota - 3416
I216: Manchester (User Fee Airport), New Hampshire - 0182
... I428: Ysleta, Texas - 2401

Sheet Data for Summary
B2: Class II Chem List | F2: Chem List with Allowances
A3: =IF(SUM(COUNTIF('2 - Import Data'!$W$14:$W$313,B3),COUNTIF('2 - Import Data'!$Y$14:$Y$313,'Data for Summary'!B3),COUNTIF('2 - Import Data'!$AA$14:$AA$313,B3),COUNTIF('2 - Import Data'!$AC$14:$AC$313,B3))>0,1,0) -> 0 | B3: =Lists!C3 -> HCFC-21 | E3: =IF(INDEX(A:A,MATCH(F3,B:B,0))>0,1,0) -> 0 | F3: HCFC-123
A4: =IF(SUM(COUNTIF('2 - Import Data'!$W$14:$W$313,B4),COUNTIF('2 - Import Data'!$Y$14:$Y$313,'Data for Summary'!B4),COUNTIF('2 - Import Data'!$AA$14:$AA$313,B4),COUNTIF('2 - Import Data'!$AC$14:$AC$313,B4))>0,MAX(A$3:A3)+1,0) -> 0 | B4: =Lists!C4 -> HCFC-22 | E4: =IF(INDEX(A:A,MATCH(F4,B:B,0))>0,MAX(E$3:E3)+1,0) -> 0 | F4: HCFC-124
A5: =IF(SUM(COUNTIF('2 - Import Data'!$W$14:$W$313,B5),COUNTIF('2 - Import Data'!$Y$14:$Y$313,'Data for Summary'!B5),COUNTIF('2 - Import Data'!$AA$14:$AA$313,B5),COUNTIF('2 - Import Data'!$AC$14:$AC$313,B5))>0,MAX(A$3:A4)+1,0) -> 0 | B5: =Lists!C5 -> HCFC-31
A6: =IF(SUM(COUNTIF('2 - Import Data'!$W$14:$W$313,B6),COUNTIF('2 - Import Data'!$Y$14:$Y$313,'Data for Summary'!B6),COUNTIF('2 - Import Data'!$AA$14:$AA$313,B6),COUNTIF('2 - Import Data'!$AC$14:$AC$313,B6))>0,MAX(A$3:A5)+1,0) -> 0 | B6: =Lists!C6 -> HCFC-121
A7: =IF(SUM(COUNTIF('2 - Import Data'!$W$14:$W$313,B7),COUNTIF('2 - Import Data'!$Y$14:$Y$313,'Data for Summary'!B7),COUNTIF('2 - Import Data'!$AA$14:$AA$313,B7),COUNTIF('2 - Import Data'!$AC$14:$AC$313,B7))>0,MAX(A$3:A6)+1,0) -> 0 | B7: =Lists!C7 -> HCFC-122
A8: =IF(SUM(COUNTIF('2 - Import Data'!$W$14:$W$313,B8),COUNTIF('2 - Import Data'!$Y$14:$Y$313,'Data for Summary'!B8),COUNTIF('2 - Import Data'!$AA$14:$AA$313,B8),COUNTIF('2 - Import Data'!$AC$14:$AC$313,B8))>0,MAX(A$3:A7)+1,0) -> 0 | B8: =Lists!C8 -> HCFC-123
A9: =IF(SUM(COUNTIF('2 - Import Data'!$W$14:$W$313,B9),COUNTIF('2 - Import Data'!$Y$14:$Y$313,'Data for Summary'!B9),COUNTIF('2 - Import Data'!$AA$14:$AA$313,B9),COUNTIF('2 - Import Data'!$AC$14:$AC$313,B9))>0,MAX(A$3:A8)+1,0) -> 0 | B9: =Lists!C9 -> HCFC-123a
A10: =IF(SUM(COUNTIF('2 - Import Data'!$W$14:$W$313,B10),COUNTIF('2 - Import Data'!$Y$14:$Y$313,'Data for Summary'!B10),COUNTIF('2 - Import Data'!$AA$14:$AA$313,B10),COUNTIF('2 - Import Data'!$AC$14:$AC$313,B10))>0,MAX(A$3:A9)+1,0) -> 0 | B10: =Lists!C10 -> HCFC-123b
A11: =IF(SUM(COUNTIF('2 - Import Data'!$W$14:$W$313,B11),COUNTIF('2 - Import Data'!$Y$14:$Y$313,'Data for Summary'!B11),COUNTIF('2 - Import Data'!$AA$14:$AA$313,B11),COUNTIF('2 - Import Data'!$AC$14:$AC$313,B11))>0,MAX(A$3:A10)+1,0) -> 0 | B11: =Lists!C11 -> HCFC-124
A12: =IF(SUM(COUNTIF('2 - Import Data'!$W$14:$W$313,B12),COUNTIF('2 - Import Data'!$Y$14:$Y$313,'Data for Summary'!B12),COUNTIF('2 - Import Data'!$AA$14:$AA$313,B12),COUNTIF('2 - Import Data'!$AC$14:$AC$313,B12))>0,MAX(A$3:A11)+1,0) -> 0 | B12: =Lists!C12 -> HCFC-124a
A13: =IF(SUM(COUNTIF('2 - Import Data'!$W$14:$W$313,B13),COUNTIF('2 - Import Data'!$Y$14:$Y$313,'Data for Summary'!B13),COUNTIF('2 - Import Data'!$AA$14:$AA$313,B13),COUNTIF('2 - Import Data'!$AC$14:$AC$313,B13))>0,MAX(A$3:A12)+1,0) -> 0 | B13: =Lists!C13 -> HCFC-131
A14: =IF(SUM(COUNTIF('2 - Import Data'!$W$14:$W$313,B14),COUNTIF('2 - Import Data'!$Y$14:$Y$313,'Data for Summary'!B14),COUNTIF('2 - Import Data'!$AA$14:$AA$313,B14),COUNTIF('2 - Import Data'!$AC$14:$AC$313,B14))>0,MAX(A$3:A13)+1,0) -> 0 | B14: =Lists!C14 -> HCFC-132b
A15: =IF(SUM(COUNTIF('2 - Import Data'!$W$14:$W$313,B15),COUNTIF('2 - Import Data'!$Y$14:$Y$313,'Data for Summary'!B15),COUNTIF('2 - Import Data'!$AA$14:$AA$313,B15),COUNTIF('2 - Import Data'!$AC$14:$AC$313,B15))>0,MAX(A$3:A14)+1,0) -> 0 | B15: =Lists!C15 -> HCFC-133a
A16: =IF(SUM(COUNTIF('2 - Import Data'!$W$14:$W$313,B16),COUNTIF('2 - Import Data'!$Y$14:$Y$313,'Data for Summary'!B16),COUNTIF('2 - Import Data'!$AA$14:$AA$313,B16),COUNTIF('2 - Import Data'!$AC$14:$AC$313,B16))>0,MAX(A$3:A15)+1,0) -> 0 | B16: =Lists!C16 -> HCFC-141
... A44: =IF(SUM(COUNTIF('2 - Import Data'!$W$14:$W$313,B44),COUNTIF('2 - Import Data'!$Y$14:$Y$313,'Data for Summary'!B44),COUNTIF('2 - Import Data'!$AA$14:$AA$313,B44),COUNTIF('2 - Import Data'!$AC$14:$AC$313,B44))>0,MAX(A$3:A43)+1,0) -> 0 | B44: =Lists!C44 -> HCFC-271
