Workbook
Name ChemicalList: Lists!$B$3:$B$68
Name ChemQuantity: #REF!
Name ClassIIChemicals: Lists!$C$3:$C$44
Name ClassIIFormula: '2 - Import Data'!$H$2:$O$2
Name ClassIIOther: '2 - Import Data'!$H$1:$O$1
Name ClassIPurpose: [1]Lists!$I$3:$I$6
Name CommodityCodes: Lists!$J$3:$J$10
Name Countries: Lists!$H$3:$H$204
Name EndDate: Lists!$G$4
Name HeelsIntendedUses: Lists!$O$5:$O$8
Name ImporterCol: '2 - Import Data'!$R$1
Name ImportNum: '2 - Import Data'!$R$2
Name LockStatus: Instructions!$H$15
Name NewIntendedUses: Lists!$M$5:$M$9
Name Purpose: Lists!$K$3:$K$4
Name ReportingQuarter: Lists!$E$3:$E$6
Name ReportingYear: Lists!$D$3:$D$12
Name ReportQtr: '1 - Report Identification'!$C$11
Name ReportYr: '1 - Report Identification'!$C$10
Name StartDate: Lists!$G$3
Name TransactionType: Lists!$L$3:$L$5
Name UsedIntendedUses: Lists!$N$5:$N$10

Sheet Instructions
B1: U.S. Environmental Protection Agency (EPA) | D1: OMB Control Number: 2060-0170
D2: Expiration Date: 8/31/2027
B4: Clean Air Act - Class II Importer Quarterly Report
B5: Worksheet Instructions:
B6: Complete and submit a Class II Importer Quarterly Report if your company imports class II ozone depleting substances (ODS). Section 1 must be completed prior to submission. Section 2 must be completed if your company imported class II ODS during the reporting quarter. Section 3 must be completed if your company sold or shipped imported ODS to a second party during the quarter for transformation or destruction.
B7: Version:
B8: 6
B9: Updated:
B10: 46280
B11: External Links:
B12: ODS Recordkeeping and Reporting webpage
B13: Reporting Form Navigation:
B14: Section 1 - Report Identification | C14: Section 3 - Shipment and Sales Data
B15: Section 2 - Import Transaction Data | C15: Section 4 - Summary
B17: All information submitted to EPA will be treated as confidential in accordance with 40 CFR Part 2, Subpart B, and will only be disclosed by the means set forth in the subpart.
B19: This collection of information is approved by OMB under the Paperwork Reduction Act, 44 U.S.C. 3501 et seq. (OMB Control No. 2060-0170). Responses to this collection of information are mandatory (40 CFR 82.24). An agency may not conduct or sponsor, and a person is not required to respond to, a collection of information unless it displays a currently valid OMB control number. The number and expiration date are displayed in the upper right corner of the form. The public reporting and recordkeeping burden for this collection of information is estimated to be 4 hours per response. Send comments on the Agency’s need this formation, the accuracy of the provided burden estimates and any suggested methods for minimizing respondent burden including through the use of automated collection techniques to the Director, Regulatory Support Division, U.S. Environmental Protection Agency (2821T), 1200 Pennsylvania Ave., NW, Washington, D.C. 20460. Include the OMB control number in any correspondence. Do not send the completed form to this address.
B29: EPA Form #5900-200

Sheet 1 - Report Identification
B1: U.S. Environmental Protection Agency (EPA) | D1: OMB Control Number: 2060-0170
D2: Expiration Date: 8/31/2027
B4: Clean Air Act - Class II Importer Quarterly Report
B5: Go to Section 2 - Import Transaction Data
B7: Section 1 - Report Identification Information
B8: Instructions: Complete all fields below. No fields may be left blank.
B9: Company Name
B10: Reporting Year
B11: Reporting Quarter
B12: Importer Number

Sheet 2 - Import Data
B1: U.S. Environmental Protection Agency (EPA) | U1: OMB Control Number: 2060-0170
U2: Expiration Date: 8/31/2027
B4: Clean Air Act - Class II Importer Quarterly Report
B5: Go to Section 3 - Shipment Data
B7: Section 2 - Import Transaction Data
B8: Instructions: Enter data for each import transaction containing a class II controlled substance that took place during the reporting period. If no controlled substances were imported, the table may be left blank. For all controlled substances that are imported, all fields are required unless otherwise indicated. As a reminder, if material was imported for second party transformation or second party destruction, a copy of the transformation and/or destruction verification from each company for whom material was imported must be provided to EPA along with the submission of this report.
B9: If blends were imported, refer to the table of HCFC blends provided in the Blend Breakout tab, as needed.
B10: Class II Import
B11: 1 | C11: 2 | D11: 3 | E11: 4 | F11: 5 | G11: 6 | H11: 7a | I11: 7b | J11: 7c | K11: 7d | L11: 7e | M11: 7f | N11: 7g | O11: 7h | P11: 8 | Q11: 9 | R11: 10 | S11: 11 | T11: 12 | U11: 13 | W11: TO HIDE
B12: Transaction Number | C12: Date of Import | D12: Source Country | E12: Name of the Chemical Imported | F12: Quantity of Chemical Imported (kg) | G12: Commodity Code | H12: Blend Information | P12: Port of Entry into the United States | Q12: Customs Entry Summary Number | R12: Shipment Importer Number | S12: Transaction Type | T12: Intended Use | U12: Date of Non-Objection Notice or Acknowledgement Letter | W12: 7a | X12: 7b | Y12: 7c | Z12: 7d | AA12: 7e | AB12: 7f | AC12: 7g | AD12: 7h
H13: Class II Chemical | I13: Quantity Imported in Blend (kg) | J13: Class II Chemical | K13: Quantity Imported in Blend (kg) | L13: Class II Chemical | M13: Quantity Imported in Blend (kg) | N13: Class II Chemical | O13: Quantity Imported in Blend (kg) | W13: Class II Chemical | X13: Quantity (kg) | Y13: Class II Chemical | Z13: Quantity (kg) | AA13: Class II Chemical | AB13: Quantity (kg) | AC13: Class II Chemical | AD13: Quantity (kg)
A14: 1 | B14: =IF(E14=0,"",1) | W14: =IF(LEFT($E14,1)="R",INDEX('Blend Breakout'!B$28:B$50,MATCH($E14,'Blend Breakout'!$A$28:$A$50,0)),IF(LEFT($E14,1)="H",$E14,IF($E14="Other",H14,""))) | X14: =IF($E14="Other",I14,IF(LEFT($E14,1)="R",$F14*INDEX('Blend Breakout'!C$28:C$50,MATCH('2 - Import Data'!$E14,'Blend Breakout'!$A$28:$A$50,0)),IF(LEFT('2 - Import Data'!$E14,1)="H",'2 - Import Data'!$F14,""))) | Y14: =IF(LEFT($E14,1)="R",INDEX('Blend Breakout'!D$28:D$50,MATCH($E14,'Blend Breakout'!$A$28:$A$50,0)),IF(AND($E14="Other",J14<>""),J14,"")) | Z14: =IF(AND($E14="Other",K14<>""),K14,IF(LEFT($E14,1)="R",IFERROR($F14*INDEX('Blend Breakout'!E$28:E$50,MATCH('2 - Import Data'!$E14,'Blend Breakout'!$A$28:$A$50,0)),""),"")) | AA14: =IF(LEFT($E14,1)="R",INDEX('Blend Breakout'!F$28:F$50,MATCH($E14,'Blend Breakout'!$A$28:$A$50,0)),IF(AND($E14="Other",L14<>""),L14,"")) | AB14: =IF(AND($E14="Other",M14<>""),M14,IF(LEFT($E14,1)="R",IFERROR($F14*INDEX('Blend Breakout'!G$28:G$50,MATCH('2 - Import Data'!$E14,'Blend Breakout'!$A$28:$A$50,0)),""),"")) | AC14: =IF(LEFT($E14,1)="R",INDEX('Blend Breakout'!H$28:H$50,MATCH($E14,'Blend Breakout'!$A$28:$A$50,0)),IF(AND($E14="Other",N14<>""),N14,"")) | AD14: =IF(AND($E14="Other",O14<>""),O14,IF(LEFT($E14,1)="R",IFERROR($F14*INDEX('Blend Breakout'!I$28:I$50,MATCH('2 - Import Data'!$E14,'Blend Breakout'!$A$28:$A$50,0)),""),""))
A15: 2 | B15: =IF(E15=0,"",MAX($B$14:B14)+1) | W15: =IF(LEFT($E15,1)="R",INDEX('Blend Breakout'!B$28:B$50,MATCH($E15,'Blend Breakout'!$A$28:$A$50,0)),IF(LEFT($E15,1)="H",$E15,IF($E15="Other",H15,""))) | X15: =IF($E15="Other",I15,IF(LEFT($E15,1)="R",$F15*INDEX('Blend Breakout'!C$28:C$50,MATCH('2 - Import Data'!$E15,'Blend Breakout'!$A$28:$A$50,0)),IF(LEFT('2 - Import Data'!$E15,1)="H",'2 - Import Data'!$F15,""))) | Y15: =IF(LEFT($E15,1)="R",INDEX('Blend Breakout'!D$28:D$50,MATCH($E15,'Blend Breakout'!$A$28:$A$50,0)),IF(AND($E15="Other",J15<>""),J15,"")) | Z15: =IF(AND($E15="Other",K15<>""),K15,IF(LEFT($E15,1)="R",IFERROR($F15*INDEX('Blend Breakout'!E$28:E$50,MATCH('2 - Import Data'!$E15,'Blend Breakout'!$A$28:$A$50,0)),""),"")) | AA15: =IF(LEFT($E15,1)="R",INDEX('Blend Breakout'!F$28:F$50,MATCH($E15,'Blend Breakout'!$A$28:$A$50,0)),IF(AND($E15="Other",L15<>""),L15,"")) | AB15: =IF(AND($E15="Other",M15<>""),M15,IF(LEFT($E15,1)="R",IFERROR($F15*INDEX('Blend Breakout'!G$28:G$50,MATCH('2 - Import Data'!$E15,'Blend Breakout'!$A$28:$A$50,0)),""),"")) | AC15: =IF(LEFT($E15,1)="R",INDEX('Blend Breakout'!H$28:H$50,MATCH($E15,'Blend Breakout'!$A$28:$A$50,0)),IF(AND($E15="Other",N15<>""),N15,"")) | AD15: =IF(AND($E15="Other",O15<>""),O15,IF(LEFT($E15,1)="R",IFERROR($F15*INDEX('Blend Breakout'!I$28:I$50,MATCH('2 - Import Data'!$E15,'Blend Breakout'!$A$28:$A$50,0)),""),""))
A16: 3 | B16: =IF(E16=0,"",MAX($B$14:B15)+1) | W16: =IF(LEFT($E16,1)="R",INDEX('Blend Breakout'!B$28:B$50,MATCH($E16,'Blend Breakout'!$A$28:$A$50,0)),IF(LEFT($E16,1)="H",$E16,IF($E16="Other",H16,""))) | X16: =IF($E16="Other",I16,IF(LEFT($E16,1)="R",$F16*INDEX('Blend Breakout'!C$28:C$50,MATCH('2 - Import Data'!$E16,'Blend Breakout'!$A$28:$A$50,0)),IF(LEFT('2 - Import Data'!$E16,1)="H",'2 - Import Data'!$F16,""))) | Y16: =IF(LEFT($E16,1)="R",INDEX('Blend Breakout'!D$28:D$50,MATCH($E16,'Blend Breakout'!$A$28:$A$50,0)),IF(AND($E16="Other",J16<>""),J16,"")) | Z16: =IF(AND($E16="Other",K16<>""),K16,IF(LEFT($E16,1)="R",IFERROR($F16*INDEX('Blend Breakout'!E$28:E$50,MATCH('2 - Import Data'!$E16,'Blend Breakout'!$A$28:$A$50,0)),""),"")) | AA16: =IF(LEFT($E16,1)="R",INDEX('Blend Breakout'!F$28:F$50,MATCH($E16,'Blend Breakout'!$A$28:$A$50,0)),IF(AND($E16="Other",L16<>""),L16,"")) | AB16: =IF(AND($E16="Other",M16<>""),M16,IF(LEFT($E16,1)="R",IFERROR($F16*INDEX('Blend Breakout'!G$28:G$50,MATCH('2 - Import Data'!$E16,'Blend Breakout'!$A$28:$A$50,0)),""),"")) | AC16: =IF(LEFT($E16,1)="R",INDEX('Blend Breakout'!H$28:H$50,MATCH($E16,'Blend Breakout'!$A$28:$A$50,0)),IF(AND($E16="Other",N16<>""),N16,"")) | AD16: =IF(AND($E16="Other",O16<>""),O16,IF(LEFT($E16,1)="R",IFERROR($F16*INDEX('Blend Breakout'!I$28:I$50,MATCH('2 - Import Data'!$E16,'Blend Breakout'!$A$28:$A$50,0)),""),""))
A17: 4 | B17: =IF(E17=0,"",MAX($B$14:B16)+1) | W17: =IF(LEFT($E17,1)="R",INDEX('Blend Breakout'!B$28:B$50,MATCH($E17,'Blend Breakout'!$A$28:$A$50,0)),IF(LEFT($E17,1)="H",$E17,IF($E17="Other",H17,""))) | X17: =IF($E17="Other",I17,IF(LEFT($E17,1)="R",$F17*INDEX('Blend Breakout'!C$28:C$50,MATCH('2 - Import Data'!$E17,'Blend Breakout'!$A$28:$A$50,0)),IF(LEFT('2 - Import Data'!$E17,1)="H",'2 - Import Data'!$F17,""))) | Y17: =IF(LEFT($E17,1)="R",INDEX('Blend Breakout'!D$28:D$50,MATCH($E17,'Blend Breakout'!$A$28:$A$50,0)),IF(AND($E17="Other",J17<>""),J17,"")) | Z17: =IF(AND($E17="Other",K17<>""),K17,IF(LEFT($E17,1)="R",IFERROR($F17*INDEX('Blend Breakout'!E$28:E$50,MATCH('2 - Import Data'!$E17,'Blend Breakout'!$A$28:$A$50,0)),""),"")) | AA17: =IF(LEFT($E17,1)="R",INDEX('Blend Breakout'!F$28:F$50,MATCH($E17,'Blend Breakout'!$A$28:$A$50,0)),IF(AND($E17="Other",L17<>""),L17,"")) | AB17: =IF(AND($E17="Other",M17<>""),M17,IF(LEFT($E17,1)="R",IFERROR($F17*INDEX('Blend Breakout'!G$28:G$50,MATCH('2 - Import Data'!$E17,'Blend Breakout'!$A$28:$A$50,0)),""),"")) | AC17: =IF(LEFT($E17,1)="R",INDEX('Blend Breakout'!H$28:H$50,MATCH($E17,'Blend Breakout'!$A$28:$A$50,0)),IF(AND($E17="Other",N17<>""),N17,"")) | AD17: =IF(AND($E17="Other",O17<>""),O17,IF(LEFT($E17,1)="R",IFERROR($F17*INDEX('Blend Breakout'!I$28:I$50,MATCH('2 - Import Data'!$E17,'Blend Breakout'!$A$28:$A$50,0)),""),""))
A18: 5 | B18: =IF(E18=0,"",MAX($B$14:B17)+1) | W18: =IF(LEFT($E18,1)="R",INDEX('Blend Breakout'!B$28:B$50,MATCH($E18,'Blend Breakout'!$A$28:$A$50,0)),IF(LEFT($E18,1)="H",$E18,IF($E18="Other",H18,""))) | X18: =IF($E18="Other",I18,IF(LEFT($E18,1)="R",$F18*INDEX('Blend Breakout'!C$28:C$50,MATCH('2 - Import Data'!$E18,'Blend Breakout'!$A$28:$A$50,0)),IF(LEFT('2 - Import Data'!$E18,1)="H",'2 - Import Data'!$F18,""))) | Y18: =IF(LEFT($E18,1)="R",INDEX('Blend Breakout'!D$28:D$50,MATCH($E18,'Blend Breakout'!$A$28:$A$50,0)),IF(AND($E18="Other",J18<>""),J18,"")) | Z18: =IF(AND($E18="Other",K18<>""),K18,IF(LEFT($E18,1)="R",IFERROR($F18*INDEX('Blend Breakout'!E$28:E$50,MATCH('2 - Import Data'!$E18,'Blend Breakout'!$A$28:$A$50,0)),""),"")) | AA18: =IF(LEFT($E18,1)="R",INDEX('Blend Breakout'!F$28:F$50,MATCH($E18,'Blend Breakout'!$A$28:$A$50,0)),IF(AND($E18="Other",L18<>""),L18,"")) | AB18: =IF(AND($E18="Other",M18<>""),M18,IF(LEFT($E18,1)="R",IFERROR($F18*INDEX('Blend Breakout'!G$28:G$50,MATCH('2 - Import Data'!$E18,'Blend Breakout'!$A$28:$A$50,0)),""),"")) | AC18: =IF(LEFT($E18,1)="R",INDEX('Blend Breakout'!H$28:H$50,MATCH($E18,'Blend Breakout'!$A$28:$A$50,0)),IF(AND($E18="Other",N18<>""),N18,"")) | AD18: =IF(AND($E18="Other",O18<>""),O18,IF(LEFT($E18,1)="R",IFERROR($F18*INDEX('Blend Breakout'!I$28:I$50,MATCH('2 - Import Data'!$E18,'Blend Breakout'!$A$28:$A$50,0)),""),""))
A19: 6 | B19: =IF(E19=0,"",MAX($B$14:B18)+1) | W19: =IF(LEFT($E19,1)="R",INDEX('Blend Breakout'!B$28:B$50,MATCH($E19,'Blend Breakout'!$A$28:$A$50,0)),IF(LEFT($E19,1)="H",$E19,IF($E19="Other",H19,""))) | X19: =IF($E19="Other",I19,IF(LEFT($E19,1)="R",$F19*INDEX('Blend Breakout'!C$28:C$50,MATCH('2 - Import Data'!$E19,'Blend Breakout'!$A$28:$A$50,0)),IF(LEFT('2 - Import Data'!$E19,1)="H",'2 - Import Data'!$F19,""))) | Y19: =IF(LEFT($E19,1)="R",INDEX('Blend Breakout'!D$28:D$50,MATCH($E19,'Blend Breakout'!$A$28:$A$50,0)),IF(AND($E19="Other",J19<>""),J19,"")) | Z19: =IF(AND($E19="Other",K19<>""),K19,IF(LEFT($E19,1)="R",IFERROR($F19*INDEX('Blend Breakout'!E$28:E$50,MATCH('2 - Import Data'!$E19,'Blend Breakout'!$A$28:$A$50,0)),""),"")) | AA19: =IF(LEFT($E19,1)="R",INDEX('Blend Breakout'!F$28:F$50,MATCH($E19,'Blend Breakout'!$A$28:$A$50,0)),IF(AND($E19="Other",L19<>""),L19,"")) | AB19: =IF(AND($E19="Other",M19<>""),M19,IF(LEFT($E19,1)="R",IFERROR($F19*INDEX('Blend Breakout'!G$28:G$50,MATCH('2 - Import Data'!$E19,'Blend Breakout'!$A$28:$A$50,0)),""),"")) | AC19: =IF(LEFT($E19,1)="R",INDEX('Blend Breakout'!H$28:H$50,MATCH($E19,'Blend Breakout'!$A$28:$A$50,0)),IF(AND($E19="Other",N19<>""),N19,"")) | AD19: =IF(AND($E19="Other",O19<>""),O19,IF(LEFT($E19,1)="R",IFERROR($F19*INDEX('Blend Breakout'!I$28:I$50,MATCH('2 - Import Data'!$E19,'Blend Breakout'!$A$28:$A$50,0)),""),""))
A20: 7 | B20: =IF(E20=0,"",MAX($B$14:B19)+1) | W20: =IF(LEFT($E20,1)="R",INDEX('Blend Breakout'!B$28:B$50,MATCH($E20,'Blend Breakout'!$A$28:$A$50,0)),IF(LEFT($E20,1)="H",$E20,IF($E20="Other",H20,""))) | X20: =IF($E20="Other",I20,IF(LEFT($E20,1)="R",$F20*INDEX('Blend Breakout'!C$28:C$50,MATCH('2 - Import Data'!$E20,'Blend Breakout'!$A$28:$A$50,0)),IF(LEFT('2 - Import Data'!$E20,1)="H",'2 - Import Data'!$F20,""))) | Y20: =IF(LEFT($E20,1)="R",INDEX('Blend Breakout'!D$28:D$50,MATCH($E20,'Blend Breakout'!$A$28:$A$50,0)),IF(AND($E20="Other",J20<>""),J20,"")) | Z20: =IF(AND($E20="Other",K20<>""),K20,IF(LEFT($E20,1)="R",IFERROR($F20*INDEX('Blend Breakout'!E$28:E$50,MATCH('2 - Import Data'!$E20,'Blend Breakout'!$A$28:$A$50,0)),""),"")) | AA20: =IF(LEFT($E20,1)="R",INDEX('Blend Breakout'!F$28:F$50,MATCH($E20,'Blend Breakout'!$A$28:$A$50,0)),IF(AND($E20="Other",L20<>""),L20,"")) | AB20: =IF(AND($E20="Other",M20<>""),M20,IF(LEFT($E20,1)="R",IFERROR($F20*INDEX('Blend Breakout'!G$28:G$50,MATCH('2 - Import Data'!$E20,'Blend Breakout'!$A$28:$A$50,0)),""),"")) | AC20: =IF(LEFT($E20,1)="R",INDEX('Blend Breakout'!H$28:H$50,MATCH($E20,'Blend Breakout'!$A$28:$A$50,0)),IF(AND($E20="Other",N20<>""),N20,"")) | AD20: =IF(AND($E20="Other",O20<>""),O20,IF(LEFT($E20,1)="R",IFERROR($F20*INDEX('Blend Breakout'!I$28:I$50,MATCH('2 - Import Data'!$E20,'Blend Breakout'!$A$28:$A$50,0)),""),""))
A21: 8 | B21: =IF(E21=0,"",MAX($B$14:B20)+1) | W21: =IF(LEFT($E21,1)="R",INDEX('Blend Breakout'!B$28:B$50,MATCH($E21,'Blend Breakout'!$A$28:$A$50,0)),IF(LEFT($E21,1)="H",$E21,IF($E21="Other",H21,""))) | X21: =IF($E21="Other",I21,IF(LEFT($E21,1)="R",$F21*INDEX('Blend Breakout'!C$28:C$50,MATCH('2 - Import Data'!$E21,'Blend Breakout'!$A$28:$A$50,0)),IF(LEFT('2 - Import Data'!$E21,1)="H",'2 - Import Data'!$F21,""))) | Y21: =IF(LEFT($E21,1)="R",INDEX('Blend Breakout'!D$28:D$50,MATCH($E21,'Blend Breakout'!$A$28:$A$50,0)),IF(AND($E21="Other",J21<>""),J21,"")) | Z21: =IF(AND($E21="Other",K21<>""),K21,IF(LEFT($E21,1)="R",IFERROR($F21*INDEX('Blend Breakout'!E$28:E$50,MATCH('2 - Import Data'!$E21,'Blend Breakout'!$A$28:$A$50,0)),""),"")) | AA21: =IF(LEFT($E21,1)="R",INDEX('Blend Breakout'!F$28:F$50,MATCH($E21,'Blend Breakout'!$A$28:$A$50,0)),IF(AND($E21="Other",L21<>""),L21,"")) | AB21: =IF(AND($E21="Other",M21<>""),M21,IF(LEFT($E21,1)="R",IFERROR($F21*INDEX('Blend Breakout'!G$28:G$50,MATCH('2 - Import Data'!$E21,'Blend Breakout'!$A$28:$A$50,0)),""),"")) | AC21: =IF(LEFT($E21,1)="R",INDEX('Blend Breakout'!H$28:H$50,MATCH($E21,'Blend Breakout'!$A$28:$A$50,0)),IF(AND($E21="Other",N21<>""),N21,"")) | AD21: =IF(AND($E21="Other",O21<>""),O21,IF(LEFT($E21,1)="R",IFERROR($F21*INDEX('Blend Breakout'!I$28:I$50,MATCH('2 - Import Data'!$E21,'Blend Breakout'!$A$28:$A$50,0)),""),""))
A22: 9 | B22: =IF(E22=0,"",MAX($B$14:B21)+1) | W22: =IF(LEFT($E22,1)="R",INDEX('Blend Breakout'!B$28:B$50,MATCH($E22,'Blend Breakout'!$A$28:$A$50,0)),IF(LEFT($E22,1)="H",$E22,IF($E22="Other",H22,""))) | X22: =IF($E22="Other",I22,IF(LEFT($E22,1)="R",$F22*INDEX('Blend Breakout'!C$28:C$50,MATCH('2 - Import Data'!$E22,'Blend Breakout'!$A$28:$A$50,0)),IF(LEFT('2 - Import Data'!$E22,1)="H",'2 - Import Data'!$F22,""))) | Y22: =IF(LEFT($E22,1)="R",INDEX('Blend Breakout'!D$28:D$50,MATCH($E22,'Blend Breakout'!$A$28:$A$50,0)),IF(AND($E22="Other",J22<>""),J22,"")) | Z22: =IF(AND($E22="Other",K22<>""),K22,IF(LEFT($E22,1)="R",IFERROR($F22*INDEX('Blend Breakout'!E$28:E$50,MATCH('2 - Import Data'!$E22,'Blend Breakout'!$A$28:$A$50,0)),""),"")) | AA22: =IF(LEFT($E22,1)="R",INDEX('Blend Breakout'!F$28:F$50,MATCH($E22,'Blend Breakout'!$A$28:$A$50,0)),IF(AND($E22="Other",L22<>""),L22,"")) | AB22: =IF(AND($E22="Other",M22<>""),M22,IF(LEFT($E22,1)="R",IFERROR($F22*INDEX('Blend Breakout'!G$28:G$50,MATCH('2 - Import Data'!$E22,'Blend Breakout'!$A$28:$A$50,0)),""),"")) | AC22: =IF(LEFT($E22,1)="R",INDEX('Blend Breakout'!H$28:H$50,MATCH($E22,'Blend Breakout'!$A$28:$A$50,0)),IF(AND($E22="Other",N22<>""),N22,"")) | AD22: =IF(AND($E22="Other",O22<>""),O22,IF(LEFT($E22,1)="R",IFERROR($F22*INDEX('Blend Breakout'!I$28:I$50,MATCH('2 - Import Data'!$E22,'Blend Breakout'!$A$28:$A$50,0)),""),""))
A23: 10 | B23: =IF(E23=0,"",MAX($B$14:B22)+1) | W23: =IF(LEFT($E23,1)="R",INDEX('Blend Breakout'!B$28:B$50,MATCH($E23,'Blend Breakout'!$A$28:$A$50,0)),IF(LEFT($E23,1)="H",$E23,IF($E23="Other",H23,""))) | X23: =IF($E23="Other",I23,IF(LEFT($E23,1)="R",$F23*INDEX('Blend Breakout'!C$28:C$50,MATCH('2 - Import Data'!$E23,'Blend Breakout'!$A$28:$A$50,0)),IF(LEFT('2 - Import Data'!$E23,1)="H",'2 - Import Data'!$F23,""))) | Y23: =IF(LEFT($E23,1)="R",INDEX('Blend Breakout'!D$28:D$50,MATCH($E23,'Blend Breakout'!$A$28:$A$50,0)),IF(AND($E23="Other",J23<>""),J23,"")) | Z23: =IF(AND($E23="Other",K23<>""),K23,IF(LEFT($E23,1)="R",IFERROR($F23*INDEX('Blend Breakout'!E$28:E$50,MATCH('2 - Import Data'!$E23,'Blend Breakout'!$A$28:$A$50,0)),""),"")) | AA23: =IF(LEFT($E23,1)="R",INDEX('Blend Breakout'!F$28:F$50,MATCH($E23,'Blend Breakout'!$A$28:$A$50,0)),IF(AND($E23="Other",L23<>""),L23,"")) | AB23: =IF(AND($E23="Other",M23<>""),M23,IF(LEFT($E23,1)="R",IFERROR($F23*INDEX('Blend Breakout'!G$28:G$50,MATCH('2 - Import Data'!$E23,'Blend Breakout'!$A$28:$A$50,0)),""),"")) | AC23: =IF(LEFT($E23,1)="R",INDEX('Blend Breakout'!H$28:H$50,MATCH($E23,'Blend Breakout'!$A$28:$A$50,0)),IF(AND($E23="Other",N23<>""),N23,"")) | AD23: =IF(AND($E23="Other",O23<>""),O23,IF(LEFT($E23,1)="R",IFERROR($F23*INDEX('Blend Breakout'!I$28:I$50,MATCH('2 - Import Data'!$E23,'Blend Breakout'!$A$28:$A$50,0)),""),""))
A24: 11 | B24: =IF(E24=0,"",MAX($B$14:B23)+1) | W24: =IF(LEFT($E24,1)="R",INDEX('Blend Breakout'!B$28:B$50,MATCH($E24,'Blend Breakout'!$A$28:$A$50,0)),IF(LEFT($E24,1)="H",$E24,IF($E24="Other",H24,""))) | X24: =IF($E24="Other",I24,IF(LEFT($E24,1)="R",$F24*INDEX('Blend Breakout'!C$28:C$50,MATCH('2 - Import Data'!$E24,'Blend Breakout'!$A$28:$A$50,0)),IF(LEFT('2 - Import Data'!$E24,1)="H",'2 - Import Data'!$F24,""))) | Y24: =IF(LEFT($E24,1)="R",INDEX('Blend Breakout'!D$28:D$50,MATCH($E24,'Blend Breakout'!$A$28:$A$50,0)),IF(AND($E24="Other",J24<>""),J24,"")) | Z24: =IF(AND($E24="Other",K24<>""),K24,IF(LEFT($E24,1)="R",IFERROR($F24*INDEX('Blend Breakout'!E$28:E$50,MATCH('2 - Import Data'!$E24,'Blend Breakout'!$A$28:$A$50,0)),""),"")) | AA24: =IF(LEFT($E24,1)="R",INDEX('Blend Breakout'!F$28:F$50,MATCH($E24,'Blend Breakout'!$A$28:$A$50,0)),IF(AND($E24="Other",L24<>""),L24,"")) | AB24: =IF(AND($E24="Other",M24<>""),M24,IF(LEFT($E24,1)="R",IFERROR($F24*INDEX('Blend Breakout'!G$28:G$50,MATCH('2 - Import Data'!$E24,'Blend Breakout'!$A$28:$A$50,0)),""),"")) | AC24: =IF(LEFT($E24,1)="R",INDEX('Blend Breakout'!H$28:H$50,MATCH($E24,'Blend Breakout'!$A$28:$A$50,0)),IF(AND($E24="Other",N24<>""),N24,"")) | AD24: =IF(AND($E24="Other",O24<>""),O24,IF(LEFT($E24,1)="R",IFERROR($F24*INDEX('Blend Breakout'!I$28:I$50,MATCH('2 - Import Data'!$E24,'Blend Breakout'!$A$28:$A$50,0)),""),""))
A25: 12 | B25: =IF(E25=0,"",MAX($B$14:B24)+1) | W25: =IF(LEFT($E25,1)="R",INDEX('Blend Breakout'!B$28:B$50,MATCH($E25,'Blend Breakout'!$A$28:$A$50,0)),IF(LEFT($E25,1)="H",$E25,IF($E25="Other",H25,""))) | X25: =IF($E25="Other",I25,IF(LEFT($E25,1)="R",$F25*INDEX('Blend Breakout'!C$28:C$50,MATCH('2 - Import Data'!$E25,'Blend Breakout'!$A$28:$A$50,0)),IF(LEFT('2 - Import Data'!$E25,1)="H",'2 - Import Data'!$F25,""))) | Y25: =IF(LEFT($E25,1)="R",INDEX('Blend Breakout'!D$28:D$50,MATCH($E25,'Blend Breakout'!$A$28:$A$50,0)),IF(AND($E25="Other",J25<>""),J25,"")) | Z25: =IF(AND($E25="Other",K25<>""),K25,IF(LEFT($E25,1)="R",IFERROR($F25*INDEX('Blend Breakout'!E$28:E$50,MATCH('2 - Import Data'!$E25,'Blend Breakout'!$A$28:$A$50,0)),""),"")) | AA25: =IF(LEFT($E25,1)="R",INDEX('Blend Breakout'!F$28:F$50,MATCH($E25,'Blend Breakout'!$A$28:$A$50,0)),IF(AND($E25="Other",L25<>""),L25,"")) | AB25: =IF(AND($E25="Other",M25<>""),M25,IF(LEFT($E25,1)="R",IFERROR($F25*INDEX('Blend Breakout'!G$28:G$50,MATCH('2 - Import Data'!$E25,'Blend Breakout'!$A$28:$A$50,0)),""),"")) | AC25: =IF(LEFT($E25,1)="R",INDEX('Blend Breakout'!H$28:H$50,MATCH($E25,'Blend Breakout'!$A$28:$A$50,0)),IF(AND($E25="Other",N25<>""),N25,"")) | AD25: =IF(AND($E25="Other",O25<>""),O25,IF(LEFT($E25,1)="R",IFERROR($F25*INDEX('Blend Breakout'!I$28:I$50,MATCH('2 - Import Data'!$E25,'Blend Breakout'!$A$28:$A$50,0)),""),""))
A26: 13 | B26: =IF(E26=0,"",MAX($B$14:B25)+1) | W26: =IF(LEFT($E26,1)="R",INDEX('Blend Breakout'!B$28:B$50,MATCH($E26,'Blend Breakout'!$A$28:$A$50,0)),IF(LEFT($E26,1)="H",$E26,IF($E26="Other",H26,""))) | X26: =IF($E26="Other",I26,IF(LEFT($E26,1)="R",$F26*INDEX('Blend Breakout'!C$28:C$50,MATCH('2 - Import Data'!$E26,'Blend Breakout'!$A$28:$A$50,0)),IF(LEFT('2 - Import Data'!$E26,1)="H",'2 - Import Data'!$F26,""))) | Y26: =IF(LEFT($E26,1)="R",INDEX('Blend Breakout'!D$28:D$50,MATCH($E26,'Blend Breakout'!$A$28:$A$50,0)),IF(AND($E26="Other",J26<>""),J26,"")) | Z26: =IF(AND($E26="Other",K26<>""),K26,IF(LEFT($E26,1)="R",IFERROR($F26*INDEX('Blend Breakout'!E$28:E$50,MATCH('2 - Import Data'!$E26,'Blend Breakout'!$A$28:$A$50,0)),""),"")) | AA26: =IF(LEFT($E26,1)="R",INDEX('Blend Breakout'!F$28:F$50,MATCH($E26,'Blend Breakout'!$A$28:$A$50,0)),IF(AND($E26="Other",L26<>""),L26,"")) | AB26: =IF(AND($E26="Other",M26<>""),M26,IF(LEFT($E26,1)="R",IFERROR($F26*INDEX('Blend Breakout'!G$28:G$50,MATCH('2 - Import Data'!$E26,'Blend Breakout'!$A$28:$A$50,0)),""),"")) | AC26: =IF(LEFT($E26,1)="R",INDEX('Blend Breakout'!H$28:H$50,MATCH($E26,'Blend Breakout'!$A$28:$A$50,0)),IF(AND($E26="Other",N26<>""),N26,"")) | AD26: =IF(AND($E26="Other",O26<>""),O26,IF(LEFT($E26,1)="R",IFERROR($F26*INDEX('Blend Breakout'!I$28:I$50,MATCH('2 - Import Data'!$E26,'Blend Breakout'!$A$28:$A$50,0)),""),""))
... A313: 300 | B313: =IF(E313=0,"",MAX($B$14:B312)+1) | W313: =IF(LEFT($E313,1)="R",INDEX('Blend Breakout'!B$28:B$50,MATCH($E313,'Blend Breakout'!$A$28:$A$50,0)),IF(LEFT($E313,1)="H",$E313,IF($E313="Other",H313,""))) | X313: =IF($E313="Other",I313,IF(LEFT($E313,1)="R",$F313*INDEX('Blend Breakout'!C$28:C$50,MATCH('2 - Import Data'!$E313,'Blend Breakout'!$A$28:$A$50,0)),IF(LEFT('2 - Import Data'!$E313,1)="H",'2 - Import Data'!$F313,""))) | Y313: =IF(LEFT($E313,1)="R",INDEX('Blend Breakout'!D$28:D$50,MATCH($E313,'Blend Breakout'!$A$28:$A$50,0)),IF(AND($E313="Other",J313<>""),J313,"")) | Z313: =IF(AND($E313="Other",K313<>""),K313,IF(LEFT($E313,1)="R",IFERROR($F313*INDEX('Blend Breakout'!E$28:E$50,MATCH('2 - Import Data'!$E313,'Blend Breakout'!$A$28:$A$50,0)),""),"")) | AA313: =IF(LEFT($E313,1)="R",INDEX('Blend Breakout'!F$28:F$50,MATCH($E313,'Blend Breakout'!$A$28:$A$50,0)),IF(AND($E313="Other",L313<>""),L313,"")) | AB313: =IF(AND($E313="Other",M313<>""),M313,IF(LEFT($E313,1)="R",IFERROR($F313*INDEX('Blend Breakout'!G$28:G$50,MATCH('2 - Import Data'!$E313,'Blend Breakout'!$A$28:$A$50,0)),""),"")) | AC313: =IF(LEFT($E313,1)="R",INDEX('Blend Breakout'!H$28:H$50,MATCH($E313,'Blend Breakout'!$A$28:$A$50,0)),IF(AND($E313="Other",N313<>""),N313,"")) | AD313: =IF(AND($E313="Other",O313<>""),O313,IF(LEFT($E313,1)="R",IFERROR($F313*INDEX('Blend Breakout'!I$28:I$50,MATCH('2 - Import Data'!$E313,'Blend Breakout'!$A$28:$A$50,0)),""),""))

Sheet 3 - Shipment and Sales
B1: U.S. Environmental Protection Agency (EPA) | E1: OMB Control Number: 2060-0170
E2: Expiration Date: 8/31/2027
B4: Clean Air Act - Class II Importer Quarterly Report
B5: Go to Section 4 - Summary
B7: Section 3 - Shipment Data
B8: Instructions: Identify the recipient companies of the material imported for second party transformation or second party destruction, and the amount shipped to each company during the quarter. Due to a potential time lag between the date of import and the date of shipment, it is recognized that for a given quarter the information in Section 3 may not match the information reported in Section 2 for seond party transformation and second party destruction within a given quarter. However, all material imported for second party transformation or second party destruction must ultimately be shipped to a second party and must be reported as such in the applicable quarterly report.
B9: As a reminder, a copy of the transformation or destruction verification from each second party for whom material was imported must be provided to EPA along with the submission of this report.
B10: Shipment and Sales Data
B11: 1 | C11: 2 | D11: 3 | E11: 4
B12: Chemical Name | C12: Recipient Company Name | D12: Quantity (kg) | E12: Purpose
A13: 1
A14: 2
A15: 3
A16: 4
A17: 5
A18: 6
A19: 7
A20: 8
A21: 9
A22: 10

Sheet 4 - Summary
B1: U.S. Environmental Protection Agency (EPA) | K1: OMB Control Number: 2060-0170
K2: Expiration Date: 8/31/2027
B4: Clean Air Act - Class II Importer Quarterly Report
B6: Section 4 - Summary
B7: The values in the table below are calculated based on data entered in Section 2. If the totals appear to be incorrect, please return to Section 2 to review your data.
B8: Class II Quarterly Import Summary
B9: 1 | C9: 2 | D9: 3 | E9: 4 | F9: 5 | G9: 6 | H9: 7 | J9: 8 | K9: 9
C10: New Imports (kg) | J10: Total Used Imports (kg) | K10: Total Heel Imports (kg)
B11: Chemical Name | C11: Gross Imports | D11: In-House Transformation | E11: Second Party Transformation | F11: In-House Destruction | G11: Second Party Destruction | H11: Net Imports | I11: Used Imports - Reuse (using allowances) (kg)
A12: 1 | B12: =IFERROR(VLOOKUP(A12,'Data for Summary'!$A$3:$B$44,2,0),"") | C12: =IF($B12="","",SUM(SUMIFS('2 - Import Data'!$X:$X,'2 - Import Data'!$W:$W,$B12,'2 - Import Data'!$S:$S,Lists!$L$3),SUMIFS('2 - Import Data'!$Z:$Z,'2 - Import Data'!$Y:$Y,$B12,'2 - Import Data'!$S:$S,Lists!$L$3),SUMIFS('2 - Import Data'!$AB:$AB,'2 - Import Data'!$AA:$AA,$B12,'2 - Import Data'!$S:$S,Lists!$L$3),SUMIFS('2 - Import Data'!$AD:$AD,'2 - Import Data'!$AC:$AC,$B12,'2 - Import Data'!$S:$S,Lists!$L$3))) | D12: =IF($B12="","",SUM(SUMIFS('2 - Import Data'!$X:$X,'2 - Import Data'!$W:$W,$B12,'2 - Import Data'!$S:$S,Lists!$L$3,'2 - Import Data'!$T:$T,Lists!$M$5),SUMIFS('2 - Import Data'!$Z:$Z,'2 - Import Data'!$Y:$Y,$B12,'2 - Import Data'!$S:$S,Lists!$L$3,'2 - Import Data'!$T:$T,Lists!$M$5),SUMIFS('2 - Import Data'!$AB:$AB,'2 - Import Data'!$AA:$AA,$B12,'2 - Import Data'!$S:$S,Lists!$L$3,'2 - Import Data'!$T:$T,Lists!$M$5),SUMIFS('2 - Import Data'!$AD:$AD,'2 - Import Data'!$AC:$AC,$B12,'2 - Import Data'!$S:$S,Lists!$L$3,'2 - Import Data'!$T:$T,Lists!$M$5))) | E12: =IF($B12="","",SUM(SUMIFS('2 - Import Data'!$X:$X,'2 - Import Data'!$W:$W,$B12,'2 - Import Data'!$S:$S,Lists!$L$3,'2 - Import Data'!$T:$T,Lists!$M$6),SUMIFS('2 - Import Data'!$Z:$Z,'2 - Import Data'!$Y:$Y,$B12,'2 - Import Data'!$S:$S,Lists!$L$3,'2 - Import Data'!$T:$T,Lists!$M$6),SUMIFS('2 - Import Data'!$AB:$AB,'2 - Import Data'!$AA:$AA,$B12,'2 - Import Data'!$S:$S,Lists!$L$3,'2 - Import Data'!$T:$T,Lists!$M$6),SUMIFS('2 - Import Data'!$AD:$AD,'2 - Import Data'!$AC:$AC,$B12,'2 - Import Data'!$S:$S,Lists!$L$3,'2 - Import Data'!$T:$T,Lists!$M$6))) | F12: =IF($B12="","",SUM(SUMIFS('2 - Import Data'!$X:$X,'2 - Import Data'!$W:$W,$B12,'2 - Import Data'!$S:$S,Lists!$L$3,'2 - Import Data'!$T:$T,Lists!$M$7),SUMIFS('2 - Import Data'!$Z:$Z,'2 - Import Data'!$Y:$Y,$B12,'2 - Import Data'!$S:$S,Lists!$L$3,'2 - Import Data'!$T:$T,Lists!$M$7),SUMIFS('2 - Import Data'!$AB:$AB,'2 - Import Data'!$AA:$AA,$B12,'2 - Import Data'!$S:$S,Lists!$L$3,'2 - Import Data'!$T:$T,Lists!$M$7),SUMIFS('2 - Import Data'!$AD:$AD,'2 - Import Data'!$AC:$AC,$B12,'2 - Import Data'!$S:$S,Lists!$L$3,'2 - Import Data'!$T:$T,Lists!$M$7))) | G12: =IF($B12="","",SUM(SUMIFS('2 - Import Data'!$X:$X,'2 - Import Data'!$W:$W,$B12,'2 - Import Data'!$S:$S,Lists!$L$3,'2 - Import Data'!$T:$T,Lists!$M$8),SUMIFS('2 - Import Data'!$Z:$Z,'2 - Import Data'!$Y:$Y,$B12,'2 - Import Data'!$S:$S,Lists!$L$3,'2 - Import Data'!$T:$T,Lists!$M$8),SUMIFS('2 - Import Data'!$AB:$AB,'2 - Import Data'!$AA:$AA,$B12,'2 - Import Data'!$S:$S,Lists!$L$3,'2 - Import Data'!$T:$T,Lists!$M$8),SUMIFS('2 - Import Data'!$AD:$AD,'2 - Import Data'!$AC:$AC,$B12,'2 - Import Data'!$S:$S,Lists!$L$3,'2 - Import Data'!$T:$T,Lists!$M$8))) | H12: =IF($B12="","",C12-SUM(D12:G12)) | I12: =IF($B12="","",SUM(SUMIFS('2 - Import Data'!$X:$X,'2 - Import Data'!$W:$W,$B12,'2 - Import Data'!$S:$S,Lists!$L$4,'2 - Import Data'!$T:$T,Lists!$N$10),SUMIFS('2 - Import Data'!$Z:$Z,'2 - Import Data'!$Y:$Y,$B12,'2 - Import Data'!$S:$S,Lists!$L$4,'2 - Import Data'!$T:$T,Lists!$N$10),SUMIFS('2 - Import Data'!$AB:$AB,'2 - Import Data'!$AA:$AA,$B12,'2 - Import Data'!$S:$S,Lists!$L$4,'2 - Import Data'!$T:$T,Lists!$N$10),SUMIFS('2 - Import Data'!$AD:$AD,'2 - Import Data'!$AC:$AC,$B12,'2 - Import Data'!$S:$S,Lists!$L$4,'2 - Import Data'!$T:$T,Lists!$N$10))) | J12: =IF($B12="","",SUM(SUMIFS('2 - Import Data'!$X:$X,'2 - Import Data'!$W:$W,$B12,'2 - Import Data'!$S:$S,Lists!$L$4),SUMIFS('2 - Import Data'!$Z:$Z,'2 - Import Data'!$Y:$Y,$B12,'2 - Import Data'!$S:$S,Lists!$L$4),SUMIFS('2 - Import Data'!$AB:$AB,'2 - Import Data'!$AA:$AA,$B12,'2 - Import Data'!$S:$S,Lists!$L$4),SUMIFS('2 - Import Data'!$AD:$AD,'2 - Import Data'!$AC:$AC,$B12,'2 - Import Data'!$S:$S,Lists!$L$4))) | K12: =IF($B12="","",SUM(SUMIFS('2 - Import Data'!$X:$X,'2 - Import Data'!$W:$W,$B12,'2 - Import Data'!$S:$S,Lists!$L$5),SUMIFS('2 - Import Data'!$Z:$Z,'2 - Import Data'!$Y:$Y,$B12,'2 - Import Data'!$S:$S,Lists!$L$5),SUMIFS('2 - Import Data'!$AB:$AB,'2 - Import Data'!$AA:$AA,$B12,'2 - Import Data'!$S:$S,Lists!$L$5),SUMIFS('2 - Import Data'!$AD:$AD,'2 - Import Data'!$AC:$AC,$B12,'2 - Import Data'!$S:$S,Lists!$L$5)))
A13: 2 | B13: =IFERROR(VLOOKUP(A13,'Data for Summary'!$A$3:$B$44,2,0),"") | C13: =IF($B13="","",SUM(SUMIFS('2 - Import Data'!$X:$X,'2 - Import Data'!$W:$W,$B13,'2 - Import Data'!$S:$S,Lists!$L$3),SUMIFS('2 - Import Data'!$Z:$Z,'2 - Import Data'!$Y:$Y,$B13,'2 - Import Data'!$S:$S,Lists!$L$3),SUMIFS('2 - Import Data'!$AB:$AB,'2 - Import Data'!$AA:$AA,$B13,'2 - Import Data'!$S:$S,Lists!$L$3),SUMIFS('2 - Import Data'!$AD:$AD,'2 - Import Data'!$AC:$AC,$B13,'2 - Import Data'!$S:$S,Lists!$L$3))) | D13: =IF($B13="","",SUM(SUMIFS('2 - Import Data'!$X:$X,'2 - Import Data'!$W:$W,$B13,'2 - Import Data'!$S:$S,Lists!$L$3,'2 - Import Data'!$T:$T,Lists!$M$5),SUMIFS('2 - Import Data'!$Z:$Z,'2 - Import Data'!$Y:$Y,$B13,'2 - Import Data'!$S:$S,Lists!$L$3,'2 - Import Data'!$T:$T,Lists!$M$5),SUMIFS('2 - Import Data'!$AB:$AB,'2 - Import Data'!$AA:$AA,$B13,'2 - Import Data'!$S:$S,Lists!$L$3,'2 - Import Data'!$T:$T,Lists!$M$5),SUMIFS('2 - Import Data'!$AD:$AD,'2 - Import Data'!$AC:$AC,$B13,'2 - Import Data'!$S:$S,Lists!$L$3,'2 - Import Data'!$T:$T,Lists!$M$5))) | E13: =IF($B13="","",SUM(SUMIFS('2 - Import Data'!$X:$X,'2 - Import Data'!$W:$W,$B13,'2 - Import Data'!$S:$S,Lists!$L$3,'2 - Import Data'!$T:$T,Lists!$M$6),SUMIFS('2 - Import Data'!$Z:$Z,'2 - Import Data'!$Y:$Y,$B13,'2 - Import Data'!$S:$S,Lists!$L$3,'2 - Import Data'!$T:$T,Lists!$M$6),SUMIFS('2 - Import Data'!$AB:$AB,'2 - Import Data'!$AA:$AA,$B13,'2 - Import Data'!$S:$S,Lists!$L$3,'2 - Import Data'!$T:$T,Lists!$M$6),SUMIFS('2 - Import Data'!$AD:$AD,'2 - Import Data'!$AC:$AC,$B13,'2 - Import Data'!$S:$S,Lists!$L$3,'2 - Import Data'!$T:$T,Lists!$M$6))) | F13: =IF($B13="","",SUM(SUMIFS('2 - Import Data'!$X:$X,'2 - Import Data'!$W:$W,$B13,'2 - Import Data'!$S:$S,Lists!$L$3,'2 - Import Data'!$T:$T,Lists!$M$7),SUMIFS('2 - Import Data'!$Z:$Z,'2 - Import Data'!$Y:$Y,$B13,'2 - Import Data'!$S:$S,Lists!$L$3,'2 - Import Data'!$T:$T,Lists!$M$7),SUMIFS('2 - Import Data'!$AB:$AB,'2 - Import Data'!$AA:$AA,$B13,'2 - Import Data'!$S:$S,Lists!$L$3,'2 - Import Data'!$T:$T,Lists!$M$7),SUMIFS('2 - Import Data'!$AD:$AD,'2 - Import Data'!$AC:$AC,$B13,'2 - Import Data'!$S:$S,Lists!$L$3,'2 - Import Data'!$T:$T,Lists!$M$7))) | G13: =IF($B13="","",SUM(SUMIFS('2 - Import Data'!$X:$X,'2 - Import Data'!$W:$W,$B13,'2 - Import Data'!$S:$S,Lists!$L$3,'2 - Import Data'!$T:$T,Lists!$M$8),SUMIFS('2 - Import Data'!$Z:$Z,'2 - Import Data'!$Y:$Y,$B13,'2 - Import Data'!$S:$S,Lists!$L$3,'2 - Import Data'!$T:$T,Lists!$M$8),SUMIFS('2 - Import Data'!$AB:$AB,'2 - Import Data'!$AA:$AA,$B13,'2 - Import Data'!$S:$S,Lists!$L$3,'2 - Import Data'!$T:$T,Lists!$M$8),SUMIFS('2 - Import Data'!$AD:$AD,'2 - Import Data'!$AC:$AC,$B13,'2 - Import Data'!$S:$S,Lists!$L$3,'2 - Import Data'!$T:$T,Lists!$M$8))) | H13: =IF($B13="","",C13-SUM(D13:G13)) | I13: =IF($B13="","",SUM(SUMIFS('2 - Import Data'!$X:$X,'2 - Import Data'!$W:$W,$B13,'2 - Import Data'!$S:$S,Lists!$L$4,'2 - Import Data'!$T:$T,Lists!$N$10),SUMIFS('2 - Import Data'!$Z:$Z,'2 - Import Data'!$Y:$Y,$B13,'2 - Import Data'!$S:$S,Lists!$L$4,'2 - Import Data'!$T:$T,Lists!$N$10),SUMIFS('2 - Import Data'!$AB:$AB,'2 - Import Data'!$AA:$AA,$B13,'2 - Import Data'!$S:$S,Lists!$L$4,'2 - Import Data'!$T:$T,Lists!$N$10),SUMIFS('2 - Import Data'!$AD:$AD,'2 - Import Data'!$AC:$AC,$B13,'2 - Import Data'!$S:$S,Lists!$L$4,'2 - Import Data'!$T:$T,Lists!$N$10))) | J13: =IF($B13="","",SUM(SUMIFS('2 - Import Data'!$X:$X,'2 - Import Data'!$W:$W,$B13,'2 - Import Data'!$S:$S,Lists!$L$4),SUMIFS('2 - Import Data'!$Z:$Z,'2 - Import Data'!$Y:$Y,$B13,'2 - Import Data'!$S:$S,Lists!$L$4),SUMIFS('2 - Import Data'!$AB:$AB,'2 - Import Data'!$AA:$AA,$B13,'2 - Import Data'!$S:$S,Lists!$L$4),SUMIFS('2 - Import Data'!$AD:$AD,'2 - Import Data'!$AC:$AC,$B13,'2 - Import Data'!$S:$S,Lists!$L$4))) | K13: =IF($B13="","",SUM(SUMIFS('2 - Import Data'!$X:$X,'2 - Import Data'!$W:$W,$B13,'2 - Import Data'!$S:$S,Lists!$L$5),SUMIFS('2 - Import Data'!$Z:$Z,'2 - Import Data'!$Y:$Y,$B13,'2 - Import Data'!$S:$S,Lists!$L$5),SUMIFS('2 - Import Data'!$AB:$AB,'2 - Import Data'!$AA:$AA,$B13,'2 - Import Data'!$S:$S,Lists!$L$5),SUMIFS('2 - Import Data'!$AD:$AD,'2 - Import Data'!$AC:$AC,$B13,'2 - Import Data'!$S:$S,Lists!$L$5)))
A14: 3 | B14: =IFERROR(VLOOKUP(A14,'Data for Summary'!$A$3:$B$44,2,0),"") | C14: =IF($B14="","",SUM(SUMIFS('2 - Import Data'!$X:$X,'2 - Import Data'!$W:$W,$B14,'2 - Import Data'!$S:$S,Lists!$L$3),SUMIFS('2 - Import Data'!$Z:$Z,'2 - Import Data'!$Y:$Y,$B14,'2 - Import Data'!$S:$S,Lists!$L$3),SUMIFS('2 - Import Data'!$AB:$AB,'2 - Import Data'!$AA:$AA,$B14,'2 - Import Data'!$S:$S,Lists!$L$3),SUMIFS('2 - Import Data'!$AD:$AD,'2 - Import Data'!$AC:$AC,$B14,'2 - Import Data'!$S:$S,Lists!$L$3))) | D14: =IF($B14="","",SUM(SUMIFS('2 - Import Data'!$X:$X,'2 - Import Data'!$W:$W,$B14,'2 - Import Data'!$S:$S,Lists!$L$3,'2 - Import Data'!$T:$T,Lists!$M$5),SUMIFS('2 - Import Data'!$Z:$Z,'2 - Import Data'!$Y:$Y,$B14,'2 - Import Data'!$S:$S,Lists!$L$3,'2 - Import Data'!$T:$T,Lists!$M$5),SUMIFS('2 - Import Data'!$AB:$AB,'2 - Import Data'!$AA:$AA,$B14,'2 - Import Data'!$S:$S,Lists!$L$3,'2 - Import Data'!$T:$T,Lists!$M$5),SUMIFS('2 - Import Data'!$AD:$AD,'2 - Import Data'!$AC:$AC,$B14,'2 - Import Data'!$S:$S,Lists!$L$3,'2 - Import Data'!$T:$T,Lists!$M$5))) | E14: =IF($B14="","",SUM(SUMIFS('2 - Import Data'!$X:$X,'2 - Import Data'!$W:$W,$B14,'2 - Import Data'!$S:$S,Lists!$L$3,'2 - Import Data'!$T:$T,Lists!$M$6),SUMIFS('2 - Import Data'!$Z:$Z,'2 - Import Data'!$Y:$Y,$B14,'2 - Import Data'!$S:$S,Lists!$L$3,'2 - Import Data'!$T:$T,Lists!$M$6),SUMIFS('2 - Import Data'!$AB:$AB,'2 - Import Data'!$AA:$AA,$B14,'2 - Import Data'!$S:$S,Lists!$L$3,'2 - Import Data'!$T:$T,Lists!$M$6),SUMIFS('2 - Import Data'!$AD:$AD,'2 - Import Data'!$AC:$AC,$B14,'2 - Import Data'!$S:$S,Lists!$L$3,'2 - Import Data'!$T:$T,Lists!$M$6))) | F14: =IF($B14="","",SUM(SUMIFS('2 - Import Data'!$X:$X,'2 - Import Data'!$W:$W,$B14,'2 - Import Data'!$S:$S,Lists!$L$3,'2 - Import Data'!$T:$T,Lists!$M$7),SUMIFS('2 - Import Data'!$Z:$Z,'2 - Import Data'!$Y:$Y,$B14,'2 - Import Data'!$S:$S,Lists!$L$3,'2 - Import Data'!$T:$T,Lists!$M$7),SUMIFS('2 - Import Data'!$AB:$AB,'2 - Import Data'!$AA:$AA,$B14,'2 - Import Data'!$S:$S,Lists!$L$3,'2 - Import Data'!$T:$T,Lists!$M$7),SUMIFS('2 - Import Data'!$AD:$AD,'2 - Import Data'!$AC:$AC,$B14,'2 - Import Data'!$S:$S,Lists!$L$3,'2 - Import Data'!$T:$T,Lists!$M$7))) | G14: =IF($B14="","",SUM(SUMIFS('2 - Import Data'!$X:$X,'2 - Import Data'!$W:$W,$B14,'2 - Import Data'!$S:$S,Lists!$L$3,'2 - Import Data'!$T:$T,Lists!$M$8),SUMIFS('2 - Import Data'!$Z:$Z,'2 - Import Data'!$Y:$Y,$B14,'2 - Import Data'!$S:$S,Lists!$L$3,'2 - Import Data'!$T:$T,Lists!$M$8),SUMIFS('2 - Import Data'!$AB:$AB,'2 - Import Data'!$AA:$AA,$B14,'2 - Import Data'!$S:$S,Lists!$L$3,'2 - Import Data'!$T:$T,Lists!$M$8),SUMIFS('2 - Import Data'!$AD:$AD,'2 - Import Data'!$AC:$AC,$B14,'2 - Import Data'!$S:$S,Lists!$L$3,'2 - Import Data'!$T:$T,Lists!$M$8))) | H14: =IF($B14="","",C14-SUM(D14:G14)) | I14: =IF($B14="","",SUM(SUMIFS('2 - Import Data'!$X:$X,'2 - Import Data'!$W:$W,$B14,'2 - Import Data'!$S:$S,Lists!$L$4,'2 - Import Data'!$T:$T,Lists!$N$10),SUMIFS('2 - Import Data'!$Z:$Z,'2 - Import Data'!$Y:$Y,$B14,'2 - Import Data'!$S:$S,Lists!$L$4,'2 - Import Data'!$T:$T,Lists!$N$10),SUMIFS('2 - Import Data'!$AB:$AB,'2 - Import Data'!$AA:$AA,$B14,'2 - Import Data'!$S:$S,Lists!$L$4,'2 - Import Data'!$T:$T,Lists!$N$10),SUMIFS('2 - Import Data'!$AD:$AD,'2 - Import Data'!$AC:$AC,$B14,'2 - Import Data'!$S:$S,Lists!$L$4,'2 - Import Data'!$T:$T,Lists!$N$10))) | J14: =IF($B14="","",SUM(SUMIFS('2 - Import Data'!$X:$X,'2 - Import Data'!$W:$W,$B14,'2 - Import Data'!$S:$S,Lists!$L$4),SUMIFS('2 - Import Data'!$Z:$Z,'2 - Import Data'!$Y:$Y,$B14,'2 - Import Data'!$S:$S,Lists!$L$4),SUMIFS('2 - Import Data'!$AB:$AB,'2 - Import Data'!$AA:$AA,$B14,'2 - Import Data'!$S:$S,Lists!$L$4),SUMIFS('2 - Import Data'!$AD:$AD,'2 - Import Data'!$AC:$AC,$B14,'2 - Import Data'!$S:$S,Lists!$L$4))) | K14: =IF($B14="","",SUM(SUMIFS('2 - Import Data'!$X:$X,'2 - Import Data'!$W:$W,$B14,'2 - Import Data'!$S:$S,Lists!$L$5),SUMIFS('2 - Import Data'!$Z:$Z,'2 - Import Data'!$Y:$Y,$B14,'2 - Import Data'!$S:$S,Lists!$L$5),SUMIFS('2 - Import Data'!$AB:$AB,'2 - Import Data'!$AA:$AA,$B14,'2 - Import Data'!$S:$S,Lists!$L$5),SUMIFS('2 - Import Data'!$AD:$AD,'2 - Import Data'!$AC:$AC,$B14,'2 - Import Data'!$S:$S,Lists!$L$5)))
A15: 4 | B15: =IFERROR(VLOOKUP(A15,'Data for Summary'!$A$3:$B$44,2,0),"") | C15: =IF($B15="","",SUM(SUMIFS('2 - Import Data'!$X:$X,'2 - Import Data'!$W:$W,$B15,'2 - Import Data'!$S:$S,Lists!$L$3),SUMIFS('2 - Import Data'!$Z:$Z,'2 - Import Data'!$Y:$Y,$B15,'2 - Import Data'!$S:$S,Lists!$L$3),SUMIFS('2 - Import Data'!$AB:$AB,'2 - Import Data'!$AA:$AA,$B15,'2 - Import Data'!$S:$S,Lists!$L$3),SUMIFS('2 - Import Data'!$AD:$AD,'2 - Import Data'!$AC:$AC,$B15,'2 - Import Data'!$S:$S,Lists!$L$3))) | D15: =IF($B15="","",SUM(SUMIFS('2 - Import Data'!$X:$X,'2 - Import Data'!$W:$W,$B15,'2 - Import Data'!$S:$S,Lists!$L$3,'2 - Import Data'!$T:$T,Lists!$M$5),SUMIFS('2 - Import Data'!$Z:$Z,'2 - Import Data'!$Y:$Y,$B15,'2 - Import Data'!$S:$S,Lists!$L$3,'2 - Import Data'!$T:$T,Lists!$M$5),SUMIFS('2 - Import Data'!$AB:$AB,'2 - Import Data'!$AA:$AA,$B15,'2 - Import Data'!$S:$S,Lists!$L$3,'2 - Import Data'!$T:$T,Lists!$M$5),SUMIFS('2 - Import Data'!$AD:$AD,'2 - Import Data'!$AC:$AC,$B15,'2 - Import Data'!$S:$S,Lists!$L$3,'2 - Import Data'!$T:$T,Lists!$M$5))) | E15: =IF($B15="","",SUM(SUMIFS('2 - Import Data'!$X:$X,'2 - Import Data'!$W:$W,$B15,'2 - Import Data'!$S:$S,Lists!$L$3,'2 - Import Data'!$T:$T,Lists!$M$6),SUMIFS('2 - Import Data'!$Z:$Z,'2 - Import Data'!$Y:$Y,$B15,'2 - Import Data'!$S:$S,Lists!$L$3,'2 - Import Data'!$T:$T,Lists!$M$6),SUMIFS('2 - Import Data'!$AB:$AB,'2 - Import Data'!$AA:$AA,$B15,'2 - Import Data'!$S:$S,Lists!$L$3,'2 - Import Data'!$T:$T,Lists!$M$6),SUMIFS('2 - Import Data'!$AD:$AD,'2 - Import Data'!$AC:$AC,$B15,'2 - Import Data'!$S:$S,Lists!$L$3,'2 - Import Data'!$T:$T,Lists!$M$6))) | F15: =IF($B15="","",SUM(SUMIFS('2 - Import Data'!$X:$X,'2 - Import Data'!$W:$W,$B15,'2 - Import Data'!$S:$S,Lists!$L$3,'2 - Import Data'!$T:$T,Lists!$M$7),SUMIFS('2 - Import Data'!$Z:$Z,'2 - Import Data'!$Y:$Y,$B15,'2 - Import Data'!$S:$S,Lists!$L$3,'2 - Import Data'!$T:$T,Lists!$M$7),SUMIFS('2 - Import Data'!$AB:$AB,'2 - Import Data'!$AA:$AA,$B15,'2 - Import Data'!$S:$S,Lists!$L$3,'2 - Import Data'!$T:$T,Lists!$M$7),SUMIFS('2 - Import Data'!$AD:$AD,'2 - Import Data'!$AC:$AC,$B15,'2 - Import Data'!$S:$S,Lists!$L$3,'2 - Import Data'!$T:$T,Lists!$M$7))) | G15: =IF($B15="","",SUM(SUMIFS('2 - Import Data'!$X:$X,'2 - Import Data'!$W:$W,$B15,'2 - Import Data'!$S:$S,Lists!$L$3,'2 - Import Data'!$T:$T,Lists!$M$8),SUMIFS('2 - Import Data'!$Z:$Z,'2 - Import Data'!$Y:$Y,$B15,'2 - Import Data'!$S:$S,Lists!$L$3,'2 - Import Data'!$T:$T,Lists!$M$8),SUMIFS('2 - Import Data'!$AB:$AB,'2 - Import Data'!$AA:$AA,$B15,'2 - Import Data'!$S:$S,Lists!$L$3,'2 - Import Data'!$T:$T,Lists!$M$8),SUMIFS('2 - Import Data'!$AD:$AD,'2 - Import Data'!$AC:$AC,$B15,'2 - Import Data'!$S:$S,Lists!$L$3,'2 - Import Data'!$T:$T,Lists!$M$8))) | H15: =IF($B15="","",C15-SUM(D15:G15)) | I15: =IF($B15="","",SUM(SUMIFS('2 - Import Data'!$X:$X,'2 - Import Data'!$W:$W,$B15,'2 - Import Data'!$S:$S,Lists!$L$4,'2 - Import Data'!$T:$T,Lists!$N$10),SUMIFS('2 - Import Data'!$Z:$Z,'2 - Import Data'!$Y:$Y,$B15,'2 - Import Data'!$S:$S,Lists!$L$4,'2 - Import Data'!$T:$T,Lists!$N$10),SUMIFS('2 - Import Data'!$AB:$AB,'2 - Import Data'!$AA:$AA,$B15,'2 - Import Data'!$S:$S,Lists!$L$4,'2 - Import Data'!$T:$T,Lists!$N$10),SUMIFS('2 - Import Data'!$AD:$AD,'2 - Import Data'!$AC:$AC,$B15,'2 - Import Data'!$S:$S,Lists!$L$4,'2 - Import Data'!$T:$T,Lists!$N$10))) | J15: =IF($B15="","",SUM(SUMIFS('2 - Import Data'!$X:$X,'2 - Import Data'!$W:$W,$B15,'2 - Import Data'!$S:$S,Lists!$L$4),SUMIFS('2 - Import Data'!$Z:$Z,'2 - Import Data'!$Y:$Y,$B15,'2 - Import Data'!$S:$S,Lists!$L$4),SUMIFS('2 - Import Data'!$AB:$AB,'2 - Import Data'!$AA:$AA,$B15,'2 - Import Data'!$S:$S,Lists!$L$4),SUMIFS('2 - Import Data'!$AD:$AD,'2 - Import Data'!$AC:$AC,$B15,'2 - Import Data'!$S:$S,Lists!$L$4))) | K15: =IF($B15="","",SUM(SUMIFS('2 - Import Data'!$X:$X,'2 - Import Data'!$W:$W,$B15,'2 - Import Data'!$S:$S,Lists!$L$5),SUMIFS('2 - Import Data'!$Z:$Z,'2 - Import Data'!$Y:$Y,$B15,'2 - Import Data'!$S:$S,Lists!$L$5),SUMIFS('2 - Import Data'!$AB:$AB,'2 - Import Data'!$AA:$AA,$B15,'2 - Import Data'!$S:$S,Lists!$L$5),SUMIFS('2 - Import Data'!$AD:$AD,'2 - Import Data'!$AC:$AC,$B15,'2 - Import Data'!$S:$S,Lists!$L$5)))
A16: 5 | B16: =IFERROR(VLOOKUP(A16,'Data for Summary'!$A$3:$B$44,2,0),"") | C16: =IF($B16="","",SUM(SUMIFS('2 - Import Data'!$X:$X,'2 - Import Data'!$W:$W,$B16,'2 - Import Data'!$S:$S,Lists!$L$3),SUMIFS('2 - Import Data'!$Z:$Z,'2 - Import Data'!$Y:$Y,$B16,'2 - Import Data'!$S:$S,Lists!$L$3),SUMIFS('2 - Import Data'!$AB:$AB,'2 - Import Data'!$AA:$AA,$B16,'2 - Import Data'!$S:$S,Lists!$L$3),SUMIFS('2 - Import Data'!$AD:$AD,'2 - Import Data'!$AC:$AC,$B16,'2 - Import Data'!$S:$S,Lists!$L$3))) | D16: =IF($B16="","",SUM(SUMIFS('2 - Import Data'!$X:$X,'2 - Import Data'!$W:$W,$B16,'2 - Import Data'!$S:$S,Lists!$L$3,'2 - Import Data'!$T:$T,Lists!$M$5),SUMIFS('2 - Import Data'!$Z:$Z,'2 - Import Data'!$Y:$Y,$B16,'2 - Import Data'!$S:$S,Lists!$L$3,'2 - Import Data'!$T:$T,Lists!$M$5),SUMIFS('2 - Import Data'!$AB:$AB,'2 - Import Data'!$AA:$AA,$B16,'2 - Import Data'!$S:$S,Lists!$L$3,'2 - Import Data'!$T:$T,Lists!$M$5),SUMIFS('2 - Import Data'!$AD:$AD,'2 - Import Data'!$AC:$AC,$B16,'2 - Import Data'!$S:$S,Lists!$L$3,'2 - Import Data'!$T:$T,Lists!$M$5))) | E16: =IF($B16="","",SUM(SUMIFS('2 - Import Data'!$X:$X,'2 - Import Data'!$W:$W,$B16,'2 - Import Data'!$S:$S,Lists!$L$3,'2 - Import Data'!$T:$T,Lists!$M$6),SUMIFS('2 - Import Data'!$Z:$Z,'2 - Import Data'!$Y:$Y,$B16,'2 - Import Data'!$S:$S,Lists!$L$3,'2 - Import Data'!$T:$T,Lists!$M$6),SUMIFS('2 - Import Data'!$AB:$AB,'2 - Import Data'!$AA:$AA,$B16,'2 - Import Data'!$S:$S,Lists!$L$3,'2 - Import Data'!$T:$T,Lists!$M$6),SUMIFS('2 - Import Data'!$AD:$AD,'2 - Import Data'!$AC:$AC,$B16,'2 - Import Data'!$S:$S,Lists!$L$3,'2 - Import Data'!$T:$T,Lists!$M$6))) | F16: =IF($B16="","",SUM(SUMIFS('2 - Import Data'!$X:$X,'2 - Import Data'!$W:$W,$B16,'2 - Import Data'!$S:$S,Lists!$L$3,'2 - Import Data'!$T:$T,Lists!$M$7),SUMIFS('2 - Import Data'!$Z:$Z,'2 - Import Data'!$Y:$Y,$B16,'2 - Import Data'!$S:$S,Lists!$L$3,'2 - Import Data'!$T:$T,Lists!$M$7),SUMIFS('2 - Import Data'!$AB:$AB,'2 - Import Data'!$AA:$AA,$B16,'2 - Import Data'!$S:$S,Lists!$L$3,'2 - Import Data'!$T:$T,Lists!$M$7),SUMIFS('2 - Import Data'!$AD:$AD,'2 - Import Data'!$AC:$AC,$B16,'2 - Import Data'!$S:$S,Lists!$L$3,'2 - Import Data'!$T:$T,Lists!$M$7))) | G16: =IF($B16="","",SUM(SUMIFS('2 - Import Data'!$X:$X,'2 - Import Data'!$W:$W,$B16,'2 - Import Data'!$S:$S,Lists!$L$3,'2 - Import Data'!$T:$T,Lists!$M$8),SUMIFS('2 - Import Data'!$Z:$Z,'2 - Import Data'!$Y:$Y,$B16,'2 - Import Data'!$S:$S,Lists!$L$3,'2 - Import Data'!$T:$T,Lists!$M$8),SUMIFS('2 - Import Data'!$AB:$AB,'2 - Import Data'!$AA:$AA,$B16,'2 - Import Data'!$S:$S,Lists!$L$3,'2 - Import Data'!$T:$T,Lists!$M$8),SUMIFS('2 - Import Data'!$AD:$AD,'2 - Import Data'!$AC:$AC,$B16,'2 - Import Data'!$S:$S,Lists!$L$3,'2 - Import Data'!$T:$T,Lists!$M$8))) | H16: =IF($B16="","",C16-SUM(D16:G16)) | I16: =IF($B16="","",SUM(SUMIFS('2 - Import Data'!$X:$X,'2 - Import Data'!$W:$W,$B16,'2 - Import Data'!$S:$S,Lists!$L$4,'2 - Import Data'!$T:$T,Lists!$N$10),SUMIFS('2 - Import Data'!$Z:$Z,'2 - Import Data'!$Y:$Y,$B16,'2 - Import Data'!$S:$S,Lists!$L$4,'2 - Import Data'!$T:$T,Lists!$N$10),SUMIFS('2 - Import Data'!$AB:$AB,'2 - Import Data'!$AA:$AA,$B16,'2 - Import Data'!$S:$S,Lists!$L$4,'2 - Import Data'!$T:$T,Lists!$N$10),SUMIFS('2 - Import Data'!$AD:$AD,'2 - Import Data'!$AC:$AC,$B16,'2 - Import Data'!$S:$S,Lists!$L$4,'2 - Import Data'!$T:$T,Lists!$N$10))) | J16: =IF($B16="","",SUM(SUMIFS('2 - Import Data'!$X:$X,'2 - Import Data'!$W:$W,$B16,'2 - Import Data'!$S:$S,Lists!$L$4),SUMIFS('2 - Import Data'!$Z:$Z,'2 - Import Data'!$Y:$Y,$B16,'2 - Import Data'!$S:$S,Lists!$L$4),SUMIFS('2 - Import Data'!$AB:$AB,'2 - Import Data'!$AA:$AA,$B16,'2 - Import Data'!$S:$S,Lists!$L$4),SUMIFS('2 - Import Data'!$AD:$AD,'2 - Import Data'!$AC:$AC,$B16,'2 - Import Data'!$S:$S,Lists!$L$4))) | K16: =IF($B16="","",SUM(SUMIFS('2 - Import Data'!$X:$X,'2 - Import Data'!$W:$W,$B16,'2 - Import Data'!$S:$S,Lists!$L$5),SUMIFS('2 - Import Data'!$Z:$Z,'2 - Import Data'!$Y:$Y,$B16,'2 - Import Data'!$S:$S,Lists!$L$5),SUMIFS('2 - Import Data'!$AB:$AB,'2 - Import Data'!$AA:$AA,$B16,'2 - Import Data'!$S:$S,Lists!$L$5),SUMIFS('2 - Import Data'!$AD:$AD,'2 - Import Data'!$AC:$AC,$B16,'2 - Import Data'!$S:$S,Lists!$L$5)))
A17: 6 | B17: =IFERROR(VLOOKUP(A17,'Data for Summary'!$A$3:$B$44,2,0),"") | C17: =IF($B17="","",SUM(SUMIFS('2 - Import Data'!$X:$X,'2 - Import Data'!$W:$W,$B17,'2 - Import Data'!$S:$S,Lists!$L$3),SUMIFS('2 - Import Data'!$Z:$Z,'2 - Import Data'!$Y:$Y,$B17,'2 - Import Data'!$S:$S,Lists!$L$3),SUMIFS('2 - Import Data'!$AB:$AB,'2 - Import Data'!$AA:$AA,$B17,'2 - Import Data'!$S:$S,Lists!$L$3),SUMIFS('2 - Import Data'!$AD:$AD,'2 - Import Data'!$AC:$AC,$B17,'2 - Import Data'!$S:$S,Lists!$L$3))) | D17: =IF($B17="","",SUM(SUMIFS('2 - Import Data'!$X:$X,'2 - Import Data'!$W:$W,$B17,'2 - Import Data'!$S:$S,Lists!$L$3,'2 - Import Data'!$T:$T,Lists!$M$5),SUMIFS('2 - Import Data'!$Z:$Z,'2 - Import Data'!$Y:$Y,$B17,'2 - Import Data'!$S:$S,Lists!$L$3,'2 - Import Data'!$T:$T,Lists!$M$5),SUMIFS('2 - Import Data'!$AB:$AB,'2 - Import Data'!$AA:$AA,$B17,'2 - Import Data'!$S:$S,Lists!$L$3,'2 - Import Data'!$T:$T,Lists!$M$5),SUMIFS('2 - Import Data'!$AD:$AD,'2 - Import Data'!$AC:$AC,$B17,'2 - Import Data'!$S:$S,Lists!$L$3,'2 - Import Data'!$T:$T,Lists!$M$5))) | E17: =IF($B17="","",SUM(SUMIFS('2 - Import Data'!$X:$X,'2 - Import Data'!$W:$W,$B17,'2 - Import Data'!$S:$S,Lists!$L$3,'2 - Import Data'!$T:$T,Lists!$M$6),SUMIFS('2 - Import Data'!$Z:$Z,'2 - Import Data'!$Y:$Y,$B17,'2 - Import Data'!$S:$S,Lists!$L$3,'2 - Import Data'!$T:$T,Lists!$M$6),SUMIFS('2 - Import Data'!$AB:$AB,'2 - Import Data'!$AA:$AA,$B17,'2 - Import Data'!$S:$S,Lists!$L$3,'2 - Import Data'!$T:$T,Lists!$M$6),SUMIFS('2 - Import Data'!$AD:$AD,'2 - Import Data'!$AC:$AC,$B17,'2 - Import Data'!$S:$S,Lists!$L$3,'2 - Import Data'!$T:$T,Lists!$M$6))) | F17: =IF($B17="","",SUM(SUMIFS('2 - Import Data'!$X:$X,'2 - Import Data'!$W:$W,$B17,'2 - Import Data'!$S:$S,Lists!$L$3,'2 - Import Data'!$T:$T,Lists!$M$7),SUMIFS('2 - Import Data'!$Z:$Z,'2 - Import Data'!$Y:$Y,$B17,'2 - Import Data'!$S:$S,Lists!$L$3,'2 - Import Data'!$T:$T,Lists!$M$7),SUMIFS('2 - Import Data'!$AB:$AB,'2 - Import Data'!$AA:$AA,$B17,'2 - Import Data'!$S:$S,Lists!$L$3,'2 - Import Data'!$T:$T,Lists!$M$7),SUMIFS('2 - Import Data'!$AD:$AD,'2 - Import Data'!$AC:$AC,$B17,'2 - Import Data'!$S:$S,Lists!$L$3,'2 - Import Data'!$T:$T,Lists!$M$7))) | G17: =IF($B17="","",SUM(SUMIFS('2 - Import Data'!$X:$X,'2 - Import Data'!$W:$W,$B17,'2 - Import Data'!$S:$S,Lists!$L$3,'2 - Import Data'!$T:$T,Lists!$M$8),SUMIFS('2 - Import Data'!$Z:$Z,'2 - Import Data'!$Y:$Y,$B17,'2 - Import Data'!$S:$S,Lists!$L$3,'2 - Import Data'!$T:$T,Lists!$M$8),SUMIFS('2 - Import Data'!$AB:$AB,'2 - Import Data'!$AA:$AA,$B17,'2 - Import Data'!$S:$S,Lists!$L$3,'2 - Import Data'!$T:$T,Lists!$M$8),SUMIFS('2 - Import Data'!$AD:$AD,'2 - Import Data'!$AC:$AC,$B17,'2 - Import Data'!$S:$S,Lists!$L$3,'2 - Import Data'!$T:$T,Lists!$M$8))) | H17: =IF($B17="","",C17-SUM(D17:G17)) | I17: =IF($B17="","",SUM(SUMIFS('2 - Import Data'!$X:$X,'2 - Import Data'!$W:$W,$B17,'2 - Import Data'!$S:$S,Lists!$L$4,'2 - Import Data'!$T:$T,Lists!$N$10),SUMIFS('2 - Import Data'!$Z:$Z,'2 - Import Data'!$Y:$Y,$B17,'2 - Import Data'!$S:$S,Lists!$L$4,'2 - Import Data'!$T:$T,Lists!$N$10),SUMIFS('2 - Import Data'!$AB:$AB,'2 - Import Data'!$AA:$AA,$B17,'2 - Import Data'!$S:$S,Lists!$L$4,'2 - Import Data'!$T:$T,Lists!$N$10),SUMIFS('2 - Import Data'!$AD:$AD,'2 - Import Data'!$AC:$AC,$B17,'2 - Import Data'!$S:$S,Lists!$L$4,'2 - Import Data'!$T:$T,Lists!$N$10))) | J17: =IF($B17="","",SUM(SUMIFS('2 - Import Data'!$X:$X,'2 - Import Data'!$W:$W,$B17,'2 - Import Data'!$S:$S,Lists!$L$4),SUMIFS('2 - Import Data'!$Z:$Z,'2 - Import Data'!$Y:$Y,$B17,'2 - Import Data'!$S:$S,Lists!$L$4),SUMIFS('2 - Import Data'!$AB:$AB,'2 - Import Data'!$AA:$AA,$B17,'2 - Import Data'!$S:$S,Lists!$L$4),SUMIFS('2 - Import Data'!$AD:$AD,'2 - Import Data'!$AC:$AC,$B17,'2 - Import Data'!$S:$S,Lists!$L$4))) | K17: =IF($B17="","",SUM(SUMIFS('2 - Import Data'!$X:$X,'2 - Import Data'!$W:$W,$B17,'2 - Import Data'!$S:$S,Lists!$L$5),SUMIFS('2 - Import Data'!$Z:$Z,'2 - Import Data'!$Y:$Y,$B17,'2 - Import Data'!$S:$S,Lists!$L$5),SUMIFS('2 - Import Data'!$AB:$AB,'2 - Import Data'!$AA:$AA,$B17,'2 - Import Data'!$S:$S,Lists!$L$5),SUMIFS('2 - Import Data'!$AD:$AD,'2 - Import Data'!$AC:$AC,$B17,'2 - Import Data'!$S:$S,Lists!$L$5)))
A18: 7 | B18: =IFERROR(VLOOKUP(A18,'Data for Summary'!$A$3:$B$44,2,0),"") | C18: =IF($B18="","",SUM(SUMIFS('2 - Import Data'!$X:$X,'2 - Import Data'!$W:$W,$B18,'2 - Import Data'!$S:$S,Lists!$L$3),SUMIFS('2 - Import Data'!$Z:$Z,'2 - Import Data'!$Y:$Y,$B18,'2 - Import Data'!$S:$S,Lists!$L$3),SUMIFS('2 - Import Data'!$AB:$AB,'2 - Import Data'!$AA:$AA,$B18,'2 - Import Data'!$S:$S,Lists!$L$3),SUMIFS('2 - Import Data'!$AD:$AD,'2 - Import Data'!$AC:$AC,$B18,'2 - Import Data'!$S:$S,Lists!$L$3))) | D18: =IF($B18="","",SUM(SUMIFS('2 - Import Data'!$X:$X,'2 - Import Data'!$W:$W,$B18,'2 - Import Data'!$S:$S,Lists!$L$3,'2 - Import Data'!$T:$T,Lists!$M$5),SUMIFS('2 - Import Data'!$Z:$Z,'2 - Import Data'!$Y:$Y,$B18,'2 - Import Data'!$S:$S,Lists!$L$3,'2 - Import Data'!$T:$T,Lists!$M$5),SUMIFS('2 - Import Data'!$AB:$AB,'2 - Import Data'!$AA:$AA,$B18,'2 - Import Data'!$S:$S,Lists!$L$3,'2 - Import Data'!$T:$T,Lists!$M$5),SUMIFS('2 - Import Data'!$AD:$AD,'2 - Import Data'!$AC:$AC,$B18,'2 - Import Data'!$S:$S,Lists!$L$3,'2 - Import Data'!$T:$T,Lists!$M$5))) | E18: =IF($B18="","",SUM(SUMIFS('2 - Import Data'!$X:$X,'2 - Import Data'!$W:$W,$B18,'2 - Import Data'!$S:$S,Lists!$L$3,'2 - Import Data'!$T:$T,Lists!$M$6),SUMIFS('2 - Import Data'!$Z:$Z,'2 - Import Data'!$Y:$Y,$B18,'2 - Import Data'!$S:$S,Lists!$L$3,'2 - Import Data'!$T:$T,Lists!$M$6),SUMIFS('2 - Import Data'!$AB:$AB,'2 - Import Data'!$AA:$AA,$B18,'2 - Import Data'!$S:$S,Lists!$L$3,'2 - Import Data'!$T:$T,Lists!$M$6),SUMIFS('2 - Import Data'!$AD:$AD,'2 - Import Data'!$AC:$AC,$B18,'2 - Import Data'!$S:$S,Lists!$L$3,'2 - Import Data'!$T:$T,Lists!$M$6))) | F18: =IF($B18="","",SUM(SUMIFS('2 - Import Data'!$X:$X,'2 - Import Data'!$W:$W,$B18,'2 - Import Data'!$S:$S,Lists!$L$3,'2 - Import Data'!$T:$T,Lists!$M$7),SUMIFS('2 - Import Data'!$Z:$Z,'2 - Import Data'!$Y:$Y,$B18,'2 - Import Data'!$S:$S,Lists!$L$3,'2 - Import Data'!$T:$T,Lists!$M$7),SUMIFS('2 - Import Data'!$AB:$AB,'2 - Import Data'!$AA:$AA,$B18,'2 - Import Data'!$S:$S,Lists!$L$3,'2 - Import Data'!$T:$T,Lists!$M$7),SUMIFS('2 - Import Data'!$AD:$AD,'2 - Import Data'!$AC:$AC,$B18,'2 - Import Data'!$S:$S,Lists!$L$3,'2 - Import Data'!$T:$T,Lists!$M$7))) | G18: =IF($B18="","",SUM(SUMIFS('2 - Import Data'!$X:$X,'2 - Import Data'!$W:$W,$B18,'2 - Import Data'!$S:$S,Lists!$L$3,'2 - Import Data'!$T:$T,Lists!$M$8),SUMIFS('2 - Import Data'!$Z:$Z,'2 - Import Data'!$Y:$Y,$B18,'2 - Import Data'!$S:$S,Lists!$L$3,'2 - Import Data'!$T:$T,Lists!$M$8),SUMIFS('2 - Import Data'!$AB:$AB,'2 - Import Data'!$AA:$AA,$B18,'2 - Import Data'!$S:$S,Lists!$L$3,'2 - Import Data'!$T:$T,Lists!$M$8),SUMIFS('2 - Import Data'!$AD:$AD,'2 - Import Data'!$AC:$AC,$B18,'2 - Import Data'!$S:$S,Lists!$L$3,'2 - Import Data'!$T:$T,Lists!$M$8))) | H18: =IF($B18="","",C18-SUM(D18:G18)) | I18: =IF($B18="","",SUM(SUMIFS('2 - Import Data'!$X:$X,'2 - Import Data'!$W:$W,$B18,'2 - Import Data'!$S:$S,Lists!$L$4,'2 - Import Data'!$T:$T,Lists!$N$10),SUMIFS('2 - Import Data'!$Z:$Z,'2 - Import Data'!$Y:$Y,$B18,'2 - Import Data'!$S:$S,Lists!$L$4,'2 - Import Data'!$T:$T,Lists!$N$10),SUMIFS('2 - Import Data'!$AB:$AB,'2 - Import Data'!$AA:$AA,$B18,'2 - Import Data'!$S:$S,Lists!$L$4,'2 - Import Data'!$T:$T,Lists!$N$10),SUMIFS('2 - Import Data'!$AD:$AD,'2 - Import Data'!$AC:$AC,$B18,'2 - Import Data'!$S:$S,Lists!$L$4,'2 - Import Data'!$T:$T,Lists!$N$10))) | J18: =IF($B18="","",SUM(SUMIFS('2 - Import Data'!$X:$X,'2 - Import Data'!$W:$W,$B18,'2 - Import Data'!$S:$S,Lists!$L$4),SUMIFS('2 - Import Data'!$Z:$Z,'2 - Import Data'!$Y:$Y,$B18,'2 - Import Data'!$S:$S,Lists!$L$4),SUMIFS('2 - Import Data'!$AB:$AB,'2 - Import Data'!$AA:$AA,$B18,'2 - Import Data'!$S:$S,Lists!$L$4),SUMIFS('2 - Import Data'!$AD:$AD,'2 - Import Data'!$AC:$AC,$B18,'2 - Import Data'!$S:$S,Lists!$L$4))) | K18: =IF($B18="","",SUM(SUMIFS('2 - Import Data'!$X:$X,'2 - Import Data'!$W:$W,$B18,'2 - Import Data'!$S:$S,Lists!$L$5),SUMIFS('2 - Import Data'!$Z:$Z,'2 - Import Data'!$Y:$Y,$B18,'2 - Import Data'!$S:$S,Lists!$L$5),SUMIFS('2 - Import Data'!$AB:$AB,'2 - Import Data'!$AA:$AA,$B18,'2 - Import Data'!$S:$S,Lists!$L$5),SUMIFS('2 - Import Data'!$AD:$AD,'2 - Import Data'!$AC:$AC,$B18,'2 - Import Data'!$S:$S,Lists!$L$5)))
