Workbook
Name AllError: #REF!
Name ChemAllowances: Lists!$C$2
Name ChemName: '2 - Export Data'!$K$1
Name ClassIChemicals: Lists!#REF!
Name ClassIIAllowanceTypes: Lists!#REF!
Name ClassIIChemAllowance: Lists!$C$3:$C$4
Name ClassIIChemicals: Lists!#REF!
Name ClassIPurpose: Lists!#REF!
Name CompaniesWithAllowances: Lists!#REF!
Name CompName: #REF!
Name Countries: Lists!$E$3:$E$204
Name CSVDate: Lists!#REF!
Name DateofExport: #REF!
Name DatePurchased: #REF!
Name EINCol: '2 - Export Data'!$O$1
Name EINNum: '2 - Export Data'!$O$2
Name EndRowS2: '2 - Export Data'!#REF!
Name HeelsIntendedUses: Lists!$C$4:$C$4
Name LastCol: #REF!
Name LastRow: #REF!
Name LockStatus: Instructions!$H$15
Name MeBrPurpose: Lists!#REF!
Name MeBrTransactionType: Lists!#REF!
Name NotBlendBreakout: [1]Lists!$D$3:$D$40
Name ProduceImport: #REF!
Name Purpose: Lists!#REF!
Name ReportingQuarter: Lists!#REF!
Name ReportingYear: Lists!$B$3:$B$7
Name ReportType: Lists!#REF!
Name ReportYr: '1 - Report Identification'!$C$10
Name RowComplete: #REF!
Name Sec1Status: #REF!
Name Sec2Error: #REF!
Name Sec2Filled: #REF!
Name Sec2NegNumber: #REF!
Name SourceCountry: #REF!
Name StartRowS2: '2 - Export Data'!#REF!
Name SubmissionType: Lists!#REF!
Name SubTSelection: '1 - Report Identification'!#REF!
Name Table2: Lists!$C$3:$C$6
Name ValidChemical: #REF!
Name ValidCountry: #REF!
Name ValidState: #REF!
Name VersionNumber: Lists!#REF!

Sheet Instructions
B1: U.S. Environmental Protection Agency (EPA) | D1: OMB Control Number: 2060-0170
D2: Expiration Date: 8/31/2027
B4: Clean Air Act - Request for Additional Class II Consumption Allowances Report
B5: Worksheet Instructions:
B6: Complete and submit a Request for Additional Class II Consumption Allowances Report if your company is requesting additional consumption allowances following the export of class II ozone depleting substances (ODS). Additional consumption allowances may only be requested for exports that have occurred during the current calendar year. All refunded allowances must also be expended in the same calendar year. Section 1 and 2 of the report must be completed prior to submission.
B7: Version:
B8: 6
B9: Updated:
B10: 46280
B11: External Links:
B12: ODS Recordkeeping and Reporting webpage
B13: Reporting Form Navigation:
B14: Section 1 - Report Identification
B15: Section 2 - Export Data
B16: Section 3 - Summary
B18: All information submitted to EPA will be treated as confidential in accordance with 40 CFR Part 2, Subpart B, and will only be disclosed by the means set forth in the subpart.
B20: This collection of information is approved by OMB under the Paperwork Reduction Act, 44 U.S.C. 3501 et seq. (OMB Control No. 2060-0170). Responses to this collection of information are mandatory (40 CFR 82.20). An agency may not conduct or sponsor, and a person is not required to respond to, a collection of information unless it displays a currently valid OMB control number. The number and expiration date are displayed in the upper right corner of the form. The public reporting and recordkeeping burden for this collection of information is estimated to be 4 hours per response. Send comments on the Agency’s need this formation, the accuracy of the provided burden estimates and any suggested methods for minimizing respondent burden including through the use of automated collection techniques to the Director, Regulatory Support Division, U.S. Environmental Protection Agency (2821T), 1200 Pennsylvania Ave., NW, Washington, D.C. 20460. Include the OMB control number in any correspondence. Do not send the completed form to this address.
B30: EPA Form #5900-201

Sheet 1 - Report Identification
B1: U.S. Environmental Protection Agency (EPA) | D1: OMB Control Number: 2060-0170
D2: Expiration Date: 8/31/2027
B4: Clean Air Act - Request for Additional Class II Consumption Allowances Report
B5: Go to Section 2 - Export Data
B7: Section 1 - Report Identification Information
B8: Instructions: Complete the following company information.
B9: Company Name
B10: Reporting Year
B11: Employer Identification Number (EIN)

Sheet 2 - Export Data
B1: U.S. Environmental Protection Agency (EPA) | S1: OMB Control Number: 2060-0170
O2: =IF('1 - Report Identification'!C11=0,"",'1 - Report Identification'!C11) | S2: Expiration Date: 8/31/2027
B4: Clean Air Act - Request for Additional Class II Consumption Allowances Report
B5: Go to Section 3 - Summary
B7: Section 2 - Export Transaction Data
B8: Instructions: Enter export transaction data for each class II controlled substance for which additional consumption allowances are being requested. For all export transactions, all fields are required unless otherwise indicated. If the material was produced or imported by a company other than the exporter, a written statement from the producer or importer stating that the material was produced or imported with expended allowances must be provided to EPA along with the submission of this report. Additionally, for each export transaction, a copy of the invoice and bill of lading documenting the sale and indicating the net quantity shipped must be provided to EPA.
B9: Class II Export Information
B10: 1 | C10: 2 | D10: 3 | E10: 4 | F10: 5 | G10: 6 | H10: 7 | I10: 8 | J10: 9 | K10: 10 | L10: 11 | M10: 12 | N10: 13 | O10: 14 | P10: 15 | Q10: 16a | R10: 16b | S10: 17
B11: Transaction Number | C11: Date of Export | D11: Recipient Company | E11: Recipient Company Street Address | F11: Recipient Company City | G11: Recipient Company Country | H11: Recipient Company Postal Code | I11: Recipient Company Contact Name | J11: Recipient Company Phone Number | K11: Name of the Class II Chemical Exported | L11: Quantity of the Class II Chemical Exported (kg) | M11: Commodity Code | N11: Port of Exit from the United States | O11: Shipment EIN | P11: If Produced in the U.S. | Q11: If Imported into the U.S.
P12: Company that Produced the Class II Chemical | Q12: Company that Imported the Class II Chemical | R12: Source Country | S12: Date Purchased
A13: 1 | B13: =IF(K13="","",1)
A14: 2 | B14: =IF(K14="","",MAX($B$13:B13)+1)
A15: 3 | B15: =IF(K15="","",MAX($B$13:B14)+1)
A16: 4 | B16: =IF(K16="","",MAX($B$13:B15)+1)
A17: 5 | B17: =IF(K17="","",MAX($B$13:B16)+1)
A18: 6 | B18: =IF(K18="","",MAX($B$13:B17)+1)
A19: 7 | B19: =IF(K19="","",MAX($B$13:B18)+1)
A20: 8 | B20: =IF(K20="","",MAX($B$13:B19)+1)
A21: 9 | B21: =IF(K21="","",MAX($B$13:B20)+1)
A22: 10 | B22: =IF(K22="","",MAX($B$13:B21)+1)
A23: 11 | B23: =IF(K23="","",MAX($B$13:B22)+1)
A24: 12 | B24: =IF(K24="","",MAX($B$13:B23)+1)
A25: 13 | B25: =IF(K25="","",MAX($B$13:B24)+1)
... A212: 200 | B212: =IF(K212="","",MAX($B$13:B211)+1)
G213: x | K213: x | R213: x

Sheet 3 - Summary
B1: U.S. Environmental Protection Agency (EPA) | D1: OMB Control Number: 2060-0170
D2: Expiration Date: 8/31/2027
B4: Clean Air Act - Request for Additional Class II Consumption Allowances Report
B6: Section 3 - Summary
B7: The values in the table below are calculated based on data entered in Section 2. If the totals appear to be incorrect, please return to Section 2 to review your data.
B8: Summary of Allowances Requested
B9: 1 | C9: 2
B10: Chemical Name | C10: Total Consumption Allowances Requested (kg)
A11: 1 | B11: =IF(F11>0,E11,IF(F12>0,E12,"")) | C11: =IF(B11="","",SUMIF('2 - Export Data'!$K$13:$K$212,B11,'2 - Export Data'!$L$13:$L$212)) | E11: HCFC-123 | F11: =IF(E11="","",SUMIF('2 - Export Data'!$K$13:$K$212,E11,'2 - Export Data'!$L$13:$L$212)) -> 0
A12: 2 | B12: =IF(AND(F11>0,F12>0),E12,"") | C12: =IF(B12="","",SUMIF('2 - Export Data'!$K$13:$K$212,B12,'2 - Export Data'!$L$13:$L$212)) | E12: HCFC-124 | F12: =IF(E12="","",SUMIF('2 - Export Data'!$K$13:$K$212,E12,'2 - Export Data'!$L$13:$L$212)) -> 0

Sheet Lists
I1: FOR REFERENCE ONLY
B2: Reporting Year | C2: Class II Chemicals w/ Allowances | D2: ODP | E2: Country List | F2: Port of Exit List | G2: Commodity Code | I2: Form Type | J2: Form Code
B3: 2025 | C3: HCFC-123 | D3: 0.02 | E3: Afghanistan | F3: Aberdeen, Washington - 3003 | G3: 2903.72.0100 | I3: Class I Producer | J3: PROD1
B4: 2026 | C4: HCFC-124 | D4: 0.022 | E4: Albania | F4: Addison Airport, Texas - 5584 | G4: 2903.79.9030 | I4: MeBr Producer | J4: PROD3
B5: 2027 | E5: Algeria | F5: Aguadilla, Puerto Rico - 4901 | G5: 3827.31.0000 | I5: Class II Producer | J5: PROD2
B6: 2028 | E6: Andorra | F6: Air France (Mach Plus), Jamaica, New York - 4774 | G6: 3827.32.0000 | I6: Class I Importer | J6: IMPT1
B7: 2029 | E7: Angola | F7: Albany, New York - 1002 | G7: 3827.39.0000 | I7: MeBr Importer | J7: IMPT3
E8: Antigua and Barbuda | F8: Albuquerque, New Mexico - 2407 | I8: Class II Importer | J8: IMPT2
E9: Argentina | F9: Alcan, Alaska - 3104 | I9: Class I Exporter | J9: EXPT1
E10: Armenia | F10: Alexandria Bay, New York - 0708 | I10: MeBr Exporter | J10: EXPT3
E11: Australia | F11: Alexandria, Virginia - 5402 | I11: Class II Exporter | J11: EXPT2
E12: Austria | F12: Algonac, Michigan - 3814 | I12: Class I Lab Supplier | J12: LABS1
E13: Azerbaijan | F13: Allentown (Lehigh Valley Intl Airpt), Pennsylvania - 1119 | I13: Class I Destruction | J13: DEST1
E14: Bahamas | F14: Alliance Airport, Texas - 5583 | I14: MeBr Destruction | J14: DEST3
E15: Bahrain | F15: Alpena, Michigan - 3843 | I15: Class II Destruction | J15: DEST2
E16: Bangladesh | F16: Amarillo, Texas - 5502 | I16: Class I Transformation | J16: TRAN1
E17: Barbados | F17: Ambrose, North Dakota - 3410 | I17: MeBr Transformation | J17: TRAN3
E18: Belarus | F18: Anacortes - 3010 | I18: Class II Transformation | J18: TRAN2
E19: Belgium | F19: Anchorage, Alaska - 3126 | I19: MeBr Trades | J19: TRAD3
... E25: Bosnia and Herzegovina | F25: Area Port of Sweetgrass, Montana - 3310 | I25: Petitions | J25: PETIT
E26: Botswana | F26: Area Port of Tampa, Florida - 1801
E27: Brazil | F27: Ashland, Wisconsin - 3511
E28: British Virgin Islands | F28: Ashtabula/Conneaut, Ohio - 4122
E29: Brunei Darussalam | F29: Astoria, Oregon - 2901
E30: Bulgaria | F30: Atlanta, Georgia - 1704
E31: Burkina Faso | F31: Atlantic City Regional Airport, New Jersey - 1182
E32: Burundi | F32: Austin, Texas - 5506
E33: Cabo Verde | F33: Baltimore, Maryland - 1303
E34: Cambodia | F34: Bangor, Maine - 0102
E35: Cameroon | F35: Bar Harbor, Maine - 0112
E36: Canada | F36: Bath, Maine - 0111
E37: Central African Republic | F37: Baton Rouge, Louisiana - 2004
... E204: Zimbabwe | F204: Longview, Washington - 2905
F205: Lorain, Ohio - 4121
F206: Los Angeles International Airport-Cargo Operations, California - 2720
F207: Los Angeles, California - 2791
F208: Los Angeles/Long Beach Seaport, California - 2704
F209: Louisville, Kentucky - 4115
F210: Lubbock, Texas - 5503
F211: Luis Munoz Marin International Airport, Puerto Rico - 4913
...
