Workbook
Name ClassIIAllowanceTypes: Lists!$E$3:$E$4
Name ClassIIChemAllowance: Lists!$H$3:$H$4
Name ClassIPurpose: Lists!$E$3:$E$4
Name Countries: Lists!$B$3:$B$205
Name HeelsIntendedUses: Lists!$H$4:$H$4
Name LockStatus: Instructions!$H$15
Name MeBrPurpose: Lists!$E$3:$E$4
Name MeBrTransactionType: Lists!$F$3:$F$4
Name Purpose: Lists!$E$3:$E$4
Name ReportingYear: Lists!$D$3:$D$12
Name ReportYr: '1 - Transferor Identification'!$C$10
Name States: Lists!$C$3:$C$55
Name Table2: Lists!$H$3:$I$4
Name TransfereeCompany: #REF!
Name ValidChemical: #REF!
Name ValidCountry: #REF!
Name ValidState: Lists!$C$3:$C$55
Name ValidStateifUSA: #REF!

Sheet Instructions
B1: U.S. Environmental Protection Agency (EPA) | D1: OMB Control Number: 2060-0170
D2: Expiration Date: 8/31/2027
B4: Clean Air Act - Class II Trades Report
B5: Worksheet Instructions:
B6: Complete and submit a Class II Trades Report if your company would like to transfer class II ozone depleting substances (ODS) production or consumption allowances to another company. All sections of the report must be completed prior to submission.
B7: Version:
B8: 6
B9: Updated:
B10: 46280
B11: External Links
B12: ODS Recordkeeping and Reporting webpage
B13: Reporting Form Navigation:
B14: Section 1 - Transferor Identification
B15: Section 2 - Transaction Data
B16: Section 3 - Allowance Summary
B18: All information submitted to EPA will be treated as confidential in accordance with 40 CFR Part 2, Subpart B, and will only be disclosed by the means set forth in the subpart.
B20: This collection of information is approved by OMB under the Paperwork Reduction Act, 44 U.S.C. 3501 et seq. (OMB Control No. 2060-0170). Responses to this collection of information are mandatory (40 CFR 82.23). An agency may not conduct or sponsor, and a person is not required to respond to, a collection of information unless it displays a currently valid OMB control number. The number and expiration date are displayed in the upper right corner of the form. The public reporting and recordkeeping burden for this collection of information is estimated to be 4 hours per response. Send comments on the Agency’s need this formation, the accuracy of the provided burden estimates and any suggested methods for minimizing respondent burden including through the use of automated collection techniques to the Director, Regulatory Support Division, U.S. Environmental Protection Agency (2821T), 1200 Pennsylvania Ave., NW, Washington, D.C. 20460. Include the OMB control number in any correspondence. Do not send the completed form to this address.
B30: EPA Form #5900-205

Sheet 1 - Transferor Identification
B1: U.S. Environmental Protection Agency (EPA) | D1: OMB Control Number: 2060-0170
D2: Expiration Date: 8/31/2027
B4: Clean Air Act - Class II Trades Report
B5: Go to Section 2 - Transaction Data
B7: Section 1 - Transferor Identification Information
B8: Instructions: Complete the following company information.
B9: Company Name
B10: Reporting Year | E10: =IF(C10>YEAR(TODAY()),"PLEASE CHOOSE A CURRENT OR PAST YEAR","")

Sheet 2 - Transaction Data
B1: U.S. Environmental Protection Agency (EPA) | M1: OMB Control Number: 2060-0170
M2: Expiration Date: 8/31/2027
A3: =IFERROR(VLOOKUP(#REF!,'2 - Transaction Data'!C$19:$M$28,COLUMNS('2 - Transaction Data'!$B$15:B$16),0),"")
B4: Clean Air Act - Class II Trades Report
B5: Go to Section 3 - Allowance Summary
B7: Section 2 - Transaction Data
B8: Instructions: Enter the contact information for the recipient of the trade. If reporting on an inter-pollutant, intra-company trade, enter your company's name as the transferee company; the other fields may be left blank.
B9: Recipient Information
B10: 1 | C10: 2 | D10: 3 | E10: 4 | F10: 5 | G10: 6 | H10: 7 | I10: 8
B11: Transferee Company Name | C11: Transferee Contact Name | D11: Transferee Contact Phone Number | E11: Transferee Street Address | F11: Transferee City | G11: Transferee State/Province | H11: Transferee Country | I11: Transferee Postal Code
O12: =IF($Q$12>0,"ROW INCOMPLETE OR INVALID DATA ENTERED; ENTER/EDIT DATA IN REQUIRED FIELDS","")
B14: Instructions: Enter data for each trade request. For all controlled substances that are transferred, all fields are required unless otherwise indicated. Note that inter-pollutant trades of baseline year allowances will not be approved.
B15: Transaction Data
B16: 1 | C16: 2 | D16: 3 | E16: 4 | F16: 5 | G16: 6 | H16: 7 | I16: 8 | J16: 9 | K16: 10 | L16: 11 | M16: 12
C17: Allowance Type | F17: Allowances Being Transferred | I17: Allowances Being Received | K17: Conversion Calculation
B18: Transaction Number | C18: Production or Consumption | D18: Current or Baseline | E18: Domestic or International | F18: Class II Chemical Name | G18: ODP of Class II Chemical Being Transferred | H18: Quantity of Class II Allowances | I18: Class II Chemical Name | J18: ODP of Class II Chemical Being Received | K18: Amount of Offset | L18: Number of Allowances Subtracted from Transferor's Class II Allowance Balance | M18: Number of Class II Allowances Being Received
A19: 1 | B19: =IF(F19="","",1) | G19: =IF(F19="","",VLOOKUP(F19,Lists!$I$2:$J$9,2,FALSE)) | J19: =IF(I19="","",VLOOKUP(I19,Lists!$I$2:$J$9,2,FALSE)) | K19: =IF(H19="","",0.001*H19) | L19: =IFERROR(ROUND(K19+H19,0), "") | M19: =IF(K19="","",ROUND(H19*G19/J19,0)) | O19: =IF(SUM(R19:U19)>0,"ROW INCOMPLETE OR INVALID DATA ENTERED; ENTER/EDIT DATA IN REQUIRED FIELDS","")
A20: 2 | B20: =IF(F20="","",MAX($B$19:B19)+1) | G20: =IF(F20="","",VLOOKUP(F20,Lists!$I$2:$J$9,2,FALSE)) | J20: =IF(I20="","",VLOOKUP(I20,Lists!$I$2:$J$9,2,FALSE)) | K20: =IF(H20="","",0.001*H20) | L20: =IFERROR(ROUND(K20+H20,0), "") | M20: =IF(K20="","",ROUND(H20*G20/J20,0)) | O20: =IF(SUM(R20:U20)>0,"ROW INCOMPLETE OR INVALID DATA ENTERED; ENTER/EDIT DATA IN REQUIRED FIELDS","")
A21: 3 | B21: =IF(F21="","",MAX($B$19:B20)+1) | G21: =IF(F21="","",VLOOKUP(F21,Lists!$I$2:$J$9,2,FALSE)) | J21: =IF(I21="","",VLOOKUP(I21,Lists!$I$2:$J$9,2,FALSE)) | K21: =IF(H21="","",0.001*H21) | L21: =IFERROR(ROUND(K21+H21,0), "") | M21: =IF(K21="","",ROUND(H21*G21/J21,0)) | O21: =IF(SUM(R21:U21)>0,"ROW INCOMPLETE OR INVALID DATA ENTERED; ENTER/EDIT DATA IN REQUIRED FIELDS","")
A22: 4 | B22: =IF(F22="","",MAX($B$19:B21)+1) | G22: =IF(F22="","",VLOOKUP(F22,Lists!$I$2:$J$9,2,FALSE)) | J22: =IF(I22="","",VLOOKUP(I22,Lists!$I$2:$J$9,2,FALSE)) | K22: =IF(H22="","",0.001*H22) | L22: =IFERROR(ROUND(K22+H22,0), "") | M22: =IF(K22="","",ROUND(H22*G22/J22,0)) | O22: =IF(SUM(R22:U22)>0,"ROW INCOMPLETE OR INVALID DATA ENTERED; ENTER/EDIT DATA IN REQUIRED FIELDS","")
A23: 5 | B23: =IF(F23="","",MAX($B$19:B22)+1) | G23: =IF(F23="","",VLOOKUP(F23,Lists!$I$2:$J$9,2,FALSE)) | J23: =IF(I23="","",VLOOKUP(I23,Lists!$I$2:$J$9,2,FALSE)) | K23: =IF(H23="","",0.001*H23) | L23: =IFERROR(ROUND(K23+H23,0), "") | M23: =IF(K23="","",ROUND(H23*G23/J23,0)) | O23: =IF(SUM(R23:U23)>0,"ROW INCOMPLETE OR INVALID DATA ENTERED; ENTER/EDIT DATA IN REQUIRED FIELDS","")
A24: 6 | B24: =IF(F24="","",MAX($B$19:B23)+1) | G24: =IF(F24="","",VLOOKUP(F24,Lists!$I$2:$J$9,2,FALSE)) | J24: =IF(I24="","",VLOOKUP(I24,Lists!$I$2:$J$9,2,FALSE)) | K24: =IF(H24="","",0.001*H24) | L24: =IFERROR(ROUND(K24+H24,0), "") | M24: =IF(K24="","",ROUND(H24*G24/J24,0)) | O24: =IF(SUM(R24:U24)>0,"ROW INCOMPLETE OR INVALID DATA ENTERED; ENTER/EDIT DATA IN REQUIRED FIELDS","")
A25: 7 | B25: =IF(F25="","",MAX($B$19:B24)+1) | G25: =IF(F25="","",VLOOKUP(F25,Lists!$I$2:$J$9,2,FALSE)) | J25: =IF(I25="","",VLOOKUP(I25,Lists!$I$2:$J$9,2,FALSE)) | K25: =IF(H25="","",0.001*H25) | L25: =IFERROR(ROUND(K25+H25,0), "") | M25: =IF(K25="","",ROUND(H25*G25/J25,0)) | O25: =IF(SUM(R25:U25)>0,"ROW INCOMPLETE OR INVALID DATA ENTERED; ENTER/EDIT DATA IN REQUIRED FIELDS","")
A26: 8 | B26: =IF(F26="","",MAX($B$19:B25)+1) | G26: =IF(F26="","",VLOOKUP(F26,Lists!$I$2:$J$9,2,FALSE)) | J26: =IF(I26="","",VLOOKUP(I26,Lists!$I$2:$J$9,2,FALSE)) | K26: =IF(H26="","",0.001*H26) | L26: =IFERROR(ROUND(K26+H26,0), "") | M26: =IF(K26="","",ROUND(H26*G26/J26,0)) | O26: =IF(SUM(R26:U26)>0,"ROW INCOMPLETE OR INVALID DATA ENTERED; ENTER/EDIT DATA IN REQUIRED FIELDS","")
A27: 9 | B27: =IF(F27="","",MAX($B$19:B26)+1) | G27: =IF(F27="","",VLOOKUP(F27,Lists!$I$2:$J$9,2,FALSE)) | J27: =IF(I27="","",VLOOKUP(I27,Lists!$I$2:$J$9,2,FALSE)) | K27: =IF(H27="","",0.001*H27) | L27: =IFERROR(ROUND(K27+H27,0), "") | M27: =IF(K27="","",ROUND(H27*G27/J27,0)) | O27: =IF(SUM(R27:U27)>0,"ROW INCOMPLETE OR INVALID DATA ENTERED; ENTER/EDIT DATA IN REQUIRED FIELDS","")
A28: 10 | B28: =IF(F28="","",MAX($B$19:B27)+1) | G28: =IF(F28="","",VLOOKUP(F28,Lists!$I$2:$J$9,2,FALSE)) | J28: =IF(I28="","",VLOOKUP(I28,Lists!$I$2:$J$9,2,FALSE)) | K28: =IF(H28="","",0.001*H28) | L28: =IFERROR(ROUND(K28+H28,0), "") | M28: =IF(K28="","",ROUND(H28*G28/J28,0)) | O28: =IF(SUM(R28:U28)>0,"ROW INCOMPLETE OR INVALID DATA ENTERED; ENTER/EDIT DATA IN REQUIRED FIELDS","")
C29: x | D29: x | E29: x | F29: x | I29: x
I83: =Lists!B57 -> Ecuador
I84: =Lists!B58 -> Egypt
I85: =Lists!B59 -> El Salvador
I86: =Lists!B60 -> Equatorial Guinea
I87: =Lists!B61 -> Eritrea
I88: =Lists!B62 -> Estonia
I89: =Lists!B63 -> Eswatini
I90: =Lists!B64 -> Ethiopia
I91: =Lists!B65 -> Fiji
I92: =Lists!B66 -> Finland
I93: =Lists!B67 -> France
I94: =Lists!B68 -> Gabon
... I223: =Lists!B197 -> United Kingdom of Great Britain and Northern Ireland
...

Sheet 3 - Allowance Summary
B1: U.S. Environmental Protection Agency (EPA) | D1: OMB Control Number: 2060-0170
D2: Expiration Date: 8/31/2027
B4: Clean Air Act - Class II Trades Report
B6: Section 3 - Allowance Summary
B7: The values in the table below are calculated based on data entered in Section 2. If the totals appear to be incorrect, please return to Section 2 to review your data.
B8: Allowance Summary
B9: 1 | C9: 2 | D9: 3
B10: Chemical Name | C10: Allowances Expended by Transferor (kg)
C11: Production | D11: Consumption
A12: 1 | B12: =IF(G12>0,F12,IF(G13>0,F13,"")) | C12: =IF(B12="","",SUMIFS('2 - Transaction Data'!$L$19:$L$28,'2 - Transaction Data'!$F$19:$F$28,'3 - Allowance Summary'!$B12,'2 - Transaction Data'!$C$19:$C$28, Lists!$E$3)) | D12: =IF(B12="","",SUMIFS('2 - Transaction Data'!$L$19:$L$28,'2 - Transaction Data'!$F$19:$F$28,'3 - Allowance Summary'!$B12,'2 - Transaction Data'!$C$19:$C$28,Lists!$E$4)) | F12: HCFC-123 | G12: =SUMIF('2 - Transaction Data'!$F$19:$F$28,F12,'2 - Transaction Data'!$H$19:$H$28) -> 0
A13: 2 | B13: =IF(AND(G12>0,G13>0),F13,"") | C13: =IF(B13="","",SUMIFS('2 - Transaction Data'!$L$19:$L$28,'2 - Transaction Data'!$F$19:$F$28,'3 - Allowance Summary'!$B13,'2 - Transaction Data'!$C$19:$C$28, Lists!$E$3)) | D13: =IF(B13="", "", SUMIFS('2 - Transaction Data'!$L$19:$L$28,'2 - Transaction Data'!$F$19:$F$28,'3 - Allowance Summary'!$B13,'2 - Transaction Data'!$C$19:$C$28,Lists!$E$4)) | F13: HCFC-124 | G13: =SUMIF('2 - Transaction Data'!$F$19:$F$28,F13,'2 - Transaction Data'!$H$19:$H$28) -> 0

Sheet Lists
I1: ODP Table | L1: FOR REFERENCE ONLY
B2: Country List | C2: States | D2: Reporting Year | E2: Class II Allownace Types | F2: Allowance Type: Current or Baseline | G2: Allowance Type: Domestic or International | H2: Class II Chemicals w/ Allowances | I2: Class II Chemicals | J2: ODP | L2: Form Type | M2: Form Code
B3: United States of America | C3: Alaska | D3: 2020 | E3: Production | F3: Current | G3: Domestic | H3: HCFC-123 | I3: HCFC-123 | J3: 0.02 | L3: Class I Producer | M3: PROD1
B4: Afghanistan | C4: Alabama | D4: 2021 | E4: Consumption | F4: Baseline | H4: HCFC-124 | I4: HCFC-124 | J4: 0.022 | L4: MeBr Producer | M4: PROD3
B5: Albania | C5: Arkansas | D5: 2022 | L5: Class II Producer | M5: PROD2
B6: Algeria | C6: Arizona | D6: 2023 | L6: Class I Importer | M6: IMPT1
B7: Andorra | C7: California | D7: 2024 | L7: MeBr Importer | M7: IMPT3
B8: Angola | C8: Colorado | D8: 2025 | L8: Class II Importer | M8: IMPT2
B9: Antigua and Barbuda | C9: Connecticut | D9: 2026 | L9: Class I Exporter | M9: EXPT1
B10: Argentina | C10: District of Columbia | D10: 2027 | L10: MeBr Exporter | M10: EXPT3
B11: Armenia | C11: Delaware | D11: 2028 | L11: Class II Exporter | M11: EXPT2
B12: Australia | C12: Florida | D12: 2029 | L12: Class I Lab Supplier | M12: LABS1
B13: Austria | C13: Georgia | L13: Class I Destruction | M13: DEST1
B14: Azerbaijan | C14: Hawaii | L14: MeBr Destruction | M14: DEST3
B15: Bahamas | C15: Iowa | L15: Class II Destruction | M15: DEST2
B16: Bahrain | C16: Idaho | L16: Class I Transformation | M16: TRAN1
B17: Bangladesh | C17: Illinois | L17: MeBr Transformation | M17: TRAN3
B18: Barbados | C18: Indiana | L18: Class II Transformation | M18: TRAN2
B19: Belarus | C19: Kansas | L19: MeBr Trades | M19: TRAD3
B20: Belgium | C20: Kentucky | L20: Class II Trades | M20: TRAD2
B21: Belize | C21: Louisiana | L21: Class II RACA | M21: RACA2
B22: Benin | C22: Massachusetts | L22: MeBr Distributor of QPS | M22: MBQPS
B23: Bermuda | C23: Maryland | L23: MeBr Pre-2005 Stocks | M23: MB05S
B24: Bhutan | C24: Maine | L24: MeBr Sales of CU | M24: MBCUE
B25: Bolivia | C25: Michigan
B26: Bosnia and Herzegovina | C26: Minnesota
B27: Botswana | C27: Missouri
B28: Brazil | C28: Mississippi
B29: British Virgin Islands | C29: Montana
B30: Brunei Darussalam | C30: North Carolina
B31: Bulgaria | C31: North Dakota
B32: Burkina Faso | C32: Nebraska
B33: Burundi | C33: New Hampshire
B34: Cabo Verde | C34: New Jersey
B35: Cambodia | C35: New Mexico
B36: Cameroon | C36: Nevada
... B55: Dominica | C55: Wyoming
B56: Dominican Republic
B57: Ecuador
B58: Egypt
...
