Workbook
Name AllError: #REF!
Name CompName: #REF!
Name Countries: Lists!$F$3:$F$204
Name CSVDate: Lists!#REF!
Name DateCheck: #REF!
Name EINCol: '2 - Export Data'!$P$1
Name EINNum: '2 - Export Data'!$P$2
Name EndDate: Lists!$E$4
Name EndRowS2: '2 - Export Data'!#REF!
Name LastCol: #REF!
Name LastRow: #REF!
Name LockStatus: Instructions!$H$15
Name MeBrIntendedUseExport: Lists!$H$3:$H$8
Name ReportingQuarter: Lists!$C$3:$C$6
Name ReportingYear: Lists!$B$3:$B$12
Name ReportQtr: '1 - Report Identification'!$C$11
Name ReportType: Lists!#REF!
Name ReportYr: '1 - Report Identification'!$C$10
Name RowComplete: #REF!
Name Sec1Status: #REF!
Name Sec2Error: #REF!
Name Sec2Filled: #REF!
Name Sec2NegNumber: #REF!
Name Sec2ValidIntended: #REF!
Name StartDate: Lists!$E$3
Name StartRowS2: '2 - Export Data'!#REF!
Name SubmissionType: Lists!#REF!
Name SubTSelection: '1 - Report Identification'!#REF!
Name ValidCountry: #REF!
Name VersionNumber: Lists!#REF!

Sheet Instructions
B1: U.S. Environmental Protection Agency | D1: OMB Control Number: 2060-0170
D2: Expiration Date: 08/31/27
B4: Clean Air Act - Methyl Bromide Exporter Quarterly Report
B5: Worksheet Instructions:
B6: Complete and submit a Methyl Bromide Exporter Quarterly Report if your company exports methyl bromide. Section 1 must be completed prior to submission. Section 2 must be completed if your company exported methyl bromide during the reporting quarter.
B7: Version:
B8: 6
B9: Updated:
B10: 46280
B11: External Links:
B12: ODS Recordkeeping and Reporting webpage
B13: Reporting Form Navigation:
B14: Section 1 - Report Identification
B15: Section 2 - Export Transaction Data
B16: Section 3 - Export Summary
B18: All information submitted to EPA will be treated as confidential in accordance with 40 CFR Part 2, Subpart B, and will only be disclosed by the means set forth in the subpart.
B20: This collection of information is approved by OMB under the Paperwork Reduction Act, 44 U.S.C. 3501 et seq. (OMB Control No. 2060-0170). Responses to this collection of information are mandatory (40 CFR 82.13). An agency may not conduct or sponsor, and a person is not required to respond to, a collection of information unless it displays a currently valid OMB control number. The number and expiration date are displayed in the upper right corner of the form. The public reporting and recordkeeping burden for this collection of information is estimated to be 2 hours per response. Send comments on the Agency’s need this formation, the accuracy of the provided burden estimates and any suggested methods for minimizing respondent burden including through the use of automated collection techniques to the Director, Regulatory Support Division, U.S. Environmental Protection Agency (2821T), 1200 Pennsylvania Ave., NW, Washington, D.C. 20460. Include the OMB control number in any correspondence. Do not send the completed form to this address.
B30: EPA Form #5900-140

Sheet 1 - Report Identification
B1: U.S. Environmental Protection Agency | D1: OMB Control Number: 2060-0170
D2: Expiration Date: 08/31/27
B4: Clean Air Act - Methyl Bromide Exporter Quarterly Report
B5: Go to Section 2 - Export Transaction Data
B7: Section 1 - Report Identification Information
B8: Instructions: Complete all fields below. No fields may be left blank.
B9: Company Name
B10: Reporting Year | E10: =IF(C10>YEAR(TODAY()),"PLEASE CHOOSE A CURRENT OR PAST YEAR","")
B11: Reporting Quarter | E11: =IF(ReportQtr>Lists!C6,"PLEASE SELECT A VALID QUARTER FROM THE DROPDOWN LIST","")
B12: Employer Identification Number (EIN) | E12: =IF(C12="","",IF(OR(LEN(C12)=9,LEN(C12)=10,LEN(C12)=11),"","PLEASE ENTER A 9 OR 11-DIGIT NUMBER"))

Sheet 2 - Export Data
C1: U.S. Environmental Protection Agency | Q1: OMB Control Number: 2060-0170
Q2: Expiration Date: 08/31/27
C4: Clean Air Act - Methyl Bromide Exporter Quarterly Report
C5: Go to Section 3 - Export Summary
C7: Section 2 - Export Transaction Data
C8: Instructions: Enter data for each export transaction containing methyl bromide that took place during the reporting period. If no methyl bromide was exported, the table may be left blank. For all transactions, all fields are required.
C9: Methyl Bromide Export
C10: 1 | D10: 2 | E10: 3 | F10: 4 | G10: 5 | H10: 6 | I10: 7 | J10: 8 | K10: 9 | L10: 10 | M10: 11 | N10: 12 | O10: 13 | P10: 14 | Q10: 15
C11: Transaction Number | D11: Date of Export | E11: Recipient Company | F11: Recipient Company Street Address | G11: Recipient Company City | H11: Recipient Company Country | I11: Recipient Company Postal Code | J11: Recipient Company Contact Name | K11: Recipient Company Phone Number | L11: Name of the Chemical Exported | M11: Total Quantity Exported (kg) | N11: Commodity Code | O11: Port of Exit from the United States | P11: Shipment EIN | Q11: Intended Use
A12: =IF(H12=0, "", 1) | B12: 1 | C12: =IF(L12="","",1) | L12: =IF($D12="", "", "CH3Br")
A13: =IF(H13=0, "", IF(COUNTIF($H$12:H12, H13)>0, "", MAX($A$12:A12)+1)) | B13: 2 | C13: =IF(L13="","",MAX($C$12:C12)+1) | L13: =IF($D13="", "", "CH3Br")
A14: =IF(H14=0, "", IF(COUNTIF($H$12:H13, H14)>0, "", MAX($A$12:A13)+1)) | B14: 3 | C14: =IF(L14="","",MAX($C$12:C13)+1) | L14: =IF($D14="", "", "CH3Br")
A15: =IF(H15=0, "", IF(COUNTIF($H$12:H14, H15)>0, "", MAX($A$12:A14)+1)) | B15: 4 | C15: =IF(L15="","",MAX($C$12:C14)+1) | L15: =IF($D15="", "", "CH3Br")
A16: =IF(H16=0, "", IF(COUNTIF($H$12:H15, H16)>0, "", MAX($A$12:A15)+1)) | B16: 5 | C16: =IF(L16="","",MAX($C$12:C15)+1) | L16: =IF($D16="", "", "CH3Br")
A17: =IF(H17=0, "", IF(COUNTIF($H$12:H16, H17)>0, "", MAX($A$12:A16)+1)) | B17: 6 | C17: =IF(L17="","",MAX($C$12:C16)+1) | L17: =IF($D17="", "", "CH3Br")
A18: =IF(H18=0, "", IF(COUNTIF($H$12:H17, H18)>0, "", MAX($A$12:A17)+1)) | B18: 7 | C18: =IF(L18="","",MAX($C$12:C17)+1) | L18: =IF($D18="", "", "CH3Br")
A19: =IF(H19=0, "", IF(COUNTIF($H$12:H18, H19)>0, "", MAX($A$12:A18)+1)) | B19: 8 | C19: =IF(L19="","",MAX($C$12:C18)+1) | L19: =IF($D19="", "", "CH3Br")
A20: =IF(H20=0, "", IF(COUNTIF($H$12:H19, H20)>0, "", MAX($A$12:A19)+1)) | B20: 9 | C20: =IF(L20="","",MAX($C$12:C19)+1) | L20: =IF($D20="", "", "CH3Br")
A21: =IF(H21=0, "", IF(COUNTIF($H$12:H20, H21)>0, "", MAX($A$12:A20)+1)) | B21: 10 | C21: =IF(L21="","",MAX($C$12:C20)+1) | L21: =IF($D21="", "", "CH3Br")
A22: =IF(H22=0, "", IF(COUNTIF($H$12:H21, H22)>0, "", MAX($A$12:A21)+1)) | B22: 11 | C22: =IF(L22="","",MAX($C$12:C21)+1) | L22: =IF($D22="", "", "CH3Br")
A23: =IF(H23=0, "", IF(COUNTIF($H$12:H22, H23)>0, "", MAX($A$12:A22)+1)) | B23: 12 | C23: =IF(L23="","",MAX($C$12:C22)+1) | L23: =IF($D23="", "", "CH3Br")
A24: =IF(H24=0, "", IF(COUNTIF($H$12:H23, H24)>0, "", MAX($A$12:A23)+1)) | B24: 13 | C24: =IF(L24="","",MAX($C$12:C23)+1) | L24: =IF($D24="", "", "CH3Br")
... A1011: =IF(H1011=0, "", IF(COUNTIF($H$12:H1010, H1011)>0, "", MAX($A$12:A1010)+1)) | B1011: 1000 | C1011: =IF(L1011="","",MAX($C$12:C1010)+1) | L1011: =IF($D1011="", "", "CH3Br")
H1012: x | Q1012: x

Sheet 3 - Export Summary
B1: U.S. Environmental Protection Agency | I1: OMB Control Number: 2060-0170
I2: Expiration Date: 08/31/27
B4: Clean Air Act - Methyl Bromide Exporter Quarterly Report
B6: Section 3 - Export Summary
B7: The values in the table below are calculated based on data entered in Section 2. If the totals appear to be incorrect, please return to Section 2 to review your data.
B8: Export Summary
B9: 1 | C9: 2 | D9: 3 | E9: 4 | F9: 5 | G9: 6 | H9: 7 | I9: 8
B10: Chemical Name | C10: Country | D10: Transformation (kg) | E10: Destruction (kg) | F10: Critical Use (kg) | G10: QPS (kg) | H10: Emergency Use (kg) | I10: Global Lab (kg)
A11: 1 | B11: =IF(C11="", "", "CH3Br") | C11: =IFERROR(VLOOKUP(A11,'2 - Export Data'!$A$12:$H$1011,8, FALSE), "") | D11: =IF($B11="","",SUMIFS('2 - Export Data'!$M$12:$M$1715, '2 - Export Data'!$H$12:$H$1715,'3 - Export Summary'!$C11, '2 - Export Data'!$Q$12:$Q$1715, Lists!$H$3)) | E11: =IF($B11="","",SUMIFS('2 - Export Data'!$M$12:$M$1715, '2 - Export Data'!$H$12:$H$1715,'3 - Export Summary'!$C11, '2 - Export Data'!$Q$12:$Q$1715, Lists!$H$4)) | F11: =IF($B11="","",SUMIFS('2 - Export Data'!$M$12:$M$1715, '2 - Export Data'!$H$12:$H$1715,'3 - Export Summary'!$C11, '2 - Export Data'!$Q$12:$Q$1715, Lists!$H$5)) | G11: =IF($B11="","",SUMIFS('2 - Export Data'!$M$12:$M$1715, '2 - Export Data'!$H$12:$H$1715,'3 - Export Summary'!$C11, '2 - Export Data'!$Q$12:$Q$1715, Lists!$H$6)) | H11: =IF($B11="","",SUMIFS('2 - Export Data'!$M$12:$M$1715, '2 - Export Data'!$H$12:$H$1715,'3 - Export Summary'!$C11, '2 - Export Data'!$Q$12:$Q$1715, Lists!$H$7)) | I11: =IF($B11="","",SUMIFS('2 - Export Data'!$M$12:$M$1715, '2 - Export Data'!$H$12:$H$1715,'3 - Export Summary'!$C11, '2 - Export Data'!$Q$12:$Q$1715, Lists!$H$8))
A12: 2 | B12: =IF(C12="", "", "CH3Br") | C12: =IFERROR(VLOOKUP(A12,'2 - Export Data'!$A$12:$H$1011,8, FALSE), "") | D12: =IF($B12="","",SUMIFS('2 - Export Data'!$M$12:$M$1715, '2 - Export Data'!$H$12:$H$1715,'3 - Export Summary'!$C12, '2 - Export Data'!$Q$12:$Q$1715, Lists!$H$3)) | E12: =IF($B12="","",SUMIFS('2 - Export Data'!$M$12:$M$1715, '2 - Export Data'!$H$12:$H$1715,'3 - Export Summary'!$C12, '2 - Export Data'!$Q$12:$Q$1715, Lists!$H$4)) | F12: =IF($B12="","",SUMIFS('2 - Export Data'!$M$12:$M$1715, '2 - Export Data'!$H$12:$H$1715,'3 - Export Summary'!$C12, '2 - Export Data'!$Q$12:$Q$1715, Lists!$H$5)) | G12: =IF($B12="","",SUMIFS('2 - Export Data'!$M$12:$M$1715, '2 - Export Data'!$H$12:$H$1715,'3 - Export Summary'!$C12, '2 - Export Data'!$Q$12:$Q$1715, Lists!$H$6)) | H12: =IF($B12="","",SUMIFS('2 - Export Data'!$M$12:$M$1715, '2 - Export Data'!$H$12:$H$1715,'3 - Export Summary'!$C12, '2 - Export Data'!$Q$12:$Q$1715, Lists!$H$7)) | I12: =IF($B12="","",SUMIFS('2 - Export Data'!$M$12:$M$1715, '2 - Export Data'!$H$12:$H$1715,'3 - Export Summary'!$C12, '2 - Export Data'!$Q$12:$Q$1715, Lists!$H$8))
A13: 3 | B13: =IF(C13="", "", "CH3Br") | C13: =IFERROR(VLOOKUP(A13,'2 - Export Data'!$A$12:$H$1011,8, FALSE), "") | D13: =IF($B13="","",SUMIFS('2 - Export Data'!$M$12:$M$1715, '2 - Export Data'!$H$12:$H$1715,'3 - Export Summary'!$C13, '2 - Export Data'!$Q$12:$Q$1715, Lists!$H$3)) | E13: =IF($B13="","",SUMIFS('2 - Export Data'!$M$12:$M$1715, '2 - Export Data'!$H$12:$H$1715,'3 - Export Summary'!$C13, '2 - Export Data'!$Q$12:$Q$1715, Lists!$H$4)) | F13: =IF($B13="","",SUMIFS('2 - Export Data'!$M$12:$M$1715, '2 - Export Data'!$H$12:$H$1715,'3 - Export Summary'!$C13, '2 - Export Data'!$Q$12:$Q$1715, Lists!$H$5)) | G13: =IF($B13="","",SUMIFS('2 - Export Data'!$M$12:$M$1715, '2 - Export Data'!$H$12:$H$1715,'3 - Export Summary'!$C13, '2 - Export Data'!$Q$12:$Q$1715, Lists!$H$6)) | H13: =IF($B13="","",SUMIFS('2 - Export Data'!$M$12:$M$1715, '2 - Export Data'!$H$12:$H$1715,'3 - Export Summary'!$C13, '2 - Export Data'!$Q$12:$Q$1715, Lists!$H$7)) | I13: =IF($B13="","",SUMIFS('2 - Export Data'!$M$12:$M$1715, '2 - Export Data'!$H$12:$H$1715,'3 - Export Summary'!$C13, '2 - Export Data'!$Q$12:$Q$1715, Lists!$H$8))
A14: 4 | B14: =IF(C14="", "", "CH3Br") | C14: =IFERROR(VLOOKUP(A14,'2 - Export Data'!$A$12:$H$1011,8, FALSE), "") | D14: =IF($B14="","",SUMIFS('2 - Export Data'!$M$12:$M$1715, '2 - Export Data'!$H$12:$H$1715,'3 - Export Summary'!$C14, '2 - Export Data'!$Q$12:$Q$1715, Lists!$H$3)) | E14: =IF($B14="","",SUMIFS('2 - Export Data'!$M$12:$M$1715, '2 - Export Data'!$H$12:$H$1715,'3 - Export Summary'!$C14, '2 - Export Data'!$Q$12:$Q$1715, Lists!$H$4)) | F14: =IF($B14="","",SUMIFS('2 - Export Data'!$M$12:$M$1715, '2 - Export Data'!$H$12:$H$1715,'3 - Export Summary'!$C14, '2 - Export Data'!$Q$12:$Q$1715, Lists!$H$5)) | G14: =IF($B14="","",SUMIFS('2 - Export Data'!$M$12:$M$1715, '2 - Export Data'!$H$12:$H$1715,'3 - Export Summary'!$C14, '2 - Export Data'!$Q$12:$Q$1715, Lists!$H$6)) | H14: =IF($B14="","",SUMIFS('2 - Export Data'!$M$12:$M$1715, '2 - Export Data'!$H$12:$H$1715,'3 - Export Summary'!$C14, '2 - Export Data'!$Q$12:$Q$1715, Lists!$H$7)) | I14: =IF($B14="","",SUMIFS('2 - Export Data'!$M$12:$M$1715, '2 - Export Data'!$H$12:$H$1715,'3 - Export Summary'!$C14, '2 - Export Data'!$Q$12:$Q$1715, Lists!$H$8))
A15: 5 | B15: =IF(C15="", "", "CH3Br") | C15: =IFERROR(VLOOKUP(A15,'2 - Export Data'!$A$12:$H$1011,8, FALSE), "") | D15: =IF($B15="","",SUMIFS('2 - Export Data'!$M$12:$M$1715, '2 - Export Data'!$H$12:$H$1715,'3 - Export Summary'!$C15, '2 - Export Data'!$Q$12:$Q$1715, Lists!$H$3)) | E15: =IF($B15="","",SUMIFS('2 - Export Data'!$M$12:$M$1715, '2 - Export Data'!$H$12:$H$1715,'3 - Export Summary'!$C15, '2 - Export Data'!$Q$12:$Q$1715, Lists!$H$4)) | F15: =IF($B15="","",SUMIFS('2 - Export Data'!$M$12:$M$1715, '2 - Export Data'!$H$12:$H$1715,'3 - Export Summary'!$C15, '2 - Export Data'!$Q$12:$Q$1715, Lists!$H$5)) | G15: =IF($B15="","",SUMIFS('2 - Export Data'!$M$12:$M$1715, '2 - Export Data'!$H$12:$H$1715,'3 - Export Summary'!$C15, '2 - Export Data'!$Q$12:$Q$1715, Lists!$H$6)) | H15: =IF($B15="","",SUMIFS('2 - Export Data'!$M$12:$M$1715, '2 - Export Data'!$H$12:$H$1715,'3 - Export Summary'!$C15, '2 - Export Data'!$Q$12:$Q$1715, Lists!$H$7)) | I15: =IF($B15="","",SUMIFS('2 - Export Data'!$M$12:$M$1715, '2 - Export Data'!$H$12:$H$1715,'3 - Export Summary'!$C15, '2 - Export Data'!$Q$12:$Q$1715, Lists!$H$8))
A16: 6 | B16: =IF(C16="", "", "CH3Br") | C16: =IFERROR(VLOOKUP(A16,'2 - Export Data'!$A$12:$H$1011,8, FALSE), "") | D16: =IF($B16="","",SUMIFS('2 - Export Data'!$M$12:$M$1715, '2 - Export Data'!$H$12:$H$1715,'3 - Export Summary'!$C16, '2 - Export Data'!$Q$12:$Q$1715, Lists!$H$3)) | E16: =IF($B16="","",SUMIFS('2 - Export Data'!$M$12:$M$1715, '2 - Export Data'!$H$12:$H$1715,'3 - Export Summary'!$C16, '2 - Export Data'!$Q$12:$Q$1715, Lists!$H$4)) | F16: =IF($B16="","",SUMIFS('2 - Export Data'!$M$12:$M$1715, '2 - Export Data'!$H$12:$H$1715,'3 - Export Summary'!$C16, '2 - Export Data'!$Q$12:$Q$1715, Lists!$H$5)) | G16: =IF($B16="","",SUMIFS('2 - Export Data'!$M$12:$M$1715, '2 - Export Data'!$H$12:$H$1715,'3 - Export Summary'!$C16, '2 - Export Data'!$Q$12:$Q$1715, Lists!$H$6)) | H16: =IF($B16="","",SUMIFS('2 - Export Data'!$M$12:$M$1715, '2 - Export Data'!$H$12:$H$1715,'3 - Export Summary'!$C16, '2 - Export Data'!$Q$12:$Q$1715, Lists!$H$7)) | I16: =IF($B16="","",SUMIFS('2 - Export Data'!$M$12:$M$1715, '2 - Export Data'!$H$12:$H$1715,'3 - Export Summary'!$C16, '2 - Export Data'!$Q$12:$Q$1715, Lists!$H$8))
A17: 7 | B17: =IF(C17="", "", "CH3Br") | C17: =IFERROR(VLOOKUP(A17,'2 - Export Data'!$A$12:$H$1011,8, FALSE), "") | D17: =IF($B17="","",SUMIFS('2 - Export Data'!$M$12:$M$1715, '2 - Export Data'!$H$12:$H$1715,'3 - Export Summary'!$C17, '2 - Export Data'!$Q$12:$Q$1715, Lists!$H$3)) | E17: =IF($B17="","",SUMIFS('2 - Export Data'!$M$12:$M$1715, '2 - Export Data'!$H$12:$H$1715,'3 - Export Summary'!$C17, '2 - Export Data'!$Q$12:$Q$1715, Lists!$H$4)) | F17: =IF($B17="","",SUMIFS('2 - Export Data'!$M$12:$M$1715, '2 - Export Data'!$H$12:$H$1715,'3 - Export Summary'!$C17, '2 - Export Data'!$Q$12:$Q$1715, Lists!$H$5)) | G17: =IF($B17="","",SUMIFS('2 - Export Data'!$M$12:$M$1715, '2 - Export Data'!$H$12:$H$1715,'3 - Export Summary'!$C17, '2 - Export Data'!$Q$12:$Q$1715, Lists!$H$6)) | H17: =IF($B17="","",SUMIFS('2 - Export Data'!$M$12:$M$1715, '2 - Export Data'!$H$12:$H$1715,'3 - Export Summary'!$C17, '2 - Export Data'!$Q$12:$Q$1715, Lists!$H$7)) | I17: =IF($B17="","",SUMIFS('2 - Export Data'!$M$12:$M$1715, '2 - Export Data'!$H$12:$H$1715,'3 - Export Summary'!$C17, '2 - Export Data'!$Q$12:$Q$1715, Lists!$H$8))
A18: 8 | B18: =IF(C18="", "", "CH3Br") | C18: =IFERROR(VLOOKUP(A18,'2 - Export Data'!$A$12:$H$1011,8, FALSE), "") | D18: =IF($B18="","",SUMIFS('2 - Export Data'!$M$12:$M$1715, '2 - Export Data'!$H$12:$H$1715,'3 - Export Summary'!$C18, '2 - Export Data'!$Q$12:$Q$1715, Lists!$H$3)) | E18: =IF($B18="","",SUMIFS('2 - Export Data'!$M$12:$M$1715, '2 - Export Data'!$H$12:$H$1715,'3 - Export Summary'!$C18, '2 - Export Data'!$Q$12:$Q$1715, Lists!$H$4)) | F18: =IF($B18="","",SUMIFS('2 - Export Data'!$M$12:$M$1715, '2 - Export Data'!$H$12:$H$1715,'3 - Export Summary'!$C18, '2 - Export Data'!$Q$12:$Q$1715, Lists!$H$5)) | G18: =IF($B18="","",SUMIFS('2 - Export Data'!$M$12:$M$1715, '2 - Export Data'!$H$12:$H$1715,'3 - Export Summary'!$C18, '2 - Export Data'!$Q$12:$Q$1715, Lists!$H$6)) | H18: =IF($B18="","",SUMIFS('2 - Export Data'!$M$12:$M$1715, '2 - Export Data'!$H$12:$H$1715,'3 - Export Summary'!$C18, '2 - Export Data'!$Q$12:$Q$1715, Lists!$H$7)) | I18: =IF($B18="","",SUMIFS('2 - Export Data'!$M$12:$M$1715, '2 - Export Data'!$H$12:$H$1715,'3 - Export Summary'!$C18, '2 - Export Data'!$Q$12:$Q$1715, Lists!$H$8))
A19: 9 | B19: =IF(C19="", "", "CH3Br") | C19: =IFERROR(VLOOKUP(A19,'2 - Export Data'!$A$12:$H$1011,8, FALSE), "") | D19: =IF($B19="","",SUMIFS('2 - Export Data'!$M$12:$M$1715, '2 - Export Data'!$H$12:$H$1715,'3 - Export Summary'!$C19, '2 - Export Data'!$Q$12:$Q$1715, Lists!$H$3)) | E19: =IF($B19="","",SUMIFS('2 - Export Data'!$M$12:$M$1715, '2 - Export Data'!$H$12:$H$1715,'3 - Export Summary'!$C19, '2 - Export Data'!$Q$12:$Q$1715, Lists!$H$4)) | F19: =IF($B19="","",SUMIFS('2 - Export Data'!$M$12:$M$1715, '2 - Export Data'!$H$12:$H$1715,'3 - Export Summary'!$C19, '2 - Export Data'!$Q$12:$Q$1715, Lists!$H$5)) | G19: =IF($B19="","",SUMIFS('2 - Export Data'!$M$12:$M$1715, '2 - Export Data'!$H$12:$H$1715,'3 - Export Summary'!$C19, '2 - Export Data'!$Q$12:$Q$1715, Lists!$H$6)) | H19: =IF($B19="","",SUMIFS('2 - Export Data'!$M$12:$M$1715, '2 - Export Data'!$H$12:$H$1715,'3 - Export Summary'!$C19, '2 - Export Data'!$Q$12:$Q$1715, Lists!$H$7)) | I19: =IF($B19="","",SUMIFS('2 - Export Data'!$M$12:$M$1715, '2 - Export Data'!$H$12:$H$1715,'3 - Export Summary'!$C19, '2 - Export Data'!$Q$12:$Q$1715, Lists!$H$8))
A20: 10 | B20: =IF(C20="", "", "CH3Br") | C20: =IFERROR(VLOOKUP(A20,'2 - Export Data'!$A$12:$H$1011,8, FALSE), "") | D20: =IF($B20="","",SUMIFS('2 - Export Data'!$M$12:$M$1715, '2 - Export Data'!$H$12:$H$1715,'3 - Export Summary'!$C20, '2 - Export Data'!$Q$12:$Q$1715, Lists!$H$3)) | E20: =IF($B20="","",SUMIFS('2 - Export Data'!$M$12:$M$1715, '2 - Export Data'!$H$12:$H$1715,'3 - Export Summary'!$C20, '2 - Export Data'!$Q$12:$Q$1715, Lists!$H$4)) | F20: =IF($B20="","",SUMIFS('2 - Export Data'!$M$12:$M$1715, '2 - Export Data'!$H$12:$H$1715,'3 - Export Summary'!$C20, '2 - Export Data'!$Q$12:$Q$1715, Lists!$H$5)) | G20: =IF($B20="","",SUMIFS('2 - Export Data'!$M$12:$M$1715, '2 - Export Data'!$H$12:$H$1715,'3 - Export Summary'!$C20, '2 - Export Data'!$Q$12:$Q$1715, Lists!$H$6)) | H20: =IF($B20="","",SUMIFS('2 - Export Data'!$M$12:$M$1715, '2 - Export Data'!$H$12:$H$1715,'3 - Export Summary'!$C20, '2 - Export Data'!$Q$12:$Q$1715, Lists!$H$7)) | I20: =IF($B20="","",SUMIFS('2 - Export Data'!$M$12:$M$1715, '2 - Export Data'!$H$12:$H$1715,'3 - Export Summary'!$C20, '2 - Export Data'!$Q$12:$Q$1715, Lists!$H$8))
A21: 11 | B21: =IF(C21="", "", "CH3Br") | C21: =IFERROR(VLOOKUP(A21,'2 - Export Data'!$A$12:$H$1011,8, FALSE), "") | D21: =IF($B21="","",SUMIFS('2 - Export Data'!$M$12:$M$1715, '2 - Export Data'!$H$12:$H$1715,'3 - Export Summary'!$C21, '2 - Export Data'!$Q$12:$Q$1715, Lists!$H$3)) | E21: =IF($B21="","",SUMIFS('2 - Export Data'!$M$12:$M$1715, '2 - Export Data'!$H$12:$H$1715,'3 - Export Summary'!$C21, '2 - Export Data'!$Q$12:$Q$1715, Lists!$H$4)) | F21: =IF($B21="","",SUMIFS('2 - Export Data'!$M$12:$M$1715, '2 - Export Data'!$H$12:$H$1715,'3 - Export Summary'!$C21, '2 - Export Data'!$Q$12:$Q$1715, Lists!$H$5)) | G21: =IF($B21="","",SUMIFS('2 - Export Data'!$M$12:$M$1715, '2 - Export Data'!$H$12:$H$1715,'3 - Export Summary'!$C21, '2 - Export Data'!$Q$12:$Q$1715, Lists!$H$6)) | H21: =IF($B21="","",SUMIFS('2 - Export Data'!$M$12:$M$1715, '2 - Export Data'!$H$12:$H$1715,'3 - Export Summary'!$C21, '2 - Export Data'!$Q$12:$Q$1715, Lists!$H$7)) | I21: =IF($B21="","",SUMIFS('2 - Export Data'!$M$12:$M$1715, '2 - Export Data'!$H$12:$H$1715,'3 - Export Summary'!$C21, '2 - Export Data'!$Q$12:$Q$1715, Lists!$H$8))
A22: 12 | B22: =IF(C22="", "", "CH3Br") | C22: =IFERROR(VLOOKUP(A22,'2 - Export Data'!$A$12:$H$1011,8, FALSE), "") | D22: =IF($B22="","",SUMIFS('2 - Export Data'!$M$12:$M$1715, '2 - Export Data'!$H$12:$H$1715,'3 - Export Summary'!$C22, '2 - Export Data'!$Q$12:$Q$1715, Lists!$H$3)) | E22: =IF($B22="","",SUMIFS('2 - Export Data'!$M$12:$M$1715, '2 - Export Data'!$H$12:$H$1715,'3 - Export Summary'!$C22, '2 - Export Data'!$Q$12:$Q$1715, Lists!$H$4)) | F22: =IF($B22="","",SUMIFS('2 - Export Data'!$M$12:$M$1715, '2 - Export Data'!$H$12:$H$1715,'3 - Export Summary'!$C22, '2 - Export Data'!$Q$12:$Q$1715, Lists!$H$5)) | G22: =IF($B22="","",SUMIFS('2 - Export Data'!$M$12:$M$1715, '2 - Export Data'!$H$12:$H$1715,'3 - Export Summary'!$C22, '2 - Export Data'!$Q$12:$Q$1715, Lists!$H$6)) | H22: =IF($B22="","",SUMIFS('2 - Export Data'!$M$12:$M$1715, '2 - Export Data'!$H$12:$H$1715,'3 - Export Summary'!$C22, '2 - Export Data'!$Q$12:$Q$1715, Lists!$H$7)) | I22: =IF($B22="","",SUMIFS('2 - Export Data'!$M$12:$M$1715, '2 - Export Data'!$H$12:$H$1715,'3 - Export Summary'!$C22, '2 - Export Data'!$Q$12:$Q$1715, Lists!$H$8))
... A35: 25 | B35: =IF(C35="", "", "CH3Br") | C35: =IFERROR(VLOOKUP(A35,'2 - Export Data'!$A$12:$H$1011,8, FALSE), "") | D35: =IF($B35="","",SUMIFS('2 - Export Data'!$M$12:$M$1715, '2 - Export Data'!$H$12:$H$1715,'3 - Export Summary'!$C35, '2 - Export Data'!$Q$12:$Q$1715, Lists!$H$3)) | E35: =IF($B35="","",SUMIFS('2 - Export Data'!$M$12:$M$1715, '2 - Export Data'!$H$12:$H$1715,'3 - Export Summary'!$C35, '2 - Export Data'!$Q$12:$Q$1715, Lists!$H$4)) | F35: =IF($B35="","",SUMIFS('2 - Export Data'!$M$12:$M$1715, '2 - Export Data'!$H$12:$H$1715,'3 - Export Summary'!$C35, '2 - Export Data'!$Q$12:$Q$1715, Lists!$H$5)) | G35: =IF($B35="","",SUMIFS('2 - Export Data'!$M$12:$M$1715, '2 - Export Data'!$H$12:$H$1715,'3 - Export Summary'!$C35, '2 - Export Data'!$Q$12:$Q$1715, Lists!$H$6)) | H35: =IF($B35="","",SUMIFS('2 - Export Data'!$M$12:$M$1715, '2 - Export Data'!$H$12:$H$1715,'3 - Export Summary'!$C35, '2 - Export Data'!$Q$12:$Q$1715, Lists!$H$7)) | I35: =IF($B35="","",SUMIFS('2 - Export Data'!$M$12:$M$1715, '2 - Export Data'!$H$12:$H$1715,'3 - Export Summary'!$C35, '2 - Export Data'!$Q$12:$Q$1715, Lists!$H$8))

Sheet Lists
K1: FOR REFERENCE ONLY
B2: Reporting Year | C2: Reporting Quarter | D2: Quarter Start Month | E2: Date Range | F2: Country List | G2: Port of Entry List | H2: MeBr Intended Uses_Exports | K2: Form Type | L2: Form Code
B3: 2020 | C3: 1 | D3: 1 | E3: =IF(OR(ISBLANK(ReportYr),ISBLANK(ReportQtr)),DATE(2020,1,1),DATE(ReportYr,VLOOKUP(ReportQtr,Lists!$C$3:$D$6,2,0),1)) -> 43831 | F3: Afghanistan | G3: Aberdeen, Washington - 3003 | H3: Transformation | K3: Class I Producer | L3: PROD1
B4: 2021 | C4: 2 | D4: 4 | E4: =IF(OR(ISBLANK(ReportYr),ISBLANK(ReportQtr)),DATE(2030,1,1),IF('1 - Report Identification'!C11=4,DATE('1 - Report Identification'!C10+1,1,1)-1,DATE('1 - Report Identification'!$C$10,VLOOKUP('1 - Report Identification'!$C$11,Lists!$C$3:$D$6,2,0)+3,1)-1)) -> 47484 | F4: Albania | G4: Addison Airport, Texas - 5584 | H4: Destruction | K4: MeBr Producer | L4: PROD3
B5: 2022 | C5: 3 | D5: 7 | F5: Algeria | G5: Aguadilla, Puerto Rico - 4901 | H5: Critical Use | K5: Class II Producer | L5: PROD2
B6: 2023 | C6: 4 | D6: 10 | F6: Andorra | G6: Air France (Mach Plus), Jamaica, New York - 4774 | H6: QPS | K6: Class I Importer | L6: IMPT1
B7: 2024 | F7: Angola | G7: Albany, New York - 1002 | H7: Emergency Use | K7: MeBr Importer | L7: IMPT3
B8: 2025 | F8: Antigua and Barbuda | G8: Albuquerque, New Mexico - 2407 | H8: Global Lab | K8: Class II Importer | L8: IMPT2
B9: 2026 | F9: Argentina | G9: Alcan, Alaska - 3104 | K9: Class I Exporter | L9: EXPT1
B10: 2027 | F10: Armenia | G10: Alexandria Bay, New York - 0708 | K10: MeBr Exporter | L10: EXPT3
B11: 2028 | F11: Australia | G11: Alexandria, Virginia - 5402 | K11: Class II Exporter | L11: EXPT2
B12: 2029 | F12: Austria | G12: Algonac, Michigan - 3814 | K12: Class I Lab Supplier | L12: LABS1
F13: Azerbaijan | G13: Allentown (Lehigh Valley Intl Airpt), Pennsylvania - 1119 | K13: Class I Destruction | L13: DEST1
F14: Bahamas | G14: Alliance Airport, Texas - 5583 | K14: MeBr Destruction | L14: DEST3
F15: Bahrain | G15: Alpena, Michigan - 3843 | K15: Class II Destruction | L15: DEST2
F16: Bangladesh | G16: Amarillo, Texas - 5502 | K16: Class I Transformation | L16: TRAN1
F17: Barbados | G17: Ambrose, North Dakota - 3410 | K17: MeBr Transformation | L17: TRAN3
F18: Belarus | G18: Anacortes - 3010 | K18: Class II Transformation | L18: TRAN2
F19: Belgium | G19: Anchorage, Alaska - 3126 | K19: MeBr Trades | L19: TRAD3
F20: Belize | G20: Andrade - Class A, California - 2502 | K20: Class II Trades | L20: TRAD2
F21: Benin | G21: Annapolis, Maryland - 1301 | K21: Class II RACA | L21: RACA2
F22: Bermuda | G22: Antler, North Dakota - 3413 | K22: MeBr Distributor of QPS | L22: MBQPS
F23: Bhutan | G23: Appleton International Airport, Wisconsin - 3781 | K23: MeBr Pre-2005 Stocks | L23: MB05S
F24: Bolivia | G24: Area Port of Jacksonville, Florida - 1803 | K24: MeBr Sales of CU | L24: MBCUE
F25: Bosnia and Herzegovina | G25: Area Port of Sweetgrass, Montana - 3310 | K25: Petitions | L25: PETIT
F26: Botswana | G26: Area Port of Tampa, Florida - 1801
F27: Brazil | G27: Ashland, Wisconsin - 3511
F28: British Virgin Islands | G28: Ashtabula/Conneaut, Ohio - 4122
F29: Brunei Darussalam | G29: Astoria, Oregon - 2901
F30: Bulgaria | G30: Atlanta, Georgia - 1704
F31: Burkina Faso | G31: Atlantic City Regional Airport, New Jersey - 1182
F32: Burundi | G32: Austin, Texas - 5506
F33: Cabo Verde | G33: Baltimore, Maryland - 1303
F34: Cambodia | G34: Bangor, Maine - 0102
F35: Cameroon | G35: Bar Harbor, Maine - 0112
F36: Canada | G36: Bath, Maine - 0111
F37: Central African Republic | G37: Baton Rouge, Louisiana - 2004
... F204: Zimbabwe | G204: Longview, Washington - 2905
G205: Lorain, Ohio - 4121
G206: Los Angeles International Airport-Cargo Operations, California - 2720
...
